BOTTLE,20230801CCHSIOCBG
EXPOCODE,SECT_ID,STNNBR,CASTNO,SAMPNO,BTLNBR,BTLNBR_FLAG_W,DATE,TIME,LATITUDE,LONGITUDE,DEPTH,CTDPRS,CTDTMP,CTDSAL,CTDSAL_FLAG_W,SALNTY,SALNTY_FLAG_W,CTDOXY,CTDOXY_FLAG_W,OXYGEN,OXYGEN_FLAG_W,SILCAT,SILCAT_FLAG_W,NITRAT,NITRAT_FLAG_W,NITRIT,NITRIT_FLAG_W,PHSPHT,PHSPHT_FLAG_W,CFC-11,CFC-11_FLAG_W,CFC-12,CFC-12_FLAG_W,SF6,SF6_FLAG_W,TCARBN,TCARBN_FLAG_W,ALKALI,ALKALI_FLAG_W,PH_SWS,PH_SWS_FLAG_W,PH_TMP,DELC13,DELC13_FLAG_W,DELC14,DELC14_FLAG_W,C14ERR,CCL4,CCL4_FLAG_W,DOC,DOC_FLAG_W,N2O,N2O_FLAG_W,CALCIUM,CALCIUM_FLAG_W,SAMPNO_U,DNSSAL,DNSSAL_FLAG_W,DNSSAL2,DNSSAL2_FLAG_W,SALNTY_DNSSAL,SALNTY_DNSSAL_FLAG_W,SALNTY_DNSSAL2,SALNTY_DNSSAL2_FLAG_W
,,,,,,,,,,,METERS,DBAR,ITS-90,PSS-78,,PSS-78,,UMOL/KG,,UMOL/KG,,UMOL/KG,,UMOL/KG,,UMOL/KG,,UMOL/KG,,PMOL/KG,,PMOL/KG,,FMOL/KG,,UMOL/KG,,UMOL/KG,,,,DEG C,/MILLE,,/MILLE,,/MILLE,PMOL/KG,,UMOL/KG,,NMOL/KG,,MMOL/KG,,,G/KG,,G/KG,,PSS-78,,PSS-78,
33RO20180423,        I7N,      27,          1,        101,      11010,2,20180504,       1511,   -19.9983,    54.4962,       4570,  4637.0,   1.0170,  34.7057,2,  34.7052,2,    178.2,2, 206.2980,2,    125.0,6,     32.8,6,     0.00,6,    2.240,6,   0.091,2,   0.047,2,        0,2,  2264.9,6,  2372.6,2,   7.5992,2,    25.00, -999.00,9, -999.00,9, -999.00,-999.000,1,  -999.0,9,     -999.0,1,    10.2785,2,          1,     -999.0,9,     -999.0,9,     -999.0,9,     -999.0,9
33RO20180423,        I7N,      27,          1,        102,      11101,2,20180504,       1511,   -19.9983,    54.4962,       4570,  4200.6,   1.2542,  34.7159,2,  34.7212,6,    166.8,2, 193.5120,2,    127.0,6,     33.3,6,     0.00,6,    2.290,6,   0.040,2,   0.020,2,        0,2,  2274.5,2,  2388.4,6,   7.5975,2,    25.00, -999.00,9, -999.00,9, -999.00,-999.000,1,  -999.0,9,     -999.0,1,    10.3267,2,          2,     -999.0,9,     -999.0,9,     -999.0,9,     -999.0,9
33RO20180423,        I7N,      27,          1,        103,      11102,2,20180504,       1511,   -19.9983,    54.4962,       4570,  3825.1,   1.4221,  34.7227,2,  34.7252,2,    157.9,2, 182.6990,2,    129.0,6,     33.9,6,     0.00,6,    2.336,6,   0.018,2,   0.009,2,        0,2,  2283.8,2,  2377.1,4,   7.5948,2,    25.00, -999.00,9, -999.00,9, -999.00,-999.000,1,  -999.0,9,     -999.0,1,    10.3472,2,          3,     -999.0,9,     -999.0,9,     -999.0,9,     -999.0,9
33RO20180423,        I7N,      27,          1,        104,      11103,2,20180504,       1511,   -19.9983,    54.4962,       4570,  3524.3,   1.5828,  34.7285,2,  34.7415,2,    150.5,2, 174.1750,2,    129.7,6,     34.3,6,     0.00,6,    2.364,6,   0.010,2,   0.005,2,        0,2,  2292.8,2,  2406.6,2,   7.5917,6,    25.00, -999.00,9, -999.00,9, -999.00,-999.000,1,    42.9,3,     -999.0,1,    10.3614,2,          4,     -999.0,9,     -999.0,9,     -999.0,9,     -999.0,9
33RO20180423,        I7N,      27,          1,        105,      11104,2,20180504,       1511,   -19.9983,    54.4962,       4570,  3225.7,   1.6799,  34.7317,2,  34.7348,2,    146.8,2, 169.4540,2,    129.5,2,     34.2,2,     0.00,2,    2.389,2,   0.004,2,   0.003,2,        0,2,  2295.1,2,  2399.1,2,   7.5884,2,    25.00, -999.00,9, -999.00,9, -999.00,-999.000,1,    42.0,3,     -999.0,1,    10.3727,2,          5,     -999.0,9,     -999.0,9,     -999.0,9,     -999.0,9
33RO20180423,        I7N,      27,          1,        106,      11105,2,20180504,       1511,   -19.9983,    54.4962,       4570,  2925.5,   1.7826,  34.7326,2,  34.7369,2,    145.3,2, 167.2320,2,    126.9,2,     34.3,2,     0.00,2,    2.389,2,   0.005,2,   0.004,2,        0,2,  2294.3,2,  2396.7,2,   7.5866,2,    25.00, -999.00,9, -999.00,9, -999.00,-999.000,1,  -999.0,9,     -999.0,1,    10.3848,2,          6,     -999.0,9,     -999.0,9,     -999.0,9,     -999.0,9
33RO20180423,        I7N,      27,          1,        107,      11106,2,20180504,       1511,   -19.9983,    54.4962,       4570,  2625.4,   1.8960,  34.7292,2,  34.7341,2,    146.3,2, 167.0860,2,    121.5,2,     34.2,2,     0.00,2,    2.370,2,   0.000,4,   0.000,4,        0,4,  2290.8,2,  2394.7,2,   7.5861,2,    25.00, -999.00,9, -999.00,9, -999.00,-999.000,1,    42.3,3,     -999.0,1,    10.3225,2,          7,     -999.0,9,     -999.0,9,     -999.0,9,     -999.0,9
33RO20180423,        I7N,      27,          1,        108,      11107,2,20180504,       1511,   -19.9983,    54.4962,       4570,  2326.1,   2.1583,  34.7254,2,  34.7351,2,    143.8,2, 163.4880,2,    114.6,2,     34.2,2,     0.00,2,    2.366,2,   0.010,2,   0.006,2,    0.006,2,  2285.8,2,  2386.2,2,   7.5822,2,    25.00, -999.00,9, -999.00,9, -999.00,-999.000,1,    45.3,3,     -999.0,1,    10.3224,2,          8,     -999.0,9,     -999.0,9,     -999.0,9,     -999.0,9
33RO20180423,        I7N,      27,          1,        109,      11108,2,20180504,       1511,   -19.9983,    54.4962,       4570,  2025.7,   2.4320,  34.7161,2,  34.7199,2,    142.6,2, 161.1370,2,    106.3,2,     34.0,2,     0.00,2,    2.371,2,   0.022,2,   0.010,2,   0.0138,2,  2280.1,2,  2377.1,6,   7.5786,2,    25.00, -999.00,9, -999.00,9, -999.00,-999.000,1,  -999.0,9,     -999.0,1,    10.3346,2,          9,     -999.0,9,     -999.0,9,     -999.0,9,     -999.0,9
33RO20180423,        I7N,      27,          1,        110,      11109,2,20180504,       1511,   -19.9983,    54.4962,       4570,  1738.7,   2.8111,  34.6866,2,  34.6893,2,    141.1,2, 158.4960,2,     95.2,2,     34.0,2,     0.00,2,    2.368,2,   0.040,2,   0.020,2,        0,2,  2271.5,2,  2364.6,2,   7.5796,2,    25.00, -999.00,9, -999.00,9, -999.00,-999.000,1,  -999.0,9,     -999.0,1,    10.3440,2,         10,     -999.0,9,     -999.0,9,     -999.0,9,     -999.0,9
33RO20180423,        I7N,      27,          1,        111,      11110,2,20180504,       1511,   -19.9983,    54.4962,       4570,  1489.2,   3.4831,  34.6582,2,  34.6609,2,    129.8,2, 145.2010,2,     87.5,2,     34.7,2,     0.00,2,    2.409,2,   0.076,6,   0.040,6,    0.002,6,  2269.2,2,  2356.9,2,   7.5564,6,    25.00, -999.00,9, -999.00,9, -999.00,-999.000,1,    44.3,3,     -999.0,1,    10.2910,2,         11,     -999.0,9,     -999.0,9,     -999.0,9,     -999.0,9
33RO20180423,        I7N,      27,          1,        112,      11111,2,20180504,       1511,   -19.9983,    54.4962,       4570,  1251.2,   4.2792,  34.6504,2,  34.6528,2,    117.4,2, 130.6440,2,     81.7,2,     35.0,2,     0.00,2,    2.440,2,   0.142,2,   0.074,2,   0.0128,2,  2267.9,2,  2350.6,2,   7.5474,2,    25.00, -999.00,9, -999.00,9, -999.00,-999.000,1,    46.6,3,     -999.0,1,    10.3063,2,         12,     -999.0,9,     -999.0,9,     -999.0,9,     -999.0,9
33RO20180423,        I7N,      27,          1,        113,      11112,2,20180504,       1511,   -19.9983,    54.4962,       4570,  1050.9,   5.0951,  34.6346,2,  34.6394,2,    114.0,2, 125.9150,2,     71.1,2,     34.5,2,     0.00,2,    2.436,2,   0.316,2,   0.163,2,   0.0194,2,  2256.6,6,  2343.1,2,   7.5462,2,    25.00, -999.00,9, -999.00,9, -999.00,-999.000,1,    53.9,3,     -999.0,1,    10.2965,2,         13,     -999.0,9,     -999.0,9,     -999.0,9,     -999.0,9
33RO20180423,        I7N,      27,          1,        114,      11113,2,20180504,       1511,   -19.9983,    54.4962,       4570,   864.1,   6.1745,  34.5686,2,  34.5722,2,    138.0,2, 151.3190,2,     46.1,2,     31.1,2,     0.00,2,    2.158,2,   1.099,2,   0.560,2,   0.2674,2,  2218.6,2,  2315.5,2,   7.5951,2,    25.00, -999.00,9, -999.00,9, -999.00,-999.000,1,    49.0,3,     -999.0,1,    10.2597,2,         14,     -999.0,9,     -999.0,9,     -999.0,9,     -999.0,9
33RO20180423,        I7N,      27,          1,        115,      11114,2,20180504,       1511,   -19.9983,    54.4962,       4570,   714.5,   8.3579,  34.6515,2,  34.6547,2,    171.4,2, 186.3490,2,     20.3,2,     23.6,2,     0.00,2,    1.639,2,   2.474,2,   1.312,2,   0.7439,2,  2169.8,2,  2302.5,2,   7.6782,2,    25.00, -999.00,9, -999.00,9, -999.00,-999.000,1,    53.3,3,     -999.0,1,    10.2718,2,         15,     -999.0,9,     -999.0,9,     -999.0,9,     -999.0,9
33RO20180423,        I7N,      27,          1,        116,      11115,2,20180504,       1511,   -19.9983,    54.4962,       4570,   563.5,  10.3972,  34.8434,2,  34.8458,6,    203.2,2, 220.0050,2,      6.5,2,     15.4,2,     0.00,2,    1.128,2,   3.220,2,   1.813,2,   1.4498,2,  2136.0,2,  2298.4,2,   7.7657,2,    25.00, -999.00,9, -999.00,9, -999.00,-999.000,1,    53.8,3,     -999.0,1,    10.3323,2,         16,     -999.0,9,     -999.0,9,     -999.0,9,     -999.0,9
33RO20180423,        I7N,      27,          1,        117,      11116,2,20180504,       1511,   -19.9983,    54.4962,       4570,   425.7,  13.1768,  35.2114,2,  35.2146,2,    195.7,2, 210.7120,2,      4.5,2,      9.7,2,     0.00,2,    0.791,2,   2.848,2,   1.669,2,   1.5405,2,  2126.4,2,  2317.3,2,   7.8227,2,    25.00, -999.00,9, -999.00,9, -999.00,-999.000,1,    52.3,3,     -999.0,1,    10.4550,2,         17,     -999.0,9,     -999.0,9,     -999.0,9,     -999.0,9
33RO20180423,        I7N,      27,          1,        118,      11117,2,20180504,       1511,   -19.9983,    54.4962,       4570,   330.8,  15.3827,  35.2643,2,  35.2672,2,    135.4,2, 146.1795,2,     13.3,2,     13.6,2,     0.00,2,    1.026,2,   2.095,2,   1.251,2,   1.1811,2,  2145.1,2,  2322.6,2,   7.7854,2,    25.00, -999.00,9, -999.00,9, -999.00,-999.000,1,    57.2,3,     -999.0,1,    10.4395,2,         18,     -999.0,9,     -999.0,9,     -999.0,9,     -999.0,9
33RO20180423,        I7N,      27,          1,        119,      11083,2,20180504,       1511,   -19.9983,    54.4962,       4570,   256.7,  18.7084,  35.4356,2,  35.4365,2,    148.1,2, 158.3370,2,      7.6,2,      8.1,2,     0.01,2,    0.668,2,   2.013,2,   1.229,2,   1.3292,2,  2106.4,2,  2324.8,6,   7.8750,2,    25.00, -999.00,9, -999.00,9, -999.00,-999.000,1,    62.6,3,     -999.0,1,    10.4850,2,         19,     -999.0,9,     -999.0,9,     -999.0,9,     -999.0,9
33RO20180423,        I7N,      27,          1,        120,      11118,2,20180504,       1511,   -19.9983,    54.4962,       4570,   188.5,  21.2417,  35.2643,2,  35.2687,2,    142.8,2, 152.7220,2,      6.6,2,      7.2,2,     0.02,2,    0.613,2,   1.812,2,   1.133,2,   1.4009,2,  2074.0,2,  2311.0,2,   7.9088,6,    25.00, -999.00,9, -999.00,9, -999.00,-999.000,1,    61.6,3,     -999.0,1,    10.4370,2,         20,     -999.0,9,     -999.0,9,     -999.0,9,     -999.0,9
33RO20180423,        I7N,      27,          1,        121,      11119,2,20180504,       1511,   -19.9983,    54.4962,       4570,   138.4,  23.7765,  35.0976,2,  35.1013,2,    184.8,2, 196.9580,2,      2.1,2,      0.3,2,     0.41,2,    0.216,2,   1.750,6,   1.094,6,   1.4954,6,  2009.6,2,  2301.2,2,   8.0175,2,    25.00, -999.00,9, -999.00,9, -999.00,-999.000,1,    71.1,3,     -999.0,1,    10.3785,2,         21,     -999.0,9,     -999.0,9,     -999.0,9,     -999.0,9
33RO20180423,        I7N,      27,          1,        122,      11120,2,20180504,       1511,   -19.9983,    54.4962,       4570,    88.3,  26.7740,  35.0603,2,  35.0662,2,    195.7,2, 207.0520,2,      1.6,2,      0.0,2,     0.00,2,    0.127,2,   1.584,2,   1.006,2,   1.4258,2,  1981.1,2,  2295.3,2,   8.0597,2,    25.00, -999.00,9, -999.00,9, -999.00,-999.000,1,    76.0,3,     -999.0,1,    10.3644,2,         22,     -999.0,9,     -999.0,9,     -999.0,9,     -999.0,9
33RO20180423,        I7N,      27,          1,        123,      11121,2,20180504,       1511,   -19.9983,    54.4962,       4570,    39.6,  27.3063,  34.8248,2,  34.8270,2,    190.8,2, 201.3300,2,      1.4,2,      0.0,2,     0.00,2,    0.104,2,   1.496,2,   0.948,2,    1.389,2,  1958.8,2,  2275.3,2,   8.0771,2,    25.00, -999.00,9, -999.00,9, -999.00,-999.000,1,    79.6,3,     -999.0,1,    10.3293,2,         23,     -999.0,9,     -999.0,9,     -999.0,9,     -999.0,9
33RO20180423,        I7N,      27,          1,        124,      11122,2,20180504,       1511,   -19.9983,    54.4962,       4570,     4.0,  27.3017,  34.8236,2,  34.8256,2,    191.0,2, 201.4080,2,      1.4,2,      0.0,2,     0.00,2,    0.093,2,   1.489,2,   0.947,2,   1.3503,2,  1959.8,6,  2269.1,2,   8.0778,2,    25.00, -999.00,9, -999.00,9, -999.00,-999.000,1,    80.5,3,     -999.0,1,    10.3332,2,         24,     -999.0,9,     -999.0,9,     -999.0,9,     -999.0,9