BOTTLE,20230801CCHSIOCBG
EXPOCODE,SECT_ID,STNNBR,CASTNO,SAMPNO,BTLNBR,BTLNBR_FLAG_W,DATE,TIME,LATITUDE,LONGITUDE,DEPTH,CTDPRS,CTDTMP,CTDSAL,CTDSAL_FLAG_W,SALNTY,SALNTY_FLAG_W,CTDOXY,CTDOXY_FLAG_W,OXYGEN,OXYGEN_FLAG_W,SILCAT,SILCAT_FLAG_W,NITRAT,NITRAT_FLAG_W,NITRIT,NITRIT_FLAG_W,PHSPHT,PHSPHT_FLAG_W,CFC-11,CFC-11_FLAG_W,CFC-12,CFC-12_FLAG_W,SF6,SF6_FLAG_W,TCARBN,TCARBN_FLAG_W,ALKALI,ALKALI_FLAG_W,PH_SWS,PH_SWS_FLAG_W,PH_TMP,DELC13,DELC13_FLAG_W,DELC14,DELC14_FLAG_W,C14ERR,CCL4,CCL4_FLAG_W,DOC,DOC_FLAG_W,N2O,N2O_FLAG_W,CALCIUM,CALCIUM_FLAG_W,SAMPNO_U,DNSSAL,DNSSAL_FLAG_W,DNSSAL2,DNSSAL2_FLAG_W,SALNTY_DNSSAL,SALNTY_DNSSAL_FLAG_W,SALNTY_DNSSAL2,SALNTY_DNSSAL2_FLAG_W
,,,,,,,,,,,METERS,DBAR,ITS-90,PSS-78,,PSS-78,,UMOL/KG,,UMOL/KG,,UMOL/KG,,UMOL/KG,,UMOL/KG,,UMOL/KG,,PMOL/KG,,PMOL/KG,,FMOL/KG,,UMOL/KG,,UMOL/KG,,,,DEG C,/MILLE,,/MILLE,,/MILLE,PMOL/KG,,UMOL/KG,,NMOL/KG,,MMOL/KG,,,G/KG,,G/KG,,PSS-78,,PSS-78,
33RO20180423,        I7N,      51,          1,        101,      11010,2,20180512,       0308,    -8.9135,    51.8978,       3603,  3602.8,   1.3668,  34.7216,2,  34.7246,2,    161.1,2, 182.4050,2,    127.4,6,     33.4,6,     0.00,6,    2.317,6,   0.026,2,   0.014,2,   0.0099,2,  2285.9,6,  2393.5,2,   7.5947,6,    25.00, -999.00,9, -999.00,9, -999.00,-999.000,1,  -999.0,9,     -999.0,1,     -999.0,9,          1,     -999.0,9,     -999.0,9,     -999.0,9,     -999.0,9
33RO20180423,        I7N,      51,          1,        102,      11101,2,20180512,       0308,    -8.9135,    51.8978,       3603,  3368.6,   1.6586,  34.7320,2,  34.7421,2,    148.5,2, 167.5000,2,    128.5,6,     34.1,6,     0.00,6,    2.369,6,   0.009,2,   0.005,2,        0,2,  2298.8,2,  2402.0,6,   7.5875,2,    25.00, -999.00,9, -999.00,9, -999.00,-999.000,1,  -999.0,9,     -999.0,1,     -999.0,9,          2,     -999.0,9,     -999.0,9,     -999.0,9,     -999.0,9
33RO20180423,        I7N,      51,          1,        103,      11102,2,20180512,       0308,    -8.9135,    51.8978,       3603,  3201.1,   1.7766,  34.7361,2,  34.7362,2,    144.1,2, 162.9410,2,    128.4,6,     34.4,6,     0.00,6,    2.380,6,   0.005,2,   0.003,2,   0.0161,2,  2301.9,2,  2403.0,2,   7.5835,2,    25.00, -999.00,9, -999.00,9, -999.00,-999.000,1,  -999.0,9,     -999.0,1,     -999.0,9,          3,     -999.0,9,     -999.0,9,     -999.0,9,     -999.0,9
33RO20180423,        I7N,      51,          1,        104,      11103,2,20180512,       0308,    -8.9135,    51.8978,       3603,  2900.9,   1.9000,  34.7404,2,  34.7405,2,    140.2,2, 158.2750,2,    126.8,6,     34.6,6,     0.00,6,    2.402,6,   0.004,6,   0.003,6,        0,6,  2303.6,2,  2403.8,2,   7.5808,2,    25.00, -999.00,9, -999.00,9, -999.00,-999.000,1,  -999.0,9,     -999.0,1,     -999.0,9,          4,     -999.0,9,     -999.0,9,     -999.0,9,     -999.0,9
33RO20180423,        I7N,      51,          1,        105,      11104,2,20180512,       0308,    -8.9135,    51.8978,       3603,  2600.6,   2.0301,  34.7433,2,  34.7448,2,    137.4,2, 154.7070,2,    124.4,6,     34.9,6,     0.00,6,    2.414,6,   0.002,2,   0.002,2,   0.0168,2,  2302.7,2,  2402.1,2,   7.5766,2,    25.00, -999.00,9, -999.00,9, -999.00,-999.000,1,  -999.0,9,     -999.0,1,     -999.0,9,          5,     -999.0,9,     -999.0,9,     -999.0,9,     -999.0,9
33RO20180423,        I7N,      51,          1,        106,      11105,2,20180512,       0308,    -8.9135,    51.8978,       3603,  2300.6,   2.2591,  34.7449,2,  34.7546,2,    134.0,2, 147.3530,4,    120.1,2,     34.7,2,     0.00,2,    2.425,2,   0.004,2,   0.002,2,        0,2,  2300.7,2,  2396.4,2,   7.5707,2,    25.00, -999.00,9, -999.00,9, -999.00,-999.000,1,  -999.0,9,     -999.0,1,     -999.0,9,          6,     -999.0,9,     -999.0,9,     -999.0,9,     -999.0,9
33RO20180423,        I7N,      51,          1,        107,      11106,2,20180512,       0308,    -8.9135,    51.8978,       3603,  2000.7,   2.6158,  34.7413,2,  34.7514,2,    130.5,2, 145.4220,2,    112.3,2,     34.7,2,     0.00,2,    2.424,2,   0.026,4,   0.032,4,   0.4217,4,  2293.1,2,  2389.8,2,   7.5664,2,    25.00, -999.00,9, -999.00,9, -999.00,-999.000,1,  -999.0,9,     -999.0,1,     -999.0,9,          7,     -999.0,9,     -999.0,9,     -999.0,9,     -999.0,9
33RO20180423,        I7N,      51,          1,        108,      11107,2,20180512,       0308,    -8.9135,    51.8978,       3603,  1717.1,   3.1293,  34.7409,2,  34.7485,2,    122.9,2, 136.4390,2,    104.7,2,     34.9,2,     0.00,2,    2.460,2,   0.026,2,   0.015,2,        0,2,  2290.3,2,  2382.0,2,   7.5545,2,    25.00, -999.00,9, -999.00,9, -999.00,-999.000,1,  -999.0,9,     -999.0,1,     -999.0,9,          8,     -999.0,9,     -999.0,9,     -999.0,9,     -999.0,9
33RO20180423,        I7N,      51,          1,        109,      11108,2,20180512,       0308,    -8.9135,    51.8978,       3603,  1466.2,   4.0345,  34.7543,2,  34.7555,2,    106.7,2, 118.5860,2,     95.9,2,     35.5,2,     0.00,2,    2.509,2,   0.054,2,   0.029,2,        0,2,  2288.6,2,  2373.7,2,   7.5360,2,    25.00, -999.00,9, -999.00,9, -999.00,-999.000,1,  -999.0,9,     -999.0,1,     -999.0,9,          9,     -999.0,9,     -999.0,9,     -999.0,9,     -999.0,9
33RO20180423,        I7N,      51,          1,        110,      11109,2,20180512,       0308,    -8.9135,    51.8978,       3603,  1233.1,   5.0635,  34.7682,2,  34.7774,2,     94.4,2, 103.1310,2,     85.1,2,     35.4,2,     0.00,2,    2.528,2,   0.140,2,   0.075,2,   0.0265,2,  2282.5,2,  2363.0,6,   7.5262,2,    25.00, -999.00,9, -999.00,9, -999.00,-999.000,1,  -999.0,9,     -999.0,1,     -999.0,9,         10,     -999.0,9,     -999.0,9,     -999.0,9,     -999.0,9
33RO20180423,        I7N,      51,          1,        111,      11110,2,20180512,       0308,    -8.9135,    51.8978,       3603,  1032.9,   5.7928,  34.7741,2,  34.7803,2,     90.3,2,  99.4160,2,     76.6,2,     34.9,2,     0.00,2,    2.491,2,   0.258,2,   0.137,2,   0.0121,2,  2272.6,2,  2353.8,2,   7.5249,6,    25.00, -999.00,9, -999.00,9, -999.00,-999.000,1,  -999.0,9,     -999.0,1,     -999.0,9,         11,     -999.0,9,     -999.0,9,     -999.0,9,     -999.0,9
33RO20180423,        I7N,      51,          1,        112,      11111,2,20180512,       0308,    -8.9135,    51.8978,       3603,   888.2,   6.5452,  34.8029,2,  34.8064,2,     78.6,2,  85.6920,2,     71.1,2,     35.0,2,     0.00,2,    2.508,2,   0.298,2,   0.158,2,   0.0574,2,  2271.7,2,  2349.6,2,   7.5163,2,    25.00, -999.00,9, -999.00,9, -999.00,-999.000,1,  -999.0,9,     -999.0,1,     -999.0,9,         12,     -999.0,9,     -999.0,9,     -999.0,9,     -999.0,9
33RO20180423,        I7N,      51,          1,        113,      11112,2,20180512,       0308,    -8.9135,    51.8978,       3603,   699.1,   7.3867,  34.7846,2,  34.7846,2,     93.7,2, 102.1100,2,     54.5,2,     32.4,2,     0.00,2,    2.302,2,   0.735,2,   0.386,2,   0.1938,2,  2245.6,2,  2332.7,2,   7.5510,2,    25.00, -999.00,9, -999.00,9, -999.00,-999.000,1,  -999.0,9,     -999.0,1,     -999.0,9,         13,     -999.0,9,     -999.0,9,     -999.0,9,     -999.0,9
33RO20180423,        I7N,      51,          1,        114,      11113,2,20180512,       0308,    -8.9135,    51.8978,       3603,   550.3,   8.4836,  34.7877,2,  34.7889,2,    110.9,2, 119.4920,2,     38.2,2,     29.0,2,     0.00,2,    2.039,2,   1.351,2,   0.712,2,   0.3549,2,  2216.1,2,  2319.3,2,   7.5878,2,    25.00, -999.00,9, -999.00,9, -999.00,-999.000,1,  -999.0,9,     -999.0,1,     -999.0,9,         14,     -999.0,9,     -999.0,9,     -999.0,9,     -999.0,9
33RO20180423,        I7N,      51,          1,        115,      11114,2,20180512,       0308,    -8.9135,    51.8978,       3603,   414.2,   9.6635,  34.8234,2,  34.8285,2,    115.1,2, 123.5080,2,     27.2,2,     26.5,2,     0.00,2,    1.822,2,   1.796,2,   0.961,2,   0.4903,2,  2199.8,2,  2309.4,2,   7.6145,2,    25.00, -999.00,9, -999.00,9, -999.00,-999.000,1,  -999.0,9,     -999.0,1,     -999.0,9,         15,     -999.0,9,     -999.0,9,     -999.0,9,     -999.0,9
33RO20180423,        I7N,      51,          1,        116,      11115,2,20180512,       0308,    -8.9135,    51.8978,       3603,   354.4,  10.2465,  34.8669,2,  34.8682,2,    124.5,2, 133.7490,2,     22.5,2,     24.3,2,     0.00,2,    1.690,2,   2.087,2,   1.131,2,   0.6645,2,  2189.4,2,  2309.3,2,   7.6421,2,    25.00, -999.00,9, -999.00,9, -999.00,-999.000,1,  -999.0,9,     -999.0,1,     -999.0,9,         16,     -999.0,9,     -999.0,9,     -999.0,9,     -999.0,9
33RO20180423,        I7N,      51,          1,        117,      11116,2,20180512,       0308,    -8.9135,    51.8978,       3603,   282.4,  11.6566,  34.9749,2,  34.9789,2,    110.5,2, 118.3540,2,     20.4,2,     23.1,2,     0.00,2,    1.598,2,   2.094,2,   1.156,2,    0.753,2,  2187.4,2,  2310.9,2,   7.6473,2,    25.00, -999.00,9, -999.00,9, -999.00,-999.000,1,  -999.0,9,     -999.0,1,     -999.0,9,         17,     -999.0,9,     -999.0,9,     -999.0,9,     -999.0,9
33RO20180423,        I7N,      51,          1,        118,      11117,2,20180512,       0308,    -8.9135,    51.8978,       3603,   233.1,  12.3015,  35.0103,2,  35.0127,2,    101.5,2, 108.6530,2,     20.5,2,     23.0,2,     0.00,2,    1.597,2,   2.012,2,   1.123,2,   0.7196,2,  2189.2,2,  2311.1,2,   7.6468,2,    25.00, -999.00,9, -999.00,9, -999.00,-999.000,1,  -999.0,9,     -999.0,1,     -999.0,9,         18,     -999.0,9,     -999.0,9,     -999.0,9,     -999.0,9
33RO20180423,        I7N,      51,          1,        119,      11083,2,20180512,       0308,    -8.9135,    51.8978,       3603,   187.4,  12.9547,  35.0449,2,  35.0457,6,     95.5,2, 102.6110,2,     20.1,2,     22.7,2,     0.00,2,    1.584,2,   1.998,2,   1.121,2,   0.7557,2,  2187.5,2,  2311.1,2,   7.6514,2,    25.00, -999.00,9, -999.00,9, -999.00,-999.000,1,  -999.0,9,     -999.0,1,     -999.0,9,         19,     -999.0,9,     -999.0,9,     -999.0,9,     -999.0,9
33RO20180423,        I7N,      51,          1,        120,      11118,2,20180512,       0308,    -8.9135,    51.8978,       3603,   147.2,  13.5114,  35.0448,2,  35.0574,2,     84.4,2,  91.0590,2,     21.0,2,     23.1,2,     0.01,2,    1.621,2,   1.906,2,   1.073,2,   0.7603,2,  2188.6,2,  2311.8,2,   7.6423,2,    25.00, -999.00,9, -999.00,9, -999.00,-999.000,1,  -999.0,9,     -999.0,1,     -999.0,9,         20,     -999.0,9,     -999.0,9,     -999.0,9,     -999.0,9
33RO20180423,        I7N,      51,          1,        121,      11119,2,20180512,       0308,    -8.9135,    51.8978,       3603,    95.3,  15.5340,  35.0836,2,  35.0874,2,     79.1,2,  85.1010,2,     19.0,2,     21.6,2,     0.02,2,    1.517,2,   1.849,6,   1.076,6,   0.8302,6,  2176.7,2,  2308.9,2,   7.6728,2,    25.00, -999.00,9, -999.00,9, -999.00,-999.000,1,  -999.0,9,     -999.0,1,     -999.0,9,         21,     -999.0,9,     -999.0,9,     -999.0,9,     -999.0,9
33RO20180423,        I7N,      51,          1,        122,      11120,2,20180512,       0308,    -8.9135,    51.8978,       3603,    39.9,  22.0297,  35.2373,2,  35.2403,2,    162.2,2, 168.9130,2,      5.2,2,      4.2,2,     0.26,2,    0.447,2,   1.798,2,   1.116,2,   1.3113,2,  2056.7,2,  2312.9,2,   7.9440,2,    25.00, -999.00,9, -999.00,9, -999.00,-999.000,1,  -999.0,9,     -999.0,1,     -999.0,9,         22,     -999.0,9,     -999.0,9,     -999.0,9,     -999.0,9
33RO20180423,        I7N,      51,          1,        123,      11121,2,20180512,       0308,    -8.9135,    51.8978,       3603,    27.8,  25.7897,  35.0318,2,  35.0459,2,    182.8,2, 191.0250,2,      3.7,2,      1.0,2,     0.06,2,    0.253,2,   1.630,2,   1.021,2,   1.3944,2,  2008.5,2,  2299.3,6,   8.0164,2,    25.00, -999.00,9, -999.00,9, -999.00,-999.000,1,  -999.0,9,     -999.0,1,     -999.0,9,         23,     -999.0,9,     -999.0,9,     -999.0,9,     -999.0,9
33RO20180423,        I7N,      51,          1,        124,      11122,2,20180512,       0308,    -8.9135,    51.8978,       3603,     2.8,  27.9013,  34.9137,2,  34.9174,2,    186.4,2, 195.7870,2,      2.8,2,      0.2,2,     0.02,2,    0.165,2,   1.462,2,   0.928,2,   1.3504,2,  1971.4,6,  2288.8,2,   8.0624,6,    25.00, -999.00,9, -999.00,9, -999.00,-999.000,1,  -999.0,9,     -999.0,1,     -999.0,9,         24,     -999.0,9,     -999.0,9,     -999.0,9,     -999.0,9