BOTTLE,20230801CCHSIOCBG
EXPOCODE,SECT_ID,STNNBR,CASTNO,SAMPNO,BTLNBR,BTLNBR_FLAG_W,DATE,TIME,LATITUDE,LONGITUDE,DEPTH,CTDPRS,CTDTMP,CTDSAL,CTDSAL_FLAG_W,SALNTY,SALNTY_FLAG_W,CTDOXY,CTDOXY_FLAG_W,OXYGEN,OXYGEN_FLAG_W,SILCAT,SILCAT_FLAG_W,NITRAT,NITRAT_FLAG_W,NITRIT,NITRIT_FLAG_W,PHSPHT,PHSPHT_FLAG_W,CFC-11,CFC-11_FLAG_W,CFC-12,CFC-12_FLAG_W,SF6,SF6_FLAG_W,TCARBN,TCARBN_FLAG_W,ALKALI,ALKALI_FLAG_W,PH_SWS,PH_SWS_FLAG_W,PH_TMP,DELC13,DELC13_FLAG_W,DELC14,DELC14_FLAG_W,C14ERR,CCL4,CCL4_FLAG_W,DOC,DOC_FLAG_W,N2O,N2O_FLAG_W,CALCIUM,CALCIUM_FLAG_W,SAMPNO_U,DNSSAL,DNSSAL_FLAG_W,DNSSAL2,DNSSAL2_FLAG_W,SALNTY_DNSSAL,SALNTY_DNSSAL_FLAG_W,SALNTY_DNSSAL2,SALNTY_DNSSAL2_FLAG_W
,,,,,,,,,,,METERS,DBAR,ITS-90,PSS-78,,PSS-78,,UMOL/KG,,UMOL/KG,,UMOL/KG,,UMOL/KG,,UMOL/KG,,UMOL/KG,,PMOL/KG,,PMOL/KG,,FMOL/KG,,UMOL/KG,,UMOL/KG,,,,DEG C,/MILLE,,/MILLE,,/MILLE,PMOL/KG,,UMOL/KG,,NMOL/KG,,MMOL/KG,,,G/KG,,G/KG,,PSS-78,,PSS-78,
33RO20180423,        I7N,     116,          1,        101,      11010,2,20180602,       0318,    16.2358,    67.0402,       3740,  3796.6,   1.7215,  34.7355,2,  34.7380,2,    120.5,2, 137.5360,2,    145.0,6,     36.3,6,     0.01,6,    2.553,6,   0.010,2,   0.007,2,   0.0196,2,  2352.3,6,  2456.2,2,   7.5846,6,    25.00, -999.00,9, -999.00,9, -999.00,-999.000,1,  -999.0,9,     -999.0,1,     -999.0,9,          1,     -999.0,9,     -999.0,9,     -999.0,9,     -999.0,9
33RO20180423,        I7N,     116,          1,        102,      11101,2,20180602,       0318,    16.2358,    67.0402,       3740,  3580.7,   1.7228,  34.7369,2,  34.7378,6,    120.6,2, 137.4010,2,    144.6,6,     36.3,6,     0.00,6,    2.549,6,   0.009,2,   0.009,2,   0.0179,2,  2350.1,2,  2449.8,6,   7.5781,2,    25.00, -999.00,9, -999.00,9, -999.00,-999.000,1,  -999.0,9,     -999.0,1,     -999.0,9,          2,     -999.0,9,     -999.0,9,     -999.0,9,     -999.0,9
33RO20180423,        I7N,     116,          1,        103,      11102,2,20180602,       0318,    16.2358,    67.0402,       3740,  3401.1,   1.7393,  34.7388,2,  34.7406,2,    118.8,2, 135.2680,2,    144.9,6,     36.3,6,     0.00,6,    2.568,6,   0.006,2,   0.009,2,   0.0068,2,  2349.2,2,  2446.4,2,   7.5702,2,    25.00, -999.00,9, -999.00,9, -999.00,-999.000,1,  -999.0,9,     -999.0,1,     -999.0,9,          3,     -999.0,9,     -999.0,9,     -999.0,9,     -999.0,9
33RO20180423,        I7N,     116,          1,        104,      11103,2,20180602,       0318,    16.2358,    67.0402,       3740,  3100.0,   1.7709,  34.7421,2,  34.7437,2,    116.3,2, 132.0800,2,    145.2,6,     36.3,6,     0.00,6,    2.587,6,   0.005,2,   0.007,2,        0,2,  -999.0,9,  2445.6,2,   7.5633,2,    25.00, -999.00,9, -999.00,9, -999.00,-999.000,1,  -999.0,9,     -999.0,1,     -999.0,9,          4,     -999.0,9,     -999.0,9,     -999.0,9,     -999.0,9
33RO20180423,        I7N,     116,          1,        105,      11104,2,20180602,       0318,    16.2358,    67.0402,       3740,  2800.5,   1.8640,  34.7488,2,  34.7505,2,    113.7,2, 128.8940,2,    144.4,2,     36.4,2,     0.01,2,    2.594,2,   0.003,2,   0.006,2,   0.0109,2,  2348.8,2,  2439.0,2,   7.5552,2,    25.00, -999.00,9, -999.00,9, -999.00,-999.000,1,  -999.0,9,     -999.0,1,     -999.0,9,          5,     -999.0,9,     -999.0,9,     -999.0,9,     -999.0,9
33RO20180423,        I7N,     116,          1,        106,      11105,2,20180602,       0318,    16.2358,    67.0402,       3740,  2498.9,   2.1383,  34.7674,2,  34.7896,2,    104.1,2, 117.5930,2,    142.6,2,     36.8,2,     0.00,2,    2.669,2,   0.002,2,   0.003,2,   0.0011,2,  -999.0,9,  2435.5,2,   7.5368,2,    25.00, -999.00,9, -999.00,9, -999.00,-999.000,1,  -999.0,9,     -999.0,1,     -999.0,9,          6,     -999.0,9,     -999.0,9,     -999.0,9,     -999.0,9
33RO20180423,        I7N,     116,          1,        107,      11106,2,20180602,       0318,    16.2358,    67.0402,       3740,  2200.3,   2.6000,  34.7980,2,  34.8044,2,     93.3,2, 105.2130,2,    137.2,2,     37.2,2,     0.00,2,    2.713,2,   0.002,2,   0.003,2,        0,2,  2348.2,2,  2425.3,2,   7.5183,2,    25.00, -999.00,9, -999.00,9, -999.00,-999.000,1,  -999.0,9,     -999.0,1,     -999.0,9,          7,     -999.0,9,     -999.0,9,     -999.0,9,     -999.0,9
33RO20180423,        I7N,     116,          1,        108,      11107,2,20180602,       0318,    16.2358,    67.0402,       3740,  1883.2,   3.2899,  34.8434,2,  34.8454,2,     80.4,2,  89.9020,2,    128.1,2,     37.7,2,     0.00,2,    2.789,2,   0.002,2,   0.004,2,   0.0048,2,  2344.2,2,  2414.1,2,   7.4988,2,    25.00, -999.00,9, -999.00,9, -999.00,-999.000,1,  -999.0,9,     -999.0,1,     -999.0,9,          8,     -999.0,9,     -999.0,9,     -999.0,9,     -999.0,9
33RO20180423,        I7N,     116,          1,        109,      11108,2,20180602,       0318,    16.2358,    67.0402,       3740,  1662.2,   4.2422,  34.9294,2,  34.9445,2,     56.0,2,  62.8500,2,    119.7,2,     38.5,2,     0.01,2,    2.916,2,   0.003,2,   0.004,2,        0,2,  -999.0,9,  2408.2,2,   7.4652,2,    25.00, -999.00,9, -999.00,9, -999.00,-999.000,1,  -999.0,9,     -999.0,1,     -999.0,9,          9,     -999.0,9,     -999.0,9,     -999.0,9,     -999.0,9
33RO20180423,        I7N,     116,          1,        110,      11109,2,20180602,       0318,    16.2358,    67.0402,       3740,  1367.3,   6.0999,  35.0963,2,  35.1090,2,     26.5,2,  30.3710,2,     99.6,2,     38.9,2,     0.01,2,    2.995,2,   0.010,2,   0.008,2,   0.0064,2,  2339.5,2,  2389.8,2,   7.4343,2,    25.00, -999.00,9, -999.00,9, -999.00,-999.000,1,  -999.0,9,     -999.0,1,     -999.0,9,         10,     -999.0,9,     -999.0,9,     -999.0,9,     -999.0,9
33RO20180423,        I7N,     116,          1,        111,      11110,2,20180602,       0318,    16.2358,    67.0402,       3740,  1168.4,   7.7605,  35.2616,2,  35.2828,2,      9.4,2,  11.4880,2,     83.3,2,     37.9,2,     0.01,2,    2.975,2,   0.034,2,   0.022,2,   0.0049,2,  2327.8,2,  2376.9,6,   7.4291,2,    25.00, -999.00,9, -999.00,9, -999.00,-999.000,1,  -999.0,9,     -999.0,1,     -999.0,9,         11,     -999.0,9,     -999.0,9,     -999.0,9,     -999.0,9
33RO20180423,        I7N,     116,          1,        112,      11111,2,20180602,       0318,    16.2358,    67.0402,       3740,   950.8,   9.4474,  35.4289,2,  35.4554,2,      1.7,2,   3.1630,2,     68.3,2,     35.7,2,     0.00,2,    2.889,2,   0.080,2,   0.052,2,   0.0043,2,  2311.8,2,  2365.9,2,   7.4436,6,    25.00, -999.00,9, -999.00,9, -999.00,-999.000,1,  -999.0,9,     -999.0,1,     -999.0,9,         12,     -999.0,9,     -999.0,9,     -999.0,9,     -999.0,9
33RO20180423,        I7N,     116,          1,        113,      11112,2,20180602,       0318,    16.2358,    67.0402,       3740,   801.2,  10.7286,  35.5484,2,  35.5544,2,      0.2,2,   1.4160,2,     56.5,2,     32.7,2,     0.00,2,    2.777,2,   0.148,2,   0.099,2,   0.0547,2,  2298.7,2,  2357.7,2,   7.4584,2,    25.00, -999.00,9, -999.00,9, -999.00,-999.000,1,  -999.0,9,     -999.0,1,     -999.0,9,         13,     -999.0,9,     -999.0,9,     -999.0,9,     -999.0,9
33RO20180423,        I7N,     116,          1,        114,      11113,2,20180602,       0318,    16.2358,    67.0402,       3740,   600.6,  12.1672,  35.6302,2,  35.6359,2,      0.4,2,   1.9760,2,     41.5,2,     29.2,2,     0.01,2,    2.627,2,   0.384,6,   0.263,6,   0.1376,6,  2283.9,2,  2347.8,2,   7.4691,2,    25.00, -999.00,9, -999.00,9, -999.00,-999.000,1,  -999.0,9,     -999.0,1,     -999.0,9,         14,     -999.0,9,     -999.0,9,     -999.0,9,     -999.0,9
33RO20180423,        I7N,     116,          1,        115,      11114,2,20180602,       0318,    16.2358,    67.0402,       3740,   483.4,  12.8694,  35.6532,2,  35.6701,2,      0.2,2,   1.1290,2,     35.4,2,     28.0,2,     0.01,2,    2.550,2,   0.596,2,   0.398,2,   0.2149,2,  2282.3,2,  2344.0,2,   7.4587,2,    25.00, -999.00,9, -999.00,9, -999.00,-999.000,1,  -999.0,9,     -999.0,1,     -999.0,9,         15,     -999.0,9,     -999.0,9,     -999.0,9,     -999.0,9
33RO20180423,        I7N,     116,          1,        116,      11115,2,20180602,       0318,    16.2358,    67.0402,       3740,   367.4,  13.5527,  35.5567,2,  35.5651,2,      0.2,2,   1.1010,2,     30.4,2,     26.0,2,     1.18,2,    2.463,2,   0.843,2,   0.547,2,   0.2931,2,  -999.0,9,  2338.0,2,   7.4687,2,    25.00, -999.00,9, -999.00,9, -999.00,-999.000,1,  -999.0,9,     -999.0,1,     -999.0,9,         16,     -999.0,9,     -999.0,9,     -999.0,9,     -999.0,9
33RO20180423,        I7N,     116,          1,        117,      11116,2,20180602,       0318,    16.2358,    67.0402,       3740,   316.4,  14.4570,  35.6307,2,  35.6253,2,      0.2,2,   1.5450,2,     28.2,2,     23.1,2,     1.56,2,    2.411,2,   0.918,2,   0.618,2,   0.3194,2,  2275.6,2,  2341.2,2,   7.4741,2,    25.00, -999.00,9, -999.00,9, -999.00,-999.000,1,  -999.0,9,     -999.0,1,     -999.0,9,         17,     -999.0,9,     -999.0,9,     -999.0,9,     -999.0,9
33RO20180423,        I7N,     116,          1,        118,      11117,2,20180602,       0318,    16.2358,    67.0402,       3740,   231.0,  16.9724,  35.6403,2,  35.6501,2,      0.2,2,   1.6680,2,     23.1,2,     19.9,2,     2.80,2,    2.355,2,   1.070,2,   0.762,2,   0.5288,2,  2258.9,2,  2337.4,2,   7.5245,2,    25.00, -999.00,9, -999.00,9, -999.00,-999.000,1,  -999.0,9,     -999.0,1,     -999.0,9,         18,     -999.0,9,     -999.0,9,     -999.0,9,     -999.0,9
33RO20180423,        I7N,     116,          1,        119,      11083,2,20180602,       0318,    16.2358,    67.0402,       3740,   212.5,  17.3467,  35.5662,2,  35.6069,2,      0.1,2,   1.9700,2,     22.3,2,     20.7,2,     2.64,2,    2.326,2,   1.107,6,   0.776,6,   0.5888,6,  2252.3,2,  2334.2,2,   7.5330,2,    25.00, -999.00,9, -999.00,9, -999.00,-999.000,1,  -999.0,9,     -999.0,1,     -999.0,9,         19,     -999.0,9,     -999.0,9,     -999.0,9,     -999.0,9
33RO20180423,        I7N,     116,          1,        120,      11118,2,20180602,       0318,    16.2358,    67.0402,       3740,   173.2,  19.1634,  35.5330,2,  35.5360,2,      0.9,2,   2.2130,2,     18.6,2,     26.4,2,     0.02,2,    2.153,2,   1.302,2,   0.826,2,   0.7242,2,  2227.5,2,  2326.1,3,   7.5818,2,    25.00, -999.00,9, -999.00,9, -999.00,-999.000,1,  -999.0,9,     -999.0,1,     -999.0,9,         20,     -999.0,9,     -999.0,9,     -999.0,9,     -999.0,9
33RO20180423,        I7N,     116,          1,        121,      11119,2,20180602,       0318,    16.2358,    67.0402,       3740,   134.1,  23.5658,  36.1960,2,-999.0000,1,     47.1,2,  38.9130,2,      8.7,2,     21.7,2,     0.04,2,    1.681,2,   1.494,2,   0.952,2,   1.1347,2,  2190.1,2,  2355.1,2,   7.7381,2,    25.00, -999.00,9, -999.00,9, -999.00,-999.000,1,  -999.0,9,     -999.0,1,     -999.0,9,         21,     -999.0,9,     -999.0,9,     -999.0,9,     -999.0,9
33RO20180423,        I7N,     116,          1,        122,      11120,2,20180602,       0318,    16.2358,    67.0402,       3740,    78.3,  27.1357,  36.5171,2,  36.5332,2,    188.3,2, 195.7080,2,      1.3,2,      0.2,2,     0.02,2,    0.356,2,   1.542,2,   0.972,2,   1.4552,2,  2060.2,2,  2392.8,3,   8.0445,2,    25.00, -999.00,9, -999.00,9, -999.00,-999.000,1,  -999.0,9,     -999.0,1,     -999.0,9,         22,     -999.0,9,     -999.0,9,     -999.0,9,     -999.0,9
33RO20180423,        I7N,     116,          1,        123,      11121,2,20180602,       0318,    16.2358,    67.0402,       3740,    52.6,  29.0354,  36.2477,2,  36.2624,2,    188.0,2, 194.8680,2,      1.6,2,      0.0,2,     0.01,2,    0.249,2,   1.446,2,   0.917,2,   1.3766,2,  2029.6,2,  2371.7,6,   8.0743,2,    25.00, -999.00,9, -999.00,9, -999.00,-999.000,1,  -999.0,9,     -999.0,1,     -999.0,9,         23,     -999.0,9,     -999.0,9,     -999.0,9,     -999.0,9
33RO20180423,        I7N,     116,          1,        124,      11122,2,20180602,       0318,    16.2358,    67.0402,       3740,     3.7,  30.5751,  36.1268,2,  36.1334,2,    181.4,2, 189.2860,2,      1.6,2,      0.0,2,     0.01,2,    0.151,2,   1.330,2,   0.853,2,   1.3181,2,  2014.1,6,  2371.4,2,   8.0925,6,    25.00, -999.00,9, -999.00,9, -999.00,-999.000,1,  -999.0,9,     -999.0,1,     -999.0,9,         24,     -999.0,9,     -999.0,9,     -999.0,9,     -999.0,9