BOTTLE,20230801CCHSIOCBG
EXPOCODE,SECT_ID,STNNBR,CASTNO,SAMPNO,BTLNBR,BTLNBR_FLAG_W,DATE,TIME,LATITUDE,LONGITUDE,DEPTH,CTDPRS,CTDTMP,CTDSAL,CTDSAL_FLAG_W,SALNTY,SALNTY_FLAG_W,CTDOXY,CTDOXY_FLAG_W,OXYGEN,OXYGEN_FLAG_W,SILCAT,SILCAT_FLAG_W,NITRAT,NITRAT_FLAG_W,NITRIT,NITRIT_FLAG_W,PHSPHT,PHSPHT_FLAG_W,CFC-11,CFC-11_FLAG_W,CFC-12,CFC-12_FLAG_W,SF6,SF6_FLAG_W,TCARBN,TCARBN_FLAG_W,ALKALI,ALKALI_FLAG_W,PH_SWS,PH_SWS_FLAG_W,PH_TMP,DELC13,DELC13_FLAG_W,DELC14,DELC14_FLAG_W,C14ERR,CCL4,CCL4_FLAG_W,DOC,DOC_FLAG_W,N2O,N2O_FLAG_W,CALCIUM,CALCIUM_FLAG_W,SAMPNO_U,DNSSAL,DNSSAL_FLAG_W,DNSSAL2,DNSSAL2_FLAG_W,SALNTY_DNSSAL,SALNTY_DNSSAL_FLAG_W,SALNTY_DNSSAL2,SALNTY_DNSSAL2_FLAG_W
,,,,,,,,,,,METERS,DBAR,ITS-90,PSS-78,,PSS-78,,UMOL/KG,,UMOL/KG,,UMOL/KG,,UMOL/KG,,UMOL/KG,,UMOL/KG,,PMOL/KG,,PMOL/KG,,FMOL/KG,,UMOL/KG,,UMOL/KG,,,,DEG C,/MILLE,,/MILLE,,/MILLE,PMOL/KG,,UMOL/KG,,NMOL/KG,,MMOL/KG,,,G/KG,,G/KG,,PSS-78,,PSS-78,
33RO20180423,        I7N,     105,          1,        101,      11010,2,20180530,       0330,    11.6207,    64.6675,       4246,  4313.3,   1.6903,  34.7324,2,  34.7327,2,    128.9,2, 148.3750,2,    142.8,6,     35.8,6,     0.01,6,    2.498,6,   0.013,2,   0.007,2,   0.0059,2,  2341.4,6,  2455.2,2,   7.6022,6,    25.00, -999.00,9, -999.00,9, -999.00,-999.000,1,  -999.0,9,     -999.0,1,    10.3451,2,          1,     -999.0,9,     -999.0,9,     -999.0,9,     -999.0,9
33RO20180423,        I7N,     105,          1,        102,      11101,2,20180530,       0330,    11.6207,    64.6675,       4246,  4002.3,   1.6939,  34.7344,2,  34.7434,2,    130.8,2, 150.1930,2,    141.6,6,     35.5,6,     0.01,6,    2.494,6,-999.000,9,-999.000,9,-999.0000,9,  2330.9,2,  2439.1,6,   7.5894,2,    25.00, -999.00,9, -999.00,9, -999.00,-999.000,9,    40.7,3,     -999.0,9,    10.3428,2,          2,     -999.0,9,     -999.0,9,     -999.0,9,     -999.0,9
33RO20180423,        I7N,     105,          1,        103,      11102,2,20180530,       0330,    11.6207,    64.6675,       4246,  3800.7,   1.6926,  34.7354,2,  34.7346,2,    133.5,2, 153.3635,2,    139.9,6,     35.2,6,     0.01,6,    2.477,6,   0.002,2,   0.002,2,   0.0071,2,  2319.5,2,  2430.3,2,   7.5901,2,    25.00, -999.00,9, -999.00,9, -999.00,-999.000,1,    42.9,3,     -999.0,1,    10.3954,2,          3,     -999.0,9,     -999.0,9,     -999.0,9,     -999.0,9
33RO20180423,        I7N,     105,          1,        104,      11103,2,20180530,       0330,    11.6207,    64.6675,       4246,  3501.2,   1.7038,  34.7372,2,  34.7263,2,    134.1,2, 153.6070,2,    138.9,6,     35.0,6,     0.01,6,    2.470,6,-999.000,9,-999.000,9,-999.0000,9,  2318.4,2,  2424.2,2,   7.5849,2,    25.00, -999.00,9, -999.00,9, -999.00,-999.000,9,  -999.0,9,     -999.0,9,    10.3826,2,          4,     -999.0,9,     -999.0,9,     -999.0,9,     -999.0,9
33RO20180423,        I7N,     105,          1,        105,      11104,2,20180530,       0330,    11.6207,    64.6675,       4246,  3201.1,   1.7288,  34.7397,2,  34.7426,2,    131.2,2, 149.9330,2,    139.4,2,     35.2,2,     0.01,2,    2.486,2,   0.060,3,   0.038,3,   0.0065,2,  2319.6,2,  2422.7,2,   7.5791,2,    25.00, -999.00,9, -999.00,9, -999.00,-999.000,9,    40.8,3,     -999.0,9,    10.3663,2,          5,     -999.0,9,     -999.0,9,     -999.0,9,     -999.0,9
33RO20180423,        I7N,     105,          1,        106,      11105,2,20180530,       0330,    11.6207,    64.6675,       4246,  2901.1,   1.8239,  34.7463,2,  34.7479,6,    124.3,2, 141.5550,2,    140.4,2,     35.6,2,     0.01,2,    2.536,2,-999.000,9,-999.000,9,-999.0000,9,  2326.7,2,  2424.6,2,   7.5683,2,    25.00, -999.00,9, -999.00,9, -999.00,-999.000,9,  -999.0,9,     -999.0,9,    10.3423,2,          6,     -999.0,9,     -999.0,9,     -999.0,9,     -999.0,9
33RO20180423,        I7N,     105,          1,        107,      11106,2,20180530,       0330,    11.6207,    64.6675,       4246,  2600.1,   2.0442,  34.7607,2,  34.7780,2,    114.8,2, 130.4110,2,    140.3,2,     36.1,2,     0.01,2,    2.586,2,-999.000,9,-999.000,9,-999.0000,9,  2333.0,2,  2429.0,2,   7.5530,2,    25.00, -999.00,9, -999.00,9, -999.00,-999.000,9,    41.6,3,     -999.0,9,    10.3925,2,          7,     -999.0,9,     -999.0,9,     -999.0,9,     -999.0,9
33RO20180423,        I7N,     105,          1,        108,      11107,2,20180530,       0330,    11.6207,    64.6675,       4246,  2300.4,   2.3884,  34.7816,2,  34.7897,2,    107.9,2, 122.0650,2,    135.3,2,     36.3,2,     0.01,2,    2.621,2,-999.000,9,-999.000,9,-999.0000,9,  2328.8,2,  2423.0,2,   7.5415,2,    25.00, -999.00,9, -999.00,9, -999.00,-999.000,9,  -999.0,9,     -999.0,9,    10.3690,2,          8,     -999.0,9,     -999.0,9,     -999.0,9,     -999.0,9
33RO20180423,        I7N,     105,          1,        109,      11108,2,20180530,       0330,    11.6207,    64.6675,       4246,  2001.1,   2.9431,  34.8174,2,  34.8296,2,     95.2,2, 107.0700,2,    129.2,2,     36.7,2,     0.01,2,    2.679,2,-999.000,9,-999.000,9,-999.0000,9,  2330.4,2,  2415.8,2,   7.5242,2,    25.00, -999.00,9, -999.00,9, -999.00,-999.000,9,  -999.0,9,     -999.0,9,    10.4098,2,          9,     -999.0,9,     -999.0,9,     -999.0,9,     -999.0,9
33RO20180423,        I7N,     105,          1,        110,      11109,2,20180530,       0330,    11.6207,    64.6675,       4246,  1715.7,   3.7700,  34.8728,2,  34.8762,2,     77.6,2,  86.4520,2,    119.8,2,     37.4,2,     0.01,2,    2.765,2,-999.000,9,-999.000,9,-999.0000,9,  2329.8,2,  2402.1,2,   7.4968,2,    25.00, -999.00,9, -999.00,9, -999.00,-999.000,9,    43.9,3,     -999.0,9,    10.4115,2,         10,     -999.0,9,     -999.0,9,     -999.0,9,     -999.0,9
33RO20180423,        I7N,     105,          1,        111,      11110,2,20180530,       0330,    11.6207,    64.6675,       4246,  1465.9,   5.0529,  34.9777,2,  34.9803,6,     51.3,2,  57.7440,2,    108.2,2,     38.1,2,     0.01,2,    2.866,2,   0.008,6,   0.007,6,   0.0102,6,  2329.3,2,  2393.5,2,   7.4677,2,    25.00, -999.00,9, -999.00,9, -999.00,-999.000,1,    44.6,3,     -999.0,1,    10.4204,2,         11,     -999.0,9,     -999.0,9,     -999.0,9,     -999.0,9
33RO20180423,        I7N,     105,          1,        112,      11111,2,20180530,       0330,    11.6207,    64.6675,       4246,  1234.1,   6.4659,  35.1006,2,  35.1033,2,     36.5,2,  41.0210,2,     92.5,2,     37.7,2,     0.01,2,    2.841,2,-999.000,9,-999.000,9,-999.0000,9,  2317.4,2,  2378.2,2,   7.4616,2,    25.00, -999.00,9, -999.00,9, -999.00,-999.000,9,    43.0,3,     -999.0,9,    10.4378,2,         12,     -999.0,9,     -999.0,9,     -999.0,9,     -999.0,9
33RO20180423,        I7N,     105,          1,        113,      11112,2,20180530,       0330,    11.6207,    64.6675,       4246,  1033.3,   7.7998,  35.2316,2,  35.2990,2,     20.8,2,  24.0130,2,     80.3,2,     37.3,2,     0.01,2,    2.840,2,-999.000,1,-999.000,1,-999.0000,1,  2311.8,2,  2372.4,2,   7.4519,2,    25.00, -999.00,9, -999.00,9, -999.00,-999.000,1,  -999.0,9,     -999.0,1,    10.4361,2,         13,     -999.0,9,     -999.0,9,     -999.0,9,     -999.0,9
33RO20180423,        I7N,     105,          1,        114,      11113,2,20180530,       0330,    11.6207,    64.6675,       4246,   851.8,   9.1922,  35.3595,2,  35.3614,2,     10.4,2,  12.8720,2,     67.8,2,     36.2,2,     0.01,2,    2.806,2,   0.105,2,   0.066,2,   0.0233,2,  2299.5,2,  2364.3,2,   7.4511,2,    25.00, -999.00,9, -999.00,9, -999.00,-999.000,1,    47.5,3,     -999.0,1,    10.4963,2,         14,     -999.0,9,     -999.0,9,     -999.0,9,     -999.0,9
33RO20180423,        I7N,     105,          1,        115,      11114,2,20180530,       0330,    11.6207,    64.6675,       4246,   701.2,  10.4395,  35.4641,2,  35.4643,2,      7.9,2,   9.8990,2,     55.4,2,     34.1,2,     0.01,2,    2.695,2,   0.220,2,   0.135,2,   0.0793,2,  2286.6,2,  2350.7,6,   7.4643,2,    25.00, -999.00,9, -999.00,9, -999.00,-999.000,1,  -999.0,9,     -999.0,1,    10.5185,2,         15,     -999.0,9,     -999.0,9,     -999.0,9,     -999.0,9
33RO20180423,        I7N,     105,          1,        116,      11115,2,20180530,       0330,    11.6207,    64.6675,       4246,   560.5,  11.4775,  35.5234,2,  35.5259,2,      7.7,2,  10.1780,2,     44.4,2,     32.0,2,     0.01,2,    2.594,2,   0.419,2,   0.262,2,   0.1095,2,  2276.2,2,  2346.4,2,   7.4733,2,    25.00, -999.00,9, -999.00,9, -999.00,-999.000,1,    47.8,3,     -999.0,1,    10.5138,2,         16,     -999.0,9,     -999.0,9,     -999.0,9,     -999.0,9
33RO20180423,        I7N,     105,          1,        117,      11116,2,20180530,       0330,    11.6207,    64.6675,       4246,   415.9,  12.1953,  35.4641,2,  35.4643,2,      9.2,2,  11.7480,2,     34.6,2,     31.2,2,     0.01,2,    2.453,2,   0.782,2,   0.474,2,    0.218,2,  2267.6,2,  2330.2,2,   7.4713,6,    25.00, -999.00,9, -999.00,9, -999.00,-999.000,1,    46.1,3,     -999.0,1,    10.4790,2,         17,     -999.0,9,     -999.0,9,     -999.0,9,     -999.0,9
33RO20180423,        I7N,     105,          1,        118,      11117,2,20180530,       0330,    11.6207,    64.6675,       4246,   326.0,  13.5499,  35.5952,2,  35.5950,2,      3.6,2,   5.5660,2,     29.3,2,     28.4,2,     0.01,2,    2.380,2,   1.018,2,   0.630,2,   0.3435,2,  2268.9,6,  2333.8,3,   7.4728,2,    25.00, -999.00,9, -999.00,9, -999.00,-999.000,1,  -999.0,9,     -999.0,1,    10.5049,6,         18,     -999.0,9,     -999.0,9,     -999.0,9,     -999.0,9
33RO20180423,        I7N,     105,          1,        119,      11083,2,20180530,       0330,    11.6207,    64.6675,       4246,   260.8,  15.2666,  35.6767,2,  35.6766,2,      0.2,2,   1.7530,2,     26.3,2,     22.8,2,     1.11,2,    2.357,2,   1.062,2,   0.714,2,   0.4393,2,  2266.3,2,  2341.9,3,   7.4873,2,    25.00, -999.00,9, -999.00,9, -999.00,-999.000,1,    47.2,3,     -999.0,1,    10.5115,2,         19,     -999.0,9,     -999.0,9,     -999.0,9,     -999.0,9
33RO20180423,        I7N,     105,          1,        120,      11118,2,20180530,       0330,    11.6207,    64.6675,       4246,   183.3,  18.2780,  35.6572,2,  35.6824,2,      4.1,2,   5.8190,2,     18.9,2,     24.9,2,     0.01,2,    2.230,2,   1.352,2,   0.883,2,   0.7268,2,  2237.8,2,  2342.5,3,   7.5572,2,    25.00, -999.00,9, -999.00,9, -999.00,-999.000,1,    58.6,3,     -999.0,1,    10.5277,2,         20,     -999.0,9,     -999.0,9,     -999.0,9,     -999.0,9
33RO20180423,        I7N,     105,          1,        121,      11119,2,20180530,       0330,    11.6207,    64.6675,       4246,   132.9,  21.8190,  35.8276,2,  35.8301,2,     45.1,2,  48.9340,2,     10.8,2,     21.0,2,     0.04,2,    1.630,2,   1.540,2,   0.966,2,   1.1265,2,  2176.3,2,  2339.4,2,   7.7215,2,    25.00, -999.00,9, -999.00,9, -999.00,-999.000,1,    51.1,3,     -999.0,1,    10.5672,2,         21,     -999.0,9,     -999.0,9,     -999.0,9,     -999.0,9
33RO20180423,        I7N,     105,          1,        122,      11120,2,20180530,       0330,    11.6207,    64.6675,       4246,    83.3,  25.2855,  36.1038,2,  36.1121,2,    150.2,2, 158.1060,2,      3.5,2,      6.7,2,     0.05,2,    0.717,2,   1.574,2,   0.993,2,   1.4296,2,  2083.4,2,  2356.5,2,   7.9568,2,    25.00, -999.00,9, -999.00,9, -999.00,-999.000,1,    61.6,3,     -999.0,1,    10.6423,2,         22,     -999.0,9,     -999.0,9,     -999.0,9,     -999.0,9
33RO20180423,        I7N,     105,          1,        123,      11121,2,20180530,       0330,    11.6207,    64.6675,       4246,    35.9,  29.8322,  36.0864,2,  36.1025,2,    183.9,2, 192.7390,2,      1.2,2,      0.0,2,     0.01,2,    0.176,2,   1.362,2,   0.881,2,   1.3037,2,  2012.2,2,  2362.5,6,   8.0861,2,    25.00, -999.00,9, -999.00,9, -999.00,-999.000,1,    80.8,3,     -999.0,1,    10.6298,2,         23,     -999.0,9,     -999.0,9,     -999.0,9,     -999.0,9
33RO20180423,        I7N,     105,          1,        124,      11122,2,20180530,       0330,    11.6207,    64.6675,       4246,     4.8,  29.8384,  36.0896,2,  36.0914,2,    184.2,2, 191.9330,2,      1.3,2,      0.0,2,     0.01,2,    0.165,2,   1.378,2,   0.875,2,   1.3472,2,  2013.2,6,  2363.0,2,   8.0878,6,    25.00, -999.00,9, -999.00,9, -999.00,-999.000,1,    73.4,3,     -999.0,1,    10.6590,2,         24,     -999.0,9,     -999.0,9,     -999.0,9,     -999.0,9