BOTTLE,20230801CCHSIOCBG
EXPOCODE,SECT_ID,STNNBR,CASTNO,SAMPNO,BTLNBR,BTLNBR_FLAG_W,DATE,TIME,LATITUDE,LONGITUDE,DEPTH,CTDPRS,CTDTMP,CTDSAL,CTDSAL_FLAG_W,SALNTY,SALNTY_FLAG_W,CTDOXY,CTDOXY_FLAG_W,OXYGEN,OXYGEN_FLAG_W,SILCAT,SILCAT_FLAG_W,NITRAT,NITRAT_FLAG_W,NITRIT,NITRIT_FLAG_W,PHSPHT,PHSPHT_FLAG_W,CFC-11,CFC-11_FLAG_W,CFC-12,CFC-12_FLAG_W,SF6,SF6_FLAG_W,TCARBN,TCARBN_FLAG_W,ALKALI,ALKALI_FLAG_W,PH_SWS,PH_SWS_FLAG_W,PH_TMP,DELC13,DELC13_FLAG_W,DELC14,DELC14_FLAG_W,C14ERR,CCL4,CCL4_FLAG_W,DOC,DOC_FLAG_W,N2O,N2O_FLAG_W,CALCIUM,CALCIUM_FLAG_W,SAMPNO_U,DNSSAL,DNSSAL_FLAG_W,DNSSAL2,DNSSAL2_FLAG_W,SALNTY_DNSSAL,SALNTY_DNSSAL_FLAG_W,SALNTY_DNSSAL2,SALNTY_DNSSAL2_FLAG_W
,,,,,,,,,,,METERS,DBAR,ITS-90,PSS-78,,PSS-78,,UMOL/KG,,UMOL/KG,,UMOL/KG,,UMOL/KG,,UMOL/KG,,UMOL/KG,,PMOL/KG,,PMOL/KG,,FMOL/KG,,UMOL/KG,,UMOL/KG,,,,DEG C,/MILLE,,/MILLE,,/MILLE,PMOL/KG,,UMOL/KG,,NMOL/KG,,MMOL/KG,,,G/KG,,G/KG,,PSS-78,,PSS-78,
33RO20180423,        I7N,     117,          1,        101,      11010,2,20180602,       0951,    16.5073,    67.5103,       3166,  3187.3,   1.7403,  34.7396,2,  34.7472,2,    118.0,2, 134.0570,2,    145.1,6,     36.3,6,     0.01,6,    2.573,6,   0.008,2,   0.009,2,   0.0262,2,  2351.6,6,  2448.2,2,   7.5718,6,    25.00, -999.00,9, -999.00,9, -999.00,-999.000,1,    44.8,3,     -999.0,1,    10.3781,2,          1,    34.9278,2,     -999.0,9,    34.7435,2,     -999.0,9
33RO20180423,        I7N,     117,          1,        102,      11101,2,20180602,       0951,    16.5073,    67.5103,       3166,  3057.0,   1.7654,  34.7417,2,  34.7470,2,    116.2,2, 130.8820,2,    145.5,6,     36.5,6,     0.00,6,    2.584,6,-999.000,9,-999.000,9,-999.0000,9,  2352.0,2,  2445.3,6,   7.5646,2,    25.00, -999.00,9, -999.00,9, -999.00,-999.000,9,    42.0,3,     -999.0,9,    10.3787,2,          2,    34.9291,2,     -999.0,9,    34.7454,2,     -999.0,9
33RO20180423,        I7N,     117,          1,        103,      11102,2,20180602,       0951,    16.5073,    67.5103,       3166,  2901.0,   1.8127,  34.7453,2,  34.7518,2,    114.3,2, 129.6990,2,    145.4,6,     36.5,6,     0.00,6,    2.601,6,-999.000,9,-999.000,9,-999.0000,9,  2350.7,2,  2444.0,2,   7.5604,2,    25.00, -999.00,9, -999.00,9, -999.00,-999.000,9,    43.7,3,     -999.0,9,    10.3572,2,          3,    34.9311,2,     -999.0,9,    34.7473,2,     -999.0,9
33RO20180423,        I7N,     117,          1,        104,      11103,2,20180602,       0951,    16.5073,    67.5103,       3166,  2601.1,   2.0134,  34.7590,2,  34.7626,2,    107.4,2, 121.1400,2,    143.5,6,     36.8,6,     0.00,6,    2.646,6,-999.000,9,-999.000,9,-999.0000,9,  2349.4,2,  2439.3,2,   7.5421,2,    25.00, -999.00,9, -999.00,9, -999.00,-999.000,9,    50.4,3,     -999.0,9,    10.3530,2,          4,    34.9423,2,     -999.0,9,    34.7616,2,     -999.0,9
33RO20180423,        I7N,     117,          1,        105,      11104,2,20180602,       0951,    16.5073,    67.5103,       3166,  2300.7,   2.3838,  34.7845,2,  34.7886,2,     97.1,2, 109.1130,2,    140.0,2,     37.2,2,     0.00,2,    2.713,2,-999.000,9,-999.000,9,-999.0000,9,  2349.8,2,  2431.3,2,   7.5227,2,    25.00, -999.00,9, -999.00,9, -999.00,-999.000,9,  -999.0,9,     -999.0,9,    10.3803,2,          5,    34.9700,2,     -999.0,9,    34.7867,2,     -999.0,9
33RO20180423,        I7N,     117,          1,        106,      11105,2,20180602,       0951,    16.5073,    67.5103,       3166,  2000.4,   2.9777,  34.8229,2,  34.8269,6,     86.1,2,  97.1200,2,    131.5,2,     37.6,2,     0.00,2,    2.764,2,   0.003,6,   0.004,6,   0.0096,6,  2344.5,2,  2426.5,2,   7.5065,2,    25.00, -999.00,9, -999.00,9, -999.00,-999.000,1,    50.2,3,     -999.0,1,    10.3800,2,          6,    35.0102,2,     -999.0,9,    34.8255,2,     -999.0,9
33RO20180423,        I7N,     117,          1,        107,      11106,2,20180602,       0951,    16.5073,    67.5103,       3166,  1717.7,   4.0179,  34.9086,2,  34.9120,2,     61.6,2,  69.0210,2,    121.4,2,     38.4,2,     0.00,2,    2.893,2,-999.000,9,-999.000,9,-999.0000,9,  2346.3,2,  2410.2,2,   7.4742,2,    25.00, -999.00,9, -999.00,9, -999.00,-999.000,9,    46.3,3,     -999.0,9,     -999.0,9,          7,    35.0912,2,     -999.0,9,    34.9105,2,     -999.0,9
33RO20180423,        I7N,     117,          1,        108,      11107,2,20180602,       0951,    16.5073,    67.5103,       3166,  1467.7,   5.4967,  35.0403,2,  35.0462,2,     34.9,2,  43.2330,2,    106.1,2,     38.9,2,     0.00,2,    2.995,2,-999.000,9,-999.000,9,-999.0000,9,  2342.3,2,  2393.3,2,   7.4441,6,    25.00, -999.00,9, -999.00,9, -999.00,-999.000,9,    46.2,3,     -999.0,9,    10.3853,2,          8,    35.2204,2,     -999.0,9,    35.0411,2,     -999.0,9
33RO20180423,        I7N,     117,          1,        109,      11108,2,20180602,       0951,    16.5073,    67.5103,       3166,  1233.5,   7.0520,  35.1836,2,  35.1871,2,     16.5,2,  20.0530,2,     89.8,2,     38.6,2,     0.00,2,    3.005,2,-999.000,9,-999.000,9,-999.0000,9,  2330.8,2,  2380.1,6,   7.4296,2,    25.00, -999.00,9, -999.00,9, -999.00,-999.000,9,    47.8,3,     -999.0,9,     -999.0,9,          9,    35.3660,2,     -999.0,9,    35.1846,2,     -999.0,9
33RO20180423,        I7N,     117,          1,        110,      11109,2,20180602,       0951,    16.5073,    67.5103,       3166,  1033.3,   8.5738,  35.3363,2,  35.3410,2,      5.3,2,   7.7290,2,     75.8,2,     37.1,2,     0.00,2,    2.947,2,   0.052,2,   0.034,2,   0.0012,2,  2320.8,2,  2370.7,2,   7.4352,2,    25.00, -999.00,9, -999.00,9, -999.00,-999.000,1,    48.1,3,     -999.0,1,    10.4513,2,         10,    35.5189,2,     -999.0,9,    35.3390,2,     -999.0,9
33RO20180423,        I7N,     117,          1,        111,      11110,2,20180602,       0951,    16.5073,    67.5103,       3166,   850.7,  10.1648,  35.4969,2,  35.5229,2,      0.7,2,   2.8270,2,     61.6,2,     34.3,2,     0.00,2,    2.831,2,   0.118,2,   0.076,2,   0.0167,2,  2304.6,2,  2360.8,2,   7.4534,2,    25.00, -999.00,9, -999.00,9, -999.00,-999.000,1,    43.5,3,     -999.0,1,     -999.0,9,         11,    35.6737,2,     -999.0,9,    35.4987,2,     -999.0,9
33RO20180423,        I7N,     117,          1,        112,      11111,2,20180602,       0951,    16.5073,    67.5103,       3166,   700.5,  11.3227,  35.5682,2,  35.5712,2,      0.4,2,   2.4725,2,     49.4,2,     31.6,2,     0.01,2,    2.714,2,   0.218,2,   0.146,2,   0.0623,2,  2291.7,2,  2349.4,2,   7.4647,2,    25.00, -999.00,9, -999.00,9, -999.00,-999.000,1,  -999.0,9,     -999.0,1,    10.5310,2,         12,    35.7409,2,     -999.0,9,    35.5685,2,     -999.0,9
33RO20180423,        I7N,     117,          1,        113,      11112,2,20180602,       0951,    16.5073,    67.5103,       3166,   550.7,  12.2709,  35.6193,2,  35.6217,2,      0.4,2,   2.3880,2,     39.9,2,     29.5,2,     0.01,2,    2.593,2,   0.439,2,   0.291,2,   0.1519,2,  2285.8,2,  2341.8,2,   7.4684,2,    25.00, -999.00,9, -999.00,9, -999.00,-999.000,1,    54.8,3,     -999.0,1,    10.5213,2,         13,    35.7916,2,     -999.0,9,    35.6209,2,     -999.0,9
33RO20180423,        I7N,     117,          1,        114,      11113,2,20180602,       0951,    16.5073,    67.5103,       3166,   433.2,  12.8741,  35.6030,2,  35.6077,2,      0.2,2,   1.9970,2,     34.4,2,     28.6,2,     0.01,2,    2.523,2,   0.642,2,   0.427,2,   0.1684,2,  2281.0,6,  2340.6,2,   7.4631,2,    25.00, -999.00,9, -999.00,9, -999.00,-999.000,1,    52.4,3,     -999.0,1,    10.5200,2,         14,    35.7738,2,     -999.0,9,    35.6038,2,     -999.0,9
33RO20180423,        I7N,     117,          1,        115,      11114,2,20180602,       0951,    16.5073,    67.5103,       3166,   379.4,  13.2750,  35.5663,2,  35.5684,2,      0.2,2,   2.0470,2,     31.9,2,     25.6,2,     1.86,2,    2.467,2,   0.745,2,   0.493,2,   0.2193,2,  2281.2,2,  2341.4,2,   7.4577,2,    25.00, -999.00,9, -999.00,9, -999.00,-999.000,1,    55.9,3,     -999.0,1,    10.5428,2,         15,    35.7356,2,     -999.0,9,    35.5647,2,     -999.0,9
33RO20180423,        I7N,     117,          1,        116,      11115,2,20180602,       0951,    16.5073,    67.5103,       3166,   333.5,  13.9651,  35.6201,2,  35.6250,2,      0.1,2,   2.3140,2,     30.0,2,     22.0,2,     3.36,2,    2.440,2,   0.826,2,   0.564,2,   0.3058,2,  2281.8,2,  2334.9,2,   7.4673,2,    25.00, -999.00,9, -999.00,9, -999.00,-999.000,1,    55.9,3,     -999.0,1,    10.5606,2,         16,    35.7942,2,     -999.0,9,    35.6237,2,     -999.0,9
33RO20180423,        I7N,     117,          1,        117,      11116,2,20180602,       0951,    16.5073,    67.5103,       3166,   283.4,  14.5292,  35.5732,2,  35.5777,2,      0.1,2,   2.3890,2,     28.0,2,     22.1,2,     2.45,2,    2.400,2,   0.923,2,   0.629,2,   0.3101,2,  2275.5,2,  2337.1,2,   7.4779,2,    25.00, -999.00,9, -999.00,9, -999.00,-999.000,1,    50.8,3,     -999.0,1,    10.4889,2,         17,    35.7442,2,     -999.0,9,    35.5744,2,     -999.0,9
33RO20180423,        I7N,     117,          1,        118,      11117,2,20180602,       0951,    16.5073,    67.5103,       3166,   210.5,  16.3177,  35.5075,2,  35.5114,2,      0.1,2,   2.0510,2,     24.0,2,     21.3,2,     2.34,2,    2.344,2,   1.057,2,   0.742,2,    0.479,2,  2259.8,2,  2330.8,2,   7.5093,2,    25.00, -999.00,9, -999.00,9, -999.00,-999.000,1,  -999.0,9,     -999.0,1,    10.4414,2,         18,    35.6776,2,     -999.0,9,    35.5091,2,     -999.0,9
33RO20180423,        I7N,     117,          1,        119,      11083,2,20180602,       0951,    16.5073,    67.5103,       3166,   187.4,  17.4121,  35.5429,2,  35.5384,2,      0.1,2,   1.8490,2,     22.3,2,     22.4,2,     2.07,2,    2.304,2,   1.144,2,   0.770,2,   0.5921,2,  2249.9,2,  2331.0,6,   7.5349,2,    25.00, -999.00,9, -999.00,9, -999.00,-999.000,1,    52.8,3,     -999.0,1,     -999.0,9,         19,    35.7027,2,     -999.0,9,    35.5341,2,     -999.0,9
33RO20180423,        I7N,     117,          1,        120,      11118,2,20180602,       0951,    16.5073,    67.5103,       3166,   147.5,  20.5395,  35.9101,2,  35.9055,2,      1.1,2,   3.0075,2,     14.9,2,     25.7,2,     0.03,2,    2.135,2,   1.402,2,   0.903,2,   0.9111,2,  2237.1,2,  2342.6,2,   7.6060,6,    25.00, -999.00,9, -999.00,9, -999.00,-999.000,1,    48.7,3,     -999.0,1,    10.6012,2,         20,    36.0762,2,     -999.0,9,    35.9031,2,     -999.0,9
33RO20180423,        I7N,     117,          1,        121,      11119,2,20180602,       0951,    16.5073,    67.5103,       3166,   107.3,  23.4414,  35.9873,2,  36.0084,2,     53.7,2,  60.2510,2,      9.2,2,     18.4,2,     0.07,2,    1.461,2,   1.445,2,   0.917,2,   1.1281,2,  2167.4,2,  2349.6,2,   7.7902,2,    25.00, -999.00,9, -999.00,9, -999.00,-999.000,1,    59.7,3,     -999.0,1,    10.7465,3,         21,    36.1776,2,     -999.0,9,    36.0111,2,     -999.0,9
33RO20180423,        I7N,     117,          1,        122,      11120,2,20180602,       0951,    16.5073,    67.5103,       3166,    50.0,  28.6677,  36.1872,2,  36.2484,2,    185.9,2, 192.6650,2,      2.1,2,      0.1,2,     0.01,2,    0.293,2,   1.454,2,   0.923,2,    1.307,2,  2051.4,2,  2370.8,2,   8.0470,2,    25.00, -999.00,9, -999.00,9, -999.00,-999.000,1,    78.5,3,     -999.0,1,     -999.0,9,         22,    36.4161,2,     -999.0,9,    36.2496,2,     -999.0,9
33RO20180423,        I7N,     117,          1,        123,      11121,2,20180602,       0951,    16.5073,    67.5103,       3166,    25.7,  30.5390,  36.1186,2,  36.1185,6,    181.9,2, 190.4470,2,      1.7,2,      0.0,2,     0.00,2,    0.135,2,   1.330,2,   0.852,2,   1.3138,2,  2015.7,2,  2366.3,2,   8.0996,2,    25.00, -999.00,9, -999.00,9, -999.00,-999.000,1,    84.9,3,     -999.0,1,     -999.0,9,         23,    36.2936,2,     -999.0,9,    36.1272,2,     -999.0,9
33RO20180423,        I7N,     117,          1,        124,      11122,2,20180602,       0951,    16.5073,    67.5103,       3166,     4.5,  30.5675,  36.0766,2,  36.0795,2,    181.3,2, 189.6450,2,      1.6,2,      0.0,2,     0.00,2,    0.119,2,   1.329,2,   0.854,2,   1.3033,2,  2011.7,6,  2367.4,2,   8.1008,2,    25.00, -999.00,9, -999.00,9, -999.00,-999.000,1,    85.8,3,     -999.0,1,    10.7168,2,         24,    36.2494,2,     -999.0,9,    36.0843,2,     -999.0,9