BOTTLE,20230801CCHSIOCBG
EXPOCODE,SECT_ID,STNNBR,CASTNO,SAMPNO,BTLNBR,BTLNBR_FLAG_W,DATE,TIME,LATITUDE,LONGITUDE,DEPTH,CTDPRS,CTDTMP,CTDSAL,CTDSAL_FLAG_W,SALNTY,SALNTY_FLAG_W,CTDOXY,CTDOXY_FLAG_W,OXYGEN,OXYGEN_FLAG_W,SILCAT,SILCAT_FLAG_W,NITRAT,NITRAT_FLAG_W,NITRIT,NITRIT_FLAG_W,PHSPHT,PHSPHT_FLAG_W,CFC-11,CFC-11_FLAG_W,CFC-12,CFC-12_FLAG_W,SF6,SF6_FLAG_W,TCARBN,TCARBN_FLAG_W,ALKALI,ALKALI_FLAG_W,PH_SWS,PH_SWS_FLAG_W,PH_TMP,DELC13,DELC13_FLAG_W,DELC14,DELC14_FLAG_W,C14ERR,CCL4,CCL4_FLAG_W,DOC,DOC_FLAG_W,N2O,N2O_FLAG_W,CALCIUM,CALCIUM_FLAG_W,SAMPNO_U,DNSSAL,DNSSAL_FLAG_W,DNSSAL2,DNSSAL2_FLAG_W,SALNTY_DNSSAL,SALNTY_DNSSAL_FLAG_W,SALNTY_DNSSAL2,SALNTY_DNSSAL2_FLAG_W
,,,,,,,,,,,METERS,DBAR,ITS-90,PSS-78,,PSS-78,,UMOL/KG,,UMOL/KG,,UMOL/KG,,UMOL/KG,,UMOL/KG,,UMOL/KG,,PMOL/KG,,PMOL/KG,,FMOL/KG,,UMOL/KG,,UMOL/KG,,,,DEG C,/MILLE,,/MILLE,,/MILLE,PMOL/KG,,UMOL/KG,,NMOL/KG,,MMOL/KG,,,G/KG,,G/KG,,PSS-78,,PSS-78,
33RO20180423,        I7N,      42,          1,        101,      11010,2,20180508,       2048,   -11.8807,    54.5567,       4581,  4640.3,   1.1556,  34.7105,2,  34.7127,2,    172.3,2, 198.8730,2,    126.2,6,     32.7,6,     0.00,6,    2.282,6,   0.058,2,   0.029,2,        0,2,  2274.6,6,  2381.0,2,   7.6003,6,    25.00, -999.00,9, -999.00,9, -999.00,-999.000,1,    40.9,3,     -999.0,1,     -999.0,9,          1,     -999.0,9,     -999.0,9,     -999.0,9,     -999.0,9
33RO20180423,        I7N,      42,          1,        102,      11101,2,20180508,       2048,   -11.8807,    54.5567,       4581,  4311.9,   1.2533,  34.7156,2,  34.7220,2,    166.1,2, 191.8140,2,    127.4,6,     33.0,6,     0.00,6,    2.313,6,   0.039,2,   0.019,2,        0,2,  2278.8,2,  2395.8,4,   7.5975,2,    25.00, -999.00,9, -999.00,9, -999.00,-999.000,1,  -999.0,9,     -999.0,1,     -999.0,9,          2,     -999.0,9,     -999.0,9,     -999.0,9,     -999.0,9
33RO20180423,        I7N,      42,          1,        103,      11102,2,20180508,       2048,   -11.8807,    54.5567,       4581,  3976.0,   1.4018,  34.7218,2,  34.7243,2,    158.1,2, 182.9250,2,    129.2,6,     33.7,6,     0.00,6,    2.354,6,   0.021,2,   0.012,2,        0,2,  2287.4,2,  2395.7,2,   7.5956,2,    25.00, -999.00,9, -999.00,9, -999.00,-999.000,1,    40.2,3,     -999.0,1,     -999.0,9,          3,     -999.0,9,     -999.0,9,     -999.0,9,     -999.0,9
33RO20180423,        I7N,      42,          1,        104,      11103,2,20180508,       2048,   -11.8807,    54.5567,       4581,  3675.4,   1.5598,  34.7281,2,  34.7298,2,    150.5,2, 173.8620,2,    130.2,6,     33.8,6,     0.00,6,    2.371,6,   0.012,2,   0.006,2,        0,2,  2294.6,2,  2400.9,6,   7.5911,2,    25.00, -999.00,9, -999.00,9, -999.00,-999.000,1,    37.8,3,     -999.0,1,     -999.0,9,          4,     -999.0,9,     -999.0,9,     -999.0,9,     -999.0,9
33RO20180423,        I7N,      42,          1,        105,      11104,2,20180508,       2048,   -11.8807,    54.5567,       4581,  3375.3,   1.6691,  34.7326,2,  34.7340,2,    145.7,2, 167.7955,2,    130.4,2,     34.1,2,     0.00,2,    2.398,2,   0.006,2,   0.004,2,        0,2,  2299.9,2,  2403.7,2,   7.5875,2,    25.00, -999.00,9, -999.00,9, -999.00,-999.000,1,    38.1,3,     -999.0,1,     -999.0,9,          5,     -999.0,9,     -999.0,9,     -999.0,9,     -999.0,9
33RO20180423,        I7N,      42,          1,        106,      11105,2,20180508,       2048,   -11.8807,    54.5567,       4581,  3074.7,   1.8032,  34.7374,2,  34.7386,2,    141.3,2, 162.1780,2,    129.2,2,     34.4,2,     0.00,2,    2.419,2,   0.004,2,   0.002,2,        0,2,  2304.3,2,  2405.6,2,   7.5832,2,    25.00, -999.00,9, -999.00,9, -999.00,-999.000,1,    42.9,3,     -999.0,1,     -999.0,9,          6,     -999.0,9,     -999.0,9,     -999.0,9,     -999.0,9
33RO20180423,        I7N,      42,          1,        107,      11106,2,20180508,       2048,   -11.8807,    54.5567,       4581,  2775.4,   1.9537,  34.7405,2,  34.7488,2,    138.5,2, 158.2600,2,    128.0,2,     34.5,2,     0.00,2,    2.427,2,-999.000,9,-999.000,9,-999.0000,9,  2301.0,2,  2400.4,2,   7.5787,2,    25.00, -999.00,9, -999.00,9, -999.00,-999.000,9,  -999.0,9,     -999.0,9,     -999.0,9,          7,     -999.0,9,     -999.0,9,     -999.0,9,     -999.0,9
33RO20180423,        I7N,      42,          1,        108,      11107,2,20180508,       2048,   -11.8807,    54.5567,       4581,  2475.8,   2.0875,  34.7413,2,  34.7433,2,    136.5,2, 155.2040,2,    125.2,2,     34.5,2,     0.00,2,    2.445,2,   0.003,2,   0.002,2,        0,2,  2299.5,2,  2400.0,2,   7.5743,2,    25.00, -999.00,9, -999.00,9, -999.00,-999.000,1,  -999.0,9,     -999.0,1,     -999.0,9,          8,     -999.0,9,     -999.0,9,     -999.0,9,     -999.0,9
33RO20180423,        I7N,      42,          1,        109,      11108,2,20180508,       2048,   -11.8807,    54.5567,       4581,  2175.4,   2.3376,  34.7402,2,  34.7425,2,    133.6,2, 151.0880,2,    118.8,2,     34.6,2,     0.00,2,    2.450,2,   0.005,2,   0.003,2,        0,2,  2298.8,2,  2396.5,2,   7.5715,2,    25.00, -999.00,9, -999.00,9, -999.00,-999.000,1,    43.5,3,     -999.0,1,     -999.0,9,          9,     -999.0,9,     -999.0,9,     -999.0,9,     -999.0,9
33RO20180423,        I7N,      42,          1,        110,      11109,2,20180508,       2048,   -11.8807,    54.5567,       4581,  1863.2,   2.8914,  34.7339,2,  34.7380,6,    126.8,2, 142.3340,2,    108.5,2,     35.0,2,     0.00,2,    2.473,2,   0.012,2,   0.006,2,        0,2,  2291.7,2,  2384.3,6,   7.5600,2,    25.00, -999.00,9, -999.00,9, -999.00,-999.000,1,    45.5,3,     -999.0,1,     -999.0,9,         10,     -999.0,9,     -999.0,9,     -999.0,9,     -999.0,9
33RO20180423,        I7N,      42,          1,        111,      11110,2,20180508,       2048,   -11.8807,    54.5567,       4581,  1612.3,   3.5765,  34.7411,2,  34.7423,2,    113.6,2, 126.9650,2,    102.1,2,     35.6,2,     0.00,2,    2.528,2,   0.026,2,   0.014,2,   0.0075,2,  2289.8,2,  2378.0,2,   7.5442,6,    25.00, -999.00,9, -999.00,9, -999.00,-999.000,1,    44.7,3,     -999.0,1,     -999.0,9,         11,     -999.0,9,     -999.0,9,     -999.0,9,     -999.0,9
33RO20180423,        I7N,      42,          1,        112,      11111,2,20180508,       2048,   -11.8807,    54.5567,       4581,  1350.4,   4.4777,  34.7613,2,  34.7712,2,     97.2,2, 107.7900,2,     94.1,2,     35.7,2,     0.00,2,    2.577,2,   0.056,2,   0.030,2,        0,2,  2289.9,6,  2368.9,2,   7.5257,2,    25.00, -999.00,9, -999.00,9, -999.00,-999.000,1,  -999.0,9,     -999.0,1,     -999.0,9,         12,     -999.0,9,     -999.0,9,     -999.0,9,     -999.0,9
33RO20180423,        I7N,      42,          1,        113,      11112,2,20180508,       2048,   -11.8807,    54.5567,       4581,  1146.0,   5.3356,  34.7834,2,  34.7855,2,     86.4,2,  95.7400,2,     85.8,2,     35.7,2,     0.00,2,    2.590,2,   0.123,2,   0.066,2,   0.0292,2,  2287.5,2,  2362.3,2,   7.5146,2,    25.00, -999.00,9, -999.00,9, -999.00,-999.000,1,    49.9,3,     -999.0,1,     -999.0,9,         13,     -999.0,9,     -999.0,9,     -999.0,9,     -999.0,9
33RO20180423,        I7N,      42,          1,        114,      11113,2,20180508,       2048,   -11.8807,    54.5567,       4581,   938.0,   6.1992,  34.7833,2,  34.7853,2,     87.1,2,  95.8640,2,     72.9,2,     34.6,2,     0.00,2,    2.513,2,   0.310,6,   0.162,6,   0.0358,6,  2271.1,2,  2349.8,2,   7.5243,2,    25.00, -999.00,9, -999.00,9, -999.00,-999.000,1,  -999.0,9,     -999.0,1,     -999.0,9,         14,     -999.0,9,     -999.0,9,     -999.0,9,     -999.0,9
33RO20180423,        I7N,      42,          1,        115,      11114,2,20180508,       2048,   -11.8807,    54.5567,       4581,   788.4,   7.0478,  34.7984,2,  34.8014,2,     85.6,2,  93.3885,2,     62.5,2,     33.6,2,     0.00,2,    2.436,2,   0.516,2,   0.273,2,   0.0806,2,  2260.2,2,  2340.5,2,   7.5325,2,    25.00, -999.00,9, -999.00,9, -999.00,-999.000,1,    55.2,3,     -999.0,1,     -999.0,9,         15,     -999.0,9,     -999.0,9,     -999.0,9,     -999.0,9
33RO20180423,        I7N,      42,          1,        116,      11115,2,20180508,       2048,   -11.8807,    54.5567,       4581,   637.6,   7.9529,  34.7678,2,  34.7719,2,    105.8,2, 114.6010,2,     45.2,2,     30.5,2,     0.00,2,    2.173,2,   1.089,2,   0.574,2,   0.2842,2,  2228.0,2,  2320.2,2,   7.5737,2,    25.00, -999.00,9, -999.00,9, -999.00,-999.000,1,    54.8,3,     -999.0,1,     -999.0,9,         16,     -999.0,9,     -999.0,9,     -999.0,9,     -999.0,9
33RO20180423,        I7N,      42,          1,        117,      11116,2,20180508,       2048,   -11.8807,    54.5567,       4581,   475.0,   9.2014,  34.7735,2,  34.7739,2,    142.5,2, 153.5160,2,     25.3,2,     24.6,2,     0.00,2,    1.726,2,   2.130,2,   1.144,2,   0.6219,2,  2185.0,2,  2310.0,2,   7.6510,2,    25.00, -999.00,9, -999.00,9, -999.00,-999.000,1,    56.3,3,     -999.0,1,     -999.0,9,         17,     -999.0,9,     -999.0,9,     -999.0,9,     -999.0,9
33RO20180423,        I7N,      42,          1,        118,      11117,2,20180508,       2048,   -11.8807,    54.5567,       4581,   368.7,  10.4913,  34.8799,2,  34.8790,2,    149.4,2,-999.0000,9,     17.8,2,     20.9,2,     0.00,2,    1.492,2,   2.487,2,   1.360,2,   0.9164,2,  -999.0,9,  -999.0,5,-999.0000,9,  -999.00, -999.00,9, -999.00,9, -999.00,-999.000,1,  -999.0,9,     -999.0,1,     -999.0,9,         18,     -999.0,9,     -999.0,9,     -999.0,9,     -999.0,9
33RO20180423,        I7N,      42,          1,        119,      11083,2,20180508,       2048,   -11.8807,    54.5567,       4581,   294.7,  11.3091,  34.9508,2,  34.9519,2,    139.5,2, 149.5380,2,     18.1,2,     20.3,2,     0.00,2,    1.437,2,   2.345,2,   1.308,2,   0.9182,2,  2172.9,2,  2309.8,2,   7.6917,2,    25.00, -999.00,9, -999.00,9, -999.00,-999.000,1,  -999.0,9,     -999.0,1,     -999.0,9,         19,     -999.0,9,     -999.0,9,     -999.0,9,     -999.0,9
33RO20180423,        I7N,      42,          1,        120,      11118,2,20180508,       2048,   -11.8807,    54.5567,       4581,   211.3,  13.2350,  35.0765,2,  35.0761,2,    116.2,2, 126.7650,2,     18.4,2,     19.4,2,     0.00,2,    1.386,2,-999.000,9,-999.000,9,-999.0000,9,  2172.0,2,  2315.5,6,   7.7000,2,    25.00, -999.00,9, -999.00,9, -999.00,-999.000,9,  -999.0,9,     -999.0,9,     -999.0,9,         20,     -999.0,9,     -999.0,9,     -999.0,9,     -999.0,9
33RO20180423,        I7N,      42,          1,        121,      11119,2,20180508,       2048,   -11.8807,    54.5567,       4581,   162.5,  14.4864,  35.1514,2,  35.1527,2,    119.2,2, 127.3390,2,     17.5,2,     17.1,2,     0.01,2,    1.254,2,   2.035,2,   1.186,2,   0.9875,2,  2160.2,2,  2317.5,2,   7.7354,6,    25.00, -999.00,9, -999.00,9, -999.00,-999.000,1,    56.0,3,     -999.0,1,     -999.0,9,         21,     -999.0,9,     -999.0,9,     -999.0,9,     -999.0,9
33RO20180423,        I7N,      42,          1,        122,      11120,2,20180508,       2048,   -11.8807,    54.5567,       4581,   113.2,  17.0909,  35.1724,2,  35.1749,2,    102.7,2, 109.9600,2,     16.4,2,     16.6,2,     0.03,2,    1.195,2,   1.856,2,   1.108,2,   1.0068,2,  2149.5,2,  2314.1,2,   7.7531,2,    25.00, -999.00,9, -999.00,9, -999.00,-999.000,1,    53.7,3,     -999.0,1,     -999.0,9,         22,     -999.0,9,     -999.0,9,     -999.0,9,     -999.0,9
33RO20180423,        I7N,      42,          1,        123,      11121,2,20180508,       2048,   -11.8807,    54.5567,       4581,    61.9,  20.9950,  35.1965,2,  35.1997,2,    134.7,2, 143.3440,2,      8.9,2,      8.8,2,     0.39,2,    0.742,2,-999.000,1,-999.000,1,-999.0000,1,  2089.0,2,  2298.6,2,   7.8819,2,    25.00, -999.00,9, -999.00,9, -999.00,-999.000,1,    55.2,3,     -999.0,1,     -999.0,9,         23,     -999.0,9,     -999.0,9,     -999.0,9,     -999.0,9
33RO20180423,        I7N,      42,          1,        124,      11122,2,20180508,       2048,   -11.8807,    54.5567,       4581,     2.6,  27.7999,  34.8598,2,  34.8625,2,    189.0,2, 198.6900,2,      2.2,2,      0.0,2,     0.00,2,    0.143,2,   1.489,2,   0.945,2,   1.3833,2,  1966.4,2,  2288.2,2,   8.0679,2,    25.00, -999.00,9, -999.00,9, -999.00,-999.000,1,    67.9,3,     -999.0,1,     -999.0,9,         24,     -999.0,9,     -999.0,9,     -999.0,9,     -999.0,9