BOTTLE,20230801CCHSIOCBG
EXPOCODE,SECT_ID,STNNBR,CASTNO,SAMPNO,BTLNBR,BTLNBR_FLAG_W,DATE,TIME,LATITUDE,LONGITUDE,DEPTH,CTDPRS,CTDTMP,CTDSAL,CTDSAL_FLAG_W,SALNTY,SALNTY_FLAG_W,CTDOXY,CTDOXY_FLAG_W,OXYGEN,OXYGEN_FLAG_W,SILCAT,SILCAT_FLAG_W,NITRAT,NITRAT_FLAG_W,NITRIT,NITRIT_FLAG_W,PHSPHT,PHSPHT_FLAG_W,CFC-11,CFC-11_FLAG_W,CFC-12,CFC-12_FLAG_W,SF6,SF6_FLAG_W,TCARBN,TCARBN_FLAG_W,ALKALI,ALKALI_FLAG_W,PH_SWS,PH_SWS_FLAG_W,PH_TMP,DELC13,DELC13_FLAG_W,DELC14,DELC14_FLAG_W,C14ERR,CCL4,CCL4_FLAG_W,DOC,DOC_FLAG_W,N2O,N2O_FLAG_W,CALCIUM,CALCIUM_FLAG_W,SAMPNO_U,DNSSAL,DNSSAL_FLAG_W,DNSSAL2,DNSSAL2_FLAG_W,SALNTY_DNSSAL,SALNTY_DNSSAL_FLAG_W,SALNTY_DNSSAL2,SALNTY_DNSSAL2_FLAG_W
,,,,,,,,,,,METERS,DBAR,ITS-90,PSS-78,,PSS-78,,UMOL/KG,,UMOL/KG,,UMOL/KG,,UMOL/KG,,UMOL/KG,,UMOL/KG,,PMOL/KG,,PMOL/KG,,FMOL/KG,,UMOL/KG,,UMOL/KG,,,,DEG C,/MILLE,,/MILLE,,/MILLE,PMOL/KG,,UMOL/KG,,NMOL/KG,,MMOL/KG,,,G/KG,,G/KG,,PSS-78,,PSS-78,
33RO20180423,        I7N,     118,          1,        101,      11010,2,20180602,       1633,    16.7850,    67.9927,       3545,  3578.2,   1.7143,  34.7362,2,  34.7398,2,    119.1,2, 135.5010,2,    144.9,6,     36.5,6,     0.01,6,    2.534,6,   0.010,2,   0.010,2,   0.0098,2,  2357.8,6,  2453.4,2,   7.5839,6,    25.00, -999.00,9, -999.00,9, -999.00,-999.000,1,  -999.0,9,     -999.0,1,     -999.0,9,          1,     -999.0,9,     -999.0,9,     -999.0,9,     -999.0,9
33RO20180423,        I7N,     118,          1,        102,      11101,2,20180602,       1633,    16.7850,    67.9927,       3545,  3300.6,   1.7521,  34.7400,2,  34.7455,2,    115.1,2, 130.6350,2,    146.0,6,     36.5,6,     0.00,6,    2.571,6,   0.008,2,   0.011,2,   0.0019,2,  2356.6,2,  2448.4,2,   7.5677,2,    25.00, -999.00,9, -999.00,9, -999.00,-999.000,1,  -999.0,9,     -999.0,1,     -999.0,9,          2,     -999.0,9,     -999.0,9,     -999.0,9,     -999.0,9
33RO20180423,        I7N,     118,          1,        103,      11102,2,20180602,       1633,    16.7850,    67.9927,       3545,  3000.2,   1.7951,  34.7440,2,  34.7522,6,    113.2,2, 128.4340,2,    145.8,6,     36.6,6,     0.00,6,    2.587,6,   0.004,2,   0.009,2,   0.0077,2,  2355.1,2,  2444.7,2,   7.5598,2,    25.00, -999.00,9, -999.00,9, -999.00,-999.000,1,  -999.0,9,     -999.0,1,     -999.0,9,          3,     -999.0,9,     -999.0,9,     -999.0,9,     -999.0,9
33RO20180423,        I7N,     118,          1,        104,      11103,2,20180602,       1633,    16.7850,    67.9927,       3545,  2700.0,   1.9561,  34.7552,2,  34.7719,2,    107.6,2, 121.5820,2,    144.8,6,     36.8,6,     0.00,6,    2.613,6,   0.002,2,   0.005,2,   0.0067,2,  2356.0,2,  2439.3,6,   7.5459,2,    25.00, -999.00,9, -999.00,9, -999.00,-999.000,1,  -999.0,9,     -999.0,1,     -999.0,9,          4,     -999.0,9,     -999.0,9,     -999.0,9,     -999.0,9
33RO20180423,        I7N,     118,          1,        105,      11104,2,20180602,       1633,    16.7850,    67.9927,       3545,  2401.1,   2.2865,  34.7770,2,  34.7794,2,    100.3,2, 113.1110,2,    140.6,2,     37.1,2,     0.00,2,    2.655,2,   0.002,2,   0.005,2,        0,2,  2350.4,2,  2431.0,2,   7.5304,2,    25.00, -999.00,9, -999.00,9, -999.00,-999.000,1,  -999.0,9,     -999.0,1,     -999.0,9,          5,     -999.0,9,     -999.0,9,     -999.0,9,     -999.0,9
33RO20180423,        I7N,     118,          1,        106,      11105,2,20180602,       1633,    16.7850,    67.9927,       3545,  2100.1,   2.7839,  34.8116,2,  34.8224,2,     87.9,2,  98.7500,2,    134.8,2,     37.4,2,     0.00,2,    2.720,2,   0.002,2,   0.002,2,   0.0115,2,  2352.2,2,  2423.2,2,   7.5092,2,    25.00, -999.00,9, -999.00,9, -999.00,-999.000,1,  -999.0,9,     -999.0,1,     -999.0,9,          6,     -999.0,9,     -999.0,9,     -999.0,9,     -999.0,9
33RO20180423,        I7N,     118,          1,        107,      11106,2,20180602,       1633,    16.7850,    67.9927,       3545,  1800.4,   3.6788,  34.8799,2,  34.8849,2,     68.6,2,  76.6880,2,    124.5,2,     38.2,2,     0.00,2,    2.825,2,   0.002,2,   0.005,2,   0.0035,2,  2349.6,2,  2410.2,2,   7.4827,2,    25.00, -999.00,9, -999.00,9, -999.00,-999.000,1,  -999.0,9,     -999.0,1,     -999.0,9,          7,     -999.0,9,     -999.0,9,     -999.0,9,     -999.0,9
33RO20180423,        I7N,     118,          1,        108,      11107,2,20180602,       1633,    16.7850,    67.9927,       3545,  1550.5,   4.8971,  34.9886,2,  35.0010,2,     43.6,2,  49.0400,2,    112.3,2,     38.9,2,     0.00,2,    2.947,2,   0.005,2,   0.007,2,        0,2,  2349.3,2,  2399.0,2,   7.4504,2,    25.00, -999.00,9, -999.00,9, -999.00,-999.000,1,  -999.0,9,     -999.0,1,     -999.0,9,          8,     -999.0,9,     -999.0,9,     -999.0,9,     -999.0,9
33RO20180423,        I7N,     118,          1,        109,      11108,2,20180602,       1633,    16.7850,    67.9927,       3545,  1300.7,   6.5651,  35.1423,2,  35.1460,2,     20.5,2,  23.5390,2,     94.7,2,     38.9,2,     0.00,2,    2.984,2,   0.014,2,   0.010,2,   0.0065,2,  2338.6,2,  2381.6,2,   7.4323,6,    25.00, -999.00,9, -999.00,9, -999.00,-999.000,1,  -999.0,9,     -999.0,1,     -999.0,9,          9,     -999.0,9,     -999.0,9,     -999.0,9,     -999.0,9
33RO20180423,        I7N,     118,          1,        110,      11109,2,20180602,       1633,    16.7850,    67.9927,       3545,  1099.9,   7.8927,  35.2721,2,  35.2762,2,      8.5,2,  10.7095,2,     82.0,2,     38.1,2,     0.01,2,    2.944,2,   0.036,2,   0.024,2,   0.0068,2,  2329.8,2,  2373.8,2,   7.4296,2,    25.00, -999.00,9, -999.00,9, -999.00,-999.000,1,  -999.0,9,     -999.0,1,     -999.0,9,         10,     -999.0,9,     -999.0,9,     -999.0,9,     -999.0,9
33RO20180423,        I7N,     118,          1,        111,      11110,2,20180602,       1633,    16.7850,    67.9927,       3545,   900.7,   9.6943,  35.4755,2,  35.4780,2,      1.2,2,   3.1910,2,     66.6,2,     35.4,2,     0.00,2,    2.839,2,   0.100,6,   0.065,6,   0.0165,6,  2313.1,2,  2363.6,6,   7.4497,2,    25.00, -999.00,9, -999.00,9, -999.00,-999.000,1,  -999.0,9,     -999.0,1,     -999.0,9,         11,     -999.0,9,     -999.0,9,     -999.0,9,     -999.0,9
33RO20180423,        I7N,     118,          1,        112,      11111,2,20180602,       1633,    16.7850,    67.9927,       3545,   750.7,  10.6719,  35.5354,2,  35.5370,2,      0.5,2,   1.9100,2,     56.5,2,     33.3,2,     0.00,2,    2.753,2,   0.150,2,   0.098,2,   0.0129,2,  2300.4,6,  2356.0,2,   7.4591,2,    25.00, -999.00,9, -999.00,9, -999.00,-999.000,1,  -999.0,9,     -999.0,1,     -999.0,9,         12,     -999.0,9,     -999.0,9,     -999.0,9,     -999.0,9
33RO20180423,        I7N,     118,          1,        113,      11112,2,20180602,       1633,    16.7850,    67.9927,       3545,   599.9,  11.6662,  35.5956,2,  35.6036,2,      0.7,2,   1.9500,2,     45.7,2,     30.7,2,     0.00,2,    2.636,2,   0.292,2,   0.197,2,   0.0971,2,  2291.3,2,  2347.1,2,   7.4670,2,    25.00, -999.00,9, -999.00,9, -999.00,-999.000,1,  -999.0,9,     -999.0,1,     -999.0,9,         13,     -999.0,9,     -999.0,9,     -999.0,9,     -999.0,9
33RO20180423,        I7N,     118,          1,        114,      11113,2,20180602,       1633,    16.7850,    67.9927,       3545,   450.8,  12.6543,  35.6225,2,  35.6230,2,      0.2,2,   0.7410,2,     36.7,2,     28.3,2,     0.01,2,    2.538,2,   0.522,2,   0.353,2,   0.1557,2,  2286.2,2,  2344.0,2,   7.4662,2,    25.00, -999.00,9, -999.00,9, -999.00,-999.000,1,  -999.0,9,     -999.0,1,     -999.0,9,         14,     -999.0,9,     -999.0,9,     -999.0,9,     -999.0,9
33RO20180423,        I7N,     118,          1,        115,      11114,2,20180602,       1633,    16.7850,    67.9927,       3545,   400.0,  12.8764,  35.5778,2,  35.5777,2,      0.2,2,   0.9015,2,     34.0,2,     28.3,2,     0.05,2,    2.490,2,   0.653,2,   0.430,2,   0.1842,2,  2284.7,2,  2339.2,2,   7.4602,2,    25.00, -999.00,9, -999.00,9, -999.00,-999.000,1,  -999.0,9,     -999.0,1,     -999.0,9,         15,     -999.0,9,     -999.0,9,     -999.0,9,     -999.0,9
33RO20180423,        I7N,     118,          1,        116,      11115,2,20180602,       1633,    16.7850,    67.9927,       3545,   350.7,  13.2228,  35.5596,2,  35.5720,2,      0.2,2,   1.3070,2,     31.7,2,     26.5,2,     1.06,2,    2.456,2,   0.767,6,   0.498,6,    0.214,6,  2282.5,2,  2338.8,2,   7.4589,2,    25.00, -999.00,9, -999.00,9, -999.00,-999.000,1,  -999.0,9,     -999.0,1,     -999.0,9,         16,     -999.0,9,     -999.0,9,     -999.0,9,     -999.0,9
33RO20180423,        I7N,     118,          1,        117,      11116,2,20180602,       1633,    16.7850,    67.9927,       3545,   297.6,  13.9757,  35.5963,2,  35.5980,6,      0.2,2,   1.9470,2,     29.5,2,     22.0,2,     3.15,2,    2.420,2,   0.827,2,   0.567,2,   0.2638,2,  2281.1,2,  2340.0,2,   7.4662,2,    25.00, -999.00,9, -999.00,9, -999.00,-999.000,1,  -999.0,9,     -999.0,1,     -999.0,9,         17,     -999.0,9,     -999.0,9,     -999.0,9,     -999.0,9
33RO20180423,        I7N,     118,          1,        118,      11117,2,20180602,       1633,    16.7850,    67.9927,       3545,   250.3,  14.9263,  35.5927,2,  35.5877,2,      0.2,2,   1.2240,2,     27.1,2,     21.5,2,     2.13,2,    2.380,2,   0.940,2,   0.648,2,   0.3592,2,  2274.6,2,  2337.8,2,   7.4840,2,    25.00, -999.00,9, -999.00,9, -999.00,-999.000,1,  -999.0,9,     -999.0,1,     -999.0,9,         18,     -999.0,9,     -999.0,9,     -999.0,9,     -999.0,9
33RO20180423,        I7N,     118,          1,        119,      11083,2,20180602,       1633,    16.7850,    67.9927,       3545,   200.3,  17.4697,  35.8644,2,  35.8734,2,      0.1,2,   1.6170,2,     22.7,2,     18.1,2,     3.42,2,    2.317,2,   1.062,2,   0.776,2,   0.5737,2,  2267.4,2,  2348.6,2,   7.5339,2,    25.00, -999.00,9, -999.00,9, -999.00,-999.000,1,  -999.0,9,     -999.0,1,     -999.0,9,         19,     -999.0,9,     -999.0,9,     -999.0,9,     -999.0,9
33RO20180423,        I7N,     118,          1,        120,      11118,2,20180602,       1633,    16.7850,    67.9927,       3545,   161.0,  19.5453,  35.8299,2,  35.8111,2,      3.9,2,   4.5040,2,     17.6,2,     24.7,2,     0.09,2,    2.156,2,   1.308,2,   0.858,2,   0.8266,2,  2241.2,2,  2341.6,2,   7.5887,2,    25.00, -999.00,9, -999.00,9, -999.00,-999.000,1,  -999.0,9,     -999.0,1,     -999.0,9,         20,     -999.0,9,     -999.0,9,     -999.0,9,     -999.0,9
33RO20180423,        I7N,     118,          1,        121,      11119,2,20180602,       1633,    16.7850,    67.9927,       3545,   120.2,  22.7206,  36.1639,2,  36.1758,2,     36.0,2,  38.4060,2,      9.6,2,     22.0,2,     0.03,2,    1.738,2,   1.489,2,   0.954,2,   1.1775,2,  2203.9,2,  2357.4,2,   7.7203,2,    25.00, -999.00,9, -999.00,9, -999.00,-999.000,1,  -999.0,9,     -999.0,1,     -999.0,9,         21,     -999.0,9,     -999.0,9,     -999.0,9,     -999.0,9
33RO20180423,        I7N,     118,          1,        122,      11120,2,20180602,       1633,    16.7850,    67.9927,       3545,    70.2,  26.6775,  36.5053,2,  36.5120,2,    169.1,2, 177.9490,2,      1.8,2,      1.7,2,     0.24,2,    0.487,2,   1.540,2,   0.969,2,   1.3715,2,  2078.7,2,  2386.8,2,   8.0184,2,    25.00, -999.00,9, -999.00,9, -999.00,-999.000,1,  -999.0,9,     -999.0,1,     -999.0,9,         22,     -999.0,9,     -999.0,9,     -999.0,9,     -999.0,9
33RO20180423,        I7N,     118,          1,        123,      11121,2,20180602,       1633,    16.7850,    67.9927,       3545,    39.8,  29.8608,  36.5258,2,  36.5429,2,    187.7,2, 196.1030,2,      1.1,2,      0.0,2,     0.01,2,    0.235,2,   1.384,2,   0.891,2,   1.3194,2,  2037.0,2,  2387.8,6,   8.0906,6,    25.00, -999.00,9, -999.00,9, -999.00,-999.000,1,  -999.0,9,     -999.0,1,     -999.0,9,         23,     -999.0,9,     -999.0,9,     -999.0,9,     -999.0,9
33RO20180423,        I7N,     118,          1,        124,      11122,2,20180602,       1633,    16.7850,    67.9927,       3545,     3.4,  30.4916,  36.5356,2,  36.5387,2,    180.8,2, 189.1490,2,      1.0,2,      0.0,2,     0.00,2,    0.215,2,   1.333,2,   0.858,2,   1.3273,2,  2035.3,6,  2392.5,2,   8.0947,2,    25.00, -999.00,9, -999.00,9, -999.00,-999.000,1,  -999.0,9,     -999.0,1,     -999.0,9,         24,     -999.0,9,     -999.0,9,     -999.0,9,     -999.0,9