BOTTLE,20230801CCHSIOCBG
EXPOCODE,SECT_ID,STNNBR,CASTNO,SAMPNO,BTLNBR,BTLNBR_FLAG_W,DATE,TIME,LATITUDE,LONGITUDE,DEPTH,CTDPRS,CTDTMP,CTDSAL,CTDSAL_FLAG_W,SALNTY,SALNTY_FLAG_W,CTDOXY,CTDOXY_FLAG_W,OXYGEN,OXYGEN_FLAG_W,SILCAT,SILCAT_FLAG_W,NITRAT,NITRAT_FLAG_W,NITRIT,NITRIT_FLAG_W,PHSPHT,PHSPHT_FLAG_W,CFC-11,CFC-11_FLAG_W,CFC-12,CFC-12_FLAG_W,SF6,SF6_FLAG_W,TCARBN,TCARBN_FLAG_W,ALKALI,ALKALI_FLAG_W,PH_SWS,PH_SWS_FLAG_W,PH_TMP,DELC13,DELC13_FLAG_W,DELC14,DELC14_FLAG_W,C14ERR,CCL4,CCL4_FLAG_W,DOC,DOC_FLAG_W,N2O,N2O_FLAG_W,CALCIUM,CALCIUM_FLAG_W,SAMPNO_U,DNSSAL,DNSSAL_FLAG_W,DNSSAL2,DNSSAL2_FLAG_W,SALNTY_DNSSAL,SALNTY_DNSSAL_FLAG_W,SALNTY_DNSSAL2,SALNTY_DNSSAL2_FLAG_W
,,,,,,,,,,,METERS,DBAR,ITS-90,PSS-78,,PSS-78,,UMOL/KG,,UMOL/KG,,UMOL/KG,,UMOL/KG,,UMOL/KG,,UMOL/KG,,PMOL/KG,,PMOL/KG,,FMOL/KG,,UMOL/KG,,UMOL/KG,,,,DEG C,/MILLE,,/MILLE,,/MILLE,PMOL/KG,,UMOL/KG,,NMOL/KG,,MMOL/KG,,,G/KG,,G/KG,,PSS-78,,PSS-78,
33RO20180423,        I7N,      39,          1,        101,      11010,2,20180508,       0021,   -13.3920,    54.9948,       4505,  4580.1,   1.2306,  34.7132,2,  34.7179,6,    168.8,2, 195.4200,2,    126.0,6,     33.0,6,     0.00,6,    2.263,6,   0.047,2,   0.024,2,        0,2,  2277.2,6,  2380.6,2,   7.6006,2,    25.00, -999.00,9, -999.00,9, -999.00,-999.000,1,  -999.0,9,     -999.0,1,     -999.0,9,          1,     -999.0,9,     -999.0,9,     -999.0,9,     -999.0,9
33RO20180423,        I7N,      39,          1,        102,      11101,2,20180508,       0021,   -13.3920,    54.9948,       4505,  4208.5,   1.3264,  34.7181,2,  34.7219,2,    162.4,2, 188.0285,2,    127.4,6,     33.3,6,     0.00,6,    2.296,6,   0.030,2,   0.015,2,   0.0102,2,  2280.6,2,  2386.2,2,   7.5986,2,    25.00, -999.00,9, -999.00,9, -999.00,-999.000,1,  -999.0,9,     -999.0,1,     -999.0,9,          2,     -999.0,9,     -999.0,9,     -999.0,9,     -999.0,9
33RO20180423,        I7N,      39,          1,        103,      11102,2,20180508,       0021,   -13.3920,    54.9948,       4505,  3828.1,   1.4518,  34.7239,2,  34.7274,2,    155.6,2, 180.3010,2,    128.6,6,     33.7,6,     0.00,6,    2.344,6,   0.018,2,   0.009,2,        0,2,  2288.1,2,  2393.0,2,   7.5955,6,    25.00, -999.00,9, -999.00,9, -999.00,-999.000,1,  -999.0,9,     -999.0,1,     -999.0,9,          3,     -999.0,9,     -999.0,9,     -999.0,9,     -999.0,9
33RO20180423,        I7N,      39,          1,        104,      11103,2,20180508,       0021,   -13.3920,    54.9948,       4505,  3526.0,   1.6283,  34.7303,2,  34.7315,2,    148.0,2, 170.9280,2,    129.3,6,     34.1,6,     0.00,6,    2.357,6,   0.006,2,   0.003,2,        0,2,  2291.8,2,  2397.8,2,   7.5911,2,    25.00, -999.00,9, -999.00,9, -999.00,-999.000,1,  -999.0,9,     -999.0,1,     -999.0,9,          4,     -999.0,9,     -999.0,9,     -999.0,9,     -999.0,9
33RO20180423,        I7N,      39,          1,        105,      11104,2,20180508,       0021,   -13.3920,    54.9948,       4505,  3227.1,   1.7302,  34.7342,2,  34.7402,6,    143.9,2, 165.4580,2,    129.1,2,     34.4,2,     0.00,2,    2.380,2,   0.004,2,   0.002,2,   0.0075,2,  2294.7,2,  2400.8,6,   7.5871,2,    25.00, -999.00,9, -999.00,9, -999.00,-999.000,1,  -999.0,9,     -999.0,1,     -999.0,9,          5,     -999.0,9,     -999.0,9,     -999.0,9,     -999.0,9
33RO20180423,        I7N,      39,          1,        106,      11105,2,20180508,       0021,   -13.3920,    54.9948,       4505,  2925.4,   1.8706,  34.7376,2,  34.7766,2,    140.4,2, 161.1230,2,    127.1,2,     34.5,2,     0.00,2,    2.404,2,   0.002,2,   0.002,2,        0,2,  2299.1,2,  2400.0,2,   7.5826,2,    25.00, -999.00,9, -999.00,9, -999.00,-999.000,1,  -999.0,9,     -999.0,1,     -999.0,9,          6,     -999.0,9,     -999.0,9,     -999.0,9,     -999.0,9
33RO20180423,        I7N,      39,          1,        107,      11106,2,20180508,       0021,   -13.3920,    54.9948,       4505,  2623.7,   2.0296,  34.7394,2,  34.7446,2,    138.2,2, 158.0880,2,    123.4,2,     34.3,2,     0.00,2,    2.400,2,   0.002,2,   0.003,2,        0,2,  2297.9,2,  2395.9,2,   7.5800,2,    25.00, -999.00,9, -999.00,9, -999.00,-999.000,1,  -999.0,9,     -999.0,1,     -999.0,9,          7,     -999.0,9,     -999.0,9,     -999.0,9,     -999.0,9
33RO20180423,        I7N,      39,          1,        108,      11107,2,20180508,       0021,   -13.3920,    54.9948,       4505,  2323.7,   2.2619,  34.7355,2,  34.7365,2,    136.7,2, 155.6190,2,    117.0,2,     34.3,2,     0.00,2,    2.409,2,   0.004,2,   0.001,2,        0,2,  2292.6,2,  2390.2,2,   7.5753,2,    25.00, -999.00,9, -999.00,9, -999.00,-999.000,1,  -999.0,9,     -999.0,1,     -999.0,9,          8,     -999.0,9,     -999.0,9,     -999.0,9,     -999.0,9
33RO20180423,        I7N,      39,          1,        109,      11108,2,20180508,       0021,   -13.3920,    54.9948,       4505,  2024.7,   2.6081,  34.7242,2,  34.7249,2,    134.7,2, 152.4100,2,    108.2,2,     34.3,2,     0.00,2,    2.377,2,   0.011,2,   0.006,2,        0,2,  2286.4,2,  2379.8,2,   7.5711,2,    25.00, -999.00,9, -999.00,9, -999.00,-999.000,1,  -999.0,9,     -999.0,1,     -999.0,9,          9,     -999.0,9,     -999.0,9,     -999.0,9,     -999.0,9
33RO20180423,        I7N,      39,          1,        110,      11109,2,20180508,       0021,   -13.3920,    54.9948,       4505,  1735.5,   3.2107,  34.7069,2,  34.7097,2,    127.8,2, 143.1240,2,     97.1,2,     34.6,2,     0.00,2,    2.416,2,   0.035,2,   0.018,2,   0.0074,2,  2279.0,2,  2369.2,2,   7.5579,6,    25.00, -999.00,9, -999.00,9, -999.00,-999.000,1,  -999.0,9,     -999.0,1,     -999.0,9,         10,     -999.0,9,     -999.0,9,     -999.0,9,     -999.0,9
33RO20180423,        I7N,      39,          1,        111,      11110,2,20180508,       0021,   -13.3920,    54.9948,       4505,  1487.9,   4.1002,  34.7461,2,  34.7498,2,    107.2,2, 143.1890,4,     94.4,2,     35.4,2,     0.00,2,    2.497,2,   0.064,2,   0.036,2,    0.001,2,  2283.7,6,  2368.3,2,   7.5373,2,    25.00, -999.00,9, -999.00,9, -999.00,-999.000,1,  -999.0,9,     -999.0,1,     -999.0,9,         11,     -999.0,9,     -999.0,9,     -999.0,9,     -999.0,9
33RO20180423,        I7N,      39,          1,        112,      11111,2,20180508,       0021,   -13.3920,    54.9948,       4505,  1251.0,   4.9682,  34.7704,2,  34.7741,2,     92.9,2, 102.9760,2,     87.5,2,     35.7,2,     0.00,2,    2.532,2,   0.109,6,   0.058,6,   0.0036,6,  2283.5,2,  2361.6,2,   7.5324,2,    25.00, -999.00,9, -999.00,9, -999.00,-999.000,1,  -999.0,9,     -999.0,1,     -999.0,9,         12,     -999.0,9,     -999.0,9,     -999.0,9,     -999.0,9
33RO20180423,        I7N,      39,          1,        113,      11112,2,20180508,       0021,   -13.3920,    54.9948,       4505,  1050.4,   5.7735,  34.7821,2,  34.7982,2,     84.5,2,  90.4280,2,     79.0,2,     35.4,2,     0.00,2,    2.526,2,   0.182,2,   0.096,2,   0.0202,2,  2261.4,2,  2351.9,6,   7.5180,2,    25.00, -999.00,9, -999.00,9, -999.00,-999.000,1,  -999.0,9,     -999.0,1,     -999.0,9,         13,     -999.0,9,     -999.0,9,     -999.0,9,     -999.0,9
33RO20180423,        I7N,      39,          1,        114,      11113,2,20180508,       0021,   -13.3920,    54.9948,       4505,   863.4,   6.6637,  34.7877,2,  34.8110,2,     86.2,2,  94.8370,2,     66.2,2,     34.3,2,     0.00,2,    2.433,2,   0.419,2,   0.221,2,   0.0933,2,  2276.6,3,  2341.3,2,   7.5296,2,    25.00, -999.00,9, -999.00,9, -999.00,-999.000,1,  -999.0,9,     -999.0,1,     -999.0,9,         14,     -999.0,9,     -999.0,9,     -999.0,9,     -999.0,9
33RO20180423,        I7N,      39,          1,        115,      11114,2,20180508,       0021,   -13.3920,    54.9948,       4505,   712.2,   7.3918,  34.7829,2,  34.7866,2,     93.2,2, 101.5960,2,     54.8,2,     32.5,2,     0.00,2,    2.307,2,   0.716,2,   0.377,2,   0.1379,2,  2242.8,2,  2329.2,2,   7.5467,2,    25.00, -999.00,9, -999.00,9, -999.00,-999.000,1,  -999.0,9,     -999.0,1,     -999.0,9,         15,     -999.0,9,     -999.0,9,     -999.0,9,     -999.0,9
33RO20180423,        I7N,      39,          1,        116,      11115,2,20180508,       0021,   -13.3920,    54.9948,       4505,   563.0,   8.4176,  34.7043,2,  34.7101,2,    145.7,2, 157.7930,2,     27.8,2,     25.9,2,     0.00,2,    1.799,2,   1.988,6,   1.051,6,   0.5541,6,  2188.0,2,  2304.8,2,   7.6420,2,    25.00, -999.00,9, -999.00,9, -999.00,-999.000,1,  -999.0,9,     -999.0,1,     -999.0,9,         16,     -999.0,9,     -999.0,9,     -999.0,9,     -999.0,9
33RO20180423,        I7N,      39,          1,        117,      11116,2,20180508,       0021,   -13.3920,    54.9948,       4505,   424.4,  10.1433,  34.8433,2,  34.8460,2,    153.3,2, 165.0940,2,     18.2,2,     21.4,2,     0.01,2,    1.482,2,   2.472,2,   1.359,2,   0.8653,2,  2166.7,2,  2309.1,2,   7.6866,2,    25.00, -999.00,9, -999.00,9, -999.00,-999.000,1,  -999.0,9,     -999.0,1,     -999.0,9,         17,     -999.0,9,     -999.0,9,     -999.0,9,     -999.0,9
33RO20180423,        I7N,      39,          1,        118,      11117,2,20180508,       0021,   -13.3920,    54.9948,       4505,   331.8,  11.4640,  34.9658,2,  34.9724,2,    142.4,2, 152.4930,2,     17.2,2,     19.7,2,     0.01,2,    1.385,2,   2.369,2,   1.328,2,   0.9232,2,  2166.3,2,  2308.6,2,   7.7007,2,    25.00, -999.00,9, -999.00,9, -999.00,-999.000,1,  -999.0,9,     -999.0,1,     -999.0,9,         18,     -999.0,9,     -999.0,9,     -999.0,9,     -999.0,9
33RO20180423,        I7N,      39,          1,        119,      11083,2,20180508,       0021,   -13.3920,    54.9948,       4505,   256.0,  12.7304,  35.0646,2,  35.0819,2,    134.9,2, 144.9290,2,     16.7,2,     17.9,2,     0.01,2,    1.296,2,   2.229,2,   1.283,2,    0.999,2,  2160.6,2,  2311.9,2,   7.7232,2,    25.00, -999.00,9, -999.00,9, -999.00,-999.000,1,  -999.0,9,     -999.0,1,     -999.0,9,         19,     -999.0,9,     -999.0,9,     -999.0,9,     -999.0,9
33RO20180423,        I7N,      39,          1,        120,      11118,2,20180508,       0021,   -13.3920,    54.9948,       4505,   189.2,  13.9598,  35.1453,2,  35.1470,2,    127.5,2, 136.0580,2,     16.5,2,     16.8,2,     0.01,2,    1.221,2,   2.110,2,   1.228,2,   0.9746,2,  2156.9,2,  2314.7,6,   7.7397,2,    25.00, -999.00,9, -999.00,9, -999.00,-999.000,1,  -999.0,9,     -999.0,1,     -999.0,9,         20,     -999.0,9,     -999.0,9,     -999.0,9,     -999.0,9
33RO20180423,        I7N,      39,          1,        121,      11119,2,20180508,       0021,   -13.3920,    54.9948,       4505,   138.2,  15.2028,  35.0987,2,  35.1034,2,     95.7,2, 102.5400,2,     19.5,2,     19.4,2,     0.01,2,    1.367,2,   1.854,2,   1.087,2,   0.9155,2,  2163.3,2,  2310.0,2,   7.7071,2,    25.00, -999.00,9, -999.00,9, -999.00,-999.000,1,  -999.0,9,     -999.0,1,     -999.0,9,         21,     -999.0,9,     -999.0,9,     -999.0,9,     -999.0,9
33RO20180423,        I7N,      39,          1,        122,      11120,2,20180508,       0021,   -13.3920,    54.9948,       4505,    63.1,  20.2851,  35.1560,2,  35.1600,2,    117.9,2, 126.0020,2,     11.0,2,     11.8,2,     0.81,2,    0.925,2,   1.797,2,   1.086,2,   1.1236,2,  2106.9,2,  2305.6,2,   7.8321,6,    25.00, -999.00,9, -999.00,9, -999.00,-999.000,1,  -999.0,9,     -999.0,1,     -999.0,9,         22,     -999.0,9,     -999.0,9,     -999.0,9,     -999.0,9
33RO20180423,        I7N,      39,          1,        123,      11121,2,20180508,       0021,   -13.3920,    54.9948,       4505,    35.5,  23.8139,  35.0399,2,  35.0478,2,    163.4,2, 172.8345,2,      6.1,2,      4.7,2,     0.22,2,    0.484,2,   1.689,2,   1.052,2,   1.2347,2,  2040.8,2,  2294.2,2,   7.9544,2,    25.00, -999.00,9, -999.00,9, -999.00,-999.000,1,  -999.0,9,     -999.0,1,     -999.0,9,         23,     -999.0,9,     -999.0,9,     -999.0,9,     -999.0,9
33RO20180423,        I7N,      39,          1,        124,      11122,2,20180508,       0021,   -13.3920,    54.9948,       4505,     3.8,  27.9452,  34.7140,2,  34.7169,2,    188.0,2, 198.0020,2,      2.4,2,      0.0,2,     0.00,2,    0.119,2,   1.475,2,   0.943,2,   1.4241,2,  1957.1,6,  2273.6,2,   8.0678,2,    25.00, -999.00,9, -999.00,9, -999.00,-999.000,1,  -999.0,9,     -999.0,1,     -999.0,9,         24,     -999.0,9,     -999.0,9,     -999.0,9,     -999.0,9