BOTTLE,20230801CCHSIOCBG
EXPOCODE,SECT_ID,STNNBR,CASTNO,SAMPNO,BTLNBR,BTLNBR_FLAG_W,DATE,TIME,LATITUDE,LONGITUDE,DEPTH,CTDPRS,CTDTMP,CTDSAL,CTDSAL_FLAG_W,SALNTY,SALNTY_FLAG_W,CTDOXY,CTDOXY_FLAG_W,OXYGEN,OXYGEN_FLAG_W,SILCAT,SILCAT_FLAG_W,NITRAT,NITRAT_FLAG_W,NITRIT,NITRIT_FLAG_W,PHSPHT,PHSPHT_FLAG_W,CFC-11,CFC-11_FLAG_W,CFC-12,CFC-12_FLAG_W,SF6,SF6_FLAG_W,TCARBN,TCARBN_FLAG_W,ALKALI,ALKALI_FLAG_W,PH_SWS,PH_SWS_FLAG_W,PH_TMP,DELC13,DELC13_FLAG_W,DELC14,DELC14_FLAG_W,C14ERR,CCL4,CCL4_FLAG_W,DOC,DOC_FLAG_W,N2O,N2O_FLAG_W,CALCIUM,CALCIUM_FLAG_W,SAMPNO_U,DNSSAL,DNSSAL_FLAG_W,DNSSAL2,DNSSAL2_FLAG_W,SALNTY_DNSSAL,SALNTY_DNSSAL_FLAG_W,SALNTY_DNSSAL2,SALNTY_DNSSAL2_FLAG_W
,,,,,,,,,,,METERS,DBAR,ITS-90,PSS-78,,PSS-78,,UMOL/KG,,UMOL/KG,,UMOL/KG,,UMOL/KG,,UMOL/KG,,UMOL/KG,,PMOL/KG,,PMOL/KG,,FMOL/KG,,UMOL/KG,,UMOL/KG,,,,DEG C,/MILLE,,/MILLE,,/MILLE,PMOL/KG,,UMOL/KG,,NMOL/KG,,MMOL/KG,,,G/KG,,G/KG,,PSS-78,,PSS-78,
33RO20180423,        I7N,      98,          1,        101,      11010,2,20180528,       0436,     8.3957,    63.1937,       4610,  4687.1,   1.6673,  34.7302,2,  34.7342,2,    142.1,2, 164.6270,2,    134.8,6,     34.6,6,     0.00,6,    2.422,6,   0.007,2,   0.004,2,   0.0001,2,  2312.2,2,  2418.5,2,   7.5935,6,    25.00, -999.00,9, -999.00,9, -999.00,-999.000,1,  -999.0,9,     -999.0,1,     -999.0,9,          1,     -999.0,9,     -999.0,9,     -999.0,9,     -999.0,9
33RO20180423,        I7N,      98,          1,        102,      11101,2,20180528,       0436,     8.3957,    63.1937,       4610,  4501.9,   1.6567,  34.7310,2,  34.7368,2,    141.0,2, 163.5400,2,    135.3,6,     34.7,6,     0.00,6,    2.430,6,   0.007,2,   0.005,2,        0,2,  2310.7,6,  2417.0,2,   7.5907,2,    25.00, -999.00,9, -999.00,9, -999.00,-999.000,1,  -999.0,9,     -999.0,1,     -999.0,9,          2,     -999.0,9,     -999.0,9,     -999.0,9,     -999.0,9
33RO20180423,        I7N,      98,          1,        103,      11102,2,20180528,       0436,     8.3957,    63.1937,       4610,  4300.2,   1.6443,  34.7316,2,  34.7336,2,    140.2,2, 162.7090,2,    135.5,6,     34.8,6,     0.00,6,    2.438,6,   0.006,2,   0.005,2,        0,2,  2308.7,2,  2418.4,6,   7.5904,2,    25.00, -999.00,9, -999.00,9, -999.00,-999.000,1,  -999.0,9,     -999.0,1,     -999.0,9,          3,     -999.0,9,     -999.0,9,     -999.0,9,     -999.0,9
33RO20180423,        I7N,      98,          1,        104,      11103,2,20180528,       0436,     8.3957,    63.1937,       4610,  3993.3,   1.6402,  34.7330,2,  34.7373,2,    138.5,2, 160.7300,2,    136.1,6,     34.9,6,     0.00,6,    2.445,6,   0.005,2,   0.004,2,   0.0022,2,  2311.2,2,  2422.4,2,   7.5881,2,    25.00, -999.00,9, -999.00,9, -999.00,-999.000,1,  -999.0,9,     -999.0,1,     -999.0,9,          4,     -999.0,9,     -999.0,9,     -999.0,9,     -999.0,9
33RO20180423,        I7N,      98,          1,        105,      11104,2,20180528,       0436,     8.3957,    63.1937,       4610,  3700.4,   1.6790,  34.7360,2,  34.7585,2,    135.5,2, 156.9430,2,    136.2,2,     35.0,2,     0.00,2,    2.463,2,   0.004,6,   0.003,6,   0.0037,6,  2315.6,2,  2429.8,2,   7.5848,2,    25.00, -999.00,9, -999.00,9, -999.00,-999.000,1,  -999.0,9,     -999.0,1,     -999.0,9,          5,     -999.0,9,     -999.0,9,     -999.0,9,     -999.0,9
33RO20180423,        I7N,      98,          1,        106,      11105,2,20180528,       0436,     8.3957,    63.1937,       4610,  3399.2,   1.7291,  34.7397,2,  34.7535,6,    133.0,2, 154.2130,2,    135.4,2,     35.1,2,     0.00,2,    2.468,2,   0.004,2,   0.004,2,        0,2,  2315.7,2,  2423.5,2,   7.5821,2,    25.00, -999.00,9, -999.00,9, -999.00,-999.000,1,  -999.0,9,     -999.0,1,     -999.0,9,          6,     -999.0,9,     -999.0,9,     -999.0,9,     -999.0,9
33RO20180423,        I7N,      98,          1,        107,      11106,2,20180528,       0436,     8.3957,    63.1937,       4610,  3098.4,   1.8080,  34.7437,2,  34.7473,2,    130.9,2, 150.7550,2,    134.5,2,     35.2,2,     0.00,2,    2.473,2,   0.002,2,   0.002,2,        0,2,  2316.1,2,  2420.7,2,   7.5770,2,    25.00, -999.00,9, -999.00,9, -999.00,-999.000,1,  -999.0,9,     -999.0,1,     -999.0,9,          7,     -999.0,9,     -999.0,9,     -999.0,9,     -999.0,9
33RO20180423,        I7N,      98,          1,        108,      11107,2,20180528,       0436,     8.3957,    63.1937,       4610,  2799.3,   1.9233,  34.7507,2,  34.7516,2,    127.0,2, 146.7430,2,    133.6,2,     35.4,2,     0.00,2,    2.509,2,   0.002,2,   0.002,2,        0,2,  2316.9,2,  2419.2,2,   7.5679,2,    25.00, -999.00,9, -999.00,9, -999.00,-999.000,1,  -999.0,9,     -999.0,1,     -999.0,9,          8,     -999.0,9,     -999.0,9,     -999.0,9,     -999.0,9
33RO20180423,        I7N,      98,          1,        109,      11108,2,20180528,       0436,     8.3957,    63.1937,       4610,  2498.4,   2.1214,  34.7609,2,  34.7835,2,    122.0,2, 129.4140,4,    128.1,4,     35.9,4,     0.00,4,    2.577,4,   0.002,2,   0.003,2,        0,2,  2319.2,2,  2412.3,2,   7.5468,2,    25.00, -999.00,9, -999.00,9, -999.00,-999.000,1,  -999.0,9,     -999.0,1,     -999.0,9,          9,     -999.0,9,     -999.0,9,     -999.0,9,     -999.0,9
33RO20180423,        I7N,      98,          1,        110,      11109,2,20180528,       0436,     8.3957,    63.1937,       4610,  2200.7,   2.4339,  34.7790,2,  34.7841,6,    114.3,2, 129.9480,2,    128.3,2,     36.0,2,     0.00,2,    2.571,2,   0.003,2,   0.003,2,        0,2,  2319.0,2,  2415.6,2,   7.5503,2,    25.00, -999.00,9, -999.00,9, -999.00,-999.000,1,  -999.0,9,     -999.0,1,     -999.0,9,         10,     -999.0,9,     -999.0,9,     -999.0,9,     -999.0,9
33RO20180423,        I7N,      98,          1,        111,      11110,2,20180528,       0436,     8.3957,    63.1937,       4610,  1883.7,   3.2074,  34.8247,2,  34.8282,2,     94.1,2, 106.5280,2,    122.0,2,     36.9,2,     0.00,2,    2.674,2,   0.004,2,   0.004,2,        0,2,  2322.9,2,  2408.5,2,   7.5210,2,    25.00, -999.00,9, -999.00,9, -999.00,-999.000,1,  -999.0,9,     -999.0,1,     -999.0,9,         11,     -999.0,9,     -999.0,9,     -999.0,9,     -999.0,9
33RO20180423,        I7N,      98,          1,        112,      11111,2,20180528,       0436,     8.3957,    63.1937,       4610,  1633.2,   4.0684,  34.8860,2,  34.8873,2,     75.0,2,  84.4250,2,    114.2,2,     37.4,2,     0.00,2,    2.761,2,   0.005,2,   0.004,2,    0.001,2,  2323.6,2,  2403.0,6,   7.4959,2,    25.00, -999.00,9, -999.00,9, -999.00,-999.000,1,  -999.0,9,     -999.0,1,     -999.0,9,         12,     -999.0,9,     -999.0,9,     -999.0,9,     -999.0,9
33RO20180423,        I7N,      98,          1,        113,      11112,2,20180528,       0436,     8.3957,    63.1937,       4610,  1367.3,   5.6575,  35.0071,2,  35.0111,2,     49.2,2,  55.3560,2,     97.9,2,     37.7,2,     0.00,2,    2.822,2,   0.019,6,   0.012,6,        0,6,  2317.8,2,  2385.4,2,   7.4690,2,    25.00, -999.00,9, -999.00,9, -999.00,-999.000,1,  -999.0,9,     -999.0,1,     -999.0,9,         13,     -999.0,9,     -999.0,9,     -999.0,9,     -999.0,9
33RO20180423,        I7N,      98,          1,        114,      11113,2,20180528,       0436,     8.3957,    63.1937,       4610,  1166.0,   6.6517,  35.0415,2,  35.0535,2,     37.5,2,  42.1695,2,     86.9,2,     37.8,2,     0.00,2,    2.817,2,   0.027,2,   0.017,2,        0,2,  2309.5,2,  2373.5,2,   7.4578,2,    25.00, -999.00,9, -999.00,9, -999.00,-999.000,1,  -999.0,9,     -999.0,1,     -999.0,9,         14,     -999.0,9,     -999.0,9,     -999.0,9,     -999.0,9
33RO20180423,        I7N,      98,          1,        115,      11114,2,20180528,       0436,     8.3957,    63.1937,       4610,  1002.0,   7.7573,  35.1060,2,  35.1161,2,     26.0,2,  29.5220,2,     75.9,2,     37.5,2,     0.01,2,    2.813,2,   0.052,2,   0.031,2,        0,2,  2301.9,2,  2362.6,2,   7.4506,6,    25.00, -999.00,9, -999.00,9, -999.00,-999.000,1,  -999.0,9,     -999.0,1,     -999.0,9,         15,     -999.0,9,     -999.0,9,     -999.0,9,     -999.0,9
33RO20180423,        I7N,      98,          1,        116,      11115,2,20180528,       0436,     8.3957,    63.1937,       4610,   743.8,   9.5948,  35.2445,2,  35.2442,2,     16.7,2,  20.2810,2,     56.9,2,     35.6,2,     0.00,2,    2.688,2,   0.201,2,   0.118,2,        0,2,  2284.6,6,  2349.0,2,   7.4576,2,    25.00, -999.00,9, -999.00,9, -999.00,-999.000,1,  -999.0,9,     -999.0,1,     -999.0,9,         16,     -999.0,9,     -999.0,9,     -999.0,9,     -999.0,9
33RO20180423,        I7N,      98,          1,        117,      11116,2,20180528,       0436,     8.3957,    63.1937,       4610,   599.9,  10.7004,  35.2957,2,  35.2986,2,     25.3,2,  29.1785,2,     42.7,2,     33.1,2,     0.00,2,    2.492,2,   0.587,2,   0.332,2,   0.1666,2,  2264.4,2,  2341.2,2,   7.4831,2,    25.00, -999.00,9, -999.00,9, -999.00,-999.000,1,  -999.0,9,     -999.0,1,     -999.0,9,         17,     -999.0,9,     -999.0,9,     -999.0,9,     -999.0,9
33RO20180423,        I7N,      98,          1,        118,      11117,2,20180528,       0436,     8.3957,    63.1937,       4610,   425.7,  11.5072,  35.2457,2,  35.2420,2,     36.7,2,  46.4820,2,     31.1,2,     30.6,2,     0.00,2,    2.223,2,   1.190,2,   0.659,2,   0.2979,2,  2241.4,2,  2326.8,2,   7.5140,2,    25.00, -999.00,9, -999.00,9, -999.00,-999.000,1,  -999.0,9,     -999.0,1,     -999.0,9,         18,     -999.0,9,     -999.0,9,     -999.0,9,     -999.0,9
33RO20180423,        I7N,      98,          1,        119,      11083,2,20180528,       0436,     8.3957,    63.1937,       4610,   365.0,  11.8282,  35.2108,2,  35.2122,2,     35.3,2,  39.9240,2,     28.5,2,     30.7,2,     0.00,2,    2.196,2,   1.261,2,   0.700,2,   0.3139,2,  2243.3,2,  2320.4,2,   7.5058,2,    25.00, -999.00,9, -999.00,9, -999.00,-999.000,1,  -999.0,9,     -999.0,1,     -999.0,9,         19,     -999.0,9,     -999.0,9,     -999.0,9,     -999.0,9
33RO20180423,        I7N,      98,          1,        120,      11118,2,20180528,       0436,     8.3957,    63.1937,       4610,   264.3,  13.1246,  35.2447,2,  35.2504,2,     44.6,2,  50.2060,2,     23.1,2,     27.5,2,     0.00,2,    2.006,2,   1.610,2,   0.912,2,   0.5412,2,  2226.4,2,  2319.2,2,   7.5466,2,    25.00, -999.00,9, -999.00,9, -999.00,-999.000,1,  -999.0,9,     -999.0,1,     -999.0,9,         20,     -999.0,9,     -999.0,9,     -999.0,9,     -999.0,9
33RO20180423,        I7N,      98,          1,        121,      11119,2,20180528,       0436,     8.3957,    63.1937,       4610,   150.0,  17.6787,  35.2519,2,  35.2435,2,     19.3,2,  20.4760,2,     20.0,2,     27.0,2,     0.01,2,    2.001,2,   1.382,2,   0.834,2,   0.6778,2,  2207.1,2,  2312.2,2,   7.5838,2,    25.00, -999.00,9, -999.00,9, -999.00,-999.000,1,  -999.0,9,     -999.0,1,     -999.0,9,         21,     -999.0,9,     -999.0,9,     -999.0,9,     -999.0,9
33RO20180423,        I7N,      98,          1,        122,      11120,2,20180528,       0436,     8.3957,    63.1937,       4610,   117.5,  21.0204,  35.3978,2,  35.3902,2,     32.8,2,  36.2010,2,     14.4,2,     22.9,2,     0.02,2,    1.735,2,   1.401,2,   0.867,2,     0.83,2,  2170.6,2,  2317.6,6,   7.6875,2,    25.00, -999.00,9, -999.00,9, -999.00,-999.000,1,  -999.0,9,     -999.0,1,     -999.0,9,         22,     -999.0,9,     -999.0,9,     -999.0,9,     -999.0,9
33RO20180423,        I7N,      98,          1,        123,      11121,2,20180528,       0436,     8.3957,    63.1937,       4610,    73.8,  27.1171,  35.8687,2,  35.8850,2,    154.0,2, 162.5040,2,      2.8,2,      1.1,2,     0.28,2,    0.443,2,   1.486,2,   0.941,2,   1.2937,2,  2057.7,2,  2351.1,2,   7.9944,2,    25.00, -999.00,9, -999.00,9, -999.00,-999.000,1,  -999.0,9,     -999.0,1,     -999.0,9,         23,     -999.0,9,     -999.0,9,     -999.0,9,     -999.0,9
33RO20180423,        I7N,      98,          1,        124,      11122,2,20180528,       0436,     8.3957,    63.1937,       4610,     3.3,  30.1891,  34.8862,2,  34.8894,2,    183.1,2, 192.2050,2,      1.5,2,      0.0,2,     0.00,2,    0.105,2,   1.353,2,   0.871,2,   1.3205,2,  1956.7,6,  2297.1,2,   8.0933,6,    25.00, -999.00,9, -999.00,9, -999.00,-999.000,1,  -999.0,9,     -999.0,1,     -999.0,9,         24,     -999.0,9,     -999.0,9,     -999.0,9,     -999.0,9