BOTTLE,20230801CCHSIOCBG
EXPOCODE,SECT_ID,STNNBR,CASTNO,SAMPNO,BTLNBR,BTLNBR_FLAG_W,DATE,TIME,LATITUDE,LONGITUDE,DEPTH,CTDPRS,CTDTMP,CTDSAL,CTDSAL_FLAG_W,SALNTY,SALNTY_FLAG_W,CTDOXY,CTDOXY_FLAG_W,OXYGEN,OXYGEN_FLAG_W,SILCAT,SILCAT_FLAG_W,NITRAT,NITRAT_FLAG_W,NITRIT,NITRIT_FLAG_W,PHSPHT,PHSPHT_FLAG_W,CFC-11,CFC-11_FLAG_W,CFC-12,CFC-12_FLAG_W,SF6,SF6_FLAG_W,TCARBN,TCARBN_FLAG_W,ALKALI,ALKALI_FLAG_W,PH_SWS,PH_SWS_FLAG_W,PH_TMP,DELC13,DELC13_FLAG_W,DELC14,DELC14_FLAG_W,C14ERR,CCL4,CCL4_FLAG_W,DOC,DOC_FLAG_W,N2O,N2O_FLAG_W,CALCIUM,CALCIUM_FLAG_W,SAMPNO_U,DNSSAL,DNSSAL_FLAG_W,DNSSAL2,DNSSAL2_FLAG_W,SALNTY_DNSSAL,SALNTY_DNSSAL_FLAG_W,SALNTY_DNSSAL2,SALNTY_DNSSAL2_FLAG_W
,,,,,,,,,,,METERS,DBAR,ITS-90,PSS-78,,PSS-78,,UMOL/KG,,UMOL/KG,,UMOL/KG,,UMOL/KG,,UMOL/KG,,UMOL/KG,,PMOL/KG,,PMOL/KG,,FMOL/KG,,UMOL/KG,,UMOL/KG,,,,DEG C,/MILLE,,/MILLE,,/MILLE,PMOL/KG,,UMOL/KG,,NMOL/KG,,MMOL/KG,,,G/KG,,G/KG,,PSS-78,,PSS-78,
33RO20180423,        I7N,      12,          1,        101,      11010,2,20180430,       2316,   -26.0117,    54.5000,       5216,  5316.3,   0.9922,  34.7011,2,  34.7022,2,    179.4,2, 210.0390,2,    127.0,6,     31.7,6,     0.00,6,    2.198,6,   0.136,2,   0.067,2,    0.016,2,  2265.6,6,  2367.1,2,   7.5971,2,    25.00, -999.00,9, -999.00,9, -999.00,-999.000,1,  -999.0,9,     -999.0,1,     -999.0,9,          1,     -999.0,9,     -999.0,9,     -999.0,9,     -999.0,9
33RO20180423,        I7N,      12,          1,        102,      11101,2,20180430,       2316,   -26.0117,    54.5000,       5216,  4951.0,   0.9878,  34.7033,2,  34.7081,2,    177.7,2, 207.9140,2,    126.5,6,     31.8,6,     0.00,6,    2.205,6,-999.000,9,-999.000,9,-999.0000,9,  2262.0,2,  2367.7,6,   7.5949,2,    25.00, -999.00,9, -999.00,9, -999.00,-999.000,9,  -999.0,9,     -999.0,9,     -999.0,9,          2,     -999.0,9,     -999.0,9,     -999.0,9,     -999.0,9
33RO20180423,        I7N,      12,          1,        103,      11102,2,20180430,       2316,   -26.0117,    54.5000,       5216,  4574.8,   1.0630,  34.7081,2,  34.7097,2,    174.5,2, 204.0140,2,    125.3,6,     31.8,6,     0.00,6,    2.210,6,-999.000,9,-999.000,9,-999.0000,9,  2267.3,2,  2370.8,2,   7.5980,6,    25.00, -999.00,9, -999.00,9, -999.00,-999.000,9,  -999.0,9,     -999.0,9,     -999.0,9,          3,     -999.0,9,     -999.0,9,     -999.0,9,     -999.0,9
33RO20180423,        I7N,      12,          1,        104,      11103,2,20180430,       2316,   -26.0117,    54.5000,       5216,  4275.0,   1.1677,  34.7124,2,  34.7134,2,    169.4,2, 198.1290,2,    125.9,6,     32.1,6,     0.00,6,    2.236,6,-999.000,9,-999.000,9,-999.0000,9,  2270.9,2,  2377.7,2,   7.5974,2,    25.00, -999.00,9, -999.00,9, -999.00,-999.000,9,  -999.0,9,     -999.0,9,     -999.0,9,          4,     -999.0,9,     -999.0,9,     -999.0,9,     -999.0,9
33RO20180423,        I7N,      12,          1,        105,      11104,2,20180430,       2316,   -26.0117,    54.5000,       5216,  3974.5,   1.3194,  34.7180,2,  34.7264,2,    162.5,2, 189.5590,2,    126.8,2,     32.4,2,     0.00,2,    2.272,2,-999.000,9,-999.000,9,-999.0000,9,  2280.7,2,  2383.4,2,   7.5961,2,    25.00, -999.00,9, -999.00,9, -999.00,-999.000,9,  -999.0,9,     -999.0,9,     -999.0,9,          5,     -999.0,9,     -999.0,9,     -999.0,9,     -999.0,9
33RO20180423,        I7N,      12,          1,        106,      11105,2,20180430,       2316,   -26.0117,    54.5000,       5216,  3675.6,   1.4883,  34.7241,2,  34.7262,2,    155.6,2, 181.2730,2,    126.9,2,     32.7,2,     0.00,2,    2.301,2,-999.000,9,-999.000,9,-999.0000,9,  -999.0,9,  2389.9,2,   7.5930,2,    25.00, -999.00,9, -999.00,9, -999.00,-999.000,9,  -999.0,9,     -999.0,9,     -999.0,9,          6,     -999.0,9,     -999.0,9,     -999.0,9,     -999.0,9
33RO20180423,        I7N,      12,          1,        107,      11106,2,20180430,       2316,   -26.0117,    54.5000,       5216,  3374.8,   1.6931,  34.7314,2,  34.7410,6,    147.9,2, 171.6400,2,    127.3,2,     33.1,2,     0.00,2,    2.330,2,-999.000,1,-999.000,1,-999.0000,1,  2294.5,2,  2396.8,2,   7.5896,2,    25.00, -999.00,9, -999.00,9, -999.00,-999.000,1,  -999.0,9,     -999.0,1,     -999.0,9,          7,     -999.0,9,     -999.0,9,     -999.0,9,     -999.0,9
33RO20180423,        I7N,      12,          1,        108,      11107,2,20180430,       2316,   -26.0117,    54.5000,       5216,  3075.5,   1.8509,  34.7342,2,  34.7368,2,    144.8,2, 166.9630,2,    125.8,2,     33.3,2,     0.00,2,    2.328,2,-999.000,9,-999.000,9,-999.0000,9,  2293.3,2,  2395.4,2,   7.5860,2,    25.00, -999.00,9, -999.00,9, -999.00,-999.000,9,  -999.0,9,     -999.0,9,     -999.0,9,          8,     -999.0,9,     -999.0,9,     -999.0,9,     -999.0,9
33RO20180423,        I7N,      12,          1,        109,      11108,2,20180430,       2316,   -26.0117,    54.5000,       5216,  2775.5,   2.0141,  34.7378,2,  34.7478,2,    143.5,2, 164.6400,2,    120.8,2,     33.1,2,     0.00,2,    2.320,2,-999.000,9,-999.000,9,-999.0000,9,  -999.0,9,  2391.3,2,   7.5852,2,    25.00, -999.00,9, -999.00,9, -999.00,-999.000,9,  -999.0,9,     -999.0,9,     -999.0,9,          9,     -999.0,9,     -999.0,9,     -999.0,9,     -999.0,9
33RO20180423,        I7N,      12,          1,        110,      11109,2,20180430,       2316,   -26.0117,    54.5000,       5216,  2475.5,   2.1715,  34.7373,2,  34.7405,2,    145.7,2, 165.9610,2,    112.2,2,     32.7,2,     0.00,2,    2.298,2,-999.000,9,-999.000,9,-999.0000,9,  2285.0,2,  2383.4,2,   7.5858,2,    25.00, -999.00,9, -999.00,9, -999.00,-999.000,9,  -999.0,9,     -999.0,9,     -999.0,9,         10,     -999.0,9,     -999.0,9,     -999.0,9,     -999.0,9
33RO20180423,        I7N,      12,          1,        111,      11110,2,20180430,       2316,   -26.0117,    54.5000,       5216,  2174.6,   2.3460,  34.7253,2,  34.8940,2,    150.3,2, 184.8220,4,     53.7,4,     20.5,4,     0.00,4,    1.496,4,-999.000,9,-999.000,9,-999.0000,9,  2182.8,4,  2342.9,4,   7.7429,4,    25.00, -999.00,9, -999.00,9, -999.00,-999.000,9,  -999.0,9,     -999.0,9,     -999.0,9,         11,     -999.0,9,     -999.0,9,     -999.0,9,     -999.0,9
33RO20180423,        I7N,      12,          1,        112,      11111,2,20180430,       2316,   -26.0117,    54.5000,       5216,  1863.8,   2.5761,  34.6833,2,  34.6888,2,    151.7,2, 170.0970,2,     89.0,2,     32.1,2,     0.00,2,    2.243,2,   0.057,6,   0.029,6,        0,6,  2264.1,2,  2360.5,2,   7.5825,2,    25.00, -999.00,9, -999.00,9, -999.00,-999.000,1,  -999.0,9,     -999.0,1,     -999.0,9,         12,     -999.0,9,     -999.0,9,     -999.0,9,     -999.0,9
33RO20180423,        I7N,      12,          1,        113,      11112,2,20180430,       2316,   -26.0117,    54.5000,       5216,  1613.3,   3.0040,  34.6241,2,  34.6286,2,    143.1,2, 159.5870,2,     83.1,2,     33.2,2,     0.00,2,    2.335,2,-999.000,9,-999.000,9,-999.0000,9,  2261.9,2,  -999.0,5,   7.5642,6,    25.00, -999.00,9, -999.00,9, -999.00,-999.000,9,  -999.0,9,     -999.0,9,     -999.0,9,         13,     -999.0,9,     -999.0,9,     -999.0,9,     -999.0,9
33RO20180423,        I7N,      12,          1,        114,      11113,2,20180430,       2316,   -26.0117,    54.5000,       5216,  1362.7,   3.7053,  34.5554,2,  34.5601,2,    136.0,2, 150.6970,2,     73.7,2,     33.7,2,     0.00,2,    2.378,2,-999.000,9,-999.000,9,-999.0000,9,  2257.3,2,  2342.6,6,   7.5530,2,    25.00, -999.00,9, -999.00,9, -999.00,-999.000,9,  -999.0,9,     -999.0,9,     -999.0,9,         14,     -999.0,9,     -999.0,9,     -999.0,9,     -999.0,9
33RO20180423,        I7N,      12,          1,        115,      11114,2,20180430,       2316,   -26.0117,    54.5000,       5216,  1114.1,   4.8685,  34.4489,2,  34.4515,2,    156.3,2, 171.7440,2,     46.6,2,     31.2,2,     0.00,2,    2.172,2,-999.000,9,-999.000,9,-999.0000,9,  2218.7,2,  2316.9,2,   7.5873,2,    25.00, -999.00,9, -999.00,9, -999.00,-999.000,9,  -999.0,9,     -999.0,9,     -999.0,9,         15,     -999.0,9,     -999.0,9,     -999.0,9,     -999.0,9
33RO20180423,        I7N,      12,          1,        116,      11115,2,20180430,       2316,   -26.0117,    54.5000,       5216,   844.6,   8.4954,  34.5966,2,  34.6068,2,    199.6,2, 217.0910,2,      9.6,2,     19.7,2,     0.00,2,    1.402,2,-999.000,9,-999.000,9,-999.0000,9,  2148.7,2,  2293.5,2,   7.7151,2,    25.00, -999.00,9, -999.00,9, -999.00,-999.000,9,  -999.0,9,     -999.0,9,     -999.0,9,         16,     -999.0,9,     -999.0,9,     -999.0,9,     -999.0,9
33RO20180423,        I7N,      12,          1,        117,      11116,2,20180430,       2316,   -26.0117,    54.5000,       5216,   669.3,  10.3240,  34.8224,2,  34.8257,2,    211.8,2, 228.6500,2,      4.8,2,     13.8,2,     0.00,2,    1.045,2,-999.000,9,-999.000,9,-999.0000,9,  2131.5,2,  2286.3,4,   7.7737,2,    25.00, -999.00,9, -999.00,9, -999.00,-999.000,9,  -999.0,9,     -999.0,9,     -999.0,9,         17,     -999.0,9,     -999.0,9,     -999.0,9,     -999.0,9
33RO20180423,        I7N,      12,          1,        118,      11117,2,20180430,       2316,   -26.0117,    54.5000,       5216,   488.7,  12.2019,  35.1032,2,  35.1038,2,    211.7,2, 227.8590,2,      3.4,2,      9.2,2,     0.00,2,    0.785,2,-999.000,9,-999.000,9,-999.0000,9,  2122.9,2,  2319.0,2,   7.8173,2,    25.00, -999.00,9, -999.00,9, -999.00,-999.000,9,  -999.0,9,     -999.0,9,     -999.0,9,         18,     -999.0,9,     -999.0,9,     -999.0,9,     -999.0,9
33RO20180423,        I7N,      12,          1,        119,      11083,2,20180430,       2316,   -26.0117,    54.5000,       5216,   325.5,  14.4822,  35.3999,2,  35.4034,6,    199.3,2, 213.5100,2,      2.8,2,      5.3,2,     0.00,2,    0.556,2,-999.000,9,-999.000,9,-999.0000,9,  2116.1,2,  2329.7,2,   7.8578,2,    25.00, -999.00,9, -999.00,9, -999.00,-999.000,9,  -999.0,9,     -999.0,9,     -999.0,9,         19,     -999.0,9,     -999.0,9,     -999.0,9,     -999.0,9
33RO20180423,        I7N,      12,          1,        120,      11118,2,20180430,       2316,   -26.0117,    54.5000,       5216,   212.8,  17.9824,  35.5855,2,  35.5905,2,    176.3,2, 188.7340,2,      4.0,2,      3.6,2,     0.01,2,    0.402,2,-999.000,9,-999.000,9,-999.0000,9,  2098.8,2,  2335.4,6,   7.9030,2,    25.00, -999.00,9, -999.00,9, -999.00,-999.000,9,  -999.0,9,     -999.0,9,     -999.0,9,         20,     -999.0,9,     -999.0,9,     -999.0,9,     -999.0,9
33RO20180423,        I7N,      12,          1,        121,      11119,2,20180430,       2316,   -26.0117,    54.5000,       5216,   163.0,  19.8835,  35.5357,2,  35.5355,2,    170.0,2, 180.8710,2,      4.0,2,      3.1,2,     0.01,2,    0.350,2,-999.000,9,-999.000,9,-999.0000,9,  2080.6,2,  2331.1,2,   7.9313,6,    25.00, -999.00,9, -999.00,9, -999.00,-999.000,9,  -999.0,9,     -999.0,9,     -999.0,9,         21,     -999.0,9,     -999.0,9,     -999.0,9,     -999.0,9
33RO20180423,        I7N,      12,          1,        122,      11120,2,20180430,       2316,   -26.0117,    54.5000,       5216,   113.8,  21.9891,  35.3554,2,  35.3596,2,    166.0,2, 176.4060,2,      3.7,2,      2.6,2,     0.03,2,    0.327,2,-999.000,9,-999.000,9,-999.0000,9,  2053.2,2,  2315.8,2,   7.9621,2,    25.00, -999.00,9, -999.00,9, -999.00,-999.000,9,  -999.0,9,     -999.0,9,     -999.0,9,         22,     -999.0,9,     -999.0,9,     -999.0,9,     -999.0,9
33RO20180423,        I7N,      12,          1,        123,      11121,2,20180430,       2316,   -26.0117,    54.5000,       5216,    61.0,  25.3200,  35.1732,2,  35.1763,2,    194.5,2, 206.3090,2,      1.9,2,      0.0,2,     0.00,2,    0.050,2,-999.000,9,-999.000,9,-999.0000,9,  1989.4,2,  2306.5,2,   8.0570,2,    25.00, -999.00,9, -999.00,9, -999.00,-999.000,9,  -999.0,9,     -999.0,9,     -999.0,9,         23,     -999.0,9,     -999.0,9,     -999.0,9,     -999.0,9
33RO20180423,        I7N,      12,          1,        124,      11122,2,20180430,       2316,   -26.0117,    54.5000,       5216,     3.5,  25.3177,  35.1732,2,  35.1765,2,    194.8,2, 206.3820,2,      1.8,2,      0.0,2,     0.00,2,    0.076,2,   1.601,2,   1.016,2,   1.4998,2,  1989.9,6,  2305.2,2,   8.0584,2,    25.00, -999.00,9, -999.00,9, -999.00,-999.000,1,  -999.0,9,     -999.0,1,     -999.0,9,         24,     -999.0,9,     -999.0,9,     -999.0,9,     -999.0,9