BOTTLE,20230801CCHSIOCBG
EXPOCODE,SECT_ID,STNNBR,CASTNO,SAMPNO,BTLNBR,BTLNBR_FLAG_W,DATE,TIME,LATITUDE,LONGITUDE,DEPTH,CTDPRS,CTDTMP,CTDSAL,CTDSAL_FLAG_W,SALNTY,SALNTY_FLAG_W,CTDOXY,CTDOXY_FLAG_W,OXYGEN,OXYGEN_FLAG_W,SILCAT,SILCAT_FLAG_W,NITRAT,NITRAT_FLAG_W,NITRIT,NITRIT_FLAG_W,PHSPHT,PHSPHT_FLAG_W,CFC-11,CFC-11_FLAG_W,CFC-12,CFC-12_FLAG_W,SF6,SF6_FLAG_W,TCARBN,TCARBN_FLAG_W,ALKALI,ALKALI_FLAG_W,PH_SWS,PH_SWS_FLAG_W,PH_TMP,DELC13,DELC13_FLAG_W,DELC14,DELC14_FLAG_W,C14ERR,CCL4,CCL4_FLAG_W,DOC,DOC_FLAG_W,N2O,N2O_FLAG_W,CALCIUM,CALCIUM_FLAG_W,SAMPNO_U,DNSSAL,DNSSAL_FLAG_W,DNSSAL2,DNSSAL2_FLAG_W,SALNTY_DNSSAL,SALNTY_DNSSAL_FLAG_W,SALNTY_DNSSAL2,SALNTY_DNSSAL2_FLAG_W
,,,,,,,,,,,METERS,DBAR,ITS-90,PSS-78,,PSS-78,,UMOL/KG,,UMOL/KG,,UMOL/KG,,UMOL/KG,,UMOL/KG,,UMOL/KG,,PMOL/KG,,PMOL/KG,,FMOL/KG,,UMOL/KG,,UMOL/KG,,,,DEG C,/MILLE,,/MILLE,,/MILLE,PMOL/KG,,UMOL/KG,,NMOL/KG,,MMOL/KG,,,G/KG,,G/KG,,PSS-78,,PSS-78,
33RO20180423,        I7N,     106,          1,        101,      11010,2,20180530,       0931,    12.1277,    64.6678,       4207,  4260.2,   1.7198,  34.7339,2,  34.7396,2,    126.3,2, 145.8470,2,    144.2,6,     36.0,6,     0.01,6,    2.509,6,   0.009,2,   0.005,2,        0,2,  2344.8,6,  2366.5,4,   7.5976,6,    25.00, -999.00,9, -999.00,9, -999.00,-999.000,1,  -999.0,9,     -999.0,1,     -999.0,9,          1,     -999.0,9,     -999.0,9,     -999.0,9,     -999.0,9
33RO20180423,        I7N,     106,          1,        102,      11101,2,20180530,       0931,    12.1277,    64.6678,       4207,  4037.7,   1.7100,  34.7345,2,  34.7361,2,    124.3,2, 142.8910,2,    144.7,6,     36.2,6,     0.00,6,    2.530,6,   0.006,2,   0.005,2,   0.0035,2,  2347.4,2,  2448.7,6,   7.5914,2,    25.00, -999.00,9, -999.00,9, -999.00,-999.000,1,  -999.0,9,     -999.0,1,     -999.0,9,          2,     -999.0,9,     -999.0,9,     -999.0,9,     -999.0,9
33RO20180423,        I7N,     106,          1,        103,      11102,2,20180530,       0931,    12.1277,    64.6678,       4207,  3800.0,   1.6987,  34.7356,2,  34.7385,2,    132.7,2, 153.5390,2,    140.8,6,     35.4,6,     0.00,6,    2.487,6,   0.000,2,   0.002,2,        0,2,  2326.2,2,  2432.4,2,   7.5869,2,    25.00, -999.00,9, -999.00,9, -999.00,-999.000,1,  -999.0,9,     -999.0,1,     -999.0,9,          3,     -999.0,9,     -999.0,9,     -999.0,9,     -999.0,9
33RO20180423,        I7N,     106,          1,        104,      11103,2,20180530,       0931,    12.1277,    64.6678,       4207,  3500.1,   1.7065,  34.7372,2,  34.7485,2,    130.9,2, 150.8040,2,    140.8,6,     35.4,6,     0.00,6,    2.490,6,   0.002,2,   0.002,2,   0.0071,2,  2326.0,2,  2430.4,2,   7.5827,2,    25.00, -999.00,9, -999.00,9, -999.00,-999.000,1,  -999.0,9,     -999.0,1,     -999.0,9,          4,     -999.0,9,     -999.0,9,     -999.0,9,     -999.0,9
33RO20180423,        I7N,     106,          1,        105,      11104,2,20180530,       0931,    12.1277,    64.6678,       4207,  3199.6,   1.7415,  34.7405,2,  34.7430,2,    127.7,2, 146.3275,2,    141.5,2,     35.7,2,     0.00,2,    2.512,2,   0.001,2,   0.003,2,   0.0068,2,  2327.3,2,  2428.6,2,   7.5744,2,    25.00, -999.00,9, -999.00,9, -999.00,-999.000,1,  -999.0,9,     -999.0,1,     -999.0,9,          5,     -999.0,9,     -999.0,9,     -999.0,9,     -999.0,9
33RO20180423,        I7N,     106,          1,        106,      11105,2,20180530,       0931,    12.1277,    64.6678,       4207,  2900.6,   1.8212,  34.7460,2,  34.7532,2,    122.6,2, 139.7020,2,    141.6,2,     35.9,2,     0.00,2,    2.546,2,   0.000,6,   0.002,6,   0.0029,6,  2332.6,2,  2430.2,2,   7.5659,2,    25.00, -999.00,9, -999.00,9, -999.00,-999.000,1,  -999.0,9,     -999.0,1,     -999.0,9,          6,     -999.0,9,     -999.0,9,     -999.0,9,     -999.0,9
33RO20180423,        I7N,     106,          1,        107,      11106,2,20180530,       0931,    12.1277,    64.6678,       4207,  2601.1,   2.0491,  34.7617,2,  34.7675,2,    111.3,2, 137.3240,4,    142.3,2,     36.5,2,     0.00,2,    2.609,2,   0.001,2,   0.004,2,   0.0058,2,  2340.8,2,  2428.4,2,   7.5499,2,    25.00, -999.00,9, -999.00,9, -999.00,-999.000,1,  -999.0,9,     -999.0,1,     -999.0,9,          7,     -999.0,9,     -999.0,9,     -999.0,9,     -999.0,9
33RO20180423,        I7N,     106,          1,        108,      11107,2,20180530,       0931,    12.1277,    64.6678,       4207,  2300.9,   2.3797,  34.7798,2,  34.7980,2,    106.9,2, 121.3150,2,    136.7,2,     36.6,2,     0.00,2,    2.631,2,   0.000,2,   0.000,2,        0,2,  2335.0,2,  2417.7,2,   7.5388,2,    25.00, -999.00,9, -999.00,9, -999.00,-999.000,1,  -999.0,9,     -999.0,1,     -999.0,9,          8,     -999.0,9,     -999.0,9,     -999.0,9,     -999.0,9
33RO20180423,        I7N,     106,          1,        109,      11108,2,20180530,       0931,    12.1277,    64.6678,       4207,  1999.9,   2.9590,  34.8170,2,  34.8192,2,     92.0,2, 103.6660,2,    130.9,2,     37.2,2,     0.00,2,    2.712,2,   0.000,2,   0.002,2,        0,2,  2338.5,2,  2412.9,2,   7.5168,6,    25.00, -999.00,9, -999.00,9, -999.00,-999.000,1,  -999.0,9,     -999.0,1,     -999.0,9,          9,     -999.0,9,     -999.0,9,     -999.0,9,     -999.0,9
33RO20180423,        I7N,     106,          1,        110,      11109,2,20180530,       0931,    12.1277,    64.6678,       4207,  1716.8,   3.9882,  34.8969,2,  34.9002,2,     69.1,2,  77.8720,2,    120.7,2,     37.9,2,     0.00,2,    2.813,2,   0.003,2,   0.004,2,   0.0054,2,  2338.4,6,  2407.4,2,   7.4887,2,    25.00, -999.00,9, -999.00,9, -999.00,-999.000,1,  -999.0,9,     -999.0,1,     -999.0,9,         10,     -999.0,9,     -999.0,9,     -999.0,9,     -999.0,9
33RO20180423,        I7N,     106,          1,        111,      11110,2,20180530,       0931,    12.1277,    64.6678,       4207,  1467.8,   5.2228,  34.9998,2,  35.0023,2,     50.2,2,  57.1170,2,    106.8,2,     38.1,2,     0.00,2,    2.868,2,   0.013,2,   0.011,2,   0.0009,2,  2331.6,2,  2394.4,2,   7.4682,2,    25.00, -999.00,9, -999.00,9, -999.00,-999.000,1,  -999.0,9,     -999.0,1,     -999.0,9,         11,     -999.0,9,     -999.0,9,     -999.0,9,     -999.0,9
33RO20180423,        I7N,     106,          1,        112,      11111,2,20180530,       0931,    12.1277,    64.6678,       4207,  1231.9,   6.7905,  35.1497,2,  35.1535,2,     28.4,2,  33.0640,2,     90.7,2,     37.9,2,     0.00,2,    2.893,2,   0.034,2,   0.022,2,   0.0102,2,  2323.9,2,  2381.1,6,   7.4510,2,    25.00, -999.00,9, -999.00,9, -999.00,-999.000,1,  -999.0,9,     -999.0,1,     -999.0,9,         12,     -999.0,9,     -999.0,9,     -999.0,9,     -999.0,9
33RO20180423,        I7N,     106,          1,        113,      11112,2,20180530,       0931,    12.1277,    64.6678,       4207,  1033.1,   7.7701,  35.2055,2,  35.2084,2,     17.8,2,  21.0510,2,     80.9,2,     37.6,2,     0.00,2,    2.891,2,   0.036,3,   0.025,3,   0.0027,3,  2317.1,2,  2366.8,2,   7.4425,2,    25.00, -999.00,9, -999.00,9, -999.00,-999.000,1,  -999.0,9,     -999.0,1,     -999.0,9,         13,     -999.0,9,     -999.0,9,     -999.0,9,     -999.0,9
33RO20180423,        I7N,     106,          1,        114,      11113,2,20180530,       0931,    12.1277,    64.6678,       4207,   850.0,   9.2005,  35.3570,2,  35.3601,2,     10.2,2,  13.0430,2,     67.8,2,     36.3,2,     0.00,2,    2.805,2,   0.103,2,   0.064,2,   0.0341,2,  2302.5,2,  2359.1,2,   7.4525,2,    25.00, -999.00,9, -999.00,9, -999.00,-999.000,1,  -999.0,9,     -999.0,1,     -999.0,9,         14,     -999.0,9,     -999.0,9,     -999.0,9,     -999.0,9
33RO20180423,        I7N,     106,          1,        115,      11114,2,20180530,       0931,    12.1277,    64.6678,       4207,   700.4,  10.2151,  35.4145,2,  35.4172,2,      8.9,2,  11.7040,2,     56.8,2,     34.7,2,     0.01,2,    2.716,2,   0.188,2,   0.118,2,   0.0566,2,  2292.8,2,  2350.1,2,   7.4599,2,    25.00, -999.00,9, -999.00,9, -999.00,-999.000,1,  -999.0,9,     -999.0,1,     -999.0,9,         15,     -999.0,9,     -999.0,9,     -999.0,9,     -999.0,9
33RO20180423,        I7N,     106,          1,        116,      11115,2,20180530,       0931,    12.1277,    64.6678,       4207,   550.4,  11.4035,  35.4918,2,  35.4960,6,      4.7,2,   7.7870,2,     44.9,2,     32.2,2,     0.00,2,    2.618,2,   0.353,2,   0.223,2,    0.076,2,  2281.8,2,  2344.9,2,   7.4638,2,    25.00, -999.00,9, -999.00,9, -999.00,-999.000,1,  -999.0,9,     -999.0,1,     -999.0,9,         16,     -999.0,9,     -999.0,9,     -999.0,9,     -999.0,9
33RO20180423,        I7N,     106,          1,        117,      11116,2,20180530,       0931,    12.1277,    64.6678,       4207,   418.1,  11.9917,  35.3870,2,  35.3977,2,      3.1,2,   5.2340,2,     36.1,2,     31.9,2,     0.00,2,    2.526,2,   0.619,6,   0.374,6,   0.1662,6,  2275.6,2,  2334.2,2,   7.4517,2,    25.00, -999.00,9, -999.00,9, -999.00,-999.000,1,  -999.0,9,     -999.0,1,     -999.0,9,         17,     -999.0,9,     -999.0,9,     -999.0,9,     -999.0,9
33RO20180423,        I7N,     106,          1,        118,      11117,2,20180530,       0931,    12.1277,    64.6678,       4207,   325.5,  12.7674,  35.3689,2,  35.3706,2,      1.4,2,   3.1290,2,     30.7,2,     30.5,2,     0.00,2,    2.422,2,   0.863,2,   0.526,2,   0.2372,2,  2273.5,2,  2329.5,2,   7.4493,2,    25.00, -999.00,9, -999.00,9, -999.00,-999.000,1,  -999.0,9,     -999.0,1,     -999.0,9,         18,     -999.0,9,     -999.0,9,     -999.0,9,     -999.0,9
33RO20180423,        I7N,     106,          1,        119,      11083,2,20180530,       0931,    12.1277,    64.6678,       4207,   250.1,  14.0189,  35.4280,2,  35.4256,2,      2.7,2,   4.9280,2,     26.6,2,     27.8,2,     0.01,2,    2.339,2,   1.101,2,   0.684,2,   0.3747,2,  2263.7,2,  -999.0,5,   7.4773,2,    25.00, -999.00,9, -999.00,9, -999.00,-999.000,1,  -999.0,9,     -999.0,1,     -999.0,9,         19,     -999.0,9,     -999.0,9,     -999.0,9,     -999.0,9
33RO20180423,        I7N,     106,          1,        120,      11118,2,20180530,       0931,    12.1277,    64.6678,       4207,   183.5,  17.5480,  35.7597,2,  35.7636,2,      0.2,2,   3.0990,2,     22.6,2,     17.2,2,     4.04,2,    2.340,2,   1.071,2,   0.796,2,   0.5617,2,  2259.4,6,  2343.3,2,   7.5324,2,    25.00, -999.00,9, -999.00,9, -999.00,-999.000,1,  -999.0,9,     -999.0,1,     -999.0,9,         20,     -999.0,9,     -999.0,9,     -999.0,9,     -999.0,9
33RO20180423,        I7N,     106,          1,        121,      11119,2,20180530,       0931,    12.1277,    64.6678,       4207,   133.3,  21.2180,  35.8522,2,  35.8536,2,     19.1,2,  22.4210,2,     12.4,2,     24.5,2,     0.03,2,    1.918,2,   1.524,2,   0.960,2,   1.0567,2,  2210.2,2,  2335.7,4,   7.6505,2,    25.00, -999.00,9, -999.00,9, -999.00,-999.000,1,  -999.0,9,     -999.0,1,     -999.0,9,         21,     -999.0,9,     -999.0,9,     -999.0,9,     -999.0,9
33RO20180423,        I7N,     106,          1,        122,      11120,2,20180530,       0931,    12.1277,    64.6678,       4207,    83.7,  25.7207,  36.3044,2,  36.3025,2,    151.7,2, 158.4080,2,      3.0,2,      4.8,2,     0.92,2,    0.680,2,   1.549,2,   0.982,2,    1.384,2,  2094.9,2,  2370.9,6,   7.9671,2,    25.00, -999.00,9, -999.00,9, -999.00,-999.000,1,  -999.0,9,     -999.0,1,     -999.0,9,         22,     -999.0,9,     -999.0,9,     -999.0,9,     -999.0,9
33RO20180423,        I7N,     106,          1,        123,      11121,2,20180530,       0931,    12.1277,    64.6678,       4207,    35.5,  29.0632,  36.2873,2,  36.3141,2,    198.9,2, 208.9080,2,      1.3,2,      0.0,2,     0.01,2,    0.217,2,   1.461,2,   0.942,2,   1.4345,2,  2030.9,2,  2378.2,2,   8.0783,2,    25.00, -999.00,9, -999.00,9, -999.00,-999.000,1,  -999.0,9,     -999.0,1,     -999.0,9,         23,     -999.0,9,     -999.0,9,     -999.0,9,     -999.0,9
33RO20180423,        I7N,     106,          1,        124,      11122,2,20180530,       0931,    12.1277,    64.6678,       4207,     4.7,  30.1501,  35.5208,2,  35.5224,2,    181.3,2, 189.6900,2,      1.4,2,      0.0,2,     0.00,2,    0.118,2,   1.290,2,   0.857,2,   1.3209,2,  1986.6,2,  2335.4,3,   8.0943,6,    25.00, -999.00,9, -999.00,9, -999.00,-999.000,1,  -999.0,9,     -999.0,1,     -999.0,9,         24,     -999.0,9,     -999.0,9,     -999.0,9,     -999.0,9