BOTTLE,20230801CCHSIOCBG
EXPOCODE,SECT_ID,STNNBR,CASTNO,SAMPNO,BTLNBR,BTLNBR_FLAG_W,DATE,TIME,LATITUDE,LONGITUDE,DEPTH,CTDPRS,CTDTMP,CTDSAL,CTDSAL_FLAG_W,SALNTY,SALNTY_FLAG_W,CTDOXY,CTDOXY_FLAG_W,OXYGEN,OXYGEN_FLAG_W,SILCAT,SILCAT_FLAG_W,NITRAT,NITRAT_FLAG_W,NITRIT,NITRIT_FLAG_W,PHSPHT,PHSPHT_FLAG_W,CFC-11,CFC-11_FLAG_W,CFC-12,CFC-12_FLAG_W,SF6,SF6_FLAG_W,TCARBN,TCARBN_FLAG_W,ALKALI,ALKALI_FLAG_W,PH_SWS,PH_SWS_FLAG_W,PH_TMP,DELC13,DELC13_FLAG_W,DELC14,DELC14_FLAG_W,C14ERR,CCL4,CCL4_FLAG_W,DOC,DOC_FLAG_W,N2O,N2O_FLAG_W,CALCIUM,CALCIUM_FLAG_W,SAMPNO_U,DNSSAL,DNSSAL_FLAG_W,DNSSAL2,DNSSAL2_FLAG_W,SALNTY_DNSSAL,SALNTY_DNSSAL_FLAG_W,SALNTY_DNSSAL2,SALNTY_DNSSAL2_FLAG_W
,,,,,,,,,,,METERS,DBAR,ITS-90,PSS-78,,PSS-78,,UMOL/KG,,UMOL/KG,,UMOL/KG,,UMOL/KG,,UMOL/KG,,UMOL/KG,,PMOL/KG,,PMOL/KG,,FMOL/KG,,UMOL/KG,,UMOL/KG,,,,DEG C,/MILLE,,/MILLE,,/MILLE,PMOL/KG,,UMOL/KG,,NMOL/KG,,MMOL/KG,,,G/KG,,G/KG,,PSS-78,,PSS-78,
33RO20180423,        I7N,      67,          1,        101,      11010,2,20180520,       0406,    -3.2358,    55.9960,       3903,  3903.5,   1.5236,  34.7262,2,  34.7264,2,    151.9,2, 173.4640,2,    132.6,6,     34.1,6,     0.00,6,    2.342,6,   0.008,2,   0.005,2,   0.0197,2,  2302.9,2,  2405.5,2,   7.5959,6,    25.00, -999.00,9, -999.00,9, -999.00,-999.000,1,  -999.0,9,     -999.0,1,     -999.0,9,          1,     -999.0,9,     -999.0,9,     -999.0,9,     -999.0,9
33RO20180423,        I7N,      67,          1,        102,      11101,2,20180520,       0406,    -3.2358,    55.9960,       3903,  3762.2,   1.5435,  34.7272,2,  34.7637,2,    150.8,2, 171.9920,2,    132.2,6,     34.1,6,     0.00,6,    2.350,6,-999.000,9,-999.000,9,-999.0000,9,  2301.8,2,  2406.4,6,   7.5940,2,    25.00, -999.00,9, -999.00,9, -999.00,-999.000,9,  -999.0,9,     -999.0,9,     -999.0,9,          2,     -999.0,9,     -999.0,9,     -999.0,9,     -999.0,9
33RO20180423,        I7N,      67,          1,        103,      11102,2,20180520,       0406,    -3.2358,    55.9960,       3903,  3599.9,   1.6034,  34.7294,2,  34.7328,6,    148.3,2, 169.2070,2,    131.8,6,     34.1,6,     0.00,6,    2.362,6,-999.000,9,-999.000,9,-999.0000,9,  2300.6,2,  2407.0,2,   7.5915,2,    25.00, -999.00,9, -999.00,9, -999.00,-999.000,9,    39.4,3,     -999.0,9,     -999.0,9,          3,     -999.0,9,     -999.0,9,     -999.0,9,     -999.0,9
33RO20180423,        I7N,      67,          1,        104,      11103,2,20180520,       0406,    -3.2358,    55.9960,       3903,  3300.4,   1.6810,  34.7319,2,  34.7335,2,    146.0,2, 166.9940,2,    130.6,6,     34.3,6,     0.00,6,    2.371,6,-999.000,9,-999.000,9,-999.0000,9,  -999.0,9,  -999.0,9,   7.5899,2,    25.00, -999.00,9, -999.00,9, -999.00,-999.000,9,  -999.0,9,     -999.0,9,     -999.0,9,          4,     -999.0,9,     -999.0,9,     -999.0,9,     -999.0,9
33RO20180423,        I7N,      67,          1,        105,      11104,2,20180520,       0406,    -3.2358,    55.9960,       3903,  3000.5,   1.7397,  34.7315,2,  34.7328,2,    147.0,2, 167.0820,2,    126.4,6,     34.1,6,     0.00,6,    2.342,6,-999.000,9,-999.000,9,-999.0000,9,  -999.0,9,  -999.0,9,   7.5890,2,    25.00, -999.00,9, -999.00,9, -999.00,-999.000,9,    41.7,3,     -999.0,9,     -999.0,9,          5,     -999.0,9,     -999.0,9,     -999.0,9,     -999.0,9
33RO20180423,        I7N,      67,          1,        106,      11105,2,20180520,       0406,    -3.2358,    55.9960,       3903,  2700.1,   1.8751,  34.7392,2,  34.7400,2,    140.4,2, 158.8570,2,    127.5,2,     34.5,2,     0.00,2,    2.388,2,-999.000,9,-999.000,9,-999.0000,9,  2304.0,2,  2403.2,2,   7.5806,2,    25.00, -999.00,9, -999.00,9, -999.00,-999.000,9,  -999.0,9,     -999.0,9,     -999.0,9,          6,     -999.0,9,     -999.0,9,     -999.0,9,     -999.0,9
33RO20180423,        I7N,      67,          1,        107,      11106,2,20180520,       0406,    -3.2358,    55.9960,       3903,  2400.6,   2.1510,  34.7471,2,  34.7622,2,    133.8,2, 152.7200,2,    124.5,2,     34.8,2,     0.00,2,    2.417,2,-999.000,9,-999.000,9,-999.0000,9,  -999.0,9,  -999.0,9,   7.5716,2,    25.00, -999.00,9, -999.00,9, -999.00,-999.000,9,    43.5,3,     -999.0,9,     -999.0,9,          7,     -999.0,9,     -999.0,9,     -999.0,9,     -999.0,9
33RO20180423,        I7N,      67,          1,        108,      11107,2,20180520,       0406,    -3.2358,    55.9960,       3903,  2100.0,   2.5144,  34.7579,2,  34.7691,2,    124.8,2, 140.7770,2,    120.7,2,     35.3,2,     0.00,2,    2.462,2,-999.000,9,-999.000,9,-999.0000,9,  -999.0,9,  -999.0,9,   7.5596,2,    25.00, -999.00,9, -999.00,9, -999.00,-999.000,9,    46.8,3,     -999.0,9,     -999.0,9,          8,     -999.0,9,     -999.0,9,     -999.0,9,     -999.0,9
33RO20180423,        I7N,      67,          1,        109,      11108,2,20180520,       0406,    -3.2358,    55.9960,       3903,  1799.2,   3.2016,  34.7711,2,  34.7799,2,    112.3,2, 126.0830,2,    111.9,2,     35.6,2,     0.01,2,    2.502,2,   0.009,2,   0.006,2,   0.0051,2,  2301.7,2,  2388.7,2,   7.5431,2,    25.00, -999.00,9, -999.00,9, -999.00,-999.000,1,    47.6,3,     -999.0,1,     -999.0,9,          9,     -999.0,9,     -999.0,9,     -999.0,9,     -999.0,9
33RO20180423,        I7N,      67,          1,        110,      11109,2,20180520,       0406,    -3.2358,    55.9960,       3903,  1549.9,   4.1491,  34.8125,2,  34.8256,2,     91.7,2, 101.6380,2,    104.1,2,     36.4,2,     0.00,2,    2.601,2,-999.000,9,-999.000,9,-999.0000,9,  2306.0,2,  2381.4,2,   7.5174,2,    25.00, -999.00,9, -999.00,9, -999.00,-999.000,9,  -999.0,9,     -999.0,9,     -999.0,9,         10,     -999.0,9,     -999.0,9,     -999.0,9,     -999.0,9
33RO20180423,        I7N,      67,          1,        111,      11110,2,20180520,       0406,    -3.2358,    55.9960,       3903,  1300.1,   5.2997,  34.8906,2,  34.9086,2,     68.7,2,  76.0610,2,     94.7,2,     36.9,2,     0.00,2,    2.670,2,-999.000,9,-999.000,9,-999.0000,9,  2305.0,2,  2376.2,2,   7.4937,2,    25.00, -999.00,9, -999.00,9, -999.00,-999.000,9,  -999.0,9,     -999.0,9,     -999.0,9,         11,     -999.0,9,     -999.0,9,     -999.0,9,     -999.0,9
33RO20180423,        I7N,      67,          1,        112,      11111,2,20180520,       0406,    -3.2358,    55.9960,       3903,   999.8,   6.4739,  34.9626,2,  34.9702,2,     54.3,2,  60.1470,2,     83.2,2,     36.8,2,     0.00,2,    2.674,2,   0.076,2,   0.043,2,   0.0075,2,  2298.6,2,  2365.0,2,   7.4824,2,    25.00, -999.00,9, -999.00,9, -999.00,-999.000,1,  -999.0,9,     -999.0,1,     -999.0,9,         12,     -999.0,9,     -999.0,9,     -999.0,9,     -999.0,9
33RO20180423,        I7N,      67,          1,        113,      11112,2,20180520,       0406,    -3.2358,    55.9960,       3903,   899.9,   6.9059,  34.9473,2,  34.9509,2,     56.2,2,  61.6460,2,     76.2,2,     36.1,2,     0.00,2,    2.624,2,-999.000,9,-999.000,9,-999.0000,9,  2288.9,2,  2358.0,2,   7.4880,6,    25.00, -999.00,9, -999.00,9, -999.00,-999.000,9,    48.5,3,     -999.0,9,     -999.0,9,         13,     -999.0,9,     -999.0,9,     -999.0,9,     -999.0,9
33RO20180423,        I7N,      67,          1,        114,      11113,2,20180520,       0406,    -3.2358,    55.9960,       3903,   750.0,   7.5583,  34.8416,2,  34.8468,2,     69.0,2,  75.4320,2,     61.9,2,     34.6,2,     0.00,2,    2.451,2,-999.000,9,-999.000,9,-999.0000,9,  2264.5,2,  2346.4,2,   7.5110,2,    25.00, -999.00,9, -999.00,9, -999.00,-999.000,9,  -999.0,9,     -999.0,9,     -999.0,9,         14,     -999.0,9,     -999.0,9,     -999.0,9,     -999.0,9
33RO20180423,        I7N,      67,          1,        115,      11114,2,20180520,       0406,    -3.2358,    55.9960,       3903,   600.9,   8.6656,  34.8564,2,  34.8609,2,     82.1,2,  88.5240,2,     44.2,2,     31.7,2,     0.00,2,    2.222,2,   0.903,6,   0.477,6,   0.2148,6,  2237.6,2,  2322.8,2,   7.5454,2,    25.00, -999.00,9, -999.00,9, -999.00,-999.000,1,    47.6,3,     -999.0,1,     -999.0,9,         15,     -999.0,9,     -999.0,9,     -999.0,9,     -999.0,9
33RO20180423,        I7N,      67,          1,        116,      11115,2,20180520,       0406,    -3.2358,    55.9960,       3903,   450.1,   9.7525,  34.8917,2,  34.8949,6,    112.7,2, 120.7470,2,     27.3,2,     26.7,2,     0.00,2,    1.838,2,-999.000,9,-999.000,9,-999.0000,9,  2205.7,2,  2311.7,2,   7.6106,2,    25.00, -999.00,9, -999.00,9, -999.00,-999.000,9,    48.2,3,     -999.0,9,     -999.0,9,         16,     -999.0,9,     -999.0,9,     -999.0,9,     -999.0,9
33RO20180423,        I7N,      67,          1,        117,      11116,2,20180520,       0406,    -3.2358,    55.9960,       3903,   311.6,  11.4659,  34.9949,2,  35.0022,2,    133.4,2, 141.9160,2,     17.1,2,     20.9,2,     0.00,2,    1.446,2,   2.367,2,   1.310,2,   0.8537,2,  2177.3,2,  2311.0,2,   7.6808,2,    25.00, -999.00,9, -999.00,9, -999.00,-999.000,1,    51.2,3,     -999.0,1,     -999.0,9,         17,     -999.0,9,     -999.0,9,     -999.0,9,     -999.0,9
33RO20180423,        I7N,      67,          1,        118,      11117,2,20180520,       0406,    -3.2358,    55.9960,       3903,   275.2,  12.7075,  35.1049,2,  35.1093,2,    116.3,2, 124.2540,2,     16.7,2,     20.6,2,     0.00,2,    1.444,2,-999.000,9,-999.000,9,-999.0000,9,  2179.5,2,  2314.9,2,   7.6788,2,    25.00, -999.00,9, -999.00,9, -999.00,-999.000,9,  -999.0,9,     -999.0,9,     -999.0,9,         18,     -999.0,9,     -999.0,9,     -999.0,9,     -999.0,9
33RO20180423,        I7N,      67,          1,        119,      11083,2,20180520,       0406,    -3.2358,    55.9960,       3903,   201.7,  14.1549,  35.1789,2,  35.1822,2,    110.6,2, 117.1730,2,     15.4,2,     19.2,2,     0.00,2,    1.362,2,   2.177,2,   1.251,2,    0.975,2,  -999.0,9,  -999.0,9,   7.6985,2,    25.00, -999.00,9, -999.00,9, -999.00,-999.000,1,    48.4,3,     -999.0,1,     -999.0,9,         19,     -999.0,9,     -999.0,9,     -999.0,9,     -999.0,9
33RO20180423,        I7N,      67,          1,        120,      11118,2,20180520,       0406,    -3.2358,    55.9960,       3903,   160.6,  14.9815,  35.2014,2,  35.2082,2,     91.5,2,  97.4000,2,     15.9,2,     20.5,2,     0.01,2,    1.442,2,-999.000,9,-999.000,9,-999.0000,9,  2177.9,2,  2315.9,2,   7.6829,2,    25.00, -999.00,9, -999.00,9, -999.00,-999.000,9,  -999.0,9,     -999.0,9,     -999.0,9,         20,     -999.0,9,     -999.0,9,     -999.0,9,     -999.0,9
33RO20180423,        I7N,      67,          1,        121,      11119,2,20180520,       0406,    -3.2358,    55.9960,       3903,   113.3,  16.5022,  35.2500,2,  35.2521,2,     85.4,2,  90.9450,2,     14.8,2,     19.8,2,     0.02,2,    1.407,2,   1.943,2,   1.143,2,   0.9471,2,  2169.3,2,  2315.0,2,   7.7023,2,    25.00, -999.00,9, -999.00,9, -999.00,-999.000,1,    47.2,3,     -999.0,1,     -999.0,9,         21,     -999.0,9,     -999.0,9,     -999.0,9,     -999.0,9
33RO20180423,        I7N,      67,          1,        122,      11120,2,20180520,       0406,    -3.2358,    55.9960,       3903,    80.6,  18.6943,  35.3662,2,  35.3741,2,    113.1,2, 119.2480,2,     11.8,2,     14.8,2,     0.05,2,    1.095,2,-999.000,9,-999.000,9,-999.0000,9,  2134.1,2,  2321.8,6,   7.7975,2,    25.00, -999.00,9, -999.00,9, -999.00,-999.000,9,    45.3,3,     -999.0,9,     -999.0,9,         22,     -999.0,9,     -999.0,9,     -999.0,9,     -999.0,9
33RO20180423,        I7N,      67,          1,        123,      11121,2,20180520,       0406,    -3.2358,    55.9960,       3903,    38.4,  26.4232,  35.4356,2,-999.0000,9,    176.5,2,-999.0000,9,-999.0000,9,-999.0000,9,-999.0000,9,-999.0000,9,-999.000,9,-999.000,9,-999.0000,9,  -999.0,9,  -999.0,9,-999.0000,9,  -999.00, -999.00,9, -999.00,9, -999.00,-999.000,9,    67.2,3,     -999.0,9,     -999.0,9,         23,     -999.0,9,     -999.0,9,     -999.0,9,     -999.0,9
33RO20180423,        I7N,      67,          1,        124,      11122,2,20180520,       0406,    -3.2358,    55.9960,       3903,     3.2,  29.0246,  35.4177,2,  35.4226,2,    185.6,2, 193.9920,2,      2.0,2,      0.0,2,     0.00,2,    0.149,2,   1.422,2,   0.903,2,   1.4053,2,  1994.0,6,  2320.0,2,   8.0658,6,    25.00, -999.00,9, -999.00,9, -999.00,-999.000,1,  -999.0,9,     -999.0,1,     -999.0,9,         24,     -999.0,9,     -999.0,9,     -999.0,9,     -999.0,9