BOTTLE,20230801CCHSIOCBG
EXPOCODE,SECT_ID,STNNBR,CASTNO,SAMPNO,BTLNBR,BTLNBR_FLAG_W,DATE,TIME,LATITUDE,LONGITUDE,DEPTH,CTDPRS,CTDTMP,CTDSAL,CTDSAL_FLAG_W,SALNTY,SALNTY_FLAG_W,CTDOXY,CTDOXY_FLAG_W,OXYGEN,OXYGEN_FLAG_W,SILCAT,SILCAT_FLAG_W,NITRAT,NITRAT_FLAG_W,NITRIT,NITRIT_FLAG_W,PHSPHT,PHSPHT_FLAG_W,CFC-11,CFC-11_FLAG_W,CFC-12,CFC-12_FLAG_W,SF6,SF6_FLAG_W,TCARBN,TCARBN_FLAG_W,ALKALI,ALKALI_FLAG_W,PH_SWS,PH_SWS_FLAG_W,PH_TMP,DELC13,DELC13_FLAG_W,DELC14,DELC14_FLAG_W,C14ERR,CCL4,CCL4_FLAG_W,DOC,DOC_FLAG_W,N2O,N2O_FLAG_W,CALCIUM,CALCIUM_FLAG_W,SAMPNO_U,DNSSAL,DNSSAL_FLAG_W,DNSSAL2,DNSSAL2_FLAG_W,SALNTY_DNSSAL,SALNTY_DNSSAL_FLAG_W,SALNTY_DNSSAL2,SALNTY_DNSSAL2_FLAG_W
,,,,,,,,,,,METERS,DBAR,ITS-90,PSS-78,,PSS-78,,UMOL/KG,,UMOL/KG,,UMOL/KG,,UMOL/KG,,UMOL/KG,,UMOL/KG,,PMOL/KG,,PMOL/KG,,FMOL/KG,,UMOL/KG,,UMOL/KG,,,,DEG C,/MILLE,,/MILLE,,/MILLE,PMOL/KG,,UMOL/KG,,NMOL/KG,,MMOL/KG,,,G/KG,,G/KG,,PSS-78,,PSS-78,
33RO20180423,        I7N,      89,          1,        101,      11010,2,20180525,       1950,     4.7785,    59.8733,       4351,  4420.9,   1.5908,  34.7280,2,  34.7284,2,    148.3,2, 170.8770,2,    133.8,6,     34.3,6,     0.00,6,    2.402,6,   0.009,2,   0.005,2,        0,2,  2301.4,6,  2407.8,2,   7.5954,2,    25.00, -999.00,9, -999.00,9, -999.00,-999.000,1,  -999.0,9,     -999.0,1,     -999.0,9,          1,     -999.0,9,     -999.0,9,     -999.0,9,     -999.0,9
33RO20180423,        I7N,      89,          1,        102,      11101,2,20180525,       1950,     4.7785,    59.8733,       4351,  4219.8,   1.5696,  34.7282,2,  34.7341,2,    148.0,2, 170.4290,2,    133.9,6,     34.4,6,     0.00,6,    2.410,6,   0.006,2,   0.004,2,        0,2,  2299.4,2,  2407.0,2,   7.5945,6,    25.00, -999.00,9, -999.00,9, -999.00,-999.000,1,  -999.0,9,     -999.0,1,     -999.0,9,          2,     -999.0,9,     -999.0,9,     -999.0,9,     -999.0,9
33RO20180423,        I7N,      89,          1,        103,      11102,2,20180525,       1950,     4.7785,    59.8733,       4351,  3999.1,   1.5654,  34.7292,2,  34.7102,2,    147.1,2, 168.5720,2,    133.8,6,     34.4,6,     0.00,6,    2.400,6,   0.007,2,   0.004,2,        0,2,  2298.7,2,  2407.5,2,   7.5933,2,    25.00, -999.00,9, -999.00,9, -999.00,-999.000,1,  -999.0,9,     -999.0,1,     -999.0,9,          3,     -999.0,9,     -999.0,9,     -999.0,9,     -999.0,9
33RO20180423,        I7N,      89,          1,        104,      11103,2,20180525,       1950,     4.7785,    59.8733,       4351,  3699.8,   1.6046,  34.7322,2,  34.7365,2,    144.4,2, 166.7550,2,    133.8,6,     34.5,6,     0.00,6,    2.419,6,-999.000,9,-999.000,9,-999.0000,9,  2300.8,2,  2408.4,2,   7.5892,2,    25.00, -999.00,9, -999.00,9, -999.00,-999.000,9,  -999.0,9,     -999.0,9,     -999.0,9,          4,     -999.0,9,     -999.0,9,     -999.0,9,     -999.0,9
33RO20180423,        I7N,      89,          1,        105,      11104,2,20180525,       1950,     4.7785,    59.8733,       4351,  3400.2,   1.7090,  34.7379,2,  34.7428,6,    139.3,2, 160.6110,2,    134.0,2,     34.6,2,     0.00,2,    2.441,2,-999.000,9,-999.000,9,-999.0000,9,  2305.3,2,  2409.1,6,   7.5833,2,    25.00, -999.00,9, -999.00,9, -999.00,-999.000,9,  -999.0,9,     -999.0,9,     -999.0,9,          5,     -999.0,9,     -999.0,9,     -999.0,9,     -999.0,9
33RO20180423,        I7N,      89,          1,        106,      11105,2,20180525,       1950,     4.7785,    59.8733,       4351,  3100.6,   1.8375,  34.7453,2,  34.7561,2,    133.1,2, 152.9560,2,    134.4,2,     35.0,2,     0.00,2,    2.478,2,-999.000,9,-999.000,9,-999.0000,9,  2313.2,2,  2400.4,4,   7.5768,2,    25.00, -999.00,9, -999.00,9, -999.00,-999.000,9,  -999.0,9,     -999.0,9,     -999.0,9,          6,     -999.0,9,     -999.0,9,     -999.0,9,     -999.0,9
33RO20180423,        I7N,      89,          1,        107,      11106,2,20180525,       1950,     4.7785,    59.8733,       4351,  2800.6,   2.0250,  34.7552,2,  34.7630,2,    127.1,2, 145.6140,2,    133.3,2,     35.4,2,     0.00,2,    2.513,2,-999.000,9,-999.000,9,-999.0000,9,  2315.6,2,  2414.0,2,   7.5695,2,    25.00, -999.00,9, -999.00,9, -999.00,-999.000,9,  -999.0,9,     -999.0,9,     -999.0,9,          7,     -999.0,9,     -999.0,9,     -999.0,9,     -999.0,9
33RO20180423,        I7N,      89,          1,        108,      11107,2,20180525,       1950,     4.7785,    59.8733,       4351,  2499.5,   2.1377,  34.7600,2,  34.7818,2,    124.7,2, 141.8385,2,    131.6,2,     35.4,2,     0.00,2,    2.520,2,-999.000,9,-999.000,9,-999.0000,9,  2314.4,2,  2411.2,2,   7.5648,2,    25.00, -999.00,9, -999.00,9, -999.00,-999.000,9,  -999.0,9,     -999.0,9,     -999.0,9,          8,     -999.0,9,     -999.0,9,     -999.0,9,     -999.0,9
33RO20180423,        I7N,      89,          1,        109,      11108,2,20180525,       1950,     4.7785,    59.8733,       4351,  2201.0,   2.4972,  34.7795,2,  34.7816,2,    115.1,2, 130.4620,2,    128.1,2,     35.9,2,     0.00,2,    2.567,2,   0.001,2,   0.002,2,        0,2,  2317.4,2,  2408.4,2,   7.5498,2,    25.00, -999.00,9, -999.00,9, -999.00,-999.000,1,  -999.0,9,     -999.0,1,     -999.0,9,          9,     -999.0,9,     -999.0,9,     -999.0,9,     -999.0,9
33RO20180423,        I7N,      89,          1,        110,      11109,2,20180525,       1950,     4.7785,    59.8733,       4351,  1883.1,   3.2607,  34.8200,2,  34.8207,2,     98.1,2, 110.5140,2,    120.2,2,     36.5,2,     0.00,2,    2.648,2,-999.000,9,-999.000,9,-999.0000,9,  2318.2,2,  2396.9,2,   7.5274,2,    25.00, -999.00,9, -999.00,9, -999.00,-999.000,9,  -999.0,9,     -999.0,9,     -999.0,9,         10,     -999.0,9,     -999.0,9,     -999.0,9,     -999.0,9
33RO20180423,        I7N,      89,          1,        111,      11110,2,20180525,       1950,     4.7785,    59.8733,       4351,  1633.1,   4.0867,  34.8658,2,  34.8671,6,     82.0,2,  92.6980,2,    110.9,2,     37.0,2,     0.00,2,    2.706,2,   0.006,2,   0.004,2,   0.0023,2,  2316.7,2,  2389.7,6,   7.5068,2,    25.00, -999.00,9, -999.00,9, -999.00,-999.000,1,  -999.0,9,     -999.0,1,     -999.0,9,         11,     -999.0,9,     -999.0,9,     -999.0,9,     -999.0,9
33RO20180423,        I7N,      89,          1,        112,      11111,2,20180525,       1950,     4.7785,    59.8733,       4351,  1368.1,   5.4578,  34.9573,2,  34.9639,2,     58.2,2,  65.0890,2,     98.0,2,     37.5,2,     0.00,2,    2.779,2,-999.000,9,-999.000,9,-999.0000,9,  2312.4,2,  2378.2,2,   7.4810,6,    25.00, -999.00,9, -999.00,9, -999.00,-999.000,9,  -999.0,9,     -999.0,9,     -999.0,9,         12,     -999.0,9,     -999.0,9,     -999.0,9,     -999.0,9
33RO20180423,        I7N,      89,          1,        113,      11112,2,20180525,       1950,     4.7785,    59.8733,       4351,  1167.0,   6.5856,  35.0420,2,  35.0446,2,     43.7,2,  49.0600,2,     87.1,2,     37.3,2,     0.00,2,    2.785,2,   0.044,2,   0.029,2,   0.0019,2,  2307.0,2,  2370.9,2,   7.4690,2,    25.00, -999.00,9, -999.00,9, -999.00,-999.000,1,  -999.0,9,     -999.0,1,     -999.0,9,         13,     -999.0,9,     -999.0,9,     -999.0,9,     -999.0,9
33RO20180423,        I7N,      89,          1,        114,      11113,2,20180525,       1950,     4.7785,    59.8733,       4351,   949.4,   7.7935,  35.1338,2,  35.1435,2,     33.8,2,  38.5230,2,     75.2,2,     36.7,2,     0.00,2,    2.743,2,   0.103,2,   0.063,2,        0,2,  2294.8,2,  2360.5,2,   7.4691,2,    25.00, -999.00,9, -999.00,9, -999.00,-999.000,1,  -999.0,9,     -999.0,1,     -999.0,9,         14,     -999.0,9,     -999.0,9,     -999.0,9,     -999.0,9
33RO20180423,        I7N,      89,          1,        115,      11114,2,20180525,       1950,     4.7785,    59.8733,       4351,   800.1,   8.5814,  35.1356,2,  35.1359,2,     29.8,2,  33.6620,2,     64.9,2,     36.1,2,     0.00,2,    2.703,2,   0.162,2,   0.094,2,   0.0054,2,  2285.5,2,  2349.4,2,   7.4676,2,    25.00, -999.00,9, -999.00,9, -999.00,-999.000,1,  -999.0,9,     -999.0,1,     -999.0,9,         15,     -999.0,9,     -999.0,9,     -999.0,9,     -999.0,9
33RO20180423,        I7N,      89,          1,        116,      11115,2,20180525,       1950,     4.7785,    59.8733,       4351,   650.1,   9.7300,  35.2478,2,  35.2486,2,     29.2,2,  32.8540,2,     53.3,2,     34.3,2,     0.00,2,    2.590,2,-999.000,9,-999.000,9,-999.0000,9,  2271.1,2,  2341.2,2,   7.4809,2,    25.00, -999.00,9, -999.00,9, -999.00,-999.000,9,  -999.0,9,     -999.0,9,     -999.0,9,         16,     -999.0,9,     -999.0,9,     -999.0,9,     -999.0,9
33RO20180423,        I7N,      89,          1,        117,      11116,2,20180525,       1950,     4.7785,    59.8733,       4351,   484.4,  10.8126,  35.1717,2,  35.1708,2,     57.6,2,  63.5130,3,     33.4,2,     30.0,2,     0.00,2,    2.193,2,   1.232,2,   0.678,2,   0.3403,2,  2237.8,6,  2312.9,3,   7.5376,2,    25.00, -999.00,9, -999.00,9, -999.00,-999.000,1,  -999.0,9,     -999.0,1,     -999.0,9,         17,     -999.0,9,     -999.0,9,     -999.0,9,     -999.0,9
33RO20180423,        I7N,      89,          1,        118,      11117,2,20180525,       1950,     4.7785,    59.8733,       4351,   376.2,  11.1647,  35.1161,2,  35.1184,2,     69.3,2,  75.1880,2,     27.5,2,     28.5,2,     0.00,2,    2.028,2,-999.000,9,-999.000,9,-999.0000,9,  2224.3,2,  2301.2,4,   7.5590,2,    25.00, -999.00,9, -999.00,9, -999.00,-999.000,9,  -999.0,9,     -999.0,9,     -999.0,9,         18,     -999.0,9,     -999.0,9,     -999.0,9,     -999.0,9
33RO20180423,        I7N,      89,          1,        119,      11083,2,20180525,       1950,     4.7785,    59.8733,       4351,   299.9,  12.2121,  35.2220,2,  35.2222,2,     63.5,2,  68.4540,2,     24.5,2,     27.0,2,     0.00,2,    1.956,2,   1.676,6,   0.942,6,   0.5722,6,  2223.8,2,  2318.4,2,   7.5666,2,    25.00, -999.00,9, -999.00,9, -999.00,-999.000,1,  -999.0,9,     -999.0,1,     -999.0,9,         19,     -999.0,9,     -999.0,9,     -999.0,9,     -999.0,9
33RO20180423,        I7N,      89,          1,        120,      11118,2,20180525,       1950,     4.7785,    59.8733,       4351,   217.4,  14.0752,  35.1895,2,  35.1910,2,     77.1,2,  83.6320,2,     18.7,2,     23.2,2,     0.00,2,    1.665,2,   1.914,2,   1.100,2,   0.7465,2,  2195.0,2,  2313.3,6,   7.6344,2,    25.00, -999.00,9, -999.00,9, -999.00,-999.000,1,  -999.0,9,     -999.0,1,     -999.0,9,         20,     -999.0,9,     -999.0,9,     -999.0,9,     -999.0,9
33RO20180423,        I7N,      89,          1,        121,      11119,2,20180525,       1950,     4.7785,    59.8733,       4351,   167.4,  15.0980,  35.2072,2,  35.2097,2,     57.1,2,  61.9380,2,     19.2,2,     24.6,2,     0.00,2,    1.775,2,   1.770,2,   1.028,2,   0.7062,2,  2201.0,2,  2313.0,2,   7.6157,2,    25.00, -999.00,9, -999.00,9, -999.00,-999.000,1,  -999.0,9,     -999.0,1,     -999.0,9,         21,     -999.0,9,     -999.0,9,     -999.0,9,     -999.0,9
33RO20180423,        I7N,      89,          1,        122,      11120,2,20180525,       1950,     4.7785,    59.8733,       4351,   116.7,  20.3793,  35.4400,2,  35.4407,2,     55.6,2,  60.1195,2,     13.2,2,     20.8,2,     0.03,2,    1.554,2,-999.000,9,-999.000,9,-999.0000,9,  2166.4,2,  2302.4,3,   7.7150,2,    25.00, -999.00,9, -999.00,9, -999.00,-999.000,9,  -999.0,9,     -999.0,9,     -999.0,9,         22,     -999.0,9,     -999.0,9,     -999.0,9,     -999.0,9
33RO20180423,        I7N,      89,          1,        123,      11121,2,20180525,       1950,     4.7785,    59.8733,       4351,    66.0,  27.4499,  35.7255,2,  35.7278,2,    145.6,2, 156.3120,2,      3.4,2,      2.9,2,     0.37,2,    0.487,2,   1.436,2,   0.913,2,   1.2671,2,  2046.9,2,  2338.5,3,   7.9966,6,    25.00, -999.00,9, -999.00,9, -999.00,-999.000,1,  -999.0,9,     -999.0,1,     -999.0,9,         23,     -999.0,9,     -999.0,9,     -999.0,9,     -999.0,9
33RO20180423,        I7N,      89,          1,        124,      11122,2,20180525,       1950,     4.7785,    59.8733,       4351,     3.2,  29.2000,  35.2973,2,  35.2994,2,    185.4,2, 194.7670,2,      1.8,2,      0.1,2,     0.00,2,    0.141,2,-999.000,9,-999.000,9,-999.0000,9,  1979.0,6,  2314.6,2,   8.0791,2,    25.00, -999.00,9, -999.00,9, -999.00,-999.000,9,  -999.0,9,     -999.0,9,     -999.0,9,         24,     -999.0,9,     -999.0,9,     -999.0,9,     -999.0,9