BOTTLE,20230801CCHSIOCBG
EXPOCODE,SECT_ID,STNNBR,CASTNO,SAMPNO,BTLNBR,BTLNBR_FLAG_W,DATE,TIME,LATITUDE,LONGITUDE,DEPTH,CTDPRS,CTDTMP,CTDSAL,CTDSAL_FLAG_W,SALNTY,SALNTY_FLAG_W,CTDOXY,CTDOXY_FLAG_W,OXYGEN,OXYGEN_FLAG_W,SILCAT,SILCAT_FLAG_W,NITRAT,NITRAT_FLAG_W,NITRIT,NITRIT_FLAG_W,PHSPHT,PHSPHT_FLAG_W,CFC-11,CFC-11_FLAG_W,CFC-12,CFC-12_FLAG_W,SF6,SF6_FLAG_W,TCARBN,TCARBN_FLAG_W,ALKALI,ALKALI_FLAG_W,PH_SWS,PH_SWS_FLAG_W,PH_TMP,DELC13,DELC13_FLAG_W,DELC14,DELC14_FLAG_W,C14ERR,CCL4,CCL4_FLAG_W,DOC,DOC_FLAG_W,N2O,N2O_FLAG_W,CALCIUM,CALCIUM_FLAG_W,SAMPNO_U,DNSSAL,DNSSAL_FLAG_W,DNSSAL2,DNSSAL2_FLAG_W,SALNTY_DNSSAL,SALNTY_DNSSAL_FLAG_W,SALNTY_DNSSAL2,SALNTY_DNSSAL2_FLAG_W
,,,,,,,,,,,METERS,DBAR,ITS-90,PSS-78,,PSS-78,,UMOL/KG,,UMOL/KG,,UMOL/KG,,UMOL/KG,,UMOL/KG,,UMOL/KG,,PMOL/KG,,PMOL/KG,,FMOL/KG,,UMOL/KG,,UMOL/KG,,,,DEG C,/MILLE,,/MILLE,,/MILLE,PMOL/KG,,UMOL/KG,,NMOL/KG,,MMOL/KG,,,G/KG,,G/KG,,PSS-78,,PSS-78,
33RO20180423,        I7N,      22,          1,        101,      11010,2,20180503,       0728,   -22.4945,    54.4995,       4286,  4358.2,   1.2131,  34.7135,2,  34.7131,2,    170.7,2, 196.9810,2,    126.2,2,     32.7,2,     0.00,2,    2.268,2,   0.050,2,   0.024,2,        0,2,  2275.8,6,  2384.4,2,   7.6393,4,    25.00, -999.00,9, -999.00,9, -999.00,-999.000,1,  -999.0,9,     -999.0,1,     -999.0,9,          1,     -999.0,9,     -999.0,9,     -999.0,9,     -999.0,9
33RO20180423,        I7N,      22,          1,        102,      11101,2,20180503,       0728,   -22.4945,    54.4995,       4286,  4023.4,   1.3303,  34.7188,2,  34.7185,2,    164.5,2, 189.2500,2,    126.8,6,     33.0,6,     0.00,6,    2.291,6,-999.000,9,-999.000,9,-999.0000,9,  2281.3,2,  2389.7,2,   7.5971,2,    25.00, -999.00,9, -999.00,9, -999.00,-999.000,9,  -999.0,9,     -999.0,9,     -999.0,9,          2,     -999.0,9,     -999.0,9,     -999.0,9,     -999.0,9
33RO20180423,        I7N,      22,          1,        103,      11102,2,20180503,       0728,   -22.4945,    54.4995,       4286,  3667.0,   1.5267,  34.7266,2,  34.7280,6,    155.3,2, 178.6530,2,    127.5,6,     33.5,6,     0.00,6,    2.330,6,   0.010,2,   0.006,2,        0,2,  2289.6,2,  2396.8,2,   7.5924,2,    25.00, -999.00,9, -999.00,9, -999.00,-999.000,1,  -999.0,9,     -999.0,1,     -999.0,9,          3,     -999.0,9,     -999.0,9,     -999.0,9,     -999.0,9
33RO20180423,        I7N,      22,          1,        104,      11103,2,20180503,       0728,   -22.4945,    54.4995,       4286,  3375.7,   1.7493,  34.7340,2,  34.7358,2,    146.2,2, 167.9910,2,    128.5,6,     34.0,6,     0.00,6,    2.378,6,   0.003,2,   0.002,2,        0,2,  2299.3,2,  2403.4,2,   7.5876,2,    25.00, -999.00,9, -999.00,9, -999.00,-999.000,1,  -999.0,9,     -999.0,1,     -999.0,9,          4,     -999.0,9,     -999.0,9,     -999.0,9,     -999.0,9
33RO20180423,        I7N,      22,          1,        105,      11104,2,20180503,       0728,   -22.4945,    54.4995,       4286,  3076.7,   1.8782,  34.7377,2,  34.7380,2,    142.2,2, 162.8610,2,    127.6,6,     34.2,6,     0.00,6,    2.396,6,   0.006,2,   0.003,2,        0,2,  2298.8,2,  2402.0,6,   7.5839,2,    25.00, -999.00,9, -999.00,9, -999.00,-999.000,1,  -999.0,9,     -999.0,1,     -999.0,9,          5,     -999.0,9,     -999.0,9,     -999.0,9,     -999.0,9
33RO20180423,        I7N,      22,          1,        106,      11105,2,20180503,       0728,   -22.4945,    54.4995,       4286,  2776.6,   2.0077,  34.7391,2,  34.7393,2,    140.7,2, 160.5900,2,    124.4,2,     34.1,2,     0.00,2,    2.394,2,-999.000,9,-999.000,9,-999.0000,9,  2296.3,2,  2400.7,2,   7.5826,6,    25.00, -999.00,9, -999.00,9, -999.00,-999.000,9,  -999.0,9,     -999.0,9,     -999.0,9,          6,     -999.0,9,     -999.0,9,     -999.0,9,     -999.0,9
33RO20180423,        I7N,      22,          1,        107,      11106,2,20180503,       0728,   -22.4945,    54.4995,       4286,  2477.4,   2.1466,  34.7376,2,  34.7374,2,    142.0,2, 161.0665,2,    117.7,2,     33.6,2,     0.00,2,    2.370,2,-999.000,9,-999.000,9,-999.0000,9,  2292.4,2,  2391.3,2,   7.5808,2,    25.00, -999.00,9, -999.00,9, -999.00,-999.000,9,  -999.0,9,     -999.0,9,     -999.0,9,          7,     -999.0,9,     -999.0,9,     -999.0,9,     -999.0,9
33RO20180423,        I7N,      22,          1,        108,      11107,2,20180503,       0728,   -22.4945,    54.4995,       4286,  2176.1,   2.2882,  34.7320,2,  34.7444,2,    144.6,2, 163.1130,2,    109.3,2,     33.4,2,     0.00,2,    2.342,2,-999.000,9,-999.000,9,-999.0000,9,  2283.1,2,  2382.5,2,   7.5838,2,    25.00, -999.00,9, -999.00,9, -999.00,-999.000,9,  -999.0,9,     -999.0,9,     -999.0,9,          8,     -999.0,9,     -999.0,9,     -999.0,9,     -999.0,9
33RO20180423,        I7N,      22,          1,        109,      11108,2,20180503,       0728,   -22.4945,    54.4995,       4286,  1863.8,   2.5134,  34.7069,2,  34.7075,2,    149.6,2, 167.5120,2,     95.7,2,     32.8,2,     0.00,2,    2.307,2,-999.000,9,-999.000,9,-999.0000,9,  2268.9,2,  2368.9,2,   7.5823,2,    25.00, -999.00,9, -999.00,9, -999.00,-999.000,9,  -999.0,9,     -999.0,9,     -999.0,9,          9,     -999.0,9,     -999.0,9,     -999.0,9,     -999.0,9
33RO20180423,        I7N,      22,          1,        110,      11109,2,20180503,       0728,   -22.4945,    54.4995,       4286,  1613.7,   2.7660,  34.6675,2,  34.6699,2,    149.0,2, 165.8830,2,     87.0,2,     33.0,2,     0.00,2,    2.321,2,-999.000,9,-999.000,9,-999.0000,9,  2262.6,2,  2356.0,2,   7.5760,2,    25.00, -999.00,9, -999.00,9, -999.00,-999.000,9,  -999.0,9,     -999.0,9,     -999.0,9,         10,     -999.0,9,     -999.0,9,     -999.0,9,     -999.0,9
33RO20180423,        I7N,      22,          1,        111,      11110,2,20180503,       0728,   -22.4945,    54.4995,       4286,  1350.2,   3.5901,  34.5949,2,  34.5964,2,    134.6,2, 149.1870,2,     78.6,2,     34.3,2,     0.00,2,    2.428,2,-999.000,9,-999.000,9,-999.0000,9,  2261.5,6,  2347.4,2,   7.5532,2,    25.00, -999.00,9, -999.00,9, -999.00,-999.000,9,  -999.0,9,     -999.0,9,     -999.0,9,         11,     -999.0,9,     -999.0,9,     -999.0,9,     -999.0,9
33RO20180423,        I7N,      22,          1,        112,      11111,2,20180503,       0728,   -22.4945,    54.4995,       4286,  1150.5,   4.2882,  34.5067,2,  34.5080,2,    142.3,2, 156.6490,2,     62.4,2,     33.6,2,     0.00,2,    2.367,2,-999.000,9,-999.000,9,-999.0000,9,  2238.9,2,  2333.6,2,   7.5650,2,    25.00, -999.00,9, -999.00,9, -999.00,-999.000,9,  -999.0,9,     -999.0,9,     -999.0,9,         12,     -999.0,9,     -999.0,9,     -999.0,9,     -999.0,9
33RO20180423,        I7N,      22,          1,        113,      11112,2,20180503,       0728,   -22.4945,    54.4995,       4286,   938.0,   6.0981,  34.4671,2,  34.4699,2,    170.1,2, 185.9360,2,     30.9,2,     28.4,2,     0.00,2,    1.983,2,-999.000,9,-999.000,9,-999.0000,9,  2192.2,2,  2306.5,6,   7.6271,2,    25.00, -999.00,9, -999.00,9, -999.00,-999.000,9,  -999.0,9,     -999.0,9,     -999.0,9,         13,     -999.0,9,     -999.0,9,     -999.0,9,     -999.0,9
33RO20180423,        I7N,      22,          1,        114,      11113,2,20180503,       0728,   -22.4945,    54.4995,       4286,   788.4,   8.5718,  34.6275,2,  34.6298,2,    194.6,2, 211.3810,2,     11.5,2,     20.5,2,     0.00,2,    1.452,2,-999.000,9,-999.000,9,-999.0000,9,  2152.8,2,  2297.4,2,   7.7139,6,    25.00, -999.00,9, -999.00,9, -999.00,-999.000,9,  -999.0,9,     -999.0,9,     -999.0,9,         14,     -999.0,9,     -999.0,9,     -999.0,9,     -999.0,9
33RO20180423,        I7N,      22,          1,        115,      11114,2,20180503,       0728,   -22.4945,    54.4995,       4286,   638.5,  10.3614,  34.8270,2,  34.8303,2,    212.9,2, 230.0220,2,      4.9,2,     14.4,2,     0.00,2,    1.059,2,-999.000,9,-999.000,9,-999.0000,9,  2130.1,2,  2299.7,2,   7.7753,2,    25.00, -999.00,9, -999.00,9, -999.00,-999.000,9,  -999.0,9,     -999.0,9,     -999.0,9,         15,     -999.0,9,     -999.0,9,     -999.0,9,     -999.0,9
33RO20180423,        I7N,      22,          1,        116,      11115,2,20180503,       0728,   -22.4945,    54.4995,       4286,   475.4,  12.3848,  35.1331,2,  35.1369,2,    207.7,2, 223.3320,2,      4.4,2,     10.5,2,     0.00,2,    0.819,2,   3.013,6,   1.758,6,   1.6238,6,  2123.4,2,  2312.1,2,   7.8159,2,    25.00, -999.00,9, -999.00,9, -999.00,-999.000,1,  -999.0,9,     -999.0,1,     -999.0,9,         16,     -999.0,9,     -999.0,9,     -999.0,9,     -999.0,9
33RO20180423,        I7N,      22,          1,        117,      11116,2,20180503,       0728,   -22.4945,    54.4995,       4286,   364.0,  13.9337,  35.3369,2,  35.3392,2,    202.1,2, 216.7115,2,      3.9,2,      7.6,2,     0.00,2,    0.643,2,-999.000,9,-999.000,9,-999.0000,9,  2119.9,2,  2322.3,2,   7.8465,2,    25.00, -999.00,9, -999.00,9, -999.00,-999.000,9,  -999.0,9,     -999.0,9,     -999.0,9,         17,     -999.0,9,     -999.0,9,     -999.0,9,     -999.0,9
33RO20180423,        I7N,      22,          1,        118,      11117,2,20180503,       0728,   -22.4945,    54.4995,       4286,   294.1,  15.2614,  35.4309,2,  35.4327,2,    181.7,2, 194.9550,2,      5.6,2,      7.3,2,     0.01,2,    0.626,2,-999.000,9,-999.000,9,-999.0000,9,  2121.6,2,  2331.6,2,   7.8519,2,    25.00, -999.00,9, -999.00,9, -999.00,-999.000,9,  -999.0,9,     -999.0,9,     -999.0,9,         18,     -999.0,9,     -999.0,9,     -999.0,9,     -999.0,9
33RO20180423,        I7N,      22,          1,        119,      11083,2,20180503,       0728,   -22.4945,    54.4995,       4286,   211.0,  18.1395,  35.5518,2,  35.5598,6,    171.9,2, 184.7610,2,      5.0,2,      4.8,2,     0.01,2,    0.458,2,-999.000,9,-999.000,9,-999.0000,9,  2099.1,2,  2336.7,2,   7.9018,2,    25.00, -999.00,9, -999.00,9, -999.00,-999.000,9,  -999.0,9,     -999.0,9,     -999.0,9,         19,     -999.0,9,     -999.0,9,     -999.0,9,     -999.0,9
33RO20180423,        I7N,      22,          1,        120,      11118,2,20180503,       0728,   -22.4945,    54.4995,       4286,   171.4,  20.2394,  35.5307,2,  35.5279,2,    179.6,2, 191.3260,2,      3.6,2,      2.5,2,     0.04,2,    0.302,2,-999.000,9,-999.000,9,-999.0000,9,  2069.2,2,  2332.9,2,   7.9484,2,    25.00, -999.00,9, -999.00,9, -999.00,-999.000,9,  -999.0,9,     -999.0,9,     -999.0,9,         20,     -999.0,9,     -999.0,9,     -999.0,9,     -999.0,9
33RO20180423,        I7N,      22,          1,        121,      11119,2,20180503,       0728,   -22.4945,    54.4995,       4286,   130.4,  23.6140,  35.3157,2,  35.3226,2,    188.3,2, 203.4130,4,      2.4,2,      0.2,2,     0.27,2,    0.151,2,-999.000,9,-999.000,9,-999.0000,9,  2026.0,2,  2314.5,2,   8.0131,6,    25.00, -999.00,9, -999.00,9, -999.00,-999.000,9,  -999.0,9,     -999.0,9,     -999.0,9,         21,     -999.0,9,     -999.0,9,     -999.0,9,     -999.0,9
33RO20180423,        I7N,      22,          1,        122,      11120,2,20180503,       0728,   -22.4945,    54.4995,       4286,    90.6,  25.9333,  35.1780,2,  35.1788,2,    193.5,2, 205.2170,2,      2.0,2,      0.0,2,     0.00,2,    0.061,2,-999.000,9,-999.000,9,-999.0000,9,  1987.6,2,  2305.8,6,   8.0641,2,    25.00, -999.00,9, -999.00,9, -999.00,-999.000,9,  -999.0,9,     -999.0,9,     -999.0,9,         22,     -999.0,9,     -999.0,9,     -999.0,9,     -999.0,9
33RO20180423,        I7N,      22,          1,        123,      11121,2,20180503,       0728,   -22.4945,    54.4995,       4286,    49.7,  26.2549,  35.0115,2,  35.0116,2,    192.8,2, 203.9540,2,      1.9,2,      0.0,2,     0.00,2,    0.118,2,-999.000,9,-999.000,9,-999.0000,9,  1976.4,2,  2291.8,2,   8.0645,2,    25.00, -999.00,9, -999.00,9, -999.00,-999.000,9,  -999.0,9,     -999.0,9,     -999.0,9,         23,     -999.0,9,     -999.0,9,     -999.0,9,     -999.0,9
33RO20180423,        I7N,      22,          1,        124,      11122,2,20180503,       0728,   -22.4945,    54.4995,       4286,     3.5,  26.2946,  35.0142,2,  35.0148,2,    192.8,2, 203.7420,2,      2.0,2,      0.0,2,     0.00,2,    0.124,2,-999.000,9,-999.000,9,-999.0000,9,  1976.1,6,  2297.1,2,   8.0650,2,    25.00, -999.00,9, -999.00,9, -999.00,-999.000,9,  -999.0,9,     -999.0,9,     -999.0,9,         24,     -999.0,9,     -999.0,9,     -999.0,9,     -999.0,9