BOTTLE,20230801CCHSIOCBG
EXPOCODE,SECT_ID,STNNBR,CASTNO,SAMPNO,BTLNBR,BTLNBR_FLAG_W,DATE,TIME,LATITUDE,LONGITUDE,DEPTH,CTDPRS,CTDTMP,CTDSAL,CTDSAL_FLAG_W,SALNTY,SALNTY_FLAG_W,CTDOXY,CTDOXY_FLAG_W,OXYGEN,OXYGEN_FLAG_W,SILCAT,SILCAT_FLAG_W,NITRAT,NITRAT_FLAG_W,NITRIT,NITRIT_FLAG_W,PHSPHT,PHSPHT_FLAG_W,CFC-11,CFC-11_FLAG_W,CFC-12,CFC-12_FLAG_W,SF6,SF6_FLAG_W,TCARBN,TCARBN_FLAG_W,ALKALI,ALKALI_FLAG_W,PH_SWS,PH_SWS_FLAG_W,PH_TMP,DELC13,DELC13_FLAG_W,DELC14,DELC14_FLAG_W,C14ERR,CCL4,CCL4_FLAG_W,DOC,DOC_FLAG_W,N2O,N2O_FLAG_W,CALCIUM,CALCIUM_FLAG_W,SAMPNO_U,DNSSAL,DNSSAL_FLAG_W,DNSSAL2,DNSSAL2_FLAG_W,SALNTY_DNSSAL,SALNTY_DNSSAL_FLAG_W,SALNTY_DNSSAL2,SALNTY_DNSSAL2_FLAG_W
,,,,,,,,,,,METERS,DBAR,ITS-90,PSS-78,,PSS-78,,UMOL/KG,,UMOL/KG,,UMOL/KG,,UMOL/KG,,UMOL/KG,,UMOL/KG,,PMOL/KG,,PMOL/KG,,FMOL/KG,,UMOL/KG,,UMOL/KG,,,,DEG C,/MILLE,,/MILLE,,/MILLE,PMOL/KG,,UMOL/KG,,NMOL/KG,,MMOL/KG,,,G/KG,,G/KG,,PSS-78,,PSS-78,
33RO20180423,        I7N,      36,          1,        101,      11010,2,20180507,       0351,   -15.0915,    55.0003,       4206,  4273.1,   1.2305,  34.7148,2,  34.7167,2,    168.7,2, 194.0450,2,    126.4,6,     33.1,6,     0.00,6,    2.275,6,   0.043,2,   0.022,2,        0,2,  2277.8,2,  2386.7,2,   7.6341,4,    25.00, -999.00,9, -999.00,9, -999.00,-999.000,1,  -999.0,9,     -999.0,1,     -999.0,9,          1,     -999.0,9,     -999.0,9,     -999.0,9,     -999.0,9
33RO20180423,        I7N,      36,          1,        102,      11101,2,20180507,       0351,   -15.0915,    55.0003,       4206,  3980.9,   1.3581,  34.7202,2,  34.7222,2,    161.3,2, 185.4740,2,    128.6,6,     33.6,6,     0.00,6,    2.308,6,-999.000,9,-999.000,9,-999.0000,9,  2281.6,6,  2393.1,2,   7.5986,2,    25.00, -999.00,9, -999.00,9, -999.00,-999.000,9,    42.2,3,     -999.0,9,     -999.0,9,          2,     -999.0,9,     -999.0,9,     -999.0,9,     -999.0,9
33RO20180423,        I7N,      36,          1,        103,      11102,2,20180507,       0351,   -15.0915,    55.0003,       4206,  3675.9,   1.4736,  34.7253,2,  34.7267,2,    155.3,2, 178.7200,2,    128.8,6,     34.0,6,     0.00,6,    2.340,6,   0.015,2,   0.009,2,    0.008,2,  2286.5,2,  2398.6,2,   7.5939,6,    25.00, -999.00,9, -999.00,9, -999.00,-999.000,1,    44.8,3,     -999.0,1,     -999.0,9,          3,     -999.0,9,     -999.0,9,     -999.0,9,     -999.0,9
33RO20180423,        I7N,      36,          1,        104,      11103,2,20180507,       0351,   -15.0915,    55.0003,       4206,  3375.3,   1.6338,  34.7311,2,  34.7314,2,    148.3,2, 170.5070,2,    129.4,6,     34.4,6,     0.00,6,    2.369,6,-999.000,9,-999.000,9,-999.0000,9,  2293.2,2,  2403.7,6,   7.5888,2,    25.00, -999.00,9, -999.00,9, -999.00,-999.000,9,    47.6,3,     -999.0,9,     -999.0,9,          4,     -999.0,9,     -999.0,9,     -999.0,9,     -999.0,9
33RO20180423,        I7N,      36,          1,        105,      11104,2,20180507,       0351,   -15.0915,    55.0003,       4206,  3075.2,   1.7868,  34.7363,2,  34.7369,2,    143.0,2, 164.3670,2,    128.5,6,     34.7,4,     0.00,6,    2.385,6,   0.004,2,   0.004,2,        0,2,  2296.7,2,  2405.0,2,   7.5893,2,    25.00, -999.00,9, -999.00,9, -999.00,-999.000,1,  -999.0,9,     -999.0,1,     -999.0,9,          5,     -999.0,9,     -999.0,9,     -999.0,9,     -999.0,9
33RO20180423,        I7N,      36,          1,        106,      11105,2,20180507,       0351,   -15.0915,    55.0003,       4206,  2774.8,   1.8695,  34.7369,2,  34.7510,2,    141.8,2, 163.5200,2,    126.6,2,     34.3,2,     0.00,2,    2.388,2,-999.000,9,-999.000,9,-999.0000,9,  2297.1,2,  2402.0,2,   7.5821,2,    25.00, -999.00,9, -999.00,9, -999.00,-999.000,9,  -999.0,9,     -999.0,9,     -999.0,9,          6,     -999.0,9,     -999.0,9,     -999.0,9,     -999.0,9
33RO20180423,        I7N,      36,          1,        107,      11106,2,20180507,       0351,   -15.0915,    55.0003,       4206,  2475.2,   2.0317,  34.7361,2,  34.7372,2,    140.1,2, 159.1590,2,    121.9,2,     34.4,2,     0.00,2,    2.386,2,   0.004,2,   0.002,2,        0,2,  2293.3,2,  2398.8,2,   7.5800,2,    25.00, -999.00,9, -999.00,9, -999.00,-999.000,1,  -999.0,9,     -999.0,1,     -999.0,9,          7,     -999.0,9,     -999.0,9,     -999.0,9,     -999.0,9
33RO20180423,        I7N,      36,          1,        108,      11107,2,20180507,       0351,   -15.0915,    55.0003,       4206,  2174.1,   2.2797,  34.7304,2,  34.7340,6,    138.7,2, 156.6070,2,    115.5,2,     34.3,2,     0.00,2,    2.387,2,-999.000,9,-999.000,9,-999.0000,9,  2287.8,2,  2392.3,2,   7.5760,2,    25.00, -999.00,9, -999.00,9, -999.00,-999.000,9,  -999.0,9,     -999.0,9,     -999.0,9,          8,     -999.0,9,     -999.0,9,     -999.0,9,     -999.0,9
33RO20180423,        I7N,      36,          1,        109,      11108,2,20180507,       0351,   -15.0915,    55.0003,       4206,  1862.5,   2.7411,  34.7133,2,  34.7129,2,    135.5,2, 151.8690,2,    103.9,2,     34.3,2,     0.00,2,    2.384,2,   0.018,6,   0.009,6,        0,6,  2278.4,2,  2379.4,2,   7.5688,2,    25.00,    0.37,2, -174.00,2,    1.72,-999.000,1,    47.2,3,     -999.0,1,     -999.0,9,          9,     -999.0,9,     -999.0,9,     -999.0,9,     -999.0,9
33RO20180423,        I7N,      36,          1,        110,      11109,2,20180507,       0351,   -15.0915,    55.0003,       4206,  1613.0,   3.3415,  34.7070,2,  34.7072,2,    125.1,2, 139.4130,2,     97.6,2,     34.7,2,     0.00,2,    2.422,2,-999.000,9,-999.000,9,-999.0000,9,  2277.4,2,  2373.8,6,   7.5568,2,    25.00,    0.40,2, -172.00,2,    2.05,-999.000,9,  -999.0,9,     -999.0,9,     -999.0,9,         10,     -999.0,9,     -999.0,9,     -999.0,9,     -999.0,9
33RO20180423,        I7N,      36,          1,        111,      11110,2,20180507,       0351,   -15.0915,    55.0003,       4206,  1350.7,   4.1500,  34.7075,2,  34.7155,2,    111.9,2, 125.1110,2,     89.7,2,     35.3,2,     0.00,2,    2.472,2,   0.069,2,   0.036,2,   0.0133,2,  2274.6,2,  2366.5,2,   7.5406,6,    25.00,    0.36,2, -165.00,2,    1.73,-999.000,1,  -999.0,9,     -999.0,1,     -999.0,9,         11,     -999.0,9,     -999.0,9,     -999.0,9,     -999.0,9
33RO20180423,        I7N,      36,          1,        112,      11111,2,20180507,       0351,   -15.0915,    55.0003,       4206,  1150.4,   4.9263,  34.7064,2,  34.7282,2,    103.5,2, 114.0970,3,     80.9,2,     35.2,2,     0.00,2,    2.495,2,-999.000,9,-999.000,9,-999.0000,9,  2271.4,6,  2358.0,2,   7.5348,2,    25.00,    0.33,2, -153.00,2,    1.67,-999.000,9,  -999.0,9,     -999.0,9,     -999.0,9,         12,     -999.0,9,     -999.0,9,     -999.0,9,     -999.0,9
33RO20180423,        I7N,      36,          1,        113,      11112,2,20180507,       0351,   -15.0915,    55.0003,       4206,   939.0,   5.6484,  34.6818,2,  34.6836,2,    106.9,2, 118.4940,2,     67.9,2,     34.0,2,     0.00,2,    2.404,2,-999.000,1,-999.000,1,-999.0000,1,  2253.9,2,  2344.3,2,   7.5444,2,    25.00,    0.42,2, -127.00,2,    2.31,-999.000,1,  -999.0,9,     -999.0,1,     -999.0,9,         13,     -999.0,9,     -999.0,9,     -999.0,9,     -999.0,9
33RO20180423,        I7N,      36,          1,        114,      11113,2,20180507,       0351,   -15.0915,    55.0003,       4206,   788.1,   6.4823,  34.6725,2,  34.6741,2,    113.2,2, 123.5880,2,     55.6,2,     32.3,2,     0.00,2,    2.284,2,-999.000,9,-999.000,9,-999.0000,9,  2236.3,2,  2331.7,2,   7.5625,2,    25.00,    0.49,2, -108.00,2,    1.85,-999.000,9,  -999.0,9,     -999.0,9,     -999.0,9,         14,     -999.0,9,     -999.0,9,     -999.0,9,     -999.0,9
33RO20180423,        I7N,      36,          1,        115,      11114,2,20180507,       0351,   -15.0915,    55.0003,       4206,   638.2,   7.3375,  34.6234,2,  34.6260,2,    144.6,2, 157.9800,2,     34.2,2,     28.1,2,     0.00,2,    1.947,2,   1.632,2,   0.846,2,   0.3952,2,  2198.1,2,  2311.9,2,   7.6211,2,    25.00,    0.78,2,  -53.10,2,    1.95,-999.000,1,  -999.0,9,     -999.0,1,     -999.0,9,         15,     -999.0,9,     -999.0,9,     -999.0,9,     -999.0,9
33RO20180423,        I7N,      36,          1,        116,      11115,2,20180507,       0351,   -15.0915,    55.0003,       4206,   474.2,   8.9895,  34.6803,2,  34.6859,2,    194.1,2, 209.6920,2,     11.1,2,     19.8,2,     0.00,2,    1.388,2,-999.000,9,-999.000,9,-999.0000,9,  2145.4,2,  2302.7,2,   7.7206,2,    25.00,    0.99,2,   19.60,2,    1.99,-999.000,9,  -999.0,9,     -999.0,9,     -999.0,9,         16,     -999.0,9,     -999.0,9,     -999.0,9,     -999.0,9
33RO20180423,        I7N,      36,          1,        117,      11116,2,20180507,       0351,   -15.0915,    55.0003,       4206,   369.1,  10.8310,  34.9038,2,  34.9057,2,    193.4,2, 207.4250,2,      8.4,2,     15.4,2,     0.00,2,    1.129,2,   3.060,2,   1.714,2,   1.2826,2,  2135.2,2,  2307.8,2,   7.7619,2,    25.00,    0.86,2,   22.20,2,    2.10,-999.000,1,  -999.0,9,     -999.0,1,     -999.0,9,         17,     -999.0,9,     -999.0,9,     -999.0,9,     -999.0,9
33RO20180423,        I7N,      36,          1,        118,      11117,2,20180507,       0351,   -15.0915,    55.0003,       4206,   293.7,  12.3231,  35.0853,2,  35.0868,2,    180.3,2, 193.2890,2,      8.9,2,     13.5,2,     0.00,2,    1.009,2,   2.773,2,   1.595,2,   1.3195,2,  2135.2,2,  2317.5,2,   7.7791,2,    25.00,    0.79,2,   28.50,2,    2.22,-999.000,1,  -999.0,9,     -999.0,1,     -999.0,9,         18,     -999.0,9,     -999.0,9,     -999.0,9,     -999.0,9
33RO20180423,        I7N,      36,          1,        119,      11083,2,20180507,       0351,   -15.0915,    55.0003,       4206,   211.6,  15.0268,  35.2847,2,  35.2938,2,    145.7,2, 156.2220,2,     11.8,2,     12.7,2,     0.01,2,    0.963,2,   2.238,2,   1.327,2,   1.1686,2,  2136.4,2,  2326.7,2,   7.7926,2,    25.00,    0.31,2,   15.70,2,    2.03,-999.000,1,    52.3,3,     -999.0,1,     -999.0,9,         19,     -999.0,9,     -999.0,9,     -999.0,9,     -999.0,9
33RO20180423,        I7N,      36,          1,        120,      11118,2,20180507,       0351,   -15.0915,    55.0003,       4206,   167.6,  17.3188,  35.3190,2,  35.3247,2,    131.7,2, 141.7580,2,     11.8,2,     11.7,2,     0.01,2,    0.886,2,   1.993,2,   1.212,2,   1.2008,2,  2122.8,2,  2324.1,2,   7.8199,2,    25.00,    0.32,2,   17.00,2,    2.08,-999.000,1,    53.0,3,     -999.0,1,     -999.0,9,         20,     -999.0,9,     -999.0,9,     -999.0,9,     -999.0,9
33RO20180423,        I7N,      36,          1,        121,      11119,2,20180507,       0351,   -15.0915,    55.0003,       4206,   130.0,  18.7386,  35.3669,2,  35.3692,2,    138.4,2, 150.4120,2,      9.5,2,      9.4,2,     0.02,2,    0.734,2,-999.000,9,-999.000,9,-999.0000,9,  2103.5,2,  2325.4,6,   7.8596,2,    25.00,    0.27,2,   18.70,2,    1.99,-999.000,9,  -999.0,9,     -999.0,9,     -999.0,9,         21,     -999.0,9,     -999.0,9,     -999.0,9,     -999.0,9
33RO20180423,        I7N,      36,          1,        122,      11120,2,20180507,       0351,   -15.0915,    55.0003,       4206,    89.7,  21.0841,  35.2637,2,  35.2616,6,    140.6,2, 149.3660,2,      7.4,2,      7.4,2,     0.52,2,    0.641,2,   1.819,2,   1.133,2,    1.357,2,  2076.1,2,  2315.3,2,   7.8977,6,    25.00,    0.90,2,   22.30,2,    2.00,-999.000,1,    66.7,3,     -999.0,1,     -999.0,9,         22,     -999.0,9,     -999.0,9,     -999.0,9,     -999.0,9
33RO20180423,        I7N,      36,          1,        123,      11121,2,20180507,       0351,   -15.0915,    55.0003,       4206,    49.1,  27.8704,  34.7504,2,  34.7735,2,    186.8,2, 197.3300,2,      2.6,2,      0.2,2,     0.01,2,    0.163,2,-999.000,9,-999.000,9,-999.0000,9,  1960.5,2,  2279.6,2,   8.0609,2,    25.00, -999.00,9, -999.00,9, -999.00,-999.000,9,    67.6,3,     -999.0,9,     -999.0,9,         23,     -999.0,9,     -999.0,9,     -999.0,9,     -999.0,9
33RO20180423,        I7N,      36,          1,        124,      11122,2,20180507,       0351,   -15.0915,    55.0003,       4206,     3.4,  27.8823,  34.7202,2,  34.7265,2,    188.1,2, 198.3820,2,      2.4,2,      0.0,2,     0.00,2,    0.142,2,-999.000,9,-999.000,9,-999.0000,9,  1954.1,6,  2274.4,2,   8.0683,2,    25.00,    0.92,2,   17.30,2,    1.98,-999.000,9,    67.5,3,     -999.0,9,     -999.0,9,         24,     -999.0,9,     -999.0,9,     -999.0,9,     -999.0,9