BOTTLE,20230801CCHSIOCBG
EXPOCODE,SECT_ID,STNNBR,CASTNO,SAMPNO,BTLNBR,BTLNBR_FLAG_W,DATE,TIME,LATITUDE,LONGITUDE,DEPTH,CTDPRS,CTDTMP,CTDSAL,CTDSAL_FLAG_W,SALNTY,SALNTY_FLAG_W,CTDOXY,CTDOXY_FLAG_W,OXYGEN,OXYGEN_FLAG_W,SILCAT,SILCAT_FLAG_W,NITRAT,NITRAT_FLAG_W,NITRIT,NITRIT_FLAG_W,PHSPHT,PHSPHT_FLAG_W,CFC-11,CFC-11_FLAG_W,CFC-12,CFC-12_FLAG_W,SF6,SF6_FLAG_W,TCARBN,TCARBN_FLAG_W,ALKALI,ALKALI_FLAG_W,PH_SWS,PH_SWS_FLAG_W,PH_TMP,DELC13,DELC13_FLAG_W,DELC14,DELC14_FLAG_W,C14ERR,CCL4,CCL4_FLAG_W,DOC,DOC_FLAG_W,N2O,N2O_FLAG_W,CALCIUM,CALCIUM_FLAG_W,SAMPNO_U,DNSSAL,DNSSAL_FLAG_W,DNSSAL2,DNSSAL2_FLAG_W,SALNTY_DNSSAL,SALNTY_DNSSAL_FLAG_W,SALNTY_DNSSAL2,SALNTY_DNSSAL2_FLAG_W
,,,,,,,,,,,METERS,DBAR,ITS-90,PSS-78,,PSS-78,,UMOL/KG,,UMOL/KG,,UMOL/KG,,UMOL/KG,,UMOL/KG,,UMOL/KG,,PMOL/KG,,PMOL/KG,,FMOL/KG,,UMOL/KG,,UMOL/KG,,,,DEG C,/MILLE,,/MILLE,,/MILLE,PMOL/KG,,UMOL/KG,,NMOL/KG,,MMOL/KG,,,G/KG,,G/KG,,PSS-78,,PSS-78,
33RO20180423,        I7N,     103,          1,        101,      11010,9,20180529,       1404,    10.5385,    64.6663,       4391,  4448.2,   1.6838,  34.7316,2,  34.7353,2,    133.6,2, 154.8870,2,    138.8,6,     35.4,6,     0.00,6,    2.460,6,   0.005,2,   0.006,2,        0,2,  2334.8,6,  2442.9,2,   7.6013,6,    25.00, -999.00,9, -999.00,9, -999.00,-999.000,9,    42.5,3,     -999.0,9,     -999.0,9,          1,     -999.0,9,     -999.0,9,     -999.0,9,     -999.0,9
33RO20180423,        I7N,     103,          1,        102,      11101,9,20180529,       1404,    10.5385,    64.6663,       4391,  4182.6,   1.6930,  34.7339,2,  34.7403,2,    136.5,2, 157.2990,2,    136.9,6,     35.0,6,     0.00,6,    2.448,6,-999.000,9,-999.000,9,-999.0000,9,  2321.7,2,  2424.7,6,   7.5915,2,    25.00, -999.00,9, -999.00,9, -999.00,-999.000,9,    43.9,3,     -999.0,9,     -999.0,9,          2,     -999.0,9,     -999.0,9,     -999.0,9,     -999.0,9
33RO20180423,        I7N,     103,          1,        103,      11102,9,20180529,       1404,    10.5385,    64.6663,       4391,  3901.0,   1.6969,  34.7355,2,  34.7374,6,    135.9,2, 157.1440,2,    136.6,6,     35.1,6,     0.00,6,    2.454,6,   0.000,2,   0.002,2,        0,2,  2321.1,2,  2423.8,2,   7.5866,2,    25.00, -999.00,9, -999.00,9, -999.00,-999.000,9,  -999.0,9,     -999.0,9,     -999.0,9,          3,     -999.0,9,     -999.0,9,     -999.0,9,     -999.0,9
33RO20180423,        I7N,     103,          1,        104,      11103,9,20180529,       1404,    10.5385,    64.6663,       4391,  3601.3,   1.7033,  34.7369,2,  34.7415,2,    135.0,2, 155.8285,2,    136.3,6,     35.0,6,     0.00,6,    2.446,6,-999.000,9,-999.000,9,-999.0000,9,  2320.5,2,  2420.5,2,   7.5845,2,    25.00, -999.00,9, -999.00,9, -999.00,-999.000,9,  -999.0,9,     -999.0,9,     -999.0,9,          4,     -999.0,9,     -999.0,9,     -999.0,9,     -999.0,9
33RO20180423,        I7N,     103,          1,        105,      11104,9,20180529,       1404,    10.5385,    64.6663,       4391,  3300.3,   1.7213,  34.7390,2,  34.7431,2,    133.5,2, 153.5920,2,    136.1,2,     35.1,2,     0.00,2,    2.468,2,   0.001,2,   0.002,2,        0,2,  2322.0,2,  2420.7,2,   7.5813,2,    25.00, -999.00,9, -999.00,9, -999.00,-999.000,9,  -999.0,9,     -999.0,9,     -999.0,9,          5,     -999.0,9,     -999.0,9,     -999.0,9,     -999.0,9
33RO20180423,        I7N,     103,          1,        106,      11105,9,20180529,       1404,    10.5385,    64.6663,       4391,  3000.8,   1.7836,  34.7439,2,  34.7611,2,    126.4,2, 144.2880,2,    138.5,2,     35.5,2,     0.00,2,    2.520,2,-999.000,9,-999.000,9,-999.0000,9,  2329.1,2,  2425.1,2,   7.5717,2,    25.00, -999.00,9, -999.00,9, -999.00,-999.000,9,    42.9,3,     -999.0,9,     -999.0,9,          6,     -999.0,9,     -999.0,9,     -999.0,9,     -999.0,9
33RO20180423,        I7N,     103,          1,        107,      11106,9,20180529,       1404,    10.5385,    64.6663,       4391,  2700.1,   1.9653,  34.7558,2,  34.7583,2,    116.6,2, 144.3990,4,    138.5,2,     36.0,2,     0.00,2,    2.557,2,   0.000,2,   0.002,2,   0.0008,2,  2337.8,2,  2429.5,2,   7.5585,2,    25.00, -999.00,9, -999.00,9, -999.00,-999.000,9,  -999.0,9,     -999.0,9,     -999.0,9,          7,     -999.0,9,     -999.0,9,     -999.0,9,     -999.0,9
33RO20180423,        I7N,     103,          1,        108,      11107,9,20180529,       1404,    10.5385,    64.6663,       4391,  2399.9,   2.2572,  34.7715,2,  34.7761,2,    113.2,2, 128.7100,2,    133.5,2,     36.2,2,     0.00,2,    2.583,2,-999.000,9,-999.000,9,-999.0000,9,  2331.9,2,  2427.1,2,   7.5504,2,    25.00, -999.00,9, -999.00,9, -999.00,-999.000,9,    42.1,3,     -999.0,9,     -999.0,9,          8,     -999.0,9,     -999.0,9,     -999.0,9,     -999.0,9
33RO20180423,        I7N,     103,          1,        109,      11108,9,20180529,       1404,    10.5385,    64.6663,       4391,  2100.8,   2.6533,  34.7926,2,  34.8090,2,    104.6,2, 118.9100,2,    128.3,2,     36.6,2,     0.00,2,    2.628,2,   0.000,2,   0.002,2,   0.0059,2,  2330.5,2,  2414.6,2,   7.5354,2,    25.00, -999.00,9, -999.00,9, -999.00,-999.000,9,  -999.0,9,     -999.0,9,     -999.0,9,          9,     -999.0,9,     -999.0,9,     -999.0,9,     -999.0,9
33RO20180423,        I7N,     103,          1,        110,      11109,9,20180529,       1404,    10.5385,    64.6663,       4391,  1800.2,   3.5636,  34.8580,2,  34.8633,2,     81.2,2,  91.8230,2,    120.8,2,     37.5,2,     0.00,2,    2.739,2,-999.000,9,-999.000,9,-999.0000,9,  2336.4,2,  2405.3,2,   7.5027,2,    25.00, -999.00,9, -999.00,9, -999.00,-999.000,9,  -999.0,9,     -999.0,9,     -999.0,9,         10,     -999.0,9,     -999.0,9,     -999.0,9,     -999.0,9
33RO20180423,        I7N,     103,          1,        111,      11110,9,20180529,       1404,    10.5385,    64.6663,       4391,  1551.4,   4.7248,  34.9418,2,  34.9479,2,     58.9,2,  66.1080,2,    108.6,2,     38.1,2,     0.00,2,    2.844,2,   0.006,2,   0.007,2,   0.0036,2,  2334.9,2,  2393.2,6,   7.4768,2,    25.00, -999.00,9, -999.00,9, -999.00,-999.000,9,    45.0,3,     -999.0,9,     -999.0,9,         11,     -999.0,9,     -999.0,9,     -999.0,9,     -999.0,9
33RO20180423,        I7N,     103,          1,        112,      11111,9,20180529,       1404,    10.5385,    64.6663,       4391,  1300.7,   6.0164,  35.0436,2,  35.0919,2,     41.2,2,  46.6380,2,     94.7,2,     38.2,2,     0.00,2,    2.860,2,-999.000,9,-999.000,9,-999.0000,9,  2325.1,2,  2380.7,2,   7.4596,2,    25.00, -999.00,9, -999.00,9, -999.00,-999.000,9,    47.9,3,     -999.0,9,     -999.0,9,         12,     -999.0,9,     -999.0,9,     -999.0,9,     -999.0,9
33RO20180423,        I7N,     103,          1,        113,      11112,9,20180529,       1404,    10.5385,    64.6663,       4391,  1100.9,   7.6001,  35.2065,2,  35.2119,2,     24.4,2,  28.3140,2,     80.4,2,     37.4,2,     0.00,2,    2.837,2,   0.057,2,   0.036,2,   0.0225,2,  2318.4,2,  2372.0,2,   7.4528,2,    25.00, -999.00,9, -999.00,9, -999.00,-999.000,9,  -999.0,9,     -999.0,9,     -999.0,9,         13,     -999.0,9,     -999.0,9,     -999.0,9,     -999.0,9
33RO20180423,        I7N,     103,          1,        114,      11113,9,20180529,       1404,    10.5385,    64.6663,       4391,   901.0,   9.0331,  35.3373,2,  35.3435,2,     15.8,2,  19.2310,2,     66.8,2,     36.1,2,     0.01,2,    2.752,2,   0.119,2,   0.077,2,   0.0111,2,  2304.8,2,  2361.9,2,   7.4579,2,    25.00, -999.00,9, -999.00,9, -999.00,-999.000,9,  -999.0,9,     -999.0,9,     -999.0,9,         14,     -999.0,9,     -999.0,9,     -999.0,9,     -999.0,9
33RO20180423,        I7N,     103,          1,        115,      11114,9,20180529,       1404,    10.5385,    64.6663,       4391,   750.6,  10.1068,  35.3953,2,  35.3979,2,     13.1,2,  15.9560,2,     55.0,2,     34.6,2,     0.01,2,    2.671,2,   0.233,2,   0.142,2,   0.0366,2,  2292.3,2,  2352.0,2,   7.4683,2,    25.00, -999.00,9, -999.00,9, -999.00,-999.000,9,  -999.0,9,     -999.0,9,     -999.0,9,         15,     -999.0,9,     -999.0,9,     -999.0,9,     -999.0,9
33RO20180423,        I7N,     103,          1,        116,      11115,9,20180529,       1404,    10.5385,    64.6663,       4391,   600.7,  11.1509,  35.4322,2,  35.4377,2,     15.6,2,  18.9470,2,     42.9,2,     32.5,2,     0.01,2,    2.529,2,   0.497,2,   0.296,2,   0.1552,2,  2277.2,2,  2337.7,2,   7.4805,6,    25.00, -999.00,9, -999.00,9, -999.00,-999.000,9,    48.5,3,     -999.0,9,     -999.0,9,         16,     -999.0,9,     -999.0,9,     -999.0,9,     -999.0,9
33RO20180423,        I7N,     103,          1,        117,      11116,9,20180529,       1404,    10.5385,    64.6663,       4391,   450.5,  11.9772,  35.4156,2,  35.4200,2,     20.5,2,  23.7320,2,     33.1,2,     31.0,2,     0.01,2,    2.360,2,   0.897,2,   0.535,2,   0.2671,2,  2265.3,6,  2330.0,2,   7.4879,2,    25.00, -999.00,9, -999.00,9, -999.00,-999.000,9,    54.8,3,     -999.0,9,     -999.0,9,         17,     -999.0,9,     -999.0,9,     -999.0,9,     -999.0,9
33RO20180423,        I7N,     103,          1,        118,      11117,9,20180529,       1404,    10.5385,    64.6663,       4391,   350.1,  12.4488,  35.2705,2,  35.2705,2,     18.2,2,  21.2475,2,     27.9,2,     31.0,2,     0.01,2,    2.269,2,   1.147,2,   0.665,2,   0.3011,2,  2262.2,2,  2321.2,2,   7.4801,2,    25.00, -999.00,9, -999.00,9, -999.00,-999.000,9,    52.1,3,     -999.0,9,     -999.0,9,         18,     -999.0,9,     -999.0,9,     -999.0,9,     -999.0,9
33RO20180423,        I7N,     103,          1,        119,      11083,9,20180529,       1404,    10.5385,    64.6663,       4391,   275.1,  14.0069,  35.3333,2,  35.3365,2,     25.8,2,  29.3990,2,     23.1,2,     27.7,2,     0.00,2,    2.111,2,   1.478,6,   0.861,6,   0.4752,6,  2245.8,2,  2323.2,2,   7.5237,2,    25.00, -999.00,9, -999.00,9, -999.00,-999.000,9,    51.3,3,     -999.0,9,     -999.0,9,         19,     -999.0,9,     -999.0,9,     -999.0,9,     -999.0,9
33RO20180423,        I7N,     103,          1,        120,      11118,9,20180529,       1404,    10.5385,    64.6663,       4391,   200.4,  17.5561,  35.6031,2,  35.6087,2,      5.3,2,   8.2310,2,     19.8,2,     24.8,2,     0.01,2,    2.205,2,   1.348,2,   0.862,2,   0.6153,2,  2246.3,6,  2334.1,2,   7.5465,2,    25.00, -999.00,9, -999.00,9, -999.00,-999.000,9,    53.6,3,     -999.0,9,     -999.0,9,         20,     -999.0,9,     -999.0,9,     -999.0,9,     -999.0,9
33RO20180423,        I7N,     103,          1,        121,      11119,9,20180529,       1404,    10.5385,    64.6663,       4391,   150.2,  20.9334,  35.7528,2,  35.7557,6,     52.0,2,  56.6690,2,     11.8,2,     20.7,2,     0.02,2,    1.627,2,   1.561,2,   0.980,2,   1.0821,2,  2187.3,2,  2337.7,2,   7.7128,2,    25.00, -999.00,9, -999.00,9, -999.00,-999.000,9,    56.5,3,     -999.0,9,     -999.0,9,         21,     -999.0,9,     -999.0,9,     -999.0,9,     -999.0,9
33RO20180423,        I7N,     103,          1,        122,      11120,9,20180529,       1404,    10.5385,    64.6663,       4391,   100.4,  25.6958,  36.2336,2,  36.1849,2,    162.9,2, 166.3980,2,      3.0,2,      4.7,2,     0.46,2,    0.634,2,   1.544,2,   0.991,2,   1.4224,2,  2088.9,2,  2364.0,6,   7.9708,2,    25.00, -999.00,9, -999.00,9, -999.00,-999.000,9,    65.3,3,     -999.0,9,     -999.0,9,         22,     -999.0,9,     -999.0,9,     -999.0,9,     -999.0,9
33RO20180423,        I7N,     103,          1,        123,      11121,9,20180529,       1404,    10.5385,    64.6663,       4391,    50.3,  29.2569,  35.8239,2,  35.8221,2,    191.1,2, 199.6310,2,      1.4,2,      0.0,2,     0.00,2,    0.185,2,   1.425,2,   0.919,2,   1.3962,2,  2015.8,2,  2342.4,2,   8.0712,2,    25.00, -999.00,9, -999.00,9, -999.00,-999.000,9,    71.0,3,     -999.0,9,     -999.0,9,         23,     -999.0,9,     -999.0,9,     -999.0,9,     -999.0,9
33RO20180423,        I7N,     103,          1,        124,      11122,9,20180529,       1404,    10.5385,    64.6663,       4391,     4.6,  29.7542,  35.7084,2,  35.7131,2,    185.1,2, 193.5560,2,      1.3,2,      0.0,2,     0.00,2,    0.155,2,   1.317,2,   0.878,2,   1.3793,2,  2001.3,2,  2338.5,2,   8.0874,6,    25.00, -999.00,9, -999.00,9, -999.00,-999.000,9,    65.7,3,     -999.0,9,     -999.0,9,         24,     -999.0,9,     -999.0,9,     -999.0,9,     -999.0,9