BOTTLE,20230801CCHSIOCBG
EXPOCODE,SECT_ID,STNNBR,CASTNO,SAMPNO,BTLNBR,BTLNBR_FLAG_W,DATE,TIME,LATITUDE,LONGITUDE,DEPTH,CTDPRS,CTDTMP,CTDSAL,CTDSAL_FLAG_W,SALNTY,SALNTY_FLAG_W,CTDOXY,CTDOXY_FLAG_W,OXYGEN,OXYGEN_FLAG_W,SILCAT,SILCAT_FLAG_W,NITRAT,NITRAT_FLAG_W,NITRIT,NITRIT_FLAG_W,PHSPHT,PHSPHT_FLAG_W,CFC-11,CFC-11_FLAG_W,CFC-12,CFC-12_FLAG_W,SF6,SF6_FLAG_W,TCARBN,TCARBN_FLAG_W,ALKALI,ALKALI_FLAG_W,PH_SWS,PH_SWS_FLAG_W,PH_TMP,DELC13,DELC13_FLAG_W,DELC14,DELC14_FLAG_W,C14ERR,CCL4,CCL4_FLAG_W,DOC,DOC_FLAG_W,N2O,N2O_FLAG_W,CALCIUM,CALCIUM_FLAG_W,SAMPNO_U,DNSSAL,DNSSAL_FLAG_W,DNSSAL2,DNSSAL2_FLAG_W,SALNTY_DNSSAL,SALNTY_DNSSAL_FLAG_W,SALNTY_DNSSAL2,SALNTY_DNSSAL2_FLAG_W
,,,,,,,,,,,METERS,DBAR,ITS-90,PSS-78,,PSS-78,,UMOL/KG,,UMOL/KG,,UMOL/KG,,UMOL/KG,,UMOL/KG,,UMOL/KG,,PMOL/KG,,PMOL/KG,,FMOL/KG,,UMOL/KG,,UMOL/KG,,,,DEG C,/MILLE,,/MILLE,,/MILLE,PMOL/KG,,UMOL/KG,,NMOL/KG,,MMOL/KG,,,G/KG,,G/KG,,PSS-78,,PSS-78,
33RO20180423,        I7N,      95,          1,        101,      11010,2,20180527,       0923,     7.1795,    62.0765,       4349,  4404.4,   1.7187,  34.7341,2,  34.7368,2,    137.8,2, 159.5750,2,    137.6,2,     34.9,2,     0.01,2,    2.429,2,   0.006,2,   0.005,2,   0.0017,2,  2314.6,6,  2422.9,2,   7.5899,6,    25.00, -999.00,9, -999.00,9, -999.00,-999.000,1,    42.0,3,     -999.0,1,     -999.0,9,          1,    34.9186,2,     -999.0,9,    34.7370,2,     -999.0,9
33RO20180423,        I7N,      95,          1,        102,      11101,2,20180527,       0923,     7.1795,    62.0765,       4349,  4210.1,   1.7001,  34.7345,2,  34.7358,2,    137.6,2, 158.8700,2,    136.7,2,     35.0,2,     0.00,2,    2.443,2,-999.000,9,-999.000,9,-999.0000,9,  2313.1,2,  2421.0,6,   7.5869,2,    25.00, -999.00,9, -999.00,9, -999.00,-999.000,9,  -999.0,9,     -999.0,9,     -999.0,9,          2,    34.9179,2,     -999.0,9,    34.7361,2,     -999.0,9
33RO20180423,        I7N,      95,          1,        103,      11102,2,20180527,       0923,     7.1795,    62.0765,       4349,  4000.4,   1.6942,  34.7354,2,  34.7369,2,    136.5,2, 158.0640,2,    137.1,2,     35.0,2,     0.00,2,    2.442,2,   0.006,2,   0.005,2,   0.0062,2,  2314.5,2,  2422.3,2,   7.5858,2,    25.00, -999.00,9, -999.00,9, -999.00,-999.000,1,  -999.0,9,     -999.0,1,     -999.0,9,          3,    34.9179,2,     -999.0,9,    34.7365,2,     -999.0,9
33RO20180423,        I7N,      95,          1,        104,      11103,2,20180527,       0923,     7.1795,    62.0765,       4349,  3700.3,   1.6919,  34.7368,2,  34.7503,2,    135.5,2, 156.5680,2,    137.5,2,     35.1,2,     0.01,2,    2.453,2,-999.000,9,-999.000,9,-999.0000,9,  2314.2,2,  2422.2,2,   7.5845,2,    25.00, -999.00,9, -999.00,9, -999.00,-999.000,9,  -999.0,9,     -999.0,9,     -999.0,9,          4,    34.9206,2,     -999.0,9,    34.7376,2,     -999.0,9
33RO20180423,        I7N,      95,          1,        105,      11104,2,20180527,       0923,     7.1795,    62.0765,       4349,  3400.8,   1.7207,  34.7396,2,  34.7402,6,    133.6,2, 154.0930,2,    136.9,2,     35.1,2,     0.00,2,    2.479,2,-999.000,9,-999.000,9,-999.0000,9,  2315.7,2,  2421.2,2,   7.5794,2,    25.00, -999.00,9, -999.00,9, -999.00,-999.000,9,    43.7,3,     -999.0,9,     -999.0,9,          5,    34.9212,2,     -999.0,9,    34.7405,2,     -999.0,9
33RO20180423,        I7N,      95,          1,        106,      11105,2,20180527,       0923,     7.1795,    62.0765,       4349,  3101.2,   1.7790,  34.7439,2,  34.7469,2,    130.9,2, 150.6910,2,    135.8,2,     35.2,2,     0.01,2,    2.490,2,-999.000,9,-999.000,9,-999.0000,9,  2315.0,2,  2421.0,2,   7.5772,2,    25.00, -999.00,9, -999.00,9, -999.00,-999.000,9,  -999.0,9,     -999.0,9,     -999.0,9,          6,    34.9265,2,     -999.0,9,    34.7452,2,     -999.0,9
33RO20180423,        I7N,      95,          1,        107,      11106,2,20180527,       0923,     7.1795,    62.0765,       4349,  2800.3,   1.8747,  34.7503,2,  34.7520,2,    127.4,2, 145.8670,2,    135.6,6,     35.5,6,     0.00,6,    2.495,6,-999.000,9,-999.000,9,-999.0000,9,  2319.7,2,  2420.1,2,   7.5708,2,    25.00, -999.00,9, -999.00,9, -999.00,-999.000,9,    43.4,3,     -999.0,9,     -999.0,9,          7,    34.9337,2,     -999.0,9,    34.7516,2,     -999.0,9
33RO20180423,        I7N,      95,          1,        108,      11107,2,20180527,       0923,     7.1795,    62.0765,       4349,  2500.3,   2.1434,  34.7647,2,  34.7666,2,    120.8,2, 138.1140,2,    133.3,6,     35.8,6,     0.00,6,    2.531,6,-999.000,9,-999.000,9,-999.0000,9,  2318.7,2,  2418.4,2,   7.5613,2,    25.00, -999.00,9, -999.00,9, -999.00,-999.000,9,  -999.0,9,     -999.0,9,     -999.0,9,          8,    34.9463,2,     -999.0,9,    34.7651,2,     -999.0,9
33RO20180423,        I7N,      95,          1,        109,      11108,2,20180527,       0923,     7.1795,    62.0765,       4349,  2200.5,   2.6184,  34.7887,2,  34.7929,2,    110.2,2, 125.0280,2,    127.5,6,     36.3,6,     0.00,6,    2.590,6,-999.000,9,-999.000,9,-999.0000,9,  2321.4,2,  2419.7,3,   7.5441,6,    25.00, -999.00,9, -999.00,9, -999.00,-999.000,9,  -999.0,9,     -999.0,9,     -999.0,9,          9,    34.9693,2,     -999.0,9,    34.7897,2,     -999.0,9
33RO20180423,        I7N,      95,          1,        110,      11109,2,20180527,       0923,     7.1795,    62.0765,       4349,  1883.3,   3.4090,  34.8336,2,  34.8358,2,     92.6,2, 104.7960,2,    119.0,6,     36.8,6,     0.00,6,    2.670,6,-999.000,9,-999.000,9,-999.0000,9,  2320.5,2,  2404.2,2,   7.5203,2,    25.00, -999.00,9, -999.00,9, -999.00,-999.000,9,    43.3,3,     -999.0,9,     -999.0,9,         10,    35.0135,2,     -999.0,9,    34.8338,2,     -999.0,9
33RO20180423,        I7N,      95,          1,        111,      11110,2,20180527,       0923,     7.1795,    62.0765,       4349,  1633.6,   4.4289,  34.9005,2,  34.9016,2,     73.3,2,  82.7850,2,    108.2,2,     37.2,2,     0.00,2,    2.732,2,   0.012,6,   0.008,6,   0.0057,6,  2318.6,2,  2394.5,6,   7.4967,2,    25.00, -999.00,9, -999.00,9, -999.00,-999.000,1,    48.6,3,     -999.0,1,     -999.0,9,         11,    35.0787,2,     -999.0,9,    34.9017,2,     -999.0,9
33RO20180423,        I7N,      95,          1,        112,      11111,2,20180527,       0923,     7.1795,    62.0765,       4349,  1367.6,   5.6561,  34.9921,2,  34.9939,2,     53.3,2,  60.6050,2,     96.2,2,     37.5,2,     0.00,2,    2.793,2,-999.000,9,-999.000,9,-999.0000,9,  2313.4,6,  2382.5,2,   7.4767,2,    25.00, -999.00,9, -999.00,9, -999.00,-999.000,9,    47.6,3,     -999.0,9,     -999.0,9,         12,    35.1690,2,     -999.0,9,    34.9931,2,     -999.0,9
33RO20180423,        I7N,      95,          1,        113,      11112,2,20180527,       0923,     7.1795,    62.0765,       4349,  1167.5,   6.7148,  35.0737,2,  35.0813,2,     39.5,2,  45.1730,2,     86.4,2,     37.4,2,     0.01,2,    2.796,2,   0.044,2,   0.027,2,   0.0265,2,  2310.1,2,  2373.4,2,   7.4659,2,    25.00, -999.00,9, -999.00,9, -999.00,-999.000,1,  -999.0,9,     -999.0,1,     -999.0,9,         13,    35.2500,2,     -999.0,9,    35.0743,2,     -999.0,9
33RO20180423,        I7N,      95,          1,        114,      11113,2,20180527,       0923,     7.1795,    62.0765,       4349,   950.7,   7.8489,  35.1338,2,  35.1382,2,     29.6,2,  34.4190,2,     74.7,2,     37.0,2,     0.01,2,    2.742,2,-999.000,9,-999.000,9,-999.0000,9,  2301.5,2,  2363.1,2,   7.4594,2,    25.00, -999.00,9, -999.00,9, -999.00,-999.000,9,  -999.0,9,     -999.0,9,     -999.0,9,         14,    35.3093,2,     -999.0,9,    35.1336,2,     -999.0,9
33RO20180423,        I7N,      95,          1,        115,      11114,2,20180527,       0923,     7.1795,    62.0765,       4349,   800.0,   8.7937,  35.2033,2,  35.2041,2,     23.5,2,  27.7410,2,     64.8,2,     36.1,2,     0.01,2,    2.720,2,   0.150,2,   0.089,2,    0.032,2,  2291.8,2,  2355.4,2,   7.4631,2,    25.00, -999.00,9, -999.00,9, -999.00,-999.000,1,  -999.0,9,     -999.0,1,     -999.0,9,         15,    35.3766,2,     -999.0,9,    35.2041,2,     -999.0,9
33RO20180423,        I7N,      95,          1,        116,      11115,2,20180527,       0923,     7.1795,    62.0765,       4349,   650.2,  10.0736,  35.3064,2,  35.3052,2,     20.6,2,  24.4140,2,     52.3,2,     34.5,2,     0.01,2,    2.603,2,   0.337,2,   0.195,2,   0.0693,2,  2280.3,2,  2345.9,2,   7.4738,2,    25.00, -999.00,9, -999.00,9, -999.00,-999.000,1,    49.6,3,     -999.0,1,     -999.0,9,         16,    35.4767,2,     -999.0,9,    35.3046,2,     -999.0,9
33RO20180423,        I7N,      95,          1,        117,      11116,2,20180527,       0923,     7.1795,    62.0765,       4349,   480.5,  10.9869,  35.2792,2,  35.2812,2,     35.5,2,  40.5290,2,     37.0,2,     31.8,2,     0.01,2,    2.338,2,   0.885,2,   0.494,2,    0.201,2,  2255.8,2,  2331.5,2,   7.5032,2,    25.00, -999.00,9, -999.00,9, -999.00,-999.000,1,  -999.0,9,     -999.0,1,     -999.0,9,         17,    35.4510,2,     -999.0,9,    35.2798,2,     -999.0,9
33RO20180423,        I7N,      95,          1,        118,      11117,2,20180527,       0923,     7.1795,    62.0765,       4349,   375.9,  11.5921,  35.2291,2,  35.2287,2,     33.7,2,  38.1700,2,     30.6,2,     31.2,2,     0.01,2,    2.237,2,-999.000,9,-999.000,9,-999.0000,9,  2248.8,2,  2323.8,2,   7.5013,2,    25.00, -999.00,9, -999.00,9, -999.00,-999.000,9,    52.9,3,     -999.0,9,     -999.0,9,         18,    35.3989,2,     -999.0,9,    35.2292,2,     -999.0,9
33RO20180423,        I7N,      95,          1,        119,      11083,2,20180527,       0923,     7.1795,    62.0765,       4349,   299.9,  12.6153,  35.2683,2,  35.2663,2,     47.0,2,  51.2770,2,     24.8,2,     28.1,2,     0.00,2,    2.030,2,   1.556,2,   0.877,2,   0.4888,2,  2234.5,2,  2319.0,2,   7.5399,2,    25.00, -999.00,9, -999.00,9, -999.00,-999.000,1,    56.7,3,     -999.0,1,     -999.0,9,         19,    35.4345,2,     -999.0,9,    35.2660,2,     -999.0,9
33RO20180423,        I7N,      95,          1,        120,      11118,2,20180527,       0923,     7.1795,    62.0765,       4349,   218.2,  13.9167,  35.2789,2,  35.2781,2,     50.8,2,  55.8350,2,     21.1,2,     26.0,2,     0.01,2,    1.896,2,   1.721,2,   0.986,2,   0.6176,2,  2220.4,2,  2322.6,2,   7.5744,2,    25.00, -999.00,9, -999.00,9, -999.00,-999.000,1,    56.1,3,     -999.0,1,     -999.0,9,         20,    35.4470,2,     -999.0,9,    35.2792,2,     -999.0,9
33RO20180423,        I7N,      95,          1,        121,      11119,2,20180527,       0923,     7.1795,    62.0765,       4349,   167.9,  17.1830,  35.4756,2,  35.4763,6,     15.8,2,  19.3740,2,     19.3,2,     26.3,2,     0.01,2,    2.070,2,   1.478,2,   0.895,2,   0.7039,2,  2229.8,2,  2328.9,2,   7.5664,2,    25.00, -999.00,9, -999.00,9, -999.00,-999.000,1,    59.8,3,     -999.0,1,     -999.0,9,         21,    35.6414,2,     -999.0,9,    35.4736,2,     -999.0,9
33RO20180423,        I7N,      95,          1,        122,      11120,2,20180527,       0923,     7.1795,    62.0765,       4349,   117.9,  20.2784,  35.5139,2,  35.5070,2,     32.2,2,  35.6030,2,     14.3,2,     23.6,2,     0.02,2,    1.749,2,   1.502,2,   0.913,2,    0.856,2,  2188.8,2,  2323.1,2,   7.6683,2,    25.00, -999.00,9, -999.00,9, -999.00,-999.000,1,    60.8,3,     -999.0,1,     -999.0,9,         22,    35.6750,2,     -999.0,9,    35.5079,2,     -999.0,9
33RO20180423,        I7N,      95,          1,        123,      11121,2,20180527,       0923,     7.1795,    62.0765,       4349,    65.6,  27.7740,  35.7043,2,  35.7087,2,    186.4,2, 196.2260,2,      1.9,2,      0.0,2,     0.01,2,    0.223,2,-999.000,1,-999.000,1,-999.0000,1,  2022.2,2,  2339.5,2,   8.0434,6,    25.00, -999.00,9, -999.00,9, -999.00,-999.000,1,    76.2,3,     -999.0,1,     -999.0,9,         23,    35.8799,2,     -999.0,9,    35.7136,2,     -999.0,9
33RO20180423,        I7N,      95,          1,        124,      11122,2,20180527,       0923,     7.1795,    62.0765,       4349,     3.5,  30.2347,  34.8840,2,  34.8841,2,    184.0,2, 193.0720,2,      1.4,2,      0.0,2,     0.00,2,    0.102,2,   1.374,2,   0.876,2,   1.3407,2,  1958.8,6,  2293.3,6,   8.0895,2,    25.00, -999.00,9, -999.00,9, -999.00,-999.000,1,    80.7,3,     -999.0,1,     -999.0,9,         24,    35.0504,2,     -999.0,9,    34.8891,2,     -999.0,9