BOTTLE,20230801CCHSIOCBG
EXPOCODE,SECT_ID,STNNBR,CASTNO,SAMPNO,BTLNBR,BTLNBR_FLAG_W,DATE,TIME,LATITUDE,LONGITUDE,DEPTH,CTDPRS,CTDTMP,CTDSAL,CTDSAL_FLAG_W,SALNTY,SALNTY_FLAG_W,CTDOXY,CTDOXY_FLAG_W,OXYGEN,OXYGEN_FLAG_W,SILCAT,SILCAT_FLAG_W,NITRAT,NITRAT_FLAG_W,NITRIT,NITRIT_FLAG_W,PHSPHT,PHSPHT_FLAG_W,CFC-11,CFC-11_FLAG_W,CFC-12,CFC-12_FLAG_W,SF6,SF6_FLAG_W,TCARBN,TCARBN_FLAG_W,ALKALI,ALKALI_FLAG_W,PH_SWS,PH_SWS_FLAG_W,PH_TMP,DELC13,DELC13_FLAG_W,DELC14,DELC14_FLAG_W,C14ERR,CCL4,CCL4_FLAG_W,DOC,DOC_FLAG_W,N2O,N2O_FLAG_W,CALCIUM,CALCIUM_FLAG_W,SAMPNO_U,DNSSAL,DNSSAL_FLAG_W,DNSSAL2,DNSSAL2_FLAG_W,SALNTY_DNSSAL,SALNTY_DNSSAL_FLAG_W,SALNTY_DNSSAL2,SALNTY_DNSSAL2_FLAG_W
,,,,,,,,,,,METERS,DBAR,ITS-90,PSS-78,,PSS-78,,UMOL/KG,,UMOL/KG,,UMOL/KG,,UMOL/KG,,UMOL/KG,,UMOL/KG,,PMOL/KG,,PMOL/KG,,FMOL/KG,,UMOL/KG,,UMOL/KG,,,,DEG C,/MILLE,,/MILLE,,/MILLE,PMOL/KG,,UMOL/KG,,NMOL/KG,,MMOL/KG,,,G/KG,,G/KG,,PSS-78,,PSS-78,
33RO20180423,        I7N,      32,          1,        101,      11010,2,20180506,       0138,   -17.3687,    54.9963,       4655,  4735.3,   1.0993,  34.7082,2,  34.7086,2,    174.9,2, 202.6700,2,    125.0,6,     32.4,6,     0.00,6,    2.248,6,   0.072,2,   0.036,2,   0.0071,2,  2270.0,2,  2382.3,4,   7.6000,6,    25.00, -999.00,9, -999.00,9, -999.00,-999.000,1,  -999.0,9,     -999.0,1,     -999.0,9,          1,     -999.0,9,     -999.0,9,     -999.0,9,     -999.0,9
33RO20180423,        I7N,      32,          1,        102,      11101,2,20180506,       0138,   -17.3687,    54.9963,       4655,  4357.9,   1.1771,  34.7126,2,  34.7145,2,    169.7,2, 196.5600,2,    126.4,6,     32.7,6,     0.00,6,    2.265,6,-999.000,9,-999.000,9,-999.0000,9,  -999.0,9,  2380.1,6,   7.5999,2,    25.00, -999.00,9, -999.00,9, -999.00,-999.000,9,  -999.0,9,     -999.0,9,     -999.0,9,          2,     -999.0,9,     -999.0,9,     -999.0,9,     -999.0,9
33RO20180423,        I7N,      32,          1,        103,      11102,2,20180506,       0138,   -17.3687,    54.9963,       4655,  3975.7,   1.3955,  34.7216,2,  34.7349,2,    159.4,2, 184.6135,2,    127.4,6,     33.2,6,     0.00,6,    2.311,6,   0.020,2,   0.010,2,   0.0104,2,  2282.6,2,  2393.2,2,   7.5963,2,    25.00, -999.00,9, -999.00,9, -999.00,-999.000,1,  -999.0,9,     -999.0,1,     -999.0,9,          3,     -999.0,9,     -999.0,9,     -999.0,9,     -999.0,9
33RO20180423,        I7N,      32,          1,        104,      11103,2,20180506,       0138,   -17.3687,    54.9963,       4655,  3676.7,   1.6397,  34.7305,2,  34.7374,6,    148.0,2, 171.5740,2,    129.5,6,     33.9,6,     0.00,6,    2.363,6,-999.000,9,-999.000,9,-999.0000,9,  -999.0,9,  2401.0,2,   7.5898,2,    25.00, -999.00,9, -999.00,9, -999.00,-999.000,9,  -999.0,9,     -999.0,9,     -999.0,9,          4,     -999.0,9,     -999.0,9,     -999.0,9,     -999.0,9
33RO20180423,        I7N,      32,          1,        105,      11104,2,20180506,       0138,   -17.3687,    54.9963,       4655,  3375.5,   1.7728,  34.7354,2,  34.7382,2,    142.8,2, 164.8760,2,    130.2,2,     34.2,2,     0.00,2,    2.390,2,   0.004,2,   0.003,2,        0,2,  2300.9,2,  2402.8,2,   7.5853,2,    25.00, -999.00,9, -999.00,9, -999.00,-999.000,1,  -999.0,9,     -999.0,1,     -999.0,9,          5,     -999.0,9,     -999.0,9,     -999.0,9,     -999.0,9
33RO20180423,        I7N,      32,          1,        106,      11105,2,20180506,       0138,   -17.3687,    54.9963,       4655,  3075.7,   1.8673,  34.7388,2,  34.7401,2,    140.0,2, 161.1890,2,    129.3,2,     34.4,2,     0.00,2,    2.401,2,-999.000,9,-999.000,9,-999.0000,9,  -999.0,9,  2395.9,4,   7.5832,2,    25.00, -999.00,9, -999.00,9, -999.00,-999.000,9,  -999.0,9,     -999.0,9,     -999.0,9,          6,     -999.0,9,     -999.0,9,     -999.0,9,     -999.0,9
33RO20180423,        I7N,      32,          1,        107,      11106,2,20180506,       0138,   -17.3687,    54.9963,       4655,  2775.0,   1.9766,  34.7409,2,  34.7418,2,    138.4,2, 158.5410,2,    126.4,2,     34.3,2,     0.00,2,    2.410,2,   0.003,2,   0.002,2,        0,2,  2301.7,2,  2400.2,2,   7.5806,2,    25.00, -999.00,9, -999.00,9, -999.00,-999.000,1,  -999.0,9,     -999.0,1,     -999.0,9,          7,     -999.0,9,     -999.0,9,     -999.0,9,     -999.0,9
33RO20180423,        I7N,      32,          1,        108,      11107,2,20180506,       0138,   -17.3687,    54.9963,       4655,  2468.0,   2.1151,  34.7397,2,  34.7432,2,    137.9,2, 157.3110,2,    122.1,2,     34.3,2,     0.00,2,    2.399,2,-999.000,9,-999.000,9,-999.0000,9,  -999.0,9,  2395.2,2,   7.5775,2,    25.00, -999.00,9, -999.00,9, -999.00,-999.000,9,  -999.0,9,     -999.0,9,     -999.0,9,          8,     -999.0,9,     -999.0,9,     -999.0,9,     -999.0,9
33RO20180423,        I7N,      32,          1,        109,      11108,2,20180506,       0138,   -17.3687,    54.9963,       4655,  2176.3,   2.3143,  34.7323,2,  34.7350,2,    138.9,2, 157.2160,2,    114.5,2,     34.1,2,     0.00,2,    2.380,2,-999.000,9,-999.000,9,-999.0000,9,  2291.1,2,  2388.1,2,   7.5763,2,    25.00, -999.00,9, -999.00,9, -999.00,-999.000,9,  -999.0,9,     -999.0,9,     -999.0,9,          9,     -999.0,9,     -999.0,9,     -999.0,9,     -999.0,9
33RO20180423,        I7N,      32,          1,        110,      11109,2,20180506,       0138,   -17.3687,    54.9963,       4655,  1863.5,   2.6913,  34.7096,2,  34.7151,2,    138.5,2, 155.9510,2,    102.2,2,     33.9,2,     0.00,2,    2.379,2,   0.024,6,   0.011,6,        0,6,  -999.0,9,  2375.7,2,   7.5714,2,    25.00, -999.00,9, -999.00,9, -999.00,-999.000,1,  -999.0,9,     -999.0,1,     -999.0,9,         10,     -999.0,9,     -999.0,9,     -999.0,9,     -999.0,9
33RO20180423,        I7N,      32,          1,        111,      11110,2,20180506,       0138,   -17.3687,    54.9963,       4655,  1613.3,   3.2408,  34.6784,2,  34.6801,2,    132.6,2, 148.1600,2,     91.3,2,     34.1,2,     0.00,2,    2.383,2,-999.000,9,-999.000,9,-999.0000,9,  2271.4,2,  2362.5,2,   7.5610,2,    25.00, -999.00,9, -999.00,9, -999.00,-999.000,9,  -999.0,9,     -999.0,9,     -999.0,9,         11,     -999.0,9,     -999.0,9,     -999.0,9,     -999.0,9
33RO20180423,        I7N,      32,          1,        112,      11111,2,20180506,       0138,   -17.3687,    54.9963,       4655,  1350.2,   4.1038,  34.6791,2,  34.7001,2,    117.3,2, 130.1440,2,     85.4,2,     34.6,2,     0.00,2,    2.450,2,   0.105,2,   0.054,2,        0,2,  -999.0,9,  2357.6,2,   7.5442,2,    25.00, -999.00,9, -999.00,9, -999.00,-999.000,1,  -999.0,9,     -999.0,1,     -999.0,9,         12,     -999.0,9,     -999.0,9,     -999.0,9,     -999.0,9
33RO20180423,        I7N,      32,          1,        113,      11112,2,20180506,       0138,   -17.3687,    54.9963,       4655,  1149.6,   5.0334,  34.6997,2,  34.7025,2,    104.1,2, 114.9490,2,     79.7,2,     34.8,2,     0.00,2,    2.481,2,-999.000,9,-999.000,9,-999.0000,9,  2269.4,2,  2353.4,2,   7.5369,2,    25.00, -999.00,9, -999.00,9, -999.00,-999.000,9,  -999.0,9,     -999.0,9,     -999.0,9,         13,     -999.0,9,     -999.0,9,     -999.0,9,     -999.0,9
33RO20180423,        I7N,      32,          1,        114,      11113,2,20180506,       0138,   -17.3687,    54.9963,       4655,   937.4,   6.1909,  34.6836,2,  34.6873,2,    106.9,2, 117.3160,2,     62.2,2,     33.1,2,     0.00,2,    2.350,2,   0.532,2,   0.275,2,   0.1017,2,  2248.3,2,  2335.6,6,   7.5505,2,    25.00, -999.00,9, -999.00,9, -999.00,-999.000,1,  -999.0,9,     -999.0,1,     -999.0,9,         14,     -999.0,9,     -999.0,9,     -999.0,9,     -999.0,9
33RO20180423,        I7N,      32,          1,        115,      11114,2,20180506,       0138,   -17.3687,    54.9963,       4655,   786.3,   6.8510,  34.6659,2,  34.7099,2,    119.9,2, 130.9720,2,     49.6,2,     31.0,2,     0.00,2,    2.178,2,-999.000,9,-999.000,9,-999.0000,9,  -999.0,9,  2325.3,2,   7.5779,6,    25.00, -999.00,9, -999.00,9, -999.00,-999.000,9,  -999.0,9,     -999.0,9,     -999.0,9,         15,     -999.0,9,     -999.0,9,     -999.0,9,     -999.0,9
33RO20180423,        I7N,      32,          1,        116,      11115,2,20180506,       0138,   -17.3687,    54.9963,       4655,   637.9,   8.5177,  34.6720,2,  34.6818,2,    168.1,2, 182.0530,2,     21.2,2,     23.3,2,     0.00,2,    1.627,2,   2.431,2,   1.298,2,   0.6998,2,  2172.8,2,  2302.5,2,   7.6757,2,    25.00, -999.00,9, -999.00,9, -999.00,-999.000,1,  -999.0,9,     -999.0,1,     -999.0,9,         16,     -999.0,9,     -999.0,9,     -999.0,9,     -999.0,9
33RO20180423,        I7N,      32,          1,        117,      11116,2,20180506,       0138,   -17.3687,    54.9963,       4655,   475.6,  10.7804,  34.8954,2,  34.9191,2,    184.0,2, 198.7060,2,     10.4,2,     16.4,2,     0.00,2,    1.178,2,-999.000,9,-999.000,9,-999.0000,9,  2143.6,2,  2321.5,4,   7.7468,2,    25.00, -999.00,9, -999.00,9, -999.00,-999.000,9,  -999.0,9,     -999.0,9,     -999.0,9,         17,     -999.0,9,     -999.0,9,     -999.0,9,     -999.0,9
33RO20180423,        I7N,      32,          1,        118,      11117,2,20180506,       0138,   -17.3687,    54.9963,       4655,   369.8,  12.8369,  35.0394,2,  35.0834,2,    111.1,2, 120.7720,2,     19.8,2,     20.6,2,     0.01,2,    1.449,2,   2.054,2,   1.162,2,    0.869,2,  2177.4,2,  2313.6,2,   7.6886,2,    25.00, -999.00,9, -999.00,9, -999.00,-999.000,1,  -999.0,9,     -999.0,1,     -999.0,9,         18,     -999.0,9,     -999.0,9,     -999.0,9,     -999.0,9
33RO20180423,        I7N,      32,          1,        119,      11083,2,20180506,       0138,   -17.3687,    54.9963,       4655,   294.4,  14.7110,  35.1063,2,  35.1175,2,     95.8,2, 103.1590,2,     19.8,2,     19.8,2,     0.01,2,    1.412,2,-999.000,9,-999.000,9,-999.0000,9,  -999.0,9,  2319.4,2,   7.6956,2,    25.00, -999.00,9, -999.00,9, -999.00,-999.000,9,  -999.0,9,     -999.0,9,     -999.0,9,         19,     -999.0,9,     -999.0,9,     -999.0,9,     -999.0,9
33RO20180423,        I7N,      32,          1,        120,      11118,2,20180506,       0138,   -17.3687,    54.9963,       4655,   212.4,  18.5242,  35.2452,2,  35.2469,2,    103.8,2, 111.1690,2,     12.9,2,     14.9,2,     0.01,2,    1.096,2,   1.863,2,   1.125,2,   1.1045,2,  2133.5,2,  2316.5,2,   7.7843,2,    25.00, -999.00,9, -999.00,9, -999.00,-999.000,1,  -999.0,9,     -999.0,1,     -999.0,9,         20,     -999.0,9,     -999.0,9,     -999.0,9,     -999.0,9
33RO20180423,        I7N,      32,          1,        121,      11119,2,20180506,       0138,   -17.3687,    54.9963,       4655,   163.1,  20.6019,  35.2568,2,  35.2591,2,    128.7,2, 137.8310,2,      8.8,2,      9.6,2,     0.02,2,    0.765,2,-999.000,9,-999.000,9,-999.0000,9,  2091.0,2,  2313.9,2,   7.8729,2,    25.00, -999.00,9, -999.00,9, -999.00,-999.000,9,  -999.0,9,     -999.0,9,     -999.0,9,         21,     -999.0,9,     -999.0,9,     -999.0,9,     -999.0,9
33RO20180423,        I7N,      32,          1,        122,      11120,2,20180506,       0138,   -17.3687,    54.9963,       4655,    92.7,  24.1726,  35.1387,2,  35.1420,2,    193.5,2, 205.2600,2,      2.3,2,      0.1,2,     0.01,2,    0.146,2,   1.725,2,   1.091,2,   1.4918,2,  2000.6,2,  2305.3,6,   8.0313,2,    25.00, -999.00,9, -999.00,9, -999.00,-999.000,1,  -999.0,9,     -999.0,1,     -999.0,9,         22,     -999.0,9,     -999.0,9,     -999.0,9,     -999.0,9
33RO20180423,        I7N,      32,          1,        123,      11121,2,20180506,       0138,   -17.3687,    54.9963,       4655,    45.8,  27.8861,  34.6325,2,  34.6634,2,    187.6,2, 198.7070,2,      2.2,2,      0.0,2,     0.00,2,    0.139,2,-999.000,9,-999.000,9,-999.0000,9,  -999.0,9,  2268.2,2,   8.0656,6,    25.00, -999.00,9, -999.00,9, -999.00,-999.000,9,  -999.0,9,     -999.0,9,     -999.0,9,         23,     -999.0,9,     -999.0,9,     -999.0,9,     -999.0,9
33RO20180423,        I7N,      32,          1,        124,      11122,2,20180506,       0138,   -17.3687,    54.9963,       4655,     3.2,  27.8777,  34.6326,2,  34.6355,2,    187.9,2, 198.2980,2,      2.2,2,      0.0,2,     0.00,2,    0.123,2,   1.454,2,   0.933,2,   1.4412,2,  1950.3,6,  2265.6,2,   8.0678,2,    25.00, -999.00,9, -999.00,9, -999.00,-999.000,1,  -999.0,9,     -999.0,1,     -999.0,9,         24,     -999.0,9,     -999.0,9,     -999.0,9,     -999.0,9