BOTTLE,20230801CCHSIOCBG
EXPOCODE,SECT_ID,STNNBR,CASTNO,SAMPNO,BTLNBR,BTLNBR_FLAG_W,DATE,TIME,LATITUDE,LONGITUDE,DEPTH,CTDPRS,CTDTMP,CTDSAL,CTDSAL_FLAG_W,SALNTY,SALNTY_FLAG_W,CTDOXY,CTDOXY_FLAG_W,OXYGEN,OXYGEN_FLAG_W,SILCAT,SILCAT_FLAG_W,NITRAT,NITRAT_FLAG_W,NITRIT,NITRIT_FLAG_W,PHSPHT,PHSPHT_FLAG_W,CFC-11,CFC-11_FLAG_W,CFC-12,CFC-12_FLAG_W,SF6,SF6_FLAG_W,TCARBN,TCARBN_FLAG_W,ALKALI,ALKALI_FLAG_W,PH_SWS,PH_SWS_FLAG_W,PH_TMP,DELC13,DELC13_FLAG_W,DELC14,DELC14_FLAG_W,C14ERR,CCL4,CCL4_FLAG_W,DOC,DOC_FLAG_W,N2O,N2O_FLAG_W,CALCIUM,CALCIUM_FLAG_W,SAMPNO_U,DNSSAL,DNSSAL_FLAG_W,DNSSAL2,DNSSAL2_FLAG_W,SALNTY_DNSSAL,SALNTY_DNSSAL_FLAG_W,SALNTY_DNSSAL2,SALNTY_DNSSAL2_FLAG_W
,,,,,,,,,,,METERS,DBAR,ITS-90,PSS-78,,PSS-78,,UMOL/KG,,UMOL/KG,,UMOL/KG,,UMOL/KG,,UMOL/KG,,UMOL/KG,,PMOL/KG,,PMOL/KG,,FMOL/KG,,UMOL/KG,,UMOL/KG,,,,DEG C,/MILLE,,/MILLE,,/MILLE,PMOL/KG,,UMOL/KG,,NMOL/KG,,MMOL/KG,,,G/KG,,G/KG,,PSS-78,,PSS-78,
33RO20180423,        I7N,      20,          1,        101,      11010,2,20180502,       2029,   -23.3332,    54.5015,       4228,  4295.6,   1.1860,  34.7129,2,  34.7157,2,    171.8,2, 197.3860,2,    125.8,6,     33.4,6,     0.00,6,    2.313,6,   0.057,2,   0.030,2,   0.0004,2,  2275.9,6,  2381.5,2,   7.6416,4,    25.00, -999.00,9, -999.00,9, -999.00,-999.000,1,  -999.0,9,     -999.0,1,     -999.0,9,          1,     -999.0,9,     -999.0,9,     -999.0,9,     -999.0,9
33RO20180423,        I7N,      20,          1,        102,      11101,2,20180502,       2029,   -23.3332,    54.5015,       4228,  3986.0,   1.2757,  34.7173,2,  34.7200,2,    167.3,2, 191.3780,2,    124.5,6,     33.4,6,     0.00,6,    2.311,6,-999.000,9,-999.000,9,-999.0000,9,  2280.8,2,  2387.4,6,   7.5980,2,    25.00, -999.00,9, -999.00,9, -999.00,-999.000,9,  -999.0,9,     -999.0,9,     -999.0,9,          2,     -999.0,9,     -999.0,9,     -999.0,9,     -999.0,9
33RO20180423,        I7N,      20,          1,        103,      11102,2,20180502,       2029,   -23.3332,    54.5015,       4228,  3676.0,   1.4891,  34.7251,2,  34.7495,2,    157.6,2, 180.8380,2,    122.6,6,     33.6,6,     0.00,6,    2.329,6,   0.014,2,   0.007,2,        0,2,  -999.0,9,  -999.0,9,   7.5931,6,    25.00, -999.00,9, -999.00,9, -999.00,-999.000,1,  -999.0,9,     -999.0,1,     -999.0,9,          3,     -999.0,9,     -999.0,9,     -999.0,9,     -999.0,9
33RO20180423,        I7N,      20,          1,        104,      11103,2,20180502,       2029,   -23.3332,    54.5015,       4228,  3374.8,   1.7005,  34.7324,2,  34.7346,2,    148.8,2, 170.2400,2,    117.8,6,     33.4,6,     0.00,6,    2.317,6,   0.005,2,   0.004,2,        0,2,  2296.9,2,  2397.2,2,   7.5887,2,    25.00, -999.00,9, -999.00,9, -999.00,-999.000,1,  -999.0,9,     -999.0,1,     -999.0,9,          4,     -999.0,9,     -999.0,9,     -999.0,9,     -999.0,9
33RO20180423,        I7N,      20,          1,        105,      11104,2,20180502,       2029,   -23.3332,    54.5015,       4228,  3077.3,   1.8686,  34.7379,2,  34.7392,2,    142.5,2, 162.6800,2,    126.9,2,     34.1,2,     0.00,2,    2.373,2,   0.005,6,   0.004,6,   0.0039,6,  -999.0,9,  -999.0,9,   7.5845,2,    25.00, -999.00,9, -999.00,9, -999.00,-999.000,1,  -999.0,9,     -999.0,1,     -999.0,9,          5,     -999.0,9,     -999.0,9,     -999.0,9,     -999.0,9
33RO20180423,        I7N,      20,          1,        106,      11105,2,20180502,       2029,   -23.3332,    54.5015,       4228,  2775.3,   2.0239,  34.7403,2,  34.7403,2,    141.6,2, 160.9700,2,    123.2,2,     33.9,2,     0.00,2,    2.350,2,-999.000,9,-999.000,9,-999.0000,9,  2296.9,2,  2395.3,2,   7.5807,2,    25.00, -999.00,9, -999.00,9, -999.00,-999.000,9,  -999.0,9,     -999.0,9,     -999.0,9,          6,     -999.0,9,     -999.0,9,     -999.0,9,     -999.0,9
33RO20180423,        I7N,      20,          1,        107,      11106,2,20180502,       2029,   -23.3332,    54.5015,       4228,  2475.0,   2.1636,  34.7387,2,  34.7682,2,    141.0,2, 159.7960,2,    118.1,2,     33.8,2,     0.00,2,    2.351,2,   0.009,2,   0.006,2,        0,2,  -999.0,9,  -999.0,9,   7.5788,2,    25.00, -999.00,9, -999.00,9, -999.00,-999.000,1,  -999.0,9,     -999.0,1,     -999.0,9,          7,     -999.0,9,     -999.0,9,     -999.0,9,     -999.0,9
33RO20180423,        I7N,      20,          1,        108,      11107,2,20180502,       2029,   -23.3332,    54.5015,       4228,  2175.6,   2.3485,  34.7296,2,  34.7312,2,    146.0,2, 164.0820,2,    106.6,2,     33.1,2,     0.00,2,    2.297,2,-999.000,9,-999.000,9,-999.0000,9,  2280.4,2,  2382.8,2,   7.5829,2,    25.00, -999.00,9, -999.00,9, -999.00,-999.000,9,  -999.0,9,     -999.0,9,     -999.0,9,          8,     -999.0,9,     -999.0,9,     -999.0,9,     -999.0,9
33RO20180423,        I7N,      20,          1,        109,      11108,2,20180502,       2029,   -23.3332,    54.5015,       4228,  1862.9,   2.5390,  34.7012,2,  34.7029,2,    150.5,2, 168.3000,2,     94.2,2,     32.7,2,     0.00,2,    2.253,2,-999.000,9,-999.000,9,-999.0000,9,  -999.0,9,  -999.0,9,   7.5825,2,    25.00, -999.00,9, -999.00,9, -999.00,-999.000,9,  -999.0,9,     -999.0,9,     -999.0,9,          9,     -999.0,9,     -999.0,9,     -999.0,9,     -999.0,9
33RO20180423,        I7N,      20,          1,        110,      11109,2,20180502,       2029,   -23.3332,    54.5015,       4228,  1612.8,   2.9003,  34.6436,2,  34.6461,2,    147.4,2, 163.6075,2,     84.1,2,     33.3,2,     0.00,2,    2.296,2,-999.000,9,-999.000,9,-999.0000,9,  2260.3,2,  2353.5,6,   7.5701,2,    25.00, -999.00,9, -999.00,9, -999.00,-999.000,9,  -999.0,9,     -999.0,9,     -999.0,9,         10,     -999.0,9,     -999.0,9,     -999.0,9,     -999.0,9
33RO20180423,        I7N,      20,          1,        111,      11110,2,20180502,       2029,   -23.3332,    54.5015,       4228,  1351.6,   3.4959,  34.5754,2,  34.5870,2,    139.2,2, 153.6530,2,     75.6,2,     34.2,2,     0.00,2,    2.355,2,-999.000,9,-999.000,9,-999.0000,9,  -999.0,9,  -999.0,9,   7.5551,6,    25.00, -999.00,9, -999.00,9, -999.00,-999.000,9,  -999.0,9,     -999.0,9,     -999.0,9,         11,     -999.0,9,     -999.0,9,     -999.0,9,     -999.0,9
33RO20180423,        I7N,      20,          1,        112,      11111,2,20180502,       2029,   -23.3332,    54.5015,       4228,  1151.5,   4.4118,  34.5063,2,  34.5094,6,    141.5,2, 155.4990,2,     60.2,2,     33.4,2,     0.00,2,    2.315,2,-999.000,9,-999.000,9,-999.0000,9,  2239.1,2,  2332.8,2,   7.5658,2,    25.00, -999.00,9, -999.00,9, -999.00,-999.000,9,  -999.0,9,     -999.0,9,     -999.0,9,         12,     -999.0,9,     -999.0,9,     -999.0,9,     -999.0,9
33RO20180423,        I7N,      20,          1,        113,      11112,2,20180502,       2029,   -23.3332,    54.5015,       4228,   937.8,   6.4100,  34.4682,2,  34.5575,2,    178.1,2, 193.9310,2,     25.0,2,     27.0,2,     0.00,2,    1.873,2,-999.000,9,-999.000,9,-999.0000,9,  2183.2,2,  2296.6,2,   7.6430,2,    25.00, -999.00,9, -999.00,9, -999.00,-999.000,9,  -999.0,9,     -999.0,9,     -999.0,9,         13,     -999.0,9,     -999.0,9,     -999.0,9,     -999.0,9
33RO20180423,        I7N,      20,          1,        114,      11113,2,20180502,       2029,   -23.3332,    54.5015,       4228,   787.8,   8.8337,  34.6541,2,  34.6874,2,    196.3,2, 212.7010,2,     10.3,2,     19.5,2,     0.00,2,    1.386,2,-999.000,9,-999.000,9,-999.0000,9,  2149.3,2,  2292.6,2,   7.7217,2,    25.00, -999.00,9, -999.00,9, -999.00,-999.000,9,  -999.0,9,     -999.0,9,     -999.0,9,         14,     -999.0,9,     -999.0,9,     -999.0,9,     -999.0,9
33RO20180423,        I7N,      20,          1,        115,      11114,2,20180502,       2029,   -23.3332,    54.5015,       4228,   638.4,  10.8463,  34.9003,2,  34.9039,2,    208.2,2, 224.4590,2,      5.1,2,     13.6,2,     0.00,2,    1.011,2,-999.000,9,-999.000,9,-999.0000,9,  2132.8,2,  2300.9,2,   7.7817,2,    25.00, -999.00,9, -999.00,9, -999.00,-999.000,9,  -999.0,9,     -999.0,9,     -999.0,9,         15,     -999.0,9,     -999.0,9,     -999.0,9,     -999.0,9
33RO20180423,        I7N,      20,          1,        116,      11115,2,20180502,       2029,   -23.3332,    54.5015,       4228,   472.4,  12.9814,  35.2119,2,  35.2169,6,    202.5,2, 217.7130,2,      4.2,2,      9.4,2,     0.00,2,    0.754,2,-999.000,9,-999.000,9,-999.0000,9,  2124.6,2,  2316.2,2,   7.8240,2,    25.00, -999.00,9, -999.00,9, -999.00,-999.000,9,  -999.0,9,     -999.0,9,     -999.0,9,         16,     -999.0,9,     -999.0,9,     -999.0,9,     -999.0,9
33RO20180423,        I7N,      20,          1,        117,      11116,2,20180502,       2029,   -23.3332,    54.5015,       4228,   368.1,  14.4974,  35.3877,2,  35.3912,2,    195.9,2, 209.6540,2,      3.9,2,      7.0,2,     0.00,2,    0.615,2,-999.000,9,-999.000,9,-999.0000,9,  2115.9,2,  2325.4,2,   7.8521,2,    25.00, -999.00,9, -999.00,9, -999.00,-999.000,9,  -999.0,9,     -999.0,9,     -999.0,9,         17,     -999.0,9,     -999.0,9,     -999.0,9,     -999.0,9
33RO20180423,        I7N,      20,          1,        118,      11117,2,20180502,       2029,   -23.3332,    54.5015,       4228,   294.4,  16.3180,  35.4970,2,  35.4976,2,    175.0,2, 186.9890,2,      5.5,2,      6.5,2,     0.01,2,    0.581,2,-999.000,9,-999.000,9,-999.0000,9,  2114.3,2,  2333.2,2,   7.8671,2,    25.00, -999.00,9, -999.00,9, -999.00,-999.000,9,  -999.0,9,     -999.0,9,     -999.0,9,         18,     -999.0,9,     -999.0,9,     -999.0,9,     -999.0,9
33RO20180423,        I7N,      20,          1,        119,      11083,2,20180502,       2029,   -23.3332,    54.5015,       4228,   210.9,  19.4262,  35.5078,2,  35.5310,2,    163.2,2, 173.8070,2,      5.1,2,      5.0,2,     0.01,2,    0.468,2,-999.000,9,-999.000,9,-999.0000,9,  -999.0,9,  -999.0,9,   7.9139,2,    25.00, -999.00,9, -999.00,9, -999.00,-999.000,9,  -999.0,9,     -999.0,9,     -999.0,9,         19,     -999.0,9,     -999.0,9,     -999.0,9,     -999.0,9
33RO20180423,        I7N,      20,          1,        120,      11118,2,20180502,       2029,   -23.3332,    54.5015,       4228,   170.9,  21.0276,  35.3554,2,  35.3580,2,    154.1,2, 164.5810,2,      5.4,2,      5.1,2,     0.02,2,    0.456,2,-999.000,9,-999.000,9,-999.0000,9,  2071.0,2,  2320.2,2,   7.9303,2,    25.00, -999.00,9, -999.00,9, -999.00,-999.000,9,  -999.0,9,     -999.0,9,     -999.0,9,         20,     -999.0,9,     -999.0,9,     -999.0,9,     -999.0,9
33RO20180423,        I7N,      20,          1,        121,      11119,2,20180502,       2029,   -23.3332,    54.5015,       4228,   130.2,  23.2134,  35.1749,2,  35.1794,2,    175.6,2, 186.6780,2,      2.9,2,      1.1,2,     0.46,2,    0.254,2,-999.000,9,-999.000,9,-999.0000,9,  2023.4,2,  2306.3,2,   7.9992,2,    25.00, -999.00,9, -999.00,9, -999.00,-999.000,9,  -999.0,9,     -999.0,9,     -999.0,9,         21,     -999.0,9,     -999.0,9,     -999.0,9,     -999.0,9
33RO20180423,        I7N,      20,          1,        122,      11120,2,20180502,       2029,   -23.3332,    54.5015,       4228,    90.5,  24.4186,  35.0755,2,  35.0776,2,    192.1,2, 203.6080,2,      2.1,2,      0.0,2,     0.00,2,    0.152,2,-999.000,9,-999.000,9,-999.0000,9,  2000.0,2,  2298.3,6,   8.0337,2,    25.00, -999.00,9, -999.00,9, -999.00,-999.000,9,  -999.0,9,     -999.0,9,     -999.0,9,         22,     -999.0,9,     -999.0,9,     -999.0,9,     -999.0,9
33RO20180423,        I7N,      20,          1,        123,      11121,2,20180502,       2029,   -23.3332,    54.5015,       4228,    45.4,  26.1379,  35.0627,2,  35.0656,2,    192.9,2, 203.8700,2,      1.9,2,      0.0,2,     0.00,2,    0.110,2,-999.000,9,-999.000,9,-999.0000,9,  -999.0,9,  -999.0,9,   8.0627,6,    25.00, -999.00,9, -999.00,9, -999.00,-999.000,9,  -999.0,9,     -999.0,9,     -999.0,9,         23,     -999.0,9,     -999.0,9,     -999.0,9,     -999.0,9
33RO20180423,        I7N,      20,          1,        124,      11122,2,20180502,       2029,   -23.3332,    54.5015,       4228,     2.8,  26.1224,  35.0636,2,  35.0658,2,    193.3,2, 203.9430,2,      1.9,2,      0.0,2,     0.00,2,    0.099,2,   1.550,2,   0.985,2,   1.4268,2,  1980.6,6,  2294.1,2,   8.0628,2,    25.00, -999.00,9, -999.00,9, -999.00,-999.000,1,  -999.0,9,     -999.0,1,     -999.0,9,         24,     -999.0,9,     -999.0,9,     -999.0,9,     -999.0,9