BOTTLE,20230801CCHSIOCBG
EXPOCODE,SECT_ID,STNNBR,CASTNO,SAMPNO,BTLNBR,BTLNBR_FLAG_W,DATE,TIME,LATITUDE,LONGITUDE,DEPTH,CTDPRS,CTDTMP,CTDSAL,CTDSAL_FLAG_W,SALNTY,SALNTY_FLAG_W,CTDOXY,CTDOXY_FLAG_W,OXYGEN,OXYGEN_FLAG_W,SILCAT,SILCAT_FLAG_W,NITRAT,NITRAT_FLAG_W,NITRIT,NITRIT_FLAG_W,PHSPHT,PHSPHT_FLAG_W,CFC-11,CFC-11_FLAG_W,CFC-12,CFC-12_FLAG_W,SF6,SF6_FLAG_W,TCARBN,TCARBN_FLAG_W,ALKALI,ALKALI_FLAG_W,PH_SWS,PH_SWS_FLAG_W,PH_TMP,DELC13,DELC13_FLAG_W,DELC14,DELC14_FLAG_W,C14ERR,CCL4,CCL4_FLAG_W,DOC,DOC_FLAG_W,N2O,N2O_FLAG_W,CALCIUM,CALCIUM_FLAG_W,SAMPNO_U,DNSSAL,DNSSAL_FLAG_W,DNSSAL2,DNSSAL2_FLAG_W,SALNTY_DNSSAL,SALNTY_DNSSAL_FLAG_W,SALNTY_DNSSAL2,SALNTY_DNSSAL2_FLAG_W
,,,,,,,,,,,METERS,DBAR,ITS-90,PSS-78,,PSS-78,,UMOL/KG,,UMOL/KG,,UMOL/KG,,UMOL/KG,,UMOL/KG,,UMOL/KG,,PMOL/KG,,PMOL/KG,,FMOL/KG,,UMOL/KG,,UMOL/KG,,,,DEG C,/MILLE,,/MILLE,,/MILLE,PMOL/KG,,UMOL/KG,,NMOL/KG,,MMOL/KG,,,G/KG,,G/KG,,PSS-78,,PSS-78,
33RO20180423,        I7N,     111,          1,        101,      11010,2,20180531,       1844,    14.8422,    64.6673,       3892,  3938.5,   1.7319,  34.7355,2,  34.7368,2,    113.4,2, 130.3140,2,    148.2,6,     36.8,6,     0.01,6,    2.578,6,   0.015,2,   0.008,2,    0.007,2,  2366.4,6,  2468.5,2,   7.5857,6,    25.00, -999.00,9, -999.00,9, -999.00,-999.000,1,  -999.0,9,     -999.0,1,    10.3689,2,          1,     -999.0,9,     -999.0,9,     -999.0,9,     -999.0,9
33RO20180423,        I7N,     111,          1,        102,      11101,2,20180531,       1844,    14.8422,    64.6673,       3892,  3727.8,   1.7152,  34.7359,2,  34.7384,6,    120.4,2, 137.7130,2,    145.2,6,     36.3,6,     0.01,6,    2.536,6,-999.000,9,-999.000,9,-999.0000,9,  2348.1,2,  2452.2,6,   7.5823,2,    25.00, -999.00,9, -999.00,9, -999.00,-999.000,9,  -999.0,9,     -999.0,9,     -999.0,9,          2,     -999.0,9,     -999.0,9,     -999.0,9,     -999.0,9
33RO20180423,        I7N,     111,          1,        103,      11102,2,20180531,       1844,    14.8422,    64.6673,       3892,  3500.7,   1.7255,  34.7378,2,  34.7388,2,    122.9,2, 141.3690,2,    144.2,6,     36.0,6,     0.00,6,    2.540,6,-999.000,9,-999.000,9,-999.0000,9,  2341.2,2,  2440.0,2,   7.5759,2,    25.00, -999.00,9, -999.00,9, -999.00,-999.000,9,  -999.0,9,     -999.0,9,    10.3365,6,          3,     -999.0,9,     -999.0,9,     -999.0,9,     -999.0,9
33RO20180423,        I7N,     111,          1,        104,      11103,2,20180531,       1844,    14.8422,    64.6673,       3892,  3201.1,   1.7661,  34.7414,2,  34.7470,2,    119.4,2, 136.4930,2,    144.7,6,     36.2,6,     0.00,6,    2.547,6,-999.000,9,-999.000,9,-999.0000,9,  2343.9,2,  2442.4,2,   7.5677,2,    25.00, -999.00,9, -999.00,9, -999.00,-999.000,9,    41.5,3,     -999.0,9,    10.3533,2,          4,     -999.0,9,     -999.0,9,     -999.0,9,     -999.0,9
33RO20180423,        I7N,     111,          1,        105,      11104,2,20180531,       1844,    14.8422,    64.6673,       3892,  2900.6,   1.8867,  34.7492,2,  34.7497,2,    117.6,2, 134.3370,2,    142.0,2,     36.0,2,     0.00,2,    2.568,2,   0.001,6,   0.002,6,   0.0015,6,  2341.3,2,  2432.8,2,   7.5599,2,    25.00, -999.00,9, -999.00,9, -999.00,-999.000,1,    42.6,3,     -999.0,1,    10.3492,2,          5,     -999.0,9,     -999.0,9,     -999.0,9,     -999.0,9
33RO20180423,        I7N,     111,          1,        106,      11105,2,20180531,       1844,    14.8422,    64.6673,       3892,  2600.6,   2.1314,  34.7655,2,  34.7668,2,    107.7,2, 122.0680,2,    137.1,4,     36.9,4,     0.00,4,    2.705,4,-999.000,9,-999.000,9,-999.0000,9,  2343.9,2,  2431.0,2,   7.5409,2,    25.00, -999.00,9, -999.00,9, -999.00,-999.000,9,    40.2,3,     -999.0,9,    10.3664,2,          6,     -999.0,9,     -999.0,9,     -999.0,9,     -999.0,9
33RO20180423,        I7N,     111,          1,        107,      11106,2,20180531,       1844,    14.8422,    64.6673,       3892,  2299.1,   2.5583,  34.7943,2,  34.7957,2,     96.3,2, 118.1040,4,    141.8,2,     36.6,2,     0.01,2,    2.632,2,-999.000,9,-999.000,9,-999.0000,9,  2345.0,2,  2427.0,2,   7.5236,2,    25.00, -999.00,9, -999.00,9, -999.00,-999.000,9,    38.3,3,     -999.0,9,    10.3756,2,          7,     -999.0,9,     -999.0,9,     -999.0,9,     -999.0,9
33RO20180423,        I7N,     111,          1,        108,      11107,2,20180531,       1844,    14.8422,    64.6673,       3892,  2000.5,   3.1871,  34.8362,2,  34.8453,2,     82.9,2,  93.3620,2,    129.4,2,     37.6,2,     0.00,2,    2.768,2,-999.000,9,-999.000,9,-999.0000,9,  2343.3,2,  2416.8,2,   7.5023,2,    25.00, -999.00,9, -999.00,9, -999.00,-999.000,9,  -999.0,9,     -999.0,9,    10.3466,2,          8,     -999.0,9,     -999.0,9,     -999.0,9,     -999.0,9
33RO20180423,        I7N,     111,          1,        109,      11108,2,20180531,       1844,    14.8422,    64.6673,       3892,  1716.4,   4.3927,  34.9393,2,  34.9413,6,     56.6,2,  63.9000,2,    117.7,2,     38.4,2,     0.01,2,    2.898,2,-999.000,9,-999.000,9,-999.0000,9,  2345.0,2,  2404.2,2,   7.4693,2,    25.00,   -0.04,2, -181.00,2,    1.67,-999.000,9,  -999.0,9,     -999.0,9,     -999.0,9,          9,     -999.0,9,     -999.0,9,     -999.0,9,     -999.0,9
33RO20180423,        I7N,     111,          1,        110,      11109,2,20180531,       1844,    14.8422,    64.6673,       3892,  1467.3,   5.7173,  35.0546,2,  35.0554,2,     37.1,2,  42.1040,2,    102.6,2,     38.5,2,     0.01,2,    2.942,2,-999.000,9,-999.000,9,-999.0000,9,  2337.5,2,  2390.2,2,   7.4536,2,    25.00,   -0.06,2, -165.00,2,    1.73,-999.000,9,    40.3,3,     -999.0,9,    10.4001,2,         10,     -999.0,9,     -999.0,9,     -999.0,9,     -999.0,9
33RO20180423,        I7N,     111,          1,        111,      11110,2,20180531,       1844,    14.8422,    64.6673,       3892,  1233.3,   6.9544,  35.1512,2,-999.0000,1,     22.3,2,  25.8360,2,     89.5,2,     38.4,2,     0.01,2,    2.946,2,-999.000,9,-999.000,9,-999.0000,9,  2325.8,2,  2377.9,2,   7.4416,2,    25.00,   -0.05,2, -157.00,2,    2.23,-999.000,9,    41.2,3,     -999.0,9,     -999.0,9,         11,     -999.0,9,     -999.0,9,     -999.0,9,     -999.0,9
33RO20180423,        I7N,     111,          1,        112,      11111,2,20180531,       1844,    14.8422,    64.6673,       3892,  1032.8,   8.3749,  35.2989,2,  35.1527,2,      9.8,2,  12.4830,2,     76.3,2,     37.5,2,     0.00,2,    2.919,2,   0.053,2,   0.035,2,   0.0018,2,  2314.8,2,  2368.9,2,   7.4408,2,    25.00,   -0.08,2, -137.00,2,    1.76,-999.000,1,  -999.0,9,     -999.0,1,    10.4815,2,         12,     -999.0,9,     -999.0,9,     -999.0,9,     -999.0,9
33RO20180423,        I7N,     111,          1,        113,      11112,2,20180531,       1844,    14.8422,    64.6673,       3892,   851.9,   9.6321,  35.4144,2,  35.4205,2,      5.7,2,   7.6635,2,     64.7,2,     35.7,2,     0.01,2,    2.810,2,   0.113,2,   0.071,2,   0.0475,2,  2301.6,2,  2361.0,2,   7.4512,2,    25.00,   -0.05,2, -118.00,2,    1.79,-999.000,1,  -999.0,9,     -999.0,1,    10.5091,2,         13,     -999.0,9,     -999.0,9,     -999.0,9,     -999.0,9
33RO20180423,        I7N,     111,          1,        114,      11113,2,20180531,       1844,    14.8422,    64.6673,       3892,   701.1,  10.6104,  35.4707,2,  35.4725,2,      3.9,2,   5.7830,2,     54.4,2,     33.9,2,     0.01,2,    2.728,2,-999.000,9,-999.000,9,-999.0000,9,  2290.8,2,  2355.7,2,   7.4590,2,    25.00,    0.00,2,  -98.40,2,    1.78,-999.000,9,  -999.0,9,     -999.0,9,     -999.0,9,         14,     -999.0,9,     -999.0,9,     -999.0,9,     -999.0,9
33RO20180423,        I7N,     111,          1,        115,      11114,2,20180531,       1844,    14.8422,    64.6673,       3892,   548.8,  11.6140,  35.5064,2,  35.5071,2,      5.7,2,   7.3100,2,     42.9,2,     32.0,2,     0.01,2,    2.605,2,-999.000,9,-999.000,9,-999.0000,9,  2279.4,2,  2344.4,6,   7.4677,2,    25.00,    0.09,2,  -61.70,2,    2.22,-999.000,9,  -999.0,9,     -999.0,9,    10.4974,2,         15,     -999.0,9,     -999.0,9,     -999.0,9,     -999.0,9
33RO20180423,        I7N,     111,          1,        116,      11115,2,20180531,       1844,    14.8422,    64.6673,       3892,   416.7,  12.2803,  35.4774,2,  35.4792,2,      6.0,2,   8.2180,2,     34.5,2,     31.3,2,     0.01,2,    2.472,2,   0.777,2,   0.466,2,   0.2133,2,  2270.5,2,  2335.1,2,   7.4657,6,    25.00,    0.00,2,  -36.00,2,    1.93,-999.000,1,    42.7,3,     -999.0,1,    10.4738,2,         16,     -999.0,9,     -999.0,9,     -999.0,9,     -999.0,9
33RO20180423,        I7N,     111,          1,        117,      11116,2,20180531,       1844,    14.8422,    64.6673,       3892,   319.5,  13.2798,  35.5001,2,  35.5024,2,      0.2,2,   1.5390,2,     30.0,2,     29.1,2,     0.01,2,    2.430,2,   0.933,2,   0.576,2,   0.2473,2,  2274.2,2,  2333.4,2,   7.4554,2,    25.00,   -0.16,6,  -22.30,6,    1.94,-999.000,1,    42.7,3,     -999.0,1,    10.4840,2,         17,     -999.0,9,     -999.0,9,     -999.0,9,     -999.0,9
33RO20180423,        I7N,     111,          1,        118,      11117,2,20180531,       1844,    14.8422,    64.6673,       3892,   250.6,  14.5205,  35.5232,2,  35.5233,2,      0.3,2,   1.2680,2,     26.9,2,     26.1,2,     0.02,2,    2.378,2,   1.051,2,   0.677,2,   0.3054,2,  2267.8,2,  2333.8,2,   7.4758,2,    25.00,   -0.15,2,   -6.77,2,    1.95,-999.000,1,    46.1,3,     -999.0,1,    10.5126,2,         18,     -999.0,9,     -999.0,9,     -999.0,9,     -999.0,9
33RO20180423,        I7N,     111,          1,        119,      11083,2,20180531,       1844,    14.8422,    64.6673,       3892,   188.7,  17.1646,  35.6997,2,  35.7084,2,      0.2,2,   2.3530,2,     23.5,2,     17.0,2,     4.48,2,    2.368,2,   1.042,2,   0.765,2,     0.54,2,  2259.0,2,  2340.7,2,   7.5232,2,    25.00,   -0.32,2,   -3.57,2,    2.05,-999.000,1,    48.6,3,     -999.0,1,    10.5668,2,         19,     -999.0,9,     -999.0,9,     -999.0,9,     -999.0,9
33RO20180423,        I7N,     111,          1,        120,      11118,2,20180531,       1844,    14.8422,    64.6673,       3892,   145.9,  19.9711,  35.9291,2,  35.9550,2,      0.3,2,   2.0200,2,     15.6,2,     24.6,2,     0.41,2,    2.189,2,   1.408,2,   0.916,2,   0.8912,2,  2240.4,6,  2347.2,2,   7.5897,2,    25.00,   -0.40,2,   11.30,2,    2.01,-999.000,1,    50.8,3,     -999.0,1,     -999.0,9,         20,     -999.0,9,     -999.0,9,     -999.0,9,     -999.0,9
33RO20180423,        I7N,     111,          1,        121,      11119,2,20180531,       1844,    14.8422,    64.6673,       3892,   107.1,  24.2962,  36.4302,2,  36.4249,2,    124.6,2, 127.8200,2,      4.6,2,     12.2,2,     0.06,2,    1.076,2,   1.596,2,   1.006,2,   1.4064,2,  2133.8,2,  2377.1,2,   7.8975,2,    25.00,    0.30,2,   13.30,2,    2.01,-999.000,1,    59.5,3,     -999.0,1,    10.7627,2,         21,     -999.0,9,     -999.0,9,     -999.0,9,     -999.0,9
33RO20180423,        I7N,     111,          1,        122,      11120,2,20180531,       1844,    14.8422,    64.6673,       3892,    61.4,  26.6341,  36.4675,2,  36.4718,2,    185.9,2, 196.1460,2,      1.6,2,      0.1,2,     0.02,2,    0.350,2,-999.000,9,-999.000,9,-999.0000,9,  2062.7,2,  2387.1,2,   8.0369,2,    25.00,    1.00,2,   13.10,2,    2.15,-999.000,9,    69.1,3,     -999.0,9,    10.7470,2,         22,     -999.0,9,     -999.0,9,     -999.0,9,     -999.0,9
33RO20180423,        I7N,     111,          1,        123,      11121,2,20180531,       1844,    14.8422,    64.6673,       3892,    28.1,  30.1921,  36.8377,2,  36.8426,2,    181.9,2, 191.7750,2,      0.6,2,      0.0,2,     0.01,2,    0.206,2,   1.357,2,   0.869,2,   1.2831,2,  2044.0,2,  2410.0,3,   8.0976,2,    25.00,    1.16,2,   10.80,2,    2.59,-999.000,1,    81.2,3,     -999.0,1,     -999.0,9,         23,     -999.0,9,     -999.0,9,     -999.0,9,     -999.0,9
33RO20180423,        I7N,     111,          1,        124,      11122,2,20180531,       1844,    14.8422,    64.6673,       3892,     3.6,  30.1845,  36.8390,2,  36.8427,2,    183.0,2, 191.8460,2,      0.6,2,      0.0,2,     0.00,2,    0.213,2,-999.000,9,-999.000,9,-999.0000,9,  2045.4,6,  2411.1,3,   8.0972,6,    25.00,    1.23,2,   13.80,2,    2.03,-999.000,9,    79.1,3,     -999.0,9,    10.8744,2,         24,     -999.0,9,     -999.0,9,     -999.0,9,     -999.0,9