BOTTLE,20230801CCHSIOCBG
EXPOCODE,SECT_ID,STNNBR,CASTNO,SAMPNO,BTLNBR,BTLNBR_FLAG_W,DATE,TIME,LATITUDE,LONGITUDE,DEPTH,CTDPRS,CTDTMP,CTDSAL,CTDSAL_FLAG_W,SALNTY,SALNTY_FLAG_W,CTDOXY,CTDOXY_FLAG_W,OXYGEN,OXYGEN_FLAG_W,SILCAT,SILCAT_FLAG_W,NITRAT,NITRAT_FLAG_W,NITRIT,NITRIT_FLAG_W,PHSPHT,PHSPHT_FLAG_W,CFC-11,CFC-11_FLAG_W,CFC-12,CFC-12_FLAG_W,SF6,SF6_FLAG_W,TCARBN,TCARBN_FLAG_W,ALKALI,ALKALI_FLAG_W,PH_SWS,PH_SWS_FLAG_W,PH_TMP,DELC13,DELC13_FLAG_W,DELC14,DELC14_FLAG_W,C14ERR,CCL4,CCL4_FLAG_W,DOC,DOC_FLAG_W,N2O,N2O_FLAG_W,CALCIUM,CALCIUM_FLAG_W,SAMPNO_U,DNSSAL,DNSSAL_FLAG_W,DNSSAL2,DNSSAL2_FLAG_W,SALNTY_DNSSAL,SALNTY_DNSSAL_FLAG_W,SALNTY_DNSSAL2,SALNTY_DNSSAL2_FLAG_W
,,,,,,,,,,,METERS,DBAR,ITS-90,PSS-78,,PSS-78,,UMOL/KG,,UMOL/KG,,UMOL/KG,,UMOL/KG,,UMOL/KG,,UMOL/KG,,PMOL/KG,,PMOL/KG,,FMOL/KG,,UMOL/KG,,UMOL/KG,,,,DEG C,/MILLE,,/MILLE,,/MILLE,PMOL/KG,,UMOL/KG,,NMOL/KG,,MMOL/KG,,,G/KG,,G/KG,,PSS-78,,PSS-78,
33RO20180423,        I7N,      91,          1,        101,      11010,2,20180526,       0716,     5.5938,    60.6223,       3171,  3220.3,   1.8624,  34.7455,2,  34.7474,2,    135.3,2, 153.6350,2,    133.7,6,     35.2,6,     0.00,6,    2.468,6,-999.000,9,-999.000,9,-999.0000,9,  2315.3,2,  2413.8,2,   7.5787,6,    25.00, -999.00,9, -999.00,9, -999.00,-999.000,9,  -999.0,9,     -999.0,9,     -999.0,9,          1,     -999.0,9,     -999.0,9,     -999.0,9,     -999.0,9
33RO20180423,        I7N,      91,          1,        102,      11101,2,20180526,       0716,     5.5938,    60.6223,       3171,  3085.2,   1.8833,  34.7471,2,  34.7608,2,    133.9,2, 151.4990,2,    134.2,6,     35.4,6,     0.00,6,    2.484,6,-999.000,9,-999.000,9,-999.0000,9,  2315.9,2,  2414.3,2,   7.5749,2,    25.00, -999.00,9, -999.00,9, -999.00,-999.000,9,  -999.0,9,     -999.0,9,     -999.0,9,          2,     -999.0,9,     -999.0,9,     -999.0,9,     -999.0,9
33RO20180423,        I7N,      91,          1,        103,      11102,2,20180526,       0716,     5.5938,    60.6223,       3171,  2901.7,   1.9335,  34.7504,2,  34.7524,6,    131.7,2, 148.5500,2,    134.0,6,     35.5,6,     0.00,6,    2.498,6,-999.000,9,-999.000,9,-999.0000,9,  2319.4,2,  2414.9,2,   7.5718,2,    25.00, -999.00,9, -999.00,9, -999.00,-999.000,9,  -999.0,9,     -999.0,9,     -999.0,9,          3,     -999.0,9,     -999.0,9,     -999.0,9,     -999.0,9
33RO20180423,        I7N,      91,          1,        104,      11103,2,20180526,       0716,     5.5938,    60.6223,       3171,  2702.9,   2.0315,  34.7559,2,  34.7573,2,    128.2,2, 144.6410,2,    133.4,6,     35.7,6,     0.00,6,    2.510,6,-999.000,9,-999.000,9,-999.0000,9,  -999.0,9,  2412.6,2,   7.5672,2,    25.00, -999.00,9, -999.00,9, -999.00,-999.000,9,  -999.0,9,     -999.0,9,     -999.0,9,          4,     -999.0,9,     -999.0,9,     -999.0,9,     -999.0,9
33RO20180423,        I7N,      91,          1,        105,      11104,2,20180526,       0716,     5.5938,    60.6223,       3171,  2401.2,   2.2886,  34.7695,2,  34.7722,2,    120.9,2, 136.3840,2,    130.4,2,     35.9,2,     0.00,2,    2.545,2,-999.000,9,-999.000,9,-999.0000,9,  2321.0,2,  2412.3,2,   7.5578,2,    25.00, -999.00,9, -999.00,9, -999.00,-999.000,9,  -999.0,9,     -999.0,9,     -999.0,9,          5,     -999.0,9,     -999.0,9,     -999.0,9,     -999.0,9
33RO20180423,        I7N,      91,          1,        106,      11105,2,20180526,       0716,     5.5938,    60.6223,       3171,  2100.3,   2.7315,  34.7912,2,  34.7928,2,    110.7,2, 124.1090,2,    125.3,2,     36.3,2,     0.00,2,    2.600,2,   0.003,2,   0.003,2,   0.0082,2,  -999.0,9,  2406.2,2,   7.5418,2,    25.00, -999.00,9, -999.00,9, -999.00,-999.000,1,  -999.0,9,     -999.0,1,     -999.0,9,          6,     -999.0,9,     -999.0,9,     -999.0,9,     -999.0,9
33RO20180423,        I7N,      91,          1,        107,      11106,2,20180526,       0716,     5.5938,    60.6223,       3171,  1800.2,   3.5332,  34.8338,2,  34.8457,2,     93.4,2, 104.6050,2,    116.8,2,     37.0,2,     0.00,2,    2.675,2,-999.000,9,-999.000,9,-999.0000,9,  2321.9,2,  2400.1,2,   7.5202,2,    25.00, -999.00,9, -999.00,9, -999.00,-999.000,9,  -999.0,9,     -999.0,9,     -999.0,9,          7,     -999.0,9,     -999.0,9,     -999.0,9,     -999.0,9
33RO20180423,        I7N,      91,          1,        108,      11107,2,20180526,       0716,     5.5938,    60.6223,       3171,  1550.1,   4.6749,  34.9052,2,  34.9071,2,     71.1,2,  80.0090,2,    105.6,2,     37.5,2,     0.00,2,    2.749,2,   0.011,6,   0.007,6,   0.0012,6,  -999.0,9,  2389.0,2,   7.4934,2,    25.00, -999.00,9, -999.00,9, -999.00,-999.000,1,  -999.0,9,     -999.0,1,     -999.0,9,          8,     -999.0,9,     -999.0,9,     -999.0,9,     -999.0,9
33RO20180423,        I7N,      91,          1,        109,      11108,2,20180526,       0716,     5.5938,    60.6223,       3171,  1300.1,   5.7627,  34.9749,2,  34.9861,2,     54.2,2,  60.8415,2,     94.4,2,     37.7,2,     0.00,2,    2.791,2,-999.000,9,-999.000,9,-999.0000,9,  2315.1,2,  2379.0,2,   7.4773,2,    25.00, -999.00,9, -999.00,9, -999.00,-999.000,9,  -999.0,9,     -999.0,9,     -999.0,9,          9,     -999.0,9,     -999.0,9,     -999.0,9,     -999.0,9
33RO20180423,        I7N,      91,          1,        110,      11109,2,20180526,       0716,     5.5938,    60.6223,       3171,  1101.9,   6.7775,  35.0605,2,  35.0641,2,     41.5,2,  46.8590,2,     85.2,2,     37.6,2,     0.00,2,    2.786,2,-999.000,9,-999.000,9,-999.0000,9,  -999.0,9,  2371.7,6,   7.4677,2,    25.00, -999.00,9, -999.00,9, -999.00,-999.000,9,  -999.0,9,     -999.0,9,     -999.0,9,         10,     -999.0,9,     -999.0,9,     -999.0,9,     -999.0,9
33RO20180423,        I7N,      91,          1,        111,      11110,2,20180526,       0716,     5.5938,    60.6223,       3171,   900.5,   7.9967,  35.1562,2,  35.1576,2,     31.7,2,  36.4730,2,     73.0,2,     36.7,2,     0.00,2,    2.745,2,   0.116,2,   0.068,2,   0.0175,2,  2300.7,2,  2361.2,2,   7.4691,6,    25.00, -999.00,9, -999.00,9, -999.00,-999.000,1,  -999.0,9,     -999.0,1,     -999.0,9,         11,     -999.0,9,     -999.0,9,     -999.0,9,     -999.0,9
33RO20180423,        I7N,      91,          1,        112,      11111,2,20180526,       0716,     5.5938,    60.6223,       3171,   750.8,   8.8280,  35.2104,2,  35.2147,2,     25.8,2,  29.8780,2,     64.3,2,     36.0,2,     0.00,2,    2.710,2,   0.174,2,   0.102,2,   0.0511,2,  -999.0,9,  2355.4,2,   7.4667,2,    25.00, -999.00,9, -999.00,9, -999.00,-999.000,1,  -999.0,9,     -999.0,1,     -999.0,9,         12,     -999.0,9,     -999.0,9,     -999.0,9,     -999.0,9
33RO20180423,        I7N,      91,          1,        113,      11112,2,20180526,       0716,     5.5938,    60.6223,       3171,   599.8,  10.1967,  35.3277,2,  35.3304,2,     24.6,2,  28.6980,2,     50.0,2,     33.8,2,     0.00,2,    2.560,2,-999.000,9,-999.000,9,-999.0000,9,  2276.5,2,  2343.1,2,   7.4829,2,    25.00, -999.00,9, -999.00,9, -999.00,-999.000,9,  -999.0,9,     -999.0,9,     -999.0,9,         13,     -999.0,9,     -999.0,9,     -999.0,9,     -999.0,9
33RO20180423,        I7N,      91,          1,        114,      11113,2,20180526,       0716,     5.5938,    60.6223,       3171,   450.4,  11.2661,  35.2873,2,  35.2887,2,     39.4,2,  43.1405,2,     34.6,2,     31.1,2,     0.00,2,    2.290,2,   1.036,2,   0.576,2,   0.2694,2,  -999.0,9,  2329.6,2,   7.5112,2,    25.00, -999.00,9, -999.00,9, -999.00,-999.000,1,  -999.0,9,     -999.0,1,     -999.0,9,         14,     -999.0,9,     -999.0,9,     -999.0,9,     -999.0,9
33RO20180423,        I7N,      91,          1,        115,      11114,2,20180526,       0716,     5.5938,    60.6223,       3171,   400.4,  11.4409,  35.2428,2,  35.2502,2,     48.5,2,  53.1700,2,     30.7,2,     30.0,2,     0.00,2,    2.170,2,-999.000,9,-999.000,9,-999.0000,9,  2243.9,2,  2324.8,2,   7.5277,2,    25.00, -999.00,9, -999.00,9, -999.00,-999.000,9,  -999.0,9,     -999.0,9,     -999.0,9,         15,     -999.0,9,     -999.0,9,     -999.0,9,     -999.0,9
33RO20180423,        I7N,      91,          1,        116,      11115,2,20180526,       0716,     5.5938,    60.6223,       3171,   350.8,  11.6744,  35.2252,2,  35.2291,2,     53.0,2,  58.4750,2,     28.0,2,     29.2,2,     0.00,2,    2.108,2,   1.435,2,   0.793,2,   0.4116,2,  -999.0,9,  2321.9,2,   7.5385,2,    25.00, -999.00,9, -999.00,9, -999.00,-999.000,1,  -999.0,9,     -999.0,1,     -999.0,9,         16,     -999.0,9,     -999.0,9,     -999.0,9,     -999.0,9
33RO20180423,        I7N,      91,          1,        117,      11116,2,20180526,       0716,     5.5938,    60.6223,       3171,   300.3,  12.1072,  35.2325,2,  35.2349,2,     58.5,2,  63.4840,2,     25.4,2,     27.8,2,     0.00,2,    2.004,2,-999.000,9,-999.000,9,-999.0000,9,  2232.6,2,  2323.3,2,   7.5577,2,    25.00, -999.00,9, -999.00,9, -999.00,-999.000,9,  -999.0,9,     -999.0,9,     -999.0,9,         17,     -999.0,9,     -999.0,9,     -999.0,9,     -999.0,9
33RO20180423,        I7N,      91,          1,        118,      11117,2,20180526,       0716,     5.5938,    60.6223,       3171,   250.8,  12.7041,  35.2504,2,  35.2532,2,     54.5,2,  59.5800,2,     23.6,2,     27.2,2,     0.00,2,    1.964,2,   1.660,2,   0.931,2,   0.5436,2,  -999.0,9,  2321.4,2,   7.5589,2,    25.00, -999.00,9, -999.00,9, -999.00,-999.000,1,  -999.0,9,     -999.0,1,     -999.0,9,         18,     -999.0,9,     -999.0,9,     -999.0,9,     -999.0,9
33RO20180423,        I7N,      91,          1,        119,      11083,2,20180526,       0716,     5.5938,    60.6223,       3171,   200.1,  14.2659,  35.2215,2,  35.2260,2,     47.9,2,  52.5180,2,     21.1,2,     26.3,2,     0.00,2,    1.895,2,   1.682,2,   0.963,2,   0.6462,2,  2220.4,2,  2325.1,2,   7.5779,2,    25.00, -999.00,9, -999.00,9, -999.00,-999.000,1,  -999.0,9,     -999.0,1,     -999.0,9,         19,     -999.0,9,     -999.0,9,     -999.0,9,     -999.0,9
33RO20180423,        I7N,      91,          1,        120,      11118,2,20180526,       0716,     5.5938,    60.6223,       3171,   160.6,  15.6031,  35.2818,2,  35.2846,6,     57.8,2,  62.5790,2,     18.0,2,     23.8,2,     0.01,2,    1.738,2,   1.785,2,   1.045,2,   0.7886,2,  -999.0,9,  2321.1,2,   7.6248,2,    25.00, -999.00,9, -999.00,9, -999.00,-999.000,1,  -999.0,9,     -999.0,1,     -999.0,9,         20,     -999.0,9,     -999.0,9,     -999.0,9,     -999.0,9
33RO20180423,        I7N,      91,          1,        121,      11119,2,20180526,       0716,     5.5938,    60.6223,       3171,   120.0,  20.6412,  35.6410,2,  35.6320,2,     53.7,2,  59.5030,2,     12.3,2,     20.9,2,     0.02,2,    1.598,2,   1.604,2,   0.988,2,     1.01,2,  2180.4,2,  2330.0,2,   7.7118,2,    25.00, -999.00,9, -999.00,9, -999.00,-999.000,1,  -999.0,9,     -999.0,1,     -999.0,9,         21,     -999.0,9,     -999.0,9,     -999.0,9,     -999.0,9
33RO20180423,        I7N,      91,          1,        122,      11120,2,20180526,       0716,     5.5938,    60.6223,       3171,    80.4,  25.9304,  35.7945,2,  35.8128,2,    148.8,2, 152.9330,2,      3.8,2,      5.5,2,     0.30,2,    0.638,2,   1.555,2,   0.974,2,   1.3375,2,  2077.1,2,  2344.8,2,   7.9569,2,    25.00, -999.00,9, -999.00,9, -999.00,-999.000,1,  -999.0,9,     -999.0,1,     -999.0,9,         22,     -999.0,9,     -999.0,9,     -999.0,9,     -999.0,9
33RO20180423,        I7N,      91,          1,        123,      11121,2,20180526,       0716,     5.5938,    60.6223,       3171,    40.7,  28.7578,  35.6472,2,  35.6479,2,    180.3,2, 189.6410,2,      1.7,2,      0.1,2,     0.00,2,    0.211,2,-999.000,9,-999.000,9,-999.0000,9,  2013.5,2,  2336.7,2,   8.0588,6,    25.00, -999.00,9, -999.00,9, -999.00,-999.000,9,  -999.0,9,     -999.0,9,     -999.0,9,         23,     -999.0,9,     -999.0,9,     -999.0,9,     -999.0,9
33RO20180423,        I7N,      91,          1,        124,      11122,2,20180526,       0716,     5.5938,    60.6223,       3171,     4.1,  29.5269,  35.2433,2,  35.2450,2,    185.6,2, 194.7100,2,      1.5,2,      0.0,2,     0.00,2,    0.122,2,-999.000,9,-999.000,9,-999.0000,9,  1981.2,2,  2313.2,6,   8.0842,2,    25.00, -999.00,9, -999.00,9, -999.00,-999.000,9,  -999.0,9,     -999.0,9,     -999.0,9,         24,     -999.0,9,     -999.0,9,     -999.0,9,     -999.0,9