BOTTLE,20230801CCHSIOCBG
EXPOCODE,SECT_ID,STNNBR,CASTNO,SAMPNO,BTLNBR,BTLNBR_FLAG_W,DATE,TIME,LATITUDE,LONGITUDE,DEPTH,CTDPRS,CTDTMP,CTDSAL,CTDSAL_FLAG_W,SALNTY,SALNTY_FLAG_W,CTDOXY,CTDOXY_FLAG_W,OXYGEN,OXYGEN_FLAG_W,SILCAT,SILCAT_FLAG_W,NITRAT,NITRAT_FLAG_W,NITRIT,NITRIT_FLAG_W,PHSPHT,PHSPHT_FLAG_W,CFC-11,CFC-11_FLAG_W,CFC-12,CFC-12_FLAG_W,SF6,SF6_FLAG_W,TCARBN,TCARBN_FLAG_W,ALKALI,ALKALI_FLAG_W,PH_SWS,PH_SWS_FLAG_W,PH_TMP,DELC13,DELC13_FLAG_W,DELC14,DELC14_FLAG_W,C14ERR,CCL4,CCL4_FLAG_W,DOC,DOC_FLAG_W,N2O,N2O_FLAG_W,CALCIUM,CALCIUM_FLAG_W,SAMPNO_U,DNSSAL,DNSSAL_FLAG_W,DNSSAL2,DNSSAL2_FLAG_W,SALNTY_DNSSAL,SALNTY_DNSSAL_FLAG_W,SALNTY_DNSSAL2,SALNTY_DNSSAL2_FLAG_W
,,,,,,,,,,,METERS,DBAR,ITS-90,PSS-78,,PSS-78,,UMOL/KG,,UMOL/KG,,UMOL/KG,,UMOL/KG,,UMOL/KG,,UMOL/KG,,PMOL/KG,,PMOL/KG,,FMOL/KG,,UMOL/KG,,UMOL/KG,,,,DEG C,/MILLE,,/MILLE,,/MILLE,PMOL/KG,,UMOL/KG,,NMOL/KG,,MMOL/KG,,,G/KG,,G/KG,,PSS-78,,PSS-78,
33RO20180423,        I7N,      80,          1,        101,      11010,9,20180523,       1042,     1.1878,    57.2992,       4652,  4716.6,   1.3430,  34.7172,2,  34.7196,2,    159.6,2, 184.3390,2,    133.1,6,     33.8,6,     0.00,6,    2.353,6,   0.024,2,   0.009,2,        0,2,  2293.4,6,  2402.7,2,   7.6052,6,    25.00, -999.00,9, -999.00,9, -999.00,-999.000,9,  -999.0,9,     -999.0,9,     -999.0,9,          1,     -999.0,9,     -999.0,9,     -999.0,9,     -999.0,9
33RO20180423,        I7N,      80,          1,        102,      11101,9,20180523,       1042,     1.1878,    57.2992,       4652,  4516.7,   1.3487,  34.7186,2,  34.7239,2,    158.1,2, 182.7130,2,    133.3,6,     33.9,6,     0.00,6,    2.364,6,   0.024,2,   0.009,2,   0.0083,2,  2293.8,2,  2400.9,6,   7.6020,2,    25.00, -999.00,9, -999.00,9, -999.00,-999.000,9,  -999.0,9,     -999.0,9,     -999.0,9,          2,     -999.0,9,     -999.0,9,     -999.0,9,     -999.0,9
33RO20180423,        I7N,      80,          1,        103,      11102,9,20180523,       1042,     1.1878,    57.2992,       4652,  4300.4,   1.3819,  34.7207,2,  34.7214,6,    155.7,2, 180.2220,2,    133.6,6,     34.0,6,     0.00,6,    2.377,6,   0.014,2,   0.006,2,        0,2,  2294.9,2,  2403.5,2,   7.5993,2,    25.00, -999.00,9, -999.00,9, -999.00,-999.000,9,  -999.0,9,     -999.0,9,     -999.0,9,          3,     -999.0,9,     -999.0,9,     -999.0,9,     -999.0,9
33RO20180423,        I7N,      80,          1,        104,      11103,9,20180523,       1042,     1.1878,    57.2992,       4652,  4000.8,   1.4504,  34.7243,2,  34.7255,2,    151.8,2, 175.5600,2,    133.8,6,     34.1,6,     0.00,6,    2.374,6,   0.009,2,   0.004,2,   0.0082,2,  2298.5,2,  2405.4,2,   7.5965,2,    25.00, -999.00,9, -999.00,9, -999.00,-999.000,9,  -999.0,9,     -999.0,9,     -999.0,9,          4,     -999.0,9,     -999.0,9,     -999.0,9,     -999.0,9
33RO20180423,        I7N,      80,          1,        105,      11104,9,20180523,       1042,     1.1878,    57.2992,       4652,  3700.4,   1.5197,  34.7277,2,  34.7294,2,    148.4,2, 171.5260,2,    132.9,2,     34.3,2,     0.00,2,    2.394,2,   0.005,2,   0.003,2,        0,2,  -999.0,9,  -999.0,9,   7.5934,2,    25.00, -999.00,9, -999.00,9, -999.00,-999.000,9,  -999.0,9,     -999.0,9,     -999.0,9,          5,     -999.0,9,     -999.0,9,     -999.0,9,     -999.0,9
33RO20180423,        I7N,      80,          1,        106,      11105,9,20180523,       1042,     1.1878,    57.2992,       4652,  3400.0,   1.5923,  34.7309,2,  34.7317,2,    145.3,2, 167.3600,2,    132.8,2,     34.4,2,     0.00,2,    2.417,2,   0.003,2,   0.002,2,    0.012,2,  2302.7,2,  2408.0,2,   7.5908,2,    25.00, -999.00,9, -999.00,9, -999.00,-999.000,9,  -999.0,9,     -999.0,9,     -999.0,9,          6,     -999.0,9,     -999.0,9,     -999.0,9,     -999.0,9
33RO20180423,        I7N,      80,          1,        107,      11106,9,20180523,       1042,     1.1878,    57.2992,       4652,  3100.3,   1.8029,  34.7404,2,  34.7758,2,    136.7,2, 157.4080,2,    132.8,2,     35.0,2,     0.00,2,    2.469,2,   0.002,6,   0.002,6,   0.0083,6,  -999.0,9,  -999.0,9,   7.5801,2,    25.00, -999.00,9, -999.00,9, -999.00,-999.000,9,  -999.0,9,     -999.0,9,     -999.0,9,          7,     -999.0,9,     -999.0,9,     -999.0,9,     -999.0,9
33RO20180423,        I7N,      80,          1,        108,      11107,9,20180523,       1042,     1.1878,    57.2992,       4652,  2800.0,   1.9638,  34.7469,2,  34.7506,2,    132.7,2, 152.1990,2,    131.0,2,     35.2,2,     0.00,2,    2.488,2,   0.001,2,   0.001,2,        0,2,  2310.8,2,  2408.8,2,   7.5742,2,    25.00, -999.00,9, -999.00,9, -999.00,-999.000,9,  -999.0,9,     -999.0,9,     -999.0,9,          8,     -999.0,9,     -999.0,9,     -999.0,9,     -999.0,9
33RO20180423,        I7N,      80,          1,        109,      11108,9,20180523,       1042,     1.1878,    57.2992,       4652,  2500.1,   2.2622,  34.7603,2,  34.7620,2,    124.4,2, 141.4360,2,    128.2,2,     35.6,2,     0.00,2,    2.540,2,   0.002,2,   0.002,2,   0.0087,2,  -999.0,9,  -999.0,9,   7.5616,2,    25.00, -999.00,9, -999.00,9, -999.00,-999.000,9,  -999.0,9,     -999.0,9,     -999.0,9,          9,     -999.0,9,     -999.0,9,     -999.0,9,     -999.0,9
33RO20180423,        I7N,      80,          1,        110,      11109,9,20180523,       1042,     1.1878,    57.2992,       4652,  2200.6,   2.6094,  34.7749,2,  34.7753,2,    116.2,2, 131.8810,2,    124.5,2,     35.7,2,     0.00,2,    2.567,2,   0.004,2,   0.004,2,   0.0058,2,  2314.8,2,  2404.8,2,   7.5511,2,    25.00, -999.00,9, -999.00,9, -999.00,-999.000,9,  -999.0,9,     -999.0,9,     -999.0,9,         10,     -999.0,9,     -999.0,9,     -999.0,9,     -999.0,9
33RO20180423,        I7N,      80,          1,        111,      11110,9,20180523,       1042,     1.1878,    57.2992,       4652,  1875.1,   3.1521,  34.7938,2,  34.8137,2,    106.0,2, 119.2940,2,    117.6,2,     36.2,2,     0.00,2,    2.621,2,   0.006,2,   0.004,2,   0.0088,2,  -999.0,9,  -999.0,9,   7.5354,2,    25.00, -999.00,9, -999.00,9, -999.00,-999.000,9,  -999.0,9,     -999.0,9,     -999.0,9,         11,     -999.0,9,     -999.0,9,     -999.0,9,     -999.0,9
33RO20180423,        I7N,      80,          1,        112,      11111,9,20180523,       1042,     1.1878,    57.2992,       4652,  1619.7,   4.1042,  34.8380,2,  34.8472,2,     87.0,2,  97.5240,2,    108.0,2,     36.9,2,     0.00,2,    2.697,2,   0.009,2,   0.006,2,        0,2,  -999.0,9,  2388.2,2,   7.5123,2,    25.00, -999.00,9, -999.00,9, -999.00,-999.000,9,  -999.0,9,     -999.0,9,     -999.0,9,         12,     -999.0,9,     -999.0,9,     -999.0,9,     -999.0,9
33RO20180423,        I7N,      80,          1,        113,      11112,9,20180523,       1042,     1.1878,    57.2992,       4652,  1379.4,   4.8766,  34.8760,2,  34.9210,2,     72.3,2,  80.4850,2,    100.9,2,     37.4,2,     0.00,2,    2.767,2,   0.013,2,   0.007,2,   0.0058,2,  2311.7,2,  2385.2,2,   7.4950,6,    25.00, -999.00,9, -999.00,9, -999.00,-999.000,9,  -999.0,9,     -999.0,9,     -999.0,9,         13,     -999.0,9,     -999.0,9,     -999.0,9,     -999.0,9
33RO20180423,        I7N,      80,          1,        114,      11113,9,20180523,       1042,     1.1878,    57.2992,       4652,  1167.4,   6.0005,  34.9583,2,  34.9887,2,     53.9,2,  60.7180,2,     91.2,2,     37.6,2,     0.00,2,    2.800,2,   0.032,2,   0.020,2,   0.0075,2,  -999.0,9,  2371.8,2,   7.4765,2,    25.00, -999.00,9, -999.00,9, -999.00,-999.000,9,  -999.0,9,     -999.0,9,     -999.0,9,         14,     -999.0,9,     -999.0,9,     -999.0,9,     -999.0,9
33RO20180423,        I7N,      80,          1,        115,      11114,9,20180523,       1042,     1.1878,    57.2992,       4652,   950.1,   7.5756,  35.0657,2,-999.0000,9,     39.6,2,-999.0000,9,     74.8,2,     36.8,2,     0.00,2,    2.747,2,-999.000,9,-999.000,9,-999.0000,9,  -999.0,9,  -999.0,9,-999.0000,9,  -999.00, -999.00,9, -999.00,9, -999.00,-999.000,9,  -999.0,9,     -999.0,9,     -999.0,9,         15,     -999.0,9,     -999.0,9,     -999.0,9,     -999.0,9
33RO20180423,        I7N,      80,          1,        116,      11115,9,20180523,       1042,     1.1878,    57.2992,       4652,   800.4,   8.2544,  35.0607,2,  35.0739,2,     40.0,2,  45.0730,2,     65.3,2,     36.0,2,     0.00,2,    2.672,2,   0.215,6,   0.122,6,   0.0213,6,  2286.4,2,  2348.3,2,   7.4786,2,    25.00, -999.00,9, -999.00,9, -999.00,-999.000,9,  -999.0,9,     -999.0,9,     -999.0,9,         16,     -999.0,9,     -999.0,9,     -999.0,9,     -999.0,9
33RO20180423,        I7N,      80,          1,        117,      11116,9,20180523,       1042,     1.1878,    57.2992,       4652,   649.9,   9.3840,  35.1066,2,  35.1074,2,     45.9,2,  51.1670,2,     49.8,2,     33.7,2,     0.00,2,    2.506,2,   0.558,2,   0.306,2,   0.1416,2,  2263.0,2,  2335.6,2,   7.5009,2,    25.00, -999.00,9, -999.00,9, -999.00,-999.000,9,  -999.0,9,     -999.0,9,     -999.0,9,         17,     -999.0,9,     -999.0,9,     -999.0,9,     -999.0,9
33RO20180423,        I7N,      80,          1,        118,      11117,9,20180523,       1042,     1.1878,    57.2992,       4652,   450.8,  10.1104,  35.0324,2,  35.0371,2,     79.3,2,  85.1890,2,     33.6,2,     29.5,2,     0.00,2,    2.131,2,   1.362,2,   0.726,2,   0.3558,2,  2231.5,2,  2321.2,2,   7.5611,2,    25.00, -999.00,9, -999.00,9, -999.00,-999.000,9,  -999.0,9,     -999.0,9,     -999.0,9,         18,     -999.0,9,     -999.0,9,     -999.0,9,     -999.0,9
33RO20180423,        I7N,      80,          1,        119,      11083,9,20180523,       1042,     1.1878,    57.2992,       4652,   333.3,  11.3260,  35.0327,2,  35.0615,2,    108.8,2, 116.7970,2,     20.9,2,     24.0,2,     0.00,2,    1.698,2,   2.108,2,   1.151,2,   0.7264,2,  2197.5,2,  2313.2,2,   7.6329,2,    25.00, -999.00,9, -999.00,9, -999.00,-999.000,9,  -999.0,9,     -999.0,9,     -999.0,9,         19,     -999.0,9,     -999.0,9,     -999.0,9,     -999.0,9
33RO20180423,        I7N,      80,          1,        120,      11118,9,20180523,       1042,     1.1878,    57.2992,       4652,   217.6,  13.3400,  35.1565,2,  35.1650,2,    108.5,2, 116.1480,2,     16.8,2,     20.7,2,     0.00,2,    1.498,2,   2.191,2,   1.240,2,   0.9356,2,  2185.2,2,  2315.4,2,   7.6775,2,    25.00, -999.00,9, -999.00,9, -999.00,-999.000,9,  -999.0,9,     -999.0,9,     -999.0,9,         20,     -999.0,9,     -999.0,9,     -999.0,9,     -999.0,9
33RO20180423,        I7N,      80,          1,        121,      11119,9,20180523,       1042,     1.1878,    57.2992,       4652,   167.4,  15.5079,  35.2189,2,  35.2210,2,     87.6,2,  93.8950,2,     15.9,2,     20.7,2,     0.01,2,    1.484,2,   1.958,2,   1.161,2,   0.9527,2,  2176.0,2,  2313.8,2,   7.6869,2,    25.00, -999.00,9, -999.00,9, -999.00,-999.000,9,  -999.0,9,     -999.0,9,     -999.0,9,         21,     -999.0,9,     -999.0,9,     -999.0,9,     -999.0,9
33RO20180423,        I7N,      80,          1,        122,      11120,9,20180523,       1042,     1.1878,    57.2992,       4652,   118.1,  18.3675,  35.3157,2,  35.3198,6,     90.2,2,  95.9760,2,     13.0,2,     18.0,2,     0.03,2,    1.306,2,   1.898,2,   1.110,2,   1.0158,2,  2154.0,2,  2317.1,2,   7.7457,2,    25.00, -999.00,9, -999.00,9, -999.00,-999.000,9,  -999.0,9,     -999.0,9,     -999.0,9,         22,     -999.0,9,     -999.0,9,     -999.0,9,     -999.0,9
33RO20180423,        I7N,      80,          1,        123,      11121,9,20180523,       1042,     1.1878,    57.2992,       4652,    65.8,  26.5255,  35.5699,2,  35.5754,2,    176.8,2, 191.1380,2,      2.6,2,      0.5,2,     0.09,2,    0.304,2,   1.556,2,   0.978,2,    1.432,2,  2030.6,2,  -999.0,5,   8.0209,6,    25.00, -999.00,9, -999.00,9, -999.00,-999.000,9,  -999.0,9,     -999.0,9,     -999.0,9,         23,     -999.0,9,     -999.0,9,     -999.0,9,     -999.0,9
33RO20180423,        I7N,      80,          1,        124,      11122,9,20180523,       1042,     1.1878,    57.2992,       4652,     4.2,  29.7537,  34.9142,2,  34.9178,2,    184.7,2, 192.7380,2,      1.6,2,      0.0,2,     0.00,2,    0.114,2,   1.381,2,   0.881,2,   1.3432,2,  1959.3,6,  2292.0,6,   8.0896,2,    25.00, -999.00,9, -999.00,9, -999.00,-999.000,9,  -999.0,9,     -999.0,9,     -999.0,9,         24,     -999.0,9,     -999.0,9,     -999.0,9,     -999.0,9