BOTTLE,20230801CCHSIOCBG
EXPOCODE,SECT_ID,STNNBR,CASTNO,SAMPNO,BTLNBR,BTLNBR_FLAG_W,DATE,TIME,LATITUDE,LONGITUDE,DEPTH,CTDPRS,CTDTMP,CTDSAL,CTDSAL_FLAG_W,SALNTY,SALNTY_FLAG_W,CTDOXY,CTDOXY_FLAG_W,OXYGEN,OXYGEN_FLAG_W,SILCAT,SILCAT_FLAG_W,NITRAT,NITRAT_FLAG_W,NITRIT,NITRIT_FLAG_W,PHSPHT,PHSPHT_FLAG_W,CFC-11,CFC-11_FLAG_W,CFC-12,CFC-12_FLAG_W,SF6,SF6_FLAG_W,TCARBN,TCARBN_FLAG_W,ALKALI,ALKALI_FLAG_W,PH_SWS,PH_SWS_FLAG_W,PH_TMP,DELC13,DELC13_FLAG_W,DELC14,DELC14_FLAG_W,C14ERR,CCL4,CCL4_FLAG_W,DOC,DOC_FLAG_W,N2O,N2O_FLAG_W,CALCIUM,CALCIUM_FLAG_W,SAMPNO_U,DNSSAL,DNSSAL_FLAG_W,DNSSAL2,DNSSAL2_FLAG_W,SALNTY_DNSSAL,SALNTY_DNSSAL_FLAG_W,SALNTY_DNSSAL2,SALNTY_DNSSAL2_FLAG_W
,,,,,,,,,,,METERS,DBAR,ITS-90,PSS-78,,PSS-78,,UMOL/KG,,UMOL/KG,,UMOL/KG,,UMOL/KG,,UMOL/KG,,UMOL/KG,,PMOL/KG,,PMOL/KG,,FMOL/KG,,UMOL/KG,,UMOL/KG,,,,DEG C,/MILLE,,/MILLE,,/MILLE,PMOL/KG,,UMOL/KG,,NMOL/KG,,MMOL/KG,,,G/KG,,G/KG,,PSS-78,,PSS-78,
33RO20180423,        I7N,      17,          1,        101,      11010,2,20180502,       0421,   -24.3357,    54.5195,       4776,  4862.1,   1.0309,  34.7053,2,  34.7069,2,    177.9,2, 206.0900,2,    125.7,6,     32.3,6,     0.00,6,    2.218,6,   0.099,2,   0.048,2,        0,2,  2265.6,6,  2373.2,2,   7.6009,2,    25.00, -999.00,9, -999.00,9, -999.00,-999.000,1,  -999.0,9,     -999.0,1,     -999.0,9,          1,     -999.0,9,     -999.0,9,     -999.0,9,     -999.0,9
33RO20180423,        I7N,      17,          1,        102,      11101,2,20180502,       0421,   -24.3357,    54.5195,       4776,  4420.6,   1.1323,  34.7109,2,  34.7165,2,    172.3,2, 199.8880,2,    125.7,6,     32.5,6,     0.00,6,    2.237,6,   0.066,2,   0.032,2,        0,2,  2270.0,2,  2376.5,2,   7.5982,6,    25.00, -999.00,9, -999.00,9, -999.00,-999.000,1,    52.4,3,     -999.0,1,     -999.0,9,          2,     -999.0,9,     -999.0,9,     -999.0,9,     -999.0,9
33RO20180423,        I7N,      17,          1,        103,      11102,2,20180502,       0421,   -24.3357,    54.5195,       4776,  4126.4,   1.1870,  34.7141,2,  34.7149,2,    169.3,2, 196.8185,2,    125.6,6,     32.7,6,     0.00,6,    2.248,6,   0.053,2,   0.026,2,        0,2,  2271.8,2,  2380.9,6,   7.5983,2,    25.00, -999.00,9, -999.00,9, -999.00,-999.000,1,    52.7,3,     -999.0,1,     -999.0,9,          3,     -999.0,9,     -999.0,9,     -999.0,9,     -999.0,9
33RO20180423,        I7N,      17,          1,        104,      11103,2,20180502,       0421,   -24.3357,    54.5195,       4776,  3834.8,   1.3105,  34.7186,2,  34.7189,2,    163.7,2, 189.9210,2,    126.7,6,     33.1,6,     0.00,6,    2.275,6,   0.031,2,   0.015,2,        0,2,  2276.4,2,  2385.5,2,   7.5972,2,    25.00, -999.00,9, -999.00,9, -999.00,-999.000,1,    52.9,3,     -999.0,1,     -999.0,9,          4,     -999.0,9,     -999.0,9,     -999.0,9,     -999.0,9
33RO20180423,        I7N,      17,          1,        105,      11104,2,20180502,       0421,   -24.3357,    54.5195,       4776,  3525.4,   1.5252,  34.7262,2,  34.7312,2,    154.9,2, 179.2420,2,    126.8,2,     33.4,2,     0.00,2,    2.306,2,   0.013,2,   0.006,2,        0,2,  2286.2,2,  2392.2,2,   7.5927,2,    25.00, -999.00,9, -999.00,9, -999.00,-999.000,1,  -999.0,9,     -999.0,1,     -999.0,9,          5,     -999.0,9,     -999.0,9,     -999.0,9,     -999.0,9
33RO20180423,        I7N,      17,          1,        106,      11105,2,20180502,       0421,   -24.3357,    54.5195,       4776,  3225.7,   1.7745,  34.7340,2,  34.7331,2,    146.2,2,-999.0000,9,    126.2,2,     33.9,2,     0.00,2,    2.353,2,   0.004,2,   0.002,2,        0,2,  -999.0,9,  -999.0,9,-999.0000,9,  -999.00, -999.00,9, -999.00,9, -999.00,-999.000,1,  -999.0,9,     -999.0,1,     -999.0,9,          6,     -999.0,9,     -999.0,9,     -999.0,9,     -999.0,9
33RO20180423,        I7N,      17,          1,        107,      11106,2,20180502,       0421,   -24.3357,    54.5195,       4776,  2926.9,   1.9345,  34.7383,2,  34.7398,2,    142.3,2, 167.2650,4,    123.8,2,     33.9,2,     0.00,2,    2.352,2,   0.004,2,   0.003,2,        0,2,  2295.2,2,  2399.3,2,   7.5835,2,    25.00, -999.00,9, -999.00,9, -999.00,-999.000,1,    50.3,3,     -999.0,1,     -999.0,9,          7,     -999.0,9,     -999.0,9,     -999.0,9,     -999.0,9
33RO20180423,        I7N,      17,          1,        108,      11107,2,20180502,       0421,   -24.3357,    54.5195,       4776,  2625.6,   2.0625,  34.7386,2,  34.7588,6,    142.1,2, 162.5540,2,    119.3,2,     33.8,2,     0.00,2,    2.350,2,   0.006,2,   0.003,2,        0,2,  2291.4,2,  2395.1,2,   7.5825,2,    25.00, -999.00,9, -999.00,9, -999.00,-999.000,1,  -999.0,9,     -999.0,1,     -999.0,9,          8,     -999.0,9,     -999.0,9,     -999.0,9,     -999.0,9
33RO20180423,        I7N,      17,          1,        109,      11108,2,20180502,       0421,   -24.3357,    54.5195,       4776,  2326.6,   2.2325,  34.7337,2,  34.7449,2,    144.8,2, 164.1550,2,    110.9,2,     33.4,2,     0.00,2,    2.316,2,   0.013,2,   0.006,2,        0,2,  2283.7,2,  2385.6,2,   7.5825,2,    25.00, -999.00,9, -999.00,9, -999.00,-999.000,1,    50.6,3,     -999.0,1,     -999.0,9,          9,     -999.0,9,     -999.0,9,     -999.0,9,     -999.0,9
33RO20180423,        I7N,      17,          1,        110,      11109,2,20180502,       0421,   -24.3357,    54.5195,       4776,  2024.6,   2.4289,  34.7145,2,  34.7217,2,    147.8,2, 166.5230,2,    101.0,2,     33.0,2,     0.00,2,    2.289,2,   0.023,2,   0.012,2,        0,2,  2271.3,2,  2372.2,2,   7.5821,2,    25.00, -999.00,9, -999.00,9, -999.00,-999.000,1,  -999.0,9,     -999.0,1,     -999.0,9,         10,     -999.0,9,     -999.0,9,     -999.0,9,     -999.0,9
33RO20180423,        I7N,      17,          1,        111,      11110,2,20180502,       0421,   -24.3357,    54.5195,       4776,  1738.1,   2.6952,  34.6742,2,  34.6767,2,    148.3,2, 165.7600,2,     89.7,2,     33.1,2,     0.00,2,    2.297,2,   0.058,6,   0.029,6,   0.0027,6,  2261.3,2,  2359.1,2,   7.5764,2,    25.00, -999.00,9, -999.00,9, -999.00,-999.000,1,  -999.0,9,     -999.0,1,     -999.0,9,         11,     -999.0,9,     -999.0,9,     -999.0,9,     -999.0,9
33RO20180423,        I7N,      17,          1,        112,      11111,2,20180502,       0421,   -24.3357,    54.5195,       4776,  1489.4,   3.2597,  34.6029,2,  34.6053,2,    140.8,2, 156.8430,2,     79.1,2,     34.0,2,     0.00,2,    2.355,2,   0.144,2,   0.072,2,   0.0056,2,  2256.1,2,  2347.9,6,   7.5603,2,    25.00, -999.00,9, -999.00,9, -999.00,-999.000,1,    51.0,3,     -999.0,1,     -999.0,9,         12,     -999.0,9,     -999.0,9,     -999.0,9,     -999.0,9
33RO20180423,        I7N,      17,          1,        113,      11112,2,20180502,       0421,   -24.3357,    54.5195,       4776,  1251.0,   4.0242,  34.5269,2,  34.5316,2,    139.2,2, 153.7460,2,     67.7,2,     34.0,2,     0.00,2,    2.356,2,   0.383,2,   0.193,2,   0.0439,2,  2245.2,2,  2336.5,2,   7.5588,6,    25.00, -999.00,9, -999.00,9, -999.00,-999.000,1,    52.1,3,     -999.0,1,     -999.0,9,         13,     -999.0,9,     -999.0,9,     -999.0,9,     -999.0,9
33RO20180423,        I7N,      17,          1,        114,      11113,2,20180502,       0421,   -24.3357,    54.5195,       4776,  1050.9,   5.2907,  34.4547,2,  34.4569,2,    160.1,2, 176.2450,2,     41.0,2,     30.8,2,     0.00,2,    2.117,2,   1.306,2,   0.646,2,   0.2707,2,  2206.1,6,  2311.1,2,   7.6007,2,    25.00, -999.00,9, -999.00,9, -999.00,-999.000,1,    55.0,3,     -999.0,1,     -999.0,9,         14,     -999.0,9,     -999.0,9,     -999.0,9,     -999.0,9
33RO20180423,        I7N,      17,          1,        115,      11114,2,20180502,       0421,   -24.3357,    54.5195,       4776,   863.7,   7.6241,  34.5377,2,  34.5402,2,    187.9,2, 204.8645,2,     15.8,2,     23.4,2,     0.00,2,    1.625,2,   2.775,2,   1.431,2,   0.7153,2,  2158.5,2,  2294.4,2,   7.6823,2,    25.00, -999.00,9, -999.00,9, -999.00,-999.000,1,    62.3,3,     -999.0,1,     -999.0,9,         15,     -999.0,9,     -999.0,9,     -999.0,9,     -999.0,9
33RO20180423,        I7N,      17,          1,        116,      11115,2,20180502,       0421,   -24.3357,    54.5195,       4776,   713.3,   9.8668,  34.7712,2,  34.7754,2,    203.9,2, 221.2330,2,      6.7,2,     16.3,2,     0.00,2,    1.182,2,   3.335,2,   1.826,2,   1.2267,2,  2133.4,2,  2299.8,2,   7.7543,2,    25.00, -999.00,9, -999.00,9, -999.00,-999.000,1,    64.6,3,     -999.0,1,     -999.0,9,         16,     -999.0,9,     -999.0,9,     -999.0,9,     -999.0,9
33RO20180423,        I7N,      17,          1,        117,      11116,2,20180502,       0421,   -24.3357,    54.5195,       4776,   564.3,  11.6501,  35.0220,2,  35.0260,2,    208.0,2, 224.8340,2,      4.5,2,     11.9,2,     0.00,2,    0.896,2,   3.174,2,   1.816,2,   1.5061,2,  2123.6,2,  2308.4,2,   7.8003,2,    25.00, -999.00,9, -999.00,9, -999.00,-999.000,1,    60.0,3,     -999.0,1,     -999.0,9,         17,     -999.0,9,     -999.0,9,     -999.0,9,     -999.0,9
33RO20180423,        I7N,      17,          1,        118,      11117,2,20180502,       0421,   -24.3357,    54.5195,       4776,   413.3,  13.4768,  35.2776,2,  35.2887,2,    201.4,2, 216.0410,2,      4.0,2,      8.3,2,     0.00,2,    0.706,2,   2.866,6,   1.671,6,    1.644,6,  2116.9,2,  2319.8,2,   7.8346,2,    25.00, -999.00,9, -999.00,9, -999.00,-999.000,1,    58.2,3,     -999.0,1,     -999.0,9,         18,     -999.0,9,     -999.0,9,     -999.0,9,     -999.0,9
33RO20180423,        I7N,      17,          1,        119,      11083,2,20180502,       0421,   -24.3357,    54.5195,       4776,   274.9,  16.4685,  35.5238,2,  35.5266,2,    182.6,2, 194.8920,2,      4.4,2,      5.3,2,     0.00,2,    0.514,2,   2.380,2,   1.438,2,   1.6049,2,  2105.9,2,  2331.9,2,   7.8804,2,    25.00, -999.00,9, -999.00,9, -999.00,-999.000,1,    62.8,3,     -999.0,1,     -999.0,9,         19,     -999.0,9,     -999.0,9,     -999.0,9,     -999.0,9
33RO20180423,        I7N,      17,          1,        120,      11118,2,20180502,       0421,   -24.3357,    54.5195,       4776,   187.5,  20.2437,  35.4973,2,  35.4785,6,    172.2,2, 179.0550,2,      4.6,2,      3.7,2,     0.02,2,    0.401,2,   1.963,2,   1.216,2,   1.4857,2,  2074.7,2,  2327.8,2,   7.9338,2,    25.00, -999.00,9, -999.00,9, -999.00,-999.000,1,    70.1,3,     -999.0,1,     -999.0,9,         20,     -999.0,9,     -999.0,9,     -999.0,9,     -999.0,9
33RO20180423,        I7N,      17,          1,        121,      11119,2,20180502,       0421,   -24.3357,    54.5195,       4776,   137.8,  22.4961,  35.2548,2,  35.2558,2,    167.8,2, 183.1190,2,      3.6,2,      2.5,2,     0.09,2,    0.327,2,   1.792,2,   1.130,2,   1.4668,2,  2038.0,2,  2313.8,2,   7.9782,2,    25.00, -999.00,9, -999.00,9, -999.00,-999.000,1,    77.9,3,     -999.0,1,     -999.0,9,         21,     -999.0,9,     -999.0,9,     -999.0,9,     -999.0,9
33RO20180423,        I7N,      17,          1,        122,      11120,2,20180502,       0421,   -24.3357,    54.5195,       4776,    88.7,  24.5910,  35.0708,2,  35.0788,2,    193.2,2, 205.5450,2,      2.1,2,      0.0,2,     0.00,2,    0.141,2,   1.694,2,   1.072,2,   1.4609,2,  1997.5,2,  2301.2,6,   8.0366,2,    25.00, -999.00,9, -999.00,9, -999.00,-999.000,1,    83.5,3,     -999.0,1,     -999.0,9,         22,     -999.0,9,     -999.0,9,     -999.0,9,     -999.0,9
33RO20180423,        I7N,      17,          1,        123,      11121,2,20180502,       0421,   -24.3357,    54.5195,       4776,    39.3,  26.4389,  35.0116,2,  35.0140,2,    192.2,2, 204.1680,2,      1.9,2,      0.0,2,     0.00,2,    0.128,2,   1.538,2,   0.974,2,   1.4137,2,  1976.0,2,  2295.1,2,   8.0647,6,    25.00, -999.00,9, -999.00,9, -999.00,-999.000,1,    80.1,3,     -999.0,1,     -999.0,9,         23,     -999.0,9,     -999.0,9,     -999.0,9,     -999.0,9
33RO20180423,        I7N,      17,          1,        124,      11122,2,20180502,       0421,   -24.3357,    54.5195,       4776,     3.0,  26.4331,  35.0116,2,  35.0142,2,    192.4,2, 203.2500,2,      1.8,2,      0.0,2,     0.00,2,    0.121,2,   1.535,2,   0.970,2,    1.416,2,  1973.2,2,  2293.6,2,   8.0646,2,    25.00, -999.00,9, -999.00,9, -999.00,-999.000,1,  -999.0,9,     -999.0,1,     -999.0,9,         24,     -999.0,9,     -999.0,9,     -999.0,9,     -999.0,9