BOTTLE,20230801CCHSIOCBG
EXPOCODE,SECT_ID,STNNBR,CASTNO,SAMPNO,BTLNBR,BTLNBR_FLAG_W,DATE,TIME,LATITUDE,LONGITUDE,DEPTH,CTDPRS,CTDTMP,CTDSAL,CTDSAL_FLAG_W,SALNTY,SALNTY_FLAG_W,CTDOXY,CTDOXY_FLAG_W,OXYGEN,OXYGEN_FLAG_W,SILCAT,SILCAT_FLAG_W,NITRAT,NITRAT_FLAG_W,NITRIT,NITRIT_FLAG_W,PHSPHT,PHSPHT_FLAG_W,CFC-11,CFC-11_FLAG_W,CFC-12,CFC-12_FLAG_W,SF6,SF6_FLAG_W,TCARBN,TCARBN_FLAG_W,ALKALI,ALKALI_FLAG_W,PH_SWS,PH_SWS_FLAG_W,PH_TMP,DELC13,DELC13_FLAG_W,DELC14,DELC14_FLAG_W,C14ERR,CCL4,CCL4_FLAG_W,DOC,DOC_FLAG_W,N2O,N2O_FLAG_W,CALCIUM,CALCIUM_FLAG_W,SAMPNO_U,DNSSAL,DNSSAL_FLAG_W,DNSSAL2,DNSSAL2_FLAG_W,SALNTY_DNSSAL,SALNTY_DNSSAL_FLAG_W,SALNTY_DNSSAL2,SALNTY_DNSSAL2_FLAG_W
,,,,,,,,,,,METERS,DBAR,ITS-90,PSS-78,,PSS-78,,UMOL/KG,,UMOL/KG,,UMOL/KG,,UMOL/KG,,UMOL/KG,,UMOL/KG,,PMOL/KG,,PMOL/KG,,FMOL/KG,,UMOL/KG,,UMOL/KG,,,,DEG C,/MILLE,,/MILLE,,/MILLE,PMOL/KG,,UMOL/KG,,NMOL/KG,,MMOL/KG,,,G/KG,,G/KG,,PSS-78,,PSS-78,
33RO20180423,        I7N,      24,          1,        101,      11010,2,20180503,       2034,   -21.5058,    54.3188,       4273,  4343.2,   1.2321,  34.7142,2,  34.7152,2,    169.5,2, 194.5500,2,    126.7,6,     32.8,6,     0.00,6,    2.264,6,   0.047,2,   0.022,2,        0,2,  2276.4,6,  2392.5,3,   7.6061,2,    25.00, -999.00,9, -999.00,9, -999.00,-999.000,1,  -999.0,9,     -999.0,1,     -999.0,9,          1,     -999.0,9,     -999.0,9,     -999.0,9,     -999.0,9
33RO20180423,        I7N,      24,          1,        102,      11101,2,20180503,       2034,   -21.5058,    54.3188,       4273,  3983.1,   1.3549,  34.7198,2,  34.7203,2,    162.8,2, 187.0050,2,    126.8,6,     33.2,6,     0.00,6,    2.276,6,-999.000,9,-999.000,9,-999.0000,9,  2281.6,2,  2388.4,2,   7.5969,2,    25.00, -999.00,9, -999.00,9, -999.00,-999.000,9,  -999.0,9,     -999.0,9,     -999.0,9,          2,     -999.0,9,     -999.0,9,     -999.0,9,     -999.0,9
33RO20180423,        I7N,      24,          1,        103,      11102,2,20180503,       2034,   -21.5058,    54.3188,       4273,  3676.4,   1.5493,  34.7273,2,  34.7281,2,    153.4,2, 176.3470,2,    129.1,6,     33.8,6,     0.00,6,    2.326,6,-999.000,9,-999.000,9,-999.0000,9,  2290.9,2,  2397.3,6,   7.5912,2,    25.00, -999.00,9, -999.00,9, -999.00,-999.000,9,  -999.0,9,     -999.0,9,     -999.0,9,          3,     -999.0,9,     -999.0,9,     -999.0,9,     -999.0,9
33RO20180423,        I7N,      24,          1,        104,      11103,2,20180503,       2034,   -21.5058,    54.3188,       4273,  3374.8,   1.6808,  34.7319,2,  34.7317,2,    147.6,2, 169.7410,2,    129.7,6,     34.1,6,     0.00,6,    2.349,6,   0.004,2,   0.003,2,   0.0064,2,  2295.4,2,  2401.3,2,   7.5887,6,    25.00, -999.00,9, -999.00,9, -999.00,-999.000,1,  -999.0,9,     -999.0,1,     -999.0,9,          4,     -999.0,9,     -999.0,9,     -999.0,9,     -999.0,9
33RO20180423,        I7N,      24,          1,        105,      11104,2,20180503,       2034,   -21.5058,    54.3188,       4273,  3074.8,   1.8104,  34.7360,2,  34.7422,2,    143.5,2, 164.2530,2,    128.4,2,     34.2,2,     0.00,2,    2.362,2,-999.000,9,-999.000,9,-999.0000,9,  2298.1,2,  2401.8,2,   7.5839,2,    25.00, -999.00,9, -999.00,9, -999.00,-999.000,9,  -999.0,9,     -999.0,9,     -999.0,9,          5,     -999.0,9,     -999.0,9,     -999.0,9,     -999.0,9
33RO20180423,        I7N,      24,          1,        106,      11105,2,20180503,       2034,   -21.5058,    54.3188,       4273,  2773.9,   1.9149,  34.7374,2,  34.7371,2,    141.9,2, 161.7935,2,    125.5,2,     34.3,2,     0.00,2,    2.372,2,-999.000,9,-999.000,9,-999.0000,9,  2297.5,2,  2401.0,2,   7.5820,2,    25.00, -999.00,9, -999.00,9, -999.00,-999.000,9,  -999.0,9,     -999.0,9,     -999.0,9,          6,     -999.0,9,     -999.0,9,     -999.0,9,     -999.0,9
33RO20180423,        I7N,      24,          1,        107,      11106,2,20180503,       2034,   -21.5058,    54.3188,       4273,  2475.6,   2.0511,  34.7379,2,  34.7483,2,    141.2,2, 160.4540,2,    120.7,2,     34.1,2,     0.00,2,    2.363,2,   0.004,2,   0.004,2,        0,2,  2293.9,2,  2396.2,2,   7.5802,2,    25.00, -999.00,9, -999.00,9, -999.00,-999.000,1,  -999.0,9,     -999.0,1,     -999.0,9,          7,     -999.0,9,     -999.0,9,     -999.0,9,     -999.0,9
33RO20180423,        I7N,      24,          1,        108,      11107,2,20180503,       2034,   -21.5058,    54.3188,       4273,  2176.2,   2.2417,  34.7326,2,  34.7447,2,    143.4,2, 161.8100,2,    112.5,2,     33.7,2,     0.00,2,    2.332,2,-999.000,9,-999.000,9,-999.0000,9,  2284.9,2,  2386.9,2,   7.5797,2,    25.00, -999.00,9, -999.00,9, -999.00,-999.000,9,  -999.0,9,     -999.0,9,     -999.0,9,          8,     -999.0,9,     -999.0,9,     -999.0,9,     -999.0,9
33RO20180423,        I7N,      24,          1,        109,      11108,2,20180503,       2034,   -21.5058,    54.3188,       4273,  1862.7,   2.4867,  34.7109,2,  34.7325,2,    148.5,2, 167.0140,2,     98.1,2,     33.0,2,     0.00,2,    2.274,2,   0.031,2,   0.017,2,   0.0092,2,  2269.7,2,  2370.0,2,   7.5825,6,    25.00, -999.00,9, -999.00,9, -999.00,-999.000,1,  -999.0,9,     -999.0,1,     -999.0,9,          9,     -999.0,9,     -999.0,9,     -999.0,9,     -999.0,9
33RO20180423,        I7N,      24,          1,        110,      11109,2,20180503,       2034,   -21.5058,    54.3188,       4273,  1613.7,   2.7638,  34.6695,2,  34.6723,2,    148.2,2, 165.6690,2,     88.2,2,     33.2,2,     0.00,2,    2.286,2,-999.000,9,-999.000,9,-999.0000,9,  2263.3,2,  2359.4,6,   7.5738,2,    25.00, -999.00,9, -999.00,9, -999.00,-999.000,9,  -999.0,9,     -999.0,9,     -999.0,9,         10,     -999.0,9,     -999.0,9,     -999.0,9,     -999.0,9
33RO20180423,        I7N,      24,          1,        111,      11110,2,20180503,       2034,   -21.5058,    54.3188,       4273,  1350.4,   3.5221,  34.5936,2,  34.5996,2,    136.8,2, 151.6290,2,     77.6,2,     34.3,2,     0.00,2,    2.381,2,   0.167,6,   0.083,6,   0.0033,6,  2258.5,2,  2345.7,2,   7.5557,2,    25.00, -999.00,9, -999.00,9, -999.00,-999.000,1,  -999.0,9,     -999.0,1,     -999.0,9,         11,     -999.0,9,     -999.0,9,     -999.0,9,     -999.0,9
33RO20180423,        I7N,      24,          1,        112,      11111,2,20180503,       2034,   -21.5058,    54.3188,       4273,  1148.8,   4.3608,  34.5316,2,  34.5323,2,    137.2,2, 151.9560,2,     63.5,2,     33.8,2,     0.00,2,    2.344,2,   0.484,2,   0.240,2,   0.0523,2,  2241.8,6,  2331.7,2,   7.5616,2,    25.00, -999.00,9, -999.00,9, -999.00,-999.000,1,  -999.0,9,     -999.0,1,     -999.0,9,         12,     -999.0,9,     -999.0,9,     -999.0,9,     -999.0,9
33RO20180423,        I7N,      24,          1,        113,      11112,2,20180503,       2034,   -21.5058,    54.3188,       4273,   937.2,   6.2254,  34.4904,2,  34.4941,2,    164.7,2, 174.8550,2,     32.6,2,     28.7,2,     0.00,2,    1.972,2,-999.000,9,-999.000,9,-999.0000,9,  2192.0,2,  2305.2,2,   7.6234,2,    25.00, -999.00,9, -999.00,9, -999.00,-999.000,9,  -999.0,9,     -999.0,9,     -999.0,9,         13,     -999.0,9,     -999.0,9,     -999.0,9,     -999.0,9
33RO20180423,        I7N,      24,          1,        114,      11113,2,20180503,       2034,   -21.5058,    54.3188,       4273,   786.8,   8.7293,  34.6472,2,  34.6481,2,    196.5,2, 213.7200,2,     11.3,2,     20.1,2,     0.00,2,    1.396,2,-999.000,9,-999.000,9,-999.0000,9,  2147.2,2,  2296.0,2,   7.7177,2,    25.00, -999.00,9, -999.00,9, -999.00,-999.000,9,  -999.0,9,     -999.0,9,     -999.0,9,         14,     -999.0,9,     -999.0,9,     -999.0,9,     -999.0,9
33RO20180423,        I7N,      24,          1,        115,      11114,2,20180503,       2034,   -21.5058,    54.3188,       4273,   462.0,  12.5278,  35.1520,2,  35.1558,2,    210.1,2, 225.7000,2,      3.6,2,      9.8,2,     0.00,2,    0.772,2,-999.000,9,-999.000,9,-999.0000,9,  2119.4,2,  2312.2,2,   7.8219,2,    25.00, -999.00,9, -999.00,9, -999.00,-999.000,9,  -999.0,9,     -999.0,9,     -999.0,9,         15,     -999.0,9,     -999.0,9,     -999.0,9,     -999.0,9
33RO20180423,        I7N,      24,          1,        116,      11115,2,20180503,       2034,   -21.5058,    54.3188,       4273,   462.6,  12.5240,  35.1517,2,  35.1579,2,    210.1,2, 226.1055,2,      3.6,2,      9.7,2,     0.00,2,    0.770,2,-999.000,9,-999.000,9,-999.0000,9,  2118.4,2,  2316.2,2,   7.8221,2,    25.00, -999.00,9, -999.00,9, -999.00,-999.000,9,  -999.0,9,     -999.0,9,     -999.0,9,         16,     -999.0,9,     -999.0,9,     -999.0,9,     -999.0,9
33RO20180423,        I7N,      24,          1,        117,      11116,2,20180503,       2034,   -21.5058,    54.3188,       4273,   369.4,  13.8855,  35.3300,2,  35.3316,2,    202.6,2, 217.6860,2,      3.4,2,      7.4,2,     0.00,2,    0.642,2,-999.000,9,-999.000,9,-999.0000,9,  2116.1,2,  2310.4,4,   7.8455,2,    25.00, -999.00,9, -999.00,9, -999.00,-999.000,9,  -999.0,9,     -999.0,9,     -999.0,9,         17,     -999.0,9,     -999.0,9,     -999.0,9,     -999.0,9
33RO20180423,        I7N,      24,          1,        118,      11117,2,20180503,       2034,   -21.5058,    54.3188,       4273,   294.1,  15.7056,  35.5044,2,  35.5067,2,    190.8,2, 204.4610,2,      3.4,2,      5.3,2,     0.00,2,    0.505,2,-999.000,9,-999.000,9,-999.0000,9,  2110.2,2,  2324.5,2,   7.8731,2,    25.00, -999.00,9, -999.00,9, -999.00,-999.000,9,  -999.0,9,     -999.0,9,     -999.0,9,         18,     -999.0,9,     -999.0,9,     -999.0,9,     -999.0,9
33RO20180423,        I7N,      24,          1,        119,      11083,2,20180503,       2034,   -21.5058,    54.3188,       4273,   210.2,  18.4743,  35.5743,2,  35.5771,2,    172.4,2, 184.4720,2,      4.4,2,      4.6,2,     0.01,2,    0.431,2,-999.000,9,-999.000,9,-999.0000,9,  2092.6,2,  2319.9,2,   7.9079,2,    25.00, -999.00,9, -999.00,9, -999.00,-999.000,9,  -999.0,9,     -999.0,9,     -999.0,9,         19,     -999.0,9,     -999.0,9,     -999.0,9,     -999.0,9
33RO20180423,        I7N,      24,          1,        120,      11118,2,20180503,       2034,   -21.5058,    54.3188,       4273,   171.5,  20.0833,  35.4680,2,  35.4709,2,    161.4,2, 173.3440,2,      5.0,2,      4.9,2,     0.02,2,    0.440,2,-999.000,9,-999.000,9,-999.0000,9,  2080.7,2,  2323.4,2,   7.9241,2,    25.00, -999.00,9, -999.00,9, -999.00,-999.000,9,  -999.0,9,     -999.0,9,     -999.0,9,         20,     -999.0,9,     -999.0,9,     -999.0,9,     -999.0,9
33RO20180423,        I7N,      24,          1,        121,      11119,2,20180503,       2034,   -21.5058,    54.3188,       4273,   130.2,  21.8168,  35.4212,2,  35.4257,2,    177.1,2, 187.2690,2,      3.4,2,      2.5,2,     0.04,2,    0.287,2,-999.000,9,-999.000,9,-999.0000,9,  2050.1,2,  2322.6,6,   7.9689,2,    25.00, -999.00,9, -999.00,9, -999.00,-999.000,9,  -999.0,9,     -999.0,9,     -999.0,9,         21,     -999.0,9,     -999.0,9,     -999.0,9,     -999.0,9
33RO20180423,        I7N,      24,          1,        122,      11120,2,20180503,       2034,   -21.5058,    54.3188,       4273,    90.4,  24.9498,  35.2145,2,  35.2088,6,    192.8,2, 204.6720,2,      2.0,2,      0.0,2,     0.02,2,    0.105,2,-999.000,9,-999.000,9,-999.0000,9,  2000.9,2,  2309.7,2,   8.0395,6,    25.00, -999.00,9, -999.00,9, -999.00,-999.000,9,  -999.0,9,     -999.0,9,     -999.0,9,         22,     -999.0,9,     -999.0,9,     -999.0,9,     -999.0,9
33RO20180423,        I7N,      24,          1,        123,      11121,2,20180503,       2034,   -21.5058,    54.3188,       4273,    49.3,  26.3486,  35.0920,2,  35.0933,2,    192.2,2, 203.6370,2,      1.9,2,      0.0,2,     0.00,2,    0.091,2,-999.000,9,-999.000,9,-999.0000,9,  1976.7,2,  2300.1,2,   8.0659,2,    25.00, -999.00,9, -999.00,9, -999.00,-999.000,9,  -999.0,9,     -999.0,9,     -999.0,9,         23,     -999.0,9,     -999.0,9,     -999.0,9,     -999.0,9
33RO20180423,        I7N,      24,          1,        124,      11122,2,20180503,       2034,   -21.5058,    54.3188,       4273,     3.7,  26.3561,  35.0646,2,  35.0679,2,    192.6,2, 203.3210,2,      2.0,2,      0.0,2,     0.00,2,    0.095,2,   1.529,2,   0.976,2,   1.4013,2,  1976.4,6,  2301.8,2,   8.0688,2,    25.00, -999.00,9, -999.00,9, -999.00,-999.000,1,  -999.0,9,     -999.0,1,     -999.0,9,         24,     -999.0,9,     -999.0,9,     -999.0,9,     -999.0,9