BOTTLE,20230801CCHSIOCBG
EXPOCODE,SECT_ID,STNNBR,CASTNO,SAMPNO,BTLNBR,BTLNBR_FLAG_W,DATE,TIME,LATITUDE,LONGITUDE,DEPTH,CTDPRS,CTDTMP,CTDSAL,CTDSAL_FLAG_W,SALNTY,SALNTY_FLAG_W,CTDOXY,CTDOXY_FLAG_W,OXYGEN,OXYGEN_FLAG_W,SILCAT,SILCAT_FLAG_W,NITRAT,NITRAT_FLAG_W,NITRIT,NITRIT_FLAG_W,PHSPHT,PHSPHT_FLAG_W,CFC-11,CFC-11_FLAG_W,CFC-12,CFC-12_FLAG_W,SF6,SF6_FLAG_W,TCARBN,TCARBN_FLAG_W,ALKALI,ALKALI_FLAG_W,PH_SWS,PH_SWS_FLAG_W,PH_TMP,DELC13,DELC13_FLAG_W,DELC14,DELC14_FLAG_W,C14ERR,CCL4,CCL4_FLAG_W,DOC,DOC_FLAG_W,N2O,N2O_FLAG_W,CALCIUM,CALCIUM_FLAG_W,SAMPNO_U,DNSSAL,DNSSAL_FLAG_W,DNSSAL2,DNSSAL2_FLAG_W,SALNTY_DNSSAL,SALNTY_DNSSAL_FLAG_W,SALNTY_DNSSAL2,SALNTY_DNSSAL2_FLAG_W
,,,,,,,,,,,METERS,DBAR,ITS-90,PSS-78,,PSS-78,,UMOL/KG,,UMOL/KG,,UMOL/KG,,UMOL/KG,,UMOL/KG,,UMOL/KG,,PMOL/KG,,PMOL/KG,,FMOL/KG,,UMOL/KG,,UMOL/KG,,,,DEG C,/MILLE,,/MILLE,,/MILLE,PMOL/KG,,UMOL/KG,,NMOL/KG,,MMOL/KG,,,G/KG,,G/KG,,PSS-78,,PSS-78,
33RO20180423,        I7N,      55,          1,        101,      11010,2,20180512,       2354,    -8.1990,    52.8602,       3958,  4019.1,   1.4432,  34.7228,2,  34.7242,2,    157.2,2, 179.6950,2,    131.3,6,     33.9,6,     0.00,6,    2.350,6,   0.018,2,   0.009,2,        0,2,  2297.2,2,  2397.6,2,   7.5954,6,    25.00, -999.00,9, -999.00,9, -999.00,-999.000,1,  -999.0,9,     -999.0,1,     -999.0,9,          1,     -999.0,9,     -999.0,9,     -999.0,9,     -999.0,9
33RO20180423,        I7N,      55,          1,        102,      11101,2,20180512,       2354,    -8.1990,    52.8602,       3958,  3822.0,   1.5192,  34.7261,2,  34.7280,2,    152.6,2, 174.4330,2,    132.1,6,     34.2,6,     0.00,6,    2.363,6,   0.010,2,   0.005,2,        0,2,  2298.3,2,  2402.5,6,   7.5940,2,    25.00, -999.00,9, -999.00,9, -999.00,-999.000,1,  -999.0,9,     -999.0,1,     -999.0,9,          2,     -999.0,9,     -999.0,9,     -999.0,9,     -999.0,9
33RO20180423,        I7N,      55,          1,        103,      11102,2,20180512,       2354,    -8.1990,    52.8602,       3958,  3600.8,   1.5909,  34.7291,2,  34.7300,6,    149.1,2, 170.3615,2,    132.2,6,     34.3,6,     0.00,6,    2.393,6,   0.008,6,   0.003,2,   0.0081,2,  -999.0,9,  -999.0,9,-999.0000,9,  -999.00, -999.00,9, -999.00,9, -999.00,-999.000,1,  -999.0,9,     -999.0,1,     -999.0,9,          3,     -999.0,9,     -999.0,9,     -999.0,9,     -999.0,9
33RO20180423,        I7N,      55,          1,        104,      11103,2,20180512,       2354,    -8.1990,    52.8602,       3958,  3301.3,   1.6726,  34.7329,2,  34.7366,2,    145.6,2, 166.3230,2,    131.8,6,     34.6,6,     0.00,6,    2.405,6,-999.000,9,-999.000,9,-999.0000,9,  2300.4,2,  2405.2,2,   7.5886,2,    25.00, -999.00,9, -999.00,9, -999.00,-999.000,9,  -999.0,9,     -999.0,9,     -999.0,9,          4,     -999.0,9,     -999.0,9,     -999.0,9,     -999.0,9
33RO20180423,        I7N,      55,          1,        105,      11104,2,20180512,       2354,    -8.1990,    52.8602,       3958,  3000.5,   1.7520,  34.7363,2,  34.7369,2,    142.8,2, 162.4000,2,    131.1,6,     34.7,6,     0.00,6,    2.423,6,-999.000,9,-999.000,9,-999.0000,9,  -999.0,9,  -999.0,9,-999.0000,9,  -999.00, -999.00,9, -999.00,9, -999.00,-999.000,9,  -999.0,9,     -999.0,9,     -999.0,9,          5,     -999.0,9,     -999.0,9,     -999.0,9,     -999.0,9
33RO20180423,        I7N,      55,          1,        106,      11105,2,20180512,       2354,    -8.1990,    52.8602,       3958,  2700.8,   1.8464,  34.7387,2,  34.7407,2,    140.6,2, 159.6320,2,    129.6,2,     34.8,2,     0.00,2,    2.414,2,-999.000,9,-999.000,9,-999.0000,9,  -999.0,9,  -999.0,9,-999.0000,9,  -999.00, -999.00,9, -999.00,9, -999.00,-999.000,9,  -999.0,9,     -999.0,9,     -999.0,9,          6,     -999.0,9,     -999.0,9,     -999.0,9,     -999.0,9
33RO20180423,        I7N,      55,          1,        107,      11106,2,20180512,       2354,    -8.1990,    52.8602,       3958,  2400.9,   2.0585,  34.7419,2,  34.7462,2,    136.9,2, 154.8460,2,    126.2,2,     34.9,2,     0.00,2,    2.419,2,-999.000,9,-999.000,9,-999.0000,9,  2300.0,2,  2401.6,2,   7.5758,2,    25.00, -999.00,9, -999.00,9, -999.00,-999.000,9,  -999.0,9,     -999.0,9,     -999.0,9,          7,     -999.0,9,     -999.0,9,     -999.0,9,     -999.0,9
33RO20180423,        I7N,      55,          1,        108,      11107,2,20180512,       2354,    -8.1990,    52.8602,       3958,  2100.3,   2.3235,  34.7432,2,  34.7543,2,    133.1,2, 149.6910,2,    121.5,2,     35.0,2,     0.00,2,    2.447,2,-999.000,9,-999.000,9,-999.0000,9,  -999.0,9,  -999.0,9,-999.0000,9,  -999.00, -999.00,9, -999.00,9, -999.00,-999.000,9,  -999.0,9,     -999.0,9,     -999.0,9,          8,     -999.0,9,     -999.0,9,     -999.0,9,     -999.0,9
33RO20180423,        I7N,      55,          1,        109,      11108,2,20180512,       2354,    -8.1990,    52.8602,       3958,  1800.8,   2.8841,  34.7353,2,  34.7356,2,    127.4,2, 142.5740,2,    109.9,2,     35.0,2,     0.00,2,    2.447,2,-999.000,9,-999.000,9,-999.0000,9,  -999.0,9,  2377.3,2,   7.5611,2,    25.00, -999.00,9, -999.00,9, -999.00,-999.000,9,  -999.0,9,     -999.0,9,     -999.0,9,          9,     -999.0,9,     -999.0,9,     -999.0,9,     -999.0,9
33RO20180423,        I7N,      55,          1,        110,      11109,2,20180512,       2354,    -8.1990,    52.8602,       3958,  1549.1,   3.8592,  34.7498,2,  34.7519,2,    109.8,2, 122.4880,2,     99.6,2,     35.5,2,     0.00,2,    2.517,2,-999.000,9,-999.000,9,-999.0000,9,  2290.2,2,  -999.0,9,   7.5404,2,    25.00, -999.00,9, -999.00,9, -999.00,-999.000,9,  -999.0,9,     -999.0,9,     -999.0,9,         10,     -999.0,9,     -999.0,9,     -999.0,9,     -999.0,9
33RO20180423,        I7N,      55,          1,        111,      11110,2,20180512,       2354,    -8.1990,    52.8602,       3958,  1300.6,   4.6163,  34.7706,2,  34.7728,2,     94.5,2, 105.1230,2,     94.4,2,     36.1,2,     0.00,2,    2.566,2,-999.000,9,-999.000,9,-999.0000,9,  -999.0,9,  -999.0,9,-999.0000,9,  -999.00, -999.00,9, -999.00,9, -999.00,-999.000,9,  -999.0,9,     -999.0,9,     -999.0,9,         11,     -999.0,9,     -999.0,9,     -999.0,9,     -999.0,9
33RO20180423,        I7N,      55,          1,        112,      11111,2,20180512,       2354,    -8.1990,    52.8602,       3958,  1100.9,   5.6464,  34.7846,2,  34.7857,2,     84.1,2,  92.7930,2,     83.4,2,     35.9,2,     0.00,2,    2.554,2,-999.000,9,-999.000,9,-999.0000,9,  -999.0,9,  2350.8,2,   7.5160,2,    25.00, -999.00,9, -999.00,9, -999.00,-999.000,9,  -999.0,9,     -999.0,9,     -999.0,9,         12,     -999.0,9,     -999.0,9,     -999.0,9,     -999.0,9
33RO20180423,        I7N,      55,          1,        113,      11112,2,20180512,       2354,    -8.1990,    52.8602,       3958,   901.2,   6.2266,  34.7854,2,  34.7928,2,     84.7,2,  94.1550,2,     74.4,2,     35.2,2,     0.00,2,    2.504,2,-999.000,9,-999.000,9,-999.0000,9,  2271.7,2,  2338.2,2,   7.5208,2,    25.00, -999.00,9, -999.00,9, -999.00,-999.000,9,  -999.0,9,     -999.0,9,     -999.0,9,         13,     -999.0,9,     -999.0,9,     -999.0,9,     -999.0,9
33RO20180423,        I7N,      55,          1,        114,      11113,2,20180512,       2354,    -8.1990,    52.8602,       3958,   751.0,   7.4383,  34.7976,2,  34.7995,2,     86.4,2,  94.4020,2,     58.4,2,     33.4,2,     0.00,2,    2.367,2,-999.000,9,-999.000,9,-999.0000,9,  -999.0,9,  -999.0,9,-999.0000,9,  -999.00, -999.00,9, -999.00,9, -999.00,-999.000,9,  -999.0,9,     -999.0,9,     -999.0,9,         14,     -999.0,9,     -999.0,9,     -999.0,9,     -999.0,9
33RO20180423,        I7N,      55,          1,        115,      11114,2,20180512,       2354,    -8.1990,    52.8602,       3958,   601.7,   8.3961,  34.8183,2,  34.8213,2,     91.3,2,  99.3030,2,     45.1,2,     31.5,2,     0.00,2,    2.214,2,-999.000,9,-999.000,9,-999.0000,9,  -999.0,9,  2321.9,2,   7.5580,2,    25.00, -999.00,9, -999.00,9, -999.00,-999.000,9,  -999.0,9,     -999.0,9,     -999.0,9,         15,     -999.0,9,     -999.0,9,     -999.0,9,     -999.0,9
33RO20180423,        I7N,      55,          1,        116,      11115,2,20180512,       2354,    -8.1990,    52.8602,       3958,   451.0,   9.3538,  34.8100,2,  34.8215,2,    128.9,2, 138.8570,2,     28.6,2,     25.9,2,     0.01,2,    1.803,2,-999.000,9,-999.000,9,-999.0000,9,  2196.4,2,  2311.8,2,   7.6334,2,    25.00, -999.00,9, -999.00,9, -999.00,-999.000,9,  -999.0,9,     -999.0,9,     -999.0,9,         16,     -999.0,9,     -999.0,9,     -999.0,9,     -999.0,9
33RO20180423,        I7N,      55,          1,        117,      11116,2,20180512,       2354,    -8.1990,    52.8602,       3958,   350.3,  10.5599,  34.8975,2,  34.8991,2,    118.6,2, 126.6410,2,     22.7,2,     24.6,2,     0.01,2,    1.693,2,-999.000,9,-999.000,9,-999.0000,9,  -999.0,9,  -999.0,9,-999.0000,9,  -999.00, -999.00,9, -999.00,9, -999.00,-999.000,9,  -999.0,9,     -999.0,9,     -999.0,9,         17,     -999.0,9,     -999.0,9,     -999.0,9,     -999.0,9
33RO20180423,        I7N,      55,          1,        118,      11117,2,20180512,       2354,    -8.1990,    52.8602,       3958,   273.7,  11.7075,  34.9847,2,  34.9864,2,    127.6,2, 136.2220,2,     19.1,2,     21.3,2,     0.01,2,    1.488,2,-999.000,9,-999.000,9,-999.0000,9,  2178.4,2,  2310.8,2,   7.6801,2,    25.00, -999.00,9, -999.00,9, -999.00,-999.000,9,  -999.0,9,     -999.0,9,     -999.0,9,         18,     -999.0,9,     -999.0,9,     -999.0,9,     -999.0,9
33RO20180423,        I7N,      55,          1,        119,      11083,2,20180512,       2354,    -8.1990,    52.8602,       3958,   201.0,  12.8529,  35.0598,2,  35.0606,2,    109.4,2, 116.9655,2,     19.0,2,     21.4,2,     0.01,2,    1.499,2,-999.000,9,-999.000,9,-999.0000,9,  -999.0,9,  -999.0,9,-999.0000,9,  -999.00, -999.00,9, -999.00,9, -999.00,-999.000,9,  -999.0,9,     -999.0,9,     -999.0,9,         19,     -999.0,9,     -999.0,9,     -999.0,9,     -999.0,9
33RO20180423,        I7N,      55,          1,        120,      11118,2,20180512,       2354,    -8.1990,    52.8602,       3958,   161.1,  13.2819,  35.0710,2,  35.0718,2,    104.9,2, 111.6470,2,     19.2,2,     21.2,2,     0.01,2,    1.499,2,-999.000,9,-999.000,9,-999.0000,9,  2179.6,2,  2312.7,2,   7.6751,2,    25.00, -999.00,9, -999.00,9, -999.00,-999.000,9,  -999.0,9,     -999.0,9,     -999.0,9,         20,     -999.0,9,     -999.0,9,     -999.0,9,     -999.0,9
33RO20180423,        I7N,      55,          1,        121,      11119,2,20180512,       2354,    -8.1990,    52.8602,       3958,   121.0,  14.8459,  35.1344,2,  35.1352,2,    104.6,2, 111.7040,2,     17.7,2,     19.1,2,     0.01,2,    1.356,2,-999.000,9,-999.000,9,-999.0000,9,  2167.8,2,  2314.4,2,   7.7133,2,    25.00, -999.00,9, -999.00,9, -999.00,-999.000,9,  -999.0,9,     -999.0,9,     -999.0,9,         21,     -999.0,9,     -999.0,9,     -999.0,9,     -999.0,9
33RO20180423,        I7N,      55,          1,        122,      11120,2,20180512,       2354,    -8.1990,    52.8602,       3958,    91.1,  18.7951,  35.1700,2,  35.1736,2,    106.4,2, 113.4240,2,     13.4,2,     15.0,2,     0.19,2,    1.103,2,-999.000,9,-999.000,9,-999.0000,9,  2129.8,2,  2299.9,6,   7.7897,2,    25.00, -999.00,9, -999.00,9, -999.00,-999.000,9,  -999.0,9,     -999.0,9,     -999.0,9,         22,     -999.0,9,     -999.0,9,     -999.0,9,     -999.0,9
33RO20180423,        I7N,      55,          1,        123,      11121,2,20180512,       2354,    -8.1990,    52.8602,       3958,    44.6,  26.1124,  35.1637,2,  35.1653,2,    172.9,2, 182.8380,2,      4.3,2,      2.1,2,     0.11,2,    0.317,2,-999.000,9,-999.000,9,-999.0000,9,  -999.0,9,  -999.0,9,-999.0000,9,  -999.00, -999.00,9, -999.00,9, -999.00,-999.000,9,  -999.0,9,     -999.0,9,     -999.0,9,         23,     -999.0,9,     -999.0,9,     -999.0,9,     -999.0,9
33RO20180423,        I7N,      55,          1,        124,      11122,2,20180512,       2354,    -8.1990,    52.8602,       3958,     4.5,  28.7459,  34.8327,2,  34.8370,2,    185.3,2, 194.4300,2,      2.3,2,      0.1,2,     0.01,2,    0.119,2,-999.000,9,-999.000,9,-999.0000,9,  1958.6,6,  2282.2,2,   8.0772,6,    25.00, -999.00,9, -999.00,9, -999.00,-999.000,9,  -999.0,9,     -999.0,9,     -999.0,9,         24,     -999.0,9,     -999.0,9,     -999.0,9,     -999.0,9