BOTTLE,20230801CCHSIOCBG
EXPOCODE,SECT_ID,STNNBR,CASTNO,SAMPNO,BTLNBR,BTLNBR_FLAG_W,DATE,TIME,LATITUDE,LONGITUDE,DEPTH,CTDPRS,CTDTMP,CTDSAL,CTDSAL_FLAG_W,SALNTY,SALNTY_FLAG_W,CTDOXY,CTDOXY_FLAG_W,OXYGEN,OXYGEN_FLAG_W,SILCAT,SILCAT_FLAG_W,NITRAT,NITRAT_FLAG_W,NITRIT,NITRIT_FLAG_W,PHSPHT,PHSPHT_FLAG_W,CFC-11,CFC-11_FLAG_W,CFC-12,CFC-12_FLAG_W,SF6,SF6_FLAG_W,TCARBN,TCARBN_FLAG_W,ALKALI,ALKALI_FLAG_W,PH_SWS,PH_SWS_FLAG_W,PH_TMP,DELC13,DELC13_FLAG_W,DELC14,DELC14_FLAG_W,C14ERR,CCL4,CCL4_FLAG_W,DOC,DOC_FLAG_W,N2O,N2O_FLAG_W,CALCIUM,CALCIUM_FLAG_W,SAMPNO_U,DNSSAL,DNSSAL_FLAG_W,DNSSAL2,DNSSAL2_FLAG_W,SALNTY_DNSSAL,SALNTY_DNSSAL_FLAG_W,SALNTY_DNSSAL2,SALNTY_DNSSAL2_FLAG_W
,,,,,,,,,,,METERS,DBAR,ITS-90,PSS-78,,PSS-78,,UMOL/KG,,UMOL/KG,,UMOL/KG,,UMOL/KG,,UMOL/KG,,UMOL/KG,,PMOL/KG,,PMOL/KG,,FMOL/KG,,UMOL/KG,,UMOL/KG,,,,DEG C,/MILLE,,/MILLE,,/MILLE,PMOL/KG,,UMOL/KG,,NMOL/KG,,MMOL/KG,,,G/KG,,G/KG,,PSS-78,,PSS-78,
33RO20180423,        I7N,      44,          1,        101,      11010,2,20180509,       1010,   -11.3085,    53.8792,       4805,  4874.8,   1.1409,  34.7090,2,  34.7091,2,    173.5,2, 201.6820,2,    124.8,6,     32.8,6,     0.01,6,    2.271,6,   0.066,2,   0.034,2,   0.0076,2,  2271.9,2,  2377.9,2,   7.6017,6,    25.00, -999.00,9, -999.00,9, -999.00,-999.000,1,  -999.0,9,     -999.0,1,     -999.0,9,          1,     -999.0,9,     -999.0,9,     -999.0,9,     -999.0,9
33RO20180423,        I7N,      44,          1,        102,      11101,2,20180509,       1010,   -11.3085,    53.8792,       4805,  4249.1,   1.2851,  34.7169,2,  34.7180,2,    163.5,2, 190.1650,2,    127.3,6,     33.3,6,     0.00,6,    2.300,6,-999.000,9,-999.000,9,-999.0000,9,  2282.8,6,  -999.0,9,-999.0000,9,  -999.00, -999.00,9, -999.00,9, -999.00,-999.000,9,    39.4,3,     -999.0,9,     -999.0,9,          2,     -999.0,9,     -999.0,9,     -999.0,9,     -999.0,9
33RO20180423,        I7N,      44,          1,        103,      11102,2,20180509,       1010,   -11.3085,    53.8792,       4805,  4249.5,   1.2854,  34.7169,2,  34.7170,2,    163.5,2, 190.0220,2,    126.9,6,     33.2,6,     0.00,6,    2.304,6,   0.036,2,   0.019,2,        0,2,  2281.8,2,  2389.2,6,   7.5985,2,    25.00, -999.00,9, -999.00,9, -999.00,-999.000,1,  -999.0,9,     -999.0,1,     -999.0,9,          3,     -999.0,9,     -999.0,9,     -999.0,9,     -999.0,9
33RO20180423,        I7N,      44,          1,        104,      11103,2,20180509,       1010,   -11.3085,    53.8792,       4805,  4000.2,   1.4288,  34.7227,2,  34.7256,2,    156.4,2, 181.7890,2,    128.5,6,     33.7,6,     0.00,6,    2.352,6,-999.000,9,-999.000,9,-999.0000,9,  2288.5,2,  2394.8,2,   7.5962,2,    25.00, -999.00,9, -999.00,9, -999.00,-999.000,9,  -999.0,9,     -999.0,9,     -999.0,9,          4,     -999.0,9,     -999.0,9,     -999.0,9,     -999.0,9
33RO20180423,        I7N,      44,          1,        105,      11104,2,20180509,       1010,   -11.3085,    53.8792,       4805,  3700.2,   1.5754,  34.7287,2,  34.7283,2,    149.2,2, 173.3780,2,    129.4,6,     34.2,6,     0.00,6,    2.382,6,   0.011,2,   0.007,2,        0,2,  2296.7,2,  2401.3,2,   7.5911,2,    25.00, -999.00,9, -999.00,9, -999.00,-999.000,1,  -999.0,9,     -999.0,1,     -999.0,9,          5,     -999.0,9,     -999.0,9,     -999.0,9,     -999.0,9
33RO20180423,        I7N,      44,          1,        106,      11105,2,20180509,       1010,   -11.3085,    53.8792,       4805,  3400.4,   1.7083,  34.7337,2,  34.7425,2,    143.9,2, 166.3740,2,    129.1,2,     34.3,2,     0.00,2,    2.398,2,-999.000,9,-999.000,9,-999.0000,9,  2301.1,2,  2405.1,2,   7.5868,2,    25.00, -999.00,9, -999.00,9, -999.00,-999.000,9,    40.7,3,     -999.0,9,     -999.0,9,          6,     -999.0,9,     -999.0,9,     -999.0,9,     -999.0,9
33RO20180423,        I7N,      44,          1,        107,      11106,2,20180509,       1010,   -11.3085,    53.8792,       4805,  3100.7,   1.7990,  34.7374,2,  34.7397,2,    140.7,2, 162.4720,2,    128.9,2,     34.4,2,     0.00,2,    2.397,2,-999.000,9,-999.000,9,-999.0000,9,  2303.0,2,  2404.4,2,   7.5833,2,    25.00, -999.00,9, -999.00,9, -999.00,-999.000,9,  -999.0,9,     -999.0,9,     -999.0,9,          7,     -999.0,9,     -999.0,9,     -999.0,9,     -999.0,9
33RO20180423,        I7N,      44,          1,        108,      11107,2,20180509,       1010,   -11.3085,    53.8792,       4805,  2800.9,   1.9279,  34.7408,2,  34.7744,2,    138.1,2, 158.8410,2,    126.9,2,     34.6,2,     0.00,2,    2.428,2,   0.004,6,   0.003,6,        0,6,  2302.1,2,  2403.2,2,   7.5798,6,    25.00, -999.00,9, -999.00,9, -999.00,-999.000,1,    42.7,3,     -999.0,1,     -999.0,9,          8,     -999.0,9,     -999.0,9,     -999.0,9,     -999.0,9
33RO20180423,        I7N,      44,          1,        109,      11108,2,20180509,       1010,   -11.3085,    53.8792,       4805,  2500.2,   2.0903,  34.7414,2,  34.7423,2,    136.1,2, 155.3980,2,    123.2,2,     34.6,2,     0.00,2,    2.435,2,-999.000,9,-999.000,9,-999.0000,9,  2301.9,2,  2400.8,2,   7.5773,2,    25.00, -999.00,9, -999.00,9, -999.00,-999.000,9,  -999.0,9,     -999.0,9,     -999.0,9,          9,     -999.0,9,     -999.0,9,     -999.0,9,     -999.0,9
33RO20180423,        I7N,      44,          1,        110,      11109,2,20180509,       1010,   -11.3085,    53.8792,       4805,  2200.9,   2.3416,  34.7399,2,  34.7450,2,    133.5,2, 151.3090,2,    117.9,2,     34.6,2,     0.00,2,    2.434,2,-999.000,9,-999.000,9,-999.0000,9,  2297.5,2,  2394.2,6,   7.5720,2,    25.00, -999.00,9, -999.00,9, -999.00,-999.000,9,  -999.0,9,     -999.0,9,     -999.0,9,         10,     -999.0,9,     -999.0,9,     -999.0,9,     -999.0,9
33RO20180423,        I7N,      44,          1,        111,      11110,2,20180509,       1010,   -11.3085,    53.8792,       4805,  1883.0,   2.9244,  34.7333,2,  34.7344,2,    126.3,2, 142.3190,2,    107.3,2,     34.8,2,     0.00,2,    2.452,2,   0.017,2,   0.010,2,        0,2,  2290.3,2,  2382.6,2,   7.5606,2,    25.00, -999.00,9, -999.00,9, -999.00,-999.000,1,  -999.0,9,     -999.0,1,     -999.0,9,         11,     -999.0,9,     -999.0,9,     -999.0,9,     -999.0,9
33RO20180423,        I7N,      44,          1,        112,      11111,2,20180509,       1010,   -11.3085,    53.8792,       4805,  1633.3,   3.4980,  34.7364,2,  34.7670,2,    116.5,2, 130.6790,2,    100.2,2,     35.2,2,     0.00,2,    2.489,2,   0.031,2,   0.017,2,        0,2,  2289.3,2,  2375.0,2,   7.5478,2,    25.00, -999.00,9, -999.00,9, -999.00,-999.000,1,    44.0,3,     -999.0,1,     -999.0,9,         12,     -999.0,9,     -999.0,9,     -999.0,9,     -999.0,9
33RO20180423,        I7N,      44,          1,        113,      11112,2,20180509,       1010,   -11.3085,    53.8792,       4805,  1366.9,   4.3535,  34.7639,2,  34.7653,2,     98.5,2, 110.1260,2,     95.1,2,     35.8,2,     0.00,2,    2.571,2,   0.055,2,   0.030,2,        0,2,  2293.5,2,  2371.7,2,   7.5267,2,    25.00, -999.00,9, -999.00,9, -999.00,-999.000,1,    43.8,3,     -999.0,1,     -999.0,9,         13,     -999.0,9,     -999.0,9,     -999.0,9,     -999.0,9
33RO20180423,        I7N,      44,          1,        114,      11113,2,20180509,       1010,   -11.3085,    53.8792,       4805,  1167.0,   5.1633,  34.7778,2,  34.7786,2,     88.5,2,  98.3480,2,     86.4,2,     35.8,2,     0.00,2,    2.575,2,   0.104,2,   0.056,2,        0,2,  2286.9,2,  2364.7,2,   7.5174,2,    25.00, -999.00,9, -999.00,9, -999.00,-999.000,1,  -999.0,9,     -999.0,1,     -999.0,9,         14,     -999.0,9,     -999.0,9,     -999.0,9,     -999.0,9
33RO20180423,        I7N,      44,          1,        115,      11114,2,20180509,       1010,   -11.3085,    53.8792,       4805,   950.1,   5.9906,  34.7814,2,  34.7845,2,     85.6,2,  94.5630,2,     75.4,2,     34.9,2,     0.00,2,    2.534,2,   0.243,2,   0.128,2,   0.0047,2,  2274.4,2,  2355.2,2,   7.5213,2,    25.00, -999.00,9, -999.00,9, -999.00,-999.000,1,  -999.0,9,     -999.0,1,     -999.0,9,         15,     -999.0,9,     -999.0,9,     -999.0,9,     -999.0,9
33RO20180423,        I7N,      44,          1,        116,      11115,2,20180509,       1010,   -11.3085,    53.8792,       4805,   800.3,   6.8998,  34.7800,2,  34.7817,2,     90.1,2,  98.9560,2,     61.6,2,     33.6,2,     0.00,2,    2.411,2,-999.000,9,-999.000,9,-999.0000,9,  2257.2,2,  2338.4,2,   7.5372,2,    25.00, -999.00,9, -999.00,9, -999.00,-999.000,9,  -999.0,9,     -999.0,9,     -999.0,9,         16,     -999.0,9,     -999.0,9,     -999.0,9,     -999.0,9
33RO20180423,        I7N,      44,          1,        117,      11116,2,20180509,       1010,   -11.3085,    53.8792,       4805,   650.4,   7.8225,  34.7534,2,  34.7553,2,    111.4,2, 121.1660,2,     44.0,2,     30.3,2,     0.00,2,    2.153,2,   1.164,2,   0.605,2,   0.2952,2,  2226.5,2,  2322.1,2,   7.5808,2,    25.00, -999.00,9, -999.00,9, -999.00,-999.000,1,    47.5,3,     -999.0,1,     -999.0,9,         17,     -999.0,9,     -999.0,9,     -999.0,9,     -999.0,9
33RO20180423,        I7N,      44,          1,        118,      11117,2,20180509,       1010,   -11.3085,    53.8792,       4805,   500.2,   8.9328,  34.7656,2,  34.7683,6,    135.6,2, 146.5350,2,     27.8,2,     25.8,2,     0.00,2,    1.819,2,   1.942,2,   1.026,2,   0.5601,2,  2194.5,2,  2310.1,2,   7.6362,2,    25.00, -999.00,9, -999.00,9, -999.00,-999.000,1,  -999.0,9,     -999.0,1,     -999.0,9,         18,     -999.0,9,     -999.0,9,     -999.0,9,     -999.0,9
33RO20180423,        I7N,      44,          1,        119,      11083,2,20180509,       1010,   -11.3085,    53.8792,       4805,   333.4,  10.8382,  34.9115,2,  34.9093,2,    158.2,2, 169.5370,2,     15.2,2,     19.5,2,     0.00,2,    1.384,2,-999.000,9,-999.000,9,-999.0000,9,  2163.8,2,  2308.1,2,   7.7083,2,    25.00, -999.00,9, -999.00,9, -999.00,-999.000,9,    51.5,3,     -999.0,9,     -999.0,9,         19,     -999.0,9,     -999.0,9,     -999.0,9,     -999.0,9
33RO20180423,        I7N,      44,          1,        120,      11118,2,20180509,       1010,   -11.3085,    53.8792,       4805,   217.1,  13.0055,  35.1177,2,  35.1250,2,    144.3,2, 157.8590,2,     13.6,2,     16.0,2,     0.00,2,    1.166,2,   2.365,2,   1.371,2,   1.0893,2,  2158.2,2,  2318.8,2,   7.7476,2,    25.00, -999.00,9, -999.00,9, -999.00,-999.000,1,    53.8,3,     -999.0,1,     -999.0,9,         20,     -999.0,9,     -999.0,9,     -999.0,9,     -999.0,9
33RO20180423,        I7N,      44,          1,        121,      11119,2,20180509,       1010,   -11.3085,    53.8792,       4805,   167.7,  15.1635,  35.2695,2,  35.2735,2,    136.7,2, 147.0000,2,     12.9,2,     13.8,2,     0.01,2,    1.038,2,   2.167,2,   1.277,2,   1.1676,2,  2146.9,2,  2324.4,2,   7.7814,2,    25.00, -999.00,9, -999.00,9, -999.00,-999.000,1,    50.5,3,     -999.0,1,     -999.0,9,         21,     -999.0,9,     -999.0,9,     -999.0,9,     -999.0,9
33RO20180423,        I7N,      44,          1,        122,      11120,2,20180509,       1010,   -11.3085,    53.8792,       4805,   117.4,  18.5200,  35.3773,2,  35.3786,2,    136.8,2, 145.6750,2,      9.7,2,     10.1,2,     0.03,2,    0.780,2,   1.977,2,   1.202,2,   1.2595,2,  2117.4,2,  2323.8,2,   7.8490,2,    25.00, -999.00,9, -999.00,9, -999.00,-999.000,1,    56.4,3,     -999.0,1,     -999.0,9,         22,     -999.0,9,     -999.0,9,     -999.0,9,     -999.0,9
33RO20180423,        I7N,      44,          1,        123,      11121,2,20180509,       1010,   -11.3085,    53.8792,       4805,    65.5,  21.9072,  35.1927,2,  35.1957,2,    149.4,2, 158.8970,2,      6.5,2,      5.9,2,     0.33,2,    0.558,2,   1.761,2,   1.090,2,    1.285,2,  2066.2,2,  2307.3,6,   7.9257,2,    25.00, -999.00,9, -999.00,9, -999.00,-999.000,1,    57.9,3,     -999.0,1,     -999.0,9,         23,     -999.0,9,     -999.0,9,     -999.0,9,     -999.0,9
33RO20180423,        I7N,      44,          1,        124,      11122,2,20180509,       1010,   -11.3085,    53.8792,       4805,     3.6,  28.1536,  34.8559,2,  34.8575,2,    187.9,2, 197.8470,2,      1.9,2,      0.0,2,     0.00,2,    0.127,2,   1.452,2,   0.926,2,   1.3845,2,  1962.9,2,  2282.7,2,   8.0718,6,    25.00, -999.00,9, -999.00,9, -999.00,-999.000,1,    76.1,3,     -999.0,1,     -999.0,9,         24,     -999.0,9,     -999.0,9,     -999.0,9,     -999.0,9