BOTTLE,20230801CCHSIOCBG
EXPOCODE,SECT_ID,STNNBR,CASTNO,SAMPNO,BTLNBR,BTLNBR_FLAG_W,DATE,TIME,LATITUDE,LONGITUDE,DEPTH,CTDPRS,CTDTMP,CTDSAL,CTDSAL_FLAG_W,SALNTY,SALNTY_FLAG_W,CTDOXY,CTDOXY_FLAG_W,OXYGEN,OXYGEN_FLAG_W,SILCAT,SILCAT_FLAG_W,NITRAT,NITRAT_FLAG_W,NITRIT,NITRIT_FLAG_W,PHSPHT,PHSPHT_FLAG_W,CFC-11,CFC-11_FLAG_W,CFC-12,CFC-12_FLAG_W,SF6,SF6_FLAG_W,TCARBN,TCARBN_FLAG_W,ALKALI,ALKALI_FLAG_W,PH_SWS,PH_SWS_FLAG_W,PH_TMP,DELC13,DELC13_FLAG_W,DELC14,DELC14_FLAG_W,C14ERR,CCL4,CCL4_FLAG_W,DOC,DOC_FLAG_W,N2O,N2O_FLAG_W,CALCIUM,CALCIUM_FLAG_W,SAMPNO_U,DNSSAL,DNSSAL_FLAG_W,DNSSAL2,DNSSAL2_FLAG_W,SALNTY_DNSSAL,SALNTY_DNSSAL_FLAG_W,SALNTY_DNSSAL2,SALNTY_DNSSAL2_FLAG_W
,,,,,,,,,,,METERS,DBAR,ITS-90,PSS-78,,PSS-78,,UMOL/KG,,UMOL/KG,,UMOL/KG,,UMOL/KG,,UMOL/KG,,UMOL/KG,,PMOL/KG,,PMOL/KG,,FMOL/KG,,UMOL/KG,,UMOL/KG,,,,DEG C,/MILLE,,/MILLE,,/MILLE,PMOL/KG,,UMOL/KG,,NMOL/KG,,MMOL/KG,,,G/KG,,G/KG,,PSS-78,,PSS-78,
33RO20180423,        I7N,      43,          1,        101,      11010,2,20180509,       0318,   -11.4995,    54.1082,       4581,  4444.3,   1.1865,  34.7126,2,  34.7140,2,    170.4,2, 196.3710,2,    126.4,6,     32.9,6,     0.00,6,    2.289,6,   0.051,2,   0.027,2,   0.0391,3,  2276.0,6,  2383.2,2,   7.5996,2,    25.00, -999.00,9, -999.00,9, -999.00,-999.000,1,  -999.0,9,     -999.0,1,     -999.0,9,          1,     -999.0,9,     -999.0,9,     -999.0,9,     -999.0,9
33RO20180423,        I7N,      43,          1,        102,      11101,2,20180509,       0318,   -11.4995,    54.1082,       4581,  4139.7,   1.3351,  34.7188,2,  34.7197,2,    162.0,2, 186.7040,2,    128.7,6,     33.5,6,     0.00,6,    2.316,6,   0.030,2,   0.015,2,   0.0052,2,  2283.5,2,  2390.4,2,   7.5970,6,    25.00, -999.00,9, -999.00,9, -999.00,-999.000,1,  -999.0,9,     -999.0,1,     -999.0,9,          2,     -999.0,9,     -999.0,9,     -999.0,9,     -999.0,9
33RO20180423,        I7N,      43,          1,        103,      11102,2,20180509,       0318,   -11.4995,    54.1082,       4581,  3824.6,   1.4658,  34.7246,2,  34.7278,6,    155.0,2, 178.5090,2,    129.3,6,     33.8,6,     0.00,6,    2.348,6,   0.018,2,   0.009,2,        0,2,  2289.7,2,  2398.0,6,   7.5923,2,    25.00, -999.00,9, -999.00,9, -999.00,-999.000,1,  -999.0,9,     -999.0,1,     -999.0,9,          3,     -999.0,9,     -999.0,9,     -999.0,9,     -999.0,9
33RO20180423,        I7N,      43,          1,        104,      11103,2,20180509,       0318,   -11.4995,    54.1082,       4581,  3525.6,   1.6524,  34.7317,2,  34.7338,2,    146.7,2, 168.9800,2,    129.8,6,     34.3,6,     0.00,6,    2.378,6,   0.009,2,   0.005,2,        0,2,  2296.7,2,  2402.6,2,   7.5881,2,    25.00, -999.00,9, -999.00,9, -999.00,-999.000,1,  -999.0,9,     -999.0,1,     -999.0,9,          4,     -999.0,9,     -999.0,9,     -999.0,9,     -999.0,9
33RO20180423,        I7N,      43,          1,        105,      11104,2,20180509,       0318,   -11.4995,    54.1082,       4581,  3225.6,   1.7528,  34.7360,2,  34.7391,2,    142.4,2, 162.7470,2,    129.4,2,     34.5,2,     0.00,2,    2.409,2,   0.004,2,   0.003,2,        0,2,  2300.3,2,  2405.5,2,   7.5849,2,    25.00, -999.00,9, -999.00,9, -999.00,-999.000,1,  -999.0,9,     -999.0,1,     -999.0,9,          5,     -999.0,9,     -999.0,9,     -999.0,9,     -999.0,9
33RO20180423,        I7N,      43,          1,        106,      11105,2,20180509,       0318,   -11.4995,    54.1082,       4581,  2925.1,   1.8614,  34.7401,2,  34.7407,2,    139.3,2, 159.1250,2,    128.4,2,     34.5,2,     0.00,2,    2.426,2,   0.004,2,   0.003,2,        0,2,  2303.9,2,  2404.9,2,   7.5808,2,    25.00, -999.00,9, -999.00,9, -999.00,-999.000,1,  -999.0,9,     -999.0,1,     -999.0,9,          6,     -999.0,9,     -999.0,9,     -999.0,9,     -999.0,9
33RO20180423,        I7N,      43,          1,        107,      11106,2,20180509,       0318,   -11.4995,    54.1082,       4581,  2624.9,   1.9809,  34.7417,2,  34.7427,2,    137.8,2, 157.8400,2,    125.2,2,     34.6,2,     0.00,2,    2.427,2,   0.004,2,   0.003,2,        0,2,  2301.1,2,  2402.4,2,   7.5778,2,    25.00, -999.00,9, -999.00,9, -999.00,-999.000,1,  -999.0,9,     -999.0,1,     -999.0,9,          7,     -999.0,9,     -999.0,9,     -999.0,9,     -999.0,9
33RO20180423,        I7N,      43,          1,        108,      11107,2,20180509,       0318,   -11.4995,    54.1082,       4581,  2324.6,   2.1988,  34.7418,2,  34.7430,2,    135.6,2, 153.6700,2,    120.6,2,     34.6,2,     0.00,2,    2.450,2,   0.005,2,   0.003,2,   0.0105,2,  2297.4,2,  2396.8,2,   7.5745,2,    25.00, -999.00,9, -999.00,9, -999.00,-999.000,1,  -999.0,9,     -999.0,1,     -999.0,9,          8,     -999.0,9,     -999.0,9,     -999.0,9,     -999.0,9
33RO20180423,        I7N,      43,          1,        109,      11108,2,20180509,       0318,   -11.4995,    54.1082,       4581,  2025.5,   2.5585,  34.7341,2,  34.7382,2,    133.1,2, 149.6750,2,    111.4,2,     34.5,2,     0.00,2,    2.438,2,   0.010,2,   0.006,2,        0,2,  2289.3,2,  2387.8,2,   7.5673,2,    25.00, -999.00,9, -999.00,9, -999.00,-999.000,1,  -999.0,9,     -999.0,1,     -999.0,9,          9,     -999.0,9,     -999.0,9,     -999.0,9,     -999.0,9
33RO20180423,        I7N,      43,          1,        110,      11109,2,20180509,       0318,   -11.4995,    54.1082,       4581,  1738.3,   3.2916,  34.7377,2,  34.7389,2,    119.9,2, 133.9930,2,    102.8,2,     35.1,2,     0.00,2,    2.481,2,   0.027,2,   0.014,2,        0,2,  2288.1,2,  2380.9,2,   7.5499,2,    25.00, -999.00,9, -999.00,9, -999.00,-999.000,1,  -999.0,9,     -999.0,1,     -999.0,9,         10,     -999.0,9,     -999.0,9,     -999.0,9,     -999.0,9
33RO20180423,        I7N,      43,          1,        111,      11110,2,20180509,       0318,   -11.4995,    54.1082,       4581,  1488.0,   4.0294,  34.7524,2,  34.7534,2,    105.1,2, 117.2530,2,     97.2,2,     35.4,2,     0.00,2,    2.544,2,   0.041,2,   0.021,2,        0,2,  2289.4,2,  2376.1,2,   7.5338,2,    25.00, -999.00,9, -999.00,9, -999.00,-999.000,1,  -999.0,9,     -999.0,1,     -999.0,9,         11,     -999.0,9,     -999.0,9,     -999.0,9,     -999.0,9
33RO20180423,        I7N,      43,          1,        112,      11111,2,20180509,       0318,   -11.4995,    54.1082,       4581,  1250.2,   4.8691,  34.7682,2,  34.7707,6,     92.2,2, 101.7270,2,     89.9,2,     35.8,2,     0.00,2,    2.572,2,   0.078,2,   0.042,2,   0.0092,2,  2286.8,6,  2366.5,2,   7.5205,2,    25.00, -999.00,9, -999.00,9, -999.00,-999.000,1,  -999.0,9,     -999.0,1,     -999.0,9,         12,     -999.0,9,     -999.0,9,     -999.0,9,     -999.0,9
33RO20180423,        I7N,      43,          1,        113,      11112,2,20180509,       0318,   -11.4995,    54.1082,       4581,  1049.7,   5.8455,  34.7908,2,  34.7917,2,     82.1,2,  90.1980,2,     79.6,2,     35.6,2,     0.00,2,    2.551,2,   0.185,6,   0.098,6,   0.0027,6,  2278.2,2,  2357.5,6,   7.5110,2,    25.00, -999.00,9, -999.00,9, -999.00,-999.000,1,  -999.0,9,     -999.0,1,     -999.0,9,         13,     -999.0,9,     -999.0,9,     -999.0,9,     -999.0,9
33RO20180423,        I7N,      43,          1,        114,      11113,2,20180509,       0318,   -11.4995,    54.1082,       4581,   862.6,   6.6292,  34.7864,2,  34.8023,2,     85.2,2,  93.8750,2,     67.3,2,     34.4,2,     0.00,2,    2.454,2,   0.382,2,   0.201,2,   0.0589,2,  2263.5,2,  2345.1,2,   7.5252,6,    25.00, -999.00,9, -999.00,9, -999.00,-999.000,1,  -999.0,9,     -999.0,1,     -999.0,9,         14,     -999.0,9,     -999.0,9,     -999.0,9,     -999.0,9
33RO20180423,        I7N,      43,          1,        115,      11114,2,20180509,       0318,   -11.4995,    54.1082,       4581,   712.6,   7.4394,  34.7638,2,  34.7657,2,    101.1,2, 111.6560,3,     51.6,2,     31.9,2,     0.00,2,    2.275,2,   0.854,2,   0.449,2,   0.2083,2,  2237.4,2,  2329.6,2,   7.5597,2,    25.00, -999.00,9, -999.00,9, -999.00,-999.000,1,  -999.0,9,     -999.0,1,     -999.0,9,         15,     -999.0,9,     -999.0,9,     -999.0,9,     -999.0,9
33RO20180423,        I7N,      43,          1,        116,      11115,2,20180509,       0318,   -11.4995,    54.1082,       4581,   563.3,   8.2881,  34.7515,2,  34.7615,2,    123.6,2, 134.0110,2,     36.0,2,     28.3,2,     0.00,2,    2.003,2,   1.510,2,   0.792,2,   0.3975,2,  2210.2,2,  2315.2,2,   7.6051,2,    25.00, -999.00,9, -999.00,9, -999.00,-999.000,1,  -999.0,9,     -999.0,1,     -999.0,9,         16,     -999.0,9,     -999.0,9,     -999.0,9,     -999.0,9
33RO20180423,        I7N,      43,          1,        117,      11116,2,20180509,       0318,   -11.4995,    54.1082,       4581,   425.4,   9.7297,  34.8059,2,  34.8090,2,    156.8,2, 170.7040,2,     18.9,2,     22.1,2,     0.00,2,    1.533,2,   2.467,2,   1.333,2,   0.8313,2,  2172.9,2,  2307.2,2,   7.6825,2,    25.00, -999.00,9, -999.00,9, -999.00,-999.000,1,  -999.0,9,     -999.0,1,     -999.0,9,         17,     -999.0,9,     -999.0,9,     -999.0,9,     -999.0,9
33RO20180423,        I7N,      43,          1,        118,      11117,2,20180509,       0318,   -11.4995,    54.1082,       4581,   330.2,  10.8952,  34.9151,2,  34.9181,2,    174.1,2, 189.0110,2,     12.2,2,     17.5,2,     0.00,2,    1.253,2,   2.759,3,   1.547,3,   1.1393,3,  2150.4,2,  2308.5,2,   7.7342,3,    25.00, -999.00,9, -999.00,9, -999.00,-999.000,1,  -999.0,9,     -999.0,1,     -999.0,9,         18,     -999.0,9,     -999.0,9,     -999.0,9,     -999.0,9
33RO20180423,        I7N,      43,          1,        119,      11083,2,20180509,       0318,   -11.4995,    54.1082,       4581,   256.1,  11.9213,  35.0068,2,  35.0058,2,    135.8,2, 146.9230,2,     16.8,2,     19.7,2,     0.00,2,    1.404,2,   2.316,6,   1.310,6,   0.9204,6,  2169.7,2,  2311.3,2,   7.6997,2,    25.00, -999.00,9, -999.00,9, -999.00,-999.000,1,  -999.0,9,     -999.0,1,     -999.0,9,         19,     -999.0,9,     -999.0,9,     -999.0,9,     -999.0,9
33RO20180423,        I7N,      43,          1,        120,      11118,2,20180509,       0318,   -11.4995,    54.1082,       4581,   188.3,  13.6049,  35.1086,2,  35.1065,2,    119.9,2, 128.9940,2,     17.5,2,     18.7,2,     0.00,2,    1.340,2,   2.094,2,   1.212,2,    0.962,2,  2169.7,2,  2317.9,6,   7.7119,2,    25.00, -999.00,9, -999.00,9, -999.00,-999.000,1,  -999.0,9,     -999.0,1,     -999.0,9,         20,     -999.0,9,     -999.0,9,     -999.0,9,     -999.0,9
33RO20180423,        I7N,      43,          1,        121,      11119,2,20180509,       0318,   -11.4995,    54.1082,       4581,   137.4,  15.4011,  35.1728,2,  35.1860,2,    109.2,2, 116.7020,2,     17.0,2,     17.4,2,     0.00,2,    1.251,2,   1.956,2,   1.152,2,        1,2,  2160.0,2,  2317.0,2,   7.7349,6,    25.00, -999.00,9, -999.00,9, -999.00,-999.000,1,  -999.0,9,     -999.0,1,     -999.0,9,         21,     -999.0,9,     -999.0,9,     -999.0,9,     -999.0,9
33RO20180423,        I7N,      43,          1,        122,      11120,2,20180509,       0318,   -11.4995,    54.1082,       4581,    88.2,  18.7323,  35.3054,2,  35.2896,2,    124.6,2, 136.9640,2,     10.1,2,     10.6,2,     0.11,2,    0.817,2,   1.863,2,   1.146,2,    1.224,2,  2110.9,2,  2317.1,2,   7.8480,2,    25.00, -999.00,9, -999.00,9, -999.00,-999.000,1,  -999.0,9,     -999.0,1,     -999.0,9,         22,     -999.0,9,     -999.0,9,     -999.0,9,     -999.0,9
33RO20180423,        I7N,      43,          1,        123,      11121,2,20180509,       0318,   -11.4995,    54.1082,       4581,    51.1,  22.0729,  35.1877,2,  35.2007,2,    153.0,2, 159.0720,2,      6.3,2,      5.8,2,     0.29,2,    0.555,2,   1.770,2,   1.113,2,   1.2868,2,  2061.7,2,  2310.6,2,   7.9283,2,    25.00, -999.00,9, -999.00,9, -999.00,-999.000,1,  -999.0,9,     -999.0,1,     -999.0,9,         23,     -999.0,9,     -999.0,9,     -999.0,9,     -999.0,9
33RO20180423,        I7N,      43,          1,        124,      11122,2,20180509,       0318,   -11.4995,    54.1082,       4581,     3.2,  27.8425,  34.8820,2,  34.8858,2,    188.2,2, 198.4620,2,      1.9,2,      0.1,2,     0.00,2,    0.136,2,   1.463,2,   0.939,2,   1.3698,2,  1965.8,6,  2286.6,2,   8.0687,2,    25.00, -999.00,9, -999.00,9, -999.00,-999.000,1,  -999.0,9,     -999.0,1,     -999.0,9,         24,     -999.0,9,     -999.0,9,     -999.0,9,     -999.0,9