BOTTLE,20230801CCHSIOCBG
EXPOCODE,SECT_ID,STNNBR,CASTNO,SAMPNO,BTLNBR,BTLNBR_FLAG_W,DATE,TIME,LATITUDE,LONGITUDE,DEPTH,CTDPRS,CTDTMP,CTDSAL,CTDSAL_FLAG_W,SALNTY,SALNTY_FLAG_W,CTDOXY,CTDOXY_FLAG_W,OXYGEN,OXYGEN_FLAG_W,SILCAT,SILCAT_FLAG_W,NITRAT,NITRAT_FLAG_W,NITRIT,NITRIT_FLAG_W,PHSPHT,PHSPHT_FLAG_W,CFC-11,CFC-11_FLAG_W,CFC-12,CFC-12_FLAG_W,SF6,SF6_FLAG_W,TCARBN,TCARBN_FLAG_W,ALKALI,ALKALI_FLAG_W,PH_SWS,PH_SWS_FLAG_W,PH_TMP,DELC13,DELC13_FLAG_W,DELC14,DELC14_FLAG_W,C14ERR,CCL4,CCL4_FLAG_W,DOC,DOC_FLAG_W,N2O,N2O_FLAG_W,CALCIUM,CALCIUM_FLAG_W,SAMPNO_U,DNSSAL,DNSSAL_FLAG_W,DNSSAL2,DNSSAL2_FLAG_W,SALNTY_DNSSAL,SALNTY_DNSSAL_FLAG_W,SALNTY_DNSSAL2,SALNTY_DNSSAL2_FLAG_W
,,,,,,,,,,,METERS,DBAR,ITS-90,PSS-78,,PSS-78,,UMOL/KG,,UMOL/KG,,UMOL/KG,,UMOL/KG,,UMOL/KG,,UMOL/KG,,PMOL/KG,,PMOL/KG,,FMOL/KG,,UMOL/KG,,UMOL/KG,,,,DEG C,/MILLE,,/MILLE,,/MILLE,PMOL/KG,,UMOL/KG,,NMOL/KG,,MMOL/KG,,,G/KG,,G/KG,,PSS-78,,PSS-78,
33RO20180423,        I7N,      28,          1,        101,          0,2,20180504,       2230,   -19.4902,    54.6708,       4763,  4827.9,   1.0218,  34.7050,2,  34.7065,2,    178.2,2, 206.5290,2,    126.5,6,     32.6,6,     0.00,6,    2.226,6,   0.096,2,   0.047,2,        0,2,  2268.8,6,  2368.0,2,   7.6398,4,    25.00, -999.00,9, -999.00,9, -999.00,-999.000,1,  -999.0,9,     -999.0,1,     -999.0,9,          1,     -999.0,9,     -999.0,9,     -999.0,9,     -999.0,9
33RO20180423,        I7N,      28,          1,        102,      11101,2,20180504,       2230,   -19.4902,    54.6708,       4763,  4397.9,   1.1739,  34.7124,2,  34.7135,2,    169.9,2, 197.0800,2,    126.9,6,     33.0,6,     0.00,6,    2.259,6,-999.000,9,-999.000,9,-999.0000,9,  2274.7,2,  2383.3,6,   7.6000,2,    25.00, -999.00,9, -999.00,9, -999.00,-999.000,9,  -999.0,9,     -999.0,9,     -999.0,9,          2,     -999.0,9,     -999.0,9,     -999.0,9,     -999.0,9
33RO20180423,        I7N,      28,          1,        103,      11102,2,20180504,       2230,   -19.4902,    54.6708,       4763,  3976.1,   1.3449,  34.7197,2,  34.7214,2,    160.9,2, 186.2720,2,    129.0,6,     33.6,6,     0.00,6,    2.301,6,   0.029,2,   0.014,2,        0,2,  2286.1,2,  2391.6,2,   7.5976,6,    25.00, -999.00,9, -999.00,9, -999.00,-999.000,1,  -999.0,9,     -999.0,1,     -999.0,9,          3,     -999.0,9,     -999.0,9,     -999.0,9,     -999.0,9
33RO20180423,        I7N,      28,          1,        104,      11103,2,20180504,       2230,   -19.4902,    54.6708,       4763,  3676.1,   1.5136,  34.7262,2,  34.7278,2,    153.0,2, 177.1490,2,    129.6,6,     34.0,6,     0.00,6,    2.345,6,   0.011,2,   0.007,2,        0,2,  2290.8,2,  2405.0,2,   7.5939,2,    25.00, -999.00,9, -999.00,9, -999.00,-999.000,1,  -999.0,9,     -999.0,1,     -999.0,9,          4,     -999.0,9,     -999.0,9,     -999.0,9,     -999.0,9
33RO20180423,        I7N,      28,          1,        105,      11104,2,20180504,       2230,   -19.4902,    54.6708,       4763,  3374.5,   1.6970,  34.7328,2,  34.7436,2,    145.7,2, 168.2880,2,    131.0,2,     34.4,2,     0.00,2,    2.388,2,   0.004,2,   0.003,2,        0,2,  2296.9,2,  2403.8,2,   7.5877,2,    25.00, -999.00,9, -999.00,9, -999.00,-999.000,1,  -999.0,9,     -999.0,1,     -999.0,9,          5,     -999.0,9,     -999.0,9,     -999.0,9,     -999.0,9
33RO20180423,        I7N,      28,          1,        106,      11105,2,20180504,       2230,   -19.4902,    54.6708,       4763,  3074.8,   1.8160,  34.7366,2,  34.7516,2,    142.1,2, 163.2820,2,    128.4,2,     34.5,2,     0.00,2,    2.396,2,   0.004,6,   0.003,6,        0,6,  2300.7,2,  2403.5,2,   7.5846,2,    25.00, -999.00,9, -999.00,9, -999.00,-999.000,1,  -999.0,9,     -999.0,1,     -999.0,9,          6,     -999.0,9,     -999.0,9,     -999.0,9,     -999.0,9
33RO20180423,        I7N,      28,          1,        107,      11106,2,20180504,       2230,   -19.4902,    54.6708,       4763,  2775.0,   1.9266,  34.7381,2,  34.7384,2,    140.5,2, 160.8760,2,    126.7,2,     34.6,2,     0.00,2,    2.399,2,   0.003,2,   0.002,2,        0,2,  2298.7,2,  2398.9,2,   7.5816,2,    25.00, -999.00,9, -999.00,9, -999.00,-999.000,1,  -999.0,9,     -999.0,1,     -999.0,9,          7,     -999.0,9,     -999.0,9,     -999.0,9,     -999.0,9
33RO20180423,        I7N,      28,          1,        108,      11107,2,20180504,       2230,   -19.4902,    54.6708,       4763,  2475.4,   2.0366,  34.7362,2,  34.7453,2,    140.8,2, 160.6970,2,    122.3,2,     34.5,2,     0.00,2,    2.401,2,-999.000,9,-999.000,9,-999.0000,9,  2295.3,2,  2395.1,2,   7.5809,2,    25.00, -999.00,9, -999.00,9, -999.00,-999.000,9,  -999.0,9,     -999.0,9,     -999.0,9,          8,     -999.0,9,     -999.0,9,     -999.0,9,     -999.0,9
33RO20180423,        I7N,      28,          1,        109,      11108,2,20180504,       2230,   -19.4902,    54.6708,       4763,  2175.8,   2.2594,  34.7300,2,  34.7303,2,    141.3,2, 160.4210,2,    114.2,2,     34.3,2,     0.00,2,    2.385,2,-999.000,9,-999.000,9,-999.0000,9,  2288.1,2,  2098.9,4,   7.5794,2,    25.00, -999.00,9, -999.00,9, -999.00,-999.000,9,  -999.0,9,     -999.0,9,     -999.0,9,          9,     -999.0,9,     -999.0,9,     -999.0,9,     -999.0,9
33RO20180423,        I7N,      28,          1,        110,      11109,2,20180504,       2230,   -19.4902,    54.6708,       4763,  1813.8,   2.6492,  34.7044,2,  34.7049,2,    141.6,2, 158.8670,2,    100.6,2,     34.0,2,     0.00,2,    2.358,2,   0.026,2,   0.014,2,   0.0089,2,  2274.4,2,  2372.1,2,   7.5738,2,    25.00, -999.00,9, -999.00,9, -999.00,-999.000,1,  -999.0,9,     -999.0,1,     -999.0,9,         10,     -999.0,9,     -999.0,9,     -999.0,9,     -999.0,9
33RO20180423,        I7N,      28,          1,        111,      11110,2,20180504,       2230,   -19.4902,    54.6708,       4763,  1614.0,   3.0377,  34.6737,2,  34.6812,2,    138.3,2, 154.2810,2,     91.6,2,     34.2,2,     0.00,2,    2.376,2,-999.000,9,-999.000,9,-999.0000,9,  2269.2,2,  2361.9,6,   7.5663,2,    25.00, -999.00,9, -999.00,9, -999.00,-999.000,9,  -999.0,9,     -999.0,9,     -999.0,9,         11,     -999.0,9,     -999.0,9,     -999.0,9,     -999.0,9
33RO20180423,        I7N,      28,          1,        112,      11111,2,20180504,       2230,   -19.4902,    54.6708,       4763,  1350.5,   3.8506,  34.6588,2,  34.6854,2,    123.2,2, 136.5480,2,     85.6,2,     34.9,2,     0.00,2,    2.460,2,   0.095,2,   0.049,2,        0,2,  2272.3,2,  2356.7,2,   7.5499,6,    25.00, -999.00,9, -999.00,9, -999.00,-999.000,1,  -999.0,9,     -999.0,1,     -999.0,9,         12,     -999.0,9,     -999.0,9,     -999.0,9,     -999.0,9
33RO20180423,        I7N,      28,          1,        113,      11112,2,20180504,       2230,   -19.4902,    54.6708,       4763,  1150.5,   4.4569,  34.6326,2,  34.6325,2,    118.2,2, 130.3940,2,     78.3,2,     35.0,2,     0.00,2,    2.461,2,-999.000,9,-999.000,9,-999.0000,9,  2265.1,6,  2348.1,2,   7.5462,2,    25.00, -999.00,9, -999.00,9, -999.00,-999.000,9,  -999.0,9,     -999.0,9,     -999.0,9,         13,     -999.0,9,     -999.0,9,     -999.0,9,     -999.0,9
33RO20180423,        I7N,      28,          1,        114,      11113,2,20180504,       2230,   -19.4902,    54.6708,       4763,   938.3,   5.5876,  34.5807,2,  34.5870,2,    128.1,2, 140.1465,2,     57.4,2,     32.8,2,     0.00,2,    2.290,2,   0.711,2,   0.361,2,   0.1365,2,  2239.1,2,  2328.4,2,   7.5691,2,    25.00, -999.00,9, -999.00,9, -999.00,-999.000,1,  -999.0,9,     -999.0,1,     -999.0,9,         14,     -999.0,9,     -999.0,9,     -999.0,9,     -999.0,9
33RO20180423,        I7N,      28,          1,        115,      11114,2,20180504,       2230,   -19.4902,    54.6708,       4763,   787.8,   7.1160,  34.5668,2,  34.5863,2,    160.9,2, 175.6450,2,     29.5,2,     27.1,2,     0.00,2,    1.872,2,-999.000,9,-999.000,9,-999.0000,9,  2189.6,2,  2301.7,2,   7.6392,2,    25.00, -999.00,9, -999.00,9, -999.00,-999.000,9,  -999.0,9,     -999.0,9,     -999.0,9,         15,     -999.0,9,     -999.0,9,     -999.0,9,     -999.0,9
33RO20180423,        I7N,      28,          1,        116,      11115,2,20180504,       2230,   -19.4902,    54.6708,       4763,   638.6,   9.5275,  34.7321,2,  34.7516,2,    201.7,2, 218.0260,2,      8.1,2,     17.6,2,     0.00,2,    1.247,2,   3.278,2,   1.787,2,   1.2315,2,  2141.4,2,  2291.8,2,   7.7420,2,    25.00, -999.00,9, -999.00,9, -999.00,-999.000,1,  -999.0,9,     -999.0,1,     -999.0,9,         16,     -999.0,9,     -999.0,9,     -999.0,9,     -999.0,9
33RO20180423,        I7N,      28,          1,        117,      11116,2,20180504,       2230,   -19.4902,    54.6708,       4763,   471.3,  12.2084,  35.0936,2,  35.1027,2,    201.8,2, 216.3640,2,      4.8,2,     11.0,2,     0.00,2,    0.837,2,-999.000,9,-999.000,9,-999.0000,9,  2128.8,2,  2313.3,2,   7.8066,2,    25.00, -999.00,9, -999.00,9, -999.00,-999.000,9,  -999.0,9,     -999.0,9,     -999.0,9,         17,     -999.0,9,     -999.0,9,     -999.0,9,     -999.0,9
33RO20180423,        I7N,      28,          1,        118,      11117,2,20180504,       2230,   -19.4902,    54.6708,       4763,   370.1,  14.6888,  35.3836,2,  35.3884,2,    186.5,2, 198.4010,2,      4.8,2,      7.7,2,     0.00,2,    0.637,2,   2.614,2,   1.562,2,   1.5121,2,  2121.8,2,  2327.9,2,   7.8465,2,    25.00, -999.00,9, -999.00,9, -999.00,-999.000,1,  -999.0,9,     -999.0,1,     -999.0,9,         18,     -999.0,9,     -999.0,9,     -999.0,9,     -999.0,9
33RO20180423,        I7N,      28,          1,        119,      11083,2,20180504,       2230,   -19.4902,    54.6708,       4763,   294.1,  17.0329,  35.2609,2,  35.2665,6,    114.8,2, 124.0140,2,     14.0,2,     14.5,2,     0.01,2,    1.063,2,-999.000,9,-999.000,9,-999.0000,9,  2139.1,2,  2318.2,6,   7.7832,2,    25.00, -999.00,9, -999.00,9, -999.00,-999.000,9,  -999.0,9,     -999.0,9,     -999.0,9,         19,     -999.0,9,     -999.0,9,     -999.0,9,     -999.0,9
33RO20180423,        I7N,      28,          1,        120,      11118,2,20180504,       2230,   -19.4902,    54.6708,       4763,   212.6,  20.3243,  35.2652,2,  35.2674,2,    128.0,2, 136.8150,2,      9.0,2,      9.9,2,     0.01,2,    0.759,2,   1.840,2,   1.138,2,    1.253,2,  2098.0,2,  2313.6,2,   7.8667,6,    25.00, -999.00,9, -999.00,9, -999.00,-999.000,1,  -999.0,9,     -999.0,1,     -999.0,9,         20,     -999.0,9,     -999.0,9,     -999.0,9,     -999.0,9
33RO20180423,        I7N,      28,          1,        121,      11119,2,20180504,       2230,   -19.4902,    54.6708,       4763,   163.5,  22.0426,  35.1958,2,  35.1988,2,    145.8,2, 156.5790,2,      6.1,2,      5.7,2,     0.89,2,    0.566,2,   1.782,2,   1.107,2,     1.38,2,  2063.2,2,  2297.4,3,   7.9241,2,    25.00, -999.00,9, -999.00,9, -999.00,-999.000,1,  -999.0,9,     -999.0,1,     -999.0,9,         21,     -999.0,9,     -999.0,9,     -999.0,9,     -999.0,9
33RO20180423,        I7N,      28,          1,        122,      11120,2,20180504,       2230,   -19.4902,    54.6708,       4763,    95.5,  25.1680,  35.0665,2,  35.0702,2,    201.7,2, 213.8430,2,      1.9,2,      0.1,2,     0.00,2,    0.124,2,-999.000,9,-999.000,9,-999.0000,9,  1987.5,2,  2298.1,2,   8.0498,2,    25.00, -999.00,9, -999.00,9, -999.00,-999.000,9,  -999.0,9,     -999.0,9,     -999.0,9,         22,     -999.0,9,     -999.0,9,     -999.0,9,     -999.0,9
33RO20180423,        I7N,      28,          1,        123,      11121,2,20180504,       2230,   -19.4902,    54.6708,       4763,    61.3,  27.5760,  34.7814,2,  34.7854,2,    189.4,2, 200.0880,2,      1.6,2,      0.0,2,     0.00,2,    0.107,2,   1.479,2,   0.950,2,   1.4192,2,  1958.3,2,  2274.8,2,   8.0731,2,    25.00, -999.00,9, -999.00,9, -999.00,-999.000,1,  -999.0,9,     -999.0,1,     -999.0,9,         23,     -999.0,9,     -999.0,9,     -999.0,9,     -999.0,9
33RO20180423,        I7N,      28,          1,        124,      11122,2,20180504,       2230,   -19.4902,    54.6708,       4763,     3.1,  27.5563,  34.7821,2,  34.7846,2,    189.7,2, 200.2160,2,      1.7,2,      0.0,2,     0.00,2,    0.118,2,   1.485,2,   0.941,2,   1.4125,2,  1957.9,6,  2276.3,2,   8.0731,2,    25.00, -999.00,9, -999.00,9, -999.00,-999.000,1,  -999.0,9,     -999.0,1,     -999.0,9,         24,     -999.0,9,     -999.0,9,     -999.0,9,     -999.0,9