BOTTLE,20230801CCHSIOCBG
EXPOCODE,SECT_ID,STNNBR,CASTNO,SAMPNO,BTLNBR,BTLNBR_FLAG_W,DATE,TIME,LATITUDE,LONGITUDE,DEPTH,CTDPRS,CTDTMP,CTDSAL,CTDSAL_FLAG_W,SALNTY,SALNTY_FLAG_W,CTDOXY,CTDOXY_FLAG_W,OXYGEN,OXYGEN_FLAG_W,SILCAT,SILCAT_FLAG_W,NITRAT,NITRAT_FLAG_W,NITRIT,NITRIT_FLAG_W,PHSPHT,PHSPHT_FLAG_W,CFC-11,CFC-11_FLAG_W,CFC-12,CFC-12_FLAG_W,SF6,SF6_FLAG_W,TCARBN,TCARBN_FLAG_W,ALKALI,ALKALI_FLAG_W,PH_SWS,PH_SWS_FLAG_W,PH_TMP,DELC13,DELC13_FLAG_W,DELC14,DELC14_FLAG_W,C14ERR,CCL4,CCL4_FLAG_W,DOC,DOC_FLAG_W,N2O,N2O_FLAG_W,CALCIUM,CALCIUM_FLAG_W,SAMPNO_U,DNSSAL,DNSSAL_FLAG_W,DNSSAL2,DNSSAL2_FLAG_W,SALNTY_DNSSAL,SALNTY_DNSSAL_FLAG_W,SALNTY_DNSSAL2,SALNTY_DNSSAL2_FLAG_W
,,,,,,,,,,,METERS,DBAR,ITS-90,PSS-78,,PSS-78,,UMOL/KG,,UMOL/KG,,UMOL/KG,,UMOL/KG,,UMOL/KG,,UMOL/KG,,PMOL/KG,,PMOL/KG,,FMOL/KG,,UMOL/KG,,UMOL/KG,,,,DEG C,/MILLE,,/MILLE,,/MILLE,PMOL/KG,,UMOL/KG,,NMOL/KG,,MMOL/KG,,,G/KG,,G/KG,,PSS-78,,PSS-78,
33RO20180423,        I7N,      14,          1,        101,      11010,2,20180501,       1103,   -25.3297,    54.5047,       5020,  5091.5,   0.9862,  34.7023,2,  34.7030,2,    179.5,2, 208.7180,2,    125.6,6,     31.9,6,     0.00,6,    2.213,6,   0.121,2,   0.059,2,        0,2,  2264.0,6,  2365.0,2,   7.5984,2,    25.00,    0.50,2, -158.00,2,    2.35,-999.000,1,  -999.0,9,     -999.0,1,     -999.0,9,          1,     -999.0,9,     -999.0,9,     -999.0,9,     -999.0,9
33RO20180423,        I7N,      14,          1,        102,      11101,2,20180501,       1103,   -25.3297,    54.5047,       5020,  4663.2,   0.9940,  34.7050,2,  34.7045,2,    177.2,2, 207.2520,2,    125.1,6,     32.1,6,     0.00,6,    2.211,6,-999.000,9,-999.000,9,-999.0000,9,  2263.6,2,  2366.4,2,   7.5978,2,    25.00,    0.48,2, -163.00,2,    1.93,-999.000,9,  -999.0,9,     -999.0,9,     -999.0,9,          2,     -999.0,9,     -999.0,9,     -999.0,9,     -999.0,9
33RO20180423,        I7N,      14,          1,        103,      11102,2,20180501,       1103,   -25.3297,    54.5047,       5020,  4274.8,   1.1255,  34.7113,2,  34.7145,2,    171.8,2, 200.8190,2,    124.7,6,     32.2,6,     0.00,6,    2.234,6,   0.062,2,   0.031,2,        0,2,  2268.3,2,  2375.7,2,   7.5985,2,    25.00,    0.46,6, -168.00,6,    2.10,-999.000,1,  -999.0,9,     -999.0,1,     -999.0,9,          3,     -999.0,9,     -999.0,9,     -999.0,9,     -999.0,9
33RO20180423,        I7N,      14,          1,        104,      11103,2,20180501,       1103,   -25.3297,    54.5047,       5020,  3976.8,   1.2775,  34.7170,2,  34.7174,6,    164.9,2, 192.1900,2,    125.3,6,     32.6,6,     0.00,6,    2.252,6,-999.000,9,-999.000,9,-999.0000,9,  2275.0,2,  2381.3,6,   7.5968,2,    25.00,    0.43,2, -175.00,2,    1.64,-999.000,9,  -999.0,9,     -999.0,9,     -999.0,9,          4,     -999.0,9,     -999.0,9,     -999.0,9,     -999.0,9
33RO20180423,        I7N,      14,          1,        105,      11104,2,20180501,       1103,   -25.3297,    54.5047,       5020,  3674.7,   1.4682,  34.7243,2,  34.7234,2,    157.4,2, 183.4910,2,    124.9,2,     33.0,2,     0.00,2,    2.282,2,   0.015,2,   0.008,2,        0,2,  -999.0,9,  -999.0,9,   7.5949,6,    25.00,    0.39,2, -183.00,2,    1.63,-999.000,1,  -999.0,9,     -999.0,1,     -999.0,9,          5,     -999.0,9,     -999.0,9,     -999.0,9,     -999.0,9
33RO20180423,        I7N,      14,          1,        106,      11105,2,20180501,       1103,   -25.3297,    54.5047,       5020,  3377.3,   1.6784,  34.7310,2,  34.7405,2,    149.5,2, 173.4810,2,    125.4,2,     33.3,2,     0.00,2,    2.311,2,-999.000,9,-999.000,9,-999.0000,9,  2291.7,2,  2395.2,2,   7.5917,2,    25.00,    0.34,2, -182.00,2,    1.70,-999.000,9,    40.6,3,     -999.0,9,     -999.0,9,          6,     -999.0,9,     -999.0,9,     -999.0,9,     -999.0,9
33RO20180423,        I7N,      14,          1,        107,      11106,2,20180501,       1103,   -25.3297,    54.5047,       5020,  3075.8,   1.8574,  34.7362,2,  34.7357,2,    144.9,2, 167.1810,2,    123.3,2,     33.4,2,     0.00,2,    2.326,2,   0.003,2,   0.002,2,        0,2,  2291.6,2,  2393.3,2,   7.5870,2,    25.00,    0.32,2, -185.00,2,    1.60,-999.000,1,  -999.0,9,     -999.0,1,     -999.0,9,          7,     -999.0,9,     -999.0,9,     -999.0,9,     -999.0,9
33RO20180423,        I7N,      14,          1,        108,      11107,2,20180501,       1103,   -25.3297,    54.5047,       5020,  2776.7,   2.0256,  34.7388,2,  34.7390,2,    144.2,2, 165.5810,2,    117.9,2,     33.2,2,     0.00,2,    2.325,2,-999.000,9,-999.000,9,-999.0000,9,  2290.6,2,  2389.1,2,   7.5852,2,    25.00,    0.32,2, -181.00,2,    1.61,-999.000,9,    39.7,3,     -999.0,9,     -999.0,9,          8,     -999.0,9,     -999.0,9,     -999.0,9,     -999.0,9
33RO20180423,        I7N,      14,          1,        109,      11108,2,20180501,       1103,   -25.3297,    54.5047,       5020,  2475.7,   2.1789,  34.7374,2,  34.7370,2,    143.6,2, 164.1505,2,    113.2,2,     33.2,2,     0.00,2,    2.326,2,-999.000,9,-999.000,9,-999.0000,9,  -999.0,9,  -999.0,9,   7.5840,6,    25.00,    0.43,2, -180.00,2,    1.71,-999.000,9,    44.9,3,     -999.0,9,     -999.0,9,          9,     -999.0,9,     -999.0,9,     -999.0,9,     -999.0,9
33RO20180423,        I7N,      14,          1,        110,      11109,2,20180501,       1103,   -25.3297,    54.5047,       5020,  2176.8,   2.3556,  34.7259,2,  34.7276,2,    147.7,2, 168.0400,2,    102.8,2,     32.6,2,     0.00,2,    2.283,2,-999.000,9,-999.000,9,-999.0000,9,  2275.5,2,  2373.7,2,   7.5850,2,    25.00,    0.52,2, -171.00,2,    1.82,-999.000,9,    45.6,3,     -999.0,9,     -999.0,9,         10,     -999.0,9,     -999.0,9,     -999.0,9,     -999.0,9
33RO20180423,        I7N,      14,          1,        111,      11110,2,20180501,       1103,   -25.3297,    54.5047,       5020,  1864.6,   2.5951,  34.6884,2,  34.6920,2,    150.5,2, 169.4830,2,     90.1,2,     32.5,2,     0.00,2,    2.258,2,   0.052,2,   0.027,2,   0.0071,2,  2263.2,2,  2361.6,2,   7.5828,2,    25.00,    0.57,2, -162.00,2,    1.72,-999.000,1,  -999.0,9,     -999.0,1,     -999.0,9,         11,     -999.0,9,     -999.0,9,     -999.0,9,     -999.0,9
33RO20180423,        I7N,      14,          1,        112,      11111,2,20180501,       1103,   -25.3297,    54.5047,       5020,  1613.8,   2.9543,  34.6386,2,  34.6519,2,    144.8,2, 161.9650,2,     83.7,2,     33.1,2,     0.00,2,    2.320,2,-999.000,9,-999.000,9,-999.0000,9,  2258.4,2,  2354.0,6,   7.5673,2,    25.00,    0.55,2, -160.00,2,    1.74,-999.000,9,    44.7,3,     -999.0,9,     -999.0,9,         12,     -999.0,9,     -999.0,9,     -999.0,9,     -999.0,9
33RO20180423,        I7N,      14,          1,        113,      11112,2,20180501,       1103,   -25.3297,    54.5047,       5020,  1351.3,   3.7007,  34.5573,2,  34.5634,6,    134.2,2, 148.9780,2,     74.7,2,     34.3,2,     0.00,2,    2.409,2,-999.000,9,-999.000,9,-999.0000,9,  2258.3,6,  2343.5,2,   7.5514,2,    25.00,    0.53,2, -153.00,2,    1.75,-999.000,9,  -999.0,9,     -999.0,9,     -999.0,9,         13,     -999.0,9,     -999.0,9,     -999.0,9,     -999.0,9
33RO20180423,        I7N,      14,          1,        114,      11113,2,20180501,       1103,   -25.3297,    54.5047,       5020,  1150.1,   4.6344,  34.4779,2,  34.4816,2,    147.6,2, 163.0530,2,     53.9,2,     32.5,2,     0.00,2,    2.250,2,   0.754,2,   0.379,2,   0.0585,2,  2228.1,2,  2325.4,2,   7.5761,2,    25.00,    0.73,2, -114.00,2,    2.04,-999.000,1,  -999.0,9,     -999.0,1,     -999.0,9,         14,     -999.0,9,     -999.0,9,     -999.0,9,     -999.0,9
33RO20180423,        I7N,      14,          1,        115,      11114,2,20180501,       1103,   -25.3297,    54.5047,       5020,   938.7,   6.6051,  34.4743,2,  34.4787,2,    178.3,2, 195.7540,2,     23.0,2,     26.3,2,     0.00,2,    1.833,2,-999.000,9,-999.000,9,-999.0000,9,  2178.6,2,  2303.9,2,   7.6488,2,    25.00,    0.97,2,  -27.20,2,    1.99,-999.000,9,    48.1,3,     -999.0,9,     -999.0,9,         15,     -999.0,9,     -999.0,9,     -999.0,9,     -999.0,9
33RO20180423,        I7N,      14,          1,        116,      11115,2,20180501,       1103,   -25.3297,    54.5047,       5020,   788.0,   8.9819,  34.6578,2,  34.6602,2,    202.0,2, 221.0540,2,      8.0,2,     18.4,2,     0.00,2,    1.323,2,-999.000,9,-999.000,9,-999.0000,9,  2143.8,2,  2290.9,2,   7.7316,2,    25.00,    1.06,2,   26.80,2,    1.99,-999.000,9,    43.5,3,     -999.0,9,     -999.0,9,         16,     -999.0,9,     -999.0,9,     -999.0,9,     -999.0,9
33RO20180423,        I7N,      14,          1,        117,      11116,2,20180501,       1103,   -25.3297,    54.5047,       5020,   639.1,  10.4238,  34.8346,2,  34.8434,2,    214.6,2, 232.4540,2,      4.1,2,     13.5,2,     0.00,2,    1.038,2,-999.000,9,-999.000,9,-999.0000,9,  2131.9,2,  2296.7,6,   7.7780,2,    25.00,    1.00,2,   36.90,2,    2.01,-999.000,9,    44.8,3,     -999.0,9,     -999.0,9,         17,     -999.0,9,     -999.0,9,     -999.0,9,     -999.0,9
33RO20180423,        I7N,      14,          1,        118,      11117,2,20180501,       1103,   -25.3297,    54.5047,       5020,   488.6,  12.1437,  35.0952,2,  35.0976,2,    211.7,2, 228.5530,2,      3.3,2,      9.7,2,     0.00,2,    0.812,2,   3.082,6,   1.803,6,   1.7002,6,  2125.1,2,  2309.9,2,   7.8152,6,    25.00,    0.88,2,   39.00,2,    2.01,-999.000,1,    58.3,3,     -999.0,1,     -999.0,9,         18,     -999.0,9,     -999.0,9,     -999.0,9,     -999.0,9
33RO20180423,        I7N,      14,          1,        119,      11083,2,20180501,       1103,   -25.3297,    54.5047,       5020,   325.9,  14.9064,  35.4485,2,  35.4513,2,    196.8,2, 210.9910,2,      2.5,2,      5.0,2,     0.00,2,    0.543,2,-999.000,9,-999.000,9,-999.0000,9,  2116.5,2,  2329.4,2,   7.8654,2,    25.00,    0.80,2,   40.80,2,    2.36,-999.000,9,    53.1,3,     -999.0,9,     -999.0,9,         19,     -999.0,9,     -999.0,9,     -999.0,9,     -999.0,9
33RO20180423,        I7N,      14,          1,        120,      11118,2,20180501,       1103,   -25.3297,    54.5047,       5020,   216.1,  17.9577,  35.6273,2,  35.6307,2,    181.5,2, 194.4835,2,      3.0,2,      3.0,2,     0.00,2,    0.378,2,-999.000,9,-999.000,9,-999.0000,9,  2096.6,2,  2338.0,2,   7.9115,2,    25.00,    0.65,2,   33.40,2,    2.75,-999.000,9,    58.2,3,     -999.0,9,     -999.0,9,         20,     -999.0,9,     -999.0,9,     -999.0,9,     -999.0,9
33RO20180423,        I7N,      14,          1,        121,      11119,2,20180501,       1103,   -25.3297,    54.5047,       5020,   163.4,  20.0441,  35.5804,2,  35.5856,2,    175.6,2,-999.0000,9,      3.0,2,      2.3,2,     0.02,2,    0.295,2,-999.000,9,-999.000,9,-999.0000,9,  2074.4,2,  2334.3,2,   7.9438,2,    25.00,    0.63,2,   24.20,2,    2.08,-999.000,9,    64.6,3,     -999.0,9,     -999.0,9,         21,     -999.0,9,     -999.0,9,     -999.0,9,     -999.0,9
33RO20180423,        I7N,      14,          1,        122,      11120,2,20180501,       1103,   -25.3297,    54.5047,       5020,   100.2,  23.9409,  35.2884,2,  35.2903,2,    188.5,2, 200.9520,2,      2.0,2,      0.0,2,     0.17,2,    0.142,2,   1.722,2,   1.089,2,   1.5273,2,  2020.2,2,  2313.0,2,   8.0196,2,    25.00,    0.77,2,   24.00,2,    2.38,-999.000,1,    66.3,3,     -999.0,1,     -999.0,9,         22,     -999.0,9,     -999.0,9,     -999.0,9,     -999.0,9
33RO20180423,        I7N,      14,          1,        123,      11121,2,20180501,       1103,   -25.3297,    54.5047,       5020,    61.3,  26.3628,  35.0657,2,  35.0862,2,    192.7,2, 205.0880,2,      1.7,2,      0.0,2,     0.00,2,    0.093,2,-999.000,9,-999.000,9,-999.0000,9,  1979.8,2,  2296.4,2,   8.0619,2,    25.00,    0.90,2,   21.00,2,    2.08,-999.000,9,    79.3,3,     -999.0,9,     -999.0,9,         23,     -999.0,9,     -999.0,9,     -999.0,9,     -999.0,9
33RO20180423,        I7N,      14,          1,        124,      11122,2,20180501,       1103,   -25.3297,    54.5047,       5020,     3.6,  26.4418,  35.0447,2,  35.0453,2,    193.0,2, 203.6520,2,      1.6,2,      0.0,2,     0.00,2,    0.113,2,-999.000,9,-999.000,9,-999.0000,9,  1977.0,2,  2294.5,2,   8.0671,2,    25.00,    0.85,2,   20.60,2,    2.14,-999.000,9,    74.1,3,     -999.0,9,     -999.0,9,         24,     -999.0,9,     -999.0,9,     -999.0,9,     -999.0,9