BOTTLE,20230801CCHSIOCBG
EXPOCODE,SECT_ID,STNNBR,CASTNO,SAMPNO,BTLNBR,BTLNBR_FLAG_W,DATE,TIME,LATITUDE,LONGITUDE,DEPTH,CTDPRS,CTDTMP,CTDSAL,CTDSAL_FLAG_W,SALNTY,SALNTY_FLAG_W,CTDOXY,CTDOXY_FLAG_W,OXYGEN,OXYGEN_FLAG_W,SILCAT,SILCAT_FLAG_W,NITRAT,NITRAT_FLAG_W,NITRIT,NITRIT_FLAG_W,PHSPHT,PHSPHT_FLAG_W,CFC-11,CFC-11_FLAG_W,CFC-12,CFC-12_FLAG_W,SF6,SF6_FLAG_W,TCARBN,TCARBN_FLAG_W,ALKALI,ALKALI_FLAG_W,PH_SWS,PH_SWS_FLAG_W,PH_TMP,DELC13,DELC13_FLAG_W,DELC14,DELC14_FLAG_W,C14ERR,CCL4,CCL4_FLAG_W,DOC,DOC_FLAG_W,N2O,N2O_FLAG_W,CALCIUM,CALCIUM_FLAG_W,SAMPNO_U,DNSSAL,DNSSAL_FLAG_W,DNSSAL2,DNSSAL2_FLAG_W,SALNTY_DNSSAL,SALNTY_DNSSAL_FLAG_W,SALNTY_DNSSAL2,SALNTY_DNSSAL2_FLAG_W
,,,,,,,,,,,METERS,DBAR,ITS-90,PSS-78,,PSS-78,,UMOL/KG,,UMOL/KG,,UMOL/KG,,UMOL/KG,,UMOL/KG,,UMOL/KG,,PMOL/KG,,PMOL/KG,,FMOL/KG,,UMOL/KG,,UMOL/KG,,,,DEG C,/MILLE,,/MILLE,,/MILLE,PMOL/KG,,UMOL/KG,,NMOL/KG,,MMOL/KG,,,G/KG,,G/KG,,PSS-78,,PSS-78,
33RO20180423,        I7N,      81,          1,        101,      11010,9,20180523,       1613,     1.4335,    57.3090,       4518,  4597.7,   1.3357,  34.7175,2,  34.7235,2,    159.5,2, 182.5030,2,    133.1,6,     33.7,6,     0.00,6,    2.348,6,   0.039,2,   0.018,2,   0.0086,2,  2294.1,6,  2398.7,2,   7.6031,6,    25.00, -999.00,9, -999.00,9, -999.00,-999.000,9,  -999.0,9,     -999.0,9,     -999.0,9,          1,     -999.0,9,     -999.0,9,     -999.0,9,     -999.0,9
33RO20180423,        I7N,      81,          1,        102,      11101,9,20180523,       1613,     1.4335,    57.3090,       4518,  4346.8,   1.3698,  34.7200,2,  34.7413,2,    157.0,2, 180.8900,2,    133.2,6,     33.9,6,     0.00,6,    2.360,6,   0.011,2,   0.006,2,   0.0094,2,  2294.0,2,  2399.5,2,   7.6000,2,    25.00, -999.00,9, -999.00,9, -999.00,-999.000,9,  -999.0,9,     -999.0,9,     -999.0,9,          2,     -999.0,9,     -999.0,9,     -999.0,9,     -999.0,9
33RO20180423,        I7N,      81,          1,        103,      11102,9,20180523,       1613,     1.4335,    57.3090,       4518,  4100.2,   1.4347,  34.7234,2,  34.7260,2,    153.1,2, 176.6310,2,    133.6,6,     34.1,6,     0.00,6,    2.380,6,   0.008,2,   0.004,2,   0.0079,2,  2297.3,2,  2404.6,2,   7.5977,2,    25.00, -999.00,9, -999.00,9, -999.00,-999.000,9,  -999.0,9,     -999.0,9,     -999.0,9,          3,     -999.0,9,     -999.0,9,     -999.0,9,     -999.0,9
33RO20180423,        I7N,      81,          1,        104,      11103,9,20180523,       1613,     1.4335,    57.3090,       4518,  3800.4,   1.5198,  34.7276,2,  34.7343,2,    148.7,2, 171.5560,2,    133.5,6,     34.2,6,     0.00,6,    2.394,6,   0.004,2,   0.003,2,        0,2,  2302.7,2,  2405.0,6,   7.5941,2,    25.00, -999.00,9, -999.00,9, -999.00,-999.000,9,  -999.0,9,     -999.0,9,     -999.0,9,          4,     -999.0,9,     -999.0,9,     -999.0,9,     -999.0,9
33RO20180423,        I7N,      81,          1,        105,      11104,9,20180523,       1613,     1.4335,    57.3090,       4518,  3500.1,   1.6011,  34.7315,2,  34.7546,2,    144.9,2, 166.7700,2,    132.8,2,     34.5,2,     0.00,2,    2.411,2,   0.002,2,   0.001,2,        0,2,  2305.1,2,  2407.8,2,   7.5902,2,    25.00, -999.00,9, -999.00,9, -999.00,-999.000,9,    42.8,3,     -999.0,9,     -999.0,9,          5,     -999.0,9,     -999.0,9,     -999.0,9,     -999.0,9
33RO20180423,        I7N,      81,          1,        106,      11105,9,20180523,       1613,     1.4335,    57.3090,       4518,  3200.4,   1.7803,  34.7393,2,  34.7435,2,    137.5,2, 159.4080,2,    133.2,2,     34.8,2,     0.00,2,    2.452,2,   0.002,2,   0.002,2,        0,2,  2308.1,2,  2410.7,2,   7.5809,2,    25.00, -999.00,9, -999.00,9, -999.00,-999.000,9,  -999.0,9,     -999.0,9,     -999.0,9,          6,     -999.0,9,     -999.0,9,     -999.0,9,     -999.0,9
33RO20180423,        I7N,      81,          1,        107,      11106,9,20180523,       1613,     1.4335,    57.3090,       4518,  2900.9,   1.9148,  34.7460,2,  34.7480,2,    132.9,2, 152.7490,2,    132.5,2,     35.1,2,     0.00,2,    2.480,2,   0.000,2,   0.002,2,   0.0121,2,  2311.3,2,  2409.3,2,   7.5757,2,    25.00, -999.00,9, -999.00,9, -999.00,-999.000,9,  -999.0,9,     -999.0,9,     -999.0,9,          7,     -999.0,9,     -999.0,9,     -999.0,9,     -999.0,9
33RO20180423,        I7N,      81,          1,        108,      11107,9,20180523,       1613,     1.4335,    57.3090,       4518,  2600.9,   2.0998,  34.7550,2,  34.7585,6,    127.5,2, 145.2670,2,    131.0,2,     35.4,2,     0.00,2,    2.510,2,-999.000,9,-999.000,9,-999.0000,9,  2312.8,2,  2408.7,2,   7.5679,2,    25.00, -999.00,9, -999.00,9, -999.00,-999.000,9,    44.7,3,     -999.0,9,     -999.0,9,          8,     -999.0,9,     -999.0,9,     -999.0,9,     -999.0,9
33RO20180423,        I7N,      81,          1,        109,      11108,9,20180523,       1613,     1.4335,    57.3090,       4518,  2300.7,   2.4880,  34.7705,2,  34.7720,2,    118.9,2, 133.2060,2,    125.9,2,     35.7,2,     0.00,2,    2.551,2,   0.002,2,   0.001,2,        0,2,  2314.7,2,  2404.0,2,   7.5556,2,    25.00, -999.00,9, -999.00,9, -999.00,-999.000,9,    44.7,3,     -999.0,9,     -999.0,9,          9,     -999.0,9,     -999.0,9,     -999.0,9,     -999.0,9
33RO20180423,        I7N,      81,          1,        110,      11109,9,20180523,       1613,     1.4335,    57.3090,       4518,  2001.5,   2.9579,  34.7868,2,  34.7883,2,    110.1,2, 124.1380,2,    119.6,2,     36.0,2,     0.00,2,    2.595,2,-999.000,9,-999.000,9,-999.0000,9,  2314.0,2,  2398.7,2,   7.5426,2,    25.00, -999.00,9, -999.00,9, -999.00,-999.000,9,  -999.0,9,     -999.0,9,     -999.0,9,         10,     -999.0,9,     -999.0,9,     -999.0,9,     -999.0,9
33RO20180423,        I7N,      81,          1,        111,      11110,9,20180523,       1613,     1.4335,    57.3090,       4518,  1717.6,   3.6537,  34.8187,2,  34.8229,2,     95.8,2, 107.7480,2,    112.3,2,     36.4,2,     0.00,2,    2.646,2,   0.008,2,   0.006,2,        0,2,  2312.5,2,  2393.6,6,   7.5233,2,    25.00, -999.00,9, -999.00,9, -999.00,-999.000,9,    49.2,3,     -999.0,9,     -999.0,9,         11,     -999.0,9,     -999.0,9,     -999.0,9,     -999.0,9
33RO20180423,        I7N,      81,          1,        112,      11111,9,20180523,       1613,     1.4335,    57.3090,       4518,  1467.5,   4.4438,  34.8566,2,  34.8596,2,     80.1,2,  89.3050,2,    105.1,2,     37.0,2,     0.00,2,    2.719,2,-999.000,9,-999.000,9,-999.0000,9,  2313.8,2,  2384.6,2,   7.5041,6,    25.00, -999.00,9, -999.00,9, -999.00,-999.000,9,    49.0,3,     -999.0,9,     -999.0,9,         12,     -999.0,9,     -999.0,9,     -999.0,9,     -999.0,9
33RO20180423,        I7N,      81,          1,        113,      11112,9,20180523,       1613,     1.4335,    57.3090,       4518,  1233.2,   5.4566,  34.9050,2,  34.9101,2,     62.9,2,  70.3440,2,     95.6,2,     37.3,2,     0.00,2,    2.753,2,   0.022,6,   0.014,6,   0.0035,6,  2311.6,2,  2372.5,2,   7.4857,2,    25.00, -999.00,9, -999.00,9, -999.00,-999.000,9,    50.8,3,     -999.0,9,     -999.0,9,         13,     -999.0,9,     -999.0,9,     -999.0,9,     -999.0,9
33RO20180423,        I7N,      81,          1,        114,      11113,9,20180523,       1613,     1.4335,    57.3090,       4518,  1034.3,   7.0953,  35.0454,2,  35.0738,2,     41.6,2,  47.1920,2,     80.8,2,     37.1,2,     0.00,2,    2.762,2,-999.000,9,-999.000,9,-999.0000,9,  2307.1,2,  2363.5,2,   7.4701,2,    25.00, -999.00,9, -999.00,9, -999.00,-999.000,9,  -999.0,9,     -999.0,9,     -999.0,9,         14,     -999.0,9,     -999.0,9,     -999.0,9,     -999.0,9
33RO20180423,        I7N,      81,          1,        115,      11114,9,20180523,       1613,     1.4335,    57.3090,       4518,   850.6,   8.4719,  35.1527,2,  35.1545,2,     34.8,2,  39.4440,2,     65.9,2,     35.7,2,     0.00,2,    2.679,2,   0.209,2,   0.121,2,   0.0104,2,  2290.2,6,  2334.5,4,   7.4767,2,    25.00, -999.00,9, -999.00,9, -999.00,-999.000,9,  -999.0,9,     -999.0,9,     -999.0,9,         15,     -999.0,9,     -999.0,9,     -999.0,9,     -999.0,9
33RO20180423,        I7N,      81,          1,        116,      11115,9,20180523,       1613,     1.4335,    57.3090,       4518,   700.0,   9.2092,  35.1509,2,  35.1565,2,     40.5,2,  45.3475,2,     55.0,2,     34.3,2,     0.00,2,    2.575,2,-999.000,9,-999.000,9,-999.0000,9,  2277.1,2,  2341.2,2,   7.5007,2,    25.00, -999.00,9, -999.00,9, -999.00,-999.000,9,    51.8,3,     -999.0,9,     -999.0,9,         16,     -999.0,9,     -999.0,9,     -999.0,9,     -999.0,9
33RO20180423,        I7N,      81,          1,        117,      11116,9,20180523,       1613,     1.4335,    57.3090,       4518,   551.0,   9.5800,  35.0303,2,  35.0357,2,     61.7,2,  67.1580,2,     42.1,2,     31.9,2,     0.00,2,    2.318,2,   0.860,2,   0.472,2,   0.2212,2,  2246.5,2,  2326.2,2,   7.5263,2,    25.00, -999.00,9, -999.00,9, -999.00,-999.000,9,    48.4,3,     -999.0,9,     -999.0,9,         17,     -999.0,9,     -999.0,9,     -999.0,9,     -999.0,9
33RO20180423,        I7N,      81,          1,        118,      11117,9,20180523,       1613,     1.4335,    57.3090,       4518,   400.3,  10.4010,  34.9959,2,  35.0010,2,     95.8,2, 102.7550,2,     27.6,2,     27.3,2,     0.00,2,    1.930,2,-999.000,9,-999.000,9,-999.0000,9,  2217.2,2,  2314.7,2,   7.5928,2,    25.00, -999.00,9, -999.00,9, -999.00,-999.000,9,    53.6,3,     -999.0,9,     -999.0,9,         18,     -999.0,9,     -999.0,9,     -999.0,9,     -999.0,9
33RO20180423,        I7N,      81,          1,        119,      11083,9,20180523,       1613,     1.4335,    57.3090,       4518,   267.2,  11.9604,  35.0846,2,  35.0861,2,    108.1,2, 115.1500,2,     19.4,2,     22.9,2,     0.00,2,    1.642,2,   2.121,2,   1.184,2,    0.761,2,  2198.7,2,  2313.5,2,   7.6467,2,    25.00, -999.00,9, -999.00,9, -999.00,-999.000,9,    57.0,3,     -999.0,9,     -999.0,9,         19,     -999.0,9,     -999.0,9,     -999.0,9,     -999.0,9
33RO20180423,        I7N,      81,          1,        120,      11118,9,20180523,       1613,     1.4335,    57.3090,       4518,   183.0,  14.1249,  35.2084,2,  35.2113,2,     95.5,2, 102.4600,2,     17.1,2,     21.0,2,     0.01,2,    1.541,2,-999.000,9,-999.000,9,-999.0000,9,  2189.3,2,  2315.7,2,   7.6688,2,    25.00, -999.00,9, -999.00,9, -999.00,-999.000,9,    57.1,3,     -999.0,9,     -999.0,9,         20,     -999.0,9,     -999.0,9,     -999.0,9,     -999.0,9
33RO20180423,        I7N,      81,          1,        121,      11119,9,20180523,       1613,     1.4335,    57.3090,       4518,   133.7,  17.0841,  35.2636,2,  35.2641,6,     82.6,2,  88.4680,2,     14.6,2,     19.8,2,     0.01,2,    1.423,2,   1.926,2,   1.135,2,   0.9499,2,  2172.0,2,  2314.0,2,   7.7060,2,    25.00, -999.00,9, -999.00,9, -999.00,-999.000,9,    54.6,3,     -999.0,9,     -999.0,9,         21,     -999.0,9,     -999.0,9,     -999.0,9,     -999.0,9
33RO20180423,        I7N,      81,          1,        122,      11120,9,20180523,       1613,     1.4335,    57.3090,       4518,    83.7,  22.1911,  35.6582,2,  35.6435,2,    126.1,2, 131.3810,2,      8.3,2,     11.5,2,     0.11,2,    0.959,2,   1.700,2,   1.047,2,    1.257,2,  2114.0,2,  2331.7,3,   7.8701,2,    25.00, -999.00,9, -999.00,9, -999.00,-999.000,9,    67.2,3,     -999.0,9,     -999.0,9,         22,     -999.0,9,     -999.0,9,     -999.0,9,     -999.0,9
33RO20180423,        I7N,      81,          1,        123,      11121,9,20180523,       1613,     1.4335,    57.3090,       4518,    35.3,  29.6546,  35.0136,2,  35.0239,2,    183.7,2, 191.4220,2,      1.7,2,      0.0,2,     0.00,2,    0.129,2,   1.372,2,   0.874,2,   1.3168,2,  1970.1,2,  2297.1,2,   8.0873,2,    25.00, -999.00,9, -999.00,9, -999.00,-999.000,9,    70.8,3,     -999.0,9,     -999.0,9,         23,     -999.0,9,     -999.0,9,     -999.0,9,     -999.0,9
33RO20180423,        I7N,      81,          1,        124,      11122,9,20180523,       1613,     1.4335,    57.3090,       4518,     5.0,  29.6350,  35.0001,2,  35.0036,2,    183.4,2, 191.6460,2,      1.7,2,      0.0,2,     0.00,2,    0.119,2,   1.366,2,   0.875,2,    1.309,2,  1968.0,6,  2279.7,2,   8.0874,6,    25.00, -999.00,9, -999.00,9, -999.00,-999.000,9,    71.4,3,     -999.0,9,     -999.0,9,         24,     -999.0,9,     -999.0,9,     -999.0,9,     -999.0,9