BOTTLE,20230801CCHSIOCBG
EXPOCODE,SECT_ID,STNNBR,CASTNO,SAMPNO,BTLNBR,BTLNBR_FLAG_W,DATE,TIME,LATITUDE,LONGITUDE,DEPTH,CTDPRS,CTDTMP,CTDSAL,CTDSAL_FLAG_W,SALNTY,SALNTY_FLAG_W,CTDOXY,CTDOXY_FLAG_W,OXYGEN,OXYGEN_FLAG_W,SILCAT,SILCAT_FLAG_W,NITRAT,NITRAT_FLAG_W,NITRIT,NITRIT_FLAG_W,PHSPHT,PHSPHT_FLAG_W,CFC-11,CFC-11_FLAG_W,CFC-12,CFC-12_FLAG_W,SF6,SF6_FLAG_W,TCARBN,TCARBN_FLAG_W,ALKALI,ALKALI_FLAG_W,PH_SWS,PH_SWS_FLAG_W,PH_TMP,DELC13,DELC13_FLAG_W,DELC14,DELC14_FLAG_W,C14ERR,CCL4,CCL4_FLAG_W,DOC,DOC_FLAG_W,N2O,N2O_FLAG_W,CALCIUM,CALCIUM_FLAG_W,SAMPNO_U,DNSSAL,DNSSAL_FLAG_W,DNSSAL2,DNSSAL2_FLAG_W,SALNTY_DNSSAL,SALNTY_DNSSAL_FLAG_W,SALNTY_DNSSAL2,SALNTY_DNSSAL2_FLAG_W
,,,,,,,,,,,METERS,DBAR,ITS-90,PSS-78,,PSS-78,,UMOL/KG,,UMOL/KG,,UMOL/KG,,UMOL/KG,,UMOL/KG,,UMOL/KG,,PMOL/KG,,PMOL/KG,,FMOL/KG,,UMOL/KG,,UMOL/KG,,,,DEG C,/MILLE,,/MILLE,,/MILLE,PMOL/KG,,UMOL/KG,,NMOL/KG,,MMOL/KG,,,G/KG,,G/KG,,PSS-78,,PSS-78,
33RO20180423,        I7N,       6,          1,        101,      11010,2,20180429,       1029,   -27.9923,    54.4965,       5171,  5239.5,   0.9694,  34.7007,2,  34.7014,2,    181.2,2, 211.4150,2,    126.0,6,     31.7,6,     0.00,6,    2.223,6,-999.000,9,-999.000,9,-999.0000,9,  2261.6,6,  2367.8,2,   7.5963,2,    25.00, -999.00,9, -999.00,9, -999.00,-999.000,9,  -999.0,9,     -999.0,9,     -999.0,9,          1,     -999.0,9,     -999.0,9,     -999.0,9,     -999.0,9
33RO20180423,        I7N,       6,          1,        102,      11101,2,20180429,       1029,   -27.9923,    54.4965,       5171,  4721.9,   0.9665,  34.7036,2,  34.7038,2,    178.9,2, 209.1680,2,    125.5,6,     31.7,6,     0.00,6,    2.223,6,-999.000,9,-999.000,9,-999.0000,9,  2259.4,2,  2368.2,6,   7.5965,2,    25.00, -999.00,9, -999.00,9, -999.00,-999.000,9,  -999.0,9,     -999.0,9,     -999.0,9,          2,     -999.0,9,     -999.0,9,     -999.0,9,     -999.0,9
33RO20180423,        I7N,       6,          1,        103,      11102,2,20180429,       1029,   -27.9923,    54.4965,       5171,  4276.0,   1.0786,  34.7094,2,  34.7092,2,    174.0,2, 203.0510,2,    125.6,6,     31.9,6,     0.00,6,    2.229,6,-999.000,9,-999.000,9,-999.0000,9,  2264.6,2,  2371.3,2,   7.5984,2,    25.00, -999.00,9, -999.00,9, -999.00,-999.000,9,  -999.0,9,     -999.0,9,     -999.0,9,          3,     -999.0,9,     -999.0,9,     -999.0,9,     -999.0,9
33RO20180423,        I7N,       6,          1,        104,      11103,2,20180429,       1029,   -27.9923,    54.4965,       5171,  3974.2,   1.2025,  34.7148,2,  34.7152,2,    169.8,2, 197.7550,2,    124.3,6,     32.0,6,     0.00,6,    2.233,6,-999.000,9,-999.000,9,-999.0000,9,  2273.1,2,  2374.9,2,   7.5966,2,    25.00, -999.00,9, -999.00,9, -999.00,-999.000,9,  -999.0,9,     -999.0,9,     -999.0,9,          4,     -999.0,9,     -999.0,9,     -999.0,9,     -999.0,9
33RO20180423,        I7N,       6,          1,        105,      11104,2,20180429,       1029,   -27.9923,    54.4965,       5171,  3675.2,   1.3552,  34.7199,2,  34.7200,6,    162.1,2, 190.3590,2,    126.8,2,     32.4,2,     0.00,2,    2.262,2,-999.000,9,-999.000,9,-999.0000,9,  -999.0,9,  2384.5,2,   7.5962,6,    25.00, -999.00,9, -999.00,9, -999.00,-999.000,9,  -999.0,9,     -999.0,9,     -999.0,9,          5,     -999.0,9,     -999.0,9,     -999.0,9,     -999.0,9
33RO20180423,        I7N,       6,          1,        106,      11105,2,20180429,       1029,   -27.9923,    54.4965,       5171,  3375.2,   1.5403,  34.7271,2,  34.7418,2,    156.6,2, 181.3475,2,    125.3,2,     32.4,2,     0.00,2,    2.279,2,-999.000,9,-999.000,9,-999.0000,9,  2284.9,2,  2388.0,2,   7.5933,2,    25.00, -999.00,9, -999.00,9, -999.00,-999.000,9,  -999.0,9,     -999.0,9,     -999.0,9,          6,     -999.0,9,     -999.0,9,     -999.0,9,     -999.0,9
33RO20180423,        I7N,       6,          1,        107,      11106,2,20180429,       1029,   -27.9923,    54.4965,       5171,  3075.8,   1.7199,  34.7353,2,  34.7364,2,    154.1,2, 177.4630,2,    120.5,2,     32.2,2,     0.00,2,    2.291,2,-999.000,9,-999.000,9,-999.0000,9,  2285.9,2,  2387.6,2,   7.5939,2,    25.00, -999.00,9, -999.00,9, -999.00,-999.000,9,  -999.0,9,     -999.0,9,     -999.0,9,          7,     -999.0,9,     -999.0,9,     -999.0,9,     -999.0,9
33RO20180423,        I7N,       6,          1,        108,      11107,2,20180429,       1029,   -27.9923,    54.4965,       5171,  2775.2,   1.9209,  34.7407,2,  34.7643,2,    150.8,2, 172.2850,2,    116.5,2,     32.3,2,     0.00,2,    2.298,2,-999.000,9,-999.000,9,-999.0000,9,  2284.9,2,  2387.6,2,   7.5915,2,    25.00, -999.00,9, -999.00,9, -999.00,-999.000,9,  -999.0,9,     -999.0,9,     -999.0,9,          8,     -999.0,9,     -999.0,9,     -999.0,9,     -999.0,9
33RO20180423,        I7N,       6,          1,        109,      11108,2,20180429,       1029,   -27.9923,    54.4965,       5171,  2475.4,   2.1080,  34.7443,2,  34.7456,2,    155.4,2, 176.8140,2,    106.8,2,     31.5,2,     0.00,2,    2.222,2,-999.000,9,-999.000,9,-999.0000,9,  -999.0,9,  2378.2,6,   7.5974,2,    25.00, -999.00,9, -999.00,9, -999.00,-999.000,9,  -999.0,9,     -999.0,9,     -999.0,9,          9,     -999.0,9,     -999.0,9,     -999.0,9,     -999.0,9
33RO20180423,        I7N,       6,          1,        110,      11109,2,20180429,       1029,   -27.9923,    54.4965,       5171,  2176.2,   2.2831,  34.7366,2,  34.7365,2,    160.1,2, 180.6550,2,     94.1,2,     31.0,2,     0.00,2,    2.181,2,-999.000,9,-999.000,9,-999.0000,9,  2260.3,2,  2364.8,2,   7.5992,2,    25.00, -999.00,9, -999.00,9, -999.00,-999.000,9,  -999.0,9,     -999.0,9,     -999.0,9,         10,     -999.0,9,     -999.0,9,     -999.0,9,     -999.0,9
33RO20180423,        I7N,       6,          1,        111,      11110,2,20180429,       1029,   -27.9923,    54.4965,       5171,  1863.5,   2.5045,  34.6967,2,  34.7114,2,    158.1,2, 176.9440,2,     87.1,2,     31.4,2,     0.00,2,    2.194,2,-999.000,9,-999.000,9,-999.0000,9,  -999.0,9,  2354.4,2,   7.5890,6,    25.00, -999.00,9, -999.00,9, -999.00,-999.000,9,  -999.0,9,     -999.0,9,     -999.0,9,         11,     -999.0,9,     -999.0,9,     -999.0,9,     -999.0,9
33RO20180423,        I7N,       6,          1,        112,      11111,2,20180429,       1029,   -27.9923,    54.4965,       5171,  1613.6,   2.7490,  34.6298,2,  34.6302,2,    154.3,2, 171.6860,2,     80.2,2,     32.3,2,     0.00,2,    2.267,2,-999.000,9,-999.000,9,-999.0000,9,  2250.7,2,  2346.3,2,   7.5732,2,    25.00, -999.00,9, -999.00,9, -999.00,-999.000,9,  -999.0,9,     -999.0,9,     -999.0,9,         12,     -999.0,9,     -999.0,9,     -999.0,9,     -999.0,9
33RO20180423,        I7N,       6,          1,        113,      11112,2,20180429,       1029,   -27.9923,    54.4965,       5171,  1350.3,   3.2773,  34.5340,2,  34.5371,2,    151.6,2, 167.4730,2,     69.2,2,     33.0,2,     0.00,2,    2.310,2,-999.000,9,-999.000,9,-999.0000,9,  2243.9,2,  2335.0,2,   7.5614,2,    25.00, -999.00,9, -999.00,9, -999.00,-999.000,9,  -999.0,9,     -999.0,9,     -999.0,9,         13,     -999.0,9,     -999.0,9,     -999.0,9,     -999.0,9
33RO20180423,        I7N,       6,          1,        114,      11113,2,20180429,       1029,   -27.9923,    54.4965,       5171,  1149.3,   4.1248,  34.4319,2,  34.4352,2,    164.8,2, 181.0440,2,     49.7,2,     31.7,2,     0.00,2,    2.203,2,-999.000,9,-999.000,9,-999.0000,9,  2215.0,2,  2316.0,2,   7.5815,2,    25.00, -999.00,9, -999.00,9, -999.00,-999.000,9,  -999.0,9,     -999.0,9,     -999.0,9,         14,     -999.0,9,     -999.0,9,     -999.0,9,     -999.0,9
33RO20180423,        I7N,       6,          1,        115,      11114,2,20180429,       1029,   -27.9923,    54.4965,       5171,   938.8,   5.7285,  34.4233,2,  34.4250,2,    182.1,2, 198.9400,2,     27.8,2,     27.7,2,     0.00,2,    1.940,2,-999.000,9,-999.000,9,-999.0000,9,  2186.6,2,  2297.8,2,   7.6300,2,    25.00, -999.00,9, -999.00,9, -999.00,-999.000,9,  -999.0,9,     -999.0,9,     -999.0,9,         15,     -999.0,9,     -999.0,9,     -999.0,9,     -999.0,9
33RO20180423,        I7N,       6,          1,        116,      11115,2,20180429,       1029,   -27.9923,    54.4965,       5171,   787.9,   8.2664,  34.6004,2,  34.6011,2,    192.8,2, 209.4420,2,     12.7,2,     21.3,2,     0.00,2,    1.514,2,-999.000,9,-999.000,9,-999.0000,9,  2152.0,2,  2305.9,4,   7.7001,2,    25.00, -999.00,9, -999.00,9, -999.00,-999.000,9,  -999.0,9,     -999.0,9,     -999.0,9,         16,     -999.0,9,     -999.0,9,     -999.0,9,     -999.0,9
33RO20180423,        I7N,       6,          1,        117,      11116,2,20180429,       1029,   -27.9923,    54.4965,       5171,   638.8,  10.3025,  34.8258,2,  34.8259,2,    206.7,2, 222.8270,2,      6.0,2,     15.3,2,     0.00,2,    1.134,2,-999.000,9,-999.000,9,-999.0000,9,  2132.4,2,  2299.5,2,   7.7646,2,    25.00, -999.00,9, -999.00,9, -999.00,-999.000,9,  -999.0,9,     -999.0,9,     -999.0,9,         17,     -999.0,9,     -999.0,9,     -999.0,9,     -999.0,9
33RO20180423,        I7N,       6,          1,        118,      11117,2,20180429,       1029,   -27.9923,    54.4965,       5171,   489.1,  11.9118,  35.0623,2,  35.0621,6,    213.7,2, 229.9610,2,      3.9,2,     11.1,2,     0.00,2,    0.835,2,-999.000,9,-999.000,9,-999.0000,9,  2122.9,2,  2310.4,6,   7.8092,2,    25.00, -999.00,9, -999.00,9, -999.00,-999.000,9,  -999.0,9,     -999.0,9,     -999.0,9,         18,     -999.0,9,     -999.0,9,     -999.0,9,     -999.0,9
33RO20180423,        I7N,       6,          1,        119,      11083,2,20180429,       1029,   -27.9923,    54.4965,       5171,   325.3,  13.2763,  35.2625,2,  35.2614,2,    212.6,2, 227.3910,2,      3.3,2,      8.1,2,     0.00,2,    0.679,2,-999.000,9,-999.000,9,-999.0000,9,  2116.5,2,  2316.4,2,   7.8427,2,    25.00, -999.00,9, -999.00,9, -999.00,-999.000,9,  -999.0,9,     -999.0,9,     -999.0,9,         19,     -999.0,9,     -999.0,9,     -999.0,9,     -999.0,9
33RO20180423,        I7N,       6,          1,        120,      11118,2,20180429,       1029,   -27.9923,    54.4965,       5171,   212.6,  14.5017,  35.4052,2,  35.4078,2,    206.7,2, 220.6790,2,      2.6,2,      5.7,2,     0.00,2,    0.540,2,-999.000,9,-999.000,9,-999.0000,9,  2112.7,2,  2313.9,4,   7.8632,2,    25.00, -999.00,9, -999.00,9, -999.00,-999.000,9,  -999.0,9,     -999.0,9,     -999.0,9,         20,     -999.0,9,     -999.0,9,     -999.0,9,     -999.0,9
33RO20180423,        I7N,       6,          1,        121,      11119,2,20180429,       1029,   -27.9923,    54.4965,       5171,   163.4,  15.5570,  35.4922,2,  35.4912,2,    205.5,2, 219.2300,2,      2.2,2,      3.9,2,     0.01,2,    0.447,2,-999.000,9,-999.000,9,-999.0000,9,  2102.2,2,  2332.3,2,   7.8864,2,    25.00, -999.00,9, -999.00,9, -999.00,-999.000,9,  -999.0,9,     -999.0,9,     -999.0,9,         21,     -999.0,9,     -999.0,9,     -999.0,9,     -999.0,9
33RO20180423,        I7N,       6,          1,        122,      11120,2,20180429,       1029,   -27.9923,    54.4965,       5171,   107.4,  17.7705,  35.6501,2,  35.6366,2,    214.2,2, 227.4140,2,      1.5,2,      0.2,2,     0.08,2,    0.215,2,-999.000,9,-999.000,9,-999.0000,9,  2083.9,2,  2336.9,2,   7.9431,2,    25.00, -999.00,9, -999.00,9, -999.00,-999.000,9,  -999.0,9,     -999.0,9,     -999.0,9,         22,     -999.0,9,     -999.0,9,     -999.0,9,     -999.0,9
33RO20180423,        I7N,       6,          1,        123,      11121,2,20180429,       1029,   -27.9923,    54.4965,       5171,    82.4,  19.9006,  35.7410,2,  35.7412,2,    224.4,2, 238.1600,2,      1.2,2,      0.0,2,     0.00,2,    0.098,2,-999.000,9,-999.000,9,-999.0000,9,  2059.9,2,  2345.4,4,   7.9903,6,    25.00, -999.00,9, -999.00,9, -999.00,-999.000,9,  -999.0,9,     -999.0,9,     -999.0,9,         23,     -999.0,9,     -999.0,9,     -999.0,9,     -999.0,9
33RO20180423,        I7N,       6,          1,        124,      11122,2,20180429,       1029,   -27.9923,    54.4965,       5171,     3.4,  23.1872,  35.6181,2,  35.6206,2,    204.2,2, 216.0080,2,      1.3,2,      0.0,2,     0.00,2,    0.038,2,-999.000,9,-999.000,9,-999.0000,9,  2034.3,2,  2332.3,2,   8.0195,2,    25.00, -999.00,9, -999.00,9, -999.00,-999.000,9,  -999.0,9,     -999.0,9,     -999.0,9,         24,     -999.0,9,     -999.0,9,     -999.0,9,     -999.0,9