BOTTLE,20230801CCHSIOCBG
EXPOCODE,SECT_ID,STNNBR,CASTNO,SAMPNO,BTLNBR,BTLNBR_FLAG_W,DATE,TIME,LATITUDE,LONGITUDE,DEPTH,CTDPRS,CTDTMP,CTDSAL,CTDSAL_FLAG_W,SALNTY,SALNTY_FLAG_W,CTDOXY,CTDOXY_FLAG_W,OXYGEN,OXYGEN_FLAG_W,SILCAT,SILCAT_FLAG_W,NITRAT,NITRAT_FLAG_W,NITRIT,NITRIT_FLAG_W,PHSPHT,PHSPHT_FLAG_W,CFC-11,CFC-11_FLAG_W,CFC-12,CFC-12_FLAG_W,SF6,SF6_FLAG_W,TCARBN,TCARBN_FLAG_W,ALKALI,ALKALI_FLAG_W,PH_SWS,PH_SWS_FLAG_W,PH_TMP,DELC13,DELC13_FLAG_W,DELC14,DELC14_FLAG_W,C14ERR,CCL4,CCL4_FLAG_W,DOC,DOC_FLAG_W,N2O,N2O_FLAG_W,CALCIUM,CALCIUM_FLAG_W,SAMPNO_U,DNSSAL,DNSSAL_FLAG_W,DNSSAL2,DNSSAL2_FLAG_W,SALNTY_DNSSAL,SALNTY_DNSSAL_FLAG_W,SALNTY_DNSSAL2,SALNTY_DNSSAL2_FLAG_W
,,,,,,,,,,,METERS,DBAR,ITS-90,PSS-78,,PSS-78,,UMOL/KG,,UMOL/KG,,UMOL/KG,,UMOL/KG,,UMOL/KG,,UMOL/KG,,PMOL/KG,,PMOL/KG,,FMOL/KG,,UMOL/KG,,UMOL/KG,,,,DEG C,/MILLE,,/MILLE,,/MILLE,PMOL/KG,,UMOL/KG,,NMOL/KG,,MMOL/KG,,,G/KG,,G/KG,,PSS-78,,PSS-78,
33RO20180423,        I7N,      84,          1,        101,      11010,2,20180524,       1117,     2.7988,    58.0615,       5159,  5254.4,   1.4383,  34.7179,2,  34.7187,2,    156.8,2, 183.6070,2,    133.0,6,     33.9,6,     0.00,6,    2.365,6,   0.019,2,   0.011,2,        0,2,  2292.4,6,  2399.6,2,   7.6041,6,    25.00, -999.00,9, -999.00,9, -999.00,-999.000,1,  -999.0,9,     -999.0,1,     -999.0,9,          1,     -999.0,9,     -999.0,9,     -999.0,9,     -999.0,9
33RO20180423,        I7N,      84,          1,        102,      11101,2,20180524,       1117,     2.7988,    58.0615,       5159,  5027.8,   1.4118,  34.7183,2,  34.7198,2,    156.2,2, 183.3910,2,    133.2,6,     33.9,6,     0.00,6,    2.366,6,   0.019,2,   0.009,2,        0,2,  2291.7,2,  2398.6,6,   7.6017,2,    25.00, -999.00,9, -999.00,9, -999.00,-999.000,1,  -999.0,9,     -999.0,1,     -999.0,9,          2,     -999.0,9,     -999.0,9,     -999.0,9,     -999.0,9
33RO20180423,        I7N,      84,          1,        103,      11102,2,20180524,       1117,     2.7988,    58.0615,       5159,  4800.9,   1.3923,  34.7188,2,  34.7197,2,    155.6,2, 182.8840,2,    133.3,6,     33.9,6,     0.00,6,    2.362,6,   0.016,2,   0.008,2,        0,2,  2290.8,2,  2400.1,2,   7.6021,2,    25.00, -999.00,9, -999.00,9, -999.00,-999.000,1,  -999.0,9,     -999.0,1,     -999.0,9,          3,     -999.0,9,     -999.0,9,     -999.0,9,     -999.0,9
33RO20180423,        I7N,      84,          1,        104,      11103,2,20180524,       1117,     2.7988,    58.0615,       5159,  4501.3,   1.3871,  34.7203,2,  34.7353,2,    154.4,2, 179.3670,2,    133.4,6,     33.9,6,     0.00,6,    2.368,6,   0.014,2,   0.007,2,        0,2,  2292.4,2,  2398.1,2,   7.6006,2,    25.00, -999.00,9, -999.00,9, -999.00,-999.000,1,  -999.0,9,     -999.0,1,     -999.0,9,          4,     -999.0,9,     -999.0,9,     -999.0,9,     -999.0,9
33RO20180423,        I7N,      84,          1,        105,      11104,2,20180524,       1117,     2.7988,    58.0615,       5159,  4200.2,   1.4039,  34.7222,2,  34.7244,6,    152.5,2, 179.3190,2,    133.4,2,     34.0,2,     0.00,2,    2.367,2,   0.012,2,   0.005,2,        0,2,  2296.5,2,  2399.9,2,   7.6004,2,    25.00, -999.00,9, -999.00,9, -999.00,-999.000,1,  -999.0,9,     -999.0,1,     -999.0,9,          5,     -999.0,9,     -999.0,9,     -999.0,9,     -999.0,9
33RO20180423,        I7N,      84,          1,        106,      11105,2,20180524,       1117,     2.7988,    58.0615,       5159,  3900.4,   1.4857,  34.7263,2,  34.7259,2,    148.5,2, 174.4280,2,    133.1,2,     34.1,2,     0.00,2,    2.395,2,   0.008,2,   0.004,2,   0.0011,2,  2299.1,2,  2402.2,2,   7.5957,2,    25.00, -999.00,9, -999.00,9, -999.00,-999.000,1,  -999.0,9,     -999.0,1,     -999.0,9,          6,     -999.0,9,     -999.0,9,     -999.0,9,     -999.0,9
33RO20180423,        I7N,      84,          1,        107,      11106,2,20180524,       1117,     2.7988,    58.0615,       5159,  3600.7,   1.5807,  34.7311,2,  34.7306,2,    144.1,2, 168.7870,2,    133.3,2,     34.5,2,     0.00,2,    2.413,2,   0.005,2,   0.003,2,        0,2,  2302.6,2,  2406.6,2,   7.5911,2,    25.00, -999.00,9, -999.00,9, -999.00,-999.000,1,  -999.0,9,     -999.0,1,     -999.0,9,          7,     -999.0,9,     -999.0,9,     -999.0,9,     -999.0,9
33RO20180423,        I7N,      84,          1,        108,      11107,2,20180524,       1117,     2.7988,    58.0615,       5159,  3300.8,   1.6803,  34.7359,2,  34.7568,2,    140.0,2, 163.3530,2,    133.4,2,     34.7,2,     0.00,2,    2.449,2,   0.004,2,   0.004,2,        0,2,  2305.4,2,  2409.1,6,   7.5858,2,    25.00, -999.00,9, -999.00,9, -999.00,-999.000,1,  -999.0,9,     -999.0,1,     -999.0,9,          8,     -999.0,9,     -999.0,9,     -999.0,9,     -999.0,9
33RO20180423,        I7N,      84,          1,        109,      11108,2,20180524,       1117,     2.7988,    58.0615,       5159,  3001.1,   1.8542,  34.7440,2,  34.7452,2,    133.5,2, 154.8770,2,    132.2,2,     35.1,2,     0.00,2,    2.477,2,   0.002,2,   0.002,2,        0,2,  2310.6,2,  2410.2,2,   7.5792,6,    25.00, -999.00,9, -999.00,9, -999.00,-999.000,1,  -999.0,9,     -999.0,1,     -999.0,9,          9,     -999.0,9,     -999.0,9,     -999.0,9,     -999.0,9
33RO20180423,        I7N,      84,          1,        110,      11109,2,20180524,       1117,     2.7988,    58.0615,       5159,  2700.4,   2.0193,  34.7518,2,  34.7536,2,    128.5,2, 148.3720,2,    131.6,2,     35.3,2,     0.00,2,    2.504,2,   0.002,6,   0.002,6,   0.0019,6,  2314.0,2,  2406.1,2,   7.5708,2,    25.00, -999.00,9, -999.00,9, -999.00,-999.000,1,  -999.0,9,     -999.0,1,     -999.0,9,         10,     -999.0,9,     -999.0,9,     -999.0,9,     -999.0,9
33RO20180423,        I7N,      84,          1,        111,      11110,2,20180524,       1117,     2.7988,    58.0615,       5159,  2400.9,   2.2326,  34.7638,2,  34.7672,2,    121.9,2, 139.8480,2,    130.5,2,     35.6,2,     0.00,2,    2.547,2,   0.002,2,   0.002,2,        0,2,  2316.4,2,  2406.7,2,   7.5611,2,    25.00, -999.00,9, -999.00,9, -999.00,-999.000,1,  -999.0,9,     -999.0,1,     -999.0,9,         11,     -999.0,9,     -999.0,9,     -999.0,9,     -999.0,9
33RO20180423,        I7N,      84,          1,        112,      11111,2,20180524,       1117,     2.7988,    58.0615,       5159,  2094.0,   2.7231,  34.7859,2,  34.7867,2,    110.9,2, 126.5040,2,    125.0,2,     36.1,2,     0.00,2,    2.604,2,   0.002,2,   0.003,2,        0,2,  2316.4,2,  2400.7,2,   7.5465,2,    25.00, -999.00,9, -999.00,9, -999.00,-999.000,1,  -999.0,9,     -999.0,1,     -999.0,9,         12,     -999.0,9,     -999.0,9,     -999.0,9,     -999.0,9
33RO20180423,        I7N,      84,          1,        113,      11112,2,20180524,       1117,     2.7988,    58.0615,       5159,  1800.2,   3.5476,  34.8247,2,  34.8270,2,     94.6,2, 107.0745,2,    115.3,2,     36.6,2,     0.00,2,    2.679,2,   0.005,2,   0.005,2,        0,2,  2315.9,2,  2393.2,2,   7.5230,2,    25.00, -999.00,9, -999.00,9, -999.00,-999.000,1,  -999.0,9,     -999.0,1,     -999.0,9,         13,     -999.0,9,     -999.0,9,     -999.0,9,     -999.0,9
33RO20180423,        I7N,      84,          1,        114,      11113,2,20180524,       1117,     2.7988,    58.0615,       5159,  1500.9,   4.9212,  34.9081,2,  34.9098,2,     69.3,2,  78.2070,2,    102.1,2,     37.3,2,     0.00,2,    2.757,2,   0.016,2,   0.011,2,        0,2,  2314.9,2,  2382.6,2,   7.4936,2,    25.00, -999.00,9, -999.00,9, -999.00,-999.000,1,  -999.0,9,     -999.0,1,     -999.0,9,         14,     -999.0,9,     -999.0,9,     -999.0,9,     -999.0,9
33RO20180423,        I7N,      84,          1,        115,      11114,2,20180524,       1117,     2.7988,    58.0615,       5159,  1199.8,   5.9832,  34.9675,2,  34.9706,2,     52.9,2,  59.9040,2,     92.0,2,     37.7,2,     0.00,2,    2.803,2,   0.030,2,   0.018,2,        0,2,  2309.0,2,  2372.7,2,   7.4775,2,    25.00, -999.00,9, -999.00,9, -999.00,-999.000,1,  -999.0,9,     -999.0,1,     -999.0,9,         15,     -999.0,9,     -999.0,9,     -999.0,9,     -999.0,9
33RO20180423,        I7N,      84,          1,        116,      11115,2,20180524,       1117,     2.7988,    58.0615,       5159,  1001.1,   7.2090,  35.0616,2,  35.0757,2,     38.3,2,  43.6730,2,     80.7,2,     37.4,2,     0.00,2,    2.792,2,   0.064,2,   0.039,2,   0.0022,2,  2302.5,2,  2360.3,2,   7.4681,2,    25.00, -999.00,9, -999.00,9, -999.00,-999.000,1,  -999.0,9,     -999.0,1,     -999.0,9,         16,     -999.0,9,     -999.0,9,     -999.0,9,     -999.0,9
33RO20180423,        I7N,      84,          1,        117,      11116,2,20180524,       1117,     2.7988,    58.0615,       5159,   800.4,   8.3588,  35.1401,2,  35.1651,2,     33.5,2,  38.3725,2,     67.1,2,     36.1,2,     0.00,2,    2.718,2,   0.176,2,   0.102,2,   0.0195,2,  2291.1,2,  2350.7,2,   7.4738,2,    25.00, -999.00,9, -999.00,9, -999.00,-999.000,1,  -999.0,9,     -999.0,1,     -999.0,9,         17,     -999.0,9,     -999.0,9,     -999.0,9,     -999.0,9
33RO20180423,        I7N,      84,          1,        118,      11117,2,20180524,       1117,     2.7988,    58.0615,       5159,   600.0,   9.7721,  35.1691,2,  35.1696,2,     41.9,2,  47.7070,2,     47.5,2,     33.3,2,     0.00,2,    2.491,2,   0.605,2,   0.334,2,   0.1088,2,  2264.2,2,  2334.0,2,   7.5021,2,    25.00, -999.00,9, -999.00,9, -999.00,-999.000,1,  -999.0,9,     -999.0,1,     -999.0,9,         18,     -999.0,9,     -999.0,9,     -999.0,9,     -999.0,9
33RO20180423,        I7N,      84,          1,        119,      11083,2,20180524,       1117,     2.7988,    58.0615,       5159,   400.3,  10.6894,  35.1008,2,  35.1017,6,     70.9,2,  77.5710,2,     30.7,2,     29.1,2,     0.00,2,    2.100,2,   1.438,6,   0.782,6,    0.406,6,  2229.1,2,  2319.1,2,   7.5557,2,    25.00, -999.00,9, -999.00,9, -999.00,-999.000,1,  -999.0,9,     -999.0,1,     -999.0,9,         19,     -999.0,9,     -999.0,9,     -999.0,9,     -999.0,9
33RO20180423,        I7N,      84,          1,        120,      11118,2,20180524,       1117,     2.7988,    58.0615,       5159,   250.3,  12.5144,  35.1601,2,  35.1629,2,     75.2,2,  81.2180,2,     21.7,2,     25.5,2,     0.00,2,    1.839,2,   1.860,2,   1.045,2,   0.6261,2,  2212.8,2,  2315.4,2,   7.5982,2,    25.00, -999.00,9, -999.00,9, -999.00,-999.000,1,  -999.0,9,     -999.0,1,     -999.0,9,         20,     -999.0,9,     -999.0,9,     -999.0,9,     -999.0,9
33RO20180423,        I7N,      84,          1,        121,      11119,2,20180524,       1117,     2.7988,    58.0615,       5159,   150.0,  16.9301,  35.3142,2,  35.3217,2,     64.9,2,  70.4530,2,     16.3,2,     21.9,2,     0.01,2,    1.629,2,   1.788,2,   1.063,2,   0.8656,2,  2186.7,2,  2316.0,6,   7.6692,2,    25.00, -999.00,9, -999.00,9, -999.00,-999.000,1,  -999.0,9,     -999.0,1,     -999.0,9,         21,     -999.0,9,     -999.0,9,     -999.0,9,     -999.0,9
33RO20180423,        I7N,      84,          1,        122,      11120,2,20180524,       1117,     2.7988,    58.0615,       5159,   100.4,  21.7513,  35.3986,2,  35.4203,2,     87.2,2,  91.2280,2,     10.0,2,     16.1,2,     0.08,2,    1.223,2,   1.622,2,   1.004,2,   1.1181,2,  2133.4,2,  2314.5,2,   7.7991,6,    25.00, -999.00,9, -999.00,9, -999.00,-999.000,1,  -999.0,9,     -999.0,1,     -999.0,9,         22,     -999.0,9,     -999.0,9,     -999.0,9,     -999.0,9
33RO20180423,        I7N,      84,          1,        123,      11121,2,20180524,       1117,     2.7988,    58.0615,       5159,    50.7,  29.1588,  35.1423,2,-999.0000,9,    184.6,2,-999.0000,9,-999.0000,9,-999.0000,9,-999.0000,9,-999.0000,9,-999.000,9,-999.000,9,-999.0000,9,  -999.0,9,  -999.0,9,-999.0000,9,  -999.00, -999.00,9, -999.00,9, -999.00,-999.000,9,  -999.0,9,     -999.0,9,     -999.0,9,         23,     -999.0,9,     -999.0,9,     -999.0,9,     -999.0,9
33RO20180423,        I7N,      84,          1,        124,      11122,2,20180524,       1117,     2.7988,    58.0615,       5159,     4.4,  29.3318,  35.0733,2,  35.0743,2,    184.6,2, 193.7450,2,      1.6,6,      0.0,6,     0.00,6,    0.135,6,   1.398,2,   0.890,2,   1.3378,2,  1970.1,6,  2301.8,2,   8.0840,2,    25.00, -999.00,9, -999.00,9, -999.00,-999.000,1,  -999.0,9,     -999.0,1,     -999.0,9,         24,     -999.0,9,     -999.0,9,     -999.0,9,     -999.0,9