BOTTLE,20230801CCHSIOCBG
# Merged parameters: DELC13, DELC13_FLAG_W, DELC14, DELC14_FLAG_W, C14ERR
# 20220819CCHSIOAMB
# Added MMOL/KG units to calcium, SALNTY_HU and SALNTY_HU2 to SALNTY_DNSSAL and SALNTY_DNSSAL2
#BOTTLE,20210421CCHSIOCBG
# Merged parameters: CFC-11, CFC-11_FLAG_W, CFC-12, CFC-12_FLAG_W, SF6, SF6_FLAG_W
# 20200310CCHSIOCBG
# Merged parameters: DOC, DOC_FLAG_W
# 20190909CCHSIOCBG
# Merged parameters: PHSPHT, PHSPHT_FLAG_W, SILCAT, SILCAT_FLAG_W, NITRAT, NITRAT_FLAG_W, NITRIT, NITRIT_FLAG_W
# Merged parameters: OXYGEN_FLAG_W
# Merged parameters: CALCIUM, CALCIUM_FLAG_W, DNSSAL, DNSSAL_FLAG_W, DNSSAL2, DNSSAL2_FLAG_W, SALNTY_HU, SALNTY_HU_FLAG_W, SALNTY_HU2, SALNTY_HU2_FLAG_W
# Merged parameters: TCARBN, TCARBN_FLAG_W, ALKALI, ALKALI_FLAG_W, PH_SWS, PH_SWS_FLAG_W, PH_TMP, BTLNBR_FLAG_W, CTDPRS, CTDOXY
# Merged parameters: SAMPNO_U
# Merged parameters: BTLNBR
# 20190108CCHSIOCBG
# 20190107CCHSIOCBG
# Merged parameters: TCARBN, TCARBN_FLAG_W
#
# BOTTLE,20191217PRINUNIVRMK
# BOTTLE,20210315PRINUNIVRMK
# 07/31/2017 Initialized README file  
# Data source: CCHDO 7/16/18 
# SHIP: Ron Brown 
# Cruise: I07N.2018 
# Region: NW Indian Ocean 
# 	Durban, South Africa to Goa, India 
# EXPOCODE: 33RO20180423 
# DATES: 20180423 - 20180606 
# Chief Scientist: Denis Volkov 
# Co-Chief Scientist: Viviane Menezes 
# Additional QC: R.Key 
# 124 stations with 24 place Rosette + 2 test stations 
# CTD: Who - M.Baringer/G.Johnson; Status - final 
# 	Includes: CTDSAL, CTDOXY 
# Salinty: Who - M.Baringer; Status - final 
# 	Notes: 	 
# Nutrients: Who - J.-Z.Zhang /C.Mordy; Status -final 
# 	Includes: nitrate, nitrite, silicate, phopshpate 
# 	Final data from Eric Wisebarver 6/28/19 
# O2: Who - M.Baringer; Status - final 
# 	Notes: Final data from C.Langdon file posted 3/5/19 
# TCO2: Who - R.Wanninkhof/ R.Feely; Status - final 
# 	Notes: submitted to CCHDO 11/29/18 
# 	Merge and QC 12/12/18 RMK 
# ALKALI: Who - F. Millero; Status - final 
# 	Notes: Data from Millero 1/24/19 
# 	Merge and QC 1/24/19 RMK 
# pH_SWS: Who - F. Millero; Status - final 
# 	Notes: reported on SWS at 25C 
# 	Data from Millero 1/24/19 
# 	Merge and QC 1/24/19 RMK 
# pCO2: Who - R.Wanninkhof; Status - collected 
# 	Notes: underway only 
# CFC: Who - B.Chang;R.Sonnerup;J.Bullister; Status - final 
# 	Notes: includes SF6 
# 	RMK QC with edit by B. Chang 2/25/21 
# C14/C13: Who - R.Key,A.McNichol; Status - final 
# 	Notes: C-13 and C-14 of DIC data merged in by Rolf Sonnerup (U. Washington).  Data are from Roberta Hansman, NOSAMS/WHOI  
#       after internal lab QC by Kathryn Elder (WHOI/NOSAMS), and then property-property analyses by R Sonnerup (UW)
#       based on replicate samples collected from individual niskins, the precision of the Delta C-14 measurements was estimated at +- 2.0 permille
#       based on replicate samples collected from individual niskins, the precision of the del C-13 measurements was estimated at +- 0.078 permille
#       rhansman@whoi.edu, rolf@uw.edu
# DO14C:Who - E.Druffel; Status -  collected 
# 	Notes: 
# DOC: Who - D.Hansell; Status - final 
# 	Notes: All values flagged 3 or 4 
# 	Problems with collection 
# POM: Who - A.Martini,C.Garcia; Status - collected 
# 	Notes:  
# Other: Who - ; Status - 
# 	Notes:  
# These data should be cited as: 
# References that have used data from this cruise:  
#
# DATA CITATION
#| CCHDO Citation Information
#|
#| Please cite data downloaded from CCHDO as: 
#| [Data providers of the parameter(s) used]. [Year of file access]. [CTD/Bottle] data from cruise [expocode], 
#| [format version used]. Accessed from CCHDO [url of cruise data page]. Access date [date of download].
#| [Applicable CCHDO cruise DOI if provided].
#|
#| For example: 
#| Swift, J. and Becker, S. 2019. CTD data from Cruise 33RR20160321, exchange version. Accessed from CCHDO 
#| https://cchdo.ucsd.edu/cruise/33RR20160321. Access date 2019-08-21. CCHDO cruise DOI: 10.7942/C2008W
#|
#| Information on the scientists who provided the different parameters can be found in the cruise report. 
#| Additionally, for US GO-SHIP cruises, this information is usually in the comments section in the text headers 
#| of the Exchange bottle files.
#|
#| Users are also encouraged to acknowledge the funding program that supported the data collection in their publication. 
#| For US GO-SHIP data this is the NSF/NOAA funded U.S Repeat Hydrography Program.
#|
#| For data citation, please use the data providers listed below. 
#|
#| Programs and Principal Investigators
#| 
#| Program/Duties         PIs                   Institution  E-mail
#| ----------------------------------------------------------------------------------- 
#| Chief Scientist        Denis Volkov          AOML/CIMAS   denis.volkov@noaa.gov
#| Co-Chief Scientist     Viviane Menezes       WHOI         vmenezes@whoi.edu
#| CTD                    Molly Baringer        NOAA-AOML    molly.baringer@noaa.gov
#|                        Gregory Johnson       NOAA-PMEL    gregory.c.johnson@noaa.gov
#| Salinity               Molly Baringer        NOAA-AOML    molly.baringer@noaa.gov
#| LADCP                  Andreas Thurnherr     LDEO         ant@ldeo.columbia.edu
#| Dissolved Oxygen       Christopher Langdon   UM/RSMAS     clangdon@miami.edu
#| Nutrients              Jia-Zhong Zhang       NOAA-AOML    jia-zhong.zhang@noaa.gov
#|                        Calvin Mordy          NOAA-PMEL    calvin.w.mordy@noaa.gov
#| CFCs/SF6               John Bullister        NOAA-PMEL  
#| Total CO2 (DIC)        Rik Wanninkhof        NOAA-AOML    rik.wanninkhof@noaa.gov
#|                        Richard Feely         NOAA-PMEL    richard.a.feely@noaa.gov
#| Total Alkalinity/pH    Rik Wanninkhof        NOAA-AOML    rik.wanninkhof@noaa.gov
#|                        Frank Millero         UM/RSMAS     fmillero@rsmas.miami.edu
#| DI14C                  Ann McNichol          WHOI         amcnichol@whoi.edu
#|                        Robert Key            PU           401 Sayre Hall
#|                                                           Princeton University
#|                                                           08544 Princeton , NJ
#| DOM / DOC              Dennis Hansell        UM/RSMAS     dhansell@miami.edu
#| DO14C / Black Carbon   Ellen Druffel         UCI          edruffel@uci.edu
#| Biomarkers and         Brett Walker          UCI          brett.walker@uci.edu
#| Molecular Composition 
#| Genetics and POM       Adam Martiny          UCI          amartiny@uci.edu
#| Net tows               Nina Bernardsek       SCCWRP       NinaB@sccwrp.org
#| Underway pCO2          Rik Wanninkhof        NOAA-AOML    rik.wanninkhof@noaa.gov
#|                        Denis Pierrot         AOML/CIMAS   denis.pierrot@noaa.gov
#| Dissolved Calcium      Akihiko Murata        JAMSTEC      murataa@jamstec.go.jp
#| Density                Akihiko Morata        JAMSTEC      murataa@jamstec.go.jp
#|                        Frank Millero         UM/RSMAS     fmillero@rsmas.miami.edu
#| Biological Samples /   Victoria Coles        UMar         vcoles@umces.edu
#| Filtration             Raleigh Hood          UMar         rhood@umces.edu
#|                        Joaquim Goes          LDEO         jig@ldeo.columbia.edu
#| Transmissiometry       Wilf Gardner          TAMU         wgardner@ocean.tamu.edu
#| Argo floats            Gregory Johnson       NOAA-PMEL    gregory.c.johnson@noaa.gov
#|                        Elizabeth Steffen     NOAA-PMEL    elizabeth.steffen@noaa.gov
#| SVP drifters           Rick Lumpkin          NOAA-AOML    rick.lumpkin@noaa.gov
#|                        Shaun Dolk            AOML/CIMAS   shaun.dolk@noaa.gov
#| Wave buoys             Kerstin Paulsson      SIO          kpaulsson@ucsd.edu
#| Fluorometry      
#| Bathymetry             Ship personnel        NOAA         ops.ronald.brown@noaa.gov
#| Underway TSG           Ship personnel        NOAA         ops.ronald.brown@noaa.gov
#| ADCP                   Ship personnel        NOAA         ops.ronald.brown@noaa.gov
#| Nitrate isotopes       Chawalit Charoenpong  WHOI         
#|                        Scott D. Wankel   
#
EXPOCODE,SECT_ID,STNNBR,CASTNO,SAMPNO,BTLNBR,BTLNBR_FLAG_W,DATE,TIME,LATITUDE,LONGITUDE,DEPTH,CTDPRS,CTDTMP,CTDSAL,CTDSAL_FLAG_W,SALNTY,SALNTY_FLAG_W,CTDOXY,CTDOXY_FLAG_W,OXYGEN,OXYGEN_FLAG_W,SILCAT,SILCAT_FLAG_W,NITRAT,NITRAT_FLAG_W,NITRIT,NITRIT_FLAG_W,PHSPHT,PHSPHT_FLAG_W,CFC-11,CFC-11_FLAG_W,CFC-12,CFC-12_FLAG_W,SF6,SF6_FLAG_W,TCARBN,TCARBN_FLAG_W,ALKALI,ALKALI_FLAG_W,PH_SWS,PH_SWS_FLAG_W,PH_TMP,DELC13,DELC13_FLAG_W,DELC14,DELC14_FLAG_W,C14ERR,CCL4,CCL4_FLAG_W,DOC,DOC_FLAG_W,N2O,N2O_FLAG_W,CALCIUM,CALCIUM_FLAG_W,SAMPNO_U,DNSSAL,DNSSAL_FLAG_W,DNSSAL2,DNSSAL2_FLAG_W,SALNTY_DNSSAL,SALNTY_DNSSAL_FLAG_W,SALNTY_DNSSAL2,SALNTY_DNSSAL2_FLAG_W
,,,,,,,,,,,METERS,DBAR,ITS-90,PSS-78,,PSS-78,,UMOL/KG,,UMOL/KG,,UMOL/KG,,UMOL/KG,,UMOL/KG,,UMOL/KG,,PMOL/KG,,PMOL/KG,,FMOL/KG,,UMOL/KG,,UMOL/KG,,,,DEG C,/MILLE,,/MILLE,,/MILLE,PMOL/KG,,UMOL/KG,,NMOL/KG,,MMOL/KG,,,G/KG,,G/KG,,PSS-78,,PSS-78,
33RO20180423,        I7N,       1,          1,        101,      11010,2,20180428,       0220,   -30.0002,    54.4595,       4283,  4356.6,   0.9571,  34.7060,2,  34.7097,2,    184.8,2,-999.0000,9,    122.0,6,     31.7,6,     0.00,6,    2.223,6,   0.178,2,   0.086,2,   0.0069,2,  2257.9,2,  2365.7,2,   7.5997,2,    25.00, -999.00,9, -999.00,9, -999.00,-999.000,1,  -999.0,9,     -999.0,1,     -999.0,9,          1,     -999.0,9,     -999.0,9,     -999.0,9,     -999.0,9
33RO20180423,        I7N,       1,          1,        102,      11101,2,20180428,       0220,   -30.0002,    54.4595,       4283,  3950.9,   1.1082,  34.7137,2,  34.7156,2,    180.4,2, 205.3350,2,    119.3,6,     31.7,6,     0.00,6,    2.240,6,   0.133,2,   0.065,2,   0.0064,2,  2260.8,6,  2372.1,2,   7.6001,2,    25.00, -999.00,9, -999.00,9, -999.00,-999.000,1,    41.5,3,     -999.0,1,     -999.0,9,          2,     -999.0,9,     -999.0,9,     -999.0,9,     -999.0,9
33RO20180423,        I7N,       1,          1,        103,      11102,2,20180428,       0220,   -30.0002,    54.4595,       4283,  3810.5,   1.1585,  34.7158,2,  34.7163,2,    178.1,2, 203.3900,2,    118.9,6,     31.8,6,     0.00,6,    2.255,6,   0.111,2,   0.054,2,   0.0088,2,  2259.5,2,  2370.2,2,   7.6002,6,    25.00, -999.00,9, -999.00,9, -999.00,-999.000,1,    40.7,3,     -999.0,1,     -999.0,9,          3,     -999.0,9,     -999.0,9,     -999.0,9,     -999.0,9
33RO20180423,        I7N,       1,          1,        104,      11103,2,20180428,       0220,   -30.0002,    54.4595,       4283,  3667.5,   1.2059,  34.7171,2,  34.7176,2,    174.5,2, 199.0620,2,    120.4,6,     32.1,6,     0.00,6,    2.278,6,   0.076,2,   0.038,2,   0.0183,2,  2266.7,2,  2375.1,6,   7.5983,2,    25.00, -999.00,9, -999.00,9, -999.00,-999.000,1,  -999.0,9,     -999.0,1,     -999.0,9,          4,     -999.0,9,     -999.0,9,     -999.0,9,     -999.0,9
33RO20180423,        I7N,       1,          1,        105,      11104,2,20180428,       0220,   -30.0002,    54.4595,       4283,  3525.8,   1.2661,  34.7194,2,  34.7247,2,    172.0,2, 196.1860,2,    120.4,2,     32.0,2,     0.00,2,    2.280,2,   0.059,2,   0.030,2,   0.0099,2,  2269.7,2,  2380.0,2,   7.5985,2,    25.00, -999.00,9, -999.00,9, -999.00,-999.000,1,  -999.0,9,     -999.0,1,     -999.0,9,          5,     -999.0,9,     -999.0,9,     -999.0,9,     -999.0,9
33RO20180423,        I7N,       1,          1,        106,      11105,2,20180428,       0220,   -30.0002,    54.4595,       4283,  3224.2,   1.5227,  34.7314,2,  34.7360,2,    169.0,2, 191.9780,2,    113.9,2,     31.6,2,     0.00,2,    2.249,2,   0.049,2,   0.024,2,        0,2,  2267.4,2,  2373.3,2,   7.6013,2,    25.00, -999.00,9, -999.00,9, -999.00,-999.000,1,    41.8,3,     -999.0,1,     -999.0,9,          6,     -999.0,9,     -999.0,9,     -999.0,9,     -999.0,9
33RO20180423,        I7N,       1,          1,        107,      11106,2,20180428,       0220,   -30.0002,    54.4595,       4283,  2925.3,   1.8652,  34.7462,2,  34.7493,2,    164.0,2,-999.0000,9,    106.8,2,     31.4,2,     0.00,2,    2.234,2,   0.025,2,   0.014,2,        0,2,  2266.3,2,  2373.1,2,   7.6035,2,    25.00, -999.00,9, -999.00,9, -999.00,-999.000,1,    45.0,3,     -999.0,1,     -999.0,9,          7,     -999.0,9,     -999.0,9,     -999.0,9,     -999.0,9
33RO20180423,        I7N,       1,          1,        108,      11107,2,20180428,       0220,   -30.0002,    54.4595,       4283,  2626.0,   2.1058,  34.7498,2,  34.7505,2,    163.4,2, 184.7185,2,     98.1,2,     31.0,2,     0.00,2,    2.223,2,   0.024,2,   0.012,2,        0,2,  2261.3,2,  2368.6,2,   7.6037,2,    25.00, -999.00,9, -999.00,9, -999.00,-999.000,1,  -999.0,9,     -999.0,1,     -999.0,9,          8,     -999.0,9,     -999.0,9,     -999.0,9,     -999.0,9
33RO20180423,        I7N,       1,          1,        109,      11108,2,20180428,       0220,   -30.0002,    54.4595,       4283,  2327.1,   2.2746,  34.7376,2,  34.7440,2,    163.5,2, 182.9890,2,     92.3,2,     31.0,2,     0.00,2,    2.212,2,   0.037,2,   0.019,2,        0,2,  2255.9,2,  2362.5,2,   7.6020,2,    25.00, -999.00,9, -999.00,9, -999.00,-999.000,1,    44.2,3,     -999.0,1,     -999.0,9,          9,     -999.0,9,     -999.0,9,     -999.0,9,     -999.0,9
33RO20180423,        I7N,       1,          1,        110,      11109,2,20180428,       0220,   -30.0002,    54.4595,       4283,  2025.1,   2.4495,  34.7043,2,-999.0000,9,    160.1,2,-999.0000,9,-999.0000,9,-999.0000,9,-999.0000,9,-999.0000,9,-999.000,9,-999.000,9,-999.0000,9,  -999.0,9,  -999.0,9,-999.0000,9,  -999.00, -999.00,9, -999.00,9, -999.00,-999.000,9,  -999.0,9,     -999.0,9,     -999.0,9,         10,     -999.0,9,     -999.0,9,     -999.0,9,     -999.0,9
33RO20180423,        I7N,       1,          1,        111,      11110,2,20180428,       0220,   -30.0002,    54.4595,       4283,  1738.5,   2.7592,  34.6303,2,  34.6568,2,    155.2,2, 171.8670,2,     80.7,2,     32.8,2,     0.00,2,    2.319,2,   0.177,2,   0.087,2,   0.0254,2,  2250.8,2,  2346.6,2,   7.5723,6,    25.00, -999.00,9, -999.00,9, -999.00,-999.000,1,  -999.0,9,     -999.0,1,     -999.0,9,         11,     -999.0,9,     -999.0,9,     -999.0,9,     -999.0,9
33RO20180423,        I7N,       1,          1,        112,      11111,2,20180428,       0220,   -30.0002,    54.4595,       4283,  1488.0,   3.2668,  34.5309,2,  34.5432,2,    154.6,2, 170.1790,2,     67.5,2,     33.4,2,     0.00,2,    2.362,2,   0.486,2,   0.238,2,   0.0669,2,  2241.7,6,  2330.4,2,   7.5638,2,    25.00, -999.00,9, -999.00,9, -999.00,-999.000,1,  -999.0,9,     -999.0,1,     -999.0,9,         12,     -999.0,9,     -999.0,9,     -999.0,9,     -999.0,9
33RO20180423,        I7N,       1,          1,        113,      11112,2,20180428,       0220,   -30.0002,    54.4595,       4283,  1250.2,   4.0443,  34.4334,2,  34.4363,2,    166.1,2, 181.5880,2,     50.4,2,     32.2,2,     0.00,2,    2.290,2,   1.140,2,   0.563,2,   0.2192,2,  2219.4,2,  2317.9,6,   7.5824,2,    25.00, -999.00,9, -999.00,9, -999.00,-999.000,1,    44.6,3,     -999.0,1,     -999.0,9,         13,     -999.0,9,     -999.0,9,     -999.0,9,     -999.0,9
33RO20180423,        I7N,       1,          1,        114,      11113,2,20180428,       0220,   -30.0002,    54.4595,       4283,  1050.5,   5.6759,  34.4164,2,  34.4190,6,    184.3,2, 200.0930,2,     27.9,2,     27.9,2,     0.00,2,    1.985,2,   2.309,2,   1.174,2,   0.6045,2,  2183.3,2,  2307.9,3,   7.6302,2,    25.00, -999.00,9, -999.00,9, -999.00,-999.000,1,    45.3,3,     -999.0,1,     -999.0,9,         14,     -999.0,9,     -999.0,9,     -999.0,9,     -999.0,9
33RO20180423,        I7N,       1,          1,        115,      11114,2,20180428,       0220,   -30.0002,    54.4595,       4283,   863.2,   7.9530,  34.5717,2,  34.5823,2,    192.5,2, 207.5380,2,     14.4,2,     21.8,2,     0.00,2,    1.594,2,   2.941,2,   1.567,2,   0.9031,2,  2156.3,2,  2295.8,2,   7.6907,2,    25.00, -999.00,9, -999.00,9, -999.00,-999.000,1,    50.5,3,     -999.0,1,     -999.0,9,         15,     -999.0,9,     -999.0,9,     -999.0,9,     -999.0,9
33RO20180423,        I7N,       1,          1,        116,      11115,2,20180428,       0220,   -30.0002,    54.4595,       4283,   713.8,   9.9225,  34.7767,2,  34.7861,2,    205.1,2, 220.3470,2,      7.0,2,     15.4,2,     0.00,2,    1.224,2,   3.290,2,   1.807,2,    1.308,2,  2135.9,2,  2297.7,2,   7.7529,2,    25.00, -999.00,9, -999.00,9, -999.00,-999.000,1,  -999.0,9,     -999.0,1,     -999.0,9,         16,     -999.0,9,     -999.0,9,     -999.0,9,     -999.0,9
33RO20180423,        I7N,       1,          1,        117,      11116,2,20180428,       0220,   -30.0002,    54.4595,       4283,   562.1,  11.3736,  34.9783,2,  34.9827,2,    215.6,2, 230.5060,2,      4.3,2,     10.8,2,     0.00,2,    0.942,2,   3.184,2,   1.835,2,   1.6601,2,  2126.0,2,  2304.8,2,   7.7985,2,    25.00, -999.00,9, -999.00,9, -999.00,-999.000,1,    49.4,3,     -999.0,1,     -999.0,9,         17,     -999.0,9,     -999.0,9,     -999.0,9,     -999.0,9
33RO20180423,        I7N,       1,          1,        118,      11117,2,20180428,       0220,   -30.0002,    54.4595,       4283,   413.5,  12.6250,  35.1689,2,  35.1717,2,    215.0,2, 228.8410,2,      3.7,2,      8.0,2,     0.00,2,    0.770,2,   2.953,2,   1.750,2,   1.7926,2,  2117.2,2,  2313.5,2,   7.8260,2,    25.00, -999.00,9, -999.00,9, -999.00,-999.000,1,    55.9,3,     -999.0,1,     -999.0,9,         18,     -999.0,9,     -999.0,9,     -999.0,9,     -999.0,9
33RO20180423,        I7N,       1,          1,        119,      11083,2,20180428,       0220,   -30.0002,    54.4595,       4283,   275.9,  13.6939,  35.3177,2,  35.3187,2,    213.2,2, 226.6140,2,      3.5,2,      5.9,2,     0.00,2,    0.641,2,   2.771,2,   1.653,2,   1.8449,2,  2112.0,2,  2323.1,2,   7.8517,2,    25.00, -999.00,9, -999.00,9, -999.00,-999.000,1,    55.6,3,     -999.0,1,     -999.0,9,         19,     -999.0,9,     -999.0,9,     -999.0,9,     -999.0,9
33RO20180423,        I7N,       1,          1,        120,      11118,2,20180428,       0220,   -30.0002,    54.4595,       4283,   188.1,  15.0634,  35.4522,2,  35.4573,2,    208.9,2, 220.9290,2,      2.4,2,      2.9,2,     0.01,2,    0.465,2,   2.627,2,   1.569,2,   1.8171,2,  2107.2,2,  2330.6,2,   7.8782,2,    25.00, -999.00,9, -999.00,9, -999.00,-999.000,1,    54.4,3,     -999.0,1,     -999.0,9,         20,     -999.0,9,     -999.0,9,     -999.0,9,     -999.0,9
33RO20180423,        I7N,       1,          1,        121,      11119,2,20180428,       0220,   -30.0002,    54.4595,       4283,   111.6,  17.4672,  35.6223,2,  35.6293,2,    216.0,2, 228.3380,2,      1.7,2,      0.0,2,     0.10,2,    0.215,2,   2.338,2,   1.428,2,   1.8027,2,  2081.0,2,  2343.2,2,   7.9410,2,    25.00, -999.00,9, -999.00,9, -999.00,-999.000,1,    62.6,3,     -999.0,1,     -999.0,9,         21,     -999.0,9,     -999.0,9,     -999.0,9,     -999.0,9
33RO20180423,        I7N,       1,          1,        122,      11120,2,20180428,       0220,   -30.0002,    54.4595,       4283,    87.6,  18.7679,  35.6810,2,  35.6810,2,    223.6,2, 235.4640,2,      1.6,2,      0.0,2,     0.00,2,    0.138,2,   2.250,2,   1.377,2,   1.7754,2,  2066.6,2,  2346.2,2,   7.9693,6,    25.00, -999.00,9, -999.00,9, -999.00,-999.000,1,    67.0,3,     -999.0,1,     -999.0,9,         22,     -999.0,9,     -999.0,9,     -999.0,9,     -999.0,9
33RO20180423,        I7N,       1,          1,        123,      11121,2,20180428,       0220,   -30.0002,    54.4595,       4283,    39.0,  22.9701,  35.6184,2,  35.6216,2,    204.3,2, 215.1470,2,      1.5,2,      0.0,2,     0.00,2,    0.061,2,   1.763,2,   1.104,2,   1.5916,2,  2034.1,2,  2333.8,6,   8.0215,2,    25.00, -999.00,9, -999.00,9, -999.00,-999.000,1,    74.2,3,     -999.0,1,     -999.0,9,         23,     -999.0,9,     -999.0,9,     -999.0,9,     -999.0,9