BOTTLE,20230801CCHSIOCBG
EXPOCODE,SECT_ID,STNNBR,CASTNO,SAMPNO,BTLNBR,BTLNBR_FLAG_W,DATE,TIME,LATITUDE,LONGITUDE,DEPTH,CTDPRS,CTDTMP,CTDSAL,CTDSAL_FLAG_W,SALNTY,SALNTY_FLAG_W,CTDOXY,CTDOXY_FLAG_W,OXYGEN,OXYGEN_FLAG_W,SILCAT,SILCAT_FLAG_W,NITRAT,NITRAT_FLAG_W,NITRIT,NITRIT_FLAG_W,PHSPHT,PHSPHT_FLAG_W,CFC-11,CFC-11_FLAG_W,CFC-12,CFC-12_FLAG_W,SF6,SF6_FLAG_W,TCARBN,TCARBN_FLAG_W,ALKALI,ALKALI_FLAG_W,PH_SWS,PH_SWS_FLAG_W,PH_TMP,DELC13,DELC13_FLAG_W,DELC14,DELC14_FLAG_W,C14ERR,CCL4,CCL4_FLAG_W,DOC,DOC_FLAG_W,N2O,N2O_FLAG_W,CALCIUM,CALCIUM_FLAG_W,SAMPNO_U,DNSSAL,DNSSAL_FLAG_W,DNSSAL2,DNSSAL2_FLAG_W,SALNTY_DNSSAL,SALNTY_DNSSAL_FLAG_W,SALNTY_DNSSAL2,SALNTY_DNSSAL2_FLAG_W
,,,,,,,,,,,METERS,DBAR,ITS-90,PSS-78,,PSS-78,,UMOL/KG,,UMOL/KG,,UMOL/KG,,UMOL/KG,,UMOL/KG,,UMOL/KG,,PMOL/KG,,PMOL/KG,,FMOL/KG,,UMOL/KG,,UMOL/KG,,,,DEG C,/MILLE,,/MILLE,,/MILLE,PMOL/KG,,UMOL/KG,,NMOL/KG,,MMOL/KG,,,G/KG,,G/KG,,PSS-78,,PSS-78,
33RO20180423,        I7N,      79,          1,        101,      11010,9,20180523,       0542,     0.9303,    57.2967,       4661,  4738.3,   1.3485,  34.7172,2,  34.7194,2,    159.2,2, 184.3420,2,    132.5,6,     33.7,6,     0.00,6,    2.349,6,   0.024,2,   0.010,2,   0.0046,2,  2289.4,2,  2402.6,2,   7.6032,6,    25.00, -999.00,9, -999.00,9, -999.00,-999.000,9,  -999.0,9,     -999.0,9,     -999.0,9,          1,     -999.0,9,     -999.0,9,     -999.0,9,     -999.0,9
33RO20180423,        I7N,      79,          1,        102,      11101,9,20180523,       0542,     0.9303,    57.2967,       4661,  4475.0,   1.3487,  34.7186,2,  34.7341,2,    157.9,2, 182.6105,2,    132.4,6,     33.8,6,     0.00,6,    2.353,6,-999.000,9,-999.000,9,-999.0000,9,  2288.6,2,  2400.3,6,   7.6044,2,    25.00, -999.00,9, -999.00,9, -999.00,-999.000,9,  -999.0,9,     -999.0,9,     -999.0,9,          2,     -999.0,9,     -999.0,9,     -999.0,9,     -999.0,9
33RO20180423,        I7N,      79,          1,        103,      11102,9,20180523,       0542,     0.9303,    57.2967,       4661,  4200.5,   1.3951,  34.7216,2,  34.7225,2,    154.5,2, 179.1230,2,    132.5,6,     34.0,6,     0.00,6,    2.375,6,   0.014,2,   0.006,2,        0,2,  2291.8,2,  2404.9,2,   7.5999,2,    25.00, -999.00,9, -999.00,9, -999.00,-999.000,9,  -999.0,9,     -999.0,9,     -999.0,9,          3,     -999.0,9,     -999.0,9,     -999.0,9,     -999.0,9
33RO20180423,        I7N,      79,          1,        104,      11103,9,20180523,       0542,     0.9303,    57.2967,       4661,  3899.2,   1.4854,  34.7258,2,  34.7272,2,    150.1,2, 173.1590,2,    132.5,6,     34.2,6,     0.00,6,    2.394,6,-999.000,9,-999.000,9,-999.0000,9,  -999.0,9,  -999.0,9,   7.5944,2,    25.00, -999.00,9, -999.00,9, -999.00,-999.000,9,  -999.0,9,     -999.0,9,     -999.0,9,          4,     -999.0,9,     -999.0,9,     -999.0,9,     -999.0,9
33RO20180423,        I7N,      79,          1,        105,      11104,9,20180523,       0542,     0.9303,    57.2967,       4661,  3600.1,   1.5684,  34.7294,2,  34.7313,2,    146.5,2, 169.7630,2,    132.1,2,     34.4,2,     0.00,2,    2.401,2,   0.007,2,   0.004,2,        0,2,  -999.0,9,  -999.0,9,   7.5921,2,    25.00, -999.00,9, -999.00,9, -999.00,-999.000,9,  -999.0,9,     -999.0,9,     -999.0,9,          5,     -999.0,9,     -999.0,9,     -999.0,9,     -999.0,9
33RO20180423,        I7N,      79,          1,        106,      11105,9,20180523,       0542,     0.9303,    57.2967,       4661,  3299.6,   1.6628,  34.7335,2,  34.7401,2,    142.7,2, 164.2940,2,    131.4,2,     34.5,2,     0.00,2,    2.427,2,-999.000,9,-999.000,9,-999.0000,9,  2301.3,2,  2412.4,2,   7.5875,2,    25.00, -999.00,9, -999.00,9, -999.00,-999.000,9,  -999.0,9,     -999.0,9,     -999.0,9,          6,     -999.0,9,     -999.0,9,     -999.0,9,     -999.0,9
33RO20180423,        I7N,      79,          1,        107,      11106,9,20180523,       0542,     0.9303,    57.2967,       4661,  2999.5,   1.8516,  34.7421,2,  34.7447,2,    135.8,2, 155.9120,2,    131.3,2,     34.9,2,     0.00,2,    2.467,2,-999.000,9,-999.000,9,-999.0000,9,  -999.0,9,  2412.1,2,   7.5783,2,    25.00, -999.00,9, -999.00,9, -999.00,-999.000,9,  -999.0,9,     -999.0,9,     -999.0,9,          7,     -999.0,9,     -999.0,9,     -999.0,9,     -999.0,9
33RO20180423,        I7N,      79,          1,        108,      11107,9,20180523,       0542,     0.9303,    57.2967,       4661,  2700.1,   2.0149,  34.7498,2,  34.7516,2,    130.8,2, 149.6380,2,    130.2,2,     35.1,2,     0.00,2,    2.484,2,   0.001,2,   0.001,2,        0,2,  -999.0,9,  -999.0,9,   7.5708,2,    25.00, -999.00,9, -999.00,9, -999.00,-999.000,9,  -999.0,9,     -999.0,9,     -999.0,9,          8,     -999.0,9,     -999.0,9,     -999.0,9,     -999.0,9
33RO20180423,        I7N,      79,          1,        109,      11108,9,20180523,       0542,     0.9303,    57.2967,       4661,  2399.2,   2.3603,  34.7638,2,  34.7850,2,    122.1,2, 138.7090,2,    126.4,2,     35.5,2,     0.00,2,    2.537,2,-999.000,9,-999.000,9,-999.0000,9,  2308.1,2,  2408.8,2,   7.5593,2,    25.00, -999.00,9, -999.00,9, -999.00,-999.000,9,  -999.0,9,     -999.0,9,     -999.0,9,          9,     -999.0,9,     -999.0,9,     -999.0,9,     -999.0,9
33RO20180423,        I7N,      79,          1,        110,      11109,9,20180523,       0542,     0.9303,    57.2967,       4661,  2099.7,   2.7378,  34.7804,2,  34.7855,2,    113.6,2, 128.6830,2,    122.0,2,     35.8,2,     0.00,2,    2.585,2,-999.000,9,-999.000,9,-999.0000,9,  -999.0,9,  -999.0,9,   7.5453,2,    25.00, -999.00,9, -999.00,9, -999.00,-999.000,9,  -999.0,9,     -999.0,9,     -999.0,9,         10,     -999.0,9,     -999.0,9,     -999.0,9,     -999.0,9
33RO20180423,        I7N,      79,          1,        111,      11110,9,20180523,       0542,     0.9303,    57.2967,       4661,  1800.3,   3.4894,  34.8081,2,  34.8118,2,     99.5,2, 112.2920,2,    112.4,2,     36.3,2,     0.00,2,    2.628,2,   0.008,6,   0.006,6,   0.0069,6,  2306.8,2,  2392.5,2,   7.5279,2,    25.00, -999.00,9, -999.00,9, -999.00,-999.000,9,  -999.0,9,     -999.0,9,     -999.0,9,         11,     -999.0,9,     -999.0,9,     -999.0,9,     -999.0,9
33RO20180423,        I7N,      79,          1,        112,      11111,9,20180523,       0542,     0.9303,    57.2967,       4661,  1547.9,   4.2609,  34.8473,2,  34.8537,2,     83.6,2,  93.3745,2,    105.6,2,     36.8,2,     0.00,2,    2.694,2,-999.000,9,-999.000,9,-999.0000,9,  -999.0,9,  -999.0,9,   7.5069,6,    25.00, -999.00,9, -999.00,9, -999.00,-999.000,9,  -999.0,9,     -999.0,9,     -999.0,9,         12,     -999.0,9,     -999.0,9,     -999.0,9,     -999.0,9
33RO20180423,        I7N,      79,          1,        113,      11112,9,20180523,       0542,     0.9303,    57.2967,       4661,  1300.5,   5.2267,  34.8876,2,  34.8900,2,     66.5,2,  74.1950,2,     96.7,2,     37.3,2,     0.00,2,    2.745,2,-999.000,9,-999.000,9,-999.0000,9,  2305.7,2,  2377.4,2,   7.4883,2,    25.00, -999.00,9, -999.00,9, -999.00,-999.000,9,  -999.0,9,     -999.0,9,     -999.0,9,         13,     -999.0,9,     -999.0,9,     -999.0,9,     -999.0,9
33RO20180423,        I7N,      79,          1,        114,      11113,9,20180523,       0542,     0.9303,    57.2967,       4661,  1100.9,   6.1361,  34.9333,2,  34.9371,2,     53.2,2,  59.6420,2,     88.3,2,     37.4,2,     0.00,2,    2.773,2,   0.035,2,   0.021,2,        0,2,  2302.4,2,  2370.1,2,   7.4772,2,    25.00, -999.00,9, -999.00,9, -999.00,-999.000,9,  -999.0,9,     -999.0,9,     -999.0,9,         14,     -999.0,9,     -999.0,9,     -999.0,9,     -999.0,9
33RO20180423,        I7N,      79,          1,        115,      11114,9,20180523,       0542,     0.9303,    57.2967,       4661,   892.2,   7.7908,  35.0801,2,  35.0805,2,     38.9,2,  43.7540,2,     71.9,2,     36.6,2,     0.00,2,    2.729,2,   0.134,2,   0.077,2,   0.0081,2,  2288.8,2,  2360.1,2,   7.4753,2,    25.00, -999.00,9, -999.00,9, -999.00,-999.000,9,  -999.0,9,     -999.0,9,     -999.0,9,         15,     -999.0,9,     -999.0,9,     -999.0,9,     -999.0,9
33RO20180423,        I7N,      79,          1,        116,      11115,9,20180523,       0542,     0.9303,    57.2967,       4661,   749.8,   8.3736,  35.0670,2,  35.0695,2,     39.8,2,  44.9760,2,     63.2,2,     35.7,2,     0.00,2,    2.663,2,-999.000,9,-999.000,9,-999.0000,9,  2277.2,2,  2354.6,2,   7.4806,2,    25.00, -999.00,9, -999.00,9, -999.00,-999.000,9,  -999.0,9,     -999.0,9,     -999.0,9,         16,     -999.0,9,     -999.0,9,     -999.0,9,     -999.0,9
33RO20180423,        I7N,      79,          1,        117,      11116,9,20180523,       0542,     0.9303,    57.2967,       4661,   597.2,   9.4291,  35.0596,2,  35.0744,2,     52.5,2,  57.7120,2,     45.9,2,     33.1,2,     0.00,2,    2.435,2,-999.000,9,-999.000,9,-999.0000,9,  2250.8,2,  2333.7,2,   7.5085,2,    25.00, -999.00,9, -999.00,9, -999.00,-999.000,9,  -999.0,9,     -999.0,9,     -999.0,9,         17,     -999.0,9,     -999.0,9,     -999.0,9,     -999.0,9
33RO20180423,        I7N,      79,          1,        118,      11117,9,20180523,       0542,     0.9303,    57.2967,       4661,   440.0,  10.2677,  34.9900,2,  34.9941,2,     89.5,2,  98.4190,2,     28.8,2,     28.2,2,     0.00,2,    1.995,2,-999.000,9,-999.000,9,-999.0000,9,  2253.5,4,  -999.0,9,   7.5811,2,    25.00, -999.00,9, -999.00,9, -999.00,-999.000,9,  -999.0,9,     -999.0,9,     -999.0,9,         18,     -999.0,9,     -999.0,9,     -999.0,9,     -999.0,9
33RO20180423,        I7N,      79,          1,        119,      11083,9,20180523,       0542,     0.9303,    57.2967,       4661,   300.8,  11.6162,  35.0330,2,  35.0330,2,    112.1,2, 120.5240,2,     19.1,2,     23.1,2,     0.00,2,    1.633,2,   2.173,2,   1.199,2,   0.7318,2,  2186.7,2,  2311.9,2,   7.6473,2,    25.00, -999.00,9, -999.00,9, -999.00,-999.000,9,  -999.0,9,     -999.0,9,     -999.0,9,         19,     -999.0,9,     -999.0,9,     -999.0,9,     -999.0,9
33RO20180423,        I7N,      79,          1,        120,      11118,9,20180523,       0542,     0.9303,    57.2967,       4661,   200.5,  13.8269,  35.1743,2,  35.1752,2,    103.2,2, 110.8160,2,     16.5,2,     20.5,2,     0.00,2,    1.502,2,   2.135,2,   1.224,2,   0.9255,2,  2178.2,2,  2315.7,2,   7.6775,2,    25.00, -999.00,9, -999.00,9, -999.00,-999.000,9,  -999.0,9,     -999.0,9,     -999.0,9,         20,     -999.0,9,     -999.0,9,     -999.0,9,     -999.0,9
33RO20180423,        I7N,      79,          1,        121,      11119,9,20180523,       0542,     0.9303,    57.2967,       4661,   148.3,  15.9514,  35.2335,2,  35.2306,2,     85.1,2,  92.1270,2,     15.5,2,     20.4,2,     0.00,2,    1.475,2,   1.983,2,   1.162,2,   0.8885,2,  2172.0,2,  2316.4,2,   7.6889,2,    25.00, -999.00,9, -999.00,9, -999.00,-999.000,9,  -999.0,9,     -999.0,9,     -999.0,9,         21,     -999.0,9,     -999.0,9,     -999.0,9,     -999.0,9
33RO20180423,        I7N,      79,          1,        122,      11120,9,20180523,       0542,     0.9303,    57.2967,       4661,   100.2,  21.0580,  35.5315,2,  35.5310,2,    118.3,2, 124.3310,2,      9.5,2,     13.0,2,     0.07,2,    1.030,2,-999.000,9,-999.000,9,-999.0000,9,  2117.5,2,  2330.4,2,   7.8408,2,    25.00, -999.00,9, -999.00,9, -999.00,-999.000,9,  -999.0,9,     -999.0,9,     -999.0,9,         22,     -999.0,9,     -999.0,9,     -999.0,9,     -999.0,9
33RO20180423,        I7N,      79,          1,        123,      11121,9,20180523,       0542,     0.9303,    57.2967,       4661,    49.5,  29.5381,  35.3167,2,  35.3241,2,    190.7,2, 198.6090,2,      1.7,2,      0.0,2,     0.00,2,    0.181,2,   1.430,2,   0.914,2,    1.336,2,  1987.5,2,  2318.7,6,   8.0662,2,    25.00, -999.00,9, -999.00,9, -999.00,-999.000,9,  -999.0,9,     -999.0,9,     -999.0,9,         23,     -999.0,9,     -999.0,9,     -999.0,9,     -999.0,9
33RO20180423,        I7N,      79,          1,        124,      11122,9,20180523,       0542,     0.9303,    57.2967,       4661,     3.5,  29.7983,  34.9103,2,  34.9127,2,    184.4,2, 192.1510,2,      1.5,2,      0.0,2,     0.00,2,    0.126,2,-999.000,9,-999.000,9,-999.0000,9,  1954.6,6,  2294.5,2,   8.0892,6,    25.00, -999.00,9, -999.00,9, -999.00,-999.000,9,  -999.0,9,     -999.0,9,     -999.0,9,         24,     -999.0,9,     -999.0,9,     -999.0,9,     -999.0,9