BOTTLE,20230801CCHSIOCBG
EXPOCODE,SECT_ID,STNNBR,CASTNO,SAMPNO,BTLNBR,BTLNBR_FLAG_W,DATE,TIME,LATITUDE,LONGITUDE,DEPTH,CTDPRS,CTDTMP,CTDSAL,CTDSAL_FLAG_W,SALNTY,SALNTY_FLAG_W,CTDOXY,CTDOXY_FLAG_W,OXYGEN,OXYGEN_FLAG_W,SILCAT,SILCAT_FLAG_W,NITRAT,NITRAT_FLAG_W,NITRIT,NITRIT_FLAG_W,PHSPHT,PHSPHT_FLAG_W,CFC-11,CFC-11_FLAG_W,CFC-12,CFC-12_FLAG_W,SF6,SF6_FLAG_W,TCARBN,TCARBN_FLAG_W,ALKALI,ALKALI_FLAG_W,PH_SWS,PH_SWS_FLAG_W,PH_TMP,DELC13,DELC13_FLAG_W,DELC14,DELC14_FLAG_W,C14ERR,CCL4,CCL4_FLAG_W,DOC,DOC_FLAG_W,N2O,N2O_FLAG_W,CALCIUM,CALCIUM_FLAG_W,SAMPNO_U,DNSSAL,DNSSAL_FLAG_W,DNSSAL2,DNSSAL2_FLAG_W,SALNTY_DNSSAL,SALNTY_DNSSAL_FLAG_W,SALNTY_DNSSAL2,SALNTY_DNSSAL2_FLAG_W
,,,,,,,,,,,METERS,DBAR,ITS-90,PSS-78,,PSS-78,,UMOL/KG,,UMOL/KG,,UMOL/KG,,UMOL/KG,,UMOL/KG,,UMOL/KG,,PMOL/KG,,PMOL/KG,,FMOL/KG,,UMOL/KG,,UMOL/KG,,,,DEG C,/MILLE,,/MILLE,,/MILLE,PMOL/KG,,UMOL/KG,,NMOL/KG,,MMOL/KG,,,G/KG,,G/KG,,PSS-78,,PSS-78,
33RO20180423,        I7N,      70,          1,        101,      11010,2,20180520,       2054,    -2.2910,    56.7873,       4411,  4482.8,   1.3524,  34.7185,2,  34.7231,2,    159.2,2,-999.0000,9,    132.7,6,     33.8,6,     0.00,6,    2.358,6,   0.017,2,   0.010,2,    0.009,2,  2294.8,6,  2401.8,2,   7.6039,6,    25.00, -999.00,9, -999.00,9, -999.00,-999.000,1,  -999.0,9,     -999.0,1,     -999.0,9,          1,     -999.0,9,     -999.0,9,     -999.0,9,     -999.0,9
33RO20180423,        I7N,      70,          1,        102,      11101,2,20180520,       2054,    -2.2910,    56.7873,       4411,  4197.5,   1.4371,  34.7227,2,  34.7475,2,    154.3,2, 177.1130,2,    133.0,6,     34.1,6,     0.00,6,    2.381,6,   0.009,2,   0.005,2,   0.0044,2,  2295.5,2,  2403.0,6,   7.5985,2,    25.00, -999.00,9, -999.00,9, -999.00,-999.000,1,  -999.0,9,     -999.0,1,     -999.0,9,          2,     -999.0,9,     -999.0,9,     -999.0,9,     -999.0,9
33RO20180423,        I7N,      70,          1,        103,      11102,2,20180520,       2054,    -2.2910,    56.7873,       4411,  3898.0,   1.5202,  34.7263,2,  34.7298,2,    150.2,2, 172.7120,2,    132.9,6,     34.3,6,     0.00,6,    2.411,6,   0.004,2,   0.002,2,        0,2,  2298.4,2,  2405.1,2,   7.5950,2,    25.00, -999.00,9, -999.00,9, -999.00,-999.000,1,  -999.0,9,     -999.0,1,     -999.0,9,          3,     -999.0,9,     -999.0,9,     -999.0,9,     -999.0,9
33RO20180423,        I7N,      70,          1,        104,      11103,2,20180520,       2054,    -2.2910,    56.7873,       4411,  3600.2,   1.6085,  34.7294,2,  34.7312,2,    147.0,2, 169.0280,2,    131.5,6,     34.4,6,     0.00,6,    2.409,6,   0.003,2,   0.002,2,   0.0057,2,  2299.1,2,  2403.6,2,   7.5924,2,    25.00, -999.00,9, -999.00,9, -999.00,-999.000,1,  -999.0,9,     -999.0,1,     -999.0,9,          4,     -999.0,9,     -999.0,9,     -999.0,9,     -999.0,9
33RO20180423,        I7N,      70,          1,        105,      11104,2,20180520,       2054,    -2.2910,    56.7873,       4411,  3300.9,   1.6896,  34.7316,2,  34.7349,2,    145.2,2, 166.3110,2,    129.8,2,     34.4,2,     0.00,2,    2.424,2,   0.003,2,   0.003,2,   0.0053,2,  2301.5,2,  2405.1,2,   7.5883,2,    25.00, -999.00,9, -999.00,9, -999.00,-999.000,1,  -999.0,9,     -999.0,1,     -999.0,9,          5,     -999.0,9,     -999.0,9,     -999.0,9,     -999.0,9
33RO20180423,        I7N,      70,          1,        106,      11105,2,20180520,       2054,    -2.2910,    56.7873,       4411,  2999.7,   1.7598,  34.7326,2,  34.7659,2,    144.9,2, 165.5170,2,    126.9,2,     34.2,2,     0.00,2,    2.406,2,   0.002,2,   0.001,2,   0.0064,2,  2300.5,2,  2399.6,2,   7.5876,2,    25.00, -999.00,9, -999.00,9, -999.00,-999.000,1,  -999.0,9,     -999.0,1,     -999.0,9,          6,     -999.0,9,     -999.0,9,     -999.0,9,     -999.0,9
33RO20180423,        I7N,      70,          1,        107,      11106,2,20180520,       2054,    -2.2910,    56.7873,       4411,  2700.8,   1.9253,  34.7432,2,  34.7468,2,    136.4,2, 155.0620,2,    128.6,2,     34.8,2,     0.00,2,    2.461,2,   0.001,2,   0.001,2,   0.0063,2,  2306.6,2,  2404.5,2,   7.5778,2,    25.00, -999.00,9, -999.00,9, -999.00,-999.000,1,  -999.0,9,     -999.0,1,     -999.0,9,          7,     -999.0,9,     -999.0,9,     -999.0,9,     -999.0,9
33RO20180423,        I7N,      70,          1,        108,      11107,2,20180520,       2054,    -2.2910,    56.7873,       4411,  2400.5,   2.1533,  34.7482,2,  34.7524,2,    132.7,2, 150.5480,2,    124.4,2,     34.9,2,     0.00,2,    2.473,2,   0.002,2,   0.002,2,   0.0099,2,  2301.5,2,  2400.5,2,   7.5712,2,    25.00, -999.00,9, -999.00,9, -999.00,-999.000,1,  -999.0,9,     -999.0,1,     -999.0,9,          8,     -999.0,9,     -999.0,9,     -999.0,9,     -999.0,9
33RO20180423,        I7N,      70,          1,        109,      11108,2,20180520,       2054,    -2.2910,    56.7873,       4411,  2100.0,   2.5739,  34.7636,2,  34.7664,6,    122.2,2, 137.4520,2,    120.5,2,     35.4,2,     0.00,2,    2.529,2,   0.003,2,   0.002,2,   0.0121,2,  2307.9,2,  2396.9,2,   7.5572,2,    25.00, -999.00,9, -999.00,9, -999.00,-999.000,1,  -999.0,9,     -999.0,1,     -999.0,9,          9,     -999.0,9,     -999.0,9,     -999.0,9,     -999.0,9
33RO20180423,        I7N,      70,          1,        110,      11109,2,20180520,       2054,    -2.2910,    56.7873,       4411,  1800.3,   3.1422,  34.7732,2,  34.7747,2,    111.3,2, 124.3750,2,    113.7,2,     35.8,2,     0.00,2,    2.579,2,   0.005,2,   0.004,2,        0,2,  2305.3,2,  2390.3,2,   7.5412,2,    25.00, -999.00,9, -999.00,9, -999.00,-999.000,1,  -999.0,9,     -999.0,1,     -999.0,9,         10,     -999.0,9,     -999.0,9,     -999.0,9,     -999.0,9
33RO20180423,        I7N,      70,          1,        111,      11110,2,20180520,       2054,    -2.2910,    56.7873,       4411,  1549.9,   4.0008,  34.8011,2,  34.8042,2,     94.2,2, 104.6620,2,    104.5,2,     36.3,2,     0.00,2,    2.635,2,   0.012,2,   0.008,2,   0.0032,2,  2302.0,2,  2383.2,2,   7.5203,2,    25.00, -999.00,9, -999.00,9, -999.00,-999.000,1,  -999.0,9,     -999.0,1,     -999.0,9,         11,     -999.0,9,     -999.0,9,     -999.0,9,     -999.0,9
33RO20180423,        I7N,      70,          1,        112,      11111,2,20180520,       2054,    -2.2910,    56.7873,       4411,  1300.6,   5.4409,  34.8889,2,  34.8893,2,     67.0,2,  74.9150,2,     93.5,2,     37.1,2,     0.00,2,    2.729,2,   0.032,2,   0.019,2,   0.0079,2,  2304.0,2,  2372.3,2,   7.4921,2,    25.00, -999.00,9, -999.00,9, -999.00,-999.000,1,  -999.0,9,     -999.0,1,     -999.0,9,         12,     -999.0,9,     -999.0,9,     -999.0,9,     -999.0,9
33RO20180423,        I7N,      70,          1,        113,      11112,2,20180520,       2054,    -2.2910,    56.7873,       4411,  1100.5,   6.1932,  34.9320,2,  34.9354,2,     55.9,2,  61.5160,2,     86.7,2,     37.1,2,     0.00,2,    2.750,2,   0.050,2,   0.028,2,   0.0038,2,  2303.1,2,  2366.5,6,   7.4815,2,    25.00, -999.00,9, -999.00,9, -999.00,-999.000,1,  -999.0,9,     -999.0,1,     -999.0,9,         13,     -999.0,9,     -999.0,9,     -999.0,9,     -999.0,9
33RO20180423,        I7N,      70,          1,        114,      11113,2,20180520,       2054,    -2.2910,    56.7873,       4411,   899.4,   6.9828,  34.9328,2,  34.9838,2,     54.9,2,  60.5030,2,     75.5,2,     36.4,2,     0.00,2,    2.685,2,   0.140,6,   0.076,6,   0.0027,6,  2300.0,2,  2353.8,2,   7.4869,6,    25.00, -999.00,9, -999.00,9, -999.00,-999.000,1,  -999.0,9,     -999.0,1,     -999.0,9,         14,     -999.0,9,     -999.0,9,     -999.0,9,     -999.0,9
33RO20180423,        I7N,      70,          1,        115,      11114,2,20180520,       2054,    -2.2910,    56.7873,       4411,   751.4,   8.2225,  35.0318,2,  35.0336,2,     43.6,2,  48.0470,2,     63.4,2,     35.7,2,     0.00,2,    2.629,2,   0.248,2,   0.136,2,   0.0576,2,  2280.2,6,  2345.6,2,   7.4838,2,    25.00, -999.00,9, -999.00,9, -999.00,-999.000,1,  -999.0,9,     -999.0,1,     -999.0,9,         15,     -999.0,9,     -999.0,9,     -999.0,9,     -999.0,9
33RO20180423,        I7N,      70,          1,        116,      11115,2,20180520,       2054,    -2.2910,    56.7873,       4411,   600.3,   9.1506,  35.0079,2,  35.0125,2,     62.4,2,  67.8490,2,     45.9,2,     32.6,2,     0.00,2,    2.383,2,   0.743,2,   0.406,2,   0.2169,2,  2249.0,2,  2329.2,2,   7.5222,2,    25.00, -999.00,9, -999.00,9, -999.00,-999.000,1,  -999.0,9,     -999.0,1,     -999.0,9,         16,     -999.0,9,     -999.0,9,     -999.0,9,     -999.0,9
33RO20180423,        I7N,      70,          1,        117,      11116,2,20180520,       2054,    -2.2910,    56.7873,       4411,   445.8,   9.5665,  34.8646,2,  34.8708,2,    115.2,2, 122.4400,2,     28.1,2,     27.0,2,     0.00,2,    1.897,2,   1.788,2,   0.948,2,   0.5418,2,  2202.5,2,  2312.2,2,   7.6086,2,    25.00, -999.00,9, -999.00,9, -999.00,-999.000,1,  -999.0,9,     -999.0,1,     -999.0,9,         17,     -999.0,9,     -999.0,9,     -999.0,9,     -999.0,9
33RO20180423,        I7N,      70,          1,        118,      11117,2,20180520,       2054,    -2.2910,    56.7873,       4411,   355.3,  11.1794,  35.0088,2,  35.0123,2,    100.2,2, 107.1770,2,     22.0,2,     25.3,2,     0.00,2,    1.761,2,   1.938,2,   1.076,2,   0.5959,2,  2197.5,2,  2313.0,2,   7.6167,2,    25.00, -999.00,9, -999.00,9, -999.00,-999.000,1,  -999.0,9,     -999.0,1,     -999.0,9,         18,     -999.0,9,     -999.0,9,     -999.0,9,     -999.0,9
33RO20180423,        I7N,      70,          1,        119,      11083,2,20180520,       2054,    -2.2910,    56.7873,       4411,   275.6,  12.4710,  35.0830,2,  35.0857,2,    100.8,2, 108.2760,2,     18.6,2,     22.8,2,     0.01,2,    1.608,2,   2.087,2,   1.169,2,   0.7775,2,  2189.0,2,  2312.8,2,   7.6471,2,    25.00, -999.00,9, -999.00,9, -999.00,-999.000,1,  -999.0,9,     -999.0,1,     -999.0,9,         19,     -999.0,9,     -999.0,9,     -999.0,9,     -999.0,9
33RO20180423,        I7N,      70,          1,        120,      11118,2,20180520,       2054,    -2.2910,    56.7873,       4411,   200.8,  13.8848,  35.1654,2,  35.1667,2,    103.0,2, 109.6060,2,     16.2,2,     20.5,2,     0.01,2,    1.462,2,   2.128,6,   1.221,6,    0.902,6,  2176.9,2,  2314.0,2,   7.6817,2,    25.00, -999.00,9, -999.00,9, -999.00,-999.000,1,  -999.0,9,     -999.0,1,     -999.0,9,         20,     -999.0,9,     -999.0,9,     -999.0,9,     -999.0,9
33RO20180423,        I7N,      70,          1,        121,      11119,2,20180520,       2054,    -2.2910,    56.7873,       4411,   150.7,  15.7330,  35.2336,2,  35.2350,2,     85.6,2,  90.5310,2,     15.2,2,     20.5,2,     0.01,2,    1.472,2,   1.986,2,   1.164,2,   0.9228,2,  2175.8,2,  2313.2,2,   7.6869,2,    25.00, -999.00,9, -999.00,9, -999.00,-999.000,1,  -999.0,9,     -999.0,1,     -999.0,9,         21,     -999.0,9,     -999.0,9,     -999.0,9,     -999.0,9
33RO20180423,        I7N,      70,          1,        122,      11120,2,20180520,       2054,    -2.2910,    56.7873,       4411,   100.2,  19.7688,  35.4373,2,  35.4305,2,    110.4,2, 115.3940,2,     11.0,2,     14.8,2,     0.08,2,    1.135,2,   1.817,2,   1.093,2,    1.088,2,  2131.8,2,  2322.3,2,   7.8062,2,    25.00, -999.00,9, -999.00,9, -999.00,-999.000,1,  -999.0,9,     -999.0,1,     -999.0,9,         22,     -999.0,9,     -999.0,9,     -999.0,9,     -999.0,9
33RO20180423,        I7N,      70,          1,        123,      11121,2,20180520,       2054,    -2.2910,    56.7873,       4411,    49.5,  28.2020,  35.3891,2,  35.3635,2,    186.6,2, 195.2640,2,      1.8,2,      0.1,2,     0.02,2,    0.205,2,   1.482,2,   0.942,2,   1.3421,2,  2002.6,2,  2315.2,6,   8.0473,2,    25.00, -999.00,9, -999.00,9, -999.00,-999.000,1,  -999.0,9,     -999.0,1,     -999.0,9,         23,     -999.0,9,     -999.0,9,     -999.0,9,     -999.0,9
33RO20180423,        I7N,      70,          1,        124,      11122,2,20180520,       2054,    -2.2910,    56.7873,       4411,     3.5,  29.3397,  35.3152,2,  35.3170,2,    186.7,2, 194.7960,2,      1.7,2,      0.0,2,     0.00,2,    0.157,2,   1.411,2,   0.901,2,   1.2932,2,  1986.4,6,  -999.0,9,   8.0675,6,    25.00, -999.00,9, -999.00,9, -999.00,-999.000,1,  -999.0,9,     -999.0,1,     -999.0,9,         24,     -999.0,9,     -999.0,9,     -999.0,9,     -999.0,9