BOTTLE,20230801CCHSIOCBG
EXPOCODE,SECT_ID,STNNBR,CASTNO,SAMPNO,BTLNBR,BTLNBR_FLAG_W,DATE,TIME,LATITUDE,LONGITUDE,DEPTH,CTDPRS,CTDTMP,CTDSAL,CTDSAL_FLAG_W,SALNTY,SALNTY_FLAG_W,CTDOXY,CTDOXY_FLAG_W,OXYGEN,OXYGEN_FLAG_W,SILCAT,SILCAT_FLAG_W,NITRAT,NITRAT_FLAG_W,NITRIT,NITRIT_FLAG_W,PHSPHT,PHSPHT_FLAG_W,CFC-11,CFC-11_FLAG_W,CFC-12,CFC-12_FLAG_W,SF6,SF6_FLAG_W,TCARBN,TCARBN_FLAG_W,ALKALI,ALKALI_FLAG_W,PH_SWS,PH_SWS_FLAG_W,PH_TMP,DELC13,DELC13_FLAG_W,DELC14,DELC14_FLAG_W,C14ERR,CCL4,CCL4_FLAG_W,DOC,DOC_FLAG_W,N2O,N2O_FLAG_W,CALCIUM,CALCIUM_FLAG_W,SAMPNO_U,DNSSAL,DNSSAL_FLAG_W,DNSSAL2,DNSSAL2_FLAG_W,SALNTY_DNSSAL,SALNTY_DNSSAL_FLAG_W,SALNTY_DNSSAL2,SALNTY_DNSSAL2_FLAG_W
,,,,,,,,,,,METERS,DBAR,ITS-90,PSS-78,,PSS-78,,UMOL/KG,,UMOL/KG,,UMOL/KG,,UMOL/KG,,UMOL/KG,,UMOL/KG,,PMOL/KG,,PMOL/KG,,FMOL/KG,,UMOL/KG,,UMOL/KG,,,,DEG C,/MILLE,,/MILLE,,/MILLE,PMOL/KG,,UMOL/KG,,NMOL/KG,,MMOL/KG,,,G/KG,,G/KG,,PSS-78,,PSS-78,
33RO20180423,        I7N,      71,          1,        101,      11010,2,20180521,       0325,    -1.7712,    57.2210,       4447,  4519.7,   1.3485,  34.7182,2,  34.7187,2,    159.4,2, 183.2070,2,    132.7,6,     33.8,6,     0.00,6,    2.346,6,   0.019,2,   0.011,2,   0.0078,2,  2292.9,6,  2401.9,2,   7.6030,6,    25.00, -999.00,9, -999.00,9, -999.00,-999.000,1,  -999.0,9,     -999.0,1,     -999.0,9,          1,     -999.0,9,     -999.0,9,     -999.0,9,     -999.0,9
33RO20180423,        I7N,      71,          1,        102,      11101,2,20180521,       0325,    -1.7712,    57.2210,       4447,  4259.4,   1.4040,  34.7213,2,  34.7240,2,    155.9,2, 179.3130,2,    132.5,6,     34.0,6,     0.00,6,    2.361,6,-999.000,9,-999.000,9,-999.0000,9,  2292.8,2,  2403.6,6,   7.6035,2,    25.00, -999.00,9, -999.00,9, -999.00,-999.000,9,    36.4,3,     -999.0,9,     -999.0,9,          2,     -999.0,9,     -999.0,9,     -999.0,9,     -999.0,9
33RO20180423,        I7N,      71,          1,        103,      11102,2,20180521,       0325,    -1.7712,    57.2210,       4447,  4000.1,   1.4751,  34.7245,2,  34.7369,2,    151.9,2, 174.7170,2,    133.1,6,     34.2,6,     0.00,6,    2.384,6,   0.007,2,   0.005,2,        0,2,  2295.9,2,  2406.1,2,   7.6001,2,    25.00, -999.00,9, -999.00,9, -999.00,-999.000,1,  -999.0,9,     -999.0,1,     -999.0,9,          3,     -999.0,9,     -999.0,9,     -999.0,9,     -999.0,9
33RO20180423,        I7N,      71,          1,        104,      11103,2,20180521,       0325,    -1.7712,    57.2210,       4447,  3699.6,   1.5673,  34.7280,2,  34.7346,2,    148.1,2, 169.9620,2,    132.2,6,     34.3,6,     0.00,6,    2.386,6,-999.000,9,-999.000,9,-999.0000,9,  2300.1,2,  2405.5,2,   7.5938,2,    25.00, -999.00,9, -999.00,9, -999.00,-999.000,9,  -999.0,9,     -999.0,9,     -999.0,9,          4,     -999.0,9,     -999.0,9,     -999.0,9,     -999.0,9
33RO20180423,        I7N,      71,          1,        105,      11104,2,20180521,       0325,    -1.7712,    57.2210,       4447,  3400.3,   1.6697,  34.7308,2,  34.7566,2,    145.6,2, 166.5720,2,    130.0,2,     34.2,2,     0.00,2,    2.382,2,-999.000,9,-999.000,9,-999.0000,9,  2300.9,2,  2406.0,2,   7.5917,2,    25.00, -999.00,9, -999.00,9, -999.00,-999.000,9,    39.1,3,     -999.0,9,     -999.0,9,          5,     -999.0,9,     -999.0,9,     -999.0,9,     -999.0,9
33RO20180423,        I7N,      71,          1,        106,      11105,2,20180521,       0325,    -1.7712,    57.2210,       4447,  3099.9,   1.7962,  34.7362,2,  34.7408,2,    141.2,2, 162.3000,2,    129.3,2,     34.5,2,     0.01,2,    2.408,2,-999.000,9,-999.000,9,-999.0000,9,  2303.2,2,  2406.4,2,   7.5850,2,    25.00, -999.00,9, -999.00,9, -999.00,-999.000,9,  -999.0,9,     -999.0,9,     -999.0,9,          6,     -999.0,9,     -999.0,9,     -999.0,9,     -999.0,9
33RO20180423,        I7N,      71,          1,        107,      11106,2,20180521,       0325,    -1.7712,    57.2210,       4447,  2799.7,   1.9598,  34.7451,2,  34.7668,2,    134.6,2, 153.1990,2,    128.9,2,     34.9,2,     0.00,2,    2.449,2,-999.000,9,-999.000,9,-999.0000,9,  2306.0,2,  2407.4,2,   7.5769,2,    25.00, -999.00,9, -999.00,9, -999.00,-999.000,9,    43.2,3,     -999.0,9,     -999.0,9,          7,     -999.0,9,     -999.0,9,     -999.0,9,     -999.0,9
33RO20180423,        I7N,      71,          1,        108,      11107,2,20180521,       0325,    -1.7712,    57.2210,       4447,  2499.9,   2.0855,  34.7492,2,  34.7500,2,    132.2,2, 149.5790,2,    126.9,2,     35.0,2,     0.01,2,    2.467,2,-999.000,9,-999.000,9,-999.0000,9,  2306.7,2,  2405.6,2,   7.5715,2,    25.00, -999.00,9, -999.00,9, -999.00,-999.000,9,  -999.0,9,     -999.0,9,     -999.0,9,          8,     -999.0,9,     -999.0,9,     -999.0,9,     -999.0,9
33RO20180423,        I7N,      71,          1,        109,      11108,2,20180521,       0325,    -1.7712,    57.2210,       4447,  2200.7,   2.5099,  34.7610,2,  34.7634,2,    123.4,2, 138.5780,2,    121.6,2,     35.4,2,     0.01,2,    2.530,2,-999.000,9,-999.000,9,-999.0000,9,  2307.2,2,  2400.8,2,   7.5585,2,    25.00, -999.00,9, -999.00,9, -999.00,-999.000,9,  -999.0,9,     -999.0,9,     -999.0,9,          9,     -999.0,9,     -999.0,9,     -999.0,9,     -999.0,9
33RO20180423,        I7N,      71,          1,        110,      11109,2,20180521,       0325,    -1.7712,    57.2210,       4447,  1882.9,   3.1004,  34.7899,2,  34.7947,2,    108.4,2, 121.5280,2,    116.5,2,     36.0,2,     0.00,2,    2.581,2,-999.000,9,-999.000,9,-999.0000,9,  2310.0,2,  2396.1,2,   7.5389,2,    25.00, -999.00,9, -999.00,9, -999.00,-999.000,9,  -999.0,9,     -999.0,9,     -999.0,9,         10,     -999.0,9,     -999.0,9,     -999.0,9,     -999.0,9
33RO20180423,        I7N,      71,          1,        111,      11110,2,20180521,       0325,    -1.7712,    57.2210,       4447,  1663.7,   3.8887,  34.8236,2,  34.8292,2,     92.3,2, 102.8530,2,    108.7,2,     36.5,2,     0.00,2,    2.652,2,-999.000,9,-999.000,9,-999.0000,9,  2309.1,2,  2388.5,2,   7.5181,2,    25.00, -999.00,9, -999.00,9, -999.00,-999.000,9,    43.0,3,     -999.0,9,     -999.0,9,         11,     -999.0,9,     -999.0,9,     -999.0,9,     -999.0,9
33RO20180423,        I7N,      71,          1,        112,      11111,2,20180521,       0325,    -1.7712,    57.2210,       4447,  1366.3,   5.1520,  34.8801,2,  34.9193,2,     70.9,2,  79.3990,2,     96.0,2,     36.9,2,     0.01,2,    2.722,2,-999.000,9,-999.000,9,-999.0000,9,  2306.0,2,  2376.2,6,   7.4958,2,    25.00, -999.00,9, -999.00,9, -999.00,-999.000,9,    43.7,3,     -999.0,9,     -999.0,9,         12,     -999.0,9,     -999.0,9,     -999.0,9,     -999.0,9
33RO20180423,        I7N,      71,          1,        113,      11112,2,20180521,       0325,    -1.7712,    57.2210,       4447,  1166.1,   5.9240,  34.9081,2,  34.9437,2,     59.4,2,  65.5765,2,     88.7,2,     37.2,2,     0.01,2,    2.723,2,-999.000,9,-999.000,9,-999.0000,9,  2302.7,2,  2369.5,2,   7.4833,6,    25.00, -999.00,9, -999.00,9, -999.00,-999.000,9,    45.6,3,     -999.0,9,     -999.0,9,         13,     -999.0,9,     -999.0,9,     -999.0,9,     -999.0,9
33RO20180423,        I7N,      71,          1,        114,      11113,2,20180521,       0325,    -1.7712,    57.2210,       4447,   950.1,   6.7799,  34.9631,2,  34.9669,2,     49.5,2,  54.4750,2,     80.7,2,     37.1,2,     0.00,2,    2.708,2,-999.000,9,-999.000,9,-999.0000,9,  2298.4,6,  2364.2,2,   7.4774,2,    25.00, -999.00,9, -999.00,9, -999.00,-999.000,9,    48.0,3,     -999.0,9,     -999.0,9,         14,     -999.0,9,     -999.0,9,     -999.0,9,     -999.0,9
33RO20180423,        I7N,      71,          1,        115,      11114,2,20180521,       0325,    -1.7712,    57.2210,       4447,   780.0,   8.0893,  35.0132,2,  35.0464,2,     43.7,2,  47.9750,2,     64.5,2,     35.9,2,     0.00,2,    2.645,2,   0.222,6,   0.123,6,   0.0239,6,  2282.1,2,  2348.0,2,   7.4807,2,    25.00, -999.00,9, -999.00,9, -999.00,-999.000,1,    45.8,3,     -999.0,1,     -999.0,9,         15,     -999.0,9,     -999.0,9,     -999.0,9,     -999.0,9
33RO20180423,        I7N,      71,          1,        116,      11115,2,20180521,       0325,    -1.7712,    57.2210,       4447,   650.1,   8.4611,  34.9568,2,  34.9634,2,     60.0,2,  63.9870,2,     53.5,2,     34.0,2,     0.00,2,    2.479,2,-999.000,9,-999.000,9,-999.0000,9,  2262.2,2,  2342.5,2,   7.5083,2,    25.00, -999.00,9, -999.00,9, -999.00,-999.000,9,    46.9,3,     -999.0,9,     -999.0,9,         16,     -999.0,9,     -999.0,9,     -999.0,9,     -999.0,9
33RO20180423,        I7N,      71,          1,        117,      11116,2,20180521,       0325,    -1.7712,    57.2210,       4447,   483.7,   9.2095,  34.8564,2,  34.8595,6,     91.8,2,  98.4940,2,     35.5,2,     29.9,2,     0.01,2,    2.091,2,-999.000,9,-999.000,9,-999.0000,9,  2224.0,2,  2317.2,2,   7.5694,2,    25.00, -999.00,9, -999.00,9, -999.00,-999.000,9,    52.0,3,     -999.0,9,     -999.0,9,         17,     -999.0,9,     -999.0,9,     -999.0,9,     -999.0,9
33RO20180423,        I7N,      71,          1,        118,      11117,2,20180521,       0325,    -1.7712,    57.2210,       4447,   378.6,  10.6183,  34.9305,2,  34.9613,2,    131.7,2, 140.2470,2,     19.2,2,     22.9,2,     0.00,2,    1.597,2,-999.000,9,-999.000,9,-999.0000,9,  2184.8,2,  2310.3,2,   7.6578,2,    25.00, -999.00,9, -999.00,9, -999.00,-999.000,9,    48.6,3,     -999.0,9,     -999.0,9,         18,     -999.0,9,     -999.0,9,     -999.0,9,     -999.0,9
33RO20180423,        I7N,      71,          1,        119,      11083,2,20180521,       0325,    -1.7712,    57.2210,       4447,   318.6,  11.5273,  35.0096,2,  35.0195,2,    136.7,2, 143.8170,2,     16.3,2,     20.8,2,     0.01,2,    1.463,2,   2.399,3,   1.353,3,   1.3899,3,  2175.2,2,  2312.8,2,   7.6836,2,    25.00, -999.00,9, -999.00,9, -999.00,-999.000,1,    56.0,3,     -999.0,1,     -999.0,9,         19,     -999.0,9,     -999.0,9,     -999.0,9,     -999.0,9
33RO20180423,        I7N,      71,          1,        120,      11118,2,20180521,       0325,    -1.7712,    57.2210,       4447,   217.4,  13.7864,  35.1578,2,  35.1565,2,    101.6,2, 108.2390,2,     16.5,2,     20.9,2,     0.01,2,    1.486,2,-999.000,9,-999.000,9,-999.0000,9,  2182.2,2,  2314.7,2,   7.6765,2,    25.00, -999.00,9, -999.00,9, -999.00,-999.000,9,    54.2,3,     -999.0,9,     -999.0,9,         20,     -999.0,9,     -999.0,9,     -999.0,9,     -999.0,9
33RO20180423,        I7N,      71,          1,        121,      11119,2,20180521,       0325,    -1.7712,    57.2210,       4447,   166.5,  15.4175,  35.2222,2,  35.2262,2,     88.4,2,  94.5800,2,     15.4,2,     20.5,2,     0.01,2,    1.454,2,-999.000,9,-999.000,9,-999.0000,9,  2178.0,2,  2319.7,2,   7.6855,2,    25.00, -999.00,9, -999.00,9, -999.00,-999.000,9,    52.9,3,     -999.0,9,     -999.0,9,         21,     -999.0,9,     -999.0,9,     -999.0,9,     -999.0,9
33RO20180423,        I7N,      71,          1,        122,      11120,2,20180521,       0325,    -1.7712,    57.2210,       4447,   132.0,  18.1559,  35.2881,2,  35.2885,2,     81.5,2,  83.8760,2,     13.4,2,     19.5,2,     0.03,2,    1.388,2,   1.872,2,   1.107,2,   0.9634,2,  2163.2,2,  2314.2,2,   7.7161,2,    25.00, -999.00,9, -999.00,9, -999.00,-999.000,1,    55.1,3,     -999.0,1,     -999.0,9,         22,     -999.0,9,     -999.0,9,     -999.0,9,     -999.0,9
33RO20180423,        I7N,      71,          1,        123,      11121,2,20180521,       0325,    -1.7712,    57.2210,       4447,    65.0,  26.5406,  35.5594,2,  35.5409,2,    167.6,2, 174.7480,2,      3.2,2,      3.3,2,     0.22,2,    0.436,2,-999.000,9,-999.000,9,-999.0000,9,  2042.9,2,  2327.1,6,   7.9935,2,    25.00, -999.00,9, -999.00,9, -999.00,-999.000,9,    70.4,3,     -999.0,9,     -999.0,9,         23,     -999.0,9,     -999.0,9,     -999.0,9,     -999.0,9
33RO20180423,        I7N,      71,          1,        124,      11122,2,20180521,       0325,    -1.7712,    57.2210,       4447,     3.0,  29.5023,  35.3416,2,  35.5395,2,    186.2,2, 177.5150,4,      3.1,2,      3.2,2,     0.21,2,    0.408,2,-999.000,9,-999.000,9,-999.0000,9,  2037.1,6,  2327.8,4,   8.0021,6,    25.00, -999.00,9, -999.00,9, -999.00,-999.000,9,    80.5,3,     -999.0,9,     -999.0,9,         24,     -999.0,9,     -999.0,9,     -999.0,9,     -999.0,9