BOTTLE,20230801CCHSIOCBG
EXPOCODE,SECT_ID,STNNBR,CASTNO,SAMPNO,BTLNBR,BTLNBR_FLAG_W,DATE,TIME,LATITUDE,LONGITUDE,DEPTH,CTDPRS,CTDTMP,CTDSAL,CTDSAL_FLAG_W,SALNTY,SALNTY_FLAG_W,CTDOXY,CTDOXY_FLAG_W,OXYGEN,OXYGEN_FLAG_W,SILCAT,SILCAT_FLAG_W,NITRAT,NITRAT_FLAG_W,NITRIT,NITRIT_FLAG_W,PHSPHT,PHSPHT_FLAG_W,CFC-11,CFC-11_FLAG_W,CFC-12,CFC-12_FLAG_W,SF6,SF6_FLAG_W,TCARBN,TCARBN_FLAG_W,ALKALI,ALKALI_FLAG_W,PH_SWS,PH_SWS_FLAG_W,PH_TMP,DELC13,DELC13_FLAG_W,DELC14,DELC14_FLAG_W,C14ERR,CCL4,CCL4_FLAG_W,DOC,DOC_FLAG_W,N2O,N2O_FLAG_W,CALCIUM,CALCIUM_FLAG_W,SAMPNO_U,DNSSAL,DNSSAL_FLAG_W,DNSSAL2,DNSSAL2_FLAG_W,SALNTY_DNSSAL,SALNTY_DNSSAL_FLAG_W,SALNTY_DNSSAL2,SALNTY_DNSSAL2_FLAG_W
,,,,,,,,,,,METERS,DBAR,ITS-90,PSS-78,,PSS-78,,UMOL/KG,,UMOL/KG,,UMOL/KG,,UMOL/KG,,UMOL/KG,,UMOL/KG,,PMOL/KG,,PMOL/KG,,FMOL/KG,,UMOL/KG,,UMOL/KG,,,,DEG C,/MILLE,,/MILLE,,/MILLE,PMOL/KG,,UMOL/KG,,NMOL/KG,,MMOL/KG,,,G/KG,,G/KG,,PSS-78,,PSS-78,
33RO20180423,        I7N,      18,          1,        101,      11010,2,20180502,       1001,   -23.9920,    54.5100,       3967,  4055.3,   1.2481,  34.7159,2,  34.7190,2,    169.7,2, 193.9220,2,    125.9,6,     32.9,6,     0.00,6,    2.252,6,-999.000,9,-999.000,9,-999.0000,9,  2274.8,6,  2379.3,2,   7.5972,2,    25.00, -999.00,9, -999.00,9, -999.00,-999.000,9,  -999.0,9,     -999.0,9,     -999.0,9,          1,     -999.0,9,     -999.0,9,     -999.0,9,     -999.0,9
33RO20180423,        I7N,      18,          1,        102,      11101,2,20180502,       1001,   -23.9920,    54.5100,       3967,  3688.4,   1.4359,  34.7233,2,  34.7253,2,    161.1,2, 184.5990,2,    126.7,6,     33.3,6,     0.00,6,    2.289,6,-999.000,9,-999.000,9,-999.0000,9,  2282.6,2,  2385.8,2,   7.5953,2,    25.00, -999.00,9, -999.00,9, -999.00,-999.000,9,  -999.0,9,     -999.0,9,     -999.0,9,          2,     -999.0,9,     -999.0,9,     -999.0,9,     -999.0,9
33RO20180423,        I7N,      18,          1,        103,      11102,2,20180502,       1001,   -23.9920,    54.5100,       3967,  3374.6,   1.6705,  34.7311,2,  34.7341,2,    151.2,2, 173.0210,2,    126.5,6,     33.8,6,     0.00,6,    2.341,6,-999.000,9,-999.000,9,-999.0000,9,  2290.4,2,  2398.4,2,   7.5920,2,    25.00, -999.00,9, -999.00,9, -999.00,-999.000,9,  -999.0,9,     -999.0,9,     -999.0,9,          3,     -999.0,9,     -999.0,9,     -999.0,9,     -999.0,9
33RO20180423,        I7N,      18,          1,        104,      11103,2,20180502,       1001,   -23.9920,    54.5100,       3967,  3075.4,   1.8580,  34.7366,2,  34.7373,2,    145.2,2, 165.9000,2,    125.3,6,     34.1,6,     0.00,6,    2.373,6,-999.000,9,-999.000,9,-999.0000,9,  -999.0,9,  -999.0,9,   7.5866,6,    25.00, -999.00,9, -999.00,9, -999.00,-999.000,9,  -999.0,9,     -999.0,9,     -999.0,9,          4,     -999.0,9,     -999.0,9,     -999.0,9,     -999.0,9
33RO20180423,        I7N,      18,          1,        105,      11104,2,20180502,       1001,   -23.9920,    54.5100,       3967,  2775.0,   1.9959,  34.7387,2,  34.7481,2,    143.4,2, 163.8720,2,    121.7,2,     34.0,2,     0.00,2,    2.359,2,-999.000,9,-999.000,9,-999.0000,9,  2292.4,2,  2397.8,2,   7.5847,2,    25.00, -999.00,9, -999.00,9, -999.00,-999.000,9,  -999.0,9,     -999.0,9,     -999.0,9,          5,     -999.0,9,     -999.0,9,     -999.0,9,     -999.0,9
33RO20180423,        I7N,      18,          1,        106,      11105,2,20180502,       1001,   -23.9920,    54.5100,       3967,  2475.9,   2.1437,  34.7370,2,  34.7408,6,    144.4,2, 163.4110,2,    115.8,2,     33.8,2,     0.00,2,    2.341,2,-999.000,9,-999.000,9,-999.0000,9,  2286.5,2,  2387.3,6,   7.5841,2,    25.00, -999.00,9, -999.00,9, -999.00,-999.000,9,  -999.0,9,     -999.0,9,     -999.0,9,          6,     -999.0,9,     -999.0,9,     -999.0,9,     -999.0,9
33RO20180423,        I7N,      18,          1,        107,      11106,2,20180502,       1001,   -23.9920,    54.5100,       3967,  2176.0,   2.3538,  34.7251,2,  34.7274,2,    147.7,2, 166.5220,2,    104.9,2,     33.1,2,     0.00,2,    2.303,2,-999.000,9,-999.000,9,-999.0000,9,  2276.0,2,  2375.0,2,   7.5850,2,    25.00, -999.00,9, -999.00,9, -999.00,-999.000,9,  -999.0,9,     -999.0,9,     -999.0,9,          7,     -999.0,9,     -999.0,9,     -999.0,9,     -999.0,9
33RO20180423,        I7N,      18,          1,        108,      11107,2,20180502,       1001,   -23.9920,    54.5100,       3967,  1862.9,   2.5763,  34.6947,2,  34.6955,2,    149.7,2, 167.5765,2,     94.3,2,     33.1,2,     0.00,2,    2.283,2,-999.000,9,-999.000,9,-999.0000,9,  -999.0,9,  -999.0,9,   7.5815,2,    25.00, -999.00,9, -999.00,9, -999.00,-999.000,9,  -999.0,9,     -999.0,9,     -999.0,9,          8,     -999.0,9,     -999.0,9,     -999.0,9,     -999.0,9
33RO20180423,        I7N,      18,          1,        109,      11108,2,20180502,       1001,   -23.9920,    54.5100,       3967,  1613.6,   2.9328,  34.6403,2,  34.6406,2,    145.3,2, 162.4230,2,     85.0,2,     33.7,2,     0.00,2,    2.319,2,-999.000,9,-999.000,9,-999.0000,9,  2257.4,2,  2351.3,2,   7.5672,2,    25.00, -999.00,9, -999.00,9, -999.00,-999.000,9,  -999.0,9,     -999.0,9,     -999.0,9,          9,     -999.0,9,     -999.0,9,     -999.0,9,     -999.0,9
33RO20180423,        I7N,      18,          1,        110,      11109,2,20180502,       1001,   -23.9920,    54.5100,       3967,  1350.4,   3.6281,  34.5627,2,  34.5642,2,    138.3,2, 152.8570,2,     74.3,2,     34.4,2,     0.00,2,    2.381,2,-999.000,9,-999.000,9,-999.0000,9,  2253.3,6,  2343.7,2,   7.5566,2,    25.00, -999.00,9, -999.00,9, -999.00,-999.000,9,  -999.0,9,     -999.0,9,     -999.0,9,         10,     -999.0,9,     -999.0,9,     -999.0,9,     -999.0,9
33RO20180423,        I7N,      18,          1,        111,      11110,2,20180502,       1001,   -23.9920,    54.5100,       3967,  1151.2,   4.5721,  34.4864,2,  34.4906,2,    146.7,2, 161.6410,2,     56.1,2,     33.1,2,     0.00,2,    2.290,2,-999.000,9,-999.000,9,-999.0000,9,  2231.2,2,  2337.7,4,   7.5721,2,    25.00, -999.00,9, -999.00,9, -999.00,-999.000,9,  -999.0,9,     -999.0,9,     -999.0,9,         11,     -999.0,9,     -999.0,9,     -999.0,9,     -999.0,9
33RO20180423,        I7N,      18,          1,        112,      11111,2,20180502,       1001,   -23.9920,    54.5100,       3967,   938.2,   6.5895,  34.4780,2,  34.4788,2,    178.6,2, 194.6840,2,     24.1,2,     26.8,2,     0.00,2,    1.856,2,-999.000,9,-999.000,9,-999.0000,9,  2176.6,2,  2306.2,2,   7.6475,2,    25.00, -999.00,9, -999.00,9, -999.00,-999.000,9,  -999.0,9,     -999.0,9,     -999.0,9,         12,     -999.0,9,     -999.0,9,     -999.0,9,     -999.0,9
33RO20180423,        I7N,      18,          1,        113,      11112,2,20180502,       1001,   -23.9920,    54.5100,       3967,   788.2,   9.1191,  34.6900,2,  34.6929,2,    197.2,2, 208.3420,4,      9.8,2,     18.9,2,     0.00,2,    1.344,2,-999.000,9,-999.000,9,-999.0000,9,  2144.3,2,  2296.6,2,   7.7300,2,    25.00, -999.00,9, -999.00,9, -999.00,-999.000,9,  -999.0,9,     -999.0,9,     -999.0,9,         13,     -999.0,9,     -999.0,9,     -999.0,9,     -999.0,9
33RO20180423,        I7N,      18,          1,        114,      11113,2,20180502,       1001,   -23.9920,    54.5100,       3967,   638.1,  10.9224,  34.9140,2,  34.9146,2,    207.8,2, 225.3410,2,      5.1,2,     13.7,2,     0.00,2,    1.036,2,-999.000,9,-999.000,9,-999.0000,9,  -999.0,9,  -999.0,9,   7.7817,6,    25.00, -999.00,9, -999.00,9, -999.00,-999.000,9,  -999.0,9,     -999.0,9,     -999.0,9,         14,     -999.0,9,     -999.0,9,     -999.0,9,     -999.0,9
33RO20180423,        I7N,      18,          1,        115,      11114,2,20180502,       1001,   -23.9920,    54.5100,       3967,   475.6,  12.5927,  35.1523,2,  35.1536,2,    200.6,2, 216.0750,2,      4.8,2,     10.3,2,     0.00,2,    0.830,2,-999.000,9,-999.000,9,-999.0000,9,  2125.6,2,  2315.4,6,   7.8120,2,    25.00, -999.00,9, -999.00,9, -999.00,-999.000,9,  -999.0,9,     -999.0,9,     -999.0,9,         15,     -999.0,9,     -999.0,9,     -999.0,9,     -999.0,9
33RO20180423,        I7N,      18,          1,        116,      11115,2,20180502,       1001,   -23.9920,    54.5100,       3967,   363.7,  14.3139,  35.3546,2,  35.3567,2,    189.4,2, 204.4430,2,      5.0,2,      7.9,2,     0.00,2,    0.678,2,-999.000,9,-999.000,9,-999.0000,9,  2121.4,2,  2322.7,2,   7.8419,2,    25.00, -999.00,9, -999.00,9, -999.00,-999.000,9,  -999.0,9,     -999.0,9,     -999.0,9,         16,     -999.0,9,     -999.0,9,     -999.0,9,     -999.0,9
33RO20180423,        I7N,      18,          1,        117,      11116,2,20180502,       1001,   -23.9920,    54.5100,       3967,   313.8,  15.4528,  35.4558,2,  35.4621,2,    187.7,2, 201.1065,2,      4.5,2,      6.3,2,     0.00,2,    0.572,2,-999.000,9,-999.000,9,-999.0000,9,  -999.0,9,  -999.0,9,   7.8644,2,    25.00, -999.00,9, -999.00,9, -999.00,-999.000,9,  -999.0,9,     -999.0,9,     -999.0,9,         17,     -999.0,9,     -999.0,9,     -999.0,9,     -999.0,9
33RO20180423,        I7N,      18,          1,        118,      11117,2,20180502,       1001,   -23.9920,    54.5100,       3967,   263.3,  16.8530,  35.5354,2,  35.5359,2,    178.5,2, 191.3430,2,      4.6,2,      5.3,2,     0.01,2,    0.513,2,-999.000,9,-999.000,9,-999.0000,9,  2107.9,2,  2332.9,2,   7.8825,2,    25.00, -999.00,9, -999.00,9, -999.00,-999.000,9,  -999.0,9,     -999.0,9,     -999.0,9,         18,     -999.0,9,     -999.0,9,     -999.0,9,     -999.0,9
33RO20180423,        I7N,      18,          1,        119,      11083,2,20180502,       1001,   -23.9920,    54.5100,       3967,   209.9,  19.2745,  35.4791,2,  35.4822,2,    157.4,2, 168.8890,2,      6.0,2,      5.7,2,     0.01,2,    0.517,2,-999.000,9,-999.000,9,-999.0000,9,  2094.0,2,  2328.0,2,   7.9008,2,    25.00, -999.00,9, -999.00,9, -999.00,-999.000,9,  -999.0,9,     -999.0,9,     -999.0,9,         19,     -999.0,9,     -999.0,9,     -999.0,9,     -999.0,9
33RO20180423,        I7N,      18,          1,        120,      11118,2,20180502,       1001,   -23.9920,    54.5100,       3967,   170.2,  20.9395,  35.3582,2,  35.3598,2,    151.9,2, 163.2410,2,      5.5,2,      5.3,2,     0.01,2,    0.491,2,-999.000,9,-999.000,9,-999.0000,9,  2069.8,2,  2318.1,2,   7.9267,2,    25.00, -999.00,9, -999.00,9, -999.00,-999.000,9,  -999.0,9,     -999.0,9,     -999.0,9,         20,     -999.0,9,     -999.0,9,     -999.0,9,     -999.0,9
33RO20180423,        I7N,      18,          1,        121,      11119,2,20180502,       1001,   -23.9920,    54.5100,       3967,   130.3,  22.7989,  35.2268,2,  35.2275,2,    170.0,2, 181.1970,2,      3.4,2,      2.1,2,     0.16,2,    0.309,2,-999.000,9,-999.000,9,-999.0000,9,  2035.1,2,  2306.3,2,   7.9838,2,    25.00, -999.00,9, -999.00,9, -999.00,-999.000,9,  -999.0,9,     -999.0,9,     -999.0,9,         21,     -999.0,9,     -999.0,9,     -999.0,9,     -999.0,9
33RO20180423,        I7N,      18,          1,        122,      11120,2,20180502,       1001,   -23.9920,    54.5100,       3967,    90.4,  24.6234,  35.0870,2,  35.0947,2,    190.9,2, 202.9480,2,      2.2,2,      0.0,2,     0.00,2,    0.157,2,-999.000,9,-999.000,9,-999.0000,9,  1999.2,2,  2298.4,2,   8.0316,2,    25.00, -999.00,9, -999.00,9, -999.00,-999.000,9,  -999.0,9,     -999.0,9,     -999.0,9,         22,     -999.0,9,     -999.0,9,     -999.0,9,     -999.0,9
33RO20180423,        I7N,      18,          1,        123,      11121,2,20180502,       1001,   -23.9920,    54.5100,       3967,    49.1,  26.4286,  35.0375,2,  35.0380,2,    192.5,2, 203.7840,2,      1.8,2,      0.0,2,     0.00,2,    0.115,2,-999.000,9,-999.000,9,-999.0000,9,  1975.6,2,  2296.0,6,   8.0667,2,    25.00, -999.00,9, -999.00,9, -999.00,-999.000,9,  -999.0,9,     -999.0,9,     -999.0,9,         23,     -999.0,9,     -999.0,9,     -999.0,9,     -999.0,9
33RO20180423,        I7N,      18,          1,        124,      11122,2,20180502,       1001,   -23.9920,    54.5100,       3967,     4.9,  26.4442,  35.0402,2,  35.0407,6,    192.7,2, 208.6130,4,      1.8,2,      0.0,2,     0.00,2,    0.120,2,-999.000,9,-999.000,9,-999.0000,9,  1973.4,2,  2293.5,2,   8.0648,6,    25.00, -999.00,9, -999.00,9, -999.00,-999.000,9,  -999.0,9,     -999.0,9,     -999.0,9,         24,     -999.0,9,     -999.0,9,     -999.0,9,     -999.0,9