BOTTLE,20230801CCHSIOCBG
EXPOCODE,SECT_ID,STNNBR,CASTNO,SAMPNO,BTLNBR,BTLNBR_FLAG_W,DATE,TIME,LATITUDE,LONGITUDE,DEPTH,CTDPRS,CTDTMP,CTDSAL,CTDSAL_FLAG_W,SALNTY,SALNTY_FLAG_W,CTDOXY,CTDOXY_FLAG_W,OXYGEN,OXYGEN_FLAG_W,SILCAT,SILCAT_FLAG_W,NITRAT,NITRAT_FLAG_W,NITRIT,NITRIT_FLAG_W,PHSPHT,PHSPHT_FLAG_W,CFC-11,CFC-11_FLAG_W,CFC-12,CFC-12_FLAG_W,SF6,SF6_FLAG_W,TCARBN,TCARBN_FLAG_W,ALKALI,ALKALI_FLAG_W,PH_SWS,PH_SWS_FLAG_W,PH_TMP,DELC13,DELC13_FLAG_W,DELC14,DELC14_FLAG_W,C14ERR,CCL4,CCL4_FLAG_W,DOC,DOC_FLAG_W,N2O,N2O_FLAG_W,CALCIUM,CALCIUM_FLAG_W,SAMPNO_U,DNSSAL,DNSSAL_FLAG_W,DNSSAL2,DNSSAL2_FLAG_W,SALNTY_DNSSAL,SALNTY_DNSSAL_FLAG_W,SALNTY_DNSSAL2,SALNTY_DNSSAL2_FLAG_W
,,,,,,,,,,,METERS,DBAR,ITS-90,PSS-78,,PSS-78,,UMOL/KG,,UMOL/KG,,UMOL/KG,,UMOL/KG,,UMOL/KG,,UMOL/KG,,PMOL/KG,,PMOL/KG,,FMOL/KG,,UMOL/KG,,UMOL/KG,,,,DEG C,/MILLE,,/MILLE,,/MILLE,PMOL/KG,,UMOL/KG,,NMOL/KG,,MMOL/KG,,,G/KG,,G/KG,,PSS-78,,PSS-78,
33RO20180423,        I7N,     121,          1,        101,      11010,2,20180603,       1313,    17.5727,    69.4803,       3392,  3424.3,   1.7240,  34.7368,2,  34.7319,2,    113.1,2, 128.6730,2,    147.6,6,     36.8,6,     0.01,6,    2.560,6,   0.015,2,   0.012,2,   0.0088,2,  2362.9,6,  2465.6,2,   7.5746,6,    25.00, -999.00,9, -999.00,9, -999.00,-999.000,1,    41.9,3,     -999.0,1,    10.3552,2,          1,    34.9271,2,     -999.0,9,    34.7393,2,     -999.0,9
33RO20180423,        I7N,     121,          1,        102,      11101,2,20180603,       1313,    17.5727,    69.4803,       3392,  3210.4,   1.7494,  34.7403,2,  34.7423,6,    113.4,2, 128.3390,2,    147.4,6,     36.7,6,     0.01,6,    2.567,6,   0.009,2,   0.011,2,        0,2,  2353.8,2,  2454.5,2,   7.5650,2,    25.00, -999.00,9, -999.00,9, -999.00,-999.000,1,    38.9,3,     -999.0,1,    10.3543,2,          2,    34.9252,2,     -999.0,9,    34.7425,2,     -999.0,9
33RO20180423,        I7N,     121,          1,        103,      11102,2,20180603,       1313,    17.5727,    69.4803,       3392,  3001.3,   1.8087,  34.7449,2,  34.7503,2,    111.3,2, 126.4950,2,    147.1,6,     36.7,6,     0.00,6,    2.587,6,   0.006,2,   0.010,2,   0.0173,2,  2351.3,2,  2449.2,6,   7.5566,2,    25.00, -999.00,9, -999.00,9, -999.00,-999.000,1,  -999.0,9,     -999.0,1,    10.3557,2,          3,    34.9364,2,     -999.0,9,    34.7457,2,     -999.0,9
33RO20180423,        I7N,     121,          1,        104,      11103,2,20180603,       1313,    17.5727,    69.4803,       3392,  2700.2,   1.9600,  34.7548,2,  34.7571,2,    110.9,2, 125.6000,2,    142.9,6,     36.5,6,     0.01,6,    2.597,6,   0.003,2,   0.004,2,   0.0022,2,  2344.3,2,  2434.2,2,   7.5498,2,    25.00, -999.00,9, -999.00,9, -999.00,-999.000,1,  -999.0,9,     -999.0,1,    10.3566,2,          4,    34.9403,2,     -999.0,9,    34.7572,2,     -999.0,9
33RO20180423,        I7N,     121,          1,        105,      11104,2,20180603,       1313,    17.5727,    69.4803,       3392,  2400.1,   2.3015,  34.7772,2,  34.7801,2,    101.9,2, 115.0330,2,    139.3,2,     36.8,2,     0.00,2,    2.637,2,   0.003,2,   0.004,2,   0.0106,2,  2343.3,2,  2430.0,2,   7.5321,2,    25.00, -999.00,9, -999.00,9, -999.00,-999.000,1,    41.2,3,     -999.0,1,    10.3579,2,          5,    34.9608,2,     -999.0,9,    34.7796,2,     -999.0,9
33RO20180423,        I7N,     121,          1,        106,      11105,2,20180603,       1313,    17.5727,    69.4803,       3392,  2100.3,   2.8253,  34.8129,2,  34.8292,2,     88.6,2,  99.6170,2,    133.8,2,     37.2,2,     0.00,2,    2.711,2,   0.003,2,   0.004,2,   0.0062,2,  2345.0,2,  2419.3,2,   7.5101,2,    25.00, -999.00,9, -999.00,9, -999.00,-999.000,1,  -999.0,9,     -999.0,1,    10.3701,2,          6,    34.9944,2,     -999.0,9,    34.8157,2,     -999.0,9
33RO20180423,        I7N,     121,          1,        107,      11106,2,20180603,       1313,    17.5727,    69.4803,       3392,  1800.0,   3.6843,  34.8792,2,  34.8805,2,     69.2,2,  77.7410,2,    124.3,2,     38.0,2,     0.01,2,    2.814,2,   0.003,2,   0.004,2,   0.0071,2,  2344.1,2,  2423.7,2,   7.4834,2,    25.00, -999.00,9, -999.00,9, -999.00,-999.000,1,  -999.0,9,     -999.0,1,     -999.0,9,          7,    35.0583,2,     -999.0,9,    34.8818,2,     -999.0,9
33RO20180423,        I7N,     121,          1,        108,      11107,2,20180603,       1313,    17.5727,    69.4803,       3392,  1550.6,   5.0003,  34.9970,2,  34.9997,2,     42.1,2,  48.0210,2,    111.0,2,     38.8,2,     0.00,2,    2.937,2,   0.005,6,   0.006,6,   0.0042,6,  2341.9,2,  2403.2,2,   7.4511,2,    25.00, -999.00,9, -999.00,9, -999.00,-999.000,1,    41.3,3,     -999.0,1,    10.3819,2,          8,    35.1789,2,     -999.0,9,    34.9996,2,     -999.0,9
33RO20180423,        I7N,     121,          1,        109,      11108,2,20180603,       1313,    17.5727,    69.4803,       3392,  1300.0,   6.6337,  35.1491,2,  35.1541,2,     19.7,2,  23.5750,2,     94.2,2,     38.8,2,     0.01,2,    2.987,2,   0.016,2,   0.010,2,   0.0052,2,  2334.1,2,  2387.1,2,   7.4323,6,    25.00, -999.00,9, -999.00,9, -999.00,-999.000,1,  -999.0,9,     -999.0,1,     -999.0,9,          9,    35.3284,2,     -999.0,9,    35.1490,2,     -999.0,9
33RO20180423,        I7N,     121,          1,        110,      11109,2,20180603,       1313,    17.5727,    69.4803,       3392,  1100.7,   8.1123,  35.3091,2,  35.3120,2,      6.1,2,   9.2650,2,     80.3,2,     37.7,2,     0.01,2,    2.956,2,   0.043,2,   0.029,2,   0.0162,2,  2322.7,2,  2371.2,2,   7.4297,2,    25.00, -999.00,9, -999.00,9, -999.00,-999.000,1,    42.2,3,     -999.0,1,    10.4728,2,         10,    35.4892,2,     -999.0,9,    35.3103,2,     -999.0,9
33RO20180423,        I7N,     121,          1,        111,      11110,2,20180603,       1313,    17.5727,    69.4803,       3392,   900.1,   9.5472,  35.4403,2,  35.4490,2,      1.4,2,   3.9750,2,     67.2,2,     35.6,2,     0.01,2,    2.851,2,   0.085,2,   0.055,2,   0.0078,2,  2307.6,2,  2362.4,6,   7.4445,2,    25.00, -999.00,9, -999.00,9, -999.00,-999.000,1,  -999.0,9,     -999.0,1,     -999.0,9,         11,    35.6190,2,     -999.0,9,    35.4407,2,     -999.0,9
33RO20180423,        I7N,     121,          1,        112,      11111,2,20180603,       1313,    17.5727,    69.4803,       3392,   750.9,  10.5856,  35.5082,2,  35.5202,2,      0.5,2,   2.3800,2,     56.6,2,     33.2,2,     0.01,2,    2.758,2,   0.140,2,   0.093,2,   0.0216,2,  2297.3,2,  2353.7,2,   7.4555,2,    25.00, -999.00,9, -999.00,9, -999.00,-999.000,1,  -999.0,9,     -999.0,1,    10.4776,6,         12,    35.6836,2,     -999.0,9,    35.5096,2,     -999.0,9
33RO20180423,        I7N,     121,          1,        113,      11112,2,20180603,       1313,    17.5727,    69.4803,       3392,   600.6,  11.7852,  35.6122,2,  35.6157,2,      0.2,2,   1.6015,2,     45.7,2,     29.4,2,     0.01,2,    2.647,2,   0.273,2,   0.194,2,   0.0745,2,  2287.6,2,  2353.0,2,   7.4666,2,    25.00, -999.00,9, -999.00,9, -999.00,-999.000,1,  -999.0,9,     -999.0,1,     -999.0,9,         13,    35.7890,2,     -999.0,9,    35.6125,2,     -999.0,9
33RO20180423,        I7N,     121,          1,        114,      11113,2,20180603,       1313,    17.5727,    69.4803,       3392,   450.1,  12.8825,  35.6786,2,  35.6792,2,      0.2,2,   1.7790,2,     36.5,2,     26.9,2,     0.40,2,    2.534,2,   0.510,2,   0.361,2,   0.1419,2,  2282.1,2,  2349.4,2,   7.4711,2,    25.00, -999.00,9, -999.00,9, -999.00,-999.000,1,    49.0,3,     -999.0,1,    10.4354,4,         14,    35.8535,2,     -999.0,9,    35.6806,2,     -999.0,9
33RO20180423,        I7N,     121,          1,        115,      11114,2,20180603,       1313,    17.5727,    69.4803,       3392,   400.3,  13.4237,  35.7429,2,  35.7453,2,      0.2,2,   2.4590,2,     34.0,2,     23.7,2,     1.90,2,    2.493,2,   0.603,6,   0.434,6,   0.2016,6,  2284.1,2,  2350.9,2,   7.4737,2,    25.00, -999.00,9, -999.00,9, -999.00,-999.000,1,    49.0,3,     -999.0,1,    10.5558,2,         15,    35.9188,2,     -999.0,9,    35.7456,2,     -999.0,9
33RO20180423,        I7N,     121,          1,        116,      11115,2,20180603,       1313,    17.5727,    69.4803,       3392,   350.8,  14.1839,  35.8302,2,  35.8289,2,      0.2,2,   2.6940,2,     31.2,2,     19.5,2,     4.28,2,    2.447,2,   0.724,2,   0.521,2,   0.2617,2,  2284.4,2,  2346.2,2,   7.4781,2,    25.00, -999.00,9, -999.00,9, -999.00,-999.000,1,    50.4,3,     -999.0,1,    10.5690,2,         16,    36.0031,2,     -999.0,9,    35.8293,2,     -999.0,9
33RO20180423,        I7N,     121,          1,        117,      11116,2,20180603,       1313,    17.5727,    69.4803,       3392,   300.6,  14.5110,  35.7473,2,  35.7546,2,      0.2,2,   2.8180,2,     29.4,2,     18.9,2,     4.20,2,    2.414,2,   0.802,2,   0.575,2,   0.3212,2,  2279.4,2,  2344.6,2,   7.4800,2,    25.00, -999.00,9, -999.00,9, -999.00,-999.000,1,    55.7,3,     -999.0,1,    10.5439,2,         17,    35.9280,2,     -999.0,9,    35.7558,2,     -999.0,9
33RO20180423,        I7N,     121,          1,        118,      11117,2,20180603,       1313,    17.5727,    69.4803,       3392,   250.8,  15.5142,  35.7263,2,  35.7183,2,      0.1,2,   2.3490,2,     27.0,2,     18.5,2,     3.40,2,    2.379,2,   0.906,2,   0.652,2,   0.3378,2,  2272.3,2,  2342.0,2,   7.4947,2,    25.00, -999.00,9, -999.00,9, -999.00,-999.000,1,  -999.0,9,     -999.0,1,    10.5097,2,         18,    35.8898,2,     -999.0,9,    35.7185,2,     -999.0,9
33RO20180423,        I7N,     121,          1,        119,      11083,2,20180603,       1313,    17.5727,    69.4803,       3392,   200.7,  17.0027,  35.7146,2,  35.7251,2,      0.1,2,   2.7460,2,     23.9,2,     18.4,2,     3.41,2,    2.327,2,   1.009,2,   0.737,2,   0.4863,2,  2260.3,2,  2346.2,2,   7.5229,2,    25.00, -999.00,9, -999.00,9, -999.00,-999.000,1,    54.3,3,     -999.0,1,    10.5553,2,         19,    35.8891,2,     -999.0,9,    35.7192,2,     -999.0,9
33RO20180423,        I7N,     121,          1,        120,      11118,2,20180603,       1313,    17.5727,    69.4803,       3392,   160.7,  18.5493,  35.6402,2,  35.6366,2,      0.1,2,   2.7620,2,     19.9,2,     23.6,2,     1.03,2,    2.234,2,   1.231,2,   0.809,2,   0.6664,2,  2239.6,2,  2335.7,2,   7.5583,2,    25.00, -999.00,9, -999.00,9, -999.00,-999.000,1,    59.6,3,     -999.0,1,    10.5219,2,         20,    35.8061,2,     -999.0,9,    35.6370,2,     -999.0,9
33RO20180423,        I7N,     121,          1,        121,      11119,2,20180603,       1313,    17.5727,    69.4803,       3392,   121.0,  21.0811,  35.6642,2,  35.7967,2,      5.3,2,  11.5730,2,     14.2,2,     25.1,2,     0.03,2,    1.968,2,   1.388,2,   0.882,2,   1.0074,2,  2215.4,2,  2339.8,2,   7.6374,2,    25.00, -999.00,9, -999.00,9, -999.00,-999.000,1,    59.0,3,     -999.0,1,     -999.0,9,         21,    35.9675,2,     -999.0,9,    35.8000,2,     -999.0,9
33RO20180423,        I7N,     121,          1,        122,      11120,2,20180603,       1313,    17.5727,    69.4803,       3392,    80.1,  25.2806,  36.1239,2,  36.0975,2,     97.6,2,  96.6120,2,      6.0,2,     12.6,2,     0.22,2,    1.090,2,   1.452,2,   0.924,2,   1.2768,2,  2127.3,2,  2352.5,3,   7.8755,2,    25.00, -999.00,9, -999.00,9, -999.00,-999.000,1,    70.1,3,     -999.0,1,    10.6319,2,         22,    36.2659,2,     -999.0,9,    36.1009,2,     -999.0,9
33RO20180423,        I7N,     121,          1,        123,      11121,2,20180603,       1313,    17.5727,    69.4803,       3392,    40.7,  30.1367,  36.3949,2,  36.3852,6,    192.5,2, 203.3090,2,      1.1,2,      0.0,2,     0.01,2,    0.187,2,   1.427,2,   0.914,2,   1.3553,2,  2030.1,2,  2382.3,2,   8.0908,6,    25.00, -999.00,9, -999.00,9, -999.00,-999.000,1,    83.7,3,     -999.0,1,     -999.0,9,         23,    36.5787,2,     -999.0,9,    36.4143,2,     -999.0,9
33RO20180423,        I7N,     121,          1,        124,      11122,2,20180603,       1313,    17.5727,    69.4803,       3392,     4.3,  31.0182,  35.9385,2,  35.9295,2,    180.5,2, 188.1480,2,      1.3,2,      0.0,2,     0.01,2,    0.102,2,   1.316,2,   0.846,2,   1.3193,2,  1999.7,6,  2354.9,6,   8.1060,2,    25.00, -999.00,9, -999.00,9, -999.00,-999.000,1,    86.9,3,     -999.0,1,    10.6096,2,         24,    36.0946,2,     -999.0,9,    35.9358,2,     -999.0,9