BOTTLE,20230801CCHSIOCBG
EXPOCODE,SECT_ID,STNNBR,CASTNO,SAMPNO,BTLNBR,BTLNBR_FLAG_W,DATE,TIME,LATITUDE,LONGITUDE,DEPTH,CTDPRS,CTDTMP,CTDSAL,CTDSAL_FLAG_W,SALNTY,SALNTY_FLAG_W,CTDOXY,CTDOXY_FLAG_W,OXYGEN,OXYGEN_FLAG_W,SILCAT,SILCAT_FLAG_W,NITRAT,NITRAT_FLAG_W,NITRIT,NITRIT_FLAG_W,PHSPHT,PHSPHT_FLAG_W,CFC-11,CFC-11_FLAG_W,CFC-12,CFC-12_FLAG_W,SF6,SF6_FLAG_W,TCARBN,TCARBN_FLAG_W,ALKALI,ALKALI_FLAG_W,PH_SWS,PH_SWS_FLAG_W,PH_TMP,DELC13,DELC13_FLAG_W,DELC14,DELC14_FLAG_W,C14ERR,CCL4,CCL4_FLAG_W,DOC,DOC_FLAG_W,N2O,N2O_FLAG_W,CALCIUM,CALCIUM_FLAG_W,SAMPNO_U,DNSSAL,DNSSAL_FLAG_W,DNSSAL2,DNSSAL2_FLAG_W,SALNTY_DNSSAL,SALNTY_DNSSAL_FLAG_W,SALNTY_DNSSAL2,SALNTY_DNSSAL2_FLAG_W
,,,,,,,,,,,METERS,DBAR,ITS-90,PSS-78,,PSS-78,,UMOL/KG,,UMOL/KG,,UMOL/KG,,UMOL/KG,,UMOL/KG,,UMOL/KG,,PMOL/KG,,PMOL/KG,,FMOL/KG,,UMOL/KG,,UMOL/KG,,,,DEG C,/MILLE,,/MILLE,,/MILLE,PMOL/KG,,UMOL/KG,,NMOL/KG,,MMOL/KG,,,G/KG,,G/KG,,PSS-78,,PSS-78,
33RO20180423,        I7N,      57,          1,        101,      11010,2,20180513,       0829,    -8.0045,    53.2943,       4024,  4068.4,   1.4240,  34.7217,2,  34.7594,2,    158.6,2, 182.2630,2,    130.6,6,     33.6,6,     0.00,6,    2.328,6,   0.022,2,   0.012,2,        0,2,  2290.0,6,  2395.6,2,   7.5963,6,    25.00, -999.00,9, -999.00,9, -999.00,-999.000,1,  -999.0,9,     -999.0,1,     -999.0,9,          1,     -999.0,9,     -999.0,9,     -999.0,9,     -999.0,9
33RO20180423,        I7N,      57,          1,        102,      11101,2,20180513,       0829,    -8.0045,    53.2943,       4024,  3793.2,   1.5094,  34.7256,2,  34.7251,2,    153.6,2, 176.6580,2,    130.9,6,     34.0,6,     0.00,6,    2.349,6,   0.014,2,   0.008,2,        0,2,  2292.8,2,  2400.8,6,   7.5911,2,    25.00, -999.00,9, -999.00,9, -999.00,-999.000,1,  -999.0,9,     -999.0,1,     -999.0,9,          2,     -999.0,9,     -999.0,9,     -999.0,9,     -999.0,9
33RO20180423,        I7N,      57,          1,        103,      11102,2,20180513,       0829,    -8.0045,    53.2943,       4024,  3499.3,   1.5910,  34.7294,2,  34.7357,2,    149.4,2, 170.6900,2,    131.4,6,     34.2,6,     0.00,6,    2.363,6,   0.008,2,   0.004,2,        0,2,  2295.3,2,  2404.2,2,   7.5896,2,    25.00, -999.00,9, -999.00,9, -999.00,-999.000,1,  -999.0,9,     -999.0,1,     -999.0,9,          3,     -999.0,9,     -999.0,9,     -999.0,9,     -999.0,9
33RO20180423,        I7N,      57,          1,        104,      11103,2,20180513,       0829,    -8.0045,    53.2943,       4024,  3200.0,   1.6616,  34.7325,2,  34.7347,2,    146.2,2, 167.7970,2,    130.6,6,     34.3,6,     0.00,6,    2.378,6,   0.005,6,   0.003,6,        0,6,  2298.2,2,  2404.4,2,   7.5868,2,    25.00, -999.00,9, -999.00,9, -999.00,-999.000,1,  -999.0,9,     -999.0,1,     -999.0,9,          4,     -999.0,9,     -999.0,9,     -999.0,9,     -999.0,9
33RO20180423,        I7N,      57,          1,        105,      11104,2,20180513,       0829,    -8.0045,    53.2943,       4024,  2900.5,   1.7320,  34.7353,2,  34.7625,2,    143.6,2, 163.3950,2,    130.6,2,     34.4,2,     0.00,2,    2.393,2,-999.000,9,-999.000,9,-999.0000,9,  2299.2,2,  2405.0,2,   7.5852,2,    25.00, -999.00,9, -999.00,9, -999.00,-999.000,9,  -999.0,9,     -999.0,9,     -999.0,9,          5,     -999.0,9,     -999.0,9,     -999.0,9,     -999.0,9
33RO20180423,        I7N,      57,          1,        106,      11105,2,20180513,       0829,    -8.0045,    53.2943,       4024,  2600.8,   1.8838,  34.7396,2,  34.7415,2,    139.9,2, 158.6510,2,    127.8,2,     34.4,2,     0.00,2,    2.406,2,-999.000,9,-999.000,9,-999.0000,9,  2301.4,2,  2402.8,2,   7.5806,2,    25.00, -999.00,9, -999.00,9, -999.00,-999.000,9,  -999.0,9,     -999.0,9,     -999.0,9,          6,     -999.0,9,     -999.0,9,     -999.0,9,     -999.0,9
33RO20180423,        I7N,      57,          1,        107,      11106,2,20180513,       0829,    -8.0045,    53.2943,       4024,  2300.6,   2.0480,  34.7416,2,  34.7442,2,    137.2,2, 155.0560,2,    125.5,2,     34.4,2,     0.00,2,    2.418,2,-999.000,9,-999.000,9,-999.0000,9,  2300.2,2,  2401.8,2,   7.5755,2,    25.00, -999.00,9, -999.00,9, -999.00,-999.000,9,  -999.0,9,     -999.0,9,     -999.0,9,          7,     -999.0,9,     -999.0,9,     -999.0,9,     -999.0,9
33RO20180423,        I7N,      57,          1,        108,      11107,2,20180513,       0829,    -8.0045,    53.2943,       4024,  2000.4,   2.4973,  34.7414,2,  34.7428,2,    131.4,2, 147.8960,2,    116.9,2,     34.7,2,     0.00,2,    2.442,2,-999.000,9,-999.000,9,-999.0000,9,  2295.9,2,  2394.4,2,   7.5705,2,    25.00, -999.00,9, -999.00,9, -999.00,-999.000,9,  -999.0,9,     -999.0,9,     -999.0,9,          8,     -999.0,9,     -999.0,9,     -999.0,9,     -999.0,9
33RO20180423,        I7N,      57,          1,        109,      11108,2,20180513,       0829,    -8.0045,    53.2943,       4024,  1717.8,   3.0398,  34.7346,2,  34.7365,2,    125.3,2, 140.4430,2,    106.2,2,     34.8,2,     0.00,2,    2.456,2,-999.000,9,-999.000,9,-999.0000,9,  2288.5,2,  2383.4,2,   7.5591,2,    25.00, -999.00,9, -999.00,9, -999.00,-999.000,9,  -999.0,9,     -999.0,9,     -999.0,9,          9,     -999.0,9,     -999.0,9,     -999.0,9,     -999.0,9
33RO20180423,        I7N,      57,          1,        110,      11109,2,20180513,       0829,    -8.0045,    53.2943,       4024,  1466.9,   4.0184,  34.7568,2,  34.7605,2,    104.9,2, 117.2660,2,     99.0,2,     35.6,2,     0.00,2,    2.531,2,-999.000,9,-999.000,9,-999.0000,9,  2289.6,2,  2372.8,2,   7.5340,2,    25.00, -999.00,9, -999.00,9, -999.00,-999.000,9,  -999.0,9,     -999.0,9,     -999.0,9,         10,     -999.0,9,     -999.0,9,     -999.0,9,     -999.0,9
33RO20180423,        I7N,      57,          1,        111,      11110,2,20180513,       0829,    -8.0045,    53.2943,       4024,  1233.8,   4.8288,  34.7756,2,  34.7772,2,     88.3,2,  97.8710,2,     93.6,2,     36.3,2,     0.00,2,    2.592,2,-999.000,9,-999.000,9,-999.0000,9,  2292.4,2,  2370.1,6,   7.5165,2,    25.00, -999.00,9, -999.00,9, -999.00,-999.000,9,  -999.0,9,     -999.0,9,     -999.0,9,         11,     -999.0,9,     -999.0,9,     -999.0,9,     -999.0,9
33RO20180423,        I7N,      57,          1,        112,      11111,2,20180513,       0829,    -8.0045,    53.2943,       4024,  1034.5,   5.7559,  34.7828,2,  34.8106,2,     74.9,2,  82.6450,2,     85.3,2,     36.3,2,     0.00,2,    2.619,2,-999.000,9,-999.000,9,-999.0000,9,  2287.7,2,  2360.6,2,   7.5060,6,    25.00, -999.00,9, -999.00,9, -999.00,-999.000,9,  -999.0,9,     -999.0,9,     -999.0,9,         12,     -999.0,9,     -999.0,9,     -999.0,9,     -999.0,9
33RO20180423,        I7N,      57,          1,        113,      11112,2,20180513,       0829,    -8.0045,    53.2943,       4024,   851.1,   6.8940,  34.8091,2,  34.8093,2,     78.2,2,  85.8880,2,     66.9,2,     34.6,2,     0.00,2,    2.475,2,-999.000,9,-999.000,9,-999.0000,9,  2264.1,6,  2344.4,2,   7.5211,2,    25.00, -999.00,9, -999.00,9, -999.00,-999.000,9,  -999.0,9,     -999.0,9,     -999.0,9,         13,     -999.0,9,     -999.0,9,     -999.0,9,     -999.0,9
33RO20180423,        I7N,      57,          1,        114,      11113,2,20180513,       0829,    -8.0045,    53.2943,       4024,   700.5,   7.8135,  34.7996,2,  34.8108,2,     89.1,2,  96.8060,2,     51.4,2,     32.3,2,     0.00,2,    2.301,2,-999.000,9,-999.000,9,-999.0000,9,  2242.2,2,  2333.0,2,   7.5468,2,    25.00, -999.00,9, -999.00,9, -999.00,-999.000,9,  -999.0,9,     -999.0,9,     -999.0,9,         14,     -999.0,9,     -999.0,9,     -999.0,9,     -999.0,9
33RO20180423,        I7N,      57,          1,        115,      11114,2,20180513,       0829,    -8.0045,    53.2943,       4024,   500.6,   9.3749,  34.8287,2,  34.8372,2,    112.2,2, 121.2170,2,     30.0,2,     27.3,2,     0.00,2,    1.897,2,-999.000,9,-999.000,9,-999.0000,9,  2205.5,2,  2312.4,2,   7.6052,2,    25.00, -999.00,9, -999.00,9, -999.00,-999.000,9,  -999.0,9,     -999.0,9,     -999.0,9,         15,     -999.0,9,     -999.0,9,     -999.0,9,     -999.0,9
33RO20180423,        I7N,      57,          1,        116,      11115,2,20180513,       0829,    -8.0045,    53.2943,       4024,   416.4,   9.9746,  34.8590,2,  34.8600,2,    115.1,2, 123.6360,2,     25.1,2,     26.0,2,     0.00,2,    1.767,2,-999.000,9,-999.000,9,-999.0000,9,  2197.5,2,  2307.9,2,   7.6217,2,    25.00, -999.00,9, -999.00,9, -999.00,-999.000,9,  -999.0,9,     -999.0,9,     -999.0,9,         16,     -999.0,9,     -999.0,9,     -999.0,9,     -999.0,9
33RO20180423,        I7N,      57,          1,        117,      11116,2,20180513,       0829,    -8.0045,    53.2943,       4024,   324.7,  10.9184,  34.9293,2,  34.9327,2,    115.0,2, 123.6680,2,     21.1,2,     24.0,2,     0.00,2,    1.655,2,-999.000,9,-999.000,9,-999.0000,9,  2190.8,2,  2308.9,2,   7.6393,2,    25.00, -999.00,9, -999.00,9, -999.00,-999.000,9,  -999.0,9,     -999.0,9,     -999.0,9,         17,     -999.0,9,     -999.0,9,     -999.0,9,     -999.0,9
33RO20180423,        I7N,      57,          1,        118,      11117,2,20180513,       0829,    -8.0045,    53.2943,       4024,   250.8,  11.7515,  34.9895,2,  35.0057,2,    110.0,2, 118.1780,2,     19.8,2,     22.9,2,     0.00,2,    1.604,2,-999.000,9,-999.000,9,-999.0000,9,  2188.4,2,  2309.6,2,   7.6498,2,    25.00, -999.00,9, -999.00,9, -999.00,-999.000,9,  -999.0,9,     -999.0,9,     -999.0,9,         18,     -999.0,9,     -999.0,9,     -999.0,9,     -999.0,9
33RO20180423,        I7N,      57,          1,        119,      11083,2,20180513,       0829,    -8.0045,    53.2943,       4024,   187.2,  12.9718,  35.0472,2,  35.0461,6,     97.8,2, 104.1910,2,     20.2,2,     22.5,2,     0.00,2,    1.579,2,-999.000,9,-999.000,9,-999.0000,9,  2185.6,2,  2312.2,2,   7.6540,2,    25.00, -999.00,9, -999.00,9, -999.00,-999.000,9,  -999.0,9,     -999.0,9,     -999.0,9,         19,     -999.0,9,     -999.0,9,     -999.0,9,     -999.0,9
33RO20180423,        I7N,      57,          1,        120,      11118,2,20180513,       0829,    -8.0045,    53.2943,       4024,   147.5,  13.6003,  35.0489,2,  35.0496,2,     86.4,2,  92.7300,2,     21.0,2,     22.9,2,     0.01,2,    1.594,2,-999.000,9,-999.000,9,-999.0000,9,  2188.1,2,  2311.7,2,   7.6488,2,    25.00, -999.00,9, -999.00,9, -999.00,-999.000,9,  -999.0,9,     -999.0,9,     -999.0,9,         20,     -999.0,9,     -999.0,9,     -999.0,9,     -999.0,9
33RO20180423,        I7N,      57,          1,        121,      11119,2,20180513,       0829,    -8.0045,    53.2943,       4024,   106.0,  16.2305,  35.1252,2,  35.1275,2,     90.0,2,  96.8750,2,     16.7,2,     19.7,2,     0.02,2,    1.400,2,-999.000,9,-999.000,9,-999.0000,9,  2163.4,2,  2312.8,2,   7.7069,2,    25.00, -999.00,9, -999.00,9, -999.00,-999.000,9,  -999.0,9,     -999.0,9,     -999.0,9,         21,     -999.0,9,     -999.0,9,     -999.0,9,     -999.0,9
33RO20180423,        I7N,      57,          1,        122,      11120,2,20180513,       0829,    -8.0045,    53.2943,       4024,    67.7,  23.7644,  35.1288,2,  35.1328,2,    153.2,2, 161.2870,2,      6.9,2,      5.8,2,     0.28,2,    0.593,2,-999.000,9,-999.000,9,-999.0000,9,  2052.8,2,  2306.0,2,   7.9402,2,    25.00, -999.00,9, -999.00,9, -999.00,-999.000,9,  -999.0,9,     -999.0,9,     -999.0,9,         22,     -999.0,9,     -999.0,9,     -999.0,9,     -999.0,9
33RO20180423,        I7N,      57,          1,        123,      11121,2,20180513,       0829,    -8.0045,    53.2943,       4024,    28.2,  28.7881,  34.6523,2,  34.6483,2,    186.6,2, 195.1810,2,      2.2,2,      0.0,2,     0.00,2,    0.112,2,-999.000,9,-999.000,9,-999.0000,9,  1947.8,6,  2270.0,6,   8.0769,2,    25.00, -999.00,9, -999.00,9, -999.00,-999.000,9,  -999.0,9,     -999.0,9,     -999.0,9,         23,     -999.0,9,     -999.0,9,     -999.0,9,     -999.0,9
33RO20180423,        I7N,      57,          1,        124,      11122,2,20180513,       0829,    -8.0045,    53.2943,       4024,     2.4,  28.8571,  34.6033,2,  34.6063,2,    186.4,2, 195.1160,2,      2.1,2,      0.0,2,     0.00,2,    0.103,2,-999.000,9,-999.000,9,-999.0000,9,  1945.3,2,  2266.8,2,   8.0764,6,    25.00, -999.00,9, -999.00,9, -999.00,-999.000,9,  -999.0,9,     -999.0,9,     -999.0,9,         24,     -999.0,9,     -999.0,9,     -999.0,9,     -999.0,9