BOTTLE,20230801CCHSIOCBG
EXPOCODE,SECT_ID,STNNBR,CASTNO,SAMPNO,BTLNBR,BTLNBR_FLAG_W,DATE,TIME,LATITUDE,LONGITUDE,DEPTH,CTDPRS,CTDTMP,CTDSAL,CTDSAL_FLAG_W,SALNTY,SALNTY_FLAG_W,CTDOXY,CTDOXY_FLAG_W,OXYGEN,OXYGEN_FLAG_W,SILCAT,SILCAT_FLAG_W,NITRAT,NITRAT_FLAG_W,NITRIT,NITRIT_FLAG_W,PHSPHT,PHSPHT_FLAG_W,CFC-11,CFC-11_FLAG_W,CFC-12,CFC-12_FLAG_W,SF6,SF6_FLAG_W,TCARBN,TCARBN_FLAG_W,ALKALI,ALKALI_FLAG_W,PH_SWS,PH_SWS_FLAG_W,PH_TMP,DELC13,DELC13_FLAG_W,DELC14,DELC14_FLAG_W,C14ERR,CCL4,CCL4_FLAG_W,DOC,DOC_FLAG_W,N2O,N2O_FLAG_W,CALCIUM,CALCIUM_FLAG_W,SAMPNO_U,DNSSAL,DNSSAL_FLAG_W,DNSSAL2,DNSSAL2_FLAG_W,SALNTY_DNSSAL,SALNTY_DNSSAL_FLAG_W,SALNTY_DNSSAL2,SALNTY_DNSSAL2_FLAG_W
,,,,,,,,,,,METERS,DBAR,ITS-90,PSS-78,,PSS-78,,UMOL/KG,,UMOL/KG,,UMOL/KG,,UMOL/KG,,UMOL/KG,,UMOL/KG,,PMOL/KG,,PMOL/KG,,FMOL/KG,,UMOL/KG,,UMOL/KG,,,,DEG C,/MILLE,,/MILLE,,/MILLE,PMOL/KG,,UMOL/KG,,NMOL/KG,,MMOL/KG,,,G/KG,,G/KG,,PSS-78,,PSS-78,
33RO20180423,        I7N,       1,          1,        124,      11122,2,20180428,       0220,   -30.0002,    54.4595,       4283,     3.3,  22.9597,  35.6185,2,  35.6240,2,    204.5,2, 215.1650,2,      1.5,2,      0.0,2,     0.00,2,    0.053,2,   1.762,6,   1.105,6,   1.5847,6,  2034.1,6,  2331.8,2,   8.0216,2,    25.00, -999.00,9, -999.00,9, -999.00,-999.000,1,    71.0,3,     -999.0,1,     -999.0,9,         24,     -999.0,9,     -999.0,9,     -999.0,9,     -999.0,9
33RO20180423,        I7N,       2,          1,        101,      11010,2,20180428,       0846,   -29.4990,    54.4968,       4905,  4980.6,   0.9643,  34.7028,2,  34.7048,2,    183.2,2, 212.2670,2,    126.5,6,     32.2,6,     0.00,6,    2.217,6,   0.177,2,   0.086,2,        0,2,  2258.9,6,  2362.8,2,   7.5975,2,    25.00, -999.00,9, -999.00,9, -999.00,-999.000,1,  -999.0,9,     -999.0,1,    10.2805,2,          1,     -999.0,9,     -999.0,9,     -999.0,9,     -999.0,9
33RO20180423,        I7N,       2,          1,        102,      11101,2,20180428,       0846,   -29.4990,    54.4968,       4905,  4424.8,   0.9796,  34.7069,2,  34.7077,2,    181.7,2, 210.6940,2,    124.5,6,     32.1,6,     0.00,6,    2.217,6,   0.168,2,   0.083,2,   0.0082,2,  2260.0,2,  2362.3,2,   7.5980,2,    25.00, -999.00,9, -999.00,9, -999.00,-999.000,1,  -999.0,9,     -999.0,1,    10.3096,2,          2,     -999.0,9,     -999.0,9,     -999.0,9,     -999.0,9
33RO20180423,        I7N,       2,          1,        103,      11102,2,20180428,       0846,   -29.4990,    54.4968,       4905,  3976.9,   1.1119,  34.7137,2,  34.7146,2,    177.5,2, 205.8460,2,    123.2,6,     32.1,6,     0.00,6,    2.216,6,-999.000,9,-999.000,9,-999.0000,9,  2261.7,2,  2367.2,6,   7.5992,6,    25.00, -999.00,9, -999.00,9, -999.00,-999.000,9,  -999.0,9,     -999.0,9,    10.2988,2,          3,     -999.0,9,     -999.0,9,     -999.0,9,     -999.0,9
33RO20180423,        I7N,       2,          1,        104,      11103,2,20180428,       0846,   -29.4990,    54.4968,       4905,  3676.5,   1.2453,  34.7188,2,  34.7195,2,    172.0,2, 198.4080,2,    123.2,6,     32.4,6,     0.00,6,    2.236,6,   0.072,2,   0.037,2,        0,2,  2265.1,2,  2374.6,2,   7.5983,2,    25.00, -999.00,9, -999.00,9, -999.00,-999.000,1,  -999.0,9,     -999.0,1,    10.3221,2,          4,     -999.0,9,     -999.0,9,     -999.0,9,     -999.0,9
33RO20180423,        I7N,       2,          1,        105,      11104,2,20180428,       0846,   -29.4990,    54.4968,       4905,  3375.6,   1.4387,  34.7270,2,  34.7266,2,    167.4,2, 192.5360,2,    120.9,2,     32.3,2,     0.00,2,    2.245,2,-999.000,9,-999.000,9,-999.0000,9,  2272.6,2,  2378.1,2,   7.5991,2,    25.00, -999.00,9, -999.00,9, -999.00,-999.000,9,  -999.0,9,     -999.0,9,    10.3512,2,          5,     -999.0,9,     -999.0,9,     -999.0,9,     -999.0,9
33RO20180423,        I7N,       2,          1,        106,      11105,2,20180428,       0846,   -29.4990,    54.4968,       4905,  3075.5,   1.7237,  34.7408,2,  34.7403,2,    163.6,2, 187.2000,2,    113.9,2,     31.9,2,     0.00,2,    2.241,2,   0.027,2,   0.014,2,        0,2,  2269.6,2,  2376.3,2,   7.6027,2,    25.00, -999.00,9, -999.00,9, -999.00,-999.000,1,  -999.0,9,     -999.0,1,    10.3303,2,          6,     -999.0,9,     -999.0,9,     -999.0,9,     -999.0,9
33RO20180423,        I7N,       2,          1,        107,      11106,2,20180428,       0846,   -29.4990,    54.4968,       4905,  2776.5,   1.9994,  34.7507,2,  34.7556,2,    162.5,2, 185.3880,2,    105.4,2,     31.5,2,     0.00,2,    2.196,2,   0.026,6,   0.013,6,   0.0058,6,  2265.5,2,  2371.8,2,   7.6045,2,    25.00, -999.00,9, -999.00,9, -999.00,-999.000,1,  -999.0,9,     -999.0,1,    10.3415,2,          7,     -999.0,9,     -999.0,9,     -999.0,9,     -999.0,9
33RO20180423,        I7N,       2,          1,        108,      11107,2,20180428,       0846,   -29.4990,    54.4968,       4905,  2476.8,   2.1611,  34.7462,2,  34.7488,2,    160.5,2, 195.4540,4,    100.8,2,     31.7,2,     0.00,2,    2.211,2,-999.000,9,-999.000,9,-999.0000,9,  2263.5,2,  2370.6,2,   7.6012,2,    25.00, -999.00,9, -999.00,9, -999.00,-999.000,9,  -999.0,9,     -999.0,9,    10.3214,2,          8,     -999.0,9,     -999.0,9,     -999.0,9,     -999.0,9
33RO20180423,        I7N,       2,          1,        109,      11108,2,20180428,       0846,   -29.4990,    54.4968,       4905,  2176.7,   2.3319,  34.7289,2,  34.7285,2,    161.0,2, 180.7390,2,     94.2,2,     31.6,2,     0.00,2,    2.210,2,   0.042,2,   0.021,2,        0,2,  2258.2,2,  2363.4,2,   7.6027,2,    25.00, -999.00,9, -999.00,9, -999.00,-999.000,1,  -999.0,9,     -999.0,1,    10.3128,2,          9,     -999.0,9,     -999.0,9,     -999.0,9,     -999.0,9
33RO20180423,        I7N,       2,          1,        110,      11109,2,20180428,       0846,   -29.4990,    54.4968,       4905,  1866.0,   2.5705,  34.6741,2,  34.6741,2,    157.1,2, 176.5100,2,     87.4,2,     32.5,2,     0.00,2,    2.266,2,-999.000,9,-999.000,9,-999.0000,9,  2253.6,2,  2354.1,2,   7.5815,2,    25.00, -999.00,9, -999.00,9, -999.00,-999.000,9,  -999.0,9,     -999.0,9,    10.2864,2,         10,     -999.0,9,     -999.0,9,     -999.0,9,     -999.0,9
33RO20180423,        I7N,       2,          1,        111,      11110,2,20180428,       0846,   -29.4990,    54.4968,       4905,  1506.2,   3.0823,  34.5692,2,  34.5799,2,    152.4,2, 174.8050,4,     74.8,2,     33.6,2,     0.00,2,    2.345,2,   0.318,2,   0.158,2,   0.0415,2,  2247.3,6,  2339.5,2,   7.5660,2,    25.00, -999.00,9, -999.00,9, -999.00,-999.000,1,  -999.0,9,     -999.0,1,    10.2601,2,         11,     -999.0,9,     -999.0,9,     -999.0,9,     -999.0,9
33RO20180423,        I7N,       2,          1,        112,      11111,2,20180428,       0846,   -29.4990,    54.4968,       4905,  1352.4,   3.4626,  34.4889,2,  34.4892,2,    158.1,2, 174.1755,2,     63.1,2,     33.5,2,     0.00,2,    2.318,2,   0.714,2,   0.353,2,   0.1454,2,  2235.8,2,  2328.8,2,   7.5652,2,    25.00, -999.00,9, -999.00,9, -999.00,-999.000,1,  -999.0,9,     -999.0,1,    10.2620,2,         12,     -999.0,9,     -999.0,9,     -999.0,9,     -999.0,9
33RO20180423,        I7N,       2,          1,        113,      11112,2,20180428,       0846,   -29.4990,    54.4968,       4905,  1151.1,   4.3834,  34.4053,2,  34.4165,2,    173.6,2, 189.7290,2,     43.6,2,     31.5,2,     0.00,2,    2.191,2,-999.000,9,-999.000,9,-999.0000,9,  2210.9,2,  2309.5,6,   7.5945,2,    25.00, -999.00,9, -999.00,9, -999.00,-999.000,9,  -999.0,9,     -999.0,9,    10.2288,2,         13,     -999.0,9,     -999.0,9,     -999.0,9,     -999.0,9
33RO20180423,        I7N,       2,          1,        114,      11113,2,20180428,       0846,   -29.4990,    54.4968,       4905,   938.7,   6.6854,  34.4699,2,  34.4737,2,    187.1,2, 203.5950,2,     21.3,2,     25.7,2,     0.00,2,    1.795,2,-999.000,9,-999.000,9,-999.0000,9,  2172.1,2,  2293.3,2,   7.6553,6,    25.00, -999.00,9, -999.00,9, -999.00,-999.000,9,  -999.0,9,     -999.0,9,    10.2029,2,         14,     -999.0,9,     -999.0,9,     -999.0,9,     -999.0,9
33RO20180423,        I7N,       2,          1,        115,      11114,2,20180428,       0846,   -29.4990,    54.4968,       4905,   788.0,   8.6440,  34.6260,2,  34.6302,2,    198.9,2, 215.3490,2,     10.3,2,     19.9,2,     0.00,2,    1.432,2,   3.156,2,   1.702,2,    1.038,2,  2150.8,2,  2291.2,2,   7.7159,2,    25.00, -999.00,9, -999.00,9, -999.00,-999.000,1,  -999.0,9,     -999.0,1,    10.3006,3,         15,     -999.0,9,     -999.0,9,     -999.0,9,     -999.0,9
33RO20180423,        I7N,       2,          1,        116,      11115,2,20180428,       0846,   -29.4990,    54.4968,       4905,   639.0,  10.3313,  34.8247,2,  34.8271,6,    212.6,2, 228.8210,2,      5.2,2,     14.4,2,     0.00,2,    1.083,2,-999.000,9,-999.000,9,-999.0000,9,  2130.5,2,  2297.4,2,   7.7713,2,    25.00, -999.00,9, -999.00,9, -999.00,-999.000,9,  -999.0,9,     -999.0,9,    10.3225,2,         16,     -999.0,9,     -999.0,9,     -999.0,9,     -999.0,9
33RO20180423,        I7N,       2,          1,        117,      11116,2,20180428,       0846,   -29.4990,    54.4968,       4905,   476.5,  11.7971,  35.0451,2,  35.0502,2,    215.0,2, 230.4120,2,      4.0,2,     10.7,2,     0.00,2,    0.869,2,   3.115,2,   1.809,2,   1.7367,2,  2125.6,2,  2309.0,2,   7.8075,2,    25.00, -999.00,9, -999.00,9, -999.00,-999.000,1,  -999.0,9,     -999.0,1,    10.3519,2,         17,     -999.0,9,     -999.0,9,     -999.0,9,     -999.0,9
33RO20180423,        I7N,       2,          1,        118,      11117,2,20180428,       0846,   -29.4990,    54.4968,       4905,   369.6,  12.7279,  35.1857,2,  35.1908,2,    215.1,2, 229.6580,2,      3.5,2,      8.5,2,     0.00,2,    0.752,2,-999.000,9,-999.000,9,-999.0000,9,  2119.7,2,  2316.1,2,   7.8296,2,    25.00, -999.00,9, -999.00,9, -999.00,-999.000,9,  -999.0,9,     -999.0,9,    10.4330,2,         18,     -999.0,9,     -999.0,9,     -999.0,9,     -999.0,9
33RO20180423,        I7N,       2,          1,        119,      11083,2,20180428,       0846,   -29.4990,    54.4968,       4905,   293.9,  13.3682,  35.2775,2,  35.2789,2,    214.3,2, 228.3570,2,      3.2,2,      7.1,2,     0.00,2,    0.665,2,   2.825,2,   1.688,2,   1.8822,2,  2116.7,2,  2320.0,2,   7.8447,2,    25.00, -999.00,9, -999.00,9, -999.00,-999.000,1,  -999.0,9,     -999.0,1,    10.4388,2,         19,     -999.0,9,     -999.0,9,     -999.0,9,     -999.0,9
33RO20180423,        I7N,       2,          1,        120,      11118,2,20180428,       0846,   -29.4990,    54.4968,       4905,   214.2,  14.3195,  35.3863,2,  35.3902,2,    208.4,2, 221.6350,2,      2.8,2,      5.4,2,     0.00,2,    0.565,2,-999.000,9,-999.000,9,-999.0000,9,  2113.4,2,  2324.4,2,   7.8609,2,    25.00, -999.00,9, -999.00,9, -999.00,-999.000,9,  -999.0,9,     -999.0,9,    10.4587,2,         20,     -999.0,9,     -999.0,9,     -999.0,9,     -999.0,9
33RO20180423,        I7N,       2,          1,        121,      11119,2,20180428,       0846,   -29.4990,    54.4968,       4905,   164.9,  15.4671,  35.4864,2,  35.4882,2,    206.0,2, 219.1025,2,      2.2,2,      3.1,2,     0.02,2,    0.439,2,   2.561,2,   1.548,2,   1.8162,2,  2106.4,2,  2328.8,2,   7.8848,2,    25.00, -999.00,9, -999.00,9, -999.00,-999.000,1,  -999.0,9,     -999.0,1,    10.4876,2,         21,     -999.0,9,     -999.0,9,     -999.0,9,     -999.0,9
33RO20180423,        I7N,       2,          1,        122,      11120,2,20180428,       0846,   -29.4990,    54.4968,       4905,   100.6,  18.3222,  35.6181,2,  35.6222,2,    222.2,2, 235.1220,2,      1.4,2,      0.0,2,     0.00,2,    0.147,2,-999.000,9,-999.000,9,-999.0000,9,  2070.1,2,  2338.4,2,   7.9607,6,    25.00, -999.00,9, -999.00,9, -999.00,-999.000,9,  -999.0,9,     -999.0,9,    10.5498,2,         22,     -999.0,9,     -999.0,9,     -999.0,9,     -999.0,9
33RO20180423,        I7N,       2,          1,        123,      11121,2,20180428,       0846,   -29.4990,    54.4968,       4905,    61.5,  23.0722,  35.6760,2,  35.6830,2,    203.8,2, 215.8050,2,      1.3,2,      0.0,2,     0.00,2,    0.051,2,-999.000,9,-999.000,9,-999.0000,9,  2040.5,2,  2337.6,6,   8.0208,2,    25.00, -999.00,9, -999.00,9, -999.00,-999.000,9,  -999.0,9,     -999.0,9,    10.5686,2,         23,     -999.0,9,     -999.0,9,     -999.0,9,     -999.0,9
33RO20180423,        I7N,       2,          1,        124,      11122,2,20180428,       0846,   -29.4990,    54.4968,       4905,     4.0,  23.2463,  35.6214,2,-999.0000,1,    204.2,2, 215.7960,2,      1.3,2,      0.0,2,     0.00,2,    0.042,2,   1.740,2,   1.099,2,   1.6123,2,  2035.5,6,  2332.7,2,   8.0242,2,    25.00, -999.00,9, -999.00,9, -999.00,-999.000,1,  -999.0,9,     -999.0,1,    10.5550,2,         24,     -999.0,9,     -999.0,9,     -999.0,9,     -999.0,9