BOTTLE,20230801CCHSIOCBG
EXPOCODE,SECT_ID,STNNBR,CASTNO,SAMPNO,BTLNBR,BTLNBR_FLAG_W,DATE,TIME,LATITUDE,LONGITUDE,DEPTH,CTDPRS,CTDTMP,CTDSAL,CTDSAL_FLAG_W,SALNTY,SALNTY_FLAG_W,CTDOXY,CTDOXY_FLAG_W,OXYGEN,OXYGEN_FLAG_W,SILCAT,SILCAT_FLAG_W,NITRAT,NITRAT_FLAG_W,NITRIT,NITRIT_FLAG_W,PHSPHT,PHSPHT_FLAG_W,CFC-11,CFC-11_FLAG_W,CFC-12,CFC-12_FLAG_W,SF6,SF6_FLAG_W,TCARBN,TCARBN_FLAG_W,ALKALI,ALKALI_FLAG_W,PH_SWS,PH_SWS_FLAG_W,PH_TMP,DELC13,DELC13_FLAG_W,DELC14,DELC14_FLAG_W,C14ERR,CCL4,CCL4_FLAG_W,DOC,DOC_FLAG_W,N2O,N2O_FLAG_W,CALCIUM,CALCIUM_FLAG_W,SAMPNO_U,DNSSAL,DNSSAL_FLAG_W,DNSSAL2,DNSSAL2_FLAG_W,SALNTY_DNSSAL,SALNTY_DNSSAL_FLAG_W,SALNTY_DNSSAL2,SALNTY_DNSSAL2_FLAG_W
,,,,,,,,,,,METERS,DBAR,ITS-90,PSS-78,,PSS-78,,UMOL/KG,,UMOL/KG,,UMOL/KG,,UMOL/KG,,UMOL/KG,,UMOL/KG,,PMOL/KG,,PMOL/KG,,FMOL/KG,,UMOL/KG,,UMOL/KG,,,,DEG C,/MILLE,,/MILLE,,/MILLE,PMOL/KG,,UMOL/KG,,NMOL/KG,,MMOL/KG,,,G/KG,,G/KG,,PSS-78,,PSS-78,
33RO20180423,        I7N,      54,          1,        101,      11010,2,20180512,       1832,    -8.3962,    52.5978,       5147,  5221.4,   1.2431,  34.7106,2,  34.7119,2,    170.2,2, 198.1240,2,    126.8,6,     33.0,6,     0.00,6,    2.258,6,   0.062,2,   0.031,2,        0,2,  2274.1,6,  2379.0,2,   7.5988,6,    25.00,    0.45,2, -171.00,2,    1.73,-999.000,1,    41.2,3,     -999.0,1,     -999.0,9,          1,     -999.0,9,     -999.0,9,     -999.0,9,     -999.0,9
33RO20180423,        I7N,      54,          1,        102,      11101,2,20180512,       1832,    -8.3962,    52.5978,       5147,  5021.2,   1.2219,  34.7111,2,  34.7115,2,    169.5,2, 198.0905,2,    126.8,6,     33.0,6,     0.00,6,    2.259,6,   0.061,6,   0.032,6,   0.0059,6,  2272.6,2,  2385.5,2,   7.5991,2,    25.00, -999.00,9, -999.00,9, -999.00,-999.000,1,  -999.0,9,     -999.0,1,     -999.0,9,          2,     -999.0,9,     -999.0,9,     -999.0,9,     -999.0,9
33RO20180423,        I7N,      54,          1,        103,      11102,2,20180512,       1832,    -8.3962,    52.5978,       5147,  4800.0,   1.2107,  34.7118,2,  34.7113,2,    168.5,2, 197.3930,2,    127.4,6,     33.1,6,     0.00,6,    2.262,6,   0.060,2,   0.031,2,   0.0087,2,  2272.6,2,  2378.8,2,   7.5986,2,    25.00,    0.45,6, -171.00,6,    1.69,-999.000,1,    43.6,3,     -999.0,1,     -999.0,9,          3,     -999.0,9,     -999.0,9,     -999.0,9,     -999.0,9
33RO20180423,        I7N,      54,          1,        104,      11103,2,20180512,       1832,    -8.3962,    52.5978,       5147,  4500.0,   1.2327,  34.7141,2,  34.7142,2,    165.9,2, 194.5570,2,    127.8,6,     33.2,6,     0.00,6,    2.274,6,   0.052,2,   0.026,2,        0,2,  2274.2,2,  2376.0,2,   7.5966,2,    25.00,    0.46,2, -175.00,2,    2.40,-999.000,1,    46.6,3,     -999.0,1,     -999.0,9,          4,     -999.0,9,     -999.0,9,     -999.0,9,     -999.0,9
33RO20180423,        I7N,      54,          1,        105,      11104,2,20180512,       1832,    -8.3962,    52.5978,       5147,  4200.3,   1.2727,  34.7166,2,  34.7075,2,    162.7,2, 190.0990,2,    128.9,6,     33.4,6,     0.00,6,    2.299,6,   0.042,2,   0.021,2,        0,2,  2278.6,2,  2385.9,6,   7.5961,2,    25.00,    0.40,2, -175.00,2,    2.20,-999.000,1,    49.4,3,     -999.0,1,     -999.0,9,          5,     -999.0,9,     -999.0,9,     -999.0,9,     -999.0,9
33RO20180423,        I7N,      54,          1,        106,      11105,2,20180512,       1832,    -8.3962,    52.5978,       5147,  3902.0,   1.4517,  34.7239,2,  34.7378,2,    153.7,2, 179.5580,2,    131.0,2,     33.9,2,     0.00,2,    2.334,2,   0.022,2,   0.012,2,        0,2,  2292.3,2,  2390.7,2,   7.5935,2,    25.00,    0.51,2, -179.00,2,    2.11,-999.000,1,    49.6,3,     -999.0,1,     -999.0,9,          6,     -999.0,9,     -999.0,9,     -999.0,9,     -999.0,9
33RO20180423,        I7N,      54,          1,        107,      11106,2,20180512,       1832,    -8.3962,    52.5978,       5147,  3600.8,   1.5987,  34.7297,2,  34.7303,2,    146.2,2, 170.4740,2,    132.2,2,     34.4,2,     0.00,2,    2.364,2,   0.009,6,   0.006,6,   0.0062,6,  2298.4,2,  2403.7,2,   7.5910,2,    25.00,    0.44,2, -187.00,2,    2.11,-999.000,1,  -999.0,9,     -999.0,1,     -999.0,9,          7,     -999.0,9,     -999.0,9,     -999.0,9,     -999.0,9
33RO20180423,        I7N,      54,          1,        108,      11107,2,20180512,       1832,    -8.3962,    52.5978,       5147,  3300.3,   1.6793,  34.7331,2,  34.7352,6,    143.0,2, 166.0830,2,    131.6,2,     34.6,2,     0.00,2,    2.387,2,   0.004,2,   0.003,2,        0,2,  2302.6,2,  2400.6,2,   7.5883,2,    25.00,    0.50,2, -187.00,2,    1.76,-999.000,1,    51.0,3,     -999.0,1,     -999.0,9,          8,     -999.0,9,     -999.0,9,     -999.0,9,     -999.0,9
33RO20180423,        I7N,      54,          1,        109,      11108,2,20180512,       1832,    -8.3962,    52.5978,       5147,  3000.7,   1.7680,  34.7370,2,  34.7383,2,    140.1,2, 161.8040,2,    131.1,2,     34.4,4,     0.00,2,    2.401,2,   0.003,2,   0.002,2,        0,2,  2305.6,2,  2398.8,2,   7.5852,2,    25.00,    0.28,2, -182.00,3,    1.63,-999.000,1,  -999.0,9,     -999.0,1,     -999.0,9,          9,     -999.0,9,     -999.0,9,     -999.0,9,     -999.0,9
33RO20180423,        I7N,      54,          1,        110,      11109,2,20180512,       1832,    -8.3962,    52.5978,       5147,  2700.5,   1.8938,  34.7410,2,  34.7423,2,    137.4,2, 157.8450,2,    129.3,2,     34.9,2,     0.00,2,    2.412,2,   0.004,2,   0.004,2,        0,2,  2304.8,2,  2405.4,2,   7.5794,2,    25.00,    0.28,2, -189.00,3,    1.62,-999.000,1,    48.9,3,     -999.0,1,     -999.0,9,         10,     -999.0,9,     -999.0,9,     -999.0,9,     -999.0,9
33RO20180423,        I7N,      54,          1,        111,      11110,2,20180512,       1832,    -8.3962,    52.5978,       5147,  2400.8,   2.0308,  34.7421,2,  34.7518,2,    136.0,2, 155.1460,2,    127.1,2,     34.9,2,     0.00,2,    2.426,2,   0.003,2,   0.003,2,        0,2,  2301.8,2,  2401.3,2,   7.5773,2,    25.00,    0.28,2, -181.00,3,    1.72,-999.000,1,    47.8,3,     -999.0,1,     -999.0,9,         11,     -999.0,9,     -999.0,9,     -999.0,9,     -999.0,9
33RO20180423,        I7N,      54,          1,        112,      11111,2,20180512,       1832,    -8.3962,    52.5978,       5147,  2101.2,   2.2942,  34.7423,2,  34.7452,2,    133.3,2, 151.2790,2,    120.8,2,     34.8,2,     0.00,2,    2.436,2,   0.007,2,   0.005,2,        0,2,  2299.4,2,  2395.2,2,   7.5710,2,    25.00,    0.43,2, -184.00,3,    1.69,-999.000,1,    49.0,3,     -999.0,1,     -999.0,9,         12,     -999.0,9,     -999.0,9,     -999.0,9,     -999.0,9
33RO20180423,        I7N,      54,          1,        113,      11112,2,20180512,       1832,    -8.3962,    52.5978,       5147,  1801.0,   2.9289,  34.7392,2,  34.7406,2,    124.9,2, 141.2500,2,    109.8,2,     35.1,2,     0.00,2,    2.456,2,   0.020,2,   0.011,2,        0,2,  2290.6,2,  2385.5,2,   7.5601,2,    25.00,    0.45,2, -175.00,2,    1.71,-999.000,1,  -999.0,9,     -999.0,1,     -999.0,9,         13,     -999.0,9,     -999.0,9,     -999.0,9,     -999.0,9
33RO20180423,        I7N,      54,          1,        114,      11113,2,20180512,       1832,    -8.3962,    52.5978,       5147,  1500.0,   3.7946,  34.7467,2,  34.7486,2,    111.3,2, 124.3620,2,     99.7,2,     35.5,2,     0.00,2,    2.501,2,   0.052,2,   0.029,2,        0,2,  2288.1,2,  2374.1,2,   7.5422,2,    25.00,    0.42,2, -173.00,2,    1.72,-999.000,1,  -999.0,9,     -999.0,1,     -999.0,9,         14,     -999.0,9,     -999.0,9,     -999.0,9,     -999.0,9
33RO20180423,        I7N,      54,          1,        115,      11114,2,20180512,       1832,    -8.3962,    52.5978,       5147,  1199.4,   5.2635,  34.7897,2,  34.7915,2,     79.9,2,  89.0350,2,     91.0,2,     36.6,2,     0.00,2,    2.621,2,   0.072,2,   0.040,2,        0,2,  2292.7,2,  2366.9,6,   7.5077,2,    25.00,    0.32,2, -161.00,2,    1.91,-999.000,1,  -999.0,9,     -999.0,1,     -999.0,9,         15,     -999.0,9,     -999.0,9,     -999.0,9,     -999.0,9
33RO20180423,        I7N,      54,          1,        116,      11115,2,20180512,       1832,    -8.3962,    52.5978,       5147,  1000.5,   6.0983,  34.7917,2,  34.7942,2,     75.4,2,  83.8880,2,     80.4,2,     36.0,2,     0.00,2,    2.572,2,   0.173,2,   0.092,2,   0.0375,2,  2283.1,2,  2354.5,2,   7.5085,6,    25.00,    0.25,2, -150.00,2,    2.23,-999.000,1,  -999.0,9,     -999.0,1,     -999.0,9,         16,     -999.0,9,     -999.0,9,     -999.0,9,     -999.0,9
33RO20180423,        I7N,      54,          1,        117,      11116,2,20180512,       1832,    -8.3962,    52.5978,       5147,   801.1,   7.1214,  34.8205,2,  34.8225,2,     73.9,2,  80.7400,2,     66.2,2,     34.9,2,     0.00,2,    2.495,2,   0.370,2,   0.196,2,   0.0503,2,  2268.7,6,  2340.5,2,   7.5149,2,    25.00,    0.40,2, -121.00,2,    1.82,-999.000,1,  -999.0,9,     -999.0,1,     -999.0,9,         17,     -999.0,9,     -999.0,9,     -999.0,9,     -999.0,9
33RO20180423,        I7N,      54,          1,        118,      11117,2,20180512,       1832,    -8.3962,    52.5978,       5147,   600.0,   8.3784,  34.7992,2,  34.8007,2,    102.9,2, 111.5390,2,     42.4,2,     30.3,2,     0.00,2,    2.134,2,   1.176,2,   0.626,2,    0.277,2,  2226.9,2,  2305.0,4,   7.5770,2,    25.00,    0.61,2,  -63.80,2,    1.83,-999.000,1,    53.6,3,     -999.0,1,     -999.0,9,         18,     -999.0,9,     -999.0,9,     -999.0,9,     -999.0,9
33RO20180423,        I7N,      54,          1,        119,      11083,2,20180512,       1832,    -8.3962,    52.5978,       5147,   400.7,   9.9828,  34.8643,2,  34.8644,2,    112.7,2, 122.1760,2,     26.1,2,     26.4,2,     0.00,2,    1.809,2,   1.860,2,   1.003,2,   0.5241,2,  2200.2,2,  2309.3,2,   7.6174,2,    25.00,    0.48,2,  -16.30,2,    1.92,-999.000,1,  -999.0,9,     -999.0,1,     -999.0,9,         19,     -999.0,9,     -999.0,9,     -999.0,9,     -999.0,9
33RO20180423,        I7N,      54,          1,        120,      11118,2,20180512,       1832,    -8.3962,    52.5978,       5147,   251.0,  11.7883,  34.9754,2,  34.9758,2,    106.7,2, 114.9255,2,     21.4,2,     23.4,2,     0.01,2,    1.594,2,   2.044,2,   1.129,2,   0.7161,2,  2192.3,2,  2309.9,2,   7.6464,2,    25.00,    0.51,2,    6.28,2,    2.05,-999.000,1,    49.9,3,     -999.0,1,     -999.0,9,         20,     -999.0,9,     -999.0,9,     -999.0,9,     -999.0,9
33RO20180423,        I7N,      54,          1,        121,      11119,2,20180512,       1832,    -8.3962,    52.5978,       5147,   151.6,  14.0425,  35.0975,2,  35.1002,2,     97.5,2, 104.5570,2,     18.8,2,     21.1,2,     0.01,2,    1.458,2,   2.001,2,   1.152,2,   0.8719,2,  2179.0,2,  2312.9,2,   7.6777,2,    25.00,    0.18,2,    8.90,2,    1.96,-999.000,1,    55.1,3,     -999.0,1,     -999.0,9,         21,     -999.0,9,     -999.0,9,     -999.0,9,     -999.0,9
33RO20180423,        I7N,      54,          1,        122,      11120,2,20180512,       1832,    -8.3962,    52.5978,       5147,   100.2,  16.9151,  35.2037,2,  35.2071,2,    112.4,2, 120.0390,2,     15.6,2,     15.3,2,     0.04,2,    1.095,2,   1.874,2,   1.122,2,   1.1125,2,  2143.7,2,  2312.1,2,   7.7752,2,    25.00,    0.20,2,   12.60,2,    1.97,-999.000,1,    54.7,3,     -999.0,1,     -999.0,9,         22,     -999.0,9,     -999.0,9,     -999.0,9,     -999.0,9
33RO20180423,        I7N,      54,          1,        123,      11121,2,20180512,       1832,    -8.3962,    52.5978,       5147,    52.1,  22.0590,  35.0648,2,  35.0659,2,    132.8,2, 141.5250,2,      9.4,2,      9.8,2,     0.47,2,    0.794,2,   1.702,2,   1.034,2,    1.086,2,  2082.3,2,  2301.9,6,   7.8820,2,    25.00,    0.45,2,   15.50,2,    2.08,-999.000,1,    70.5,3,     -999.0,1,     -999.0,9,         23,     -999.0,9,     -999.0,9,     -999.0,9,     -999.0,9
33RO20180423,        I7N,      54,          1,        124,      11122,2,20180512,       1832,    -8.3962,    52.5978,       5147,     3.6,  28.6327,  34.8916,2,  34.8947,2,    185.9,2, 195.3800,2,      2.4,2,      0.1,2,     0.01,2,    0.119,2,   1.414,2,   0.903,2,   1.3162,2,  1960.1,6,  2284.8,2,   8.0793,6,    25.00,    0.99,2,   18.10,2,    1.98,-999.000,1,    85.7,3,     -999.0,1,     -999.0,9,         24,     -999.0,9,     -999.0,9,     -999.0,9,     -999.0,9