BOTTLE,20230801CCHSIOCBG
EXPOCODE,SECT_ID,STNNBR,CASTNO,SAMPNO,BTLNBR,BTLNBR_FLAG_W,DATE,TIME,LATITUDE,LONGITUDE,DEPTH,CTDPRS,CTDTMP,CTDSAL,CTDSAL_FLAG_W,SALNTY,SALNTY_FLAG_W,CTDOXY,CTDOXY_FLAG_W,OXYGEN,OXYGEN_FLAG_W,SILCAT,SILCAT_FLAG_W,NITRAT,NITRAT_FLAG_W,NITRIT,NITRIT_FLAG_W,PHSPHT,PHSPHT_FLAG_W,CFC-11,CFC-11_FLAG_W,CFC-12,CFC-12_FLAG_W,SF6,SF6_FLAG_W,TCARBN,TCARBN_FLAG_W,ALKALI,ALKALI_FLAG_W,PH_SWS,PH_SWS_FLAG_W,PH_TMP,DELC13,DELC13_FLAG_W,DELC14,DELC14_FLAG_W,C14ERR,CCL4,CCL4_FLAG_W,DOC,DOC_FLAG_W,N2O,N2O_FLAG_W,CALCIUM,CALCIUM_FLAG_W,SAMPNO_U,DNSSAL,DNSSAL_FLAG_W,DNSSAL2,DNSSAL2_FLAG_W,SALNTY_DNSSAL,SALNTY_DNSSAL_FLAG_W,SALNTY_DNSSAL2,SALNTY_DNSSAL2_FLAG_W
,,,,,,,,,,,METERS,DBAR,ITS-90,PSS-78,,PSS-78,,UMOL/KG,,UMOL/KG,,UMOL/KG,,UMOL/KG,,UMOL/KG,,UMOL/KG,,PMOL/KG,,PMOL/KG,,FMOL/KG,,UMOL/KG,,UMOL/KG,,,,DEG C,/MILLE,,/MILLE,,/MILLE,PMOL/KG,,UMOL/KG,,NMOL/KG,,MMOL/KG,,,G/KG,,G/KG,,PSS-78,,PSS-78,
33RO20180423,        I7N,       9,          1,        101,      11010,2,20180430,       0526,   -27.0025,    54.4875,       5270,  5360.9,   1.0027,  34.7012,2,  34.7019,2,    179.5,2, 228.1120,4,    126.5,6,     32.0,6,     0.00,6,    2.225,6,   0.152,3,   0.098,3,   0.4994,3,  2266.4,2,  2369.3,6,   7.5989,2,    25.00, -999.00,9, -999.00,9, -999.00,-999.000,1,    45.6,3,     -999.0,1,     -999.0,9,          1,     -999.0,9,     -999.0,9,     -999.0,9,     -999.0,9
33RO20180423,        I7N,       9,          1,        102,      11101,2,20180430,       0526,   -27.0025,    54.4875,       5270,  4850.0,   0.9896,  34.7036,2,  34.7041,6,    177.2,2, 208.3150,2,    126.5,6,     31.8,6,     0.00,6,    2.226,6,   0.107,2,   0.053,2,   0.0222,2,  2262.9,6,  2371.4,2,   7.5972,2,    25.00, -999.00,9, -999.00,9, -999.00,-999.000,1,    46.5,3,     -999.0,1,     -999.0,9,          2,     -999.0,9,     -999.0,9,     -999.0,9,     -999.0,9
33RO20180423,        I7N,       9,          1,        103,      11102,2,20180430,       0526,   -27.0025,    54.4875,       5270,  4424.7,   1.0677,  34.7088,2,  34.7094,2,    174.2,2, 205.5370,2,    124.9,6,     31.9,6,     0.00,6,    2.221,6,   0.078,2,   0.040,2,   0.0142,2,  2265.2,2,  2370.9,2,   7.5986,6,    25.00, -999.00,9, -999.00,9, -999.00,-999.000,1,    45.1,3,     -999.0,1,     -999.0,9,          3,     -999.0,9,     -999.0,9,     -999.0,9,     -999.0,9
33RO20180423,        I7N,       9,          1,        104,      11103,2,20180430,       0526,   -27.0025,    54.4875,       5270,  4125.5,   1.1918,  34.7139,2,  34.7137,2,    168.6,2, 197.3420,2,    125.0,6,     32.1,6,     0.00,6,    2.243,6,   0.049,2,   0.025,2,        0,2,  2269.8,2,  2378.4,2,   7.5981,2,    25.00, -999.00,9, -999.00,9, -999.00,-999.000,1,  -999.0,9,     -999.0,1,     -999.0,9,          4,     -999.0,9,     -999.0,9,     -999.0,9,     -999.0,9
33RO20180423,        I7N,       9,          1,        105,      11104,2,20180430,       0526,   -27.0025,    54.4875,       5270,  3825.6,   1.3428,  34.7188,2,  34.7199,2,    161.9,2, 188.7080,2,    126.7,2,     32.5,2,     0.00,2,    2.290,2,   0.029,2,   0.014,2,        0,2,  2278.7,2,  2384.9,2,   7.5955,2,    25.00, -999.00,9, -999.00,9, -999.00,-999.000,1,  -999.0,9,     -999.0,1,     -999.0,9,          5,     -999.0,9,     -999.0,9,     -999.0,9,     -999.0,9
33RO20180423,        I7N,       9,          1,        106,      11105,2,20180430,       0526,   -27.0025,    54.4875,       5270,  3524.7,   1.5217,  34.7258,2,  34.7256,2,    155.0,2, 183.8790,4,    126.6,2,     32.8,2,     0.00,2,    2.305,2,   0.013,6,   0.007,6,   0.0062,6,  2283.0,2,  2390.7,2,   7.5936,2,    25.00, -999.00,9, -999.00,9, -999.00,-999.000,1,    46.6,3,     -999.0,1,     -999.0,9,          6,     -999.0,9,     -999.0,9,     -999.0,9,     -999.0,9
33RO20180423,        I7N,       9,          1,        107,      11106,2,20180430,       0526,   -27.0025,    54.4875,       5270,  3225.2,   1.7243,  34.7323,2,  34.7327,2,    147.9,2, 170.8960,2,    126.2,2,     33.2,2,     0.00,2,    2.330,2,   0.005,2,   0.004,2,        0,2,  2291.5,2,  2396.5,2,   7.5893,2,    25.00, -999.00,9, -999.00,9, -999.00,-999.000,1,    46.8,3,     -999.0,1,     -999.0,9,          7,     -999.0,9,     -999.0,9,     -999.0,9,     -999.0,9
33RO20180423,        I7N,       9,          1,        108,      11107,2,20180430,       0526,   -27.0025,    54.4875,       5270,  2924.9,   1.8929,  34.7373,2,  34.7398,6,    144.0,2, 166.2280,2,    124.8,2,     33.3,2,     0.00,2,    2.338,2,   0.005,2,   0.003,2,        0,2,  2292.8,2,  2398.3,2,   7.5851,2,    25.00, -999.00,9, -999.00,9, -999.00,-999.000,1,    47.1,3,     -999.0,1,     -999.0,9,          8,     -999.0,9,     -999.0,9,     -999.0,9,     -999.0,9
33RO20180423,        I7N,       9,          1,        109,      11108,2,20180430,       0526,   -27.0025,    54.4875,       5270,  2625.3,   2.0379,  34.7378,2,  34.7380,2,    146.0,2, 167.6830,2,    116.6,2,     32.8,2,     0.00,2,    2.315,2,   0.013,2,   0.008,2,   0.0106,2,  2284.1,2,  2389.6,2,   7.5876,2,    25.00, -999.00,9, -999.00,9, -999.00,-999.000,1,    47.4,3,     -999.0,1,     -999.0,9,          9,     -999.0,9,     -999.0,9,     -999.0,9,     -999.0,9
33RO20180423,        I7N,       9,          1,        110,      11109,2,20180430,       0526,   -27.0025,    54.4875,       5270,  2324.6,   2.2177,  34.7373,2,  34.7418,2,    153.9,2,-999.0000,9,    101.2,2,     31.7,2,     0.00,2,    2.233,2,   0.024,2,   0.011,2,        0,2,  2266.9,2,  2375.3,2,   7.5936,2,    25.00, -999.00,9, -999.00,9, -999.00,-999.000,1,  -999.0,9,     -999.0,1,     -999.0,9,         10,     -999.0,9,     -999.0,9,     -999.0,9,     -999.0,9
33RO20180423,        I7N,       9,          1,        111,      11110,2,20180430,       0526,   -27.0025,    54.4875,       5270,  2025.0,   2.3957,  34.7151,2,  34.7165,2,    155.7,2, 181.2940,4,     92.8,2,     31.6,2,     0.00,2,    2.233,2,   0.040,2,   0.021,2,   0.0148,2,  2261.2,2,  2364.8,2,   7.5909,2,    25.00, -999.00,9, -999.00,9, -999.00,-999.000,1,  -999.0,9,     -999.0,1,     -999.0,9,         11,     -999.0,9,     -999.0,9,     -999.0,9,     -999.0,9
33RO20180423,        I7N,       9,          1,        112,      11111,2,20180430,       0526,   -27.0025,    54.4875,       5270,  1740.4,   2.6347,  34.6600,2,  34.6702,2,    155.3,2, 174.0010,2,     83.2,2,     32.0,2,     0.00,2,    2.251,2,   0.119,2,   0.060,2,   0.0085,2,  2252.4,2,  2351.6,6,   7.5796,2,    25.00, -999.00,9, -999.00,9, -999.00,-999.000,1,    46.2,3,     -999.0,1,     -999.0,9,         12,     -999.0,9,     -999.0,9,     -999.0,9,     -999.0,9
33RO20180423,        I7N,       9,          1,        113,      11112,2,20180430,       0526,   -27.0025,    54.4875,       5270,  1499.6,   3.1477,  34.5917,2,  34.5925,2,    143.4,2, 159.5760,2,     78.6,2,     33.4,2,     0.00,2,    2.355,2,   0.172,2,   0.084,2,   0.0117,2,  2254.4,2,  2345.6,2,   7.5591,6,    25.00, -999.00,9, -999.00,9, -999.00,-999.000,1,  -999.0,9,     -999.0,1,     -999.0,9,         13,     -999.0,9,     -999.0,9,     -999.0,9,     -999.0,9
33RO20180423,        I7N,       9,          1,        114,      11113,2,20180430,       0526,   -27.0025,    54.4875,       5270,  1249.8,   4.0060,  34.4806,2,  34.4823,2,    149.0,2, 164.7310,2,     59.9,2,     32.9,2,     0.00,2,    2.316,2,   0.611,2,   0.301,2,   0.0717,2,  2234.3,6,  2327.5,2,   7.5671,2,    25.00, -999.00,9, -999.00,9, -999.00,-999.000,1,    47.9,3,     -999.0,1,     -999.0,9,         14,     -999.0,9,     -999.0,9,     -999.0,9,     -999.0,9
33RO20180423,        I7N,       9,          1,        115,      11114,2,20180430,       0526,   -27.0025,    54.4875,       5270,   999.9,   5.7930,  34.4323,2,  34.4372,2,    177.7,2, 193.9280,2,     28.8,2,     27.8,2,     0.00,2,    1.958,2,   2.048,2,   1.036,2,   0.4262,2,  2184.4,2,  2299.9,2,   7.6296,2,    25.00, -999.00,9, -999.00,9, -999.00,-999.000,1,    49.1,3,     -999.0,1,     -999.0,9,         15,     -999.0,9,     -999.0,9,     -999.0,9,     -999.0,9
33RO20180423,        I7N,       9,          1,        116,      11115,2,20180430,       0526,   -27.0025,    54.4875,       5270,   760.0,   9.1587,  34.6848,2,  34.6872,2,    199.9,2, 217.5300,2,      8.6,2,     18.1,2,     0.00,2,    1.323,2,   3.248,2,   1.753,2,   1.0687,2,  2142.3,2,  2295.2,2,   7.7323,2,    25.00, -999.00,9, -999.00,9, -999.00,-999.000,1,    47.5,3,     -999.0,1,     -999.0,9,         16,     -999.0,9,     -999.0,9,     -999.0,9,     -999.0,9
33RO20180423,        I7N,       9,          1,        117,      11116,2,20180430,       0526,   -27.0025,    54.4875,       5270,   580.6,  11.1803,  34.9506,2,  34.9508,2,    210.1,2, 226.3730,2,      4.7,2,     12.5,2,     0.00,2,    0.978,2,   3.222,2,   1.832,2,   1.5492,2,  2125.9,2,  2306.5,2,   7.7909,2,    25.00, -999.00,9, -999.00,9, -999.00,-999.000,1,    50.5,3,     -999.0,1,     -999.0,9,         17,     -999.0,9,     -999.0,9,     -999.0,9,     -999.0,9
33RO20180423,        I7N,       9,          1,        118,      11117,2,20180430,       0526,   -27.0025,    54.4875,       5270,   410.2,  12.9678,  35.2202,2,  35.2220,2,    209.4,2, 225.0250,2,      3.8,2,      8.6,2,     0.00,2,    0.732,2,   2.918,2,   1.719,2,   1.7289,2,  2117.8,2,  2317.2,2,   7.8310,2,    25.00, -999.00,9, -999.00,9, -999.00,-999.000,1,    57.7,3,     -999.0,1,     -999.0,9,         18,     -999.0,9,     -999.0,9,     -999.0,9,     -999.0,9
33RO20180423,        I7N,       9,          1,        119,      11083,2,20180430,       0526,   -27.0025,    54.4875,       5270,   275.0,  14.4105,  35.3954,2,  35.3971,2,    209.3,2, 245.0430,4,      3.3,2,      5.6,2,     0.00,2,    0.549,2,   2.671,6,   1.598,6,   1.8619,6,  2105.2,2,  2323.9,2,   7.8674,2,    25.00, -999.00,9, -999.00,9, -999.00,-999.000,1,    53.7,3,     -999.0,1,     -999.0,9,         19,     -999.0,9,     -999.0,9,     -999.0,9,     -999.0,9
33RO20180423,        I7N,       9,          1,        120,      11118,2,20180430,       0526,   -27.0025,    54.4875,       5270,   190.6,  15.8548,  35.5121,2,  35.5145,2,    201.8,2, 216.4460,2,      2.8,2,      3.7,2,     0.01,2,    0.428,2,   2.478,2,   1.500,2,   1.8216,2,  2099.0,2,  2330.1,2,   7.8920,2,    25.00, -999.00,9, -999.00,9, -999.00,-999.000,1,    60.6,3,     -999.0,1,     -999.0,9,         20,     -999.0,9,     -999.0,9,     -999.0,9,     -999.0,9
33RO20180423,        I7N,       9,          1,        121,      11119,2,20180430,       0526,   -27.0025,    54.4875,       5270,   140.2,  17.4030,  35.5803,2,  35.5825,2,    198.4,2, 211.8910,2,      2.7,2,      2.1,2,     0.02,2,    0.332,2,   2.306,2,   1.404,2,    1.733,2,  2086.9,2,  2334.7,2,   7.9184,2,    25.00, -999.00,9, -999.00,9, -999.00,-999.000,1,    60.7,3,     -999.0,1,     -999.0,9,         21,     -999.0,9,     -999.0,9,     -999.0,9,     -999.0,9
33RO20180423,        I7N,       9,          1,        122,      11120,2,20180430,       0526,   -27.0025,    54.4875,       5270,    91.8,  20.0167,  35.5721,2,  35.5714,2,    200.4,2, 216.0300,2,      2.3,2,      0.3,2,     0.20,2,    0.170,2,   2.081,2,   1.275,2,   1.6408,2,  2064.1,2,  2333.0,6,   7.9630,2,    25.00, -999.00,9, -999.00,9, -999.00,-999.000,1,    67.3,3,     -999.0,1,     -999.0,9,         22,     -999.0,9,     -999.0,9,     -999.0,9,     -999.0,9
33RO20180423,        I7N,       9,          1,        123,      11121,2,20180430,       0526,   -27.0025,    54.4875,       5270,    39.7,  23.5779,  35.4419,2,  35.4470,2,    202.4,2, 220.7830,4,      1.5,2,      0.0,2,     0.00,2,    0.035,2,   1.740,2,   1.094,2,   1.5675,2,  2013.6,2,  2325.1,2,   8.0358,6,    25.00, -999.00,9, -999.00,9, -999.00,-999.000,1,    80.4,3,     -999.0,1,     -999.0,9,         23,     -999.0,9,     -999.0,9,     -999.0,9,     -999.0,9
33RO20180423,        I7N,       9,          1,        124,      11122,2,20180430,       0526,   -27.0025,    54.4875,       5270,     2.5,  24.2825,  35.3906,2,  35.3937,2,    199.4,2, 217.2030,4,      1.5,2,      0.0,2,     0.00,2,    0.041,2,   1.664,2,   1.056,2,    1.505,2,  2000.4,6,  2320.0,2,   8.0557,2,    25.00, -999.00,9, -999.00,9, -999.00,-999.000,1,    78.1,3,     -999.0,1,     -999.0,9,         24,     -999.0,9,     -999.0,9,     -999.0,9,     -999.0,9