BOTTLE,20230801CCHSIOCBG
EXPOCODE,SECT_ID,STNNBR,CASTNO,SAMPNO,BTLNBR,BTLNBR_FLAG_W,DATE,TIME,LATITUDE,LONGITUDE,DEPTH,CTDPRS,CTDTMP,CTDSAL,CTDSAL_FLAG_W,SALNTY,SALNTY_FLAG_W,CTDOXY,CTDOXY_FLAG_W,OXYGEN,OXYGEN_FLAG_W,SILCAT,SILCAT_FLAG_W,NITRAT,NITRAT_FLAG_W,NITRIT,NITRIT_FLAG_W,PHSPHT,PHSPHT_FLAG_W,CFC-11,CFC-11_FLAG_W,CFC-12,CFC-12_FLAG_W,SF6,SF6_FLAG_W,TCARBN,TCARBN_FLAG_W,ALKALI,ALKALI_FLAG_W,PH_SWS,PH_SWS_FLAG_W,PH_TMP,DELC13,DELC13_FLAG_W,DELC14,DELC14_FLAG_W,C14ERR,CCL4,CCL4_FLAG_W,DOC,DOC_FLAG_W,N2O,N2O_FLAG_W,CALCIUM,CALCIUM_FLAG_W,SAMPNO_U,DNSSAL,DNSSAL_FLAG_W,DNSSAL2,DNSSAL2_FLAG_W,SALNTY_DNSSAL,SALNTY_DNSSAL_FLAG_W,SALNTY_DNSSAL2,SALNTY_DNSSAL2_FLAG_W
,,,,,,,,,,,METERS,DBAR,ITS-90,PSS-78,,PSS-78,,UMOL/KG,,UMOL/KG,,UMOL/KG,,UMOL/KG,,UMOL/KG,,UMOL/KG,,PMOL/KG,,PMOL/KG,,FMOL/KG,,UMOL/KG,,UMOL/KG,,,,DEG C,/MILLE,,/MILLE,,/MILLE,PMOL/KG,,UMOL/KG,,NMOL/KG,,MMOL/KG,,,G/KG,,G/KG,,PSS-78,,PSS-78,
33RO20180423,        I7N,     112,          1,        101,      11010,2,20180601,       0112,    15.1412,    65.1410,       3829,  3886.7,   1.7390,  34.7358,2,  34.7389,2,    112.9,2, 129.5770,2,    148.3,6,     37.0,6,     0.01,6,    2.615,6,   0.014,2,   0.008,2,        0,2,  2366.4,6,  2468.6,2,   7.5875,6,    25.00, -999.00,9, -999.00,9, -999.00,-999.000,1,  -999.0,9,     -999.0,1,     -999.0,9,          1,     -999.0,9,     -999.0,9,     -999.0,9,     -999.0,9
33RO20180423,        I7N,     112,          1,        102,      11101,2,20180601,       0112,    15.1412,    65.1410,       3829,  3765.1,   1.7247,  34.7360,2,  34.7372,2,    113.2,2, 129.6570,2,    148.4,6,     37.0,6,     0.01,6,    2.607,6,   0.014,2,   0.007,2,        0,2,  2366.1,2,  2466.8,2,   7.5837,2,    25.00, -999.00,9, -999.00,9, -999.00,-999.000,1,  -999.0,9,     -999.0,1,     -999.0,9,          2,     -999.0,9,     -999.0,9,     -999.0,9,     -999.0,9
33RO20180423,        I7N,     112,          1,        103,      11102,2,20180601,       0112,    15.1412,    65.1410,       3829,  3450.5,   1.7377,  34.7388,2,  34.7446,2,    120.0,2, 137.5630,2,    145.6,6,     36.3,6,     0.01,6,    2.567,6,   0.005,2,   0.006,2,   0.0099,2,  2346.3,2,  2442.1,2,   7.5734,2,    25.00, -999.00,9, -999.00,9, -999.00,-999.000,1,  -999.0,9,     -999.0,1,     -999.0,9,          3,     -999.0,9,     -999.0,9,     -999.0,9,     -999.0,9
33RO20180423,        I7N,     112,          1,        104,      11103,2,20180601,       0112,    15.1412,    65.1410,       3829,  3000.0,   1.8187,  34.7452,2,  34.7471,2,    117.2,2, 133.6990,2,    144.6,6,     36.4,6,     0.01,6,    2.584,6,   0.003,2,   0.004,2,   0.0085,2,  2342.7,2,  2439.3,6,   7.5631,2,    25.00, -999.00,9, -999.00,9, -999.00,-999.000,1,  -999.0,9,     -999.0,1,     -999.0,9,          4,     -999.0,9,     -999.0,9,     -999.0,9,     -999.0,9
33RO20180423,        I7N,     112,          1,        105,      11104,2,20180601,       0112,    15.1412,    65.1410,       3829,  2400.7,   2.3250,  34.7803,2,  34.7831,2,     99.6,2, 112.8010,2,    141.7,2,     37.2,2,     0.01,2,    2.679,2,   0.002,2,   0.004,2,        0,2,  2348.2,2,  2433.1,2,   7.5298,2,    25.00, -999.00,9, -999.00,9, -999.00,-999.000,1,  -999.0,9,     -999.0,1,     -999.0,9,          5,     -999.0,9,     -999.0,9,     -999.0,9,     -999.0,9
33RO20180423,        I7N,     112,          1,        106,      11105,2,20180601,       0112,    15.1412,    65.1410,       3829,  1900.9,   3.3870,  34.8566,2,  34.8637,6,     74.8,2,  84.1080,2,    128.8,2,     38.1,2,     0.00,2,    2.824,2,   0.002,2,   0.004,2,        0,2,  2348.1,2,  2425.3,2,   7.4896,2,    25.00, -999.00,9, -999.00,9, -999.00,-999.000,1,  -999.0,9,     -999.0,1,     -999.0,9,          6,     -999.0,9,     -999.0,9,     -999.0,9,     -999.0,9
33RO20180423,        I7N,     112,          1,        107,      11106,2,20180601,       0112,    15.1412,    65.1410,       3829,  1300.5,   6.8443,  35.1681,2,  35.1930,2,     20.4,2,  23.8135,2,     91.9,2,     38.8,2,     0.01,2,    2.985,2,   0.023,2,   0.014,2,   0.0171,2,  2330.2,2,  2381.9,2,   7.4355,2,    25.00, -999.00,9, -999.00,9, -999.00,-999.000,1,  -999.0,9,     -999.0,1,     -999.0,9,          7,     -999.0,9,     -999.0,9,     -999.0,9,     -999.0,9
33RO20180423,        I7N,     112,          1,        108,      11107,2,20180601,       0112,    15.1412,    65.1410,       3829,   800.0,  10.2928,  35.4917,2,  35.5084,2,      2.3,2,   3.9120,2,     59.7,2,     34.6,2,     0.01,2,    2.786,2,   0.144,2,   0.091,2,   0.0185,2,  2301.0,2,  2359.2,2,   7.4560,2,    25.00, -999.00,9, -999.00,9, -999.00,-999.000,1,  -999.0,9,     -999.0,1,     -999.0,9,          8,     -999.0,9,     -999.0,9,     -999.0,9,     -999.0,9
33RO20180423,        I7N,     112,          1,        109,      11108,2,20180601,       0112,    15.1412,    65.1410,       3829,   600.1,  11.6969,  35.5862,2,  35.5887,2,      1.6,2,   3.0730,2,     45.3,2,     31.0,2,     0.01,2,    2.636,2,   0.327,2,   0.216,2,   0.0582,2,  2287.2,2,  2349.6,2,   7.4683,2,    25.00, -999.00,9, -999.00,9, -999.00,-999.000,1,  -999.0,9,     -999.0,1,     -999.0,9,          9,     -999.0,9,     -999.0,9,     -999.0,9,     -999.0,9
33RO20180423,        I7N,     112,          1,        110,      11109,2,20180601,       0112,    15.1412,    65.1410,       3829,   380.4,  13.4551,  35.7031,2,  35.7065,6,      0.2,2,   1.4800,2,     33.3,2,     24.8,2,     1.53,2,    2.502,2,   0.678,2,   0.466,2,   0.2052,2,  2284.5,2,  2345.5,2,   7.4712,2,    25.00, -999.00,9, -999.00,9, -999.00,-999.000,1,  -999.0,9,     -999.0,1,     -999.0,9,         10,     -999.0,9,     -999.0,9,     -999.0,9,     -999.0,9
33RO20180423,        I7N,     112,          1,        111,      11110,2,20180601,       0112,    15.1412,    65.1410,       3829,   300.0,  13.8272,  35.5804,2,  35.5885,2,      0.4,2,   2.0270,2,     28.7,2,     28.0,2,     0.01,2,    2.404,2,   1.034,2,   0.640,2,   0.3354,2,  2276.1,2,  2333.6,6,   7.4665,2,    25.00, -999.00,9, -999.00,9, -999.00,-999.000,1,  -999.0,9,     -999.0,1,     -999.0,9,         11,     -999.0,9,     -999.0,9,     -999.0,9,     -999.0,9
33RO20180423,        I7N,     112,          1,        112,      11111,2,20180601,       0112,    15.1412,    65.1410,       3829,   249.6,  15.0920,  35.7233,2,  35.7237,2,      0.2,2,   1.9110,2,     27.9,2,     18.7,2,     3.26,2,    2.425,2,   0.879,2,   0.641,2,   0.3234,2,  2278.0,2,  2353.4,2,   7.4907,6,    25.00, -999.00,9, -999.00,9, -999.00,-999.000,1,  -999.0,9,     -999.0,1,     -999.0,9,         12,     -999.0,9,     -999.0,9,     -999.0,9,     -999.0,9
33RO20180423,        I7N,     112,          1,        113,      11112,2,20180601,       0112,    15.1412,    65.1410,       3829,   199.8,  16.6921,  35.6945,2,  35.7333,2,      0.1,2,   2.3530,2,     24.4,2,     18.3,2,     3.38,2,    2.367,2,   1.032,6,   0.752,6,   0.4872,6,  2265.0,6,  2345.1,2,   7.5174,2,    25.00, -999.00,9, -999.00,9, -999.00,-999.000,1,  -999.0,9,     -999.0,1,     -999.0,9,         13,     -999.0,9,     -999.0,9,     -999.0,9,     -999.0,9
33RO20180423,        I7N,     112,          1,        114,      11113,2,20180601,       0112,    15.1412,    65.1410,       3829,   160.0,  18.5190,  35.6702,2,  35.6815,2,      0.1,2,   1.3380,2,     19.8,2,     23.0,2,     1.52,2,    2.268,2,   1.221,2,   0.829,2,   0.6651,2,  2243.8,2,  2337.3,2,   7.5590,2,    25.00, -999.00,9, -999.00,9, -999.00,-999.000,1,  -999.0,9,     -999.0,1,     -999.0,9,         14,     -999.0,9,     -999.0,9,     -999.0,9,     -999.0,9
33RO20180423,        I7N,     112,          1,        115,      11114,2,20180601,       0112,    15.1412,    65.1410,       3829,   151.8,  19.6160,  35.8500,2,  35.8352,2,      0.1,2,   1.4950,2,     17.4,2,     22.8,2,     1.59,2,    2.244,2,   1.299,2,   0.863,2,   0.7894,2,  2244.2,2,  2344.1,2,   7.5779,2,    25.00, -999.00,9, -999.00,9, -999.00,-999.000,1,  -999.0,9,     -999.0,1,     -999.0,9,         15,     -999.0,9,     -999.0,9,     -999.0,9,     -999.0,9
33RO20180423,        I7N,     112,          1,        116,      11115,2,20180601,       0112,    15.1412,    65.1410,       3829,   141.0,  20.9345,  36.0129,2,  35.9927,2,      1.2,2,   2.1290,2,     14.3,2,     25.4,2,     0.07,2,    2.154,2,   1.398,2,   0.911,2,    0.979,2,  2239.4,2,  2349.8,2,   7.6084,2,    25.00, -999.00,9, -999.00,9, -999.00,-999.000,1,  -999.0,9,     -999.0,1,     -999.0,9,         16,     -999.0,9,     -999.0,9,     -999.0,9,     -999.0,9
33RO20180423,        I7N,     112,          1,        117,      11116,2,20180601,       0112,    15.1412,    65.1410,       3829,   121.0,  22.4495,  36.1631,2,  36.1622,2,     18.1,2,  20.8030,2,     10.5,2,     24.4,2,     0.03,2,    1.887,2,   1.491,2,   0.950,2,   1.1432,2,  2216.6,2,  2356.5,2,   7.6798,2,    25.00, -999.00,9, -999.00,9, -999.00,-999.000,1,  -999.0,9,     -999.0,1,     -999.0,9,         17,     -999.0,9,     -999.0,9,     -999.0,9,     -999.0,9
33RO20180423,        I7N,     112,          1,        118,      11117,2,20180601,       0112,    15.1412,    65.1410,       3829,   100.0,  23.4731,  36.0666,2,  36.0768,2,     35.0,2,  37.4480,2,      9.1,2,     21.3,2,     0.06,2,    1.638,2,   1.457,6,   0.922,6,   1.1486,6,  2183.5,2,  2350.0,2,   7.7448,2,    25.00, -999.00,9, -999.00,9, -999.00,-999.000,1,  -999.0,9,     -999.0,1,     -999.0,9,         18,     -999.0,9,     -999.0,9,     -999.0,9,     -999.0,9
33RO20180423,        I7N,     112,          1,        119,      11083,2,20180601,       0112,    15.1412,    65.1410,       3829,    74.9,  26.0883,  36.4076,2,  36.4030,2,    125.6,2, 129.3780,2,      3.3,2,      7.8,2,     0.67,2,    0.830,2,   1.496,2,   0.946,2,   1.3065,2,  2106.9,2,  2377.5,2,   7.9449,2,    25.00, -999.00,9, -999.00,9, -999.00,-999.000,1,  -999.0,9,     -999.0,1,     -999.0,9,         19,     -999.0,9,     -999.0,9,     -999.0,9,     -999.0,9
33RO20180423,        I7N,     112,          1,        120,      11118,2,20180601,       0112,    15.1412,    65.1410,       3829,    60.3,  27.3572,  36.4993,2,  36.4947,2,    172.8,2, 177.7480,2,      1.7,2,      0.6,2,     0.07,2,    0.396,2,   1.494,2,   0.941,2,   1.3639,2,  2066.9,2,  2386.7,2,   8.0316,2,    25.00, -999.00,9, -999.00,9, -999.00,-999.000,1,  -999.0,9,     -999.0,1,     -999.0,9,         20,     -999.0,9,     -999.0,9,     -999.0,9,     -999.0,9
33RO20180423,        I7N,     112,          1,        121,      11119,2,20180601,       0112,    15.1412,    65.1410,       3829,    40.8,  29.4648,  36.3754,2,  36.3200,2,    195.4,2, 198.9560,2,      1.5,2,      0.0,2,     0.00,2,    0.212,2,   1.421,2,   0.906,2,   1.3397,2,  2031.3,2,  2377.1,2,   8.0803,2,    25.00, -999.00,9, -999.00,9, -999.00,-999.000,1,  -999.0,9,     -999.0,1,     -999.0,9,         21,     -999.0,9,     -999.0,9,     -999.0,9,     -999.0,9
33RO20180423,        I7N,     112,          1,        122,      11120,2,20180601,       0112,    15.1412,    65.1410,       3829,    25.9,  30.4314,  36.1797,2,  36.1846,2,    180.4,2, 189.0410,2,      1.5,2,      0.0,2,     0.01,2,    0.149,2,   1.329,2,   0.851,2,   1.3079,2,  2014.1,2,  2374.5,2,   8.0959,2,    25.00, -999.00,9, -999.00,9, -999.00,-999.000,1,  -999.0,9,     -999.0,1,     -999.0,9,         22,     -999.0,9,     -999.0,9,     -999.0,9,     -999.0,9
33RO20180423,        I7N,     112,          1,        123,      11121,2,20180601,       0112,    15.1412,    65.1410,       3829,    15.1,  30.4306,  36.1798,2,  36.1808,2,    180.4,2, 190.6990,2,      1.5,2,      0.0,2,     0.00,2,    0.135,2,   1.330,2,   0.851,2,   1.3302,2,  2015.2,2,  2373.1,6,   8.0948,2,    25.00, -999.00,9, -999.00,9, -999.00,-999.000,1,  -999.0,9,     -999.0,1,     -999.0,9,         23,     -999.0,9,     -999.0,9,     -999.0,9,     -999.0,9
33RO20180423,        I7N,     112,          1,        124,      11122,2,20180601,       0112,    15.1412,    65.1410,       3829,     4.4,  30.4251,  36.1803,2,  36.1815,2,    180.2,2, 188.9120,2,      1.5,2,      0.0,2,     0.01,2,    0.140,2,   1.324,2,   0.848,2,   1.3247,2,  2016.0,6,  2373.8,2,   8.0964,6,    25.00, -999.00,9, -999.00,9, -999.00,-999.000,1,  -999.0,9,     -999.0,1,     -999.0,9,         24,     -999.0,9,     -999.0,9,     -999.0,9,     -999.0,9