BOTTLE,20230801CCHSIOCBG
EXPOCODE,SECT_ID,STNNBR,CASTNO,SAMPNO,BTLNBR,BTLNBR_FLAG_W,DATE,TIME,LATITUDE,LONGITUDE,DEPTH,CTDPRS,CTDTMP,CTDSAL,CTDSAL_FLAG_W,SALNTY,SALNTY_FLAG_W,CTDOXY,CTDOXY_FLAG_W,OXYGEN,OXYGEN_FLAG_W,SILCAT,SILCAT_FLAG_W,NITRAT,NITRAT_FLAG_W,NITRIT,NITRIT_FLAG_W,PHSPHT,PHSPHT_FLAG_W,CFC-11,CFC-11_FLAG_W,CFC-12,CFC-12_FLAG_W,SF6,SF6_FLAG_W,TCARBN,TCARBN_FLAG_W,ALKALI,ALKALI_FLAG_W,PH_SWS,PH_SWS_FLAG_W,PH_TMP,DELC13,DELC13_FLAG_W,DELC14,DELC14_FLAG_W,C14ERR,CCL4,CCL4_FLAG_W,DOC,DOC_FLAG_W,N2O,N2O_FLAG_W,CALCIUM,CALCIUM_FLAG_W,SAMPNO_U,DNSSAL,DNSSAL_FLAG_W,DNSSAL2,DNSSAL2_FLAG_W,SALNTY_DNSSAL,SALNTY_DNSSAL_FLAG_W,SALNTY_DNSSAL2,SALNTY_DNSSAL2_FLAG_W
,,,,,,,,,,,METERS,DBAR,ITS-90,PSS-78,,PSS-78,,UMOL/KG,,UMOL/KG,,UMOL/KG,,UMOL/KG,,UMOL/KG,,UMOL/KG,,PMOL/KG,,PMOL/KG,,FMOL/KG,,UMOL/KG,,UMOL/KG,,,,DEG C,/MILLE,,/MILLE,,/MILLE,PMOL/KG,,UMOL/KG,,NMOL/KG,,MMOL/KG,,,G/KG,,G/KG,,PSS-78,,PSS-78,
33RO20180423,        I7N,      72,          1,        101,      11010,2,20180521,       0951,    -1.2452,    57.2365,       4435,  4486.9,   1.3666,  34.7190,2,  34.7232,2,    158.9,2, 183.4910,2,    132.2,6,     33.9,6,     0.00,6,    2.360,6,   0.017,2,   0.010,2,   0.0099,2,  2292.3,6,  2400.5,2,   7.6020,6,    25.00,    0.47,2, -176.00,2,    1.64,-999.000,1,  -999.0,9,     -999.0,1,     -999.0,9,          1,     -999.0,9,     -999.0,9,     -999.0,9,     -999.0,9
33RO20180423,        I7N,      72,          1,        102,      11101,2,20180521,       0951,    -1.2452,    57.2365,       4435,  4300.1,   1.3881,  34.7206,2,  34.7649,2,    156.8,2, 180.5370,2,    132.5,6,     34.0,6,     0.00,6,    2.360,6,   0.014,2,   0.008,2,   0.0053,2,  2292.2,2,  2400.0,2,   7.5995,2,    25.00,    0.35,2, -181.00,2,    1.63,-999.000,1,    40.0,3,     -999.0,1,     -999.0,9,          2,     -999.0,9,     -999.0,9,     -999.0,9,     -999.0,9
33RO20180423,        I7N,      72,          1,        103,      11102,2,20180521,       0951,    -1.2452,    57.2365,       4435,  4100.8,   1.4496,  34.7236,2,  34.7244,2,    153.1,2, 176.3750,2,    132.7,6,     34.3,6,     0.00,6,    2.368,6,   0.009,2,   0.005,2,   0.0069,2,  2294.4,2,  2403.7,2,   7.5992,2,    25.00,    0.47,2, -178.00,2,    1.72,-999.000,1,  -999.0,9,     -999.0,1,     -999.0,9,          3,     -999.0,9,     -999.0,9,     -999.0,9,     -999.0,9
33RO20180423,        I7N,      72,          1,        104,      11103,2,20180521,       0951,    -1.2452,    57.2365,       4435,  3800.6,   1.5222,  34.7267,2,  34.7283,2,    149.6,2, 172.1530,2,    132.9,6,     34.4,6,     0.00,6,    2.397,6,   0.004,2,   0.004,2,        0,2,  2298.6,2,  2406.4,6,   7.5967,2,    25.00,    0.31,2, -183.00,2,    1.62,-999.000,1,    38.2,3,     -999.0,1,     -999.0,9,          4,     -999.0,9,     -999.0,9,     -999.0,9,     -999.0,9
33RO20180423,        I7N,      72,          1,        105,      11104,2,20180521,       0951,    -1.2452,    57.2365,       4435,  3501.3,   1.6334,  34.7307,2,  34.7311,6,    145.6,2, 167.4180,2,    131.8,2,     34.5,2,     0.00,2,    2.420,2,   0.003,2,   0.003,2,   0.0189,2,  2301.7,2,  -999.0,9,   7.5923,2,    25.00,   -0.17,4, -198.00,4,    1.68,-999.000,1,  -999.0,9,     -999.0,1,     -999.0,9,          5,     -999.0,9,     -999.0,9,     -999.0,9,     -999.0,9
33RO20180423,        I7N,      72,          1,        106,      11105,2,20180521,       0951,    -1.2452,    57.2365,       4435,  3201.0,   1.7510,  34.7347,2,  34.7300,2,    142.3,2, 163.2830,2,    129.9,2,     34.6,2,     0.00,2,    2.408,2,   0.009,3,   0.007,3,        0,2,  2302.2,2,  2405.8,2,   7.5889,2,    25.00,    0.40,6, -184.00,6,    1.72,-999.000,1,  -999.0,9,     -999.0,1,     -999.0,9,          6,     -999.0,9,     -999.0,9,     -999.0,9,     -999.0,9
33RO20180423,        I7N,      72,          1,        107,      11106,2,20180521,       0951,    -1.2452,    57.2365,       4435,  2899.7,   1.9391,  34.7432,2,  34.7430,2,    136.0,2, 155.6110,2,    128.9,2,     35.0,2,     0.00,2,    2.454,2,   0.002,2,   0.003,2,        0,2,  2305.6,2,  2406.1,2,   7.5788,2,    25.00,    0.29,2, -189.00,2,    2.31,-999.000,1,    40.4,3,     -999.0,1,     -999.0,9,          7,     -999.0,9,     -999.0,9,     -999.0,9,     -999.0,9
33RO20180423,        I7N,      72,          1,        108,      11107,2,20180521,       0951,    -1.2452,    57.2365,       4435,  2600.5,   2.0463,  34.7481,2,  34.7481,2,    132.7,2, 151.1750,2,    127.7,2,     35.1,2,     0.00,2,    2.468,2,   0.002,2,   0.003,2,        0,2,  2304.6,2,  2405.9,2,   7.5731,2,    25.00,    0.29,2, -191.00,2,    1.66,-999.000,1,  -999.0,9,     -999.0,1,     -999.0,9,          8,     -999.0,9,     -999.0,9,     -999.0,9,     -999.0,9
33RO20180423,        I7N,      72,          1,        109,      11108,2,20180521,       0951,    -1.2452,    57.2365,       4435,  2289.6,   2.4031,  34.7604,2,  34.7608,2,    124.5,2, 140.8820,2,    123.2,2,     35.5,2,     0.00,2,    2.516,2,   0.002,2,   0.003,2,   0.0065,2,  2306.8,2,  2400.6,2,   7.5621,6,    25.00,    0.39,2, -184.00,2,    1.86,-999.000,1,    40.6,3,     -999.0,1,     -999.0,9,          9,     -999.0,9,     -999.0,9,     -999.0,9,     -999.0,9
33RO20180423,        I7N,      72,          1,        110,      11109,2,20180521,       0951,    -1.2452,    57.2365,       4435,  2000.2,   2.8838,  34.7816,2,  34.7832,2,    112.4,2, 126.4900,2,    118.8,2,     36.0,2,     0.00,2,    2.567,2,   0.003,2,   0.004,2,   0.0082,2,  2308.9,2,  2399.1,2,   7.5443,2,    25.00,    0.33,2, -183.00,2,    1.80,-999.000,1,    40.2,3,     -999.0,1,     -999.0,9,         10,     -999.0,9,     -999.0,9,     -999.0,9,     -999.0,9
33RO20180423,        I7N,      72,          1,        111,      11110,2,20180521,       0951,    -1.2452,    57.2365,       4435,  1706.3,   3.6790,  34.8123,2,  34.8139,2,     97.3,2, 109.2540,2,    109.8,2,     36.4,2,     0.00,2,    2.634,2,   0.011,2,   0.008,2,   0.0114,2,  2309.8,2,  2390.4,2,   7.5259,2,    25.00,    0.28,2, -177.00,2,    1.85,-999.000,1,  -999.0,9,     -999.0,1,     -999.0,9,         11,     -999.0,9,     -999.0,9,     -999.0,9,     -999.0,9
33RO20180423,        I7N,      72,          1,        112,      11111,2,20180521,       0951,    -1.2452,    57.2365,       4435,  1467.2,   4.6618,  34.8612,2,  34.8629,2,     78.2,2,  87.9800,2,    100.6,2,     37.0,2,     0.00,2,    2.708,2,   0.016,2,   0.010,2,        0,2,  2306.8,2,  2382.1,6,   7.5036,2,    25.00,    0.59,2, -171.00,6,    1.76,-999.000,1,    41.2,3,     -999.0,1,     -999.0,9,         12,     -999.0,9,     -999.0,9,     -999.0,9,     -999.0,9
33RO20180423,        I7N,      72,          1,        113,      11112,2,20180521,       0951,    -1.2452,    57.2365,       4435,  1232.6,   5.5387,  34.8997,2,  34.9057,2,     63.6,2,  71.3930,2,     93.3,2,     37.3,2,     0.00,2,    2.742,2,   0.029,2,   0.017,2,        0,2,  2303.6,2,  2373.1,2,   7.4880,2,    25.00,    0.22,2, -167.00,2,    1.66,-999.000,1,  -999.0,9,     -999.0,1,     -999.0,9,         13,     -999.0,9,     -999.0,9,     -999.0,9,     -999.0,9
33RO20180423,        I7N,      72,          1,        114,      11113,2,20180521,       0951,    -1.2452,    57.2365,       4435,  1032.1,   6.6782,  34.9574,2,  34.9581,2,     52.2,2,  58.2080,2,     81.3,2,     37.1,2,     0.00,2,    2.730,2,   0.081,2,   0.046,2,    0.001,2,  2296.0,2,  2362.2,2,   7.4808,2,    25.00,    0.19,2, -151.00,2,    1.78,-999.000,1,    47.5,3,     -999.0,1,     -999.0,9,         14,     -999.0,9,     -999.0,9,     -999.0,9,     -999.0,9
33RO20180423,        I7N,      72,          1,        115,      11114,2,20180521,       0951,    -1.2452,    57.2365,       4435,   849.9,   7.8209,  34.9774,2,  34.9791,2,     50.3,2,  56.1410,2,     65.6,2,     35.8,2,     0.00,2,    2.618,2,   0.241,6,   0.132,6,   0.0575,6,  2279.0,2,  2346.8,2,   7.4900,2,    25.00,    0.26,2, -124.00,2,    1.73,-999.000,1,    46.0,3,     -999.0,1,     -999.0,9,         15,     -999.0,9,     -999.0,9,     -999.0,9,     -999.0,9
33RO20180423,        I7N,      72,          1,        116,      11115,2,20180521,       0951,    -1.2452,    57.2365,       4435,   700.0,   8.4097,  35.0009,2,  34.9997,2,     48.5,2,  53.9200,2,     58.7,2,     35.2,2,     0.00,2,    2.575,2,   0.343,2,   0.187,2,   0.0622,2,  2270.0,2,  2325.8,4,   7.4931,2,    25.00,    0.20,2, -109.00,2,    1.83,-999.000,1,  -999.0,9,     -999.0,1,     -999.0,9,         16,     -999.0,9,     -999.0,9,     -999.0,9,     -999.0,9
33RO20180423,        I7N,      72,          1,        117,      11116,2,20180521,       0951,    -1.2452,    57.2365,       4435,   550.5,   9.4564,  35.0293,2,  35.0314,2,     58.3,2,  63.9310,2,     43.7,2,     32.6,2,     0.00,2,    2.369,2,   0.777,2,   0.417,2,   0.1847,2,  2248.1,2,  2329.0,2,   7.5202,2,    25.00,    0.24,2,  -71.70,2,    1.83,-999.000,1,    58.2,3,     -999.0,1,     -999.0,9,         17,     -999.0,9,     -999.0,9,     -999.0,9,     -999.0,9
33RO20180423,        I7N,      72,          1,        118,      11117,2,20180521,       0951,    -1.2452,    57.2365,       4435,   400.0,  10.4341,  34.9365,2,  34.9358,2,    105.6,2, 113.3370,2,     24.3,2,     26.3,2,     0.00,2,    1.807,2,   1.878,2,   1.011,2,   0.5974,2,  2201.2,2,  2312.5,2,   7.6132,2,    25.00,    0.43,2,  -13.10,2,    2.10,-999.000,1,  -999.0,9,     -999.0,1,     -999.0,9,         18,     -999.0,9,     -999.0,9,     -999.0,9,     -999.0,9
33RO20180423,        I7N,      72,          1,        119,      11083,2,20180521,       0951,    -1.2452,    57.2365,       4435,   267.9,  12.0337,  35.0564,2,  35.0573,2,    106.9,2, 115.3810,2,     18.6,2,     23.0,2,     0.00,2,    1.607,2,   2.134,2,   1.178,2,   0.7988,2,  2187.6,2,  2321.5,4,   7.6480,2,    25.00,    0.40,2,    7.27,2,    2.16,-999.000,1,    54.9,3,     -999.0,1,     -999.0,9,         19,     -999.0,9,     -999.0,9,     -999.0,9,     -999.0,9
33RO20180423,        I7N,      72,          1,        120,      11118,2,20180521,       0951,    -1.2452,    57.2365,       4435,   183.4,  13.5417,  35.1453,2,  35.1503,2,    101.0,2, 107.9740,2,     16.7,2,     21.4,2,     0.01,2,    1.516,2,   2.122,2,   1.200,2,   0.8581,2,  2184.8,2,  2315.2,2,   7.6691,2,    25.00,    0.29,2,   15.20,2,    2.28,-999.000,1,    56.5,3,     -999.0,1,     -999.0,9,         20,     -999.0,9,     -999.0,9,     -999.0,9,     -999.0,9
33RO20180423,        I7N,      72,          1,        121,      11119,2,20180521,       0951,    -1.2452,    57.2365,       4435,   133.2,  17.3111,  35.2706,2,  35.2716,2,     75.2,2,  80.9820,2,     14.1,2,     20.5,2,     0.02,2,    1.454,2,   1.896,2,   1.125,2,   0.9649,2,  2171.3,2,  2286.3,4,   7.6971,2,    25.00,   -0.07,2,   15.70,2,    2.11,-999.000,1,    55.6,3,     -999.0,1,     -999.0,9,         21,     -999.0,9,     -999.0,9,     -999.0,9,     -999.0,9
33RO20180423,        I7N,      72,          1,        122,      11120,2,20180521,       0951,    -1.2452,    57.2365,       4435,    82.8,  24.1242,  35.5846,2,  35.5892,6,    147.8,2, 156.2140,2,      5.3,2,      6.8,2,     0.49,2,    0.656,2,   1.660,2,   1.025,2,    1.317,2,  2076.6,2,  2329.0,6,   7.9360,2,    25.00,    0.53,2,   18.30,2,    2.47,-999.000,1,    61.6,3,     -999.0,1,     -999.0,9,         22,     -999.0,9,     -999.0,9,     -999.0,9,     -999.0,9
33RO20180423,        I7N,      72,          1,        123,      11121,2,20180521,       0951,    -1.2452,    57.2365,       4435,    36.6,  29.4687,  35.3250,2,-999.0000,9,    186.9,2,-999.0000,9,-999.0000,9,-999.0000,9,-999.0000,9,-999.0000,9,-999.000,9,-999.000,9,-999.0000,9,  -999.0,9,  -999.0,9,-999.0000,9,  -999.00, -999.00,9, -999.00,9, -999.00,-999.000,9,    68.1,3,     -999.0,9,     -999.0,9,         23,     -999.0,9,     -999.0,9,     -999.0,9,     -999.0,9
33RO20180423,        I7N,      72,          1,        124,      11122,2,20180521,       0951,    -1.2452,    57.2365,       4435,     3.7,  29.5711,  35.3268,2,  35.3285,2,    186.8,2, 195.1260,2,      1.4,2,      0.0,2,     0.00,2,    0.140,2,   1.410,2,   0.899,2,   1.3118,2,  1988.9,6,  2314.4,2,   8.0683,6,    25.00,    0.99,2,   11.90,2,    2.18,-999.000,1,  -999.0,9,     -999.0,1,     -999.0,9,         24,     -999.0,9,     -999.0,9,     -999.0,9,     -999.0,9