BOTTLE,20230801CCHSIOCBG
EXPOCODE,SECT_ID,STNNBR,CASTNO,SAMPNO,BTLNBR,BTLNBR_FLAG_W,DATE,TIME,LATITUDE,LONGITUDE,DEPTH,CTDPRS,CTDTMP,CTDSAL,CTDSAL_FLAG_W,SALNTY,SALNTY_FLAG_W,CTDOXY,CTDOXY_FLAG_W,OXYGEN,OXYGEN_FLAG_W,SILCAT,SILCAT_FLAG_W,NITRAT,NITRAT_FLAG_W,NITRIT,NITRIT_FLAG_W,PHSPHT,PHSPHT_FLAG_W,CFC-11,CFC-11_FLAG_W,CFC-12,CFC-12_FLAG_W,SF6,SF6_FLAG_W,TCARBN,TCARBN_FLAG_W,ALKALI,ALKALI_FLAG_W,PH_SWS,PH_SWS_FLAG_W,PH_TMP,DELC13,DELC13_FLAG_W,DELC14,DELC14_FLAG_W,C14ERR,CCL4,CCL4_FLAG_W,DOC,DOC_FLAG_W,N2O,N2O_FLAG_W,CALCIUM,CALCIUM_FLAG_W,SAMPNO_U,DNSSAL,DNSSAL_FLAG_W,DNSSAL2,DNSSAL2_FLAG_W,SALNTY_DNSSAL,SALNTY_DNSSAL_FLAG_W,SALNTY_DNSSAL2,SALNTY_DNSSAL2_FLAG_W
,,,,,,,,,,,METERS,DBAR,ITS-90,PSS-78,,PSS-78,,UMOL/KG,,UMOL/KG,,UMOL/KG,,UMOL/KG,,UMOL/KG,,UMOL/KG,,PMOL/KG,,PMOL/KG,,FMOL/KG,,UMOL/KG,,UMOL/KG,,,,DEG C,/MILLE,,/MILLE,,/MILLE,PMOL/KG,,UMOL/KG,,NMOL/KG,,MMOL/KG,,,G/KG,,G/KG,,PSS-78,,PSS-78,
33RO20180423,        I7N,     124,          1,        101,      11010,2,20180604,       0717,    17.9958,    68.0140,       3433,  3467.4,   1.7057,  34.7360,2,  34.7404,2,    117.7,2, 134.4150,2,    145.3,6,     36.6,6,     0.01,6,    2.557,6,   0.013,2,   0.010,2,        0,2,  2363.3,2,  2456.4,2,   7.5783,6,    25.00, -999.00,9, -999.00,9, -999.00,-999.000,1,  -999.0,9,     -999.0,1,     -999.0,9,          1,     -999.0,9,     -999.0,9,     -999.0,9,     -999.0,9
33RO20180423,        I7N,     124,          1,        102,      11101,2,20180604,       0717,    17.9958,    68.0140,       3433,  3241.9,   1.7596,  34.7407,2,  34.7494,2,    113.8,2, 129.6830,2,    146.5,6,     36.6,6,     0.00,6,    2.580,6,   0.008,2,   0.012,2,   0.0106,2,  2356.2,2,  2449.1,2,   7.5627,2,    25.00, -999.00,9, -999.00,9, -999.00,-999.000,1,  -999.0,9,     -999.0,1,     -999.0,9,          2,     -999.0,9,     -999.0,9,     -999.0,9,     -999.0,9
33RO20180423,        I7N,     124,          1,        103,      11102,2,20180604,       0717,    17.9958,    68.0140,       3433,  3059.6,   1.7924,  34.7437,2,  34.7493,6,    112.2,2, 128.8320,2,    146.2,6,     36.5,6,     0.00,6,    2.593,6,   0.006,2,   0.010,2,        0,2,  2355.0,2,  2448.7,2,   7.5581,2,    25.00, -999.00,9, -999.00,9, -999.00,-999.000,1,  -999.0,9,     -999.0,1,     -999.0,9,          3,     -999.0,9,     -999.0,9,     -999.0,9,     -999.0,9
33RO20180423,        I7N,     124,          1,        104,      11103,2,20180604,       0717,    17.9958,    68.0140,       3433,  2700.3,   1.9768,  34.7568,2,  34.7572,2,    105.3,2, 119.7070,2,    144.7,6,     36.8,6,     0.00,6,    2.635,6,-999.000,9,-999.000,9,-999.0000,9,  2357.0,2,  2445.0,2,   7.5419,2,    25.00, -999.00,9, -999.00,9, -999.00,-999.000,9,  -999.0,9,     -999.0,9,     -999.0,9,          4,     -999.0,9,     -999.0,9,     -999.0,9,     -999.0,9
33RO20180423,        I7N,     124,          1,        105,      11104,2,20180604,       0717,    17.9958,    68.0140,       3433,  2400.5,   2.3055,  34.7777,2,  34.7807,2,    100.4,2, 113.5720,2,    139.6,2,     37.0,2,     0.00,2,    2.672,2,-999.000,9,-999.000,9,-999.0000,9,  2351.7,2,  2433.8,2,   7.5308,2,    25.00, -999.00,9, -999.00,9, -999.00,-999.000,9,  -999.0,9,     -999.0,9,     -999.0,9,          5,     -999.0,9,     -999.0,9,     -999.0,9,     -999.0,9
33RO20180423,        I7N,     124,          1,        106,      11105,2,20180604,       0717,    17.9958,    68.0140,       3433,  2100.5,   2.8877,  34.8188,2,  34.8189,2,     85.4,2,  96.4010,2,    133.4,2,     37.7,2,     0.00,2,    2.750,2,-999.000,9,-999.000,9,-999.0000,9,  2353.1,2,  2425.6,2,   7.5035,2,    25.00, -999.00,9, -999.00,9, -999.00,-999.000,9,  -999.0,9,     -999.0,9,     -999.0,9,          6,     -999.0,9,     -999.0,9,     -999.0,9,     -999.0,9
33RO20180423,        I7N,     124,          1,        107,      11106,2,20180604,       0717,    17.9958,    68.0140,       3433,  1800.1,   3.9164,  34.9047,2,  34.9235,2,     60.3,2,  68.1070,2,    123.2,2,     38.6,2,     0.00,2,    2.892,2,-999.000,9,-999.000,9,-999.0000,9,  2353.9,2,  2414.0,2,   7.4692,2,    25.00, -999.00,9, -999.00,9, -999.00,-999.000,9,  -999.0,9,     -999.0,9,     -999.0,9,          7,     -999.0,9,     -999.0,9,     -999.0,9,     -999.0,9
33RO20180423,        I7N,     124,          1,        108,      11107,2,20180604,       0717,    17.9958,    68.0140,       3433,  1550.5,   5.2209,  35.0156,2,  35.0193,2,     39.0,2,  46.4925,2,    108.8,2,     39.0,2,     0.00,2,    2.964,2,-999.000,9,-999.000,9,-999.0000,9,  2347.1,2,  2398.8,6,   7.4471,2,    25.00, -999.00,9, -999.00,9, -999.00,-999.000,9,  -999.0,9,     -999.0,9,     -999.0,9,          8,     -999.0,9,     -999.0,9,     -999.0,9,     -999.0,9
33RO20180423,        I7N,     124,          1,        109,      11108,2,20180604,       0717,    17.9958,    68.0140,       3433,  1300.7,   6.6648,  35.1417,2,  35.1434,2,     21.1,2,  24.9710,2,     92.7,2,     38.8,2,     0.00,2,    2.973,2,-999.000,9,-999.000,9,-999.0000,9,  2338.1,2,  2383.5,2,   7.4325,2,    25.00, -999.00,9, -999.00,9, -999.00,-999.000,9,  -999.0,9,     -999.0,9,     -999.0,9,          9,     -999.0,9,     -999.0,9,     -999.0,9,     -999.0,9
33RO20180423,        I7N,     124,          1,        110,      11109,2,20180604,       0717,    17.9958,    68.0140,       3433,  1101.4,   8.1278,  35.3011,2,  35.3038,2,      8.2,2,  11.1730,2,     79.3,2,     37.9,2,     0.00,2,    2.936,2,-999.000,9,-999.000,9,-999.0000,9,  2325.3,2,  2375.8,2,   7.4294,2,    25.00, -999.00,9, -999.00,9, -999.00,-999.000,9,  -999.0,9,     -999.0,9,     -999.0,9,         10,     -999.0,9,     -999.0,9,     -999.0,9,     -999.0,9
33RO20180423,        I7N,     124,          1,        111,      11110,2,20180604,       0717,    17.9958,    68.0140,       3433,   900.3,   9.7224,  35.4746,2,  35.5064,2,      1.9,2,   4.4580,2,     65.8,2,     35.3,2,     0.00,2,    2.847,2,-999.000,9,-999.000,9,-999.0000,9,  2313.1,2,  2365.6,2,   7.4464,2,    25.00, -999.00,9, -999.00,9, -999.00,-999.000,9,  -999.0,9,     -999.0,9,     -999.0,9,         11,     -999.0,9,     -999.0,9,     -999.0,9,     -999.0,9
33RO20180423,        I7N,     124,          1,        112,      11111,2,20180604,       0717,    17.9958,    68.0140,       3433,   750.1,  10.6674,  35.5280,2,  35.5387,2,      1.1,2,   3.9200,2,     55.4,2,     33.5,2,     0.00,2,    2.750,2,-999.000,9,-999.000,9,-999.0000,9,  2300.9,2,  2357.9,2,   7.4564,2,    25.00, -999.00,9, -999.00,9, -999.00,-999.000,9,  -999.0,9,     -999.0,9,     -999.0,9,         12,     -999.0,9,     -999.0,9,     -999.0,9,     -999.0,9
33RO20180423,        I7N,     124,          1,        113,      11112,2,20180604,       0717,    17.9958,    68.0140,       3433,   600.2,  11.6444,  35.5938,2,  35.6017,2,      0.4,2,   2.4580,2,     45.8,2,     30.8,2,     0.00,2,    2.665,2,-999.000,9,-999.000,9,-999.0000,9,  2292.4,2,  2352.0,2,   7.4650,2,    25.00, -999.00,9, -999.00,9, -999.00,-999.000,9,  -999.0,9,     -999.0,9,     -999.0,9,         13,     -999.0,9,     -999.0,9,     -999.0,9,     -999.0,9
33RO20180423,        I7N,     124,          1,        114,      11113,2,20180604,       0717,    17.9958,    68.0140,       3433,   450.7,  12.7292,  35.6594,2,  35.6656,2,      0.2,2,   1.7090,2,     36.7,2,     28.3,2,     0.01,2,    2.544,2,-999.000,9,-999.000,9,-999.0000,9,  2285.7,2,  2342.8,2,   7.4675,2,    25.00, -999.00,9, -999.00,9, -999.00,-999.000,9,  -999.0,9,     -999.0,9,     -999.0,9,         14,     -999.0,9,     -999.0,9,     -999.0,9,     -999.0,9
33RO20180423,        I7N,     124,          1,        115,      11114,2,20180604,       0717,    17.9958,    68.0140,       3433,   400.3,  13.1821,  35.6884,2,  35.6908,2,      0.2,2,   1.6960,2,     33.7,2,     26.5,2,     0.58,2,    2.503,2,-999.000,9,-999.000,9,-999.0000,9,  2286.5,2,  2345.0,2,   7.4677,2,    25.00, -999.00,9, -999.00,9, -999.00,-999.000,9,  -999.0,9,     -999.0,9,     -999.0,9,         15,     -999.0,9,     -999.0,9,     -999.0,9,     -999.0,9
33RO20180423,        I7N,     124,          1,        116,      11115,2,20180604,       0717,    17.9958,    68.0140,       3433,   350.6,  13.8190,  35.7297,2,  35.7315,2,      0.2,2,   2.5890,2,     31.1,2,     21.3,2,     3.84,2,    2.458,2,   0.740,6,   0.518,6,   0.2505,6,  2287.6,2,  2348.7,2,   7.4690,2,    25.00, -999.00,9, -999.00,9, -999.00,-999.000,1,  -999.0,9,     -999.0,1,     -999.0,9,         16,     -999.0,9,     -999.0,9,     -999.0,9,     -999.0,9
33RO20180423,        I7N,     124,          1,        117,      11116,2,20180604,       0717,    17.9958,    68.0140,       3433,   300.3,  15.0085,  35.8517,2,  35.8588,2,      0.2,2,   2.8580,2,     28.2,2,     18.3,2,     4.02,2,    2.409,2,   0.850,2,   0.614,2,   0.3539,2,  2285.9,2,  2353.6,2,   7.4871,2,    25.00, -999.00,9, -999.00,9, -999.00,-999.000,1,  -999.0,9,     -999.0,1,     -999.0,9,         17,     -999.0,9,     -999.0,9,     -999.0,9,     -999.0,9
33RO20180423,        I7N,     124,          1,        118,      11117,2,20180604,       0717,    17.9958,    68.0140,       3433,   250.2,  15.3480,  35.6412,2,  35.6829,2,      0.1,2,   2.3940,2,     26.5,2,     20.1,2,     2.51,2,    2.384,2,   0.933,2,   0.667,2,   0.3697,2,  2275.7,2,  2345.7,2,   7.4892,2,    25.00, -999.00,9, -999.00,9, -999.00,-999.000,1,  -999.0,9,     -999.0,1,     -999.0,9,         18,     -999.0,9,     -999.0,9,     -999.0,9,     -999.0,9
33RO20180423,        I7N,     124,          1,        119,      11083,2,20180604,       0717,    17.9958,    68.0140,       3433,   199.9,  17.7927,  35.8206,2,  35.8243,2,      0.1,2,   1.7840,2,     22.1,2,     19.9,2,     2.35,2,    2.315,2,-999.000,9,-999.000,9,-999.0000,9,  2262.3,2,  2347.6,2,   7.5371,2,    25.00, -999.00,9, -999.00,9, -999.00,-999.000,9,  -999.0,9,     -999.0,9,     -999.0,9,         19,     -999.0,9,     -999.0,9,     -999.0,9,     -999.0,9
33RO20180423,        I7N,     124,          1,        120,      11118,2,20180604,       0717,    17.9958,    68.0140,       3433,   160.0,  19.8273,  35.9335,2,  35.8903,2,      8.0,2,   9.2060,2,     16.9,2,     24.4,2,     0.02,2,    2.146,2,-999.000,9,-999.000,9,-999.0000,9,  2243.6,2,  2347.9,2,   7.5963,2,    25.00, -999.00,9, -999.00,9, -999.00,-999.000,9,  -999.0,9,     -999.0,9,     -999.0,9,         20,     -999.0,9,     -999.0,9,     -999.0,9,     -999.0,9
33RO20180423,        I7N,     124,          1,        121,      11119,2,20180604,       0717,    17.9958,    68.0140,       3433,   119.7,  22.4492,  36.1935,2,  36.1969,2,     69.4,2,  73.5690,2,     10.2,2,     18.0,2,     0.03,2,    1.543,2,   1.476,2,   0.945,2,   1.1779,2,  2184.7,2,  2366.6,2,   7.7799,2,    25.00, -999.00,9, -999.00,9, -999.00,-999.000,1,  -999.0,9,     -999.0,1,     -999.0,9,         21,     -999.0,9,     -999.0,9,     -999.0,9,     -999.0,9
33RO20180423,        I7N,     124,          1,        122,      11120,2,20180604,       0717,    17.9958,    68.0140,       3433,    80.7,  24.6319,  36.2600,2,  36.2622,6,    112.0,2, 115.3555,2,      5.3,2,     11.4,2,     0.08,2,    1.051,2,-999.000,9,-999.000,9,-999.0000,9,  2131.7,2,  2370.8,6,   7.8984,2,    25.00, -999.00,9, -999.00,9, -999.00,-999.000,9,  -999.0,9,     -999.0,9,     -999.0,9,         22,     -999.0,9,     -999.0,9,     -999.0,9,     -999.0,9
33RO20180423,        I7N,     124,          1,        123,      11121,2,20180604,       0717,    17.9958,    68.0140,       3433,    40.3,  29.0583,  36.5662,2,  36.5621,2,    204.2,2, 209.7140,2,      0.9,2,      0.0,2,     0.00,2,    0.237,2,-999.000,9,-999.000,9,-999.0000,9,  2042.6,2,  2395.3,2,   8.0840,6,    25.00, -999.00,9, -999.00,9, -999.00,-999.000,9,  -999.0,9,     -999.0,9,     -999.0,9,         23,     -999.0,9,     -999.0,9,     -999.0,9,     -999.0,9
33RO20180423,        I7N,     124,          1,        124,      11122,2,20180604,       0717,    17.9958,    68.0140,       3433,     3.7,  30.6933,  36.5296,2,  36.5300,2,    180.8,2, 188.6880,2,      1.0,2,      0.0,2,     0.00,2,    0.248,2,-999.000,9,-999.000,9,-999.0000,9,  2036.3,2,  2395.2,2,   8.0939,2,    25.00, -999.00,9, -999.00,9, -999.00,-999.000,9,  -999.0,9,     -999.0,9,     -999.0,9,         24,     -999.0,9,     -999.0,9,     -999.0,9,     -999.0,9