BOTTLE,20230801CCHSIOCBG
EXPOCODE,SECT_ID,STNNBR,CASTNO,SAMPNO,BTLNBR,BTLNBR_FLAG_W,DATE,TIME,LATITUDE,LONGITUDE,DEPTH,CTDPRS,CTDTMP,CTDSAL,CTDSAL_FLAG_W,SALNTY,SALNTY_FLAG_W,CTDOXY,CTDOXY_FLAG_W,OXYGEN,OXYGEN_FLAG_W,SILCAT,SILCAT_FLAG_W,NITRAT,NITRAT_FLAG_W,NITRIT,NITRIT_FLAG_W,PHSPHT,PHSPHT_FLAG_W,CFC-11,CFC-11_FLAG_W,CFC-12,CFC-12_FLAG_W,SF6,SF6_FLAG_W,TCARBN,TCARBN_FLAG_W,ALKALI,ALKALI_FLAG_W,PH_SWS,PH_SWS_FLAG_W,PH_TMP,DELC13,DELC13_FLAG_W,DELC14,DELC14_FLAG_W,C14ERR,CCL4,CCL4_FLAG_W,DOC,DOC_FLAG_W,N2O,N2O_FLAG_W,CALCIUM,CALCIUM_FLAG_W,SAMPNO_U,DNSSAL,DNSSAL_FLAG_W,DNSSAL2,DNSSAL2_FLAG_W,SALNTY_DNSSAL,SALNTY_DNSSAL_FLAG_W,SALNTY_DNSSAL2,SALNTY_DNSSAL2_FLAG_W
,,,,,,,,,,,METERS,DBAR,ITS-90,PSS-78,,PSS-78,,UMOL/KG,,UMOL/KG,,UMOL/KG,,UMOL/KG,,UMOL/KG,,UMOL/KG,,PMOL/KG,,PMOL/KG,,FMOL/KG,,UMOL/KG,,UMOL/KG,,,,DEG C,/MILLE,,/MILLE,,/MILLE,PMOL/KG,,UMOL/KG,,NMOL/KG,,MMOL/KG,,,G/KG,,G/KG,,PSS-78,,PSS-78,
33RO20180423,        I7N,      19,          1,        101,      11010,2,20180502,       1517,   -23.6562,    54.5153,       4152,  4188.7,   1.1603,  34.7124,2,  34.7146,2,    173.0,2, 198.2880,2,    125.6,6,     32.8,6,     0.00,6,    2.228,6,   0.058,2,   0.028,2,        0,2,  2274.8,6,  2378.6,2,   7.5988,2,    25.00, -999.00,9, -999.00,9, -999.00,-999.000,1,  -999.0,9,     -999.0,1,     -999.0,9,          1,     -999.0,9,     -999.0,9,     -999.0,9,     -999.0,9
33RO20180423,        I7N,      19,          1,        102,      11101,2,20180502,       1517,   -23.6562,    54.5153,       4152,  3838.2,   1.3515,  34.7201,2,  34.7207,2,    164.2,2, 187.9810,2,    126.6,6,     33.3,6,     0.00,6,    2.263,6,   0.026,2,   0.014,2,        0,2,  2279.8,2,  2386.2,6,   7.5957,2,    25.00, -999.00,9, -999.00,9, -999.00,-999.000,1,  -999.0,9,     -999.0,1,     -999.0,9,          2,     -999.0,9,     -999.0,9,     -999.0,9,     -999.0,9
33RO20180423,        I7N,      19,          1,        103,      11102,2,20180502,       1517,   -23.6562,    54.5153,       4152,  3528.0,   1.5990,  34.7289,2,  34.7292,2,    153.2,2, 175.6730,2,    128.1,6,     33.9,6,     0.00,6,    2.319,6,   0.009,2,   0.006,2,        0,2,  2290.3,2,  2395.8,2,   7.5914,6,    25.00, -999.00,9, -999.00,9, -999.00,-999.000,1,    42.5,3,     -999.0,1,     -999.0,9,          3,     -999.0,9,     -999.0,9,     -999.0,9,     -999.0,9
33RO20180423,        I7N,      19,          1,        104,      11103,2,20180502,       1517,   -23.6562,    54.5153,       4152,  3225.6,   1.7443,  34.7334,2,  34.7333,2,    148.2,2, 169.7080,2,    126.9,6,     34.1,6,     0.00,6,    2.334,6,-999.000,1,-999.000,1,-999.0000,1,  2295.6,2,  2398.9,2,   7.5877,2,    25.00, -999.00,9, -999.00,9, -999.00,-999.000,1,    43.6,3,     -999.0,1,     -999.0,9,          4,     -999.0,9,     -999.0,9,     -999.0,9,     -999.0,9
33RO20180423,        I7N,      19,          1,        105,      11104,2,20180502,       1517,   -23.6562,    54.5153,       4152,  2925.5,   1.9251,  34.7378,2,  34.7405,6,    143.9,2, 163.9600,2,    124.6,2,     34.3,2,     0.00,2,    2.365,2,   0.063,3,   0.126,3,   2.2692,3,  2295.9,2,  2399.1,2,   7.5840,2,    25.00, -999.00,9, -999.00,9, -999.00,-999.000,1,  -999.0,9,     -999.0,1,     -999.0,9,          5,     -999.0,9,     -999.0,9,     -999.0,9,     -999.0,9
33RO20180423,        I7N,      19,          1,        106,      11105,2,20180502,       1517,   -23.6562,    54.5153,       4152,  2625.9,   2.1011,  34.7379,2,  34.7738,2,    143.5,2, 163.0400,2,    118.1,2,     34.0,2,     0.00,2,    2.347,2,   0.006,2,   0.004,2,   0.0433,3,  -999.0,9,  -999.0,9,   7.5835,2,    25.00, -999.00,9, -999.00,9, -999.00,-999.000,1,    43.9,3,     -999.0,1,     -999.0,9,          6,     -999.0,9,     -999.0,9,     -999.0,9,     -999.0,9
33RO20180423,        I7N,      19,          1,        107,      11106,2,20180502,       1517,   -23.6562,    54.5153,       4152,  2324.4,   2.2565,  34.7337,2,  34.7355,2,    147.6,2, 166.6670,2,    108.8,2,     33.3,2,     0.00,2,    2.285,2,   0.016,3,   0.011,3,   0.0644,3,  2280.9,2,  2378.1,2,   7.5868,2,    25.00, -999.00,9, -999.00,9, -999.00,-999.000,1,  -999.0,9,     -999.0,1,     -999.0,9,          7,     -999.0,9,     -999.0,9,     -999.0,9,     -999.0,9
33RO20180423,        I7N,      19,          1,        108,      11107,2,20180502,       1517,   -23.6562,    54.5153,       4152,  2026.0,   2.4239,  34.7171,2,  34.7193,2,    150.6,2, 169.2190,2,     99.5,2,     32.9,2,     0.00,2,    2.267,2,   0.043,3,   0.042,3,   0.4672,3,  -999.0,9,  -999.0,9,   7.5851,2,    25.00, -999.00,9, -999.00,9, -999.00,-999.000,1,    44.8,3,     -999.0,1,     -999.0,9,          8,     -999.0,9,     -999.0,9,     -999.0,9,     -999.0,9
33RO20180423,        I7N,      19,          1,        109,      11108,2,20180502,       1517,   -23.6562,    54.5153,       4152,  1739.2,   2.6927,  34.6750,2,  34.6787,2,    150.1,2, 167.5680,2,     89.4,2,     33.1,2,     0.00,2,    2.276,2,   0.083,3,   0.064,3,   0.5342,3,  2262.5,2,  2355.5,6,   7.5778,2,    25.00, -999.00,9, -999.00,9, -999.00,-999.000,1,  -999.0,9,     -999.0,1,     -999.0,9,          9,     -999.0,9,     -999.0,9,     -999.0,9,     -999.0,9
33RO20180423,        I7N,      19,          1,        110,      11109,2,20180502,       1517,   -23.6562,    54.5153,       4152,  1489.5,   3.1360,  34.6161,2,  34.6179,2,    143.8,2, 158.7180,2,     81.1,2,     34.0,2,     0.00,2,    2.322,2,   0.175,2,   0.088,2,   0.0089,2,  -999.0,9,  -999.0,9,   7.5625,6,    25.00, -999.00,9, -999.00,9, -999.00,-999.000,1,  -999.0,9,     -999.0,1,     -999.0,9,         10,     -999.0,9,     -999.0,9,     -999.0,9,     -999.0,9
33RO20180423,        I7N,      19,          1,        111,      11110,2,20180502,       1517,   -23.6562,    54.5153,       4152,  1250.6,   3.9583,  34.5276,2,  34.5327,2,    139.8,2, 154.4720,2,     67.8,2,     34.3,2,     0.00,2,    2.360,2,   0.369,2,   0.184,2,        0,2,  2250.4,6,  2333.0,2,   7.5591,2,    25.00, -999.00,9, -999.00,9, -999.00,-999.000,1,    48.9,3,     -999.0,1,     -999.0,9,         11,     -999.0,9,     -999.0,9,     -999.0,9,     -999.0,9
33RO20180423,        I7N,      19,          1,        112,      11111,2,20180502,       1517,   -23.6562,    54.5153,       4152,  1052.3,   5.0980,  34.4649,2,  34.5091,2,    155.7,2, 170.7020,2,     45.4,2,     31.6,2,     0.00,2,    2.160,2,   1.112,2,   0.549,2,   0.1648,2,  2215.3,2,  2311.6,2,   7.5922,2,    25.00, -999.00,9, -999.00,9, -999.00,-999.000,1,  -999.0,9,     -999.0,1,     -999.0,9,         12,     -999.0,9,     -999.0,9,     -999.0,9,     -999.0,9
33RO20180423,        I7N,      19,          1,        113,      11112,2,20180502,       1517,   -23.6562,    54.5153,       4152,   864.5,   7.6499,  34.5427,2,  34.5472,2,    187.9,2, 204.7090,2,     15.7,2,     23.6,2,     0.00,2,    1.617,2,   2.740,6,   1.427,6,   0.6819,6,  2164.4,2,  2291.9,2,   7.6833,2,    25.00, -999.00,9, -999.00,9, -999.00,-999.000,1,  -999.0,9,     -999.0,1,     -999.0,9,         13,     -999.0,9,     -999.0,9,     -999.0,9,     -999.0,9
33RO20180423,        I7N,      19,          1,        114,      11113,2,20180502,       1517,   -23.6562,    54.5153,       4152,   713.3,   9.8433,  34.7686,2,  34.7721,2,    203.6,2,-999.0000,9,      6.9,2,     16.5,2,     0.00,2,    1.193,2,-999.000,1,-999.000,1,-999.0000,1,  2141.7,2,  2300.0,2,   7.7538,2,    25.00, -999.00,9, -999.00,9, -999.00,-999.000,1,    54.6,3,     -999.0,1,     -999.0,9,         14,     -999.0,9,     -999.0,9,     -999.0,9,     -999.0,9
33RO20180423,        I7N,      19,          1,        115,      11114,2,20180502,       1517,   -23.6562,    54.5153,       4152,   563.6,  11.8368,  35.0497,2,  35.0539,2,    207.9,2, 224.2590,2,      4.4,2,     11.4,2,     0.00,2,    0.878,2,   3.154,2,   1.801,2,   1.5605,2,  2130.8,2,  2311.6,2,   7.8032,2,    25.00, -999.00,9, -999.00,9, -999.00,-999.000,1,  -999.0,9,     -999.0,1,     -999.0,9,         15,     -999.0,9,     -999.0,9,     -999.0,9,     -999.0,9
33RO20180423,        I7N,      19,          1,        116,      11115,2,20180502,       1517,   -23.6562,    54.5153,       4152,   426.0,  13.5412,  35.2849,2,  35.2889,2,    200.3,2, 214.7820,2,      4.1,2,      8.4,2,     0.00,2,    0.695,2,   2.848,2,   1.663,2,    1.614,2,  2124.3,2,  2321.2,2,   7.8358,2,    25.00, -999.00,9, -999.00,9, -999.00,-999.000,1,    59.6,3,     -999.0,1,     -999.0,9,         16,     -999.0,9,     -999.0,9,     -999.0,9,     -999.0,9
33RO20180423,        I7N,      19,          1,        117,      11116,2,20180502,       1517,   -23.6562,    54.5153,       4152,   331.4,  15.3882,  35.4520,2,  35.4566,2,    185.2,2, 199.3310,2,      4.7,2,      6.5,2,     0.00,2,    0.572,2,   2.527,2,   1.508,2,   1.5226,2,  2118.9,2,  2326.3,2,   7.8600,2,    25.00, -999.00,9, -999.00,9, -999.00,-999.000,1,    57.3,3,     -999.0,1,     -999.0,9,         17,     -999.0,9,     -999.0,9,     -999.0,9,     -999.0,9
33RO20180423,        I7N,      19,          1,        118,      11117,2,20180502,       1517,   -23.6562,    54.5153,       4152,   256.5,  17.6798,  35.5366,2,  35.5404,2,    169.3,2, 181.2280,2,      5.4,2,      5.6,2,     0.00,2,    0.516,2,   2.201,2,   1.340,2,   1.4583,2,  2108.1,2,  2329.9,2,   7.8873,2,    25.00, -999.00,9, -999.00,9, -999.00,-999.000,1,    59.7,3,     -999.0,1,     -999.0,9,         18,     -999.0,9,     -999.0,9,     -999.0,9,     -999.0,9
33RO20180423,        I7N,      19,          1,        119,      11083,2,20180502,       1517,   -23.6562,    54.5153,       4152,   190.2,  20.6021,  35.3932,2,  35.3886,2,    154.5,2, 164.4530,2,      5.8,2,      5.3,2,     0.01,2,    0.475,2,   1.902,2,   1.177,2,   1.4031,2,  2079.0,2,  2319.3,2,   7.9225,6,    25.00, -999.00,9, -999.00,9, -999.00,-999.000,1,    66.4,3,     -999.0,1,     -999.0,9,         19,     -999.0,9,     -999.0,9,     -999.0,9,     -999.0,9
33RO20180423,        I7N,      19,          1,        120,      11118,2,20180502,       1517,   -23.6562,    54.5153,       4152,   151.8,  22.0892,  35.2860,2,  35.2798,2,    162.0,2, 173.4870,2,      4.0,2,      3.4,2,     0.03,2,    0.356,2,   1.815,6,   1.136,6,   1.4309,6,  2053.7,2,  2315.7,2,   7.9622,2,    25.00, -999.00,9, -999.00,9, -999.00,-999.000,1,    72.0,3,     -999.0,1,     -999.0,9,         20,     -999.0,9,     -999.0,9,     -999.0,9,     -999.0,9
33RO20180423,        I7N,      19,          1,        121,      11119,2,20180502,       1517,   -23.6562,    54.5153,       4152,   111.0,  23.7194,  35.1530,2,  35.1557,6,    179.6,2, 190.2610,2,      2.6,2,      0.4,2,     0.26,2,    0.205,2,   1.742,2,   1.091,2,   1.4368,2,  2021.6,2,  2304.0,6,   8.0076,2,    25.00, -999.00,9, -999.00,9, -999.00,-999.000,1,    80.7,3,     -999.0,1,     -999.0,9,         21,     -999.0,9,     -999.0,9,     -999.0,9,     -999.0,9
33RO20180423,        I7N,      19,          1,        122,      11120,2,20180502,       1517,   -23.6562,    54.5153,       4152,    70.6,  24.9911,  35.0538,2,  35.0566,2,    196.2,2, 207.9670,2,      2.0,2,      0.0,2,     0.00,2,    0.115,2,   1.682,2,   1.063,2,   1.5074,2,  1995.5,2,  2299.1,2,   8.0439,2,    25.00, -999.00,9, -999.00,9, -999.00,-999.000,1,    81.2,3,     -999.0,1,     -999.0,9,         22,     -999.0,9,     -999.0,9,     -999.0,9,     -999.0,9
33RO20180423,        I7N,      19,          1,        123,      11121,2,20180502,       1517,   -23.6562,    54.5153,       4152,    31.6,  26.4297,  35.0167,2,  35.0196,2,    192.2,2, 203.1700,2,      1.8,2,      0.0,2,     0.00,2,    0.102,2,   1.547,2,   0.972,2,   1.4452,2,  1979.5,2,  2291.3,2,   8.0662,2,    25.00, -999.00,9, -999.00,9, -999.00,-999.000,1,    83.0,3,     -999.0,1,     -999.0,9,         23,     -999.0,9,     -999.0,9,     -999.0,9,     -999.0,9
33RO20180423,        I7N,      19,          1,        124,      11122,2,20180502,       1517,   -23.6562,    54.5153,       4152,     4.1,  26.4292,  35.0170,2,  35.0186,2,    192.6,2, 203.1850,2,      1.8,2,      0.0,2,     0.00,2,    0.113,2,   1.542,2,   0.981,2,   1.5421,2,  1979.2,2,  2287.1,2,   8.0651,2,    25.00, -999.00,9, -999.00,9, -999.00,-999.000,1,    98.5,3,     -999.0,1,     -999.0,9,         24,     -999.0,9,     -999.0,9,     -999.0,9,     -999.0,9