BOTTLE,20230801CCHSIOCBG
EXPOCODE,SECT_ID,STNNBR,CASTNO,SAMPNO,BTLNBR,BTLNBR_FLAG_W,DATE,TIME,LATITUDE,LONGITUDE,DEPTH,CTDPRS,CTDTMP,CTDSAL,CTDSAL_FLAG_W,SALNTY,SALNTY_FLAG_W,CTDOXY,CTDOXY_FLAG_W,OXYGEN,OXYGEN_FLAG_W,SILCAT,SILCAT_FLAG_W,NITRAT,NITRAT_FLAG_W,NITRIT,NITRIT_FLAG_W,PHSPHT,PHSPHT_FLAG_W,CFC-11,CFC-11_FLAG_W,CFC-12,CFC-12_FLAG_W,SF6,SF6_FLAG_W,TCARBN,TCARBN_FLAG_W,ALKALI,ALKALI_FLAG_W,PH_SWS,PH_SWS_FLAG_W,PH_TMP,DELC13,DELC13_FLAG_W,DELC14,DELC14_FLAG_W,C14ERR,CCL4,CCL4_FLAG_W,DOC,DOC_FLAG_W,N2O,N2O_FLAG_W,CALCIUM,CALCIUM_FLAG_W,SAMPNO_U,DNSSAL,DNSSAL_FLAG_W,DNSSAL2,DNSSAL2_FLAG_W,SALNTY_DNSSAL,SALNTY_DNSSAL_FLAG_W,SALNTY_DNSSAL2,SALNTY_DNSSAL2_FLAG_W
,,,,,,,,,,,METERS,DBAR,ITS-90,PSS-78,,PSS-78,,UMOL/KG,,UMOL/KG,,UMOL/KG,,UMOL/KG,,UMOL/KG,,UMOL/KG,,PMOL/KG,,PMOL/KG,,FMOL/KG,,UMOL/KG,,UMOL/KG,,,,DEG C,/MILLE,,/MILLE,,/MILLE,PMOL/KG,,UMOL/KG,,NMOL/KG,,MMOL/KG,,,G/KG,,G/KG,,PSS-78,,PSS-78,
33RO20180423,        I7N,       7,          1,        101,      11010,2,20180429,       1623,   -27.6843,    54.4957,       5110,  5185.9,   0.9638,  34.7007,2,  34.7019,2,    181.2,2, 211.5860,2,    125.7,6,     31.6,6,     0.00,6,    2.202,6,   0.167,2,   0.081,2,    0.003,2,  2266.3,6,  2365.5,2,   7.6354,4,    25.00, -999.00,9, -999.00,9, -999.00,-999.000,1,  -999.0,9,     -999.0,1,     -999.0,9,          1,     -999.0,9,     -999.0,9,     -999.0,9,     -999.0,9
33RO20180423,        I7N,       7,          1,        102,      11101,2,20180429,       1623,   -27.6843,    54.4957,       5110,  4786.9,   0.9603,  34.7029,2,  34.7038,2,    179.0,2, 209.2070,2,    125.4,6,     31.6,6,     0.00,6,    2.204,6,   0.127,2,   0.064,2,   0.0079,2,  2265.8,2,  2366.1,6,   7.5971,2,    25.00, -999.00,9, -999.00,9, -999.00,-999.000,1,    42.6,3,     -999.0,1,     -999.0,9,          2,     -999.0,9,     -999.0,9,     -999.0,9,     -999.0,9
33RO20180423,        I7N,       7,          1,        103,      11102,2,20180429,       1623,   -27.6843,    54.4957,       5110,  4425.4,   1.0138,  34.7066,2,  34.7072,2,    176.3,2, 205.4525,2,    124.5,6,     31.7,6,     0.00,6,    2.212,6,   0.089,2,   0.045,2,        0,2,  2267.3,2,  2368.6,2,   7.5975,2,    25.00, -999.00,9, -999.00,9, -999.00,-999.000,1,  -999.0,9,     -999.0,1,     -999.0,9,          3,     -999.0,9,     -999.0,9,     -999.0,9,     -999.0,9
33RO20180423,        I7N,       7,          1,        104,      11103,2,20180429,       1623,   -27.6843,    54.4957,       5110,  4124.8,   1.1296,  34.7115,2,  34.7206,2,    171.4,2, 199.7500,2,    124.6,6,     32.0,6,     0.00,6,    2.232,6,   0.061,2,   0.030,2,        0,2,  2272.5,2,  2373.7,2,   7.5973,6,    25.00, -999.00,9, -999.00,9, -999.00,-999.000,1,  -999.0,9,     -999.0,1,     -999.0,9,          4,     -999.0,9,     -999.0,9,     -999.0,9,     -999.0,9
33RO20180423,        I7N,       7,          1,        105,      11104,2,20180429,       1623,   -27.6843,    54.4957,       5110,  3825.7,   1.2649,  34.7168,2,  34.7198,2,    165.6,2, 192.3430,2,    124.9,2,     32.3,2,     0.00,2,    2.253,2,   0.036,2,   0.018,2,        0,2,  2277.3,2,  2378.9,2,   7.5978,2,    25.00, -999.00,9, -999.00,9, -999.00,-999.000,1,  -999.0,9,     -999.0,1,     -999.0,9,          5,     -999.0,9,     -999.0,9,     -999.0,9,     -999.0,9
33RO20180423,        I7N,       7,          1,        106,      11105,2,20180429,       1623,   -27.6843,    54.4957,       5110,  3525.4,   1.4305,  34.7223,2,  34.7233,2,    158.8,2, 183.9210,2,    126.3,2,     32.7,2,     0.00,2,    2.283,2,   0.018,2,   0.010,2,        0,2,  2285.1,2,  2389.4,2,   7.5950,2,    25.00, -999.00,9, -999.00,9, -999.00,-999.000,1,  -999.0,9,     -999.0,1,     -999.0,9,          6,     -999.0,9,     -999.0,9,     -999.0,9,     -999.0,9
33RO20180423,        I7N,       7,          1,        107,      11106,2,20180429,       1623,   -27.6843,    54.4957,       5110,  3225.8,   1.6109,  34.7287,2,  34.7308,2,    152.9,2, 176.4650,2,    125.1,2,     32.9,2,     0.00,2,    2.302,2,   0.010,2,   0.006,2,        0,2,  2289.8,2,  2392.2,2,   7.5945,2,    25.00, -999.00,9, -999.00,9, -999.00,-999.000,1,    43.1,3,     -999.0,1,     -999.0,9,          7,     -999.0,9,     -999.0,9,     -999.0,9,     -999.0,9
33RO20180423,        I7N,       7,          1,        108,      11107,2,20180429,       1623,   -27.6843,    54.4957,       5110,  2926.0,   1.7819,  34.7340,2,  34.7481,2,    147.8,2, 170.7350,2,    124.1,2,     33.1,2,     0.00,2,    2.331,2,   0.006,2,   0.004,2,        0,2,  2296.6,2,  2394.6,2,   7.5879,2,    25.00, -999.00,9, -999.00,9, -999.00,-999.000,1,    45.7,3,     -999.0,1,     -999.0,9,          8,     -999.0,9,     -999.0,9,     -999.0,9,     -999.0,9
33RO20180423,        I7N,       7,          1,        109,      11108,2,20180429,       1623,   -27.6843,    54.4957,       5110,  2626.1,   1.9767,  34.7414,2,  34.7420,2,    150.9,2, 172.3750,2,    114.1,2,     32.3,2,     0.00,2,    2.277,2,   0.012,2,   0.006,2,        0,2,  2286.8,2,  2383.8,2,   7.5925,2,    25.00, -999.00,9, -999.00,9, -999.00,-999.000,1,    44.3,3,     -999.0,1,     -999.0,9,          9,     -999.0,9,     -999.0,9,     -999.0,9,     -999.0,9
33RO20180423,        I7N,       7,          1,        110,      11109,2,20180429,       1623,   -27.6843,    54.4957,       5110,  2325.2,   2.1852,  34.7414,2,  34.7447,2,    156.7,2, 177.7060,2,    100.5,2,     31.3,2,     0.00,2,    2.207,2,   0.024,2,   0.012,2,        0,2,  2270.9,2,  -999.0,9,   7.5988,2,    25.00, -999.00,9, -999.00,9, -999.00,-999.000,1,  -999.0,9,     -999.0,1,     -999.0,9,         10,     -999.0,9,     -999.0,9,     -999.0,9,     -999.0,9
33RO20180423,        I7N,       7,          1,        111,      11110,2,20180429,       1623,   -27.6843,    54.4957,       5110,  2026.0,   2.3733,  34.7205,2,  34.7238,2,    158.7,2, 178.7770,2,     91.3,2,     31.2,2,     0.00,2,    2.167,2,   0.044,6,   0.023,6,   0.0071,6,  2261.7,2,  2361.7,6,   7.5942,2,    25.00, -999.00,9, -999.00,9, -999.00,-999.000,1,  -999.0,9,     -999.0,1,     -999.0,9,         11,     -999.0,9,     -999.0,9,     -999.0,9,     -999.0,9
33RO20180423,        I7N,       7,          1,        112,      11111,2,20180429,       1623,   -27.6843,    54.4957,       5110,  1739.7,   2.5789,  34.6715,2,  34.6784,2,    154.0,2, 172.1330,2,     86.6,2,     32.1,2,     0.00,2,    2.251,2,   0.083,2,   0.041,2,        0,2,  2262.1,2,  2354.4,2,   7.5798,6,    25.00, -999.00,9, -999.00,9, -999.00,-999.000,1,  -999.0,9,     -999.0,1,     -999.0,9,         12,     -999.0,9,     -999.0,9,     -999.0,9,     -999.0,9
33RO20180423,        I7N,       7,          1,        113,      11112,2,20180429,       1623,   -27.6843,    54.4957,       5110,  1489.0,   3.0370,  34.5979,2,  34.6550,2,    146.8,2, 167.6800,2,     85.0,2,     32.6,2,     0.00,2,    2.292,2,   0.116,2,   0.058,2,   0.0218,2,  2263.6,6,  2350.8,2,   7.5733,2,    25.00, -999.00,9, -999.00,9, -999.00,-999.000,1,  -999.0,9,     -999.0,1,     -999.0,9,         13,     -999.0,9,     -999.0,9,     -999.0,9,     -999.0,9
33RO20180423,        I7N,       7,          1,        114,      11113,2,20180429,       1623,   -27.6843,    54.4957,       5110,  1238.7,   3.6123,  34.4581,2,  34.4623,2,    162.0,2, 178.0840,2,     56.5,2,     32.5,2,     0.00,2,    2.246,2,   0.954,2,   0.472,2,   0.1922,2,  2235.5,2,  2322.2,2,   7.5715,2,    25.00, -999.00,9, -999.00,9, -999.00,-999.000,1,  -999.0,9,     -999.0,1,     -999.0,9,         14,     -999.0,9,     -999.0,9,     -999.0,9,     -999.0,9
33RO20180423,        I7N,       7,          1,        115,      11114,2,20180429,       1623,   -27.6843,    54.4957,       5110,   988.9,   5.2570,  34.4059,2,  34.4076,2,    180.0,2, 196.8390,2,     31.6,2,     28.8,2,     0.00,2,    2.007,2,   2.057,2,   1.031,2,   0.4938,2,  2197.7,2,  2299.5,2,   7.6172,2,    25.00, -999.00,9, -999.00,9, -999.00,-999.000,1,    46.7,3,     -999.0,1,     -999.0,9,         15,     -999.0,9,     -999.0,9,     -999.0,9,     -999.0,9
33RO20180423,        I7N,       7,          1,        116,      11115,2,20180429,       1623,   -27.6843,    54.4957,       5110,   756.4,   8.7551,  34.6450,2,  34.6579,2,    196.5,2, 212.3920,2,     10.2,2,     19.5,2,     0.00,2,    1.401,2,   3.146,2,   1.673,2,   1.0251,2,  2152.6,2,  2293.3,2,   7.7187,2,    25.00, -999.00,9, -999.00,9, -999.00,-999.000,1,    47.5,3,     -999.0,1,     -999.0,9,         16,     -999.0,9,     -999.0,9,     -999.0,9,     -999.0,9
33RO20180423,        I7N,       7,          1,        117,      11116,2,20180429,       1623,   -27.6843,    54.4957,       5110,   581.4,  11.0621,  34.9330,2,  34.9327,2,    210.0,2, 226.1260,2,      4.6,2,     12.8,2,     0.00,2,    0.976,2,   3.248,2,   1.840,2,   1.5089,2,  2133.4,2,  2303.9,2,   7.7867,2,    25.00, -999.00,9, -999.00,9, -999.00,-999.000,1,    47.4,3,     -999.0,1,     -999.0,9,         17,     -999.0,9,     -999.0,9,     -999.0,9,     -999.0,9
33RO20180423,        I7N,       7,          1,        118,      11117,2,20180429,       1623,   -27.6843,    54.4957,       5110,   413.5,  12.7119,  35.1840,2,  35.1849,2,    211.2,2, 226.1610,2,      3.6,2,      8.9,2,     0.00,2,    0.749,2,   2.966,2,   1.736,2,   1.7142,2,  2125.2,2,  2314.7,2,   7.8270,2,    25.00, -999.00,9, -999.00,9, -999.00,-999.000,1,  -999.0,9,     -999.0,1,     -999.0,9,         18,     -999.0,9,     -999.0,9,     -999.0,9,     -999.0,9
33RO20180423,        I7N,       7,          1,        119,      11083,2,20180429,       1623,   -27.6843,    54.4957,       5110,   275.4,  13.8635,  35.3400,2,  35.3416,2,    212.9,2, 227.2390,2,      3.2,2,      6.3,2,     0.00,2,    0.598,2,   2.742,2,   1.644,2,   1.8901,2,  2117.1,2,  2322.0,2,   7.8579,2,    25.00, -999.00,9, -999.00,9, -999.00,-999.000,1,    55.4,3,     -999.0,1,     -999.0,9,         19,     -999.0,9,     -999.0,9,     -999.0,9,     -999.0,9
33RO20180423,        I7N,       7,          1,        120,      11118,2,20180429,       1623,   -27.6843,    54.4957,       5110,   188.8,  14.8452,  35.4309,2,  35.4311,2,    208.5,2, 222.0820,2,      2.6,2,      4.6,2,     0.01,2,    0.482,2,   2.611,2,   1.569,2,   1.9257,2,  2112.4,2,  2325.3,6,   7.8745,2,    25.00, -999.00,9, -999.00,9, -999.00,-999.000,1,    60.1,3,     -999.0,1,     -999.0,9,         20,     -999.0,9,     -999.0,9,     -999.0,9,     -999.0,9
33RO20180423,        I7N,       7,          1,        121,      11119,2,20180429,       1623,   -27.6843,    54.4957,       5110,   138.8,  16.0237,  35.5251,2,  35.5263,2,    204.2,2, 217.0350,2,      2.4,2,      3.2,2,     0.01,2,    0.389,2,   2.459,2,   1.490,2,   1.8076,2,  2101.4,2,  2330.4,2,   7.8962,6,    25.00, -999.00,9, -999.00,9, -999.00,-999.000,1,    57.7,3,     -999.0,1,     -999.0,9,         21,     -999.0,9,     -999.0,9,     -999.0,9,     -999.0,9
33RO20180423,        I7N,       7,          1,        122,      11120,2,20180429,       1623,   -27.6843,    54.4957,       5110,    88.8,  17.8516,  35.5870,2,  35.5861,6,    207.3,2, 221.1300,2,      1.7,2,      0.5,2,     0.14,2,    0.226,2,   2.301,6,   1.406,6,     1.72,2,  2090.1,2,  2334.5,2,   7.9343,2,    25.00, -999.00,9, -999.00,9, -999.00,-999.000,1,    67.2,3,     -999.0,1,     -999.0,9,         22,     -999.0,9,     -999.0,9,     -999.0,9,     -999.0,9
33RO20180423,        I7N,       7,          1,        123,      11121,2,20180429,       1623,   -27.6843,    54.4957,       5110,    39.5,  23.0589,  35.5356,2,  35.5409,2,    203.9,2, 215.9620,2,      1.1,2,      0.0,2,     0.00,2,    0.038,2,   1.782,2,   1.112,2,   1.6547,2,  2032.3,2,  2329.1,2,   8.0244,2,    25.00, -999.00,9, -999.00,9, -999.00,-999.000,1,    76.2,3,     -999.0,1,     -999.0,9,         23,     -999.0,9,     -999.0,9,     -999.0,9,     -999.0,9
33RO20180423,        I7N,       7,          1,        124,      11122,2,20180429,       1623,   -27.6843,    54.4957,       5110,     3.3,  23.5145,  35.4935,2,  35.4953,2,    202.3,2, 213.8250,2,      1.1,2,      0.0,2,     0.00,2,    0.034,2,   1.739,2,   1.086,2,   1.6272,2,  2020.7,6,  2326.3,2,   8.0376,2,    25.00, -999.00,9, -999.00,9, -999.00,-999.000,1,    77.4,3,     -999.0,1,     -999.0,9,         24,     -999.0,9,     -999.0,9,     -999.0,9,     -999.0,9