BOTTLE,20230801CCHSIOCBG
EXPOCODE,SECT_ID,STNNBR,CASTNO,SAMPNO,BTLNBR,BTLNBR_FLAG_W,DATE,TIME,LATITUDE,LONGITUDE,DEPTH,CTDPRS,CTDTMP,CTDSAL,CTDSAL_FLAG_W,SALNTY,SALNTY_FLAG_W,CTDOXY,CTDOXY_FLAG_W,OXYGEN,OXYGEN_FLAG_W,SILCAT,SILCAT_FLAG_W,NITRAT,NITRAT_FLAG_W,NITRIT,NITRIT_FLAG_W,PHSPHT,PHSPHT_FLAG_W,CFC-11,CFC-11_FLAG_W,CFC-12,CFC-12_FLAG_W,SF6,SF6_FLAG_W,TCARBN,TCARBN_FLAG_W,ALKALI,ALKALI_FLAG_W,PH_SWS,PH_SWS_FLAG_W,PH_TMP,DELC13,DELC13_FLAG_W,DELC14,DELC14_FLAG_W,C14ERR,CCL4,CCL4_FLAG_W,DOC,DOC_FLAG_W,N2O,N2O_FLAG_W,CALCIUM,CALCIUM_FLAG_W,SAMPNO_U,DNSSAL,DNSSAL_FLAG_W,DNSSAL2,DNSSAL2_FLAG_W,SALNTY_DNSSAL,SALNTY_DNSSAL_FLAG_W,SALNTY_DNSSAL2,SALNTY_DNSSAL2_FLAG_W
,,,,,,,,,,,METERS,DBAR,ITS-90,PSS-78,,PSS-78,,UMOL/KG,,UMOL/KG,,UMOL/KG,,UMOL/KG,,UMOL/KG,,UMOL/KG,,PMOL/KG,,PMOL/KG,,FMOL/KG,,UMOL/KG,,UMOL/KG,,,,DEG C,/MILLE,,/MILLE,,/MILLE,PMOL/KG,,UMOL/KG,,NMOL/KG,,MMOL/KG,,,G/KG,,G/KG,,PSS-78,,PSS-78,
33RO20180423,        I7N,      29,          1,        101,      11010,2,20180505,       0516,   -19.0045,    54.8285,       4726,  4808.4,   1.0380,  34.7056,2,  34.7066,2,    177.5,2, 206.0010,2,    123.9,6,     32.6,6,     0.00,6,    2.252,6,   0.093,2,   0.046,2,        0,2,  2266.7,2,  2387.6,4,   7.5990,2,    25.00, -999.00,9, -999.00,9, -999.00,-999.000,1,    42.8,3,     -999.0,1,     -999.0,9,          1,     -999.0,9,     -999.0,9,     -999.0,9,     -999.0,9
33RO20180423,        I7N,      29,          1,        102,      11101,2,20180505,       0516,   -19.0045,    54.8285,       4726,  4474.5,   1.1689,  34.7118,2,  34.7273,2,    170.4,2, 197.7280,2,    125.3,6,     33.0,6,     0.00,6,    2.277,6,   0.059,2,   0.028,2,    0.011,2,  2269.9,6,  2382.1,2,   7.5995,2,    25.00, -999.00,9, -999.00,9, -999.00,-999.000,1,  -999.0,9,     -999.0,1,     -999.0,9,          2,     -999.0,9,     -999.0,9,     -999.0,9,     -999.0,9
33RO20180423,        I7N,      29,          1,        103,      11102,2,20180505,       0516,   -19.0045,    54.8285,       4726,  4125.5,   1.3435,  34.7190,2,  34.7201,2,    161.5,2, 187.3940,2,    126.7,6,     33.5,6,     0.00,6,    2.313,6,   0.033,2,   0.014,2,        0,2,  2279.2,2,  2391.8,2,   7.5974,6,    25.00, -999.00,9, -999.00,9, -999.00,-999.000,1,  -999.0,9,     -999.0,1,     -999.0,9,          3,     -999.0,9,     -999.0,9,     -999.0,9,     -999.0,9
33RO20180423,        I7N,      29,          1,        104,      11103,2,20180505,       0516,   -19.0045,    54.8285,       4726,  3825.0,   1.5325,  34.7264,2,  34.7270,2,    152.7,2, 177.0960,2,    128.4,6,     34.0,6,     0.00,6,    2.348,6,   0.012,2,   0.007,2,        0,2,  2286.7,2,  2401.4,6,   7.5927,2,    25.00, -999.00,9, -999.00,9, -999.00,-999.000,1,    42.3,3,     -999.0,1,     -999.0,9,          4,     -999.0,9,     -999.0,9,     -999.0,9,     -999.0,9
33RO20180423,        I7N,      29,          1,        105,      11104,2,20180505,       0516,   -19.0045,    54.8285,       4726,  3524.6,   1.6377,  34.7305,2,  34.7350,6,    147.8,2, 171.3200,2,    128.7,2,     34.2,2,     0.00,2,    2.385,2,   0.006,2,   0.004,2,   0.0109,2,  2291.0,2,  2405.2,2,   7.5900,2,    25.00, -999.00,9, -999.00,9, -999.00,-999.000,1,    41.3,3,     -999.0,1,     -999.0,9,          5,     -999.0,9,     -999.0,9,     -999.0,9,     -999.0,9
33RO20180423,        I7N,      29,          1,        106,      11105,2,20180505,       0516,   -19.0045,    54.8285,       4726,  3225.6,   1.7613,  34.7350,2,  34.7364,2,    143.2,2, 166.2780,2,    128.0,2,     34.4,2,     0.00,2,    2.395,2,   0.005,2,   0.003,2,        0,2,  2294.1,2,  2405.9,2,   7.5860,2,    25.00, -999.00,9, -999.00,9, -999.00,-999.000,1,  -999.0,9,     -999.0,1,     -999.0,9,          6,     -999.0,9,     -999.0,9,     -999.0,9,     -999.0,9
33RO20180423,        I7N,      29,          1,        107,      11106,2,20180505,       0516,   -19.0045,    54.8285,       4726,  2925.2,   1.8751,  34.7387,2,  34.7396,2,    140.1,2, 161.4410,2,    126.1,2,     34.5,2,     0.00,2,    2.423,2,   0.003,2,   0.003,2,   0.0058,2,  2295.8,2,  2408.9,2,   7.5831,2,    25.00, -999.00,9, -999.00,9, -999.00,-999.000,1,    43.8,3,     -999.0,1,     -999.0,9,          7,     -999.0,9,     -999.0,9,     -999.0,9,     -999.0,9
33RO20180423,        I7N,      29,          1,        108,      11107,2,20180505,       0516,   -19.0045,    54.8285,       4726,  2626.2,   1.9900,  34.7390,2,  34.7399,2,    139.4,2, 161.1600,2,    123.0,2,     34.5,2,     0.00,2,    2.413,2,   0.004,2,   0.003,2,        0,2,  2293.1,2,  2399.9,2,   7.5799,2,    25.00, -999.00,9, -999.00,9, -999.00,-999.000,1,    47.3,3,     -999.0,1,     -999.0,9,          8,     -999.0,9,     -999.0,9,     -999.0,9,     -999.0,9
33RO20180423,        I7N,      29,          1,        109,      11108,2,20180505,       0516,   -19.0045,    54.8285,       4726,  2324.4,   2.1327,  34.7334,2,  34.7378,2,    140.9,2, 160.5910,2,    117.2,2,     34.3,2,     0.00,2,    2.383,2,   0.006,2,   0.003,2,   0.0061,2,  2288.2,2,  2392.4,2,   7.5807,2,    25.00, -999.00,9, -999.00,9, -999.00,-999.000,1,  -999.0,9,     -999.0,1,     -999.0,9,          9,     -999.0,9,     -999.0,9,     -999.0,9,     -999.0,9
33RO20180423,        I7N,      29,          1,        110,      11109,2,20180505,       0516,   -19.0045,    54.8285,       4726,  2025.3,   2.3823,  34.7233,2,  34.7270,2,    141.6,2, 160.2085,2,    107.9,2,     34.1,2,     0.00,2,    2.386,2,   0.014,2,   0.007,2,        0,2,  2279.2,2,  2383.9,2,   7.5776,2,    25.00, -999.00,9, -999.00,9, -999.00,-999.000,1,    47.6,3,     -999.0,1,     -999.0,9,         10,     -999.0,9,     -999.0,9,     -999.0,9,     -999.0,9
33RO20180423,        I7N,      29,          1,        111,      11110,2,20180505,       0516,   -19.0045,    54.8285,       4726,  1736.8,   2.7693,  34.6918,2,  34.6935,2,    141.8,2, 159.1830,2,     94.7,2,     33.9,2,     0.00,2,    2.356,2,   0.039,2,   0.021,2,   0.0048,2,  2266.9,2,  2368.8,6,   7.5726,2,    25.00, -999.00,9, -999.00,9, -999.00,-999.000,1,  -999.0,9,     -999.0,1,     -999.0,9,         11,     -999.0,9,     -999.0,9,     -999.0,9,     -999.0,9
33RO20180423,        I7N,      29,          1,        112,      11111,2,20180505,       0516,   -19.0045,    54.8285,       4726,  1489.0,   3.2818,  34.6574,2,  34.6582,2,    134.8,2, 150.4780,2,     86.8,2,     34.6,2,     0.00,2,    2.408,2,   0.075,2,   0.038,2,   0.0084,2,  2264.1,2,  2359.0,2,   7.5603,6,    25.00, -999.00,9, -999.00,9, -999.00,-999.000,1,  -999.0,9,     -999.0,1,     -999.0,9,         12,     -999.0,9,     -999.0,9,     -999.0,9,     -999.0,9
33RO20180423,        I7N,      29,          1,        113,      11112,2,20180505,       0516,   -19.0045,    54.8285,       4726,  1249.8,   4.0526,  34.6273,2,  34.6283,2,    123.7,2, 137.3580,2,     79.7,2,     35.0,2,     0.00,2,    2.461,2,   0.154,2,   0.079,2,        0,2,  2260.7,6,  2355.5,2,   7.5506,2,    25.00, -999.00,9, -999.00,9, -999.00,-999.000,1,  -999.0,9,     -999.0,1,     -999.0,9,         13,     -999.0,9,     -999.0,9,     -999.0,9,     -999.0,9
33RO20180423,        I7N,      29,          1,        114,      11113,2,20180505,       0516,   -19.0045,    54.8285,       4726,  1050.0,   4.9690,  34.6163,2,  34.6176,2,    118.4,2, 130.9440,2,     70.3,2,     34.4,2,     0.00,2,    2.434,2,   0.364,6,   0.187,6,   0.0253,6,  2251.2,2,  2344.3,2,   7.5510,2,    25.00, -999.00,9, -999.00,9, -999.00,-999.000,1,  -999.0,9,     -999.0,1,     -999.0,9,         14,     -999.0,9,     -999.0,9,     -999.0,9,     -999.0,9
33RO20180423,        I7N,      29,          1,        115,      11114,2,20180505,       0516,   -19.0045,    54.8285,       4726,   863.0,   6.2213,  34.5780,2,  34.5813,2,    135.8,2, 149.4510,2,     46.8,2,     31.1,2,     0.00,2,    2.169,2,   1.094,2,   0.555,2,   0.2216,2,  2217.5,2,  2322.3,2,   7.5899,2,    25.00, -999.00,9, -999.00,9, -999.00,-999.000,1,  -999.0,9,     -999.0,1,     -999.0,9,         15,     -999.0,9,     -999.0,9,     -999.0,9,     -999.0,9
33RO20180423,        I7N,      29,          1,        116,      11115,2,20180505,       0516,   -19.0045,    54.8285,       4726,   712.4,   8.2806,  34.6260,2,  34.6320,2,    180.4,2, 196.2330,2,     17.2,2,     22.9,2,     0.00,2,    1.589,2,   2.693,2,   1.423,2,   0.8218,2,  2160.5,2,  2299.1,2,   7.6885,2,    25.00, -999.00,9, -999.00,9, -999.00,-999.000,1,    48.0,3,     -999.0,1,     -999.0,9,         16,     -999.0,9,     -999.0,9,     -999.0,9,     -999.0,9
33RO20180423,        I7N,      29,          1,        117,      11116,2,20180505,       0516,   -19.0045,    54.8285,       4726,   562.9,  10.6279,  34.8727,2,  34.8773,2,    208.6,2, 225.4710,2,      5.1,2,     14.3,2,     0.00,2,    1.050,2,   3.288,2,   1.859,2,   1.4468,2,  2128.2,2,  2303.7,2,   7.7770,2,    25.00, -999.00,9, -999.00,9, -999.00,-999.000,1,    47.4,3,     -999.0,1,     -999.0,9,         17,     -999.0,9,     -999.0,9,     -999.0,9,     -999.0,9
33RO20180423,        I7N,      29,          1,        118,      11117,2,20180505,       0516,   -19.0045,    54.8285,       4726,   412.5,  12.7903,  35.1727,2,  35.1873,2,    199.7,2, 214.4970,2,      4.4,2,     10.0,2,     0.00,2,    0.798,2,   2.922,2,   1.702,2,   1.5978,2,  2122.0,2,  2319.1,2,   7.8181,2,    25.00, -999.00,9, -999.00,9, -999.00,-999.000,1,    50.5,3,     -999.0,1,     -999.0,9,         18,     -999.0,9,     -999.0,9,     -999.0,9,     -999.0,9
33RO20180423,        I7N,      29,          1,        119,      11083,2,20180505,       0516,   -19.0045,    54.8285,       4726,   272.1,  17.6344,  35.2716,2,  35.2846,2,    115.3,2, 126.6880,2,     12.7,2,     13.7,2,     0.01,2,    1.018,2,   1.920,6,   1.158,6,   1.1467,6,  2129.7,2,  2321.8,2,   7.8004,2,    25.00, -999.00,9, -999.00,9, -999.00,-999.000,1,  -999.0,9,     -999.0,1,     -999.0,9,         19,     -999.0,9,     -999.0,9,     -999.0,9,     -999.0,9
33RO20180423,        I7N,      29,          1,        120,      11118,2,20180505,       0516,   -19.0045,    54.8285,       4726,   189.0,  20.3929,  35.2689,2,  35.2706,2,    129.7,2, 139.4540,2,      8.5,2,      9.8,2,     0.01,2,    0.767,2,   1.841,2,   1.137,2,   1.3045,2,  2092.0,2,  2315.8,2,   7.8699,2,    25.00, -999.00,9, -999.00,9, -999.00,-999.000,1,    51.4,3,     -999.0,1,     -999.0,9,         20,     -999.0,9,     -999.0,9,     -999.0,9,     -999.0,9
33RO20180423,        I7N,      29,          1,        121,      11119,2,20180505,       0516,   -19.0045,    54.8285,       4726,   137.6,  23.4225,  35.1142,2,  35.1278,2,    175.2,2, 185.3510,2,      3.6,2,      2.0,2,     0.45,2,    0.342,2,   1.751,2,   1.097,2,   1.4316,2,  2022.2,2,  2305.6,6,   7.9877,2,    25.00, -999.00,9, -999.00,9, -999.00,-999.000,1,    63.3,3,     -999.0,1,     -999.0,9,         21,     -999.0,9,     -999.0,9,     -999.0,9,     -999.0,9
33RO20180423,        I7N,      29,          1,        122,      11120,2,20180505,       0516,   -19.0045,    54.8285,       4726,    88.4,  26.5659,  35.0077,2,  35.0114,6,    198.0,2, 209.9650,2,      1.7,2,      0.0,2,     0.00,2,    0.144,2,   1.622,2,   1.028,2,   1.4893,2,  1977.4,2,  2296.5,2,   8.0572,6,    25.00, -999.00,9, -999.00,9, -999.00,-999.000,1,    66.4,3,     -999.0,1,     -999.0,9,         22,     -999.0,9,     -999.0,9,     -999.0,9,     -999.0,9
33RO20180423,        I7N,      29,          1,        123,      11121,2,20180505,       0516,   -19.0045,    54.8285,       4726,    39.1,  27.6377,  34.8280,2,  34.8301,2,    189.9,2, 200.5690,2,      1.6,2,      0.0,2,     0.00,2,    0.121,2,   1.481,2,   0.946,2,   1.4203,2,  1956.1,6,  2283.8,2,   8.0738,2,    25.00, -999.00,9, -999.00,9, -999.00,-999.000,1,    79.4,3,     -999.0,1,     -999.0,9,         23,     -999.0,9,     -999.0,9,     -999.0,9,     -999.0,9
33RO20180423,        I7N,      29,          1,        124,      11122,2,20180505,       0516,   -19.0045,    54.8285,       4726,     3.4,  27.6565,  34.8298,2,  34.8308,2,    189.8,2, 200.5010,2,      1.5,2,      0.0,2,     0.00,2,    0.125,2,   1.472,2,   0.943,2,   1.4373,2,  1956.4,2,  2283.0,2,   8.0740,2,    25.00, -999.00,9, -999.00,9, -999.00,-999.000,1,    73.6,3,     -999.0,1,     -999.0,9,         24,     -999.0,9,     -999.0,9,     -999.0,9,     -999.0,9