BOTTLE,20230801CCHSIOCBG
EXPOCODE,SECT_ID,STNNBR,CASTNO,SAMPNO,BTLNBR,BTLNBR_FLAG_W,DATE,TIME,LATITUDE,LONGITUDE,DEPTH,CTDPRS,CTDTMP,CTDSAL,CTDSAL_FLAG_W,SALNTY,SALNTY_FLAG_W,CTDOXY,CTDOXY_FLAG_W,OXYGEN,OXYGEN_FLAG_W,SILCAT,SILCAT_FLAG_W,NITRAT,NITRAT_FLAG_W,NITRIT,NITRIT_FLAG_W,PHSPHT,PHSPHT_FLAG_W,CFC-11,CFC-11_FLAG_W,CFC-12,CFC-12_FLAG_W,SF6,SF6_FLAG_W,TCARBN,TCARBN_FLAG_W,ALKALI,ALKALI_FLAG_W,PH_SWS,PH_SWS_FLAG_W,PH_TMP,DELC13,DELC13_FLAG_W,DELC14,DELC14_FLAG_W,C14ERR,CCL4,CCL4_FLAG_W,DOC,DOC_FLAG_W,N2O,N2O_FLAG_W,CALCIUM,CALCIUM_FLAG_W,SAMPNO_U,DNSSAL,DNSSAL_FLAG_W,DNSSAL2,DNSSAL2_FLAG_W,SALNTY_DNSSAL,SALNTY_DNSSAL_FLAG_W,SALNTY_DNSSAL2,SALNTY_DNSSAL2_FLAG_W
,,,,,,,,,,,METERS,DBAR,ITS-90,PSS-78,,PSS-78,,UMOL/KG,,UMOL/KG,,UMOL/KG,,UMOL/KG,,UMOL/KG,,UMOL/KG,,PMOL/KG,,PMOL/KG,,FMOL/KG,,UMOL/KG,,UMOL/KG,,,,DEG C,/MILLE,,/MILLE,,/MILLE,PMOL/KG,,UMOL/KG,,NMOL/KG,,MMOL/KG,,,G/KG,,G/KG,,PSS-78,,PSS-78,
33RO20180423,        I7N,      31,          1,        101,      11010,2,20180505,       1814,   -18.0253,    55.0010,       4612,  4673.1,   1.0398,  34.7064,2,  34.7070,2,    177.4,2, 205.4570,2,    124.8,6,     32.3,6,     0.00,6,    2.229,6,   0.083,2,   0.042,2,        0,2,  2266.7,6,  2374.5,2,   7.6003,6,    25.00,    0.58,2, -164.00,2,    1.72,-999.000,1,  -999.0,9,     -999.0,1,     -999.0,9,          1,     -999.0,9,     -999.0,9,     -999.0,9,     -999.0,9
33RO20180423,        I7N,      31,          1,        102,      11101,2,20180505,       1814,   -18.0253,    55.0010,       4612,  4220.9,   1.1306,  34.7117,2,  34.7148,2,    171.7,2, 198.5380,2,    125.0,6,     32.5,6,     0.00,6,    2.240,6,   0.056,2,   0.030,2,   0.0065,2,  2271.1,2,  2379.6,2,   7.5994,2,    25.00,    0.56,2, -173.00,2,    1.71,-999.000,1,  -999.0,9,     -999.0,1,     -999.0,9,          2,     -999.0,9,     -999.0,9,     -999.0,9,     -999.0,9
33RO20180423,        I7N,      31,          1,        103,      11102,2,20180505,       1814,   -18.0253,    55.0010,       4612,  3826.0,   1.4455,  34.7235,2,  34.7359,2,    156.7,2, 181.4150,2,    128.1,6,     33.3,6,     0.00,6,    2.317,6,   0.019,2,   0.011,2,        0,2,  2284.9,2,  2392.2,2,   7.5942,2,    25.00,    0.38,2, -182.00,2,    1.61,-999.000,1,  -999.0,9,     -999.0,1,     -999.0,9,          3,     -999.0,9,     -999.0,9,     -999.0,9,     -999.0,9
33RO20180423,        I7N,      31,          1,        104,      11103,2,20180505,       1814,   -18.0253,    55.0010,       4612,  3526.1,   1.6309,  34.7307,2,  34.7312,2,    148.2,2, 171.3420,2,    129.0,6,     33.8,6,     0.00,6,    2.349,6,   0.008,2,   0.006,2,        0,2,  2293.8,2,  2395.3,2,   7.5903,2,    25.00,    0.24,2, -186.00,2,    1.61,-999.000,1,    45.0,3,     -999.0,1,     -999.0,9,          4,     -999.0,9,     -999.0,9,     -999.0,9,     -999.0,9
33RO20180423,        I7N,      31,          1,        105,      11104,2,20180505,       1814,   -18.0253,    55.0010,       4612,  3226.5,   1.7657,  34.7356,2,  34.7356,2,    143.1,2, 164.6660,2,    128.6,2,     34.0,2,     0.00,2,    2.386,2,   0.003,2,   0.002,2,        0,2,  2297.9,2,  2402.6,2,   7.5862,2,    25.00,    0.20,2, -190.00,2,    1.69,-999.000,1,  -999.0,9,     -999.0,1,     -999.0,9,          5,     -999.0,9,     -999.0,9,     -999.0,9,     -999.0,9
33RO20180423,        I7N,      31,          1,        106,      11105,2,20180505,       1814,   -18.0253,    55.0010,       4612,  2924.5,   1.8788,  34.7387,2,  34.7393,2,    140.3,2, 160.9040,2,    126.9,2,     33.9,2,     0.00,2,    2.399,2,   0.003,2,   0.002,2,        0,2,  2299.2,2,  2403.0,6,   7.5829,2,    25.00,    0.30,2, -187.00,2,    1.70,-999.000,1,  -999.0,9,     -999.0,1,     -999.0,9,          6,     -999.0,9,     -999.0,9,     -999.0,9,     -999.0,9
33RO20180423,        I7N,      31,          1,        107,      11106,2,20180505,       1814,   -18.0253,    55.0010,       4612,  2625.6,   2.0010,  34.7387,2,  34.7488,2,    139.9,2, 159.7500,2,    123.6,2,     34.1,2,     0.00,2,    2.395,2,   0.006,2,   0.005,2,        0,2,  2294.7,2,  2380.0,4,   7.5810,2,    25.00,    0.36,6, -184.00,6,    1.78,-999.000,1,  -999.0,9,     -999.0,1,     -999.0,9,          7,     -999.0,9,     -999.0,9,     -999.0,9,     -999.0,9
33RO20180423,        I7N,      31,          1,        108,      11107,2,20180505,       1814,   -18.0253,    55.0010,       4612,  2325.5,   2.1777,  34.7355,2,  34.7540,6,    139.7,2, 158.6780,2,    116.4,2,     34.0,2,     0.00,2,    2.391,2,   0.008,2,   0.004,2,        0,2,  2291.0,2,  2391.2,2,   7.5796,2,    25.00,    0.34,2, -183.00,2,    2.16,-999.000,1,  -999.0,9,     -999.0,1,     -999.0,9,          8,     -999.0,9,     -999.0,9,     -999.0,9,     -999.0,9
33RO20180423,        I7N,      31,          1,        109,      11108,2,20180505,       1814,   -18.0253,    55.0010,       4612,  2025.9,   2.4015,  34.7234,2,  34.7349,2,    141.8,2, 159.7555,2,    106.7,2,     33.6,2,     0.00,2,    2.354,2,   0.019,2,   0.008,2,        0,2,  2283.5,2,  2382.8,2,   7.5785,2,    25.00,    0.51,2, -175.00,2,    2.20,-999.000,1,  -999.0,9,     -999.0,1,     -999.0,9,          9,     -999.0,9,     -999.0,9,     -999.0,9,     -999.0,9
33RO20180423,        I7N,      31,          1,        110,      11109,2,20180505,       1814,   -18.0253,    55.0010,       4612,  1738.8,   2.7099,  34.6883,2,  34.6934,2,    145.0,2, 162.0690,2,     93.0,2,     33.2,2,     0.00,2,    2.323,2,   0.045,2,   0.023,2,   0.0148,2,  2267.4,2,  2364.6,2,   7.5758,2,    25.00,    0.67,2, -167.00,2,    1.75,-999.000,1,  -999.0,9,     -999.0,1,     -999.0,9,         10,     -999.0,9,     -999.0,9,     -999.0,9,     -999.0,9
33RO20180423,        I7N,      31,          1,        111,      11110,2,20180505,       1814,   -18.0253,    55.0010,       4612,  1488.7,   3.2434,  34.6509,2,  34.6640,2,    137.1,2, 152.5770,2,     85.5,2,     33.8,2,     0.00,2,    2.367,2,   0.093,6,   0.046,6,   0.0039,6,  2263.6,2,  2359.5,2,   7.5625,6,    25.00,    0.58,2, -161.00,2,    2.41,-999.000,1,    45.4,3,     -999.0,1,     -999.0,9,         11,     -999.0,9,     -999.0,9,     -999.0,9,     -999.0,9
33RO20180423,        I7N,      31,          1,        112,      11111,2,20180505,       1814,   -18.0253,    55.0010,       4612,  1250.7,   4.1688,  34.6502,2,  34.6524,2,    119.1,2, 131.8000,2,     81.7,2,     34.5,2,     0.00,2,    2.450,2,-999.000,1,-999.000,1,-999.0000,1,  2266.5,6,  2357.4,2,   7.5444,2,    25.00,    0.46,2, -159.00,2,    1.87,-999.000,1,  -999.0,9,     -999.0,1,     -999.0,9,         12,     -999.0,9,     -999.0,9,     -999.0,9,     -999.0,9
33RO20180423,        I7N,      31,          1,        113,      11112,2,20180505,       1814,   -18.0253,    55.0010,       4612,  1048.8,   5.1246,  34.6447,2,  34.6476,2,    112.1,2, 123.4480,2,     71.0,2,     34.1,2,     0.00,2,    2.422,2,   0.308,2,   0.157,2,    0.005,2,  2259.6,2,  2344.2,2,   7.5438,2,    25.00, -999.00,9, -999.00,9, -999.00,-999.000,1,  -999.0,9,     -999.0,1,     -999.0,9,         13,     -999.0,9,     -999.0,9,     -999.0,9,     -999.0,9
33RO20180423,        I7N,      31,          1,        114,      11113,2,20180505,       1814,   -18.0253,    55.0010,       4612,   863.2,   6.3270,  34.5869,2,  34.5915,2,    134.6,2, 147.2330,2,     46.9,2,     30.6,2,     0.00,2,    2.152,2,   1.078,2,   0.554,2,   0.2787,2,  2221.2,2,  2320.9,2,   7.5890,2,    25.00,    0.77,2,  -87.90,2,    1.98,-999.000,1,    44.5,3,     -999.0,1,     -999.0,9,         14,     -999.0,9,     -999.0,9,     -999.0,9,     -999.0,9
33RO20180423,        I7N,      31,          1,        115,      11114,2,20180505,       1814,   -18.0253,    55.0010,       4612,   712.2,   8.2280,  34.6408,2,  34.6418,2,    169.6,2, 184.0510,2,     21.3,2,     23.7,2,     0.00,2,    1.656,2,   2.424,2,   1.266,2,   0.6765,2,  2171.6,2,  2302.0,2,   7.6729,2,    25.00,    0.84,2,  -15.00,2,    2.25,-999.000,1,    45.1,3,     -999.0,1,     -999.0,9,         15,     -999.0,9,     -999.0,9,     -999.0,9,     -999.0,9
33RO20180423,        I7N,      31,          1,        116,      11115,2,20180505,       1814,   -18.0253,    55.0010,       4612,   563.9,   9.7076,  34.7606,2,  34.7652,2,    197.7,2, 212.8960,2,      8.8,2,     17.5,2,     0.00,2,    1.252,2,   3.203,2,   1.757,2,   1.2134,2,  2142.3,2,  2299.3,6,   7.7414,2,    25.00,    0.95,2,   19.90,2,    2.09,-999.000,1,  -999.0,9,     -999.0,1,     -999.0,9,         16,     -999.0,9,     -999.0,9,     -999.0,9,     -999.0,9
33RO20180423,        I7N,      31,          1,        117,      11116,2,20180505,       1814,   -18.0253,    55.0010,       4612,   425.1,  11.8336,  35.0390,2,  35.0351,2,    203.3,2, 218.8940,2,      5.0,2,     11.7,2,     0.00,2,    0.898,2,   3.070,2,   1.765,2,   1.6023,2,  2129.8,2,  2299.5,4,   7.7979,2,    25.00,    0.88,2,   34.00,2,    2.18,-999.000,1,  -999.0,9,     -999.0,1,     -999.0,9,         17,     -999.0,9,     -999.0,9,     -999.0,9,     -999.0,9
33RO20180423,        I7N,      31,          1,        118,      11117,2,20180505,       1814,   -18.0253,    55.0010,       4612,   331.5,  14.4760,  35.3095,2,  35.3034,2,    169.4,2, 178.9430,2,      8.6,2,     10.6,2,     0.01,2,    0.846,2,   2.456,6,   1.449,6,   1.3591,6,  2133.0,2,  2325.3,2,   7.8126,2,    25.00,    0.59,2,   29.10,2,    2.21,-999.000,1,    55.4,3,     -999.0,1,     -999.0,9,         18,     -999.0,9,     -999.0,9,     -999.0,9,     -999.0,9
33RO20180423,        I7N,      31,          1,        119,      11083,2,20180505,       1814,   -18.0253,    55.0010,       4612,   255.8,  16.7302,  35.1808,2,  35.1856,2,     98.2,2, 106.1430,2,     16.3,2,     17.2,2,     0.01,2,    1.237,2,   1.868,2,   1.107,2,   0.9898,2,  2150.6,2,  2313.1,2,   7.7436,2,    25.00,   -0.02,2,   14.20,2,    2.10,-999.000,1,  -999.0,9,     -999.0,1,     -999.0,9,         19,     -999.0,9,     -999.0,9,     -999.0,9,     -999.0,9
33RO20180423,        I7N,      31,          1,        120,      11118,2,20180505,       1814,   -18.0253,    55.0010,       4612,   189.1,  19.7060,  35.3000,2,  35.3035,2,    127.3,2, 136.2780,2,      9.4,2,     10.3,2,     0.01,2,    0.790,2,   1.872,2,   1.142,2,   1.2817,2,  2103.3,2,  2316.0,2,   7.8545,2,    25.00,    0.18,2,   28.10,2,    2.32,-999.000,1,    61.5,3,     -999.0,1,     -999.0,9,         20,     -999.0,9,     -999.0,9,     -999.0,9,     -999.0,9
33RO20180423,        I7N,      31,          1,        121,      11119,2,20180505,       1814,   -18.0253,    55.0010,       4612,   138.7,  22.6368,  35.2017,2,  35.2076,6,    166.4,2, 176.3820,2,      4.1,2,      3.0,2,     0.33,2,    0.369,2,   1.785,2,   1.118,2,    1.491,2,  2039.5,2,  2309.4,2,   7.9707,2,    25.00,    0.35,2,   21.90,2,    2.24,-999.000,1,    66.7,3,     -999.0,1,     -999.0,9,         21,     -999.0,9,     -999.0,9,     -999.0,9,     -999.0,9
33RO20180423,        I7N,      31,          1,        122,      11120,2,20180505,       1814,   -18.0253,    55.0010,       4612,    88.3,  25.0044,  35.0696,2,  35.0736,2,    200.5,2, 212.3460,2,      1.8,2,      0.0,2,     0.00,2,    0.132,2,   1.707,2,   1.074,2,   1.4774,2,  1987.6,2,  2300.2,2,   8.0469,6,    25.00,    0.71,2,   21.00,2,    2.07,-999.000,1,  -999.0,9,     -999.0,1,     -999.0,9,         22,     -999.0,9,     -999.0,9,     -999.0,9,     -999.0,9
33RO20180423,        I7N,      31,          1,        123,      11121,2,20180505,       1814,   -18.0253,    55.0010,       4612,    39.1,  27.5946,  34.8631,2,  34.8655,2,    189.0,2, 199.7930,2,      1.6,2,      0.0,2,     0.00,2,    0.114,2,   1.481,2,   0.942,2,   1.3817,2,  1961.4,2,  2283.6,6,   8.0752,2,    25.00,    0.79,2,   19.30,2,    2.02,-999.000,1,    77.4,3,     -999.0,1,     -999.0,9,         23,     -999.0,9,     -999.0,9,     -999.0,9,     -999.0,9
33RO20180423,        I7N,      31,          1,        124,      11122,2,20180505,       1814,   -18.0253,    55.0010,       4612,     2.8,  27.5870,  34.8603,2,  34.8635,2,    189.2,2, 199.6300,2,      1.6,2,      0.0,2,     0.00,2,    0.107,2,   1.471,2,   0.939,2,   1.4587,2,  1961.7,6,  2281.0,2,   8.0749,2,    25.00,    0.79,2,   21.70,2,    2.02,-999.000,1,    83.6,3,     -999.0,1,     -999.0,9,         24,     -999.0,9,     -999.0,9,     -999.0,9,     -999.0,9