BOTTLE,20230801CCHSIOCBG
EXPOCODE,SECT_ID,STNNBR,CASTNO,SAMPNO,BTLNBR,BTLNBR_FLAG_W,DATE,TIME,LATITUDE,LONGITUDE,DEPTH,CTDPRS,CTDTMP,CTDSAL,CTDSAL_FLAG_W,SALNTY,SALNTY_FLAG_W,CTDOXY,CTDOXY_FLAG_W,OXYGEN,OXYGEN_FLAG_W,SILCAT,SILCAT_FLAG_W,NITRAT,NITRAT_FLAG_W,NITRIT,NITRIT_FLAG_W,PHSPHT,PHSPHT_FLAG_W,CFC-11,CFC-11_FLAG_W,CFC-12,CFC-12_FLAG_W,SF6,SF6_FLAG_W,TCARBN,TCARBN_FLAG_W,ALKALI,ALKALI_FLAG_W,PH_SWS,PH_SWS_FLAG_W,PH_TMP,DELC13,DELC13_FLAG_W,DELC14,DELC14_FLAG_W,C14ERR,CCL4,CCL4_FLAG_W,DOC,DOC_FLAG_W,N2O,N2O_FLAG_W,CALCIUM,CALCIUM_FLAG_W,SAMPNO_U,DNSSAL,DNSSAL_FLAG_W,DNSSAL2,DNSSAL2_FLAG_W,SALNTY_DNSSAL,SALNTY_DNSSAL_FLAG_W,SALNTY_DNSSAL2,SALNTY_DNSSAL2_FLAG_W
,,,,,,,,,,,METERS,DBAR,ITS-90,PSS-78,,PSS-78,,UMOL/KG,,UMOL/KG,,UMOL/KG,,UMOL/KG,,UMOL/KG,,UMOL/KG,,PMOL/KG,,PMOL/KG,,FMOL/KG,,UMOL/KG,,UMOL/KG,,,,DEG C,/MILLE,,/MILLE,,/MILLE,PMOL/KG,,UMOL/KG,,NMOL/KG,,MMOL/KG,,,G/KG,,G/KG,,PSS-78,,PSS-78,
33RO20180423,        I7N,      37,          1,        101,      11010,2,20180507,       1029,   -14.5190,    55.0043,       4470,  4550.2,   1.1526,  34.7109,2,  34.7183,2,    172.5,2, 199.9660,2,    124.9,6,     32.6,6,     0.00,6,    2.261,6,   0.058,2,   0.030,2,   0.0091,2,  2272.7,6,  2382.8,2,   7.6008,6,    25.00, -999.00,9, -999.00,9, -999.00,-999.000,1,  -999.0,9,     -999.0,1,     -999.0,9,          1,     -999.0,9,     -999.0,9,     -999.0,9,     -999.0,9
33RO20180423,        I7N,      37,          1,        102,      11101,2,20180507,       1029,   -14.5190,    55.0043,       4470,  4077.2,   1.3783,  34.7205,2,  34.7350,2,    160.1,2, 185.5240,2,    127.4,6,     33.2,6,     0.00,6,    2.303,6,   0.026,2,   0.013,2,        0,2,  2284.8,2,  2392.9,6,   7.5960,2,    25.00, -999.00,9, -999.00,9, -999.00,-999.000,1,  -999.0,9,     -999.0,1,     -999.0,9,          2,     -999.0,9,     -999.0,9,     -999.0,9,     -999.0,9
33RO20180423,        I7N,      37,          1,        103,      11102,2,20180507,       1029,   -14.5190,    55.0043,       4470,  3676.2,   1.5087,  34.7262,2,  34.7265,2,    153.3,2, 177.3410,2,    128.4,6,     33.6,6,     0.00,6,    2.352,6,   0.012,2,   0.006,2,        0,2,  2290.1,2,  2399.3,2,   7.5932,2,    25.00, -999.00,9, -999.00,9, -999.00,-999.000,1,  -999.0,9,     -999.0,1,     -999.0,9,          3,     -999.0,9,     -999.0,9,     -999.0,9,     -999.0,9
33RO20180423,        I7N,      37,          1,        104,      11103,2,20180507,       1029,   -14.5190,    55.0043,       4470,  3375.5,   1.6558,  34.7315,2,  34.7350,6,    147.1,2, 169.9670,2,    128.8,6,     34.0,6,     0.00,6,    2.376,6,   0.006,2,   0.004,2,        0,2,  2295.5,2,  2404.2,2,   7.5900,2,    25.00, -999.00,9, -999.00,9, -999.00,-999.000,1,  -999.0,9,     -999.0,1,     -999.0,9,          4,     -999.0,9,     -999.0,9,     -999.0,9,     -999.0,9
33RO20180423,        I7N,      37,          1,        105,      11104,2,20180507,       1029,   -14.5190,    55.0043,       4470,  3075.4,   1.7855,  34.7356,2,  34.7359,2,    142.9,2, 164.4870,2,    126.9,6,     34.2,6,     0.00,6,    2.383,6,   0.002,2,   0.001,2,        0,2,  2298.3,2,  2405.2,2,   7.5853,2,    25.00, -999.00,9, -999.00,9, -999.00,-999.000,1,  -999.0,9,     -999.0,1,     -999.0,9,          5,     -999.0,9,     -999.0,9,     -999.0,9,     -999.0,9
33RO20180423,        I7N,      37,          1,        106,      11105,2,20180507,       1029,   -14.5190,    55.0043,       4470,  2775.0,   1.9140,  34.7379,2,  34.7384,2,    140.2,2, 160.9810,2,    124.5,2,     34.3,2,     0.00,2,    2.401,2,   0.002,2,   0.002,2,        0,2,  2299.1,2,  2404.6,2,   7.5824,2,    25.00, -999.00,9, -999.00,9, -999.00,-999.000,1,  -999.0,9,     -999.0,1,     -999.0,9,          6,     -999.0,9,     -999.0,9,     -999.0,9,     -999.0,9
33RO20180423,        I7N,      37,          1,        107,      11106,2,20180507,       1029,   -14.5190,    55.0043,       4470,  2437.9,   2.0895,  34.7369,2,  34.7388,2,    138.5,2, 157.7930,2,    121.0,2,     34.2,2,     0.00,2,    2.396,2,   0.002,2,   0.001,2,        0,2,  2298.0,2,  2397.7,2,   7.5802,2,    25.00, -999.00,9, -999.00,9, -999.00,-999.000,1,  -999.0,9,     -999.0,1,     -999.0,9,          7,     -999.0,9,     -999.0,9,     -999.0,9,     -999.0,9
33RO20180423,        I7N,      37,          1,        108,      11107,2,20180507,       1029,   -14.5190,    55.0043,       4470,  2175.7,   2.2932,  34.7331,2,  34.7397,2,    137.9,2, 156.5100,2,    114.9,2,     34.1,2,     0.00,2,    2.413,2,   0.006,2,   0.004,2,        0,2,  2293.2,2,  2393.2,2,   7.5751,2,    25.00, -999.00,9, -999.00,9, -999.00,-999.000,1,  -999.0,9,     -999.0,1,     -999.0,9,          8,     -999.0,9,     -999.0,9,     -999.0,9,     -999.0,9
33RO20180423,        I7N,      37,          1,        109,      11108,2,20180507,       1029,   -14.5190,    55.0043,       4470,  1863.2,   2.6792,  34.7114,2,  34.7141,2,    137.9,2, 155.6500,2,    101.8,2,     33.9,2,     0.00,2,    2.378,2,   0.020,2,   0.010,2,        0,2,  2280.5,2,  2375.4,2,   7.5705,2,    25.00, -999.00,9, -999.00,9, -999.00,-999.000,1,  -999.0,9,     -999.0,1,     -999.0,9,          9,     -999.0,9,     -999.0,9,     -999.0,9,     -999.0,9
33RO20180423,        I7N,      37,          1,        110,      11109,2,20180507,       1029,   -14.5190,    55.0043,       4470,  1613.4,   3.2669,  34.6894,2,  34.6929,2,    130.4,2, 146.4240,2,     91.9,2,     34.2,2,     0.00,2,    2.416,2,   0.053,6,   0.027,6,        0,6,  2275.3,2,  2366.2,2,   7.5587,2,    25.00, -999.00,9, -999.00,9, -999.00,-999.000,1,  -999.0,9,     -999.0,1,     -999.0,9,         10,     -999.0,9,     -999.0,9,     -999.0,9,     -999.0,9
33RO20180423,        I7N,      37,          1,        111,      11110,2,20180507,       1029,   -14.5190,    55.0043,       4470,  1350.8,   4.0951,  34.6970,2,  34.7017,2,    114.9,2, 128.0250,2,     87.0,2,     34.7,2,     0.00,2,    2.469,2,   0.090,2,   0.048,2,        0,2,  2275.9,2,  2362.8,2,   7.5432,2,    25.00, -999.00,9, -999.00,9, -999.00,-999.000,1,  -999.0,9,     -999.0,1,     -999.0,9,         11,     -999.0,9,     -999.0,9,     -999.0,9,     -999.0,9
33RO20180423,        I7N,      37,          1,        112,      11111,2,20180507,       1029,   -14.5190,    55.0043,       4470,  1150.8,   4.7845,  34.6710,2,  34.6729,2,    111.2,2, 123.3070,2,     76.9,2,     34.5,2,     0.00,2,    2.458,2,   0.211,2,   0.109,2,   0.0224,2,  2268.0,2,  2350.4,6,   7.5424,2,    25.00, -999.00,9, -999.00,9, -999.00,-999.000,1,  -999.0,9,     -999.0,1,     -999.0,9,         12,     -999.0,9,     -999.0,9,     -999.0,9,     -999.0,9
33RO20180423,        I7N,      37,          1,        113,      11112,2,20180507,       1029,   -14.5190,    55.0043,       4470,   939.3,   6.0222,  34.7173,2,  34.7223,2,     98.2,2, 108.2360,2,     67.5,2,     34.0,2,     0.00,2,    2.407,2,   0.369,2,   0.190,2,   0.0732,2,  2260.4,2,  2343.2,2,   7.5381,6,    25.00, -999.00,9, -999.00,9, -999.00,-999.000,1,  -999.0,9,     -999.0,1,     -999.0,9,         13,     -999.0,9,     -999.0,9,     -999.0,9,     -999.0,9
33RO20180423,        I7N,      37,          1,        114,      11113,2,20180507,       1029,   -14.5190,    55.0043,       4470,   788.9,   6.9136,  34.7219,2,-999.0000,1,    101.4,2, 111.3340,2,     55.6,2,     32.5,2,     0.00,2,    2.289,2,   0.687,2,   0.353,2,   0.1419,2,  2245.3,6,  2330.7,2,   7.5531,2,    25.00, -999.00,9, -999.00,9, -999.00,-999.000,1,  -999.0,9,     -999.0,1,     -999.0,9,         14,     -999.0,9,     -999.0,9,     -999.0,9,     -999.0,9
33RO20180423,        I7N,      37,          1,        115,      11114,2,20180507,       1029,   -14.5190,    55.0043,       4470,   635.0,   7.8663,  34.7097,2,-999.0000,9,    119.3,2,-999.0000,9,-999.0000,9,-999.0000,9,-999.0000,9,-999.0000,9,-999.000,9,-999.000,9,-999.0000,9,  -999.0,9,  -999.0,9,-999.0000,9,  -999.00, -999.00,9, -999.00,9, -999.00,-999.000,9,  -999.0,9,     -999.0,9,     -999.0,9,         15,     -999.0,9,     -999.0,9,     -999.0,9,     -999.0,9
33RO20180423,        I7N,      37,          1,        116,      11115,2,20180507,       1029,   -14.5190,    55.0043,       4470,   475.8,   9.6194,  34.7927,2,  34.7962,2,    148.4,2, 161.4220,2,     21.2,2,     22.9,2,     0.00,2,    1.619,2,   2.327,2,   1.249,2,   0.7664,2,  2178.9,2,  2305.8,2,   7.6704,2,    25.00, -999.00,9, -999.00,9, -999.00,-999.000,1,  -999.0,9,     -999.0,1,     -999.0,9,         16,     -999.0,9,     -999.0,9,     -999.0,9,     -999.0,9
33RO20180423,        I7N,      37,          1,        117,      11116,2,20180507,       1029,   -14.5190,    55.0043,       4470,   369.5,  10.9277,  34.9080,2,  34.9102,2,    144.3,2, 156.2770,2,     18.3,2,     20.4,2,     0.00,2,    1.447,2,   2.372,6,   1.319,6,   0.8643,6,  2172.1,2,  2309.3,2,   7.6939,2,    25.00, -999.00,9, -999.00,9, -999.00,-999.000,1,  -999.0,9,     -999.0,1,     -999.0,9,         17,     -999.0,9,     -999.0,9,     -999.0,9,     -999.0,9
33RO20180423,        I7N,      37,          1,        118,      11117,2,20180507,       1029,   -14.5190,    55.0043,       4470,   296.3,  11.7908,  34.9799,2,  34.9834,2,    134.8,2, 145.0270,2,     18.5,2,     19.8,2,     0.00,2,    1.407,2,   2.245,2,   1.267,2,   0.9553,2,  2173.8,2,  2312.5,2,   7.6982,2,    25.00, -999.00,9, -999.00,9, -999.00,-999.000,1,  -999.0,9,     -999.0,1,     -999.0,9,         18,     -999.0,9,     -999.0,9,     -999.0,9,     -999.0,9
33RO20180423,        I7N,      37,          1,        119,      11083,2,20180507,       1029,   -14.5190,    55.0043,       4470,   210.6,  14.2260,  35.2710,2,  35.2615,6,    158.8,2, 167.3750,2,     10.5,2,     12.6,2,     0.01,2,    0.961,2,   2.403,2,   1.398,2,   1.2285,2,  2145.1,2,  2322.3,2,   7.7879,2,    25.00, -999.00,9, -999.00,9, -999.00,-999.000,1,  -999.0,9,     -999.0,1,     -999.0,9,         19,     -999.0,9,     -999.0,9,     -999.0,9,     -999.0,9
33RO20180423,        I7N,      37,          1,        120,      11118,2,20180507,       1029,   -14.5190,    55.0043,       4470,   171.2,  16.3702,  35.3893,2,  35.3927,2,    150.6,2, 161.3060,2,      9.7,2,     10.2,2,     0.00,2,    0.796,2,   2.173,2,   1.307,2,   1.2366,2,  2129.3,2,  2328.9,2,   7.8309,2,    25.00, -999.00,9, -999.00,9, -999.00,-999.000,1,  -999.0,9,     -999.0,1,     -999.0,9,         20,     -999.0,9,     -999.0,9,     -999.0,9,     -999.0,9
33RO20180423,        I7N,      37,          1,        121,      11119,2,20180507,       1029,   -14.5190,    55.0043,       4470,   130.4,  18.4992,  35.4908,2,  35.5005,2,    156.6,2, 166.8650,2,      7.0,2,      6.9,2,     0.01,2,    0.579,2,   2.045,2,   1.255,2,   1.3664,2,  2105.2,2,  2143.3,4,   7.8883,3,    25.00, -999.00,9, -999.00,9, -999.00,-999.000,1,  -999.0,9,     -999.0,1,     -999.0,9,         21,     -999.0,9,     -999.0,9,     -999.0,9,     -999.0,9
33RO20180423,        I7N,      37,          1,        122,      11120,2,20180507,       1029,   -14.5190,    55.0043,       4470,    90.8,  20.6080,  35.2576,2,  35.2543,2,    129.0,2, 139.5910,2,      8.7,2,      9.9,2,     0.06,2,    0.769,2,   1.811,2,   1.124,2,   1.2307,2,  2096.7,2,  2310.9,6,   7.8685,2,    25.00, -999.00,9, -999.00,9, -999.00,-999.000,1,  -999.0,9,     -999.0,1,     -999.0,9,         22,     -999.0,9,     -999.0,9,     -999.0,9,     -999.0,9
33RO20180423,        I7N,      37,          1,        123,      11121,2,20180507,       1029,   -14.5190,    55.0043,       4470,    49.1,  26.2975,  34.9317,2,  34.9719,2,    187.0,2, 194.9580,2,      3.5,2,      0.9,2,     0.06,2,    0.261,2,   1.606,2,   1.015,2,   1.3813,2,  2001.6,2,  2292.3,2,   8.0224,6,    25.00, -999.00,9, -999.00,9, -999.00,-999.000,1,  -999.0,9,     -999.0,1,     -999.0,9,         23,     -999.0,9,     -999.0,9,     -999.0,9,     -999.0,9
33RO20180423,        I7N,      37,          1,        124,      11122,2,20180507,       1029,   -14.5190,    55.0043,       4470,     3.9,  28.1612,  34.7760,2,  34.7734,2,    188.2,2, 198.5980,2,      2.4,2,      0.0,2,     0.00,2,    0.125,2,   1.460,2,   0.928,2,    1.353,2,  1960.8,6,  2275.9,2,   8.0721,2,    25.00, -999.00,9, -999.00,9, -999.00,-999.000,1,  -999.0,9,     -999.0,1,     -999.0,9,         24,     -999.0,9,     -999.0,9,     -999.0,9,     -999.0,9