BOTTLE,20230801CCHSIOCBG
EXPOCODE,SECT_ID,STNNBR,CASTNO,SAMPNO,BTLNBR,BTLNBR_FLAG_W,DATE,TIME,LATITUDE,LONGITUDE,DEPTH,CTDPRS,CTDTMP,CTDSAL,CTDSAL_FLAG_W,SALNTY,SALNTY_FLAG_W,CTDOXY,CTDOXY_FLAG_W,OXYGEN,OXYGEN_FLAG_W,SILCAT,SILCAT_FLAG_W,NITRAT,NITRAT_FLAG_W,NITRIT,NITRIT_FLAG_W,PHSPHT,PHSPHT_FLAG_W,CFC-11,CFC-11_FLAG_W,CFC-12,CFC-12_FLAG_W,SF6,SF6_FLAG_W,TCARBN,TCARBN_FLAG_W,ALKALI,ALKALI_FLAG_W,PH_SWS,PH_SWS_FLAG_W,PH_TMP,DELC13,DELC13_FLAG_W,DELC14,DELC14_FLAG_W,C14ERR,CCL4,CCL4_FLAG_W,DOC,DOC_FLAG_W,N2O,N2O_FLAG_W,CALCIUM,CALCIUM_FLAG_W,SAMPNO_U,DNSSAL,DNSSAL_FLAG_W,DNSSAL2,DNSSAL2_FLAG_W,SALNTY_DNSSAL,SALNTY_DNSSAL_FLAG_W,SALNTY_DNSSAL2,SALNTY_DNSSAL2_FLAG_W
,,,,,,,,,,,METERS,DBAR,ITS-90,PSS-78,,PSS-78,,UMOL/KG,,UMOL/KG,,UMOL/KG,,UMOL/KG,,UMOL/KG,,UMOL/KG,,PMOL/KG,,PMOL/KG,,FMOL/KG,,UMOL/KG,,UMOL/KG,,,,DEG C,/MILLE,,/MILLE,,/MILLE,PMOL/KG,,UMOL/KG,,NMOL/KG,,MMOL/KG,,,G/KG,,G/KG,,PSS-78,,PSS-78,
33RO20180423,        I7N,      88,          1,        101,      11010,9,20180525,       1333,     4.3782,    59.5145,       3978,  4140.1,   1.4910,  34.7254,2,  34.7280,2,    152.1,2, 174.7030,2,    133.9,6,     34.3,6,     0.00,6,    2.399,6,   0.011,2,   0.006,2,        0,2,  2299.7,6,  2405.6,2,   7.5995,6,    25.00, -999.00,9, -999.00,9, -999.00,-999.000,9,  -999.0,9,     -999.0,9,     -999.0,9,          1,    34.9080,2,     -999.0,9,    34.7276,2,     -999.0,9
33RO20180423,        I7N,      88,          1,        102,      11101,9,20180525,       1333,     4.3782,    59.5145,       3978,  3878.9,   1.5250,  34.7279,2,  34.7290,2,    149.4,2, 171.7190,2,    134.2,6,     34.4,6,     0.00,6,    2.407,6,   0.006,2,   0.004,2,   0.0012,2,  2301.7,2,  2406.6,2,   7.5967,2,    25.00, -999.00,9, -999.00,9, -999.00,-999.000,9,  -999.0,9,     -999.0,9,     -999.0,9,          2,    34.9094,2,     -999.0,9,    34.7295,2,     -999.0,9
33RO20180423,        I7N,      88,          1,        103,      11102,9,20180525,       1333,     4.3782,    59.5145,       3978,  3600.0,   1.6140,  34.7328,2,  34.7341,2,    144.7,2, 166.3390,2,    134.1,6,     34.7,6,     0.00,6,    2.442,6,   0.004,2,   0.003,2,   0.0004,2,  2305.3,2,  2408.1,2,   7.5914,2,    25.00, -999.00,9, -999.00,9, -999.00,-999.000,9,    41.4,3,     -999.0,9,     -999.0,9,          3,    34.9153,2,     -999.0,9,    34.7345,2,     -999.0,9
33RO20180423,        I7N,      88,          1,        104,      11103,9,20180525,       1333,     4.3782,    59.5145,       3978,  3301.4,   1.7316,  34.7385,2,  34.7439,2,    139.6,2, 160.1610,2,    133.8,6,     34.9,6,     0.00,6,    2.459,6,   0.004,2,   0.004,2,   0.0066,2,  2308.2,2,  2411.3,6,   7.5842,2,    25.00, -999.00,9, -999.00,9, -999.00,-999.000,9,  -999.0,9,     -999.0,9,     -999.0,9,          4,    34.9199,2,     -999.0,9,    34.7395,2,     -999.0,9
33RO20180423,        I7N,      88,          1,        105,      11104,9,20180525,       1333,     4.3782,    59.5145,       3978,  3000.7,   1.8475,  34.7442,2,  34.7689,2,    135.3,2, 154.8520,2,    133.1,2,     35.1,2,     0.00,2,    2.490,2,   0.003,2,   0.003,2,   0.0036,2,  2312.3,2,  2411.3,2,   7.5798,2,    25.00, -999.00,9, -999.00,9, -999.00,-999.000,9,    41.4,3,     -999.0,9,     -999.0,9,          5,    34.9232,2,     -999.0,9,    34.7448,2,     -999.0,9
33RO20180423,        I7N,      88,          1,        106,      11105,9,20180525,       1333,     4.3782,    59.5145,       3978,  2700.1,   2.0469,  34.7553,2,  34.7693,2,    127.6,2, 145.4360,2,    132.5,2,     35.4,2,     0.00,2,    2.519,2,   0.001,2,   0.003,2,   0.0013,2,  2316.4,2,  2411.6,2,   7.5687,2,    25.00, -999.00,9, -999.00,9, -999.00,-999.000,9,  -999.0,9,     -999.0,9,     -999.0,9,          6,    34.9370,2,     -999.0,9,    34.7560,2,     -999.0,9
33RO20180423,        I7N,      88,          1,        107,      11106,9,20180525,       1333,     4.3782,    59.5145,       3978,  2400.3,   2.2529,  34.7668,2,  34.7703,6,    121.5,2, 137.8925,2,    131.8,2,     35.9,2,     0.00,2,    2.560,2,   0.001,2,   0.002,2,   0.0027,2,  2319.8,2,  2413.2,2,   7.5602,2,    25.00, -999.00,9, -999.00,9, -999.00,-999.000,9,    41.8,3,     -999.0,9,     -999.0,9,          7,    34.9496,2,     -999.0,9,    34.7686,2,     -999.0,9
33RO20180423,        I7N,      88,          1,        108,      11107,9,20180525,       1333,     4.3782,    59.5145,       3978,  2099.9,   2.7941,  34.7923,2,  34.7960,2,    109.0,2, 123.4920,2,    125.3,2,     36.3,2,     0.00,2,    2.625,2,   0.001,6,   0.003,6,   0.0019,6,  2318.0,2,  2404.3,2,   7.5412,2,    25.00, -999.00,9, -999.00,9, -999.00,-999.000,9,  -999.0,9,     -999.0,9,     -999.0,9,          8,    34.9726,2,     -999.0,9,    34.7930,2,     -999.0,9
33RO20180423,        I7N,      88,          1,        109,      11108,9,20180525,       1333,     4.3782,    59.5145,       3978,  1802.0,   3.5214,  34.8289,2,  34.8300,2,     94.3,2, 106.2380,2,    116.7,2,     36.7,2,     0.00,2,    2.689,2,   0.004,2,   0.005,2,   0.0031,2,  2318.4,2,  2403.7,2,   7.5223,2,    25.00, -999.00,9, -999.00,9, -999.00,-999.000,9,    49.8,3,     -999.0,9,     -999.0,9,          9,    35.0082,2,     -999.0,9,    34.8310,2,     -999.0,9
33RO20180423,        I7N,      88,          1,        110,      11109,9,20180525,       1333,     4.3782,    59.5145,       3978,  1550.3,   4.6457,  34.9015,2,  34.9112,2,     72.1,2,  81.0600,2,    105.6,2,     37.2,2,     0.00,2,    2.772,2,   0.010,2,   0.008,2,   0.0025,2,  2315.9,2,  2387.3,2,   7.4957,2,    25.00, -999.00,9, -999.00,9, -999.00,-999.000,9,  -999.0,9,     -999.0,9,     -999.0,9,         10,    35.0814,2,     -999.0,9,    34.9027,2,     -999.0,9
33RO20180423,        I7N,      88,          1,        111,      11110,9,20180525,       1333,     4.3782,    59.5145,       3978,  1300.4,   5.8455,  34.9693,2,  34.9730,2,     54.0,2,  61.2560,2,     93.5,2,     37.6,2,     0.00,2,    2.798,2,   0.027,2,   0.016,2,    0.003,2,  2312.5,2,  2376.0,2,   7.4783,2,    25.00, -999.00,9, -999.00,9, -999.00,-999.000,9,    49.4,3,     -999.0,9,     -999.0,9,         11,    35.1486,2,     -999.0,9,    34.9707,2,     -999.0,9
33RO20180423,        I7N,      88,          1,        112,      11111,9,20180525,       1333,     4.3782,    59.5145,       3978,  1100.8,   6.9102,  35.0516,2,  35.0596,2,     41.3,2,  46.9880,2,     83.5,2,     37.3,2,     0.00,2,    2.805,2,   0.054,2,   0.034,2,        0,2,  2307.5,2,  2368.2,6,   7.4691,2,    25.00, -999.00,9, -999.00,9, -999.00,-999.000,9,  -999.0,9,     -999.0,9,     -999.0,9,         12,    35.2257,2,     -999.0,9,    35.0524,2,     -999.0,9
33RO20180423,        I7N,      88,          1,        113,      11112,9,20180525,       1333,     4.3782,    59.5145,       3978,   900.3,   7.9541,  35.0740,2,  35.0786,2,     36.2,2,  40.9070,2,     70.5,2,     36.6,2,     0.00,2,    2.731,2,   0.135,2,   0.076,2,   0.0075,2,  2294.0,2,  2353.9,2,   7.4709,6,    25.00, -999.00,9, -999.00,9, -999.00,-999.000,9,    49.5,3,     -999.0,9,     -999.0,9,         13,    35.2487,2,     -999.0,9,    35.0750,2,     -999.0,9
33RO20180423,        I7N,      88,          1,        114,      11113,9,20180525,       1333,     4.3782,    59.5145,       3978,   731.0,   9.1519,  35.1598,2,  35.1753,2,     33.6,2,  38.6080,2,     57.1,2,     35.0,2,     0.00,2,    2.623,2,   0.320,6,   0.177,6,   0.0852,6,  2279.5,6,  2342.5,2,   7.4809,2,    25.00, -999.00,9, -999.00,9, -999.00,-999.000,9,  -999.0,9,     -999.0,9,     -999.0,9,         14,    35.3357,2,     -999.0,9,    35.1606,2,     -999.0,9
33RO20180423,        I7N,      88,          1,        115,      11114,9,20180525,       1333,     4.3782,    59.5145,       3978,   600.0,   9.6987,  35.1596,2,-999.0000,9,     37.8,2,  42.6430,2,     48.5,2,     33.9,2,     0.01,2,    2.522,2,   0.518,2,   0.285,2,   0.1204,2,  2267.7,2,  2332.5,2,   7.4926,2,    25.00, -999.00,9, -999.00,9, -999.00,-999.000,9,    55.9,3,     -999.0,9,     -999.0,9,         15,    35.3311,2,    35.3331,2,    35.1600,2,    35.1601,2
33RO20180423,        I7N,      88,          1,        116,      11115,9,20180525,       1333,     4.3782,    59.5145,       3978,   599.8,   9.6980,  35.1597,2,  35.1634,6,     37.9,2,  42.6240,2,     48.4,2,     33.9,2,     0.00,2,    2.526,2,   0.531,2,   0.289,2,   0.1511,2,  -999.0,9,  -999.0,9,-999.0000,9,  -999.00, -999.00,9, -999.00,9, -999.00,-999.000,9,  -999.0,9,     -999.0,9,     -999.0,9,         16,     -999.0,9,     -999.0,9,     -999.0,9,     -999.0,9
33RO20180423,        I7N,      88,          1,        117,      11116,9,20180525,       1333,     4.3782,    59.5145,       3978,   450.9,  10.2944,  35.1391,2,  35.1406,2,     51.9,2,  57.7730,2,     38.1,2,     31.6,2,     0.00,2,    2.324,2,   0.966,2,   0.526,2,   0.2437,2,  2251.0,2,  2325.8,2,   7.5202,2,    25.00, -999.00,9, -999.00,9, -999.00,-999.000,9,  -999.0,9,     -999.0,9,     -999.0,9,         17,    35.3080,2,     -999.0,9,    35.1397,2,     -999.0,9
33RO20180423,        I7N,      88,          1,        118,      11117,9,20180525,       1333,     4.3782,    59.5145,       3978,   277.6,  12.0928,  35.1745,2,  35.1893,2,     69.5,2,  75.4790,2,     23.6,2,     26.5,2,     0.00,2,    1.919,2,   1.758,2,   0.976,2,   0.5752,2,  2222.0,2,  2317.4,2,   7.5772,2,    25.00, -999.00,9, -999.00,9, -999.00,-999.000,9,    62.6,3,     -999.0,9,     -999.0,9,         18,    35.3561,2,     -999.0,9,    35.1898,2,     -999.0,9
33RO20180423,        I7N,      88,          1,        119,      11083,9,20180525,       1333,     4.3782,    59.5145,       3978,   200.8,  14.0673,  35.2421,2,  35.2421,2,     78.3,2,  84.3510,2,     18.8,2,     22.9,2,     0.00,2,    1.696,2,   1.930,2,   1.110,2,   0.7985,2,  2203.4,2,  2317.0,2,   7.6348,2,    25.00, -999.00,9, -999.00,9, -999.00,-999.000,9,  -999.0,9,     -999.0,9,     -999.0,9,         19,    35.4095,2,     -999.0,9,    35.2429,2,     -999.0,9
33RO20180423,        I7N,      88,          1,        120,      11118,9,20180525,       1333,     4.3782,    59.5145,       3978,   160.2,  16.3544,  35.2836,2,  35.2830,2,     72.3,2,  78.3600,2,     16.3,2,     21.6,2,     0.01,2,    1.588,2,   1.870,2,   1.102,2,   0.8846,2,  2186.2,2,  2315.4,2,   7.6709,2,    25.00, -999.00,9, -999.00,9, -999.00,-999.000,9,  -999.0,9,     -999.0,9,     -999.0,9,         20,    35.4490,2,     -999.0,9,    35.2833,2,     -999.0,9
33RO20180423,        I7N,      88,          1,        121,      11119,9,20180525,       1333,     4.3782,    59.5145,       3978,   121.0,  20.1264,  35.3972,2,  35.3997,2,     50.3,2,  55.0400,2,     14.0,2,     21.7,2,     0.03,2,    1.607,2,   1.565,2,   0.957,2,   0.9337,2,  2175.0,2,  2315.9,2,   7.7015,2,    25.00, -999.00,9, -999.00,9, -999.00,-999.000,9,    62.2,3,     -999.0,9,     -999.0,9,         21,    35.5656,2,     -999.0,9,    35.3998,2,     -999.0,9
33RO20180423,        I7N,      88,          1,        122,      11120,9,20180525,       1333,     4.3782,    59.5145,       3978,    80.2,  24.7982,  35.6296,2,  35.6313,2,    106.0,2, 112.6510,2,      6.6,2,     11.0,2,     0.21,2,    0.952,2,   1.524,2,   0.956,2,   1.1435,2,  2101.6,2,  2328.1,6,   7.8855,2,    25.00, -999.00,9, -999.00,9, -999.00,-999.000,9,    65.1,3,     -999.0,9,     -999.0,9,         22,    35.7982,2,     -999.0,9,    35.6333,2,     -999.0,9
33RO20180423,        I7N,      88,          1,        123,      11121,9,20180525,       1333,     4.3782,    59.5145,       3978,    39.4,  28.9182,  35.3131,2,  35.3248,2,    183.6,2, 192.6710,2,      1.8,2,      0.0,2,     0.01,2,    0.157,2,   1.419,2,   0.906,2,    1.352,2,  1989.6,2,  2316.9,2,   8.0737,6,    25.00, -999.00,9, -999.00,9, -999.00,-999.000,9,    72.8,3,     -999.0,9,     -999.0,9,         23,    35.4912,2,     -999.0,9,    35.3277,2,     -999.0,9
33RO20180423,        I7N,      88,          1,        124,      11122,9,20180525,       1333,     4.3782,    59.5145,       3978,     4.3,  29.2242,  35.1671,2,  35.1678,2,    185.2,2, 194.0500,2,      1.6,2,      0.0,2,     0.00,2,    0.131,2,   1.407,2,   0.904,2,   1.3359,2,  1979.7,6,  2292.6,2,   8.0823,2,    25.00, -999.00,9, -999.00,9, -999.00,-999.000,9,    76.4,3,     -999.0,9,     -999.0,9,         24,    35.3377,2,     -999.0,9,    35.1747,2,     -999.0,9