BOTTLE,20230801CCHSIOCBG
EXPOCODE,SECT_ID,STNNBR,CASTNO,SAMPNO,BTLNBR,BTLNBR_FLAG_W,DATE,TIME,LATITUDE,LONGITUDE,DEPTH,CTDPRS,CTDTMP,CTDSAL,CTDSAL_FLAG_W,SALNTY,SALNTY_FLAG_W,CTDOXY,CTDOXY_FLAG_W,OXYGEN,OXYGEN_FLAG_W,SILCAT,SILCAT_FLAG_W,NITRAT,NITRAT_FLAG_W,NITRIT,NITRIT_FLAG_W,PHSPHT,PHSPHT_FLAG_W,CFC-11,CFC-11_FLAG_W,CFC-12,CFC-12_FLAG_W,SF6,SF6_FLAG_W,TCARBN,TCARBN_FLAG_W,ALKALI,ALKALI_FLAG_W,PH_SWS,PH_SWS_FLAG_W,PH_TMP,DELC13,DELC13_FLAG_W,DELC14,DELC14_FLAG_W,C14ERR,CCL4,CCL4_FLAG_W,DOC,DOC_FLAG_W,N2O,N2O_FLAG_W,CALCIUM,CALCIUM_FLAG_W,SAMPNO_U,DNSSAL,DNSSAL_FLAG_W,DNSSAL2,DNSSAL2_FLAG_W,SALNTY_DNSSAL,SALNTY_DNSSAL_FLAG_W,SALNTY_DNSSAL2,SALNTY_DNSSAL2_FLAG_W
,,,,,,,,,,,METERS,DBAR,ITS-90,PSS-78,,PSS-78,,UMOL/KG,,UMOL/KG,,UMOL/KG,,UMOL/KG,,UMOL/KG,,UMOL/KG,,PMOL/KG,,PMOL/KG,,FMOL/KG,,UMOL/KG,,UMOL/KG,,,,DEG C,/MILLE,,/MILLE,,/MILLE,PMOL/KG,,UMOL/KG,,NMOL/KG,,MMOL/KG,,,G/KG,,G/KG,,PSS-78,,PSS-78,
33RO20180423,        I7N,      56,          1,        101,      11010,2,20180513,       0411,    -8.1092,    53.0727,       2731,  2763.0,   1.8166,  34.7372,2,  34.7399,2,    143.9,2, 165.3730,4,    129.6,6,     34.9,6,     0.00,6,    2.390,6,   0.003,2,   0.002,2,        0,2,  2302.2,2,  2404.9,2,   7.5838,6,    25.00, -999.00,9, -999.00,9, -999.00,-999.000,1,    40.1,3,     -999.0,1,     -999.0,9,          1,     -999.0,9,     -999.0,9,     -999.0,9,     -999.0,9
33RO20180423,        I7N,      56,          1,        102,      11101,2,20180513,       0411,    -8.1092,    53.0727,       2731,  2492.5,   1.9697,  34.7406,2,  34.7413,2,    140.4,2, 156.6680,2,    127.3,6,     34.9,6,     0.00,6,    2.414,6,   0.004,2,   0.003,2,        0,2,  -999.0,9,  -999.0,9,-999.0000,9,  -999.00, -999.00,9, -999.00,9, -999.00,-999.000,1,  -999.0,9,     -999.0,1,     -999.0,9,          2,     -999.0,9,     -999.0,9,     -999.0,9,     -999.0,9
33RO20180423,        I7N,      56,          1,        103,      11102,2,20180513,       0411,    -8.1092,    53.0727,       2731,  2199.5,   2.3323,  34.7430,2,  34.7368,2,    134.4,2, 149.5000,2,    121.1,6,     35.1,6,     0.00,6,    2.436,6,   0.007,2,   0.003,2,        0,2,  2299.0,2,  2396.2,6,   7.5699,2,    25.00, -999.00,9, -999.00,9, -999.00,-999.000,1,    43.7,3,     -999.0,1,     -999.0,9,          3,     -999.0,9,     -999.0,9,     -999.0,9,     -999.0,9
33RO20180423,        I7N,      56,          1,        104,      11103,2,20180513,       0411,    -8.1092,    53.0727,       2731,  1883.3,   2.8030,  34.7414,2,  34.7425,2,    128.0,2, 141.0815,2,    112.8,6,     35.2,6,     0.00,6,    2.453,6,   0.012,2,   0.007,2,   0.0075,2,  -999.0,9,  -999.0,9,-999.0000,9,  -999.00, -999.00,9, -999.00,9, -999.00,-999.000,1,    43.6,3,     -999.0,1,     -999.0,9,          4,     -999.0,9,     -999.0,9,     -999.0,9,     -999.0,9
33RO20180423,        I7N,      56,          1,        105,      11104,2,20180513,       0411,    -8.1092,    53.0727,       2731,  1633.0,   3.4654,  34.7492,2,  34.7500,2,    115.0,2, 126.8640,2,    105.2,6,     35.5,6,     0.00,6,    2.496,6,   0.023,2,   0.012,2,        0,2,  2293.9,2,  2381.0,2,   7.5446,2,    25.00, -999.00,9, -999.00,9, -999.00,-999.000,1,    44.0,3,     -999.0,1,     -999.0,9,          5,     -999.0,9,     -999.0,9,     -999.0,9,     -999.0,9
33RO20180423,        I7N,      56,          1,        106,      11105,2,20180513,       0411,    -8.1092,    53.0727,       2731,  1367.0,   4.4468,  34.7671,2,  34.7886,2,     96.7,2, 107.4150,2,     95.8,2,     36.2,2,     0.00,2,    2.543,2,   0.055,2,   0.029,2,   0.0159,2,  -999.0,9,  -999.0,9,-999.0000,9,  -999.00, -999.00,9, -999.00,9, -999.00,-999.000,1,  -999.0,9,     -999.0,1,     -999.0,9,          6,     -999.0,9,     -999.0,9,     -999.0,9,     -999.0,9
33RO20180423,        I7N,      56,          1,        107,      11106,2,20180513,       0411,    -8.1092,    53.0727,       2731,  1167.2,   5.1474,  34.7817,2,  34.8000,2,     88.9,2,  97.7780,2,     88.1,2,     36.0,2,     0.00,2,    2.544,2,   0.111,2,   0.059,2,   0.0123,2,  2287.2,2,  2347.2,4,   7.5177,2,    25.00, -999.00,9, -999.00,9, -999.00,-999.000,1,    44.4,3,     -999.0,1,     -999.0,9,          7,     -999.0,9,     -999.0,9,     -999.0,9,     -999.0,9
33RO20180423,        I7N,      56,          1,        108,      11107,2,20180513,       0411,    -8.1092,    53.0727,       2731,   951.8,   6.1683,  34.7958,2,  34.7839,2,     80.7,2,  88.6330,2,     76.3,2,     35.5,2,     0.00,2,    2.515,2,   0.237,2,   0.126,2,   0.0339,2,  -999.0,9,  -999.0,9,-999.0000,9,  -999.00, -999.00,9, -999.00,9, -999.00,-999.000,1,    45.2,3,     -999.0,1,     -999.0,9,          8,     -999.0,9,     -999.0,9,     -999.0,9,     -999.0,9
33RO20180423,        I7N,      56,          1,        109,      11108,2,20180513,       0411,    -8.1092,    53.0727,       2731,   817.9,   7.2748,  34.8080,2,  34.7978,2,     83.1,2,  90.4870,2,     61.0,2,     34.0,2,     0.00,2,    2.390,2,   0.528,2,   0.279,2,   0.0969,2,  2255.5,2,  2339.9,2,   7.5288,2,    25.00, -999.00,9, -999.00,9, -999.00,-999.000,1,    48.0,3,     -999.0,1,     -999.0,9,          9,     -999.0,9,     -999.0,9,     -999.0,9,     -999.0,9
33RO20180423,        I7N,      56,          1,        110,      11109,2,20180513,       0411,    -8.1092,    53.0727,       2731,   713.7,   7.8077,  34.7853,2,  34.7937,2,     97.6,2, 105.9920,2,     49.6,2,     31.9,2,     0.00,2,    2.235,2,   0.909,2,   0.477,2,   0.2013,2,  -999.0,9,  -999.0,9,-999.0000,9,  -999.00, -999.00,9, -999.00,9, -999.00,-999.000,1,    48.3,3,     -999.0,1,     -999.0,9,         10,     -999.0,9,     -999.0,9,     -999.0,9,     -999.0,9
33RO20180423,        I7N,      56,          1,        111,      11110,2,20180513,       0411,    -8.1092,    53.0727,       2731,   610.8,   8.3678,  34.7777,2,  34.7845,2,    113.3,2, 106.4210,2,     49.7,2,     31.7,2,     0.00,2,    2.226,2,   0.905,2,   0.476,2,   0.2325,2,  2237.3,2,  2329.6,2,   7.5597,2,    25.00, -999.00,9, -999.00,9, -999.00,-999.000,1,    47.2,3,     -999.0,1,     -999.0,9,         11,     -999.0,9,     -999.0,9,     -999.0,9,     -999.0,9
33RO20180423,        I7N,      56,          1,        112,      11111,2,20180513,       0411,    -8.1092,    53.0727,       2731,   517.3,   9.0938,  34.8147,2,  34.8103,2,    112.8,2, 122.1320,2,     39.5,2,     29.2,2,     0.00,2,    2.042,2,   1.355,2,   0.712,2,    0.376,2,  2218.4,2,  2318.8,2,   7.5904,2,    25.00, -999.00,9, -999.00,9, -999.00,-999.000,1,    48.3,3,     -999.0,1,     -999.0,9,         12,     -999.0,9,     -999.0,9,     -999.0,9,     -999.0,9
33RO20180423,        I7N,      56,          1,        113,      11112,2,20180513,       0411,    -8.1092,    53.0727,       2731,   463.4,   9.5517,  34.8291,2,  34.8145,2,    122.0,2, 122.5320,2,     33.1,2,     28.2,2,     0.00,2,    1.945,2,   1.577,6,   0.836,6,   0.4375,6,  -999.0,9,  -999.0,9,-999.0000,9,  -999.00, -999.00,9, -999.00,9, -999.00,-999.000,1,    49.0,3,     -999.0,1,     -999.0,9,         13,     -999.0,9,     -999.0,9,     -999.0,9,     -999.0,9
33RO20180423,        I7N,      56,          1,        114,      11113,2,20180513,       0411,    -8.1092,    53.0727,       2731,   417.4,   9.9541,  34.8541,2,  34.8568,2,    123.6,2, 133.3650,2,     24.7,2,     25.2,2,     0.00,2,    1.731,2,   2.002,2,   1.077,2,   0.5986,2,  2193.2,2,  2309.3,2,   7.6347,2,    25.00, -999.00,9, -999.00,9, -999.00,-999.000,1,    48.9,3,     -999.0,1,     -999.0,9,         14,     -999.0,9,     -999.0,9,     -999.0,9,     -999.0,9
33RO20180423,        I7N,      56,          1,        115,      11114,2,20180513,       0411,    -8.1092,    53.0727,       2731,   366.8,  10.5037,  34.8916,2,  34.8921,2,    130.4,2, 138.5000,2,     21.3,2,     23.5,2,     0.01,2,    1.610,2,   2.188,2,   1.190,2,   0.7042,2,  -999.0,9,  -999.0,9,-999.0000,9,  -999.00, -999.00,9, -999.00,9, -999.00,-999.000,1,    48.4,3,     -999.0,1,     -999.0,9,         15,     -999.0,9,     -999.0,9,     -999.0,9,     -999.0,9
33RO20180423,        I7N,      56,          1,        116,      11115,2,20180513,       0411,    -8.1092,    53.0727,       2731,   313.1,  11.2270,  34.9534,2,  34.9580,2,    136.8,2, 142.4260,2,     18.2,2,     21.6,2,     0.01,2,    1.494,2,   2.309,2,   1.280,2,   0.8543,2,  2175.1,2,  2310.7,2,   7.6770,2,    25.00, -999.00,9, -999.00,9, -999.00,-999.000,1,    50.2,3,     -999.0,1,     -999.0,9,         16,     -999.0,9,     -999.0,9,     -999.0,9,     -999.0,9
33RO20180423,        I7N,      56,          1,        117,      11116,2,20180513,       0411,    -8.1092,    53.0727,       2731,   261.3,  11.8803,  34.9914,2,  34.9920,2,    112.2,2, 119.4930,2,     20.2,2,     22.7,2,     0.00,2,    1.565,2,   2.108,2,   1.170,2,   0.7505,2,  -999.0,9,  -999.0,9,-999.0000,9,  -999.00, -999.00,9, -999.00,9, -999.00,-999.000,1,    47.0,3,     -999.0,1,     -999.0,9,         17,     -999.0,9,     -999.0,9,     -999.0,9,     -999.0,9
33RO20180423,        I7N,      56,          1,        118,      11117,2,20180513,       0411,    -8.1092,    53.0727,       2731,   221.3,  12.4300,  35.0293,2,  35.0262,2,    109.4,2, 116.3600,2,     19.6,2,     22.1,2,     0.00,2,    1.536,2,   2.093,2,   1.173,2,   0.7371,2,  2183.7,2,  2312.3,2,   7.6623,2,    25.00, -999.00,9, -999.00,9, -999.00,-999.000,1,    51.0,3,     -999.0,1,     -999.0,9,         18,     -999.0,9,     -999.0,9,     -999.0,9,     -999.0,9
33RO20180423,        I7N,      56,          1,        119,      11083,2,20180513,       0411,    -8.1092,    53.0727,       2731,   181.4,  13.1728,  35.0684,2,  35.0672,2,    108.3,2, 115.9210,2,     18.9,2,     20.9,2,     0.00,2,    1.464,2,   2.072,2,   1.177,2,   0.8508,2,  -999.0,9,  -999.0,9,-999.0000,9,  -999.00, -999.00,9, -999.00,9, -999.00,-999.000,1,    52.2,3,     -999.0,1,     -999.0,9,         19,     -999.0,9,     -999.0,9,     -999.0,9,     -999.0,9
33RO20180423,        I7N,      56,          1,        120,      11118,2,20180513,       0411,    -8.1092,    53.0727,       2731,   142.4,  14.3719,  35.1223,2,  35.1255,2,    103.1,2, 109.7920,2,     17.7,2,     20.0,2,     0.01,2,    1.412,2,   2.035,6,   1.172,6,   0.8837,6,  2172.3,2,  2313.1,2,   7.6962,2,    25.00, -999.00,9, -999.00,9, -999.00,-999.000,1,    51.4,3,     -999.0,1,     -999.0,9,         20,     -999.0,9,     -999.0,9,     -999.0,9,     -999.0,9
33RO20180423,        I7N,      56,          1,        121,      11119,2,20180513,       0411,    -8.1092,    53.0727,       2731,   101.2,  17.9273,  35.1448,2,  35.1472,6,     95.1,2, 100.8820,2,     15.1,2,     17.8,2,     0.07,2,    1.266,2,   1.830,2,   1.084,2,   0.9932,2,  2147.7,2,  2309.6,2,   7.7461,2,    25.00, -999.00,9, -999.00,9, -999.00,-999.000,1,    59.7,3,     -999.0,1,     -999.0,9,         21,     -999.0,9,     -999.0,9,     -999.0,9,     -999.0,9
33RO20180423,        I7N,      56,          1,        122,      11120,2,20180513,       0411,    -8.1092,    53.0727,       2731,    72.5,  21.7855,  35.0791,2,  35.0826,2,    129.3,2, 136.7530,2,      9.9,2,     10.5,2,     0.48,2,    0.859,2,   1.700,2,   1.030,2,    1.104,2,  -999.0,9,  -999.0,9,-999.0000,9,  -999.00, -999.00,9, -999.00,9, -999.00,-999.000,1,    63.1,3,     -999.0,1,     -999.0,9,         22,     -999.0,9,     -999.0,9,     -999.0,9,     -999.0,9
33RO20180423,        I7N,      56,          1,        123,      11121,2,20180513,       0411,    -8.1092,    53.0727,       2731,    31.9,  28.8995,  35.1069,2,  35.1045,2,    185.2,2, 194.3750,2,      2.3,2,      0.1,2,     0.00,2,    0.102,2,   1.414,2,   0.903,2,   1.3471,2,  1971.2,2,  2299.5,6,   8.0757,2,    25.00, -999.00,9, -999.00,9, -999.00,-999.000,1,    76.6,3,     -999.0,1,     -999.0,9,         23,     -999.0,9,     -999.0,9,     -999.0,9,     -999.0,9
33RO20180423,        I7N,      56,          1,        124,      11122,2,20180513,       0411,    -8.1092,    53.0727,       2731,     4.0,  28.8028,  34.6917,2,  34.6961,2,    185.8,2, 194.5990,2,      2.2,2,      0.1,2,     0.00,2,    0.104,2,   1.419,2,   0.905,2,   1.3246,2,  1950.9,6,  2272.4,2,   8.0781,6,    25.00, -999.00,9, -999.00,9, -999.00,-999.000,1,    71.2,3,     -999.0,1,     -999.0,9,         24,     -999.0,9,     -999.0,9,     -999.0,9,     -999.0,9