BOTTLE,20230801CCHSIOCBG
EXPOCODE,SECT_ID,STNNBR,CASTNO,SAMPNO,BTLNBR,BTLNBR_FLAG_W,DATE,TIME,LATITUDE,LONGITUDE,DEPTH,CTDPRS,CTDTMP,CTDSAL,CTDSAL_FLAG_W,SALNTY,SALNTY_FLAG_W,CTDOXY,CTDOXY_FLAG_W,OXYGEN,OXYGEN_FLAG_W,SILCAT,SILCAT_FLAG_W,NITRAT,NITRAT_FLAG_W,NITRIT,NITRIT_FLAG_W,PHSPHT,PHSPHT_FLAG_W,CFC-11,CFC-11_FLAG_W,CFC-12,CFC-12_FLAG_W,SF6,SF6_FLAG_W,TCARBN,TCARBN_FLAG_W,ALKALI,ALKALI_FLAG_W,PH_SWS,PH_SWS_FLAG_W,PH_TMP,DELC13,DELC13_FLAG_W,DELC14,DELC14_FLAG_W,C14ERR,CCL4,CCL4_FLAG_W,DOC,DOC_FLAG_W,N2O,N2O_FLAG_W,CALCIUM,CALCIUM_FLAG_W,SAMPNO_U,DNSSAL,DNSSAL_FLAG_W,DNSSAL2,DNSSAL2_FLAG_W,SALNTY_DNSSAL,SALNTY_DNSSAL_FLAG_W,SALNTY_DNSSAL2,SALNTY_DNSSAL2_FLAG_W
,,,,,,,,,,,METERS,DBAR,ITS-90,PSS-78,,PSS-78,,UMOL/KG,,UMOL/KG,,UMOL/KG,,UMOL/KG,,UMOL/KG,,UMOL/KG,,PMOL/KG,,PMOL/KG,,FMOL/KG,,UMOL/KG,,UMOL/KG,,,,DEG C,/MILLE,,/MILLE,,/MILLE,PMOL/KG,,UMOL/KG,,NMOL/KG,,MMOL/KG,,,G/KG,,G/KG,,PSS-78,,PSS-78,
33RO20180423,        I7N,      58,          1,        101,      11010,9,20180513,       1501,    -7.5307,    53.6200,       3947,  4022.3,   1.3763,  34.7201,2,  34.7204,2,    160.7,2, 183.9260,2,    130.8,6,     33.6,6,     0.00,6,    2.322,6,   0.026,2,   0.013,2,   0.0026,2,  2288.0,2,  2393.2,2,   7.5980,6,    25.00, -999.00,9, -999.00,9, -999.00,-999.000,9,    43.7,3,     -999.0,9,     -999.0,9,          1,     -999.0,9,     -999.0,9,     -999.0,9,     -999.0,9
33RO20180423,        I7N,      58,          1,        102,      11101,9,20180513,       1501,    -7.5307,    53.6200,       3947,  3820.0,   1.4416,  34.7233,2,  34.7223,2,    156.6,2, 179.7760,2,    131.2,6,     34.0,6,     0.00,6,    2.338,6,   0.019,2,   0.010,2,        0,2,  2291.8,2,  2395.0,6,   7.5946,2,    25.00, -999.00,9, -999.00,9, -999.00,-999.000,9,    43.8,3,     -999.0,9,     -999.0,9,          2,     -999.0,9,     -999.0,9,     -999.0,9,     -999.0,9
33RO20180423,        I7N,      58,          1,        103,      11102,9,20180513,       1501,    -7.5307,    53.6200,       3947,  3600.7,   1.5468,  34.7276,2,  34.7272,2,    151.3,2, 173.2730,2,    131.1,6,     34.1,6,     0.00,6,    2.361,6,   0.011,2,   0.006,2,        0,2,  2296.2,6,  2397.9,2,   7.5926,2,    25.00, -999.00,9, -999.00,9, -999.00,-999.000,9,  -999.0,9,     -999.0,9,     -999.0,9,          3,     -999.0,9,     -999.0,9,     -999.0,9,     -999.0,9
33RO20180423,        I7N,      58,          1,        104,      11103,9,20180513,       1501,    -7.5307,    53.6200,       3947,  3300.2,   1.6469,  34.7318,2,  34.7336,6,    146.9,2, 167.7750,2,    131.3,6,     34.4,6,     0.00,6,    2.378,6,   0.007,2,   0.003,2,   0.0036,2,  2297.6,2,  2404.1,2,   7.5882,2,    25.00, -999.00,9, -999.00,9, -999.00,-999.000,9,  -999.0,9,     -999.0,9,     -999.0,9,          4,     -999.0,9,     -999.0,9,     -999.0,9,     -999.0,9
33RO20180423,        I7N,      58,          1,        105,      11104,9,20180513,       1501,    -7.5307,    53.6200,       3947,  3000.2,   1.7385,  34.7353,2,  34.7505,2,    143.5,2, 163.4440,2,    129.8,6,     34.5,6,     0.00,6,    2.393,6,   0.005,2,   0.003,2,   0.0065,2,  2300.3,2,  2405.1,2,   7.5856,2,    25.00, -999.00,9, -999.00,9, -999.00,-999.000,9,    43.8,3,     -999.0,9,     -999.0,9,          5,     -999.0,9,     -999.0,9,     -999.0,9,     -999.0,9
33RO20180423,        I7N,      58,          1,        106,      11105,9,20180513,       1501,    -7.5307,    53.6200,       3947,  2700.0,   1.8916,  34.7397,2,  34.7389,2,    139.8,2, 158.5750,2,    127.8,2,     34.5,2,     0.00,2,    2.396,2,   0.003,2,   0.003,2,   0.0149,2,  2301.3,2,  2403.8,2,   7.5802,2,    25.00, -999.00,9, -999.00,9, -999.00,-999.000,9,  -999.0,9,     -999.0,9,     -999.0,9,          6,     -999.0,9,     -999.0,9,     -999.0,9,     -999.0,9
33RO20180423,        I7N,      58,          1,        107,      11106,9,20180513,       1501,    -7.5307,    53.6200,       3947,  2400.5,   2.1012,  34.7418,2,  34.7402,2,    136.3,2, 154.3990,2,    123.5,2,     34.5,2,     0.00,2,    2.416,2,   0.005,2,   0.003,2,    0.005,2,  2300.1,2,  2396.6,2,   7.5760,2,    25.00, -999.00,9, -999.00,9, -999.00,-999.000,9,    44.3,3,     -999.0,9,     -999.0,9,          7,     -999.0,9,     -999.0,9,     -999.0,9,     -999.0,9
33RO20180423,        I7N,      58,          1,        108,      11107,9,20180513,       1501,    -7.5307,    53.6200,       3947,  2101.3,   2.4305,  34.7430,2,  34.7424,2,    131.6,2, 148.2135,2,    118.7,2,     34.9,2,     0.00,2,    2.425,2,   0.008,2,   0.004,2,   0.0072,2,  2298.7,2,  2391.3,2,   7.5695,2,    25.00, -999.00,9, -999.00,9, -999.00,-999.000,9,    45.2,3,     -999.0,9,     -999.0,9,          8,     -999.0,9,     -999.0,9,     -999.0,9,     -999.0,9
33RO20180423,        I7N,      58,          1,        109,      11108,9,20180513,       1501,    -7.5307,    53.6200,       3947,  1800.3,   2.9296,  34.7412,2,  34.7414,2,    125.0,2, 140.8570,2,    109.6,2,     35.0,2,     0.00,2,    2.449,2,   0.018,2,   0.009,2,   0.0087,2,  2292.0,2,  2381.8,2,   7.5600,2,    25.00,    0.28,2, -177.00,2,    1.77,-999.000,9,    45.3,3,     -999.0,9,     -999.0,9,          9,     -999.0,9,     -999.0,9,     -999.0,9,     -999.0,9
33RO20180423,        I7N,      58,          1,        110,      11109,9,20180513,       1501,    -7.5307,    53.6200,       3947,  1550.5,   3.6308,  34.7528,2,  34.7532,2,    110.9,2, 123.7340,2,    103.0,2,     35.6,2,     0.00,2,    2.529,2,   0.028,2,   0.015,2,        0,2,  2292.4,2,  2378.7,2,   7.5417,2,    25.00,    0.26,2, -173.00,2,    1.79,-999.000,9,    45.0,3,     -999.0,9,     -999.0,9,         10,     -999.0,9,     -999.0,9,     -999.0,9,     -999.0,9
33RO20180423,        I7N,      58,          1,        111,      11110,9,20180513,       1501,    -7.5307,    53.6200,       3947,  1301.0,   4.6024,  34.7729,2,  34.7738,2,     91.6,2, 101.6730,2,     95.4,2,     36.4,2,     0.00,2,    2.604,2,   0.051,2,   0.027,2,   0.0243,2,  2294.8,2,  2372.2,2,   7.5204,2,    25.00,    0.22,2, -167.00,2,    1.68,-999.000,9,  -999.0,9,     -999.0,9,     -999.0,9,         11,     -999.0,9,     -999.0,9,     -999.0,9,     -999.0,9
33RO20180423,        I7N,      58,          1,        112,      11111,9,20180513,       1501,    -7.5307,    53.6200,       3947,  1100.0,   5.5326,  34.8037,2,  34.8029,2,     75.5,2,  84.4830,2,     88.5,2,     36.7,2,     0.00,2,    2.638,2,   0.078,6,   0.043,6,   0.0375,6,  2295.5,2,  2365.8,6,   7.5037,2,    25.00,    0.19,2, -157.00,2,    1.83,-999.000,9,  -999.0,9,     -999.0,9,     -999.0,9,         12,     -999.0,9,     -999.0,9,     -999.0,9,     -999.0,9
33RO20180423,        I7N,      58,          1,        113,      11112,9,20180513,       1501,    -7.5307,    53.6200,       3947,   901.2,   6.5286,  34.7992,2,  34.8015,2,     69.8,2,  77.4080,2,     75.8,2,     36.0,2,     0.00,2,    2.594,2,   0.186,2,   0.099,2,   0.0434,2,  2280.7,2,  2348.7,2,   7.5033,6,    25.00,    0.26,2, -137.00,2,    1.71,-999.000,9,  -999.0,9,     -999.0,9,     -999.0,9,         13,     -999.0,9,     -999.0,9,     -999.0,9,     -999.0,9
33RO20180423,        I7N,      58,          1,        114,      11113,9,20180513,       1501,    -7.5307,    53.6200,       3947,   751.2,   7.2796,  34.7954,2,  34.8023,2,     76.0,2,  84.8400,2,     61.8,2,     34.1,2,     0.00,2,    2.459,2,   0.443,2,   0.235,2,   0.1028,2,  2261.6,6,  2336.5,2,   7.5226,2,    25.00,    0.27,2, -112.00,2,    1.77,-999.000,9,    44.5,3,     -999.0,9,     -999.0,9,         14,     -999.0,9,     -999.0,9,     -999.0,9,     -999.0,9
33RO20180423,        I7N,      58,          1,        115,      11114,9,20180513,       1501,    -7.5307,    53.6200,       3947,   601.4,   8.5487,  34.8136,2,  34.8142,2,     95.1,2, 104.2330,2,     41.4,2,     30.6,2,     0.00,2,    2.154,2,   1.114,2,   0.580,2,   0.2825,2,  2229.4,2,  2318.6,2,   7.5682,2,    25.00,    0.40,2,  -60.60,2,    1.91,-999.000,9,  -999.0,9,     -999.0,9,     -999.0,9,         15,     -999.0,9,     -999.0,9,     -999.0,9,     -999.0,9
33RO20180423,        I7N,      58,          1,        116,      11115,9,20180513,       1501,    -7.5307,    53.6200,       3947,   450.5,   9.5097,  34.8305,2,  34.8307,2,    110.2,2, 119.4940,2,     29.1,2,     27.4,2,     0.00,2,    1.894,2,   1.686,2,   0.897,2,   0.4345,2,  2208.2,2,  2310.5,2,   7.6063,2,    25.00,    0.49,2,  -27.30,2,    2.45,-999.000,9,    44.8,3,     -999.0,9,     -999.0,9,         16,     -999.0,9,     -999.0,9,     -999.0,9,     -999.0,9
33RO20180423,        I7N,      58,          1,        117,      11116,9,20180513,       1501,    -7.5307,    53.6200,       3947,   350.5,  10.5400,  34.8971,2,  34.9001,2,    117.6,2, 126.5770,2,     22.2,2,     24.6,2,     0.00,2,    1.684,2,   2.054,2,   1.114,2,   0.6524,2,  2192.6,2,  2281.9,4,   7.6352,2,    25.00,    0.52,2,   -5.18,2,    2.03,-999.000,9,    45.4,3,     -999.0,9,     -999.0,9,         17,     -999.0,9,     -999.0,9,     -999.0,9,     -999.0,9
33RO20180423,        I7N,      58,          1,        118,      11117,9,20180513,       1501,    -7.5307,    53.6200,       3947,   275.4,  11.6209,  34.9858,2,  34.9901,6,    117.5,2, 125.8010,2,     19.4,2,     22.5,2,     0.00,2,    1.544,2,   2.169,6,   1.191,6,   0.7529,6,  2186.6,2,  2312.7,2,   7.6595,2,    25.00,    0.43,2,    9.02,2,    2.06,-999.000,9,    46.6,3,     -999.0,9,     -999.0,9,         18,     -999.0,9,     -999.0,9,     -999.0,9,     -999.0,9
33RO20180423,        I7N,      58,          1,        119,      11083,9,20180513,       1501,    -7.5307,    53.6200,       3947,   200.1,  12.9135,  35.0725,2,  35.0774,2,    116.3,2, 124.4310,2,     17.4,2,     20.4,2,     0.00,2,    1.438,2,   2.192,2,   1.229,2,    0.905,2,  2176.0,2,  2310.8,2,   7.6868,2,    25.00,    0.43,2,   14.10,2,    2.07,-999.000,9,    46.1,3,     -999.0,9,     -999.0,9,         19,     -999.0,9,     -999.0,9,     -999.0,9,     -999.0,9
33RO20180423,        I7N,      58,          1,        120,      11118,9,20180513,       1501,    -7.5307,    53.6200,       3947,   160.6,  13.2554,  35.0844,2,  35.0849,2,    110.0,2, 117.5960,2,     17.6,2,     20.6,2,     0.00,2,    1.444,2,   2.129,2,   1.206,2,   0.8582,2,  2177.0,2,  2310.8,2,   7.6829,2,    25.00,    0.38,2,   11.30,2,    1.96,-999.000,9,    49.5,3,     -999.0,9,     -999.0,9,         20,     -999.0,9,     -999.0,9,     -999.0,9,     -999.0,9
33RO20180423,        I7N,      58,          1,        121,      11119,9,20180513,       1501,    -7.5307,    53.6200,       3947,   124.4,  15.5737,  35.1011,2,  35.0999,2,     86.4,2,  91.9100,2,     18.3,2,     21.0,2,     0.02,2,    1.469,2,   1.874,2,   1.089,2,   0.8568,2,  2173.7,2,  2308.8,2,   7.6861,2,    25.00,    0.03,2,    9.98,2,    1.96,-999.000,9,    48.2,3,     -999.0,9,     -999.0,9,         21,     -999.0,9,     -999.0,9,     -999.0,9,     -999.0,9
33RO20180423,        I7N,      58,          1,        122,      11120,9,20180513,       1501,    -7.5307,    53.6200,       3947,    80.3,  21.8490,  35.1830,2,  35.1801,2,    129.5,2, 136.6550,2,      9.4,2,     10.1,2,     0.60,2,    0.847,2,   1.717,2,   1.045,2,    1.135,2,  2093.1,2,  2305.1,6,   7.8710,2,    25.00,    0.39,2,   13.40,2,    2.07,-999.000,9,    62.7,3,     -999.0,9,     -999.0,9,         22,     -999.0,9,     -999.0,9,     -999.0,9,     -999.0,9
33RO20180423,        I7N,      58,          1,        123,      11121,9,20180513,       1501,    -7.5307,    53.6200,       3947,    41.4,  27.6646,  34.9435,2,  34.9610,2,    184.9,2, 192.6660,2,      3.1,2,      0.5,2,     0.05,2,    0.197,2,   1.502,2,   0.944,2,   1.3195,2,  1986.3,6,  2288.7,2,   8.0456,2,    25.00,    0.82,2,   16.00,2,    1.97,-999.000,9,    71.6,3,     -999.0,9,     -999.0,9,         23,     -999.0,9,     -999.0,9,     -999.0,9,     -999.0,9
33RO20180423,        I7N,      58,          1,        124,      11122,9,20180513,       1501,    -7.5307,    53.6200,       3947,     4.1,  28.5591,  34.6132,2,  34.6135,2,    186.2,2, 195.6030,2,      2.3,2,      0.1,2,     0.00,2,    0.115,2,   1.432,2,   0.917,2,   1.3274,2,  1951.5,2,  2263.4,2,   8.0743,6,    25.00,    0.92,2,   21.60,2,    2.18,-999.000,9,    74.7,3,     -999.0,9,     -999.0,9,         24,     -999.0,9,     -999.0,9,     -999.0,9,     -999.0,9