BOTTLE,20230801CCHSIOCBG
EXPOCODE,SECT_ID,STNNBR,CASTNO,SAMPNO,BTLNBR,BTLNBR_FLAG_W,DATE,TIME,LATITUDE,LONGITUDE,DEPTH,CTDPRS,CTDTMP,CTDSAL,CTDSAL_FLAG_W,SALNTY,SALNTY_FLAG_W,CTDOXY,CTDOXY_FLAG_W,OXYGEN,OXYGEN_FLAG_W,SILCAT,SILCAT_FLAG_W,NITRAT,NITRAT_FLAG_W,NITRIT,NITRIT_FLAG_W,PHSPHT,PHSPHT_FLAG_W,CFC-11,CFC-11_FLAG_W,CFC-12,CFC-12_FLAG_W,SF6,SF6_FLAG_W,TCARBN,TCARBN_FLAG_W,ALKALI,ALKALI_FLAG_W,PH_SWS,PH_SWS_FLAG_W,PH_TMP,DELC13,DELC13_FLAG_W,DELC14,DELC14_FLAG_W,C14ERR,CCL4,CCL4_FLAG_W,DOC,DOC_FLAG_W,N2O,N2O_FLAG_W,CALCIUM,CALCIUM_FLAG_W,SAMPNO_U,DNSSAL,DNSSAL_FLAG_W,DNSSAL2,DNSSAL2_FLAG_W,SALNTY_DNSSAL,SALNTY_DNSSAL_FLAG_W,SALNTY_DNSSAL2,SALNTY_DNSSAL2_FLAG_W
,,,,,,,,,,,METERS,DBAR,ITS-90,PSS-78,,PSS-78,,UMOL/KG,,UMOL/KG,,UMOL/KG,,UMOL/KG,,UMOL/KG,,UMOL/KG,,PMOL/KG,,PMOL/KG,,FMOL/KG,,UMOL/KG,,UMOL/KG,,,,DEG C,/MILLE,,/MILLE,,/MILLE,PMOL/KG,,UMOL/KG,,NMOL/KG,,MMOL/KG,,,G/KG,,G/KG,,PSS-78,,PSS-78,
33RO20180423,        I7N,      45,          1,        101,      11010,2,20180510,       1324,   -11.1367,    53.6727,       4808,  4875.8,   1.1265,  34.7086,2,  34.7125,2,    173.8,2, 202.9950,2,    124.1,6,     32.6,6,     0.00,6,    2.235,6,   0.077,4,   0.051,4,   0.3502,4,  2269.5,6,  2375.8,2,   7.6015,6,    25.00, -999.00,9, -999.00,9, -999.00,-999.000,1,  -999.0,9,     -999.0,1,     -999.0,9,          1,     -999.0,9,     -999.0,9,     -999.0,9,     -999.0,9
33RO20180423,        I7N,      45,          1,        102,      11101,2,20180510,       1324,   -11.1367,    53.6727,       4808,  4605.5,   1.1228,  34.7098,2,  34.7180,6,    172.2,2, 200.6160,2,    125.1,6,     32.7,6,     0.00,6,    2.253,6,   0.063,2,   0.032,2,        0,2,  2267.6,2,  2376.2,6,   7.6009,2,    25.00, -999.00,9, -999.00,9, -999.00,-999.000,1,  -999.0,9,     -999.0,1,     -999.0,9,          2,     -999.0,9,     -999.0,9,     -999.0,9,     -999.0,9
33RO20180423,        I7N,      45,          1,        103,      11102,2,20180510,       1324,   -11.1367,    53.6727,       4808,  4400.6,   1.1346,  34.7113,2,  34.7109,2,    170.4,2, 198.3910,2,    126.1,6,     32.8,6,     0.00,6,    2.270,6,   0.057,2,   0.029,2,        0,2,  2270.1,2,  2380.0,2,   7.5991,2,    25.00, -999.00,9, -999.00,9, -999.00,-999.000,1,  -999.0,9,     -999.0,1,     -999.0,9,          3,     -999.0,9,     -999.0,9,     -999.0,9,     -999.0,9
33RO20180423,        I7N,      45,          1,        104,      11103,2,20180510,       1324,   -11.1367,    53.6727,       4808,  4100.2,   1.3556,  34.7199,2,  34.7244,2,    159.5,2, 185.9220,2,    128.2,6,     33.3,6,     0.00,6,    2.310,6,   0.028,2,   0.014,2,        0,2,  2283.3,2,  2394.0,2,   7.5960,2,    25.00, -999.00,9, -999.00,9, -999.00,-999.000,1,  -999.0,9,     -999.0,1,     -999.0,9,          4,     -999.0,9,     -999.0,9,     -999.0,9,     -999.0,9
33RO20180423,        I7N,      45,          1,        105,      11104,2,20180510,       1324,   -11.1367,    53.6727,       4808,  3800.1,   1.5171,  34.7264,2,  34.7270,2,    151.6,2, 176.6340,2,    129.5,6,     33.8,6,     0.00,6,    2.341,6,-999.000,1,-999.000,1,-999.0000,1,  2293.7,2,  2399.0,2,   7.5936,2,    25.00, -999.00,9, -999.00,9, -999.00,-999.000,1,  -999.0,9,     -999.0,1,     -999.0,9,          5,     -999.0,9,     -999.0,9,     -999.0,9,     -999.0,9
33RO20180423,        I7N,      45,          1,        106,      11105,2,20180510,       1324,   -11.1367,    53.6727,       4808,  3500.2,   1.6297,  34.7309,2,  34.7358,2,    146.5,2, 169.9500,2,    129.8,2,     34.1,2,     0.00,2,    2.366,2,   0.008,2,   0.004,2,   0.0087,2,  2296.7,2,  2401.6,2,   7.5894,2,    25.00, -999.00,9, -999.00,9, -999.00,-999.000,1,  -999.0,9,     -999.0,1,     -999.0,9,          6,     -999.0,9,     -999.0,9,     -999.0,9,     -999.0,9
33RO20180423,        I7N,      45,          1,        107,      11106,2,20180510,       1324,   -11.1367,    53.6727,       4808,  3200.3,   1.7430,  34.7353,2,  34.7385,2,    142.3,2, 164.6270,2,    128.1,2,     34.2,2,     0.00,2,    2.379,2,   0.004,2,   0.002,2,        0,2,  2300.4,2,  2403.4,2,   7.5851,2,    25.00, -999.00,9, -999.00,9, -999.00,-999.000,1,  -999.0,9,     -999.0,1,     -999.0,9,          7,     -999.0,9,     -999.0,9,     -999.0,9,     -999.0,9
33RO20180423,        I7N,      45,          1,        108,      11107,2,20180510,       1324,   -11.1367,    53.6727,       4808,  2900.6,   1.8670,  34.7394,2,  34.7494,2,    139.0,2, 160.1210,2,    127.5,2,     34.4,2,     0.00,2,    2.400,2,   0.004,2,   0.003,2,        0,2,  2301.7,2,  2404.1,2,   7.5816,2,    25.00, -999.00,9, -999.00,9, -999.00,-999.000,1,  -999.0,9,     -999.0,1,     -999.0,9,          8,     -999.0,9,     -999.0,9,     -999.0,9,     -999.0,9
33RO20180423,        I7N,      45,          1,        109,      11108,2,20180510,       1324,   -11.1367,    53.6727,       4808,  2600.1,   1.9993,  34.7417,2,  34.7435,2,    137.0,2, 157.0070,2,    124.9,2,     34.4,2,     0.00,2,    2.411,2,   0.003,2,   0.002,2,        0,2,  2302.4,2,  2401.7,2,   7.5791,2,    25.00, -999.00,9, -999.00,9, -999.00,-999.000,1,  -999.0,9,     -999.0,1,     -999.0,9,          9,     -999.0,9,     -999.0,9,     -999.0,9,     -999.0,9
33RO20180423,        I7N,      45,          1,        110,      11109,2,20180510,       1324,   -11.1367,    53.6727,       4808,  2300.5,   2.1812,  34.7410,2,  34.7429,2,    135.6,2, 154.6340,2,    119.9,2,     34.4,2,     0.00,2,    2.414,2,   0.004,6,   0.003,6,        0,6,  2297.6,2,  2398.3,6,   7.5760,2,    25.00, -999.00,9, -999.00,9, -999.00,-999.000,1,  -999.0,9,     -999.0,1,     -999.0,9,         10,     -999.0,9,     -999.0,9,     -999.0,9,     -999.0,9
33RO20180423,        I7N,      45,          1,        111,      11110,2,20180510,       1324,   -11.1367,    53.6727,       4808,  2001.1,   2.5240,  34.7355,2,  34.7366,2,    133.0,2, 150.7700,2,    111.5,2,     34.4,2,     0.00,2,    2.410,2,   0.010,2,   0.005,2,        0,2,  2292.6,2,  2388.8,2,   7.5701,6,    25.00, -999.00,9, -999.00,9, -999.00,-999.000,1,  -999.0,9,     -999.0,1,     -999.0,9,         11,     -999.0,9,     -999.0,9,     -999.0,9,     -999.0,9
33RO20180423,        I7N,      45,          1,        112,      11111,2,20180510,       1324,   -11.1367,    53.6727,       4808,  1717.3,   3.0829,  34.7353,2,  34.7445,2,    123.2,2, 138.5520,2,    104.7,2,     34.7,2,     0.00,2,    2.451,2,   0.018,2,   0.010,2,        0,2,  2288.7,6,  2380.7,2,   7.5552,2,    25.00, -999.00,9, -999.00,9, -999.00,-999.000,1,  -999.0,9,     -999.0,1,     -999.0,9,         12,     -999.0,9,     -999.0,9,     -999.0,9,     -999.0,9
33RO20180423,        I7N,      45,          1,        113,      11112,2,20180510,       1324,   -11.1367,    53.6727,       4808,  1467.2,   3.9848,  34.7506,2,  34.7581,2,    105.7,2, 118.3950,2,     97.1,2,     35.4,2,     0.00,2,    2.527,2,   0.039,2,   0.020,2,   0.0072,2,  2290.3,2,  2373.2,2,   7.5344,2,    25.00, -999.00,9, -999.00,9, -999.00,-999.000,1,  -999.0,9,     -999.0,1,     -999.0,9,         13,     -999.0,9,     -999.0,9,     -999.0,9,     -999.0,9
33RO20180423,        I7N,      45,          1,        114,      11113,2,20180510,       1324,   -11.1367,    53.6727,       4808,  1217.8,   4.9603,  34.7739,2,  34.7785,2,     91.5,2, 102.7990,2,     88.2,2,     35.5,2,     0.00,2,    2.562,2,   0.099,2,   0.053,2,        0,2,  2287.6,2,  2365.0,2,   7.5208,2,    25.00, -999.00,9, -999.00,9, -999.00,-999.000,1,  -999.0,9,     -999.0,1,     -999.0,9,         14,     -999.0,9,     -999.0,9,     -999.0,9,     -999.0,9
33RO20180423,        I7N,      45,          1,        115,      11114,2,20180510,       1324,   -11.1367,    53.6727,       4808,   967.4,   6.0926,  34.7906,2,  34.7977,2,     83.8,2,  92.7800,2,     75.0,2,     35.0,2,     0.00,2,    2.506,2,   0.255,2,   0.135,2,   0.0006,2,  2276.2,2,  2351.7,2,   7.5201,2,    25.00, -999.00,9, -999.00,9, -999.00,-999.000,1,  -999.0,9,     -999.0,1,     -999.0,9,         15,     -999.0,9,     -999.0,9,     -999.0,9,     -999.0,9
33RO20180423,        I7N,      45,          1,        116,      11115,2,20180510,       1324,   -11.1367,    53.6727,       4808,   742.6,   7.4619,  34.7938,2,  34.7999,2,     90.5,2,  99.7680,2,     55.1,2,     32.6,2,     0.00,2,    2.334,2,   0.697,2,   0.370,2,   0.1635,2,  2248.8,2,  2334.2,2,   7.5459,2,    25.00, -999.00,9, -999.00,9, -999.00,-999.000,1,  -999.0,9,     -999.0,1,     -999.0,9,         16,     -999.0,9,     -999.0,9,     -999.0,9,     -999.0,9
33RO20180423,        I7N,      45,          1,        117,      11116,2,20180510,       1324,   -11.1367,    53.6727,       4808,   568.0,   8.4074,  34.7469,2,  34.7612,2,    123.8,2, 134.3550,2,     34.6,2,     27.9,2,     0.00,2,    1.968,2,   1.558,2,   0.823,2,   0.3909,2,  2207.8,2,  2314.3,2,   7.6100,2,    25.00, -999.00,9, -999.00,9, -999.00,-999.000,1,  -999.0,9,     -999.0,1,     -999.0,9,         17,     -999.0,9,     -999.0,9,     -999.0,9,     -999.0,9
33RO20180423,        I7N,      45,          1,        118,      11117,2,20180510,       1324,   -11.1367,    53.6727,       4808,   400.5,   9.7507,  34.8158,2,  34.8184,2,    143.8,2, 154.6450,2,     21.4,2,     23.3,2,     0.00,2,    1.629,2,   2.259,6,   1.221,6,   0.7116,6,  2182.9,2,  2307.8,2,   7.6613,2,    25.00, -999.00,9, -999.00,9, -999.00,-999.000,1,  -999.0,9,     -999.0,1,     -999.0,9,         18,     -999.0,9,     -999.0,9,     -999.0,9,     -999.0,9
33RO20180423,        I7N,      45,          1,        119,      11083,2,20180510,       1324,   -11.1367,    53.6727,       4808,   267.7,  11.4054,  34.9775,2,  34.9806,2,    164.6,2, 176.2130,2,     12.9,2,     17.3,2,     0.00,2,    1.246,2,   2.624,3,   1.485,3,   1.1265,3,  2155.5,2,  2310.6,2,   7.7321,2,    25.00, -999.00,9, -999.00,9, -999.00,-999.000,1,  -999.0,9,     -999.0,1,     -999.0,9,         19,     -999.0,9,     -999.0,9,     -999.0,9,     -999.0,9
33RO20180423,        I7N,      45,          1,        120,      11118,2,20180510,       1324,   -11.1367,    53.6727,       4808,   184.3,  14.5876,  35.3342,2,  35.3379,2,    171.7,2, 183.2340,2,      7.6,2,     10.0,2,     0.01,2,    0.801,2,   2.483,3,   1.471,3,   1.3833,3,  2133.8,2,  2326.1,2,   7.8224,3,    25.00, -999.00,9, -999.00,9, -999.00,-999.000,1,  -999.0,9,     -999.0,1,     -999.0,9,         20,     -999.0,9,     -999.0,9,     -999.0,9,     -999.0,9
33RO20180423,        I7N,      45,          1,        121,      11119,2,20180510,       1324,   -11.1367,    53.6727,       4808,   134.3,  17.5650,  35.3671,2,  35.3726,2,    135.4,2, 145.3870,2,     10.6,2,     11.0,2,     0.02,2,    0.846,2,   2.013,2,   1.216,2,   1.1966,2,  2125.1,2,  -999.0,9,   7.8311,2,    25.00, -999.00,9, -999.00,9, -999.00,-999.000,1,  -999.0,9,     -999.0,1,     -999.0,9,         21,     -999.0,9,     -999.0,9,     -999.0,9,     -999.0,9
33RO20180423,        I7N,      45,          1,        122,      11120,2,20180510,       1324,   -11.1367,    53.6727,       4808,    83.0,  21.2654,  35.2260,2,  35.2299,6,    139.9,2, 149.1690,2,      7.4,2,      7.5,2,     0.35,2,    0.637,2,   1.783,2,   1.113,2,   1.2636,2,  2080.8,2,  2311.5,6,   7.9008,2,    25.00, -999.00,9, -999.00,9, -999.00,-999.000,1,  -999.0,9,     -999.0,1,     -999.0,9,         22,     -999.0,9,     -999.0,9,     -999.0,9,     -999.0,9
33RO20180423,        I7N,      45,          1,        123,      11121,2,20180510,       1324,   -11.1367,    53.6727,       4808,    35.5,  27.8884,  34.8339,2,  34.8428,2,    188.2,2, 198.8240,2,      1.9,2,      0.0,2,     0.00,2,    0.126,2,   1.465,2,   0.942,2,   1.4204,2,  1964.3,6,  2281.9,2,   8.0692,2,    25.00, -999.00,9, -999.00,9, -999.00,-999.000,1,  -999.0,9,     -999.0,1,     -999.0,9,         23,     -999.0,9,     -999.0,9,     -999.0,9,     -999.0,9
33RO20180423,        I7N,      45,          1,        124,      11122,2,20180510,       1324,   -11.1367,    53.6727,       4808,     3.2,  28.0237,  34.8322,2,  34.8350,2,    188.3,2, 197.7560,2,      1.9,2,      0.0,2,     0.00,2,    0.116,2,   1.468,2,   0.932,2,   1.3785,2,  1962.7,2,  2282.0,2,   8.0727,6,    25.00, -999.00,9, -999.00,9, -999.00,-999.000,1,  -999.0,9,     -999.0,1,     -999.0,9,         24,     -999.0,9,     -999.0,9,     -999.0,9,     -999.0,9