BOTTLE,20230801CCHSIOCBG
EXPOCODE,SECT_ID,STNNBR,CASTNO,SAMPNO,BTLNBR,BTLNBR_FLAG_W,DATE,TIME,LATITUDE,LONGITUDE,DEPTH,CTDPRS,CTDTMP,CTDSAL,CTDSAL_FLAG_W,SALNTY,SALNTY_FLAG_W,CTDOXY,CTDOXY_FLAG_W,OXYGEN,OXYGEN_FLAG_W,SILCAT,SILCAT_FLAG_W,NITRAT,NITRAT_FLAG_W,NITRIT,NITRIT_FLAG_W,PHSPHT,PHSPHT_FLAG_W,CFC-11,CFC-11_FLAG_W,CFC-12,CFC-12_FLAG_W,SF6,SF6_FLAG_W,TCARBN,TCARBN_FLAG_W,ALKALI,ALKALI_FLAG_W,PH_SWS,PH_SWS_FLAG_W,PH_TMP,DELC13,DELC13_FLAG_W,DELC14,DELC14_FLAG_W,C14ERR,CCL4,CCL4_FLAG_W,DOC,DOC_FLAG_W,N2O,N2O_FLAG_W,CALCIUM,CALCIUM_FLAG_W,SAMPNO_U,DNSSAL,DNSSAL_FLAG_W,DNSSAL2,DNSSAL2_FLAG_W,SALNTY_DNSSAL,SALNTY_DNSSAL_FLAG_W,SALNTY_DNSSAL2,SALNTY_DNSSAL2_FLAG_W
,,,,,,,,,,,METERS,DBAR,ITS-90,PSS-78,,PSS-78,,UMOL/KG,,UMOL/KG,,UMOL/KG,,UMOL/KG,,UMOL/KG,,UMOL/KG,,PMOL/KG,,PMOL/KG,,FMOL/KG,,UMOL/KG,,UMOL/KG,,,,DEG C,/MILLE,,/MILLE,,/MILLE,PMOL/KG,,UMOL/KG,,NMOL/KG,,MMOL/KG,,,G/KG,,G/KG,,PSS-78,,PSS-78,
33RO20180423,        I7N,      15,          1,        101,      11010,2,20180501,       1650,   -24.9960,    54.4993,       4680,  4792.6,   1.0052,  34.7046,2,  34.7055,2,    178.8,2, 207.0440,2,    125.1,6,     32.0,6,     0.00,6,    2.198,6,   0.103,2,   0.052,2,        0,2,  2264.5,6,  2366.0,2,   7.6386,4,    25.00, -999.00,9, -999.00,9, -999.00,-999.000,1,  -999.0,9,     -999.0,1,    10.3551,2,          1,     -999.0,9,     -999.0,9,     -999.0,9,     -999.0,9
33RO20180423,        I7N,      15,          1,        102,      11101,2,20180501,       1650,   -24.9960,    54.4993,       4680,  4264.4,   1.1301,  34.7116,2,  34.7129,2,    172.7,2, 199.9710,2,    124.8,6,     32.4,6,     0.00,6,    2.226,6,   0.061,2,   0.032,2,        0,2,  2269.8,2,  2372.0,2,   7.5990,2,    25.00, -999.00,9, -999.00,9, -999.00,-999.000,1,  -999.0,9,     -999.0,1,    10.3256,2,          2,     -999.0,9,     -999.0,9,     -999.0,9,     -999.0,9
33RO20180423,        I7N,      15,          1,        103,      11102,2,20180501,       1650,   -24.9960,    54.4993,       4680,  3825.0,   1.4016,  34.7216,2,  34.7229,6,    161.0,2, 186.6450,2,    125.8,6,     33.0,6,     0.00,6,    2.283,6,   0.020,6,   0.011,6,        0,6,  2280.1,2,  2390.3,2,   7.5958,2,    25.00, -999.00,9, -999.00,9, -999.00,-999.000,1,    41.6,3,     -999.0,1,    10.3201,6,          3,     -999.0,9,     -999.0,9,     -999.0,9,     -999.0,9
33RO20180423,        I7N,      15,          1,        104,      11103,2,20180501,       1650,   -24.9960,    54.4993,       4680,  3526.3,   1.5552,  34.7274,2,  34.7282,2,    154.2,2, 178.0690,2,    126.5,6,     33.4,6,     0.00,6,    2.308,6,   0.010,2,   0.006,2,        0,2,  2287.6,2,  2392.9,2,   7.5929,6,    25.00, -999.00,9, -999.00,9, -999.00,-999.000,1,  -999.0,9,     -999.0,1,    10.3433,2,          4,     -999.0,9,     -999.0,9,     -999.0,9,     -999.0,9
33RO20180423,        I7N,      15,          1,        105,      11104,2,20180501,       1650,   -24.9960,    54.4993,       4680,  3225.0,   1.7748,  34.7343,2,  34.7349,2,    146.4,2, 169.0590,2,    126.3,2,     33.7,2,     0.00,2,    2.340,2,   0.004,2,   0.004,2,        0,2,  2294.6,2,  2396.7,6,   7.5880,2,    25.00, -999.00,9, -999.00,9, -999.00,-999.000,1,  -999.0,9,     -999.0,1,    10.3307,2,          5,     -999.0,9,     -999.0,9,     -999.0,9,     -999.0,9
33RO20180423,        I7N,      15,          1,        106,      11105,2,20180501,       1650,   -24.9960,    54.4993,       4680,  2924.5,   1.9364,  34.7384,2,  34.7412,2,    142.4,2, 163.4095,2,    124.3,2,     33.9,2,     0.00,2,    2.361,2,   0.213,4,   0.467,4,   8.5667,4,  2297.6,2,  2393.7,2,   7.5841,2,    25.00, -999.00,9, -999.00,9, -999.00,-999.000,1,  -999.0,9,     -999.0,1,    10.3582,2,          6,     -999.0,9,     -999.0,9,     -999.0,9,     -999.0,9
33RO20180423,        I7N,      15,          1,        107,      11106,2,20180501,       1650,   -24.9960,    54.4993,       4680,  2625.5,   2.0876,  34.7387,2,  34.7414,2,    142.2,2, 162.3570,2,    118.5,2,     33.7,2,     0.00,2,    2.348,2,   0.006,2,   0.004,2,        0,2,  2291.6,2,  2388.6,2,   7.5820,2,    25.00, -999.00,9, -999.00,9, -999.00,-999.000,1,  -999.0,9,     -999.0,1,    10.3388,2,          7,     -999.0,9,     -999.0,9,     -999.0,9,     -999.0,9
33RO20180423,        I7N,      15,          1,        108,      11107,2,20180501,       1650,   -24.9960,    54.4993,       4680,  2327.3,   2.2650,  34.7327,2,  34.7719,2,    145.5,2, 165.1870,2,    109.3,2,     33.1,2,     0.00,2,    2.300,2,   0.014,2,   0.006,2,        0,2,  2282.4,2,  2381.7,2,   7.5831,2,    25.00, -999.00,9, -999.00,9, -999.00,-999.000,1,    41.7,3,     -999.0,1,    10.3255,2,          8,     -999.0,9,     -999.0,9,     -999.0,9,     -999.0,9
33RO20180423,        I7N,      15,          1,        109,      11108,2,20180501,       1650,   -24.9960,    54.4993,       4680,  2025.3,   2.4268,  34.7178,2,  34.7206,2,    148.0,2, 167.0410,2,    100.8,2,     32.8,2,     0.00,2,    2.281,2,   0.028,2,   0.014,2,        0,2,  2274.6,2,  2375.0,2,   7.5831,2,    25.00, -999.00,9, -999.00,9, -999.00,-999.000,1,  -999.0,9,     -999.0,1,    10.3161,2,          9,     -999.0,9,     -999.0,9,     -999.0,9,     -999.0,9
33RO20180423,        I7N,      15,          1,        110,      11109,2,20180501,       1650,   -24.9960,    54.4993,       4680,  1739.2,   2.7144,  34.6724,2,  34.6752,2,    149.1,2, 166.7790,2,     88.5,2,     32.9,2,     0.00,2,    2.282,2,   0.063,2,   0.032,2,        0,2,  2261.5,2,  2357.8,2,   7.5758,2,    25.00, -999.00,9, -999.00,9, -999.00,-999.000,1,  -999.0,9,     -999.0,1,    10.2869,2,         10,     -999.0,9,     -999.0,9,     -999.0,9,     -999.0,9
33RO20180423,        I7N,      15,          1,        111,      11110,2,20180501,       1650,   -24.9960,    54.4993,       4680,  1489.1,   3.1839,  34.6004,2,  34.6026,2,    142.5,2, 159.2720,2,     79.0,2,     33.8,2,     0.00,2,    2.345,2,   0.151,2,   0.074,2,        0,2,  2257.5,2,  2347.1,2,   7.5591,2,    25.00, -999.00,9, -999.00,9, -999.00,-999.000,1,  -999.0,9,     -999.0,1,    10.2592,2,         11,     -999.0,9,     -999.0,9,     -999.0,9,     -999.0,9
33RO20180423,        I7N,      15,          1,        112,      11111,2,20180501,       1650,   -24.9960,    54.4993,       4680,  1249.5,   4.1379,  34.5220,2,  34.5256,2,    139.5,2, 154.1260,2,     65.5,2,     33.8,2,     0.00,2,    2.344,2,   0.426,2,   0.213,2,   0.0461,2,  2242.8,6,  2334.1,2,   7.5596,2,    25.00, -999.00,9, -999.00,9, -999.00,-999.000,1,    45.8,3,     -999.0,1,    10.2706,3,         12,     -999.0,9,     -999.0,9,     -999.0,9,     -999.0,9
33RO20180423,        I7N,      15,          1,        113,      11112,2,20180501,       1650,   -24.9960,    54.4993,       4680,  1050.4,   5.3018,  34.4849,2,  34.4887,2,    150.8,2, 165.4100,2,     46.7,2,     31.3,2,     0.00,2,    2.174,2,   1.042,2,   0.525,2,   0.1947,2,  2217.4,2,  2313.0,6,   7.5893,2,    25.00, -999.00,9, -999.00,9, -999.00,-999.000,1,    45.0,3,     -999.0,1,    10.2070,2,         13,     -999.0,9,     -999.0,9,     -999.0,9,     -999.0,9
33RO20180423,        I7N,      15,          1,        114,      11113,2,20180501,       1650,   -24.9960,    54.4993,       4680,   862.9,   7.6722,  34.5502,2,  34.5545,2,    185.7,2,-999.0000,9,     16.5,2,     23.3,2,     0.00,2,    1.621,2,   2.665,2,   1.394,2,   0.7342,2,  2163.2,2,  2293.7,2,   7.6817,6,    25.00, -999.00,9, -999.00,9, -999.00,-999.000,1,    49.8,3,     -999.0,1,    10.2162,2,         14,     -999.0,9,     -999.0,9,     -999.0,9,     -999.0,9
33RO20180423,        I7N,      15,          1,        115,      11114,2,20180501,       1650,   -24.9960,    54.4993,       4680,   714.8,   9.5031,  34.7151,2,  34.7192,2,    207.7,2, 224.7195,2,      6.2,2,     16.5,2,     0.00,2,    1.208,2,   3.388,2,   1.871,2,   1.3433,2,  2136.8,2,  2294.1,2,   7.7489,2,    25.00, -999.00,9, -999.00,9, -999.00,-999.000,1,    46.3,3,     -999.0,1,    10.2535,2,         15,     -999.0,9,     -999.0,9,     -999.0,9,     -999.0,9
33RO20180423,        I7N,      15,          1,        116,      11115,2,20180501,       1650,   -24.9960,    54.4993,       4680,   564.7,  11.2982,  34.9664,2,  34.9663,2,    214.1,2, 230.7660,2,      3.7,2,     11.6,2,     0.00,2,    0.919,2,   3.229,2,   1.861,2,   1.6545,2,  2126.4,2,  2306.7,2,   7.7986,2,    25.00, -999.00,9, -999.00,9, -999.00,-999.000,1,    50.1,3,     -999.0,1,    10.3303,2,         16,     -999.0,9,     -999.0,9,     -999.0,9,     -999.0,9
33RO20180423,        I7N,      15,          1,        117,      11116,2,20180501,       1650,   -24.9960,    54.4993,       4680,   425.8,  13.0325,  35.2219,2,  35.2243,2,    206.5,2, 221.8100,2,      3.2,2,      8.2,2,     0.00,2,    0.709,2,   2.927,2,   1.728,2,   1.6659,2,  2119.6,2,  2315.2,2,   7.8315,2,    25.00, -999.00,9, -999.00,9, -999.00,-999.000,1,  -999.0,9,     -999.0,1,    10.3915,2,         17,     -999.0,9,     -999.0,9,     -999.0,9,     -999.0,9
33RO20180423,        I7N,      15,          1,        118,      11117,2,20180501,       1650,   -24.9960,    54.4993,       4680,   331.2,  14.7222,  35.4181,2,  35.4119,2,    195.8,2, 210.2530,2,      3.2,2,      6.0,2,     0.00,2,    0.574,2,   2.680,2,   1.600,2,   1.6119,2,  2114.6,2,  2325.6,2,   7.8570,2,    25.00, -999.00,9, -999.00,9, -999.00,-999.000,1,    51.0,3,     -999.0,1,    10.5015,2,         18,     -999.0,9,     -999.0,9,     -999.0,9,     -999.0,9
33RO20180423,        I7N,      15,          1,        119,      11083,2,20180501,       1650,   -24.9960,    54.4993,       4680,   255.7,  16.9656,  35.5767,2,  35.5971,2,    184.9,2, 198.2370,2,      3.3,2,      3.8,2,     0.01,2,    0.445,2,   2.341,2,   1.435,2,   1.6712,2,  2102.5,2,  2332.8,2,   7.8946,2,    25.00, -999.00,9, -999.00,9, -999.00,-999.000,1,    53.6,3,     -999.0,1,    10.5417,2,         19,     -999.0,9,     -999.0,9,     -999.0,9,     -999.0,9
33RO20180423,        I7N,      15,          1,        120,      11118,2,20180501,       1650,   -24.9960,    54.4993,       4680,   189.1,  19.6213,  35.5433,2,  35.5496,2,    174.2,2, 186.5540,2,      3.7,2,      3.0,2,     0.02,2,    0.358,2,   2.045,2,   1.275,2,    1.539,2,  2081.8,2,  2330.3,2,   7.9304,2,    25.00, -999.00,9, -999.00,9, -999.00,-999.000,1,    53.4,3,     -999.0,1,    10.5251,2,         20,     -999.0,9,     -999.0,9,     -999.0,9,     -999.0,9
33RO20180423,        I7N,      15,          1,        121,      11119,2,20180501,       1650,   -24.9960,    54.4993,       4680,   138.9,  21.5841,  35.3337,2,  35.3374,2,    160.6,2, 171.9900,2,      4.5,2,      3.7,2,     0.05,2,    0.405,2,   1.824,2,   1.157,2,    1.435,2,  2059.7,2,  2316.8,2,   7.9493,6,    25.00, -999.00,9, -999.00,9, -999.00,-999.000,1,    57.0,3,     -999.0,1,    10.4579,2,         21,     -999.0,9,     -999.0,9,     -999.0,9,     -999.0,9
33RO20180423,        I7N,      15,          1,        122,      11120,2,20180501,       1650,   -24.9960,    54.4993,       4680,    88.9,  25.6821,  35.2132,2,  35.2248,2,    194.0,2, 205.6300,2,      1.6,2,      0.0,2,     0.00,2,    0.065,2,   1.599,6,   1.018,6,   1.4996,6,  1991.3,2,  2307.2,6,   8.0552,2,    25.00, -999.00,9, -999.00,9, -999.00,-999.000,1,  -999.0,9,     -999.0,1,    10.4151,2,         22,     -999.0,9,     -999.0,9,     -999.0,9,     -999.0,9
33RO20180423,        I7N,      15,          1,        123,      11121,2,20180501,       1650,   -24.9960,    54.4993,       4680,    40.0,  26.5433,  35.0298,2,  35.0324,2,    191.8,2, 202.7500,2,      1.6,2,      0.0,2,     0.00,2,    0.113,2,   1.512,2,   0.967,2,   1.4312,2,  1975.0,2,  2294.1,2,   8.0676,2,    25.00, -999.00,9, -999.00,9, -999.00,-999.000,1,    69.3,3,     -999.0,1,    10.3486,2,         23,     -999.0,9,     -999.0,9,     -999.0,9,     -999.0,9
33RO20180423,        I7N,      15,          1,        124,      11122,2,20180501,       1650,   -24.9960,    54.4993,       4680,     3.9,  26.5416,  35.0305,2,  35.0318,2,    192.0,2, 202.9160,2,      1.6,2,      0.0,2,     0.00,2,    0.118,2,   1.521,2,   0.970,2,   1.4286,2,  1976.1,6,  2291.9,2,   8.0675,2,    25.00, -999.00,9, -999.00,9, -999.00,-999.000,1,    69.6,3,     -999.0,1,    10.3580,2,         24,     -999.0,9,     -999.0,9,     -999.0,9,     -999.0,9