BOTTLE,20230801CCHSIOCBG
EXPOCODE,SECT_ID,STNNBR,CASTNO,SAMPNO,BTLNBR,BTLNBR_FLAG_W,DATE,TIME,LATITUDE,LONGITUDE,DEPTH,CTDPRS,CTDTMP,CTDSAL,CTDSAL_FLAG_W,SALNTY,SALNTY_FLAG_W,CTDOXY,CTDOXY_FLAG_W,OXYGEN,OXYGEN_FLAG_W,SILCAT,SILCAT_FLAG_W,NITRAT,NITRAT_FLAG_W,NITRIT,NITRIT_FLAG_W,PHSPHT,PHSPHT_FLAG_W,CFC-11,CFC-11_FLAG_W,CFC-12,CFC-12_FLAG_W,SF6,SF6_FLAG_W,TCARBN,TCARBN_FLAG_W,ALKALI,ALKALI_FLAG_W,PH_SWS,PH_SWS_FLAG_W,PH_TMP,DELC13,DELC13_FLAG_W,DELC14,DELC14_FLAG_W,C14ERR,CCL4,CCL4_FLAG_W,DOC,DOC_FLAG_W,N2O,N2O_FLAG_W,CALCIUM,CALCIUM_FLAG_W,SAMPNO_U,DNSSAL,DNSSAL_FLAG_W,DNSSAL2,DNSSAL2_FLAG_W,SALNTY_DNSSAL,SALNTY_DNSSAL_FLAG_W,SALNTY_DNSSAL2,SALNTY_DNSSAL2_FLAG_W
,,,,,,,,,,,METERS,DBAR,ITS-90,PSS-78,,PSS-78,,UMOL/KG,,UMOL/KG,,UMOL/KG,,UMOL/KG,,UMOL/KG,,UMOL/KG,,PMOL/KG,,PMOL/KG,,FMOL/KG,,UMOL/KG,,UMOL/KG,,,,DEG C,/MILLE,,/MILLE,,/MILLE,PMOL/KG,,UMOL/KG,,NMOL/KG,,MMOL/KG,,,G/KG,,G/KG,,PSS-78,,PSS-78,
33RO20180423,        I7N,      52,          1,        101,      11010,2,20180512,       0753,    -8.7345,    52.1440,       4124,  4168.6,   1.0938,  34.7105,2,  34.7093,2,    174.5,2, 230.4760,4,    123.5,6,     32.7,6,     0.00,6,    2.245,6,   0.068,2,   0.034,2,   0.0039,2,  2275.0,2,  2379.1,2,   7.5990,6,    25.00, -999.00,9, -999.00,9, -999.00,-999.000,1,    40.2,3,     -999.0,1,     -999.0,9,          1,     -999.0,9,     -999.0,9,     -999.0,9,     -999.0,9
33RO20180423,        I7N,      52,          1,        102,      11101,2,20180512,       0753,    -8.7345,    52.1440,       4124,  3862.9,   1.4142,  34.7226,2,  34.7367,2,    158.3,2, 181.9300,2,    127.5,6,     33.6,6,     0.00,6,    2.314,6,   0.026,2,   0.013,2,        0,2,  2288.9,2,  2396.0,6,   7.5953,2,    25.00, -999.00,9, -999.00,9, -999.00,-999.000,1,  -999.0,9,     -999.0,1,     -999.0,9,          2,     -999.0,9,     -999.0,9,     -999.0,9,     -999.0,9
33RO20180423,        I7N,      52,          1,        103,      11102,2,20180512,       0753,    -8.7345,    52.1440,       4124,  3600.9,   1.5097,  34.7268,2,  34.7286,2,    152.7,2, 174.9970,2,    128.5,6,     34.0,6,     0.00,6,    2.347,6,   0.015,2,   0.008,2,        0,2,  -999.0,9,  -999.0,9,-999.0000,9,  -999.00, -999.00,9, -999.00,9, -999.00,-999.000,1,    39.0,3,     -999.0,1,     -999.0,9,          3,     -999.0,9,     -999.0,9,     -999.0,9,     -999.0,9
33RO20180423,        I7N,      52,          1,        104,      11103,2,20180512,       0753,    -8.7345,    52.1440,       4124,  3299.3,   1.6734,  34.7333,2,  34.7355,6,    145.2,2, 166.3520,2,    129.0,6,     34.3,6,     0.00,6,    2.368,6,-999.000,9,-999.000,9,-999.0000,9,  -999.0,9,  -999.0,9,-999.0000,9,  -999.00, -999.00,9, -999.00,9, -999.00,-999.000,9,  -999.0,9,     -999.0,9,     -999.0,9,          4,     -999.0,9,     -999.0,9,     -999.0,9,     -999.0,9
33RO20180423,        I7N,      52,          1,        105,      11104,2,20180512,       0753,    -8.7345,    52.1440,       4124,  3000.0,   1.7877,  34.7378,2,  34.7436,2,    141.3,2, 161.1410,2,    128.0,6,     34.5,6,     0.00,6,    2.397,6,   0.005,2,   0.004,2,        0,2,  2304.0,2,  2408.3,2,   7.5829,2,    25.00, -999.00,9, -999.00,9, -999.00,-999.000,1,    42.1,3,     -999.0,1,     -999.0,9,          5,     -999.0,9,     -999.0,9,     -999.0,9,     -999.0,9
33RO20180423,        I7N,      52,          1,        106,      11105,2,20180512,       0753,    -8.7345,    52.1440,       4124,  2700.6,   1.9508,  34.7430,2,  34.7438,2,    137.5,2, 156.5090,2,    126.0,2,     34.6,2,     0.00,2,    2.406,2,-999.000,9,-999.000,9,-999.0000,9,  2306.4,6,  2404.7,2,   7.5776,2,    25.00, -999.00,9, -999.00,9, -999.00,-999.000,9,  -999.0,9,     -999.0,9,     -999.0,9,          6,     -999.0,9,     -999.0,9,     -999.0,9,     -999.0,9
33RO20180423,        I7N,      52,          1,        107,      11106,2,20180512,       0753,    -8.7345,    52.1440,       4124,  2400.3,   2.1555,  34.7434,2,  34.7458,2,    135.5,2, 153.5000,2,    121.1,2,     34.5,2,     0.00,2,    2.403,2,-999.000,9,-999.000,9,-999.0000,9,  2302.8,2,  2398.9,2,   7.5763,2,    25.00, -999.00,9, -999.00,9, -999.00,-999.000,9,    42.7,3,     -999.0,9,     -999.0,9,          7,     -999.0,9,     -999.0,9,     -999.0,9,     -999.0,9
33RO20180423,        I7N,      52,          1,        108,      11107,2,20180512,       0753,    -8.7345,    52.1440,       4124,  2100.4,   2.4670,  34.7418,2,  34.7464,2,    132.1,2, 149.5610,2,    114.4,2,     34.6,2,     0.00,2,    2.422,2,   0.010,6,   0.005,6,        0,6,  -999.0,9,  -999.0,9,-999.0000,9,  -999.00, -999.00,9, -999.00,9, -999.00,-999.000,1,    40.0,3,     -999.0,1,     -999.0,9,          8,     -999.0,9,     -999.0,9,     -999.0,9,     -999.0,9
33RO20180423,        I7N,      52,          1,        109,      11108,2,20180512,       0753,    -8.7345,    52.1440,       4124,  1800.3,   3.0440,  34.7395,2,  34.7442,2,    124.0,2, 139.2130,2,    105.1,2,     34.7,2,     0.00,2,    2.445,2,-999.000,9,-999.000,9,-999.0000,9,  -999.0,9,  -999.0,9,-999.0000,9,  -999.00, -999.00,9, -999.00,9, -999.00,-999.000,9,    43.2,3,     -999.0,9,     -999.0,9,          9,     -999.0,9,     -999.0,9,     -999.0,9,     -999.0,9
33RO20180423,        I7N,      52,          1,        110,      11109,2,20180512,       0753,    -8.7345,    52.1440,       4124,  1550.3,   3.8874,  34.7624,2,  34.7651,2,    104.3,2, 116.4760,2,     99.9,2,     35.5,2,     0.00,2,    2.526,2,   0.030,2,   0.016,2,        0,2,  2294.8,2,  2378.7,2,   7.5340,2,    25.00, -999.00,9, -999.00,9, -999.00,-999.000,1,    43.6,3,     -999.0,1,     -999.0,9,         10,     -999.0,9,     -999.0,9,     -999.0,9,     -999.0,9
33RO20180423,        I7N,      52,          1,        111,      11110,2,20180512,       0753,    -8.7345,    52.1440,       4124,  1300.6,   4.7901,  34.7746,2,  34.7775,2,     85.9,2,  96.1810,2,     93.7,2,     36.3,2,     0.00,2,    2.595,2,-999.000,9,-999.000,9,-999.0000,9,  -999.0,9,  -999.0,9,   7.5133,2,    25.00, -999.00,9, -999.00,9, -999.00,-999.000,9,  -999.0,9,     -999.0,9,     -999.0,9,         11,     -999.0,9,     -999.0,9,     -999.0,9,     -999.0,9
33RO20180423,        I7N,      52,          1,        112,      11111,2,20180512,       0753,    -8.7345,    52.1440,       4124,  1099.6,   5.4768,  34.7887,2,  34.8007,2,     81.8,2,  90.5610,2,     84.5,2,     36.0,2,     0.00,2,    2.577,2,   0.117,2,   0.062,2,   0.0047,2,  -999.0,9,  -999.0,9,-999.0000,9,  -999.00, -999.00,9, -999.00,9, -999.00,-999.000,1,  -999.0,9,     -999.0,1,     -999.0,9,         12,     -999.0,9,     -999.0,9,     -999.0,9,     -999.0,9
33RO20180423,        I7N,      52,          1,        113,      11112,2,20180512,       0753,    -8.7345,    52.1440,       4124,   900.2,   6.3645,  34.7836,2,  34.7911,2,     86.0,2,  96.5070,2,     69.5,2,     34.6,2,     0.00,2,    2.462,2,-999.000,9,-999.000,9,-999.0000,9,  2268.4,2,  2347.8,2,   7.5256,2,    25.00, -999.00,9, -999.00,9, -999.00,-999.000,9,  -999.0,9,     -999.0,9,     -999.0,9,         13,     -999.0,9,     -999.0,9,     -999.0,9,     -999.0,9
33RO20180423,        I7N,      52,          1,        114,      11113,2,20180512,       0753,    -8.7345,    52.1440,       4124,   750.3,   7.0892,  34.7715,2,  34.7802,2,     92.7,2, 102.6400,2,     58.1,2,     33.0,2,     0.00,2,    2.338,2,   0.624,2,   0.329,2,   0.1537,2,  -999.0,9,  -999.0,9,   7.5436,2,    25.00, -999.00,9, -999.00,9, -999.00,-999.000,1,    45.6,3,     -999.0,1,     -999.0,9,         14,     -999.0,9,     -999.0,9,     -999.0,9,     -999.0,9
33RO20180423,        I7N,      52,          1,        115,      11114,2,20180512,       0753,    -8.7345,    52.1440,       4124,   646.6,   7.9310,  34.8044,2,  34.8093,2,     90.6,2,  99.0360,2,     49.3,2,     31.9,2,     0.00,2,    2.261,2,-999.000,9,-999.000,9,-999.0000,9,  -999.0,9,  -999.0,9,-999.0000,9,  -999.00, -999.00,9, -999.00,9, -999.00,-999.000,9,  -999.0,9,     -999.0,9,     -999.0,9,         15,     -999.0,9,     -999.0,9,     -999.0,9,     -999.0,9
33RO20180423,        I7N,      52,          1,        116,      11115,2,20180512,       0753,    -8.7345,    52.1440,       4124,   450.3,   9.4810,  34.8173,2,  34.8289,2,    111.0,2, 118.9240,2,     29.6,2,     27.4,2,     0.00,2,    1.879,2,   1.668,2,   0.879,2,   0.4227,2,  2208.8,2,  2311.8,2,   7.6036,2,    25.00, -999.00,9, -999.00,9, -999.00,-999.000,1,  -999.0,9,     -999.0,1,     -999.0,9,         16,     -999.0,9,     -999.0,9,     -999.0,9,     -999.0,9
33RO20180423,        I7N,      52,          1,        117,      11116,2,20180512,       0753,    -8.7345,    52.1440,       4124,   349.8,  10.4202,  34.8736,2,  34.8779,2,    117.1,2, 126.3130,2,     23.0,2,     24.8,2,     0.00,2,    1.697,2,   2.027,2,   1.090,2,   0.6241,2,  -999.0,9,  -999.0,9,-999.0000,9,  -999.00, -999.00,9, -999.00,9, -999.00,-999.000,1,    47.5,3,     -999.0,1,     -999.0,9,         17,     -999.0,9,     -999.0,9,     -999.0,9,     -999.0,9
33RO20180423,        I7N,      52,          1,        118,      11117,2,20180512,       0753,    -8.7345,    52.1440,       4124,   274.9,  12.1375,  35.0045,2,  35.0066,6,    106.0,2, 115.1350,2,     20.0,2,     22.8,2,     0.01,2,    1.577,2,   2.080,2,   1.150,2,   0.7744,2,  -999.0,9,  -999.0,9,-999.0000,9,  -999.00, -999.00,9, -999.00,9, -999.00,-999.000,1,    47.5,3,     -999.0,1,     -999.0,9,         18,     -999.0,9,     -999.0,9,     -999.0,9,     -999.0,9
33RO20180423,        I7N,      52,          1,        119,      11083,2,20180512,       0753,    -8.7345,    52.1440,       4124,   200.4,  13.6453,  35.0572,2,  35.0594,2,     88.5,2,  95.5620,2,     20.3,2,     22.6,2,     0.01,2,    1.575,2,   1.943,2,   1.096,2,   0.7711,2,  2186.6,2,  2311.2,2,   7.6525,2,    25.00, -999.00,9, -999.00,9, -999.00,-999.000,1,    48.2,3,     -999.0,1,     -999.0,9,         19,     -999.0,9,     -999.0,9,     -999.0,9,     -999.0,9
33RO20180423,        I7N,      52,          1,        120,      11118,2,20180512,       0753,    -8.7345,    52.1440,       4124,   160.6,  14.4006,  35.0702,2,  35.0727,2,     81.8,2,  88.5820,2,     20.1,2,     22.6,2,     0.01,2,    1.558,2,   1.885,2,   1.080,2,   0.7707,2,  -999.0,9,  -999.0,9,-999.0000,9,  -999.00, -999.00,9, -999.00,9, -999.00,-999.000,1,    47.6,3,     -999.0,1,     -999.0,9,         20,     -999.0,9,     -999.0,9,     -999.0,9,     -999.0,9
33RO20180423,        I7N,      52,          1,        121,      11119,2,20180512,       0753,    -8.7345,    52.1440,       4124,   121.0,  16.6302,  35.1711,2,  35.1600,2,    102.4,2, 106.3780,2,     16.2,2,     18.0,2,     0.03,2,    1.258,2,   1.903,2,   1.113,2,   0.9418,2,  2157.8,2,  2313.7,2,   7.7342,2,    25.00, -999.00,9, -999.00,9, -999.00,-999.000,1,  -999.0,9,     -999.0,1,     -999.0,9,         21,     -999.0,9,     -999.0,9,     -999.0,9,     -999.0,9
33RO20180423,        I7N,      52,          1,        122,      11120,2,20180512,       0753,    -8.7345,    52.1440,       4124,    80.1,  20.7707,  35.2337,2,  35.2360,2,    138.4,2, 146.3990,2,      8.3,2,      8.4,2,     0.27,2,    0.691,2,   1.821,2,   1.122,2,   1.2525,2,  -999.0,9,  -999.0,9,-999.0000,9,  -999.00, -999.00,9, -999.00,9, -999.00,-999.000,1,    54.1,3,     -999.0,1,     -999.0,9,         22,     -999.0,9,     -999.0,9,     -999.0,9,     -999.0,9
33RO20180423,        I7N,      52,          1,        123,      11121,2,20180512,       0753,    -8.7345,    52.1440,       4124,    40.5,  23.3367,  35.0864,2,  35.0893,2,    160.4,2, 169.8150,2,      6.0,2,      4.9,2,     0.26,2,    0.514,2,   1.708,2,   1.054,2,   1.2707,2,  2049.4,2,  2303.7,6,   7.9491,2,    25.00, -999.00,9, -999.00,9, -999.00,-999.000,1,    61.6,3,     -999.0,1,     -999.0,9,         23,     -999.0,9,     -999.0,9,     -999.0,9,     -999.0,9
33RO20180423,        I7N,      52,          1,        124,      11122,2,20180512,       0753,    -8.7345,    52.1440,       4124,     2.6,  28.3213,  35.1130,2,  35.1152,2,    186.0,2, 195.1130,2,      2.6,2,      0.2,2,     0.01,2,    0.135,2,   1.441,2,   0.916,2,   1.3516,2,  1978.9,2,  2300.8,2,   8.0721,6,    25.00, -999.00,9, -999.00,9, -999.00,-999.000,1,    72.7,3,     -999.0,1,     -999.0,9,         24,     -999.0,9,     -999.0,9,     -999.0,9,     -999.0,9