BOTTLE,20230801CCHSIOCBG
EXPOCODE,SECT_ID,STNNBR,CASTNO,SAMPNO,BTLNBR,BTLNBR_FLAG_W,DATE,TIME,LATITUDE,LONGITUDE,DEPTH,CTDPRS,CTDTMP,CTDSAL,CTDSAL_FLAG_W,SALNTY,SALNTY_FLAG_W,CTDOXY,CTDOXY_FLAG_W,OXYGEN,OXYGEN_FLAG_W,SILCAT,SILCAT_FLAG_W,NITRAT,NITRAT_FLAG_W,NITRIT,NITRIT_FLAG_W,PHSPHT,PHSPHT_FLAG_W,CFC-11,CFC-11_FLAG_W,CFC-12,CFC-12_FLAG_W,SF6,SF6_FLAG_W,TCARBN,TCARBN_FLAG_W,ALKALI,ALKALI_FLAG_W,PH_SWS,PH_SWS_FLAG_W,PH_TMP,DELC13,DELC13_FLAG_W,DELC14,DELC14_FLAG_W,C14ERR,CCL4,CCL4_FLAG_W,DOC,DOC_FLAG_W,N2O,N2O_FLAG_W,CALCIUM,CALCIUM_FLAG_W,SAMPNO_U,DNSSAL,DNSSAL_FLAG_W,DNSSAL2,DNSSAL2_FLAG_W,SALNTY_DNSSAL,SALNTY_DNSSAL_FLAG_W,SALNTY_DNSSAL2,SALNTY_DNSSAL2_FLAG_W
,,,,,,,,,,,METERS,DBAR,ITS-90,PSS-78,,PSS-78,,UMOL/KG,,UMOL/KG,,UMOL/KG,,UMOL/KG,,UMOL/KG,,UMOL/KG,,PMOL/KG,,PMOL/KG,,FMOL/KG,,UMOL/KG,,UMOL/KG,,,,DEG C,/MILLE,,/MILLE,,/MILLE,PMOL/KG,,UMOL/KG,,NMOL/KG,,MMOL/KG,,,G/KG,,G/KG,,PSS-78,,PSS-78,
33RO20180423,        I7N,      38,          1,        101,      11010,2,20180507,       1703,   -13.9570,    54.9983,       4505,  4559.7,   1.1159,  34.7095,2,  34.7087,2,    173.9,2, 200.9410,2,    125.6,6,     32.5,6,     0.00,6,    2.266,6,   0.066,2,   0.033,2,        0,2,  2273.9,6,  2379.0,2,   7.6028,6,    25.00, -999.00,9, -999.00,9, -999.00,-999.000,1,  -999.0,9,     -999.0,1,     -999.0,9,          1,     -999.0,9,     -999.0,9,     -999.0,9,     -999.0,9
33RO20180423,        I7N,      38,          1,        102,      11101,2,20180507,       1703,   -13.9570,    54.9983,       4505,  4091.1,   1.3079,  34.7182,2,  34.7171,2,    163.1,2, 189.5750,2,    128.0,6,     33.2,6,     0.00,6,    2.310,6,-999.000,9,-999.000,9,-999.0000,9,  2285.0,2,  2386.0,2,   7.6006,2,    25.00, -999.00,9, -999.00,9, -999.00,-999.000,9,  -999.0,9,     -999.0,9,     -999.0,9,          2,     -999.0,9,     -999.0,9,     -999.0,9,     -999.0,9
33RO20180423,        I7N,      38,          1,        103,      11102,2,20180507,       1703,   -13.9570,    54.9983,       4505,  3675.8,   1.4599,  34.7248,2,  34.7228,6,    154.9,2, 179.2810,2,    129.3,6,     33.7,6,     0.00,6,    2.340,6,   0.016,2,   0.010,2,        0,2,  2294.3,2,  2395.3,2,   7.5956,2,    25.00, -999.00,9, -999.00,9, -999.00,-999.000,1,  -999.0,9,     -999.0,1,     -999.0,9,          3,     -999.0,9,     -999.0,9,     -999.0,9,     -999.0,9
33RO20180423,        I7N,      38,          1,        104,      11103,2,20180507,       1703,   -13.9570,    54.9983,       4505,  3373.8,   1.6371,  34.7313,2,  34.7359,2,    147.5,2, 170.7430,2,    129.7,6,     34.1,6,     0.00,6,    2.383,6,-999.000,9,-999.000,9,-999.0000,9,  2297.6,2,  2398.6,2,   7.5896,2,    25.00, -999.00,9, -999.00,9, -999.00,-999.000,9,    42.1,3,     -999.0,9,     -999.0,9,          4,     -999.0,9,     -999.0,9,     -999.0,9,     -999.0,9
33RO20180423,        I7N,      38,          1,        105,      11104,2,20180507,       1703,   -13.9570,    54.9983,       4505,  3076.8,   1.7639,  34.7356,2,  34.7339,2,    143.0,2, 164.9090,2,    129.4,2,     34.2,2,     0.00,2,    2.396,2,   0.003,2,   0.001,2,        0,2,  2301.8,2,  2400.3,2,   7.5853,2,    25.00, -999.00,9, -999.00,9, -999.00,-999.000,1,    43.3,3,     -999.0,1,     -999.0,9,          5,     -999.0,9,     -999.0,9,     -999.0,9,     -999.0,9
33RO20180423,        I7N,      38,          1,        106,      11105,2,20180507,       1703,   -13.9570,    54.9983,       4505,  2776.7,   1.9170,  34.7387,2,  34.7370,2,    139.7,2, 160.2405,2,    127.0,2,     34.4,2,     0.00,2,    2.407,2,-999.000,9,-999.000,9,-999.0000,9,  2301.1,2,  2398.8,6,   7.5829,2,    25.00, -999.00,9, -999.00,9, -999.00,-999.000,9,  -999.0,9,     -999.0,9,     -999.0,9,          6,     -999.0,9,     -999.0,9,     -999.0,9,     -999.0,9
33RO20180423,        I7N,      38,          1,        107,      11106,2,20180507,       1703,   -13.9570,    54.9983,       4505,  2462.3,   2.0840,  34.7379,2,  34.7361,2,    138.1,2, 157.4850,2,    122.2,2,     34.4,2,     0.00,2,    2.401,2,   0.003,2,   0.002,2,        0,2,  2299.4,2,  2394.8,2,   7.5794,2,    25.00, -999.00,9, -999.00,9, -999.00,-999.000,1,  -999.0,9,     -999.0,1,     -999.0,9,          7,     -999.0,9,     -999.0,9,     -999.0,9,     -999.0,9
33RO20180423,        I7N,      38,          1,        108,      11107,2,20180507,       1703,   -13.9570,    54.9983,       4505,  2175.7,   2.3137,  34.7330,2,  34.7539,2,    137.3,2, 156.3780,2,    116.6,2,     34.3,2,     0.00,2,    2.410,2,-999.000,9,-999.000,9,-999.0000,9,  2294.3,2,  2389.0,2,   7.5754,2,    25.00, -999.00,9, -999.00,9, -999.00,-999.000,9,    44.3,3,     -999.0,9,     -999.0,9,          8,     -999.0,9,     -999.0,9,     -999.0,9,     -999.0,9
33RO20180423,        I7N,      38,          1,        109,      11108,2,20180507,       1703,   -13.9570,    54.9983,       4505,  1863.5,   2.7454,  34.7157,2,  34.7148,2,    134.9,2, 152.6830,2,    105.1,2,     34.1,2,     0.00,2,    2.411,2,   0.018,2,   0.008,2,   0.0071,2,  2282.7,2,  2375.7,2,   7.5706,2,    25.00, -999.00,9, -999.00,9, -999.00,-999.000,1,    45.5,3,     -999.0,1,     -999.0,9,          9,     -999.0,9,     -999.0,9,     -999.0,9,     -999.0,9
33RO20180423,        I7N,      38,          1,        110,      11109,2,20180507,       1703,   -13.9570,    54.9983,       4505,  1613.4,   3.3659,  34.7056,2,  34.7051,2,    124.7,2, 140.0830,2,     96.8,2,     34.6,2,     0.00,2,    2.455,2,-999.000,9,-999.000,9,-999.0000,9,  2280.4,2,  2368.0,2,   7.5560,2,    25.00, -999.00,9, -999.00,9, -999.00,-999.000,9,  -999.0,9,     -999.0,9,     -999.0,9,         10,     -999.0,9,     -999.0,9,     -999.0,9,     -999.0,9
33RO20180423,        I7N,      38,          1,        111,      11110,2,20180507,       1703,   -13.9570,    54.9983,       4505,  1349.9,   4.2506,  34.7025,2,  34.7023,2,    111.1,2, 124.1580,2,     87.7,2,     35.1,2,     0.00,2,    2.489,2,   0.078,2,   0.043,2,        0,2,  2278.8,2,  2358.9,2,   7.5414,6,    25.00, -999.00,9, -999.00,9, -999.00,-999.000,1,  -999.0,9,     -999.0,1,     -999.0,9,         11,     -999.0,9,     -999.0,9,     -999.0,9,     -999.0,9
33RO20180423,        I7N,      38,          1,        112,      11111,2,20180507,       1703,   -13.9570,    54.9983,       4505,  1150.9,   5.1392,  34.7341,2,  34.7343,2,     97.2,2, 107.9770,2,     81.5,2,     35.2,2,     0.00,2,    2.513,2,   0.151,2,   0.079,2,   0.0056,2,  2278.0,6,  2352.7,2,   7.5284,2,    25.00, -999.00,9, -999.00,9, -999.00,-999.000,1,  -999.0,9,     -999.0,1,     -999.0,9,         12,     -999.0,9,     -999.0,9,     -999.0,9,     -999.0,9
33RO20180423,        I7N,      38,          1,        113,      11112,2,20180507,       1703,   -13.9570,    54.9983,       4505,   938.0,   6.0911,  34.7397,2,  34.7579,2,     96.8,2, 104.4580,2,     68.5,2,     34.2,2,     0.00,2,    2.431,2,   0.403,6,   0.210,6,   0.0626,6,  2263.0,2,  2341.2,6,   7.5381,2,    25.00, -999.00,9, -999.00,9, -999.00,-999.000,1,    46.2,3,     -999.0,1,     -999.0,9,         13,     -999.0,9,     -999.0,9,     -999.0,9,     -999.0,9
33RO20180423,        I7N,      38,          1,        114,      11113,2,20180507,       1703,   -13.9570,    54.9983,       4505,   788.5,   7.0855,  34.7447,2,  34.7443,2,    101.7,2, 111.4970,2,     54.6,2,     32.3,2,     0.00,2,    2.310,2,   0.765,2,   0.400,2,   0.1592,2,  2245.4,2,  2329.0,2,   7.5572,2,    25.00, -999.00,9, -999.00,9, -999.00,-999.000,1,    49.8,3,     -999.0,1,     -999.0,9,         14,     -999.0,9,     -999.0,9,     -999.0,9,     -999.0,9
33RO20180423,        I7N,      38,          1,        115,      11114,2,20180507,       1703,   -13.9570,    54.9983,       4505,   637.9,   8.0733,  34.7094,2,  34.7091,2,    128.5,2, 140.1140,2,     35.5,2,     28.1,2,     0.00,2,    1.975,2,   1.564,2,   0.810,2,   0.4132,2,  2207.2,2,  2306.7,2,   7.6120,2,    25.00, -999.00,9, -999.00,9, -999.00,-999.000,1,    45.6,3,     -999.0,1,     -999.0,9,         15,     -999.0,9,     -999.0,9,     -999.0,9,     -999.0,9
33RO20180423,        I7N,      38,          1,        116,      11115,2,20180507,       1703,   -13.9570,    54.9983,       4505,   474.7,   9.7206,  34.7971,2,  34.7967,2,    162.0,2, 175.4325,2,     17.7,2,     21.4,2,     0.00,2,    1.500,2,-999.000,9,-999.000,9,-999.0000,9,  2170.8,2,  2302.3,2,   7.6918,2,    25.00, -999.00,9, -999.00,9, -999.00,-999.000,9,    46.1,3,     -999.0,9,     -999.0,9,         16,     -999.0,9,     -999.0,9,     -999.0,9,     -999.0,9
33RO20180423,        I7N,      38,          1,        117,      11116,2,20180507,       1703,   -13.9570,    54.9983,       4505,   363.9,  11.5223,  34.9911,2,  34.9911,2,    178.9,2, 191.7410,2,     10.1,2,     15.4,2,     0.00,2,    1.133,2,   2.836,3,   1.631,3,    1.732,3,  2147.6,2,  2302.2,3,   7.7578,2,    25.00, -999.00,9, -999.00,9, -999.00,-999.000,1,    51.2,3,     -999.0,1,     -999.0,9,         17,     -999.0,9,     -999.0,9,     -999.0,9,     -999.0,9
33RO20180423,        I7N,      38,          1,        118,      11117,2,20180507,       1703,   -13.9570,    54.9983,       4505,   294.4,  12.3595,  35.0660,2,  35.0648,2,    153.0,2, 164.7200,2,     13.4,2,     16.6,2,     0.00,2,    1.221,2,   2.486,2,   1.410,2,    1.065,2,  2157.7,2,  2298.1,4,   7.7395,2,    25.00, -999.00,9, -999.00,9, -999.00,-999.000,1,    49.2,3,     -999.0,1,     -999.0,9,         18,     -999.0,9,     -999.0,9,     -999.0,9,     -999.0,9
33RO20180423,        I7N,      38,          1,        119,      11083,2,20180507,       1703,   -13.9570,    54.9983,       4505,   211.0,  14.3611,  35.1473,2,  35.1465,2,    121.3,2, 130.4680,2,     17.3,2,     17.0,2,     0.00,2,    1.245,2,-999.000,9,-999.000,9,-999.0000,9,  2162.3,2,  2315.2,2,   7.7388,2,    25.00, -999.00,9, -999.00,9, -999.00,-999.000,9,    55.3,3,     -999.0,9,     -999.0,9,         19,     -999.0,9,     -999.0,9,     -999.0,9,     -999.0,9
33RO20180423,        I7N,      38,          1,        120,      11118,2,20180507,       1703,   -13.9570,    54.9983,       4505,   170.6,  15.5120,  35.1892,2,  35.1888,2,    114.7,2, 123.4810,2,     16.7,2,     16.3,2,     0.00,2,    1.201,2,   1.968,2,   1.150,2,   0.9982,2,  2157.4,2,  2316.9,2,   7.7504,2,    25.00, -999.00,9, -999.00,9, -999.00,-999.000,1,  -999.0,9,     -999.0,1,     -999.0,9,         20,     -999.0,9,     -999.0,9,     -999.0,9,     -999.0,9
33RO20180423,        I7N,      38,          1,        121,      11119,2,20180507,       1703,   -13.9570,    54.9983,       4505,   130.6,  17.3312,  35.1573,2,  35.1632,2,     97.5,2, 106.2630,2,     16.0,2,     16.7,2,     0.02,2,    1.210,2,   1.833,2,   1.100,2,   1.0229,2,  2147.8,2,  2311.5,2,   7.7554,2,    25.00, -999.00,9, -999.00,9, -999.00,-999.000,1,  -999.0,9,     -999.0,1,     -999.0,9,         21,     -999.0,9,     -999.0,9,     -999.0,9,     -999.0,9
33RO20180423,        I7N,      38,          1,        122,      11120,2,20180507,       1703,   -13.9570,    54.9983,       4505,    90.7,  19.5949,  35.2629,2,  35.2659,2,    125.4,2, 135.1760,2,     10.0,2,     10.6,2,     0.11,2,    0.820,2,   1.856,2,   1.133,2,   1.2079,2,  2105.6,2,  2312.3,6,   7.8530,2,    25.00, -999.00,9, -999.00,9, -999.00,-999.000,1,    59.0,3,     -999.0,1,     -999.0,9,         22,     -999.0,9,     -999.0,9,     -999.0,9,     -999.0,9
33RO20180423,        I7N,      38,          1,        123,      11121,2,20180507,       1703,   -13.9570,    54.9983,       4505,    49.7,  23.0595,  35.1555,2,  35.1576,2,    167.2,2, 178.2100,2,      4.7,2,      3.3,2,     0.20,2,    0.409,2,   1.746,2,   1.091,2,    1.342,2,  2043.8,2,  2303.2,2,   7.9680,6,    25.00, -999.00,9, -999.00,9, -999.00,-999.000,1,    60.6,3,     -999.0,1,     -999.0,9,         23,     -999.0,9,     -999.0,9,     -999.0,9,     -999.0,9
33RO20180423,        I7N,      38,          1,        124,      11122,2,20180507,       1703,   -13.9570,    54.9983,       4505,     3.7,  28.1277,  34.6721,2,  34.6741,2,    187.8,2, 198.0520,2,      2.6,2,      0.0,2,     0.00,2,    0.123,2,   1.452,2,   0.928,2,   1.3994,2,  1957.0,6,  2272.2,2,   8.0713,2,    25.00, -999.00,9, -999.00,9, -999.00,-999.000,1,    72.9,3,     -999.0,1,     -999.0,9,         24,     -999.0,9,     -999.0,9,     -999.0,9,     -999.0,9