BOTTLE,20230801CCHSIOCBG
EXPOCODE,SECT_ID,STNNBR,CASTNO,SAMPNO,BTLNBR,BTLNBR_FLAG_W,DATE,TIME,LATITUDE,LONGITUDE,DEPTH,CTDPRS,CTDTMP,CTDSAL,CTDSAL_FLAG_W,SALNTY,SALNTY_FLAG_W,CTDOXY,CTDOXY_FLAG_W,OXYGEN,OXYGEN_FLAG_W,SILCAT,SILCAT_FLAG_W,NITRAT,NITRAT_FLAG_W,NITRIT,NITRIT_FLAG_W,PHSPHT,PHSPHT_FLAG_W,CFC-11,CFC-11_FLAG_W,CFC-12,CFC-12_FLAG_W,SF6,SF6_FLAG_W,TCARBN,TCARBN_FLAG_W,ALKALI,ALKALI_FLAG_W,PH_SWS,PH_SWS_FLAG_W,PH_TMP,DELC13,DELC13_FLAG_W,DELC14,DELC14_FLAG_W,C14ERR,CCL4,CCL4_FLAG_W,DOC,DOC_FLAG_W,N2O,N2O_FLAG_W,CALCIUM,CALCIUM_FLAG_W,SAMPNO_U,DNSSAL,DNSSAL_FLAG_W,DNSSAL2,DNSSAL2_FLAG_W,SALNTY_DNSSAL,SALNTY_DNSSAL_FLAG_W,SALNTY_DNSSAL2,SALNTY_DNSSAL2_FLAG_W
,,,,,,,,,,,METERS,DBAR,ITS-90,PSS-78,,PSS-78,,UMOL/KG,,UMOL/KG,,UMOL/KG,,UMOL/KG,,UMOL/KG,,UMOL/KG,,PMOL/KG,,PMOL/KG,,FMOL/KG,,UMOL/KG,,UMOL/KG,,,,DEG C,/MILLE,,/MILLE,,/MILLE,PMOL/KG,,UMOL/KG,,NMOL/KG,,MMOL/KG,,,G/KG,,G/KG,,PSS-78,,PSS-78,
33RO20180423,        I7N,      76,          1,        101,      11010,2,20180522,       0958,    -0.0008,    57.2690,       4615,  4650.4,   1.3561,  34.7178,2,  34.7194,2,    159.9,2, 184.5610,2,    130.6,6,     33.6,6,     0.00,6,    2.355,6,   0.020,2,   0.010,2,   0.0102,2,  2291.1,6,  2397.8,2,   7.6033,6,    25.00, -999.00,9, -999.00,9, -999.00,-999.000,1,  -999.0,9,     -999.0,1,    10.2903,2,          1,    34.9014,2,     -999.0,9,    34.7198,2,     -999.0,9
33RO20180423,        I7N,      76,          1,        102,      11101,2,20180522,       0958,    -0.0008,    57.2690,       4615,  4430.0,   1.3603,  34.7191,2,  34.7221,2,    158.1,2, 182.4480,2,    131.2,6,     33.7,6,     0.00,6,    2.362,6,   0.017,2,   0.008,2,   0.0058,2,  2291.0,2,  2398.6,6,   7.6008,2,    25.00, -999.00,9, -999.00,9, -999.00,-999.000,1,    41.3,3,     -999.0,1,    10.2934,6,          2,    34.9041,2,     -999.0,9,    34.7219,2,     -999.0,9
33RO20180423,        I7N,      76,          1,        103,      11102,2,20180522,       0958,    -0.0008,    57.2690,       4615,  4200.6,   1.3967,  34.7214,2,  34.7227,2,    155.3,2, 179.4830,2,    131.9,6,     33.9,6,     0.00,6,    2.385,6,   0.012,2,   0.006,2,   0.0101,2,  2293.3,2,  2400.5,2,   7.5996,2,    25.00, -999.00,9, -999.00,9, -999.00,-999.000,1,    42.2,3,     -999.0,1,    10.3064,2,          3,    34.9054,2,     -999.0,9,    34.7212,2,     -999.0,9
33RO20180423,        I7N,      76,          1,        104,      11103,2,20180522,       0958,    -0.0008,    57.2690,       4615,  3900.8,   1.5068,  34.7264,2,  34.7268,6,    149.6,2, 173.0050,2,    132.7,6,     34.2,6,     0.00,6,    2.406,6,   0.006,2,   0.003,2,   0.0111,2,  2298.6,2,  2408.0,2,   7.5956,2,    25.00, -999.00,9, -999.00,9, -999.00,-999.000,1,    46.5,3,     -999.0,1,    10.3275,2,          4,    34.9107,2,     -999.0,9,    34.7260,2,     -999.0,9
33RO20180423,        I7N,      76,          1,        105,      11104,2,20180522,       0958,    -0.0008,    57.2690,       4615,  3600.5,   1.5761,  34.7296,2,  34.7311,2,    146.5,2, 169.0300,2,    132.3,2,     34.3,2,     0.00,2,    2.419,2,   0.005,2,   0.003,2,        0,2,  2301.8,2,  2408.3,2,   7.5930,2,    25.00, -999.00,9, -999.00,9, -999.00,-999.000,1,    49.1,3,     -999.0,1,    10.3341,2,          5,    34.9140,2,     -999.0,9,    34.7288,2,     -999.0,9
33RO20180423,        I7N,      76,          1,        106,      11105,2,20180522,       0958,    -0.0008,    57.2690,       4615,  3300.7,   1.7127,  34.7354,2,  34.7572,2,    141.2,2, 162.6995,2,    131.5,2,     34.5,2,     0.00,2,    2.450,2,   0.002,2,   0.002,2,   0.0162,2,  2305.6,2,  2409.2,2,   7.5870,2,    25.00, -999.00,9, -999.00,9, -999.00,-999.000,1,    47.2,3,     -999.0,1,    10.3266,2,          6,    34.9192,2,     -999.0,9,    34.7361,2,     -999.0,9
33RO20180423,        I7N,      76,          1,        107,      11106,2,20180522,       0958,    -0.0008,    57.2690,       4615,  3000.3,   1.8303,  34.7393,2,  34.7391,2,    138.3,2, 158.9040,2,    129.4,2,     34.7,2,     0.00,2,    2.460,2,   0.002,2,   0.002,2,   0.0101,2,  2305.4,2,  2405.8,2,   7.5821,2,    25.00, -999.00,9, -999.00,9, -999.00,-999.000,1,  -999.0,9,     -999.0,1,    10.3068,2,          7,    34.9225,2,     -999.0,9,    34.7399,2,     -999.0,9
33RO20180423,        I7N,      76,          1,        108,      11107,2,20180522,       0958,    -0.0008,    57.2690,       4615,  2700.0,   1.9733,  34.7479,2,  34.7487,2,    132.2,2, 151.5740,2,    130.3,2,     35.1,2,     0.00,2,    2.498,2,   0.002,6,   0.002,6,   0.0038,6,  2310.6,2,  2408.6,2,   7.5755,2,    25.00, -999.00,9, -999.00,9, -999.00,-999.000,1,  -999.0,9,     -999.0,1,    10.3119,2,          8,    34.9305,2,     -999.0,9,    34.7483,2,     -999.0,9
33RO20180423,        I7N,      76,          1,        109,      11108,2,20180522,       0958,    -0.0008,    57.2690,       4615,  2401.3,   2.2951,  34.7613,2,  34.7704,2,    123.9,2, 140.8910,2,    126.1,2,     35.4,2,     0.00,2,    2.535,2,   0.002,2,   0.002,2,        0,2,  2310.8,2,  2406.2,2,   7.5612,2,    25.00, -999.00,9, -999.00,9, -999.00,-999.000,1,    46.7,3,     -999.0,1,    10.3115,2,          9,    34.9436,2,     -999.0,9,    34.7623,2,     -999.0,9
33RO20180423,        I7N,      76,          1,        110,      11109,2,20180522,       0958,    -0.0008,    57.2690,       4615,  2100.9,   2.6523,  34.7733,2,  34.7749,2,    116.0,2, 131.6470,2,    121.8,2,     35.7,2,     0.00,2,    2.574,2,   0.002,2,   0.002,2,   0.0034,2,  2312.2,2,  2403.6,2,   7.5494,2,    25.00, -999.00,9, -999.00,9, -999.00,-999.000,1,  -999.0,9,     -999.0,1,    10.3139,2,         10,    34.9568,2,     -999.0,9,    34.7747,2,     -999.0,9
33RO20180423,        I7N,      76,          1,        111,      11110,2,20180522,       0958,    -0.0008,    57.2690,       4615,  1799.0,   3.4010,  34.8035,2,  34.8082,2,    100.9,2, 113.5470,2,    113.8,2,     36.2,2,     0.00,2,    2.645,2,   0.005,2,   0.005,2,   0.0076,2,  2312.5,2,  2394.2,6,   7.5280,2,    25.00, -999.00,9, -999.00,9, -999.00,-999.000,1,    48.1,3,     -999.0,1,    10.3234,2,         11,    34.9845,2,     -999.0,9,    34.8047,2,     -999.0,9
33RO20180423,        I7N,      76,          1,        112,      11111,2,20180522,       0958,    -0.0008,    57.2690,       4615,  1550.5,   4.0888,  34.8367,2,  34.8633,2,     87.5,2,  98.1440,2,    106.9,2,     36.7,2,     0.00,2,    2.695,2,   0.009,2,   0.007,2,   0.0219,2,  2310.6,2,  2387.7,2,   7.5124,6,    25.00, -999.00,9, -999.00,9, -999.00,-999.000,1,    47.0,3,     -999.0,1,    10.3453,2,         12,    35.0187,2,     -999.0,9,    34.8379,2,     -999.0,9
33RO20180423,        I7N,      76,          1,        113,      11112,2,20180522,       0958,    -0.0008,    57.2690,       4615,  1301.2,   5.3269,  34.8943,2,  34.8952,2,     64.8,2,  73.2150,2,     96.4,2,     37.3,2,     0.00,2,    2.767,2,   0.018,2,   0.011,2,        0,2,  2310.5,2,  2375.8,2,   7.4872,2,    25.00, -999.00,9, -999.00,9, -999.00,-999.000,1,  -999.0,9,     -999.0,1,    10.3555,2,         13,    35.0728,2,     -999.0,9,    34.8948,2,     -999.0,9
33RO20180423,        I7N,      76,          1,        114,      11113,2,20180522,       0958,    -0.0008,    57.2690,       4615,  1100.2,   6.0476,  34.9238,2,  34.9249,2,     55.1,2,  61.8600,2,     89.3,2,     37.3,2,     0.00,2,    2.774,2,   0.033,2,   0.021,2,        0,2,  2306.8,2,  2368.9,2,   7.4771,2,    25.00, -999.00,9, -999.00,9, -999.00,-999.000,1,    48.5,3,     -999.0,1,    10.3863,6,         14,    35.0998,2,     -999.0,9,    34.9244,2,     -999.0,9
33RO20180423,        I7N,      76,          1,        115,      11114,2,20180522,       0958,    -0.0008,    57.2690,       4615,   900.8,   7.6786,  35.0526,2,  35.0628,2,     42.3,2,  48.0070,2,     71.7,2,     36.2,2,     0.00,2,    2.722,2,   0.150,2,   0.085,2,   0.0126,2,  2291.0,2,  2356.2,2,   7.4778,2,    25.00, -999.00,9, -999.00,9, -999.00,-999.000,1,    52.5,3,     -999.0,1,    10.3492,2,         15,    35.2257,2,     -999.0,9,    35.0529,2,     -999.0,9
33RO20180423,        I7N,      76,          1,        116,      11115,2,20180522,       0958,    -0.0008,    57.2690,       4615,   744.8,   8.6538,  35.0551,2,  35.0591,2,     42.9,2,  48.1120,2,     58.3,2,     34.8,2,     0.00,2,    2.602,2,   0.331,2,   0.182,2,    0.039,2,  2275.3,2,  2342.2,2,   7.4866,2,    25.00, -999.00,9, -999.00,9, -999.00,-999.000,1,    52.8,3,     -999.0,1,    10.3618,2,         16,    35.2290,2,     -999.0,9,    35.0561,2,     -999.0,9
33RO20180423,        I7N,      76,          1,        117,      11116,2,20180522,       0958,    -0.0008,    57.2690,       4615,   601.2,   9.2501,  35.0741,2,  35.0735,2,     50.0,2,  55.1430,2,     48.9,2,     33.4,2,     0.00,2,    2.482,2,   0.586,2,   0.318,2,   0.1439,2,  2262.0,2,  2334.8,2,   7.5044,2,    25.00, -999.00,9, -999.00,9, -999.00,-999.000,1,  -999.0,9,     -999.0,1,    10.3605,2,         17,    35.2467,2,     -999.0,9,    35.0743,2,     -999.0,9
33RO20180423,        I7N,      76,          1,        118,      11117,2,20180522,       0958,    -0.0008,    57.2690,       4615,   450.4,  10.3740,  35.0021,2,  35.0027,2,     90.9,2,  98.6670,2,     28.1,2,     27.7,2,     0.00,2,    1.980,2,   1.652,2,   0.893,2,   0.4595,2,  2217.2,2,  2316.9,2,   7.5854,2,    25.00, -999.00,9, -999.00,9, -999.00,-999.000,1,    53.5,3,     -999.0,1,    10.3284,2,         18,    35.1710,2,     -999.0,9,    35.0015,2,     -999.0,9
33RO20180423,        I7N,      76,          1,        119,      11083,2,20180522,       0958,    -0.0008,    57.2690,       4615,   300.9,  11.5323,  35.0280,2,  35.0317,2,    112.7,2, 119.7530,2,     19.5,2,     23.3,2,     0.00,2,    1.651,2,   2.129,2,   1.179,2,   0.7346,2,  2190.8,2,  2311.3,2,   7.6444,2,    25.00, -999.00,9, -999.00,9, -999.00,-999.000,1,  -999.0,9,     -999.0,1,    10.3397,2,         19,    35.2000,2,     -999.0,9,    35.0306,2,     -999.0,9
33RO20180423,        I7N,      76,          1,        120,      11118,2,20180522,       0958,    -0.0008,    57.2690,       4615,   200.4,  13.2812,  35.1398,2,  35.1404,2,    106.0,2, 113.1030,2,     16.9,2,     21.1,2,     0.01,2,    1.507,2,   2.145,6,   1.218,6,   0.8629,6,  2184.2,2,  2313.7,2,   7.6706,2,    25.00, -999.00,9, -999.00,9, -999.00,-999.000,1,    55.5,3,     -999.0,1,    10.3888,2,         20,    35.3100,2,     -999.0,9,    35.1427,2,     -999.0,9
33RO20180423,        I7N,      76,          1,        121,      11119,2,20180522,       0958,    -0.0008,    57.2690,       4615,   139.8,  16.1921,  35.2452,2,  35.2464,6,     84.8,2,  91.1060,2,     15.1,2,     20.1,2,     0.01,2,    1.463,2,   1.950,2,   1.147,2,   0.9408,2,  2174.6,2,  2315.9,2,   7.6942,2,    25.00, -999.00,9, -999.00,9, -999.00,-999.000,1,  -999.0,9,     -999.0,1,    10.4134,2,         21,    35.4128,2,     -999.0,9,    35.2465,2,     -999.0,9
33RO20180423,        I7N,      76,          1,        122,      11120,2,20180522,       0958,    -0.0008,    57.2690,       4615,   100.5,  22.1960,  35.5541,2,  35.5566,2,    133.1,2, 140.3120,2,      7.7,2,     10.1,2,     0.17,2,    0.848,2,   1.724,2,   1.060,2,   1.2545,2,  2101.6,2,  2330.6,2,   7.8885,2,    25.00, -999.00,9, -999.00,9, -999.00,-999.000,1,    56.3,3,     -999.0,1,    10.5157,2,         22,    35.7251,2,     -999.0,9,    35.5581,2,     -999.0,9
33RO20180423,        I7N,      76,          1,        123,      11121,2,20180522,       0958,    -0.0008,    57.2690,       4615,    50.4,  29.7905,  35.2713,2,  35.2733,2,    183.9,2, 191.7390,2,      1.5,2,      0.0,2,     0.01,2,    0.157,2,   1.382,2,   0.887,2,   1.3471,2,  1986.0,2,  2311.8,6,   8.0711,2,    25.00, -999.00,9, -999.00,9, -999.00,-999.000,1,    79.4,3,     -999.0,1,    10.4402,2,         23,    35.4444,2,     -999.0,9,    35.2787,2,     -999.0,9
33RO20180423,        I7N,      76,          1,        124,      11122,2,20180522,       0958,    -0.0008,    57.2690,       4615,     3.3,  29.7874,  35.2736,2,  35.2739,2,    184.3,2, 192.2410,2,      1.4,2,      0.0,2,     0.00,2,    0.161,2,   1.382,2,   0.884,2,   1.2968,2,  1985.1,6,  2311.6,2,   8.0727,6,    25.00, -999.00,9, -999.00,9, -999.00,-999.000,1,    84.9,3,     -999.0,1,    10.3736,2,         24,    35.4438,2,     -999.0,9,    35.2796,2,     -999.0,9