BOTTLE,20230801CCHSIOCBG
EXPOCODE,SECT_ID,STNNBR,CASTNO,SAMPNO,BTLNBR,BTLNBR_FLAG_W,DATE,TIME,LATITUDE,LONGITUDE,DEPTH,CTDPRS,CTDTMP,CTDSAL,CTDSAL_FLAG_W,SALNTY,SALNTY_FLAG_W,CTDOXY,CTDOXY_FLAG_W,OXYGEN,OXYGEN_FLAG_W,SILCAT,SILCAT_FLAG_W,NITRAT,NITRAT_FLAG_W,NITRIT,NITRIT_FLAG_W,PHSPHT,PHSPHT_FLAG_W,CFC-11,CFC-11_FLAG_W,CFC-12,CFC-12_FLAG_W,SF6,SF6_FLAG_W,TCARBN,TCARBN_FLAG_W,ALKALI,ALKALI_FLAG_W,PH_SWS,PH_SWS_FLAG_W,PH_TMP,DELC13,DELC13_FLAG_W,DELC14,DELC14_FLAG_W,C14ERR,CCL4,CCL4_FLAG_W,DOC,DOC_FLAG_W,N2O,N2O_FLAG_W,CALCIUM,CALCIUM_FLAG_W,SAMPNO_U,DNSSAL,DNSSAL_FLAG_W,DNSSAL2,DNSSAL2_FLAG_W,SALNTY_DNSSAL,SALNTY_DNSSAL_FLAG_W,SALNTY_DNSSAL2,SALNTY_DNSSAL2_FLAG_W
,,,,,,,,,,,METERS,DBAR,ITS-90,PSS-78,,PSS-78,,UMOL/KG,,UMOL/KG,,UMOL/KG,,UMOL/KG,,UMOL/KG,,UMOL/KG,,PMOL/KG,,PMOL/KG,,FMOL/KG,,UMOL/KG,,UMOL/KG,,,,DEG C,/MILLE,,/MILLE,,/MILLE,PMOL/KG,,UMOL/KG,,NMOL/KG,,MMOL/KG,,,G/KG,,G/KG,,PSS-78,,PSS-78,
33RO20180423,        I7N,      92,          1,        101,      11010,9,20180526,       1415,     5.9957,    60.9932,       3399,  3435.9,   1.8564,  34.7452,2,  34.7467,2,    132.1,2, 150.8410,2,    136.3,6,     35.4,6,     0.00,6,    2.483,6,   0.008,2,   0.006,2,   0.0032,2,  2322.0,6,  2422.3,2,   7.5816,6,    25.00, -999.00,9, -999.00,9, -999.00,-999.000,9,  -999.0,9,     -999.0,9,     -999.0,9,          1,     -999.0,9,     -999.0,9,     -999.0,9,     -999.0,9
33RO20180423,        I7N,      92,          1,        102,      11101,9,20180526,       1415,     5.9957,    60.9932,       3399,  3271.1,   1.8538,  34.7459,2,  34.7473,2,    131.8,2, 149.8400,2,    136.3,6,     35.4,6,     0.00,6,    2.484,6,   0.004,2,   0.004,2,        0,2,  2320.9,2,  2419.8,6,   7.5758,2,    25.00, -999.00,9, -999.00,9, -999.00,-999.000,9,  -999.0,9,     -999.0,9,     -999.0,9,          2,     -999.0,9,     -999.0,9,     -999.0,9,     -999.0,9
33RO20180423,        I7N,      92,          1,        103,      11102,9,20180526,       1415,     5.9957,    60.9932,       3399,  3101.2,   1.8491,  34.7463,2,  34.7534,2,    131.4,2, 149.5500,2,    136.0,6,     35.5,6,     0.00,6,    2.484,6,   0.005,2,   0.005,2,    0.012,2,  2320.0,2,  2421.1,2,   7.5755,2,    25.00, -999.00,9, -999.00,9, -999.00,-999.000,9,  -999.0,9,     -999.0,9,     -999.0,9,          3,     -999.0,9,     -999.0,9,     -999.0,9,     -999.0,9
33RO20180423,        I7N,      92,          1,        104,      11103,9,20180526,       1415,     5.9957,    60.9932,       3399,  2801.1,   1.9511,  34.7522,2,  34.7555,6,    129.5,2, 146.9500,2,    134.0,6,     35.4,6,     0.00,6,    2.497,6,   0.004,2,   0.003,2,   0.0047,2,  2317.0,2,  2418.0,2,   7.5788,2,    25.00, -999.00,9, -999.00,9, -999.00,-999.000,9,  -999.0,9,     -999.0,9,     -999.0,9,          4,     -999.0,9,     -999.0,9,     -999.0,9,     -999.0,9
33RO20180423,        I7N,      92,          1,        105,      11104,9,20180526,       1415,     5.9957,    60.9932,       3399,  2499.9,   2.2068,  34.7661,2,  34.7675,2,    122.2,2, 138.4115,2,    131.2,2,     35.7,2,     0.00,2,    2.536,2,   0.003,2,   0.003,2,   0.0069,2,  2320.4,2,  2416.1,2,   7.5602,2,    25.00, -999.00,9, -999.00,9, -999.00,-999.000,9,  -999.0,9,     -999.0,9,     -999.0,9,          5,     -999.0,9,     -999.0,9,     -999.0,9,     -999.0,9
33RO20180423,        I7N,      92,          1,        106,      11105,9,20180526,       1415,     5.9957,    60.9932,       3399,  2200.5,   2.5866,  34.7845,2,  34.7860,2,    113.5,2, 128.2590,2,    126.8,2,     36.0,2,     0.00,2,    2.573,2,   0.003,6,   0.003,6,   0.0172,6,  2321.0,2,  2410.1,2,   7.5483,2,    25.00, -999.00,9, -999.00,9, -999.00,-999.000,9,  -999.0,9,     -999.0,9,     -999.0,9,          6,     -999.0,9,     -999.0,9,     -999.0,9,     -999.0,9
33RO20180423,        I7N,      92,          1,        107,      11106,9,20180526,       1415,     5.9957,    60.9932,       3399,  1884.2,   3.3339,  34.8257,2,  34.8298,2,     96.5,2, 108.4940,2,    119.1,2,     36.8,2,     0.00,2,    2.653,2,   0.004,2,   0.004,2,   0.0016,2,  2321.3,2,  2402.4,2,   7.5251,2,    25.00, -999.00,9, -999.00,9, -999.00,-999.000,9,    42.8,3,     -999.0,9,     -999.0,9,          7,     -999.0,9,     -999.0,9,     -999.0,9,     -999.0,9
33RO20180423,        I7N,      92,          1,        108,      11107,9,20180526,       1415,     5.9957,    60.9932,       3399,  1623.2,   4.4771,  34.8905,2,  34.8931,2,     74.7,2,  84.0160,2,    107.0,2,     37.4,2,     0.00,2,    2.734,2,   0.008,2,   0.006,2,   0.0039,2,  2320.6,2,  2391.4,2,   7.4978,2,    25.00, -999.00,9, -999.00,9, -999.00,-999.000,9,  -999.0,9,     -999.0,9,     -999.0,9,          8,     -999.0,9,     -999.0,9,     -999.0,9,     -999.0,9
33RO20180423,        I7N,      92,          1,        109,      11108,9,20180526,       1415,     5.9957,    60.9932,       3399,  1367.6,   5.3753,  34.9475,2,  34.9553,2,     59.6,2,  67.0420,2,     98.0,2,     37.6,2,     0.00,2,    2.770,2,   0.016,2,   0.010,2,        0,2,  2318.5,2,  2382.5,2,   7.4815,2,    25.00, -999.00,9, -999.00,9, -999.00,-999.000,9,    45.2,3,     -999.0,9,     -999.0,9,          9,     -999.0,9,     -999.0,9,     -999.0,9,     -999.0,9
33RO20180423,        I7N,      92,          1,        110,      11109,9,20180526,       1415,     5.9957,    60.9932,       3399,  1167.7,   6.3547,  35.0307,2,  35.0324,2,     46.0,2,  51.8860,2,     89.2,2,     37.7,2,     0.00,2,    2.784,2,   0.039,2,   0.024,2,   0.0111,2,  2314.7,2,  2375.0,2,   7.4713,2,    25.00,    0.07,2, -155.00,2,    1.95,-999.000,9,    46.4,3,     -999.0,9,     -999.0,9,         10,     -999.0,9,     -999.0,9,     -999.0,9,     -999.0,9
33RO20180423,        I7N,      92,          1,        111,      11110,9,20180526,       1415,     5.9957,    60.9932,       3399,   950.1,   7.8695,  35.1564,2,  35.1638,2,     30.7,2,  35.4070,2,     74.6,2,     36.9,2,     0.00,2,    2.754,2,   0.095,2,   0.057,2,   0.0477,3,  2302.9,2,  2361.1,6,   7.4657,2,    25.00,    0.04,2, -136.00,2,    1.95,-999.000,9,    47.6,3,     -999.0,9,     -999.0,9,         11,     -999.0,9,     -999.0,9,     -999.0,9,     -999.0,9
33RO20180423,        I7N,      92,          1,        112,      11111,9,20180526,       1415,     5.9957,    60.9932,       3399,   800.7,   8.8242,  35.1969,2,  35.2130,2,     24.7,2,  28.6390,2,     64.0,2,     36.0,2,     0.00,2,    2.706,2,   0.164,6,   0.096,6,   0.0102,6,  2293.8,2,  2350.1,2,   7.4650,6,    25.00,    0.03,2, -118.00,2,    1.94,-999.000,9,    44.9,3,     -999.0,9,     -999.0,9,         12,     -999.0,9,     -999.0,9,     -999.0,9,     -999.0,9
33RO20180423,        I7N,      92,          1,        113,      11112,9,20180526,       1415,     5.9957,    60.9932,       3399,   650.9,   9.8753,  35.2528,2,  35.2986,2,     26.1,2,-999.0000,9,     51.2,2,     34.4,2,     0.00,2,    2.569,2,   0.379,2,   0.218,2,   0.0634,2,  2277.2,6,  2341.2,2,   7.4794,2,    25.00,    0.11,2,  -83.70,2,    1.90,-999.000,9,    44.8,3,     -999.0,9,     -999.0,9,         13,     -999.0,9,     -999.0,9,     -999.0,9,     -999.0,9
33RO20180423,        I7N,      92,          1,        114,      11113,9,20180526,       1415,     5.9957,    60.9932,       3399,   468.4,  10.9155,  35.2447,2,  35.2489,2,     40.5,2,  46.0980,2,     36.4,2,     31.4,2,     0.00,2,    2.306,2,   0.948,2,   0.524,2,   0.2211,2,  2257.4,2,  2328.6,2,   7.5091,2,    25.00,    0.21,6,  -46.80,6,    2.06,-999.000,9,    48.6,3,     -999.0,9,     -999.0,9,         14,     -999.0,9,     -999.0,9,     -999.0,9,     -999.0,9
33RO20180423,        I7N,      92,          1,        115,      11114,9,20180526,       1415,     5.9957,    60.9932,       3399,   410.1,  11.0332,  35.1719,2,-999.0000,9,     58.2,2,-999.0000,9,-999.0000,9,-999.0000,9,-999.0000,9,-999.0000,9,-999.000,9,-999.000,9,-999.0000,9,  -999.0,9,  -999.0,9,-999.0000,9,  -999.00, -999.00,9, -999.00,9, -999.00,-999.000,9,    48.6,3,     -999.0,9,     -999.0,9,         15,     -999.0,9,     -999.0,9,     -999.0,9,     -999.0,9
33RO20180423,        I7N,      92,          1,        116,      11115,9,20180526,       1415,     5.9957,    60.9932,       3399,   366.0,  11.3618,  35.1688,2,  35.1753,2,     64.3,2,  70.3990,2,     27.7,6,     28.5,6,     0.00,6,    2.032,6,   1.521,2,   0.838,2,   0.4369,2,  2232.3,2,  2321.4,2,   7.5544,2,    25.00,    0.38,2,  -17.80,2,    1.93,-999.000,9,  -999.0,9,     -999.0,9,     -999.0,9,         16,     -999.0,9,     -999.0,9,     -999.0,9,     -999.0,9
33RO20180423,        I7N,      92,          1,        117,      11116,9,20180526,       1415,     5.9957,    60.9932,       3399,   317.4,  11.9169,  35.1786,2,  35.1998,2,     71.4,2,  77.8060,2,-999.0000,9,-999.0000,9,-999.0000,9,-999.0000,9,   1.729,2,   0.964,2,    0.561,2,  2225.8,2,  2304.2,4,   7.5768,2,    25.00,    0.38,2,   -4.04,2,    2.85,-999.000,9,  -999.0,9,     -999.0,9,     -999.0,9,         17,     -999.0,9,     -999.0,9,     -999.0,9,     -999.0,9
33RO20180423,        I7N,      92,          1,        118,      11117,9,20180526,       1415,     5.9957,    60.9932,       3399,   268.0,  12.5889,  35.1812,2,  35.1824,2,     63.0,2,  69.1110,2,-999.0000,9,-999.0000,9,-999.0000,9,-999.0000,9,   1.760,2,   0.983,2,   0.5785,2,  2224.3,2,  2301.7,4,   7.5752,2,    25.00,    0.31,2,    2.64,2,    2.65,-999.000,9,    55.3,3,     -999.0,9,     -999.0,9,         18,     -999.0,9,     -999.0,9,     -999.0,9,     -999.0,9
33RO20180423,        I7N,      92,          1,        119,      11083,9,20180526,       1415,     5.9957,    60.9932,       3399,   213.4,  13.5858,  35.2077,2,  35.2226,2,     55.0,2,  60.1850,2,-999.0000,9,-999.0000,9,-999.0000,9,-999.0000,9,   1.749,2,   0.988,2,   0.6227,2,  2222.7,2,  2302.5,4,   7.5777,2,    25.00,    0.20,6,    3.74,6,    2.23,-999.000,9,    52.8,3,     -999.0,9,     -999.0,9,         19,     -999.0,9,     -999.0,9,     -999.0,9,     -999.0,9
33RO20180423,        I7N,      92,          1,        120,      11118,9,20180526,       1415,     5.9957,    60.9932,       3399,   168.2,  15.2867,  35.2962,2,  35.2992,2,     59.3,2,  64.3310,2,-999.0000,9,-999.0000,9,-999.0000,9,-999.0000,9,   1.798,2,   1.055,2,   0.7456,2,  2206.1,2,  2329.1,2,   7.6199,2,    25.00,    0.12,2,   11.40,2,    2.14,-999.000,9,    56.2,3,     -999.0,9,     -999.0,9,         20,     -999.0,9,     -999.0,9,     -999.0,9,     -999.0,9
33RO20180423,        I7N,      92,          1,        121,      11119,9,20180526,       1415,     5.9957,    60.9932,       3399,   133.6,  19.7319,  35.6108,2,  35.6109,2,     37.6,2,  41.7500,2,-999.0000,9,-999.0000,9,-999.0000,9,-999.0000,9,   1.562,2,   0.973,2,   0.9682,2,  2199.2,2,  2327.9,2,   7.6628,2,    25.00,   -0.13,2,   11.50,2,    2.10,-999.000,9,    68.8,3,     -999.0,9,     -999.0,9,         21,     -999.0,9,     -999.0,9,     -999.0,9,     -999.0,9
33RO20180423,        I7N,      92,          1,        122,      11120,9,20180526,       1415,     5.9957,    60.9932,       3399,    93.3,  24.8675,  36.0470,2,  36.0500,2,    116.6,2, 125.0620,2,-999.0000,9,-999.0000,9,-999.0000,9,-999.0000,9,   1.537,2,   0.971,2,   1.2455,2,  2113.4,2,  2352.3,6,   7.9062,2,    25.00,    0.53,2,   15.50,2,    2.10,-999.000,9,    68.3,3,     -999.0,9,     -999.0,9,         22,     -999.0,9,     -999.0,9,     -999.0,9,     -999.0,9
33RO20180423,        I7N,      92,          1,        123,      11121,9,20180526,       1415,     5.9957,    60.9932,       3399,    53.4,  27.5995,  35.6922,2,  35.6932,2,    177.4,2, 187.3970,2,-999.0000,9,-999.0000,9,-999.0000,9,-999.0000,9,   1.499,2,   0.953,2,   1.3402,2,  2032.1,2,  2324.0,2,   8.0326,6,    25.00,    0.99,2,   20.90,2,    2.03,-999.000,9,    80.2,3,     -999.0,9,     -999.0,9,         23,     -999.0,9,     -999.0,9,     -999.0,9,     -999.0,9
33RO20180423,        I7N,      92,          1,        124,      11122,9,20180526,       1415,     5.9957,    60.9932,       3399,     4.3,  30.0168,  35.1898,2,  35.1911,2,    183.3,2, 192.4300,2,-999.0000,9,-999.0000,9,-999.0000,9,-999.0000,9,   1.384,2,   0.884,2,   1.3192,2,  1980.5,6,  -999.0,5,   8.0806,2,    25.00,    1.13,2,   15.50,2,    2.16,-999.000,9,  -999.0,9,     -999.0,9,     -999.0,9,         24,     -999.0,9,     -999.0,9,     -999.0,9,     -999.0,9