BOTTLE,20230801CCHSIOCBG
EXPOCODE,SECT_ID,STNNBR,CASTNO,SAMPNO,BTLNBR,BTLNBR_FLAG_W,DATE,TIME,LATITUDE,LONGITUDE,DEPTH,CTDPRS,CTDTMP,CTDSAL,CTDSAL_FLAG_W,SALNTY,SALNTY_FLAG_W,CTDOXY,CTDOXY_FLAG_W,OXYGEN,OXYGEN_FLAG_W,SILCAT,SILCAT_FLAG_W,NITRAT,NITRAT_FLAG_W,NITRIT,NITRIT_FLAG_W,PHSPHT,PHSPHT_FLAG_W,CFC-11,CFC-11_FLAG_W,CFC-12,CFC-12_FLAG_W,SF6,SF6_FLAG_W,TCARBN,TCARBN_FLAG_W,ALKALI,ALKALI_FLAG_W,PH_SWS,PH_SWS_FLAG_W,PH_TMP,DELC13,DELC13_FLAG_W,DELC14,DELC14_FLAG_W,C14ERR,CCL4,CCL4_FLAG_W,DOC,DOC_FLAG_W,N2O,N2O_FLAG_W,CALCIUM,CALCIUM_FLAG_W,SAMPNO_U,DNSSAL,DNSSAL_FLAG_W,DNSSAL2,DNSSAL2_FLAG_W,SALNTY_DNSSAL,SALNTY_DNSSAL_FLAG_W,SALNTY_DNSSAL2,SALNTY_DNSSAL2_FLAG_W
,,,,,,,,,,,METERS,DBAR,ITS-90,PSS-78,,PSS-78,,UMOL/KG,,UMOL/KG,,UMOL/KG,,UMOL/KG,,UMOL/KG,,UMOL/KG,,PMOL/KG,,PMOL/KG,,FMOL/KG,,UMOL/KG,,UMOL/KG,,,,DEG C,/MILLE,,/MILLE,,/MILLE,PMOL/KG,,UMOL/KG,,NMOL/KG,,MMOL/KG,,,G/KG,,G/KG,,PSS-78,,PSS-78,
33RO20180423,        I7N,      93,          1,        101,      11010,2,20180526,       2059,     6.3935,    61.3602,       3027,  3066.7,   1.8537,  34.7471,2,  34.7506,2,    131.7,2, 148.6960,2,    136.0,6,     35.3,6,     0.00,6,    2.480,6,   0.005,2,   0.005,2,   0.0067,2,  2317.2,6,  2415.6,2,   7.5761,6,    25.00, -999.00,9, -999.00,9, -999.00,-999.000,1,  -999.0,9,     -999.0,1,    10.3452,2,          1,     -999.0,9,     -999.0,9,     -999.0,9,     -999.0,9
33RO20180423,        I7N,      93,          1,        102,      11101,2,20180526,       2059,     6.3935,    61.3602,       3027,  2831.9,   1.9497,  34.7528,2,  34.7541,2,    128.7,2, 144.4690,2,    135.0,6,     35.4,6,     0.00,6,    2.502,6,   0.005,2,   0.005,2,   0.0304,3,  2317.3,2,  2416.9,6,   7.5697,2,    25.00, -999.00,9, -999.00,9, -999.00,-999.000,1,  -999.0,9,     -999.0,1,    10.3388,6,          2,     -999.0,9,     -999.0,9,     -999.0,9,     -999.0,9
33RO20180423,        I7N,      93,          1,        103,      11102,2,20180526,       2059,     6.3935,    61.3602,       3027,  2601.2,   2.0700,  34.7593,2,-999.0000,9,    125.7,2,-999.0000,9,    107.2,4,     32.8,4,     0.00,4,    2.368,4,-999.000,9,-999.000,9,-999.0000,9,  -999.0,9,  -999.0,9,-999.0000,9,  -999.00, -999.00,9, -999.00,9, -999.00,-999.000,9,  -999.0,9,     -999.0,9,     -999.0,9,          3,     -999.0,9,     -999.0,9,     -999.0,9,     -999.0,9
33RO20180423,        I7N,      93,          1,        104,      11103,2,20180526,       2059,     6.3935,    61.3602,       3027,  2300.5,   2.3655,  34.7741,2,  34.7758,2,    118.5,2, 132.8130,2,    129.7,6,     35.8,6,     0.00,6,    2.556,6,   0.003,2,   0.004,2,   0.0112,2,  2316.2,2,  2409.9,2,   7.5535,2,    25.00, -999.00,9, -999.00,9, -999.00,-999.000,1,    41.4,3,     -999.0,1,    10.3295,2,          4,     -999.0,9,     -999.0,9,     -999.0,9,     -999.0,9
33RO20180423,        I7N,      93,          1,        105,      11104,2,20180526,       2059,     6.3935,    61.3602,       3027,  1999.2,   3.1346,  34.8121,2,  34.8504,2,    101.9,2, 113.9160,2,    121.3,2,     36.5,2,     0.00,2,    2.628,2,   0.003,2,   0.003,2,        0,2,  2315.5,2,  2404.4,2,   7.5306,2,    25.00, -999.00,9, -999.00,9, -999.00,-999.000,1,  -999.0,9,     -999.0,1,    10.3166,2,          5,     -999.0,9,     -999.0,9,     -999.0,9,     -999.0,9
33RO20180423,        I7N,      93,          1,        106,      11105,2,20180526,       2059,     6.3935,    61.3602,       3027,  1717.7,   3.8785,  34.8558,2,  34.8582,2,     86.2,2,  95.9860,2,    113.5,2,     36.9,2,     0.00,2,    2.696,2,-999.000,9,-999.000,9,-999.0000,9,  2314.4,2,  2396.8,2,   7.5107,2,    25.00, -999.00,9, -999.00,9, -999.00,-999.000,9,  -999.0,9,     -999.0,9,    10.3596,2,          6,     -999.0,9,     -999.0,9,     -999.0,9,     -999.0,9
33RO20180423,        I7N,      93,          1,        107,      11106,2,20180526,       2059,     6.3935,    61.3602,       3027,  1467.8,   4.9627,  34.9244,2,  34.9306,6,     66.6,2,  73.9250,2,    102.7,2,     37.4,2,     0.00,2,    2.748,2,   0.014,2,   0.009,2,   0.0064,2,  2314.2,2,  2386.4,2,   7.4872,2,    25.00, -999.00,9, -999.00,9, -999.00,-999.000,1,    43.4,3,     -999.0,1,    10.3726,2,          7,     -999.0,9,     -999.0,9,     -999.0,9,     -999.0,9
33RO20180423,        I7N,      93,          1,        108,      11107,2,20180526,       2059,     6.3935,    61.3602,       3027,  1230.6,   6.2386,  35.0231,2,  35.0272,2,     46.9,2,  52.6040,2,     90.7,2,     37.5,2,     0.00,2,    2.793,2,   0.035,2,   0.022,2,   0.0049,2,  2308.9,2,  2373.6,6,   7.4703,2,    25.00, -999.00,9, -999.00,9, -999.00,-999.000,1,  -999.0,9,     -999.0,1,    10.3803,2,          8,     -999.0,9,     -999.0,9,     -999.0,9,     -999.0,9
33RO20180423,        I7N,      93,          1,        109,      11108,2,20180526,       2059,     6.3935,    61.3602,       3027,  1032.5,   7.2065,  35.1136,2,  35.1159,2,     35.9,2,  40.1980,2,     81.9,2,     37.3,2,     0.00,2,    2.794,2,   0.064,2,   0.040,2,        0,2,  2304.5,2,  2352.0,4,   7.4660,6,    25.00, -999.00,9, -999.00,9, -999.00,-999.000,1,  -999.0,9,     -999.0,1,    10.3941,2,          9,     -999.0,9,     -999.0,9,     -999.0,9,     -999.0,9
33RO20180423,        I7N,      93,          1,        110,      11109,2,20180526,       2059,     6.3935,    61.3602,       3027,   856.8,   8.2739,  35.1743,2,  35.1900,2,     28.6,2,  32.3970,2,     70.3,2,     36.6,2,     0.00,2,    2.730,2,   0.121,2,   0.072,2,   0.0228,2,  2292.1,2,  2355.8,2,   7.4641,2,    25.00, -999.00,9, -999.00,9, -999.00,-999.000,1,    44.6,3,     -999.0,1,    10.3916,2,         10,     -999.0,9,     -999.0,9,     -999.0,9,     -999.0,9
33RO20180423,        I7N,      93,          1,        111,      11110,2,20180526,       2059,     6.3935,    61.3602,       3027,   730.0,   9.4157,  35.2584,2,  35.2623,2,     23.4,2,  26.5660,2,     58.4,2,     35.3,2,     0.00,2,    2.662,2,   0.245,2,   0.143,2,   0.0761,2,  2284.5,2,  2348.9,2,   7.4695,2,    25.00, -999.00,9, -999.00,9, -999.00,-999.000,1,  -999.0,9,     -999.0,1,    10.3486,3,         11,     -999.0,9,     -999.0,9,     -999.0,9,     -999.0,9
33RO20180423,        I7N,      93,          1,        112,      11111,2,20180526,       2059,     6.3935,    61.3602,       3027,   604.1,  10.1441,  35.2648,2,  35.3011,2,     26.1,2,  29.3350,2,     48.5,2,     34.0,2,     0.00,2,    2.542,2,   0.444,2,   0.251,2,   0.1037,2,  2269.3,2,  2340.1,2,   7.4794,2,    25.00, -999.00,9, -999.00,9, -999.00,-999.000,1,  -999.0,9,     -999.0,1,    10.5256,3,         12,     -999.0,9,     -999.0,9,     -999.0,9,     -999.0,9
33RO20180423,        I7N,      93,          1,        113,      11112,2,20180526,       2059,     6.3935,    61.3602,       3027,   501.2,  10.7974,  35.2510,2,  35.2928,2,     35.5,2,  39.2260,2,     39.0,2,     32.1,2,     0.00,2,    2.371,2,   0.809,2,   0.451,2,   0.1985,2,  2253.6,2,  2330.4,2,   7.4984,2,    25.00, -999.00,9, -999.00,9, -999.00,-999.000,1,    46.0,3,     -999.0,1,    10.4262,2,         13,     -999.0,9,     -999.0,9,     -999.0,9,     -999.0,9
33RO20180423,        I7N,      93,          1,        114,      11113,2,20180526,       2059,     6.3935,    61.3602,       3027,   434.3,  10.9873,  35.2303,2,  35.2395,2,     44.8,2,  49.3650,2,     34.8,2,     31.0,2,     0.00,2,    2.270,2,   1.065,2,   0.586,2,   0.2481,2,  2247.5,2,  2326.0,2,   7.5168,2,    25.00, -999.00,9, -999.00,9, -999.00,-999.000,1,    49.8,3,     -999.0,1,    10.4123,2,         14,     -999.0,9,     -999.0,9,     -999.0,9,     -999.0,9
33RO20180423,        I7N,      93,          1,        115,      11114,2,20180526,       2059,     6.3935,    61.3602,       3027,   366.8,  11.3444,  35.2097,2,  35.2598,2,     55.0,2,  60.0860,2,     30.0,2,     29.4,2,     0.01,2,    2.136,2,   1.369,2,   0.757,2,   0.3878,2,  2235.4,2,  2306.7,4,   7.5373,2,    25.00, -999.00,9, -999.00,9, -999.00,-999.000,1,    49.0,3,     -999.0,1,    10.3918,2,         15,     -999.0,9,     -999.0,9,     -999.0,9,     -999.0,9
33RO20180423,        I7N,      93,          1,        116,      11115,2,20180526,       2059,     6.3935,    61.3602,       3027,   333.3,  11.8217,  35.2446,2,  35.2470,6,     47.3,2,  51.8840,2,     28.4,2,     29.4,2,     0.00,2,    2.126,2,   1.401,2,   0.777,2,    0.402,2,  2237.0,2,  2320.2,2,   7.5293,2,    25.00, -999.00,9, -999.00,9, -999.00,-999.000,1,    49.2,3,     -999.0,1,    10.4086,2,         16,     -999.0,9,     -999.0,9,     -999.0,9,     -999.0,9
33RO20180423,        I7N,      93,          1,        117,      11116,2,20180526,       2059,     6.3935,    61.3602,       3027,   282.8,  12.5554,  35.2402,2,  35.2406,2,     46.3,2,  50.6030,2,     24.8,2,     28.3,2,     0.00,2,    2.042,2,   1.564,2,   0.874,2,   0.4734,2,  2233.6,2,  2324.0,2,   7.5384,2,    25.00, -999.00,9, -999.00,9, -999.00,-999.000,1,    50.1,3,     -999.0,1,    10.4470,2,         17,     -999.0,9,     -999.0,9,     -999.0,9,     -999.0,9
33RO20180423,        I7N,      93,          1,        118,      11117,2,20180526,       2059,     6.3935,    61.3602,       3027,   233.7,  13.5057,  35.3115,2,  35.3671,2,     55.4,2,  60.9060,2,     22.0,2,     25.7,2,     0.00,2,    1.897,2,   1.746,2,   0.997,2,    0.652,2,  2222.3,2,  2320.7,2,   7.5746,2,    25.00, -999.00,9, -999.00,9, -999.00,-999.000,1,    50.7,3,     -999.0,1,    10.4665,2,         18,     -999.0,9,     -999.0,9,     -999.0,9,     -999.0,9
33RO20180423,        I7N,      93,          1,        119,      11083,2,20180526,       2059,     6.3935,    61.3602,       3027,   187.5,  14.2818,  35.3153,2,  35.3308,2,     57.2,2,  62.3530,2,     20.3,2,     24.6,2,     0.00,2,    1.833,2,   1.784,2,   1.036,2,   0.6931,2,  2213.8,2,  2319.5,2,   7.5955,2,    25.00, -999.00,9, -999.00,9, -999.00,-999.000,1,  -999.0,9,     -999.0,1,    10.4448,2,         19,     -999.0,9,     -999.0,9,     -999.0,9,     -999.0,9
33RO20180423,        I7N,      93,          1,        120,      11118,2,20180526,       2059,     6.3935,    61.3602,       3027,   147.2,  17.4378,  35.4509,2,  35.4568,2,     37.7,2,  41.0915,2,     17.2,2,     24.0,2,     0.01,2,    1.858,2,   1.642,2,   0.988,2,    0.806,2,  2206.5,2,  2309.3,3,   7.6147,2,    25.00, -999.00,9, -999.00,9, -999.00,-999.000,1,    58.6,3,     -999.0,1,    10.4806,2,         20,     -999.0,9,     -999.0,9,     -999.0,9,     -999.0,9
33RO20180423,        I7N,      93,          1,        121,      11119,2,20180526,       2059,     6.3935,    61.3602,       3027,   107.2,  23.2717,  35.7526,2,  35.7198,2,     92.0,2,  99.2470,2,      7.6,2,     14.5,2,     0.04,2,    1.217,2,   1.601,6,   0.994,6,   1.2001,6,  2125.0,2,  2322.1,3,   7.8344,2,    25.00, -999.00,9, -999.00,9, -999.00,-999.000,1,    65.3,3,     -999.0,1,    10.5147,2,         21,     -999.0,9,     -999.0,9,     -999.0,9,     -999.0,9
33RO20180423,        I7N,      93,          1,        122,      11120,2,20180526,       2059,     6.3935,    61.3602,       3027,    74.9,  26.7381,  35.7309,2,  35.7337,2,    166.0,2, 172.1920,2,      2.7,2,      1.4,2,     0.28,2,    0.403,2,   1.564,2,   0.975,2,   1.3895,2,  2046.4,2,  2328.0,3,   7.9966,2,    25.00, -999.00,9, -999.00,9, -999.00,-999.000,1,    74.1,3,     -999.0,1,    10.5024,2,         22,     -999.0,9,     -999.0,9,     -999.0,9,     -999.0,9
33RO20180423,        I7N,      93,          1,        123,      11121,2,20180526,       2059,     6.3935,    61.3602,       3027,    27.8,  29.6827,  35.0643,2,  35.0664,2,    185.5,2, 195.1280,2,      1.6,2,      0.0,2,     0.00,2,    0.114,2,   1.411,2,   0.891,2,   1.3643,2,  1964.5,2,  2302.1,6,   8.0865,2,    25.00, -999.00,9, -999.00,9, -999.00,-999.000,1,    71.7,3,     -999.0,1,    10.3061,2,         23,     -999.0,9,     -999.0,9,     -999.0,9,     -999.0,9
33RO20180423,        I7N,      93,          1,        124,      11122,2,20180526,       2059,     6.3935,    61.3602,       3027,     4.3,  29.7608,  35.0588,2,  35.0608,2,    185.4,2, 194.7650,2,      1.6,2,      0.0,2,     0.00,2,    0.115,2,   1.380,2,   0.885,2,   1.3426,2,  1965.7,6,  2302.6,2,   8.0871,6,    25.00, -999.00,9, -999.00,9, -999.00,-999.000,1,  -999.0,9,     -999.0,1,    10.3102,2,         24,     -999.0,9,     -999.0,9,     -999.0,9,     -999.0,9