BOTTLE,20230801CCHSIOCBG
EXPOCODE,SECT_ID,STNNBR,CASTNO,SAMPNO,BTLNBR,BTLNBR_FLAG_W,DATE,TIME,LATITUDE,LONGITUDE,DEPTH,CTDPRS,CTDTMP,CTDSAL,CTDSAL_FLAG_W,SALNTY,SALNTY_FLAG_W,CTDOXY,CTDOXY_FLAG_W,OXYGEN,OXYGEN_FLAG_W,SILCAT,SILCAT_FLAG_W,NITRAT,NITRAT_FLAG_W,NITRIT,NITRIT_FLAG_W,PHSPHT,PHSPHT_FLAG_W,CFC-11,CFC-11_FLAG_W,CFC-12,CFC-12_FLAG_W,SF6,SF6_FLAG_W,TCARBN,TCARBN_FLAG_W,ALKALI,ALKALI_FLAG_W,PH_SWS,PH_SWS_FLAG_W,PH_TMP,DELC13,DELC13_FLAG_W,DELC14,DELC14_FLAG_W,C14ERR,CCL4,CCL4_FLAG_W,DOC,DOC_FLAG_W,N2O,N2O_FLAG_W,CALCIUM,CALCIUM_FLAG_W,SAMPNO_U,DNSSAL,DNSSAL_FLAG_W,DNSSAL2,DNSSAL2_FLAG_W,SALNTY_DNSSAL,SALNTY_DNSSAL_FLAG_W,SALNTY_DNSSAL2,SALNTY_DNSSAL2_FLAG_W
,,,,,,,,,,,METERS,DBAR,ITS-90,PSS-78,,PSS-78,,UMOL/KG,,UMOL/KG,,UMOL/KG,,UMOL/KG,,UMOL/KG,,UMOL/KG,,PMOL/KG,,PMOL/KG,,FMOL/KG,,UMOL/KG,,UMOL/KG,,,,DEG C,/MILLE,,/MILLE,,/MILLE,PMOL/KG,,UMOL/KG,,NMOL/KG,,MMOL/KG,,,G/KG,,G/KG,,PSS-78,,PSS-78,
33RO20180423,        I7N,      85,          1,        101,      11010,2,20180524,       1754,     3.1940,    58.4255,       4733,  4810.6,   1.3837,  34.7183,2,  34.7202,2,    158.0,2, 182.9990,2,    132.3,6,     33.8,6,     0.00,6,    2.363,6,   0.020,2,   0.010,2,   0.0044,2,  2295.5,6,  2388.0,4,   7.6031,6,    25.00, -999.00,9, -999.00,9, -999.00,-999.000,1,    39.5,3,     -999.0,1,     -999.0,9,          1,     -999.0,9,     -999.0,9,     -999.0,9,     -999.0,9
33RO20180423,        I7N,      85,          1,        102,      11101,2,20180524,       1754,     3.1940,    58.4255,       4733,  4670.4,   1.3872,  34.7191,2,  34.7256,6,    156.8,2, 177.9800,4,    133.0,6,     34.1,6,     0.00,6,    2.376,6,   0.010,2,   0.005,2,        0,2,  2297.7,2,  2403.5,6,   7.5990,2,    25.00, -999.00,9, -999.00,9, -999.00,-999.000,1,  -999.0,9,     -999.0,1,     -999.0,9,          2,     -999.0,9,     -999.0,9,     -999.0,9,     -999.0,9
33RO20180423,        I7N,      85,          1,        103,      11102,2,20180524,       1754,     3.1940,    58.4255,       4733,  4500.7,   1.3999,  34.7204,2,  34.7341,2,    155.3,2, 180.7810,2,    133.0,6,     34.0,6,     0.00,6,    2.366,6,   0.014,2,   0.007,2,   0.0003,2,  2293.8,2,  2403.2,2,   7.5998,2,    25.00, -999.00,9, -999.00,9, -999.00,-999.000,1,  -999.0,9,     -999.0,1,     -999.0,9,          3,     -999.0,9,     -999.0,9,     -999.0,9,     -999.0,9
33RO20180423,        I7N,      85,          1,        104,      11103,2,20180524,       1754,     3.1940,    58.4255,       4733,  4201.2,   1.4298,  34.7230,2,  34.7241,2,    152.7,2, 177.8450,2,    132.8,6,     34.0,6,     0.00,6,    2.379,6,-999.000,9,-999.000,9,-999.0000,9,  2298.3,2,  2404.8,2,   7.5977,2,    25.00, -999.00,9, -999.00,9, -999.00,-999.000,9,  -999.0,9,     -999.0,9,     -999.0,9,          4,     -999.0,9,     -999.0,9,     -999.0,9,     -999.0,9
33RO20180423,        I7N,      85,          1,        105,      11104,2,20180524,       1754,     3.1940,    58.4255,       4733,  3897.5,   1.4945,  34.7266,2,  34.7278,2,    149.0,2, 173.2340,2,    132.9,2,     34.2,2,     0.00,2,    2.390,2,   0.008,2,   0.006,2,        0,2,  2300.0,2,  2406.3,2,   7.5956,2,    25.00, -999.00,9, -999.00,9, -999.00,-999.000,1,    41.3,3,     -999.0,1,     -999.0,9,          5,     -999.0,9,     -999.0,9,     -999.0,9,     -999.0,9
33RO20180423,        I7N,      85,          1,        106,      11105,2,20180524,       1754,     3.1940,    58.4255,       4733,  3601.8,   1.5959,  34.7315,2,  34.7375,6,    144.5,2, 167.8000,2,    132.5,2,     34.4,2,     0.00,2,    2.406,2,-999.000,9,-999.000,9,-999.0000,9,  2304.3,2,  2408.2,2,   7.5899,2,    25.00, -999.00,9, -999.00,9, -999.00,-999.000,9,  -999.0,9,     -999.0,9,     -999.0,9,          6,     -999.0,9,     -999.0,9,     -999.0,9,     -999.0,9
33RO20180423,        I7N,      85,          1,        107,      11106,2,20180524,       1754,     3.1940,    58.4255,       4733,  3301.0,   1.7068,  34.7368,2,  34.7426,2,    139.9,2, 162.1900,2,    133.0,2,     34.8,2,     0.00,2,    2.436,2,   0.004,2,   0.004,2,   0.0003,2,  2309.4,2,  2395.7,4,   7.5853,2,    25.00, -999.00,9, -999.00,9, -999.00,-999.000,1,    41.8,3,     -999.0,1,     -999.0,9,          7,     -999.0,9,     -999.0,9,     -999.0,9,     -999.0,9
33RO20180423,        I7N,      85,          1,        108,      11107,2,20180524,       1754,     3.1940,    58.4255,       4733,  3000.3,   1.8415,  34.7436,2,  34.7455,2,    134.5,2, 155.2950,2,    133.1,2,     35.1,2,     0.00,2,    2.476,2,-999.000,9,-999.000,9,-999.0000,9,  2313.7,2,  2410.6,2,   7.5793,2,    25.00, -999.00,9, -999.00,9, -999.00,-999.000,9,    40.2,3,     -999.0,9,     -999.0,9,          8,     -999.0,9,     -999.0,9,     -999.0,9,     -999.0,9
33RO20180423,        I7N,      85,          1,        109,      11108,2,20180524,       1754,     3.1940,    58.4255,       4733,  2700.6,   1.9811,  34.7501,2,  34.7680,2,    130.1,2, 149.4050,2,    131.0,2,     35.2,2,     0.00,2,    2.492,2,   0.002,2,   0.003,2,        0,2,  2314.6,2,  2410.0,2,   7.5722,2,    25.00, -999.00,9, -999.00,9, -999.00,-999.000,1,  -999.0,9,     -999.0,1,     -999.0,9,          9,     -999.0,9,     -999.0,9,     -999.0,9,     -999.0,9
33RO20180423,        I7N,      85,          1,        110,      11109,2,20180524,       1754,     3.1940,    58.4255,       4733,  2400.7,   2.2284,  34.7650,2,  34.7669,2,    121.5,2, 138.6930,2,    130.1,2,     35.7,2,     0.00,2,    2.552,2,-999.000,9,-999.000,9,-999.0000,9,  2321.8,2,  2411.7,2,   7.5627,2,    25.00, -999.00,9, -999.00,9, -999.00,-999.000,9,    40.0,3,     -999.0,9,     -999.0,9,         10,     -999.0,9,     -999.0,9,     -999.0,9,     -999.0,9
33RO20180423,        I7N,      85,          1,        111,      11110,2,20180524,       1754,     3.1940,    58.4255,       4733,  2099.1,   2.7650,  34.7888,2,  34.7947,2,    109.9,2, 125.1480,2,    123.5,2,     36.1,2,     0.00,2,    2.599,2,   0.003,2,   0.003,2,        0,2,  2319.2,2,  2404.6,2,   7.5443,2,    25.00, -999.00,9, -999.00,9, -999.00,-999.000,1,    39.7,3,     -999.0,1,     -999.0,9,         11,     -999.0,9,     -999.0,9,     -999.0,9,     -999.0,9
33RO20180423,        I7N,      85,          1,        112,      11111,2,20180524,       1754,     3.1940,    58.4255,       4733,  1801.4,   3.5961,  34.8294,2,  34.8444,2,     93.4,2, 105.3400,2,    114.3,2,     36.5,2,     0.00,2,    2.663,2,-999.000,9,-999.000,9,-999.0000,9,  2319.3,2,  2394.6,2,   7.5221,2,    25.00, -999.00,9, -999.00,9, -999.00,-999.000,9,  -999.0,9,     -999.0,9,     -999.0,9,         12,     -999.0,9,     -999.0,9,     -999.0,9,     -999.0,9
33RO20180423,        I7N,      85,          1,        113,      11112,2,20180524,       1754,     3.1940,    58.4255,       4733,  1550.7,   4.7425,  34.9018,2,  34.9237,2,     71.9,2,  81.1950,2,    103.5,2,     37.2,2,     0.00,2,    2.733,2,   0.014,2,   0.010,2,        0,2,  2317.9,2,  2384.7,6,   7.4956,2,    25.00, -999.00,9, -999.00,9, -999.00,-999.000,1,  -999.0,9,     -999.0,1,     -999.0,9,         13,     -999.0,9,     -999.0,9,     -999.0,9,     -999.0,9
33RO20180423,        I7N,      85,          1,        114,      11113,2,20180524,       1754,     3.1940,    58.4255,       4733,  1300.3,   5.7072,  34.9562,2,  34.9855,2,     56.6,2,  63.2240,2,     94.3,2,     37.6,2,     0.00,2,    2.774,2,-999.000,9,-999.000,9,-999.0000,9,  2315.0,2,  2376.2,2,   7.4814,6,    25.00, -999.00,9, -999.00,9, -999.00,-999.000,9,  -999.0,9,     -999.0,9,     -999.0,9,         14,     -999.0,9,     -999.0,9,     -999.0,9,     -999.0,9
33RO20180423,        I7N,      85,          1,        115,      11114,2,20180524,       1754,     3.1940,    58.4255,       4733,  1049.9,   6.8715,  35.0352,2,  35.0396,2,     42.0,2,  47.2590,2,     83.3,2,     37.5,2,     0.00,2,    2.787,2,   0.054,2,   0.032,2,   0.0066,2,  2308.4,2,  2352.2,4,   7.4697,2,    25.00, -999.00,9, -999.00,9, -999.00,-999.000,1,  -999.0,9,     -999.0,1,     -999.0,9,         15,     -999.0,9,     -999.0,9,     -999.0,9,     -999.0,9
33RO20180423,        I7N,      85,          1,        116,      11115,2,20180524,       1754,     3.1940,    58.4255,       4733,   801.5,   8.1939,  35.1000,2,  35.1006,2,     34.6,2,  39.1200,2,     68.4,2,     36.5,2,     0.00,2,    2.724,2,   0.155,6,   0.089,6,   0.0182,6,  2293.1,6,  2351.6,2,   7.4722,2,    25.00, -999.00,9, -999.00,9, -999.00,-999.000,1,    41.3,3,     -999.0,1,     -999.0,9,         16,     -999.0,9,     -999.0,9,     -999.0,9,     -999.0,9
33RO20180423,        I7N,      85,          1,        117,      11116,2,20180524,       1754,     3.1940,    58.4255,       4733,   618.0,   9.6105,  35.1688,2,  35.1902,2,     43.5,2,  48.4250,2,     49.4,2,     33.4,2,     0.00,2,    2.487,2,   0.566,2,   0.315,2,   0.1309,2,  2270.6,2,  2336.4,2,   7.5027,2,    25.00, -999.00,9, -999.00,9, -999.00,-999.000,1,    43.9,3,     -999.0,1,     -999.0,9,         17,     -999.0,9,     -999.0,9,     -999.0,9,     -999.0,9
33RO20180423,        I7N,      85,          1,        118,      11117,2,20180524,       1754,     3.1940,    58.4255,       4733,   449.9,  10.2639,  35.1281,2,  35.1288,2,     56.5,2,  61.7430,2,     37.7,2,     31.3,2,     0.00,2,    2.289,2,-999.000,9,-999.000,9,-999.0000,9,  2248.3,2,  2324.8,2,   7.5260,2,    25.00, -999.00,9, -999.00,9, -999.00,-999.000,9,    43.7,3,     -999.0,9,     -999.0,9,         18,     -999.0,9,     -999.0,9,     -999.0,9,     -999.0,9
33RO20180423,        I7N,      85,          1,        119,      11083,2,20180524,       1754,     3.1940,    58.4255,       4733,   301.5,  11.3093,  35.1426,2,  35.1610,2,     73.3,2,  79.1740,2,     26.7,2,     27.7,2,     0.00,2,    2.002,2,   1.638,2,   0.894,2,   0.4704,2,  2226.3,2,  2301.6,3,   7.5731,2,    25.00, -999.00,9, -999.00,9, -999.00,-999.000,1,    44.4,3,     -999.0,1,     -999.0,9,         19,     -999.0,9,     -999.0,9,     -999.0,9,     -999.0,9
33RO20180423,        I7N,      85,          1,        120,      11118,2,20180524,       1754,     3.1940,    58.4255,       4733,   200.3,  13.2962,  35.2508,2,  35.2533,2,     69.9,2,  75.4720,2,     21.0,2,     24.8,2,     0.00,2,    1.830,2,   1.844,2,   1.048,2,   0.7115,2,  2213.2,2,  2303.8,3,   7.6003,2,    25.00, -999.00,9, -999.00,9, -999.00,-999.000,1,    45.2,3,     -999.0,1,     -999.0,9,         20,     -999.0,9,     -999.0,9,     -999.0,9,     -999.0,9
33RO20180423,        I7N,      85,          1,        121,      11119,2,20180524,       1754,     3.1940,    58.4255,       4733,   150.1,  16.5537,  35.2677,2,  35.2832,2,     36.3,2,  41.5740,2,     18.9,2,     25.6,2,     0.00,2,    1.886,2,   1.597,2,   0.954,2,   0.7045,2,  2211.1,2,  2316.0,2,   7.6034,2,    25.00, -999.00,9, -999.00,9, -999.00,-999.000,1,    48.1,3,     -999.0,1,     -999.0,9,         21,     -999.0,9,     -999.0,9,     -999.0,9,     -999.0,9
33RO20180423,        I7N,      85,          1,        122,      11120,2,20180524,       1754,     3.1940,    58.4255,       4733,   100.8,  23.2743,  35.5040,2,  35.5028,2,     91.7,2,  98.3790,2,      8.5,2,     14.4,2,     0.13,2,    1.119,2,-999.000,9,-999.000,9,-999.0000,9,  2122.4,2,  2320.8,2,   7.8303,2,    25.00, -999.00,9, -999.00,9, -999.00,-999.000,9,    55.5,3,     -999.0,9,     -999.0,9,         22,     -999.0,9,     -999.0,9,     -999.0,9,     -999.0,9
33RO20180423,        I7N,      85,          1,        123,      11121,2,20180524,       1754,     3.1940,    58.4255,       4733,    50.0,  28.7965,  35.4039,2,  35.4087,2,    176.7,2, 186.9150,2,      2.1,2,      0.1,2,     0.01,2,    0.216,2,   1.402,2,   0.900,2,   1.3585,2,  2001.4,2,  2320.5,6,   8.0602,2,    25.00, -999.00,9, -999.00,9, -999.00,-999.000,1,    67.9,3,     -999.0,1,     -999.0,9,         23,     -999.0,9,     -999.0,9,     -999.0,9,     -999.0,9
33RO20180423,        I7N,      85,          1,        124,      11122,2,20180524,       1754,     3.1940,    58.4255,       4733,     3.5,  29.1723,  35.2428,2,  35.2443,2,    185.2,2, 194.0820,2,      1.7,2,      0.1,2,     0.00,2,    0.142,2,-999.000,9,-999.000,9,-999.0000,9,  1983.8,6,  2311.3,2,   8.0818,6,    25.00, -999.00,9, -999.00,9, -999.00,-999.000,9,    70.7,3,     -999.0,9,     -999.0,9,         24,     -999.0,9,     -999.0,9,     -999.0,9,     -999.0,9