BOTTLE,20230801CCHSIOCBG
EXPOCODE,SECT_ID,STNNBR,CASTNO,SAMPNO,BTLNBR,BTLNBR_FLAG_W,DATE,TIME,LATITUDE,LONGITUDE,DEPTH,CTDPRS,CTDTMP,CTDSAL,CTDSAL_FLAG_W,SALNTY,SALNTY_FLAG_W,CTDOXY,CTDOXY_FLAG_W,OXYGEN,OXYGEN_FLAG_W,SILCAT,SILCAT_FLAG_W,NITRAT,NITRAT_FLAG_W,NITRIT,NITRIT_FLAG_W,PHSPHT,PHSPHT_FLAG_W,CFC-11,CFC-11_FLAG_W,CFC-12,CFC-12_FLAG_W,SF6,SF6_FLAG_W,TCARBN,TCARBN_FLAG_W,ALKALI,ALKALI_FLAG_W,PH_SWS,PH_SWS_FLAG_W,PH_TMP,DELC13,DELC13_FLAG_W,DELC14,DELC14_FLAG_W,C14ERR,CCL4,CCL4_FLAG_W,DOC,DOC_FLAG_W,N2O,N2O_FLAG_W,CALCIUM,CALCIUM_FLAG_W,SAMPNO_U,DNSSAL,DNSSAL_FLAG_W,DNSSAL2,DNSSAL2_FLAG_W,SALNTY_DNSSAL,SALNTY_DNSSAL_FLAG_W,SALNTY_DNSSAL2,SALNTY_DNSSAL2_FLAG_W
,,,,,,,,,,,METERS,DBAR,ITS-90,PSS-78,,PSS-78,,UMOL/KG,,UMOL/KG,,UMOL/KG,,UMOL/KG,,UMOL/KG,,UMOL/KG,,PMOL/KG,,PMOL/KG,,FMOL/KG,,UMOL/KG,,UMOL/KG,,,,DEG C,/MILLE,,/MILLE,,/MILLE,PMOL/KG,,UMOL/KG,,NMOL/KG,,MMOL/KG,,,G/KG,,G/KG,,PSS-78,,PSS-78,
33RO20180423,        I7N,      53,          1,        101,      11010,2,20180512,       1256,    -8.5657,    52.3678,       4291,  4347.3,   1.2757,  34.7159,2,  34.7153,2,    166.7,2, 192.0980,2,    128.3,6,     33.3,6,     0.00,6,    2.276,6,   0.044,2,   0.023,2,        0,2,  2280.7,2,  2385.3,6,   7.5977,6,    25.00, -999.00,9, -999.00,9, -999.00,-999.000,1,  -999.0,9,     -999.0,1,     -999.0,9,          1,     -999.0,9,     -999.0,9,     -999.0,9,     -999.0,9
33RO20180423,        I7N,      53,          1,        102,      11101,2,20180512,       1256,    -8.5657,    52.3678,       4291,  4181.5,   1.3043,  34.7175,2,  34.7181,6,    164.2,2, 188.7200,2,    128.8,6,     33.3,6,     0.00,6,    2.291,6,-999.000,9,-999.000,9,-999.0000,9,  -999.0,9,  -999.0,9,-999.0000,9,  -999.00, -999.00,9, -999.00,9, -999.00,-999.000,9,  -999.0,9,     -999.0,9,     -999.0,9,          2,     -999.0,9,     -999.0,9,     -999.0,9,     -999.0,9
33RO20180423,        I7N,      53,          1,        103,      11102,2,20180512,       1256,    -8.5657,    52.3678,       4291,  4000.7,   1.3606,  34.7202,2,  34.7203,2,    160.6,2, 184.9560,2,    129.7,6,     33.7,6,     0.00,6,    2.307,6,   0.030,2,   0.016,2,        0,2,  2284.3,2,  2390.8,2,   7.5957,2,    25.00, -999.00,9, -999.00,9, -999.00,-999.000,1,  -999.0,9,     -999.0,1,     -999.0,9,          3,     -999.0,9,     -999.0,9,     -999.0,9,     -999.0,9
33RO20180423,        I7N,      53,          1,        104,      11103,2,20180512,       1256,    -8.5657,    52.3678,       4291,  3701.0,   1.4855,  34.7257,2,  34.7270,2,    153.6,2, 176.8450,2,    131.3,6,     34.1,6,     0.00,6,    2.338,6,-999.000,9,-999.000,9,-999.0000,9,  -999.0,9,  -999.0,9,-999.0000,9,  -999.00, -999.00,9, -999.00,9, -999.00,-999.000,9,  -999.0,9,     -999.0,9,     -999.0,9,          4,     -999.0,9,     -999.0,9,     -999.0,9,     -999.0,9
33RO20180423,        I7N,      53,          1,        105,      11104,2,20180512,       1256,    -8.5657,    52.3678,       4291,  3400.8,   1.6071,  34.7306,2,  34.7577,2,    147.6,2, 169.7120,2,    132.1,6,     34.5,6,     0.00,6,    2.370,6,   0.008,2,   0.005,2,        0,2,  -999.0,9,  -999.0,9,-999.0000,9,  -999.00, -999.00,9, -999.00,9, -999.00,-999.000,1,  -999.0,9,     -999.0,1,     -999.0,9,          5,     -999.0,9,     -999.0,9,     -999.0,9,     -999.0,9
33RO20180423,        I7N,      53,          1,        106,      11105,2,20180512,       1256,    -8.5657,    52.3678,       4291,  3100.2,   1.7262,  34.7353,2,  34.7350,2,    142.9,2, 163.6710,2,    131.5,2,     34.7,2,     0.00,2,    2.388,2,-999.000,9,-999.000,9,-999.0000,9,  2304.6,6,  2406.0,2,   7.5855,2,    25.00, -999.00,9, -999.00,9, -999.00,-999.000,9,  -999.0,9,     -999.0,9,     -999.0,9,          6,     -999.0,9,     -999.0,9,     -999.0,9,     -999.0,9
33RO20180423,        I7N,      53,          1,        107,      11106,2,20180512,       1256,    -8.5657,    52.3678,       4291,  2801.2,   1.8226,  34.7393,2,  34.7474,2,    140.1,2, 160.0590,2,    129.6,2,     34.7,2,     0.00,2,    2.403,2,   0.005,6,   0.003,6,        0,6,  -999.0,9,  2405.4,2,   7.5819,2,    25.00, -999.00,9, -999.00,9, -999.00,-999.000,1,  -999.0,9,     -999.0,1,     -999.0,9,          7,     -999.0,9,     -999.0,9,     -999.0,9,     -999.0,9
33RO20180423,        I7N,      53,          1,        108,      11107,2,20180512,       1256,    -8.5657,    52.3678,       4291,  2500.2,   2.0406,  34.7420,2,  34.7607,2,    136.7,2, 155.6360,2,    126.6,2,     34.9,2,     0.00,2,    2.403,2,-999.000,9,-999.000,9,-999.0000,9,  2302.9,2,  2401.5,2,   7.5774,2,    25.00, -999.00,9, -999.00,9, -999.00,-999.000,9,  -999.0,9,     -999.0,9,     -999.0,9,          8,     -999.0,9,     -999.0,9,     -999.0,9,     -999.0,9
33RO20180423,        I7N,      53,          1,        109,      11108,2,20180512,       1256,    -8.5657,    52.3678,       4291,  2200.7,   2.3107,  34.7433,2,  34.7474,2,    133.4,2, 159.6060,4,    125.6,2,     34.6,2,     0.00,2,    2.391,2,   0.011,2,   0.006,2,   0.0093,2,  -999.0,9,  -999.0,9,-999.0000,9,  -999.00, -999.00,9, -999.00,9, -999.00,-999.000,1,  -999.0,9,     -999.0,1,     -999.0,9,          9,     -999.0,9,     -999.0,9,     -999.0,9,     -999.0,9
33RO20180423,        I7N,      53,          1,        110,      11109,2,20180512,       1256,    -8.5657,    52.3678,       4291,  1869.2,   2.7677,  34.7413,2,  34.7428,6,    127.4,2, 142.8670,2,    112.6,2,     34.9,2,     0.00,2,    2.427,2,-999.000,9,-999.000,9,-999.0000,9,  2295.0,2,  2388.0,2,   7.5618,2,    25.00, -999.00,9, -999.00,9, -999.00,-999.000,9,  -999.0,9,     -999.0,9,     -999.0,9,         10,     -999.0,9,     -999.0,9,     -999.0,9,     -999.0,9
33RO20180423,        I7N,      53,          1,        111,      11110,2,20180512,       1256,    -8.5657,    52.3678,       4291,  1634.0,   3.3713,  34.7418,2,  34.7709,2,    118.4,2, 132.3040,2,    104.2,2,     35.0,2,     0.00,2,    2.466,2,-999.000,9,-999.000,9,-999.0000,9,  -999.0,9,  -999.0,9,-999.0000,9,  -999.00, -999.00,9, -999.00,9, -999.00,-999.000,9,  -999.0,9,     -999.0,9,     -999.0,9,         11,     -999.0,9,     -999.0,9,     -999.0,9,     -999.0,9
33RO20180423,        I7N,      53,          1,        112,      11111,2,20180512,       1256,    -8.5657,    52.3678,       4291,  1366.5,   4.3935,  34.7717,2,  34.7784,2,     94.8,2, 105.4480,2,     98.2,2,     36.1,2,     0.00,2,    2.560,2,-999.000,9,-999.000,9,-999.0000,9,  2295.4,2,  2373.9,2,   7.5224,2,    25.00, -999.00,9, -999.00,9, -999.00,-999.000,9,  -999.0,9,     -999.0,9,     -999.0,9,         12,     -999.0,9,     -999.0,9,     -999.0,9,     -999.0,9
33RO20180423,        I7N,      53,          1,        113,      11112,2,20180512,       1256,    -8.5657,    52.3678,       4291,  1168.0,   5.2973,  34.7873,2,  34.7917,2,     85.3,2,  94.6320,2,     87.7,2,     36.1,2,     0.00,2,    2.563,2,-999.000,9,-999.000,9,-999.0000,9,  -999.0,9,  2363.8,2,   7.5146,2,    25.00, -999.00,9, -999.00,9, -999.00,-999.000,9,  -999.0,9,     -999.0,9,     -999.0,9,         13,     -999.0,9,     -999.0,9,     -999.0,9,     -999.0,9
33RO20180423,        I7N,      53,          1,        114,      11113,2,20180512,       1256,    -8.5657,    52.3678,       4291,   950.3,   6.2011,  34.7842,2,  34.7895,2,     72.4,2,  80.0050,2,     80.4,2,     36.1,2,     0.00,2,    2.573,2,-999.000,9,-999.000,9,-999.0000,9,  2284.0,2,  2355.7,2,   7.5016,2,    25.00, -999.00,9, -999.00,9, -999.00,-999.000,9,  -999.0,9,     -999.0,9,     -999.0,9,         14,     -999.0,9,     -999.0,9,     -999.0,9,     -999.0,9
33RO20180423,        I7N,      53,          1,        115,      11114,2,20180512,       1256,    -8.5657,    52.3678,       4291,   801.0,   7.2283,  34.8135,2,  34.8149,2,     78.0,2,  86.0600,2,     63.3,2,     34.3,2,     0.00,2,    2.427,2,-999.000,9,-999.000,9,-999.0000,9,  -999.0,9,  -999.0,9,-999.0000,9,  -999.00, -999.00,9, -999.00,9, -999.00,-999.000,9,  -999.0,9,     -999.0,9,     -999.0,9,         15,     -999.0,9,     -999.0,9,     -999.0,9,     -999.0,9
33RO20180423,        I7N,      53,          1,        116,      11115,2,20180512,       1256,    -8.5657,    52.3678,       4291,   650.4,   8.1130,  34.8032,2,  34.8064,2,     94.8,2, 103.5230,2,     47.2,2,     31.4,2,     0.00,2,    2.194,2,-999.000,9,-999.000,9,-999.0000,9,  2235.9,2,  2326.1,2,   7.5612,2,    25.00, -999.00,9, -999.00,9, -999.00,-999.000,9,  -999.0,9,     -999.0,9,     -999.0,9,         16,     -999.0,9,     -999.0,9,     -999.0,9,     -999.0,9
33RO20180423,        I7N,      53,          1,        117,      11116,2,20180512,       1256,    -8.5657,    52.3678,       4291,   483.0,   9.2715,  34.8151,2,  34.8161,2,    114.2,2, 123.9210,2,     30.8,2,     27.5,2,     0.00,2,    1.894,2,-999.000,9,-999.000,9,-999.0000,9,  -999.0,9,  2312.6,2,   7.6073,2,    25.00, -999.00,9, -999.00,9, -999.00,-999.000,9,  -999.0,9,     -999.0,9,     -999.0,9,         17,     -999.0,9,     -999.0,9,     -999.0,9,     -999.0,9
33RO20180423,        I7N,      53,          1,        118,      11117,2,20180512,       1256,    -8.5657,    52.3678,       4291,   375.6,  10.0939,  34.8727,2,  34.8886,2,    113.2,2, 121.9530,2,     25.4,2,     26.1,2,     0.00,2,    1.765,2,-999.000,9,-999.000,9,-999.0000,9,  -999.0,9,  2308.5,2,   7.6188,2,    25.00, -999.00,9, -999.00,9, -999.00,-999.000,9,  -999.0,9,     -999.0,9,     -999.0,9,         18,     -999.0,9,     -999.0,9,     -999.0,9,     -999.0,9
33RO20180423,        I7N,      53,          1,        119,      11083,2,20180512,       1256,    -8.5657,    52.3678,       4291,   301.3,  11.1464,  34.9299,2,  34.9304,2,    109.7,2, 118.5640,2,     22.4,2,     24.3,2,     0.00,2,    1.655,2,-999.000,9,-999.000,9,-999.0000,9,  -999.0,9,  -999.0,9,-999.0000,9,  -999.00, -999.00,9, -999.00,9, -999.00,-999.000,9,  -999.0,9,     -999.0,9,     -999.0,9,         19,     -999.0,9,     -999.0,9,     -999.0,9,     -999.0,9
33RO20180423,        I7N,      53,          1,        120,      11118,2,20180512,       1256,    -8.5657,    52.3678,       4291,   218.2,  12.6221,  35.0454,2,  35.0530,2,    111.1,2, 119.0470,2,     18.9,2,     21.6,2,     0.01,2,    1.494,2,-999.000,9,-999.000,9,-999.0000,9,  -999.0,9,  -999.0,9,-999.0000,9,  -999.00, -999.00,9, -999.00,9, -999.00,-999.000,9,  -999.0,9,     -999.0,9,     -999.0,9,         20,     -999.0,9,     -999.0,9,     -999.0,9,     -999.0,9
33RO20180423,        I7N,      53,          1,        121,      11119,2,20180512,       1256,    -8.5657,    52.3678,       4291,   168.3,  13.4421,  35.0715,2,  35.1045,2,    108.5,2, 116.0810,2,     18.6,2,     20.8,2,     0.01,2,    1.447,2,-999.000,9,-999.000,9,-999.0000,9,  2176.6,2,  2311.0,2,   7.6844,2,    25.00, -999.00,9, -999.00,9, -999.00,-999.000,9,  -999.0,9,     -999.0,9,     -999.0,9,         21,     -999.0,9,     -999.0,9,     -999.0,9,     -999.0,9
33RO20180423,        I7N,      53,          1,        122,      11120,2,20180512,       1256,    -8.5657,    52.3678,       4291,   117.7,  15.7186,  35.1332,2,  35.1311,2,     94.6,2, 101.3260,2,     17.7,2,     19.7,2,     0.02,2,    1.385,2,-999.000,9,-999.000,9,-999.0000,9,  -999.0,9,  -999.0,9,-999.0000,9,  -999.00, -999.00,9, -999.00,9, -999.00,-999.000,9,  -999.0,9,     -999.0,9,     -999.0,9,         22,     -999.0,9,     -999.0,9,     -999.0,9,     -999.0,9
33RO20180423,        I7N,      53,          1,        123,      11121,2,20180512,       1256,    -8.5657,    52.3678,       4291,    65.9,  20.8543,  35.2109,2,  35.2012,2,    135.3,2, 143.6480,2,      8.7,2,      8.9,2,     0.48,2,    0.743,2,-999.000,9,-999.000,9,-999.0000,9,  2088.5,2,  2309.3,6,   7.8808,2,    25.00, -999.00,9, -999.00,9, -999.00,-999.000,9,  -999.0,9,     -999.0,9,     -999.0,9,         23,     -999.0,9,     -999.0,9,     -999.0,9,     -999.0,9
33RO20180423,        I7N,      53,          1,        124,      11122,2,20180512,       1256,    -8.5657,    52.3678,       4291,     4.2,  28.4597,  35.1645,2,  35.1649,2,    186.4,2, 195.5170,2,      2.4,2,      0.1,2,     0.01,2,    0.118,2,-999.000,9,-999.000,9,-999.0000,9,  1976.3,2,  2303.7,2,   8.0754,6,    25.00, -999.00,9, -999.00,9, -999.00,-999.000,9,  -999.0,9,     -999.0,9,     -999.0,9,         24,     -999.0,9,     -999.0,9,     -999.0,9,     -999.0,9