BOTTLE,20230801CCHSIOCBG
EXPOCODE,SECT_ID,STNNBR,CASTNO,SAMPNO,BTLNBR,BTLNBR_FLAG_W,DATE,TIME,LATITUDE,LONGITUDE,DEPTH,CTDPRS,CTDTMP,CTDSAL,CTDSAL_FLAG_W,SALNTY,SALNTY_FLAG_W,CTDOXY,CTDOXY_FLAG_W,OXYGEN,OXYGEN_FLAG_W,SILCAT,SILCAT_FLAG_W,NITRAT,NITRAT_FLAG_W,NITRIT,NITRIT_FLAG_W,PHSPHT,PHSPHT_FLAG_W,CFC-11,CFC-11_FLAG_W,CFC-12,CFC-12_FLAG_W,SF6,SF6_FLAG_W,TCARBN,TCARBN_FLAG_W,ALKALI,ALKALI_FLAG_W,PH_SWS,PH_SWS_FLAG_W,PH_TMP,DELC13,DELC13_FLAG_W,DELC14,DELC14_FLAG_W,C14ERR,CCL4,CCL4_FLAG_W,DOC,DOC_FLAG_W,N2O,N2O_FLAG_W,CALCIUM,CALCIUM_FLAG_W,SAMPNO_U,DNSSAL,DNSSAL_FLAG_W,DNSSAL2,DNSSAL2_FLAG_W,SALNTY_DNSSAL,SALNTY_DNSSAL_FLAG_W,SALNTY_DNSSAL2,SALNTY_DNSSAL2_FLAG_W
,,,,,,,,,,,METERS,DBAR,ITS-90,PSS-78,,PSS-78,,UMOL/KG,,UMOL/KG,,UMOL/KG,,UMOL/KG,,UMOL/KG,,UMOL/KG,,PMOL/KG,,PMOL/KG,,FMOL/KG,,UMOL/KG,,UMOL/KG,,,,DEG C,/MILLE,,/MILLE,,/MILLE,PMOL/KG,,UMOL/KG,,NMOL/KG,,MMOL/KG,,,G/KG,,G/KG,,PSS-78,,PSS-78,
33RO20180423,        I7N,     109,          1,        101,      11010,2,20180531,       0629,    13.7895,    64.6660,       4019,  4080.6,   1.7224,  34.7350,2,  34.7383,2,    119.8,2, 137.7120,2,    147.5,6,     36.3,6,     0.01,6,    2.552,6,   0.011,2,   0.005,2,    0.001,2,  2352.1,6,  2460.2,2,   7.5886,6,    25.00, -999.00,9, -999.00,9, -999.00,-999.000,1,  -999.0,9,     -999.0,1,     -999.0,9,          1,    34.9252,2,     -999.0,9,    34.7363,2,     -999.0,9
33RO20180423,        I7N,     109,          1,        102,      11101,2,20180531,       0629,    13.7895,    64.6660,       4019,  3848.3,   1.7129,  34.7358,2,  34.7398,2,    122.7,2, 140.7590,2,    144.7,6,     36.1,6,     0.00,6,    2.541,6,   0.006,2,   0.005,2,        0,2,  2343.9,2,  2450.0,2,   7.5828,2,    25.00, -999.00,9, -999.00,9, -999.00,-999.000,1,  -999.0,9,     -999.0,1,     -999.0,9,          2,    34.9239,2,     -999.0,9,    34.7403,2,     -999.0,9
33RO20180423,        I7N,     109,          1,        103,      11102,2,20180531,       0629,    13.7895,    64.6660,       4019,  3600.6,   1.7232,  34.7379,2,  34.7399,6,    126.2,2, 144.9130,2,    143.0,6,     35.8,6,     0.00,6,    2.527,6,-999.000,9,-999.000,9,-999.0000,9,  2333.1,2,  2436.3,6,   7.5806,2,    25.00, -999.00,9, -999.00,9, -999.00,-999.000,9,    42.0,3,     -999.0,9,     -999.0,9,          3,    34.9245,2,     -999.0,9,    34.7379,2,     -999.0,9
33RO20180423,        I7N,     109,          1,        104,      11103,2,20180531,       0629,    13.7895,    64.6660,       4019,  3300.1,   1.7571,  34.7409,2,  34.7492,2,    119.2,2, 136.6350,2,    145.3,6,     36.1,6,     0.00,6,    2.567,6,-999.000,9,-999.000,9,-999.0000,9,  2340.1,2,  2436.9,2,   7.5669,2,    25.00, -999.00,9, -999.00,9, -999.00,-999.000,9,    45.6,3,     -999.0,9,     -999.0,9,          4,    34.9252,2,     -999.0,9,    34.7434,2,     -999.0,9
33RO20180423,        I7N,     109,          1,        105,      11104,2,20180531,       0629,    13.7895,    64.6660,       4019,  3000.0,   1.8421,  34.7468,2,  34.7489,2,    116.3,2, 132.9330,2,    144.7,2,     36.3,2,     0.00,2,    2.588,2,-999.000,9,-999.000,9,-999.0000,9,  2337.5,2,  2434.9,2,   7.5596,2,    25.00, -999.00,9, -999.00,9, -999.00,-999.000,9,    45.3,3,     -999.0,9,     -999.0,9,          5,    34.9351,2,     -999.0,9,    34.7478,2,     -999.0,9
33RO20180423,        I7N,     109,          1,        106,      11105,2,20180531,       0629,    13.7895,    64.6660,       4019,  2699.4,   2.0316,  34.7588,2,  34.7664,2,    112.4,2, 127.7880,2,    142.2,2,     36.4,2,     0.00,2,    2.601,2,-999.000,9,-999.000,9,-999.0000,9,  2336.1,2,  2427.0,2,   7.5496,2,    25.00, -999.00,9, -999.00,9, -999.00,-999.000,9,    47.6,3,     -999.0,9,     -999.0,9,          6,    34.9456,2,     -999.0,9,    34.7608,2,     -999.0,9
33RO20180423,        I7N,     109,          1,        107,      11106,2,20180531,       0629,    13.7895,    64.6660,       4019,  2400.2,   2.3803,  34.7827,2,  34.7847,2,    101.6,2, 115.2010,2,    139.1,2,     36.9,2,     0.00,2,    2.668,2,   0.000,6,   0.002,6,   0.0007,6,  2337.7,2,  2427.4,2,   7.5315,2,    25.00, -999.00,9, -999.00,9, -999.00,-999.000,1,  -999.0,9,     -999.0,1,     -999.0,9,          7,    34.9674,2,     -999.0,9,    34.7851,2,     -999.0,9
33RO20180423,        I7N,     109,          1,        108,      11107,2,20180531,       0629,    13.7895,    64.6660,       4019,  2101.1,   2.8928,  34.8168,2,  34.8182,2,     89.3,2, 101.2670,2,    133.3,2,     37.5,2,     0.00,2,    2.750,2,-999.000,9,-999.000,9,-999.0000,9,  2339.6,2,  2421.4,2,   7.5125,2,    25.00, -999.00,9, -999.00,9, -999.00,-999.000,9,  -999.0,9,     -999.0,9,     -999.0,9,          8,    35.0016,2,     -999.0,9,    34.8176,2,     -999.0,9
33RO20180423,        I7N,     109,          1,        109,      11108,2,20180531,       0629,    13.7895,    64.6660,       4019,  1800.2,   3.8147,  34.8901,2,  34.8916,2,     69.1,2,  78.1890,2,    123.5,2,     38.1,2,     0.00,2,    2.841,2,-999.000,9,-999.000,9,-999.0000,9,  2339.2,2,  2411.4,2,   7.4858,2,    25.00, -999.00,9, -999.00,9, -999.00,-999.000,9,    45.9,3,     -999.0,9,     -999.0,9,          9,    35.0728,2,     -999.0,9,    34.8915,2,     -999.0,9
33RO20180423,        I7N,     109,          1,        110,      11109,2,20180531,       0629,    13.7895,    64.6660,       4019,  1551.0,   4.8981,  34.9757,2,  34.9776,2,     53.3,2,  60.6040,2,    110.3,2,     38.0,2,     0.00,2,    2.878,2,-999.000,9,-999.000,9,-999.0000,9,  2332.9,2,  2394.9,2,   7.4696,2,    25.00, -999.00,9, -999.00,9, -999.00,-999.000,9,  -999.0,9,     -999.0,9,     -999.0,9,         10,    35.1611,2,     -999.0,9,    34.9762,2,     -999.0,9
33RO20180423,        I7N,     109,          1,        111,      11110,2,20180531,       0629,    13.7895,    64.6660,       4019,  1300.2,   6.2377,  35.0878,2,  35.0893,2,     34.1,2,  39.0330,2,     95.7,2,     38.2,2,     0.00,2,    2.897,2,-999.000,9,-999.000,9,-999.0000,9,  2325.2,2,  2382.0,2,   7.4519,2,    25.00, -999.00,9, -999.00,9, -999.00,-999.000,9,  -999.0,9,     -999.0,9,     -999.0,9,         11,    35.2665,2,     -999.0,9,    35.0891,2,     -999.0,9
33RO20180423,        I7N,     109,          1,        112,      11111,2,20180531,       0629,    13.7895,    64.6660,       4019,  1100.3,   7.6298,  35.2247,2,  35.2294,2,     17.7,2,  21.1580,2,     82.9,2,     37.9,2,     0.00,2,    2.904,2,-999.000,9,-999.000,9,-999.0000,9,  2317.1,2,  2372.1,6,   7.4430,2,    25.00, -999.00,9, -999.00,9, -999.00,-999.000,9,  -999.0,9,     -999.0,9,     -999.0,9,         12,    35.4049,2,     -999.0,9,    35.2259,2,     -999.0,9
33RO20180423,        I7N,     109,          1,        113,      11112,2,20180531,       0629,    13.7895,    64.6660,       4019,   901.1,   9.2182,  35.3918,2,  35.3953,2,      7.0,2,   9.7160,2,     69.0,2,     36.3,2,     0.00,2,    2.837,2,   0.100,2,   0.060,2,   0.0277,2,  2306.9,2,  2365.3,2,   7.4486,2,    25.00, -999.00,9, -999.00,9, -999.00,-999.000,1,  -999.0,9,     -999.0,1,     -999.0,9,         13,    35.5683,2,     -999.0,9,    35.3923,2,     -999.0,9
33RO20180423,        I7N,     109,          1,        114,      11113,2,20180531,       0629,    13.7895,    64.6660,       4019,   750.9,  10.5573,  35.5243,2,  35.5465,2,      5.6,2,   8.0100,2,     56.4,2,     34.0,2,     0.01,2,    2.718,2,   0.212,2,   0.133,2,   0.0354,2,  2290.8,2,  2356.1,2,   7.4641,2,    25.00, -999.00,9, -999.00,9, -999.00,-999.000,1,  -999.0,9,     -999.0,1,     -999.0,9,         14,    35.7000,2,     -999.0,9,    35.5254,2,     -999.0,9
33RO20180423,        I7N,     109,          1,        115,      11114,2,20180531,       0629,    13.7895,    64.6660,       4019,   600.4,  11.4592,  35.5502,2,  35.5542,2,      1.6,2,   4.1800,2,     46.8,2,     31.6,2,     0.01,2,    2.663,2,   0.275,2,   0.187,2,   0.0604,2,  2283.8,2,  2349.0,2,   7.4669,2,    25.00, -999.00,9, -999.00,9, -999.00,-999.000,1,    48.1,3,     -999.0,1,     -999.0,9,         15,    35.7251,2,     -999.0,9,    35.5526,2,     -999.0,9
33RO20180423,        I7N,     109,          1,        116,      11115,2,20180531,       0629,    13.7895,    64.6660,       4019,   450.9,  12.3531,  35.5526,2,  35.5547,2,      0.5,2,   2.3640,2,     37.5,2,     30.0,2,     0.01,2,    2.565,2,   0.532,2,   0.342,2,   0.0962,2,  2278.3,2,  2337.8,2,   7.4635,6,    25.00, -999.00,9, -999.00,9, -999.00,-999.000,1,    45.4,3,     -999.0,1,     -999.0,9,         16,    35.7304,2,     -999.0,9,    35.5521,2,     -999.0,9
33RO20180423,        I7N,     109,          1,        117,      11116,2,20180531,       0629,    13.7895,    64.6660,       4019,   350.8,  13.3934,  35.6054,2,  35.6042,2,      0.2,2,   2.5410,2,     32.2,2,     24.5,2,     2.30,2,    2.480,2,   0.703,2,   0.487,2,   0.2142,2,  2278.6,6,  2339.7,2,   7.4599,2,    25.00, -999.00,9, -999.00,9, -999.00,-999.000,1,    50.0,3,     -999.0,1,     -999.0,9,         17,    35.7798,2,     -999.0,9,    35.6032,2,     -999.0,9
33RO20180423,        I7N,     109,          1,        118,      11117,2,20180531,       0629,    13.7895,    64.6660,       4019,   275.7,  15.0463,  35.7907,2,  35.7875,6,      0.2,2,   2.3100,2,     28.1,2,     18.7,2,     3.56,2,    2.397,2,   0.892,2,   0.638,2,   0.3487,2,  2276.6,2,  2343.8,2,   7.4861,2,    25.00, -999.00,9, -999.00,9, -999.00,-999.000,1,    53.0,3,     -999.0,1,     -999.0,9,         18,    35.9583,2,     -999.0,9,    35.7869,2,     -999.0,9
33RO20180423,        I7N,     109,          1,        119,      11083,2,20180531,       0629,    13.7895,    64.6660,       4019,   200.2,  17.4387,  35.7960,2,  35.7986,2,      0.2,2,   2.8440,2,     23.2,2,     16.5,2,     4.42,2,    2.343,2,   1.036,2,   0.779,2,   0.5591,2,  2260.8,2,  2346.7,2,   7.5279,2,    25.00, -999.00,9, -999.00,9, -999.00,-999.000,1,    56.2,3,     -999.0,1,     -999.0,9,         19,    35.9715,2,     -999.0,9,    35.7996,2,     -999.0,9
33RO20180423,        I7N,     109,          1,        120,      11118,2,20180531,       0629,    13.7895,    64.6660,       4019,   159.6,  19.9316,  35.9471,2,  35.9442,2,      0.1,2,   1.7795,2,     16.1,2,     24.2,2,     0.48,2,    2.200,2,   1.440,2,   0.905,2,   0.8783,2,  2240.6,2,  2348.4,2,   7.5873,2,    25.00, -999.00,9, -999.00,9, -999.00,-999.000,1,    58.0,3,     -999.0,1,     -999.0,9,         20,    36.1137,2,     -999.0,9,    35.9422,2,     -999.0,9
33RO20180423,        I7N,     109,          1,        121,      11119,2,20180531,       0629,    13.7895,    64.6660,       4019,   120.4,  23.2672,  36.2659,2,  36.2764,2,     50.1,2,  57.2750,2,      7.7,2,     20.0,2,     0.07,2,    1.563,2,   1.525,2,   0.978,2,   1.2493,2,  2181.5,2,  2365.4,2,   7.7693,2,    25.00, -999.00,9, -999.00,9, -999.00,-999.000,1,    64.8,3,     -999.0,1,     -999.0,9,         21,    36.4464,2,     -999.0,9,    36.2789,2,     -999.0,9
33RO20180423,        I7N,     109,          1,        122,      11120,2,20180531,       0629,    13.7895,    64.6660,       4019,    80.4,  26.2116,  36.5218,2,  36.5293,2,    183.6,2, 192.0990,2,      1.4,2,      0.8,2,     0.14,2,    0.449,2,   1.578,2,   0.991,2,   1.4244,2,  2070.8,2,  2388.2,6,   8.0292,2,    25.00, -999.00,9, -999.00,9, -999.00,-999.000,1,    72.3,3,     -999.0,1,     -999.0,9,         22,    36.7019,2,     -999.0,9,    36.5327,2,     -999.0,9
33RO20180423,        I7N,     109,          1,        123,      11121,2,20180531,       0629,    13.7895,    64.6660,       4019,    40.4,  29.3892,  36.5675,2,  36.5735,2,    200.1,2, 208.5240,2,      1.3,2,      0.0,2,     0.00,2,    0.238,2,   1.496,2,   0.949,2,   1.4153,2,  2036.5,2,  2389.1,2,   8.0819,6,    25.00, -999.00,9, -999.00,9, -999.00,-999.000,1,    79.5,3,     -999.0,1,     -999.0,9,         23,    36.7500,2,     -999.0,9,    36.5805,2,     -999.0,9
33RO20180423,        I7N,     109,          1,        124,      11122,2,20180531,       0629,    13.7895,    64.6660,       4019,     4.3,  30.5302,  36.2544,2,  36.2576,2,    181.6,2, 190.0770,2,      1.5,2,      0.0,2,     0.00,2,    0.131,2,   1.344,2,   0.857,2,   1.3475,2,  2019.0,6,  2374.3,2,   8.0961,2,    25.00, -999.00,9, -999.00,9, -999.00,-999.000,1,    73.6,3,     -999.0,1,     -999.0,9,         24,    36.4292,2,     -999.0,9,    36.2632,2,     -999.0,9