BOTTLE,20230801CCHSIOCBG
EXPOCODE,SECT_ID,STNNBR,CASTNO,SAMPNO,BTLNBR,BTLNBR_FLAG_W,DATE,TIME,LATITUDE,LONGITUDE,DEPTH,CTDPRS,CTDTMP,CTDSAL,CTDSAL_FLAG_W,SALNTY,SALNTY_FLAG_W,CTDOXY,CTDOXY_FLAG_W,OXYGEN,OXYGEN_FLAG_W,SILCAT,SILCAT_FLAG_W,NITRAT,NITRAT_FLAG_W,NITRIT,NITRIT_FLAG_W,PHSPHT,PHSPHT_FLAG_W,CFC-11,CFC-11_FLAG_W,CFC-12,CFC-12_FLAG_W,SF6,SF6_FLAG_W,TCARBN,TCARBN_FLAG_W,ALKALI,ALKALI_FLAG_W,PH_SWS,PH_SWS_FLAG_W,PH_TMP,DELC13,DELC13_FLAG_W,DELC14,DELC14_FLAG_W,C14ERR,CCL4,CCL4_FLAG_W,DOC,DOC_FLAG_W,N2O,N2O_FLAG_W,CALCIUM,CALCIUM_FLAG_W,SAMPNO_U,DNSSAL,DNSSAL_FLAG_W,DNSSAL2,DNSSAL2_FLAG_W,SALNTY_DNSSAL,SALNTY_DNSSAL_FLAG_W,SALNTY_DNSSAL2,SALNTY_DNSSAL2_FLAG_W
,,,,,,,,,,,METERS,DBAR,ITS-90,PSS-78,,PSS-78,,UMOL/KG,,UMOL/KG,,UMOL/KG,,UMOL/KG,,UMOL/KG,,UMOL/KG,,PMOL/KG,,PMOL/KG,,FMOL/KG,,UMOL/KG,,UMOL/KG,,,,DEG C,/MILLE,,/MILLE,,/MILLE,PMOL/KG,,UMOL/KG,,NMOL/KG,,MMOL/KG,,,G/KG,,G/KG,,PSS-78,,PSS-78,
33RO20180423,        I7N,      62,          1,        101,      11010,2,20180514,       1623,    -5.6037,    54.9467,       3460,  3494.6,   1.6060,  34.7293,2,  34.7282,2,    148.9,2, 169.0640,2,    132.9,6,     34.7,6,     0.00,6,    2.401,6,   0.008,2,   0.004,2,        0,2,  2302.8,2,  2403.8,2,   7.5921,6,    25.00, -999.00,9, -999.00,9, -999.00,-999.000,1,    41.1,3,     -999.0,1,     -999.0,9,          1,     -999.0,9,     -999.0,9,     -999.0,9,     -999.0,9
33RO20180423,        I7N,      62,          1,        102,      11101,2,20180514,       1623,    -5.6037,    54.9467,       3460,  3308.0,   1.6653,  34.7320,2,  34.7329,2,    147.2,2, 167.1430,2,    131.4,6,     34.8,6,     0.00,6,    2.415,6,   0.006,2,   0.004,2,   0.0109,2,  2301.4,2,  2402.4,2,   7.5891,2,    25.00, -999.00,9, -999.00,9, -999.00,-999.000,1,    44.6,3,     -999.0,1,     -999.0,9,          2,     -999.0,9,     -999.0,9,     -999.0,9,     -999.0,9
33RO20180423,        I7N,      62,          1,        103,      11102,2,20180514,       1623,    -5.6037,    54.9467,       3460,  3100.2,   1.7325,  34.7343,2,  34.7329,2,    144.4,2, 164.0070,2,    131.3,6,     35.0,6,     0.00,6,    2.431,6,   0.004,2,   0.002,2,   0.0115,2,  2304.1,2,  2385.9,4,   7.5867,2,    25.00, -999.00,9, -999.00,9, -999.00,-999.000,1,  -999.0,9,     -999.0,1,     -999.0,9,          3,     -999.0,9,     -999.0,9,     -999.0,9,     -999.0,9
33RO20180423,        I7N,      62,          1,        104,      11103,2,20180514,       1623,    -5.6037,    54.9467,       3460,  2801.0,   1.8484,  34.7379,2,  34.7367,2,    141.5,2, 160.5230,2,    129.1,6,     35.1,6,     0.00,6,    2.448,6,   0.003,2,   0.002,2,        0,2,  2305.0,2,  2403.7,2,   7.5821,2,    25.00, -999.00,9, -999.00,9, -999.00,-999.000,1,    43.9,3,     -999.0,1,     -999.0,9,          4,     -999.0,9,     -999.0,9,     -999.0,9,     -999.0,9
33RO20180423,        I7N,      62,          1,        105,      11104,2,20180514,       1623,    -5.6037,    54.9467,       3460,  2500.9,   2.0740,  34.7417,2,  34.7404,2,    137.0,2, 155.0130,2,    125.6,6,     35.3,6,     0.00,6,    2.461,6,   0.004,2,   0.003,2,   0.0052,2,  -999.0,9,  -999.0,9,-999.0000,9,  -999.00, -999.00,9, -999.00,9, -999.00,-999.000,1,    45.3,3,     -999.0,1,     -999.0,9,          5,     -999.0,9,     -999.0,9,     -999.0,9,     -999.0,9
33RO20180423,        I7N,      62,          1,        106,      11105,2,20180514,       1623,    -5.6037,    54.9467,       3460,  2200.8,   2.3125,  34.7450,2,  34.7468,2,    132.7,2, 149.5480,2,    121.8,2,     35.1,2,     0.00,2,    2.473,2,   0.005,2,   0.003,2,   0.0053,2,  2303.5,2,  2395.2,2,   7.5693,2,    25.00, -999.00,9, -999.00,9, -999.00,-999.000,1,  -999.0,9,     -999.0,1,     -999.0,9,          6,     -999.0,9,     -999.0,9,     -999.0,9,     -999.0,9
33RO20180423,        I7N,      62,          1,        107,      11106,2,20180514,       1623,    -5.6037,    54.9467,       3460,  1883.5,   2.7711,  34.7506,2,  34.7506,6,    124.5,2, 139.3200,2,    115.1,2,     35.5,2,     0.00,2,    2.508,2,   0.009,2,   0.005,2,   0.0019,2,  -999.0,9,  -999.0,9,-999.0000,9,  -999.00, -999.00,9, -999.00,9, -999.00,-999.000,1,    43.0,3,     -999.0,1,     -999.0,9,          7,     -999.0,9,     -999.0,9,     -999.0,9,     -999.0,9
33RO20180423,        I7N,      62,          1,        108,      11107,2,20180514,       1623,    -5.6037,    54.9467,       3460,  1632.9,   3.4976,  34.7696,2,  34.7719,2,    108.8,2, 122.0600,2,    108.0,2,     36.1,2,     0.00,2,    2.573,2,   0.016,2,   0.010,2,   0.0156,2,  2300.5,2,  2382.0,2,   7.5385,2,    25.00, -999.00,9, -999.00,9, -999.00,-999.000,1,    42.8,3,     -999.0,1,     -999.0,9,          8,     -999.0,9,     -999.0,9,     -999.0,9,     -999.0,9
33RO20180423,        I7N,      62,          1,        109,      11108,2,20180514,       1623,    -5.6037,    54.9467,       3460,  1366.8,   4.4345,  34.7802,2,  34.7800,2,     90.0,2, 100.5680,2,     99.9,2,     36.9,2,     0.00,2,    2.643,2,   0.027,2,   0.015,2,   0.0059,2,  -999.0,9,  -999.0,9,-999.0000,9,  -999.00, -999.00,9, -999.00,9, -999.00,-999.000,1,    41.1,3,     -999.0,1,     -999.0,9,          9,     -999.0,9,     -999.0,9,     -999.0,9,     -999.0,9
33RO20180423,        I7N,      62,          1,        110,      11109,2,20180514,       1623,    -5.6037,    54.9467,       3460,  1167.5,   5.4847,  34.7937,2,  34.7940,2,     75.5,2,  84.4660,2,     89.5,2,     37.0,2,     0.00,2,    2.666,2,   0.068,2,   0.038,2,   0.0001,2,  2295.3,2,  2358.0,2,   7.5016,2,    25.00, -999.00,9, -999.00,9, -999.00,-999.000,1,    47.0,3,     -999.0,1,     -999.0,9,         10,     -999.0,9,     -999.0,9,     -999.0,9,     -999.0,9
33RO20180423,        I7N,      62,          1,        111,      11110,2,20180514,       1623,    -5.6037,    54.9467,       3460,   950.8,   6.8600,  34.8919,2,  34.8892,2,     61.7,2,  69.6940,2,     74.9,2,     36.4,2,     0.00,2,    2.638,2,   0.179,6,   0.097,6,   0.0219,6,  2284.2,2,  2343.2,2,   7.4958,2,    25.00, -999.00,9, -999.00,9, -999.00,-999.000,1,    46.8,3,     -999.0,1,     -999.0,9,         11,     -999.0,9,     -999.0,9,     -999.0,9,     -999.0,9
33RO20180423,        I7N,      62,          1,        112,      11111,2,20180514,       1623,    -5.6037,    54.9467,       3460,   800.8,   7.2246,  34.8377,2,  34.8361,2,     70.2,2,  77.8630,2,     66.0,2,     35.4,2,     0.00,2,    2.539,2,   0.342,2,   0.184,2,   0.0786,2,  2271.8,2,  2329.4,2,   7.5103,2,    25.00, -999.00,9, -999.00,9, -999.00,-999.000,1,  -999.0,9,     -999.0,1,     -999.0,9,         12,     -999.0,9,     -999.0,9,     -999.0,9,     -999.0,9
33RO20180423,        I7N,      62,          1,        113,      11112,2,20180514,       1623,    -5.6037,    54.9467,       3460,   650.6,   8.2525,  34.8294,2,  34.8280,2,     85.9,2,  94.0745,2,     47.7,2,     32.5,2,     0.00,2,    2.296,2,   0.843,2,   0.445,2,   0.2073,2,  -999.0,9,  -999.0,9,-999.0000,9,  -999.00, -999.00,9, -999.00,9, -999.00,-999.000,1,    43.8,3,     -999.0,1,     -999.0,9,         13,     -999.0,9,     -999.0,9,     -999.0,9,     -999.0,9
33RO20180423,        I7N,      62,          1,        114,      11113,2,20180514,       1623,    -5.6037,    54.9467,       3460,   467.4,   9.3195,  34.8453,2,  34.8491,2,    100.8,2, 109.6540,2,     32.8,2,     29.0,2,     0.00,2,    2.024,2,   1.450,2,   0.773,2,   0.4137,2,  2215.8,2,  2312.8,2,   7.5856,2,    25.00, -999.00,9, -999.00,9, -999.00,-999.000,1,  -999.0,9,     -999.0,1,     -999.0,9,         14,     -999.0,9,     -999.0,9,     -999.0,9,     -999.0,9
33RO20180423,        I7N,      62,          1,        115,      11114,2,20180514,       1623,    -5.6037,    54.9467,       3460,   417.2,   9.6957,  34.8591,2,  34.8582,2,    109.0,2, 117.9110,2,     28.3,2,     27.5,2,     0.00,2,    1.893,2,   1.708,2,   0.914,2,    0.482,2,  -999.0,9,  2309.4,2,   7.6059,2,    25.00, -999.00,9, -999.00,9, -999.00,-999.000,1,    50.7,3,     -999.0,1,     -999.0,9,         15,     -999.0,9,     -999.0,9,     -999.0,9,     -999.0,9
33RO20180423,        I7N,      62,          1,        116,      11115,2,20180514,       1623,    -5.6037,    54.9467,       3460,   367.4,  10.1654,  34.8834,2,  34.8840,2,    113.6,2, 122.9970,2,     24.5,2,     26.2,2,     0.00,2,    1.784,2,   1.921,6,   1.033,6,   0.5914,6,  2201.0,2,  2307.4,2,   7.6206,2,    25.00, -999.00,9, -999.00,9, -999.00,-999.000,1,    49.3,3,     -999.0,1,     -999.0,9,         16,     -999.0,9,     -999.0,9,     -999.0,9,     -999.0,9
33RO20180423,        I7N,      62,          1,        117,      11116,2,20180514,       1623,    -5.6037,    54.9467,       3460,   317.6,  10.6413,  34.9185,2,  34.9175,2,    117.1,2, 126.2340,2,     21.9,2,     24.8,2,     0.00,2,    1.701,2,   2.066,2,   1.122,2,   0.6727,2,  -999.0,9,  -999.0,9,-999.0000,9,  -999.00, -999.00,9, -999.00,9, -999.00,-999.000,1,    45.6,3,     -999.0,1,     -999.0,9,         17,     -999.0,9,     -999.0,9,     -999.0,9,     -999.0,9
33RO20180423,        I7N,      62,          1,        118,      11117,2,20180514,       1623,    -5.6037,    54.9467,       3460,   268.2,  11.4190,  34.9817,2,  34.9794,2,    121.4,2, 130.3520,2,     19.0,2,     22.9,2,     0.00,2,    1.573,2,   2.200,2,   1.220,2,   0.8097,2,  2185.9,2,  2311.3,2,   7.6603,2,    25.00, -999.00,9, -999.00,9, -999.00,-999.000,1,    53.3,3,     -999.0,1,     -999.0,9,         18,     -999.0,9,     -999.0,9,     -999.0,9,     -999.0,9
33RO20180423,        I7N,      62,          1,        119,      11083,2,20180514,       1623,    -5.6037,    54.9467,       3460,   213.5,  12.4126,  35.0385,2,  35.0375,2,    109.2,2, 117.3300,2,     18.6,2,     22.3,2,     0.00,2,    1.553,2,   2.123,2,   1.193,2,   0.7881,2,  -999.0,9,  -999.0,9,-999.0000,9,  -999.00, -999.00,9, -999.00,9, -999.00,-999.000,1,    46.9,3,     -999.0,1,     -999.0,9,         19,     -999.0,9,     -999.0,9,     -999.0,9,     -999.0,9
33RO20180423,        I7N,      62,          1,        120,      11118,2,20180514,       1623,    -5.6037,    54.9467,       3460,   173.6,  13.4161,  35.1069,2,  35.1230,2,    110.4,2, 117.4720,2,     16.9,2,     20.7,2,     0.01,2,    1.442,2,   2.141,2,   1.222,2,   0.8802,2,  2178.5,2,  2301.0,4,   7.6855,2,    25.00, -999.00,9, -999.00,9, -999.00,-999.000,1,    50.5,3,     -999.0,1,     -999.0,9,         20,     -999.0,9,     -999.0,9,     -999.0,9,     -999.0,9
33RO20180423,        I7N,      62,          1,        121,      11119,2,20180514,       1623,    -5.6037,    54.9467,       3460,   133.3,  14.5316,  35.1425,2,  35.1402,2,    104.4,2, 111.9430,2,     16.4,2,     20.1,2,     0.01,2,    1.403,2,   2.080,2,   1.202,2,   0.9033,2,  2172.0,2,  2301.5,4,   7.6984,2,    25.00, -999.00,9, -999.00,9, -999.00,-999.000,1,    53.5,3,     -999.0,1,     -999.0,9,         21,     -999.0,9,     -999.0,9,     -999.0,9,     -999.0,9
33RO20180423,        I7N,      62,          1,        122,      11120,2,20180514,       1623,    -5.6037,    54.9467,       3460,    89.3,  17.6037,  35.1936,2,  35.1911,2,    102.4,2, 109.1160,2,     13.9,2,     17.4,2,     0.06,2,    1.245,2,   1.903,2,   1.127,2,   1.0641,2,  2148.0,2,  2310.7,2,   7.7543,2,    25.00, -999.00,9, -999.00,9, -999.00,-999.000,1,    56.2,3,     -999.0,1,     -999.0,9,         22,     -999.0,9,     -999.0,9,     -999.0,9,     -999.0,9
33RO20180423,        I7N,      62,          1,        123,      11121,2,20180514,       1623,    -5.6037,    54.9467,       3460,    52.2,  21.8446,  35.2577,2,  35.2558,2,    133.7,2, 140.2790,2,      8.8,2,     10.3,2,     0.27,2,    0.839,2,   1.751,2,   1.066,2,   1.1538,2,  2096.9,2,  2311.0,6,   7.8741,2,    25.00, -999.00,9, -999.00,9, -999.00,-999.000,1,    62.2,3,     -999.0,1,     -999.0,9,         23,     -999.0,9,     -999.0,9,     -999.0,9,     -999.0,9
33RO20180423,        I7N,      62,          1,        124,      11122,2,20180514,       1623,    -5.6037,    54.9467,       3460,     3.5,  28.9557,  34.6767,2,  34.6805,2,    186.2,2, 195.3380,2,      2.2,2,      0.1,2,     0.00,2,    0.104,2,   1.427,2,   0.908,2,   1.3512,2,  1954.7,6,  2271.0,2,   8.0744,6,    25.00, -999.00,9, -999.00,9, -999.00,-999.000,1,    72.0,3,     -999.0,1,     -999.0,9,         24,     -999.0,9,     -999.0,9,     -999.0,9,     -999.0,9