BOTTLE,20230801CCHSIOCBG
EXPOCODE,SECT_ID,STNNBR,CASTNO,SAMPNO,BTLNBR,BTLNBR_FLAG_W,DATE,TIME,LATITUDE,LONGITUDE,DEPTH,CTDPRS,CTDTMP,CTDSAL,CTDSAL_FLAG_W,SALNTY,SALNTY_FLAG_W,CTDOXY,CTDOXY_FLAG_W,OXYGEN,OXYGEN_FLAG_W,SILCAT,SILCAT_FLAG_W,NITRAT,NITRAT_FLAG_W,NITRIT,NITRIT_FLAG_W,PHSPHT,PHSPHT_FLAG_W,CFC-11,CFC-11_FLAG_W,CFC-12,CFC-12_FLAG_W,SF6,SF6_FLAG_W,TCARBN,TCARBN_FLAG_W,ALKALI,ALKALI_FLAG_W,PH_SWS,PH_SWS_FLAG_W,PH_TMP,DELC13,DELC13_FLAG_W,DELC14,DELC14_FLAG_W,C14ERR,CCL4,CCL4_FLAG_W,DOC,DOC_FLAG_W,N2O,N2O_FLAG_W,CALCIUM,CALCIUM_FLAG_W,SAMPNO_U,DNSSAL,DNSSAL_FLAG_W,DNSSAL2,DNSSAL2_FLAG_W,SALNTY_DNSSAL,SALNTY_DNSSAL_FLAG_W,SALNTY_DNSSAL2,SALNTY_DNSSAL2_FLAG_W
,,,,,,,,,,,METERS,DBAR,ITS-90,PSS-78,,PSS-78,,UMOL/KG,,UMOL/KG,,UMOL/KG,,UMOL/KG,,UMOL/KG,,UMOL/KG,,PMOL/KG,,PMOL/KG,,FMOL/KG,,UMOL/KG,,UMOL/KG,,,,DEG C,/MILLE,,/MILLE,,/MILLE,PMOL/KG,,UMOL/KG,,NMOL/KG,,MMOL/KG,,,G/KG,,G/KG,,PSS-78,,PSS-78,
33RO20180423,        I7N,      60,          1,        101,      11010,2,20180514,       0400,    -6.5532,    54.2893,       3762,  3816.9,   1.4955,  34.7246,2,  34.7260,2,    153.9,2, 175.6170,2,    134.5,6,     34.9,6,     0.00,6,    2.391,6,   0.014,2,   0.006,2,        0,2,  2297.1,6,  2401.8,2,   7.5955,6,    25.00, -999.00,9, -999.00,9, -999.00,-999.000,1,    45.5,3,     -999.0,1,     -999.0,9,          1,     -999.0,9,     -999.0,9,     -999.0,9,     -999.0,9
33RO20180423,        I7N,      60,          1,        102,      11101,2,20180514,       0400,    -6.5532,    54.2893,       3762,  3664.4,   1.5475,  34.7270,2,  34.7341,2,    151.5,2, 172.0300,2,    133.8,6,     34.8,6,     0.00,6,    2.392,6,   0.011,2,   0.006,2,   0.0105,2,  2296.6,2,  2401.4,6,   7.5927,2,    25.00, -999.00,9, -999.00,9, -999.00,-999.000,1,    47.0,3,     -999.0,1,     -999.0,9,          2,     -999.0,9,     -999.0,9,     -999.0,9,     -999.0,9
33RO20180423,        I7N,      60,          1,        103,      11102,2,20180514,       0400,    -6.5532,    54.2893,       3762,  3500.5,   1.5997,  34.7292,2,  34.7303,2,    149.1,2, 169.6210,2,    133.2,6,     34.9,6,     0.00,6,    2.402,6,   0.008,2,   0.004,2,        0,2,  2296.4,2,  2402.3,2,   7.5901,2,    25.00, -999.00,9, -999.00,9, -999.00,-999.000,1,    45.1,3,     -999.0,1,     -999.0,9,          3,     -999.0,9,     -999.0,9,     -999.0,9,     -999.0,9
33RO20180423,        I7N,      60,          1,        104,      11103,2,20180514,       0400,    -6.5532,    54.2893,       3762,  3201.5,   1.6846,  34.7327,2,  34.7325,2,    145.7,2, 165.4880,2,    132.7,6,     35.1,6,     0.00,6,    2.427,6,   0.006,6,   0.004,6,   0.0057,6,  2299.9,2,  2405.2,2,   7.5875,2,    25.00, -999.00,9, -999.00,9, -999.00,-999.000,1,    47.3,3,     -999.0,1,     -999.0,9,          4,     -999.0,9,     -999.0,9,     -999.0,9,     -999.0,9
33RO20180423,        I7N,      60,          1,        105,      11104,2,20180514,       0400,    -6.5532,    54.2893,       3762,  2900.1,   1.8118,  34.7372,2,  34.7379,2,    142.0,2, 160.6510,2,    130.5,6,     34.9,6,     0.00,6,    2.430,6,   0.004,2,   0.002,2,        0,2,  2300.4,2,  2404.7,2,   7.5830,2,    25.00, -999.00,9, -999.00,9, -999.00,-999.000,1,    50.5,3,     -999.0,1,     -999.0,9,          5,     -999.0,9,     -999.0,9,     -999.0,9,     -999.0,9
33RO20180423,        I7N,      60,          1,        106,      11105,2,20180514,       0400,    -6.5532,    54.2893,       3762,  2599.3,   2.0128,  34.7413,2,  34.7415,2,    137.7,2, 155.1550,2,    127.2,2,     34.9,2,     0.00,2,    2.462,2,   0.004,2,   0.003,2,   0.0107,2,  2299.1,2,  2409.9,3,   7.5765,2,    25.00, -999.00,9, -999.00,9, -999.00,-999.000,1,    47.4,3,     -999.0,1,     -999.0,9,          6,     -999.0,9,     -999.0,9,     -999.0,9,     -999.0,9
33RO20180423,        I7N,      60,          1,        107,      11106,2,20180514,       0400,    -6.5532,    54.2893,       3762,  2299.8,   2.2129,  34.7437,2,  34.7044,2,    134.2,2,-999.0000,9,    124.0,2,     34.9,2,     0.00,2,    2.484,2,   1.456,4,   0.919,4,   1.3474,4,  -999.0,9,  -999.0,9,-999.0000,9,  -999.00, -999.00,9, -999.00,9, -999.00,-999.000,9,  -999.0,9,     -999.0,9,     -999.0,9,          7,     -999.0,9,     -999.0,9,     -999.0,9,     -999.0,9
33RO20180423,        I7N,      60,          1,        108,      11107,2,20180514,       0400,    -6.5532,    54.2893,       3762,  2001.2,   2.6252,  34.7482,2,  34.7494,2,    127.0,2, 141.8480,2,    118.3,2,     35.3,2,     0.00,2,    2.483,2,   0.008,2,   0.005,2,   0.0101,2,  2298.6,2,  2394.9,2,   7.5635,2,    25.00, -999.00,9, -999.00,9, -999.00,-999.000,1,  -999.0,9,     -999.0,1,     -999.0,9,          8,     -999.0,9,     -999.0,9,     -999.0,9,     -999.0,9
33RO20180423,        I7N,      60,          1,        109,      11108,2,20180514,       0400,    -6.5532,    54.2893,       3762,  1716.5,   3.3506,  34.7582,2,  34.7593,2,    113.4,2, 126.5480,2,    109.8,2,     35.8,2,     0.00,2,    2.541,2,   0.017,2,   0.009,2,   0.0093,2,  2296.2,2,  2385.4,2,   7.5450,2,    25.00, -999.00,9, -999.00,9, -999.00,-999.000,1,  -999.0,9,     -999.0,1,     -999.0,9,          9,     -999.0,9,     -999.0,9,     -999.0,9,     -999.0,9
33RO20180423,        I7N,      60,          1,        110,      11109,2,20180514,       0400,    -6.5532,    54.2893,       3762,  1468.2,   4.1197,  34.7746,2,  34.7754,2,     96.7,2, 107.0300,2,    103.4,2,     36.5,2,     0.00,2,    2.619,2,   0.025,2,   0.013,2,        0,2,  2297.8,2,  2379.9,6,   7.5244,2,    25.00, -999.00,9, -999.00,9, -999.00,-999.000,1,  -999.0,9,     -999.0,1,     -999.0,9,         10,     -999.0,9,     -999.0,9,     -999.0,9,     -999.0,9
33RO20180423,        I7N,      60,          1,        111,      11110,2,20180514,       0400,    -6.5532,    54.2893,       3762,  1233.2,   5.0287,  34.7938,2,  34.7941,2,     82.7,2,  90.8510,2,     93.9,2,     36.7,2,     0.00,2,    2.654,2,   0.057,2,   0.030,2,   0.0077,2,  2293.2,2,  2369.4,2,   7.5093,6,    25.00, -999.00,9, -999.00,9, -999.00,-999.000,1,  -999.0,9,     -999.0,1,     -999.0,9,         11,     -999.0,9,     -999.0,9,     -999.0,9,     -999.0,9
33RO20180423,        I7N,      60,          1,        112,      11111,2,20180514,       0400,    -6.5532,    54.2893,       3762,  1029.6,   5.8572,  34.7946,2,  34.8024,2,     72.0,2,  80.4940,2,     86.0,2,     36.8,2,     0.00,2,    2.663,2,   0.097,2,   0.053,2,   0.0238,2,  2288.9,6,  2361.6,2,   7.5003,2,    25.00, -999.00,9, -999.00,9, -999.00,-999.000,1,    47.8,3,     -999.0,1,     -999.0,9,         12,     -999.0,9,     -999.0,9,     -999.0,9,     -999.0,9
33RO20180423,        I7N,      60,          1,        113,      11112,2,20180514,       0400,    -6.5532,    54.2893,       3762,   850.3,   6.8288,  34.7975,2,  34.7994,6,     74.4,2,  81.1900,2,     70.3,2,     35.5,2,     0.00,2,    2.556,2,   0.296,2,   0.156,2,    0.066,2,  2269.6,2,  2344.4,2,   7.5116,2,    25.00, -999.00,9, -999.00,9, -999.00,-999.000,1,    48.3,3,     -999.0,1,     -999.0,9,         13,     -999.0,9,     -999.0,9,     -999.0,9,     -999.0,9
33RO20180423,        I7N,      60,          1,        114,      11113,2,20180514,       0400,    -6.5532,    54.2893,       3762,   701.7,   8.3003,  34.8699,2,  34.8714,2,     76.9,2,  83.9275,2,     50.7,2,     32.9,2,     0.00,2,    2.366,2,   0.730,6,   0.384,6,   0.1853,6,  2244.8,2,  2330.0,2,   7.5342,2,    25.00, -999.00,9, -999.00,9, -999.00,-999.000,1,    50.7,3,     -999.0,1,     -999.0,9,         14,     -999.0,9,     -999.0,9,     -999.0,9,     -999.0,9
33RO20180423,        I7N,      60,          1,        115,      11114,2,20180514,       0400,    -6.5532,    54.2893,       3762,   565.0,   9.0332,  34.8758,2,  34.8774,2,     90.6,2,  97.9560,2,     38.6,2,     30.5,2,     0.00,2,    2.136,2,   1.194,2,   0.631,2,    0.317,2,  2226.4,2,  2320.2,2,   7.5646,2,    25.00, -999.00,9, -999.00,9, -999.00,-999.000,1,  -999.0,9,     -999.0,1,     -999.0,9,         15,     -999.0,9,     -999.0,9,     -999.0,9,     -999.0,9
33RO20180423,        I7N,      60,          1,        116,      11115,2,20180514,       0400,    -6.5532,    54.2893,       3762,   419.2,   9.9155,  34.8865,2,  34.8953,2,    111.0,2, 119.2370,2,     26.7,2,     26.7,2,     0.00,2,    1.840,2,   1.827,2,   0.977,2,   0.5218,2,  2200.6,2,  2310.6,2,   7.6133,2,    25.00, -999.00,9, -999.00,9, -999.00,-999.000,1,    50.0,3,     -999.0,1,     -999.0,9,         16,     -999.0,9,     -999.0,9,     -999.0,9,     -999.0,9
33RO20180423,        I7N,      60,          1,        117,      11116,2,20180514,       0400,    -6.5532,    54.2893,       3762,   326.0,  10.8448,  34.9235,2,  34.9248,2,    114.9,2, 122.9460,2,     21.6,2,     24.5,2,     0.00,2,    1.662,2,   2.080,2,   1.126,2,   0.6883,2,  2190.6,2,  2305.1,2,   7.6370,2,    25.00, -999.00,9, -999.00,9, -999.00,-999.000,1,  -999.0,9,     -999.0,1,     -999.0,9,         17,     -999.0,9,     -999.0,9,     -999.0,9,     -999.0,9
33RO20180423,        I7N,      60,          1,        118,      11117,2,20180514,       0400,    -6.5532,    54.2893,       3762,   245.5,  12.1816,  35.0343,2,  35.0358,2,    118.2,2, 125.7280,2,     18.0,2,     21.6,2,     0.00,2,    1.496,2,   2.211,2,   1.232,2,    0.827,2,  2178.2,2,  2310.2,2,   7.6717,2,    25.00, -999.00,9, -999.00,9, -999.00,-999.000,1,    49.8,3,     -999.0,1,     -999.0,9,         18,     -999.0,9,     -999.0,9,     -999.0,9,     -999.0,9
33RO20180423,        I7N,      60,          1,        119,      11083,2,20180514,       0400,    -6.5532,    54.2893,       3762,   187.6,  13.4505,  35.1003,2,  35.1000,2,    107.4,2, 113.9170,2,     17.7,2,     21.1,2,     0.00,2,    1.473,2,   2.121,2,   1.205,2,    0.881,2,  2173.6,2,  2311.1,2,   7.6788,2,    25.00, -999.00,9, -999.00,9, -999.00,-999.000,1,    57.8,3,     -999.0,1,     -999.0,9,         19,     -999.0,9,     -999.0,9,     -999.0,9,     -999.0,9
33RO20180423,        I7N,      60,          1,        120,      11118,2,20180514,       0400,    -6.5532,    54.2893,       3762,   147.1,  14.6496,  35.1422,2,  35.1417,2,    103.8,2, 110.5760,2,     16.6,2,     19.8,2,     0.01,2,    1.385,2,   2.066,2,   1.192,2,   0.9147,2,  2169.6,2,  2313.7,2,   7.7005,2,    25.00, -999.00,9, -999.00,9, -999.00,-999.000,1,    54.2,3,     -999.0,1,     -999.0,9,         20,     -999.0,9,     -999.0,9,     -999.0,9,     -999.0,9
33RO20180423,        I7N,      60,          1,        121,      11119,2,20180514,       0400,    -6.5532,    54.2893,       3762,   107.5,  15.6866,  35.1620,2,  35.1635,2,     96.4,2, 102.8010,2,     16.1,2,     19.5,2,     0.01,2,    1.382,2,   2.009,2,   1.164,2,   0.9283,2,  2163.0,2,  2312.1,6,   7.7085,2,    25.00, -999.00,9, -999.00,9, -999.00,-999.000,1,    49.7,3,     -999.0,1,     -999.0,9,         21,     -999.0,9,     -999.0,9,     -999.0,9,     -999.0,9
33RO20180423,        I7N,      60,          1,        122,      11120,2,20180514,       0400,    -6.5532,    54.2893,       3762,    67.4,  20.8036,  35.1120,2,  35.1189,2,     90.1,2,  96.7520,2,     12.1,2,     15.6,2,     0.39,2,    1.157,2,   1.711,2,   1.040,2,   1.0268,2,  2122.5,2,  2305.0,2,   7.7859,2,    25.00, -999.00,9, -999.00,9, -999.00,-999.000,1,    57.9,3,     -999.0,1,     -999.0,9,         22,     -999.0,9,     -999.0,9,     -999.0,9,     -999.0,9
33RO20180423,        I7N,      60,          1,        123,      11121,2,20180514,       0400,    -6.5532,    54.2893,       3762,    28.7,  28.9105,  34.8385,2,  34.8459,6,    184.2,2, 192.7765,2,      2.3,2,      0.1,2,     0.00,2,    0.112,2,   1.418,2,   0.905,2,   1.3107,2,  1958.1,6,  2281.3,2,   8.0762,2,    25.00, -999.00,9, -999.00,9, -999.00,-999.000,1,    73.7,3,     -999.0,1,     -999.0,9,         23,     -999.0,9,     -999.0,9,     -999.0,9,     -999.0,9
33RO20180423,        I7N,      60,          1,        124,      11122,2,20180514,       0400,    -6.5532,    54.2893,       3762,     3.5,  28.9316,  34.8409,2,  34.8431,2,    184.7,2, 193.0280,2,      2.2,2,      0.1,2,     0.00,2,    0.105,2,   1.430,2,   0.906,2,   1.3309,2,  1955.3,2,  2281.3,2,   8.0775,6,    25.00, -999.00,9, -999.00,9, -999.00,-999.000,1,    66.0,3,     -999.0,1,     -999.0,9,         24,     -999.0,9,     -999.0,9,     -999.0,9,     -999.0,9