BOTTLE,20230801CCHSIOCBG
EXPOCODE,SECT_ID,STNNBR,CASTNO,SAMPNO,BTLNBR,BTLNBR_FLAG_W,DATE,TIME,LATITUDE,LONGITUDE,DEPTH,CTDPRS,CTDTMP,CTDSAL,CTDSAL_FLAG_W,SALNTY,SALNTY_FLAG_W,CTDOXY,CTDOXY_FLAG_W,OXYGEN,OXYGEN_FLAG_W,SILCAT,SILCAT_FLAG_W,NITRAT,NITRAT_FLAG_W,NITRIT,NITRIT_FLAG_W,PHSPHT,PHSPHT_FLAG_W,CFC-11,CFC-11_FLAG_W,CFC-12,CFC-12_FLAG_W,SF6,SF6_FLAG_W,TCARBN,TCARBN_FLAG_W,ALKALI,ALKALI_FLAG_W,PH_SWS,PH_SWS_FLAG_W,PH_TMP,DELC13,DELC13_FLAG_W,DELC14,DELC14_FLAG_W,C14ERR,CCL4,CCL4_FLAG_W,DOC,DOC_FLAG_W,N2O,N2O_FLAG_W,CALCIUM,CALCIUM_FLAG_W,SAMPNO_U,DNSSAL,DNSSAL_FLAG_W,DNSSAL2,DNSSAL2_FLAG_W,SALNTY_DNSSAL,SALNTY_DNSSAL_FLAG_W,SALNTY_DNSSAL2,SALNTY_DNSSAL2_FLAG_W
,,,,,,,,,,,METERS,DBAR,ITS-90,PSS-78,,PSS-78,,UMOL/KG,,UMOL/KG,,UMOL/KG,,UMOL/KG,,UMOL/KG,,UMOL/KG,,PMOL/KG,,PMOL/KG,,FMOL/KG,,UMOL/KG,,UMOL/KG,,,,DEG C,/MILLE,,/MILLE,,/MILLE,PMOL/KG,,UMOL/KG,,NMOL/KG,,MMOL/KG,,,G/KG,,G/KG,,PSS-78,,PSS-78,
33RO20180423,        I7N,     114,          1,        101,      11010,9,20180601,       1446,    15.6883,    66.0903,       3794,  3836.1,   1.7211,  34.7352,2,  34.7380,2,    120.0,2, 137.3660,2,    145.1,6,     36.5,6,     0.00,6,    2.544,6,   0.011,2,   0.007,2,    0.034,2,  2355.6,6,  2457.7,2,   7.5882,6,    25.00, -999.00,9, -999.00,9, -999.00,-999.000,9,  -999.0,9,     -999.0,9,     -999.0,9,          1,     -999.0,9,     -999.0,9,     -999.0,9,     -999.0,9
33RO20180423,        I7N,     114,          1,        102,      11101,9,20180601,       1446,    15.6883,    66.0903,       3794,  3675.5,   1.7159,  34.7361,2,  34.7514,2,    122.2,2, 139.7470,2,    144.4,6,     36.4,6,     0.00,6,    2.536,6,   0.007,2,   0.006,2,   0.0323,2,  2348.4,2,  2448.8,6,   7.5817,2,    25.00, -999.00,9, -999.00,9, -999.00,-999.000,9,  -999.0,9,     -999.0,9,     -999.0,9,          2,     -999.0,9,     -999.0,9,     -999.0,9,     -999.0,9
33RO20180423,        I7N,     114,          1,        103,      11102,9,20180601,       1446,    15.6883,    66.0903,       3794,  3500.6,   1.7249,  34.7375,2,  34.7461,6,    122.7,2, 140.2820,2,    143.7,6,     36.1,6,     0.00,6,    2.535,6,   0.010,2,   0.008,2,   0.0004,2,  2345.3,2,  2444.0,2,   7.5768,2,    25.00, -999.00,9, -999.00,9, -999.00,-999.000,9,  -999.0,9,     -999.0,9,     -999.0,9,          3,     -999.0,9,     -999.0,9,     -999.0,9,     -999.0,9
33RO20180423,        I7N,     114,          1,        104,      11103,9,20180601,       1446,    15.6883,    66.0903,       3794,  3199.9,   1.7570,  34.7408,2,  34.7449,2,    118.2,2, 135.1530,2,    144.8,6,     36.4,6,     0.00,6,    2.570,6,   0.005,2,   0.007,2,   0.0099,2,  2348.6,2,  2442.9,2,   7.5677,2,    25.00, -999.00,9, -999.00,9, -999.00,-999.000,9,  -999.0,9,     -999.0,9,     -999.0,9,          4,     -999.0,9,     -999.0,9,     -999.0,9,     -999.0,9
33RO20180423,        I7N,     114,          1,        105,      11104,9,20180601,       1446,    15.6883,    66.0903,       3794,  2900.9,   1.8343,  34.7463,2,  34.7482,2,    117.7,2, 134.3530,2,    142.9,2,     36.3,2,     0.00,2,    2.548,2,   0.002,2,   0.003,2,   0.0009,2,  2343.6,2,  2434.6,2,   7.5616,2,    25.00, -999.00,9, -999.00,9, -999.00,-999.000,9,  -999.0,9,     -999.0,9,     -999.0,9,          5,     -999.0,9,     -999.0,9,     -999.0,9,     -999.0,9
33RO20180423,        I7N,     114,          1,        106,      11105,9,20180601,       1446,    15.6883,    66.0903,       3794,  2601.1,   2.0420,  34.7607,2,  34.7633,2,    107.3,2, 121.8250,2,    142.9,2,     36.6,2,     0.00,2,    2.611,2,   0.002,2,   0.004,2,   0.0471,3,  2349.2,2,  2434.2,2,   7.5435,2,    25.00, -999.00,9, -999.00,9, -999.00,-999.000,9,  -999.0,9,     -999.0,9,     -999.0,9,          6,     -999.0,9,     -999.0,9,     -999.0,9,     -999.0,9
33RO20180423,        I7N,     114,          1,        107,      11106,9,20180601,       1446,    15.6883,    66.0903,       3794,  2301.0,   2.4315,  34.7880,2,  34.8085,2,     96.0,2, 108.9830,2,    139.8,2,     37.2,2,     0.00,2,    2.688,2,   0.002,2,   0.004,2,   0.0023,2,  2350.3,2,  2430.3,2,   7.5229,2,    25.00, -999.00,9, -999.00,9, -999.00,-999.000,9,  -999.0,9,     -999.0,9,     -999.0,9,          7,     -999.0,9,     -999.0,9,     -999.0,9,     -999.0,9
33RO20180423,        I7N,     114,          1,        108,      11107,9,20180601,       1446,    15.6883,    66.0903,       3794,  1999.7,   3.0320,  34.8303,2,  34.8343,2,     82.5,2,  93.6350,2,    132.1,2,     37.8,2,     0.00,2,    2.766,2,   0.005,2,   0.005,2,   0.0128,2,  2350.4,2,  2421.6,2,   7.5028,2,    25.00, -999.00,9, -999.00,9, -999.00,-999.000,9,  -999.0,9,     -999.0,9,     -999.0,9,          8,     -999.0,9,     -999.0,9,     -999.0,9,     -999.0,9
33RO20180423,        I7N,     114,          1,        109,      11108,9,20180601,       1446,    15.6883,    66.0903,       3794,  1717.9,   4.0035,  34.9091,2,  34.9113,2,     61.2,2,  69.1440,2,    121.7,2,     38.5,2,     0.00,2,    2.886,2,   0.003,2,   0.004,2,        0,2,  2349.5,2,  2409.4,6,   7.4730,2,    25.00, -999.00,9, -999.00,9, -999.00,-999.000,9,  -999.0,9,     -999.0,9,     -999.0,9,          9,     -999.0,9,     -999.0,9,     -999.0,9,     -999.0,9
33RO20180423,        I7N,     114,          1,        110,      11109,9,20180601,       1446,    15.6883,    66.0903,       3794,  1468.6,   5.4767,  35.0428,2,  35.0461,2,     34.1,2,  39.4620,2,    106.6,2,     39.1,2,     0.00,2,    2.987,2,   0.007,2,   0.006,2,   0.0198,2,  2346.2,2,  2394.6,2,   7.4424,6,    25.00, -999.00,9, -999.00,9, -999.00,-999.000,9,  -999.0,9,     -999.0,9,     -999.0,9,         10,     -999.0,9,     -999.0,9,     -999.0,9,     -999.0,9
33RO20180423,        I7N,     114,          1,        111,      11110,9,20180601,       1446,    15.6883,    66.0903,       3794,  1233.0,   7.0451,  35.1876,2,  35.2059,2,     16.1,2,  19.4900,2,     90.0,2,     38.7,2,     0.00,2,    2.972,2,   0.022,2,   0.015,2,   0.0026,2,  2334.4,2,  2376.9,2,   7.4310,2,    25.00, -999.00,9, -999.00,9, -999.00,-999.000,9,  -999.0,9,     -999.0,9,     -999.0,9,         11,     -999.0,9,     -999.0,9,     -999.0,9,     -999.0,9
33RO20180423,        I7N,     114,          1,        112,      11111,9,20180601,       1446,    15.6883,    66.0903,       3794,  1034.4,   8.6291,  35.3551,2,  35.3724,2,      4.5,2,   7.2020,2,     75.8,2,     37.3,2,     0.00,2,    2.927,2,   0.056,2,   0.036,2,    0.011,2,  2323.3,2,  2369.0,2,   7.4354,2,    25.00, -999.00,9, -999.00,9, -999.00,-999.000,9,  -999.0,9,     -999.0,9,     -999.0,9,         12,     -999.0,9,     -999.0,9,     -999.0,9,     -999.0,9
33RO20180423,        I7N,     114,          1,        113,      11112,9,20180601,       1446,    15.6883,    66.0903,       3794,   850.2,  10.2403,  35.5140,2,  35.5297,2,      1.0,2,   3.5360,2,     61.2,2,     34.4,2,     0.00,2,    2.803,2,   0.132,2,   0.086,2,   0.1203,3,  2306.8,2,  2358.9,2,   7.4557,2,    25.00, -999.00,9, -999.00,9, -999.00,-999.000,9,  -999.0,9,     -999.0,9,     -999.0,9,         13,     -999.0,9,     -999.0,9,     -999.0,9,     -999.0,9
33RO20180423,        I7N,     114,          1,        114,      11113,9,20180601,       1446,    15.6883,    66.0903,       3794,   700.8,  11.4569,  35.6028,2,  35.6039,2,      0.3,2,   2.9280,2,     49.3,2,     31.0,2,     0.00,2,    2.688,2,   0.229,6,   0.157,6,   0.0798,6,  2293.3,2,  2352.4,2,   7.4680,2,    25.00, -999.00,9, -999.00,9, -999.00,-999.000,9,  -999.0,9,     -999.0,9,     -999.0,9,         14,     -999.0,9,     -999.0,9,     -999.0,9,     -999.0,9
33RO20180423,        I7N,     114,          1,        115,      11114,9,20180601,       1446,    15.6883,    66.0903,       3794,   550.5,  12.2568,  35.6036,2,  35.6050,2,      0.2,2,   2.4320,2,     39.9,2,     29.2,2,     0.00,2,    2.594,2,   0.400,2,   0.281,2,   0.1434,2,  2286.4,2,  2345.9,2,   7.4673,2,    25.00, -999.00,9, -999.00,9, -999.00,-999.000,9,  -999.0,9,     -999.0,9,     -999.0,9,         15,     -999.0,9,     -999.0,9,     -999.0,9,     -999.0,9
33RO20180423,        I7N,     114,          1,        116,      11115,9,20180601,       1446,    15.6883,    66.0903,       3794,   409.6,  13.1835,  35.5874,2,  35.5887,2,      0.2,2,   2.1425,2,     32.9,2,     25.3,2,     1.88,2,    2.503,2,   0.664,2,   0.452,2,   0.1729,2,  2283.3,2,  2339.1,2,   7.4616,2,    25.00, -999.00,9, -999.00,9, -999.00,-999.000,9,  -999.0,9,     -999.0,9,     -999.0,9,         16,     -999.0,9,     -999.0,9,     -999.0,9,     -999.0,9
33RO20180423,        I7N,     114,          1,        117,      11116,9,20180601,       1446,    15.6883,    66.0903,       3794,   325.6,  14.5576,  35.7078,2,  35.7075,6,      0.2,2,   3.0640,2,     28.9,2,     20.3,2,     3.54,2,    2.410,2,   0.866,2,   0.603,2,   0.3204,2,  2281.7,2,  2350.2,2,   7.4758,2,    25.00, -999.00,9, -999.00,9, -999.00,-999.000,9,  -999.0,9,     -999.0,9,     -999.0,9,         17,     -999.0,9,     -999.0,9,     -999.0,9,     -999.0,9
33RO20180423,        I7N,     114,          1,        118,      11117,9,20180601,       1446,    15.6883,    66.0903,       3794,   251.2,  15.7164,  35.5631,2,  35.5628,2,      0.1,2,   2.5870,2,     25.0,2,     23.1,2,     0.82,2,    2.340,2,   1.067,2,   0.725,2,    0.429,2,  2265.6,2,  2333.2,2,   7.4994,2,    25.00, -999.00,9, -999.00,9, -999.00,-999.000,9,  -999.0,9,     -999.0,9,     -999.0,9,         18,     -999.0,9,     -999.0,9,     -999.0,9,     -999.0,9
33RO20180423,        I7N,     114,          1,        119,      11083,9,20180601,       1446,    15.6883,    66.0903,       3794,   187.6,  18.6502,  35.5924,2,  35.5693,2,      0.9,2,   3.1290,2,     19.2,2,     25.9,2,     0.05,2,    2.182,2,   1.269,2,   0.831,2,   0.7015,2,  2237.7,2,  2328.4,2,   7.5652,2,    25.00, -999.00,9, -999.00,9, -999.00,-999.000,9,  -999.0,9,     -999.0,9,     -999.0,9,         19,     -999.0,9,     -999.0,9,     -999.0,9,     -999.0,9
33RO20180423,        I7N,     114,          1,        120,      11118,9,20180601,       1446,    15.6883,    66.0903,       3794,   148.2,  21.6378,  35.7918,2,  35.7999,2,     10.5,2,  13.4380,2,     13.2,2,     24.9,2,     0.02,2,    1.916,2,   1.399,2,   0.884,2,   0.9856,2,  2211.9,2,  2336.4,2,   7.6566,2,    25.00, -999.00,9, -999.00,9, -999.00,-999.000,9,  -999.0,9,     -999.0,9,     -999.0,9,         20,     -999.0,9,     -999.0,9,     -999.0,9,     -999.0,9
33RO20180423,        I7N,     114,          1,        121,      11119,9,20180601,       1446,    15.6883,    66.0903,       3794,   107.1,  25.8929,  36.2481,2,  36.2488,2,    103.6,2, 110.2580,2,      5.1,2,     10.6,2,     0.07,2,    0.960,2,   1.445,6,   0.922,6,   1.2792,6,  2120.0,2,  2365.4,6,   7.9124,2,    25.00, -999.00,9, -999.00,9, -999.00,-999.000,9,  -999.0,9,     -999.0,9,     -999.0,9,         21,     -999.0,9,     -999.0,9,     -999.0,9,     -999.0,9
33RO20180423,        I7N,     114,          1,        122,      11120,9,20180601,       1446,    15.6883,    66.0903,       3794,    67.7,  28.2892,  36.4335,2,  36.4409,2,    190.8,2, 199.6890,2,      1.6,2,      0.0,2,     0.00,2,    0.269,2,   1.504,2,   0.947,2,   1.4555,2,  2048.2,2,  2383.2,2,   8.0673,2,    25.00, -999.00,9, -999.00,9, -999.00,-999.000,9,  -999.0,9,     -999.0,9,     -999.0,9,         22,     -999.0,9,     -999.0,9,     -999.0,9,     -999.0,9
33RO20180423,        I7N,     114,          1,        123,      11121,9,20180601,       1446,    15.6883,    66.0903,       3794,    27.9,  30.4502,  35.9795,2,  35.9842,2,    179.7,2, 187.8270,2,      1.3,2,      0.0,2,     0.00,2,    0.113,2,   1.317,2,   0.847,2,   1.3101,2,  2006.8,2,  2360.3,2,   8.1038,6,    25.00, -999.00,9, -999.00,9, -999.00,-999.000,9,  -999.0,9,     -999.0,9,     -999.0,9,         23,     -999.0,9,     -999.0,9,     -999.0,9,     -999.0,9
33RO20180423,        I7N,     114,          1,        124,      11122,9,20180601,       1446,    15.6883,    66.0903,       3794,     4.0,  30.4380,  35.9783,2,  35.9791,2,    179.9,2, 187.8420,2,      1.4,2,      0.0,2,     0.00,2,    0.107,2,   1.324,2,   0.847,2,   1.3256,2,  2007.8,6,  2371.6,2,   8.1038,2,    25.00, -999.00,9, -999.00,9, -999.00,-999.000,9,  -999.0,9,     -999.0,9,     -999.0,9,         24,     -999.0,9,     -999.0,9,     -999.0,9,     -999.0,9