BOTTLE,20230801CCHSIOCBG
EXPOCODE,SECT_ID,STNNBR,CASTNO,SAMPNO,BTLNBR,BTLNBR_FLAG_W,DATE,TIME,LATITUDE,LONGITUDE,DEPTH,CTDPRS,CTDTMP,CTDSAL,CTDSAL_FLAG_W,SALNTY,SALNTY_FLAG_W,CTDOXY,CTDOXY_FLAG_W,OXYGEN,OXYGEN_FLAG_W,SILCAT,SILCAT_FLAG_W,NITRAT,NITRAT_FLAG_W,NITRIT,NITRIT_FLAG_W,PHSPHT,PHSPHT_FLAG_W,CFC-11,CFC-11_FLAG_W,CFC-12,CFC-12_FLAG_W,SF6,SF6_FLAG_W,TCARBN,TCARBN_FLAG_W,ALKALI,ALKALI_FLAG_W,PH_SWS,PH_SWS_FLAG_W,PH_TMP,DELC13,DELC13_FLAG_W,DELC14,DELC14_FLAG_W,C14ERR,CCL4,CCL4_FLAG_W,DOC,DOC_FLAG_W,N2O,N2O_FLAG_W,CALCIUM,CALCIUM_FLAG_W,SAMPNO_U,DNSSAL,DNSSAL_FLAG_W,DNSSAL2,DNSSAL2_FLAG_W,SALNTY_DNSSAL,SALNTY_DNSSAL_FLAG_W,SALNTY_DNSSAL2,SALNTY_DNSSAL2_FLAG_W
,,,,,,,,,,,METERS,DBAR,ITS-90,PSS-78,,PSS-78,,UMOL/KG,,UMOL/KG,,UMOL/KG,,UMOL/KG,,UMOL/KG,,UMOL/KG,,PMOL/KG,,PMOL/KG,,FMOL/KG,,UMOL/KG,,UMOL/KG,,,,DEG C,/MILLE,,/MILLE,,/MILLE,PMOL/KG,,UMOL/KG,,NMOL/KG,,MMOL/KG,,,G/KG,,G/KG,,PSS-78,,PSS-78,
33RO20180423,        I7N,      78,          1,        101,      11010,2,20180522,       2341,     0.4982,    57.2758,       4712,  4791.2,   1.3492,  34.7171,2,  34.7323,2,    159.4,2, 183.6480,2,    133.3,6,     33.7,6,     0.00,6,    2.366,6,   0.022,2,   0.010,2,   0.0099,2,  2294.4,6,  2403.0,2,   7.6024,6,    25.00, -999.00,9, -999.00,9, -999.00,-999.000,1,  -999.0,9,     -999.0,1,     -999.0,9,          1,     -999.0,9,     -999.0,9,     -999.0,9,     -999.0,9
33RO20180423,        I7N,      78,          1,        102,      11101,2,20180522,       2341,     0.4982,    57.2758,       4712,  4607.8,   1.3402,  34.7176,2,  34.7264,2,    159.3,2, 183.8870,2,    131.4,6,     33.7,6,     0.00,6,    2.361,6,   0.020,2,   0.011,2,   0.0079,2,  2291.3,2,  2400.7,6,   7.6021,2,    25.00, -999.00,9, -999.00,9, -999.00,-999.000,1,  -999.0,9,     -999.0,1,     -999.0,9,          2,     -999.0,9,     -999.0,9,     -999.0,9,     -999.0,9
33RO20180423,        I7N,      78,          1,        103,      11102,2,20180522,       2341,     0.4982,    57.2758,       4712,  4401.2,   1.3762,  34.7200,2,  34.7244,2,    156.3,2, 177.7590,4,    132.8,6,     33.9,6,     0.00,6,    2.382,6,   0.016,2,   0.007,2,    0.006,2,  2290.9,2,  2404.4,2,   7.6010,2,    25.00, -999.00,9, -999.00,9, -999.00,-999.000,1,    42.4,3,     -999.0,1,     -999.0,9,          3,     -999.0,9,     -999.0,9,     -999.0,9,     -999.0,9
33RO20180423,        I7N,      78,          1,        104,      11103,2,20180522,       2341,     0.4982,    57.2758,       4712,  4100.1,   1.4275,  34.7230,2,  34.7232,2,    153.0,2, 176.7760,2,    132.5,6,     34.1,6,     0.00,6,    2.398,6,   0.008,6,   0.004,6,   0.0087,6,  2295.7,2,  2403.4,2,   7.5973,2,    25.00, -999.00,9, -999.00,9, -999.00,-999.000,1,    43.7,3,     -999.0,1,     -999.0,9,          4,     -999.0,9,     -999.0,9,     -999.0,9,     -999.0,9
33RO20180423,        I7N,      78,          1,        105,      11104,2,20180522,       2341,     0.4982,    57.2758,       4712,  3800.2,   1.5207,  34.7272,2,  34.7328,6,    148.6,2, 171.8060,2,    133.2,2,     34.4,2,     0.00,2,    2.415,2,   0.004,2,   0.002,2,        0,2,  2299.1,2,  2406.7,2,   7.5922,2,    25.00, -999.00,9, -999.00,9, -999.00,-999.000,1,  -999.0,9,     -999.0,1,     -999.0,9,          5,     -999.0,9,     -999.0,9,     -999.0,9,     -999.0,9
33RO20180423,        I7N,      78,          1,        106,      11105,2,20180522,       2341,     0.4982,    57.2758,       4712,  3500.2,   1.6270,  34.7319,2,  34.7543,2,    144.0,2, 166.1810,2,    131.3,2,     34.6,2,     0.00,2,    2.452,2,   0.004,2,   0.002,2,   0.0066,2,  2303.1,2,  2407.8,2,   7.5893,2,    25.00, -999.00,9, -999.00,9, -999.00,-999.000,1,  -999.0,9,     -999.0,1,     -999.0,9,          6,     -999.0,9,     -999.0,9,     -999.0,9,     -999.0,9
33RO20180423,        I7N,      78,          1,        107,      11106,2,20180522,       2341,     0.4982,    57.2758,       4712,  3200.5,   1.7951,  34.7392,2,  34.7480,6,    137.7,2, 158.2440,2,    131.4,2,     34.9,2,     0.00,2,    2.487,2,   0.006,2,   0.002,2,   0.0085,2,  2308.1,2,  2410.1,2,   7.5816,2,    25.00, -999.00,9, -999.00,9, -999.00,-999.000,1,  -999.0,9,     -999.0,1,     -999.0,9,          7,     -999.0,9,     -999.0,9,     -999.0,9,     -999.0,9
33RO20180423,        I7N,      78,          1,        108,      11107,2,20180522,       2341,     0.4982,    57.2758,       4712,  2899.7,   1.8871,  34.7439,2,  34.7539,2,    134.7,2, 154.3730,2,    130.8,2,     35.0,2,     0.00,2,    2.490,2,   0.002,2,   0.001,2,        0,2,  2310.2,2,  2411.1,2,   7.5759,2,    25.00, -999.00,9, -999.00,9, -999.00,-999.000,1,    45.6,3,     -999.0,1,     -999.0,9,          8,     -999.0,9,     -999.0,9,     -999.0,9,     -999.0,9
33RO20180423,        I7N,      78,          1,        109,      11108,2,20180522,       2341,     0.4982,    57.2758,       4712,  2600.3,   2.0393,  34.7505,2,  34.7604,2,    130.4,2, 148.2780,2,    129.5,2,     35.3,2,     0.00,2,    2.509,2,   0.001,2,   0.002,2,        0,2,  2311.4,2,  2410.4,2,   7.5713,2,    25.00,    0.35,2, -187.00,2,    1.59,-999.000,1,  -999.0,9,     -999.0,1,     -999.0,9,          9,     -999.0,9,     -999.0,9,     -999.0,9,     -999.0,9
33RO20180423,        I7N,      78,          1,        110,      11109,2,20180522,       2341,     0.4982,    57.2758,       4712,  2301.1,   2.3988,  34.7650,2,  34.7674,2,    121.2,2, 137.3090,2,    126.1,2,     35.7,2,     0.00,2,    2.554,2,   0.002,2,   0.002,2,        0,2,  2311.9,2,  2405.0,2,   7.5578,2,    25.00,    0.33,2, -189.00,2,    1.58,-999.000,1,    45.1,3,     -999.0,1,     -999.0,9,         10,     -999.0,9,     -999.0,9,     -999.0,9,     -999.0,9
33RO20180423,        I7N,      78,          1,        111,      11110,2,20180522,       2341,     0.4982,    57.2758,       4712,  1999.7,   2.8309,  34.7808,2,  34.7821,2,    112.5,2, 126.7860,2,    120.5,2,     36.0,2,     0.00,2,    2.591,2,   0.006,2,   0.003,2,   0.0102,2,  2312.4,2,  2399.1,2,   7.5441,2,    25.00,    0.34,2, -186.00,2,    2.33,-999.000,1,    45.8,3,     -999.0,1,     -999.0,9,         11,     -999.0,9,     -999.0,9,     -999.0,9,     -999.0,9
33RO20180423,        I7N,      78,          1,        112,      11111,2,20180522,       2341,     0.4982,    57.2758,       4712,  1715.3,   3.6501,  34.8159,2,  34.8195,2,     96.5,2, 108.0350,2,    111.8,2,     36.4,2,     0.00,2,    2.661,2,   0.007,2,   0.006,2,   0.0074,2,  2309.9,2,  2390.3,2,   7.5248,2,    25.00,    0.26,2, -179.00,2,    1.68,-999.000,1,  -999.0,9,     -999.0,1,     -999.0,9,         12,     -999.0,9,     -999.0,9,     -999.0,9,     -999.0,9
33RO20180423,        I7N,      78,          1,        113,      11112,2,20180522,       2341,     0.4982,    57.2758,       4712,  1468.2,   4.5787,  34.8621,2,  34.8676,2,     78.1,2,  87.3670,2,    103.1,2,     37.0,2,     0.00,2,    2.729,2,   0.011,2,   0.007,2,        0,2,  2311.0,2,  2383.3,2,   7.5021,6,    25.00,    0.27,2, -174.00,2,    1.70,-999.000,1,  -999.0,9,     -999.0,1,     -999.0,9,         13,     -999.0,9,     -999.0,9,     -999.0,9,     -999.0,9
33RO20180423,        I7N,      78,          1,        114,      11113,2,20180522,       2341,     0.4982,    57.2758,       4712,  1216.7,   5.7890,  34.9220,2,  34.9708,2,     57.3,2,  63.8230,2,     92.7,2,     37.5,2,     0.00,2,    2.788,2,   0.025,2,   0.015,2,   0.0213,2,  2309.8,2,  2374.8,6,-999.0000,9,  -999.00,    0.07,2, -161.00,2,    2.05,-999.000,1,    44.1,3,     -999.0,1,     -999.0,9,         14,     -999.0,9,     -999.0,9,     -999.0,9,     -999.0,9
33RO20180423,        I7N,      78,          1,        115,      11114,2,20180522,       2341,     0.4982,    57.2758,       4712,   967.6,   7.3632,  35.0381,2,-999.0000,9,     42.2,2,-999.0000,9,-999.0000,9,-999.0000,9,-999.0000,9,-999.0000,9,-999.000,9,-999.000,9,-999.0000,9,  -999.0,9,  -999.0,9,-999.0000,9,  -999.00, -999.00,9, -999.00,9, -999.00,-999.000,9,    44.1,3,     -999.0,9,     -999.0,9,         15,     -999.0,9,     -999.0,9,     -999.0,9,     -999.0,9
33RO20180423,        I7N,      78,          1,        116,      11115,2,20180522,       2341,     0.4982,    57.2758,       4712,   742.4,   8.5214,  35.0596,2,  35.0641,2,     41.4,2,  45.9350,2,     60.5,2,     35.4,2,     0.00,2,    2.634,2,   0.282,2,   0.158,2,    0.096,2,  2277.5,2,  2338.4,2,   7.4841,2,    25.00,    0.12,2, -112.00,2,    2.31,-999.000,1,    47.5,3,     -999.0,1,     -999.0,9,         16,     -999.0,9,     -999.0,9,     -999.0,9,     -999.0,9
33RO20180423,        I7N,      78,          1,        117,      11116,2,20180522,       2341,     0.4982,    57.2758,       4712,   554.5,   9.5714,  35.0615,2,  35.0734,2,     53.7,2,  58.5740,2,     44.0,2,     32.7,2,     0.00,2,    2.396,2,   0.745,2,   0.405,2,   0.1671,2,  2252.7,2,  2332.1,2,   7.5139,2,    25.00,    0.23,2,  -65.90,2,    1.93,-999.000,1,    47.4,3,     -999.0,1,     -999.0,9,         17,     -999.0,9,     -999.0,9,     -999.0,9,     -999.0,9
33RO20180423,        I7N,      78,          1,        118,      11117,2,20180522,       2341,     0.4982,    57.2758,       4712,   399.1,  10.5628,  34.9573,2,  34.9594,2,    114.0,2, 121.6810,2,     22.9,2,     25.1,2,     0.00,2,    1.764,2,   2.027,2,   1.101,2,   0.6393,2,  2194.5,2,  2314.5,2,   7.6266,2,    25.00,    0.46,2,   -9.39,2,    2.28,-999.000,1,    50.5,3,     -999.0,1,     -999.0,9,         18,     -999.0,9,     -999.0,9,     -999.0,9,     -999.0,9
33RO20180423,        I7N,      78,          1,        119,      11083,2,20180522,       2341,     0.4982,    57.2758,       4712,   265.1,  12.2559,  35.0851,2,  35.0877,2,    105.8,2, 112.4990,2,     18.6,2,     22.6,2,     0.01,2,    1.616,2,   2.123,2,   1.184,2,   0.7575,2,  2186.8,2,  2316.0,2,   7.6479,2,    25.00,    0.29,2,    9.07,2,    2.48,-999.000,1,    52.7,3,     -999.0,1,     -999.0,9,         19,     -999.0,9,     -999.0,9,     -999.0,9,     -999.0,9
33RO20180423,        I7N,      78,          1,        120,      11118,2,20180522,       2341,     0.4982,    57.2758,       4712,   183.0,  14.9173,  35.2073,2,  35.2017,2,     91.6,2, 100.0670,2,     16.2,2,     20.7,2,     0.01,2,    1.497,2,   2.045,6,   1.183,6,   0.8811,6,  2179.6,2,  2318.3,2,   7.6799,2,    25.00,    0.14,2,   14.60,2,    2.08,-999.000,1,    53.2,3,     -999.0,1,     -999.0,9,         20,     -999.0,9,     -999.0,9,     -999.0,9,     -999.0,9
33RO20180423,        I7N,      78,          1,        121,      11119,2,20180522,       2341,     0.4982,    57.2758,       4712,   133.0,  16.9667,  35.2570,2,  35.2596,2,     81.1,2,  86.5580,2,     14.6,2,     20.0,2,     0.02,2,    1.432,2,   1.935,2,   1.136,2,   0.9258,2,  2169.7,2,  2316.7,2,   7.7026,6,    25.00,   -0.07,2,   20.10,2,    2.27,-999.000,1,    65.3,3,     -999.0,1,     -999.0,9,         21,     -999.0,9,     -999.0,9,     -999.0,9,     -999.0,9
33RO20180423,        I7N,      78,          1,        122,      11120,2,20180522,       2341,     0.4982,    57.2758,       4712,    73.6,  26.1881,  35.5880,2,  35.6055,2,    171.3,2, 171.2670,2,      3.9,2,      3.7,2,     0.33,2,    0.495,2,   1.618,2,   1.010,2,   1.3571,2,  2054.5,2,  2332.5,3,   7.9770,2,    25.00,    0.59,2,   21.10,2,    2.11,-999.000,1,    76.1,3,     -999.0,1,     -999.0,9,         22,     -999.0,9,     -999.0,9,     -999.0,9,     -999.0,9
33RO20180423,        I7N,      78,          1,        123,      11121,2,20180522,       2341,     0.4982,    57.2758,       4712,    36.2,  29.8115,  35.1253,2,  35.1331,2,    184.0,2, 191.6990,2,      1.6,2,      0.2,2,     0.00,2,    0.137,2,   1.368,2,   0.877,2,   1.3211,2,  1969.0,2,  2304.0,6,   8.0855,2,    25.00,    0.98,2,   20.70,2,    2.55,-999.000,1,    76.0,3,     -999.0,1,     -999.0,9,         23,     -999.0,9,     -999.0,9,     -999.0,9,     -999.0,9
33RO20180423,        I7N,      78,          1,        124,      11122,2,20180522,       2341,     0.4982,    57.2758,       4712,     3.8,  29.7981,  35.1253,2,  35.1272,2,    184.3,2, 191.7970,2,      1.5,2,      0.1,2,     0.00,2,    0.126,2,   1.381,2,   0.877,2,   1.3331,2,  1971.0,6,  2303.4,2,   8.0858,2,    25.00,    0.95,2,   17.00,2,    2.10,-999.000,1,  -999.0,9,     -999.0,1,     -999.0,9,         24,     -999.0,9,     -999.0,9,     -999.0,9,     -999.0,9