BOTTLE,20230801CCHSIOCBG
EXPOCODE,SECT_ID,STNNBR,CASTNO,SAMPNO,BTLNBR,BTLNBR_FLAG_W,DATE,TIME,LATITUDE,LONGITUDE,DEPTH,CTDPRS,CTDTMP,CTDSAL,CTDSAL_FLAG_W,SALNTY,SALNTY_FLAG_W,CTDOXY,CTDOXY_FLAG_W,OXYGEN,OXYGEN_FLAG_W,SILCAT,SILCAT_FLAG_W,NITRAT,NITRAT_FLAG_W,NITRIT,NITRIT_FLAG_W,PHSPHT,PHSPHT_FLAG_W,CFC-11,CFC-11_FLAG_W,CFC-12,CFC-12_FLAG_W,SF6,SF6_FLAG_W,TCARBN,TCARBN_FLAG_W,ALKALI,ALKALI_FLAG_W,PH_SWS,PH_SWS_FLAG_W,PH_TMP,DELC13,DELC13_FLAG_W,DELC14,DELC14_FLAG_W,C14ERR,CCL4,CCL4_FLAG_W,DOC,DOC_FLAG_W,N2O,N2O_FLAG_W,CALCIUM,CALCIUM_FLAG_W,SAMPNO_U,DNSSAL,DNSSAL_FLAG_W,DNSSAL2,DNSSAL2_FLAG_W,SALNTY_DNSSAL,SALNTY_DNSSAL_FLAG_W,SALNTY_DNSSAL2,SALNTY_DNSSAL2_FLAG_W
,,,,,,,,,,,METERS,DBAR,ITS-90,PSS-78,,PSS-78,,UMOL/KG,,UMOL/KG,,UMOL/KG,,UMOL/KG,,UMOL/KG,,UMOL/KG,,PMOL/KG,,PMOL/KG,,FMOL/KG,,UMOL/KG,,UMOL/KG,,,,DEG C,/MILLE,,/MILLE,,/MILLE,PMOL/KG,,UMOL/KG,,NMOL/KG,,MMOL/KG,,,G/KG,,G/KG,,PSS-78,,PSS-78,
33RO20180423,        I7N,      69,          1,        101,      11010,2,20180520,       1355,    -2.7637,    56.3912,       4357,  4411.5,   1.4741,  34.7230,2,  34.7266,2,    154.2,2, 178.0460,2,    133.7,6,     34.2,6,     0.00,6,    2.397,6,   0.009,2,   0.006,2,        0,2,  2298.3,6,  2408.6,2,   7.6002,6,    25.00, -999.00,9, -999.00,9, -999.00,-999.000,1,    39.9,3,     -999.0,1,     -999.0,9,          1,     -999.0,9,     -999.0,9,     -999.0,9,     -999.0,9
33RO20180423,        I7N,      69,          1,        102,      11101,2,20180520,       1355,    -2.7637,    56.3912,       4357,  4263.6,   1.4572,  34.7230,2,  34.7435,2,    153.8,2, 160.1840,4,    125.8,4,     34.7,4,     0.00,4,    2.434,4,-999.000,9,-999.000,9,-999.0000,9,  2299.6,2,  2400.4,6,   7.5823,2,    25.00, -999.00,9, -999.00,9, -999.00,-999.000,9,    40.4,3,     -999.0,9,     -999.0,9,          2,     -999.0,9,     -999.0,9,     -999.0,9,     -999.0,9
33RO20180423,        I7N,      69,          1,        103,      11102,2,20180520,       1355,    -2.7637,    56.3912,       4357,  4100.7,   1.5085,  34.7252,2,  34.7278,2,    151.4,2, 174.6100,2,    133.4,6,     34.3,6,     0.00,6,    2.399,6,   0.006,2,   0.003,2,        0,2,  2297.8,2,  2405.0,2,   7.5969,2,    25.00, -999.00,9, -999.00,9, -999.00,-999.000,1,  -999.0,9,     -999.0,1,     -999.0,9,          3,     -999.0,9,     -999.0,9,     -999.0,9,     -999.0,9
33RO20180423,        I7N,      69,          1,        104,      11103,2,20180520,       1355,    -2.7637,    56.3912,       4357,  3800.4,   1.5901,  34.7288,2,  34.7335,6,    147.6,2, 170.0320,2,    133.1,6,     34.5,6,     0.00,6,    2.407,6,-999.000,9,-999.000,9,-999.0000,9,  2301.3,2,  2407.2,2,   7.5937,2,    25.00, -999.00,9, -999.00,9, -999.00,-999.000,9,    42.6,3,     -999.0,9,     -999.0,9,          4,     -999.0,9,     -999.0,9,     -999.0,9,     -999.0,9
33RO20180423,        I7N,      69,          1,        105,      11104,2,20180520,       1355,    -2.7637,    56.3912,       4357,  3500.8,   1.6557,  34.7316,2,  34.7370,2,    144.9,2, 166.6510,2,    132.2,2,     34.5,2,     0.00,2,    2.410,2,-999.000,9,-999.000,9,-999.0000,9,  2302.1,2,  2407.2,2,   7.5914,2,    25.00, -999.00,9, -999.00,9, -999.00,-999.000,9,    40.1,3,     -999.0,9,     -999.0,9,          5,     -999.0,9,     -999.0,9,     -999.0,9,     -999.0,9
33RO20180423,        I7N,      69,          1,        106,      11105,2,20180520,       1355,    -2.7637,    56.3912,       4357,  3200.5,   1.7002,  34.7320,2,  34.7502,2,    145.1,2, 166.2280,2,    130.0,2,     34.4,2,     0.00,2,    2.423,2,-999.000,9,-999.000,9,-999.0000,9,  2299.3,2,  2403.8,2,   7.5891,2,    25.00, -999.00,9, -999.00,9, -999.00,-999.000,9,  -999.0,9,     -999.0,9,     -999.0,9,          6,     -999.0,9,     -999.0,9,     -999.0,9,     -999.0,9
33RO20180423,        I7N,      69,          1,        107,      11106,2,20180520,       1355,    -2.7637,    56.3912,       4357,  2901.0,   1.7680,  34.7342,2,  34.7366,2,    143.7,2, 164.2620,2,    128.8,2,     34.5,2,     0.00,2,    2.425,2,-999.000,9,-999.000,9,-999.0000,9,  2300.2,2,  2402.9,2,   7.5866,2,    25.00, -999.00,9, -999.00,9, -999.00,-999.000,9,    43.4,3,     -999.0,9,     -999.0,9,          7,     -999.0,9,     -999.0,9,     -999.0,9,     -999.0,9
33RO20180423,        I7N,      69,          1,        108,      11107,2,20180520,       1355,    -2.7637,    56.3912,       4357,  2600.7,   1.9149,  34.7377,2,  34.7411,2,    140.8,2, 160.3180,2,    126.0,2,     34.7,2,     0.00,2,    2.428,2,-999.000,9,-999.000,9,-999.0000,9,  2299.4,2,  2400.6,2,   7.5817,2,    25.00, -999.00,9, -999.00,9, -999.00,-999.000,9,    41.8,3,     -999.0,9,     -999.0,9,          8,     -999.0,9,     -999.0,9,     -999.0,9,     -999.0,9
33RO20180423,        I7N,      69,          1,        109,      11108,2,20180520,       1355,    -2.7637,    56.3912,       4357,  2301.2,   2.2878,  34.7521,2,  34.7651,2,    129.1,2, 146.2640,2,    123.5,2,     35.3,2,     0.00,2,    2.496,2,-999.000,9,-999.000,9,-999.0000,9,  2306.6,2,  2400.1,2,   7.5720,2,    25.00, -999.00,9, -999.00,9, -999.00,-999.000,9,    40.9,3,     -999.0,9,     -999.0,9,          9,     -999.0,9,     -999.0,9,     -999.0,9,     -999.0,9
33RO20180423,        I7N,      69,          1,        110,      11109,2,20180520,       1355,    -2.7637,    56.3912,       4357,  2000.3,   2.6910,  34.7648,2,  34.7890,2,    120.2,2, 135.9840,2,    119.0,2,     35.6,2,     0.00,2,    2.536,2,-999.000,9,-999.000,9,-999.0000,9,  2307.0,2,  2395.9,2,   7.5538,2,    25.00, -999.00,9, -999.00,9, -999.00,-999.000,9,    44.2,3,     -999.0,9,     -999.0,9,         10,     -999.0,9,     -999.0,9,     -999.0,9,     -999.0,9
33RO20180423,        I7N,      69,          1,        111,      11110,2,20180520,       1355,    -2.7637,    56.3912,       4357,  1717.9,   3.4397,  34.7831,2,  34.7867,2,    105.5,2, 118.1235,2,    110.2,2,     36.2,2,     0.00,2,    2.593,2,-999.000,9,-999.000,9,-999.0000,9,  2304.9,2,  2386.6,2,   7.5333,2,    25.00, -999.00,9, -999.00,9, -999.00,-999.000,9,  -999.0,9,     -999.0,9,     -999.0,9,         11,     -999.0,9,     -999.0,9,     -999.0,9,     -999.0,9
33RO20180423,        I7N,      69,          1,        112,      11111,2,20180520,       1355,    -2.7637,    56.3912,       4357,  1467.3,   4.3598,  34.8165,2,  34.8630,2,     86.9,2,  97.1190,2,    102.5,2,     36.8,2,     0.00,2,    2.664,2,   0.016,2,   0.009,2,        0,2,  2306.9,2,  2379.2,2,   7.5121,2,    25.00, -999.00,9, -999.00,9, -999.00,-999.000,1,  -999.0,9,     -999.0,1,     -999.0,9,         12,     -999.0,9,     -999.0,9,     -999.0,9,     -999.0,9
33RO20180423,        I7N,      69,          1,        113,      11112,2,20180520,       1355,    -2.7637,    56.3912,       4357,  1233.6,   5.6383,  34.8796,2,  34.8809,2,     65.0,2,  72.6870,2,     91.3,2,     37.1,2,     0.00,2,    2.726,2,   0.039,2,   0.022,2,   0.0097,2,  2305.8,2,  2362.0,3,   7.4902,2,    25.00, -999.00,9, -999.00,9, -999.00,-999.000,1,    45.5,3,     -999.0,1,     -999.0,9,         13,     -999.0,9,     -999.0,9,     -999.0,9,     -999.0,9
33RO20180423,        I7N,      69,          1,        114,      11113,2,20180520,       1355,    -2.7637,    56.3912,       4357,  1033.4,   6.5614,  34.9687,2,  34.9716,2,     52.7,2,  59.3120,2,     83.2,2,     37.1,2,     0.00,2,    2.728,2,   0.074,2,   0.043,2,        0,2,  2301.5,2,  2359.7,6,   7.4819,2,    25.00, -999.00,9, -999.00,9, -999.00,-999.000,1,    44.6,3,     -999.0,1,     -999.0,9,         14,     -999.0,9,     -999.0,9,     -999.0,9,     -999.0,9
33RO20180423,        I7N,      69,          1,        115,      11114,2,20180520,       1355,    -2.7637,    56.3912,       4357,   850.1,   7.8220,  35.0031,2,  35.0038,2,     48.8,2,  56.8510,2,     67.6,2,     35.9,2,     0.00,2,    2.649,2,-999.000,9,-999.000,9,-999.0000,9,  2283.3,2,  2346.4,2,   7.4904,6,    25.00, -999.00,9, -999.00,9, -999.00,-999.000,9,    42.2,3,     -999.0,9,     -999.0,9,         15,     -999.0,9,     -999.0,9,     -999.0,9,     -999.0,9
33RO20180423,        I7N,      69,          1,        116,      11115,2,20180520,       1355,    -2.7637,    56.3912,       4357,   700.6,   8.5376,  34.9924,2,  34.9999,2,     57.9,2,  63.4330,2,     54.8,2,     34.2,2,     0.01,2,    2.501,2,   0.489,2,   0.266,2,   0.1233,2,  2264.5,6,  2336.7,2,   7.5075,2,    25.00, -999.00,9, -999.00,9, -999.00,-999.000,1,    42.5,3,     -999.0,1,     -999.0,9,         16,     -999.0,9,     -999.0,9,     -999.0,9,     -999.0,9
33RO20180423,        I7N,      69,          1,        117,      11116,2,20180520,       1355,    -2.7637,    56.3912,       4357,   551.3,   9.1473,  34.9117,2,  34.9182,2,     86.0,2,  93.0830,2,     38.6,2,     30.5,2,     0.01,2,    2.188,2,-999.000,9,-999.000,9,-999.0000,9,  2232.2,2,  2319.6,2,   7.5595,2,    25.00, -999.00,9, -999.00,9, -999.00,-999.000,9,    43.6,3,     -999.0,9,     -999.0,9,         17,     -999.0,9,     -999.0,9,     -999.0,9,     -999.0,9
33RO20180423,        I7N,      69,          1,        118,      11117,2,20180520,       1355,    -2.7637,    56.3912,       4357,   397.0,  10.8515,  34.9861,2,  34.9874,2,     99.2,2, 107.3260,2,     23.5,2,     26.1,2,     0.00,2,    1.802,2,   1.882,6,   1.030,6,   0.6103,6,  2206.4,2,  2310.9,2,   7.6073,2,    25.00, -999.00,9, -999.00,9, -999.00,-999.000,1,    48.3,3,     -999.0,1,     -999.0,9,         18,     -999.0,9,     -999.0,9,     -999.0,9,     -999.0,9
33RO20180423,        I7N,      69,          1,        119,      11083,2,20180520,       1355,    -2.7637,    56.3912,       4357,   270.0,  13.0512,  35.1142,2,  35.1239,2,    107.1,2, 113.0770,2,     17.1,2,     21.4,2,     0.01,2,    1.528,2,-999.000,9,-999.000,9,-999.0000,9,  2184.7,2,  2308.0,2,   7.6681,2,    25.00, -999.00,9, -999.00,9, -999.00,-999.000,9,    53.2,3,     -999.0,9,     -999.0,9,         19,     -999.0,9,     -999.0,9,     -999.0,9,     -999.0,9
33RO20180423,        I7N,      69,          1,        120,      11118,2,20180520,       1355,    -2.7637,    56.3912,       4357,   184.7,  14.1277,  35.1782,2,  35.1807,2,    101.7,2, 108.6670,2,     15.9,2,     20.4,2,     0.01,2,    1.464,2,   2.114,2,   1.220,2,   0.9239,2,  2181.2,2,  2313.0,2,   7.6840,2,    25.00, -999.00,9, -999.00,9, -999.00,-999.000,1,    49.2,3,     -999.0,1,     -999.0,9,         20,     -999.0,9,     -999.0,9,     -999.0,9,     -999.0,9
33RO20180423,        I7N,      69,          1,        121,      11119,2,20180520,       1355,    -2.7637,    56.3912,       4357,   133.9,  15.6221,  35.2221,2,  35.2545,2,     87.8,2,  94.3750,2,     15.5,2,     20.5,2,     0.01,2,    1.464,2,-999.000,9,-999.000,9,-999.0000,9,  2179.1,2,  2311.9,2,   7.6888,2,    25.00, -999.00,9, -999.00,9, -999.00,-999.000,9,    48.5,3,     -999.0,9,     -999.0,9,         21,     -999.0,9,     -999.0,9,     -999.0,9,     -999.0,9
33RO20180423,        I7N,      69,          1,        122,      11120,2,20180520,       1355,    -2.7637,    56.3912,       4357,    83.2,  19.9068,  35.4303,2,  35.4364,2,    119.6,2, 126.7890,2,     10.5,2,     13.4,2,     0.10,2,    1.027,2,   1.812,2,   1.098,2,   1.1964,2,  2126.5,2,  2322.1,6,   7.8299,2,    25.00, -999.00,9, -999.00,9, -999.00,-999.000,1,    60.4,3,     -999.0,1,     -999.0,9,         22,     -999.0,9,     -999.0,9,     -999.0,9,     -999.0,9
33RO20180423,        I7N,      69,          1,        123,      11121,2,20180520,       1355,    -2.7637,    56.3912,       4357,    36.3,  27.6659,  35.3733,2,  35.3789,2,    188.0,2, 196.9260,2,      1.9,2,      0.1,2,     0.06,2,    0.228,2,-999.000,9,-999.000,9,-999.0000,9,  2010.9,6,  2317.3,2,   8.0412,2,    25.00, -999.00,9, -999.00,9, -999.00,-999.000,9,    70.7,3,     -999.0,9,     -999.0,9,         23,     -999.0,9,     -999.0,9,     -999.0,9,     -999.0,9
33RO20180423,        I7N,      69,          1,        124,      11122,2,20180520,       1355,    -2.7637,    56.3912,       4357,     3.8,  28.9809,  35.3907,2,  35.3955,2,    186.7,2, 195.4240,2,      1.7,2,      0.0,2,     0.00,2,    0.158,2,   1.410,2,   0.909,2,   1.3502,2,  1999.7,2,  2317.1,2,   8.0648,6,    25.00, -999.00,9, -999.00,9, -999.00,-999.000,1,    73.7,3,     -999.0,1,     -999.0,9,         24,     -999.0,9,     -999.0,9,     -999.0,9,     -999.0,9