BOTTLE,20230801CCHSIOCBG
EXPOCODE,SECT_ID,STNNBR,CASTNO,SAMPNO,BTLNBR,BTLNBR_FLAG_W,DATE,TIME,LATITUDE,LONGITUDE,DEPTH,CTDPRS,CTDTMP,CTDSAL,CTDSAL_FLAG_W,SALNTY,SALNTY_FLAG_W,CTDOXY,CTDOXY_FLAG_W,OXYGEN,OXYGEN_FLAG_W,SILCAT,SILCAT_FLAG_W,NITRAT,NITRAT_FLAG_W,NITRIT,NITRIT_FLAG_W,PHSPHT,PHSPHT_FLAG_W,CFC-11,CFC-11_FLAG_W,CFC-12,CFC-12_FLAG_W,SF6,SF6_FLAG_W,TCARBN,TCARBN_FLAG_W,ALKALI,ALKALI_FLAG_W,PH_SWS,PH_SWS_FLAG_W,PH_TMP,DELC13,DELC13_FLAG_W,DELC14,DELC14_FLAG_W,C14ERR,CCL4,CCL4_FLAG_W,DOC,DOC_FLAG_W,N2O,N2O_FLAG_W,CALCIUM,CALCIUM_FLAG_W,SAMPNO_U,DNSSAL,DNSSAL_FLAG_W,DNSSAL2,DNSSAL2_FLAG_W,SALNTY_DNSSAL,SALNTY_DNSSAL_FLAG_W,SALNTY_DNSSAL2,SALNTY_DNSSAL2_FLAG_W
,,,,,,,,,,,METERS,DBAR,ITS-90,PSS-78,,PSS-78,,UMOL/KG,,UMOL/KG,,UMOL/KG,,UMOL/KG,,UMOL/KG,,UMOL/KG,,PMOL/KG,,PMOL/KG,,FMOL/KG,,UMOL/KG,,UMOL/KG,,,,DEG C,/MILLE,,/MILLE,,/MILLE,PMOL/KG,,UMOL/KG,,NMOL/KG,,MMOL/KG,,,G/KG,,G/KG,,PSS-78,,PSS-78,
33RO20180423,        I7N,     123,          1,        101,      11010,2,20180604,       0143,    17.8650,    68.4800,       3448,  3498.1,   1.7315,  34.7368,2,  34.7373,2,    112.1,2, 127.2680,2,    147.6,6,     36.9,6,     0.01,6,    2.563,6,   0.016,2,   0.011,2,        0,2,  2363.0,6,  2467.9,2,   7.5738,6,    25.00, -999.00,9, -999.00,9, -999.00,-999.000,1,    41.6,3,     -999.0,1,     -999.0,9,          1,    34.9212,2,     -999.0,9,    34.7387,2,     -999.0,9
33RO20180423,        I7N,     123,          1,        102,      11101,2,20180604,       0143,    17.8650,    68.4800,       3448,  3355.7,   1.7466,  34.7392,2,  34.7406,2,    113.4,2, 128.1650,2,    147.2,6,     36.6,6,     0.01,6,    2.566,6,   0.011,2,   0.012,2,    0.006,2,  2355.8,2,  2456.4,6,   7.5666,2,    25.00, -999.00,9, -999.00,9, -999.00,-999.000,1,    45.4,3,     -999.0,1,     -999.0,9,          2,    34.9219,2,     -999.0,9,    34.7420,2,     -999.0,9
33RO20180423,        I7N,     123,          1,        103,      11102,2,20180604,       0143,    17.8650,    68.4800,       3448,  3193.8,   1.7732,  34.7419,2,  34.7426,2,    112.8,2, 127.7130,2,    146.8,6,     36.6,6,     0.01,6,    2.578,6,   0.006,2,   0.010,2,   0.0016,2,  2351.2,2,  2456.4,2,   7.5592,2,    25.00, -999.00,9, -999.00,9, -999.00,-999.000,1,    41.8,3,     -999.0,1,     -999.0,9,          3,    34.9300,2,     -999.0,9,    34.7427,2,     -999.0,9
33RO20180423,        I7N,     123,          1,        104,      11103,2,20180604,       0143,    17.8650,    68.4800,       3448,  2901.7,   1.8651,  34.7488,2,  34.7516,2,    108.9,2, 122.9490,2,    146.2,6,     36.7,6,     0.01,6,    2.603,6,   0.004,2,   0.009,2,   0.0002,2,  2350.2,2,  2461.2,2,   7.5505,2,    25.00, -999.00,9, -999.00,9, -999.00,-999.000,1,    49.2,3,     -999.0,1,     -999.0,9,          4,    34.9318,2,     -999.0,9,    34.7509,2,     -999.0,9
33RO20180423,        I7N,     123,          1,        105,      11104,2,20180604,       0143,    17.8650,    68.4800,       3448,  2600.2,   2.1123,  34.7655,2,  34.7661,2,    102.9,2, 115.9490,2,    143.5,2,     36.8,2,     0.01,2,    2.644,2,   0.002,2,   0.005,2,   0.0034,2,  2346.4,2,  2435.1,2,   7.5350,2,    25.00, -999.00,9, -999.00,9, -999.00,-999.000,1,  -999.0,9,     -999.0,1,     -999.0,9,          5,    34.9496,2,     -999.0,9,    34.7681,2,     -999.0,9
33RO20180423,        I7N,     123,          1,        106,      11105,2,20180604,       0143,    17.8650,    68.4800,       3448,  2300.4,   2.4831,  34.7890,2,  34.8009,2,     97.5,2, 109.2470,2,    137.1,2,     36.8,2,     0.00,2,    2.663,2,   0.002,2,   0.003,2,   0.0032,2,  2343.3,2,  2424.8,2,   7.5229,2,    25.00, -999.00,9, -999.00,9, -999.00,-999.000,1,    47.6,3,     -999.0,1,     -999.0,9,          6,    34.9726,2,     -999.0,9,    34.7914,2,     -999.0,9
33RO20180423,        I7N,     123,          1,        107,      11106,2,20180604,       0143,    17.8650,    68.4800,       3448,  2000.3,   3.0848,  34.8292,2,  34.8310,2,     84.0,2,  94.0860,2,    130.2,2,     37.5,2,     0.01,2,    2.739,2,   0.002,2,   0.003,2,   0.0065,2,  2340.1,2,  2426.9,2,   7.5030,2,    25.00, -999.00,9, -999.00,9, -999.00,-999.000,1,  -999.0,9,     -999.0,1,     -999.0,9,          7,    35.0102,2,     -999.0,9,    34.8324,2,     -999.0,9
33RO20180423,        I7N,     123,          1,        108,      11107,2,20180604,       0143,    17.8650,    68.4800,       3448,  1717.5,   4.1810,  34.9257,2,  34.9282,2,     56.5,2,  63.0290,2,    119.8,2,     38.4,2,     0.00,2,    2.891,2,   0.003,2,   0.005,2,   0.0058,2,  2345.7,2,  2412.0,2,   7.4649,2,    25.00, -999.00,9, -999.00,9, -999.00,-999.000,1,    48.8,3,     -999.0,1,     -999.0,9,          8,    35.1123,2,     -999.0,9,    34.9277,2,     -999.0,9
33RO20180423,        I7N,     123,          1,        109,      11108,2,20180604,       0143,    17.8650,    68.4800,       3448,  1467.0,   5.6621,  35.0560,2,  35.0570,2,     32.5,2,  36.5395,2,    103.8,2,     38.7,2,     0.01,2,    2.964,2,   0.008,2,   0.008,2,        0,2,  2337.6,2,  2395.4,2,   7.4409,2,    25.00,    0.02,2, -173.00,2,    1.85,-999.000,1,    48.1,3,     -999.0,1,     -999.0,9,          9,    35.2356,2,     -999.0,9,    35.0565,2,     -999.0,9
33RO20180423,        I7N,     123,          1,        110,      11109,2,20180604,       0143,    17.8650,    68.4800,       3448,  1232.9,   7.1743,  35.2142,2,  35.2169,2,     13.2,2,  15.6470,2,     89.0,2,     38.5,2,     0.01,2,    2.985,2,   0.026,2,   0.018,2,   0.0057,2,  2328.9,2,  2380.7,6,   7.4280,2,    25.00,   -0.03,2, -155.00,2,    1.74,-999.000,1,  -999.0,9,     -999.0,1,     -999.0,9,         10,    35.3937,2,     -999.0,9,    35.2140,2,     -999.0,9
33RO20180423,        I7N,     123,          1,        111,      11110,2,20180604,       0143,    17.8650,    68.4800,       3448,  1031.1,   8.4925,  35.3517,2,  35.3516,6,      5.5,2,   7.6530,2,     76.5,2,     37.2,2,     0.01,2,    2.918,2,   0.059,2,   0.038,2,   0.0068,2,  2315.9,2,  2369.3,2,   7.4358,6,    25.00,   -0.01,2, -140.00,2,    1.77,-999.000,1,    42.4,3,     -999.0,1,     -999.0,9,         11,    35.5294,2,     -999.0,9,    35.3501,2,     -999.0,9
33RO20180423,        I7N,     123,          1,        112,      11111,2,20180604,       0143,    17.8650,    68.4800,       3448,   849.8,   9.8376,  35.4665,2,  35.4682,2,      1.1,2,   2.4150,2,     64.3,2,     34.9,2,     0.01,2,    2.818,2,   0.097,2,   0.064,2,    0.013,2,  2304.4,6,  2363.7,2,   7.4490,2,    25.00,    0.05,2, -122.00,2,    1.71,-999.000,1,  -999.0,9,     -999.0,1,     -999.0,9,         12,    35.6467,2,     -999.0,9,    35.4676,2,     -999.0,9
33RO20180423,        I7N,     123,          1,        113,      11112,2,20180604,       0143,    17.8650,    68.4800,       3448,   699.8,  11.0962,  35.5911,2,  35.5883,2,      0.4,2,   2.0490,2,     53.1,2,     31.7,2,     0.01,2,    2.711,2,   0.184,2,   0.127,2,    0.057,2,  2290.2,2,  2359.2,2,   7.4655,2,    25.00,    0.05,6,  -95.60,6,    1.76,-999.000,1,    44.4,3,     -999.0,1,     -999.0,9,         13,    35.7633,2,     -999.0,9,    35.5903,2,     -999.0,9
33RO20180423,        I7N,     123,          1,        114,      11113,2,20180604,       0143,    17.8650,    68.4800,       3448,   544.7,  12.2286,  35.6789,2,  35.6783,2,      0.2,2,   1.3050,2,     42.1,2,     28.5,2,     0.01,2,    2.598,2,   0.362,2,   0.253,2,   0.1207,2,  2281.8,2,  2353.4,2,   7.4744,2,    25.00,   -0.03,2,  -71.20,2,    2.80,-999.000,1,  -999.0,9,     -999.0,1,     -999.0,9,         14,    35.8489,2,     -999.0,9,    35.6766,2,     -999.0,9
33RO20180423,        I7N,     123,          1,        115,      11114,2,20180604,       0143,    17.8650,    68.4800,       3448,   416.8,  13.3577,  35.7736,2,  35.7689,2,      0.2,2,   1.0230,2,     34.5,2,     25.7,2,     0.36,2,    2.482,2,   0.607,2,   0.428,2,   0.2099,2,  2277.0,2,  2352.0,2,   7.4763,2,    25.00,   -0.04,2,  -39.80,2,    2.34,-999.000,1,    44.7,3,     -999.0,1,     -999.0,9,         15,    35.9438,2,     -999.0,9,    35.7681,2,     -999.0,9
33RO20180423,        I7N,     123,          1,        116,      11115,2,20180604,       0143,    17.8650,    68.4800,       3448,   332.2,  14.4199,  35.8484,2,  35.8463,2,      0.2,2,   2.2820,2,     30.1,2,     19.3,2,     4.21,2,    2.407,2,   0.780,2,   0.554,2,   0.2641,2,  2276.0,2,  2349.2,2,   7.4814,2,    25.00,   -0.18,2,  -23.80,2,    1.91,-999.000,1,    49.8,3,     -999.0,1,     -999.0,9,         16,    36.0182,2,     -999.0,9,    35.8469,2,     -999.0,9
33RO20180423,        I7N,     123,          1,        117,      11116,2,20180604,       0143,    17.8650,    68.4800,       3448,   283.7,  15.2681,  35.9026,2,  35.9051,2,      0.2,2,   2.0470,2,     27.6,2,     18.3,2,     3.65,2,    2.372,2,   0.882,6,   0.636,6,   0.3423,2,  2275.3,2,  2350.6,2,   7.4941,2,    25.00,   -0.22,2,  -15.00,2,    2.26,-999.000,1,    52.6,3,     -999.0,1,     -999.0,9,         17,    36.0802,2,     -999.0,9,    35.9057,2,     -999.0,9
33RO20180423,        I7N,     123,          1,        118,      11117,2,20180604,       0143,    17.8650,    68.4800,       3448,   232.8,  15.9220,  35.7639,2,  35.7668,2,      0.2,2,   3.1690,2,     25.8,2,     19.0,2,     2.87,2,    2.347,2,   0.963,2,   0.694,2,   0.4621,2,  2264.0,2,  2344.0,2,   7.5040,2,    25.00,   -0.33,2,   -7.65,2,    1.98,-999.000,1,    51.7,3,     -999.0,1,     -999.0,9,         18,    35.9412,2,     -999.0,9,    35.7683,2,     -999.0,9
33RO20180423,        I7N,     123,          1,        119,      11083,2,20180604,       0143,    17.8650,    68.4800,       3448,   183.1,  18.0130,  35.7793,2,  35.7757,2,      0.1,2,   1.4175,2,     21.5,2,     20.7,2,     2.27,2,    2.275,2,   1.141,2,   0.798,2,   0.6379,2,  2251.6,2,  2346.0,2,   7.5442,2,    25.00,   -0.37,2,    1.47,2,    1.94,-999.000,1,    49.5,3,     -999.0,1,     -999.0,9,         19,    35.9491,2,     -999.0,9,    35.7763,2,     -999.0,9
33RO20180423,        I7N,     123,          1,        120,      11118,2,20180604,       0143,    17.8650,    68.4800,       3448,   146.1,  19.9107,  35.7751,2,  35.7787,2,      3.4,2,   5.5180,2,     16.4,2,     25.3,2,     0.02,2,    2.100,2,   1.350,6,   0.866,6,   0.8678,6,  2227.2,2,  2341.3,2,   7.5998,2,    25.00,   -0.43,2,    1.24,2,    2.04,-999.000,1,    63.6,3,     -999.0,1,     -999.0,9,         20,    35.9510,2,     -999.0,9,    35.7776,2,     -999.0,9
33RO20180423,        I7N,     123,          1,        121,      11119,2,20180604,       0143,    17.8650,    68.4800,       3448,   107.4,  23.1149,  36.2182,2,  36.1932,2,     87.0,2,  83.9450,2,      9.3,2,     16.4,2,     0.04,2,    1.431,2,   1.502,2,   0.956,2,   1.2459,2,  2167.1,2,  2369.2,6,   7.8059,2,    25.00,   -0.04,2,   11.00,2,    2.06,-999.000,1,    58.4,3,     -999.0,1,     -999.0,9,         21,    36.3653,2,     -999.0,9,    36.1958,2,     -999.0,9
33RO20180423,        I7N,     123,          1,        122,      11120,2,20180604,       0143,    17.8650,    68.4800,       3448,    51.3,  25.8979,  36.2165,2,  36.2338,2,    155.2,2, 160.4780,2,      2.4,2,      4.0,2,     0.28,2,    0.619,2,   1.514,2,   0.963,2,   1.4273,2,  2078.8,2,  2367.8,3,   7.9831,2,    25.00,    0.60,2,    8.30,2,    1.95,-999.000,1,    69.5,3,     -999.0,1,     -999.0,9,         22,    36.4068,2,     -999.0,9,    36.2394,2,     -999.0,9
33RO20180423,        I7N,     123,          1,        123,      11121,2,20180604,       0143,    17.8650,    68.4800,       3448,    28.5,  29.9213,  36.3416,2,  36.3500,2,    188.8,2, 198.4870,2,      1.1,2,      0.0,2,     0.01,2,    0.152,2,   1.410,2,   0.897,2,   1.3765,2,  2016.9,2,  2379.7,2,   8.0970,6,    25.00,    1.09,2,    9.63,2,    2.11,-999.000,1,    78.4,3,     -999.0,1,     -999.0,9,         23,    36.5274,2,     -999.0,9,    36.3579,2,     -999.0,9
33RO20180423,        I7N,     123,          1,        124,      11122,2,20180604,       0143,    17.8650,    68.4800,       3448,     3.8,  30.5993,  36.1874,2,  36.1904,2,    180.2,2, 187.7400,2,      1.1,2,      0.0,2,     0.01,2,    0.117,2,   1.330,2,   0.852,2,   1.3228,2,  2008.3,6,  2371.0,2,   8.1048,2,    25.00,    1.07,2,   11.10,2,    2.06,-999.000,1,    82.9,3,     -999.0,1,     -999.0,9,         24,    36.3653,2,     -999.0,9,    36.1964,2,     -999.0,9