BOTTLE,20230801CCHSIOCBG
EXPOCODE,SECT_ID,STNNBR,CASTNO,SAMPNO,BTLNBR,BTLNBR_FLAG_W,DATE,TIME,LATITUDE,LONGITUDE,DEPTH,CTDPRS,CTDTMP,CTDSAL,CTDSAL_FLAG_W,SALNTY,SALNTY_FLAG_W,CTDOXY,CTDOXY_FLAG_W,OXYGEN,OXYGEN_FLAG_W,SILCAT,SILCAT_FLAG_W,NITRAT,NITRAT_FLAG_W,NITRIT,NITRIT_FLAG_W,PHSPHT,PHSPHT_FLAG_W,CFC-11,CFC-11_FLAG_W,CFC-12,CFC-12_FLAG_W,SF6,SF6_FLAG_W,TCARBN,TCARBN_FLAG_W,ALKALI,ALKALI_FLAG_W,PH_SWS,PH_SWS_FLAG_W,PH_TMP,DELC13,DELC13_FLAG_W,DELC14,DELC14_FLAG_W,C14ERR,CCL4,CCL4_FLAG_W,DOC,DOC_FLAG_W,N2O,N2O_FLAG_W,CALCIUM,CALCIUM_FLAG_W,SAMPNO_U,DNSSAL,DNSSAL_FLAG_W,DNSSAL2,DNSSAL2_FLAG_W,SALNTY_DNSSAL,SALNTY_DNSSAL_FLAG_W,SALNTY_DNSSAL2,SALNTY_DNSSAL2_FLAG_W
,,,,,,,,,,,METERS,DBAR,ITS-90,PSS-78,,PSS-78,,UMOL/KG,,UMOL/KG,,UMOL/KG,,UMOL/KG,,UMOL/KG,,UMOL/KG,,PMOL/KG,,PMOL/KG,,FMOL/KG,,UMOL/KG,,UMOL/KG,,,,DEG C,/MILLE,,/MILLE,,/MILLE,PMOL/KG,,UMOL/KG,,NMOL/KG,,MMOL/KG,,,G/KG,,G/KG,,PSS-78,,PSS-78,
33RO20180423,        I7N,     110,          1,        101,      11010,2,20180531,       1237,    14.3195,    64.6688,       3960,  4005.3,   1.7281,  34.7353,2,  34.7390,2,    114.3,2, 131.8770,2,    148.3,6,     36.6,6,     0.01,6,    2.564,6,   0.015,2,   0.009,2,   0.0045,2,  2366.4,6,  2468.3,2,   7.5886,6,    25.00, -999.00,9, -999.00,9, -999.00,-999.000,1,  -999.0,9,     -999.0,1,     -999.0,9,          1,     -999.0,9,     -999.0,9,     -999.0,9,     -999.0,9
33RO20180423,        I7N,     110,          1,        102,      11101,2,20180531,       1237,    14.3195,    64.6688,       3960,  3825.6,   1.7177,  34.7356,2,  34.7375,2,    119.8,2, 137.3450,2,    145.5,6,     36.4,6,     0.01,6,    2.538,6,   0.009,2,   0.007,2,   0.0017,2,  2352.7,2,  2453.3,6,   7.5854,2,    25.00, -999.00,9, -999.00,9, -999.00,-999.000,1,  -999.0,9,     -999.0,1,     -999.0,9,          2,     -999.0,9,     -999.0,9,     -999.0,9,     -999.0,9
33RO20180423,        I7N,     110,          1,        103,      11102,2,20180531,       1237,    14.3195,    64.6688,       3960,  3700.2,   1.7145,  34.7364,2,  34.7379,2,    125.3,2, 144.6390,2,    143.1,6,     35.9,6,     0.01,6,    2.519,6,   0.005,2,   0.006,2,   0.0037,2,  2340.8,2,  2440.4,2,   7.5816,2,    25.00, -999.00,9, -999.00,9, -999.00,-999.000,1,  -999.0,9,     -999.0,1,     -999.0,9,          3,     -999.0,9,     -999.0,9,     -999.0,9,     -999.0,9
33RO20180423,        I7N,     110,          1,        104,      11103,2,20180531,       1237,    14.3195,    64.6688,       3960,  3400.6,   1.7373,  34.7390,2,  34.7416,6,    121.7,2, 139.4140,2,    143.9,6,     35.9,6,     0.01,6,    2.526,6,   0.004,2,   0.005,2,   0.0109,2,  2341.6,2,  2442.9,2,   7.5719,2,    25.00, -999.00,9, -999.00,9, -999.00,-999.000,1,  -999.0,9,     -999.0,1,     -999.0,9,          4,     -999.0,9,     -999.0,9,     -999.0,9,     -999.0,9
33RO20180423,        I7N,     110,          1,        105,      11104,2,20180531,       1237,    14.3195,    64.6688,       3960,  3100.3,   1.7987,  34.7437,2,  34.7467,2,    118.6,2, 135.8190,2,    143.9,2,     36.1,2,     0.00,2,    2.545,2,   0.002,2,   0.004,2,   0.0102,2,  2341.6,2,  2437.7,2,   7.5643,2,    25.00, -999.00,9, -999.00,9, -999.00,-999.000,1,  -999.0,9,     -999.0,1,     -999.0,9,          5,     -999.0,9,     -999.0,9,     -999.0,9,     -999.0,9
33RO20180423,        I7N,     110,          1,        106,      11105,2,20180531,       1237,    14.3195,    64.6688,       3960,  2800.6,   1.9317,  34.7522,2,  34.7606,2,    116.1,2, 133.4530,2,    141.4,2,     36.0,2,     0.00,2,    2.566,2,   0.001,2,   0.002,2,   0.0094,2,  2339.9,2,  2431.4,2,   7.5591,2,    25.00, -999.00,9, -999.00,9, -999.00,-999.000,1,  -999.0,9,     -999.0,1,     -999.0,9,          6,     -999.0,9,     -999.0,9,     -999.0,9,     -999.0,9
33RO20180423,        I7N,     110,          1,        107,      11106,2,20180531,       1237,    14.3195,    64.6688,       3960,  2500.8,   2.2469,  34.7739,2,  34.7910,2,    103.9,2, 117.8540,2,    140.5,2,     36.7,2,     0.01,2,    2.639,2,   0.001,2,   0.002,2,   0.0024,2,  2345.8,2,  2429.6,2,   7.5359,2,    25.00, -999.00,9, -999.00,9, -999.00,-999.000,1,  -999.0,9,     -999.0,1,     -999.0,9,          7,     -999.0,9,     -999.0,9,     -999.0,9,     -999.0,9
33RO20180423,        I7N,     110,          1,        108,      11107,2,20180531,       1237,    14.3195,    64.6688,       3960,  2200.2,   2.6751,  34.8012,2,  34.8041,2,     95.0,2, 116.9010,4,    134.8,2,     37.0,2,     0.00,2,    2.695,2,   0.002,2,   0.004,2,   0.0105,2,  2342.7,2,  2423.5,2,   7.5218,2,    25.00, -999.00,9, -999.00,9, -999.00,-999.000,1,  -999.0,9,     -999.0,1,     -999.0,9,          8,     -999.0,9,     -999.0,9,     -999.0,9,     -999.0,9
33RO20180423,        I7N,     110,          1,        109,      11108,2,20180531,       1237,    14.3195,    64.6688,       3960,  1883.9,   3.5416,  34.8651,2,  34.8660,2,     74.3,2,  84.2980,2,    125.3,2,     37.8,2,     0.00,2,    2.796,2,   0.003,2,   0.006,2,   0.0461,3,  2344.2,2,  2413.5,2,   7.4926,2,    25.00, -999.00,9, -999.00,9, -999.00,-999.000,1,  -999.0,9,     -999.0,1,     -999.0,9,          9,     -999.0,9,     -999.0,9,     -999.0,9,     -999.0,9
33RO20180423,        I7N,     110,          1,        110,      11109,2,20180531,       1237,    14.3195,    64.6688,       3960,  1633.7,   4.6767,  34.9571,2,  34.9590,2,     56.3,2,  63.9510,2,    112.2,2,     37.9,2,     0.01,2,    2.859,2,   0.008,6,   0.008,6,   0.0066,6,  2338.4,2,  2400.1,2,   7.4729,6,    25.00, -999.00,9, -999.00,9, -999.00,-999.000,1,  -999.0,9,     -999.0,1,     -999.0,9,         10,     -999.0,9,     -999.0,9,     -999.0,9,     -999.0,9
33RO20180423,        I7N,     110,          1,        111,      11110,2,20180531,       1237,    14.3195,    64.6688,       3960,  1367.6,   6.3196,  35.1066,2,  35.1342,2,     30.5,2,  35.4280,2,     95.3,2,     38.3,2,     0.00,2,    2.917,2,   0.021,2,   0.015,2,   0.0139,2,  2330.5,6,  2385.2,2,   7.4472,2,    25.00, -999.00,9, -999.00,9, -999.00,-999.000,1,  -999.0,9,     -999.0,1,     -999.0,9,         11,     -999.0,9,     -999.0,9,     -999.0,9,     -999.0,9
33RO20180423,        I7N,     110,          1,        112,      11111,2,20180531,       1237,    14.3195,    64.6688,       3960,  1120.3,   7.7628,  35.2369,2,  35.2606,2,     16.7,2,  20.7470,2,     81.1,2,     37.6,2,     0.01,2,    2.891,2,   0.045,2,   0.029,2,   0.0099,2,  2320.6,2,  2372.0,6,   7.4445,2,    25.00, -999.00,9, -999.00,9, -999.00,-999.000,1,  -999.0,9,     -999.0,1,     -999.0,9,         12,     -999.0,9,     -999.0,9,     -999.0,9,     -999.0,9
33RO20180423,        I7N,     110,          1,        113,      11112,2,20180531,       1237,    14.3195,    64.6688,       3960,   951.1,   8.9501,  35.3560,2,  35.3707,2,      8.5,2,  11.5350,2,     70.9,2,     36.6,2,     0.01,2,    2.809,2,   0.081,2,   0.052,2,   0.0133,2,  2311.8,2,  2363.8,2,   7.4454,2,    25.00, -999.00,9, -999.00,9, -999.00,-999.000,1,  -999.0,9,     -999.0,1,     -999.0,9,         13,     -999.0,9,     -999.0,9,     -999.0,9,     -999.0,9
33RO20180423,        I7N,     110,          1,        114,      11113,2,20180531,       1237,    14.3195,    64.6688,       3960,   800.4,  10.2486,  35.4988,2,  35.5168,2,      6.6,2,   9.0430,2,     59.0,2,     34.5,2,     0.01,2,    2.722,2,   0.190,2,   0.118,2,    0.034,2,  2299.0,2,  2359.0,2,   7.4618,2,    25.00, -999.00,9, -999.00,9, -999.00,-999.000,1,  -999.0,9,     -999.0,1,     -999.0,9,         14,     -999.0,9,     -999.0,9,     -999.0,9,     -999.0,9
33RO20180423,        I7N,     110,          1,        115,      11114,2,20180531,       1237,    14.3195,    64.6688,       3960,   650.4,  11.0650,  35.5197,2,  35.5239,2,      3.9,2,   6.3260,2,     50.0,2,     32.8,2,     0.01,2,    2.663,2,   0.261,6,   0.165,6,   0.0748,6,  2290.2,2,  2348.3,2,   7.4662,2,    25.00, -999.00,9, -999.00,9, -999.00,-999.000,1,  -999.0,9,     -999.0,1,     -999.0,9,         15,     -999.0,9,     -999.0,9,     -999.0,9,     -999.0,9
33RO20180423,        I7N,     110,          1,        116,      11115,2,20180531,       1237,    14.3195,    64.6688,       3960,   483.9,  12.2947,  35.5994,2,  35.5939,2,      2.1,2,   4.7860,2,     38.7,2,     30.1,2,     0.01,2,    2.553,2,   0.526,2,   0.336,2,   0.1614,2,  2282.6,2,  2343.2,2,   7.4696,2,    25.00, -999.00,9, -999.00,9, -999.00,-999.000,1,  -999.0,9,     -999.0,1,     -999.0,9,         16,     -999.0,9,     -999.0,9,     -999.0,9,     -999.0,9
33RO20180423,        I7N,     110,          1,        117,      11116,2,20180531,       1237,    14.3195,    64.6688,       3960,   375.7,  13.1896,  35.6599,2,  35.6759,2,      1.0,2,   2.9990,2,     33.1,2,     27.9,2,     0.01,2,    2.460,2,   0.763,2,   0.492,2,   0.2533,2,  2281.9,2,  2343.3,2,   7.4710,2,    25.00, -999.00,9, -999.00,9, -999.00,-999.000,1,  -999.0,9,     -999.0,1,     -999.0,9,         17,     -999.0,9,     -999.0,9,     -999.0,9,     -999.0,9
33RO20180423,        I7N,     110,          1,        118,      11117,2,20180531,       1237,    14.3195,    64.6688,       3960,   300.7,  14.0423,  35.6952,2,  35.6955,2,      0.2,2,   2.6150,2,     30.4,2,     20.8,2,     3.83,2,    2.435,2,   0.804,2,   0.555,2,   0.2949,2,  2282.9,2,  2345.2,2,   7.4689,2,    25.00, -999.00,9, -999.00,9, -999.00,-999.000,1,  -999.0,9,     -999.0,1,     -999.0,9,         18,     -999.0,9,     -999.0,9,     -999.0,9,     -999.0,9
33RO20180423,        I7N,     110,          1,        119,      11083,2,20180531,       1237,    14.3195,    64.6688,       3960,   213.5,  16.4741,  35.8179,2,  35.8183,2,      0.1,2,   2.6260,2,     25.5,2,     15.6,2,     4.11,2,    2.375,2,   0.926,2,   0.708,2,   0.4424,2,  2275.4,3,  2348.6,2,   7.5127,2,    25.00, -999.00,9, -999.00,9, -999.00,-999.000,1,  -999.0,9,     -999.0,1,     -999.0,9,         19,     -999.0,9,     -999.0,9,     -999.0,9,     -999.0,9
33RO20180423,        I7N,     110,          1,        120,      11118,2,20180531,       1237,    14.3195,    64.6688,       3960,   173.4,  17.6483,  35.6851,2,  35.6900,2,      0.1,2,   2.9980,2,     21.7,2,     19.0,2,     3.67,2,    2.313,2,   1.119,2,   0.800,2,   0.5779,2,  2254.6,2,  2339.7,2,   7.5378,2,    25.00, -999.00,9, -999.00,9, -999.00,-999.000,1,  -999.0,9,     -999.0,1,     -999.0,9,         20,     -999.0,9,     -999.0,9,     -999.0,9,     -999.0,9
33RO20180423,        I7N,     110,          1,        121,      11119,2,20180531,       1237,    14.3195,    64.6688,       3960,   134.0,  20.1804,  35.7643,2,  35.7658,2,      1.4,2,   3.6210,2,     15.8,2,     25.8,2,     0.03,2,    2.112,2,   1.364,2,   0.873,2,   0.8587,2,  2229.7,2,  2338.8,2,   7.6020,2,    25.00, -999.00,9, -999.00,9, -999.00,-999.000,1,  -999.0,9,     -999.0,1,     -999.0,9,         21,     -999.0,9,     -999.0,9,     -999.0,9,     -999.0,9
33RO20180423,        I7N,     110,          1,        122,      11120,2,20180531,       1237,    14.3195,    64.6688,       3960,    93.9,  24.6758,  36.4629,2,  36.4602,6,    130.3,2, 138.0900,2,      3.8,2,     10.7,2,     0.16,2,    0.987,2,   1.592,2,   1.005,2,   1.3629,2,  2128.6,2,  2378.1,6,   7.9197,2,    25.00, -999.00,9, -999.00,9, -999.00,-999.000,1,  -999.0,9,     -999.0,1,     -999.0,9,         22,     -999.0,9,     -999.0,9,     -999.0,9,     -999.0,9
33RO20180423,        I7N,     110,          1,        123,      11121,2,20180531,       1237,    14.3195,    64.6688,       3960,    52.6,  28.1347,  36.5035,2,  36.5079,2,    213.8,2, 225.1370,2,      0.7,2,      0.0,2,     0.01,2,    0.247,2,   1.583,2,   0.989,2,   1.4786,2,  2040.0,2,  2388.0,2,   8.0809,6,    25.00, -999.00,9, -999.00,9, -999.00,-999.000,1,  -999.0,9,     -999.0,1,     -999.0,9,         23,     -999.0,9,     -999.0,9,     -999.0,9,     -999.0,9
33RO20180423,        I7N,     110,          1,        124,      11122,2,20180531,       1237,    14.3195,    64.6688,       3960,     4.9,  30.2081,  36.5519,2,  36.5543,2,    184.8,2, 193.6710,2,      1.2,2,      0.0,2,     0.01,2,    0.177,2,   1.366,2,   0.874,2,   1.3377,2,  2035.4,6,  2393.2,2,   8.0959,2,    25.00, -999.00,9, -999.00,9, -999.00,-999.000,1,  -999.0,9,     -999.0,1,     -999.0,9,         24,     -999.0,9,     -999.0,9,     -999.0,9,     -999.0,9