BOTTLE,20230801CCHSIOCBG
EXPOCODE,SECT_ID,STNNBR,CASTNO,SAMPNO,BTLNBR,BTLNBR_FLAG_W,DATE,TIME,LATITUDE,LONGITUDE,DEPTH,CTDPRS,CTDTMP,CTDSAL,CTDSAL_FLAG_W,SALNTY,SALNTY_FLAG_W,CTDOXY,CTDOXY_FLAG_W,OXYGEN,OXYGEN_FLAG_W,SILCAT,SILCAT_FLAG_W,NITRAT,NITRAT_FLAG_W,NITRIT,NITRIT_FLAG_W,PHSPHT,PHSPHT_FLAG_W,CFC-11,CFC-11_FLAG_W,CFC-12,CFC-12_FLAG_W,SF6,SF6_FLAG_W,TCARBN,TCARBN_FLAG_W,ALKALI,ALKALI_FLAG_W,PH_SWS,PH_SWS_FLAG_W,PH_TMP,DELC13,DELC13_FLAG_W,DELC14,DELC14_FLAG_W,C14ERR,CCL4,CCL4_FLAG_W,DOC,DOC_FLAG_W,N2O,N2O_FLAG_W,CALCIUM,CALCIUM_FLAG_W,SAMPNO_U,DNSSAL,DNSSAL_FLAG_W,DNSSAL2,DNSSAL2_FLAG_W,SALNTY_DNSSAL,SALNTY_DNSSAL_FLAG_W,SALNTY_DNSSAL2,SALNTY_DNSSAL2_FLAG_W
,,,,,,,,,,,METERS,DBAR,ITS-90,PSS-78,,PSS-78,,UMOL/KG,,UMOL/KG,,UMOL/KG,,UMOL/KG,,UMOL/KG,,UMOL/KG,,PMOL/KG,,PMOL/KG,,FMOL/KG,,UMOL/KG,,UMOL/KG,,,,DEG C,/MILLE,,/MILLE,,/MILLE,PMOL/KG,,UMOL/KG,,NMOL/KG,,MMOL/KG,,,G/KG,,G/KG,,PSS-78,,PSS-78,
33RO20180423,        I7N,      41,          1,        101,      11010,2,20180508,       1336,   -12.2585,    54.9922,       4792,  4831.3,   1.1685,  34.7101,2,  34.7119,2,    172.2,2, 201.8370,2,    125.7,6,     32.6,6,     0.00,6,    2.255,6,   0.061,2,   0.031,2,        0,2,  2274.2,6,  2381.3,2,   7.6008,6,    25.00, -999.00,9, -999.00,9, -999.00,-999.000,1,  -999.0,9,     -999.0,1,     -999.0,9,          1,     -999.0,9,     -999.0,9,     -999.0,9,     -999.0,9
33RO20180423,        I7N,      41,          1,        102,      11101,2,20180508,       1336,   -12.2585,    54.9922,       4792,  4445.1,   1.2153,  34.7138,2,  34.7170,2,    167.8,2, 195.0360,2,    126.0,6,     32.8,6,     0.00,6,    2.278,6,   0.046,2,   0.022,2,        0,2,  2276.1,2,  2383.6,2,   7.5983,2,    25.00, -999.00,9, -999.00,9, -999.00,-999.000,1,  -999.0,9,     -999.0,1,     -999.0,9,          2,     -999.0,9,     -999.0,9,     -999.0,9,     -999.0,9
33RO20180423,        I7N,      41,          1,        103,      11102,2,20180508,       1336,   -12.2585,    54.9922,       4792,  4125.2,   1.3759,  34.7204,2,  34.7223,2,    159.3,2, 185.1510,2,    128.1,6,     33.3,6,     0.00,6,    2.315,6,   0.026,2,   0.014,2,        0,2,  2285.3,2,  2392.0,2,   7.5972,2,    25.00, -999.00,9, -999.00,9, -999.00,-999.000,1,  -999.0,9,     -999.0,1,     -999.0,9,          3,     -999.0,9,     -999.0,9,     -999.0,9,     -999.0,9
33RO20180423,        I7N,      41,          1,        104,      11103,2,20180508,       1336,   -12.2585,    54.9922,       4792,  3825.4,   1.5192,  34.7261,2,  34.7525,2,    152.2,2, 176.8420,2,    129.2,6,     33.8,6,     0.00,6,    2.356,6,   0.013,2,   0.007,2,        0,2,  2292.2,2,  2399.1,2,   7.5932,2,    25.00, -999.00,9, -999.00,9, -999.00,-999.000,1,  -999.0,9,     -999.0,1,     -999.0,9,          4,     -999.0,9,     -999.0,9,     -999.0,9,     -999.0,9
33RO20180423,        I7N,      41,          1,        105,      11104,2,20180508,       1336,   -12.2585,    54.9922,       4792,  3526.0,   1.6457,  34.7313,2,  34.7344,2,    146.6,2, 170.2310,2,    129.3,6,     34.0,6,     0.00,6,    2.379,6,   0.007,2,   0.006,2,        0,2,  2297.8,2,  2403.0,2,   7.5895,2,    25.00, -999.00,9, -999.00,9, -999.00,-999.000,1,  -999.0,9,     -999.0,1,     -999.0,9,          5,     -999.0,9,     -999.0,9,     -999.0,9,     -999.0,9
33RO20180423,        I7N,      41,          1,        106,      11105,2,20180508,       1336,   -12.2585,    54.9922,       4792,  3191.1,   1.7665,  34.7360,2,  34.7444,2,    142.1,2, 164.2030,2,    128.9,2,     34.4,2,     0.00,2,    2.407,2,   0.004,2,   0.003,2,        0,2,  2302.7,2,  2403.6,2,   7.5836,2,    25.00, -999.00,9, -999.00,9, -999.00,-999.000,1,  -999.0,9,     -999.0,1,     -999.0,9,          6,     -999.0,9,     -999.0,9,     -999.0,9,     -999.0,9
33RO20180423,        I7N,      41,          1,        107,      11106,2,20180508,       1336,   -12.2585,    54.9922,       4792,  2925.2,   1.8536,  34.7379,2,  34.7441,6,    140.4,2, 161.4310,2,    126.8,2,     34.2,2,     0.00,2,    2.411,2,   0.003,2,   0.002,2,        0,2,  2302.2,2,  2403.1,6,   7.5818,2,    25.00, -999.00,9, -999.00,9, -999.00,-999.000,1,  -999.0,9,     -999.0,1,     -999.0,9,          7,     -999.0,9,     -999.0,9,     -999.0,9,     -999.0,9
33RO20180423,        I7N,      41,          1,        108,      11107,2,20180508,       1336,   -12.2585,    54.9922,       4792,  2625.9,   1.9900,  34.7393,2,  34.7474,2,    138.3,2, 158.9130,2,    124.3,2,     34.5,2,     0.00,2,    2.424,2,   0.002,6,   0.002,6,        0,6,  2301.1,2,  2401.7,2,   7.5788,6,    25.00, -999.00,9, -999.00,9, -999.00,-999.000,1,  -999.0,9,     -999.0,1,     -999.0,9,          8,     -999.0,9,     -999.0,9,     -999.0,9,     -999.0,9
33RO20180423,        I7N,      41,          1,        109,      11108,2,20180508,       1336,   -12.2585,    54.9922,       4792,  2325.9,   2.2464,  34.7387,2,  34.7422,2,    135.4,2, 154.3310,2,    119.1,2,     34.5,2,     0.00,2,    2.423,2,   0.004,2,   0.003,2,        0,2,  2298.9,2,  2395.3,2,   7.5748,2,    25.00, -999.00,9, -999.00,9, -999.00,-999.000,1,  -999.0,9,     -999.0,1,     -999.0,9,          9,     -999.0,9,     -999.0,9,     -999.0,9,     -999.0,9
33RO20180423,        I7N,      41,          1,        110,      11109,2,20180508,       1336,   -12.2585,    54.9922,       4792,  2025.1,   2.6324,  34.7306,2,  34.7344,2,    132.4,2, 149.8970,2,    109.5,2,     34.3,2,     0.00,2,    2.427,2,   0.011,2,   0.006,2,        0,2,  2292.4,2,  2386.2,2,   7.5675,2,    25.00, -999.00,9, -999.00,9, -999.00,-999.000,1,  -999.0,9,     -999.0,1,     -999.0,9,         10,     -999.0,9,     -999.0,9,     -999.0,9,     -999.0,9
33RO20180423,        I7N,      41,          1,        111,      11110,2,20180508,       1336,   -12.2585,    54.9922,       4792,  1738.7,   3.2550,  34.7334,2,  34.7357,2,    120.8,2, 135.6160,2,    102.6,2,     34.8,2,     0.00,2,    2.484,2,   0.024,2,   0.012,2,        0,2,  2291.1,2,  2379.6,2,   7.5521,2,    25.00, -999.00,9, -999.00,9, -999.00,-999.000,1,  -999.0,9,     -999.0,1,     -999.0,9,         11,     -999.0,9,     -999.0,9,     -999.0,9,     -999.0,9
33RO20180423,        I7N,      41,          1,        112,      11111,2,20180508,       1336,   -12.2585,    54.9922,       4792,  1488.6,   4.0484,  34.7418,2,  34.7458,2,    106.1,2, 118.8340,2,     95.1,2,     35.3,2,     0.00,2,    2.530,2,   0.040,2,   0.022,2,   0.0058,2,  2291.7,2,  2372.9,2,   7.5351,2,    25.00, -999.00,9, -999.00,9, -999.00,-999.000,1,  -999.0,9,     -999.0,1,     -999.0,9,         12,     -999.0,9,     -999.0,9,     -999.0,9,     -999.0,9
33RO20180423,        I7N,      41,          1,        113,      11112,2,20180508,       1336,   -12.2585,    54.9922,       4792,  1250.9,   4.7039,  34.7307,2,  34.7364,2,    101.0,2, 111.9330,2,     86.2,2,     35.3,2,     0.00,2,    2.522,2,   0.096,2,   0.051,2,    0.004,2,  2283.2,2,  2362.5,2,   7.5300,2,    25.00, -999.00,9, -999.00,9, -999.00,-999.000,1,  -999.0,9,     -999.0,1,     -999.0,9,         13,     -999.0,9,     -999.0,9,     -999.0,9,     -999.0,9
33RO20180423,        I7N,      41,          1,        114,      11113,2,20180508,       1336,   -12.2585,    54.9922,       4792,  1017.6,   5.9887,  34.7823,2,  34.7858,2,     85.6,2,  94.8430,2,     75.1,2,     35.0,2,     0.00,2,    2.504,2,   0.240,6,   0.126,6,   0.0564,6,  2275.7,6,  2352.3,2,   7.5212,2,    25.00, -999.00,9, -999.00,9, -999.00,-999.000,1,  -999.0,9,     -999.0,1,     -999.0,9,         14,     -999.0,9,     -999.0,9,     -999.0,9,     -999.0,9
33RO20180423,        I7N,      41,          1,        115,      11114,2,20180508,       1336,   -12.2585,    54.9922,       4792,   863.2,   6.5964,  34.7595,2,  34.7624,2,     89.4,2,  98.7970,2,     65.0,2,     33.9,2,     0.00,2,    2.420,2,   0.416,2,   0.220,2,   0.0992,2,  2264.1,2,  2342.1,2,   7.5314,2,    25.00, -999.00,9, -999.00,9, -999.00,-999.000,1,  -999.0,9,     -999.0,1,     -999.0,9,         15,     -999.0,9,     -999.0,9,     -999.0,9,     -999.0,9
33RO20180423,        I7N,      41,          1,        116,      11115,2,20180508,       1336,   -12.2585,    54.9922,       4792,   713.9,   7.3491,  34.7407,2,  34.7501,2,    102.3,2, 110.8710,2,     51.4,2,     31.8,2,     0.00,2,    2.251,2,   0.824,2,   0.433,2,   0.1912,2,  2240.5,2,  2328.7,2,   7.5598,2,    25.00, -999.00,9, -999.00,9, -999.00,-999.000,1,  -999.0,9,     -999.0,1,     -999.0,9,         16,     -999.0,9,     -999.0,9,     -999.0,9,     -999.0,9
33RO20180423,        I7N,      41,          1,        117,      11116,2,20180508,       1336,   -12.2585,    54.9922,       4792,   564.6,   8.5816,  34.7482,2,  34.7543,2,    126.9,2, 137.1270,2,     32.7,2,     27.2,2,     0.00,2,    1.910,2,   1.662,2,   0.879,2,   0.4335,2,  2205.7,2,  2307.0,2,   7.6164,2,    25.00, -999.00,9, -999.00,9, -999.00,-999.000,1,  -999.0,9,     -999.0,1,     -999.0,9,         17,     -999.0,9,     -999.0,9,     -999.0,9,     -999.0,9
33RO20180423,        I7N,      41,          1,        118,      11117,2,20180508,       1336,   -12.2585,    54.9922,       4792,   435.6,   9.5840,  34.8039,2,  34.8062,2,    142.3,2, 153.8350,2,     23.1,2,     23.6,2,     0.00,2,    1.645,2,   2.212,2,   1.187,2,   0.6759,2,  2184.8,2,  2308.0,6,   7.6592,2,    25.00, -999.00,9, -999.00,9, -999.00,-999.000,1,  -999.0,9,     -999.0,1,     -999.0,9,         18,     -999.0,9,     -999.0,9,     -999.0,9,     -999.0,9
33RO20180423,        I7N,      41,          1,        119,      11083,2,20180508,       1336,   -12.2585,    54.9922,       4792,   275.4,  11.3992,  34.9604,2,  34.9747,2,    133.5,2, 143.3300,2,     18.4,2,     20.7,2,     0.00,2,    1.465,2,   2.278,2,   1.274,2,   0.8594,2,  2177.2,2,  2310.0,2,   7.6836,6,    25.00, -999.00,9, -999.00,9, -999.00,-999.000,1,  -999.0,9,     -999.0,1,     -999.0,9,         19,     -999.0,9,     -999.0,9,     -999.0,9,     -999.0,9
33RO20180423,        I7N,      41,          1,        120,      11118,2,20180508,       1336,   -12.2585,    54.9922,       4792,   188.3,  13.2625,  35.1010,2,  35.1041,2,    129.3,2, 138.4630,2,     17.1,2,     17.6,2,     0.00,2,    1.277,2,   2.176,2,   1.245,2,   1.0089,2,  2165.8,2,  2316.6,2,   7.7237,2,    25.00, -999.00,9, -999.00,9, -999.00,-999.000,1,  -999.0,9,     -999.0,1,     -999.0,9,         20,     -999.0,9,     -999.0,9,     -999.0,9,     -999.0,9
33RO20180423,        I7N,      41,          1,        121,      11119,2,20180508,       1336,   -12.2585,    54.9922,       4792,   138.4,  15.5042,  35.1489,2,  35.1507,2,    105.2,2, 113.3650,2,     18.0,2,     17.6,2,     0.01,2,    1.273,2,   1.901,2,   1.123,2,   0.9133,2,  2165.4,2,  2316.6,2,   7.7309,2,    25.00, -999.00,9, -999.00,9, -999.00,-999.000,1,  -999.0,9,     -999.0,1,     -999.0,9,         21,     -999.0,9,     -999.0,9,     -999.0,9,     -999.0,9
33RO20180423,        I7N,      41,          1,        122,      11120,2,20180508,       1336,   -12.2585,    54.9922,       4792,    88.3,  19.3052,  35.2149,2,  35.2157,2,    110.7,2, 116.3110,2,     12.5,2,     13.5,2,     0.43,2,    1.018,2,   1.819,2,   1.109,2,   1.1017,2,  2128.2,2,  2311.4,2,   7.8032,2,    25.00, -999.00,9, -999.00,9, -999.00,-999.000,1,  -999.0,9,     -999.0,1,     -999.0,9,         22,     -999.0,9,     -999.0,9,     -999.0,9,     -999.0,9
33RO20180423,        I7N,      41,          1,        123,      11121,2,20180508,       1336,   -12.2585,    54.9922,       4792,    50.0,  22.3298,  35.1704,2,  35.1731,6,    154.7,2, 164.3710,2,      6.9,2,      6.1,2,     0.24,2,    0.566,2,   1.768,2,   1.088,2,   1.2582,2,  2068.6,2,  2300.1,6,   7.9258,2,    25.00, -999.00,9, -999.00,9, -999.00,-999.000,1,  -999.0,9,     -999.0,1,     -999.0,9,         23,     -999.0,9,     -999.0,9,     -999.0,9,     -999.0,9
33RO20180423,        I7N,      41,          1,        124,      11122,2,20180508,       1336,   -12.2585,    54.9922,       4792,     4.1,  27.9891,  34.8698,2,  34.8724,2,    188.7,2, 198.5520,2,      2.3,2,      0.0,2,     0.00,2,    0.130,2,   1.473,2,   0.940,2,    1.368,2,  1969.9,6,  2282.3,2,   8.0664,2,    25.00, -999.00,9, -999.00,9, -999.00,-999.000,1,  -999.0,9,     -999.0,1,     -999.0,9,         24,     -999.0,9,     -999.0,9,     -999.0,9,     -999.0,9