BOTTLE,20230801CCHSIOCBG
EXPOCODE,SECT_ID,STNNBR,CASTNO,SAMPNO,BTLNBR,BTLNBR_FLAG_W,DATE,TIME,LATITUDE,LONGITUDE,DEPTH,CTDPRS,CTDTMP,CTDSAL,CTDSAL_FLAG_W,SALNTY,SALNTY_FLAG_W,CTDOXY,CTDOXY_FLAG_W,OXYGEN,OXYGEN_FLAG_W,SILCAT,SILCAT_FLAG_W,NITRAT,NITRAT_FLAG_W,NITRIT,NITRIT_FLAG_W,PHSPHT,PHSPHT_FLAG_W,CFC-11,CFC-11_FLAG_W,CFC-12,CFC-12_FLAG_W,SF6,SF6_FLAG_W,TCARBN,TCARBN_FLAG_W,ALKALI,ALKALI_FLAG_W,PH_SWS,PH_SWS_FLAG_W,PH_TMP,DELC13,DELC13_FLAG_W,DELC14,DELC14_FLAG_W,C14ERR,CCL4,CCL4_FLAG_W,DOC,DOC_FLAG_W,N2O,N2O_FLAG_W,CALCIUM,CALCIUM_FLAG_W,SAMPNO_U,DNSSAL,DNSSAL_FLAG_W,DNSSAL2,DNSSAL2_FLAG_W,SALNTY_DNSSAL,SALNTY_DNSSAL_FLAG_W,SALNTY_DNSSAL2,SALNTY_DNSSAL2_FLAG_W
,,,,,,,,,,,METERS,DBAR,ITS-90,PSS-78,,PSS-78,,UMOL/KG,,UMOL/KG,,UMOL/KG,,UMOL/KG,,UMOL/KG,,UMOL/KG,,PMOL/KG,,PMOL/KG,,FMOL/KG,,UMOL/KG,,UMOL/KG,,,,DEG C,/MILLE,,/MILLE,,/MILLE,PMOL/KG,,UMOL/KG,,NMOL/KG,,MMOL/KG,,,G/KG,,G/KG,,PSS-78,,PSS-78,
33RO20180423,        I7N,      23,          1,        101,      11010,2,20180503,       1326,   -22.0068,    54.5055,       4223,  4293.0,   1.1838,  34.7126,2,  34.7149,2,    171.7,2, 197.8570,2,    125.7,6,     32.7,6,     0.00,6,    2.245,6,   0.056,2,   0.028,2,        0,2,  2274.7,6,  2382.5,2,   7.5995,2,    25.00,    0.44,2, -171.00,2,    1.40,-999.000,1,    38.9,3,     -999.0,1,     -999.0,9,          1,     -999.0,9,     -999.0,9,     -999.0,9,     -999.0,9
33RO20180423,        I7N,      23,          1,        102,      11101,2,20180503,       1326,   -22.0068,    54.5055,       4223,  3885.0,   1.3983,  34.7216,2,  34.7259,2,    160.9,2, 185.3360,2,    127.4,6,     33.2,6,     0.00,6,    2.288,6,   0.022,2,   0.010,2,        0,2,  2282.9,2,  2391.7,2,   7.5955,2,    25.00,    0.38,2, -177.00,2,    1.36,-999.000,1,  -999.0,9,     -999.0,1,     -999.0,9,          2,     -999.0,9,     -999.0,9,     -999.0,9,     -999.0,9
33RO20180423,        I7N,      23,          1,        103,      11102,2,20180503,       1326,   -22.0068,    54.5055,       4223,  3525.0,   1.6214,  34.7298,2,  34.7320,2,    150.3,2, 172.9360,2,    129.0,6,     33.9,6,     0.00,6,    2.338,6,   0.007,2,   0.003,2,        0,2,  2295.8,2,  2401.6,2,   7.5897,2,    25.00,    0.31,2, -180.00,2,    1.46,-999.000,1,    38.8,3,     -999.0,1,     -999.0,9,          3,     -999.0,9,     -999.0,9,     -999.0,9,     -999.0,9
33RO20180423,        I7N,      23,          1,        104,      11103,2,20180503,       1326,   -22.0068,    54.5055,       4223,  3226.6,   1.7532,  34.7344,2,  34.7358,6,    145.2,2, 167.2890,2,    128.5,6,     34.1,6,     0.00,6,    2.366,6,   0.004,2,   0.002,2,        0,2,  2298.6,2,  2401.0,6,   7.5865,2,    25.00,    0.30,2, -186.00,2,    1.58,-999.000,1,  -999.0,9,     -999.0,1,     -999.0,9,          4,     -999.0,9,     -999.0,9,     -999.0,9,     -999.0,9
33RO20180423,        I7N,      23,          1,        105,      11104,2,20180503,       1326,   -22.0068,    54.5055,       4223,  2925.3,   1.8654,  34.7372,2,  34.7547,2,    142.5,2, 162.9265,2,    127.1,2,     33.9,2,     0.00,2,    2.363,2,   0.003,2,   0.002,2,        0,2,  2300.0,2,  2400.4,2,   7.5837,6,    25.00,    0.30,6, -188.00,6,    0.00,-999.000,1,    41.6,3,     -999.0,1,     -999.0,9,          5,     -999.0,9,     -999.0,9,     -999.0,9,     -999.0,9
33RO20180423,        I7N,      23,          1,        106,      11105,2,20180503,       1326,   -22.0068,    54.5055,       4223,  2625.1,   2.0017,  34.7381,2,  34.7423,2,    141.3,2, 161.4290,2,    123.1,2,     34.1,2,     0.00,2,    2.368,2,   0.005,2,   0.002,2,        0,2,  2297.0,2,  2397.7,2,   7.5812,2,    25.00,    0.34,2, -184.00,2,    1.59,-999.000,1,    41.3,3,     -999.0,1,     -999.0,9,          6,     -999.0,9,     -999.0,9,     -999.0,9,     -999.0,9
33RO20180423,        I7N,      23,          1,        107,      11106,2,20180503,       1326,   -22.0068,    54.5055,       4223,  2326.6,   2.1593,  34.7371,2,  34.7393,2,    142.1,2, 161.4090,2,    116.8,2,     33.9,2,     0.00,2,    2.347,2,   0.009,2,   0.005,2,        0,2,  2292.3,2,  2393.9,2,   7.5794,2,    25.00,    0.35,2, -180.00,2,    1.59,-999.000,1,    41.4,3,     -999.0,1,     -999.0,9,          7,     -999.0,9,     -999.0,9,     -999.0,9,     -999.0,9
33RO20180423,        I7N,      23,          1,        108,      11107,2,20180503,       1326,   -22.0068,    54.5055,       4223,  2025.6,   2.3722,  34.7237,2,  34.7348,2,    146.5,2, 165.5940,2,    104.7,2,     33.1,2,     0.00,2,    2.299,2,   0.021,2,   0.010,2,        0,2,  2278.8,2,  2381.1,2,   7.5829,2,    25.00,    0.41,2, -171.00,2,    1.73,-999.000,1,  -999.0,9,     -999.0,1,     -999.0,9,          8,     -999.0,9,     -999.0,9,     -999.0,9,     -999.0,9
33RO20180423,        I7N,      23,          1,        109,      11108,2,20180503,       1326,   -22.0068,    54.5055,       4223,  1739.3,   2.6464,  34.6866,2,  34.6893,2,    149.1,2, 168.0670,2,     92.0,2,     33.0,2,     0.00,2,    2.284,2,   0.049,6,   0.024,6,        0,6,  2263.4,2,  2365.4,2,   7.5781,2,    25.00,    0.48,2, -164.00,2,    1.72,-999.000,1,    44.1,3,     -999.0,1,     -999.0,9,          9,     -999.0,9,     -999.0,9,     -999.0,9,     -999.0,9
33RO20180423,        I7N,      23,          1,        110,      11109,2,20180503,       1326,   -22.0068,    54.5055,       4223,  1489.1,   3.0993,  34.6318,2,  34.6367,2,    142.7,2, 158.8410,2,     83.4,2,     33.7,2,     0.00,2,    2.335,2,   0.102,2,   0.052,2,    0.009,2,  2261.1,2,  2353.4,2,   7.5635,2,    25.00,    0.53,2, -160.00,2,    1.94,-999.000,1,    50.5,3,     -999.0,1,     -999.0,9,         10,     -999.0,9,     -999.0,9,     -999.0,9,     -999.0,9
33RO20180423,        I7N,      23,          1,        111,      11110,2,20180503,       1326,   -22.0068,    54.5055,       4223,  1250.6,   3.9571,  34.5704,2,  34.5722,2,    132.4,2, 146.7560,2,     74.1,2,     34.4,2,     0.00,2,    2.397,2,   0.234,2,   0.120,2,   0.0043,2,  2256.4,6,  2341.9,6,   7.5527,2,    25.00,    0.51,2, -148.00,2,    1.65,-999.000,1,    51.6,3,     -999.0,1,     -999.0,9,         11,     -999.0,9,     -999.0,9,     -999.0,9,     -999.0,9
33RO20180423,        I7N,      23,          1,        112,      11111,2,20180503,       1326,   -22.0068,    54.5055,       4223,  1050.4,   4.9574,  34.4886,2,  34.4915,2,    147.3,2, 161.7360,2,     51.8,2,     32.3,2,     0.00,2,    2.247,2,   0.852,2,   0.426,2,   0.1524,2,  2226.9,2,  2320.3,2,   7.5786,6,    25.00,    0.69,2, -110.00,2,    1.90,-999.000,1,  -999.0,9,     -999.0,1,     -999.0,9,         12,     -999.0,9,     -999.0,9,     -999.0,9,     -999.0,9
33RO20180423,        I7N,      23,          1,        113,      11112,2,20180503,       1326,   -22.0068,    54.5055,       4223,   864.6,   7.3981,  34.5376,2,  34.5399,2,    181.7,2, 192.6490,2,     19.7,2,     24.6,2,     0.00,2,    1.697,2,   2.507,2,   1.300,2,   0.6337,2,  2173.4,2,  2300.0,2,   7.6705,2,    25.00,    0.95,2,  -15.50,2,    2.00,-999.000,1,    52.1,3,     -999.0,1,     -999.0,9,         13,     -999.0,9,     -999.0,9,     -999.0,9,     -999.0,9
33RO20180423,        I7N,      23,          1,        114,      11113,2,20180503,       1326,   -22.0068,    54.5055,       4223,   713.0,   9.4451,  34.7185,2,  34.7215,2,    203.5,2, 221.0350,2,      8.4,2,     17.6,2,     0.00,2,    1.251,2,   3.239,2,   1.804,2,   1.1977,2,  2142.2,2,  2299.6,2,   7.7422,2,    25.00,    1.18,2,   23.50,2,    2.78,-999.000,1,    60.9,3,     -999.0,1,     -999.0,9,         14,     -999.0,9,     -999.0,9,     -999.0,9,     -999.0,9
33RO20180423,        I7N,      23,          1,        115,      11114,2,20180503,       1326,   -22.0068,    54.5055,       4223,   564.0,  10.9838,  34.9224,2,  34.9242,2,    209.2,2, 226.5135,2,      5.8,2,     13.2,2,     0.01,2,    0.989,2,   3.198,2,   1.845,2,    1.387,2,  2131.1,2,  2305.7,2,   7.7860,2,    25.00,    1.10,2,   32.70,2,    2.10,-999.000,1,    61.9,3,     -999.0,1,     -999.0,9,         15,     -999.0,9,     -999.0,9,     -999.0,9,     -999.0,9
33RO20180423,        I7N,      23,          1,        116,      11115,2,20180503,       1326,   -22.0068,    54.5055,       4223,   425.0,  12.8592,  35.1975,2,  35.2049,2,    207.0,2, 223.0050,2,      3.9,2,      9.3,2,     0.00,2,    0.752,2,   2.961,2,   1.731,2,   1.7051,2,  2123.7,2,  2317.2,2,   7.8263,2,    25.00,    0.85,2,   33.60,2,    2.00,-999.000,1,    60.5,3,     -999.0,1,     -999.0,9,         16,     -999.0,9,     -999.0,9,     -999.0,9,     -999.0,9
33RO20180423,        I7N,      23,          1,        117,      11116,2,20180503,       1326,   -22.0068,    54.5055,       4223,   332.2,  14.5993,  35.4028,2,  35.4089,2,    195.9,2, 209.7250,2,      3.6,2,      6.6,2,     0.00,2,    0.580,2,   2.631,2,   1.593,2,   1.6349,2,  2118.6,2,  2328.8,2,   7.8559,2,    25.00,    0.65,2,   32.70,2,    2.09,-999.000,1,    65.4,3,     -999.0,1,     -999.0,9,         17,     -999.0,9,     -999.0,9,     -999.0,9,     -999.0,9
33RO20180423,        I7N,      23,          1,        118,      11117,2,20180503,       1326,   -22.0068,    54.5055,       4223,   257.4,  17.0283,  35.5390,2,  35.5414,6,    173.2,2, 185.4460,2,      5.3,2,      5.9,2,     0.00,2,    0.531,2,   2.220,2,   1.382,2,   1.4326,2,  2113.7,2,  2334.2,2,   7.8804,2,    25.00,    0.84,2,   35.80,2,    2.21,-999.000,1,    64.7,3,     -999.0,1,     -999.0,9,         18,     -999.0,9,     -999.0,9,     -999.0,9,     -999.0,9
33RO20180423,        I7N,      23,          1,        119,      11083,2,20180503,       1326,   -22.0068,    54.5055,       4223,   190.5,  19.5350,  35.5009,2,  35.5005,2,    161.9,2, 173.3410,2,      5.3,2,      5.1,2,     0.01,2,    0.467,2,   1.979,2,   1.235,2,   1.4339,2,  2090.5,2,  2322.7,6,-999.0000,5,    25.00,    0.50,2,   31.80,2,    2.15,-999.000,1,    64.8,3,     -999.0,1,     -999.0,9,         19,     -999.0,9,     -999.0,9,     -999.0,9,     -999.0,9
33RO20180423,        I7N,      23,          1,        120,      11118,2,20180503,       1326,   -22.0068,    54.5055,       4223,   149.6,  21.8317,  35.3939,2,  35.3847,2,    174.7,2, 184.4580,2,      3.7,2,      2.7,2,     0.08,2,    0.304,2,   1.849,2,   1.160,2,   1.4626,2,  2056.1,2,  2321.0,2,   7.9687,2,    25.00,    0.57,2,   28.10,2,    2.04,-999.000,1,    69.3,3,     -999.0,1,     -999.0,9,         20,     -999.0,9,     -999.0,9,     -999.0,9,     -999.0,9
33RO20180423,        I7N,      23,          1,        121,      11119,2,20180503,       1326,   -22.0068,    54.5055,       4223,   110.5,  24.0706,  35.2165,2,  35.2263,2,    186.0,2, 198.9470,2,      2.4,2,      0.1,2,     0.17,2,    0.161,2,   1.697,2,   1.079,2,   1.5257,2,  2014.3,2,  2309.1,2,   8.0199,6,    25.00,    0.73,2,   23.70,2,    2.49,-999.000,1,    76.8,3,     -999.0,1,     -999.0,9,         21,     -999.0,9,     -999.0,9,     -999.0,9,     -999.0,9
33RO20180423,        I7N,      23,          1,        122,      11120,2,20180503,       1326,   -22.0068,    54.5055,       4223,    70.2,  26.1665,  35.0518,2,-999.0000,9,    193.0,2, 187.4870,4,     27.1,4,     13.3,4,     0.03,4,    1.011,4,   1.668,4,   0.997,4,   1.0088,4,  -999.0,9,  -999.0,9,-999.0000,9,  -999.00, -999.00,9, -999.00,9, -999.00,-999.000,1,  -999.0,9,     -999.0,1,     -999.0,9,         22,     -999.0,9,     -999.0,9,     -999.0,9,     -999.0,9
33RO20180423,        I7N,      23,          1,        123,      11121,2,20180503,       1326,   -22.0068,    54.5055,       4223,    31.3,  26.2964,  35.0742,2,  35.0757,2,    192.5,2, 204.1440,2,      1.8,2,      0.0,2,     0.00,2,    0.092,2,   1.511,2,   0.978,2,   1.4027,2,  1977.4,2,  2297.2,2,   8.0655,2,    25.00,    0.90,2,   20.10,2,    1.96,-999.000,1,    88.8,3,     -999.0,1,     -999.0,9,         23,     -999.0,9,     -999.0,9,     -999.0,9,     -999.0,9
33RO20180423,        I7N,      23,          1,        124,      11122,2,20180503,       1326,   -22.0068,    54.5055,       4223,     3.6,  26.2854,  35.0748,2,  35.0755,2,    193.0,2, 203.5770,2,      1.7,2,      0.0,2,     0.00,2,    0.099,2,   1.506,2,   0.972,2,   1.4404,2,  1979.7,6,  2296.9,2,   8.0658,2,    25.00,    0.68,3,   19.90,2,    1.96,-999.000,1,    84.0,3,     -999.0,1,     -999.0,9,         24,     -999.0,9,     -999.0,9,     -999.0,9,     -999.0,9