BOTTLE,20230801CCHSIOCBG
EXPOCODE,SECT_ID,STNNBR,CASTNO,SAMPNO,BTLNBR,BTLNBR_FLAG_W,DATE,TIME,LATITUDE,LONGITUDE,DEPTH,CTDPRS,CTDTMP,CTDSAL,CTDSAL_FLAG_W,SALNTY,SALNTY_FLAG_W,CTDOXY,CTDOXY_FLAG_W,OXYGEN,OXYGEN_FLAG_W,SILCAT,SILCAT_FLAG_W,NITRAT,NITRAT_FLAG_W,NITRIT,NITRIT_FLAG_W,PHSPHT,PHSPHT_FLAG_W,CFC-11,CFC-11_FLAG_W,CFC-12,CFC-12_FLAG_W,SF6,SF6_FLAG_W,TCARBN,TCARBN_FLAG_W,ALKALI,ALKALI_FLAG_W,PH_SWS,PH_SWS_FLAG_W,PH_TMP,DELC13,DELC13_FLAG_W,DELC14,DELC14_FLAG_W,C14ERR,CCL4,CCL4_FLAG_W,DOC,DOC_FLAG_W,N2O,N2O_FLAG_W,CALCIUM,CALCIUM_FLAG_W,SAMPNO_U,DNSSAL,DNSSAL_FLAG_W,DNSSAL2,DNSSAL2_FLAG_W,SALNTY_DNSSAL,SALNTY_DNSSAL_FLAG_W,SALNTY_DNSSAL2,SALNTY_DNSSAL2_FLAG_W
,,,,,,,,,,,METERS,DBAR,ITS-90,PSS-78,,PSS-78,,UMOL/KG,,UMOL/KG,,UMOL/KG,,UMOL/KG,,UMOL/KG,,UMOL/KG,,PMOL/KG,,PMOL/KG,,FMOL/KG,,UMOL/KG,,UMOL/KG,,,,DEG C,/MILLE,,/MILLE,,/MILLE,PMOL/KG,,UMOL/KG,,NMOL/KG,,MMOL/KG,,,G/KG,,G/KG,,PSS-78,,PSS-78,
33RO20180423,        I7N,      82,          1,        101,      11010,2,20180523,       2251,     2.0078,    57.3300,       2250,  4647.1,   1.3429,  34.7175,2,  34.7201,2,    159.4,2, 183.0540,2,    134.0,6,     33.8,6,     0.00,6,    2.358,6,   0.024,2,   0.012,2,   0.0054,2,  2292.9,6,  2398.9,6,   7.6011,6,    25.00, -999.00,9, -999.00,9, -999.00,-999.000,1,  -999.0,9,     -999.0,1,     -999.0,9,          1,     -999.0,9,     -999.0,9,     -999.0,9,     -999.0,9
33RO20180423,        I7N,      82,          1,        102,      11101,2,20180523,       2251,     2.0078,    57.3300,       2250,  4415.2,   1.3621,  34.7194,2,  34.7274,2,    157.5,2, 181.3410,2,    133.9,6,     34.0,6,     0.00,6,    2.360,6,   0.014,2,   0.008,2,   0.0023,2,  2292.5,2,  2400.2,2,   7.6015,2,    25.00, -999.00,9, -999.00,9, -999.00,-999.000,1,  -999.0,9,     -999.0,1,     -999.0,9,          2,     -999.0,9,     -999.0,9,     -999.0,9,     -999.0,9
33RO20180423,        I7N,      82,          1,        103,      11102,2,20180523,       2251,     2.0078,    57.3300,       2250,  4200.7,   1.4265,  34.7226,2,  34.7239,2,    153.7,2, 177.3920,2,    134.2,6,     34.3,6,     0.00,6,    2.385,6,   0.010,2,   0.004,2,   0.0003,2,  2296.3,2,  2403.6,2,   7.5991,2,    25.00, -999.00,9, -999.00,9, -999.00,-999.000,1,  -999.0,9,     -999.0,1,     -999.0,9,          3,     -999.0,9,     -999.0,9,     -999.0,9,     -999.0,9
33RO20180423,        I7N,      82,          1,        104,      11103,2,20180523,       2251,     2.0078,    57.3300,       2250,  3901.7,   1.4865,  34.7261,2,  34.7277,6,    150.2,2, 172.7940,2,    134.2,6,     34.4,6,     0.00,6,    2.410,6,   0.007,2,   0.004,2,        0,2,  2298.4,2,  2409.0,6,   7.5955,2,    25.00, -999.00,9, -999.00,9, -999.00,-999.000,1,  -999.0,9,     -999.0,1,     -999.0,9,          4,     -999.0,9,     -999.0,9,     -999.0,9,     -999.0,9
33RO20180423,        I7N,      82,          1,        105,      11104,2,20180523,       2251,     2.0078,    57.3300,       2250,  3600.3,   1.5686,  34.7300,2,  34.7331,2,    146.3,2, 168.1275,2,    133.8,2,     34.5,2,     0.00,2,    2.417,2,   0.004,2,   0.002,2,   0.0051,2,  2302.6,2,  -999.0,9,   7.5894,2,    25.00, -999.00,9, -999.00,9, -999.00,-999.000,1,  -999.0,9,     -999.0,1,     -999.0,9,          5,     -999.0,9,     -999.0,9,     -999.0,9,     -999.0,9
33RO20180423,        I7N,      82,          1,        106,      11105,2,20180523,       2251,     2.0078,    57.3300,       2250,  3292.9,   1.6969,  34.7359,2,  34.7585,2,    140.9,2, 161.4110,2,    133.6,2,     34.8,2,     0.00,2,    2.445,2,   0.002,2,   0.001,2,        0,2,  2307.8,2,  2410.5,2,   7.5857,2,    25.00, -999.00,9, -999.00,9, -999.00,-999.000,1,  -999.0,9,     -999.0,1,     -999.0,9,          6,     -999.0,9,     -999.0,9,     -999.0,9,     -999.0,9
33RO20180423,        I7N,      82,          1,        107,      11106,2,20180523,       2251,     2.0078,    57.3300,       2250,  2999.7,   1.8396,  34.7432,2,  34.7439,2,    134.9,2, 154.2010,2,    133.9,2,     35.2,2,     0.00,2,    2.488,2,   0.003,2,   0.002,2,        0,2,  2311.6,2,  2411.6,2,   7.5791,2,    25.00, -999.00,9, -999.00,9, -999.00,-999.000,1,  -999.0,9,     -999.0,1,     -999.0,9,          7,     -999.0,9,     -999.0,9,     -999.0,9,     -999.0,9
33RO20180423,        I7N,      82,          1,        108,      11107,2,20180523,       2251,     2.0078,    57.3300,       2250,  2700.9,   2.0050,  34.7521,2,  34.7568,2,    129.1,2, 146.8530,2,    132.7,2,     35.5,2,     0.00,2,    2.515,2,   0.002,2,   0.002,2,   0.0026,2,  2313.9,2,  2405.8,2,   7.5709,2,    25.00, -999.00,9, -999.00,9, -999.00,-999.000,1,  -999.0,9,     -999.0,1,     -999.0,9,          8,     -999.0,9,     -999.0,9,     -999.0,9,     -999.0,9
33RO20180423,        I7N,      82,          1,        109,      11108,2,20180523,       2251,     2.0078,    57.3300,       2250,  2400.8,   2.3507,  34.7692,2,  34.7770,2,    119.6,2, 135.1290,2,    129.8,2,     35.9,2,     0.00,2,    2.570,2,   0.002,2,   0.002,2,        0,2,  2317.2,2,  2409.7,2,   7.5569,2,    25.00, -999.00,9, -999.00,9, -999.00,-999.000,1,  -999.0,9,     -999.0,1,     -999.0,9,          9,     -999.0,9,     -999.0,9,     -999.0,9,     -999.0,9
33RO20180423,        I7N,      82,          1,        110,      11109,2,20180523,       2251,     2.0078,    57.3300,       2250,  2100.8,   2.7166,  34.7792,2,  34.7812,6,    114.4,2, 128.7540,2,    123.2,2,     36.0,2,     0.00,2,    2.588,2,   0.003,2,   0.004,2,        0,2,  2315.1,2,  2401.5,2,   7.5475,2,    25.00, -999.00,9, -999.00,9, -999.00,-999.000,1,  -999.0,9,     -999.0,1,     -999.0,9,         10,     -999.0,9,     -999.0,9,     -999.0,9,     -999.0,9
33RO20180423,        I7N,      82,          1,        111,      11110,2,20180523,       2251,     2.0078,    57.3300,       2250,  1800.6,   3.4230,  34.8105,2,  34.8168,2,     99.9,2, 111.6310,2,    115.6,2,     36.5,2,     0.00,2,    2.648,2,   0.006,2,   0.004,2,   0.0009,2,  2313.9,2,  2394.6,2,   7.5281,2,    25.00, -999.00,9, -999.00,9, -999.00,-999.000,1,  -999.0,9,     -999.0,1,     -999.0,9,         11,     -999.0,9,     -999.0,9,     -999.0,9,     -999.0,9
33RO20180423,        I7N,      82,          1,        112,      11111,2,20180523,       2251,     2.0078,    57.3300,       2250,  1550.9,   4.2638,  34.8582,2,  34.8746,2,     82.3,2,  91.4290,2,    107.9,2,     36.9,2,     0.00,2,    2.712,2,   0.009,2,   0.007,2,        0,2,  2314.4,2,  2389.1,6,   7.5073,2,    25.00, -999.00,9, -999.00,9, -999.00,-999.000,1,  -999.0,9,     -999.0,1,     -999.0,9,         12,     -999.0,9,     -999.0,9,     -999.0,9,     -999.0,9
33RO20180423,        I7N,      82,          1,        113,      11112,2,20180523,       2251,     2.0078,    57.3300,       2250,  1301.3,   5.2243,  34.8950,2,  34.8976,2,     65.3,2,  72.3970,2,     98.4,2,     37.5,2,     0.00,2,    2.751,2,   0.015,2,   0.010,2,        0,2,  2311.0,2,  2374.7,2,   7.4881,6,    25.00, -999.00,9, -999.00,9, -999.00,-999.000,1,  -999.0,9,     -999.0,1,     -999.0,9,         13,     -999.0,9,     -999.0,9,     -999.0,9,     -999.0,9
33RO20180423,        I7N,      82,          1,        114,      11113,2,20180523,       2251,     2.0078,    57.3300,       2250,  1100.7,   6.4975,  35.0025,2,  35.0046,2,     46.9,2,  52.0945,2,     87.1,2,     37.5,2,     0.00,2,    2.782,2,   0.044,6,   0.027,6,        0,6,  2306.6,2,  2385.3,4,   7.4709,2,    25.00, -999.00,9, -999.00,9, -999.00,-999.000,1,  -999.0,9,     -999.0,1,     -999.0,9,         14,     -999.0,9,     -999.0,9,     -999.0,9,     -999.0,9
33RO20180423,        I7N,      82,          1,        115,      11114,2,20180523,       2251,     2.0078,    57.3300,       2250,   900.4,   7.6226,  35.0808,2,  35.0877,2,     37.8,2,  41.6690,2,     75.3,2,     36.9,2,     0.00,2,    2.751,2,   0.105,2,   0.062,2,        0,2,  2297.2,2,  2360.4,2,   7.4713,2,    25.00, -999.00,9, -999.00,9, -999.00,-999.000,1,  -999.0,9,     -999.0,1,     -999.0,9,         15,     -999.0,9,     -999.0,9,     -999.0,9,     -999.0,9
33RO20180423,        I7N,      82,          1,        116,      11115,2,20180523,       2251,     2.0078,    57.3300,       2250,   749.9,   8.8203,  35.1629,2,  35.1664,2,     34.4,2,  37.8740,2,     61.7,2,     35.5,2,     0.00,2,    2.653,2,   0.267,2,   0.152,2,   0.0041,2,  2284.4,3,  2348.6,2,   7.5060,3,    25.00, -999.00,9, -999.00,9, -999.00,-999.000,1,  -999.0,9,     -999.0,1,     -999.0,9,         16,     -999.0,9,     -999.0,9,     -999.0,9,     -999.0,9
33RO20180423,        I7N,      82,          1,        117,      11116,2,20180523,       2251,     2.0078,    57.3300,       2250,   600.7,   9.5259,  35.0787,2,  35.0823,2,     52.6,2,  57.3490,2,     46.0,2,     32.9,2,     0.00,2,    2.411,2,   0.711,2,   0.386,2,   0.1701,2,  2257.4,6,  2331.7,2,   7.5136,2,    25.00, -999.00,9, -999.00,9, -999.00,-999.000,1,  -999.0,9,     -999.0,1,     -999.0,9,         17,     -999.0,9,     -999.0,9,     -999.0,9,     -999.0,9
33RO20180423,        I7N,      82,          1,        118,      11117,2,20180523,       2251,     2.0078,    57.3300,       2250,   450.2,   9.7890,  35.0257,2,  35.0286,2,     70.3,2,  79.9970,2,     38.0,2,     30.9,2,     0.00,2,    2.220,2,   1.111,2,   0.600,2,    0.281,2,  2237.9,2,  2323.5,2,   7.5444,2,    25.00, -999.00,9, -999.00,9, -999.00,-999.000,1,  -999.0,9,     -999.0,1,     -999.0,9,         18,     -999.0,9,     -999.0,9,     -999.0,9,     -999.0,9
33RO20180423,        I7N,      82,          1,        119,      11083,2,20180523,       2251,     2.0078,    57.3300,       2250,   302.6,  11.6830,  35.0907,2,  35.1217,2,    101.0,2, 108.1220,2,     21.3,2,     24.2,2,     0.00,2,    1.726,2,   2.032,6,   1.125,6,   0.7092,6,  2200.8,2,  2312.9,2,   7.6275,2,    25.00, -999.00,9, -999.00,9, -999.00,-999.000,1,  -999.0,9,     -999.0,1,     -999.0,9,         19,     -999.0,9,     -999.0,9,     -999.0,9,     -999.0,9
33RO20180423,        I7N,      82,          1,        120,      11118,2,20180523,       2251,     2.0078,    57.3300,       2250,   201.1,  14.2017,  35.1801,2,  35.1835,2,    112.3,2, 117.7540,2,     15.6,2,     19.3,2,     0.00,2,    1.372,2,   2.152,2,   1.244,2,    0.922,2,  2172.2,2,  2317.0,6,   7.7030,2,    25.00, -999.00,9, -999.00,9, -999.00,-999.000,1,  -999.0,9,     -999.0,1,     -999.0,9,         20,     -999.0,9,     -999.0,9,     -999.0,9,     -999.0,9
33RO20180423,        I7N,      82,          1,        121,      11119,2,20180523,       2251,     2.0078,    57.3300,       2250,   148.2,  17.0287,  35.2618,2,  35.2990,2,     82.8,2,  88.3440,2,     14.6,2,     19.8,2,     0.01,2,    1.420,2,   1.893,2,   1.128,2,   1.0074,2,  2166.8,2,  2307.7,2,   7.7076,2,    25.00, -999.00,9, -999.00,9, -999.00,-999.000,1,  -999.0,9,     -999.0,1,     -999.0,9,         21,     -999.0,9,     -999.0,9,     -999.0,9,     -999.0,9
33RO20180423,        I7N,      82,          1,        122,      11120,2,20180523,       2251,     2.0078,    57.3300,       2250,   100.6,  21.6193,  35.4305,2,  35.4459,2,     79.7,2,  88.2540,2,     10.3,2,     16.6,2,     0.11,2,    1.241,2,   1.656,2,   1.009,2,   1.0981,2,  2133.3,2,  2318.1,2,   7.7906,6,    25.00, -999.00,9, -999.00,9, -999.00,-999.000,1,  -999.0,9,     -999.0,1,     -999.0,9,         22,     -999.0,9,     -999.0,9,     -999.0,9,     -999.0,9
33RO20180423,        I7N,      82,          1,        123,      11121,2,20180523,       2251,     2.0078,    57.3300,       2250,    65.4,  27.2316,  35.5376,2,  35.5510,2,    181.9,2, 189.2560,2,      2.4,2,      0.3,2,     0.20,2,    0.332,2,   1.559,2,   0.980,2,    1.387,2,  2032.9,2,  2330.7,2,   8.0122,2,    25.00, -999.00,9, -999.00,9, -999.00,-999.000,1,  -999.0,9,     -999.0,1,     -999.0,9,         23,     -999.0,9,     -999.0,9,     -999.0,9,     -999.0,9
33RO20180423,        I7N,      82,          1,        124,      11122,2,20180523,       2251,     2.0078,    57.3300,       2250,     4.0,  29.4966,  34.8837,2,  34.8850,2,    183.6,2, 191.4630,2,      1.6,2,      0.0,2,     0.00,2,    0.137,2,   1.380,2,   0.880,2,   1.3617,2,  1956.2,6,  2288.5,2,   8.0864,2,    25.00, -999.00,9, -999.00,9, -999.00,-999.000,1,  -999.0,9,     -999.0,1,     -999.0,9,         24,     -999.0,9,     -999.0,9,     -999.0,9,     -999.0,9