BOTTLE,20230801CCHSIOCBG
EXPOCODE,SECT_ID,STNNBR,CASTNO,SAMPNO,BTLNBR,BTLNBR_FLAG_W,DATE,TIME,LATITUDE,LONGITUDE,DEPTH,CTDPRS,CTDTMP,CTDSAL,CTDSAL_FLAG_W,SALNTY,SALNTY_FLAG_W,CTDOXY,CTDOXY_FLAG_W,OXYGEN,OXYGEN_FLAG_W,SILCAT,SILCAT_FLAG_W,NITRAT,NITRAT_FLAG_W,NITRIT,NITRIT_FLAG_W,PHSPHT,PHSPHT_FLAG_W,CFC-11,CFC-11_FLAG_W,CFC-12,CFC-12_FLAG_W,SF6,SF6_FLAG_W,TCARBN,TCARBN_FLAG_W,ALKALI,ALKALI_FLAG_W,PH_SWS,PH_SWS_FLAG_W,PH_TMP,DELC13,DELC13_FLAG_W,DELC14,DELC14_FLAG_W,C14ERR,CCL4,CCL4_FLAG_W,DOC,DOC_FLAG_W,N2O,N2O_FLAG_W,CALCIUM,CALCIUM_FLAG_W,SAMPNO_U,DNSSAL,DNSSAL_FLAG_W,DNSSAL2,DNSSAL2_FLAG_W,SALNTY_DNSSAL,SALNTY_DNSSAL_FLAG_W,SALNTY_DNSSAL2,SALNTY_DNSSAL2_FLAG_W
,,,,,,,,,,,METERS,DBAR,ITS-90,PSS-78,,PSS-78,,UMOL/KG,,UMOL/KG,,UMOL/KG,,UMOL/KG,,UMOL/KG,,UMOL/KG,,PMOL/KG,,PMOL/KG,,FMOL/KG,,UMOL/KG,,UMOL/KG,,,,DEG C,/MILLE,,/MILLE,,/MILLE,PMOL/KG,,UMOL/KG,,NMOL/KG,,MMOL/KG,,,G/KG,,G/KG,,PSS-78,,PSS-78,
33RO20180423,        I7N,      77,          1,        101,      11010,2,20180522,       1713,     0.2475,    57.2818,       4505,  4664.7,   1.3374,  34.7171,2,-999.0000,9,    159.4,2,-999.0000,9,-999.0000,9,-999.0000,9,-999.0000,9,-999.0000,9,-999.000,9,-999.000,9,-999.0000,9,  -999.0,9,  -999.0,9,-999.0000,9,  -999.00, -999.00,9, -999.00,9, -999.00,-999.000,9,  -999.0,9,     -999.0,9,     -999.0,9,          1,     -999.0,9,     -999.0,9,     -999.0,9,     -999.0,9
33RO20180423,        I7N,      77,          1,        102,      11101,2,20180522,       1713,     0.2475,    57.2818,       4505,  4294.4,   1.3837,  34.7206,2,  34.7237,6,    155.9,2, 180.7350,2,    132.6,6,     34.0,6,     0.00,6,    2.366,6,   0.014,2,   0.006,2,   0.0062,2,  2295.9,2,  2403.4,6,   7.6000,6,    25.00, -999.00,9, -999.00,9, -999.00,-999.000,1,  -999.0,9,     -999.0,1,     -999.0,9,          2,     -999.0,9,     -999.0,9,     -999.0,9,     -999.0,9
33RO20180423,        I7N,      77,          1,        103,      11102,2,20180522,       1713,     0.2475,    57.2818,       4505,  4000.5,   1.4582,  34.7245,2,  34.7297,2,    151.6,2, 175.2710,2,    132.7,6,     34.3,6,     0.00,6,    2.393,6,   0.009,2,   0.005,2,        0,2,  2298.4,2,  2407.0,2,   7.5974,2,    25.00, -999.00,9, -999.00,9, -999.00,-999.000,1,  -999.0,9,     -999.0,1,     -999.0,9,          3,     -999.0,9,     -999.0,9,     -999.0,9,     -999.0,9
33RO20180423,        I7N,      77,          1,        104,      11103,2,20180522,       1713,     0.2475,    57.2818,       4505,  3701.1,   1.5684,  34.7290,2,  34.7492,2,    146.9,2, 169.4540,2,    132.0,6,     34.6,6,     0.00,6,    2.412,6,   0.004,2,   0.002,2,        0,2,  -999.0,9,  -999.0,9,-999.0000,9,  -999.00, -999.00,9, -999.00,9, -999.00,-999.000,1,  -999.0,9,     -999.0,1,     -999.0,9,          4,     -999.0,9,     -999.0,9,     -999.0,9,     -999.0,9
33RO20180423,        I7N,      77,          1,        105,      11104,2,20180522,       1713,     0.2475,    57.2818,       4505,  3401.1,   1.6559,  34.7331,2,  34.7354,2,    143.0,2, 164.6710,2,    132.2,6,     34.8,6,     0.00,6,    2.444,6,   0.003,2,   0.002,2,   0.0022,2,  2302.7,2,  2409.0,2,   7.5883,2,    25.00, -999.00,9, -999.00,9, -999.00,-999.000,1,  -999.0,9,     -999.0,1,     -999.0,9,          5,     -999.0,9,     -999.0,9,     -999.0,9,     -999.0,9
33RO20180423,        I7N,      77,          1,        106,      11105,2,20180522,       1713,     0.2475,    57.2818,       4505,  3099.5,   1.7931,  34.7384,2,  34.7476,6,    138.7,2, 158.9900,2,    131.0,2,     34.9,2,     0.00,2,    2.450,2,-999.000,9,-999.000,9,-999.0000,9,  -999.0,9,  2401.8,3,   7.5823,2,    25.00, -999.00,9, -999.00,9, -999.00,-999.000,9,  -999.0,9,     -999.0,9,     -999.0,9,          6,     -999.0,9,     -999.0,9,     -999.0,9,     -999.0,9
33RO20180423,        I7N,      77,          1,        107,      11106,2,20180522,       1713,     0.2475,    57.2818,       4505,  2800.6,   1.9543,  34.7469,2,  34.7492,2,    132.8,2, 151.6045,2,    131.2,2,     35.2,2,     0.00,2,    2.485,2,   0.003,2,   0.003,2,        0,2,  -999.0,9,  -999.0,9,-999.0000,9,  -999.00, -999.00,9, -999.00,9, -999.00,-999.000,1,  -999.0,9,     -999.0,1,     -999.0,9,          7,     -999.0,9,     -999.0,9,     -999.0,9,     -999.0,9
33RO20180423,        I7N,      77,          1,        108,      11107,2,20180522,       1713,     0.2475,    57.2818,       4505,  2500.4,   2.0994,  34.7529,2,  34.7646,2,    129.3,2, 147.0200,2,    129.0,2,     35.4,2,     0.00,2,    2.504,2,-999.000,9,-999.000,9,-999.0000,9,  2310.1,2,  2400.1,3,   7.5685,2,    25.00, -999.00,9, -999.00,9, -999.00,-999.000,9,  -999.0,9,     -999.0,9,     -999.0,9,          8,     -999.0,9,     -999.0,9,     -999.0,9,     -999.0,9
33RO20180423,        I7N,      77,          1,        109,      11108,2,20180522,       1713,     0.2475,    57.2818,       4505,  2200.2,   2.4334,  34.7669,2,  34.7686,2,    120.5,2, 136.2720,2,    125.3,2,     35.8,2,     0.00,2,    2.553,2,   0.001,2,   0.001,2,   0.0111,2,  -999.0,9,  2397.6,3,   7.5569,2,    25.00, -999.00,9, -999.00,9, -999.00,-999.000,1,  -999.0,9,     -999.0,1,     -999.0,9,          9,     -999.0,9,     -999.0,9,     -999.0,9,     -999.0,9
33RO20180423,        I7N,      77,          1,        110,      11109,2,20180522,       1713,     0.2475,    57.2818,       4505,  1883.3,   2.9701,  34.7883,2,  34.7895,2,    109.5,2, 123.0490,2,    118.8,2,     36.1,2,     0.00,2,    2.602,2,-999.000,9,-999.000,9,-999.0000,9,  -999.0,9,  -999.0,9,-999.0000,9,  -999.00, -999.00,9, -999.00,9, -999.00,-999.000,9,  -999.0,9,     -999.0,9,     -999.0,9,         10,     -999.0,9,     -999.0,9,     -999.0,9,     -999.0,9
33RO20180423,        I7N,      77,          1,        111,      11110,2,20180522,       1713,     0.2475,    57.2818,       4505,  1634.4,   3.9285,  34.8287,2,  34.8312,2,     90.6,2, 101.3450,2,    108.6,2,     36.8,2,     0.00,2,    2.678,2,   0.008,2,   0.006,2,   0.0099,2,  -999.0,9,  -999.0,9,-999.0000,9,  -999.00, -999.00,9, -999.00,9, -999.00,-999.000,1,  -999.0,9,     -999.0,1,     -999.0,9,         11,     -999.0,9,     -999.0,9,     -999.0,9,     -999.0,9
33RO20180423,        I7N,      77,          1,        112,      11111,2,20180522,       1713,     0.2475,    57.2818,       4505,  1367.1,   4.9612,  34.8776,2,  34.8890,2,     70.9,2,  78.7300,2,     99.3,2,     37.4,2,     0.00,2,    2.750,2,-999.000,9,-999.000,9,-999.0000,9,  2310.1,2,  2381.4,2,   7.4943,2,    25.00, -999.00,9, -999.00,9, -999.00,-999.000,9,  -999.0,9,     -999.0,9,     -999.0,9,         12,     -999.0,9,     -999.0,9,     -999.0,9,     -999.0,9
33RO20180423,        I7N,      77,          1,        113,      11112,2,20180522,       1713,     0.2475,    57.2818,       4505,  1167.8,   5.9730,  34.9280,2,  34.9492,2,     54.8,2,  60.9770,2,     90.4,2,     37.7,2,     0.00,2,    2.778,2,   0.028,2,   0.017,2,   0.0061,2,  -999.0,9,  -999.0,9,-999.0000,9,  -999.00, -999.00,9, -999.00,9, -999.00,-999.000,1,  -999.0,9,     -999.0,1,     -999.0,9,         13,     -999.0,9,     -999.0,9,     -999.0,9,     -999.0,9
33RO20180423,        I7N,      77,          1,        114,      11113,2,20180522,       1713,     0.2475,    57.2818,       4505,   950.4,   7.4079,  35.0358,2,  35.0363,2,     42.8,2,  47.3650,2,     75.1,2,     36.8,2,     0.00,2,    2.742,2,-999.000,9,-999.000,9,-999.0000,9,  2294.2,2,  2360.6,2,   7.4748,2,    25.00, -999.00,9, -999.00,9, -999.00,-999.000,9,  -999.0,9,     -999.0,9,     -999.0,9,         14,     -999.0,9,     -999.0,9,     -999.0,9,     -999.0,9
33RO20180423,        I7N,      77,          1,        115,      11114,2,20180522,       1713,     0.2475,    57.2818,       4505,   800.1,   8.2027,  35.0663,2,  35.0710,2,     39.7,2,  43.6940,2,     65.5,2,     36.1,2,     0.00,2,    2.675,2,   0.206,2,   0.115,2,   0.0642,2,  -999.0,9,  -999.0,9,-999.0000,9,  -999.00, -999.00,9, -999.00,9, -999.00,-999.000,1,  -999.0,9,     -999.0,1,     -999.0,9,         15,     -999.0,9,     -999.0,9,     -999.0,9,     -999.0,9
33RO20180423,        I7N,      77,          1,        116,      11115,2,20180522,       1713,     0.2475,    57.2818,       4505,   650.8,   9.0914,  35.0871,2,  35.1231,2,     45.8,2,  50.1580,2,     52.8,2,     34.3,2,     0.00,2,    2.534,2,-999.000,9,-999.000,9,-999.0000,9,  2267.5,2,  2339.3,2,   7.4965,2,    25.00, -999.00,9, -999.00,9, -999.00,-999.000,9,  -999.0,9,     -999.0,9,     -999.0,9,         16,     -999.0,9,     -999.0,9,     -999.0,9,     -999.0,9
33RO20180423,        I7N,      77,          1,        117,      11116,2,20180522,       1713,     0.2475,    57.2818,       4505,   484.5,   9.8927,  35.0123,2,  35.0184,2,     74.2,2,  80.1020,2,     35.5,2,     30.5,2,     0.00,2,    2.190,2,   1.203,6,   0.648,6,   0.3075,6,  -999.0,9,  -999.0,9,-999.0000,9,  -999.00, -999.00,9, -999.00,9, -999.00,-999.000,1,  -999.0,9,     -999.0,1,     -999.0,9,         17,     -999.0,9,     -999.0,9,     -999.0,9,     -999.0,9
33RO20180423,        I7N,      77,          1,        118,      11117,2,20180522,       1713,     0.2475,    57.2818,       4505,   376.0,  11.0074,  34.9941,2,  34.9971,2,    110.1,2, 118.4110,2,     21.3,2,     24.6,2,     0.00,2,    1.709,2,-999.000,9,-999.000,9,-999.0000,9,  2196.2,2,  2295.1,4,   7.6299,2,    25.00, -999.00,9, -999.00,9, -999.00,-999.000,9,  -999.0,9,     -999.0,9,     -999.0,9,         18,     -999.0,9,     -999.0,9,     -999.0,9,     -999.0,9
33RO20180423,        I7N,      77,          1,        119,      11083,2,20180522,       1713,     0.2475,    57.2818,       4505,   300.9,  11.9438,  35.0563,2,  35.0590,2,    108.9,2, 116.5950,2,     18.6,2,     23.0,2,     0.00,2,    1.607,2,   2.129,2,   1.188,2,   0.7562,2,  -999.0,9,  -999.0,9,-999.0000,9,  -999.00, -999.00,9, -999.00,9, -999.00,-999.000,1,  -999.0,9,     -999.0,1,     -999.0,9,         19,     -999.0,9,     -999.0,9,     -999.0,9,     -999.0,9
33RO20180423,        I7N,      77,          1,        120,      11118,2,20180522,       1713,     0.2475,    57.2818,       4505,   217.4,  13.4379,  35.1515,2,  35.1565,2,    106.9,2, 114.8020,2,     16.5,2,     20.8,2,     0.00,2,    1.497,2,-999.000,9,-999.000,9,-999.0000,9,  2180.7,2,  2313.5,2,   7.6786,2,    25.00, -999.00,9, -999.00,9, -999.00,-999.000,9,  -999.0,9,     -999.0,9,     -999.0,9,         20,     -999.0,9,     -999.0,9,     -999.0,9,     -999.0,9
33RO20180423,        I7N,      77,          1,        121,      11119,2,20180522,       1713,     0.2475,    57.2818,       4505,   167.2,  15.2984,  35.2159,2,  35.2166,2,     88.3,2,  94.1600,2,     15.8,2,     20.8,2,     0.01,2,    1.492,2,   1.992,2,   1.164,2,   0.9107,2,  2179.2,2,  2314.0,2,   7.6828,2,    25.00, -999.00,9, -999.00,9, -999.00,-999.000,1,  -999.0,9,     -999.0,1,     -999.0,9,         21,     -999.0,9,     -999.0,9,     -999.0,9,     -999.0,9
33RO20180423,        I7N,      77,          1,        122,      11120,2,20180522,       1713,     0.2475,    57.2818,       4505,   118.3,  21.0785,  35.4742,2,  35.4708,2,    117.5,2, 122.8920,2,      9.4,2,     13.1,2,     0.14,2,    1.016,2,-999.000,9,-999.000,9,-999.0000,9,  2120.8,2,  2308.8,3,   7.8390,2,    25.00, -999.00,9, -999.00,9, -999.00,-999.000,9,  -999.0,9,     -999.0,9,     -999.0,9,         22,     -999.0,9,     -999.0,9,     -999.0,9,     -999.0,9
33RO20180423,        I7N,      77,          1,        123,      11121,2,20180522,       1713,     0.2475,    57.2818,       4505,    65.4,  29.8198,  35.2468,2,  35.2461,2,    183.7,2, 191.7910,2,      1.6,2,      0.0,2,     0.00,2,    0.152,2,   1.367,2,   0.879,2,   1.3437,2,  1981.4,2,  2311.1,2,   8.0745,6,    25.00, -999.00,9, -999.00,9, -999.00,-999.000,1,  -999.0,9,     -999.0,1,     -999.0,9,         23,     -999.0,9,     -999.0,9,     -999.0,9,     -999.0,9
33RO20180423,        I7N,      77,          1,        124,      11122,2,20180522,       1713,     0.2475,    57.2818,       4505,     3.7,  29.8191,  35.2351,2,  35.2376,2,    183.9,2, 191.6160,2,      1.6,2,      0.0,2,     0.00,2,    0.145,2,-999.000,9,-999.000,9,-999.0000,9,  1979.7,6,  2311.3,2,   8.0779,2,    25.00, -999.00,9, -999.00,9, -999.00,-999.000,9,  -999.0,9,     -999.0,9,     -999.0,9,         24,     -999.0,9,     -999.0,9,     -999.0,9,     -999.0,9