BOTTLE,20230801CCHSIOCBG
EXPOCODE,SECT_ID,STNNBR,CASTNO,SAMPNO,BTLNBR,BTLNBR_FLAG_W,DATE,TIME,LATITUDE,LONGITUDE,DEPTH,CTDPRS,CTDTMP,CTDSAL,CTDSAL_FLAG_W,SALNTY,SALNTY_FLAG_W,CTDOXY,CTDOXY_FLAG_W,OXYGEN,OXYGEN_FLAG_W,SILCAT,SILCAT_FLAG_W,NITRAT,NITRAT_FLAG_W,NITRIT,NITRIT_FLAG_W,PHSPHT,PHSPHT_FLAG_W,CFC-11,CFC-11_FLAG_W,CFC-12,CFC-12_FLAG_W,SF6,SF6_FLAG_W,TCARBN,TCARBN_FLAG_W,ALKALI,ALKALI_FLAG_W,PH_SWS,PH_SWS_FLAG_W,PH_TMP,DELC13,DELC13_FLAG_W,DELC14,DELC14_FLAG_W,C14ERR,CCL4,CCL4_FLAG_W,DOC,DOC_FLAG_W,N2O,N2O_FLAG_W,CALCIUM,CALCIUM_FLAG_W,SAMPNO_U,DNSSAL,DNSSAL_FLAG_W,DNSSAL2,DNSSAL2_FLAG_W,SALNTY_DNSSAL,SALNTY_DNSSAL_FLAG_W,SALNTY_DNSSAL2,SALNTY_DNSSAL2_FLAG_W
,,,,,,,,,,,METERS,DBAR,ITS-90,PSS-78,,PSS-78,,UMOL/KG,,UMOL/KG,,UMOL/KG,,UMOL/KG,,UMOL/KG,,UMOL/KG,,PMOL/KG,,PMOL/KG,,FMOL/KG,,UMOL/KG,,UMOL/KG,,,,DEG C,/MILLE,,/MILLE,,/MILLE,PMOL/KG,,UMOL/KG,,NMOL/KG,,MMOL/KG,,,G/KG,,G/KG,,PSS-78,,PSS-78,
33RO20180423,        I7N,      11,          1,        101,      11010,2,20180430,       1726,   -26.3290,    54.5023,       5204,  5286.1,   0.9983,  34.7016,2,  34.7026,2,    179.3,2, 212.4110,4,    127.3,6,     31.8,6,     0.00,6,    2.229,6,   0.138,2,   0.074,2,   0.0028,2,  2262.7,6,  2369.4,2,   7.7474,4,    25.00, -999.00,9, -999.00,9, -999.00,-999.000,1,  -999.0,9,     -999.0,1,     -999.0,9,          1,     -999.0,9,     -999.0,9,     -999.0,9,     -999.0,9
33RO20180423,        I7N,      11,          1,        102,      11101,2,20180430,       1726,   -26.3290,    54.5023,       5204,  4806.2,   0.9987,  34.7045,2,  34.7040,2,    177.1,2, 207.8420,2,    126.7,6,     31.8,6,     0.00,6,    2.235,6,   0.102,2,   0.052,2,   0.0061,2,  2262.4,2,  2368.4,2,   7.5984,2,    25.00, -999.00,9, -999.00,9, -999.00,-999.000,1,  -999.0,9,     -999.0,1,     -999.0,9,          2,     -999.0,9,     -999.0,9,     -999.0,9,     -999.0,9
33RO20180423,        I7N,      11,          1,        103,      11102,2,20180430,       1726,   -26.3290,    54.5023,       5204,  4425.8,   1.1084,  34.7102,2,  34.7108,2,    172.6,2, 202.5170,2,    125.6,6,     32.0,6,     0.00,6,    2.243,6,   0.069,2,   0.035,2,        0,2,  2267.1,2,  2371.1,2,   7.5964,2,    25.00, -999.00,9, -999.00,9, -999.00,-999.000,1,  -999.0,9,     -999.0,1,     -999.0,9,          3,     -999.0,9,     -999.0,9,     -999.0,9,     -999.0,9
33RO20180423,        I7N,      11,          1,        104,      11103,2,20180430,       1726,   -26.3290,    54.5023,       5204,  4124.9,   1.2480,  34.7150,2,  34.7167,2,    165.9,2, 194.5050,2,    127.0,6,     32.4,6,     0.00,6,    2.279,6,   0.043,2,   0.022,2,        0,2,  2275.7,2,  2380.2,6,   7.5961,2,    25.00, -999.00,9, -999.00,9, -999.00,-999.000,1,    41.7,3,     -999.0,1,     -999.0,9,          4,     -999.0,9,     -999.0,9,     -999.0,9,     -999.0,9
33RO20180423,        I7N,      11,          1,        105,      11104,2,20180430,       1726,   -26.3290,    54.5023,       5204,  3825.5,   1.4124,  34.7214,2,  34.7222,6,    159.2,2, 186.3660,2,    127.5,2,     32.8,2,     0.00,2,    2.311,2,   0.020,2,   0.012,2,   0.0053,2,  2281.9,2,  2384.6,2,   7.5964,6,    25.00, -999.00,9, -999.00,9, -999.00,-999.000,1,    40.1,3,     -999.0,1,     -999.0,9,          5,     -999.0,9,     -999.0,9,     -999.0,9,     -999.0,9
33RO20180423,        I7N,      11,          1,        106,      11105,2,20180430,       1726,   -26.3290,    54.5023,       5204,  3525.0,   1.6047,  34.7283,2,  34.7749,2,    151.9,2, 176.5360,2,    127.2,2,     33.1,2,     0.00,2,    2.331,2,   0.008,2,   0.004,2,        0,2,  2287.8,2,  2393.8,2,   7.5917,2,    25.00, -999.00,9, -999.00,9, -999.00,-999.000,1,    41.5,3,     -999.0,1,     -999.0,9,          6,     -999.0,9,     -999.0,9,     -999.0,9,     -999.0,9
33RO20180423,        I7N,      11,          1,        107,      11106,2,20180430,       1726,   -26.3290,    54.5023,       5204,  3225.4,   1.7960,  34.7348,2,  34.7360,2,    144.9,2, 168.2590,2,    127.0,2,     33.5,2,     0.00,2,    2.369,2,   0.004,2,   0.002,2,        0,2,  2294.6,2,  2398.3,2,   7.5870,2,    25.00, -999.00,9, -999.00,9, -999.00,-999.000,1,  -999.0,9,     -999.0,1,     -999.0,9,          7,     -999.0,9,     -999.0,9,     -999.0,9,     -999.0,9
33RO20180423,        I7N,      11,          1,        108,      11107,2,20180430,       1726,   -26.3290,    54.5023,       5204,  2925.4,   1.9549,  34.7379,2,  34.7477,2,    142.5,2, 164.7050,2,    123.9,2,     33.5,2,     0.00,2,    2.371,2,   0.004,2,   0.002,2,   0.0077,2,  2295.5,2,  2395.2,2,   7.5848,2,    25.00, -999.00,9, -999.00,9, -999.00,-999.000,1,  -999.0,9,     -999.0,1,     -999.0,9,          8,     -999.0,9,     -999.0,9,     -999.0,9,     -999.0,9
33RO20180423,        I7N,      11,          1,        109,      11108,2,20180430,       1726,   -26.3290,    54.5023,       5204,  2625.8,   2.1015,  34.7382,2,  34.7396,2,    142.7,2, 164.1165,2,    118.7,2,     33.2,2,     0.00,2,    2.357,2,   0.007,2,   0.005,2,        0,2,  2290.0,2,  2390.5,2,   7.5849,2,    25.00, -999.00,9, -999.00,9, -999.00,-999.000,1,    40.2,3,     -999.0,1,     -999.0,9,          9,     -999.0,9,     -999.0,9,     -999.0,9,     -999.0,9
33RO20180423,        I7N,      11,          1,        110,      11109,2,20180430,       1726,   -26.3290,    54.5023,       5204,  2325.7,   2.2678,  34.7330,2,  34.7459,2,    146.5,2, 166.9960,2,    109.0,2,     32.7,2,     0.00,2,    2.316,2,   0.015,2,   0.008,2,        0,2,  2281.8,2,  2380.1,6,   7.5863,2,    25.00, -999.00,9, -999.00,9, -999.00,-999.000,1,  -999.0,9,     -999.0,1,     -999.0,9,         10,     -999.0,9,     -999.0,9,     -999.0,9,     -999.0,9
33RO20180423,        I7N,      11,          1,        111,      11110,2,20180430,       1726,   -26.3290,    54.5023,       5204,  2026.3,   2.4554,  34.7137,2,  34.7169,2,    149.6,2, 169.0460,2,     98.0,2,     32.3,2,     0.00,2,    2.285,2,   0.033,2,   0.016,2,        0,2,  2271.8,2,  2369.2,2,   7.5858,6,    25.00, -999.00,9, -999.00,9, -999.00,-999.000,1,    42.3,3,     -999.0,1,     -999.0,9,         11,     -999.0,9,     -999.0,9,     -999.0,9,     -999.0,9
33RO20180423,        I7N,      11,          1,        112,      11111,2,20180430,       1726,   -26.3290,    54.5023,       5204,  1738.8,   2.7175,  34.6639,2,  34.6668,2,    149.8,2, 172.6110,4,     87.2,2,     32.5,2,     0.00,2,    2.295,2,   0.075,2,   0.038,2,   0.0062,2,  2259.6,6,  2357.1,2,   7.5753,2,    25.00, -999.00,9, -999.00,9, -999.00,-999.000,1,    43.9,3,     -999.0,1,     -999.0,9,         12,     -999.0,9,     -999.0,9,     -999.0,9,     -999.0,9
33RO20180423,        I7N,      11,          1,        113,      11112,2,20180430,       1726,   -26.3290,    54.5023,       5204,  1488.9,   3.2640,  34.5836,2,  34.5975,2,    141.9,2, 159.0890,2,     77.3,2,     33.5,2,     0.00,2,    2.375,2,   0.186,6,   0.092,6,   0.0035,6,  2257.1,2,  -999.0,5,   7.5581,2,    25.00, -999.00,9, -999.00,9, -999.00,-999.000,1,  -999.0,9,     -999.0,1,     -999.0,9,         13,     -999.0,9,     -999.0,9,     -999.0,9,     -999.0,9
33RO20180423,        I7N,      11,          1,        114,      11113,2,20180430,       1726,   -26.3290,    54.5023,       5204,  1238.4,   4.2154,  34.4978,2,  34.4998,2,    139.8,2, 155.1750,2,     63.5,2,     33.4,2,     0.00,2,    2.359,2,   0.468,2,   0.230,2,   0.0431,2,  2241.9,2,  2328.2,2,   7.5605,2,    25.00, -999.00,9, -999.00,9, -999.00,-999.000,1,    45.0,3,     -999.0,1,     -999.0,9,         14,     -999.0,9,     -999.0,9,     -999.0,9,     -999.0,9
33RO20180423,        I7N,      11,          1,        115,      11114,2,20180430,       1726,   -26.3290,    54.5023,       5204,   989.3,   6.1843,  34.4501,2,  34.4517,2,    175.8,2, 192.9510,2,     27.1,2,     27.3,2,     0.00,2,    1.915,2,   2.025,2,   1.018,2,   0.4532,2,  2186.1,2,  2297.1,2,   7.6343,2,    25.00, -999.00,9, -999.00,9, -999.00,-999.000,1,    46.4,3,     -999.0,1,     -999.0,9,         15,     -999.0,9,     -999.0,9,     -999.0,9,     -999.0,9
33RO20180423,        I7N,      11,          1,        116,      11115,2,20180430,       1726,   -26.3290,    54.5023,       5204,   756.7,   9.3138,  34.6845,2,  34.6879,2,    208.7,2, 226.9750,2,      6.4,2,     16.6,2,     0.00,2,    1.246,2,   3.460,2,   1.899,2,   1.3159,2,  2137.0,2,  2294.4,2,   7.7448,2,    25.00, -999.00,9, -999.00,9, -999.00,-999.000,1,    45.4,3,     -999.0,1,     -999.0,9,         16,     -999.0,9,     -999.0,9,     -999.0,9,     -999.0,9
33RO20180423,        I7N,      11,          1,        117,      11116,2,20180430,       1726,   -26.3290,    54.5023,       5204,   581.1,  11.3379,  34.9714,2,  34.9731,2,    214.1,2, 231.7130,2,      3.9,2,     11.0,2,     0.00,2,    0.907,2,   3.242,2,   1.862,2,   1.6567,2,  2126.3,2,  2307.0,2,   7.7991,2,    25.00, -999.00,9, -999.00,9, -999.00,-999.000,1,  -999.0,9,     -999.0,1,     -999.0,9,         17,     -999.0,9,     -999.0,9,     -999.0,9,     -999.0,9
33RO20180423,        I7N,      11,          1,        118,      11117,2,20180430,       1726,   -26.3290,    54.5023,       5204,   414.1,  13.1712,  35.2462,2,  35.2470,6,    208.0,2,-999.0000,9,      3.4,2,      7.6,2,     0.00,2,    0.716,2,   2.926,2,   1.716,2,   1.7476,2,  2118.7,2,  2318.6,2,   7.8354,6,    25.00, -999.00,9, -999.00,9, -999.00,-999.000,1,  -999.0,9,     -999.0,1,     -999.0,9,         18,     -999.0,9,     -999.0,9,     -999.0,9,     -999.0,9
33RO20180423,        I7N,      11,          1,        119,      11083,2,20180430,       1726,   -26.3290,    54.5023,       5204,   274.9,  14.9914,  35.4410,2,  35.4474,2,    204.8,2, 220.0760,2,      3.3,2,      4.6,2,     0.01,2,    0.519,2,   2.603,6,   1.557,6,   1.8311,6,  2105.5,2,  2325.0,2,   7.8764,2,    25.00, -999.00,9, -999.00,9, -999.00,-999.000,1,    55.5,3,     -999.0,1,     -999.0,9,         19,     -999.0,9,     -999.0,9,     -999.0,9,     -999.0,9
33RO20180423,        I7N,      11,          1,        120,      11118,2,20180430,       1726,   -26.3290,    54.5023,       5204,   187.8,  16.8191,  35.5620,2,  35.5649,2,    198.1,2, 211.0060,2,      3.1,2,      2.8,2,     0.01,2,    0.384,2,   2.360,2,   1.432,2,   1.7812,2,  2094.0,2,  2329.8,2,   7.9109,2,    25.00, -999.00,9, -999.00,9, -999.00,-999.000,1,    59.9,3,     -999.0,1,     -999.0,9,         20,     -999.0,9,     -999.0,9,     -999.0,9,     -999.0,9
33RO20180423,        I7N,      11,          1,        121,      11119,2,20180430,       1726,   -26.3290,    54.5023,       5204,   140.5,  19.1306,  35.6281,2,  35.6319,2,    181.4,2, 193.8490,2,      2.8,2,      1.9,2,     0.03,2,    0.337,2,   2.124,2,   1.321,2,   1.6069,2,  2084.2,2,  2334.4,2,   7.9323,2,    25.00, -999.00,9, -999.00,9, -999.00,-999.000,1,    68.0,3,     -999.0,1,     -999.0,9,         21,     -999.0,9,     -999.0,9,     -999.0,9,     -999.0,9
33RO20180423,        I7N,      11,          1,        122,      11120,2,20180430,       1726,   -26.3290,    54.5023,       5204,    89.3,  22.0243,  35.4414,2,  35.4477,2,    186.3,2, 199.2360,2,      2.6,2,      0.4,2,     0.16,2,    0.212,2,   1.875,2,   1.175,2,   1.5464,2,  2047.0,2,  2321.6,2,   7.9850,2,    25.00, -999.00,9, -999.00,9, -999.00,-999.000,1,    71.5,3,     -999.0,1,     -999.0,9,         22,     -999.0,9,     -999.0,9,     -999.0,9,     -999.0,9
33RO20180423,        I7N,      11,          1,        123,      11121,2,20180430,       1726,   -26.3290,    54.5023,       5204,    39.9,  24.6352,  35.3223,2,  35.3237,2,    198.0,2, 209.9290,2,      1.6,2,      0.0,2,     0.00,2,    0.052,2,   1.657,2,   1.043,2,   1.5196,2,  1997.4,6,  2316.5,2,   8.0561,2,    25.00, -999.00,9, -999.00,9, -999.00,-999.000,1,    76.3,3,     -999.0,1,     -999.0,9,         23,     -999.0,9,     -999.0,9,     -999.0,9,     -999.0,9
33RO20180423,        I7N,      11,          1,        124,      11122,2,20180430,       1726,   -26.3290,    54.5023,       5204,     3.8,  25.5233,  35.1154,2,  35.1213,2,    194.9,2, 206.6290,2,      1.8,2,      0.0,2,     0.00,2,    0.090,2,   1.567,2,   1.001,2,   1.4762,2,  1982.5,2,  2302.5,2,   8.0635,2,    25.00, -999.00,9, -999.00,9, -999.00,-999.000,1,    75.1,3,     -999.0,1,     -999.0,9,         24,     -999.0,9,     -999.0,9,     -999.0,9,     -999.0,9