BOTTLE,20230801CCHSIOCBG
EXPOCODE,SECT_ID,STNNBR,CASTNO,SAMPNO,BTLNBR,BTLNBR_FLAG_W,DATE,TIME,LATITUDE,LONGITUDE,DEPTH,CTDPRS,CTDTMP,CTDSAL,CTDSAL_FLAG_W,SALNTY,SALNTY_FLAG_W,CTDOXY,CTDOXY_FLAG_W,OXYGEN,OXYGEN_FLAG_W,SILCAT,SILCAT_FLAG_W,NITRAT,NITRAT_FLAG_W,NITRIT,NITRIT_FLAG_W,PHSPHT,PHSPHT_FLAG_W,CFC-11,CFC-11_FLAG_W,CFC-12,CFC-12_FLAG_W,SF6,SF6_FLAG_W,TCARBN,TCARBN_FLAG_W,ALKALI,ALKALI_FLAG_W,PH_SWS,PH_SWS_FLAG_W,PH_TMP,DELC13,DELC13_FLAG_W,DELC14,DELC14_FLAG_W,C14ERR,CCL4,CCL4_FLAG_W,DOC,DOC_FLAG_W,N2O,N2O_FLAG_W,CALCIUM,CALCIUM_FLAG_W,SAMPNO_U,DNSSAL,DNSSAL_FLAG_W,DNSSAL2,DNSSAL2_FLAG_W,SALNTY_DNSSAL,SALNTY_DNSSAL_FLAG_W,SALNTY_DNSSAL2,SALNTY_DNSSAL2_FLAG_W
,,,,,,,,,,,METERS,DBAR,ITS-90,PSS-78,,PSS-78,,UMOL/KG,,UMOL/KG,,UMOL/KG,,UMOL/KG,,UMOL/KG,,UMOL/KG,,PMOL/KG,,PMOL/KG,,FMOL/KG,,UMOL/KG,,UMOL/KG,,,,DEG C,/MILLE,,/MILLE,,/MILLE,PMOL/KG,,UMOL/KG,,NMOL/KG,,MMOL/KG,,,G/KG,,G/KG,,PSS-78,,PSS-78,
33RO20180423,        I7N,      10,          1,        101,      11010,2,20180430,       1129,   -26.6688,    54.4885,       5210,  5288.7,   0.9900,  34.7011,2,  34.7014,2,    179.8,2, 209.8340,2,    126.1,6,     31.6,6,     0.00,6,    2.210,6,   0.134,2,   0.064,2,   0.0091,2,  2263.1,6,  2369.6,2,   7.5998,2,    25.00, -999.00,9, -999.00,9, -999.00,-999.000,1,  -999.0,9,     -999.0,1,     -999.0,9,          1,     -999.0,9,     -999.0,9,     -999.0,9,     -999.0,9
33RO20180423,        I7N,      10,          1,        102,      11101,2,20180430,       1129,   -26.6688,    54.4885,       5210,  4899.7,   0.9691,  34.7028,2,  34.7031,2,    178.5,2, 209.1550,2,    126.0,6,     31.6,6,     0.00,6,    2.196,6,-999.000,9,-999.000,9,-999.0000,9,  2263.8,2,  2367.2,6,   7.5958,2,    25.00, -999.00,9, -999.00,9, -999.00,-999.000,9,  -999.0,9,     -999.0,9,     -999.0,9,          2,     -999.0,9,     -999.0,9,     -999.0,9,     -999.0,9
33RO20180423,        I7N,      10,          1,        103,      11102,2,20180430,       1129,   -26.6688,    54.4885,       5210,  4599.7,   1.0101,  34.7062,2,  34.7065,2,    176.5,2, 207.1290,2,    125.1,6,     31.7,6,     0.00,6,    2.213,6,   0.095,2,   0.049,2,   0.0055,2,  2266.9,2,  2371.3,2,   7.5972,2,    25.00, -999.00,9, -999.00,9, -999.00,-999.000,1,  -999.0,9,     -999.0,1,     -999.0,9,          3,     -999.0,9,     -999.0,9,     -999.0,9,     -999.0,9
33RO20180423,        I7N,      10,          1,        104,      11103,2,20180430,       1129,   -26.6688,    54.4885,       5210,  4299.9,   1.1327,  34.7116,2,  34.7118,6,    171.7,2, 201.1650,2,    124.5,6,     31.8,6,     0.00,6,    2.219,6,-999.000,9,-999.000,9,-999.0000,9,  2267.2,2,  2374.4,2,   7.5977,2,    25.00, -999.00,9, -999.00,9, -999.00,-999.000,9,  -999.0,9,     -999.0,9,     -999.0,9,          4,     -999.0,9,     -999.0,9,     -999.0,9,     -999.0,9
33RO20180423,        I7N,      10,          1,        105,      11104,2,20180430,       1129,   -26.6688,    54.4885,       5210,  4000.7,   1.2764,  34.7169,2,  34.7245,2,    165.3,2, 193.7650,2,    125.4,2,     32.1,2,     0.00,2,    2.243,2,-999.000,9,-999.000,9,-999.0000,9,  -999.0,9,  2380.0,2,   7.5975,6,    25.00, -999.00,9, -999.00,9, -999.00,-999.000,9,  -999.0,9,     -999.0,9,     -999.0,9,          5,     -999.0,9,     -999.0,9,     -999.0,9,     -999.0,9
33RO20180423,        I7N,      10,          1,        106,      11105,2,20180430,       1129,   -26.6688,    54.4885,       5210,  3701.2,   1.4060,  34.7211,2,  34.7216,2,    159.3,2, 185.7000,2,    126.4,2,     32.5,2,     0.00,2,    2.270,2,   0.021,2,   0.011,2,   0.0033,2,  2281.7,2,  2388.4,2,   7.5947,2,    25.00, -999.00,9, -999.00,9, -999.00,-999.000,1,  -999.0,9,     -999.0,1,     -999.0,9,          6,     -999.0,9,     -999.0,9,     -999.0,9,     -999.0,9
33RO20180423,        I7N,      10,          1,        107,      11106,2,20180430,       1129,   -26.6688,    54.4885,       5210,  3401.2,   1.6417,  34.7300,2,  34.7308,2,    150.6,2, 176.0195,2,    126.2,2,     32.8,2,     0.00,2,    2.288,2,-999.000,9,-999.000,9,-999.0000,9,  -999.0,9,  2396.2,2,   7.5923,2,    25.00, -999.00,9, -999.00,9, -999.00,-999.000,9,  -999.0,9,     -999.0,9,     -999.0,9,          7,     -999.0,9,     -999.0,9,     -999.0,9,     -999.0,9
33RO20180423,        I7N,      10,          1,        108,      11107,2,20180430,       1129,   -26.6688,    54.4885,       5210,  3100.2,   1.8241,  34.7354,2,  34.7363,2,    145.2,2, 167.8600,2,    124.9,2,     33.1,2,     0.00,2,    2.309,2,-999.000,9,-999.000,9,-999.0000,9,  2291.8,2,  2398.0,2,   7.5861,2,    25.00, -999.00,9, -999.00,9, -999.00,-999.000,9,  -999.0,9,     -999.0,9,     -999.0,9,          8,     -999.0,9,     -999.0,9,     -999.0,9,     -999.0,9
33RO20180423,        I7N,      10,          1,        109,      11108,2,20180430,       1129,   -26.6688,    54.4885,       5210,  2799.9,   1.9934,  34.7386,2,  34.7382,2,    142.3,2, 163.5590,2,    122.0,2,     33.1,2,     0.00,2,    2.320,2,   0.003,4,   0.003,4,        0,4,  2293.2,2,  2396.7,2,   7.5840,2,    25.00, -999.00,9, -999.00,9, -999.00,-999.000,1,  -999.0,9,     -999.0,1,     -999.0,9,          9,     -999.0,9,     -999.0,9,     -999.0,9,     -999.0,9
33RO20180423,        I7N,      10,          1,        110,      11109,2,20180430,       1129,   -26.6688,    54.4885,       5210,  2500.7,   2.1479,  34.7382,2,  34.7400,2,    145.1,2,-999.0000,9,    113.6,2,     32.7,2,     0.00,2,    2.290,2,-999.000,9,-999.000,9,-999.0000,9,  2288.6,2,  2386.8,2,   7.5853,2,    25.00, -999.00,9, -999.00,9, -999.00,-999.000,9,  -999.0,9,     -999.0,9,     -999.0,9,         10,     -999.0,9,     -999.0,9,     -999.0,9,     -999.0,9
33RO20180423,        I7N,      10,          1,        111,      11110,2,20180430,       1129,   -26.6688,    54.4885,       5210,  2200.4,   2.3140,  34.7292,2,  34.7292,2,    149.7,2, 169.9410,2,    102.5,2,     32.1,2,     0.00,2,    2.257,2,-999.000,9,-999.000,9,-999.0000,9,  2275.3,2,  2374.4,2,   7.5877,2,    25.00, -999.00,9, -999.00,9, -999.00,-999.000,9,  -999.0,9,     -999.0,9,     -999.0,9,         11,     -999.0,9,     -999.0,9,     -999.0,9,     -999.0,9
33RO20180423,        I7N,      10,          1,        112,      11111,2,20180430,       1129,   -26.6688,    54.4885,       5210,  1901.1,   2.5313,  34.6978,2,  34.6979,2,    151.7,2, 170.7270,2,     91.9,2,     31.9,2,     0.00,2,    2.253,2,   0.049,6,   0.025,6,   0.0092,6,  2263.6,2,  2363.0,6,   7.5847,2,    25.00, -999.00,9, -999.00,9, -999.00,-999.000,1,  -999.0,9,     -999.0,1,     -999.0,9,         12,     -999.0,9,     -999.0,9,     -999.0,9,     -999.0,9
33RO20180423,        I7N,      10,          1,        113,      11112,2,20180430,       1129,   -26.6688,    54.4885,       5210,  1600.5,   2.9026,  34.6109,2,  34.6132,6,    150.6,2, 168.1890,2,     78.6,2,     32.5,2,     0.00,2,    2.294,2,-999.000,9,-999.000,9,-999.0000,9,  2256.8,2,  2345.1,2,   7.5677,6,    25.00, -999.00,9, -999.00,9, -999.00,-999.000,9,  -999.0,9,     -999.0,9,     -999.0,9,         13,     -999.0,9,     -999.0,9,     -999.0,9,     -999.0,9
33RO20180423,        I7N,      10,          1,        114,      11113,2,20180430,       1129,   -26.6688,    54.4885,       5210,  1361.0,   3.5661,  34.5289,2,  34.5302,2,    144.1,2, 161.9440,2,     69.3,2,     33.4,2,     0.00,2,    2.351,2,-999.000,9,-999.000,9,-999.0000,9,  2248.5,2,  2338.1,2,   7.5592,2,    25.00, -999.00,9, -999.00,9, -999.00,-999.000,9,  -999.0,9,     -999.0,9,     -999.0,9,         14,     -999.0,9,     -999.0,9,     -999.0,9,     -999.0,9
33RO20180423,        I7N,      10,          1,        115,      11114,2,20180430,       1129,   -26.6688,    54.4885,       5210,  1101.1,   4.8515,  34.4389,2,  34.4392,2,    161.9,2, 178.1930,2,     44.1,2,     30.9,2,     0.00,2,    2.151,2,   1.188,2,   0.594,2,   0.2227,2,  2207.5,2,  2312.3,2,   7.5936,2,    25.00, -999.00,9, -999.00,9, -999.00,-999.000,1,  -999.0,9,     -999.0,1,     -999.0,9,         15,     -999.0,9,     -999.0,9,     -999.0,9,     -999.0,9
33RO20180423,        I7N,      10,          1,        116,      11115,2,20180430,       1129,   -26.6688,    54.4885,       5210,   850.9,   8.1598,  34.5846,2,  34.5882,2,    192.2,2, 210.1760,2,     12.8,2,     21.2,2,     0.00,2,    1.500,2,   2.938,2,   1.550,2,   0.8465,2,  2153.0,2,  2293.4,2,   7.7016,2,    25.00, -999.00,9, -999.00,9, -999.00,-999.000,1,  -999.0,9,     -999.0,1,     -999.0,9,         16,     -999.0,9,     -999.0,9,     -999.0,9,     -999.0,9
33RO20180423,        I7N,      10,          1,        117,      11116,2,20180430,       1129,   -26.6688,    54.4885,       5210,   670.8,  10.4125,  34.8376,2,  34.8370,2,    210.0,2, 229.8370,2,      4.8,2,     13.9,2,     0.00,2,    1.064,2,-999.000,9,-999.000,9,-999.0000,9,  2132.7,2,  2299.5,2,   7.7747,2,    25.00, -999.00,9, -999.00,9, -999.00,-999.000,9,  -999.0,9,     -999.0,9,     -999.0,9,         17,     -999.0,9,     -999.0,9,     -999.0,9,     -999.0,9
33RO20180423,        I7N,      10,          1,        118,      11117,2,20180430,       1129,   -26.6688,    54.4885,       5210,   500.8,  12.0426,  35.0800,2,  35.0806,2,    209.5,2, 226.4420,2,      4.0,2,     10.3,2,     0.00,2,    0.833,2,   3.081,2,   1.797,2,   1.6293,2,  2124.9,2,  2313.1,2,   7.8099,2,    25.00, -999.00,9, -999.00,9, -999.00,-999.000,1,  -999.0,9,     -999.0,1,     -999.0,9,         18,     -999.0,9,     -999.0,9,     -999.0,9,     -999.0,9
33RO20180423,        I7N,      10,          1,        119,      11083,2,20180430,       1129,   -26.6688,    54.4885,       5210,   326.1,  14.2452,  35.3753,2,  35.3759,2,    201.0,2, 215.5310,2,      3.1,2,      6.2,2,     0.00,2,    0.582,2,   2.732,2,   1.636,2,   1.6564,2,  2120.5,2,  2327.2,6,   7.8534,2,    25.00, -999.00,9, -999.00,9, -999.00,-999.000,1,  -999.0,9,     -999.0,1,     -999.0,9,         19,     -999.0,9,     -999.0,9,     -999.0,9,     -999.0,9
33RO20180423,        I7N,      10,          1,        120,      11118,2,20180430,       1129,   -26.6688,    54.4885,       5210,   200.6,  16.4858,  35.5613,2,  35.5623,2,    197.0,2, 210.8140,2,      2.8,2,      3.3,2,     0.01,2,    0.388,2,   2.400,2,   1.465,2,   1.7473,2,  2101.4,2,  2334.2,2,   7.8991,2,    25.00, -999.00,9, -999.00,9, -999.00,-999.000,1,  -999.0,9,     -999.0,1,     -999.0,9,         20,     -999.0,9,     -999.0,9,     -999.0,9,     -999.0,9
33RO20180423,        I7N,      10,          1,        121,      11119,2,20180430,       1129,   -26.6688,    54.4885,       5210,   164.7,  17.3987,  35.5772,2,  35.5769,2,    192.4,2, 206.2600,2,      3.2,2,      2.9,2,     0.01,2,    0.364,2,-999.000,9,-999.000,9,-999.0000,9,  2092.5,2,  2332.9,2,   7.9144,6,    25.00, -999.00,9, -999.00,9, -999.00,-999.000,9,  -999.0,9,     -999.0,9,     -999.0,9,         21,     -999.0,9,     -999.0,9,     -999.0,9,     -999.0,9
33RO20180423,        I7N,      10,          1,        122,      11120,2,20180430,       1129,   -26.6688,    54.4885,       5210,   111.1,  19.7883,  35.5631,2,  35.5650,2,    192.1,2, 204.0390,2,      2.8,2,      1.5,2,     0.05,2,    0.255,2,-999.000,9,-999.000,9,-999.0000,9,  2077.1,2,  2329.8,2,   7.9468,2,    25.00, -999.00,9, -999.00,9, -999.00,-999.000,9,  -999.0,9,     -999.0,9,     -999.0,9,         22,     -999.0,9,     -999.0,9,     -999.0,9,     -999.0,9
33RO20180423,        I7N,      10,          1,        123,      11121,2,20180430,       1129,   -26.6688,    54.4885,       5210,    61.0,  23.7403,  35.4002,2,  35.4045,2,    200.7,2, 213.4560,2,      1.5,2,      0.0,2,     0.00,2,    0.035,2,-999.000,9,-999.000,9,-999.0000,9,  2012.1,2,  2319.7,2,   8.0455,2,    25.00, -999.00,9, -999.00,9, -999.00,-999.000,9,  -999.0,9,     -999.0,9,     -999.0,9,         23,     -999.0,9,     -999.0,9,     -999.0,9,     -999.0,9
33RO20180423,        I7N,      10,          1,        124,      11122,2,20180430,       1129,   -26.6688,    54.4885,       5210,     3.4,  24.4870,  35.3467,2,  35.3494,2,    198.9,2, 210.9660,2,      1.6,2,      0.0,2,     0.00,2,    0.036,2,-999.000,9,-999.000,9,-999.0000,9,  2000.8,6,  2317.7,2,   8.0569,2,    25.00, -999.00,9, -999.00,9, -999.00,-999.000,9,  -999.0,9,     -999.0,9,     -999.0,9,         24,     -999.0,9,     -999.0,9,     -999.0,9,     -999.0,9