BOTTLE,20230801CCHSIOCBG
EXPOCODE,SECT_ID,STNNBR,CASTNO,SAMPNO,BTLNBR,BTLNBR_FLAG_W,DATE,TIME,LATITUDE,LONGITUDE,DEPTH,CTDPRS,CTDTMP,CTDSAL,CTDSAL_FLAG_W,SALNTY,SALNTY_FLAG_W,CTDOXY,CTDOXY_FLAG_W,OXYGEN,OXYGEN_FLAG_W,SILCAT,SILCAT_FLAG_W,NITRAT,NITRAT_FLAG_W,NITRIT,NITRIT_FLAG_W,PHSPHT,PHSPHT_FLAG_W,CFC-11,CFC-11_FLAG_W,CFC-12,CFC-12_FLAG_W,SF6,SF6_FLAG_W,TCARBN,TCARBN_FLAG_W,ALKALI,ALKALI_FLAG_W,PH_SWS,PH_SWS_FLAG_W,PH_TMP,DELC13,DELC13_FLAG_W,DELC14,DELC14_FLAG_W,C14ERR,CCL4,CCL4_FLAG_W,DOC,DOC_FLAG_W,N2O,N2O_FLAG_W,CALCIUM,CALCIUM_FLAG_W,SAMPNO_U,DNSSAL,DNSSAL_FLAG_W,DNSSAL2,DNSSAL2_FLAG_W,SALNTY_DNSSAL,SALNTY_DNSSAL_FLAG_W,SALNTY_DNSSAL2,SALNTY_DNSSAL2_FLAG_W
,,,,,,,,,,,METERS,DBAR,ITS-90,PSS-78,,PSS-78,,UMOL/KG,,UMOL/KG,,UMOL/KG,,UMOL/KG,,UMOL/KG,,UMOL/KG,,PMOL/KG,,PMOL/KG,,FMOL/KG,,UMOL/KG,,UMOL/KG,,,,DEG C,/MILLE,,/MILLE,,/MILLE,PMOL/KG,,UMOL/KG,,NMOL/KG,,MMOL/KG,,,G/KG,,G/KG,,PSS-78,,PSS-78,
33RO20180423,        I7N,      68,          1,        101,      11010,2,20180520,       0849,    -2.9978,    56.1927,       4217,  4264.0,   1.4748,  34.7235,2,  34.7341,2,    154.1,2, 177.6840,2,    133.0,6,     33.9,6,     0.00,6,    2.363,6,   0.010,2,   0.006,2,   0.0074,2,  2297.7,6,  2405.5,2,   7.5991,6,    25.00, -999.00,9, -999.00,9, -999.00,-999.000,1,  -999.0,9,     -999.0,1,     -999.0,9,          1,     -999.0,9,     -999.0,9,     -999.0,9,     -999.0,9
33RO20180423,        I7N,      68,          1,        102,      11101,2,20180520,       0849,    -2.9978,    56.1927,       4217,  3993.4,   1.5064,  34.7256,2,  34.7258,2,    151.7,2, 174.1510,2,    132.7,6,     34.1,6,     0.00,6,    2.373,6,   0.007,2,   0.003,2,   0.0134,2,  2300.3,2,  2404.4,6,-999.0000,9,  -999.00, -999.00,9, -999.00,9, -999.00,-999.000,1,  -999.0,9,     -999.0,1,     -999.0,9,          2,     -999.0,9,     -999.0,9,     -999.0,9,     -999.0,9
33RO20180423,        I7N,      68,          1,        103,      11102,2,20180520,       0849,    -2.9978,    56.1927,       4217,  3700.4,   1.5738,  34.7285,2,  34.7299,2,    148.5,2, 170.7150,2,    132.3,6,     34.2,6,     0.00,6,    2.381,6,   0.005,2,   0.004,2,        0,2,  2304.4,2,  2405.6,2,-999.0000,9,  -999.00, -999.00,9, -999.00,9, -999.00,-999.000,1,  -999.0,9,     -999.0,1,     -999.0,9,          3,     -999.0,9,     -999.0,9,     -999.0,9,     -999.0,9
33RO20180423,        I7N,      68,          1,        104,      11103,2,20180520,       0849,    -2.9978,    56.1927,       4217,  3400.0,   1.6755,  34.7322,2,  34.7362,2,    144.9,2, 165.9210,2,    131.3,6,     34.3,6,     0.00,6,    2.403,6,   0.003,2,   0.002,2,    0.005,2,  -999.0,9,  -999.0,9,-999.0000,9,  -999.00, -999.00,9, -999.00,9, -999.00,-999.000,1,  -999.0,9,     -999.0,1,     -999.0,9,          4,     -999.0,9,     -999.0,9,     -999.0,9,     -999.0,9
33RO20180423,        I7N,      68,          1,        105,      11104,2,20180520,       0849,    -2.9978,    56.1927,       4217,  3101.4,   1.7196,  34.7329,2,  34.7351,2,    144.9,2, 165.6930,2,    128.9,2,     34.2,2,     0.00,2,    2.402,2,   0.003,2,   0.002,2,        0,2,  2302.4,2,  2406.3,2,   7.5910,2,    25.00, -999.00,9, -999.00,9, -999.00,-999.000,1,  -999.0,9,     -999.0,1,     -999.0,9,          5,     -999.0,9,     -999.0,9,     -999.0,9,     -999.0,9
33RO20180423,        I7N,      68,          1,        106,      11105,2,20180520,       0849,    -2.9978,    56.1927,       4217,  2799.9,   1.8199,  34.7376,2,  34.7383,2,    141.1,2, 160.6500,2,    128.5,2,     34.5,2,     0.00,2,    2.418,2,   0.002,2,   0.001,2,        0,2,  2304.4,2,  2406.2,2,   7.5835,2,    25.00, -999.00,9, -999.00,9, -999.00,-999.000,1,  -999.0,9,     -999.0,1,     -999.0,9,          6,     -999.0,9,     -999.0,9,     -999.0,9,     -999.0,9
33RO20180423,        I7N,      68,          1,        107,      11106,2,20180520,       0849,    -2.9978,    56.1927,       4217,  2501.0,   2.0089,  34.7420,2,  34.7513,2,    137.7,2, 156.0470,2,    125.3,2,     34.6,2,     0.00,2,    2.444,2,   0.004,2,   0.002,2,   0.0111,2,  -999.0,9,  -999.0,9,-999.0000,9,  -999.00, -999.00,9, -999.00,9, -999.00,-999.000,1,  -999.0,9,     -999.0,1,     -999.0,9,          7,     -999.0,9,     -999.0,9,     -999.0,9,     -999.0,9
33RO20180423,        I7N,      68,          1,        108,      11107,2,20180520,       0849,    -2.9978,    56.1927,       4217,  2201.2,   2.3390,  34.7541,2,  34.8130,2,    128.4,2, 144.8850,2,    122.7,2,     35.0,2,     0.00,2,    2.477,2,   0.002,2,   0.002,2,        0,2,  2307.0,2,  2400.1,2,   7.5643,2,    25.00, -999.00,9, -999.00,9, -999.00,-999.000,1,  -999.0,9,     -999.0,1,     -999.0,9,          8,     -999.0,9,     -999.0,9,     -999.0,9,     -999.0,9
33RO20180423,        I7N,      68,          1,        109,      11108,2,20180520,       0849,    -2.9978,    56.1927,       4217,  1884.0,   2.8321,  34.7660,2,  34.7690,2,    117.9,2, 132.2810,2,    116.7,2,     35.5,2,     0.00,2,    2.534,2,   0.004,2,   0.002,2,    0.005,2,  -999.0,9,  -999.0,9,-999.0000,9,  -999.00, -999.00,9, -999.00,9, -999.00,-999.000,1,  -999.0,9,     -999.0,1,     -999.0,9,          9,     -999.0,9,     -999.0,9,     -999.0,9,     -999.0,9
33RO20180423,        I7N,      68,          1,        110,      11109,2,20180520,       0849,    -2.9978,    56.1927,       4217,  1632.9,   3.8015,  34.8065,2,  34.8081,2,     96.9,2, 108.8300,2,    107.3,2,     36.2,2,     0.00,2,    2.625,2,   0.010,2,   0.007,2,        0,2,  2306.6,2,  2385.0,2,   7.5265,2,    25.00, -999.00,9, -999.00,9, -999.00,-999.000,1,  -999.0,9,     -999.0,1,     -999.0,9,         10,     -999.0,9,     -999.0,9,     -999.0,9,     -999.0,9
33RO20180423,        I7N,      68,          1,        111,      11110,2,20180520,       0849,    -2.9978,    56.1927,       4217,  1367.1,   4.9986,  34.8492,2,  34.8518,2,     74.6,2,  83.3640,2,     97.2,2,     36.9,2,     0.00,2,    2.696,2,   0.022,2,   0.013,2,   0.0167,2,  -999.0,9,  -999.0,9,-999.0000,9,  -999.00, -999.00,9, -999.00,9, -999.00,-999.000,1,  -999.0,9,     -999.0,1,     -999.0,9,         11,     -999.0,9,     -999.0,9,     -999.0,9,     -999.0,9
33RO20180423,        I7N,      68,          1,        112,      11111,2,20180520,       0849,    -2.9978,    56.1927,       4217,  1167.3,   5.9871,  34.9266,2,  34.9261,2,     60.0,2,  66.8750,2,     88.0,2,     36.9,2,     0.00,2,    2.730,2,   0.053,6,   0.030,6,   0.0028,6,  2301.9,2,  2369.0,2,   7.4864,2,    25.00, -999.00,9, -999.00,9, -999.00,-999.000,1,  -999.0,9,     -999.0,1,     -999.0,9,         12,     -999.0,9,     -999.0,9,     -999.0,9,     -999.0,9
33RO20180423,        I7N,      68,          1,        113,      11112,2,20180520,       0849,    -2.9978,    56.1927,       4217,   949.8,   6.3055,  34.8985,2,  34.9104,2,     61.8,2,  68.8010,2,     82.0,2,     36.4,2,     0.00,2,    2.684,2,   0.098,2,   0.054,2,   0.0259,2,  -999.0,9,  -999.0,9,-999.0000,9,  -999.00, -999.00,9, -999.00,9, -999.00,-999.000,1,  -999.0,9,     -999.0,1,     -999.0,9,         13,     -999.0,9,     -999.0,9,     -999.0,9,     -999.0,9
33RO20180423,        I7N,      68,          1,        114,      11113,2,20180520,       0849,    -2.9978,    56.1927,       4217,   800.3,   7.4845,  34.9142,2,  34.9158,2,     61.6,2,  68.2080,2,     65.9,2,     35.1,2,     0.00,2,    2.565,2,   0.302,2,   0.161,2,   0.0532,2,  2275.3,2,  2346.0,2,   7.5024,2,    25.00, -999.00,9, -999.00,9, -999.00,-999.000,1,  -999.0,9,     -999.0,1,     -999.0,9,         14,     -999.0,9,     -999.0,9,     -999.0,9,     -999.0,9
33RO20180423,        I7N,      68,          1,        115,      11114,2,20180520,       0849,    -2.9978,    56.1927,       4217,   651.0,   8.5686,  34.9275,2,  34.9272,2,     70.8,2,  77.5290,2,     48.9,2,     32.7,2,     0.00,2,    2.360,2,   0.700,2,   0.375,2,   0.1692,2,  2251.5,2,  2331.3,2,   7.5285,2,    25.00, -999.00,9, -999.00,9, -999.00,-999.000,1,  -999.0,9,     -999.0,1,     -999.0,9,         15,     -999.0,9,     -999.0,9,     -999.0,9,     -999.0,9
33RO20180423,        I7N,      68,          1,        116,      11115,2,20180520,       0849,    -2.9978,    56.1927,       4217,   483.7,   9.4917,  34.8795,2,  34.8826,2,    106.8,2, 113.9810,2,     30.3,2,     27.9,2,     0.00,2,    1.956,2,   1.616,6,   0.856,6,   0.4451,6,  2210.6,2,  2316.4,2,   7.5951,2,    25.00, -999.00,9, -999.00,9, -999.00,-999.000,1,  -999.0,9,     -999.0,1,     -999.0,9,         16,     -999.0,9,     -999.0,9,     -999.0,9,     -999.0,9
33RO20180423,        I7N,      68,          1,        117,      11116,2,20180520,       0849,    -2.9978,    56.1927,       4217,   375.4,  10.7402,  34.9764,2,  34.9774,2,    101.0,2, 108.6240,2,     23.4,2,     26.0,2,     0.00,2,    1.799,2,   1.910,2,   1.028,2,   0.5641,2,  -999.0,9,  -999.0,9,-999.0000,9,  -999.00, -999.00,9, -999.00,9, -999.00,-999.000,1,  -999.0,9,     -999.0,1,     -999.0,9,         17,     -999.0,9,     -999.0,9,     -999.0,9,     -999.0,9
33RO20180423,        I7N,      68,          1,        118,      11117,2,20180520,       0849,    -2.9978,    56.1927,       4217,   299.9,  11.7475,  35.0378,2,  35.0380,6,    115.2,2, 120.5420,2,     18.5,2,     22.8,2,     0.00,2,    1.599,2,   2.165,2,   1.196,2,   0.8045,2,  2189.7,2,  2313.5,2,   7.6491,2,    25.00, -999.00,9, -999.00,9, -999.00,-999.000,1,  -999.0,9,     -999.0,1,     -999.0,9,         18,     -999.0,9,     -999.0,9,     -999.0,9,     -999.0,9
33RO20180423,        I7N,      68,          1,        119,      11083,2,20180520,       0849,    -2.9978,    56.1927,       4217,   213.5,  13.6188,  35.1493,2,  35.1517,2,    103.4,2, 111.5040,2,     16.2,2,     20.8,2,     0.00,2,    1.474,2,   2.147,2,   1.215,2,   0.8736,2,  -999.0,9,  -999.0,9,-999.0000,9,  -999.00, -999.00,9, -999.00,9, -999.00,-999.000,1,  -999.0,9,     -999.0,1,     -999.0,9,         19,     -999.0,9,     -999.0,9,     -999.0,9,     -999.0,9
33RO20180423,        I7N,      68,          1,        120,      11118,2,20180520,       0849,    -2.9978,    56.1927,       4217,   173.0,  14.3611,  35.1779,2,  35.1804,2,     92.9,2, 100.4160,2,     16.0,2,     20.9,2,     0.01,2,    1.483,2,   2.075,2,   1.187,2,   0.8751,2,  2181.6,2,  2314.7,2,   7.6732,2,    25.00, -999.00,9, -999.00,9, -999.00,-999.000,1,  -999.0,9,     -999.0,1,     -999.0,9,         20,     -999.0,9,     -999.0,9,     -999.0,9,     -999.0,9
33RO20180423,        I7N,      68,          1,        121,      11119,2,20180520,       0849,    -2.9978,    56.1927,       4217,   124.9,  16.0151,  35.2327,2,  35.2407,2,     85.1,2,  91.2870,2,     14.8,2,     20.2,2,     0.01,2,    1.446,2,   1.970,2,   1.148,2,   0.9732,2,  -999.0,9,  -999.0,9,-999.0000,9,  -999.00, -999.00,9, -999.00,9, -999.00,-999.000,1,  -999.0,9,     -999.0,1,     -999.0,9,         21,     -999.0,9,     -999.0,9,     -999.0,9,     -999.0,9
33RO20180423,        I7N,      68,          1,        122,      11120,2,20180520,       0849,    -2.9978,    56.1927,       4217,    93.4,  18.5692,  35.3814,2,  35.3824,2,     99.1,2, 105.5000,2,     12.1,2,     16.6,2,     0.03,2,    1.247,2,   1.866,2,   1.108,2,   1.0502,2,  2150.0,2,  2319.9,6,   7.7719,2,    25.00, -999.00,9, -999.00,9, -999.00,-999.000,1,  -999.0,9,     -999.0,1,     -999.0,9,         22,     -999.0,9,     -999.0,9,     -999.0,9,     -999.0,9
33RO20180423,        I7N,      68,          1,        123,      11121,2,20180520,       0849,    -2.9978,    56.1927,       4217,    50.7,  26.0908,  35.4875,2,  35.4913,2,    162.4,2, 171.0480,2,      3.1,2,      3.1,2,     0.77,2,    0.466,2,   1.572,2,   0.988,2,   1.3642,2,  2046.6,2,  2323.0,2,   7.9821,6,    25.00, -999.00,9, -999.00,9, -999.00,-999.000,1,  -999.0,9,     -999.0,1,     -999.0,9,         23,     -999.0,9,     -999.0,9,     -999.0,9,     -999.0,9
33RO20180423,        I7N,      68,          1,        124,      11122,2,20180520,       0849,    -2.9978,    56.1927,       4217,     3.7,  28.9879,  35.4177,2,  35.4189,2,    187.1,2, 195.6690,2,      1.5,2,      0.0,2,     0.01,2,    0.145,2,   1.434,2,   0.910,2,   1.4106,2,  1996.6,2,  2319.5,2,   8.0640,2,    25.00, -999.00,9, -999.00,9, -999.00,-999.000,1,  -999.0,9,     -999.0,1,     -999.0,9,         24,     -999.0,9,     -999.0,9,     -999.0,9,     -999.0,9