BOTTLE,20230801CCHSIOCBG
EXPOCODE,SECT_ID,STNNBR,CASTNO,SAMPNO,BTLNBR,BTLNBR_FLAG_W,DATE,TIME,LATITUDE,LONGITUDE,DEPTH,CTDPRS,CTDTMP,CTDSAL,CTDSAL_FLAG_W,SALNTY,SALNTY_FLAG_W,CTDOXY,CTDOXY_FLAG_W,OXYGEN,OXYGEN_FLAG_W,SILCAT,SILCAT_FLAG_W,NITRAT,NITRAT_FLAG_W,NITRIT,NITRIT_FLAG_W,PHSPHT,PHSPHT_FLAG_W,CFC-11,CFC-11_FLAG_W,CFC-12,CFC-12_FLAG_W,SF6,SF6_FLAG_W,TCARBN,TCARBN_FLAG_W,ALKALI,ALKALI_FLAG_W,PH_SWS,PH_SWS_FLAG_W,PH_TMP,DELC13,DELC13_FLAG_W,DELC14,DELC14_FLAG_W,C14ERR,CCL4,CCL4_FLAG_W,DOC,DOC_FLAG_W,N2O,N2O_FLAG_W,CALCIUM,CALCIUM_FLAG_W,SAMPNO_U,DNSSAL,DNSSAL_FLAG_W,DNSSAL2,DNSSAL2_FLAG_W,SALNTY_DNSSAL,SALNTY_DNSSAL_FLAG_W,SALNTY_DNSSAL2,SALNTY_DNSSAL2_FLAG_W
,,,,,,,,,,,METERS,DBAR,ITS-90,PSS-78,,PSS-78,,UMOL/KG,,UMOL/KG,,UMOL/KG,,UMOL/KG,,UMOL/KG,,UMOL/KG,,PMOL/KG,,PMOL/KG,,FMOL/KG,,UMOL/KG,,UMOL/KG,,,,DEG C,/MILLE,,/MILLE,,/MILLE,PMOL/KG,,UMOL/KG,,NMOL/KG,,MMOL/KG,,,G/KG,,G/KG,,PSS-78,,PSS-78,
33RO20180423,        I7N,     113,          1,        101,      11010,9,20180601,       0756,    15.4187,    65.6215,       3803,  3841.4,   1.7170,  34.7351,2,  34.7413,2,    118.0,2, 135.2840,2,    146.2,6,     36.6,6,     0.01,6,    2.564,6,   0.012,2,   0.008,2,        0,2,  2356.6,2,  2466.2,2,   7.5876,6,    25.00, -999.00,9, -999.00,9, -999.00,-999.000,9,  -999.0,9,     -999.0,9,     -999.0,9,          1,    34.9192,2,     -999.0,9,    34.7377,2,     -999.0,9
33RO20180423,        I7N,     113,          1,        102,      11101,9,20180601,       0756,    15.4187,    65.6215,       3803,  3500.1,   1.7117,  34.7370,2,  34.7421,2,    123.6,2, 141.0470,2,    144.1,6,     36.1,6,     0.00,6,    2.536,6,-999.000,9,-999.000,9,-999.0000,9,  2342.5,2,  2446.6,6,   7.5788,2,    25.00, -999.00,9, -999.00,9, -999.00,-999.000,9,    42.7,3,     -999.0,9,     -999.0,9,          2,    34.9199,2,     -999.0,9,    34.7398,2,     -999.0,9
33RO20180423,        I7N,     113,          1,        103,      11102,9,20180601,       0756,    15.4187,    65.6215,       3803,  3000.8,   1.7818,  34.7430,2,  34.7478,2,    119.2,2, 136.8980,2,    143.8,6,     36.2,6,     0.00,6,    2.558,6,-999.000,9,-999.000,9,-999.0000,9,  2342.7,2,  2437.2,2,   7.5649,2,    25.00, -999.00,9, -999.00,9, -999.00,-999.000,9,  -999.0,9,     -999.0,9,     -999.0,9,          3,    34.9232,2,     -999.0,9,    34.7434,2,     -999.0,9
33RO20180423,        I7N,     113,          1,        104,      11103,9,20180601,       0756,    15.4187,    65.6215,       3803,  2600.7,   2.0226,  34.7597,2,  34.7637,2,    106.9,2, 121.8250,2,    144.0,6,     36.7,6,     0.00,6,    2.641,6,-999.000,9,-999.000,9,-999.0000,9,  2347.9,2,  2439.5,2,   7.5433,2,    25.00, -999.00,9, -999.00,9, -999.00,-999.000,9,  -999.0,9,     -999.0,9,     -999.0,9,          4,    34.9410,2,     -999.0,9,    34.7604,2,     -999.0,9
33RO20180423,        I7N,     113,          1,        105,      11104,9,20180601,       0756,    15.4187,    65.6215,       3803,  2333.5,   2.3716,  34.7851,2,  34.7875,6,     95.2,2, 108.3110,2,    142.3,2,     37.4,2,     0.00,2,    2.699,2,-999.000,9,-999.000,9,-999.0000,9,  2352.5,2,  2433.8,2,   7.5240,2,    25.00, -999.00,9, -999.00,9, -999.00,-999.000,9,  -999.0,9,     -999.0,9,     -999.0,9,          5,    34.9660,2,     -999.0,9,    34.7860,2,     -999.0,9
33RO20180423,        I7N,     113,          1,        106,      11105,9,20180601,       0756,    15.4187,    65.6215,       3803,  1929.5,   3.2678,  34.8493,2,  34.8673,2,     77.4,2,  87.7290,2,    130.3,2,     37.8,2,     0.00,2,    2.802,2,-999.000,9,-999.000,9,-999.0000,9,  2346.1,2,  2419.1,6,   7.4960,2,    25.00, -999.00,9, -999.00,9, -999.00,-999.000,9,  -999.0,9,     -999.0,9,     -999.0,9,          6,    35.0280,2,     -999.0,9,    34.8489,2,     -999.0,9
33RO20180423,        I7N,     113,          1,        107,      11106,9,20180601,       0756,    15.4187,    65.6215,       3803,  1533.4,   5.1299,  35.0128,2,  35.0144,2,     38.7,2,  44.0710,2,    111.3,2,     39.0,2,     0.00,2,    2.990,2,   0.007,6,   0.006,6,   0.0032,6,  2344.7,2,  2402.1,2,   7.4462,6,    25.00, -999.00,9, -999.00,9, -999.00,-999.000,9,    43.9,3,     -999.0,9,     -999.0,9,          7,    35.1888,2,     -999.0,9,    35.0134,2,     -999.0,9
33RO20180423,        I7N,     113,          1,        108,      11107,9,20180601,       0756,    15.4187,    65.6215,       3803,  1066.8,   8.3943,  35.3340,2,  35.3355,2,      6.1,2,   9.4790,2,     78.3,2,     37.5,2,     0.00,2,    2.943,2,-999.000,9,-999.000,9,-999.0000,9,  2320.3,2,  2371.2,2,   7.4348,2,    25.00, -999.00,9, -999.00,9, -999.00,-999.000,9,    44.3,3,     -999.0,9,     -999.0,9,          8,    35.5063,2,     -999.0,9,    35.3333,2,     -999.0,9
33RO20180423,        I7N,     113,          1,        109,      11108,9,20180601,       0756,    15.4187,    65.6215,       3803,   867.3,   9.9595,  35.4794,2,  35.4808,2,      0.9,2,   2.9333,2,     64.1,2,     34.9,2,     0.00,2,    2.840,2,-999.000,9,-999.000,9,-999.0000,9,  2303.5,2,  2362.8,2,   7.4495,2,    25.00,    0.08,2, -117.00,2,    2.28,-999.000,9,    45.3,3,     -999.0,9,     -999.0,9,          9,    35.6493,2,     -999.0,9,    35.4786,2,     -999.0,9
33RO20180423,        I7N,     113,          1,        110,      11109,9,20180601,       0756,    15.4187,    65.6215,       3803,   663.9,  11.4004,  35.5812,2,  35.5870,2,      0.4,2,   2.8290,2,     49.4,2,     31.2,2,     0.00,2,    2.705,2,   0.230,2,   0.154,2,   0.0539,2,  2288.2,2,  2350.9,2,   7.4653,2,    25.00,    0.10,2,  -87.90,2,    1.83,-999.000,9,  -999.0,9,     -999.0,9,     -999.0,9,         10,    35.7541,2,     -999.0,9,    35.5841,2,     -999.0,9
33RO20180423,        I7N,     113,          1,        111,      11110,9,20180601,       0756,    15.4187,    65.6215,       3803,   433.7,  12.9313,  35.6302,2,  35.6305,2,      0.3,2,   2.1590,2,     35.0,2,     28.0,2,     0.01,2,    2.526,2,   0.619,2,   0.415,2,   0.2305,2,  2281.2,2,  2344.6,2,   7.4668,2,    25.00,   -0.09,2,  -41.50,2,    1.90,-999.000,9,    52.1,3,     -999.0,9,     -999.0,9,         11,    35.7982,2,     -999.0,9,    35.6282,2,     -999.0,9
33RO20180423,        I7N,     113,          1,        112,      11111,9,20180601,       0756,    15.4187,    65.6215,       3803,   317.7,  14.5891,  35.7691,2,  35.7651,2,      0.2,2,   2.8380,2,     29.5,2,     19.3,2,     4.07,2,    2.427,2,   0.853,2,   0.600,2,   0.3593,2,  2280.7,2,  2347.7,2,   7.4779,2,    25.00,   -0.17,2,  -19.60,2,    2.04,-999.000,9,    51.2,3,     -999.0,9,     -999.0,9,         12,    35.9313,2,     -999.0,9,    35.7617,2,     -999.0,9
33RO20180423,        I7N,     113,          1,        113,      11112,9,20180601,       0756,    15.4187,    65.6215,       3803,   267.8,  15.3525,  35.7298,2,  35.7759,2,      0.2,2,   2.4810,2,     26.9,2,     19.8,2,     2.54,2,    2.376,2,   0.963,2,   0.682,2,   0.4244,2,  2272.5,2,  2343.3,2,   7.4962,2,    25.00,   -0.19,2,   -7.25,2,    2.51,-999.000,9,    48.3,3,     -999.0,9,     -999.0,9,         13,    35.9451,2,     -999.0,9,    35.7759,2,     -999.0,9
33RO20180423,        I7N,     113,          1,        114,      11113,9,20180601,       0756,    15.4187,    65.6215,       3803,   213.4,  17.3402,  35.7595,2,  35.7584,2,      0.1,2,   2.6740,2,     23.6,2,     16.5,2,     4.41,2,    2.337,2,   1.030,2,   0.772,2,   0.5193,2,  2265.0,2,  2350.6,2,   7.5227,2,    25.00,   -0.34,2,    4.02,2,    2.85,-999.000,9,    53.9,3,     -999.0,9,     -999.0,9,         14,    35.9260,2,     -999.0,9,    35.7580,2,     -999.0,9
33RO20180423,        I7N,     113,          1,        115,      11114,9,20180601,       0756,    15.4187,    65.6215,       3803,   167.4,  19.7312,  35.8518,2,  35.8461,2,      0.2,2,   2.1150,2,     16.8,2,     24.3,2,     0.44,2,    2.201,2,   1.332,2,   0.883,2,   0.8123,2,  2240.3,2,  2341.8,2,   7.5833,2,    25.00,   -0.42,6,   11.20,6,    2.03,-999.000,9,    57.0,3,     -999.0,9,     -999.0,9,         15,    36.0149,2,     -999.0,9,    35.8450,2,     -999.0,9
33RO20180423,        I7N,     113,          1,        116,      11115,9,20180601,       0756,    15.4187,    65.6215,       3803,   147.5,  21.4920,  36.0909,2,  36.0828,2,     11.1,2,  10.4310,2,     12.5,2,     25.3,2,     0.02,2,    2.047,2,   1.473,2,   0.951,2,   1.0625,2,  2231.6,2,  2354.0,2,   7.6332,2,    25.00,   -0.38,2,    9.92,2,    1.99,-999.000,9,    59.8,3,     -999.0,9,     -999.0,9,         16,    36.2507,2,     -999.0,9,    36.0829,2,     -999.0,9
33RO20180423,        I7N,     113,          1,        117,      11116,9,20180601,       0756,    15.4187,    65.6215,       3803,   125.7,  23.6128,  36.3115,2,  36.3314,2,     58.4,2,  67.7680,2,      6.9,2,     19.2,2,     0.04,2,    1.480,2,   1.546,2,   0.983,2,   1.2959,2,  2176.9,2,  2367.7,2,   7.7918,2,    25.00,    0.01,2,    9.56,2,    1.94,-999.000,9,    68.7,3,     -999.0,9,     -999.0,9,         17,    36.4925,2,     -999.0,9,    36.3239,2,     -999.0,9
33RO20180423,        I7N,     113,          1,        118,      11117,9,20180601,       0756,    15.4187,    65.6215,       3803,   107.7,  25.0170,  36.4753,2,  36.4728,2,    135.0,2, 141.7320,2,      3.3,2,      9.8,2,     0.07,2,    0.891,2,   1.584,2,   1.000,2,   1.4116,2,  2110.2,2,  2381.0,2,   7.9362,2,    25.00,    0.48,2,   10.50,2,    2.05,-999.000,9,    68.7,3,     -999.0,9,     -999.0,9,         18,    36.6433,2,     -999.0,9,    36.4762,2,     -999.0,9
33RO20180423,        I7N,     113,          1,        119,      11083,9,20180601,       0756,    15.4187,    65.6215,       3803,    87.2,  26.0662,  36.4926,2,  36.4971,2,    167.2,2, 177.4310,2,      1.8,2,      2.0,2,     0.30,2,    0.519,2,   1.563,2,   0.986,2,   1.4863,2,  2083.7,2,  2387.8,2,   8.0068,2,    25.00,    0.85,2,   15.10,2,    1.96,-999.000,9,    78.2,3,     -999.0,9,     -999.0,9,         19,    36.6630,2,     -999.0,9,    36.4955,2,     -999.0,9
33RO20180423,        I7N,     113,          1,        120,      11118,9,20180601,       0756,    15.4187,    65.6215,       3803,    67.2,  27.8765,  36.5576,2,  36.5621,2,    200.6,2, 211.2920,2,      1.3,2,      0.0,2,     0.01,2,    0.263,2,   1.538,2,   0.967,2,   1.4536,2,  2047.7,2,  2390.7,2,   8.0730,2,    25.00,    1.11,2,   16.80,2,    1.83,-999.000,9,    86.1,3,     -999.0,9,     -999.0,9,         20,    36.7341,2,     -999.0,9,    36.5667,2,     -999.0,9
33RO20180423,        I7N,     113,          1,        121,      11119,9,20180601,       0756,    15.4187,    65.6215,       3803,    45.7,  29.7126,  36.2905,2,  36.3254,6,    197.8,2, 207.0070,2,      1.7,2,      0.0,2,     0.01,2,    0.214,2,   1.440,2,   0.916,2,   1.3842,2,  2025.5,2,  2378.2,2,   8.0891,2,    25.00,    1.05,2,   17.40,2,    1.80,-999.000,9,    84.2,3,     -999.0,9,     -999.0,9,         21,    36.4984,2,     -999.0,9,    36.3310,2,     -999.0,9
33RO20180423,        I7N,     113,          1,        122,      11120,9,20180601,       0756,    15.4187,    65.6215,       3803,    28.9,  30.4544,  36.0204,2,  36.0225,2,    180.8,2, 189.8050,2,      1.6,2,      0.0,2,     0.01,2,    0.112,2,   1.328,2,   0.854,2,    1.304,2,  2008.8,2,  2362.7,2,   8.0987,6,    25.00,    1.03,2,   14.70,2,    2.33,-999.000,9,    89.1,3,     -999.0,9,     -999.0,9,         22,    36.1921,2,     -999.0,9,    36.0263,2,     -999.0,9
33RO20180423,        I7N,     113,          1,        123,      11121,9,20180601,       0756,    15.4187,    65.6215,       3803,    18.6,  30.4534,  36.0176,2,  36.0193,2,    181.1,2, 189.3620,2,      1.6,2,      0.0,2,     0.00,2,    0.112,2,   1.331,2,   0.852,2,   1.3201,2,  2007.6,2,  2362.0,6,   8.1011,2,    25.00,    0.97,2,   13.70,2,    2.21,-999.000,9,    83.0,3,     -999.0,9,     -999.0,9,         23,    36.1915,2,     -999.0,9,    36.0263,2,     -999.0,9
33RO20180423,        I7N,     113,          1,        124,      11122,9,20180601,       0756,    15.4187,    65.6215,       3803,     4.6,  30.4433,  36.0173,2,  36.0228,2,    180.9,2, 189.6940,2,      1.6,2,      0.0,2,     0.01,2,    0.134,2,   1.333,2,   0.859,2,   1.3581,2,  2008.3,2,  2362.9,2,   8.1020,2,    25.00,    1.00,2,   14.50,2,    1.69,-999.000,9,    86.2,3,     -999.0,9,     -999.0,9,         24,    36.1902,2,     -999.0,9,    36.0247,2,     -999.0,9