BOTTLE,20230801CCHSIOCBG
EXPOCODE,SECT_ID,STNNBR,CASTNO,SAMPNO,BTLNBR,BTLNBR_FLAG_W,DATE,TIME,LATITUDE,LONGITUDE,DEPTH,CTDPRS,CTDTMP,CTDSAL,CTDSAL_FLAG_W,SALNTY,SALNTY_FLAG_W,CTDOXY,CTDOXY_FLAG_W,OXYGEN,OXYGEN_FLAG_W,SILCAT,SILCAT_FLAG_W,NITRAT,NITRAT_FLAG_W,NITRIT,NITRIT_FLAG_W,PHSPHT,PHSPHT_FLAG_W,CFC-11,CFC-11_FLAG_W,CFC-12,CFC-12_FLAG_W,SF6,SF6_FLAG_W,TCARBN,TCARBN_FLAG_W,ALKALI,ALKALI_FLAG_W,PH_SWS,PH_SWS_FLAG_W,PH_TMP,DELC13,DELC13_FLAG_W,DELC14,DELC14_FLAG_W,C14ERR,CCL4,CCL4_FLAG_W,DOC,DOC_FLAG_W,N2O,N2O_FLAG_W,CALCIUM,CALCIUM_FLAG_W,SAMPNO_U,DNSSAL,DNSSAL_FLAG_W,DNSSAL2,DNSSAL2_FLAG_W,SALNTY_DNSSAL,SALNTY_DNSSAL_FLAG_W,SALNTY_DNSSAL2,SALNTY_DNSSAL2_FLAG_W
,,,,,,,,,,,METERS,DBAR,ITS-90,PSS-78,,PSS-78,,UMOL/KG,,UMOL/KG,,UMOL/KG,,UMOL/KG,,UMOL/KG,,UMOL/KG,,PMOL/KG,,PMOL/KG,,FMOL/KG,,UMOL/KG,,UMOL/KG,,,,DEG C,/MILLE,,/MILLE,,/MILLE,PMOL/KG,,UMOL/KG,,NMOL/KG,,MMOL/KG,,,G/KG,,G/KG,,PSS-78,,PSS-78,
33RO20180423,        I7N,     115,          1,        101,      11010,2,20180601,       2038,    15.9632,    66.5638,       3800,  3858.6,   1.7240,  34.7353,2,  34.7420,6,    120.3,2, 137.2140,2,    145.2,6,     36.6,6,     0.01,6,    2.567,6,   0.010,2,   0.007,2,   0.0341,2,  2352.9,6,  2457.3,2,   7.5847,6,    25.00, -999.00,9, -999.00,9, -999.00,-999.000,1,  -999.0,9,     -999.0,1,     -999.0,9,          1,    34.9225,2,     -999.0,9,    34.7374,2,     -999.0,9
33RO20180423,        I7N,     115,          1,        102,      11101,2,20180601,       2038,    15.9632,    66.5638,       3800,  3587.1,   1.7279,  34.7371,2,  34.7376,2,    121.7,2, 138.6330,2,    144.4,6,     36.4,6,     0.01,6,    2.563,6,-999.000,9,-999.000,9,-999.0000,9,  2344.0,2,  2445.6,6,   7.5783,2,    25.00, -999.00,9, -999.00,9, -999.00,-999.000,9,    44.3,3,     -999.0,9,     -999.0,9,          2,    34.9206,2,     -999.0,9,    34.7394,2,     -999.0,9
33RO20180423,        I7N,     115,          1,        103,      11102,2,20180601,       2038,    15.9632,    66.5638,       3800,  3300.9,   1.7531,  34.7401,2,  34.7411,2,    117.3,2, 133.5970,2,    144.9,6,     36.4,6,     0.01,6,    2.590,6,   0.009,6,   0.010,6,   0.0073,6,  2347.6,2,  2444.8,2,   7.5678,2,    25.00, -999.00,9, -999.00,9, -999.00,-999.000,1,    43.9,3,     -999.0,1,     -999.0,9,          3,    34.9265,2,     -999.0,9,    34.7415,2,     -999.0,9
33RO20180423,        I7N,     115,          1,        104,      11103,2,20180601,       2038,    15.9632,    66.5638,       3800,  2999.9,   1.7968,  34.7440,2,  34.7645,2,    116.1,2, 131.6530,2,    144.5,6,     36.5,6,     0.00,6,    2.583,6,-999.000,9,-999.000,9,-999.0000,9,  2345.7,2,  2442.7,2,   7.5617,2,    25.00, -999.00,9, -999.00,9, -999.00,-999.000,9,  -999.0,9,     -999.0,9,     -999.0,9,          4,    34.9252,2,     -999.0,9,    34.7459,2,     -999.0,9
33RO20180423,        I7N,     115,          1,        105,      11104,2,20180601,       2038,    15.9632,    66.5638,       3800,  2700.9,   1.9474,  34.7541,2,  34.7555,2,    111.4,2, 126.2530,2,    143.5,2,     36.7,2,     0.01,2,    2.637,2,-999.000,9,-999.000,9,-999.0000,9,  2343.9,2,  2435.9,2,   7.5497,2,    25.00, -999.00,9, -999.00,9, -999.00,-999.000,9,    46.0,3,     -999.0,9,     -999.0,9,          5,    34.9397,2,     -999.0,9,    34.7554,2,     -999.0,9
33RO20180423,        I7N,     115,          1,        106,      11105,2,20180601,       2038,    15.9632,    66.5638,       3800,  2400.5,   2.2779,  34.7774,2,  34.7875,2,     99.3,2, 112.0060,2,    142.2,2,     37.2,2,     0.00,2,    2.699,2,-999.000,9,-999.000,9,-999.0000,9,  2347.7,2,  2432.0,2,   7.5296,2,    25.00, -999.00,9, -999.00,9, -999.00,-999.000,9,    46.6,3,     -999.0,9,     -999.0,9,          6,    34.9601,2,     -999.0,9,    34.7792,2,     -999.0,9
33RO20180423,        I7N,     115,          1,        107,      11106,2,20180601,       2038,    15.9632,    66.5638,       3800,  2099.6,   2.7810,  34.8114,2,  34.8152,2,     88.7,2,  99.8480,2,    135.5,2,     37.7,2,     0.00,2,    2.763,2,-999.000,9,-999.000,9,-999.0000,9,  2345.9,2,  2423.8,2,   7.5117,2,    25.00, -999.00,9, -999.00,9, -999.00,-999.000,9,    46.2,3,     -999.0,9,     -999.0,9,          7,    34.9963,2,     -999.0,9,    34.8123,2,     -999.0,9
33RO20180423,        I7N,     115,          1,        108,      11107,2,20180601,       2038,    15.9632,    66.5638,       3800,  1800.3,   3.5828,  34.8706,2,  34.8720,2,     71.6,2,  80.2950,2,    125.9,2,     38.3,2,     0.00,2,    2.853,2,-999.000,9,-999.000,9,-999.0000,9,  2344.8,2,  2414.5,2,   7.4867,2,    25.00, -999.00,9, -999.00,9, -999.00,-999.000,9,    48.4,3,     -999.0,9,     -999.0,9,          8,    35.0583,2,     -999.0,9,    34.8704,2,     -999.0,9
33RO20180423,        I7N,     115,          1,        109,      11108,2,20180601,       2038,    15.9632,    66.5638,       3800,  1551.1,   4.8388,  34.9792,2,  34.9818,2,     46.5,2,  52.3500,2,    112.9,2,     39.0,2,     0.01,2,    2.968,2,-999.000,9,-999.000,9,-999.0000,9,  2343.6,2,  2401.4,2,   7.4547,2,    25.00, -999.00,9, -999.00,9, -999.00,-999.000,9,  -999.0,9,     -999.0,9,     -999.0,9,          9,    35.1637,2,     -999.0,9,    34.9789,2,     -999.0,9
33RO20180423,        I7N,     115,          1,        110,      11109,2,20180601,       2038,    15.9632,    66.5638,       3800,  1300.5,   6.5031,  35.1217,2,  35.1229,2,     24.0,2,  27.6410,2,     94.9,2,     38.9,2,     0.01,2,    3.002,2,-999.000,9,-999.000,9,-999.0000,9,  2331.8,2,  2382.9,2,   7.4377,2,    25.00, -999.00,9, -999.00,9, -999.00,-999.000,9,    51.6,3,     -999.0,9,     -999.0,9,         10,    35.3047,2,     -999.0,9,    35.1229,2,     -999.0,9
33RO20180423,        I7N,     115,          1,        111,      11110,2,20180601,       2038,    15.9632,    66.5638,       3800,  1090.9,   8.1302,  35.2986,2,  35.3014,2,      7.1,2,   9.4190,2,     80.1,2,     37.8,2,     0.00,2,    2.983,2,-999.000,9,-999.000,9,-999.0000,9,  2324.0,2,  2373.5,2,   7.4317,2,    25.00, -999.00,9, -999.00,9, -999.00,-999.000,9,    50.2,3,     -999.0,9,     -999.0,9,         11,    35.4813,2,     -999.0,9,    35.2994,2,     -999.0,9
33RO20180423,        I7N,     115,          1,        112,      11111,2,20180601,       2038,    15.9632,    66.5638,       3800,   901.3,   9.6838,  35.4505,2,  35.4522,2,      1.4,2,   3.0760,2,     66.3,2,     35.6,2,     0.00,2,    2.875,2,-999.000,9,-999.000,9,-999.0000,9,  2309.2,2,  2362.1,2,   7.4472,2,    25.00, -999.00,9, -999.00,9, -999.00,-999.000,9,  -999.0,9,     -999.0,9,     -999.0,9,         12,    35.6256,2,     -999.0,9,    35.4519,2,     -999.0,9
33RO20180423,        I7N,     115,          1,        113,      11112,2,20180601,       2038,    15.9632,    66.5638,       3800,   746.9,  11.0174,  35.5701,2,  35.5564,2,      0.2,2,   1.4890,2,     53.8,2,     32.2,2,     0.01,2,    2.762,2,-999.000,9,-999.000,9,-999.0000,9,  2296.0,2,  2356.3,6,   7.4613,2,    25.00, -999.00,9, -999.00,9, -999.00,-999.000,9,  -999.0,9,     -999.0,9,     -999.0,9,         13,    35.7448,2,     -999.0,9,    35.5705,2,     -999.0,9
33RO20180423,        I7N,     115,          1,        114,      11113,2,20180601,       2038,    15.9632,    66.5638,       3800,   599.4,  12.1663,  35.6511,2,  35.6956,2,      0.2,2,   1.4200,2,     42.4,2,     29.3,2,     0.01,2,    2.654,2,   0.370,2,   0.253,2,   0.1167,2,  2284.4,2,  2348.7,2,   7.4729,6,    25.00, -999.00,9, -999.00,9, -999.00,-999.000,1,  -999.0,9,     -999.0,1,     -999.0,9,         14,    35.8252,2,     -999.0,9,    35.6509,2,     -999.0,9
33RO20180423,        I7N,     115,          1,        115,      11114,2,20180601,       2038,    15.9632,    66.5638,       3800,   450.5,  13.0360,  35.6123,2,  35.6132,2,      0.2,2,   1.1860,2,     42.4,2,     29.2,2,     0.01,2,    2.639,2,   0.612,2,   0.421,2,   0.2193,2,  2282.0,6,  2343.0,2,   7.4649,2,    25.00, -999.00,9, -999.00,9, -999.00,-999.000,1,    51.9,3,     -999.0,1,     -999.0,9,         15,    35.7863,2,     -999.0,9,    35.6118,2,     -999.0,9
33RO20180423,        I7N,     115,          1,        116,      11115,2,20180601,       2038,    15.9632,    66.5638,       3800,   351.3,  13.9772,  35.5858,2,  35.5891,2,      0.2,2,   1.5260,2,     29.7,2,     23.6,2,     2.32,2,    2.451,2,   0.865,2,   0.570,2,   0.3063,2,  2275.5,2,  2338.1,2,   7.4701,2,    25.00, -999.00,9, -999.00,9, -999.00,-999.000,1,  -999.0,9,     -999.0,1,     -999.0,9,         16,    35.7600,2,     -999.0,9,    35.5890,2,     -999.0,9
33RO20180423,        I7N,     115,          1,        117,      11116,2,20180601,       2038,    15.9632,    66.5638,       3800,   285.2,  15.3150,  35.6652,2,  35.6377,2,      0.2,2,   1.3770,2,     27.0,2,     20.9,2,     2.26,2,    2.399,2,   0.936,2,   0.657,2,    0.361,2,  2269.2,2,  2341.3,2,   7.4900,2,    25.00, -999.00,9, -999.00,9, -999.00,-999.000,1,    48.9,3,     -999.0,1,     -999.0,9,         17,    35.8120,2,     -999.0,9,    35.6372,2,     -999.0,9
33RO20180423,        I7N,     115,          1,        118,      11117,2,20180601,       2038,    15.9632,    66.5638,       3800,   250.2,  16.0382,  35.5121,2,  35.5475,2,      0.2,2,   1.4855,2,     24.5,2,     22.1,2,     1.45,2,    2.365,2,   1.068,2,   0.731,2,   0.4464,2,  2258.4,2,  2333.6,2,   7.5064,2,    25.00, -999.00,9, -999.00,9, -999.00,-999.000,1,    53.9,3,     -999.0,1,     -999.0,9,         18,    35.7159,2,     -999.0,9,    35.5463,2,     -999.0,9
33RO20180423,        I7N,     115,          1,        119,      11083,2,20180601,       2038,    15.9632,    66.5638,       3800,   201.0,  18.4197,  35.6460,2,  35.6402,2,      1.0,2,   2.4610,2,     18.9,2,     24.6,2,     0.28,2,    2.236,2,   1.280,2,   0.847,2,   0.7496,2,  2238.3,2,  2334.2,2,   7.5630,2,    25.00, -999.00,9, -999.00,9, -999.00,-999.000,1,    53.9,3,     -999.0,1,     -999.0,9,         19,    35.8107,2,     -999.0,9,    35.6416,2,     -999.0,9
33RO20180423,        I7N,     115,          1,        120,      11118,2,20180601,       2038,    15.9632,    66.5638,       3800,   157.5,  20.5699,  35.6488,2,  35.6187,2,      4.1,2,   5.7970,2,     15.8,2,     25.9,2,     0.02,2,    2.026,2,   1.345,2,   0.847,2,   0.8204,2,  2213.2,2,  2327.7,2,   7.6176,2,    25.00, -999.00,9, -999.00,9, -999.00,-999.000,1,    56.5,3,     -999.0,1,     -999.0,9,         20,    35.7903,2,     -999.0,9,    35.6166,2,     -999.0,9
33RO20180423,        I7N,     115,          1,        121,      11119,2,20180601,       2038,    15.9632,    66.5638,       3800,   120.6,  24.1569,  35.9657,2,  35.9742,2,     56.7,2,  59.4800,2,      8.6,2,     17.9,2,     0.05,2,    1.415,2,   1.418,2,   0.898,2,    1.136,2,  2153.1,2,  2350.9,2,   7.7978,2,    25.00, -999.00,9, -999.00,9, -999.00,-999.000,1,    62.6,3,     -999.0,1,     -999.0,9,         21,    36.1447,2,     -999.0,9,    35.9747,2,     -999.0,9
33RO20180423,        I7N,     115,          1,        122,      11120,2,20180601,       2038,    15.9632,    66.5638,       3800,    80.5,  27.5357,  36.3865,2,  36.4107,2,    178.9,2, 184.9340,2,      1.6,2,      0.4,2,     0.08,2,    0.349,2,   1.495,2,   0.947,2,   1.3771,2,  2058.2,2,  2379.8,2,   8.0357,2,    25.00, -999.00,9, -999.00,9, -999.00,-999.000,1,    77.8,3,     -999.0,1,     -999.0,9,         22,    36.5840,2,     -999.0,9,    36.4148,2,     -999.0,9
33RO20180423,        I7N,     115,          1,        123,      11121,2,20180601,       2038,    15.9632,    66.5638,       3800,    40.6,  30.6482,  35.8150,2,  35.8675,2,    181.7,2, 194.2320,2,      1.4,2,      0.0,2,     0.00,2,    0.103,2,   1.353,2,   0.866,2,   1.2921,2,  1993.0,2,  2351.6,6,   8.1052,2,    25.00, -999.00,9, -999.00,9, -999.00,-999.000,1,    85.3,3,     -999.0,1,     -999.0,9,         23,    36.0380,2,     -999.0,9,    35.8732,2,     -999.0,9
33RO20180423,        I7N,     115,          1,        124,      11122,2,20180601,       2038,    15.9632,    66.5638,       3800,     3.6,  30.6526,  35.8065,2,  35.8100,2,    180.9,2, 189.2080,2,      1.4,2,      0.0,2,     0.01,2,    0.079,2,   1.314,2,   0.846,2,   1.2999,2,  1987.2,6,  2349.2,2,   8.1102,6,    25.00, -999.00,9, -999.00,9, -999.00,-999.000,1,    84.4,3,     -999.0,1,     -999.0,9,         24,    35.9813,2,     -999.0,9,    35.8140,2,     -999.0,9