BOTTLE,20230801CCHSIOCBG
EXPOCODE,SECT_ID,STNNBR,CASTNO,SAMPNO,BTLNBR,BTLNBR_FLAG_W,DATE,TIME,LATITUDE,LONGITUDE,DEPTH,CTDPRS,CTDTMP,CTDSAL,CTDSAL_FLAG_W,SALNTY,SALNTY_FLAG_W,CTDOXY,CTDOXY_FLAG_W,OXYGEN,OXYGEN_FLAG_W,SILCAT,SILCAT_FLAG_W,NITRAT,NITRAT_FLAG_W,NITRIT,NITRIT_FLAG_W,PHSPHT,PHSPHT_FLAG_W,CFC-11,CFC-11_FLAG_W,CFC-12,CFC-12_FLAG_W,SF6,SF6_FLAG_W,TCARBN,TCARBN_FLAG_W,ALKALI,ALKALI_FLAG_W,PH_SWS,PH_SWS_FLAG_W,PH_TMP,DELC13,DELC13_FLAG_W,DELC14,DELC14_FLAG_W,C14ERR,CCL4,CCL4_FLAG_W,DOC,DOC_FLAG_W,N2O,N2O_FLAG_W,CALCIUM,CALCIUM_FLAG_W,SAMPNO_U,DNSSAL,DNSSAL_FLAG_W,DNSSAL2,DNSSAL2_FLAG_W,SALNTY_DNSSAL,SALNTY_DNSSAL_FLAG_W,SALNTY_DNSSAL2,SALNTY_DNSSAL2_FLAG_W
,,,,,,,,,,,METERS,DBAR,ITS-90,PSS-78,,PSS-78,,UMOL/KG,,UMOL/KG,,UMOL/KG,,UMOL/KG,,UMOL/KG,,UMOL/KG,,PMOL/KG,,PMOL/KG,,FMOL/KG,,UMOL/KG,,UMOL/KG,,,,DEG C,/MILLE,,/MILLE,,/MILLE,PMOL/KG,,UMOL/KG,,NMOL/KG,,MMOL/KG,,,G/KG,,G/KG,,PSS-78,,PSS-78,
33RO20180423,        I7N,      74,          1,        101,      11010,2,20180521,       2331,    -0.5058,    57.2607,       4557,  4633.2,   1.3435,  34.7174,2,  34.7248,2,    160.3,2, 184.6710,2,    131.5,6,     33.8,6,     0.00,6,    2.336,6,   0.021,2,   0.013,2,        0,2,  2293.1,2,  2398.4,2,   7.6045,6,    25.00, -999.00,9, -999.00,9, -999.00,-999.000,1,  -999.0,9,     -999.0,1,     -999.0,9,          1,     -999.0,9,     -999.0,9,     -999.0,9,     -999.0,9
33RO20180423,        I7N,      74,          1,        102,      11101,2,20180521,       2331,    -0.5058,    57.2607,       4557,  4475.9,   1.3549,  34.7186,2,  34.7507,2,    158.8,2, 183.0750,2,    131.6,6,     33.8,6,     0.00,6,    2.336,6,   0.016,2,   0.008,2,   0.0112,2,  2291.1,2,  2398.0,2,   7.6012,2,    25.00, -999.00,9, -999.00,9, -999.00,-999.000,1,  -999.0,9,     -999.0,1,     -999.0,9,          2,     -999.0,9,     -999.0,9,     -999.0,9,     -999.0,9
33RO20180423,        I7N,      74,          1,        103,      11102,2,20180521,       2331,    -0.5058,    57.2607,       4557,  4300.3,   1.4143,  34.7217,2,  34.7246,2,    154.9,2, 178.8900,2,    132.7,6,     34.2,6,     0.00,6,    2.370,6,   0.011,2,   0.006,2,        0,2,  -999.0,9,  -999.0,9,-999.0000,9,  -999.00, -999.00,9, -999.00,9, -999.00,-999.000,1,  -999.0,9,     -999.0,1,     -999.0,9,          3,     -999.0,9,     -999.0,9,     -999.0,9,     -999.0,9
33RO20180423,        I7N,      74,          1,        104,      11103,2,20180521,       2331,    -0.5058,    57.2607,       4557,  4000.7,   1.4769,  34.7250,2,  34.7264,2,    151.1,2, 174.6550,2,    133.2,6,     34.1,6,     0.00,6,    2.388,6,   0.006,2,   0.004,2,        0,2,  2299.1,2,  2404.4,6,   7.5971,2,    25.00, -999.00,9, -999.00,9, -999.00,-999.000,1,    47.9,3,     -999.0,1,     -999.0,9,          4,     -999.0,9,     -999.0,9,     -999.0,9,     -999.0,9
33RO20180423,        I7N,      74,          1,        105,      11104,2,20180521,       2331,    -0.5058,    57.2607,       4557,  3700.8,   1.5641,  34.7287,2,  34.7308,2,    147.4,2, 169.6680,2,    133.1,2,     34.5,2,     0.00,2,    2.409,2,   0.003,2,   0.002,2,        0,2,  -999.0,9,  -999.0,9,-999.0000,9,  -999.00, -999.00,9, -999.00,9, -999.00,-999.000,1,  -999.0,9,     -999.0,1,     -999.0,9,          5,     -999.0,9,     -999.0,9,     -999.0,9,     -999.0,9
33RO20180423,        I7N,      74,          1,        106,      11105,2,20180521,       2331,    -0.5058,    57.2607,       4557,  3400.5,   1.6767,  34.7322,2,  34.7368,2,    143.9,2, 165.7470,2,    131.9,2,     34.5,2,     0.00,2,    2.416,2,   0.003,2,   0.002,2,   0.0137,2,  2302.1,2,  2407.2,2,   7.5904,2,    25.00, -999.00,9, -999.00,9, -999.00,-999.000,1,    47.1,3,     -999.0,1,     -999.0,9,          6,     -999.0,9,     -999.0,9,     -999.0,9,     -999.0,9
33RO20180423,        I7N,      74,          1,        107,      11106,2,20180521,       2331,    -0.5058,    57.2607,       4557,  3101.0,   1.8035,  34.7387,2,  34.7586,2,    138.7,2, 159.1200,2,    131.4,2,     34.9,2,     0.00,2,    2.441,2,   0.001,2,   0.002,2,   0.0061,2,  -999.0,9,  -999.0,9,-999.0000,9,  -999.00, -999.00,9, -999.00,9, -999.00,-999.000,1,    47.8,3,     -999.0,1,     -999.0,9,          7,     -999.0,9,     -999.0,9,     -999.0,9,     -999.0,9
33RO20180423,        I7N,      74,          1,        108,      11107,2,20180521,       2331,    -0.5058,    57.2607,       4557,  2800.5,   1.9290,  34.7438,2,  34.7485,6,    135.1,2, 154.4260,2,    129.7,2,     35.0,2,     0.00,2,    2.458,2,   0.002,2,   0.002,2,        0,2,  2308.3,2,  2394.5,4,   7.5778,2,    25.00, -999.00,9, -999.00,9, -999.00,-999.000,1,    47.7,3,     -999.0,1,     -999.0,9,          8,     -999.0,9,     -999.0,9,     -999.0,9,     -999.0,9
33RO20180423,        I7N,      74,          1,        109,      11108,2,20180521,       2331,    -0.5058,    57.2607,       4557,  2490.3,   2.1596,  34.7549,2,  34.7606,2,    128.0,2, 145.4750,2,    128.1,2,     35.3,2,     0.00,2,    2.497,2,   0.001,2,   0.002,2,        0,2,  -999.0,9,  -999.0,9,-999.0000,9,  -999.00, -999.00,9, -999.00,9, -999.00,-999.000,1,    50.1,3,     -999.0,1,     -999.0,9,          9,     -999.0,9,     -999.0,9,     -999.0,9,     -999.0,9
33RO20180423,        I7N,      74,          1,        110,      11109,2,20180521,       2331,    -0.5058,    57.2607,       4557,  2198.1,   2.5002,  34.7694,2,  34.7807,2,    119.1,2, 134.4480,2,    124.8,2,     35.7,2,     0.00,2,    2.542,2,   0.002,2,   0.002,2,        0,2,  2314.1,2,  2410.2,4,   7.5539,2,    25.00, -999.00,9, -999.00,9, -999.00,-999.000,1,    50.6,3,     -999.0,1,     -999.0,9,         10,     -999.0,9,     -999.0,9,     -999.0,9,     -999.0,9
33RO20180423,        I7N,      74,          1,        111,      11110,2,20180521,       2331,    -0.5058,    57.2607,       4557,  1882.6,   3.0025,  34.7863,2,  34.8095,2,    109.7,2, 122.7280,2,    117.7,2,     36.0,2,     0.00,2,    2.584,2,   0.003,6,   0.003,6,        0,6,  -999.0,9,  -999.0,9,-999.0000,9,  -999.00, -999.00,9, -999.00,9, -999.00,-999.000,1,    49.5,3,     -999.0,1,     -999.0,9,         11,     -999.0,9,     -999.0,9,     -999.0,9,     -999.0,9
33RO20180423,        I7N,      74,          1,        112,      11111,2,20180521,       2331,    -0.5058,    57.2607,       4557,  1633.2,   3.9494,  34.8304,2,  34.8385,6,     90.3,2, 100.8280,2,    109.1,2,     36.6,2,     0.00,2,    2.669,2,   0.007,2,   0.006,2,   0.0234,2,  2312.4,2,  2387.4,2,   7.5148,2,    25.00, -999.00,9, -999.00,9, -999.00,-999.000,1,    51.9,3,     -999.0,1,     -999.0,9,         12,     -999.0,9,     -999.0,9,     -999.0,9,     -999.0,9
33RO20180423,        I7N,      74,          1,        113,      11112,2,20180521,       2331,    -0.5058,    57.2607,       4557,  1365.5,   5.0076,  34.8785,2,  34.9438,2,     70.3,2,  77.8040,2,     99.5,2,     37.2,2,     0.00,2,    2.730,2,   0.013,2,   0.010,2,   0.0048,2,  -999.0,9,  -999.0,9,-999.0000,9,  -999.00, -999.00,9, -999.00,9, -999.00,-999.000,1,    52.0,3,     -999.0,1,     -999.0,9,         13,     -999.0,9,     -999.0,9,     -999.0,9,     -999.0,9
33RO20180423,        I7N,      74,          1,        114,      11113,2,20180521,       2331,    -0.5058,    57.2607,       4557,  1167.3,   5.8754,  34.9187,2,  34.9379,2,     56.5,2,  62.6350,2,     91.7,2,     37.5,2,     0.00,2,    2.759,2,   0.026,2,   0.017,2,        0,2,  2308.6,2,  2371.1,2,   7.4798,2,    25.00, -999.00,9, -999.00,9, -999.00,-999.000,1,  -999.0,9,     -999.0,1,     -999.0,9,         14,     -999.0,9,     -999.0,9,     -999.0,9,     -999.0,9
33RO20180423,        I7N,      74,          1,        115,      11114,2,20180521,       2331,    -0.5058,    57.2607,       4557,   950.7,   7.0977,  34.9847,2,  34.9891,2,     47.4,2,  52.6040,2,     77.2,2,     36.8,2,     0.00,2,    2.706,2,   0.104,2,   0.059,2,   0.0109,2,  2294.3,2,  2358.0,2,   7.4772,2,    25.00, -999.00,9, -999.00,9, -999.00,-999.000,1,  -999.0,9,     -999.0,1,     -999.0,9,         15,     -999.0,9,     -999.0,9,     -999.0,9,     -999.0,9
33RO20180423,        I7N,      74,          1,        116,      11115,2,20180521,       2331,    -0.5058,    57.2607,       4557,   800.5,   8.1226,  35.0537,2,  35.0583,2,     40.1,2,  44.0980,2,     66.6,2,     36.1,2,     0.00,2,    2.674,2,   0.191,2,   0.108,2,   0.0083,2,  2287.5,2,  2354.3,2,   7.4779,2,    25.00, -999.00,9, -999.00,9, -999.00,-999.000,1,  -999.0,9,     -999.0,1,     -999.0,9,         16,     -999.0,9,     -999.0,9,     -999.0,9,     -999.0,9
33RO20180423,        I7N,      74,          1,        117,      11116,2,20180521,       2331,    -0.5058,    57.2607,       4557,   650.1,   8.9358,  35.0382,2,  35.0427,2,     50.6,2,  55.1840,2,     52.3,2,     34.0,2,     0.00,2,    2.511,2,   0.496,2,   0.271,2,   0.1196,2,  2267.5,2,  2336.6,2,   7.5024,2,    25.00, -999.00,9, -999.00,9, -999.00,-999.000,1,    50.4,3,     -999.0,1,     -999.0,9,         17,     -999.0,9,     -999.0,9,     -999.0,9,     -999.0,9
33RO20180423,        I7N,      74,          1,        118,      11117,2,20180521,       2331,    -0.5058,    57.2607,       4557,   499.8,   9.8083,  35.0111,2,  35.0122,2,     72.4,2,  78.5460,2,     36.7,2,     30.7,2,     0.00,2,    2.208,2,   1.139,6,   0.613,6,   0.3151,6,  2237.6,2,  2311.0,3,   7.5470,2,    25.00, -999.00,9, -999.00,9, -999.00,-999.000,1,  -999.0,9,     -999.0,1,     -999.0,9,         18,     -999.0,9,     -999.0,9,     -999.0,9,     -999.0,9
33RO20180423,        I7N,      74,          1,        119,      11083,2,20180521,       2331,    -0.5058,    57.2607,       4557,   330.9,  11.0882,  35.0009,2,  35.0423,2,    109.6,2, 116.8340,2,     21.3,2,     24.4,2,     0.00,2,    1.713,2,   2.052,2,   1.123,2,   0.7046,2,  2198.0,2,  2311.7,2,   7.6312,2,    25.00, -999.00,9, -999.00,9, -999.00,-999.000,1,    60.2,3,     -999.0,1,     -999.0,9,         19,     -999.0,9,     -999.0,9,     -999.0,9,     -999.0,9
33RO20180423,        I7N,      74,          1,        120,      11118,2,20180521,       2331,    -0.5058,    57.2607,       4557,   216.7,  12.7361,  35.1087,2,  35.1134,2,    102.5,2, 109.3650,2,     18.1,2,     22.3,2,     0.00,2,    1.557,2,   2.116,2,   1.189,2,   0.8133,2,  2191.0,2,  2313.3,2,   7.6557,2,    25.00, -999.00,9, -999.00,9, -999.00,-999.000,1,    57.4,3,     -999.0,1,     -999.0,9,         20,     -999.0,9,     -999.0,9,     -999.0,9,     -999.0,9
33RO20180423,        I7N,      74,          1,        121,      11119,2,20180521,       2331,    -0.5058,    57.2607,       4557,   166.8,  13.6037,  35.1491,2,  35.1833,2,    100.8,2, 108.2600,2,     16.9,2,     21.2,2,     0.00,2,    1.501,2,   2.111,2,   1.210,2,   0.8809,2,  2185.9,2,  2313.9,2,   7.6714,2,    25.00, -999.00,9, -999.00,9, -999.00,-999.000,1,    59.7,3,     -999.0,1,     -999.0,9,         21,     -999.0,9,     -999.0,9,     -999.0,9,     -999.0,9
33RO20180423,        I7N,      74,          1,        122,      11120,2,20180521,       2331,    -0.5058,    57.2607,       4557,   116.9,  18.3720,  35.2926,2,  35.3019,2,     82.6,2,  87.7750,2,     13.1,2,     18.8,2,     0.05,2,    1.350,2,   1.836,2,   1.102,2,    0.996,2,  2159.8,2,  2312.7,2,   7.7308,2,    25.00, -999.00,9, -999.00,9, -999.00,-999.000,1,    58.7,3,     -999.0,1,     -999.0,9,         22,     -999.0,9,     -999.0,9,     -999.0,9,     -999.0,9
33RO20180423,        I7N,      74,          1,        123,      11121,2,20180521,       2331,    -0.5058,    57.2607,       4557,    61.4,  29.5365,  35.3100,2,  35.3202,2,    184.5,2, 192.2450,2,-999.0000,1,-999.0000,1,-999.0000,1,-999.0000,1,   1.404,2,   0.900,2,   1.3818,2,  1990.9,2,  2312.1,6,   8.0678,2,    25.00, -999.00,9, -999.00,9, -999.00,-999.000,1,    84.5,3,     -999.0,1,     -999.0,9,         23,     -999.0,9,     -999.0,9,     -999.0,9,     -999.0,9
33RO20180423,        I7N,      74,          1,        124,      11122,2,20180521,       2331,    -0.5058,    57.2607,       4557,     3.2,  29.9334,  35.2601,2,  35.2634,2,    184.2,2, 192.0840,2,      1.6,2,      0.0,2,     0.00,2,    0.141,2,   1.380,2,   0.878,2,   1.2793,2,  1982.2,6,  2309.5,2,   8.0772,6,    25.00, -999.00,9, -999.00,9, -999.00,-999.000,1,    84.7,3,     -999.0,1,     -999.0,9,         24,     -999.0,9,     -999.0,9,     -999.0,9,     -999.0,9