BOTTLE,20230801CCHSIOCBG
EXPOCODE,SECT_ID,STNNBR,CASTNO,SAMPNO,BTLNBR,BTLNBR_FLAG_W,DATE,TIME,LATITUDE,LONGITUDE,DEPTH,CTDPRS,CTDTMP,CTDSAL,CTDSAL_FLAG_W,SALNTY,SALNTY_FLAG_W,CTDOXY,CTDOXY_FLAG_W,OXYGEN,OXYGEN_FLAG_W,SILCAT,SILCAT_FLAG_W,NITRAT,NITRAT_FLAG_W,NITRIT,NITRIT_FLAG_W,PHSPHT,PHSPHT_FLAG_W,CFC-11,CFC-11_FLAG_W,CFC-12,CFC-12_FLAG_W,SF6,SF6_FLAG_W,TCARBN,TCARBN_FLAG_W,ALKALI,ALKALI_FLAG_W,PH_SWS,PH_SWS_FLAG_W,PH_TMP,DELC13,DELC13_FLAG_W,DELC14,DELC14_FLAG_W,C14ERR,CCL4,CCL4_FLAG_W,DOC,DOC_FLAG_W,N2O,N2O_FLAG_W,CALCIUM,CALCIUM_FLAG_W,SAMPNO_U,DNSSAL,DNSSAL_FLAG_W,DNSSAL2,DNSSAL2_FLAG_W,SALNTY_DNSSAL,SALNTY_DNSSAL_FLAG_W,SALNTY_DNSSAL2,SALNTY_DNSSAL2_FLAG_W
,,,,,,,,,,,METERS,DBAR,ITS-90,PSS-78,,PSS-78,,UMOL/KG,,UMOL/KG,,UMOL/KG,,UMOL/KG,,UMOL/KG,,UMOL/KG,,PMOL/KG,,PMOL/KG,,FMOL/KG,,UMOL/KG,,UMOL/KG,,,,DEG C,/MILLE,,/MILLE,,/MILLE,PMOL/KG,,UMOL/KG,,NMOL/KG,,MMOL/KG,,,G/KG,,G/KG,,PSS-78,,PSS-78,
33RO20180423,        I7N,      40,          1,        101,      11010,2,20180508,       0657,   -12.8197,    54.9995,       4272,  4340.6,   1.3299,  34.7175,2,  34.7197,2,    164.1,2, 188.9940,2,    127.1,6,     33.1,6,     0.00,6,    2.308,6,   0.033,2,   0.017,2,        0,2,  2281.0,6,  2392.0,2,   7.5979,6,    25.00,    0.53,2, -173.00,2,    1.92,-999.000,1,  -999.0,9,     -999.0,1,     -999.0,9,          1,     -999.0,9,     -999.0,9,     -999.0,9,     -999.0,9
33RO20180423,        I7N,      40,          1,        102,      11101,2,20180508,       0657,   -12.8197,    54.9995,       4272,  4012.0,   1.4307,  34.7222,2,  34.7274,6,    157.9,2, 182.1960,2,    128.4,6,     33.5,6,     0.00,6,    2.318,6,-999.000,9,-999.000,9,-999.0000,9,  2285.8,2,  2397.6,2,   7.5961,2,    25.00,    0.52,2, -179.00,2,    1.88,-999.000,9,  -999.0,9,     -999.0,9,     -999.0,9,          2,     -999.0,9,     -999.0,9,     -999.0,9,     -999.0,9
33RO20180423,        I7N,      40,          1,        103,      11102,2,20180508,       0657,   -12.8197,    54.9995,       4272,  3675.2,   1.6094,  34.7294,2,  34.7339,2,    149.4,2, 172.3055,2,    129.1,6,     33.9,6,     0.00,6,    2.356,6,   0.009,2,   0.005,2,        0,2,  2294.3,2,  2401.2,6,   7.5906,2,    25.00,    0.32,2, -186.00,2,    1.98,-999.000,1,    44.4,3,     -999.0,1,     -999.0,9,          3,     -999.0,9,     -999.0,9,     -999.0,9,     -999.0,9
33RO20180423,        I7N,      40,          1,        104,      11103,2,20180508,       0657,   -12.8197,    54.9995,       4272,  3375.3,   1.7117,  34.7336,2,  34.7390,2,    145.0,2, 166.8990,2,    129.4,6,     34.1,6,     0.00,6,    2.379,6,-999.000,9,-999.000,9,-999.0000,9,  2297.2,2,  2403.5,2,   7.5872,2,    25.00,    0.38,2, -185.00,2,    1.69,-999.000,9,  -999.0,9,     -999.0,9,     -999.0,9,          4,     -999.0,9,     -999.0,9,     -999.0,9,     -999.0,9
33RO20180423,        I7N,      40,          1,        105,      11104,2,20180508,       0657,   -12.8197,    54.9995,       4272,  3070.9,   1.8092,  34.7374,2,  34.7404,2,    141.6,2, 162.7510,2,    128.0,6,     34.2,6,     0.00,6,    2.394,6,   0.004,2,   0.003,2,        0,2,  2299.6,2,  2403.4,2,   7.5843,2,    25.00,    0.25,3, -190.00,2,    1.67,-999.000,1,    46.2,3,     -999.0,1,     -999.0,9,          5,     -999.0,9,     -999.0,9,     -999.0,9,     -999.0,9
33RO20180423,        I7N,      40,          1,        106,      11105,2,20180508,       0657,   -12.8197,    54.9995,       4272,  2774.5,   1.9602,  34.7399,2,  34.7482,2,    138.8,2, 158.8030,2,    125.2,2,     34.3,2,     0.00,2,    2.409,2,-999.000,9,-999.000,9,-999.0000,9,  2298.7,2,  2400.3,2,   7.6067,3,    25.00,    0.37,2, -186.00,2,    1.71,-999.000,9,  -999.0,9,     -999.0,9,     -999.0,9,          6,     -999.0,9,     -999.0,9,     -999.0,9,     -999.0,9
33RO20180423,        I7N,      40,          1,        107,      11106,2,20180508,       0657,   -12.8197,    54.9995,       4272,  2474.8,   2.1108,  34.7397,2,  34.7447,2,    137.4,2, 156.3910,2,    121.9,2,     34.3,2,     0.00,2,    2.396,2,-999.000,9,-999.000,9,-999.0000,9,  2294.1,2,  2397.9,2,   7.5752,2,    25.00,    0.37,2, -184.00,2,    1.73,-999.000,9,    46.2,3,     -999.0,9,     -999.0,9,          7,     -999.0,9,     -999.0,9,     -999.0,9,     -999.0,9
33RO20180423,        I7N,      40,          1,        108,      11107,2,20180508,       0657,   -12.8197,    54.9995,       4272,  2175.1,   2.4252,  34.7327,2,  34.7344,2,    135.5,2, 153.6110,2,    113.0,2,     34.2,2,     0.00,2,    2.403,2,   0.008,2,   0.005,2,        0,2,  2290.1,2,  2389.2,2,   7.5714,2,    25.00,    0.35,2, -178.00,2,    1.70,-999.000,1,    45.3,3,     -999.0,1,     -999.0,9,          8,     -999.0,9,     -999.0,9,     -999.0,9,     -999.0,9
33RO20180423,        I7N,      40,          1,        109,      11108,2,20180508,       0657,   -12.8197,    54.9995,       4272,  1863.2,   2.9108,  34.7203,2,  34.7228,2,    130.5,2, 146.7110,2,    103.2,2,     34.4,2,     0.00,2,    2.419,2,-999.000,9,-999.000,9,-999.0000,9,  2283.9,2,  2376.7,2,   7.5626,2,    25.00,    0.43,6, -173.00,6,    1.78,-999.000,9,  -999.0,9,     -999.0,9,     -999.0,9,          9,     -999.0,9,     -999.0,9,     -999.0,9,     -999.0,9
33RO20180423,        I7N,      40,          1,        110,      11109,2,20180508,       0657,   -12.8197,    54.9995,       4272,  1614.4,   3.7240,  34.7275,2,-999.0000,1,    115.5,2, 130.5990,2,     95.8,2,     34.8,2,     0.00,2,    2.483,2,-999.000,9,-999.000,9,-999.0000,9,  2281.6,2,  2370.9,6,   7.5432,2,    25.00,    0.34,2, -172.00,2,    1.62,-999.000,9,    49.3,3,     -999.0,9,     -999.0,9,         10,     -999.0,9,     -999.0,9,     -999.0,9,     -999.0,9
33RO20180423,        I7N,      40,          1,        111,      11110,2,20180508,       0657,   -12.8197,    54.9995,       4272,  1350.4,   4.8120,  34.7607,2,  34.7627,2,     93.2,2, 104.4840,2,     89.8,2,     35.5,2,     0.00,2,    2.560,2,   0.074,6,   0.040,6,   0.0073,6,  2286.3,2,  2365.6,2,   7.5208,6,    25.00,    0.30,2, -165.00,2,    1.63,-999.000,1,    47.8,3,     -999.0,1,     -999.0,9,         11,     -999.0,9,     -999.0,9,     -999.0,9,     -999.0,9
33RO20180423,        I7N,      40,          1,        112,      11111,2,20180508,       0657,   -12.8197,    54.9995,       4272,  1150.3,   5.6017,  34.7783,2,  34.7987,2,     82.8,2,  92.2360,2,     82.6,2,     35.6,2,     0.00,2,    2.571,2,-999.000,9,-999.000,9,-999.0000,9,  2281.9,6,  2358.9,2,   7.5117,2,    25.00,    0.29,2, -151.00,2,    1.78,-999.000,9,    45.1,3,     -999.0,9,     -999.0,9,         12,     -999.0,9,     -999.0,9,     -999.0,9,     -999.0,9
33RO20180423,        I7N,      40,          1,        113,      11112,2,20180508,       0657,   -12.8197,    54.9995,       4272,   937.5,   6.4700,  34.7857,2,  34.8108,2,     83.0,2,  91.7350,2,     70.0,2,     34.7,2,     0.00,2,    2.472,2,   0.314,2,   0.168,2,   0.0311,2,  2265.6,4,  2346.0,2,   7.5210,2,    25.00,    0.32,2, -131.00,2,    1.79,-999.000,1,    46.2,3,     -999.0,1,     -999.0,9,         13,     -999.0,9,     -999.0,9,     -999.0,9,     -999.0,9
33RO20180423,        I7N,      40,          1,        114,      11113,2,20180508,       0657,   -12.8197,    54.9995,       4272,   788.5,   7.0233,  34.7579,2,  34.7620,2,     94.7,2, 104.0810,2,     57.6,2,     32.9,2,     0.00,2,    2.356,2,-999.000,9,-999.000,9,-999.0000,9,  2247.2,2,  2334.2,2,   7.5430,2,    25.00,    0.44,2, -103.00,2,    1.84,-999.000,9,  -999.0,9,     -999.0,9,     -999.0,9,         14,     -999.0,9,     -999.0,9,     -999.0,9,     -999.0,9
33RO20180423,        I7N,      40,          1,        115,      11114,2,20180508,       0657,   -12.8197,    54.9995,       4272,   636.6,   7.9668,  34.7320,2,  34.7333,2,    116.0,2, 126.4890,2,     40.4,2,     29.4,2,     0.00,2,    2.077,2,   1.271,2,   0.663,2,   0.3487,2,  2215.3,2,  2318.2,2,   7.5890,2,    25.00,    0.48,2,  -65.90,2,    1.91,-999.000,1,    49.7,3,     -999.0,1,     -999.0,9,         15,     -999.0,9,     -999.0,9,     -999.0,9,     -999.0,9
33RO20180423,        I7N,      40,          1,        116,      11115,2,20180508,       0657,   -12.8197,    54.9995,       4272,   476.0,   9.4340,  34.7847,2,  34.7899,2,    143.8,2, 155.9880,2,     23.2,2,     23.8,2,     0.00,2,    1.684,2,-999.000,9,-999.000,9,-999.0000,9,  2180.3,2,  2308.2,2,   7.6580,2,    25.00,    0.69,2,  -10.40,2,    2.02,-999.000,9,    57.4,3,     -999.0,9,     -999.0,9,         16,     -999.0,9,     -999.0,9,     -999.0,9,     -999.0,9
33RO20180423,        I7N,      40,          1,        117,      11116,2,20180508,       0657,   -12.8197,    54.9995,       4272,   367.7,  10.5566,  34.8831,2,  34.8882,2,    148.3,2, 159.7390,2,     18.0,2,     20.9,2,     0.00,2,    1.482,2,   2.431,2,   1.337,2,   0.8925,2,  2170.7,2,  2309.1,2,   7.6879,2,    25.00,    0.57,2,    5.91,2,    2.58,-999.000,1,    58.0,3,     -999.0,1,     -999.0,9,         17,     -999.0,9,     -999.0,9,     -999.0,9,     -999.0,9
33RO20180423,        I7N,      40,          1,        118,      11117,2,20180508,       0657,   -12.8197,    54.9995,       4272,   294.0,  11.6105,  34.9748,2,  34.9765,6,    136.0,2, 146.2090,2,     17.8,2,     20.0,2,     0.00,2,    1.419,2,-999.000,9,-999.000,9,-999.0000,9,  2171.2,2,  2311.2,2,   7.6908,2,    25.00,    0.52,2,    9.92,2,    1.97,-999.000,9,    61.6,3,     -999.0,9,     -999.0,9,         18,     -999.0,9,     -999.0,9,     -999.0,9,     -999.0,9
33RO20180423,        I7N,      40,          1,        119,      11083,2,20180508,       0657,   -12.8197,    54.9995,       4272,   210.3,  12.9673,  35.0618,2,  35.0645,2,    119.2,2, 129.2400,2,     18.4,2,     19.5,2,     0.01,2,    1.388,2,   2.130,2,   1.206,2,   0.9178,2,  2172.0,2,  2315.1,2,   7.6974,2,    25.00,    0.32,2,    9.17,2,    2.08,-999.000,1,    58.0,3,     -999.0,1,     -999.0,9,         19,     -999.0,9,     -999.0,9,     -999.0,9,     -999.0,9
33RO20180423,        I7N,      40,          1,        120,      11118,2,20180508,       0657,   -12.8197,    54.9995,       4272,   169.8,  13.6583,  35.0776,2,  35.0805,2,    107.6,2, 115.4280,2,     19.3,2,     19.8,2,     0.00,2,    1.416,2,-999.000,9,-999.000,9,-999.0000,9,  2173.8,2,  2315.5,2,   7.6922,2,    25.00,    0.38,2,   10.10,2,    1.96,-999.000,9,  -999.0,9,     -999.0,9,     -999.0,9,         20,     -999.0,9,     -999.0,9,     -999.0,9,     -999.0,9
33RO20180423,        I7N,      40,          1,        121,      11119,2,20180508,       0657,   -12.8197,    54.9995,       4272,   129.8,  15.2192,  35.1073,2,  35.1083,2,     96.7,2, 104.1530,2,     19.1,2,     19.2,2,     0.01,2,    1.384,2,   1.880,2,   1.098,2,   0.8717,2,  2164.2,2,  -999.0,9,-999.0000,9,  -999.00,    0.20,2,    6.69,2,    1.95,-999.000,1,  -999.0,9,     -999.0,1,     -999.0,9,         21,     -999.0,9,     -999.0,9,     -999.0,9,     -999.0,9
33RO20180423,        I7N,      40,          1,        122,      11120,2,20180508,       0657,   -12.8197,    54.9995,       4272,   129.8,  15.2660,  35.1091,2,  35.1168,2,     96.4,2, 103.9035,2,     19.1,2,     19.3,2,     0.01,2,    1.375,2,-999.000,9,-999.000,9,-999.0000,9,  -999.0,9,  2314.0,6,   7.7070,2,    25.00,    0.27,2,    8.69,2,    2.69,-999.000,9,  -999.0,9,     -999.0,9,     -999.0,9,         22,     -999.0,9,     -999.0,9,     -999.0,9,     -999.0,9
33RO20180423,        I7N,      40,          1,        123,      11121,2,20180508,       0657,   -12.8197,    54.9995,       4272,    91.3,  18.7692,  35.1838,2,  35.1961,2,    105.2,2, 111.9400,2,     13.4,2,     14.7,2,     0.25,2,    1.092,2,-999.000,9,-999.000,9,-999.0000,9,  2127.0,2,  2311.4,2,   7.7873,3,    25.00,    0.18,2,   14.00,2,    1.96,-999.000,9,    61.6,3,     -999.0,9,     -999.0,9,         23,     -999.0,9,     -999.0,9,     -999.0,9,     -999.0,9
33RO20180423,        I7N,      40,          1,        124,      11122,2,20180508,       0657,   -12.8197,    54.9995,       4272,    47.7,  25.6709,  34.9558,2,  34.9506,2,    181.9,2, 192.7880,2,      4.4,2,      1.6,2,     0.07,2,    0.284,2,   1.610,2,   1.010,2,   1.3105,2,  2000.7,6,  2294.9,2,   8.0122,4,    25.00,    0.85,2,   23.80,2,    2.03,-999.000,1,    74.4,3,     -999.0,1,     -999.0,9,         24,     -999.0,9,     -999.0,9,     -999.0,9,     -999.0,9