BOTTLE,20230801CCHSIOCBG
EXPOCODE,SECT_ID,STNNBR,CASTNO,SAMPNO,BTLNBR,BTLNBR_FLAG_W,DATE,TIME,LATITUDE,LONGITUDE,DEPTH,CTDPRS,CTDTMP,CTDSAL,CTDSAL_FLAG_W,SALNTY,SALNTY_FLAG_W,CTDOXY,CTDOXY_FLAG_W,OXYGEN,OXYGEN_FLAG_W,SILCAT,SILCAT_FLAG_W,NITRAT,NITRAT_FLAG_W,NITRIT,NITRIT_FLAG_W,PHSPHT,PHSPHT_FLAG_W,CFC-11,CFC-11_FLAG_W,CFC-12,CFC-12_FLAG_W,SF6,SF6_FLAG_W,TCARBN,TCARBN_FLAG_W,ALKALI,ALKALI_FLAG_W,PH_SWS,PH_SWS_FLAG_W,PH_TMP,DELC13,DELC13_FLAG_W,DELC14,DELC14_FLAG_W,C14ERR,CCL4,CCL4_FLAG_W,DOC,DOC_FLAG_W,N2O,N2O_FLAG_W,CALCIUM,CALCIUM_FLAG_W,SAMPNO_U,DNSSAL,DNSSAL_FLAG_W,DNSSAL2,DNSSAL2_FLAG_W,SALNTY_DNSSAL,SALNTY_DNSSAL_FLAG_W,SALNTY_DNSSAL2,SALNTY_DNSSAL2_FLAG_W
,,,,,,,,,,,METERS,DBAR,ITS-90,PSS-78,,PSS-78,,UMOL/KG,,UMOL/KG,,UMOL/KG,,UMOL/KG,,UMOL/KG,,UMOL/KG,,PMOL/KG,,PMOL/KG,,FMOL/KG,,UMOL/KG,,UMOL/KG,,,,DEG C,/MILLE,,/MILLE,,/MILLE,PMOL/KG,,UMOL/KG,,NMOL/KG,,MMOL/KG,,,G/KG,,G/KG,,PSS-78,,PSS-78,
33RO20180423,        I7N,      35,          1,        101,      11010,2,20180506,       2124,   -15.6522,    55.0000,       4538,  4614.1,   1.0543,  34.7071,2,  34.7071,2,    176.6,2, 203.9260,2,    124.4,6,     32.6,6,     0.00,6,    2.235,6,   0.077,2,   0.039,2,        0,2,  2269.7,6,  2374.7,2,   7.5996,2,    25.00, -999.00,9, -999.00,9, -999.00,-999.000,1,    46.1,3,     -999.0,1,    10.3222,2,          1,     -999.0,9,     -999.0,9,     -999.0,9,     -999.0,9
33RO20180423,        I7N,      35,          1,        102,      11101,2,20180506,       2124,   -15.6522,    55.0000,       4538,  4292.3,   1.1877,  34.7132,2,  34.7160,2,    169.3,2, 195.8320,2,    125.4,6,     33.1,6,     0.00,6,    2.270,6,   0.049,2,   0.026,2,        0,2,  2275.2,2,  2382.0,2,   7.5985,6,    25.00, -999.00,9, -999.00,9, -999.00,-999.000,1,  -999.0,9,     -999.0,1,    10.3185,2,          2,     -999.0,9,     -999.0,9,     -999.0,9,     -999.0,9
33RO20180423,        I7N,      35,          1,        103,      11102,2,20180506,       2124,   -15.6522,    55.0000,       4538,  3882.6,   1.4453,  34.7234,2,  34.7242,2,    156.4,2, 180.8060,2,    128.3,6,     33.7,6,     0.00,6,    2.331,6,   0.017,2,   0.009,2,        0,2,  2287.1,2,  2395.3,6,   7.5951,2,    25.00, -999.00,9, -999.00,9, -999.00,-999.000,1,    50.7,3,     -999.0,1,    10.3301,2,          3,     -999.0,9,     -999.0,9,     -999.0,9,     -999.0,9
33RO20180423,        I7N,      35,          1,        104,      11103,2,20180506,       2124,   -15.6522,    55.0000,       4538,  3550.2,   1.5918,  34.7291,2,  34.7289,2,    149.7,2, 172.1310,2,    128.8,6,     34.0,6,     0.00,6,    2.355,6,   0.008,2,   0.006,2,        0,2,  2293.7,2,  2400.1,2,   7.5893,2,    25.00, -999.00,9, -999.00,9, -999.00,-999.000,1,    54.2,3,     -999.0,1,    10.3181,2,          4,     -999.0,9,     -999.0,9,     -999.0,9,     -999.0,9
33RO20180423,        I7N,      35,          1,        105,      11104,2,20180506,       2124,   -15.6522,    55.0000,       4538,  3268.7,   1.7015,  34.7329,2,  34.7488,2,    145.5,2, 167.7150,2,    128.3,2,     34.1,2,     0.00,2,    2.369,2,   0.005,2,   0.004,2,        0,2,  2297.6,2,  2402.7,2,   7.5874,2,    25.00, -999.00,9, -999.00,9, -999.00,-999.000,1,    51.0,3,     -999.0,1,    10.3558,2,          5,     -999.0,9,     -999.0,9,     -999.0,9,     -999.0,9
33RO20180423,        I7N,      35,          1,        106,      11105,2,20180506,       2124,   -15.6522,    55.0000,       4538,  2963.2,   1.8461,  34.7372,2,  34.7396,2,    141.2,2, 162.2855,2,    126.9,2,     34.3,2,     0.00,2,    2.385,2,   0.004,2,   0.005,2,   0.0597,3,  2299.3,2,  2403.8,2,   7.5843,2,    25.00, -999.00,9, -999.00,9, -999.00,-999.000,1,    47.3,3,     -999.0,1,    10.3491,2,          6,     -999.0,9,     -999.0,9,     -999.0,9,     -999.0,9
33RO20180423,        I7N,      35,          1,        107,      11106,2,20180506,       2124,   -15.6522,    55.0000,       4538,  2657.4,   1.9629,  34.7383,2,  34.7383,2,    139.8,2, 159.8110,2,    123.7,2,     34.3,2,     0.00,2,    2.391,2,   0.004,2,   0.003,2,   0.0073,2,  2297.5,2,  2400.5,2,   7.5809,2,    25.00, -999.00,9, -999.00,9, -999.00,-999.000,1,    50.6,3,     -999.0,1,    10.3684,6,          7,     -999.0,9,     -999.0,9,     -999.0,9,     -999.0,9
33RO20180423,        I7N,      35,          1,        108,      11107,2,20180506,       2124,   -15.6522,    55.0000,       4538,  2352.5,   2.1389,  34.7323,2,  34.7326,2,    140.3,2, 159.4590,2,    117.8,2,     34.1,2,     0.00,2,    2.385,2,   0.005,2,   0.003,2,        0,2,  2292.7,2,  2393.3,2,   7.5801,2,    25.00, -999.00,9, -999.00,9, -999.00,-999.000,1,    48.3,3,     -999.0,1,    10.3631,2,          8,     -999.0,9,     -999.0,9,     -999.0,9,     -999.0,9
33RO20180423,        I7N,      35,          1,        109,      11108,2,20180506,       2124,   -15.6522,    55.0000,       4538,  2047.0,   2.4023,  34.7238,2,  34.7324,6,    138.9,2, 156.1640,2,    110.6,2,     34.0,2,     0.00,2,    2.383,2,   0.011,2,   0.006,2,        0,2,  2287.2,2,  2386.3,2,   7.5749,2,    25.00, -999.00,9, -999.00,9, -999.00,-999.000,1,  -999.0,9,     -999.0,1,    10.3481,2,          9,     -999.0,9,     -999.0,9,     -999.0,9,     -999.0,9
33RO20180423,        I7N,      35,          1,        110,      11109,2,20180506,       2124,   -15.6522,    55.0000,       4538,  1756.6,   2.8569,  34.7059,2,  34.7101,2,    134.8,2, 151.0330,2,    100.9,2,     34.2,2,     0.00,2,    2.402,2,   0.024,2,   0.014,2,        0,2,  2281.7,2,  2374.7,2,   7.5669,2,    25.00, -999.00,9, -999.00,9, -999.00,-999.000,1,  -999.0,9,     -999.0,1,    10.3309,2,         10,     -999.0,9,     -999.0,9,     -999.0,9,     -999.0,9
33RO20180423,        I7N,      35,          1,        111,      11110,2,20180506,       2124,   -15.6522,    55.0000,       4538,  1501.8,   3.5813,  34.6912,2,  34.6905,2,    123.6,2, 137.3960,2,     91.4,2,     34.7,2,     0.00,2,    2.419,2,   0.054,2,   0.029,2,        0,2,  2275.0,2,  2365.2,2,   7.5530,2,    25.00, -999.00,9, -999.00,9, -999.00,-999.000,1,  -999.0,9,     -999.0,1,    10.3169,2,         11,     -999.0,9,     -999.0,9,     -999.0,9,     -999.0,9
33RO20180423,        I7N,      35,          1,        112,      11111,2,20180506,       2124,   -15.6522,    55.0000,       4538,  1261.4,   4.3661,  34.7017,2,  34.7019,2,    110.0,2, 121.8180,2,     85.9,2,     35.0,2,     0.00,2,    2.468,2,   0.095,6,   0.050,6,   0.0064,6,  2277.9,2,  2360.2,2,   7.5408,2,    25.00, -999.00,9, -999.00,9, -999.00,-999.000,1,  -999.0,9,     -999.0,1,    10.3081,2,         12,     -999.0,9,     -999.0,9,     -999.0,9,     -999.0,9
33RO20180423,        I7N,      35,          1,        113,      11112,2,20180506,       2124,   -15.6522,    55.0000,       4538,  1058.4,   5.1896,  34.6982,2,  34.6996,2,    103.6,2, 113.9290,2,     75.7,2,     34.5,2,     0.00,2,    2.467,2,   0.216,2,   0.114,2,   0.0042,2,  2267.4,6,  2351.0,2,   7.5364,2,    25.00, -999.00,9, -999.00,9, -999.00,-999.000,1,    50.6,3,     -999.0,1,    10.3368,2,         13,     -999.0,9,     -999.0,9,     -999.0,9,     -999.0,9
33RO20180423,        I7N,      35,          1,        114,      11113,2,20180506,       2124,   -15.6522,    55.0000,       4538,   869.5,   6.1050,  34.6869,2,  34.6951,2,    106.7,2, 116.3600,2,     62.2,2,     33.4,2,     0.00,2,    2.359,2,   0.519,2,   0.270,2,   0.0537,2,  2248.0,2,  2337.6,2,   7.5494,6,    25.00, -999.00,9, -999.00,9, -999.00,-999.000,1,    48.9,3,     -999.0,1,    10.3431,2,         14,     -999.0,9,     -999.0,9,     -999.0,9,     -999.0,9
33RO20180423,        I7N,      35,          1,        115,      11114,2,20180506,       2124,   -15.6522,    55.0000,       4538,   718.1,   7.2349,  34.6989,2,  34.7000,2,    111.7,2, 121.8920,2,     48.2,2,     31.1,2,     0.00,2,    2.178,2,   0.945,2,   0.494,2,   0.2229,2,  2227.3,2,  2323.9,6,   7.5723,2,    25.00, -999.00,9, -999.00,9, -999.00,-999.000,1,    53.9,3,     -999.0,1,    10.3062,2,         15,     -999.0,9,     -999.0,9,     -999.0,9,     -999.0,9
33RO20180423,        I7N,      35,          1,        116,      11115,2,20180506,       2124,   -15.6522,    55.0000,       4538,   567.3,   8.6151,  34.7311,2,  34.7320,2,    133.6,2, 144.4800,2,     30.2,2,     26.6,2,     0.00,2,    1.843,2,   1.788,2,   0.948,2,   0.4951,2,  2194.4,2,  2310.9,2,   7.6283,2,    25.00, -999.00,9, -999.00,9, -999.00,-999.000,1,    48.7,3,     -999.0,1,    10.3331,2,         16,     -999.0,9,     -999.0,9,     -999.0,9,     -999.0,9
33RO20180423,        I7N,      35,          1,        117,      11116,2,20180506,       2124,   -15.6522,    55.0000,       4538,   427.9,  10.1028,  34.8374,2,  34.8433,2,    149.0,2, 160.5160,2,     19.3,2,     21.8,2,     0.00,2,    1.516,2,   2.382,2,   1.312,2,   0.8256,2,  2170.3,2,  2307.5,2,   7.6817,2,    25.00, -999.00,9, -999.00,9, -999.00,-999.000,1,    55.6,3,     -999.0,1,    10.3130,2,         17,     -999.0,9,     -999.0,9,     -999.0,9,     -999.0,9
33RO20180423,        I7N,      35,          1,        118,      11117,2,20180506,       2124,   -15.6522,    55.0000,       4538,   332.9,  11.2172,  34.9405,2,  34.9439,6,    143.0,2, 153.6870,2,     17.6,2,     20.0,2,     0.00,2,    1.416,2,   2.361,2,   1.316,2,    0.903,2,  2168.5,2,  2311.3,2,   7.6960,2,    25.00, -999.00,9, -999.00,9, -999.00,-999.000,1,    49.7,3,     -999.0,1,    10.3521,2,         18,     -999.0,9,     -999.0,9,     -999.0,9,     -999.0,9
33RO20180423,        I7N,      35,          1,        119,      11083,2,20180506,       2124,   -15.6522,    55.0000,       4538,   258.3,  12.4974,  35.0443,2,  35.0430,2,    132.2,2, 141.8570,2,     17.3,2,     18.6,2,     0.00,2,    1.343,2,   2.217,2,   1.267,2,   1.0176,2,  2166.6,2,  2314.3,2,   7.7085,2,    25.00, -999.00,9, -999.00,9, -999.00,-999.000,1,    62.6,3,     -999.0,1,    10.3876,6,         19,     -999.0,9,     -999.0,9,     -999.0,9,     -999.0,9
33RO20180423,        I7N,      35,          1,        120,      11118,2,20180506,       2124,   -15.6522,    55.0000,       4538,   188.5,  15.4952,  35.2106,2,  35.2149,2,    122.3,2, 131.2250,2,     15.5,2,     15.2,2,     0.00,2,    1.129,2,   1.991,2,   1.185,2,   1.0526,2,  2147.5,2,  2320.0,2,   7.7653,2,    25.00, -999.00,9, -999.00,9, -999.00,-999.000,1,  -999.0,9,     -999.0,1,    10.4481,2,         20,     -999.0,9,     -999.0,9,     -999.0,9,     -999.0,9
33RO20180423,        I7N,      35,          1,        121,      11119,2,20180506,       2124,   -15.6522,    55.0000,       4538,   139.4,  18.4501,  35.3065,2,  35.3211,2,    123.9,2, 135.2530,2,     11.2,2,     11.7,2,     0.01,2,    0.886,2,   1.901,2,   1.165,2,   1.1717,2,  2120.5,2,  2320.8,6,   7.8278,2,    25.00, -999.00,9, -999.00,9, -999.00,-999.000,1,    65.2,3,     -999.0,1,    10.4656,2,         21,     -999.0,9,     -999.0,9,     -999.0,9,     -999.0,9
33RO20180423,        I7N,      35,          1,        122,      11120,2,20180506,       2124,   -15.6522,    55.0000,       4538,    88.7,  22.1900,  35.2114,2,  35.2053,2,    154.9,2, 162.9880,2,      5.8,2,      5.2,2,     0.44,2,    0.509,2,   1.780,6,   1.111,6,   1.3793,6,  2058.2,2,  2309.2,2,   7.9356,2,    25.00, -999.00,9, -999.00,9, -999.00,-999.000,1,    65.4,3,     -999.0,1,    10.4491,2,         22,     -999.0,9,     -999.0,9,     -999.0,9,     -999.0,9
33RO20180423,        I7N,      35,          1,        123,      11121,2,20180506,       2124,   -15.6522,    55.0000,       4538,    39.4,  27.9874,  34.8434,2,  34.8464,2,    187.0,2, 197.6350,2,      2.2,2,      0.1,2,     0.00,2,    0.137,2,   1.448,2,   0.928,2,    1.398,2,  1961.5,2,  2281.6,2,   8.0665,6,    25.00, -999.00,9, -999.00,9, -999.00,-999.000,1,    70.7,3,     -999.0,1,    10.3317,2,         23,     -999.0,9,     -999.0,9,     -999.0,9,     -999.0,9
33RO20180423,        I7N,      35,          1,        124,      11122,2,20180506,       2124,   -15.6522,    55.0000,       4538,     3.0,  27.9478,  34.7878,2,  34.7893,2,    187.6,2, 197.8300,2,      2.2,2,      0.0,2,     0.00,2,    0.142,2,   1.445,2,   0.923,2,   1.3431,2,  1960.8,6,  2278.9,2,   8.0678,2,    25.00, -999.00,9, -999.00,9, -999.00,-999.000,1,    80.0,3,     -999.0,1,    10.2911,2,         24,     -999.0,9,     -999.0,9,     -999.0,9,     -999.0,9