BOTTLE,20230801CCHSIOCBG
EXPOCODE,SECT_ID,STNNBR,CASTNO,SAMPNO,BTLNBR,BTLNBR_FLAG_W,DATE,TIME,LATITUDE,LONGITUDE,DEPTH,CTDPRS,CTDTMP,CTDSAL,CTDSAL_FLAG_W,SALNTY,SALNTY_FLAG_W,CTDOXY,CTDOXY_FLAG_W,OXYGEN,OXYGEN_FLAG_W,SILCAT,SILCAT_FLAG_W,NITRAT,NITRAT_FLAG_W,NITRIT,NITRIT_FLAG_W,PHSPHT,PHSPHT_FLAG_W,CFC-11,CFC-11_FLAG_W,CFC-12,CFC-12_FLAG_W,SF6,SF6_FLAG_W,TCARBN,TCARBN_FLAG_W,ALKALI,ALKALI_FLAG_W,PH_SWS,PH_SWS_FLAG_W,PH_TMP,DELC13,DELC13_FLAG_W,DELC14,DELC14_FLAG_W,C14ERR,CCL4,CCL4_FLAG_W,DOC,DOC_FLAG_W,N2O,N2O_FLAG_W,CALCIUM,CALCIUM_FLAG_W,SAMPNO_U,DNSSAL,DNSSAL_FLAG_W,DNSSAL2,DNSSAL2_FLAG_W,SALNTY_DNSSAL,SALNTY_DNSSAL_FLAG_W,SALNTY_DNSSAL2,SALNTY_DNSSAL2_FLAG_W
,,,,,,,,,,,METERS,DBAR,ITS-90,PSS-78,,PSS-78,,UMOL/KG,,UMOL/KG,,UMOL/KG,,UMOL/KG,,UMOL/KG,,UMOL/KG,,PMOL/KG,,PMOL/KG,,FMOL/KG,,UMOL/KG,,UMOL/KG,,,,DEG C,/MILLE,,/MILLE,,/MILLE,PMOL/KG,,UMOL/KG,,NMOL/KG,,MMOL/KG,,,G/KG,,G/KG,,PSS-78,,PSS-78,
33RO20180423,        I7N,      26,          1,        101,      11010,2,20180504,       0903,   -20.5048,    54.5155,       4401,  4460.7,   1.0165,  34.7064,2,  34.7065,2,    178.3,2, 205.0770,2,    125.3,6,     32.6,6,     0.00,6,    2.230,6,   0.083,2,   0.042,2,   0.0064,2,  2266.4,6,  2373.8,2,   7.5987,2,    25.00, -999.00,9, -999.00,9, -999.00,-999.000,1,  -999.0,9,     -999.0,1,     -999.0,9,          1,     -999.0,9,     -999.0,9,     -999.0,9,     -999.0,9
33RO20180423,        I7N,      26,          1,        102,      11101,2,20180504,       0903,   -20.5048,    54.5155,       4401,  4040.4,   1.3339,  34.7188,2,  34.7196,2,    163.0,2, 187.8160,2,    128.4,6,     33.4,6,     0.00,6,    2.284,6,   0.032,2,   0.014,2,        0,2,  2281.8,2,  2391.2,2,   7.5962,6,    25.00, -999.00,9, -999.00,9, -999.00,-999.000,1,  -999.0,9,     -999.0,1,     -999.0,9,          2,     -999.0,9,     -999.0,9,     -999.0,9,     -999.0,9
33RO20180423,        I7N,      26,          1,        103,      11102,2,20180504,       0903,   -20.5048,    54.5155,       4401,  3675.3,   1.5265,  34.7263,2,  34.7261,2,    153.7,2, 177.7090,2,    130.0,6,     33.9,6,     0.00,6,    2.338,6,   0.013,2,   0.006,2,        0,2,  2291.5,2,  2397.8,2,   7.5920,2,    25.00, -999.00,9, -999.00,9, -999.00,-999.000,1,  -999.0,9,     -999.0,1,     -999.0,9,          3,     -999.0,9,     -999.0,9,     -999.0,9,     -999.0,9
33RO20180423,        I7N,      26,          1,        104,      11103,2,20180504,       0903,   -20.5048,    54.5155,       4401,  3375.0,   1.6836,  34.7313,2,  34.7426,2,    147.8,2, 169.8240,2,    129.2,6,     34.3,6,     0.00,6,    2.358,6,   0.006,2,   0.004,2,        0,2,  2295.6,2,  2401.8,6,   7.5885,2,    25.00, -999.00,9, -999.00,9, -999.00,-999.000,1,  -999.0,9,     -999.0,1,     -999.0,9,          4,     -999.0,9,     -999.0,9,     -999.0,9,     -999.0,9
33RO20180423,        I7N,      26,          1,        105,      11104,2,20180504,       0903,   -20.5048,    54.5155,       4401,  3076.1,   1.8000,  34.7347,2,  34.7350,2,    144.4,2, 164.7330,2,    127.1,2,     34.3,2,     0.00,2,    2.386,2,   0.004,2,   0.003,2,        0,2,  2296.6,2,  2398.8,2,   7.5842,2,    25.00, -999.00,9, -999.00,9, -999.00,-999.000,1,  -999.0,9,     -999.0,1,     -999.0,9,          5,     -999.0,9,     -999.0,9,     -999.0,9,     -999.0,9
33RO20180423,        I7N,      26,          1,        106,      11105,2,20180504,       0903,   -20.5048,    54.5155,       4401,  2775.0,   1.9347,  34.7365,2,  34.7373,2,    142.2,2, 162.7730,2,    123.8,2,     34.3,2,     0.00,2,    2.374,2,-999.000,9,-999.000,9,-999.0000,9,  2295.2,2,  2397.0,2,   7.5823,2,    25.00, -999.00,9, -999.00,9, -999.00,-999.000,9,  -999.0,9,     -999.0,9,     -999.0,9,          6,     -999.0,9,     -999.0,9,     -999.0,9,     -999.0,9
33RO20180423,        I7N,      26,          1,        107,      11106,2,20180504,       0903,   -20.5048,    54.5155,       4401,  2475.8,   2.0752,  34.7349,2,  34.7369,6,    142.3,2, 162.2630,2,    118.6,2,     34.0,2,     0.00,2,    2.357,2,   0.010,2,   0.004,2,        0,2,  2290.9,2,  2396.6,2,   7.5814,2,    25.00, -999.00,9, -999.00,9, -999.00,-999.000,1,  -999.0,9,     -999.0,1,     -999.0,9,          7,     -999.0,9,     -999.0,9,     -999.0,9,     -999.0,9
33RO20180423,        I7N,      26,          1,        108,      11107,2,20180504,       0903,   -20.5048,    54.5155,       4401,  2175.6,   2.2744,  34.7244,2,  34.7269,2,    144.3,2, 163.2840,2,    110.4,2,     33.8,2,     0.00,2,    2.330,2,-999.000,9,-999.000,9,-999.0000,9,  2283.7,2,  2387.7,2,   7.5806,2,    25.00, -999.00,9, -999.00,9, -999.00,-999.000,9,  -999.0,9,     -999.0,9,     -999.0,9,          8,     -999.0,9,     -999.0,9,     -999.0,9,     -999.0,9
33RO20180423,        I7N,      26,          1,        109,      11108,2,20180504,       0903,   -20.5048,    54.5155,       4401,  1864.5,   2.5798,  34.7016,2,  34.7017,2,    144.8,2, 162.9250,2,    100.1,2,     33.7,2,     0.00,2,    2.322,2,   0.032,6,   0.014,6,    0.018,6,  2273.4,2,  2375.6,2,   7.5763,2,    25.00, -999.00,9, -999.00,9, -999.00,-999.000,1,  -999.0,9,     -999.0,1,     -999.0,9,          9,     -999.0,9,     -999.0,9,     -999.0,9,     -999.0,9
33RO20180423,        I7N,      26,          1,        110,      11109,2,20180504,       0903,   -20.5048,    54.5155,       4401,  1613.6,   3.0456,  34.6624,2,  34.6636,2,    140.1,2, 156.0960,2,     89.0,2,     34.0,2,     0.00,2,    2.356,2,-999.000,9,-999.000,9,-999.0000,9,  2266.0,2,  2358.2,6,   7.5655,2,    25.00, -999.00,9, -999.00,9, -999.00,-999.000,9,  -999.0,9,     -999.0,9,     -999.0,9,         10,     -999.0,9,     -999.0,9,     -999.0,9,     -999.0,9
33RO20180423,        I7N,      26,          1,        111,      11110,2,20180504,       0903,   -20.5048,    54.5155,       4401,  1350.8,   3.9516,  34.6595,2,  34.6638,2,    121.1,2, 134.8400,2,     85.5,2,     34.9,2,     0.00,2,    2.430,2,   0.102,2,   0.053,2,        0,2,  2270.5,2,  2355.2,2,   7.5464,6,    25.00, -999.00,9, -999.00,9, -999.00,-999.000,1,  -999.0,9,     -999.0,1,     -999.0,9,         11,     -999.0,9,     -999.0,9,     -999.0,9,     -999.0,9
33RO20180423,        I7N,      26,          1,        112,      11111,2,20180504,       0903,   -20.5048,    54.5155,       4401,  1150.2,   4.6694,  34.6465,2,  34.6533,2,    114.0,2, 126.0870,2,     77.6,2,     34.8,2,     0.00,2,    2.442,2,   0.201,2,   0.102,2,   0.0066,2,  2263.5,6,  2347.1,2,   7.5420,2,    25.00, -999.00,9, -999.00,9, -999.00,-999.000,1,  -999.0,9,     -999.0,1,     -999.0,9,         12,     -999.0,9,     -999.0,9,     -999.0,9,     -999.0,9
33RO20180423,        I7N,      26,          1,        113,      11112,2,20180504,       0903,   -20.5048,    54.5155,       4401,   938.4,   5.6731,  34.5598,2,  34.5773,2,    132.9,2, 142.0900,2,     53.4,2,     32.2,2,     0.00,2,    2.238,2,   0.827,2,   0.423,2,   0.1931,2,  2230.0,2,  2326.6,2,   7.5745,2,    25.00, -999.00,9, -999.00,9, -999.00,-999.000,1,  -999.0,9,     -999.0,1,     -999.0,9,         13,     -999.0,9,     -999.0,9,     -999.0,9,     -999.0,9
33RO20180423,        I7N,      26,          1,        114,      11113,2,20180504,       0903,   -20.5048,    54.5155,       4401,   788.2,   6.9841,  34.5572,2,  34.5724,2,    160.0,2, 174.9510,2,     30.7,2,     27.5,2,     0.00,2,    1.887,2,-999.000,9,-999.000,9,-999.0000,9,  2188.4,2,  2307.6,2,   7.6357,2,    25.00, -999.00,9, -999.00,9, -999.00,-999.000,9,  -999.0,9,     -999.0,9,     -999.0,9,         14,     -999.0,9,     -999.0,9,     -999.0,9,     -999.0,9
33RO20180423,        I7N,      26,          1,        115,      11114,2,20180504,       0903,   -20.5048,    54.5155,       4401,   638.9,   9.3230,  34.7173,2,  34.7190,2,    195.7,2, 211.8290,2,     10.1,2,     18.8,2,     0.00,2,    1.319,2,   3.134,2,   1.700,2,   1.1654,2,  2146.4,2,  2299.4,2,   7.7301,2,    25.00, -999.00,9, -999.00,9, -999.00,-999.000,1,  -999.0,9,     -999.0,1,     -999.0,9,         15,     -999.0,9,     -999.0,9,     -999.0,9,     -999.0,9
33RO20180423,        I7N,      26,          1,        116,      11115,2,20180504,       0903,   -20.5048,    54.5155,       4401,   475.3,  11.6709,  35.0120,2,  35.0146,2,    191.3,2, 206.7320,2,      7.3,2,     13.6,2,     0.00,2,    1.007,2,   2.967,2,   1.683,2,   1.4313,2,  2138.6,2,  2307.6,2,   7.7782,2,    25.00, -999.00,9, -999.00,9, -999.00,-999.000,1,  -999.0,9,     -999.0,1,     -999.0,9,         16,     -999.0,9,     -999.0,9,     -999.0,9,     -999.0,9
33RO20180423,        I7N,      26,          1,        117,      11116,2,20180504,       0903,   -20.5048,    54.5155,       4401,   370.2,  14.3095,  35.3273,2,  35.3325,2,    182.5,2, 196.2180,2,      6.0,2,      8.9,2,     0.00,2,    0.725,2,   2.605,2,   1.543,2,   1.4946,2,  2126.3,2,  2323.0,2,   7.8340,2,    25.00, -999.00,9, -999.00,9, -999.00,-999.000,1,  -999.0,9,     -999.0,1,     -999.0,9,         17,     -999.0,9,     -999.0,9,     -999.0,9,     -999.0,9
33RO20180423,        I7N,      26,          1,        118,      11117,2,20180504,       0903,   -20.5048,    54.5155,       4401,   294.5,  16.9017,  35.4790,2,  35.4824,2,    160.2,2, 172.4470,2,      7.6,2,      7.8,2,     0.00,2,    0.644,2,   2.196,2,   1.328,2,   1.4082,2,  2116.7,2,  2331.5,2,   7.8613,2,    25.00, -999.00,9, -999.00,9, -999.00,-999.000,1,  -999.0,9,     -999.0,1,     -999.0,9,         18,     -999.0,9,     -999.0,9,     -999.0,9,     -999.0,9
33RO20180423,        I7N,      26,          1,        119,      11083,2,20180504,       0903,   -20.5048,    54.5155,       4401,   210.4,  20.5659,  35.4184,2,  35.4265,2,    156.3,2, 167.8290,2,      5.0,2,      5.3,2,     0.01,2,    0.469,2,-999.000,9,-999.000,9,-999.0000,9,  2078.0,2,  2326.0,6,   7.9246,2,    25.00, -999.00,9, -999.00,9, -999.00,-999.000,9,  -999.0,9,     -999.0,9,     -999.0,9,         19,     -999.0,9,     -999.0,9,     -999.0,9,     -999.0,9
33RO20180423,        I7N,      26,          1,        120,      11118,2,20180504,       0903,   -20.5048,    54.5155,       4401,   171.0,  22.2751,  35.3026,2,  35.3076,2,    166.5,2, 177.4230,2,      3.5,2,      2.9,2,     0.02,2,    0.326,2,   1.830,2,   1.144,2,    1.509,2,  2046.1,2,  2319.2,2,   7.9685,6,    25.00, -999.00,9, -999.00,9, -999.00,-999.000,1,  -999.0,9,     -999.0,1,     -999.0,9,         20,     -999.0,9,     -999.0,9,     -999.0,9,     -999.0,9
33RO20180423,        I7N,      26,          1,        121,      11119,2,20180504,       0903,   -20.5048,    54.5155,       4401,   130.5,  23.6951,  35.2045,2,  35.2075,6,    179.6,2, 191.3110,2,      2.5,2,      0.9,2,     0.06,2,    0.217,2,-999.000,9,-999.000,9,-999.0000,9,  2017.3,2,  2312.4,2,   8.0087,2,    25.00, -999.00,9, -999.00,9, -999.00,-999.000,9,  -999.0,9,     -999.0,9,     -999.0,9,         21,     -999.0,9,     -999.0,9,     -999.0,9,     -999.0,9
33RO20180423,        I7N,      26,          1,        122,      11120,2,20180504,       0903,   -20.5048,    54.5155,       4401,    90.5,  25.9082,  35.0341,2,  35.0370,2,    198.1,2, 209.9055,2,      1.8,2,      0.0,2,     0.00,2,    0.128,2,   1.636,2,   1.042,2,   1.4769,2,  1985.5,2,  2295.2,2,   8.0512,2,    25.00, -999.00,9, -999.00,9, -999.00,-999.000,1,  -999.0,9,     -999.0,1,     -999.0,9,         22,     -999.0,9,     -999.0,9,     -999.0,9,     -999.0,9
33RO20180423,        I7N,      26,          1,        123,      11121,2,20180504,       0903,   -20.5048,    54.5155,       4401,    48.9,  27.1724,  34.8992,2,  34.9020,2,    191.1,2, 202.5280,2,      1.7,2,      0.0,2,     0.00,2,    0.098,2,-999.000,9,-999.000,9,-999.0000,9,  1964.5,6,  2285.6,2,   8.0735,2,    25.00, -999.00,9, -999.00,9, -999.00,-999.000,9,  -999.0,9,     -999.0,9,     -999.0,9,         23,     -999.0,9,     -999.0,9,     -999.0,9,     -999.0,9
33RO20180423,        I7N,      26,          1,        124,      11122,2,20180504,       0903,   -20.5048,    54.5155,       4401,     3.8,  27.2219,  34.9015,2,  34.9034,2,    191.3,2, 202.0710,2,      1.8,2,      0.0,2,     0.00,2,    0.101,2,   1.501,2,   0.956,2,   1.4282,2,  1963.5,2,  2287.0,2,   8.0746,2,    25.00, -999.00,9, -999.00,9, -999.00,-999.000,1,  -999.0,9,     -999.0,1,     -999.0,9,         24,     -999.0,9,     -999.0,9,     -999.0,9,     -999.0,9