BOTTLE,20230801CCHSIOCBG
EXPOCODE,SECT_ID,STNNBR,CASTNO,SAMPNO,BTLNBR,BTLNBR_FLAG_W,DATE,TIME,LATITUDE,LONGITUDE,DEPTH,CTDPRS,CTDTMP,CTDSAL,CTDSAL_FLAG_W,SALNTY,SALNTY_FLAG_W,CTDOXY,CTDOXY_FLAG_W,OXYGEN,OXYGEN_FLAG_W,SILCAT,SILCAT_FLAG_W,NITRAT,NITRAT_FLAG_W,NITRIT,NITRIT_FLAG_W,PHSPHT,PHSPHT_FLAG_W,CFC-11,CFC-11_FLAG_W,CFC-12,CFC-12_FLAG_W,SF6,SF6_FLAG_W,TCARBN,TCARBN_FLAG_W,ALKALI,ALKALI_FLAG_W,PH_SWS,PH_SWS_FLAG_W,PH_TMP,DELC13,DELC13_FLAG_W,DELC14,DELC14_FLAG_W,C14ERR,CCL4,CCL4_FLAG_W,DOC,DOC_FLAG_W,N2O,N2O_FLAG_W,CALCIUM,CALCIUM_FLAG_W,SAMPNO_U,DNSSAL,DNSSAL_FLAG_W,DNSSAL2,DNSSAL2_FLAG_W,SALNTY_DNSSAL,SALNTY_DNSSAL_FLAG_W,SALNTY_DNSSAL2,SALNTY_DNSSAL2_FLAG_W
,,,,,,,,,,,METERS,DBAR,ITS-90,PSS-78,,PSS-78,,UMOL/KG,,UMOL/KG,,UMOL/KG,,UMOL/KG,,UMOL/KG,,UMOL/KG,,PMOL/KG,,PMOL/KG,,FMOL/KG,,UMOL/KG,,UMOL/KG,,,,DEG C,/MILLE,,/MILLE,,/MILLE,PMOL/KG,,UMOL/KG,,NMOL/KG,,MMOL/KG,,,G/KG,,G/KG,,PSS-78,,PSS-78,
33RO20180423,        I7N,      63,          1,        101,      11010,2,20180514,       2051,    -5.3457,    55.1175,       3006,  3043.8,   1.7411,  34.7343,2,  34.7379,2,    145.3,2, 163.4980,2,    131.4,6,     34.4,6,     0.00,6,    2.421,6,   0.004,2,   0.003,2,    0.019,2,  2305.7,2,  2404.2,2,   7.5859,6,    25.00, -999.00,9, -999.00,9, -999.00,-999.000,1,  -999.0,9,     -999.0,1,     -999.0,9,          1,     -999.0,9,     -999.0,9,     -999.0,9,     -999.0,9
33RO20180423,        I7N,      63,          1,        102,      11101,2,20180514,       2051,    -5.3457,    55.1175,       3006,  2826.8,   1.8496,  34.7376,2,  34.7392,2,    142.4,2, 159.5255,2,    129.5,6,     34.7,6,     0.00,6,    2.438,6,   0.003,2,   0.003,2,   0.0127,2,  2304.8,2,  2402.7,6,   7.5799,2,    25.00, -999.00,9, -999.00,9, -999.00,-999.000,1,  -999.0,9,     -999.0,1,     -999.0,9,          2,     -999.0,9,     -999.0,9,     -999.0,9,     -999.0,9
33RO20180423,        I7N,      63,          1,        103,      11102,2,20180514,       2051,    -5.3457,    55.1175,       3006,  2700.0,   1.9086,  34.7390,2,  34.7406,2,    141.0,2, 155.9880,2,    128.5,6,     34.7,6,     0.00,6,    2.444,6,   0.003,2,   0.002,2,   0.0094,2,  -999.0,9,  -999.0,9,-999.0000,9,  -999.00, -999.00,9, -999.00,9, -999.00,-999.000,1,  -999.0,9,     -999.0,1,     -999.0,9,          3,     -999.0,9,     -999.0,9,     -999.0,9,     -999.0,9
33RO20180423,        I7N,      63,          1,        104,      11103,2,20180514,       2051,    -5.3457,    55.1175,       3006,  2401.3,   2.1131,  34.7425,2,  34.7422,2,    136.8,2, 152.9140,2,    125.3,6,     34.7,6,     0.00,6,    2.453,6,   0.004,2,   0.004,2,        0,2,  -999.0,9,  -999.0,9,-999.0000,9,  -999.00, -999.00,9, -999.00,9, -999.00,-999.000,1,  -999.0,9,     -999.0,1,     -999.0,9,          4,     -999.0,9,     -999.0,9,     -999.0,9,     -999.0,9
33RO20180423,        I7N,      63,          1,        105,      11104,2,20180514,       2051,    -5.3457,    55.1175,       3006,  2100.8,   2.3899,  34.7463,2,  34.7483,6,    131.7,2, 146.8610,2,    120.9,6,     34.9,6,     0.00,6,    2.485,6,   0.006,6,   0.004,6,   0.0126,6,  2302.3,2,  2395.6,2,   7.5673,2,    25.00, -999.00,9, -999.00,9, -999.00,-999.000,1,  -999.0,9,     -999.0,1,     -999.0,9,          5,     -999.0,9,     -999.0,9,     -999.0,9,     -999.0,9
33RO20180423,        I7N,      63,          1,        106,      11105,2,20180514,       2051,    -5.3457,    55.1175,       3006,  1799.9,   2.9701,  34.7559,2,  34.7588,2,    120.8,2, 134.0350,2,    113.8,2,     35.3,2,     0.00,2,    2.529,2,-999.000,9,-999.000,9,-999.0000,9,  -999.0,9,  -999.0,9,-999.0000,9,  -999.00, -999.00,9, -999.00,9, -999.00,-999.000,9,  -999.0,9,     -999.0,9,     -999.0,9,          6,     -999.0,9,     -999.0,9,     -999.0,9,     -999.0,9
33RO20180423,        I7N,      63,          1,        107,      11106,2,20180514,       2051,    -5.3457,    55.1175,       3006,  1552.0,   3.6783,  34.7715,2,  34.7686,2,    106.5,2, 117.5800,2,    106.4,2,     35.6,2,     0.00,2,    2.568,2,-999.000,9,-999.000,9,-999.0000,9,  2298.6,2,  2380.5,2,   7.5360,2,    25.00, -999.00,9, -999.00,9, -999.00,-999.000,9,  -999.0,9,     -999.0,9,     -999.0,9,          7,     -999.0,9,     -999.0,9,     -999.0,9,     -999.0,9
33RO20180423,        I7N,      63,          1,        108,      11107,2,20180514,       2051,    -5.3457,    55.1175,       3006,  1301.7,   4.7769,  34.8081,2,  34.8051,2,     84.0,2,  92.9380,2,     97.2,2,     36.4,2,     0.00,2,    2.667,2,   0.035,2,   0.020,2,   0.0041,2,  2300.8,2,  2372.7,2,   7.5089,2,    25.00, -999.00,9, -999.00,9, -999.00,-999.000,1,  -999.0,9,     -999.0,1,     -999.0,9,          8,     -999.0,9,     -999.0,9,     -999.0,9,     -999.0,9
33RO20180423,        I7N,      63,          1,        109,      11108,2,20180514,       2051,    -5.3457,    55.1175,       3006,  1098.2,   5.6370,  34.8174,2,  34.8158,2,     73.2,2,  80.1745,2,     88.2,2,     36.6,2,     0.00,2,    2.671,2,-999.000,9,-999.000,9,-999.0000,9,  2293.8,2,  2353.0,2,   7.5002,2,    25.00, -999.00,9, -999.00,9, -999.00,-999.000,9,  -999.0,9,     -999.0,9,     -999.0,9,          9,     -999.0,9,     -999.0,9,     -999.0,9,     -999.0,9
33RO20180423,        I7N,      63,          1,        110,      11109,2,20180514,       2051,    -5.3457,    55.1175,       3006,   950.9,   6.6172,  34.9002,2,  34.8978,2,     61.2,2,  67.2700,2,     78.9,2,     36.3,2,     0.00,2,    2.668,2,-999.000,9,-999.000,9,-999.0000,9,  2289.5,2,  2345.1,2,   7.4937,2,    25.00, -999.00,9, -999.00,9, -999.00,-999.000,9,  -999.0,9,     -999.0,9,     -999.0,9,         10,     -999.0,9,     -999.0,9,     -999.0,9,     -999.0,9
33RO20180423,        I7N,      63,          1,        111,      11110,2,20180514,       2051,    -5.3457,    55.1175,       3006,   775.1,   7.2791,  34.8610,2,  34.8566,2,     67.4,2,  73.9310,2,     66.3,2,     35.0,2,     0.00,2,    2.554,2,   0.322,2,   0.175,2,   0.0732,2,  2272.1,2,  2342.4,2,   7.5087,2,    25.00, -999.00,9, -999.00,9, -999.00,-999.000,1,  -999.0,9,     -999.0,1,     -999.0,9,         11,     -999.0,9,     -999.0,9,     -999.0,9,     -999.0,9
33RO20180423,        I7N,      63,          1,        112,      11111,2,20180514,       2051,    -5.3457,    55.1175,       3006,   650.7,   8.0890,  34.8399,2,  34.8478,2,     81.5,2,  87.9050,2,     51.2,2,     32.5,2,     0.00,2,    2.353,2,-999.000,9,-999.000,9,-999.0000,9,  2248.4,2,  2320.7,2,   7.5371,2,    25.00, -999.00,9, -999.00,9, -999.00,-999.000,9,  -999.0,9,     -999.0,9,     -999.0,9,         12,     -999.0,9,     -999.0,9,     -999.0,9,     -999.0,9
33RO20180423,        I7N,      63,          1,        113,      11112,2,20180514,       2051,    -5.3457,    55.1175,       3006,   525.7,   9.0160,  34.8425,2,  34.8422,2,     98.1,2, 105.5150,2,     36.6,2,     29.4,2,     0.00,2,    2.084,2,-999.000,9,-999.000,9,-999.0000,9,  2221.5,2,  2315.8,2,   7.5758,2,    25.00, -999.00,9, -999.00,9, -999.00,-999.000,9,  -999.0,9,     -999.0,9,     -999.0,9,         13,     -999.0,9,     -999.0,9,     -999.0,9,     -999.0,9
33RO20180423,        I7N,      63,          1,        114,      11113,2,20180514,       2051,    -5.3457,    55.1175,       3006,   451.5,   9.4504,  34.8477,2,  34.8501,2,    106.3,2, 113.9590,2,     31.1,2,     27.9,2,     0.00,2,    1.935,2,   1.578,2,   0.837,2,    0.435,2,  -999.0,9,  -999.0,9,-999.0000,9,  -999.00, -999.00,9, -999.00,9, -999.00,-999.000,1,  -999.0,9,     -999.0,1,     -999.0,9,         14,     -999.0,9,     -999.0,9,     -999.0,9,     -999.0,9
33RO20180423,        I7N,      63,          1,        115,      11114,2,20180514,       2051,    -5.3457,    55.1175,       3006,   401.4,  10.0874,  34.8763,2,  34.8826,2,    114.2,2, 122.4250,2,     25.3,2,     25.7,2,     0.00,2,    1.785,2,-999.000,9,-999.000,9,-999.0000,9,  2199.2,2,  2307.3,2,   7.6204,2,    25.00, -999.00,9, -999.00,9, -999.00,-999.000,9,  -999.0,9,     -999.0,9,     -999.0,9,         15,     -999.0,9,     -999.0,9,     -999.0,9,     -999.0,9
33RO20180423,        I7N,      63,          1,        116,      11115,2,20180514,       2051,    -5.3457,    55.1175,       3006,   352.3,  10.7891,  34.9274,2,  34.9243,6,    116.0,2, 124.4300,2,     21.9,2,     24.1,2,     0.00,2,    1.688,2,-999.000,9,-999.000,9,-999.0000,9,  -999.0,9,  -999.0,9,-999.0000,9,  -999.00, -999.00,9, -999.00,9, -999.00,-999.000,9,  -999.0,9,     -999.0,9,     -999.0,9,         16,     -999.0,9,     -999.0,9,     -999.0,9,     -999.0,9
33RO20180423,        I7N,      63,          1,        117,      11116,2,20180514,       2051,    -5.3457,    55.1175,       3006,   301.2,  11.6184,  34.9961,2,  34.9899,2,    120.6,2, 127.7850,2,     18.9,2,     22.0,2,     0.01,2,    1.554,2,   2.192,2,   1.218,2,   0.7736,2,  2184.4,2,  2309.5,2,   7.6627,2,    25.00, -999.00,9, -999.00,9, -999.00,-999.000,1,  -999.0,9,     -999.0,1,     -999.0,9,         17,     -999.0,9,     -999.0,9,     -999.0,9,     -999.0,9
33RO20180423,        I7N,      63,          1,        118,      11117,2,20180514,       2051,    -5.3457,    55.1175,       3006,   241.8,  12.2851,  35.0214,2,  35.0292,2,    103.9,2, 111.4310,2,     19.8,2,     22.6,2,     0.00,2,    1.588,2,-999.000,9,-999.000,9,-999.0000,9,  -999.0,9,  -999.0,9,-999.0000,9,  -999.00, -999.00,9, -999.00,9, -999.00,-999.000,9,  -999.0,9,     -999.0,9,     -999.0,9,         18,     -999.0,9,     -999.0,9,     -999.0,9,     -999.0,9
33RO20180423,        I7N,      63,          1,        119,      11083,2,20180514,       2051,    -5.3457,    55.1175,       3006,   202.9,  13.3162,  35.1038,2,  35.0955,2,    112.4,2, 119.8510,2,     16.8,2,     20.1,2,     0.01,2,    1.442,2,-999.000,9,-999.000,9,-999.0000,9,  2176.3,2,  2311.2,2,   7.6875,2,    25.00, -999.00,9, -999.00,9, -999.00,-999.000,9,  -999.0,9,     -999.0,9,     -999.0,9,         19,     -999.0,9,     -999.0,9,     -999.0,9,     -999.0,9
33RO20180423,        I7N,      63,          1,        120,      11118,2,20180514,       2051,    -5.3457,    55.1175,       3006,   161.0,  13.6761,  35.0953,2,  35.0924,2,     97.9,2, 104.9700,2,     18.2,2,     21.2,2,     0.01,2,    1.513,2,   2.042,2,   1.166,2,   0.8398,2,  2183.0,2,  2311.0,2,   7.6704,2,    25.00, -999.00,9, -999.00,9, -999.00,-999.000,1,  -999.0,9,     -999.0,1,     -999.0,9,         20,     -999.0,9,     -999.0,9,     -999.0,9,     -999.0,9
33RO20180423,        I7N,      63,          1,        121,      11119,2,20180514,       2051,    -5.3457,    55.1175,       3006,   119.7,  15.7418,  35.1691,2,  35.1693,2,    102.2,2, 109.2900,2,     15.6,2,     18.6,2,     0.02,2,    1.354,2,-999.000,9,-999.000,9,-999.0000,9,  2165.3,2,  2312.7,2,   7.7173,2,    25.00, -999.00,9, -999.00,9, -999.00,-999.000,9,  -999.0,9,     -999.0,9,     -999.0,9,         21,     -999.0,9,     -999.0,9,     -999.0,9,     -999.0,9
33RO20180423,        I7N,      63,          1,        122,      11120,2,20180514,       2051,    -5.3457,    55.1175,       3006,    79.4,  19.6512,  35.1701,2,  35.1662,2,    109.7,2, 116.3290,2,     12.0,2,     14.3,2,     0.19,2,    1.094,2,-999.000,9,-999.000,9,-999.0000,9,  2125.6,2,  2292.9,4,   7.8004,2,    25.00, -999.00,9, -999.00,9, -999.00,-999.000,9,  -999.0,9,     -999.0,9,     -999.0,9,         22,     -999.0,9,     -999.0,9,     -999.0,9,     -999.0,9
33RO20180423,        I7N,      63,          1,        123,      11121,2,20180514,       2051,    -5.3457,    55.1175,       3006,    41.3,  26.6432,  35.2949,2,  35.2923,2,    186.6,2, 194.2870,2,      3.5,2,      0.3,2,     0.03,2,    0.245,2,-999.000,9,-999.000,9,-999.0000,9,  2018.0,2,  2305.6,6,   8.0210,2,    25.00, -999.00,9, -999.00,9, -999.00,-999.000,9,  -999.0,9,     -999.0,9,     -999.0,9,         23,     -999.0,9,     -999.0,9,     -999.0,9,     -999.0,9
33RO20180423,        I7N,      63,          1,        124,      11122,2,20180514,       2051,    -5.3457,    55.1175,       3006,     3.0,  28.8584,  34.7566,2,  34.7572,2,    186.3,2, 195.5370,2,      2.2,2,      0.0,2,     0.00,2,    0.114,2,   1.423,2,   0.908,2,   1.3468,2,  1959.4,6,  2269.0,2,   8.0729,6,    25.00, -999.00,9, -999.00,9, -999.00,-999.000,1,  -999.0,9,     -999.0,1,     -999.0,9,         24,     -999.0,9,     -999.0,9,     -999.0,9,     -999.0,9
33RO20180423,        I7N,      64,          1,        101,      11010,2,20180515,       0018,    -5.1057,    55.2838,        483,   486.6,  10.1458,  34.8956,2,  34.8928,2,    110.8,2, 119.7850,2,     26.9,6,     25.8,6,     0.01,6,    1.827,6,   1.816,2,   0.978,2,   0.5731,2,  2205.3,2,  2310.5,2,   7.6180,6,    25.00, -999.00,9, -999.00,9, -999.00,-999.000,1,    50.9,3,     -999.0,1,     -999.0,9,          1,     -999.0,9,     -999.0,9,     -999.0,9,     -999.0,9
33RO20180423,        I7N,      64,          1,        102,      11101,2,20180515,       0018,    -5.1057,    55.2838,        483,   397.0,  10.6131,  34.9238,2,  34.9223,6,    114.9,2, 123.0940,2,     23.8,6,     24.5,6,     0.01,6,    1.737,6,-999.000,9,-999.000,9,-999.0000,9,  2197.6,2,  2310.0,6,   7.6378,2,    25.00, -999.00,9, -999.00,9, -999.00,-999.000,9,    50.6,3,     -999.0,9,     -999.0,9,          2,     -999.0,9,     -999.0,9,     -999.0,9,     -999.0,9
33RO20180423,        I7N,      64,          1,        103,      11102,2,20180515,       0018,    -5.1057,    55.2838,        483,   351.2,  11.5538,  34.9888,2,  34.9881,2,    118.1,2, 126.8165,2,     19.6,6,     22.2,6,     0.01,6,    1.589,6,-999.000,9,-999.000,9,-999.0000,9,  2187.6,2,  2310.7,2,   7.6577,2,    25.00, -999.00,9, -999.00,9, -999.00,-999.000,9,    57.2,3,     -999.0,9,     -999.0,9,          3,     -999.0,9,     -999.0,9,     -999.0,9,     -999.0,9
33RO20180423,        I7N,      64,          1,        104,      11103,2,20180515,       0018,    -5.1057,    55.2838,        483,   300.4,  12.1827,  35.0265,2,  35.0359,6,    114.1,2, 121.9940,2,     18.7,6,     21.6,6,     0.01,6,    1.547,6,-999.000,9,-999.000,9,-999.0000,9,  2185.8,2,  2310.4,2,   7.6645,2,    25.00, -999.00,9, -999.00,9, -999.00,-999.000,9,    48.5,3,     -999.0,9,     -999.0,9,          4,     -999.0,9,     -999.0,9,     -999.0,9,     -999.0,9
33RO20180423,        I7N,      64,          1,        105,      11104,2,20180515,       0018,    -5.1057,    55.2838,        483,   250.7,  12.9559,  35.0680,2,  35.0668,2,    107.7,2, 115.0430,2,     18.2,6,     21.1,6,     0.00,6,    1.517,6,-999.000,9,-999.000,9,-999.0000,9,  2184.8,2,  2333.9,4,   7.6700,2,    25.00, -999.00,9, -999.00,9, -999.00,-999.000,9,    51.3,3,     -999.0,9,     -999.0,9,          5,     -999.0,9,     -999.0,9,     -999.0,9,     -999.0,9
33RO20180423,        I7N,      64,          1,        106,      11105,2,20180515,       0018,    -5.1057,    55.2838,        483,   200.7,  13.7012,  35.1036,2,  35.1017,2,    106.9,2, 114.2385,2,     17.2,2,     20.2,2,     0.01,2,    1.472,2,-999.000,9,-999.000,9,-999.0000,9,  2179.3,2,  2312.4,2,   7.6851,2,    25.00, -999.00,9, -999.00,9, -999.00,-999.000,9,    49.8,3,     -999.0,9,     -999.0,9,          6,     -999.0,9,     -999.0,9,     -999.0,9,     -999.0,9
33RO20180423,        I7N,      64,          1,        107,      11106,2,20180515,       0018,    -5.1057,    55.2838,        483,   165.5,  14.5296,  35.1378,2,  35.1416,2,    105.0,2, 112.0740,2,     16.4,2,     19.3,2,     0.01,2,    1.415,2,-999.000,9,-999.000,9,-999.0000,9,  2174.6,2,  2312.5,2,   7.7001,2,    25.00, -999.00,9, -999.00,9, -999.00,-999.000,9,    54.2,3,     -999.0,9,     -999.0,9,          7,     -999.0,9,     -999.0,9,     -999.0,9,     -999.0,9
33RO20180423,        I7N,      64,          1,        108,      11107,2,20180515,       0018,    -5.1057,    55.2838,        483,   130.8,  15.6869,  35.1722,2,  35.1948,2,    104.0,2, 111.2810,2,     15.4,2,     18.2,2,     0.02,2,    1.340,2,-999.000,9,-999.000,9,-999.0000,9,  2164.8,2,  2314.9,2,   7.7203,2,    25.00, -999.00,9, -999.00,9, -999.00,-999.000,9,    52.9,3,     -999.0,9,     -999.0,9,          8,     -999.0,9,     -999.0,9,     -999.0,9,     -999.0,9
33RO20180423,        I7N,      64,          1,        109,      11108,2,20180515,       0018,    -5.1057,    55.2838,        483,    95.6,  18.6861,  35.2556,2,  35.2543,2,    114.6,2, 122.0710,2,     12.0,2,     14.2,2,     0.11,2,    1.098,2,-999.000,9,-999.000,9,-999.0000,9,  2131.9,2,  2313.8,2,   7.7970,2,    25.00, -999.00,9, -999.00,9, -999.00,-999.000,9,    51.7,3,     -999.0,9,     -999.0,9,          9,     -999.0,9,     -999.0,9,     -999.0,9,     -999.0,9
33RO20180423,        I7N,      64,          1,        110,      11109,2,20180515,       0018,    -5.1057,    55.2838,        483,    60.1,  22.6921,  35.2783,2,  35.2781,2,    148.0,2, 156.5780,2,      7.3,2,      6.8,2,     0.21,2,    0.704,2,-999.000,9,-999.000,9,-999.0000,9,  2077.3,2,  2313.6,2,   7.9169,2,    25.00, -999.00,9, -999.00,9, -999.00,-999.000,9,  -999.0,9,     -999.0,9,     -999.0,9,         10,     -999.0,9,     -999.0,9,     -999.0,9,     -999.0,9
33RO20180423,        I7N,      64,          1,        111,      11110,2,20180515,       0018,    -5.1057,    55.2838,        483,    25.4,  28.3400,  35.1353,2,  35.1922,2,    186.5,2, 195.6860,2,      2.5,2,      0.1,2,     0.01,2,    0.195,2,-999.000,9,-999.000,9,-999.0000,9,  1994.4,2,  2303.8,6,   8.0529,2,    25.00, -999.00,9, -999.00,9, -999.00,-999.000,9,  -999.0,9,     -999.0,9,     -999.0,9,         11,     -999.0,9,     -999.0,9,     -999.0,9,     -999.0,9
33RO20180423,        I7N,      64,          1,        112,      11111,2,20180515,       0018,    -5.1057,    55.2838,        483,     3.3,  29.1212,  34.8614,2,  34.8602,2,    185.9,2, 195.0930,2,      2.2,2,      0.0,2,     0.00,2,    0.119,2,   1.411,2,   0.903,2,   1.3364,2,  1963.6,6,  2283.1,2,   8.0764,6,    25.00, -999.00,9, -999.00,9, -999.00,-999.000,1,  -999.0,9,     -999.0,1,     -999.0,9,         12,     -999.0,9,     -999.0,9,     -999.0,9,     -999.0,9
33RO20180423,        I7N,      64,          1,        113,      11112,2,20180515,       0018,    -5.1057,    55.2838,        483,     3.1,  29.1204,  34.8615,2,-999.0000,9,    185.8,2,-999.0000,9,-999.0000,9,-999.0000,9,-999.0000,9,-999.0000,9,-999.000,9,-999.000,9,-999.0000,9,  -999.0,9,  -999.0,9,-999.0000,9,  -999.00, -999.00,9, -999.00,9, -999.00,-999.000,9,  -999.0,9,     -999.0,9,     -999.0,9,         13,     -999.0,9,     -999.0,9,     -999.0,9,     -999.0,9