BOTTLE,20230801CCHSIOCBG
EXPOCODE,SECT_ID,STNNBR,CASTNO,SAMPNO,BTLNBR,BTLNBR_FLAG_W,DATE,TIME,LATITUDE,LONGITUDE,DEPTH,CTDPRS,CTDTMP,CTDSAL,CTDSAL_FLAG_W,SALNTY,SALNTY_FLAG_W,CTDOXY,CTDOXY_FLAG_W,OXYGEN,OXYGEN_FLAG_W,SILCAT,SILCAT_FLAG_W,NITRAT,NITRAT_FLAG_W,NITRIT,NITRIT_FLAG_W,PHSPHT,PHSPHT_FLAG_W,CFC-11,CFC-11_FLAG_W,CFC-12,CFC-12_FLAG_W,SF6,SF6_FLAG_W,TCARBN,TCARBN_FLAG_W,ALKALI,ALKALI_FLAG_W,PH_SWS,PH_SWS_FLAG_W,PH_TMP,DELC13,DELC13_FLAG_W,DELC14,DELC14_FLAG_W,C14ERR,CCL4,CCL4_FLAG_W,DOC,DOC_FLAG_W,N2O,N2O_FLAG_W,CALCIUM,CALCIUM_FLAG_W,SAMPNO_U,DNSSAL,DNSSAL_FLAG_W,DNSSAL2,DNSSAL2_FLAG_W,SALNTY_DNSSAL,SALNTY_DNSSAL_FLAG_W,SALNTY_DNSSAL2,SALNTY_DNSSAL2_FLAG_W
,,,,,,,,,,,METERS,DBAR,ITS-90,PSS-78,,PSS-78,,UMOL/KG,,UMOL/KG,,UMOL/KG,,UMOL/KG,,UMOL/KG,,UMOL/KG,,PMOL/KG,,PMOL/KG,,FMOL/KG,,UMOL/KG,,UMOL/KG,,,,DEG C,/MILLE,,/MILLE,,/MILLE,PMOL/KG,,UMOL/KG,,NMOL/KG,,MMOL/KG,,,G/KG,,G/KG,,PSS-78,,PSS-78,
33RO20180423,        I7N,       3,          1,        101,      11010,2,20180428,       1515,   -28.9832,    54.4993,       4746,  4831.6,   0.9381,  34.7024,2,  34.7041,2,    184.0,2, 211.8280,2,    124.4,6,     32.3,6,     0.00,6,    2.227,6,   0.179,2,   0.087,2,   0.0091,2,  2263.7,6,  2362.9,2,   7.6362,4,    25.00,    0.58,6, -160.00,6,    1.76,-999.000,1,  -999.0,9,     -999.0,1,     -999.0,9,          1,     -999.0,9,     -999.0,9,     -999.0,9,     -999.0,9
33RO20180423,        I7N,       3,          1,        102,      11101,2,20180428,       1515,   -28.9832,    54.4993,       4746,  4466.5,   0.9587,  34.7055,2,  34.7073,2,    182.1,2, 210.0750,2,    123.5,6,     32.3,6,     0.00,6,    2.218,6,   0.165,2,   0.081,2,        0,2,  2260.8,2,  2363.5,6,   7.5979,2,    25.00,    0.59,2, -165.00,2,    1.75,-999.000,1,  -999.0,9,     -999.0,1,     -999.0,9,          2,     -999.0,9,     -999.0,9,     -999.0,9,     -999.0,9
33RO20180423,        I7N,       3,          1,        103,      11102,2,20180428,       1515,   -28.9832,    54.4993,       4746,  4127.2,   1.0258,  34.7101,2,  34.7118,6,    180.4,2, 208.1230,2,    121.3,6,     32.3,6,     0.00,6,    2.212,6,   0.145,2,   0.072,2,   0.0086,2,  2261.2,2,  2363.4,2,   7.5986,6,    25.00,    0.64,2, -165.00,2,    1.72,-999.000,1,  -999.0,9,     -999.0,1,     -999.0,9,          3,     -999.0,9,     -999.0,9,     -999.0,9,     -999.0,9
33RO20180423,        I7N,       3,          1,        104,      11103,2,20180428,       1515,   -28.9832,    54.4993,       4746,  3826.2,   1.1430,  34.7150,2,  34.7163,2,    176.0,2, 202.8420,2,    121.2,6,     32.4,6,     0.00,6,    2.235,6,   0.102,2,   0.051,2,   0.0017,2,  2263.2,2,  2367.4,2,   7.6037,4,    25.00,    0.62,2, -169.00,2,    2.11,-999.000,1,    41.5,3,     -999.0,1,     -999.0,9,          4,     -999.0,9,     -999.0,9,     -999.0,9,     -999.0,9
33RO20180423,        I7N,       3,          1,        105,      11104,2,20180428,       1515,   -28.9832,    54.4993,       4746,  3526.1,   1.3180,  34.7219,2,  34.7232,2,    170.1,2, 196.0690,2,    119.7,2,     32.5,2,     0.00,2,    2.250,2,   0.053,2,   0.026,2,        0,2,  2270.2,2,  2372.9,2,   7.6001,2,    25.00,    0.57,2, -172.00,2,    1.63,-999.000,1,    39.0,3,     -999.0,1,     -999.0,9,          5,     -999.0,9,     -999.0,9,     -999.0,9,     -999.0,9
33RO20180423,        I7N,       3,          1,        106,      11105,2,20180428,       1515,   -28.9832,    54.4993,       4746,  3225.6,   1.5589,  34.7304,2,  34.7306,2,    160.9,2, 184.4560,2,    120.0,2,     32.9,2,     0.00,2,    2.285,2,   0.021,2,   0.012,2,   0.0096,2,  2279.9,2,  2385.9,2,   7.5965,2,    25.00,    0.52,2, -179.00,2,    1.70,-999.000,1,    44.1,3,     -999.0,1,     -999.0,9,          6,     -999.0,9,     -999.0,9,     -999.0,9,     -999.0,9
33RO20180423,        I7N,       3,          1,        107,      11106,2,20180428,       1515,   -28.9832,    54.4993,       4746,  2926.3,   1.7907,  34.7371,2,  34.7384,2,    153.2,2, 174.9100,2,    118.7,2,     33.3,2,     0.00,2,    2.316,2,   0.011,2,   0.006,2,        0,2,  2286.3,2,  2398.4,3,   7.5931,2,    25.00,    0.52,2, -177.00,2,    1.61,-999.000,1,  -999.0,9,     -999.0,1,     -999.0,9,          7,     -999.0,9,     -999.0,9,     -999.0,9,     -999.0,9
33RO20180423,        I7N,       3,          1,        108,      11107,2,20180428,       1515,   -28.9832,    54.4993,       4746,  2625.8,   1.9747,  34.7405,2,  34.7426,2,    151.9,2, 172.4525,2,    113.7,2,     33.2,2,     0.00,2,    2.306,2,   0.011,2,   0.006,2,        0,2,  2282.7,2,  2386.1,2,   7.5902,2,    25.00,    0.31,4, -179.00,2,    1.64,-999.000,1,    43.9,3,     -999.0,1,     -999.0,9,          8,     -999.0,9,     -999.0,9,     -999.0,9,     -999.0,9
33RO20180423,        I7N,       3,          1,        109,      11108,2,20180428,       1515,   -28.9832,    54.4993,       4746,  2326.4,   2.2101,  34.7396,2,  34.7411,2,    157.8,2, 178.4430,2,    100.0,2,     32.1,2,     0.00,2,    2.233,2,   0.026,6,   0.014,6,   0.0019,6,  2269.6,2,  2371.3,2,   7.5982,2,    25.00,    0.61,2, -165.00,2,    2.52,-999.000,1,  -999.0,9,     -999.0,1,     -999.0,9,          9,     -999.0,9,     -999.0,9,     -999.0,9,     -999.0,9
33RO20180423,        I7N,       3,          1,        110,      11109,2,20180428,       1515,   -28.9832,    54.4993,       4746,  2025.1,   2.4005,  34.7158,2,  34.7177,2,    159.3,2, 178.4580,2,     90.7,2,     31.9,2,     0.00,2,    2.201,2,   0.048,2,   0.024,2,        0,2,  2256.3,2,  2360.4,2,   7.5934,2,    25.00,    0.62,2, -157.00,2,    1.78,-999.000,1,    46.9,3,     -999.0,1,     -999.0,9,         10,     -999.0,9,     -999.0,9,     -999.0,9,     -999.0,9
33RO20180423,        I7N,       3,          1,        111,      11110,2,20180428,       1515,   -28.9832,    54.4993,       4746,  1737.7,   2.6542,  34.6546,2,  34.6563,2,    155.7,2, 173.0930,2,     83.0,2,     32.9,2,     0.00,2,    2.274,2,   0.122,2,   0.059,2,        0,2,  2260.9,2,  2348.9,2,   7.5779,6,    25.00,    0.61,2, -154.00,2,    1.69,-999.000,1,  -999.0,9,     -999.0,1,     -999.0,9,         11,     -999.0,9,     -999.0,9,     -999.0,9,     -999.0,9
33RO20180423,        I7N,       3,          1,        112,      11111,2,20180428,       1515,   -28.9832,    54.4993,       4746,  1489.7,   3.0447,  34.5767,2,  34.5800,6,    152.1,2, 168.1170,2,     74.4,2,     33.7,2,     0.00,2,    2.332,2,   0.285,2,   0.140,2,   0.0291,2,  2252.3,6,  2338.3,2,   7.5645,2,    25.00,    0.70,2, -149.00,2,    1.80,-999.000,1,  -999.0,9,     -999.0,1,     -999.0,9,         12,     -999.0,9,     -999.0,9,     -999.0,9,     -999.0,9
33RO20180423,        I7N,       3,          1,        113,      11112,2,20180428,       1515,   -28.9832,    54.4993,       4746,  1250.7,   3.7657,  34.4763,2,  34.4821,2,    155.4,2, 170.7240,2,     60.0,2,     33.6,2,     0.00,2,    2.309,2,   0.706,2,   0.352,2,   0.1378,2,  2237.5,2,  2325.1,6,   7.5689,2,    25.00,    0.79,2, -124.00,2,    1.76,-999.000,1,  -999.0,9,     -999.0,1,     -999.0,9,         13,     -999.0,9,     -999.0,9,     -999.0,9,     -999.0,9
33RO20180423,        I7N,       3,          1,        114,      11113,2,20180428,       1515,   -28.9832,    54.4993,       4746,  1051.3,   4.8452,  34.3976,2,  34.4020,2,    177.8,2, 193.6260,2,     36.6,2,     30.8,2,     0.00,2,    2.105,2,   1.865,2,   0.936,2,   0.4693,2,  2204.3,2,  2304.0,2,   7.6048,2,    25.00,    0.98,3,  -75.70,2,    3.40,-999.000,1,    45.2,3,     -999.0,1,     -999.0,9,         14,     -999.0,9,     -999.0,9,     -999.0,9,     -999.0,9
33RO20180423,        I7N,       3,          1,        115,      11114,2,20180428,       1515,   -28.9832,    54.4993,       4746,   863.0,   7.2009,  34.5058,2,  34.5086,2,    189.3,2, 205.0800,2,     17.3,2,     24.7,2,     0.00,2,    1.692,2,   2.748,2,   1.438,2,   0.7255,2,  2168.6,2,  2292.4,2,   7.6705,2,    25.00,    0.85,3,  -20.40,2,    2.05,-999.000,1,    45.8,3,     -999.0,1,     -999.0,9,         15,     -999.0,9,     -999.0,9,     -999.0,9,     -999.0,9
33RO20180423,        I7N,       3,          1,        116,      11115,2,20180428,       1515,   -28.9832,    54.4993,       4746,   714.1,   9.3157,  34.6965,2,  34.7011,2,    205.0,2, 220.8350,2,      7.3,2,     18.3,2,     0.00,2,    1.269,2,   3.321,2,   1.808,2,   1.1929,2,  2141.8,2,  2282.5,4,   7.7373,2,    25.00,    1.10,3,   26.90,2,    2.12,-999.000,1,    48.5,3,     -999.0,1,     -999.0,9,         16,     -999.0,9,     -999.0,9,     -999.0,9,     -999.0,9
33RO20180423,        I7N,       3,          1,        117,      11116,2,20180428,       1515,   -28.9832,    54.4993,       4746,   562.9,  11.0497,  34.9294,2,  34.9327,2,    214.3,2, 229.9050,2,      4.3,2,     13.2,2,     0.00,2,    0.975,2,   3.208,2,   1.844,2,   1.5977,2,  2130.3,2,  2303.0,2,   7.7902,2,    25.00,    0.92,2,   34.10,2,    2.04,-999.000,1,    52.8,3,     -999.0,1,     -999.0,9,         17,     -999.0,9,     -999.0,9,     -999.0,9,     -999.0,9
33RO20180423,        I7N,       3,          1,        118,      11117,2,20180428,       1515,   -28.9832,    54.4993,       4746,   413.5,  12.4083,  35.1379,2,  35.1396,2,    214.1,2, 228.5260,2,      3.6,2,     10.3,2,     0.01,2,    0.791,2,   3.010,2,   1.761,2,   1.7385,2,  2123.8,2,  2312.5,2,   7.8211,2,    25.00,    0.81,2,   37.10,2,    2.28,-999.000,1,    58.3,3,     -999.0,1,     -999.0,9,         18,     -999.0,9,     -999.0,9,     -999.0,9,     -999.0,9
33RO20180423,        I7N,       3,          1,        119,      11083,2,20180428,       1515,   -28.9832,    54.4993,       4746,   275.8,  13.5398,  35.2993,2,  35.3059,2,    213.9,2, 227.9660,2,      3.2,2,      7.8,2,     0.01,2,    0.645,2,   2.804,6,   1.667,6,   1.9374,6,  2118.5,2,  2320.1,2,   7.8493,2,    25.00,    0.51,2,   32.20,2,    2.45,-999.000,1,    49.0,3,     -999.0,1,     -999.0,9,         19,     -999.0,9,     -999.0,9,     -999.0,9,     -999.0,9
33RO20180423,        I7N,       3,          1,        120,      11118,2,20180428,       1515,   -28.9832,    54.4993,       4746,   188.8,  14.2597,  35.3828,2,  35.3899,2,    212.2,2, 225.1600,2,      2.9,2,      6.4,2,     0.01,2,    0.569,2,   2.692,2,   1.608,2,   1.8951,2,  2112.6,2,  2327.9,2,   7.8637,2,    25.00,    0.66,2,   40.00,2,    2.16,-999.000,1,    48.4,3,     -999.0,1,     -999.0,9,         20,     -999.0,9,     -999.0,9,     -999.0,9,     -999.0,9
33RO20180423,        I7N,       3,          1,        121,      11119,2,20180428,       1515,   -28.9832,    54.4993,       4746,   138.5,  15.7677,  35.5022,2,  35.5058,2,    207.9,2, 220.3280,2,      2.1,2,      3.5,2,     0.05,2,    0.396,2,   2.519,2,   1.522,2,   1.8387,2,  2105.1,2,  2330.7,2,   7.8952,2,    25.00,    0.68,2,   36.80,2,    2.17,-999.000,1,    51.2,3,     -999.0,1,     -999.0,9,         21,     -999.0,9,     -999.0,9,     -999.0,9,     -999.0,9
33RO20180423,        I7N,       3,          1,        122,      11120,2,20180428,       1515,   -28.9832,    54.4993,       4746,   101.1,  17.5203,  35.5823,2,  35.5859,2,    224.5,2, 237.0460,2,      1.3,2,      0.0,2,     0.01,2,    0.168,2,   2.360,2,   1.437,2,   1.8416,2,  2080.2,2,  2336.2,6,   7.9488,2,    25.00,    0.85,2,   32.30,2,    2.17,-999.000,1,    59.7,3,     -999.0,1,     -999.0,9,         22,     -999.0,9,     -999.0,9,     -999.0,9,     -999.0,9
33RO20180423,        I7N,       3,          1,        123,      11121,2,20180428,       1515,   -28.9832,    54.4993,       4746,    68.1,  21.8649,  35.5945,2,  35.5956,2,    216.3,2, 224.5400,2,      1.1,2,      0.0,2,     0.00,2,    0.071,2,   1.912,2,   1.185,2,   1.6266,2,  2045.3,2,  2331.3,2,   8.0090,6,    25.00,    0.91,2,   28.60,2,    2.30,-999.000,1,    70.3,3,     -999.0,1,     -999.0,9,         23,     -999.0,9,     -999.0,9,     -999.0,9,     -999.0,9
33RO20180423,        I7N,       3,          1,        124,      11122,2,20180428,       1515,   -28.9832,    54.4993,       4746,     5.1,  23.0597,  35.5675,2,  35.5687,2,    205.0,2, 215.7700,2,      1.2,2,      0.0,2,     0.00,2,    0.071,2,   1.779,2,   1.113,2,   1.5688,2,  2035.7,6,  2305.3,4,   8.0196,2,    25.00,    0.90,2,   27.30,2,    2.21,-999.000,1,    73.6,3,     -999.0,1,     -999.0,9,         24,     -999.0,9,     -999.0,9,     -999.0,9,     -999.0,9