BOTTLE,20230801CCHSIOCBG
EXPOCODE,SECT_ID,STNNBR,CASTNO,SAMPNO,BTLNBR,BTLNBR_FLAG_W,DATE,TIME,LATITUDE,LONGITUDE,DEPTH,CTDPRS,CTDTMP,CTDSAL,CTDSAL_FLAG_W,SALNTY,SALNTY_FLAG_W,CTDOXY,CTDOXY_FLAG_W,OXYGEN,OXYGEN_FLAG_W,SILCAT,SILCAT_FLAG_W,NITRAT,NITRAT_FLAG_W,NITRIT,NITRIT_FLAG_W,PHSPHT,PHSPHT_FLAG_W,CFC-11,CFC-11_FLAG_W,CFC-12,CFC-12_FLAG_W,SF6,SF6_FLAG_W,TCARBN,TCARBN_FLAG_W,ALKALI,ALKALI_FLAG_W,PH_SWS,PH_SWS_FLAG_W,PH_TMP,DELC13,DELC13_FLAG_W,DELC14,DELC14_FLAG_W,C14ERR,CCL4,CCL4_FLAG_W,DOC,DOC_FLAG_W,N2O,N2O_FLAG_W,CALCIUM,CALCIUM_FLAG_W,SAMPNO_U,DNSSAL,DNSSAL_FLAG_W,DNSSAL2,DNSSAL2_FLAG_W,SALNTY_DNSSAL,SALNTY_DNSSAL_FLAG_W,SALNTY_DNSSAL2,SALNTY_DNSSAL2_FLAG_W
,,,,,,,,,,,METERS,DBAR,ITS-90,PSS-78,,PSS-78,,UMOL/KG,,UMOL/KG,,UMOL/KG,,UMOL/KG,,UMOL/KG,,UMOL/KG,,PMOL/KG,,PMOL/KG,,FMOL/KG,,UMOL/KG,,UMOL/KG,,,,DEG C,/MILLE,,/MILLE,,/MILLE,PMOL/KG,,UMOL/KG,,NMOL/KG,,MMOL/KG,,,G/KG,,G/KG,,PSS-78,,PSS-78,
33RO20180423,        I7N,      97,          1,        101,      11010,2,20180527,       2218,     7.9907,    62.8283,       4314,  4382.8,   1.6567,  34.7315,2,  34.7342,2,    141.1,2, 162.7400,2,    135.6,6,     34.9,6,     0.00,6,    2.426,6,   0.008,2,   0.007,2,   0.0053,2,  2315.7,6,  2422.3,2,   7.5912,6,    25.00,    0.35,2, -185.00,2,    1.95,-999.000,1,  -999.0,9,     -999.0,1,     -999.0,9,          1,     -999.0,9,     -999.0,9,     -999.0,9,     -999.0,9
33RO20180423,        I7N,      97,          1,        102,      11101,2,20180527,       2218,     7.9907,    62.8283,       4314,  4079.9,   1.6423,  34.7326,2,  34.7364,6,    139.9,2, 161.2920,2,    136.2,6,     35.0,6,     0.00,6,    2.441,6,-999.000,9,-999.000,9,-999.0000,9,  2315.5,2,  2421.8,2,   7.5877,2,    25.00,    0.41,6, -182.00,6,    1.72,-999.000,9,  -999.0,9,     -999.0,9,     -999.0,9,          2,     -999.0,9,     -999.0,9,     -999.0,9,     -999.0,9
33RO20180423,        I7N,      97,          1,        103,      11102,2,20180527,       2218,     7.9907,    62.8283,       4314,  3899.9,   1.6486,  34.7338,2,  34.7385,2,    138.6,2, 160.0380,2,    136.5,6,     35.0,6,     0.00,6,    2.442,6,-999.000,9,-999.000,9,-999.0000,9,  2313.4,2,  2423.4,6,   7.5895,2,    25.00,    0.29,2, -188.00,2,    1.90,-999.000,9,  -999.0,9,     -999.0,9,     -999.0,9,          3,     -999.0,9,     -999.0,9,     -999.0,9,     -999.0,9
33RO20180423,        I7N,      97,          1,        104,      11103,2,20180527,       2218,     7.9907,    62.8283,       4314,  3600.1,   1.6598,  34.7358,2,  34.7377,2,    136.8,2, 157.8020,2,    136.3,6,     35.0,6,     0.00,6,    2.449,6,-999.000,9,-999.000,9,-999.0000,9,  2315.4,2,  2421.0,2,   7.5847,2,    25.00,    0.36,2, -184.00,2,    1.84,-999.000,9,  -999.0,9,     -999.0,9,     -999.0,9,          4,     -999.0,9,     -999.0,9,     -999.0,9,     -999.0,9
33RO20180423,        I7N,      97,          1,        105,      11104,2,20180527,       2218,     7.9907,    62.8283,       4314,  3299.8,   1.7380,  34.7406,2,  34.7423,2,    133.2,2, 153.3030,2,    136.5,2,     35.2,2,     0.00,2,    2.490,2,-999.000,9,-999.000,9,-999.0000,9,  2317.6,2,  2420.6,2,   7.5802,2,    25.00,    0.22,2, -191.00,2,    1.80,-999.000,9,  -999.0,9,     -999.0,9,     -999.0,9,          5,     -999.0,9,     -999.0,9,     -999.0,9,     -999.0,9
33RO20180423,        I7N,      97,          1,        106,      11105,2,20180527,       2218,     7.9907,    62.8283,       4314,  2999.9,   1.8283,  34.7460,2,  34.7601,2,    130.1,2, 149.3090,2,    135.6,2,     35.3,2,     0.00,2,    2.511,2,-999.000,9,-999.000,9,-999.0000,9,  2319.5,2,  2419.1,2,   7.5740,2,    25.00,    0.31,2, -188.00,2,    1.97,-999.000,9,    42.1,3,     -999.0,9,     -999.0,9,          6,     -999.0,9,     -999.0,9,     -999.0,9,     -999.0,9
33RO20180423,        I7N,      97,          1,        107,      11106,2,20180527,       2218,     7.9907,    62.8283,       4314,  2700.5,   1.9872,  34.7545,2,  34.7549,2,    125.5,2, 143.4240,2,    134.2,2,     35.6,2,     0.00,2,    2.527,2,-999.000,9,-999.000,9,-999.0000,9,  2321.8,2,  2423.2,2,   7.5668,2,    25.00,    0.27,2, -186.00,2,    1.73,-999.000,9,    41.5,3,     -999.0,9,     -999.0,9,          7,     -999.0,9,     -999.0,9,     -999.0,9,     -999.0,9
33RO20180423,        I7N,      97,          1,        108,      11107,2,20180527,       2218,     7.9907,    62.8283,       4314,  2396.5,   2.2928,  34.7700,2,  34.7726,6,    118.2,2, 134.6410,2,    130.6,2,     35.9,2,     0.00,2,    2.561,2,-999.000,9,-999.000,9,-999.0000,9,  2322.0,2,  2416.4,2,   7.5547,2,    25.00,    0.35,2, -191.00,2,    1.83,-999.000,9,  -999.0,9,     -999.0,9,     -999.0,9,          8,     -999.0,9,     -999.0,9,     -999.0,9,     -999.0,9
33RO20180423,        I7N,      97,          1,        109,      11108,2,20180527,       2218,     7.9907,    62.8283,       4314,  2100.0,   2.6826,  34.7896,2,  34.7969,2,    110.3,2, 121.2810,2,    124.6,2,     36.3,2,     0.00,2,    2.618,2,-999.000,9,-999.000,9,-999.0000,9,  2320.4,2,  2406.1,2,   7.5405,2,    25.00,    0.17,2, -185.00,2,    1.61,-999.000,9,  -999.0,9,     -999.0,9,     -999.0,9,          9,     -999.0,9,     -999.0,9,     -999.0,9,     -999.0,9
33RO20180423,        I7N,      97,          1,        110,      11109,2,20180527,       2218,     7.9907,    62.8283,       4314,  1800.4,   3.2775,  34.8250,2,  34.8259,2,     96.6,2, 108.8230,2,    119.6,2,     36.6,2,     0.00,2,    2.651,2,-999.000,9,-999.000,9,-999.0000,9,  2323.4,2,  2403.6,2,   7.5245,2,    25.00,    0.16,2, -183.00,2,    1.97,-999.000,9,    42.4,3,     -999.0,9,     -999.0,9,         10,     -999.0,9,     -999.0,9,     -999.0,9,     -999.0,9
33RO20180423,        I7N,      97,          1,        111,      11110,2,20180527,       2218,     7.9907,    62.8283,       4314,  1551.2,   4.4213,  34.8992,2,  34.8997,2,     67.9,2,  76.8930,2,    110.6,2,     37.6,2,     0.01,2,    2.788,2,   0.005,2,   0.004,2,        0,2,  2329.9,2,  2397.4,2,   7.4872,2,    25.00,    0.01,2, -181.00,2,    1.80,-999.000,1,    42.3,3,     -999.0,1,     -999.0,9,         11,     -999.0,9,     -999.0,9,     -999.0,9,     -999.0,9
33RO20180423,        I7N,      97,          1,        112,      11111,2,20180527,       2218,     7.9907,    62.8283,       4314,  1301.5,   5.8286,  35.0034,2,  35.0039,2,     48.5,2,  54.5310,2,     95.0,2,     37.6,2,     0.00,2,    2.813,2,-999.000,9,-999.000,9,-999.0000,9,  2321.0,2,  2381.1,2,   7.4701,6,    25.00,    0.11,2, -169.00,2,    1.73,-999.000,9,    45.6,3,     -999.0,9,     -999.0,9,         12,     -999.0,9,     -999.0,9,     -999.0,9,     -999.0,9
33RO20180423,        I7N,      97,          1,        113,      11112,2,20180527,       2218,     7.9907,    62.8283,       4314,  1099.9,   6.8118,  35.0365,2,  35.0451,2,     36.5,2,  40.6700,2,     85.1,2,     37.7,2,     0.00,2,    2.803,2,-999.000,9,-999.000,9,-999.0000,9,  2312.4,6,  2372.1,2,   7.4583,2,    25.00,    0.13,2, -152.00,2,    1.67,-999.000,9,  -999.0,9,     -999.0,9,     -999.0,9,         13,     -999.0,9,     -999.0,9,     -999.0,9,     -999.0,9
33RO20180423,        I7N,      97,          1,        114,      11113,2,20180527,       2218,     7.9907,    62.8283,       4314,   900.2,   8.9590,  35.2911,2,  35.3011,2,     18.9,2,  22.5520,2,     66.7,2,     36.1,2,     0.00,2,    2.741,2,   0.134,6,   0.081,6,   0.0237,6,  2300.7,2,  2361.3,2,   7.4616,2,    25.00,    0.08,2, -122.00,2,    1.81,-999.000,1,    44.3,3,     -999.0,1,     -999.0,9,         14,     -999.0,9,     -999.0,9,     -999.0,9,     -999.0,9
33RO20180423,        I7N,      97,          1,        115,      11114,2,20180527,       2218,     7.9907,    62.8283,       4314,   750.9,   9.5148,  35.2574,2,  35.2609,2,     17.2,2,  19.9510,2,     58.2,2,     35.5,2,     0.01,2,    2.685,2,   0.188,2,   0.113,2,   0.0479,2,  2292.9,2,  2351.8,6,   7.4591,2,    25.00,    0.11,2, -111.00,2,    1.74,-999.000,1,  -999.0,9,     -999.0,1,     -999.0,9,         15,     -999.0,9,     -999.0,9,     -999.0,9,     -999.0,9
33RO20180423,        I7N,      97,          1,        116,      11115,2,20180527,       2218,     7.9907,    62.8283,       4314,   599.7,  10.5923,  35.3099,2,  35.3131,2,     25.8,2,  29.4160,2,     44.3,2,     33.1,2,     0.00,2,    2.496,2,-999.000,9,-999.000,9,-999.0000,9,  2272.1,2,  2338.2,2,   7.4859,2,    25.00,    0.14,2,  -74.70,2,    1.92,-999.000,9,    45.9,3,     -999.0,9,     -999.0,9,         16,     -999.0,9,     -999.0,9,     -999.0,9,     -999.0,9
33RO20180423,        I7N,      97,          1,        117,      11116,2,20180527,       2218,     7.9907,    62.8283,       4314,   450.6,  11.1458,  35.2190,2,  35.2262,2,     47.3,2,  50.7690,2,     32.5,2,     30.5,2,     0.00,2,    2.220,2,-999.000,9,-999.000,9,-999.0000,9,  2248.9,2,  2324.8,2,   7.5196,2,    25.00,    0.20,2,  -36.70,2,    1.98,-999.000,9,  -999.0,9,     -999.0,9,     -999.0,9,         17,     -999.0,9,     -999.0,9,     -999.0,9,     -999.0,9
33RO20180423,        I7N,      97,          1,        118,      11117,2,20180527,       2218,     7.9907,    62.8283,       4314,   349.4,  11.9571,  35.2508,2,  35.2518,2,     42.0,2,  45.7900,2,     27.9,2,     29.6,2,     0.00,2,    2.140,2,   1.375,2,   0.758,2,   0.4099,2,  2245.1,2,  2321.8,2,   7.5202,2,    25.00,    0.12,2,  -21.10,2,    1.91,-999.000,1,    47.7,3,     -999.0,1,     -999.0,9,         18,     -999.0,9,     -999.0,9,     -999.0,9,     -999.0,9
33RO20180423,        I7N,      97,          1,        119,      11083,2,20180527,       2218,     7.9907,    62.8283,       4314,   276.5,  13.2574,  35.2533,2,  35.2534,2,     59.8,2,  64.5640,2,     21.6,2,     25.7,2,     0.00,2,    1.878,2,-999.000,9,-999.000,9,-999.0000,9,  2223.1,2,  2321.6,2,   7.5792,3,    25.00,    0.15,2,    1.97,2,    2.05,-999.000,9,    51.6,3,     -999.0,9,     -999.0,9,         19,     -999.0,9,     -999.0,9,     -999.0,9,     -999.0,9
33RO20180423,        I7N,      97,          1,        120,      11118,2,20180527,       2218,     7.9907,    62.8283,       4314,   200.7,  14.8556,  35.2290,2,  35.2305,2,     26.6,2,  30.0060,2,     22.2,2,     28.0,2,     0.01,2,    2.047,2,   1.495,2,   0.867,2,   0.5257,2,  2231.4,2,  2319.0,2,   7.5463,2,    25.00,   -0.13,2,   -0.80,2,    1.96,-999.000,1,    59.4,3,     -999.0,1,     -999.0,9,         20,     -999.0,9,     -999.0,9,     -999.0,9,     -999.0,9
33RO20180423,        I7N,      97,          1,        121,      11119,2,20180527,       2218,     7.9907,    62.8283,       4314,   151.5,  17.3911,  35.2125,2,  35.2104,2,     13.4,2,  16.8750,2,     20.9,2,     27.5,2,     0.01,2,    2.028,2,   1.366,2,   0.815,2,   0.6211,2,  2216.6,2,  2310.1,3,   7.5689,2,    25.00,   -0.30,2,   -2.88,2,    1.96,-999.000,1,  -999.0,9,     -999.0,1,     -999.0,9,         21,     -999.0,9,     -999.0,9,     -999.0,9,     -999.0,9
33RO20180423,        I7N,      97,          1,        122,      11120,2,20180527,       2218,     7.9907,    62.8283,       4314,   100.2,  24.3603,  35.6776,2,  35.6791,2,     76.3,2,  81.9820,2,      8.6,2,     14.7,2,     0.04,2,    1.171,2,-999.000,9,-999.000,9,-999.0000,9,  2124.6,2,  2332.7,2,   7.8425,2,    25.00,    0.14,2,    8.84,2,    2.09,-999.000,9,    60.4,3,     -999.0,9,     -999.0,9,         22,     -999.0,9,     -999.0,9,     -999.0,9,     -999.0,9
33RO20180423,        I7N,      97,          1,        123,      11121,2,20180527,       2218,     7.9907,    62.8283,       4314,    50.4,  28.5330,  35.6630,2,  35.6641,2,    196.3,2, 206.4900,2,      1.8,2,      0.1,2,     0.00,2,    0.173,2,   1.490,2,   0.940,2,   1.4104,2,  2006.9,2,  2336.1,6,   8.0702,2,    25.00,    1.10,2,   17.20,2,    2.45,-999.000,1,    74.0,3,     -999.0,1,     -999.0,9,         23,     -999.0,9,     -999.0,9,     -999.0,9,     -999.0,9
33RO20180423,        I7N,      97,          1,        124,      11122,2,20180527,       2218,     7.9907,    62.8283,       4314,     4.2,  30.0966,  34.9152,2,  34.9235,2,    184.0,2, 193.0070,2,      1.4,2,      0.1,2,     0.00,2,    0.079,2,-999.000,9,-999.000,9,-999.0000,9,  1964.0,6,  2297.1,2,   8.0932,6,    25.00,    0.93,2,   11.70,2,    1.99,-999.000,9,    77.1,3,     -999.0,9,     -999.0,9,         24,     -999.0,9,     -999.0,9,     -999.0,9,     -999.0,9