BOTTLE,20230801CCHSIOCBG
EXPOCODE,SECT_ID,STNNBR,CASTNO,SAMPNO,BTLNBR,BTLNBR_FLAG_W,DATE,TIME,LATITUDE,LONGITUDE,DEPTH,CTDPRS,CTDTMP,CTDSAL,CTDSAL_FLAG_W,SALNTY,SALNTY_FLAG_W,CTDOXY,CTDOXY_FLAG_W,OXYGEN,OXYGEN_FLAG_W,SILCAT,SILCAT_FLAG_W,NITRAT,NITRAT_FLAG_W,NITRIT,NITRIT_FLAG_W,PHSPHT,PHSPHT_FLAG_W,CFC-11,CFC-11_FLAG_W,CFC-12,CFC-12_FLAG_W,SF6,SF6_FLAG_W,TCARBN,TCARBN_FLAG_W,ALKALI,ALKALI_FLAG_W,PH_SWS,PH_SWS_FLAG_W,PH_TMP,DELC13,DELC13_FLAG_W,DELC14,DELC14_FLAG_W,C14ERR,CCL4,CCL4_FLAG_W,DOC,DOC_FLAG_W,N2O,N2O_FLAG_W,CALCIUM,CALCIUM_FLAG_W,SAMPNO_U,DNSSAL,DNSSAL_FLAG_W,DNSSAL2,DNSSAL2_FLAG_W,SALNTY_DNSSAL,SALNTY_DNSSAL_FLAG_W,SALNTY_DNSSAL2,SALNTY_DNSSAL2_FLAG_W
,,,,,,,,,,,METERS,DBAR,ITS-90,PSS-78,,PSS-78,,UMOL/KG,,UMOL/KG,,UMOL/KG,,UMOL/KG,,UMOL/KG,,UMOL/KG,,PMOL/KG,,PMOL/KG,,FMOL/KG,,UMOL/KG,,UMOL/KG,,,,DEG C,/MILLE,,/MILLE,,/MILLE,PMOL/KG,,UMOL/KG,,NMOL/KG,,MMOL/KG,,,G/KG,,G/KG,,PSS-78,,PSS-78,
33RO20180423,        I7N,      34,          1,        101,      11010,2,20180506,       1446,   -16.2303,    54.9955,       4640,  4700.7,   1.0178,  34.7055,2,  34.7067,2,    178.1,2, 207.3400,2,    124.3,6,     32.3,6,     0.00,6,    2.248,6,   0.088,2,   0.043,2,        0,2,  2267.1,6,  2373.9,2,   7.5997,6,    25.00, -999.00,9, -999.00,9, -999.00,-999.000,1,  -999.0,9,     -999.0,1,     -999.0,9,          1,     -999.0,9,     -999.0,9,     -999.0,9,     -999.0,9
33RO20180423,        I7N,      34,          1,        102,      11101,2,20180506,       1446,   -16.2303,    54.9955,       4640,  4310.8,   1.1621,  34.7124,2,  34.7407,2,    170.6,2, 198.1680,2,    125.2,6,     32.8,6,     0.00,6,    2.274,6,-999.000,9,-999.000,9,-999.0000,9,  2273.0,2,  2379.6,6,   7.6001,2,    25.00, -999.00,9, -999.00,9, -999.00,-999.000,9,  -999.0,9,     -999.0,9,     -999.0,9,          2,     -999.0,9,     -999.0,9,     -999.0,9,     -999.0,9
33RO20180423,        I7N,      34,          1,        103,      11102,2,20180506,       1446,   -16.2303,    54.9955,       4640,  3975.9,   1.4134,  34.7220,2,  34.7237,6,    158.1,2, 184.1310,2,    128.0,6,     33.4,6,     0.00,6,    2.321,6,   0.020,2,   0.010,2,        0,2,  2287.0,2,  2393.0,2,   7.5958,2,    25.00, -999.00,9, -999.00,9, -999.00,-999.000,1,  -999.0,9,     -999.0,1,     -999.0,9,          3,     -999.0,9,     -999.0,9,     -999.0,9,     -999.0,9
33RO20180423,        I7N,      34,          1,        104,      11103,2,20180506,       1446,   -16.2303,    54.9955,       4640,  3676.0,   1.5595,  34.7280,2,  34.7295,2,    150.9,2, 175.2430,2,    128.8,6,     33.9,6,     0.00,6,    2.358,6,-999.000,9,-999.000,9,-999.0000,9,  2294.6,2,  2399.8,2,   7.5925,2,    25.00, -999.00,9, -999.00,9, -999.00,-999.000,9,  -999.0,9,     -999.0,9,     -999.0,9,          4,     -999.0,9,     -999.0,9,     -999.0,9,     -999.0,9
33RO20180423,        I7N,      34,          1,        105,      11104,2,20180506,       1446,   -16.2303,    54.9955,       4640,  3375.1,   1.7013,  34.7333,2,  34.7332,2,    144.9,2, 168.7930,2,    129.1,6,     34.2,6,     0.00,6,    2.387,6,   0.008,2,   0.005,2,        0,2,  2299.7,2,  2403.8,2,   7.5883,2,    25.00, -999.00,9, -999.00,9, -999.00,-999.000,1,  -999.0,9,     -999.0,1,     -999.0,9,          5,     -999.0,9,     -999.0,9,     -999.0,9,     -999.0,9
33RO20180423,        I7N,      34,          1,        106,      11105,2,20180506,       1446,   -16.2303,    54.9955,       4640,  3075.2,   1.8284,  34.7369,2,  34.7363,2,    141.6,2, 163.3660,2,    127.4,2,     34.1,2,     0.00,2,    2.390,2,-999.000,9,-999.000,9,-999.0000,9,  2302.5,2,  2402.8,2,   7.5829,2,    25.00, -999.00,9, -999.00,9, -999.00,-999.000,9,  -999.0,9,     -999.0,9,     -999.0,9,          6,     -999.0,9,     -999.0,9,     -999.0,9,     -999.0,9
33RO20180423,        I7N,      34,          1,        107,      11106,2,20180506,       1446,   -16.2303,    54.9955,       4640,  2776.1,   1.9350,  34.7372,2,  34.7381,2,    140.5,2, 161.5200,2,    124.8,2,     34.2,2,     0.00,2,    2.388,2,   0.005,2,   0.002,2,        0,2,  2298.8,2,  2401.8,2,   7.5828,2,    25.00, -999.00,9, -999.00,9, -999.00,-999.000,1,  -999.0,9,     -999.0,1,     -999.0,9,          7,     -999.0,9,     -999.0,9,     -999.0,9,     -999.0,9
33RO20180423,        I7N,      34,          1,        108,      11107,2,20180506,       1446,   -16.2303,    54.9955,       4640,  2476.0,   2.0823,  34.7335,2,  34.7330,2,    140.5,2, 160.4990,2,    120.2,2,     34.3,2,     0.00,2,    2.400,2,-999.000,9,-999.000,9,-999.0000,9,  2294.1,2,  2394.6,2,   7.5813,6,    25.00, -999.00,9, -999.00,9, -999.00,-999.000,9,  -999.0,9,     -999.0,9,     -999.0,9,          8,     -999.0,9,     -999.0,9,     -999.0,9,     -999.0,9
33RO20180423,        I7N,      34,          1,        109,      11108,2,20180506,       1446,   -16.2303,    54.9955,       4640,  2175.5,   2.3299,  34.7273,2,  34.7288,2,    138.8,2, 157.7510,2,    114.3,2,     34.1,2,     0.00,2,    2.417,2,   0.008,2,   0.004,2,        0,2,  2289.9,2,  2388.6,6,   7.5760,2,    25.00, -999.00,9, -999.00,9, -999.00,-999.000,1,  -999.0,9,     -999.0,1,     -999.0,9,          9,     -999.0,9,     -999.0,9,     -999.0,9,     -999.0,9
33RO20180423,        I7N,      34,          1,        110,      11109,2,20180506,       1446,   -16.2303,    54.9955,       4640,  1864.3,   2.7726,  34.7072,2,  34.7074,2,    136.2,2, 153.8810,2,    102.7,2,     34.2,2,     0.00,2,    2.414,2,-999.000,9,-999.000,9,-999.0000,9,  2281.9,2,  2375.2,2,   7.5698,2,    25.00, -999.00,9, -999.00,9, -999.00,-999.000,9,  -999.0,9,     -999.0,9,     -999.0,9,         10,     -999.0,9,     -999.0,9,     -999.0,9,     -999.0,9
33RO20180423,        I7N,      34,          1,        111,      11110,2,20180506,       1446,   -16.2303,    54.9955,       4640,  1613.8,   3.2281,  34.6845,2,  34.6849,2,    131.6,2, 147.7545,2,     93.1,2,     34.3,2,     0.00,2,    2.427,2,   0.049,2,   0.024,2,        0,2,  2274.4,2,  2365.9,2,   7.5617,2,    25.00, -999.00,9, -999.00,9, -999.00,-999.000,1,  -999.0,9,     -999.0,1,     -999.0,9,         11,     -999.0,9,     -999.0,9,     -999.0,9,     -999.0,9
33RO20180423,        I7N,      34,          1,        112,      11111,2,20180506,       1446,   -16.2303,    54.9955,       4640,  1350.8,   4.1027,  34.6728,2,  34.6871,2,    117.7,2, 131.3370,2,     85.2,2,     35.0,2,     0.00,2,    2.477,2,-999.000,9,-999.000,9,-999.0000,9,  2273.9,2,  2356.6,2,   7.5465,2,    25.00, -999.00,9, -999.00,9, -999.00,-999.000,9,  -999.0,9,     -999.0,9,     -999.0,9,         12,     -999.0,9,     -999.0,9,     -999.0,9,     -999.0,9
33RO20180423,        I7N,      34,          1,        113,      11112,2,20180506,       1446,   -16.2303,    54.9955,       4640,  1150.4,   5.0179,  34.6814,2,  34.6821,2,    107.3,2, 119.2170,2,     76.9,2,     34.9,2,     0.00,2,    2.484,2,   0.219,6,   0.110,2,   0.0097,2,  2269.1,6,  2350.0,2,   7.5400,2,    25.00, -999.00,9, -999.00,9, -999.00,-999.000,1,  -999.0,9,     -999.0,1,     -999.0,9,         13,     -999.0,9,     -999.0,9,     -999.0,9,     -999.0,9
33RO20180423,        I7N,      34,          1,        114,      11113,2,20180506,       1446,   -16.2303,    54.9955,       4640,   938.3,   5.9286,  34.6846,2,  34.6859,2,    106.2,2, 116.8800,2,     65.6,2,     33.7,2,     0.00,2,    2.406,2,-999.000,9,-999.000,9,-999.0000,9,  2256.2,2,  2340.0,2,   7.5456,2,    25.00, -999.00,9, -999.00,9, -999.00,-999.000,9,  -999.0,9,     -999.0,9,     -999.0,9,         14,     -999.0,9,     -999.0,9,     -999.0,9,     -999.0,9
33RO20180423,        I7N,      34,          1,        115,      11114,2,20180506,       1446,   -16.2303,    54.9955,       4640,   777.2,   6.5311,  34.6591,2,  34.6611,2,    117.9,2, 129.4090,2,     53.3,2,     31.9,2,     0.00,2,    2.264,2,   0.821,2,   0.421,2,   0.1566,2,  2236.3,2,  2327.1,2,   7.5725,2,    25.00, -999.00,9, -999.00,9, -999.00,-999.000,1,  -999.0,9,     -999.0,1,     -999.0,9,         15,     -999.0,9,     -999.0,9,     -999.0,9,     -999.0,9
33RO20180423,        I7N,      34,          1,        116,      11115,2,20180506,       1446,   -16.2303,    54.9955,       4640,   638.7,   7.7567,  34.6433,2,  34.6452,2,    149.4,2, 162.3930,2,     30.9,2,     26.8,2,     0.00,2,    1.884,2,   1.839,2,   0.956,2,   0.4678,2,  2195.6,2,  2308.3,2,   7.6351,2,    25.00, -999.00,9, -999.00,9, -999.00,-999.000,1,  -999.0,9,     -999.0,1,     -999.0,9,         16,     -999.0,9,     -999.0,9,     -999.0,9,     -999.0,9
33RO20180423,        I7N,      34,          1,        117,      11116,2,20180506,       1446,   -16.2303,    54.9955,       4640,   475.3,   9.7103,  34.7649,2,  34.7677,6,    193.3,2, 208.4310,2,     10.2,2,     18.1,2,     0.00,2,    1.297,2,   3.105,2,   1.710,2,   1.1508,2,  2148.0,2,  2299.2,2,   7.7356,2,    25.00, -999.00,9, -999.00,9, -999.00,-999.000,1,  -999.0,9,     -999.0,1,     -999.0,9,         17,     -999.0,9,     -999.0,9,     -999.0,9,     -999.0,9
33RO20180423,        I7N,      34,          1,        118,      11117,2,20180506,       1446,   -16.2303,    54.9955,       4640,   369.8,  11.4572,  34.9851,2,  34.9835,2,    190.6,2, 204.8010,2,      8.0,2,     14.1,2,     0.00,2,    1.060,2,   2.969,2,   1.681,2,    1.359,2,  2141.1,2,  2308.8,2,   7.7713,2,    25.00, -999.00,9, -999.00,9, -999.00,-999.000,1,  -999.0,9,     -999.0,1,     -999.0,9,         18,     -999.0,9,     -999.0,9,     -999.0,9,     -999.0,9
33RO20180423,        I7N,      34,          1,        119,      11083,2,20180506,       1446,   -16.2303,    54.9955,       4640,   294.5,  13.7421,  35.2482,2,  35.2501,2,    178.5,2, 191.4250,2,      7.6,2,     10.5,2,     0.00,2,    0.854,2,   2.611,2,   1.530,2,   1.4058,2,  2136.1,2,  2319.4,2,   7.8120,6,    25.00, -999.00,9, -999.00,9, -999.00,-999.000,1,  -999.0,9,     -999.0,1,     -999.0,9,         19,     -999.0,9,     -999.0,9,     -999.0,9,     -999.0,9
33RO20180423,        I7N,      34,          1,        120,      11118,2,20180506,       1446,   -16.2303,    54.9955,       4640,   213.7,  16.0452,  35.2635,2,  35.2671,2,    127.6,2, 137.6440,2,     13.6,2,     13.7,2,     0.01,2,    1.041,2,   2.047,2,   1.216,2,   1.1095,2,  2146.2,2,  2321.2,2,   7.7845,2,    25.00, -999.00,9, -999.00,9, -999.00,-999.000,1,  -999.0,9,     -999.0,1,     -999.0,9,         20,     -999.0,9,     -999.0,9,     -999.0,9,     -999.0,9
33RO20180423,        I7N,      34,          1,        121,      11119,2,20180506,       1446,   -16.2303,    54.9955,       4640,   163.7,  18.0790,  35.3230,2,  35.3374,2,    128.1,2, 140.6670,2,     10.8,2,     11.1,2,     0.01,2,    0.866,2,   1.968,2,   1.186,2,   1.1654,2,  2125.9,2,  2322.9,2,   7.8318,2,    25.00, -999.00,9, -999.00,9, -999.00,-999.000,1,  -999.0,9,     -999.0,1,     -999.0,9,         21,     -999.0,9,     -999.0,9,     -999.0,9,     -999.0,9
33RO20180423,        I7N,      34,          1,        122,      11120,2,20180506,       1446,   -16.2303,    54.9955,       4640,   113.8,  20.2968,  35.2633,2,  35.2661,2,    132.2,2, 141.0810,2,      8.8,2,      9.4,2,     0.02,2,    0.752,2,   1.844,2,   1.128,2,   1.2599,2,  2096.0,2,  2316.2,2,   7.8723,2,    25.00, -999.00,9, -999.00,9, -999.00,-999.000,1,  -999.0,9,     -999.0,1,     -999.0,9,         22,     -999.0,9,     -999.0,9,     -999.0,9,     -999.0,9
33RO20180423,        I7N,      34,          1,        123,      11121,2,20180506,       1446,   -16.2303,    54.9955,       4640,    62.1,  27.4833,  34.8211,2,  34.8275,2,    190.3,2, 200.8610,2,      2.3,2,      0.2,2,     0.01,2,    0.157,2,   1.529,2,   0.963,2,   1.4108,2,  1973.3,6,  2282.2,6,   8.0559,2,    25.00, -999.00,9, -999.00,9, -999.00,-999.000,1,  -999.0,9,     -999.0,1,     -999.0,9,         23,     -999.0,9,     -999.0,9,     -999.0,9,     -999.0,9
33RO20180423,        I7N,      34,          1,        124,      11122,2,20180506,       1446,   -16.2303,    54.9955,       4640,     4.2,  27.8818,  34.7015,2,  34.7021,2,    188.6,2, 199.0270,2,      2.4,2,      0.0,2,     0.00,2,    0.138,2,   1.468,2,   0.925,2,   1.3493,2,  1958.9,2,  2273.5,2,   8.0659,2,    25.00, -999.00,9, -999.00,9, -999.00,-999.000,1,  -999.0,9,     -999.0,1,     -999.0,9,         24,     -999.0,9,     -999.0,9,     -999.0,9,     -999.0,9