BOTTLE,20230801CCHSIOCBG
EXPOCODE,SECT_ID,STNNBR,CASTNO,SAMPNO,BTLNBR,BTLNBR_FLAG_W,DATE,TIME,LATITUDE,LONGITUDE,DEPTH,CTDPRS,CTDTMP,CTDSAL,CTDSAL_FLAG_W,SALNTY,SALNTY_FLAG_W,CTDOXY,CTDOXY_FLAG_W,OXYGEN,OXYGEN_FLAG_W,SILCAT,SILCAT_FLAG_W,NITRAT,NITRAT_FLAG_W,NITRIT,NITRIT_FLAG_W,PHSPHT,PHSPHT_FLAG_W,CFC-11,CFC-11_FLAG_W,CFC-12,CFC-12_FLAG_W,SF6,SF6_FLAG_W,TCARBN,TCARBN_FLAG_W,ALKALI,ALKALI_FLAG_W,PH_SWS,PH_SWS_FLAG_W,PH_TMP,DELC13,DELC13_FLAG_W,DELC14,DELC14_FLAG_W,C14ERR,CCL4,CCL4_FLAG_W,DOC,DOC_FLAG_W,N2O,N2O_FLAG_W,CALCIUM,CALCIUM_FLAG_W,SAMPNO_U,DNSSAL,DNSSAL_FLAG_W,DNSSAL2,DNSSAL2_FLAG_W,SALNTY_DNSSAL,SALNTY_DNSSAL_FLAG_W,SALNTY_DNSSAL2,SALNTY_DNSSAL2_FLAG_W
,,,,,,,,,,,METERS,DBAR,ITS-90,PSS-78,,PSS-78,,UMOL/KG,,UMOL/KG,,UMOL/KG,,UMOL/KG,,UMOL/KG,,UMOL/KG,,PMOL/KG,,PMOL/KG,,FMOL/KG,,UMOL/KG,,UMOL/KG,,,,DEG C,/MILLE,,/MILLE,,/MILLE,PMOL/KG,,UMOL/KG,,NMOL/KG,,MMOL/KG,,,G/KG,,G/KG,,PSS-78,,PSS-78,
33RO20180423,        I7N,      59,          1,        101,      11010,2,20180513,       2139,    -7.0392,    53.9578,       3877,  3936.0,   1.4168,  34.7218,2,  34.7225,2,    158.4,2, 180.9150,2,    131.5,6,     33.9,6,     0.00,6,    2.376,6,   0.023,2,   0.011,2,   0.0069,2,  2289.4,6,  2400.6,2,   7.5967,6,    25.00, -999.00,9, -999.00,9, -999.00,-999.000,1,  -999.0,9,     -999.0,1,     -999.0,9,          1,     -999.0,9,     -999.0,9,     -999.0,9,     -999.0,9
33RO20180423,        I7N,      59,          1,        102,      11101,4,20180513,       2139,    -7.0392,    53.9578,       3877,  3673.8,   1.5147,  34.7260,2,  34.4274,2,    152.8,2, 194.6990,4,      2.7,4,      0.0,4,     0.00,4,    0.139,4,-999.000,9,-999.000,9,-999.0000,9,  -999.0,9,  -999.0,9,-999.0000,9,  -999.00, -999.00,9, -999.00,9, -999.00,-999.000,1,  -999.0,9,     -999.0,1,     -999.0,9,          2,     -999.0,9,     -999.0,9,     -999.0,9,     -999.0,9
33RO20180423,        I7N,      59,          1,        103,      11102,2,20180513,       2139,    -7.0392,    53.9578,       3877,  3399.5,   1.5820,  34.7293,2,  34.7310,2,    149.4,2, 169.0020,2,    132.6,6,     34.4,6,     0.00,6,    2.399,6,   0.010,6,   0.005,6,   0.0058,6,  2296.3,2,  2403.3,2,   7.5911,2,    25.00, -999.00,9, -999.00,9, -999.00,-999.000,1,  -999.0,9,     -999.0,1,     -999.0,9,          3,     -999.0,9,     -999.0,9,     -999.0,9,     -999.0,9
33RO20180423,        I7N,      59,          1,        104,      11103,2,20180513,       2139,    -7.0392,    53.9578,       3877,  3100.6,   1.7073,  34.7339,2,  34.7350,2,    144.8,2, 164.4150,2,    131.4,6,     34.4,6,     0.00,6,    2.436,6,   0.006,2,   0.004,2,   0.0075,2,  2296.4,2,  2402.4,6,   7.5860,2,    25.00, -999.00,9, -999.00,9, -999.00,-999.000,1,  -999.0,9,     -999.0,1,     -999.0,9,          4,     -999.0,9,     -999.0,9,     -999.0,9,     -999.0,9
33RO20180423,        I7N,      59,          1,        105,      11104,2,20180513,       2139,    -7.0392,    53.9578,       3877,  2800.8,   1.8445,  34.7385,2,  34.7399,2,    140.8,2, 159.4190,2,    129.7,6,     34.8,6,     0.00,6,    2.449,6,   0.003,2,   0.002,2,   0.0096,2,  2296.2,2,  2406.4,2,   7.5807,2,    25.00, -999.00,9, -999.00,9, -999.00,-999.000,1,  -999.0,9,     -999.0,1,     -999.0,9,          5,     -999.0,9,     -999.0,9,     -999.0,9,     -999.0,9
33RO20180423,        I7N,      59,          1,        106,      11105,2,20180513,       2139,    -7.0392,    53.9578,       3877,  2501.6,   1.9957,  34.7407,2,  34.7507,2,    138.0,2, 155.7400,2,    127.0,2,     34.6,2,     0.00,2,    2.466,2,   0.004,2,   0.003,2,        0,2,  2299.0,2,  2402.4,2,   7.5772,2,    25.00, -999.00,9, -999.00,9, -999.00,-999.000,1,  -999.0,9,     -999.0,1,     -999.0,9,          6,     -999.0,9,     -999.0,9,     -999.0,9,     -999.0,9
33RO20180423,        I7N,      59,          1,        107,      11106,2,20180513,       2139,    -7.0392,    53.9578,       3877,  2202.2,   2.2650,  34.7432,2,  34.7709,2,    133.8,2, 150.3550,2,    121.8,2,     34.7,2,     0.00,2,    2.483,2,-999.000,9,-999.000,9,-999.0000,9,  -999.0,9,  -999.0,9,-999.0000,9,  -999.00, -999.00,9, -999.00,9, -999.00,-999.000,9,  -999.0,9,     -999.0,9,     -999.0,9,          7,     -999.0,9,     -999.0,9,     -999.0,9,     -999.0,9
33RO20180423,        I7N,      59,          1,        108,      11107,2,20180513,       2139,    -7.0392,    53.9578,       3877,  1883.4,   2.8123,  34.7480,2,  34.7489,2,    124.3,2, 138.7970,2,    114.5,2,     35.2,2,     0.00,2,    2.516,2,   0.011,2,   0.008,2,        0,2,  2293.7,2,  2388.0,2,   7.5580,2,    25.00, -999.00,9, -999.00,9, -999.00,-999.000,1,  -999.0,9,     -999.0,1,     -999.0,9,          8,     -999.0,9,     -999.0,9,     -999.0,9,     -999.0,9
33RO20180423,        I7N,      59,          1,        109,      11108,2,20180513,       2139,    -7.0392,    53.9578,       3877,  1633.2,   3.3625,  34.7541,2,  34.7548,2,    114.4,2, 126.7335,2,    107.6,2,     35.5,2,     0.00,2,    2.542,2,-999.000,9,-999.000,9,-999.0000,9,  2291.2,2,  2381.1,2,   7.5460,2,    25.00, -999.00,9, -999.00,9, -999.00,-999.000,9,  -999.0,9,     -999.0,9,     -999.0,9,          9,     -999.0,9,     -999.0,9,     -999.0,9,     -999.0,9
33RO20180423,        I7N,      59,          1,        110,      11109,2,20180513,       2139,    -7.0392,    53.9578,       3877,  1365.8,   4.3767,  34.7810,2,  34.7822,2,     91.5,2, 100.9380,2,    100.2,2,     36.4,2,     0.00,2,    2.645,2,-999.000,9,-999.000,9,-999.0000,9,  2297.4,2,  2372.0,6,   7.5174,2,    25.00, -999.00,9, -999.00,9, -999.00,-999.000,9,  -999.0,9,     -999.0,9,     -999.0,9,         10,     -999.0,9,     -999.0,9,     -999.0,9,     -999.0,9
33RO20180423,        I7N,      59,          1,        111,      11110,2,20180513,       2139,    -7.0392,    53.9578,       3877,  1166.5,   5.1690,  34.7978,2,  34.8029,6,     79.0,2,  87.1850,2,     92.9,2,     36.6,2,     0.00,2,    2.684,2,   0.054,2,   0.031,2,   0.0082,2,  2294.0,2,  2367.5,2,   7.5059,2,    25.00, -999.00,9, -999.00,9, -999.00,-999.000,1,  -999.0,9,     -999.0,1,     -999.0,9,         11,     -999.0,9,     -999.0,9,     -999.0,9,     -999.0,9
33RO20180423,        I7N,      59,          1,        112,      11111,2,20180513,       2139,    -7.0392,    53.9578,       3877,   950.9,   6.0100,  34.7847,2,  34.8056,2,     72.8,2,  79.6810,2,     82.6,2,     36.3,2,     0.00,2,    2.658,2,-999.000,9,-999.000,9,-999.0000,9,  2284.2,2,  2356.7,2,   7.5021,6,    25.00, -999.00,9, -999.00,9, -999.00,-999.000,9,  -999.0,9,     -999.0,9,     -999.0,9,         12,     -999.0,9,     -999.0,9,     -999.0,9,     -999.0,9
33RO20180423,        I7N,      59,          1,        113,      11112,2,20180513,       2139,    -7.0392,    53.9578,       3877,   800.3,   6.9701,  34.8030,2,  34.8030,2,     71.5,2,  77.9940,2,     68.7,2,     35.4,2,     0.00,2,    2.557,2,-999.000,9,-999.000,9,-999.0000,9,  2267.3,6,  2332.5,2,   7.5104,2,    25.00, -999.00,9, -999.00,9, -999.00,-999.000,9,  -999.0,9,     -999.0,9,     -999.0,9,         13,     -999.0,9,     -999.0,9,     -999.0,9,     -999.0,9
33RO20180423,        I7N,      59,          1,        114,      11113,2,20180513,       2139,    -7.0392,    53.9578,       3877,   647.8,   7.8130,  34.8009,2,  34.8006,2,     82.6,2,  90.0320,2,     53.4,2,     33.1,2,     0.00,2,    2.373,2,   0.663,2,   0.351,2,   0.1639,2,  2246.6,2,  2329.8,2,   7.5352,2,    25.00, -999.00,9, -999.00,9, -999.00,-999.000,1,  -999.0,9,     -999.0,1,     -999.0,9,         14,     -999.0,9,     -999.0,9,     -999.0,9,     -999.0,9
33RO20180423,        I7N,      59,          1,        115,      11114,2,20180513,       2139,    -7.0392,    53.9578,       3877,   483.3,   9.3249,  34.8538,2,  34.8549,2,     98.3,2, 105.9580,2,     33.4,2,     29.0,2,     0.00,2,    2.044,2,-999.000,9,-999.000,9,-999.0000,9,  2215.8,2,  2304.1,2,   7.5815,2,    25.00, -999.00,9, -999.00,9, -999.00,-999.000,9,  -999.0,9,     -999.0,9,     -999.0,9,         15,     -999.0,9,     -999.0,9,     -999.0,9,     -999.0,9
33RO20180423,        I7N,      59,          1,        116,      11115,2,20180513,       2139,    -7.0392,    53.9578,       3877,   367.6,  10.5014,  34.8989,2,  34.8952,2,    118.6,2, 128.1830,2,     22.5,2,     24.6,2,     0.00,2,    1.699,2,-999.000,9,-999.000,9,-999.0000,9,  2192.1,2,  2295.5,3,   7.6375,2,    25.00, -999.00,9, -999.00,9, -999.00,-999.000,9,  -999.0,9,     -999.0,9,     -999.0,9,         16,     -999.0,9,     -999.0,9,     -999.0,9,     -999.0,9
33RO20180423,        I7N,      59,          1,        117,      11116,2,20180513,       2139,    -7.0392,    53.9578,       3877,   313.5,  11.0513,  34.9511,2,  34.9532,2,    124.4,2, 132.8420,2,     19.4,2,     22.9,2,     0.00,2,    1.597,2,   2.221,2,   1.220,2,   0.7746,2,  2183.5,2,  2305.2,2,   7.6576,2,    25.00, -999.00,9, -999.00,9, -999.00,-999.000,1,  -999.0,9,     -999.0,1,     -999.0,9,         17,     -999.0,9,     -999.0,9,     -999.0,9,     -999.0,9
33RO20180423,        I7N,      59,          1,        118,      11117,2,20180513,       2139,    -7.0392,    53.9578,       3877,   265.7,  11.5015,  34.9843,2,  34.9863,2,    117.8,2, 125.9020,2,     19.4,2,     22.7,2,     0.00,2,    1.596,2,-999.000,9,-999.000,9,-999.0000,9,  2182.8,2,  2309.2,2,   7.6562,2,    25.00, -999.00,9, -999.00,9, -999.00,-999.000,9,  -999.0,9,     -999.0,9,     -999.0,9,         18,     -999.0,9,     -999.0,9,     -999.0,9,     -999.0,9
33RO20180423,        I7N,      59,          1,        119,      11083,2,20180513,       2139,    -7.0392,    53.9578,       3877,   213.4,  12.5550,  35.0123,2,  35.0138,2,     96.1,2, 102.4680,2,     21.4,2,     23.3,2,     0.01,2,    1.642,2,-999.000,9,-999.000,9,-999.0000,9,  2189.7,2,  2309.8,2,   7.6441,2,    25.00, -999.00,9, -999.00,9, -999.00,-999.000,9,  -999.0,9,     -999.0,9,     -999.0,9,         19,     -999.0,9,     -999.0,9,     -999.0,9,     -999.0,9
33RO20180423,        I7N,      59,          1,        120,      11118,2,20180513,       2139,    -7.0392,    53.9578,       3877,   173.6,  13.7311,  35.0880,2,  35.0882,2,     97.9,2, 104.6500,2,     18.7,2,     21.4,2,     0.01,2,    1.523,2,   2.022,2,   1.155,2,   0.8255,2,  2177.0,2,  2312.4,2,   7.6724,2,    25.00, -999.00,9, -999.00,9, -999.00,-999.000,1,  -999.0,9,     -999.0,1,     -999.0,9,         20,     -999.0,9,     -999.0,9,     -999.0,9,     -999.0,9
33RO20180423,        I7N,      59,          1,        121,      11119,2,20180513,       2139,    -7.0392,    53.9578,       3877,   132.5,  15.7631,  35.0830,2,  35.0967,2,     84.4,2,  89.7040,2,     18.5,2,     21.1,2,     0.03,2,    1.500,2,-999.000,9,-999.000,9,-999.0000,9,  2170.6,2,  2308.6,2,   7.6854,2,    25.00, -999.00,9, -999.00,9, -999.00,-999.000,9,  -999.0,9,     -999.0,9,     -999.0,9,         21,     -999.0,9,     -999.0,9,     -999.0,9,     -999.0,9
33RO20180423,        I7N,      59,          1,        122,      11120,2,20180513,       2139,    -7.0392,    53.9578,       3877,    90.4,  19.3614,  35.1769,2,  35.1796,6,    108.1,2, 114.8530,2,     12.4,2,     14.9,2,     0.15,2,    1.116,2,-999.000,9,-999.000,9,-999.0000,9,  2124.8,2,  2308.4,6,   7.7952,2,    25.00, -999.00,9, -999.00,9, -999.00,-999.000,9,  -999.0,9,     -999.0,9,     -999.0,9,         22,     -999.0,9,     -999.0,9,     -999.0,9,     -999.0,9
33RO20180423,        I7N,      59,          1,        123,      11121,2,20180513,       2139,    -7.0392,    53.9578,       3877,    44.2,  24.7505,  35.1956,2,  35.2010,2,    164.5,2, 172.0340,2,      5.5,2,      3.8,2,     0.29,2,    0.471,2,   1.635,2,   1.012,2,   1.2315,2,  2039.4,2,  2308.2,2,   7.9668,6,    25.00, -999.00,9, -999.00,9, -999.00,-999.000,1,  -999.0,9,     -999.0,1,     -999.0,9,         23,     -999.0,9,     -999.0,9,     -999.0,9,     -999.0,9
33RO20180423,        I7N,      59,          1,        124,      11122,2,20180513,       2139,    -7.0392,    53.9578,       3877,     3.3,  28.3776,  34.4231,2,  34.4264,2,    186.0,2, 194.4010,2,      2.4,2,      0.1,2,     0.01,2,    0.130,2,   1.454,2,   0.922,2,   1.3449,2,  1941.3,6,  2242.6,3,   8.0686,2,    25.00, -999.00,9, -999.00,9, -999.00,-999.000,1,  -999.0,9,     -999.0,1,     -999.0,9,         24,     -999.0,9,     -999.0,9,     -999.0,9,     -999.0,9