BOTTLE,20230801CCHSIOCBG
EXPOCODE,SECT_ID,STNNBR,CASTNO,SAMPNO,BTLNBR,BTLNBR_FLAG_W,DATE,TIME,LATITUDE,LONGITUDE,DEPTH,CTDPRS,CTDTMP,CTDSAL,CTDSAL_FLAG_W,SALNTY,SALNTY_FLAG_W,CTDOXY,CTDOXY_FLAG_W,OXYGEN,OXYGEN_FLAG_W,SILCAT,SILCAT_FLAG_W,NITRAT,NITRAT_FLAG_W,NITRIT,NITRIT_FLAG_W,PHSPHT,PHSPHT_FLAG_W,CFC-11,CFC-11_FLAG_W,CFC-12,CFC-12_FLAG_W,SF6,SF6_FLAG_W,TCARBN,TCARBN_FLAG_W,ALKALI,ALKALI_FLAG_W,PH_SWS,PH_SWS_FLAG_W,PH_TMP,DELC13,DELC13_FLAG_W,DELC14,DELC14_FLAG_W,C14ERR,CCL4,CCL4_FLAG_W,DOC,DOC_FLAG_W,N2O,N2O_FLAG_W,CALCIUM,CALCIUM_FLAG_W,SAMPNO_U,DNSSAL,DNSSAL_FLAG_W,DNSSAL2,DNSSAL2_FLAG_W,SALNTY_DNSSAL,SALNTY_DNSSAL_FLAG_W,SALNTY_DNSSAL2,SALNTY_DNSSAL2_FLAG_W
,,,,,,,,,,,METERS,DBAR,ITS-90,PSS-78,,PSS-78,,UMOL/KG,,UMOL/KG,,UMOL/KG,,UMOL/KG,,UMOL/KG,,UMOL/KG,,PMOL/KG,,PMOL/KG,,FMOL/KG,,UMOL/KG,,UMOL/KG,,,,DEG C,/MILLE,,/MILLE,,/MILLE,PMOL/KG,,UMOL/KG,,NMOL/KG,,MMOL/KG,,,G/KG,,G/KG,,PSS-78,,PSS-78,
33RO20180423,        I7N,     102,          1,        101,      11010,9,20180529,       0714,     9.9895,    64.6675,       4491,  4491.6,   1.6491,  34.7300,2,  34.7334,2,    137.9,2, 158.9755,2,    137.9,6,     35.1,6,     0.01,6,    2.445,6,   0.011,2,   0.007,2,   0.0084,2,  2325.2,2,  2432.1,2,   7.6032,6,    25.00, -999.00,9, -999.00,9, -999.00,-999.000,9,  -999.0,9,     -999.0,9,     -999.0,9,          1,     -999.0,9,     -999.0,9,     -999.0,9,     -999.0,9
33RO20180423,        I7N,     102,          1,        102,      11101,9,20180529,       0714,     9.9895,    64.6675,       4491,  4300.1,   1.6889,  34.7329,2,  34.7409,6,    136.0,2, 157.3700,2,    137.8,6,     35.2,6,     0.00,6,    2.455,6,   0.001,2,   0.005,2,   0.0063,2,  2324.3,2,  2428.6,2,   7.5937,2,    25.00, -999.00,9, -999.00,9, -999.00,-999.000,9,  -999.0,9,     -999.0,9,     -999.0,9,          2,     -999.0,9,     -999.0,9,     -999.0,9,     -999.0,9
33RO20180423,        I7N,     102,          1,        103,      11102,9,20180529,       0714,     9.9895,    64.6675,       4491,  4100.2,   1.6901,  34.7343,2,  34.7383,2,    135.8,2, 156.9880,2,    137.3,6,     35.1,6,     0.00,6,    2.468,6,   0.000,2,   0.002,2,        0,2,  2320.2,2,  2425.0,2,   7.5887,2,    25.00, -999.00,9, -999.00,9, -999.00,-999.000,9,  -999.0,9,     -999.0,9,     -999.0,9,          3,     -999.0,9,     -999.0,9,     -999.0,9,     -999.0,9
33RO20180423,        I7N,     102,          1,        104,      11103,9,20180529,       0714,     9.9895,    64.6675,       4491,  3800.8,   1.6999,  34.7364,2,  34.7381,2,    135.5,2, 156.5360,2,    136.7,6,     35.1,6,     0.00,6,    2.474,6,   0.000,2,   0.002,2,        0,2,  2319.4,2,  2425.5,2,   7.5870,2,    25.00, -999.00,9, -999.00,9, -999.00,-999.000,9,  -999.0,9,     -999.0,9,     -999.0,9,          4,     -999.0,9,     -999.0,9,     -999.0,9,     -999.0,9
33RO20180423,        I7N,     102,          1,        105,      11104,9,20180529,       0714,     9.9895,    64.6675,       4491,  3500.6,   1.7135,  34.7380,2,  34.7410,2,    134.5,2, 155.1070,2,    136.3,2,     35.0,2,     0.00,2,    2.461,2,   0.000,2,   0.002,2,   0.0134,2,  2319.6,2,  2425.1,6,   7.5849,2,    25.00, -999.00,9, -999.00,9, -999.00,-999.000,9,  -999.0,9,     -999.0,9,     -999.0,9,          5,     -999.0,9,     -999.0,9,     -999.0,9,     -999.0,9
33RO20180423,        I7N,     102,          1,        106,      11105,9,20180529,       0714,     9.9895,    64.6675,       4491,  3201.0,   1.7437,  34.7405,2,  34.7534,2,    132.7,2, 152.8210,2,    136.1,2,     35.3,2,     0.00,2,    2.480,2,   0.000,2,   0.001,2,        0,2,  2321.0,2,  2423.6,2,   7.5815,2,    25.00, -999.00,9, -999.00,9, -999.00,-999.000,9,  -999.0,9,     -999.0,9,     -999.0,9,          6,     -999.0,9,     -999.0,9,     -999.0,9,     -999.0,9
33RO20180423,        I7N,     102,          1,        107,      11106,9,20180529,       0714,     9.9895,    64.6675,       4491,  2899.6,   1.8134,  34.7458,2,  34.7607,2,    127.8,2, 146.3350,2,    137.6,2,     35.5,2,     0.00,2,    2.497,2,   0.001,6,   0.003,6,        0,6,  2324.7,2,  2421.4,2,   7.5716,2,    25.00, -999.00,9, -999.00,9, -999.00,-999.000,9,  -999.0,9,     -999.0,9,     -999.0,9,          7,     -999.0,9,     -999.0,9,     -999.0,9,     -999.0,9
33RO20180423,        I7N,     102,          1,        108,      11107,9,20180529,       0714,     9.9895,    64.6675,       4491,  2600.4,   1.9863,  34.7574,2,  34.7681,2,    116.9,2, 133.6880,2,    139.3,2,     36.2,2,     0.00,2,    2.575,2,   0.000,2,   0.002,2,   0.0094,2,  2334.7,2,  2425.4,2,   7.5559,2,    25.00, -999.00,9, -999.00,9, -999.00,-999.000,9,  -999.0,9,     -999.0,9,     -999.0,9,          8,     -999.0,9,     -999.0,9,     -999.0,9,     -999.0,9
33RO20180423,        I7N,     102,          1,        109,      11108,9,20180529,       0714,     9.9895,    64.6675,       4491,  2299.9,   2.2715,  34.7726,2,  34.7789,2,    113.3,2, 128.7710,2,    133.7,2,     36.2,2,     0.00,2,    2.589,2,   0.000,2,   0.001,2,   0.0081,2,  2329.8,2,  2417.9,2,   7.5490,2,    25.00, -999.00,9, -999.00,9, -999.00,-999.000,9,  -999.0,9,     -999.0,9,     -999.0,9,          9,     -999.0,9,     -999.0,9,     -999.0,9,     -999.0,9
33RO20180423,        I7N,     102,          1,        110,      11109,9,20180529,       0714,     9.9895,    64.6675,       4491,  1999.1,   2.7895,  34.8021,2,  34.8056,2,    100.6,2, 113.6000,2,    127.5,2,     36.8,2,     0.00,2,    2.663,2,   0.001,2,   0.002,2,   0.0058,2,  2331.3,2,  2416.3,2,   7.5321,2,    25.00, -999.00,9, -999.00,9, -999.00,-999.000,9,  -999.0,9,     -999.0,9,     -999.0,9,         10,     -999.0,9,     -999.0,9,     -999.0,9,     -999.0,9
33RO20180423,        I7N,     102,          1,        111,      11110,9,20180529,       0714,     9.9895,    64.6675,       4491,  1716.8,   3.6865,  34.8617,2,  34.8658,2,     79.0,2,  89.0605,2,    119.1,2,     37.4,2,     0.00,2,    2.764,2,   0.003,2,   0.004,2,   0.0083,2,  2334.3,2,  2407.9,2,   7.5012,2,    25.00, -999.00,9, -999.00,9, -999.00,-999.000,9,  -999.0,9,     -999.0,9,     -999.0,9,         11,     -999.0,9,     -999.0,9,     -999.0,9,     -999.0,9
33RO20180423,        I7N,     102,          1,        112,      11111,9,20180529,       0714,     9.9895,    64.6675,       4491,  1467.4,   4.9080,  34.9594,2,  34.9761,2,     54.7,2,  62.1210,2,    107.1,2,     37.9,2,     0.00,2,    2.867,2,   0.005,2,   0.004,2,   0.0004,2,  2331.1,2,  2396.9,2,   7.4725,2,    25.00, -999.00,9, -999.00,9, -999.00,-999.000,9,  -999.0,9,     -999.0,9,     -999.0,9,         12,     -999.0,9,     -999.0,9,     -999.0,9,     -999.0,9
33RO20180423,        I7N,     102,          1,        113,      11112,9,20180529,       0714,     9.9895,    64.6675,       4491,  1233.2,   6.3422,  35.0850,2,  35.0895,2,     35.4,2,  40.4420,2,     92.7,2,     38.2,2,     0.00,2,    2.880,2,   0.023,2,   0.015,2,   0.0045,2,  2323.1,2,  2379.2,2,   7.4573,2,    25.00, -999.00,9, -999.00,9, -999.00,-999.000,9,  -999.0,9,     -999.0,9,     -999.0,9,         13,     -999.0,9,     -999.0,9,     -999.0,9,     -999.0,9
33RO20180423,        I7N,     102,          1,        114,      11113,9,20180529,       0714,     9.9895,    64.6675,       4491,  1033.0,   8.0828,  35.2537,2,  35.2575,2,     18.9,2,  22.4550,2,     76.8,2,     37.3,2,     0.00,2,    2.839,2,   0.068,2,   0.043,2,   0.0018,2,  2312.5,2,  2366.4,6,   7.4516,2,    25.00, -999.00,9, -999.00,9, -999.00,-999.000,9,  -999.0,9,     -999.0,9,     -999.0,9,         14,     -999.0,9,     -999.0,9,     -999.0,9,     -999.0,9
33RO20180423,        I7N,     102,          1,        115,      11114,9,20180529,       0714,     9.9895,    64.6675,       4491,   849.9,   9.7722,  35.4165,2,  35.4198,2,      5.7,2,   8.2320,2,     62.5,2,     35.4,2,     0.02,2,    2.816,2,   0.117,2,   0.076,2,   0.0066,2,  2302.3,2,  2359.6,2,   7.4524,6,    25.00, -999.00,9, -999.00,9, -999.00,-999.000,9,  -999.0,9,     -999.0,9,     -999.0,9,         15,     -999.0,9,     -999.0,9,     -999.0,9,     -999.0,9
33RO20180423,        I7N,     102,          1,        116,      11115,9,20180529,       0714,     9.9895,    64.6675,       4491,   700.3,  10.4812,  35.3811,2,  35.3895,2,     10.1,2,  12.7860,2,     51.0,2,     34.3,2,     0.00,2,    2.665,2,   0.251,6,   0.151,6,   0.0677,6,  2284.8,6,  2348.6,2,   7.4620,2,    25.00, -999.00,9, -999.00,9, -999.00,-999.000,9,  -999.0,9,     -999.0,9,     -999.0,9,         16,     -999.0,9,     -999.0,9,     -999.0,9,     -999.0,9
33RO20180423,        I7N,     102,          1,        117,      11116,9,20180529,       0714,     9.9895,    64.6675,       4491,   550.3,  11.5867,  35.4534,2,  35.4547,6,      4.2,2,   7.2910,2,     41.3,2,     31.6,2,     0.00,2,    2.596,2,   0.413,2,   0.259,2,   0.0903,2,  2281.2,2,  2341.6,2,   7.4614,2,    25.00, -999.00,9, -999.00,9, -999.00,-999.000,9,  -999.0,9,     -999.0,9,     -999.0,9,         17,     -999.0,9,     -999.0,9,     -999.0,9,     -999.0,9
33RO20180423,        I7N,     102,          1,        118,      11117,9,20180529,       0714,     9.9895,    64.6675,       4491,   400.9,  12.1121,  35.3148,2,  35.3190,2,     17.2,2,  20.3090,2,     30.6,2,     31.5,2,     0.00,2,    2.339,2,   1.025,2,   0.580,2,   0.2749,2,  2261.1,2,  2327.5,2,   7.4747,2,    25.00, -999.00,9, -999.00,9, -999.00,-999.000,9,  -999.0,9,     -999.0,9,     -999.0,9,         18,     -999.0,9,     -999.0,9,     -999.0,9,     -999.0,9
33RO20180423,        I7N,     102,          1,        119,      11083,9,20180529,       0714,     9.9895,    64.6675,       4491,   266.9,  13.9677,  35.3399,2,  35.3580,2,     20.5,2,  24.9110,2,     23.9,2,     28.1,2,     0.00,2,    2.176,2,   1.419,2,   0.828,2,   0.4665,2,  2247.4,2,  2324.1,2,   7.5097,2,    25.00, -999.00,9, -999.00,9, -999.00,-999.000,9,  -999.0,9,     -999.0,9,     -999.0,9,         19,     -999.0,9,     -999.0,9,     -999.0,9,     -999.0,9
33RO20180423,        I7N,     102,          1,        120,      11118,9,20180529,       0714,     9.9895,    64.6675,       4491,   182.4,  17.5418,  35.4833,2,  35.4850,2,     21.4,2,  24.9120,2,     18.0,2,     25.5,2,     0.01,2,    2.008,2,   1.524,2,   0.937,2,   0.7662,2,  2220.9,2,  2322.2,2,   7.5863,2,    25.00, -999.00,9, -999.00,9, -999.00,-999.000,9,  -999.0,9,     -999.0,9,     -999.0,9,         20,     -999.0,9,     -999.0,9,     -999.0,9,     -999.0,9
33RO20180423,        I7N,     102,          1,        121,      11119,9,20180529,       0714,     9.9895,    64.6675,       4491,   133.0,  24.4235,  36.1829,2,  36.1911,2,    120.3,2, 127.8130,2,      5.2,2,     11.2,2,     0.04,2,    0.992,2,   1.570,2,   0.990,2,   1.3872,2,  2121.2,2,  2360.8,2,   7.9024,2,    25.00, -999.00,9, -999.00,9, -999.00,-999.000,9,  -999.0,9,     -999.0,9,     -999.0,9,         21,     -999.0,9,     -999.0,9,     -999.0,9,     -999.0,9
33RO20180423,        I7N,     102,          1,        122,      11120,9,20180529,       0714,     9.9895,    64.6675,       4491,    83.7,  26.6853,  35.8251,2,  35.8586,2,    155.5,2, 167.8290,2,      2.7,2,      3.3,2,     0.20,2,    0.484,2,   1.520,2,   0.961,2,   1.3423,2,  2055.9,2,  2346.3,6,   7.9905,2,    25.00, -999.00,9, -999.00,9, -999.00,-999.000,9,  -999.0,9,     -999.0,9,     -999.0,9,         22,     -999.0,9,     -999.0,9,     -999.0,9,     -999.0,9
33RO20180423,        I7N,     102,          1,        123,      11121,9,20180529,       0714,     9.9895,    64.6675,       4491,    35.8,  30.1056,  35.4396,2,  35.4427,2,    184.3,2, 192.5020,2,      1.3,2,      0.0,2,     0.00,2,    0.142,2,   1.361,2,   0.877,2,    1.356,2,  1984.2,2,  2327.4,2,   8.0888,6,    25.00, -999.00,9, -999.00,9, -999.00,-999.000,9,  -999.0,9,     -999.0,9,     -999.0,9,         23,     -999.0,9,     -999.0,9,     -999.0,9,     -999.0,9
33RO20180423,        I7N,     102,          1,        124,      11122,9,20180529,       0714,     9.9895,    64.6675,       4491,     3.4,  30.1419,  35.4406,2,  35.4428,2,    184.1,2, 192.2480,2,      1.4,2,      0.0,2,     0.00,2,    0.127,2,   1.359,2,   0.876,2,   1.3453,2,  1983.9,6,  2333.0,2,   8.0886,2,    25.00, -999.00,9, -999.00,9, -999.00,-999.000,9,  -999.0,9,     -999.0,9,     -999.0,9,         24,     -999.0,9,     -999.0,9,     -999.0,9,     -999.0,9