BOTTLE,20230801CCHSIOCBG
EXPOCODE,SECT_ID,STNNBR,CASTNO,SAMPNO,BTLNBR,BTLNBR_FLAG_W,DATE,TIME,LATITUDE,LONGITUDE,DEPTH,CTDPRS,CTDTMP,CTDSAL,CTDSAL_FLAG_W,SALNTY,SALNTY_FLAG_W,CTDOXY,CTDOXY_FLAG_W,OXYGEN,OXYGEN_FLAG_W,SILCAT,SILCAT_FLAG_W,NITRAT,NITRAT_FLAG_W,NITRIT,NITRIT_FLAG_W,PHSPHT,PHSPHT_FLAG_W,CFC-11,CFC-11_FLAG_W,CFC-12,CFC-12_FLAG_W,SF6,SF6_FLAG_W,TCARBN,TCARBN_FLAG_W,ALKALI,ALKALI_FLAG_W,PH_SWS,PH_SWS_FLAG_W,PH_TMP,DELC13,DELC13_FLAG_W,DELC14,DELC14_FLAG_W,C14ERR,CCL4,CCL4_FLAG_W,DOC,DOC_FLAG_W,N2O,N2O_FLAG_W,CALCIUM,CALCIUM_FLAG_W,SAMPNO_U,DNSSAL,DNSSAL_FLAG_W,DNSSAL2,DNSSAL2_FLAG_W,SALNTY_DNSSAL,SALNTY_DNSSAL_FLAG_W,SALNTY_DNSSAL2,SALNTY_DNSSAL2_FLAG_W
,,,,,,,,,,,METERS,DBAR,ITS-90,PSS-78,,PSS-78,,UMOL/KG,,UMOL/KG,,UMOL/KG,,UMOL/KG,,UMOL/KG,,UMOL/KG,,PMOL/KG,,PMOL/KG,,FMOL/KG,,UMOL/KG,,UMOL/KG,,,,DEG C,/MILLE,,/MILLE,,/MILLE,PMOL/KG,,UMOL/KG,,NMOL/KG,,MMOL/KG,,,G/KG,,G/KG,,PSS-78,,PSS-78,
33RO20180423,        I7N,      83,          1,        101,      11010,2,20180524,       0458,     2.3995,    57.6932,       4435,  4507.8,   1.3685,  34.7191,2,  34.7199,2,    158.2,2, 183.3950,2,    133.2,6,     34.0,6,     0.00,6,    2.359,6,   0.019,2,   0.010,2,        0,2,  2293.3,2,  2403.8,2,   7.6014,2,    25.00, -999.00,9, -999.00,9, -999.00,-999.000,1,  -999.0,9,     -999.0,1,     -999.0,9,          1,     -999.0,9,     -999.0,9,     -999.0,9,     -999.0,9
33RO20180423,        I7N,      83,          1,        102,      11101,2,20180524,       0458,     2.3995,    57.6932,       4435,  4268.5,   1.4106,  34.7218,2,  34.7254,2,    154.9,2, 179.0810,2,    133.5,6,     34.1,6,     0.00,6,    2.368,6,-999.000,9,-999.000,9,-999.0000,9,  2293.4,2,  2402.4,6,   7.5994,2,    25.00, -999.00,9, -999.00,9, -999.00,-999.000,9,    43.7,3,     -999.0,9,     -999.0,9,          2,     -999.0,9,     -999.0,9,     -999.0,9,     -999.0,9
33RO20180423,        I7N,      83,          1,        103,      11102,2,20180524,       0458,     2.3995,    57.6932,       4435,  4000.0,   1.4550,  34.7245,2,  34.7363,2,    152.1,2, 175.6730,2,    133.4,6,     34.3,6,     0.00,6,    2.393,6,   0.010,2,   0.005,2,        0,2,  2295.5,2,  2405.8,2,   7.5984,6,    25.00, -999.00,9, -999.00,9, -999.00,-999.000,1,    45.1,3,     -999.0,1,     -999.0,9,          3,     -999.0,9,     -999.0,9,     -999.0,9,     -999.0,9
33RO20180423,        I7N,      83,          1,        104,      11103,2,20180524,       0458,     2.3995,    57.6932,       4435,  3700.1,   1.5279,  34.7282,2,  34.7431,2,    148.4,2, 171.0040,2,    133.6,6,     34.6,6,     0.00,6,    2.413,6,-999.000,9,-999.000,9,-999.0000,9,  2298.1,2,  2410.6,2,   7.5951,2,    25.00, -999.00,9, -999.00,9, -999.00,-999.000,9,    46.0,3,     -999.0,9,     -999.0,9,          4,     -999.0,9,     -999.0,9,     -999.0,9,     -999.0,9
33RO20180423,        I7N,      83,          1,        105,      11104,2,20180524,       0458,     2.3995,    57.6932,       4435,  3399.0,   1.6673,  34.7346,2,  34.7349,2,    142.3,2, 163.9880,2,    133.7,2,     34.9,2,     0.00,2,    2.439,2,   0.003,2,   0.002,2,   0.0032,2,  2303.0,2,  2423.7,4,   7.5871,2,    25.00, -999.00,9, -999.00,9, -999.00,-999.000,1,    46.3,3,     -999.0,1,     -999.0,9,          5,     -999.0,9,     -999.0,9,     -999.0,9,     -999.0,9
33RO20180423,        I7N,      83,          1,        106,      11105,2,20180524,       0458,     2.3995,    57.6932,       4435,  3099.1,   1.7869,  34.7408,2,  34.7783,2,    137.3,2, 157.5290,2,    133.2,2,     35.0,2,     0.00,2,    2.458,2,-999.000,9,-999.000,9,-999.0000,9,  2305.4,2,  2412.2,2,   7.5816,2,    25.00, -999.00,9, -999.00,9, -999.00,-999.000,9,  -999.0,9,     -999.0,9,     -999.0,9,          6,     -999.0,9,     -999.0,9,     -999.0,9,     -999.0,9
33RO20180423,        I7N,      83,          1,        107,      11106,2,20180524,       0458,     2.3995,    57.6932,       4435,  2801.2,   1.9686,  34.7503,2,  34.7592,6,    130.4,2, 149.2360,2,    132.8,2,     35.6,2,     0.00,2,    2.497,2,-999.000,9,-999.000,9,-999.0000,9,  2309.6,2,  2412.1,2,   7.5709,2,    25.00, -999.00,9, -999.00,9, -999.00,-999.000,9,  -999.0,9,     -999.0,9,     -999.0,9,          7,     -999.0,9,     -999.0,9,     -999.0,9,     -999.0,9
33RO20180423,        I7N,      83,          1,        108,      11107,2,20180524,       0458,     2.3995,    57.6932,       4435,  2500.8,   2.1939,  34.7611,2,  34.7683,2,    124.0,2, 141.0365,2,    130.8,2,     35.8,2,     0.00,2,    2.540,2,   0.002,6,   0.003,6,   0.0026,6,  2312.6,2,  2410.6,2,   7.5630,2,    25.00, -999.00,9, -999.00,9, -999.00,-999.000,1,  -999.0,9,     -999.0,1,     -999.0,9,          8,     -999.0,9,     -999.0,9,     -999.0,9,     -999.0,9
33RO20180423,        I7N,      83,          1,        109,      11108,2,20180524,       0458,     2.3995,    57.6932,       4435,  2201.0,   2.5729,  34.7777,2,  34.7787,2,    115.4,2, 130.5630,2,    126.3,2,     36.2,2,     0.00,2,    2.585,2,-999.000,9,-999.000,9,-999.0000,9,  2313.0,2,  2405.8,2,   7.5511,2,    25.00, -999.00,9, -999.00,9, -999.00,-999.000,9,    46.0,3,     -999.0,9,     -999.0,9,          9,     -999.0,9,     -999.0,9,     -999.0,9,     -999.0,9
33RO20180423,        I7N,      83,          1,        110,      11109,2,20180524,       0458,     2.3995,    57.6932,       4435,  1881.4,   3.3184,  34.8130,2,  34.8143,2,     99.7,2, 111.8420,2,    117.6,2,     36.6,2,     0.00,2,    2.643,2,-999.000,9,-999.000,9,-999.0000,9,  2312.9,2,  2400.1,2,   7.5275,2,    25.00, -999.00,9, -999.00,9, -999.00,-999.000,9,    46.6,3,     -999.0,9,     -999.0,9,         10,     -999.0,9,     -999.0,9,     -999.0,9,     -999.0,9
33RO20180423,        I7N,      83,          1,        111,      11110,2,20180524,       0458,     2.3995,    57.6932,       4435,  1633.5,   4.1390,  34.8533,2,  34.8543,2,     84.1,2,  94.1210,2,    109.1,2,     37.1,2,     0.00,2,    2.714,2,   0.007,2,   0.006,2,   0.0077,2,  2310.9,2,  2392.2,2,   7.5084,2,    25.00, -999.00,9, -999.00,9, -999.00,-999.000,1,    44.8,3,     -999.0,1,     -999.0,9,         11,     -999.0,9,     -999.0,9,     -999.0,9,     -999.0,9
33RO20180423,        I7N,      83,          1,        112,      11111,2,20180524,       0458,     2.3995,    57.6932,       4435,  1369.1,   5.3282,  34.9293,2,  34.9308,2,     63.1,2,  70.2330,2,     98.0,2,     37.6,2,     0.00,2,    2.776,2,-999.000,9,-999.000,9,-999.0000,9,  2307.8,2,  2379.1,6,   7.4859,2,    25.00, -999.00,9, -999.00,9, -999.00,-999.000,9,    45.7,3,     -999.0,9,     -999.0,9,         12,     -999.0,9,     -999.0,9,     -999.0,9,     -999.0,9
33RO20180423,        I7N,      83,          1,        113,      11112,2,20180524,       0458,     2.3995,    57.6932,       4435,  1166.6,   6.2030,  34.9838,2,  34.9871,2,     49.5,2,  55.9160,2,     90.1,2,     37.8,2,     0.00,2,    2.782,2,-999.000,9,-999.000,9,-999.0000,9,  2305.8,6,  2372.8,2,   7.4722,2,    25.00, -999.00,9, -999.00,9, -999.00,-999.000,9,    44.4,3,     -999.0,9,     -999.0,9,         13,     -999.0,9,     -999.0,9,     -999.0,9,     -999.0,9
33RO20180423,        I7N,      83,          1,        114,      11113,2,20180524,       0458,     2.3995,    57.6932,       4435,   948.5,   7.2386,  35.0368,2,  35.0388,2,     39.5,2,  45.1840,2,     79.2,2,     37.4,2,     0.00,2,    2.757,2,   0.070,2,   0.042,2,        0,2,  2298.6,2,  2365.1,2,   7.4674,6,    25.00, -999.00,9, -999.00,9, -999.00,-999.000,1,    44.3,3,     -999.0,1,     -999.0,9,         14,     -999.0,9,     -999.0,9,     -999.0,9,     -999.0,9
33RO20180423,        I7N,      83,          1,        115,      11114,2,20180524,       0458,     2.3995,    57.6932,       4435,   752.5,   8.9889,  35.1761,2,  35.1766,2,     32.5,2,  37.2960,2,     60.2,2,     35.4,2,     0.00,2,    2.643,2,   0.269,2,   0.153,2,   0.0015,2,  2278.6,2,  2354.2,2,   7.4772,2,    25.00, -999.00,9, -999.00,9, -999.00,-999.000,1,    48.8,3,     -999.0,1,     -999.0,9,         15,     -999.0,9,     -999.0,9,     -999.0,9,     -999.0,9
33RO20180423,        I7N,      83,          1,        116,      11115,2,20180524,       0458,     2.3995,    57.6932,       4435,   649.8,   9.5175,  35.1210,2,  35.1296,2,     46.8,2,  51.3700,2,     48.2,2,     33.5,2,     0.00,2,    2.473,2,   0.598,2,   0.330,2,   0.1417,2,  2257.6,2,  2336.7,2,   7.5049,2,    25.00, -999.00,9, -999.00,9, -999.00,-999.000,1,  -999.0,9,     -999.0,1,     -999.0,9,         16,     -999.0,9,     -999.0,9,     -999.0,9,     -999.0,9
33RO20180423,        I7N,      83,          1,        117,      11116,2,20180524,       0458,     2.3995,    57.6932,       4435,   483.0,  10.4058,  35.1672,2,  35.1680,2,     54.0,2,  59.8650,2,     38.0,2,     31.2,2,     0.00,2,    2.279,2,   1.015,2,   0.556,2,   0.2782,2,  2242.6,2,  2329.0,2,   7.5256,2,    25.00, -999.00,9, -999.00,9, -999.00,-999.000,1,    57.6,3,     -999.0,1,     -999.0,9,         17,     -999.0,9,     -999.0,9,     -999.0,9,     -999.0,9
33RO20180423,        I7N,      83,          1,        118,      11117,2,20180524,       0458,     2.3995,    57.6932,       4435,   374.6,  11.0411,  35.1148,2,  35.1158,2,     79.8,2,  87.2620,2,     27.3,2,     27.5,2,     0.00,2,    1.979,2,   1.645,2,   0.899,2,   0.4307,2,  2216.5,2,  2320.6,2,   7.5767,2,    25.00, -999.00,9, -999.00,9, -999.00,-999.000,1,    60.5,3,     -999.0,1,     -999.0,9,         18,     -999.0,9,     -999.0,9,     -999.0,9,     -999.0,9
33RO20180423,        I7N,      83,          1,        119,      11083,2,20180524,       0458,     2.3995,    57.6932,       4435,   298.9,  11.6747,  35.1379,2,  35.1422,2,     69.3,2,  75.5130,2,     24.9,2,     27.7,2,     0.01,2,    1.949,2,   1.706,2,   0.928,2,   0.4653,2,  2218.2,2,  2317.5,2,   7.5662,2,    25.00, -999.00,9, -999.00,9, -999.00,-999.000,1,    63.9,3,     -999.0,1,     -999.0,9,         19,     -999.0,9,     -999.0,9,     -999.0,9,     -999.0,9
33RO20180423,        I7N,      83,          1,        120,      11118,2,20180524,       0458,     2.3995,    57.6932,       4435,   207.4,  13.3612,  35.1812,2,  35.1822,2,     80.6,2,  87.3980,2,     19.3,2,     23.8,2,     0.00,2,    1.701,2,-999.000,9,-999.000,9,-999.0000,9,  2196.1,2,  2314.6,2,   7.6243,2,    25.00, -999.00,9, -999.00,9, -999.00,-999.000,9,    55.9,3,     -999.0,9,     -999.0,9,         20,     -999.0,9,     -999.0,9,     -999.0,9,     -999.0,9
33RO20180423,        I7N,      83,          1,        121,      11119,2,20180524,       0458,     2.3995,    57.6932,       4435,   166.5,  14.6275,  35.2032,2,  35.2088,2,    101.3,2, 108.0280,2,     15.8,2,     19.9,2,     0.01,2,    1.433,2,   2.099,2,   1.206,2,   0.9235,2,  2171.1,2,  2313.6,2,   7.6923,2,    25.00, -999.00,9, -999.00,9, -999.00,-999.000,1,    59.5,3,     -999.0,1,     -999.0,9,         21,     -999.0,9,     -999.0,9,     -999.0,9,     -999.0,9
33RO20180423,        I7N,      83,          1,        122,      11120,2,20180524,       0458,     2.3995,    57.6932,       4435,   113.1,  19.3068,  35.3735,2,  35.3773,2,     87.7,2,  93.9190,2,     12.2,2,     17.6,2,     0.03,2,    1.296,2,-999.000,9,-999.000,9,-999.0000,9,  2146.6,2,  2318.9,6,   7.7600,2,    25.00, -999.00,9, -999.00,9, -999.00,-999.000,9,    59.0,3,     -999.0,9,     -999.0,9,         22,     -999.0,9,     -999.0,9,     -999.0,9,     -999.0,9
33RO20180423,        I7N,      83,          1,        123,      11121,2,20180524,       0458,     2.3995,    57.6932,       4435,    65.8,  27.5817,  35.4552,2,  35.4536,6,    181.6,2, 187.9330,2,      2.4,2,      0.4,2,     0.18,2,    0.302,2,   1.523,2,   0.967,2,   1.3123,2,  2022.0,2,  2325.5,2,   8.0156,6,    25.00, -999.00,9, -999.00,9, -999.00,-999.000,1,    76.8,3,     -999.0,1,     -999.0,9,         23,     -999.0,9,     -999.0,9,     -999.0,9,     -999.0,9
33RO20180423,        I7N,      83,          1,        124,      11122,2,20180524,       0458,     2.3995,    57.6932,       4435,     3.3,  29.3352,  34.9633,2,  34.9695,2,    184.5,2, 192.8100,2,      1.6,2,      0.0,2,     0.00,2,    0.137,2,-999.000,9,-999.000,9,-999.0000,9,  1963.8,6,  2296.2,2,   8.0842,2,    25.00, -999.00,9, -999.00,9, -999.00,-999.000,9,    74.0,3,     -999.0,9,     -999.0,9,         24,     -999.0,9,     -999.0,9,     -999.0,9,     -999.0,9