BOTTLE,20230801CCHSIOCBG
EXPOCODE,SECT_ID,STNNBR,CASTNO,SAMPNO,BTLNBR,BTLNBR_FLAG_W,DATE,TIME,LATITUDE,LONGITUDE,DEPTH,CTDPRS,CTDTMP,CTDSAL,CTDSAL_FLAG_W,SALNTY,SALNTY_FLAG_W,CTDOXY,CTDOXY_FLAG_W,OXYGEN,OXYGEN_FLAG_W,SILCAT,SILCAT_FLAG_W,NITRAT,NITRAT_FLAG_W,NITRIT,NITRIT_FLAG_W,PHSPHT,PHSPHT_FLAG_W,CFC-11,CFC-11_FLAG_W,CFC-12,CFC-12_FLAG_W,SF6,SF6_FLAG_W,TCARBN,TCARBN_FLAG_W,ALKALI,ALKALI_FLAG_W,PH_SWS,PH_SWS_FLAG_W,PH_TMP,DELC13,DELC13_FLAG_W,DELC14,DELC14_FLAG_W,C14ERR,CCL4,CCL4_FLAG_W,DOC,DOC_FLAG_W,N2O,N2O_FLAG_W,CALCIUM,CALCIUM_FLAG_W,SAMPNO_U,DNSSAL,DNSSAL_FLAG_W,DNSSAL2,DNSSAL2_FLAG_W,SALNTY_DNSSAL,SALNTY_DNSSAL_FLAG_W,SALNTY_DNSSAL2,SALNTY_DNSSAL2_FLAG_W
,,,,,,,,,,,METERS,DBAR,ITS-90,PSS-78,,PSS-78,,UMOL/KG,,UMOL/KG,,UMOL/KG,,UMOL/KG,,UMOL/KG,,UMOL/KG,,PMOL/KG,,PMOL/KG,,FMOL/KG,,UMOL/KG,,UMOL/KG,,,,DEG C,/MILLE,,/MILLE,,/MILLE,PMOL/KG,,UMOL/KG,,NMOL/KG,,MMOL/KG,,,G/KG,,G/KG,,PSS-78,,PSS-78,
33RO20180423,        I7N,      50,          1,        101,      11010,2,20180511,       2108,    -9.2587,    51.4290,       3336,  3383.0,   1.4994,  34.7268,2,  34.7338,2,    154.7,2, 174.7990,2,    128.6,6,     33.7,6,     0.00,6,    2.356,6,   0.016,2,   0.009,2,   0.0123,2,  2297.5,2,  2396.5,2,   7.5936,6,    25.00, -999.00,9, -999.00,9, -999.00,-999.000,1,  -999.0,9,     -999.0,1,     -999.0,9,          1,     -999.0,9,     -999.0,9,     -999.0,9,     -999.0,9
33RO20180423,        I7N,      50,          1,        102,      11101,2,20180511,       2108,    -9.2587,    51.4290,       3336,  3078.1,   1.7525,  34.7361,2,  34.7438,2,    144.9,2, 163.0140,2,    128.9,6,     34.3,6,     0.00,6,    2.402,6,-999.000,9,-999.000,9,-999.0000,9,  -999.0,9,  -999.0,9,   7.5850,2,    25.00, -999.00,9, -999.00,9, -999.00,-999.000,9,    41.4,3,     -999.0,9,     -999.0,9,          2,     -999.0,9,     -999.0,9,     -999.0,9,     -999.0,9
33RO20180423,        I7N,      50,          1,        103,      11102,2,20180511,       2108,    -9.2587,    51.4290,       3336,  2800.9,   1.9717,  34.7421,2,  34.7588,2,    139.0,2, 156.2780,2,    126.7,6,     34.4,6,     0.00,6,    2.425,6,-999.000,9,-999.000,9,-999.0000,9,  2304.2,2,  2402.0,6,   7.5785,2,    25.00, -999.00,9, -999.00,9, -999.00,-999.000,9,    45.0,3,     -999.0,9,     -999.0,9,          3,     -999.0,9,     -999.0,9,     -999.0,9,     -999.0,9
33RO20180423,        I7N,      50,          1,        104,      11103,2,20180511,       2108,    -9.2587,    51.4290,       3336,  2500.6,   2.1035,  34.7439,2,  34.7607,2,    136.7,2, 152.9960,2,    124.3,6,     34.5,6,     0.00,6,    2.434,6,-999.000,9,-999.000,9,-999.0000,9,  -999.0,9,  -999.0,9,   7.5739,2,    25.00, -999.00,9, -999.00,9, -999.00,-999.000,9,    46.4,3,     -999.0,9,     -999.0,9,          4,     -999.0,9,     -999.0,9,     -999.0,9,     -999.0,9
33RO20180423,        I7N,      50,          1,        105,      11104,2,20180511,       2108,    -9.2587,    51.4290,       3336,  2200.2,   2.3970,  34.7461,2,  34.7926,2,    132.4,2, 147.8610,2,    118.3,6,     34.6,6,     0.00,6,    2.442,6,-999.000,9,-999.000,9,-999.0000,9,  2300.7,2,  2400.7,2,   7.5686,2,    25.00, -999.00,9, -999.00,9, -999.00,-999.000,9,  -999.0,9,     -999.0,9,     -999.0,9,          5,     -999.0,9,     -999.0,9,     -999.0,9,     -999.0,9
33RO20180423,        I7N,      50,          1,        106,      11105,2,20180511,       2108,    -9.2587,    51.4290,       3336,  1882.8,   2.8565,  34.7395,2,  34.7426,2,    127.7,2, 142.5300,2,    109.0,2,     34.6,2,     0.00,2,    2.443,2,-999.000,9,-999.000,9,-999.0000,9,  -999.0,9,  -999.0,9,   7.5608,2,    25.00, -999.00,9, -999.00,9, -999.00,-999.000,9,    46.9,3,     -999.0,9,     -999.0,9,          6,     -999.0,9,     -999.0,9,     -999.0,9,     -999.0,9
33RO20180423,        I7N,      50,          1,        107,      11106,2,20180511,       2108,    -9.2587,    51.4290,       3336,  1632.7,   3.3732,  34.7458,2,  34.7544,2,    117.9,2, 130.2830,2,    102.1,2,     34.9,2,     0.00,2,    2.494,2,-999.000,9,-999.000,9,-999.0000,9,  2293.6,2,  2375.9,2,   7.5475,2,    25.00, -999.00,9, -999.00,9, -999.00,-999.000,9,    46.2,3,     -999.0,9,     -999.0,9,          7,     -999.0,9,     -999.0,9,     -999.0,9,     -999.0,9
33RO20180423,        I7N,      50,          1,        108,      11107,2,20180511,       2108,    -9.2587,    51.4290,       3336,  1365.3,   4.3562,  34.7576,2,  34.7586,2,    104.9,2, 116.1130,2,     92.4,2,     35.2,2,     0.00,2,    2.512,2,-999.000,9,-999.000,9,-999.0000,9,  -999.0,9,  -999.0,9,   7.5366,2,    25.00, -999.00,9, -999.00,9, -999.00,-999.000,9,  -999.0,9,     -999.0,9,     -999.0,9,          8,     -999.0,9,     -999.0,9,     -999.0,9,     -999.0,9
33RO20180423,        I7N,      50,          1,        109,      11108,2,20180511,       2108,    -9.2587,    51.4290,       3336,  1166.8,   5.4410,  34.7956,2,  34.7974,2,     76.9,2,  85.0990,2,     88.8,2,     36.4,2,     0.00,2,    2.631,2,-999.000,9,-999.000,9,-999.0000,9,  2297.7,2,  2363.2,6,   7.5034,2,    25.00, -999.00,9, -999.00,9, -999.00,-999.000,9,  -999.0,9,     -999.0,9,     -999.0,9,          9,     -999.0,9,     -999.0,9,     -999.0,9,     -999.0,9
33RO20180423,        I7N,      50,          1,        110,      11109,2,20180511,       2108,    -9.2587,    51.4290,       3336,   928.3,   6.4013,  34.7956,2,  34.8098,2,     73.2,2,  80.1880,2,     75.8,2,     35.6,2,     0.00,2,    2.558,2,-999.000,9,-999.000,9,-999.0000,9,  -999.0,9,  -999.0,9,   7.5053,6,    25.00, -999.00,9, -999.00,9, -999.00,-999.000,9,  -999.0,9,     -999.0,9,     -999.0,9,         10,     -999.0,9,     -999.0,9,     -999.0,9,     -999.0,9
33RO20180423,        I7N,      50,          1,        111,      11110,2,20180511,       2108,    -9.2587,    51.4290,       3336,   816.7,   6.9898,  34.8200,2,  34.8257,2,     73.6,2,  80.6100,2,     67.4,2,     34.7,2,     0.00,2,    2.502,2,-999.000,9,-999.000,9,-999.0000,9,  2273.8,2,  2344.8,2,   7.5122,2,    25.00, -999.00,9, -999.00,9, -999.00,-999.000,9,    49.3,3,     -999.0,9,     -999.0,9,         11,     -999.0,9,     -999.0,9,     -999.0,9,     -999.0,9
33RO20180423,        I7N,      50,          1,        112,      11111,2,20180511,       2108,    -9.2587,    51.4290,       3336,   691.5,   7.7805,  34.8065,2,  34.8377,2,     87.3,2,  94.7040,2,     52.7,2,     32.3,2,     0.00,2,    2.321,2,-999.000,9,-999.000,9,-999.0000,9,  2249.6,2,  2329.7,2,   7.5439,2,    25.00, -999.00,9, -999.00,9, -999.00,-999.000,9,    49.5,3,     -999.0,9,     -999.0,9,         12,     -999.0,9,     -999.0,9,     -999.0,9,     -999.0,9
33RO20180423,        I7N,      50,          1,        113,      11112,2,20180511,       2108,    -9.2587,    51.4290,       3336,   550.5,   8.7583,  34.8031,2,  34.8032,2,    104.7,2, 113.1790,2,     37.6,2,     29.1,2,     0.00,2,    2.053,2,   1.330,2,   0.705,2,   0.3501,2,  2221.1,2,  2315.5,2,   7.5839,2,    25.00, -999.00,9, -999.00,9, -999.00,-999.000,1,    47.9,3,     -999.0,1,     -999.0,9,         13,     -999.0,9,     -999.0,9,     -999.0,9,     -999.0,9
33RO20180423,        I7N,      50,          1,        114,      11113,2,20180511,       2108,    -9.2587,    51.4290,       3336,   467.6,   9.5543,  34.8347,2,  34.8343,2,    117.8,2, 126.5030,2,     28.5,2,     26.4,2,     0.00,2,    1.833,2,   1.794,6,   0.962,6,   0.5096,6,  2202.5,2,  2312.0,2,   7.6178,2,    25.00, -999.00,9, -999.00,9, -999.00,-999.000,1,    48.2,3,     -999.0,1,     -999.0,9,         14,     -999.0,9,     -999.0,9,     -999.0,9,     -999.0,9
33RO20180423,        I7N,      50,          1,        115,      11114,2,20180511,       2108,    -9.2587,    51.4290,       3336,   416.9,   9.8608,  34.8494,2,  34.9000,2,    119.8,2, 128.5500,2,     26.1,2,     25.6,2,     0.00,2,    1.757,2,   1.909,2,   1.026,2,   0.5473,2,  2198.5,2,  2308.9,2,   7.6265,2,    25.00, -999.00,9, -999.00,9, -999.00,-999.000,1,  -999.0,9,     -999.0,1,     -999.0,9,         15,     -999.0,9,     -999.0,9,     -999.0,9,     -999.0,9
33RO20180423,        I7N,      50,          1,        116,      11115,2,20180511,       2108,    -9.2587,    51.4290,       3336,   367.3,  10.1342,  34.8683,2,  34.8707,6,    120.1,2, 128.8370,2,     24.4,2,     25.1,2,     0.00,2,    1.721,2,-999.000,9,-999.000,9,-999.0000,9,  -999.0,9,  -999.0,9,   7.6318,2,    25.00, -999.00,9, -999.00,9, -999.00,-999.000,9,    47.5,3,     -999.0,9,     -999.0,9,         16,     -999.0,9,     -999.0,9,     -999.0,9,     -999.0,9
33RO20180423,        I7N,      50,          1,        117,      11116,2,20180511,       2108,    -9.2587,    51.4290,       3336,   317.2,  10.7200,  34.9129,2,  34.9122,2,    124.3,2, 133.0870,2,     21.5,2,     23.4,2,     0.00,2,    1.624,2,   2.125,2,   1.167,2,   0.7092,2,  2188.0,2,  2306.1,2,   7.6514,2,    25.00, -999.00,9, -999.00,9, -999.00,-999.000,1,    46.2,3,     -999.0,1,     -999.0,9,         17,     -999.0,9,     -999.0,9,     -999.0,9,     -999.0,9
33RO20180423,        I7N,      50,          1,        118,      11117,2,20180511,       2108,    -9.2587,    51.4290,       3336,   267.3,  11.1257,  34.9392,2,  34.9877,2,    127.1,2, 135.5350,2,     20.5,2,     22.3,2,     0.00,2,    1.565,2,-999.000,9,-999.000,9,-999.0000,9,  2183.9,2,  2308.9,2,   7.6644,2,    25.00, -999.00,9, -999.00,9, -999.00,-999.000,9,    50.2,3,     -999.0,9,     -999.0,9,         18,     -999.0,9,     -999.0,9,     -999.0,9,     -999.0,9
33RO20180423,        I7N,      50,          1,        119,      11083,2,20180511,       2108,    -9.2587,    51.4290,       3336,   213.5,  12.2869,  35.0168,2,  35.0137,2,    120.8,2, 129.1570,2,     18.9,2,     20.9,2,     0.00,2,    1.475,2,   2.168,2,   1.218,2,   0.8497,2,  2179.3,2,  2310.2,2,   7.6807,2,    25.00, -999.00,9, -999.00,9, -999.00,-999.000,1,  -999.0,9,     -999.0,1,     -999.0,9,         19,     -999.0,9,     -999.0,9,     -999.0,9,     -999.0,9
33RO20180423,        I7N,      50,          1,        120,      11118,2,20180511,       2108,    -9.2587,    51.4290,       3336,   173.3,  13.3540,  35.0687,2,  35.0666,2,    111.8,2, 119.4770,2,     18.1,2,     20.3,2,     0.01,2,    1.439,2,-999.000,9,-999.000,9,-999.0000,9,  2179.2,2,  2312.4,2,   7.6885,2,    25.00, -999.00,9, -999.00,9, -999.00,-999.000,9,    52.1,3,     -999.0,9,     -999.0,9,         20,     -999.0,9,     -999.0,9,     -999.0,9,     -999.0,9
33RO20180423,        I7N,      50,          1,        121,      11119,2,20180511,       2108,    -9.2587,    51.4290,       3336,   133.5,  15.1994,  35.1115,2,  35.1109,2,     99.6,2, 106.7870,2,     17.4,2,     19.6,2,     0.01,2,    1.397,2,   1.983,2,   1.144,2,   0.8973,2,  2169.6,2,  2310.1,2,   7.7046,2,    25.00, -999.00,9, -999.00,9, -999.00,-999.000,1,    56.8,3,     -999.0,1,     -999.0,9,         21,     -999.0,9,     -999.0,9,     -999.0,9,     -999.0,9
33RO20180423,        I7N,      50,          1,        122,      11120,2,20180511,       2108,    -9.2587,    51.4290,       3336,    93.8,  19.1158,  35.1383,2,  35.1676,2,    115.1,2, 119.9540,2,     13.0,2,     14.6,2,     0.16,2,    1.107,2,-999.000,9,-999.000,9,-999.0000,9,  2128.5,2,  2307.5,2,   7.7961,2,    25.00, -999.00,9, -999.00,9, -999.00,-999.000,9,    60.7,3,     -999.0,9,     -999.0,9,         22,     -999.0,9,     -999.0,9,     -999.0,9,     -999.0,9
33RO20180423,        I7N,      50,          1,        123,      11121,2,20180511,       2108,    -9.2587,    51.4290,       3336,    52.8,  22.1154,  35.1671,2,  35.1737,2,    156.6,2, 166.1740,2,      6.5,2,      5.2,2,     0.17,2,    0.526,2,-999.000,9,-999.000,9,-999.0000,9,  -999.0,9,  -999.0,9,   7.9355,6,    25.00, -999.00,9, -999.00,9, -999.00,-999.000,9,    66.8,3,     -999.0,9,     -999.0,9,         23,     -999.0,9,     -999.0,9,     -999.0,9,     -999.0,9
33RO20180423,        I7N,      50,          1,        124,      11122,2,20180511,       2108,    -9.2587,    51.4290,       3336,     3.5,  28.1459,  34.9240,2,  34.9243,2,    186.8,2, 196.0720,2,      2.7,2,      0.1,2,     0.00,2,    0.143,2,   1.455,2,   0.926,2,   1.3882,2,  1970.1,6,  2287.3,6,   8.0676,2,    25.00, -999.00,9, -999.00,9, -999.00,-999.000,1,    76.4,3,     -999.0,1,     -999.0,9,         24,     -999.0,9,     -999.0,9,     -999.0,9,     -999.0,9