BOTTLE,20230801CCHSIOCBG
EXPOCODE,SECT_ID,STNNBR,CASTNO,SAMPNO,BTLNBR,BTLNBR_FLAG_W,DATE,TIME,LATITUDE,LONGITUDE,DEPTH,CTDPRS,CTDTMP,CTDSAL,CTDSAL_FLAG_W,SALNTY,SALNTY_FLAG_W,CTDOXY,CTDOXY_FLAG_W,OXYGEN,OXYGEN_FLAG_W,SILCAT,SILCAT_FLAG_W,NITRAT,NITRAT_FLAG_W,NITRIT,NITRIT_FLAG_W,PHSPHT,PHSPHT_FLAG_W,CFC-11,CFC-11_FLAG_W,CFC-12,CFC-12_FLAG_W,SF6,SF6_FLAG_W,TCARBN,TCARBN_FLAG_W,ALKALI,ALKALI_FLAG_W,PH_SWS,PH_SWS_FLAG_W,PH_TMP,DELC13,DELC13_FLAG_W,DELC14,DELC14_FLAG_W,C14ERR,CCL4,CCL4_FLAG_W,DOC,DOC_FLAG_W,N2O,N2O_FLAG_W,CALCIUM,CALCIUM_FLAG_W,SAMPNO_U,DNSSAL,DNSSAL_FLAG_W,DNSSAL2,DNSSAL2_FLAG_W,SALNTY_DNSSAL,SALNTY_DNSSAL_FLAG_W,SALNTY_DNSSAL2,SALNTY_DNSSAL2_FLAG_W
,,,,,,,,,,,METERS,DBAR,ITS-90,PSS-78,,PSS-78,,UMOL/KG,,UMOL/KG,,UMOL/KG,,UMOL/KG,,UMOL/KG,,UMOL/KG,,PMOL/KG,,PMOL/KG,,FMOL/KG,,UMOL/KG,,UMOL/KG,,,,DEG C,/MILLE,,/MILLE,,/MILLE,PMOL/KG,,UMOL/KG,,NMOL/KG,,MMOL/KG,,,G/KG,,G/KG,,PSS-78,,PSS-78,
33RO20180423,        I7N,      86,          1,        101,      11010,2,20180525,       0104,     3.5938,    58.7913,       4506,  4579.8,   1.4050,  34.7201,2,  34.7270,6,    156.7,2, 180.9970,2,    132.8,6,     33.8,6,     0.00,6,    2.356,6,   0.017,2,   0.008,2,   0.0067,2,  2295.8,6,  2403.4,2,   7.6017,6,    25.00,    0.36,2, -179.00,2,    1.78,-999.000,1,  -999.0,9,     -999.0,1,     -999.0,9,          1,     -999.0,9,     -999.0,9,     -999.0,9,     -999.0,9
33RO20180423,        I7N,      86,          1,        102,      11101,4,20180525,       0104,     3.5938,    58.7913,       4506,  4253.6,   1.4257,  34.7225,2,  35.1779,2,    153.8,2,  60.7990,4,     40.6,4,     31.5,4,     0.00,4,    2.328,4,-999.000,1,-999.000,1,-999.0000,1,  2250.8,4,  2328.7,4,   7.5263,4,    25.00,    0.19,4,  -65.10,4,    1.95,-999.000,1,    40.4,3,     -999.0,1,     -999.0,9,          2,     -999.0,9,     -999.0,9,     -999.0,9,     -999.0,9
33RO20180423,        I7N,      86,          1,        103,      11102,2,20180525,       0104,     3.5938,    58.7913,       4506,  4000.7,   1.4674,  34.7253,2,  34.7262,6,    151.1,2, 174.9980,2,    132.6,6,     34.1,6,     0.00,6,    2.381,6,   0.011,2,   0.005,2,   0.0067,2,  2298.4,2,  2405.2,2,   7.5975,2,    25.00,    0.31,2, -182.00,2,    1.94,-999.000,1,  -999.0,9,     -999.0,1,     -999.0,9,          3,     -999.0,9,     -999.0,9,     -999.0,9,     -999.0,9
33RO20180423,        I7N,      86,          1,        104,      11103,2,20180525,       0104,     3.5938,    58.7913,       4506,  3701.1,   1.5381,  34.7291,2,  34.7288,2,    147.3,2, 169.9180,2,    132.6,6,     34.3,6,     0.00,6,    2.411,6,   0.008,2,   0.003,2,   0.0099,2,  2294.7,2,  2406.4,2,   7.5923,2,    25.00,    0.30,2, -180.00,2,    2.01,-999.000,1,    44.6,3,     -999.0,1,     -999.0,9,          4,     -999.0,9,     -999.0,9,     -999.0,9,     -999.0,9
33RO20180423,        I7N,      86,          1,        105,      11104,2,20180525,       0104,     3.5938,    58.7913,       4506,  3400.8,   1.6929,  34.7360,2,  34.7363,2,    141.1,2, 162.5000,2,    132.5,2,     34.7,2,     0.01,2,    2.445,2,   0.004,2,   0.003,2,   0.0066,2,  2306.4,2,  2390.1,4,   7.5863,2,    25.00,    0.16,2, -185.00,2,    1.92,-999.000,1,    45.3,3,     -999.0,1,     -999.0,9,          5,     -999.0,9,     -999.0,9,     -999.0,9,     -999.0,9
33RO20180423,        I7N,      86,          1,        106,      11105,2,20180525,       0104,     3.5938,    58.7913,       4506,  3100.7,   1.8271,  34.7428,2,  34.7561,2,    135.5,2, 155.8615,2,    132.5,2,     34.9,2,     0.00,2,    2.457,2,   0.002,2,   0.001,2,   0.0048,2,  2310.1,2,  2414.0,2,   7.5795,2,    25.00,    0.27,2, -184.00,2,    1.76,-999.000,1,    43.5,3,     -999.0,1,     -999.0,9,          6,     -999.0,9,     -999.0,9,     -999.0,9,     -999.0,9
33RO20180423,        I7N,      86,          1,        107,      11106,2,20180525,       0104,     3.5938,    58.7913,       4506,  2801.3,   1.9806,  34.7513,2,  34.7811,2,    129.4,2, 148.3830,2,    132.1,2,     35.3,2,     0.00,2,    2.501,2,   0.003,2,   0.003,2,        0,2,  2315.6,2,  2413.2,2,   7.5716,2,    25.00,    0.20,2, -186.00,2,    1.95,-999.000,1,  -999.0,9,     -999.0,1,     -999.0,9,          7,     -999.0,9,     -999.0,9,     -999.0,9,     -999.0,9
33RO20180423,        I7N,      86,          1,        108,      11107,2,20180525,       0104,     3.5938,    58.7913,       4506,  2502.0,   2.2411,  34.7656,2,  34.7671,2,    121.5,2, 138.5040,2,    130.7,2,     35.7,2,     0.00,2,    2.543,2,   0.003,2,   0.003,2,        0,2,  2319.9,2,  2411.9,2,   7.5614,2,    25.00,    0.26,6, -187.00,6,    1.79,-999.000,1,  -999.0,9,     -999.0,1,     -999.0,9,          8,     -999.0,9,     -999.0,9,     -999.0,9,     -999.0,9
33RO20180423,        I7N,      86,          1,        109,      11108,2,20180525,       0104,     3.5938,    58.7913,       4506,  2200.5,   2.5936,  34.7814,2,  34.7836,2,    113.5,2, 128.5920,2,    126.2,2,     36.0,2,     0.00,2,    2.588,2,   0.002,2,   0.002,2,   0.0042,2,  2319.1,2,  2406.9,2,   7.5475,2,    25.00,    0.19,2, -186.00,2,    1.74,-999.000,1,  -999.0,9,     -999.0,1,     -999.0,9,          9,     -999.0,9,     -999.0,9,     -999.0,9,     -999.0,9
33RO20180423,        I7N,      86,          1,        110,      11109,2,20180525,       0104,     3.5938,    58.7913,       4506,  1884.3,   3.4096,  34.8206,2,  34.8210,2,     96.8,2, 109.4520,2,    116.7,2,     36.4,2,     0.00,2,    2.660,2,   0.006,6,   0.005,6,   0.0033,6,  2317.9,2,  2400.5,2,   7.5248,2,    25.00,    0.15,2, -184.00,2,    1.67,-999.000,1,    41.0,3,     -999.0,1,     -999.0,9,         10,     -999.0,9,     -999.0,9,     -999.0,9,     -999.0,9
33RO20180423,        I7N,      86,          1,        111,      11110,2,20180525,       0104,     3.5938,    58.7913,       4506,  1632.6,   4.1805,  34.8634,2,  34.8684,2,     82.4,2,  92.3670,2,    108.6,2,     37.0,2,     0.00,2,    2.712,2,   0.010,2,   0.007,2,        0,2,  2317.3,2,  2388.4,6,   7.5075,2,    25.00,    0.14,2, -181.00,2,    2.16,-999.000,1,  -999.0,9,     -999.0,1,     -999.0,9,         11,     -999.0,9,     -999.0,9,     -999.0,9,     -999.0,9
33RO20180423,        I7N,      86,          1,        112,      11111,2,20180525,       0104,     3.5938,    58.7913,       4506,  1367.6,   5.3708,  34.9457,2,  34.9650,2,     59.9,2,  66.8460,2,     97.7,2,     37.5,2,     0.00,2,    2.786,2,   0.017,2,   0.011,2,        0,2,  2315.1,2,  2379.8,2,   7.4829,6,    25.00,    0.11,2, -168.00,2,    1.71,-999.000,1,  -999.0,9,     -999.0,1,     -999.0,9,         12,     -999.0,9,     -999.0,9,     -999.0,9,     -999.0,9
33RO20180423,        I7N,      86,          1,        113,      11112,2,20180525,       0104,     3.5938,    58.7913,       4506,  1167.8,   6.6553,  35.0343,2,  35.0337,2,     42.7,2,  48.3480,2,     85.4,2,     37.4,2,     0.00,2,    2.800,2,   0.041,2,   0.025,2,    0.008,2,  2308.7,2,  2368.7,2,   7.4689,2,    25.00,    0.03,2, -151.00,2,    1.83,-999.000,1,  -999.0,9,     -999.0,1,     -999.0,9,         13,     -999.0,9,     -999.0,9,     -999.0,9,     -999.0,9
33RO20180423,        I7N,      86,          1,        114,      11113,2,20180525,       0104,     3.5938,    58.7913,       4506,   897.8,   8.2574,  35.1350,2,  35.1356,2,     32.1,2,  36.3770,2,     68.5,2,     36.3,2,     0.00,2,    2.730,2,   0.143,2,   0.084,2,   0.0045,2,  2294.0,2,  2354.3,2,   7.4693,2,    25.00,    0.14,2, -128.00,2,    1.72,-999.000,1,  -999.0,9,     -999.0,1,     -999.0,9,         14,     -999.0,9,     -999.0,9,     -999.0,9,     -999.0,9
33RO20180423,        I7N,      86,          1,        115,      11114,2,20180525,       0104,     3.5938,    58.7913,       4506,   801.3,   8.5117,  35.1368,2,-999.0000,9,     32.7,2,-999.0000,9,-999.0000,9,-999.0000,9,-999.0000,9,-999.0000,9,-999.000,9,-999.000,9,-999.0000,9,  -999.0,9,  -999.0,9,-999.0000,9,  -999.00, -999.00,9, -999.00,9, -999.00,-999.000,9,    42.6,3,     -999.0,9,     -999.0,9,         15,     -999.0,9,     -999.0,9,     -999.0,9,     -999.0,9
33RO20180423,        I7N,      86,          1,        116,      11115,2,20180525,       0104,     3.5938,    58.7913,       4506,   649.7,   9.2815,  35.1606,2,  35.1989,2,     35.1,2,  39.2930,2,     54.5,2,     34.6,2,     0.01,2,    2.593,2,   0.368,2,   0.207,2,   0.1024,2,  2275.1,2,  2341.4,2,   7.4846,2,    25.00,    0.27,6,  -95.60,6,    1.80,-999.000,1,    44.6,3,     -999.0,1,     -999.0,9,         16,     -999.0,9,     -999.0,9,     -999.0,9,     -999.0,9
33RO20180423,        I7N,      86,          1,        117,      11116,2,20180525,       0104,     3.5938,    58.7913,       4506,   483.3,  10.0213,  35.1325,2,  35.1429,2,     55.4,2,  60.5510,2,     40.6,2,     31.5,2,     0.00,2,    2.342,2,   0.911,2,   0.497,2,    0.265,2,  2250.7,6,  2327.2,2,   7.5262,2,    25.00,    0.39,2,  -60.60,2,    1.97,-999.000,1,    47.1,3,     -999.0,1,     -999.0,9,         17,     -999.0,9,     -999.0,9,     -999.0,9,     -999.0,9
33RO20180423,        I7N,      86,          1,        118,      11117,2,20180525,       0104,     3.5938,    58.7913,       4506,   375.3,  10.8375,  35.1226,2,  35.1240,2,     64.8,2,  70.6820,2,     30.5,2,     29.4,2,     0.01,2,    2.113,2,   1.385,2,   0.759,2,    0.396,2,  2231.5,2,  2317.2,2,   7.5470,2,    25.00,    0.37,2,  -29.20,2,    2.03,-999.000,1,  -999.0,9,     -999.0,1,     -999.0,9,         18,     -999.0,9,     -999.0,9,     -999.0,9,     -999.0,9
33RO20180423,        I7N,      86,          1,        119,      11083,2,20180525,       0104,     3.5938,    58.7913,       4506,   299.9,  11.3367,  35.1349,2,  35.1367,2,     78.3,2,  84.7155,2,     25.9,2,     27.0,2,     0.00,2,    1.952,2,   1.694,2,   0.936,2,   0.5614,2,  2218.6,2,  2316.1,2,   7.5790,2,    25.00,    0.41,2,  -14.70,2,    2.06,-999.000,1,    50.7,3,     -999.0,1,     -999.0,9,         19,     -999.0,9,     -999.0,9,     -999.0,9,     -999.0,9
33RO20180423,        I7N,      86,          1,        120,      11118,2,20180525,       0104,     3.5938,    58.7913,       4506,   217.5,  13.0030,  35.2037,2,  35.2118,2,     70.8,2,  76.1440,2,     20.9,2,     25.1,2,     0.01,2,    1.825,2,   1.867,2,   1.058,2,   0.6178,2,  2212.3,2,  2316.8,6,   7.5962,2,    25.00,    0.29,2,    3.21,2,    1.93,-999.000,1,    55.4,3,     -999.0,1,     -999.0,9,         20,     -999.0,9,     -999.0,9,     -999.0,9,     -999.0,9
33RO20180423,        I7N,      86,          1,        121,      11119,2,20180525,       0104,     3.5938,    58.7913,       4506,   143.2,  17.2875,  35.3023,2,  35.3048,2,     36.1,2,  40.4070,2,     17.9,2,     25.0,2,     0.01,2,    1.854,2,   1.594,6,   0.954,6,   0.7781,6,  2202.4,2,  2313.9,2,   7.6166,2,    25.00,   -0.11,2,    2.34,2,    1.94,-999.000,1,    53.9,3,     -999.0,1,     -999.0,9,         21,     -999.0,9,     -999.0,9,     -999.0,9,     -999.0,9
33RO20180423,        I7N,      86,          1,        122,      11120,2,20180525,       0104,     3.5938,    58.7913,       4506,   115.3,  20.4236,  35.3770,2,  35.3840,2,     47.1,2,  51.9050,2,     13.9,2,     21.6,2,     0.03,2,    1.599,2,   1.529,2,   0.936,2,   0.9222,2,  2168.4,2,  2314.3,2,   7.7033,6,    25.00,    0.05,2,    8.98,2,    2.76,-999.000,1,    73.5,3,     -999.0,1,     -999.0,9,         22,     -999.0,9,     -999.0,9,     -999.0,9,     -999.0,9
33RO20180423,        I7N,      86,          1,        123,      11121,2,20180525,       0104,     3.5938,    58.7913,       4506,    73.5,  26.1373,  35.6656,2,  35.6712,2,    124.4,2, 132.4580,2,      4.8,2,      6.9,2,     0.65,2,    0.725,2,   1.496,2,   0.944,2,   1.2631,2,  2075.1,2,  2331.4,2,   7.9366,2,    25.00,    0.61,2,   11.70,2,    2.05,-999.000,1,    78.6,3,     -999.0,1,     -999.0,9,         23,     -999.0,9,     -999.0,9,     -999.0,9,     -999.0,9
33RO20180423,        I7N,      86,          1,        124,      11122,2,20180525,       0104,     3.5938,    58.7913,       4506,     3.7,  29.2628,  34.9824,2,  34.9845,2,    183.4,2, 192.4350,2,      1.6,2,      0.0,2,     0.00,2,    0.115,2,   1.383,2,   0.888,2,   1.3382,2,  1965.6,6,  2296.8,2,   8.0874,2,    25.00,    1.06,2,   12.70,2,    1.95,-999.000,1,  -999.0,9,     -999.0,1,     -999.0,9,         24,     -999.0,9,     -999.0,9,     -999.0,9,     -999.0,9