BOTTLE,20230801CCHSIOCBG
EXPOCODE,SECT_ID,STNNBR,CASTNO,SAMPNO,BTLNBR,BTLNBR_FLAG_W,DATE,TIME,LATITUDE,LONGITUDE,DEPTH,CTDPRS,CTDTMP,CTDSAL,CTDSAL_FLAG_W,SALNTY,SALNTY_FLAG_W,CTDOXY,CTDOXY_FLAG_W,OXYGEN,OXYGEN_FLAG_W,SILCAT,SILCAT_FLAG_W,NITRAT,NITRAT_FLAG_W,NITRIT,NITRIT_FLAG_W,PHSPHT,PHSPHT_FLAG_W,CFC-11,CFC-11_FLAG_W,CFC-12,CFC-12_FLAG_W,SF6,SF6_FLAG_W,TCARBN,TCARBN_FLAG_W,ALKALI,ALKALI_FLAG_W,PH_SWS,PH_SWS_FLAG_W,PH_TMP,DELC13,DELC13_FLAG_W,DELC14,DELC14_FLAG_W,C14ERR,CCL4,CCL4_FLAG_W,DOC,DOC_FLAG_W,N2O,N2O_FLAG_W,CALCIUM,CALCIUM_FLAG_W,SAMPNO_U,DNSSAL,DNSSAL_FLAG_W,DNSSAL2,DNSSAL2_FLAG_W,SALNTY_DNSSAL,SALNTY_DNSSAL_FLAG_W,SALNTY_DNSSAL2,SALNTY_DNSSAL2_FLAG_W
,,,,,,,,,,,METERS,DBAR,ITS-90,PSS-78,,PSS-78,,UMOL/KG,,UMOL/KG,,UMOL/KG,,UMOL/KG,,UMOL/KG,,UMOL/KG,,PMOL/KG,,PMOL/KG,,FMOL/KG,,UMOL/KG,,UMOL/KG,,,,DEG C,/MILLE,,/MILLE,,/MILLE,PMOL/KG,,UMOL/KG,,NMOL/KG,,MMOL/KG,,,G/KG,,G/KG,,PSS-78,,PSS-78,
33RO20180423,        I7N,      47,          1,        101,      11010,2,20180511,       0242,   -10.3838,    52.7680,       4432,  4504.4,   1.0849,  34.7087,2,  34.7098,2,    174.8,2, 201.6440,2,    125.1,6,     32.9,6,     0.00,6,    2.267,6,   0.067,2,   0.034,2,   0.0044,2,  2269.6,6,  2375.9,2,   7.5985,2,    25.00,    0.56,2, -168.00,2,    1.73,-999.000,1,  -999.0,9,     -999.0,1,     -999.0,9,          1,     -999.0,9,     -999.0,9,     -999.0,9,     -999.0,9
33RO20180423,        I7N,      47,          1,        102,      11101,2,20180511,       0242,   -10.3838,    52.7680,       4432,  4131.4,   1.2193,  34.7151,2,  34.7163,2,    168.0,2, 193.2940,2,    125.2,6,     33.3,6,     0.00,6,    2.290,6,   0.046,2,   0.023,2,        0,2,  2276.3,2,  2393.6,2,   7.5968,6,    25.00,    0.54,2, -177.00,2,    1.64,-999.000,1,  -999.0,9,     -999.0,1,     -999.0,9,          2,     -999.0,9,     -999.0,9,     -999.0,9,     -999.0,9
33RO20180423,        I7N,      47,          1,        103,      11102,2,20180511,       0242,   -10.3838,    52.7680,       4432,  3825.6,   1.5009,  34.7256,2,  34.7275,2,    154.1,2, 177.7000,2,    128.0,6,     34.0,6,     0.00,6,    2.364,6,   0.020,2,   0.011,2,   0.0013,2,  2288.0,2,  2396.6,6,   7.5925,2,    25.00,    0.39,2, -183.00,2,    1.62,-999.000,1,  -999.0,9,     -999.0,1,     -999.0,9,          3,     -999.0,9,     -999.0,9,     -999.0,9,     -999.0,9
33RO20180423,        I7N,      47,          1,        104,      11103,2,20180511,       0242,   -10.3838,    52.7680,       4432,  3525.9,   1.6066,  34.7300,2,  34.7463,2,    148.7,2, 171.2450,2,    128.8,6,     34.3,6,     0.00,6,    2.389,6,   0.012,2,   0.006,2,        0,2,  2295.2,2,  2400.2,2,   7.5894,2,    25.00,    0.48,2, -184.00,2,    1.76,-999.000,1,    42.4,3,     -999.0,1,     -999.0,9,          4,     -999.0,9,     -999.0,9,     -999.0,9,     -999.0,9
33RO20180423,        I7N,      47,          1,        105,      11104,2,20180511,       0242,   -10.3838,    52.7680,       4432,  3226.0,   1.7136,  34.7345,2,  34.7381,2,    143.9,2, 165.5010,2,    129.2,6,     34.5,6,     0.00,6,    2.416,6,   0.005,2,   0.004,2,        0,2,  2299.9,2,  2406.0,2,   7.5850,2,    25.00,    0.31,2, -191.00,2,    1.73,-999.000,1,  -999.0,9,     -999.0,1,     -999.0,9,          5,     -999.0,9,     -999.0,9,     -999.0,9,     -999.0,9
33RO20180423,        I7N,      47,          1,        106,      11105,2,20180511,       0242,   -10.3838,    52.7680,       4432,  2925.9,   1.8532,  34.7399,2,  34.7538,2,    139.3,2, 159.6670,2,    127.7,2,     34.7,2,     0.00,2,    2.441,2,   0.004,6,   0.002,6,   0.0062,6,  2302.8,2,  2405.3,2,   7.5809,2,    25.00,    0.38,2, -185.00,2,    1.77,-999.000,1,  -999.0,9,     -999.0,1,     -999.0,9,          6,     -999.0,9,     -999.0,9,     -999.0,9,     -999.0,9
33RO20180423,        I7N,      47,          1,        107,      11106,2,20180511,       0242,   -10.3838,    52.7680,       4432,  2656.2,   1.9523,  34.7425,2,  34.7435,2,    137.5,2, 156.8110,2,    126.3,2,     35.0,2,     0.00,2,    2.445,2,   0.004,2,   0.004,2,   0.0098,2,  2302.3,2,  2402.5,2,   7.5798,2,    25.00,    0.36,2, -186.00,2,    1.82,-999.000,1,  -999.0,9,     -999.0,1,     -999.0,9,          7,     -999.0,9,     -999.0,9,     -999.0,9,     -999.0,9
33RO20180423,        I7N,      47,          1,        108,      11107,2,20180511,       0242,   -10.3838,    52.7680,       4432,  2351.3,   2.1548,  34.7438,2,  34.7443,2,    135.1,2, 153.3360,2,    122.0,2,     35.0,2,     0.00,2,    2.464,2,   0.005,2,   0.004,2,        0,2,  2299.4,2,  2399.6,2,   7.5759,2,    25.00,    0.38,2, -182.00,2,    1.76,-999.000,1,    42.6,3,     -999.0,1,     -999.0,9,          8,     -999.0,9,     -999.0,9,     -999.0,9,     -999.0,9
33RO20180423,        I7N,      47,          1,        109,      11108,2,20180511,       0242,   -10.3838,    52.7680,       4432,  2046.3,   2.4301,  34.7410,2,  34.7431,2,    132.4,2, 149.2140,2,    118.4,2,     35.0,2,     0.00,2,    2.479,2,   0.007,2,   0.005,2,        0,2,  2295.2,2,  2392.2,2,   7.5703,2,    25.00,    0.38,2, -179.00,2,    1.71,-999.000,1,  -999.0,9,     -999.0,1,     -999.0,9,          9,     -999.0,9,     -999.0,9,     -999.0,9,     -999.0,9
33RO20180423,        I7N,      47,          1,        110,      11109,2,20180511,       0242,   -10.3838,    52.7680,       4432,  1755.3,   3.0940,  34.7384,2,  34.7500,2,    123.1,2, 137.7150,2,    106.5,2,     35.2,2,     0.00,2,    2.500,2,   0.024,2,   0.013,2,        0,2,  2290.1,2,  2381.1,6,   7.5567,2,    25.00,    0.59,4, -173.00,2,    1.72,-999.000,1,    43.4,3,     -999.0,1,     -999.0,9,         10,     -999.0,9,     -999.0,9,     -999.0,9,     -999.0,9
33RO20180423,        I7N,      47,          1,        111,      11110,2,20180511,       0242,   -10.3838,    52.7680,       4432,  1502.4,   3.7860,  34.7463,2,-999.0000,9,    110.6,2, 123.1260,2,     99.2,2,     35.5,2,     0.00,2,    2.533,2,   0.044,2,   0.023,2,   0.0074,2,  2286.8,2,  2396.9,4,   7.5416,2,    25.00,    0.48,6, -170.00,6,    2.04,-999.000,1,    42.2,3,     -999.0,1,     -999.0,9,         11,     -999.0,9,     -999.0,9,     -999.0,9,     -999.0,9
33RO20180423,        I7N,      47,          1,        112,      11111,2,20180511,       0242,   -10.3838,    52.7680,       4432,  1261.4,   4.7513,  34.7711,2,  34.7796,2,     94.0,2, 104.1330,2,     91.1,2,     36.1,2,     0.00,2,    2.589,2,   0.085,2,   0.045,2,   0.0097,2,  2287.0,6,  2366.4,2,   7.5230,2,    25.00,    0.42,3, -160.00,2,    1.75,-999.000,1,    48.5,3,     -999.0,1,     -999.0,9,         12,     -999.0,9,     -999.0,9,     -999.0,9,     -999.0,9
33RO20180423,        I7N,      47,          1,        113,      11112,2,20180511,       0242,   -10.3838,    52.7680,       4432,  1059.2,   5.5747,  34.7739,2,  34.7807,2,     89.3,2,  98.6210,2,     79.5,2,     35.6,2,     0.01,2,    2.562,2,   0.195,6,   0.102,6,   0.0078,6,  2276.7,2,  2355.5,2,   7.5213,6,    25.00,    0.31,4, -149.00,2,    1.80,-999.000,1,  -999.0,9,     -999.0,1,     -999.0,9,         13,     -999.0,9,     -999.0,9,     -999.0,9,     -999.0,9
33RO20180423,        I7N,      47,          1,        114,      11113,2,20180511,       0242,   -10.3838,    52.7680,       4432,   870.1,   6.7002,  34.7905,2,  34.7911,6,     86.4,2,  94.8940,2,     65.5,2,     34.4,2,     0.00,2,    2.466,2,   0.436,2,   0.231,2,   0.0816,2,  2261.6,2,  2344.4,2,   7.5288,2,    25.00,    0.63,2, -124.00,2,    1.89,-999.000,1,    53.0,3,     -999.0,1,     -999.0,9,         14,     -999.0,9,     -999.0,9,     -999.0,9,     -999.0,9
33RO20180423,        I7N,      47,          1,        115,      11114,2,20180511,       0242,   -10.3838,    52.7680,       4432,   712.3,   7.8490,  34.7797,2,  34.7875,6,     99.3,2, 107.9105,2,     47.7,2,     31.6,2,     0.00,2,    2.255,2,   0.955,2,   0.505,2,   0.2679,2,  2234.1,2,  2326.1,2,   7.5635,2,    25.00,    0.66,2,  -80.50,2,    3.27,-999.000,1,  -999.0,9,     -999.0,1,     -999.0,9,         15,     -999.0,9,     -999.0,9,     -999.0,9,     -999.0,9
33RO20180423,        I7N,      47,          1,        116,      11115,2,20180511,       0242,   -10.3838,    52.7680,       4432,   567.0,   8.7459,  34.7927,2,-999.0000,9,    114.1,2, 123.1340,2,     35.2,2,     28.8,2,     0.00,2,    2.024,2,   1.499,2,   0.795,2,   0.3933,2,  2209.6,2,  2315.8,2,   7.5985,2,    25.00,    0.76,2,  -46.60,2,    2.58,-999.000,1,  -999.0,9,     -999.0,1,     -999.0,9,         16,     -999.0,9,     -999.0,9,     -999.0,9,     -999.0,9
33RO20180423,        I7N,      47,          1,        117,      11116,2,20180511,       0242,   -10.3838,    52.7680,       4432,   423.5,   9.6729,  34.7989,2,  34.8002,2,    157.7,2, 168.5770,2,     19.4,2,     22.3,2,     0.00,2,    1.573,2,   2.464,2,   1.332,2,   0.8362,2,  2170.5,2,  2305.3,2,   7.6820,2,    25.00,    0.77,2,   -2.06,2,    2.21,-999.000,1,    53.0,3,     -999.0,1,     -999.0,9,         17,     -999.0,9,     -999.0,9,     -999.0,9,     -999.0,9
33RO20180423,        I7N,      47,          1,        118,      11117,2,20180511,       0242,   -10.3838,    52.7680,       4432,   356.5,  10.3713,  34.8677,2,  34.8703,2,    149.8,2, 161.1010,2,     18.0,2,     21.4,2,     0.00,2,    1.514,2,   2.462,2,   1.347,2,   0.8597,2,  2169.3,2,  2306.3,2,   7.6865,2,    25.00,    0.71,2,    9.60,2,    2.08,-999.000,1,    48.8,3,     -999.0,1,     -999.0,9,         18,     -999.0,9,     -999.0,9,     -999.0,9,     -999.0,9
33RO20180423,        I7N,      47,          1,        119,      11083,2,20180511,       0242,   -10.3838,    52.7680,       4432,   258.0,  12.3265,  35.0238,2,  35.0270,2,    127.4,2, 136.3750,2,     18.3,2,     20.0,2,     0.00,2,    1.435,2,   2.221,2,   1.246,2,   0.8938,2,  2169.4,2,  2313.2,2,   7.6966,2,    25.00,    0.53,2,   11.60,2,    2.03,-999.000,1,    56.5,3,     -999.0,1,     -999.0,9,         19,     -999.0,9,     -999.0,9,     -999.0,9,     -999.0,9
33RO20180423,        I7N,      47,          1,        120,      11118,2,20180511,       0242,   -10.3838,    52.7680,       4432,   190.1,  14.4838,  35.2256,2,  35.2240,2,    136.8,2, 147.1040,2,     13.6,2,     15.0,2,     0.01,2,    1.123,2,   2.241,2,   1.293,2,   1.1517,2,  2149.1,2,  2320.7,6,   7.7632,2,    25.00,    0.37,2,   17.00,2,    2.09,-999.000,1,    48.2,3,     -999.0,1,     -999.0,9,         20,     -999.0,9,     -999.0,9,     -999.0,9,     -999.0,9
33RO20180423,        I7N,      47,          1,        121,      11119,2,20180511,       0242,   -10.3838,    52.7680,       4432,   121.6,  19.0667,  35.4762,2,  35.4931,2,    155.6,2, 165.9260,2,      6.6,2,      6.6,2,     0.04,2,    0.579,2,   2.034,2,   1.252,2,   1.3921,2,  2094.3,2,  2329.4,2,   7.8942,6,    25.00,    0.23,2,   25.40,2,    2.11,-999.000,1,    55.3,3,     -999.0,1,     -999.0,9,         21,     -999.0,9,     -999.0,9,     -999.0,9,     -999.0,9
33RO20180423,        I7N,      47,          1,        122,      11120,2,20180511,       0242,   -10.3838,    52.7680,       4432,    90.9,  21.7013,  35.2721,2,  35.2819,2,    158.8,2, 168.1680,2,      5.4,2,      4.7,2,     0.17,2,    0.454,2,   1.831,2,   1.146,2,   1.3965,2,  2059.3,2,  2314.4,2,   7.9415,2,    25.00,    0.40,2,   26.20,2,    2.11,-999.000,1,    67.4,3,     -999.0,1,     -999.0,9,         22,     -999.0,9,     -999.0,9,     -999.0,9,     -999.0,9
33RO20180423,        I7N,      47,          1,        123,      11121,2,20180511,       0242,   -10.3838,    52.7680,       4432,    58.4,  24.6155,  35.0896,2,  35.0785,2,    188.1,2, 198.8980,2,      3.0,2,      0.1,2,     0.00,2,    0.207,2,   1.703,2,   1.063,2,   1.4703,2,  2002.5,2,  2302.0,2,   8.0237,2,    25.00,    0.60,2,   16.10,2,    1.98,-999.000,1,    65.1,3,     -999.0,1,     -999.0,9,         23,     -999.0,9,     -999.0,9,     -999.0,9,     -999.0,9
33RO20180423,        I7N,      47,          1,        124,      11122,2,20180511,       0242,   -10.3838,    52.7680,       4432,     3.2,  27.7601,  34.6882,2,  34.6937,2,    188.1,2, 198.1260,2,      1.9,2,      0.1,2,     0.00,2,    0.138,2,   1.476,2,   0.942,2,   1.3938,2,  1952.9,6,  2272.4,2,   8.0703,2,    25.00,    0.85,2,   19.70,2,    1.99,-999.000,1,    72.6,3,     -999.0,1,     -999.0,9,         24,     -999.0,9,     -999.0,9,     -999.0,9,     -999.0,9