BOTTLE,20230801CCHSIOCBG
EXPOCODE,SECT_ID,STNNBR,CASTNO,SAMPNO,BTLNBR,BTLNBR_FLAG_W,DATE,TIME,LATITUDE,LONGITUDE,DEPTH,CTDPRS,CTDTMP,CTDSAL,CTDSAL_FLAG_W,SALNTY,SALNTY_FLAG_W,CTDOXY,CTDOXY_FLAG_W,OXYGEN,OXYGEN_FLAG_W,SILCAT,SILCAT_FLAG_W,NITRAT,NITRAT_FLAG_W,NITRIT,NITRIT_FLAG_W,PHSPHT,PHSPHT_FLAG_W,CFC-11,CFC-11_FLAG_W,CFC-12,CFC-12_FLAG_W,SF6,SF6_FLAG_W,TCARBN,TCARBN_FLAG_W,ALKALI,ALKALI_FLAG_W,PH_SWS,PH_SWS_FLAG_W,PH_TMP,DELC13,DELC13_FLAG_W,DELC14,DELC14_FLAG_W,C14ERR,CCL4,CCL4_FLAG_W,DOC,DOC_FLAG_W,N2O,N2O_FLAG_W,CALCIUM,CALCIUM_FLAG_W,SAMPNO_U,DNSSAL,DNSSAL_FLAG_W,DNSSAL2,DNSSAL2_FLAG_W,SALNTY_DNSSAL,SALNTY_DNSSAL_FLAG_W,SALNTY_DNSSAL2,SALNTY_DNSSAL2_FLAG_W
,,,,,,,,,,,METERS,DBAR,ITS-90,PSS-78,,PSS-78,,UMOL/KG,,UMOL/KG,,UMOL/KG,,UMOL/KG,,UMOL/KG,,UMOL/KG,,PMOL/KG,,PMOL/KG,,FMOL/KG,,UMOL/KG,,UMOL/KG,,,,DEG C,/MILLE,,/MILLE,,/MILLE,PMOL/KG,,UMOL/KG,,NMOL/KG,,MMOL/KG,,,G/KG,,G/KG,,PSS-78,,PSS-78,
33RO20180423,        I7N,       5,          1,        101,      11010,2,20180429,       0349,   -28.3240,    54.4965,       5170,  5237.4,   0.9525,  34.7007,2,  34.7022,2,    182.3,2, 211.9480,2,    125.9,6,     31.5,6,     0.00,6,    2.194,6,   0.187,2,   0.090,2,   0.0076,2,  2257.3,6,  2363.5,2,   7.6310,4,    25.00, -999.00,9, -999.00,9, -999.00,-999.000,1,  -999.0,9,     -999.0,1,     -999.0,9,          1,     -999.0,9,     -999.0,9,     -999.0,9,     -999.0,9
33RO20180423,        I7N,       5,          1,        102,      11101,2,20180429,       0349,   -28.3240,    54.4965,       5170,  4831.4,   0.9505,  34.7028,2,  34.7037,2,    180.2,2, 209.8960,2,    125.7,6,     31.6,6,     0.00,6,    2.194,6,   0.151,2,   0.076,2,   0.0063,2,  2258.1,2,  2365.1,6,   7.5976,2,    25.00, -999.00,9, -999.00,9, -999.00,-999.000,1,  -999.0,9,     -999.0,1,     -999.0,9,          2,     -999.0,9,     -999.0,9,     -999.0,9,     -999.0,9
33RO20180423,        I7N,       5,          1,        103,      11102,2,20180429,       0349,   -28.3240,    54.4965,       5170,  4424.3,   1.0183,  34.7074,2,  34.7076,2,    177.4,2, 206.8090,2,    124.7,6,     31.7,6,     0.00,6,    2.203,6,   0.121,2,   0.059,2,        0,2,  2257.9,2,  2367.1,2,   7.5981,2,    25.00, -999.00,9, -999.00,9, -999.00,-999.000,1,    45.7,3,     -999.0,1,     -999.0,9,          3,     -999.0,9,     -999.0,9,     -999.0,9,     -999.0,9
33RO20180423,        I7N,       5,          1,        104,      11103,2,20180429,       0349,   -28.3240,    54.4965,       5170,  4125.2,   1.1290,  34.7119,2,  34.7153,6,    172.6,2, 201.2400,2,    124.9,6,     31.9,6,     0.00,6,    2.218,6,   0.082,2,   0.040,2,        0,2,  2262.7,2,  2372.5,2,   7.5975,6,    25.00, -999.00,9, -999.00,9, -999.00,-999.000,1,  -999.0,9,     -999.0,1,     -999.0,9,          4,     -999.0,9,     -999.0,9,     -999.0,9,     -999.0,9
33RO20180423,        I7N,       5,          1,        105,      11104,2,20180429,       0349,   -28.3240,    54.4965,       5170,  3824.5,   1.2731,  34.7172,2,  34.7229,2,    166.3,2, 204.4780,4,    125.8,2,     32.1,2,     0.00,2,    2.253,2,   0.043,6,   0.021,6,   0.0044,6,  2270.9,2,  2380.4,2,   7.5965,2,    25.00, -999.00,9, -999.00,9, -999.00,-999.000,1,  -999.0,9,     -999.0,1,     -999.0,9,          5,     -999.0,9,     -999.0,9,     -999.0,9,     -999.0,9
33RO20180423,        I7N,       5,          1,        106,      11105,2,20180429,       0349,   -28.3240,    54.4965,       5170,  3525.5,   1.4233,  34.7227,2,  34.7249,2,    160.1,2, 186.4250,2,    126.2,2,     32.3,2,     0.00,2,    2.277,2,   0.020,2,   0.010,2,        0,2,  2277.8,2,  2388.4,2,   7.5955,2,    25.00, -999.00,9, -999.00,9, -999.00,-999.000,1,    45.0,3,     -999.0,1,     -999.0,9,          6,     -999.0,9,     -999.0,9,     -999.0,9,     -999.0,9
33RO20180423,        I7N,       5,          1,        107,      11106,2,20180429,       0349,   -28.3240,    54.4965,       5170,  3226.1,   1.6440,  34.7323,2,  34.7321,2,    155.7,2, 179.6820,2,    122.6,2,     32.3,2,     0.00,2,    2.255,2,   0.015,2,   0.007,2,        0,2,  2279.0,2,  2389.5,2,   7.5944,2,    25.00, -999.00,9, -999.00,9, -999.00,-999.000,1,  -999.0,9,     -999.0,1,     -999.0,9,          7,     -999.0,9,     -999.0,9,     -999.0,9,     -999.0,9
33RO20180423,        I7N,       5,          1,        108,      11107,2,20180429,       0349,   -28.3240,    54.4965,       5170,  2925.5,   1.8289,  34.7373,2,  34.7416,2,    150.1,2, 172.6680,2,    120.4,2,     32.6,2,     0.00,2,    2.299,2,   0.011,2,   0.006,2,        0,2,  2283.7,2,  2392.2,2,   7.5917,2,    25.00, -999.00,9, -999.00,9, -999.00,-999.000,1,    45.2,3,     -999.0,1,     -999.0,9,          8,     -999.0,9,     -999.0,9,     -999.0,9,     -999.0,9
33RO20180423,        I7N,       5,          1,        109,      11108,2,20180429,       0349,   -28.3240,    54.4965,       5170,  2624.7,   2.0250,  34.7424,2,  34.7433,2,    151.7,2, 172.9700,2,    113.8,2,     32.1,2,     0.00,2,    2.250,2,   0.015,2,   0.008,2,        0,2,  2276.4,2,  2385.6,2,   7.5938,2,    25.00, -999.00,9, -999.00,9, -999.00,-999.000,1,    47.9,3,     -999.0,1,     -999.0,9,          9,     -999.0,9,     -999.0,9,     -999.0,9,     -999.0,9
33RO20180423,        I7N,       5,          1,        110,      11109,2,20180429,       0349,   -28.3240,    54.4965,       5170,  2333.1,   2.1909,  34.7396,2,-999.0000,9,    155.2,2,-999.0000,9,-999.0000,9,-999.0000,9,-999.0000,9,-999.0000,9,-999.000,9,-999.000,9,-999.0000,9,  -999.0,9,  -999.0,9,-999.0000,9,  -999.00, -999.00,9, -999.00,9, -999.00,-999.000,9,  -999.0,9,     -999.0,9,     -999.0,9,         10,     -999.0,9,     -999.0,9,     -999.0,9,     -999.0,9
33RO20180423,        I7N,       5,          1,        111,      11110,2,20180429,       0349,   -28.3240,    54.4965,       5170,  2332.7,   2.1909,  34.7396,2,-999.0000,9,    155.2,2,-999.0000,9,-999.0000,9,-999.0000,9,-999.0000,9,-999.0000,9,-999.000,9,-999.000,9,-999.0000,9,  -999.0,9,  -999.0,9,-999.0000,9,  -999.00, -999.00,9, -999.00,9, -999.00,-999.000,9,  -999.0,9,     -999.0,9,     -999.0,9,         11,     -999.0,9,     -999.0,9,     -999.0,9,     -999.0,9
33RO20180423,        I7N,       5,          1,        112,      11111,2,20180429,       0349,   -28.3240,    54.4965,       5170,  2332.6,   2.1909,  34.7396,2,-999.0000,9,    155.2,2,-999.0000,9,-999.0000,9,-999.0000,9,-999.0000,9,-999.0000,9,-999.000,9,-999.000,9,-999.0000,9,  -999.0,9,  -999.0,9,-999.0000,9,  -999.00, -999.00,9, -999.00,9, -999.00,-999.000,9,  -999.0,9,     -999.0,9,     -999.0,9,         12,     -999.0,9,     -999.0,9,     -999.0,9,     -999.0,9
33RO20180423,        I7N,       5,          1,        113,      11112,2,20180429,       0349,   -28.3240,    54.4965,       5170,  2321.2,   2.2071,  34.7392,2,  34.7390,2,    156.5,2, 176.4490,2,    101.9,2,     31.5,2,     0.00,2,    2.227,2,   0.027,2,   0.014,2,        0,2,  2263.0,2,  2372.9,2,   7.5970,2,    25.00, -999.00,9, -999.00,9, -999.00,-999.000,1,  -999.0,9,     -999.0,1,     -999.0,9,         13,     -999.0,9,     -999.0,9,     -999.0,9,     -999.0,9
33RO20180423,        I7N,       5,          1,        114,      11113,2,20180429,       0349,   -28.3240,    54.4965,       5170,  2114.9,   2.3239,  34.7277,2,  34.7317,2,    158.2,2, 178.2170,2,     95.3,2,     31.3,2,     0.00,2,    2.189,2,   0.038,2,   0.019,2,        0,2,  2256.3,6,  2364.3,2,   7.5954,2,    25.00, -999.00,9, -999.00,9, -999.00,-999.000,1,  -999.0,9,     -999.0,1,     -999.0,9,         14,     -999.0,9,     -999.0,9,     -999.0,9,     -999.0,9
33RO20180423,        I7N,       5,          1,        115,      11114,2,20180429,       0349,   -28.3240,    54.4965,       5170,  1902.5,   2.4609,  34.7049,2,  34.7099,2,    158.1,2, 177.0980,2,     89.4,2,     31.4,2,     0.00,2,    2.193,2,   0.064,2,   0.030,2,        0,2,  2251.2,2,  2358.4,2,   7.5908,6,    25.00, -999.00,9, -999.00,9, -999.00,-999.000,1,  -999.0,9,     -999.0,1,     -999.0,9,         15,     -999.0,9,     -999.0,9,     -999.0,9,     -999.0,9
33RO20180423,        I7N,       5,          1,        116,      11115,2,20180429,       0349,   -28.3240,    54.4965,       5170,  1693.3,   2.6581,  34.6528,2,  34.6539,2,    156.6,2, 175.1730,2,     81.6,2,     32.0,2,     0.00,2,    2.223,2,   0.147,2,   0.073,2,   0.0054,2,  2249.5,2,  2349.1,6,   7.5763,2,    25.00, -999.00,9, -999.00,9, -999.00,-999.000,1,  -999.0,9,     -999.0,1,     -999.0,9,         16,     -999.0,9,     -999.0,9,     -999.0,9,     -999.0,9
33RO20180423,        I7N,       5,          1,        117,      11116,2,20180429,       0349,   -28.3240,    54.4965,       5170,  1228.9,   3.7245,  34.4660,2,  34.4761,6,    158.9,2, 175.0080,2,     57.9,2,     32.5,2,     0.00,2,    2.277,2,   0.839,2,   0.408,2,   0.1831,2,  2227.0,2,  2323.7,2,   7.5705,2,    25.00, -999.00,9, -999.00,9, -999.00,-999.000,1,    46.9,3,     -999.0,1,     -999.0,9,         17,     -999.0,9,     -999.0,9,     -999.0,9,     -999.0,9
33RO20180423,        I7N,       5,          1,        118,      11117,2,20180429,       0349,   -28.3240,    54.4965,       5170,   919.3,   5.8394,  34.4176,2,  34.4430,2,    185.7,2, 202.5820,2,     25.7,2,     27.2,2,     0.00,2,    1.895,2,   2.519,6,   1.293,6,   0.7147,6,  2177.3,2,  2293.3,2,   7.6337,2,    25.00, -999.00,9, -999.00,9, -999.00,-999.000,1,    46.7,3,     -999.0,1,     -999.0,9,         18,     -999.0,9,     -999.0,9,     -999.0,9,     -999.0,9
33RO20180423,        I7N,       5,          1,        119,      11083,2,20180429,       0349,   -28.3240,    54.4965,       5170,   609.2,  10.3159,  34.8291,2,  34.8441,2,    204.2,2, 220.2450,2,      6.5,2,     15.5,2,     0.00,2,    1.147,2,   3.257,2,   1.809,2,   1.3685,2,  2133.2,2,  2299.5,2,   7.7613,2,    25.00, -999.00,9, -999.00,9, -999.00,-999.000,1,    53.3,3,     -999.0,1,     -999.0,9,         19,     -999.0,9,     -999.0,9,     -999.0,9,     -999.0,9
33RO20180423,        I7N,       5,          1,        120,      11118,2,20180429,       0349,   -28.3240,    54.4965,       5170,   300.3,  13.3629,  35.2736,2,  35.2815,2,    213.3,2, 229.6420,2,      3.5,2,      8.2,2,     0.00,2,    0.661,2,   2.824,2,   1.680,2,   1.8789,2,  2109.5,2,  2318.0,2,   7.8432,2,    25.00, -999.00,9, -999.00,9, -999.00,-999.000,1,    60.9,3,     -999.0,1,     -999.0,9,         20,     -999.0,9,     -999.0,9,     -999.0,9,     -999.0,9
33RO20180423,        I7N,       5,          1,        121,      11119,2,20180429,       0349,   -28.3240,    54.4965,       5170,   117.2,  17.0286,  35.6063,2,  35.6105,2,    212.8,2, 227.4630,2,      1.5,2,      0.3,2,     0.13,2,    0.226,2,   2.390,2,   1.457,2,      1.8,2,  2087.0,2,  2338.4,2,   7.9297,6,    25.00, -999.00,9, -999.00,9, -999.00,-999.000,1,    59.4,3,     -999.0,1,     -999.0,9,         21,     -999.0,9,     -999.0,9,     -999.0,9,     -999.0,9
33RO20180423,        I7N,       5,          1,        122,      11120,2,20180429,       0349,   -28.3240,    54.4965,       5170,    88.1,  18.6205,  35.6859,2,  35.7098,2,    224.2,2, 238.1190,2,      1.2,2,      0.0,2,     0.00,2,    0.127,2,   2.288,2,   1.387,2,   1.7718,2,  2066.9,2,  2341.5,2,   7.9709,2,    25.00, -999.00,9, -999.00,9, -999.00,-999.000,1,    67.2,3,     -999.0,1,     -999.0,9,         22,     -999.0,9,     -999.0,9,     -999.0,9,     -999.0,9
33RO20180423,        I7N,       5,          1,        123,      11121,2,20180429,       0349,   -28.3240,    54.4965,       5170,    39.2,  23.1942,  35.7050,2,  35.7114,2,    203.1,2, 214.9640,2,      1.2,2,      0.0,2,     0.00,2,    0.036,2,   1.764,2,   1.104,2,   1.5512,2,  2036.1,2,  2341.0,6,   8.0197,2,    25.00, -999.00,9, -999.00,9, -999.00,-999.000,1,    80.1,3,     -999.0,1,     -999.0,9,         23,     -999.0,9,     -999.0,9,     -999.0,9,     -999.0,9
33RO20180423,        I7N,       5,          1,        124,      11122,2,20180429,       0349,   -28.3240,    54.4965,       5170,     2.8,  23.2041,  35.7053,2,  35.7161,2,    203.4,2, 220.2660,4,      1.1,2,      0.0,2,     0.00,2,    0.044,2,   1.776,2,   1.106,2,   1.5402,2,  2035.4,6,  -999.0,9,   8.0152,2,    25.00, -999.00,9, -999.00,9, -999.00,-999.000,1,    74.2,3,     -999.0,1,     -999.0,9,         24,     -999.0,9,     -999.0,9,     -999.0,9,     -999.0,9