BOTTLE,20230801CCHSIOCBG
EXPOCODE,SECT_ID,STNNBR,CASTNO,SAMPNO,BTLNBR,BTLNBR_FLAG_W,DATE,TIME,LATITUDE,LONGITUDE,DEPTH,CTDPRS,CTDTMP,CTDSAL,CTDSAL_FLAG_W,SALNTY,SALNTY_FLAG_W,CTDOXY,CTDOXY_FLAG_W,OXYGEN,OXYGEN_FLAG_W,SILCAT,SILCAT_FLAG_W,NITRAT,NITRAT_FLAG_W,NITRIT,NITRIT_FLAG_W,PHSPHT,PHSPHT_FLAG_W,CFC-11,CFC-11_FLAG_W,CFC-12,CFC-12_FLAG_W,SF6,SF6_FLAG_W,TCARBN,TCARBN_FLAG_W,ALKALI,ALKALI_FLAG_W,PH_SWS,PH_SWS_FLAG_W,PH_TMP,DELC13,DELC13_FLAG_W,DELC14,DELC14_FLAG_W,C14ERR,CCL4,CCL4_FLAG_W,DOC,DOC_FLAG_W,N2O,N2O_FLAG_W,CALCIUM,CALCIUM_FLAG_W,SAMPNO_U,DNSSAL,DNSSAL_FLAG_W,DNSSAL2,DNSSAL2_FLAG_W,SALNTY_DNSSAL,SALNTY_DNSSAL_FLAG_W,SALNTY_DNSSAL2,SALNTY_DNSSAL2_FLAG_W
,,,,,,,,,,,METERS,DBAR,ITS-90,PSS-78,,PSS-78,,UMOL/KG,,UMOL/KG,,UMOL/KG,,UMOL/KG,,UMOL/KG,,UMOL/KG,,PMOL/KG,,PMOL/KG,,FMOL/KG,,UMOL/KG,,UMOL/KG,,,,DEG C,/MILLE,,/MILLE,,/MILLE,PMOL/KG,,UMOL/KG,,NMOL/KG,,MMOL/KG,,,G/KG,,G/KG,,PSS-78,,PSS-78,
33RO20180423,        I7N,      94,          1,        101,      11010,2,20180527,       0335,     6.7923,    61.7252,       3421,  3468.8,   1.7842,  34.7418,2,  34.7441,2,    134.2,2, 152.8930,2,    136.6,6,     35.3,6,     0.00,6,    2.464,6,   0.007,2,   0.006,2,        0,2,  2320.4,6,  2427.9,2,   7.5818,6,    25.00, -999.00,9, -999.00,9, -999.00,-999.000,1,  -999.0,9,     -999.0,1,     -999.0,9,          1,     -999.0,9,     -999.0,9,     -999.0,9,     -999.0,9
33RO20180423,        I7N,      94,          1,        102,      11101,2,20180527,       0335,     6.7923,    61.7252,       3421,  3225.3,   1.8195,  34.7448,2,  34.7459,2,    132.4,2, 150.1660,2,    136.2,6,     35.3,6,     0.00,6,    2.477,6,   0.005,2,   0.004,2,   0.0022,2,  2320.4,2,  2419.8,2,   7.5773,2,    25.00, -999.00,9, -999.00,9, -999.00,-999.000,1,  -999.0,9,     -999.0,1,     -999.0,9,          2,     -999.0,9,     -999.0,9,     -999.0,9,     -999.0,9
33RO20180423,        I7N,      94,          1,        103,      11102,2,20180527,       0335,     6.7923,    61.7252,       3421,  3000.9,   1.8412,  34.7468,2,  34.7468,2,    131.5,2, 148.9980,2,    135.8,6,     35.4,6,     0.00,6,    2.483,6,   0.005,2,   0.004,2,    0.001,2,  2318.7,2,  2419.9,6,   7.5745,2,    25.00, -999.00,9, -999.00,9, -999.00,-999.000,1,  -999.0,9,     -999.0,1,     -999.0,9,          3,     -999.0,9,     -999.0,9,     -999.0,9,     -999.0,9
33RO20180423,        I7N,      94,          1,        104,      11103,2,20180527,       0335,     6.7923,    61.7252,       3421,  2699.6,   1.9815,  34.7556,2,  34.7570,2,    126.5,2, 142.7180,2,    134.7,6,     35.6,6,     0.00,6,    2.510,6,   0.004,2,   0.005,2,   0.0042,2,  2320.2,2,  2422.0,2,   7.5660,2,    25.00, -999.00,9, -999.00,9, -999.00,-999.000,1,  -999.0,9,     -999.0,1,     -999.0,9,          4,     -999.0,9,     -999.0,9,     -999.0,9,     -999.0,9
33RO20180423,        I7N,      94,          1,        105,      11104,2,20180527,       0335,     6.7923,    61.7252,       3421,  2400.1,   2.3984,  34.7760,2,  34.7766,2,    117.1,2, 131.9710,2,    129.5,2,     35.8,2,     0.00,2,    2.551,2,   0.003,2,   0.003,2,   0.0075,2,  2321.0,2,  2414.1,2,   7.5498,2,    25.00, -999.00,9, -999.00,9, -999.00,-999.000,1,  -999.0,9,     -999.0,1,     -999.0,9,          5,     -999.0,9,     -999.0,9,     -999.0,9,     -999.0,9
33RO20180423,        I7N,      94,          1,        106,      11105,2,20180527,       0335,     6.7923,    61.7252,       3421,  2100.6,   2.6732,  34.7891,2,  34.7943,2,    111.5,2, 124.9440,2,    126.0,2,     36.1,2,     0.00,2,    2.574,2,   0.003,2,   0.003,2,   0.0028,2,  2319.4,2,  2411.3,2,   7.5454,2,    25.00, -999.00,9, -999.00,9, -999.00,-999.000,1,  -999.0,9,     -999.0,1,     -999.0,9,          6,     -999.0,9,     -999.0,9,     -999.0,9,     -999.0,9
33RO20180423,        I7N,      94,          1,        107,      11106,2,20180527,       0335,     6.7923,    61.7252,       3421,  1800.7,   3.5827,  34.8385,2,  34.8377,2,     91.8,2, 102.6130,2,    116.1,2,     36.7,2,     0.00,2,    2.659,2,   0.005,6,   0.005,6,    0.002,6,  2318.1,2,  2399.3,2,   7.5185,2,    25.00, -999.00,9, -999.00,9, -999.00,-999.000,1,  -999.0,9,     -999.0,1,     -999.0,9,          7,     -999.0,9,     -999.0,9,     -999.0,9,     -999.0,9
33RO20180423,        I7N,      94,          1,        108,      11107,2,20180527,       0335,     6.7923,    61.7252,       3421,  1551.2,   4.4775,  34.8914,2,  34.8918,2,     74.9,2,  83.5660,2,    106.8,2,     37.2,2,     0.00,2,    2.713,2,   0.010,2,   0.006,2,   0.0074,2,  2316.6,2,  2390.0,2,   7.4977,2,    25.00, -999.00,9, -999.00,9, -999.00,-999.000,1,  -999.0,9,     -999.0,1,     -999.0,9,          8,     -999.0,9,     -999.0,9,     -999.0,9,     -999.0,9
33RO20180423,        I7N,      94,          1,        109,      11108,2,20180527,       0335,     6.7923,    61.7252,       3421,  1300.6,   5.6140,  34.9739,2,  34.9801,6,     55.7,2,  61.9410,2,     96.0,2,     37.5,2,     0.00,2,    2.770,2,   0.023,2,   0.014,2,   0.0032,2,  2315.3,2,  2380.3,2,   7.4777,2,    25.00, -999.00,9, -999.00,9, -999.00,-999.000,1,  -999.0,9,     -999.0,1,     -999.0,9,          9,     -999.0,9,     -999.0,9,     -999.0,9,     -999.0,9
33RO20180423,        I7N,      94,          1,        110,      11109,2,20180527,       0335,     6.7923,    61.7252,       3421,  1101.6,   7.0890,  35.0999,2,  35.1137,2,     36.8,2,  41.2380,2,     82.9,2,     37.4,2,     0.00,2,    2.787,2,   0.059,2,   0.034,2,   0.0033,2,  2309.1,2,  2372.3,6,   7.4650,2,    25.00, -999.00,9, -999.00,9, -999.00,-999.000,1,  -999.0,9,     -999.0,1,     -999.0,9,         10,     -999.0,9,     -999.0,9,     -999.0,9,     -999.0,9
33RO20180423,        I7N,      94,          1,        111,      11110,2,20180527,       0335,     6.7923,    61.7252,       3421,   900.9,   8.2771,  35.1826,2,  35.2127,2,     26.9,2,  30.9660,2,     70.7,2,     36.8,2,     0.00,2,    2.738,2,   0.114,2,   0.068,2,   0.0161,2,  2297.8,2,  2360.4,2,   7.4651,6,    25.00, -999.00,9, -999.00,9, -999.00,-999.000,1,  -999.0,9,     -999.0,1,     -999.0,9,         11,     -999.0,9,     -999.0,9,     -999.0,9,     -999.0,9
33RO20180423,        I7N,      94,          1,        112,      11111,2,20180527,       0335,     6.7923,    61.7252,       3421,   690.0,   9.4889,  35.2547,2,  35.2952,2,     23.2,2,  26.3450,2,     57.3,2,     35.1,2,     0.00,2,    2.644,2,   0.256,2,   0.148,2,   0.0507,2,  2283.8,2,  2349.6,2,   7.4700,2,    25.00, -999.00,9, -999.00,9, -999.00,-999.000,1,  -999.0,9,     -999.0,1,     -999.0,9,         12,     -999.0,9,     -999.0,9,     -999.0,9,     -999.0,9
33RO20180423,        I7N,      94,          1,        113,      11112,2,20180527,       0335,     6.7923,    61.7252,       3421,   550.3,  10.6060,  35.2915,2,  35.2920,2,     30.4,2,  33.7060,2,     42.9,2,     32.6,2,     0.00,2,    2.435,2,   0.638,2,   0.359,2,   0.1489,2,  2264.8,6,  2335.3,2,   7.4920,2,    25.00, -999.00,9, -999.00,9, -999.00,-999.000,1,  -999.0,9,     -999.0,1,     -999.0,9,         13,     -999.0,9,     -999.0,9,     -999.0,9,     -999.0,9
33RO20180423,        I7N,      94,          1,        114,      11113,2,20180527,       0335,     6.7923,    61.7252,       3421,   449.5,  11.0779,  35.2748,2,  35.2763,2,     34.2,2,  37.9390,2,     36.7,2,     31.8,2,     0.00,2,    2.360,2,   0.892,2,   0.496,2,   0.2224,2,  2257.5,2,  2329.8,2,   7.4993,2,    25.00, -999.00,9, -999.00,9, -999.00,-999.000,1,  -999.0,9,     -999.0,1,     -999.0,9,         14,     -999.0,9,     -999.0,9,     -999.0,9,     -999.0,9
33RO20180423,        I7N,      94,          1,        115,      11114,2,20180527,       0335,     6.7923,    61.7252,       3421,   400.1,  11.3959,  35.2672,2,  35.2686,2,     38.4,2,  42.2670,2,     32.9,2,     31.0,2,     0.01,2,    2.258,2,   1.107,2,   0.613,2,   0.2925,2,  2251.1,2,  2326.6,2,   7.5079,2,    25.00, -999.00,9, -999.00,9, -999.00,-999.000,1,  -999.0,9,     -999.0,1,     -999.0,9,         15,     -999.0,9,     -999.0,9,     -999.0,9,     -999.0,9
33RO20180423,        I7N,      94,          1,        116,      11115,2,20180527,       0335,     6.7923,    61.7252,       3421,   346.5,  11.6271,  35.2235,2,  35.2250,2,     36.7,2,  40.9330,2,     30.0,2,     30.9,2,     0.01,2,    2.210,2,   1.210,6,   0.669,6,   0.3163,6,  2234.8,3,  2322.7,2,   7.5042,2,    25.00, -999.00,9, -999.00,9, -999.00,-999.000,1,  -999.0,9,     -999.0,1,     -999.0,9,         16,     -999.0,9,     -999.0,9,     -999.0,9,     -999.0,9
33RO20180423,        I7N,      94,          1,        117,      11116,2,20180527,       0335,     6.7923,    61.7252,       3421,   294.3,  12.5513,  35.2629,2,  35.2504,2,     47.2,2,  51.2880,2,     25.4,2,     28.5,2,     0.01,2,    2.053,2,   1.544,2,   0.866,2,   0.5132,2,  2246.2,2,  2322.2,2,   7.5372,2,    25.00, -999.00,9, -999.00,9, -999.00,-999.000,1,  -999.0,9,     -999.0,1,     -999.0,9,         17,     -999.0,9,     -999.0,9,     -999.0,9,     -999.0,9
33RO20180423,        I7N,      94,          1,        118,      11117,2,20180527,       0335,     6.7923,    61.7252,       3421,   242.8,  13.8759,  35.3589,2,  35.3491,2,     52.5,2,  58.4470,2,     22.0,2,     25.6,2,     0.01,2,    1.911,2,   1.723,2,   0.989,2,   0.6113,2,  2222.7,2,  2323.8,2,   7.5749,2,    25.00, -999.00,9, -999.00,9, -999.00,-999.000,1,  -999.0,9,     -999.0,1,     -999.0,9,         18,     -999.0,9,     -999.0,9,     -999.0,9,     -999.0,9
33RO20180423,        I7N,      94,          1,        119,      11083,2,20180527,       0335,     6.7923,    61.7252,       3421,   194.0,  15.0490,  35.2745,2,  35.2862,2,     54.6,2,  59.5520,2,     19.1,2,     24.6,2,     0.01,2,    1.805,2,   1.781,2,   1.035,2,   0.7474,2,  2207.1,2,  2318.6,2,   7.6046,2,    25.00, -999.00,9, -999.00,9, -999.00,-999.000,1,  -999.0,9,     -999.0,1,     -999.0,9,         19,     -999.0,9,     -999.0,9,     -999.0,9,     -999.0,9
33RO20180423,        I7N,      94,          1,        120,      11118,2,20180527,       0335,     6.7923,    61.7252,       3421,   161.8,  16.4734,  35.4192,2,  35.4165,2,     21.5,2,  25.3670,2,     19.8,2,     25.9,2,     0.01,2,    2.038,2,   1.514,2,   0.920,2,   0.6775,2,  2225.3,2,  2321.6,2,   7.5656,2,    25.00, -999.00,9, -999.00,9, -999.00,-999.000,1,  -999.0,9,     -999.0,1,     -999.0,9,         20,     -999.0,9,     -999.0,9,     -999.0,9,     -999.0,9
33RO20180423,        I7N,      94,          1,        121,      11119,2,20180527,       0335,     6.7923,    61.7252,       3421,   119.6,  21.4102,  35.5748,2,  35.5752,2,     47.0,2,  52.6730,2,     11.9,2,     20.9,2,     0.03,2,    1.562,2,   1.525,2,   0.946,2,   1.0212,2,  2167.0,2,  2325.2,2,   7.7233,2,    25.00, -999.00,9, -999.00,9, -999.00,-999.000,1,  -999.0,9,     -999.0,1,     -999.0,9,         21,     -999.0,9,     -999.0,9,     -999.0,9,     -999.0,9
33RO20180423,        I7N,      94,          1,        122,      11120,2,20180527,       0335,     6.7923,    61.7252,       3421,    84.7,  25.2153,  35.7702,2,  35.7648,2,    126.9,2, 132.2800,2,      4.9,2,      8.6,2,     0.10,2,    0.800,2,   1.561,2,   0.979,2,   1.3093,2,  2089.9,2,  2339.9,6,   7.9183,2,    25.00, -999.00,9, -999.00,9, -999.00,-999.000,1,  -999.0,9,     -999.0,1,     -999.0,9,         22,     -999.0,9,     -999.0,9,     -999.0,9,     -999.0,9
33RO20180423,        I7N,      94,          1,        123,      11121,2,20180527,       0335,     6.7923,    61.7252,       3421,    40.9,  28.6437,  35.6165,2,  35.6175,2,    196.0,2, 206.4990,2,      2.1,2,      0.0,2,     0.00,2,    0.168,2,   1.497,2,   0.942,2,   1.3873,2,  2001.1,2,  2336.2,2,   8.0643,6,    25.00, -999.00,9, -999.00,9, -999.00,-999.000,1,  -999.0,9,     -999.0,1,     -999.0,9,         23,     -999.0,9,     -999.0,9,     -999.0,9,     -999.0,9
33RO20180423,        I7N,      94,          1,        124,      11122,2,20180527,       0335,     6.7923,    61.7252,       3421,     3.3,  29.8646,  34.9995,2,  35.0014,2,    184.6,2, 194.1465,2,      1.6,2,      0.0,2,     0.00,2,    0.113,2,   1.390,2,   0.886,2,   1.3609,2,  1962.8,6,  2300.5,2,   8.0891,2,    25.00, -999.00,9, -999.00,9, -999.00,-999.000,1,  -999.0,9,     -999.0,1,     -999.0,9,         24,     -999.0,9,     -999.0,9,     -999.0,9,     -999.0,9