BOTTLE,20230801CCHSIOCBG
EXPOCODE,SECT_ID,STNNBR,CASTNO,SAMPNO,BTLNBR,BTLNBR_FLAG_W,DATE,TIME,LATITUDE,LONGITUDE,DEPTH,CTDPRS,CTDTMP,CTDSAL,CTDSAL_FLAG_W,SALNTY,SALNTY_FLAG_W,CTDOXY,CTDOXY_FLAG_W,OXYGEN,OXYGEN_FLAG_W,SILCAT,SILCAT_FLAG_W,NITRAT,NITRAT_FLAG_W,NITRIT,NITRIT_FLAG_W,PHSPHT,PHSPHT_FLAG_W,CFC-11,CFC-11_FLAG_W,CFC-12,CFC-12_FLAG_W,SF6,SF6_FLAG_W,TCARBN,TCARBN_FLAG_W,ALKALI,ALKALI_FLAG_W,PH_SWS,PH_SWS_FLAG_W,PH_TMP,DELC13,DELC13_FLAG_W,DELC14,DELC14_FLAG_W,C14ERR,CCL4,CCL4_FLAG_W,DOC,DOC_FLAG_W,N2O,N2O_FLAG_W,CALCIUM,CALCIUM_FLAG_W,SAMPNO_U,DNSSAL,DNSSAL_FLAG_W,DNSSAL2,DNSSAL2_FLAG_W,SALNTY_DNSSAL,SALNTY_DNSSAL_FLAG_W,SALNTY_DNSSAL2,SALNTY_DNSSAL2_FLAG_W
,,,,,,,,,,,METERS,DBAR,ITS-90,PSS-78,,PSS-78,,UMOL/KG,,UMOL/KG,,UMOL/KG,,UMOL/KG,,UMOL/KG,,UMOL/KG,,PMOL/KG,,PMOL/KG,,FMOL/KG,,UMOL/KG,,UMOL/KG,,,,DEG C,/MILLE,,/MILLE,,/MILLE,PMOL/KG,,UMOL/KG,,NMOL/KG,,MMOL/KG,,,G/KG,,G/KG,,PSS-78,,PSS-78,
33RO20180423,        I7N,     119,          1,        101,      11010,2,20180602,       2329,    17.0597,    68.4707,       3558,  3610.2,   1.6984,  34.7354,2,  34.7327,2,    122.9,2, 139.7600,2,    144.5,6,     36.3,6,     0.01,6,    2.507,6,   0.009,2,   0.008,2,        0,2,  2345.0,2,  2446.2,2,   7.5848,2,    25.00,    0.12,6, -190.00,6,    1.83,-999.000,1,    46.7,3,     -999.0,1,     -999.0,9,          1,     -999.0,9,     -999.0,9,     -999.0,9,     -999.0,9
33RO20180423,        I7N,     119,          1,        102,      11101,2,20180602,       2329,    17.0597,    68.4707,       3558,  3365.3,   1.7126,  34.7376,2,  34.7386,2,    122.4,2, 138.8175,2,    144.4,6,     36.2,6,     0.00,6,    2.511,6,   0.008,2,   0.008,2,   0.0016,2,  2342.2,2,  2445.6,2,   7.5780,6,    25.00,    0.12,2, -196.00,2,    1.59,-999.000,1,    47.5,3,     -999.0,1,     -999.0,9,          2,     -999.0,9,     -999.0,9,     -999.0,9,     -999.0,9
33RO20180423,        I7N,     119,          1,        103,      11102,2,20180602,       2329,    17.0597,    68.4707,       3558,  3100.7,   1.7500,  34.7411,2,  34.7419,2,    118.5,2, 134.1550,2,    145.2,6,     36.3,6,     0.00,6,    2.532,6,-999.000,9,-999.000,9,-999.0000,9,  2342.6,2,  2444.4,6,   7.5684,2,    25.00,    0.08,2, -198.00,2,    1.58,-999.000,9,  -999.0,9,     -999.0,9,     -999.0,9,          3,     -999.0,9,     -999.0,9,     -999.0,9,     -999.0,9
33RO20180423,        I7N,     119,          1,        104,      11103,2,20180602,       2329,    17.0597,    68.4707,       3558,  2800.5,   1.8475,  34.7483,2,  34.7539,2,    111.7,2, 126.3710,2,    146.0,6,     36.7,6,     0.01,6,    2.574,6,   0.004,2,   0.006,2,   0.0073,2,  2346.5,2,  2435.9,2,   7.5542,2,    25.00,    0.00,2, -204.00,2,    1.65,-999.000,1,    48.7,3,     -999.0,1,     -999.0,9,          4,     -999.0,9,     -999.0,9,     -999.0,9,     -999.0,9
33RO20180423,        I7N,     119,          1,        105,      11104,2,20180602,       2329,    17.0597,    68.4707,       3558,  2500.1,   2.0787,  34.7638,2,  34.7679,6,    104.6,2, 117.7480,2,    143.7,2,     36.6,2,     0.00,2,    2.613,2,-999.000,9,-999.000,9,-999.0000,9,  2347.5,2,  2435.6,2,   7.5384,2,    25.00,   -0.03,2, -199.00,2,    1.81,-999.000,9,    48.5,3,     -999.0,9,     -999.0,9,          5,     -999.0,9,     -999.0,9,     -999.0,9,     -999.0,9
33RO20180423,        I7N,     119,          1,        106,      11105,2,20180602,       2329,    17.0597,    68.4707,       3558,  2200.3,   2.5650,  34.7961,2,  34.8257,2,     93.7,2, 105.2100,2,    137.3,2,     37.3,2,     0.01,2,    2.680,2,   0.003,2,   0.004,2,        0,2,  2344.0,2,  2426.9,2,   7.5169,2,    25.00,    0.00,2, -194.00,2,    1.63,-999.000,1,    47.5,3,     -999.0,1,     -999.0,9,          6,     -999.0,9,     -999.0,9,     -999.0,9,     -999.0,9
33RO20180423,        I7N,     119,          1,        107,      11106,2,20180602,       2329,    17.0597,    68.4707,       3558,  1882.5,   3.3119,  34.8483,2,  34.8499,6,     78.0,2,  87.2940,2,    128.0,2,     37.7,2,     0.01,2,    2.759,2,   0.003,2,   0.004,2,        0,2,  2341.3,2,  2416.1,2,   7.4957,2,    25.00,   -0.05,2, -187.00,2,    1.63,-999.000,1,    48.1,3,     -999.0,1,     -999.0,9,          7,     -999.0,9,     -999.0,9,     -999.0,9,     -999.0,9
33RO20180423,        I7N,     119,          1,        108,      11107,2,20180602,       2329,    17.0597,    68.4707,       3558,  1632.2,   4.4841,  34.9506,2,  34.9556,2,     51.5,2,  57.6220,2,    116.8,2,     38.5,2,     0.00,2,    2.891,2,-999.000,9,-999.000,9,-999.0000,9,  2342.9,2,  2405.5,2,   7.4595,2,    25.00,    0.03,2, -183.00,2,    1.70,-999.000,9,  -999.0,9,     -999.0,9,     -999.0,9,          8,     -999.0,9,     -999.0,9,     -999.0,9,     -999.0,9
33RO20180423,        I7N,     119,          1,        109,      11108,2,20180602,       2329,    17.0597,    68.4707,       3558,  1366.9,   6.3450,  35.1194,2,  35.1229,2,     23.6,2,  26.8460,2,     97.8,2,     38.7,2,     0.01,2,    2.965,2,   0.013,6,   0.010,6,   0.0036,6,  2333.8,2,  2387.6,2,   7.4355,2,    25.00,   -0.01,2, -162.00,2,    2.00,-999.000,1,    45.4,3,     -999.0,1,     -999.0,9,          9,     -999.0,9,     -999.0,9,     -999.0,9,     -999.0,9
33RO20180423,        I7N,     119,          1,        110,      11109,2,20180602,       2329,    17.0597,    68.4707,       3558,  1168.2,   7.6233,  35.2619,2,  35.2608,2,     10.4,2,  12.6900,2,     85.1,2,     38.2,2,     0.01,2,    2.942,2,   0.038,2,   0.025,2,        0,2,  2323.9,2,  2376.5,2,   7.4301,2,    25.00,    0.00,2, -150.00,2,    2.01,-999.000,1,    50.0,3,     -999.0,1,     -999.0,9,         10,     -999.0,9,     -999.0,9,     -999.0,9,     -999.0,9
33RO20180423,        I7N,     119,          1,        111,      11110,2,20180602,       2329,    17.0597,    68.4707,       3558,   950.7,   9.3422,  35.4454,2,  35.4635,2,      3.3,2,   5.1310,2,     69.2,2,     35.9,2,     0.01,2,    2.822,2,   0.097,2,   0.063,2,   0.0029,2,  2307.5,2,  2366.9,2,   7.4540,2,    25.00,   -0.02,2, -129.00,2,    1.98,-999.000,1,    48.8,3,     -999.0,1,     -999.0,9,         11,     -999.0,9,     -999.0,9,     -999.0,9,     -999.0,9
33RO20180423,        I7N,     119,          1,        112,      11111,2,20180602,       2329,    17.0597,    68.4707,       3558,   800.5,  10.1728,  35.4864,2,  35.4873,2,      0.9,2,   2.5810,2,     61.0,2,     34.5,2,     0.01,2,    2.776,2,   0.115,2,   0.074,2,   0.0087,2,  2302.5,2,  2358.8,6,   7.4504,2,    25.00,    0.07,2, -111.00,2,    2.09,-999.000,1,    54.1,3,     -999.0,1,     -999.0,9,         12,     -999.0,9,     -999.0,9,     -999.0,9,     -999.0,9
33RO20180423,        I7N,     119,          1,        113,      11112,2,20180602,       2329,    17.0597,    68.4707,       3558,   650.3,  11.2861,  35.5729,2,  35.5741,2,      0.3,2,   1.6150,2,     49.9,2,     31.3,2,     0.01,2,    2.672,2,   0.212,2,   0.143,2,   0.0065,2,  2286.8,2,  2352.0,2,   7.4670,6,    25.00,    0.07,2,  -84.50,2,    2.07,-999.000,1,    46.5,3,     -999.0,1,     -999.0,9,         13,     -999.0,9,     -999.0,9,     -999.0,9,     -999.0,9
33RO20180423,        I7N,     119,          1,        114,      11113,2,20180602,       2329,    17.0597,    68.4707,       3558,   467.2,  12.4372,  35.5935,2,  35.5985,2,      0.6,2,   2.2205,2,     37.4,2,     29.6,2,     0.01,2,    2.514,2,   0.534,2,   0.348,2,   0.1246,2,  2277.8,6,  2342.5,2,   7.4662,2,    25.00,   -0.01,2,  -51.30,2,    2.04,-999.000,1,    58.3,3,     -999.0,1,     -999.0,9,         14,     -999.0,9,     -999.0,9,     -999.0,9,     -999.0,9
33RO20180423,        I7N,     119,          1,        115,      11114,2,20180602,       2329,    17.0597,    68.4707,       3558,   417.2,  12.8143,  35.6044,2,  35.6062,2,      0.2,2,   1.2520,2,     34.8,2,     28.8,2,     0.01,2,    2.483,2,   0.649,2,   0.422,2,   0.1713,2,  2274.3,2,  2341.8,2,   7.4634,2,    25.00,   -0.09,2,  -40.60,2,    2.45,-999.000,1,    51.2,3,     -999.0,1,     -999.0,9,         15,     -999.0,9,     -999.0,9,     -999.0,9,     -999.0,9
33RO20180423,        I7N,     119,          1,        116,      11115,2,20180602,       2329,    17.0597,    68.4707,       3558,   357.8,  13.2773,  35.6250,2,  35.6236,2,      0.2,2,   1.1980,2,     32.5,2,     25.5,2,     1.68,2,    2.456,2,   0.717,2,   0.480,2,   0.2227,2,  2274.9,2,  2340.2,2,   7.4652,2,    25.00,   -0.19,2,  -32.80,2,    2.06,-999.000,1,    59.7,3,     -999.0,1,     -999.0,9,         16,     -999.0,9,     -999.0,9,     -999.0,9,     -999.0,9
33RO20180423,        I7N,     119,          1,        117,      11116,2,20180602,       2329,    17.0597,    68.4707,       3558,   317.2,  13.6871,  35.6296,2,  35.6312,2,      0.2,2,   2.6220,2,     30.9,2,     22.5,2,     3.48,2,    2.418,2,   0.787,2,   0.531,2,   0.2612,2,  2273.2,2,  2338.6,2,   7.4642,2,    25.00,   -0.19,2,  -22.10,2,    2.01,-999.000,1,  -999.0,9,     -999.0,1,     -999.0,9,         17,     -999.0,9,     -999.0,9,     -999.0,9,     -999.0,9
33RO20180423,        I7N,     119,          1,        118,      11117,2,20180602,       2329,    17.0597,    68.4707,       3558,   264.8,  15.0168,  35.7739,2,  35.7703,2,      0.2,2,   1.9340,2,     28.1,2,     18.3,2,     3.87,2,    2.385,2,   0.863,2,   0.626,2,   0.3371,2,  2271.5,2,  2345.5,2,   7.4878,2,    25.00,   -0.34,2,  -15.50,2,    1.93,-999.000,1,    64.8,3,     -999.0,1,     -999.0,9,         18,     -999.0,9,     -999.0,9,     -999.0,9,     -999.0,9
33RO20180423,        I7N,     119,          1,        119,      11083,2,20180602,       2329,    17.0597,    68.4707,       3558,   198.2,  16.6910,  35.6782,2,  35.6946,2,      0.2,2,   1.7880,2,     24.2,2,     19.0,2,     3.13,2,    2.321,2,   1.020,2,   0.736,2,   0.4849,2,  2255.3,2,  2342.4,2,   7.5187,2,    25.00,   -0.38,2,   -5.00,2,    1.99,-999.000,1,    61.0,3,     -999.0,1,     -999.0,9,         19,     -999.0,9,     -999.0,9,     -999.0,9,     -999.0,9
33RO20180423,        I7N,     119,          1,        120,      11118,2,20180602,       2329,    17.0597,    68.4707,       3558,   172.7,  17.6781,  35.6663,2,  35.6719,2,      0.1,2,   1.8370,2,     21.9,2,     20.7,2,     2.62,2,    2.279,2,   1.121,2,   0.785,2,   0.5708,2,  2246.9,2,  2340.2,2,   7.5394,2,    25.00,   -0.43,2,    0.79,2,    1.96,-999.000,1,    58.4,3,     -999.0,1,     -999.0,9,         20,     -999.0,9,     -999.0,9,     -999.0,9,     -999.0,9
33RO20180423,        I7N,     119,          1,        121,      11119,2,20180602,       2329,    17.0597,    68.4707,       3558,   133.1,  20.5645,  35.8764,2,  35.8802,2,     16.4,2,  17.8120,2,     15.3,2,     24.3,2,     0.03,2,    1.991,2,   1.386,2,   0.888,2,   0.9345,2,  2218.2,2,  2346.6,2,   7.6364,2,    25.00,   -0.40,2,    5.61,2,    2.38,-999.000,1,    65.6,3,     -999.0,1,     -999.0,9,         21,     -999.0,9,     -999.0,9,     -999.0,9,     -999.0,9
33RO20180423,        I7N,     119,          1,        122,      11120,2,20180602,       2329,    17.0597,    68.4707,       3558,    93.4,  24.5452,  36.3097,2,  36.2722,2,     84.5,2,  80.9130,2,      6.0,2,     16.0,2,     0.16,2,    1.288,2,   1.504,2,   0.956,2,   1.2328,2,  2154.4,2,  2364.9,6,   7.8305,2,    25.00,   -0.03,2,   11.80,2,    2.08,-999.000,1,    69.5,3,     -999.0,1,     -999.0,9,         22,     -999.0,9,     -999.0,9,     -999.0,9,     -999.0,9
33RO20180423,        I7N,     119,          1,        123,      11121,2,20180602,       2329,    17.0597,    68.4707,       3558,    69.2,  26.5498,  36.4020,2,  36.4193,2,    171.8,2, 180.2230,2,      1.4,2,      1.3,2,     0.16,2,    0.453,2,   1.532,2,   0.972,2,   1.4192,2,  2069.8,2,  2381.6,2,   8.0205,2,    25.00,    0.83,2,   11.70,2,    2.15,-999.000,1,    87.4,3,     -999.0,1,     -999.0,9,         23,     -999.0,9,     -999.0,9,     -999.0,9,     -999.0,9
33RO20180423,        I7N,     119,          1,        124,      11122,2,20180602,       2329,    17.0597,    68.4707,       3558,     4.0,  30.5350,  36.2150,2,  36.2227,2,    180.4,2, 188.3090,2,      1.1,2,      0.0,2,     0.01,2,    0.116,2,   1.326,2,   0.853,2,   1.2648,2,  2008.2,6,  2375.2,2,   8.1038,6,    25.00,    1.12,2,   13.90,2,    2.03,-999.000,1,    86.6,3,     -999.0,1,     -999.0,9,         24,     -999.0,9,     -999.0,9,     -999.0,9,     -999.0,9