BOTTLE,20230801CCHSIOCBG
EXPOCODE,SECT_ID,STNNBR,CASTNO,SAMPNO,BTLNBR,BTLNBR_FLAG_W,DATE,TIME,LATITUDE,LONGITUDE,DEPTH,CTDPRS,CTDTMP,CTDSAL,CTDSAL_FLAG_W,SALNTY,SALNTY_FLAG_W,CTDOXY,CTDOXY_FLAG_W,OXYGEN,OXYGEN_FLAG_W,SILCAT,SILCAT_FLAG_W,NITRAT,NITRAT_FLAG_W,NITRIT,NITRIT_FLAG_W,PHSPHT,PHSPHT_FLAG_W,CFC-11,CFC-11_FLAG_W,CFC-12,CFC-12_FLAG_W,SF6,SF6_FLAG_W,TCARBN,TCARBN_FLAG_W,ALKALI,ALKALI_FLAG_W,PH_SWS,PH_SWS_FLAG_W,PH_TMP,DELC13,DELC13_FLAG_W,DELC14,DELC14_FLAG_W,C14ERR,CCL4,CCL4_FLAG_W,DOC,DOC_FLAG_W,N2O,N2O_FLAG_W,CALCIUM,CALCIUM_FLAG_W,SAMPNO_U,DNSSAL,DNSSAL_FLAG_W,DNSSAL2,DNSSAL2_FLAG_W,SALNTY_DNSSAL,SALNTY_DNSSAL_FLAG_W,SALNTY_DNSSAL2,SALNTY_DNSSAL2_FLAG_W
,,,,,,,,,,,METERS,DBAR,ITS-90,PSS-78,,PSS-78,,UMOL/KG,,UMOL/KG,,UMOL/KG,,UMOL/KG,,UMOL/KG,,UMOL/KG,,PMOL/KG,,PMOL/KG,,FMOL/KG,,UMOL/KG,,UMOL/KG,,,,DEG C,/MILLE,,/MILLE,,/MILLE,PMOL/KG,,UMOL/KG,,NMOL/KG,,MMOL/KG,,,G/KG,,G/KG,,PSS-78,,PSS-78,
33RO20180423,        I7N,      16,          1,        101,      11010,2,20180501,       2255,   -24.6612,    54.5015,       4080,  4152.3,   1.1767,  34.7130,2,  34.7218,2,    172.5,2, 197.6480,2,    125.2,6,     32.6,6,     0.00,6,    2.239,6,   0.000,4,   0.000,4,        0,4,  2274.6,6,  2379.4,2,   7.5978,2,    25.00, -999.00,9, -999.00,9, -999.00,-999.000,1,  -999.0,9,     -999.0,1,     -999.0,9,          1,     -999.0,9,     -999.0,9,     -999.0,9,     -999.0,9
33RO20180423,        I7N,      16,          1,        102,      11101,2,20180501,       2255,   -24.6612,    54.5015,       4080,  3754.1,   1.3847,  34.7212,2,  34.7305,6,    162.8,2, 186.6080,2,    126.2,6,     33.2,6,     0.00,6,    2.275,6,-999.000,9,-999.000,9,-999.0000,9,  2281.4,2,  2388.0,6,   7.5946,2,    25.00, -999.00,9, -999.00,9, -999.00,-999.000,9,  -999.0,9,     -999.0,9,     -999.0,9,          2,     -999.0,9,     -999.0,9,     -999.0,9,     -999.0,9
33RO20180423,        I7N,      16,          1,        103,      11102,2,20180501,       2255,   -24.6612,    54.5015,       4080,  3364.8,   1.6964,  34.7316,2,  34.7459,2,    150.2,2, 171.6790,2,    126.5,6,     33.8,6,     0.00,6,    2.327,6,   0.010,2,   0.005,2,        0,2,  -999.0,9,  -999.0,9,   7.5892,6,    25.00, -999.00,9, -999.00,9, -999.00,-999.000,1,  -999.0,9,     -999.0,1,     -999.0,9,          3,     -999.0,9,     -999.0,9,     -999.0,9,     -999.0,9
33RO20180423,        I7N,      16,          1,        104,      11103,2,20180501,       2255,   -24.6612,    54.5015,       4080,  3074.6,   1.8762,  34.7370,2,  34.7429,2,    144.6,2, 164.7255,2,    124.9,6,     34.1,6,     0.00,6,    2.356,6,-999.000,9,-999.000,9,-999.0000,9,  2297.3,2,  2398.7,2,   7.5843,2,    25.00, -999.00,9, -999.00,9, -999.00,-999.000,9,  -999.0,9,     -999.0,9,     -999.0,9,          4,     -999.0,9,     -999.0,9,     -999.0,9,     -999.0,9
33RO20180423,        I7N,      16,          1,        105,      11104,2,20180501,       2255,   -24.6612,    54.5015,       4080,  2775.1,   2.0103,  34.7387,2,  34.7499,2,    143.0,2,-999.0000,9,    121.8,2,     33.8,2,     0.00,2,    2.355,2,-999.000,1,-999.000,1,-999.0000,1,  -999.0,9,  2396.8,2,   7.5836,2,    25.00, -999.00,9, -999.00,9, -999.00,-999.000,1,  -999.0,9,     -999.0,1,     -999.0,9,          5,     -999.0,9,     -999.0,9,     -999.0,9,     -999.0,9
33RO20180423,        I7N,      16,          1,        106,      11105,2,20180501,       2255,   -24.6612,    54.5015,       4080,  2476.3,   2.1692,  34.7364,2,  34.7387,2,    144.6,2,-999.0000,9,    114.6,2,     33.5,2,     0.00,2,    2.335,2,-999.000,9,-999.000,9,-999.0000,9,  -999.0,9,  -999.0,9,-999.0000,9,  -999.00, -999.00,9, -999.00,9, -999.00,-999.000,9,  -999.0,9,     -999.0,9,     -999.0,9,          6,     -999.0,9,     -999.0,9,     -999.0,9,     -999.0,9
33RO20180423,        I7N,      16,          1,        107,      11106,2,20180501,       2255,   -24.6612,    54.5015,       4080,  2176.1,   2.3338,  34.7278,2,  34.7352,2,    147.6,2, 165.9460,2,    105.4,2,     33.1,2,     0.00,2,    2.303,2,-999.000,9,-999.000,9,-999.0000,9,  2277.7,2,  -999.0,9,   7.5837,2,    25.00, -999.00,9, -999.00,9, -999.00,-999.000,9,  -999.0,9,     -999.0,9,     -999.0,9,          7,     -999.0,9,     -999.0,9,     -999.0,9,     -999.0,9
33RO20180423,        I7N,      16,          1,        108,      11107,2,20180501,       2255,   -24.6612,    54.5015,       4080,  1865.2,   2.5645,  34.6971,2,  34.6992,2,    149.2,2, 166.7160,2,     94.9,2,     32.9,2,     0.00,2,    2.295,2,   0.039,2,   0.018,2,   0.0062,2,  2268.0,2,  2370.3,2,   7.5801,2,    25.00, -999.00,9, -999.00,9, -999.00,-999.000,1,  -999.0,9,     -999.0,1,     -999.0,9,          8,     -999.0,9,     -999.0,9,     -999.0,9,     -999.0,9
33RO20180423,        I7N,      16,          1,        109,      11108,2,20180501,       2255,   -24.6612,    54.5015,       4080,  1614.8,   2.9559,  34.6392,2,-999.0000,1,    145.8,2, 162.0860,2,     84.3,2,     33.5,2,     0.00,2,    2.330,2,-999.000,9,-999.000,9,-999.0000,9,  2261.2,2,  2352.3,6,   7.5682,2,    25.00, -999.00,9, -999.00,9, -999.00,-999.000,9,  -999.0,9,     -999.0,9,     -999.0,9,          9,     -999.0,9,     -999.0,9,     -999.0,9,     -999.0,9
33RO20180423,        I7N,      16,          1,        110,      11109,2,20180501,       2255,   -24.6612,    54.5015,       4080,  1351.2,   3.5988,  34.5660,2,  34.5771,6,    138.8,2, 152.8720,2,     74.7,2,     34.3,2,     0.00,2,    2.375,2,-999.000,9,-999.000,9,-999.0000,9,  2253.3,2,  2341.2,2,   7.5557,6,    25.00, -999.00,9, -999.00,9, -999.00,-999.000,9,  -999.0,9,     -999.0,9,     -999.0,9,         10,     -999.0,9,     -999.0,9,     -999.0,9,     -999.0,9
33RO20180423,        I7N,      16,          1,        111,      11110,2,20180501,       2255,   -24.6612,    54.5015,       4080,  1151.4,   4.5668,  34.4966,2,  34.4972,2,    143.7,2, 159.1995,2,     57.3,2,     33.1,2,     0.00,2,    2.293,2,   0.684,2,   0.340,2,   0.1119,2,  2233.4,2,  2325.1,2,   7.5710,2,    25.00, -999.00,9, -999.00,9, -999.00,-999.000,1,  -999.0,9,     -999.0,1,     -999.0,9,         11,     -999.0,9,     -999.0,9,     -999.0,9,     -999.0,9
33RO20180423,        I7N,      16,          1,        112,      11111,2,20180501,       2255,   -24.6612,    54.5015,       4080,   939.4,   6.5150,  34.4997,2,  34.5212,2,    168.1,2, 183.2180,2,     29.6,2,     27.6,2,     0.00,2,    1.924,2,-999.000,9,-999.000,9,-999.0000,9,  2188.3,2,  2300.8,2,   7.6351,2,    25.00, -999.00,9, -999.00,9, -999.00,-999.000,9,  -999.0,9,     -999.0,9,     -999.0,9,         12,     -999.0,9,     -999.0,9,     -999.0,9,     -999.0,9
33RO20180423,        I7N,      16,          1,        113,      11112,2,20180501,       2255,   -24.6612,    54.5015,       4080,   788.2,   8.7033,  34.6382,2,  34.6404,2,    196.1,2, 212.4590,2,     10.8,2,     19.9,2,     0.00,2,    1.400,2,-999.000,9,-999.000,9,-999.0000,9,  -999.0,9,  -999.0,9,   7.7163,2,    25.00, -999.00,9, -999.00,9, -999.00,-999.000,9,  -999.0,9,     -999.0,9,     -999.0,9,         13,     -999.0,9,     -999.0,9,     -999.0,9,     -999.0,9
33RO20180423,        I7N,      16,          1,        114,      11113,2,20180501,       2255,   -24.6612,    54.5015,       4080,   639.0,  10.6274,  34.8701,2,  34.8881,2,    208.8,2, 225.0790,2,      5.1,2,     13.8,2,     0.00,2,    1.040,2,   3.318,2,   1.864,2,   1.4346,2,  2132.6,2,  2299.8,2,   7.7782,2,    25.00, -999.00,9, -999.00,9, -999.00,-999.000,1,  -999.0,9,     -999.0,1,     -999.0,9,         14,     -999.0,9,     -999.0,9,     -999.0,9,     -999.0,9
33RO20180423,        I7N,      16,          1,        115,      11114,2,20180501,       2255,   -24.6612,    54.5015,       4080,   476.6,  12.5944,  35.1628,2,  35.1991,2,    207.3,2, 222.6590,2,      3.9,2,      9.6,2,     0.00,2,    0.778,2,-999.000,9,-999.000,9,-999.0000,9,  -999.0,9,  -999.0,9,   7.8217,2,    25.00, -999.00,9, -999.00,9, -999.00,-999.000,9,  -999.0,9,     -999.0,9,     -999.0,9,         15,     -999.0,9,     -999.0,9,     -999.0,9,     -999.0,9
33RO20180423,        I7N,      16,          1,        116,      11115,2,20180501,       2255,   -24.6612,    54.5015,       4080,   364.1,  14.1212,  35.3571,2,  35.3619,2,    199.4,2, 213.3480,2,      3.6,2,      7.0,2,     0.00,2,    0.624,2,-999.000,9,-999.000,9,-999.0000,9,  2116.8,2,  2323.4,2,   7.8479,2,    25.00, -999.00,9, -999.00,9, -999.00,-999.000,9,  -999.0,9,     -999.0,9,     -999.0,9,         16,     -999.0,9,     -999.0,9,     -999.0,9,     -999.0,9
33RO20180423,        I7N,      16,          1,        117,      11116,2,20180501,       2255,   -24.6612,    54.5015,       4080,   313.5,  15.1993,  35.4681,2,  35.4784,2,    197.2,2, 211.0070,2,      2.9,2,      5.0,2,     0.00,2,    0.509,2,   2.600,6,   1.563,6,   1.7146,6,  2111.2,2,  2329.2,2,   7.8710,2,    25.00, -999.00,9, -999.00,9, -999.00,-999.000,1,  -999.0,9,     -999.0,1,     -999.0,9,         17,     -999.0,9,     -999.0,9,     -999.0,9,     -999.0,9
33RO20180423,        I7N,      16,          1,        118,      11117,2,20180501,       2255,   -24.6612,    54.5015,       4080,   263.6,  16.5054,  35.5345,2,  35.5784,2,    183.3,2, 193.7800,2,      3.9,2,      5.0,2,     0.01,2,    0.478,2,-999.000,9,-999.000,9,-999.0000,9,  2109.0,2,  2332.7,2,   7.8810,2,    25.00, -999.00,9, -999.00,9, -999.00,-999.000,9,  -999.0,9,     -999.0,9,     -999.0,9,         18,     -999.0,9,     -999.0,9,     -999.0,9,     -999.0,9
33RO20180423,        I7N,      16,          1,        119,      11083,2,20180501,       2255,   -24.6612,    54.5015,       4080,   210.2,  18.5169,  35.5622,2,  35.5658,2,    173.4,2, 185.6480,2,      4.3,2,      3.9,2,     0.01,2,    0.416,2,   2.137,2,   1.317,2,    1.509,2,  2095.7,2,  2331.2,2,   7.9097,2,    25.00, -999.00,9, -999.00,9, -999.00,-999.000,1,  -999.0,9,     -999.0,1,     -999.0,9,         19,     -999.0,9,     -999.0,9,     -999.0,9,     -999.0,9
33RO20180423,        I7N,      16,          1,        120,      11118,2,20180501,       2255,   -24.6612,    54.5015,       4080,   171.1,  20.5318,  35.4774,2,  35.4545,2,    167.9,2, 175.6520,2,      4.7,2,      3.9,2,     0.02,2,    0.413,2,-999.000,9,-999.000,9,-999.0000,9,  2077.5,2,  2324.1,2,   7.9336,2,    25.00, -999.00,9, -999.00,9, -999.00,-999.000,9,  -999.0,9,     -999.0,9,     -999.0,9,         20,     -999.0,9,     -999.0,9,     -999.0,9,     -999.0,9
33RO20180423,        I7N,      16,          1,        121,      11119,2,20180501,       2255,   -24.6612,    54.5015,       4080,   131.2,  23.4448,  35.2772,2,  35.2669,2,    179.9,2, 191.2750,2,      2.6,2,      0.5,2,     0.34,2,    0.209,2,   1.752,2,   1.110,2,    1.477,2,  2027.2,2,  2311.2,6,   8.0047,6,    25.00, -999.00,9, -999.00,9, -999.00,-999.000,1,  -999.0,9,     -999.0,1,     -999.0,9,         21,     -999.0,9,     -999.0,9,     -999.0,9,     -999.0,9
33RO20180423,        I7N,      16,          1,        122,      11120,2,20180501,       2255,   -24.6612,    54.5015,       4080,    90.6,  24.9566,  35.0842,2,  35.0833,2,    194.1,2, 206.1540,2,      2.0,2,      0.0,2,     0.00,2,    0.129,2,-999.000,9,-999.000,9,-999.0000,9,  1994.2,2,  2299.3,2,   8.0415,2,    25.00, -999.00,9, -999.00,9, -999.00,-999.000,9,  -999.0,9,     -999.0,9,     -999.0,9,         22,     -999.0,9,     -999.0,9,     -999.0,9,     -999.0,9
33RO20180423,        I7N,      16,          1,        123,      11121,2,20180501,       2255,   -24.6612,    54.5015,       4080,    50.1,  26.5270,  35.0001,2,  35.0024,2,    191.8,2, 202.6050,2,      1.7,2,      0.0,2,     0.00,2,    0.115,2,-999.000,9,-999.000,9,-999.0000,9,  1974.9,2,  2292.5,2,   8.0675,2,    25.00, -999.00,9, -999.00,9, -999.00,-999.000,9,  -999.0,9,     -999.0,9,     -999.0,9,         23,     -999.0,9,     -999.0,9,     -999.0,9,     -999.0,9
33RO20180423,        I7N,      16,          1,        124,      11122,2,20180501,       2255,   -24.6612,    54.5015,       4080,     3.6,  26.5144,  34.9987,2,  35.0008,2,    192.3,2, 202.6890,2,      1.6,2,      0.0,2,     0.00,2,    0.087,2,   1.524,2,   0.972,2,   1.4094,2,  1972.6,2,  2293.1,2,   8.0670,2,    25.00, -999.00,9, -999.00,9, -999.00,-999.000,1,  -999.0,9,     -999.0,1,     -999.0,9,         24,     -999.0,9,     -999.0,9,     -999.0,9,     -999.0,9