BOTTLE,20230801CCHSIOCBG
EXPOCODE,SECT_ID,STNNBR,CASTNO,SAMPNO,BTLNBR,BTLNBR_FLAG_W,DATE,TIME,LATITUDE,LONGITUDE,DEPTH,CTDPRS,CTDTMP,CTDSAL,CTDSAL_FLAG_W,SALNTY,SALNTY_FLAG_W,CTDOXY,CTDOXY_FLAG_W,OXYGEN,OXYGEN_FLAG_W,SILCAT,SILCAT_FLAG_W,NITRAT,NITRAT_FLAG_W,NITRIT,NITRIT_FLAG_W,PHSPHT,PHSPHT_FLAG_W,CFC-11,CFC-11_FLAG_W,CFC-12,CFC-12_FLAG_W,SF6,SF6_FLAG_W,TCARBN,TCARBN_FLAG_W,ALKALI,ALKALI_FLAG_W,PH_SWS,PH_SWS_FLAG_W,PH_TMP,DELC13,DELC13_FLAG_W,DELC14,DELC14_FLAG_W,C14ERR,CCL4,CCL4_FLAG_W,DOC,DOC_FLAG_W,N2O,N2O_FLAG_W,CALCIUM,CALCIUM_FLAG_W,SAMPNO_U,DNSSAL,DNSSAL_FLAG_W,DNSSAL2,DNSSAL2_FLAG_W,SALNTY_DNSSAL,SALNTY_DNSSAL_FLAG_W,SALNTY_DNSSAL2,SALNTY_DNSSAL2_FLAG_W
,,,,,,,,,,,METERS,DBAR,ITS-90,PSS-78,,PSS-78,,UMOL/KG,,UMOL/KG,,UMOL/KG,,UMOL/KG,,UMOL/KG,,UMOL/KG,,PMOL/KG,,PMOL/KG,,FMOL/KG,,UMOL/KG,,UMOL/KG,,,,DEG C,/MILLE,,/MILLE,,/MILLE,PMOL/KG,,UMOL/KG,,NMOL/KG,,MMOL/KG,,,G/KG,,G/KG,,PSS-78,,PSS-78,
33RO20180423,        I7N,      99,          1,        101,      11010,2,20180528,       1107,     8.7945,    63.5633,       4557,  4622.2,   1.6467,  34.7296,2,  34.7349,2,    142.8,2, 165.5810,2,    134.9,6,     34.6,6,     0.00,6,    2.406,6,   0.009,2,   0.005,2,   0.0016,2,  2312.0,6,  2419.4,2,   7.5957,6,    25.00, -999.00,9, -999.00,9, -999.00,-999.000,1,  -999.0,9,     -999.0,1,     -999.0,9,          1,    34.9179,2,    34.9166,2,    34.7308,2,    34.7312,2
33RO20180423,        I7N,      99,          1,        102,      11101,2,20180528,       1107,     8.7945,    63.5633,       4557,  4366.3,   1.6333,  34.7307,2,  34.7331,2,    141.5,2, 164.3790,2,    135.2,6,     34.7,6,     0.00,6,    2.418,6,-999.000,9,-999.000,9,-999.0000,9,  2310.9,2,  2417.4,2,   7.5916,2,    25.00, -999.00,9, -999.00,9, -999.00,-999.000,9,  -999.0,9,     -999.0,9,     -999.0,9,          2,    34.9140,2,     -999.0,9,    34.7333,2,     -999.0,9
33RO20180423,        I7N,      99,          1,        103,      11102,2,20180528,       1107,     8.7945,    63.5633,       4557,  4100.2,   1.6378,  34.7324,2,  34.7363,2,    139.2,2, 161.5740,2,    135.7,6,     34.8,6,     0.00,6,    2.434,6,   0.006,2,   0.004,2,        0,2,  2312.8,2,  2418.2,6,   7.5895,2,    25.00, -999.00,9, -999.00,9, -999.00,-999.000,1,    42.4,3,     -999.0,1,     -999.0,9,          3,    34.9186,2,     -999.0,9,    34.7340,2,     -999.0,9
33RO20180423,        I7N,      99,          1,        104,      11103,2,20180528,       1107,     8.7945,    63.5633,       4557,  3799.7,   1.6824,  34.7357,2,  34.7371,6,    135.7,2, 157.4490,2,    136.1,6,     35.0,6,     0.00,6,    2.458,6,-999.000,9,-999.000,9,-999.0000,9,  2316.2,2,  2424.9,2,   7.5865,2,    25.00, -999.00,9, -999.00,9, -999.00,-999.000,9,    44.0,3,     -999.0,9,     -999.0,9,          4,    34.9173,2,     -999.0,9,    34.7371,2,     -999.0,9
33RO20180423,        I7N,      99,          1,        105,      11104,2,20180528,       1107,     8.7945,    63.5633,       4557,  3499.9,   1.7086,  34.7383,2,  34.7404,2,    134.1,2, 155.3650,2,    136.3,2,     35.1,2,     0.00,2,    2.462,2,   0.004,2,   0.004,2,        0,2,  2316.8,2,  2423.5,2,   7.5836,2,    25.00, -999.00,9, -999.00,9, -999.00,-999.000,1,  -999.0,9,     -999.0,1,     -999.0,9,          5,    34.9192,2,     -999.0,9,    34.7397,2,     -999.0,9
33RO20180423,        I7N,      99,          1,        106,      11105,2,20180528,       1107,     8.7945,    63.5633,       4557,  3200.0,   1.7693,  34.7422,2,-999.0000,9,    131.6,2,-999.0000,9,-999.0000,9,-999.0000,9,-999.0000,9,-999.0000,9,-999.000,9,-999.000,9,-999.0000,9,  -999.0,9,  -999.0,9,-999.0000,9,  -999.00, -999.00,9, -999.00,9, -999.00,-999.000,9,  -999.0,9,     -999.0,9,     -999.0,9,          6,     -999.0,9,     -999.0,9,     -999.0,9,     -999.0,9
33RO20180423,        I7N,      99,          1,        107,      11106,2,20180528,       1107,     8.7945,    63.5633,       4557,  2900.4,   1.8689,  34.7476,2,  34.7521,2,    128.9,2, 148.4165,2,    134.4,6,     35.3,6,     0.00,6,    2.497,6,-999.000,9,-999.000,9,-999.0000,9,  2319.1,2,  2421.2,2,   7.5753,2,    25.00, -999.00,9, -999.00,9, -999.00,-999.000,9,    42.9,3,     -999.0,9,     -999.0,9,          7,    34.9298,2,     -999.0,9,    34.7499,2,     -999.0,9
33RO20180423,        I7N,      99,          1,        108,      11107,2,20180528,       1107,     8.7945,    63.5633,       4557,  2600.0,   2.0392,  34.7571,2,  34.7685,2,    124.4,2, 142.4340,2, 132.7000,2,  35.6000,2,   0.0100,2,   2.5430,2,   0.003,6,   0.004,6,        0,6,  2319.6,2,  2418.6,2,   7.5660,2,    25.00, -999.00,9, -999.00,9, -999.00,-999.000,1,  -999.0,9,     -999.0,1,     -999.0,9,          8,    34.9436,2,     -999.0,9,    34.7566,2,     -999.0,9
33RO20180423,        I7N,      99,          1,        109,      11108,2,20180528,       1107,     8.7945,    63.5633,       4557,  2300.8,   2.3144,  34.7739,2,  34.7916,2,    115.2,2, 131.4360,2, 131.2000,2,  36.1000,2,   0.0000,2,   2.5920,2,-999.000,9,-999.000,9,-999.0000,9,  2324.4,2,  2416.9,2,   7.5521,2,    25.00, -999.00,9, -999.00,9, -999.00,-999.000,9,  -999.0,9,     -999.0,9,     -999.0,9,          9,    34.9594,2,     -999.0,9,    34.7748,2,     -999.0,9
33RO20180423,        I7N,      99,          1,        110,      11109,2,20180528,       1107,     8.7945,    63.5633,       4557,  2000.6,   2.8411,  34.8012,2,  34.8052,2,    103.6,2, 117.2430,2, 125.4000,2,  36.5000,2,   0.0100,2,   2.6490,2,-999.000,9,-999.000,9,-999.0000,9,  2323.6,2,  2409.8,2,   7.5336,2,    25.00, -999.00,9, -999.00,9, -999.00,-999.000,9,  -999.0,9,     -999.0,9,     -999.0,9,         10,    34.9838,2,     -999.0,9,    34.8025,2,     -999.0,9
33RO20180423,        I7N,      99,          1,        111,      11110,2,20180528,       1107,     8.7945,    63.5633,       4557,  1714.9,   3.6346,  34.8475,2,  34.8518,2,     84.4,2,  95.8780,2, 117.5000,2,  37.1000,2,   0.0100,2,   2.7360,2,   0.004,2,   0.005,2,   0.0014,2,  2326.4,2,  2407.9,2,   7.5079,2,    25.00, -999.00,9, -999.00,9, -999.00,-999.000,1,  -999.0,9,     -999.0,1,     -999.0,9,         11,    35.0333,2,     -999.0,9,    34.8484,2,     -999.0,9
33RO20180423,        I7N,      99,          1,        112,      11111,2,20180528,       1107,     8.7945,    63.5633,       4557,  1467.4,   4.8880,  34.9313,2,  34.9364,2,     58.6,2,  66.2740,2, 105.9000,2,  37.9000,2,   0.0000,2,   2.8310,2,-999.000,9,-999.000,9,-999.0000,9,  2327.6,2,  2394.6,2,   7.4753,2,    25.00, -999.00,9, -999.00,9, -999.00,-999.000,9,  -999.0,9,     -999.0,9,     -999.0,9,         12,    35.1123,2,     -999.0,9,    34.9327,2,     -999.0,9
33RO20180423,        I7N,      99,          1,        113,      11112,2,20180528,       1107,     8.7945,    63.5633,       4557,  1232.7,   6.2941,  35.0317,2,  35.0363,2,     38.3,2,  43.7870,2,  91.2000,2,  38.1000,2,   0.0100,2,   2.8700,2,-999.000,9,-999.000,9,-999.0000,9,  2319.9,2,  2382.4,6,   7.4554,2,    25.00, -999.00,9, -999.00,9, -999.00,-999.000,9,  -999.0,9,     -999.0,9,     -999.0,9,         13,    35.2092,2,     -999.0,9,    35.0327,2,     -999.0,9
33RO20180423,        I7N,      99,          1,        114,      11113,2,20180528,       1107,     8.7945,    63.5633,       4557,  1033.3,   7.1808,  35.0547,2,  35.0581,2,     31.1,2,  36.1110,2,  81.2000,2,  37.8000,2,   0.0000,2,   2.8450,2,   0.031,2,   0.019,2,        0,2,  2310.0,2,  2366.7,2,   7.4517,6,    25.00, -999.00,9, -999.00,9, -999.00,-999.000,1,  -999.0,9,     -999.0,1,     -999.0,9,         14,    35.2303,2,     -999.0,9,    35.0554,2,     -999.0,9
33RO20180423,        I7N,      99,          1,        115,      11114,2,20180528,       1107,     8.7945,    63.5633,       4557,   850.5,   9.1600,  35.2601,2,  35.2642,2,     16.9,2,  20.6990,2,  63.2000,2,  36.2000,2,   0.0100,2,   2.7580,2,   0.136,2,   0.082,2,   0.0181,2,  2295.1,6,  2353.9,2,   7.4570,2,    25.00, -999.00,9, -999.00,9, -999.00,-999.000,1,    45.5,3,     -999.0,1,     -999.0,9,         15,    35.4378,2,     -999.0,9,    35.2604,2,     -999.0,9
33RO20180423,        I7N,      99,          1,        116,      11115,2,20180528,       1107,     8.7945,    63.5633,       4557,   700.6,  10.0966,  35.2758,2,  35.2825,2,     16.0,2,  19.5890,2,  51.4000,2,  34.8000,2,   0.0100,2,   2.6500,2,   0.291,2,   0.168,2,   0.0459,2,  2282.2,2,  2342.9,2,   7.4622,2,    25.00, -999.00,9, -999.00,9, -999.00,-999.000,1,    43.2,3,     -999.0,1,     -999.0,9,         16,    35.4490,2,     -999.0,9,    35.2780,2,     -999.0,9
33RO20180423,        I7N,      99,          1,        117,      11116,2,20180528,       1107,     8.7945,    63.5633,       4557,   550.1,  11.0498,  35.2891,2,  35.2939,2,     32.5,2,  37.4940,2,  37.4000,2,  31.9000,2,   0.0100,2,   2.4000,2,   0.831,2,   0.466,2,   0.2024,2,  2259.9,2,  2334.3,2,   7.4973,2,    25.00, -999.00,9, -999.00,9, -999.00,-999.000,1,  -999.0,9,     -999.0,1,     -999.0,9,         17,    35.4655,2,     -999.0,9,    35.2915,2,     -999.0,9
33RO20180423,        I7N,      99,          1,        118,      11117,2,20180528,       1107,     8.7945,    63.5633,       4557,   400.5,  11.8604,  35.2730,2,  35.2717,6,     32.0,2,  37.0070,2,  29.6000,2,  30.7000,2,   0.0100,2,   2.2420,2,   1.194,2,   0.669,2,   0.2988,2,  2253.2,2,  2326.8,2,   7.5018,2,    25.00, -999.00,9, -999.00,9, -999.00,-999.000,1,    44.5,3,     -999.0,1,     -999.0,9,         18,    35.4457,2,     -999.0,9,    35.2713,2,     -999.0,9
33RO20180423,        I7N,      99,          1,        119,      11083,2,20180528,       1107,     8.7945,    63.5633,       4557,   169.3,  17.2333,  35.3702,2,  35.3729,2,     25.1,2,  28.7290,2,  18.4000,2,  25.8000,2,   0.0100,2,   1.9780,2,   1.513,2,   0.916,2,   0.6924,2,  2217.1,2,  2321.2,2,   7.5897,2,    25.00, -999.00,9, -999.00,9, -999.00,-999.000,1,    44.3,3,     -999.0,1,     -999.0,9,         19,    35.5399,2,     -999.0,9,    35.3707,2,     -999.0,9
33RO20180423,        I7N,      99,          1,        120,      11118,2,20180528,       1107,     8.7945,    63.5633,       4557,   133.2,  21.1217,  35.6549,2,  35.6506,2,     28.8,2,  32.6840,2,  12.9000,2,  23.2000,2,   0.0200,2,   1.7720,2,   1.477,2,   0.923,2,   0.9309,2,  2190.8,2,  2330.6,2,   7.6782,2,    25.00, -999.00,9, -999.00,9, -999.00,-999.000,1,    47.1,3,     -999.0,1,     -999.0,9,         20,    35.8147,2,     -999.0,9,    35.6481,2,     -999.0,9
33RO20180423,        I7N,      99,          1,        121,      11119,2,20180528,       1107,     8.7945,    63.5633,       4557,   113.2,  22.9341,  35.7085,2,  35.7198,2,     70.8,2,  76.6530,2,   8.4000,2,  17.3000,2,   0.0400,2,   1.3550,2,   1.550,2,   0.965,2,   1.1053,2,  2148.0,2,  2333.5,2,   7.7921,2,    25.00, -999.00,9, -999.00,9, -999.00,-999.000,1,    58.9,3,     -999.0,1,     -999.0,9,         21,    35.8885,2,     -999.0,9,    35.7207,2,     -999.0,9
33RO20180423,        I7N,      99,          1,        122,      11120,2,20180528,       1107,     8.7945,    63.5633,       4557,    83.6,  26.6949,  36.1079,2,  36.1466,2,    166.5,2, 171.4690,2,   2.2000,2,   1.7000,2,   0.5200,2,   0.4910,2,   1.542,2,   0.967,2,   1.4102,2,  2069.1,2,  2363.4,2,   8.0010,2,    25.00, -999.00,9, -999.00,9, -999.00,-999.000,1,    64.3,3,     -999.0,1,     -999.0,9,         22,    36.3148,2,     -999.0,9,    36.1494,2,     -999.0,9
33RO20180423,        I7N,      99,          1,        123,      11121,2,20180528,       1107,     8.7945,    63.5633,       4557,    35.3,  29.6470,  35.4636,2,  35.4876,2,    196.5,2, 206.4100,2,   1.6000,2,   0.0000,2,   0.0100,2,   0.1540,2,   1.430,2,   0.914,2,   1.3723,2,  1988.9,2,  2325.1,2,   8.0840,6,    25.00, -999.00,9, -999.00,9, -999.00,-999.000,1,    67.6,3,     -999.0,1,     -999.0,9,         23,    35.6546,2,     -999.0,9,    35.4917,2,     -999.0,9
33RO20180423,        I7N,      99,          1,        124,      11122,2,20180528,       1107,     8.7945,    63.5633,       4557,     3.5,  30.2921,  35.1013,2,  35.1053,2,    182.9,2, 192.1760,2,   1.3000,2,   0.0000,2,   0.0100,2,   0.1240,2,   1.349,2,   0.862,2,   1.2814,2,  1968.5,6,  2304.5,6,   8.0928,2,    25.00, -999.00,9, -999.00,9, -999.00,-999.000,1,    74.7,3,     -999.0,1,     -999.0,9,         24,    35.2711,2,     -999.0,9,    35.1083,2,     -999.0,9