BOTTLE,20230801CCHSIOCBG
EXPOCODE,SECT_ID,STNNBR,CASTNO,SAMPNO,BTLNBR,BTLNBR_FLAG_W,DATE,TIME,LATITUDE,LONGITUDE,DEPTH,CTDPRS,CTDTMP,CTDSAL,CTDSAL_FLAG_W,SALNTY,SALNTY_FLAG_W,CTDOXY,CTDOXY_FLAG_W,OXYGEN,OXYGEN_FLAG_W,SILCAT,SILCAT_FLAG_W,NITRAT,NITRAT_FLAG_W,NITRIT,NITRIT_FLAG_W,PHSPHT,PHSPHT_FLAG_W,CFC-11,CFC-11_FLAG_W,CFC-12,CFC-12_FLAG_W,SF6,SF6_FLAG_W,TCARBN,TCARBN_FLAG_W,ALKALI,ALKALI_FLAG_W,PH_SWS,PH_SWS_FLAG_W,PH_TMP,DELC13,DELC13_FLAG_W,DELC14,DELC14_FLAG_W,C14ERR,CCL4,CCL4_FLAG_W,DOC,DOC_FLAG_W,N2O,N2O_FLAG_W,CALCIUM,CALCIUM_FLAG_W,SAMPNO_U,DNSSAL,DNSSAL_FLAG_W,DNSSAL2,DNSSAL2_FLAG_W,SALNTY_DNSSAL,SALNTY_DNSSAL_FLAG_W,SALNTY_DNSSAL2,SALNTY_DNSSAL2_FLAG_W
,,,,,,,,,,,METERS,DBAR,ITS-90,PSS-78,,PSS-78,,UMOL/KG,,UMOL/KG,,UMOL/KG,,UMOL/KG,,UMOL/KG,,UMOL/KG,,PMOL/KG,,PMOL/KG,,FMOL/KG,,UMOL/KG,,UMOL/KG,,,,DEG C,/MILLE,,/MILLE,,/MILLE,PMOL/KG,,UMOL/KG,,NMOL/KG,,MMOL/KG,,,G/KG,,G/KG,,PSS-78,,PSS-78,
33RO20180423,        I7N,     122,          1,        101,      11010,2,20180603,       1911,    17.7192,    68.9855,       3428,  3478.1,   1.7296,  34.7368,2,  34.7473,2,    111.3,2, 126.4010,2,    147.7,2,     36.7,2,     0.01,2,    2.562,2,   0.018,2,   0.011,2,   0.0018,2,  2371.8,6,  2463.6,2,   7.5746,6,    25.00, -999.00,9, -999.00,9, -999.00,-999.000,1,  -999.0,9,     -999.0,1,     -999.0,9,          1,     -999.0,9,     -999.0,9,     -999.0,9,     -999.0,9
33RO20180423,        I7N,     122,          1,        102,      11101,2,20180603,       1911,    17.7192,    68.9855,       3428,  3297.3,   1.7496,  34.7397,2,  34.7410,2,    113.3,2, 128.1120,2,    146.9,2,     36.5,2,     0.01,2,    2.574,2,-999.000,9,-999.000,9,-999.0000,9,  2358.6,2,  2451.3,6,   7.5662,2,    25.00, -999.00,9, -999.00,9, -999.00,-999.000,9,  -999.0,9,     -999.0,9,     -999.0,9,          2,     -999.0,9,     -999.0,9,     -999.0,9,     -999.0,9
33RO20180423,        I7N,     122,          1,        103,      11102,2,20180603,       1911,    17.7192,    68.9855,       3428,  3100.4,   1.7889,  34.7432,2,  34.7437,2,    112.2,2, 126.9310,2,    146.4,2,     36.5,2,     0.00,2,    2.588,2,-999.000,9,-999.000,9,-999.0000,9,  2360.0,2,  2449.8,2,   7.5586,2,    25.00, -999.00,9, -999.00,9, -999.00,-999.000,9,  -999.0,9,     -999.0,9,     -999.0,9,          3,     -999.0,9,     -999.0,9,     -999.0,9,     -999.0,9
33RO20180423,        I7N,     122,          1,        104,      11103,2,20180603,       1911,    17.7192,    68.9855,       3428,  2800.6,   1.9070,  34.7518,2,  34.7708,2,    107.5,2, 121.2980,2,    146.0,2,     36.7,2,     0.01,2,    2.614,2,   0.004,6,   0.008,6,    0.002,6,  2358.0,2,  2447.6,2,   7.5466,2,    25.00, -999.00,9, -999.00,9, -999.00,-999.000,1,  -999.0,9,     -999.0,1,     -999.0,9,          4,     -999.0,9,     -999.0,9,     -999.0,9,     -999.0,9
33RO20180423,        I7N,     122,          1,        105,      11104,2,20180603,       1911,    17.7192,    68.9855,       3428,  2500.5,   2.1835,  34.7703,2,  34.7704,2,    101.6,2, 114.1950,2,    142.2,6,     36.8,6,     0.00,6,    2.645,6,-999.000,9,-999.000,9,-999.0000,9,  -999.0,9,  -999.0,9,   7.5327,2,    25.00, -999.00,9, -999.00,9, -999.00,-999.000,9,  -999.0,9,     -999.0,9,     -999.0,9,          5,     -999.0,9,     -999.0,9,     -999.0,9,     -999.0,9
33RO20180423,        I7N,     122,          1,        106,      11105,2,20180603,       1911,    17.7192,    68.9855,       3428,  2201.8,   2.6734,  34.8028,2,  34.8026,2,     91.6,2, 103.1510,2,    135.8,6,     37.4,6,     0.01,6,    2.709,6,-999.000,9,-999.000,9,-999.0000,9,  2350.1,2,  2425.7,2,   7.5136,2,    25.00, -999.00,9, -999.00,9, -999.00,-999.000,9,  -999.0,9,     -999.0,9,     -999.0,9,          6,     -999.0,9,     -999.0,9,     -999.0,9,     -999.0,9
33RO20180423,        I7N,     122,          1,        107,      11106,2,20180603,       1911,    17.7192,    68.9855,       3428,  1883.1,   3.4836,  34.8648,2,  34.8655,2,     72.1,2,  80.8990,2,    127.1,6,     38.1,6,     0.01,6,    2.816,6,-999.000,9,-999.000,9,-999.0000,9,  -999.0,9,  -999.0,9,   7.4858,2,    25.00, -999.00,9, -999.00,9, -999.00,-999.000,9,  -999.0,9,     -999.0,9,     -999.0,9,          7,     -999.0,9,     -999.0,9,     -999.0,9,     -999.0,9
33RO20180423,        I7N,     122,          1,        108,      11107,2,20180603,       1911,    17.7192,    68.9855,       3428,  1632.6,   4.4966,  34.9504,2,  34.9499,2,     52.0,2,  58.6470,2,    116.3,6,     38.7,6,     0.01,6,    2.908,6,-999.000,9,-999.000,9,-999.0000,9,  2350.2,2,  2407.7,2,   7.4596,2,    25.00, -999.00,9, -999.00,9, -999.00,-999.000,9,  -999.0,9,     -999.0,9,     -999.0,9,          8,     -999.0,9,     -999.0,9,     -999.0,9,     -999.0,9
33RO20180423,        I7N,     122,          1,        109,      11108,2,20180603,       1911,    17.7192,    68.9855,       3428,  1366.9,   6.3174,  35.1258,2,  35.1276,6,     21.8,2,  25.4490,2,     97.8,2,     39.2,2,     0.01,2,    3.021,2,-999.000,9,-999.000,9,-999.0000,9,  2344.1,2,  2385.7,2,   7.4313,2,    25.00, -999.00,9, -999.00,9, -999.00,-999.000,9,  -999.0,9,     -999.0,9,     -999.0,9,          9,     -999.0,9,     -999.0,9,     -999.0,9,     -999.0,9
33RO20180423,        I7N,     122,          1,        110,      11109,2,20180603,       1911,    17.7192,    68.9855,       3428,  1167.8,   7.7524,  35.2766,2,  35.2795,2,     10.7,2,  13.3090,2,     83.3,2,     38.2,2,     0.01,2,    2.956,2,-999.000,9,-999.000,9,-999.0000,9,  2330.5,2,  2374.3,2,   7.4323,2,    25.00, -999.00,9, -999.00,9, -999.00,-999.000,9,  -999.0,9,     -999.0,9,     -999.0,9,         10,     -999.0,9,     -999.0,9,     -999.0,9,     -999.0,9
33RO20180423,        I7N,     122,          1,        111,      11110,2,20180603,       1911,    17.7192,    68.9855,       3428,   949.5,   9.3137,  35.4238,2,  35.4237,2,      2.8,2,   4.7550,2,     68.7,2,     36.0,2,     0.01,2,    2.868,2,-999.000,9,-999.000,9,-999.0000,9,  2317.8,2,  2365.9,2,   7.4437,2,    25.00, -999.00,9, -999.00,9, -999.00,-999.000,9,  -999.0,9,     -999.0,9,     -999.0,9,         11,     -999.0,9,     -999.0,9,     -999.0,9,     -999.0,9
33RO20180423,        I7N,     122,          1,        112,      11111,2,20180603,       1911,    17.7192,    68.9855,       3428,   799.9,  10.3957,  35.5227,2,  35.5230,6,      0.8,2,   2.1550,2,     59.3,2,     33.9,2,     0.00,2,    2.787,2,-999.000,9,-999.000,9,-999.0000,9,  2306.7,2,  2360.8,2,   7.4560,2,    25.00, -999.00,9, -999.00,9, -999.00,-999.000,9,  -999.0,9,     -999.0,9,     -999.0,9,         12,     -999.0,9,     -999.0,9,     -999.0,9,     -999.0,9
33RO20180423,        I7N,     122,          1,        113,      11112,2,20180603,       1911,    17.7192,    68.9855,       3428,   650.6,  11.2489,  35.5633,2,  35.5652,2,      0.4,2,   1.6880,2,     50.0,2,     31.7,2,     0.01,2,    2.702,2,   0.206,2,   0.138,2,   0.0186,2,  2293.9,2,  2354.3,6,   7.4631,2,    25.00, -999.00,9, -999.00,9, -999.00,-999.000,1,  -999.0,9,     -999.0,1,     -999.0,9,         13,     -999.0,9,     -999.0,9,     -999.0,9,     -999.0,9
33RO20180423,        I7N,     122,          1,        114,      11113,2,20180603,       1911,    17.7192,    68.9855,       3428,   466.9,  12.6648,  35.6747,2,  35.6801,2,      0.2,2,   1.3880,2,     37.7,2,     28.1,2,     0.01,2,    2.553,2,-999.000,9,-999.000,9,-999.0000,9,  -999.0,9,  -999.0,9,   7.4709,2,    25.00, -999.00,9, -999.00,9, -999.00,-999.000,9,  -999.0,9,     -999.0,9,     -999.0,9,         14,     -999.0,9,     -999.0,9,     -999.0,9,     -999.0,9
33RO20180423,        I7N,     122,          1,        115,      11114,2,20180603,       1911,    17.7192,    68.9855,       3428,   416.8,  12.9874,  35.6748,2,  35.6734,2,      0.2,2,   1.2340,2,     35.1,2,     27.8,2,     0.01,2,    2.513,2,   0.606,2,   0.408,2,   0.1637,2,  2286.8,2,  2346.9,2,   7.4693,6,    25.00, -999.00,9, -999.00,9, -999.00,-999.000,1,  -999.0,9,     -999.0,1,     -999.0,9,         15,     -999.0,9,     -999.0,9,     -999.0,9,     -999.0,9
33RO20180423,        I7N,     122,          1,        116,      11115,2,20180603,       1911,    17.7192,    68.9855,       3428,   367.4,  13.5347,  35.7218,2,  35.7185,2,      0.2,2,   1.5920,2,     32.7,2,     24.5,2,     1.73,2,    2.481,2,-999.000,9,-999.000,9,-999.0000,9,  -999.0,9,  -999.0,9,   7.4700,2,    25.00, -999.00,9, -999.00,9, -999.00,-999.000,9,  -999.0,9,     -999.0,9,     -999.0,9,         16,     -999.0,9,     -999.0,9,     -999.0,9,     -999.0,9
33RO20180423,        I7N,     122,          1,        117,      11116,2,20180603,       1911,    17.7192,    68.9855,       3428,   316.7,  14.5254,  35.8553,2,  35.8585,2,      0.2,2,   2.0190,2,     30.1,2,     18.5,2,     4.60,2,    2.426,2,   0.769,2,   0.553,2,   0.2847,2,  2288.3,2,  2349.0,2,   7.4812,2,    25.00, -999.00,9, -999.00,9, -999.00,-999.000,1,  -999.0,9,     -999.0,1,     -999.0,9,         17,     -999.0,9,     -999.0,9,     -999.0,9,     -999.0,9
33RO20180423,        I7N,     122,          1,        118,      11117,2,20180603,       1911,    17.7192,    68.9855,       3428,   247.4,  16.3889,  36.0241,2,  36.0208,2,      0.2,2,   1.7960,2,     25.5,2,     17.0,2,     3.47,2,    2.355,2,-999.000,9,-999.000,9,-999.0000,9,  2281.4,2,  2353.8,2,   7.5178,2,    25.00, -999.00,9, -999.00,9, -999.00,-999.000,9,  -999.0,9,     -999.0,9,     -999.0,9,         18,     -999.0,9,     -999.0,9,     -999.0,9,     -999.0,9
33RO20180423,        I7N,     122,          1,        119,      11083,2,20180603,       1911,    17.7192,    68.9855,       3428,   212.2,  17.3322,  35.9397,2,  35.9383,2,      0.1,2,   1.5340,2,     23.5,2,     18.6,2,     2.68,2,    2.325,2,   1.036,2,   0.756,2,   0.5406,2,  2272.6,2,  2351.0,2,   7.5323,2,    25.00, -999.00,9, -999.00,9, -999.00,-999.000,1,  -999.0,9,     -999.0,1,     -999.0,9,         19,     -999.0,9,     -999.0,9,     -999.0,9,     -999.0,9
33RO20180423,        I7N,     122,          1,        120,      11118,2,20180603,       1911,    17.7192,    68.9855,       3428,   161.2,  19.2206,  35.7614,2,  35.7656,2,      0.9,2,   2.7680,2,     18.1,2,     25.2,2,     0.03,2,    2.196,2,-999.000,9,-999.000,9,-999.0000,9,  2242.5,2,  2342.6,2,   7.5786,2,    25.00, -999.00,9, -999.00,9, -999.00,-999.000,9,  -999.0,9,     -999.0,9,     -999.0,9,         20,     -999.0,9,     -999.0,9,     -999.0,9,     -999.0,9
33RO20180423,        I7N,     122,          1,        121,      11119,2,20180603,       1911,    17.7192,    68.9855,       3428,   132.9,  20.6434,  35.8831,2,  35.8786,2,     12.0,2,  13.3370,2,     14.9,2,     24.7,2,     0.03,2,    2.027,2,   1.385,2,   0.889,2,   0.9434,2,  2227.6,2,  2347.1,2,   7.6314,2,    25.00, -999.00,9, -999.00,9, -999.00,-999.000,1,  -999.0,9,     -999.0,1,     -999.0,9,         21,     -999.0,9,     -999.0,9,     -999.0,9,     -999.0,9
33RO20180423,        I7N,     122,          1,        122,      11120,2,20180603,       1911,    17.7192,    68.9855,       3428,    93.1,  23.3427,  36.1548,2,  36.1520,2,     56.1,2,  60.1860,2,      8.5,2,     18.9,2,     0.09,2,    1.503,2,-999.000,9,-999.000,9,-999.0000,9,  2181.4,2,  2361.8,2,   7.7723,2,    25.00, -999.00,9, -999.00,9, -999.00,-999.000,9,  -999.0,9,     -999.0,9,     -999.0,9,         22,     -999.0,9,     -999.0,9,     -999.0,9,     -999.0,9
33RO20180423,        I7N,     122,          1,        123,      11121,2,20180603,       1911,    17.7192,    68.9855,       3428,    64.0,  26.3488,  36.4645,2,  36.4693,2,    167.5,2, 176.2480,2,      1.5,2,      1.8,2,     0.27,2,    0.516,2,   1.541,2,   0.972,2,    1.388,2,  2083.0,2,  2388.5,6,   8.0099,2,    25.00, -999.00,9, -999.00,9, -999.00,-999.000,1,  -999.0,9,     -999.0,1,     -999.0,9,         23,     -999.0,9,     -999.0,9,     -999.0,9,     -999.0,9
33RO20180423,        I7N,     122,          1,        124,      11122,2,20180603,       1911,    17.7192,    68.9855,       3428,     3.5,  30.8602,  35.9919,2,  35.9973,2,    179.5,2, 187.1000,2,      1.0,2,      0.0,2,     0.01,2,    0.068,2,-999.000,9,-999.000,9,-999.0000,9,  2000.8,6,  2358.2,2,   8.1110,6,    25.00, -999.00,9, -999.00,9, -999.00,-999.000,9,  -999.0,9,     -999.0,9,     -999.0,9,         24,     -999.0,9,     -999.0,9,     -999.0,9,     -999.0,9