BOTTLE,20230801CCHSIOCBG
EXPOCODE,SECT_ID,STNNBR,CASTNO,SAMPNO,BTLNBR,BTLNBR_FLAG_W,DATE,TIME,LATITUDE,LONGITUDE,DEPTH,CTDPRS,CTDTMP,CTDSAL,CTDSAL_FLAG_W,SALNTY,SALNTY_FLAG_W,CTDOXY,CTDOXY_FLAG_W,OXYGEN,OXYGEN_FLAG_W,SILCAT,SILCAT_FLAG_W,NITRAT,NITRAT_FLAG_W,NITRIT,NITRIT_FLAG_W,PHSPHT,PHSPHT_FLAG_W,CFC-11,CFC-11_FLAG_W,CFC-12,CFC-12_FLAG_W,SF6,SF6_FLAG_W,TCARBN,TCARBN_FLAG_W,ALKALI,ALKALI_FLAG_W,PH_SWS,PH_SWS_FLAG_W,PH_TMP,DELC13,DELC13_FLAG_W,DELC14,DELC14_FLAG_W,C14ERR,CCL4,CCL4_FLAG_W,DOC,DOC_FLAG_W,N2O,N2O_FLAG_W,CALCIUM,CALCIUM_FLAG_W,SAMPNO_U,DNSSAL,DNSSAL_FLAG_W,DNSSAL2,DNSSAL2_FLAG_W,SALNTY_DNSSAL,SALNTY_DNSSAL_FLAG_W,SALNTY_DNSSAL2,SALNTY_DNSSAL2_FLAG_W
,,,,,,,,,,,METERS,DBAR,ITS-90,PSS-78,,PSS-78,,UMOL/KG,,UMOL/KG,,UMOL/KG,,UMOL/KG,,UMOL/KG,,UMOL/KG,,PMOL/KG,,PMOL/KG,,FMOL/KG,,UMOL/KG,,UMOL/KG,,,,DEG C,/MILLE,,/MILLE,,/MILLE,PMOL/KG,,UMOL/KG,,NMOL/KG,,MMOL/KG,,,G/KG,,G/KG,,PSS-78,,PSS-78,
33RO20180423,        I7N,      73,          1,        101,      11010,2,20180521,       1741,    -0.8647,    57.2443,       4681,  4744.3,   1.3562,  34.7175,2,  34.7206,2,    159.9,2, 184.4640,2,    131.3,6,     33.6,6,     0.01,6,    2.340,6,   0.021,2,   0.014,2,   0.0043,2,  2292.9,6,  2392.4,2,   7.6031,6,    25.00, -999.00,9, -999.00,9, -999.00,-999.000,1,  -999.0,9,     -999.0,1,     -999.0,9,          1,     -999.0,9,     -999.0,9,     -999.0,9,     -999.0,9
33RO20180423,        I7N,      73,          1,        102,      11101,2,20180521,       1741,    -0.8647,    57.2443,       4681,  4482.7,   1.3579,  34.7189,2,  34.7316,2,    158.2,2, 182.6510,2,    131.6,6,     33.7,6,     0.00,6,    2.345,6,   0.016,2,   0.009,2,        0,2,  2293.9,2,  2393.8,2,   7.6002,2,    25.00, -999.00,9, -999.00,9, -999.00,-999.000,1,  -999.0,9,     -999.0,1,     -999.0,9,          2,     -999.0,9,     -999.0,9,     -999.0,9,     -999.0,9
33RO20180423,        I7N,      73,          1,        103,      11102,2,20180521,       1741,    -0.8647,    57.2443,       4681,  4200.7,   1.4250,  34.7226,2,  34.7309,6,    153.8,2, 177.9520,2,    131.8,6,     33.9,6,     0.00,6,    2.375,6,   0.008,2,   0.005,2,   0.0078,2,  2296.6,2,  2402.4,2,   7.5993,2,    25.00, -999.00,9, -999.00,9, -999.00,-999.000,1,  -999.0,9,     -999.0,1,     -999.0,9,          3,     -999.0,9,     -999.0,9,     -999.0,9,     -999.0,9
33RO20180423,        I7N,      73,          1,        104,      11103,2,20180521,       1741,    -0.8647,    57.2443,       4681,  3900.3,   1.5214,  34.7268,2,  34.7273,2,    149.1,2, 172.4000,2,    131.8,6,     34.1,6,     0.00,6,    2.386,6,-999.000,9,-999.000,9,-999.0000,9,  2301.6,2,  2407.2,2,   7.5955,2,    25.00, -999.00,9, -999.00,9, -999.00,-999.000,9,  -999.0,9,     -999.0,9,     -999.0,9,          4,     -999.0,9,     -999.0,9,     -999.0,9,     -999.0,9
33RO20180423,        I7N,      73,          1,        105,      11104,2,20180521,       1741,    -0.8647,    57.2443,       4681,  3600.8,   1.5787,  34.7290,2,  34.7308,2,    146.8,2, 169.4260,2,    132.2,2,     34.3,2,     0.00,2,    2.400,2,   0.003,2,   0.002,2,        0,2,  2303.0,2,  2406.7,6,   7.5945,2,    25.00, -999.00,9, -999.00,9, -999.00,-999.000,1,  -999.0,9,     -999.0,1,     -999.0,9,          5,     -999.0,9,     -999.0,9,     -999.0,9,     -999.0,9
33RO20180423,        I7N,      73,          1,        106,      11105,2,20180521,       1741,    -0.8647,    57.2443,       4681,  3300.5,   1.7055,  34.7335,2,  34.7374,2,    142.7,2, 164.1560,2,    130.3,2,     34.4,2,     0.00,2,    2.415,2,-999.000,9,-999.000,9,-999.0000,9,  2306.3,2,  2407.4,2,   7.5888,2,    25.00, -999.00,9, -999.00,9, -999.00,-999.000,9,  -999.0,9,     -999.0,9,     -999.0,9,          6,     -999.0,9,     -999.0,9,     -999.0,9,     -999.0,9
33RO20180423,        I7N,      73,          1,        107,      11106,2,20180521,       1741,    -0.8647,    57.2443,       4681,  3001.1,   1.8138,  34.7380,2,  34.7569,2,    139.5,2, 159.6580,2,    129.1,2,     34.6,2,     0.00,2,    2.425,2,   0.002,2,   0.002,2,        0,2,  2306.1,2,  2406.0,2,   7.5835,2,    25.00, -999.00,9, -999.00,9, -999.00,-999.000,1,  -999.0,9,     -999.0,1,     -999.0,9,          7,     -999.0,9,     -999.0,9,     -999.0,9,     -999.0,9
33RO20180423,        I7N,      73,          1,        108,      11107,2,20180521,       1741,    -0.8647,    57.2443,       4681,  2700.4,   1.9769,  34.7471,2,  34.7697,2,    132.9,2, 151.5470,2,    129.3,2,     35.0,2,     0.00,2,    2.474,2,-999.000,9,-999.000,9,-999.0000,9,  2311.0,2,  2407.4,2,   7.5750,2,    25.00, -999.00,9, -999.00,9, -999.00,-999.000,9,  -999.0,9,     -999.0,9,     -999.0,9,          8,     -999.0,9,     -999.0,9,     -999.0,9,     -999.0,9
33RO20180423,        I7N,      73,          1,        109,      11108,2,20180521,       1741,    -0.8647,    57.2443,       4681,  2400.1,   2.1891,  34.7550,2,  34.7654,2,    128.0,2, 145.1710,2,    126.1,2,     35.2,2,     0.00,2,    2.493,2,   0.001,2,   0.002,2,        0,2,  2311.8,2,  2405.4,2,   7.5669,2,    25.00, -999.00,9, -999.00,9, -999.00,-999.000,1,  -999.0,9,     -999.0,1,     -999.0,9,          9,     -999.0,9,     -999.0,9,     -999.0,9,     -999.0,9
33RO20180423,        I7N,      73,          1,        110,      11109,2,20180521,       1741,    -0.8647,    57.2443,       4681,  2100.4,   2.6249,  34.7696,2,  34.7734,2,    118.7,2, 133.7460,2,    120.8,2,     35.5,2,     0.00,2,    2.538,2,-999.000,9,-999.000,9,-999.0000,9,  2310.7,2,  2399.2,2,   7.5525,2,    25.00, -999.00,9, -999.00,9, -999.00,-999.000,9,  -999.0,9,     -999.0,9,     -999.0,9,         10,     -999.0,9,     -999.0,9,     -999.0,9,     -999.0,9
33RO20180423,        I7N,      73,          1,        111,      11110,2,20180521,       1741,    -0.8647,    57.2443,       4681,  1800.5,   3.4706,  34.8071,2,  34.8451,2,     99.6,2, 111.4540,2,    112.5,2,     36.3,2,     0.00,2,    2.641,2,   0.006,2,   0.004,2,    0.019,2,  2312.6,2,  -999.0,5,   7.5278,2,    25.00, -999.00,9, -999.00,9, -999.00,-999.000,1,  -999.0,9,     -999.0,1,     -999.0,9,         11,     -999.0,9,     -999.0,9,     -999.0,9,     -999.0,9
33RO20180423,        I7N,      73,          1,        112,      11111,2,20180521,       1741,    -0.8647,    57.2443,       4681,  1550.1,   4.2399,  34.8383,2,  34.8413,2,     86.3,2,  96.3410,2,    104.1,2,     36.6,2,     0.00,2,    2.682,2,-999.000,9,-999.000,9,-999.0000,9,  2310.6,2,  2383.6,2,   7.5122,2,    25.00, -999.00,9, -999.00,9, -999.00,-999.000,9,  -999.0,9,     -999.0,9,     -999.0,9,         12,     -999.0,9,     -999.0,9,     -999.0,9,     -999.0,9
33RO20180423,        I7N,      73,          1,        113,      11112,2,20180521,       1741,    -0.8647,    57.2443,       4681,  1300.3,   5.4785,  34.9057,2,  34.9101,2,     63.0,2,  69.7030,2,     94.5,2,     37.2,2,     0.00,2,    2.740,2,   0.023,2,   0.014,2,   0.0074,2,  2309.6,2,  2375.4,2,   7.4840,6,    25.00, -999.00,9, -999.00,9, -999.00,-999.000,1,  -999.0,9,     -999.0,1,     -999.0,9,         13,     -999.0,9,     -999.0,9,     -999.0,9,     -999.0,9
33RO20180423,        I7N,      73,          1,        114,      11113,2,20180521,       1741,    -0.8647,    57.2443,       4681,  1100.8,   6.3805,  34.9406,2,  34.9464,2,     51.3,2,  56.7870,2,     85.4,2,     37.3,2,     0.00,2,    2.753,2,-999.000,9,-999.000,9,-999.0000,9,  2304.7,2,  2366.5,6,   7.4753,2,    25.00, -999.00,9, -999.00,9, -999.00,-999.000,9,  -999.0,9,     -999.0,9,     -999.0,9,         14,     -999.0,9,     -999.0,9,     -999.0,9,     -999.0,9
33RO20180423,        I7N,      73,          1,        115,      11114,2,20180521,       1741,    -0.8647,    57.2443,       4681,   900.1,   7.7702,  35.0326,2,  35.0399,2,     43.6,2,  48.4490,2,     69.7,2,     36.1,2,     0.01,2,    2.683,2,   0.168,2,   0.097,2,   0.0377,2,  2290.2,2,  2339.3,3,   7.4802,2,    25.00, -999.00,9, -999.00,9, -999.00,-999.000,1,  -999.0,9,     -999.0,1,     -999.0,9,         15,     -999.0,9,     -999.0,9,     -999.0,9,     -999.0,9
33RO20180423,        I7N,      73,          1,        116,      11115,2,20180521,       1741,    -0.8647,    57.2443,       4681,   751.5,   8.3653,  35.0564,2,  35.0620,2,     40.9,2,  45.3450,2,     62.1,2,     35.5,2,     0.00,2,    2.624,2,   0.254,6,   0.142,6,   0.0494,6,  2283.7,2,  2344.4,2,   7.4814,2,    25.00, -999.00,9, -999.00,9, -999.00,-999.000,1,  -999.0,9,     -999.0,1,     -999.0,9,         16,     -999.0,9,     -999.0,9,     -999.0,9,     -999.0,9
33RO20180423,        I7N,      73,          1,        117,      11116,2,20180521,       1741,    -0.8647,    57.2443,       4681,   600.8,   9.3436,  35.0470,2,  35.0833,2,     53.4,2,  58.3080,2,     46.1,2,     33.0,2,     0.01,2,    2.408,2,   0.668,2,   0.361,2,   0.1485,2,  2257.7,2,  2329.4,2,   7.5113,2,    25.00, -999.00,9, -999.00,9, -999.00,-999.000,1,  -999.0,9,     -999.0,1,     -999.0,9,         17,     -999.0,9,     -999.0,9,     -999.0,9,     -999.0,9
33RO20180423,        I7N,      73,          1,        118,      11117,2,20180521,       1741,    -0.8647,    57.2443,       4681,   451.0,  10.3358,  35.0063,2,  35.0367,2,     88.4,2,  93.8720,2,     29.0,2,     28.1,2,     0.01,2,    1.978,2,   1.572,2,   0.852,2,    0.484,2,  2221.3,2,  2316.8,2,   7.5789,2,    25.00, -999.00,9, -999.00,9, -999.00,-999.000,1,  -999.0,9,     -999.0,1,     -999.0,9,         18,     -999.0,9,     -999.0,9,     -999.0,9,     -999.0,9
33RO20180423,        I7N,      73,          1,        119,      11083,2,20180521,       1741,    -0.8647,    57.2443,       4681,   300.8,  11.5940,  35.0305,2,  35.0338,2,    108.7,2, 115.7840,2,     19.5,2,     23.4,2,     0.01,2,    1.641,2,   2.104,2,   1.160,2,   0.6892,2,  2194.3,2,  2312.6,2,   7.6395,2,    25.00, -999.00,9, -999.00,9, -999.00,-999.000,1,  -999.0,9,     -999.0,1,     -999.0,9,         19,     -999.0,9,     -999.0,9,     -999.0,9,     -999.0,9
33RO20180423,        I7N,      73,          1,        120,      11118,2,20180521,       1741,    -0.8647,    57.2443,       4681,   200.0,  13.4374,  35.1456,2,  35.1480,2,    104.1,2, 110.9315,2,     16.7,2,     21.0,2,     0.01,2,    1.492,2,   2.137,2,   1.215,2,   0.8157,2,  2186.6,2,  2315.0,2,   7.6723,2,    25.00, -999.00,9, -999.00,9, -999.00,-999.000,1,  -999.0,9,     -999.0,1,     -999.0,9,         20,     -999.0,9,     -999.0,9,     -999.0,9,     -999.0,9
33RO20180423,        I7N,      73,          1,        121,      11119,2,20180521,       1741,    -0.8647,    57.2443,       4681,   150.4,  15.7064,  35.2273,2,  35.2453,2,     84.8,2,  90.7410,2,     15.2,2,     20.5,2,     0.01,2,    1.460,2,   1.997,2,   1.169,2,    0.893,2,  2179.0,2,  2317.7,2,   7.6860,2,    25.00, -999.00,9, -999.00,9, -999.00,-999.000,1,  -999.0,9,     -999.0,1,     -999.0,9,         21,     -999.0,9,     -999.0,9,     -999.0,9,     -999.0,9
33RO20180423,        I7N,      73,          1,        122,      11120,2,20180521,       1741,    -0.8647,    57.2443,       4681,   100.5,  21.4698,  35.5521,2,  35.5649,2,    126.2,2, 133.9070,2,      8.4,2,     11.4,2,     0.14,2,    0.921,2,-999.000,9,-999.000,9,-999.0000,9,  2113.7,2,  2316.6,2,   7.8668,2,    25.00, -999.00,9, -999.00,9, -999.00,-999.000,9,  -999.0,9,     -999.0,9,     -999.0,9,         22,     -999.0,9,     -999.0,9,     -999.0,9,     -999.0,9
33RO20180423,        I7N,      73,          1,        123,      11121,2,20180521,       1741,    -0.8647,    57.2443,       4681,    50.4,  29.4189,  35.3001,2,  35.3086,2,    185.3,2, 192.9830,2,-999.0000,1,-999.0000,1,-999.0000,1,-999.0000,1,   1.419,2,   0.904,2,   1.3676,2,  1993.7,2,  2312.8,6,   8.0660,2,    25.00, -999.00,9, -999.00,9, -999.00,-999.000,1,  -999.0,9,     -999.0,1,     -999.0,9,         23,     -999.0,9,     -999.0,9,     -999.0,9,     -999.0,9
33RO20180423,        I7N,      73,          1,        124,      11122,2,20180521,       1741,    -0.8647,    57.2443,       4681,     2.5,  29.5048,  35.2527,2,  35.2552,2,    186.5,2, 194.0330,2,      1.5,2,      0.0,2,     0.01,2,    0.153,2,   1.406,2,   0.898,2,   1.2909,2,  1986.2,6,  2309.4,2,   8.0697,6,    25.00, -999.00,9, -999.00,9, -999.00,-999.000,1,  -999.0,9,     -999.0,1,     -999.0,9,         24,     -999.0,9,     -999.0,9,     -999.0,9,     -999.0,9