BOTTLE,20230801CCHSIOCBG
EXPOCODE,SECT_ID,STNNBR,CASTNO,SAMPNO,BTLNBR,BTLNBR_FLAG_W,DATE,TIME,LATITUDE,LONGITUDE,DEPTH,CTDPRS,CTDTMP,CTDSAL,CTDSAL_FLAG_W,SALNTY,SALNTY_FLAG_W,CTDOXY,CTDOXY_FLAG_W,OXYGEN,OXYGEN_FLAG_W,SILCAT,SILCAT_FLAG_W,NITRAT,NITRAT_FLAG_W,NITRIT,NITRIT_FLAG_W,PHSPHT,PHSPHT_FLAG_W,CFC-11,CFC-11_FLAG_W,CFC-12,CFC-12_FLAG_W,SF6,SF6_FLAG_W,TCARBN,TCARBN_FLAG_W,ALKALI,ALKALI_FLAG_W,PH_SWS,PH_SWS_FLAG_W,PH_TMP,DELC13,DELC13_FLAG_W,DELC14,DELC14_FLAG_W,C14ERR,CCL4,CCL4_FLAG_W,DOC,DOC_FLAG_W,N2O,N2O_FLAG_W,CALCIUM,CALCIUM_FLAG_W,SAMPNO_U,DNSSAL,DNSSAL_FLAG_W,DNSSAL2,DNSSAL2_FLAG_W,SALNTY_DNSSAL,SALNTY_DNSSAL_FLAG_W,SALNTY_DNSSAL2,SALNTY_DNSSAL2_FLAG_W
,,,,,,,,,,,METERS,DBAR,ITS-90,PSS-78,,PSS-78,,UMOL/KG,,UMOL/KG,,UMOL/KG,,UMOL/KG,,UMOL/KG,,UMOL/KG,,PMOL/KG,,PMOL/KG,,FMOL/KG,,UMOL/KG,,UMOL/KG,,,,DEG C,/MILLE,,/MILLE,,/MILLE,PMOL/KG,,UMOL/KG,,NMOL/KG,,MMOL/KG,,,G/KG,,G/KG,,PSS-78,,PSS-78,
33RO20180423,        I7N,      61,          1,        101,      11010,2,20180514,       1012,    -6.0768,    54.6197,       3610,  3643.8,   1.5651,  34.7276,2,  34.7270,2,    150.7,2, 172.0790,2,    133.9,6,     34.5,6,     0.00,6,    2.404,6,   0.010,2,   0.005,2,   0.0092,2,  2300.1,6,  2407.1,2,   7.5931,6,    25.00, -999.00,9, -999.00,9, -999.00,-999.000,1,  -999.0,9,     -999.0,1,     -999.0,9,          1,     -999.0,9,     -999.0,9,     -999.0,9,     -999.0,9
33RO20180423,        I7N,      61,          1,        102,      11101,2,20180514,       1012,    -6.0768,    54.6197,       3610,  3463.8,   1.6019,  34.7294,2,  34.7273,2,    148.5,2, 168.5740,2,    133.9,6,     34.7,6,     0.00,6,    2.407,6,-999.000,9,-999.000,9,-999.0000,9,  2302.2,2,  2407.3,2,   7.5912,2,    25.00, -999.00,9, -999.00,9, -999.00,-999.000,9,  -999.0,9,     -999.0,9,     -999.0,9,          2,     -999.0,9,     -999.0,9,     -999.0,9,     -999.0,9
33RO20180423,        I7N,      61,          1,        103,      11102,2,20180514,       1012,    -6.0768,    54.6197,       3610,  3300.4,   1.6616,  34.7318,2,  34.7327,6,    146.9,2, 167.3100,2,    132.2,6,     34.7,6,     0.00,6,    2.425,6,   0.006,2,   0.004,2,   0.0056,2,  2299.6,2,  2407.4,2,   7.5893,2,    25.00, -999.00,9, -999.00,9, -999.00,-999.000,1,  -999.0,9,     -999.0,1,     -999.0,9,          3,     -999.0,9,     -999.0,9,     -999.0,9,     -999.0,9
33RO20180423,        I7N,      61,          1,        104,      11103,2,20180514,       1012,    -6.0768,    54.6197,       3610,  3001.6,   1.7397,  34.7348,2,  34.7338,2,    144.2,2, 164.7760,2,    131.1,6,     34.8,6,     0.00,6,    2.438,6,-999.000,9,-999.000,9,-999.0000,9,  2301.1,2,  2402.4,6,   7.5849,2,    25.00, -999.00,9, -999.00,9, -999.00,-999.000,9,  -999.0,9,     -999.0,9,     -999.0,9,          4,     -999.0,9,     -999.0,9,     -999.0,9,     -999.0,9
33RO20180423,        I7N,      61,          1,        105,      11104,2,20180514,       1012,    -6.0768,    54.6197,       3610,  2700.3,   1.9160,  34.7394,2,  34.7380,2,    139.9,2, 158.3690,2,    128.5,6,     35.0,6,     0.00,6,    2.444,6,-999.000,9,-999.000,9,-999.0000,9,  2301.6,2,  2401.1,2,   7.5794,2,    25.00, -999.00,9, -999.00,9, -999.00,-999.000,9,  -999.0,9,     -999.0,9,     -999.0,9,          5,     -999.0,9,     -999.0,9,     -999.0,9,     -999.0,9
33RO20180423,        I7N,      61,          1,        106,      11105,2,20180514,       1012,    -6.0768,    54.6197,       3610,  2399.5,   2.0949,  34.7424,2,  34.7435,2,    136.4,2, 154.0090,2,    125.4,2,     34.9,2,     0.00,2,    2.458,2,-999.000,9,-999.000,9,-999.0000,9,  2300.4,2,  2399.0,2,   7.5746,2,    25.00, -999.00,9, -999.00,9, -999.00,-999.000,9,  -999.0,9,     -999.0,9,     -999.0,9,          6,     -999.0,9,     -999.0,9,     -999.0,9,     -999.0,9
33RO20180423,        I7N,      61,          1,        107,      11106,2,20180514,       1012,    -6.0768,    54.6197,       3610,  2101.3,   2.2979,  34.7445,2,  34.7433,2,    133.1,2, 149.4370,2,    122.0,2,     35.1,2,     0.00,2,    2.486,2,-999.000,9,-999.000,9,-999.0000,9,  2298.5,2,  2398.1,2,   7.5701,2,    25.00, -999.00,9, -999.00,9, -999.00,-999.000,9,  -999.0,9,     -999.0,9,     -999.0,9,          7,     -999.0,9,     -999.0,9,     -999.0,9,     -999.0,9
33RO20180423,        I7N,      61,          1,        108,      11107,2,20180514,       1012,    -6.0768,    54.6197,       3610,  1800.5,   2.9765,  34.7558,2,  34.7547,2,    120.2,2, 134.3850,2,    113.5,2,     35.6,2,     0.00,2,    2.531,2,   0.012,2,   0.007,2,        0,2,  2298.3,2,  2390.9,2,   7.5523,2,    25.00, -999.00,9, -999.00,9, -999.00,-999.000,1,  -999.0,9,     -999.0,1,     -999.0,9,          8,     -999.0,9,     -999.0,9,     -999.0,9,     -999.0,9
33RO20180423,        I7N,      61,          1,        109,      11108,2,20180514,       1012,    -6.0768,    54.6197,       3610,  1550.2,   3.7802,  34.7664,2,  34.7667,2,    103.7,2, 115.5750,2,    105.3,2,     36.3,2,     0.00,2,    2.599,2,-999.000,9,-999.000,9,-999.0000,9,  2297.7,2,  2383.1,2,   7.5316,2,    25.00, -999.00,9, -999.00,9, -999.00,-999.000,9,  -999.0,9,     -999.0,9,     -999.0,9,          9,     -999.0,9,     -999.0,9,     -999.0,9,     -999.0,9
33RO20180423,        I7N,      61,          1,        110,      11109,2,20180514,       1012,    -6.0768,    54.6197,       3610,  1300.4,   4.6882,  34.7864,2,  34.7859,2,     86.1,2,  96.2080,2,     97.3,2,     36.8,2,     0.00,2,    2.650,2,-999.000,9,-999.000,9,-999.0000,9,  2297.4,2,  2373.4,6,   7.5111,2,    25.00, -999.00,9, -999.00,9, -999.00,-999.000,9,  -999.0,9,     -999.0,9,     -999.0,9,         10,     -999.0,9,     -999.0,9,     -999.0,9,     -999.0,9
33RO20180423,        I7N,      61,          1,        111,      11110,2,20180514,       1012,    -6.0768,    54.6197,       3610,  1100.3,   5.4911,  34.7825,2,  34.7821,2,     75.5,2,  84.0400,2,     89.4,2,     36.8,2,     0.00,2,    2.666,2,   0.070,2,   0.038,2,   0.0151,2,  2292.5,2,  2363.4,2,   7.5017,6,    25.00, -999.00,9, -999.00,9, -999.00,-999.000,1,  -999.0,9,     -999.0,1,     -999.0,9,         11,     -999.0,9,     -999.0,9,     -999.0,9,     -999.0,9
33RO20180423,        I7N,      61,          1,        112,      11111,2,20180514,       1012,    -6.0768,    54.6197,       3610,   900.3,   6.5257,  34.8194,2,  34.8261,2,     69.6,2,  77.1060,2,     76.1,2,     36.0,2,     0.00,2,    2.610,2,   0.191,2,   0.103,2,   0.0248,2,  2278.7,6,  2350.8,2,   7.5029,2,    25.00, -999.00,9, -999.00,9, -999.00,-999.000,1,  -999.0,9,     -999.0,1,     -999.0,9,         12,     -999.0,9,     -999.0,9,     -999.0,9,     -999.0,9
33RO20180423,        I7N,      61,          1,        113,      11112,2,20180514,       1012,    -6.0768,    54.6197,       3610,   750.6,   7.8157,  34.8563,2,  34.8572,2,     71.4,2,  78.6045,2,     57.8,2,     34.3,2,     0.00,2,    2.459,2,-999.000,9,-999.000,9,-999.0000,9,  2259.5,2,  2337.3,2,   7.5204,2,    25.00, -999.00,9, -999.00,9, -999.00,-999.000,9,  -999.0,9,     -999.0,9,     -999.0,9,         13,     -999.0,9,     -999.0,9,     -999.0,9,     -999.0,9
33RO20180423,        I7N,      61,          1,        114,      11113,2,20180514,       1012,    -6.0768,    54.6197,       3610,   600.1,   8.3053,  34.8443,2,  34.8434,2,     82.8,2,  90.1240,2,     48.2,2,     32.5,2,     0.00,2,    2.307,2,-999.000,9,-999.000,9,-999.0000,9,  2242.2,2,  2328.3,2,   7.5462,2,    25.00, -999.00,9, -999.00,9, -999.00,-999.000,9,  -999.0,9,     -999.0,9,     -999.0,9,         14,     -999.0,9,     -999.0,9,     -999.0,9,     -999.0,9
33RO20180423,        I7N,      61,          1,        115,      11114,2,20180514,       1012,    -6.0768,    54.6197,       3610,   451.0,   9.3572,  34.8577,2,  34.8635,6,    102.5,2, 110.9280,2,     32.6,2,     28.6,2,     0.00,2,    2.004,2,-999.000,9,-999.000,9,-999.0000,9,  2215.2,2,  2317.9,2,   7.5900,2,    25.00, -999.00,9, -999.00,9, -999.00,-999.000,9,  -999.0,9,     -999.0,9,     -999.0,9,         15,     -999.0,9,     -999.0,9,     -999.0,9,     -999.0,9
33RO20180423,        I7N,      61,          1,        116,      11115,2,20180514,       1012,    -6.0768,    54.6197,       3610,   351.0,  10.2569,  34.8863,2,  34.8866,2,    111.9,2, 120.2120,2,     24.3,2,     26.0,2,     0.00,2,    1.781,2,   1.908,2,   1.030,2,   0.5705,2,  2197.6,2,  2307.1,2,   7.6203,2,    25.00, -999.00,9, -999.00,9, -999.00,-999.000,1,  -999.0,9,     -999.0,1,     -999.0,9,         16,     -999.0,9,     -999.0,9,     -999.0,9,     -999.0,9
33RO20180423,        I7N,      61,          1,        117,      11116,2,20180514,       1012,    -6.0768,    54.6197,       3610,   300.9,  10.9237,  34.9391,2,  34.9407,2,    118.9,2, 127.8420,2,     20.8,2,     23.9,2,     0.00,2,    1.643,2,-999.000,9,-999.000,9,-999.0000,9,  2186.8,2,  2314.8,2,   7.6458,2,    25.00, -999.00,9, -999.00,9, -999.00,-999.000,9,  -999.0,9,     -999.0,9,     -999.0,9,         17,     -999.0,9,     -999.0,9,     -999.0,9,     -999.0,9
33RO20180423,        I7N,      61,          1,        118,      11117,2,20180514,       1012,    -6.0768,    54.6197,       3610,   251.0,  11.5279,  34.9869,2,  34.9876,2,    119.5,2, 127.7340,2,     19.0,2,     22.6,2,     0.00,2,    1.570,2,-999.000,9,-999.000,9,-999.0000,9,  2184.0,2,  2308.7,2,   7.6588,2,    25.00, -999.00,9, -999.00,9, -999.00,-999.000,9,  -999.0,9,     -999.0,9,     -999.0,9,         18,     -999.0,9,     -999.0,9,     -999.0,9,     -999.0,9
33RO20180423,        I7N,      61,          1,        119,      11083,2,20180514,       1012,    -6.0768,    54.6197,       3610,   201.2,  12.6521,  35.0325,2,  35.0328,2,    100.4,2, 108.0075,2,     20.0,2,     22.9,2,     0.00,2,    1.593,2,-999.000,9,-999.000,9,-999.0000,9,  2186.5,2,  2309.8,2,   7.6518,2,    25.00, -999.00,9, -999.00,9, -999.00,-999.000,9,  -999.0,9,     -999.0,9,     -999.0,9,         19,     -999.0,9,     -999.0,9,     -999.0,9,     -999.0,9
33RO20180423,        I7N,      61,          1,        120,      11118,2,20180514,       1012,    -6.0768,    54.6197,       3610,   160.5,  13.9989,  35.1182,2,  35.1209,2,    101.8,2, 109.6200,2,     17.3,2,     20.7,2,     0.00,2,    1.461,2,   2.071,6,   1.193,6,   0.9326,6,  2176.1,2,  2310.1,2,   7.6833,2,    25.00, -999.00,9, -999.00,9, -999.00,-999.000,1,  -999.0,9,     -999.0,1,     -999.0,9,         20,     -999.0,9,     -999.0,9,     -999.0,9,     -999.0,9
33RO20180423,        I7N,      61,          1,        121,      11119,2,20180514,       1012,    -6.0768,    54.6197,       3610,   119.9,  15.4011,  35.1499,2,  35.1491,2,     97.6,2, 104.4840,2,     16.2,2,     19.8,2,     0.01,2,    1.396,2,-999.000,9,-999.000,9,-999.0000,9,  2167.3,2,  2310.3,2,   7.7032,2,    25.00, -999.00,9, -999.00,9, -999.00,-999.000,9,  -999.0,9,     -999.0,9,     -999.0,9,         21,     -999.0,9,     -999.0,9,     -999.0,9,     -999.0,9
33RO20180423,        I7N,      61,          1,        122,      11120,2,20180514,       1012,    -6.0768,    54.6197,       3610,    80.9,  19.5857,  35.1238,2,  35.1231,2,     85.6,2,  91.9650,2,     13.8,2,     17.6,2,     0.15,2,    1.263,2,-999.000,9,-999.000,9,-999.0000,9,  2138.3,2,  2305.2,2,   7.7568,2,    25.00, -999.00,9, -999.00,9, -999.00,-999.000,9,  -999.0,9,     -999.0,9,     -999.0,9,         22,     -999.0,9,     -999.0,9,     -999.0,9,     -999.0,9
33RO20180423,        I7N,      61,          1,        123,      11121,2,20180514,       1012,    -6.0768,    54.6197,       3610,    40.6,  24.6140,  35.2514,2,  35.2502,2,    158.1,2, 166.5970,2,      5.5,2,      4.5,2,     0.43,2,    0.519,2,-999.000,9,-999.000,9,-999.0000,9,  2050.3,6,  2311.4,2,   7.9564,2,    25.00, -999.00,9, -999.00,9, -999.00,-999.000,9,  -999.0,9,     -999.0,9,     -999.0,9,         23,     -999.0,9,     -999.0,9,     -999.0,9,     -999.0,9
33RO20180423,        I7N,      61,          1,        124,      11122,2,20180514,       1012,    -6.0768,    54.6197,       3610,     3.1,  29.0547,  34.6351,2,  34.6501,2,    186.2,2, 195.2320,2,      2.2,2,      0.1,2,     0.00,2,    0.114,2,-999.000,9,-999.000,9,-999.0000,9,  1949.6,2,  2273.2,6,   8.0753,6,    25.00, -999.00,9, -999.00,9, -999.00,-999.000,9,  -999.0,9,     -999.0,9,     -999.0,9,         24,     -999.0,9,     -999.0,9,     -999.0,9,     -999.0,9