BOTTLE,20230801CCHSIOCBG
EXPOCODE,SECT_ID,STNNBR,CASTNO,SAMPNO,BTLNBR,BTLNBR_FLAG_W,DATE,TIME,LATITUDE,LONGITUDE,DEPTH,CTDPRS,CTDTMP,CTDSAL,CTDSAL_FLAG_W,SALNTY,SALNTY_FLAG_W,CTDOXY,CTDOXY_FLAG_W,OXYGEN,OXYGEN_FLAG_W,SILCAT,SILCAT_FLAG_W,NITRAT,NITRAT_FLAG_W,NITRIT,NITRIT_FLAG_W,PHSPHT,PHSPHT_FLAG_W,CFC-11,CFC-11_FLAG_W,CFC-12,CFC-12_FLAG_W,SF6,SF6_FLAG_W,TCARBN,TCARBN_FLAG_W,ALKALI,ALKALI_FLAG_W,PH_SWS,PH_SWS_FLAG_W,PH_TMP,DELC13,DELC13_FLAG_W,DELC14,DELC14_FLAG_W,C14ERR,CCL4,CCL4_FLAG_W,DOC,DOC_FLAG_W,N2O,N2O_FLAG_W,CALCIUM,CALCIUM_FLAG_W,SAMPNO_U,DNSSAL,DNSSAL_FLAG_W,DNSSAL2,DNSSAL2_FLAG_W,SALNTY_DNSSAL,SALNTY_DNSSAL_FLAG_W,SALNTY_DNSSAL2,SALNTY_DNSSAL2_FLAG_W
,,,,,,,,,,,METERS,DBAR,ITS-90,PSS-78,,PSS-78,,UMOL/KG,,UMOL/KG,,UMOL/KG,,UMOL/KG,,UMOL/KG,,UMOL/KG,,PMOL/KG,,PMOL/KG,,FMOL/KG,,UMOL/KG,,UMOL/KG,,,,DEG C,/MILLE,,/MILLE,,/MILLE,PMOL/KG,,UMOL/KG,,NMOL/KG,,MMOL/KG,,,G/KG,,G/KG,,PSS-78,,PSS-78,
33RO20180423,        I7N,      30,          1,        101,      11010,2,20180505,       1152,   -18.5033,    54.9890,       4466,  4525.0,   1.1053,  34.7092,2,  34.7107,2,    174.6,2, 201.5490,2,    125.0,6,     32.9,6,     0.00,6,    2.240,6,   0.071,2,   0.035,2,        0,2,  2269.9,6,  2379.6,2,   7.6000,2,    25.00, -999.00,9, -999.00,9, -999.00,-999.000,1,  -999.0,9,     -999.0,1,     -999.0,9,          1,     -999.0,9,     -999.0,9,     -999.0,9,     -999.0,9
33RO20180423,        I7N,      30,          1,        102,      11101,2,20180505,       1152,   -18.5033,    54.9890,       4466,  4064.6,   1.4520,  34.7227,2,  34.7317,2,    157.6,2, 182.4250,2,    128.7,6,     33.9,6,     0.00,6,    2.311,6,   0.020,2,   0.010,2,        0,2,  2287.8,2,  2393.1,6,   7.5955,2,    25.00, -999.00,9, -999.00,9, -999.00,-999.000,1,  -999.0,9,     -999.0,1,     -999.0,9,          2,     -999.0,9,     -999.0,9,     -999.0,9,     -999.0,9
33RO20180423,        I7N,      30,          1,        103,      11102,2,20180505,       1152,   -18.5033,    54.9890,       4466,  3675.6,   1.5345,  34.7267,2,  34.7294,6,    152.8,2, 176.8160,2,    129.2,6,     34.1,6,     0.00,6,    2.347,6,   0.012,2,   0.006,2,        0,2,  2289.9,2,  2394.2,2,   7.5924,6,    25.00, -999.00,9, -999.00,9, -999.00,-999.000,1,  -999.0,9,     -999.0,1,     -999.0,9,          3,     -999.0,9,     -999.0,9,     -999.0,9,     -999.0,9
33RO20180423,        I7N,      30,          1,        104,      11103,2,20180505,       1152,   -18.5033,    54.9890,       4466,  3374.5,   1.6894,  34.7323,2,  34.7332,2,    146.3,2, 168.9345,2,    129.3,6,     34.5,6,     0.00,6,    2.387,6,   0.005,2,   0.003,2,   0.0022,2,  2296.7,2,  2403.7,2,   7.5877,2,    25.00, -999.00,9, -999.00,9, -999.00,-999.000,1,  -999.0,9,     -999.0,1,     -999.0,9,          4,     -999.0,9,     -999.0,9,     -999.0,9,     -999.0,9
33RO20180423,        I7N,      30,          1,        105,      11104,2,20180505,       1152,   -18.5033,    54.9890,       4466,  3075.9,   1.8328,  34.7361,2,  34.7371,2,    142.3,2, 163.6290,2,    127.5,2,     34.7,2,     0.00,2,    2.401,2,   0.003,2,   0.002,2,        0,2,  2300.0,2,  2406.9,2,   7.5861,2,    25.00, -999.00,9, -999.00,9, -999.00,-999.000,1,  -999.0,9,     -999.0,1,     -999.0,9,          5,     -999.0,9,     -999.0,9,     -999.0,9,     -999.0,9
33RO20180423,        I7N,      30,          1,        106,      11105,2,20180505,       1152,   -18.5033,    54.9890,       4466,  2775.3,   1.9311,  34.7363,2,  34.7360,2,    141.7,2, 162.4630,2,    124.7,2,     34.5,2,     0.00,2,    2.394,2,-999.000,9,-999.000,9,-999.0000,9,  2301.1,2,  2402.8,2,   7.5824,2,    25.00, -999.00,9, -999.00,9, -999.00,-999.000,9,  -999.0,9,     -999.0,9,     -999.0,9,          6,     -999.0,9,     -999.0,9,     -999.0,9,     -999.0,9
33RO20180423,        I7N,      30,          1,        107,      11106,2,20180505,       1152,   -18.5033,    54.9890,       4466,  2475.9,   2.0837,  34.7373,2,  34.7383,2,    140.0,2, 159.8550,2,    120.8,2,     34.5,2,     0.00,2,    2.397,2,-999.000,9,-999.000,9,-999.0000,9,  2298.2,2,  2395.0,2,   7.5801,2,    25.00, -999.00,9, -999.00,9, -999.00,-999.000,9,  -999.0,9,     -999.0,9,     -999.0,9,          7,     -999.0,9,     -999.0,9,     -999.0,9,     -999.0,9
33RO20180423,        I7N,      30,          1,        108,      11107,2,20180505,       1152,   -18.5033,    54.9890,       4466,  2175.4,   2.2871,  34.7290,2,  34.7312,2,    141.9,2, 161.0880,2,    112.1,2,     34.2,2,     0.00,2,    2.360,2,   0.013,6,   0.006,6,        0,6,  2288.1,2,  2386.1,2,   7.5801,2,    25.00, -999.00,9, -999.00,9, -999.00,-999.000,1,  -999.0,9,     -999.0,1,     -999.0,9,          8,     -999.0,9,     -999.0,9,     -999.0,9,     -999.0,9
33RO20180423,        I7N,      30,          1,        109,      11108,2,20180505,       1152,   -18.5033,    54.9890,       4466,  1863.8,   2.5841,  34.7071,2,  34.7072,2,    143.3,2, 161.9550,2,    100.4,2,     33.9,2,     0.00,2,    2.346,2,-999.000,9,-999.000,9,-999.0000,9,  2277.6,2,  2372.9,2,   7.5772,2,    25.00, -999.00,9, -999.00,9, -999.00,-999.000,9,  -999.0,9,     -999.0,9,     -999.0,9,          9,     -999.0,9,     -999.0,9,     -999.0,9,     -999.0,9
33RO20180423,        I7N,      30,          1,        110,      11109,2,20180505,       1152,   -18.5033,    54.9890,       4466,  1613.2,   2.9475,  34.6786,2,  34.6803,2,    139.3,2, 155.9010,2,     92.9,2,     34.2,2,     0.00,2,    2.379,2,   0.049,2,   0.024,2,        0,2,  2273.6,2,  2365.9,6,   7.5684,2,    25.00, -999.00,9, -999.00,9, -999.00,-999.000,1,  -999.0,9,     -999.0,1,     -999.0,9,         10,     -999.0,9,     -999.0,9,     -999.0,9,     -999.0,9
33RO20180423,        I7N,      30,          1,        111,      11110,2,20180505,       1152,   -18.5033,    54.9890,       4466,  1350.3,   3.7111,  34.6578,2,  34.6597,2,    125.9,2, 140.1620,2,     85.7,2,     34.8,2,     0.00,2,    2.423,2,-999.000,9,-999.000,9,-999.0000,9,  2271.5,2,  2360.4,2,   7.5518,6,    25.00, -999.00,9, -999.00,9, -999.00,-999.000,9,  -999.0,9,     -999.0,9,     -999.0,9,         11,     -999.0,9,     -999.0,9,     -999.0,9,     -999.0,9
33RO20180423,        I7N,      30,          1,        112,      11111,2,20180505,       1152,   -18.5033,    54.9890,       4466,  1150.4,   4.5157,  34.6448,2,  34.6447,2,    115.7,2, 126.4410,2,     78.7,2,     35.0,2,     0.00,2,    2.438,2,   0.184,2,   0.094,2,   0.0195,2,  2267.3,6,  2353.4,2,   7.5431,2,    25.00, -999.00,9, -999.00,9, -999.00,-999.000,1,  -999.0,9,     -999.0,1,     -999.0,9,         12,     -999.0,9,     -999.0,9,     -999.0,9,     -999.0,9
33RO20180423,        I7N,      30,          1,        113,      11112,2,20180505,       1152,   -18.5033,    54.9890,       4466,   938.4,   5.5248,  34.5886,2,  34.5887,2,    125.2,2, 138.0260,2,     59.2,2,     33.1,2,     0.00,2,    2.309,2,-999.000,9,-999.000,9,-999.0000,9,  2240.7,2,  2330.3,2,   7.5645,2,    25.00, -999.00,9, -999.00,9, -999.00,-999.000,9,  -999.0,9,     -999.0,9,     -999.0,9,         13,     -999.0,9,     -999.0,9,     -999.0,9,     -999.0,9
33RO20180423,        I7N,      30,          1,        114,      11113,2,20180505,       1152,   -18.5033,    54.9890,       4466,   788.2,   6.9039,  34.5701,2,  34.5716,2,    153.5,2, 168.2120,2,     34.1,2,     28.3,2,     0.00,2,    1.948,2,   1.700,2,   0.868,2,   0.3897,2,  2196.1,2,  2308.1,2,   7.6256,2,    25.00, -999.00,9, -999.00,9, -999.00,-999.000,1,  -999.0,9,     -999.0,1,     -999.0,9,         14,     -999.0,9,     -999.0,9,     -999.0,9,     -999.0,9
33RO20180423,        I7N,      30,          1,        115,      11114,2,20180505,       1152,   -18.5033,    54.9890,       4466,   638.1,   9.1514,  34.6883,2,  34.6909,2,    200.0,2, 217.0620,2,      9.2,2,     18.9,2,     0.00,2,    1.322,2,-999.000,9,-999.000,9,-999.0000,9,  2146.5,2,  2295.7,2,   7.7327,2,    25.00, -999.00,9, -999.00,9, -999.00,-999.000,9,  -999.0,9,     -999.0,9,     -999.0,9,         15,     -999.0,9,     -999.0,9,     -999.0,9,     -999.0,9
33RO20180423,        I7N,      30,          1,        116,      11115,2,20180505,       1152,   -18.5033,    54.9890,       4466,   475.8,  11.5389,  35.0030,2,  35.0067,2,    208.4,2, 225.1710,2,      4.3,2,     12.1,2,     0.00,2,    0.898,2,   3.175,2,   1.820,2,   1.5604,2,  2127.4,2,  2310.5,2,   7.7981,2,    25.00, -999.00,9, -999.00,9, -999.00,-999.000,1,  -999.0,9,     -999.0,1,     -999.0,9,         16,     -999.0,9,     -999.0,9,     -999.0,9,     -999.0,9
33RO20180423,        I7N,      30,          1,        117,      11116,2,20180505,       1152,   -18.5033,    54.9890,       4466,   369.6,  13.8143,  35.2977,2,  35.2975,2,    193.5,2, 208.0860,2,      4.5,2,      8.7,2,     0.01,2,    0.700,2,-999.000,9,-999.000,9,-999.0000,9,  2126.6,2,  2326.1,2,   7.8349,2,    25.00, -999.00,9, -999.00,9, -999.00,-999.000,9,  -999.0,9,     -999.0,9,     -999.0,9,         17,     -999.0,9,     -999.0,9,     -999.0,9,     -999.0,9
33RO20180423,        I7N,      30,          1,        118,      11117,2,20180505,       1152,   -18.5033,    54.9890,       4466,   294.4,  15.7595,  35.1482,2,  35.1497,6,    100.1,2, 108.5870,2,     17.8,2,     18.3,2,     0.01,2,    1.288,2,   1.868,2,   1.107,2,   0.9242,2,  2163.1,2,  2316.9,2,   7.7279,3,    25.00, -999.00,9, -999.00,9, -999.00,-999.000,1,  -999.0,9,     -999.0,1,     -999.0,9,         18,     -999.0,9,     -999.0,9,     -999.0,9,     -999.0,9
33RO20180423,        I7N,      30,          1,        119,      11083,2,20180505,       1152,   -18.5033,    54.9890,       4466,   211.1,  19.6112,  35.3790,2,  35.3790,2,    142.1,2, 152.8710,2,      7.9,2,      8.1,2,     0.02,2,    0.643,2,-999.000,9,-999.000,9,-999.0000,9,  2099.8,2,  2322.0,2,   7.8834,2,    25.00, -999.00,9, -999.00,9, -999.00,-999.000,9,  -999.0,9,     -999.0,9,     -999.0,9,         19,     -999.0,9,     -999.0,9,     -999.0,9,     -999.0,9
33RO20180423,        I7N,      30,          1,        120,      11118,2,20180505,       1152,   -18.5033,    54.9890,       4466,   170.7,  21.1423,  35.2587,2,  35.2611,2,    139.3,2, 149.6660,2,      7.1,2,      7.8,2,     0.03,2,    0.609,2,   1.822,2,   1.131,2,   1.2989,2,  2082.4,2,  2314.0,2,   7.9003,2,    25.00, -999.00,9, -999.00,9, -999.00,-999.000,1,  -999.0,9,     -999.0,1,     -999.0,9,         20,     -999.0,9,     -999.0,9,     -999.0,9,     -999.0,9
33RO20180423,        I7N,      30,          1,        121,      11119,2,20180505,       1152,   -18.5033,    54.9890,       4466,   130.4,  23.4860,  35.1527,2,  35.1585,2,    183.9,2, 196.3260,2,      2.5,2,      0.5,2,     0.18,2,    0.174,2,-999.000,9,-999.000,9,-999.0000,9,  2016.2,2,  2306.1,6,   8.0133,2,    25.00, -999.00,9, -999.00,9, -999.00,-999.000,9,  -999.0,9,     -999.0,9,     -999.0,9,         21,     -999.0,9,     -999.0,9,     -999.0,9,     -999.0,9
33RO20180423,        I7N,      30,          1,        122,      11120,2,20180505,       1152,   -18.5033,    54.9890,       4466,    91.2,  24.8516,  35.0709,2,  35.0770,2,    199.3,2, 212.2510,2,      1.9,2,      0.0,2,     0.00,2,    0.102,2,   1.709,2,   1.075,2,   1.4718,2,  1992.6,2,  2301.6,2,   8.0455,6,    25.00, -999.00,9, -999.00,9, -999.00,-999.000,1,  -999.0,9,     -999.0,1,     -999.0,9,         22,     -999.0,9,     -999.0,9,     -999.0,9,     -999.0,9
33RO20180423,        I7N,      30,          1,        123,      11121,2,20180505,       1152,   -18.5033,    54.9890,       4466,    49.3,  27.5250,  34.8988,2,  34.9020,2,    190.0,2, 201.1880,2,      1.6,2,      0.0,2,     0.00,2,    0.088,2,-999.000,9,-999.000,9,-999.0000,9,  1966.6,6,  2288.2,2,   8.0734,2,    25.00, -999.00,9, -999.00,9, -999.00,-999.000,9,  -999.0,9,     -999.0,9,     -999.0,9,         23,     -999.0,9,     -999.0,9,     -999.0,9,     -999.0,9
33RO20180423,        I7N,      30,          1,        124,      11122,2,20180505,       1152,   -18.5033,    54.9890,       4466,     3.9,  27.6005,  34.8903,2,  34.8922,2,    190.2,2, 200.6090,2,      1.6,2,      0.0,2,     0.00,2,    0.116,2,   1.481,2,   0.948,2,   1.3888,2,  1967.8,2,  2297.5,2,   8.0733,2,    25.00, -999.00,9, -999.00,9, -999.00,-999.000,1,  -999.0,9,     -999.0,1,     -999.0,9,         24,     -999.0,9,     -999.0,9,     -999.0,9,     -999.0,9