BOTTLE,20230801CCHSIOCBG
EXPOCODE,SECT_ID,STNNBR,CASTNO,SAMPNO,BTLNBR,BTLNBR_FLAG_W,DATE,TIME,LATITUDE,LONGITUDE,DEPTH,CTDPRS,CTDTMP,CTDSAL,CTDSAL_FLAG_W,SALNTY,SALNTY_FLAG_W,CTDOXY,CTDOXY_FLAG_W,OXYGEN,OXYGEN_FLAG_W,SILCAT,SILCAT_FLAG_W,NITRAT,NITRAT_FLAG_W,NITRIT,NITRIT_FLAG_W,PHSPHT,PHSPHT_FLAG_W,CFC-11,CFC-11_FLAG_W,CFC-12,CFC-12_FLAG_W,SF6,SF6_FLAG_W,TCARBN,TCARBN_FLAG_W,ALKALI,ALKALI_FLAG_W,PH_SWS,PH_SWS_FLAG_W,PH_TMP,DELC13,DELC13_FLAG_W,DELC14,DELC14_FLAG_W,C14ERR,CCL4,CCL4_FLAG_W,DOC,DOC_FLAG_W,N2O,N2O_FLAG_W,CALCIUM,CALCIUM_FLAG_W,SAMPNO_U,DNSSAL,DNSSAL_FLAG_W,DNSSAL2,DNSSAL2_FLAG_W,SALNTY_DNSSAL,SALNTY_DNSSAL_FLAG_W,SALNTY_DNSSAL2,SALNTY_DNSSAL2_FLAG_W
,,,,,,,,,,,METERS,DBAR,ITS-90,PSS-78,,PSS-78,,UMOL/KG,,UMOL/KG,,UMOL/KG,,UMOL/KG,,UMOL/KG,,UMOL/KG,,PMOL/KG,,PMOL/KG,,FMOL/KG,,UMOL/KG,,UMOL/KG,,,,DEG C,/MILLE,,/MILLE,,/MILLE,PMOL/KG,,UMOL/KG,,NMOL/KG,,MMOL/KG,,,G/KG,,G/KG,,PSS-78,,PSS-78,
33RO20180423,        I7N,     120,          1,        101,      11010,2,20180603,       0605,    17.3332,    68.9493,       3542,  3577.6,   1.7030,  34.7357,2,  34.7380,2,    120.1,2, 136.7560,2,    145.2,6,     36.6,6,     0.01,6,    2.529,6,   0.012,2,   0.010,2,   0.0183,2,  2353.8,6,  2457.2,2,   7.5840,6,    25.00, -999.00,9, -999.00,9, -999.00,-999.000,1,  -999.0,9,     -999.0,1,     -999.0,9,          1,     -999.0,9,     -999.0,9,     -999.0,9,     -999.0,9
33RO20180423,        I7N,     120,          1,        102,      11101,2,20180603,       0605,    17.3332,    68.9493,       3542,  3397.5,   1.7422,  34.7390,2,  34.7407,2,    116.0,2, 131.6680,2,    146.3,6,     36.7,6,     0.00,6,    2.553,6,   0.009,2,   0.011,2,        0,2,  2352.8,2,  2448.8,6,   7.5706,2,    25.00, -999.00,9, -999.00,9, -999.00,-999.000,1,  -999.0,9,     -999.0,1,     -999.0,9,          2,     -999.0,9,     -999.0,9,     -999.0,9,     -999.0,9
33RO20180423,        I7N,     120,          1,        103,      11102,2,20180603,       0605,    17.3332,    68.9493,       3542,  3200.6,   1.7675,  34.7415,2,  34.7443,2,    114.7,2, 130.3890,2,    146.3,6,     36.7,6,     0.00,6,    2.568,6,   0.007,2,   0.010,2,   0.0061,2,  2350.2,2,  2445.1,2,   7.5636,2,    25.00, -999.00,9, -999.00,9, -999.00,-999.000,1,  -999.0,9,     -999.0,1,     -999.0,9,          3,     -999.0,9,     -999.0,9,     -999.0,9,     -999.0,9
33RO20180423,        I7N,     120,          1,        104,      11103,2,20180603,       0605,    17.3332,    68.9493,       3542,  2900.1,   1.8518,  34.7480,2,  34.7491,6,    111.1,2, 126.0670,2,    145.7,6,     36.8,6,     0.00,6,    2.590,6,   0.004,2,   0.007,2,        0,2,  2350.2,2,  2446.4,2,   7.5528,2,    25.00, -999.00,9, -999.00,9, -999.00,-999.000,1,  -999.0,9,     -999.0,1,     -999.0,9,          4,     -999.0,9,     -999.0,9,     -999.0,9,     -999.0,9
33RO20180423,        I7N,     120,          1,        105,      11104,2,20180603,       0605,    17.3332,    68.9493,       3542,  2600.1,   2.0394,  34.7608,2,  34.7618,2,    105.7,2, 119.5810,2,    143.9,2,     36.9,2,     0.01,2,    2.630,2,   0.002,2,   0.004,2,        0,2,  2349.0,2,  2439.1,2,   7.5396,2,    25.00, -999.00,9, -999.00,9, -999.00,-999.000,1,  -999.0,9,     -999.0,1,     -999.0,9,          5,     -999.0,9,     -999.0,9,     -999.0,9,     -999.0,9
33RO20180423,        I7N,     120,          1,        106,      11105,2,20180603,       0605,    17.3332,    68.9493,       3542,  2300.4,   2.4608,  34.7884,2,  34.7956,2,     96.9,2, 109.3480,2,    138.6,2,     37.3,2,     0.01,2,    2.673,2,   0.002,2,   0.003,2,        0,2,  2343.6,2,  2430.3,2,   7.5233,2,    25.00, -999.00,9, -999.00,9, -999.00,-999.000,1,  -999.0,9,     -999.0,1,     -999.0,9,          6,     -999.0,9,     -999.0,9,     -999.0,9,     -999.0,9
33RO20180423,        I7N,     120,          1,        107,      11106,2,20180603,       0605,    17.3332,    68.9493,       3542,  2000.7,   3.1126,  34.8332,2,  34.8404,2,     82.2,2,  92.4510,2,    130.6,2,     37.9,2,     0.01,2,    2.758,2,   0.003,6,   0.004,6,   0.0055,6,  2342.7,2,  2419.8,2,   7.5010,2,    25.00, -999.00,9, -999.00,9, -999.00,-999.000,1,  -999.0,9,     -999.0,1,     -999.0,9,          7,     -999.0,9,     -999.0,9,     -999.0,9,     -999.0,9
33RO20180423,        I7N,     120,          1,        108,      11107,2,20180603,       0605,    17.3332,    68.9493,       3542,  1716.8,   4.1070,  34.9191,2,  34.9204,2,     58.3,2,  66.0670,2,    120.8,2,     38.7,2,     0.01,2,    2.879,2,   0.004,2,   0.006,2,        0,2,  2345.6,2,  2409.5,2,   7.4680,2,    25.00, -999.00,9, -999.00,9, -999.00,-999.000,1,  -999.0,9,     -999.0,1,     -999.0,9,          8,     -999.0,9,     -999.0,9,     -999.0,9,     -999.0,9
33RO20180423,        I7N,     120,          1,        109,      11108,2,20180603,       0605,    17.3332,    68.9493,       3542,  1467.3,   5.6614,  35.0578,2,  35.0589,2,     31.7,2,  36.3385,2,    104.5,2,     39.2,2,     0.01,2,    2.979,2,   0.008,2,   0.006,2,        0,2,  2341.8,2,  2393.2,2,   7.4400,6,    25.00, -999.00,9, -999.00,9, -999.00,-999.000,1,  -999.0,9,     -999.0,1,     -999.0,9,          9,     -999.0,9,     -999.0,9,     -999.0,9,     -999.0,9
33RO20180423,        I7N,     120,          1,        110,      11109,2,20180603,       0605,    17.3332,    68.9493,       3542,  1233.6,   7.1715,  35.2059,2,  35.2099,2,     13.7,2,  16.9040,2,     88.9,2,     38.8,2,     0.01,2,    2.988,2,   0.023,2,   0.015,2,        0,2,  2329.8,2,  2380.0,6,   7.4258,2,    25.00, -999.00,9, -999.00,9, -999.00,-999.000,1,  -999.0,9,     -999.0,1,     -999.0,9,         10,     -999.0,9,     -999.0,9,     -999.0,9,     -999.0,9
33RO20180423,        I7N,     120,          1,        111,      11110,2,20180603,       0605,    17.3332,    68.9493,       3542,  1033.4,   8.6721,  35.3708,2,  35.3915,2,      2.9,2,   5.5730,2,     76.0,2,     37.2,2,     0.01,2,    2.930,2,   0.057,2,   0.036,2,    0.001,2,  2317.7,2,  2373.7,2,   7.4336,2,    25.00, -999.00,9, -999.00,9, -999.00,-999.000,1,  -999.0,9,     -999.0,1,     -999.0,9,         11,     -999.0,9,     -999.0,9,     -999.0,9,     -999.0,9
33RO20180423,        I7N,     120,          1,        112,      11111,2,20180603,       0605,    17.3332,    68.9493,       3542,   850.1,  10.0920,  35.5052,2,  35.5088,2,      0.9,2,   3.4700,2,     62.5,2,     34.5,2,     0.01,2,    2.822,2,   0.118,2,   0.077,2,   0.0127,2,  2303.1,2,  2364.6,2,   7.4507,2,    25.00, -999.00,9, -999.00,9, -999.00,-999.000,1,  -999.0,9,     -999.0,1,     -999.0,9,         12,     -999.0,9,     -999.0,9,     -999.0,9,     -999.0,9
33RO20180423,        I7N,     120,          1,        113,      11112,2,20180603,       0605,    17.3332,    68.9493,       3542,   700.8,  11.0348,  35.5682,2,  35.6102,2,      0.5,2,   2.4040,2,     52.8,2,     32.2,2,     0.01,2,    2.730,2,   0.189,2,   0.125,2,   0.0106,2,  2292.2,2,  2353.2,2,   7.4611,2,    25.00, -999.00,9, -999.00,9, -999.00,-999.000,1,  -999.0,9,     -999.0,1,     -999.0,9,         13,     -999.0,9,     -999.0,9,     -999.0,9,     -999.0,9
33RO20180423,        I7N,     120,          1,        114,      11113,2,20180603,       0605,    17.3332,    68.9493,       3542,   550.7,  11.9066,  35.6015,2,  35.6186,2,      0.4,2,   2.3930,2,     43.2,2,     30.3,2,     0.01,2,    2.624,2,   0.334,2,   0.226,2,   0.0825,2,  2283.8,2,  2345.8,2,   7.4662,2,    25.00, -999.00,9, -999.00,9, -999.00,-999.000,1,  -999.0,9,     -999.0,1,     -999.0,9,         14,     -999.0,9,     -999.0,9,     -999.0,9,     -999.0,9
33RO20180423,        I7N,     120,          1,        115,      11114,2,20180603,       0605,    17.3332,    68.9493,       3542,   417.4,  12.6029,  35.5810,2,  35.5830,2,      0.2,2,   1.4720,2,     36.0,2,     29.0,2,     0.01,2,    2.532,2,   0.549,2,   0.365,2,   0.1522,2,  2280.2,2,  2340.2,2,   7.4666,2,    25.00, -999.00,9, -999.00,9, -999.00,-999.000,1,  -999.0,9,     -999.0,1,     -999.0,9,         15,     -999.0,9,     -999.0,9,     -999.0,9,     -999.0,9
33RO20180423,        I7N,     120,          1,        116,      11115,2,20180603,       0605,    17.3332,    68.9493,       3542,   333.2,  13.9528,  35.7647,2,  35.7654,2,      0.2,2,   2.3680,2,     31.3,2,     21.9,2,     3.12,2,    2.447,2,   0.739,2,   0.517,2,    0.251,2,  2280.2,2,  2351.0,2,   7.4731,2,    25.00, -999.00,9, -999.00,9, -999.00,-999.000,1,  -999.0,9,     -999.0,1,     -999.0,9,         16,     -999.0,9,     -999.0,9,     -999.0,9,     -999.0,9
33RO20180423,        I7N,     120,          1,        117,      11116,2,20180603,       0605,    17.3332,    68.9493,       3542,   283.6,  14.3841,  35.7159,2,  35.7107,2,      0.2,2,   2.5490,2,     28.9,2,     20.1,2,     3.72,2,    2.413,2,   0.840,2,   0.591,2,   0.3253,2,  2278.2,2,  2347.7,2,   7.4787,2,    25.00, -999.00,9, -999.00,9, -999.00,-999.000,1,  -999.0,9,     -999.0,1,     -999.0,9,         17,     -999.0,9,     -999.0,9,     -999.0,9,     -999.0,9
33RO20180423,        I7N,     120,          1,        118,      11117,2,20180603,       0605,    17.3332,    68.9493,       3542,   234.0,  16.0598,  35.8890,2,  35.8823,2,      0.1,2,   3.5730,2,     25.8,2,     17.1,2,     3.71,2,    2.367,2,   0.933,2,   0.693,2,   0.4244,2,  2269.0,2,  2353.9,2,   7.5108,2,    25.00, -999.00,9, -999.00,9, -999.00,-999.000,1,  -999.0,9,     -999.0,1,     -999.0,9,         18,     -999.0,9,     -999.0,9,     -999.0,9,     -999.0,9
33RO20180423,        I7N,     120,          1,        119,      11083,2,20180603,       0605,    17.3332,    68.9493,       3542,   187.2,  17.3658,  35.8074,2,  35.7928,2,      0.1,2,   1.6730,2,     23.2,2,     20.5,2,     1.91,2,    2.303,2,   1.076,2,   0.761,2,   0.5658,2,  2260.4,2,  2341.6,2,   7.5317,2,    25.00, -999.00,9, -999.00,9, -999.00,-999.000,1,  -999.0,9,     -999.0,1,     -999.0,9,         19,     -999.0,9,     -999.0,9,     -999.0,9,     -999.0,9
33RO20180423,        I7N,     120,          1,        120,      11118,2,20180603,       0605,    17.3332,    68.9493,       3542,   147.5,  19.2848,  35.8220,2,  35.8238,2,      2.0,2,   3.9640,2,     18.1,2,     24.6,2,     0.02,2,    2.195,2,   1.298,2,   0.856,2,   0.7825,2,  2239.2,2,  2340.3,2,   7.5804,2,    25.00, -999.00,9, -999.00,9, -999.00,-999.000,1,  -999.0,9,     -999.0,1,     -999.0,9,         20,     -999.0,9,     -999.0,9,     -999.0,9,     -999.0,9
33RO20180423,        I7N,     120,          1,        121,      11119,2,20180603,       0605,    17.3332,    68.9493,       3542,   107.8,  21.7218,  35.8866,2,  35.8816,6,     22.5,2,  24.7785,2,     13.0,2,     23.3,2,     0.04,2,    1.855,2,   1.402,2,   0.894,2,   0.9675,2,  2198.9,2,  2341.7,2,   7.6796,2,    25.00, -999.00,9, -999.00,9, -999.00,-999.000,1,  -999.0,9,     -999.0,1,     -999.0,9,         21,     -999.0,9,     -999.0,9,     -999.0,9,     -999.0,9
33RO20180423,        I7N,     120,          1,        122,      11120,2,20180603,       0605,    17.3332,    68.9493,       3542,    67.3,  26.1396,  36.4445,2,  36.4347,2,    150.8,2, 156.1260,2,      2.5,2,      4.4,2,     0.39,2,    0.663,2,   1.526,6,   0.965,6,   1.3349,6,  2087.7,2,  2383.4,2,   7.9805,2,    25.00, -999.00,9, -999.00,9, -999.00,-999.000,1,  -999.0,9,     -999.0,1,     -999.0,9,         22,     -999.0,9,     -999.0,9,     -999.0,9,     -999.0,9
33RO20180423,        I7N,     120,          1,        123,      11121,2,20180603,       0605,    17.3332,    68.9493,       3542,    28.4,  30.4429,  36.1732,2,  36.1975,2,    181.3,2, 189.0110,2,      1.1,2,      0.0,2,     0.00,2,    0.109,2,   1.346,2,   0.860,2,      1.3,2,  2008.4,2,  2381.0,2,   8.1054,6,    25.00, -999.00,9, -999.00,9, -999.00,-999.000,1,  -999.0,9,     -999.0,1,     -999.0,9,         23,     -999.0,9,     -999.0,9,     -999.0,9,     -999.0,9
33RO20180423,        I7N,     120,          1,        124,      11122,2,20180603,       0605,    17.3332,    68.9493,       3542,     3.1,  30.8400,  36.1748,2,  36.1757,2,    180.9,2, 189.0520,2,      1.2,2,      0.0,2,     0.00,2,    0.101,2,   1.334,2,   0.856,2,   1.2852,2,  2004.1,6,  2373.7,6,   8.1073,2,    25.00, -999.00,9, -999.00,9, -999.00,-999.000,1,  -999.0,9,     -999.0,1,     -999.0,9,         24,     -999.0,9,     -999.0,9,     -999.0,9,     -999.0,9