BOTTLE,20230801CCHSIOCBG
EXPOCODE,SECT_ID,STNNBR,CASTNO,SAMPNO,BTLNBR,BTLNBR_FLAG_W,DATE,TIME,LATITUDE,LONGITUDE,DEPTH,CTDPRS,CTDTMP,CTDSAL,CTDSAL_FLAG_W,SALNTY,SALNTY_FLAG_W,CTDOXY,CTDOXY_FLAG_W,OXYGEN,OXYGEN_FLAG_W,SILCAT,SILCAT_FLAG_W,NITRAT,NITRAT_FLAG_W,NITRIT,NITRIT_FLAG_W,PHSPHT,PHSPHT_FLAG_W,CFC-11,CFC-11_FLAG_W,CFC-12,CFC-12_FLAG_W,SF6,SF6_FLAG_W,TCARBN,TCARBN_FLAG_W,ALKALI,ALKALI_FLAG_W,PH_SWS,PH_SWS_FLAG_W,PH_TMP,DELC13,DELC13_FLAG_W,DELC14,DELC14_FLAG_W,C14ERR,CCL4,CCL4_FLAG_W,DOC,DOC_FLAG_W,N2O,N2O_FLAG_W,CALCIUM,CALCIUM_FLAG_W,SAMPNO_U,DNSSAL,DNSSAL_FLAG_W,DNSSAL2,DNSSAL2_FLAG_W,SALNTY_DNSSAL,SALNTY_DNSSAL_FLAG_W,SALNTY_DNSSAL2,SALNTY_DNSSAL2_FLAG_W
,,,,,,,,,,,METERS,DBAR,ITS-90,PSS-78,,PSS-78,,UMOL/KG,,UMOL/KG,,UMOL/KG,,UMOL/KG,,UMOL/KG,,UMOL/KG,,PMOL/KG,,PMOL/KG,,FMOL/KG,,UMOL/KG,,UMOL/KG,,,,DEG C,/MILLE,,/MILLE,,/MILLE,PMOL/KG,,UMOL/KG,,NMOL/KG,,MMOL/KG,,,G/KG,,G/KG,,PSS-78,,PSS-78,
33RO20180423,        I7N,      46,          1,        101,      11010,2,20180510,       2012,   -10.7668,    53.2283,       4669,  4748.4,   1.1097,  34.7085,2,  34.7106,2,    174.4,2, 202.2550,2,    124.4,6,     32.5,6,     0.00,6,    2.257,6,   0.070,2,   0.035,2,        0,2,  2272.4,6,  2376.7,2,   7.6358,4,    25.00, -999.00,9, -999.00,9, -999.00,-999.000,1,  -999.0,9,     -999.0,1,     -999.0,9,          1,     -999.0,9,     -999.0,9,     -999.0,9,     -999.0,9
33RO20180423,        I7N,      46,          1,        102,      11101,2,20180510,       2012,   -10.7668,    53.2283,       4669,  4452.8,   1.0925,  34.7095,2,  34.7128,2,    173.2,2, 200.6880,2,    124.7,6,     32.5,6,     0.00,6,    2.251,6,   0.066,6,   0.034,6,        0,6,  2271.7,2,  2376.2,2,   7.5988,2,    25.00, -999.00,9, -999.00,9, -999.00,-999.000,1,  -999.0,9,     -999.0,1,     -999.0,9,          2,     -999.0,9,     -999.0,9,     -999.0,9,     -999.0,9
33RO20180423,        I7N,      46,          1,        103,      11102,2,20180510,       2012,   -10.7668,    53.2283,       4669,  4199.8,   1.1598,  34.7129,2,  34.7162,2,    169.3,2, 195.9900,2,    125.7,6,     32.7,6,     0.00,6,    2.283,6,   0.052,2,   0.027,2,   0.0066,2,  2274.5,2,  2383.8,2,   7.5984,6,    25.00, -999.00,9, -999.00,9, -999.00,-999.000,1,  -999.0,9,     -999.0,1,     -999.0,9,          3,     -999.0,9,     -999.0,9,     -999.0,9,     -999.0,9
33RO20180423,        I7N,      46,          1,        104,      11103,2,20180510,       2012,   -10.7668,    53.2283,       4669,  3900.2,   1.4057,  34.7224,2,  34.7241,2,    158.1,2, 183.1320,2,    127.2,6,     33.2,6,     0.00,6,    2.318,6,   0.025,2,   0.014,2,        0,2,  2287.3,2,  2390.7,6,   7.5929,2,    25.00, -999.00,9, -999.00,9, -999.00,-999.000,1,  -999.0,9,     -999.0,1,     -999.0,9,          4,     -999.0,9,     -999.0,9,     -999.0,9,     -999.0,9
33RO20180423,        I7N,      46,          1,        105,      11104,2,20180510,       2012,   -10.7668,    53.2283,       4669,  3601.7,   1.6638,  34.7318,2,  34.7430,2,    146.3,2, 169.3910,2,    129.2,6,     33.9,6,     0.00,6,    2.374,6,   0.010,2,   0.006,2,        0,2,  2300.7,2,  2402.1,2,   7.5884,2,    25.00, -999.00,9, -999.00,9, -999.00,-999.000,1,  -999.0,9,     -999.0,1,     -999.0,9,          5,     -999.0,9,     -999.0,9,     -999.0,9,     -999.0,9
33RO20180423,        I7N,      46,          1,        106,      11105,2,20180510,       2012,   -10.7668,    53.2283,       4669,  3301.8,   1.8015,  34.7371,2,  34.7383,2,    140.8,2, 162.2580,2,    128.8,2,     34.1,2,     0.00,2,    2.406,2,   0.009,2,   0.006,2,        0,2,  2303.4,2,  2405.2,2,   7.5839,2,    25.00, -999.00,9, -999.00,9, -999.00,-999.000,1,  -999.0,9,     -999.0,1,     -999.0,9,          6,     -999.0,9,     -999.0,9,     -999.0,9,     -999.0,9
33RO20180423,        I7N,      46,          1,        107,      11106,2,20180510,       2012,   -10.7668,    53.2283,       4669,  3001.2,   1.8671,  34.7400,2,  34.7580,2,    138.8,2, 159.5370,2,    127.9,2,     34.4,2,     0.00,2,    2.396,2,   0.005,2,   0.004,2,        0,2,  -999.0,9,  2404.9,2,   7.5811,2,    25.00, -999.00,9, -999.00,9, -999.00,-999.000,1,  -999.0,9,     -999.0,1,     -999.0,9,          7,     -999.0,9,     -999.0,9,     -999.0,9,     -999.0,9
33RO20180423,        I7N,      46,          1,        108,      11107,2,20180510,       2012,   -10.7668,    53.2283,       4669,  2701.0,   1.9661,  34.7425,2,  34.7620,2,    137.0,2, 156.8160,2,    125.6,2,     34.5,2,     0.00,2,    2.441,2,   0.003,2,   0.002,2,        0,2,  2305.0,2,  2407.0,2,   7.5786,2,    25.00, -999.00,9, -999.00,9, -999.00,-999.000,1,  -999.0,9,     -999.0,1,     -999.0,9,          8,     -999.0,9,     -999.0,9,     -999.0,9,     -999.0,9
33RO20180423,        I7N,      46,          1,        109,      11108,2,20180510,       2012,   -10.7668,    53.2283,       4669,  2399.9,   2.1013,  34.7436,2,  34.7484,6,    135.5,2, 154.1520,2,    122.9,2,     34.4,2,     0.00,2,    2.442,2,-999.000,9,-999.000,9,-999.0000,9,  2303.2,2,  2399.9,2,   7.5750,2,    25.00, -999.00,9, -999.00,9, -999.00,-999.000,9,  -999.0,9,     -999.0,9,     -999.0,9,          9,     -999.0,9,     -999.0,9,     -999.0,9,     -999.0,9
33RO20180423,        I7N,      46,          1,        110,      11109,2,20180510,       2012,   -10.7668,    53.2283,       4669,  2100.1,   2.3785,  34.7398,2,  34.7457,2,    133.6,2, 151.1630,2,    116.7,2,     34.3,2,     0.00,2,    2.437,2,   0.000,4,   0.000,4,        0,4,  2297.4,2,  2392.5,2,   7.5705,2,    25.00, -999.00,9, -999.00,9, -999.00,-999.000,1,  -999.0,9,     -999.0,1,     -999.0,9,         10,     -999.0,9,     -999.0,9,     -999.0,9,     -999.0,9
33RO20180423,        I7N,      46,          1,        111,      11110,2,20180510,       2012,   -10.7668,    53.2283,       4669,  1795.8,   2.8433,  34.7396,2,  34.7750,2,    126.6,2, 142.3510,2,    109.4,2,     34.5,2,     0.00,2,    2.448,2,-999.000,1,-999.000,1,-999.0000,1,  2295.1,6,  2385.2,2,   7.5604,2,    25.00, -999.00,9, -999.00,9, -999.00,-999.000,1,  -999.0,9,     -999.0,1,     -999.0,9,         11,     -999.0,9,     -999.0,9,     -999.0,9,     -999.0,9
33RO20180423,        I7N,      46,          1,        112,      11111,2,20180510,       2012,   -10.7668,    53.2283,       4669,  1552.3,   3.5702,  34.7436,2,  34.7472,2,    114.1,2, 127.5770,2,    101.1,2,     34.8,2,     0.00,2,    2.497,2,   0.038,2,   0.021,2,        0,2,  -999.0,9,  2377.5,6,-999.0000,9,  -999.00, -999.00,9, -999.00,9, -999.00,-999.000,1,  -999.0,9,     -999.0,1,     -999.0,9,         12,     -999.0,9,     -999.0,9,     -999.0,9,     -999.0,9
33RO20180423,        I7N,      46,          1,        113,      11112,2,20180510,       2012,   -10.7668,    53.2283,       4669,  1297.2,   4.7354,  34.7673,2,  34.7738,2,     94.6,2, 105.5990,2,     90.5,2,     35.9,2,     0.00,2,    2.555,2,   0.079,2,   0.043,2,        0,2,  2287.8,2,  2367.7,2,   7.5241,6,    25.00, -999.00,9, -999.00,9, -999.00,-999.000,1,  -999.0,9,     -999.0,1,     -999.0,9,         13,     -999.0,9,     -999.0,9,     -999.0,9,     -999.0,9
33RO20180423,        I7N,      46,          1,        114,      11113,2,20180510,       2012,   -10.7668,    53.2283,       4669,  1100.4,   5.3384,  34.7502,2,  34.7519,2,     95.0,2, 105.0750,2,     79.9,2,     35.0,2,     0.00,2,    2.518,2,   0.192,2,   0.101,2,   0.0287,2,  2275.9,2,  2356.8,2,   7.5273,2,    25.00, -999.00,9, -999.00,9, -999.00,-999.000,1,  -999.0,9,     -999.0,1,     -999.0,9,         14,     -999.0,9,     -999.0,9,     -999.0,9,     -999.0,9
33RO20180423,        I7N,      46,          1,        115,      11114,2,20180510,       2012,   -10.7668,    53.2283,       4669,   900.1,   6.4362,  34.7634,2,  34.7675,2,     93.6,2, 102.4510,2,     65.6,2,     33.8,2,     0.00,2,    2.440,2,   0.457,2,   0.241,2,   0.0841,2,  2262.0,2,  2343.0,2,   7.5358,2,    25.00, -999.00,9, -999.00,9, -999.00,-999.000,1,  -999.0,9,     -999.0,1,     -999.0,9,         15,     -999.0,9,     -999.0,9,     -999.0,9,     -999.0,9
33RO20180423,        I7N,      46,          1,        116,      11115,2,20180510,       2012,   -10.7668,    53.2283,       4669,   750.0,   7.3115,  34.7672,2,  34.7709,2,     96.9,2, 104.8755,2,     53.7,2,     33.3,2,     0.00,2,    2.318,2,   0.750,2,   0.393,2,     0.15,2,  2242.8,2,  2331.2,2,   7.5529,2,    25.00, -999.00,9, -999.00,9, -999.00,-999.000,1,  -999.0,9,     -999.0,1,     -999.0,9,         16,     -999.0,9,     -999.0,9,     -999.0,9,     -999.0,9
33RO20180423,        I7N,      46,          1,        117,      11116,2,20180510,       2012,   -10.7668,    53.2283,       4669,   600.3,   7.7824,  34.6777,2,  34.6809,2,    141.0,2, 152.5350,2,     33.6,2,     27.4,2,     0.00,2,    1.936,2,   1.698,3,   0.891,2,   0.4634,2,  2201.2,2,  2313.0,2,   7.6227,2,    25.00, -999.00,9, -999.00,9, -999.00,-999.000,1,  -999.0,9,     -999.0,1,     -999.0,9,         17,     -999.0,9,     -999.0,9,     -999.0,9,     -999.0,9
33RO20180423,        I7N,      46,          1,        118,      11117,2,20180510,       2012,   -10.7668,    53.2283,       4669,   450.0,   9.3658,  34.7933,2,  34.7994,2,    141.1,2, 151.5640,2,     24.1,2,     24.4,2,     0.00,2,    1.711,2,   2.146,2,   1.143,2,   0.6736,2,  2187.7,2,  2309.6,2,   7.6512,2,    25.00, -999.00,9, -999.00,9, -999.00,-999.000,1,  -999.0,9,     -999.0,1,     -999.0,9,         18,     -999.0,9,     -999.0,9,     -999.0,9,     -999.0,9
33RO20180423,        I7N,      46,          1,        119,      11083,2,20180510,       2012,   -10.7668,    53.2283,       4669,   300.3,  11.1068,  34.9344,2,  34.9396,2,    145.9,2, 156.7760,2,     16.9,2,     20.1,2,     0.00,2,    1.410,2,   2.443,2,   1.356,2,   0.9576,2,  2170.2,2,  2309.5,2,   7.6970,2,    25.00, -999.00,9, -999.00,9, -999.00,-999.000,1,  -999.0,9,     -999.0,1,     -999.0,9,         19,     -999.0,9,     -999.0,9,     -999.0,9,     -999.0,9
33RO20180423,        I7N,      46,          1,        120,      11118,2,20180510,       2012,   -10.7668,    53.2283,       4669,   200.9,  13.2665,  35.1420,2,  35.1469,2,    144.4,2, 154.3910,2,     13.9,2,     15.8,2,     0.01,2,    1.159,2,   2.338,2,   1.349,2,   1.1077,2,  2157.2,2,  2316.9,6,   7.7479,2,    25.00, -999.00,9, -999.00,9, -999.00,-999.000,1,  -999.0,9,     -999.0,1,     -999.0,9,         20,     -999.0,9,     -999.0,9,     -999.0,9,     -999.0,9
33RO20180423,        I7N,      46,          1,        121,      11119,2,20180510,       2012,   -10.7668,    53.2283,       4669,   150.3,  16.4004,  35.4425,2,  35.4565,2,    158.1,2, 175.4080,2,      8.3,2,      9.2,2,     0.01,2,    0.731,2,-999.000,9,-999.000,9,-999.0000,9,  2125.1,2,  2329.8,2,   7.8414,6,    25.00, -999.00,9, -999.00,9, -999.00,-999.000,9,  -999.0,9,     -999.0,9,     -999.0,9,         21,     -999.0,9,     -999.0,9,     -999.0,9,     -999.0,9
33RO20180423,        I7N,      46,          1,        122,      11120,2,20180510,       2012,   -10.7668,    53.2283,       4669,    99.1,  19.3573,  35.3515,2,  35.3558,2,    136.6,2, 145.4350,2,      8.7,2,      9.2,2,     0.09,2,    0.711,2,   1.910,2,   1.178,2,   1.2894,2,  2104.5,2,  2320.5,2,   7.8660,2,    25.00, -999.00,9, -999.00,9, -999.00,-999.000,1,  -999.0,9,     -999.0,1,     -999.0,9,         22,     -999.0,9,     -999.0,9,     -999.0,9,     -999.0,9
33RO20180423,        I7N,      46,          1,        123,      11121,2,20180510,       2012,   -10.7668,    53.2283,       4669,    50.0,  25.4772,  35.0089,2,  35.0168,2,    191.5,2, 201.5950,2,      2.7,2,      0.2,2,     0.00,2,    0.166,2,   1.652,2,   1.044,2,   1.4105,2,  1996.1,2,  2297.8,2,   8.0361,2,    25.00, -999.00,9, -999.00,9, -999.00,-999.000,1,  -999.0,9,     -999.0,1,     -999.0,9,         23,     -999.0,9,     -999.0,9,     -999.0,9,     -999.0,9
33RO20180423,        I7N,      46,          1,        124,      11122,2,20180510,       2012,   -10.7668,    53.2283,       4669,     3.1,  27.9762,  34.8172,2,  34.8203,2,    188.1,2, 197.7390,2,      2.0,2,      0.2,2,     0.00,2,    0.110,2,   1.452,2,   0.930,2,   1.3954,2,  1961.4,6,  2280.3,2,   8.0731,2,    25.00, -999.00,9, -999.00,9, -999.00,-999.000,1,  -999.0,9,     -999.0,1,     -999.0,9,         24,     -999.0,9,     -999.0,9,     -999.0,9,     -999.0,9