BOTTLE,20230801CCHSIOCBG
EXPOCODE,SECT_ID,STNNBR,CASTNO,SAMPNO,BTLNBR,BTLNBR_FLAG_W,DATE,TIME,LATITUDE,LONGITUDE,DEPTH,CTDPRS,CTDTMP,CTDSAL,CTDSAL_FLAG_W,SALNTY,SALNTY_FLAG_W,CTDOXY,CTDOXY_FLAG_W,OXYGEN,OXYGEN_FLAG_W,SILCAT,SILCAT_FLAG_W,NITRAT,NITRAT_FLAG_W,NITRIT,NITRIT_FLAG_W,PHSPHT,PHSPHT_FLAG_W,CFC-11,CFC-11_FLAG_W,CFC-12,CFC-12_FLAG_W,SF6,SF6_FLAG_W,TCARBN,TCARBN_FLAG_W,ALKALI,ALKALI_FLAG_W,PH_SWS,PH_SWS_FLAG_W,PH_TMP,DELC13,DELC13_FLAG_W,DELC14,DELC14_FLAG_W,C14ERR,CCL4,CCL4_FLAG_W,DOC,DOC_FLAG_W,N2O,N2O_FLAG_W,CALCIUM,CALCIUM_FLAG_W,SAMPNO_U,DNSSAL,DNSSAL_FLAG_W,DNSSAL2,DNSSAL2_FLAG_W,SALNTY_DNSSAL,SALNTY_DNSSAL_FLAG_W,SALNTY_DNSSAL2,SALNTY_DNSSAL2_FLAG_W
,,,,,,,,,,,METERS,DBAR,ITS-90,PSS-78,,PSS-78,,UMOL/KG,,UMOL/KG,,UMOL/KG,,UMOL/KG,,UMOL/KG,,UMOL/KG,,PMOL/KG,,PMOL/KG,,FMOL/KG,,UMOL/KG,,UMOL/KG,,,,DEG C,/MILLE,,/MILLE,,/MILLE,PMOL/KG,,UMOL/KG,,NMOL/KG,,MMOL/KG,,,G/KG,,G/KG,,PSS-78,,PSS-78,
33RO20180423,        I7N,     101,          1,        101,      11010,2,20180529,       0054,     9.5970,    64.2960,       4454,  4519.8,   1.6363,  34.7298,2,  34.7402,6,    141.7,2, 163.6240,2,    136.6,6,     34.7,6,     0.01,6,    2.426,6,   0.010,2,   0.005,2,        0,2,  2314.6,2,  2424.8,2,   7.5965,6,    25.00, -999.00,9, -999.00,9, -999.00,-999.000,1,  -999.0,9,     -999.0,1,     -999.0,9,          1,     -999.0,9,     -999.0,9,     -999.0,9,     -999.0,9
33RO20180423,        I7N,     101,          1,        102,      11101,2,20180529,       0054,     9.5970,    64.2960,       4454,  4257.3,   1.6601,  34.7324,2,  34.7370,2,    138.3,2, 160.0640,2,    137.4,6,     35.0,6,     0.01,6,    2.447,6,-999.000,9,-999.000,9,-999.0000,9,  2316.0,6,  2423.9,2,   7.5907,2,    25.00, -999.00,9, -999.00,9, -999.00,-999.000,9,  -999.0,9,     -999.0,9,     -999.0,9,          2,     -999.0,9,     -999.0,9,     -999.0,9,     -999.0,9
33RO20180423,        I7N,     101,          1,        103,      11102,2,20180529,       0054,     9.5970,    64.2960,       4454,  4000.6,   1.6785,  34.7344,2,  34.7344,2,    136.2,2, 157.6815,2,    137.1,6,     35.0,6,     0.01,6,    2.458,6,   0.004,2,   0.003,2,        0,2,  2315.4,2,  2425.0,2,   7.5890,2,    25.00, -999.00,9, -999.00,9, -999.00,-999.000,1,  -999.0,9,     -999.0,1,     -999.0,9,          3,     -999.0,9,     -999.0,9,     -999.0,9,     -999.0,9
33RO20180423,        I7N,     101,          1,        104,      11103,2,20180529,       0054,     9.5970,    64.2960,       4454,  3701.1,   1.6953,  34.7364,2,  34.7384,2,    134.8,2, 156.0430,2,    137.1,6,     35.1,6,     0.01,6,    2.464,6,-999.000,9,-999.000,9,-999.0000,9,  2315.4,2,  2422.9,6,   7.5864,2,    25.00, -999.00,9, -999.00,9, -999.00,-999.000,9,  -999.0,9,     -999.0,9,     -999.0,9,          4,     -999.0,9,     -999.0,9,     -999.0,9,     -999.0,9
33RO20180423,        I7N,     101,          1,        105,      11104,2,20180529,       0054,     9.5970,    64.2960,       4454,  3381.7,   1.7261,  34.7389,2,  34.7403,6,    133.7,2, 154.3450,2,    136.1,2,     35.1,2,     0.01,2,    2.471,2,-999.000,9,-999.000,9,-999.0000,9,  2315.9,2,  2419.7,2,   7.5828,2,    25.00, -999.00,9, -999.00,9, -999.00,-999.000,9,    41.9,3,     -999.0,9,     -999.0,9,          5,     -999.0,9,     -999.0,9,     -999.0,9,     -999.0,9
33RO20180423,        I7N,     101,          1,        106,      11105,2,20180529,       0054,     9.5970,    64.2960,       4454,  3099.9,   1.7794,  34.7427,2,  34.7393,2,    130.6,2, 150.3520,2,    136.2,2,     35.3,2,     0.01,2,    2.483,2,   0.003,2,   0.004,2,        0,2,  2317.5,2,  2419.4,2,   7.5764,2,    25.00, -999.00,9, -999.00,9, -999.00,-999.000,1,    45.9,3,     -999.0,1,     -999.0,9,          6,     -999.0,9,     -999.0,9,     -999.0,9,     -999.0,9
33RO20180423,        I7N,     101,          1,        107,      11106,2,20180529,       0054,     9.5970,    64.2960,       4454,  2801.1,   1.8902,  34.7491,2,  34.7559,2,    128.0,2, 146.8570,2,    135.4,2,     35.4,2,     0.01,2,    2.493,2,-999.000,9,-999.000,9,-999.0000,9,  2319.3,2,  2421.1,2,   7.5734,2,    25.00, -999.00,9, -999.00,9, -999.00,-999.000,9,    43.9,3,     -999.0,9,     -999.0,9,          7,     -999.0,9,     -999.0,9,     -999.0,9,     -999.0,9
33RO20180423,        I7N,     101,          1,        108,      11107,2,20180529,       0054,     9.5970,    64.2960,       4454,  2502.3,   2.0835,  34.7611,2,  34.7726,2,    121.5,2, 138.6280,2,    134.5,2,     35.7,2,     0.01,2,    2.538,2,-999.000,9,-999.000,9,-999.0000,9,  2321.8,2,  2420.0,2,   7.5594,2,    25.00, -999.00,9, -999.00,9, -999.00,-999.000,9,    46.4,3,     -999.0,9,     -999.0,9,          8,     -999.0,9,     -999.0,9,     -999.0,9,     -999.0,9
33RO20180423,        I7N,     101,          1,        109,      11108,2,20180529,       0054,     9.5970,    64.2960,       4454,  2199.9,   2.3870,  34.7768,2,  34.7993,2,    115.1,2, 130.5030,2,    130.4,2,     35.9,2,     0.01,2,    2.570,2,-999.000,9,-999.000,9,-999.0000,9,  2322.7,2,  2415.8,2,   7.5480,2,    25.00, -999.00,9, -999.00,9, -999.00,-999.000,9,  -999.0,9,     -999.0,9,     -999.0,9,          9,     -999.0,9,     -999.0,9,     -999.0,9,     -999.0,9
33RO20180423,        I7N,     101,          1,        110,      11109,2,20180529,       0054,     9.5970,    64.2960,       4454,  1883.5,   3.0444,  34.8148,2,  34.8201,2,     96.5,2, 109.0600,2,    124.7,2,     36.7,2,     0.01,2,    2.668,2,-999.000,9,-999.000,9,-999.0000,9,  2325.0,2,  2406.7,2,   7.5234,2,    25.00, -999.00,9, -999.00,9, -999.00,-999.000,9,  -999.0,9,     -999.0,9,     -999.0,9,         10,     -999.0,9,     -999.0,9,     -999.0,9,     -999.0,9
33RO20180423,        I7N,     101,          1,        111,      11110,2,20180529,       0054,     9.5970,    64.2960,       4454,  1633.2,   3.9207,  34.8731,2,  34.8852,2,     75.0,2,  85.3010,2,    116.9,2,     37.5,2,     0.01,2,    2.763,2,   0.004,6,   0.004,6,   0.0034,6,  2329.5,2,  2399.9,2,   7.4953,2,    25.00, -999.00,9, -999.00,9, -999.00,-999.000,1,  -999.0,9,     -999.0,1,     -999.0,9,         11,     -999.0,9,     -999.0,9,     -999.0,9,     -999.0,9
33RO20180423,        I7N,     101,          1,        112,      11111,2,20180529,       0054,     9.5970,    64.2960,       4454,  1362.6,   5.4810,  34.9937,2,  35.0027,2,     46.5,2,  52.4100,2,    100.9,2,     38.2,2,     0.01,2,    2.869,2,   0.008,2,   0.006,2,    0.003,2,  2325.6,2,  2389.0,2,   7.4636,6,    25.00, -999.00,9, -999.00,9, -999.00,-999.000,1,    47.3,3,     -999.0,1,     -999.0,9,         12,     -999.0,9,     -999.0,9,     -999.0,9,     -999.0,9
33RO20180423,        I7N,     101,          1,        113,      11112,2,20180529,       0054,     9.5970,    64.2960,       4454,  1169.1,   6.9691,  35.1378,2,  35.1438,2,     27.9,2,  31.8900,2,     86.6,2,     38.0,2,     0.01,2,    2.879,2,   0.030,2,   0.020,2,   0.0116,2,  2316.8,6,  2373.4,2,   7.4504,2,    25.00, -999.00,9, -999.00,9, -999.00,-999.000,1,    46.6,3,     -999.0,1,     -999.0,9,         13,     -999.0,9,     -999.0,9,     -999.0,9,     -999.0,9
33RO20180423,        I7N,     101,          1,        114,      11113,2,20180529,       0054,     9.5970,    64.2960,       4454,   950.6,   8.7509,  35.2943,2,  35.2963,2,     13.8,2,  16.4240,2,     70.2,2,     36.8,2,     0.01,2,    2.815,2,   0.084,2,   0.053,2,   0.0001,2,  2303.1,2,  2360.9,6,   7.4499,2,    25.00, -999.00,9, -999.00,9, -999.00,-999.000,1,    46.1,3,     -999.0,1,     -999.0,9,         14,     -999.0,9,     -999.0,9,     -999.0,9,     -999.0,9
33RO20180423,        I7N,     101,          1,        115,      11114,2,20180529,       0054,     9.5970,    64.2960,       4454,   734.7,  10.3611,  35.3931,2,  35.3993,2,      8.6,2,  11.1960,2,     53.2,2,     34.4,2,     0.02,2,    2.693,2,   0.220,2,   0.139,2,   0.1378,2,  2285.6,2,  2346.0,2,   7.4590,2,    25.00, -999.00,9, -999.00,9, -999.00,-999.000,1,    47.4,3,     -999.0,1,     -999.0,9,         15,     -999.0,9,     -999.0,9,     -999.0,9,     -999.0,9
33RO20180423,        I7N,     101,          1,        116,      11115,2,20180529,       0054,     9.5970,    64.2960,       4454,   600.9,  11.2040,  35.4018,2,  35.3119,2,     10.9,2,  13.3760,2,     43.0,2,     33.0,2,     0.01,2,    2.569,2,   0.441,2,   0.262,2,   0.1248,2,  2274.7,2,  2340.7,2,   7.4675,2,    25.00, -999.00,9, -999.00,9, -999.00,-999.000,1,  -999.0,9,     -999.0,1,     -999.0,9,         16,     -999.0,9,     -999.0,9,     -999.0,9,     -999.0,9
33RO20180423,        I7N,     101,          1,        117,      11116,2,20180529,       0054,     9.5970,    64.2960,       4454,   482.8,  11.6101,  35.3126,2,  35.3117,2,     26.1,2,  29.3250,2,     33.7,2,     31.6,2,     0.01,2,    2.332,2,   0.948,2,   0.532,2,   0.2478,2,  2256.6,2,  2330.3,2,   7.4895,2,    25.00, -999.00,9, -999.00,9, -999.00,-999.000,1,    50.8,3,     -999.0,1,     -999.0,9,         17,     -999.0,9,     -999.0,9,     -999.0,9,     -999.0,9
33RO20180423,        I7N,     101,          1,        118,      11117,2,20180529,       0054,     9.5970,    64.2960,       4454,   381.5,  12.2463,  35.2584,2,  35.2609,2,     43.6,2,  48.1800,2,     26.4,2,     28.9,2,     0.01,2,    2.097,2,   1.469,2,   0.819,2,   0.4428,2,  2237.2,2,  2323.8,2,   7.5292,3,    25.00, -999.00,9, -999.00,9, -999.00,-999.000,1,    48.5,3,     -999.0,1,     -999.0,9,         18,     -999.0,9,     -999.0,9,     -999.0,9,     -999.0,9
33RO20180423,        I7N,     101,          1,        119,      11083,2,20180529,       0054,     9.5970,    64.2960,       4454,   300.8,  13.2634,  35.2462,2,  35.2469,2,     40.0,2,  43.3610,2,     23.3,2,     27.9,2,     0.01,2,    2.022,2,   1.576,2,   0.894,2,   0.4743,2,  2230.9,2,  2320.4,2,   7.5383,3,    25.00, -999.00,9, -999.00,9, -999.00,-999.000,1,  -999.0,9,     -999.0,1,     -999.0,9,         19,     -999.0,9,     -999.0,9,     -999.0,9,     -999.0,9
33RO20180423,        I7N,     101,          1,        120,      11118,2,20180529,       0054,     9.5970,    64.2960,       4454,   250.8,  14.0519,  35.2590,2,  35.2691,2,     28.6,2,  32.3970,2,     22.9,2,     27.9,2,     0.01,2,    2.074,2,   1.498,2,   0.865,2,    0.514,2,  2233.4,2,  2321.2,2,   7.5325,2,    25.00, -999.00,9, -999.00,9, -999.00,-999.000,1,  -999.0,9,     -999.0,1,     -999.0,9,         20,     -999.0,9,     -999.0,9,     -999.0,9,     -999.0,9
33RO20180423,        I7N,     101,          1,        121,      11119,2,20180529,       0054,     9.5970,    64.2960,       4454,   194.4,  16.9473,  35.4408,2,  35.4491,2,     16.1,2,  18.1540,2,     19.5,2,     26.3,2,     0.01,2,    2.083,2,   1.446,2,   0.894,2,   0.6642,2,  2227.8,2,  2325.3,6,   7.5620,2,    25.00, -999.00,9, -999.00,9, -999.00,-999.000,1,    50.9,3,     -999.0,1,     -999.0,9,         21,     -999.0,9,     -999.0,9,     -999.0,9,     -999.0,9
33RO20180423,        I7N,     101,          1,        122,      11120,2,20180529,       0054,     9.5970,    64.2960,       4454,   115.1,  25.5672,  36.3541,2,  36.3230,2,    152.2,2, 154.0590,2,      3.5,2,      7.8,2,     0.06,2,    0.767,2,   1.577,2,   0.989,2,   1.3733,2,  2095.4,2,  2367.8,2,   7.9550,6,    25.00, -999.00,9, -999.00,9, -999.00,-999.000,1,    64.7,3,     -999.0,1,     -999.0,9,         22,     -999.0,9,     -999.0,9,     -999.0,9,     -999.0,9
33RO20180423,        I7N,     101,          1,        123,      11121,2,20180529,       0054,     9.5970,    64.2960,       4454,    84.0,  27.8159,  36.3098,2,  36.3183,2,    195.5,2, 204.7320,2,      1.3,2,      0.2,2,     0.03,2,    0.263,2,   1.552,2,   0.971,2,   1.3949,2,  2040.7,2,  2372.0,2,   8.0576,2,    25.00, -999.00,9, -999.00,9, -999.00,-999.000,1,    74.9,3,     -999.0,1,     -999.0,9,         23,     -999.0,9,     -999.0,9,     -999.0,9,     -999.0,9
33RO20180423,        I7N,     101,          1,        124,      11122,2,20180529,       0054,     9.5970,    64.2960,       4454,     4.3,  30.3492,  35.2194,2,  35.2216,2,    183.0,2, 191.9480,2,      1.5,2,      0.0,2,     0.01,2,    0.110,2,   1.342,2,   0.866,2,   1.3478,2,  1972.5,6,  2308.8,2,   8.0880,2,    25.00, -999.00,9, -999.00,9, -999.00,-999.000,1,    79.8,3,     -999.0,1,     -999.0,9,         24,     -999.0,9,     -999.0,9,     -999.0,9,     -999.0,9