BOTTLE,20230801CCHSIOCBG
EXPOCODE,SECT_ID,STNNBR,CASTNO,SAMPNO,BTLNBR,BTLNBR_FLAG_W,DATE,TIME,LATITUDE,LONGITUDE,DEPTH,CTDPRS,CTDTMP,CTDSAL,CTDSAL_FLAG_W,SALNTY,SALNTY_FLAG_W,CTDOXY,CTDOXY_FLAG_W,OXYGEN,OXYGEN_FLAG_W,SILCAT,SILCAT_FLAG_W,NITRAT,NITRAT_FLAG_W,NITRIT,NITRIT_FLAG_W,PHSPHT,PHSPHT_FLAG_W,CFC-11,CFC-11_FLAG_W,CFC-12,CFC-12_FLAG_W,SF6,SF6_FLAG_W,TCARBN,TCARBN_FLAG_W,ALKALI,ALKALI_FLAG_W,PH_SWS,PH_SWS_FLAG_W,PH_TMP,DELC13,DELC13_FLAG_W,DELC14,DELC14_FLAG_W,C14ERR,CCL4,CCL4_FLAG_W,DOC,DOC_FLAG_W,N2O,N2O_FLAG_W,CALCIUM,CALCIUM_FLAG_W,SAMPNO_U,DNSSAL,DNSSAL_FLAG_W,DNSSAL2,DNSSAL2_FLAG_W,SALNTY_DNSSAL,SALNTY_DNSSAL_FLAG_W,SALNTY_DNSSAL2,SALNTY_DNSSAL2_FLAG_W
,,,,,,,,,,,METERS,DBAR,ITS-90,PSS-78,,PSS-78,,UMOL/KG,,UMOL/KG,,UMOL/KG,,UMOL/KG,,UMOL/KG,,UMOL/KG,,PMOL/KG,,PMOL/KG,,FMOL/KG,,UMOL/KG,,UMOL/KG,,,,DEG C,/MILLE,,/MILLE,,/MILLE,PMOL/KG,,UMOL/KG,,NMOL/KG,,MMOL/KG,,,G/KG,,G/KG,,PSS-78,,PSS-78,
33RO20180423,        I7N,     107,          1,        101,      11010,2,20180530,       1551,    12.6752,    64.6662,       4162,  4210.9,   1.7067,  34.7339,2,  34.7346,2,    127.2,2, 146.4360,2,    144.0,6,     35.9,6,     0.00,6,    2.490,6,   0.010,2,   0.006,2,   0.0004,2,  2341.3,6,  2451.8,2,   7.5961,6,    25.00,    0.16,2, -185.00,2,    1.72,-999.000,1,    38.9,3,     -999.0,1,     -999.0,9,          1,     -999.0,9,     -999.0,9,     -999.0,9,     -999.0,9
33RO20180423,        I7N,     107,          1,        102,      11101,2,20180530,       1551,    12.6752,    64.6662,       4162,  3959.8,   1.6989,  34.7348,2,  34.7249,2,    129.4,2, 148.5700,2,    142.7,6,     35.8,6,     0.00,6,    2.488,6,-999.000,9,-999.000,9,-999.0000,9,  2331.8,2,  2438.4,6,   7.5895,2,    25.00,    0.22,2, -192.00,2,    1.61,-999.000,9,    40.8,3,     -999.0,9,     -999.0,9,          2,     -999.0,9,     -999.0,9,     -999.0,9,     -999.0,9
33RO20180423,        I7N,     107,          1,        103,      11102,2,20180530,       1551,    12.6752,    64.6662,       4162,  3700.4,   1.6989,  34.7366,2,  34.7510,2,    134.6,2, 155.3120,2,    139.7,6,     35.2,6,     0.00,6,    2.465,6,   0.001,2,   0.002,2,   0.0026,2,  2319.4,2,  2425.0,2,   7.5853,2,    25.00,    0.23,2, -190.00,2,    1.62,-999.000,1,  -999.0,9,     -999.0,1,     -999.0,9,          3,     -999.0,9,     -999.0,9,     -999.0,9,     -999.0,9
33RO20180423,        I7N,     107,          1,        104,      11103,2,20180530,       1551,    12.6752,    64.6662,       4162,  3400.6,   1.7163,  34.7386,2,  34.7390,2,    129.0,2, 148.2830,2,    141.9,6,     35.7,6,     0.00,6,    2.496,6,-999.000,9,-999.000,9,-999.0000,9,  2324.3,2,  2426.9,2,   7.5780,2,    25.00,    0.23,6, -196.00,6,    2.04,-999.000,9,  -999.0,9,     -999.0,9,     -999.0,9,          4,     -999.0,9,     -999.0,9,     -999.0,9,     -999.0,9
33RO20180423,        I7N,     107,          1,        105,      11104,2,20180530,       1551,    12.6752,    64.6662,       4162,  3100.8,   1.7635,  34.7424,2,  34.7595,2,    121.3,2, 139.3000,2,    143.9,2,     36.2,2,     0.00,2,    2.541,2,   0.004,2,   0.005,2,   0.0038,2,  2334.6,2,  2432.1,2,   7.5673,2,    25.00,    0.20,2, -194.00,2,    1.61,-999.000,1,  -999.0,9,     -999.0,1,     -999.0,9,          5,     -999.0,9,     -999.0,9,     -999.0,9,     -999.0,9
33RO20180423,        I7N,     107,          1,        106,      11105,2,20180530,       1551,    12.6752,    64.6662,       4162,  2801.0,   1.8842,  34.7507,2,  34.7549,2,    114.4,2, 130.9980,2,    143.9,2,     36.5,2,     0.00,2,    2.582,2,-999.000,9,-999.000,9,-999.0000,9,  2339.2,2,  2432.7,2,   7.5559,2,    25.00,    0.17,2, -197.00,2,    1.61,-999.000,9,    44.4,3,     -999.0,9,     -999.0,9,          6,     -999.0,9,     -999.0,9,     -999.0,9,     -999.0,9
33RO20180423,        I7N,     107,          1,        107,      11106,2,20180530,       1551,    12.6752,    64.6662,       4162,  2501.2,   2.1267,  34.7664,2,  34.7679,2,    109.5,2, 124.5420,2,    140.9,2,     36.6,2,     0.00,2,    2.604,2,   0.001,2,   0.002,2,   0.0042,2,  2338.6,2,  2428.6,2,   7.5454,2,    25.00,    0.19,2, -192.00,2,    1.70,-999.000,1,    44.6,3,     -999.0,1,     -999.0,9,          7,     -999.0,9,     -999.0,9,     -999.0,9,     -999.0,9
33RO20180423,        I7N,     107,          1,        108,      11107,2,20180530,       1551,    12.6752,    64.6662,       4162,  2200.5,   2.4992,  34.7905,2,  34.7952,2,    102.2,2, 125.0680,4,    136.6,2,     36.8,2,     0.00,2,    2.645,2,-999.000,9,-999.000,9,-999.0000,9,  2336.0,2,  2423.2,2,   7.5339,2,    25.00,    0.14,2, -195.00,2,    1.71,-999.000,9,  -999.0,9,     -999.0,9,     -999.0,9,          8,     -999.0,9,     -999.0,9,     -999.0,9,     -999.0,9
33RO20180423,        I7N,     107,          1,        109,      11108,2,20180530,       1551,    12.6752,    64.6662,       4162,  1883.8,   3.3254,  34.8511,2,  34.8536,2,     80.3,2,  90.8370,2,    128.9,2,     37.8,2,     0.00,2,    2.777,2,   0.003,2,   0.004,2,        0,2,  2338.6,2,  2415.0,2,   7.5014,2,    25.00,    0.05,2, -192.00,2,    1.92,-999.000,1,  -999.0,9,     -999.0,1,     -999.0,9,          9,     -999.0,9,     -999.0,9,     -999.0,9,     -999.0,9
33RO20180423,        I7N,     107,          1,        110,      11109,2,20180530,       1551,    12.6752,    64.6662,       4162,  1633.0,   4.3795,  34.9312,2,  34.9492,2,     61.8,2,  69.8670,2,    116.5,2,     38.2,2,     0.00,2,    2.853,2,-999.000,9,-999.000,9,-999.0000,9,  2335.8,2,  2400.6,6,   7.4778,2,    25.00,    0.09,2, -179.00,2,    1.95,-999.000,9,  -999.0,9,     -999.0,9,     -999.0,9,         10,     -999.0,9,     -999.0,9,     -999.0,9,     -999.0,9
33RO20180423,        I7N,     107,          1,        111,      11110,2,20180530,       1551,    12.6752,    64.6662,       4162,  1367.4,   5.7568,  35.0366,2,  35.0399,2,     40.7,2,  46.9550,2,    100.5,2,     38.4,2,     0.00,2,    2.891,2,   0.014,2,   0.010,2,   0.0052,2,  2326.8,2,  2384.8,2,   7.4587,6,    25.00,    0.08,2, -166.00,2,    1.77,-999.000,1,    47.0,3,     -999.0,1,     -999.0,9,         11,     -999.0,9,     -999.0,9,     -999.0,9,     -999.0,9
33RO20180423,        I7N,     107,          1,        112,      11111,2,20180530,       1551,    12.6752,    64.6662,       4162,  1167.0,   7.1168,  35.1696,2,  35.1949,2,     24.2,2,  28.3070,2,     87.1,2,     38.1,2,     0.00,2,    2.906,2,-999.000,9,-999.000,9,-999.0000,9,  2319.3,6,  2374.2,2,   7.4464,2,    25.00,    0.06,2, -152.00,2,    1.82,-999.000,9,  -999.0,9,     -999.0,9,     -999.0,9,         12,     -999.0,9,     -999.0,9,     -999.0,9,     -999.0,9
33RO20180423,        I7N,     107,          1,        113,      11112,2,20180530,       1551,    12.6752,    64.6662,       4162,   951.6,   8.5805,  35.3169,2,  35.3196,2,     11.3,2,  14.4610,2,     73.9,2,     37.1,2,     0.00,2,    2.853,2,   0.072,6,   0.045,6,   0.0119,6,  2310.6,2,  2366.6,2,   7.4464,2,    25.00,   -0.02,2, -136.00,2,    2.26,-999.000,1,  -999.0,9,     -999.0,1,     -999.0,9,         13,     -999.0,9,     -999.0,9,     -999.0,9,     -999.0,9
33RO20180423,        I7N,     107,          1,        114,      11113,2,20180530,       1551,    12.6752,    64.6662,       4162,   800.3,   9.8516,  35.4430,2,  35.4556,2,      4.8,2,   7.4830,2,     62.9,2,     35.6,2,     0.00,2,    2.786,2,-999.000,9,-999.000,9,-999.0000,9,  2301.4,2,  2359.0,2,   7.4528,2,    25.00,   -0.04,2, -117.00,2,    2.02,-999.000,9,    50.9,3,     -999.0,9,     -999.0,9,         14,     -999.0,9,     -999.0,9,     -999.0,9,     -999.0,9
33RO20180423,        I7N,     107,          1,        115,      11114,2,20180530,       1551,    12.6752,    64.6662,       4162,   651.5,  10.7584,  35.4779,2,  35.4868,2,      4.3,2,   8.2380,2,     52.3,2,     33.7,2,     0.01,2,    2.705,2,   0.217,2,   0.134,2,   0.0355,2,  2289.1,2,  2351.1,2,   7.4611,2,    25.00,    0.01,2,  -96.30,2,    1.96,-999.000,1,  -999.0,9,     -999.0,1,     -999.0,9,         15,     -999.0,9,     -999.0,9,     -999.0,9,     -999.0,9
33RO20180423,        I7N,     107,          1,        116,      11115,2,20180530,       1551,    12.6752,    64.6662,       4162,   483.8,  11.7081,  35.4777,2,  35.4828,2,      3.1,2,   6.0470,2,     40.8,2,     32.1,2,     0.00,2,    2.587,2,-999.000,9,-999.000,9,-999.0000,9,  2278.4,2,  2337.3,2,   7.4610,2,    25.00,   -0.05,2,  -63.50,2,    2.01,-999.000,9,    59.6,3,     -999.0,9,     -999.0,9,         16,     -999.0,9,     -999.0,9,     -999.0,9,     -999.0,9
33RO20180423,        I7N,     107,          1,        117,      11116,2,20180530,       1551,    12.6752,    64.6662,       4162,   375.2,  12.4721,  35.4737,2,  35.4750,6,      1.7,2,   4.3585,2,     33.5,2,     31.1,2,     0.01,2,    2.483,2,   0.757,2,   0.456,2,   0.1783,2,  2277.4,2,  2329.8,2,   7.4547,2,    25.00,    0.03,2,  -35.40,2,    2.38,-999.000,1,  -999.0,9,     -999.0,1,     -999.0,9,         17,     -999.0,9,     -999.0,9,     -999.0,9,     -999.0,9
33RO20180423,        I7N,     107,          1,        118,      11117,2,20180530,       1551,    12.6752,    64.6662,       4162,   301.0,  13.6035,  35.5686,2,  35.5700,2,      0.2,2,   2.0505,2,     29.1,2,     28.2,2,     0.01,2,    2.401,2,   0.985,2,   0.611,2,   0.3029,2,  2274.5,2,  2332.6,2,   7.4600,2,    25.00,   -0.08,2,  -18.10,2,    2.03,-999.000,1,  -999.0,9,     -999.0,1,     -999.0,9,         18,     -999.0,9,     -999.0,9,     -999.0,9,     -999.0,9
33RO20180423,        I7N,     107,          1,        119,      11083,2,20180530,       1551,    12.6752,    64.6662,       4162,   213.9,  16.1613,  35.6878,2,  35.6875,2,      0.2,2,   2.7105,2,     25.0,2,     17.8,2,     3.16,2,    2.367,2,   0.981,2,   0.723,2,   0.4283,2,  2267.6,2,  2342.3,2,   7.5028,2,    25.00,   -0.21,2,   -2.58,2,    1.95,-999.000,1,    53.6,3,     -999.0,1,     -999.0,9,         19,     -999.0,9,     -999.0,9,     -999.0,9,     -999.0,9
33RO20180423,        I7N,     107,          1,        120,      11118,2,20180530,       1551,    12.6752,    64.6662,       4162,   174.0,  19.0753,  35.7811,2,  35.7726,2,      0.2,2,   2.0310,2,     18.0,2,     22.3,2,     1.71,2,    2.244,2,   1.283,2,   0.902,2,   0.7726,2,  2242.8,2,  2341.4,2,   7.5680,2,    25.00,   -0.32,2,    4.55,2,    1.96,-999.000,1,    65.3,3,     -999.0,1,     -999.0,9,         20,     -999.0,9,     -999.0,9,     -999.0,9,     -999.0,9
33RO20180423,        I7N,     107,          1,        121,      11119,2,20180530,       1551,    12.6752,    64.6662,       4162,   133.5,  22.7759,  36.2219,2,  36.2218,2,     39.3,2,  42.9870,2,      8.4,2,     22.3,2,     0.02,2,    1.723,2,   1.533,2,   0.984,2,   1.2063,2,  2198.8,6,  2360.7,2,   7.7232,2,    25.00,   -0.23,2,   10.30,2,    1.97,-999.000,1,    65.1,3,     -999.0,1,     -999.0,9,         21,     -999.0,9,     -999.0,9,     -999.0,9,     -999.0,9
33RO20180423,        I7N,     107,          1,        122,      11120,2,20180530,       1551,    12.6752,    64.6662,       4162,    74.1,  27.4331,  36.4613,2,  36.4606,2,    199.8,2, 208.6620,2,      0.6,2,      0.1,2,     0.00,2,    0.253,2,   1.556,2,   0.973,2,   1.4188,2,  2043.8,2,  2380.9,2,   8.0636,2,    25.00,    1.13,2,   15.70,2,    2.44,-999.000,1,   100.6,3,     -999.0,1,     -999.0,9,         22,     -999.0,9,     -999.0,9,     -999.0,9,     -999.0,9
33RO20180423,        I7N,     107,          1,        123,      11121,2,20180530,       1551,    12.6752,    64.6662,       4162,    52.6,  28.8277,  36.3664,2,  36.3754,2,    200.4,2, 209.3740,2,      0.5,2,      0.0,2,     0.00,2,    0.191,2,   1.508,2,   0.946,2,   1.4072,2,  2030.4,2,  2377.8,6,   8.0836,2,    25.00,    1.24,2,   16.30,2,    1.99,-999.000,1,    99.4,3,     -999.0,1,     -999.0,9,         23,     -999.0,9,     -999.0,9,     -999.0,9,     -999.0,9
33RO20180423,        I7N,     107,          1,        124,      11122,2,20180530,       1551,    12.6752,    64.6662,       4162,     4.9,  30.0496,  35.6959,2,  35.6996,2,    184.4,2, 192.1890,2,      0.9,2,      0.0,2,     0.00,2,    0.146,2,   1.314,2,   0.869,2,   1.2482,2,  1997.1,2,  2337.7,4,   8.0870,6,    25.00,    1.18,2,   16.20,2,    1.99,-999.000,1,    73.1,3,     -999.0,1,     -999.0,9,         24,     -999.0,9,     -999.0,9,     -999.0,9,     -999.0,9