BOTTLE,20230801CCHSIOCBG
EXPOCODE,SECT_ID,STNNBR,CASTNO,SAMPNO,BTLNBR,BTLNBR_FLAG_W,DATE,TIME,LATITUDE,LONGITUDE,DEPTH,CTDPRS,CTDTMP,CTDSAL,CTDSAL_FLAG_W,SALNTY,SALNTY_FLAG_W,CTDOXY,CTDOXY_FLAG_W,OXYGEN,OXYGEN_FLAG_W,SILCAT,SILCAT_FLAG_W,NITRAT,NITRAT_FLAG_W,NITRIT,NITRIT_FLAG_W,PHSPHT,PHSPHT_FLAG_W,CFC-11,CFC-11_FLAG_W,CFC-12,CFC-12_FLAG_W,SF6,SF6_FLAG_W,TCARBN,TCARBN_FLAG_W,ALKALI,ALKALI_FLAG_W,PH_SWS,PH_SWS_FLAG_W,PH_TMP,DELC13,DELC13_FLAG_W,DELC14,DELC14_FLAG_W,C14ERR,CCL4,CCL4_FLAG_W,DOC,DOC_FLAG_W,N2O,N2O_FLAG_W,CALCIUM,CALCIUM_FLAG_W,SAMPNO_U,DNSSAL,DNSSAL_FLAG_W,DNSSAL2,DNSSAL2_FLAG_W,SALNTY_DNSSAL,SALNTY_DNSSAL_FLAG_W,SALNTY_DNSSAL2,SALNTY_DNSSAL2_FLAG_W
,,,,,,,,,,,METERS,DBAR,ITS-90,PSS-78,,PSS-78,,UMOL/KG,,UMOL/KG,,UMOL/KG,,UMOL/KG,,UMOL/KG,,UMOL/KG,,PMOL/KG,,PMOL/KG,,FMOL/KG,,UMOL/KG,,UMOL/KG,,,,DEG C,/MILLE,,/MILLE,,/MILLE,PMOL/KG,,UMOL/KG,,NMOL/KG,,MMOL/KG,,,G/KG,,G/KG,,PSS-78,,PSS-78,
33RO20180423,        I7N,     104,          1,        101,      11010,2,20180529,       2037,    11.0735,    64.6650,       4323,  4393.8,   1.7148,  34.7328,2,  34.7349,2,    128.8,2, 148.6350,2,    142.4,2,     35.7,2,     0.00,2,    2.490,2,   0.010,2,   0.008,2,        0,2,  2343.9,6,  2449.5,2,   7.6013,6,    25.00, -999.00,9, -999.00,9, -999.00,-999.000,1,  -999.0,9,     -999.0,1,     -999.0,9,          1,     -999.0,9,     -999.0,9,     -999.0,9,     -999.0,9
33RO20180423,        I7N,     104,          1,        102,      11101,2,20180529,       2037,    11.0735,    64.6650,       4323,  4205.6,   1.7025,  34.7335,2,  34.7518,2,    130.0,2, 149.6770,2,    141.7,2,     35.6,2,     0.00,2,    2.484,2,   0.004,2,   0.005,2,        0,2,  2336.6,2,  2438.3,2,   7.5976,2,    25.00, -999.00,9, -999.00,9, -999.00,-999.000,1,  -999.0,9,     -999.0,1,     -999.0,9,          2,     -999.0,9,     -999.0,9,     -999.0,9,     -999.0,9
33RO20180423,        I7N,     104,          1,        103,      11102,2,20180529,       2037,    11.0735,    64.6650,       4323,  4001.7,   1.6946,  34.7342,2,  34.7353,2,    131.2,2, 151.2370,2,    140.8,2,     35.4,2,     0.00,2,    2.475,2,   0.002,2,   0.005,2,     0.02,2,  2332.3,2,  2432.9,6,   7.5938,2,    25.00, -999.00,9, -999.00,9, -999.00,-999.000,1,  -999.0,9,     -999.0,1,     -999.0,9,          3,     -999.0,9,     -999.0,9,     -999.0,9,     -999.0,9
33RO20180423,        I7N,     104,          1,        104,      11103,2,20180529,       2037,    11.0735,    64.6650,       4323,  3701.4,   1.6976,  34.7361,2,  34.7420,6,    134.4,2, 154.9390,2,    138.5,2,     34.9,2,     0.00,2,    2.461,2,   0.000,2,   0.002,2,   0.0012,2,  2321.3,2,  2426.9,2,   7.5862,2,    25.00, -999.00,9, -999.00,9, -999.00,-999.000,1,  -999.0,9,     -999.0,1,     -999.0,9,          4,     -999.0,9,     -999.0,9,     -999.0,9,     -999.0,9
33RO20180423,        I7N,     104,          1,        105,      11104,2,20180529,       2037,    11.0735,    64.6650,       4323,  3399.4,   1.7120,  34.7379,2,  34.7401,2,    133.8,2, 154.0180,2,    138.0,6,     35.0,6,     0.00,6,    2.469,6,   0.000,2,   0.002,2,   0.0105,2,  2320.3,2,  2429.9,2,   7.5833,2,    25.00, -999.00,9, -999.00,9, -999.00,-999.000,1,  -999.0,9,     -999.0,1,     -999.0,9,          5,     -999.0,9,     -999.0,9,     -999.0,9,     -999.0,9
33RO20180423,        I7N,     104,          1,        106,      11105,2,20180529,       2037,    11.0735,    64.6650,       4323,  3098.7,   1.7599,  34.7415,2,  34.8050,2,    129.5,2, 147.6800,2,    139.0,6,     35.4,6,     0.00,6,    2.503,6,   0.000,2,   0.001,2,   0.0125,2,  2325.2,2,  2430.6,2,   7.5760,2,    25.00, -999.00,9, -999.00,9, -999.00,-999.000,1,  -999.0,9,     -999.0,1,     -999.0,9,          6,     -999.0,9,     -999.0,9,     -999.0,9,     -999.0,9
33RO20180423,        I7N,     104,          1,        107,      11106,2,20180529,       2037,    11.0735,    64.6650,       4323,  2801.1,   1.8952,  34.7506,2,  34.7548,2,    120.8,2, 149.0640,4,    140.4,6,     35.9,6,     0.00,6,    2.541,6,   0.001,2,   0.002,2,   0.0123,2,  2333.4,2,  2425.0,2,   7.5621,2,    25.00, -999.00,9, -999.00,9, -999.00,-999.000,1,  -999.0,9,     -999.0,1,     -999.0,9,          7,     -999.0,9,     -999.0,9,     -999.0,9,     -999.0,9
33RO20180423,        I7N,     104,          1,        108,      11107,2,20180529,       2037,    11.0735,    64.6650,       4323,  2500.7,   2.1445,  34.7658,2,  34.7835,2,    113.7,2, 129.3860,2,    138.5,6,     36.2,6,     0.00,6,    2.599,6,   0.000,2,   0.001,2,   0.0032,2,  2332.9,2,  2423.4,2,   7.5506,2,    25.00, -999.00,9, -999.00,9, -999.00,-999.000,1,  -999.0,9,     -999.0,1,     -999.0,9,          8,     -999.0,9,     -999.0,9,     -999.0,9,     -999.0,9
33RO20180423,        I7N,     104,          1,        109,      11108,2,20180529,       2037,    11.0735,    64.6650,       4323,  2201.6,   2.5490,  34.7907,2,  34.7926,2,    104.6,2, 118.3020,2,    133.4,2,     36.4,2,     0.00,2,    2.642,2,   0.000,2,   0.003,2,   0.0014,2,  2333.0,2,  2418.6,2,   7.5373,2,    25.00, -999.00,9, -999.00,9, -999.00,-999.000,1,  -999.0,9,     -999.0,1,     -999.0,9,          9,     -999.0,9,     -999.0,9,     -999.0,9,     -999.0,9
33RO20180423,        I7N,     104,          1,        110,      11109,2,20180529,       2037,    11.0735,    64.6650,       4323,  1883.6,   3.2324,  34.8317,2,  34.8330,2,     89.9,2, 101.3300,2,    125.2,2,     37.0,2,     0.00,2,    2.707,2,   0.001,2,   0.003,2,   0.0018,2,  2332.4,2,  2409.2,2,   7.5145,2,    25.00, -999.00,9, -999.00,9, -999.00,-999.000,1,  -999.0,9,     -999.0,1,     -999.0,9,         10,     -999.0,9,     -999.0,9,     -999.0,9,     -999.0,9
33RO20180423,        I7N,     104,          1,        111,      11110,2,20180529,       2037,    11.0735,    64.6650,       4323,  1634.2,   4.2878,  34.9156,2,  34.9174,2,     64.7,2,  72.7850,2,    115.7,2,     37.8,2,     0.00,2,    2.821,2,   0.005,2,   0.005,2,        0,2,  2335.8,2,  2402.2,2,   7.4845,2,    25.00, -999.00,9, -999.00,9, -999.00,-999.000,1,  -999.0,9,     -999.0,1,     -999.0,9,         11,     -999.0,9,     -999.0,9,     -999.0,9,     -999.0,9
33RO20180423,        I7N,     104,          1,        112,      11111,2,20180529,       2037,    11.0735,    64.6650,       4323,  1366.6,   5.5478,  35.0014,2,  35.0020,2,     46.6,2,  52.5990,2,    100.9,2,     37.9,2,     0.00,2,    2.869,2,   0.012,2,   0.009,2,   0.0087,2,  2328.7,2,  2387.0,2,   7.4642,2,    25.00, -999.00,9, -999.00,9, -999.00,-999.000,1,  -999.0,9,     -999.0,1,     -999.0,9,         12,     -999.0,9,     -999.0,9,     -999.0,9,     -999.0,9
33RO20180423,        I7N,     104,          1,        113,      11112,2,20180529,       2037,    11.0735,    64.6650,       4323,  1166.8,   7.1234,  35.1672,2,  35.1676,2,     29.4,2,  33.3980,2,     86.1,2,     37.5,2,     0.01,2,    2.846,2,   0.049,2,   0.032,2,   0.0152,2,  2316.5,2,  2372.3,6,   7.4576,2,    25.00, -999.00,9, -999.00,9, -999.00,-999.000,1,  -999.0,9,     -999.0,1,     -999.0,9,         13,     -999.0,9,     -999.0,9,     -999.0,9,     -999.0,9
33RO20180423,        I7N,     104,          1,        114,      11113,2,20180529,       2037,    11.0735,    64.6650,       4323,   950.4,   8.6872,  35.3123,2,  35.3135,2,     13.8,2,  17.0400,2,     72.5,2,     36.8,2,     0.01,2,    2.833,2,   0.089,2,   0.054,2,   0.0453,2,  2307.1,2,  2363.2,2,   7.4516,6,    25.00, -999.00,9, -999.00,9, -999.00,-999.000,1,  -999.0,9,     -999.0,1,     -999.0,9,         14,     -999.0,9,     -999.0,9,     -999.0,9,     -999.0,9
33RO20180423,        I7N,     104,          1,        115,      11114,2,20180529,       2037,    11.0735,    64.6650,       4323,   800.2,   9.9371,  35.4252,2,  35.4247,2,     14.0,2,  16.1500,2,     59.5,2,     34.8,2,     0.01,2,    2.683,2,   0.216,2,   0.131,2,   0.0827,2,  2294.3,2,  2354.4,2,   7.4691,2,    25.00, -999.00,9, -999.00,9, -999.00,-999.000,1,  -999.0,9,     -999.0,1,     -999.0,9,         15,     -999.0,9,     -999.0,9,     -999.0,9,     -999.0,9
33RO20180423,        I7N,     104,          1,        116,      11115,2,20180529,       2037,    11.0735,    64.6650,       4323,   650.1,  11.0228,  35.4984,2,  35.4985,2,     12.4,2,  14.9450,2,     48.2,2,     32.8,2,     0.00,2,    2.594,2,   0.391,2,   0.239,2,   0.0738,2,  2279.4,6,  2347.9,2,   7.4788,2,    25.00, -999.00,9, -999.00,9, -999.00,-999.000,1,  -999.0,9,     -999.0,1,     -999.0,9,         16,     -999.0,9,     -999.0,9,     -999.0,9,     -999.0,9
33RO20180423,        I7N,     104,          1,        117,      11116,2,20180529,       2037,    11.0735,    64.6650,       4323,   483.9,  11.8705,  35.4719,2,  35.4739,2,     17.3,2,  20.1390,2,     36.9,2,     31.1,2,     0.00,2,    2.432,2,   0.790,2,   0.459,2,   0.2359,2,  2268.4,2,  2337.8,2,   7.4892,2,    25.00, -999.00,9, -999.00,9, -999.00,-999.000,1,  -999.0,9,     -999.0,1,     -999.0,9,         17,     -999.0,9,     -999.0,9,     -999.0,9,     -999.0,9
33RO20180423,        I7N,     104,          1,        118,      11117,2,20180529,       2037,    11.0735,    64.6650,       4323,   371.4,  12.6519,  35.4383,2,  35.4413,6,     17.6,2,  19.9110,2,     29.9,2,     30.0,2,     0.01,2,    2.319,2,   1.098,2,   0.649,2,   0.2986,2,  2264.1,2,  2330.4,2,   7.4873,2,    25.00, -999.00,9, -999.00,9, -999.00,-999.000,1,  -999.0,9,     -999.0,1,     -999.0,9,         18,     -999.0,9,     -999.0,9,     -999.0,9,     -999.0,9
33RO20180423,        I7N,     104,          1,        119,      11083,2,20180529,       2037,    11.0735,    64.6650,       4323,   298.2,  13.8062,  35.5235,2,  35.5230,2,     14.5,2,  16.8410,2,     26.4,2,     27.9,2,     0.01,2,    2.236,2,   1.264,2,   0.772,2,   0.3947,2,  2261.1,2,  2328.9,2,   7.4976,2,    25.00, -999.00,9, -999.00,9, -999.00,-999.000,1,  -999.0,9,     -999.0,1,     -999.0,9,         19,     -999.0,9,     -999.0,9,     -999.0,9,     -999.0,9
33RO20180423,        I7N,     104,          1,        120,      11118,2,20180529,       2037,    11.0735,    64.6650,       4323,   192.8,  16.8569,  35.5287,2,  35.5399,2,      9.6,2,  11.6630,2,     20.4,2,     25.4,2,     0.01,2,    2.179,2,   1.356,6,   0.872,6,    0.654,6,  2238.8,2,  2325.6,2,   7.5485,2,    25.00, -999.00,9, -999.00,9, -999.00,-999.000,1,  -999.0,9,     -999.0,1,     -999.0,9,         20,     -999.0,9,     -999.0,9,     -999.0,9,     -999.0,9
33RO20180423,        I7N,     104,          1,        121,      11119,2,20180529,       2037,    11.0735,    64.6650,       4323,   150.1,  20.4817,  35.7401,2,  35.7446,2,     41.3,2,  44.9460,2,     13.1,2,     22.0,2,     0.02,2,    1.749,2,   1.496,2,   0.966,2,   0.9771,2,  2194.1,2,  2333.7,2,   7.6821,2,    25.00, -999.00,9, -999.00,9, -999.00,-999.000,1,  -999.0,9,     -999.0,1,     -999.0,9,         21,     -999.0,9,     -999.0,9,     -999.0,9,     -999.0,9
33RO20180423,        I7N,     104,          1,        122,      11120,2,20180529,       2037,    11.0735,    64.6650,       4323,   110.2,  24.2696,  36.0230,2,  36.0333,2,    128.1,2, 135.2920,2,      5.2,2,     10.0,2,     0.08,2,    0.905,2,   1.584,2,   0.996,2,   1.3465,2,  2109.3,2,  2353.6,6,   7.9116,2,    25.00, -999.00,9, -999.00,9, -999.00,-999.000,1,  -999.0,9,     -999.0,1,     -999.0,9,         22,     -999.0,9,     -999.0,9,     -999.0,9,     -999.0,9
33RO20180423,        I7N,     104,          1,        123,      11121,2,20180529,       2037,    11.0735,    64.6650,       4323,    71.3,  26.3920,  36.3070,2,  36.3089,2,    191.3,2, 201.0460,2,      1.7,2,      0.1,2,     0.10,2,    0.365,2,   1.546,2,   0.993,2,   1.4614,2,  2059.3,2,  2376.0,2,   8.0330,2,    25.00, -999.00,9, -999.00,9, -999.00,-999.000,1,  -999.0,9,     -999.0,1,     -999.0,9,         23,     -999.0,9,     -999.0,9,     -999.0,9,     -999.0,9
33RO20180423,        I7N,     104,          1,        124,      11122,2,20180529,       2037,    11.0735,    64.6650,       4323,     3.4,  29.8750,  36.2242,2,  36.2266,2,    183.8,2, 192.6520,2,      1.2,2,      0.0,2,     0.01,2,    0.172,2,   1.313,2,   0.864,2,   1.3253,2,  2022.2,6,  2371.8,2,   8.0868,6,    25.00, -999.00,9, -999.00,9, -999.00,-999.000,1,  -999.0,9,     -999.0,1,     -999.0,9,         24,     -999.0,9,     -999.0,9,     -999.0,9,     -999.0,9