BOTTLE,20230801CCHSIOCBG
EXPOCODE,SECT_ID,STNNBR,CASTNO,SAMPNO,BTLNBR,BTLNBR_FLAG_W,DATE,TIME,LATITUDE,LONGITUDE,DEPTH,CTDPRS,CTDTMP,CTDSAL,CTDSAL_FLAG_W,SALNTY,SALNTY_FLAG_W,CTDOXY,CTDOXY_FLAG_W,OXYGEN,OXYGEN_FLAG_W,SILCAT,SILCAT_FLAG_W,NITRAT,NITRAT_FLAG_W,NITRIT,NITRIT_FLAG_W,PHSPHT,PHSPHT_FLAG_W,CFC-11,CFC-11_FLAG_W,CFC-12,CFC-12_FLAG_W,SF6,SF6_FLAG_W,TCARBN,TCARBN_FLAG_W,ALKALI,ALKALI_FLAG_W,PH_SWS,PH_SWS_FLAG_W,PH_TMP,DELC13,DELC13_FLAG_W,DELC14,DELC14_FLAG_W,C14ERR,CCL4,CCL4_FLAG_W,DOC,DOC_FLAG_W,N2O,N2O_FLAG_W,CALCIUM,CALCIUM_FLAG_W,SAMPNO_U,DNSSAL,DNSSAL_FLAG_W,DNSSAL2,DNSSAL2_FLAG_W,SALNTY_DNSSAL,SALNTY_DNSSAL_FLAG_W,SALNTY_DNSSAL2,SALNTY_DNSSAL2_FLAG_W
,,,,,,,,,,,METERS,DBAR,ITS-90,PSS-78,,PSS-78,,UMOL/KG,,UMOL/KG,,UMOL/KG,,UMOL/KG,,UMOL/KG,,UMOL/KG,,PMOL/KG,,PMOL/KG,,FMOL/KG,,UMOL/KG,,UMOL/KG,,,,DEG C,/MILLE,,/MILLE,,/MILLE,PMOL/KG,,UMOL/KG,,NMOL/KG,,MMOL/KG,,,G/KG,,G/KG,,PSS-78,,PSS-78,
33RO20180423,        I7N,      96,          1,        101,      11010,2,20180527,       1555,     7.5898,    62.4565,       4366,  4424.3,   1.6816,  34.7324,2,  34.7357,2,    139.9,2, 161.9290,2,    135.6,6,     34.6,6,     0.00,6,    2.421,6,   0.007,2,   0.006,2,   0.0003,2,  2318.0,6,  2419.1,2,   7.5926,6,    25.00, -999.00,9, -999.00,9, -999.00,-999.000,1,  -999.0,9,     -999.0,1,     -999.0,9,          1,     -999.0,9,     -999.0,9,     -999.0,9,     -999.0,9
33RO20180423,        I7N,      96,          1,        102,      11101,2,20180527,       1555,     7.5898,    62.4565,       4366,  4272.2,   1.6662,  34.7326,2,  34.7140,2,    139.5,2, 161.7150,2,    136.3,6,     34.7,6,     0.00,6,    2.429,6,   0.005,2,   0.004,2,   0.0078,2,  2315.6,2,  2420.1,6,   7.5905,2,    25.00, -999.00,9, -999.00,9, -999.00,-999.000,1,  -999.0,9,     -999.0,1,     -999.0,9,          2,     -999.0,9,     -999.0,9,     -999.0,9,     -999.0,9
33RO20180423,        I7N,      96,          1,        103,      11102,2,20180527,       1555,     7.5898,    62.4565,       4366,  4100.0,   1.6565,  34.7331,2,  34.7351,6,    138.8,2, 160.9830,2,    136.4,6,     34.8,6,     0.00,6,    2.440,6,   0.009,2,   0.007,2,        0,2,  2315.0,2,  2419.6,2,   7.5891,2,    25.00, -999.00,9, -999.00,9, -999.00,-999.000,1,  -999.0,9,     -999.0,1,     -999.0,9,          3,     -999.0,9,     -999.0,9,     -999.0,9,     -999.0,9
33RO20180423,        I7N,      96,          1,        104,      11103,2,20180527,       1555,     7.5898,    62.4565,       4366,  3800.4,   1.6542,  34.7346,2,  34.7388,2,    137.4,2, 159.2530,2,    136.2,6,     34.9,6,     0.00,6,    2.449,6,   0.005,2,   0.005,2,   0.0014,2,  2317.0,2,  2423.8,2,   7.5864,2,    25.00, -999.00,9, -999.00,9, -999.00,-999.000,1,  -999.0,9,     -999.0,1,     -999.0,9,          4,     -999.0,9,     -999.0,9,     -999.0,9,     -999.0,9
33RO20180423,        I7N,      96,          1,        105,      11104,2,20180527,       1555,     7.5898,    62.4565,       4366,  3499.6,   1.6528,  34.7359,2,  34.7380,2,    136.4,2, 157.7920,2,    135.8,2,     34.8,2,     0.00,2,    2.425,2,   0.004,2,   0.004,2,   0.0018,2,  2320.8,2,  2423.4,2,   7.5849,2,    25.00, -999.00,9, -999.00,9, -999.00,-999.000,1,  -999.0,9,     -999.0,1,     -999.0,9,          5,     -999.0,9,     -999.0,9,     -999.0,9,     -999.0,9
33RO20180423,        I7N,      96,          1,        106,      11105,2,20180527,       1555,     7.5898,    62.4565,       4366,  3201.2,   1.7400,  34.7410,2,  34.7422,2,    132.6,2, 153.2040,2,    135.8,2,     35.0,2,     0.00,2,    2.450,2,   0.003,2,   0.004,2,   0.0039,2,  2321.0,2,  2424.5,2,   7.5795,2,    25.00, -999.00,9, -999.00,9, -999.00,-999.000,1,  -999.0,9,     -999.0,1,     -999.0,9,          6,     -999.0,9,     -999.0,9,     -999.0,9,     -999.0,9
33RO20180423,        I7N,      96,          1,        107,      11106,2,20180527,       1555,     7.5898,    62.4565,       4366,  2900.4,   1.8671,  34.7480,2,  34.7578,2,    128.6,2, 148.0790,2,    134.9,2,     35.2,2,     0.00,2,    2.483,2,   0.003,2,   0.004,2,   0.0054,2,  2323.6,2,  2418.9,2,   7.5734,2,    25.00, -999.00,9, -999.00,9, -999.00,-999.000,1,  -999.0,9,     -999.0,1,     -999.0,9,          7,     -999.0,9,     -999.0,9,     -999.0,9,     -999.0,9
33RO20180423,        I7N,      96,          1,        108,      11107,2,20180527,       1555,     7.5898,    62.4565,       4366,  2600.9,   2.0252,  34.7576,2,  34.7603,2,    123.0,2, 141.0050,2,    133.9,2,     35.5,2,     0.00,2,    2.510,2,   0.002,2,   0.002,2,        0,2,  2326.4,2,  2418.8,2,   7.5644,2,    25.00, -999.00,9, -999.00,9, -999.00,-999.000,1,  -999.0,9,     -999.0,1,     -999.0,9,          8,     -999.0,9,     -999.0,9,     -999.0,9,     -999.0,9
33RO20180423,        I7N,      96,          1,        109,      11108,2,20180527,       1555,     7.5898,    62.4565,       4366,  2300.4,   2.4253,  34.7773,2,  34.7802,2,    115.3,2, 131.7850,2,    128.4,2,     35.8,2,     0.00,2,    2.541,2,   0.005,2,   0.005,2,        0,2,  2324.4,2,  2411.5,2,   7.5493,2,    25.00, -999.00,9, -999.00,9, -999.00,-999.000,1,  -999.0,9,     -999.0,1,     -999.0,9,          9,     -999.0,9,     -999.0,9,     -999.0,9,     -999.0,9
33RO20180423,        I7N,      96,          1,        110,      11109,2,20180527,       1555,     7.5898,    62.4565,       4366,  1990.5,   3.0242,  34.8123,2,  34.8149,2,    100.5,2, 114.1790,2,    122.9,2,     36.2,2,     0.00,2,    2.620,2,   0.004,2,   0.005,2,    0.004,2,  2324.6,2,  2411.8,2,   7.5321,2,    25.00, -999.00,9, -999.00,9, -999.00,-999.000,1,  -999.0,9,     -999.0,1,     -999.0,9,         10,     -999.0,9,     -999.0,9,     -999.0,9,     -999.0,9
33RO20180423,        I7N,      96,          1,        111,      11110,2,20180527,       1555,     7.5898,    62.4565,       4366,  1717.3,   3.9433,  34.8689,2,  34.8712,2,     81.7,2,  92.3690,2,    113.2,2,     36.9,2,     0.00,2,    2.708,2,   0.006,2,   0.005,2,        0,2,  2327.0,2,  2397.7,2,   7.5066,2,    25.00, -999.00,9, -999.00,9, -999.00,-999.000,1,  -999.0,9,     -999.0,1,     -999.0,9,         11,     -999.0,9,     -999.0,9,     -999.0,9,     -999.0,9
33RO20180423,        I7N,      96,          1,        112,      11111,2,20180527,       1555,     7.5898,    62.4565,       4366,  1467.0,   4.9841,  34.9368,2,  34.9477,2,     63.3,2,  71.8330,2,    102.6,2,     37.3,2,     0.00,2,    2.760,2,   0.012,2,   0.008,2,        0,2,  2321.8,2,  2390.1,2,   7.4865,2,    25.00, -999.00,9, -999.00,9, -999.00,-999.000,1,  -999.0,9,     -999.0,1,     -999.0,9,         12,     -999.0,9,     -999.0,9,     -999.0,9,     -999.0,9
33RO20180423,        I7N,      96,          1,        113,      11112,2,20180527,       1555,     7.5898,    62.4565,       4366,  1233.4,   6.1893,  35.0152,2,  35.1292,2,     45.4,2,  51.9660,2,     90.5,2,     37.5,2,     0.00,2,    2.791,2,   0.025,6,   0.015,6,   0.0018,6,  2317.0,2,  2379.0,2,   7.4670,2,    25.00, -999.00,9, -999.00,9, -999.00,-999.000,1,  -999.0,9,     -999.0,1,     -999.0,9,         13,     -999.0,9,     -999.0,9,     -999.0,9,     -999.0,9
33RO20180423,        I7N,      96,          1,        114,      11113,2,20180527,       1555,     7.5898,    62.4565,       4366,  1033.9,   7.0678,  35.0731,2,  35.0898,2,     35.3,2,  41.0120,2,     82.0,2,     37.3,2,     0.00,2,    2.781,2,   0.044,2,   0.027,2,   0.0022,2,  2313.1,2,  2371.6,6,   7.4601,2,    25.00, -999.00,9, -999.00,9, -999.00,-999.000,1,  -999.0,9,     -999.0,1,     -999.0,9,         14,     -999.0,9,     -999.0,9,     -999.0,9,     -999.0,9
33RO20180423,        I7N,      96,          1,        115,      11114,2,20180527,       1555,     7.5898,    62.4565,       4366,   850.6,   8.7704,  35.2737,2,  35.2750,2,     21.0,2,  25.5900,2,     68.1,2,     36.0,2,     0.01,2,    2.729,2,   0.132,2,   0.080,2,   0.0241,2,  2301.5,2,  2362.1,2,   7.4628,6,    25.00, -999.00,9, -999.00,9, -999.00,-999.000,1,  -999.0,9,     -999.0,1,     -999.0,9,         15,     -999.0,9,     -999.0,9,     -999.0,9,     -999.0,9
33RO20180423,        I7N,      96,          1,        116,      11115,2,20180527,       1555,     7.5898,    62.4565,       4366,   550.3,  10.6056,  35.2714,2,  35.2733,2,     17.6,2,  21.8160,2,     44.5,2,     33.8,2,     0.00,2,    2.549,2,   0.455,2,   0.258,2,   0.0963,2,  2275.4,6,  2334.8,2,   7.4684,2,    25.00, -999.00,9, -999.00,9, -999.00,-999.000,1,  -999.0,9,     -999.0,1,     -999.0,9,         16,     -999.0,9,     -999.0,9,     -999.0,9,     -999.0,9
33RO20180423,        I7N,      96,          1,        117,      11116,2,20180527,       1555,     7.5898,    62.4565,       4366,   400.6,  11.3706,  35.2453,2,  35.2517,6,     31.5,2,  35.7630,2,     33.1,2,     31.6,2,     0.00,2,    2.302,2,   0.992,2,   0.557,2,   0.2402,2,  2256.6,2,  2324.8,2,   7.4916,2,    25.00, -999.00,9, -999.00,9, -999.00,-999.000,1,  -999.0,9,     -999.0,1,     -999.0,9,         17,     -999.0,9,     -999.0,9,     -999.0,9,     -999.0,9
33RO20180423,        I7N,      96,          1,        118,      11117,2,20180527,       1555,     7.5898,    62.4565,       4366,   320.9,  12.0165,  35.2446,2,  35.2442,2,     45.4,2,  51.5910,2,     27.0,2,     29.1,2,     0.00,2,    2.112,2,   1.438,2,   0.799,2,   0.3969,2,  2242.0,2,  2321.4,2,   7.5288,2,    25.00, -999.00,9, -999.00,9, -999.00,-999.000,1,  -999.0,9,     -999.0,1,     -999.0,9,         18,     -999.0,9,     -999.0,9,     -999.0,9,     -999.0,9
33RO20180423,        I7N,      96,          1,        119,      11083,2,20180527,       1555,     7.5898,    62.4565,       4366,   267.0,  12.8436,  35.2501,2,  35.3180,2,     46.9,2,  50.7170,2,     23.8,2,     27.8,2,     0.00,2,    2.001,2,   1.590,2,   0.898,2,   0.5045,2,  2235.6,2,  2323.7,2,   7.5428,2,    25.00, -999.00,9, -999.00,9, -999.00,-999.000,1,  -999.0,9,     -999.0,1,     -999.0,9,         19,     -999.0,9,     -999.0,9,     -999.0,9,     -999.0,9
33RO20180423,        I7N,      96,          1,        120,      11118,2,20180527,       1555,     7.5898,    62.4565,       4366,   200.9,  14.9716,  35.3214,2,  35.2719,2,     27.4,2,  33.2660,2,     21.7,2,     27.0,2,     0.00,2,    2.040,2,   1.542,6,   0.908,6,   0.5864,6,  2232.2,2,  2321.5,2,   7.5493,2,    25.00, -999.00,9, -999.00,9, -999.00,-999.000,1,  -999.0,9,     -999.0,1,     -999.0,9,         20,     -999.0,9,     -999.0,9,     -999.0,9,     -999.0,9
33RO20180423,        I7N,      96,          1,        121,      11119,2,20180527,       1555,     7.5898,    62.4565,       4366,   150.4,  17.0493,  35.1807,2,  35.1872,2,     14.9,2,  17.9770,2,     21.4,2,     27.6,2,     0.01,2,    2.023,2,   1.346,2,   0.810,2,   0.5636,2,  2217.7,2,  2316.2,2,   7.5677,2,    25.00, -999.00,9, -999.00,9, -999.00,-999.000,1,  -999.0,9,     -999.0,1,     -999.0,9,         21,     -999.0,9,     -999.0,9,     -999.0,9,     -999.0,9
33RO20180423,        I7N,      96,          1,        122,      11120,2,20180527,       1555,     7.5898,    62.4565,       4366,   105.7,  23.0164,  35.5798,2,  35.5902,2,     62.3,2,  65.6010,2,     10.2,2,     18.1,2,     0.04,2,    1.380,2,   1.458,2,   0.908,2,   1.0243,2,  2149.7,2,  2326.4,2,   7.7799,2,    25.00, -999.00,9, -999.00,9, -999.00,-999.000,1,  -999.0,9,     -999.0,1,     -999.0,9,         22,     -999.0,9,     -999.0,9,     -999.0,9,     -999.0,9
33RO20180423,        I7N,      96,          1,        123,      11121,2,20180527,       1555,     7.5898,    62.4565,       4366,    55.5,  28.7044,  35.9553,2,  35.9651,2,    183.5,2, 192.5080,2,      1.7,2,      0.1,2,     0.00,2,    0.230,2,   1.434,2,   0.917,2,   1.3615,2,  2023.0,2,  2354.2,2,   8.0628,6,    25.00, -999.00,9, -999.00,9, -999.00,-999.000,1,  -999.0,9,     -999.0,1,     -999.0,9,         23,     -999.0,9,     -999.0,9,     -999.0,9,     -999.0,9
33RO20180423,        I7N,      96,          1,        124,      11122,2,20180527,       1555,     7.5898,    62.4565,       4366,     3.3,  30.0200,  35.0161,2,  35.0190,2,    184.7,2, 193.6710,2,      1.5,2,      0.0,2,     0.00,2,    0.094,2,   1.379,2,   0.878,2,   1.3332,2,  1964.7,2,  2301.8,6,   8.0925,2,    25.00, -999.00,9, -999.00,9, -999.00,-999.000,1,  -999.0,9,     -999.0,1,     -999.0,9,         24,     -999.0,9,     -999.0,9,     -999.0,9,     -999.0,9