BOTTLE,20230801CCHSIOCBG
EXPOCODE,SECT_ID,STNNBR,CASTNO,SAMPNO,BTLNBR,BTLNBR_FLAG_W,DATE,TIME,LATITUDE,LONGITUDE,DEPTH,CTDPRS,CTDTMP,CTDSAL,CTDSAL_FLAG_W,SALNTY,SALNTY_FLAG_W,CTDOXY,CTDOXY_FLAG_W,OXYGEN,OXYGEN_FLAG_W,SILCAT,SILCAT_FLAG_W,NITRAT,NITRAT_FLAG_W,NITRIT,NITRIT_FLAG_W,PHSPHT,PHSPHT_FLAG_W,CFC-11,CFC-11_FLAG_W,CFC-12,CFC-12_FLAG_W,SF6,SF6_FLAG_W,TCARBN,TCARBN_FLAG_W,ALKALI,ALKALI_FLAG_W,PH_SWS,PH_SWS_FLAG_W,PH_TMP,DELC13,DELC13_FLAG_W,DELC14,DELC14_FLAG_W,C14ERR,CCL4,CCL4_FLAG_W,DOC,DOC_FLAG_W,N2O,N2O_FLAG_W,CALCIUM,CALCIUM_FLAG_W,SAMPNO_U,DNSSAL,DNSSAL_FLAG_W,DNSSAL2,DNSSAL2_FLAG_W,SALNTY_DNSSAL,SALNTY_DNSSAL_FLAG_W,SALNTY_DNSSAL2,SALNTY_DNSSAL2_FLAG_W
,,,,,,,,,,,METERS,DBAR,ITS-90,PSS-78,,PSS-78,,UMOL/KG,,UMOL/KG,,UMOL/KG,,UMOL/KG,,UMOL/KG,,UMOL/KG,,PMOL/KG,,PMOL/KG,,FMOL/KG,,UMOL/KG,,UMOL/KG,,,,DEG C,/MILLE,,/MILLE,,/MILLE,PMOL/KG,,UMOL/KG,,NMOL/KG,,MMOL/KG,,,G/KG,,G/KG,,PSS-78,,PSS-78,
33RO20180423,        I7N,       4,          1,        101,      11010,2,20180428,       2136,   -28.6643,    54.4998,       4918,  5009.3,   0.9526,  34.7016,2,  34.7028,2,    182.6,2, 211.4670,2,    125.1,6,     32.3,6,     0.00,6,    2.214,6,   0.170,2,   0.082,2,   0.0033,2,  2262.4,6,  2366.2,2,   7.5957,2,    25.00, -999.00,9, -999.00,9, -999.00,-999.000,1,  -999.0,9,     -999.0,1,     -999.0,9,          1,     -999.0,9,     -999.0,9,     -999.0,9,     -999.0,9
33RO20180423,        I7N,       4,          1,        102,      11101,2,20180428,       2136,   -28.6643,    54.4998,       4918,  4598.9,   0.9562,  34.7045,2,  34.7046,2,    181.5,2, 209.5230,2,    123.8,6,     32.2,6,     0.00,6,    2.208,6,-999.000,9,-999.000,9,-999.0000,9,  2261.6,2,  2365.9,2,   7.5960,2,    25.00, -999.00,9, -999.00,9, -999.00,-999.000,9,  -999.0,9,     -999.0,9,     -999.0,9,          2,     -999.0,9,     -999.0,9,     -999.0,9,     -999.0,9
33RO20180423,        I7N,       4,          1,        103,      11102,2,20180428,       2136,   -28.6643,    54.4998,       4918,  4275.3,   1.0077,  34.7093,2,  34.7092,2,    181.0,2, 209.5150,2,    120.4,6,     32.0,6,     0.00,6,    2.209,6,   0.171,2,   0.084,2,   0.0123,2,  2259.5,2,  2365.8,6,   7.5987,6,    25.00, -999.00,9, -999.00,9, -999.00,-999.000,1,  -999.0,9,     -999.0,1,     -999.0,9,          3,     -999.0,9,     -999.0,9,     -999.0,9,     -999.0,9
33RO20180423,        I7N,       4,          1,        104,      11103,2,20180428,       2136,   -28.6643,    54.4998,       4918,  3968.8,   1.1360,  34.7147,2,  34.7145,2,    176.6,2, 204.0140,2,    119.8,6,     32.1,6,     0.00,6,    2.212,6,-999.000,9,-999.000,9,-999.0000,9,  -999.0,9,  2367.7,2,   7.5995,2,    25.00, -999.00,9, -999.00,9, -999.00,-999.000,9,  -999.0,9,     -999.0,9,     -999.0,9,          4,     -999.0,9,     -999.0,9,     -999.0,9,     -999.0,9
33RO20180423,        I7N,       4,          1,        105,      11104,2,20180428,       2136,   -28.6643,    54.4998,       4918,  3676.3,   1.2897,  34.7182,2,  34.7189,2,    166.1,2,-999.0000,9,    124.5,2,     32.8,2,     0.00,2,    2.283,2,   0.036,2,   0.018,2,        0,2,  2277.5,2,  2381.5,2,   7.5958,2,    25.00, -999.00,9, -999.00,9, -999.00,-999.000,1,  -999.0,9,     -999.0,1,     -999.0,9,          5,     -999.0,9,     -999.0,9,     -999.0,9,     -999.0,9
33RO20180423,        I7N,       4,          1,        106,      11105,2,20180428,       2136,   -28.6643,    54.4998,       4918,  3373.0,   1.4707,  34.7242,2,  34.7257,2,    158.4,2, 181.8510,2,    126.0,2,     33.4,2,     0.00,2,    2.313,2,-999.000,9,-999.000,9,-999.0000,9,  -999.0,9,  2389.7,2,   7.5938,2,    25.00, -999.00,9, -999.00,9, -999.00,-999.000,9,  -999.0,9,     -999.0,9,     -999.0,9,          6,     -999.0,9,     -999.0,9,     -999.0,9,     -999.0,9
33RO20180423,        I7N,       4,          1,        107,      11106,2,20180428,       2136,   -28.6643,    54.4998,       4918,  3076.0,   1.6815,  34.7330,2,  34.7336,2,    154.0,2, 176.8250,2,    122.2,2,     33.3,2,     0.00,2,    2.304,2,   0.011,2,   0.006,2,   0.0066,2,  2285.8,2,  2390.8,2,   7.5912,2,    25.00, -999.00,9, -999.00,9, -999.00,-999.000,1,  -999.0,9,     -999.0,1,     -999.0,9,          7,     -999.0,9,     -999.0,9,     -999.0,9,     -999.0,9
33RO20180423,        I7N,       4,          1,        108,      11107,2,20180428,       2136,   -28.6643,    54.4998,       4918,  2774.9,   1.9167,  34.7434,2,  34.7456,2,    153.7,2, 174.9620,2,    113.9,2,     32.8,2,     0.00,2,    2.266,2,-999.000,9,-999.000,9,-999.0000,9,  -999.0,9,  2389.1,2,   7.5955,2,    25.00, -999.00,9, -999.00,9, -999.00,-999.000,9,  -999.0,9,     -999.0,9,     -999.0,9,          8,     -999.0,9,     -999.0,9,     -999.0,9,     -999.0,9
33RO20180423,        I7N,       4,          1,        109,      11108,2,20180428,       2136,   -28.6643,    54.4998,       4918,  2475.0,   2.1576,  34.7526,2,  34.7542,2,    165.7,2, 187.4010,2,     93.4,2,     31.0,2,     0.00,2,    2.134,2,   0.038,2,   0.019,2,   0.0122,2,  2255.9,2,  2366.8,2,   7.6081,2,    25.00, -999.00,9, -999.00,9, -999.00,-999.000,1,  -999.0,9,     -999.0,1,     -999.0,9,          9,     -999.0,9,     -999.0,9,     -999.0,9,     -999.0,9
33RO20180423,        I7N,       4,          1,        110,      11109,2,20180428,       2136,   -28.6643,    54.4998,       4918,  2175.4,   2.3195,  34.7347,2,  34.7361,2,    162.7,2, 182.7910,2,     90.5,2,     31.3,2,     0.00,2,    2.160,2,-999.000,9,-999.000,9,-999.0000,9,  -999.0,9,  2361.9,2,   7.6008,2,    25.00, -999.00,9, -999.00,9, -999.00,-999.000,9,  -999.0,9,     -999.0,9,     -999.0,9,         10,     -999.0,9,     -999.0,9,     -999.0,9,     -999.0,9
33RO20180423,        I7N,       4,          1,        111,      11110,2,20180428,       2136,   -28.6643,    54.4998,       4918,  1863.5,   2.5075,  34.6959,2,  34.7051,2,    158.6,2, 177.2040,2,     86.3,2,     32.0,2,     0.00,2,    2.226,2,   0.074,2,   0.037,2,        0,2,  2255.0,2,  2335.2,4,   7.5895,2,    25.00, -999.00,9, -999.00,9, -999.00,-999.000,1,  -999.0,9,     -999.0,1,     -999.0,9,         11,     -999.0,9,     -999.0,9,     -999.0,9,     -999.0,9
33RO20180423,        I7N,       4,          1,        112,      11111,2,20180428,       2136,   -28.6643,    54.4998,       4918,  1612.9,   2.8175,  34.6250,2,  34.6273,6,    151.3,2, 167.5630,2,     81.5,2,     33.2,2,     0.00,2,    2.303,2,-999.000,9,-999.000,9,-999.0000,9,  2255.7,2,  2349.5,2,   7.5689,2,    25.00, -999.00,9, -999.00,9, -999.00,-999.000,9,  -999.0,9,     -999.0,9,     -999.0,9,         12,     -999.0,9,     -999.0,9,     -999.0,9,     -999.0,9
33RO20180423,        I7N,       4,          1,        113,      11112,2,20180428,       2136,   -28.6643,    54.4998,       4918,  1350.3,   3.3351,  34.5235,2,  34.5250,2,    153.6,2, 169.1900,2,     66.8,2,     33.8,2,     0.00,2,    2.319,2,   0.488,2,   0.239,2,   0.0422,2,  2238.8,2,  2332.7,2,   7.5633,6,    25.00, -999.00,9, -999.00,9, -999.00,-999.000,1,  -999.0,9,     -999.0,1,     -999.0,9,         13,     -999.0,9,     -999.0,9,     -999.0,9,     -999.0,9
33RO20180423,        I7N,       4,          1,        114,      11113,2,20180428,       2136,   -28.6643,    54.4998,       4918,  1149.6,   4.2721,  34.4175,2,  34.4212,2,    169.4,2, 185.3180,2,     45.7,2,     31.9,2,     0.00,2,    2.215,2,-999.000,9,-999.000,9,-999.0000,9,  2217.1,2,  2311.6,6,   7.5883,2,    25.00, -999.00,9, -999.00,9, -999.00,-999.000,9,  -999.0,9,     -999.0,9,     -999.0,9,         14,     -999.0,9,     -999.0,9,     -999.0,9,     -999.0,9
33RO20180423,        I7N,       4,          1,        115,      11114,2,20180428,       2136,   -28.6643,    54.4998,       4918,   938.6,   6.0130,  34.4294,2,  34.4363,2,    185.5,2, 201.5030,2,     24.5,2,     27.6,2,     0.00,2,    1.892,2,   2.495,2,   1.274,2,   0.6741,2,  2181.0,2,  2294.7,2,   7.6380,2,    25.00, -999.00,9, -999.00,9, -999.00,-999.000,1,  -999.0,9,     -999.0,1,     -999.0,9,         15,     -999.0,9,     -999.0,9,     -999.0,9,     -999.0,9
33RO20180423,        I7N,       4,          1,        116,      11115,2,20180428,       2136,   -28.6643,    54.4998,       4918,   785.6,   8.1542,  34.5919,2,  34.5946,2,    192.3,2, 207.8600,2,     13.3,2,     22.2,2,     0.00,2,    1.530,2,-999.000,9,-999.000,9,-999.0000,9,  2158.4,2,  2293.2,2,   7.6982,2,    25.00, -999.00,9, -999.00,9, -999.00,-999.000,9,  -999.0,9,     -999.0,9,     -999.0,9,         16,     -999.0,9,     -999.0,9,     -999.0,9,     -999.0,9
33RO20180423,        I7N,       4,          1,        117,      11116,2,20180428,       2136,   -28.6643,    54.4998,       4918,   637.1,  10.0514,  34.7916,2,  34.7950,2,    205.8,2, 220.9680,2,      6.4,2,     16.4,2,     0.00,2,    1.189,2,   3.265,2,   1.815,2,   1.3693,2,  2136.6,2,  2298.5,2,   7.7553,2,    25.00, -999.00,9, -999.00,9, -999.00,-999.000,1,  -999.0,9,     -999.0,1,     -999.0,9,         17,     -999.0,9,     -999.0,9,     -999.0,9,     -999.0,9
33RO20180423,        I7N,       4,          1,        118,      11117,2,20180428,       2136,   -28.6643,    54.4998,       4918,   488.6,  11.5567,  35.0079,2,  35.0102,2,    213.3,2, 228.2240,2,      4.1,2,     12.2,2,     0.00,2,    0.916,2,-999.000,9,-999.000,9,-999.0000,9,  2124.9,2,  2306.4,2,   7.7989,2,    25.00, -999.00,9, -999.00,9, -999.00,-999.000,9,  -999.0,9,     -999.0,9,     -999.0,9,         18,     -999.0,9,     -999.0,9,     -999.0,9,     -999.0,9
33RO20180423,        I7N,       4,          1,        119,      11083,2,20180428,       2136,   -28.6643,    54.4998,       4918,   326.2,  12.9220,  35.2132,2,  35.2170,2,    212.9,2, 227.1110,2,      3.5,2,      9.2,2,     0.00,2,    0.735,2,   2.900,2,   1.716,2,   1.7902,2,  2118.9,2,  2317.2,2,   7.8323,2,    25.00, -999.00,9, -999.00,9, -999.00,-999.000,1,  -999.0,9,     -999.0,1,     -999.0,9,         19,     -999.0,9,     -999.0,9,     -999.0,9,     -999.0,9
33RO20180423,        I7N,       4,          1,        120,      11118,2,20180428,       2136,   -28.6643,    54.4998,       4918,   213.2,  14.1239,  35.3663,2,  35.3681,2,    209.7,2, 222.7200,2,      2.6,2,      6.5,2,     0.00,2,    0.566,2,-999.000,9,-999.000,9,-999.0000,9,  2112.7,2,  2323.9,2,   7.8577,2,    25.00, -999.00,9, -999.00,9, -999.00,-999.000,9,  -999.0,9,     -999.0,9,     -999.0,9,         20,     -999.0,9,     -999.0,9,     -999.0,9,     -999.0,9
33RO20180423,        I7N,       4,          1,        121,      11119,2,20180428,       2136,   -28.6643,    54.4998,       4918,   163.4,  15.2062,  35.4687,2,  35.4707,6,    205.9,2, 218.5900,2,      2.0,2,      4.5,2,     0.01,2,    0.477,2,   2.609,6,   1.568,6,   1.7764,6,  2108.0,2,  2331.1,2,   7.8769,2,    25.00, -999.00,9, -999.00,9, -999.00,-999.000,1,  -999.0,9,     -999.0,1,     -999.0,9,         21,     -999.0,9,     -999.0,9,     -999.0,9,     -999.0,9
33RO20180423,        I7N,       4,          1,        122,      11120,2,20180428,       2136,   -28.6643,    54.4998,       4918,   110.0,  17.3060,  35.6254,2,  35.6285,2,    214.6,2, 227.5600,2,      1.3,2,      0.2,2,     0.06,2,    0.215,2,-999.000,9,-999.000,9,-999.0000,9,  2087.4,2,  2340.4,6,   7.9360,6,    25.00, -999.00,9, -999.00,9, -999.00,-999.000,9,  -999.0,9,     -999.0,9,     -999.0,9,         22,     -999.0,9,     -999.0,9,     -999.0,9,     -999.0,9
33RO20180423,        I7N,       4,          1,        123,      11121,2,20180428,       2136,   -28.6643,    54.4998,       4918,    60.9,  20.4135,  35.6478,2,  35.6510,2,    225.0,2, 237.7000,2,      1.1,2,      0.0,2,     0.00,2,    0.103,2,-999.000,9,-999.000,9,-999.0000,9,  2054.3,2,  2339.2,2,   7.9916,2,    25.00, -999.00,9, -999.00,9, -999.00,-999.000,9,  -999.0,9,     -999.0,9,     -999.0,9,         23,     -999.0,9,     -999.0,9,     -999.0,9,     -999.0,9
33RO20180423,        I7N,       4,          1,        124,      11122,2,20180428,       2136,   -28.6643,    54.4998,       4918,     2.9,  23.0430,  35.5773,2,  35.5791,2,    204.4,2, 215.5440,2,      1.1,2,      0.0,2,     0.00,2,    0.055,2,   1.781,2,   1.117,2,   1.6245,2,  2034.2,6,  2331.9,2,   8.0190,2,    25.00, -999.00,9, -999.00,9, -999.00,-999.000,1,  -999.0,9,     -999.0,1,     -999.0,9,         24,     -999.0,9,     -999.0,9,     -999.0,9,     -999.0,9