BOTTLE,20230801CCHSIOCBG
EXPOCODE,SECT_ID,STNNBR,CASTNO,SAMPNO,BTLNBR,BTLNBR_FLAG_W,DATE,TIME,LATITUDE,LONGITUDE,DEPTH,CTDPRS,CTDTMP,CTDSAL,CTDSAL_FLAG_W,SALNTY,SALNTY_FLAG_W,CTDOXY,CTDOXY_FLAG_W,OXYGEN,OXYGEN_FLAG_W,SILCAT,SILCAT_FLAG_W,NITRAT,NITRAT_FLAG_W,NITRIT,NITRIT_FLAG_W,PHSPHT,PHSPHT_FLAG_W,CFC-11,CFC-11_FLAG_W,CFC-12,CFC-12_FLAG_W,SF6,SF6_FLAG_W,TCARBN,TCARBN_FLAG_W,ALKALI,ALKALI_FLAG_W,PH_SWS,PH_SWS_FLAG_W,PH_TMP,DELC13,DELC13_FLAG_W,DELC14,DELC14_FLAG_W,C14ERR,CCL4,CCL4_FLAG_W,DOC,DOC_FLAG_W,N2O,N2O_FLAG_W,CALCIUM,CALCIUM_FLAG_W,SAMPNO_U,DNSSAL,DNSSAL_FLAG_W,DNSSAL2,DNSSAL2_FLAG_W,SALNTY_DNSSAL,SALNTY_DNSSAL_FLAG_W,SALNTY_DNSSAL2,SALNTY_DNSSAL2_FLAG_W
,,,,,,,,,,,METERS,DBAR,ITS-90,PSS-78,,PSS-78,,UMOL/KG,,UMOL/KG,,UMOL/KG,,UMOL/KG,,UMOL/KG,,UMOL/KG,,PMOL/KG,,PMOL/KG,,FMOL/KG,,UMOL/KG,,UMOL/KG,,,,DEG C,/MILLE,,/MILLE,,/MILLE,PMOL/KG,,UMOL/KG,,NMOL/KG,,MMOL/KG,,,G/KG,,G/KG,,PSS-78,,PSS-78,
33RO20180423,        I7N,      87,          1,        101,      11010,9,20180525,       0721,     3.9978,    59.1575,       4561,  4625.3,   1.4206,  34.7205,2,  34.7252,2,    155.9,2, 180.2960,2,    132.6,6,     33.8,6,     0.00,6,    2.376,6,   0.016,2,   0.008,2,   0.0025,2,  2293.2,6,  2405.0,2,   7.6018,2,    25.00, -999.00,9, -999.00,9, -999.00,-999.000,9,  -999.0,9,     -999.0,9,     -999.0,9,          1,     -999.0,9,     -999.0,9,     -999.0,9,     -999.0,9
33RO20180423,        I7N,      87,          1,        102,      11101,9,20180525,       0721,     3.9978,    59.1575,       4561,  4373.7,   1.4309,  34.7222,2,  34.7240,2,    154.0,2, 178.2950,2,    132.9,6,     34.0,6,     0.00,6,    2.382,6,-999.000,9,-999.000,9,-999.0000,9,  2293.3,2,  2404.8,6,   7.5988,2,    25.00, -999.00,9, -999.00,9, -999.00,-999.000,9,  -999.0,9,     -999.0,9,     -999.0,9,          2,     -999.0,9,     -999.0,9,     -999.0,9,     -999.0,9
33RO20180423,        I7N,      87,          1,        103,      11102,9,20180525,       0721,     3.9978,    59.1575,       4561,  4100.8,   1.4799,  34.7254,2,  34.7270,2,    150.8,2, 173.8140,2,    132.9,6,     34.1,6,     0.00,6,    2.397,6,   0.009,2,   0.005,2,        0,2,  2296.5,2,  2406.9,2,   7.5977,6,    25.00, -999.00,9, -999.00,9, -999.00,-999.000,9,  -999.0,9,     -999.0,9,     -999.0,9,          3,     -999.0,9,     -999.0,9,     -999.0,9,     -999.0,9
33RO20180423,        I7N,      87,          1,        104,      11103,9,20180525,       0721,     3.9978,    59.1575,       4561,  3800.6,   1.5091,  34.7277,2,  34.7286,6,    148.4,2, 171.8590,2,    133.1,6,     34.2,6,     0.00,6,    2.406,6,-999.000,9,-999.000,9,-999.0000,9,  2298.5,2,  2407.1,2,   7.5942,2,    25.00, -999.00,9, -999.00,9, -999.00,-999.000,9,  -999.0,9,     -999.0,9,     -999.0,9,          4,     -999.0,9,     -999.0,9,     -999.0,9,     -999.0,9
33RO20180423,        I7N,      87,          1,        105,      11104,9,20180525,       0721,     3.9978,    59.1575,       4561,  3500.0,   1.6732,  34.7351,2,  34.7423,2,    141.6,2, 163.9060,2,    133.0,2,     34.6,2,     0.00,2,    2.433,2,   0.004,2,   0.003,2,   0.0065,2,  2302.2,2,  2410.3,2,   7.5863,2,    25.00, -999.00,9, -999.00,9, -999.00,-999.000,9,  -999.0,9,     -999.0,9,     -999.0,9,          5,     -999.0,9,     -999.0,9,     -999.0,9,     -999.0,9
33RO20180423,        I7N,      87,          1,        106,      11105,9,20180525,       0721,     3.9978,    59.1575,       4561,  3200.2,   1.7711,  34.7400,2,  34.7480,2,    137.7,2, 158.6920,2,    131.9,2,     34.7,2,     0.00,2,    2.459,2,-999.000,9,-999.000,9,-999.0000,9,  2305.9,2,  2410.3,2,   7.5814,2,    25.00, -999.00,9, -999.00,9, -999.00,-999.000,9,  -999.0,9,     -999.0,9,     -999.0,9,          6,     -999.0,9,     -999.0,9,     -999.0,9,     -999.0,9
33RO20180423,        I7N,      87,          1,        107,      11106,9,20180525,       0721,     3.9978,    59.1575,       4561,  2899.9,   1.9656,  34.7505,2,  34.7533,2,    129.7,2, 149.1140,2,    131.9,2,     35.2,2,     0.00,2,    2.504,2,-999.000,9,-999.000,9,-999.0000,9,  2312.2,2,  2412.6,2,   7.5727,2,    25.00, -999.00,9, -999.00,9, -999.00,-999.000,9,  -999.0,9,     -999.0,9,     -999.0,9,          7,     -999.0,9,     -999.0,9,     -999.0,9,     -999.0,9
33RO20180423,        I7N,      87,          1,        108,      11107,9,20180525,       0721,     3.9978,    59.1575,       4561,  2599.7,   2.1180,  34.7593,2,  34.7668,2,    124.7,2, 142.6330,2,    131.4,2,     35.5,2,     0.00,2,    2.531,2,-999.000,9,-999.000,9,-999.0000,9,  2313.6,2,  2413.2,2,   7.5650,2,    25.00, -999.00,9, -999.00,9, -999.00,-999.000,9,  -999.0,9,     -999.0,9,     -999.0,9,          8,     -999.0,9,     -999.0,9,     -999.0,9,     -999.0,9
33RO20180423,        I7N,      87,          1,        109,      11108,9,20180525,       0721,     3.9978,    59.1575,       4561,  2301.7,   2.4612,  34.7771,2,  34.7841,2,    115.7,2, 132.0620,2,    128.3,2,     35.8,2,     0.00,2,    2.581,2,-999.000,9,-999.000,9,-999.0000,9,  2315.0,2,  2409.8,2,   7.5509,2,    25.00, -999.00,9, -999.00,9, -999.00,-999.000,9,  -999.0,9,     -999.0,9,     -999.0,9,          9,     -999.0,9,     -999.0,9,     -999.0,9,     -999.0,9
33RO20180423,        I7N,      87,          1,        110,      11109,9,20180525,       0721,     3.9978,    59.1575,       4561,  2002.0,   2.9776,  34.7996,2,  34.8020,2,    105.4,2, 119.5670,2,    121.2,2,     36.1,2,     0.00,2,    2.624,2,   0.003,6,   0.003,6,   0.0059,6,  2314.1,2,  2402.2,2,   7.5354,2,    25.00, -999.00,9, -999.00,9, -999.00,-999.000,9,  -999.0,9,     -999.0,9,     -999.0,9,         10,     -999.0,9,     -999.0,9,     -999.0,9,     -999.0,9
33RO20180423,        I7N,      87,          1,        111,      11110,9,20180525,       0721,     3.9978,    59.1575,       4561,  1718.3,   3.9776,  34.8528,2,  34.8576,2,     85.7,2,  97.2960,2,    110.6,2,     36.8,2,     0.00,2,    2.705,2,-999.000,9,-999.000,9,-999.0000,9,  2313.1,2,  2391.8,2,   7.5125,2,    25.00, -999.00,9, -999.00,9, -999.00,-999.000,9,  -999.0,9,     -999.0,9,     -999.0,9,         11,     -999.0,9,     -999.0,9,     -999.0,9,     -999.0,9
33RO20180423,        I7N,      87,          1,        112,      11111,9,20180525,       0721,     3.9978,    59.1575,       4561,  1468.0,   4.8181,  34.9020,2,  34.9300,2,     70.8,2,  80.5760,2,    102.3,2,     37.1,2,     0.00,2,    2.759,2,-999.000,9,-999.000,9,-999.0000,9,  2310.3,2,  2383.6,6,   7.4951,2,    25.00, -999.00,9, -999.00,9, -999.00,-999.000,9,  -999.0,9,     -999.0,9,     -999.0,9,         12,     -999.0,9,     -999.0,9,     -999.0,9,     -999.0,9
33RO20180423,        I7N,      87,          1,        113,      11112,9,20180525,       0721,     3.9978,    59.1575,       4561,  1233.4,   5.8908,  34.9779,2,  34.9813,2,     52.6,2,  59.1085,2,     92.5,2,     37.3,2,     0.00,2,    2.796,2,-999.000,9,-999.000,9,-999.0000,9,  2308.1,2,  2376.2,2,   7.4765,2,    25.00, -999.00,9, -999.00,9, -999.00,-999.000,9,  -999.0,9,     -999.0,9,     -999.0,9,         13,     -999.0,9,     -999.0,9,     -999.0,9,     -999.0,9
33RO20180423,        I7N,      87,          1,        114,      11113,9,20180525,       0721,     3.9978,    59.1575,       4561,  1033.7,   7.1944,  35.0534,2,  35.0557,2,     39.7,2,  44.7840,2,     79.5,2,     37.1,2,     0.00,2,    2.777,2,-999.000,9,-999.000,9,-999.0000,9,  2299.8,2,  2371.9,2,   7.4687,6,    25.00, -999.00,9, -999.00,9, -999.00,-999.000,9,  -999.0,9,     -999.0,9,     -999.0,9,         14,     -999.0,9,     -999.0,9,     -999.0,9,     -999.0,9
33RO20180423,        I7N,      87,          1,        115,      11114,9,20180525,       0721,     3.9978,    59.1575,       4561,   849.7,   8.1607,  35.1128,2,  35.1263,2,     32.8,2,  37.3280,2,     69.1,2,     36.4,2,     0.00,2,    2.747,2,   0.137,2,   0.079,2,   0.0217,2,  2290.0,6,  2354.7,2,   7.4674,2,    25.00, -999.00,9, -999.00,9, -999.00,-999.000,9,  -999.0,9,     -999.0,9,     -999.0,9,         15,     -999.0,9,     -999.0,9,     -999.0,9,     -999.0,9
33RO20180423,        I7N,      87,          1,        116,      11115,9,20180525,       0721,     3.9978,    59.1575,       4561,   694.7,   9.1247,  35.1457,2,  35.1491,2,     35.5,2,  40.0840,2,     55.9,2,     34.8,2,     0.00,2,    2.610,2,   0.337,2,   0.190,2,   0.0948,2,  2275.9,2,  2342.1,2,   7.4850,2,    25.00, -999.00,9, -999.00,9, -999.00,-999.000,9,  -999.0,9,     -999.0,9,     -999.0,9,         16,     -999.0,9,     -999.0,9,     -999.0,9,     -999.0,9
33RO20180423,        I7N,      87,          1,        117,      11116,9,20180525,       0721,     3.9978,    59.1575,       4561,   550.8,   9.7142,  35.1450,2,  35.1474,2,     40.6,2,  45.2020,2,     46.8,2,     33.5,2,     0.00,2,    2.493,2,   0.568,2,   0.313,2,   0.1262,2,  2261.0,2,  2334.4,2,   7.4960,2,    25.00, -999.00,9, -999.00,9, -999.00,-999.000,9,  -999.0,9,     -999.0,9,     -999.0,9,         17,     -999.0,9,     -999.0,9,     -999.0,9,     -999.0,9
33RO20180423,        I7N,      87,          1,        118,      11117,9,20180525,       0721,     3.9978,    59.1575,       4561,   400.6,  10.7436,  35.1493,2,  35.1636,2,     60.1,2,  63.7840,2,     32.8,2,     30.0,2,     0.00,2,    2.196,2,-999.000,9,-999.000,9,-999.0000,9,  2237.0,2,  2323.7,2,   7.5358,2,    25.00, -999.00,9, -999.00,9, -999.00,-999.000,9,  -999.0,9,     -999.0,9,     -999.0,9,         18,     -999.0,9,     -999.0,9,     -999.0,9,     -999.0,9
33RO20180423,        I7N,      87,          1,        119,      11083,9,20180525,       0721,     3.9978,    59.1575,       4561,   267.2,  12.3107,  35.2293,2,  35.2402,2,     72.1,2,  77.8765,2,     23.2,2,     25.8,2,     0.00,2,    1.904,2,-999.000,9,-999.000,9,-999.0000,9,  2216.2,2,  2320.3,2,   7.5841,2,    25.00, -999.00,9, -999.00,9, -999.00,-999.000,9,  -999.0,9,     -999.0,9,     -999.0,9,         19,     -999.0,9,     -999.0,9,     -999.0,9,     -999.0,9
33RO20180423,        I7N,      87,          1,        120,      11118,9,20180525,       0721,     3.9978,    59.1575,       4561,   183.5,  14.1526,  35.2583,2,  35.2656,2,     71.7,2,  77.8870,2,     19.1,2,     23.3,2,     0.01,2,    1.735,2,   1.892,2,   1.093,2,   0.7631,2,  2201.7,2,  2317.4,2,   7.6230,2,    25.00, -999.00,9, -999.00,9, -999.00,-999.000,9,  -999.0,9,     -999.0,9,     -999.0,9,         20,     -999.0,9,     -999.0,9,     -999.0,9,     -999.0,9
33RO20180423,        I7N,      87,          1,        121,      11119,9,20180525,       0721,     3.9978,    59.1575,       4561,   133.1,  19.1125,  35.3785,2,  35.3819,2,     56.4,2,  60.7250,2,     14.3,2,     21.5,2,     0.01,2,    1.598,2,-999.000,9,-999.000,9,-999.0000,9,  2173.0,2,  2316.9,2,   7.6897,2,    25.00, -999.00,9, -999.00,9, -999.00,-999.000,9,  -999.0,9,     -999.0,9,     -999.0,9,         21,     -999.0,9,     -999.0,9,     -999.0,9,     -999.0,9
33RO20180423,        I7N,      87,          1,        122,      11120,9,20180525,       0721,     3.9978,    59.1575,       4561,    83.3,  25.9566,  35.6883,2,  35.6865,6,    120.4,2, 128.5200,2,      5.3,2,      7.7,2,     0.47,2,    0.785,2,-999.000,9,-999.000,9,-999.0000,9,  2080.6,2,  2331.6,6,   7.9254,2,    25.00, -999.00,9, -999.00,9, -999.00,-999.000,9,  -999.0,9,     -999.0,9,     -999.0,9,         22,     -999.0,9,     -999.0,9,     -999.0,9,     -999.0,9
33RO20180423,        I7N,      87,          1,        123,      11121,9,20180525,       0721,     3.9978,    59.1575,       4561,    35.6,  29.2902,  35.0832,2,  35.0893,2,    183.8,2, 193.0600,2,      1.6,2,      0.1,2,     0.00,2,    0.133,2,-999.000,9,-999.000,9,-999.0000,9,  1967.2,2,  2302.0,2,   8.0825,6,    25.00, -999.00,9, -999.00,9, -999.00,-999.000,9,  -999.0,9,     -999.0,9,     -999.0,9,         23,     -999.0,9,     -999.0,9,     -999.0,9,     -999.0,9
33RO20180423,        I7N,      87,          1,        124,      11122,9,20180525,       0721,     3.9978,    59.1575,       4561,     3.8,  29.4593,  35.0560,2,  35.0554,2,    183.8,2, 193.0310,2,      1.5,2,      0.0,2,     0.00,2,    0.130,2,-999.000,9,-999.000,9,-999.0000,9,  1964.0,6,  2302.3,2,   8.0876,2,    25.00, -999.00,9, -999.00,9, -999.00,-999.000,9,  -999.0,9,     -999.0,9,     -999.0,9,         24,     -999.0,9,     -999.0,9,     -999.0,9,     -999.0,9