BOTTLE,20230801CCHSIOCBG
EXPOCODE,SECT_ID,STNNBR,CASTNO,SAMPNO,BTLNBR,BTLNBR_FLAG_W,DATE,TIME,LATITUDE,LONGITUDE,DEPTH,CTDPRS,CTDTMP,CTDSAL,CTDSAL_FLAG_W,SALNTY,SALNTY_FLAG_W,CTDOXY,CTDOXY_FLAG_W,OXYGEN,OXYGEN_FLAG_W,SILCAT,SILCAT_FLAG_W,NITRAT,NITRAT_FLAG_W,NITRIT,NITRIT_FLAG_W,PHSPHT,PHSPHT_FLAG_W,CFC-11,CFC-11_FLAG_W,CFC-12,CFC-12_FLAG_W,SF6,SF6_FLAG_W,TCARBN,TCARBN_FLAG_W,ALKALI,ALKALI_FLAG_W,PH_SWS,PH_SWS_FLAG_W,PH_TMP,DELC13,DELC13_FLAG_W,DELC14,DELC14_FLAG_W,C14ERR,CCL4,CCL4_FLAG_W,DOC,DOC_FLAG_W,N2O,N2O_FLAG_W,CALCIUM,CALCIUM_FLAG_W,SAMPNO_U,DNSSAL,DNSSAL_FLAG_W,DNSSAL2,DNSSAL2_FLAG_W,SALNTY_DNSSAL,SALNTY_DNSSAL_FLAG_W,SALNTY_DNSSAL2,SALNTY_DNSSAL2_FLAG_W
,,,,,,,,,,,METERS,DBAR,ITS-90,PSS-78,,PSS-78,,UMOL/KG,,UMOL/KG,,UMOL/KG,,UMOL/KG,,UMOL/KG,,UMOL/KG,,PMOL/KG,,PMOL/KG,,FMOL/KG,,UMOL/KG,,UMOL/KG,,,,DEG C,/MILLE,,/MILLE,,/MILLE,PMOL/KG,,UMOL/KG,,NMOL/KG,,MMOL/KG,,,G/KG,,G/KG,,PSS-78,,PSS-78,
33RO20180423,        I7N,      33,          1,        101,      11010,2,20180506,       0821,   -16.7968,    54.9992,       4438,  4514.4,   1.0714,  34.7081,2,  34.7093,2,    175.8,2, 203.7900,2,    124.2,6,     32.1,6,     0.00,6,    2.234,6,   0.073,2,   0.036,2,        0,2,  2269.7,6,  2375.6,2,   7.5994,6,    25.00, -999.00,9, -999.00,9, -999.00,-999.000,1,  -999.0,9,     -999.0,1,     -999.0,9,          1,     -999.0,9,     -999.0,9,     -999.0,9,     -999.0,9
33RO20180423,        I7N,      33,          1,        102,      11101,2,20180506,       0821,   -16.7968,    54.9992,       4438,  4061.5,   1.4098,  34.7215,2,  34.7227,6,    159.3,2, 184.5455,2,    126.9,6,     33.0,6,     0.00,6,    2.304,6,   0.020,2,   0.011,2,   0.0059,2,  2285.1,2,  2390.7,2,   7.5945,2,    25.00, -999.00,9, -999.00,9, -999.00,-999.000,1,    40.2,3,     -999.0,1,     -999.0,9,          2,     -999.0,9,     -999.0,9,     -999.0,9,     -999.0,9
33RO20180423,        I7N,      33,          1,        103,      11102,2,20180506,       0821,   -16.7968,    54.9992,       4438,  3824.9,   1.5485,  34.7269,2,  34.7286,2,    152.3,2, 176.6360,2,    128.2,6,     33.5,6,     0.00,6,    2.332,6,   0.012,2,   0.007,2,        0,2,  2291.7,2,  2397.8,6,   7.5930,2,    25.00, -999.00,9, -999.00,9, -999.00,-999.000,1,    38.8,3,     -999.0,1,     -999.0,9,          3,     -999.0,9,     -999.0,9,     -999.0,9,     -999.0,9
33RO20180423,        I7N,      33,          1,        104,      11103,2,20180506,       0821,   -16.7968,    54.9992,       4438,  3525.8,   1.7011,  34.7328,2,  34.7435,2,    145.7,2, 168.6320,2,    128.4,6,     33.9,6,     0.00,6,    2.375,6,   0.006,2,   0.004,2,        0,2,  2298.2,2,  2402.8,2,   7.5882,2,    25.00, -999.00,9, -999.00,9, -999.00,-999.000,1,    38.1,3,     -999.0,1,     -999.0,9,          4,     -999.0,9,     -999.0,9,     -999.0,9,     -999.0,9
33RO20180423,        I7N,      33,          1,        105,      11104,2,20180506,       0821,   -16.7968,    54.9992,       4438,  3225.9,   1.7677,  34.7355,2,  34.7370,2,    143.1,2, 166.3400,2,    127.7,6,     33.9,6,     0.00,6,    2.369,6,   0.018,3,   0.012,3,        0,2,  2299.3,2,  2404.3,2,   7.5861,2,    25.00, -999.00,9, -999.00,9, -999.00,-999.000,1,  -999.0,9,     -999.0,1,     -999.0,9,          5,     -999.0,9,     -999.0,9,     -999.0,9,     -999.0,9
33RO20180423,        I7N,      33,          1,        106,      11105,2,20180506,       0821,   -16.7968,    54.9992,       4438,  2925.5,   1.8809,  34.7389,2,  34.7417,2,    140.3,2, 161.4290,2,    126.4,2,     34.1,2,     0.00,2,    2.394,2,   0.004,2,   0.004,2,        0,2,  2300.1,2,  2404.4,2,   7.5811,2,    25.00, -999.00,9, -999.00,9, -999.00,-999.000,1,  -999.0,9,     -999.0,1,     -999.0,9,          6,     -999.0,9,     -999.0,9,     -999.0,9,     -999.0,9
33RO20180423,        I7N,      33,          1,        107,      11106,2,20180506,       0821,   -16.7968,    54.9992,       4438,  2625.5,   2.0370,  34.7395,2,  34.7444,2,    138.6,2, 158.8220,2,    122.7,2,     33.9,2,     0.00,2,    2.398,2,   0.004,2,   0.003,2,        0,2,  2298.5,2,  2399.8,2,   7.5802,2,    25.00, -999.00,9, -999.00,9, -999.00,-999.000,1,  -999.0,9,     -999.0,1,     -999.0,9,          7,     -999.0,9,     -999.0,9,     -999.0,9,     -999.0,9
33RO20180423,        I7N,      33,          1,        108,      11107,2,20180506,       0821,   -16.7968,    54.9992,       4438,  2325.1,   2.2267,  34.7337,2,  34.7502,2,    139.5,2, 159.1510,2,    115.9,2,     33.7,2,     0.00,2,    2.379,2,   0.007,6,   0.003,6,   0.0038,6,  2291.4,2,  2392.5,2,   7.5780,2,    25.00, -999.00,9, -999.00,9, -999.00,-999.000,1,  -999.0,9,     -999.0,1,     -999.0,9,          8,     -999.0,9,     -999.0,9,     -999.0,9,     -999.0,9
33RO20180423,        I7N,      33,          1,        109,      11108,2,20180506,       0821,   -16.7968,    54.9992,       4438,  2026.5,   2.5114,  34.7197,2,  34.7203,2,    138.0,2, 156.7120,2,    108.5,2,     33.8,2,     0.00,2,    2.395,2,   0.014,2,   0.008,2,   0.0078,2,  2285.4,2,  2384.4,2,   7.5755,2,    25.00, -999.00,9, -999.00,9, -999.00,-999.000,1,  -999.0,9,     -999.0,1,     -999.0,9,          9,     -999.0,9,     -999.0,9,     -999.0,9,     -999.0,9
33RO20180423,        I7N,      33,          1,        110,      11109,2,20180506,       0821,   -16.7968,    54.9992,       4438,  1737.8,   2.9479,  34.6932,2,  34.6945,2,    136.5,2, 153.1520,2,     95.2,2,     33.6,2,     0.00,2,    2.377,2,   0.039,2,   0.021,2,        0,2,  2274.2,2,  2369.7,2,   7.5670,2,    25.00, -999.00,9, -999.00,9, -999.00,-999.000,1,  -999.0,9,     -999.0,1,     -999.0,9,         10,     -999.0,9,     -999.0,9,     -999.0,9,     -999.0,9
33RO20180423,        I7N,      33,          1,        111,      11110,2,20180506,       0821,   -16.7968,    54.9992,       4438,  1487.8,   3.4902,  34.6792,2,  34.6803,2,    127.6,2, 142.7600,2,     89.1,2,     34.1,2,     0.00,2,    2.411,2,   0.065,2,   0.034,2,        0,2,  2272.6,2,  2361.2,6,   7.5556,2,    25.00, -999.00,9, -999.00,9, -999.00,-999.000,1,    41.4,3,     -999.0,1,     -999.0,9,         11,     -999.0,9,     -999.0,9,     -999.0,9,     -999.0,9
33RO20180423,        I7N,      33,          1,        112,      11111,2,20180506,       0821,   -16.7968,    54.9992,       4438,  1251.2,   4.3578,  34.6896,2,  34.6925,2,    112.3,2, 124.6530,2,     84.1,2,     34.7,2,     0.00,2,    2.465,2,   0.107,2,   0.056,2,   0.0057,2,  2273.6,2,  2359.0,2,   7.5425,6,    25.00, -999.00,9, -999.00,9, -999.00,-999.000,1,  -999.0,9,     -999.0,1,     -999.0,9,         12,     -999.0,9,     -999.0,9,     -999.0,9,     -999.0,9
33RO20180423,        I7N,      33,          1,        113,      11112,2,20180506,       0821,   -16.7968,    54.9992,       4438,  1050.3,   5.3312,  34.6955,2,  34.6988,2,    103.4,2, 111.4760,2,     74.3,2,     34.2,2,     0.00,2,    2.442,2,   0.246,2,   0.127,2,   0.0069,2,  2264.3,6,  2350.0,2,   7.5395,2,    25.00, -999.00,9, -999.00,9, -999.00,-999.000,1,    41.8,3,     -999.0,1,     -999.0,9,         13,     -999.0,9,     -999.0,9,     -999.0,9,     -999.0,9
33RO20180423,        I7N,      33,          1,        114,      11113,2,20180506,       0821,   -16.7968,    54.9992,       4438,   854.9,   6.3303,  34.6757,2,  34.6793,2,    111.1,2, 122.5530,2,     58.0,2,     32.3,2,     0.00,2,    2.311,2,   0.643,2,   0.331,2,   0.1454,2,  2243.1,2,  2333.7,2,   7.5601,2,    25.00, -999.00,9, -999.00,9, -999.00,-999.000,1,  -999.0,9,     -999.0,1,     -999.0,9,         14,     -999.0,9,     -999.0,9,     -999.0,9,     -999.0,9
33RO20180423,        I7N,      33,          1,        115,      11114,2,20180506,       0821,   -16.7968,    54.9992,       4438,   712.6,   7.3099,  34.6488,2,  34.6550,2,    134.3,2, 146.3630,2,     39.2,2,     28.7,2,     0.00,2,    2.041,2,   1.403,2,   0.714,2,   0.3718,2,  2209.3,2,  2317.9,2,   7.6068,2,    25.00, -999.00,9, -999.00,9, -999.00,-999.000,1,  -999.0,9,     -999.0,1,     -999.0,9,         15,     -999.0,9,     -999.0,9,     -999.0,9,     -999.0,9
33RO20180423,        I7N,      33,          1,        116,      11115,2,20180506,       0821,   -16.7968,    54.9992,       4438,   563.5,   8.9547,  34.7531,2,  34.7575,2,    136.9,2, 149.2875,2,     27.4,2,     25.2,2,     0.00,2,    1.781,2,   1.968,2,   1.041,2,   0.5705,2,  2190.7,2,  2310.3,2,   7.6412,2,    25.00, -999.00,9, -999.00,9, -999.00,-999.000,1,    45.2,3,     -999.0,1,     -999.0,9,         16,     -999.0,9,     -999.0,9,     -999.0,9,     -999.0,9
33RO20180423,        I7N,      33,          1,        117,      11116,2,20180506,       0821,   -16.7968,    54.9992,       4438,   424.8,  10.6840,  34.8909,2,  34.8956,2,    162.8,2, 174.8740,2,     15.2,2,     18.9,2,     0.00,2,    1.352,2,   2.625,2,   1.456,2,   1.0554,2,  2161.7,2,  2309.5,2,   7.7131,2,    25.00, -999.00,9, -999.00,9, -999.00,-999.000,1,    48.1,3,     -999.0,1,     -999.0,9,         17,     -999.0,9,     -999.0,9,     -999.0,9,     -999.0,9
33RO20180423,        I7N,      33,          1,        118,      11117,2,20180506,       0821,   -16.7968,    54.9992,       4438,   330.9,  12.4013,  35.0863,2,  35.0845,2,    169.9,2, 180.9410,2,     10.9,2,     14.6,2,     0.00,2,    1.087,2,   2.638,2,   1.506,2,   1.2541,2,  2146.7,2,  2316.7,2,   7.7635,2,    25.00, -999.00,9, -999.00,9, -999.00,-999.000,1,  -999.0,9,     -999.0,1,     -999.0,9,         18,     -999.0,9,     -999.0,9,     -999.0,9,     -999.0,9
33RO20180423,        I7N,      33,          1,        119,      11083,2,20180506,       0821,   -16.7968,    54.9992,       4438,   255.3,  15.2917,  35.3334,2,  35.3340,2,    153.2,2, 163.9530,2,     10.3,2,     11.1,2,     0.00,2,    0.870,2,   2.284,6,   1.350,6,   1.2902,6,  2136.0,2,  2326.5,2,   7.8114,2,    25.00, -999.00,9, -999.00,9, -999.00,-999.000,1,    54.1,3,     -999.0,1,     -999.0,9,         19,     -999.0,9,     -999.0,9,     -999.0,9,     -999.0,9
33RO20180423,        I7N,      33,          1,        120,      11118,2,20180506,       0821,   -16.7968,    54.9992,       4438,   188.8,  17.2795,  35.2573,2,  35.2599,6,    107.6,2, 127.8060,2,     14.0,2,     15.3,2,     0.00,2,    1.116,2,   1.915,2,   1.145,2,   1.0695,2,  2147.8,2,  2316.7,2,   7.7690,2,    25.00, -999.00,9, -999.00,9, -999.00,-999.000,1,    54.8,3,     -999.0,1,     -999.0,9,         20,     -999.0,9,     -999.0,9,     -999.0,9,     -999.0,9
33RO20180423,        I7N,      33,          1,        121,      11119,2,20180506,       0821,   -16.7968,    54.9992,       4438,   138.5,  19.4490,  35.2573,2,  35.2643,2,    113.7,2, 122.5510,2,     10.8,2,     12.6,2,     0.01,2,    0.927,2,   1.859,2,   1.126,2,    1.187,2,  2116.1,2,  2316.7,2,   7.8222,2,    25.00, -999.00,9, -999.00,9, -999.00,-999.000,1,    61.9,3,     -999.0,1,     -999.0,9,         21,     -999.0,9,     -999.0,9,     -999.0,9,     -999.0,9
33RO20180423,        I7N,      33,          1,        122,      11120,2,20180506,       0821,   -16.7968,    54.9992,       4438,    88.6,  23.6049,  35.1010,2,  35.0996,2,    181.1,2, 192.1330,2,      3.3,2,      1.5,2,     0.25,2,    0.266,2,   1.753,2,   1.092,2,   1.4534,2,  2018.0,2,  2302.3,6,   8.0035,2,    25.00, -999.00,9, -999.00,9, -999.00,-999.000,1,    63.8,3,     -999.0,1,     -999.0,9,         22,     -999.0,9,     -999.0,9,     -999.0,9,     -999.0,9
33RO20180423,        I7N,      33,          1,        123,      11121,2,20180506,       0821,   -16.7968,    54.9992,       4438,    39.3,  27.9011,  34.6523,2,  34.6610,2,    188.1,2, 198.8380,2,      2.3,2,      0.0,2,     0.00,2,    0.135,2,   1.469,2,   0.934,2,   1.3992,2,  1955.8,2,  2272.0,2,   8.0639,6,    25.00, -999.00,9, -999.00,9, -999.00,-999.000,1,    69.9,3,     -999.0,1,     -999.0,9,         23,     -999.0,9,     -999.0,9,     -999.0,9,     -999.0,9
33RO20180423,        I7N,      33,          1,        124,      11122,2,20180506,       0821,   -16.7968,    54.9992,       4438,     3.2,  27.9675,  34.6619,2,  34.6641,2,    188.4,2, 198.5710,2,      2.3,2,      0.0,2,     0.00,2,    0.131,2,   1.463,2,   0.934,2,   1.3983,2,  1956.9,6,  2272.0,2,   8.0649,2,    25.00, -999.00,9, -999.00,9, -999.00,-999.000,1,    72.3,3,     -999.0,1,     -999.0,9,         24,     -999.0,9,     -999.0,9,     -999.0,9,     -999.0,9