BOTTLE,20230801CCHSIOCBG
EXPOCODE,SECT_ID,STNNBR,CASTNO,SAMPNO,BTLNBR,BTLNBR_FLAG_W,DATE,TIME,LATITUDE,LONGITUDE,DEPTH,CTDPRS,CTDTMP,CTDSAL,CTDSAL_FLAG_W,SALNTY,SALNTY_FLAG_W,CTDOXY,CTDOXY_FLAG_W,OXYGEN,OXYGEN_FLAG_W,SILCAT,SILCAT_FLAG_W,NITRAT,NITRAT_FLAG_W,NITRIT,NITRIT_FLAG_W,PHSPHT,PHSPHT_FLAG_W,CFC-11,CFC-11_FLAG_W,CFC-12,CFC-12_FLAG_W,SF6,SF6_FLAG_W,TCARBN,TCARBN_FLAG_W,ALKALI,ALKALI_FLAG_W,PH_SWS,PH_SWS_FLAG_W,PH_TMP,DELC13,DELC13_FLAG_W,DELC14,DELC14_FLAG_W,C14ERR,CCL4,CCL4_FLAG_W,DOC,DOC_FLAG_W,N2O,N2O_FLAG_W,CALCIUM,CALCIUM_FLAG_W,SAMPNO_U,DNSSAL,DNSSAL_FLAG_W,DNSSAL2,DNSSAL2_FLAG_W,SALNTY_DNSSAL,SALNTY_DNSSAL_FLAG_W,SALNTY_DNSSAL2,SALNTY_DNSSAL2_FLAG_W
,,,,,,,,,,,METERS,DBAR,ITS-90,PSS-78,,PSS-78,,UMOL/KG,,UMOL/KG,,UMOL/KG,,UMOL/KG,,UMOL/KG,,UMOL/KG,,PMOL/KG,,PMOL/KG,,FMOL/KG,,UMOL/KG,,UMOL/KG,,,,DEG C,/MILLE,,/MILLE,,/MILLE,PMOL/KG,,UMOL/KG,,NMOL/KG,,MMOL/KG,,,G/KG,,G/KG,,PSS-78,,PSS-78,
33RO20180423,        I7N,     108,          1,        101,      11010,2,20180530,       2249,    13.2435,    64.6692,       4093,  4158.1,   1.7206,  34.7345,2,  34.7390,6,    122.7,2, 141.0910,2,    145.6,6,     36.2,6,     0.00,6,    2.539,6,   0.009,2,   0.006,2,   0.0031,2,  2351.4,6,  2474.6,2,   7.5949,6,    25.00, -999.00,9, -999.00,9, -999.00,-999.000,1,  -999.0,9,     -999.0,1,     -999.0,9,          1,     -999.0,9,     -999.0,9,     -999.0,9,     -999.0,9
33RO20180423,        I7N,     108,          1,        102,      11101,2,20180530,       2249,    13.2435,    64.6692,       4093,  3985.1,   1.7044,  34.7348,2,  34.7426,2,    127.3,2, 145.4930,2,    143.2,6,     35.9,6,     0.00,6,    2.516,6,   0.004,2,   0.003,2,   0.0065,2,  2339.4,2,  2442.7,6,   7.5901,2,    25.00, -999.00,9, -999.00,9, -999.00,-999.000,1,  -999.0,9,     -999.0,1,     -999.0,9,          2,     -999.0,9,     -999.0,9,     -999.0,9,     -999.0,9
33RO20180423,        I7N,     108,          1,        103,      11102,2,20180530,       2249,    13.2435,    64.6692,       4093,  3800.0,   1.6990,  34.7357,2,  34.7388,2,    132.9,2, 152.5300,2,    140.4,6,     35.4,6,     0.00,6,    2.487,6,   0.000,2,   0.002,2,        0,2,  2326.2,2,  2427.5,2,   7.5862,2,    25.00, -999.00,9, -999.00,9, -999.00,-999.000,1,  -999.0,9,     -999.0,1,     -999.0,9,          3,     -999.0,9,     -999.0,9,     -999.0,9,     -999.0,9
33RO20180423,        I7N,     108,          1,        104,      11103,2,20180530,       2249,    13.2435,    64.6692,       4093,  3492.8,   1.7089,  34.7376,2,  34.7386,2,    131.6,2, 150.9300,2,    139.9,6,     35.3,6,     0.00,6,    2.486,6,   0.000,2,   0.001,2,   0.0022,2,  2325.6,2,  2439.4,2,   7.5815,2,    25.00, -999.00,9, -999.00,9, -999.00,-999.000,1,  -999.0,9,     -999.0,1,     -999.0,9,          4,     -999.0,9,     -999.0,9,     -999.0,9,     -999.0,9
33RO20180423,        I7N,     108,          1,        105,      11104,2,20180530,       2249,    13.2435,    64.6692,       4093,  3200.3,   1.7485,  34.7410,2,  34.7218,2,    122.9,2, 140.8560,2,    143.0,2,     35.9,2,     0.00,2,    2.542,2,   0.000,2,   0.002,2,   0.0047,2,  2336.5,2,  2442.0,2,   7.5693,2,    25.00, -999.00,9, -999.00,9, -999.00,-999.000,1,  -999.0,9,     -999.0,1,     -999.0,9,          5,     -999.0,9,     -999.0,9,     -999.0,9,     -999.0,9
33RO20180423,        I7N,     108,          1,        106,      11105,2,20180530,       2249,    13.2435,    64.6692,       4093,  2901.0,   1.8319,  34.7468,2,  34.7710,2,    118.9,2, 135.6550,2,    142.9,2,     36.0,2,     0.00,2,    2.565,2,   0.000,2,   0.002,2,        0,2,  2335.5,2,  2459.7,4,   7.5623,2,    25.00, -999.00,9, -999.00,9, -999.00,-999.000,1,  -999.0,9,     -999.0,1,     -999.0,9,          6,     -999.0,9,     -999.0,9,     -999.0,9,     -999.0,9
33RO20180423,        I7N,     108,          1,        107,      11106,2,20180530,       2249,    13.2435,    64.6692,       4093,  2600.4,   2.0684,  34.7621,2,  34.7741,2,    111.5,2, 126.8450,2,    141.2,2,     36.5,2,     0.00,2,    2.596,2,   0.000,2,   0.003,2,        0,2,  2339.8,2,  2428.3,2,   7.5461,2,    25.00, -999.00,9, -999.00,9, -999.00,-999.000,1,  -999.0,9,     -999.0,1,     -999.0,9,          7,     -999.0,9,     -999.0,9,     -999.0,9,     -999.0,9
33RO20180423,        I7N,     108,          1,        108,      11107,2,20180530,       2249,    13.2435,    64.6692,       4093,  2301.2,   2.4075,  34.7845,2,  34.7876,6,    102.9,2, 116.3210,2,    138.1,2,     36.9,2,     0.00,2,    2.650,2,   0.000,2,   0.001,2,   0.0047,2,  2339.1,2,  2425.0,2,   7.5333,2,    25.00, -999.00,9, -999.00,9, -999.00,-999.000,1,  -999.0,9,     -999.0,1,     -999.0,9,          8,     -999.0,9,     -999.0,9,     -999.0,9,     -999.0,9
33RO20180423,        I7N,     108,          1,        109,      11108,2,20180530,       2249,    13.2435,    64.6692,       4093,  2002.2,   3.0012,  34.8246,2,  34.8622,2,     88.8,2, 100.0570,2,    131.3,2,     37.4,2,     0.01,2,    2.732,2,   0.000,2,   0.003,2,     0.01,2,  2341.0,2,  2416.3,2,   7.5112,2,    25.00, -999.00,9, -999.00,9, -999.00,-999.000,1,  -999.0,9,     -999.0,1,     -999.0,9,          9,     -999.0,9,     -999.0,9,     -999.0,9,     -999.0,9
33RO20180423,        I7N,     108,          1,        110,      11109,2,20180530,       2249,    13.2435,    64.6692,       4093,  1717.7,   4.0595,  34.9052,2,  34.9082,2,     65.4,2,  73.6540,2,    120.7,2,     38.2,2,     0.00,2,    2.862,2,   0.002,2,   0.003,2,        0,2,  2342.1,2,  2398.1,3,   7.4813,2,    25.00, -999.00,9, -999.00,9, -999.00,-999.000,1,  -999.0,9,     -999.0,1,     -999.0,9,         10,     -999.0,9,     -999.0,9,     -999.0,9,     -999.0,9
33RO20180423,        I7N,     108,          1,        111,      11110,2,20180530,       2249,    13.2435,    64.6692,       4093,  1469.0,   5.4351,  35.0230,2,  35.0608,2,     45.0,2,  50.8560,2,    104.4,2,     38.3,2,     0.00,2,    2.880,2,   0.013,2,   0.012,2,        0,2,  2332.2,2,  2390.4,2,   7.4638,2,    25.00, -999.00,9, -999.00,9, -999.00,-999.000,1,  -999.0,9,     -999.0,1,     -999.0,9,         11,     -999.0,9,     -999.0,9,     -999.0,9,     -999.0,9
33RO20180423,        I7N,     108,          1,        112,      11111,2,20180530,       2249,    13.2435,    64.6692,       4093,  1232.9,   6.7505,  35.1396,2,  35.1834,2,     28.1,2,  32.4490,2,     90.5,2,     38.1,2,     0.00,2,    2.903,2,   0.030,6,   0.022,6,   0.0136,6,  2325.0,2,  2378.6,6,   7.4483,2,    25.00, -999.00,9, -999.00,9, -999.00,-999.000,1,  -999.0,9,     -999.0,1,     -999.0,9,         12,     -999.0,9,     -999.0,9,     -999.0,9,     -999.0,9
33RO20180423,        I7N,     108,          1,        113,      11112,2,20180530,       2249,    13.2435,    64.6692,       4093,  1033.3,   8.1843,  35.2792,2,  35.2802,2,     12.5,2,  15.0670,2,     77.7,2,     37.5,2,     0.00,2,    2.883,2,   0.056,2,   0.040,2,   0.0231,2,  2318.1,2,  2363.8,2,   7.4406,2,    25.00, -999.00,9, -999.00,9, -999.00,-999.000,1,  -999.0,9,     -999.0,1,     -999.0,9,         13,     -999.0,9,     -999.0,9,     -999.0,9,     -999.0,9
33RO20180423,        I7N,     108,          1,        114,      11113,2,20180530,       2249,    13.2435,    64.6692,       4093,   850.1,   9.4621,  35.3931,2,  35.3953,2,      5.9,2,   7.8970,2,     66.0,2,     36.0,2,     0.00,2,    2.812,2,   0.098,2,   0.062,2,   0.0253,2,  2304.4,2,  2360.5,2,   7.4488,2,    25.00, -999.00,9, -999.00,9, -999.00,-999.000,1,  -999.0,9,     -999.0,1,     -999.0,9,         14,     -999.0,9,     -999.0,9,     -999.0,9,     -999.0,9
33RO20180423,        I7N,     108,          1,        115,      11114,2,20180530,       2249,    13.2435,    64.6692,       4093,   701.9,  10.5988,  35.4882,2,  35.4907,2,      4.6,2,-999.0000,9,     54.7,2,     33.9,2,     0.01,2,    2.709,2,   0.220,2,   0.155,2,   0.0597,2,  2292.0,2,  2348.5,2,   7.4655,6,    25.00, -999.00,9, -999.00,9, -999.00,-999.000,1,  -999.0,9,     -999.0,1,     -999.0,9,         15,     -999.0,9,     -999.0,9,     -999.0,9,     -999.0,9
33RO20180423,        I7N,     108,          1,        116,      11115,2,20180530,       2249,    13.2435,    64.6692,       4093,   550.8,  11.5694,  35.5366,2,  35.5497,2,      3.2,2,   5.5250,2,     44.5,2,     31.8,2,     0.00,2,    2.600,2,   0.372,6,   0.239,6,   0.1075,6,  2283.6,2,  2344.8,2,   7.4810,3,    25.00, -999.00,9, -999.00,9, -999.00,-999.000,1,  -999.0,9,     -999.0,1,     -999.0,9,         16,     -999.0,9,     -999.0,9,     -999.0,9,     -999.0,9
33RO20180423,        I7N,     108,          1,        117,      11116,2,20180530,       2249,    13.2435,    64.6692,       4093,   417.9,  12.6549,  35.6115,2,  35.6142,2,      0.5,2,   2.3510,2,     36.4,2,     29.0,2,     0.01,2,    2.519,2,   0.593,2,   0.458,2,   0.1609,2,  2281.7,2,  2342.8,2,   7.4666,2,    25.00, -999.00,9, -999.00,9, -999.00,-999.000,1,  -999.0,9,     -999.0,1,     -999.0,9,         17,     -999.0,9,     -999.0,9,     -999.0,9,     -999.0,9
33RO20180423,        I7N,     108,          1,        118,      11117,2,20180530,       2249,    13.2435,    64.6692,       4093,   321.2,  13.7315,  35.6648,2,  35.6710,2,      0.2,2,   2.2860,2,     31.2,2,     22.6,2,     2.94,2,    2.443,2,   0.776,2,   0.530,2,   0.2735,2,  2281.8,2,  2343.2,2,   7.4667,2,    25.00, -999.00,9, -999.00,9, -999.00,-999.000,1,  -999.0,9,     -999.0,1,     -999.0,9,         18,     -999.0,9,     -999.0,9,     -999.0,9,     -999.0,9
33RO20180423,        I7N,     108,          1,        119,      11083,2,20180530,       2249,    13.2435,    64.6692,       4093,   251.1,  14.8851,  35.6037,2,  35.6158,2,      0.2,2,   1.3380,2,     26.7,2,     23.4,2,     1.08,2,    2.381,2,   0.995,2,   0.900,3,   0.3571,2,  2270.4,6,  2334.8,2,   7.4819,2,    25.00, -999.00,9, -999.00,9, -999.00,-999.000,1,  -999.0,9,     -999.0,1,     -999.0,9,         19,     -999.0,9,     -999.0,9,     -999.0,9,     -999.0,9
33RO20180423,        I7N,     108,          1,        120,      11118,2,20180530,       2249,    13.2435,    64.6692,       4093,   183.7,  18.0122,  35.8245,2,  35.8264,2,      0.2,2,   2.5090,2,     21.7,2,     17.8,2,     3.92,2,    2.337,2,   1.148,2,   1.013,3,   0.6225,2,  2257.9,2,  2344.2,6,   7.5396,2,    25.00, -999.00,9, -999.00,9, -999.00,-999.000,1,  -999.0,9,     -999.0,1,     -999.0,9,         20,     -999.0,9,     -999.0,9,     -999.0,9,     -999.0,9
33RO20180423,        I7N,     108,          1,        121,      11119,2,20180530,       2249,    13.2435,    64.6692,       4093,   133.7,  22.2414,  36.1221,2,  36.1267,2,     10.2,2,  12.7710,2,     10.9,2,     25.0,2,     0.04,2,    1.981,2,   1.577,2,   0.954,2,   1.0883,2,  2220.2,2,  2351.9,2,   7.6609,6,    25.00, -999.00,9, -999.00,9, -999.00,-999.000,1,  -999.0,9,     -999.0,1,     -999.0,9,         21,     -999.0,9,     -999.0,9,     -999.0,9,     -999.0,9
33RO20180423,        I7N,     108,          1,        122,      11120,2,20180530,       2249,    13.2435,    64.6692,       4093,    84.2,  25.9494,  36.3744,2,  36.3727,2,    164.2,2, 172.5040,2,      2.6,2,      3.8,2,     0.88,2,    0.593,2,   1.591,2,   1.270,3,   1.3983,2,  2082.5,2,  2376.2,2,   7.9912,2,    25.00, -999.00,9, -999.00,9, -999.00,-999.000,1,  -999.0,9,     -999.0,1,     -999.0,9,         22,     -999.0,9,     -999.0,9,     -999.0,9,     -999.0,9
33RO20180423,        I7N,     108,          1,        123,      11121,2,20180530,       2249,    13.2435,    64.6692,       4093,    35.1,  29.3450,  36.2895,2,  36.2562,2,    200.1,2,-999.0000,9,      1.4,2,      0.0,2,     0.01,2,    0.192,2,-999.000,9,-999.000,9,-999.0000,9,  -999.0,9,  -999.0,9,-999.0000,9,  -999.00, -999.00,9, -999.00,9, -999.00,-999.000,9,  -999.0,9,     -999.0,9,     -999.0,9,         23,     -999.0,9,     -999.0,9,     -999.0,9,     -999.0,9
33RO20180423,        I7N,     108,          1,        124,      11122,2,20180530,       2249,    13.2435,    64.6692,       4093,     4.3,  30.1091,  36.0168,2,  36.0221,2,    182.9,2, 190.9640,2,      1.5,2,      0.0,2,     0.01,2,    0.145,2,   1.325,2,   0.864,2,   1.2932,2,  2012.5,6,  2358.5,3,   8.0895,2,    25.00, -999.00,9, -999.00,9, -999.00,-999.000,1,  -999.0,9,     -999.0,1,     -999.0,9,         24,     -999.0,9,     -999.0,9,     -999.0,9,     -999.0,9