BOTTLE,20230801CCHSIOCBG
EXPOCODE,SECT_ID,STNNBR,CASTNO,SAMPNO,BTLNBR,BTLNBR_FLAG_W,DATE,TIME,LATITUDE,LONGITUDE,DEPTH,CTDPRS,CTDTMP,CTDSAL,CTDSAL_FLAG_W,SALNTY,SALNTY_FLAG_W,CTDOXY,CTDOXY_FLAG_W,OXYGEN,OXYGEN_FLAG_W,SILCAT,SILCAT_FLAG_W,NITRAT,NITRAT_FLAG_W,NITRIT,NITRIT_FLAG_W,PHSPHT,PHSPHT_FLAG_W,CFC-11,CFC-11_FLAG_W,CFC-12,CFC-12_FLAG_W,SF6,SF6_FLAG_W,TCARBN,TCARBN_FLAG_W,ALKALI,ALKALI_FLAG_W,PH_SWS,PH_SWS_FLAG_W,PH_TMP,DELC13,DELC13_FLAG_W,DELC14,DELC14_FLAG_W,C14ERR,CCL4,CCL4_FLAG_W,DOC,DOC_FLAG_W,N2O,N2O_FLAG_W,CALCIUM,CALCIUM_FLAG_W,SAMPNO_U,DNSSAL,DNSSAL_FLAG_W,DNSSAL2,DNSSAL2_FLAG_W,SALNTY_DNSSAL,SALNTY_DNSSAL_FLAG_W,SALNTY_DNSSAL2,SALNTY_DNSSAL2_FLAG_W
,,,,,,,,,,,METERS,DBAR,ITS-90,PSS-78,,PSS-78,,UMOL/KG,,UMOL/KG,,UMOL/KG,,UMOL/KG,,UMOL/KG,,UMOL/KG,,PMOL/KG,,PMOL/KG,,FMOL/KG,,UMOL/KG,,UMOL/KG,,,,DEG C,/MILLE,,/MILLE,,/MILLE,PMOL/KG,,UMOL/KG,,NMOL/KG,,MMOL/KG,,,G/KG,,G/KG,,PSS-78,,PSS-78,
33RO20180423,        I7N,     100,          1,        101,      11010,2,20180528,       1742,     9.1870,    63.9213,       4510,  4569.5,   1.6269,  34.7291,2,  34.7305,2,    143.6,2, 166.2510,2,    135.2,6,     34.3,6,     0.01,6,    2.433,6,   0.010,2,   0.007,2,        0,2,  2310.0,6,  2425.0,3,   7.5965,6,    25.00, -999.00,9, -999.00,9, -999.00,-999.000,1,  -999.0,9,     -999.0,1,     -999.0,9,          1,     -999.0,9,     -999.0,9,     -999.0,9,     -999.0,9
33RO20180423,        I7N,     100,          1,        102,      11101,2,20180528,       1742,     9.1870,    63.9213,       4510,  4395.2,   1.6151,  34.7297,2,  34.7318,2,    143.0,2, 165.5050,2,    135.5,6,     34.4,6,     0.01,6,    2.420,6,   0.007,2,   0.005,2,   0.0002,2,  2310.2,2,  2413.8,6,   7.5909,2,    25.00, -999.00,9, -999.00,9, -999.00,-999.000,1,  -999.0,9,     -999.0,1,     -999.0,9,          2,     -999.0,9,     -999.0,9,     -999.0,9,     -999.0,9
33RO20180423,        I7N,     100,          1,        103,      11102,2,20180528,       1742,     9.1870,    63.9213,       4510,  4200.4,   1.6298,  34.7315,2,  34.7324,2,    140.6,2, 162.9390,2,    135.9,6,     34.6,6,     0.01,6,    2.441,6,   0.007,2,   0.005,2,   0.0014,2,  2312.8,2,  2417.5,2,   7.5910,2,    25.00, -999.00,9, -999.00,9, -999.00,-999.000,1,  -999.0,9,     -999.0,1,     -999.0,9,          3,     -999.0,9,     -999.0,9,     -999.0,9,     -999.0,9
33RO20180423,        I7N,     100,          1,        104,      11103,2,20180528,       1742,     9.1870,    63.9213,       4510,  3900.4,   1.6801,  34.7351,2,  34.7585,2,    136.1,2, 157.7450,2,    136.7,6,     34.8,6,     0.00,6,    2.452,6,   0.004,2,   0.004,2,        0,2,  2315.5,2,  2425.4,2,   7.5855,2,    25.00, -999.00,9, -999.00,9, -999.00,-999.000,1,  -999.0,9,     -999.0,1,     -999.0,9,          4,     -999.0,9,     -999.0,9,     -999.0,9,     -999.0,9
33RO20180423,        I7N,     100,          1,        105,      11104,2,20180528,       1742,     9.1870,    63.9213,       4510,  3601.0,   1.7088,  34.7377,2,  34.7405,2,    134.3,2, 155.6670,2,    136.1,2,     34.9,2,     0.01,2,    2.458,2,   0.004,2,   0.005,2,        0,2,  2316.0,2,  2418.1,2,   7.5841,2,    25.00, -999.00,9, -999.00,9, -999.00,-999.000,1,  -999.0,9,     -999.0,1,     -999.0,9,          5,     -999.0,9,     -999.0,9,     -999.0,9,     -999.0,9
33RO20180423,        I7N,     100,          1,        106,      11105,2,20180528,       1742,     9.1870,    63.9213,       4510,  3300.6,   1.7519,  34.7405,2,  34.7490,2,    132.7,2, 153.0520,2,    135.8,2,     35.0,2,     0.01,2,    2.468,2,   0.003,2,   0.002,2,        0,2,  2317.2,2,  2417.7,2,   7.5807,2,    25.00, -999.00,9, -999.00,9, -999.00,-999.000,1,  -999.0,9,     -999.0,1,     -999.0,9,          6,     -999.0,9,     -999.0,9,     -999.0,9,     -999.0,9
33RO20180423,        I7N,     100,          1,        107,      11106,2,20180528,       1742,     9.1870,    63.9213,       4510,  2999.9,   1.8208,  34.7448,2,  34.7482,6,    130.2,2, 149.8590,2,    135.0,2,     35.1,2,     0.01,2,    2.482,2,   0.002,2,   0.003,2,        0,2,  2317.1,2,  2419.7,2,   7.5764,2,    25.00, -999.00,9, -999.00,9, -999.00,-999.000,1,  -999.0,9,     -999.0,1,     -999.0,9,          7,     -999.0,9,     -999.0,9,     -999.0,9,     -999.0,9
33RO20180423,        I7N,     100,          1,        108,      11107,2,20180528,       1742,     9.1870,    63.9213,       4510,  2700.7,   1.9449,  34.7523,2,  34.7698,2,    126.7,2, 144.8430,2,    133.9,2,     35.3,2,     0.00,2,    2.505,2,   0.003,2,   0.002,2,        0,2,  2318.7,2,  2418.8,2,   7.5701,2,    25.00, -999.00,9, -999.00,9, -999.00,-999.000,1,  -999.0,9,     -999.0,1,     -999.0,9,          8,     -999.0,9,     -999.0,9,     -999.0,9,     -999.0,9
33RO20180423,        I7N,     100,          1,        109,      11108,2,20180528,       1742,     9.1870,    63.9213,       4510,  2400.9,   2.2215,  34.7697,2,  34.7732,2,    116.7,2, 130.5890,2,    133.5,2,     35.9,2,     0.00,2,    2.566,2,   0.003,2,   0.004,2,        0,2,  2326.2,2,  2418.2,2,   7.5510,2,    25.00, -999.00,9, -999.00,9, -999.00,-999.000,1,  -999.0,9,     -999.0,1,     -999.0,9,          9,     -999.0,9,     -999.0,9,     -999.0,9,     -999.0,9
33RO20180423,        I7N,     100,          1,        110,      11109,2,20180528,       1742,     9.1870,    63.9213,       4510,  2100.1,   2.6166,  34.7874,2,  34.7881,2,    107.3,2, 121.6160,2,    128.6,2,     36.1,2,     0.00,2,    2.608,2,   0.000,6,   0.002,6,   0.0035,6,  2325.2,2,  2412.0,2,   7.5402,2,    25.00, -999.00,9, -999.00,9, -999.00,-999.000,1,  -999.0,9,     -999.0,1,     -999.0,9,         10,     -999.0,9,     -999.0,9,     -999.0,9,     -999.0,9
33RO20180423,        I7N,     100,          1,        111,      11110,2,20180528,       1742,     9.1870,    63.9213,       4510,  1800.2,   3.3154,  34.8258,2,  34.8286,2,     92.2,2, 103.8060,2,    120.7,2,     36.7,2,     0.01,2,    2.674,2,   0.002,2,   0.004,2,        0,2,  2324.5,2,  2403.2,2,   7.5186,2,    25.00, -999.00,9, -999.00,9, -999.00,-999.000,1,  -999.0,9,     -999.0,1,     -999.0,9,         11,     -999.0,9,     -999.0,9,     -999.0,9,     -999.0,9
33RO20180423,        I7N,     100,          1,        112,      11111,2,20180528,       1742,     9.1870,    63.9213,       4510,  1551.4,   4.4550,  34.9033,2,  34.9045,2,     67.5,2,  75.7920,2,    110.5,2,     37.5,2,     0.01,2,    2.789,2,   0.005,2,   0.004,2,        0,2,  2326.6,2,  2393.0,2,   7.4879,2,    25.00, -999.00,9, -999.00,9, -999.00,-999.000,1,  -999.0,9,     -999.0,1,     -999.0,9,         12,     -999.0,9,     -999.0,9,     -999.0,9,     -999.0,9
33RO20180423,        I7N,     100,          1,        113,      11112,2,20180528,       1742,     9.1870,    63.9213,       4510,  1300.9,   5.8650,  34.9994,2,  35.0017,2,     43.6,2,  49.2390,2,     96.4,2,     38.0,2,     0.00,2,    2.842,2,   0.009,2,   0.006,2,   0.0023,2,  2323.0,2,  2379.0,2,   7.4615,2,    25.00, -999.00,9, -999.00,9, -999.00,-999.000,1,  -999.0,9,     -999.0,1,     -999.0,9,         13,     -999.0,9,     -999.0,9,     -999.0,9,     -999.0,9
33RO20180423,        I7N,     100,          1,        114,      11113,2,20180528,       1742,     9.1870,    63.9213,       4510,  1100.8,   7.2581,  35.1221,2,  35.1226,2,     28.0,2,  32.1110,2,     82.6,2,     37.7,2,     0.01,2,    2.821,2,   0.035,2,   0.022,2,        0,2,  2313.6,2,  2367.7,6,   7.4534,2,    25.00, -999.00,9, -999.00,9, -999.00,-999.000,1,  -999.0,9,     -999.0,1,     -999.0,9,         14,     -999.0,9,     -999.0,9,     -999.0,9,     -999.0,9
33RO20180423,        I7N,     100,          1,        115,      11114,2,20180528,       1742,     9.1870,    63.9213,       4510,   900.7,   8.4755,  35.1609,2,  35.1597,2,     19.8,2,  23.0350,2,     68.7,2,     36.8,2,     0.02,2,    2.762,2,   0.080,2,   0.050,2,   0.0328,2,  2299.9,2,  2354.1,2,   7.4500,6,    25.00, -999.00,9, -999.00,9, -999.00,-999.000,1,  -999.0,9,     -999.0,1,     -999.0,9,         15,     -999.0,9,     -999.0,9,     -999.0,9,     -999.0,9
33RO20180423,        I7N,     100,          1,        116,      11115,2,20180528,       1742,     9.1870,    63.9213,       4510,   750.4,   9.7781,  35.2686,2,  35.2732,2,     16.1,2,  19.2140,2,     55.1,2,     35.0,2,     0.01,2,    2.665,2,   0.227,2,   0.135,2,   0.0568,2,  2285.2,6,  2346.6,2,   7.4616,2,    25.00, -999.00,9, -999.00,9, -999.00,-999.000,1,  -999.0,9,     -999.0,1,     -999.0,9,         16,     -999.0,9,     -999.0,9,     -999.0,9,     -999.0,9
33RO20180423,        I7N,     100,          1,        117,      11116,2,20180528,       1742,     9.1870,    63.9213,       4510,   598.7,  10.7543,  35.3280,2,  35.3296,2,     18.5,2,  21.1920,2,     44.5,2,     33.3,2,     0.01,2,    2.534,2,   0.485,2,   0.276,2,   0.0996,2,  2272.4,2,  2339.6,2,   7.4746,2,    25.00, -999.00,9, -999.00,9, -999.00,-999.000,1,  -999.0,9,     -999.0,1,     -999.0,9,         17,     -999.0,9,     -999.0,9,     -999.0,9,     -999.0,9
33RO20180423,        I7N,     100,          1,        118,      11117,2,20180528,       1742,     9.1870,    63.9213,       4510,   451.4,  11.4995,  35.2193,2,  35.2207,2,     32.3,2,  35.9800,2,     31.4,2,     31.3,2,     0.01,2,    2.262,2,   1.087,2,   0.600,2,   0.3189,2,  2251.4,2,  2324.4,2,   7.4960,2,    25.00, -999.00,9, -999.00,9, -999.00,-999.000,1,  -999.0,9,     -999.0,1,     -999.0,9,         18,     -999.0,9,     -999.0,9,     -999.0,9,     -999.0,9
33RO20180423,        I7N,     100,          1,        119,      11083,2,20180528,       1742,     9.1870,    63.9213,       4510,   301.1,  12.7214,  35.2329,2,  35.2333,2,     44.1,2,  48.6820,2,     24.1,2,     28.1,2,     0.01,2,    2.031,2,   1.594,2,   0.885,2,   0.4739,2,  2233.2,2,  2316.1,2,   7.5371,2,    25.00, -999.00,9, -999.00,9, -999.00,-999.000,1,  -999.0,9,     -999.0,1,     -999.0,9,         19,     -999.0,9,     -999.0,9,     -999.0,9,     -999.0,9
33RO20180423,        I7N,     100,          1,        120,      11118,2,20180528,       1742,     9.1870,    63.9213,       4510,   200.4,  15.6032,  35.2926,2,  35.2907,2,     27.7,2,  32.1600,2,     20.8,2,     26.6,2,     0.01,2,    2.004,2,   1.530,2,   0.906,2,   0.5786,2,  2223.3,2,  2317.4,6,   7.5634,2,    25.00, -999.00,9, -999.00,9, -999.00,-999.000,1,  -999.0,9,     -999.0,1,     -999.0,9,         20,     -999.0,9,     -999.0,9,     -999.0,9,     -999.0,9
33RO20180423,        I7N,     100,          1,        121,      11119,2,20180528,       1742,     9.1870,    63.9213,       4510,   150.3,  20.7559,  35.6819,2,  35.6835,2,     36.0,2,  36.0415,2,     13.2,2,     23.0,2,     0.02,2,    1.775,2,   1.539,2,   0.945,2,   0.9252,2,  2196.5,2,  2331.2,2,   7.6704,2,    25.00, -999.00,9, -999.00,9, -999.00,-999.000,1,  -999.0,9,     -999.0,1,     -999.0,9,         21,     -999.0,9,     -999.0,9,     -999.0,9,     -999.0,9
33RO20180423,        I7N,     100,          1,        122,      11120,2,20180528,       1742,     9.1870,    63.9213,       4510,    87.5,  27.4168,  36.4050,2,  36.4191,2,    197.3,2, 206.7850,2,      1.1,2,      0.1,2,     0.02,2,    0.279,2,   1.504,6,   0.947,6,   1.3744,6,  2045.6,2,  2381.9,4,   8.0586,2,    25.00, -999.00,9, -999.00,9, -999.00,-999.000,1,  -999.0,9,     -999.0,1,     -999.0,9,         22,     -999.0,9,     -999.0,9,     -999.0,9,     -999.0,9
33RO20180423,        I7N,     100,          1,        123,      11121,2,20180528,       1742,     9.1870,    63.9213,       4510,    49.7,  29.7433,  35.9156,2,  35.8950,2,    192.2,2, 202.4430,2,      1.5,2,      0.0,2,     0.01,2,    0.175,2,   1.463,2,   0.919,2,   1.3643,2,  2012.7,2,  2351.8,2,   8.0757,6,    25.00, -999.00,9, -999.00,9, -999.00,-999.000,1,  -999.0,9,     -999.0,1,     -999.0,9,         23,     -999.0,9,     -999.0,9,     -999.0,9,     -999.0,9
33RO20180423,        I7N,     100,          1,        124,      11122,2,20180528,       1742,     9.1870,    63.9213,       4510,     4.3,  30.4529,  35.5196,2,  35.5197,2,    182.1,2, 191.0000,2,      1.6,2,      0.0,2,     0.01,2,    0.122,2,   1.336,2,   0.862,2,   1.2904,2,  1987.8,6,  2329.8,2,   8.0879,2,    25.00, -999.00,9, -999.00,9, -999.00,-999.000,1,  -999.0,9,     -999.0,1,     -999.0,9,         24,     -999.0,9,     -999.0,9,     -999.0,9,     -999.0,9