BOTTLE,20230801CCHSIOCBG
EXPOCODE,SECT_ID,STNNBR,CASTNO,SAMPNO,BTLNBR,BTLNBR_FLAG_W,DATE,TIME,LATITUDE,LONGITUDE,DEPTH,CTDPRS,CTDTMP,CTDSAL,CTDSAL_FLAG_W,SALNTY,SALNTY_FLAG_W,CTDOXY,CTDOXY_FLAG_W,OXYGEN,OXYGEN_FLAG_W,SILCAT,SILCAT_FLAG_W,NITRAT,NITRAT_FLAG_W,NITRIT,NITRIT_FLAG_W,PHSPHT,PHSPHT_FLAG_W,CFC-11,CFC-11_FLAG_W,CFC-12,CFC-12_FLAG_W,SF6,SF6_FLAG_W,TCARBN,TCARBN_FLAG_W,ALKALI,ALKALI_FLAG_W,PH_SWS,PH_SWS_FLAG_W,PH_TMP,DELC13,DELC13_FLAG_W,DELC14,DELC14_FLAG_W,C14ERR,CCL4,CCL4_FLAG_W,DOC,DOC_FLAG_W,N2O,N2O_FLAG_W,CALCIUM,CALCIUM_FLAG_W,SAMPNO_U,DNSSAL,DNSSAL_FLAG_W,DNSSAL2,DNSSAL2_FLAG_W,SALNTY_DNSSAL,SALNTY_DNSSAL_FLAG_W,SALNTY_DNSSAL2,SALNTY_DNSSAL2_FLAG_W
,,,,,,,,,,,METERS,DBAR,ITS-90,PSS-78,,PSS-78,,UMOL/KG,,UMOL/KG,,UMOL/KG,,UMOL/KG,,UMOL/KG,,UMOL/KG,,PMOL/KG,,PMOL/KG,,FMOL/KG,,UMOL/KG,,UMOL/KG,,,,DEG C,/MILLE,,/MILLE,,/MILLE,PMOL/KG,,UMOL/KG,,NMOL/KG,,MMOL/KG,,,G/KG,,G/KG,,PSS-78,,PSS-78,
33RO20180423,        I7N,       8,          1,        101,      11010,2,20180429,       2317,   -27.3337,    54.4837,       5235,  5329.3,   0.9880,  34.7008,2,  34.7078,2,    180.3,2, 210.3900,2,    126.5,6,     31.8,6,     0.00,6,    2.220,6,   0.157,2,   0.074,2,   0.0056,2,  2264.3,6,  2365.7,2,   7.5973,2,    25.00, -999.00,9, -999.00,9, -999.00,-999.000,1,  -999.0,9,     -999.0,1,     -999.0,9,          1,     -999.0,9,     -999.0,9,     -999.0,9,     -999.0,9
33RO20180423,        I7N,       8,          1,        102,      11101,2,20180429,       2317,   -27.3337,    54.4837,       5235,  4950.3,   0.9686,  34.7023,2,  34.7055,2,    178.5,2, 208.6910,2,    127.3,6,     31.9,6,     0.00,6,    2.213,6,-999.000,9,-999.000,9,-999.0000,9,  2265.0,2,  2367.5,6,   7.5964,2,    25.00, -999.00,9, -999.00,9, -999.00,-999.000,9,  -999.0,9,     -999.0,9,     -999.0,9,          2,     -999.0,9,     -999.0,9,     -999.0,9,     -999.0,9
33RO20180423,        I7N,       8,          1,        103,      11102,2,20180429,       2317,   -27.3337,    54.4837,       5235,  4574.9,   0.9981,  34.7055,2,  34.7054,2,    176.5,2, 206.6230,2,    125.9,6,     31.9,6,     0.00,6,    2.222,6,   0.104,2,   0.052,2,        0,2,  2264.9,2,  2369.5,2,   7.5974,6,    25.00, -999.00,9, -999.00,9, -999.00,-999.000,1,  -999.0,9,     -999.0,1,     -999.0,9,          3,     -999.0,9,     -999.0,9,     -999.0,9,     -999.0,9
33RO20180423,        I7N,       8,          1,        104,      11103,2,20180429,       2317,   -27.3337,    54.4837,       5235,  4275.0,   1.1072,  34.7102,2,  34.7109,2,    171.7,2, 200.8500,2,    126.4,6,     32.1,6,     0.00,6,    2.240,6,-999.000,9,-999.000,9,-999.0000,9,  -999.0,9,  2374.2,2,   7.5977,2,    25.00, -999.00,9, -999.00,9, -999.00,-999.000,9,  -999.0,9,     -999.0,9,     -999.0,9,          4,     -999.0,9,     -999.0,9,     -999.0,9,     -999.0,9
33RO20180423,        I7N,       8,          1,        105,      11104,2,20180429,       2317,   -27.3337,    54.4837,       5235,  3975.4,   1.2649,  34.7160,2,  34.7182,2,    165.1,2, 192.7600,2,    126.5,2,     32.5,2,     0.00,2,    2.272,2,   0.039,2,   0.020,2,        0,2,  2278.5,2,  2380.3,2,   7.5946,2,    25.00, -999.00,9, -999.00,9, -999.00,-999.000,1,  -999.0,9,     -999.0,1,     -999.0,9,          5,     -999.0,9,     -999.0,9,     -999.0,9,     -999.0,9
33RO20180423,        I7N,       8,          1,        106,      11105,2,20180429,       2317,   -27.3337,    54.4837,       5235,  3675.6,   1.4202,  34.7220,2,  34.7237,2,    158.9,2, 185.4350,2,    127.3,2,     32.6,2,     0.00,2,    2.285,2,-999.000,9,-999.000,9,-999.0000,9,  -999.0,9,  2387.6,2,   7.5951,2,    25.00, -999.00,9, -999.00,9, -999.00,-999.000,9,  -999.0,9,     -999.0,9,     -999.0,9,          6,     -999.0,9,     -999.0,9,     -999.0,9,     -999.0,9
33RO20180423,        I7N,       8,          1,        107,      11106,2,20180429,       2317,   -27.3337,    54.4837,       5235,  3375.2,   1.6070,  34.7280,2,  34.7339,2,    152.1,2, 176.7060,2,    126.2,2,     33.0,2,     0.00,2,    2.323,2,   0.013,2,   0.006,2,        0,2,  2290.3,2,  2391.1,2,   7.5909,2,    25.00, -999.00,9, -999.00,9, -999.00,-999.000,1,  -999.0,9,     -999.0,1,     -999.0,9,          7,     -999.0,9,     -999.0,9,     -999.0,9,     -999.0,9
33RO20180423,        I7N,       8,          1,        108,      11107,2,20180429,       2317,   -27.3337,    54.4837,       5235,  3076.1,   1.7644,  34.7323,2,  34.7373,2,    147.4,2, 170.1890,2,    125.4,2,     33.3,2,     0.00,2,    2.340,2,-999.000,9,-999.000,9,-999.0000,9,  -999.0,9,  2393.1,2,   7.5872,2,    25.00, -999.00,9, -999.00,9, -999.00,-999.000,9,  -999.0,9,     -999.0,9,     -999.0,9,          8,     -999.0,9,     -999.0,9,     -999.0,9,     -999.0,9
33RO20180423,        I7N,       8,          1,        109,      11108,2,20180429,       2317,   -27.3337,    54.4837,       5235,  2771.7,   1.9304,  34.7366,2,  34.7371,2,    144.6,2, 166.5190,2,    121.8,2,     33.3,2,     0.00,2,    2.357,2,-999.000,9,-999.000,9,-999.0000,9,  2293.4,2,  2394.0,2,   7.5859,2,    25.00, -999.00,9, -999.00,9, -999.00,-999.000,9,  -999.0,9,     -999.0,9,     -999.0,9,          9,     -999.0,9,     -999.0,9,     -999.0,9,     -999.0,9
33RO20180423,        I7N,       8,          1,        110,      11109,2,20180429,       2317,   -27.3337,    54.4837,       5235,  2474.8,   2.0821,  34.7387,2,  34.7396,2,    146.2,2, 166.6250,2,    115.4,2,     32.9,2,     0.00,2,    2.331,2,   0.012,2,   0.005,2,        0,2,  2286.4,2,  2387.1,2,   7.5866,2,    25.00, -999.00,9, -999.00,9, -999.00,-999.000,1,  -999.0,9,     -999.0,1,     -999.0,9,         10,     -999.0,9,     -999.0,9,     -999.0,9,     -999.0,9
33RO20180423,        I7N,       8,          1,        111,      11110,2,20180429,       2317,   -27.3337,    54.4837,       5235,  2175.9,   2.2533,  34.7324,2,  34.7407,6,    151.5,2, 171.7930,2,    103.2,2,     32.1,2,     0.00,2,    2.266,2,-999.000,9,-999.000,9,-999.0000,9,  2274.0,2,  2371.9,2,   7.5933,3,    25.00, -999.00,9, -999.00,9, -999.00,-999.000,9,  -999.0,9,     -999.0,9,     -999.0,9,         11,     -999.0,9,     -999.0,9,     -999.0,9,     -999.0,9
33RO20180423,        I7N,       8,          1,        112,      11111,2,20180429,       2317,   -27.3337,    54.4837,       5235,  1865.6,   2.4632,  34.6980,2,  34.7003,2,    155.7,2, 174.8800,2,     90.5,2,     31.8,2,     0.00,2,    2.237,2,   0.055,2,   0.028,2,        0,2,  2260.5,2,  2360.3,2,   7.5865,2,    25.00, -999.00,9, -999.00,9, -999.00,-999.000,1,  -999.0,9,     -999.0,1,     -999.0,9,         12,     -999.0,9,     -999.0,9,     -999.0,9,     -999.0,9
33RO20180423,        I7N,       8,          1,        113,      11112,2,20180429,       2317,   -27.3337,    54.4837,       5235,  1615.2,   2.8290,  34.6298,2,  34.6464,2,    150.5,2, 168.0220,2,     82.0,2,     32.7,2,     0.00,2,    2.304,2,-999.000,9,-999.000,9,-999.0000,9,  2255.8,2,  2349.1,6,   7.5694,2,    25.00, -999.00,9, -999.00,9, -999.00,-999.000,9,  -999.0,9,     -999.0,9,     -999.0,9,         13,     -999.0,9,     -999.0,9,     -999.0,9,     -999.0,9
33RO20180423,        I7N,       8,          1,        114,      11113,2,20180429,       2317,   -27.3337,    54.4837,       5235,  1360.5,   3.3969,  34.5191,2,  34.5332,2,    152.5,2, 169.0930,2,     66.6,2,     33.2,2,     0.00,2,    2.319,2,-999.000,9,-999.000,9,-999.0000,9,  2240.5,2,  2331.6,2,   7.5642,6,    25.00, -999.00,9, -999.00,9, -999.00,-999.000,9,  -999.0,9,     -999.0,9,     -999.0,9,         14,     -999.0,9,     -999.0,9,     -999.0,9,     -999.0,9
33RO20180423,        I7N,       8,          1,        115,      11114,2,20180429,       2317,   -27.3337,    54.4837,       5235,  1120.4,   4.3997,  34.4138,2,  34.4143,2,    170.3,2, 187.6430,2,     43.6,2,     31.1,2,     0.00,2,    2.163,2,   1.494,6,   0.741,6,   0.3196,6,  2210.6,2,  2309.1,2,   7.5924,2,    25.00, -999.00,9, -999.00,9, -999.00,-999.000,1,  -999.0,9,     -999.0,1,     -999.0,9,         15,     -999.0,9,     -999.0,9,     -999.0,9,     -999.0,9
33RO20180423,        I7N,       8,          1,        116,      11115,2,20180429,       2317,   -27.3337,    54.4837,       5235,   850.5,   7.6778,  34.5486,2,  34.5503,2,    189.4,2, 205.9160,2,     15.7,2,     22.9,2,     0.00,2,    1.626,2,-999.000,9,-999.000,9,-999.0000,9,  2162.7,2,  2292.4,2,   7.6820,2,    25.00, -999.00,9, -999.00,9, -999.00,-999.000,9,  -999.0,9,     -999.0,9,     -999.0,9,         16,     -999.0,9,     -999.0,9,     -999.0,9,     -999.0,9
33RO20180423,        I7N,       8,          1,        117,      11116,2,20180429,       2317,   -27.3337,    54.4837,       5235,   670.2,  10.0567,  34.7921,2,  34.7966,2,    206.8,2, 223.4800,2,      6.0,2,     15.5,2,     0.00,2,    1.139,2,-999.000,9,-999.000,9,-999.0000,9,  2136.6,2,  2298.4,2,   7.7601,2,    25.00, -999.00,9, -999.00,9, -999.00,-999.000,9,  -999.0,9,     -999.0,9,     -999.0,9,         17,     -999.0,9,     -999.0,9,     -999.0,9,     -999.0,9
33RO20180423,        I7N,       8,          1,        118,      11117,2,20180429,       2317,   -27.3337,    54.4837,       5235,   490.4,  12.0255,  35.0799,2,  35.0824,2,    210.6,2, 224.9320,2,      4.1,2,     10.7,2,     0.00,2,    0.850,2,   3.074,2,   1.778,2,   1.6578,2,  2123.5,2,  2312.1,2,   7.8098,2,    25.00, -999.00,9, -999.00,9, -999.00,-999.000,1,  -999.0,9,     -999.0,1,     -999.0,9,         18,     -999.0,9,     -999.0,9,     -999.0,9,     -999.0,9
33RO20180423,        I7N,       8,          1,        119,      11083,2,20180429,       2317,   -27.3337,    54.4837,       5235,   325.2,  13.5767,  35.3036,2,  35.3159,2,    211.2,2, 225.9585,2,      3.4,2,      7.2,2,     0.00,2,    0.643,2,-999.000,9,-999.000,9,-999.0000,9,  2115.4,2,  2321.2,2,   7.8480,2,    25.00, -999.00,9, -999.00,9, -999.00,-999.000,9,  -999.0,9,     -999.0,9,     -999.0,9,         19,     -999.0,9,     -999.0,9,     -999.0,9,     -999.0,9
33RO20180423,        I7N,       8,          1,        120,      11118,2,20180429,       2317,   -27.3337,    54.4837,       5235,   210.6,  14.8026,  35.4306,2,  35.4343,2,    206.3,2, 220.7420,2,      3.1,2,      5.2,2,     0.01,2,    0.519,2,   2.615,2,   1.571,2,   1.8931,2,  2106.8,2,  2325.0,2,   7.8735,2,    25.00, -999.00,9, -999.00,9, -999.00,-999.000,1,  -999.0,9,     -999.0,1,     -999.0,9,         20,     -999.0,9,     -999.0,9,     -999.0,9,     -999.0,9
33RO20180423,        I7N,       8,          1,        121,      11119,2,20180429,       2317,   -27.3337,    54.4837,       5235,   160.5,  15.5028,  35.4882,2,  35.4934,2,    205.0,2, 217.9340,2,      2.7,2,      4.2,2,     0.01,2,    0.460,2,-999.000,9,-999.000,9,-999.0000,9,  2100.5,2,  2328.9,6,   7.8873,2,    25.00, -999.00,9, -999.00,9, -999.00,-999.000,9,  -999.0,9,     -999.0,9,     -999.0,9,         21,     -999.0,9,     -999.0,9,     -999.0,9,     -999.0,9
33RO20180423,        I7N,       8,          1,        122,      11120,2,20180429,       2317,   -27.3337,    54.4837,       5235,   110.5,  16.8500,  35.5629,2,  35.5708,2,    204.4,2, 218.2230,2,      2.1,2,      1.8,2,     0.05,2,    0.321,2,   2.373,2,   1.442,2,   1.8829,2,  2089.1,2,  2332.5,2,   7.9157,2,    25.00, -999.00,9, -999.00,9, -999.00,-999.000,1,  -999.0,9,     -999.0,1,     -999.0,9,         22,     -999.0,9,     -999.0,9,     -999.0,9,     -999.0,9
33RO20180423,        I7N,       8,          1,        123,      11121,2,20180429,       2317,   -27.3337,    54.4837,       5235,    77.7,  19.4723,  35.6153,2,  35.6308,2,    213.5,2, 228.4980,2,      1.5,2,      0.0,2,     0.04,2,    0.117,2,-999.000,9,-999.000,9,-999.0000,9,  2064.8,6,  2336.2,2,   7.9719,6,    25.00, -999.00,9, -999.00,9, -999.00,-999.000,9,  -999.0,9,     -999.0,9,     -999.0,9,         23,     -999.0,9,     -999.0,9,     -999.0,9,     -999.0,9