BOTTLE,20230801CCHSIOCBG
EXPOCODE,SECT_ID,STNNBR,CASTNO,SAMPNO,BTLNBR,BTLNBR_FLAG_W,DATE,TIME,LATITUDE,LONGITUDE,DEPTH,CTDPRS,CTDTMP,CTDSAL,CTDSAL_FLAG_W,SALNTY,SALNTY_FLAG_W,CTDOXY,CTDOXY_FLAG_W,OXYGEN,OXYGEN_FLAG_W,SILCAT,SILCAT_FLAG_W,NITRAT,NITRAT_FLAG_W,NITRIT,NITRIT_FLAG_W,PHSPHT,PHSPHT_FLAG_W,CFC-11,CFC-11_FLAG_W,CFC-12,CFC-12_FLAG_W,SF6,SF6_FLAG_W,TCARBN,TCARBN_FLAG_W,ALKALI,ALKALI_FLAG_W,PH_SWS,PH_SWS_FLAG_W,PH_TMP,DELC13,DELC13_FLAG_W,DELC14,DELC14_FLAG_W,C14ERR,CCL4,CCL4_FLAG_W,DOC,DOC_FLAG_W,N2O,N2O_FLAG_W,CALCIUM,CALCIUM_FLAG_W,SAMPNO_U,DNSSAL,DNSSAL_FLAG_W,DNSSAL2,DNSSAL2_FLAG_W,SALNTY_DNSSAL,SALNTY_DNSSAL_FLAG_W,SALNTY_DNSSAL2,SALNTY_DNSSAL2_FLAG_W
,,,,,,,,,,,METERS,DBAR,ITS-90,PSS-78,,PSS-78,,UMOL/KG,,UMOL/KG,,UMOL/KG,,UMOL/KG,,UMOL/KG,,UMOL/KG,,PMOL/KG,,PMOL/KG,,FMOL/KG,,UMOL/KG,,UMOL/KG,,,,DEG C,/MILLE,,/MILLE,,/MILLE,PMOL/KG,,UMOL/KG,,NMOL/KG,,MMOL/KG,,,G/KG,,G/KG,,PSS-78,,PSS-78,
33RO20180423,        I7N,      75,          1,        101,      11010,2,20180522,       0456,    -0.2490,    57.2648,       4692,  4770.7,   1.3490,  34.7171,2,  34.7191,2,    159.5,2, 184.9200,2,    132.5,6,     33.7,6,     0.00,6,    2.342,6,   0.021,2,   0.011,2,        0,2,  2291.6,2,  2398.2,2,   7.6024,6,    25.00, -999.00,9, -999.00,9, -999.00,-999.000,1,  -999.0,9,     -999.0,1,     -999.0,9,          1,     -999.0,9,     -999.0,9,     -999.0,9,     -999.0,9
33RO20180423,        I7N,      75,          1,        102,      11101,2,20180522,       0456,    -0.2490,    57.2648,       4692,  4594.8,   1.3559,  34.7181,2,  34.7462,2,    159.0,2, 183.7550,2,    130.9,6,     33.7,6,     0.00,6,    2.337,6,-999.000,9,-999.000,9,-999.0000,9,  2289.4,2,  2397.0,6,   7.6003,2,    25.00, -999.00,9, -999.00,9, -999.00,-999.000,9,  -999.0,9,     -999.0,9,     -999.0,9,          2,     -999.0,9,     -999.0,9,     -999.0,9,     -999.0,9
33RO20180423,        I7N,      75,          1,        103,      11102,2,20180522,       0456,    -0.2490,    57.2648,       4692,  4401.0,   1.3626,  34.7194,2,  34.7215,2,    157.6,2, 182.5945,2,    131.1,6,     33.8,6,     0.00,6,    2.348,6,   0.015,2,   0.009,2,        0,2,  -999.0,9,  -999.0,9,-999.0000,9,  -999.00, -999.00,9, -999.00,9, -999.00,-999.000,1,  -999.0,9,     -999.0,1,     -999.0,9,          3,     -999.0,9,     -999.0,9,     -999.0,9,     -999.0,9
33RO20180423,        I7N,      75,          1,        104,      11103,2,20180522,       0456,    -0.2490,    57.2648,       4692,  4100.6,   1.4319,  34.7232,2,  34.7248,2,    152.8,2, 176.7380,2,    132.5,6,     34.0,6,     0.00,6,    2.367,6,-999.000,9,-999.000,9,-999.0000,9,  2294.9,2,  2402.8,2,   7.5976,2,    25.00, -999.00,9, -999.00,9, -999.00,-999.000,9,  -999.0,9,     -999.0,9,     -999.0,9,          4,     -999.0,9,     -999.0,9,     -999.0,9,     -999.0,9
33RO20180423,        I7N,      75,          1,        105,      11104,2,20180522,       0456,    -0.2490,    57.2648,       4692,  3856.3,   1.5041,  34.7265,2,  34.7346,2,    149.3,2, 172.7300,2,    132.6,2,     34.1,2,     0.00,2,    2.389,2,   0.005,6,   0.004,6,   0.0061,6,  -999.0,9,  -999.0,9,-999.0000,9,  -999.00, -999.00,9, -999.00,9, -999.00,-999.000,1,  -999.0,9,     -999.0,1,     -999.0,9,          5,     -999.0,9,     -999.0,9,     -999.0,9,     -999.0,9
33RO20180423,        I7N,      75,          1,        106,      11105,2,20180522,       0456,    -0.2490,    57.2648,       4692,  3548.9,   1.5782,  34.7298,2,-999.0000,9,    146.1,2,-999.0000,9,-999.0000,9,-999.0000,9,-999.0000,9,-999.0000,9,-999.000,9,-999.000,9,-999.0000,9,  -999.0,9,  -999.0,9,-999.0000,9,  -999.00, -999.00,9, -999.00,9, -999.00,-999.000,9,  -999.0,9,     -999.0,9,     -999.0,9,          6,     -999.0,9,     -999.0,9,     -999.0,9,     -999.0,9
33RO20180423,        I7N,      75,          1,        107,      11106,2,20180522,       0456,    -0.2490,    57.2648,       4692,  3242.7,   1.7354,  34.7360,2,  34.7397,2,    140.4,2, 161.8180,2,    130.9,2,     34.6,2,     0.00,2,    2.421,2,-999.000,9,-999.000,9,-999.0000,9,  2303.8,2,  2409.2,2,   7.5851,2,    25.00, -999.00,9, -999.00,9, -999.00,-999.000,9,  -999.0,9,     -999.0,9,     -999.0,9,          7,     -999.0,9,     -999.0,9,     -999.0,9,     -999.0,9
33RO20180423,        I7N,      75,          1,        108,      11107,2,20180522,       0456,    -0.2490,    57.2648,       4692,  2900.1,   1.8800,  34.7425,2,  34.7521,2,    135.7,2, 155.4020,2,    129.7,2,     34.8,2,     0.00,2,    2.455,2,   0.001,2,   0.002,2,   0.0069,2,  2306.3,2,  2409.2,2,   7.5785,2,    25.00, -999.00,9, -999.00,9, -999.00,-999.000,1,  -999.0,9,     -999.0,1,     -999.0,9,          8,     -999.0,9,     -999.0,9,     -999.0,9,     -999.0,9
33RO20180423,        I7N,      75,          1,        109,      11108,2,20180522,       0456,    -0.2490,    57.2648,       4692,  2593.5,   2.0291,  34.7494,2,  34.7506,2,    131.1,2, 149.3600,2,    129.1,2,     35.2,2,     0.00,2,    2.469,2,-999.000,9,-999.000,9,-999.0000,9,  -999.0,9,  -999.0,9,-999.0000,9,  -999.00, -999.00,9, -999.00,9, -999.00,-999.000,9,  -999.0,9,     -999.0,9,     -999.0,9,          9,     -999.0,9,     -999.0,9,     -999.0,9,     -999.0,9
33RO20180423,        I7N,      75,          1,        110,      11109,2,20180522,       0456,    -0.2490,    57.2648,       4692,  2298.9,   2.3500,  34.7627,2,  34.7641,2,    122.7,2, 139.0110,2,    127.0,2,     35.6,2,     0.00,2,    2.537,2,   0.001,2,   0.002,2,        0,2,  2309.4,2,  2405.1,2,   7.5594,2,    25.00, -999.00,9, -999.00,9, -999.00,-999.000,1,  -999.0,9,     -999.0,1,     -999.0,9,         10,     -999.0,9,     -999.0,9,     -999.0,9,     -999.0,9
33RO20180423,        I7N,      75,          1,        111,      11110,2,20180522,       0456,    -0.2490,    57.2648,       4692,  1999.4,   2.7795,  34.7792,2,  34.7846,2,    113.3,2, 127.8210,2,    120.1,2,     35.9,2,     0.00,2,    2.560,2,-999.000,9,-999.000,9,-999.0000,9,  -999.0,9,  -999.0,9,-999.0000,9,  -999.00, -999.00,9, -999.00,9, -999.00,-999.000,9,  -999.0,9,     -999.0,9,     -999.0,9,         11,     -999.0,9,     -999.0,9,     -999.0,9,     -999.0,9
33RO20180423,        I7N,      75,          1,        112,      11111,2,20180522,       0456,    -0.2490,    57.2648,       4692,  1709.1,   3.6806,  34.8172,2,  34.8201,2,     95.8,2, 107.1760,2,    110.4,2,     36.4,2,     0.00,2,    2.634,2,   0.007,2,   0.006,2,   0.0028,2,  2307.2,2,  2388.8,2,   7.5222,2,    25.00, -999.00,9, -999.00,9, -999.00,-999.000,1,  -999.0,9,     -999.0,1,     -999.0,9,         12,     -999.0,9,     -999.0,9,     -999.0,9,     -999.0,9
33RO20180423,        I7N,      75,          1,        113,      11112,2,20180522,       0456,    -0.2490,    57.2648,       4692,  1467.6,   4.4092,  34.8512,2,  34.8560,2,     81.3,2,  90.2730,2,    104.2,2,     37.0,2,     0.00,2,    2.691,2,-999.000,9,-999.000,9,-999.0000,9,  -999.0,9,  -999.0,9,-999.0000,9,  -999.00, -999.00,9, -999.00,9, -999.00,-999.000,9,  -999.0,9,     -999.0,9,     -999.0,9,         13,     -999.0,9,     -999.0,9,     -999.0,9,     -999.0,9
33RO20180423,        I7N,      75,          1,        114,      11113,2,20180522,       0456,    -0.2490,    57.2648,       4692,  1217.8,   5.7490,  34.9195,2,  34.9579,2,     59.5,2,  65.8020,2,     91.7,2,     37.4,2,     0.00,2,    2.745,2,   0.031,2,   0.018,2,   0.0051,2,  2304.9,2,  2370.9,2,   7.4823,2,    25.00, -999.00,9, -999.00,9, -999.00,-999.000,1,  -999.0,9,     -999.0,1,     -999.0,9,         14,     -999.0,9,     -999.0,9,     -999.0,9,     -999.0,9
33RO20180423,        I7N,      75,          1,        115,      11114,2,20180522,       0456,    -0.2490,    57.2648,       4692,  1000.9,   7.0137,  35.0063,2,  35.0089,2,     44.8,2,  50.2930,2,     79.2,2,     37.1,2,     0.00,2,    2.741,2,-999.000,9,-999.000,9,-999.0000,9,  2296.9,2,  2362.2,2,   7.4736,2,    25.00, -999.00,9, -999.00,9, -999.00,-999.000,9,  -999.0,9,     -999.0,9,     -999.0,9,         15,     -999.0,9,     -999.0,9,     -999.0,9,     -999.0,9
33RO20180423,        I7N,      75,          1,        116,      11115,2,20180522,       0456,    -0.2490,    57.2648,       4692,   821.6,   8.1936,  35.0848,2,  35.0903,2,     38.6,2,  43.4900,2,     66.2,2,     36.0,2,     0.00,2,    2.668,2,   0.194,2,   0.111,2,    0.011,2,  2286.5,2,  2351.4,2,   7.4762,2,    25.00, -999.00,9, -999.00,9, -999.00,-999.000,1,  -999.0,9,     -999.0,1,     -999.0,9,         16,     -999.0,9,     -999.0,9,     -999.0,9,     -999.0,9
33RO20180423,        I7N,      75,          1,        117,      11116,2,20180522,       0456,    -0.2490,    57.2648,       4692,   567.1,   9.5552,  35.0217,2,  35.0273,2,     60.0,2,  65.5635,2,     42.0,2,     32.2,2,     0.00,2,    2.332,2,-999.000,9,-999.000,9,-999.0000,9,  2244.8,2,  2327.0,2,   7.5220,2,    25.00, -999.00,9, -999.00,9, -999.00,-999.000,9,  -999.0,9,     -999.0,9,     -999.0,9,         17,     -999.0,9,     -999.0,9,     -999.0,9,     -999.0,9
33RO20180423,        I7N,      75,          1,        118,      11117,2,20180522,       0456,    -0.2490,    57.2648,       4692,   401.1,  10.6721,  34.9696,2,  35.0082,2,    110.2,2, 118.0040,2,     22.5,2,     25.1,2,     0.00,2,    1.748,2,   2.043,3,   1.115,3,   0.7655,3,  2196.8,2,  2312.1,2,   7.6235,2,    25.00, -999.00,9, -999.00,9, -999.00,-999.000,1,  -999.0,9,     -999.0,1,     -999.0,9,         18,     -999.0,9,     -999.0,9,     -999.0,9,     -999.0,9
33RO20180423,        I7N,      75,          1,        119,      11083,2,20180522,       0456,    -0.2490,    57.2648,       4692,   270.7,  11.9372,  35.0537,2,  35.0543,6,    112.8,2, 120.3110,2,     18.4,2,     22.5,2,     0.00,2,    1.571,2,   2.173,2,   1.208,2,   0.7841,2,  2186.7,2,  2310.9,2,   7.6538,2,    25.00, -999.00,9, -999.00,9, -999.00,-999.000,1,  -999.0,9,     -999.0,1,     -999.0,9,         19,     -999.0,9,     -999.0,9,     -999.0,9,     -999.0,9
33RO20180423,        I7N,      75,          1,        120,      11118,2,20180522,       0456,    -0.2490,    57.2648,       4692,   181.0,  13.5223,  35.1483,2,  35.1547,6,    102.8,2, 110.0600,2,     16.6,2,     21.1,2,     0.00,2,    1.498,2,   2.125,2,   1.210,2,   0.8615,2,  2180.8,2,  2315.6,2,   7.6717,2,    25.00, -999.00,9, -999.00,9, -999.00,-999.000,1,  -999.0,9,     -999.0,1,     -999.0,9,         20,     -999.0,9,     -999.0,9,     -999.0,9,     -999.0,9
33RO20180423,        I7N,      75,          1,        121,      11119,2,20180522,       0456,    -0.2490,    57.2648,       4692,   129.3,  17.0153,  35.2615,2,  35.2647,2,     77.2,2,  82.9280,2,     14.3,2,     20.4,2,     0.02,2,    1.432,2,   1.917,2,   1.161,2,   1.4092,3,  2169.8,2,  2312.7,2,   7.6969,2,    25.00, -999.00,9, -999.00,9, -999.00,-999.000,1,  -999.0,9,     -999.0,1,     -999.0,9,         21,     -999.0,9,     -999.0,9,     -999.0,9,     -999.0,9
33RO20180423,        I7N,      75,          1,        122,      11120,2,20180522,       0456,    -0.2490,    57.2648,       4692,    73.1,  29.1117,  35.3880,2,  35.4003,2,    181.2,2, 188.5860,2,      1.9,2,      0.5,2,     0.06,2,    0.229,2,-999.000,1,-999.000,1,-999.0000,1,  2000.3,2,  2320.5,2,   8.0518,2,    25.00, -999.00,9, -999.00,9, -999.00,-999.000,1,  -999.0,9,     -999.0,1,     -999.0,9,         22,     -999.0,9,     -999.0,9,     -999.0,9,     -999.0,9
33RO20180423,        I7N,      75,          1,        123,      11121,2,20180522,       0456,    -0.2490,    57.2648,       4692,    36.3,  29.8460,  35.2901,2,  35.2954,2,    184.1,2, 191.6570,2,      1.5,2,      0.0,2,     0.00,2,    0.150,2,-999.000,9,-999.000,9,-999.0000,9,  1983.7,2,  2314.4,6,   8.0721,2,    25.00, -999.00,9, -999.00,9, -999.00,-999.000,9,  -999.0,9,     -999.0,9,     -999.0,9,         23,     -999.0,9,     -999.0,9,     -999.0,9,     -999.0,9
33RO20180423,        I7N,      75,          1,        124,      11122,2,20180522,       0456,    -0.2490,    57.2648,       4692,     3.4,  29.8344,  35.2906,2,  35.2952,2,    183.9,2, 191.8220,2,      1.5,2,      0.0,2,     0.00,2,    0.146,2,-999.000,9,-999.000,9,-999.0000,9,  1982.5,6,  2314.6,2,   8.0738,6,    25.00, -999.00,9, -999.00,9, -999.00,-999.000,9,  -999.0,9,     -999.0,9,     -999.0,9,         24,     -999.0,9,     -999.0,9,     -999.0,9,     -999.0,9