BOTTLE,20230801CCHSIOCBG
EXPOCODE,SECT_ID,STNNBR,CASTNO,SAMPNO,BTLNBR,BTLNBR_FLAG_W,DATE,TIME,LATITUDE,LONGITUDE,DEPTH,CTDPRS,CTDTMP,CTDSAL,CTDSAL_FLAG_W,SALNTY,SALNTY_FLAG_W,CTDOXY,CTDOXY_FLAG_W,OXYGEN,OXYGEN_FLAG_W,SILCAT,SILCAT_FLAG_W,NITRAT,NITRAT_FLAG_W,NITRIT,NITRIT_FLAG_W,PHSPHT,PHSPHT_FLAG_W,CFC-11,CFC-11_FLAG_W,CFC-12,CFC-12_FLAG_W,SF6,SF6_FLAG_W,TCARBN,TCARBN_FLAG_W,ALKALI,ALKALI_FLAG_W,PH_SWS,PH_SWS_FLAG_W,PH_TMP,DELC13,DELC13_FLAG_W,DELC14,DELC14_FLAG_W,C14ERR,CCL4,CCL4_FLAG_W,DOC,DOC_FLAG_W,N2O,N2O_FLAG_W,CALCIUM,CALCIUM_FLAG_W,SAMPNO_U,DNSSAL,DNSSAL_FLAG_W,DNSSAL2,DNSSAL2_FLAG_W,SALNTY_DNSSAL,SALNTY_DNSSAL_FLAG_W,SALNTY_DNSSAL2,SALNTY_DNSSAL2_FLAG_W
,,,,,,,,,,,METERS,DBAR,ITS-90,PSS-78,,PSS-78,,UMOL/KG,,UMOL/KG,,UMOL/KG,,UMOL/KG,,UMOL/KG,,UMOL/KG,,PMOL/KG,,PMOL/KG,,FMOL/KG,,UMOL/KG,,UMOL/KG,,,,DEG C,/MILLE,,/MILLE,,/MILLE,PMOL/KG,,UMOL/KG,,NMOL/KG,,MMOL/KG,,,G/KG,,G/KG,,PSS-78,,PSS-78,
33RO20180423,        I7N,      49,          1,        101,      11010,2,20180511,       1509,    -9.6417,    51.8827,       4015,  4049.6,   1.0154,  34.7083,2,  34.7118,2,    177.6,2, 202.7700,2,    124.0,6,     32.6,6,     0.00,6,    2.231,6,   0.077,2,   0.039,2,        0,2,  2267.6,6,  2375.0,6,   7.6002,6,    25.00, -999.00,9, -999.00,9, -999.00,-999.000,1,  -999.0,9,     -999.0,1,     -999.0,9,          1,     -999.0,9,     -999.0,9,     -999.0,9,     -999.0,9
33RO20180423,        I7N,      49,          1,        102,      11101,2,20180511,       1509,    -9.6417,    51.8827,       4015,  3830.0,   1.2230,  34.7162,2,  34.7191,2,    167.5,2, 191.3640,2,    126.3,6,     33.3,6,     0.00,6,    2.274,6,   0.043,2,   0.021,2,        0,2,  2277.9,2,  2384.5,2,   7.5965,2,    25.00, -999.00,9, -999.00,9, -999.00,-999.000,1,  -999.0,9,     -999.0,1,     -999.0,9,          2,     -999.0,9,     -999.0,9,     -999.0,9,     -999.0,9
33RO20180423,        I7N,      49,          1,        103,      11102,2,20180511,       1509,    -9.6417,    51.8827,       4015,  3600.3,   1.3638,  34.7219,2,  34.7255,2,    159.8,2, 182.8880,2,    127.7,6,     33.7,6,     0.00,6,    2.315,6,   0.028,2,   0.014,2,        0,2,  2284.8,2,  2393.4,2,   7.5940,2,    25.00, -999.00,9, -999.00,9, -999.00,-999.000,1,  -999.0,9,     -999.0,1,     -999.0,9,          3,     -999.0,9,     -999.0,9,     -999.0,9,     -999.0,9
33RO20180423,        I7N,      49,          1,        104,      11103,2,20180511,       1509,    -9.6417,    51.8827,       4015,  3301.0,   1.6272,  34.7317,2,  34.7338,2,    147.8,2, 168.9430,2,    128.8,6,     34.3,6,     0.00,6,    2.374,6,   0.009,2,   0.004,2,        0,2,  2298.1,2,  2404.4,2,   7.5882,2,    25.00, -999.00,9, -999.00,9, -999.00,-999.000,1,  -999.0,9,     -999.0,1,     -999.0,9,          4,     -999.0,9,     -999.0,9,     -999.0,9,     -999.0,9
33RO20180423,        I7N,      49,          1,        105,      11104,2,20180511,       1509,    -9.6417,    51.8827,       4015,  3001.3,   1.8198,  34.7392,2,  34.7475,2,    140.5,2, 160.3220,2,    129.0,6,     34.6,6,     0.00,6,    2.388,6,   0.005,2,   0.003,2,        0,2,  2305.0,2,  2406.6,2,   7.5816,2,    25.00, -999.00,9, -999.00,9, -999.00,-999.000,1,  -999.0,9,     -999.0,1,     -999.0,9,          5,     -999.0,9,     -999.0,9,     -999.0,9,     -999.0,9
33RO20180423,        I7N,      49,          1,        106,      11105,2,20180511,       1509,    -9.6417,    51.8827,       4015,  2700.8,   1.9938,  34.7442,2,  34.7469,2,    137.0,2, 155.8580,2,    126.5,2,     34.8,2,     0.00,2,    2.410,2,   0.005,2,   0.004,2,   0.0061,2,  2303.1,2,  2402.4,2,   7.5775,2,    25.00, -999.00,9, -999.00,9, -999.00,-999.000,1,  -999.0,9,     -999.0,1,     -999.0,9,          6,     -999.0,9,     -999.0,9,     -999.0,9,     -999.0,9
33RO20180423,        I7N,      49,          1,        107,      11106,2,20180511,       1509,    -9.6417,    51.8827,       4015,  2400.7,   2.1841,  34.7438,2,  34.7451,6,    135.4,2, 153.3150,2,    121.3,2,     34.6,2,     0.00,2,    2.413,2,   0.006,2,   0.003,2,        0,2,  2300.9,2,  2398.6,2,   7.5736,2,    25.00, -999.00,9, -999.00,9, -999.00,-999.000,1,  -999.0,9,     -999.0,1,     -999.0,9,          7,     -999.0,9,     -999.0,9,     -999.0,9,     -999.0,9
33RO20180423,        I7N,      49,          1,        108,      11107,2,20180511,       1509,    -9.6417,    51.8827,       4015,  2101.2,   2.5264,  34.7417,2,  34.7526,2,    131.6,2, 148.5100,2,    114.2,2,     34.7,2,     0.00,2,    2.423,2,   0.012,2,   0.006,2,        0,2,  2295.9,2,  2391.7,2,   7.5678,2,    25.00, -999.00,9, -999.00,9, -999.00,-999.000,1,  -999.0,9,     -999.0,1,     -999.0,9,          8,     -999.0,9,     -999.0,9,     -999.0,9,     -999.0,9
33RO20180423,        I7N,      49,          1,        109,      11108,2,20180511,       1509,    -9.6417,    51.8827,       4015,  1800.5,   2.8949,  34.7305,2,  34.7323,2,    129.3,2, 144.6905,2,    105.8,2,     34.6,2,     0.00,2,    2.422,2,   0.025,2,   0.012,2,        0,2,  2291.9,2,  2381.4,2,   7.5614,2,    25.00, -999.00,9, -999.00,9, -999.00,-999.000,1,  -999.0,9,     -999.0,1,     -999.0,9,          9,     -999.0,9,     -999.0,9,     -999.0,9,     -999.0,9
33RO20180423,        I7N,      49,          1,        110,      11109,2,20180511,       1509,    -9.6417,    51.8827,       4015,  1551.2,   3.6136,  34.7339,2,  34.7365,2,    117.4,2, 130.8570,2,     97.7,2,     35.1,2,     0.00,2,    2.472,2,   0.050,2,   0.026,2,        0,2,  2286.8,2,  2372.5,6,   7.5476,2,    25.00, -999.00,9, -999.00,9, -999.00,-999.000,1,  -999.0,9,     -999.0,1,     -999.0,9,         10,     -999.0,9,     -999.0,9,     -999.0,9,     -999.0,9
33RO20180423,        I7N,      49,          1,        111,      11110,2,20180511,       1509,    -9.6417,    51.8827,       4015,  1300.6,   4.8864,  34.7668,2,  34.7690,2,     94.7,2, 105.3180,2,     87.7,2,     35.7,2,     0.00,2,    2.545,2,   0.106,2,   0.057,2,   0.0162,2,  2286.1,2,  2362.6,2,   7.5246,6,    25.00, -999.00,9, -999.00,9, -999.00,-999.000,1,  -999.0,9,     -999.0,1,     -999.0,9,         11,     -999.0,9,     -999.0,9,     -999.0,9,     -999.0,9
33RO20180423,        I7N,      49,          1,        112,      11111,2,20180511,       1509,    -9.6417,    51.8827,       4015,  1101.6,   5.7494,  34.7846,2,  34.7904,2,     87.8,2,  97.3080,2,     78.2,2,     35.3,2,     0.00,2,    2.523,2,   0.220,6,   0.118,6,   0.0036,6,  2279.6,2,  2355.2,2,   7.5216,2,    25.00, -999.00,9, -999.00,9, -999.00,-999.000,1,  -999.0,9,     -999.0,1,     -999.0,9,         12,     -999.0,9,     -999.0,9,     -999.0,9,     -999.0,9
33RO20180423,        I7N,      49,          1,        113,      11112,2,20180511,       1509,    -9.6417,    51.8827,       4015,   900.6,   6.8369,  34.8009,2,  34.8037,2,     84.5,2,  93.0250,2,     65.1,2,     34.2,2,     0.00,2,    2.428,2,   0.447,2,   0.240,2,   0.1197,2,  2261.6,2,  2343.5,2,   7.5280,2,    25.00, -999.00,9, -999.00,9, -999.00,-999.000,1,  -999.0,9,     -999.0,1,     -999.0,9,         13,     -999.0,9,     -999.0,9,     -999.0,9,     -999.0,9
33RO20180423,        I7N,      49,          1,        114,      11113,2,20180511,       1509,    -9.6417,    51.8827,       4015,   749.7,   7.6096,  34.7919,2,  34.8026,2,     94.6,2, 103.6640,2,     52.6,2,     32.1,2,     0.00,2,    2.276,2,   0.812,2,   0.432,2,   0.2176,2,  2241.0,2,  2332.0,2,   7.5519,2,    25.00, -999.00,9, -999.00,9, -999.00,-999.000,1,  -999.0,9,     -999.0,1,     -999.0,9,         14,     -999.0,9,     -999.0,9,     -999.0,9,     -999.0,9
33RO20180423,        I7N,      49,          1,        115,      11114,2,20180511,       1509,    -9.6417,    51.8827,       4015,   601.3,   8.2326,  34.7921,2,  34.7968,2,    104.9,2, 114.1030,2,     42.9,2,     30.1,2,     0.00,2,    2.113,2,   1.172,2,   0.622,2,   0.3067,2,  2226.3,2,  2323.6,2,   7.5776,2,    25.00, -999.00,9, -999.00,9, -999.00,-999.000,1,  -999.0,9,     -999.0,1,     -999.0,9,         15,     -999.0,9,     -999.0,9,     -999.0,9,     -999.0,9
33RO20180423,        I7N,      49,          1,        116,      11115,2,20180511,       1509,    -9.6417,    51.8827,       4015,   450.3,   9.3130,  34.8141,2,  34.8194,2,    124.5,2, 135.7005,2,     28.9,2,     26.1,2,     0.00,2,    1.815,2,   1.835,2,   0.985,2,   0.5088,2,  2198.4,2,  2310.7,2,   7.6274,2,    25.00, -999.00,9, -999.00,9, -999.00,-999.000,1,  -999.0,9,     -999.0,1,     -999.0,9,         16,     -999.0,9,     -999.0,9,     -999.0,9,     -999.0,9
33RO20180423,        I7N,      49,          1,        117,      11116,2,20180511,       1509,    -9.6417,    51.8827,       4015,   350.0,  10.2727,  34.8697,2,  34.8758,6,    135.6,2, 145.4300,2,     21.9,2,     23.2,2,     0.00,2,    1.616,2,   2.197,2,   1.193,2,   0.7089,2,  2183.0,2,  2308.2,2,   7.6615,2,    25.00, -999.00,9, -999.00,9, -999.00,-999.000,1,  -999.0,9,     -999.0,1,     -999.0,9,         17,     -999.0,9,     -999.0,9,     -999.0,9,     -999.0,9
33RO20180423,        I7N,      49,          1,        118,      11117,2,20180511,       1509,    -9.6417,    51.8827,       4015,   275.6,  11.5386,  34.9684,2,  34.9734,2,    121.3,2, 129.8280,2,     19.7,2,     22.3,2,     0.00,2,    1.545,2,   2.144,2,   1.195,2,   0.7357,2,  2182.7,2,  2309.1,2,   7.6623,2,    25.00, -999.00,9, -999.00,9, -999.00,-999.000,1,  -999.0,9,     -999.0,1,     -999.0,9,         18,     -999.0,9,     -999.0,9,     -999.0,9,     -999.0,9
33RO20180423,        I7N,      49,          1,        119,      11083,2,20180511,       1509,    -9.6417,    51.8827,       4015,   201.2,  12.4042,  35.0185,2,  35.0206,2,    106.7,2, 116.6190,2,     19.8,2,     22.3,2,     0.00,2,    1.556,2,   2.060,2,   1.158,2,   0.7852,2,  2186.3,2,  2312.8,2,   7.6604,2,    25.00, -999.00,9, -999.00,9, -999.00,-999.000,1,  -999.0,9,     -999.0,1,     -999.0,9,         19,     -999.0,9,     -999.0,9,     -999.0,9,     -999.0,9
33RO20180423,        I7N,      49,          1,        120,      11118,2,20180511,       1509,    -9.6417,    51.8827,       4015,   160.8,  14.1169,  35.0674,2,  35.0675,2,     86.9,2,  99.1300,2,     20.1,2,     22.4,2,     0.01,2,    1.565,2,   1.908,2,   1.092,2,   0.7672,2,  2185.3,2,  2310.6,2,   7.6587,2,    25.00, -999.00,9, -999.00,9, -999.00,-999.000,1,  -999.0,9,     -999.0,1,     -999.0,9,         20,     -999.0,9,     -999.0,9,     -999.0,9,     -999.0,9
33RO20180423,        I7N,      49,          1,        121,      11119,2,20180511,       1509,    -9.6417,    51.8827,       4015,   120.4,  15.2330,  35.0700,2,  35.0825,2,     74.1,2,  80.7000,2,     20.2,2,     22.7,2,     0.01,2,    1.567,2,   1.817,2,   1.059,2,   0.7953,2,  2184.2,2,  2310.2,2,   7.6574,2,    25.00, -999.00,9, -999.00,9, -999.00,-999.000,1,  -999.0,9,     -999.0,1,     -999.0,9,         21,     -999.0,9,     -999.0,9,     -999.0,9,     -999.0,9
33RO20180423,        I7N,      49,          1,        122,      11120,2,20180511,       1509,    -9.6417,    51.8827,       4015,    80.5,  20.2159,  35.2020,2,  35.2048,2,    126.1,2, 144.0110,2,     10.1,2,     11.0,2,     0.36,2,    0.843,2,   1.803,2,   1.111,2,   1.2378,2,  2105.7,2,  2309.7,2,   7.8517,2,    25.00, -999.00,9, -999.00,9, -999.00,-999.000,1,  -999.0,9,     -999.0,1,     -999.0,9,         22,     -999.0,9,     -999.0,9,     -999.0,9,     -999.0,9
33RO20180423,        I7N,      49,          1,        123,      11121,2,20180511,       1509,    -9.6417,    51.8827,       4015,    39.9,  24.5238,  35.0642,2,  35.0728,2,    185.2,2, 211.0810,4,      3.2,2,      0.6,2,     0.03,2,    0.221,2,   1.679,2,   1.061,2,   1.4206,2,  2011.2,2,  2299.6,2,   8.0151,6,    25.00, -999.00,9, -999.00,9, -999.00,-999.000,1,  -999.0,9,     -999.0,1,     -999.0,9,         23,     -999.0,9,     -999.0,9,     -999.0,9,     -999.0,9
33RO20180423,        I7N,      49,          1,        124,      11122,2,20180511,       1509,    -9.6417,    51.8827,       4015,     3.1,  28.1820,  34.7365,2,  34.7405,2,    186.9,2, 196.6390,2,      2.3,2,      0.1,2,     0.00,2,    0.138,2,   1.453,2,   0.927,2,   1.3272,2,  1962.1,6,  2275.6,6,   8.0666,2,    25.00, -999.00,9, -999.00,9, -999.00,-999.000,1,  -999.0,9,     -999.0,1,     -999.0,9,         24,     -999.0,9,     -999.0,9,     -999.0,9,     -999.0,9