BOTTLE,20230801CCHSIOCBG
EXPOCODE,SECT_ID,STNNBR,CASTNO,SAMPNO,BTLNBR,BTLNBR_FLAG_W,DATE,TIME,LATITUDE,LONGITUDE,DEPTH,CTDPRS,CTDTMP,CTDSAL,CTDSAL_FLAG_W,SALNTY,SALNTY_FLAG_W,CTDOXY,CTDOXY_FLAG_W,OXYGEN,OXYGEN_FLAG_W,SILCAT,SILCAT_FLAG_W,NITRAT,NITRAT_FLAG_W,NITRIT,NITRIT_FLAG_W,PHSPHT,PHSPHT_FLAG_W,CFC-11,CFC-11_FLAG_W,CFC-12,CFC-12_FLAG_W,SF6,SF6_FLAG_W,TCARBN,TCARBN_FLAG_W,ALKALI,ALKALI_FLAG_W,PH_SWS,PH_SWS_FLAG_W,PH_TMP,DELC13,DELC13_FLAG_W,DELC14,DELC14_FLAG_W,C14ERR,CCL4,CCL4_FLAG_W,DOC,DOC_FLAG_W,N2O,N2O_FLAG_W,CALCIUM,CALCIUM_FLAG_W,SAMPNO_U,DNSSAL,DNSSAL_FLAG_W,DNSSAL2,DNSSAL2_FLAG_W,SALNTY_DNSSAL,SALNTY_DNSSAL_FLAG_W,SALNTY_DNSSAL2,SALNTY_DNSSAL2_FLAG_W
,,,,,,,,,,,METERS,DBAR,ITS-90,PSS-78,,PSS-78,,UMOL/KG,,UMOL/KG,,UMOL/KG,,UMOL/KG,,UMOL/KG,,UMOL/KG,,PMOL/KG,,PMOL/KG,,FMOL/KG,,UMOL/KG,,UMOL/KG,,,,DEG C,/MILLE,,/MILLE,,/MILLE,PMOL/KG,,UMOL/KG,,NMOL/KG,,MMOL/KG,,,G/KG,,G/KG,,PSS-78,,PSS-78,
33RO20180423,        I7N,      90,          1,        101,      11010,2,20180526,       0145,     5.1970,    60.2587,       3428,  3474.9,   1.6890,  34.7365,2,  34.7384,2,    142.6,2, 161.3710,2,    133.8,6,     34.8,6,     0.00,6,    2.423,6,   0.009,2,   0.005,2,   0.0049,2,  2310.3,6,  2410.5,2,   7.5897,6,    25.00, -999.00,9, -999.00,9, -999.00,-999.000,1,  -999.0,9,     -999.0,1,     -999.0,9,          1,     -999.0,9,     -999.0,9,     -999.0,9,     -999.0,9
33RO20180423,        I7N,      90,          1,        102,      11101,2,20180526,       0145,     5.1970,    60.2587,       3428,  3176.7,   1.7745,  34.7417,2,  34.7470,6,    137.9,2, 156.3160,2,    133.8,6,     35.2,6,     0.00,6,    2.455,6,   0.004,2,   0.003,2,        0,2,  2311.3,2,  2411.9,2,   7.5803,2,    25.00, -999.00,9, -999.00,9, -999.00,-999.000,1,  -999.0,9,     -999.0,1,     -999.0,9,          2,     -999.0,9,     -999.0,9,     -999.0,9,     -999.0,9
33RO20180423,        I7N,      90,          1,        103,      11102,2,20180526,       0145,     5.1970,    60.2587,       3428,  2899.0,   1.9412,  34.7505,2,  34.7511,2,    131.2,2, 148.5060,2,    133.8,6,     35.4,6,     0.00,6,    2.491,6,   0.003,2,   0.002,2,        0,2,  2314.0,2,  -999.0,5,   7.5723,2,    25.00, -999.00,9, -999.00,9, -999.00,-999.000,1,  -999.0,9,     -999.0,1,     -999.0,9,          3,     -999.0,9,     -999.0,9,     -999.0,9,     -999.0,9
33RO20180423,        I7N,      90,          1,        104,      11103,2,20180526,       0145,     5.1970,    60.2587,       3428,  2601.4,   2.1144,  34.7595,2,  34.7727,2,    125.9,2, 142.0140,2,    132.1,6,     35.6,6,     0.00,6,    2.521,6,   0.002,2,   0.003,2,   0.0076,2,  2316.4,2,  2413.1,6,   7.5640,2,    25.00, -999.00,9, -999.00,9, -999.00,-999.000,1,  -999.0,9,     -999.0,1,     -999.0,9,          4,     -999.0,9,     -999.0,9,     -999.0,9,     -999.0,9
33RO20180423,        I7N,      90,          1,        105,      11104,2,20180526,       0145,     5.1970,    60.2587,       3428,  2301.8,   2.3508,  34.7714,2,  34.7774,2,    119.7,2, 134.5740,2,    129.5,2,     35.8,2,     0.00,2,    2.548,2,   0.002,2,   0.002,2,        0,2,  2317.6,2,  2409.3,2,   7.5566,2,    25.00, -999.00,9, -999.00,9, -999.00,-999.000,1,    43.9,3,     -999.0,1,     -999.0,9,          5,     -999.0,9,     -999.0,9,     -999.0,9,     -999.0,9
33RO20180423,        I7N,      90,          1,        106,      11105,2,20180526,       0145,     5.1970,    60.2587,       3428,  2000.6,   2.9826,  34.8017,2,  34.8042,6,    105.8,2, 118.5290,2,    121.9,2,     36.2,2,     0.00,2,    2.601,2,   0.003,6,   0.003,6,        0,6,  2317.9,2,  2401.7,2,   7.5360,2,    25.00, -999.00,9, -999.00,9, -999.00,-999.000,1,    47.8,3,     -999.0,1,     -999.0,9,          6,     -999.0,9,     -999.0,9,     -999.0,9,     -999.0,9
33RO20180423,        I7N,      90,          1,        107,      11106,2,20180526,       0145,     5.1970,    60.2587,       3428,  1714.7,   4.1487,  34.8724,2,  34.8742,2,     80.6,2,  90.1280,2,    110.7,2,     37.1,2,     0.00,2,    2.708,2,   0.006,2,   0.004,2,        0,2,  2318.4,2,  2398.8,2,   7.5046,2,    25.00, -999.00,9, -999.00,9, -999.00,-999.000,1,    47.4,3,     -999.0,1,     -999.0,9,          7,     -999.0,9,     -999.0,9,     -999.0,9,     -999.0,9
33RO20180423,        I7N,      90,          1,        108,      11107,2,20180526,       0145,     5.1970,    60.2587,       3428,  1457.7,   5.0222,  34.9276,2,  34.9372,2,     65.1,2,  72.6430,2,    102.0,2,     37.5,2,     0.00,2,    2.759,2,   0.012,2,   0.008,2,   0.0042,2,  2317.6,2,  2382.8,2,   7.4850,2,    25.00, -999.00,9, -999.00,9, -999.00,-999.000,1,    46.0,3,     -999.0,1,     -999.0,9,          8,     -999.0,9,     -999.0,9,     -999.0,9,     -999.0,9
33RO20180423,        I7N,      90,          1,        109,      11108,2,20180526,       0145,     5.1970,    60.2587,       3428,  1233.4,   6.2606,  35.0234,2,  35.0248,2,     46.6,2,  51.9765,2,     90.7,2,     37.6,2,     0.00,2,    2.798,2,   0.034,2,   0.021,2,   0.0066,2,  2312.5,2,  2374.0,6,   7.4692,2,    25.00, -999.00,9, -999.00,9, -999.00,-999.000,1,    43.4,3,     -999.0,1,     -999.0,9,          9,     -999.0,9,     -999.0,9,     -999.0,9,     -999.0,9
33RO20180423,        I7N,      90,          1,        110,      11109,2,20180526,       0145,     5.1970,    60.2587,       3428,  1025.1,   7.2187,  35.1047,2,  35.1092,2,     35.9,2,  40.5250,2,     81.7,2,     37.4,2,     0.01,2,    2.798,2,   0.061,2,   0.038,2,        0,2,  2306.9,2,  2366.8,2,   7.4651,6,    25.00, -999.00,9, -999.00,9, -999.00,-999.000,1,    45.8,3,     -999.0,1,     -999.0,9,         10,     -999.0,9,     -999.0,9,     -999.0,9,     -999.0,9
33RO20180423,        I7N,      90,          1,        111,      11110,2,20180526,       0145,     5.1970,    60.2587,       3428,   850.7,   8.4677,  35.1935,2,  35.1955,2,     29.2,2,  33.3390,2,     68.4,2,     36.2,2,     0.00,2,    2.702,2,   0.155,2,   0.092,2,   0.0045,2,  2295.2,2,  2355.6,2,   7.4685,2,    25.00, -999.00,9, -999.00,9, -999.00,-999.000,1,    44.6,3,     -999.0,1,     -999.0,9,         11,     -999.0,9,     -999.0,9,     -999.0,9,     -999.0,9
33RO20180423,        I7N,      90,          1,        112,      11111,2,20180526,       0145,     5.1970,    60.2587,       3428,   655.7,  10.0013,  35.3239,2,  35.3236,2,     22.6,2,  25.9760,2,     53.3,2,     34.1,2,     0.00,2,    2.615,2,   0.344,2,   0.203,2,   0.0644,2,  2280.1,2,  2344.3,2,   7.4776,2,    25.00, -999.00,9, -999.00,9, -999.00,-999.000,1,    48.1,3,     -999.0,1,     -999.0,9,         12,     -999.0,9,     -999.0,9,     -999.0,9,     -999.0,9
33RO20180423,        I7N,      90,          1,        113,      11112,2,20180526,       0145,     5.1970,    60.2587,       3428,   552.7,  10.9290,  35.3711,2,  35.3853,2,     26.7,2,  30.3210,2,     42.8,2,     32.2,2,     0.00,2,    2.467,2,   0.651,2,   0.374,2,   0.1651,2,  2266.3,2,  2338.2,2,   7.4930,2,    25.00, -999.00,9, -999.00,9, -999.00,-999.000,1,    44.2,3,     -999.0,1,     -999.0,9,         13,     -999.0,9,     -999.0,9,     -999.0,9,     -999.0,9
33RO20180423,        I7N,      90,          1,        114,      11113,2,20180526,       0145,     5.1970,    60.2587,       3428,   486.3,  10.9616,  35.2457,2,  35.2459,2,     46.5,2,  51.0480,2,     35.7,2,     30.7,2,     0.00,2,    2.265,2,   1.058,2,   0.592,2,   0.2588,2,  2248.6,2,  2326.5,2,   7.5215,2,    25.00, -999.00,9, -999.00,9, -999.00,-999.000,1,    48.1,3,     -999.0,1,     -999.0,9,         14,     -999.0,9,     -999.0,9,     -999.0,9,     -999.0,9
33RO20180423,        I7N,      90,          1,        115,      11114,2,20180526,       0145,     5.1970,    60.2587,       3428,   389.7,  11.3518,  35.1703,2,  35.1738,2,     66.3,2,  72.0690,2,     28.0,2,     28.3,2,     0.01,2,    2.029,2,   1.547,2,   0.854,2,   0.4245,2,  2226.5,2,  2319.0,2,   7.5573,2,    25.00, -999.00,9, -999.00,9, -999.00,-999.000,1,    47.6,3,     -999.0,1,     -999.0,9,         15,     -999.0,9,     -999.0,9,     -999.0,9,     -999.0,9
33RO20180423,        I7N,      90,          1,        116,      11115,2,20180526,       0145,     5.1970,    60.2587,       3428,   333.3,  12.1745,  35.2338,2,  35.2672,2,     57.3,2,  62.7360,2,     25.5,2,     27.8,2,     0.01,2,    1.995,2,   1.606,2,   0.904,2,   0.5045,2,  2227.5,2,  2318.7,2,   7.5560,2,    25.00, -999.00,9, -999.00,9, -999.00,-999.000,1,    51.8,3,     -999.0,1,     -999.0,9,         16,     -999.0,9,     -999.0,9,     -999.0,9,     -999.0,9
33RO20180423,        I7N,      90,          1,        117,      11116,2,20180526,       0145,     5.1970,    60.2587,       3428,   283.5,  12.7216,  35.2138,2,  35.2358,2,     64.3,2,  69.1130,2,     22.6,2,     26.3,2,     0.01,2,    1.893,2,   1.776,2,   0.996,2,   0.6383,2,  2218.4,2,  2316.6,2,   7.5775,2,    25.00, -999.00,9, -999.00,9, -999.00,-999.000,1,  -999.0,9,     -999.0,1,     -999.0,9,         17,     -999.0,9,     -999.0,9,     -999.0,9,     -999.0,9
33RO20180423,        I7N,      90,          1,        118,      11117,2,20180526,       0145,     5.1970,    60.2587,       3428,   232.7,  13.5764,  35.1952,2,  35.1966,2,     70.2,2,  76.8210,2,     20.1,2,     24.5,2,     0.01,2,    1.766,2,   1.871,2,   1.071,2,   0.6867,2,  2204.7,2,  2314.3,2,   7.6115,2,    25.00, -999.00,9, -999.00,9, -999.00,-999.000,1,    61.3,3,     -999.0,1,     -999.0,9,         18,     -999.0,9,     -999.0,9,     -999.0,9,     -999.0,9
33RO20180423,        I7N,      90,          1,        119,      11083,2,20180526,       0145,     5.1970,    60.2587,       3428,   146.4,  17.0144,  35.3280,2,  35.3334,2,     46.5,2,  50.8150,2,     17.5,2,     23.9,2,     0.01,2,    1.774,2,   1.677,2,   1.000,2,   0.8148,2,  2197.4,2,  2315.3,2,   7.6313,2,    25.00, -999.00,9, -999.00,9, -999.00,-999.000,1,  -999.0,9,     -999.0,1,     -999.0,9,         19,     -999.0,9,     -999.0,9,     -999.0,9,     -999.0,9
33RO20180423,        I7N,      90,          1,        120,      11118,2,20180526,       0145,     5.1970,    60.2587,       3428,   105.7,  23.0269,  35.6296,2,  35.6405,2,     71.3,2,  78.1800,2,      9.4,2,     16.6,2,     0.06,2,    1.293,2,   1.501,2,   0.940,2,   1.0703,2,  2136.3,2,  2327.6,2,   7.8013,2,    25.00, -999.00,9, -999.00,9, -999.00,-999.000,1,    59.9,3,     -999.0,1,     -999.0,9,         20,     -999.0,9,     -999.0,9,     -999.0,9,     -999.0,9
33RO20180423,        I7N,      90,          1,        121,      11119,2,20180526,       0145,     5.1970,    60.2587,       3428,   105.6,  23.0584,  35.6328,2,  35.6420,2,     71.7,2,  78.3590,2,      9.4,2,     16.6,2,     0.06,2,    1.297,2,   1.509,2,   0.942,2,   1.0874,2,  2136.8,2,  2326.4,6,   7.8029,2,    25.00, -999.00,9, -999.00,9, -999.00,-999.000,1,  -999.0,9,     -999.0,1,     -999.0,9,         21,     -999.0,9,     -999.0,9,     -999.0,9,     -999.0,9
33RO20180423,        I7N,      90,          1,        122,      11120,2,20180526,       0145,     5.1970,    60.2587,       3428,    67.8,  27.2464,  35.8374,2,  35.8440,2,    141.2,2, 148.9520,2,      3.8,2,      4.3,2,     0.38,2,    0.573,2,   1.446,2,   0.917,2,   1.2773,2,  2059.9,2,  2317.0,3,   7.9833,2,    25.00, -999.00,9, -999.00,9, -999.00,-999.000,1,    71.0,3,     -999.0,1,     -999.0,9,         22,     -999.0,9,     -999.0,9,     -999.0,9,     -999.0,9
33RO20180423,        I7N,      90,          1,        123,      11121,2,20180526,       0145,     5.1970,    60.2587,       3428,    29.0,  29.2036,  35.3277,2,  35.3305,2,    183.5,2, 193.5870,2,      1.9,2,      0.0,2,     0.00,2,    0.151,2,   1.404,6,   0.894,6,   1.3631,6,  1983.8,2,  2316.1,2,   8.0767,2,    25.00, -999.00,9, -999.00,9, -999.00,-999.000,1,    74.7,3,     -999.0,1,     -999.0,9,         23,     -999.0,9,     -999.0,9,     -999.0,9,     -999.0,9
33RO20180423,        I7N,      90,          1,        124,      11122,2,20180526,       0145,     5.1970,    60.2587,       3428,     4.0,  29.3190,  35.3135,2,  35.3151,2,    183.2,2, 192.7500,2,      1.8,2,      0.0,2,     0.00,2,    0.144,2,   1.398,2,   0.892,2,   1.3502,2,  1981.6,6,  2316.3,2,   8.0793,6,    25.00, -999.00,9, -999.00,9, -999.00,-999.000,1,    68.1,3,     -999.0,1,     -999.0,9,         24,     -999.0,9,     -999.0,9,     -999.0,9,     -999.0,9