BOTTLE,20230801CCHSIOCBG
EXPOCODE,SECT_ID,STNNBR,CASTNO,SAMPNO,BTLNBR,BTLNBR_FLAG_W,DATE,TIME,LATITUDE,LONGITUDE,DEPTH,CTDPRS,CTDTMP,CTDSAL,CTDSAL_FLAG_W,SALNTY,SALNTY_FLAG_W,CTDOXY,CTDOXY_FLAG_W,OXYGEN,OXYGEN_FLAG_W,SILCAT,SILCAT_FLAG_W,NITRAT,NITRAT_FLAG_W,NITRIT,NITRIT_FLAG_W,PHSPHT,PHSPHT_FLAG_W,CFC-11,CFC-11_FLAG_W,CFC-12,CFC-12_FLAG_W,SF6,SF6_FLAG_W,TCARBN,TCARBN_FLAG_W,ALKALI,ALKALI_FLAG_W,PH_SWS,PH_SWS_FLAG_W,PH_TMP,DELC13,DELC13_FLAG_W,DELC14,DELC14_FLAG_W,C14ERR,CCL4,CCL4_FLAG_W,DOC,DOC_FLAG_W,N2O,N2O_FLAG_W,CALCIUM,CALCIUM_FLAG_W,SAMPNO_U,DNSSAL,DNSSAL_FLAG_W,DNSSAL2,DNSSAL2_FLAG_W,SALNTY_DNSSAL,SALNTY_DNSSAL_FLAG_W,SALNTY_DNSSAL2,SALNTY_DNSSAL2_FLAG_W
,,,,,,,,,,,METERS,DBAR,ITS-90,PSS-78,,PSS-78,,UMOL/KG,,UMOL/KG,,UMOL/KG,,UMOL/KG,,UMOL/KG,,UMOL/KG,,PMOL/KG,,PMOL/KG,,FMOL/KG,,UMOL/KG,,UMOL/KG,,,,DEG C,/MILLE,,/MILLE,,/MILLE,PMOL/KG,,UMOL/KG,,NMOL/KG,,MMOL/KG,,,G/KG,,G/KG,,PSS-78,,PSS-78,
33RO20180423,        I7N,      13,          1,        101,      11010,2,20180501,       0511,   -25.6627,    54.5032,       5053,  5147.6,   0.9943,  34.7019,2,  34.7077,2,    179.0,2, 208.3330,2,    126.7,6,     31.9,6,     0.00,6,    2.229,6,   0.126,2,   0.063,2,   0.0061,2,  2263.1,6,  2367.9,2,   7.6359,4,    25.00, -999.00,9, -999.00,9, -999.00,-999.000,1,  -999.0,9,     -999.0,1,     -999.0,9,          1,     -999.0,9,     -999.0,9,     -999.0,9,     -999.0,9
33RO20180423,        I7N,      13,          1,        102,      11101,2,20180501,       0511,   -25.6627,    54.5032,       5053,  4795.1,   0.9829,  34.7033,2,  34.7030,2,    177.1,2, 219.4800,4,    127.9,6,     32.1,6,     0.00,6,    2.230,6,   0.114,2,   0.057,2,   0.0031,2,  2264.2,2,  2369.7,6,   7.5970,2,    25.00, -999.00,9, -999.00,9, -999.00,-999.000,1,  -999.0,9,     -999.0,1,     -999.0,9,          2,     -999.0,9,     -999.0,9,     -999.0,9,     -999.0,9
33RO20180423,        I7N,      13,          1,        103,      11102,2,20180501,       0511,   -25.6627,    54.5032,       5053,  4423.6,   1.0540,  34.7075,2,  34.7072,2,    173.6,2, 202.8200,2,    126.5,6,     32.2,6,     0.00,6,    2.248,6,   0.083,2,   0.042,2,   0.0133,2,  2266.6,2,  2374.0,2,   7.5990,6,    25.00, -999.00,9, -999.00,9, -999.00,-999.000,1,  -999.0,9,     -999.0,1,     -999.0,9,          3,     -999.0,9,     -999.0,9,     -999.0,9,     -999.0,9
33RO20180423,        I7N,      13,          1,        104,      11103,2,20180501,       0511,   -25.6627,    54.5032,       5053,  4125.3,   1.2105,  34.7137,2,  34.7157,2,    167.0,2, 194.9350,2,    125.6,6,     32.5,6,     0.00,6,    2.263,6,   0.050,2,   0.025,2,        0,2,  2272.2,2,  2380.6,2,   7.5990,2,    25.00, -999.00,9, -999.00,9, -999.00,-999.000,1,  -999.0,9,     -999.0,1,     -999.0,9,          4,     -999.0,9,     -999.0,9,     -999.0,9,     -999.0,9
33RO20180423,        I7N,      13,          1,        105,      11104,2,20180501,       0511,   -25.6627,    54.5032,       5053,  3825.6,   1.3881,  34.7211,2,  34.7213,2,    160.3,2, 186.5470,2,    124.4,2,     32.8,2,     0.00,2,    2.307,2,   0.023,6,   0.012,6,        0,6,  2279.7,2,  2385.2,2,   7.5960,2,    25.00, -999.00,9, -999.00,9, -999.00,-999.000,1,  -999.0,9,     -999.0,1,     -999.0,9,          5,     -999.0,9,     -999.0,9,     -999.0,9,     -999.0,9
33RO20180423,        I7N,      13,          1,        106,      11105,2,20180501,       0511,   -25.6627,    54.5032,       5053,  3525.5,   1.5739,  34.7276,2,  34.7290,2,    152.7,2, 177.3430,2,    124.6,2,     33.0,2,     0.00,2,    2.331,2,   0.010,2,   0.006,2,        0,2,  2283.8,2,  2394.8,2,   7.5928,2,    25.00, -999.00,9, -999.00,9, -999.00,-999.000,1,  -999.0,9,     -999.0,1,     -999.0,9,          6,     -999.0,9,     -999.0,9,     -999.0,9,     -999.0,9
33RO20180423,        I7N,      13,          1,        107,      11106,2,20180501,       0511,   -25.6627,    54.5032,       5053,  3224.8,   1.7744,  34.7341,2,  34.7394,2,    145.7,2, 168.2300,2,    123.4,2,     33.6,2,     0.00,2,    2.361,2,   0.007,2,   0.006,2,   0.0111,2,  2292.7,2,  2399.4,2,   7.5874,2,    25.00, -999.00,9, -999.00,9, -999.00,-999.000,1,  -999.0,9,     -999.0,1,     -999.0,9,          7,     -999.0,9,     -999.0,9,     -999.0,9,     -999.0,9
33RO20180423,        I7N,      13,          1,        108,      11107,2,20180501,       0511,   -25.6627,    54.5032,       5053,  2924.9,   1.9216,  34.7376,2,  34.7416,2,    143.0,2, 164.6030,2,    121.4,2,     33.5,2,     0.00,2,    2.362,2,   0.004,2,   0.003,2,        0,2,  2293.0,2,  2399.1,2,   7.5923,2,    25.00, -999.00,9, -999.00,9, -999.00,-999.000,1,  -999.0,9,     -999.0,1,     -999.0,9,          8,     -999.0,9,     -999.0,9,     -999.0,9,     -999.0,9
33RO20180423,        I7N,      13,          1,        109,      11108,2,20180501,       0511,   -25.6627,    54.5032,       5053,  2625.5,   2.0681,  34.7378,2,  34.7393,2,    143.9,2, 164.8490,2,    116.3,2,     33.3,2,     0.00,2,    2.341,2,   0.006,2,   0.004,2,        0,2,  2286.5,2,  2391.7,2,   7.5848,2,    25.00, -999.00,9, -999.00,9, -999.00,-999.000,1,  -999.0,9,     -999.0,1,     -999.0,9,          9,     -999.0,9,     -999.0,9,     -999.0,9,     -999.0,9
33RO20180423,        I7N,      13,          1,        110,      11109,2,20180501,       0511,   -25.6627,    54.5032,       5053,  2325.1,   2.2585,  34.7334,2,  34.7350,2,    148.2,2, 169.9330,2,    104.5,2,     32.6,2,     0.00,2,    2.290,2,   0.017,2,   0.009,2,        0,2,  2274.2,2,  2379.0,2,   7.5872,2,    25.00, -999.00,9, -999.00,9, -999.00,-999.000,1,  -999.0,9,     -999.0,1,     -999.0,9,         10,     -999.0,9,     -999.0,9,     -999.0,9,     -999.0,9
33RO20180423,        I7N,      13,          1,        111,      11110,2,20180501,       0511,   -25.6627,    54.5032,       5053,  2026.7,   2.4312,  34.7120,2,  34.7224,6,    151.5,2, 170.9370,2,     94.1,2,     32.2,2,     0.00,2,    2.259,2,   0.034,2,   0.016,2,        0,2,  2264.7,2,  2367.2,2,   7.5855,2,    25.00, -999.00,9, -999.00,9, -999.00,-999.000,1,  -999.0,9,     -999.0,1,     -999.0,9,         11,     -999.0,9,     -999.0,9,     -999.0,9,     -999.0,9
33RO20180423,        I7N,      13,          1,        112,      11111,2,20180501,       0511,   -25.6627,    54.5032,       5053,  1738.3,   2.7749,  34.6565,2,  34.6571,2,    147.1,2, 164.9220,2,     84.9,2,     33.0,2,     0.00,2,    2.310,2,   0.065,2,   0.033,2,        0,2,  2258.8,2,  2357.3,6,   7.5708,2,    25.00, -999.00,9, -999.00,9, -999.00,-999.000,1,  -999.0,9,     -999.0,1,     -999.0,9,         12,     -999.0,9,     -999.0,9,     -999.0,9,     -999.0,9
33RO20180423,        I7N,      13,          1,        113,      11112,2,20180501,       0511,   -25.6627,    54.5032,       5053,  1487.9,   3.3493,  34.5957,2,  34.6123,2,    136.5,2, 152.2680,2,     78.2,2,     34.1,2,     0.00,2,    2.393,2,   0.126,2,   0.063,2,        0,2,  2256.8,2,  2367.4,4,   7.5537,6,    25.00, -999.00,9, -999.00,9, -999.00,-999.000,1,  -999.0,9,     -999.0,1,     -999.0,9,         13,     -999.0,9,     -999.0,9,     -999.0,9,     -999.0,9
33RO20180423,        I7N,      13,          1,        114,      11113,2,20180501,       0511,   -25.6627,    54.5032,       5053,  1237.5,   4.2914,  34.5181,2,  34.5222,2,    137.0,2, 151.2880,2,     63.1,2,     33.5,2,     0.00,2,    2.375,2,   0.425,2,   0.212,2,   0.0588,2,  2241.5,6,  2334.7,2,   7.5585,2,    25.00, -999.00,9, -999.00,9, -999.00,-999.000,1,  -999.0,9,     -999.0,1,     -999.0,9,         14,     -999.0,9,     -999.0,9,     -999.0,9,     -999.0,9
33RO20180423,        I7N,      13,          1,        115,      11114,2,20180501,       0511,   -25.6627,    54.5032,       5053,   986.5,   5.9857,  34.4472,2,  34.4511,2,    173.3,2, 189.6980,2,     27.3,2,     28.0,2,     0.00,2,    1.960,2,   1.889,2,   0.942,2,   0.4481,2,  2185.7,2,  2299.9,2,   7.6303,2,    25.00, -999.00,9, -999.00,9, -999.00,-999.000,1,  -999.0,9,     -999.0,1,     -999.0,9,         15,     -999.0,9,     -999.0,9,     -999.0,9,     -999.0,9
33RO20180423,        I7N,      13,          1,        116,      11115,2,20180501,       0511,   -25.6627,    54.5032,       5053,   756.5,   9.2201,  34.6814,2,  34.6883,2,    204.9,2, 222.2990,2,      5.4,2,     17.3,2,     0.00,2,    1.272,2,   3.356,2,   1.825,2,   1.2077,2,  2135.5,2,  2294.5,2,   7.7392,2,    25.00, -999.00,9, -999.00,9, -999.00,-999.000,1,  -999.0,9,     -999.0,1,     -999.0,9,         16,     -999.0,9,     -999.0,9,     -999.0,9,     -999.0,9
33RO20180423,        I7N,      13,          1,        117,      11116,2,20180501,       0511,   -25.6627,    54.5032,       5053,   581.1,  11.1220,  34.9406,2,  34.9469,2,    212.3,2, 228.9310,2,      2.3,2,     11.8,2,     0.00,2,    0.943,2,   3.252,2,   1.867,2,   1.5526,2,  2123.2,2,  2307.2,2,   7.7932,2,    25.00, -999.00,9, -999.00,9, -999.00,-999.000,1,  -999.0,9,     -999.0,1,     -999.0,9,         17,     -999.0,9,     -999.0,9,     -999.0,9,     -999.0,9
33RO20180423,        I7N,      13,          1,        118,      11117,2,20180501,       0511,   -25.6627,    54.5032,       5053,   412.5,  13.2933,  35.2615,2,  35.2631,2,    209.6,2, 225.4880,2,      1.5,2,      7.1,2,     0.00,2,    0.667,2,   2.880,2,   1.706,2,   1.7561,2,  2113.8,2,  2323.0,2,   7.8423,2,    25.00, -999.00,9, -999.00,9, -999.00,-999.000,1,  -999.0,9,     -999.0,1,     -999.0,9,         18,     -999.0,9,     -999.0,9,     -999.0,9,     -999.0,9
33RO20180423,        I7N,      13,          1,        119,      11083,2,20180501,       0511,   -25.6627,    54.5032,       5053,   274.5,  16.3329,  35.5725,2,  35.5870,2,    190.4,2, 204.1100,2,      1.2,2,      3.4,2,     0.01,2,    0.445,2,   2.454,2,   1.485,2,   1.6611,2,  2105.6,2,  2336.8,2,   7.8893,2,    25.00, -999.00,9, -999.00,9, -999.00,-999.000,1,  -999.0,9,     -999.0,1,     -999.0,9,         19,     -999.0,9,     -999.0,9,     -999.0,9,     -999.0,9
33RO20180423,        I7N,      13,          1,        120,      11118,2,20180501,       0511,   -25.6627,    54.5032,       5053,   187.8,  18.6636,  35.6220,2,  35.6298,2,    175.8,2, 188.3490,2,      2.0,2,      3.0,2,     0.01,2,    0.390,2,   2.146,2,   1.332,2,    1.551,2,  2089.1,2,  2335.8,6,   7.9159,2,    25.00, -999.00,9, -999.00,9, -999.00,-999.000,1,  -999.0,9,     -999.0,1,     -999.0,9,         20,     -999.0,9,     -999.0,9,     -999.0,9,     -999.0,9
33RO20180423,        I7N,      13,          1,        121,      11119,2,20180501,       0511,   -25.6627,    54.5032,       5053,   138.2,  20.6076,  35.5061,2,  35.5116,6,    170.7,2, 181.9755,2,      2.2,2,      2.6,2,     0.02,2,    0.357,2,   1.952,2,   1.217,2,   1.4968,2,  2065.3,2,  2327.4,2,   7.9467,2,    25.00, -999.00,9, -999.00,9, -999.00,-999.000,1,  -999.0,9,     -999.0,1,     -999.0,9,         21,     -999.0,9,     -999.0,9,     -999.0,9,     -999.0,9
33RO20180423,        I7N,      13,          1,        122,      11120,2,20180501,       0511,   -25.6627,    54.5032,       5053,    86.9,  24.5470,  35.2375,2,  35.2429,2,    190.8,2, 202.5820,2,      0.6,2,      0.0,2,     0.03,2,    0.125,2,   1.684,6,   1.068,6,   1.5173,6,  2002.0,2,  2310.7,2,   8.0317,2,    25.00, -999.00,9, -999.00,9, -999.00,-999.000,1,  -999.0,9,     -999.0,1,     -999.0,9,         22,     -999.0,9,     -999.0,9,     -999.0,9,     -999.0,9
33RO20180423,        I7N,      13,          1,        123,      11121,2,20180501,       0511,   -25.6627,    54.5032,       5053,    39.5,  25.5515,  35.1542,2,  35.1576,2,    194.4,2, 205.6920,2,      0.5,2,      0.0,2,     0.00,2,    0.064,2,   1.579,2,   1.002,2,   1.4643,2,  1982.3,2,  2306.7,2,   8.0613,6,    25.00, -999.00,9, -999.00,9, -999.00,-999.000,1,  -999.0,9,     -999.0,1,     -999.0,9,         23,     -999.0,9,     -999.0,9,     -999.0,9,     -999.0,9
33RO20180423,        I7N,      13,          1,        124,      11122,2,20180501,       0511,   -25.6627,    54.5032,       5053,     3.0,  25.5865,  35.1313,2,  35.1326,2,    194.5,2, 205.8430,2,      0.5,2,      0.0,2,     0.00,2,    0.081,2,   1.572,2,   0.999,2,   1.3906,2,  1980.1,6,  2302.7,2,   8.0629,2,    25.00, -999.00,9, -999.00,9, -999.00,-999.000,1,  -999.0,9,     -999.0,1,     -999.0,9,         24,     -999.0,9,     -999.0,9,     -999.0,9,     -999.0,9