BOTTLE,20230801CCHSIOCBG
EXPOCODE,SECT_ID,STNNBR,CASTNO,SAMPNO,BTLNBR,BTLNBR_FLAG_W,DATE,TIME,LATITUDE,LONGITUDE,DEPTH,CTDPRS,CTDTMP,CTDSAL,CTDSAL_FLAG_W,SALNTY,SALNTY_FLAG_W,CTDOXY,CTDOXY_FLAG_W,OXYGEN,OXYGEN_FLAG_W,SILCAT,SILCAT_FLAG_W,NITRAT,NITRAT_FLAG_W,NITRIT,NITRIT_FLAG_W,PHSPHT,PHSPHT_FLAG_W,CFC-11,CFC-11_FLAG_W,CFC-12,CFC-12_FLAG_W,SF6,SF6_FLAG_W,TCARBN,TCARBN_FLAG_W,ALKALI,ALKALI_FLAG_W,PH_SWS,PH_SWS_FLAG_W,PH_TMP,DELC13,DELC13_FLAG_W,DELC14,DELC14_FLAG_W,C14ERR,CCL4,CCL4_FLAG_W,DOC,DOC_FLAG_W,N2O,N2O_FLAG_W,CALCIUM,CALCIUM_FLAG_W,SAMPNO_U,DNSSAL,DNSSAL_FLAG_W,DNSSAL2,DNSSAL2_FLAG_W,SALNTY_DNSSAL,SALNTY_DNSSAL_FLAG_W,SALNTY_DNSSAL2,SALNTY_DNSSAL2_FLAG_W
,,,,,,,,,,,METERS,DBAR,ITS-90,PSS-78,,PSS-78,,UMOL/KG,,UMOL/KG,,UMOL/KG,,UMOL/KG,,UMOL/KG,,UMOL/KG,,PMOL/KG,,PMOL/KG,,FMOL/KG,,UMOL/KG,,UMOL/KG,,,,DEG C,/MILLE,,/MILLE,,/MILLE,PMOL/KG,,UMOL/KG,,NMOL/KG,,MMOL/KG,,,G/KG,,G/KG,,PSS-78,,PSS-78,
33RO20180423,        I7N,      25,          1,        101,      11010,2,20180504,       0259,   -21.0080,    54.5048,       4039,  4103.0,   1.2507,  34.7155,2,  34.7172,2,    167.9,2, 192.0110,2,    126.5,6,     33.0,6,     0.00,6,    2.278,6,   0.045,2,   0.020,2,        0,2,  2277.0,6,  2387.3,2,   7.6006,2,    25.00, -999.00,9, -999.00,9, -999.00,-999.000,1,    46.0,3,     -999.0,1,     -999.0,9,          1,     -999.0,9,     -999.0,9,     -999.0,9,     -999.0,9
33RO20180423,        I7N,      25,          1,        102,      11101,2,20180504,       0259,   -21.0080,    54.5048,       4039,  3672.4,   1.5408,  34.7267,2,  34.7339,2,    154.1,2, 176.0850,2,    128.6,6,     33.8,6,     0.00,6,    2.336,6,   0.013,2,   0.007,2,   0.0074,2,  2289.2,2,  2399.6,6,   7.5920,2,    25.00, -999.00,9, -999.00,9, -999.00,-999.000,1,    46.0,3,     -999.0,1,     -999.0,9,          2,     -999.0,9,     -999.0,9,     -999.0,9,     -999.0,9
33RO20180423,        I7N,      25,          1,        103,      11102,2,20180504,       0259,   -21.0080,    54.5048,       4039,  3225.0,   1.7418,  34.7338,2,  34.7353,2,    146.0,2, 166.6860,2,    128.3,6,     34.2,6,     0.00,6,    2.369,6,   0.003,2,   0.002,2,   0.0095,2,  2296.9,2,  2403.5,2,   7.5874,6,    25.00, -999.00,9, -999.00,9, -999.00,-999.000,1,  -999.0,9,     -999.0,1,     -999.0,9,          3,     -999.0,9,     -999.0,9,     -999.0,9,     -999.0,9
33RO20180423,        I7N,      25,          1,        104,      11103,2,20180504,       0259,   -21.0080,    54.5048,       4039,  2922.1,   1.8521,  34.7362,2,  34.7374,2,    143.5,2, 163.1030,2,    125.9,6,     34.2,6,     0.00,6,    2.382,6,   0.005,2,   0.003,2,   0.0061,2,  2295.4,2,  2403.7,2,   7.5843,2,    25.00, -999.00,9, -999.00,9, -999.00,-999.000,1,    47.3,3,     -999.0,1,     -999.0,9,          4,     -999.0,9,     -999.0,9,     -999.0,9,     -999.0,9
33RO20180423,        I7N,      25,          1,        105,      11104,2,20180504,       0259,   -21.0080,    54.5048,       4039,  2625.3,   1.9741,  34.7358,2,  34.7368,2,    142.9,2, 162.2920,2,    122.2,2,     34.1,2,     0.00,2,    2.375,2,   0.005,6,   0.003,6,        0,6,  2295.2,2,  2400.1,2,   7.5818,2,    25.00, -999.00,9, -999.00,9, -999.00,-999.000,1,    49.0,3,     -999.0,1,     -999.0,9,          5,     -999.0,9,     -999.0,9,     -999.0,9,     -999.0,9
33RO20180423,        I7N,      25,          1,        106,      11105,2,20180504,       0259,   -21.0080,    54.5048,       4039,  2325.0,   2.1561,  34.7318,2,  34.7352,6,    143.7,2, 162.0730,2,    115.1,2,     33.7,2,     0.00,2,    2.362,2,   0.020,2,   0.005,2,        0,2,  2286.0,2,  2389.0,2,   7.5826,2,    25.00, -999.00,9, -999.00,9, -999.00,-999.000,1,  -999.0,9,     -999.0,1,     -999.0,9,          6,     -999.0,9,     -999.0,9,     -999.0,9,     -999.0,9
33RO20180423,        I7N,      25,          1,        107,      11106,2,20180504,       0259,   -21.0080,    54.5048,       4039,  2024.9,   2.3642,  34.7200,2,  34.7226,2,    145.5,2, 163.3000,2,    105.6,2,     33.5,2,     0.00,2,    2.332,2,   0.037,2,   0.012,2,        0,2,  2276.4,2,  2378.8,2,   7.5806,2,    25.00, -999.00,9, -999.00,9, -999.00,-999.000,1,    52.8,3,     -999.0,1,     -999.0,9,          7,     -999.0,9,     -999.0,9,     -999.0,9,     -999.0,9
33RO20180423,        I7N,      25,          1,        108,      11107,2,20180504,       0259,   -21.0080,    54.5048,       4039,  1737.0,   2.6579,  34.6858,2,  34.6884,2,    149.5,2, 166.5355,2,     90.8,2,     33.1,2,     0.00,2,    2.294,2,   0.054,2,   0.027,2,        0,2,  2262.6,2,  2361.9,2,   7.5782,2,    25.00, -999.00,9, -999.00,9, -999.00,-999.000,1,    51.4,3,     -999.0,1,     -999.0,9,          8,     -999.0,9,     -999.0,9,     -999.0,9,     -999.0,9
33RO20180423,        I7N,      25,          1,        109,      11108,2,20180504,       0259,   -21.0080,    54.5048,       4039,  1481.2,   3.1983,  34.6534,2,  34.6567,2,    137.4,2, 152.4750,2,     87.1,2,     34.1,2,     0.00,2,    2.365,2,   0.073,2,   0.038,2,   0.0109,2,  2262.7,6,  2357.8,2,   7.5640,2,    25.00, -999.00,9, -999.00,9, -999.00,-999.000,1,    53.5,3,     -999.0,1,     -999.0,9,          9,     -999.0,9,     -999.0,9,     -999.0,9,     -999.0,9
33RO20180423,        I7N,      25,          1,        110,      11109,2,20180504,       0259,   -21.0080,    54.5048,       4039,  1244.9,   4.1043,  34.6086,2,  34.6093,2,    125.6,2, 138.5260,2,     77.0,2,     34.5,2,     0.00,2,    2.420,2,   0.188,2,   0.097,2,   0.0035,2,  2258.7,2,  2348.1,6,   7.5481,2,    25.00, -999.00,9, -999.00,9, -999.00,-999.000,1,    51.2,3,     -999.0,1,     -999.0,9,         10,     -999.0,9,     -999.0,9,     -999.0,9,     -999.0,9
33RO20180423,        I7N,      25,          1,        111,      11110,2,20180504,       0259,   -21.0080,    54.5048,       4039,  1051.2,   4.9999,  34.5634,2,  34.5638,2,    129.8,2, 142.7700,2,     62.2,2,     33.4,2,     0.00,2,    2.337,2,   0.551,2,   0.281,2,   0.0808,2,  2239.4,2,  2336.5,2,   7.5622,6,    25.00, -999.00,9, -999.00,9, -999.00,-999.000,1,  -999.0,9,     -999.0,1,     -999.0,9,         11,     -999.0,9,     -999.0,9,     -999.0,9,     -999.0,9
33RO20180423,        I7N,      25,          1,        112,      11111,2,20180504,       0259,   -21.0080,    54.5048,       4039,   863.1,   6.9128,  34.5705,2,  34.5772,2,    153.2,2, 167.1790,2,     34.2,2,     27.9,2,     0.00,2,    1.951,2,   1.669,2,   0.856,2,   0.3779,2,  2194.7,2,  2312.0,2,   7.6240,2,    25.00, -999.00,9, -999.00,9, -999.00,-999.000,1,  -999.0,9,     -999.0,1,     -999.0,9,         12,     -999.0,9,     -999.0,9,     -999.0,9,     -999.0,9
33RO20180423,        I7N,      25,          1,        113,      11112,2,20180504,       0259,   -21.0080,    54.5048,       4039,   712.8,   8.9533,  34.6735,2,  34.6766,2,    198.3,2, 215.0830,2,     10.4,2,     19.3,2,     0.00,2,    1.360,2,   3.141,2,   1.694,2,   1.0578,2,  2143.9,2,  2298.0,2,   7.7265,2,    25.00, -999.00,9, -999.00,9, -999.00,-999.000,1,  -999.0,9,     -999.0,1,     -999.0,9,         13,     -999.0,9,     -999.0,9,     -999.0,9,     -999.0,9
33RO20180423,        I7N,      25,          1,        114,      11113,2,20180504,       0259,   -21.0080,    54.5048,       4039,   567.2,  10.6944,  34.8794,2,  34.8823,6,    212.4,2, 228.8970,2,      4.4,2,     13.6,2,     0.00,2,    1.009,2,   3.333,2,   1.889,2,   1.4651,2,  2123.4,2,  2302.8,2,   7.7819,2,    25.00, -999.00,9, -999.00,9, -999.00,-999.000,1,  -999.0,9,     -999.0,1,     -999.0,9,         14,     -999.0,9,     -999.0,9,     -999.0,9,     -999.0,9
33RO20180423,        I7N,      25,          1,        115,      11114,2,20180504,       0259,   -21.0080,    54.5048,       4039,   427.9,  12.7989,  35.1847,2,  35.1937,2,    207.3,2, 222.1270,2,      3.5,2,      9.3,2,     0.00,2,    0.751,2,   2.982,2,   1.741,2,   1.6345,2,  2116.8,2,  2316.5,2,   7.8264,2,    25.00, -999.00,9, -999.00,9, -999.00,-999.000,1,    52.3,3,     -999.0,1,     -999.0,9,         15,     -999.0,9,     -999.0,9,     -999.0,9,     -999.0,9
33RO20180423,        I7N,      25,          1,        116,      11115,2,20180504,       0259,   -21.0080,    54.5048,       4039,   340.9,  14.4978,  35.3734,2,  35.3791,2,    193.5,2, 207.5770,2,      4.0,2,      7.2,2,     0.00,2,    0.622,2,   2.681,6,   1.592,6,   1.5641,6,  2114.6,2,  2326.7,2,   7.8502,2,    25.00, -999.00,9, -999.00,9, -999.00,-999.000,1,    52.6,3,     -999.0,1,     -999.0,9,         16,     -999.0,9,     -999.0,9,     -999.0,9,     -999.0,9
33RO20180423,        I7N,      25,          1,        117,      11116,2,20180504,       0259,   -21.0080,    54.5048,       4039,   290.8,  16.4467,  35.5315,2,  35.5345,2,    182.7,2, 196.0770,2,      4.0,2,      5.3,2,     0.00,2,    0.496,2,   2.411,2,   1.454,2,   1.5137,2,  2105.8,2,  2336.8,2,   7.8800,2,    25.00, -999.00,9, -999.00,9, -999.00,-999.000,1,    52.6,3,     -999.0,1,     -999.0,9,         17,     -999.0,9,     -999.0,9,     -999.0,9,     -999.0,9
33RO20180423,        I7N,      25,          1,        118,      11117,2,20180504,       0259,   -21.0080,    54.5048,       4039,   239.6,  17.6085,  35.5590,2,  35.5637,2,    172.0,2, 183.8880,2,      4.8,2,      5.4,2,     0.00,2,    0.496,2,   2.225,2,   1.359,2,   1.4676,2,  2100.8,2,  2336.4,2,   7.8907,2,    25.00, -999.00,9, -999.00,9, -999.00,-999.000,1,    56.2,3,     -999.0,1,     -999.0,9,         18,     -999.0,9,     -999.0,9,     -999.0,9,     -999.0,9
33RO20180423,        I7N,      25,          1,        119,      11083,2,20180504,       0259,   -21.0080,    54.5048,       4039,   191.7,  19.4891,  35.5169,2,  35.5203,2,    164.9,2, 176.3280,2,      4.9,2,      4.8,2,     0.01,2,    0.435,2,   2.018,2,   1.250,2,   1.4296,2,  2081.9,2,  2334.3,2,   7.9178,2,    25.00, -999.00,9, -999.00,9, -999.00,-999.000,1,  -999.0,9,     -999.0,1,     -999.0,9,         19,     -999.0,9,     -999.0,9,     -999.0,9,     -999.0,9
33RO20180423,        I7N,      25,          1,        120,      11118,2,20180504,       0259,   -21.0080,    54.5048,       4039,   151.5,  21.8246,  35.4347,2,  35.4374,2,    180.1,2, 191.7280,2,      3.0,2,      2.0,2,     0.03,2,    0.250,2,   1.878,2,   1.175,2,   1.5333,2,  2045.7,2,  2323.9,2,   7.9758,2,    25.00, -999.00,9, -999.00,9, -999.00,-999.000,1,    63.4,3,     -999.0,1,     -999.0,9,         20,     -999.0,9,     -999.0,9,     -999.0,9,     -999.0,9
33RO20180423,        I7N,      25,          1,        121,      11119,2,20180504,       0259,   -21.0080,    54.5048,       4039,   111.3,  24.0631,  35.1594,2,  35.1629,2,    184.8,2, 196.0190,2,      2.5,2,      0.0,2,     0.08,2,    0.178,2,   1.711,2,   1.083,2,   1.4607,2,  2008.0,2,  2307.3,6,   8.0178,2,    25.00, -999.00,9, -999.00,9, -999.00,-999.000,1,    68.8,3,     -999.0,1,     -999.0,9,         21,     -999.0,9,     -999.0,9,     -999.0,9,     -999.0,9
33RO20180423,        I7N,      25,          1,        122,      11120,2,20180504,       0259,   -21.0080,    54.5048,       4039,    70.3,  26.4496,  35.0861,2,  35.0934,2,    191.9,2, 203.2400,2,      1.9,2,      0.0,2,     0.00,2,    0.092,2,   1.534,2,   0.982,2,   1.3868,2,  1973.4,2,  2301.7,2,   8.0649,6,    25.00, -999.00,9, -999.00,9, -999.00,-999.000,1,    66.3,3,     -999.0,1,     -999.0,9,         22,     -999.0,9,     -999.0,9,     -999.0,9,     -999.0,9
33RO20180423,        I7N,      25,          1,        123,      11121,2,20180504,       0259,   -21.0080,    54.5048,       4039,    31.0,  26.9994,  34.6338,2,  34.6419,2,    190.8,2, 201.5220,2,      1.8,2,      0.0,2,     0.00,2,    0.095,2,   1.495,2,   0.950,2,   1.3875,2,  1945.8,6,  2268.8,3,   8.0764,2,    25.00, -999.00,9, -999.00,9, -999.00,-999.000,1,    66.2,3,     -999.0,1,     -999.0,9,         23,     -999.0,9,     -999.0,9,     -999.0,9,     -999.0,9
33RO20180423,        I7N,      25,          1,        124,      11122,2,20180504,       0259,   -21.0080,    54.5048,       4039,     2.9,  26.9878,  34.6308,2,  34.6332,2,    191.1,2, 201.4450,2,      1.8,2,      0.0,2,     0.00,2,    0.094,2,   1.489,2,   0.954,2,   1.4053,2,  1944.5,2,  2267.1,3,   8.0774,2,    25.00, -999.00,9, -999.00,9, -999.00,-999.000,1,    69.7,3,     -999.0,1,     -999.0,9,         24,     -999.0,9,     -999.0,9,     -999.0,9,     -999.0,9