BOTTLE,20230801CCHSIOCBG
EXPOCODE,SECT_ID,STNNBR,CASTNO,SAMPNO,BTLNBR,BTLNBR_FLAG_W,DATE,TIME,LATITUDE,LONGITUDE,DEPTH,CTDPRS,CTDTMP,CTDSAL,CTDSAL_FLAG_W,SALNTY,SALNTY_FLAG_W,CTDOXY,CTDOXY_FLAG_W,OXYGEN,OXYGEN_FLAG_W,SILCAT,SILCAT_FLAG_W,NITRAT,NITRAT_FLAG_W,NITRIT,NITRIT_FLAG_W,PHSPHT,PHSPHT_FLAG_W,CFC-11,CFC-11_FLAG_W,CFC-12,CFC-12_FLAG_W,SF6,SF6_FLAG_W,TCARBN,TCARBN_FLAG_W,ALKALI,ALKALI_FLAG_W,PH_SWS,PH_SWS_FLAG_W,PH_TMP,DELC13,DELC13_FLAG_W,DELC14,DELC14_FLAG_W,C14ERR,CCL4,CCL4_FLAG_W,DOC,DOC_FLAG_W,N2O,N2O_FLAG_W,CALCIUM,CALCIUM_FLAG_W,SAMPNO_U,DNSSAL,DNSSAL_FLAG_W,DNSSAL2,DNSSAL2_FLAG_W,SALNTY_DNSSAL,SALNTY_DNSSAL_FLAG_W,SALNTY_DNSSAL2,SALNTY_DNSSAL2_FLAG_W
,,,,,,,,,,,METERS,DBAR,ITS-90,PSS-78,,PSS-78,,UMOL/KG,,UMOL/KG,,UMOL/KG,,UMOL/KG,,UMOL/KG,,UMOL/KG,,PMOL/KG,,PMOL/KG,,FMOL/KG,,UMOL/KG,,UMOL/KG,,,,DEG C,/MILLE,,/MILLE,,/MILLE,PMOL/KG,,UMOL/KG,,NMOL/KG,,MMOL/KG,,,G/KG,,G/KG,,PSS-78,,PSS-78,
33RO20180423,        I7N,      48,          1,        101,      11010,2,20180511,       0905,   -10.0052,    52.3223,       4260,  4304.7,   1.0340,  34.7079,2,  34.7078,2,    177.1,2, 203.2840,2,    125.5,6,     32.6,6,     0.00,6,    2.236,6,   0.078,2,   0.038,2,   0.0104,2,  2267.9,6,  2373.8,2,   7.5999,6,    25.00, -999.00,9, -999.00,9, -999.00,-999.000,1,    40.8,3,     -999.0,1,    10.3071,2,          1,     -999.0,9,     -999.0,9,     -999.0,9,     -999.0,9
33RO20180423,        I7N,      48,          1,        102,      11101,2,20180511,       0905,   -10.0052,    52.3223,       4260,  4057.7,   1.2347,  34.7158,2,  34.7165,2,    167.4,2, 192.2040,2,    126.8,6,     33.1,6,     0.00,6,    2.272,6,-999.000,9,-999.000,9,-999.0000,9,  2276.9,2,  2383.1,6,   7.5964,2,    25.00, -999.00,9, -999.00,9, -999.00,-999.000,9,  -999.0,9,     -999.0,9,    10.2975,2,          2,     -999.0,9,     -999.0,9,     -999.0,9,     -999.0,9
33RO20180423,        I7N,      48,          1,        103,      11102,2,20180511,       0905,   -10.0052,    52.3223,       4260,  3800.1,   1.3742,  34.7215,2,  34.7217,6,    159.9,2, 183.6850,2,    128.5,6,     33.6,6,     0.00,6,    2.316,6,   0.028,2,   0.014,2,   0.0087,2,  2284.6,2,  2390.5,2,   7.5934,2,    25.00, -999.00,9, -999.00,9, -999.00,-999.000,1,  -999.0,9,     -999.0,1,    10.2993,2,          3,     -999.0,9,     -999.0,9,     -999.0,9,     -999.0,9
33RO20180423,        I7N,      48,          1,        104,      11103,2,20180511,       0905,   -10.0052,    52.3223,       4260,  3500.4,   1.6130,  34.7304,2,  34.7310,2,    147.8,2, 169.6310,2,    131.3,6,     34.4,6,     0.00,6,    2.362,6,-999.000,9,-999.000,9,-999.0000,9,  2297.2,2,  2405.1,2,   7.5916,2,    25.00, -999.00,9, -999.00,9, -999.00,-999.000,9,  -999.0,9,     -999.0,9,    10.3045,2,          4,     -999.0,9,     -999.0,9,     -999.0,9,     -999.0,9
33RO20180423,        I7N,      48,          1,        105,      11104,2,20180511,       0905,   -10.0052,    52.3223,       4260,  3200.9,   1.7302,  34.7355,2,  34.7390,2,    143.2,2, 164.1080,2,    130.4,6,     34.5,6,     0.00,6,    2.390,6,   0.003,2,   0.002,2,   0.0075,2,  2300.7,2,  2406.2,2,   7.5854,2,    25.00, -999.00,9, -999.00,9, -999.00,-999.000,1,    39.9,3,     -999.0,1,    10.2812,2,          5,     -999.0,9,     -999.0,9,     -999.0,9,     -999.0,9
33RO20180423,        I7N,      48,          1,        106,      11105,2,20180511,       0905,   -10.0052,    52.3223,       4260,  2901.1,   1.8817,  34.7407,2,  34.7530,2,    139.1,2, 158.9490,2,    129.3,2,     34.5,2,     0.00,2,    2.418,2,-999.000,9,-999.000,9,-999.0000,9,  2301.8,2,  2404.1,2,   7.5796,2,    25.00, -999.00,9, -999.00,9, -999.00,-999.000,9,  -999.0,9,     -999.0,9,    10.3864,2,          6,     -999.0,9,     -999.0,9,     -999.0,9,     -999.0,9
33RO20180423,        I7N,      48,          1,        107,      11106,2,20180511,       0905,   -10.0052,    52.3223,       4260,  2600.7,   2.0461,  34.7436,2,  34.7454,2,    136.2,2, 155.0310,2,    125.1,2,     34.7,2,     0.00,2,    2.409,2,-999.000,9,-999.000,9,-999.0000,9,  2300.2,2,  2401.1,2,   7.5763,2,    25.00, -999.00,9, -999.00,9, -999.00,-999.000,9,  -999.0,9,     -999.0,9,    10.3827,2,          7,     -999.0,9,     -999.0,9,     -999.0,9,     -999.0,9
33RO20180423,        I7N,      48,          1,        108,      11107,2,20180511,       0905,   -10.0052,    52.3223,       4260,  2299.4,   2.2172,  34.7436,2,  34.7435,2,    134.7,2, 152.7150,2,    120.1,2,     34.7,2,     0.00,2,    2.420,2,   0.006,6,   0.003,6,   0.0048,6,  2297.2,2,  2397.0,2,   7.5727,2,    25.00, -999.00,9, -999.00,9, -999.00,-999.000,1,  -999.0,9,     -999.0,1,    10.3324,2,          8,     -999.0,9,     -999.0,9,     -999.0,9,     -999.0,9
33RO20180423,        I7N,      48,          1,        109,      11108,2,20180511,       0905,   -10.0052,    52.3223,       4260,  2000.5,   2.5216,  34.7372,2,  34.7386,2,    133.6,2, 150.2170,2,    111.6,2,     34.5,2,     0.00,2,    2.412,2,-999.000,9,-999.000,9,-999.0000,9,  2289.9,2,  2387.7,2,   7.5699,2,    25.00, -999.00,9, -999.00,9, -999.00,-999.000,9,    40.0,3,     -999.0,9,    10.3273,2,          9,     -999.0,9,     -999.0,9,     -999.0,9,     -999.0,9
33RO20180423,        I7N,      48,          1,        110,      11109,2,20180511,       0905,   -10.0052,    52.3223,       4260,  1716.6,   3.2401,  34.7232,2,  34.7274,2,    124.9,2, 139.7830,2,     99.8,2,     34.8,2,     0.00,2,    2.436,2,   0.037,2,   0.019,2,        0,2,  2283.0,2,  2374.3,2,   7.5572,2,    25.00, -999.00,9, -999.00,9, -999.00,-999.000,1,    41.7,3,     -999.0,1,    10.3311,2,         10,     -999.0,9,     -999.0,9,     -999.0,9,     -999.0,9
33RO20180423,        I7N,      48,          1,        111,      11110,2,20180511,       0905,   -10.0052,    52.3223,       4260,  1467.0,   4.1136,  34.7540,2,  34.7567,2,    103.9,2, 115.6560,2,     95.7,2,     35.5,2,     0.00,2,    2.534,2,-999.000,9,-999.000,9,-999.0000,9,  2287.5,2,  2371.7,2,   7.5317,2,    25.00, -999.00,9, -999.00,9, -999.00,-999.000,9,    39.5,3,     -999.0,9,    10.3364,2,         11,     -999.0,9,     -999.0,9,     -999.0,9,     -999.0,9
33RO20180423,        I7N,      48,          1,        112,      11111,2,20180511,       0905,   -10.0052,    52.3223,       4260,  1233.7,   4.9559,  34.7717,2,  34.7877,2,     90.7,2, 100.8760,2,     88.5,2,     35.6,2,     0.00,2,    2.556,2,   0.083,2,   0.045,2,   0.0092,2,  2285.7,2,  2364.0,6,   7.5202,2,    25.00, -999.00,9, -999.00,9, -999.00,-999.000,1,    47.3,3,     -999.0,1,    10.3127,2,         12,     -999.0,9,     -999.0,9,     -999.0,9,     -999.0,9
33RO20180423,        I7N,      48,          1,        113,      11112,2,20180511,       0905,   -10.0052,    52.3223,       4260,  1033.6,   5.9187,  34.7867,2,  34.7913,2,     83.4,2,  91.8800,2,     77.4,2,     35.3,2,     0.00,2,    2.532,2,   0.201,2,   0.107,2,   0.0171,2,  2274.1,2,  2365.6,4,   7.5176,6,    25.00, -999.00,9, -999.00,9, -999.00,-999.000,1,    46.3,3,     -999.0,1,    10.3280,2,         13,     -999.0,9,     -999.0,9,     -999.0,9,     -999.0,9
33RO20180423,        I7N,      48,          1,        114,      11113,2,20180511,       0905,   -10.0052,    52.3223,       4260,   850.6,   6.8924,  34.7810,2,  34.7835,2,     89.0,2,  97.8890,2,     62.5,2,     33.8,2,     0.00,2,    2.398,2,   0.518,2,   0.271,2,   0.1147,2,  2255.3,6,  2353.3,4,   7.5353,2,    25.00, -999.00,9, -999.00,9, -999.00,-999.000,1,    47.2,3,     -999.0,1,    10.3465,2,         14,     -999.0,9,     -999.0,9,     -999.0,9,     -999.0,9
33RO20180423,        I7N,      48,          1,        115,      11114,2,20180511,       0905,   -10.0052,    52.3223,       4260,   699.7,   7.6694,  34.7430,2,  34.7445,2,    111.3,2, 120.7910,2,     45.3,2,     30.5,2,     0.00,2,    2.146,2,   1.115,2,   0.582,2,   0.2947,2,  2225.0,2,  2337.9,4,   7.5772,2,    25.00, -999.00,9, -999.00,9, -999.00,-999.000,1,    48.1,3,     -999.0,1,    10.3257,2,         15,     -999.0,9,     -999.0,9,     -999.0,9,     -999.0,9
33RO20180423,        I7N,      48,          1,        116,      11115,2,20180511,       0905,   -10.0052,    52.3223,       4260,   550.9,   8.5689,  34.7527,2,  34.7549,2,    128.5,2, 138.8600,2,     32.5,2,     27.3,2,     0.01,2,    1.901,2,   1.707,2,   0.894,2,   0.4638,2,  2202.2,2,  2312.5,2,   7.6178,2,    25.00, -999.00,9, -999.00,9, -999.00,-999.000,1,  -999.0,9,     -999.0,1,    10.3002,2,         16,     -999.0,9,     -999.0,9,     -999.0,9,     -999.0,9
33RO20180423,        I7N,      48,          1,        117,      11116,2,20180511,       0905,   -10.0052,    52.3223,       4260,   417.5,   9.7242,  34.8112,2,  34.8159,2,    147.9,2, 159.5450,2,     20.7,2,     22.9,2,     0.00,2,    1.589,2,   2.322,2,   1.259,2,   0.7977,2,  2172.7,2,  2308.2,2,   7.6689,2,    25.00, -999.00,9, -999.00,9, -999.00,-999.000,1,    47.9,3,     -999.0,1,    10.3030,2,         17,     -999.0,9,     -999.0,9,     -999.0,9,     -999.0,9
33RO20180423,        I7N,      48,          1,        118,      11117,2,20180511,       0905,   -10.0052,    52.3223,       4260,   325.3,  11.1877,  34.9405,2,  34.9404,2,    132.0,2, 141.8300,2,     19.7,2,     21.7,2,     0.01,2,    1.523,2,   2.248,2,   1.237,2,   0.8128,2,  2176.6,2,  2309.8,2,   7.6755,2,    25.00, -999.00,9, -999.00,9, -999.00,-999.000,1,    49.3,3,     -999.0,1,    10.3577,2,         18,     -999.0,9,     -999.0,9,     -999.0,9,     -999.0,9
33RO20180423,        I7N,      48,          1,        119,      11083,2,20180511,       0905,   -10.0052,    52.3223,       4260,   250.1,  12.1091,  35.0040,2,  35.0103,2,    122.6,2, 132.8760,2,     18.8,2,     21.1,2,     0.00,2,    1.468,2,   2.192,2,   1.229,2,   0.8544,2,  2173.8,2,  2309.9,2,   7.6803,2,    25.00, -999.00,9, -999.00,9, -999.00,-999.000,1,    48.5,3,     -999.0,1,    10.3701,2,         19,     -999.0,9,     -999.0,9,     -999.0,9,     -999.0,9
33RO20180423,        I7N,      48,          1,        120,      11118,2,20180511,       0905,   -10.0052,    52.3223,       4260,   183.5,  13.4005,  35.0637,2,  35.0647,2,    110.1,2, 117.8980,2,     18.8,2,     20.7,2,     0.00,2,    1.447,2,   2.074,2,   1.182,2,   0.8777,2,  2174.1,2,  2313.2,2,   7.6875,2,    25.00, -999.00,9, -999.00,9, -999.00,-999.000,1,    48.3,3,     -999.0,1,    10.3916,2,         20,     -999.0,9,     -999.0,9,     -999.0,9,     -999.0,9
33RO20180423,        I7N,      48,          1,        121,      11119,2,20180511,       0905,   -10.0052,    52.3223,       4260,   133.4,  15.9230,  35.1796,2,  35.1811,6,    111.9,2, 119.6320,2,     16.6,2,     16.5,2,     0.01,2,    1.189,2,   1.933,2,   1.143,2,   0.9852,2,  2151.5,2,  2316.4,2,   7.7518,2,    25.00, -999.00,9, -999.00,9, -999.00,-999.000,1,    48.7,3,     -999.0,1,    10.4220,2,         21,     -999.0,9,     -999.0,9,     -999.0,9,     -999.0,9
33RO20180423,        I7N,      48,          1,        122,      11120,2,20180511,       0905,   -10.0052,    52.3223,       4260,    82.9,  20.5671,  35.3560,2,  35.3647,2,    152.9,2, 161.4050,2,      6.5,2,      6.3,2,     0.13,2,    0.541,2,   1.898,2,   1.171,2,   1.3202,2,  2081.0,2,  2319.0,6,   7.9118,2,    25.00, -999.00,9, -999.00,9, -999.00,-999.000,1,    53.7,3,     -999.0,1,    10.4627,2,         22,     -999.0,9,     -999.0,9,     -999.0,9,     -999.0,9
33RO20180423,        I7N,      48,          1,        123,      11121,2,20180511,       0905,   -10.0052,    52.3223,       4260,    35.0,  27.1041,  34.8880,2,  34.9137,2,    189.6,2, 199.6940,2,      2.2,2,      0.1,2,     0.00,2,    0.143,2,   1.558,2,   0.985,2,   1.4385,2,  1976.7,2,  2289.5,2,   8.0549,6,    25.00, -999.00,9, -999.00,9, -999.00,-999.000,1,    78.8,3,     -999.0,1,    10.3215,2,         23,     -999.0,9,     -999.0,9,     -999.0,9,     -999.0,9
33RO20180423,        I7N,      48,          1,        124,      11122,2,20180511,       0905,   -10.0052,    52.3223,       4260,     3.3,  27.8051,  34.6835,2,  34.6854,2,    188.7,2, 198.5860,2,      2.1,2,      0.1,2,     0.00,2,    0.127,2,   1.479,2,   0.946,2,   1.3639,2,  1954.8,6,  2272.7,2,   8.0707,2,    25.00, -999.00,9, -999.00,9, -999.00,-999.000,1,    69.9,3,     -999.0,1,    10.2443,2,         24,     -999.0,9,     -999.0,9,     -999.0,9,     -999.0,9