BOTTLE,20230801CCHSIOCBG
EXPOCODE,SECT_ID,STNNBR,CASTNO,SAMPNO,BTLNBR,BTLNBR_FLAG_W,DATE,TIME,LATITUDE,LONGITUDE,DEPTH,CTDPRS,CTDTMP,CTDSAL,CTDSAL_FLAG_W,SALNTY,SALNTY_FLAG_W,CTDOXY,CTDOXY_FLAG_W,OXYGEN,OXYGEN_FLAG_W,SILCAT,SILCAT_FLAG_W,NITRAT,NITRAT_FLAG_W,NITRIT,NITRIT_FLAG_W,PHSPHT,PHSPHT_FLAG_W,CFC-11,CFC-11_FLAG_W,CFC-12,CFC-12_FLAG_W,SF6,SF6_FLAG_W,TCARBN,TCARBN_FLAG_W,ALKALI,ALKALI_FLAG_W,PH_SWS,PH_SWS_FLAG_W,PH_TMP,DELC13,DELC13_FLAG_W,DELC14,DELC14_FLAG_W,C14ERR,CCL4,CCL4_FLAG_W,DOC,DOC_FLAG_W,N2O,N2O_FLAG_W,CALCIUM,CALCIUM_FLAG_W,SAMPNO_U,DNSSAL,DNSSAL_FLAG_W,DNSSAL2,DNSSAL2_FLAG_W,SALNTY_DNSSAL,SALNTY_DNSSAL_FLAG_W,SALNTY_DNSSAL2,SALNTY_DNSSAL2_FLAG_W
,,,,,,,,,,,METERS,DBAR,ITS-90,PSS-78,,PSS-78,,UMOL/KG,,UMOL/KG,,UMOL/KG,,UMOL/KG,,UMOL/KG,,UMOL/KG,,PMOL/KG,,PMOL/KG,,FMOL/KG,,UMOL/KG,,UMOL/KG,,,,DEG C,/MILLE,,/MILLE,,/MILLE,PMOL/KG,,UMOL/KG,,NMOL/KG,,MMOL/KG,,,G/KG,,G/KG,,PSS-78,,PSS-78,
33RO20180423,        I7N,      65,          1,        101,      11010,2,20180519,       1824,    -3.7122,    55.4608,        526,   535.1,   8.7960,  34.8931,2,  34.8931,2,     81.8,2,  88.8230,2,     43.4,6,     31.3,6,     0.01,6,    2.243,6,   0.956,2,   0.507,2,   0.2848,2,  2240.2,2,  2322.2,6,   7.5572,6,    25.00, -999.00,9, -999.00,9, -999.00,-999.000,1,    52.5,3,     -999.0,1,     -999.0,9,          1,     -999.0,9,     -999.0,9,     -999.0,9,     -999.0,9
33RO20180423,        I7N,      65,          1,        102,      11101,2,20180519,       1824,    -3.7122,    55.4608,        526,   470.5,   9.6875,  34.8819,2,  34.8993,2,    110.5,2, 117.2770,2,     29.4,6,     27.0,6,     0.01,6,    1.906,6,   1.694,2,   0.908,2,   0.5102,2,  2209.1,2,  2311.4,2,   7.6047,2,    25.00, -999.00,9, -999.00,9, -999.00,-999.000,1,    51.6,3,     -999.0,1,     -999.0,9,          2,     -999.0,9,     -999.0,9,     -999.0,9,     -999.0,9
33RO20180423,        I7N,      65,          1,        103,      11102,2,20180519,       1824,    -3.7122,    55.4608,        526,   417.2,  10.1016,  34.8942,2,  34.8962,2,    121.7,2, 129.6480,2,     24.0,6,     24.9,6,     0.01,6,    1.747,6,   2.004,2,   1.081,2,   0.5768,2,  2198.5,2,  2308.6,2,   7.6301,2,    25.00, -999.00,9, -999.00,9, -999.00,-999.000,1,    52.2,3,     -999.0,1,     -999.0,9,          3,     -999.0,9,     -999.0,9,     -999.0,9,     -999.0,9
33RO20180423,        I7N,      65,          1,        104,      11103,2,20180519,       1824,    -3.7122,    55.4608,        526,   367.6,  10.7698,  34.9375,2,  34.9379,2,    123.7,2, 132.2450,2,     20.7,6,     23.3,6,     0.01,6,    1.626,6,   2.147,2,   1.175,2,    0.725,2,  2190.9,2,  2307.6,2,   7.6483,2,    25.00, -999.00,9, -999.00,9, -999.00,-999.000,1,    49.3,3,     -999.0,1,     -999.0,9,          4,     -999.0,9,     -999.0,9,     -999.0,9,     -999.0,9
33RO20180423,        I7N,      65,          1,        105,      11104,2,20180519,       1824,    -3.7122,    55.4608,        526,   317.4,  11.3285,  34.9776,2,  34.9811,2,    125.0,2, 133.3645,2,     18.9,6,     21.9,6,     0.01,6,    1.554,6,   2.232,2,   1.229,2,   0.7781,2,  -999.0,9,  -999.0,9,-999.0000,9,  -999.00, -999.00,9, -999.00,9, -999.00,-999.000,1,    61.1,3,     -999.0,1,     -999.0,9,          5,     -999.0,9,     -999.0,9,     -999.0,9,     -999.0,9
33RO20180423,        I7N,      65,          1,        106,      11105,2,20180519,       1824,    -3.7122,    55.4608,        526,   267.6,  12.6320,  35.0570,2,  35.0532,6,    110.6,2, 117.7680,2,     18.5,2,     21.5,2,     0.00,2,    1.537,2,   2.121,2,   1.188,2,   0.8288,2,  2185.4,2,  2309.6,2,   7.6649,2,    25.00, -999.00,9, -999.00,9, -999.00,-999.000,1,  -999.0,9,     -999.0,1,     -999.0,9,          6,     -999.0,9,     -999.0,9,     -999.0,9,     -999.0,9
33RO20180423,        I7N,      65,          1,        107,      11106,2,20180519,       1824,    -3.7122,    55.4608,        526,   212.3,  13.1190,  35.0932,2,  35.0940,2,    111.2,2, 118.5640,2,     17.6,2,     20.6,2,     0.00,2,    1.481,2,   2.131,2,   1.207,2,   0.8516,2,  -999.0,9,  -999.0,9,-999.0000,9,  -999.00, -999.00,9, -999.00,9, -999.00,-999.000,1,    60.7,3,     -999.0,1,     -999.0,9,          7,     -999.0,9,     -999.0,9,     -999.0,9,     -999.0,9
33RO20180423,        I7N,      65,          1,        108,      11107,2,20180519,       1824,    -3.7122,    55.4608,        526,   177.6,  14.0149,  35.1492,2,  35.1453,2,    111.4,2, 118.9490,2,     16.2,2,     19.4,2,     0.01,2,    1.417,2,   2.129,6,   1.220,6,   0.9241,6,  2177.7,2,  2312.6,2,   7.6952,2,    25.00, -999.00,9, -999.00,9, -999.00,-999.000,1,    54.9,3,     -999.0,1,     -999.0,9,          8,     -999.0,9,     -999.0,9,     -999.0,9,     -999.0,9
33RO20180423,        I7N,      65,          1,        109,      11108,2,20180519,       1824,    -3.7122,    55.4608,        526,   142.7,  15.2382,  35.2158,2,  35.2284,2,    109.4,2, 116.3370,2,     14.8,2,     18.1,2,     0.02,2,    1.335,2,   2.076,2,   1.211,2,   0.9632,2,  -999.0,9,  -999.0,9,-999.0000,9,  -999.00, -999.00,9, -999.00,9, -999.00,-999.000,1,    58.2,3,     -999.0,1,     -999.0,9,          9,     -999.0,9,     -999.0,9,     -999.0,9,     -999.0,9
33RO20180423,        I7N,      65,          1,        110,      11109,2,20180519,       1824,    -3.7122,    55.4608,        526,   108.0,  17.5648,  35.3055,2,  35.3080,2,    107.4,2, 113.5630,2,     13.0,2,     16.0,2,     0.06,2,    1.211,2,   1.931,2,   1.151,2,   1.0298,2,  2152.1,2,  2316.3,2,   7.7628,2,    25.00, -999.00,9, -999.00,9, -999.00,-999.000,1,    57.7,3,     -999.0,1,     -999.0,9,         10,     -999.0,9,     -999.0,9,     -999.0,9,     -999.0,9
33RO20180423,        I7N,      65,          1,        111,      11110,2,20180519,       1824,    -3.7122,    55.4608,        526,    72.5,  20.7298,  35.3356,2,  35.3379,2,    126.2,2, 132.4900,2,      9.8,2,     11.1,2,     0.22,2,    0.921,2,   1.795,2,   1.090,2,   1.1832,2,  2115.0,2,  2316.0,2,   7.8472,2,    25.00, -999.00,9, -999.00,9, -999.00,-999.000,1,    72.6,3,     -999.0,1,     -999.0,9,         11,     -999.0,9,     -999.0,9,     -999.0,9,     -999.0,9
33RO20180423,        I7N,      65,          1,        112,      11111,2,20180519,       1824,    -3.7122,    55.4608,        526,    45.6,  23.5515,  35.3766,2,  35.3706,2,    147.4,2,-999.0000,9,      6.8,2,      6.5,2,     0.43,2,    0.681,2,-999.000,9,-999.000,9,-999.0000,9,  -999.0,9,  -999.0,9,-999.0000,9,  -999.00, -999.00,9, -999.00,9, -999.00,-999.000,9,    81.2,3,     -999.0,9,     -999.0,9,         12,     -999.0,9,     -999.0,9,     -999.0,9,     -999.0,9
33RO20180423,        I7N,      65,          1,        113,      11112,2,20180519,       1824,    -3.7122,    55.4608,        526,    32.8,  26.2165,  35.4334,2,  35.4324,2,    178.7,2, 183.6830,2,      3.7,2,      0.8,2,     0.20,2,    0.353,2,   1.592,2,   1.000,2,    1.334,2,  2039.3,2,  2320.8,2,   7.9985,6,    25.00, -999.00,9, -999.00,9, -999.00,-999.000,1,  -999.0,9,     -999.0,1,     -999.0,9,         13,     -999.0,9,     -999.0,9,     -999.0,9,     -999.0,9
33RO20180423,        I7N,      65,          1,        114,      11113,2,20180519,       1824,    -3.7122,    55.4608,        526,     4.7,  28.7136,  35.4426,2,  35.4442,2,    186.1,2, 194.4790,2,      2.0,2,      0.0,2,     0.00,2,    0.164,2,   1.427,2,   0.913,2,   1.3522,2,  2000.8,6,  2319.1,3,   8.0652,2,    25.00, -999.00,9, -999.00,9, -999.00,-999.000,1,  -999.0,9,     -999.0,1,     -999.0,9,         14,     -999.0,9,     -999.0,9,     -999.0,9,     -999.0,9
33RO20180423,        I7N,      66,          1,        101,      11010,2,20180519,       2330,    -3.4798,    55.7867,       3316,  3362.2,   1.6657,  34.7301,2,  34.7428,2,    149.0,2, 168.7560,2,    129.9,6,     34.4,6,     0.00,6,    2.385,6,   0.004,2,   0.003,2,        0,2,  2299.0,6,  2403.1,2,   7.5924,6,    25.00, -999.00,9, -999.00,9, -999.00,-999.000,1,  -999.0,9,     -999.0,1,     -999.0,9,          1,     -999.0,9,     -999.0,9,     -999.0,9,     -999.0,9
33RO20180423,        I7N,      66,          1,        102,      11101,2,20180519,       2330,    -3.4798,    55.7867,       3316,  3128.7,   1.7227,  34.7319,2,  34.7375,2,    147.3,2, 165.6530,2,    128.4,6,     34.3,6,     0.00,6,    2.387,6,   0.004,2,   0.002,2,    0.003,2,  2298.7,2,  2403.1,6,   7.5901,2,    25.00, -999.00,9, -999.00,9, -999.00,-999.000,1,  -999.0,9,     -999.0,1,     -999.0,9,          2,     -999.0,9,     -999.0,9,     -999.0,9,     -999.0,9
33RO20180423,        I7N,      66,          1,        103,      11102,2,20180519,       2330,    -3.4798,    55.7867,       3316,  2900.8,   1.7669,  34.7336,2,  34.7346,2,    145.9,2, 163.9860,2,    127.4,6,     34.4,6,     0.00,6,    2.407,6,   0.003,2,   0.003,2,        0,2,  2298.3,2,  2400.3,2,   7.5845,2,    25.00, -999.00,9, -999.00,9, -999.00,-999.000,1,  -999.0,9,     -999.0,1,     -999.0,9,          3,     -999.0,9,     -999.0,9,     -999.0,9,     -999.0,9
33RO20180423,        I7N,      66,          1,        104,      11103,2,20180519,       2330,    -3.4798,    55.7867,       3316,  2601.2,   1.9344,  34.7404,2,  34.7409,2,    140.3,2, 157.4330,2,    126.1,6,     34.6,6,     0.00,6,    2.440,6,   0.002,2,   0.001,2,        0,2,  2300.5,2,  2401.3,2,   7.5799,2,    25.00, -999.00,9, -999.00,9, -999.00,-999.000,1,  -999.0,9,     -999.0,1,     -999.0,9,          4,     -999.0,9,     -999.0,9,     -999.0,9,     -999.0,9
33RO20180423,        I7N,      66,          1,        105,      11104,2,20180519,       2330,    -3.4798,    55.7867,       3316,  2296.5,   2.2346,  34.7492,2,  34.7538,2,    132.6,2, 148.2830,2,    122.9,6,     34.7,6,     0.00,6,    2.471,6,   0.003,6,   0.002,6,   0.0072,6,  2301.8,2,  2398.8,2,   7.5695,2,    25.00, -999.00,9, -999.00,9, -999.00,-999.000,1,  -999.0,9,     -999.0,1,     -999.0,9,          5,     -999.0,9,     -999.0,9,     -999.0,9,     -999.0,9
33RO20180423,        I7N,      66,          1,        106,      11105,2,20180519,       2330,    -3.4798,    55.7867,       3316,  1999.5,   2.6403,  34.7583,2,  34.7723,2,    123.9,2, 137.9620,2,    119.0,2,     35.3,2,     0.01,2,    2.510,2,   0.005,2,   0.002,2,   0.0034,2,  2300.0,2,  2395.4,2,   7.5562,2,    25.00, -999.00,9, -999.00,9, -999.00,-999.000,1,  -999.0,9,     -999.0,1,     -999.0,9,          6,     -999.0,9,     -999.0,9,     -999.0,9,     -999.0,9
33RO20180423,        I7N,      66,          1,        107,      11106,2,20180519,       2330,    -3.4798,    55.7867,       3316,  1713.4,   3.4164,  34.7792,2,  34.7776,2,    107.0,2, 118.5420,2,    110.3,2,     36.1,2,     0.01,2,    2.590,2,   0.008,2,   0.005,2,   0.0033,2,  2302.7,2,  2386.7,2,   7.5346,2,    25.00, -999.00,9, -999.00,9, -999.00,-999.000,1,  -999.0,9,     -999.0,1,     -999.0,9,          7,     -999.0,9,     -999.0,9,     -999.0,9,     -999.0,9
33RO20180423,        I7N,      66,          1,        108,      11107,2,20180519,       2330,    -3.4798,    55.7867,       3316,  1462.3,   4.7263,  34.8456,2,  34.8640,2,     80.7,2,  89.1580,2,     98.8,2,     36.9,2,     0.01,2,    2.682,2,   0.023,2,   0.014,2,        0,2,  2306.1,2,  2378.1,2,   7.5052,2,    25.00, -999.00,9, -999.00,9, -999.00,-999.000,1,  -999.0,9,     -999.0,1,     -999.0,9,          8,     -999.0,9,     -999.0,9,     -999.0,9,     -999.0,9
33RO20180423,        I7N,      66,          1,        109,      11108,2,20180519,       2330,    -3.4798,    55.7867,       3316,  1235.0,   5.5298,  34.8971,2,  34.8950,2,     66.7,2,  73.5420,2,     92.2,2,     37.1,2,     0.01,2,    2.724,2,   0.039,2,   0.023,2,   0.0088,2,  2304.0,2,  2371.8,6,   7.4926,2,    25.00, -999.00,9, -999.00,9, -999.00,-999.000,1,  -999.0,9,     -999.0,1,     -999.0,9,          9,     -999.0,9,     -999.0,9,     -999.0,9,     -999.0,9
33RO20180423,        I7N,      66,          1,        110,      11109,2,20180519,       2330,    -3.4798,    55.7867,       3316,  1033.4,   6.4671,  34.9640,2,  34.9637,2,     53.9,2,  59.7040,2,     84.1,2,     36.9,2,     0.00,2,    2.739,2,   0.070,2,   0.041,2,   0.0327,2,  2302.0,2,  2366.8,2,   7.4833,6,    25.00, -999.00,9, -999.00,9, -999.00,-999.000,1,  -999.0,9,     -999.0,1,     -999.0,9,         10,     -999.0,9,     -999.0,9,     -999.0,9,     -999.0,9
33RO20180423,        I7N,      66,          1,        111,      11110,2,20180519,       2330,    -3.4798,    55.7867,       3316,   850.7,   6.7916,  34.8567,2,  34.8651,2,     63.4,2,  69.9650,2,     74.6,2,     36.1,2,     0.01,2,    2.641,2,   0.169,2,   0.091,2,   0.0784,2,  2282.5,2,  2352.4,2,   7.4967,2,    25.00, -999.00,9, -999.00,9, -999.00,-999.000,1,  -999.0,9,     -999.0,1,     -999.0,9,         11,     -999.0,9,     -999.0,9,     -999.0,9,     -999.0,9
33RO20180423,        I7N,      66,          1,        112,      11111,2,20180519,       2330,    -3.4798,    55.7867,       3316,   701.4,   7.7484,  34.8440,2,-999.0000,1,     71.8,2,  78.2130,2,     58.3,2,     34.0,2,     0.01,2,    2.469,2,   0.489,2,   0.258,2,   0.0671,2,  2259.8,2,  2334.9,2,   7.5172,2,    25.00, -999.00,9, -999.00,9, -999.00,-999.000,1,  -999.0,9,     -999.0,1,     -999.0,9,         12,     -999.0,9,     -999.0,9,     -999.0,9,     -999.0,9
33RO20180423,        I7N,      66,          1,        113,      11112,2,20180519,       2330,    -3.4798,    55.7867,       3316,   550.2,   8.9276,  34.8806,2,  34.8813,2,     89.2,2,  96.5340,2,     39.4,2,     30.4,2,     0.01,2,    2.185,2,   1.145,2,   0.602,2,   0.2766,2,  2230.0,6,  2319.9,2,   7.5625,2,    25.00, -999.00,9, -999.00,9, -999.00,-999.000,1,  -999.0,9,     -999.0,1,     -999.0,9,         13,     -999.0,9,     -999.0,9,     -999.0,9,     -999.0,9
33RO20180423,        I7N,      66,          1,        114,      11113,2,20180519,       2330,    -3.4798,    55.7867,       3316,   433.2,  10.1594,  34.8960,2,  34.9139,2,    115.0,2, 122.6030,2,     24.7,2,     25.7,2,     0.01,2,    1.792,2,   1.929,2,   1.036,2,   0.5917,2,  2198.0,2,  2308.8,2,   7.6209,2,    25.00, -999.00,9, -999.00,9, -999.00,-999.000,1,  -999.0,9,     -999.0,1,     -999.0,9,         14,     -999.0,9,     -999.0,9,     -999.0,9,     -999.0,9
33RO20180423,        I7N,      66,          1,        115,      11114,2,20180519,       2330,    -3.4798,    55.7867,       3316,   383.2,  10.5134,  34.9230,2,  34.9267,2,    128.2,2, 136.4230,2,     20.5,2,     23.5,2,     0.01,2,    1.648,2,   2.223,2,   1.201,2,   0.7224,2,  2185.8,2,  2308.6,2,   7.6504,2,    25.00, -999.00,9, -999.00,9, -999.00,-999.000,1,  -999.0,9,     -999.0,1,     -999.0,9,         15,     -999.0,9,     -999.0,9,     -999.0,9,     -999.0,9
33RO20180423,        I7N,      66,          1,        116,      11115,2,20180519,       2330,    -3.4798,    55.7867,       3316,   333.4,  11.0077,  34.9549,2,  34.9719,2,    127.5,2, 136.0820,2,     19.1,2,     22.6,2,     0.01,2,    1.587,2,   2.262,2,   1.233,2,   0.7867,2,  2184.3,2,  2310.4,2,   7.6603,2,    25.00, -999.00,9, -999.00,9, -999.00,-999.000,1,  -999.0,9,     -999.0,1,     -999.0,9,         16,     -999.0,9,     -999.0,9,     -999.0,9,     -999.0,9
33RO20180423,        I7N,      66,          1,        117,      11116,2,20180519,       2330,    -3.4798,    55.7867,       3316,   281.0,  12.2691,  35.0667,2,  35.0643,2,    127.9,2, 136.6690,2,     16.1,2,     20.0,2,     0.01,2,    1.433,2,   2.330,2,   1.305,2,   0.9539,2,  2174.2,2,  2310.6,2,   7.6903,2,    25.00, -999.00,9, -999.00,9, -999.00,-999.000,1,  -999.0,9,     -999.0,1,     -999.0,9,         17,     -999.0,9,     -999.0,9,     -999.0,9,     -999.0,9
33RO20180423,        I7N,      66,          1,        118,      11117,2,20180519,       2330,    -3.4798,    55.7867,       3316,   231.7,  13.0560,  35.1153,2,  35.1237,2,    122.8,2, 131.8330,2,     15.6,2,     19.3,2,     0.01,2,    1.402,2,   2.271,2,   1.292,2,    0.988,2,  2171.0,2,  2312.6,2,   7.6991,2,    25.00, -999.00,9, -999.00,9, -999.00,-999.000,1,  -999.0,9,     -999.0,1,     -999.0,9,         18,     -999.0,9,     -999.0,9,     -999.0,9,     -999.0,9
33RO20180423,        I7N,      66,          1,        119,      11083,2,20180519,       2330,    -3.4798,    55.7867,       3316,   176.9,  14.2041,  35.1814,2,  35.1810,2,    116.1,2, 123.5540,2,     14.8,2,     18.4,2,     0.01,2,    1.350,2,   2.190,6,   1.263,6,   0.9696,6,  2169.0,2,  2316.0,2,   7.7115,2,    25.00, -999.00,9, -999.00,9, -999.00,-999.000,1,  -999.0,9,     -999.0,1,     -999.0,9,         19,     -999.0,9,     -999.0,9,     -999.0,9,     -999.0,9
33RO20180423,        I7N,      66,          1,        120,      11118,2,20180519,       2330,    -3.4798,    55.7867,       3316,   145.6,  15.4801,  35.2174,2,  35.2150,6,     88.0,2,  96.7300,2,     15.4,2,     20.1,2,     0.01,2,    1.456,2,   2.016,2,   1.171,2,   0.9241,2,  2175.4,2,  2313.5,2,   7.6885,2,    25.00, -999.00,9, -999.00,9, -999.00,-999.000,1,  -999.0,9,     -999.0,1,     -999.0,9,         20,     -999.0,9,     -999.0,9,     -999.0,9,     -999.0,9
33RO20180423,        I7N,      66,          1,        121,      11119,2,20180519,       2330,    -3.4798,    55.7867,       3316,   106.6,  16.7595,  35.2639,2,  35.2677,2,     87.7,2,  94.6095,2,     14.3,2,     19.1,2,     0.02,2,    1.394,2,   1.940,2,   1.146,2,   0.9725,2,  2166.4,2,  2315.2,2,   7.7137,2,    25.00, -999.00,9, -999.00,9, -999.00,-999.000,1,  -999.0,9,     -999.0,1,     -999.0,9,         21,     -999.0,9,     -999.0,9,     -999.0,9,     -999.0,9
33RO20180423,        I7N,      66,          1,        122,      11120,2,20180519,       2330,    -3.4798,    55.7867,       3316,    68.0,  18.3588,  35.3215,2,  35.3203,2,    110.9,2, 117.1670,2,     12.2,2,     14.7,2,     0.05,2,    1.123,2,   1.881,2,   1.125,2,   1.1571,2,  2137.8,2,  2319.6,2,   7.7906,2,    25.00, -999.00,9, -999.00,9, -999.00,-999.000,1,  -999.0,9,     -999.0,1,     -999.0,9,         22,     -999.0,9,     -999.0,9,     -999.0,9,     -999.0,9
33RO20180423,        I7N,      66,          1,        123,      11121,2,20180519,       2330,    -3.4798,    55.7867,       3316,    28.8,  27.3425,  35.4525,2,  35.4759,2,    188.4,2, 198.0700,2,      2.3,2,      0.0,4,     0.01,4,    0.217,2,   1.530,2,   0.962,2,   1.3268,2,  2014.1,2,  2324.2,6,   8.0412,2,    25.00, -999.00,9, -999.00,9, -999.00,-999.000,1,  -999.0,9,     -999.0,1,     -999.0,9,         23,     -999.0,9,     -999.0,9,     -999.0,9,     -999.0,9
33RO20180423,        I7N,      66,          1,        124,      11122,2,20180519,       2330,    -3.4798,    55.7867,       3316,     3.3,  28.8325,  35.4326,2,  35.4356,2,    185.1,2, 194.1790,2,      2.0,2,      0.0,2,     0.00,2,    0.166,2,   1.427,2,   0.906,2,   1.3757,2,  1997.4,6,  2320.3,2,   8.0660,6,    25.00, -999.00,9, -999.00,9, -999.00,-999.000,1,  -999.0,9,     -999.0,1,     -999.0,9,         24,     -999.0,9,     -999.0,9,     -999.0,9,     -999.0,9