BOTTLE,20230801CCHSIOCBG
EXPOCODE,SECT_ID,STNNBR,CASTNO,SAMPNO,BTLNBR,BTLNBR_FLAG_W,DATE,TIME,LATITUDE,LONGITUDE,DEPTH,CTDPRS,CTDTMP,CTDSAL,CTDSAL_FLAG_W,SALNTY,SALNTY_FLAG_W,CTDOXY,CTDOXY_FLAG_W,OXYGEN,OXYGEN_FLAG_W,SILCAT,SILCAT_FLAG_W,NITRAT,NITRAT_FLAG_W,NITRIT,NITRIT_FLAG_W,PHSPHT,PHSPHT_FLAG_W,CFC-11,CFC-11_FLAG_W,CFC-12,CFC-12_FLAG_W,SF6,SF6_FLAG_W,TCARBN,TCARBN_FLAG_W,ALKALI,ALKALI_FLAG_W,PH_SWS,PH_SWS_FLAG_W,PH_TMP,DELC13,DELC13_FLAG_W,DELC14,DELC14_FLAG_W,C14ERR,CCL4,CCL4_FLAG_W,DOC,DOC_FLAG_W,N2O,N2O_FLAG_W,CALCIUM,CALCIUM_FLAG_W,SAMPNO_U,DNSSAL,DNSSAL_FLAG_W,DNSSAL2,DNSSAL2_FLAG_W,SALNTY_DNSSAL,SALNTY_DNSSAL_FLAG_W,SALNTY_DNSSAL2,SALNTY_DNSSAL2_FLAG_W
,,,,,,,,,,,METERS,DBAR,ITS-90,PSS-78,,PSS-78,,UMOL/KG,,UMOL/KG,,UMOL/KG,,UMOL/KG,,UMOL/KG,,UMOL/KG,,PMOL/KG,,PMOL/KG,,FMOL/KG,,UMOL/KG,,UMOL/KG,,,,DEG C,/MILLE,,/MILLE,,/MILLE,PMOL/KG,,UMOL/KG,,NMOL/KG,,MMOL/KG,,,G/KG,,G/KG,,PSS-78,,PSS-78,
33RO20180423,        I7N,      21,          1,        101,      11010,2,20180503,       0139,   -22.9933,    54.5032,       3985,  3966.6,   1.3130,  34.7182,2,  34.7268,6,    166.4,2, 189.4710,2,    127.1,6,     32.9,6,     0.00,6,    2.276,6,   0.032,2,   0.016,2,        0,2,  2281.7,6,  2386.6,2,   7.5970,2,    25.00, -999.00,9, -999.00,9, -999.00,-999.000,1,  -999.0,9,     -999.0,1,     -999.0,9,          1,     -999.0,9,     -999.0,9,     -999.0,9,     -999.0,9
33RO20180423,        I7N,      21,          1,        102,      11101,2,20180503,       0139,   -22.9933,    54.5032,       3985,  3610.4,   1.5548,  34.7275,2,  34.7286,2,    155.2,2, 176.6580,2,    127.8,6,     33.5,6,     0.00,6,    2.329,6,   0.017,2,   0.011,2,        0,2,  2290.9,2,  2394.3,6,   7.5916,2,    25.00, -999.00,9, -999.00,9, -999.00,-999.000,9,  -999.0,9,     -999.0,9,     -999.0,9,          2,     -999.0,9,     -999.0,9,     -999.0,9,     -999.0,9
33RO20180423,        I7N,      21,          1,        103,      11102,2,20180503,       0139,   -22.9933,    54.5032,       3985,  3225.0,   1.8319,  34.7367,2,  34.7394,2,    143.5,2, 163.0730,2,    128.5,6,     34.2,6,     0.00,6,    2.383,6,   0.002,2,   0.003,2,        0,2,  -999.0,9,  -999.0,9,   7.5841,6,    25.00, -999.00,9, -999.00,9, -999.00,-999.000,1,  -999.0,9,     -999.0,1,     -999.0,9,          3,     -999.0,9,     -999.0,9,     -999.0,9,     -999.0,9
33RO20180423,        I7N,      21,          1,        104,      11103,2,20180503,       0139,   -22.9933,    54.5032,       3985,  2925.9,   1.9650,  34.7399,2,  34.7432,2,    140.3,2, 159.3120,2,    126.4,6,     34.4,6,     0.00,6,    2.395,6,   0.003,2,   0.003,2,        0,2,  2299.6,2,  2399.0,2,   7.5818,2,    25.00, -999.00,9, -999.00,9, -999.00,-999.000,1,  -999.0,9,     -999.0,1,     -999.0,9,          4,     -999.0,9,     -999.0,9,     -999.0,9,     -999.0,9
33RO20180423,        I7N,      21,          1,        105,      11104,2,20180503,       0139,   -22.9933,    54.5032,       3985,  2626.4,   2.0738,  34.7400,2,  34.7462,2,    140.0,2, 158.6080,2,    121.8,2,     34.2,2,     0.00,2,    2.397,2,   0.005,2,   0.003,2,   0.0055,2,  -999.0,9,  -999.0,9,   7.5795,2,    25.00, -999.00,9, -999.00,9, -999.00,-999.000,1,  -999.0,9,     -999.0,1,     -999.0,9,          5,     -999.0,9,     -999.0,9,     -999.0,9,     -999.0,9
33RO20180423,        I7N,      21,          1,        106,      11105,2,20180503,       0139,   -22.9933,    54.5032,       3985,  2326.0,   2.2513,  34.7359,2,  34.7384,2,    143.5,2,-999.0000,9,    112.6,2,     33.6,2,     0.00,2,    2.361,2,   0.011,2,   0.007,2,        0,2,  2287.1,2,  2386.5,2,   7.5823,2,    25.00, -999.00,9, -999.00,9, -999.00,-999.000,9,  -999.0,9,     -999.0,9,     -999.0,9,          6,     -999.0,9,     -999.0,9,     -999.0,9,     -999.0,9
33RO20180423,        I7N,      21,          1,        107,      11106,2,20180503,       0139,   -22.9933,    54.5032,       3985,  2024.6,   2.4110,  34.7223,2,  34.7294,2,    147.7,2,-999.0000,9,    102.6,2,     33.2,2,     0.00,2,    2.303,2,   0.025,2,   0.014,2,        0,2,  -999.0,9,  -999.0,9,   7.5992,3,    25.00, -999.00,9, -999.00,9, -999.00,-999.000,9,    41.2,3,     -999.0,9,     -999.0,9,          7,     -999.0,9,     -999.0,9,     -999.0,9,     -999.0,9
33RO20180423,        I7N,      21,          1,        108,      11107,2,20180503,       0139,   -22.9933,    54.5032,       3985,  1738.1,   2.6501,  34.6839,2,  34.6852,2,    150.6,2, 167.3750,2,     90.0,2,     33.0,2,     0.00,2,    2.286,2,   0.062,6,   0.032,6,        0,6,  2262.8,2,  2362.6,2,   7.5787,2,    25.00, -999.00,9, -999.00,9, -999.00,-999.000,9,  -999.0,9,     -999.0,9,     -999.0,9,          8,     -999.0,9,     -999.0,9,     -999.0,9,     -999.0,9
33RO20180423,        I7N,      21,          1,        109,      11108,2,20180503,       0139,   -22.9933,    54.5032,       3985,  1489.0,   3.0944,  34.6197,2,  34.6210,2,    145.1,2, 160.0305,2,     81.1,2,     33.8,2,     0.00,2,    2.344,2,   0.131,2,   0.064,2,        0,2,  2257.6,2,  2351.3,2,   7.5652,2,    25.00, -999.00,9, -999.00,9, -999.00,-999.000,9,  -999.0,9,     -999.0,9,     -999.0,9,          9,     -999.0,9,     -999.0,9,     -999.0,9,     -999.0,9
33RO20180423,        I7N,      21,          1,        110,      11109,2,20180503,       0139,   -22.9933,    54.5032,       3985,  1250.3,   3.8891,  34.5321,2,  34.5350,2,    139.9,2, 154.5950,2,     68.9,2,     34.2,2,     0.00,2,    2.377,2,   0.341,2,   0.170,2,    0.027,2,  2247.9,2,  2338.2,6,   7.5566,2,    25.00, -999.00,9, -999.00,9, -999.00,-999.000,9,    44.5,3,     -999.0,9,     -999.0,9,         10,     -999.0,9,     -999.0,9,     -999.0,9,     -999.0,9
33RO20180423,        I7N,      21,          1,        111,      11110,2,20180503,       0139,   -22.9933,    54.5032,       3985,  1051.2,   5.1178,  34.4676,2,  34.4688,2,    155.0,2, 169.7480,2,     45.8,2,     31.6,2,     0.00,2,    2.194,2,   1.107,2,   0.546,2,   0.1701,2,  2214.4,6,  2313.6,2,   7.5904,2,    25.00, -999.00,9, -999.00,9, -999.00,-999.000,9,  -999.0,9,     -999.0,9,     -999.0,9,         11,     -999.0,9,     -999.0,9,     -999.0,9,     -999.0,9
33RO20180423,        I7N,      21,          1,        112,      11111,2,20180503,       0139,   -22.9933,    54.5032,       3985,   864.0,   7.5871,  34.5433,2,  34.5669,2,    186.4,2, 202.6730,2,     16.7,2,     23.8,2,     0.00,2,    1.650,2,   2.684,2,   1.387,2,   0.6946,2,  2164.2,2,  2292.8,2,   7.6804,6,    25.00, -999.00,9, -999.00,9, -999.00,-999.000,9,    52.5,3,     -999.0,9,     -999.0,9,         12,     -999.0,9,     -999.0,9,     -999.0,9,     -999.0,9
33RO20180423,        I7N,      21,          1,        113,      11112,2,20180503,       0139,   -22.9933,    54.5032,       3985,   713.5,   9.9347,  34.7819,2,  34.7857,2,    203.9,2, 220.9700,2,      6.8,2,     16.5,2,     0.00,2,    1.195,2,   3.292,2,   1.817,2,    1.222,2,  2139.8,2,  2297.2,2,   7.7561,2,    25.00, -999.00,9, -999.00,9, -999.00,-999.000,9,    51.6,3,     -999.0,9,     -999.0,9,         13,     -999.0,9,     -999.0,9,     -999.0,9,     -999.0,9
33RO20180423,        I7N,      21,          1,        114,      11113,2,20180503,       0139,   -22.9933,    54.5032,       3985,   562.7,  11.6740,  35.0240,2,  35.0269,2,    208.8,2, 224.6310,2,      4.6,2,     11.9,2,     0.00,2,    0.920,2,   3.148,6,   1.808,6,   1.5364,6,  2127.3,2,  2310.3,2,   7.7999,2,    25.00, -999.00,9, -999.00,9, -999.00,-999.000,9,    57.8,3,     -999.0,9,     -999.0,9,         14,     -999.0,9,     -999.0,9,     -999.0,9,     -999.0,9
33RO20180423,        I7N,      21,          1,        115,      11114,2,20180503,       0139,   -22.9933,    54.5032,       3985,   424.8,  13.3524,  35.2617,2,  35.2690,2,    202.6,2, 216.8850,2,      4.0,2,      8.6,2,     0.00,2,    0.704,2,   2.860,2,   1.685,2,   1.6257,2,  2123.1,2,  2321.2,2,   7.8328,2,    25.00, -999.00,9, -999.00,9, -999.00,-999.000,9,  -999.0,9,     -999.0,9,     -999.0,9,         15,     -999.0,9,     -999.0,9,     -999.0,9,     -999.0,9
33RO20180423,        I7N,      21,          1,        116,      11115,2,20180503,       0139,   -22.9933,    54.5032,       3985,   338.0,  14.8850,  35.4107,2,  35.4135,2,    187.9,2, 201.3250,2,      4.8,2,      7.2,2,     0.00,2,    0.642,2,   2.586,2,   1.540,2,   1.6261,2,  2118.7,2,  2329.6,2,   7.8519,2,    25.00, -999.00,9, -999.00,9, -999.00,-999.000,1,    60.2,3,     -999.0,1,     -999.0,9,         16,     -999.0,9,     -999.0,9,     -999.0,9,     -999.0,9
33RO20180423,        I7N,      21,          1,        117,      11116,2,20180503,       0139,   -22.9933,    54.5032,       3985,   288.6,  16.1676,  35.4678,2,  35.4736,6,    170.5,2, 182.4980,2,      6.7,2,      7.5,2,     0.01,2,    0.636,2,   2.311,2,   1.396,2,    1.496,2,  2119.5,2,  2330.7,2,   7.8567,2,    25.00, -999.00,9, -999.00,9, -999.00,-999.000,9,    66.0,3,     -999.0,9,     -999.0,9,         17,     -999.0,9,     -999.0,9,     -999.0,9,     -999.0,9
33RO20180423,        I7N,      21,          1,        118,      11117,2,20180503,       0139,   -22.9933,    54.5032,       3985,   239.1,  18.6088,  35.5191,2,  35.5151,2,    164.9,2, 174.8860,2,      5.8,2,      5.8,2,     0.01,2,    0.507,2,   2.085,2,   1.277,2,   1.4584,2,  2099.3,2,  2330.8,2,   7.8969,2,    25.00, -999.00,9, -999.00,9, -999.00,-999.000,9,  -999.0,9,     -999.0,9,     -999.0,9,         18,     -999.0,9,     -999.0,9,     -999.0,9,     -999.0,9
33RO20180423,        I7N,      21,          1,        119,      11083,2,20180503,       0139,   -22.9933,    54.5032,       3985,   190.3,  20.7372,  35.4379,2,  35.4364,2,    161.1,2, 171.8450,2,      4.6,2,      4.4,2,     0.02,2,    0.425,2,   1.891,2,   1.192,2,   1.4269,2,  2068.9,2,  2322.4,2,   7.9366,2,    25.00, -999.00,9, -999.00,9, -999.00,-999.000,9,    62.0,3,     -999.0,9,     -999.0,9,         19,     -999.0,9,     -999.0,9,     -999.0,9,     -999.0,9
33RO20180423,        I7N,      21,          1,        120,      11118,2,20180503,       0139,   -22.9933,    54.5032,       3985,   150.2,  22.5982,  35.2438,2,  35.2464,2,    165.7,2, 176.4550,2,      3.9,2,      3.0,2,     0.05,2,    0.345,2,   1.772,2,   1.123,2,   1.5152,2,  2040.3,2,  2313.3,2,   7.9740,2,    25.00, -999.00,9, -999.00,9, -999.00,-999.000,9,    67.1,3,     -999.0,9,     -999.0,9,         20,     -999.0,9,     -999.0,9,     -999.0,9,     -999.0,9
33RO20180423,        I7N,      21,          1,        121,      11119,2,20180503,       0139,   -22.9933,    54.5032,       3985,   100.5,  24.6715,  35.0593,2,  35.0668,2,    193.8,2, 206.9175,2,      2.3,2,      0.0,2,     0.01,2,    0.158,2,   1.680,2,   1.066,2,     1.48,2,  1995.8,2,  2300.6,2,   8.0373,2,    25.00, -999.00,9, -999.00,9, -999.00,-999.000,9,    75.0,3,     -999.0,9,     -999.0,9,         21,     -999.0,9,     -999.0,9,     -999.0,9,     -999.0,9
33RO20180423,        I7N,      21,          1,        122,      11120,2,20180503,       0139,   -22.9933,    54.5032,       3985,    70.5,  26.1508,  35.0668,2,  35.0719,2,    192.6,2, 204.0160,2,      2.0,2,      0.0,2,     0.00,2,    0.113,2,   1.541,2,   0.987,2,   1.4195,2,  1979.4,2,  2300.5,2,   8.0625,6,    25.00, -999.00,9, -999.00,9, -999.00,-999.000,9,    77.9,3,     -999.0,9,     -999.0,9,         22,     -999.0,9,     -999.0,9,     -999.0,9,     -999.0,9
33RO20180423,        I7N,      21,          1,        123,      11121,2,20180503,       0139,   -22.9933,    54.5032,       3985,    31.1,  26.1470,  35.0670,2,  35.0731,2,    193.1,2, 203.6740,2,      2.0,2,      0.0,2,     0.00,2,    0.111,2,   1.544,2,   0.987,2,   1.4788,2,  1979.6,2,  2296.3,6,   8.0628,2,    25.00, -999.00,9, -999.00,9, -999.00,-999.000,9,    74.9,3,     -999.0,9,     -999.0,9,         23,     -999.0,9,     -999.0,9,     -999.0,9,     -999.0,9
33RO20180423,        I7N,      21,          1,        124,      11122,2,20180503,       0139,   -22.9933,    54.5032,       3985,     3.9,  26.1299,  35.0675,2,  35.0754,2,    193.3,2, 203.6790,2,      2.0,2,      0.0,2,     0.00,2,    0.123,2,   1.528,2,   0.984,2,   1.4578,2,  1979.7,2,  2297.3,2,   8.0629,2,    25.00, -999.00,9, -999.00,9, -999.00,-999.000,9,    77.4,3,     -999.0,9,     -999.0,9,         24,     -999.0,9,     -999.0,9,     -999.0,9,     -999.0,9