BOTTLE,20230801CCHSIOCBG
EXPOCODE,SECT_ID,STNNBR,CASTNO,SAMPNO,BTLNBR,BTLNBR_FLAG_W,DATE,TIME,LATITUDE,LONGITUDE,DEPTH,CTDPRS,CTDPRS_FLAG_W,CTDTMP,CTDTMP_FLAG_W,CTDSAL,CTDSAL_FLAG_W,SALNTY,SALNTY_FLAG_W,CTDOXY,CTDOXY_FLAG_W,OXYGEN,OXYGEN_FLAG_W,SILCAT,SILCAT_FLAG_W,NITRAT,NITRAT_FLAG_W,NITRIT,NITRIT_FLAG_W,PHSPHT,PHSPHT_FLAG_W,CFC-11,CFC-11_FLAG_W,CFC-12,CFC-12_FLAG_W,SF6,SF6_FLAG_W,TCARBN,TCARBN_FLAG_W,ALKALI,ALKALI_FLAG_W,PH_TOT,PH_TOT_FLAG_W,PH_TMP,PH_TMP_FLAG_W,DELC13,DELC13_FLAG_W,DELC14,DELC14_FLAG_W,DOC,DOC_FLAG_W,TDN,TDN_FLAG_W,N2O,N2O_FLAG_W,BTL_DATE,BTL_TIME,BTL_LAT,BTL_LON,REFTMP,REFTMP_FLAG_W,POC,POC_FLAG_W,PON,PON_FLAG_W,POP,POP_FLAG_W,PCOD,PCOD_FLAG_W,CTDFLUOR,CTDFLUOR_FLAG_W,CTDXMISS,CTDXMISS_FLAG_W,HPLC,HPLC_FLAG_W,DNA,DNA_FLAG_W,FCM,FCM_FLAG_W
,,,,,,,,,,,METERS,DBAR,,ITS-90,,PSS-78,,PSS-78,,UMOL/KG,,UMOL/KG,,UMOL/KG,,UMOL/KG,,UMOL/KG,,UMOL/KG,,PMOL/KG,,PMOL/KG,,FMOL/KG,,UMOL/KG,,UMOL/KG,,,,DEG C,,/MILLE,,/MILLE,,UMOL/KG,,UMOL/KG,,NMOL/KG,,,,,,ITS-90,,UG/L,,UG/L,,UG/L,,UG/L,,VOLTS,,VOLTS,,,,,,,
33RR20220430,        P02,     104,          2,         36,         36,2,20220604,       1122,    30.0001,  -168.7140,       5416,     4.3,2,  22.4691,2,  34.7221,2,  34.7066,2,    225.6,2,   223.7,2,    2.05,2,    0.02,2,    0.00,2,    0.00,2,   1.768,2,   1.229,2,   2.0860,2,  2017.7,2,  2279.9,2,   7.9831,2,    25.00,2, -999.00,9,  -999.0,9, -999.00,9, -999.00,9,        7.5,2, 20220604,     1333,  30.0001,-168.7140,    22.5380,2,     -999.0,9,     -999.0,9,     -999.0,9,     -999.0,9,     0.0144,1,     4.6070,1,     -999.0,9,     -999.0,9,     -999.0,9
33RR20220430,        P02,     104,          2,         35,         35,2,20220604,       1122,    30.0001,  -168.7140,       5416,    21.6,2,  21.0933,2,  34.7229,2,  34.7064,2,    228.5,2,   228.9,2,    2.05,2,    0.00,2,    0.00,2,    0.00,2,   1.857,2,   1.200,2,   2.0388,2,  2020.4,6,  2278.6,2,   7.9823,2,    25.01,2, -999.00,9,  -999.0,9, -999.00,9, -999.00,9,        7.7,2, 20220604,     1331,  30.0001,-168.7140,    21.0942,2,     -999.0,9,     -999.0,9,     -999.0,9,     -999.0,9,     0.0147,1,     4.6196,1,     -999.0,9,     -999.0,9,     -999.0,9
33RR20220430,        P02,     104,          2,         34,         34,2,20220604,       1122,    30.0001,  -168.7140,       5416,    42.1,2,  19.5106,2,  34.7889,3,  34.7675,2,    241.9,2,   240.1,2,    2.25,2,    0.00,2,    0.00,2,    0.00,2,   2.025,2,   1.284,2,   2.2184,2,  2021.7,2,  2281.8,2,   7.9834,2,    25.00,2, -999.00,9,  -999.0,9, -999.00,9, -999.00,9,        8.2,2, 20220604,     1330,  30.0001,-168.7140,    19.6088,3,     -999.0,9,     -999.0,9,     -999.0,9,     -999.0,9,     0.0147,1,     4.6186,1,     -999.0,9,     -999.0,9,     -999.0,9
33RR20220430,        P02,     104,          2,         33,         33,2,20220604,       1122,    30.0001,  -168.7140,       5416,    66.5,2,  17.6037,2,  34.6725,2,  34.6594,2,    243.4,2,   243.2,2,    2.73,2,    0.00,2,    0.00,2,    0.02,2,   2.132,2,   1.372,2,   2.2288,2,  2026.5,2,  2276.8,2,   7.9634,2,    25.01,2, -999.00,9,  -999.0,9, -999.00,9, -999.00,9,        8.7,2, 20220604,     1328,  30.0001,-168.7140,    17.6001,2,     -999.0,9,     -999.0,9,     -999.0,9,     -999.0,9,     0.0171,1,     4.6377,1,     -999.0,9,     -999.0,9,     -999.0,9
33RR20220430,        P02,     104,          2,         32,         32,2,20220604,       1122,    30.0001,  -168.7140,       5416,    95.3,2,  16.5804,2,  34.6007,2,  34.5814,2,    225.7,2,   226.0,2,    3.61,2,    1.74,2,    0.15,2,    0.17,2,   2.280,2,   1.401,2,   2.2977,2,  2042.6,2,  2273.9,2,   7.9224,2,    25.02,2, -999.00,9,  -999.0,9, -999.00,9, -999.00,9,        9.8,2, 20220604,     1326,  30.0001,-168.7140,    16.5806,2,     -999.0,9,     -999.0,9,     -999.0,9,     -999.0,9,     0.0395,1,     4.6371,1,     -999.0,9,     -999.0,9,     -999.0,9
33RR20220430,        P02,     104,          2,         31,         31,2,20220604,       1122,    30.0001,  -168.7140,       5416,   136.9,2,  15.4825,2,  34.5540,2,  34.5415,2,    214.1,2,   214.0,2,    5.57,2,    5.40,2,    0.02,2,    0.39,2,   2.317,2,   1.435,2,   2.1938,2,  2060.6,2,  2269.6,2,   7.8826,2,    24.99,2, -999.00,9,  -999.0,9, -999.00,9, -999.00,9,       11.6,2, 20220604,     1323,  30.0001,-168.7139,    15.4935,2,     -999.0,9,     -999.0,9,     -999.0,9,     -999.0,9,     0.0183,1,     4.6698,1,     -999.0,9,     -999.0,9,     -999.0,9
33RR20220430,        P02,     104,          2,         30,         30,2,20220604,       1122,    30.0001,  -168.7140,       5416,   186.5,2,  14.2667,2,  34.4740,2,  34.4646,2,    211.5,2,   211.8,2,    8.01,2,    7.80,2,    0.00,2,    0.56,2,   2.455,2,   1.581,2,   2.0489,2,  2076.7,2,  2268.3,2,   7.8485,2,    25.02,2, -999.00,9,  -999.0,9, -999.00,9, -999.00,9,       13.3,2, 20220604,     1322,  30.0001,-168.7140,    14.2697,2,     -999.0,9,     -999.0,9,     -999.0,9,     -999.0,9,     0.0122,1,     4.6843,1,     -999.0,9,     -999.0,9,     -999.0,9
33RR20220430,        P02,     104,          2,         29,         29,2,20220604,       1122,    30.0001,  -168.7140,       5416,   237.8,2,  13.4462,2,  34.4238,2,  34.4153,2,    215.1,2,   214.8,2,   10.06,2,    9.06,2,    0.00,2,    0.63,2,   2.492,2,   1.554,2,   2.1069,2,  2083.4,2,  2267.1,2,   7.8326,2,    25.00,2, -999.00,9,  -999.0,9, -999.00,9, -999.00,9,       14.0,2, 20220604,     1320,  30.0001,-168.7140,    13.4634,2,     -999.0,9,     -999.0,9,     -999.0,9,     -999.0,9,     0.0122,1,     4.6863,1,     -999.0,9,     -999.0,9,     -999.0,9
33RR20220430,        P02,     104,          2,         28,         28,2,20220604,       1122,    30.0001,  -168.7140,       5416,   287.0,2,  12.5165,2,  34.3528,2,  34.3446,2,    216.8,2,   216.8,2,   12.31,2,   10.61,2,    0.00,2,    0.73,2,   2.593,2,   1.603,2,   2.0271,2,  -999.0,9,  -999.0,9,-999.0000,9,  -999.00,9, -999.00,9,  -999.0,9, -999.00,9, -999.00,9,       14.6,2, 20220604,     1318,  30.0001,-168.7140,    12.5117,2,     -999.0,9,     -999.0,9,     -999.0,9,     -999.0,9,     0.0122,1,     4.6885,1,     -999.0,9,     -999.0,9,     -999.0,9
33RR20220430,        P02,     104,          2,         27,         27,2,20220604,       1122,    30.0001,  -168.7140,       5416,   337.8,2,  11.3834,2,  34.2665,2,  34.2595,2,    215.1,2,   215.4,2,   16.02,2,   12.90,2,    0.00,2,    0.91,2,   2.701,2,   1.672,2,   2.1886,2,  2107.0,2,  2265.1,2,   7.7773,2,    25.01,2, -999.00,9,  -999.0,9, -999.00,9, -999.00,9,       15.4,2, 20220604,     1316,  30.0001,-168.7140,    11.3883,2,     -999.0,9,     -999.0,9,     -999.0,9,     -999.0,9,     0.0122,1,     4.6897,1,     -999.0,9,     -999.0,9,     -999.0,9
33RR20220430,        P02,     104,          2,         26,         26,2,20220604,       1122,    30.0001,  -168.7140,       5416,   388.1,2,  10.4207,2,  34.1862,2,  34.1795,2,    209.3,2,   209.8,2,   19.63,2,   15.17,2,    0.00,2,    1.07,2,   2.779,2,   1.688,2,   2.0369,2,  -999.0,9,  -999.0,9,-999.0000,9,  -999.00,9, -999.00,9,  -999.0,9, -999.00,9, -999.00,9,       16.8,2, 20220604,     1314,  30.0001,-168.7140,    10.4193,2,     -999.0,9,     -999.0,9,     -999.0,9,     -999.0,9,     0.0122,1,     4.6910,1,     -999.0,9,     -999.0,9,     -999.0,9
33RR20220430,        P02,     104,          2,         25,         25,2,20220604,       1122,    30.0001,  -168.7140,       5416,   469.0,2,   8.6846,2,  34.0650,2,  34.0584,2,    185.2,2,   185.2,2,   30.77,2,   20.60,2,    0.00,2,    1.47,2,   2.739,2,   1.678,2,   1.6734,2,  2156.3,2,  2267.4,2,   7.6590,2,    25.00,2, -999.00,9,  -999.0,9, -999.00,9, -999.00,9,       20.6,2, 20220604,     1312,  30.0001,-168.7139,     8.6865,2,     -999.0,9,     -999.0,9,     -999.0,9,     -999.0,9,     0.0122,1,     4.6943,1,     -999.0,9,     -999.0,9,     -999.0,9
33RR20220430,        P02,     104,          2,         24,         24,2,20220604,       1122,    30.0001,  -168.7140,       5416,   570.8,2,   6.6622,2,  33.9993,2,  33.9937,2,    137.1,2,   137.0,2,   52.66,2,   28.96,2,    0.00,2,    2.08,2,   2.294,2,   1.395,2,   1.1187,2,  2216.1,2,  2290.5,2,   7.5257,2,    24.99,2, -999.00,9,  -999.0,9, -999.00,9, -999.00,9,       27.5,2, 20220604,     1309,  30.0001,-168.7140,     6.6607,2,     -999.0,9,     -999.0,9,     -999.0,9,     -999.0,9,     0.0122,1,     4.6959,1,     -999.0,9,     -999.0,9,     -999.0,9
33RR20220430,        P02,     104,          2,         23,         23,2,20220604,       1122,    30.0001,  -168.7140,       5416,   671.6,2,   5.2598,2,  34.0505,2,  34.0501,2,     74.4,2,    74.6,2,   77.08,2,   37.10,2,    0.00,2,    2.68,2,   1.332,2,   0.851,2,   0.3073,2,  2282.2,2,  2302.2,2,   7.3888,2,    25.01,2, -999.00,9,  -999.0,9, -999.00,9, -999.00,9,       35.7,2, 20220604,     1306,  30.0001,-168.7140,     5.2616,2,     -999.0,9,     -999.0,9,     -999.0,9,     -999.0,9,     0.0132,1,     4.6991,1,     -999.0,9,     -999.0,9,     -999.0,9
33RR20220430,        P02,     104,          2,         22,         22,2,20220604,       1122,    30.0001,  -168.7140,       5416,   772.4,2,   4.4598,2,  34.1530,2,  34.1509,2,     38.6,3,    40.9,2,   98.18,2,   41.44,2,    0.00,2,    2.98,2,   0.557,2,   0.360,2,   0.0771,2,  -999.0,9,  -999.0,9,-999.0000,9,  -999.00,9, -999.00,9,  -999.0,9, -999.00,9, -999.00,9,       41.3,2, 20220604,     1304,  30.0001,-168.7140,     4.4628,2,     -999.0,9,     -999.0,9,     -999.0,9,     -999.0,9,     0.0134,1,     4.6997,1,     -999.0,9,     -999.0,9,     -999.0,9
33RR20220430,        P02,     104,          2,         21,         21,2,20220604,       1122,    30.0001,  -168.7140,       5416,   873.2,2,   4.0411,2,  34.2272,2,  34.2258,2,     24.2,3,    24.8,2,  110.87,2,   42.90,2,    0.00,2,    3.09,2,   0.256,2,   0.145,2,   0.0000,2,  2344.8,2,  2339.2,2,   7.3081,2,    25.00,2, -999.00,9,  -999.0,9, -999.00,9, -999.00,9,       43.7,2, 20220604,     1301,  30.0001,-168.7140,     4.0391,2,     -999.0,9,     -999.0,9,     -999.0,9,     -999.0,9,     0.0134,1,     4.6994,1,     -999.0,9,     -999.0,9,     -999.0,9
33RR20220430,        P02,     104,          2,         20,         20,2,20220604,       1122,    30.0001,  -168.7140,       5416,   973.6,2,   3.7154,2,  34.3136,2,  34.3103,2,     20.1,3,    20.4,2,  121.22,2,   43.55,2,    0.00,2,    3.15,2,   0.099,2,   0.057,2,   0.0000,2,  -999.0,9,  -999.0,9,-999.0000,9,  -999.00,9, -999.00,9,  -999.0,9, -999.00,9, -999.00,9,       44.5,2, 20220604,     1258,  30.0001,-168.7140,     3.7149,2,     -999.0,9,     -999.0,9,     -999.0,9,     -999.0,9,     0.0134,1,     4.6996,1,     -999.0,9,     -999.0,9,     -999.0,9
33RR20220430,        P02,     104,          2,         19,         19,2,20220604,       1122,    30.0001,  -168.7140,       5416,  1079.6,2,   3.5035,2,  34.3859,2,  34.3855,2,     22.9,3,    22.6,2,  127.66,2,   43.57,2,    0.00,2,    3.16,2,   0.035,2,   0.000,2,   0.0000,2,  2368.9,2,  2366.6,2,   7.3251,2,    25.02,2, -999.00,9,  -999.0,9, -999.00,9, -999.00,9,       44.6,2, 20220604,     1255,  30.0001,-168.7140,     3.5029,2,     -999.0,9,     -999.0,9,     -999.0,9,     -999.0,9,     0.0134,1,     4.7003,1,     -999.0,9,     -999.0,9,     -999.0,9
33RR20220430,        P02,     104,          2,         18,         18,2,20220604,       1122,    30.0001,  -168.7140,       5416,  1181.4,2,   3.2415,2,  34.4335,2,  34.4343,2,     22.4,3,    21.9,2,  135.86,2,   43.85,2,    0.00,2,    3.17,2,   0.014,2,   0.011,2,   0.0000,2,  2376.8,2,  2376.6,2,   7.3276,2,    25.00,2, -999.00,9,  -999.0,9, -999.00,9, -999.00,9,       44.5,2, 20220604,     1253,  30.0001,-168.7140,     3.2407,2,     -999.0,9,     -999.0,9,     -999.0,9,     -999.0,9,     0.0134,1,     4.6995,1,     -999.0,9,     -999.0,9,     -999.0,9
33RR20220430,        P02,     104,          2,         17,         17,2,20220604,       1122,    30.0001,  -168.7140,       5416,  1282.7,2,   3.0503,2,  34.4746,2,  34.4722,2,     29.0,2,    29.2,2,  140.54,2,   43.60,2,    0.00,2,    3.15,2,   0.008,2,   0.008,2,   0.0000,2,  2379.6,2,  2385.4,2,   7.3406,2,    25.00,2, -999.00,9,  -999.0,9, -999.00,9, -999.00,9,       42.2,2, 20220604,     1250,  30.0001,-168.7140,     3.0505,2,     -999.0,9,     -999.0,9,     -999.0,9,     -999.0,9,     0.0134,1,     4.6995,1,     -999.0,9,     -999.0,9,     -999.0,9
33RR20220430,        P02,     104,          2,         16,         16,2,20220604,       1122,    30.0001,  -168.7140,       5416,  1384.4,2,   2.8574,2,  34.5080,2,  34.5070,2,     40.4,2,    40.2,2,  143.96,2,   42.99,2,    0.00,2,    3.10,2,   0.008,2,   0.000,2,   0.0000,2,  -999.0,9,  -999.0,9,-999.0000,9,  -999.00,9, -999.00,9,  -999.0,9, -999.00,9, -999.00,9,       39.1,2, 20220604,     1247,  30.0001,-168.7140,     2.8572,2,     -999.0,9,     -999.0,9,     -999.0,9,     -999.0,9,     0.0134,1,     4.7013,1,     -999.0,9,     -999.0,9,     -999.0,9
33RR20220430,        P02,     104,          2,         15,         15,2,20220604,       1122,    30.0001,  -168.7140,       5416,  1556.3,2,   2.5788,2,  34.5472,2,  34.5472,2,     56.7,2,    56.8,2,  149.03,2,   42.37,2,    0.00,2,    3.02,2,   0.005,2,   0.000,2,   0.0000,2,  2371.1,2,  2400.6,2,   7.4014,2,    25.00,2, -999.00,9,  -999.0,9, -999.00,9, -999.00,9,       35.2,2, 20220604,     1243,  30.0001,-168.7140,     2.5787,2,     -999.0,9,     -999.0,9,     -999.0,9,     -999.0,9,     0.0134,1,     4.7019,1,     -999.0,9,     -999.0,9,     -999.0,9
33RR20220430,        P02,     104,          2,         14,         14,2,20220604,       1122,    30.0001,  -168.7140,       5416,  1758.0,2,   2.2696,2,  34.5790,2,  34.5777,2,     68.0,2,    68.1,2,  155.96,2,   41.63,2,    0.00,2,    2.96,2,   0.007,2,   0.000,2,   0.0000,2,  2370.0,2,  2405.5,2,   7.4233,2,    25.03,2, -999.00,9,  -999.0,9, -999.00,9, -999.00,9,       32.8,2, 20220604,     1239,  30.0001,-168.7140,     2.2691,2,     -999.0,9,     -999.0,9,     -999.0,9,     -999.0,9,     0.0134,1,     4.7029,1,     -999.0,9,     -999.0,9,     -999.0,9
33RR20220430,        P02,     104,          2,         13,         13,2,20220604,       1122,    30.0001,  -168.7140,       5416,  1961.1,2,   2.0499,2,  34.6017,2,  34.6001,2,     77.6,2,    77.1,2,  160.84,2,   40.98,2,    0.00,2,    2.92,2,   0.003,2,   0.000,2,   0.0000,2,  2371.8,2,  2412.3,2,   7.4401,2,    25.01,2, -999.00,9,  -999.0,9, -999.00,9, -999.00,9,       30.7,2, 20220604,     1234,  30.0001,-168.7140,     2.0509,2,     -999.0,9,     -999.0,9,     -999.0,9,     -999.0,9,     0.0127,1,     4.7032,1,     -999.0,9,     -999.0,9,     -999.0,9
33RR20220430,        P02,     104,          2,         12,         12,2,20220604,       1122,    30.0001,  -168.7140,       5416,  2195.7,2,   1.8469,2,  34.6227,3,  34.6197,2,     88.2,2,    88.8,2,  165.33,2,   40.20,2,    0.00,2,    2.86,2,   0.004,2,   0.000,2,   0.0000,2,  -999.0,9,  -999.0,9,-999.0000,9,  -999.00,9, -999.00,9,  -999.0,9, -999.00,9, -999.00,9,       28.6,2, 20220604,     1229,  30.0001,-168.7140,     1.8467,2,     -999.0,9,     -999.0,9,     -999.0,9,     -999.0,9,     0.0131,1,     4.7032,1,     -999.0,9,     -999.0,9,     -999.0,9
33RR20220430,        P02,     104,          2,         11,         11,2,20220604,       1122,    30.0001,  -168.7140,       5416,  2448.8,2,   1.7089,2,  34.6395,2,  34.6403,2,    101.6,2,   101.3,2,  165.72,2,   39.32,2,    0.00,2,    2.79,2,   0.005,2,   0.000,2,   0.0000,2,  2360.6,2,  2419.7,2,   7.4869,2,    25.00,2, -999.00,9,  -999.0,9, -999.00,9, -999.00,9,       26.6,2, 20220604,     1223,  30.0001,-168.7140,     1.7084,2,     -999.0,9,     -999.0,9,     -999.0,9,     -999.0,9,     0.0122,1,     4.7036,1,     -999.0,9,     -999.0,9,     -999.0,9
33RR20220430,        P02,     104,          2,         10,         10,2,20220604,       1122,    30.0001,  -168.7140,       5416,  2704.1,2,   1.6142,2,  34.6515,2,  34.6517,2,    112.9,2,   113.0,2,  164.35,2,   38.61,2,    0.00,2,    2.73,2,-999.000,9,-999.000,9,-999.0000,9,  -999.0,9,  -999.0,9,-999.0000,9,  -999.00,9, -999.00,9,  -999.0,9, -999.00,9, -999.00,9,     -999.0,9, 20220604,     1218,  30.0001,-168.7140,     1.6142,2,     -999.0,9,     -999.0,9,     -999.0,9,     -999.0,9,     0.0122,1,     4.7038,1,     -999.0,9,     -999.0,9,     -999.0,9
33RR20220430,        P02,     104,          2,          9,          9,2,20220604,       1122,    30.0001,  -168.7140,       5416,  2959.6,2,   1.5512,2,  34.6610,3,  34.6555,2,    122.0,2,   121.8,2,  163.47,2,   38.02,2,    0.00,2,    2.68,2,   0.003,2,   0.000,2,   0.0000,2,  2349.6,2,  2420.3,2,   7.5229,2,    25.01,2, -999.00,9,  -999.0,9, -999.00,9, -999.00,9,       24.2,2, 20220604,     1213,  30.0001,-168.7140,     1.5515,2,     -999.0,9,     -999.0,9,     -999.0,9,     -999.0,9,     0.0123,1,     4.7043,1,     -999.0,9,     -999.0,9,     -999.0,9
33RR20220430,        P02,     104,          2,          8,          8,2,20220604,       1122,    30.0001,  -168.7140,       5416,  3248.9,2,   1.5044,2,  34.6687,2,  34.6686,2,    131.1,2,   131.4,2,  161.12,2,   37.36,2,    0.00,2,    2.63,2,-999.000,9,-999.000,9,-999.0000,9,  -999.0,9,  -999.0,9,-999.0000,9,  -999.00,9, -999.00,9,  -999.0,9, -999.00,9, -999.00,9,     -999.0,9, 20220604,     1206,  30.0001,-168.7140,     1.5041,2,     -999.0,9,     -999.0,9,     -999.0,9,     -999.0,9,     0.0127,1,     4.7047,1,     -999.0,9,     -999.0,9,     -999.0,9
33RR20220430,        P02,     104,          2,          7,          7,2,20220604,       1122,    30.0001,  -168.7140,       5416,  3556.7,2,   1.4717,2,  34.6756,3,  34.6728,2,    139.6,2,   139.6,2,  158.68,2,   36.80,2,    0.00,2,    2.58,2,   0.004,2,   0.000,2,   0.0000,2,  2336.1,2,  2419.8,2,   7.5554,2,    24.99,2, -999.00,9,  -999.0,9, -999.00,9, -999.00,9,       22.5,2, 20220604,     1200,  30.0001,-168.7140,     1.4718,2,     -999.0,9,     -999.0,9,     -999.0,9,     -999.0,9,     0.0122,1,     4.7049,1,     -999.0,9,     -999.0,9,     -999.0,9
33RR20220430,        P02,     104,          2,          6,          6,2,20220604,       1122,    30.0001,  -168.7140,       5416,  3863.9,2,   1.4602,2,  34.6803,3,  34.6767,2,    145.6,2,   145.8,2,  156.83,2,   36.43,2,    0.00,2,    2.54,2,-999.000,9,-999.000,9,-999.0000,9,  -999.0,9,  -999.0,9,-999.0000,9,  -999.00,9, -999.00,9,  -999.0,9, -999.00,9, -999.00,9,     -999.0,9, 20220604,     1154,  30.0000,-168.7140,     1.4600,2,     -999.0,9,     -999.0,9,     -999.0,9,     -999.0,9,     0.0122,1,     4.7054,1,     -999.0,9,     -999.0,9,     -999.0,9
33RR20220430,        P02,     104,          2,          5,          5,2,20220604,       1122,    30.0001,  -168.7140,       5416,  4171.6,2,   1.4672,2,  34.6832,2,  34.6812,2,    149.4,2,   149.4,2,  156.34,2,   36.17,2,    0.00,2,    2.53,2,   0.005,2,   0.000,2,   0.0000,2,  2329.3,2,  2420.6,2,   7.5730,2,    25.00,2, -999.00,9,  -999.0,9, -999.00,9, -999.00,9,       21.8,2, 20220604,     1148,  30.0001,-168.7140,     1.4671,2,     -999.0,9,     -999.0,9,     -999.0,9,     -999.0,9,     0.0122,1,     4.7047,1,     -999.0,9,     -999.0,9,     -999.0,9
33RR20220430,        P02,     104,          2,          4,          4,2,20220604,       1122,    30.0001,  -168.7140,       5416,  4479.7,2,   1.4866,2,  34.6848,2,  34.6840,2,    151.4,2,   152.0,2,  156.63,2,   36.03,2,    0.00,2,    2.52,2,-999.000,9,-999.000,9,-999.0000,9,  -999.0,9,  -999.0,9,-999.0000,9,  -999.00,9, -999.00,9,  -999.0,9, -999.00,9, -999.00,9,     -999.0,9, 20220604,     1142,  30.0001,-168.7140,     1.4864,2,     -999.0,9,     -999.0,9,     -999.0,9,     -999.0,9,     0.0131,1,     4.7055,1,     -999.0,9,     -999.0,9,     -999.0,9