BOTTLE,20230801CCHSIOCBG
EXPOCODE,SECT_ID,STNNBR,CASTNO,SAMPNO,BTLNBR,BTLNBR_FLAG_W,DATE,TIME,LATITUDE,LONGITUDE,DEPTH,CTDPRS,CTDPRS_FLAG_W,CTDTMP,CTDTMP_FLAG_W,CTDSAL,CTDSAL_FLAG_W,SALNTY,SALNTY_FLAG_W,CTDOXY,CTDOXY_FLAG_W,OXYGEN,OXYGEN_FLAG_W,SILCAT,SILCAT_FLAG_W,NITRAT,NITRAT_FLAG_W,NITRIT,NITRIT_FLAG_W,PHSPHT,PHSPHT_FLAG_W,CFC-11,CFC-11_FLAG_W,CFC-12,CFC-12_FLAG_W,SF6,SF6_FLAG_W,TCARBN,TCARBN_FLAG_W,ALKALI,ALKALI_FLAG_W,PH_TOT,PH_TOT_FLAG_W,PH_TMP,PH_TMP_FLAG_W,DELC13,DELC13_FLAG_W,DELC14,DELC14_FLAG_W,DOC,DOC_FLAG_W,TDN,TDN_FLAG_W,N2O,N2O_FLAG_W,BTL_DATE,BTL_TIME,BTL_LAT,BTL_LON,REFTMP,REFTMP_FLAG_W,POC,POC_FLAG_W,PON,PON_FLAG_W,POP,POP_FLAG_W,PCOD,PCOD_FLAG_W,CTDFLUOR,CTDFLUOR_FLAG_W,CTDXMISS,CTDXMISS_FLAG_W,HPLC,HPLC_FLAG_W,DNA,DNA_FLAG_W,FCM,FCM_FLAG_W
,,,,,,,,,,,METERS,DBAR,,ITS-90,,PSS-78,,PSS-78,,UMOL/KG,,UMOL/KG,,UMOL/KG,,UMOL/KG,,UMOL/KG,,UMOL/KG,,PMOL/KG,,PMOL/KG,,FMOL/KG,,UMOL/KG,,UMOL/KG,,,,DEG C,,/MILLE,,/MILLE,,UMOL/KG,,UMOL/KG,,NMOL/KG,,,,,,ITS-90,,UG/L,,UG/L,,UG/L,,UG/L,,VOLTS,,VOLTS,,,,,,,
33RR20220430,        P02,      89,          2,         36,         36,2,20220531,       0122,    30.0002,  -177.3673,       5354,     4.4,2,  22.6288,2,  35.2679,2,  35.2586,2,    219.5,2,   218.3,2,    0.98,2,    0.04,2,    0.00,2,    0.00,2,   1.634,2,   1.093,2,   1.9183,2,  2023.1,2,  2316.7,2,   8.0258,2,    25.00,2, -999.00,1,  -999.0,1, -999.00,1, -999.00,1,        7.2,2, 20220531,      334,  30.0002,-177.3673,    22.6532,2,     -999.0,9,     -999.0,9,     -999.0,9,     -999.0,9,     0.0134,1,     4.6311,1,     -999.0,9,     -999.0,9,     -999.0,9
33RR20220430,        P02,      89,          2,         35,         35,2,20220531,       0122,    30.0002,  -177.3673,       5354,    20.6,2,  22.2486,2,  35.2358,3,  35.2099,2,    221.9,2,   222.3,2,    1.07,2,    0.02,2,    0.01,2,    0.00,2,   1.711,2,   1.128,2,   1.9821,2,  2022.6,2,  2311.3,2,   8.0176,2,    25.02,2, -999.00,1,  -999.0,1, -999.00,1, -999.00,1,        7.4,2, 20220531,      332,  30.0002,-177.3673,    22.2672,2,     -999.0,9,     -999.0,9,     -999.0,9,     -999.0,9,     0.0134,1,     4.6278,1,     -999.0,9,     -999.0,9,     -999.0,9
33RR20220430,        P02,      89,          2,         34,         34,2,20220531,       0122,    30.0002,  -177.3673,       5354,    41.9,2,  19.9954,2,  35.0118,2,  35.0144,2,    236.1,2,   235.6,2,    1.66,2,    0.01,2,    0.01,2,    0.00,2,   1.908,2,   1.288,2,   2.1118,2,  2024.8,2,  2301.6,2,   7.9988,2,    25.00,2, -999.00,1,  -999.0,1, -999.00,1, -999.00,1,        8.0,2, 20220531,      331,  30.0002,-177.3673,    19.9982,2,     -999.0,9,     -999.0,9,     -999.0,9,     -999.0,9,     0.0159,1,     4.6207,1,     -999.0,9,     -999.0,9,     -999.0,9
33RR20220430,        P02,      89,          2,         33,         33,2,20220531,       0122,    30.0002,  -177.3673,       5354,    66.8,2,  18.9015,2,  34.9342,2,  34.9303,2,    234.7,2,   236.1,2,    1.86,2,    0.01,2,    0.01,2,    0.00,2,   1.970,2,   1.339,2,   2.1914,2,  2026.5,2,  2292.4,2,   7.9873,2,    25.00,2, -999.00,1,  -999.0,1, -999.00,1, -999.00,1,        8.2,2, 20220531,      329,  30.0002,-177.3673,    18.8827,2,     -999.0,9,     -999.0,9,     -999.0,9,     -999.0,9,     0.0220,1,     4.6254,1,     -999.0,9,     -999.0,9,     -999.0,9
33RR20220430,        P02,      89,          2,         32,         32,2,20220531,       0122,    30.0002,  -177.3673,       5354,    92.9,2,  18.0701,2,  34.8191,2,  34.8088,2,    208.7,2,   208.3,2,    2.93,2,    2.18,2,    0.10,2,    0.18,2,   2.028,2,   1.376,2,   2.1338,2,  2049.3,2,  2287.4,2,   7.9326,2,    24.99,2, -999.00,1,  -999.0,1, -999.00,1, -999.00,1,       10.1,2, 20220531,      327,  30.0002,-177.3673,    18.0861,2,     -999.0,9,     -999.0,9,     -999.0,9,     -999.0,9,     0.0420,1,     4.6346,1,     -999.0,9,     -999.0,9,     -999.0,9
33RR20220430,        P02,      89,          2,         31,         31,2,20220531,       0122,    30.0002,  -177.3673,       5354,   137.2,2,  17.1660,2,  34.7387,2,  34.7288,2,    221.4,2,   221.8,2,    3.13,2,    2.25,2,    0.04,2,    0.15,2,-999.000,5,-999.000,5,-999.0000,5,  2040.2,2,  2280.1,2,   7.9379,2,    24.98,2, -999.00,1,  -999.0,1, -999.00,1, -999.00,1,     -999.0,5, 20220531,      325,  30.0002,-177.3673,    17.1631,2,     -999.0,9,     -999.0,9,     -999.0,9,     -999.0,9,     0.0232,1,     4.6711,1,     -999.0,9,     -999.0,9,     -999.0,9
33RR20220430,        P02,      89,          2,         30,         30,2,20220531,       0122,    30.0002,  -177.3673,       5354,   187.8,2,  15.9539,2,  34.6294,2,  34.6189,2,    206.4,2,   206.5,2,    5.37,2,    5.77,2,    0.00,2,    0.38,2,   2.228,2,   1.377,2,   2.1332,2,  2060.8,2,  2274.1,2,   7.8873,2,    24.99,2, -999.00,1,  -999.0,1, -999.00,1, -999.00,1,       11.5,2, 20220531,      323,  30.0002,-177.3673,    15.9643,2,     -999.0,9,     -999.0,9,     -999.0,9,     -999.0,9,     0.0134,1,     4.6826,1,     -999.0,9,     -999.0,9,     -999.0,9
33RR20220430,        P02,      89,          2,         29,         29,2,20220531,       0122,    30.0002,  -177.3673,       5354,   238.2,2,  14.9103,2,  34.5448,2,  34.5382,2,    209.3,2,   209.4,2,    7.33,2,    7.32,2,    0.00,2,    0.50,2,-999.000,5,-999.000,5,-999.0000,5,  2069.4,2,  2271.7,2,   7.8661,2,    24.99,2, -999.00,1,  -999.0,1, -999.00,1, -999.00,1,     -999.0,5, 20220531,      321,  30.0002,-177.3673,    14.9141,2,     -999.0,9,     -999.0,9,     -999.0,9,     -999.0,9,     0.0122,1,     4.6861,1,     -999.0,9,     -999.0,9,     -999.0,9
33RR20220430,        P02,      89,          2,         28,         28,2,20220531,       0122,    30.0002,  -177.3673,       5354,   288.2,2,  13.7893,2,  34.4554,2,  34.4455,2,    209.9,2,   209.6,2,    9.67,2,    9.06,2,    0.00,2,    0.63,2,   2.445,2,   1.495,2,   2.2103,2,  -999.0,9,  -999.0,9,-999.0000,9,  -999.00,9, -999.00,1,  -999.0,1, -999.00,1, -999.00,1,       13.4,2, 20220531,      319,  30.0002,-177.3673,    13.7885,2,     -999.0,9,     -999.0,9,     -999.0,9,     -999.0,9,     0.0122,1,     4.6894,1,     -999.0,9,     -999.0,9,     -999.0,9
33RR20220430,        P02,      89,          2,         27,         27,2,20220531,       0122,    30.0002,  -177.3673,       5354,   337.9,2,  12.8726,2,  34.3784,2,  34.3702,2,    208.1,2,   208.3,2,   11.82,2,   10.73,2,    0.00,2,    0.74,2,   2.571,2,   1.550,2,   2.0058,2,  2090.2,6,  2267.3,2,   7.7179,2,    24.99,2, -999.00,1,  -999.0,1, -999.00,1, -999.00,1,       14.5,2, 20220531,      317,  30.0002,-177.3673,    12.8804,2,     -999.0,9,     -999.0,9,     -999.0,9,     -999.0,9,     0.0120,1,     4.6918,1,     -999.0,9,     -999.0,9,     -999.0,9
33RR20220430,        P02,      89,          2,         26,         26,2,20220531,       0122,    30.0002,  -177.3673,       5354,   387.8,2,  11.8989,2,  34.2993,2,  34.2936,2,    205.5,2,   206.3,2,   14.85,2,   12.67,2,    0.00,2,    0.88,2,   2.660,2,   1.639,2,   2.0469,2,  -999.0,9,  -999.0,9,-999.0000,9,  -999.00,9, -999.00,1,  -999.0,1, -999.00,1, -999.00,1,       14.3,2, 20220531,      314,  30.0002,-177.3673,    11.9197,2,     -999.0,9,     -999.0,9,     -999.0,9,     -999.0,9,     0.0122,1,     4.6939,1,     -999.0,9,     -999.0,9,     -999.0,9
33RR20220430,        P02,      89,          2,         25,         25,2,20220531,       0122,    30.0002,  -177.3673,       5354,   469.0,2,  10.0543,2,  34.1636,2,  34.1566,2,    198.9,2,   199.0,2,   22.77,2,   16.89,2,    0.00,2,    1.18,2,   2.739,2,   1.638,2,   1.9002,2,  2128.1,2,  2266.2,2,   7.8102,2,    25.00,2, -999.00,1,  -999.0,1, -999.00,1, -999.00,1,       18.2,2, 20220531,      312,  30.0002,-177.3673,    10.0482,2,     -999.0,9,     -999.0,9,     -999.0,9,     -999.0,9,     0.0122,1,     4.6959,1,     -999.0,9,     -999.0,9,     -999.0,9
33RR20220430,        P02,      89,          2,         24,         24,3,20220531,       0122,    30.0002,  -177.3673,       5354,   571.6,3,   7.5932,3,  34.0287,3,  34.0249,3,    160.9,3,  -999.0,9,   42.22,3,   25.19,3,    0.00,3,    1.78,3,-999.000,9,-999.000,9,-999.0000,9,  -999.0,9,  -999.0,9,-999.0000,9,  -999.00,9, -999.00,9,  -999.0,9, -999.00,9, -999.00,9,     -999.0,9, 20220531,      309,  30.0002,-177.3673,     7.5913,3,     -999.0,9,     -999.0,9,     -999.0,9,     -999.0,9,     0.0122,1,     4.6979,1,     -999.0,9,     -999.0,9,     -999.0,9
33RR20220430,        P02,      89,          2,         23,         23,2,20220531,       0122,    30.0002,  -177.3673,       5354,   672.3,2,   6.0888,2,  34.0243,2,  34.0235,2,    115.7,3,   113.5,2,   62.84,2,   32.18,2,    0.00,2,    2.30,2,   1.956,2,   1.139,2,   0.8733,2,  2240.4,2,  2291.1,2,   7.4770,2,    24.98,2, -999.00,1,  -999.0,1, -999.00,1, -999.00,1,       33.3,2, 20220531,      305,  30.0002,-177.3673,     6.0831,2,     -999.0,9,     -999.0,9,     -999.0,9,     -999.0,9,     0.0134,1,     4.6989,1,     -999.0,9,     -999.0,9,     -999.0,9
33RR20220430,        P02,      89,          2,         22,         22,2,20220531,       0122,    30.0002,  -177.3673,       5354,   772.6,2,   5.0567,2,  34.0784,2,  34.0770,2,     79.4,3,    78.4,2,   82.67,2,   37.00,2,    0.00,2,    2.65,2,   1.310,2,   0.729,2,   0.4322,2,  -999.0,9,  -999.0,9,-999.0000,9,  -999.00,9, -999.00,1,  -999.0,1, -999.00,9, -999.00,9,       39.9,2, 20220531,      303,  30.0002,-177.3673,     5.0583,2,     -999.0,9,     -999.0,9,     -999.0,9,     -999.0,9,     0.0134,1,     4.6994,1,     -999.0,9,     -999.0,9,     -999.0,9
33RR20220430,        P02,      89,          2,         21,         21,2,20220531,       0122,    30.0002,  -177.3673,       5354,   872.9,2,   4.2712,2,  34.1772,2,  34.1773,2,     46.8,3,    46.2,2,  102.99,2,   40.85,2,    0.00,2,    2.93,2,   0.678,2,   0.403,2,   0.2163,2,  2323.4,2,  2332.8,2,   7.3429,2,    25.00,2, -999.00,1,  -999.0,1, -999.00,1, -999.00,1,       48.1,2, 20220531,      300,  30.0002,-177.3673,     4.2790,2,     -999.0,9,     -999.0,9,     -999.0,9,     -999.0,9,     0.0134,1,     4.6995,1,     -999.0,9,     -999.0,9,     -999.0,9
33RR20220430,        P02,      89,          2,         20,         20,2,20220531,       0122,    30.0002,  -177.3673,       5354,   974.1,2,   3.8024,2,  34.2740,2,  34.2740,2,     29.5,2,    29.4,2,  117.54,2,   42.71,2,    0.00,2,    3.08,2,   0.292,2,   0.168,2,   0.0648,2,  -999.0,9,  -999.0,9,-999.0000,9,  -999.00,9, -999.00,1,  -999.0,1, -999.00,9, -999.00,9,       52.4,2, 20220531,      258,  30.0002,-177.3673,     3.8019,2,     -999.0,9,     -999.0,9,     -999.0,9,     -999.0,9,     0.0134,1,     4.6995,1,     -999.0,9,     -999.0,9,     -999.0,9
33RR20220430,        P02,      89,          2,         19,         19,2,20220531,       0122,    30.0002,  -177.3673,       5354,  1075.5,2,   3.5116,2,  34.3433,2,  34.3429,2,     24.5,3,    24.8,2,  126.42,2,   43.38,2,    0.00,2,    3.14,2,   0.132,2,   0.075,2,   0.0000,2,  2359.7,2,  2366.1,2,   7.3219,2,    24.99,2, -999.00,1,  -999.0,1, -999.00,1, -999.00,1,       55.0,2, 20220531,      255,  30.0002,-177.3673,     3.5124,2,     -999.0,9,     -999.0,9,     -999.0,9,     -999.0,9,     0.0134,1,     4.7006,1,     -999.0,9,     -999.0,9,     -999.0,9
33RR20220430,        P02,      89,          2,         18,         18,2,20220531,       0122,    30.0002,  -177.3673,       5354,  1176.3,2,   3.2750,2,  34.3971,2,  34.3986,2,     24.6,3,    24.9,2,  134.04,2,   43.64,2,    0.00,2,    3.17,2,   0.057,2,   0.038,2,   0.0000,2,  2367.1,2,  2374.2,2,   7.3277,2,    24.99,2, -999.00,1,  -999.0,1, -999.00,9, -999.00,9,       54.8,2, 20220531,      252,  30.0002,-177.3673,     3.2770,2,     -999.0,9,     -999.0,9,     -999.0,9,     -999.0,9,     0.0134,1,     4.6960,1,     -999.0,9,     -999.0,9,     -999.0,9
33RR20220430,        P02,      89,          2,         17,         17,2,20220531,       0122,    30.0002,  -177.3673,       5354,  1277.9,2,   3.0484,2,  34.4389,2,  34.4410,2,     26.2,3,    27.4,2,  140.87,2,   43.69,2,    0.00,2,    3.16,2,   0.029,2,   0.019,2,   0.0000,2,  2374.1,2,  2383.4,2,   7.3354,2,    25.00,2, -999.00,1,  -999.0,1, -999.00,1, -999.00,1,       53.3,2, 20220531,      249,  30.0002,-177.3673,     3.0478,2,     -999.0,9,     -999.0,9,     -999.0,9,     -999.0,9,     0.0134,1,     4.7005,1,     -999.0,9,     -999.0,9,     -999.0,9
33RR20220430,        P02,      89,          2,         16,         16,2,20220531,       0122,    30.0002,  -177.3673,       5354,  1380.4,2,   2.8799,2,  34.4810,2,  34.4813,2,     34.3,3,    33.9,2,  144.97,2,   43.35,2,    0.00,2,    3.11,2,   0.016,2,   0.011,2,   0.0000,2,  2376.2,2,  2390.8,2,   7.3531,2,    24.99,2, -999.00,1,  -999.0,1, -999.00,9, -999.00,9,       49.6,2, 20220531,      247,  30.0002,-177.3673,     2.8783,2,     -999.0,9,     -999.0,9,     -999.0,9,     -999.0,9,     0.0134,1,     4.7007,1,     -999.0,9,     -999.0,9,     -999.0,9
33RR20220430,        P02,      89,          2,         15,         15,2,20220531,       0122,    30.0002,  -177.3673,       5354,  1582.6,2,   2.5240,2,  34.5383,2,  34.5392,2,     49.1,2,    49.4,2,  151.90,2,   42.53,2,    0.00,2,    3.05,2,   0.006,2,   0.000,2,   0.0000,2,  2374.8,2,  2400.9,2,   7.3883,2,    25.00,2, -999.00,1,  -999.0,1, -999.00,1, -999.00,1,       42.4,2, 20220531,      242,  30.0002,-177.3673,     2.5242,2,     -999.0,9,     -999.0,9,     -999.0,9,     -999.0,9,     0.0127,1,     4.7020,1,     -999.0,9,     -999.0,9,     -999.0,9
33RR20220430,        P02,      89,          2,         14,         14,2,20220531,       0122,    30.0002,  -177.3673,       5354,  1754.3,2,   2.2795,2,  34.5693,2,  34.5704,2,     61.0,2,    61.2,2,  157.07,2,   41.81,2,    0.00,2,    2.99,2,   0.005,2,   0.000,2,   0.0000,2,  2372.1,2,  2408.2,2,   7.4158,2,    25.01,2, -999.00,1,  -999.0,1, -999.00,1, -999.00,1,       38.5,2, 20220531,      238,  30.0002,-177.3673,     2.2788,2,     -999.0,9,     -999.0,9,     -999.0,9,     -999.0,9,     0.0134,1,     4.7028,1,     -999.0,9,     -999.0,9,     -999.0,9
33RR20220430,        P02,      89,          2,         13,         13,2,20220531,       0122,    30.0002,  -177.3673,       5354,  1959.0,2,   2.0473,2,  34.5974,2,  34.5993,2,     75.5,2,    75.7,2,  161.47,2,   40.92,2,    0.00,2,    2.91,2,   0.003,2,   0.000,2,   0.0000,2,  2369.8,2,  2411.9,2,   7.4384,2,    25.00,2, -999.00,1,  -999.0,1, -999.00,1, -999.00,1,       34.3,2, 20220531,      234,  30.0002,-177.3673,     2.0470,2,     -999.0,9,     -999.0,9,     -999.0,9,     -999.0,9,     0.0127,1,     4.7042,1,     -999.0,9,     -999.0,9,     -999.0,9
33RR20220430,        P02,      89,          2,         12,         12,2,20220531,       0122,    30.0002,  -177.3673,       5354,  2194.6,2,   1.8735,2,  34.6181,2,  34.6191,2,     87.5,2,    87.2,2,  162.93,2,   40.15,2,    0.00,2,    2.86,2,   0.004,2,   0.000,2,   0.0000,2,  -999.0,9,  -999.0,9,-999.0000,9,  -999.00,9, -999.00,9,  -999.0,9, -999.00,9, -999.00,9,       31.2,2, 20220531,      229,  30.0002,-177.3673,     1.8732,2,     -999.0,9,     -999.0,9,     -999.0,9,     -999.0,9,     0.0133,1,     4.7034,1,     -999.0,9,     -999.0,9,     -999.0,9
33RR20220430,        P02,      89,          2,         11,         11,2,20220531,       0122,    30.0002,  -177.3673,       5354,  2446.1,2,   1.7232,2,  34.6362,2,  34.6364,2,    100.3,2,   100.2,2,  164.00,2,   39.34,2,    0.00,2,    2.79,2,   0.003,2,   0.000,2,   0.0000,2,  2357.9,2,  2419.5,2,   7.4842,2,    25.00,2, -999.00,1,  -999.0,1, -999.00,1, -999.00,1,       28.7,2, 20220531,      223,  30.0002,-177.3673,     1.7227,2,     -999.0,9,     -999.0,9,     -999.0,9,     -999.0,9,     0.0125,1,     4.7036,1,     -999.0,9,     -999.0,9,     -999.0,9
33RR20220430,        P02,      89,          2,         10,         10,2,20220531,       0122,    30.0002,  -177.3673,       5354,  2701.0,2,   1.6201,2,  34.6496,2,  34.6500,2,    111.9,2,   111.7,2,  163.32,2,   38.62,2,    0.00,2,    2.73,2,-999.000,9,-999.000,9,-999.0000,9,  -999.0,9,  -999.0,9,-999.0000,9,  -999.00,9, -999.00,9,  -999.0,9, -999.00,9, -999.00,9,     -999.0,9, 20220531,      218,  30.0002,-177.3673,     1.6197,2,     -999.0,9,     -999.0,9,     -999.0,9,     -999.0,9,     0.0124,1,     4.7049,1,     -999.0,9,     -999.0,9,     -999.0,9
33RR20220430,        P02,      89,          2,          9,          9,2,20220531,       0122,    30.0002,  -177.3673,       5354,  2958.2,2,   1.5457,2,  34.6602,2,  34.6598,2,    123.1,2,   123.4,2,  161.46,2,   37.89,2,    0.00,2,    2.67,2,   0.003,2,   0.000,2,   0.0000,2,  2345.2,2,  2419.5,2,   7.5245,2,    25.00,2, -999.00,1,  -999.0,1, -999.00,1, -999.00,1,       25.1,2, 20220531,      212,  30.0003,-177.3673,     1.5452,2,     -999.0,9,     -999.0,9,     -999.0,9,     -999.0,9,     0.0122,1,     4.7045,1,     -999.0,9,     -999.0,9,     -999.0,9
33RR20220430,        P02,      89,          2,          8,          8,2,20220531,       0122,    30.0002,  -177.3673,       5354,  3248.1,2,   1.4877,2,  34.6699,2,  34.6710,2,    133.5,2,   133.4,2,  159.11,2,   37.23,2,    0.00,2,    2.62,2,-999.000,9,-999.000,9,-999.0000,9,  -999.0,9,  -999.0,9,-999.0000,9,  -999.00,9, -999.00,9,  -999.0,9, -999.00,9, -999.00,9,     -999.0,9, 20220531,      206,  30.0003,-177.3673,     1.4879,2,     -999.0,9,     -999.0,9,     -999.0,9,     -999.0,9,     0.0131,1,     4.7053,1,     -999.0,9,     -999.0,9,     -999.0,9
33RR20220430,        P02,      89,          2,          7,          7,2,20220531,       0122,    30.0002,  -177.3673,       5354,  3556.3,2,   1.4585,2,  34.6767,2,  34.6767,2,    141.5,2,   141.3,2,  156.67,2,   36.74,2,    0.00,2,    2.59,2,   0.004,2,   0.000,2,   0.0000,2,  2333.6,2,  2419.9,2,   7.5582,2,    25.00,2, -999.00,1,  -999.0,1, -999.00,1, -999.00,1,       22.7,2, 20220531,      200,  30.0002,-177.3673,     1.4582,2,     -999.0,9,     -999.0,9,     -999.0,9,     -999.0,9,     0.0122,1,     4.7056,1,     -999.0,9,     -999.0,9,     -999.0,9
33RR20220430,        P02,      89,          2,          6,          6,2,20220531,       0122,    30.0002,  -177.3673,       5354,  3862.0,2,   1.4561,2,  34.6808,2,  34.6818,2,    146.2,2,   146.6,2,  156.77,2,   36.43,2,    0.00,2,    2.55,2,-999.000,9,-999.000,9,-999.0000,9,  -999.0,9,  -999.0,9,-999.0000,9,  -999.00,9, -999.00,9,  -999.0,9, -999.00,9, -999.00,9,     -999.0,9, 20220531,      154,  30.0002,-177.3673,     1.4559,2,     -999.0,9,     -999.0,9,     -999.0,9,     -999.0,9,     0.0123,1,     4.7051,1,     -999.0,9,     -999.0,9,     -999.0,9
33RR20220430,        P02,      89,          2,          5,          5,2,20220531,       0122,    30.0002,  -177.3673,       5354,  4171.6,2,   1.4626,2,  34.6838,2,  34.6838,2,    150.0,2,   150.4,2,  155.79,2,   36.23,2,    0.00,2,    2.52,2,   0.005,2,   0.000,2,   0.0000,2,  2326.8,2,  2419.2,2,   7.5734,2,    25.02,2, -999.00,1,  -999.0,1, -999.00,1, -999.00,1,       22.0,2, 20220531,      148,  30.0002,-177.3673,     1.4624,2,     -999.0,9,     -999.0,9,     -999.0,9,     -999.0,9,     0.0124,1,     4.7056,1,     -999.0,9,     -999.0,9,     -999.0,9
33RR20220430,        P02,      89,          2,          4,          4,2,20220531,       0122,    30.0002,  -177.3673,       5354,  4478.7,2,   1.4830,2,  34.6857,2,  34.6865,2,    151.7,2,   151.8,2,  156.28,2,   36.11,2,    0.00,2,    2.51,2,-999.000,9,-999.000,9,-999.0000,9,  -999.0,9,  -999.0,9,-999.0000,9,  -999.00,9, -999.00,1,  -999.0,1, -999.00,9, -999.00,9,     -999.0,9, 20220531,      142,  30.0002,-177.3673,     1.4829,2,     -999.0,9,     -999.0,9,     -999.0,9,     -999.0,9,     0.0129,1,     4.7054,1,     -999.0,9,     -999.0,9,     -999.0,9