BOTTLE,20230801CCHSIOCBG
EXPOCODE,SECT_ID,STNNBR,CASTNO,SAMPNO,BTLNBR,BTLNBR_FLAG_W,DATE,TIME,LATITUDE,LONGITUDE,DEPTH,CTDPRS,CTDPRS_FLAG_W,CTDTMP,CTDTMP_FLAG_W,CTDSAL,CTDSAL_FLAG_W,SALNTY,SALNTY_FLAG_W,CTDOXY,CTDOXY_FLAG_W,OXYGEN,OXYGEN_FLAG_W,SILCAT,SILCAT_FLAG_W,NITRAT,NITRAT_FLAG_W,NITRIT,NITRIT_FLAG_W,PHSPHT,PHSPHT_FLAG_W,CFC-11,CFC-11_FLAG_W,CFC-12,CFC-12_FLAG_W,SF6,SF6_FLAG_W,TCARBN,TCARBN_FLAG_W,ALKALI,ALKALI_FLAG_W,PH_TOT,PH_TOT_FLAG_W,PH_TMP,PH_TMP_FLAG_W,DELC13,DELC13_FLAG_W,DELC14,DELC14_FLAG_W,DOC,DOC_FLAG_W,TDN,TDN_FLAG_W,N2O,N2O_FLAG_W,BTL_DATE,BTL_TIME,BTL_LAT,BTL_LON,REFTMP,REFTMP_FLAG_W,POC,POC_FLAG_W,PON,PON_FLAG_W,POP,POP_FLAG_W,PCOD,PCOD_FLAG_W,CTDFLUOR,CTDFLUOR_FLAG_W,CTDXMISS,CTDXMISS_FLAG_W,HPLC,HPLC_FLAG_W,DNA,DNA_FLAG_W,FCM,FCM_FLAG_W
,,,,,,,,,,,METERS,DBAR,,ITS-90,,PSS-78,,PSS-78,,UMOL/KG,,UMOL/KG,,UMOL/KG,,UMOL/KG,,UMOL/KG,,UMOL/KG,,PMOL/KG,,PMOL/KG,,FMOL/KG,,UMOL/KG,,UMOL/KG,,,,DEG C,,/MILLE,,/MILLE,,UMOL/KG,,UMOL/KG,,NMOL/KG,,,,,,ITS-90,,UG/L,,UG/L,,UG/L,,UG/L,,VOLTS,,VOLTS,,,,,,,
33RR20220430,        P02,      65,          2,          3,          3,2,20220524,       0038,    30.0004,   169.7191,       5678,  5095.3,2,   1.4732,2,  34.6932,2,  34.6922,2,    168.2,2,   168.3,2,  139.11,2,   34.86,2,    0.00,2,    2.39,2,   0.007,2,   0.000,2,   0.0000,2,  2308.4,2,  2406.0,2,   7.5940,2,    25.00,2, -999.00,9,  -999.0,9, -999.00,1, -999.00,1,       20.5,2, 20220524,       51,  30.0003, 169.7191,     1.4733,2,     -999.0,9,     -999.0,9,     -999.0,9,     -999.0,9,     0.0122,1,     4.7080,1,     -999.0,9,     -999.0,9,     -999.0,9
33RR20220430,        P02,      65,          2,          2,          2,2,20220524,       0038,    30.0004,   169.7191,       5678,  5401.0,2,   1.4902,2,  34.6950,2,  34.6948,2,    171.6,2,   172.3,2,  136.67,2,   34.58,2,    0.00,2,    2.36,2,   0.007,2,   0.000,2,   0.0000,2,  -999.0,9,  -999.0,9,-999.0000,9,  -999.00,9, -999.00,9,  -999.0,9, -999.00,9, -999.00,9,       19.9,2, 20220524,       45,  30.0003, 169.7191,     1.4903,2,     -999.0,9,     -999.0,9,     -999.0,9,     -999.0,9,     0.0122,1,     4.7060,1,     -999.0,9,     -999.0,9,     -999.0,9
33RR20220430,        P02,      65,          2,          1,          1,2,20220524,       0038,    30.0004,   169.7191,       5678,  5782.3,2,   1.5197,2,  34.6964,2,  34.6962,2,    174.9,2,   174.9,2,  134.23,2,   34.26,2,    0.00,2,    2.34,2,   0.010,2,   0.000,2,   0.0000,2,  2299.9,6,  -999.0,1,   7.6011,2,    25.01,2, -999.00,9,  -999.0,9, -999.00,1, -999.00,1,       19.8,2, 20220524,       38,  30.0003, 169.7191,     1.5199,2,     -999.0,9,     -999.0,9,     -999.0,9,     -999.0,9,     0.0121,1,     4.7032,1,     -999.0,9,     -999.0,9,     -999.0,9