BOTTLE,20230801CCHSIOCBG
EXPOCODE,SECT_ID,STNNBR,CASTNO,SAMPNO,BTLNBR,BTLNBR_FLAG_W,DATE,TIME,LATITUDE,LONGITUDE,DEPTH,CTDPRS,CTDPRS_FLAG_W,CTDTMP,CTDTMP_FLAG_W,CTDSAL,CTDSAL_FLAG_W,SALNTY,SALNTY_FLAG_W,CTDOXY,CTDOXY_FLAG_W,OXYGEN,OXYGEN_FLAG_W,SILCAT,SILCAT_FLAG_W,NITRAT,NITRAT_FLAG_W,NITRIT,NITRIT_FLAG_W,PHSPHT,PHSPHT_FLAG_W,CFC-11,CFC-11_FLAG_W,CFC-12,CFC-12_FLAG_W,SF6,SF6_FLAG_W,TCARBN,TCARBN_FLAG_W,ALKALI,ALKALI_FLAG_W,PH_TOT,PH_TOT_FLAG_W,PH_TMP,PH_TMP_FLAG_W,DELC13,DELC13_FLAG_W,DELC14,DELC14_FLAG_W,DOC,DOC_FLAG_W,TDN,TDN_FLAG_W,N2O,N2O_FLAG_W,BTL_DATE,BTL_TIME,BTL_LAT,BTL_LON,REFTMP,REFTMP_FLAG_W,POC,POC_FLAG_W,PON,PON_FLAG_W,POP,POP_FLAG_W,PCOD,PCOD_FLAG_W,CTDFLUOR,CTDFLUOR_FLAG_W,CTDXMISS,CTDXMISS_FLAG_W,HPLC,HPLC_FLAG_W,DNA,DNA_FLAG_W,FCM,FCM_FLAG_W
,,,,,,,,,,,METERS,DBAR,,ITS-90,,PSS-78,,PSS-78,,UMOL/KG,,UMOL/KG,,UMOL/KG,,UMOL/KG,,UMOL/KG,,UMOL/KG,,PMOL/KG,,PMOL/KG,,FMOL/KG,,UMOL/KG,,UMOL/KG,,,,DEG C,,/MILLE,,/MILLE,,UMOL/KG,,UMOL/KG,,NMOL/KG,,,,,,ITS-90,,UG/L,,UG/L,,UG/L,,UG/L,,VOLTS,,VOLTS,,,,,,,
33RR20220430,        P02,      20,          1,          2,          2,2,20220509,       0346,    29.9997,   140.5248,       2487,  2233.4,2,   1.7979,2,  34.6216,2,  34.6223,2,    102.0,2,   102.1,2,  156.01,2,   38.84,2,    0.00,2,    2.73,2,-999.000,9,-999.000,9,-999.0000,9,  2352.4,2,  2414.9,2,   7.4820,2,    24.97,2, -999.00,9,  -999.0,9, -999.00,1, -999.00,1,     -999.0,9, 20220509,      355,  29.9997, 140.5248,     1.7986,2,     -999.0,9,     -999.0,9,     -999.0,9,     -999.0,9,     0.0134,1,     4.7057,1,     -999.0,9,     -999.0,9,     -999.0,9
33RR20220430,        P02,      20,          1,          1,          1,2,20220509,       0346,    29.9997,   140.5248,       2487,  2507.9,2,   1.6279,2,  34.6469,2,  34.6484,2,    119.4,2,   119.4,2,  155.03,2,   37.91,2,    0.00,2,    2.64,2,-999.000,9,-999.000,9,-999.0000,9,  2344.5,6,  2413.2,2,   7.5149,2,    24.99,2, -999.00,9,  -999.0,9, -999.00,1, -999.00,1,     -999.0,9, 20220509,      346,  29.9998, 140.5248,     1.6267,2,     -999.0,9,     -999.0,9,     -999.0,9,     -999.0,9,     0.0129,1,     4.7047,1,     -999.0,9,     -999.0,9,     -999.0,9
33RR20220430,        P02,      21,          1,         30,         30,2,20220509,       1043,    29.9997,   141.3905,       3940,     6.5,2,  20.9555,2,  34.7184,2,  34.7115,2,    227.1,2,   226.7,2,    1.07,2,    0.01,2,    0.00,2,    0.02,2,   1.706,2,   1.179,2,   2.0133,2,  2003.8,6,  2278.0,2,   8.0100,2,    25.00,2, -999.00,1,  -999.0,1, -999.00,1, -999.00,1,        7.0,2, 20220509,     1225,  29.9997, 141.3905,    20.9279,2,     -999.0,9,     -999.0,9,     -999.0,9,     -999.0,9,     0.0147,1,     4.6187,1,     -999.0,9,     -999.0,9,     -999.0,9
33RR20220430,        P02,      21,          1,         29,         29,2,20220509,       1043,    29.9997,   141.3905,       3940,    26.5,2,  20.4744,2,  34.7030,2,  34.6956,2,    228.5,2,   228.3,2,    1.07,2,    0.01,2,    0.00,2,    0.00,2,   1.907,2,   1.236,2,   1.6829,2,  2006.9,2,  2277.7,2,   8.0073,2,    24.93,2, -999.00,1,  -999.0,1, -999.00,1, -999.00,1,        6.9,2, 20220509,     1223,  29.9998, 141.3904,    20.4732,2,     -999.0,9,     -999.0,9,     -999.0,9,     -999.0,9,     0.0159,1,     4.6222,1,     -999.0,9,     -999.0,9,     -999.0,9
33RR20220430,        P02,      21,          1,         28,         28,2,20220509,       1043,    29.9997,   141.3905,       3940,    51.2,2,  19.3459,2,  34.7315,2,  34.7247,2,    231.8,2,   232.9,2,    1.07,2,    0.00,2,    0.00,2,    0.00,2,-999.000,9,-999.000,9,-999.0000,9,  2004.6,2,  2279.8,2,   8.0076,2,    24.99,2, -999.00,1,  -999.0,1, -999.00,1, -999.00,1,     -999.0,9, 20220509,     1222,  29.9998, 141.3904,    19.3486,2,     -999.0,9,     -999.0,9,     -999.0,9,     -999.0,9,     0.0186,1,     4.6158,1,     -999.0,9,     -999.0,9,     -999.0,9
33RR20220430,        P02,      21,          1,         27,         27,2,20220509,       1043,    29.9997,   141.3905,       3940,    76.4,2,  18.5464,2,  34.7775,2,  34.7708,2,    222.5,2,   221.9,2,    1.95,2,    1.21,2,    0.08,2,    0.05,2,   1.949,2,   1.231,2,   2.0776,2,  2020.0,2,  2284.0,2,   7.9832,2,    25.00,2, -999.00,1,  -999.0,1, -999.00,1, -999.00,1,        7.9,2, 20220509,     1220,  29.9998, 141.3905,    18.5469,2,     -999.0,9,     -999.0,9,     -999.0,9,     -999.0,9,     0.0353,1,     4.6049,1,     -999.0,9,     -999.0,9,     -999.0,9
33RR20220430,        P02,      21,          1,         26,         26,2,20220509,       1043,    29.9997,   141.3905,       3940,   102.9,2,  18.0253,2,  34.7730,2,  34.7665,2,    219.6,2,   218.7,2,    2.34,2,    2.03,2,    0.02,2,    0.10,2,-999.000,9,-999.000,9,-999.0000,9,  2029.6,2,  2283.0,2,   7.9654,2,    24.99,2, -999.00,1,  -999.0,1, -999.00,1, -999.00,1,     -999.0,9, 20220509,     1218,  29.9998, 141.3904,    18.0256,2,     -999.0,9,     -999.0,9,     -999.0,9,     -999.0,9,     0.0183,1,     4.6646,1,     -999.0,9,     -999.0,9,     -999.0,9
33RR20220430,        P02,      21,          1,         25,         25,2,20220509,       1043,    29.9997,   141.3905,       3940,   152.8,2,  17.5419,2,  34.7487,2,  34.7425,2,    221.7,2,   222.3,2,    2.74,2,    2.39,2,    0.03,2,    0.13,2,   2.047,2,   1.287,2,   1.9916,2,  2031.5,2,  2281.4,2,-999.0000,9,  -999.00,9, -999.00,1,  -999.0,1, -999.00,1, -999.00,1,        8.4,2, 20220509,     1216,  29.9997, 141.3905,    17.5417,2,     -999.0,9,     -999.0,9,     -999.0,9,     -999.0,9,     0.0134,1,     4.6757,1,     -999.0,9,     -999.0,9,     -999.0,9
33RR20220430,        P02,      21,          1,         24,         24,2,20220509,       1043,    29.9997,   141.3905,       3940,   204.4,2,  17.2625,2,  34.7434,2,  34.7404,2,    217.6,2,   217.2,2,    3.32,2,    3.37,2,    0.02,2,    0.20,2,-999.000,9,-999.000,9,-999.0000,9,  -999.0,9,  -999.0,9,-999.0000,9,  -999.00,9, -999.00,1,  -999.0,1, -999.00,1, -999.00,1,     -999.0,9, 20220509,     1214,  29.9998, 141.3905,    17.2588,2,     -999.0,9,     -999.0,9,     -999.0,9,     -999.0,9,     0.0131,1,     4.6802,1,     -999.0,9,     -999.0,9,     -999.0,9
33RR20220430,        P02,      21,          1,         23,         23,2,20220509,       1043,    29.9997,   141.3905,       3940,   252.4,2,  17.1095,2,  34.7448,2,  34.7394,2,    223.3,2,   223.9,2,    2.93,2,    2.93,2,    0.01,2,    0.17,2,   2.061,2,   1.321,2,   1.9791,2,  2036.9,2,  2279.8,2,   7.9554,2,    24.95,2, -999.00,1,  -999.0,1, -999.00,1, -999.00,1,        8.6,2, 20220509,     1212,  29.9998, 141.3905,    17.1068,2,     -999.0,9,     -999.0,9,     -999.0,9,     -999.0,9,     0.0134,1,     4.6843,1,     -999.0,9,     -999.0,9,     -999.0,9
33RR20220430,        P02,      21,          1,         22,         22,2,20220509,       1043,    29.9997,   141.3905,       3940,   302.3,2,  16.8384,2,  34.7261,2,  34.7217,2,    214.4,2,   215.5,2,    4.20,2,    4.36,2,    0.00,2,    0.24,2,-999.000,9,-999.000,9,-999.0000,9,  -999.0,9,  -999.0,9,-999.0000,9,  -999.00,9, -999.00,1,  -999.0,1, -999.00,1, -999.00,1,     -999.0,9, 20220509,     1210,  29.9998, 141.3904,    16.8374,2,     -999.0,9,     -999.0,9,     -999.0,9,     -999.0,9,     0.0127,1,     4.6852,1,     -999.0,9,     -999.0,9,     -999.0,9
33RR20220430,        P02,      21,          1,         21,         21,2,20220509,       1043,    29.9997,   141.3905,       3940,   351.7,2,  16.1866,2,  34.6724,2,  34.6680,2,    196.9,2,   196.1,2,    7.13,2,    7.26,2,    0.00,2,    0.44,2,   2.184,2,   1.355,2,   1.6799,2,  2063.8,2,  2279.2,2,   7.8894,2,    24.96,2, -999.00,1,  -999.0,1, -999.00,1, -999.00,1,       11.6,2, 20220509,     1208,  29.9998, 141.3904,    16.1815,2,     -999.0,9,     -999.0,9,     -999.0,9,     -999.0,9,     0.0122,1,     4.6875,1,     -999.0,9,     -999.0,9,     -999.0,9
33RR20220430,        P02,      21,          1,         20,         20,2,20220509,       1043,    29.9997,   141.3905,       3940,   403.0,2,  14.8099,2,  34.5639,2,  34.5614,2,    189.1,2,   188.5,2,   10.45,2,    9.93,2,    0.00,2,    0.62,2,-999.000,9,-999.000,9,-999.0000,9,  2082.7,2,  2275.5,2,   7.8421,2,    24.95,2, -999.00,1,  -999.0,1, -999.00,1, -999.00,1,     -999.0,9, 20220509,     1206,  29.9998, 141.3905,    14.8229,2,     -999.0,9,     -999.0,9,     -999.0,9,     -999.0,9,     0.0122,1,     4.6942,1,     -999.0,9,     -999.0,9,     -999.0,9
33RR20220430,        P02,      21,          1,         19,         19,2,20220509,       1043,    29.9997,   141.3905,       3940,   504.1,2,  12.2686,2,  34.3773,2,  34.3766,2,    180.3,2,   180.4,2,   19.54,2,   14.90,2,    0.00,2,    0.98,2,   2.547,2,   1.507,2,   1.4838,2,  2119.7,2,  2274.3,2,   7.7648,2,    24.98,2, -999.00,1,  -999.0,1, -999.00,1, -999.00,1,       18.5,2, 20220509,     1203,  29.9998, 141.3905,    12.2696,2,     -999.0,9,     -999.0,9,     -999.0,9,     -999.0,9,     0.0122,1,     4.6971,1,     -999.0,9,     -999.0,9,     -999.0,9
33RR20220430,        P02,      21,          1,         18,         18,2,20220509,       1043,    29.9997,   141.3905,       3940,   606.2,2,   9.1792,2,  34.1943,2,  34.1926,2,    157.4,2,   158.2,2,   38.50,2,   22.31,2,    0.00,2,    1.50,2,-999.000,9,-999.000,9,-999.0000,9,  2169.5,2,  2282.3,2,   7.6479,2,    24.97,2, -999.00,1,  -999.0,1, -999.00,1, -999.00,1,     -999.0,9, 20220509,     1201,  29.9998, 141.3904,     9.1771,2,     -999.0,9,     -999.0,9,     -999.0,9,     -999.0,9,     0.0131,1,     4.6998,1,     -999.0,9,     -999.0,9,     -999.0,9
33RR20220430,        P02,      21,          1,         17,         17,2,20220509,       1043,    29.9997,   141.3905,       3940,   706.1,2,   5.9990,2,  34.0365,2,  34.0386,2,    125.9,3,   124.3,2,   65.78,2,   31.34,2,    0.00,2,    2.18,2,   2.060,2,   1.207,2,   0.8985,2,  2238.6,2,  2296.4,2,   7.4955,2,    24.98,2, -999.00,1,  -999.0,1, -999.00,1, -999.00,1,       33.7,2, 20220509,     1158,  29.9998, 141.3905,     5.9950,2,     -999.0,9,     -999.0,9,     -999.0,9,     -999.0,9,     0.0122,1,     4.7029,1,     -999.0,9,     -999.0,9,     -999.0,9
33RR20220430,        P02,      21,          1,         16,         16,2,20220509,       1043,    29.9997,   141.3905,       3940,   807.8,2,   5.0921,2,  34.1238,2,  34.1205,2,     83.2,3,    84.5,2,   84.73,2,   36.35,2,    0.00,2,    2.52,2,-999.000,9,-999.000,9,-999.0000,9,  2281.2,6,  2313.3,2,   7.4187,2,    24.91,2, -999.00,1,  -999.0,1, -999.00,9, -999.00,9,     -999.0,9, 20220509,     1155,  29.9998, 141.3905,     5.1091,2,     -999.0,9,     -999.0,9,     -999.0,9,     -999.0,9,     0.0134,1,     4.7030,1,     -999.0,9,     -999.0,9,     -999.0,9
33RR20220430,        P02,      21,          1,         15,         15,2,20220509,       1043,    29.9997,   141.3905,       3940,   909.7,2,   4.3187,2,  34.2146,2,  34.2158,2,     56.8,3,    57.7,2,  104.37,2,   39.81,2,    0.00,2,    2.78,2,   0.802,2,   0.448,2,   0.4904,2,  2317.9,2,  2334.6,2,   7.3693,2,    25.02,2, -999.00,1,  -999.0,1, -999.00,1, -999.00,1,       47.0,2, 20220509,     1152,  29.9998, 141.3905,     4.3099,2,     -999.0,9,     -999.0,9,     -999.0,9,     -999.0,9,     0.0134,1,     4.7037,1,     -999.0,9,     -999.0,9,     -999.0,9
33RR20220430,        P02,      21,          1,         14,         14,2,20220509,       1043,    29.9997,   141.3905,       3940,  1009.6,2,   3.8234,2,  34.2924,2,  34.2923,2,     45.1,2,    45.0,2,  117.26,2,   41.29,2,    0.00,2,    2.89,2,-999.000,9,-999.000,9,-999.0000,9,  -999.0,9,  -999.0,9,-999.0000,9,  -999.00,9, -999.00,1,  -999.0,1, -999.00,9, -999.00,9,     -999.0,9, 20220509,     1149,  29.9997, 141.3904,     3.8255,2,     -999.0,9,     -999.0,9,     -999.0,9,     -999.0,9,     0.0134,1,     4.7042,1,     -999.0,9,     -999.0,9,     -999.0,9
33RR20220430,        P02,      21,          1,         13,         13,2,20220509,       1043,    29.9997,   141.3905,       3940,  1110.8,2,   3.4780,2,  34.3469,2,  34.3480,2,     41.6,2,    41.7,2,  126.44,2,   42.07,2,    0.00,2,    2.95,2,   0.295,2,   0.154,2,   0.0000,2,  2347.1,2,  2364.2,2,   7.3520,2,    24.98,2, -999.00,1,  -999.0,1, -999.00,1, -999.00,1,       49.9,2, 20220509,     1146,  29.9998, 141.3905,     3.4746,2,     -999.0,9,     -999.0,9,     -999.0,9,     -999.0,9,     0.0134,1,     4.7037,1,     -999.0,9,     -999.0,9,     -999.0,9
33RR20220430,        P02,      21,          1,         12,         12,2,20220509,       1043,    29.9997,   141.3905,       3940,  1211.0,2,   3.2413,2,  34.3935,2,  34.3943,2,     42.2,2,    42.0,2,  132.88,2,   42.79,2,    0.00,2,    2.99,2,-999.000,9,-999.000,9,-999.0000,9,  2355.3,2,  2372.2,2,   7.3580,2,    24.96,2, -999.00,1,  -999.0,1, -999.00,1, -999.00,1,     -999.0,9, 20220509,     1141,  29.9998, 141.3904,     3.2423,2,     -999.0,9,     -999.0,9,     -999.0,9,     -999.0,9,     0.0134,1,     4.7040,1,     -999.0,9,     -999.0,9,     -999.0,9
33RR20220430,        P02,      21,          1,         11,         11,2,20220509,       1043,    29.9997,   141.3905,       3940,  1415.3,2,   2.6928,2,  34.4743,2,  34.4746,2,     47.3,2,    46.9,2,  147.14,2,   42.77,2,    0.00,2,    2.97,2,   0.076,2,   0.045,2,   0.0000,2,  2368.6,2,  2389.1,2,   7.3700,2,    25.03,2, -999.00,1,  -999.0,1, -999.00,1, -999.00,1,       47.1,2, 20220509,     1136,  29.9998, 141.3904,     2.6918,2,     -999.0,9,     -999.0,9,     -999.0,9,     -999.0,9,     0.0134,1,     4.7045,1,     -999.0,9,     -999.0,9,     -999.0,9
33RR20220430,        P02,      21,          1,         10,         10,2,20220509,       1043,    29.9997,   141.3905,       3940,  1618.8,2,   2.3714,2,  34.5223,2,  34.5223,2,     51.9,2,    51.6,2,  156.12,2,   42.70,2,    0.00,2,    2.96,2,-999.000,9,-999.000,9,-999.0000,9,  -999.0,9,  -999.0,9,-999.0000,9,  -999.00,9, -999.00,1,  -999.0,1, -999.00,1, -999.00,1,     -999.0,9, 20220509,     1132,  29.9998, 141.3905,     2.3724,2,     -999.0,9,     -999.0,9,     -999.0,9,     -999.0,9,     0.0134,1,     4.7047,1,     -999.0,9,     -999.0,9,     -999.0,9
33RR20220430,        P02,      21,          1,          9,          9,2,20220509,       1043,    29.9997,   141.3905,       3940,  1820.8,2,   2.1439,2,  34.5614,2,  34.5614,2,     63.2,2,    63.3,2,  160.32,2,   42.08,2,    0.00,2,    2.90,2,   0.018,2,   0.000,2,   0.0000,2,  2374.1,2,  2407.2,2,   7.4062,2,    25.12,2, -999.00,1,  -999.0,1, -999.00,1, -999.00,1,       41.0,2, 20220509,     1127,  29.9998, 141.3904,     2.1452,2,     -999.0,9,     -999.0,9,     -999.0,9,     -999.0,9,     0.0134,1,     4.7053,1,     -999.0,9,     -999.0,9,     -999.0,9
33RR20220430,        P02,      21,          1,          8,          8,2,20220509,       1043,    29.9997,   141.3905,       3940,  2024.2,2,   1.9391,2,  34.5979,2,  34.5973,2,     82.1,2,    82.1,2,  160.61,2,   40.85,2,    0.00,2,    2.81,2,-999.000,9,-999.000,9,-999.0000,9,  -999.0,9,  -999.0,9,-999.0000,9,  -999.00,9, -999.00,1,  -999.0,1, -999.00,9, -999.00,9,     -999.0,9, 20220509,     1123,  29.9998, 141.3905,     1.9397,2,     -999.0,9,     -999.0,9,     -999.0,9,     -999.0,9,     0.0134,1,     4.7061,1,     -999.0,9,     -999.0,9,     -999.0,9
33RR20220430,        P02,      21,          1,          7,          7,2,20220509,       1043,    29.9997,   141.3905,       3940,  2278.9,2,   1.7878,2,  34.6245,2,  34.6260,2,    100.3,2,   101.0,2,  158.36,2,   39.54,2,    0.00,2,    2.73,2,   0.008,2,   0.000,2,   0.0000,2,  2353.3,2,  2413.9,2,   7.4809,2,    24.96,2, -999.00,1,  -999.0,1, -999.00,1, -999.00,1,       32.2,2, 20220509,     1118,  29.9998, 141.3904,     1.7876,2,     -999.0,9,     -999.0,9,     -999.0,9,     -999.0,9,     0.0122,1,     4.7078,1,     -999.0,9,     -999.0,9,     -999.0,9
33RR20220430,        P02,      21,          1,          6,          6,2,20220509,       1043,    29.9997,   141.3905,       3940,  2533.7,2,   1.6698,2,  34.6434,2,  34.6433,2,    114.3,2,   114.1,2,  156.60,2,   38.91,2,    0.00,2,    2.67,2,-999.000,9,-999.000,9,-999.0000,9,  -999.0,9,  -999.0,9,-999.0000,9,  -999.00,9, -999.00,1,  -999.0,1, -999.00,9, -999.00,9,     -999.0,9, 20220509,     1112,  29.9998, 141.3904,     1.6699,2,     -999.0,9,     -999.0,9,     -999.0,9,     -999.0,9,     0.0129,1,     4.7073,1,     -999.0,9,     -999.0,9,     -999.0,9
33RR20220430,        P02,      21,          1,          5,          5,2,20220509,       1043,    29.9997,   141.3905,       3940,  2789.5,2,   1.5944,2,  34.6553,2,  34.6545,2,    123.9,2,   125.9,2,  155.33,2,   38.03,2,    0.00,2,    2.62,2,-999.000,9,-999.000,9,-999.0000,9,  2340.5,6,  2416.3,2,   7.5255,2,    25.06,2, -999.00,1,  -999.0,1, -999.00,1, -999.00,1,     -999.0,9, 20220509,     1107,  29.9998, 141.3905,     1.5944,2,     -999.0,9,     -999.0,9,     -999.0,9,     -999.0,9,     0.0130,1,     4.7073,1,     -999.0,9,     -999.0,9,     -999.0,9
33RR20220430,        P02,      21,          1,          4,          4,2,20220509,       1043,    29.9997,   141.3905,       3940,  3044.5,2,   1.5393,2,  34.6639,2,  34.6641,2,    131.1,2,   131.2,2,  154.35,2,   37.63,2,    0.00,2,    2.58,2,-999.000,9,-999.000,9,-999.0000,9,  -999.0,9,  -999.0,9,-999.0000,9,  -999.00,9, -999.00,1,  -999.0,1, -999.00,9, -999.00,9,     -999.0,9, 20220509,     1102,  29.9998, 141.3904,     1.5398,2,     -999.0,9,     -999.0,9,     -999.0,9,     -999.0,9,     0.0122,1,     4.7057,1,     -999.0,9,     -999.0,9,     -999.0,9
33RR20220430,        P02,      21,          1,          3,          3,2,20220509,       1043,    29.9997,   141.3905,       3940,  3351.2,2,   1.4798,2,  34.6739,2,  34.6732,2,    141.1,2,   141.1,2,  152.30,2,   36.87,2,    0.00,2,    2.53,2,-999.000,9,-999.000,9,-999.0000,9,  2331.7,2,  2415.2,2,   7.5548,2,    25.02,2, -999.00,1,  -999.0,1, -999.00,1, -999.00,1,     -999.0,9, 20220509,     1055,  29.9998, 141.3904,     1.4812,2,     -999.0,9,     -999.0,9,     -999.0,9,     -999.0,9,     0.0129,1,     4.7062,1,     -999.0,9,     -999.0,9,     -999.0,9
33RR20220430,        P02,      21,          1,          2,          2,2,20220509,       1043,    29.9997,   141.3905,       3940,  3670.9,2,   1.4555,2,  34.6797,2,  34.6785,2,    147.9,2,   147.8,2,  150.73,2,   36.37,2,    0.00,2,    2.49,2,-999.000,9,-999.000,9,-999.0000,9,  2327.0,2,  2414.7,2,   7.5739,2,    24.93,2, -999.00,1,  -999.0,1, -999.00,9, -999.00,9,     -999.0,9, 20220509,     1049,  29.9998, 141.3904,     1.4555,2,     -999.0,9,     -999.0,9,     -999.0,9,     -999.0,9,     0.0124,1,     4.7056,1,     -999.0,9,     -999.0,9,     -999.0,9
33RR20220430,        P02,      21,          1,          1,          1,2,20220509,       1043,    29.9997,   141.3905,       3940,  3994.9,2,   1.4492,2,  34.6838,2,  34.6828,2,    152.8,2,   153.0,2,  149.36,2,   36.09,2,    0.00,2,    2.46,2,-999.000,9,-999.000,9,-999.0000,9,  2321.7,2,  2413.9,2,   7.5653,2,    24.94,2, -999.00,1,  -999.0,1, -999.00,1, -999.00,1,     -999.0,9, 20220509,     1043,  29.9998, 141.3905,     1.4495,2,     -999.0,9,     -999.0,9,     -999.0,9,     -999.0,9,     0.0122,1,     4.7033,1,     -999.0,9,     -999.0,9,     -999.0,9