BOTTLE,20230801CCHSIOCBG
EXPOCODE,SECT_ID,STNNBR,CASTNO,SAMPNO,BTLNBR,BTLNBR_FLAG_W,DATE,TIME,LATITUDE,LONGITUDE,DEPTH,CTDPRS,CTDPRS_FLAG_W,CTDTMP,CTDTMP_FLAG_W,CTDSAL,CTDSAL_FLAG_W,SALNTY,SALNTY_FLAG_W,CTDOXY,CTDOXY_FLAG_W,OXYGEN,OXYGEN_FLAG_W,SILCAT,SILCAT_FLAG_W,NITRAT,NITRAT_FLAG_W,NITRIT,NITRIT_FLAG_W,PHSPHT,PHSPHT_FLAG_W,CFC-11,CFC-11_FLAG_W,CFC-12,CFC-12_FLAG_W,SF6,SF6_FLAG_W,TCARBN,TCARBN_FLAG_W,ALKALI,ALKALI_FLAG_W,PH_TOT,PH_TOT_FLAG_W,PH_TMP,PH_TMP_FLAG_W,DELC13,DELC13_FLAG_W,DELC14,DELC14_FLAG_W,DOC,DOC_FLAG_W,TDN,TDN_FLAG_W,N2O,N2O_FLAG_W,BTL_DATE,BTL_TIME,BTL_LAT,BTL_LON,REFTMP,REFTMP_FLAG_W,POC,POC_FLAG_W,PON,PON_FLAG_W,POP,POP_FLAG_W,PCOD,PCOD_FLAG_W,CTDFLUOR,CTDFLUOR_FLAG_W,CTDXMISS,CTDXMISS_FLAG_W,HPLC,HPLC_FLAG_W,DNA,DNA_FLAG_W,FCM,FCM_FLAG_W
,,,,,,,,,,,METERS,DBAR,,ITS-90,,PSS-78,,PSS-78,,UMOL/KG,,UMOL/KG,,UMOL/KG,,UMOL/KG,,UMOL/KG,,UMOL/KG,,PMOL/KG,,PMOL/KG,,FMOL/KG,,UMOL/KG,,UMOL/KG,,,,DEG C,,/MILLE,,/MILLE,,UMOL/KG,,UMOL/KG,,NMOL/KG,,,,,,ITS-90,,UG/L,,UG/L,,UG/L,,UG/L,,VOLTS,,VOLTS,,,,,,,
33RR20220430,        P02,      98,          2,         36,         36,2,20220602,       1549,    30.0000,  -172.1759,       5427,     3.4,2,  22.5285,2,  35.1379,2,  35.1285,2,    221.2,2,   219.8,2,    1.37,2,    0.01,2,    0.00,2,    0.00,2,   1.798,2,   1.082,2,   2.0258,2,  2027.1,2,  2306.0,2,   8.0072,2,    25.00,2, -999.00,9,  -999.0,9, -999.00,9, -999.00,9,        7.3,2, 20220602,     1756,  30.0000,-172.1759,    22.4251,2,     -999.0,9,     -999.0,9,     -999.0,9,     -999.0,9,     0.0135,1,     4.6380,1,     -999.0,9,     -999.0,9,     -999.0,9
33RR20220430,        P02,      98,          2,         35,         35,2,20220602,       1549,    30.0000,  -172.1759,       5427,    21.3,2,  21.4979,2,  35.1066,2,  35.0955,2,    223.0,2,   224.6,2,    1.56,2,    0.00,2,    0.00,2,    0.00,2,   1.859,2,   1.109,2,   2.1102,2,  2029.6,6,  2303.9,2,   7.9997,2,    25.01,2, -999.00,9,  -999.0,9, -999.00,9, -999.00,9,        7.5,2, 20220602,     1755,  30.0001,-172.1759,    21.5022,2,     -999.0,9,     -999.0,9,     -999.0,9,     -999.0,9,     0.0135,1,     4.6406,1,     -999.0,9,     -999.0,9,     -999.0,9
33RR20220430,        P02,      98,          2,         34,         34,2,20220602,       1549,    30.0000,  -172.1759,       5427,    40.8,2,  20.5018,2,  35.1044,2,  35.0905,2,    230.2,2,   230.1,2,    1.76,2,    0.00,2,    0.00,2,    0.00,2,   1.886,2,   1.206,2,   2.2215,2,  2029.3,2,  2303.1,2,   7.9973,2,    25.00,2, -999.00,9,  -999.0,9, -999.00,9, -999.00,9,        7.8,2, 20220602,     1753,  30.0000,-172.1759,    20.5079,2,     -999.0,9,     -999.0,9,     -999.0,9,     -999.0,9,     0.0143,1,     4.6452,1,     -999.0,9,     -999.0,9,     -999.0,9
33RR20220430,        P02,      98,          2,         33,         33,2,20220602,       1549,    30.0000,  -172.1759,       5427,    65.9,2,  19.2287,2,  34.9905,2,  34.9762,2,    236.3,2,   236.6,2,    2.05,2,    0.00,2,    0.00,2,    0.01,2,   2.017,2,   1.231,2,   2.2217,2,  2031.3,2,  2295.8,2,   7.9875,2,    25.01,2, -999.00,9,  -999.0,9, -999.00,9, -999.00,9,        8.1,2, 20220602,     1751,  30.0000,-172.1759,    19.2303,2,     -999.0,9,     -999.0,9,     -999.0,9,     -999.0,9,     0.0159,1,     4.6489,1,     -999.0,9,     -999.0,9,     -999.0,9
33RR20220430,        P02,      98,          2,         32,         32,2,20220602,       1549,    30.0000,  -172.1759,       5427,    91.4,2,  18.2519,2,  34.8729,2,  34.8605,2,    229.0,2,   228.6,2,    2.34,2,    0.21,2,    0.03,2,    0.06,2,   2.084,2,   1.219,2,   2.1920,2,  2038.4,2,  2287.7,2,   7.9641,2,    25.01,2, -999.00,9,  -999.0,9, -999.00,9, -999.00,9,        8.6,2, 20220602,     1750,  30.0000,-172.1759,    18.2552,2,     -999.0,9,     -999.0,9,     -999.0,9,     -999.0,9,     0.0489,1,     4.6295,1,     -999.0,9,     -999.0,9,     -999.0,9
33RR20220430,        P02,      98,          2,         31,         31,2,20220602,       1549,    30.0000,  -172.1759,       5427,   136.4,2,  16.8365,2,  34.6560,2,  34.6455,2,    234.5,2,   234.1,2,    3.03,2,    1.28,2,    0.08,2,    0.14,2,   2.160,2,   1.312,2,   2.4383,2,  2036.5,2,  2273.8,2,   7.9425,2,    25.01,2, -999.00,9,  -999.0,9, -999.00,9, -999.00,9,        9.0,2, 20220602,     1748,  30.0000,-172.1759,    16.8381,2,     -999.0,9,     -999.0,9,     -999.0,9,     -999.0,9,     0.0244,1,     4.6646,1,     -999.0,9,     -999.0,9,     -999.0,9
33RR20220430,        P02,      98,          2,         30,         30,2,20220602,       1549,    30.0000,  -172.1759,       5427,   186.4,2,  15.9264,2,  34.5841,2,  34.5698,2,    228.6,2,   227.6,2,    4.59,2,    3.67,2,    0.02,2,    0.27,2,   2.259,2,   1.325,2,   2.3766,2,  -999.0,9,  -999.0,9,-999.0000,9,  -999.00,9, -999.00,9,  -999.0,9, -999.00,9, -999.00,9,       10.0,2, 20220602,     1746,  30.0000,-172.1759,    15.9299,2,     -999.0,9,     -999.0,9,     -999.0,9,     -999.0,9,     0.0147,1,     4.6765,1,     -999.0,9,     -999.0,9,     -999.0,9
33RR20220430,        P02,      98,          2,         29,         29,2,20220602,       1549,    30.0000,  -172.1759,       5427,   236.8,2,  14.7088,2,  34.5131,2,  34.5001,2,    210.4,2,   211.5,2,    7.42,2,    7.24,2,    0.00,2,    0.53,2,   2.465,2,   1.430,2,   2.1952,2,  2070.7,2,  2267.8,2,   7.8584,2,    25.00,2, -999.00,9,  -999.0,9, -999.00,9, -999.00,9,       12.6,2, 20220602,     1744,  30.0000,-172.1759,    14.7011,2,     -999.0,9,     -999.0,9,     -999.0,9,     -999.0,9,     0.0122,1,     4.6860,1,     -999.0,9,     -999.0,9,     -999.0,9
33RR20220430,        P02,      98,          2,         28,         28,2,20220602,       1549,    30.0000,  -172.1759,       5427,   287.3,2,  13.5806,2,  34.4260,2,  34.4163,2,    210.9,2,   211.6,2,    9.48,2,    9.05,2,    0.00,2,    0.64,2,-999.000,5,-999.000,5,-999.0000,5,  -999.0,9,  -999.0,9,-999.0000,9,  -999.00,9, -999.00,9,  -999.0,9, -999.00,9, -999.00,9,     -999.0,5, 20220602,     1742,  30.0000,-172.1759,    13.5788,2,     -999.0,9,     -999.0,9,     -999.0,9,     -999.0,9,     0.0122,1,     4.6880,1,     -999.0,9,     -999.0,9,     -999.0,9
33RR20220430,        P02,      98,          2,         27,         27,2,20220602,       1549,    30.0000,  -172.1759,       5427,   338.2,2,  12.4632,2,  34.3339,2,  34.3264,2,    212.7,2,   213.4,2,   12.02,2,   10.87,2,    0.00,2,    0.76,2,   2.629,6,   1.590,6,   2.1747,6,  2095.5,2,  2264.2,2,   7.8029,2,    25.01,2, -999.00,9,  -999.0,9, -999.00,9, -999.00,9,       14.7,6, 20220602,     1740,  30.0000,-172.1759,    12.4644,2,     -999.0,9,     -999.0,9,     -999.0,9,     -999.0,9,     0.0122,1,     4.6910,1,     -999.0,9,     -999.0,9,     -999.0,9
33RR20220430,        P02,      98,          2,         26,         26,2,20220602,       1549,    30.0000,  -172.1759,       5427,   388.5,2,  11.6575,2,  34.2714,2,  34.2674,2,    212.9,2,   213.8,2,   14.36,2,   12.39,2,    0.00,2,    0.88,2,   2.688,2,   1.676,2,   2.2189,2,  -999.0,9,  -999.0,9,-999.0000,9,  -999.00,9, -999.00,9,  -999.0,9, -999.00,9, -999.00,9,       15.5,2, 20220602,     1738,  30.0000,-172.1759,    11.6555,2,     -999.0,9,     -999.0,9,     -999.0,9,     -999.0,9,     0.0122,1,     4.6937,1,     -999.0,9,     -999.0,9,     -999.0,9
33RR20220430,        P02,      98,          2,         25,         25,2,20220602,       1549,    30.0000,  -172.1759,       5427,   469.6,2,   9.7757,2,  34.1261,2,  34.1189,2,    201.6,2,   201.9,2,   22.57,2,   17.12,2,    0.00,2,    1.20,2,   2.832,2,   1.752,2,   2.1806,2,  2131.3,2,  2264.9,2,   7.7120,2,    25.00,2, -999.00,9,  -999.0,9, -999.00,9, -999.00,9,       18.5,2, 20220602,     1736,  30.0000,-172.1759,     9.7753,2,     -999.0,9,     -999.0,9,     -999.0,9,     -999.0,9,     0.0122,1,     4.6954,1,     -999.0,9,     -999.0,9,     -999.0,9
33RR20220430,        P02,      98,          2,         24,         24,2,20220602,       1549,    30.0000,  -172.1759,       5427,   570.7,2,   7.6781,2,  34.0188,2,  34.0155,2,    161.1,2,   160.0,2,   40.95,2,   25.10,2,    0.00,2,    1.77,2,   2.562,2,   1.563,2,   1.5264,2,  2184.8,2,  2272.1,2,   7.5885,2,    25.01,2, -999.00,9,  -999.0,9, -999.00,9, -999.00,9,       25.4,2, 20220602,     1733,  30.0000,-172.1759,     7.6824,2,     -999.0,9,     -999.0,9,     -999.0,9,     -999.0,9,     0.0123,1,     4.6970,1,     -999.0,9,     -999.0,9,     -999.0,9
33RR20220430,        P02,      98,          2,         23,         23,2,20220602,       1549,    30.0000,  -172.1759,       5427,   672.1,2,   5.8227,2,  34.0050,2,  34.0057,2,    110.4,2,   110.6,2,   64.99,2,   32.80,2,    0.00,2,    2.35,2,   1.950,2,   1.220,2,   0.8343,2,  2244.8,2,  2290.1,2,   7.4607,2,    25.01,2, -999.00,9,  -999.0,9, -999.00,9, -999.00,9,       34.4,2, 20220602,     1730,  30.0000,-172.1759,     5.8275,2,     -999.0,9,     -999.0,9,     -999.0,9,     -999.0,9,     0.0134,1,     4.6983,1,     -999.0,9,     -999.0,9,     -999.0,9
33RR20220430,        P02,      98,          2,         22,         22,2,20220602,       1549,    30.0000,  -172.1759,       5427,   773.3,2,   4.7182,2,  34.0869,2,  34.0882,2,     61.8,2,    61.8,2,   89.02,2,   38.73,2,    0.00,2,    2.78,2,   1.079,2,   0.625,2,   0.3025,2,  -999.0,9,  -999.0,9,-999.0000,9,  -999.00,9, -999.00,9,  -999.0,9, -999.00,9, -999.00,9,       44.7,2, 20220602,     1728,  30.0000,-172.1759,     4.7158,2,     -999.0,9,     -999.0,9,     -999.0,9,     -999.0,9,     0.0133,1,     4.6988,1,     -999.0,9,     -999.0,9,     -999.0,9
33RR20220430,        P02,      98,          2,         21,         21,2,20220602,       1549,    30.0000,  -172.1759,       5427,   873.3,2,   4.1478,2,  34.1837,2,  34.1834,2,     34.6,3,    35.9,2,  106.02,2,   41.43,2,    0.00,2,    2.99,2,   0.486,2,   0.287,2,   0.0000,2,  2332.3,2,  2332.6,2,   7.3204,2,    24.99,2, -999.00,9,  -999.0,9, -999.00,9, -999.00,9,       51.6,2, 20220602,     1725,  30.0000,-172.1759,     4.1509,2,     -999.0,9,     -999.0,9,     -999.0,9,     -999.0,9,     0.0134,1,     4.6988,1,     -999.0,9,     -999.0,9,     -999.0,9
33RR20220430,        P02,      98,          2,         20,         20,2,20220602,       1549,    30.0000,  -172.1759,       5427,   973.8,2,   3.8027,2,  34.2630,2,  34.2648,2,     21.2,3,    21.8,2,  118.13,2,   42.86,2,    0.00,2,    3.11,2,   0.172,2,   0.110,2,   0.0000,2,  -999.0,9,  -999.0,9,-999.0000,9,  -999.00,9, -999.00,9,  -999.0,9, -999.00,9, -999.00,9,       56.1,2, 20220602,     1722,  30.0000,-172.1758,     3.8029,2,     -999.0,9,     -999.0,9,     -999.0,9,     -999.0,9,     0.0134,1,     4.6994,1,     -999.0,9,     -999.0,9,     -999.0,9
33RR20220430,        P02,      98,          2,         19,         19,2,20220602,       1549,    30.0000,  -172.1759,       5427,  1075.5,2,   3.5162,2,  34.3375,2,  34.3384,2,     16.8,3,    16.0,2,  127.79,2,   43.33,2,    0.00,2,    3.16,2,   0.059,2,   0.037,2,   0.0000,2,  2369.7,2,  2361.7,2,   7.3034,2,    25.01,2, -999.00,9,  -999.0,9, -999.00,9, -999.00,9,       58.3,2, 20220602,     1719,  30.0000,-172.1759,     3.5168,2,     -999.0,9,     -999.0,9,     -999.0,9,     -999.0,9,     0.0134,1,     4.6995,1,     -999.0,9,     -999.0,9,     -999.0,9
33RR20220430,        P02,      98,          2,         18,         18,2,20220602,       1549,    30.0000,  -172.1759,       5427,  1177.7,2,   3.2272,2,  34.4045,2,  34.4006,2,     17.9,2,    17.8,2,  136.28,2,   43.48,2,    0.00,2,    3.17,2,   0.025,2,   0.000,2,   0.0000,2,  2377.0,2,  2373.2,2,   7.3122,2,    25.01,2, -999.00,9,  -999.0,9, -999.00,9, -999.00,9,       58.7,2, 20220602,     1716,  30.0000,-172.1759,     3.2366,2,     -999.0,9,     -999.0,9,     -999.0,9,     -999.0,9,     0.0134,1,     4.6992,1,     -999.0,9,     -999.0,9,     -999.0,9
33RR20220430,        P02,      98,          2,         17,         17,2,20220602,       1549,    30.0000,  -172.1759,       5427,  1279.6,2,   3.0091,2,  34.4542,3,  34.4597,2,     24.8,3,    24.5,2,  143.41,2,   43.25,2,    0.00,2,    3.16,2,   0.012,2,   0.000,2,   0.0000,2,  2380.3,2,  2385.4,2,   7.3323,2,    25.00,2, -999.00,9,  -999.0,9, -999.00,9, -999.00,9,       54.0,2, 20220602,     1714,  30.0000,-172.1759,     3.0029,2,     -999.0,9,     -999.0,9,     -999.0,9,     -999.0,9,     0.0134,1,     4.7001,1,     -999.0,9,     -999.0,9,     -999.0,9
33RR20220430,        P02,      98,          2,         16,         16,4,20220602,       1549,    30.0000,  -172.1759,       5427,  1380.7,3,   2.8532,3,  34.4966,3,  34.6464,3,     35.6,3,   208.3,3,   15.73,3,    7.48,3,    0.02,3,    0.57,3,-999.000,9,-999.000,9,-999.0000,9,  -999.0,9,  -999.0,9,-999.0000,9,  -999.00,9, -999.00,9,  -999.0,9, -999.00,9, -999.00,9,     -999.0,9, 20220602,     1711,  30.0000,-172.1759,     2.8535,3,     -999.0,9,     -999.0,9,     -999.0,9,     -999.0,9,     0.0134,1,     4.7006,1,     -999.0,9,     -999.0,9,     -999.0,9
33RR20220430,        P02,      98,          2,         15,         15,2,20220602,       1549,    30.0000,  -172.1759,       5427,  1582.9,2,   2.4864,2,  34.5493,2,  34.5486,2,     53.9,2,    53.5,2,  152.58,2,   42.27,2,    0.00,2,    3.01,2,   0.007,2,   0.000,2,   0.0000,2,  2377.1,2,  2400.3,2,   7.3948,2,    25.00,2, -999.00,9,  -999.0,9, -999.00,9, -999.00,9,       40.8,2, 20220602,     1707,  30.0000,-172.1759,     2.4881,2,     -999.0,9,     -999.0,9,     -999.0,9,     -999.0,9,     0.0134,1,     4.7024,1,     -999.0,9,     -999.0,9,     -999.0,9
33RR20220430,        P02,      98,          2,         14,         14,2,20220602,       1549,    30.0000,  -172.1759,       5427,  1754.7,2,   2.2362,2,  34.5772,2,  34.5792,2,     64.8,2,    65.4,2,  158.15,2,   40.98,2,    0.00,2,    2.95,2,   0.006,2,   0.000,2,   0.0000,2,  2374.3,2,  2405.7,2,   7.4165,2,    25.00,2, -999.00,9,  -999.0,9, -999.00,9, -999.00,9,       36.6,2, 20220602,     1703,  30.0000,-172.1758,     2.2347,2,     -999.0,9,     -999.0,9,     -999.0,9,     -999.0,9,     0.0134,1,     4.7028,1,     -999.0,9,     -999.0,9,     -999.0,9
33RR20220430,        P02,      98,          2,         13,         13,2,20220602,       1549,    30.0000,  -172.1759,       5427,  1957.9,2,   2.0247,2,  34.6012,2,  34.6018,2,     76.4,2,    76.0,2,  161.95,2,   40.44,2,    0.00,2,    2.89,2,   0.006,2,   0.000,2,   0.0000,2,  2372.4,2,  2412.7,2,   7.4384,2,    25.00,2, -999.00,9,  -999.0,9, -999.00,9, -999.00,9,       33.8,2, 20220602,     1659,  30.0000,-172.1759,     2.0246,2,     -999.0,9,     -999.0,9,     -999.0,9,     -999.0,9,     0.0134,1,     4.7033,1,     -999.0,9,     -999.0,9,     -999.0,9
33RR20220430,        P02,      98,          2,         12,         12,2,20220602,       1549,    30.0000,  -172.1759,       5427,  2193.3,2,   1.8344,2,  34.6234,2,  34.6242,2,     93.0,2,    93.0,2,  162.64,2,   39.44,2,    0.00,2,    2.81,2,-999.000,9,-999.000,9,-999.0000,9,  -999.0,9,  -999.0,9,-999.0000,9,  -999.00,9, -999.00,9,  -999.0,9, -999.00,9, -999.00,9,     -999.0,9, 20220602,     1654,  30.0000,-172.1759,     1.8343,2,     -999.0,9,     -999.0,9,     -999.0,9,     -999.0,9,     0.0130,1,     4.7037,1,     -999.0,9,     -999.0,9,     -999.0,9
33RR20220430,        P02,      98,          2,         11,         11,2,20220602,       1549,    30.0000,  -172.1759,       5427,  2448.8,2,   1.7134,2,  34.6385,2,  34.6400,2,    104.3,2,   104.7,2,  162.63,2,   38.78,2,    0.00,2,    2.75,2,   0.004,2,   0.000,2,   0.0000,2,  2358.1,2,  2417.1,2,   7.4906,2,    25.00,2, -999.00,9,  -999.0,9, -999.00,9, -999.00,9,       28.6,2, 20220602,     1649,  30.0000,-172.1758,     1.7132,2,     -999.0,9,     -999.0,9,     -999.0,9,     -999.0,9,     0.0122,1,     4.7043,1,     -999.0,9,     -999.0,9,     -999.0,9
33RR20220430,        P02,      98,          2,         10,         10,2,20220602,       1549,    30.0000,  -172.1759,       5427,  2703.0,2,   1.6300,2,  34.6502,2,  34.6515,2,    112.2,2,   112.0,2,  164.49,2,   38.32,2,    0.00,2,    2.72,2,-999.000,9,-999.000,9,-999.0000,9,  -999.0,9,  -999.0,9,-999.0000,9,  -999.00,9, -999.00,9,  -999.0,9, -999.00,9, -999.00,9,     -999.0,9, 20220602,     1644,  30.0000,-172.1759,     1.6297,2,     -999.0,9,     -999.0,9,     -999.0,9,     -999.0,9,     0.0122,1,     4.7044,1,     -999.0,9,     -999.0,9,     -999.0,9
33RR20220430,        P02,      98,          2,          9,          9,2,20220602,       1549,    30.0000,  -172.1759,       5427,  2959.1,2,   1.5647,2,  34.6594,2,  34.6604,2,    123.2,2,   123.6,2,  160.87,2,   37.79,2,    0.00,2,    2.66,2,   0.003,2,   0.000,2,   0.0000,2,  2346.5,2,  2418.5,2,   7.5258,2,    25.02,2, -999.00,9,  -999.0,9, -999.00,9, -999.00,9,       25.6,2, 20220602,     1638,  30.0000,-172.1758,     1.5645,2,     -999.0,9,     -999.0,9,     -999.0,9,     -999.0,9,     0.0122,1,     4.7055,1,     -999.0,9,     -999.0,9,     -999.0,9
33RR20220430,        P02,      98,          2,          8,          8,2,20220602,       1549,    30.0000,  -172.1759,       5427,  3248.6,2,   1.5146,2,  34.6679,2,-999.0000,5,    130.3,2,   130.6,2,  161.46,2,   37.38,2,    0.00,2,    2.63,2,-999.000,9,-999.000,9,-999.0000,9,  -999.0,9,  -999.0,9,-999.0000,9,  -999.00,9, -999.00,9,  -999.0,9, -999.00,9, -999.00,9,     -999.0,9, 20220602,     1633,  30.0000,-172.1759,     1.5145,2,     -999.0,9,     -999.0,9,     -999.0,9,     -999.0,9,     0.0122,1,     4.7046,1,     -999.0,9,     -999.0,9,     -999.0,9
33RR20220430,        P02,      98,          2,          7,          7,2,20220602,       1549,    30.0000,  -172.1759,       5427,  3556.3,2,   1.4795,2,  34.6748,2,  34.6736,2,    139.4,2,   138.9,2,  158.62,2,   36.98,2,    0.00,2,    2.57,2,   0.005,2,   0.000,2,   0.0000,2,  2335.8,2,  2418.6,2,   7.5544,2,    24.99,2, -999.00,9,  -999.0,9, -999.00,9, -999.00,9,       23.3,2, 20220602,     1627,  30.0000,-172.1758,     1.4793,2,     -999.0,9,     -999.0,9,     -999.0,9,     -999.0,9,     0.0131,1,     4.7054,1,     -999.0,9,     -999.0,9,     -999.0,9
33RR20220430,        P02,      98,          2,          6,          6,2,20220602,       1549,    30.0000,  -172.1759,       5427,  3862.0,2,   1.4736,2,  34.6787,2,  34.6804,2,    144.9,2,   144.9,2,  156.77,2,   36.52,2,    0.00,2,    2.55,2,-999.000,9,-999.000,9,-999.0000,9,  -999.0,9,  -999.0,9,-999.0000,9,  -999.00,9, -999.00,9,  -999.0,9, -999.00,9, -999.00,9,     -999.0,9, 20220602,     1621,  30.0000,-172.1758,     1.4735,2,     -999.0,9,     -999.0,9,     -999.0,9,     -999.0,9,     0.0124,1,     4.7052,1,     -999.0,9,     -999.0,9,     -999.0,9
33RR20220430,        P02,      98,          2,          5,          5,2,20220602,       1549,    30.0000,  -172.1759,       5427,  4170.3,2,   1.4719,2,  34.6827,2,  34.6832,2,    149.4,2,   149.8,2,  156.18,2,   36.25,2,    0.00,2,    2.52,2,   0.005,2,   0.000,2,   0.0000,2,  2328.0,2,  2418.2,2,   7.5718,2,    25.01,2, -999.00,9,  -999.0,9, -999.00,9, -999.00,9,       22.3,2, 20220602,     1615,  30.0000,-172.1758,     1.4717,2,     -999.0,9,     -999.0,9,     -999.0,9,     -999.0,9,     0.0122,1,     4.7055,1,     -999.0,9,     -999.0,9,     -999.0,9
33RR20220430,        P02,      98,          2,          4,          4,2,20220602,       1549,    30.0000,  -172.1759,       5427,  4477.9,2,   1.4901,2,  34.6846,2,  34.6851,2,    151.5,2,   151.4,2,  155.89,2,   36.08,2,    0.00,2,    2.51,2,-999.000,9,-999.000,9,-999.0000,9,  -999.0,9,  -999.0,9,-999.0000,9,  -999.00,9, -999.00,9,  -999.0,9, -999.00,9, -999.00,9,     -999.0,9, 20220602,     1609,  30.0000,-172.1759,     1.4900,2,     -999.0,9,     -999.0,9,     -999.0,9,     -999.0,9,     0.0122,1,     4.7056,1,     -999.0,9,     -999.0,9,     -999.0,9