BOTTLE,20230801CCHSIOCBG
EXPOCODE,SECT_ID,STNNBR,CASTNO,SAMPNO,BTLNBR,BTLNBR_FLAG_W,DATE,TIME,LATITUDE,LONGITUDE,DEPTH,CTDPRS,CTDPRS_FLAG_W,CTDTMP,CTDTMP_FLAG_W,CTDSAL,CTDSAL_FLAG_W,SALNTY,SALNTY_FLAG_W,CTDOXY,CTDOXY_FLAG_W,OXYGEN,OXYGEN_FLAG_W,SILCAT,SILCAT_FLAG_W,NITRAT,NITRAT_FLAG_W,NITRIT,NITRIT_FLAG_W,PHSPHT,PHSPHT_FLAG_W,CFC-11,CFC-11_FLAG_W,CFC-12,CFC-12_FLAG_W,SF6,SF6_FLAG_W,TCARBN,TCARBN_FLAG_W,ALKALI,ALKALI_FLAG_W,PH_TOT,PH_TOT_FLAG_W,PH_TMP,PH_TMP_FLAG_W,DELC13,DELC13_FLAG_W,DELC14,DELC14_FLAG_W,DOC,DOC_FLAG_W,TDN,TDN_FLAG_W,N2O,N2O_FLAG_W,BTL_DATE,BTL_TIME,BTL_LAT,BTL_LON,REFTMP,REFTMP_FLAG_W,POC,POC_FLAG_W,PON,PON_FLAG_W,POP,POP_FLAG_W,PCOD,PCOD_FLAG_W,CTDFLUOR,CTDFLUOR_FLAG_W,CTDXMISS,CTDXMISS_FLAG_W,HPLC,HPLC_FLAG_W,DNA,DNA_FLAG_W,FCM,FCM_FLAG_W
,,,,,,,,,,,METERS,DBAR,,ITS-90,,PSS-78,,PSS-78,,UMOL/KG,,UMOL/KG,,UMOL/KG,,UMOL/KG,,UMOL/KG,,UMOL/KG,,PMOL/KG,,PMOL/KG,,FMOL/KG,,UMOL/KG,,UMOL/KG,,,,DEG C,,/MILLE,,/MILLE,,UMOL/KG,,UMOL/KG,,NMOL/KG,,,,,,ITS-90,,UG/L,,UG/L,,UG/L,,UG/L,,VOLTS,,VOLTS,,,,,,,
33RR20220430,        P02,      15,          1,          3,          3,2,20220507,       2150,    30.0015,   137.1691,       4345,  3961.9,2,   1.5390,2,  34.6811,2,  34.6796,2,    153.8,2,   153.9,2,  141.35,2,   35.73,2,    0.00,2,    2.46,2,-999.000,9,-999.000,9,-999.0000,9,  2321.7,2,  2411.9,2,   7.5800,2,    24.99,2, -999.00,9,  -999.0,9, -999.00,9, -999.00,9,     -999.0,9, 20220507,     2159,  30.0013, 137.1692,     1.5390,2,     -999.0,9,     -999.0,9,     -999.0,9,     -999.0,9,     0.0122,1,     4.7020,1,     -999.0,9,     -999.0,9,     -999.0,9
33RR20220430,        P02,      15,          1,          2,          2,2,20220507,       2150,    30.0015,   137.1691,       4345,  4188.2,2,   1.5522,2,  34.6823,2,  34.6812,2,    155.0,2,   155.4,2,  141.25,2,   35.67,2,    0.00,2,    2.47,2,   0.008,2,   0.008,2,   0.0000,2,  2320.7,6,  2411.9,2,   7.5787,2,    25.02,2, -999.00,9,  -999.0,9, -999.00,9, -999.00,9,       23.8,2, 20220507,     2155,  30.0014, 137.1692,     1.5521,2,     -999.0,9,     -999.0,9,     -999.0,9,     -999.0,9,     0.0126,1,     4.7026,1,     -999.0,9,     -999.0,9,     -999.0,9
33RR20220430,        P02,      15,          1,          1,          1,2,20220507,       2150,    30.0015,   137.1691,       4345,  4409.5,2,   1.5723,2,  34.6827,2,  34.6818,2,    155.6,2,   155.3,2,  141.06,2,   35.58,2,    0.00,2,    2.46,2,   0.009,2,   0.005,2,   0.0000,2,  2320.5,2,  2410.8,2,   7.5792,2,    25.04,2, -999.00,9,  -999.0,9, -999.00,9, -999.00,9,       24.2,2, 20220507,     2150,  30.0014, 137.1692,     1.5720,2,     -999.0,9,     -999.0,9,     -999.0,9,     -999.0,9,     0.0130,1,     4.7041,1,     -999.0,9,     -999.0,9,     -999.0,9