BOTTLE,20230801CCHSIOCBG
EXPOCODE,SECT_ID,STNNBR,CASTNO,SAMPNO,BTLNBR,BTLNBR_FLAG_W,DATE,TIME,LATITUDE,LONGITUDE,DEPTH,CTDPRS,CTDPRS_FLAG_W,CTDTMP,CTDTMP_FLAG_W,CTDSAL,CTDSAL_FLAG_W,SALNTY,SALNTY_FLAG_W,CTDOXY,CTDOXY_FLAG_W,OXYGEN,OXYGEN_FLAG_W,SILCAT,SILCAT_FLAG_W,NITRAT,NITRAT_FLAG_W,NITRIT,NITRIT_FLAG_W,PHSPHT,PHSPHT_FLAG_W,CFC-11,CFC-11_FLAG_W,CFC-12,CFC-12_FLAG_W,SF6,SF6_FLAG_W,TCARBN,TCARBN_FLAG_W,ALKALI,ALKALI_FLAG_W,PH_TOT,PH_TOT_FLAG_W,PH_TMP,PH_TMP_FLAG_W,DELC13,DELC13_FLAG_W,DELC14,DELC14_FLAG_W,DOC,DOC_FLAG_W,TDN,TDN_FLAG_W,N2O,N2O_FLAG_W,BTL_DATE,BTL_TIME,BTL_LAT,BTL_LON,REFTMP,REFTMP_FLAG_W,POC,POC_FLAG_W,PON,PON_FLAG_W,POP,POP_FLAG_W,PCOD,PCOD_FLAG_W,CTDFLUOR,CTDFLUOR_FLAG_W,CTDXMISS,CTDXMISS_FLAG_W,HPLC,HPLC_FLAG_W,DNA,DNA_FLAG_W,FCM,FCM_FLAG_W
,,,,,,,,,,,METERS,DBAR,,ITS-90,,PSS-78,,PSS-78,,UMOL/KG,,UMOL/KG,,UMOL/KG,,UMOL/KG,,UMOL/KG,,UMOL/KG,,PMOL/KG,,PMOL/KG,,FMOL/KG,,UMOL/KG,,UMOL/KG,,,,DEG C,,/MILLE,,/MILLE,,UMOL/KG,,UMOL/KG,,NMOL/KG,,,,,,ITS-90,,UG/L,,UG/L,,UG/L,,UG/L,,VOLTS,,VOLTS,,,,,,,
33RR20220430,        P02,      32,          3,          3,          3,2,20220513,       0638,    30.0002,   149.2354,       6185,  5199.0,2,   1.5186,2,  34.6893,2,  34.6903,2,    164.6,2,   164.6,2,  141.15,2,   34.65,2,    0.00,2,    2.41,2,-999.000,9,-999.000,9,-999.0000,9,  2314.0,2,  2408.7,2,   7.5887,2,    25.02,2, -999.00,9,  -999.0,9, -999.00,1, -999.00,1,     -999.0,9, 20220513,      653,  30.0003, 149.2354,     1.5194,2,     -999.0,9,     -999.0,9,     -999.0,9,     -999.0,9,     0.0122,1,     4.7081,1,     -999.0,9,     -999.0,9,     -999.0,9
33RR20220430,        P02,      32,          3,          2,          2,2,20220513,       0638,    30.0002,   149.2354,       6185,  5611.3,2,   1.5589,2,  34.6920,2,  34.6910,2,    167.4,2,   167.6,2,  139.20,2,   34.49,2,    0.00,2,    2.40,2,   0.008,2,   0.000,2,   0.0000,2,  -999.0,9,  -999.0,9,-999.0000,9,  -999.00,9, -999.00,9,  -999.0,9, -999.00,9, -999.00,9,       22.7,2, 20220513,      645,  30.0003, 149.2354,     1.5586,2,     -999.0,9,     -999.0,9,     -999.0,9,     -999.0,9,     0.0122,1,     4.7067,1,     -999.0,9,     -999.0,9,     -999.0,9
33RR20220430,        P02,      32,          3,          1,          1,2,20220513,       0638,    30.0002,   149.2354,       6185,  5972.1,2,   1.6038,2,  34.6923,2,  34.6922,2,    168.1,2,   168.0,2,  138.42,2,   34.64,2,    0.00,2,    2.39,2,-999.000,9,-999.000,9,-999.0000,9,  2309.2,6,  2407.1,2,   7.5925,2,    25.03,2, -999.00,9,  -999.0,9, -999.00,1, -999.00,1,     -999.0,9, 20220513,      638,  30.0003, 149.2354,     1.6035,2,     -999.0,9,     -999.0,9,     -999.0,9,     -999.0,9,     0.0122,1,     4.7055,1,     -999.0,9,     -999.0,9,     -999.0,9