BOTTLE,20230801CCHSIOCBG
EXPOCODE,SECT_ID,STNNBR,CASTNO,SAMPNO,BTLNBR,BTLNBR_FLAG_W,DATE,TIME,LATITUDE,LONGITUDE,DEPTH,CTDPRS,CTDPRS_FLAG_W,CTDTMP,CTDTMP_FLAG_W,CTDSAL,CTDSAL_FLAG_W,SALNTY,SALNTY_FLAG_W,CTDOXY,CTDOXY_FLAG_W,OXYGEN,OXYGEN_FLAG_W,SILCAT,SILCAT_FLAG_W,NITRAT,NITRAT_FLAG_W,NITRIT,NITRIT_FLAG_W,PHSPHT,PHSPHT_FLAG_W,CFC-11,CFC-11_FLAG_W,CFC-12,CFC-12_FLAG_W,SF6,SF6_FLAG_W,TCARBN,TCARBN_FLAG_W,ALKALI,ALKALI_FLAG_W,PH_TOT,PH_TOT_FLAG_W,PH_TMP,PH_TMP_FLAG_W,DELC13,DELC13_FLAG_W,DELC14,DELC14_FLAG_W,DOC,DOC_FLAG_W,TDN,TDN_FLAG_W,N2O,N2O_FLAG_W,BTL_DATE,BTL_TIME,BTL_LAT,BTL_LON,REFTMP,REFTMP_FLAG_W,POC,POC_FLAG_W,PON,PON_FLAG_W,POP,POP_FLAG_W,PCOD,PCOD_FLAG_W,CTDFLUOR,CTDFLUOR_FLAG_W,CTDXMISS,CTDXMISS_FLAG_W,HPLC,HPLC_FLAG_W,DNA,DNA_FLAG_W,FCM,FCM_FLAG_W
,,,,,,,,,,,METERS,DBAR,,ITS-90,,PSS-78,,PSS-78,,UMOL/KG,,UMOL/KG,,UMOL/KG,,UMOL/KG,,UMOL/KG,,UMOL/KG,,PMOL/KG,,PMOL/KG,,FMOL/KG,,UMOL/KG,,UMOL/KG,,,,DEG C,,/MILLE,,/MILLE,,UMOL/KG,,UMOL/KG,,NMOL/KG,,,,,,ITS-90,,UG/L,,UG/L,,UG/L,,UG/L,,VOLTS,,VOLTS,,,,,,,
33RR20220430,        P02,     103,          1,          3,          3,2,20220604,       0306,    30.0003,  -169.2902,       5476,  5098.5,2,   1.5356,2,  34.6873,2,  34.6857,2,    156.7,2,   156.9,2,  149.94,2,   35.62,2,    0.00,2,    2.47,2,   0.006,2,   0.000,2,   0.0000,2,  2323.1,2,  2416.2,2,   7.5841,2,    24.99,2, -999.00,9,  -999.0,9, -999.00,1, -999.00,1,       21.4,2, 20220604,      316,  30.0004,-169.2903,     1.5357,2,     -999.0,9,     -999.0,9,     -999.0,9,     -999.0,9,     0.0122,1,     4.7050,1,     -999.0,9,     -999.0,9,     -999.0,9
33RR20220430,        P02,     103,          1,          2,          2,2,20220604,       0306,    30.0003,  -169.2902,       5476,  5354.7,2,   1.5517,2,  34.6886,2,  34.6889,2,    160.1,2,   160.1,2,  147.20,2,   35.57,2,    0.00,2,    2.44,2,-999.000,9,-999.000,9,-999.0000,9,  2318.2,2,  2414.0,2,   7.5874,2,    25.01,2, -999.00,9,  -999.0,9, -999.00,1, -999.00,1,     -999.0,9, 20220604,      311,  30.0003,-169.2903,     1.5517,2,     -999.0,9,     -999.0,9,     -999.0,9,     -999.0,9,     0.0122,1,     4.7034,1,     -999.0,9,     -999.0,9,     -999.0,9
33RR20220430,        P02,     103,          1,          1,          1,2,20220604,       0306,    30.0003,  -169.2902,       5476,  5578.1,2,   1.5738,2,  34.6891,2,  34.6883,2,    161.8,2,   161.5,2,  145.44,2,   35.38,2,    0.00,2,    2.42,2,   0.009,2,   0.000,2,   0.0000,2,  2319.0,6,  2411.0,2,   7.5871,2,    25.01,2, -999.00,9,  -999.0,9, -999.00,1, -999.00,1,       21.1,2, 20220604,      306,  30.0003,-169.2903,     1.5739,2,     -999.0,9,     -999.0,9,     -999.0,9,     -999.0,9,     0.0129,1,     4.7026,1,     -999.0,9,     -999.0,9,     -999.0,9
33RR20220430,        P02,     104,          1,          9,          9,2,20220604,       0828,    30.0001,  -168.7140,       5416,     3.9,2,  22.6034,2,  34.7042,2,-999.0000,9,    216.2,2,  -999.0,9, -999.00,9, -999.00,9, -999.00,9, -999.00,9,-999.000,9,-999.000,9,-999.0000,9,  -999.0,9,  -999.0,9,-999.0000,9,  -999.00,9, -999.00,9,  -999.0,9, -999.00,9, -999.00,9,     -999.0,9, 20220604,      855,  30.0001,-168.7140,    22.5838,2,     -999.0,9,     -999.0,9,     -999.0,9,     -999.0,9,     0.0142,1,     4.6086,1,     -999.0,1,     -999.0,9,     -999.0,1
33RR20220430,        P02,     104,          1,         14,         14,2,20220604,       0828,    30.0001,  -168.7140,       5416,     4.2,2,  22.8932,2,  34.6918,2,-999.0000,9,    215.7,2,  -999.0,9, -999.00,9, -999.00,9, -999.00,9, -999.00,9,-999.000,9,-999.000,9,-999.0000,9,  -999.0,9,  -999.0,9,-999.0000,9,  -999.00,9, -999.00,9,  -999.0,9, -999.00,9, -999.00,9,     -999.0,9, 20220604,      857,  30.0001,-168.7140,    22.7508,2,     -999.0,9,     -999.0,9,     -999.0,1,     -999.0,9,     0.0143,1,     4.6106,1,     -999.0,9,     -999.0,9,     -999.0,9
33RR20220430,        P02,     104,          1,         15,         15,2,20220604,       0828,    30.0001,  -168.7140,       5416,     4.2,2,  22.6814,2,  34.7048,2,-999.0000,9,    216.5,2,  -999.0,9, -999.00,9, -999.00,9, -999.00,9, -999.00,9,-999.000,9,-999.000,9,-999.0000,9,  -999.0,9,  -999.0,9,-999.0000,9,  -999.00,9, -999.00,9,  -999.0,9, -999.00,9, -999.00,9,     -999.0,9, 20220604,      857,  30.0001,-168.7140,    22.4953,3,     -999.0,9,     -999.0,9,     -999.0,1,     -999.0,9,     0.0147,1,     4.6112,1,     -999.0,9,     -999.0,9,     -999.0,9
33RR20220430,        P02,     104,          1,         19,         19,2,20220604,       0828,    30.0001,  -168.7140,       5416,     4.2,2,  22.9355,2,  34.6949,2,-999.0000,9,    215.6,2,  -999.0,9, -999.00,9, -999.00,9, -999.00,9, -999.00,9,-999.000,9,-999.000,9,-999.0000,9,  -999.0,9,  -999.0,9,-999.0000,9,  -999.00,9, -999.00,9,  -999.0,9, -999.00,9, -999.00,9,     -999.0,9, 20220604,      858,  30.0001,-168.7140,    22.9583,2,     -999.0,9,     -999.0,9,     -999.0,9,     -999.0,1,     0.0147,1,     4.6086,1,     -999.0,9,     -999.0,9,     -999.0,9
33RR20220430,        P02,     104,          1,         13,         13,2,20220604,       0828,    30.0001,  -168.7140,       5416,     4.2,2,  22.5513,2,  34.7048,2,-999.0000,9,    216.7,2,  -999.0,9, -999.00,9, -999.00,9, -999.00,9, -999.00,9,-999.000,9,-999.000,9,-999.0000,9,  -999.0,9,  -999.0,9,-999.0000,9,  -999.00,9, -999.00,9,  -999.0,9, -999.00,9, -999.00,9,     -999.0,9, 20220604,      856,  30.0001,-168.7140,    22.6049,2,     -999.0,1,     -999.0,1,     -999.0,9,     -999.0,9,     0.0144,1,     4.6104,1,     -999.0,9,     -999.0,9,     -999.0,9
33RR20220430,        P02,     104,          1,         17,         17,2,20220604,       0828,    30.0001,  -168.7140,       5416,     4.2,2,  22.5222,2,  34.7065,2,-999.0000,9,    216.4,2,  -999.0,9, -999.00,9, -999.00,9, -999.00,9, -999.00,9,-999.000,9,-999.000,9,-999.0000,9,  -999.0,9,  -999.0,9,-999.0000,9,  -999.00,9, -999.00,9,  -999.0,9, -999.00,9, -999.00,9,     -999.0,9, 20220604,      858,  30.0001,-168.7139,    22.4674,3,     -999.0,9,     -999.0,9,     -999.0,9,     -999.0,1,     0.0147,1,     4.6098,1,     -999.0,9,     -999.0,9,     -999.0,9
33RR20220430,        P02,     104,          1,         10,         10,2,20220604,       0828,    30.0001,  -168.7140,       5416,     4.3,2,  22.8295,2,  34.6991,2,-999.0000,9,    216.5,2,  -999.0,9, -999.00,9, -999.00,9, -999.00,9, -999.00,9,-999.000,9,-999.000,9,-999.0000,9,  -999.0,9,  -999.0,9,-999.0000,9,  -999.00,9, -999.00,9,  -999.0,9, -999.00,9, -999.00,9,     -999.0,9, 20220604,      855,  30.0001,-168.7140,    22.7913,2,     -999.0,9,     -999.0,9,     -999.0,9,     -999.0,9,     0.0135,1,     4.6105,1,     -999.0,9,     -999.0,1,     -999.0,9
33RR20220430,        P02,     104,          1,         12,         12,2,20220604,       0828,    30.0001,  -168.7140,       5416,     4.3,2,  22.8303,2,  34.7018,2,-999.0000,9,    215.5,2,  -999.0,9, -999.00,9, -999.00,9, -999.00,9, -999.00,9,-999.000,9,-999.000,9,-999.0000,9,  -999.0,9,  -999.0,9,-999.0000,9,  -999.00,9, -999.00,9,  -999.0,9, -999.00,9, -999.00,9,     -999.0,9, 20220604,      856,  30.0001,-168.7140,    22.7098,3,     -999.0,1,     -999.0,1,     -999.0,9,     -999.0,9,     0.0147,1,     4.6098,1,     -999.0,9,     -999.0,9,     -999.0,9
33RR20220430,        P02,     104,          1,         11,         11,2,20220604,       0828,    30.0001,  -168.7140,       5416,     4.4,2,  22.6576,2,  34.7028,2,-999.0000,9,    216.6,2,  -999.0,9, -999.00,9, -999.00,9, -999.00,9, -999.00,9,-999.000,9,-999.000,9,-999.0000,9,  -999.0,9,  -999.0,9,-999.0000,9,  -999.00,9, -999.00,9,  -999.0,9, -999.00,9, -999.00,9,     -999.0,9, 20220604,      856,  30.0001,-168.7139,    22.6522,2,     -999.0,1,     -999.0,1,     -999.0,9,     -999.0,9,     0.0147,1,     4.6108,1,     -999.0,9,     -999.0,9,     -999.0,9
33RR20220430,        P02,     104,          1,         18,         18,2,20220604,       0828,    30.0001,  -168.7140,       5416,     4.5,2,  22.2179,2,  34.7135,2,-999.0000,9,    217.5,2,  -999.0,9, -999.00,9, -999.00,9, -999.00,9, -999.00,9,-999.000,9,-999.000,9,-999.0000,9,  -999.0,9,  -999.0,9,-999.0000,9,  -999.00,9, -999.00,9,  -999.0,9, -999.00,9, -999.00,9,     -999.0,9, 20220604,      858,  30.0001,-168.7140,    22.7375,3,     -999.0,9,     -999.0,9,     -999.0,9,     -999.0,1,     0.0139,1,     4.6102,1,     -999.0,9,     -999.0,9,     -999.0,9
33RR20220430,        P02,     104,          1,         16,         16,2,20220604,       0828,    30.0001,  -168.7140,       5416,     4.6,2,  22.5280,2,  34.7044,2,-999.0000,9,    217.0,2,  -999.0,9, -999.00,9, -999.00,9, -999.00,9, -999.00,9,-999.000,9,-999.000,9,-999.0000,9,  -999.0,9,  -999.0,9,-999.0000,9,  -999.00,9, -999.00,9,  -999.0,9, -999.00,9, -999.00,9,     -999.0,9, 20220604,      857,  30.0001,-168.7139,    22.4775,2,     -999.0,9,     -999.0,9,     -999.0,1,     -999.0,9,     0.0147,1,     4.6102,1,     -999.0,9,     -999.0,9,     -999.0,9
33RR20220430,        P02,     104,          1,          8,          8,2,20220604,       0828,    30.0001,  -168.7140,       5416,    41.0,2,  19.2577,2,  34.7881,2,-999.0000,9,    235.0,2,  -999.0,9, -999.00,9, -999.00,9, -999.00,9, -999.00,9,-999.000,9,-999.000,9,-999.0000,9,  -999.0,9,  -999.0,9,-999.0000,9,  -999.00,9, -999.00,9,  -999.0,9, -999.00,9, -999.00,9,     -999.0,9, 20220604,      852,  30.0001,-168.7140,    19.2639,2,     -999.0,9,     -999.0,9,     -999.0,9,     -999.0,9,     0.0159,1,     4.6223,1,     -999.0,1,     -999.0,9,     -999.0,1
33RR20220430,        P02,     104,          1,          7,          7,2,20220604,       0828,    30.0001,  -168.7140,       5416,    74.2,2,  17.0954,2,  34.6298,2,-999.0000,9,    233.3,2,  -999.0,9, -999.00,9, -999.00,9, -999.00,9, -999.00,9,-999.000,9,-999.000,9,-999.0000,9,  -999.0,9,  -999.0,9,-999.0000,9,  -999.00,9, -999.00,9,  -999.0,9, -999.00,9, -999.00,9,     -999.0,9, 20220604,      850,  30.0001,-168.7140,    17.0975,2,     -999.0,9,     -999.0,9,     -999.0,9,     -999.0,9,     0.0225,1,     4.6337,1,     -999.0,9,     -999.0,9,     -999.0,1
33RR20220430,        P02,     104,          1,          6,          6,2,20220604,       0828,    30.0001,  -168.7140,       5416,   104.3,2,  16.2246,2,  34.5784,2,-999.0000,9,    217.9,2,  -999.0,9, -999.00,9, -999.00,9, -999.00,9, -999.00,9,-999.000,9,-999.000,9,-999.0000,9,  -999.0,9,  -999.0,9,-999.0000,9,  -999.00,9, -999.00,9,  -999.0,9, -999.00,9, -999.00,9,     -999.0,9, 20220604,      848,  30.0001,-168.7140,    16.2243,2,     -999.0,9,     -999.0,9,     -999.0,9,     -999.0,9,     0.0340,1,     4.6495,1,     -999.0,1,     -999.0,9,     -999.0,1
33RR20220430,        P02,     104,          1,          5,          5,2,20220604,       0828,    30.0001,  -168.7140,       5416,   104.7,2,  16.2219,2,  34.5778,2,-999.0000,9,    217.5,2,  -999.0,9, -999.00,9, -999.00,9, -999.00,9, -999.00,9,-999.000,9,-999.000,9,-999.0000,9,  -999.0,9,  -999.0,9,-999.0000,9,  -999.00,9, -999.00,9,  -999.0,9, -999.00,9, -999.00,9,     -999.0,9, 20220604,      847,  30.0001,-168.7140,    16.2225,2,     -999.0,9,     -999.0,9,     -999.0,9,     -999.0,9,     0.0305,1,     4.6512,1,     -999.0,9,     -999.0,1,     -999.0,9
33RR20220430,        P02,     104,          1,          4,          4,2,20220604,       0828,    30.0001,  -168.7140,       5416,   151.1,2,  15.2705,2,  34.5395,2,-999.0000,9,    204.6,2,  -999.0,9, -999.00,9, -999.00,9, -999.00,9, -999.00,9,-999.000,9,-999.000,9,-999.0000,9,  -999.0,9,  -999.0,9,-999.0000,9,  -999.00,9, -999.00,9,  -999.0,9, -999.00,9, -999.00,9,     -999.0,9, 20220604,      846,  30.0001,-168.7140,    15.2740,2,     -999.0,9,     -999.0,9,     -999.0,9,     -999.0,9,     0.0165,1,     4.6740,1,     -999.0,9,     -999.0,9,     -999.0,1
33RR20220430,        P02,     104,          1,          3,          3,2,20220604,       0828,    30.0001,  -168.7140,       5416,   204.5,2,  14.0997,2,  34.4650,2,-999.0000,9,    205.8,2,  -999.0,9, -999.00,9, -999.00,9, -999.00,9, -999.00,9,-999.000,9,-999.000,9,-999.0000,9,  -999.0,9,  -999.0,9,-999.0000,9,  -999.00,9, -999.00,9,  -999.0,9, -999.00,9, -999.00,9,     -999.0,9, 20220604,      844,  30.0001,-168.7139,    14.1064,2,     -999.0,9,     -999.0,9,     -999.0,9,     -999.0,9,     0.0122,1,     4.6862,1,     -999.0,9,     -999.0,1,     -999.0,1
33RR20220430,        P02,     104,          1,          2,          2,2,20220604,       0828,    30.0001,  -168.7140,       5416,   507.0,2,   7.9973,2,  34.0289,2,-999.0000,9,    167.1,2,  -999.0,9, -999.00,9, -999.00,9, -999.00,9, -999.00,9,-999.000,9,-999.000,9,-999.0000,9,  -999.0,9,  -999.0,9,-999.0000,9,  -999.00,9, -999.00,9,  -999.0,9, -999.00,9, -999.00,9,     -999.0,9, 20220604,      838,  30.0001,-168.7139,     7.9896,2,     -999.0,9,     -999.0,9,     -999.0,9,     -999.0,9,     0.0122,1,     4.6959,1,     -999.0,9,     -999.0,9,     -999.0,1
33RR20220430,        P02,     104,          1,          1,          1,2,20220604,       0828,    30.0001,  -168.7140,       5416,  1009.7,2,   3.6932,2,  34.3241,2,-999.0000,9,     19.7,2,  -999.0,9, -999.00,9, -999.00,9, -999.00,9, -999.00,9,-999.000,9,-999.000,9,-999.0000,9,  -999.0,9,  -999.0,9,-999.0000,9,  -999.00,9, -999.00,9,  -999.0,9, -999.00,9, -999.00,9,     -999.0,9, 20220604,      828,  30.0001,-168.7140,     3.6887,2,     -999.0,9,     -999.0,9,     -999.0,9,     -999.0,9,     0.0134,1,     4.7007,1,     -999.0,9,     -999.0,1,     -999.0,1