BOTTLE,20230801CCHSIOCBG
EXPOCODE,SECT_ID,STNNBR,CASTNO,SAMPNO,BTLNBR,BTLNBR_FLAG_W,DATE,TIME,LATITUDE,LONGITUDE,DEPTH,CTDPRS,CTDPRS_FLAG_W,CTDTMP,CTDTMP_FLAG_W,CTDSAL,CTDSAL_FLAG_W,SALNTY,SALNTY_FLAG_W,CTDOXY,CTDOXY_FLAG_W,OXYGEN,OXYGEN_FLAG_W,SILCAT,SILCAT_FLAG_W,NITRAT,NITRAT_FLAG_W,NITRIT,NITRIT_FLAG_W,PHSPHT,PHSPHT_FLAG_W,CFC-11,CFC-11_FLAG_W,CFC-12,CFC-12_FLAG_W,SF6,SF6_FLAG_W,TCARBN,TCARBN_FLAG_W,ALKALI,ALKALI_FLAG_W,PH_TOT,PH_TOT_FLAG_W,PH_TMP,PH_TMP_FLAG_W,DELC13,DELC13_FLAG_W,DELC14,DELC14_FLAG_W,DOC,DOC_FLAG_W,TDN,TDN_FLAG_W,N2O,N2O_FLAG_W,BTL_DATE,BTL_TIME,BTL_LAT,BTL_LON,REFTMP,REFTMP_FLAG_W,POC,POC_FLAG_W,PON,PON_FLAG_W,POP,POP_FLAG_W,PCOD,PCOD_FLAG_W,CTDFLUOR,CTDFLUOR_FLAG_W,CTDXMISS,CTDXMISS_FLAG_W,HPLC,HPLC_FLAG_W,DNA,DNA_FLAG_W,FCM,FCM_FLAG_W
,,,,,,,,,,,METERS,DBAR,,ITS-90,,PSS-78,,PSS-78,,UMOL/KG,,UMOL/KG,,UMOL/KG,,UMOL/KG,,UMOL/KG,,UMOL/KG,,PMOL/KG,,PMOL/KG,,FMOL/KG,,UMOL/KG,,UMOL/KG,,,,DEG C,,/MILLE,,/MILLE,,UMOL/KG,,UMOL/KG,,NMOL/KG,,,,,,ITS-90,,UG/L,,UG/L,,UG/L,,UG/L,,VOLTS,,VOLTS,,,,,,,
33RR20220430,        P02,      30,          1,         36,         36,2,20220512,       1247,    30.0001,   147.8874,       6063,    10.4,2,  20.6408,2,  34.7265,2,  34.7195,2,    227.8,2,   227.1,2,    0.39,2,    0.02,2,    0.00,2,    0.00,2,   1.891,2,   1.190,2,   1.9704,2,  2005.5,2,  2278.3,2,   8.0070,2,    25.04,2, -999.00,9,  -999.0,9, -999.00,9, -999.00,9,        6.8,2, 20220512,     1507,  30.0001, 147.8874,    20.6405,2,     -999.0,9,     -999.0,9,     -999.0,9,     -999.0,9,     0.0154,1,     4.6324,1,     -999.0,9,     -999.0,9,     -999.0,9
33RR20220430,        P02,      30,          1,         35,         35,2,20220512,       1247,    30.0001,   147.8874,       6063,    26.4,2,  20.6432,2,  34.7261,2,  34.7182,2,    228.0,2,   226.9,2,    0.59,2,    0.00,2,    0.00,2,    0.00,2,   1.879,2,   1.204,2,   2.0925,2,  2004.1,2,  2280.2,2,   8.0067,2,    25.05,2, -999.00,9,  -999.0,9, -999.00,9, -999.00,9,        6.8,2, 20220512,     1505,  30.0000, 147.8874,    20.6414,2,     -999.0,9,     -999.0,9,     -999.0,9,     -999.0,9,     0.0159,1,     4.6343,1,     -999.0,9,     -999.0,9,     -999.0,9
33RR20220430,        P02,      30,          1,         34,         34,2,20220512,       1247,    30.0001,   147.8874,       6063,    48.8,2,  20.4043,2,  34.7223,2,  34.7174,2,    229.2,2,   228.8,2,    0.68,2,    0.00,2,    0.00,2,    0.00,2,   1.871,2,   1.224,2,   1.9660,2,  2005.5,2,  2278.1,2,   8.0077,2,    25.03,2, -999.00,9,  -999.0,9, -999.00,9, -999.00,9,        6.9,2, 20220512,     1503,  30.0000, 147.8874,    20.3937,2,     -999.0,9,     -999.0,9,     -999.0,9,     -999.0,9,     0.0171,1,     4.6398,1,     -999.0,9,     -999.0,9,     -999.0,9
33RR20220430,        P02,      30,          1,         33,         33,2,20220512,       1247,    30.0001,   147.8874,       6063,    78.5,2,  18.4220,2,  34.7102,2,  34.7034,2,    241.3,2,   242.2,2,    0.39,2,    0.00,2,    0.00,2,    0.00,2,   2.032,2,   1.292,2,   2.1644,2,  2008.9,2,  2277.9,2,   8.0029,2,    25.06,2, -999.00,9,  -999.0,9, -999.00,9, -999.00,9,        7.5,2, 20220512,     1501,  30.0000, 147.8874,    18.4245,2,     -999.0,9,     -999.0,9,     -999.0,9,     -999.0,9,     0.0361,1,     4.6226,1,     -999.0,9,     -999.0,9,     -999.0,9
33RR20220430,        P02,      30,          1,         32,         32,2,20220512,       1247,    30.0001,   147.8874,       6063,   109.0,2,  18.0219,2,  34.7516,2,  34.7437,2,    222.8,2,   221.9,2,    1.66,2,    1.71,2,    0.10,2,    0.11,2,   2.081,2,   1.283,2,   2.1000,2,  2028.3,2,  2280.2,2,   7.9667,2,    25.04,2, -999.00,9,  -999.0,9, -999.00,9, -999.00,9,        8.5,2, 20220512,     1459,  30.0000, 147.8874,    17.9936,2,     -999.0,9,     -999.0,9,     -999.0,9,     -999.0,9,     0.0202,1,     4.6635,1,     -999.0,9,     -999.0,9,     -999.0,9
33RR20220430,        P02,      30,          1,         31,         31,2,20220512,       1247,    30.0001,   147.8874,       6063,   158.7,2,  17.5569,2,  34.7616,2,  34.7555,2,    215.9,2,   216.1,2,    2.34,2,    3.06,2,    0.00,2,    0.18,2,   2.082,2,   1.275,2,   2.1342,2,  2035.5,2,  2281.2,2,   7.9509,2,    25.04,2, -999.00,9,  -999.0,9, -999.00,9, -999.00,9,        8.9,2, 20220512,     1457,  30.0000, 147.8874,    17.5569,2,     -999.0,9,     -999.0,9,     -999.0,9,     -999.0,9,     0.0125,1,     4.6828,1,     -999.0,9,     -999.0,9,     -999.0,9
33RR20220430,        P02,      30,          1,         30,         30,2,20220512,       1247,    30.0001,   147.8874,       6063,   208.8,2,  17.2828,2,  34.7504,2,  34.7449,2,    212.9,2,   212.7,2,    2.83,2,    3.84,2,    0.00,2,    0.22,2,   2.097,2,   1.303,2,   1.9663,2,  2043.8,2,  2281.2,2,   7.9396,2,    25.04,2, -999.00,9,  -999.0,9, -999.00,9, -999.00,9,        9.1,2, 20220512,     1455,  30.0000, 147.8874,    17.2827,2,     -999.0,9,     -999.0,9,     -999.0,9,     -999.0,9,     0.0122,1,     4.6851,1,     -999.0,9,     -999.0,9,     -999.0,9
33RR20220430,        P02,      30,          1,         29,         29,2,20220512,       1247,    30.0001,   147.8874,       6063,   258.5,2,  16.9653,2,  34.7337,2,  34.7278,2,    222.2,2,   223.4,2,    2.83,2,    3.41,2,    0.00,2,    0.20,2,   2.107,2,   1.287,2,   2.0722,2,  2038.0,2,  2280.9,2,   7.9480,2,    25.04,2, -999.00,9,  -999.0,9, -999.00,9, -999.00,9,        9.1,2, 20220512,     1453,  30.0000, 147.8874,    16.9620,2,     -999.0,9,     -999.0,9,     -999.0,9,     -999.0,9,     0.0122,1,     4.6812,1,     -999.0,9,     -999.0,9,     -999.0,9
33RR20220430,        P02,      30,          1,         28,         28,2,20220512,       1247,    30.0001,   147.8874,       6063,   309.7,2,  16.6226,2,  34.7142,2,  34.7091,2,    211.6,2,   213.5,2,    3.91,2,    4.88,2,    0.00,2,    0.28,2,   2.129,2,   1.348,2,   1.9888,2,  2047.8,2,  2280.7,2,   7.9262,2,    25.04,2, -999.00,9,  -999.0,9, -999.00,9, -999.00,9,        9.9,2, 20220512,     1451,  30.0000, 147.8874,    16.6283,2,     -999.0,9,     -999.0,9,     -999.0,9,     -999.0,9,     0.0122,1,     4.6863,1,     -999.0,9,     -999.0,9,     -999.0,9
33RR20220430,        P02,      30,          1,         27,         27,2,20220512,       1247,    30.0001,   147.8874,       6063,   360.0,2,  16.0050,2,  34.6621,2,  34.6576,2,    197.7,2,   198.4,2,    6.06,2,    7.31,2,    0.00,2,    0.46,2,   2.225,2,   1.378,2,   1.7648,2,  2066.8,2,  2278.6,2,   7.8867,2,    25.04,2, -999.00,9,  -999.0,9, -999.00,9, -999.00,9,       11.4,2, 20220512,     1449,  30.0000, 147.8874,    16.0074,2,     -999.0,9,     -999.0,9,     -999.0,9,     -999.0,9,     0.0122,1,     4.6910,1,     -999.0,9,     -999.0,9,     -999.0,9
33RR20220430,        P02,      30,          1,         26,         26,2,20220512,       1247,    30.0001,   147.8874,       6063,   410.2,2,  14.9352,2,  34.5761,2,  34.5671,2,    188.0,2,   188.1,2,   10.75,2,   10.05,2,    0.00,2,    0.64,2,   2.247,2,   1.377,2,   1.5864,2,  2084.2,2,  2275.9,2,   7.8438,2,    25.04,2, -999.00,9,  -999.0,9, -999.00,9, -999.00,9,       13.7,2, 20220512,     1448,  30.0000, 147.8874,    14.9388,2,     -999.0,9,     -999.0,9,     -999.0,9,     -999.0,9,     0.0122,1,     4.6901,1,     -999.0,9,     -999.0,9,     -999.0,9
33RR20220430,        P02,      30,          1,         25,         25,2,20220512,       1247,    30.0001,   147.8874,       6063,   511.3,2,  11.9727,2,  34.3488,2,  34.3476,2,    181.3,2,   181.8,2,   18.86,2,   15.14,2,    0.00,2,    1.02,2,   2.535,2,   1.474,2,   1.4563,2,  2118.9,2,  2272.9,2,   7.7574,2,    25.03,2, -999.00,9,  -999.0,9, -999.00,9, -999.00,9,       17.6,2, 20220512,     1445,  30.0000, 147.8874,    11.9744,2,     -999.0,9,     -999.0,9,     -999.0,9,     -999.0,9,     0.0122,1,     4.6985,1,     -999.0,9,     -999.0,9,     -999.0,9
33RR20220430,        P02,      30,          1,         24,         24,2,20220512,       1247,    30.0001,   147.8874,       6063,   612.8,2,   8.8595,2,  34.1419,3,  34.1315,2,    166.3,2,   166.3,2,   37.14,2,   22.11,2,    0.00,2,    1.55,2,   2.471,2,   1.423,2,   1.3407,2,  -999.0,9,  -999.0,9,-999.0000,9,  -999.00,9, -999.00,9,  -999.0,9, -999.00,9, -999.00,9,       23.7,2, 20220512,     1442,  30.0000, 147.8875,     8.8656,2,     -999.0,9,     -999.0,9,     -999.0,9,     -999.0,9,     0.0122,1,     4.7019,1,     -999.0,9,     -999.0,9,     -999.0,9
33RR20220430,        P02,      30,          1,         23,         23,2,20220512,       1247,    30.0001,   147.8874,       6063,   713.3,2,   6.1947,2,  34.0286,2,  34.0282,2,    128.4,2,   127.3,2,   60.59,2,   30.33,2,    0.00,2,    2.16,2,   2.160,6,   1.208,6,   0.9649,6,  2232.8,2,  2290.6,2,   7.5052,2,    25.04,2, -999.00,9,  -999.0,9, -999.00,9, -999.00,9,       31.0,6, 20220512,     1439,  30.0000, 147.8874,     6.2000,2,     -999.0,9,     -999.0,9,     -999.0,9,     -999.0,9,     0.0125,1,     4.7035,1,     -999.0,9,     -999.0,9,     -999.0,9
33RR20220430,        P02,      30,          1,         22,         22,2,20220512,       1247,    30.0001,   147.8874,       6063,   813.6,2,   5.0256,2,  34.1013,2,  34.1013,2,     83.1,2,    82.7,2,   83.56,2,   36.37,2,    0.00,2,    2.59,2,   1.312,2,   0.704,2,   0.5334,2,  -999.0,9,  -999.0,9,-999.0000,9,  -999.00,9, -999.00,9,  -999.0,9, -999.00,9, -999.00,9,       32.2,2, 20220512,     1436,  30.0000, 147.8875,     5.0321,2,     -999.0,9,     -999.0,9,     -999.0,9,     -999.0,9,     0.0134,1,     4.7044,1,     -999.0,9,     -999.0,9,     -999.0,9
33RR20220430,        P02,      30,          1,         21,         21,2,20220512,       1247,    30.0001,   147.8874,       6063,   914.2,2,   4.3351,2,  34.1950,2,  34.1940,2,     55.9,3,    56.9,2,  101.24,2,   39.69,2,    0.00,2,    2.82,2,   0.839,2,   0.444,2,   0.3686,2,  2315.2,2,  2333.1,2,   7.3637,2,    25.04,2, -999.00,9,  -999.0,9, -999.00,9, -999.00,9,       44.4,2, 20220512,     1434,  30.0000, 147.8874,     4.3399,2,     -999.0,9,     -999.0,9,     -999.0,9,     -999.0,9,     0.0134,1,     4.7044,1,     -999.0,9,     -999.0,9,     -999.0,9
33RR20220430,        P02,      30,          1,         20,         20,2,20220512,       1247,    30.0001,   147.8874,       6063,  1014.7,2,   3.8657,2,  34.2687,2,  34.2691,2,     43.1,2,    42.9,2,  115.01,2,   41.29,2,    0.00,2,    2.94,2,   0.500,2,   0.256,2,   0.0000,2,  -999.0,9,  -999.0,9,-999.0000,9,  -999.00,9, -999.00,9,  -999.0,9, -999.00,9, -999.00,9,       46.9,2, 20220512,     1431,  30.0000, 147.8874,     3.8663,2,     -999.0,9,     -999.0,9,     -999.0,9,     -999.0,9,     0.0134,1,     4.7042,1,     -999.0,9,     -999.0,9,     -999.0,9
33RR20220430,        P02,      30,          1,         19,         19,2,20220512,       1247,    30.0001,   147.8874,       6063,  1116.0,2,   3.4675,2,  34.3324,2,  34.3307,2,     40.2,3,    39.8,2,  126.63,2,   41.82,2,    0.00,2,    2.98,2,   0.359,2,   0.180,2,   0.0000,2,  2348.6,2,  2361.6,2,   7.3444,2,    25.03,2, -999.00,9,  -999.0,9, -999.00,9, -999.00,9,       47.5,2, 20220512,     1428,  30.0000, 147.8874,     3.4689,2,     -999.0,9,     -999.0,9,     -999.0,9,     -999.0,9,     0.0134,1,     4.7033,1,     -999.0,9,     -999.0,9,     -999.0,9
33RR20220430,        P02,      30,          1,         18,         18,2,20220512,       1247,    30.0001,   147.8874,       6063,  1217.4,2,   3.1580,2,  34.3922,2,  34.3931,2,     37.8,3,    37.5,2,  135.32,2,   42.32,2,    0.00,2,    3.03,2,   0.175,2,   0.084,2,   0.0000,2,  2362.3,6,  2372.2,2,   7.3479,2,    25.03,2, -999.00,9,  -999.0,9, -999.00,9, -999.00,9,       46.9,2, 20220512,     1425,  30.0000, 147.8874,     3.1561,2,     -999.0,9,     -999.0,9,     -999.0,9,     -999.0,9,     0.0134,1,     4.7043,1,     -999.0,9,     -999.0,9,     -999.0,9
33RR20220430,        P02,      30,          1,         17,         17,2,20220512,       1247,    30.0001,   147.8874,       6063,  1318.9,2,   2.9146,2,  34.4352,2,  34.4347,2,     39.2,3,    39.6,2,  141.96,2,   42.74,2,    0.00,2,    3.04,2,   0.106,2,   0.049,2,   0.0000,2,  2367.3,2,  2379.4,2,   7.3536,2,    25.03,2, -999.00,9,  -999.0,9, -999.00,9, -999.00,9,       46.2,2, 20220512,     1423,  30.0000, 147.8874,     2.9149,2,     -999.0,9,     -999.0,9,     -999.0,9,     -999.0,9,     0.0134,1,     4.7049,1,     -999.0,9,     -999.0,9,     -999.0,9
33RR20220430,        P02,      30,          1,         16,         16,2,20220512,       1247,    30.0001,   147.8874,       6063,  1420.2,2,   2.6733,2,  34.4697,2,  34.4675,2,     40.5,3,    41.0,2,  148.70,2,   42.70,2,    0.00,2,    3.05,2,   0.069,2,   0.035,2,   0.0000,2,  -999.0,9,  -999.0,9,-999.0000,9,  -999.00,9, -999.00,9,  -999.0,9, -999.00,9, -999.00,9,       44.9,2, 20220512,     1420,  30.0000, 147.8874,     2.6748,2,     -999.0,9,     -999.0,9,     -999.0,9,     -999.0,9,     0.0134,1,     4.7044,1,     -999.0,9,     -999.0,9,     -999.0,9
33RR20220430,        P02,      30,          1,         15,         15,2,20220512,       1247,    30.0001,   147.8874,       6063,  1622.2,2,   2.3921,2,  34.5294,2,  34.5280,2,     54.2,2,    54.3,2,  153.87,2,   42.00,2,    0.00,2,    2.99,2,   0.022,2,   0.008,2,   0.0000,2,  2372.1,2,  2399.7,2,   7.3888,2,    25.02,2, -999.00,9,  -999.0,9, -999.00,9, -999.00,9,       40.6,2, 20220512,     1415,  30.0000, 147.8874,     2.3922,2,     -999.0,9,     -999.0,9,     -999.0,9,     -999.0,9,     0.0134,1,     4.7065,1,     -999.0,9,     -999.0,9,     -999.0,9
33RR20220430,        P02,      30,          1,         14,         14,2,20220512,       1247,    30.0001,   147.8874,       6063,  1825.3,2,   2.1353,2,  34.5707,2,  34.5694,2,     69.8,2,    69.5,2,  157.48,2,   41.11,2,    0.00,2,    2.91,2,   0.011,2,   0.000,2,   0.0000,2,  -999.0,9,  -999.0,9,-999.0000,9,  -999.00,9, -999.00,9,  -999.0,9, -999.00,9, -999.00,9,       36.6,2, 20220512,     1411,  30.0000, 147.8875,     2.1365,2,     -999.0,9,     -999.0,9,     -999.0,9,     -999.0,9,     0.0134,1,     4.7071,1,     -999.0,9,     -999.0,9,     -999.0,9
33RR20220430,        P02,      30,          1,         13,         13,2,20220512,       1247,    30.0001,   147.8874,       6063,  2028.6,2,   1.9743,2,  34.5978,2,  34.5961,2,     84.9,2,    85.2,2,  156.89,2,   40.07,2,    0.00,2,    2.83,2,   0.009,2,   0.000,2,   0.0000,2,  2360.6,2,  2411.2,2,   7.4519,2,    25.03,2, -999.00,9,  -999.0,9, -999.00,9, -999.00,9,       33.6,2, 20220512,     1406,  30.0000, 147.8875,     1.9736,2,     -999.0,9,     -999.0,9,     -999.0,9,     -999.0,9,     0.0134,1,     4.7081,1,     -999.0,9,     -999.0,9,     -999.0,9
33RR20220430,        P02,      30,          1,         12,         12,2,20220512,       1247,    30.0001,   147.8874,       6063,  2283.8,2,   1.8171,2,  34.6235,2,  34.6231,2,    102.7,2,   102.4,2,  155.62,2,   39.00,2,    0.00,2,    2.74,2,   0.007,2,   0.000,2,   0.0000,2,  -999.0,9,  -999.0,9,-999.0000,9,  -999.00,9, -999.00,9,  -999.0,9, -999.00,9, -999.00,9,       28.2,2, 20220512,     1401,  30.0000, 147.8875,     1.8169,2,     -999.0,9,     -999.0,9,     -999.0,9,     -999.0,9,     0.0126,1,     4.7092,1,     -999.0,9,     -999.0,9,     -999.0,9
33RR20220430,        P02,      30,          1,         11,         11,2,20220512,       1247,    30.0001,   147.8874,       6063,  2536.8,2,   1.7139,2,  34.6405,2,  34.6400,2,    115.7,2,   116.2,2,  153.47,2,   38.18,2,    0.00,2,    2.67,2,   0.005,2,   0.000,2,   0.0000,2,  2345.0,2,  2413.2,2,   7.5094,2,    25.00,2, -999.00,9,  -999.0,9, -999.00,9, -999.00,9,       28.1,2, 20220512,     1356,  30.0000, 147.8875,     1.7139,2,     -999.0,9,     -999.0,9,     -999.0,9,     -999.0,9,     0.0128,1,     4.7093,1,     -999.0,9,     -999.0,9,     -999.0,9
33RR20220430,        P02,      30,          1,         10,         10,2,20220512,       1247,    30.0001,   147.8874,       6063,  2791.1,2,   1.6438,2,  34.6520,2,  34.6519,2,    124.1,2,   124.2,2,  152.59,2,   37.83,2,    0.00,2,    2.62,2,   0.005,2,   0.000,2,   0.0000,2,  -999.0,9,  -999.0,9,-999.0000,9,  -999.00,9, -999.00,9,  -999.0,9, -999.00,9, -999.00,9,       26.9,2, 20220512,     1351,  30.0000, 147.8874,     1.6443,2,     -999.0,9,     -999.0,9,     -999.0,9,     -999.0,9,     0.0130,1,     4.7089,1,     -999.0,9,     -999.0,9,     -999.0,9
33RR20220430,        P02,      30,          1,          9,          9,2,20220512,       1247,    30.0001,   147.8874,       6063,  3046.8,2,   1.5826,2,  34.6614,2,  34.6610,2,    131.4,2,   131.5,2,  151.61,2,   37.19,2,    0.00,2,    2.59,2,   0.004,2,   0.000,2,   0.0000,2,  2334.1,2,  2416.0,2,   7.5383,2,    25.03,2, -999.00,9,  -999.0,9, -999.00,9, -999.00,9,       25.7,2, 20220512,     1345,  30.0000, 147.8875,     1.5826,2,     -999.0,9,     -999.0,9,     -999.0,9,     -999.0,9,     0.0122,1,     4.7094,1,     -999.0,9,     -999.0,9,     -999.0,9
33RR20220430,        P02,      30,          1,          8,          8,2,20220512,       1247,    30.0001,   147.8874,       6063,  3352.0,2,   1.5381,2,  34.6693,2,  34.6684,2,    138.4,2,   138.3,2,  150.44,2,   36.72,2,    0.00,2,    2.57,2,   0.005,2,-999.000,5,   0.0000,2,  -999.0,9,  -999.0,9,-999.0000,9,  -999.00,9, -999.00,9,  -999.0,9, -999.00,9, -999.00,9,       24.5,2, 20220512,     1339,  30.0000, 147.8874,     1.5381,2,     -999.0,9,     -999.0,9,     -999.0,9,     -999.0,9,     0.0122,1,     4.7093,1,     -999.0,9,     -999.0,9,     -999.0,9
33RR20220430,        P02,      30,          1,          7,          7,2,20220512,       1247,    30.0001,   147.8874,       6063,  3660.5,2,   1.5143,2,  34.6748,2,  34.6741,2,    143.7,2,   143.7,2,  149.65,2,   36.30,2,    0.00,2,    2.56,2,   0.005,2,   0.000,2,   0.0000,2,  2330.2,2,  2417.1,2,   7.5584,2,    25.03,2, -999.00,9,  -999.0,9, -999.00,9, -999.00,9,       24.1,2, 20220512,     1333,  30.0000, 147.8875,     1.5143,2,     -999.0,9,     -999.0,9,     -999.0,9,     -999.0,9,     0.0122,1,     4.7092,1,     -999.0,9,     -999.0,9,     -999.0,9
33RR20220430,        P02,      30,          1,          6,          6,2,20220512,       1247,    30.0001,   147.8874,       6063,  4066.1,2,   1.4986,2,  34.6802,2,  34.6800,2,    149.9,2,   149.9,2,  148.19,2,   35.87,2,    0.00,2,    2.51,2,   0.005,2,   0.000,2,   0.0000,2,  -999.0,9,  -999.0,9,-999.0000,9,  -999.00,9, -999.00,9,  -999.0,9, -999.00,9, -999.00,9,       23.7,2, 20220512,     1325,  30.0000, 147.8874,     1.4984,2,     -999.0,9,     -999.0,9,     -999.0,9,     -999.0,9,     0.0130,1,     4.7089,1,     -999.0,9,     -999.0,9,     -999.0,9
33RR20220430,        P02,      30,          1,          5,          5,2,20220512,       1247,    30.0001,   147.8874,       6063,  4479.3,2,   1.4956,2,  34.6849,2,  34.6851,2,    156.0,2,   156.3,2,  146.14,2,   35.42,2,    0.00,2,    2.47,2,   0.005,2,   0.000,2,   0.0000,2,  2320.7,2,  2413.8,2,   7.5773,2,    25.01,2, -999.00,9,  -999.0,9, -999.00,9, -999.00,9,       23.3,2, 20220512,     1317,  30.0000, 147.8874,     1.4954,2,     -999.0,9,     -999.0,9,     -999.0,9,     -999.0,9,     0.0122,1,     4.7085,1,     -999.0,9,     -999.0,9,     -999.0,9
33RR20220430,        P02,      30,          1,          4,          4,2,20220512,       1247,    30.0001,   147.8874,       6063,  4890.2,2,   1.5044,2,  34.6863,3,  34.6883,2,    160.9,2,   160.9,2,  143.89,2,   35.33,2,    0.00,2,    2.45,2,   0.007,2,   0.000,2,   0.0000,2,  -999.0,9,  -999.0,9,-999.0000,9,  -999.00,9, -999.00,9,  -999.0,9, -999.00,9, -999.00,9,       22.8,2, 20220512,     1309,  30.0000, 147.8874,     1.5082,2,     -999.0,9,     -999.0,9,     -999.0,9,     -999.0,9,     0.0122,1,     4.7088,1,     -999.0,9,     -999.0,9,     -999.0,9