BOTTLE,20230801CCHSIOCBG
EXPOCODE,SECT_ID,STNNBR,CASTNO,SAMPNO,BTLNBR,BTLNBR_FLAG_W,DATE,TIME,LATITUDE,LONGITUDE,DEPTH,CTDPRS,CTDPRS_FLAG_W,CTDTMP,CTDTMP_FLAG_W,CTDSAL,CTDSAL_FLAG_W,SALNTY,SALNTY_FLAG_W,CTDOXY,CTDOXY_FLAG_W,OXYGEN,OXYGEN_FLAG_W,SILCAT,SILCAT_FLAG_W,NITRAT,NITRAT_FLAG_W,NITRIT,NITRIT_FLAG_W,PHSPHT,PHSPHT_FLAG_W,CFC-11,CFC-11_FLAG_W,CFC-12,CFC-12_FLAG_W,SF6,SF6_FLAG_W,TCARBN,TCARBN_FLAG_W,ALKALI,ALKALI_FLAG_W,PH_TOT,PH_TOT_FLAG_W,PH_TMP,PH_TMP_FLAG_W,DELC13,DELC13_FLAG_W,DELC14,DELC14_FLAG_W,DOC,DOC_FLAG_W,TDN,TDN_FLAG_W,N2O,N2O_FLAG_W,BTL_DATE,BTL_TIME,BTL_LAT,BTL_LON,REFTMP,REFTMP_FLAG_W,POC,POC_FLAG_W,PON,PON_FLAG_W,POP,POP_FLAG_W,PCOD,PCOD_FLAG_W,CTDFLUOR,CTDFLUOR_FLAG_W,CTDXMISS,CTDXMISS_FLAG_W,HPLC,HPLC_FLAG_W,DNA,DNA_FLAG_W,FCM,FCM_FLAG_W
,,,,,,,,,,,METERS,DBAR,,ITS-90,,PSS-78,,PSS-78,,UMOL/KG,,UMOL/KG,,UMOL/KG,,UMOL/KG,,UMOL/KG,,UMOL/KG,,PMOL/KG,,PMOL/KG,,FMOL/KG,,UMOL/KG,,UMOL/KG,,,,DEG C,,/MILLE,,/MILLE,,UMOL/KG,,UMOL/KG,,NMOL/KG,,,,,,ITS-90,,UG/L,,UG/L,,UG/L,,UG/L,,VOLTS,,VOLTS,,,,,,,
33RR20220430,        P02,       1,          2,          3,          3,2,20220501,       2209,    20.9996,   140.0502,       1504,  1503.8,2,   2.7087,2,  34.5600,2,-999.0000,9,     91.8,2,  -999.0,9,  133.88,2,   39.27,2,    0.00,2,    2.78,2,-999.000,9,-999.000,9,-999.0000,9,  -999.0,5,  -999.0,9,-999.0000,9,  -999.00,9, -999.00,9,  -999.0,9, -999.00,9, -999.00,9,     -999.0,9, 20220501,     2210,  20.9995, 140.0502,     2.7076,2,     -999.0,9,     -999.0,9,     -999.0,9,     -999.0,9,     0.0134,1,     4.7039,1,     -999.0,9,     -999.0,9,     -999.0,9
33RR20220430,        P02,       1,          2,          4,          4,2,20220501,       2209,    20.9996,   140.0502,       1504,  1503.9,2,   2.7076,2,  34.5599,2,  34.5574,2,     91.8,2,    91.8,2,  133.49,2,   39.03,2,    0.00,2,    2.76,2,   0.017,2,-999.000,5,-999.0000,5,  2340.4,6,  2394.7,2,   7.4757,2,    24.96,2, -999.00,9,  -999.0,9, -999.00,9, -999.00,9,       30.8,2, 20220501,     2210,  20.9995, 140.0502,     2.7076,2,     -999.0,9,     -999.0,9,     -999.0,9,     -999.0,9,     0.0134,1,     4.7032,1,     -999.0,9,     -999.0,9,     -999.0,9
33RR20220430,        P02,       1,          2,          2,          2,2,20220501,       2209,    20.9996,   140.0502,       1504,  1504.3,2,   2.7064,2,  34.5602,2,-999.0000,9,     91.7,2,  -999.0,9, -999.00,9, -999.00,9, -999.00,9, -999.00,9,-999.000,9,-999.000,9,-999.0000,9,  -999.0,5,  -999.0,9,-999.0000,9,  -999.00,9, -999.00,9,  -999.0,9, -999.00,9, -999.00,9,     -999.0,9, 20220501,     2209,  20.9996, 140.0502,     2.7084,2,     -999.0,9,     -999.0,9,     -999.0,9,     -999.0,9,     0.0134,1,     4.7044,1,     -999.0,9,     -999.0,9,     -999.0,9
33RR20220430,        P02,       3,          1,         10,         10,2,20220504,       1858,    32.5070,   133.0289,        168,     7.7,2,  20.9283,2,  34.4772,2,  34.4693,2,    228.0,3,   225.6,2,    1.27,2,    0.10,2,    0.02,2,    0.01,2,   1.977,2,   1.185,2,   1.9640,2,  1984.2,2,  2267.3,2,   8.0265,2,    25.00,2, -999.00,9,  -999.0,9, -999.00,1, -999.00,1,        8.1,2, 20220504,     1913,  32.5070, 133.0289,    20.7572,3,     -999.0,9,     -999.0,9,     -999.0,9,     -999.0,9,     0.0270,1,     4.5772,1,     -999.0,9,     -999.0,9,     -999.0,9
33RR20220430,        P02,       3,          1,          9,          9,2,20220504,       1858,    32.5070,   133.0289,        168,    22.5,2,  20.4258,2,  34.4790,2,  34.4683,2,    221.1,3,   222.0,2,    1.86,2,    0.51,2,    0.14,2,    0.00,2,   2.017,2,-999.000,5,-999.0000,5,  1992.4,2,  2267.0,2,   8.0113,2,    25.00,2, -999.00,9,  -999.0,9, -999.00,1, -999.00,1,        8.5,2, 20220504,     1911,  32.5070, 133.0290,    20.4221,2,     -999.0,9,     -999.0,9,     -999.0,9,     -999.0,9,     0.0410,1,     4.5834,1,     -999.0,9,     -999.0,9,     -999.0,9
33RR20220430,        P02,       3,          1,          8,          8,2,20220504,       1858,    32.5070,   133.0289,        168,    38.3,2,  19.2911,2,  34.5104,2,  34.4940,2,    213.6,3,   218.4,2,    2.83,2,    1.39,2,    0.43,2,    0.04,2,   2.125,2,-999.000,5,-999.0000,5,  2006.2,2,  2270.1,2,   7.9860,2,    25.01,2, -999.00,9,  -999.0,9, -999.00,1, -999.00,1,        9.1,2, 20220504,     1909,  32.5070, 133.0290,    19.3157,2,     -999.0,9,     -999.0,9,     -999.0,9,     -999.0,9,     0.0319,1,     4.6117,1,     -999.0,9,     -999.0,9,     -999.0,9
33RR20220430,        P02,       3,          1,          7,          7,2,20220504,       1858,    32.5070,   133.0289,        168,    63.1,2,  17.5333,2,  34.6621,3,  34.6370,2,    199.7,3,   197.1,2,    5.76,2,    5.55,2,    0.06,2,    0.21,2,   2.241,2,-999.000,5,-999.0000,5,  2047.1,2,  2278.6,2,   7.9200,2,    25.00,2, -999.00,9,  -999.0,9, -999.00,1, -999.00,1,       10.9,2, 20220504,     1908,  32.5070, 133.0290,    17.5130,2,     -999.0,9,     -999.0,9,     -999.0,9,     -999.0,9,     0.0136,1,     4.6766,1,     -999.0,9,     -999.0,9,     -999.0,9
33RR20220430,        P02,       3,          1,          6,          6,2,20220504,       1858,    32.5070,   133.0289,        168,    87.0,2,  16.7164,2,  34.6114,2,  34.6124,2,    204.4,3,   202.7,2,    7.13,2,    6.09,2,    0.03,2,    0.31,2,   2.303,2,-999.000,5,-999.0000,5,  2050.8,2,  2278.4,2,   7.9138,2,    24.99,2, -999.00,9,  -999.0,9, -999.00,1, -999.00,1,       11.4,2, 20220504,     1906,  32.5070, 133.0290,    16.7152,2,     -999.0,9,     -999.0,9,     -999.0,9,     -999.0,9,     0.0159,1,     4.6662,1,     -999.0,9,     -999.0,9,     -999.0,9
33RR20220430,        P02,       3,          1,          5,          5,2,20220504,       1858,    32.5070,   133.0289,        168,    97.2,2,  16.3662,2,  34.6212,2,  34.6109,2,    208.0,3,   209.8,2,    6.45,2,    5.63,2,    0.02,2,    0.31,2,   2.290,6,-999.000,5,   2.1247,2,  2048.0,2,  2277.9,2,   7.9195,2,    25.00,2, -999.00,9,  -999.0,9, -999.00,1, -999.00,1,       10.8,6, 20220504,     1904,  32.5070, 133.0290,    16.3548,2,     -999.0,9,     -999.0,9,     -999.0,9,     -999.0,9,     0.0135,1,     4.6604,1,     -999.0,9,     -999.0,9,     -999.0,9
33RR20220430,        P02,       3,          1,          4,          4,2,20220504,       1858,    32.5070,   133.0289,        168,   112.0,2,  16.2406,2,  34.6227,2,  34.6136,2,    208.1,3,   209.5,2,    6.74,2,    5.92,2,    0.02,2,    0.33,2,   2.325,2,-999.000,5,-999.0000,5,  2052.6,2,  2278.2,2,   7.9156,2,    25.01,2, -999.00,9,  -999.0,9, -999.00,1, -999.00,1,       11.0,2, 20220504,     1903,  32.5070, 133.0290,    16.2352,2,     -999.0,9,     -999.0,9,     -999.0,9,     -999.0,9,     0.0135,1,     4.6700,1,     -999.0,9,     -999.0,9,     -999.0,9
33RR20220430,        P02,       3,          1,          3,          3,2,20220504,       1858,    32.5070,   133.0289,        168,   126.2,2,  15.7872,2,  34.6062,2,  34.5983,2,    203.7,3,   199.3,2,    8.99,2,    7.67,2,    0.00,2,    0.42,2,   2.331,2,   1.360,2,   1.8967,2,  2066.0,2,  -999.0,1,   7.8888,2,    25.03,2, -999.00,9,  -999.0,9, -999.00,1, -999.00,1,       12.3,2, 20220504,     1901,  32.5070, 133.0290,    15.7917,2,     -999.0,9,     -999.0,9,     -999.0,9,     -999.0,9,     0.0135,1,     4.6764,1,     -999.0,9,     -999.0,9,     -999.0,9
33RR20220430,        P02,       3,          1,          2,          2,2,20220504,       1858,    32.5070,   133.0289,        168,   141.8,2,  15.5807,2,  34.5945,2,  34.5855,2,    202.8,3,   195.8,2,   10.16,2,    8.27,2,    0.02,2,    0.46,2,   2.324,2,-999.000,5,-999.0000,5,  2069.5,2,  2278.5,2,   7.8780,2,    25.01,2, -999.00,9,  -999.0,9, -999.00,1, -999.00,1,       12.8,2, 20220504,     1900,  32.5070, 133.0290,    15.5778,2,     -999.0,9,     -999.0,9,     -999.0,9,     -999.0,9,     0.0134,1,     4.6628,1,     -999.0,9,     -999.0,9,     -999.0,9
33RR20220430,        P02,       3,          1,          1,          1,2,20220504,       1858,    32.5070,   133.0289,        168,   158.8,2,  15.2161,2,  34.5756,2,  34.5677,2,    200.9,3,   189.1,2,   12.11,2,    9.47,2,    0.02,2,    0.54,2,   2.340,2,-999.000,5,-999.0000,5,  2079.6,6,  2278.3,2,   7.8594,2,    25.01,2, -999.00,9,  -999.0,9, -999.00,1, -999.00,1,       13.6,2, 20220504,     1858,  32.5070, 133.0290,    15.2024,2,     -999.0,9,     -999.0,9,     -999.0,9,     -999.0,9,     0.0135,1,     4.6567,1,     -999.0,9,     -999.0,9,     -999.0,9