BOTTLE,20230801CCHSIOCBG
EXPOCODE,SECT_ID,STNNBR,CASTNO,SAMPNO,BTLNBR,BTLNBR_FLAG_W,DATE,TIME,LATITUDE,LONGITUDE,DEPTH,CTDPRS,CTDPRS_FLAG_W,CTDTMP,CTDTMP_FLAG_W,CTDSAL,CTDSAL_FLAG_W,SALNTY,SALNTY_FLAG_W,CTDOXY,CTDOXY_FLAG_W,OXYGEN,OXYGEN_FLAG_W,SILCAT,SILCAT_FLAG_W,NITRAT,NITRAT_FLAG_W,NITRIT,NITRIT_FLAG_W,PHSPHT,PHSPHT_FLAG_W,CFC-11,CFC-11_FLAG_W,CFC-12,CFC-12_FLAG_W,SF6,SF6_FLAG_W,TCARBN,TCARBN_FLAG_W,ALKALI,ALKALI_FLAG_W,PH_TOT,PH_TOT_FLAG_W,PH_TMP,PH_TMP_FLAG_W,DELC13,DELC13_FLAG_W,DELC14,DELC14_FLAG_W,DOC,DOC_FLAG_W,TDN,TDN_FLAG_W,N2O,N2O_FLAG_W,BTL_DATE,BTL_TIME,BTL_LAT,BTL_LON,REFTMP,REFTMP_FLAG_W,POC,POC_FLAG_W,PON,PON_FLAG_W,POP,POP_FLAG_W,PCOD,PCOD_FLAG_W,CTDFLUOR,CTDFLUOR_FLAG_W,CTDXMISS,CTDXMISS_FLAG_W,HPLC,HPLC_FLAG_W,DNA,DNA_FLAG_W,FCM,FCM_FLAG_W
,,,,,,,,,,,METERS,DBAR,,ITS-90,,PSS-78,,PSS-78,,UMOL/KG,,UMOL/KG,,UMOL/KG,,UMOL/KG,,UMOL/KG,,UMOL/KG,,PMOL/KG,,PMOL/KG,,FMOL/KG,,UMOL/KG,,UMOL/KG,,,,DEG C,,/MILLE,,/MILLE,,UMOL/KG,,UMOL/KG,,NMOL/KG,,,,,,ITS-90,,UG/L,,UG/L,,UG/L,,UG/L,,VOLTS,,VOLTS,,,,,,,
33RR20220430,        P02,      24,          1,         36,         36,2,20220510,       1154,    30.0001,   143.8495,       5302,    13.1,2,  22.3446,2,  34.8492,2,  34.8412,2,    220.7,2,   219.3,2,    0.68,2,    0.02,2,    0.00,2,    0.01,2,   1.857,2,   1.115,2,   1.9455,2,  2001.3,2,  2287.2,2,   8.0215,2,    24.93,2, -999.00,9,  -999.0,9, -999.00,9, -999.00,9,        6.4,2, 20220510,     1403,  30.0001, 143.8495,    22.3436,2,     -999.0,9,     -999.0,9,     -999.0,9,     -999.0,9,     0.0159,1,     4.6378,1,     -999.0,9,     -999.0,9,     -999.0,9
33RR20220430,        P02,      24,          1,         35,         35,2,20220510,       1154,    30.0001,   143.8495,       5302,    32.7,2,  22.2279,2,  34.8526,2,  34.8440,2,    221.1,2,   220.0,2,    0.59,2,    0.00,2,    0.00,2,    0.00,2,   1.813,2,   1.074,2,   1.9102,2,  1997.7,2,  2286.8,2,   8.0218,2,    24.88,2, -999.00,9,  -999.0,9, -999.00,9, -999.00,9,        6.3,2, 20220510,     1401,  30.0001, 143.8495,    22.2810,2,     -999.0,9,     -999.0,9,     -999.0,9,     -999.0,9,     0.0159,1,     4.6392,1,     -999.0,9,     -999.0,9,     -999.0,9
33RR20220430,        P02,      24,          1,         34,         34,2,20220510,       1154,    30.0001,   143.8495,       5302,    50.5,2,  20.7013,2,  34.8593,2,  34.8479,2,    225.7,2,   226.4,2,    0.78,2,    0.00,2,    0.00,2,    0.01,2,   2.061,2,   1.246,2,   1.8908,2,  2004.7,2,  2287.3,2,   8.0127,2,    24.92,2, -999.00,9,  -999.0,9, -999.00,9, -999.00,9,        6.9,2, 20220510,     1359,  30.0001, 143.8495,    20.6845,2,     -999.0,9,     -999.0,9,     -999.0,9,     -999.0,9,     0.0190,1,     4.6349,1,     -999.0,9,     -999.0,9,     -999.0,9
33RR20220430,        P02,      24,          1,         33,         33,2,20220510,       1154,    30.0001,   143.8495,       5302,    76.2,2,  20.1541,2,  34.8539,2,  34.8456,2,    223.1,2,   223.0,2,    0.78,2,    0.01,2,    0.02,2,    0.02,2,   2.001,2,   1.237,2,   1.8462,2,  2012.2,2,  2288.0,2,   8.0033,2,    25.08,2, -999.00,9,  -999.0,9, -999.00,9, -999.00,9,        7.1,2, 20220510,     1357,  30.0001, 143.8495,    20.1510,2,     -999.0,9,     -999.0,9,     -999.0,9,     -999.0,9,     0.0419,1,     4.6164,1,     -999.0,9,     -999.0,9,     -999.0,9
33RR20220430,        P02,      24,          1,         32,         32,2,20220510,       1154,    30.0001,   143.8495,       5302,   104.5,2,  19.2065,2,  34.8332,2,  34.8261,2,    220.3,2,   220.4,2,    0.98,2,    0.66,2,    0.07,2,    0.04,2,   2.126,2,   1.227,2,   1.9790,2,  2016.4,2,  2286.6,2,   7.9864,2,    24.92,2, -999.00,9,  -999.0,9, -999.00,9, -999.00,9,        7.7,2, 20220510,     1355,  30.0001, 143.8495,    19.2162,2,     -999.0,9,     -999.0,9,     -999.0,9,     -999.0,9,     0.0220,1,     4.6631,1,     -999.0,9,     -999.0,9,     -999.0,9
33RR20220430,        P02,      24,          1,         31,         31,2,20220510,       1154,    30.0001,   143.8495,       5302,   152.8,2,  18.2130,2,  34.7984,2,  34.7925,2,    219.4,2,   219.8,2,    1.37,2,    1.66,2,    0.00,2,    0.10,2,   2.031,2,   1.341,2,   2.0657,2,  -999.0,9,  -999.0,9,-999.0000,9,  -999.00,9, -999.00,9,  -999.0,9, -999.00,9, -999.00,9,        8.0,2, 20220510,     1353,  30.0001, 143.8494,    18.2115,2,     -999.0,9,     -999.0,9,     -999.0,9,     -999.0,9,     0.0135,1,     4.6841,1,     -999.0,9,     -999.0,9,     -999.0,9
33RR20220430,        P02,      24,          1,         30,         30,2,20220510,       1154,    30.0001,   143.8495,       5302,   203.4,2,  17.7061,2,  34.7658,2,  34.7581,2,    219.3,2,   219.4,2,    1.86,2,    2.55,2,    0.00,2,    0.15,2,   2.088,2,   1.325,2,   1.9867,2,  2030.4,2,  2282.2,2,   7.9596,2,    25.03,2, -999.00,9,  -999.0,9, -999.00,9, -999.00,9,        8.3,2, 20220510,     1351,  30.0001, 143.8495,    17.7072,2,     -999.0,9,     -999.0,9,     -999.0,9,     -999.0,9,     0.0122,1,     4.6884,1,     -999.0,9,     -999.0,9,     -999.0,9
33RR20220430,        P02,      24,          1,         29,         29,2,20220510,       1154,    30.0001,   143.8495,       5302,   253.1,2,  17.3723,2,  34.7556,2,  34.7486,2,    214.9,2,   215.5,2,    2.44,2,    3.50,2,    0.00,2,    0.21,2,   2.111,2,   1.372,2,   1.9941,2,  -999.0,9,  -999.0,9,-999.0000,9,  -999.00,9, -999.00,9,  -999.0,9, -999.00,9, -999.00,9,        8.8,2, 20220510,     1349,  30.0001, 143.8495,    17.3712,2,     -999.0,9,     -999.0,9,     -999.0,9,     -999.0,9,     0.0122,1,     4.6897,1,     -999.0,9,     -999.0,9,     -999.0,9
33RR20220430,        P02,      24,          1,         28,         28,2,20220510,       1154,    30.0001,   143.8495,       5302,   303.1,2,  16.9707,2,  34.7354,2,  34.7282,2,    209.0,2,   209.3,2,    3.52,2,    4.77,2,    0.00,2,    0.30,2,   2.144,2,   1.319,2,   1.8753,2,  2044.4,2,  2281.2,2,   7.9258,2,    24.99,2, -999.00,9,  -999.0,9, -999.00,9, -999.00,9,        9.2,2, 20220510,     1347,  30.0001, 143.8495,    16.9687,2,     -999.0,9,     -999.0,9,     -999.0,9,     -999.0,9,     0.0122,1,     4.6920,1,     -999.0,9,     -999.0,9,     -999.0,9
33RR20220430,        P02,      24,          1,         27,         27,2,20220510,       1154,    30.0001,   143.8495,       5302,   353.2,2,  16.1137,2,  34.6688,2,  34.6633,2,    198.1,2,   198.3,2,    5.96,2,    7.08,2,    0.00,2,    0.46,2,   2.134,2,   1.453,2,   1.5605,2,  -999.0,9,  -999.0,9,-999.0000,9,  -999.00,9, -999.00,9,  -999.0,9, -999.00,9, -999.00,9,       11.0,2, 20220510,     1345,  30.0001, 143.8494,    16.1122,2,     -999.0,9,     -999.0,9,     -999.0,9,     -999.0,9,     0.0122,1,     4.6940,1,     -999.0,9,     -999.0,9,     -999.0,9
33RR20220430,        P02,      24,          1,         26,         26,2,20220510,       1154,    30.0001,   143.8495,       5302,   403.5,2,  14.8530,2,  34.5674,2,  34.5624,2,    190.3,2,   190.3,2,    9.48,2,    9.68,2,    0.00,2,    0.64,2,   2.243,2,   1.489,2,   1.5722,2,  2080.8,2,  2275.4,2,   7.8449,2,    25.00,2, -999.00,9,  -999.0,9, -999.00,9, -999.00,9,       12.9,2, 20220510,     1343,  30.0001, 143.8495,    14.8466,2,     -999.0,9,     -999.0,9,     -999.0,9,     -999.0,9,     0.0122,1,     4.6976,1,     -999.0,9,     -999.0,9,     -999.0,9
33RR20220430,        P02,      24,          1,         25,         25,2,20220510,       1154,    30.0001,   143.8495,       5302,   505.4,2,  12.1342,2,  34.3539,2,  34.3468,2,    190.0,2,   190.5,2,   17.00,2,   14.16,2,    0.00,2,    0.96,2,   2.468,2,   1.615,2,   1.5860,2,  2112.6,2,  2272.9,2,   7.7716,2,    24.98,2, -999.00,9,  -999.0,9, -999.00,9, -999.00,9,       16.1,2, 20220510,     1340,  30.0001, 143.8495,    12.1267,2,     -999.0,9,     -999.0,9,     -999.0,9,     -999.0,9,     0.0122,1,     4.7018,1,     -999.0,9,     -999.0,9,     -999.0,9
33RR20220430,        P02,      24,          1,         24,         24,2,20220510,       1154,    30.0001,   143.8495,       5302,   606.3,2,   8.9777,2,  34.1408,2,  34.1370,2,    167.7,2,   168.0,2,   34.50,2,   21.57,2,    0.00,2,    1.51,2,   2.368,2,   1.480,2,   1.3845,2,  2161.1,2,  2278.2,2,   7.6518,2,    24.99,2, -999.00,9,  -999.0,9, -999.00,9, -999.00,9,       22.5,2, 20220510,     1337,  30.0001, 143.8494,     8.9768,2,     -999.0,9,     -999.0,9,     -999.0,9,     -999.0,9,     0.0122,1,     4.7042,1,     -999.0,9,     -999.0,9,     -999.0,9
33RR20220430,        P02,      24,          1,         23,         23,2,20220510,       1154,    30.0001,   143.8495,       5302,   704.3,2,   6.9383,2,  34.0392,2,  34.0384,2,    144.2,2,   143.5,2,   51.42,2,   27.43,2,    0.00,2,    1.95,2,   2.428,2,   1.383,2,   1.0133,2,  2207.9,2,  2285.6,2,   7.5528,2,    24.99,2, -999.00,9,  -999.0,9, -999.00,9, -999.00,9,       28.1,2, 20220510,     1335,  30.0001, 143.8495,     6.9375,2,     -999.0,9,     -999.0,9,     -999.0,9,     -999.0,9,     0.0125,1,     4.7061,1,     -999.0,9,     -999.0,9,     -999.0,9
33RR20220430,        P02,      24,          1,         22,         22,2,20220510,       1154,    30.0001,   143.8495,       5302,   808.7,2,   5.3658,2,  34.0842,2,  34.0840,2,     93.8,2,    93.2,2,   76.93,2,   34.90,2,    0.00,2,    2.46,2,   1.720,2,   0.917,2,   0.6250,2,  2263.9,2,  2306.8,2,   7.4336,2,    24.99,2, -999.00,9,  -999.0,9, -999.00,9, -999.00,9,       38.6,2, 20220510,     1332,  30.0001, 143.8494,     5.3644,2,     -999.0,9,     -999.0,9,     -999.0,9,     -999.0,9,     0.0125,1,     4.7069,1,     -999.0,9,     -999.0,9,     -999.0,9
33RR20220430,        P02,      24,          1,         21,         21,2,20220510,       1154,    30.0001,   143.8495,       5302,   909.0,2,   4.5396,2,  34.1746,2,  34.1760,2,     62.9,3,    61.8,2,   96.96,2,   39.02,2,    0.00,2,    2.76,2,   0.916,2,   0.424,2,   0.0000,2,  2306.6,2,  2328.4,2,   7.3753,2,    24.99,2, -999.00,9,  -999.0,9, -999.00,9, -999.00,9,       43.0,2, 20220510,     1329,  30.0001, 143.8494,     4.5457,2,     -999.0,9,     -999.0,9,     -999.0,9,     -999.0,9,     0.0134,1,     4.7068,1,     -999.0,9,     -999.0,9,     -999.0,9
33RR20220430,        P02,      24,          1,         20,         20,2,20220510,       1154,    30.0001,   143.8495,       5302,  1010.2,2,   3.9571,2,  34.2592,2,  34.2593,2,     46.8,2,    46.6,2,  112.98,2,   40.84,2,    0.00,2,    2.89,2,   0.573,2,   0.326,2,   0.0000,2,  2335.4,2,  2346.6,2,   7.3522,2,    24.99,2, -999.00,9,  -999.0,9, -999.00,9, -999.00,9,       47.7,2, 20220510,     1327,  30.0001, 143.8494,     3.9624,2,     -999.0,9,     -999.0,9,     -999.0,9,     -999.0,9,     0.0134,1,     4.7068,1,     -999.0,9,     -999.0,9,     -999.0,9
33RR20220430,        P02,      24,          1,         19,         19,2,20220510,       1154,    30.0001,   143.8495,       5302,  1110.7,2,   3.5737,2,  34.3300,2,  34.3305,2,     41.0,3,    41.5,2,  123.43,2,   41.70,2,    0.00,2,    2.97,2,   0.299,2,   0.180,2,   0.0000,2,  2346.7,2,  2359.6,2,   7.3478,2,    24.98,2, -999.00,9,  -999.0,9, -999.00,9, -999.00,9,       48.5,2, 20220510,     1324,  30.0001, 143.8494,     3.5729,2,     -999.0,9,     -999.0,9,     -999.0,9,     -999.0,9,     0.0134,1,     4.7069,1,     -999.0,9,     -999.0,9,     -999.0,9
33RR20220430,        P02,      24,          1,         18,         18,2,20220510,       1154,    30.0001,   143.8495,       5302,  1211.6,2,   3.2591,2,  34.3784,2,  34.3766,2,     39.5,2,    39.6,2,  132.12,2,   42.33,2,    0.00,2,    2.99,2,   0.215,2,   0.119,2,   0.0000,2,  -999.0,9,  -999.0,9,-999.0000,9,  -999.00,9, -999.00,9,  -999.0,9, -999.00,9, -999.00,9,       48.5,2, 20220510,     1322,  30.0001, 143.8495,     3.2625,2,     -999.0,9,     -999.0,9,     -999.0,9,     -999.0,9,     0.0134,1,     4.7068,1,     -999.0,9,     -999.0,9,     -999.0,9
33RR20220430,        P02,      24,          1,         17,         17,2,20220510,       1154,    30.0001,   143.8495,       5302,  1313.2,2,   3.0105,2,  34.4211,2,  34.4216,2,     40.1,3,    40.8,2,  138.96,2,   42.39,2,    0.00,2,    3.00,2,   0.135,2,   0.078,2,   0.0000,2,  2366.0,2,  2379.4,2,   7.3529,2,    24.99,2, -999.00,9,  -999.0,9, -999.00,9, -999.00,9,       47.4,2, 20220510,     1319,  30.0001, 143.8495,     3.0108,2,     -999.0,9,     -999.0,9,     -999.0,9,     -999.0,9,     0.0134,1,     4.7069,1,     -999.0,9,     -999.0,9,     -999.0,9
33RR20220430,        P02,      24,          1,         16,         16,2,20220510,       1154,    30.0001,   143.8495,       5302,  1414.8,2,   2.7865,2,  34.4595,2,  34.4591,2,     43.6,2,    43.9,2,  144.52,2,   42.39,2,    0.00,2,    3.00,2,   0.082,2,   0.044,2,   0.0000,2,  -999.0,9,  -999.0,9,-999.0000,9,  -999.00,9, -999.00,9,  -999.0,9, -999.00,9, -999.00,9,       45.9,2, 20220510,     1316,  30.0001, 143.8494,     2.7885,2,     -999.0,9,     -999.0,9,     -999.0,9,     -999.0,9,     0.0134,1,     4.7072,1,     -999.0,9,     -999.0,9,     -999.0,9
33RR20220430,        P02,      24,          1,         15,         15,2,20220510,       1154,    30.0001,   143.8495,       5302,  1618.3,2,   2.4567,2,  34.5160,2,  34.5172,2,     53.3,3,    54.5,2,  151.95,2,   42.14,2,    0.00,2,    2.96,2,   0.035,2,   0.020,2,   0.0000,2,  2369.7,2,  2400.2,2,   7.3850,2,    24.98,2, -999.00,9,  -999.0,9, -999.00,9, -999.00,9,       42.4,2, 20220510,     1312,  30.0001, 143.8494,     2.4572,2,     -999.0,9,     -999.0,9,     -999.0,9,     -999.0,9,     0.0134,1,     4.7081,1,     -999.0,9,     -999.0,9,     -999.0,9
33RR20220430,        P02,      24,          1,         14,         14,2,20220510,       1154,    30.0001,   143.8495,       5302,  1819.2,2,   2.1871,2,  34.5602,2,  34.5606,2,     66.9,2,    66.9,2,  156.63,2,   41.29,2,    0.00,2,    2.90,2,   0.018,2,   0.009,2,   0.0000,2,  -999.0,9,  -999.0,9,-999.0000,9,  -999.00,9, -999.00,9,  -999.0,9, -999.00,9, -999.00,9,       39.5,2, 20220510,     1308,  30.0001, 143.8494,     2.1868,2,     -999.0,9,     -999.0,9,     -999.0,9,     -999.0,9,     0.0134,1,     4.7092,1,     -999.0,9,     -999.0,9,     -999.0,9
33RR20220430,        P02,      24,          1,         13,         13,2,20220510,       1154,    30.0001,   143.8495,       5302,  2027.9,2,   1.9811,2,  34.5930,2,  34.5938,2,     80.2,2,    79.8,2,  158.97,2,   40.86,2,    0.00,2,    2.86,2,   0.008,2,   0.000,2,   0.0000,2,  2365.2,6,  2411.5,2,   7.4394,2,    24.95,2, -999.00,9,  -999.0,9, -999.00,9, -999.00,9,       35.4,2, 20220510,     1303,  30.0001, 143.8494,     1.9809,2,     -999.0,9,     -999.0,9,     -999.0,9,     -999.0,9,     0.0132,1,     4.7086,1,     -999.0,9,     -999.0,9,     -999.0,9
33RR20220430,        P02,      24,          1,         12,         12,2,20220510,       1154,    30.0001,   143.8495,       5302,  2279.6,2,   1.8085,2,  34.6215,2,  34.6203,2,     97.8,2,    97.5,2,  158.38,2,   39.57,2,    0.00,2,    2.77,2,   0.007,2,   0.000,2,   0.0000,2,  -999.0,9,  -999.0,9,-999.0000,9,  -999.00,9, -999.00,9,  -999.0,9, -999.00,9, -999.00,9,       31.6,2, 20220510,     1258,  30.0001, 143.8494,     1.8085,2,     -999.0,9,     -999.0,9,     -999.0,9,     -999.0,9,     0.0134,1,     4.7095,1,     -999.0,9,     -999.0,9,     -999.0,9
33RR20220430,        P02,      24,          1,         11,         11,2,20220510,       1154,    30.0001,   143.8495,       5302,  2532.7,2,   1.6816,2,  34.6418,2,  34.6413,2,    112.5,2,   112.7,2,  156.82,2,   38.54,2,    0.00,2,    2.71,2,   0.005,2,   0.000,2,   0.0000,2,  2348.1,2,  2416.0,2,   7.5019,2,    24.99,2, -999.00,9,  -999.0,9, -999.00,9, -999.00,9,       29.3,2, 20220510,     1252,  30.0001, 143.8495,     1.6816,2,     -999.0,9,     -999.0,9,     -999.0,9,     -999.0,9,     0.0134,1,     4.7104,1,     -999.0,9,     -999.0,9,     -999.0,9
33RR20220430,        P02,      24,          1,         10,         10,2,20220510,       1154,    30.0001,   143.8495,       5302,  2787.1,2,   1.6099,2,  34.6545,2,  34.6541,2,    123.8,2,   124.1,2,  154.27,2,   37.87,2,    0.00,2,    2.64,2,   0.005,2,   0.000,2,   0.0000,2,  -999.0,9,  -999.0,9,-999.0000,9,  -999.00,9, -999.00,9,  -999.0,9, -999.00,9, -999.00,9,       27.6,2, 20220510,     1247,  30.0001, 143.8494,     1.6101,2,     -999.0,9,     -999.0,9,     -999.0,9,     -999.0,9,     0.0125,1,     4.7105,1,     -999.0,9,     -999.0,9,     -999.0,9
33RR20220430,        P02,      24,          1,          9,          9,2,20220510,       1154,    30.0001,   143.8495,       5302,  3043.4,2,   1.5556,2,  34.6630,2,  34.6633,2,    130.6,2,   130.9,2,  153.88,2,   37.59,2,    0.00,2,    2.61,2,   0.006,2,   0.000,2,   0.0000,2,  2335.8,2,  2417.3,2,   7.5355,2,    24.99,2, -999.00,9,  -999.0,9, -999.00,9, -999.00,9,       26.8,2, 20220510,     1241,  30.0001, 143.8495,     1.5559,2,     -999.0,9,     -999.0,9,     -999.0,9,     -999.0,9,     0.0127,1,     4.7098,1,     -999.0,9,     -999.0,9,     -999.0,9
33RR20220430,        P02,      24,          1,          8,          8,2,20220510,       1154,    30.0001,   143.8495,       5302,  3348.5,2,   1.5072,2,  34.6716,2,  34.6714,2,    139.1,2,   139.0,2,  151.93,2,   36.95,2,    0.00,2,    2.57,2,   0.005,2,   0.000,2,   0.0000,2,  -999.0,9,  -999.0,9,-999.0000,9,  -999.00,9, -999.00,9,  -999.0,9, -999.00,9, -999.00,9,       25.3,2, 20220510,     1235,  30.0001, 143.8494,     1.5075,2,     -999.0,9,     -999.0,9,     -999.0,9,     -999.0,9,     0.0122,1,     4.7098,1,     -999.0,9,     -999.0,9,     -999.0,9
33RR20220430,        P02,      24,          1,          7,          7,2,20220510,       1154,    30.0001,   143.8495,       5302,  3658.0,2,   1.4758,2,  34.6777,2,  34.6775,2,    145.5,2,   145.5,2,  150.75,2,   36.66,2,    0.00,2,    2.52,2,   0.006,2,   0.000,2,   0.0000,2,  2327.0,2,  2415.6,2,   7.5609,2,    24.98,2, -999.00,9,  -999.0,9, -999.00,9, -999.00,9,       24.6,2, 20220510,     1229,  30.0001, 143.8495,     1.4759,2,     -999.0,9,     -999.0,9,     -999.0,9,     -999.0,9,     0.0122,1,     4.7092,1,     -999.0,9,     -999.0,9,     -999.0,9
33RR20220430,        P02,      24,          1,          6,          6,2,20220510,       1154,    30.0001,   143.8495,       5302,  3964.0,2,   1.4653,2,  34.6823,2,  34.6820,2,    151.5,2,   151.4,2,  148.60,2,   36.11,2,    0.00,2,    2.48,2,   0.006,2,   0.000,2,   0.0000,2,  -999.0,9,  -999.0,9,-999.0000,9,  -999.00,9, -999.00,9,  -999.0,9, -999.00,9, -999.00,9,       24.8,2, 20220510,     1223,  30.0001, 143.8495,     1.4655,2,     -999.0,9,     -999.0,9,     -999.0,9,     -999.0,9,     0.0123,1,     4.7105,1,     -999.0,9,     -999.0,9,     -999.0,9
33RR20220430,        P02,      24,          1,          5,          5,2,20220510,       1154,    30.0001,   143.8495,       5302,  4272.0,2,   1.4651,2,  34.6856,2,  34.6849,2,    155.9,2,   156.0,2,  146.85,2,   35.74,2,    0.00,2,    2.46,2,   0.005,2,   0.000,2,   0.0000,2,  2318.9,2,  2412.9,2,   7.5767,2,    24.99,2, -999.00,9,  -999.0,9, -999.00,9, -999.00,9,       24.0,2, 20220510,     1217,  30.0001, 143.8494,     1.4650,2,     -999.0,9,     -999.0,9,     -999.0,9,     -999.0,9,     0.0122,1,     4.7105,1,     -999.0,9,     -999.0,9,     -999.0,9
33RR20220430,        P02,      24,          1,          4,          4,2,20220510,       1154,    30.0001,   143.8495,       5302,  4581.2,2,   1.4715,2,  34.6883,2,  34.6865,2,    159.9,2,   160.0,2,  144.89,2,   35.73,2,    0.00,2,    2.44,2,   0.006,2,   0.000,2,   0.0000,2,  -999.0,9,  -999.0,9,-999.0000,9,  -999.00,9, -999.00,9,  -999.0,9, -999.00,9, -999.00,9,       23.9,2, 20220510,     1211,  30.0001, 143.8494,     1.4713,2,     -999.0,9,     -999.0,9,     -999.0,9,     -999.0,9,     0.0122,1,     4.7106,1,     -999.0,9,     -999.0,9,     -999.0,9