BOTTLE,20230801CCHSIOCBG
EXPOCODE,SECT_ID,STNNBR,CASTNO,SAMPNO,BTLNBR,BTLNBR_FLAG_W,DATE,TIME,LATITUDE,LONGITUDE,DEPTH,CTDPRS,CTDPRS_FLAG_W,CTDTMP,CTDTMP_FLAG_W,CTDSAL,CTDSAL_FLAG_W,SALNTY,SALNTY_FLAG_W,CTDOXY,CTDOXY_FLAG_W,OXYGEN,OXYGEN_FLAG_W,SILCAT,SILCAT_FLAG_W,NITRAT,NITRAT_FLAG_W,NITRIT,NITRIT_FLAG_W,PHSPHT,PHSPHT_FLAG_W,CFC-11,CFC-11_FLAG_W,CFC-12,CFC-12_FLAG_W,SF6,SF6_FLAG_W,TCARBN,TCARBN_FLAG_W,ALKALI,ALKALI_FLAG_W,PH_TOT,PH_TOT_FLAG_W,PH_TMP,PH_TMP_FLAG_W,DELC13,DELC13_FLAG_W,DELC14,DELC14_FLAG_W,DOC,DOC_FLAG_W,TDN,TDN_FLAG_W,N2O,N2O_FLAG_W,BTL_DATE,BTL_TIME,BTL_LAT,BTL_LON,REFTMP,REFTMP_FLAG_W,POC,POC_FLAG_W,PON,PON_FLAG_W,POP,POP_FLAG_W,PCOD,PCOD_FLAG_W,CTDFLUOR,CTDFLUOR_FLAG_W,CTDXMISS,CTDXMISS_FLAG_W,HPLC,HPLC_FLAG_W,DNA,DNA_FLAG_W,FCM,FCM_FLAG_W
,,,,,,,,,,,METERS,DBAR,,ITS-90,,PSS-78,,PSS-78,,UMOL/KG,,UMOL/KG,,UMOL/KG,,UMOL/KG,,UMOL/KG,,UMOL/KG,,PMOL/KG,,PMOL/KG,,FMOL/KG,,UMOL/KG,,UMOL/KG,,,,DEG C,,/MILLE,,/MILLE,,UMOL/KG,,UMOL/KG,,NMOL/KG,,,,,,ITS-90,,UG/L,,UG/L,,UG/L,,UG/L,,VOLTS,,VOLTS,,,,,,,
33RR20220430,        P02,     114,          1,         36,         36,2,20220607,       1113,    30.0001,  -162.9431,       5754,     3.7,2,  24.2840,2,  35.0451,2,  35.0289,2,    215.2,2,   214.4,2,    0.00,2,    0.02,2,    0.00,2,    0.00,2,   1.558,2,   1.053,2,   2.0015,2,  2018.6,2,  2299.0,2,   8.0111,2,    25.02,2, -999.00,9,  -999.0,9, -999.00,9, -999.00,9,        7.3,2, 20220607,     1330,  30.0001,-162.9431,    24.2591,2,     -999.0,9,     -999.0,9,     -999.0,9,     -999.0,9,     0.0134,1,     4.6283,1,     -999.0,9,     -999.0,9,     -999.0,9
33RR20220430,        P02,     114,          1,         35,         35,2,20220607,       1113,    30.0001,  -162.9431,       5754,    26.1,2,  22.4364,2,  35.1163,2,  35.1033,2,    226.8,2,   227.1,2,    0.29,2,    0.01,2,    0.00,2,    0.01,2,   1.689,2,   1.114,2,   1.9972,2,  2020.3,6,  2304.0,2,   8.0181,2,    25.04,2, -999.00,9,  -999.0,9, -999.00,9, -999.00,9,        7.6,2, 20220607,     1329,  30.0001,-162.9431,    22.4316,2,     -999.0,9,     -999.0,9,     -999.0,9,     -999.0,9,     0.0144,1,     4.6347,1,     -999.0,9,     -999.0,9,     -999.0,9
33RR20220430,        P02,     114,          1,         34,         34,2,20220607,       1113,    30.0001,  -162.9431,       5754,    54.3,2,  20.7532,2,  35.0780,2,  35.0718,2,    231.3,2,   230.8,2,    0.49,2,    0.00,2,    0.00,2,    0.02,2,   1.774,2,   1.160,2,   2.0503,2,  2023.7,2,  2301.4,2,   8.0073,2,    25.03,2, -999.00,9,  -999.0,9, -999.00,9, -999.00,9,        7.9,2, 20220607,     1327,  30.0001,-162.9431,    20.7578,2,     -999.0,9,     -999.0,9,     -999.0,9,     -999.0,9,     0.0147,1,     4.6383,1,     -999.0,9,     -999.0,9,     -999.0,9
33RR20220430,        P02,     114,          1,         33,         33,2,20220607,       1113,    30.0001,  -162.9431,       5754,    73.4,2,  19.3854,2,  34.9334,2,  34.9294,2,    229.7,2,   230.4,2,    0.59,2,    0.00,2,    0.00,2,    0.05,2,   1.896,2,   1.240,2,   2.2438,2,  2030.1,2,  2293.5,2,   7.9823,2,    24.99,2, -999.00,9,  -999.0,9, -999.00,9, -999.00,9,        8.4,2, 20220607,     1325,  30.0000,-162.9430,    19.4101,2,     -999.0,9,     -999.0,9,     -999.0,9,     -999.0,9,     0.0171,1,     4.6466,1,     -999.0,9,     -999.0,9,     -999.0,9
33RR20220430,        P02,     114,          1,         32,         32,2,20220607,       1113,    30.0001,  -162.9431,       5754,    97.2,2,  18.0793,2,  34.7647,2,  34.7518,2,    234.2,2,   235.0,2,    0.98,2,    0.00,2,    0.00,2,    0.06,2,   2.011,2,   1.305,2,   2.2982,2,  2031.9,2,  2282.2,2,   7.9636,2,    25.00,2, -999.00,9,  -999.0,9, -999.00,9, -999.00,9,        8.8,2, 20220607,     1323,  30.0000,-162.9430,    18.0918,2,     -999.0,9,     -999.0,9,     -999.0,9,     -999.0,9,     0.0220,1,     4.6509,1,     -999.0,9,     -999.0,9,     -999.0,9
33RR20220430,        P02,     114,          1,         31,         31,2,20220607,       1113,    30.0001,  -162.9431,       5754,   151.4,2,  16.6294,2,  34.6314,2,  34.6233,2,    221.5,2,   222.0,2,    2.05,2,    2.09,2,    0.07,2,    0.22,2,   2.105,2,   1.375,2,   2.3229,2,  2050.2,2,  2273.2,2,   7.9158,2,    25.00,2, -999.00,9,  -999.0,9, -999.00,9, -999.00,9,       10.2,2, 20220607,     1321,  30.0001,-162.9430,    16.6338,2,     -999.0,9,     -999.0,9,     -999.0,9,     -999.0,9,     0.0256,1,     4.6682,1,     -999.0,9,     -999.0,9,     -999.0,9
33RR20220430,        P02,     114,          1,         30,         30,2,20220607,       1113,    30.0001,  -162.9431,       5754,   201.2,2,  14.8175,2,  34.4968,2,  34.4842,2,    213.2,2,   213.0,2,    4.69,2,    6.34,2,    0.01,2,    0.48,2,   2.344,2,   1.486,2,   2.3621,2,  -999.0,9,  -999.0,9,-999.0000,9,  -999.00,9, -999.00,9,  -999.0,9, -999.00,9, -999.00,9,       13.0,2, 20220607,     1319,  30.0001,-162.9430,    14.8192,2,     -999.0,9,     -999.0,9,     -999.0,9,     -999.0,9,     0.0134,1,     4.6823,1,     -999.0,9,     -999.0,9,     -999.0,9
33RR20220430,        P02,     114,          1,         29,         29,2,20220607,       1113,    30.0001,  -162.9431,       5754,   252.4,2,  13.2876,2,  34.3724,2,  34.3696,2,    215.1,2,   214.9,2,    7.52,2,    8.73,2,    0.00,2,    0.65,2,   2.505,2,   1.580,2,   2.3385,2,  2082.0,2,  2263.2,2,   7.8272,2,    25.02,2, -999.00,9,  -999.0,9, -999.00,9, -999.00,9,       14.4,2, 20220607,     1318,  30.0001,-162.9431,    13.3099,2,     -999.0,9,     -999.0,9,     -999.0,9,     -999.0,9,     0.0122,1,     4.6884,1,     -999.0,9,     -999.0,9,     -999.0,9
33RR20220430,        P02,     114,          1,         28,         28,2,20220607,       1113,    30.0001,  -162.9431,       5754,   302.6,2,  12.2812,2,  34.2954,2,  34.2868,2,    216.3,2,   216.6,2,   10.36,2,   10.74,2,    0.00,2,    0.78,2,   2.615,2,   1.647,2,   2.2670,2,  -999.0,9,  -999.0,9,-999.0000,9,  -999.00,9, -999.00,9,  -999.0,9, -999.00,9, -999.00,9,       15.7,2, 20220607,     1316,  30.0001,-162.9431,    12.2812,2,     -999.0,9,     -999.0,9,     -999.0,9,     -999.0,9,     0.0122,1,     4.6902,1,     -999.0,9,     -999.0,9,     -999.0,9
33RR20220430,        P02,     114,          1,         27,         27,2,20220607,       1113,    30.0001,  -162.9431,       5754,   353.4,2,  11.3609,2,  34.2280,2,  34.2168,2,    213.0,2,   213.4,2,   13.78,2,   12.98,2,    0.00,2,    0.94,2,   2.696,2,   1.691,2,   2.0895,2,  2103.4,2,  2261.5,2,   7.7697,2,    25.00,2, -999.00,9,  -999.0,9, -999.00,9, -999.00,9,       17.1,2, 20220607,     1314,  30.0001,-162.9431,    11.3602,2,     -999.0,9,     -999.0,9,     -999.0,9,     -999.0,9,     0.0122,1,     4.6918,1,     -999.0,9,     -999.0,9,     -999.0,9
33RR20220430,        P02,     114,          1,         26,         26,2,20220607,       1113,    30.0001,  -162.9431,       5754,   402.7,2,  10.4810,2,  34.1656,2,  34.1593,2,    209.4,2,   209.0,2,   17.39,2,   14.93,2,    0.00,2,    1.08,2,-999.000,9,-999.000,9,-999.0000,9,  -999.0,9,  -999.0,9,-999.0000,9,  -999.00,9, -999.00,9,  -999.0,9, -999.00,9, -999.00,9,     -999.0,9, 20220607,     1312,  30.0001,-162.9431,    10.4697,2,     -999.0,9,     -999.0,9,     -999.0,9,     -999.0,9,     0.0122,1,     4.6930,1,     -999.0,9,     -999.0,9,     -999.0,9
33RR20220430,        P02,     114,          1,         25,         25,2,20220607,       1113,    30.0001,  -162.9431,       5754,   503.9,2,   8.3599,2,  34.0411,2,  34.0388,2,    173.8,2,   173.9,2,   32.64,2,   22.42,2,    0.00,2,    1.60,2,   2.691,2,   1.644,2,   1.6147,2,  2165.1,2,  2267.7,2,   7.6297,2,    25.00,2, -999.00,9,  -999.0,9, -999.00,9, -999.00,9,       24.2,2, 20220607,     1309,  30.0001,-162.9431,     8.3582,2,     -999.0,9,     -999.0,9,     -999.0,9,     -999.0,9,     0.0122,1,     4.6955,1,     -999.0,9,     -999.0,9,     -999.0,9
33RR20220430,        P02,     114,          1,         24,         24,2,20220607,       1113,    30.0001,  -162.9431,       5754,   604.9,2,   6.4089,2,  34.0071,2,  34.0070,2,    120.5,3,   118.6,2,   57.07,2,   31.26,2,    0.00,2,    2.24,2,   2.088,2,   1.255,2,   0.8416,2,  2231.0,2,  2289.5,2,   7.4858,2,    24.99,2, -999.00,9,  -999.0,9, -999.00,9, -999.00,9,       33.1,2, 20220607,     1306,  30.0001,-162.9431,     6.4117,2,     -999.0,9,     -999.0,9,     -999.0,9,     -999.0,9,     0.0130,1,     4.6971,1,     -999.0,9,     -999.0,9,     -999.0,9
33RR20220430,        P02,     114,          1,         23,         23,2,20220607,       1113,    30.0001,  -162.9431,       5754,   707.4,2,   5.1662,2,  34.0651,2,  34.0660,2,     68.4,2,    68.5,2,   80.33,2,   37.81,2,    0.00,2,    2.73,2,   1.249,6,   0.719,6,   0.4227,6,  2286.1,2,  2304.4,2,   7.3756,2,    24.99,2, -999.00,9,  -999.0,9, -999.00,9, -999.00,9,       42.4,6, 20220607,     1303,  30.0001,-162.9431,     5.1732,2,     -999.0,9,     -999.0,9,     -999.0,9,     -999.0,9,     0.0133,1,     4.6982,1,     -999.0,9,     -999.0,9,     -999.0,9
33RR20220430,        P02,     114,          1,         22,         22,2,20220607,       1113,    30.0001,  -162.9431,       5754,   807.0,2,   4.4699,2,  34.1617,2,  34.1605,2,     36.9,3,    37.9,2,   99.08,2,   41.33,2,    0.00,2,    2.99,2,   0.558,2,   0.326,2,   0.0000,2,  -999.0,9,  -999.0,9,-999.0000,9,  -999.00,9, -999.00,9,  -999.0,9, -999.00,9, -999.00,9,       49.5,2, 20220607,     1301,  30.0001,-162.9431,     4.4699,2,     -999.0,9,     -999.0,9,     -999.0,9,     -999.0,9,     0.0134,1,     4.6983,1,     -999.0,9,     -999.0,9,     -999.0,9
33RR20220430,        P02,     114,          1,         21,         21,2,20220607,       1113,    30.0001,  -162.9431,       5754,   908.3,2,   3.9997,2,  34.2457,2,  34.2472,2,     20.8,2,    20.7,2,  113.44,2,   42.97,2,    0.00,2,    3.12,2,   0.205,2,   0.120,2,   0.0000,2,  2348.8,2,  2343.9,2,   7.3003,2,    24.99,2, -999.00,9,  -999.0,9, -999.00,9, -999.00,9,       54.9,2, 20220607,     1258,  30.0001,-162.9431,     3.9992,2,     -999.0,9,     -999.0,9,     -999.0,9,     -999.0,9,     0.0134,1,     4.6983,1,     -999.0,9,     -999.0,9,     -999.0,9
33RR20220430,        P02,     114,          1,         20,         20,2,20220607,       1113,    30.0001,  -162.9431,       5754,  1009.1,2,   3.6965,2,  34.3300,2,  34.3321,2,     15.3,3,    15.7,2,  124.47,2,   43.71,2,    0.00,2,    3.18,2,   0.050,2,   0.033,2,   0.0000,2,  2363.9,2,  2359.4,2,   7.2999,2,    24.99,2, -999.00,9,  -999.0,9, -999.00,9, -999.00,9,       57.4,2, 20220607,     1255,  30.0001,-162.9431,     3.6965,2,     -999.0,9,     -999.0,9,     -999.0,9,     -999.0,9,     0.0134,1,     4.6985,1,     -999.0,9,     -999.0,9,     -999.0,9
33RR20220430,        P02,     114,          1,         19,         19,2,20220607,       1113,    30.0001,  -162.9431,       5754,  1116.5,2,   3.4731,2,  34.4199,2,  34.4196,2,     27.4,3,    27.1,2,  129.15,2,   43.11,2,    0.00,2,    3.14,2,   0.023,2,   0.018,2,   0.0000,2,  2366.2,2,  2370.7,2,   7.3361,2,    24.99,2, -999.00,9,  -999.0,9, -999.00,9, -999.00,9,       52.1,2, 20220607,     1252,  30.0001,-162.9431,     3.4787,2,     -999.0,9,     -999.0,9,     -999.0,9,     -999.0,9,     0.0134,1,     4.7000,1,     -999.0,9,     -999.0,9,     -999.0,9
33RR20220430,        P02,     114,          1,         18,         18,2,20220607,       1113,    30.0001,  -162.9431,       5754,  1217.0,2,   3.2630,2,  34.4662,2,  34.4673,2,     36.8,3,    36.0,2,  133.55,2,   42.61,2,    0.00,2,    3.11,2,   0.014,2,   0.008,2,   0.0000,2,  -999.0,9,  -999.0,9,-999.0000,9,  -999.00,9, -999.00,9,  -999.0,9, -999.00,9, -999.00,9,       48.5,2, 20220607,     1249,  30.0001,-162.9431,     3.2627,2,     -999.0,9,     -999.0,9,     -999.0,9,     -999.0,9,     0.0134,1,     4.7005,1,     -999.0,9,     -999.0,9,     -999.0,9
33RR20220430,        P02,     114,          1,         17,         17,2,20220607,       1113,    30.0001,  -162.9431,       5754,  1318.9,2,   3.0372,2,  34.5016,2,  34.5027,2,     45.4,3,    46.0,2,  137.45,2,   42.21,2,    0.00,2,    3.06,2,   0.008,2,   0.000,2,   0.0000,2,  2365.8,2,  2386.2,2,   7.3781,2,    25.02,2, -999.00,9,  -999.0,9, -999.00,9, -999.00,9,       44.8,2, 20220607,     1246,  30.0001,-162.9431,     3.0365,2,     -999.0,9,     -999.0,9,     -999.0,9,     -999.0,9,     0.0128,1,     4.7008,1,     -999.0,9,     -999.0,9,     -999.0,9
33RR20220430,        P02,     114,          1,         16,         16,2,20220607,       1113,    30.0001,  -162.9431,       5754,  1420.0,2,   2.8619,2,  34.5235,2,  34.5252,2,     50.2,2,    50.0,2,  142.04,2,   41.99,2,    0.00,2,    3.04,2,   0.007,2,   0.000,2,   0.0000,2,  2369.0,2,  2392.4,2,   7.3892,2,    25.00,2, -999.00,9,  -999.0,9, -999.00,9, -999.00,9,       42.5,2, 20220607,     1244,  30.0001,-162.9431,     2.8612,2,     -999.0,9,     -999.0,9,     -999.0,9,     -999.0,9,     0.0134,1,     4.7009,1,     -999.0,9,     -999.0,9,     -999.0,9
33RR20220430,        P02,     114,          1,         15,         15,2,20220607,       1113,    30.0001,  -162.9431,       5754,  1622.4,2,   2.4939,2,  34.5586,2,  34.5604,2,     56.5,2,    56.5,2,  153.07,2,   41.84,2,    0.00,2,    3.00,2,   0.002,2,   0.000,2,   0.0000,2,  2373.5,2,  2403.5,2,   7.4000,2,    25.01,2, -999.00,9,  -999.0,9, -999.00,9, -999.00,9,       39.4,2, 20220607,     1239,  30.0001,-162.9431,     2.4959,2,     -999.0,9,     -999.0,9,     -999.0,9,     -999.0,9,     0.0134,1,     4.7014,1,     -999.0,9,     -999.0,9,     -999.0,9
33RR20220430,        P02,     114,          1,         14,         14,2,20220607,       1113,    30.0001,  -162.9431,       5754,  1825.6,2,   2.2077,2,  34.5874,2,  34.5893,2,     71.0,2,    71.3,2,  158.44,2,   41.05,2,    0.00,2,    2.93,2,   0.003,2,   0.000,2,   0.0000,2,  2369.2,2,  2409.9,2,   7.4278,2,    25.00,2, -999.00,9,  -999.0,9, -999.00,9, -999.00,9,       35.5,2, 20220607,     1235,  30.0001,-162.9431,     2.2087,2,     -999.0,9,     -999.0,9,     -999.0,9,     -999.0,9,     0.0130,1,     4.7021,1,     -999.0,9,     -999.0,9,     -999.0,9
33RR20220430,        P02,     114,          1,         13,         13,3,20220607,       1113,    30.0001,  -162.9431,       5754,  2028.4,3,   2.0410,3,  34.6045,3,  34.6056,3,     82.3,3,    82.5,3,  160.00,3,   40.30,3,    0.00,3,    2.87,3,-999.000,9,-999.000,9,-999.0000,9,  -999.0,9,  -999.0,9,-999.0000,9,  -999.00,9, -999.00,9,  -999.0,9, -999.00,9, -999.00,9,     -999.0,9, 20220607,     1231,  30.0001,-162.9431,     2.0407,3,     -999.0,9,     -999.0,9,     -999.0,9,     -999.0,9,     0.0132,1,     4.7031,1,     -999.0,9,     -999.0,9,     -999.0,9
33RR20220430,        P02,     114,          1,         12,         12,2,20220607,       1113,    30.0001,  -162.9431,       5754,  2283.4,2,   1.8477,2,  34.6259,2,  34.6272,2,     95.0,2,    94.5,2,  163.03,2,   39.55,2,    0.00,2,    2.80,2,-999.000,9,-999.000,9,-999.0000,9,  -999.0,9,  -999.0,9,-999.0000,9,  -999.00,9, -999.00,9,  -999.0,9, -999.00,9, -999.00,9,     -999.0,9, 20220607,     1225,  30.0001,-162.9431,     1.8479,2,     -999.0,9,     -999.0,9,     -999.0,9,     -999.0,9,     0.0133,1,     4.7040,1,     -999.0,9,     -999.0,9,     -999.0,9
33RR20220430,        P02,     114,          1,         11,         11,2,20220607,       1113,    30.0001,  -162.9431,       5754,  2536.2,2,   1.7203,2,  34.6402,3,  34.6427,2,    103.1,2,   103.3,2,  165.96,2,   39.03,2,    0.00,2,    2.77,2,   0.003,2,   0.000,2,   0.0000,2,  2360.4,2,  2420.4,2,   7.4899,2,    25.00,2, -999.00,9,  -999.0,9, -999.00,9, -999.00,9,       28.6,2, 20220607,     1220,  30.0001,-162.9431,     1.7198,2,     -999.0,9,     -999.0,9,     -999.0,9,     -999.0,9,     0.0127,1,     4.7041,1,     -999.0,9,     -999.0,9,     -999.0,9
33RR20220430,        P02,     114,          1,         10,         10,2,20220607,       1113,    30.0001,  -162.9431,       5754,  2791.5,2,   1.6364,2,  34.6510,3,  34.6535,2,    112.0,2,   112.0,2,  166.05,2,   38.52,2,    0.00,2,    2.73,2,-999.000,9,-999.000,9,-999.0000,9,  -999.0,9,  -999.0,9,-999.0000,9,  -999.00,9, -999.00,9,  -999.0,9, -999.00,9, -999.00,9,     -999.0,9, 20220607,     1215,  30.0001,-162.9431,     1.6364,2,     -999.0,9,     -999.0,9,     -999.0,9,     -999.0,9,     0.0124,1,     4.7037,1,     -999.0,9,     -999.0,9,     -999.0,9
33RR20220430,        P02,     114,          1,          9,          9,2,20220607,       1113,    30.0001,  -162.9431,       5754,  3046.1,2,   1.5684,2,  34.6601,3,  34.6622,2,    121.9,2,   122.0,2,  164.30,2,   37.91,2,    0.00,2,    2.68,2,-999.000,9,-999.000,9,-999.0000,9,  2351.8,2,  2423.2,2,   7.5234,2,    25.00,2, -999.00,9,  -999.0,9, -999.00,9, -999.00,9,     -999.0,9, 20220607,     1210,  30.0001,-162.9431,     1.5684,2,     -999.0,9,     -999.0,9,     -999.0,9,     -999.0,9,     0.0122,1,     4.7044,1,     -999.0,9,     -999.0,9,     -999.0,9
33RR20220430,        P02,     114,          1,          8,          8,2,20220607,       1113,    30.0001,  -162.9431,       5754,  3352.2,2,   1.5264,2,  34.6678,2,  34.6694,2,    130.0,2,   130.3,2,  161.95,2,   37.36,2,    0.00,2,    2.62,2,   0.002,2,   0.000,2,   0.0000,2,  -999.0,9,  -999.0,9,-999.0000,9,  -999.00,9, -999.00,9,  -999.0,9, -999.00,9, -999.00,9,       24.6,2, 20220607,     1204,  30.0001,-162.9431,     1.5263,2,     -999.0,9,     -999.0,9,     -999.0,9,     -999.0,9,     0.0122,1,     4.7043,1,     -999.0,9,     -999.0,9,     -999.0,9
33RR20220430,        P02,     114,          1,          7,          7,2,20220607,       1113,    30.0001,  -162.9431,       5754,  3660.3,2,   1.4945,2,  34.6744,2,  34.6749,2,    138.4,2,   138.7,2,  159.51,2,   36.78,2,    0.00,2,    2.56,2,-999.000,9,-999.000,9,-999.0000,9,  2338.8,2,  2422.4,2,   7.5539,2,    25.00,2, -999.00,9,  -999.0,9, -999.00,9, -999.00,9,     -999.0,9, 20220607,     1157,  30.0001,-162.9431,     1.4944,2,     -999.0,9,     -999.0,9,     -999.0,9,     -999.0,9,     0.0122,1,     4.7050,1,     -999.0,9,     -999.0,9,     -999.0,9
33RR20220430,        P02,     114,          1,          6,          6,2,20220607,       1113,    30.0001,  -162.9431,       5754,  3966.1,2,   1.4858,2,  34.6788,2,  34.6804,2,    144.0,2,   144.0,2,  157.94,2,   36.41,2,    0.00,2,    2.54,2,-999.000,9,-999.000,9,-999.0000,9,  -999.0,9,  -999.0,9,-999.0000,9,  -999.00,9, -999.00,9,  -999.0,9, -999.00,9, -999.00,9,     -999.0,9, 20220607,     1151,  30.0001,-162.9430,     1.4856,2,     -999.0,9,     -999.0,9,     -999.0,9,     -999.0,9,     0.0127,1,     4.7056,1,     -999.0,9,     -999.0,9,     -999.0,9
33RR20220430,        P02,     114,          1,          5,          5,2,20220607,       1113,    30.0001,  -162.9431,       5754,  4376.1,2,   1.4957,2,  34.6827,2,  34.6838,2,    149.5,2,   149.6,2,  155.89,2,   36.09,2,    0.00,2,    2.50,2,   0.004,2,   0.000,2,   0.0000,2,  2332.3,2,  2421.8,2,   7.5729,2,    25.00,2, -999.00,9,  -999.0,9, -999.00,9, -999.00,9,       22.7,2, 20220607,     1144,  30.0001,-162.9431,     1.4957,2,     -999.0,9,     -999.0,9,     -999.0,9,     -999.0,9,     0.0122,1,     4.7055,1,     -999.0,9,     -999.0,9,     -999.0,9
33RR20220430,        P02,     114,          1,          4,          4,2,20220607,       1113,    30.0001,  -162.9431,       5754,  4788.3,2,   1.5145,2,  34.6854,2,  34.6867,2,    154.2,2,   154.4,2,  153.35,2,   35.77,2,    0.00,2,    2.47,2,-999.000,9,-999.000,9,-999.0000,9,  2327.1,2,  2419.1,2,   7.5800,2,    25.00,2, -999.00,9,  -999.0,9, -999.00,9, -999.00,9,     -999.0,9, 20220607,     1136,  30.0000,-162.9431,     1.5145,2,     -999.0,9,     -999.0,9,     -999.0,9,     -999.0,9,     0.0122,1,     4.7055,1,     -999.0,9,     -999.0,9,     -999.0,9