BOTTLE,20230801CCHSIOCBG
EXPOCODE,SECT_ID,STNNBR,CASTNO,SAMPNO,BTLNBR,BTLNBR_FLAG_W,DATE,TIME,LATITUDE,LONGITUDE,DEPTH,CTDPRS,CTDPRS_FLAG_W,CTDTMP,CTDTMP_FLAG_W,CTDSAL,CTDSAL_FLAG_W,SALNTY,SALNTY_FLAG_W,CTDOXY,CTDOXY_FLAG_W,OXYGEN,OXYGEN_FLAG_W,SILCAT,SILCAT_FLAG_W,NITRAT,NITRAT_FLAG_W,NITRIT,NITRIT_FLAG_W,PHSPHT,PHSPHT_FLAG_W,CFC-11,CFC-11_FLAG_W,CFC-12,CFC-12_FLAG_W,SF6,SF6_FLAG_W,TCARBN,TCARBN_FLAG_W,ALKALI,ALKALI_FLAG_W,PH_TOT,PH_TOT_FLAG_W,PH_TMP,PH_TMP_FLAG_W,DELC13,DELC13_FLAG_W,DELC14,DELC14_FLAG_W,DOC,DOC_FLAG_W,TDN,TDN_FLAG_W,N2O,N2O_FLAG_W,BTL_DATE,BTL_TIME,BTL_LAT,BTL_LON,REFTMP,REFTMP_FLAG_W,POC,POC_FLAG_W,PON,PON_FLAG_W,POP,POP_FLAG_W,PCOD,PCOD_FLAG_W,CTDFLUOR,CTDFLUOR_FLAG_W,CTDXMISS,CTDXMISS_FLAG_W,HPLC,HPLC_FLAG_W,DNA,DNA_FLAG_W,FCM,FCM_FLAG_W
,,,,,,,,,,,METERS,DBAR,,ITS-90,,PSS-78,,PSS-78,,UMOL/KG,,UMOL/KG,,UMOL/KG,,UMOL/KG,,UMOL/KG,,UMOL/KG,,PMOL/KG,,PMOL/KG,,FMOL/KG,,UMOL/KG,,UMOL/KG,,,,DEG C,,/MILLE,,/MILLE,,UMOL/KG,,UMOL/KG,,NMOL/KG,,,,,,ITS-90,,UG/L,,UG/L,,UG/L,,UG/L,,VOLTS,,VOLTS,,,,,,,
33RR20220430,        P02,      84,          1,          3,          3,2,20220529,       1321,    30.0006,   179.7481,       5360,  4886.7,2,   1.4752,2,  34.6903,2,  34.6897,2,    163.5,2,   163.2,2,  143.96,2,   35.28,2,    0.00,2,    2.43,2,   0.008,2,   0.000,2,   0.0000,2,  -999.0,9,  -999.0,9,-999.0000,9,  -999.00,9, -999.00,9,  -999.0,9, -999.00,9, -999.00,9,       20.9,2, 20220529,     1333,  30.0006, 179.7481,     1.4751,2,     -999.0,9,     -999.0,9,     -999.0,9,     -999.0,9,     0.0122,1,     4.7055,1,     -999.0,9,     -999.0,9,     -999.0,9
33RR20220430,        P02,      84,          1,          2,          2,2,20220529,       1321,    30.0006,   179.7481,       5360,  5195.0,2,   1.4964,2,  34.6919,2,  34.6910,2,    166.5,2,   167.3,2,  141.22,2,   35.03,2,    0.00,2,    2.41,2,-999.000,9,-999.000,9,-999.0000,9,  2312.4,6,  2409.7,2,   7.5921,2,    24.97,2, -999.00,9,  -999.0,9, -999.00,9, -999.00,9,     -999.0,9, 20220529,     1326,  30.0006, 179.7480,     1.4964,2,     -999.0,9,     -999.0,9,     -999.0,9,     -999.0,9,     0.0122,1,     4.7044,1,     -999.0,9,     -999.0,9,     -999.0,9
33RR20220430,        P02,      84,          1,          1,          1,2,20220529,       1321,    30.0006,   179.7481,       5360,  5455.8,2,   1.5219,2,  34.6925,2,  34.6940,2,    168.1,2,   167.8,2,  140.15,2,   34.95,2,    0.00,2,    2.40,2,   0.009,2,   0.000,2,   0.0000,2,  2311.1,2,  2407.4,2,   7.5934,2,    24.99,2, -999.00,9,  -999.0,9, -999.00,9, -999.00,9,       21.3,2, 20220529,     1321,  30.0006, 179.7480,     1.5219,2,     -999.0,9,     -999.0,9,     -999.0,9,     -999.0,9,     0.0128,1,     4.7031,1,     -999.0,9,     -999.0,9,     -999.0,9