BOTTLE,20230801CCHSIOCBG
EXPOCODE,SECT_ID,STNNBR,CASTNO,SAMPNO,BTLNBR,BTLNBR_FLAG_W,DATE,TIME,LATITUDE,LONGITUDE,DEPTH,CTDPRS,CTDPRS_FLAG_W,CTDTMP,CTDTMP_FLAG_W,CTDSAL,CTDSAL_FLAG_W,SALNTY,SALNTY_FLAG_W,CTDOXY,CTDOXY_FLAG_W,OXYGEN,OXYGEN_FLAG_W,SILCAT,SILCAT_FLAG_W,NITRAT,NITRAT_FLAG_W,NITRIT,NITRIT_FLAG_W,PHSPHT,PHSPHT_FLAG_W,CFC-11,CFC-11_FLAG_W,CFC-12,CFC-12_FLAG_W,SF6,SF6_FLAG_W,TCARBN,TCARBN_FLAG_W,ALKALI,ALKALI_FLAG_W,PH_TOT,PH_TOT_FLAG_W,PH_TMP,PH_TMP_FLAG_W,DELC13,DELC13_FLAG_W,DELC14,DELC14_FLAG_W,DOC,DOC_FLAG_W,TDN,TDN_FLAG_W,N2O,N2O_FLAG_W,BTL_DATE,BTL_TIME,BTL_LAT,BTL_LON,REFTMP,REFTMP_FLAG_W,POC,POC_FLAG_W,PON,PON_FLAG_W,POP,POP_FLAG_W,PCOD,PCOD_FLAG_W,CTDFLUOR,CTDFLUOR_FLAG_W,CTDXMISS,CTDXMISS_FLAG_W,HPLC,HPLC_FLAG_W,DNA,DNA_FLAG_W,FCM,FCM_FLAG_W
,,,,,,,,,,,METERS,DBAR,,ITS-90,,PSS-78,,PSS-78,,UMOL/KG,,UMOL/KG,,UMOL/KG,,UMOL/KG,,UMOL/KG,,UMOL/KG,,PMOL/KG,,PMOL/KG,,FMOL/KG,,UMOL/KG,,UMOL/KG,,,,DEG C,,/MILLE,,/MILLE,,UMOL/KG,,UMOL/KG,,NMOL/KG,,,,,,ITS-90,,UG/L,,UG/L,,UG/L,,UG/L,,VOLTS,,VOLTS,,,,,,,
33RR20220430,        P02,      62,          2,         36,         36,2,20220523,       0204,    30.0003,   167.9885,       5887,     4.5,2,  23.0072,2,  34.9753,3,  34.9282,2,    222.9,2,   222.8,2,    1.66,2,    0.03,2,    0.00,2,    0.03,2,   1.903,2,   1.133,2,   1.9334,2,  2022.8,2,  2292.7,2,   7.9970,2,    24.99,2, -999.00,1,  -999.0,1, -999.00,1, -999.00,1,        6.2,2, 20220523,      425,  30.0003, 167.9885,    22.8553,3,     -999.0,9,     -999.0,9,     -999.0,9,     -999.0,9,     0.0135,1,     4.6022,1,     -999.0,9,     -999.0,9,     -999.0,9
33RR20220430,        P02,      62,          2,         35,         35,2,20220523,       0204,    30.0003,   167.9885,       5887,    21.7,2,  22.2621,2,  35.1406,3,  35.1195,2,    225.7,2,   225.9,2,    1.46,2,    0.03,2,    0.00,2,    0.01,2,   1.907,2,   1.137,2,   2.0798,2,  2020.8,2,  2305.2,2,   8.0156,2,    25.01,2, -999.00,1,  -999.0,1, -999.00,1, -999.00,1,        6.2,2, 20220523,      424,  30.0002, 167.9885,    22.2523,2,     -999.0,9,     -999.0,9,     -999.0,9,     -999.0,9,     0.0135,1,     4.6140,1,     -999.0,9,     -999.0,9,     -999.0,9
33RR20220430,        P02,      62,          2,         34,         34,2,20220523,       0204,    30.0003,   167.9885,       5887,    41.9,2,  20.3665,2,  35.0274,2,  35.0146,2,    230.7,2,   230.4,2,    1.66,2,    0.03,2,    0.00,2,    0.01,2,   2.027,2,   1.203,2,   2.0656,2,  2020.7,2,  2298.2,2,   8.0084,2,    24.97,2, -999.00,1,  -999.0,1, -999.00,1, -999.00,1,        6.7,2, 20220523,      422,  30.0003, 167.9885,    20.3653,2,     -999.0,9,     -999.0,9,     -999.0,9,     -999.0,9,     0.0157,1,     4.6201,1,     -999.0,9,     -999.0,9,     -999.0,9
33RR20220430,        P02,      62,          2,         33,         33,2,20220523,       0204,    30.0003,   167.9885,       5887,    66.8,2,  19.3298,2,  34.9302,3,  34.9097,2,    232.3,2,   232.7,2,    1.76,2,    0.02,2,    0.00,2,    0.03,2,   2.123,2,   1.251,2,   2.1298,2,  2025.7,2,  2291.6,2,   7.9938,2,    25.02,2, -999.00,1,  -999.0,1, -999.00,1, -999.00,1,        7.0,2, 20220523,      420,  30.0003, 167.9885,    19.3284,2,     -999.0,9,     -999.0,9,     -999.0,9,     -999.0,9,     0.0184,1,     4.6147,1,     -999.0,9,     -999.0,9,     -999.0,9
33RR20220430,        P02,      62,          2,         32,         32,2,20220523,       0204,    30.0003,   167.9885,       5887,    92.2,2,  18.1834,2,  34.8296,2,  34.8115,2,    218.5,2,   220.4,2,    2.34,2,    0.82,2,    0.08,2,    0.10,2,   2.146,2,   1.286,2,   2.2101,2,  2036.6,2,  2285.8,2,   7.9614,2,    24.99,2, -999.00,1,  -999.0,1, -999.00,1, -999.00,1,        7.8,2, 20220523,      418,  30.0003, 167.9885,    18.1862,2,     -999.0,9,     -999.0,9,     -999.0,9,     -999.0,9,     0.0519,1,     4.6054,1,     -999.0,9,     -999.0,9,     -999.0,9
33RR20220430,        P02,      62,          2,         31,         31,2,20220523,       0204,    30.0003,   167.9885,       5887,   136.9,2,  17.2271,2,  34.7385,2,  34.7231,2,    216.0,2,   214.0,2,    3.22,2,    3.21,2,    0.06,2,    0.24,2,   2.221,2,   1.335,2,   2.1577,2,  2045.1,6,  2278.5,2,   7.9328,2,    24.98,2, -999.00,1,  -999.0,1, -999.00,1, -999.00,1,        8.4,2, 20220523,      416,  30.0002, 167.9885,    17.2251,2,     -999.0,9,     -999.0,9,     -999.0,9,     -999.0,9,     0.0232,1,     4.6620,1,     -999.0,9,     -999.0,9,     -999.0,9
33RR20220430,        P02,      62,          2,         30,         30,2,20220523,       0204,    30.0003,   167.9885,       5887,   187.4,2,  16.5184,2,  34.6930,2,  34.6806,2,    228.2,2,   229.0,2,    3.03,2,    3.05,2,    0.03,2,    0.22,2,   2.331,2,   1.355,2,   2.2011,2,  -999.0,9,  -999.0,9,-999.0000,9,  -999.00,9, -999.00,1,  -999.0,1, -999.00,1, -999.00,1,        8.2,2, 20220523,      414,  30.0002, 167.9885,    16.5242,2,     -999.0,9,     -999.0,9,     -999.0,9,     -999.0,9,     0.0195,1,     4.6683,1,     -999.0,9,     -999.0,9,     -999.0,9
33RR20220430,        P02,      62,          2,         29,         29,2,20220523,       0204,    30.0003,   167.9885,       5887,   242.7,2,  15.8741,2,  34.6367,2,  34.6203,2,    209.8,2,   209.4,2,    5.76,2,    6.10,2,    0.00,2,    0.44,2,   2.398,2,   1.416,2,   2.0831,2,  2062.1,2,  2274.7,2,   7.8928,2,    25.02,2, -999.00,1,  -999.0,1, -999.00,1, -999.00,1,        9.8,2, 20220523,      412,  30.0003, 167.9885,    15.8735,2,     -999.0,9,     -999.0,9,     -999.0,9,     -999.0,9,     0.0117,1,     4.6887,1,     -999.0,9,     -999.0,9,     -999.0,9
33RR20220430,        P02,      62,          2,         28,         28,2,20220523,       0204,    30.0003,   167.9885,       5887,   288.5,2,  14.9669,2,  34.5688,2,  34.5555,2,    200.6,2,   200.3,2,    8.11,2,    8.27,2,    0.00,2,    0.59,2,   2.496,2,   1.469,2,   1.9040,2,  2078.5,2,  2272.3,2,   7.8585,2,    24.98,2, -999.00,1,  -999.0,1, -999.00,1, -999.00,1,       11.2,2, 20220523,      411,  30.0003, 167.9885,    14.9662,2,     -999.0,9,     -999.0,9,     -999.0,9,     -999.0,9,     0.0122,1,     4.6920,1,     -999.0,9,     -999.0,9,     -999.0,9
33RR20220430,        P02,      62,          2,         27,         27,2,20220523,       0204,    30.0003,   167.9885,       5887,   339.0,2,  13.7105,2,  34.4644,2,  34.4514,2,    201.1,2,   201.1,2,   11.14,2,   10.22,2,    0.00,2,    0.73,2,   2.651,2,   1.529,2,   1.9322,2,  2090.9,2,  2269.1,2,   7.8254,2,    25.00,2, -999.00,1,  -999.0,1, -999.00,1, -999.00,1,       12.6,2, 20220523,      409,  30.0003, 167.9885,    13.7125,2,     -999.0,9,     -999.0,9,     -999.0,9,     -999.0,9,     0.0122,1,     4.6946,1,     -999.0,9,     -999.0,9,     -999.0,9
33RR20220430,        P02,      62,          2,         26,         26,2,20220523,       0204,    30.0003,   167.9885,       5887,   389.3,2,  12.6126,2,  34.3814,2,  34.3668,2,    201.1,2,   201.4,2,   14.66,2,   12.21,2,    0.00,2,    0.86,2,   2.721,2,   1.575,2,   1.7374,2,  2101.4,2,  2268.1,2,   7.7947,2,    24.98,2, -999.00,1,  -999.0,1, -999.00,1, -999.00,1,       13.6,2, 20220523,      407,  30.0003, 167.9885,    12.6266,2,     -999.0,9,     -999.0,9,     -999.0,9,     -999.0,9,     0.0122,1,     4.6960,1,     -999.0,9,     -999.0,9,     -999.0,9
33RR20220430,        P02,      62,          2,         25,         25,2,20220523,       0204,    30.0003,   167.9885,       5887,   474.9,2,  10.6601,2,  34.2246,2,  34.2132,2,    200.6,2,   201.5,2,   21.11,2,   15.56,2,    0.00,2,    1.10,2,   2.928,6,   1.646,6,   1.8870,6,  2125.9,2,  2267.3,2,   7.7408,2,    24.98,2, -999.00,1,  -999.0,1, -999.00,1, -999.00,1,       15.7,6, 20220523,      404,  30.0003, 167.9885,    10.6564,2,     -999.0,9,     -999.0,9,     -999.0,9,     -999.0,9,     0.0122,1,     4.6992,1,     -999.0,9,     -999.0,9,     -999.0,9
33RR20220430,        P02,      62,          2,         24,         24,2,20220523,       0204,    30.0003,   167.9885,       5887,   571.2,2,   8.3156,2,  34.0617,2,  34.0531,2,    176.3,2,   176.3,2,   35.57,2,   22.17,2,    0.00,2,    1.57,2,   2.876,2,   1.615,2,   1.5263,2,  2167.6,2,  2272.3,2,   7.6352,2,    24.99,2, -999.00,1,  -999.0,1, -999.00,1, -999.00,1,       20.9,2, 20220523,      402,  30.0002, 167.9885,     8.2989,2,     -999.0,9,     -999.0,9,     -999.0,9,     -999.0,9,     0.0122,1,     4.7001,1,     -999.0,9,     -999.0,9,     -999.0,9
33RR20220430,        P02,      62,          2,         23,         23,2,20220523,       0204,    30.0003,   167.9885,       5887,   672.9,2,   6.2434,2,  34.0133,2,  34.0108,2,    128.7,2,   128.4,2,   59.13,2,   30.25,2,    0.00,2,    2.17,2,   2.320,2,   1.280,2,   0.9590,2,  -999.0,9,  -999.0,9,-999.0000,9,  -999.00,9, -999.00,1,  -999.0,1, -999.00,9, -999.00,9,       29.2,2, 20220523,      359,  30.0003, 167.9885,     6.2385,2,     -999.0,9,     -999.0,9,     -999.0,9,     -999.0,9,     0.0134,1,     4.7019,1,     -999.0,9,     -999.0,9,     -999.0,9
33RR20220430,        P02,      62,          2,         22,         22,2,20220523,       0204,    30.0003,   167.9885,       5887,   772.9,2,   5.1465,2,  34.0629,2,  34.0646,2,     90.6,3,    88.1,2,   80.14,2,   35.91,2,    0.00,2,    2.57,2,   1.659,2,   0.911,2,   0.5961,2,  2274.2,2,  2306.2,2,   7.4115,2,    24.99,2, -999.00,1,  -999.0,1, -999.00,1, -999.00,1,       36.1,2, 20220523,      356,  30.0003, 167.9885,     5.1450,2,     -999.0,9,     -999.0,9,     -999.0,9,     -999.0,9,     0.0134,1,     4.7018,1,     -999.0,9,     -999.0,9,     -999.0,9
33RR20220430,        P02,      62,          2,         21,         21,2,20220523,       0204,    30.0003,   167.9885,       5887,   873.6,2,   4.3673,2,  34.1600,2,  34.1601,2,     57.3,2,    57.7,2,  100.36,2,   39.51,2,    0.00,2,    2.82,2,   1.008,2,   0.563,2,   0.3326,2,  -999.0,9,  -999.0,9,-999.0000,9,  -999.00,9, -999.00,1,  -999.0,1, -999.00,9, -999.00,9,       42.0,2, 20220523,      353,  30.0003, 167.9885,     4.3645,2,     -999.0,9,     -999.0,9,     -999.0,9,     -999.0,9,     0.0134,1,     4.7009,1,     -999.0,9,     -999.0,9,     -999.0,9
33RR20220430,        P02,      62,          2,         20,         20,2,20220523,       0204,    30.0003,   167.9885,       5887,   974.3,2,   3.8387,2,  34.2572,2,  34.2542,2,     39.0,2,    39.1,2,  115.70,2,   41.70,2,    0.00,2,    2.98,2,   0.498,2,   0.273,2,   0.0985,2,  2341.5,2,  2345.5,2,   7.3348,2,    25.00,2, -999.00,1,  -999.0,1, -999.00,1, -999.00,1,       46.6,2, 20220523,      351,  30.0003, 167.9885,     3.8378,2,     -999.0,9,     -999.0,9,     -999.0,9,     -999.0,9,     0.0134,1,     4.7020,1,     -999.0,9,     -999.0,9,     -999.0,9
33RR20220430,        P02,      62,          2,         19,         19,2,20220523,       0204,    30.0003,   167.9885,       5887,  1076.0,2,   3.4839,2,  34.3238,2,  34.3223,2,     32.0,3,    31.6,2,  127.22,2,   42.70,2,    0.00,2,    3.05,2,   0.268,2,   0.148,2,   0.0000,2,  -999.0,9,  -999.0,9,-999.0000,9,  -999.00,9, -999.00,1,  -999.0,1, -999.00,9, -999.00,9,       47.9,2, 20220523,      348,  30.0002, 167.9885,     3.4840,2,     -999.0,9,     -999.0,9,     -999.0,9,     -999.0,9,     0.0134,1,     4.7020,1,     -999.0,9,     -999.0,9,     -999.0,9
33RR20220430,        P02,      62,          2,         18,         18,2,20220523,       0204,    30.0003,   167.9885,       5887,  1177.0,2,   3.2374,2,  34.3807,2,  34.3798,2,     28.4,3,    27.9,2,  135.13,2,   43.24,2,    0.00,2,    3.09,2,   0.127,2,   0.072,2,   0.0000,2,  2365.4,2,  2371.5,2,   7.3307,2,    25.01,2, -999.00,1,  -999.0,1, -999.00,1, -999.00,1,       48.6,2, 20220523,      345,  30.0003, 167.9885,     3.2355,2,     -999.0,9,     -999.0,9,     -999.0,9,     -999.0,9,     0.0134,1,     4.7024,1,     -999.0,9,     -999.0,9,     -999.0,9
33RR20220430,        P02,      62,          2,         17,         17,2,20220523,       0204,    30.0003,   167.9885,       5887,  1278.1,2,   3.0042,2,  34.4286,2,  34.4261,2,     30.2,3,    29.9,2,  141.77,2,   43.28,2,    0.00,2,    3.10,2,   0.069,2,   0.042,2,   0.0000,2,  -999.0,9,  -999.0,9,-999.0000,9,  -999.00,9, -999.00,1,  -999.0,1, -999.00,9, -999.00,9,       47.1,2, 20220523,      343,  30.0003, 167.9885,     3.0042,2,     -999.0,9,     -999.0,9,     -999.0,9,     -999.0,9,     0.0134,1,     4.7030,1,     -999.0,9,     -999.0,9,     -999.0,9
33RR20220430,        P02,      62,          2,         16,         16,2,20220523,       0204,    30.0003,   167.9885,       5887,  1379.6,2,   2.7746,2,  34.4640,2,  34.4626,2,     32.8,2,    33.1,2,  147.43,2,   43.30,2,    0.00,2,    3.10,2,   0.045,2,   0.025,2,   0.0000,2,  2378.3,2,  2388.2,2,   7.3495,2,    24.99,2, -999.00,1,  -999.0,1, -999.00,1, -999.00,1,       46.1,2, 20220523,      340,  30.0003, 167.9885,     2.7746,2,     -999.0,9,     -999.0,9,     -999.0,9,     -999.0,9,     0.0134,1,     4.7027,1,     -999.0,9,     -999.0,9,     -999.0,9
33RR20220430,        P02,      62,          2,         15,         15,2,20220523,       0204,    30.0003,   167.9885,       5887,  1551.7,2,   2.4972,2,  34.5123,2,  34.5123,2,     41.2,3,    41.7,2,  154.75,2,   42.95,2,    0.00,2,    3.06,2,   0.021,2,   0.013,2,   0.0000,2,  2381.6,6,  2397.0,2,   7.3655,2,    24.99,2, -999.00,1,  -999.0,1, -999.00,1, -999.00,1,       42.4,2, 20220523,      336,  30.0002, 167.9885,     2.4967,2,     -999.0,9,     -999.0,9,     -999.0,9,     -999.0,9,     0.0134,1,     4.7032,1,     -999.0,9,     -999.0,9,     -999.0,9
33RR20220430,        P02,      62,          2,         14,         14,2,20220523,       0204,    30.0003,   167.9885,       5887,  1755.5,2,   2.1834,2,  34.5622,2,  34.5626,2,     56.9,2,    56.8,2,  161.49,2,   42.11,2,    0.00,2,    2.98,2,   0.011,2,   0.006,2,   0.0000,2,  2378.1,2,  2406.5,2,   7.3957,2,    24.98,2, -999.00,9,  -999.0,9, -999.00,9, -999.00,9,       37.2,2, 20220523,      332,  30.0003, 167.9885,     2.1832,2,     -999.0,9,     -999.0,9,     -999.0,9,     -999.0,9,     0.0134,1,     4.7043,1,     -999.0,9,     -999.0,9,     -999.0,9
33RR20220430,        P02,      62,          2,         13,         13,2,20220523,       0204,    30.0003,   167.9885,       5887,  1959.6,2,   1.9549,2,  34.5957,2,  34.5957,2,     73.3,2,    73.2,2,  164.71,2,   41.29,2,    0.00,2,    2.91,2,   0.007,2,   0.000,2,   0.0000,2,  2375.0,2,  2412.8,2,   7.4278,2,    24.79,2, -999.00,1,  -999.0,1, -999.00,1, -999.00,1,       33.0,2, 20220523,      327,  30.0003, 167.9885,     1.9540,2,     -999.0,9,     -999.0,9,     -999.0,9,     -999.0,9,     0.0134,1,     4.7052,1,     -999.0,9,     -999.0,9,     -999.0,9
33RR20220430,        P02,      62,          2,         12,         12,2,20220523,       0204,    30.0003,   167.9885,       5887,  2197.3,2,   1.8051,2,  34.6202,2,  34.6201,2,     90.0,2,    90.6,2,  163.83,2,   40.14,2,    0.00,2,    2.81,2,   0.004,2,   0.000,2,   0.0000,2,  -999.0,9,  -999.0,9,-999.0000,9,  -999.00,9, -999.00,9,  -999.0,9, -999.00,9, -999.00,9,       29.5,2, 20220523,      322,  30.0002, 167.9885,     1.8048,2,     -999.0,9,     -999.0,9,     -999.0,9,     -999.0,9,     0.0127,1,     4.7056,1,     -999.0,9,     -999.0,9,     -999.0,9
33RR20220430,        P02,      62,          2,         11,         11,2,20220523,       0204,    30.0003,   167.9885,       5887,  2450.5,2,   1.6830,2,  34.6399,2,  34.6392,2,    106.7,2,   106.7,2,  161.58,2,   39.01,2,    0.00,2,    2.74,2,   0.006,2,   0.000,2,   0.0000,2,  2355.0,2,  2415.3,2,   7.4922,2,    25.03,2, -999.00,1,  -999.0,1, -999.00,1, -999.00,1,       26.8,2, 20220523,      317,  30.0002, 167.9885,     1.6836,2,     -999.0,9,     -999.0,9,     -999.0,9,     -999.0,9,     0.0129,1,     4.7063,1,     -999.0,9,     -999.0,9,     -999.0,9
33RR20220430,        P02,      62,          2,         10,         10,2,20220523,       0204,    30.0003,   167.9885,       5887,  2705.0,2,   1.6087,2,  34.6534,2,  34.6529,2,    119.6,2,   119.6,2,  158.35,2,   38.14,2,    0.00,2,    2.67,2,-999.000,9,-999.000,9,-999.0000,9,  -999.0,9,  -999.0,9,-999.0000,9,  -999.00,9, -999.00,9,  -999.0,9, -999.00,9, -999.00,9,     -999.0,9, 20220523,      312,  30.0002, 167.9885,     1.6086,2,     -999.0,9,     -999.0,9,     -999.0,9,     -999.0,9,     0.0122,1,     4.7074,1,     -999.0,9,     -999.0,9,     -999.0,9
33RR20220430,        P02,      62,          2,          9,          9,2,20220523,       0204,    30.0003,   167.9885,       5887,  2957.5,2,   1.5651,2,  34.6628,2,  34.6618,2,    129.5,2,   129.8,2,  154.44,2,   37.45,2,    0.00,2,    2.61,2,   0.004,2,   0.000,2,   0.0000,2,  -999.0,9,  -999.0,9,-999.0000,9,  -999.00,9, -999.00,9,  -999.0,9, -999.00,1, -999.00,1,       23.5,2, 20220523,      306,  30.0002, 167.9885,     1.5649,2,     -999.0,9,     -999.0,9,     -999.0,9,     -999.0,9,     0.0122,1,     4.7081,1,     -999.0,9,     -999.0,9,     -999.0,9
33RR20220430,        P02,      62,          2,          8,          8,2,20220523,       0204,    30.0003,   167.9885,       5887,  3250.1,2,   1.5210,2,  34.6697,2,  34.6692,2,    135.6,2,   135.6,2,  153.66,2,   37.08,2,    0.00,2,    2.57,2,-999.000,9,-999.000,9,-999.0000,9,  2337.8,2,  2416.7,2,   7.5444,2,    24.99,2, -999.00,1,  -999.0,1, -999.00,9, -999.00,9,     -999.0,9, 20220523,      300,  30.0003, 167.9885,     1.5208,2,     -999.0,9,     -999.0,9,     -999.0,9,     -999.0,9,     0.0122,1,     4.7081,1,     -999.0,9,     -999.0,9,     -999.0,9
33RR20220430,        P02,      62,          2,          7,          7,2,20220523,       0204,    30.0003,   167.9885,       5887,  3557.5,2,   1.4946,2,  34.6760,2,  34.6761,2,    142.8,2,   142.7,2,  152.39,2,   36.64,2,    0.00,2,    2.55,2,   0.010,2,   0.000,2,   0.0000,2,  -999.0,9,  -999.0,9,-999.0000,9,  -999.00,9, -999.00,9,  -999.0,9, -999.00,1, -999.00,1,       21.8,2, 20220523,      254,  30.0002, 167.9885,     1.4945,2,     -999.0,9,     -999.0,9,     -999.0,9,     -999.0,9,     0.0122,1,     4.7082,1,     -999.0,9,     -999.0,9,     -999.0,9
33RR20220430,        P02,      62,          2,          6,          6,2,20220523,       0204,    30.0003,   167.9885,       5887,  3864.4,2,   1.4770,2,  34.6806,2,  34.6812,2,    148.7,2,   148.6,2,  150.34,2,   36.28,2,    0.00,2,    2.51,2,-999.000,9,-999.000,9,-999.0000,9,  2328.3,2,  2412.8,2,   7.5653,2,    25.03,2, -999.00,1,  -999.0,1, -999.00,1, -999.00,1,     -999.0,9, 20220523,      245,  30.0003, 167.9885,     1.4768,2,     -999.0,9,     -999.0,9,     -999.0,9,     -999.0,9,     0.0122,1,     4.7087,1,     -999.0,9,     -999.0,9,     -999.0,9
33RR20220430,        P02,      62,          2,          5,          5,2,20220523,       0204,    30.0003,   167.9885,       5887,  4275.6,2,   1.4691,2,  34.6854,2,  34.6848,2,    155.3,2,   155.2,2,  147.60,2,   35.86,2,    0.00,2,    2.48,2,   0.005,2,   0.000,2,   0.0000,2,  -999.0,9,  -999.0,9,-999.0000,9,  -999.00,9, -999.00,1,  -999.0,1, -999.00,9, -999.00,9,       20.8,2, 20220523,      237,  30.0003, 167.9885,     1.4689,2,     -999.0,9,     -999.0,9,     -999.0,9,     -999.0,9,     0.0122,1,     4.7083,1,     -999.0,9,     -999.0,9,     -999.0,9
33RR20220430,        P02,      62,          2,          4,          4,2,20220523,       0204,    30.0003,   167.9885,       5887,  4685.0,2,   1.4667,2,  34.6898,2,  34.6897,2,    162.2,2,   162.2,2,  144.87,2,   35.37,2,    0.00,2,    2.43,2,-999.000,9,-999.000,9,-999.0000,9,  2315.2,2,  2409.3,2,   7.5862,2,    25.02,2, -999.00,1,  -999.0,1, -999.00,1, -999.00,1,     -999.0,9, 20220523,      229,  30.0003, 167.9885,     1.4666,2,     -999.0,9,     -999.0,9,     -999.0,9,     -999.0,9,     0.0122,1,     4.7083,1,     -999.0,9,     -999.0,9,     -999.0,9