BOTTLE,20230801CCHSIOCBG
EXPOCODE,SECT_ID,STNNBR,CASTNO,SAMPNO,BTLNBR,BTLNBR_FLAG_W,DATE,TIME,LATITUDE,LONGITUDE,DEPTH,CTDPRS,CTDPRS_FLAG_W,CTDTMP,CTDTMP_FLAG_W,CTDSAL,CTDSAL_FLAG_W,SALNTY,SALNTY_FLAG_W,CTDOXY,CTDOXY_FLAG_W,OXYGEN,OXYGEN_FLAG_W,SILCAT,SILCAT_FLAG_W,NITRAT,NITRAT_FLAG_W,NITRIT,NITRIT_FLAG_W,PHSPHT,PHSPHT_FLAG_W,CFC-11,CFC-11_FLAG_W,CFC-12,CFC-12_FLAG_W,SF6,SF6_FLAG_W,TCARBN,TCARBN_FLAG_W,ALKALI,ALKALI_FLAG_W,PH_TOT,PH_TOT_FLAG_W,PH_TMP,PH_TMP_FLAG_W,DELC13,DELC13_FLAG_W,DELC14,DELC14_FLAG_W,DOC,DOC_FLAG_W,TDN,TDN_FLAG_W,N2O,N2O_FLAG_W,BTL_DATE,BTL_TIME,BTL_LAT,BTL_LON,REFTMP,REFTMP_FLAG_W,POC,POC_FLAG_W,PON,PON_FLAG_W,POP,POP_FLAG_W,PCOD,PCOD_FLAG_W,CTDFLUOR,CTDFLUOR_FLAG_W,CTDXMISS,CTDXMISS_FLAG_W,HPLC,HPLC_FLAG_W,DNA,DNA_FLAG_W,FCM,FCM_FLAG_W
,,,,,,,,,,,METERS,DBAR,,ITS-90,,PSS-78,,PSS-78,,UMOL/KG,,UMOL/KG,,UMOL/KG,,UMOL/KG,,UMOL/KG,,UMOL/KG,,PMOL/KG,,PMOL/KG,,FMOL/KG,,UMOL/KG,,UMOL/KG,,,,DEG C,,/MILLE,,/MILLE,,UMOL/KG,,UMOL/KG,,NMOL/KG,,,,,,ITS-90,,UG/L,,UG/L,,UG/L,,UG/L,,VOLTS,,VOLTS,,,,,,,
33RR20220430,        P02,      92,          2,          3,          3,2,20220531,       2232,    29.9999,  -175.6366,       5286,  4787.2,2,   1.5158,2,  34.6858,2,  34.6873,2,    152.5,2,   152.4,2,  155.31,2,   35.94,2,    0.00,2,    2.49,2,   0.007,2,   0.000,2,   0.0000,2,  2325.0,2,  2419.0,2,   7.5794,2,    25.00,2, -999.00,9,  -999.0,9, -999.00,1, -999.00,1,       20.0,2, 20220531,     2244,  29.9999,-175.6366,     1.5156,2,     -999.0,9,     -999.0,9,     -999.0,9,     -999.0,9,     0.0122,1,     4.7054,1,     -999.0,9,     -999.0,9,     -999.0,9
33RR20220430,        P02,      92,          2,          2,          2,2,20220531,       2232,    29.9999,  -175.6366,       5286,  5096.8,2,   1.5344,2,  34.6874,2,  34.6883,2,    156.4,2,   156.7,2,  150.82,2,   35.62,2,    0.00,2,    2.46,2,-999.000,9,-999.000,9,-999.0000,9,  2320.0,2,  2415.6,2,   7.5833,2,    24.98,2, -999.00,9,  -999.0,9, -999.00,9, -999.00,9,     -999.0,9, 20220531,     2238,  29.9999,-175.6366,     1.5343,2,     -999.0,9,     -999.0,9,     -999.0,9,     -999.0,9,     0.0122,1,     4.7045,1,     -999.0,9,     -999.0,9,     -999.0,9
33RR20220430,        P02,      92,          2,          1,          1,2,20220531,       2232,    29.9999,  -175.6366,       5286,  5378.5,2,   1.5472,2,  34.6895,2,  34.6914,2,    161.1,2,   161.1,2,  145.44,2,   35.29,2,    0.00,2,    2.44,2,   0.008,2,   0.000,2,   0.0000,2,  2316.6,6,  2412.1,2,   7.5887,2,    24.98,2, -999.00,9,  -999.0,9, -999.00,1, -999.00,1,       19.7,2, 20220531,     2232,  29.9999,-175.6366,     1.5470,2,     -999.0,9,     -999.0,9,     -999.0,9,     -999.0,9,     0.0132,1,     4.7001,1,     -999.0,9,     -999.0,9,     -999.0,9