BOTTLE,20230801CCHSIOCBG
EXPOCODE,SECT_ID,STNNBR,CASTNO,SAMPNO,BTLNBR,BTLNBR_FLAG_W,DATE,TIME,LATITUDE,LONGITUDE,DEPTH,CTDPRS,CTDPRS_FLAG_W,CTDTMP,CTDTMP_FLAG_W,CTDSAL,CTDSAL_FLAG_W,SALNTY,SALNTY_FLAG_W,CTDOXY,CTDOXY_FLAG_W,OXYGEN,OXYGEN_FLAG_W,SILCAT,SILCAT_FLAG_W,NITRAT,NITRAT_FLAG_W,NITRIT,NITRIT_FLAG_W,PHSPHT,PHSPHT_FLAG_W,CFC-11,CFC-11_FLAG_W,CFC-12,CFC-12_FLAG_W,SF6,SF6_FLAG_W,TCARBN,TCARBN_FLAG_W,ALKALI,ALKALI_FLAG_W,PH_TOT,PH_TOT_FLAG_W,PH_TMP,PH_TMP_FLAG_W,DELC13,DELC13_FLAG_W,DELC14,DELC14_FLAG_W,DOC,DOC_FLAG_W,TDN,TDN_FLAG_W,N2O,N2O_FLAG_W,BTL_DATE,BTL_TIME,BTL_LAT,BTL_LON,REFTMP,REFTMP_FLAG_W,POC,POC_FLAG_W,PON,PON_FLAG_W,POP,POP_FLAG_W,PCOD,PCOD_FLAG_W,CTDFLUOR,CTDFLUOR_FLAG_W,CTDXMISS,CTDXMISS_FLAG_W,HPLC,HPLC_FLAG_W,DNA,DNA_FLAG_W,FCM,FCM_FLAG_W
,,,,,,,,,,,METERS,DBAR,,ITS-90,,PSS-78,,PSS-78,,UMOL/KG,,UMOL/KG,,UMOL/KG,,UMOL/KG,,UMOL/KG,,UMOL/KG,,PMOL/KG,,PMOL/KG,,FMOL/KG,,UMOL/KG,,UMOL/KG,,,,DEG C,,/MILLE,,/MILLE,,UMOL/KG,,UMOL/KG,,NMOL/KG,,,,,,ITS-90,,UG/L,,UG/L,,UG/L,,UG/L,,VOLTS,,VOLTS,,,,,,,
33RR20220430,        P02,     117,          1,         36,         36,2,20220608,       0904,    29.9994,  -161.2131,       5725,     4.1,2,  24.0160,2,  35.0620,2,  35.0500,2,    215.8,2,   215.5,2,    0.00,2,    0.02,2,    0.00,2,    0.00,2,   1.546,2,   1.058,2,   2.0586,2,  2020.1,2,  2300.9,2,   8.0114,2,    25.01,2, -999.00,9,  -999.0,9, -999.00,1, -999.00,1,        7.3,2, 20220608,     1116,  29.9994,-161.2131,    24.0107,2,     -999.0,9,     -999.0,9,     -999.0,9,     -999.0,9,     0.0134,1,     4.6256,1,     -999.0,9,     -999.0,9,     -999.0,9
33RR20220430,        P02,     117,          1,         35,         35,2,20220608,       0904,    29.9994,  -161.2131,       5725,    25.7,2,  22.8423,2,  35.0836,2,  35.0715,2,    221.1,2,   221.3,2,    0.39,2,    0.01,2,    0.00,2,    0.00,2,   1.610,2,   1.085,2,   1.8566,2,  2020.7,2,  2303.4,2,   8.0116,2,    25.03,2, -999.00,9,  -999.0,9, -999.00,1, -999.00,1,        7.5,2, 20220608,     1114,  29.9994,-161.2131,    22.8315,2,     -999.0,9,     -999.0,9,     -999.0,9,     -999.0,9,     0.0145,1,     4.6290,1,     -999.0,9,     -999.0,9,     -999.0,9
33RR20220430,        P02,     117,          1,         34,         34,2,20220608,       0904,    29.9994,  -161.2131,       5725,    51.7,2,  21.8021,2,  35.0885,2,  35.0748,2,    226.1,2,   226.2,2,    0.59,2,    0.01,2,    0.00,2,    0.00,2,   1.705,2,   1.155,2,   1.9695,2,  2022.4,2,  2302.9,2,   8.0096,2,    25.02,2, -999.00,9,  -999.0,9, -999.00,1, -999.00,1,        7.7,2, 20220608,     1112,  29.9994,-161.2131,    21.8016,2,     -999.0,9,     -999.0,9,     -999.0,9,     -999.0,9,     0.0159,1,     4.6251,1,     -999.0,9,     -999.0,9,     -999.0,9
33RR20220430,        P02,     117,          1,         33,         33,2,20220608,       0904,    29.9994,  -161.2131,       5725,    78.5,2,  19.5949,2,  34.9739,2,  34.9695,2,    232.7,2,   233.0,2,    0.98,2,    0.00,2,    0.00,2,    0.01,2,   1.845,2,   1.282,2,   2.0114,2,  2031.4,2,  2295.2,2,   7.9859,2,    25.03,2, -999.00,9,  -999.0,9, -999.00,9, -999.00,9,        8.3,2, 20220608,     1111,  29.9994,-161.2131,    19.5972,2,     -999.0,9,     -999.0,9,     -999.0,9,     -999.0,9,     0.0177,1,     4.6350,1,     -999.0,9,     -999.0,9,     -999.0,9
33RR20220430,        P02,     117,          1,         32,         32,2,20220608,       0904,    29.9994,  -161.2131,       5725,   103.9,2,  18.3552,2,  34.8373,3,  34.8159,2,    227.1,2,   226.9,2,    1.56,2,    0.09,2,    0.02,2,    0.05,2,   1.933,2,   1.310,2,   2.1397,2,  2037.9,2,  2284.2,2,   7.9545,2,    25.02,2, -999.00,9,  -999.0,9, -999.00,1, -999.00,1,        9.0,2, 20220608,     1109,  29.9994,-161.2131,    18.3566,2,     -999.0,9,     -999.0,9,     -999.0,9,     -999.0,9,     0.0394,1,     4.6371,1,     -999.0,9,     -999.0,9,     -999.0,9
33RR20220430,        P02,     117,          1,         31,         31,2,20220608,       0904,    29.9994,  -161.2131,       5725,   151.9,2,  16.4526,2,  34.6272,2,  34.6097,2,    214.3,2,   213.8,2,    3.03,2,    3.05,2,    0.02,2,    0.25,2,   2.105,2,   1.414,2,   2.1361,2,  2059.2,6,  2272.6,2,   7.8954,2,    25.04,2, -999.00,9,  -999.0,9, -999.00,1, -999.00,1,       10.8,2, 20220608,     1107,  29.9994,-161.2131,    16.4466,2,     -999.0,9,     -999.0,9,     -999.0,9,     -999.0,9,     0.0220,1,     4.6719,1,     -999.0,9,     -999.0,9,     -999.0,9
33RR20220430,        P02,     117,          1,         30,         30,2,20220608,       0904,    29.9994,  -161.2131,       5725,   201.7,2,  14.3194,2,  34.4298,2,  34.4222,2,    215.1,2,   214.8,2,    5.76,2,    6.60,2,    0.00,2,    0.49,2,   2.338,2,   1.511,2,   2.2714,2,  2072.8,2,  2261.9,2,   7.8490,2,    25.03,2, -999.00,9,  -999.0,9, -999.00,9, -999.00,9,       13.4,2, 20220608,     1105,  29.9994,-161.2131,    14.3160,2,     -999.0,9,     -999.0,9,     -999.0,9,     -999.0,9,     0.0147,1,     4.6827,1,     -999.0,9,     -999.0,9,     -999.0,9
33RR20220430,        P02,     117,          1,         29,         29,2,20220608,       0904,    29.9994,  -161.2131,       5725,   252.1,2,  13.3075,2,  34.3643,2,  34.3539,2,    216.5,2,   216.6,2,    8.01,2,    8.58,2,    0.00,2,    0.63,2,   2.434,2,   1.584,2,   2.2170,2,  2082.5,2,  2261.4,2,   7.8263,2,    25.01,2, -999.00,9,  -999.0,9, -999.00,1, -999.00,1,       14.6,2, 20220608,     1103,  29.9994,-161.2131,    13.3064,2,     -999.0,9,     -999.0,9,     -999.0,9,     -999.0,9,     0.0122,1,     4.6881,1,     -999.0,9,     -999.0,9,     -999.0,9
33RR20220430,        P02,     117,          1,         28,         28,2,20220608,       0904,    29.9994,  -161.2131,       5725,   302.9,2,  12.2329,2,  34.2946,2,  34.2876,2,    218.1,2,   218.4,2,   11.04,2,   10.59,2,    0.00,2,    0.76,2,   2.518,2,   1.638,2,   2.1290,2,  2090.8,2,  2261.6,2,   7.8016,2,    25.03,2, -999.00,9,  -999.0,9, -999.00,9, -999.00,9,       15.8,2, 20220608,     1102,  29.9994,-161.2131,    12.2328,2,     -999.0,9,     -999.0,9,     -999.0,9,     -999.0,9,     0.0122,1,     4.6895,1,     -999.0,9,     -999.0,9,     -999.0,9
33RR20220430,        P02,     117,          1,         27,         27,2,20220608,       0904,    29.9994,  -161.2131,       5725,   353.5,2,  11.1216,2,  34.2133,2,  34.2079,2,    213.2,2,   213.9,2,   14.95,2,   13.27,2,    0.00,2,    0.96,2,   2.657,2,   1.735,2,   2.0889,2,  2106.4,2,  2260.9,2,   7.7654,2,    25.02,2, -999.00,9,  -999.0,9, -999.00,1, -999.00,1,       17.1,2, 20220608,     1100,  29.9994,-161.2131,    11.1212,2,     -999.0,9,     -999.0,9,     -999.0,9,     -999.0,9,     0.0122,1,     4.6918,1,     -999.0,9,     -999.0,9,     -999.0,9
33RR20220430,        P02,     117,          1,         26,         26,2,20220608,       0904,    29.9994,  -161.2131,       5725,   404.1,2,  10.1812,2,  34.1400,2,  34.1336,2,    208.3,2,   209.3,2,   19.25,2,   15.70,2,    0.00,2,    1.12,2,   2.725,2,   1.784,2,   2.0752,2,  2122.3,2,  2261.1,2,   7.7313,2,    25.02,2, -999.00,9,  -999.0,9, -999.00,9, -999.00,9,       18.7,2, 20220608,     1058,  29.9994,-161.2131,    10.1799,2,     -999.0,9,     -999.0,9,     -999.0,9,     -999.0,9,     0.0122,1,     4.6922,1,     -999.0,9,     -999.0,9,     -999.0,9
33RR20220430,        P02,     117,          1,         25,         25,2,20220608,       0904,    29.9994,  -161.2131,       5725,   504.5,2,   8.2697,2,  34.0346,2,  34.0313,2,    174.6,3,   172.4,2,   34.40,2,   22.90,2,    0.00,2,    1.63,2,   2.615,2,   1.648,2,   1.5876,2,  2168.1,2,  2268.0,2,   7.6240,2,    25.02,2, -999.00,9,  -999.0,9, -999.00,1, -999.00,1,       24.5,2, 20220608,     1056,  29.9994,-161.2131,     8.2818,2,     -999.0,9,     -999.0,9,     -999.0,9,     -999.0,9,     0.0122,1,     4.6956,1,     -999.0,9,     -999.0,9,     -999.0,9
33RR20220430,        P02,     117,          1,         24,         24,2,20220608,       0904,    29.9994,  -161.2131,       5725,   606.7,2,   6.2954,2,  33.9964,2,  33.9970,2,    120.8,2,   119.9,2,   57.65,2,   31.44,2,    0.00,2,    2.27,2,   2.068,2,   1.297,2,   0.7831,2,  2231.0,2,  2283.4,2,   7.4865,2,    25.02,2, -999.00,9,  -999.0,9, -999.00,9, -999.00,9,       33.7,2, 20220608,     1053,  29.9994,-161.2131,     6.2926,2,     -999.0,9,     -999.0,9,     -999.0,9,     -999.0,9,     0.0133,1,     4.6972,1,     -999.0,9,     -999.0,9,     -999.0,9
33RR20220430,        P02,     117,          1,         23,         23,2,20220608,       0904,    29.9994,  -161.2131,       5725,   707.0,2,   5.1571,2,  34.0438,2,  34.0450,2,     76.3,2,    76.3,2,   79.05,2,   37.26,2,    0.00,2,    2.68,2,   1.360,2,   0.819,2,   0.3312,2,  2278.9,2,  2301.4,2,   7.3886,2,    25.00,2, -999.00,9,  -999.0,9, -999.00,1, -999.00,1,       42.2,2, 20220608,     1051,  29.9994,-161.2131,     5.1575,2,     -999.0,9,     -999.0,9,     -999.0,9,     -999.0,9,     0.0125,1,     4.6972,1,     -999.0,9,     -999.0,9,     -999.0,9
33RR20220430,        P02,     117,          1,         22,         22,2,20220608,       0904,    29.9994,  -161.2131,       5725,   808.1,2,   4.4405,2,  34.1492,2,  34.1536,2,     36.7,3,    37.2,2,   99.56,2,   41.69,2,    0.00,2,    3.01,2,   0.555,2,   0.335,2,   0.1201,2,  2320.3,2,  2323.4,2,   7.3222,2,    25.00,2, -999.00,9,  -999.0,9, -999.00,9, -999.00,9,       52.9,2, 20220608,     1048,  29.9994,-161.2131,     4.4404,2,     -999.0,9,     -999.0,9,     -999.0,9,     -999.0,9,     0.0134,1,     4.6983,1,     -999.0,9,     -999.0,9,     -999.0,9
33RR20220430,        P02,     117,          1,         21,         21,2,20220608,       0904,    29.9994,  -161.2131,       5725,   909.0,2,   3.9685,2,  34.2476,2,  34.2456,2,     20.1,3,    20.7,2,  114.31,2,   43.30,2,    0.00,2,    3.13,2,   0.201,2,   0.129,2,   0.0000,2,  2347.5,2,  2342.1,2,   7.3008,2,    25.00,2, -999.00,9,  -999.0,9, -999.00,1, -999.00,1,       59.6,2, 20220608,     1045,  29.9994,-161.2131,     3.9683,2,     -999.0,9,     -999.0,9,     -999.0,9,     -999.0,9,     0.0134,1,     4.6983,1,     -999.0,9,     -999.0,9,     -999.0,9
33RR20220430,        P02,     117,          1,         20,         20,2,20220608,       0904,    29.9994,  -161.2131,       5725,  1010.1,2,   3.7745,2,  34.3302,2,  34.3311,2,     18.0,3,    18.4,2,  120.94,2,   43.73,2,    0.00,2,    3.17,2,   0.063,2,   0.041,2,   0.0000,2,  2356.7,2,  2355.1,2,   7.3094,2,    25.01,2, -999.00,9,  -999.0,9, -999.00,9, -999.00,9,       60.1,2, 20220608,     1043,  29.9994,-161.2131,     3.7754,2,     -999.0,9,     -999.0,9,     -999.0,9,     -999.0,9,     0.0134,1,     4.6987,1,     -999.0,9,     -999.0,9,     -999.0,9
33RR20220430,        P02,     117,          1,         19,         19,2,20220608,       0904,    29.9994,  -161.2131,       5725,  1117.1,2,   3.4994,2,  34.4030,2,  34.4059,2,     22.1,3,    22.6,2,  129.14,2,   44.03,2,    0.00,2,    3.17,2,   0.018,2,   0.015,2,   0.0000,2,  2363.7,2,  2368.7,2,   7.3259,2,    25.01,2, -999.00,9,  -999.0,9, -999.00,1, -999.00,1,       58.5,2, 20220608,     1040,  29.9994,-161.2131,     3.4989,2,     -999.0,9,     -999.0,9,     -999.0,9,     -999.0,9,     0.0134,1,     4.6993,1,     -999.0,9,     -999.0,9,     -999.0,9
33RR20220430,        P02,     117,          1,         18,         18,2,20220608,       0904,    29.9994,  -161.2131,       5725,  1217.8,2,   3.2664,2,  34.4552,2,  34.4559,2,     30.4,3,    29.9,2,  134.31,2,   43.52,2,    0.00,2,    3.15,2,   0.010,2,   0.009,2,   0.0000,2,  2365.6,2,  2377.0,2,   7.3449,2,    25.01,2, -999.00,9,  -999.0,9, -999.00,9, -999.00,9,       54.7,2, 20220608,     1038,  29.9994,-161.2131,     3.2767,2,     -999.0,9,     -999.0,9,     -999.0,9,     -999.0,9,     0.0134,1,     4.6995,1,     -999.0,9,     -999.0,9,     -999.0,9
33RR20220430,        P02,     117,          1,         17,         17,2,20220608,       0904,    29.9994,  -161.2131,       5725,  1320.1,2,   3.0372,2,  34.4970,2,  34.4997,2,     40.8,2,    41.2,2,  139.00,2,   42.89,2,    0.00,2,    3.10,2,   0.008,2,   0.000,2,   0.0000,2,  2366.5,2,  2385.6,2,   7.3696,2,    25.00,2, -999.00,9,  -999.0,9, -999.00,9, -999.00,9,       49.2,2, 20220608,     1035,  29.9994,-161.2131,     3.0381,2,     -999.0,9,     -999.0,9,     -999.0,9,     -999.0,9,     0.0134,1,     4.7006,1,     -999.0,9,     -999.0,9,     -999.0,9
33RR20220430,        P02,     117,          1,         16,         16,2,20220608,       0904,    29.9994,  -161.2131,       5725,  1420.7,2,   2.8092,2,  34.5273,2,  34.5298,2,     50.1,2,    50.2,2,  143.78,2,   42.34,2,    0.00,2,    3.05,2,   0.005,2,   0.000,2,   0.0000,2,  2367.0,2,  2392.5,2,   7.3891,2,    25.02,2, -999.00,9,  -999.0,9, -999.00,1, -999.00,1,       44.5,2, 20220608,     1033,  29.9994,-161.2131,     2.8097,2,     -999.0,9,     -999.0,9,     -999.0,9,     -999.0,9,     0.0134,1,     4.7012,1,     -999.0,9,     -999.0,9,     -999.0,9
33RR20220430,        P02,     117,          1,         15,         15,2,20220608,       0904,    29.9994,  -161.2131,       5725,  1623.0,2,   2.4985,2,  34.5607,2,  34.5637,2,     62.7,2,    62.5,2,  150.61,2,   41.66,2,    0.00,2,    2.98,2,   0.006,2,   0.000,2,   0.0000,2,  2368.0,6,  2400.3,2,   7.4139,2,    24.99,2, -999.00,9,  -999.0,9, -999.00,9, -999.00,9,       39.6,2, 20220608,     1028,  29.9994,-161.2131,     2.4985,2,     -999.0,9,     -999.0,9,     -999.0,9,     -999.0,9,     0.0134,1,     4.7014,1,     -999.0,9,     -999.0,9,     -999.0,9
33RR20220430,        P02,     117,          1,         14,         14,3,20220608,       0904,    29.9994,  -161.2131,       5725,  1826.5,3,   2.2327,3,  34.5865,3,  34.5895,3,     73.4,3,    73.9,3,  156.28,3,   41.01,3,    0.00,3,    2.92,3,   0.005,3,   0.000,3,   0.0000,3,  -999.0,9,  -999.0,9,-999.0000,9,  -999.00,9, -999.00,9,  -999.0,9, -999.00,9, -999.00,9,       36.4,3, 20220608,     1024,  29.9994,-161.2131,     2.2324,3,     -999.0,9,     -999.0,9,     -999.0,9,     -999.0,9,     0.0128,1,     4.7018,1,     -999.0,9,     -999.0,9,     -999.0,9
33RR20220430,        P02,     117,          1,         13,         13,2,20220608,       0904,    29.9994,  -161.2131,       5725,  2030.2,2,   2.0217,2,  34.6073,3,  34.6105,2,     83.0,2,    82.7,2,  160.96,2,   40.42,2,    0.00,2,    2.88,2,   0.004,6,   0.000,6,   0.0000,6,  2366.0,2,  2412.1,2,   7.4521,2,    25.00,2, -999.00,9,  -999.0,9, -999.00,1, -999.00,1,       33.6,6, 20220608,     1020,  29.9994,-161.2132,     2.0213,2,     -999.0,9,     -999.0,9,     -999.0,9,     -999.0,9,     0.0134,1,     4.7026,1,     -999.0,9,     -999.0,9,     -999.0,9
33RR20220430,        P02,     117,          1,         12,         12,2,20220608,       0904,    29.9994,  -161.2131,       5725,  2283.8,2,   1.8414,2,  34.6268,3,  34.6297,2,     93.6,2,    93.5,2,  164.38,2,   39.66,2,    0.00,2,    2.83,2,   0.003,2,   0.000,2,   0.0000,2,  2360.8,2,  2418.3,2,   7.4733,2,    25.02,2, -999.00,9,  -999.0,9, -999.00,9, -999.00,9,       30.9,2, 20220608,     1014,  29.9994,-161.2131,     1.8414,2,     -999.0,9,     -999.0,9,     -999.0,9,     -999.0,9,     0.0124,1,     4.7027,1,     -999.0,9,     -999.0,9,     -999.0,9
33RR20220430,        P02,     117,          1,         11,         11,2,20220608,       0904,    29.9994,  -161.2131,       5725,  2536.9,2,   1.7192,2,  34.6408,3,  34.6445,2,    102.9,2,   102.9,2,  166.14,2,   39.13,2,    0.00,2,    2.78,2,   0.003,2,   0.000,2,   0.0000,2,  2357.5,2,  2419.0,2,   7.4912,2,    25.01,2, -999.00,9,  -999.0,9, -999.00,9, -999.00,9,       28.9,2, 20220608,     1009,  29.9994,-161.2131,     1.7191,2,     -999.0,9,     -999.0,9,     -999.0,9,     -999.0,9,     0.0123,1,     4.7032,1,     -999.0,9,     -999.0,9,     -999.0,9
33RR20220430,        P02,     117,          1,         10,         10,2,20220608,       0904,    29.9994,  -161.2131,       5725,  2787.7,2,   1.6351,2,  34.6524,3,  34.6547,2,    112.7,2,   112.6,2,  165.55,2,   38.49,2,    0.00,2,    2.72,2,   0.002,2,   0.000,2,   0.0000,2,  2352.7,2,  2421.7,2,   7.5098,2,    24.99,2, -999.00,9,  -999.0,9, -999.00,1, -999.00,1,       27.1,2, 20220608,     1004,  29.9994,-161.2131,     1.6354,2,     -999.0,9,     -999.0,9,     -999.0,9,     -999.0,9,     0.0122,1,     4.7041,1,     -999.0,9,     -999.0,9,     -999.0,9
33RR20220430,        P02,     117,          1,          9,          9,2,20220608,       0904,    29.9994,  -161.2131,       5725,  3044.2,2,   1.5654,2,  34.6614,3,  34.6645,2,    122.1,2,   122.5,2,  164.28,2,   37.96,2,    0.00,2,    2.68,2,   0.003,2,   0.000,2,   0.0000,2,  2347.4,2,  2422.3,2,   7.5258,2,    25.01,2, -999.00,9,  -999.0,9, -999.00,9, -999.00,9,       25.8,2, 20220608,      959,  29.9994,-161.2131,     1.5653,2,     -999.0,9,     -999.0,9,     -999.0,9,     -999.0,9,     0.0122,1,     4.7045,1,     -999.0,9,     -999.0,9,     -999.0,9
33RR20220430,        P02,     117,          1,          8,          8,2,20220608,       0904,    29.9994,  -161.2131,       5725,  3348.2,2,   1.5203,2,  34.6688,3,  34.6714,2,    130.7,2,   130.9,2,  162.32,2,   37.39,2,    0.00,2,    2.62,2,   0.002,2,   0.000,2,   0.0000,2,  2341.0,2,  2421.9,2,   7.5427,2,    25.00,2, -999.00,9,  -999.0,9, -999.00,9, -999.00,9,       24.5,2, 20220608,      953,  29.9994,-161.2131,     1.5208,2,     -999.0,9,     -999.0,9,     -999.0,9,     -999.0,9,     0.0123,1,     4.7046,1,     -999.0,9,     -999.0,9,     -999.0,9
33RR20220430,        P02,     117,          1,          7,          7,2,20220608,       0904,    29.9994,  -161.2131,       5725,  3657.7,2,   1.4967,2,  34.6746,3,  34.6771,2,    137.6,2,   137.5,2,  160.47,2,   36.98,2,    0.00,2,    2.59,2,   0.003,2,   0.000,2,   0.0000,2,  2335.2,2,  2420.9,2,   7.5540,2,    25.01,2, -999.00,9,  -999.0,9, -999.00,1, -999.00,1,       23.9,2, 20220608,      946,  29.9994,-161.2131,     1.4967,2,     -999.0,9,     -999.0,9,     -999.0,9,     -999.0,9,     0.0130,1,     4.7044,1,     -999.0,9,     -999.0,9,     -999.0,9
33RR20220430,        P02,     117,          1,          6,          6,2,20220608,       0904,    29.9994,  -161.2131,       5725,  3963.5,2,   1.4900,2,  34.6787,2,  34.6804,2,    142.8,2,   142.7,2,  158.61,2,   36.69,2,    0.00,2,    2.56,2,   0.004,2,   0.000,2,   0.0000,2,  2329.4,2,  2422.7,2,   7.5635,2,    25.00,2, -999.00,9,  -999.0,9, -999.00,9, -999.00,9,       23.6,2, 20220608,      940,  29.9994,-161.2131,     1.4900,2,     -999.0,9,     -999.0,9,     -999.0,9,     -999.0,9,     0.0122,1,     4.7046,1,     -999.0,9,     -999.0,9,     -999.0,9
33RR20220430,        P02,     117,          1,          5,          5,2,20220608,       0904,    29.9994,  -161.2131,       5725,  4375.1,2,   1.4921,2,  34.6830,2,  34.6848,2,    149.6,2,   150.2,2,  155.68,2,   36.31,2,    0.00,2,    2.51,2,   0.003,2,   0.000,2,   0.0000,2,  2326.2,2,  2421.0,2,   7.5746,2,    24.99,2, -999.00,9,  -999.0,9, -999.00,9, -999.00,9,       22.8,2, 20220608,      933,  29.9994,-161.2131,     1.4925,2,     -999.0,9,     -999.0,9,     -999.0,9,     -999.0,9,     0.0127,1,     4.7047,1,     -999.0,9,     -999.0,9,     -999.0,9
33RR20220430,        P02,     117,          1,          4,          4,2,20220608,       0904,    29.9994,  -161.2131,       5725,  4682.2,2,   1.5078,2,  34.6851,3,  34.6871,2,    153.3,2,   153.2,2,  153.24,2,   36.07,2,    0.00,2,    2.49,2,   0.004,2,   0.000,2,   0.0000,2,  2323.2,2,  2418.8,2,   7.5802,2,    25.01,2, -999.00,9,  -999.0,9, -999.00,1, -999.00,1,       22.6,2, 20220608,      926,  29.9994,-161.2131,     1.5079,2,     -999.0,9,     -999.0,9,     -999.0,9,     -999.0,9,     0.0122,1,     4.7056,1,     -999.0,9,     -999.0,9,     -999.0,9