BOTTLE,20230801CCHSIOCBG
EXPOCODE,SECT_ID,STNNBR,CASTNO,SAMPNO,BTLNBR,BTLNBR_FLAG_W,DATE,TIME,LATITUDE,LONGITUDE,DEPTH,CTDPRS,CTDPRS_FLAG_W,CTDTMP,CTDTMP_FLAG_W,CTDSAL,CTDSAL_FLAG_W,SALNTY,SALNTY_FLAG_W,CTDOXY,CTDOXY_FLAG_W,OXYGEN,OXYGEN_FLAG_W,SILCAT,SILCAT_FLAG_W,NITRAT,NITRAT_FLAG_W,NITRIT,NITRIT_FLAG_W,PHSPHT,PHSPHT_FLAG_W,CFC-11,CFC-11_FLAG_W,CFC-12,CFC-12_FLAG_W,SF6,SF6_FLAG_W,TCARBN,TCARBN_FLAG_W,ALKALI,ALKALI_FLAG_W,PH_TOT,PH_TOT_FLAG_W,PH_TMP,PH_TMP_FLAG_W,DELC13,DELC13_FLAG_W,DELC14,DELC14_FLAG_W,DOC,DOC_FLAG_W,TDN,TDN_FLAG_W,N2O,N2O_FLAG_W,BTL_DATE,BTL_TIME,BTL_LAT,BTL_LON,REFTMP,REFTMP_FLAG_W,POC,POC_FLAG_W,PON,PON_FLAG_W,POP,POP_FLAG_W,PCOD,PCOD_FLAG_W,CTDFLUOR,CTDFLUOR_FLAG_W,CTDXMISS,CTDXMISS_FLAG_W,HPLC,HPLC_FLAG_W,DNA,DNA_FLAG_W,FCM,FCM_FLAG_W
,,,,,,,,,,,METERS,DBAR,,ITS-90,,PSS-78,,PSS-78,,UMOL/KG,,UMOL/KG,,UMOL/KG,,UMOL/KG,,UMOL/KG,,UMOL/KG,,PMOL/KG,,PMOL/KG,,FMOL/KG,,UMOL/KG,,UMOL/KG,,,,DEG C,,/MILLE,,/MILLE,,UMOL/KG,,UMOL/KG,,NMOL/KG,,,,,,ITS-90,,UG/L,,UG/L,,UG/L,,UG/L,,VOLTS,,VOLTS,,,,,,,
33RR20220430,        P02,      92,          2,         36,         36,2,20220531,       2232,    29.9999,  -175.6366,       5286,     3.8,2,  21.4152,2,  35.1456,2,  35.1262,2,    225.5,2,   224.5,2,    1.37,2,    0.03,2,    0.00,2,    0.00,2,   1.782,2,   1.167,2,   1.9102,2,  2023.6,2,  2306.5,2,   8.0041,2,    25.02,2, -999.00,9,  -999.0,9, -999.00,1, -999.00,1,        6.1,2, 20220601,       43,  29.9999,-175.6366,    21.3805,2,     -999.0,9,     -999.0,9,     -999.0,9,     -999.0,9,     0.0123,1,     4.6431,1,     -999.0,9,     -999.0,9,     -999.0,9
33RR20220430,        P02,      92,          2,         35,         35,2,20220531,       2232,    29.9999,  -175.6366,       5286,    21.6,2,  21.0370,2,  35.1333,2,  35.1224,2,    226.9,2,   226.3,2,    1.46,2,    0.03,2,    0.00,2,    0.00,2,   1.794,2,   1.176,2,   1.8931,2,  2028.0,2,  2304.9,2,   8.0036,2,    25.00,2, -999.00,9,  -999.0,9, -999.00,1, -999.00,1,        6.2,2, 20220601,       41,  29.9999,-175.6366,    21.0323,2,     -999.0,9,     -999.0,9,     -999.0,9,     -999.0,9,     0.0134,1,     4.6335,1,     -999.0,9,     -999.0,9,     -999.0,9
33RR20220430,        P02,      92,          2,         34,         34,2,20220531,       2232,    29.9999,  -175.6366,       5286,    40.7,2,  20.1967,2,  35.0873,2,  35.0789,2,    231.7,2,   231.3,2,    1.56,2,    0.02,2,    0.00,2,    0.00,2,   1.863,2,   1.210,2,   1.9271,2,  2025.0,2,  2302.8,2,   7.9987,2,    25.00,2, -999.00,9,  -999.0,9, -999.00,1, -999.00,1,        6.4,2, 20220601,       39,  29.9999,-175.6366,    20.2069,2,     -999.0,9,     -999.0,9,     -999.0,9,     -999.0,9,     0.0142,1,     4.6369,1,     -999.0,9,     -999.0,9,     -999.0,9
33RR20220430,        P02,      92,          2,         33,         33,2,20220531,       2232,    29.9999,  -175.6366,       5286,    66.5,2,  18.9829,2,  34.8575,2,  34.8511,2,    236.5,2,   236.9,2,    1.86,2,    0.00,2,    0.01,2,    0.00,2,   1.977,2,   1.276,2,   2.0888,2,  2026.0,2,  2288.6,2,   7.9809,2,    25.00,2, -999.00,9,  -999.0,9, -999.00,1, -999.00,1,        6.7,2, 20220601,       37,  29.9999,-175.6366,    18.9758,2,     -999.0,9,     -999.0,9,     -999.0,9,     -999.0,9,     0.0162,1,     4.6419,1,     -999.0,9,     -999.0,9,     -999.0,9
33RR20220430,        P02,      92,          2,         32,         32,2,20220531,       2232,    29.9999,  -175.6366,       5286,    91.8,2,  18.3549,2,  34.8852,2,  34.8688,2,    230.6,2,   230.5,2,    2.05,2,    0.11,2,    0.06,2,    0.02,2,   2.013,2,   1.301,2,   2.1007,2,  2029.1,6,  2290.1,2,   7.9717,2,    25.00,2, -999.00,9,  -999.0,9, -999.00,1, -999.00,1,        7.0,2, 20220601,       36,  29.9999,-175.6367,    18.3526,2,     -999.0,9,     -999.0,9,     -999.0,9,     -999.0,9,     0.0396,1,     4.6441,1,     -999.0,9,     -999.0,9,     -999.0,9
33RR20220430,        P02,      92,          2,         31,         31,2,20220531,       2232,    29.9999,  -175.6366,       5286,   137.6,2,  17.1461,2,  34.7411,2,  34.7315,2,    222.7,2,   222.8,2,    3.03,2,    2.12,2,    0.02,2,    0.15,2,   2.094,6,   1.373,6,   2.1608,6,  2042.3,2,  2280.9,2,   7.9374,2,    25.00,2, -999.00,9,  -999.0,9, -999.00,1, -999.00,1,        7.8,6, 20220601,       34,  29.9999,-175.6367,    17.1814,2,     -999.0,9,     -999.0,9,     -999.0,9,     -999.0,9,     0.0192,1,     4.6750,1,     -999.0,9,     -999.0,9,     -999.0,9
33RR20220430,        P02,      92,          2,         30,         30,2,20220531,       2232,    29.9999,  -175.6366,       5286,   187.1,2,  15.9952,2,  34.6125,2,  34.5995,2,    217.0,2,   217.4,2,    4.79,2,    4.53,2,    0.02,2,    0.31,2,   2.204,2,   1.461,2,   2.0203,2,  2051.8,2,  2272.5,2,   7.9018,2,    24.97,2, -999.00,9,  -999.0,9, -999.00,1, -999.00,1,        9.0,2, 20220601,       32,  29.9999,-175.6366,    16.0344,2,     -999.0,9,     -999.0,9,     -999.0,9,     -999.0,9,     0.0134,1,     4.6816,1,     -999.0,9,     -999.0,9,     -999.0,9
33RR20220430,        P02,      92,          2,         29,         29,2,20220531,       2232,    29.9999,  -175.6366,       5286,   236.6,2,  15.0299,2,  34.5461,2,  34.5366,2,    208.4,2,   208.5,2,    6.64,2,    6.88,2,    0.00,2,    0.46,2,   2.338,2,   1.481,2,   2.0154,2,  2068.8,2,  2271.9,2,   7.8661,2,    24.98,2, -999.00,9,  -999.0,9, -999.00,1, -999.00,1,       10.4,2, 20220601,       30,  29.9999,-175.6366,    15.0344,2,     -999.0,9,     -999.0,9,     -999.0,9,     -999.0,9,     0.0122,1,     4.6861,1,     -999.0,9,     -999.0,9,     -999.0,9
33RR20220430,        P02,      92,          2,         28,         28,2,20220531,       2232,    29.9999,  -175.6366,       5286,   288.1,2,  13.8002,2,  34.4476,2,  34.4306,2,    210.0,2,   210.9,2,    9.28,2,    8.96,2,    0.00,2,    0.61,2,   2.454,2,   1.554,2,   1.9309,2,  2078.8,2,  2268.1,2,   7.8348,2,    24.98,2, -999.00,9,  -999.0,9, -999.00,1, -999.00,1,       11.9,2, 20220601,       28,  29.9999,-175.6366,    13.8021,2,     -999.0,9,     -999.0,9,     -999.0,9,     -999.0,9,     0.0122,1,     4.6898,1,     -999.0,9,     -999.0,9,     -999.0,9
33RR20220430,        P02,      92,          2,         27,         27,2,20220531,       2232,    29.9999,  -175.6366,       5286,   338.9,2,  12.6679,2,  34.3600,2,  34.3529,2,    210.8,2,   211.9,2,   11.92,2,   10.78,2,    0.00,2,    0.72,2,   2.587,2,   1.619,2,   1.9647,2,  2090.1,2,  2266.6,2,   7.8084,2,    25.00,2, -999.00,9,  -999.0,9, -999.00,1, -999.00,1,       12.7,2, 20220601,       26,  29.9999,-175.6366,    12.6783,2,     -999.0,9,     -999.0,9,     -999.0,9,     -999.0,9,     0.0122,1,     4.6908,1,     -999.0,9,     -999.0,9,     -999.0,9
33RR20220430,        P02,      92,          2,         26,         26,2,20220531,       2232,    29.9999,  -175.6366,       5286,   388.9,2,  11.6103,2,  34.2834,2,  34.2772,2,    210.0,2,   211.1,2,   15.54,2,   12.88,2,    0.00,2,    0.87,2,   2.586,2,   1.752,2,   2.1097,2,  -999.0,9,  -999.0,9,-999.0000,9,  -999.00,9, -999.00,9,  -999.0,9, -999.00,1, -999.00,1,       13.9,2, 20220601,       25,  29.9999,-175.6367,    11.6097,2,     -999.0,9,     -999.0,9,     -999.0,9,     -999.0,9,     0.0122,1,     4.6927,1,     -999.0,9,     -999.0,9,     -999.0,9
33RR20220430,        P02,      92,          2,         25,         25,2,20220531,       2232,    29.9999,  -175.6366,       5286,   470.0,2,   9.9554,2,  34.1528,2,  34.1409,2,    202.7,2,   202.9,2,   22.96,2,   16.92,2,    0.00,2,    1.16,2,   2.700,2,   1.730,2,   1.9555,2,  2132.2,2,  2267.2,2,   7.7181,2,    24.98,2, -999.00,9,  -999.0,9, -999.00,1, -999.00,1,       16.1,2, 20220601,       22,  29.9999,-175.6367,     9.9592,2,     -999.0,9,     -999.0,9,     -999.0,9,     -999.0,9,     0.0122,1,     4.6944,1,     -999.0,9,     -999.0,9,     -999.0,9
33RR20220430,        P02,      92,          2,         24,         24,2,20220531,       2232,    29.9999,  -175.6366,       5286,   571.3,2,   7.6401,2,  34.0437,2,  34.0398,2,    149.5,2,   148.5,2,   42.71,2,   26.14,2,    0.00,2,    1.82,2,   2.376,2,   1.560,2,   1.0370,2,  -999.0,9,  -999.0,9,-999.0000,9,  -999.00,9, -999.00,9,  -999.0,9, -999.00,9, -999.00,9,       24.5,2, 20220601,       19,  29.9999,-175.6366,     7.6321,2,     -999.0,9,     -999.0,9,     -999.0,9,     -999.0,9,     0.0131,1,     4.6983,1,     -999.0,9,     -999.0,9,     -999.0,9
33RR20220430,        P02,      92,          2,         23,         23,2,20220531,       2232,    29.9999,  -175.6366,       5286,   672.4,2,   5.7982,2,  34.0339,2,  34.0325,2,    101.1,2,   100.2,2,   67.43,2,   33.80,2,    0.00,2,    2.38,2,   1.691,2,   1.111,2,   0.6448,2,  2249.1,2,  2293.9,2,   7.4481,2,    25.01,2, -999.00,9,  -999.0,9, -999.00,1, -999.00,1,       32.1,2, 20220601,       16,  29.9999,-175.6366,     5.7983,2,     -999.0,9,     -999.0,9,     -999.0,9,     -999.0,9,     0.0134,1,     4.6986,1,     -999.0,9,     -999.0,9,     -999.0,9
33RR20220430,        P02,      92,          2,         22,         22,2,20220531,       2232,    29.9999,  -175.6366,       5286,   773.3,2,   4.8285,2,  34.1099,2,  34.1105,2,     60.5,3,    59.6,2,   88.44,2,   38.94,2,    0.00,2,    2.77,2,   0.958,2,   0.580,2,   0.3862,2,  -999.0,9,  -999.0,9,-999.0000,9,  -999.00,9, -999.00,9,  -999.0,9, -999.00,9, -999.00,9,       39.2,2, 20220601,       13,  29.9999,-175.6366,     4.8275,2,     -999.0,9,     -999.0,9,     -999.0,9,     -999.0,9,     0.0134,1,     4.6994,1,     -999.0,9,     -999.0,9,     -999.0,9
33RR20220430,        P02,      92,          2,         21,         21,2,20220531,       2232,    29.9999,  -175.6366,       5286,   873.7,2,   4.2650,2,  34.2078,2,  34.2126,2,     36.5,2,    36.5,2,  104.65,2,   41.52,2,    0.00,2,    2.95,2,   0.442,2,   0.264,2,   0.2909,2,  2329.3,2,  2335.6,2,   7.3322,2,    24.99,2, -999.00,9,  -999.0,9, -999.00,1, -999.00,1,       44.2,2, 20220601,       11,  29.9999,-175.6366,     4.2675,2,     -999.0,9,     -999.0,9,     -999.0,9,     -999.0,9,     0.0133,1,     4.7000,1,     -999.0,9,     -999.0,9,     -999.0,9
33RR20220430,        P02,      92,          2,         20,         20,2,20220531,       2232,    29.9999,  -175.6366,       5286,   974.8,2,   3.9235,2,  34.2858,2,  34.2876,2,     28.9,2,    29.1,2,  115.10,2,   42.47,2,    0.00,2,    3.04,2,   0.227,2,   0.136,2,   0.0000,2,  -999.0,9,  -999.0,9,-999.0000,9,  -999.00,9, -999.00,9,  -999.0,9, -999.00,9, -999.00,9,       46.2,2, 20220601,        8,  29.9999,-175.6366,     3.9227,2,     -999.0,9,     -999.0,9,     -999.0,9,     -999.0,9,     0.0134,1,     4.7005,1,     -999.0,9,     -999.0,9,     -999.0,9
33RR20220430,        P02,      92,          2,         19,         19,2,20220531,       2232,    29.9999,  -175.6366,       5286,  1074.9,2,   3.6716,2,  34.3508,2,  34.3525,2,     28.2,3,    28.5,2,  122.42,2,   42.83,2,    0.00,2,    3.07,2,   0.115,2,   0.073,2,   0.0000,2,  2352.4,2,  2362.2,2,   7.3362,2,    24.99,2, -999.00,9,  -999.0,9, -999.00,1, -999.00,1,       45.8,2, 20220601,        5,  29.9999,-175.6366,     3.6714,2,     -999.0,9,     -999.0,9,     -999.0,9,     -999.0,9,     0.0134,1,     4.7007,1,     -999.0,9,     -999.0,9,     -999.0,9
33RR20220430,        P02,      92,          2,         18,         18,2,20220531,       2232,    29.9999,  -175.6366,       5286,  1177.6,2,   3.3470,2,  34.4162,2,  34.4177,2,     30.1,3,    30.6,2,  131.60,2,   43.09,2,    0.00,2,    3.08,2,   0.043,2,   0.032,2,   0.0000,2,  -999.0,9,  -999.0,9,-999.0000,9,  -999.00,9, -999.00,9,  -999.0,9, -999.00,9, -999.00,9,       44.4,2, 20220601,        2,  29.9999,-175.6366,     3.3459,2,     -999.0,9,     -999.0,9,     -999.0,9,     -999.0,9,     0.0134,1,     4.7014,1,     -999.0,9,     -999.0,9,     -999.0,9
33RR20220430,        P02,      92,          2,         17,         17,2,20220531,       2232,    29.9999,  -175.6366,       5286,  1279.1,2,   3.1024,2,  34.4605,2,  34.4610,2,     34.8,3,    35.2,2,  137.36,2,   42.97,2,    0.00,2,    3.07,2,   0.020,2,   0.017,2,   0.0000,2,  2368.1,2,  2384.2,2,   7.3569,2,    25.01,2, -999.00,9,  -999.0,9, -999.00,1, -999.00,1,       42.4,2, 20220601,        0,  29.9999,-175.6366,     3.1011,2,     -999.0,9,     -999.0,9,     -999.0,9,     -999.0,9,     0.0134,1,     4.7009,1,     -999.0,9,     -999.0,9,     -999.0,9
33RR20220430,        P02,      92,          2,         16,         16,2,20220531,       2232,    29.9999,  -175.6366,       5286,  1381.5,2,   2.9185,2,  34.4904,2,  34.4915,2,     39.9,2,    39.9,2,  142.44,2,   42.81,2,    0.00,2,    3.05,2,   0.014,2,   0.010,2,   0.0000,2,  2369.7,2,  2389.1,2,   7.3684,2,    24.98,2, -999.00,9,  -999.0,9, -999.00,1, -999.00,1,       39.7,2, 20220531,     2357,  29.9999,-175.6366,     2.9166,2,     -999.0,9,     -999.0,9,     -999.0,9,     -999.0,9,     0.0133,1,     4.7019,1,     -999.0,9,     -999.0,9,     -999.0,9
33RR20220430,        P02,      92,          2,         15,         15,2,20220531,       2232,    29.9999,  -175.6366,       5286,  1481.7,2,   2.7162,2,  34.5194,2,  34.5203,2,     46.3,3,    46.9,2,  147.03,2,   42.54,2,    0.00,2,    3.02,2,   0.011,2,   0.004,2,   0.0000,2,  2371.3,2,  2395.0,2,   7.3824,2,    24.98,2, -999.00,9,  -999.0,9, -999.00,1, -999.00,1,       36.4,2, 20220531,     2354,  29.9999,-175.6366,     2.7167,2,     -999.0,9,     -999.0,9,     -999.0,9,     -999.0,9,     0.0134,1,     4.7022,1,     -999.0,9,     -999.0,9,     -999.0,9
33RR20220430,        P02,      92,          2,         14,         14,2,20220531,       2232,    29.9999,  -175.6366,       5286,  1582.3,2,   2.5413,2,  34.5414,2,  34.5421,2,     52.3,2,    52.4,2,  150.74,2,   42.22,2,    0.00,2,    3.00,2,   0.007,2,   0.000,2,   0.0000,2,  2371.4,2,  2399.3,2,   7.3955,2,    24.99,2, -999.00,9,  -999.0,9, -999.00,1, -999.00,1,       37.0,2, 20220531,     2352,  29.9999,-175.6366,     2.5433,2,     -999.0,9,     -999.0,9,     -999.0,9,     -999.0,9,     0.0134,1,     4.7022,1,     -999.0,9,     -999.0,9,     -999.0,9
33RR20220430,        P02,      92,          2,         13,         13,2,20220531,       2232,    29.9999,  -175.6366,       5286,  1753.9,2,   2.3149,2,  34.5687,2,  34.5694,2,     61.7,2,    61.8,2,  156.50,2,   41.70,2,    0.00,2,    2.94,2,   0.005,2,   0.000,2,   0.0000,2,  2370.2,2,  2411.4,2,   7.4133,2,    25.01,2, -999.00,9,  -999.0,9, -999.00,1, -999.00,1,       33.9,2, 20220531,     2348,  29.9999,-175.6366,     2.3145,2,     -999.0,9,     -999.0,9,     -999.0,9,     -999.0,9,     0.0134,1,     4.7029,1,     -999.0,9,     -999.0,9,     -999.0,9
33RR20220430,        P02,      92,          2,         12,         12,2,20220531,       2232,    29.9999,  -175.6366,       5286,  1957.8,2,   2.0684,2,  34.5965,2,  34.5981,2,     75.6,2,    75.7,2,  159.91,2,   40.89,2,    0.00,2,    2.87,2,-999.000,9,-999.000,9,-999.0000,9,  -999.0,9,  -999.0,9,-999.0000,9,  -999.00,9, -999.00,9,  -999.0,9, -999.00,9, -999.00,9,     -999.0,9, 20220531,     2343,  29.9999,-175.6367,     2.0701,2,     -999.0,9,     -999.0,9,     -999.0,9,     -999.0,9,     0.0125,1,     4.7033,1,     -999.0,9,     -999.0,9,     -999.0,9
33RR20220430,        P02,      92,          2,         11,         11,2,20220531,       2232,    29.9999,  -175.6366,       5286,  2192.9,2,   1.8741,2,  34.6183,2,  34.6195,2,     87.8,2,    88.0,2,  163.43,2,   40.18,2,    0.00,2,    2.81,2,   0.003,2,   0.000,2,   0.0000,2,  2364.8,2,  2416.5,2,   7.4627,2,    25.00,2, -999.00,9,  -999.0,9, -999.00,1, -999.00,1,       28.2,2, 20220531,     2338,  29.9999,-175.6367,     1.8737,2,     -999.0,9,     -999.0,9,     -999.0,9,     -999.0,9,     0.0127,1,     4.7042,1,     -999.0,9,     -999.0,9,     -999.0,9
33RR20220430,        P02,      92,          2,         10,         10,2,20220531,       2232,    29.9999,  -175.6366,       5286,  2446.9,2,   1.7333,2,  34.6359,2,  34.6374,2,    101.8,2,   101.6,2,  162.84,2,   39.28,2,    0.00,2,    2.74,2,-999.000,9,-999.000,9,-999.0000,9,  -999.0,9,  -999.0,9,-999.0000,9,  -999.00,9, -999.00,9,  -999.0,9, -999.00,9, -999.00,9,     -999.0,9, 20220531,     2333,  29.9999,-175.6366,     1.7329,2,     -999.0,9,     -999.0,9,     -999.0,9,     -999.0,9,     0.0122,1,     4.7049,1,     -999.0,9,     -999.0,9,     -999.0,9
33RR20220430,        P02,      92,          2,          9,          9,2,20220531,       2232,    29.9999,  -175.6366,       5286,  2701.5,2,   1.6311,2,  34.6489,2,  34.6498,2,    111.9,2,   111.9,2,  163.13,2,   38.62,2,    0.00,2,    2.69,2,   0.005,2,   0.000,2,   0.0000,2,  2351.2,2,  2417.4,2,   7.5062,2,    25.01,2, -999.00,9,  -999.0,9, -999.00,1, -999.00,1,       24.3,2, 20220531,     2328,  29.9999,-175.6366,     1.6307,2,     -999.0,9,     -999.0,9,     -999.0,9,     -999.0,9,     0.0122,1,     4.7046,1,     -999.0,9,     -999.0,9,     -999.0,9
33RR20220430,        P02,      92,          2,          8,          8,2,20220531,       2232,    29.9999,  -175.6366,       5286,  2957.9,2,   1.5698,2,  34.6583,2,  34.6594,2,    120.9,2,   121.1,2,  162.15,2,   38.03,2,    0.00,2,    2.65,2,-999.000,9,-999.000,9,-999.0000,9,  -999.0,9,  -999.0,9,-999.0000,9,  -999.00,9, -999.00,9,  -999.0,9, -999.00,9, -999.00,9,     -999.0,9, 20220531,     2322,  29.9999,-175.6366,     1.5698,2,     -999.0,9,     -999.0,9,     -999.0,9,     -999.0,9,     0.0131,1,     4.7048,1,     -999.0,9,     -999.0,9,     -999.0,9
33RR20220430,        P02,      92,          2,          7,          7,2,20220531,       2232,    29.9999,  -175.6366,       5286,  3244.9,2,   1.5107,2,  34.6672,2,  34.6682,2,    130.3,2,   130.4,2,  160.59,2,   37.40,2,    0.00,2,    2.59,2,   0.003,2,   0.000,2,   0.0000,2,  2339.9,2,  2418.7,2,   7.5391,2,    24.98,2, -999.00,9,  -999.0,9, -999.00,1, -999.00,1,       22.0,2, 20220531,     2316,  29.9999,-175.6366,     1.5111,2,     -999.0,9,     -999.0,9,     -999.0,9,     -999.0,9,     0.0122,1,     4.7043,1,     -999.0,9,     -999.0,9,     -999.0,9
33RR20220430,        P02,      92,          2,          6,          6,2,20220531,       2232,    29.9999,  -175.6366,       5286,  3557.3,2,   1.4733,2,  34.6750,2,  34.6753,2,    139.1,2,   139.2,2,  158.44,2,   36.79,2,    0.00,2,    2.55,2,-999.000,9,-999.000,9,-999.0000,9,  -999.0,9,  -999.0,9,-999.0000,9,  -999.00,9, -999.00,9,  -999.0,9, -999.00,9, -999.00,9,     -999.0,9, 20220531,     2310,  29.9999,-175.6366,     1.4732,2,     -999.0,9,     -999.0,9,     -999.0,9,     -999.0,9,     0.0126,1,     4.7043,1,     -999.0,9,     -999.0,9,     -999.0,9
33RR20220430,        P02,      92,          2,          5,          5,2,20220531,       2232,    29.9999,  -175.6366,       5286,  3861.6,2,   1.4667,2,  34.6794,2,  34.6796,2,    144.4,2,   144.3,2,  157.56,2,   36.45,2,    0.00,2,    2.53,2,   0.005,2,   0.000,2,   0.0000,2,  2331.3,2,  2419.7,2,   7.5650,2,    24.99,2, -999.00,9,  -999.0,9, -999.00,1, -999.00,1,       20.7,2, 20220531,     2303,  29.9999,-175.6366,     1.4665,2,     -999.0,9,     -999.0,9,     -999.0,9,     -999.0,9,     0.0122,1,     4.7044,1,     -999.0,9,     -999.0,9,     -999.0,9
33RR20220430,        P02,      92,          2,          4,          4,2,20220531,       2232,    29.9999,  -175.6366,       5286,  4479.6,2,   1.4930,2,  34.6843,2,  34.6849,2,    150.3,2,   150.2,2,  156.58,2,   36.10,2,    0.00,2,    2.50,2,-999.000,9,-999.000,9,-999.0000,9,  -999.0,9,  -999.0,9,-999.0000,9,  -999.00,9, -999.00,9,  -999.0,9, -999.00,9, -999.00,9,     -999.0,9, 20220531,     2250,  29.9999,-175.6366,     1.4927,2,     -999.0,9,     -999.0,9,     -999.0,9,     -999.0,9,     0.0131,1,     4.7044,1,     -999.0,9,     -999.0,9,     -999.0,9