BOTTLE,20230801CCHSIOCBG
EXPOCODE,SECT_ID,STNNBR,CASTNO,SAMPNO,BTLNBR,BTLNBR_FLAG_W,DATE,TIME,LATITUDE,LONGITUDE,DEPTH,CTDPRS,CTDPRS_FLAG_W,CTDTMP,CTDTMP_FLAG_W,CTDSAL,CTDSAL_FLAG_W,SALNTY,SALNTY_FLAG_W,CTDOXY,CTDOXY_FLAG_W,OXYGEN,OXYGEN_FLAG_W,SILCAT,SILCAT_FLAG_W,NITRAT,NITRAT_FLAG_W,NITRIT,NITRIT_FLAG_W,PHSPHT,PHSPHT_FLAG_W,CFC-11,CFC-11_FLAG_W,CFC-12,CFC-12_FLAG_W,SF6,SF6_FLAG_W,TCARBN,TCARBN_FLAG_W,ALKALI,ALKALI_FLAG_W,PH_TOT,PH_TOT_FLAG_W,PH_TMP,PH_TMP_FLAG_W,DELC13,DELC13_FLAG_W,DELC14,DELC14_FLAG_W,DOC,DOC_FLAG_W,TDN,TDN_FLAG_W,N2O,N2O_FLAG_W,BTL_DATE,BTL_TIME,BTL_LAT,BTL_LON,REFTMP,REFTMP_FLAG_W,POC,POC_FLAG_W,PON,PON_FLAG_W,POP,POP_FLAG_W,PCOD,PCOD_FLAG_W,CTDFLUOR,CTDFLUOR_FLAG_W,CTDXMISS,CTDXMISS_FLAG_W,HPLC,HPLC_FLAG_W,DNA,DNA_FLAG_W,FCM,FCM_FLAG_W
,,,,,,,,,,,METERS,DBAR,,ITS-90,,PSS-78,,PSS-78,,UMOL/KG,,UMOL/KG,,UMOL/KG,,UMOL/KG,,UMOL/KG,,UMOL/KG,,PMOL/KG,,PMOL/KG,,FMOL/KG,,UMOL/KG,,UMOL/KG,,,,DEG C,,/MILLE,,/MILLE,,UMOL/KG,,UMOL/KG,,NMOL/KG,,,,,,ITS-90,,UG/L,,UG/L,,UG/L,,UG/L,,VOLTS,,VOLTS,,,,,,,
33RR20220430,        P02,      79,          1,         36,         36,2,20220528,       0113,    29.9995,   176.8633,       5188,     4.1,2,  22.4110,2,  35.2964,2,  35.2779,2,    220.6,2,   219.5,2,    0.88,2,    0.02,2,    0.00,2,    0.00,2,   1.642,2,   1.103,2,   1.8648,2,  2021.8,2,  2317.8,2,   8.0293,2,    25.03,2, -999.00,9,  -999.0,9, -999.00,9, -999.00,9,        7.2,2, 20220528,      319,  29.9995, 176.8633,    22.4087,2,     -999.0,9,     -999.0,9,     -999.0,9,     -999.0,9,     0.0135,1,     4.6335,1,     -999.0,9,     -999.0,9,     -999.0,9
33RR20220430,        P02,      79,          1,         35,         35,2,20220528,       0113,    29.9995,   176.8633,       5188,    36.5,2,  21.9495,2,  35.2696,2,  35.2528,2,    223.8,2,   222.9,2,    1.07,2,    0.00,2,    0.00,2,    0.00,2,   1.690,2,   1.125,2,   1.8845,2,  2022.2,2,  2315.5,2,   8.0256,2,    25.01,2, -999.00,9,  -999.0,9, -999.00,9, -999.00,9,        7.5,2, 20220528,      317,  29.9995, 176.8633,    21.9488,2,     -999.0,9,     -999.0,9,     -999.0,9,     -999.0,9,     0.0147,1,     4.6264,1,     -999.0,9,     -999.0,9,     -999.0,9
33RR20220430,        P02,      79,          1,         34,         34,2,20220528,       0113,    29.9995,   176.8633,       5188,    59.1,2,  20.6726,2,  35.1116,2,  35.0998,2,    226.0,2,   225.8,2,    1.27,2,    0.00,2,    0.00,2,    0.00,2,   1.794,2,   1.188,2,   1.9069,2,  2026.1,2,  2306.4,2,   8.0045,2,    25.00,2, -999.00,9,  -999.0,9, -999.00,9, -999.00,9,        7.8,2, 20220528,      315,  29.9995, 176.8633,    20.6632,2,     -999.0,9,     -999.0,9,     -999.0,9,     -999.0,9,     0.0171,1,     4.6349,1,     -999.0,9,     -999.0,9,     -999.0,9
33RR20220430,        P02,      79,          1,         33,         33,2,20220528,       0113,    29.9995,   176.8633,       5188,    86.8,2,  19.5231,2,  34.9915,2,  34.9823,2,    230.8,2,   230.1,2,    1.27,2,    0.00,2,    0.00,2,    0.00,2,   1.897,2,   1.233,2,   2.0394,2,  2027.7,2,  2298.3,2,   7.9908,2,    25.00,2, -999.00,9,  -999.0,9, -999.00,9, -999.00,9,        8.0,2, 20220528,      314,  29.9995, 176.8633,    19.5333,2,     -999.0,9,     -999.0,9,     -999.0,9,     -999.0,9,     0.0293,1,     4.6286,1,     -999.0,9,     -999.0,9,     -999.0,9
33RR20220430,        P02,      79,          1,         32,         32,2,20220528,       0113,    29.9995,   176.8633,       5188,   117.1,2,  18.0719,2,  34.8128,2,  34.8049,2,    226.7,2,   227.8,2,    1.27,2,    0.20,2,    0.07,2,    0.04,2,   2.018,2,   1.321,2,   2.1231,2,  2033.7,2,  2286.5,2,   7.9659,2,    25.01,2, -999.00,9,  -999.0,9, -999.00,9, -999.00,9,        8.8,2, 20220528,      312,  29.9994, 176.8633,    18.0773,2,     -999.0,9,     -999.0,9,     -999.0,9,     -999.0,9,     0.0251,1,     4.6530,1,     -999.0,9,     -999.0,9,     -999.0,9
33RR20220430,        P02,      79,          1,         31,         31,2,20220528,       0113,    29.9995,   176.8633,       5188,   167.5,2,  16.9151,2,  34.6760,2,  34.6624,2,    225.4,2,   226.4,2,    2.54,2,    2.59,2,    0.04,2,    0.16,2,   2.131,2,   1.351,2,   2.2486,2,  2033.5,2,  2277.2,2,   7.9405,2,    25.01,2, -999.00,9,  -999.0,9, -999.00,9, -999.00,9,        9.8,2, 20220528,      310,  29.9994, 176.8633,    16.9165,2,     -999.0,9,     -999.0,9,     -999.0,9,     -999.0,9,     0.0151,1,     4.6768,1,     -999.0,9,     -999.0,9,     -999.0,9
33RR20220430,        P02,      79,          1,         30,         30,2,20220528,       0113,    29.9995,   176.8633,       5188,   216.8,2,  16.2746,2,  34.6457,2,  34.6313,2,    220.3,2,   221.1,2,    3.81,2,    4.28,2,    0.01,2,    0.25,2,   2.196,2,   1.392,2,   2.1593,2,  2048.0,2,  2275.1,2,   7.9203,2,    25.00,2, -999.00,9,  -999.0,9, -999.00,9, -999.00,9,       10.9,2, 20220528,      308,  29.9995, 176.8633,    16.2737,2,     -999.0,9,     -999.0,9,     -999.0,9,     -999.0,9,     0.0122,1,     4.6835,1,     -999.0,9,     -999.0,9,     -999.0,9
33RR20220430,        P02,      79,          1,         29,         29,2,20220528,       0113,    29.9995,   176.8633,       5188,   268.1,2,  15.5526,2,  34.6082,2,  34.5944,2,    208.1,2,   207.8,2,    6.64,2,    6.85,2,    0.00,2,    0.42,2,   2.296,2,   1.423,2,   1.9384,2,  2058.8,2,  2275.4,2,   7.8838,2,    25.02,2, -999.00,9,  -999.0,9, -999.00,9, -999.00,9,       11.3,2, 20220528,      306,  29.9995, 176.8633,    15.5499,2,     -999.0,9,     -999.0,9,     -999.0,9,     -999.0,9,     0.0122,1,     4.6860,1,     -999.0,9,     -999.0,9,     -999.0,9
33RR20220430,        P02,      79,          1,         28,         28,2,20220528,       0113,    29.9995,   176.8633,       5188,   317.3,2,  14.4873,2,  34.5208,2,  34.5084,2,    204.8,2,   205.4,2,    8.70,2,    8.54,2,    0.00,2,    0.55,2,   2.420,2,   1.491,2,   2.0183,2,  2077.0,2,  2273.5,2,   7.8513,2,    25.02,2, -999.00,9,  -999.0,9, -999.00,9, -999.00,9,       12.5,2, 20220528,      304,  29.9995, 176.8634,    14.4835,2,     -999.0,9,     -999.0,9,     -999.0,9,     -999.0,9,     0.0113,1,     4.6896,1,     -999.0,9,     -999.0,9,     -999.0,9
33RR20220430,        P02,      79,          1,         27,         27,2,20220528,       0113,    29.9995,   176.8633,       5188,   369.5,2,  13.2176,2,  34.4294,2,  34.4180,2,    203.0,2,   203.3,2,   12.70,2,   11.00,2,    0.00,2,    0.72,2,   2.518,2,   1.534,2,   1.9819,2,  2092.8,2,  2272.8,2,   7.8163,2,    25.01,2, -999.00,9,  -999.0,9, -999.00,9, -999.00,9,       14.1,2, 20220528,      302,  29.9995, 176.8634,    13.2190,2,     -999.0,9,     -999.0,9,     -999.0,9,     -999.0,9,     0.0122,1,     4.6908,1,     -999.0,9,     -999.0,9,     -999.0,9
33RR20220430,        P02,      79,          1,         26,         26,2,20220528,       0113,    29.9995,   176.8633,       5188,   438.6,2,  11.3376,2,  34.2734,2,  34.2650,2,    202.9,2,   203.9,2,   17.88,2,   14.12,2,    0.00,2,    0.94,2,   2.619,2,   1.621,2,   1.9337,2,  2111.6,2,  2269.7,2,   7.7646,2,    25.00,2, -999.00,9,  -999.0,9, -999.00,9, -999.00,9,       16.1,2, 20220528,      300,  29.9995, 176.8633,    11.3628,2,     -999.0,9,     -999.0,9,     -999.0,9,     -999.0,9,     0.0122,1,     4.6933,1,     -999.0,9,     -999.0,9,     -999.0,9
33RR20220430,        P02,      79,          1,         25,         25,2,20220528,       0113,    29.9995,   176.8633,       5188,   540.6,2,   8.9525,2,  34.0952,2,  34.0895,2,    186.7,2,   186.6,2,   29.61,2,   20.04,2,    0.00,2,    1.36,2,   2.714,2,   1.639,2,   1.7435,2,  2151.8,2,  2271.1,2,   7.6718,2,    25.01,2, -999.00,9,  -999.0,9, -999.00,9, -999.00,9,       20.6,2, 20220528,      258,  29.9994, 176.8633,     8.9543,2,     -999.0,9,     -999.0,9,     -999.0,9,     -999.0,9,     0.0122,1,     4.6971,1,     -999.0,9,     -999.0,9,     -999.0,9
33RR20220430,        P02,      79,          1,         24,         24,2,20220528,       0113,    29.9995,   176.8633,       5188,   640.7,2,   6.6122,2,  33.9968,2,  33.9920,2,    144.3,2,   143.3,2,   52.68,2,   28.46,2,    0.00,2,    1.97,2,   2.368,2,   1.409,2,   1.2468,2,  -999.0,9,  -999.0,9,-999.0000,9,  -999.00,9, -999.00,9,  -999.0,9, -999.00,9, -999.00,9,       28.5,2, 20220528,      255,  29.9995, 176.8634,     6.6024,2,     -999.0,9,     -999.0,9,     -999.0,9,     -999.0,9,     0.0130,1,     4.6972,1,     -999.0,9,     -999.0,9,     -999.0,9
33RR20220430,        P02,      79,          1,         23,         23,2,20220528,       0113,    29.9995,   176.8633,       5188,   742.7,2,   5.3021,2,  34.0495,2,  34.0421,2,     95.6,2,    94.8,2,   75.94,2,   35.14,2,    0.00,2,    2.45,2,   1.649,2,   0.994,2,   0.5923,2,  2264.7,2,  2305.2,2,   7.4292,2,    25.01,2, -999.00,9,  -999.0,9, -999.00,9, -999.00,9,       37.5,2, 20220528,      252,  29.9994, 176.8633,     5.3038,2,     -999.0,9,     -999.0,9,     -999.0,9,     -999.0,9,     0.0134,1,     4.6981,1,     -999.0,9,     -999.0,9,     -999.0,9
33RR20220430,        P02,      79,          1,         22,         22,2,20220528,       0113,    29.9995,   176.8633,       5188,   842.5,2,   4.5957,2,  34.1313,2,  34.1309,2,     60.9,2,    60.6,2,   94.11,2,   39.17,2,    0.00,2,    2.73,2,   1.020,2,   0.593,2,   0.1980,2,  -999.0,9,  -999.0,9,-999.0000,9,  -999.00,9, -999.00,9,  -999.0,9, -999.00,9, -999.00,9,       46.1,2, 20220528,      250,  29.9995, 176.8633,     4.5918,2,     -999.0,9,     -999.0,9,     -999.0,9,     -999.0,9,     0.0134,1,     4.6989,1,     -999.0,9,     -999.0,9,     -999.0,9
33RR20220430,        P02,      79,          1,         21,         21,2,20220528,       0113,    29.9995,   176.8633,       5188,   944.7,2,   3.9977,2,  34.2230,2,  34.2236,2,     38.2,2,    38.0,2,  110.62,2,   41.76,2,    0.00,2,    2.93,2,   0.489,2,   0.295,2,   0.0999,2,  2336.3,2,  2342.6,2,   7.3324,2,    25.00,2, -999.00,9,  -999.0,9, -999.00,9, -999.00,9,       52.3,2, 20220528,      247,  29.9994, 176.8633,     3.9925,2,     -999.0,9,     -999.0,9,     -999.0,9,     -999.0,9,     0.0132,1,     4.6983,1,     -999.0,9,     -999.0,9,     -999.0,9
33RR20220430,        P02,      79,          1,         20,         20,2,20220528,       0113,    29.9995,   176.8633,       5188,  1044.9,2,   3.6020,2,  34.3013,2,  34.2997,2,     28.0,2,    28.2,2,  123.61,2,   42.88,2,    0.00,2,    3.02,2,   0.259,2,   0.158,2,   0.0729,2,  -999.0,9,  -999.0,9,-999.0000,9,  -999.00,9, -999.00,9,  -999.0,9, -999.00,9, -999.00,9,       54.6,2, 20220528,      244,  29.9995, 176.8633,     3.6018,2,     -999.0,9,     -999.0,9,     -999.0,9,     -999.0,9,     0.0134,1,     4.6984,1,     -999.0,9,     -999.0,9,     -999.0,9
33RR20220430,        P02,      79,          1,         19,         19,2,20220528,       0113,    29.9995,   176.8633,       5188,  1147.0,2,   3.2838,2,  34.3670,2,  34.3641,2,     24.8,3,    25.3,2,  133.66,2,   43.40,2,    0.00,2,    3.07,2,   0.127,6,   0.072,6,   0.0000,6,  2364.9,2,  2371.2,2,   7.3205,2,    25.00,2, -999.00,9,  -999.0,9, -999.00,9, -999.00,9,       55.8,6, 20220528,      242,  29.9994, 176.8633,     3.2830,2,     -999.0,9,     -999.0,9,     -999.0,9,     -999.0,9,     0.0125,1,     4.6983,1,     -999.0,9,     -999.0,9,     -999.0,9
33RR20220430,        P02,      79,          1,         18,         18,2,20220528,       0113,    29.9995,   176.8633,       5188,  1248.8,2,   3.0535,2,  34.4223,2,  34.4192,2,     25.4,2,    25.6,2,  139.81,2,   43.60,2,    0.00,2,    3.07,2,   0.055,2,   0.031,2,   0.0000,2,  -999.0,9,  -999.0,9,-999.0000,9,  -999.00,9, -999.00,9,  -999.0,9, -999.00,9, -999.00,9,       54.9,2, 20220528,      239,  29.9994, 176.8633,     3.0523,2,     -999.0,9,     -999.0,9,     -999.0,9,     -999.0,9,     0.0134,1,     4.6984,1,     -999.0,9,     -999.0,9,     -999.0,9
33RR20220430,        P02,      79,          1,         17,         17,2,20220528,       0113,    29.9995,   176.8633,       5188,  1348.6,2,   2.8702,2,  34.4644,2,  34.4624,2,     30.0,2,    30.2,2,  145.38,2,   43.55,2,    0.00,2,    3.06,2,   0.031,2,   0.017,2,   0.0000,2,  2378.0,2,  2389.6,2,   7.3444,2,    24.99,2, -999.00,9,  -999.0,9, -999.00,9, -999.00,9,       52.0,2, 20220528,      237,  29.9995, 176.8634,     2.8698,2,     -999.0,9,     -999.0,9,     -999.0,9,     -999.0,9,     0.0134,1,     4.6995,1,     -999.0,9,     -999.0,9,     -999.0,9
33RR20220430,        P02,      79,          1,         16,         16,2,20220528,       0113,    29.9995,   176.8633,       5188,  1451.2,2,   2.6729,2,  34.4951,2,  34.4938,2,     34.8,3,    35.2,2,  149.67,2,   43.33,2,    0.00,2,    3.04,2,   0.020,2,   0.009,2,   0.0000,2,  2379.8,2,  2395.7,2,   7.3557,2,    24.99,2, -999.00,9,  -999.0,9, -999.00,9, -999.00,9,       48.9,2, 20220528,      234,  29.9995, 176.8633,     2.6727,2,     -999.0,9,     -999.0,9,     -999.0,9,     -999.0,9,     0.0134,1,     4.6996,1,     -999.0,9,     -999.0,9,     -999.0,9
33RR20220430,        P02,      79,          1,         15,         15,2,20220528,       0113,    29.9995,   176.8633,       5188,  1581.1,2,   2.4984,2,  34.5309,2,  34.5276,2,     45.4,2,    45.7,2,  153.19,2,   42.85,2,    0.00,2,    3.00,2,   0.010,2,   0.000,2,   0.0000,2,  2378.4,6,  2401.4,2,   7.3785,2,    25.00,2, -999.00,9,  -999.0,9, -999.00,9, -999.00,9,       44.2,2, 20220528,      231,  29.9995, 176.8633,     2.4977,2,     -999.0,9,     -999.0,9,     -999.0,9,     -999.0,9,     0.0134,1,     4.7008,1,     -999.0,9,     -999.0,9,     -999.0,9
33RR20220430,        P02,      79,          1,         14,         14,2,20220528,       0113,    29.9995,   176.8633,       5188,  1684.6,2,   2.3277,2,  34.5515,2,  34.5504,2,     51.4,2,    51.7,2,  157.19,2,   42.51,2,    0.00,2,    2.97,2,-999.000,9,-999.000,9,-999.0000,9,  2377.2,2,  2405.4,2,   7.3915,2,    25.00,2, -999.00,9,  -999.0,9, -999.00,9, -999.00,9,     -999.0,9, 20220528,      228,  29.9995, 176.8633,     2.3268,2,     -999.0,9,     -999.0,9,     -999.0,9,     -999.0,9,     0.0134,1,     4.7017,1,     -999.0,9,     -999.0,9,     -999.0,9
33RR20220430,        P02,      79,          1,         13,         13,2,20220528,       0113,    29.9995,   176.8633,       5188,  1887.5,2,   2.1110,2,  34.5815,2,  34.5804,2,     64.7,2,    65.0,2,  161.29,2,   41.70,2,    0.00,2,    2.90,2,   0.006,2,   0.000,2,   0.0000,2,  2374.5,2,  2411.2,2,   7.4166,2,    24.98,2, -999.00,9,  -999.0,9, -999.00,9, -999.00,9,       37.0,2, 20220528,      223,  29.9995, 176.8633,     2.1108,2,     -999.0,9,     -999.0,9,     -999.0,9,     -999.0,9,     0.0134,1,     4.7018,1,     -999.0,9,     -999.0,9,     -999.0,9
33RR20220430,        P02,      79,          1,         12,         12,2,20220528,       0113,    29.9995,   176.8633,       5188,  2110.3,2,   1.8913,2,  34.6096,3,  34.6069,2,     80.2,2,    80.2,2,  164.41,2,   40.70,2,    0.00,2,    2.83,2,-999.000,9,-999.000,9,-999.0000,9,  -999.0,9,  -999.0,9,-999.0000,9,  -999.00,9, -999.00,9,  -999.0,9, -999.00,9, -999.00,9,     -999.0,9, 20220528,      218,  29.9995, 176.8633,     1.8914,2,     -999.0,9,     -999.0,9,     -999.0,9,     -999.0,9,     0.0134,1,     4.7019,1,     -999.0,9,     -999.0,9,     -999.0,9
33RR20220430,        P02,      79,          1,         11,         11,2,20220528,       0113,    29.9995,   176.8633,       5188,  2365.3,2,   1.7390,2,  34.6310,2,  34.6297,2,     96.0,2,    95.9,2,  163.24,2,   39.66,2,    0.00,2,    2.75,2,   0.005,2,   0.000,2,   0.0000,2,  2361.5,2,  2419.6,2,   7.4750,2,    25.02,2, -999.00,9,  -999.0,9, -999.00,9, -999.00,9,       29.7,2, 20220528,      213,  29.9994, 176.8633,     1.7393,2,     -999.0,9,     -999.0,9,     -999.0,9,     -999.0,9,     0.0131,1,     4.7031,1,     -999.0,9,     -999.0,9,     -999.0,9
33RR20220430,        P02,      79,          1,         10,         10,2,20220528,       0113,    29.9995,   176.8633,       5188,  2568.1,2,   1.6520,2,  34.6435,2,  34.6439,2,    107.0,2,   106.9,2,  162.75,2,   38.95,2,    0.00,2,    2.69,2,-999.000,9,-999.000,9,-999.0000,9,  -999.0,9,  -999.0,9,-999.0000,9,  -999.00,9, -999.00,9,  -999.0,9, -999.00,9, -999.00,9,     -999.0,9, 20220528,      208,  29.9995, 176.8633,     1.6519,2,     -999.0,9,     -999.0,9,     -999.0,9,     -999.0,9,     0.0122,1,     4.7035,1,     -999.0,9,     -999.0,9,     -999.0,9
33RR20220430,        P02,      79,          1,          9,          9,2,20220528,       0113,    29.9995,   176.8633,       5188,  2876.8,2,   1.5531,2,  34.6585,2,  34.6568,2,    121.9,2,   121.7,2,  160.50,2,   37.95,2,    0.00,2,    2.62,2,   0.005,2,   0.000,2,   0.0000,2,  2346.5,2,  2420.3,2,   7.5237,2,    25.00,2, -999.00,9,  -999.0,9, -999.00,9, -999.00,9,       25.6,2, 20220528,      202,  29.9995, 176.8633,     1.5531,2,     -999.0,9,     -999.0,9,     -999.0,9,     -999.0,9,     0.0127,1,     4.7039,1,     -999.0,9,     -999.0,9,     -999.0,9
33RR20220430,        P02,      79,          1,          8,          8,2,20220528,       0113,    29.9995,   176.8633,       5188,  3144.7,2,   1.5037,2,  34.6671,2,  34.6669,2,    131.2,2,   131.2,2,  158.55,2,   37.39,2,    0.00,2,    2.57,2,-999.000,9,-999.000,9,-999.0000,9,  -999.0,9,  -999.0,9,-999.0000,9,  -999.00,9, -999.00,9,  -999.0,9, -999.00,9, -999.00,9,     -999.0,9, 20220528,      156,  29.9995, 176.8633,     1.5038,2,     -999.0,9,     -999.0,9,     -999.0,9,     -999.0,9,     0.0134,1,     4.7032,1,     -999.0,9,     -999.0,9,     -999.0,9
33RR20220430,        P02,      79,          1,          7,          7,2,20220528,       0113,    29.9995,   176.8633,       5188,  3451.5,2,   1.4714,2,  34.6746,2,  34.6747,2,    139.6,2,   139.5,2,  155.71,2,   36.82,2,    0.00,2,    2.52,2,   0.005,2,   0.000,2,   0.0000,2,  2332.5,2,  2419.6,2,   7.5543,2,    25.00,2, -999.00,9,  -999.0,9, -999.00,9, -999.00,9,       23.4,2, 20220528,      150,  29.9995, 176.8633,     1.4715,2,     -999.0,9,     -999.0,9,     -999.0,9,     -999.0,9,     0.0122,1,     4.7044,1,     -999.0,9,     -999.0,9,     -999.0,9
33RR20220430,        P02,      79,          1,          6,          6,2,20220528,       0113,    29.9995,   176.8633,       5188,  3761.1,2,   1.4543,2,  34.6800,2,  34.6791,2,    145.9,2,   146.2,2,  154.34,2,   36.44,2,    0.00,2,    2.50,2,-999.000,9,-999.000,9,-999.0000,9,  -999.0,9,  -999.0,9,-999.0000,9,  -999.00,9, -999.00,9,  -999.0,9, -999.00,9, -999.00,9,     -999.0,9, 20220528,      143,  29.9995, 176.8633,     1.4547,2,     -999.0,9,     -999.0,9,     -999.0,9,     -999.0,9,     0.0122,1,     4.7043,1,     -999.0,9,     -999.0,9,     -999.0,9
33RR20220430,        P02,      79,          1,          5,          5,2,20220528,       0113,    29.9995,   176.8633,       5188,  4067.6,2,   1.4550,2,  34.6835,2,  34.6820,2,    150.4,2,   150.4,2,  152.49,2,   36.10,2,    0.00,2,    2.47,2,   0.006,2,   0.000,2,   0.0000,2,  2327.0,2,  2420.0,2,   7.5733,2,    25.00,2, -999.00,9,  -999.0,9, -999.00,9, -999.00,9,       22.2,2, 20220528,      137,  29.9995, 176.8633,     1.4549,2,     -999.0,9,     -999.0,9,     -999.0,9,     -999.0,9,     0.0122,1,     4.7044,1,     -999.0,9,     -999.0,9,     -999.0,9
33RR20220430,        P02,      79,          1,          4,          4,2,20220528,       0113,    29.9995,   176.8633,       5188,  4375.6,2,   1.4592,2,  34.6866,2,  34.6859,2,    155.4,2,   155.4,2,  149.36,2,   35.74,2,    0.00,2,    2.45,2,-999.000,9,-999.000,9,-999.0000,9,  -999.0,9,  -999.0,9,-999.0000,9,  -999.00,9, -999.00,9,  -999.0,9, -999.00,9, -999.00,9,     -999.0,9, 20220528,      131,  29.9995, 176.8633,     1.4592,2,     -999.0,9,     -999.0,9,     -999.0,9,     -999.0,9,     0.0131,1,     4.7048,1,     -999.0,9,     -999.0,9,     -999.0,9