BOTTLE,20230801CCHSIOCBG
EXPOCODE,SECT_ID,STNNBR,CASTNO,SAMPNO,BTLNBR,BTLNBR_FLAG_W,DATE,TIME,LATITUDE,LONGITUDE,DEPTH,CTDPRS,CTDPRS_FLAG_W,CTDTMP,CTDTMP_FLAG_W,CTDSAL,CTDSAL_FLAG_W,SALNTY,SALNTY_FLAG_W,CTDOXY,CTDOXY_FLAG_W,OXYGEN,OXYGEN_FLAG_W,SILCAT,SILCAT_FLAG_W,NITRAT,NITRAT_FLAG_W,NITRIT,NITRIT_FLAG_W,PHSPHT,PHSPHT_FLAG_W,CFC-11,CFC-11_FLAG_W,CFC-12,CFC-12_FLAG_W,SF6,SF6_FLAG_W,TCARBN,TCARBN_FLAG_W,ALKALI,ALKALI_FLAG_W,PH_TOT,PH_TOT_FLAG_W,PH_TMP,PH_TMP_FLAG_W,DELC13,DELC13_FLAG_W,DELC14,DELC14_FLAG_W,DOC,DOC_FLAG_W,TDN,TDN_FLAG_W,N2O,N2O_FLAG_W,BTL_DATE,BTL_TIME,BTL_LAT,BTL_LON,REFTMP,REFTMP_FLAG_W,POC,POC_FLAG_W,PON,PON_FLAG_W,POP,POP_FLAG_W,PCOD,PCOD_FLAG_W,CTDFLUOR,CTDFLUOR_FLAG_W,CTDXMISS,CTDXMISS_FLAG_W,HPLC,HPLC_FLAG_W,DNA,DNA_FLAG_W,FCM,FCM_FLAG_W
,,,,,,,,,,,METERS,DBAR,,ITS-90,,PSS-78,,PSS-78,,UMOL/KG,,UMOL/KG,,UMOL/KG,,UMOL/KG,,UMOL/KG,,UMOL/KG,,PMOL/KG,,PMOL/KG,,FMOL/KG,,UMOL/KG,,UMOL/KG,,,,DEG C,,/MILLE,,/MILLE,,UMOL/KG,,UMOL/KG,,NMOL/KG,,,,,,ITS-90,,UG/L,,UG/L,,UG/L,,UG/L,,VOLTS,,VOLTS,,,,,,,
33RR20220430,        P02,      75,          1,         36,         36,2,20220526,       2042,    30.0002,   174.5567,       5361,     4.6,2,  21.3802,2,  34.7704,2,  34.7516,2,    230.8,2,   229.8,2,    2.15,2,    0.02,2,    0.00,2,    0.02,2,   1.845,2,   1.261,2,   2.1580,2,  2022.1,2,  2285.0,2,   7.9828,2,    25.03,2, -999.00,9,  -999.0,9, -999.00,9, -999.00,9,        7.8,2, 20220526,     2251,  30.0002, 174.5567,    21.4902,2,     -999.0,9,     -999.0,9,     -999.0,9,     -999.0,9,     0.0147,1,     4.6215,1,     -999.0,9,     -999.0,9,     -999.0,9
33RR20220430,        P02,      75,          1,         35,         35,2,20220526,       2042,    30.0002,   174.5567,       5361,    25.3,2,  19.1035,2,  34.7316,2,  34.7217,2,    244.4,2,   244.1,2,    2.25,2,    0.01,2,    0.00,2,    0.01,2,   2.050,2,   1.317,2,   2.2909,2,  2022.0,6,  2281.9,2,   7.9817,2,    24.99,2, -999.00,9,  -999.0,9, -999.00,9, -999.00,9,        8.2,2, 20220526,     2249,  30.0002, 174.5567,    19.1077,2,     -999.0,9,     -999.0,9,     -999.0,9,     -999.0,9,     0.0159,1,     4.6207,1,     -999.0,9,     -999.0,9,     -999.0,9
33RR20220430,        P02,      75,          1,         34,         34,2,20220526,       2042,    30.0002,   174.5567,       5361,    50.6,2,  17.2624,2,  34.6477,2,  34.6356,2,    258.5,2,   259.8,2,    1.76,2,    0.00,2,    0.00,2,    0.00,2,   2.120,2,   1.379,2,   2.3412,2,  2015.7,2,  2277.1,2,   7.9825,2,    25.01,2, -999.00,9,  -999.0,9, -999.00,9, -999.00,9,        8.8,2, 20220526,     2247,  30.0002, 174.5567,    17.2859,2,     -999.0,9,     -999.0,9,     -999.0,9,     -999.0,9,     0.0220,1,     4.5983,1,     -999.0,9,     -999.0,9,     -999.0,9
33RR20220430,        P02,      75,          1,         33,         33,2,20220526,       2042,    30.0002,   174.5567,       5361,    76.1,2,  16.7243,2,  34.6433,2,  34.6295,2,    253.3,2,   254.9,2,    1.56,2,    0.06,2,    0.02,2,    0.02,2,   2.119,2,   1.379,2,   2.3297,2,  2021.6,2,  2276.2,2,   7.9714,2,    25.03,2, -999.00,9,  -999.0,9, -999.00,9, -999.00,9,        9.2,2, 20220526,     2246,  30.0002, 174.5567,    16.7213,2,     -999.0,9,     -999.0,9,     -999.0,9,     -999.0,9,     0.0746,1,     4.4930,1,     -999.0,9,     -999.0,9,     -999.0,9
33RR20220430,        P02,      75,          1,         32,         32,2,20220526,       2042,    30.0002,   174.5567,       5361,   101.6,2,  16.3029,2,  34.6228,2,  34.6083,2,    232.1,2,   231.9,2,    3.71,2,    3.10,2,    0.12,2,    0.21,2,   2.142,2,   1.381,2,   2.3618,2,  2041.3,2,  2274.4,2,   7.9337,2,    25.02,2, -999.00,9,  -999.0,9, -999.00,9, -999.00,9,        9.9,2, 20220526,     2244,  30.0002, 174.5567,    16.3017,2,     -999.0,9,     -999.0,9,     -999.0,9,     -999.0,9,     0.0405,1,     4.6270,1,     -999.0,9,     -999.0,9,     -999.0,9
33RR20220430,        P02,      75,          1,         31,         31,2,20220526,       2042,    30.0002,   174.5567,       5361,   151.5,2,  15.9450,2,  34.6267,2,  34.6099,2,    230.1,2,   229.9,2,    4.49,2,    4.00,2,    0.02,2,    0.24,2,   2.178,6,   1.403,6,   2.3182,6,  2045.6,2,  2273.3,2,   7.9235,2,    25.02,2, -999.00,9,  -999.0,9, -999.00,9, -999.00,9,       10.0,6, 20220526,     2242,  30.0002, 174.5567,    15.9449,2,     -999.0,9,     -999.0,9,     -999.0,9,     -999.0,9,     0.0163,1,     4.6776,1,     -999.0,9,     -999.0,9,     -999.0,9
33RR20220430,        P02,      75,          1,         30,         30,2,20220526,       2042,    30.0002,   174.5567,       5361,   201.7,2,  15.3843,2,  34.5894,2,  34.5745,2,    234.2,2,   235.1,2,    5.28,2,    4.35,2,    0.00,2,    0.27,2,   2.233,2,   1.428,2,   2.3711,2,  2051.1,2,  2272.7,2,   7.9147,2,    25.05,2, -999.00,9,  -999.0,9, -999.00,9, -999.00,9,       10.1,2, 20220526,     2240,  30.0002, 174.5567,    15.3865,2,     -999.0,9,     -999.0,9,     -999.0,9,     -999.0,9,     0.0134,1,     4.6843,1,     -999.0,9,     -999.0,9,     -999.0,9
33RR20220430,        P02,      75,          1,         29,         29,2,20220526,       2042,    30.0002,   174.5567,       5361,   252.0,2,  14.9344,2,  34.5582,2,  34.5441,2,    232.9,2,   231.1,2,    6.35,2,    5.45,2,    0.00,2,    0.35,2,   2.310,2,   1.418,2,   2.4088,2,  2055.9,2,  2272.1,2,   7.8967,2,    25.04,2, -999.00,9,  -999.0,9, -999.00,9, -999.00,9,       10.5,2, 20220526,     2238,  30.0002, 174.5567,    14.9326,2,     -999.0,9,     -999.0,9,     -999.0,9,     -999.0,9,     0.0122,1,     4.6882,1,     -999.0,9,     -999.0,9,     -999.0,9
33RR20220430,        P02,      75,          1,         28,         28,2,20220526,       2042,    30.0002,   174.5567,       5361,   303.0,2,  14.0773,2,  34.4974,2,  34.4862,2,    210.3,2,   209.6,2,   10.36,2,    8.94,2,    0.00,2,    0.59,2,   2.337,2,   1.469,2,   2.1011,2,  2079.3,2,  2273.7,2,   7.8485,2,    25.02,2, -999.00,9,  -999.0,9, -999.00,9, -999.00,9,       13.0,2, 20220526,     2236,  30.0002, 174.5567,    14.0752,2,     -999.0,9,     -999.0,9,     -999.0,9,     -999.0,9,     0.0122,1,     4.6873,1,     -999.0,9,     -999.0,9,     -999.0,9
33RR20220430,        P02,      75,          1,         27,         27,2,20220526,       2042,    30.0002,   174.5567,       5361,   352.8,2,  12.6551,2,  34.3890,2,  34.3804,2,    202.6,2,   203.1,2,   14.85,2,   11.99,2,    0.00,2,    0.79,2,   2.416,2,   1.558,2,   1.9457,2,  2100.4,2,  2271.5,2,   7.8000,2,    25.02,2, -999.00,9,  -999.0,9, -999.00,9, -999.00,9,       14.8,2, 20220526,     2234,  30.0002, 174.5567,    12.6577,2,     -999.0,9,     -999.0,9,     -999.0,9,     -999.0,9,     0.0122,1,     4.6893,1,     -999.0,9,     -999.0,9,     -999.0,9
33RR20220430,        P02,      75,          1,         26,         26,2,20220526,       2042,    30.0002,   174.5567,       5361,   403.2,2,  11.4095,2,  34.2877,2,  34.2756,2,    205.1,2,   205.9,2,   18.17,2,   13.89,2,    0.00,2,    0.93,2,   2.552,2,   1.601,2,   2.0357,2,  -999.0,9,  -999.0,9,-999.0000,9,  -999.00,9, -999.00,9,  -999.0,9, -999.00,9, -999.00,9,       16.2,2, 20220526,     2232,  30.0002, 174.5567,    11.4402,2,     -999.0,9,     -999.0,9,     -999.0,9,     -999.0,9,     0.0122,1,     4.6913,1,     -999.0,9,     -999.0,9,     -999.0,9
33RR20220430,        P02,      75,          1,         25,         25,2,20220526,       2042,    30.0002,   174.5567,       5361,   505.6,2,   8.6768,2,  34.0707,2,  34.0635,2,    193.8,2,   194.6,2,   30.69,2,   19.82,2,    0.00,2,    1.38,2,   2.682,2,   1.678,2,   1.8617,2,  2152.8,2,  2271.7,2,   7.6737,2,    25.01,2, -999.00,9,  -999.0,9, -999.00,9, -999.00,9,       20.3,2, 20220526,     2229,  30.0002, 174.5567,     8.6752,2,     -999.0,9,     -999.0,9,     -999.0,9,     -999.0,9,     0.0131,1,     4.6971,1,     -999.0,9,     -999.0,9,     -999.0,9
33RR20220430,        P02,      75,          1,         24,         24,2,20220526,       2042,    30.0002,   174.5567,       5361,   605.9,2,   6.3375,2,  33.9730,2,  33.9677,2,    147.9,2,   147.4,2,   54.83,2,   28.56,2,    0.00,2,    2.00,2,   2.329,2,   1.407,2,   1.5341,2,  2216.5,2,  2284.8,2,   7.5322,2,    25.02,2, -999.00,9,  -999.0,9, -999.00,9, -999.00,9,       28.6,2, 20220526,     2227,  30.0002, 174.5567,     6.3375,2,     -999.0,9,     -999.0,9,     -999.0,9,     -999.0,9,     0.0134,1,     4.6983,1,     -999.0,9,     -999.0,9,     -999.0,9
33RR20220430,        P02,      75,          1,         23,         23,2,20220526,       2042,    30.0002,   174.5567,       5361,   707.2,2,   5.2794,2,  34.0251,2,  34.0239,2,    103.7,3,   102.5,2,   75.35,2,   34.55,2,    0.00,2,    2.42,2,   1.752,2,   1.056,2,   0.8997,2,  2264.7,2,  2300.6,2,   7.4354,2,    25.01,2, -999.00,9,  -999.0,9, -999.00,9, -999.00,9,       36.8,2, 20220526,     2224,  30.0002, 174.5567,     5.2787,2,     -999.0,9,     -999.0,9,     -999.0,9,     -999.0,9,     0.0134,1,     4.6984,1,     -999.0,9,     -999.0,9,     -999.0,9
33RR20220430,        P02,      75,          1,         22,         22,2,20220526,       2042,    30.0002,   174.5567,       5361,   808.1,2,   4.4469,2,  34.1487,2,  34.1460,2,     60.8,2,    60.3,2,   98.21,2,   39.52,2,    0.00,2,    2.77,2,   0.953,2,   0.570,2,   0.4030,2,  -999.0,9,  -999.0,9,-999.0000,9,  -999.00,9, -999.00,9,  -999.0,9, -999.00,9, -999.00,9,       45.5,2, 20220526,     2221,  30.0002, 174.5567,     4.4454,2,     -999.0,9,     -999.0,9,     -999.0,9,     -999.0,9,     0.0134,1,     4.6996,1,     -999.0,9,     -999.0,9,     -999.0,9
33RR20220430,        P02,      75,          1,         21,         21,2,20220526,       2042,    30.0002,   174.5567,       5361,   908.3,2,   3.9277,2,  34.2340,2,  34.2330,2,     42.0,2,    41.7,2,  113.25,2,   41.58,2,    0.00,2,    2.91,2,   0.526,2,   0.316,2,   0.1115,2,  2338.6,2,  2343.6,2,   7.3366,2,    24.90,2, -999.00,9,  -999.0,9, -999.00,9, -999.00,9,       50.9,2, 20220526,     2219,  30.0002, 174.5567,     3.9251,2,     -999.0,9,     -999.0,9,     -999.0,9,     -999.0,9,     0.0134,1,     4.6999,1,     -999.0,9,     -999.0,9,     -999.0,9
33RR20220430,        P02,      75,          1,         20,         20,3,20220526,       2042,    30.0002,   174.5567,       5361,  1009.0,3,   3.5606,3,  34.3207,3,  34.3474,3,     29.2,3,    44.9,3,  110.02,3,   38.40,3,    0.00,3,    2.65,3,-999.000,9,-999.000,9,-999.0000,9,  -999.0,9,  -999.0,9,-999.0000,9,  -999.00,9, -999.00,9,  -999.0,9, -999.00,9, -999.00,9,     -999.0,9, 20220526,     2216,  30.0002, 174.5567,     3.5593,3,     -999.0,9,     -999.0,9,     -999.0,9,     -999.0,9,     0.0134,1,     4.7015,1,     -999.0,9,     -999.0,9,     -999.0,9
33RR20220430,        P02,      75,          1,         19,         19,2,20220526,       2042,    30.0002,   174.5567,       5361,  1110.3,2,   3.3288,2,  34.3800,2,  34.3778,2,     27.5,2,    27.4,2,  131.80,2,   43.44,2,    0.00,2,    3.05,2,   0.090,2,   0.053,2,   0.0000,2,  2366.3,2,  2371.0,2,   7.3292,2,    24.99,2, -999.00,9,  -999.0,9, -999.00,9, -999.00,9,       54.2,2, 20220526,     2213,  30.0002, 174.5567,     3.3274,2,     -999.0,9,     -999.0,9,     -999.0,9,     -999.0,9,     0.0134,1,     4.7020,1,     -999.0,9,     -999.0,9,     -999.0,9
33RR20220430,        P02,      75,          1,         18,         18,2,20220526,       2042,    30.0002,   174.5567,       5361,  1211.5,2,   3.1150,2,  34.4257,2,  34.4235,2,     30.1,3,    31.7,2,  137.85,2,   43.47,2,    0.00,2,    3.05,2,   0.049,2,   0.031,2,   0.0000,2,  -999.0,9,  -999.0,9,-999.0000,9,  -999.00,9, -999.00,9,  -999.0,9, -999.00,9, -999.00,9,       52.7,2, 20220526,     2211,  30.0002, 174.5567,     3.1156,2,     -999.0,9,     -999.0,9,     -999.0,9,     -999.0,9,     0.0134,1,     4.7020,1,     -999.0,9,     -999.0,9,     -999.0,9
33RR20220430,        P02,      75,          1,         17,         17,2,20220526,       2042,    30.0002,   174.5567,       5361,  1312.0,2,   2.8615,2,  34.4618,2,  34.4599,2,     33.8,2,    33.8,2,  144.79,2,   43.44,2,    0.00,2,    3.03,2,   0.037,2,   0.021,2,   0.0000,2,  2375.1,2,  2387.7,2,   7.3467,2,    25.00,2, -999.00,9,  -999.0,9, -999.00,9, -999.00,9,       50.4,2, 20220526,     2208,  30.0002, 174.5567,     2.8634,2,     -999.0,9,     -999.0,9,     -999.0,9,     -999.0,9,     0.0134,1,     4.7019,1,     -999.0,9,     -999.0,9,     -999.0,9
33RR20220430,        P02,      75,          1,         16,         16,2,20220526,       2042,    30.0002,   174.5567,       5361,  1419.2,2,   2.5780,2,  34.4889,2,  34.4866,2,     34.5,3,    33.9,2,  154.16,2,   43.54,2,    0.00,2,    3.03,2,-999.000,9,-999.000,9,-999.0000,9,  -999.0,9,  -999.0,9,-999.0000,9,  -999.00,9, -999.00,9,  -999.0,9, -999.00,9, -999.00,9,     -999.0,9, 20220526,     2205,  30.0002, 174.5567,     2.5782,2,     -999.0,9,     -999.0,9,     -999.0,9,     -999.0,9,     0.0134,1,     4.7012,1,     -999.0,9,     -999.0,9,     -999.0,9
33RR20220430,        P02,      75,          1,         15,         15,2,20220526,       2042,    30.0002,   174.5567,       5361,  1621.2,2,   2.2826,2,  34.5451,2,  34.5415,2,     49.8,2,    49.5,2,  160.41,2,   42.74,2,    0.00,2,    2.96,2,   0.012,2,   0.006,2,   0.0000,2,  2383.1,2,  2403.9,2,   7.3813,2,    24.98,2, -999.00,9,  -999.0,9, -999.00,9, -999.00,9,       42.5,2, 20220526,     2201,  30.0002, 174.5567,     2.2837,2,     -999.0,9,     -999.0,9,     -999.0,9,     -999.0,9,     0.0134,1,     4.7028,1,     -999.0,9,     -999.0,9,     -999.0,9
33RR20220430,        P02,      75,          1,         14,         14,2,20220526,       2042,    30.0002,   174.5567,       5361,  1823.6,2,   2.0608,2,  34.5798,2,  34.5785,2,     63.9,2,    64.1,2,  163.63,2,   41.89,2,    0.00,2,    2.89,2,-999.000,9,-999.000,9,-999.0000,9,  -999.0,9,  -999.0,9,-999.0000,9,  -999.00,9, -999.00,9,  -999.0,9, -999.00,9, -999.00,9,     -999.0,9, 20220526,     2156,  30.0002, 174.5567,     2.0610,2,     -999.0,9,     -999.0,9,     -999.0,9,     -999.0,9,     0.0134,1,     4.7033,1,     -999.0,9,     -999.0,9,     -999.0,9
33RR20220430,        P02,      75,          1,         13,         13,2,20220526,       2042,    30.0002,   174.5567,       5361,  2026.6,2,   1.8892,2,  34.6050,2,  34.6036,2,     78.0,2,    78.6,2,  165.67,2,   40.99,2,    0.00,2,    2.84,2,   0.005,2,   0.000,2,   0.0000,2,  2373.7,2,  2414.7,2,   7.4386,2,    25.01,2, -999.00,9,  -999.0,9, -999.00,9, -999.00,9,       34.0,2, 20220526,     2152,  30.0002, 174.5567,     1.8890,2,     -999.0,9,     -999.0,9,     -999.0,9,     -999.0,9,     0.0134,1,     4.7032,1,     -999.0,9,     -999.0,9,     -999.0,9
33RR20220430,        P02,      75,          1,         12,         12,2,20220526,       2042,    30.0002,   174.5567,       5361,  2281.2,2,   1.7303,2,  34.6297,2,  34.6280,2,     96.8,2,    96.6,2,  164.50,2,   39.81,2,    0.00,2,    2.74,2,-999.000,9,-999.000,9,-999.0000,9,  -999.0,9,  -999.0,9,-999.0000,9,  -999.00,9, -999.00,9,  -999.0,9, -999.00,9, -999.00,9,     -999.0,9, 20220526,     2146,  30.0002, 174.5567,     1.7300,2,     -999.0,9,     -999.0,9,     -999.0,9,     -999.0,9,     0.0130,1,     4.7033,1,     -999.0,9,     -999.0,9,     -999.0,9
33RR20220430,        P02,      75,          1,         11,         11,2,20220526,       2042,    30.0002,   174.5567,       5361,  2535.2,2,   1.6288,2,  34.6450,2,  34.6439,2,    109.8,2,   110.3,2,  162.84,2,   38.88,2,    0.00,2,    2.67,2,   0.005,2,   0.000,2,   0.0000,2,  2355.2,2,  2418.3,2,   7.5000,2,    25.00,2, -999.00,9,  -999.0,9, -999.00,9, -999.00,9,       27.8,2, 20220526,     2141,  30.0002, 174.5567,     1.6285,2,     -999.0,9,     -999.0,9,     -999.0,9,     -999.0,9,     0.0122,1,     4.7046,1,     -999.0,9,     -999.0,9,     -999.0,9
33RR20220430,        P02,      75,          1,         10,         10,2,20220526,       2042,    30.0002,   174.5567,       5361,  2790.6,2,   1.5532,2,  34.6571,2,  34.6565,2,    121.7,2,   121.9,2,  160.98,2,   38.13,2,    0.00,2,    2.62,2,-999.000,9,-999.000,9,-999.0000,9,  -999.0,9,  -999.0,9,-999.0000,9,  -999.00,9, -999.00,9,  -999.0,9, -999.00,9, -999.00,9,     -999.0,9, 20220526,     2136,  30.0002, 174.5567,     1.5535,2,     -999.0,9,     -999.0,9,     -999.0,9,     -999.0,9,     0.0122,1,     4.7056,1,     -999.0,9,     -999.0,9,     -999.0,9
33RR20220430,        P02,      75,          1,          9,          9,2,20220526,       2042,    30.0002,   174.5567,       5361,  3045.0,2,   1.5101,2,  34.6653,3,  34.6624,2,    130.2,2,   130.1,2,  158.63,2,   37.55,2,    0.00,2,    2.58,2,   0.006,2,   0.000,2,   0.0000,2,  2341.7,2,  2418.8,2,   7.5358,2,    25.02,2, -999.00,9,  -999.0,9, -999.00,9, -999.00,9,       25.1,2, 20220526,     2131,  30.0002, 174.5567,     1.5099,2,     -999.0,9,     -999.0,9,     -999.0,9,     -999.0,9,     0.0127,1,     4.7056,1,     -999.0,9,     -999.0,9,     -999.0,9
33RR20220430,        P02,      75,          1,          8,          8,2,20220526,       2042,    30.0002,   174.5567,       5361,  3350.4,2,   1.4776,2,  34.6731,2,  34.6714,2,    139.2,2,   139.3,2,  155.61,2,   36.97,2,    0.00,2,    2.52,2,-999.000,9,-999.000,9,-999.0000,9,  -999.0,9,  -999.0,9,-999.0000,9,  -999.00,9, -999.00,9,  -999.0,9, -999.00,9, -999.00,9,     -999.0,9, 20220526,     2124,  30.0002, 174.5567,     1.4774,2,     -999.0,9,     -999.0,9,     -999.0,9,     -999.0,9,     0.0129,1,     4.7068,1,     -999.0,9,     -999.0,9,     -999.0,9
33RR20220430,        P02,      75,          1,          7,          7,2,20220526,       2042,    30.0002,   174.5567,       5361,  3657.8,2,   1.4585,2,  34.6788,2,  34.6775,2,    145.6,2,   145.4,2,  153.94,2,   36.62,2,    0.00,2,    2.49,2,   0.007,2,   0.000,2,   0.0000,2,  2330.6,2,  2418.6,2,   7.5628,2,    25.02,2, -999.00,9,  -999.0,9, -999.00,9, -999.00,9,       22.8,2, 20220526,     2118,  30.0002, 174.5567,     1.4583,2,     -999.0,9,     -999.0,9,     -999.0,9,     -999.0,9,     0.0129,1,     4.7070,1,     -999.0,9,     -999.0,9,     -999.0,9
33RR20220430,        P02,      75,          1,          6,          6,2,20220526,       2042,    30.0002,   174.5567,       5361,  3963.9,2,   1.4528,2,  34.6827,3,  34.6800,2,    150.8,2,   150.5,2,  152.67,2,   36.31,2,    0.00,2,    2.46,2,-999.000,9,-999.000,9,-999.0000,9,  -999.0,9,  -999.0,9,-999.0000,9,  -999.00,9, -999.00,9,  -999.0,9, -999.00,9, -999.00,9,     -999.0,9, 20220526,     2112,  30.0002, 174.5567,     1.4526,2,     -999.0,9,     -999.0,9,     -999.0,9,     -999.0,9,     0.0122,1,     4.7068,1,     -999.0,9,     -999.0,9,     -999.0,9
33RR20220430,        P02,      75,          1,          5,          5,2,20220526,       2042,    30.0002,   174.5567,       5361,  4272.7,2,   1.4532,2,  34.6862,3,  34.6840,2,    155.6,2,   154.9,2,  150.72,2,   36.07,2,    0.00,2,    2.44,2,   0.010,2,   0.000,2,   0.0000,2,  2324.1,2,  2415.7,2,   7.5783,2,    25.04,2, -999.00,9,  -999.0,9, -999.00,9, -999.00,9,       22.0,2, 20220526,     2106,  30.0002, 174.5567,     1.4529,2,     -999.0,9,     -999.0,9,     -999.0,9,     -999.0,9,     0.0122,1,     4.7071,1,     -999.0,9,     -999.0,9,     -999.0,9
33RR20220430,        P02,      75,          1,          4,          4,2,20220526,       2042,    30.0002,   174.5567,       5361,  4578.9,2,   1.4550,2,  34.6893,2,  34.6879,2,    161.2,2,   160.8,2,  146.03,2,   35.59,2,    0.00,2,    2.40,2,-999.000,9,-999.000,9,-999.0000,9,  2316.9,2,  2413.1,2,   7.5849,2,    25.01,2, -999.00,9,  -999.0,9, -999.00,9, -999.00,9,     -999.0,9, 20220526,     2059,  30.0003, 174.5567,     1.4550,2,     -999.0,9,     -999.0,9,     -999.0,9,     -999.0,9,     0.0122,1,     4.7078,1,     -999.0,9,     -999.0,9,     -999.0,9