BOTTLE,20230801CCHSIOCBG
EXPOCODE,SECT_ID,STNNBR,CASTNO,SAMPNO,BTLNBR,BTLNBR_FLAG_W,DATE,TIME,LATITUDE,LONGITUDE,DEPTH,CTDPRS,CTDPRS_FLAG_W,CTDTMP,CTDTMP_FLAG_W,CTDSAL,CTDSAL_FLAG_W,SALNTY,SALNTY_FLAG_W,CTDOXY,CTDOXY_FLAG_W,OXYGEN,OXYGEN_FLAG_W,SILCAT,SILCAT_FLAG_W,NITRAT,NITRAT_FLAG_W,NITRIT,NITRIT_FLAG_W,PHSPHT,PHSPHT_FLAG_W,CFC-11,CFC-11_FLAG_W,CFC-12,CFC-12_FLAG_W,SF6,SF6_FLAG_W,TCARBN,TCARBN_FLAG_W,ALKALI,ALKALI_FLAG_W,PH_TOT,PH_TOT_FLAG_W,PH_TMP,PH_TMP_FLAG_W,DELC13,DELC13_FLAG_W,DELC14,DELC14_FLAG_W,DOC,DOC_FLAG_W,TDN,TDN_FLAG_W,N2O,N2O_FLAG_W,BTL_DATE,BTL_TIME,BTL_LAT,BTL_LON,REFTMP,REFTMP_FLAG_W,POC,POC_FLAG_W,PON,PON_FLAG_W,POP,POP_FLAG_W,PCOD,PCOD_FLAG_W,CTDFLUOR,CTDFLUOR_FLAG_W,CTDXMISS,CTDXMISS_FLAG_W,HPLC,HPLC_FLAG_W,DNA,DNA_FLAG_W,FCM,FCM_FLAG_W
,,,,,,,,,,,METERS,DBAR,,ITS-90,,PSS-78,,PSS-78,,UMOL/KG,,UMOL/KG,,UMOL/KG,,UMOL/KG,,UMOL/KG,,UMOL/KG,,PMOL/KG,,PMOL/KG,,FMOL/KG,,UMOL/KG,,UMOL/KG,,,,DEG C,,/MILLE,,/MILLE,,UMOL/KG,,UMOL/KG,,NMOL/KG,,,,,,ITS-90,,UG/L,,UG/L,,UG/L,,UG/L,,VOLTS,,VOLTS,,,,,,,
33RR20220430,        P02,     115,          1,          3,          3,2,20220607,       1755,    30.0005,  -162.3672,       5671,  5338.1,2,   1.5632,2,  34.6872,3,  34.6895,2,    157.9,2,   158.0,2,  150.54,2,   35.51,2,    0.00,2,    2.44,2,   0.004,2,   0.000,2,   0.0000,2,  2321.8,6,  2417.3,2,   7.5858,2,    25.00,2, -999.00,9,  -999.0,9, -999.00,1, -999.00,1,       22.5,2, 20220607,     1805,  30.0005,-162.3672,     1.5633,2,     -999.0,9,     -999.0,9,     -999.0,9,     -999.0,9,     0.0122,1,     4.7045,1,     -999.0,9,     -999.0,9,     -999.0,9
33RR20220430,        P02,     115,          1,          2,          2,2,20220607,       1755,    30.0005,  -162.3672,       5671,  5613.7,2,   1.5871,2,  34.6882,3,  34.6912,2,    160.5,2,   160.8,2,  148.29,2,   35.34,2,    0.00,2,    2.43,2,-999.000,9,-999.000,9,-999.0000,9,  2316.6,2,  2414.3,2,   7.5871,2,    25.00,2, -999.00,9,  -999.0,9, -999.00,9, -999.00,9,     -999.0,9, 20220607,     1759,  30.0005,-162.3672,     1.5873,2,     -999.0,9,     -999.0,9,     -999.0,9,     -999.0,9,     0.0122,1,     4.7028,1,     -999.0,9,     -999.0,9,     -999.0,9
33RR20220430,        P02,     115,          1,          1,          1,2,20220607,       1755,    30.0005,  -162.3672,       5671,  5775.9,2,   1.6085,2,  34.6882,3,  34.6908,2,    160.6,2,   160.7,2,  147.12,2,   35.33,2,    0.00,2,    2.42,2,   0.006,2,   0.000,2,   0.0000,2,  2316.7,2,  2413.7,2,   7.5881,2,    24.98,2, -999.00,9,  -999.0,9, -999.00,1, -999.00,1,       22.6,2, 20220607,     1755,  30.0005,-162.3672,     1.6088,2,     -999.0,9,     -999.0,9,     -999.0,9,     -999.0,9,     0.0121,1,     4.7020,1,     -999.0,9,     -999.0,9,     -999.0,9
33RR20220430,        P02,     116,          1,         15,         15,2,20220607,       2322,    30.0009,  -161.7914,       5721,     2.4,2,  24.6719,2,  35.0541,2,-999.0000,9,    204.7,2,  -999.0,9, -999.00,9, -999.00,9, -999.00,9, -999.00,9,-999.000,9,-999.000,9,-999.0000,9,  -999.0,9,  -999.0,9,-999.0000,9,  -999.00,9, -999.00,9,  -999.0,9, -999.00,9, -999.00,9,     -999.0,9, 20220607,     2350,  30.0009,-161.7914,    24.6775,2,     -999.0,9,     -999.0,9,     -999.0,1,     -999.0,9,     0.0135,1,     4.6318,1,     -999.0,9,     -999.0,9,     -999.0,9
33RR20220430,        P02,     116,          1,         11,         11,2,20220607,       2322,    30.0009,  -161.7914,       5721,     2.6,2,  24.7108,2,  35.0577,2,-999.0000,9,    205.1,2,  -999.0,9, -999.00,9, -999.00,9, -999.00,9, -999.00,9,-999.000,9,-999.000,9,-999.0000,9,  -999.0,9,  -999.0,9,-999.0000,9,  -999.00,9, -999.00,9,  -999.0,9, -999.00,9, -999.00,9,     -999.0,9, 20220607,     2349,  30.0009,-161.7914,    24.7175,2,     -999.0,1,     -999.0,1,     -999.0,9,     -999.0,9,     0.0131,1,     4.6313,1,     -999.0,9,     -999.0,9,     -999.0,9
33RR20220430,        P02,     116,          1,         22,         22,2,20220607,       2322,    30.0009,  -161.7914,       5721,     2.7,2,  24.7560,2,  35.0551,2,-999.0000,9,    205.4,2,  -999.0,9, -999.00,9, -999.00,9, -999.00,9, -999.00,9,-999.000,9,-999.000,9,-999.0000,9,  -999.0,9,  -999.0,9,-999.0000,9,  -999.00,9, -999.00,9,  -999.0,9, -999.00,9, -999.00,9,     -999.0,9, 20220607,     2352,  30.0009,-161.7914,    24.7514,2,     -999.0,9,     -999.0,9,     -999.0,9,     -999.0,9,     0.0122,1,     4.6295,1,     -999.0,9,     -999.0,9,     -999.0,9
33RR20220430,        P02,     116,          1,         12,         12,2,20220607,       2322,    30.0009,  -161.7914,       5721,     2.7,2,  24.7201,2,  35.0580,2,-999.0000,9,    205.1,2,  -999.0,9, -999.00,9, -999.00,9, -999.00,9, -999.00,9,-999.000,9,-999.000,9,-999.0000,9,  -999.0,9,  -999.0,9,-999.0000,9,  -999.00,9, -999.00,9,  -999.0,9, -999.00,9, -999.00,9,     -999.0,9, 20220607,     2349,  30.0009,-161.7914,    24.7192,2,     -999.0,1,     -999.0,1,     -999.0,9,     -999.0,9,     0.0131,1,     4.6320,1,     -999.0,9,     -999.0,9,     -999.0,9
33RR20220430,        P02,     116,          1,         19,         19,2,20220607,       2322,    30.0009,  -161.7914,       5721,     2.8,2,  24.6952,2,  35.0578,2,-999.0000,9,    205.2,2,  -999.0,9, -999.00,9, -999.00,9, -999.00,9, -999.00,9,-999.000,9,-999.000,9,-999.0000,9,  -999.0,9,  -999.0,9,-999.0000,9,  -999.00,9, -999.00,9,  -999.0,9, -999.00,9, -999.00,9,     -999.0,9, 20220607,     2351,  30.0009,-161.7914,    24.7005,2,     -999.0,9,     -999.0,9,     -999.0,9,     -999.0,1,     0.0127,1,     4.6300,1,     -999.0,9,     -999.0,9,     -999.0,9
33RR20220430,        P02,     116,          1,         13,         13,2,20220607,       2322,    30.0009,  -161.7914,       5721,     2.8,2,  24.7203,2,  35.0579,2,-999.0000,9,    204.9,2,  -999.0,9, -999.00,9, -999.00,9, -999.00,9, -999.00,9,-999.000,9,-999.000,9,-999.0000,9,  -999.0,9,  -999.0,9,-999.0000,9,  -999.00,9, -999.00,9,  -999.0,9, -999.00,9, -999.00,9,     -999.0,9, 20220607,     2349,  30.0009,-161.7914,    24.6967,2,     -999.0,1,     -999.0,1,     -999.0,9,     -999.0,9,     0.0122,1,     4.6311,1,     -999.0,9,     -999.0,9,     -999.0,9
33RR20220430,        P02,     116,          1,          9,          9,2,20220607,       2322,    30.0009,  -161.7914,       5721,     2.8,2,  24.7194,2,  35.0547,2,-999.0000,9,    205.6,2,  -999.0,9, -999.00,9, -999.00,9, -999.00,9, -999.00,9,-999.000,9,-999.000,9,-999.0000,9,  -999.0,9,  -999.0,9,-999.0000,9,  -999.00,9, -999.00,9,  -999.0,9, -999.00,9, -999.00,9,     -999.0,9, 20220607,     2348,  30.0009,-161.7914,    24.7189,2,     -999.0,9,     -999.0,9,     -999.0,9,     -999.0,9,     0.0122,1,     4.6328,1,     -999.0,1,     -999.0,9,     -999.0,1
33RR20220430,        P02,     116,          1,         20,         20,2,20220607,       2322,    30.0009,  -161.7914,       5721,     2.9,2,  24.6921,2,  35.0570,2,-999.0000,9,    204.9,2,  -999.0,9, -999.00,9, -999.00,9, -999.00,9, -999.00,9,-999.000,9,-999.000,9,-999.0000,9,  -999.0,9,  -999.0,9,-999.0000,9,  -999.00,9, -999.00,9,  -999.0,9, -999.00,9, -999.00,9,     -999.0,9, 20220607,     2352,  30.0009,-161.7914,    24.6738,2,     -999.0,9,     -999.0,9,     -999.0,9,     -999.0,9,     0.0122,1,     4.6302,1,     -999.0,9,     -999.0,9,     -999.0,9
33RR20220430,        P02,     116,          1,         16,         16,2,20220607,       2322,    30.0009,  -161.7914,       5721,     2.9,2,  24.6836,2,  35.0531,2,-999.0000,9,    205.0,2,  -999.0,9, -999.00,9, -999.00,9, -999.00,9, -999.00,9,-999.000,9,-999.000,9,-999.0000,9,  -999.0,9,  -999.0,9,-999.0000,9,  -999.00,9, -999.00,9,  -999.0,9, -999.00,9, -999.00,9,     -999.0,9, 20220607,     2350,  30.0009,-161.7914,    24.6623,2,     -999.0,9,     -999.0,9,     -999.0,1,     -999.0,9,     0.0122,1,     4.6301,1,     -999.0,9,     -999.0,9,     -999.0,9
33RR20220430,        P02,     116,          1,         14,         14,2,20220607,       2322,    30.0009,  -161.7914,       5721,     2.9,2,  24.7449,2,  35.0576,2,-999.0000,9,    204.9,2,  -999.0,9, -999.00,9, -999.00,9, -999.00,9, -999.00,9,-999.000,9,-999.000,9,-999.0000,9,  -999.0,9,  -999.0,9,-999.0000,9,  -999.00,9, -999.00,9,  -999.0,9, -999.00,9, -999.00,9,     -999.0,9, 20220607,     2350,  30.0009,-161.7914,    24.7110,2,     -999.0,9,     -999.0,9,     -999.0,1,     -999.0,9,     0.0127,1,     4.6323,1,     -999.0,9,     -999.0,9,     -999.0,9
33RR20220430,        P02,     116,          1,         21,         21,2,20220607,       2322,    30.0009,  -161.7914,       5721,     3.0,2,  24.6702,2,  35.0565,2,-999.0000,9,    205.1,2,  -999.0,9, -999.00,9, -999.00,9, -999.00,9, -999.00,9,-999.000,9,-999.000,9,-999.0000,9,  -999.0,9,  -999.0,9,-999.0000,9,  -999.00,9, -999.00,9,  -999.0,9, -999.00,9, -999.00,9,     -999.0,9, 20220607,     2352,  30.0009,-161.7914,    24.6960,2,     -999.0,9,     -999.0,9,     -999.0,9,     -999.0,9,     0.0122,1,     4.6285,1,     -999.0,9,     -999.0,9,     -999.0,9
33RR20220430,        P02,     116,          1,         10,         10,2,20220607,       2322,    30.0009,  -161.7914,       5721,     3.1,2,  24.6999,2,  35.0547,2,-999.0000,9,    205.8,2,  -999.0,9, -999.00,9, -999.00,9, -999.00,9, -999.00,9,-999.000,9,-999.000,9,-999.0000,9,  -999.0,9,  -999.0,9,-999.0000,9,  -999.00,9, -999.00,9,  -999.0,9, -999.00,9, -999.00,9,     -999.0,9, 20220607,     2348,  30.0009,-161.7914,    24.6987,2,     -999.0,9,     -999.0,9,     -999.0,9,     -999.0,9,     0.0126,1,     4.6327,1,     -999.0,9,     -999.0,1,     -999.0,9
33RR20220430,        P02,     116,          1,         18,         18,2,20220607,       2322,    30.0009,  -161.7914,       5721,     3.1,2,  24.7091,2,  35.0562,2,-999.0000,9,    204.5,2,  -999.0,9, -999.00,9, -999.00,9, -999.00,9, -999.00,9,-999.000,9,-999.000,9,-999.0000,9,  -999.0,9,  -999.0,9,-999.0000,9,  -999.00,9, -999.00,9,  -999.0,9, -999.00,9, -999.00,9,     -999.0,9, 20220607,     2351,  30.0009,-161.7914,    24.7024,2,     -999.0,9,     -999.0,9,     -999.0,9,     -999.0,1,     0.0122,1,     4.6316,1,     -999.0,9,     -999.0,9,     -999.0,9
33RR20220430,        P02,     116,          1,         17,         17,2,20220607,       2322,    30.0009,  -161.7914,       5721,     3.3,2,  24.6946,2,  35.0565,2,-999.0000,9,    205.1,2,  -999.0,9, -999.00,9, -999.00,9, -999.00,9, -999.00,9,-999.000,9,-999.000,9,-999.0000,9,  -999.0,9,  -999.0,9,-999.0000,9,  -999.00,9, -999.00,9,  -999.0,9, -999.00,9, -999.00,9,     -999.0,9, 20220607,     2351,  30.0009,-161.7914,    24.7033,2,     -999.0,9,     -999.0,9,     -999.0,9,     -999.0,1,     0.0131,1,     4.6316,1,     -999.0,9,     -999.0,9,     -999.0,9
33RR20220430,        P02,     116,          1,          8,          8,2,20220607,       2322,    30.0009,  -161.7914,       5721,    40.6,2,  21.1747,2,  35.1041,2,-999.0000,9,    221.1,2,  -999.0,9, -999.00,9, -999.00,9, -999.00,9, -999.00,9,-999.000,9,-999.000,9,-999.0000,9,  -999.0,9,  -999.0,9,-999.0000,9,  -999.00,9, -999.00,9,  -999.0,9, -999.00,9, -999.00,9,     -999.0,9, 20220607,     2346,  30.0009,-161.7914,    21.1751,2,     -999.0,9,     -999.0,9,     -999.0,9,     -999.0,9,     0.0134,1,     4.6288,1,     -999.0,1,     -999.0,9,     -999.0,1
33RR20220430,        P02,     116,          1,          7,          7,2,20220607,       2322,    30.0009,  -161.7914,       5721,    77.8,2,  19.3430,2,  34.9358,2,-999.0000,9,    219.9,2,  -999.0,9, -999.00,9, -999.00,9, -999.00,9, -999.00,9,-999.000,9,-999.000,9,-999.0000,9,  -999.0,9,  -999.0,9,-999.0000,9,  -999.00,9, -999.00,9,  -999.0,9, -999.00,9, -999.00,9,     -999.0,9, 20220607,     2344,  30.0009,-161.7914,    19.3870,2,     -999.0,9,     -999.0,9,     -999.0,9,     -999.0,9,     0.0171,1,     4.6421,1,     -999.0,9,     -999.0,9,     -999.0,1
33RR20220430,        P02,     116,          1,          6,          6,2,20220607,       2322,    30.0009,  -161.7914,       5721,   101.8,2,  18.4828,2,  34.8409,2,-999.0000,9,    211.4,2,  -999.0,9, -999.00,9, -999.00,9, -999.00,9, -999.00,9,-999.000,9,-999.000,9,-999.0000,9,  -999.0,9,  -999.0,9,-999.0000,9,  -999.00,9, -999.00,9,  -999.0,9, -999.00,9, -999.00,9,     -999.0,9, 20220607,     2342,  30.0009,-161.7914,    18.4826,2,     -999.0,9,     -999.0,9,     -999.0,9,     -999.0,9,     0.0551,1,     4.6166,1,     -999.0,1,     -999.0,9,     -999.0,1
33RR20220430,        P02,     116,          1,          5,          5,2,20220607,       2322,    30.0009,  -161.7914,       5721,   101.8,2,  18.4835,2,  34.8419,2,-999.0000,9,    211.1,2,  -999.0,9, -999.00,9, -999.00,9, -999.00,9, -999.00,9,-999.000,9,-999.000,9,-999.0000,9,  -999.0,9,  -999.0,9,-999.0000,9,  -999.00,9, -999.00,9,  -999.0,9, -999.00,9, -999.00,9,     -999.0,9, 20220607,     2342,  30.0009,-161.7914,    18.4948,2,     -999.0,9,     -999.0,9,     -999.0,9,     -999.0,9,     0.0521,1,     4.6178,1,     -999.0,9,     -999.0,1,     -999.0,9
33RR20220430,        P02,     116,          1,          4,          4,2,20220607,       2322,    30.0009,  -161.7914,       5721,   151.7,2,  16.1599,2,  34.5751,2,-999.0000,9,    209.5,2,  -999.0,9, -999.00,9, -999.00,9, -999.00,9, -999.00,9,-999.000,9,-999.000,9,-999.0000,9,  -999.0,9,  -999.0,9,-999.0000,9,  -999.00,9, -999.00,9,  -999.0,9, -999.00,9, -999.00,9,     -999.0,9, 20220607,     2340,  30.0009,-161.7914,    16.1568,2,     -999.0,9,     -999.0,9,     -999.0,9,     -999.0,9,     0.0203,1,     4.6733,1,     -999.0,9,     -999.0,9,     -999.0,1
33RR20220430,        P02,     116,          1,          3,          3,2,20220607,       2322,    30.0009,  -161.7914,       5721,   204.9,2,  14.5191,2,  34.4417,2,-999.0000,9,    202.6,2,  -999.0,9, -999.00,9, -999.00,9, -999.00,9, -999.00,9,-999.000,9,-999.000,9,-999.0000,9,  -999.0,9,  -999.0,9,-999.0000,9,  -999.00,9, -999.00,9,  -999.0,9, -999.00,9, -999.00,9,     -999.0,9, 20220607,     2338,  30.0009,-161.7914,    14.5213,2,     -999.0,9,     -999.0,9,     -999.0,9,     -999.0,9,     0.0134,1,     4.6872,1,     -999.0,9,     -999.0,1,     -999.0,1
33RR20220430,        P02,     116,          1,          2,          2,2,20220607,       2322,    30.0009,  -161.7914,       5721,   508.3,2,   7.7815,2,  34.0256,2,-999.0000,9,    146.7,2,  -999.0,9, -999.00,9, -999.00,9, -999.00,9, -999.00,9,-999.000,9,-999.000,9,-999.0000,9,  -999.0,9,  -999.0,9,-999.0000,9,  -999.00,9, -999.00,9,  -999.0,9, -999.00,9, -999.00,9,     -999.0,9, 20220607,     2332,  30.0009,-161.7914,     7.7766,2,     -999.0,9,     -999.0,9,     -999.0,9,     -999.0,9,     0.0134,1,     4.6988,1,     -999.0,9,     -999.0,9,     -999.0,1
33RR20220430,        P02,     116,          1,          1,          1,2,20220607,       2322,    30.0009,  -161.7914,       5721,  1011.3,2,   3.7226,2,  34.3277,2,-999.0000,9,     15.4,2,  -999.0,9, -999.00,9, -999.00,9, -999.00,9, -999.00,9,-999.000,9,-999.000,9,-999.0000,9,  -999.0,9,  -999.0,9,-999.0000,9,  -999.00,9, -999.00,9,  -999.0,9, -999.00,9, -999.00,9,     -999.0,9, 20220607,     2322,  30.0009,-161.7914,     3.7236,2,     -999.0,9,     -999.0,9,     -999.0,9,     -999.0,9,     0.0134,1,     4.7001,1,     -999.0,9,     -999.0,1,     -999.0,1