BOTTLE,20230801CCHSIOCBG
EXPOCODE,SECT_ID,STNNBR,CASTNO,SAMPNO,BTLNBR,BTLNBR_FLAG_W,DATE,TIME,LATITUDE,LONGITUDE,DEPTH,CTDPRS,CTDPRS_FLAG_W,CTDTMP,CTDTMP_FLAG_W,CTDSAL,CTDSAL_FLAG_W,SALNTY,SALNTY_FLAG_W,CTDOXY,CTDOXY_FLAG_W,OXYGEN,OXYGEN_FLAG_W,SILCAT,SILCAT_FLAG_W,NITRAT,NITRAT_FLAG_W,NITRIT,NITRIT_FLAG_W,PHSPHT,PHSPHT_FLAG_W,CFC-11,CFC-11_FLAG_W,CFC-12,CFC-12_FLAG_W,SF6,SF6_FLAG_W,TCARBN,TCARBN_FLAG_W,ALKALI,ALKALI_FLAG_W,PH_TOT,PH_TOT_FLAG_W,PH_TMP,PH_TMP_FLAG_W,DELC13,DELC13_FLAG_W,DELC14,DELC14_FLAG_W,DOC,DOC_FLAG_W,TDN,TDN_FLAG_W,N2O,N2O_FLAG_W,BTL_DATE,BTL_TIME,BTL_LAT,BTL_LON,REFTMP,REFTMP_FLAG_W,POC,POC_FLAG_W,PON,PON_FLAG_W,POP,POP_FLAG_W,PCOD,PCOD_FLAG_W,CTDFLUOR,CTDFLUOR_FLAG_W,CTDXMISS,CTDXMISS_FLAG_W,HPLC,HPLC_FLAG_W,DNA,DNA_FLAG_W,FCM,FCM_FLAG_W
,,,,,,,,,,,METERS,DBAR,,ITS-90,,PSS-78,,PSS-78,,UMOL/KG,,UMOL/KG,,UMOL/KG,,UMOL/KG,,UMOL/KG,,UMOL/KG,,PMOL/KG,,PMOL/KG,,FMOL/KG,,UMOL/KG,,UMOL/KG,,,,DEG C,,/MILLE,,/MILLE,,UMOL/KG,,UMOL/KG,,NMOL/KG,,,,,,ITS-90,,UG/L,,UG/L,,UG/L,,UG/L,,VOLTS,,VOLTS,,,,,,,
33RR20220430,        P02,       8,          1,         27,         27,2,20220505,       1453,    31.8101,   133.6925,       4230,    11.2,2,  23.7150,2,  34.4110,2,  34.3986,2,    212.7,2,   212.4,2,    0.10,2,    0.01,2,    0.00,2,    0.02,2,   1.800,2,   1.058,2,   1.8283,2,  1962.7,6,  2260.5,2,   8.0517,2,    24.93,2, -999.00,9,  -999.0,9, -999.00,9, -999.00,9,        4.7,2, 20220505,     1639,  31.8101, 133.6919,    23.7194,2,     -999.0,9,     -999.0,9,     -999.0,9,     -999.0,9,     0.0204,1,     4.6182,1,     -999.0,9,     -999.0,9,     -999.0,1
33RR20220430,        P02,       8,          1,         33,         33,2,20220505,       1453,    31.8101,   133.6925,       4230,    11.3,2,  23.7233,2,  34.4088,2,-999.0000,9,    212.7,2,  -999.0,9, -999.00,9, -999.00,9, -999.00,9, -999.00,9,-999.000,9,-999.000,9,-999.0000,9,  -999.0,9,  -999.0,9,-999.0000,9,  -999.00,9, -999.00,9,  -999.0,9, -999.00,9, -999.00,9,     -999.0,9, 20220505,     1640,  31.8101, 133.6924,    23.7204,2,     -999.0,9,     -999.0,9,     -999.0,1,     -999.0,9,     0.0173,1,     4.6181,1,     -999.0,9,     -999.0,9,     -999.0,9
33RR20220430,        P02,       8,          1,         30,         30,2,20220505,       1453,    31.8101,   133.6925,       4230,    11.3,2,  23.7233,2,  34.4092,2,-999.0000,9,    212.6,2,  -999.0,9, -999.00,9, -999.00,9, -999.00,9, -999.00,9,-999.000,9,-999.000,9,-999.0000,9,  -999.0,9,  -999.0,9,-999.0000,9,  -999.00,9, -999.00,9,  -999.0,9, -999.00,9, -999.00,9,     -999.0,9, 20220505,     1640,  31.8101, 133.6922,     -999.0,9,     -999.0,1,     -999.0,1,     -999.0,9,     -999.0,9,     0.0186,1,     4.6187,1,     -999.0,9,     -999.0,9,     -999.0,9
33RR20220430,        P02,       8,          1,         29,         29,2,20220505,       1453,    31.8101,   133.6925,       4230,    11.4,2,  23.7240,2,  34.4091,2,-999.0000,9,    212.8,2,  -999.0,9, -999.00,9, -999.00,9, -999.00,9, -999.00,9,-999.000,9,-999.000,9,-999.0000,9,  -999.0,9,  -999.0,9,-999.0000,9,  -999.00,9, -999.00,9,  -999.0,9, -999.00,9, -999.00,9,     -999.0,9, 20220505,     1639,  31.8101, 133.6921,    23.7230,2,     -999.0,1,     -999.0,1,     -999.0,9,     -999.0,9,     0.0186,1,     4.6179,1,     -999.0,9,     -999.0,9,     -999.0,9
33RR20220430,        P02,       8,          1,         36,         36,2,20220505,       1453,    31.8101,   133.6925,       4230,    11.5,2,  23.7248,2,  34.4089,2,-999.0000,9,    213.1,2,  -999.0,9, -999.00,9, -999.00,9, -999.00,9, -999.00,9,-999.000,9,-999.000,9,-999.0000,9,  -999.0,9,  -999.0,9,-999.0000,9,  -999.00,9, -999.00,9,  -999.0,9, -999.00,9, -999.00,9,     -999.0,9, 20220505,     1641,  31.8101, 133.6925,    23.7275,2,     -999.0,9,     -999.0,9,     -999.0,9,     -999.0,1,     0.0186,1,     4.6177,1,     -999.0,9,     -999.0,9,     -999.0,9
33RR20220430,        P02,       8,          1,         32,         32,2,20220505,       1453,    31.8101,   133.6925,       4230,    11.5,2,  23.7272,2,  34.4045,2,-999.0000,9,    212.7,2,  -999.0,9, -999.00,9, -999.00,9, -999.00,9, -999.00,9,-999.000,9,-999.000,9,-999.0000,9,  -999.0,9,  -999.0,9,-999.0000,9,  -999.00,9, -999.00,9,  -999.0,9, -999.00,9, -999.00,9,     -999.0,9, 20220505,     1640,  31.8101, 133.6923,     -999.0,9,     -999.0,9,     -999.0,9,     -999.0,1,     -999.0,9,     0.0186,1,     4.6181,1,     -999.0,9,     -999.0,9,     -999.0,9
33RR20220430,        P02,       8,          1,         34,         34,2,20220505,       1453,    31.8101,   133.6925,       4230,    11.5,2,  23.7174,2,  34.4098,2,-999.0000,9,    212.7,2,  -999.0,9, -999.00,9, -999.00,9, -999.00,9, -999.00,9,-999.000,9,-999.000,9,-999.0000,9,  -999.0,9,  -999.0,9,-999.0000,9,  -999.00,9, -999.00,9,  -999.0,9, -999.00,9, -999.00,9,     -999.0,9, 20220505,     1641,  31.8101, 133.6924,    23.7209,2,     -999.0,9,     -999.0,9,     -999.0,9,     -999.0,1,     0.0188,1,     4.6176,1,     -999.0,9,     -999.0,9,     -999.0,9
33RR20220430,        P02,       8,          1,         31,         31,2,20220505,       1453,    31.8101,   133.6925,       4230,    11.5,2,  23.7229,2,  34.4094,2,-999.0000,9,    212.6,2,  -999.0,9, -999.00,9, -999.00,9, -999.00,9, -999.00,9,-999.000,9,-999.000,9,-999.0000,9,  -999.0,9,  -999.0,9,-999.0000,9,  -999.00,9, -999.00,9,  -999.0,9, -999.00,9, -999.00,9,     -999.0,9, 20220505,     1640,  31.8101, 133.6922,    23.7224,2,     -999.0,1,     -999.0,1,     -999.0,1,     -999.0,9,     0.0183,1,     4.6184,1,     -999.0,9,     -999.0,9,     -999.0,9
33RR20220430,        P02,       8,          1,         35,         35,2,20220505,       1453,    31.8101,   133.6925,       4230,    11.5,2,  23.7265,2,  34.4091,2,-999.0000,9,    212.8,2,  -999.0,9, -999.00,9, -999.00,9, -999.00,9, -999.00,9,-999.000,9,-999.000,9,-999.0000,9,  -999.0,9,  -999.0,9,-999.0000,9,  -999.00,9, -999.00,9,  -999.0,9, -999.00,9, -999.00,9,     -999.0,9, 20220505,     1641,  31.8101, 133.6925,     -999.0,9,     -999.0,9,     -999.0,9,     -999.0,9,     -999.0,1,     0.0196,1,     4.6179,1,     -999.0,9,     -999.0,9,     -999.0,9
33RR20220430,        P02,       8,          1,         28,         28,2,20220505,       1453,    31.8101,   133.6925,       4230,    11.7,2,  23.7239,2,  34.4100,2,-999.0000,9,    212.7,2,  -999.0,9, -999.00,9, -999.00,9, -999.00,9, -999.00,9,-999.000,9,-999.000,9,-999.0000,9,  -999.0,9,  -999.0,9,-999.0000,9,  -999.00,9, -999.00,9,  -999.0,9, -999.00,9, -999.00,9,     -999.0,9, 20220505,     1639,  31.8101, 133.6920,    23.7236,2,     -999.0,9,     -999.0,9,     -999.0,9,     -999.0,9,     0.0186,1,     4.6188,1,     -999.0,9,     -999.0,1,     -999.0,9
33RR20220430,        P02,       8,          1,         26,         26,2,20220505,       1453,    31.8101,   133.6925,       4230,    40.7,2,  23.7209,2,  34.4112,2,  34.4035,2,    211.9,2,   211.9,2,    0.00,2,    0.00,2,    0.00,2,    0.00,2,   1.810,2,   1.056,2,   1.8616,2,  1962.2,2,  2261.1,2,   8.0517,2,    24.96,2, -999.00,9,  -999.0,9, -999.00,9, -999.00,9,        4.8,2, 20220505,     1636,  31.8100, 133.6912,    23.7175,2,     -999.0,9,     -999.0,9,     -999.0,9,     -999.0,9,     0.0239,1,     4.6158,1,     -999.0,9,     -999.0,9,     -999.0,1
33RR20220430,        P02,       8,          1,         25,         25,2,20220505,       1453,    31.8101,   133.6925,       4230,    65.2,2,  22.8235,2,  34.6567,2,  34.6437,2,    200.7,2,   199.6,2,    0.59,2,    0.97,2,    0.15,2,    0.03,2,   1.904,2,   1.196,2,   1.8829,2,  1996.9,2,  2274.7,2,   8.0171,2,    25.01,2, -999.00,9,  -999.0,9, -999.00,9, -999.00,9,        5.9,2, 20220505,     1634,  31.8100, 133.6907,    22.8082,2,     -999.0,9,     -999.0,9,     -999.0,9,     -999.0,9,     0.0402,1,     4.6238,1,     -999.0,9,     -999.0,9,     -999.0,1
33RR20220430,        P02,       8,          1,         24,         24,2,20220505,       1453,    31.8101,   133.6925,       4230,    91.5,2,  21.1926,2,  34.6065,3,  34.5812,2,    197.6,3,   200.0,2,    1.66,2,    1.96,2,    0.25,2,    0.07,2,   1.987,2,   1.175,2,   1.9863,2,  2008.8,2,  2272.7,2,   7.9918,2,    24.93,2, -999.00,9,  -999.0,9, -999.00,9, -999.00,9,        6.7,2, 20220505,     1632,  31.8099, 133.6903,    21.1924,2,     -999.0,9,     -999.0,9,     -999.0,9,     -999.0,9,     0.0198,1,     4.6617,1,     -999.0,9,     -999.0,9,     -999.0,1
33RR20220430,        P02,       8,          1,         23,         23,2,20220505,       1453,    31.8101,   133.6925,       4230,    91.6,2,  21.1984,2,  34.6032,2,-999.0000,9,    198.4,2,  -999.0,9, -999.00,9, -999.00,9, -999.00,9, -999.00,9,-999.000,9,-999.000,9,-999.0000,9,  -999.0,9,  -999.0,9,-999.0000,9,  -999.00,9, -999.00,9,  -999.0,9, -999.00,9, -999.00,9,     -999.0,9, 20220505,     1631,  31.8099, 133.6903,    21.1958,2,     -999.0,9,     -999.0,9,     -999.0,9,     -999.0,9,     0.0201,1,     4.6611,1,     -999.0,9,     -999.0,1,     -999.0,9
33RR20220430,        P02,       8,          1,         22,         22,2,20220505,       1453,    31.8101,   133.6925,       4230,   127.0,2,  20.0434,2,  34.7197,2,  34.7109,2,    188.6,2,   188.9,2,    2.83,2,    3.94,2,    0.03,2,    0.19,2,   2.439,2,   1.263,2,   1.9092,2,  2035.4,2,  2281.8,2,   7.9501,2,    25.00,2, -999.00,9,  -999.0,9, -999.00,9, -999.00,9,        8.1,2, 20220505,     1629,  31.8099, 133.6897,    20.0409,2,     -999.0,9,     -999.0,9,     -999.0,9,     -999.0,9,     0.0145,1,     4.6763,1,     -999.0,9,     -999.0,9,     -999.0,1
33RR20220430,        P02,       8,          1,         21,         21,2,20220505,       1453,    31.8101,   133.6925,       4230,   186.2,2,  17.8286,2,  34.6570,2,  34.6470,2,    218.5,2,   219.7,2,    2.25,2,    2.85,2,    0.02,2,    0.16,2,   2.249,2,   1.311,2,   2.1866,2,  2025.8,2,  2277.9,2,   7.9646,2,    25.00,2, -999.00,9,  -999.0,9, -999.00,9, -999.00,9,        7.1,2, 20220505,     1627,  31.8099, 133.6891,    17.8287,2,     -999.0,9,     -999.0,9,     -999.0,9,     -999.0,9,     0.0159,1,     4.6750,1,     -999.0,9,     -999.0,9,     -999.0,9
33RR20220430,        P02,       8,          1,         20,         20,2,20220505,       1453,    31.8101,   133.6925,       4230,   186.3,2,  17.8310,2,  34.6538,2,-999.0000,9,    218.5,2,  -999.0,9, -999.00,9, -999.00,9, -999.00,9, -999.00,9,-999.000,9,-999.000,9,-999.0000,9,  -999.0,9,  -999.0,9,-999.0000,9,  -999.00,9, -999.00,9,  -999.0,9, -999.00,9, -999.00,9,     -999.0,9, 20220505,     1627,  31.8099, 133.6890,    17.8298,2,     -999.0,9,     -999.0,9,     -999.0,9,     -999.0,9,     0.0159,1,     4.6764,1,     -999.0,9,     -999.0,1,     -999.0,1
33RR20220430,        P02,       8,          1,         19,         19,2,20220505,       1453,    31.8101,   133.6925,       4230,   285.3,2,  15.7095,2,  34.6271,2,  34.6164,2,    180.7,2,   180.7,2,    9.28,2,    9.45,2,    0.00,2,    0.55,2,   2.452,2,   1.643,2,   1.7151,2,  2083.1,2,  2278.3,2,   7.8519,2,    24.98,2, -999.00,9,  -999.0,9, -999.00,9, -999.00,9,       12.3,2, 20220505,     1624,  31.8098, 133.6883,    15.7115,2,     -999.0,9,     -999.0,9,     -999.0,9,     -999.0,9,     0.0122,1,     4.6886,1,     -999.0,9,     -999.0,9,     -999.0,9
33RR20220430,        P02,       8,          1,         18,         18,2,20220505,       1453,    31.8101,   133.6925,       4230,   387.1,2,  12.6742,2,  34.4369,2,  34.4343,2,    159.1,2,   159.4,2,   23.26,2,   16.46,2,    0.00,2,    1.08,2,   2.473,2,   1.364,2,   1.3930,2,  2132.0,2,  2279.8,2,   7.7448,2,    24.97,2, -999.00,9,  -999.0,9, -999.00,9, -999.00,9,       18.0,2, 20220505,     1621,  31.8098, 133.6876,    12.6741,2,     -999.0,9,     -999.0,9,     -999.0,9,     -999.0,9,     0.0131,1,     4.6861,1,     -999.0,9,     -999.0,9,     -999.0,9
33RR20220430,        P02,       8,          1,         17,         17,2,20220505,       1453,    31.8101,   133.6925,       4230,   574.9,2,   7.6629,2,  34.1972,2,  34.1942,2,    120.0,2,   119.5,2,   54.93,2,   28.77,2,    0.00,2,    1.95,2,   2.067,2,   1.266,2,   0.8257,2,  2219.0,2,  2295.4,2,   7.5511,2,    25.00,2, -999.00,9,  -999.0,9, -999.00,9, -999.00,9,       28.9,2, 20220505,     1617,  31.8097, 133.6865,     7.6622,2,     -999.0,9,     -999.0,9,     -999.0,9,     -999.0,9,     0.0132,1,     4.7018,1,     -999.0,9,     -999.0,9,     -999.0,1
33RR20220430,        P02,       8,          1,         16,         16,2,20220505,       1453,    31.8101,   133.6925,       4230,   784.4,2,   5.1685,2,  34.2847,2,  34.2799,2,     77.6,2,    77.9,2,   93.43,2,   36.48,2,    0.00,2,    2.54,2,   1.003,2,   0.504,2,   0.2898,2,  2291.8,2,  2332.7,2,   7.4420,2,    24.98,2, -999.00,9,  -999.0,9, -999.00,9, -999.00,9,       37.0,2, 20220505,     1612,  31.8096, 133.6852,     5.1679,2,     -999.0,9,     -999.0,9,     -999.0,9,     -999.0,9,     0.0128,1,     4.6894,1,     -999.0,9,     -999.0,9,     -999.0,9
33RR20220430,        P02,       8,          1,         14,         14,2,20220505,       1453,    31.8101,   133.6925,       4230,   984.7,2,   3.7580,2,  34.3833,2,-999.0000,9,     62.2,2,  -999.0,9, -999.00,9, -999.00,9, -999.00,9, -999.00,9,-999.000,9,-999.000,9,-999.0000,9,  -999.0,9,  -999.0,9,-999.0000,9,  -999.00,9, -999.00,9,  -999.0,9, -999.00,9, -999.00,9,     -999.0,9, 20220505,     1607,  31.8096, 133.6839,     3.7568,2,     -999.0,9,     -999.0,9,     -999.0,9,     -999.0,9,     0.0134,1,     4.7024,1,     -999.0,9,     -999.0,1,     -999.0,1
33RR20220430,        P02,       8,          1,         15,         15,2,20220505,       1453,    31.8101,   133.6925,       4230,   985.5,2,   3.7569,2,  34.3840,2,  34.3819,2,     62.2,2,    62.5,2,  119.61,2,   39.91,2,    0.00,2,    2.79,2,   0.402,2,   0.270,2,   0.1365,2,  2332.1,2,  2361.3,2,   7.4062,2,    25.00,2, -999.00,9,  -999.0,9, -999.00,9, -999.00,9,       40.1,2, 20220505,     1607,  31.8096, 133.6840,     3.7568,2,     -999.0,9,     -999.0,9,     -999.0,9,     -999.0,9,     0.0134,1,     4.7026,1,     -999.0,9,     -999.0,9,     -999.0,9
33RR20220430,        P02,       8,          1,         13,         13,2,20220505,       1453,    31.8101,   133.6925,       4230,  1188.5,2,   3.0950,2,  34.4533,2,  34.4514,2,     63.7,2,    64.1,2,  133.57,2,   40.89,2,    0.00,2,    2.86,2,   0.201,2,   0.132,2,   0.0538,2,  2347.9,2,  2378.4,2,   7.4075,2,    24.95,2, -999.00,9,  -999.0,9, -999.00,9, -999.00,9,       39.3,2, 20220505,     1602,  31.8095, 133.6826,     3.0946,2,     -999.0,9,     -999.0,9,     -999.0,9,     -999.0,9,     0.0134,1,     4.7028,1,     -999.0,9,     -999.0,9,     -999.0,9
33RR20220430,        P02,       8,          1,         12,         12,2,20220505,       1453,    31.8101,   133.6925,       4230,  1396.0,2,   2.7519,2,  34.4983,2,  34.4964,2,     71.9,2,    71.8,2,  139.53,2,   40.40,2,    0.00,2,    2.85,2,   0.126,2,   0.062,2,   0.0983,2,  2349.9,2,  2389.4,2,   7.4255,2,    25.06,2, -999.00,9,  -999.0,9, -999.00,9, -999.00,9,       36.9,2, 20220505,     1557,  31.8094, 133.6814,     2.7511,2,     -999.0,9,     -999.0,9,     -999.0,9,     -999.0,9,     0.0130,1,     4.6979,1,     -999.0,9,     -999.0,9,     -999.0,9
33RR20220430,        P02,       8,          1,         11,         11,2,20220505,       1453,    31.8101,   133.6925,       4230,  1597.3,2,   2.4996,2,  34.5309,2,  34.5290,2,     79.8,2,    80.1,2,  143.53,2,   40.33,2,    0.00,2,    2.83,2,   0.082,2,   0.040,2,   0.0730,2,  2351.9,2,  2394.5,2,   7.4420,2,    24.99,2, -999.00,9,  -999.0,9, -999.00,9, -999.00,9,       34.8,2, 20220505,     1552,  31.8093, 133.6802,     2.4989,2,     -999.0,9,     -999.0,9,     -999.0,9,     -999.0,9,     0.0125,1,     4.6971,1,     -999.0,9,     -999.0,9,     -999.0,9
33RR20220430,        P02,       8,          1,         10,         10,2,20220505,       1453,    31.8101,   133.6925,       4230,  1803.1,2,   2.2669,2,  34.5643,2,  34.5620,2,     90.6,2,    90.5,2,  145.97,2,   39.74,2,    0.00,2,    2.79,2,   0.060,2,   0.031,2,   0.1044,2,  2350.1,2,  2400.5,2,   7.4633,2,    24.99,2, -999.00,9,  -999.0,9, -999.00,9, -999.00,9,       32.6,2, 20220505,     1548,  31.8092, 133.6789,     2.2662,2,     -999.0,9,     -999.0,9,     -999.0,9,     -999.0,9,     0.0134,1,     4.7019,1,     -999.0,9,     -999.0,9,     -999.0,9
33RR20220430,        P02,       8,          1,          9,          9,2,20220505,       1453,    31.8101,   133.6925,       4230,  1967.2,2,   2.0860,2,  34.5909,2,  34.5889,2,    102.0,2,   102.7,2,  146.46,2,   39.26,2,    0.00,2,    2.74,2,   0.032,2,   0.010,2,   0.1108,2,  2347.1,2,  2404.2,2,   7.4844,2,    24.99,2, -999.00,9,  -999.0,9, -999.00,9, -999.00,9,       30.0,2, 20220505,     1543,  31.8091, 133.6778,     2.0860,2,     -999.0,9,     -999.0,9,     -999.0,9,     -999.0,9,     0.0134,1,     4.7019,1,     -999.0,9,     -999.0,9,     -999.0,9
33RR20220430,        P02,       8,          1,          8,          8,2,20220505,       1453,    31.8101,   133.6925,       4230,  2202.4,2,   1.9020,2,  34.6200,3,  34.6178,2,    116.2,2,   116.3,2,  145.87,2,   38.29,2,    0.00,2,    2.66,2,   0.018,2,   0.013,2,   0.1057,2,  2338.2,2,  2408.5,2,   7.5122,2,    24.99,2, -999.00,9,  -999.0,9, -999.00,9, -999.00,9,       27.4,2, 20220505,     1538,  31.8090, 133.6764,     1.9017,2,     -999.0,9,     -999.0,9,     -999.0,9,     -999.0,9,     0.0128,1,     4.6995,1,     -999.0,9,     -999.0,9,     -999.0,9
33RR20220430,        P02,       8,          1,          7,          7,2,20220505,       1453,    31.8101,   133.6925,       4230,  2453.8,2,   1.7632,2,  34.6387,3,  34.6366,2,    125.8,2,   125.5,2,  145.87,2,   37.97,2,    0.00,2,    2.61,2,   0.013,2,   0.005,2,   0.1432,2,  2335.2,2,  2409.0,2,   7.5282,2,    24.99,2, -999.00,9,  -999.0,9, -999.00,9, -999.00,9,       25.8,2, 20220505,     1532,  31.8089, 133.6750,     1.7628,2,     -999.0,9,     -999.0,9,     -999.0,9,     -999.0,9,     0.0127,1,     4.6981,1,     -999.0,9,     -999.0,9,     -999.0,9
33RR20220430,        P02,       8,          1,          6,          6,2,20220505,       1453,    31.8101,   133.6925,       4230,  2723.7,2,   1.6302,2,  34.6579,3,  34.6559,2,    137.4,2,   137.4,2,  144.89,2,   37.00,2,    0.00,2,    2.55,2,   0.009,2,   0.004,2,   0.0000,2,  2333.1,2,  2413.2,2,   7.5500,2,    24.98,2, -999.00,9,  -999.0,9, -999.00,9, -999.00,9,       23.7,2, 20220505,     1526,  31.8088, 133.6733,     1.6303,2,     -999.0,9,     -999.0,9,     -999.0,9,     -999.0,9,     0.0122,1,     4.6971,1,     -999.0,9,     -999.0,9,     -999.0,9
33RR20220430,        P02,       8,          1,          5,          5,2,20220505,       1453,    31.8101,   133.6925,       4230,  2967.7,2,   1.5493,2,  34.6697,3,  34.6671,2,    145.0,2,   145.1,2,  144.20,2,   36.81,2,    0.00,2,    2.51,2,   0.010,2,   0.005,2,   0.0000,2,  2326.5,2,  2414.5,2,   7.5627,2,    24.99,2, -999.00,9,  -999.0,9, -999.00,9, -999.00,9,       22.9,2, 20220505,     1521,  31.8087, 133.6725,     1.5498,2,     -999.0,9,     -999.0,9,     -999.0,9,     -999.0,9,     0.0122,1,     4.6965,1,     -999.0,9,     -999.0,9,     -999.0,9
33RR20220430,        P02,       8,          1,          4,          4,2,20220505,       1453,    31.8101,   133.6925,       4230,  3236.6,2,   1.5091,2,  34.6771,3,  34.6745,2,    150.0,2,   150.1,2,  143.42,2,   36.26,2,    0.00,2,    2.49,2,   0.013,2,   0.010,2,   0.0000,2,  2322.7,2,  2412.8,2,   7.5705,2,    25.00,2, -999.00,9,  -999.0,9, -999.00,9, -999.00,9,       22.2,2, 20220505,     1515,  31.8086, 133.6714,     1.5092,2,     -999.0,9,     -999.0,9,     -999.0,9,     -999.0,9,     0.0122,1,     4.6971,1,     -999.0,9,     -999.0,9,     -999.0,9