BOTTLE,20230801CCHSIOCBG
EXPOCODE,SECT_ID,STNNBR,CASTNO,SAMPNO,BTLNBR,BTLNBR_FLAG_W,DATE,TIME,LATITUDE,LONGITUDE,DEPTH,CTDPRS,CTDPRS_FLAG_W,CTDTMP,CTDTMP_FLAG_W,CTDSAL,CTDSAL_FLAG_W,SALNTY,SALNTY_FLAG_W,CTDOXY,CTDOXY_FLAG_W,OXYGEN,OXYGEN_FLAG_W,SILCAT,SILCAT_FLAG_W,NITRAT,NITRAT_FLAG_W,NITRIT,NITRIT_FLAG_W,PHSPHT,PHSPHT_FLAG_W,CFC-11,CFC-11_FLAG_W,CFC-12,CFC-12_FLAG_W,SF6,SF6_FLAG_W,TCARBN,TCARBN_FLAG_W,ALKALI,ALKALI_FLAG_W,PH_TOT,PH_TOT_FLAG_W,PH_TMP,PH_TMP_FLAG_W,DELC13,DELC13_FLAG_W,DELC14,DELC14_FLAG_W,DOC,DOC_FLAG_W,TDN,TDN_FLAG_W,N2O,N2O_FLAG_W,BTL_DATE,BTL_TIME,BTL_LAT,BTL_LON,REFTMP,REFTMP_FLAG_W,POC,POC_FLAG_W,PON,PON_FLAG_W,POP,POP_FLAG_W,PCOD,PCOD_FLAG_W,CTDFLUOR,CTDFLUOR_FLAG_W,CTDXMISS,CTDXMISS_FLAG_W,HPLC,HPLC_FLAG_W,DNA,DNA_FLAG_W,FCM,FCM_FLAG_W
,,,,,,,,,,,METERS,DBAR,,ITS-90,,PSS-78,,PSS-78,,UMOL/KG,,UMOL/KG,,UMOL/KG,,UMOL/KG,,UMOL/KG,,UMOL/KG,,PMOL/KG,,PMOL/KG,,FMOL/KG,,UMOL/KG,,UMOL/KG,,,,DEG C,,/MILLE,,/MILLE,,UMOL/KG,,UMOL/KG,,NMOL/KG,,,,,,ITS-90,,UG/L,,UG/L,,UG/L,,UG/L,,VOLTS,,VOLTS,,,,,,,
33RR20220430,        P02,      36,          1,         36,         36,2,20220514,       1430,    30.0004,   151.9268,       5993,     3.6,2,  21.7173,2,  34.8527,3,  34.8298,2,    225.3,2,   225.3,2,    0.49,2,    0.01,2,    0.00,2,    0.00,2,   1.860,2,   1.206,2,   2.0067,2,  2012.6,2,  2286.9,2,   8.0063,2,    25.00,2, -999.00,1,  -999.0,1, -999.00,1, -999.00,1,        6.6,2, 20220514,     1650,  30.0004, 151.9268,    21.7470,3,     -999.0,9,     -999.0,9,     -999.0,9,     -999.0,9,     0.0147,1,     4.6397,1,     -999.0,9,     -999.0,9,     -999.0,9
33RR20220430,        P02,      36,          1,         35,         35,2,20220514,       1430,    30.0004,   151.9268,       5993,    26.1,2,  20.7446,2,  34.8166,2,  34.8098,2,    231.7,2,   230.2,2,    0.68,2,    0.01,2,    0.00,2,    0.00,2,   1.925,2,   1.196,2,   1.9520,2,  2014.3,6,  2285.1,2,   8.0035,2,    25.02,2, -999.00,1,  -999.0,1, -999.00,1, -999.00,1,        6.9,2, 20220514,     1648,  30.0004, 151.9268,    20.8244,2,     -999.0,9,     -999.0,9,     -999.0,9,     -999.0,9,     0.0147,1,     4.6154,1,     -999.0,9,     -999.0,9,     -999.0,9
33RR20220430,        P02,      36,          1,         34,         34,2,20220514,       1430,    30.0004,   151.9268,       5993,    51.2,2,  18.5183,2,  34.7832,2,  34.7736,2,    240.1,2,   240.2,2,    0.78,2,    0.00,2,    0.00,2,    0.00,2,   2.100,2,   1.295,2,   1.9854,2,  2017.7,2,  2282.3,2,   7.9955,2,    25.00,2, -999.00,1,  -999.0,1, -999.00,1, -999.00,1,        7.6,2, 20220514,     1646,  30.0004, 151.9268,    18.5287,2,     -999.0,9,     -999.0,9,     -999.0,9,     -999.0,9,     0.0190,1,     4.6365,1,     -999.0,9,     -999.0,9,     -999.0,9
33RR20220430,        P02,      36,          1,         33,         33,2,20220514,       1430,    30.0004,   151.9268,       5993,    77.0,2,  17.8172,2,  34.7300,2,  34.7225,2,    238.3,2,   237.7,2,    1.07,2,    0.32,2,    0.14,2,    0.03,2,   2.155,2,   1.340,2,   2.0513,2,  2025.9,2,  2281.2,2,   7.9791,2,    25.00,2, -999.00,1,  -999.0,1, -999.00,1, -999.00,1,        8.5,2, 20220514,     1644,  30.0004, 151.9268,    17.8152,2,     -999.0,9,     -999.0,9,     -999.0,9,     -999.0,9,     0.0531,1,     4.6051,1,     -999.0,9,     -999.0,9,     -999.0,9
33RR20220430,        P02,      36,          1,         32,         32,2,20220514,       1430,    30.0004,   151.9268,       5993,   107.5,2,  17.3329,2,  34.7285,2,  34.7237,2,    226.4,2,   225.4,2,    1.95,2,    2.29,2,    0.32,2,    0.15,2,   2.173,2,   1.344,2,   2.1122,2,  2032.8,2,  2278.0,2,   7.9561,2,    24.99,2, -999.00,1,  -999.0,1, -999.00,1, -999.00,1,        9.0,2, 20220514,     1642,  30.0004, 151.9268,    17.3330,2,     -999.0,9,     -999.0,9,     -999.0,9,     -999.0,9,     0.0329,1,     4.6479,1,     -999.0,9,     -999.0,9,     -999.0,9
33RR20220430,        P02,      36,          1,         31,         31,2,20220514,       1430,    30.0004,   151.9268,       5993,   157.2,2,  16.9736,2,  34.7260,2,  34.7191,2,    218.7,2,   218.3,2,    2.93,2,    3.86,2,    0.01,2,    0.21,2,   2.203,2,   1.367,2,   2.0953,2,  2043.7,2,  2279.1,2,   7.9392,2,    25.01,2, -999.00,1,  -999.0,1, -999.00,1, -999.00,1,        9.2,2, 20220514,     1640,  30.0004, 151.9268,    16.9731,2,     -999.0,9,     -999.0,9,     -999.0,9,     -999.0,9,     0.0159,1,     4.6745,1,     -999.0,9,     -999.0,9,     -999.0,9
33RR20220430,        P02,      36,          1,         30,         30,2,20220514,       1430,    30.0004,   151.9268,       5993,   207.3,2,  16.6654,2,  34.7104,2,  34.7046,2,    217.0,2,   216.9,2,    3.52,2,    4.45,2,    0.00,2,    0.25,2,   2.183,2,   1.354,2,   2.0255,2,  2044.6,2,  2278.9,2,   7.9306,2,    25.01,2, -999.00,1,  -999.0,1, -999.00,1, -999.00,1,        9.6,2, 20220514,     1638,  30.0004, 151.9268,    16.6635,2,     -999.0,9,     -999.0,9,     -999.0,9,     -999.0,9,     0.0122,1,     4.6835,1,     -999.0,9,     -999.0,9,     -999.0,9
33RR20220430,        P02,      36,          1,         29,         29,2,20220514,       1430,    30.0004,   151.9268,       5993,   257.5,2,  16.3868,2,  34.7007,2,  34.6944,2,    221.2,2,   223.3,2,    3.81,2,    4.30,2,    0.00,2,    0.25,2,   2.240,2,   1.348,2,   1.9468,2,  2044.8,2,  2278.1,2,   7.9330,2,    25.01,2, -999.00,1,  -999.0,1, -999.00,1, -999.00,1,        9.7,2, 20220514,     1636,  30.0004, 151.9268,    16.3836,2,     -999.0,9,     -999.0,9,     -999.0,9,     -999.0,9,     0.0122,1,     4.6848,1,     -999.0,9,     -999.0,9,     -999.0,9
33RR20220430,        P02,      36,          1,         28,         28,2,20220514,       1430,    30.0004,   151.9268,       5993,   308.7,2,  15.9362,2,  34.6620,2,  34.6576,2,    208.7,2,   209.7,2,    5.57,2,    6.28,2,    0.00,2,    0.37,2,   2.269,2,   1.390,2,   1.8951,2,  2060.1,2,  2276.7,2,   7.9019,2,    25.01,2, -999.00,1,  -999.0,1, -999.00,1, -999.00,1,       11.0,2, 20220514,     1634,  30.0004, 151.9268,    15.9497,2,     -999.0,9,     -999.0,9,     -999.0,9,     -999.0,9,     0.0122,1,     4.6883,1,     -999.0,9,     -999.0,9,     -999.0,9
33RR20220430,        P02,      36,          1,         27,         27,2,20220514,       1430,    30.0004,   151.9268,       5993,   358.7,2,  15.1597,2,  34.5940,2,  34.5816,2,    195.4,2,   195.6,2,    8.50,2,    8.92,2,    0.00,2,    0.57,2,   2.353,2,   1.435,2,   1.7609,2,  2078.6,2,  2276.6,2,   7.8586,2,    25.01,2, -999.00,1,  -999.0,1, -999.00,1, -999.00,1,       12.7,2, 20220514,     1632,  30.0004, 151.9268,    15.1510,2,     -999.0,9,     -999.0,9,     -999.0,9,     -999.0,9,     0.0122,1,     4.6911,1,     -999.0,9,     -999.0,9,     -999.0,9
33RR20220430,        P02,      36,          1,         26,         26,2,20220514,       1430,    30.0004,   151.9268,       5993,   409.6,2,  13.7523,2,  34.4840,2,  34.4785,2,    189.4,2,   189.6,2,   13.68,2,   11.66,2,    0.00,2,    0.76,2,   2.408,2,   1.434,2,   1.6122,2,  2095.2,2,  2274.9,2,   7.8156,2,    25.01,2, -999.00,1,  -999.0,1, -999.00,1, -999.00,1,       15.1,2, 20220514,     1631,  30.0004, 151.9268,    13.7509,2,     -999.0,9,     -999.0,9,     -999.0,9,     -999.0,9,     0.0122,1,     4.6912,1,     -999.0,9,     -999.0,9,     -999.0,9
33RR20220430,        P02,      36,          1,         25,         25,2,20220514,       1430,    30.0004,   151.9268,       5993,   510.3,2,  10.5893,2,  34.2498,2,  34.2487,2,    180.7,2,   181.3,2,   24.73,2,   17.39,2,    0.00,2,    1.19,2,   2.575,6,   1.525,6,   1.5632,6,  2137.2,2,  2274.3,2,   7.7191,2,    25.00,2, -999.00,1,  -999.0,1, -999.00,1, -999.00,1,       19.3,6, 20220514,     1628,  30.0004, 151.9268,    10.5903,2,     -999.0,9,     -999.0,9,     -999.0,9,     -999.0,9,     0.0122,1,     4.6994,1,     -999.0,9,     -999.0,9,     -999.0,9
33RR20220430,        P02,      36,          1,         24,         24,2,20220514,       1430,    30.0004,   151.9268,       5993,   611.6,2,   7.7693,2,  34.0400,2,  34.0394,2,    167.4,2,   168.0,2,   39.98,2,   23.87,2,    0.00,2,    1.67,2,   2.615,2,   1.520,2,   1.2843,2,  2179.9,2,  2277.2,2,   7.6121,2,    25.02,2, -999.00,1,  -999.0,1, -999.00,1, -999.00,1,       24.4,2, 20220514,     1625,  30.0004, 151.9268,     7.7692,2,     -999.0,9,     -999.0,9,     -999.0,9,     -999.0,9,     0.0122,1,     4.7043,1,     -999.0,9,     -999.0,9,     -999.0,9
33RR20220430,        P02,      36,          1,         23,         23,2,20220514,       1430,    30.0004,   151.9268,       5993,   712.4,2,   5.6586,2,  34.0227,2,  34.0219,2,    115.7,2,   114.8,2,   67.45,2,   32.53,2,    0.00,2,    2.31,2,   1.987,2,   1.151,2,   0.8987,2,  2245.1,2,  2295.5,2,   7.4686,2,    25.00,2, -999.00,1,  -999.0,1, -999.00,1, -999.00,1,       33.8,2, 20220514,     1622,  30.0004, 151.9268,     5.6618,2,     -999.0,9,     -999.0,9,     -999.0,9,     -999.0,9,     0.0125,1,     4.7045,1,     -999.0,9,     -999.0,9,     -999.0,9
33RR20220430,        P02,      36,          1,         22,         22,2,20220514,       1430,    30.0004,   151.9268,       5993,   812.2,2,   4.8564,2,  34.1045,2,  34.1079,2,     81.1,3,    79.2,2,   87.69,2,   37.01,2,    0.00,2,    2.62,2,   1.450,2,   0.811,2,   0.5760,2,  2289.0,2,  2314.4,2,   7.3989,2,    25.01,2, -999.00,1,  -999.0,1, -999.00,9, -999.00,9,       39.9,2, 20220514,     1620,  30.0004, 151.9268,     4.8539,2,     -999.0,9,     -999.0,9,     -999.0,9,     -999.0,9,     0.0134,1,     4.7038,1,     -999.0,9,     -999.0,9,     -999.0,9
33RR20220430,        P02,      36,          1,         21,         21,2,20220514,       1430,    30.0004,   151.9268,       5993,   913.7,2,   4.2459,2,  34.2019,2,  34.2052,2,     56.6,3,    55.6,2,  105.08,2,   40.01,2,    0.00,2,    2.82,2,   0.896,2,   0.481,2,   0.4181,2,  2318.9,2,  2333.8,2,   7.3601,2,    25.01,2, -999.00,1,  -999.0,1, -999.00,1, -999.00,1,       44.6,2, 20220514,     1617,  30.0004, 151.9268,     4.2392,2,     -999.0,9,     -999.0,9,     -999.0,9,     -999.0,9,     0.0133,1,     4.7043,1,     -999.0,9,     -999.0,9,     -999.0,9
33RR20220430,        P02,      36,          1,         20,         20,2,20220514,       1430,    30.0004,   151.9268,       5993,  1014.4,2,   3.7385,2,  34.2870,2,  34.2862,2,     44.3,2,    44.6,2,  119.05,2,   41.43,2,    0.00,2,    2.91,2,   0.509,2,   0.281,2,   0.0000,2,  2341.8,2,  2352.1,2,   7.3478,2,    25.00,2, -999.00,1,  -999.0,1, -999.00,9, -999.00,9,       46.9,2, 20220514,     1614,  30.0004, 151.9268,     3.7385,2,     -999.0,9,     -999.0,9,     -999.0,9,     -999.0,9,     0.0134,1,     4.7043,1,     -999.0,9,     -999.0,9,     -999.0,9
33RR20220430,        P02,      36,          1,         19,         19,2,20220514,       1430,    30.0004,   151.9268,       5993,  1115.7,2,   3.3674,2,  34.3498,2,  34.3482,2,     37.7,2,    37.7,2,  129.31,2,   42.35,2,    0.00,2,    2.98,2,   0.269,2,   0.144,2,   0.0000,2,  2356.5,2,  2364.4,2,   7.3421,2,    25.02,2, -999.00,1,  -999.0,1, -999.00,1, -999.00,1,       48.1,2, 20220514,     1611,  30.0004, 151.9268,     3.3703,2,     -999.0,9,     -999.0,9,     -999.0,9,     -999.0,9,     0.0126,1,     4.7044,1,     -999.0,9,     -999.0,9,     -999.0,9
33RR20220430,        P02,      36,          1,         18,         18,2,20220514,       1430,    30.0004,   151.9268,       5993,  1216.7,2,   3.0985,2,  34.3964,2,  34.3949,2,     35.5,2,    35.5,2,  136.73,2,   43.05,2,    0.00,2,    3.02,2,   0.155,2,   0.079,2,   0.0000,2,  2365.6,6,  2375.3,2,   7.3428,2,    25.02,2, -999.00,1,  -999.0,1, -999.00,9, -999.00,9,       48.3,2, 20220514,     1609,  30.0004, 151.9268,     3.1003,2,     -999.0,9,     -999.0,9,     -999.0,9,     -999.0,9,     0.0134,1,     4.7050,1,     -999.0,9,     -999.0,9,     -999.0,9
33RR20220430,        P02,      36,          1,         17,         17,2,20220514,       1430,    30.0004,   151.9268,       5993,  1318.7,2,   2.8641,2,  34.4385,2,  34.4383,2,     35.9,3,    36.9,2,  143.86,2,   43.06,2,    0.00,2,    3.03,2,   0.086,2,   0.048,2,   0.0000,2,  2374.1,2,  2383.0,2,   7.3541,2,    25.05,2, -999.00,1,  -999.0,1, -999.00,1, -999.00,1,       46.9,2, 20220514,     1606,  30.0004, 151.9268,     2.8624,2,     -999.0,9,     -999.0,9,     -999.0,9,     -999.0,9,     0.0134,1,     4.7054,1,     -999.0,9,     -999.0,9,     -999.0,9
33RR20220430,        P02,      36,          1,         16,         16,2,20220514,       1430,    30.0004,   151.9268,       5993,  1420.1,2,   2.6760,2,  34.4688,2,  34.4695,2,     37.6,3,    38.8,2,  149.04,2,   43.08,2,    0.00,2,    3.04,2,   0.058,2,   0.017,2,   0.0000,2,  2377.8,2,  2389.5,2,   7.3520,2,    25.01,2, -999.00,1,  -999.0,1, -999.00,9, -999.00,9,       46.4,2, 20220514,     1603,  30.0004, 151.9268,     2.6756,2,     -999.0,9,     -999.0,9,     -999.0,9,     -999.0,9,     0.0134,1,     4.7056,1,     -999.0,9,     -999.0,9,     -999.0,9
33RR20220430,        P02,      36,          1,         15,         15,2,20220514,       1430,    30.0004,   151.9268,       5993,  1622.5,2,   2.3990,2,  34.5213,2,  34.5225,2,     48.7,3,    49.4,2,  154.80,2,   42.74,2,    0.00,2,    2.99,2,   0.027,2,   0.015,2,   0.0000,2,  2376.9,2,  2400.1,2,   7.3753,2,    25.00,2, -999.00,1,  -999.0,1, -999.00,1, -999.00,1,       42.7,2, 20220514,     1559,  30.0004, 151.9268,     2.3989,2,     -999.0,9,     -999.0,9,     -999.0,9,     -999.0,9,     0.0134,1,     4.7066,1,     -999.0,9,     -999.0,9,     -999.0,9
33RR20220430,        P02,      36,          1,         14,         14,2,20220514,       1430,    30.0004,   151.9268,       5993,  1824.0,2,   2.1301,2,  34.5643,2,  34.5655,2,     61.2,2,    60.7,2,  160.65,2,   41.95,2,    0.00,2,    2.92,2,   0.013,2,   0.005,2,   0.0000,2,  2376.5,2,  2406.2,2,   7.4026,2,    25.01,2, -999.00,9,  -999.0,9, -999.00,9, -999.00,9,     -999.0,5, 20220514,     1554,  30.0004, 151.9268,     2.1299,2,     -999.0,9,     -999.0,9,     -999.0,9,     -999.0,9,     0.0134,1,     4.7062,1,     -999.0,9,     -999.0,9,     -999.0,9
33RR20220430,        P02,      36,          1,         13,         13,2,20220514,       1430,    30.0004,   151.9268,       5993,  2028.0,2,   1.9696,2,  34.5944,2,  34.5942,2,     78.0,2,    77.9,2,  160.55,2,   40.84,2,    0.00,2,    2.84,2,   0.009,2,   0.000,2,   0.0000,2,  2367.8,2,  2410.1,2,   7.4367,2,    25.02,2, -999.00,1,  -999.0,1, -999.00,1, -999.00,1,       34.7,2, 20220514,     1550,  30.0004, 151.9268,     1.9688,2,     -999.0,9,     -999.0,9,     -999.0,9,     -999.0,9,     0.0125,1,     4.7081,1,     -999.0,9,     -999.0,9,     -999.0,9
33RR20220430,        P02,      36,          1,         12,         12,2,20220514,       1430,    30.0004,   151.9268,       5993,  2282.2,2,   1.7983,2,  34.6227,2,  34.6233,2,     96.6,2,    96.8,2,  159.28,2,   39.78,2,    0.00,2,    2.76,2,   0.006,2,   0.000,2,   0.0000,2,  2357.4,2,  2415.1,2,   7.4734,2,    25.01,2, -999.00,9,  -999.0,9, -999.00,9, -999.00,9,       30.8,2, 20220514,     1545,  30.0004, 151.9268,     1.7981,2,     -999.0,9,     -999.0,9,     -999.0,9,     -999.0,9,     0.0134,1,     4.7083,1,     -999.0,9,     -999.0,9,     -999.0,9
33RR20220430,        P02,      36,          1,         11,         11,2,20220514,       1430,    30.0004,   151.9268,       5993,  2535.0,2,   1.6789,2,  34.6424,2,  34.6423,2,    112.1,2,   111.7,2,  157.13,2,   38.66,2,    0.00,2,    2.67,2,   0.007,2,   0.000,2,   0.0000,2,  2349.5,2,  2416.3,2,   7.5013,2,    25.00,2, -999.00,1,  -999.0,1, -999.00,1, -999.00,1,       28.4,2, 20220514,     1539,  30.0004, 151.9268,     1.6784,2,     -999.0,9,     -999.0,9,     -999.0,9,     -999.0,9,     0.0131,1,     4.7091,1,     -999.0,9,     -999.0,9,     -999.0,9
33RR20220430,        P02,      36,          1,         10,         10,2,20220514,       1430,    30.0004,   151.9268,       5993,  2791.7,2,   1.6053,2,  34.6550,2,  34.6547,2,    123.4,2,   123.2,2,  154.68,2,   37.87,2,    0.00,2,    2.62,2,-999.000,5,-999.000,5,-999.0000,5,  2342.0,2,  2417.2,2,   7.5238,2,    25.00,2, -999.00,9,  -999.0,9, -999.00,9, -999.00,9,       28.0,2, 20220514,     1534,  30.0004, 151.9268,     1.6052,2,     -999.0,9,     -999.0,9,     -999.0,9,     -999.0,9,     0.0122,1,     4.7095,1,     -999.0,9,     -999.0,9,     -999.0,9
33RR20220430,        P02,      36,          1,          9,          9,2,20220514,       1430,    30.0004,   151.9268,       5993,  3046.1,2,   1.5503,2,  34.6642,2,  34.6641,2,    132.0,2,   132.2,2,  153.02,2,   37.40,2,    0.00,2,    2.57,2,-999.000,5,-999.000,5,-999.0000,5,  2337.0,2,  2414.8,2,   7.5386,2,    25.01,2, -999.00,1,  -999.0,1, -999.00,1, -999.00,1,     -999.0,5, 20220514,     1529,  30.0004, 151.9268,     1.5504,2,     -999.0,9,     -999.0,9,     -999.0,9,     -999.0,9,     0.0124,1,     4.7093,1,     -999.0,9,     -999.0,9,     -999.0,9
33RR20220430,        P02,      36,          1,          8,          8,2,20220514,       1430,    30.0004,   151.9268,       5993,  3352.5,2,   1.5113,2,  34.6716,2,  34.6710,2,    139.2,2,   139.0,2,  151.26,2,   36.83,2,    0.00,2,    2.52,2,   0.004,2,   0.000,2,   0.0000,2,  2332.4,2,  2414.1,2,   7.5511,2,    25.00,2, -999.00,9,  -999.0,9, -999.00,9, -999.00,9,       24.4,2, 20220514,     1523,  30.0004, 151.9268,     1.5113,2,     -999.0,9,     -999.0,9,     -999.0,9,     -999.0,9,     0.0122,1,     4.7093,1,     -999.0,9,     -999.0,9,     -999.0,9
33RR20220430,        P02,      36,          1,          7,          7,2,20220514,       1430,    30.0004,   151.9268,       5993,  3659.5,2,   1.4889,2,  34.6770,2,  34.6765,2,    145.5,2,   146.2,2,  149.60,2,   36.50,2,    0.00,2,    2.50,2,   0.004,2,   0.000,2,   0.0000,2,  2326.0,2,  2413.1,2,   7.5617,2,    25.01,2, -999.00,1,  -999.0,1, -999.00,1, -999.00,1,       23.8,2, 20220514,     1516,  30.0004, 151.9268,     1.4888,2,     -999.0,9,     -999.0,9,     -999.0,9,     -999.0,9,     0.0122,1,     4.7099,1,     -999.0,9,     -999.0,9,     -999.0,9
33RR20220430,        P02,      36,          1,          6,          6,2,20220514,       1430,    30.0004,   151.9268,       5993,  4068.8,2,   1.4716,2,  34.6826,2,  34.6822,2,    151.2,2,   151.9,2,  149.40,2,   36.15,2,    0.00,2,    2.46,2,   0.005,2,   0.000,2,   0.0000,2,  2323.7,2,  2412.0,2,   7.5709,2,    25.01,2, -999.00,9,  -999.0,9, -999.00,9, -999.00,9,       23.6,2, 20220514,     1509,  30.0004, 151.9268,     1.4713,2,     -999.0,9,     -999.0,9,     -999.0,9,     -999.0,9,     0.0131,1,     4.7082,1,     -999.0,9,     -999.0,9,     -999.0,9
33RR20220430,        P02,      36,          1,          5,          5,2,20220514,       1430,    30.0004,   151.9268,       5993,  4479.6,2,   1.4780,2,  34.6864,2,  34.6859,2,    156.1,2,   155.7,2,  148.03,2,   35.71,2,    0.00,2,    2.44,2,   0.006,2,   0.000,2,   0.0000,2,  2319.9,2,  2411.5,2,   7.5787,2,    25.02,2, -999.00,1,  -999.0,1, -999.00,1, -999.00,1,       22.7,2, 20220514,     1501,  30.0004, 151.9268,     1.4778,2,     -999.0,9,     -999.0,9,     -999.0,9,     -999.0,9,     0.0122,1,     4.7079,1,     -999.0,9,     -999.0,9,     -999.0,9
33RR20220430,        P02,      36,          1,          4,          4,2,20220514,       1430,    30.0004,   151.9268,       5993,  4890.5,2,   1.4988,2,  34.6891,2,  34.6885,2,    160.9,2,   161.0,2,  144.71,2,   35.43,2,    0.00,2,    2.41,2,   0.005,2,   0.000,2,   0.0000,2,  2315.9,2,  2409.6,2,   7.5853,2,    25.02,2, -999.00,1,  -999.0,1, -999.00,9, -999.00,9,       22.9,2, 20220514,     1453,  30.0004, 151.9268,     1.4985,2,     -999.0,9,     -999.0,9,     -999.0,9,     -999.0,9,     0.0122,1,     4.7081,1,     -999.0,9,     -999.0,9,     -999.0,9