BOTTLE,20230801CCHSIOCBG
EXPOCODE,SECT_ID,STNNBR,CASTNO,SAMPNO,BTLNBR,BTLNBR_FLAG_W,DATE,TIME,LATITUDE,LONGITUDE,DEPTH,CTDPRS,CTDPRS_FLAG_W,CTDTMP,CTDTMP_FLAG_W,CTDSAL,CTDSAL_FLAG_W,SALNTY,SALNTY_FLAG_W,CTDOXY,CTDOXY_FLAG_W,OXYGEN,OXYGEN_FLAG_W,SILCAT,SILCAT_FLAG_W,NITRAT,NITRAT_FLAG_W,NITRIT,NITRIT_FLAG_W,PHSPHT,PHSPHT_FLAG_W,CFC-11,CFC-11_FLAG_W,CFC-12,CFC-12_FLAG_W,SF6,SF6_FLAG_W,TCARBN,TCARBN_FLAG_W,ALKALI,ALKALI_FLAG_W,PH_TOT,PH_TOT_FLAG_W,PH_TMP,PH_TMP_FLAG_W,DELC13,DELC13_FLAG_W,DELC14,DELC14_FLAG_W,DOC,DOC_FLAG_W,TDN,TDN_FLAG_W,N2O,N2O_FLAG_W,BTL_DATE,BTL_TIME,BTL_LAT,BTL_LON,REFTMP,REFTMP_FLAG_W,POC,POC_FLAG_W,PON,PON_FLAG_W,POP,POP_FLAG_W,PCOD,PCOD_FLAG_W,CTDFLUOR,CTDFLUOR_FLAG_W,CTDXMISS,CTDXMISS_FLAG_W,HPLC,HPLC_FLAG_W,DNA,DNA_FLAG_W,FCM,FCM_FLAG_W
,,,,,,,,,,,METERS,DBAR,,ITS-90,,PSS-78,,PSS-78,,UMOL/KG,,UMOL/KG,,UMOL/KG,,UMOL/KG,,UMOL/KG,,UMOL/KG,,PMOL/KG,,PMOL/KG,,FMOL/KG,,UMOL/KG,,UMOL/KG,,,,DEG C,,/MILLE,,/MILLE,,UMOL/KG,,UMOL/KG,,NMOL/KG,,,,,,ITS-90,,UG/L,,UG/L,,UG/L,,UG/L,,VOLTS,,VOLTS,,,,,,,
33RR20220430,        P02,      47,          2,          3,          3,2,20220518,       0706,    30.0007,   159.3300,       5735,  5264.8,2,   1.4965,2,  34.6928,2,  34.6944,2,    169.2,2,   169.3,2,  137.93,2,   34.78,2,    0.00,2,    2.38,2,   0.007,2,   0.000,2,   0.0000,2,  2308.2,2,  2405.1,2,   7.5944,2,    25.02,2, -999.00,9,  -999.0,9, -999.00,1, -999.00,1,       20.9,2, 20220518,      718,  30.0007, 159.3299,     1.4967,2,     -999.0,9,     -999.0,9,     -999.0,9,     -999.0,9,     0.0122,1,     4.7091,1,     -999.0,9,     -999.0,9,     -999.0,9
33RR20220430,        P02,      47,          2,          2,          2,2,20220518,       0706,    30.0007,   159.3300,       5735,  5611.3,2,   1.5235,2,  34.6941,2,  34.6946,2,    171.6,2,   171.9,2,  136.27,2,   34.59,2,    0.00,2,    2.37,2,-999.000,9,-999.000,9,-999.0000,9,  2306.6,6,  2403.7,2,   7.5965,2,    25.01,2, -999.00,9,  -999.0,9, -999.00,9, -999.00,9,     -999.0,9, 20220518,      711,  30.0007, 159.3299,     1.5238,2,     -999.0,9,     -999.0,9,     -999.0,9,     -999.0,9,     0.0122,1,     4.7067,1,     -999.0,9,     -999.0,9,     -999.0,9
33RR20220430,        P02,      47,          2,          1,          1,2,20220518,       0706,    30.0007,   159.3300,       5735,  5840.6,2,   1.5493,2,  34.6945,2,  34.6960,2,    172.2,2,   172.1,2,  135.88,2,   34.48,2,    0.00,2,    2.37,2,   0.006,2,   0.000,2,   0.0000,2,  2304.6,2,  2403.8,2,   7.5975,2,    25.02,2, -999.00,9,  -999.0,9, -999.00,1, -999.00,1,       21.0,2, 20220518,      706,  30.0007, 159.3299,     1.5497,2,     -999.0,9,     -999.0,9,     -999.0,9,     -999.0,9,     0.0131,1,     4.7030,1,     -999.0,9,     -999.0,9,     -999.0,9