BOTTLE,20230801CCHSIOCBG
EXPOCODE,SECT_ID,STNNBR,CASTNO,SAMPNO,BTLNBR,BTLNBR_FLAG_W,DATE,TIME,LATITUDE,LONGITUDE,DEPTH,CTDPRS,CTDPRS_FLAG_W,CTDTMP,CTDTMP_FLAG_W,CTDSAL,CTDSAL_FLAG_W,SALNTY,SALNTY_FLAG_W,CTDOXY,CTDOXY_FLAG_W,OXYGEN,OXYGEN_FLAG_W,SILCAT,SILCAT_FLAG_W,NITRAT,NITRAT_FLAG_W,NITRIT,NITRIT_FLAG_W,PHSPHT,PHSPHT_FLAG_W,CFC-11,CFC-11_FLAG_W,CFC-12,CFC-12_FLAG_W,SF6,SF6_FLAG_W,TCARBN,TCARBN_FLAG_W,ALKALI,ALKALI_FLAG_W,PH_TOT,PH_TOT_FLAG_W,PH_TMP,PH_TMP_FLAG_W,DELC13,DELC13_FLAG_W,DELC14,DELC14_FLAG_W,DOC,DOC_FLAG_W,TDN,TDN_FLAG_W,N2O,N2O_FLAG_W,BTL_DATE,BTL_TIME,BTL_LAT,BTL_LON,REFTMP,REFTMP_FLAG_W,POC,POC_FLAG_W,PON,PON_FLAG_W,POP,POP_FLAG_W,PCOD,PCOD_FLAG_W,CTDFLUOR,CTDFLUOR_FLAG_W,CTDXMISS,CTDXMISS_FLAG_W,HPLC,HPLC_FLAG_W,DNA,DNA_FLAG_W,FCM,FCM_FLAG_W
,,,,,,,,,,,METERS,DBAR,,ITS-90,,PSS-78,,PSS-78,,UMOL/KG,,UMOL/KG,,UMOL/KG,,UMOL/KG,,UMOL/KG,,UMOL/KG,,PMOL/KG,,PMOL/KG,,FMOL/KG,,UMOL/KG,,UMOL/KG,,,,DEG C,,/MILLE,,/MILLE,,UMOL/KG,,UMOL/KG,,NMOL/KG,,,,,,ITS-90,,UG/L,,UG/L,,UG/L,,UG/L,,VOLTS,,VOLTS,,,,,,,
33RR20220430,        P02,      88,          1,          3,          3,2,20220530,       1722,    30.0003,  -177.9442,       5214,  4682.3,2,   1.4990,2,  34.6862,2,  34.6871,2,    154.2,2,   154.0,2,  153.76,2,   36.01,2,    0.00,2,    2.49,2,-999.000,9,-999.000,9,-999.0000,9,  2325.5,2,  2417.9,2,   7.5776,2,    24.99,2, -999.00,9,  -999.0,9, -999.00,1, -999.00,1,     -999.0,9, 20220530,     1734,  30.0003,-177.9442,     1.4989,2,     -999.0,9,     -999.0,9,     -999.0,9,     -999.0,9,     0.0122,1,     4.7057,1,     -999.0,9,     -999.0,9,     -999.0,9
33RR20220430,        P02,      88,          1,          2,          2,2,20220530,       1722,    30.0003,  -177.9442,       5214,  4992.5,2,   1.5159,2,  34.6881,2,  34.6891,2,    158.2,2,   158.6,2,  149.75,2,   35.68,2,    0.00,2,    2.47,2,-999.000,9,-999.000,9,-999.0000,9,  2321.5,6,  2417.2,2,   7.5832,2,    25.00,2, -999.00,9,  -999.0,9, -999.00,1, -999.00,1,     -999.0,9, 20220530,     1728,  30.0003,-177.9442,     1.5159,2,     -999.0,9,     -999.0,9,     -999.0,9,     -999.0,9,     0.0122,1,     4.7056,1,     -999.0,9,     -999.0,9,     -999.0,9
33RR20220430,        P02,      88,          1,          1,          1,2,20220530,       1722,    30.0003,  -177.9442,       5214,  5304.4,2,   1.5432,2,  34.6893,2,  34.6899,2,    160.7,2,   160.6,2,  146.82,2,   35.49,2,    0.00,2,    2.44,2,   0.008,2,   0.000,2,   0.0000,2,  2317.4,2,  2413.8,2,   7.5864,2,    25.00,2, -999.00,9,  -999.0,9, -999.00,1, -999.00,1,       21.7,2, 20220530,     1722,  30.0003,-177.9442,     1.5432,2,     -999.0,9,     -999.0,9,     -999.0,9,     -999.0,9,     0.0122,1,     4.7033,1,     -999.0,9,     -999.0,9,     -999.0,9
33RR20220430,        P02,      89,          1,         13,         13,2,20220530,       2237,    30.0002,  -177.3673,       5354,     4.9,2,  23.1744,2,  35.3102,2,-999.0000,9,    204.9,2,  -999.0,9, -999.00,9, -999.00,9, -999.00,9, -999.00,9,-999.000,9,-999.000,9,-999.0000,9,  -999.0,9,  -999.0,9,-999.0000,9,  -999.00,9, -999.00,9,  -999.0,9, -999.00,9, -999.00,9,     -999.0,9, 20220530,     2304,  30.0002,-177.3673,    23.1691,2,     -999.0,1,     -999.0,1,     -999.0,9,     -999.0,9,     0.0134,1,     4.6451,1,     -999.0,9,     -999.0,9,     -999.0,9
33RR20220430,        P02,      89,          1,         16,         16,2,20220530,       2237,    30.0002,  -177.3673,       5354,     4.9,2,  23.1433,2,  35.3099,2,-999.0000,9,    204.8,2,  -999.0,9, -999.00,9, -999.00,9, -999.00,9, -999.00,9,-999.000,9,-999.000,9,-999.0000,9,  -999.0,9,  -999.0,9,-999.0000,9,  -999.00,9, -999.00,9,  -999.0,9, -999.00,9, -999.00,9,     -999.0,9, 20220530,     2305,  30.0002,-177.3673,    23.1410,2,     -999.0,9,     -999.0,9,     -999.0,1,     -999.0,9,     0.0131,1,     4.6446,1,     -999.0,9,     -999.0,9,     -999.0,9
33RR20220430,        P02,      89,          1,         18,         18,2,20220530,       2237,    30.0002,  -177.3673,       5354,     5.0,2,  23.1640,2,  35.3102,2,-999.0000,9,    204.8,2,  -999.0,9, -999.00,9, -999.00,9, -999.00,9, -999.00,9,-999.000,9,-999.000,9,-999.0000,9,  -999.0,9,  -999.0,9,-999.0000,9,  -999.00,9, -999.00,9,  -999.0,9, -999.00,9, -999.00,9,     -999.0,9, 20220530,     2306,  30.0002,-177.3673,    23.1761,2,     -999.0,9,     -999.0,9,     -999.0,9,     -999.0,1,     0.0122,1,     4.6452,1,     -999.0,9,     -999.0,9,     -999.0,9
33RR20220430,        P02,      89,          1,         19,         19,2,20220530,       2237,    30.0002,  -177.3673,       5354,     5.0,2,  23.1792,2,  35.3105,2,-999.0000,9,    205.0,2,  -999.0,9, -999.00,9, -999.00,9, -999.00,9, -999.00,9,-999.000,9,-999.000,9,-999.0000,9,  -999.0,9,  -999.0,9,-999.0000,9,  -999.00,9, -999.00,9,  -999.0,9, -999.00,9, -999.00,9,     -999.0,9, 20220530,     2306,  30.0002,-177.3673,    23.1690,2,     -999.0,9,     -999.0,9,     -999.0,9,     -999.0,1,     0.0128,1,     4.6438,1,     -999.0,9,     -999.0,9,     -999.0,9
33RR20220430,        P02,      89,          1,         15,         15,2,20220530,       2237,    30.0002,  -177.3673,       5354,     5.1,2,  23.1723,2,  35.3110,2,-999.0000,9,    204.6,2,  -999.0,9, -999.00,9, -999.00,9, -999.00,9, -999.00,9,-999.000,9,-999.000,9,-999.0000,9,  -999.0,9,  -999.0,9,-999.0000,9,  -999.00,9, -999.00,9,  -999.0,9, -999.00,9, -999.00,9,     -999.0,9, 20220530,     2305,  30.0002,-177.3673,     -999.0,9,     -999.0,9,     -999.0,9,     -999.0,1,     -999.0,9,     0.0134,1,     4.6456,1,     -999.0,9,     -999.0,9,     -999.0,9
33RR20220430,        P02,      89,          1,          9,          9,2,20220530,       2237,    30.0002,  -177.3673,       5354,     5.1,2,  23.1630,2,  35.3096,2,-999.0000,9,    205.0,2,  -999.0,9, -999.00,9, -999.00,9, -999.00,9, -999.00,9,-999.000,9,-999.000,9,-999.0000,9,  -999.0,9,  -999.0,9,-999.0000,9,  -999.00,9, -999.00,9,  -999.0,9, -999.00,9, -999.00,9,     -999.0,9, 20220530,     2303,  30.0002,-177.3673,    23.1525,2,     -999.0,9,     -999.0,9,     -999.0,9,     -999.0,9,     0.0134,1,     4.6462,1,     -999.0,1,     -999.0,9,     -999.0,1
33RR20220430,        P02,      89,          1,         11,         11,2,20220530,       2237,    30.0002,  -177.3673,       5354,     5.2,2,  23.1805,2,  35.3102,2,-999.0000,9,    204.8,2,  -999.0,9, -999.00,9, -999.00,9, -999.00,9, -999.00,9,-999.000,9,-999.000,9,-999.0000,9,  -999.0,9,  -999.0,9,-999.0000,9,  -999.00,9, -999.00,9,  -999.0,9, -999.00,9, -999.00,9,     -999.0,9, 20220530,     2304,  30.0002,-177.3673,     -999.0,9,     -999.0,1,     -999.0,1,     -999.0,9,     -999.0,9,     0.0132,1,     4.6446,1,     -999.0,9,     -999.0,9,     -999.0,9
33RR20220430,        P02,      89,          1,         10,         10,2,20220530,       2237,    30.0002,  -177.3673,       5354,     5.2,2,  23.1634,2,  35.3099,2,-999.0000,9,    204.9,2,  -999.0,9, -999.00,9, -999.00,9, -999.00,9, -999.00,9,-999.000,9,-999.000,9,-999.0000,9,  -999.0,9,  -999.0,9,-999.0000,9,  -999.00,9, -999.00,9,  -999.0,9, -999.00,9, -999.00,9,     -999.0,9, 20220530,     2304,  30.0002,-177.3673,    23.1663,2,     -999.0,9,     -999.0,9,     -999.0,9,     -999.0,9,     0.0122,1,     4.6466,1,     -999.0,9,     -999.0,1,     -999.0,9
33RR20220430,        P02,      89,          1,         14,         14,2,20220530,       2237,    30.0002,  -177.3673,       5354,     5.3,2,  23.1647,2,  35.3103,2,-999.0000,9,    204.7,2,  -999.0,9, -999.00,9, -999.00,9, -999.00,9, -999.00,9,-999.000,9,-999.000,9,-999.0000,9,  -999.0,9,  -999.0,9,-999.0000,9,  -999.00,9, -999.00,9,  -999.0,9, -999.00,9, -999.00,9,     -999.0,9, 20220530,     2305,  30.0002,-177.3673,    23.1566,2,     -999.0,9,     -999.0,9,     -999.0,1,     -999.0,9,     0.0122,1,     4.6440,1,     -999.0,9,     -999.0,9,     -999.0,9
33RR20220430,        P02,      89,          1,         12,         12,2,20220530,       2237,    30.0002,  -177.3673,       5354,     5.5,2,  23.1757,2,  35.3103,2,-999.0000,9,    204.6,2,  -999.0,9, -999.00,9, -999.00,9, -999.00,9, -999.00,9,-999.000,9,-999.000,9,-999.0000,9,  -999.0,9,  -999.0,9,-999.0000,9,  -999.00,9, -999.00,9,  -999.0,9, -999.00,9, -999.00,9,     -999.0,9, 20220530,     2304,  30.0002,-177.3673,    23.1684,2,     -999.0,1,     -999.0,1,     -999.0,9,     -999.0,9,     0.0125,1,     4.6452,1,     -999.0,9,     -999.0,9,     -999.0,9
33RR20220430,        P02,      89,          1,         17,         17,2,20220530,       2237,    30.0002,  -177.3673,       5354,     5.5,2,  23.1672,2,  35.3099,2,-999.0000,9,    204.8,2,  -999.0,9, -999.00,9, -999.00,9, -999.00,9, -999.00,9,-999.000,9,-999.000,9,-999.0000,9,  -999.0,9,  -999.0,9,-999.0000,9,  -999.00,9, -999.00,9,  -999.0,9, -999.00,9, -999.00,9,     -999.0,9, 20220530,     2306,  30.0002,-177.3673,    23.1606,2,     -999.0,9,     -999.0,9,     -999.0,9,     -999.0,1,     0.0134,1,     4.6446,1,     -999.0,9,     -999.0,9,     -999.0,9
33RR20220430,        P02,      89,          1,          8,          8,2,20220530,       2237,    30.0002,  -177.3673,       5354,    39.7,2,  21.2415,2,  35.1359,2,-999.0000,9,    217.2,2,  -999.0,9, -999.00,9, -999.00,9, -999.00,9, -999.00,9,-999.000,9,-999.000,9,-999.0000,9,  -999.0,9,  -999.0,9,-999.0000,9,  -999.00,9, -999.00,9,  -999.0,9, -999.00,9, -999.00,9,     -999.0,9, 20220530,     2301,  30.0002,-177.3673,    21.2224,2,     -999.0,9,     -999.0,9,     -999.0,9,     -999.0,9,     0.0147,1,     4.6331,1,     -999.0,1,     -999.0,9,     -999.0,1
33RR20220430,        P02,      89,          1,          7,          7,2,20220530,       2237,    30.0002,  -177.3673,       5354,    75.1,2,  18.9571,2,  34.9346,2,-999.0000,9,    223.6,2,  -999.0,9, -999.00,9, -999.00,9, -999.00,9, -999.00,9,-999.000,9,-999.000,9,-999.0000,9,  -999.0,9,  -999.0,9,-999.0000,9,  -999.00,9, -999.00,9,  -999.0,9, -999.00,9, -999.00,9,     -999.0,9, 20220530,     2259,  30.0002,-177.3673,    18.9180,2,     -999.0,9,     -999.0,9,     -999.0,9,     -999.0,9,     0.0200,1,     4.6335,1,     -999.0,9,     -999.0,9,     -999.0,1
33RR20220430,        P02,      89,          1,          6,          6,2,20220530,       2237,    30.0002,  -177.3673,       5354,   105.1,2,  17.9220,2,  34.7978,2,-999.0000,9,    195.3,2,  -999.0,9, -999.00,9, -999.00,9, -999.00,9, -999.00,9,-999.000,9,-999.000,9,-999.0000,9,  -999.0,9,  -999.0,9,-999.0000,9,  -999.00,9, -999.00,9,  -999.0,9, -999.00,9, -999.00,9,     -999.0,9, 20220530,     2257,  30.0002,-177.3673,    17.9226,2,     -999.0,9,     -999.0,9,     -999.0,9,     -999.0,9,     0.0366,1,     4.6506,1,     -999.0,1,     -999.0,9,     -999.0,1
33RR20220430,        P02,      89,          1,          5,          5,2,20220530,       2237,    30.0002,  -177.3673,       5354,   105.2,2,  17.9306,2,  34.7987,2,-999.0000,9,    195.2,2,  -999.0,9, -999.00,9, -999.00,9, -999.00,9, -999.00,9,-999.000,9,-999.000,9,-999.0000,9,  -999.0,9,  -999.0,9,-999.0000,9,  -999.00,9, -999.00,9,  -999.0,9, -999.00,9, -999.00,9,     -999.0,9, 20220530,     2257,  30.0002,-177.3673,    17.9208,2,     -999.0,9,     -999.0,9,     -999.0,9,     -999.0,9,     0.0354,1,     4.6511,1,     -999.0,9,     -999.0,1,     -999.0,9
33RR20220430,        P02,      89,          1,          4,          4,2,20220530,       2237,    30.0002,  -177.3673,       5354,   155.1,2,  16.7471,2,  34.6889,2,-999.0000,9,    204.2,2,  -999.0,9, -999.00,9, -999.00,9, -999.00,9, -999.00,9,-999.000,9,-999.000,9,-999.0000,9,  -999.0,9,  -999.0,9,-999.0000,9,  -999.00,9, -999.00,9,  -999.0,9, -999.00,9, -999.00,9,     -999.0,9, 20220530,     2255,  30.0002,-177.3673,    16.7748,2,     -999.0,9,     -999.0,9,     -999.0,9,     -999.0,9,     0.0171,1,     4.6790,1,     -999.0,9,     -999.0,9,     -999.0,1
33RR20220430,        P02,      89,          1,          3,          3,2,20220530,       2237,    30.0002,  -177.3673,       5354,   205.8,2,  15.5917,2,  34.5963,2,-999.0000,9,    198.1,2,  -999.0,9, -999.00,9, -999.00,9, -999.00,9, -999.00,9,-999.000,9,-999.000,9,-999.0000,9,  -999.0,9,  -999.0,9,-999.0000,9,  -999.00,9, -999.00,9,  -999.0,9, -999.00,9, -999.00,9,     -999.0,9, 20220530,     2253,  30.0002,-177.3673,    15.5820,2,     -999.0,9,     -999.0,9,     -999.0,9,     -999.0,9,     0.0122,1,     4.6862,1,     -999.0,9,     -999.0,1,     -999.0,1
33RR20220430,        P02,      89,          1,          2,          2,2,20220530,       2237,    30.0002,  -177.3673,       5354,   507.7,2,   9.1425,2,  34.1019,2,-999.0000,9,    180.1,2,  -999.0,9, -999.00,9, -999.00,9, -999.00,9, -999.00,9,-999.000,9,-999.000,9,-999.0000,9,  -999.0,9,  -999.0,9,-999.0000,9,  -999.00,9, -999.00,9,  -999.0,9, -999.00,9, -999.00,9,     -999.0,9, 20220530,     2247,  30.0002,-177.3673,     9.1818,2,     -999.0,9,     -999.0,9,     -999.0,9,     -999.0,9,     0.0122,1,     4.6993,1,     -999.0,9,     -999.0,9,     -999.0,1
33RR20220430,        P02,      89,          1,          1,          1,2,20220530,       2237,    30.0002,  -177.3673,       5354,  1011.1,2,   3.7563,2,  34.2856,2,-999.0000,9,     27.2,2,  -999.0,9, -999.00,9, -999.00,9, -999.00,9, -999.00,9,-999.000,9,-999.000,9,-999.0000,9,  -999.0,9,  -999.0,9,-999.0000,9,  -999.00,9, -999.00,9,  -999.0,9, -999.00,9, -999.00,9,     -999.0,9, 20220530,     2237,  30.0002,-177.3673,     3.7512,2,     -999.0,9,     -999.0,9,     -999.0,9,     -999.0,9,     0.0134,1,     4.7008,1,     -999.0,9,     -999.0,1,     -999.0,1