BOTTLE,20230801CCHSIOCBG
EXPOCODE,SECT_ID,STNNBR,CASTNO,SAMPNO,BTLNBR,BTLNBR_FLAG_W,DATE,TIME,LATITUDE,LONGITUDE,DEPTH,CTDPRS,CTDPRS_FLAG_W,CTDTMP,CTDTMP_FLAG_W,CTDSAL,CTDSAL_FLAG_W,SALNTY,SALNTY_FLAG_W,CTDOXY,CTDOXY_FLAG_W,OXYGEN,OXYGEN_FLAG_W,SILCAT,SILCAT_FLAG_W,NITRAT,NITRAT_FLAG_W,NITRIT,NITRIT_FLAG_W,PHSPHT,PHSPHT_FLAG_W,CFC-11,CFC-11_FLAG_W,CFC-12,CFC-12_FLAG_W,SF6,SF6_FLAG_W,TCARBN,TCARBN_FLAG_W,ALKALI,ALKALI_FLAG_W,PH_TOT,PH_TOT_FLAG_W,PH_TMP,PH_TMP_FLAG_W,DELC13,DELC13_FLAG_W,DELC14,DELC14_FLAG_W,DOC,DOC_FLAG_W,TDN,TDN_FLAG_W,N2O,N2O_FLAG_W,BTL_DATE,BTL_TIME,BTL_LAT,BTL_LON,REFTMP,REFTMP_FLAG_W,POC,POC_FLAG_W,PON,PON_FLAG_W,POP,POP_FLAG_W,PCOD,PCOD_FLAG_W,CTDFLUOR,CTDFLUOR_FLAG_W,CTDXMISS,CTDXMISS_FLAG_W,HPLC,HPLC_FLAG_W,DNA,DNA_FLAG_W,FCM,FCM_FLAG_W
,,,,,,,,,,,METERS,DBAR,,ITS-90,,PSS-78,,PSS-78,,UMOL/KG,,UMOL/KG,,UMOL/KG,,UMOL/KG,,UMOL/KG,,UMOL/KG,,PMOL/KG,,PMOL/KG,,FMOL/KG,,UMOL/KG,,UMOL/KG,,,,DEG C,,/MILLE,,/MILLE,,UMOL/KG,,UMOL/KG,,NMOL/KG,,,,,,ITS-90,,UG/L,,UG/L,,UG/L,,UG/L,,VOLTS,,VOLTS,,,,,,,
33RR20220430,        P02,      99,          1,         36,         36,2,20220602,       2222,    29.9999,  -171.5979,       5400,     2.5,2,  23.3692,2,  35.1454,2,  35.1303,2,    219.8,2,   218.5,2,    1.46,2,    0.01,2,    0.00,2,    0.00,2,   1.702,2,   1.085,2,   2.0892,2,  2029.0,3,  2306.0,2,   8.0091,2,    25.00,2, -999.00,9,  -999.0,9, -999.00,1, -999.00,1,        7.4,2, 20220603,       39,  29.9999,-171.5979,    23.3539,2,     -999.0,9,     -999.0,9,     -999.0,9,     -999.0,9,     0.0130,1,     4.6298,1,     -999.0,9,     -999.0,9,     -999.0,9
33RR20220430,        P02,      99,          1,         35,         35,2,20220602,       2222,    29.9999,  -171.5979,       5400,    26.4,2,  21.9881,2,  35.1168,2,  35.1035,2,    223.0,2,   224.2,2,    1.56,2,    0.00,2,    0.00,2,    0.00,2,   1.774,6,   1.139,6,   2.0654,6,  2026.9,2,  2303.5,2,   8.0069,2,    25.00,2, -999.00,9,  -999.0,9, -999.00,1, -999.00,1,        7.6,6, 20220603,       37,  29.9999,-171.5978,    21.9897,2,     -999.0,9,     -999.0,9,     -999.0,9,     -999.0,9,     0.0134,1,     4.6210,1,     -999.0,9,     -999.0,9,     -999.0,9
33RR20220430,        P02,      99,          1,         34,         34,2,20220602,       2222,    29.9999,  -171.5979,       5400,    51.7,2,  20.3770,2,  35.0528,2,  35.0474,2,    228.6,2,   229.0,2,    1.76,2,    0.01,2,    0.00,2,    0.02,2,   1.853,2,   1.226,2,   2.2176,2,  2025.8,2,  2301.6,2,   7.9996,2,    25.00,2, -999.00,9,  -999.0,9, -999.00,1, -999.00,1,        8.0,2, 20220603,       35,  29.9999,-171.5978,    20.4412,2,     -999.0,9,     -999.0,9,     -999.0,9,     -999.0,9,     0.0134,1,     4.6390,1,     -999.0,9,     -999.0,9,     -999.0,9
33RR20220430,        P02,      99,          1,         33,         33,2,20220602,       2222,    29.9999,  -171.5979,       5400,    76.4,2,  19.2955,2,  34.9920,2,  34.9884,2,    232.6,2,   233.2,2,    2.05,2,    0.00,2,    0.00,2,    0.02,2,   1.991,2,   1.275,2,   2.1276,2,  2028.5,2,  2296.2,2,   7.9878,2,    24.99,2, -999.00,9,  -999.0,9, -999.00,1, -999.00,1,        8.2,2, 20220603,       33,  29.9999,-171.5978,    19.3007,2,     -999.0,9,     -999.0,9,     -999.0,9,     -999.0,9,     0.0183,1,     4.6258,1,     -999.0,9,     -999.0,9,     -999.0,9
33RR20220430,        P02,      99,          1,         32,         32,2,20220602,       2222,    29.9999,  -171.5979,       5400,   101.9,2,  18.5226,2,  34.8860,3,  34.8641,2,    233.7,2,   233.6,2,    2.34,2,    0.00,2,    0.00,2,    0.03,2,   2.036,2,   1.274,2,   2.3284,2,  2031.3,2,  2288.5,2,   7.9722,2,    25.01,2, -999.00,9,  -999.0,9, -999.00,1, -999.00,1,        8.4,2, 20220603,       32,  29.9999,-171.5978,    18.5173,2,     -999.0,9,     -999.0,9,     -999.0,9,     -999.0,9,     0.0256,1,     4.6391,1,     -999.0,9,     -999.0,9,     -999.0,9
33RR20220430,        P02,      99,          1,         31,         31,2,20220602,       2222,    29.9999,  -171.5979,       5400,   152.2,2,  16.2849,2,  34.6308,2,  34.6209,2,    213.8,2,   213.2,2,    4.49,2,    4.02,2,    0.02,2,    0.30,2,   2.213,2,   1.480,2,   2.1971,2,  2056.7,6,  2273.2,2,   7.8999,2,    25.00,2, -999.00,9,  -999.0,9, -999.00,1, -999.00,1,       10.7,2, 20220603,       29,  29.9999,-171.5978,    16.3084,2,     -999.0,9,     -999.0,9,     -999.0,9,     -999.0,9,     0.0220,1,     4.6764,1,     -999.0,9,     -999.0,9,     -999.0,9
33RR20220430,        P02,      99,          1,         30,         30,2,20220602,       2222,    29.9999,  -171.5979,       5400,   202.0,2,  14.9635,2,  34.5180,2,  34.5054,2,    210.6,2,   210.3,2,    6.55,2,    6.42,2,    0.00,2,    0.46,2,   2.407,2,   1.521,2,   2.3264,2,  2068.6,2,  2270.1,2,   7.8604,2,    25.00,2, -999.00,9,  -999.0,9, -999.00,1, -999.00,1,       12.4,2, 20220603,       28,  29.9999,-171.5979,    14.9664,2,     -999.0,9,     -999.0,9,     -999.0,9,     -999.0,9,     0.0122,1,     4.6861,1,     -999.0,9,     -999.0,9,     -999.0,9
33RR20220430,        P02,      99,          1,         29,         29,2,20220602,       2222,    29.9999,  -171.5979,       5400,   252.5,2,  13.7174,2,  34.4283,2,  34.4228,2,    214.4,2,   214.5,2,    8.79,2,    8.32,2,    0.00,2,    0.59,2,   2.551,2,   1.613,2,   2.2705,2,  2078.4,2,  2266.1,2,   7.8378,2,    25.00,2, -999.00,9,  -999.0,9, -999.00,1, -999.00,1,       13.4,2, 20220603,       26,  29.9999,-171.5979,    13.7133,2,     -999.0,9,     -999.0,9,     -999.0,9,     -999.0,9,     0.0122,1,     4.6898,1,     -999.0,9,     -999.0,9,     -999.0,9
33RR20220430,        P02,      99,          1,         28,         28,2,20220602,       2222,    29.9999,  -171.5979,       5400,   303.3,2,  12.6192,2,  34.3453,2,  34.3372,2,    215.7,2,   215.6,2,   11.43,2,   10.30,2,    0.00,2,    0.71,2,   2.823,2,   1.739,2,   2.4093,2,  2089.3,2,  2264.4,2,   7.8110,2,    25.00,2, -999.00,9,  -999.0,9, -999.00,1, -999.00,1,       15.4,2, 20220603,       24,  29.9999,-171.5979,    12.6165,2,     -999.0,9,     -999.0,9,     -999.0,9,     -999.0,9,     0.0122,1,     4.6922,1,     -999.0,9,     -999.0,9,     -999.0,9
33RR20220430,        P02,      99,          1,         27,         27,2,20220602,       2222,    29.9999,  -171.5979,       5400,   353.8,2,  11.5319,2,  34.2580,2,  34.2515,2,    212.4,2,   212.8,2,   14.66,2,   12.64,2,    0.00,2,    0.88,2,   2.925,2,   1.903,2,   2.4688,2,  2104.9,2,  2261.8,2,   7.7777,2,    25.01,2, -999.00,9,  -999.0,9, -999.00,1, -999.00,1,       16.7,2, 20220603,       22,  29.9999,-171.5978,    11.5342,2,     -999.0,9,     -999.0,9,     -999.0,9,     -999.0,9,     0.0122,1,     4.6934,1,     -999.0,9,     -999.0,9,     -999.0,9
33RR20220430,        P02,      99,          1,         26,         26,2,20220602,       2222,    29.9999,  -171.5979,       5400,   403.8,2,  10.6194,2,  34.1876,2,  34.1809,2,    209.0,2,   209.8,2,   18.27,2,   14.71,2,    0.00,2,    1.03,2,   3.021,2,   1.820,2,   2.2642,2,  2114.9,2,  2263.5,2,   7.7480,2,    25.00,2, -999.00,9,  -999.0,9, -999.00,1, -999.00,1,       17.9,2, 20220603,       20,  29.9999,-171.5978,    10.6187,2,     -999.0,9,     -999.0,9,     -999.0,9,     -999.0,9,     0.0122,1,     4.6946,1,     -999.0,9,     -999.0,9,     -999.0,9
33RR20220430,        P02,      99,          1,         25,         25,2,20220602,       2222,    29.9999,  -171.5979,       5400,   504.5,2,   8.5760,2,  34.0587,2,  34.0539,2,    176.8,2,   176.8,2,   32.25,2,   21.83,2,    0.00,2,    1.51,2,   2.951,2,   1.842,2,   1.6984,2,  2160.3,2,  2270.9,2,   7.6405,2,    25.01,2, -999.00,9,  -999.0,9, -999.00,1, -999.00,1,       23.9,2, 20220603,       17,  29.9999,-171.5979,     8.5644,2,     -999.0,9,     -999.0,9,     -999.0,9,     -999.0,9,     0.0122,1,     4.6970,1,     -999.0,9,     -999.0,9,     -999.0,9
33RR20220430,        P02,      99,          1,         24,         24,2,20220602,       2222,    29.9999,  -171.5979,       5400,   606.8,2,   6.5568,2,  34.0100,2,  34.0080,2,    127.0,3,   124.8,2,   55.22,2,   30.49,2,    0.00,2,    2.13,2,   2.309,2,   1.474,2,   0.9296,2,  2222.8,2,  2280.9,2,   7.5039,2,    25.01,2, -999.00,9,  -999.0,9, -999.00,9, -999.00,9,       32.9,2, 20220603,       14,  29.9999,-171.5978,     6.5921,2,     -999.0,9,     -999.0,9,     -999.0,9,     -999.0,9,     0.0131,1,     4.6986,1,     -999.0,9,     -999.0,9,     -999.0,9
33RR20220430,        P02,      99,          1,         23,         23,2,20220602,       2222,    29.9999,  -171.5979,       5400,   706.7,2,   5.2366,2,  34.0457,2,  34.0464,2,     82.3,2,    82.4,2,   77.31,2,   36.45,2,    0.00,2,    2.59,2,   1.534,2,   0.976,2,   0.2423,2,  2273.7,6,  2300.8,2,   7.4059,2,    25.03,2, -999.00,9,  -999.0,9, -999.00,1, -999.00,1,       41.6,2, 20220603,       11,  29.9999,-171.5978,     5.2340,2,     -999.0,9,     -999.0,9,     -999.0,9,     -999.0,9,     0.0125,1,     4.6991,1,     -999.0,9,     -999.0,9,     -999.0,9
33RR20220430,        P02,      99,          1,         22,         22,2,20220602,       2222,    29.9999,  -171.5979,       5400,   808.2,2,   4.4488,2,  34.1479,2,  34.1544,2,     43.0,2,    42.7,2,   99.00,2,   40.97,2,    0.00,2,    2.92,2,   0.667,2,   0.419,2,   0.0808,2,  2319.3,2,  2325.7,2,   7.3367,2,    24.99,2, -999.00,9,  -999.0,9, -999.00,9, -999.00,9,       52.2,2, 20220603,        9,  29.9999,-171.5978,     4.4463,2,     -999.0,9,     -999.0,9,     -999.0,9,     -999.0,9,     0.0134,1,     4.6996,1,     -999.0,9,     -999.0,9,     -999.0,9
33RR20220430,        P02,      99,          1,         21,         21,2,20220602,       2222,    29.9999,  -171.5979,       5400,   908.9,2,   4.0187,2,  34.2438,2,  34.2473,2,     24.8,3,    25.5,2,  111.99,2,   42.75,2,    0.00,2,    3.06,2,   0.251,2,   0.161,2,   0.0106,2,  2343.8,2,  2341.3,2,   7.3156,2,    25.01,2, -999.00,9,  -999.0,9, -999.00,1, -999.00,1,       56.4,2, 20220603,        6,  29.9999,-171.5979,     4.0200,2,     -999.0,9,     -999.0,9,     -999.0,9,     -999.0,9,     0.0129,1,     4.7002,1,     -999.0,9,     -999.0,9,     -999.0,9
33RR20220430,        P02,      99,          1,         20,         20,2,20220602,       2222,    29.9999,  -171.5979,       5400,  1010.0,2,   3.6576,2,  34.3253,2,  34.3291,2,     20.2,3,    20.7,2,  123.12,2,   43.42,2,    0.00,2,    3.11,2,   0.094,2,   0.061,2,   0.0000,2,  2359.4,2,  2358.2,2,   7.3155,2,    25.00,2, -999.00,9,  -999.0,9, -999.00,1, -999.00,1,       58.7,2, 20220603,        3,  29.9999,-171.5978,     3.6562,2,     -999.0,9,     -999.0,9,     -999.0,9,     -999.0,9,     0.0134,1,     4.6997,1,     -999.0,9,     -999.0,9,     -999.0,9
33RR20220430,        P02,      99,          1,         19,         19,2,20220602,       2222,    29.9999,  -171.5979,       5400,  1109.8,2,   3.4202,2,  34.3893,2,  34.3908,2,     22.4,2,    22.6,2,  130.44,2,   43.52,2,    0.00,2,    3.12,2,   0.044,2,   0.027,2,   0.0000,2,  2363.7,2,  2368.5,2,   7.3261,2,    25.00,2, -999.00,9,  -999.0,9, -999.00,1, -999.00,1,       57.3,2, 20220603,        1,  29.9999,-171.5978,     3.4232,2,     -999.0,9,     -999.0,9,     -999.0,9,     -999.0,9,     0.0134,1,     4.7002,1,     -999.0,9,     -999.0,9,     -999.0,9
33RR20220430,        P02,      99,          1,         18,         18,2,20220602,       2222,    29.9999,  -171.5979,       5400,  1212.5,2,   3.1974,2,  34.4538,2,  34.4549,2,     31.8,2,    31.9,2,  135.32,2,   43.15,2,    0.00,2,    3.08,2,   0.019,2,   0.014,2,   0.0000,2,  2366.7,2,  2379.2,2,   7.3502,2,    25.00,2, -999.00,9,  -999.0,9, -999.00,1, -999.00,1,       52.9,2, 20220602,     2358,  29.9999,-171.5979,     3.1983,2,     -999.0,9,     -999.0,9,     -999.0,9,     -999.0,9,     0.0134,1,     4.7010,1,     -999.0,9,     -999.0,9,     -999.0,9
33RR20220430,        P02,      99,          1,         17,         17,2,20220602,       2222,    29.9999,  -171.5979,       5400,  1314.7,2,   2.9755,2,  34.4877,2,  34.4895,2,     38.0,3,    38.4,2,  140.69,2,   42.84,2,    0.00,2,    3.06,2,   0.015,2,   0.007,2,   0.0000,2,  2371.5,2,  2386.2,2,   7.3641,2,    25.01,2, -999.00,9,  -999.0,9, -999.00,1, -999.00,1,       47.7,2, 20220602,     2355,  29.9999,-171.5979,     2.9759,2,     -999.0,9,     -999.0,9,     -999.0,9,     -999.0,9,     0.0134,1,     4.7018,1,     -999.0,9,     -999.0,9,     -999.0,9
33RR20220430,        P02,      99,          1,         16,         16,2,20220602,       2222,    29.9999,  -171.5979,       5400,  1417.6,2,   2.7721,2,  34.5099,2,  34.5119,2,     42.1,3,    41.7,2,  146.26,2,   42.69,2,    0.00,2,    3.05,2,   0.011,2,   0.007,2,   0.0000,2,  2374.3,2,  2393.3,2,   7.3722,2,    24.99,2, -999.00,9,  -999.0,9, -999.00,9, -999.00,9,       46.6,2, 20220602,     2352,  29.9999,-171.5978,     2.7721,2,     -999.0,9,     -999.0,9,     -999.0,9,     -999.0,9,     0.0134,1,     4.7016,1,     -999.0,9,     -999.0,9,     -999.0,9
33RR20220430,        P02,      99,          1,         15,         15,2,20220602,       2222,    29.9999,  -171.5979,       5400,  1619.2,2,   2.4928,2,  34.5500,2,  34.5518,2,     54.6,3,    54.0,2,  152.02,2,   42.05,2,    0.00,2,    2.99,2,   0.007,2,   0.000,2,   0.0000,2,  2372.6,2,  2401.8,2,   7.3972,2,    25.01,2, -999.00,9,  -999.0,9, -999.00,1, -999.00,1,       41.9,2, 20220602,     2348,  29.9999,-171.5978,     2.4921,2,     -999.0,9,     -999.0,9,     -999.0,9,     -999.0,9,     0.0134,1,     4.7023,1,     -999.0,9,     -999.0,9,     -999.0,9
33RR20220430,        P02,      99,          1,         14,         14,2,20220602,       2222,    29.9999,  -171.5979,       5400,  1820.9,2,   2.1704,2,  34.5840,2,  34.5861,2,     66.0,2,    65.5,2,  160.32,2,   41.45,2,    0.00,2,    2.94,2,   0.008,2,   0.000,2,   0.0000,2,  2374.0,2,  2409.7,2,   7.4197,2,    25.00,2, -999.00,9,  -999.0,9, -999.00,9, -999.00,9,       36.9,2, 20220602,     2343,  29.9999,-171.5979,     2.1702,2,     -999.0,9,     -999.0,9,     -999.0,9,     -999.0,9,     0.0134,1,     4.7020,1,     -999.0,9,     -999.0,9,     -999.0,9
33RR20220430,        P02,      99,          1,         13,         13,2,20220602,       2222,    29.9999,  -171.5979,       5400,  2024.9,2,   1.9750,2,  34.6068,2,  34.6085,2,     79.3,2,    79.0,2,  162.86,2,   40.63,2,    0.00,2,    2.87,2,   0.004,2,   0.000,2,   0.0000,2,  2369.5,2,  2413.8,2,   7.4445,2,    25.00,2, -999.00,9,  -999.0,9, -999.00,1, -999.00,1,       33.3,2, 20220602,     2338,  29.9999,-171.5979,     1.9751,2,     -999.0,9,     -999.0,9,     -999.0,9,     -999.0,9,     0.0133,1,     4.7034,1,     -999.0,9,     -999.0,9,     -999.0,9
33RR20220430,        P02,      99,          1,         12,         12,2,20220602,       2222,    29.9999,  -171.5979,       5400,  2279.8,2,   1.7963,2,  34.6279,2,  34.6291,2,     94.9,2,    95.4,2,  163.44,2,   39.75,2,    0.00,2,    2.79,2,-999.000,9,-999.000,9,-999.0000,9,  2363.1,2,  2416.9,2,   7.4736,2,    25.00,2, -999.00,9,  -999.0,9, -999.00,9, -999.00,9,     -999.0,9, 20220602,     2333,  29.9999,-171.5979,     1.7961,2,     -999.0,9,     -999.0,9,     -999.0,9,     -999.0,9,     0.0130,1,     4.7038,1,     -999.0,9,     -999.0,9,     -999.0,9
33RR20220430,        P02,      99,          1,         11,         11,2,20220602,       2222,    29.9999,  -171.5979,       5400,  2532.0,2,   1.6767,2,  34.6437,2,  34.6455,2,    105.4,2,   105.4,2,  164.90,2,   39.07,2,    0.00,2,    2.74,2,   0.005,2,   0.000,2,   0.0000,2,  2357.2,6,  2419.7,2,   7.4951,2,    24.99,2, -999.00,9,  -999.0,9, -999.00,1, -999.00,1,       27.9,2, 20220602,     2327,  29.9999,-171.5978,     1.6765,2,     -999.0,9,     -999.0,9,     -999.0,9,     -999.0,9,     0.0128,1,     4.7041,1,     -999.0,9,     -999.0,9,     -999.0,9
33RR20220430,        P02,      99,          1,         10,         10,2,20220602,       2222,    29.9999,  -171.5979,       5400,  2789.1,2,   1.5996,2,  34.6545,2,  34.6557,2,    114.1,2,   113.8,2,  164.80,2,   38.76,2,    0.00,2,    2.69,2,-999.000,9,-999.000,9,-999.0000,9,  2351.9,2,  2420.4,2,   7.5114,2,    25.00,2, -999.00,9,  -999.0,9, -999.00,9, -999.00,9,     -999.0,9, 20220602,     2322,  29.9999,-171.5979,     1.5994,2,     -999.0,9,     -999.0,9,     -999.0,9,     -999.0,9,     0.0134,1,     4.7042,1,     -999.0,9,     -999.0,9,     -999.0,9
33RR20220430,        P02,      99,          1,          9,          9,2,20220602,       2222,    29.9999,  -171.5979,       5400,  3044.2,2,   1.5403,2,  34.6627,2,  34.6637,2,    123.8,2,   123.6,2,  162.26,2,   38.00,2,    0.00,2,    2.64,2,   0.005,2,   0.000,2,   0.0000,2,  2344.6,2,  2419.3,2,   7.5284,2,    25.02,2, -999.00,9,  -999.0,9, -999.00,1, -999.00,1,       25.2,2, 20220602,     2316,  29.9999,-171.5978,     1.5400,2,     -999.0,9,     -999.0,9,     -999.0,9,     -999.0,9,     0.0129,1,     4.7044,1,     -999.0,9,     -999.0,9,     -999.0,9
33RR20220430,        P02,      99,          1,          8,          8,2,20220602,       2222,    29.9999,  -171.5979,       5400,  3348.4,2,   1.5011,2,  34.6702,2,  34.6712,2,    132.3,2,   132.7,2,  160.41,2,   37.37,2,    0.00,2,    2.60,2,-999.000,9,-999.000,9,-999.0000,9,  2337.4,2,  2422.5,2,   7.5431,2,    25.00,2, -999.00,9,  -999.0,9, -999.00,9, -999.00,9,     -999.0,9, 20220602,     2310,  29.9999,-171.5978,     1.5009,2,     -999.0,9,     -999.0,9,     -999.0,9,     -999.0,9,     0.0128,1,     4.7046,1,     -999.0,9,     -999.0,9,     -999.0,9
33RR20220430,        P02,      99,          1,          7,          7,2,20220602,       2222,    29.9999,  -171.5979,       5400,  3659.9,2,   1.4774,2,  34.6762,3,  34.6789,2,    140.0,2,   140.5,2,  157.86,2,   36.86,2,    0.00,2,    2.56,2,   0.006,2,   0.000,2,   0.0000,2,  2333.2,2,  2419.6,2,   7.5572,2,    24.99,2, -999.00,9,  -999.0,9, -999.00,1, -999.00,1,       23.5,2, 20220602,     2304,  29.9999,-171.5978,     1.4772,2,     -999.0,9,     -999.0,9,     -999.0,9,     -999.0,9,     0.0122,1,     4.7054,1,     -999.0,9,     -999.0,9,     -999.0,9
33RR20220430,        P02,      99,          1,          6,          6,2,20220602,       2222,    29.9999,  -171.5979,       5400,  3965.3,2,   1.4733,2,  34.6800,2,  34.6802,2,    145.4,2,   145.6,2,  156.30,2,   36.46,2,    0.00,2,    2.53,2,-999.000,9,-999.000,9,-999.0000,9,  2328.5,2,  2418.6,2,   7.5664,2,    24.99,2, -999.00,9,  -999.0,9, -999.00,9, -999.00,9,     -999.0,9, 20220602,     2258,  29.9999,-171.5978,     1.4729,2,     -999.0,9,     -999.0,9,     -999.0,9,     -999.0,9,     0.0122,1,     4.7056,1,     -999.0,9,     -999.0,9,     -999.0,9
33RR20220430,        P02,      99,          1,          5,          5,2,20220602,       2222,    29.9999,  -171.5979,       5400,  4274.3,2,   1.4796,2,  34.6830,2,  34.6836,2,    149.2,2,   149.2,2,  155.62,2,   36.20,2,    0.00,2,    2.51,2,-999.000,9,-999.000,9,-999.0000,9,  2328.7,2,  2416.7,2,   7.5724,2,    25.01,2, -999.00,9,  -999.0,9, -999.00,1, -999.00,1,     -999.0,9, 20220602,     2251,  29.9999,-171.5978,     1.4795,2,     -999.0,9,     -999.0,9,     -999.0,9,     -999.0,9,     0.0125,1,     4.7056,1,     -999.0,9,     -999.0,9,     -999.0,9
33RR20220430,        P02,      99,          1,          4,          4,2,20220602,       2222,    29.9999,  -171.5979,       5400,  4581.8,2,   1.4949,2,  34.6853,2,  34.6855,2,    152.5,2,   152.7,2,  153.96,2,   35.98,2,    0.00,2,    2.50,2,   0.008,2,   0.000,2,   0.0000,2,  2327.2,2,  2417.1,2,   7.5782,2,    24.99,2, -999.00,9,  -999.0,9, -999.00,9, -999.00,9,       22.2,2, 20220602,     2245,  29.9999,-171.5978,     1.4949,2,     -999.0,9,     -999.0,9,     -999.0,9,     -999.0,9,     0.0122,1,     4.7060,1,     -999.0,9,     -999.0,9,     -999.0,9