BOTTLE,20230801CCHSIOCBG
EXPOCODE,SECT_ID,STNNBR,CASTNO,SAMPNO,BTLNBR,BTLNBR_FLAG_W,DATE,TIME,LATITUDE,LONGITUDE,DEPTH,CTDPRS,CTDPRS_FLAG_W,CTDTMP,CTDTMP_FLAG_W,CTDSAL,CTDSAL_FLAG_W,SALNTY,SALNTY_FLAG_W,CTDOXY,CTDOXY_FLAG_W,OXYGEN,OXYGEN_FLAG_W,SILCAT,SILCAT_FLAG_W,NITRAT,NITRAT_FLAG_W,NITRIT,NITRIT_FLAG_W,PHSPHT,PHSPHT_FLAG_W,CFC-11,CFC-11_FLAG_W,CFC-12,CFC-12_FLAG_W,SF6,SF6_FLAG_W,TCARBN,TCARBN_FLAG_W,ALKALI,ALKALI_FLAG_W,PH_TOT,PH_TOT_FLAG_W,PH_TMP,PH_TMP_FLAG_W,DELC13,DELC13_FLAG_W,DELC14,DELC14_FLAG_W,DOC,DOC_FLAG_W,TDN,TDN_FLAG_W,N2O,N2O_FLAG_W,BTL_DATE,BTL_TIME,BTL_LAT,BTL_LON,REFTMP,REFTMP_FLAG_W,POC,POC_FLAG_W,PON,PON_FLAG_W,POP,POP_FLAG_W,PCOD,PCOD_FLAG_W,CTDFLUOR,CTDFLUOR_FLAG_W,CTDXMISS,CTDXMISS_FLAG_W,HPLC,HPLC_FLAG_W,DNA,DNA_FLAG_W,FCM,FCM_FLAG_W
,,,,,,,,,,,METERS,DBAR,,ITS-90,,PSS-78,,PSS-78,,UMOL/KG,,UMOL/KG,,UMOL/KG,,UMOL/KG,,UMOL/KG,,UMOL/KG,,PMOL/KG,,PMOL/KG,,FMOL/KG,,UMOL/KG,,UMOL/KG,,,,DEG C,,/MILLE,,/MILLE,,UMOL/KG,,UMOL/KG,,NMOL/KG,,,,,,ITS-90,,UG/L,,UG/L,,UG/L,,UG/L,,VOLTS,,VOLTS,,,,,,,
33RR20220430,        P02,      74,          2,         34,         34,2,20220526,       1425,    29.9999,   173.9791,       4599,     3.6,2,  20.2206,2,  34.7551,3,  34.7315,2,    234.7,3,   229.7,2,    1.66,2,    0.03,2,    0.00,2,    0.01,2,   1.861,2,   1.199,2,   2.2071,2,  2016.2,2,  2282.5,2,   7.9897,2,    25.01,2, -999.00,1,  -999.0,1, -999.00,1, -999.00,1,        7.6,2, 20220526,     1617,  29.9999, 173.9791,    20.1141,3,     -999.0,9,     -999.0,9,     -999.0,9,     -999.0,9,     0.0147,1,     4.6259,1,     -999.0,9,     -999.0,9,     -999.0,9
33RR20220430,        P02,      74,          2,         33,         33,2,20220526,       1425,    29.9999,   173.9791,       4599,    21.0,2,  19.2583,2,  34.7814,2,  34.7651,2,    240.8,2,   241.1,2,    1.86,2,    0.02,2,    0.00,2,    0.01,2,   2.028,2,   1.287,2,   2.2956,2,  2018.2,6,  2284.4,2,   7.9875,2,    25.02,2, -999.00,1,  -999.0,1, -999.00,1, -999.00,1,        8.2,2, 20220526,     1616,  29.9999, 173.9790,    19.2745,2,     -999.0,9,     -999.0,9,     -999.0,9,     -999.0,9,     0.0147,1,     4.6268,1,     -999.0,9,     -999.0,9,     -999.0,9
33RR20220430,        P02,      74,          2,         32,         32,2,20220526,       1425,    29.9999,   173.9791,       4599,    41.4,2,  18.0308,2,  34.7252,2,  34.7103,2,    250.0,2,   250.5,2,    2.05,2,    0.00,2,    0.00,2,    0.02,2,   2.113,6,   1.329,6,   2.2313,6,  2016.0,2,  2279.3,2,   7.9883,2,    25.01,2, -999.00,1,  -999.0,1, -999.00,1, -999.00,1,        8.6,6, 20220526,     1614,  29.9999, 173.9791,    18.0411,2,     -999.0,9,     -999.0,9,     -999.0,9,     -999.0,9,     0.0178,1,     4.6262,1,     -999.0,9,     -999.0,9,     -999.0,9
33RR20220430,        P02,      74,          2,         31,         31,2,20220526,       1425,    29.9999,   173.9791,       4599,    66.2,2,  17.2396,2,  34.7073,2,  34.6942,2,    252.4,2,   252.5,2,    1.56,2,    0.04,2,    0.01,2,    0.04,2,   2.046,2,   1.306,2,   2.1981,2,  2017.9,2,  2281.1,2,   7.9815,2,    25.02,2, -999.00,1,  -999.0,1, -999.00,1, -999.00,1,        8.2,2, 20220526,     1612,  29.9999, 173.9790,    17.2424,2,     -999.0,9,     -999.0,9,     -999.0,9,     -999.0,9,     0.0324,1,     4.6218,1,     -999.0,9,     -999.0,9,     -999.0,9
33RR20220430,        P02,      74,          2,         30,         30,2,20220526,       1425,    29.9999,   173.9791,       4599,    91.8,2,  16.5434,2,  34.6848,2,  34.6718,2,    232.4,2,   232.7,2,    3.13,2,    2.40,2,    0.42,2,    0.21,2,   2.166,2,   1.357,2,   2.2226,2,  2036.1,2,  2274.9,2,   7.9426,2,    25.02,2, -999.00,1,  -999.0,1, -999.00,1, -999.00,1,        9.5,2, 20220526,     1611,  29.9999, 173.9790,    16.5422,2,     -999.0,9,     -999.0,9,     -999.0,9,     -999.0,9,     0.0253,1,     4.6559,1,     -999.0,9,     -999.0,9,     -999.0,9
33RR20220430,        P02,      74,          2,         29,         29,2,20220526,       1425,    29.9999,   173.9791,       4599,   136.8,2,  16.0937,2,  34.6591,2,  34.6486,2,    225.6,2,   225.2,2,    4.20,2,    4.24,2,    0.02,2,    0.32,2,   2.190,2,   1.378,2,   2.1780,2,  2045.4,2,  2275.4,2,   7.9226,2,    25.00,2, -999.00,1,  -999.0,1, -999.00,1, -999.00,1,        9.9,2, 20220526,     1609,  29.9999, 173.9790,    16.0870,2,     -999.0,9,     -999.0,9,     -999.0,9,     -999.0,9,     0.0155,1,     4.6808,1,     -999.0,9,     -999.0,9,     -999.0,9
33RR20220430,        P02,      74,          2,         28,         28,2,20220526,       1425,    29.9999,   173.9791,       4599,   186.3,2,  15.5357,2,  34.6110,2,  34.5997,2,    214.8,2,   213.8,2,    5.96,2,    6.15,2,    0.01,2,    0.44,2,   2.260,2,   1.404,2,   2.1645,2,  2059.2,2,  2274.8,2,   7.8929,2,    25.00,2, -999.00,1,  -999.0,1, -999.00,1, -999.00,1,       11.0,2, 20220526,     1607,  29.9999, 173.9790,    15.5369,2,     -999.0,9,     -999.0,9,     -999.0,9,     -999.0,9,     0.0122,1,     4.6877,1,     -999.0,9,     -999.0,9,     -999.0,9
33RR20220430,        P02,      74,          2,         27,         27,2,20220526,       1425,    29.9999,   173.9791,       4599,   236.0,2,  14.9813,2,  34.5626,2,  34.5512,2,    233.6,2,   233.8,2,    5.86,2,    5.11,2,    0.00,2,    0.39,2,   2.272,2,   1.446,2,   2.3297,2,  2053.3,2,  2272.3,2,   7.9023,2,    25.04,2, -999.00,1,  -999.0,1, -999.00,1, -999.00,1,       10.2,2, 20220526,     1605,  29.9999, 173.9790,    14.9805,2,     -999.0,9,     -999.0,9,     -999.0,9,     -999.0,9,     0.0122,1,     4.6818,1,     -999.0,9,     -999.0,9,     -999.0,9
33RR20220430,        P02,      74,          2,         26,         26,2,20220526,       1425,    29.9999,   173.9791,       4599,   287.9,2,  14.5024,2,  34.5282,2,  34.5199,2,    226.8,2,   228.4,2,    6.94,2,    6.30,2,    0.00,2,    0.45,2,   2.353,2,   1.436,2,   2.2503,2,  -999.0,9,  -999.0,9,-999.0000,9,  -999.00,9, -999.00,1,  -999.0,1, -999.00,1, -999.00,1,       11.0,2, 20220526,     1603,  29.9999, 173.9790,    14.5110,2,     -999.0,9,     -999.0,9,     -999.0,9,     -999.0,9,     0.0122,1,     4.6885,1,     -999.0,9,     -999.0,9,     -999.0,9
33RR20220430,        P02,      74,          2,         25,         25,2,20220526,       1425,    29.9999,   173.9791,       4599,   337.8,2,  13.3844,2,  34.4450,2,  34.4353,2,    203.5,2,   202.7,2,   12.50,2,   10.82,2,    0.00,2,    0.76,2,   2.399,2,   1.466,2,   1.8823,2,  2089.4,2,  2270.4,2,   7.8210,2,    25.03,2, -999.00,1,  -999.0,1, -999.00,1, -999.00,1,       13.8,2, 20220526,     1602,  29.9999, 173.9790,    13.3858,2,     -999.0,9,     -999.0,9,     -999.0,9,     -999.0,9,     0.0122,1,     4.6892,1,     -999.0,9,     -999.0,9,     -999.0,9
33RR20220430,        P02,      74,          2,         24,         24,2,20220526,       1425,    29.9999,   173.9791,       4599,   388.9,2,  11.9654,2,  34.3345,2,  34.3272,2,    203.9,2,   203.6,2,   16.80,2,   13.11,2,    0.00,2,    0.93,2,-999.000,9,-999.000,9,-999.0000,9,  -999.0,9,  -999.0,9,-999.0000,9,  -999.00,9, -999.00,1,  -999.0,1, -999.00,1, -999.00,1,     -999.0,9, 20220526,     1600,  29.9999, 173.9790,    11.9802,2,     -999.0,9,     -999.0,9,     -999.0,9,     -999.0,9,     0.0122,1,     4.6911,1,     -999.0,9,     -999.0,9,     -999.0,9
33RR20220430,        P02,      74,          2,         23,         23,2,20220526,       1425,    29.9999,   173.9791,       4599,   470.0,2,   9.8416,2,  34.1583,2,  34.1532,2,    205.0,2,   205.8,2,   23.84,2,   16.57,2,    0.00,2,    1.19,2,   2.715,2,   1.649,2,   2.0343,2,  2132.1,2,  2269.5,2,   7.7247,2,    25.02,2, -999.00,1,  -999.0,1, -999.00,1, -999.00,1,       17.0,2, 20220526,     1558,  29.9999, 173.9790,     9.8633,2,     -999.0,9,     -999.0,9,     -999.0,9,     -999.0,9,     0.0122,1,     4.6944,1,     -999.0,9,     -999.0,9,     -999.0,9
33RR20220430,        P02,      74,          2,         22,         22,2,20220526,       1425,    29.9999,   173.9791,       4599,   570.5,2,   7.5869,2,  34.0001,2,  33.9945,2,    182.1,2,   182.3,2,   38.99,2,   22.98,2,    0.00,2,    1.66,2,   2.696,2,   1.595,2,   1.8325,2,  2174.9,2,  2274.8,2,   7.6221,2,    25.03,2, -999.00,1,  -999.0,1, -999.00,1, -999.00,1,       22.4,2, 20220526,     1555,  29.9999, 173.9790,     7.5799,2,     -999.0,9,     -999.0,9,     -999.0,9,     -999.0,9,     0.0122,1,     4.6971,1,     -999.0,9,     -999.0,9,     -999.0,9
33RR20220430,        P02,      74,          2,         21,         21,2,20220526,       1425,    29.9999,   173.9791,       4599,   671.2,2,   5.6838,2,  34.0126,2,  34.0094,2,    114.7,2,   115.0,2,   67.33,2,   32.64,2,    0.00,2,    2.35,2,   1.923,2,   1.160,2,   0.9390,2,  2245.1,2,  2294.6,2,   7.4648,2,    25.01,2, -999.00,1,  -999.0,1, -999.00,1, -999.00,1,       33.7,2, 20220526,     1552,  29.9999, 173.9790,     5.6695,2,     -999.0,9,     -999.0,9,     -999.0,9,     -999.0,9,     0.0134,1,     4.7008,1,     -999.0,9,     -999.0,9,     -999.0,9
33RR20220430,        P02,      74,          2,         20,         20,2,20220526,       1425,    29.9999,   173.9791,       4599,   772.5,2,   4.7742,2,  34.1065,2,  34.1032,2,     71.5,2,    71.1,2,   88.73,2,   38.04,2,    0.00,2,    2.73,2,   1.163,2,   0.677,2,   0.4007,2,  -999.0,9,  -999.0,9,-999.0000,9,  -999.00,9, -999.00,1,  -999.0,1, -999.00,9, -999.00,9,       43.1,2, 20220526,     1550,  29.9999, 173.9790,     4.7757,2,     -999.0,9,     -999.0,9,     -999.0,9,     -999.0,9,     0.0134,1,     4.7008,1,     -999.0,9,     -999.0,9,     -999.0,9
33RR20220430,        P02,      74,          2,         19,         19,2,20220526,       1425,    29.9999,   173.9791,       4599,   877.4,2,   4.1229,2,  34.1975,2,  34.1891,2,     50.0,2,    49.9,2,  105.53,2,   40.57,2,    0.00,2,    2.89,2,-999.000,9,-999.000,9,-999.0000,9,  2325.0,2,  2333.9,2,   7.3458,2,    25.01,2, -999.00,1,  -999.0,1, -999.00,1, -999.00,1,     -999.0,9, 20220526,     1547,  29.9999, 173.9790,     4.1255,2,     -999.0,9,     -999.0,9,     -999.0,9,     -999.0,9,     0.0134,1,     4.6997,1,     -999.0,9,     -999.0,9,     -999.0,9
33RR20220430,        P02,      74,          2,         18,         18,2,20220526,       1425,    29.9999,   173.9791,       4599,   978.6,2,   3.6247,2,  34.2841,2,  34.2829,2,     36.4,3,    36.8,2,  122.33,2,   42.24,2,    0.00,2,    3.03,2,   0.386,2,   0.218,2,   0.0869,2,  -999.0,9,  -999.0,9,-999.0000,9,  -999.00,9, -999.00,1,  -999.0,1, -999.00,9, -999.00,9,       51.4,2, 20220526,     1544,  29.9999, 173.9790,     3.6234,2,     -999.0,9,     -999.0,9,     -999.0,9,     -999.0,9,     0.0134,1,     4.7003,1,     -999.0,9,     -999.0,9,     -999.0,9
33RR20220430,        P02,      74,          2,         17,         17,2,20220526,       1425,    29.9999,   173.9791,       4599,  1079.4,2,   3.2751,2,  34.3517,2,  34.3494,2,     31.2,3,    30.5,2,  132.58,2,   43.01,2,    0.00,2,    3.07,2,-999.000,9,-999.000,9,-999.0000,9,  2364.2,2,  2366.9,2,   7.3270,2,    25.08,2, -999.00,1,  -999.0,1, -999.00,1, -999.00,1,     -999.0,9, 20220526,     1541,  29.9999, 173.9790,     3.2745,2,     -999.0,9,     -999.0,9,     -999.0,9,     -999.0,9,     0.0134,1,     4.7007,1,     -999.0,9,     -999.0,9,     -999.0,9
33RR20220430,        P02,      74,          2,         16,         16,2,20220526,       1425,    29.9999,   173.9791,       4599,  1181.8,2,   2.9868,2,  34.4088,2,  34.4069,2,     29.9,3,    29.3,2,  141.86,2,   43.45,2,    0.00,2,    3.10,2,   0.107,2,   0.058,2,   0.0000,2,  -999.0,9,  -999.0,9,-999.0000,9,  -999.00,9, -999.00,1,  -999.0,1, -999.00,9, -999.00,9,       53.5,2, 20220526,     1538,  29.9999, 173.9790,     2.9941,2,     -999.0,9,     -999.0,9,     -999.0,9,     -999.0,9,     0.0134,1,     4.7008,1,     -999.0,9,     -999.0,9,     -999.0,9
33RR20220430,        P02,      74,          2,         15,         15,2,20220526,       1425,    29.9999,   173.9791,       4599,  1283.2,2,   2.7894,2,  34.4598,2,  34.4579,2,     33.2,2,    32.9,2,  146.44,2,   43.41,2,    0.00,2,    3.09,2,-999.000,9,-999.000,9,-999.0000,9,  2377.6,2,  2387.7,2,   7.3439,2,    24.98,2, -999.00,1,  -999.0,1, -999.00,1, -999.00,1,     -999.0,9, 20220526,     1536,  29.9999, 173.9790,     2.7908,2,     -999.0,9,     -999.0,9,     -999.0,9,     -999.0,9,     0.0134,1,     4.7019,1,     -999.0,9,     -999.0,9,     -999.0,9
33RR20220430,        P02,      74,          2,         14,         14,2,20220526,       1425,    29.9999,   173.9791,       4599,  1384.2,2,   2.6608,2,  34.4969,2,  34.4952,2,     40.8,3,    42.0,2,  149.37,2,   43.03,2,    0.00,2,    3.06,2,   0.020,2,   0.012,2,   0.0000,2,  -999.0,9,  -999.0,9,-999.0000,9,  -999.00,9, -999.00,1,  -999.0,1, -999.00,9, -999.00,9,       47.2,2, 20220526,     1533,  29.9999, 173.9790,     2.6599,2,     -999.0,9,     -999.0,9,     -999.0,9,     -999.0,9,     0.0134,1,     4.7033,1,     -999.0,9,     -999.0,9,     -999.0,9
33RR20220430,        P02,      74,          2,         13,         13,2,20220526,       1425,    29.9999,   173.9791,       4599,  1555.4,2,   2.3818,2,  34.5393,2,  34.5360,2,     51.5,3,    52.4,2,  155.03,2,   42.48,2,    0.00,2,    3.00,2,-999.000,9,-999.000,9,-999.0000,9,  2378.2,2,  2401.5,2,   7.3859,2,    24.96,2, -999.00,1,  -999.0,1, -999.00,1, -999.00,1,     -999.0,9, 20220526,     1529,  29.9999, 173.9790,     2.3815,2,     -999.0,9,     -999.0,9,     -999.0,9,     -999.0,9,     0.0133,1,     4.7032,1,     -999.0,9,     -999.0,9,     -999.0,9
33RR20220430,        P02,      74,          2,         12,         12,2,20220526,       1425,    29.9999,   173.9791,       4599,  1757.9,2,   2.1440,2,  34.5732,2,  34.5710,2,     64.0,2,    63.6,2,  159.81,2,   41.81,2,    0.00,2,    2.93,2,   0.008,2,   0.000,2,   0.0000,2,  -999.0,9,  -999.0,9,-999.0000,9,  -999.00,9, -999.00,1,  -999.0,1, -999.00,9, -999.00,9,       38.4,2, 20220526,     1525,  29.9999, 173.9790,     2.1437,2,     -999.0,9,     -999.0,9,     -999.0,9,     -999.0,9,     0.0134,1,     4.7044,1,     -999.0,9,     -999.0,9,     -999.0,9
33RR20220430,        P02,      74,          2,         11,         11,2,20220526,       1425,    29.9999,   173.9791,       4599,  1961.3,2,   1.9602,2,  34.5986,2,  34.5969,2,     77.2,2,    77.2,2,  161.76,2,   40.97,2,    0.00,2,    2.86,2,-999.000,9,-999.000,9,-999.0000,9,  2371.1,2,  2411.7,2,   7.4371,2,    24.98,2, -999.00,1,  -999.0,1, -999.00,1, -999.00,1,     -999.0,9, 20220526,     1520,  29.9999, 173.9790,     1.9599,2,     -999.0,9,     -999.0,9,     -999.0,9,     -999.0,9,     0.0134,1,     4.7051,1,     -999.0,9,     -999.0,9,     -999.0,9
33RR20220430,        P02,      74,          2,         10,         10,2,20220526,       1425,    29.9999,   173.9791,       4599,  2195.5,2,   1.7934,2,  34.6207,2,  34.6191,2,     89.6,2,    89.3,2,  164.59,2,   40.15,2,    0.00,2,    2.80,2,-999.000,9,-999.000,9,-999.0000,9,  -999.0,9,  -999.0,9,-999.0000,9,  -999.00,9, -999.00,9,  -999.0,9, -999.00,9, -999.00,9,     -999.0,9, 20220526,     1515,  29.9999, 173.9790,     1.7938,2,     -999.0,9,     -999.0,9,     -999.0,9,     -999.0,9,     0.0129,1,     4.7047,1,     -999.0,9,     -999.0,9,     -999.0,9
33RR20220430,        P02,      74,          2,          9,          9,2,20220526,       1425,    29.9999,   173.9791,       4599,  2449.1,2,   1.6688,2,  34.6391,2,  34.6386,2,    105.0,2,   105.3,2,  162.05,2,   39.10,2,    0.00,2,    2.72,2,   0.005,2,   0.000,2,   0.0000,2,  2357.3,2,  2415.6,2,   7.4908,2,    24.99,2, -999.00,1,  -999.0,1, -999.00,1, -999.00,1,       28.6,2, 20220526,     1510,  29.9999, 173.9790,     1.6690,2,     -999.0,9,     -999.0,9,     -999.0,9,     -999.0,9,     0.0124,1,     4.7060,1,     -999.0,9,     -999.0,9,     -999.0,9
33RR20220430,        P02,      74,          2,          8,          8,2,20220526,       1425,    29.9999,   173.9791,       4599,  2703.9,2,   1.5992,2,  34.6503,2,  34.6492,2,    114.9,2,   115.4,2,  161.46,2,   38.46,2,    0.00,2,    2.68,2,-999.000,9,-999.000,9,-999.0000,9,  -999.0,9,  -999.0,9,-999.0000,9,  -999.00,9, -999.00,9,  -999.0,9, -999.00,9, -999.00,9,     -999.0,9, 20220526,     1505,  29.9999, 173.9790,     1.5987,2,     -999.0,9,     -999.0,9,     -999.0,9,     -999.0,9,     0.0130,1,     4.7056,1,     -999.0,9,     -999.0,9,     -999.0,9
33RR20220430,        P02,      74,          2,          7,          7,2,20220526,       1425,    29.9999,   173.9791,       4599,  2959.9,2,   1.5298,2,  34.6618,3,  34.6580,2,    126.4,2,   125.8,2,  158.63,2,   37.81,2,    0.00,2,    2.62,2,-999.000,9,-999.000,9,-999.0000,9,  2342.6,2,  2418.3,2,   7.5289,2,    25.02,2, -999.00,1,  -999.0,1, -999.00,1, -999.00,1,     -999.0,9, 20220526,     1500,  30.0000, 173.9791,     1.5303,2,     -999.0,9,     -999.0,9,     -999.0,9,     -999.0,9,     0.0122,1,     4.7059,1,     -999.0,9,     -999.0,9,     -999.0,9
33RR20220430,        P02,      74,          2,          6,          6,2,20220526,       1425,    29.9999,   173.9791,       4599,  3249.1,2,   1.4814,2,  34.6709,2,  34.6692,2,    136.3,2,   136.7,2,  157.16,2,   37.15,2,    0.00,2,    2.56,2,   0.005,2,   0.000,2,   0.0000,2,  -999.0,9,  -999.0,9,-999.0000,9,  -999.00,9, -999.00,9,  -999.0,9, -999.00,9, -999.00,9,       24.0,2, 20220526,     1454,  29.9999, 173.9791,     1.4813,2,     -999.0,9,     -999.0,9,     -999.0,9,     -999.0,9,     0.0133,1,     4.7067,1,     -999.0,9,     -999.0,9,     -999.0,9
33RR20220430,        P02,      74,          2,          5,          5,2,20220526,       1425,    29.9999,   173.9791,       4599,  3556.4,2,   1.4594,2,  34.6771,3,  34.6747,2,    143.5,2,   143.3,2,  154.04,2,   36.59,2,    0.00,2,    2.52,2,-999.000,9,-999.000,9,-999.0000,9,  2331.4,2,  2417.9,2,   7.5606,2,    24.97,2, -999.00,1,  -999.0,1, -999.00,1, -999.00,1,     -999.0,9, 20220526,     1448,  29.9999, 173.9791,     1.4590,2,     -999.0,9,     -999.0,9,     -999.0,9,     -999.0,9,     0.0122,1,     4.7069,1,     -999.0,9,     -999.0,9,     -999.0,9
33RR20220430,        P02,      74,          2,          4,          4,2,20220526,       1425,    29.9999,   173.9791,       4599,  3862.2,2,   1.4517,2,  34.6813,2,  34.6806,2,    149.0,2,   149.1,2,  152.28,2,   36.17,2,    0.00,2,    2.49,2,-999.000,9,-999.000,9,-999.0000,9,  2327.7,2,  2416.5,2,   7.5695,2,    24.97,2, -999.00,1,  -999.0,1, -999.00,9, -999.00,9,     -999.0,9, 20220526,     1442,  29.9999, 173.9790,     1.4515,2,     -999.0,9,     -999.0,9,     -999.0,9,     -999.0,9,     0.0122,1,     4.7072,1,     -999.0,9,     -999.0,9,     -999.0,9
33RR20220430,        P02,      74,          2,          3,          3,2,20220526,       1425,    29.9999,   173.9791,       4599,  4170.5,2,   1.4506,2,  34.6851,2,  34.6832,2,    154.2,2,   154.0,2,  150.03,2,   35.83,2,    0.00,2,    2.47,2,   0.007,2,   0.000,2,   0.0000,2,  2322.9,2,  2415.8,2,   7.5753,2,    25.01,2, -999.00,1,  -999.0,1, -999.00,1, -999.00,1,       21.9,2, 20220526,     1436,  29.9999, 173.9790,     1.4511,2,     -999.0,9,     -999.0,9,     -999.0,9,     -999.0,9,     0.0122,1,     4.7073,1,     -999.0,9,     -999.0,9,     -999.0,9
33RR20220430,        P02,      74,          2,          2,          2,2,20220526,       1425,    29.9999,   173.9791,       4599,  4553.7,2,   1.4585,2,  34.6885,3,  34.6861,2,    160.2,2,   161.0,2,  146.12,2,   35.41,2,    0.00,2,    2.42,2,-999.000,9,-999.000,9,-999.0000,9,  2317.9,6,  2412.9,2,   7.5849,2,    24.99,2, -999.00,1,  -999.0,1, -999.00,9, -999.00,9,     -999.0,9, 20220526,     1428,  29.9999, 173.9790,     1.4585,2,     -999.0,9,     -999.0,9,     -999.0,9,     -999.0,9,     0.0122,1,     4.7076,1,     -999.0,9,     -999.0,9,     -999.0,9