BOTTLE,20230801CCHSIOCBG
EXPOCODE,SECT_ID,STNNBR,CASTNO,SAMPNO,BTLNBR,BTLNBR_FLAG_W,DATE,TIME,LATITUDE,LONGITUDE,DEPTH,CTDPRS,CTDPRS_FLAG_W,CTDTMP,CTDTMP_FLAG_W,CTDSAL,CTDSAL_FLAG_W,SALNTY,SALNTY_FLAG_W,CTDOXY,CTDOXY_FLAG_W,OXYGEN,OXYGEN_FLAG_W,SILCAT,SILCAT_FLAG_W,NITRAT,NITRAT_FLAG_W,NITRIT,NITRIT_FLAG_W,PHSPHT,PHSPHT_FLAG_W,CFC-11,CFC-11_FLAG_W,CFC-12,CFC-12_FLAG_W,SF6,SF6_FLAG_W,TCARBN,TCARBN_FLAG_W,ALKALI,ALKALI_FLAG_W,PH_TOT,PH_TOT_FLAG_W,PH_TMP,PH_TMP_FLAG_W,DELC13,DELC13_FLAG_W,DELC14,DELC14_FLAG_W,DOC,DOC_FLAG_W,TDN,TDN_FLAG_W,N2O,N2O_FLAG_W,BTL_DATE,BTL_TIME,BTL_LAT,BTL_LON,REFTMP,REFTMP_FLAG_W,POC,POC_FLAG_W,PON,PON_FLAG_W,POP,POP_FLAG_W,PCOD,PCOD_FLAG_W,CTDFLUOR,CTDFLUOR_FLAG_W,CTDXMISS,CTDXMISS_FLAG_W,HPLC,HPLC_FLAG_W,DNA,DNA_FLAG_W,FCM,FCM_FLAG_W
,,,,,,,,,,,METERS,DBAR,,ITS-90,,PSS-78,,PSS-78,,UMOL/KG,,UMOL/KG,,UMOL/KG,,UMOL/KG,,UMOL/KG,,UMOL/KG,,PMOL/KG,,PMOL/KG,,FMOL/KG,,UMOL/KG,,UMOL/KG,,,,DEG C,,/MILLE,,/MILLE,,UMOL/KG,,UMOL/KG,,NMOL/KG,,,,,,ITS-90,,UG/L,,UG/L,,UG/L,,UG/L,,VOLTS,,VOLTS,,,,,,,
33RR20220430,        P02,      60,          1,          3,          3,2,20220522,       0954,    30.0000,   166.8343,       6123,  5303.6,2,   1.5054,2,  34.6931,2,  34.6942,2,    169.4,2,   169.4,2,  138.32,2,   34.55,2,    0.00,2,    2.39,2,   0.007,2,   0.000,2,   0.0000,2,  2308.6,2,  2403.0,2,   7.5931,2,    25.02,2, -999.00,9,  -999.0,9, -999.00,9, -999.00,9,       20.0,2, 20220522,     1010,  30.0001, 166.8344,     1.5054,2,     -999.0,9,     -999.0,9,     -999.0,9,     -999.0,9,     0.0122,1,     4.7082,1,     -999.0,9,     -999.0,9,     -999.0,9
33RR20220430,        P02,      60,          1,          2,          2,2,20220522,       0954,    30.0000,   166.8343,       6123,  5768.7,2,   1.5358,2,  34.6953,2,  34.6960,2,    173.2,2,   173.1,2,  135.00,2,   34.27,2,    0.00,2,    2.37,2,-999.000,9,-999.000,9,-999.0000,9,  2303.8,2,  2401.9,2,   7.5971,2,    25.01,2, -999.00,9,  -999.0,9, -999.00,9, -999.00,9,     -999.0,9, 20220522,     1001,  30.0001, 166.8344,     1.5360,2,     -999.0,9,     -999.0,9,     -999.0,9,     -999.0,9,     0.0122,1,     4.7062,1,     -999.0,9,     -999.0,9,     -999.0,9
33RR20220430,        P02,      60,          1,          1,          1,2,20220522,       0954,    30.0000,   166.8343,       6123,  6129.1,2,   1.5761,2,  34.6958,3,  34.6979,2,    174.7,2,   175.1,2,  134.12,2,   34.20,2,    0.00,2,    2.36,2,   0.008,2,   0.000,2,   0.0000,2,  2303.2,2,  2400.9,2,   7.5990,2,    25.00,2, -999.00,9,  -999.0,9, -999.00,9, -999.00,9,       19.9,2, 20220522,      954,  30.0001, 166.8344,     1.5763,2,     -999.0,9,     -999.0,9,     -999.0,9,     -999.0,9,     0.0122,1,     4.7044,1,     -999.0,9,     -999.0,9,     -999.0,9