BOTTLE,20230801CCHSIOCBG
EXPOCODE,SECT_ID,STNNBR,CASTNO,SAMPNO,BTLNBR,BTLNBR_FLAG_W,DATE,TIME,LATITUDE,LONGITUDE,DEPTH,CTDPRS,CTDPRS_FLAG_W,CTDTMP,CTDTMP_FLAG_W,CTDSAL,CTDSAL_FLAG_W,SALNTY,SALNTY_FLAG_W,CTDOXY,CTDOXY_FLAG_W,OXYGEN,OXYGEN_FLAG_W,SILCAT,SILCAT_FLAG_W,NITRAT,NITRAT_FLAG_W,NITRIT,NITRIT_FLAG_W,PHSPHT,PHSPHT_FLAG_W,CFC-11,CFC-11_FLAG_W,CFC-12,CFC-12_FLAG_W,SF6,SF6_FLAG_W,TCARBN,TCARBN_FLAG_W,ALKALI,ALKALI_FLAG_W,PH_TOT,PH_TOT_FLAG_W,PH_TMP,PH_TMP_FLAG_W,DELC13,DELC13_FLAG_W,DELC14,DELC14_FLAG_W,DOC,DOC_FLAG_W,TDN,TDN_FLAG_W,N2O,N2O_FLAG_W,BTL_DATE,BTL_TIME,BTL_LAT,BTL_LON,REFTMP,REFTMP_FLAG_W,POC,POC_FLAG_W,PON,PON_FLAG_W,POP,POP_FLAG_W,PCOD,PCOD_FLAG_W,CTDFLUOR,CTDFLUOR_FLAG_W,CTDXMISS,CTDXMISS_FLAG_W,HPLC,HPLC_FLAG_W,DNA,DNA_FLAG_W,FCM,FCM_FLAG_W
,,,,,,,,,,,METERS,DBAR,,ITS-90,,PSS-78,,PSS-78,,UMOL/KG,,UMOL/KG,,UMOL/KG,,UMOL/KG,,UMOL/KG,,UMOL/KG,,PMOL/KG,,PMOL/KG,,FMOL/KG,,UMOL/KG,,UMOL/KG,,,,DEG C,,/MILLE,,/MILLE,,UMOL/KG,,UMOL/KG,,NMOL/KG,,,,,,ITS-90,,UG/L,,UG/L,,UG/L,,UG/L,,VOLTS,,VOLTS,,,,,,,
33RR20220430,        P02,      14,          1,         30,         30,2,20220507,       1526,    30.0001,   136.4470,       4140,    11.8,2,  22.4384,2,  34.6928,2,-999.0000,9,    218.0,2,  -999.0,9, -999.00,9, -999.00,9, -999.00,9, -999.00,9,-999.000,9,-999.000,9,-999.0000,9,  -999.0,9,  -999.0,9,-999.0000,9,  -999.00,9, -999.00,9,  -999.0,9, -999.00,9, -999.00,9,     -999.0,9, 20220507,     1707,  30.0001, 136.4466,     -999.0,9,     -999.0,1,     -999.0,1,     -999.0,9,     -999.0,9,     0.0171,1,     4.6314,1,     -999.0,9,     -999.0,9,     -999.0,9
33RR20220430,        P02,      14,          1,         33,         33,2,20220507,       1526,    30.0001,   136.4470,       4140,    11.9,2,  22.4418,2,  34.6922,2,-999.0000,9,    217.9,2,  -999.0,9, -999.00,9, -999.00,9, -999.00,9, -999.00,9,-999.000,9,-999.000,9,-999.0000,9,  -999.0,9,  -999.0,9,-999.0000,9,  -999.00,9, -999.00,9,  -999.0,9, -999.00,9, -999.00,9,     -999.0,9, 20220507,     1708,  30.0001, 136.4468,    22.4404,2,     -999.0,9,     -999.0,9,     -999.0,1,     -999.0,9,     0.0186,1,     4.6326,1,     -999.0,9,     -999.0,9,     -999.0,9
33RR20220430,        P02,      14,          1,         32,         32,2,20220507,       1526,    30.0001,   136.4470,       4140,    11.9,2,  22.4370,2,  34.6928,2,-999.0000,9,    218.0,2,  -999.0,9, -999.00,9, -999.00,9, -999.00,9, -999.00,9,-999.000,9,-999.000,9,-999.0000,9,  -999.0,9,  -999.0,9,-999.0000,9,  -999.00,9, -999.00,9,  -999.0,9, -999.00,9, -999.00,9,     -999.0,9, 20220507,     1707,  30.0001, 136.4467,     -999.0,9,     -999.0,9,     -999.0,9,     -999.0,1,     -999.0,9,     0.0187,1,     4.6341,1,     -999.0,9,     -999.0,9,     -999.0,9
33RR20220430,        P02,      14,          1,         27,         27,2,20220507,       1526,    30.0001,   136.4470,       4140,    12.1,2,  22.4384,2,  34.6923,2,  34.6822,2,    217.9,2,   218.0,2,    1.66,2,    0.01,2,    0.00,2,    0.03,2,   1.722,2,   1.080,2,   2.0373,2,  1982.0,2,  2273.4,2,   8.0376,2,    25.02,2, -999.00,1,  -999.0,1, -999.00,1, -999.00,1,        7.1,2, 20220507,     1706,  30.0001, 136.4464,    22.4385,2,     -999.0,9,     -999.0,9,     -999.0,9,     -999.0,9,     0.0181,1,     4.6324,1,     -999.0,1,     -999.0,9,     -999.0,1
33RR20220430,        P02,      14,          1,         31,         31,2,20220507,       1526,    30.0001,   136.4470,       4140,    12.1,2,  22.4385,2,  34.6928,2,-999.0000,9,    218.0,2,  -999.0,9, -999.00,9, -999.00,9, -999.00,9, -999.00,9,-999.000,9,-999.000,9,-999.0000,9,  -999.0,9,  -999.0,9,-999.0000,9,  -999.00,9, -999.00,9,  -999.0,9, -999.00,9, -999.00,9,     -999.0,9, 20220507,     1707,  30.0001, 136.4466,    22.4394,2,     -999.0,9,     -999.0,9,     -999.0,1,     -999.0,9,     0.0171,1,     4.6342,1,     -999.0,9,     -999.0,9,     -999.0,9
33RR20220430,        P02,      14,          1,         36,         36,2,20220507,       1526,    30.0001,   136.4470,       4140,    12.2,2,  22.4375,2,  34.6926,2,-999.0000,9,    218.0,2,  -999.0,9, -999.00,9, -999.00,9, -999.00,9, -999.00,9,-999.000,9,-999.000,9,-999.0000,9,  -999.0,9,  -999.0,9,-999.0000,9,  -999.00,9, -999.00,9,  -999.0,9, -999.00,9, -999.00,9,     -999.0,9, 20220507,     1708,  30.0001, 136.4470,     -999.0,9,     -999.0,9,     -999.0,9,     -999.0,9,     -999.0,1,     0.0174,1,     4.6329,1,     -999.0,9,     -999.0,9,     -999.0,9
33RR20220430,        P02,      14,          1,         35,         35,2,20220507,       1526,    30.0001,   136.4470,       4140,    12.2,2,  22.4383,2,  34.6925,2,-999.0000,9,    218.0,2,  -999.0,9, -999.00,9, -999.00,9, -999.00,9, -999.00,9,-999.000,9,-999.000,9,-999.0000,9,  -999.0,9,  -999.0,9,-999.0000,9,  -999.00,9, -999.00,9,  -999.0,9, -999.00,9, -999.00,9,     -999.0,9, 20220507,     1708,  30.0001, 136.4469,    22.4382,2,     -999.0,9,     -999.0,9,     -999.0,9,     -999.0,1,     0.0179,1,     4.6318,1,     -999.0,9,     -999.0,9,     -999.0,9
33RR20220430,        P02,      14,          1,         28,         28,2,20220507,       1526,    30.0001,   136.4470,       4140,    12.5,2,  22.4397,2,  34.6925,2,-999.0000,9,    218.0,2,  -999.0,9, -999.00,9, -999.00,9, -999.00,9, -999.00,9,-999.000,9,-999.000,9,-999.0000,9,  -999.0,9,  -999.0,9,-999.0000,9,  -999.00,9, -999.00,9,  -999.0,9, -999.00,9, -999.00,9,     -999.0,9, 20220507,     1706,  30.0001, 136.4465,     -999.0,9,     -999.0,9,     -999.0,9,     -999.0,9,     -999.0,9,     0.0171,1,     4.6337,1,     -999.0,9,     -999.0,1,     -999.0,9
33RR20220430,        P02,      14,          1,         34,         34,2,20220507,       1526,    30.0001,   136.4470,       4140,    12.6,2,  22.4368,2,  34.6927,2,-999.0000,9,    218.0,2,  -999.0,9, -999.00,9, -999.00,9, -999.00,9, -999.00,9,-999.000,9,-999.000,9,-999.0000,9,  -999.0,9,  -999.0,9,-999.0000,9,  -999.00,9, -999.00,9,  -999.0,9, -999.00,9, -999.00,9,     -999.0,9, 20220507,     1708,  30.0001, 136.4468,     -999.0,9,     -999.0,9,     -999.0,9,     -999.0,9,     -999.0,1,     0.0171,1,     4.6336,1,     -999.0,9,     -999.0,9,     -999.0,9
33RR20220430,        P02,      14,          1,         29,         29,2,20220507,       1526,    30.0001,   136.4470,       4140,    12.7,2,  22.4360,2,  34.6931,2,-999.0000,9,    218.0,2,  -999.0,9, -999.00,9, -999.00,9, -999.00,9, -999.00,9,-999.000,9,-999.000,9,-999.0000,9,  -999.0,9,  -999.0,9,-999.0000,9,  -999.00,9, -999.00,9,  -999.0,9, -999.00,9, -999.00,9,     -999.0,9, 20220507,     1707,  30.0001, 136.4465,    22.4373,2,     -999.0,1,     -999.0,1,     -999.0,9,     -999.0,9,     0.0165,1,     4.6338,1,     -999.0,9,     -999.0,9,     -999.0,9
33RR20220430,        P02,      14,          1,         26,         26,2,20220507,       1526,    30.0001,   136.4470,       4140,    46.4,2,  22.3962,2,  34.6911,2,  34.6810,2,    217.9,2,   218.3,2,    1.66,2,    0.00,2,    0.00,2,    0.00,2,   1.722,2,   1.087,2,   1.9666,2,  1984.0,2,  2275.9,2,   8.0378,2,    25.00,2, -999.00,1,  -999.0,1, -999.00,1, -999.00,1,        7.3,2, 20220507,     1703,  30.0001, 136.4457,    22.3950,2,     -999.0,9,     -999.0,9,     -999.0,9,     -999.0,9,     0.0204,1,     4.6247,1,     -999.0,1,     -999.0,9,     -999.0,1
33RR20220430,        P02,      14,          1,         25,         25,2,20220507,       1526,    30.0001,   136.4470,       4140,    95.3,2,  21.4662,2,  34.6829,2,  34.6712,2,    196.5,2,   196.2,2,    2.74,2,    2.19,2,    0.07,2,    0.06,2,   1.801,2,   1.125,2,   1.8572,2,  2010.0,2,  2275.1,2,   7.9902,2,    25.03,2, -999.00,1,  -999.0,1, -999.00,1, -999.00,1,        9.2,2, 20220507,     1701,  30.0001, 136.4450,    21.4684,2,     -999.0,9,     -999.0,9,     -999.0,9,     -999.0,9,     0.0250,1,     4.6506,1,     -999.0,1,     -999.0,9,     -999.0,1
33RR20220430,        P02,      14,          1,         24,         24,2,20220507,       1526,    30.0001,   136.4470,       4140,    95.3,2,  21.4659,2,  34.6828,2,-999.0000,9,    196.5,2,  -999.0,9, -999.00,9, -999.00,9, -999.00,9, -999.00,9,-999.000,9,-999.000,9,-999.0000,9,  -999.0,9,  -999.0,9,-999.0000,9,  -999.00,9, -999.00,9,  -999.0,9, -999.00,9, -999.00,9,     -999.0,9, 20220507,     1701,  30.0001, 136.4450,    21.4678,2,     -999.0,9,     -999.0,9,     -999.0,9,     -999.0,9,     0.0238,1,     4.6496,1,     -999.0,9,     -999.0,1,     -999.0,9
33RR20220430,        P02,      14,          1,         23,         23,2,20220507,       1526,    30.0001,   136.4470,       4140,   138.4,2,  20.2882,2,  34.7423,2,  34.7298,2,    211.3,2,   210.8,2,    2.25,2,    1.22,2,    0.10,2,    0.06,2,   1.909,2,   1.173,2,   1.8903,2,  2012.1,2,  2279.2,2,   7.9940,2,    25.02,2, -999.00,1,  -999.0,1, -999.00,1, -999.00,1,        8.8,2, 20220507,     1659,  30.0001, 136.4445,    20.2925,2,     -999.0,9,     -999.0,9,     -999.0,9,     -999.0,9,     0.0244,1,     4.6640,1,     -999.0,9,     -999.0,9,     -999.0,1
33RR20220430,        P02,      14,          1,         22,         22,2,20220507,       1526,    30.0001,   136.4470,       4140,   188.0,2,  19.3092,2,  34.7367,2,  34.7307,2,    187.7,3,   189.9,2,    5.27,2,    4.33,2,    0.01,2,    0.21,2,   2.013,2,   1.220,2,   1.7981,2,  2041.1,2,  2286.3,2,   7.9403,2,    25.02,2, -999.00,1,  -999.0,1, -999.00,1, -999.00,1,       10.8,2, 20220507,     1657,  30.0001, 136.4440,    19.2904,2,     -999.0,9,     -999.0,9,     -999.0,9,     -999.0,9,     0.0126,1,     4.6849,1,     -999.0,9,     -999.0,9,     -999.0,9
33RR20220430,        P02,      14,          1,         21,         21,2,20220507,       1526,    30.0001,   136.4470,       4140,   188.8,2,  19.2727,2,  34.7390,2,-999.0000,9,    186.9,2,  -999.0,9, -999.00,9, -999.00,9, -999.00,9, -999.00,9,-999.000,9,-999.000,9,-999.0000,9,  -999.0,9,  -999.0,9,-999.0000,9,  -999.00,9, -999.00,9,  -999.0,9, -999.00,9, -999.00,9,     -999.0,9, 20220507,     1657,  30.0001, 136.4439,    19.2881,2,     -999.0,9,     -999.0,9,     -999.0,9,     -999.0,9,     0.0131,1,     4.6857,1,     -999.0,9,     -999.0,1,     -999.0,1
33RR20220430,        P02,      14,          1,         20,         20,2,20220507,       1526,    30.0001,   136.4470,       4140,   290.6,2,  16.4356,2,  34.6444,2,  34.6374,2,    178.5,2,   178.7,2,   11.72,2,    8.91,2,    0.00,2,    0.50,2,   2.198,2,   1.358,2,   1.6070,2,  2078.9,2,  2281.6,2,   7.8637,2,    25.02,2, -999.00,1,  -999.0,1, -999.00,1, -999.00,1,       14.5,2, 20220507,     1654,  30.0001, 136.4433,    16.4169,2,     -999.0,9,     -999.0,9,     -999.0,9,     -999.0,9,     0.0122,1,     4.6875,1,     -999.0,9,     -999.0,9,     -999.0,9
33RR20220430,        P02,      14,          1,         19,         19,2,20220507,       1526,    30.0001,   136.4470,       4140,   391.9,2,  12.8603,2,  34.4247,2,  34.4196,2,    174.4,2,   174.6,2,   17.98,2,   14.60,2,    0.00,2,    0.90,2,   2.557,2,   1.449,2,   1.1742,2,  2113.1,2,  2272.6,2,   7.7721,2,    25.02,2, -999.00,1,  -999.0,1, -999.00,1, -999.00,1,       18.4,2, 20220507,     1651,  30.0001, 136.4426,    12.8601,2,     -999.0,9,     -999.0,9,     -999.0,9,     -999.0,9,     0.0122,1,     4.6984,1,     -999.0,9,     -999.0,9,     -999.0,1
33RR20220430,        P02,      14,          1,         18,         18,2,20220507,       1526,    30.0001,   136.4470,       4140,   573.1,2,   7.5574,2,  34.2555,2,  34.2552,2,    113.7,2,   114.2,2,   64.40,2,   29.57,2,    0.00,2,    2.00,2,   1.597,2,   0.899,2,   0.7054,2,  2229.6,2,  2303.5,2,   7.5465,2,    25.01,2, -999.00,1,  -999.0,1, -999.00,1, -999.00,1,       32.1,2, 20220507,     1647,  30.0001, 136.4415,     7.5221,3,     -999.0,9,     -999.0,9,     -999.0,9,     -999.0,9,     0.0134,1,     4.6918,1,     -999.0,9,     -999.0,9,     -999.0,1
33RR20220430,        P02,      14,          1,         17,         17,2,20220507,       1526,    30.0001,   136.4470,       4140,   673.1,2,   5.6195,2,  34.2535,2,  34.2513,2,     85.3,2,    85.0,2,   86.68,2,   35.41,2,    0.00,2,    2.44,2,   1.050,2,   0.583,2,   0.5047,2,  2277.2,2,  2325.5,2,   7.4576,2,    25.02,2, -999.00,1,  -999.0,1, -999.00,1, -999.00,1,       38.6,2, 20220507,     1644,  30.0001, 136.4408,     5.6148,2,     -999.0,9,     -999.0,9,     -999.0,9,     -999.0,9,     0.0134,1,     4.6955,1,     -999.0,9,     -999.0,9,     -999.0,9
33RR20220430,        P02,      14,          1,         16,         16,2,20220507,       1526,    30.0001,   136.4470,       4140,   780.7,2,   4.5637,2,  34.2768,2,  34.2742,2,     67.4,2,    66.9,2,  102.90,2,   38.84,2,    0.00,2,    2.68,2,-999.000,5,-999.000,5,-999.0000,5,  2308.9,2,  2338.4,2,   7.4085,2,    25.02,2, -999.00,1,  -999.0,1, -999.00,1, -999.00,1,     -999.0,5, 20220507,     1641,  30.0001, 136.4401,     4.5628,2,     -999.0,9,     -999.0,9,     -999.0,9,     -999.0,9,     0.0134,1,     4.7049,1,     -999.0,9,     -999.0,9,     -999.0,9
33RR20220430,        P02,      14,          1,         14,         14,2,20220507,       1526,    30.0001,   136.4470,       4140,  1031.7,2,   3.5520,2,  34.4049,2,-999.0000,9,     62.4,2,  -999.0,9, -999.00,9, -999.00,9, -999.00,9, -999.00,9,-999.000,9,-999.000,9,-999.0000,9,  -999.0,9,  -999.0,9,-999.0000,9,  -999.00,9, -999.00,9,  -999.0,9, -999.00,9, -999.00,9,     -999.0,9, 20220507,     1636,  30.0001, 136.4386,     3.5512,2,     -999.0,9,     -999.0,9,     -999.0,9,     -999.0,9,     0.0134,1,     4.7032,1,     -999.0,9,     -999.0,1,     -999.0,1
33RR20220430,        P02,      14,          1,         15,         15,2,20220507,       1526,    30.0001,   136.4470,       4140,  1032.8,2,   3.5517,2,  34.4051,2,  34.4037,2,     62.4,3,    63.7,2,  126.63,2,   40.49,2,    0.00,2,    2.80,2,-999.000,5,-999.000,5,-999.0000,5,  2339.9,2,  2367.1,2,   7.4014,2,    25.02,2, -999.00,1,  -999.0,1, -999.00,1, -999.00,1,     -999.0,5, 20220507,     1636,  30.0001, 136.4387,     3.5511,2,     -999.0,9,     -999.0,9,     -999.0,9,     -999.0,9,     0.0134,1,     4.7032,1,     -999.0,9,     -999.0,9,     -999.0,9
33RR20220430,        P02,      14,          1,         13,         13,2,20220507,       1526,    30.0001,   136.4470,       4140,  1202.1,2,   3.0278,2,  34.4642,2,  34.4630,2,     66.2,2,    66.5,2,  133.46,2,   40.79,2,    0.00,2,    2.84,2,   0.184,2,   0.084,2,   0.0000,2,  2347.9,6,  2379.8,2,   7.4134,2,    25.10,2, -999.00,1,  -999.0,1, -999.00,1, -999.00,1,       39.3,2, 20220507,     1631,  30.0001, 136.4376,     3.0272,2,     -999.0,9,     -999.0,9,     -999.0,9,     -999.0,9,     0.0134,1,     4.7037,1,     -999.0,9,     -999.0,9,     -999.0,9
33RR20220430,        P02,      14,          1,         12,         12,2,20220507,       1526,    30.0001,   136.4470,       4140,  1392.6,2,   2.6613,2,  34.5086,2,  34.5070,2,     73.6,2,    74.0,2,  140.49,2,   40.80,2,    0.00,2,    2.83,2,   0.111,2,-999.000,5,-999.0000,5,  2351.8,2,  2389.2,2,   7.4285,2,    25.01,2, -999.00,1,  -999.0,1, -999.00,1, -999.00,1,       35.7,2, 20220507,     1627,  30.0001, 136.4365,     2.6620,2,     -999.0,9,     -999.0,9,     -999.0,9,     -999.0,9,     0.0134,1,     4.7045,1,     -999.0,9,     -999.0,9,     -999.0,9
33RR20220430,        P02,      14,          1,         11,         11,2,20220507,       1526,    30.0001,   136.4470,       4140,  1590.1,2,   2.4429,2,  34.5375,2,  34.5360,2,     80.9,2,    80.8,2,  144.30,2,   40.29,2,    0.00,2,    2.81,2,-999.000,5,-999.000,5,-999.0000,5,  2352.7,2,  2394.7,2,   7.4426,2,    25.02,2, -999.00,1,  -999.0,1, -999.00,1, -999.00,1,     -999.0,5, 20220507,     1622,  30.0001, 136.4352,     2.4425,2,     -999.0,9,     -999.0,9,     -999.0,9,     -999.0,9,     0.0134,1,     4.7065,1,     -999.0,9,     -999.0,9,     -999.0,9
33RR20220430,        P02,      14,          1,         10,         10,2,20220507,       1526,    30.0001,   136.4470,       4140,  1806.1,2,   2.1995,2,  34.5724,2,  34.5718,2,     93.5,2,    93.9,2,  145.96,2,   39.93,2,    0.00,2,    2.76,2,-999.000,9,-999.000,9,-999.0000,9,  2348.2,2,  2401.3,2,   7.4676,2,    25.02,2, -999.00,1,  -999.0,1, -999.00,1, -999.00,1,     -999.0,9, 20220507,     1617,  30.0001, 136.4339,     2.1989,2,     -999.0,9,     -999.0,9,     -999.0,9,     -999.0,9,     0.0133,1,     4.7079,1,     -999.0,9,     -999.0,9,     -999.0,9
33RR20220430,        P02,      14,          1,          9,          9,2,20220507,       1526,    30.0001,   136.4470,       4140,  1964.0,2,   2.0450,2,  34.5951,2,  34.5936,2,    103.2,2,   103.2,2,  145.96,2,   39.17,2,    0.00,2,    2.71,2,-999.000,5,-999.000,5,-999.0000,5,  2343.9,2,  2404.8,2,   7.4872,2,    25.03,2, -999.00,1,  -999.0,1, -999.00,1, -999.00,1,       30.2,2, 20220507,     1613,  30.0001, 136.4329,     2.0444,2,     -999.0,9,     -999.0,9,     -999.0,9,     -999.0,9,     0.0122,1,     4.7081,1,     -999.0,9,     -999.0,9,     -999.0,9
33RR20220430,        P02,      14,          1,          8,          8,2,20220507,       1526,    30.0001,   136.4470,       4140,  2207.0,2,   1.8764,2,  34.6210,2,  34.6209,2,    116.2,2,   115.9,2,  146.64,2,   38.41,2,    0.00,2,    2.65,2,-999.000,9,-999.000,9,-999.0000,9,  2337.1,2,  2407.9,2,   7.5109,2,    25.01,2, -999.00,9,  -999.0,9, -999.00,1, -999.00,1,     -999.0,9, 20220507,     1608,  30.0001, 136.4316,     1.8765,2,     -999.0,9,     -999.0,9,     -999.0,9,     -999.0,9,     0.0122,1,     4.7093,1,     -999.0,9,     -999.0,9,     -999.0,9
33RR20220430,        P02,      14,          1,          7,          7,2,20220507,       1526,    30.0001,   136.4470,       4140,  2451.6,2,   1.7382,2,  34.6415,2,  34.6398,2,    127.5,2,   127.5,2,  145.46,2,   37.82,2,    0.00,2,    2.58,2,   0.009,2,   0.006,2,   0.0000,2,  2334.1,2,  2410.2,2,   7.5316,2,    25.02,2, -999.00,1,  -999.0,1, -999.00,1, -999.00,1,       24.9,2, 20220507,     1602,  30.0001, 136.4302,     1.7383,2,     -999.0,9,     -999.0,9,     -999.0,9,     -999.0,9,     0.0125,1,     4.7097,1,     -999.0,9,     -999.0,9,     -999.0,9
33RR20220430,        P02,      14,          1,          6,          6,2,20220507,       1526,    30.0001,   136.4470,       4140,  2700.5,2,   1.6392,2,  34.6562,3,  34.6537,2,    136.3,2,   136.5,2,  144.78,2,   37.16,2,    0.00,2,    2.53,2,-999.000,9,-999.000,9,-999.0000,9,  2332.7,2,  2411.7,2,   7.5477,2,    25.02,2, -999.00,1,  -999.0,1, -999.00,1, -999.00,1,     -999.0,9, 20220507,     1557,  30.0001, 136.4288,     1.6397,2,     -999.0,9,     -999.0,9,     -999.0,9,     -999.0,9,     0.0131,1,     4.7105,1,     -999.0,9,     -999.0,9,     -999.0,9
33RR20220430,        P02,      14,          1,          5,          5,2,20220507,       1526,    30.0001,   136.4470,       4140,  2952.9,2,   1.5723,2,  34.6664,2,  34.6655,2,    143.1,2,   143.5,2,  144.97,2,   36.89,2,    0.00,2,    2.51,2,   0.008,2,   0.005,2,   0.0000,2,  2329.5,2,  2412.4,2,   7.5583,2,    25.02,2, -999.00,1,  -999.0,1, -999.00,1, -999.00,1,       21.7,2, 20220507,     1551,  30.0001, 136.4274,     1.5724,2,     -999.0,9,     -999.0,9,     -999.0,9,     -999.0,9,     0.0122,1,     4.7100,1,     -999.0,9,     -999.0,9,     -999.0,9
33RR20220430,        P02,      14,          1,          4,          4,2,20220507,       1526,    30.0001,   136.4470,       4140,  3242.9,2,   1.5250,2,  34.6749,2,  34.6745,2,    148.9,2,   148.9,2,  141.55,2,   36.27,2,    0.00,2,    2.48,2,-999.000,9,-999.000,9,-999.0000,9,  2321.4,2,  2413.2,2,   7.5727,2,    25.03,2, -999.00,1,  -999.0,1, -999.00,1, -999.00,1,     -999.0,9, 20220507,     1545,  30.0001, 136.4258,     1.5252,2,     -999.0,9,     -999.0,9,     -999.0,9,     -999.0,9,     0.0125,1,     4.7089,1,     -999.0,9,     -999.0,9,     -999.0,9