BOTTLE,20230801CCHSIOCBG
EXPOCODE,SECT_ID,STNNBR,CASTNO,SAMPNO,BTLNBR,BTLNBR_FLAG_W,DATE,TIME,LATITUDE,LONGITUDE,DEPTH,CTDPRS,CTDPRS_FLAG_W,CTDTMP,CTDTMP_FLAG_W,CTDSAL,CTDSAL_FLAG_W,SALNTY,SALNTY_FLAG_W,CTDOXY,CTDOXY_FLAG_W,OXYGEN,OXYGEN_FLAG_W,SILCAT,SILCAT_FLAG_W,NITRAT,NITRAT_FLAG_W,NITRIT,NITRIT_FLAG_W,PHSPHT,PHSPHT_FLAG_W,CFC-11,CFC-11_FLAG_W,CFC-12,CFC-12_FLAG_W,SF6,SF6_FLAG_W,TCARBN,TCARBN_FLAG_W,ALKALI,ALKALI_FLAG_W,PH_TOT,PH_TOT_FLAG_W,PH_TMP,PH_TMP_FLAG_W,DELC13,DELC13_FLAG_W,DELC14,DELC14_FLAG_W,DOC,DOC_FLAG_W,TDN,TDN_FLAG_W,N2O,N2O_FLAG_W,BTL_DATE,BTL_TIME,BTL_LAT,BTL_LON,REFTMP,REFTMP_FLAG_W,POC,POC_FLAG_W,PON,PON_FLAG_W,POP,POP_FLAG_W,PCOD,PCOD_FLAG_W,CTDFLUOR,CTDFLUOR_FLAG_W,CTDXMISS,CTDXMISS_FLAG_W,HPLC,HPLC_FLAG_W,DNA,DNA_FLAG_W,FCM,FCM_FLAG_W
,,,,,,,,,,,METERS,DBAR,,ITS-90,,PSS-78,,PSS-78,,UMOL/KG,,UMOL/KG,,UMOL/KG,,UMOL/KG,,UMOL/KG,,UMOL/KG,,PMOL/KG,,PMOL/KG,,FMOL/KG,,UMOL/KG,,UMOL/KG,,,,DEG C,,/MILLE,,/MILLE,,UMOL/KG,,UMOL/KG,,NMOL/KG,,,,,,ITS-90,,UG/L,,UG/L,,UG/L,,UG/L,,VOLTS,,VOLTS,,,,,,,
33RR20220430,        P02,     102,          1,         36,         36,2,20220603,       2029,    30.0000,  -169.8666,       5449,    16.2,2,  22.4149,2,  35.1034,2,  35.0972,2,    221.1,2,   220.6,2,    1.27,2,    0.00,2,    0.00,2,    0.00,2,   1.705,2,   1.090,2,   2.1083,2,  2018.1,2,  2303.2,2,   8.0155,2,    24.98,2, -999.00,1,  -999.0,1, -999.00,1, -999.00,1,        7.3,2, 20220603,     2238,  30.0000,-169.8666,    22.4356,2,     -999.0,9,     -999.0,9,     -999.0,9,     -999.0,9,     0.0129,1,     4.6323,1,     -999.0,9,     -999.0,9,     -999.0,9
33RR20220430,        P02,     102,          1,         35,         35,2,20220603,       2029,    30.0000,  -169.8666,       5449,    50.7,2,  20.0999,2,  35.0205,2,  35.0057,2,    227.8,2,   227.1,2,    1.66,2,    0.00,2,    0.00,2,    0.02,2,   1.842,2,   1.226,2,   2.1056,2,  2027.8,6,  2295.9,2,   7.9919,2,    24.99,2, -999.00,1,  -999.0,1, -999.00,1, -999.00,1,        8.2,2, 20220603,     2234,  30.0000,-169.8666,    20.0989,2,     -999.0,9,     -999.0,9,     -999.0,9,     -999.0,9,     0.0147,1,     4.6345,1,     -999.0,9,     -999.0,9,     -999.0,9
33RR20220430,        P02,     102,          1,         34,         34,2,20220603,       2029,    30.0000,  -169.8666,       5449,    75.4,2,  19.1116,2,  34.9292,2,  34.9191,2,    224.6,2,   224.7,2,    2.15,2,    0.00,2,    0.00,2,    0.03,2,   1.881,2,   1.257,2,   2.0515,2,  2032.1,2,  2291.2,2,   7.9737,2,    25.00,2, -999.00,1,  -999.0,1, -999.00,1, -999.00,1,        8.4,2, 20220603,     2232,  30.0000,-169.8666,    19.1134,2,     -999.0,9,     -999.0,9,     -999.0,9,     -999.0,9,     0.0266,1,     4.6272,1,     -999.0,9,     -999.0,9,     -999.0,9
33RR20220430,        P02,     102,          1,         33,         33,2,20220603,       2029,    30.0000,  -169.8666,       5449,   101.1,2,  18.3973,2,  34.8265,2,  34.8119,2,    226.9,2,   228.0,2,    2.34,2,    0.00,2,    0.03,2,    0.05,2,   1.975,2,   1.264,2,   2.1563,2,  2032.7,2,  2286.1,2,   7.9618,2,    24.98,2, -999.00,1,  -999.0,1, -999.00,1, -999.00,1,        8.6,2, 20220603,     2230,  29.9999,-169.8666,    18.3951,2,     -999.0,9,     -999.0,9,     -999.0,9,     -999.0,9,     0.0414,1,     4.6358,1,     -999.0,9,     -999.0,9,     -999.0,9
33RR20220430,        P02,     102,          1,         32,         32,2,20220603,       2029,    30.0000,  -169.8666,       5449,   151.0,2,  16.9955,2,  34.6658,2,  34.6563,2,    224.8,2,   224.6,2,    3.13,2,    1.63,2,    0.03,2,    0.17,2,   2.111,6,   1.353,6,   2.2233,6,  2041.7,2,  2274.6,2,   7.9297,2,    24.99,2, -999.00,1,  -999.0,1, -999.00,1, -999.00,1,        9.4,6, 20220603,     2228,  30.0000,-169.8666,    16.9914,2,     -999.0,9,     -999.0,9,     -999.0,9,     -999.0,9,     0.0183,1,     4.6750,1,     -999.0,9,     -999.0,9,     -999.0,9
33RR20220430,        P02,     102,          1,         31,         31,2,20220603,       2029,    30.0000,  -169.8666,       5449,   201.6,2,  15.9555,2,  34.5877,2,  34.5722,2,    215.4,2,   216.5,2,    4.69,2,    4.02,2,    0.01,2,    0.32,2,   2.202,2,   1.409,2,   2.2511,2,  2058.1,2,  2271.3,2,   7.8946,2,    25.00,2, -999.00,1,  -999.0,1, -999.00,1, -999.00,1,       11.0,2, 20220603,     2226,  30.0000,-169.8666,    15.9509,2,     -999.0,9,     -999.0,9,     -999.0,9,     -999.0,9,     0.0142,1,     4.6834,1,     -999.0,9,     -999.0,9,     -999.0,9
33RR20220430,        P02,     102,          1,         29,         29,2,20220603,       2029,    30.0000,  -169.8666,       5449,   252.1,2,  14.4106,2,  34.4727,2,  34.4608,2,    212.7,2,   212.4,2,    7.33,2,    7.17,2,    0.00,2,    0.53,2,   2.389,2,   1.508,2,   2.2462,2,  2072.2,2,  2265.3,2,   7.8505,2,    24.99,2, -999.00,1,  -999.0,1, -999.00,1, -999.00,1,       12.8,2, 20220603,     2224,  30.0000,-169.8665,    14.4181,2,     -999.0,9,     -999.0,9,     -999.0,9,     -999.0,9,     0.0122,1,     4.6885,1,     -999.0,9,     -999.0,9,     -999.0,9
33RR20220430,        P02,     102,          1,         28,         28,2,20220603,       2029,    30.0000,  -169.8666,       5449,   302.0,2,  13.2258,2,  34.3748,2,  34.3619,2,    214.5,2,   215.0,2,    9.77,2,    9.23,2,    0.00,2,    0.66,2,   2.473,2,   1.641,2,   2.1955,2,  -999.0,9,  -999.0,9,-999.0000,9,  -999.00,9, -999.00,1,  -999.0,1, -999.00,1, -999.00,1,       14.4,2, 20220603,     2222,  30.0000,-169.8665,    13.2227,2,     -999.0,9,     -999.0,9,     -999.0,9,     -999.0,9,     0.0122,1,     4.6915,1,     -999.0,9,     -999.0,9,     -999.0,9
33RR20220430,        P02,     102,          1,         27,         27,2,20220603,       2029,    30.0000,  -169.8666,       5449,   353.7,2,  12.0479,2,  34.2832,2,  34.2723,2,    211.4,2,   211.3,2,   12.80,2,   11.68,2,    0.00,2,    0.83,2,   2.657,2,   1.653,2,   2.0224,2,  2095.2,2,  2262.2,2,   7.7868,2,    25.00,2, -999.00,1,  -999.0,1, -999.00,1, -999.00,1,       15.6,2, 20220603,     2221,  30.0000,-169.8665,    12.0407,2,     -999.0,9,     -999.0,9,     -999.0,9,     -999.0,9,     0.0122,1,     4.6936,1,     -999.0,9,     -999.0,9,     -999.0,9
33RR20220430,        P02,     102,          1,         26,         26,2,20220603,       2029,    30.0000,  -169.8666,       5449,   403.2,2,  10.9549,2,  34.2026,2,  34.1940,2,    204.7,2,   205.2,2,   16.90,2,   14.46,2,    0.00,2,    1.02,2,   2.734,2,   1.704,2,   1.9756,2,  -999.0,9,  -999.0,9,-999.0000,9,  -999.00,9, -999.00,1,  -999.0,1, -999.00,1, -999.00,1,       17.6,2, 20220603,     2219,  30.0000,-169.8665,    10.9479,2,     -999.0,9,     -999.0,9,     -999.0,9,     -999.0,9,     0.0122,1,     4.6954,1,     -999.0,9,     -999.0,9,     -999.0,9
33RR20220430,        P02,     102,          1,         25,         25,2,20220603,       2029,    30.0000,  -169.8666,       5449,   505.2,2,   8.9576,2,  34.0766,2,  34.0737,2,    182.6,2,   182.5,2,   28.44,2,   20.46,2,    0.00,2,    1.44,2,   2.754,2,   1.676,2,   1.7343,2,  2150.1,2,  2265.7,2,   7.6615,2,    25.00,2, -999.00,1,  -999.0,1, -999.00,1, -999.00,1,       22.3,2, 20220603,     2216,  30.0000,-169.8666,     8.9550,2,     -999.0,9,     -999.0,9,     -999.0,9,     -999.0,9,     0.0122,1,     4.6972,1,     -999.0,9,     -999.0,9,     -999.0,9
33RR20220430,        P02,     102,          1,         24,         24,2,20220603,       2029,    30.0000,  -169.8666,       5449,   606.6,2,   6.9645,2,  34.0190,2,  34.0168,2,    132.1,3,   130.2,2,   50.13,2,   29.26,2,    0.00,2,    2.06,2,   2.247,2,   1.388,2,   0.8507,2,  2212.0,2,  2279.1,2,   7.5223,2,    25.00,2, -999.00,1,  -999.0,1, -999.00,9, -999.00,9,       30.5,2, 20220603,     2213,  30.0000,-169.8665,     6.9634,2,     -999.0,9,     -999.0,9,     -999.0,9,     -999.0,9,     0.0134,1,     4.6987,1,     -999.0,9,     -999.0,9,     -999.0,9
33RR20220430,        P02,     102,          1,         23,         23,2,20220603,       2029,    30.0000,  -169.8666,       5449,   706.8,2,   5.3856,2,  34.0460,2,  34.0456,2,     80.9,2,    80.8,2,   74.66,2,   36.45,2,    0.00,2,    2.59,2,   1.456,2,   0.865,2,   0.4313,2,  2271.2,2,  2300.0,2,   7.4044,2,    25.01,2, -999.00,1,  -999.0,1, -999.00,1, -999.00,1,       39.8,2, 20220603,     2211,  30.0000,-169.8666,     5.3850,2,     -999.0,9,     -999.0,9,     -999.0,9,     -999.0,9,     0.0134,1,     4.6992,1,     -999.0,9,     -999.0,9,     -999.0,9
33RR20220430,        P02,     102,          1,         22,         22,2,20220603,       2029,    30.0000,  -169.8666,       5449,   807.9,2,   4.6286,2,  34.1278,2,  34.1297,2,     46.3,2,    46.1,2,   93.12,2,   40.50,2,    0.00,2,    2.87,2,   0.726,2,   0.434,2,   0.1121,2,  -999.0,9,  -999.0,9,-999.0000,9,  -999.00,9, -999.00,1,  -999.0,1, -999.00,9, -999.00,9,       47.8,2, 20220603,     2208,  29.9999,-169.8666,     4.6306,2,     -999.0,9,     -999.0,9,     -999.0,9,     -999.0,9,     0.0134,1,     4.6997,1,     -999.0,9,     -999.0,9,     -999.0,9
33RR20220430,        P02,     102,          1,         21,         21,2,20220603,       2029,    30.0000,  -169.8666,       5449,   908.6,2,   4.0942,2,  34.2155,2,  34.2158,2,     26.9,2,    27.1,2,  108.75,2,   42.95,2,    0.00,2,    3.02,2,   0.311,2,   0.190,2,   0.0000,2,  2339.1,2,  2337.2,2,   7.3132,2,    25.00,2, -999.00,1,  -999.0,1, -999.00,1, -999.00,1,       54.3,2, 20220603,     2205,  30.0000,-169.8666,     4.0941,2,     -999.0,9,     -999.0,9,     -999.0,9,     -999.0,9,     0.0134,1,     4.7002,1,     -999.0,9,     -999.0,9,     -999.0,9
33RR20220430,        P02,     102,          1,         20,         20,2,20220603,       2029,    30.0000,  -169.8666,       5449,  1009.1,2,   3.7586,2,  34.3108,2,  34.3115,2,     18.7,3,    19.4,2,  120.18,2,   43.54,2,    0.00,2,    3.12,2,   0.092,2,   0.052,2,   0.0000,2,  2357.2,2,  2356.8,2,   7.3097,2,    24.99,2, -999.00,1,  -999.0,1, -999.00,1, -999.00,1,       57.6,2, 20220603,     2203,  30.0000,-169.8666,     3.7582,2,     -999.0,9,     -999.0,9,     -999.0,9,     -999.0,9,     0.0134,1,     4.6999,1,     -999.0,9,     -999.0,9,     -999.0,9
33RR20220430,        P02,     102,          1,         19,         19,2,20220603,       2029,    30.0000,  -169.8666,       5449,  1110.8,2,   3.5278,2,  34.3774,2,  34.3772,2,     20.0,2,    20.0,2,  127.40,2,   43.80,2,    0.00,2,    3.13,2,   0.039,2,   0.026,2,   0.0000,2,  2364.9,2,  2366.4,2,   7.3207,2,    25.01,2, -999.00,1,  -999.0,1, -999.00,1, -999.00,1,       57.0,2, 20220603,     2200,  30.0000,-169.8665,     3.5272,2,     -999.0,9,     -999.0,9,     -999.0,9,     -999.0,9,     0.0134,1,     4.7002,1,     -999.0,9,     -999.0,9,     -999.0,9
33RR20220430,        P02,     102,          1,         18,         18,2,20220603,       2029,    30.0000,  -169.8666,       5449,  1217.4,2,   3.3030,2,  34.4425,2,  34.4432,2,     29.4,2,    29.5,2,  132.57,2,   43.32,2,    0.00,2,    3.09,2,-999.000,9,-999.000,9,-999.0000,9,  -999.0,9,  -999.0,9,-999.0000,9,  -999.00,9, -999.00,1,  -999.0,1, -999.00,9, -999.00,9,     -999.0,9, 20220603,     2157,  30.0000,-169.8666,     3.3023,2,     -999.0,9,     -999.0,9,     -999.0,9,     -999.0,9,     0.0134,1,     4.7007,1,     -999.0,9,     -999.0,9,     -999.0,9
33RR20220430,        P02,     102,          1,         17,         17,2,20220603,       2029,    30.0000,  -169.8666,       5449,  1318.7,2,   3.1043,2,  34.4824,2,  34.4836,2,     38.7,2,    38.7,2,  136.57,2,   43.06,2,    0.00,2,    3.05,2,   0.013,2,   0.009,2,   0.0000,2,  2368.7,2,  2385.1,2,   7.3661,2,    25.02,2, -999.00,1,  -999.0,1, -999.00,1, -999.00,1,       48.6,2, 20220603,     2155,  30.0000,-169.8666,     3.1051,2,     -999.0,9,     -999.0,9,     -999.0,9,     -999.0,9,     0.0134,1,     4.7016,1,     -999.0,9,     -999.0,9,     -999.0,9
33RR20220430,        P02,     102,          1,         16,         16,2,20220603,       2029,    30.0000,  -169.8666,       5449,  1420.2,2,   2.9079,2,  34.5122,2,  34.5133,2,     46.4,2,    46.3,2,  140.77,2,   42.53,2,    0.00,2,    3.02,2,   0.009,2,   0.000,2,   0.0000,2,  2366.6,2,  2392.4,2,   7.3826,2,    25.01,2, -999.00,1,  -999.0,1, -999.00,1, -999.00,1,       45.2,2, 20220603,     2152,  29.9999,-169.8666,     2.9077,2,     -999.0,9,     -999.0,9,     -999.0,9,     -999.0,9,     0.0134,1,     4.7019,1,     -999.0,9,     -999.0,9,     -999.0,9
33RR20220430,        P02,     102,          1,         15,         15,2,20220603,       2029,    30.0000,  -169.8666,       5449,  1622.1,2,   2.5324,2,  34.5519,2,  34.5533,2,     57.4,2,    57.2,2,  150.63,2,   42.00,2,    0.00,2,    2.95,2,   0.005,2,   0.000,2,   0.0000,2,  2371.2,2,  2401.1,2,   7.4043,2,    25.00,2, -999.00,1,  -999.0,1, -999.00,1, -999.00,1,       40.1,2, 20220603,     2148,  30.0000,-169.8666,     2.5331,2,     -999.0,9,     -999.0,9,     -999.0,9,     -999.0,9,     0.0133,1,     4.7031,1,     -999.0,9,     -999.0,9,     -999.0,9
33RR20220430,        P02,     102,          1,         14,         14,2,20220603,       2029,    30.0000,  -169.8666,       5449,  1825.0,2,   2.2359,2,  34.5786,2,  34.5794,2,     63.5,2,    63.2,2,  159.13,2,   41.76,2,    0.00,2,    2.92,2,   0.004,2,   0.000,2,   0.0000,2,  2374.3,2,  2410.2,2,   7.4144,2,    25.01,2, -999.00,1,  -999.0,1, -999.00,9, -999.00,9,       38.3,2, 20220603,     2143,  30.0000,-169.8666,     2.2352,2,     -999.0,9,     -999.0,9,     -999.0,9,     -999.0,9,     0.0133,1,     4.7030,1,     -999.0,9,     -999.0,9,     -999.0,9
33RR20220430,        P02,     102,          1,         13,         13,2,20220603,       2029,    30.0000,  -169.8666,       5449,  2028.3,2,   2.0089,2,  34.6039,3,  34.6062,2,     75.8,2,    76.1,2,  163.52,2,   40.89,2,    0.00,2,    2.87,2,   0.004,2,   0.000,2,   0.0000,2,  2371.4,2,  2414.1,2,   7.4389,2,    25.00,2, -999.00,1,  -999.0,1, -999.00,1, -999.00,1,       34.5,2, 20220603,     2139,  30.0000,-169.8666,     2.0084,2,     -999.0,9,     -999.0,9,     -999.0,9,     -999.0,9,     0.0134,1,     4.7033,1,     -999.0,9,     -999.0,9,     -999.0,9
33RR20220430,        P02,     102,          1,         12,         12,2,20220603,       2029,    30.0000,  -169.8666,       5449,  2282.3,2,   1.8203,2,  34.6264,2,  34.6274,2,     90.5,2,    90.7,2,  165.76,2,   39.94,2,    0.00,2,    2.79,2,-999.000,9,-999.000,9,-999.0000,9,  -999.0,9,  -999.0,9,-999.0000,9,  -999.00,9, -999.00,9,  -999.0,9, -999.00,9, -999.00,9,     -999.0,9, 20220603,     2134,  30.0000,-169.8667,     1.8200,2,     -999.0,9,     -999.0,9,     -999.0,9,     -999.0,9,     0.0125,1,     4.7033,1,     -999.0,9,     -999.0,9,     -999.0,9
33RR20220430,        P02,     102,          1,         11,         11,2,20220603,       2029,    30.0000,  -169.8666,       5449,  2535.6,2,   1.6917,2,  34.6420,2,  34.6433,2,    103.8,2,   103.4,2,  165.18,2,   39.26,2,    0.00,2,    2.74,2,   0.005,2,   0.000,2,   0.0000,2,  2359.4,2,  2420.3,2,   7.4908,2,    24.99,2, -999.00,1,  -999.0,1, -999.00,1, -999.00,1,       28.4,2, 20220603,     2129,  30.0000,-169.8666,     1.6915,2,     -999.0,9,     -999.0,9,     -999.0,9,     -999.0,9,     0.0129,1,     4.7043,1,     -999.0,9,     -999.0,9,     -999.0,9
33RR20220430,        P02,     102,          1,         10,         10,2,20220603,       2029,    30.0000,  -169.8666,       5449,  2790.4,2,   1.6138,2,  34.6525,2,  34.6543,2,    113.6,2,   113.4,2,  164.30,2,   38.58,2,    0.00,2,    2.68,2,-999.000,9,-999.000,9,-999.0000,9,  -999.0,9,  -999.0,9,-999.0000,9,  -999.00,9, -999.00,9,  -999.0,9, -999.00,9, -999.00,9,     -999.0,9, 20220603,     2124,  30.0000,-169.8666,     1.6139,2,     -999.0,9,     -999.0,9,     -999.0,9,     -999.0,9,     0.0124,1,     4.7044,1,     -999.0,9,     -999.0,9,     -999.0,9
33RR20220430,        P02,     102,          1,          9,          9,2,20220603,       2029,    30.0000,  -169.8666,       5449,  3046.3,2,   1.5461,2,  34.6622,2,  34.6625,2,    124.8,2,   124.9,2,  161.07,2,   37.84,2,    0.00,2,    2.61,2,   0.004,2,   0.000,2,   0.0000,2,  2345.9,2,  2421.8,2,   7.5301,2,    25.00,2, -999.00,1,  -999.0,1, -999.00,1, -999.00,1,       25.8,2, 20220603,     2118,  30.0000,-169.8666,     1.5461,2,     -999.0,9,     -999.0,9,     -999.0,9,     -999.0,9,     0.0129,1,     4.7050,1,     -999.0,9,     -999.0,9,     -999.0,9
33RR20220430,        P02,     102,          1,          8,          8,2,20220603,       2029,    30.0000,  -169.8666,       5449,  3351.5,2,   1.4994,2,  34.6702,2,  34.6704,2,    132.5,2,   133.1,2,  160.68,2,   37.34,2,    0.00,2,    2.57,2,-999.000,9,-999.000,9,-999.0000,9,  -999.0,9,  -999.0,9,-999.0000,9,  -999.00,9, -999.00,9,  -999.0,9, -999.00,9, -999.00,9,     -999.0,9, 20220603,     2112,  30.0000,-169.8666,     1.4995,2,     -999.0,9,     -999.0,9,     -999.0,9,     -999.0,9,     0.0122,1,     4.7044,1,     -999.0,9,     -999.0,9,     -999.0,9
33RR20220430,        P02,     102,          1,          7,          7,2,20220603,       2029,    30.0000,  -169.8666,       5449,  3659.7,2,   1.4747,2,  34.6763,2,  34.6775,2,    141.2,2,   141.3,2,  156.97,2,   36.76,2,    0.00,2,    2.53,2,   0.004,2,   0.000,2,   0.0000,2,  2335.9,2,  2420.0,2,-999.0000,1,  -999.00,1, -999.00,1,  -999.0,1, -999.00,1, -999.00,1,       24.4,2, 20220603,     2106,  30.0000,-169.8666,     1.4744,2,     -999.0,9,     -999.0,9,     -999.0,9,     -999.0,9,     0.0122,1,     4.7057,1,     -999.0,9,     -999.0,9,     -999.0,9
33RR20220430,        P02,     102,          1,          6,          6,2,20220603,       2029,    30.0000,  -169.8666,       5449,  3965.5,2,   1.4674,2,  34.6806,2,  34.6802,2,    146.2,2,   146.5,2,  155.80,2,   36.62,2,    0.00,2,    2.50,2,-999.000,9,-999.000,9,-999.0000,9,  -999.0,9,  -999.0,9,-999.0000,9,  -999.00,9, -999.00,9,  -999.0,9, -999.00,9, -999.00,9,     -999.0,9, 20220603,     2100,  30.0000,-169.8666,     1.4673,2,     -999.0,9,     -999.0,9,     -999.0,9,     -999.0,9,     0.0122,1,     4.7056,1,     -999.0,9,     -999.0,9,     -999.0,9
33RR20220430,        P02,     102,          1,          5,          5,2,20220603,       2029,    30.0000,  -169.8666,       5449,  4273.8,2,   1.4760,2,  34.6834,2,  34.6844,2,    149.4,2,   149.8,2,  156.19,3,   35.78,3,    0.00,2,    2.48,2,   0.005,2,   0.000,2,   0.0000,2,  2330.0,2,  2420.3,2,-999.0000,1,  -999.00,1, -999.00,1,  -999.0,1, -999.00,1, -999.00,1,       22.5,2, 20220603,     2054,  30.0000,-169.8666,     1.4759,2,     -999.0,9,     -999.0,9,     -999.0,9,     -999.0,9,     0.0123,1,     4.7054,1,     -999.0,9,     -999.0,9,     -999.0,9
33RR20220430,        P02,     102,          1,          4,          4,2,20220603,       2029,    30.0000,  -169.8666,       5449,  4581.4,2,   1.4965,2,  34.6850,2,  34.6861,2,    151.5,2,   151.5,2,  156.19,2,   36.14,2,    0.00,2,    2.47,2,   0.006,2,   0.000,2,   0.0000,2,  2327.0,2,  2420.3,2,-999.0000,1,  -999.00,1, -999.00,1,  -999.0,1, -999.00,1, -999.00,1,       23.2,2, 20220603,     2048,  30.0000,-169.8666,     1.4964,2,     -999.0,9,     -999.0,9,     -999.0,9,     -999.0,9,     0.0122,1,     4.7051,1,     -999.0,9,     -999.0,9,     -999.0,9
33RR20220430,        P02,     102,          1,          3,          3,2,20220603,       2029,    30.0000,  -169.8666,       5449,  4993.9,2,   1.5286,2,  34.6868,2,  34.6869,2,    155.4,2,   155.3,2,  151.79,2,   35.93,2,    0.00,2,    2.45,2,-999.000,9,-999.000,9,-999.0000,9,  -999.0,9,  -999.0,9,-999.0000,9,  -999.00,9, -999.00,1,  -999.0,1, -999.00,1, -999.00,1,     -999.0,9, 20220603,     2040,  30.0000,-169.8666,     1.5287,2,     -999.0,9,     -999.0,9,     -999.0,9,     -999.0,9,     0.0122,1,     4.7055,1,     -999.0,9,     -999.0,9,     -999.0,9