BOTTLE,20230801CCHSIOCBG
EXPOCODE,SECT_ID,STNNBR,CASTNO,SAMPNO,BTLNBR,BTLNBR_FLAG_W,DATE,TIME,LATITUDE,LONGITUDE,DEPTH,CTDPRS,CTDPRS_FLAG_W,CTDTMP,CTDTMP_FLAG_W,CTDSAL,CTDSAL_FLAG_W,SALNTY,SALNTY_FLAG_W,CTDOXY,CTDOXY_FLAG_W,OXYGEN,OXYGEN_FLAG_W,SILCAT,SILCAT_FLAG_W,NITRAT,NITRAT_FLAG_W,NITRIT,NITRIT_FLAG_W,PHSPHT,PHSPHT_FLAG_W,CFC-11,CFC-11_FLAG_W,CFC-12,CFC-12_FLAG_W,SF6,SF6_FLAG_W,TCARBN,TCARBN_FLAG_W,ALKALI,ALKALI_FLAG_W,PH_TOT,PH_TOT_FLAG_W,PH_TMP,PH_TMP_FLAG_W,DELC13,DELC13_FLAG_W,DELC14,DELC14_FLAG_W,DOC,DOC_FLAG_W,TDN,TDN_FLAG_W,N2O,N2O_FLAG_W,BTL_DATE,BTL_TIME,BTL_LAT,BTL_LON,REFTMP,REFTMP_FLAG_W,POC,POC_FLAG_W,PON,PON_FLAG_W,POP,POP_FLAG_W,PCOD,PCOD_FLAG_W,CTDFLUOR,CTDFLUOR_FLAG_W,CTDXMISS,CTDXMISS_FLAG_W,HPLC,HPLC_FLAG_W,DNA,DNA_FLAG_W,FCM,FCM_FLAG_W
,,,,,,,,,,,METERS,DBAR,,ITS-90,,PSS-78,,PSS-78,,UMOL/KG,,UMOL/KG,,UMOL/KG,,UMOL/KG,,UMOL/KG,,UMOL/KG,,PMOL/KG,,PMOL/KG,,FMOL/KG,,UMOL/KG,,UMOL/KG,,,,DEG C,,/MILLE,,/MILLE,,UMOL/KG,,UMOL/KG,,NMOL/KG,,,,,,ITS-90,,UG/L,,UG/L,,UG/L,,UG/L,,VOLTS,,VOLTS,,,,,,,
33RR20220430,        P02,      22,          1,          3,          3,2,20220509,       1837,    30.0002,   142.2562,       5949,  5440.8,2,   1.5582,2,  34.6904,2,  34.6916,2,    162.2,2,   162.2,2,  145.07,2,   35.18,2,    0.00,2,    2.46,2,   0.007,2,   0.000,2,   0.0000,2,  2315.6,2,  2409.7,2,   7.5864,2,    25.00,2, -999.00,9,  -999.0,9, -999.00,9, -999.00,9,       22.7,2, 20220509,     1849,  30.0002, 142.2562,     1.5581,2,     -999.0,9,     -999.0,9,     -999.0,9,     -999.0,9,     0.0122,1,     4.6995,1,     -999.0,9,     -999.0,9,     -999.0,9
33RR20220430,        P02,      22,          1,          2,          2,2,20220509,       1837,    30.0002,   142.2562,       5949,  5751.3,2,   1.5988,2,  34.6903,2,  34.6893,2,    162.5,2,   162.2,2,  145.07,2,   35.45,2,    0.00,2,    2.44,2,   0.007,2,   0.000,2,   0.0000,2,  2314.6,2,  2411.5,2,   7.5861,2,    25.00,2, -999.00,9,  -999.0,9, -999.00,9, -999.00,9,       22.7,2, 20220509,     1843,  30.0002, 142.2562,     1.5986,2,     -999.0,9,     -999.0,9,     -999.0,9,     -999.0,9,     0.0127,1,     4.6989,1,     -999.0,9,     -999.0,9,     -999.0,9
33RR20220430,        P02,      22,          1,          1,          1,2,20220509,       1837,    30.0002,   142.2562,       5949,  6061.3,2,   1.6422,2,  34.6902,2,  34.6910,2,    162.4,2,   162.2,2,  144.87,2,   35.27,2,    0.00,2,    2.44,2,   0.009,2,   0.000,2,   0.0000,2,  2314.6,6,  2410.8,2,   7.5854,2,    25.00,2, -999.00,9,  -999.0,9, -999.00,9, -999.00,9,       23.8,2, 20220509,     1837,  30.0002, 142.2562,     1.6420,2,     -999.0,9,     -999.0,9,     -999.0,9,     -999.0,9,     0.0122,1,     4.6984,1,     -999.0,9,     -999.0,9,     -999.0,9
33RR20220430,        P02,      23,          1,         17,         17,2,20220510,       0140,    30.0002,   143.1773,       6001,     5.5,2,  22.2106,2,  35.0153,2,-999.0000,9,    211.0,2,  -999.0,9, -999.00,9, -999.00,9, -999.00,9, -999.00,9,-999.000,9,-999.000,9,-999.0000,9,  -999.0,9,  -999.0,9,-999.0000,9,  -999.00,9, -999.00,9,  -999.0,9, -999.00,9, -999.00,9,     -999.0,9, 20220510,      209,  30.0002, 143.1773,    22.4230,2,     -999.0,9,     -999.0,9,     -999.0,1,     -999.0,9,     0.0147,1,     4.6358,1,     -999.0,9,     -999.0,9,     -999.0,9
33RR20220430,        P02,      23,          1,         16,         16,2,20220510,       0140,    30.0002,   143.1773,       6001,     5.6,2,  22.2106,2,  35.0154,2,-999.0000,9,    210.4,2,  -999.0,9, -999.00,9, -999.00,9, -999.00,9, -999.00,9,-999.000,9,-999.000,9,-999.0000,9,  -999.0,9,  -999.0,9,-999.0000,9,  -999.00,9, -999.00,9,  -999.0,9, -999.00,9, -999.00,9,     -999.0,9, 20220510,      208,  30.0002, 143.1773,    22.4214,2,     -999.0,9,     -999.0,9,     -999.0,1,     -999.0,9,     0.0147,1,     4.6387,1,     -999.0,9,     -999.0,9,     -999.0,9
33RR20220430,        P02,      23,          1,         13,         13,2,20220510,       0140,    30.0002,   143.1773,       6001,     5.7,2,  22.2109,2,  35.0152,2,-999.0000,9,    211.2,2,  -999.0,9, -999.00,9, -999.00,9, -999.00,9, -999.00,9,-999.000,9,-999.000,9,-999.0000,9,  -999.0,9,  -999.0,9,-999.0000,9,  -999.00,9, -999.00,9,  -999.0,9, -999.00,9, -999.00,9,     -999.0,9, 20220510,      208,  30.0002, 143.1773,     -999.0,9,     -999.0,1,     -999.0,1,     -999.0,9,     -999.0,9,     0.0147,1,     4.6390,1,     -999.0,9,     -999.0,9,     -999.0,9
33RR20220430,        P02,      23,          1,         19,         19,2,20220510,       0140,    30.0002,   143.1773,       6001,     5.7,2,  22.2077,2,  35.0162,2,-999.0000,9,    210.3,2,  -999.0,9, -999.00,9, -999.00,9, -999.00,9, -999.00,9,-999.000,9,-999.000,9,-999.0000,9,  -999.0,9,  -999.0,9,-999.0000,9,  -999.00,9, -999.00,9,  -999.0,9, -999.00,9, -999.00,9,     -999.0,9, 20220510,      209,  30.0002, 143.1772,     -999.0,9,     -999.0,9,     -999.0,9,     -999.0,9,     -999.0,1,     0.0147,1,     4.6384,1,     -999.0,9,     -999.0,9,     -999.0,9
33RR20220430,        P02,      23,          1,         12,         12,2,20220510,       0140,    30.0002,   143.1773,       6001,     5.8,2,  22.2119,2,  35.0149,2,-999.0000,9,    210.6,2,  -999.0,9, -999.00,9, -999.00,9, -999.00,9, -999.00,9,-999.000,9,-999.000,9,-999.0000,9,  -999.0,9,  -999.0,9,-999.0000,9,  -999.00,9, -999.00,9,  -999.0,9, -999.00,9, -999.00,9,     -999.0,9, 20220510,      207,  30.0002, 143.1773,    22.4230,2,     -999.0,1,     -999.0,1,     -999.0,9,     -999.0,9,     0.0147,1,     4.6378,1,     -999.0,9,     -999.0,9,     -999.0,9
33RR20220430,        P02,      23,          1,         14,         14,2,20220510,       0140,    30.0002,   143.1773,       6001,     5.9,2,  22.2106,2,  35.0152,2,-999.0000,9,    210.8,2,  -999.0,9, -999.00,9, -999.00,9, -999.00,9, -999.00,9,-999.000,9,-999.000,9,-999.0000,9,  -999.0,9,  -999.0,9,-999.0000,9,  -999.00,9, -999.00,9,  -999.0,9, -999.00,9, -999.00,9,     -999.0,9, 20220510,      208,  30.0002, 143.1773,    22.4222,2,     -999.0,1,     -999.0,1,     -999.0,9,     -999.0,9,     0.0147,1,     4.6382,1,     -999.0,9,     -999.0,9,     -999.0,9
33RR20220430,        P02,      23,          1,         20,         20,2,20220510,       0140,    30.0002,   143.1773,       6001,     6.0,2,  22.2074,2,  35.0164,2,-999.0000,9,    210.7,2,  -999.0,9, -999.00,9, -999.00,9, -999.00,9, -999.00,9,-999.000,9,-999.000,9,-999.0000,9,  -999.0,9,  -999.0,9,-999.0000,9,  -999.00,9, -999.00,9,  -999.0,9, -999.00,9, -999.00,9,     -999.0,9, 20220510,      209,  30.0002, 143.1773,    22.4197,2,     -999.0,9,     -999.0,9,     -999.0,9,     -999.0,1,     0.0147,1,     4.6371,1,     -999.0,9,     -999.0,9,     -999.0,9
33RR20220430,        P02,      23,          1,         11,         11,2,20220510,       0140,    30.0002,   143.1773,       6001,     6.0,2,  22.2092,2,  35.0155,2,-999.0000,9,    210.6,2,  -999.0,9, -999.00,9, -999.00,9, -999.00,9, -999.00,9,-999.000,9,-999.000,9,-999.0000,9,  -999.0,9,  -999.0,9,-999.0000,9,  -999.00,9, -999.00,9,  -999.0,9, -999.00,9, -999.00,9,     -999.0,9, 20220510,      207,  30.0002, 143.1773,    22.4231,2,     -999.0,9,     -999.0,9,     -999.0,9,     -999.0,9,     0.0147,1,     4.6395,1,     -999.0,9,     -999.0,1,     -999.0,9
33RR20220430,        P02,      23,          1,         18,         18,2,20220510,       0140,    30.0002,   143.1773,       6001,     6.2,2,  22.2134,2,  35.0146,2,-999.0000,9,    211.0,2,  -999.0,9, -999.00,9, -999.00,9, -999.00,9, -999.00,9,-999.000,9,-999.000,9,-999.0000,9,  -999.0,9,  -999.0,9,-999.0000,9,  -999.00,9, -999.00,9,  -999.0,9, -999.00,9, -999.00,9,     -999.0,9, 20220510,      209,  30.0002, 143.1773,    22.4217,2,     -999.0,9,     -999.0,9,     -999.0,9,     -999.0,1,     0.0147,1,     4.6383,1,     -999.0,9,     -999.0,9,     -999.0,9
33RR20220430,        P02,      23,          1,         15,         15,2,20220510,       0140,    30.0002,   143.1773,       6001,     6.2,2,  22.2088,2,  35.0160,2,-999.0000,9,    211.0,2,  -999.0,9, -999.00,9, -999.00,9, -999.00,9, -999.00,9,-999.000,9,-999.000,9,-999.0000,9,  -999.0,9,  -999.0,9,-999.0000,9,  -999.00,9, -999.00,9,  -999.0,9, -999.00,9, -999.00,9,     -999.0,9, 20220510,      208,  30.0002, 143.1773,     -999.0,9,     -999.0,9,     -999.0,9,     -999.0,1,     -999.0,9,     0.0148,1,     4.6385,1,     -999.0,9,     -999.0,9,     -999.0,9
33RR20220430,        P02,      23,          1,         10,         10,2,20220510,       0140,    30.0002,   143.1773,       6001,     6.3,2,  22.2086,2,  35.0159,2,-999.0000,9,    210.9,2,  -999.0,9, -999.00,9, -999.00,9, -999.00,9, -999.00,9,-999.000,9,-999.000,9,-999.0000,9,  -999.0,9,  -999.0,9,-999.0000,9,  -999.00,9, -999.00,9,  -999.0,9, -999.00,9, -999.00,9,     -999.0,9, 20220510,      207,  30.0002, 143.1773,    22.4203,2,     -999.0,9,     -999.0,9,     -999.0,9,     -999.0,9,     0.0147,1,     4.6394,1,     -999.0,9,     -999.0,9,     -999.0,1
33RR20220430,        P02,      23,          1,          9,          9,2,20220510,       0140,    30.0002,   143.1773,       6001,    41.0,2,  21.7423,2,  35.0177,2,-999.0000,9,    213.7,2,  -999.0,9, -999.00,9, -999.00,9, -999.00,9, -999.00,9,-999.000,9,-999.000,9,-999.0000,9,  -999.0,9,  -999.0,9,-999.0000,9,  -999.00,9, -999.00,9,  -999.0,9, -999.00,9, -999.00,9,     -999.0,9, 20220510,      204,  30.0002, 143.1772,    21.9567,2,     -999.0,9,     -999.0,9,     -999.0,9,     -999.0,9,     0.0171,1,     4.6396,1,     -999.0,1,     -999.0,9,     -999.0,1
33RR20220430,        P02,      23,          1,          8,          8,2,20220510,       0140,    30.0002,   143.1773,       6001,    76.0,2,  20.6190,2,  35.0363,2,-999.0000,9,    215.9,2,  -999.0,9, -999.00,9, -999.00,9, -999.00,9, -999.00,9,-999.000,9,-999.000,9,-999.0000,9,  -999.0,9,  -999.0,9,-999.0000,9,  -999.00,9, -999.00,9,  -999.0,9, -999.00,9, -999.00,9,     -999.0,9, 20220510,      202,  30.0002, 143.1772,    20.8097,2,     -999.0,9,     -999.0,9,     -999.0,9,     -999.0,9,     0.0196,1,     4.6414,1,     -999.0,9,     -999.0,9,     -999.0,1
33RR20220430,        P02,      23,          1,          7,          7,2,20220510,       0140,    30.0002,   143.1773,       6001,   106.6,2,  19.6608,2,  35.0292,2,-999.0000,9,    209.9,2,  -999.0,9, -999.00,9, -999.00,9, -999.00,9, -999.00,9,-999.000,9,-999.000,9,-999.0000,9,  -999.0,9,  -999.0,9,-999.0000,9,  -999.00,9, -999.00,9,  -999.0,9, -999.00,9, -999.00,9,     -999.0,9, 20220510,      200,  30.0002, 143.1773,    19.8488,2,     -999.0,9,     -999.0,9,     -999.0,9,     -999.0,9,     0.0342,1,     4.6385,1,     -999.0,9,     -999.0,1,     -999.0,9
33RR20220430,        P02,      23,          1,          6,          6,2,20220510,       0140,    30.0002,   143.1773,       6001,   106.8,2,  19.6615,2,  35.0291,2,-999.0000,9,    209.7,2,  -999.0,9, -999.00,9, -999.00,9, -999.00,9, -999.00,9,-999.000,9,-999.000,9,-999.0000,9,  -999.0,9,  -999.0,9,-999.0000,9,  -999.00,9, -999.00,9,  -999.0,9, -999.00,9, -999.00,9,     -999.0,9, 20220510,      200,  30.0002, 143.1772,    19.8433,2,     -999.0,9,     -999.0,9,     -999.0,9,     -999.0,9,     0.0380,1,     4.6383,1,     -999.0,1,     -999.0,9,     -999.0,1
33RR20220430,        P02,      23,          1,          5,          5,2,20220510,       0140,    30.0002,   143.1773,       6001,   126.9,2,  18.9877,2,  34.9975,2,-999.0000,9,    209.9,2,  -999.0,9, -999.00,9, -999.00,9, -999.00,9, -999.00,9,-999.000,9,-999.000,9,-999.0000,9,  -999.0,9,  -999.0,9,-999.0000,9,  -999.00,9, -999.00,9,  -999.0,9, -999.00,9, -999.00,9,     -999.0,9, 20220510,      158,  30.0002, 143.1773,    19.1722,2,     -999.0,9,     -999.0,9,     -999.0,9,     -999.0,9,     0.0270,1,     4.6636,1,     -999.0,9,     -999.0,9,     -999.0,1
33RR20220430,        P02,      23,          1,          3,          3,2,20220510,       0140,    30.0002,   143.1773,       6001,   203.4,2,  17.5162,2,  34.9143,2,-999.0000,9,    209.2,2,  -999.0,9, -999.00,9, -999.00,9, -999.00,9, -999.00,9,-999.000,9,-999.000,9,-999.0000,9,  -999.0,9,  -999.0,9,-999.0000,9,  -999.00,9, -999.00,9,  -999.0,9, -999.00,9, -999.00,9,     -999.0,9, 20220510,      156,  30.0002, 143.1773,    17.6857,2,     -999.0,9,     -999.0,9,     -999.0,9,     -999.0,9,     0.0122,1,     4.6911,1,     -999.0,9,     -999.0,1,     -999.0,1
33RR20220430,        P02,      23,          1,          4,          4,2,20220510,       0140,    30.0002,   143.1773,       6001,   204.1,2,  17.5154,2,  34.9140,2,-999.0000,9,    208.8,2,  -999.0,9, -999.00,9, -999.00,9, -999.00,9, -999.00,9,-999.000,9,-999.000,9,-999.0000,9,  -999.0,9,  -999.0,9,-999.0000,9,  -999.00,9, -999.00,9,  -999.0,9, -999.00,9, -999.00,9,     -999.0,9, 20220510,      156,  30.0002, 143.1773,     -999.0,9,     -999.0,9,     -999.0,9,     -999.0,9,     -999.0,9,     0.0122,1,     4.6906,1,     -999.0,9,     -999.0,9,     -999.0,9
33RR20220430,        P02,      23,          1,          2,          2,2,20220510,       0140,    30.0002,   143.1773,       6001,   505.7,2,  12.0548,2,  34.4525,2,-999.0000,9,    183.4,2,  -999.0,9, -999.00,9, -999.00,9, -999.00,9, -999.00,9,-999.000,9,-999.000,9,-999.0000,9,  -999.0,9,  -999.0,9,-999.0000,9,  -999.00,9, -999.00,9,  -999.0,9, -999.00,9, -999.00,9,     -999.0,9, 20220510,      150,  30.0002, 143.1773,    12.1599,2,     -999.0,9,     -999.0,9,     -999.0,9,     -999.0,9,     0.0122,1,     4.7037,1,     -999.0,9,     -999.0,9,     -999.0,1
33RR20220430,        P02,      23,          1,          1,          1,2,20220510,       0140,    30.0002,   143.1773,       6001,  1009.8,2,   3.9883,2,  34.2671,2,-999.0000,9,     44.7,2,  -999.0,9, -999.00,9, -999.00,9, -999.00,9, -999.00,9,-999.000,9,-999.000,9,-999.0000,9,  -999.0,9,  -999.0,9,-999.0000,9,  -999.00,9, -999.00,9,  -999.0,9, -999.00,9, -999.00,9,     -999.0,9, 20220510,      140,  30.0002, 143.1772,     3.9900,2,     -999.0,9,     -999.0,9,     -999.0,9,     -999.0,9,     0.0134,1,     4.7068,1,     -999.0,9,     -999.0,1,     -999.0,1