BOTTLE,20230801CCHSIOCBG
EXPOCODE,SECT_ID,STNNBR,CASTNO,SAMPNO,BTLNBR,BTLNBR_FLAG_W,DATE,TIME,LATITUDE,LONGITUDE,DEPTH,CTDPRS,CTDPRS_FLAG_W,CTDTMP,CTDTMP_FLAG_W,CTDSAL,CTDSAL_FLAG_W,SALNTY,SALNTY_FLAG_W,CTDOXY,CTDOXY_FLAG_W,OXYGEN,OXYGEN_FLAG_W,SILCAT,SILCAT_FLAG_W,NITRAT,NITRAT_FLAG_W,NITRIT,NITRIT_FLAG_W,PHSPHT,PHSPHT_FLAG_W,CFC-11,CFC-11_FLAG_W,CFC-12,CFC-12_FLAG_W,SF6,SF6_FLAG_W,TCARBN,TCARBN_FLAG_W,ALKALI,ALKALI_FLAG_W,PH_TOT,PH_TOT_FLAG_W,PH_TMP,PH_TMP_FLAG_W,DELC13,DELC13_FLAG_W,DELC14,DELC14_FLAG_W,DOC,DOC_FLAG_W,TDN,TDN_FLAG_W,N2O,N2O_FLAG_W,BTL_DATE,BTL_TIME,BTL_LAT,BTL_LON,REFTMP,REFTMP_FLAG_W,POC,POC_FLAG_W,PON,PON_FLAG_W,POP,POP_FLAG_W,PCOD,PCOD_FLAG_W,CTDFLUOR,CTDFLUOR_FLAG_W,CTDXMISS,CTDXMISS_FLAG_W,HPLC,HPLC_FLAG_W,DNA,DNA_FLAG_W,FCM,FCM_FLAG_W
,,,,,,,,,,,METERS,DBAR,,ITS-90,,PSS-78,,PSS-78,,UMOL/KG,,UMOL/KG,,UMOL/KG,,UMOL/KG,,UMOL/KG,,UMOL/KG,,PMOL/KG,,PMOL/KG,,FMOL/KG,,UMOL/KG,,UMOL/KG,,,,DEG C,,/MILLE,,/MILLE,,UMOL/KG,,UMOL/KG,,NMOL/KG,,,,,,ITS-90,,UG/L,,UG/L,,UG/L,,UG/L,,VOLTS,,VOLTS,,,,,,,
33RR20220430,        P02,      12,          1,         36,         36,2,20220507,       0110,    29.9967,   134.8612,       4702,     7.4,2,  22.6970,2,  34.6937,2,  34.6859,2,    216.7,2,   217.9,2,    0.98,2,    0.01,2,    0.00,2,    0.06,2,   1.869,2,   1.129,2,   1.8804,2,  1981.2,2,  2278.4,2,   8.0402,2,    24.93,2, -999.00,9,  -999.0,9, -999.00,1, -999.00,1,        1.9,2, 20220507,      308,  29.9967, 134.8612,    22.6945,2,     -999.0,9,     -999.0,9,     -999.0,9,     -999.0,9,     0.0135,1,     4.6410,1,     -999.0,9,     -999.0,9,     -999.0,9
33RR20220430,        P02,      12,          1,         35,         35,2,20220507,       0110,    29.9967,   134.8612,       4702,    33.7,2,  22.6124,2,  34.6925,2,  34.6830,2,    216.6,2,   218.2,2,    1.37,2,    0.01,2,    0.00,2,    0.00,2,   1.859,2,   1.376,2,   1.8446,2,  1982.5,2,  2275.7,2,   8.0402,2,    25.01,2, -999.00,9,  -999.0,9, -999.00,1, -999.00,1,        1.9,2, 20220507,      306,  29.9968, 134.8612,    22.6132,2,     -999.0,9,     -999.0,9,     -999.0,9,     -999.0,9,     0.0159,1,     4.6356,1,     -999.0,9,     -999.0,9,     -999.0,9
33RR20220430,        P02,      12,          1,         34,         34,2,20220507,       0110,    29.9967,   134.8612,       4702,    52.8,2,  22.4580,2,  34.6860,2,  34.6812,2,    218.0,2,   218.7,2,    1.56,2,    0.01,2,    0.00,2,    0.00,2,   1.864,2,   1.077,2,   1.8792,2,  1982.8,2,  2275.9,2,   8.0406,2,    24.91,2, -999.00,9,  -999.0,9, -999.00,1, -999.00,1,        1.8,2, 20220507,      304,  29.9968, 134.8612,    22.4329,2,     -999.0,9,     -999.0,9,     -999.0,9,     -999.0,9,     0.0185,1,     4.6345,1,     -999.0,9,     -999.0,9,     -999.0,9
33RR20220430,        P02,      12,          1,         33,         33,2,20220507,       0110,    29.9967,   134.8612,       4702,    76.1,2,  22.4026,2,  34.7088,2,  34.7160,2,    218.6,2,   220.5,2,    1.66,2,    0.00,2,    0.00,2,    0.00,2,   1.903,2,   1.217,2,   1.9294,2,  1985.5,2,  2277.2,2,   8.0368,2,    25.01,2, -999.00,9,  -999.0,9, -999.00,1, -999.00,1,        2.1,2, 20220507,      302,  29.9968, 134.8612,    22.3760,2,     -999.0,9,     -999.0,9,     -999.0,9,     -999.0,9,     0.0208,1,     4.6445,1,     -999.0,9,     -999.0,9,     -999.0,9
33RR20220430,        P02,      12,          1,         32,         32,2,20220507,       0110,    29.9967,   134.8612,       4702,   105.0,2,  20.8870,2,  34.7600,2,  34.7504,2,    223.5,3,   217.6,2,    2.05,2,    0.06,2,    0.03,2,    0.02,2,   1.995,2,   1.196,2,   1.9138,2,  2001.2,2,  2280.1,2,   8.0141,2,    25.02,2, -999.00,9,  -999.0,9, -999.00,1, -999.00,1,        2.8,2, 20220507,      300,  29.9967, 134.8612,    20.8874,2,     -999.0,9,     -999.0,9,     -999.0,9,     -999.0,9,     0.0277,1,     4.6541,1,     -999.0,9,     -999.0,9,     -999.0,9
33RR20220430,        P02,      12,          1,         31,         31,2,20220507,       0110,    29.9967,   134.8612,       4702,   156.8,2,  20.0828,2,  34.7897,2,  34.7830,2,    217.5,3,   213.5,2,    1.95,2,    0.70,2,    0.09,2,    0.05,2,   2.045,2,   1.471,2,   1.9888,2,  2011.2,2,  2283.3,2,   7.9983,2,    25.01,2, -999.00,9,  -999.0,9, -999.00,1, -999.00,1,        3.1,2, 20220507,      258,  29.9967, 134.8612,    20.0842,2,     -999.0,9,     -999.0,9,     -999.0,9,     -999.0,9,     0.0181,1,     4.6721,1,     -999.0,9,     -999.0,9,     -999.0,9
33RR20220430,        P02,      12,          1,         30,         30,2,20220507,       0110,    29.9967,   134.8612,       4702,   204.8,2,  19.5410,2,  34.7873,2,  34.7783,2,    208.8,2,   210.2,2,    2.25,2,    1.56,2,    0.01,2,    0.12,2,   2.068,2,   1.309,2,   2.0492,2,  2016.8,2,  2282.3,2,   7.9855,2,    25.00,2, -999.00,9,  -999.0,9, -999.00,1, -999.00,1,        3.5,2, 20220507,      257,  29.9967, 134.8612,    19.5392,2,     -999.0,9,     -999.0,9,     -999.0,9,     -999.0,9,     0.0135,1,     4.6834,1,     -999.0,9,     -999.0,9,     -999.0,9
33RR20220430,        P02,      12,          1,         29,         29,2,20220507,       0110,    29.9967,   134.8612,       4702,   251.2,2,  18.8663,2,  34.7877,2,  34.7805,2,    204.2,3,   206.9,2,    2.44,2,    2.46,2,    0.00,2,    0.15,2,-999.000,9,-999.000,9,-999.0000,9,  -999.0,9,  -999.0,9,-999.0000,9,  -999.00,9, -999.00,9,  -999.0,9, -999.00,1, -999.00,1,     -999.0,9, 20220507,      255,  29.9967, 134.8612,    18.8674,2,     -999.0,9,     -999.0,9,     -999.0,9,     -999.0,9,     0.0134,1,     4.6871,1,     -999.0,9,     -999.0,9,     -999.0,9
33RR20220430,        P02,      12,          1,         28,         28,2,20220507,       0110,    29.9967,   134.8612,       4702,   302.7,2,  18.2972,2,  34.7829,2,  34.7742,2,    197.9,2,   198.4,2,    3.42,2,    3.83,2,    0.00,2,    0.22,2,   2.251,2,   1.458,2,   1.9353,2,  2042.6,2,  2282.7,2,   7.9371,2,    25.00,2, -999.00,9,  -999.0,9, -999.00,1, -999.00,1,        4.7,2, 20220507,      253,  29.9967, 134.8612,    18.2985,2,     -999.0,9,     -999.0,9,     -999.0,9,     -999.0,9,     0.0122,1,     4.6886,1,     -999.0,9,     -999.0,9,     -999.0,9
33RR20220430,        P02,      12,          1,         27,         27,2,20220507,       0110,    29.9967,   134.8612,       4702,   347.2,2,  17.5371,2,  34.7619,2,  34.7535,2,    196.4,3,   199.3,2,    4.10,2,    4.81,2,    0.00,2,    0.28,2,-999.000,9,-999.000,9,-999.0000,9,  -999.0,9,  -999.0,9,-999.0000,9,  -999.00,9, -999.00,9,  -999.0,9, -999.00,1, -999.00,1,     -999.0,9, 20220507,      251,  29.9967, 134.8612,    17.5378,2,     -999.0,9,     -999.0,9,     -999.0,9,     -999.0,9,     0.0122,1,     4.6914,1,     -999.0,9,     -999.0,9,     -999.0,9
33RR20220430,        P02,      12,          1,         26,         26,2,20220507,       0110,    29.9967,   134.8612,       4702,   404.6,2,  16.6794,2,  34.7113,2,  34.7054,2,    194.4,2,   192.9,2,    6.06,2,    6.71,2,    0.00,2,    0.41,2,   2.394,2,   1.419,2,   1.7785,2,  2061.4,2,  2280.2,2,   7.8942,2,    25.06,2, -999.00,9,  -999.0,9, -999.00,1, -999.00,1,        6.4,2, 20220507,      249,  29.9968, 134.8612,    16.6927,2,     -999.0,9,     -999.0,9,     -999.0,9,     -999.0,9,     0.0122,1,     4.6940,1,     -999.0,9,     -999.0,9,     -999.0,9
33RR20220430,        P02,      12,          1,         25,         25,2,20220507,       0110,    29.9967,   134.8612,       4702,   446.0,2,  15.8648,2,  34.6501,2,  34.6443,2,    190.1,2,   189.4,2,    8.50,2,    8.29,2,    0.00,2,    0.52,2,-999.000,9,-999.000,9,-999.0000,9,  -999.0,9,  -999.0,9,-999.0000,9,  -999.00,9, -999.00,9,  -999.0,9, -999.00,1, -999.00,1,     -999.0,9, 20220507,      247,  29.9968, 134.8612,    15.9004,2,     -999.0,9,     -999.0,9,     -999.0,9,     -999.0,9,     0.0122,1,     4.6946,1,     -999.0,9,     -999.0,9,     -999.0,9
33RR20220430,        P02,      12,          1,         24,         24,2,20220507,       0110,    29.9967,   134.8612,       4702,   500.2,2,  14.9850,2,  34.5805,2,  34.5747,2,    185.8,2,   185.0,2,   10.94,2,   10.03,2,    0.00,2,    0.65,2,   2.660,2,   1.391,2,   1.7118,2,  2085.1,2,  2279.0,2,   7.8418,2,    24.92,2, -999.00,9,  -999.0,9, -999.00,9, -999.00,9,        9.1,2, 20220507,      245,  29.9967, 134.8612,    14.9706,2,     -999.0,9,     -999.0,9,     -999.0,9,     -999.0,9,     0.0122,1,     4.6971,1,     -999.0,9,     -999.0,9,     -999.0,9
33RR20220430,        P02,      12,          1,         23,         23,2,20220507,       0110,    29.9967,   134.8612,       4702,   593.2,2,  12.4494,2,  34.3954,2,  34.3904,2,    174.7,2,   173.9,2,   20.23,2,   15.24,2,    0.00,2,    1.07,2,   2.697,2,   1.429,2,-999.0000,5,  2118.6,2,  2275.6,2,   7.7596,2,    24.99,2, -999.00,9,  -999.0,9, -999.00,1, -999.00,1,       13.8,2, 20220507,      243,  29.9968, 134.8612,    12.4565,2,     -999.0,9,     -999.0,9,     -999.0,9,     -999.0,9,     0.0122,1,     4.7007,1,     -999.0,9,     -999.0,9,     -999.0,9
33RR20220430,        P02,      12,          1,         22,         22,2,20220507,       0110,    29.9967,   134.8612,       4702,   704.0,2,   9.2522,2,  34.2261,2,  34.2228,2,    147.9,3,   146.3,2,   39.87,2,   23.27,2,    0.00,2,    1.62,2,   2.489,2,   1.387,2,   0.9980,2,  2176.5,2,  2286.0,2,   7.6340,2,    24.97,2, -999.00,9,  -999.0,9, -999.00,9, -999.00,9,       20.9,2, 20220507,      240,  29.9967, 134.8612,     9.2438,2,     -999.0,9,     -999.0,9,     -999.0,9,     -999.0,9,     0.0133,1,     4.7034,1,     -999.0,9,     -999.0,9,     -999.0,9
33RR20220430,        P02,      12,          1,         21,         21,2,20220507,       0110,    29.9967,   134.8612,       4702,   804.7,2,   7.0686,2,  34.2221,2,  34.2189,2,    110.6,3,   108.7,2,   65.58,2,   30.46,2,    0.00,2,    2.15,2,   1.778,2,-999.000,5,   0.6585,2,  2236.6,2,  -999.0,1,   7.5242,2,    25.01,2, -999.00,9,  -999.0,9, -999.00,1, -999.00,1,       27.6,2, 20220507,      237,  29.9967, 134.8612,     7.0687,2,     -999.0,9,     -999.0,9,     -999.0,9,     -999.0,9,     0.0128,1,     4.6995,1,     -999.0,9,     -999.0,9,     -999.0,9
33RR20220430,        P02,      12,          1,         20,         20,2,20220507,       0110,    29.9967,   134.8612,       4702,   904.2,2,   5.5553,2,  34.2452,2,  34.2423,2,     85.3,3,    83.7,2,   86.10,2,   35.40,2,    0.00,2,    2.51,2,   1.223,2,   0.954,2,   0.6817,2,  2279.0,2,  2325.3,2,   7.4521,2,    24.94,2, -999.00,9,  -999.0,9, -999.00,9, -999.00,9,       33.7,2, 20220507,      235,  29.9967, 134.8611,     5.5559,2,     -999.0,9,     -999.0,9,     -999.0,9,     -999.0,9,     0.0131,1,     4.7033,1,     -999.0,9,     -999.0,9,     -999.0,9
33RR20220430,        P02,      12,          1,         19,         19,2,20220507,       0110,    29.9967,   134.8612,       4702,  1004.5,2,   4.7222,2,  34.2883,2,  34.2864,2,     71.9,3,    70.1,2,  100.36,2,   37.81,2,    0.00,2,    2.70,2,   0.833,6,   0.449,6,   0.2472,2,  2303.6,2,  2339.7,2,   7.4203,2,    24.99,2, -999.00,9,  -999.0,9, -999.00,1, -999.00,1,       36.4,6, 20220507,      232,  29.9967, 134.8612,     4.7209,2,     -999.0,9,     -999.0,9,     -999.0,9,     -999.0,9,     0.0130,1,     4.7035,1,     -999.0,9,     -999.0,9,     -999.0,9
33RR20220430,        P02,      12,          1,         18,         18,2,20220507,       0110,    29.9967,   134.8612,       4702,  1102.8,2,   4.0805,2,  34.3444,2,  34.3423,2,     64.4,3,    62.9,2,  112.67,2,   39.37,2,    0.00,2,    2.81,2,-999.000,9,-999.000,9,-999.0000,9,  -999.0,9,  -999.0,9,-999.0000,9,  -999.00,9, -999.00,9,  -999.0,9, -999.00,9, -999.00,9,     -999.0,9, 20220507,      229,  29.9967, 134.8612,     4.0844,2,     -999.0,9,     -999.0,9,     -999.0,9,     -999.0,9,     0.0134,1,     4.7057,1,     -999.0,9,     -999.0,9,     -999.0,9
33RR20220430,        P02,      12,          1,         17,         17,2,20220507,       0110,    29.9967,   134.8612,       4702,  1208.8,2,   3.6322,2,  34.3987,2,  34.3976,2,     62.9,2,    62.4,2,  122.24,2,   40.08,2,    0.00,2,    2.87,2,   0.349,2,   0.145,2,   0.0000,2,  2335.8,6,  2365.8,2,   7.4036,2,    25.03,2, -999.00,9,  -999.0,9, -999.00,1, -999.00,1,       37.1,2, 20220507,      226,  29.9968, 134.8611,     3.6306,2,     -999.0,9,     -999.0,9,     -999.0,9,     -999.0,9,     0.0134,1,     4.7020,1,     -999.0,9,     -999.0,9,     -999.0,9
33RR20220430,        P02,      12,          1,         16,         16,2,20220507,       0110,    29.9967,   134.8612,       4702,  1304.4,2,   3.3204,2,  34.4332,2,  34.4316,2,     63.7,2,    63.8,2,  129.08,2,   40.48,2,    0.00,2,    2.87,2,-999.000,9,-999.000,9,-999.0000,9,  -999.0,9,  -999.0,9,-999.0000,9,  -999.00,9, -999.00,9,  -999.0,9, -999.00,9, -999.00,9,     -999.0,9, 20220507,      224,  29.9968, 134.8611,     3.3181,2,     -999.0,9,     -999.0,9,     -999.0,9,     -999.0,9,     0.0134,1,     4.7020,1,     -999.0,9,     -999.0,9,     -999.0,9
33RR20220430,        P02,      12,          1,         15,         15,2,20220507,       0110,    29.9967,   134.8612,       4702,  1410.4,2,   3.0550,2,  34.4627,2,  34.4608,2,     66.1,2,    65.8,2,  133.87,2,   40.48,2,    0.00,2,    2.87,2,   0.190,2,   0.070,2,   0.0000,2,  2345.2,2,  2379.4,2,   7.4139,2,    24.95,2, -999.00,9,  -999.0,9, -999.00,1, -999.00,1,       36.1,2, 20220507,      221,  29.9968, 134.8612,     3.0545,2,     -999.0,9,     -999.0,9,     -999.0,9,     -999.0,9,     0.0134,1,     4.7043,1,     -999.0,9,     -999.0,9,     -999.0,9
33RR20220430,        P02,      12,          1,         14,         14,2,20220507,       0110,    29.9967,   134.8612,       4702,  1513.6,2,   2.8554,2,  34.4860,2,  34.4844,2,     69.1,2,    68.9,2,  138.06,2,   40.49,2,    0.00,2,    2.87,2,-999.000,9,-999.000,9,-999.0000,9,  -999.0,9,  -999.0,9,-999.0000,9,  -999.00,9, -999.00,9,  -999.0,9, -999.00,9, -999.00,9,     -999.0,9, 20220507,      218,  29.9967, 134.8612,     2.8555,2,     -999.0,9,     -999.0,9,     -999.0,9,     -999.0,9,     0.0134,1,     4.7050,1,     -999.0,9,     -999.0,9,     -999.0,9
33RR20220430,        P02,      12,          1,         13,         13,2,20220507,       0110,    29.9967,   134.8612,       4702,  1616.5,2,   2.6272,2,  34.5143,2,  34.5135,2,     74.6,2,    74.9,2,  141.29,2,   40.09,2,    0.00,2,    2.86,2,   0.084,2,   0.038,2,   0.0000,2,  2350.1,2,  2392.0,2,   7.4337,2,    25.00,2, -999.00,9,  -999.0,9, -999.00,1, -999.00,1,       28.3,2, 20220507,      215,  29.9968, 134.8611,     2.6270,2,     -999.0,9,     -999.0,9,     -999.0,9,     -999.0,9,     0.0134,1,     4.7043,1,     -999.0,9,     -999.0,9,     -999.0,9
33RR20220430,        P02,      12,          1,         12,         12,2,20220507,       0110,    29.9967,   134.8612,       4702,  1818.3,2,   2.3706,2,  34.5493,2,  34.5482,2,     83.8,3,    84.9,2,  144.21,2,   39.93,2,    0.00,2,    2.83,2,-999.000,9,-999.000,9,-999.0000,9,  -999.0,9,  -999.0,9,-999.0000,9,  -999.00,9, -999.00,9,  -999.0,9, -999.00,9, -999.00,9,     -999.0,9, 20220507,      211,  29.9967, 134.8612,     2.3699,2,     -999.0,9,     -999.0,9,     -999.0,9,     -999.0,9,     0.0132,1,     4.7056,1,     -999.0,9,     -999.0,9,     -999.0,9
33RR20220430,        P02,      12,          1,         11,         11,2,20220507,       0110,    29.9967,   134.8612,       4702,  2023.7,2,   2.1824,2,  34.5763,2,  34.5749,2,     93.9,3,    95.0,2,  146.26,2,   39.42,2,    0.00,2,    2.77,2,-999.000,5,   0.041,2,   0.0000,2,  2347.9,2,  2402.4,2,   7.4701,2,    24.99,2, -999.00,9,  -999.0,9, -999.00,1, -999.00,1,       28.7,2, 20220507,      206,  29.9968, 134.8612,     2.1827,2,     -999.0,9,     -999.0,9,     -999.0,9,     -999.0,9,     0.0132,1,     4.7045,1,     -999.0,9,     -999.0,9,     -999.0,9
33RR20220430,        P02,      12,          1,         10,         10,2,20220507,       0110,    29.9967,   134.8612,       4702,  2277.6,2,   1.9881,2,  34.6060,2,  34.6052,2,    106.8,2,   107.4,2,  146.06,2,   38.50,2,    0.00,2,    2.72,2,-999.000,9,-999.000,9,-999.0000,9,  -999.0,9,  -999.0,9,-999.0000,9,  -999.00,9, -999.00,9,  -999.0,9, -999.00,9, -999.00,9,     -999.0,9, 20220507,      201,  29.9967, 134.8611,     1.9877,2,     -999.0,9,     -999.0,9,     -999.0,9,     -999.0,9,     0.0127,1,     4.7056,1,     -999.0,9,     -999.0,9,     -999.0,9
33RR20220430,        P02,      12,          1,          9,          9,2,20220507,       0110,    29.9967,   134.8612,       4702,  2532.1,2,   1.8449,2,  34.6282,2,  34.6270,2,    118.5,3,   119.9,2,  145.38,2,   37.95,2,    0.00,2,    2.65,2,-999.000,5,-999.000,5,-999.0000,5,  2337.2,6,  2409.1,2,   7.5189,2,    25.02,2, -999.00,9,  -999.0,9, -999.00,1, -999.00,1,       23.8,2, 20220507,      156,  29.9968, 134.8612,     1.8444,2,     -999.0,9,     -999.0,9,     -999.0,9,     -999.0,9,     0.0123,1,     4.7061,1,     -999.0,9,     -999.0,9,     -999.0,9
33RR20220430,        P02,      12,          1,          8,          8,2,20220507,       0110,    29.9967,   134.8612,       4702,  2788.4,2,   1.6877,2,  34.6516,3,  34.6492,2,    132.1,3,   133.5,2,  144.20,2,   37.32,2,    0.00,2,    2.58,2,-999.000,9,-999.000,9,-999.0000,9,  -999.0,9,  -999.0,9,-999.0000,9,  -999.00,9, -999.00,9,  -999.0,9, -999.00,9, -999.00,9,     -999.0,9, 20220507,      150,  29.9967, 134.8612,     1.6877,2,     -999.0,9,     -999.0,9,     -999.0,9,     -999.0,9,     0.0122,1,     4.7083,1,     -999.0,9,     -999.0,9,     -999.0,9
33RR20220430,        P02,      12,          1,          7,          7,2,20220507,       0110,    29.9967,   134.8612,       4702,  3044.1,2,   1.6186,2,  34.6624,3,  34.6600,2,    139.0,2,   140.2,2,  143.52,2,   36.73,2,    0.00,2,    2.55,2,   0.009,2,   0.007,2,   0.0000,2,  2327.5,2,  2413.1,2,   7.5556,2,    24.94,2, -999.00,9,  -999.0,9, -999.00,1, -999.00,1,       20.1,2, 20220507,      145,  29.9967, 134.8612,     1.6185,2,     -999.0,9,     -999.0,9,     -999.0,9,     -999.0,9,     0.0122,1,     4.7081,1,     -999.0,9,     -999.0,9,     -999.0,9
33RR20220430,        P02,      12,          1,          6,          6,2,20220507,       0110,    29.9967,   134.8612,       4702,  3349.3,2,   1.5561,2,  34.6730,2,  34.6714,2,    146.4,2,   147.4,2,  142.34,2,   36.34,2,    0.00,2,    2.50,2,-999.000,9,-999.000,9,-999.0000,9,  -999.0,9,  -999.0,9,-999.0000,9,  -999.00,9, -999.00,9,  -999.0,9, -999.00,9, -999.00,9,     -999.0,9, 20220507,      139,  29.9968, 134.8612,     1.5559,2,     -999.0,9,     -999.0,9,     -999.0,9,     -999.0,9,     0.0122,1,     4.7084,1,     -999.0,9,     -999.0,9,     -999.0,9
33RR20220430,        P02,      12,          1,          5,          5,2,20220507,       0110,    29.9967,   134.8612,       4702,  3656.7,2,   1.5426,2,  34.6781,3,  34.6755,2,    150.5,2,   151.2,2,  142.25,2,   36.11,2,    0.00,2,    2.48,2,   0.007,2,   0.006,2,   0.0000,2,  2322.6,2,  2413.2,2,   7.5728,2,    25.03,2, -999.00,9,  -999.0,9, -999.00,1, -999.00,1,       18.8,2, 20220507,      133,  29.9968, 134.8612,     1.5426,2,     -999.0,9,     -999.0,9,     -999.0,9,     -999.0,9,     0.0127,1,     4.7059,1,     -999.0,9,     -999.0,9,     -999.0,9
33RR20220430,        P02,      12,          1,          4,          4,2,20220507,       0110,    29.9967,   134.8612,       4702,  3965.8,2,   1.5565,2,  34.6802,3,  34.6771,2,    152.5,2,   152.3,2,  142.25,2,   36.05,2,    0.00,2,    2.48,2,-999.000,9,-999.000,9,-999.0000,9,  -999.0,9,  -999.0,9,-999.0000,9,  -999.00,9, -999.00,9,  -999.0,9, -999.00,9, -999.00,9,     -999.0,9, 20220507,      127,  29.9967, 134.8612,     1.5564,2,     -999.0,9,     -999.0,9,     -999.0,9,     -999.0,9,     0.0122,1,     4.7031,1,     -999.0,9,     -999.0,9,     -999.0,9