BOTTLE,20230801CCHSIOCBG
EXPOCODE,SECT_ID,STNNBR,CASTNO,SAMPNO,BTLNBR,BTLNBR_FLAG_W,DATE,TIME,LATITUDE,LONGITUDE,DEPTH,CTDPRS,CTDPRS_FLAG_W,CTDTMP,CTDTMP_FLAG_W,CTDSAL,CTDSAL_FLAG_W,SALNTY,SALNTY_FLAG_W,CTDOXY,CTDOXY_FLAG_W,OXYGEN,OXYGEN_FLAG_W,SILCAT,SILCAT_FLAG_W,NITRAT,NITRAT_FLAG_W,NITRIT,NITRIT_FLAG_W,PHSPHT,PHSPHT_FLAG_W,CFC-11,CFC-11_FLAG_W,CFC-12,CFC-12_FLAG_W,SF6,SF6_FLAG_W,TCARBN,TCARBN_FLAG_W,ALKALI,ALKALI_FLAG_W,PH_TOT,PH_TOT_FLAG_W,PH_TMP,PH_TMP_FLAG_W,DELC13,DELC13_FLAG_W,DELC14,DELC14_FLAG_W,DOC,DOC_FLAG_W,TDN,TDN_FLAG_W,N2O,N2O_FLAG_W,BTL_DATE,BTL_TIME,BTL_LAT,BTL_LON,REFTMP,REFTMP_FLAG_W,POC,POC_FLAG_W,PON,PON_FLAG_W,POP,POP_FLAG_W,PCOD,PCOD_FLAG_W,CTDFLUOR,CTDFLUOR_FLAG_W,CTDXMISS,CTDXMISS_FLAG_W,HPLC,HPLC_FLAG_W,DNA,DNA_FLAG_W,FCM,FCM_FLAG_W
,,,,,,,,,,,METERS,DBAR,,ITS-90,,PSS-78,,PSS-78,,UMOL/KG,,UMOL/KG,,UMOL/KG,,UMOL/KG,,UMOL/KG,,UMOL/KG,,PMOL/KG,,PMOL/KG,,FMOL/KG,,UMOL/KG,,UMOL/KG,,,,DEG C,,/MILLE,,/MILLE,,UMOL/KG,,UMOL/KG,,NMOL/KG,,,,,,ITS-90,,UG/L,,UG/L,,UG/L,,UG/L,,VOLTS,,VOLTS,,,,,,,
33RR20220430,        P02,      54,          1,          3,          3,2,20220520,       1222,    29.9990,   163.3729,       5992,  5301.9,2,   1.5097,2,  34.6921,3,  34.6891,2,    169.1,2,   169.4,2,  138.32,2,   34.64,2,    0.00,2,    2.39,2,   0.006,2,   0.000,2,   0.0000,2,  2306.9,2,  2402.5,2,   7.5934,2,    25.03,2, -999.00,9,  -999.0,9, -999.00,9, -999.00,9,       20.6,2, 20220520,     1237,  29.9990, 163.3729,     1.5097,2,     -999.0,9,     -999.0,9,     -999.0,9,     -999.0,9,     0.0122,1,     4.7091,1,     -999.0,9,     -999.0,9,     -999.0,9
33RR20220430,        P02,      54,          1,          2,          2,2,20220520,       1222,    29.9990,   163.3729,       5992,  5715.1,2,   1.5365,2,  34.6940,3,  34.6918,2,    172.6,2,   172.7,2,  135.78,2,   34.34,2,    0.00,2,    2.38,2,-999.000,9,-999.000,9,-999.0000,9,  2302.0,6,  2400.7,2,   7.5964,2,    25.02,2, -999.00,9,  -999.0,9, -999.00,9, -999.00,9,     -999.0,9, 20220520,     1229,  29.9990, 163.3729,     1.5366,2,     -999.0,9,     -999.0,9,     -999.0,9,     -999.0,9,     0.0122,1,     4.7077,1,     -999.0,9,     -999.0,9,     -999.0,9
33RR20220430,        P02,      54,          1,          1,          1,2,20220520,       1222,    29.9990,   163.3729,       5992,  6108.1,2,   1.5706,2,  34.6953,2,  34.6956,2,    175.5,2,   175.3,2,  134.02,2,   34.14,2,    0.00,2,    2.36,2,   0.009,2,   0.000,2,   0.0000,2,  2301.4,2,  2398.2,2,   7.6005,2,    25.03,2, -999.00,9,  -999.0,9, -999.00,9, -999.00,9,       20.5,2, 20220520,     1222,  29.9990, 163.3729,     1.5707,2,     -999.0,9,     -999.0,9,     -999.0,9,     -999.0,9,     0.0122,1,     4.7042,1,     -999.0,9,     -999.0,9,     -999.0,9