BOTTLE,20230801CCHSIOCBG
EXPOCODE,SECT_ID,STNNBR,CASTNO,SAMPNO,BTLNBR,BTLNBR_FLAG_W,DATE,TIME,LATITUDE,LONGITUDE,DEPTH,CTDPRS,CTDPRS_FLAG_W,CTDTMP,CTDTMP_FLAG_W,CTDSAL,CTDSAL_FLAG_W,SALNTY,SALNTY_FLAG_W,CTDOXY,CTDOXY_FLAG_W,OXYGEN,OXYGEN_FLAG_W,SILCAT,SILCAT_FLAG_W,NITRAT,NITRAT_FLAG_W,NITRIT,NITRIT_FLAG_W,PHSPHT,PHSPHT_FLAG_W,CFC-11,CFC-11_FLAG_W,CFC-12,CFC-12_FLAG_W,SF6,SF6_FLAG_W,TCARBN,TCARBN_FLAG_W,ALKALI,ALKALI_FLAG_W,PH_TOT,PH_TOT_FLAG_W,PH_TMP,PH_TMP_FLAG_W,DELC13,DELC13_FLAG_W,DELC14,DELC14_FLAG_W,DOC,DOC_FLAG_W,TDN,TDN_FLAG_W,N2O,N2O_FLAG_W,BTL_DATE,BTL_TIME,BTL_LAT,BTL_LON,REFTMP,REFTMP_FLAG_W,POC,POC_FLAG_W,PON,PON_FLAG_W,POP,POP_FLAG_W,PCOD,PCOD_FLAG_W,CTDFLUOR,CTDFLUOR_FLAG_W,CTDXMISS,CTDXMISS_FLAG_W,HPLC,HPLC_FLAG_W,DNA,DNA_FLAG_W,FCM,FCM_FLAG_W
,,,,,,,,,,,METERS,DBAR,,ITS-90,,PSS-78,,PSS-78,,UMOL/KG,,UMOL/KG,,UMOL/KG,,UMOL/KG,,UMOL/KG,,UMOL/KG,,PMOL/KG,,PMOL/KG,,FMOL/KG,,UMOL/KG,,UMOL/KG,,,,DEG C,,/MILLE,,/MILLE,,UMOL/KG,,UMOL/KG,,NMOL/KG,,,,,,ITS-90,,UG/L,,UG/L,,UG/L,,UG/L,,VOLTS,,VOLTS,,,,,,,
33RR20220430,        P02,      93,          1,          3,          3,2,20220601,       0502,    29.9995,  -175.0587,       5337,  4994.5,2,   1.5273,2,  34.6870,2,  34.6875,2,    155.7,2,   155.4,2,  151.70,2,   35.69,2,    0.00,2,    2.44,2,   0.005,2,   0.000,2,   0.0000,2,  2324.5,2,  2416.7,2,   7.5820,2,    25.02,2, -999.00,9,  -999.0,9, -999.00,1, -999.00,1,       19.8,2, 20220601,      512,  29.9995,-175.0587,     1.5273,2,     -999.0,9,     -999.0,9,     -999.0,9,     -999.0,9,     0.0122,1,     4.7058,1,     -999.0,9,     -999.0,9,     -999.0,9
33RR20220430,        P02,      93,          1,          2,          2,2,20220601,       0502,    29.9995,  -175.0587,       5337,  5199.9,2,   1.5366,2,  34.6883,2,  34.6887,2,    158.8,2,   159.1,2,  148.19,2,   35.45,2,    0.00,2,    2.43,2,-999.000,9,-999.000,9,-999.0000,9,  2321.9,2,  2414.3,2,   7.5861,2,    25.00,2, -999.00,9,  -999.0,9, -999.00,9, -999.00,9,     -999.0,9, 20220601,      507,  29.9995,-175.0587,     1.5366,2,     -999.0,9,     -999.0,9,     -999.0,9,     -999.0,9,     0.0122,1,     4.7052,1,     -999.0,9,     -999.0,9,     -999.0,9
33RR20220430,        P02,      93,          1,          1,          1,2,20220601,       0502,    29.9995,  -175.0587,       5337,  5433.9,2,   1.5564,2,  34.6894,2,  34.6906,2,    161.2,2,   161.0,2,  145.94,2,   35.32,2,    0.00,2,    2.41,2,   0.007,2,   0.000,2,   0.0000,2,  2320.1,6,  2413.7,2,   7.5884,2,    25.03,2, -999.00,9,  -999.0,9, -999.00,1, -999.00,1,       19.6,2, 20220601,      502,  29.9995,-175.0587,     1.5565,2,     -999.0,9,     -999.0,9,     -999.0,9,     -999.0,9,     0.0126,1,     4.7008,1,     -999.0,9,     -999.0,9,     -999.0,9