BOTTLE,20230801CCHSIOCBG
EXPOCODE,SECT_ID,STNNBR,CASTNO,SAMPNO,BTLNBR,BTLNBR_FLAG_W,DATE,TIME,LATITUDE,LONGITUDE,DEPTH,CTDPRS,CTDPRS_FLAG_W,CTDTMP,CTDTMP_FLAG_W,CTDSAL,CTDSAL_FLAG_W,SALNTY,SALNTY_FLAG_W,CTDOXY,CTDOXY_FLAG_W,OXYGEN,OXYGEN_FLAG_W,SILCAT,SILCAT_FLAG_W,NITRAT,NITRAT_FLAG_W,NITRIT,NITRIT_FLAG_W,PHSPHT,PHSPHT_FLAG_W,CFC-11,CFC-11_FLAG_W,CFC-12,CFC-12_FLAG_W,SF6,SF6_FLAG_W,TCARBN,TCARBN_FLAG_W,ALKALI,ALKALI_FLAG_W,PH_TOT,PH_TOT_FLAG_W,PH_TMP,PH_TMP_FLAG_W,DELC13,DELC13_FLAG_W,DELC14,DELC14_FLAG_W,DOC,DOC_FLAG_W,TDN,TDN_FLAG_W,N2O,N2O_FLAG_W,BTL_DATE,BTL_TIME,BTL_LAT,BTL_LON,REFTMP,REFTMP_FLAG_W,POC,POC_FLAG_W,PON,PON_FLAG_W,POP,POP_FLAG_W,PCOD,PCOD_FLAG_W,CTDFLUOR,CTDFLUOR_FLAG_W,CTDXMISS,CTDXMISS_FLAG_W,HPLC,HPLC_FLAG_W,DNA,DNA_FLAG_W,FCM,FCM_FLAG_W
,,,,,,,,,,,METERS,DBAR,,ITS-90,,PSS-78,,PSS-78,,UMOL/KG,,UMOL/KG,,UMOL/KG,,UMOL/KG,,UMOL/KG,,UMOL/KG,,PMOL/KG,,PMOL/KG,,FMOL/KG,,UMOL/KG,,UMOL/KG,,,,DEG C,,/MILLE,,/MILLE,,UMOL/KG,,UMOL/KG,,NMOL/KG,,,,,,ITS-90,,UG/L,,UG/L,,UG/L,,UG/L,,VOLTS,,VOLTS,,,,,,,
33RR20220430,        P02,      30,          1,          3,          3,2,20220512,       1247,    30.0001,   147.8874,       6063,  5302.2,2,   1.5371,2,  34.6903,2,  34.6906,2,    164.4,2,   164.5,2,  141.55,2,   34.97,2,    0.00,2,    2.40,2,   0.007,2,   0.000,2,   0.0000,2,  2310.8,2,  2409.3,2,   7.5877,2,    25.04,2, -999.00,9,  -999.0,9, -999.00,9, -999.00,9,       22.8,2, 20220512,     1302,  30.0000, 147.8874,     1.5368,2,     -999.0,9,     -999.0,9,     -999.0,9,     -999.0,9,     0.0134,1,     4.7080,1,     -999.0,9,     -999.0,9,     -999.0,9
33RR20220430,        P02,      30,          1,          2,          2,2,20220512,       1247,    30.0001,   147.8874,       6063,  5715.6,2,   1.5742,2,  34.6918,2,  34.6934,2,    167.5,2,   167.7,2,  139.01,2,   34.63,2,    0.00,2,    2.39,2,   0.006,2,   0.000,2,   0.0000,2,  2308.8,6,  2408.3,2,   7.5923,2,    25.02,2, -999.00,9,  -999.0,9, -999.00,9, -999.00,9,       22.8,2, 20220512,     1254,  30.0001, 147.8874,     1.5739,2,     -999.0,9,     -999.0,9,     -999.0,9,     -999.0,9,     0.0122,1,     4.7067,1,     -999.0,9,     -999.0,9,     -999.0,9
33RR20220430,        P02,      30,          1,          1,          1,2,20220512,       1247,    30.0001,   147.8874,       6063,  6075.5,2,   1.6083,2,  34.6917,3,  34.6946,2,    170.0,2,   170.0,2,  136.86,2,   34.44,2,    0.00,2,    2.37,2,   0.009,2,   0.000,2,   0.0000,2,  2306.6,2,  2407.9,2,   7.5950,2,    25.02,2, -999.00,9,  -999.0,9, -999.00,9, -999.00,9,       22.9,2, 20220512,     1247,  30.0000, 147.8874,     1.6089,2,     -999.0,9,     -999.0,9,     -999.0,9,     -999.0,9,     0.0122,1,     4.7046,1,     -999.0,9,     -999.0,9,     -999.0,9