BOTTLE,20230801CCHSIOCBG
EXPOCODE,SECT_ID,STNNBR,CASTNO,SAMPNO,BTLNBR,BTLNBR_FLAG_W,DATE,TIME,LATITUDE,LONGITUDE,DEPTH,CTDPRS,CTDPRS_FLAG_W,CTDTMP,CTDTMP_FLAG_W,CTDSAL,CTDSAL_FLAG_W,SALNTY,SALNTY_FLAG_W,CTDOXY,CTDOXY_FLAG_W,OXYGEN,OXYGEN_FLAG_W,SILCAT,SILCAT_FLAG_W,NITRAT,NITRAT_FLAG_W,NITRIT,NITRIT_FLAG_W,PHSPHT,PHSPHT_FLAG_W,CFC-11,CFC-11_FLAG_W,CFC-12,CFC-12_FLAG_W,SF6,SF6_FLAG_W,TCARBN,TCARBN_FLAG_W,ALKALI,ALKALI_FLAG_W,PH_TOT,PH_TOT_FLAG_W,PH_TMP,PH_TMP_FLAG_W,DELC13,DELC13_FLAG_W,DELC14,DELC14_FLAG_W,DOC,DOC_FLAG_W,TDN,TDN_FLAG_W,N2O,N2O_FLAG_W,BTL_DATE,BTL_TIME,BTL_LAT,BTL_LON,REFTMP,REFTMP_FLAG_W,POC,POC_FLAG_W,PON,PON_FLAG_W,POP,POP_FLAG_W,PCOD,PCOD_FLAG_W,CTDFLUOR,CTDFLUOR_FLAG_W,CTDXMISS,CTDXMISS_FLAG_W,HPLC,HPLC_FLAG_W,DNA,DNA_FLAG_W,FCM,FCM_FLAG_W
,,,,,,,,,,,METERS,DBAR,,ITS-90,,PSS-78,,PSS-78,,UMOL/KG,,UMOL/KG,,UMOL/KG,,UMOL/KG,,UMOL/KG,,UMOL/KG,,PMOL/KG,,PMOL/KG,,FMOL/KG,,UMOL/KG,,UMOL/KG,,,,DEG C,,/MILLE,,/MILLE,,UMOL/KG,,UMOL/KG,,NMOL/KG,,,,,,ITS-90,,UG/L,,UG/L,,UG/L,,UG/L,,VOLTS,,VOLTS,,,,,,,
33RR20220430,        P02,     109,          1,          3,          3,2,20220605,       2235,    29.9994,  -165.8283,       5560,  5097.8,2,   1.5452,2,  34.6865,2,  34.6873,2,    154.5,2,   154.7,2,  151.22,2,   36.10,2,    0.00,2,    2.48,2,   0.008,2,   0.000,2,   0.0000,2,  2322.4,6,  2418.1,2,   7.5821,2,    24.99,2, -999.00,9,  -999.0,9, -999.00,1, -999.00,1,       22.1,2, 20220605,     2246,  29.9995,-165.8284,     1.5454,2,     -999.0,9,     -999.0,9,     -999.0,9,     -999.0,9,     0.0122,1,     4.7049,1,     -999.0,9,     -999.0,9,     -999.0,9
33RR20220430,        P02,     109,          1,          2,          2,2,20220605,       2235,    29.9994,  -165.8283,       5560,  5407.2,2,   1.5718,2,  34.6878,2,  34.6863,2,    157.4,2,   157.4,2,  147.80,2,   35.89,2,    0.00,2,    2.47,2,-999.000,9,-999.000,9,-999.0000,9,  2319.2,2,  2416.5,2,   7.5844,2,    24.99,2, -999.00,9,  -999.0,9, -999.00,1, -999.00,1,     -999.0,9, 20220605,     2240,  29.9994,-165.8284,     1.5720,2,     -999.0,9,     -999.0,9,     -999.0,9,     -999.0,9,     0.0130,1,     4.7036,1,     -999.0,9,     -999.0,9,     -999.0,9
33RR20220430,        P02,     109,          1,          1,          1,2,20220605,       2235,    29.9994,  -165.8283,       5560,  5658.8,2,   1.5994,2,  34.6882,2,  34.6893,2,    158.9,2,   158.8,2,  146.23,2,   35.75,2,    0.00,2,    2.46,2,   0.008,2,   0.000,2,   0.0000,2,  2320.0,2,  2414.7,2,   7.5849,2,    24.98,2, -999.00,9,  -999.0,9, -999.00,1, -999.00,1,       21.8,2, 20220605,     2235,  29.9995,-165.8284,     1.5997,2,     -999.0,9,     -999.0,9,     -999.0,9,     -999.0,9,     0.0112,1,     4.7010,1,     -999.0,9,     -999.0,9,     -999.0,9
33RR20220430,        P02,     110,          1,         16,         16,2,20220606,       0355,    29.9987,  -165.2521,       5356,     3.3,2,  23.2591,2,  34.7925,2,-999.0000,9,    213.0,2,  -999.0,9, -999.00,9, -999.00,9, -999.00,9, -999.00,9,-999.000,9,-999.000,9,-999.0000,9,  -999.0,9,  -999.0,9,-999.0000,9,  -999.00,9, -999.00,9,  -999.0,9, -999.00,9, -999.00,9,     -999.0,9, 20220606,      423,  29.9987,-165.2521,     -999.0,9,     -999.0,9,     -999.0,9,     -999.0,1,     -999.0,9,     0.0134,1,     4.6188,1,     -999.0,9,     -999.0,9,     -999.0,9
33RR20220430,        P02,     110,          1,         18,         18,2,20220606,       0355,    29.9987,  -165.2521,       5356,     3.3,2,  23.2482,2,  34.7930,2,-999.0000,9,    213.1,2,  -999.0,9, -999.00,9, -999.00,9, -999.00,9, -999.00,9,-999.000,9,-999.000,9,-999.0000,9,  -999.0,9,  -999.0,9,-999.0000,9,  -999.00,9, -999.00,9,  -999.0,9, -999.00,9, -999.00,9,     -999.0,9, 20220606,      423,  29.9987,-165.2521,    23.2578,2,     -999.0,9,     -999.0,9,     -999.0,9,     -999.0,1,     0.0134,1,     4.6174,1,     -999.0,9,     -999.0,9,     -999.0,9
33RR20220430,        P02,     110,          1,         10,         10,2,20220606,       0355,    29.9987,  -165.2521,       5356,     3.4,2,  23.2497,2,  34.7920,2,-999.0000,9,    213.0,2,  -999.0,9, -999.00,9, -999.00,9, -999.00,9, -999.00,9,-999.000,9,-999.000,9,-999.0000,9,  -999.0,9,  -999.0,9,-999.0000,9,  -999.00,9, -999.00,9,  -999.0,9, -999.00,9, -999.00,9,     -999.0,9, 20220606,      421,  29.9987,-165.2521,     -999.0,9,     -999.0,9,     -999.0,9,     -999.0,9,     -999.0,9,     0.0134,1,     4.6196,1,     -999.0,9,     -999.0,1,     -999.0,9
33RR20220430,        P02,     110,          1,         12,         12,2,20220606,       0355,    29.9987,  -165.2521,       5356,     3.6,2,  23.2524,2,  34.7925,2,-999.0000,9,    212.7,2,  -999.0,9, -999.00,9, -999.00,9, -999.00,9, -999.00,9,-999.000,9,-999.000,9,-999.0000,9,  -999.0,9,  -999.0,9,-999.0000,9,  -999.00,9, -999.00,9,  -999.0,9, -999.00,9, -999.00,9,     -999.0,9, 20220606,      421,  29.9987,-165.2521,     -999.0,9,     -999.0,1,     -999.0,1,     -999.0,9,     -999.0,9,     0.0134,1,     4.6193,1,     -999.0,9,     -999.0,9,     -999.0,9
33RR20220430,        P02,     110,          1,         13,         13,2,20220606,       0355,    29.9987,  -165.2521,       5356,     3.9,2,  23.2381,2,  34.7937,2,-999.0000,9,    212.9,2,  -999.0,9, -999.00,9, -999.00,9, -999.00,9, -999.00,9,-999.000,9,-999.000,9,-999.0000,9,  -999.0,9,  -999.0,9,-999.0000,9,  -999.00,9, -999.00,9,  -999.0,9, -999.00,9, -999.00,9,     -999.0,9, 20220606,      422,  29.9987,-165.2520,    23.2534,2,     -999.0,1,     -999.0,1,     -999.0,9,     -999.0,9,     0.0140,1,     4.6193,1,     -999.0,9,     -999.0,9,     -999.0,9
33RR20220430,        P02,     110,          1,          9,          9,2,20220606,       0355,    29.9987,  -165.2521,       5356,     3.9,2,  23.2573,2,  34.7911,2,-999.0000,9,    212.9,2,  -999.0,9, -999.00,9, -999.00,9, -999.00,9, -999.00,9,-999.000,9,-999.000,9,-999.0000,9,  -999.0,9,  -999.0,9,-999.0000,9,  -999.00,9, -999.00,9,  -999.0,9, -999.00,9, -999.00,9,     -999.0,9, 20220606,      421,  29.9987,-165.2521,    23.2476,2,     -999.0,9,     -999.0,9,     -999.0,9,     -999.0,9,     0.0134,1,     4.6201,1,     -999.0,1,     -999.0,9,     -999.0,1
33RR20220430,        P02,     110,          1,         14,         14,2,20220606,       0355,    29.9987,  -165.2521,       5356,     4.0,2,  23.1927,2,  34.7936,2,-999.0000,9,    213.1,2,  -999.0,9, -999.00,9, -999.00,9, -999.00,9, -999.00,9,-999.000,9,-999.000,9,-999.0000,9,  -999.0,9,  -999.0,9,-999.0000,9,  -999.00,9, -999.00,9,  -999.0,9, -999.00,9, -999.00,9,     -999.0,9, 20220606,      422,  29.9987,-165.2521,    23.2274,2,     -999.0,9,     -999.0,9,     -999.0,1,     -999.0,9,     0.0134,1,     4.6186,1,     -999.0,9,     -999.0,9,     -999.0,9
33RR20220430,        P02,     110,          1,         19,         19,2,20220606,       0355,    29.9987,  -165.2521,       5356,     4.0,2,  23.2665,2,  34.7927,2,-999.0000,9,    212.0,2,  -999.0,9, -999.00,9, -999.00,9, -999.00,9, -999.00,9,-999.000,9,-999.000,9,-999.0000,9,  -999.0,9,  -999.0,9,-999.0000,9,  -999.00,9, -999.00,9,  -999.0,9, -999.00,9, -999.00,9,     -999.0,9, 20220606,      424,  29.9987,-165.2521,     -999.0,9,     -999.0,9,     -999.0,9,     -999.0,9,     -999.0,1,     0.0134,1,     4.6177,1,     -999.0,9,     -999.0,9,     -999.0,9
33RR20220430,        P02,     110,          1,         15,         15,2,20220606,       0355,    29.9987,  -165.2521,       5356,     4.1,2,  23.2424,2,  34.7925,2,-999.0000,9,    212.9,2,  -999.0,9, -999.00,9, -999.00,9, -999.00,9, -999.00,9,-999.000,9,-999.000,9,-999.0000,9,  -999.0,9,  -999.0,9,-999.0000,9,  -999.00,9, -999.00,9,  -999.0,9, -999.00,9, -999.00,9,     -999.0,9, 20220606,      423,  29.9987,-165.2521,    23.2435,2,     -999.0,9,     -999.0,9,     -999.0,1,     -999.0,9,     0.0134,1,     4.6165,1,     -999.0,9,     -999.0,9,     -999.0,9
33RR20220430,        P02,     110,          1,         17,         17,2,20220606,       0355,    29.9987,  -165.2521,       5356,     4.4,2,  23.2537,2,  34.7928,2,-999.0000,9,    213.1,2,  -999.0,9, -999.00,9, -999.00,9, -999.00,9, -999.00,9,-999.000,9,-999.000,9,-999.0000,9,  -999.0,9,  -999.0,9,-999.0000,9,  -999.00,9, -999.00,9,  -999.0,9, -999.00,9, -999.00,9,     -999.0,9, 20220606,      423,  29.9987,-165.2521,    23.2459,2,     -999.0,9,     -999.0,9,     -999.0,9,     -999.0,1,     0.0134,1,     4.6183,1,     -999.0,9,     -999.0,9,     -999.0,9
33RR20220430,        P02,     110,          1,         11,         11,2,20220606,       0355,    29.9987,  -165.2521,       5356,     4.5,2,  23.2545,2,  34.7922,2,-999.0000,9,    212.8,2,  -999.0,9, -999.00,9, -999.00,9, -999.00,9, -999.00,9,-999.000,9,-999.000,9,-999.0000,9,  -999.0,9,  -999.0,9,-999.0000,9,  -999.00,9, -999.00,9,  -999.0,9, -999.00,9, -999.00,9,     -999.0,9, 20220606,      421,  29.9987,-165.2521,    23.2514,2,     -999.0,1,     -999.0,1,     -999.0,9,     -999.0,9,     0.0134,1,     4.6200,1,     -999.0,9,     -999.0,9,     -999.0,9
33RR20220430,        P02,     110,          1,          8,          8,2,20220606,       0355,    29.9987,  -165.2521,       5356,    41.5,2,  19.5370,2,  34.8658,2,-999.0000,9,    232.3,2,  -999.0,9, -999.00,9, -999.00,9, -999.00,9, -999.00,9,-999.000,9,-999.000,9,-999.0000,9,  -999.0,9,  -999.0,9,-999.0000,9,  -999.00,9, -999.00,9,  -999.0,9, -999.00,9, -999.00,9,     -999.0,9, 20220606,      418,  29.9987,-165.2521,    19.5483,2,     -999.0,9,     -999.0,9,     -999.0,9,     -999.0,9,     0.0159,1,     4.6167,1,     -999.0,1,     -999.0,9,     -999.0,1
33RR20220430,        P02,     110,          1,          7,          7,2,20220606,       0355,    29.9987,  -165.2521,       5356,    76.5,2,  18.3385,2,  34.7580,2,-999.0000,9,    232.7,2,  -999.0,9, -999.00,9, -999.00,9, -999.00,9, -999.00,9,-999.000,9,-999.000,9,-999.0000,9,  -999.0,9,  -999.0,9,-999.0000,9,  -999.00,9, -999.00,9,  -999.0,9, -999.00,9, -999.00,9,     -999.0,9, 20220606,      416,  29.9987,-165.2521,    18.3265,2,     -999.0,9,     -999.0,9,     -999.0,9,     -999.0,9,     0.0183,1,     4.6336,1,     -999.0,9,     -999.0,9,     -999.0,1
33RR20220430,        P02,     110,          1,          6,          6,2,20220606,       0355,    29.9987,  -165.2521,       5356,   102.8,2,  17.4206,2,  34.6758,2,-999.0000,9,    230.2,2,  -999.0,9, -999.00,9, -999.00,9, -999.00,9, -999.00,9,-999.000,9,-999.000,9,-999.0000,9,  -999.0,9,  -999.0,9,-999.0000,9,  -999.00,9, -999.00,9,  -999.0,9, -999.00,9, -999.00,9,     -999.0,9, 20220606,      414,  29.9987,-165.2521,    17.4255,2,     -999.0,9,     -999.0,9,     -999.0,9,     -999.0,9,     0.0271,1,     4.6381,1,     -999.0,1,     -999.0,9,     -999.0,1
33RR20220430,        P02,     110,          1,          5,          5,2,20220606,       0355,    29.9987,  -165.2521,       5356,   103.3,2,  17.4023,2,  34.6736,2,-999.0000,9,    230.0,2,  -999.0,9, -999.00,9, -999.00,9, -999.00,9, -999.00,9,-999.000,9,-999.000,9,-999.0000,9,  -999.0,9,  -999.0,9,-999.0000,9,  -999.00,9, -999.00,9,  -999.0,9, -999.00,9, -999.00,9,     -999.0,9, 20220606,      414,  29.9987,-165.2521,    17.4162,2,     -999.0,9,     -999.0,9,     -999.0,9,     -999.0,9,     0.0248,1,     4.6384,1,     -999.0,9,     -999.0,1,     -999.0,9
33RR20220430,        P02,     110,          1,          4,          4,2,20220606,       0355,    29.9987,  -165.2521,       5356,   152.7,2,  15.7315,2,  34.4849,2,-999.0000,9,    225.5,2,  -999.0,9, -999.00,9, -999.00,9, -999.00,9, -999.00,9,-999.000,9,-999.000,9,-999.0000,9,  -999.0,9,  -999.0,9,-999.0000,9,  -999.00,9, -999.00,9,  -999.0,9, -999.00,9, -999.00,9,     -999.0,9, 20220606,      412,  29.9987,-165.2521,    15.7703,2,     -999.0,9,     -999.0,9,     -999.0,9,     -999.0,9,     0.0232,1,     4.6692,1,     -999.0,9,     -999.0,9,     -999.0,1
33RR20220430,        P02,     110,          1,          3,          3,2,20220606,       0355,    29.9987,  -165.2521,       5356,   205.0,2,  14.3406,2,  34.4467,2,-999.0000,9,    207.4,2,  -999.0,9, -999.00,9, -999.00,9, -999.00,9, -999.00,9,-999.000,9,-999.000,9,-999.0000,9,  -999.0,9,  -999.0,9,-999.0000,9,  -999.00,9, -999.00,9,  -999.0,9, -999.00,9, -999.00,9,     -999.0,9, 20220606,      410,  29.9987,-165.2521,    14.3390,2,     -999.0,9,     -999.0,9,     -999.0,9,     -999.0,9,     0.0130,1,     4.6874,1,     -999.0,9,     -999.0,1,     -999.0,1
33RR20220430,        P02,     110,          1,          2,          2,2,20220606,       0355,    29.9987,  -165.2521,       5356,   508.4,2,   7.8989,2,  34.0244,2,-999.0000,9,    158.4,2,  -999.0,9, -999.00,9, -999.00,9, -999.00,9, -999.00,9,-999.000,9,-999.000,9,-999.0000,9,  -999.0,9,  -999.0,9,-999.0000,9,  -999.00,9, -999.00,9,  -999.0,9, -999.00,9, -999.00,9,     -999.0,9, 20220606,      404,  29.9987,-165.2521,     7.9030,2,     -999.0,9,     -999.0,9,     -999.0,9,     -999.0,9,     0.0122,1,     4.6983,1,     -999.0,9,     -999.0,9,     -999.0,1
33RR20220430,        P02,     110,          1,          1,          1,2,20220606,       0355,    29.9987,  -165.2521,       5356,  1011.1,2,   3.6648,2,  34.3257,2,-999.0000,9,     15.7,2,  -999.0,9, -999.00,9, -999.00,9, -999.00,9, -999.00,9,-999.000,9,-999.000,9,-999.0000,9,  -999.0,9,  -999.0,9,-999.0000,9,  -999.00,9, -999.00,9,  -999.0,9, -999.00,9, -999.00,9,     -999.0,9, 20220606,      355,  29.9987,-165.2521,     3.6643,2,     -999.0,9,     -999.0,9,     -999.0,9,     -999.0,9,     0.0134,1,     4.7005,1,     -999.0,9,     -999.0,1,     -999.0,1