BOTTLE,20230801CCHSIOCBG
EXPOCODE,SECT_ID,STNNBR,CASTNO,SAMPNO,BTLNBR,BTLNBR_FLAG_W,DATE,TIME,LATITUDE,LONGITUDE,DEPTH,CTDPRS,CTDPRS_FLAG_W,CTDTMP,CTDTMP_FLAG_W,CTDSAL,CTDSAL_FLAG_W,SALNTY,SALNTY_FLAG_W,CTDOXY,CTDOXY_FLAG_W,OXYGEN,OXYGEN_FLAG_W,SILCAT,SILCAT_FLAG_W,NITRAT,NITRAT_FLAG_W,NITRIT,NITRIT_FLAG_W,PHSPHT,PHSPHT_FLAG_W,CFC-11,CFC-11_FLAG_W,CFC-12,CFC-12_FLAG_W,SF6,SF6_FLAG_W,TCARBN,TCARBN_FLAG_W,ALKALI,ALKALI_FLAG_W,PH_TOT,PH_TOT_FLAG_W,PH_TMP,PH_TMP_FLAG_W,DELC13,DELC13_FLAG_W,DELC14,DELC14_FLAG_W,DOC,DOC_FLAG_W,TDN,TDN_FLAG_W,N2O,N2O_FLAG_W,BTL_DATE,BTL_TIME,BTL_LAT,BTL_LON,REFTMP,REFTMP_FLAG_W,POC,POC_FLAG_W,PON,PON_FLAG_W,POP,POP_FLAG_W,PCOD,PCOD_FLAG_W,CTDFLUOR,CTDFLUOR_FLAG_W,CTDXMISS,CTDXMISS_FLAG_W,HPLC,HPLC_FLAG_W,DNA,DNA_FLAG_W,FCM,FCM_FLAG_W
,,,,,,,,,,,METERS,DBAR,,ITS-90,,PSS-78,,PSS-78,,UMOL/KG,,UMOL/KG,,UMOL/KG,,UMOL/KG,,UMOL/KG,,UMOL/KG,,PMOL/KG,,PMOL/KG,,FMOL/KG,,UMOL/KG,,UMOL/KG,,,,DEG C,,/MILLE,,/MILLE,,UMOL/KG,,UMOL/KG,,NMOL/KG,,,,,,ITS-90,,UG/L,,UG/L,,UG/L,,UG/L,,VOLTS,,VOLTS,,,,,,,
33RR20220430,        P02,       5,          1,         32,         32,2,20220505,       0103,    32.2463,   133.3859,       1162,     3.3,2,  20.9826,2,  34.5137,2,-999.0000,9,    229.4,2,  -999.0,9, -999.00,9, -999.00,9, -999.00,9, -999.00,9,-999.000,9,-999.000,9,-999.0000,9,  -999.0,9,  -999.0,9,-999.0000,9,  -999.00,9, -999.00,9,  -999.0,9, -999.00,9, -999.00,9,     -999.0,9, 20220505,      154,  32.2463, 133.3857,    20.9836,2,     -999.0,9,     -999.0,9,     -999.0,1,     -999.0,9,     0.0202,1,     4.6068,1,     -999.0,9,     -999.0,9,     -999.0,9
33RR20220430,        P02,       5,          1,         27,         27,2,20220505,       0103,    32.2463,   133.3859,       1162,     3.4,2,  20.9936,2,  34.5137,2,  34.5040,2,    229.1,2,   226.8,2,    0.10,2,    0.04,2,    0.00,2,    0.01,2,   2.034,2,   1.235,2,-999.0000,5,  1984.9,2,  2269.4,2,   8.0269,2,    24.99,2, -999.00,9,  -999.0,9, -999.00,1, -999.00,1,        7.9,2, 20220505,      152,  32.2462, 133.3854,    20.9895,2,     -999.0,9,     -999.0,9,     -999.0,9,     -999.0,9,     0.0195,1,     4.6060,1,     -999.0,1,     -999.0,9,     -999.0,1
33RR20220430,        P02,       5,          1,         29,         29,2,20220505,       0103,    32.2463,   133.3859,       1162,     3.4,2,  20.9837,2,  34.5138,2,-999.0000,9,    229.3,2,  -999.0,9, -999.00,9, -999.00,9, -999.00,9, -999.00,9,-999.000,9,-999.000,9,-999.0000,9,  -999.0,9,  -999.0,9,-999.0000,9,  -999.00,9, -999.00,9,  -999.0,9, -999.00,9, -999.00,9,     -999.0,9, 20220505,      153,  32.2462, 133.3855,    20.9868,2,     -999.0,1,     -999.0,1,     -999.0,9,     -999.0,9,     0.0195,1,     4.6006,1,     -999.0,9,     -999.0,9,     -999.0,9
33RR20220430,        P02,       5,          1,         30,         30,2,20220505,       0103,    32.2463,   133.3859,       1162,     3.4,2,  20.9861,2,  34.5139,2,-999.0000,9,    229.2,2,  -999.0,9, -999.00,9, -999.00,9, -999.00,9, -999.00,9,-999.000,9,-999.000,9,-999.0000,9,  -999.0,9,  -999.0,9,-999.0000,9,  -999.00,9, -999.00,9,  -999.0,9, -999.00,9, -999.00,9,     -999.0,9, 20220505,      153,  32.2462, 133.3856,    20.9879,2,     -999.0,1,     -999.0,1,     -999.0,9,     -999.0,9,     0.0195,1,     4.6118,1,     -999.0,9,     -999.0,9,     -999.0,9
33RR20220430,        P02,       5,          1,         35,         35,2,20220505,       0103,    32.2463,   133.3859,       1162,     3.4,2,  20.9895,2,  34.5141,2,-999.0000,9,    229.3,2,  -999.0,9, -999.00,9, -999.00,9, -999.00,9, -999.00,9,-999.000,9,-999.000,9,-999.0000,9,  -999.0,9,  -999.0,9,-999.0000,9,  -999.00,9, -999.00,9,  -999.0,9, -999.00,9, -999.00,9,     -999.0,9, 20220505,      154,  32.2463, 133.3859,    20.9882,2,     -999.0,9,     -999.0,9,     -999.0,9,     -999.0,1,     0.0195,1,     4.6077,1,     -999.0,9,     -999.0,9,     -999.0,9
33RR20220430,        P02,       5,          1,         31,         31,2,20220505,       0103,    32.2463,   133.3859,       1162,     3.4,2,  20.9892,2,  34.5139,2,-999.0000,9,    229.2,2,  -999.0,9, -999.00,9, -999.00,9, -999.00,9, -999.00,9,-999.000,9,-999.000,9,-999.0000,9,  -999.0,9,  -999.0,9,-999.0000,9,  -999.00,9, -999.00,9,  -999.0,9, -999.00,9, -999.00,9,     -999.0,9, 20220505,      153,  32.2462, 133.3857,     -999.0,9,     -999.0,9,     -999.0,9,     -999.0,1,     -999.0,9,     0.0207,1,     4.6076,1,     -999.0,9,     -999.0,9,     -999.0,9
33RR20220430,        P02,       5,          1,         28,         28,2,20220505,       0103,    32.2463,   133.3859,       1162,     3.5,2,  20.9887,2,  34.5138,2,-999.0000,9,    229.1,2,  -999.0,9, -999.00,9, -999.00,9, -999.00,9, -999.00,9,-999.000,9,-999.000,9,-999.0000,9,  -999.0,9,  -999.0,9,-999.0000,9,  -999.00,9, -999.00,9,  -999.0,9, -999.00,9, -999.00,9,     -999.0,9, 20220505,      153,  32.2462, 133.3855,    20.9857,2,     -999.0,9,     -999.0,9,     -999.0,9,     -999.0,9,     0.0195,1,     4.6037,1,     -999.0,9,     -999.0,1,     -999.0,9
33RR20220430,        P02,       5,          1,         33,         33,2,20220505,       0103,    32.2463,   133.3859,       1162,     3.6,2,  20.9848,2,  34.5134,2,-999.0000,9,    229.2,2,  -999.0,9, -999.00,9, -999.00,9, -999.00,9, -999.00,9,-999.000,9,-999.000,9,-999.0000,9,  -999.0,9,  -999.0,9,-999.0000,9,  -999.00,9, -999.00,9,  -999.0,9, -999.00,9, -999.00,9,     -999.0,9, 20220505,      154,  32.2463, 133.3858,    20.9890,2,     -999.0,9,     -999.0,9,     -999.0,1,     -999.0,9,     0.0208,1,     4.6037,1,     -999.0,9,     -999.0,9,     -999.0,9
33RR20220430,        P02,       5,          1,         34,         34,2,20220505,       0103,    32.2463,   133.3859,       1162,     3.6,2,  20.9919,2,  34.5139,2,-999.0000,9,    229.2,2,  -999.0,9, -999.00,9, -999.00,9, -999.00,9, -999.00,9,-999.000,9,-999.000,9,-999.0000,9,  -999.0,9,  -999.0,9,-999.0000,9,  -999.00,9, -999.00,9,  -999.0,9, -999.00,9, -999.00,9,     -999.0,9, 20220505,      154,  32.2463, 133.3858,     -999.0,9,     -999.0,9,     -999.0,9,     -999.0,9,     -999.0,1,     0.0205,1,     4.6104,1,     -999.0,9,     -999.0,9,     -999.0,9
33RR20220430,        P02,       5,          1,         36,         36,2,20220505,       0103,    32.2463,   133.3859,       1162,     3.6,2,  20.9875,2,  34.5138,2,-999.0000,9,    229.3,2,  -999.0,9, -999.00,9, -999.00,9, -999.00,9, -999.00,9,-999.000,9,-999.000,9,-999.0000,9,  -999.0,9,  -999.0,9,-999.0000,9,  -999.00,9, -999.00,9,  -999.0,9, -999.00,9, -999.00,9,     -999.0,9, 20220505,      155,  32.2463, 133.3859,     -999.0,9,     -999.0,9,     -999.0,9,     -999.0,9,     -999.0,1,     0.0198,1,     4.6060,1,     -999.0,9,     -999.0,9,     -999.0,9
33RR20220430,        P02,       5,          1,         26,         26,2,20220505,       0103,    32.2463,   133.3859,       1162,    18.5,2,  20.8717,2,  34.5064,2,  34.4970,2,    229.4,2,  -999.0,5,    0.00,2,    0.01,2,    0.00,2,    0.01,2,   2.016,2,-999.000,5,   2.0266,2,  1987.5,2,  2269.5,2,   8.0261,2,    24.98,2, -999.00,9,  -999.0,9, -999.00,1, -999.00,1,        7.9,2, 20220505,      151,  32.2461, 133.3850,    20.8608,2,     -999.0,9,     -999.0,9,     -999.0,9,     -999.0,9,     0.0208,1,     4.6010,1,     -999.0,9,     -999.0,9,     -999.0,9
33RR20220430,        P02,       5,          1,         25,         25,2,20220505,       0103,    32.2463,   133.3859,       1162,    42.8,2,  20.2921,2,  34.4892,2,  34.4803,2,    229.2,2,   229.3,2,    0.39,2,    0.03,2,    0.00,2,    0.00,2,   2.082,2,   1.244,2,   2.0845,2,  1989.7,2,  2271.2,2,   8.0214,2,    24.99,2, -999.00,9,  -999.0,9, -999.00,1, -999.00,1,        8.1,2, 20220505,      149,  32.2460, 133.3846,    20.2921,2,     -999.0,9,     -999.0,9,     -999.0,9,     -999.0,9,     0.0272,1,     4.6074,1,     -999.0,1,     -999.0,9,     -999.0,1
33RR20220430,        P02,       5,          1,         24,         24,2,20220505,       0103,    32.2463,   133.3859,       1162,    65.4,2,  19.9179,2,  34.4915,2,  34.4815,2,    225.5,2,   226.5,2,    0.88,2,    0.29,2,    0.03,2,    0.01,2,   2.074,2,   1.229,2,   2.0789,2,  1993.1,2,  2270.1,2,   8.0118,2,    24.97,2, -999.00,9,  -999.0,9, -999.00,1, -999.00,1,        8.4,2, 20220505,      147,  32.2459, 133.3843,    19.9176,2,     -999.0,9,     -999.0,9,     -999.0,9,     -999.0,9,     0.0350,1,     4.6128,1,     -999.0,9,     -999.0,9,     -999.0,1
33RR20220430,        P02,       5,          1,         23,         23,2,20220505,       0103,    32.2463,   133.3859,       1162,    90.0,2,  19.3434,2,  34.5076,2,  34.4979,2,    216.0,2,   215.1,2,    2.25,2,    2.13,2,    0.17,2,    0.06,2,-999.000,9,-999.000,9,-999.0000,9,  -999.0,9,  -999.0,9,-999.0000,9,  -999.00,9, -999.00,9,  -999.0,9, -999.00,1, -999.00,1,     -999.0,9, 20220505,      145,  32.2459, 133.3840,    19.3459,2,     -999.0,9,     -999.0,9,     -999.0,9,     -999.0,9,     0.0332,1,     4.6256,1,     -999.0,1,     -999.0,9,     -999.0,1
33RR20220430,        P02,       5,          1,         22,         22,2,20220505,       0103,    32.2463,   133.3859,       1162,    90.3,2,  19.3307,2,  34.5064,2,-999.0000,9,    215.8,2,  -999.0,9, -999.00,9, -999.00,9, -999.00,9, -999.00,9,-999.000,9,-999.000,9,-999.0000,9,  -999.0,9,  -999.0,9,-999.0000,9,  -999.00,9, -999.00,9,  -999.0,9, -999.00,9, -999.00,9,     -999.0,9, 20220505,      145,  32.2459, 133.3840,    19.3329,2,     -999.0,9,     -999.0,9,     -999.0,9,     -999.0,9,     0.0326,1,     4.6316,1,     -999.0,9,     -999.0,1,     -999.0,9
33RR20220430,        P02,       5,          1,         21,         21,2,20220505,       0103,    32.2463,   133.3859,       1162,   114.9,2,  17.8932,2,  34.5636,2,  34.5535,2,    206.3,2,   206.4,2,    4.49,2,    4.48,2,    0.18,2,    0.20,2,   2.250,2,-999.000,5,-999.0000,5,  2035.4,2,  2276.3,2,   7.9413,2,    24.99,2, -999.00,9,  -999.0,9, -999.00,1, -999.00,1,       10.6,2, 20220505,      143,  32.2458, 133.3837,    17.8912,2,     -999.0,9,     -999.0,9,     -999.0,9,     -999.0,9,     0.0236,1,     4.6477,1,     -999.0,9,     -999.0,9,     -999.0,9
33RR20220430,        P02,       5,          1,         20,         20,2,20220505,       0103,    32.2463,   133.3859,       1162,   137.6,2,  17.1124,2,  34.5589,2,  34.5508,2,    199.1,2,   199.2,2,    6.74,2,    6.32,2,    0.06,2,    0.32,2,-999.000,9,-999.000,9,-999.0000,9,  -999.0,9,  -999.0,9,-999.0000,9,  -999.00,9, -999.00,9,  -999.0,9, -999.00,1, -999.00,1,     -999.0,9, 20220505,      142,  32.2458, 133.3834,    17.1114,2,     -999.0,9,     -999.0,9,     -999.0,9,     -999.0,9,     0.0186,1,     4.6507,1,     -999.0,9,     -999.0,9,     -999.0,9
33RR20220430,        P02,       5,          1,         19,         19,2,20220505,       0103,    32.2463,   133.3859,       1162,   164.5,2,  15.8153,2,  34.5525,2,  34.5441,2,    186.3,2,   185.5,2,   10.94,2,    9.29,2,    0.00,2,    0.55,2,   2.418,6,   1.375,2,   1.8285,6,  2075.2,2,  2280.2,2,   7.8614,2,    25.01,2, -999.00,9,  -999.0,9, -999.00,1, -999.00,1,       14.1,6, 20220505,      140,  32.2457, 133.3832,    15.8178,2,     -999.0,9,     -999.0,9,     -999.0,9,     -999.0,9,     0.0134,1,     4.6704,1,     -999.0,9,     -999.0,9,     -999.0,9
33RR20220430,        P02,       5,          1,         18,         18,2,20220505,       0103,    32.2463,   133.3859,       1162,   190.2,2,  14.8964,2,  34.5367,2,  34.5298,2,    178.6,2,   178.6,2,   13.87,2,   11.08,2,    0.00,2,    0.67,2,-999.000,9,-999.000,9,-999.0000,9,  -999.0,9,  -999.0,9,-999.0000,9,  -999.00,9, -999.00,9,  -999.0,9, -999.00,1, -999.00,1,     -999.0,9, 20220505,      139,  32.2457, 133.3830,    14.8957,2,     -999.0,9,     -999.0,9,     -999.0,9,     -999.0,9,     0.0134,1,     4.6666,1,     -999.0,9,     -999.0,9,     -999.0,9
33RR20220430,        P02,       5,          1,         17,         17,2,20220505,       0103,    32.2463,   133.3859,       1162,   215.3,2,  13.9153,2,  34.4998,2,  34.4934,2,    169.4,2,   169.8,2,   17.98,2,   13.41,2,    0.00,2,    0.86,2,-999.000,9,-999.000,9,-999.0000,9,  -999.0,9,  -999.0,9,-999.0000,9,  -999.00,9, -999.00,9,  -999.0,9, -999.00,1, -999.00,1,     -999.0,9, 20220505,      137,  32.2456, 133.3827,    13.9150,2,     -999.0,9,     -999.0,9,     -999.0,9,     -999.0,9,     0.0122,1,     4.6737,1,     -999.0,9,     -999.0,9,     -999.0,9
33RR20220430,        P02,       5,          1,         16,         16,2,20220505,       0103,    32.2463,   133.3859,       1162,   215.5,2,  13.9110,2,  34.4993,2,-999.0000,9,    169.5,2,  -999.0,9, -999.00,9, -999.00,9, -999.00,9, -999.00,9,-999.000,9,-999.000,9,-999.0000,9,  -999.0,9,  -999.0,9,-999.0000,9,  -999.00,9, -999.00,9,  -999.0,9, -999.00,9, -999.00,9,     -999.0,9, 20220505,      137,  32.2456, 133.3827,    13.9096,2,     -999.0,9,     -999.0,9,     -999.0,9,     -999.0,9,     0.0128,1,     4.6732,1,     -999.0,9,     -999.0,1,     -999.0,1
33RR20220430,        P02,       5,          1,         15,         15,2,20220505,       0103,    32.2463,   133.3859,       1162,   241.2,2,  12.2748,2,  34.4300,2,  34.4249,2,    154.6,2,   154.6,2,   27.65,2,   17.43,2,    0.00,2,    1.18,2,   2.459,2,   1.283,2,   1.2984,2,  2138.2,2,  2287.6,2,   7.7304,2,    24.99,2, -999.00,9,  -999.0,9, -999.00,1, -999.00,1,       21.3,2, 20220505,      135,  32.2456, 133.3825,    12.2799,2,     -999.0,9,     -999.0,9,     -999.0,9,     -999.0,9,     0.0131,1,     4.6782,1,     -999.0,9,     -999.0,9,     -999.0,9
33RR20220430,        P02,       5,          1,         14,         14,2,20220505,       0103,    32.2463,   133.3859,       1162,   283.3,2,  10.7571,2,  34.3631,2,  34.3596,2,    143.7,2,   144.1,2,   35.18,2,   20.88,2,    0.00,2,    1.42,2,-999.000,9,-999.000,9,-999.0000,9,  -999.0,9,  -999.0,9,-999.0000,9,  -999.00,9, -999.00,9,  -999.0,9, -999.00,1, -999.00,1,     -999.0,9, 20220505,      133,  32.2455, 133.3821,    10.7683,2,     -999.0,9,     -999.0,9,     -999.0,9,     -999.0,9,     0.0130,1,     4.6795,1,     -999.0,9,     -999.0,9,     -999.0,9
33RR20220430,        P02,       5,          1,         13,         13,2,20220505,       0103,    32.2463,   133.3859,       1162,   334.5,2,   9.2540,2,  34.2751,2,  34.2609,2,    134.8,2,   135.3,2,   43.78,2,   24.30,2,    0.00,2,    1.70,2,   2.232,2,   1.415,2,   0.9901,2,  2187.3,2,  2291.9,2,   7.6172,2,    25.00,2, -999.00,9,  -999.0,9, -999.00,1, -999.00,1,       27.1,2, 20220505,      132,  32.2454, 133.3818,     9.2582,2,     -999.0,9,     -999.0,9,     -999.0,9,     -999.0,9,     0.0130,1,     4.6854,1,     -999.0,9,     -999.0,9,     -999.0,9
33RR20220430,        P02,       5,          1,         12,         12,2,20220505,       0103,    32.2463,   133.3859,       1162,   385.0,2,   8.6005,2,  34.2719,2,  34.2679,2,    125.0,2,   125.3,2,   51.01,2,   26.19,2,    0.00,2,    1.85,2,-999.000,9,-999.000,9,-999.0000,9,  -999.0,9,  -999.0,9,-999.0000,9,  -999.00,9, -999.00,9,  -999.0,9, -999.00,1, -999.00,1,     -999.0,9, 20220505,      130,  32.2454, 133.3815,     8.6000,2,     -999.0,9,     -999.0,9,     -999.0,9,     -999.0,9,     0.0134,1,     4.6825,1,     -999.0,9,     -999.0,9,     -999.0,9
33RR20220430,        P02,       5,          1,         11,         11,2,20220505,       0103,    32.2463,   133.3859,       1162,   435.8,2,   7.7332,2,  34.2208,2,  34.2168,2,    119.3,2,   120.1,2,   56.29,2,   28.25,2,    0.00,2,    2.01,2,-999.000,9,-999.000,9,-999.0000,9,  -999.0,9,  -999.0,9,-999.0000,9,  -999.00,9, -999.00,9,  -999.0,9, -999.00,1, -999.00,1,     -999.0,9, 20220505,      128,  32.2453, 133.3812,     7.7328,2,     -999.0,9,     -999.0,9,     -999.0,9,     -999.0,9,     0.0134,1,     4.6989,1,     -999.0,9,     -999.0,9,     -999.0,9
33RR20220430,        P02,       5,          1,         10,         10,2,20220505,       0103,    32.2463,   133.3859,       1162,   486.2,2,   7.3535,2,  34.3005,2,  34.2978,2,    108.1,2,   107.5,2,   67.81,2,   29.95,2,    0.00,2,    2.14,2,-999.000,9,-999.000,9,-999.0000,9,  -999.0,9,  -999.0,9,-999.0000,9,  -999.00,9, -999.00,9,  -999.0,9, -999.00,1, -999.00,1,     -999.0,9, 20220505,      126,  32.2452, 133.3809,     7.3505,2,     -999.0,9,     -999.0,9,     -999.0,9,     -999.0,9,     0.0130,1,     4.6889,1,     -999.0,9,     -999.0,9,     -999.0,1
33RR20220430,        P02,       5,          1,          9,          9,2,20220505,       0103,    32.2463,   133.3859,       1162,   566.6,2,   5.9020,2,  34.2608,2,  34.2570,2,     90.6,2,    89.9,2,   82.28,2,   33.96,2,    0.00,2,    2.45,2,   1.520,2,   0.664,2,   0.4714,2,  2266.6,2,  2325.7,2,   7.4715,2,    25.02,2, -999.00,9,  -999.0,9, -999.00,1, -999.00,1,       37.7,2, 20220505,      123,  32.2452, 133.3805,     5.9016,2,     -999.0,9,     -999.0,9,     -999.0,9,     -999.0,9,     0.0134,1,     4.6963,1,     -999.0,9,     -999.0,9,     -999.0,9
33RR20220430,        P02,       5,          1,          8,          8,2,20220505,       0103,    32.2463,   133.3859,       1162,   666.3,2,   4.8617,2,  34.2865,2,  34.2830,2,     75.2,2,    74.7,2,   97.91,2,   37.01,2,    0.00,2,    2.69,2,-999.000,9,-999.000,9,-999.0000,9,  -999.0,9,  -999.0,9,-999.0000,9,  -999.00,9, -999.00,9,  -999.0,9, -999.00,1, -999.00,1,     -999.0,9, 20220505,      121,  32.2450, 133.3801,     4.8616,2,     -999.0,9,     -999.0,9,     -999.0,9,     -999.0,9,     0.0134,1,     4.7020,1,     -999.0,9,     -999.0,9,     -999.0,9
33RR20220430,        P02,       5,          1,          7,          7,2,20220505,       0103,    32.2463,   133.3859,       1162,   764.8,2,   4.2149,2,  34.3367,2,  34.3335,2,     67.5,3,    68.6,2,  110.42,2,   38.93,2,    0.00,2,    2.81,2,-999.000,9,-999.000,9,-999.0000,9,  -999.0,9,  -999.0,9,-999.0000,9,  -999.00,9, -999.00,9,  -999.0,9, -999.00,1, -999.00,1,     -999.0,9, 20220505,      118,  32.2449, 133.3795,     4.2149,2,     -999.0,9,     -999.0,9,     -999.0,9,     -999.0,9,     0.0125,1,     4.7049,1,     -999.0,9,     -999.0,9,     -999.0,9
33RR20220430,        P02,       5,          1,          6,          6,2,20220505,       0103,    32.2463,   133.3859,       1162,   864.4,2,   3.7329,2,  34.3869,2,  34.3849,2,     65.1,3,    66.6,2,  120.77,2,   39.47,2,    0.00,2,    2.88,2,   0.401,2,-999.000,5,-999.0000,5,  2332.2,2,  2365.8,2,   7.4073,2,    25.01,2, -999.00,9,  -999.0,9, -999.00,1, -999.00,1,       41.3,2, 20220505,      115,  32.2448, 133.3789,     3.7308,2,     -999.0,9,     -999.0,9,     -999.0,9,     -999.0,9,     0.0134,1,     4.6952,1,     -999.0,9,     -999.0,9,     -999.0,9
33RR20220430,        P02,       5,          1,          5,          5,2,20220505,       0103,    32.2463,   133.3859,       1162,   964.6,2,   3.3639,2,  34.4257,2,  34.4237,2,     64.7,2,    64.1,2,  128.48,2,   40.20,2,    0.00,2,    2.90,2,-999.000,9,-999.000,9,-999.0000,9,  -999.0,9,  -999.0,9,-999.0000,9,  -999.00,9, -999.00,9,  -999.0,9, -999.00,1, -999.00,1,     -999.0,9, 20220505,      112,  32.2446, 133.3783,     3.3650,2,     -999.0,9,     -999.0,9,     -999.0,9,     -999.0,9,     0.0134,1,     4.6924,1,     -999.0,9,     -999.0,9,     -999.0,9
33RR20220430,        P02,       5,          1,          4,          4,2,20220505,       0103,    32.2463,   133.3859,       1162,   999.7,2,   3.3155,2,  34.4309,2,-999.0000,9,     64.8,2,  -999.0,9, -999.00,9, -999.00,9, -999.00,9, -999.00,9,-999.000,9,-999.000,9,-999.0000,9,  -999.0,9,  -999.0,9,-999.0000,9,  -999.00,9, -999.00,9,  -999.0,9, -999.00,9, -999.00,9,     -999.0,9, 20220505,      110,  32.2445, 133.3779,     3.3148,2,     -999.0,9,     -999.0,9,     -999.0,9,     -999.0,9,     0.0134,1,     4.6927,1,     -999.0,9,     -999.0,1,     -999.0,1