BOTTLE,20230801CCHSIOCBG
EXPOCODE,SECT_ID,STNNBR,CASTNO,SAMPNO,BTLNBR,BTLNBR_FLAG_W,DATE,TIME,LATITUDE,LONGITUDE,DEPTH,CTDPRS,CTDPRS_FLAG_W,CTDTMP,CTDTMP_FLAG_W,CTDSAL,CTDSAL_FLAG_W,SALNTY,SALNTY_FLAG_W,CTDOXY,CTDOXY_FLAG_W,OXYGEN,OXYGEN_FLAG_W,SILCAT,SILCAT_FLAG_W,NITRAT,NITRAT_FLAG_W,NITRIT,NITRIT_FLAG_W,PHSPHT,PHSPHT_FLAG_W,CFC-11,CFC-11_FLAG_W,CFC-12,CFC-12_FLAG_W,SF6,SF6_FLAG_W,TCARBN,TCARBN_FLAG_W,ALKALI,ALKALI_FLAG_W,PH_TOT,PH_TOT_FLAG_W,PH_TMP,PH_TMP_FLAG_W,DELC13,DELC13_FLAG_W,DELC14,DELC14_FLAG_W,DOC,DOC_FLAG_W,TDN,TDN_FLAG_W,N2O,N2O_FLAG_W,BTL_DATE,BTL_TIME,BTL_LAT,BTL_LON,REFTMP,REFTMP_FLAG_W,POC,POC_FLAG_W,PON,PON_FLAG_W,POP,POP_FLAG_W,PCOD,PCOD_FLAG_W,CTDFLUOR,CTDFLUOR_FLAG_W,CTDXMISS,CTDXMISS_FLAG_W,HPLC,HPLC_FLAG_W,DNA,DNA_FLAG_W,FCM,FCM_FLAG_W
,,,,,,,,,,,METERS,DBAR,,ITS-90,,PSS-78,,PSS-78,,UMOL/KG,,UMOL/KG,,UMOL/KG,,UMOL/KG,,UMOL/KG,,UMOL/KG,,PMOL/KG,,PMOL/KG,,FMOL/KG,,UMOL/KG,,UMOL/KG,,,,DEG C,,/MILLE,,/MILLE,,UMOL/KG,,UMOL/KG,,NMOL/KG,,,,,,ITS-90,,UG/L,,UG/L,,UG/L,,UG/L,,VOLTS,,VOLTS,,,,,,,
33RR20220430,        P02,      66,          1,         36,         36,2,20220524,       0729,    29.9997,   170.2968,       5568,     3.8,2,  23.0687,2,  35.1008,2,  35.0848,2,    224.7,3,   222.2,2,    1.17,2,    0.01,2,    0.00,2,    0.00,2,   1.795,2,   1.151,2,   1.9674,2,  2025.5,6,  2304.7,2,   8.0055,2,    25.01,2, -999.00,9,  -999.0,9, -999.00,1, -999.00,1,        6.1,2, 20220524,      943,  29.9997, 170.2968,    23.0725,2,     -999.0,9,     -999.0,9,     -999.0,9,     -999.0,9,     0.0140,1,     4.6240,1,     -999.0,9,     -999.0,9,     -999.0,9
33RR20220430,        P02,      66,          1,         35,         35,2,20220524,       0729,    29.9997,   170.2968,       5568,    26.5,2,  21.5800,2,  35.1479,2,  35.1311,2,    227.3,2,   226.9,2,    1.27,2,    0.01,2,    0.00,2,    0.00,2,   1.840,2,   1.187,2,   2.1309,2,  2025.9,2,  2305.5,2,   8.0048,2,    25.02,2, -999.00,9,  -999.0,9, -999.00,1, -999.00,1,        6.2,2, 20220524,      942,  29.9997, 170.2968,    21.5774,2,     -999.0,9,     -999.0,9,     -999.0,9,     -999.0,9,     0.0147,1,     4.6243,1,     -999.0,9,     -999.0,9,     -999.0,9
33RR20220430,        P02,      66,          1,         34,         34,2,20220524,       0729,    29.9997,   170.2968,       5568,    50.6,2,  19.6195,2,  34.9732,3,  34.9522,2,    237.8,2,   238.1,2,    1.46,2,    0.01,2,    0.00,2,    0.00,2,-999.000,5,-999.000,5,-999.0000,5,  2020.6,2,  2295.5,2,   7.9995,2,    25.02,2, -999.00,9,  -999.0,9, -999.00,1, -999.00,1,     -999.0,5, 20220524,      940,  29.9997, 170.2968,    19.6118,2,     -999.0,9,     -999.0,9,     -999.0,9,     -999.0,9,     0.0177,1,     4.6173,1,     -999.0,9,     -999.0,9,     -999.0,9
33RR20220430,        P02,      66,          1,         33,         33,2,20220524,       0729,    29.9997,   170.2968,       5568,    77.6,2,  18.5236,2,  34.8881,2,  34.8711,2,    235.1,2,   235.1,2,    1.56,2,    0.00,2,    0.00,2,    0.00,2,   1.964,2,   1.273,2,   2.0684,2,  2025.5,2,  2289.1,2,   7.9855,2,    25.01,2, -999.00,9,  -999.0,9, -999.00,1, -999.00,1,        7.1,2, 20220524,      938,  29.9997, 170.2968,    18.5210,2,     -999.0,9,     -999.0,9,     -999.0,9,     -999.0,9,     0.0309,1,     4.6247,1,     -999.0,9,     -999.0,9,     -999.0,9
33RR20220430,        P02,      66,          1,         32,         32,2,20220524,       0729,    29.9997,   170.2968,       5568,   101.7,2,  17.8829,2,  34.8182,3,  34.7974,2,    225.8,2,   226.0,2,    1.95,2,    0.63,2,    0.22,2,    0.06,2,   2.115,2,   1.310,2,   2.2479,2,  2032.8,2,  2285.2,2,   7.9621,2,    25.00,2, -999.00,9,  -999.0,9, -999.00,1, -999.00,1,        7.6,2, 20220524,      936,  29.9997, 170.2968,    17.8838,2,     -999.0,9,     -999.0,9,     -999.0,9,     -999.0,9,     0.0445,1,     4.6273,1,     -999.0,9,     -999.0,9,     -999.0,9
33RR20220430,        P02,      66,          1,         31,         31,2,20220524,       0729,    29.9997,   170.2968,       5568,   151.9,2,  16.9702,2,  34.6859,2,  34.6712,2,    227.2,2,   227.0,2,    2.64,2,    2.51,2,    0.02,2,    0.15,2,   2.079,2,   1.354,2,   2.1399,2,  2033.3,2,  2275.4,2,   7.9464,2,    25.00,2, -999.00,9,  -999.0,9, -999.00,1, -999.00,1,        8.0,2, 20220524,      934,  29.9997, 170.2968,    16.9705,2,     -999.0,9,     -999.0,9,     -999.0,9,     -999.0,9,     0.0147,1,     4.6795,1,     -999.0,9,     -999.0,9,     -999.0,9
33RR20220430,        P02,      66,          1,         30,         30,2,20220524,       0729,    29.9997,   170.2968,       5568,   202.5,2,  16.6771,2,  34.6724,2,  34.6610,2,    226.0,2,   226.0,2,    3.03,2,    3.06,2,    0.00,2,    0.19,2,   2.136,2,   1.392,2,   2.2478,2,  2039.9,2,  2275.9,2,   7.9376,2,    25.02,2, -999.00,9,  -999.0,9, -999.00,1, -999.00,1,        8.3,2, 20220524,      932,  29.9997, 170.2968,    16.6805,2,     -999.0,9,     -999.0,9,     -999.0,9,     -999.0,9,     0.0122,1,     4.6845,1,     -999.0,9,     -999.0,9,     -999.0,9
33RR20220430,        P02,      66,          1,         29,         29,2,20220524,       0729,    29.9997,   170.2968,       5568,   252.3,2,  16.3027,2,  34.6599,2,  34.6460,2,    217.5,2,   217.1,2,    4.10,2,    4.58,2,    0.00,2,    0.28,2,   2.201,2,   1.426,2,   2.1456,2,  2050.8,2,  2275.0,2,   7.9149,2,    25.02,2, -999.00,9,  -999.0,9, -999.00,1, -999.00,1,        9.2,2, 20220524,      930,  29.9997, 170.2968,    16.3013,2,     -999.0,9,     -999.0,9,     -999.0,9,     -999.0,9,     0.0122,1,     4.6873,1,     -999.0,9,     -999.0,9,     -999.0,9
33RR20220430,        P02,      66,          1,         28,         28,2,20220524,       0729,    29.9997,   170.2968,       5568,   302.6,2,  15.8040,2,  34.6328,2,  34.6205,2,    222.4,2,   222.9,2,    4.69,2,    4.86,2,    0.00,2,    0.30,2,   2.238,2,   1.417,2,   2.2182,2,  2052.4,2,  2275.0,2,   7.9133,2,    25.01,2, -999.00,9,  -999.0,9, -999.00,1, -999.00,1,        9.3,2, 20220524,      928,  29.9997, 170.2968,    15.8020,2,     -999.0,9,     -999.0,9,     -999.0,9,     -999.0,9,     0.0122,1,     4.6885,1,     -999.0,9,     -999.0,9,     -999.0,9
33RR20220430,        P02,      66,          1,         27,         27,2,20220524,       0729,    29.9997,   170.2968,       5568,   353.4,2,  15.0342,2,  34.5676,2,  34.5531,2,    207.8,2,   207.8,2,    7.42,2,    7.54,2,    0.00,2,    0.49,2,   2.292,2,   1.474,2,   1.9655,2,  2071.6,2,  2272.6,2,   7.8689,2,    25.03,2, -999.00,9,  -999.0,9, -999.00,1, -999.00,1,       10.9,2, 20220524,      926,  29.9997, 170.2968,    15.0333,2,     -999.0,9,     -999.0,9,     -999.0,9,     -999.0,9,     0.0122,1,     4.6910,1,     -999.0,9,     -999.0,9,     -999.0,9
33RR20220430,        P02,      66,          1,         26,         26,2,20220524,       0729,    29.9997,   170.2968,       5568,   403.5,2,  14.0669,2,  34.4920,2,  34.4803,2,    208.7,2,   209.0,2,    9.67,2,    8.95,2,    0.00,2,    0.59,2,   2.387,2,   1.529,2,   2.1152,2,  2079.6,2,  2270.8,2,   7.8453,2,    25.01,2, -999.00,9,  -999.0,9, -999.00,1, -999.00,1,       11.7,2, 20220524,      924,  29.9997, 170.2968,    14.0664,2,     -999.0,9,     -999.0,9,     -999.0,9,     -999.0,9,     0.0122,1,     4.6939,1,     -999.0,9,     -999.0,9,     -999.0,9
33RR20220430,        P02,      66,          1,         25,         25,2,20220524,       0729,    29.9997,   170.2968,       5568,   504.5,2,  11.5558,2,  34.2937,3,  34.2819,2,    208.3,2,   208.6,2,   16.90,2,   13.38,2,    0.00,2,    0.90,2,   2.699,6,   1.645,6,   2.0692,6,  2110.6,2,  2267.8,2,   7.7752,2,    25.02,2, -999.00,9,  -999.0,9, -999.00,1, -999.00,1,       14.1,6, 20220524,      922,  29.9997, 170.2968,    11.5550,2,     -999.0,9,     -999.0,9,     -999.0,9,     -999.0,9,     0.0122,1,     4.6968,1,     -999.0,9,     -999.0,9,     -999.0,9
33RR20220430,        P02,      66,          1,         24,         24,2,20220524,       0729,    29.9997,   170.2968,       5568,   605.9,2,   8.9372,2,  34.0884,2,  34.0795,2,    196.7,2,   197.0,2,   28.93,2,   19.10,2,    0.00,2,    1.33,2,   2.842,2,   1.695,2,   1.8021,2,  2147.1,2,  2269.9,2,   7.6841,2,    25.00,2, -999.00,9,  -999.0,9, -999.00,1, -999.00,1,       18.0,2, 20220524,      919,  29.9997, 170.2968,     8.9366,2,     -999.0,9,     -999.0,9,     -999.0,9,     -999.0,9,     0.0122,1,     4.6995,1,     -999.0,9,     -999.0,9,     -999.0,9
33RR20220430,        P02,      66,          1,         23,         23,2,20220524,       0729,    29.9997,   170.2968,       5568,   707.7,2,   6.7777,2,  34.0062,2,  34.0035,2,    148.8,2,   148.4,2,   50.33,2,   27.38,2,    0.00,2,    1.93,2,   2.463,2,   1.454,2,   1.1551,2,  2205.2,2,  2281.1,2,   7.5518,2,    24.99,2, -999.00,9,  -999.0,9, -999.00,1, -999.00,1,       26.0,2, 20220524,      917,  29.9997, 170.2968,     6.8224,2,     -999.0,9,     -999.0,9,     -999.0,9,     -999.0,9,     0.0122,1,     4.7008,1,     -999.0,9,     -999.0,9,     -999.0,9
33RR20220430,        P02,      66,          1,         22,         22,2,20220524,       0729,    29.9997,   170.2968,       5568,   808.1,2,   5.4619,2,  34.0375,2,  34.0358,2,    102.6,3,   101.1,2,   73.79,2,   34.17,2,    0.00,2,    2.41,2,   1.796,2,   1.061,2,   0.7765,2,  -999.0,9,  -999.0,9,-999.0000,9,  -999.00,9, -999.00,9,  -999.0,9, -999.00,9, -999.00,9,       34.0,2, 20220524,      914,  29.9997, 170.2968,     5.4633,2,     -999.0,9,     -999.0,9,     -999.0,9,     -999.0,9,     0.0134,1,     4.6993,1,     -999.0,9,     -999.0,9,     -999.0,9
33RR20220430,        P02,      66,          1,         21,         21,2,20220524,       0729,    29.9997,   170.2968,       5568,   908.7,2,   4.4267,2,  34.1455,2,  34.1436,2,     59.4,2,    59.3,2,   98.80,2,   39.30,2,    0.00,2,    2.79,2,   1.011,2,   0.585,2,   0.3926,2,  2309.9,2,  2324.8,2,   7.3626,2,    25.01,2, -999.00,9,  -999.0,9, -999.00,1, -999.00,1,       42.3,2, 20220524,      911,  29.9997, 170.2968,     4.4255,2,     -999.0,9,     -999.0,9,     -999.0,9,     -999.0,9,     0.0134,1,     4.6998,1,     -999.0,9,     -999.0,9,     -999.0,9
33RR20220430,        P02,      66,          1,         20,         20,2,20220524,       0729,    29.9997,   170.2968,       5568,  1009.8,2,   4.0441,2,  34.2392,3,  34.2313,2,     37.7,3,    38.9,2,  109.93,2,   41.56,2,    0.00,2,    2.95,2,   0.484,2,   0.288,2,   0.0000,2,  -999.0,9,  -999.0,9,-999.0000,9,  -999.00,9, -999.00,9,  -999.0,9, -999.00,9, -999.00,9,       47.0,2, 20220524,      909,  29.9997, 170.2968,     4.0663,2,     -999.0,9,     -999.0,9,     -999.0,9,     -999.0,9,     0.0134,1,     4.7020,1,     -999.0,9,     -999.0,9,     -999.0,9
33RR20220430,        P02,      66,          1,         19,         19,2,20220524,       0729,    29.9997,   170.2968,       5568,  1110.9,2,   3.6257,2,  34.3130,2,  34.3097,2,     29.6,2,    29.8,2,  123.21,2,   42.63,2,    0.00,2,    3.04,2,   0.242,2,   0.142,2,   0.0000,2,  2352.7,2,  2358.3,2,   7.3269,2,    25.01,2, -999.00,9,  -999.0,9, -999.00,1, -999.00,1,       49.1,2, 20220524,      906,  29.9997, 170.2968,     3.6247,2,     -999.0,9,     -999.0,9,     -999.0,9,     -999.0,9,     0.0134,1,     4.7028,1,     -999.0,9,     -999.0,9,     -999.0,9
33RR20220430,        P02,      66,          1,         18,         18,2,20220524,       0729,    29.9997,   170.2968,       5568,  1217.4,2,   3.3464,2,  34.3852,2,  34.3831,2,     27.6,2,    27.7,2,  131.42,2,   43.05,2,    0.00,2,    3.08,2,   0.085,2,   0.050,2,   0.0000,2,  -999.0,9,  -999.0,9,-999.0000,9,  -999.00,9, -999.00,9,  -999.0,9, -999.00,9, -999.00,9,       49.6,2, 20220524,      903,  29.9997, 170.2968,     3.3464,2,     -999.0,9,     -999.0,9,     -999.0,9,     -999.0,9,     0.0134,1,     4.7031,1,     -999.0,9,     -999.0,9,     -999.0,9
33RR20220430,        P02,      66,          1,         17,         17,2,20220524,       0729,    29.9997,   170.2968,       5568,  1319.2,2,   3.0713,2,  34.4342,2,  34.4316,2,     30.8,2,    30.7,2,  138.84,2,   43.08,2,    0.00,2,    3.08,2,   0.047,2,   0.029,2,   0.0000,2,  2369.1,2,  2380.3,2,   7.3435,2,    25.00,2, -999.00,9,  -999.0,9, -999.00,1, -999.00,1,       48.0,2, 20220524,      900,  29.9997, 170.2968,     3.0734,2,     -999.0,9,     -999.0,9,     -999.0,9,     -999.0,9,     0.0134,1,     4.7032,1,     -999.0,9,     -999.0,9,     -999.0,9
33RR20220430,        P02,      66,          1,         16,         16,2,20220524,       0729,    29.9997,   170.2968,       5568,  1420.7,2,   2.8101,2,  34.4661,2,  34.4646,2,     32.6,2,    32.7,2,  147.14,2,   43.19,2,    0.00,2,    3.08,2,   0.036,2,   0.021,2,   0.0000,2,  -999.0,9,  -999.0,9,-999.0000,9,  -999.00,9, -999.00,9,  -999.0,9, -999.00,9, -999.00,9,       46.3,2, 20220524,      857,  29.9997, 170.2968,     2.8098,2,     -999.0,9,     -999.0,9,     -999.0,9,     -999.0,9,     0.0134,1,     4.7023,1,     -999.0,9,     -999.0,9,     -999.0,9
33RR20220430,        P02,      66,          1,         15,         15,2,20220524,       0729,    29.9997,   170.2968,       5568,  1622.6,2,   2.4489,2,  34.5272,2,  34.5246,2,     45.1,3,    44.4,2,  156.12,2,   42.73,2,    0.00,2,    3.02,2,   0.015,2,   0.007,2,   0.0000,2,  2379.5,2,  2398.2,2,   7.3744,2,    24.99,2, -999.00,9,  -999.0,9, -999.00,1, -999.00,1,       40.8,2, 20220524,      853,  29.9997, 170.2968,     2.4494,2,     -999.0,9,     -999.0,9,     -999.0,9,     -999.0,9,     0.0134,1,     4.7033,1,     -999.0,9,     -999.0,9,     -999.0,9
33RR20220430,        P02,      66,          1,         14,         14,2,20220524,       0729,    29.9997,   170.2968,       5568,  1825.2,2,   2.1818,2,  34.5678,2,  34.5667,2,     59.5,2,    60.0,2,  160.41,2,   41.80,2,    0.00,2,    2.95,2,   0.010,2,   0.000,2,   0.0000,2,  -999.0,9,  -999.0,9,-999.0000,9,  -999.00,9, -999.00,9,  -999.0,9, -999.00,9, -999.00,9,       36.0,2, 20220524,      849,  29.9997, 170.2968,     2.1823,2,     -999.0,9,     -999.0,9,     -999.0,9,     -999.0,9,     0.0134,1,     4.7045,1,     -999.0,9,     -999.0,9,     -999.0,9
33RR20220430,        P02,      66,          1,         13,         13,2,20220524,       0729,    29.9997,   170.2968,       5568,  2023.8,2,   1.9933,2,  34.5951,3,  34.5926,2,     73.2,2,    73.5,2,  162.75,2,   41.00,2,    0.00,2,    2.90,2,   0.007,2,   0.000,2,   0.0000,2,  2370.2,2,  2410.9,2,   7.4314,2,    25.00,2, -999.00,9,  -999.0,9, -999.00,1, -999.00,1,       32.7,2, 20220524,      844,  29.9997, 170.2968,     1.9929,2,     -999.0,9,     -999.0,9,     -999.0,9,     -999.0,9,     0.0125,1,     4.7053,1,     -999.0,9,     -999.0,9,     -999.0,9
33RR20220430,        P02,      66,          1,         12,         12,2,20220524,       0729,    29.9997,   170.2968,       5568,  2279.9,2,   1.8201,2,  34.6208,3,  34.6185,2,     90.8,2,    91.1,2,  163.04,2,   39.87,2,    0.00,2,    2.80,2,   0.005,2,   0.000,2,   0.0000,2,  -999.0,9,  -999.0,9,-999.0000,9,  -999.00,9, -999.00,9,  -999.0,9, -999.00,9, -999.00,9,       29.4,2, 20220524,      839,  29.9997, 170.2968,     1.8198,2,     -999.0,9,     -999.0,9,     -999.0,9,     -999.0,9,     0.0133,1,     4.7050,1,     -999.0,9,     -999.0,9,     -999.0,9
33RR20220430,        P02,      66,          1,         11,         11,2,20220524,       0729,    29.9997,   170.2968,       5568,  2537.0,2,   1.6893,2,  34.6398,3,  34.6360,2,    105.2,2,   105.2,2,  162.16,2,   38.98,2,    0.00,2,    2.74,2,   0.004,2,   0.000,2,   0.0000,2,  2353.1,2,  2415.9,2,   7.4920,2,    25.01,2, -999.00,9,  -999.0,9, -999.00,1, -999.00,1,       26.6,2, 20220524,      833,  29.9997, 170.2968,     1.6904,2,     -999.0,9,     -999.0,9,     -999.0,9,     -999.0,9,     0.0129,1,     4.7065,1,     -999.0,9,     -999.0,9,     -999.0,9
33RR20220430,        P02,      66,          1,         10,         10,2,20220524,       0729,    29.9997,   170.2968,       5568,  2789.1,2,   1.6088,2,  34.6520,2,  34.6506,2,    116.3,2,   116.1,2,  160.99,2,   38.40,2,    0.00,2,    2.70,2,   0.005,2,   0.000,2,   0.0000,2,  -999.0,9,  -999.0,9,-999.0000,9,  -999.00,9, -999.00,9,  -999.0,9, -999.00,9, -999.00,9,       25.1,2, 20220524,      828,  29.9997, 170.2968,     1.6087,2,     -999.0,9,     -999.0,9,     -999.0,9,     -999.0,9,     0.0123,1,     4.7061,1,     -999.0,9,     -999.0,9,     -999.0,9
33RR20220430,        P02,      66,          1,          9,          9,2,20220524,       0729,    29.9997,   170.2968,       5568,  3047.1,2,   1.5435,2,  34.6621,2,  34.6608,2,    126.4,2,   126.8,2,  158.74,2,   37.65,2,    0.00,2,    2.64,2,   0.005,2,   0.000,2,   0.0000,2,  2340.0,2,  2417.5,2,   7.5298,2,    24.98,2, -999.00,9,  -999.0,9, -999.00,1, -999.00,1,       23.7,2, 20220524,      823,  29.9997, 170.2968,     1.5435,2,     -999.0,9,     -999.0,9,     -999.0,9,     -999.0,9,     0.0122,1,     4.7058,1,     -999.0,9,     -999.0,9,     -999.0,9
33RR20220430,        P02,      66,          1,          8,          8,2,20220524,       0729,    29.9997,   170.2968,       5568,  3350.0,2,   1.4978,2,  34.6712,2,  34.6694,2,    135.9,2,   135.6,2,  156.30,2,   37.06,2,    0.00,2,    2.59,2,-999.000,9,-999.000,9,-999.0000,9,  -999.0,9,  -999.0,9,-999.0000,9,  -999.00,9, -999.00,9,  -999.0,9, -999.00,9, -999.00,9,     -999.0,9, 20220524,      816,  29.9997, 170.2968,     1.4978,2,     -999.0,9,     -999.0,9,     -999.0,9,     -999.0,9,     0.0131,1,     4.7061,1,     -999.0,9,     -999.0,9,     -999.0,9
33RR20220430,        P02,      66,          1,          7,          7,2,20220524,       0729,    29.9997,   170.2968,       5568,  3657.7,2,   1.4723,2,  34.6775,2,  34.6767,2,    143.5,2,   143.5,2,  154.54,2,   36.52,2,    0.00,2,    2.55,2,   0.003,2,   0.000,2,   0.0000,2,  2329.2,2,  2417.4,2,   7.5592,2,    24.98,2, -999.00,9,  -999.0,9, -999.00,1, -999.00,1,       21.6,2, 20220524,      810,  29.9997, 170.2968,     1.4724,2,     -999.0,9,     -999.0,9,     -999.0,9,     -999.0,9,     0.0128,1,     4.7069,1,     -999.0,9,     -999.0,9,     -999.0,9
33RR20220430,        P02,      66,          1,          6,          6,2,20220524,       0729,    29.9997,   170.2968,       5568,  4172.6,2,   1.4592,2,  34.6847,2,  34.6836,2,    152.5,2,   152.6,2,  151.41,2,   35.94,2,    0.00,2,    2.50,2,-999.000,9,-999.000,9,-999.0000,9,  -999.0,9,  -999.0,9,-999.0000,9,  -999.00,9, -999.00,9,  -999.0,9, -999.00,9, -999.00,9,     -999.0,9, 20220524,      800,  29.9997, 170.2968,     1.4592,2,     -999.0,9,     -999.0,9,     -999.0,9,     -999.0,9,     0.0122,1,     4.7057,1,     -999.0,9,     -999.0,9,     -999.0,9
33RR20220430,        P02,      66,          1,          5,          5,2,20220524,       0729,    29.9997,   170.2968,       5568,  4481.1,2,   1.4648,2,  34.6877,3,  34.6851,2,    156.9,2,   156.7,2,  149.95,2,   35.64,2,    0.00,2,    2.47,2,   0.006,2,   0.000,2,   0.0000,2,  2319.0,2,  2414.8,2,   7.5806,2,    24.98,2, -999.00,9,  -999.0,9, -999.00,1, -999.00,1,       20.3,2, 20220524,      754,  29.9997, 170.2968,     1.4646,2,     -999.0,9,     -999.0,9,     -999.0,9,     -999.0,9,     0.0122,1,     4.7057,1,     -999.0,9,     -999.0,9,     -999.0,9
33RR20220430,        P02,      66,          1,          4,          4,2,20220524,       0729,    29.9997,   170.2968,       5568,  4891.8,2,   1.4653,2,  34.6920,3,  34.6897,2,    165.3,2,   165.3,2,  142.42,2,   35.10,2,    0.00,2,    2.40,2,-999.000,9,-999.000,9,-999.0000,9,  -999.0,9,  -999.0,9,-999.0000,9,  -999.00,9, -999.00,9,  -999.0,9, -999.00,9, -999.00,9,     -999.0,9, 20220524,      746,  29.9997, 170.2968,     1.4653,2,     -999.0,9,     -999.0,9,     -999.0,9,     -999.0,9,     0.0122,1,     4.7069,1,     -999.0,9,     -999.0,9,     -999.0,9