BOTTLE,20230801CCHSIOCBG
EXPOCODE,SECT_ID,STNNBR,CASTNO,SAMPNO,BTLNBR,BTLNBR_FLAG_W,DATE,TIME,LATITUDE,LONGITUDE,DEPTH,CTDPRS,CTDPRS_FLAG_W,CTDTMP,CTDTMP_FLAG_W,CTDSAL,CTDSAL_FLAG_W,SALNTY,SALNTY_FLAG_W,CTDOXY,CTDOXY_FLAG_W,OXYGEN,OXYGEN_FLAG_W,SILCAT,SILCAT_FLAG_W,NITRAT,NITRAT_FLAG_W,NITRIT,NITRIT_FLAG_W,PHSPHT,PHSPHT_FLAG_W,CFC-11,CFC-11_FLAG_W,CFC-12,CFC-12_FLAG_W,SF6,SF6_FLAG_W,TCARBN,TCARBN_FLAG_W,ALKALI,ALKALI_FLAG_W,PH_TOT,PH_TOT_FLAG_W,PH_TMP,PH_TMP_FLAG_W,DELC13,DELC13_FLAG_W,DELC14,DELC14_FLAG_W,DOC,DOC_FLAG_W,TDN,TDN_FLAG_W,N2O,N2O_FLAG_W,BTL_DATE,BTL_TIME,BTL_LAT,BTL_LON,REFTMP,REFTMP_FLAG_W,POC,POC_FLAG_W,PON,PON_FLAG_W,POP,POP_FLAG_W,PCOD,PCOD_FLAG_W,CTDFLUOR,CTDFLUOR_FLAG_W,CTDXMISS,CTDXMISS_FLAG_W,HPLC,HPLC_FLAG_W,DNA,DNA_FLAG_W,FCM,FCM_FLAG_W
,,,,,,,,,,,METERS,DBAR,,ITS-90,,PSS-78,,PSS-78,,UMOL/KG,,UMOL/KG,,UMOL/KG,,UMOL/KG,,UMOL/KG,,UMOL/KG,,PMOL/KG,,PMOL/KG,,FMOL/KG,,UMOL/KG,,UMOL/KG,,,,DEG C,,/MILLE,,/MILLE,,UMOL/KG,,UMOL/KG,,NMOL/KG,,,,,,ITS-90,,UG/L,,UG/L,,UG/L,,UG/L,,VOLTS,,VOLTS,,,,,,,
33RR20220430,        P02,      42,          1,          3,          3,2,20220516,       1541,    29.9990,   155.9658,       5792,  5194.9,2,   1.4972,2,  34.6921,2,  34.6926,2,    167.5,2,   167.5,2,  140.55,2,   34.81,2,    0.00,2,    2.35,2,   0.005,2,   0.000,2,   0.0000,2,  2308.8,2,  2405.7,2,   7.5914,2,    25.02,2, -999.00,9,  -999.0,9, -999.00,9, -999.00,9,       22.0,2, 20220516,     1555,  29.9990, 155.9657,     1.4972,2,     -999.0,9,     -999.0,9,     -999.0,9,     -999.0,9,     0.0122,1,     4.7070,1,     -999.0,9,     -999.0,9,     -999.0,9
33RR20220430,        P02,      42,          1,          2,          2,2,20220516,       1541,    29.9990,   155.9658,       5792,  5503.8,2,   1.5230,2,  34.6931,2,  34.6946,2,    169.7,2,   169.9,2,  139.09,2,   34.67,2,    0.00,2,    2.33,2,   0.005,2,   0.000,2,   0.0000,2,  2309.4,6,  2405.9,2,-999.0000,1,  -999.00,1, -999.00,9,  -999.0,9, -999.00,9, -999.00,9,       22.7,2, 20220516,     1549,  29.9990, 155.9658,     1.5231,2,     -999.0,9,     -999.0,9,     -999.0,9,     -999.0,9,     0.0122,1,     4.7056,1,     -999.0,9,     -999.0,9,     -999.0,9
33RR20220430,        P02,      42,          1,          1,          1,2,20220516,       1541,    29.9990,   155.9658,       5792,  5900.7,2,   1.5634,2,  34.6942,3,  34.6965,2,    171.7,2,   171.7,2,  137.43,2,   34.58,2,    0.00,2,    2.33,2,   0.008,2,   0.000,2,   0.0000,2,  2304.0,2,  2404.7,2,   7.5974,2,    25.03,2, -999.00,9,  -999.0,9, -999.00,9, -999.00,9,       21.7,2, 20220516,     1541,  29.9990, 155.9658,     1.5634,2,     -999.0,9,     -999.0,9,     -999.0,9,     -999.0,9,     0.0122,1,     4.7008,1,     -999.0,9,     -999.0,9,     -999.0,9