BOTTLE,20230801CCHSIOCBG
EXPOCODE,SECT_ID,STNNBR,CASTNO,SAMPNO,BTLNBR,BTLNBR_FLAG_W,DATE,TIME,LATITUDE,LONGITUDE,DEPTH,CTDPRS,CTDPRS_FLAG_W,CTDTMP,CTDTMP_FLAG_W,CTDSAL,CTDSAL_FLAG_W,SALNTY,SALNTY_FLAG_W,CTDOXY,CTDOXY_FLAG_W,OXYGEN,OXYGEN_FLAG_W,SILCAT,SILCAT_FLAG_W,NITRAT,NITRAT_FLAG_W,NITRIT,NITRIT_FLAG_W,PHSPHT,PHSPHT_FLAG_W,CFC-11,CFC-11_FLAG_W,CFC-12,CFC-12_FLAG_W,SF6,SF6_FLAG_W,TCARBN,TCARBN_FLAG_W,ALKALI,ALKALI_FLAG_W,PH_TOT,PH_TOT_FLAG_W,PH_TMP,PH_TMP_FLAG_W,DELC13,DELC13_FLAG_W,DELC14,DELC14_FLAG_W,DOC,DOC_FLAG_W,TDN,TDN_FLAG_W,N2O,N2O_FLAG_W,BTL_DATE,BTL_TIME,BTL_LAT,BTL_LON,REFTMP,REFTMP_FLAG_W,POC,POC_FLAG_W,PON,PON_FLAG_W,POP,POP_FLAG_W,PCOD,PCOD_FLAG_W,CTDFLUOR,CTDFLUOR_FLAG_W,CTDXMISS,CTDXMISS_FLAG_W,HPLC,HPLC_FLAG_W,DNA,DNA_FLAG_W,FCM,FCM_FLAG_W
,,,,,,,,,,,METERS,DBAR,,ITS-90,,PSS-78,,PSS-78,,UMOL/KG,,UMOL/KG,,UMOL/KG,,UMOL/KG,,UMOL/KG,,UMOL/KG,,PMOL/KG,,PMOL/KG,,FMOL/KG,,UMOL/KG,,UMOL/KG,,,,DEG C,,/MILLE,,/MILLE,,UMOL/KG,,UMOL/KG,,NMOL/KG,,,,,,ITS-90,,UG/L,,UG/L,,UG/L,,UG/L,,VOLTS,,VOLTS,,,,,,,
33RR20220430,        P02,      40,          3,          3,          3,2,20220515,       2303,    29.9994,   154.6193,       5788,  4990.6,2,   1.4889,2,  34.6908,2,  34.6906,2,    164.8,2,   164.9,2,  141.45,2,   35.02,2,    0.00,2,    2.38,2,   0.007,2,   0.000,2,   0.0000,2,  -999.0,9,  -999.0,9,-999.0000,9,  -999.00,9, -999.00,9,  -999.0,9, -999.00,1, -999.00,1,       23.0,2, 20220515,     2321,  29.9994, 154.6193,     1.4889,2,     -999.0,9,     -999.0,9,     -999.0,9,     -999.0,9,     0.0122,1,     4.7092,1,     -999.0,9,     -999.0,9,     -999.0,9
33RR20220430,        P02,      40,          3,          2,          2,2,20220515,       2303,    29.9994,   154.6193,       5788,  5453.0,2,   1.5187,2,  34.6933,2,  34.6926,2,    169.6,2,   170.0,2,  137.83,2,   34.68,2,    0.00,2,    2.35,2,-999.000,9,-999.000,9,-999.0000,9,  2306.5,6,  2406.7,2,   7.5954,2,    25.00,2, -999.00,9,  -999.0,9, -999.00,1, -999.00,1,     -999.0,9, 20220515,     2312,  29.9994, 154.6193,     1.5188,2,     -999.0,9,     -999.0,9,     -999.0,9,     -999.0,9,     0.0122,1,     4.7081,1,     -999.0,9,     -999.0,9,     -999.0,9
33RR20220430,        P02,      40,          3,          1,          1,2,20220515,       2303,    29.9994,   154.6193,       5788,  5895.9,2,   1.5606,2,  34.6945,2,  34.6944,2,    171.4,2,   171.5,2,  136.56,2,   34.56,2,    0.00,2,    2.34,2,   0.008,2,   0.000,2,   0.0000,2,  2306.8,2,  2404.3,2,   7.5975,2,    25.03,2, -999.00,9,  -999.0,9, -999.00,1, -999.00,1,       22.9,2, 20220515,     2303,  29.9995, 154.6192,     1.5608,2,     -999.0,9,     -999.0,9,     -999.0,9,     -999.0,9,     0.0122,1,     4.6958,1,     -999.0,9,     -999.0,9,     -999.0,9
33RR20220430,        P02,      41,          1,         14,         14,2,20220516,       0508,    30.0006,   155.2935,       5807,     8.4,2,  21.4935,2,  34.6460,2,-999.0000,9,    216.9,2,  -999.0,9, -999.00,9, -999.00,9, -999.00,9, -999.00,9,-999.000,9,-999.000,9,-999.0000,9,  -999.0,9,  -999.0,9,-999.0000,9,  -999.00,9, -999.00,9,  -999.0,9, -999.00,9, -999.00,9,     -999.0,9, 20220516,      536,  30.0006, 155.2935,    21.2307,3,     -999.0,9,     -999.0,9,     -999.0,1,     -999.0,9,     0.0135,1,     4.6308,1,     -999.0,9,     -999.0,9,     -999.0,9
33RR20220430,        P02,      41,          1,         15,         15,2,20220516,       0508,    30.0006,   155.2935,       5807,     8.5,2,  21.0268,2,  34.6067,2,-999.0000,9,    218.5,2,  -999.0,9, -999.00,9, -999.00,9, -999.00,9, -999.00,9,-999.000,9,-999.000,9,-999.0000,9,  -999.0,9,  -999.0,9,-999.0000,9,  -999.00,9, -999.00,9,  -999.0,9, -999.00,9, -999.00,9,     -999.0,9, 20220516,      537,  30.0007, 155.2935,    20.9277,2,     -999.0,9,     -999.0,9,     -999.0,1,     -999.0,9,     0.0135,1,     4.6261,1,     -999.0,9,     -999.0,9,     -999.0,9
33RR20220430,        P02,      41,          1,         13,         13,2,20220516,       0508,    30.0006,   155.2935,       5807,     8.5,2,  20.9138,2,  34.6035,2,-999.0000,9,    218.8,2,  -999.0,9, -999.00,9, -999.00,9, -999.00,9, -999.00,9,-999.000,9,-999.000,9,-999.0000,9,  -999.0,9,  -999.0,9,-999.0000,9,  -999.00,9, -999.00,9,  -999.0,9, -999.00,9, -999.00,9,     -999.0,9, 20220516,      536,  30.0006, 155.2935,    21.1468,3,     -999.0,1,     -999.0,1,     -999.0,9,     -999.0,9,     0.0135,1,     4.6293,1,     -999.0,9,     -999.0,9,     -999.0,9
33RR20220430,        P02,      41,          1,         18,         18,2,20220516,       0508,    30.0006,   155.2935,       5807,     8.5,2,  20.8043,2,  34.6032,2,-999.0000,9,    219.1,2,  -999.0,9, -999.00,9, -999.00,9, -999.00,9, -999.00,9,-999.000,9,-999.000,9,-999.0000,9,  -999.0,9,  -999.0,9,-999.0000,9,  -999.00,9, -999.00,9,  -999.0,9, -999.00,9, -999.00,9,     -999.0,9, 20220516,      538,  30.0007, 155.2935,    20.8109,2,     -999.0,9,     -999.0,9,     -999.0,9,     -999.0,1,     0.0135,1,     4.6306,1,     -999.0,9,     -999.0,9,     -999.0,9
33RR20220430,        P02,      41,          1,         17,         17,2,20220516,       0508,    30.0006,   155.2935,       5807,     8.6,2,  20.8227,2,  34.6003,2,-999.0000,9,    219.4,2,  -999.0,9, -999.00,9, -999.00,9, -999.00,9, -999.00,9,-999.000,9,-999.000,9,-999.0000,9,  -999.0,9,  -999.0,9,-999.0000,9,  -999.00,9, -999.00,9,  -999.0,9, -999.00,9, -999.00,9,     -999.0,9, 20220516,      537,  30.0007, 155.2935,    21.1269,3,     -999.0,9,     -999.0,9,     -999.0,9,     -999.0,1,     0.0134,1,     4.6308,1,     -999.0,9,     -999.0,9,     -999.0,9
33RR20220430,        P02,      41,          1,         19,         19,2,20220516,       0508,    30.0006,   155.2935,       5807,     8.6,2,  20.8550,2,  34.6007,2,-999.0000,9,    218.9,2,  -999.0,9, -999.00,9, -999.00,9, -999.00,9, -999.00,9,-999.000,9,-999.000,9,-999.0000,9,  -999.0,9,  -999.0,9,-999.0000,9,  -999.00,9, -999.00,9,  -999.0,9, -999.00,9, -999.00,9,     -999.0,9, 20220516,      538,  30.0006, 155.2935,    20.8552,2,     -999.0,9,     -999.0,9,     -999.0,9,     -999.0,1,     0.0135,1,     4.6296,1,     -999.0,9,     -999.0,9,     -999.0,9
33RR20220430,        P02,      41,          1,         12,         12,2,20220516,       0508,    30.0006,   155.2935,       5807,     8.6,2,  20.8280,2,  34.6008,2,-999.0000,9,    219.1,2,  -999.0,9, -999.00,9, -999.00,9, -999.00,9, -999.00,9,-999.000,9,-999.000,9,-999.0000,9,  -999.0,9,  -999.0,9,-999.0000,9,  -999.00,9, -999.00,9,  -999.0,9, -999.00,9, -999.00,9,     -999.0,9, 20220516,      536,  30.0007, 155.2936,    20.8029,2,     -999.0,1,     -999.0,1,     -999.0,9,     -999.0,9,     0.0134,1,     4.6317,1,     -999.0,9,     -999.0,9,     -999.0,9
33RR20220430,        P02,      41,          1,         11,         11,2,20220516,       0508,    30.0006,   155.2935,       5807,     8.7,2,  20.8312,2,  34.5991,2,-999.0000,9,    219.3,2,  -999.0,9, -999.00,9, -999.00,9, -999.00,9, -999.00,9,-999.000,9,-999.000,9,-999.0000,9,  -999.0,9,  -999.0,9,-999.0000,9,  -999.00,9, -999.00,9,  -999.0,9, -999.00,9, -999.00,9,     -999.0,9, 20220516,      535,  30.0007, 155.2936,    21.1147,3,     -999.0,1,     -999.0,1,     -999.0,9,     -999.0,9,     0.0135,1,     4.6309,1,     -999.0,9,     -999.0,1,     -999.0,9
33RR20220430,        P02,      41,          1,          9,          9,2,20220516,       0508,    30.0006,   155.2935,       5807,     8.7,2,  20.8485,2,  34.5998,2,-999.0000,9,    218.8,2,  -999.0,9, -999.00,9, -999.00,9, -999.00,9, -999.00,9,-999.000,9,-999.000,9,-999.0000,9,  -999.0,9,  -999.0,9,-999.0000,9,  -999.00,9, -999.00,9,  -999.0,9, -999.00,9, -999.00,9,     -999.0,9, 20220516,      535,  30.0006, 155.2936,    21.0430,3,     -999.0,9,     -999.0,9,     -999.0,9,     -999.0,9,     0.0134,1,     4.6296,1,     -999.0,1,     -999.0,9,     -999.0,1
33RR20220430,        P02,      41,          1,         16,         16,2,20220516,       0508,    30.0006,   155.2935,       5807,     9.0,2,  21.2606,2,  34.6093,2,-999.0000,9,    217.7,2,  -999.0,9, -999.00,9, -999.00,9, -999.00,9, -999.00,9,-999.000,9,-999.000,9,-999.0000,9,  -999.0,9,  -999.0,9,-999.0000,9,  -999.00,9, -999.00,9,  -999.0,9, -999.00,9, -999.00,9,     -999.0,9, 20220516,      537,  30.0007, 155.2936,    21.1076,3,     -999.0,9,     -999.0,9,     -999.0,1,     -999.0,9,     0.0134,1,     4.6266,1,     -999.0,9,     -999.0,9,     -999.0,9
33RR20220430,        P02,      41,          1,         10,         10,2,20220516,       0508,    30.0006,   155.2935,       5807,     9.0,2,  20.8620,2,  34.6012,2,-999.0000,9,    218.8,2,  -999.0,9, -999.00,9, -999.00,9, -999.00,9, -999.00,9,-999.000,9,-999.000,9,-999.0000,9,  -999.0,9,  -999.0,9,-999.0000,9,  -999.00,9, -999.00,9,  -999.0,9, -999.00,9, -999.00,9,     -999.0,9, 20220516,      535,  30.0007, 155.2936,    20.8936,2,     -999.0,9,     -999.0,9,     -999.0,9,     -999.0,9,     0.0135,1,     4.6308,1,     -999.0,9,     -999.0,1,     -999.0,9
33RR20220430,        P02,      41,          1,          8,          8,2,20220516,       0508,    30.0006,   155.2935,       5807,    42.7,2,  18.1840,2,  34.7518,2,-999.0000,9,    232.0,2,  -999.0,9, -999.00,9, -999.00,9, -999.00,9, -999.00,9,-999.000,9,-999.000,9,-999.0000,9,  -999.0,9,  -999.0,9,-999.0000,9,  -999.00,9, -999.00,9,  -999.0,9, -999.00,9, -999.00,9,     -999.0,9, 20220516,      532,  30.0007, 155.2935,    18.1782,2,     -999.0,9,     -999.0,9,     -999.0,9,     -999.0,9,     0.0184,1,     4.5881,1,     -999.0,1,     -999.0,9,     -999.0,1
33RR20220430,        P02,      41,          1,          7,          7,2,20220516,       0508,    30.0006,   155.2935,       5807,    79.2,2,  17.2918,2,  34.7242,2,-999.0000,9,    210.5,2,  -999.0,9, -999.00,9, -999.00,9, -999.00,9, -999.00,9,-999.000,9,-999.000,9,-999.0000,9,  -999.0,9,  -999.0,9,-999.0000,9,  -999.00,9, -999.00,9,  -999.0,9, -999.00,9, -999.00,9,     -999.0,9, 20220516,      530,  30.0007, 155.2936,    17.2908,2,     -999.0,9,     -999.0,9,     -999.0,9,     -999.0,9,     0.0448,1,     4.6272,1,     -999.0,9,     -999.0,9,     -999.0,1
33RR20220430,        P02,      41,          1,          6,          6,2,20220516,       0508,    30.0006,   155.2935,       5807,   103.9,2,  16.9656,2,  34.7140,2,-999.0000,9,    210.1,2,  -999.0,9, -999.00,9, -999.00,9, -999.00,9, -999.00,9,-999.000,9,-999.000,9,-999.0000,9,  -999.0,9,  -999.0,9,-999.0000,9,  -999.00,9, -999.00,9,  -999.0,9, -999.00,9, -999.00,9,     -999.0,9, 20220516,      528,  30.0006, 155.2935,    16.9586,2,     -999.0,9,     -999.0,9,     -999.0,9,     -999.0,9,     0.0210,1,     4.6699,1,     -999.0,1,     -999.0,1,     -999.0,1
33RR20220430,        P02,      41,          1,          5,          5,2,20220516,       0508,    30.0006,   155.2935,       5807,   104.1,2,  16.9642,2,  34.7137,2,-999.0000,9,    210.6,2,  -999.0,9, -999.00,9, -999.00,9, -999.00,9, -999.00,9,-999.000,9,-999.000,9,-999.0000,9,  -999.0,9,  -999.0,9,-999.0000,9,  -999.00,9, -999.00,9,  -999.0,9, -999.00,9, -999.00,9,     -999.0,9, 20220516,      528,  30.0007, 155.2936,    16.9569,2,     -999.0,9,     -999.0,9,     -999.0,9,     -999.0,9,     0.0216,1,     4.6706,1,     -999.0,9,     -999.0,1,     -999.0,9
33RR20220430,        P02,      41,          1,          4,          4,2,20220516,       0508,    30.0006,   155.2935,       5807,   153.6,2,  16.5446,2,  34.6936,2,-999.0000,9,    209.3,2,  -999.0,9, -999.00,9, -999.00,9, -999.00,9, -999.00,9,-999.000,9,-999.000,9,-999.0000,9,  -999.0,9,  -999.0,9,-999.0000,9,  -999.00,9, -999.00,9,  -999.0,9, -999.00,9, -999.00,9,     -999.0,9, 20220516,      526,  30.0007, 155.2935,    16.5370,2,     -999.0,9,     -999.0,9,     -999.0,9,     -999.0,9,     0.0122,1,     4.6856,1,     -999.0,9,     -999.0,9,     -999.0,1
33RR20220430,        P02,      41,          1,          3,          3,2,20220516,       0508,    30.0006,   155.2935,       5807,   202.7,2,  16.1649,2,  34.6687,2,-999.0000,9,    205.6,2,  -999.0,9, -999.00,9, -999.00,9, -999.00,9, -999.00,9,-999.000,9,-999.000,9,-999.0000,9,  -999.0,9,  -999.0,9,-999.0000,9,  -999.00,9, -999.00,9,  -999.0,9, -999.00,9, -999.00,9,     -999.0,9, 20220516,      524,  30.0006, 155.2935,    16.1533,2,     -999.0,9,     -999.0,9,     -999.0,9,     -999.0,9,     0.0133,1,     4.6882,1,     -999.0,9,     -999.0,1,     -999.0,1
33RR20220430,        P02,      41,          1,          2,          2,2,20220516,       0508,    30.0006,   155.2935,       5807,   505.6,2,   9.1925,2,  34.1394,2,-999.0000,9,    171.2,2,  -999.0,9, -999.00,9, -999.00,9, -999.00,9, -999.00,9,-999.000,9,-999.000,9,-999.0000,9,  -999.0,9,  -999.0,9,-999.0000,9,  -999.00,9, -999.00,9,  -999.0,9, -999.00,9, -999.00,9,     -999.0,9, 20220516,      518,  30.0006, 155.2935,     9.1456,2,     -999.0,9,     -999.0,9,     -999.0,9,     -999.0,9,     0.0122,1,     4.7000,1,     -999.0,9,     -999.0,9,     -999.0,1
33RR20220430,        P02,      41,          1,          1,          1,2,20220516,       0508,    30.0006,   155.2935,       5807,  1009.6,2,   3.5162,2,  34.3194,2,-999.0000,9,     33.8,2,  -999.0,9, -999.00,9, -999.00,9, -999.00,9, -999.00,9,-999.000,9,-999.000,9,-999.0000,9,  -999.0,9,  -999.0,9,-999.0000,9,  -999.00,9, -999.00,9,  -999.0,9, -999.00,9, -999.00,9,     -999.0,9, 20220516,      508,  30.0007, 155.2935,     3.5183,2,     -999.0,9,     -999.0,9,     -999.0,9,     -999.0,9,     0.0134,1,     4.7057,1,     -999.0,9,     -999.0,1,     -999.0,1