BOTTLE,20230801CCHSIOCBG
EXPOCODE,SECT_ID,STNNBR,CASTNO,SAMPNO,BTLNBR,BTLNBR_FLAG_W,DATE,TIME,LATITUDE,LONGITUDE,DEPTH,CTDPRS,CTDPRS_FLAG_W,CTDTMP,CTDTMP_FLAG_W,CTDSAL,CTDSAL_FLAG_W,SALNTY,SALNTY_FLAG_W,CTDOXY,CTDOXY_FLAG_W,OXYGEN,OXYGEN_FLAG_W,SILCAT,SILCAT_FLAG_W,NITRAT,NITRAT_FLAG_W,NITRIT,NITRIT_FLAG_W,PHSPHT,PHSPHT_FLAG_W,CFC-11,CFC-11_FLAG_W,CFC-12,CFC-12_FLAG_W,SF6,SF6_FLAG_W,TCARBN,TCARBN_FLAG_W,ALKALI,ALKALI_FLAG_W,PH_TOT,PH_TOT_FLAG_W,PH_TMP,PH_TMP_FLAG_W,DELC13,DELC13_FLAG_W,DELC14,DELC14_FLAG_W,DOC,DOC_FLAG_W,TDN,TDN_FLAG_W,N2O,N2O_FLAG_W,BTL_DATE,BTL_TIME,BTL_LAT,BTL_LON,REFTMP,REFTMP_FLAG_W,POC,POC_FLAG_W,PON,PON_FLAG_W,POP,POP_FLAG_W,PCOD,PCOD_FLAG_W,CTDFLUOR,CTDFLUOR_FLAG_W,CTDXMISS,CTDXMISS_FLAG_W,HPLC,HPLC_FLAG_W,DNA,DNA_FLAG_W,FCM,FCM_FLAG_W
,,,,,,,,,,,METERS,DBAR,,ITS-90,,PSS-78,,PSS-78,,UMOL/KG,,UMOL/KG,,UMOL/KG,,UMOL/KG,,UMOL/KG,,UMOL/KG,,PMOL/KG,,PMOL/KG,,FMOL/KG,,UMOL/KG,,UMOL/KG,,,,DEG C,,/MILLE,,/MILLE,,UMOL/KG,,UMOL/KG,,NMOL/KG,,,,,,ITS-90,,UG/L,,UG/L,,UG/L,,UG/L,,VOLTS,,VOLTS,,,,,,,
33RR20220430,        P02,      69,          1,         36,         36,2,20220525,       0515,    29.9999,   172.0274,       5122,     3.5,2,  24.3805,2,  35.4109,2,  35.3934,2,    213.1,2,   213.9,2,    0.78,2,    0.02,2,    0.00,2,    0.00,2,   1.558,2,   1.071,2,   1.9507,2,  2024.6,2,  2324.5,2,   8.0366,2,    24.97,2, -999.00,9,  -999.0,9, -999.00,1, -999.00,1,        7.1,2, 20220525,      718,  29.9999, 172.0274,    24.3844,2,     -999.0,9,     -999.0,9,     -999.0,9,     -999.0,9,     0.0135,1,     4.6333,1,     -999.0,9,     -999.0,9,     -999.0,9
33RR20220430,        P02,      69,          1,         35,         35,2,20220525,       0515,    29.9999,   172.0274,       5122,    25.9,2,  22.5113,2,  35.3170,2,  35.3003,2,    222.2,2,   222.0,2,    0.98,2,    0.01,2,    0.00,2,    0.00,2,-999.000,9,-999.000,9,-999.0000,9,  2027.5,2,  2318.6,2,   8.0235,2,    24.99,2, -999.00,9,  -999.0,9, -999.00,1, -999.00,1,     -999.0,9, 20220525,      716,  29.9999, 172.0274,    22.5319,2,     -999.0,9,     -999.0,9,     -999.0,9,     -999.0,9,     0.0134,1,     4.6257,1,     -999.0,9,     -999.0,9,     -999.0,9
33RR20220430,        P02,      69,          1,         34,         34,2,20220525,       0515,    29.9999,   172.0274,       5122,    52.0,2,  21.0287,2,  35.1336,2,  35.1289,2,    232.1,2,   232.5,2,    1.07,2,    0.00,2,    0.00,2,    0.00,2,   1.815,2,   1.215,2,   2.0339,2,  2025.0,2,  2308.5,2,   8.0152,2,    24.97,2, -999.00,9,  -999.0,9, -999.00,1, -999.00,1,        7.8,2, 20220525,      715,  29.9999, 172.0274,    21.0481,2,     -999.0,9,     -999.0,9,     -999.0,9,     -999.0,9,     0.0161,1,     4.6169,1,     -999.0,9,     -999.0,9,     -999.0,9
33RR20220430,        P02,      69,          1,         33,         33,2,20220525,       0515,    29.9999,   172.0274,       5122,    76.6,2,  19.6068,2,  34.9905,2,  34.9736,2,    228.4,2,   228.8,2,    1.56,2,    0.01,2,    0.00,2,    0.00,2,   1.947,2,   1.276,2,   2.1421,2,  2026.3,2,  2298.1,2,   7.9939,2,    24.98,2, -999.00,9,  -999.0,9, -999.00,1, -999.00,1,        8.4,2, 20220525,      713,  29.9999, 172.0275,    19.6105,2,     -999.0,9,     -999.0,9,     -999.0,9,     -999.0,9,     0.0203,1,     4.6231,1,     -999.0,9,     -999.0,9,     -999.0,9
33RR20220430,        P02,      69,          1,         32,         32,2,20220525,       0515,    29.9999,   172.0274,       5122,   101.7,2,  18.9011,2,  34.9095,2,  34.8932,2,    212.7,2,   212.0,2,    2.05,2,    0.88,2,    0.03,2,    0.09,2,   1.949,2,   1.287,2,   2.0485,2,  2043.2,6,  2293.6,2,   7.9589,2,    25.00,2, -999.00,9,  -999.0,9, -999.00,1, -999.00,1,        9.9,2, 20220525,      711,  29.9999, 172.0274,    18.9051,2,     -999.0,9,     -999.0,9,     -999.0,9,     -999.0,9,     0.0532,1,     4.6045,1,     -999.0,9,     -999.0,9,     -999.0,9
33RR20220430,        P02,      69,          1,         31,         31,2,20220525,       0515,    29.9999,   172.0274,       5122,   151.1,2,  17.5271,2,  34.7648,2,  34.7476,2,    216.9,2,   215.6,2,    2.64,2,    2.53,2,    0.06,2,    0.18,2,-999.000,9,-999.000,9,-999.0000,9,  2046.0,2,  2282.0,2,   7.9394,2,    24.98,2, -999.00,9,  -999.0,9, -999.00,1, -999.00,1,     -999.0,9, 20220525,      710,  29.9999, 172.0274,    17.5528,2,     -999.0,9,     -999.0,9,     -999.0,9,     -999.0,9,     0.0203,1,     4.6709,1,     -999.0,9,     -999.0,9,     -999.0,9
33RR20220430,        P02,      69,          1,         30,         30,2,20220525,       0515,    29.9999,   172.0274,       5122,   201.1,2,  16.4548,2,  34.6595,2,  34.6488,2,    217.7,2,   217.9,2,    3.91,2,    4.16,2,    0.01,2,    0.29,2,   2.147,2,   1.399,2,   2.1582,2,  2049.5,2,  2276.9,2,   7.9199,2,    24.99,2, -999.00,9,  -999.0,9, -999.00,1, -999.00,1,       10.1,2, 20220525,      708,  29.9999, 172.0274,    16.4576,2,     -999.0,9,     -999.0,9,     -999.0,9,     -999.0,9,     0.0122,1,     4.6853,1,     -999.0,9,     -999.0,9,     -999.0,9
33RR20220430,        P02,      69,          1,         29,         29,2,20220525,       0515,    29.9999,   172.0274,       5122,   252.7,2,  15.6910,2,  34.6175,2,  34.6042,2,    209.5,2,   208.3,2,    6.06,2,    6.41,2,    0.00,2,    0.45,2,-999.000,9,-999.000,9,-999.0000,9,  -999.0,9,  -999.0,9,-999.0000,9,  -999.00,9, -999.00,9,  -999.0,9, -999.00,1, -999.00,1,     -999.0,9, 20220525,      706,  30.0000, 172.0274,    15.6902,2,     -999.0,9,     -999.0,9,     -999.0,9,     -999.0,9,     0.0122,1,     4.6889,1,     -999.0,9,     -999.0,9,     -999.0,9
33RR20220430,        P02,      69,          1,         28,         28,2,20220525,       0515,    29.9999,   172.0274,       5122,   303.1,2,  14.6777,2,  34.5395,2,  34.5272,2,    206.2,2,   206.4,2,    8.30,2,    8.19,2,    0.00,2,    0.59,2,   2.309,6,   1.506,6,   2.2029,6,  2075.1,2,  2272.6,2,   7.8577,2,    24.99,2, -999.00,9,  -999.0,9, -999.00,1, -999.00,1,       12.4,6, 20220525,      704,  30.0000, 172.0274,    14.6758,2,     -999.0,9,     -999.0,9,     -999.0,9,     -999.0,9,     0.0122,1,     4.6920,1,     -999.0,9,     -999.0,9,     -999.0,9
33RR20220430,        P02,      69,          1,         27,         27,2,20220525,       0515,    29.9999,   172.0274,       5122,   353.6,2,  13.6499,2,  34.4601,2,  34.4451,2,    204.6,2,   204.8,2,   11.04,2,   10.06,2,    0.00,2,    0.72,2,-999.000,9,-999.000,9,-999.0000,9,  -999.0,9,  -999.0,9,-999.0000,9,  -999.00,9, -999.00,9,  -999.0,9, -999.00,1, -999.00,1,     -999.0,9, 20220525,      702,  30.0000, 172.0274,    13.6501,2,     -999.0,9,     -999.0,9,     -999.0,9,     -999.0,9,     0.0122,1,     4.6938,1,     -999.0,9,     -999.0,9,     -999.0,9
33RR20220430,        P02,      69,          1,         26,         26,2,20220525,       0515,    29.9999,   172.0274,       5122,   404.2,2,  12.3756,2,  34.3582,2,  34.3509,2,    204.8,2,   205.6,2,   14.36,2,   12.02,2,    0.00,2,    0.86,2,   2.527,2,   1.647,2,   2.0748,2,  2100.4,2,  2268.9,2,   7.7964,2,    25.00,2, -999.00,9,  -999.0,9, -999.00,1, -999.00,1,       15.0,2, 20220525,      700,  30.0000, 172.0275,    12.3708,2,     -999.0,9,     -999.0,9,     -999.0,9,     -999.0,9,     0.0122,1,     4.6959,1,     -999.0,9,     -999.0,9,     -999.0,9
33RR20220430,        P02,      69,          1,         25,         25,2,20220525,       0515,    29.9999,   172.0274,       5122,   504.8,2,  10.0054,2,  34.1683,2,  34.1603,2,    201.4,2,   202.4,2,   23.25,2,   16.70,2,    0.00,2,    1.19,2,   2.683,2,   1.739,2,   2.0281,2,  2130.4,2,  2269.0,2,   7.7236,2,    24.98,2, -999.00,9,  -999.0,9, -999.00,1, -999.00,1,       17.7,2, 20220525,      658,  29.9999, 172.0274,    10.0067,2,     -999.0,9,     -999.0,9,     -999.0,9,     -999.0,9,     0.0122,1,     4.6980,1,     -999.0,9,     -999.0,9,     -999.0,9
33RR20220430,        P02,      69,          1,         24,         24,2,20220525,       0515,    29.9999,   172.0274,       5122,   606.6,2,   7.6480,2,  34.0373,2,  34.0335,2,    160.1,2,   159.9,2,   41.82,2,   24.92,2,    0.00,2,    1.80,2,   2.477,2,   1.575,2,   1.4873,2,  -999.0,9,  -999.0,9,-999.0000,9,  -999.00,9, -999.00,9,  -999.0,9, -999.00,9, -999.00,9,       25.5,2, 20220525,      655,  30.0000, 172.0275,     7.6491,2,     -999.0,9,     -999.0,9,     -999.0,9,     -999.0,9,     0.0122,1,     4.6998,1,     -999.0,9,     -999.0,9,     -999.0,9
33RR20220430,        P02,      69,          1,         23,         23,2,20220525,       0515,    29.9999,   172.0274,       5122,   706.7,2,   5.7251,2,  34.0186,2,  34.0184,2,    112.6,2,   111.8,2,   67.72,2,   32.78,2,    0.00,2,    2.37,2,   1.891,2,   1.212,2,   0.8572,2,  2249.4,2,  2296.1,2,   7.4640,2,    24.98,2, -999.00,9,  -999.0,9, -999.00,1, -999.00,1,       34.7,2, 20220525,      652,  29.9999, 172.0274,     5.7244,2,     -999.0,9,     -999.0,9,     -999.0,9,     -999.0,9,     0.0125,1,     4.6998,1,     -999.0,9,     -999.0,9,     -999.0,9
33RR20220430,        P02,      69,          1,         22,         22,2,20220525,       0515,    29.9999,   172.0274,       5122,   807.5,2,   4.8426,2,  34.1012,2,  34.1029,2,     72.3,2,    71.7,2,   87.94,2,   37.74,2,    0.00,2,    2.73,2,   1.163,2,   0.734,2,   0.4632,2,  2294.0,2,  2315.9,2,   7.3871,2,    24.97,2, -999.00,9,  -999.0,9, -999.00,9, -999.00,9,       43.0,2, 20220525,      650,  30.0000, 172.0274,     4.8405,2,     -999.0,9,     -999.0,9,     -999.0,9,     -999.0,9,     0.0134,1,     4.7007,1,     -999.0,9,     -999.0,9,     -999.0,9
33RR20220430,        P02,      69,          1,         21,         21,2,20220525,       0515,    29.9999,   172.0274,       5122,   909.2,2,   4.2112,2,  34.1890,2,  34.1881,2,     47.5,3,    48.6,2,  104.64,2,   40.47,2,    0.00,2,    2.92,2,   0.699,2,   0.433,2,   0.2094,2,  2324.5,2,  2334.4,2,   7.3474,2,    24.99,2, -999.00,9,  -999.0,9, -999.00,1, -999.00,1,       49.0,2, 20220525,      647,  30.0000, 172.0274,     4.2133,2,     -999.0,9,     -999.0,9,     -999.0,9,     -999.0,9,     0.0134,1,     4.7006,1,     -999.0,9,     -999.0,9,     -999.0,9
33RR20220430,        P02,      69,          1,         20,         20,2,20220525,       0515,    29.9999,   172.0274,       5122,  1008.8,2,   3.7333,2,  34.2652,2,  34.2666,2,     34.7,3,    35.5,2,  119.49,2,   42.15,2,    0.00,2,    3.05,2,   0.405,2,   0.249,2,   0.1645,2,  -999.0,9,  -999.0,9,-999.0000,9,  -999.00,9, -999.00,9,  -999.0,9, -999.00,9, -999.00,9,       52.9,2, 20220525,      644,  29.9999, 172.0274,     3.7356,2,     -999.0,9,     -999.0,9,     -999.0,9,     -999.0,9,     0.0134,1,     4.6996,1,     -999.0,9,     -999.0,9,     -999.0,9
33RR20220430,        P02,      69,          1,         19,         19,2,20220525,       0515,    29.9999,   172.0274,       5122,  1111.1,2,   3.3831,2,  34.3348,2,  34.3356,2,     28.8,2,    28.9,2,  130.32,2,   42.94,2,    0.00,2,    3.09,2,   0.221,2,   0.135,2,   0.0000,2,  2362.0,2,  2364.7,2,   7.3233,2,    24.98,2, -999.00,9,  -999.0,9, -999.00,1, -999.00,1,       54.0,2, 20220525,      642,  30.0000, 172.0274,     3.3844,2,     -999.0,9,     -999.0,9,     -999.0,9,     -999.0,9,     0.0134,1,     4.7001,1,     -999.0,9,     -999.0,9,     -999.0,9
33RR20220430,        P02,      69,          1,         18,         18,2,20220525,       0515,    29.9999,   172.0274,       5122,  1211.7,2,   3.1106,2,  34.3934,2,  34.3953,2,     27.7,2,    27.7,2,  138.33,2,   43.35,2,    0.00,2,    3.14,2,   0.115,2,   0.068,2,   0.0000,2,  2371.7,2,  2375.4,2,   7.3294,2,    25.01,2, -999.00,9,  -999.0,9, -999.00,9, -999.00,9,       53.8,2, 20220525,      639,  29.9999, 172.0274,     3.1105,2,     -999.0,9,     -999.0,9,     -999.0,9,     -999.0,9,     0.0134,1,     4.7008,1,     -999.0,9,     -999.0,9,     -999.0,9
33RR20220430,        P02,      69,          1,         17,         17,2,20220525,       0515,    29.9999,   172.0274,       5122,  1313.4,2,   2.8715,2,  34.4460,2,  34.4465,2,     30.1,2,    30.1,2,  145.45,2,   43.49,2,    0.00,2,    3.13,2,   0.051,2,   0.032,2,   0.0000,2,  2378.2,2,  2385.4,2,   7.3382,2,    25.02,2, -999.00,9,  -999.0,9, -999.00,1, -999.00,1,       51.6,2, 20220525,      636,  29.9999, 172.0274,     2.8729,2,     -999.0,9,     -999.0,9,     -999.0,9,     -999.0,9,     0.0134,1,     4.7019,1,     -999.0,9,     -999.0,9,     -999.0,9
33RR20220430,        P02,      69,          1,         16,         16,4,20220525,       0515,    29.9999,   172.0274,       5122,  1415.8,3,   2.7248,3,  34.4901,3,-999.0000,9,     38.3,3,  -999.0,9, -999.00,9, -999.00,9, -999.00,9, -999.00,9,-999.000,9,-999.000,9,-999.0000,9,  -999.0,9,  -999.0,9,-999.0000,9,  -999.00,9, -999.00,9,  -999.0,9, -999.00,9, -999.00,9,     -999.0,9, 20220525,      634,  30.0000, 172.0274,     2.7264,3,     -999.0,9,     -999.0,9,     -999.0,9,     -999.0,9,     0.0134,1,     4.7031,1,     -999.0,9,     -999.0,9,     -999.0,9
33RR20220430,        P02,      69,          1,         15,         15,2,20220525,       0515,    29.9999,   172.0274,       5122,  1517.3,2,   2.5669,2,  34.5161,2,  34.5160,2,     44.4,2,    44.2,2,  152.09,2,   42.84,2,    0.00,2,    3.06,2,   0.013,2,   0.008,2,   0.0000,2,  2376.0,2,  2397.4,2,   7.3735,2,    24.99,2, -999.00,9,  -999.0,9, -999.00,1, -999.00,1,       46.4,2, 20220525,      631,  30.0000, 172.0274,     2.5667,2,     -999.0,9,     -999.0,9,     -999.0,9,     -999.0,9,     0.0134,1,     4.7040,1,     -999.0,9,     -999.0,9,     -999.0,9
33RR20220430,        P02,      69,          1,         14,         14,2,20220525,       0515,    29.9999,   172.0274,       5122,  1618.7,2,   2.4205,2,  34.5389,2,  34.5398,2,     51.4,2,    51.1,2,  154.72,2,   42.43,2,    0.00,2,    3.04,2,-999.000,9,-999.000,9,-999.0000,9,  2376.7,6,  2401.2,2,   7.3877,2,    25.01,2, -999.00,9,  -999.0,9, -999.00,1, -999.00,1,     -999.0,9, 20220525,      628,  29.9999, 172.0274,     2.4190,2,     -999.0,9,     -999.0,9,     -999.0,9,     -999.0,9,     0.0134,1,     4.7044,1,     -999.0,9,     -999.0,9,     -999.0,9
33RR20220430,        P02,      69,          1,         13,         13,2,20220525,       0515,    29.9999,   172.0274,       5122,  1820.8,2,   2.1600,2,  34.5715,2,  34.5736,2,     62.2,2,    62.4,2,  160.48,2,   41.70,2,    0.00,2,    2.97,2,   0.009,2,-999.000,5,-999.0000,5,  2377.8,2,  2409.5,2,   7.4105,2,    24.99,2, -999.00,9,  -999.0,9, -999.00,1, -999.00,1,       39.7,2, 20220525,      624,  29.9999, 172.0274,     2.1605,2,     -999.0,9,     -999.0,9,     -999.0,9,     -999.0,9,     0.0133,1,     4.7045,1,     -999.0,9,     -999.0,9,     -999.0,9
33RR20220430,        P02,      69,          1,         12,         12,2,20220525,       0515,    29.9999,   172.0274,       5122,  2024.2,2,   1.9553,2,  34.6006,2,  34.6012,2,     77.6,2,    77.8,2,  162.82,2,   40.70,2,    0.00,2,    2.89,2,-999.000,9,-999.000,9,-999.0000,9,  -999.0,9,  -999.0,9,-999.0000,9,  -999.00,9, -999.00,9,  -999.0,9, -999.00,9, -999.00,9,     -999.0,9, 20220525,      619,  29.9999, 172.0274,     1.9545,2,     -999.0,9,     -999.0,9,     -999.0,9,     -999.0,9,     0.0130,1,     4.7038,1,     -999.0,9,     -999.0,9,     -999.0,9
33RR20220430,        P02,      69,          1,         11,         11,2,20220525,       0515,    29.9999,   172.0274,       5122,  2279.9,2,   1.7808,2,  34.6253,2,  34.6264,2,     94.1,2,    94.2,2,  163.21,2,   39.65,2,    0.00,2,    2.81,2,   0.004,2,   0.000,2,   0.0000,2,  2364.2,2,  2417.2,2,   7.4705,2,    25.00,2, -999.00,9,  -999.0,9, -999.00,1, -999.00,1,       31.2,2, 20220525,      614,  29.9999, 172.0274,     1.7805,2,     -999.0,9,     -999.0,9,     -999.0,9,     -999.0,9,     0.0125,1,     4.7056,1,     -999.0,9,     -999.0,9,     -999.0,9
33RR20220430,        P02,      69,          1,         10,         10,2,20220525,       0515,    29.9999,   172.0274,       5122,  2532.7,2,   1.6665,2,  34.6414,2,  34.6425,2,    106.5,2,   106.1,2,  162.82,2,   38.92,2,    0.00,2,    2.74,2,-999.000,9,-999.000,9,-999.0000,9,  2356.5,2,  2417.0,2,   7.4934,2,    25.02,2, -999.00,9,  -999.0,9, -999.00,9, -999.00,9,     -999.0,9, 20220525,      609,  29.9999, 172.0274,     1.6665,2,     -999.0,9,     -999.0,9,     -999.0,9,     -999.0,9,     0.0131,1,     4.7057,1,     -999.0,9,     -999.0,9,     -999.0,9
33RR20220430,        P02,      69,          1,          9,          9,2,20220525,       0515,    29.9999,   172.0274,       5122,  2788.4,2,   1.5890,2,  34.6536,2,  34.6551,2,    117.8,2,   118.1,2,  160.57,2,   38.17,2,    0.00,2,    2.70,2,   0.003,2,   0.000,2,   0.0000,2,  2351.3,2,  2418.5,2,   7.5139,2,    25.01,2, -999.00,9,  -999.0,9, -999.00,1, -999.00,1,       26.9,2, 20220525,      604,  29.9999, 172.0274,     1.5887,2,     -999.0,9,     -999.0,9,     -999.0,9,     -999.0,9,     0.0122,1,     4.7057,1,     -999.0,9,     -999.0,9,     -999.0,9
33RR20220430,        P02,      69,          1,          8,          8,2,20220525,       0515,    29.9999,   172.0274,       5122,  3044.3,2,   1.5338,2,  34.6634,2,  34.6635,2,    127.5,2,   127.7,2,  158.62,2,   37.52,2,    0.00,2,    2.63,2,-999.000,9,-999.000,9,-999.0000,9,  -999.0,9,  -999.0,9,-999.0000,9,  -999.00,9, -999.00,9,  -999.0,9, -999.00,9, -999.00,9,     -999.0,9, 20220525,      558,  29.9999, 172.0274,     1.5346,2,     -999.0,9,     -999.0,9,     -999.0,9,     -999.0,9,     0.0122,1,     4.7061,1,     -999.0,9,     -999.0,9,     -999.0,9
33RR20220430,        P02,      69,          1,          7,          7,2,20220525,       0515,    29.9999,   172.0274,       5122,  3350.2,2,   1.4934,2,  34.6717,2,  34.6728,2,    136.6,2,   136.7,2,  156.66,2,   36.97,2,    0.00,2,    2.57,2,   0.004,2,   0.000,2,   0.0000,2,  2336.1,2,  2418.5,2,   7.5489,2,    25.00,2, -999.00,9,  -999.0,9, -999.00,1, -999.00,1,       24.1,2, 20220525,      552,  29.9999, 172.0274,     1.4933,2,     -999.0,9,     -999.0,9,     -999.0,9,     -999.0,9,     0.0122,1,     4.7069,1,     -999.0,9,     -999.0,9,     -999.0,9
33RR20220430,        P02,      69,          1,          6,          6,2,20220525,       0515,    29.9999,   172.0274,       5122,  3658.4,2,   1.4715,2,  34.6779,2,  34.6787,2,    144.1,2,   144.5,2,  153.63,2,   36.53,2,    0.00,2,    2.55,2,-999.000,9,-999.000,9,-999.0000,9,  2331.4,2,  2418.2,2,   7.5598,2,    25.03,2, -999.00,9,  -999.0,9, -999.00,9, -999.00,9,     -999.0,9, 20220525,      546,  30.0000, 172.0274,     1.4713,2,     -999.0,9,     -999.0,9,     -999.0,9,     -999.0,9,     0.0122,1,     4.7073,1,     -999.0,9,     -999.0,9,     -999.0,9
33RR20220430,        P02,      69,          1,          5,          5,2,20220525,       0515,    29.9999,   172.0274,       5122,  3963.7,2,   1.4615,2,  34.6821,2,  34.6820,2,    149.4,2,   149.6,2,  151.88,2,   36.18,2,    0.00,2,    2.51,2,   0.005,2,   0.000,2,   0.0000,2,  2328.3,2,  2417.6,2,   7.5698,2,    25.04,2, -999.00,9,  -999.0,9, -999.00,1, -999.00,1,       22.8,2, 20220525,      540,  29.9999, 172.0274,     1.4614,2,     -999.0,9,     -999.0,9,     -999.0,9,     -999.0,9,     0.0122,1,     4.7074,1,     -999.0,9,     -999.0,9,     -999.0,9
33RR20220430,        P02,      69,          1,          4,          4,2,20220525,       0515,    29.9999,   172.0274,       5122,  4272.3,2,   1.4592,2,  34.6857,2,  34.6855,2,    154.1,2,   153.8,2,  150.51,2,   35.87,2,    0.00,2,    2.49,2,-999.000,9,-999.000,9,-999.0000,9,  -999.0,9,  -999.0,9,-999.0000,9,  -999.00,9, -999.00,9,  -999.0,9, -999.00,9, -999.00,9,     -999.0,9, 20220525,      534,  29.9999, 172.0274,     1.4590,2,     -999.0,9,     -999.0,9,     -999.0,9,     -999.0,9,     0.0122,1,     4.7067,1,     -999.0,9,     -999.0,9,     -999.0,9