BOTTLE,20230801CCHSIOCBG
EXPOCODE,SECT_ID,STNNBR,CASTNO,SAMPNO,BTLNBR,BTLNBR_FLAG_W,DATE,TIME,LATITUDE,LONGITUDE,DEPTH,CTDPRS,CTDPRS_FLAG_W,CTDTMP,CTDTMP_FLAG_W,CTDSAL,CTDSAL_FLAG_W,SALNTY,SALNTY_FLAG_W,CTDOXY,CTDOXY_FLAG_W,OXYGEN,OXYGEN_FLAG_W,SILCAT,SILCAT_FLAG_W,NITRAT,NITRAT_FLAG_W,NITRIT,NITRIT_FLAG_W,PHSPHT,PHSPHT_FLAG_W,CFC-11,CFC-11_FLAG_W,CFC-12,CFC-12_FLAG_W,SF6,SF6_FLAG_W,TCARBN,TCARBN_FLAG_W,ALKALI,ALKALI_FLAG_W,PH_TOT,PH_TOT_FLAG_W,PH_TMP,PH_TMP_FLAG_W,DELC13,DELC13_FLAG_W,DELC14,DELC14_FLAG_W,DOC,DOC_FLAG_W,TDN,TDN_FLAG_W,N2O,N2O_FLAG_W,BTL_DATE,BTL_TIME,BTL_LAT,BTL_LON,REFTMP,REFTMP_FLAG_W,POC,POC_FLAG_W,PON,PON_FLAG_W,POP,POP_FLAG_W,PCOD,PCOD_FLAG_W,CTDFLUOR,CTDFLUOR_FLAG_W,CTDXMISS,CTDXMISS_FLAG_W,HPLC,HPLC_FLAG_W,DNA,DNA_FLAG_W,FCM,FCM_FLAG_W
,,,,,,,,,,,METERS,DBAR,,ITS-90,,PSS-78,,PSS-78,,UMOL/KG,,UMOL/KG,,UMOL/KG,,UMOL/KG,,UMOL/KG,,UMOL/KG,,PMOL/KG,,PMOL/KG,,FMOL/KG,,UMOL/KG,,UMOL/KG,,,,DEG C,,/MILLE,,/MILLE,,UMOL/KG,,UMOL/KG,,NMOL/KG,,,,,,ITS-90,,UG/L,,UG/L,,UG/L,,UG/L,,VOLTS,,VOLTS,,,,,,,
33RR20220430,        P02,     112,          1,          3,          3,2,20220606,       2018,    30.0003,  -164.0982,       5689,  5098.0,2,   1.5406,2,  34.6868,2,  34.6879,2,    155.7,2,   156.0,2,  151.48,2,   35.91,2,    0.00,2,    2.47,2,   0.005,2,   0.000,2,   0.0000,2,  2323.7,6,  2420.1,2,   7.5831,2,    25.00,2, -999.00,9,  -999.0,9, -999.00,1, -999.00,1,       22.3,2, 20220606,     2032,  30.0003,-164.0982,     1.5406,2,     -999.0,9,     -999.0,9,     -999.0,9,     -999.0,9,     0.0126,1,     4.7057,1,     -999.0,9,     -999.0,9,     -999.0,9
33RR20220430,        P02,     112,          1,          2,          2,2,20220606,       2018,    30.0003,  -164.0982,       5689,  5458.0,2,   1.5719,2,  34.6881,2,  34.6893,2,    158.9,2,   159.1,2,  148.65,2,   35.69,2,    0.00,2,    2.45,2,-999.000,9,-999.000,9,-999.0000,9,  2319.7,2,  2416.2,2,   7.5868,2,    25.00,2, -999.00,9,  -999.0,9, -999.00,1, -999.00,1,     -999.0,9, 20220606,     2025,  30.0003,-164.0982,     1.5721,2,     -999.0,9,     -999.0,9,     -999.0,9,     -999.0,9,     0.0122,1,     4.7044,1,     -999.0,9,     -999.0,9,     -999.0,9
33RR20220430,        P02,     112,          1,          1,          1,2,20220606,       2018,    30.0003,  -164.0982,       5689,  5794.4,2,   1.6097,2,  34.6886,2,  34.6901,2,    160.6,2,   160.6,2,  146.89,2,   35.52,2,    0.00,2,    2.44,2,   0.006,2,   0.000,2,   0.0000,2,  2317.5,2,  2415.1,2,   7.5869,2,    25.00,2, -999.00,9,  -999.0,9, -999.00,1, -999.00,1,       22.1,2, 20220606,     2018,  30.0003,-164.0982,     1.6098,2,     -999.0,9,     -999.0,9,     -999.0,9,     -999.0,9,     0.0122,1,     4.7019,1,     -999.0,9,     -999.0,9,     -999.0,9
33RR20220430,        P02,     113,          1,         14,         14,2,20220607,       0136,    30.0007,  -163.5215,       5687,     3.4,2,  24.6692,2,  35.0448,2,-999.0000,9,    205.2,2,  -999.0,9, -999.00,9, -999.00,9, -999.00,9, -999.00,9,-999.000,9,-999.000,9,-999.0000,9,  -999.0,9,  -999.0,9,-999.0000,9,  -999.00,9, -999.00,9,  -999.0,9, -999.00,9, -999.00,9,     -999.0,9, 20220607,      203,  30.0007,-163.5215,     -999.0,9,     -999.0,9,     -999.0,9,     -999.0,1,     -999.0,9,     0.0122,1,     0.0097,1,     -999.0,9,     -999.0,9,     -999.0,9
33RR20220430,        P02,     113,          1,         13,         13,2,20220607,       0136,    30.0007,  -163.5215,       5687,     3.4,2,  24.6937,2,  35.0492,2,-999.0000,9,    205.0,2,  -999.0,9, -999.00,9, -999.00,9, -999.00,9, -999.00,9,-999.000,9,-999.000,9,-999.0000,9,  -999.0,9,  -999.0,9,-999.0000,9,  -999.00,9, -999.00,9,  -999.0,9, -999.00,9, -999.00,9,     -999.0,9, 20220607,      203,  30.0007,-163.5215,    24.8716,3,     -999.0,1,     -999.0,1,     -999.0,9,     -999.0,9,     0.0134,1,     0.0097,1,     -999.0,9,     -999.0,9,     -999.0,9
33RR20220430,        P02,     113,          1,         18,         18,2,20220607,       0136,    30.0007,  -163.5215,       5687,     3.4,2,  24.5335,2,  35.0455,2,-999.0000,9,    205.1,2,  -999.0,9, -999.00,9, -999.00,9, -999.00,9, -999.00,9,-999.000,9,-999.000,9,-999.0000,9,  -999.0,9,  -999.0,9,-999.0000,9,  -999.00,9, -999.00,9,  -999.0,9, -999.00,9, -999.00,9,     -999.0,9, 20220607,      204,  30.0007,-163.5216,     -999.0,9,     -999.0,9,     -999.0,9,     -999.0,9,     -999.0,1,     0.0126,1,     0.0097,1,     -999.0,9,     -999.0,9,     -999.0,9
33RR20220430,        P02,     113,          1,         10,         10,2,20220607,       0136,    30.0007,  -163.5215,       5687,     3.5,2,  24.5365,2,  35.0449,2,-999.0000,9,    205.4,2,  -999.0,9, -999.00,9, -999.00,9, -999.00,9, -999.00,9,-999.000,9,-999.000,9,-999.0000,9,  -999.0,9,  -999.0,9,-999.0000,9,  -999.00,9, -999.00,9,  -999.0,9, -999.00,9, -999.00,9,     -999.0,9, 20220607,      202,  30.0007,-163.5216,     -999.0,9,     -999.0,9,     -999.0,9,     -999.0,9,     -999.0,9,     0.0134,1,     0.0096,1,     -999.0,9,     -999.0,1,     -999.0,9
33RR20220430,        P02,     113,          1,         19,         19,2,20220607,       0136,    30.0007,  -163.5215,       5687,     3.5,2,  24.5446,2,  35.0460,2,-999.0000,9,    204.9,2,  -999.0,9, -999.00,9, -999.00,9, -999.00,9, -999.00,9,-999.000,9,-999.000,9,-999.0000,9,  -999.0,9,  -999.0,9,-999.0000,9,  -999.00,9, -999.00,9,  -999.0,9, -999.00,9, -999.00,9,     -999.0,9, 20220607,      204,  30.0007,-163.5215,    24.7094,3,     -999.0,9,     -999.0,9,     -999.0,9,     -999.0,1,     0.0134,1,     0.0096,1,     -999.0,9,     -999.0,9,     -999.0,9
33RR20220430,        P02,     113,          1,         17,         17,2,20220607,       0136,    30.0007,  -163.5215,       5687,     3.6,2,  24.4739,2,  35.0469,2,-999.0000,9,    205.5,2,  -999.0,9, -999.00,9, -999.00,9, -999.00,9, -999.00,9,-999.000,9,-999.000,9,-999.0000,9,  -999.0,9,  -999.0,9,-999.0000,9,  -999.00,9, -999.00,9,  -999.0,9, -999.00,9, -999.00,9,     -999.0,9, 20220607,      204,  30.0007,-163.5216,    24.5575,2,     -999.0,9,     -999.0,9,     -999.0,9,     -999.0,1,     0.0126,1,     0.0097,1,     -999.0,9,     -999.0,9,     -999.0,9
33RR20220430,        P02,     113,          1,         16,         16,2,20220607,       0136,    30.0007,  -163.5215,       5687,     3.7,2,  24.4836,2,  35.0452,2,-999.0000,9,    205.5,2,  -999.0,9, -999.00,9, -999.00,9, -999.00,9, -999.00,9,-999.000,9,-999.000,9,-999.0000,9,  -999.0,9,  -999.0,9,-999.0000,9,  -999.00,9, -999.00,9,  -999.0,9, -999.00,9, -999.00,9,     -999.0,9, 20220607,      204,  30.0007,-163.5216,    24.5500,2,     -999.0,9,     -999.0,9,     -999.0,1,     -999.0,9,     0.0134,1,     0.0097,1,     -999.0,9,     -999.0,9,     -999.0,9
33RR20220430,        P02,     113,          1,          9,          9,2,20220607,       0136,    30.0007,  -163.5215,       5687,     3.7,2,  24.6024,2,  35.0453,2,-999.0000,9,    205.2,2,  -999.0,9, -999.00,9, -999.00,9, -999.00,9, -999.00,9,-999.000,9,-999.000,9,-999.0000,9,  -999.0,9,  -999.0,9,-999.0000,9,  -999.00,9, -999.00,9,  -999.0,9, -999.00,9, -999.00,9,     -999.0,9, 20220607,      202,  30.0007,-163.5216,    24.5414,2,     -999.0,9,     -999.0,9,     -999.0,9,     -999.0,9,     0.0134,1,     0.0097,1,     -999.0,1,     -999.0,9,     -999.0,1
33RR20220430,        P02,     113,          1,         12,         12,2,20220607,       0136,    30.0007,  -163.5215,       5687,     3.8,2,  24.5448,2,  35.0498,2,-999.0000,9,    204.9,2,  -999.0,9, -999.00,9, -999.00,9, -999.00,9, -999.00,9,-999.000,9,-999.000,9,-999.0000,9,  -999.0,9,  -999.0,9,-999.0000,9,  -999.00,9, -999.00,9,  -999.0,9, -999.00,9, -999.00,9,     -999.0,9, 20220607,      203,  30.0007,-163.5215,     -999.0,9,     -999.0,1,     -999.0,1,     -999.0,9,     -999.0,9,     0.0128,1,     0.0096,1,     -999.0,9,     -999.0,9,     -999.0,9
33RR20220430,        P02,     113,          1,         15,         15,2,20220607,       0136,    30.0007,  -163.5215,       5687,     3.9,2,  24.5940,2,  35.0466,2,-999.0000,9,    205.1,2,  -999.0,9, -999.00,9, -999.00,9, -999.00,9, -999.00,9,-999.000,9,-999.000,9,-999.0000,9,  -999.0,9,  -999.0,9,-999.0000,9,  -999.00,9, -999.00,9,  -999.0,9, -999.00,9, -999.00,9,     -999.0,9, 20220607,      203,  30.0007,-163.5216,    24.5448,2,     -999.0,9,     -999.0,9,     -999.0,1,     -999.0,9,     0.0128,1,     0.0097,1,     -999.0,9,     -999.0,9,     -999.0,9
33RR20220430,        P02,     113,          1,         11,         11,2,20220607,       0136,    30.0007,  -163.5215,       5687,     4.0,2,  24.6595,2,  35.0433,2,-999.0000,9,    205.3,2,  -999.0,9, -999.00,9, -999.00,9, -999.00,9, -999.00,9,-999.000,9,-999.000,9,-999.0000,9,  -999.0,9,  -999.0,9,-999.0000,9,  -999.00,9, -999.00,9,  -999.0,9, -999.00,9, -999.00,9,     -999.0,9, 20220607,      202,  30.0007,-163.5215,    24.5031,2,     -999.0,1,     -999.0,1,     -999.0,9,     -999.0,9,     0.0129,1,     0.0096,1,     -999.0,9,     -999.0,9,     -999.0,9
33RR20220430,        P02,     113,          1,          8,          8,2,20220607,       0136,    30.0007,  -163.5215,       5687,    41.3,2,  21.2208,2,  35.0303,2,-999.0000,9,    226.7,2,  -999.0,9, -999.00,9, -999.00,9, -999.00,9, -999.00,9,-999.000,9,-999.000,9,-999.0000,9,  -999.0,9,  -999.0,9,-999.0000,9,  -999.00,9, -999.00,9,  -999.0,9, -999.00,9, -999.00,9,     -999.0,9, 20220607,      200,  30.0007,-163.5215,    21.2074,2,     -999.0,9,     -999.0,9,     -999.0,9,     -999.0,9,     0.0142,1,     0.0097,1,     -999.0,1,     -999.0,9,     -999.0,1
33RR20220430,        P02,     113,          1,          7,          7,2,20220607,       0136,    30.0007,  -163.5215,       5687,    76.5,2,  19.3500,2,  34.9380,2,-999.0000,9,    222.2,2,  -999.0,9, -999.00,9, -999.00,9, -999.00,9, -999.00,9,-999.000,9,-999.000,9,-999.0000,9,  -999.0,9,  -999.0,9,-999.0000,9,  -999.00,9, -999.00,9,  -999.0,9, -999.00,9, -999.00,9,     -999.0,9, 20220607,      158,  30.0007,-163.5215,    19.3538,2,     -999.0,9,     -999.0,9,     -999.0,9,     -999.0,9,     0.0159,1,     0.0096,1,     -999.0,9,     -999.0,9,     -999.0,1
33RR20220430,        P02,     113,          1,          5,          5,2,20220607,       0136,    30.0007,  -163.5215,       5687,   104.4,2,  18.3521,2,  34.8283,2,-999.0000,9,    220.8,2,  -999.0,9, -999.00,9, -999.00,9, -999.00,9, -999.00,9,-999.000,9,-999.000,9,-999.0000,9,  -999.0,9,  -999.0,9,-999.0000,9,  -999.00,9, -999.00,9,  -999.0,9, -999.00,9, -999.00,9,     -999.0,9, 20220607,      155,  30.0007,-163.5215,    18.3507,2,     -999.0,9,     -999.0,9,     -999.0,9,     -999.0,9,     0.0461,1,     0.0097,1,     -999.0,9,     -999.0,1,     -999.0,9
33RR20220430,        P02,     113,          1,          6,          6,2,20220607,       0136,    30.0007,  -163.5215,       5687,   104.4,2,  18.3513,2,  34.8282,2,-999.0000,9,    221.0,2,  -999.0,9, -999.00,9, -999.00,9, -999.00,9, -999.00,9,-999.000,9,-999.000,9,-999.0000,9,  -999.0,9,  -999.0,9,-999.0000,9,  -999.00,9, -999.00,9,  -999.0,9, -999.00,9, -999.00,9,     -999.0,9, 20220607,      156,  30.0007,-163.5216,    18.3498,2,     -999.0,9,     -999.0,9,     -999.0,9,     -999.0,9,     0.0427,1,     0.0097,1,     -999.0,1,     -999.0,9,     -999.0,1
33RR20220430,        P02,     113,          1,          4,          4,2,20220607,       0136,    30.0007,  -163.5215,       5687,   151.6,2,  16.7187,2,  34.6349,2,-999.0000,9,    213.3,2,  -999.0,9, -999.00,9, -999.00,9, -999.00,9, -999.00,9,-999.000,9,-999.000,9,-999.0000,9,  -999.0,9,  -999.0,9,-999.0000,9,  -999.00,9, -999.00,9,  -999.0,9, -999.00,9, -999.00,9,     -999.0,9, 20220607,      154,  30.0007,-163.5215,    16.7069,2,     -999.0,9,     -999.0,9,     -999.0,9,     -999.0,9,     0.0205,1,     0.0096,1,     -999.0,9,     -999.0,9,     -999.0,1
33RR20220430,        P02,     113,          1,          3,          3,2,20220607,       0136,    30.0007,  -163.5215,       5687,   204.9,2,  14.8030,2,  34.4761,2,-999.0000,9,    207.1,2,  -999.0,9, -999.00,9, -999.00,9, -999.00,9, -999.00,9,-999.000,9,-999.000,9,-999.0000,9,  -999.0,9,  -999.0,9,-999.0000,9,  -999.00,9, -999.00,9,  -999.0,9, -999.00,9, -999.00,9,     -999.0,9, 20220607,      152,  30.0007,-163.5215,    14.8049,2,     -999.0,9,     -999.0,9,     -999.0,9,     -999.0,9,     0.0147,1,     0.0097,1,     -999.0,9,     -999.0,1,     -999.0,1
33RR20220430,        P02,     113,          1,          2,          2,2,20220607,       0136,    30.0007,  -163.5215,       5687,   507.8,2,   7.8740,2,  34.0249,2,-999.0000,9,    156.1,2,  -999.0,9, -999.00,9, -999.00,9, -999.00,9, -999.00,9,-999.000,9,-999.000,9,-999.0000,9,  -999.0,9,  -999.0,9,-999.0000,9,  -999.00,9, -999.00,9,  -999.0,9, -999.00,9, -999.00,9,     -999.0,9, 20220607,      146,  30.0007,-163.5215,     7.8756,2,     -999.0,9,     -999.0,9,     -999.0,9,     -999.0,9,     0.0131,1,     0.0097,1,     -999.0,9,     -999.0,9,     -999.0,1
33RR20220430,        P02,     113,          1,          1,          1,2,20220607,       0136,    30.0007,  -163.5215,       5687,  1010.8,2,   3.7207,2,  34.3304,2,-999.0000,9,     15.9,2,  -999.0,9, -999.00,9, -999.00,9, -999.00,9, -999.00,9,-999.000,9,-999.000,9,-999.0000,9,  -999.0,9,  -999.0,9,-999.0000,9,  -999.00,9, -999.00,9,  -999.0,9, -999.00,9, -999.00,9,     -999.0,9, 20220607,      136,  30.0007,-163.5215,     3.7207,2,     -999.0,9,     -999.0,9,     -999.0,9,     -999.0,9,     0.0134,1,     0.0097,1,     -999.0,9,     -999.0,1,     -999.0,1