BOTTLE,20230801CCHSIOCBG
EXPOCODE,SECT_ID,STNNBR,CASTNO,SAMPNO,BTLNBR,BTLNBR_FLAG_W,DATE,TIME,LATITUDE,LONGITUDE,DEPTH,CTDPRS,CTDPRS_FLAG_W,CTDTMP,CTDTMP_FLAG_W,CTDSAL,CTDSAL_FLAG_W,SALNTY,SALNTY_FLAG_W,CTDOXY,CTDOXY_FLAG_W,OXYGEN,OXYGEN_FLAG_W,SILCAT,SILCAT_FLAG_W,NITRAT,NITRAT_FLAG_W,NITRIT,NITRIT_FLAG_W,PHSPHT,PHSPHT_FLAG_W,CFC-11,CFC-11_FLAG_W,CFC-12,CFC-12_FLAG_W,SF6,SF6_FLAG_W,TCARBN,TCARBN_FLAG_W,ALKALI,ALKALI_FLAG_W,PH_TOT,PH_TOT_FLAG_W,PH_TMP,PH_TMP_FLAG_W,DELC13,DELC13_FLAG_W,DELC14,DELC14_FLAG_W,DOC,DOC_FLAG_W,TDN,TDN_FLAG_W,N2O,N2O_FLAG_W,BTL_DATE,BTL_TIME,BTL_LAT,BTL_LON,REFTMP,REFTMP_FLAG_W,POC,POC_FLAG_W,PON,PON_FLAG_W,POP,POP_FLAG_W,PCOD,PCOD_FLAG_W,CTDFLUOR,CTDFLUOR_FLAG_W,CTDXMISS,CTDXMISS_FLAG_W,HPLC,HPLC_FLAG_W,DNA,DNA_FLAG_W,FCM,FCM_FLAG_W
,,,,,,,,,,,METERS,DBAR,,ITS-90,,PSS-78,,PSS-78,,UMOL/KG,,UMOL/KG,,UMOL/KG,,UMOL/KG,,UMOL/KG,,UMOL/KG,,PMOL/KG,,PMOL/KG,,FMOL/KG,,UMOL/KG,,UMOL/KG,,,,DEG C,,/MILLE,,/MILLE,,UMOL/KG,,UMOL/KG,,NMOL/KG,,,,,,ITS-90,,UG/L,,UG/L,,UG/L,,UG/L,,VOLTS,,VOLTS,,,,,,,
33RR20220430,        P02,      39,          1,          3,          3,2,20220515,       1436,    29.9999,   153.9461,       5859,  5097.7,2,   1.4983,2,  34.6909,2,  34.6901,2,    165.8,2,   166.0,2,  141.57,2,   34.96,2,    0.00,2,    2.39,2,   0.006,2,   0.000,2,   0.0000,2,  2311.3,2,  2409.8,2,   7.5954,2,    24.99,2, -999.00,9,  -999.0,9, -999.00,9, -999.00,9,       23.5,2, 20220515,     1452,  29.9999, 153.9461,     1.4979,2,     -999.0,9,     -999.0,9,     -999.0,9,     -999.0,9,     0.0122,1,     4.7081,1,     -999.0,9,     -999.0,9,     -999.0,9
33RR20220430,        P02,      39,          1,          2,          2,2,20220515,       1436,    29.9999,   153.9461,       5859,  5560.6,2,   1.5305,2,  34.6931,2,  34.6926,2,    170.5,2,   170.5,2,  138.06,2,   34.58,2,    0.00,2,    2.36,2,-999.000,9,-999.000,9,-999.0000,9,  2306.5,6,  2405.8,2,   7.5906,2,    25.00,2, -999.00,9,  -999.0,9, -999.00,9, -999.00,9,     -999.0,9, 20220515,     1444,  29.9999, 153.9461,     1.5302,2,     -999.0,9,     -999.0,9,     -999.0,9,     -999.0,9,     0.0122,1,     4.7077,1,     -999.0,9,     -999.0,9,     -999.0,9
33RR20220430,        P02,      39,          1,          1,          1,2,20220515,       1436,    29.9999,   153.9461,       5859,  5969.4,2,   1.5710,2,  34.6939,2,  34.6944,2,    172.3,2,   172.4,2,  136.79,2,   34.49,2,    0.00,2,    2.35,2,   0.009,2,   0.000,2,   0.0000,2,  2306.0,2,  2404.8,2,   7.5974,2,    25.00,2, -999.00,9,  -999.0,9, -999.00,9, -999.00,9,       23.3,2, 20220515,     1436,  29.9999, 153.9461,     1.5706,2,     -999.0,9,     -999.0,9,     -999.0,9,     -999.0,9,     0.0124,1,     4.6999,1,     -999.0,9,     -999.0,9,     -999.0,9