BOTTLE,20230801CCHSIOCBG
EXPOCODE,SECT_ID,STNNBR,CASTNO,SAMPNO,BTLNBR,BTLNBR_FLAG_W,DATE,TIME,LATITUDE,LONGITUDE,DEPTH,CTDPRS,CTDPRS_FLAG_W,CTDTMP,CTDTMP_FLAG_W,CTDSAL,CTDSAL_FLAG_W,SALNTY,SALNTY_FLAG_W,CTDOXY,CTDOXY_FLAG_W,OXYGEN,OXYGEN_FLAG_W,SILCAT,SILCAT_FLAG_W,NITRAT,NITRAT_FLAG_W,NITRIT,NITRIT_FLAG_W,PHSPHT,PHSPHT_FLAG_W,CFC-11,CFC-11_FLAG_W,CFC-12,CFC-12_FLAG_W,SF6,SF6_FLAG_W,TCARBN,TCARBN_FLAG_W,ALKALI,ALKALI_FLAG_W,PH_TOT,PH_TOT_FLAG_W,PH_TMP,PH_TMP_FLAG_W,DELC13,DELC13_FLAG_W,DELC14,DELC14_FLAG_W,DOC,DOC_FLAG_W,TDN,TDN_FLAG_W,N2O,N2O_FLAG_W,BTL_DATE,BTL_TIME,BTL_LAT,BTL_LON,REFTMP,REFTMP_FLAG_W,POC,POC_FLAG_W,PON,PON_FLAG_W,POP,POP_FLAG_W,PCOD,PCOD_FLAG_W,CTDFLUOR,CTDFLUOR_FLAG_W,CTDXMISS,CTDXMISS_FLAG_W,HPLC,HPLC_FLAG_W,DNA,DNA_FLAG_W,FCM,FCM_FLAG_W
,,,,,,,,,,,METERS,DBAR,,ITS-90,,PSS-78,,PSS-78,,UMOL/KG,,UMOL/KG,,UMOL/KG,,UMOL/KG,,UMOL/KG,,UMOL/KG,,PMOL/KG,,PMOL/KG,,FMOL/KG,,UMOL/KG,,UMOL/KG,,,,DEG C,,/MILLE,,/MILLE,,UMOL/KG,,UMOL/KG,,NMOL/KG,,,,,,ITS-90,,UG/L,,UG/L,,UG/L,,UG/L,,VOLTS,,VOLTS,,,,,,,
33RR20220430,        P02,     101,          2,          3,          3,2,20220603,       1344,    30.0004,  -170.4455,       5402,  4822.9,2,   1.5180,2,  34.6858,2,  34.6861,2,    153.6,2,   153.5,2,  154.44,2,   35.88,2,    0.00,2,    2.49,2,   0.007,2,   0.000,2,   0.0000,2,  2328.8,3,  2417.0,2,   7.5794,2,    25.02,2, -999.00,9,  -999.0,9, -999.00,9, -999.00,9,       22.2,2, 20220603,     1357,  30.0004,-170.4455,     1.5179,2,     -999.0,9,     -999.0,9,     -999.0,9,     -999.0,9,     0.0127,1,     4.7052,1,     -999.0,9,     -999.0,9,     -999.0,9
33RR20220430,        P02,     101,          2,          2,          2,2,20220603,       1344,    30.0004,  -170.4455,       5402,  5198.9,2,   1.5465,2,  34.6875,2,  34.6883,2,    157.6,2,   157.7,2,  149.75,2,   35.81,2,    0.00,2,    2.46,2,-999.000,9,-999.000,9,-999.0000,9,  2324.1,6,  2416.0,2,   7.5836,2,    25.04,2, -999.00,9,  -999.0,9, -999.00,9, -999.00,9,     -999.0,9, 20220603,     1350,  30.0005,-170.4456,     1.5465,2,     -999.0,9,     -999.0,9,     -999.0,9,     -999.0,9,     0.0122,1,     4.7051,1,     -999.0,9,     -999.0,9,     -999.0,9
33RR20220430,        P02,     101,          2,          1,          1,2,20220603,       1344,    30.0004,  -170.4455,       5402,  5497.5,2,   1.5647,2,  34.6890,2,  34.6895,2,    161.9,2,   161.6,2,  145.75,2,   35.42,2,    0.00,2,    2.43,2,   0.010,2,   0.000,2,   0.0000,2,  2318.2,2,  2412.7,2,   7.5871,2,    25.02,2, -999.00,9,  -999.0,9, -999.00,9, -999.00,9,       22.0,2, 20220603,     1344,  30.0004,-170.4455,     1.5649,2,     -999.0,9,     -999.0,9,     -999.0,9,     -999.0,9,     0.0130,1,     4.7032,1,     -999.0,9,     -999.0,9,     -999.0,9