BOTTLE,20230801CCHSIOCBG
EXPOCODE,SECT_ID,STNNBR,CASTNO,SAMPNO,BTLNBR,BTLNBR_FLAG_W,DATE,TIME,LATITUDE,LONGITUDE,DEPTH,CTDPRS,CTDPRS_FLAG_W,CTDTMP,CTDTMP_FLAG_W,CTDSAL,CTDSAL_FLAG_W,SALNTY,SALNTY_FLAG_W,CTDOXY,CTDOXY_FLAG_W,OXYGEN,OXYGEN_FLAG_W,SILCAT,SILCAT_FLAG_W,NITRAT,NITRAT_FLAG_W,NITRIT,NITRIT_FLAG_W,PHSPHT,PHSPHT_FLAG_W,CFC-11,CFC-11_FLAG_W,CFC-12,CFC-12_FLAG_W,SF6,SF6_FLAG_W,TCARBN,TCARBN_FLAG_W,ALKALI,ALKALI_FLAG_W,PH_TOT,PH_TOT_FLAG_W,PH_TMP,PH_TMP_FLAG_W,DELC13,DELC13_FLAG_W,DELC14,DELC14_FLAG_W,DOC,DOC_FLAG_W,TDN,TDN_FLAG_W,N2O,N2O_FLAG_W,BTL_DATE,BTL_TIME,BTL_LAT,BTL_LON,REFTMP,REFTMP_FLAG_W,POC,POC_FLAG_W,PON,PON_FLAG_W,POP,POP_FLAG_W,PCOD,PCOD_FLAG_W,CTDFLUOR,CTDFLUOR_FLAG_W,CTDXMISS,CTDXMISS_FLAG_W,HPLC,HPLC_FLAG_W,DNA,DNA_FLAG_W,FCM,FCM_FLAG_W
,,,,,,,,,,,METERS,DBAR,,ITS-90,,PSS-78,,PSS-78,,UMOL/KG,,UMOL/KG,,UMOL/KG,,UMOL/KG,,UMOL/KG,,UMOL/KG,,PMOL/KG,,PMOL/KG,,FMOL/KG,,UMOL/KG,,UMOL/KG,,,,DEG C,,/MILLE,,/MILLE,,UMOL/KG,,UMOL/KG,,NMOL/KG,,,,,,ITS-90,,UG/L,,UG/L,,UG/L,,UG/L,,VOLTS,,VOLTS,,,,,,,
33RR20220430,        P02,      24,          1,          3,          3,2,20220510,       1154,    30.0001,   143.8495,       5302,  4891.8,2,   1.4912,2,  34.6898,2,  34.6906,2,    162.4,2,   162.9,2,  143.43,2,   35.37,2,    0.00,2,    2.43,2,   0.007,2,   0.000,2,   0.0000,2,  2312.9,6,  2410.0,2,   7.5860,2,    24.97,2, -999.00,9,  -999.0,9, -999.00,9, -999.00,9,       23.8,2, 20220510,     1205,  30.0001, 143.8495,     1.4908,2,     -999.0,9,     -999.0,9,     -999.0,9,     -999.0,9,     0.0122,1,     4.7098,1,     -999.0,9,     -999.0,9,     -999.0,9
33RR20220430,        P02,      24,          1,          2,          2,2,20220510,       1154,    30.0001,   143.8495,       5302,  5145.4,2,   1.5094,2,  34.6911,2,  34.6908,2,    164.7,2,   165.0,2,  141.67,2,   35.12,2,    0.00,2,    2.41,2,   0.007,2,   0.000,2,   0.0000,2,  2312.0,2,  2408.0,2,   7.5890,2,    25.05,2, -999.00,9,  -999.0,9, -999.00,9, -999.00,9,       24.0,2, 20220510,     1159,  30.0001, 143.8495,     1.5092,2,     -999.0,9,     -999.0,9,     -999.0,9,     -999.0,9,     0.0122,1,     4.7075,1,     -999.0,9,     -999.0,9,     -999.0,9
33RR20220430,        P02,      24,          1,          1,          1,2,20220510,       1154,    30.0001,   143.8495,       5302,  5398.9,2,   1.5357,2,  34.6917,2,  34.6920,2,    166.1,2,   165.9,2,  140.30,2,   35.09,2,    0.00,2,    2.41,2,   0.008,2,   0.000,2,   0.0000,2,  2311.8,2,  2409.2,2,   7.5907,2,    24.98,2, -999.00,9,  -999.0,9, -999.00,9, -999.00,9,       23.8,2, 20220510,     1154,  30.0001, 143.8495,     1.5356,2,     -999.0,9,     -999.0,9,     -999.0,9,     -999.0,9,     0.0122,1,     4.7044,1,     -999.0,9,     -999.0,9,     -999.0,9