BOTTLE,20230801CCHSIOCBG
EXPOCODE,SECT_ID,STNNBR,CASTNO,SAMPNO,BTLNBR,BTLNBR_FLAG_W,DATE,TIME,LATITUDE,LONGITUDE,DEPTH,CTDPRS,CTDPRS_FLAG_W,CTDTMP,CTDTMP_FLAG_W,CTDSAL,CTDSAL_FLAG_W,SALNTY,SALNTY_FLAG_W,CTDOXY,CTDOXY_FLAG_W,OXYGEN,OXYGEN_FLAG_W,SILCAT,SILCAT_FLAG_W,NITRAT,NITRAT_FLAG_W,NITRIT,NITRIT_FLAG_W,PHSPHT,PHSPHT_FLAG_W,CFC-11,CFC-11_FLAG_W,CFC-12,CFC-12_FLAG_W,SF6,SF6_FLAG_W,TCARBN,TCARBN_FLAG_W,ALKALI,ALKALI_FLAG_W,PH_TOT,PH_TOT_FLAG_W,PH_TMP,PH_TMP_FLAG_W,DELC13,DELC13_FLAG_W,DELC14,DELC14_FLAG_W,DOC,DOC_FLAG_W,TDN,TDN_FLAG_W,N2O,N2O_FLAG_W,BTL_DATE,BTL_TIME,BTL_LAT,BTL_LON,REFTMP,REFTMP_FLAG_W,POC,POC_FLAG_W,PON,PON_FLAG_W,POP,POP_FLAG_W,PCOD,PCOD_FLAG_W,CTDFLUOR,CTDFLUOR_FLAG_W,CTDXMISS,CTDXMISS_FLAG_W,HPLC,HPLC_FLAG_W,DNA,DNA_FLAG_W,FCM,FCM_FLAG_W
,,,,,,,,,,,METERS,DBAR,,ITS-90,,PSS-78,,PSS-78,,UMOL/KG,,UMOL/KG,,UMOL/KG,,UMOL/KG,,UMOL/KG,,UMOL/KG,,PMOL/KG,,PMOL/KG,,FMOL/KG,,UMOL/KG,,UMOL/KG,,,,DEG C,,/MILLE,,/MILLE,,UMOL/KG,,UMOL/KG,,NMOL/KG,,,,,,ITS-90,,UG/L,,UG/L,,UG/L,,UG/L,,VOLTS,,VOLTS,,,,,,,
33RR20220430,        P02,      43,          1,         36,         36,2,20220516,       2304,    29.9992,   156.6390,       5798,     3.7,2,  20.8111,2,  34.7948,2,  34.7881,2,    230.7,2,   228.8,2,    0.10,2,    0.03,2,    0.00,2,    0.00,2,   1.973,2,   1.224,2,   2.1812,2,  2017.6,2,  2282.8,2,   7.9906,2,    25.00,2, -999.00,1,  -999.0,1, -999.00,1, -999.00,1,        6.9,2, 20220517,      124,  29.9992, 156.6390,    21.0403,3,     -999.0,9,     -999.0,9,     -999.0,9,     -999.0,9,     0.0134,1,     4.6330,1,     -999.0,9,     -999.0,9,     -999.0,9
33RR20220430,        P02,      43,          1,         35,         35,2,20220516,       2304,    29.9992,   156.6390,       5798,    35.4,2,  19.4062,2,  34.7760,2,  34.7665,2,    234.0,2,   234.2,2,    0.29,2,    0.02,2,    0.00,2,    0.01,2,   2.032,2,   1.264,2,   2.0980,2,  2015.4,2,  2281.9,2,   7.9925,2,    24.91,2, -999.00,1,  -999.0,1, -999.00,1, -999.00,1,        7.2,2, 20220517,      124,  29.9992, 156.6390,    19.4050,2,     -999.0,9,     -999.0,9,     -999.0,9,     -999.0,9,     0.0155,1,     4.6197,1,     -999.0,9,     -999.0,9,     -999.0,9
33RR20220430,        P02,      43,          1,         34,         34,2,20220516,       2304,    29.9992,   156.6390,       5798,    60.4,2,  18.2627,2,  34.7767,2,  34.7706,2,    236.0,2,   236.1,2,    0.49,2,    0.12,2,    0.02,2,    0.04,2,   2.064,2,   1.297,2,   2.2000,2,  2018.4,2,  2282.3,2,   7.9854,2,    24.95,2, -999.00,1,  -999.0,1, -999.00,1, -999.00,1,        7.8,2, 20220517,      121,  29.9992, 156.6391,    18.2712,2,     -999.0,9,     -999.0,9,     -999.0,9,     -999.0,9,     0.0465,1,     4.5929,1,     -999.0,9,     -999.0,9,     -999.0,9
33RR20220430,        P02,      43,          1,         33,         33,2,20220516,       2304,    29.9992,   156.6390,       5798,    85.6,2,  17.4922,2,  34.7376,2,  34.7327,2,    224.2,2,   223.9,2,    1.17,2,    2.40,2,    0.04,2,    0.16,2,   2.126,6,   1.348,6,   2.1256,6,  2032.2,2,  2279.3,2,   7.9583,2,    25.00,2, -999.00,1,  -999.0,1, -999.00,1, -999.00,1,        8.7,6, 20220517,      119,  29.9993, 156.6390,    17.4926,2,     -999.0,9,     -999.0,9,     -999.0,9,     -999.0,9,     0.0400,1,     4.6360,1,     -999.0,9,     -999.0,9,     -999.0,9
33RR20220430,        P02,      43,          1,         32,         32,2,20220516,       2304,    29.9992,   156.6390,       5798,   117.6,2,  17.1796,2,  34.7312,2,  34.7260,2,    219.1,2,   219.0,2,    1.76,2,    3.40,2,    0.01,2,    0.23,2,   2.160,2,   1.405,2,   2.0977,2,  2035.6,2,  2279.5,2,   7.9448,2,    25.00,2, -999.00,1,  -999.0,1, -999.00,1, -999.00,1,        8.7,2, 20220517,      117,  29.9992, 156.6390,    17.1792,2,     -999.0,9,     -999.0,9,     -999.0,9,     -999.0,9,     0.0177,1,     4.6771,1,     -999.0,9,     -999.0,9,     -999.0,9
33RR20220430,        P02,      43,          1,         31,         31,2,20220516,       2304,    29.9992,   156.6390,       5798,   166.3,2,  16.7323,2,  34.7098,2,  34.7034,2,    217.9,2,   217.9,2,    2.54,2,    4.25,2,    0.00,2,    0.28,2,   2.182,2,   1.363,2,   2.0911,2,  2042.6,2,  2278.2,2,   7.9334,2,    24.99,2, -999.00,1,  -999.0,1, -999.00,1, -999.00,1,        9.1,2, 20220517,      115,  29.9992, 156.6390,    16.7304,2,     -999.0,9,     -999.0,9,     -999.0,9,     -999.0,9,     0.0125,1,     4.6854,1,     -999.0,9,     -999.0,9,     -999.0,9
33RR20220430,        P02,      43,          1,         30,         30,2,20220516,       2304,    29.9992,   156.6390,       5798,   217.2,2,  16.3428,2,  34.6860,2,  34.6806,2,    218.3,2,   220.0,2,    3.32,2,    4.63,2,    0.00,2,    0.31,2,   2.209,2,   1.389,2,   2.1439,2,  2046.1,2,  2278.5,2,   7.9259,2,    25.01,2, -999.00,1,  -999.0,1, -999.00,1, -999.00,1,        9.3,2, 20220517,      113,  29.9993, 156.6390,    16.3428,2,     -999.0,9,     -999.0,9,     -999.0,9,     -999.0,9,     0.0122,1,     4.6869,1,     -999.0,9,     -999.0,9,     -999.0,9
33RR20220430,        P02,      43,          1,         29,         29,2,20220516,       2304,    29.9992,   156.6390,       5798,   267.4,2,  15.9003,2,  34.6755,2,  34.6692,2,    224.1,2,   225.2,2,    3.91,2,    4.84,2,    0.00,2,    0.33,2,   2.233,2,   1.401,2,   2.2260,2,  2047.6,2,  2278.0,2,   7.9228,2,    25.00,2, -999.00,1,  -999.0,1, -999.00,1, -999.00,1,        9.4,2, 20220517,      111,  29.9992, 156.6390,    15.8907,2,     -999.0,9,     -999.0,9,     -999.0,9,     -999.0,9,     0.0122,1,     4.6838,1,     -999.0,9,     -999.0,9,     -999.0,9
33RR20220430,        P02,      43,          1,         28,         28,2,20220516,       2304,    29.9992,   156.6390,       5798,   318.2,2,  15.5276,2,  34.6360,2,  34.6295,2,    221.7,2,   222.2,2,    4.69,2,    5.69,2,    0.00,2,    0.37,2,   2.308,2,   1.405,2,   2.2099,2,  -999.0,9,  -999.0,9,-999.0000,9,  -999.00,9, -999.00,1,  -999.0,1, -999.00,1, -999.00,1,       10.0,2, 20220517,      109,  29.9993, 156.6390,    15.5284,2,     -999.0,9,     -999.0,9,     -999.0,9,     -999.0,9,     0.0122,1,     4.6852,1,     -999.0,9,     -999.0,9,     -999.0,9
33RR20220430,        P02,      43,          1,         27,         27,2,20220516,       2304,    29.9992,   156.6390,       5798,   368.6,2,  14.5209,2,  34.5439,2,  34.5384,2,    203.9,2,   204.0,2,    8.69,2,    9.03,2,    0.00,2,    0.61,2,   2.388,2,   1.451,2,   1.8861,2,  2077.3,2,  2274.5,2,   7.8555,2,    25.01,2, -999.00,1,  -999.0,1, -999.00,1, -999.00,1,       12.5,2, 20220517,      107,  29.9993, 156.6390,    14.5209,2,     -999.0,9,     -999.0,9,     -999.0,9,     -999.0,9,     0.0122,1,     4.6894,1,     -999.0,9,     -999.0,9,     -999.0,9
33RR20220430,        P02,      43,          1,         26,         26,2,20220516,       2304,    29.9992,   156.6390,       5798,   439.3,2,  12.5251,2,  34.3864,2,  34.3811,2,    208.2,2,   208.4,2,   13.58,2,   11.76,2,    0.00,2,    0.78,2,   2.571,2,   1.537,2,   2.0414,2,  -999.0,9,  -999.0,9,-999.0000,9,  -999.00,9, -999.00,1,  -999.0,1, -999.00,1, -999.00,1,       14.2,2, 20220517,      105,  29.9992, 156.6390,    12.5190,2,     -999.0,9,     -999.0,9,     -999.0,9,     -999.0,9,     0.0122,1,     4.6933,1,     -999.0,9,     -999.0,9,     -999.0,9
33RR20220430,        P02,      43,          1,         25,         25,2,20220516,       2304,    29.9992,   156.6390,       5798,   545.1,2,   9.4018,2,  34.1368,2,  34.1352,2,    191.2,2,   191.5,2,   27.75,2,   18.67,2,    0.00,2,    1.30,2,   2.801,2,   1.643,2,   1.8373,2,  2144.0,2,  2270.8,2,   7.6939,2,    25.00,2, -999.00,1,  -999.0,1, -999.00,1, -999.00,1,       19.3,2, 20220517,      102,  29.9992, 156.6390,     9.3872,2,     -999.0,9,     -999.0,9,     -999.0,9,     -999.0,9,     0.0122,1,     4.6990,1,     -999.0,9,     -999.0,9,     -999.0,9
33RR20220430,        P02,      43,          1,         24,         24,2,20220516,       2304,    29.9992,   156.6390,       5798,   646.7,2,   6.6216,2,  33.9799,2,  33.9802,2,    153.8,2,   153.9,2,   51.40,2,   27.33,2,    0.00,2,    1.92,2,   2.565,2,   1.437,2,   1.4053,2,  -999.0,9,  -999.0,9,-999.0000,9,  -999.00,9, -999.00,1,  -999.0,1, -999.00,9, -999.00,9,       27.2,2, 20220517,       59,  29.9992, 156.6390,     6.6111,2,     -999.0,9,     -999.0,9,     -999.0,9,     -999.0,9,     0.0130,1,     4.7022,1,     -999.0,9,     -999.0,9,     -999.0,9
33RR20220430,        P02,      43,          1,         23,         23,2,20220516,       2304,    29.9992,   156.6390,       5798,   746.7,2,   5.2303,2,  34.0403,2,  34.0421,2,    101.6,3,   100.3,2,   77.09,2,   34.48,2,    0.00,2,    2.45,2,   1.823,2,   1.018,2,   0.8163,2,  2262.6,2,  2304.1,2,   7.4354,2,    25.00,2, -999.00,1,  -999.0,1, -999.00,1, -999.00,1,       36.7,2, 20220517,       56,  29.9992, 156.6390,     5.2406,2,     -999.0,9,     -999.0,9,     -999.0,9,     -999.0,9,     0.0134,1,     4.7028,1,     -999.0,9,     -999.0,9,     -999.0,9
33RR20220430,        P02,      43,          1,         22,         22,2,20220516,       2304,    29.9992,   156.6390,       5798,   847.1,2,   4.5023,2,  34.1486,2,  34.1499,2,     63.4,2,    63.0,2,   98.58,2,   38.81,2,    0.00,2,    2.75,2,   1.083,2,   0.598,2,   0.4679,2,  -999.0,9,  -999.0,9,-999.0000,9,  -999.00,9, -999.00,1,  -999.0,1, -999.00,9, -999.00,9,       43.3,2, 20220517,       54,  29.9992, 156.6390,     4.4987,2,     -999.0,9,     -999.0,9,     -999.0,9,     -999.0,9,     0.0134,1,     4.7037,1,     -999.0,9,     -999.0,9,     -999.0,9
33RR20220430,        P02,      43,          1,         21,         21,2,20220516,       2304,    29.9992,   156.6390,       5798,   948.4,2,   3.9765,2,  34.2346,2,  34.2372,2,     46.1,2,    45.8,2,  113.33,2,   40.82,2,    0.00,2,    2.90,2,   0.644,2,   0.353,2,   0.2373,2,  2330.9,2,  2344.0,2,   7.3461,2,    25.00,2, -999.00,1,  -999.0,1, -999.00,1, -999.00,1,       46.4,2, 20220517,       51,  29.9993, 156.6390,     3.9733,2,     -999.0,9,     -999.0,9,     -999.0,9,     -999.0,9,     0.0134,1,     4.7034,1,     -999.0,9,     -999.0,9,     -999.0,9
33RR20220430,        P02,      43,          1,         20,         20,2,20220516,       2304,    29.9992,   156.6390,       5798,  1049.3,2,   3.5153,2,  34.3140,2,  34.3160,2,     36.3,2,    36.4,2,  126.80,2,   42.10,2,    0.00,2,    2.99,2,   0.330,2,   0.188,2,   0.1589,2,  2351.2,2,  2358.8,2,   7.3360,2,    25.00,2, -999.00,1,  -999.0,1, -999.00,9, -999.00,9,       48.6,2, 20220517,       48,  29.9992, 156.6391,     3.5194,2,     -999.0,9,     -999.0,9,     -999.0,9,     -999.0,9,     0.0134,1,     4.7043,1,     -999.0,9,     -999.0,9,     -999.0,9
33RR20220430,        P02,      43,          1,         19,         19,2,20220516,       2304,    29.9992,   156.6390,       5798,  1151.4,2,   3.2337,2,  34.3656,2,  34.3649,2,     33.3,3,    33.7,2,  134.81,2,   42.57,2,    0.00,2,    3.01,2,   0.202,6,   0.114,6,   0.0520,6,  2361.6,2,  2369.1,2,   7.3359,2,    25.01,2, -999.00,1,  -999.0,1, -999.00,1, -999.00,1,       48.9,6, 20220517,       45,  29.9992, 156.6390,     3.2380,2,     -999.0,9,     -999.0,9,     -999.0,9,     -999.0,9,     0.0134,1,     4.7042,1,     -999.0,9,     -999.0,9,     -999.0,9
33RR20220430,        P02,      43,          1,         18,         18,2,20220516,       2304,    29.9992,   156.6390,       5798,  1252.2,2,   3.0011,2,  34.4080,2,  34.4094,2,     32.7,2,    33.0,2,  142.23,2,   42.87,2,    0.00,2,    3.03,2,   0.122,2,   0.067,2,   0.0000,2,  2368.5,2,  2375.7,2,   7.3377,2,    25.00,2, -999.00,1,  -999.0,1, -999.00,1, -999.00,1,       48.2,2, 20220517,       42,  29.9992, 156.6390,     3.0006,2,     -999.0,9,     -999.0,9,     -999.0,9,     -999.0,9,     0.0134,1,     4.7044,1,     -999.0,9,     -999.0,9,     -999.0,9
33RR20220430,        P02,      43,          1,         17,         17,2,20220516,       2304,    29.9992,   156.6390,       5798,  1353.9,2,   2.7796,2,  34.4591,2,  34.4599,2,     35.6,2,    35.9,2,  147.89,2,   42.95,2,    0.00,2,    3.03,2,   0.052,2,   0.031,2,   0.0000,2,  2374.7,6,  2385.8,2,   7.3494,2,    25.01,2, -999.00,1,  -999.0,1, -999.00,1, -999.00,1,       46.6,2, 20220517,       39,  29.9992, 156.6390,     2.7792,2,     -999.0,9,     -999.0,9,     -999.0,9,     -999.0,9,     0.0134,1,     4.7055,1,     -999.0,9,     -999.0,9,     -999.0,9
33RR20220430,        P02,      43,          1,         16,         16,2,20220516,       2304,    29.9992,   156.6390,       5798,  1485.0,2,   2.5370,2,  34.4912,2,  34.4932,2,     39.5,2,    39.6,2,  155.01,2,   42.93,2,    0.00,2,    3.03,2,   0.040,2,   0.024,2,   0.0000,2,  2378.3,2,  2392.7,2,   7.3585,2,    25.00,2, -999.00,1,  -999.0,1, -999.00,9, -999.00,9,       45.2,2, 20220517,       36,  29.9993, 156.6390,     2.5381,2,     -999.0,9,     -999.0,9,     -999.0,9,     -999.0,9,     0.0134,1,     4.7056,1,     -999.0,9,     -999.0,9,     -999.0,9
33RR20220430,        P02,      43,          1,         15,         15,2,20220516,       2304,    29.9992,   156.6390,       5798,  1687.8,2,   2.2808,2,  34.5390,2,  34.5402,2,     51.0,2,    51.1,2,  160.58,2,   42.33,2,    0.00,2,    2.97,2,   0.018,2,   0.011,2,   0.0000,2,  2376.8,2,  2400.7,2,   7.3841,2,    24.99,2, -999.00,1,  -999.0,1, -999.00,1, -999.00,1,       41.0,2, 20220517,       31,  29.9993, 156.6390,     2.2805,2,     -999.0,9,     -999.0,9,     -999.0,9,     -999.0,9,     0.0134,1,     4.7067,1,     -999.0,9,     -999.0,9,     -999.0,9
33RR20220430,        P02,      43,          1,         14,         14,2,20220516,       2304,    29.9992,   156.6390,       5798,  1890.3,2,   2.0369,2,  34.5837,2,  34.5851,2,     72.6,2,    72.7,2,  161.64,2,   40.88,2,    0.00,2,    2.86,2,   0.009,2,   0.004,2,   0.0000,2,  -999.0,9,  -999.0,9,-999.0000,9,  -999.00,9, -999.00,9,  -999.0,9, -999.00,9, -999.00,9,       35.5,2, 20220517,       27,  29.9993, 156.6390,     2.0363,2,     -999.0,9,     -999.0,9,     -999.0,9,     -999.0,9,     0.0131,1,     4.7078,1,     -999.0,9,     -999.0,9,     -999.0,9
33RR20220430,        P02,      43,          1,         13,         13,2,20220516,       2304,    29.9992,   156.6390,       5798,  2114.0,2,   1.8321,2,  34.6151,2,  34.6168,2,     90.2,2,    89.9,2,  162.32,2,   39.87,2,    0.00,2,    2.77,2,   0.005,2,   0.000,2,   0.0000,2,  2360.2,2,  2411.3,2,   7.4616,2,    24.99,2, -999.00,1,  -999.0,1, -999.00,1, -999.00,1,       31.9,2, 20220517,       22,  29.9993, 156.6390,     1.8321,2,     -999.0,9,     -999.0,9,     -999.0,9,     -999.0,9,     0.0134,1,     4.7079,1,     -999.0,9,     -999.0,9,     -999.0,9
33RR20220430,        P02,      43,          1,         12,         12,2,20220516,       2304,    29.9992,   156.6390,       5798,  2368.5,2,   1.7173,2,  34.6343,2,  34.6354,2,    105.2,2,   105.2,2,  160.17,2,   38.84,2,    0.00,2,    2.71,2,-999.000,9,-999.000,9,-999.0000,9,  -999.0,9,  -999.0,9,-999.0000,9,  -999.00,9, -999.00,9,  -999.0,9, -999.00,9, -999.00,9,     -999.0,9, 20220517,       16,  29.9993, 156.6390,     1.7174,2,     -999.0,9,     -999.0,9,     -999.0,9,     -999.0,9,     0.0130,1,     4.7080,1,     -999.0,9,     -999.0,9,     -999.0,9
33RR20220430,        P02,      43,          1,         11,         11,2,20220516,       2304,    29.9992,   156.6390,       5798,  2623.2,2,   1.6397,2,  34.6482,2,  34.6500,2,    118.0,2,   118.3,2,  157.34,2,   37.97,2,    0.00,2,    2.64,2,   0.005,2,   0.000,2,   0.0000,2,  2345.8,2,  2414.0,2,   7.5155,2,    25.00,2, -999.00,1,  -999.0,1, -999.00,1, -999.00,1,       27.9,2, 20220517,       11,  29.9993, 156.6391,     1.6396,2,     -999.0,9,     -999.0,9,     -999.0,9,     -999.0,9,     0.0122,1,     4.7093,1,     -999.0,9,     -999.0,9,     -999.0,9
33RR20220430,        P02,      43,          1,         10,         10,2,20220516,       2304,    29.9992,   156.6390,       5798,  2878.8,2,   1.5772,2,  34.6581,2,  34.6590,2,    126.2,2,   126.2,2,  156.46,2,   37.49,2,    0.00,2,    2.60,2,-999.000,9,-999.000,9,-999.0000,9,  -999.0,9,  -999.0,9,-999.0000,9,  -999.00,9, -999.00,9,  -999.0,9, -999.00,9, -999.00,9,     -999.0,9, 20220517,        6,  29.9993, 156.6390,     1.5771,2,     -999.0,9,     -999.0,9,     -999.0,9,     -999.0,9,     0.0122,1,     4.7091,1,     -999.0,9,     -999.0,9,     -999.0,9
33RR20220430,        P02,      43,          1,          9,          9,2,20220516,       2304,    29.9992,   156.6390,       5798,  3148.4,2,   1.5285,2,  34.6661,2,  34.6667,2,    133.6,2,   133.6,2,  155.29,2,   37.05,2,    0.00,2,    2.56,2,   0.005,2,   0.000,2,   0.0000,2,  2335.8,2,  2414.7,2,   7.5415,2,    25.00,2, -999.00,1,  -999.0,1, -999.00,1, -999.00,1,       24.9,2, 20220517,        0,  29.9993, 156.6390,     1.5284,2,     -999.0,9,     -999.0,9,     -999.0,9,     -999.0,9,     0.0122,1,     4.7088,1,     -999.0,9,     -999.0,9,     -999.0,9
33RR20220430,        P02,      43,          1,          8,          8,2,20220516,       2304,    29.9992,   156.6390,       5798,  3454.7,2,   1.4906,2,  34.6736,2,  34.6743,2,    142.2,2,   142.3,2,  152.45,2,   36.53,2,    0.00,2,    2.52,2,-999.000,9,-999.000,9,-999.0000,9,  -999.0,9,  -999.0,9,-999.0000,9,  -999.00,9, -999.00,9,  -999.0,9, -999.00,9, -999.00,9,     -999.0,9, 20220516,     2354,  29.9993, 156.6390,     1.4905,2,     -999.0,9,     -999.0,9,     -999.0,9,     -999.0,9,     0.0122,1,     4.7095,1,     -999.0,9,     -999.0,9,     -999.0,9
33RR20220430,        P02,      43,          1,          7,          7,2,20220516,       2304,    29.9992,   156.6390,       5798,  3761.3,2,   1.4656,2,  34.6788,2,  34.6796,2,    147.6,2,   147.8,2,  151.96,2,   36.23,2,    0.00,2,    2.49,2,   0.007,2,   0.000,2,   0.0000,2,  2327.8,2,  2415.2,2,   7.5653,2,    25.00,2, -999.00,1,  -999.0,1, -999.00,1, -999.00,1,       22.9,2, 20220516,     2348,  29.9993, 156.6390,     1.4656,2,     -999.0,9,     -999.0,9,     -999.0,9,     -999.0,9,     0.0122,1,     4.7091,1,     -999.0,9,     -999.0,9,     -999.0,9
33RR20220430,        P02,      43,          1,          6,          6,2,20220516,       2304,    29.9992,   156.6390,       5798,  4171.6,2,   1.4617,2,  34.6837,2,  34.6832,2,    154.4,2,   154.5,2,  149.23,2,   35.96,2,    0.00,2,    2.45,2,-999.000,9,-999.000,9,-999.0000,9,  -999.0,9,  -999.0,9,-999.0000,9,  -999.00,9, -999.00,9,  -999.0,9, -999.00,9, -999.00,9,     -999.0,9, 20220516,     2340,  29.9993, 156.6390,     1.4617,2,     -999.0,9,     -999.0,9,     -999.0,9,     -999.0,9,     0.0122,1,     4.7092,1,     -999.0,9,     -999.0,9,     -999.0,9
33RR20220430,        P02,      43,          1,          5,          5,2,20220516,       2304,    29.9992,   156.6390,       5798,  4515.7,2,   1.4729,2,  34.6864,2,  34.6877,2,    157.9,2,   157.9,2,  147.96,2,   35.68,2,    0.00,2,    2.43,2,   0.007,2,   0.000,2,   0.0000,2,  2317.6,2,  2411.4,2,   7.5811,2,    25.00,2, -999.00,1,  -999.0,1, -999.00,1, -999.00,1,       22.5,2, 20220516,     2333,  29.9993, 156.6391,     1.4730,2,     -999.0,9,     -999.0,9,     -999.0,9,     -999.0,9,     0.0121,1,     4.7085,1,     -999.0,9,     -999.0,9,     -999.0,9
33RR20220430,        P02,      43,          1,          4,          4,2,20220516,       2304,    29.9992,   156.6390,       5798,  4926.7,2,   1.4887,2,  34.6895,2,  34.6895,2,    163.7,2,   164.0,2,  143.56,2,   35.22,2,    0.00,2,    2.40,2,-999.000,9,-999.000,9,-999.0000,9,  -999.0,9,  -999.0,9,-999.0000,9,  -999.00,9, -999.00,1,  -999.0,1, -999.00,9, -999.00,9,     -999.0,9, 20220516,     2326,  29.9993, 156.6390,     1.4888,2,     -999.0,9,     -999.0,9,     -999.0,9,     -999.0,9,     0.0122,1,     4.7094,1,     -999.0,9,     -999.0,9,     -999.0,9