BOTTLE,20230801CCHSIOCBG
EXPOCODE,SECT_ID,STNNBR,CASTNO,SAMPNO,BTLNBR,BTLNBR_FLAG_W,DATE,TIME,LATITUDE,LONGITUDE,DEPTH,CTDPRS,CTDPRS_FLAG_W,CTDTMP,CTDTMP_FLAG_W,CTDSAL,CTDSAL_FLAG_W,SALNTY,SALNTY_FLAG_W,CTDOXY,CTDOXY_FLAG_W,OXYGEN,OXYGEN_FLAG_W,SILCAT,SILCAT_FLAG_W,NITRAT,NITRAT_FLAG_W,NITRIT,NITRIT_FLAG_W,PHSPHT,PHSPHT_FLAG_W,CFC-11,CFC-11_FLAG_W,CFC-12,CFC-12_FLAG_W,SF6,SF6_FLAG_W,TCARBN,TCARBN_FLAG_W,ALKALI,ALKALI_FLAG_W,PH_TOT,PH_TOT_FLAG_W,PH_TMP,PH_TMP_FLAG_W,DELC13,DELC13_FLAG_W,DELC14,DELC14_FLAG_W,DOC,DOC_FLAG_W,TDN,TDN_FLAG_W,N2O,N2O_FLAG_W,BTL_DATE,BTL_TIME,BTL_LAT,BTL_LON,REFTMP,REFTMP_FLAG_W,POC,POC_FLAG_W,PON,PON_FLAG_W,POP,POP_FLAG_W,PCOD,PCOD_FLAG_W,CTDFLUOR,CTDFLUOR_FLAG_W,CTDXMISS,CTDXMISS_FLAG_W,HPLC,HPLC_FLAG_W,DNA,DNA_FLAG_W,FCM,FCM_FLAG_W
,,,,,,,,,,,METERS,DBAR,,ITS-90,,PSS-78,,PSS-78,,UMOL/KG,,UMOL/KG,,UMOL/KG,,UMOL/KG,,UMOL/KG,,UMOL/KG,,PMOL/KG,,PMOL/KG,,FMOL/KG,,UMOL/KG,,UMOL/KG,,,,DEG C,,/MILLE,,/MILLE,,UMOL/KG,,UMOL/KG,,NMOL/KG,,,,,,ITS-90,,UG/L,,UG/L,,UG/L,,UG/L,,VOLTS,,VOLTS,,,,,,,
33RR20220430,        P02,      13,          1,         36,         36,2,20220507,       0826,    29.9987,   135.6302,       4187,    17.9,2,  22.5820,2,  34.6126,2,  34.6028,2,    218.4,2,   217.2,2,    1.95,2,    0.00,2,    0.00,2,    0.01,2,-999.000,5,   1.879,2,-999.0000,5,  1979.9,6,  2273.2,2,   8.0402,2,    24.99,2, -999.00,9,  -999.0,9, -999.00,9, -999.00,9,        7.3,2, 20220507,     1015,  29.9987, 135.6302,    22.5774,2,     -999.0,9,     -999.0,9,     -999.0,9,     -999.0,9,     0.0187,1,     4.6162,1,     -999.0,9,     -999.0,9,     -999.0,9
33RR20220430,        P02,      13,          1,         35,         35,2,20220507,       0826,    29.9987,   135.6302,       4187,    37.4,2,  22.4438,2,  34.6340,2,  34.6272,2,    218.4,2,   217.7,2,    1.95,2,    0.01,2,    0.00,2,    0.00,2,   1.853,2,   1.111,2,   1.8593,2,  1980.7,2,  2274.0,2,   8.0396,2,    25.00,2, -999.00,9,  -999.0,9, -999.00,9, -999.00,9,        7.3,2, 20220507,     1013,  29.9987, 135.6302,    22.4437,2,     -999.0,9,     -999.0,9,     -999.0,9,     -999.0,9,     0.0208,1,     4.6156,1,     -999.0,9,     -999.0,9,     -999.0,9
33RR20220430,        P02,      13,          1,         34,         34,2,20220507,       0826,    29.9987,   135.6302,       4187,    71.4,2,  21.8564,2,  34.6745,2,  34.6675,2,    211.6,2,   211.3,2,    2.44,2,    0.60,2,    0.07,2,    0.01,2,   2.345,2,   1.106,2,   1.8008,2,  1994.4,2,  2276.5,2,   8.0182,2,    24.90,2, -999.00,9,  -999.0,9, -999.00,9, -999.00,9,        8.4,2, 20220507,     1011,  29.9987, 135.6302,    21.8576,2,     -999.0,9,     -999.0,9,     -999.0,9,     -999.0,9,     0.0390,1,     4.6192,1,     -999.0,9,     -999.0,9,     -999.0,9
33RR20220430,        P02,      13,          1,         33,         33,2,20220507,       0826,    29.9987,   135.6302,       4187,    94.4,2,  21.2133,2,  34.7155,2,  34.7050,2,    212.5,2,   212.3,2,    2.64,2,    0.76,2,    0.13,2,    0.01,2,   2.002,2,-999.000,5,   1.6649,2,  2003.4,2,  2279.6,2,   8.0068,2,    24.99,2, -999.00,9,  -999.0,9, -999.00,9, -999.00,9,        8.4,2, 20220507,     1009,  29.9987, 135.6302,    21.2131,2,     -999.0,9,     -999.0,9,     -999.0,9,     -999.0,9,     0.0283,1,     4.6462,1,     -999.0,9,     -999.0,9,     -999.0,9
33RR20220430,        P02,      13,          1,         32,         32,2,20220507,       0826,    29.9987,   135.6302,       4187,   116.3,2,  20.6375,2,  34.7634,2,  34.7532,2,    207.6,2,   207.6,2,    2.25,2,    0.99,2,    0.13,2,    0.04,2,   2.011,2,   1.516,2,   1.7511,2,  2011.6,2,  2279.8,2,   7.9982,2,    25.03,2, -999.00,9,  -999.0,9, -999.00,9, -999.00,9,        8.6,2, 20220507,     1007,  29.9987, 135.6302,    20.6309,2,     -999.0,9,     -999.0,9,     -999.0,9,     -999.0,9,     0.0248,1,     4.6596,1,     -999.0,9,     -999.0,9,     -999.0,9
33RR20220430,        P02,      13,          1,         31,         31,2,20220507,       0826,    29.9987,   135.6302,       4187,   139.2,2,  20.0859,2,  34.7714,2,  34.7589,2,    212.3,2,   212.7,2,    2.25,2,    0.96,2,    0.04,2,    0.03,2,   2.038,2,-999.000,5,   1.9130,2,  2012.0,2,  2282.0,2,   8.0001,2,    24.98,2, -999.00,9,  -999.0,9, -999.00,9, -999.00,9,        8.7,2, 20220507,     1006,  29.9987, 135.6302,    20.0854,2,     -999.0,9,     -999.0,9,     -999.0,9,     -999.0,9,     0.0183,1,     4.6739,1,     -999.0,9,     -999.0,9,     -999.0,9
33RR20220430,        P02,      13,          1,         30,         30,2,20220507,       0826,    29.9987,   135.6302,       4187,   171.7,2,  19.8461,2,  34.8209,2,  34.8072,2,    197.5,2,   198.1,2,    2.15,2,    2.24,2,    0.01,2,    0.09,2,   2.395,2,   1.227,2,   1.8779,2,  2029.0,2,  2283.4,2,   7.9688,2,    24.97,2, -999.00,9,  -999.0,9, -999.00,9, -999.00,9,        9.6,2, 20220507,     1004,  29.9987, 135.6302,    19.8519,2,     -999.0,9,     -999.0,9,     -999.0,9,     -999.0,9,     0.0135,1,     4.6838,1,     -999.0,9,     -999.0,9,     -999.0,9
33RR20220430,        P02,      13,          1,         29,         29,2,20220507,       0826,    29.9987,   135.6302,       4187,   217.5,2,  19.1265,2,  34.8039,2,  34.7917,2,    199.5,2,   201.3,2,    2.64,2,    2.62,2,    0.00,2,    0.12,2,   2.817,2,   1.234,2,   1.9424,2,  2030.1,2,  2280.7,2,   7.9613,2,    24.98,2, -999.00,9,  -999.0,9, -999.00,9, -999.00,9,        9.7,2, 20220507,     1002,  29.9987, 135.6302,    19.1153,2,     -999.0,9,     -999.0,9,     -999.0,9,     -999.0,9,     0.0134,1,     4.6866,1,     -999.0,9,     -999.0,9,     -999.0,9
33RR20220430,        P02,      13,          1,         28,         28,2,20220507,       0826,    29.9987,   135.6302,       4187,   272.3,2,  18.0439,2,  34.7816,2,  34.7742,2,    196.2,2,   196.4,2,    3.71,2,    4.28,2,    0.00,2,    0.21,2,   2.243,2,-999.000,5,   1.8921,2,  2047.2,2,  2280.2,2,   7.9287,2,    24.98,2, -999.00,9,  -999.0,9, -999.00,9, -999.00,9,       10.7,2, 20220507,     1001,  29.9987, 135.6302,    18.0340,2,     -999.0,9,     -999.0,9,     -999.0,9,     -999.0,9,     0.0122,1,     4.6901,1,     -999.0,9,     -999.0,9,     -999.0,9
33RR20220430,        P02,      13,          1,         27,         27,2,20220507,       0826,    29.9987,   135.6302,       4187,   317.6,2,  16.9794,2,  34.7319,2,  34.7252,2,    193.8,2,   193.7,2,    5.66,2,    6.08,2,    0.00,2,    0.35,2,   2.421,2,   1.829,2,   1.7575,2,  2059.6,2,  2277.6,2,   7.9030,2,    24.93,2, -999.00,9,  -999.0,9, -999.00,9, -999.00,9,       11.9,2, 20220507,      959,  29.9987, 135.6302,    16.9928,2,     -999.0,9,     -999.0,9,     -999.0,9,     -999.0,9,     0.0122,1,     4.6934,1,     -999.0,9,     -999.0,9,     -999.0,9
33RR20220430,        P02,      13,          1,         26,         26,2,20220507,       0826,    29.9987,   135.6302,       4187,   367.3,2,  15.9688,2,  34.6569,2,  34.6504,2,    188.6,2,   188.9,2,    7.91,2,    8.02,2,    0.00,2,    0.48,2,   2.479,6,   1.431,2,   1.7320,2,  2072.1,2,  2275.3,2,   7.8708,2,    24.94,2, -999.00,9,  -999.0,9, -999.00,9, -999.00,9,       14.0,6, 20220507,      957,  29.9987, 135.6302,    15.9697,2,     -999.0,9,     -999.0,9,     -999.0,9,     -999.0,9,     0.0122,1,     4.6959,1,     -999.0,9,     -999.0,9,     -999.0,9
33RR20220430,        P02,      13,          1,         25,         25,2,20220507,       0826,    29.9987,   135.6302,       4187,   400.3,2,  15.1591,2,  34.5879,2,  34.5863,2,    184.8,2,   184.9,2,    9.77,2,    9.49,2,    0.00,2,    0.61,2,   2.510,2,   1.464,2,   1.7265,2,  2085.1,2,  2272.7,2,   7.8453,2,    24.98,2, -999.00,9,  -999.0,9, -999.00,9, -999.00,9,       15.5,2, 20220507,      955,  29.9987, 135.6302,    15.1294,2,     -999.0,9,     -999.0,9,     -999.0,9,     -999.0,9,     0.0127,1,     4.6958,1,     -999.0,9,     -999.0,9,     -999.0,9
33RR20220430,        P02,      13,          1,         24,         24,2,20220507,       0826,    29.9987,   135.6302,       4187,   456.0,2,  13.7041,2,  34.4735,2,  34.4683,2,    177.4,2,   177.7,2,   14.46,2,   12.48,2,    0.00,2,    0.84,2,   2.572,2,-999.000,5,   1.5388,2,  2103.4,2,  2273.2,2,   7.7958,2,    24.89,2, -999.00,9,  -999.0,9, -999.00,9, -999.00,9,       18.6,2, 20220507,      953,  29.9987, 135.6302,    13.7015,2,     -999.0,9,     -999.0,9,     -999.0,9,     -999.0,9,     0.0122,1,     4.6957,1,     -999.0,9,     -999.0,9,     -999.0,9
33RR20220430,        P02,      13,          1,         23,         23,2,20220507,       0826,    29.9987,   135.6302,       4187,   528.2,2,  11.2607,2,  34.3242,2,  34.3205,2,    165.6,2,   165.7,2,   26.18,2,   17.92,2,    0.00,2,    1.23,2,   2.782,2,   1.468,2,   1.3495,2,  2139.9,6,  2274.4,2,   7.7169,2,    25.00,2, -999.00,9,  -999.0,9, -999.00,9, -999.00,9,       22.5,2, 20220507,      951,  29.9987, 135.6302,    11.2665,2,     -999.0,9,     -999.0,9,     -999.0,9,     -999.0,9,     0.0122,1,     4.7007,1,     -999.0,9,     -999.0,9,     -999.0,9
33RR20220430,        P02,      13,          1,         22,         22,2,20220507,       0826,    29.9987,   135.6302,       4187,   639.9,2,   8.3887,2,  34.1941,2,  34.1930,2,    137.8,2,   137.3,2,   46.71,2,   25.39,2,    0.00,2,    1.79,2,   2.289,2,   1.244,2,   1.0078,2,  2196.7,2,  2288.4,2,   7.5981,2,    24.97,2, -999.00,9,  -999.0,9, -999.00,9, -999.00,9,       29.3,2, 20220507,      949,  29.9987, 135.6302,     8.4151,2,     -999.0,9,     -999.0,9,     -999.0,9,     -999.0,9,     0.0122,1,     4.7035,1,     -999.0,9,     -999.0,9,     -999.0,9
33RR20220430,        P02,      13,          1,         21,         21,2,20220507,       0826,    29.9987,   135.6302,       4187,   741.1,2,   6.5749,2,  34.2085,2,  34.2058,2,    102.5,2,   102.4,2,   69.86,2,   31.95,2,    0.00,2,    2.26,2,-999.000,5,-999.000,5,-999.0000,5,  2248.9,2,  2308.4,2,   7.5005,2,    25.08,2, -999.00,9,  -999.0,9, -999.00,9, -999.00,9,       36.3,2, 20220507,      946,  29.9987, 135.6302,     6.5751,2,     -999.0,9,     -999.0,9,     -999.0,9,     -999.0,9,     0.0132,1,     4.7031,1,     -999.0,9,     -999.0,9,     -999.0,9
33RR20220430,        P02,      13,          1,         20,         20,2,20220507,       0826,    29.9987,   135.6302,       4187,   841.7,2,   5.3183,2,  34.2602,2,  34.2599,2,     79.4,2,    79.4,2,   89.40,2,   35.87,2,    0.00,2,    2.57,2,   1.048,2,-999.000,5,   0.3305,2,  2287.4,2,  2328.5,2,   7.4455,2,    24.93,2, -999.00,9,  -999.0,9, -999.00,9, -999.00,9,       41.5,2, 20220507,      943,  29.9987, 135.6302,     5.3189,2,     -999.0,9,     -999.0,9,     -999.0,9,     -999.0,9,     0.0134,1,     4.7032,1,     -999.0,9,     -999.0,9,     -999.0,9
33RR20220430,        P02,      13,          1,         19,         19,2,20220507,       0826,    29.9987,   135.6302,       4187,   942.2,2,   4.3293,2,  34.2930,2,  34.2901,2,     62.2,3,    62.9,2,  104.54,2,   38.91,2,    0.00,2,    2.78,2,   0.686,2,-999.000,5,   0.2663,2,  2315.8,2,  2343.6,2,   7.4002,2,    25.01,2, -999.00,9,  -999.0,9, -999.00,9, -999.00,9,       45.0,2, 20220507,      941,  29.9987, 135.6302,     4.3389,2,     -999.0,9,     -999.0,9,     -999.0,9,     -999.0,9,     0.0134,1,     4.7058,1,     -999.0,9,     -999.0,9,     -999.0,9
33RR20220430,        P02,      13,          1,         18,         18,2,20220507,       0826,    29.9987,   135.6302,       4187,  1044.0,2,   3.9147,2,  34.3684,2,  34.3676,2,     62.9,2,    63.0,2,  115.48,2,   39.34,2,    0.00,2,    2.83,2,   0.439,2,   0.216,2,   0.1289,2,  2328.9,2,  2357.5,2,   7.4072,2,    25.08,2, -999.00,9,  -999.0,9, -999.00,9, -999.00,9,       43.6,2, 20220507,      938,  29.9987, 135.6302,     3.9144,2,     -999.0,9,     -999.0,9,     -999.0,9,     -999.0,9,     0.0134,1,     4.7019,1,     -999.0,9,     -999.0,9,     -999.0,9
33RR20220430,        P02,      13,          1,         17,         17,2,20220507,       0826,    29.9987,   135.6302,       4187,  1146.5,2,   3.5420,2,  34.4063,2,  34.4033,2,     61.8,2,    61.7,2,  124.17,2,   39.95,2,    0.00,2,    2.86,2,   0.354,2,   0.154,2,   0.1163,2,  2336.9,2,  2367.0,2,   7.4054,2,    25.03,2, -999.00,9,  -999.0,9, -999.00,9, -999.00,9,       43.4,2, 20220507,      935,  29.9987, 135.6302,     3.5430,2,     -999.0,9,     -999.0,9,     -999.0,9,     -999.0,9,     0.0134,1,     4.7027,1,     -999.0,9,     -999.0,9,     -999.0,9
33RR20220430,        P02,      13,          1,         16,         16,2,20220507,       0826,    29.9987,   135.6302,       4187,  1245.5,2,   3.2208,2,  34.4381,2,  34.4337,2,     61.9,2,    61.9,2,  128.86,2,   40.36,2,    0.00,2,    2.88,2,   0.256,2,   0.121,2,   0.1078,2,  2344.6,2,  2374.8,2,-999.0000,1,  -999.00,1, -999.00,9,  -999.0,9, -999.00,9, -999.00,9,       44.5,2, 20220507,      933,  29.9987, 135.6302,     3.2208,2,     -999.0,9,     -999.0,9,     -999.0,9,     -999.0,9,     0.0134,1,     4.7033,1,     -999.0,9,     -999.0,9,     -999.0,9
33RR20220430,        P02,      13,          1,         15,         15,2,20220507,       0826,    29.9987,   135.6302,       4187,  1346.3,2,   3.0284,2,  34.4656,2,  34.4648,2,     66.3,2,    66.2,2,  132.86,2,   40.36,2,    0.00,2,    2.88,2,   0.177,2,-999.000,5,-999.0000,5,  2347.9,2,  2381.4,2,   7.4153,2,    25.01,2, -999.00,9,  -999.0,9, -999.00,9, -999.00,9,       41.9,2, 20220507,      930,  29.9987, 135.6302,     3.0299,2,     -999.0,9,     -999.0,9,     -999.0,9,     -999.0,9,     0.0134,1,     4.7044,1,     -999.0,9,     -999.0,9,     -999.0,9
33RR20220430,        P02,      13,          1,         14,         14,2,20220507,       0826,    29.9987,   135.6302,       4187,  1447.5,2,   2.8353,2,  34.4887,2,  34.4885,2,     69.9,2,    70.4,2,  137.15,2,   40.27,2,    0.00,2,    2.86,2,-999.000,5,-999.000,5,-999.0000,5,  2349.6,2,  2384.8,2,   7.4216,2,    25.00,2, -999.00,9,  -999.0,9, -999.00,9, -999.00,9,     -999.0,5, 20220507,      927,  29.9987, 135.6302,     2.8359,2,     -999.0,9,     -999.0,9,     -999.0,9,     -999.0,9,     0.0134,1,     4.7039,1,     -999.0,9,     -999.0,9,     -999.0,9
33RR20220430,        P02,      13,          1,         13,         13,2,20220507,       0826,    29.9987,   135.6302,       4187,  1551.6,2,   2.6609,2,  34.5091,2,  34.5082,2,     73.5,2,    73.7,2,  139.20,2,   40.22,2,    0.00,2,    2.86,2,-999.000,5,-999.000,5,-999.0000,5,  2350.9,2,  2391.5,2,   7.4277,2,    25.00,2, -999.00,9,  -999.0,9, -999.00,9, -999.00,9,       28.6,2, 20220507,      925,  29.9987, 135.6302,     2.6612,2,     -999.0,9,     -999.0,9,     -999.0,9,     -999.0,9,     0.0134,1,     4.7053,1,     -999.0,9,     -999.0,9,     -999.0,9
33RR20220430,        P02,      13,          1,         12,         12,2,20220507,       0826,    29.9987,   135.6302,       4187,  1652.5,2,   2.5153,2,  34.5291,2,  34.5270,2,     79.1,2,    78.9,2,  140.76,2,   40.01,2,    0.00,2,    2.83,2,   0.071,2,-999.000,5,-999.0000,5,  2351.1,6,  2393.3,2,   7.4391,2,    25.08,2, -999.00,9,  -999.0,9, -999.00,9, -999.00,9,       29.2,2, 20220507,      922,  29.9987, 135.6302,     2.5150,2,     -999.0,9,     -999.0,9,     -999.0,9,     -999.0,9,     0.0134,1,     4.7068,1,     -999.0,9,     -999.0,9,     -999.0,9
33RR20220430,        P02,      13,          1,         11,         11,2,20220507,       0826,    29.9987,   135.6302,       4187,  1753.8,2,   2.3723,2,  34.5487,2,  34.5484,2,     85.1,2,    85.5,2,  142.33,2,   39.73,2,    0.00,2,    2.80,2,   0.056,2,-999.000,5,-999.0000,5,  2349.9,2,  2397.2,2,   7.4513,2,    25.00,2, -999.00,9,  -999.0,9, -999.00,9, -999.00,9,       30.0,2, 20220507,      919,  29.9987, 135.6302,     2.3723,2,     -999.0,9,     -999.0,9,     -999.0,9,     -999.0,9,     0.0133,1,     4.7077,1,     -999.0,9,     -999.0,9,     -999.0,9
33RR20220430,        P02,      13,          1,         10,         10,2,20220507,       0826,    29.9987,   135.6302,       4187,  1886.6,2,   2.2058,2,  34.5721,2,  34.5704,2,     93.4,2,    93.2,2,  143.69,2,   39.24,2,    0.00,2,    2.77,2,   0.039,2,-999.000,5,-999.0000,5,  2348.3,2,  2399.4,2,   7.4682,2,    25.01,2, -999.00,9,  -999.0,9, -999.00,9, -999.00,9,       29.8,2, 20220507,      916,  29.9987, 135.6302,     2.2064,2,     -999.0,9,     -999.0,9,     -999.0,9,     -999.0,9,     0.0122,1,     4.7066,1,     -999.0,9,     -999.0,9,     -999.0,9
33RR20220430,        P02,      13,          1,          9,          9,2,20220507,       0826,    29.9987,   135.6302,       4187,  2108.5,2,   2.0177,2,  34.6005,2,  34.5997,2,    106.0,2,   105.6,2,  146.81,2,   38.39,2,    0.00,2,    2.72,2,   0.019,2,-999.000,5,-999.0000,5,  2344.0,2,  2404.9,2,   7.4920,2,    25.00,2, -999.00,9,  -999.0,9, -999.00,9, -999.00,9,       30.1,2, 20220507,      911,  29.9988, 135.6302,     2.0178,2,     -999.0,9,     -999.0,9,     -999.0,9,     -999.0,9,     0.0125,1,     4.7068,1,     -999.0,9,     -999.0,9,     -999.0,9
33RR20220430,        P02,      13,          1,          8,          8,2,20220507,       0826,    29.9987,   135.6302,       4187,  2365.3,2,   1.8446,2,  34.6268,2,  34.6256,2,    119.3,2,   119.6,2,  144.08,2,   37.85,2,    0.00,2,    2.65,2,-999.000,5,-999.000,5,-999.0000,5,  2338.6,2,  2409.4,2,   7.5172,2,    25.01,2, -999.00,9,  -999.0,9, -999.00,9, -999.00,9,     -999.0,5, 20220507,      906,  29.9987, 135.6302,     1.8448,2,     -999.0,9,     -999.0,9,     -999.0,9,     -999.0,9,     0.0128,1,     4.7081,1,     -999.0,9,     -999.0,9,     -999.0,9
33RR20220430,        P02,      13,          1,          7,          7,2,20220507,       0826,    29.9987,   135.6302,       4187,  2618.9,2,   1.7294,2,  34.6443,2,  34.6453,2,    129.7,2,   130.1,2,  141.73,2,   37.03,2,    0.00,2,    2.60,2,   0.015,2,   0.013,2,   0.0000,2,  2332.7,2,  2410.6,2,   7.5358,2,    24.95,2, -999.00,9,  -999.0,9, -999.00,9, -999.00,9,       22.0,2, 20220507,      900,  29.9987, 135.6302,     1.7293,2,     -999.0,9,     -999.0,9,     -999.0,9,     -999.0,9,     0.0122,1,     4.7081,1,     -999.0,9,     -999.0,9,     -999.0,9
33RR20220430,        P02,      13,          1,          6,          6,2,20220507,       0826,    29.9987,   135.6302,       4187,  2874.4,2,   1.6196,2,  34.6603,3,  34.6578,2,    139.2,2,   139.0,2,  142.02,2,   36.57,2,    0.00,2,    2.54,2,-999.000,9,-999.000,9,-999.0000,9,  2327.3,2,  2411.1,2,   7.5526,2,    25.02,2, -999.00,9,  -999.0,9, -999.00,9, -999.00,9,     -999.0,9, 20220507,      855,  29.9987, 135.6302,     1.6196,2,     -999.0,9,     -999.0,9,     -999.0,9,     -999.0,9,     0.0122,1,     4.7093,1,     -999.0,9,     -999.0,9,     -999.0,9
33RR20220430,        P02,      13,          1,          5,          5,2,20220507,       0826,    29.9987,   135.6302,       4187,  3145.5,2,   1.5419,2,  34.6722,2,  34.6704,2,    146.8,2,   146.8,2,  141.43,2,   36.25,2,    0.00,2,    2.50,2,-999.000,5,   0.015,2,   0.0000,2,  2323.3,2,  2411.0,2,   7.5657,2,    25.02,2, -999.00,9,  -999.0,9, -999.00,9, -999.00,9,       18.7,2, 20220507,      850,  29.9988, 135.6302,     1.5427,2,     -999.0,9,     -999.0,9,     -999.0,9,     -999.0,9,     0.0122,1,     4.7072,1,     -999.0,9,     -999.0,9,     -999.0,9
33RR20220430,        P02,      13,          1,          4,          4,2,20220507,       0826,    29.9987,   135.6302,       4187,  3452.4,2,   1.5218,2,  34.6778,2,  34.6761,2,    150.7,2,   150.8,2,  140.46,2,   35.80,2,    0.00,2,    2.48,2,-999.000,9,-999.000,9,-999.0000,9,  2320.9,2,  -999.0,1,   7.5728,2,    25.02,2, -999.00,9,  -999.0,9, -999.00,9, -999.00,9,     -999.0,9, 20220507,      844,  29.9988, 135.6302,     1.5218,2,     -999.0,9,     -999.0,9,     -999.0,9,     -999.0,9,     0.0122,1,     4.7044,1,     -999.0,9,     -999.0,9,     -999.0,9