BOTTLE,20230801CCHSIOCBG
EXPOCODE,SECT_ID,STNNBR,CASTNO,SAMPNO,BTLNBR,BTLNBR_FLAG_W,DATE,TIME,LATITUDE,LONGITUDE,DEPTH,CTDPRS,CTDPRS_FLAG_W,CTDTMP,CTDTMP_FLAG_W,CTDSAL,CTDSAL_FLAG_W,SALNTY,SALNTY_FLAG_W,CTDOXY,CTDOXY_FLAG_W,OXYGEN,OXYGEN_FLAG_W,SILCAT,SILCAT_FLAG_W,NITRAT,NITRAT_FLAG_W,NITRIT,NITRIT_FLAG_W,PHSPHT,PHSPHT_FLAG_W,CFC-11,CFC-11_FLAG_W,CFC-12,CFC-12_FLAG_W,SF6,SF6_FLAG_W,TCARBN,TCARBN_FLAG_W,ALKALI,ALKALI_FLAG_W,PH_TOT,PH_TOT_FLAG_W,PH_TMP,PH_TMP_FLAG_W,DELC13,DELC13_FLAG_W,DELC14,DELC14_FLAG_W,DOC,DOC_FLAG_W,TDN,TDN_FLAG_W,N2O,N2O_FLAG_W,BTL_DATE,BTL_TIME,BTL_LAT,BTL_LON,REFTMP,REFTMP_FLAG_W,POC,POC_FLAG_W,PON,PON_FLAG_W,POP,POP_FLAG_W,PCOD,PCOD_FLAG_W,CTDFLUOR,CTDFLUOR_FLAG_W,CTDXMISS,CTDXMISS_FLAG_W,HPLC,HPLC_FLAG_W,DNA,DNA_FLAG_W,FCM,FCM_FLAG_W
,,,,,,,,,,,METERS,DBAR,,ITS-90,,PSS-78,,PSS-78,,UMOL/KG,,UMOL/KG,,UMOL/KG,,UMOL/KG,,UMOL/KG,,UMOL/KG,,PMOL/KG,,PMOL/KG,,FMOL/KG,,UMOL/KG,,UMOL/KG,,,,DEG C,,/MILLE,,/MILLE,,UMOL/KG,,UMOL/KG,,NMOL/KG,,,,,,ITS-90,,UG/L,,UG/L,,UG/L,,UG/L,,VOLTS,,VOLTS,,,,,,,
33RR20220430,        P02,      13,          1,          3,          3,2,20220507,       0826,    29.9987,   135.6302,       4187,  3760.2,2,   1.5281,2,  34.6806,2,  34.6793,2,    152.8,2,   153.1,2,  140.16,2,   35.75,2,    0.00,2,    2.47,2,-999.000,5,   0.015,2,   0.0000,2,  2318.0,2,  2412.3,2,   7.5744,2,    25.03,2, -999.00,9,  -999.0,9, -999.00,9, -999.00,9,       18.3,2, 20220507,      837,  29.9987, 135.6302,     1.5280,2,     -999.0,9,     -999.0,9,     -999.0,9,     -999.0,9,     0.0122,1,     4.6949,1,     -999.0,9,     -999.0,9,     -999.0,9
33RR20220430,        P02,      13,          1,          2,          2,2,20220507,       0826,    29.9987,   135.6302,       4187,  4014.5,2,   1.5444,2,  34.6818,2,  34.6812,2,    153.7,2,   153.9,2,  140.36,2,   35.57,2,    0.00,2,    2.46,2,-999.000,9,-999.000,9,-999.0000,9,  2319.8,2,  2413.1,2,   7.5776,2,    24.98,2, -999.00,9,  -999.0,9, -999.00,9, -999.00,9,     -999.0,9, 20220507,      832,  29.9987, 135.6302,     1.5442,2,     -999.0,9,     -999.0,9,     -999.0,9,     -999.0,9,     0.0131,1,     4.6714,1,     -999.0,9,     -999.0,9,     -999.0,9
33RR20220430,        P02,      13,          1,          1,          1,2,20220507,       0826,    29.9987,   135.6302,       4187,  4249.9,2,   1.5683,2,  34.6821,2,  34.6814,2,    153.9,2,   153.8,2,  139.77,2,   35.65,2,    0.00,2,    2.46,2,-999.000,5,-999.000,5,-999.0000,5,  2320.1,6,  2413.6,2,   7.5775,2,    25.02,2, -999.00,9,  -999.0,9, -999.00,9, -999.00,9,       18.1,2, 20220507,      826,  29.9987, 135.6302,     1.5680,2,     -999.0,9,     -999.0,9,     -999.0,9,     -999.0,9,     0.0122,1,     4.6447,1,     -999.0,9,     -999.0,9,     -999.0,9