BOTTLE,20230801CCHSIOCBG
EXPOCODE,SECT_ID,STNNBR,CASTNO,SAMPNO,BTLNBR,BTLNBR_FLAG_W,DATE,TIME,LATITUDE,LONGITUDE,DEPTH,CTDPRS,CTDPRS_FLAG_W,CTDTMP,CTDTMP_FLAG_W,CTDSAL,CTDSAL_FLAG_W,SALNTY,SALNTY_FLAG_W,CTDOXY,CTDOXY_FLAG_W,OXYGEN,OXYGEN_FLAG_W,SILCAT,SILCAT_FLAG_W,NITRAT,NITRAT_FLAG_W,NITRIT,NITRIT_FLAG_W,PHSPHT,PHSPHT_FLAG_W,CFC-11,CFC-11_FLAG_W,CFC-12,CFC-12_FLAG_W,SF6,SF6_FLAG_W,TCARBN,TCARBN_FLAG_W,ALKALI,ALKALI_FLAG_W,PH_TOT,PH_TOT_FLAG_W,PH_TMP,PH_TMP_FLAG_W,DELC13,DELC13_FLAG_W,DELC14,DELC14_FLAG_W,DOC,DOC_FLAG_W,TDN,TDN_FLAG_W,N2O,N2O_FLAG_W,BTL_DATE,BTL_TIME,BTL_LAT,BTL_LON,REFTMP,REFTMP_FLAG_W,POC,POC_FLAG_W,PON,PON_FLAG_W,POP,POP_FLAG_W,PCOD,PCOD_FLAG_W,CTDFLUOR,CTDFLUOR_FLAG_W,CTDXMISS,CTDXMISS_FLAG_W,HPLC,HPLC_FLAG_W,DNA,DNA_FLAG_W,FCM,FCM_FLAG_W
,,,,,,,,,,,METERS,DBAR,,ITS-90,,PSS-78,,PSS-78,,UMOL/KG,,UMOL/KG,,UMOL/KG,,UMOL/KG,,UMOL/KG,,UMOL/KG,,PMOL/KG,,PMOL/KG,,FMOL/KG,,UMOL/KG,,UMOL/KG,,,,DEG C,,/MILLE,,/MILLE,,UMOL/KG,,UMOL/KG,,NMOL/KG,,,,,,ITS-90,,UG/L,,UG/L,,UG/L,,UG/L,,VOLTS,,VOLTS,,,,,,,
33RR20220430,        P02,      11,          1,          3,          3,2,20220506,       1808,    30.5448,   134.4547,       4505,  3866.9,2,   1.5464,2,  34.6801,3,  34.6779,2,    153.2,2,   152.3,2,  141.96,2,   35.56,2,    0.00,2,    2.48,2,   0.018,2,   0.012,2,   0.0000,2,  2322.4,2,  2413.5,2,   7.5750,2,    25.02,2, -999.00,1,  -999.0,1, -999.00,1, -999.00,1,       20.0,2, 20220506,     1822,  30.5448, 134.4547,     -999.0,9,     -999.0,9,     -999.0,9,     -999.0,9,     -999.0,9,     0.0122,1,     4.6998,1,     -999.0,9,     -999.0,9,     -999.0,9
33RR20220430,        P02,      11,          1,          2,          2,2,20220506,       1808,    30.5448,   134.4547,       4505,  4123.0,2,   1.5639,2,  34.6813,2,  34.6798,2,    154.0,2,   153.6,2,  142.15,2,   35.60,2,    0.00,2,    2.47,2,-999.000,9,-999.000,9,-999.0000,9,  2321.2,2,  2413.6,2,   7.5761,2,    24.99,2, -999.00,1,  -999.0,1, -999.00,1, -999.00,1,     -999.0,9, 20220506,     1817,  30.5448, 134.4547,     -999.0,9,     -999.0,9,     -999.0,9,     -999.0,9,     -999.0,9,     0.0131,1,     4.6954,1,     -999.0,9,     -999.0,9,     -999.0,9
33RR20220430,        P02,      11,          1,          1,          1,2,20220506,       1808,    30.5448,   134.4547,       4505,  4574.6,2,   1.6049,2,  34.6824,2,  34.6822,2,    153.6,2,   154.6,2,  141.57,2,   35.45,2,    0.00,2,    2.45,2,   0.010,2,   0.008,2,   0.0000,2,  2318.9,2,  2413.5,2,   7.5784,2,    24.99,2, -999.00,1,  -999.0,1, -999.00,1, -999.00,1,       19.4,2, 20220506,     1808,  30.5449, 134.4547,     -999.0,9,     -999.0,9,     -999.0,9,     -999.0,9,     -999.0,9,     0.0122,1,     4.6759,1,     -999.0,9,     -999.0,9,     -999.0,9