BOTTLE,20230801CCHSIOCBG
EXPOCODE,SECT_ID,STNNBR,CASTNO,SAMPNO,BTLNBR,BTLNBR_FLAG_W,DATE,TIME,LATITUDE,LONGITUDE,DEPTH,CTDPRS,CTDPRS_FLAG_W,CTDTMP,CTDTMP_FLAG_W,CTDSAL,CTDSAL_FLAG_W,SALNTY,SALNTY_FLAG_W,CTDOXY,CTDOXY_FLAG_W,OXYGEN,OXYGEN_FLAG_W,SILCAT,SILCAT_FLAG_W,NITRAT,NITRAT_FLAG_W,NITRIT,NITRIT_FLAG_W,PHSPHT,PHSPHT_FLAG_W,CFC-11,CFC-11_FLAG_W,CFC-12,CFC-12_FLAG_W,SF6,SF6_FLAG_W,TCARBN,TCARBN_FLAG_W,ALKALI,ALKALI_FLAG_W,PH_TOT,PH_TOT_FLAG_W,PH_TMP,PH_TMP_FLAG_W,DELC13,DELC13_FLAG_W,DELC14,DELC14_FLAG_W,DOC,DOC_FLAG_W,TDN,TDN_FLAG_W,N2O,N2O_FLAG_W,BTL_DATE,BTL_TIME,BTL_LAT,BTL_LON,REFTMP,REFTMP_FLAG_W,POC,POC_FLAG_W,PON,PON_FLAG_W,POP,POP_FLAG_W,PCOD,PCOD_FLAG_W,CTDFLUOR,CTDFLUOR_FLAG_W,CTDXMISS,CTDXMISS_FLAG_W,HPLC,HPLC_FLAG_W,DNA,DNA_FLAG_W,FCM,FCM_FLAG_W
,,,,,,,,,,,METERS,DBAR,,ITS-90,,PSS-78,,PSS-78,,UMOL/KG,,UMOL/KG,,UMOL/KG,,UMOL/KG,,UMOL/KG,,UMOL/KG,,PMOL/KG,,PMOL/KG,,FMOL/KG,,UMOL/KG,,UMOL/KG,,,,DEG C,,/MILLE,,/MILLE,,UMOL/KG,,UMOL/KG,,NMOL/KG,,,,,,ITS-90,,UG/L,,UG/L,,UG/L,,UG/L,,VOLTS,,VOLTS,,,,,,,
33RR20220430,        P02,      79,          1,          3,          3,2,20220528,       0113,    29.9995,   176.8633,       5188,  4683.4,2,   1.4593,2,  34.6898,2,  34.6899,2,    161.3,2,   161.7,2,  144.57,2,   35.31,2,    0.00,2,    2.42,2,   0.007,2,   0.000,2,   0.0000,2,  2316.0,2,  2415.5,2,   7.5879,2,    25.01,2, -999.00,9,  -999.0,9, -999.00,9, -999.00,9,       21.6,2, 20220528,      125,  29.9995, 176.8633,     1.4594,2,     -999.0,9,     -999.0,9,     -999.0,9,     -999.0,9,     0.0122,1,     4.7054,1,     -999.0,9,     -999.0,9,     -999.0,9
33RR20220430,        P02,      79,          1,          2,          2,2,20220528,       0113,    29.9995,   176.8633,       5188,  4992.3,2,   1.4703,2,  34.6921,2,  34.6910,2,    166.1,2,   166.2,2,  141.55,2,   34.95,2,    0.00,2,    2.40,2,-999.000,9,-999.000,9,-999.0000,9,  -999.0,9,  -999.0,9,-999.0000,9,  -999.00,9, -999.00,9,  -999.0,9, -999.00,9, -999.00,9,     -999.0,9, 20220528,      119,  29.9995, 176.8633,     1.4703,2,     -999.0,9,     -999.0,9,     -999.0,9,     -999.0,9,     0.0122,1,     4.7043,1,     -999.0,9,     -999.0,9,     -999.0,9
33RR20220430,        P02,      79,          1,          1,          1,2,20220528,       0113,    29.9995,   176.8633,       5188,  5278.3,2,   1.4907,2,  34.6935,2,  34.6924,2,    168.7,2,   168.9,2,  138.52,2,   34.77,2,    0.00,2,    2.39,2,   0.012,2,   0.000,2,   0.0000,2,  2308.6,6,  2410.0,2,   7.5957,2,    25.01,2, -999.00,9,  -999.0,9, -999.00,9, -999.00,9,       21.1,2, 20220528,      113,  29.9995, 176.8633,     1.4907,2,     -999.0,9,     -999.0,9,     -999.0,9,     -999.0,9,     0.0127,1,     4.7021,1,     -999.0,9,     -999.0,9,     -999.0,9
33RR20220430,        P02,      80,          1,         14,         14,2,20220528,       0645,    29.9996,   177.4403,       5252,     3.7,2,  21.1761,2,  34.9977,2,-999.0000,9,    215.4,2,  -999.0,9, -999.00,9, -999.00,9, -999.00,9, -999.00,9,-999.000,9,-999.000,9,-999.0000,9,  -999.0,9,  -999.0,9,-999.0000,9,  -999.00,9, -999.00,9,  -999.0,9, -999.00,9, -999.00,9,     -999.0,9, 20220528,      714,  29.9995, 177.4403,    21.1696,2,     -999.0,9,     -999.0,9,     -999.0,1,     -999.0,9,     0.0154,1,     4.6044,1,     -999.0,9,     -999.0,9,     -999.0,9
33RR20220430,        P02,      80,          1,         10,         10,2,20220528,       0645,    29.9996,   177.4403,       5252,     3.9,2,  21.1723,2,  34.9991,2,-999.0000,9,    215.5,2,  -999.0,9, -999.00,9, -999.00,9, -999.00,9, -999.00,9,-999.000,9,-999.000,9,-999.0000,9,  -999.0,9,  -999.0,9,-999.0000,9,  -999.00,9, -999.00,9,  -999.0,9, -999.00,9, -999.00,9,     -999.0,9, 20220528,      713,  29.9996, 177.4403,    21.1687,2,     -999.0,9,     -999.0,9,     -999.0,9,     -999.0,9,     0.0147,1,     4.6044,1,     -999.0,9,     -999.0,1,     -999.0,9
33RR20220430,        P02,      80,          1,         16,         16,2,20220528,       0645,    29.9996,   177.4403,       5252,     4.2,2,  21.1859,2,  35.0315,2,-999.0000,9,    215.4,2,  -999.0,9, -999.00,9, -999.00,9, -999.00,9, -999.00,9,-999.000,9,-999.000,9,-999.0000,9,  -999.0,9,  -999.0,9,-999.0000,9,  -999.00,9, -999.00,9,  -999.0,9, -999.00,9, -999.00,9,     -999.0,9, 20220528,      715,  29.9996, 177.4403,    21.1714,2,     -999.0,9,     -999.0,9,     -999.0,1,     -999.0,9,     0.0153,1,     4.6059,1,     -999.0,9,     -999.0,9,     -999.0,9
33RR20220430,        P02,      80,          1,         17,         17,2,20220528,       0645,    29.9996,   177.4403,       5252,     4.2,2,  21.1722,2,  34.9957,2,-999.0000,9,    215.5,2,  -999.0,9, -999.00,9, -999.00,9, -999.00,9, -999.00,9,-999.000,9,-999.000,9,-999.0000,9,  -999.0,9,  -999.0,9,-999.0000,9,  -999.00,9, -999.00,9,  -999.0,9, -999.00,9, -999.00,9,     -999.0,9, 20220528,      715,  29.9996, 177.4403,     -999.0,9,     -999.0,9,     -999.0,9,     -999.0,9,     -999.0,1,     0.0155,1,     4.6037,1,     -999.0,9,     -999.0,9,     -999.0,9
33RR20220430,        P02,      80,          1,         12,         12,2,20220528,       0645,    29.9996,   177.4403,       5252,     4.2,2,  21.1729,2,  34.9977,2,-999.0000,9,    215.3,2,  -999.0,9, -999.00,9, -999.00,9, -999.00,9, -999.00,9,-999.000,9,-999.000,9,-999.0000,9,  -999.0,9,  -999.0,9,-999.0000,9,  -999.00,9, -999.00,9,  -999.0,9, -999.00,9, -999.00,9,     -999.0,9, 20220528,      714,  29.9996, 177.4403,    21.1635,2,     -999.0,1,     -999.0,1,     -999.0,9,     -999.0,9,     0.0147,1,     4.6029,1,     -999.0,9,     -999.0,9,     -999.0,9
33RR20220430,        P02,      80,          1,         11,         11,2,20220528,       0645,    29.9996,   177.4403,       5252,     4.4,2,  21.1725,2,  34.9989,2,-999.0000,9,    215.5,2,  -999.0,9, -999.00,9, -999.00,9, -999.00,9, -999.00,9,-999.000,9,-999.000,9,-999.0000,9,  -999.0,9,  -999.0,9,-999.0000,9,  -999.00,9, -999.00,9,  -999.0,9, -999.00,9, -999.00,9,     -999.0,9, 20220528,      713,  29.9996, 177.4403,    21.1639,2,     -999.0,1,     -999.0,1,     -999.0,9,     -999.0,9,     0.0148,1,     4.6047,1,     -999.0,9,     -999.0,9,     -999.0,9
33RR20220430,        P02,      80,          1,         19,         19,2,20220528,       0645,    29.9996,   177.4403,       5252,     4.4,2,  21.1675,2,  34.9958,2,-999.0000,9,    215.6,2,  -999.0,9, -999.00,9, -999.00,9, -999.00,9, -999.00,9,-999.000,9,-999.000,9,-999.0000,9,  -999.0,9,  -999.0,9,-999.0000,9,  -999.00,9, -999.00,9,  -999.0,9, -999.00,9, -999.00,9,     -999.0,9, 20220528,      716,  29.9996, 177.4403,    21.1648,2,     -999.0,9,     -999.0,9,     -999.0,9,     -999.0,1,     0.0158,1,     4.6035,1,     -999.0,9,     -999.0,9,     -999.0,9
33RR20220430,        P02,      80,          1,         18,         18,2,20220528,       0645,    29.9996,   177.4403,       5252,     4.4,2,  21.1712,2,  34.9965,2,-999.0000,9,    215.3,2,  -999.0,9, -999.00,9, -999.00,9, -999.00,9, -999.00,9,-999.000,9,-999.000,9,-999.0000,9,  -999.0,9,  -999.0,9,-999.0000,9,  -999.00,9, -999.00,9,  -999.0,9, -999.00,9, -999.00,9,     -999.0,9, 20220528,      715,  29.9996, 177.4403,    21.1588,2,     -999.0,9,     -999.0,9,     -999.0,9,     -999.0,1,     0.0147,1,     4.6036,1,     -999.0,9,     -999.0,9,     -999.0,9
33RR20220430,        P02,      80,          1,         13,         13,2,20220528,       0645,    29.9996,   177.4403,       5252,     4.4,2,  21.1761,2,  35.0005,2,-999.0000,9,    215.0,2,  -999.0,9, -999.00,9, -999.00,9, -999.00,9, -999.00,9,-999.000,9,-999.000,9,-999.0000,9,  -999.0,9,  -999.0,9,-999.0000,9,  -999.00,9, -999.00,9,  -999.0,9, -999.00,9, -999.00,9,     -999.0,9, 20220528,      714,  29.9995, 177.4403,    21.1685,2,     -999.0,1,     -999.0,1,     -999.0,9,     -999.0,9,     0.0159,1,     4.6045,1,     -999.0,9,     -999.0,9,     -999.0,9
33RR20220430,        P02,      80,          1,          9,          9,2,20220528,       0645,    29.9996,   177.4403,       5252,     4.5,2,  21.1797,2,  35.0138,2,-999.0000,9,    215.4,2,  -999.0,9, -999.00,9, -999.00,9, -999.00,9, -999.00,9,-999.000,9,-999.000,9,-999.0000,9,  -999.0,9,  -999.0,9,-999.0000,9,  -999.00,9, -999.00,9,  -999.0,9, -999.00,9, -999.00,9,     -999.0,9, 20220528,      712,  29.9996, 177.4403,    21.1660,2,     -999.0,9,     -999.0,9,     -999.0,9,     -999.0,9,     0.0163,1,     4.6062,1,     -999.0,1,     -999.0,9,     -999.0,1
33RR20220430,        P02,      80,          1,         15,         15,2,20220528,       0645,    29.9996,   177.4403,       5252,     4.6,2,  21.1801,2,  35.0012,2,-999.0000,9,    214.8,2,  -999.0,9, -999.00,9, -999.00,9, -999.00,9, -999.00,9,-999.000,9,-999.000,9,-999.0000,9,  -999.0,9,  -999.0,9,-999.0000,9,  -999.00,9, -999.00,9,  -999.0,9, -999.00,9, -999.00,9,     -999.0,9, 20220528,      715,  29.9996, 177.4403,     -999.0,9,     -999.0,9,     -999.0,9,     -999.0,1,     -999.0,9,     0.0148,1,     4.6049,1,     -999.0,9,     -999.0,9,     -999.0,9
33RR20220430,        P02,      80,          1,          8,          8,2,20220528,       0645,    29.9996,   177.4403,       5252,    42.0,2,  18.6724,2,  34.7389,2,-999.0000,9,    233.9,2,  -999.0,9, -999.00,9, -999.00,9, -999.00,9, -999.00,9,-999.000,9,-999.000,9,-999.0000,9,  -999.0,9,  -999.0,9,-999.0000,9,  -999.00,9, -999.00,9,  -999.0,9, -999.00,9, -999.00,9,     -999.0,9, 20220528,      710,  29.9996, 177.4403,    18.6378,2,     -999.0,9,     -999.0,9,     -999.0,9,     -999.0,9,     0.0198,1,     4.6137,1,     -999.0,1,     -999.0,9,     -999.0,1
33RR20220430,        P02,      80,          1,          7,          7,2,20220528,       0645,    29.9996,   177.4403,       5252,    79.9,2,  17.3205,2,  34.6449,2,-999.0000,9,    238.1,2,  -999.0,9, -999.00,9, -999.00,9, -999.00,9, -999.00,9,-999.000,9,-999.000,9,-999.0000,9,  -999.0,9,  -999.0,9,-999.0000,9,  -999.00,9, -999.00,9,  -999.0,9, -999.00,9, -999.00,9,     -999.0,9, 20220528,      707,  29.9996, 177.4403,    17.3124,2,     -999.0,9,     -999.0,9,     -999.0,9,     -999.0,9,     0.0312,1,     4.5919,1,     -999.0,9,     -999.0,9,     -999.0,1
33RR20220430,        P02,      80,          1,          6,          6,2,20220528,       0645,    29.9996,   177.4403,       5252,   105.4,2,  16.7996,2,  34.6368,2,-999.0000,9,    219.9,2,  -999.0,9, -999.00,9, -999.00,9, -999.00,9, -999.00,9,-999.000,9,-999.000,9,-999.0000,9,  -999.0,9,  -999.0,9,-999.0000,9,  -999.00,9, -999.00,9,  -999.0,9, -999.00,9, -999.00,9,     -999.0,9, 20220528,      705,  29.9996, 177.4403,    16.7884,2,     -999.0,9,     -999.0,9,     -999.0,9,     -999.0,9,     0.0462,1,     4.6111,1,     -999.0,1,     -999.0,9,     -999.0,1
33RR20220430,        P02,      80,          1,          5,          5,2,20220528,       0645,    29.9996,   177.4403,       5252,   106.0,2,  16.7974,2,  34.6372,2,-999.0000,9,    219.7,2,  -999.0,9, -999.00,9, -999.00,9, -999.00,9, -999.00,9,-999.000,9,-999.000,9,-999.0000,9,  -999.0,9,  -999.0,9,-999.0000,9,  -999.00,9, -999.00,9,  -999.0,9, -999.00,9, -999.00,9,     -999.0,9, 20220528,      705,  29.9995, 177.4404,    16.7919,2,     -999.0,9,     -999.0,9,     -999.0,9,     -999.0,9,     0.0407,1,     4.6115,1,     -999.0,9,     -999.0,1,     -999.0,9
33RR20220430,        P02,      80,          1,          4,          4,2,20220528,       0645,    29.9996,   177.4403,       5252,   155.6,2,  16.3726,2,  34.6468,2,-999.0000,9,    199.6,2,  -999.0,9, -999.00,9, -999.00,9, -999.00,9, -999.00,9,-999.000,9,-999.000,9,-999.0000,9,  -999.0,9,  -999.0,9,-999.0000,9,  -999.00,9, -999.00,9,  -999.0,9, -999.00,9, -999.00,9,     -999.0,9, 20220528,      703,  29.9995, 177.4404,    16.3717,2,     -999.0,9,     -999.0,9,     -999.0,9,     -999.0,9,     0.0134,1,     4.6825,1,     -999.0,9,     -999.0,9,     -999.0,1
33RR20220430,        P02,      80,          1,          3,          3,2,20220528,       0645,    29.9996,   177.4403,       5252,   205.6,2,  15.5930,2,  34.5952,2,-999.0000,9,    197.7,2,  -999.0,9, -999.00,9, -999.00,9, -999.00,9, -999.00,9,-999.000,9,-999.000,9,-999.0000,9,  -999.0,9,  -999.0,9,-999.0000,9,  -999.00,9, -999.00,9,  -999.0,9, -999.00,9, -999.00,9,     -999.0,9, 20220528,      701,  29.9995, 177.4403,    15.5847,2,     -999.0,9,     -999.0,9,     -999.0,9,     -999.0,9,     0.0122,1,     4.6873,1,     -999.0,9,     -999.0,1,     -999.0,1
33RR20220430,        P02,      80,          1,          2,          2,2,20220528,       0645,    29.9996,   177.4403,       5252,   507.5,2,   9.4294,2,  34.1182,2,-999.0000,9,    186.9,2,  -999.0,9, -999.00,9, -999.00,9, -999.00,9, -999.00,9,-999.000,9,-999.000,9,-999.0000,9,  -999.0,9,  -999.0,9,-999.0000,9,  -999.00,9, -999.00,9,  -999.0,9, -999.00,9, -999.00,9,     -999.0,9, 20220528,      655,  29.9996, 177.4403,     9.4314,2,     -999.0,9,     -999.0,9,     -999.0,9,     -999.0,9,     0.0122,1,     4.6972,1,     -999.0,9,     -999.0,9,     -999.0,1
33RR20220430,        P02,      80,          1,          1,          1,2,20220528,       0645,    29.9996,   177.4403,       5252,  1011.1,2,   3.7250,2,  34.2843,2,-999.0000,9,     30.7,2,  -999.0,9, -999.00,9, -999.00,9, -999.00,9, -999.00,9,-999.000,9,-999.000,9,-999.0000,9,  -999.0,9,  -999.0,9,-999.0000,9,  -999.00,9, -999.00,9,  -999.0,9, -999.00,9, -999.00,9,     -999.0,9, 20220528,      645,  29.9996, 177.4403,     3.7254,2,     -999.0,9,     -999.0,9,     -999.0,9,     -999.0,9,     0.0134,1,     4.6998,1,     -999.0,9,     -999.0,1,     -999.0,1