BOTTLE,20230801CCHSIOCBG
EXPOCODE,SECT_ID,STNNBR,CASTNO,SAMPNO,BTLNBR,BTLNBR_FLAG_W,DATE,TIME,LATITUDE,LONGITUDE,DEPTH,CTDPRS,CTDPRS_FLAG_W,CTDTMP,CTDTMP_FLAG_W,CTDSAL,CTDSAL_FLAG_W,SALNTY,SALNTY_FLAG_W,CTDOXY,CTDOXY_FLAG_W,OXYGEN,OXYGEN_FLAG_W,SILCAT,SILCAT_FLAG_W,NITRAT,NITRAT_FLAG_W,NITRIT,NITRIT_FLAG_W,PHSPHT,PHSPHT_FLAG_W,CFC-11,CFC-11_FLAG_W,CFC-12,CFC-12_FLAG_W,SF6,SF6_FLAG_W,TCARBN,TCARBN_FLAG_W,ALKALI,ALKALI_FLAG_W,PH_TOT,PH_TOT_FLAG_W,PH_TMP,PH_TMP_FLAG_W,DELC13,DELC13_FLAG_W,DELC14,DELC14_FLAG_W,DOC,DOC_FLAG_W,TDN,TDN_FLAG_W,N2O,N2O_FLAG_W,BTL_DATE,BTL_TIME,BTL_LAT,BTL_LON,REFTMP,REFTMP_FLAG_W,POC,POC_FLAG_W,PON,PON_FLAG_W,POP,POP_FLAG_W,PCOD,PCOD_FLAG_W,CTDFLUOR,CTDFLUOR_FLAG_W,CTDXMISS,CTDXMISS_FLAG_W,HPLC,HPLC_FLAG_W,DNA,DNA_FLAG_W,FCM,FCM_FLAG_W
,,,,,,,,,,,METERS,DBAR,,ITS-90,,PSS-78,,PSS-78,,UMOL/KG,,UMOL/KG,,UMOL/KG,,UMOL/KG,,UMOL/KG,,UMOL/KG,,PMOL/KG,,PMOL/KG,,FMOL/KG,,UMOL/KG,,UMOL/KG,,,,DEG C,,/MILLE,,/MILLE,,UMOL/KG,,UMOL/KG,,NMOL/KG,,,,,,ITS-90,,UG/L,,UG/L,,UG/L,,UG/L,,VOLTS,,VOLTS,,,,,,,
33RR20220430,        P02,      83,          2,          3,          3,2,20220529,       0647,    30.0001,   179.1712,       4488,  4169.9,2,   1.4578,2,  34.6840,2,  34.6840,2,    151.6,2,   151.8,2,  152.95,2,   36.12,2,    0.00,2,    2.50,2,   0.005,2,   0.000,2,   0.0000,2,  2326.2,2,  2419.0,2,   7.5745,2,    25.01,2, -999.00,1,  -999.0,1, -999.00,1, -999.00,1,       22.1,2, 20220529,      656,  30.0000, 179.1712,     1.4575,2,     -999.0,9,     -999.0,9,     -999.0,9,     -999.0,9,     0.0122,1,     4.7068,1,     -999.0,9,     -999.0,9,     -999.0,9
33RR20220430,        P02,      83,          2,          2,          2,2,20220529,       0647,    30.0001,   179.1712,       4488,  4426.4,2,   1.4573,2,  34.6869,2,  34.6873,2,    156.4,2,   156.6,2,  149.73,2,   35.82,2,    0.00,2,    2.47,2,-999.000,9,-999.000,9,-999.0000,9,  2320.7,2,  2415.2,2,   7.5807,2,    25.00,2, -999.00,1,  -999.0,1, -999.00,9, -999.00,9,     -999.0,9, 20220529,      651,  30.0000, 179.1712,     1.4573,2,     -999.0,9,     -999.0,9,     -999.0,9,     -999.0,9,     0.0122,1,     4.7068,1,     -999.0,9,     -999.0,9,     -999.0,9
33RR20220430,        P02,      83,          2,          1,          1,2,20220529,       0647,    30.0001,   179.1712,       4488,  4557.0,2,   1.4689,2,  34.6872,2,  34.6877,2,    157.1,2,   157.3,2,  149.04,2,   35.79,2,    0.00,2,    2.45,2,   0.007,2,   0.000,2,   0.0000,2,  2321.6,6,  2414.8,2,   7.5830,2,    25.01,2, -999.00,1,  -999.0,1, -999.00,1, -999.00,1,       21.8,2, 20220529,      647,  30.0000, 179.1712,     1.4687,2,     -999.0,9,     -999.0,9,     -999.0,9,     -999.0,9,     0.0122,1,     4.7067,1,     -999.0,9,     -999.0,9,     -999.0,9