BOTTLE,20230801CCHSIOCBG
EXPOCODE,SECT_ID,STNNBR,CASTNO,SAMPNO,BTLNBR,BTLNBR_FLAG_W,DATE,TIME,LATITUDE,LONGITUDE,DEPTH,CTDPRS,CTDPRS_FLAG_W,CTDTMP,CTDTMP_FLAG_W,CTDSAL,CTDSAL_FLAG_W,SALNTY,SALNTY_FLAG_W,CTDOXY,CTDOXY_FLAG_W,OXYGEN,OXYGEN_FLAG_W,SILCAT,SILCAT_FLAG_W,NITRAT,NITRAT_FLAG_W,NITRIT,NITRIT_FLAG_W,PHSPHT,PHSPHT_FLAG_W,CFC-11,CFC-11_FLAG_W,CFC-12,CFC-12_FLAG_W,SF6,SF6_FLAG_W,TCARBN,TCARBN_FLAG_W,ALKALI,ALKALI_FLAG_W,PH_TOT,PH_TOT_FLAG_W,PH_TMP,PH_TMP_FLAG_W,DELC13,DELC13_FLAG_W,DELC14,DELC14_FLAG_W,DOC,DOC_FLAG_W,TDN,TDN_FLAG_W,N2O,N2O_FLAG_W,BTL_DATE,BTL_TIME,BTL_LAT,BTL_LON,REFTMP,REFTMP_FLAG_W,POC,POC_FLAG_W,PON,PON_FLAG_W,POP,POP_FLAG_W,PCOD,PCOD_FLAG_W,CTDFLUOR,CTDFLUOR_FLAG_W,CTDXMISS,CTDXMISS_FLAG_W,HPLC,HPLC_FLAG_W,DNA,DNA_FLAG_W,FCM,FCM_FLAG_W
,,,,,,,,,,,METERS,DBAR,,ITS-90,,PSS-78,,PSS-78,,UMOL/KG,,UMOL/KG,,UMOL/KG,,UMOL/KG,,UMOL/KG,,UMOL/KG,,PMOL/KG,,PMOL/KG,,FMOL/KG,,UMOL/KG,,UMOL/KG,,,,DEG C,,/MILLE,,/MILLE,,UMOL/KG,,UMOL/KG,,NMOL/KG,,,,,,ITS-90,,UG/L,,UG/L,,UG/L,,UG/L,,VOLTS,,VOLTS,,,,,,,
33RR20220430,        P02,      61,          1,          3,          3,2,20220522,       1659,    29.9993,   167.4118,       6003,  5457.5,2,   1.4998,2,  34.6949,2,  34.6954,2,    172.8,2,   173.0,2,  135.20,2,   34.62,2,    0.00,2,    2.37,2,   0.006,2,   0.000,2,   0.0000,2,  2302.0,2,  2401.2,2,   7.5967,2,    24.99,2, -999.00,9,  -999.0,9, -999.00,1, -999.00,1,       20.1,2, 20220522,     1712,  29.9993, 167.4119,     1.4998,2,     -999.0,9,     -999.0,9,     -999.0,9,     -999.0,9,     0.0122,1,     4.7070,1,     -999.0,9,     -999.0,9,     -999.0,9
33RR20220430,        P02,      61,          1,          2,          2,2,20220522,       1659,    29.9993,   167.4118,       6003,  5818.7,2,   1.5258,2,  34.6963,2,  34.6960,2,    175.9,2,   176.1,2,  133.53,2,   34.34,2,    0.00,2,    2.33,2,-999.000,9,-999.000,9,-999.0000,9,  2300.8,6,  2400.0,2,   7.5986,2,    25.04,2, -999.00,9,  -999.0,9, -999.00,9, -999.00,9,     -999.0,9, 20220522,     1705,  29.9993, 167.4119,     1.5259,2,     -999.0,9,     -999.0,9,     -999.0,9,     -999.0,9,     0.0122,1,     4.7066,1,     -999.0,9,     -999.0,9,     -999.0,9
33RR20220430,        P02,      61,          1,          1,          1,2,20220522,       1659,    29.9993,   167.4118,       6003,  6120.3,2,   1.5573,2,  34.6969,2,  34.6967,2,    177.5,2,   177.1,2,  132.17,2,   34.19,2,    0.00,2,    2.34,2,   0.010,2,   0.000,2,   0.0000,2,  2297.2,2,  2398.4,2,   7.6017,2,    25.06,2, -999.00,9,  -999.0,9, -999.00,1, -999.00,1,       20.2,2, 20220522,     1659,  29.9993, 167.4118,     1.5575,2,     -999.0,9,     -999.0,9,     -999.0,9,     -999.0,9,     0.0122,1,     4.7048,1,     -999.0,9,     -999.0,9,     -999.0,9
33RR20220430,        P02,      62,          1,         18,         18,2,20220522,       2231,    30.0002,   167.9885,       5887,     3.3,2,  22.9817,2,  34.9706,2,-999.0000,9,    211.3,2,  -999.0,9, -999.00,9, -999.00,9, -999.00,9, -999.00,9,-999.000,9,-999.000,9,-999.0000,9,  -999.0,9,  -999.0,9,-999.0000,9,  -999.00,9, -999.00,9,  -999.0,9, -999.00,9, -999.00,9,     -999.0,9, 20220522,     2301,  30.0002, 167.9885,    22.8727,2,     -999.0,9,     -999.0,9,     -999.0,9,     -999.0,1,     0.0135,1,     0.0097,1,     -999.0,9,     -999.0,9,     -999.0,9
33RR20220430,        P02,      62,          1,         19,         19,2,20220522,       2231,    30.0002,   167.9885,       5887,     3.7,2,  22.9095,2,  35.0142,2,-999.0000,9,    211.6,2,  -999.0,9, -999.00,9, -999.00,9, -999.00,9, -999.00,9,-999.000,9,-999.000,9,-999.0000,9,  -999.0,9,  -999.0,9,-999.0000,9,  -999.00,9, -999.00,9,  -999.0,9, -999.00,9, -999.00,9,     -999.0,9, 20220522,     2301,  30.0002, 167.9885,    22.9899,2,     -999.0,9,     -999.0,9,     -999.0,9,     -999.0,1,     0.0135,1,     0.0097,1,     -999.0,9,     -999.0,9,     -999.0,9
33RR20220430,        P02,      62,          1,         13,         13,2,20220522,       2231,    30.0002,   167.9885,       5887,     3.8,2,  22.8195,2,  35.0045,2,-999.0000,9,    211.8,2,  -999.0,9, -999.00,9, -999.00,9, -999.00,9, -999.00,9,-999.000,9,-999.000,9,-999.0000,9,  -999.0,9,  -999.0,9,-999.0000,9,  -999.00,9, -999.00,9,  -999.0,9, -999.00,9, -999.00,9,     -999.0,9, 20220522,     2259,  30.0002, 167.9885,     -999.0,9,     -999.0,1,     -999.0,1,     -999.0,9,     -999.0,9,     0.0134,1,     0.0097,1,     -999.0,9,     -999.0,9,     -999.0,9
33RR20220430,        P02,      62,          1,          9,          9,2,20220522,       2231,    30.0002,   167.9885,       5887,     3.8,2,  22.9422,2,  34.9754,2,-999.0000,9,    211.3,2,  -999.0,9, -999.00,9, -999.00,9, -999.00,9, -999.00,9,-999.000,9,-999.000,9,-999.0000,9,  -999.0,9,  -999.0,9,-999.0000,9,  -999.00,9, -999.00,9,  -999.0,9, -999.00,9, -999.00,9,     -999.0,9, 20220522,     2258,  30.0003, 167.9885,    22.8523,3,     -999.0,9,     -999.0,9,     -999.0,9,     -999.0,9,     0.0135,1,     0.0097,1,     -999.0,1,     -999.0,9,     -999.0,1
33RR20220430,        P02,      62,          1,         11,         11,2,20220522,       2231,    30.0002,   167.9885,       5887,     3.9,2,  23.1610,2,  34.9285,2,-999.0000,9,    211.2,2,  -999.0,9, -999.00,9, -999.00,9, -999.00,9, -999.00,9,-999.000,9,-999.000,9,-999.0000,9,  -999.0,9,  -999.0,9,-999.0000,9,  -999.00,9, -999.00,9,  -999.0,9, -999.00,9, -999.00,9,     -999.0,9, 20220522,     2259,  30.0003, 167.9885,    23.0666,2,     -999.0,1,     -999.0,1,     -999.0,9,     -999.0,9,     0.0146,1,     0.0097,1,     -999.0,9,     -999.0,9,     -999.0,9
33RR20220430,        P02,      62,          1,         10,         10,2,20220522,       2231,    30.0002,   167.9885,       5887,     3.9,2,  23.0850,2,  34.9400,2,-999.0000,9,    211.4,2,  -999.0,9, -999.00,9, -999.00,9, -999.00,9, -999.00,9,-999.000,9,-999.000,9,-999.0000,9,  -999.0,9,  -999.0,9,-999.0000,9,  -999.00,9, -999.00,9,  -999.0,9, -999.00,9, -999.00,9,     -999.0,9, 20220522,     2258,  30.0003, 167.9885,     -999.0,9,     -999.0,9,     -999.0,9,     -999.0,9,     -999.0,9,     0.0134,1,     0.0097,1,     -999.0,9,     -999.0,1,     -999.0,9
33RR20220430,        P02,      62,          1,         14,         14,2,20220522,       2231,    30.0002,   167.9885,       5887,     3.9,2,  22.6341,2,  35.0884,2,-999.0000,9,    211.9,2,  -999.0,9, -999.00,9, -999.00,9, -999.00,9, -999.00,9,-999.000,9,-999.000,9,-999.0000,9,  -999.0,9,  -999.0,9,-999.0000,9,  -999.00,9, -999.00,9,  -999.0,9, -999.00,9, -999.00,9,     -999.0,9, 20220522,     2259,  30.0002, 167.9885,    22.6951,2,     -999.0,9,     -999.0,9,     -999.0,1,     -999.0,9,     0.0136,1,     0.0097,1,     -999.0,9,     -999.0,9,     -999.0,9
33RR20220430,        P02,      62,          1,         17,         17,2,20220522,       2231,    30.0002,   167.9885,       5887,     3.9,2,  22.8290,2,  35.0079,2,-999.0000,9,    211.3,2,  -999.0,9, -999.00,9, -999.00,9, -999.00,9, -999.00,9,-999.000,9,-999.000,9,-999.0000,9,  -999.0,9,  -999.0,9,-999.0000,9,  -999.00,9, -999.00,9,  -999.0,9, -999.00,9, -999.00,9,     -999.0,9, 20220522,     2300,  30.0003, 167.9885,     -999.0,9,     -999.0,9,     -999.0,9,     -999.0,9,     -999.0,1,     0.0136,1,     0.0097,1,     -999.0,9,     -999.0,9,     -999.0,9
33RR20220430,        P02,      62,          1,         12,         12,2,20220522,       2231,    30.0002,   167.9885,       5887,     3.9,2,  22.7834,2,  35.0341,2,-999.0000,9,    211.6,2,  -999.0,9, -999.00,9, -999.00,9, -999.00,9, -999.00,9,-999.000,9,-999.000,9,-999.0000,9,  -999.0,9,  -999.0,9,-999.0000,9,  -999.00,9, -999.00,9,  -999.0,9, -999.00,9, -999.00,9,     -999.0,9, 20220522,     2259,  30.0002, 167.9885,    22.8073,2,     -999.0,1,     -999.0,1,     -999.0,9,     -999.0,9,     0.0134,1,     0.0096,1,     -999.0,9,     -999.0,9,     -999.0,9
33RR20220430,        P02,      62,          1,         15,         15,2,20220522,       2231,    30.0002,   167.9885,       5887,     4.0,2,  22.6935,2,  35.0636,2,-999.0000,9,    211.6,2,  -999.0,9, -999.00,9, -999.00,9, -999.00,9, -999.00,9,-999.000,9,-999.000,9,-999.0000,9,  -999.0,9,  -999.0,9,-999.0000,9,  -999.00,9, -999.00,9,  -999.0,9, -999.00,9, -999.00,9,     -999.0,9, 20220522,     2300,  30.0003, 167.9885,     -999.0,9,     -999.0,9,     -999.0,9,     -999.0,1,     -999.0,9,     0.0134,1,     0.0097,1,     -999.0,9,     -999.0,9,     -999.0,9
33RR20220430,        P02,      62,          1,         16,         16,2,20220522,       2231,    30.0002,   167.9885,       5887,     4.0,2,  22.8358,2,  34.9967,2,-999.0000,9,    211.7,2,  -999.0,9, -999.00,9, -999.00,9, -999.00,9, -999.00,9,-999.000,9,-999.000,9,-999.0000,9,  -999.0,9,  -999.0,9,-999.0000,9,  -999.00,9, -999.00,9,  -999.0,9, -999.00,9, -999.00,9,     -999.0,9, 20220522,     2300,  30.0003, 167.9885,    22.8843,3,     -999.0,9,     -999.0,9,     -999.0,1,     -999.0,9,     0.0135,1,     0.0097,1,     -999.0,9,     -999.0,9,     -999.0,9
33RR20220430,        P02,      62,          1,          8,          8,2,20220522,       2231,    30.0002,   167.9885,       5887,    41.1,2,  20.0238,2,  34.9928,2,-999.0000,9,    216.6,2,  -999.0,9, -999.00,9, -999.00,9, -999.00,9, -999.00,9,-999.000,9,-999.000,9,-999.0000,9,  -999.0,9,  -999.0,9,-999.0000,9,  -999.00,9, -999.00,9,  -999.0,9, -999.00,9, -999.00,9,     -999.0,9, 20220522,     2256,  30.0003, 167.9885,    20.0392,2,     -999.0,9,     -999.0,9,     -999.0,9,     -999.0,9,     0.0159,1,     0.0097,1,     -999.0,1,     -999.0,9,     -999.0,1
33RR20220430,        P02,      62,          1,          7,          7,2,20220522,       2231,    30.0002,   167.9885,       5887,    78.8,2,  18.3045,2,  34.8199,2,-999.0000,9,    215.8,2,  -999.0,9, -999.00,9, -999.00,9, -999.00,9, -999.00,9,-999.000,9,-999.000,9,-999.0000,9,  -999.0,9,  -999.0,9,-999.0000,9,  -999.00,9, -999.00,9,  -999.0,9, -999.00,9, -999.00,9,     -999.0,9, 20220522,     2253,  30.0002, 167.9885,    18.2909,2,     -999.0,9,     -999.0,9,     -999.0,9,     -999.0,9,     0.0580,1,     0.0097,1,     -999.0,9,     -999.0,9,     -999.0,1
33RR20220430,        P02,      62,          1,          5,          5,2,20220522,       2231,    30.0002,   167.9885,       5887,   103.4,2,  17.6365,2,  34.7636,2,-999.0000,9,    207.8,2,  -999.0,9, -999.00,9, -999.00,9, -999.00,9, -999.00,9,-999.000,9,-999.000,9,-999.0000,9,  -999.0,9,  -999.0,9,-999.0000,9,  -999.00,9, -999.00,9,  -999.0,9, -999.00,9, -999.00,9,     -999.0,9, 20220522,     2251,  30.0002, 167.9885,    17.6287,2,     -999.0,9,     -999.0,9,     -999.0,9,     -999.0,9,     0.0204,1,     0.0096,1,     -999.0,9,     -999.0,1,     -999.0,9
33RR20220430,        P02,      62,          1,          6,          6,2,20220522,       2231,    30.0002,   167.9885,       5887,   104.3,2,  17.6357,2,  34.7642,2,-999.0000,9,    208.4,2,  -999.0,9, -999.00,9, -999.00,9, -999.00,9, -999.00,9,-999.000,9,-999.000,9,-999.0000,9,  -999.0,9,  -999.0,9,-999.0000,9,  -999.00,9, -999.00,9,  -999.0,9, -999.00,9, -999.00,9,     -999.0,9, 20220522,     2251,  30.0002, 167.9885,     -999.0,9,     -999.0,9,     -999.0,9,     -999.0,9,     -999.0,9,     0.0184,1,     0.0096,1,     -999.0,1,     -999.0,9,     -999.0,1
33RR20220430,        P02,      62,          1,          4,          4,2,20220522,       2231,    30.0002,   167.9885,       5887,   153.6,2,  16.6362,2,  34.6720,2,-999.0000,9,    208.5,2,  -999.0,9, -999.00,9, -999.00,9, -999.00,9, -999.00,9,-999.000,9,-999.000,9,-999.0000,9,  -999.0,9,  -999.0,9,-999.0000,9,  -999.00,9, -999.00,9,  -999.0,9, -999.00,9, -999.00,9,     -999.0,9, 20220522,     2248,  30.0002, 167.9885,    16.6301,2,     -999.0,9,     -999.0,9,     -999.0,9,     -999.0,9,     0.0122,1,     0.0096,1,     -999.0,9,     -999.0,9,     -999.0,1
33RR20220430,        P02,      62,          1,          3,          3,2,20220522,       2231,    30.0002,   167.9885,       5887,   203.7,2,  16.1110,2,  34.6435,2,-999.0000,9,    200.9,2,  -999.0,9, -999.00,9, -999.00,9, -999.00,9, -999.00,9,-999.000,9,-999.000,9,-999.0000,9,  -999.0,9,  -999.0,9,-999.0000,9,  -999.00,9, -999.00,9,  -999.0,9, -999.00,9, -999.00,9,     -999.0,9, 20220522,     2247,  30.0002, 167.9885,    16.1026,2,     -999.0,9,     -999.0,9,     -999.0,9,     -999.0,9,     0.0122,1,     0.0096,1,     -999.0,9,     -999.0,1,     -999.0,1
33RR20220430,        P02,      62,          1,          2,          2,2,20220522,       2231,    30.0002,   167.9885,       5887,   506.8,2,   9.5007,2,  34.1248,2,-999.0000,9,    181.9,2,  -999.0,9, -999.00,9, -999.00,9, -999.00,9, -999.00,9,-999.000,9,-999.000,9,-999.0000,9,  -999.0,9,  -999.0,9,-999.0000,9,  -999.00,9, -999.00,9,  -999.0,9, -999.00,9, -999.00,9,     -999.0,9, 20220522,     2240,  30.0003, 167.9885,     9.5297,3,     -999.0,9,     -999.0,9,     -999.0,9,     -999.0,9,     0.0122,1,     0.0097,1,     -999.0,9,     -999.0,9,     -999.0,1
33RR20220430,        P02,      62,          1,          1,          1,2,20220522,       2231,    30.0002,   167.9885,       5887,  1010.2,2,   3.7124,2,  34.2822,2,-999.0000,9,     34.6,2,  -999.0,9, -999.00,9, -999.00,9, -999.00,9, -999.00,9,-999.000,9,-999.000,9,-999.0000,9,  -999.0,9,  -999.0,9,-999.0000,9,  -999.00,9, -999.00,9,  -999.0,9, -999.00,9, -999.00,9,     -999.0,9, 20220522,     2231,  30.0003, 167.9885,     3.7086,2,     -999.0,9,     -999.0,9,     -999.0,9,     -999.0,9,     0.0134,1,     0.0096,1,     -999.0,9,     -999.0,1,     -999.0,1