BOTTLE,20230801CCHSIOCBG
EXPOCODE,SECT_ID,STNNBR,CASTNO,SAMPNO,BTLNBR,BTLNBR_FLAG_W,DATE,TIME,LATITUDE,LONGITUDE,DEPTH,CTDPRS,CTDPRS_FLAG_W,CTDTMP,CTDTMP_FLAG_W,CTDSAL,CTDSAL_FLAG_W,SALNTY,SALNTY_FLAG_W,CTDOXY,CTDOXY_FLAG_W,OXYGEN,OXYGEN_FLAG_W,SILCAT,SILCAT_FLAG_W,NITRAT,NITRAT_FLAG_W,NITRIT,NITRIT_FLAG_W,PHSPHT,PHSPHT_FLAG_W,CFC-11,CFC-11_FLAG_W,CFC-12,CFC-12_FLAG_W,SF6,SF6_FLAG_W,TCARBN,TCARBN_FLAG_W,ALKALI,ALKALI_FLAG_W,PH_TOT,PH_TOT_FLAG_W,PH_TMP,PH_TMP_FLAG_W,DELC13,DELC13_FLAG_W,DELC14,DELC14_FLAG_W,DOC,DOC_FLAG_W,TDN,TDN_FLAG_W,N2O,N2O_FLAG_W,BTL_DATE,BTL_TIME,BTL_LAT,BTL_LON,REFTMP,REFTMP_FLAG_W,POC,POC_FLAG_W,PON,PON_FLAG_W,POP,POP_FLAG_W,PCOD,PCOD_FLAG_W,CTDFLUOR,CTDFLUOR_FLAG_W,CTDXMISS,CTDXMISS_FLAG_W,HPLC,HPLC_FLAG_W,DNA,DNA_FLAG_W,FCM,FCM_FLAG_W
,,,,,,,,,,,METERS,DBAR,,ITS-90,,PSS-78,,PSS-78,,UMOL/KG,,UMOL/KG,,UMOL/KG,,UMOL/KG,,UMOL/KG,,UMOL/KG,,PMOL/KG,,PMOL/KG,,FMOL/KG,,UMOL/KG,,UMOL/KG,,,,DEG C,,/MILLE,,/MILLE,,UMOL/KG,,UMOL/KG,,NMOL/KG,,,,,,ITS-90,,UG/L,,UG/L,,UG/L,,UG/L,,VOLTS,,VOLTS,,,,,,,
33RR20220430,        P02,      38,          2,          3,          3,2,20220515,       0708,    29.9999,   153.2732,       5844,  5264.6,2,   1.5123,2,  34.6917,2,  34.6930,2,    166.9,2,   166.8,2,  139.53,2,   34.84,2,    0.00,2,    2.37,2,   0.006,2,   0.000,2,   0.0000,2,  2311.7,2,  2407.2,2,   7.5918,2,    25.00,2, -999.00,9,  -999.0,9, -999.00,1, -999.00,1,       22.7,2, 20220515,      722,  29.9996, 153.2732,     1.5119,2,     -999.0,9,     -999.0,9,     -999.0,9,     -999.0,9,     0.0122,1,     4.7087,1,     -999.0,9,     -999.0,9,     -999.0,9
33RR20220430,        P02,      38,          2,          2,          2,2,20220515,       0708,    29.9999,   153.2732,       5844,  5715.0,2,   1.5515,2,  34.6933,2,  34.6944,2,    170.0,2,   170.1,2,  137.09,2,   34.54,2,    0.00,2,    2.35,2,-999.000,9,-999.000,9,-999.0000,9,  2309.1,2,  2406.2,2,   7.5955,2,    24.94,2, -999.00,9,  -999.0,9, -999.00,9, -999.00,9,     -999.0,9, 20220515,      714,  29.9996, 153.2733,     1.5511,2,     -999.0,9,     -999.0,9,     -999.0,9,     -999.0,9,     0.0122,1,     4.7068,1,     -999.0,9,     -999.0,9,     -999.0,9
33RR20220430,        P02,      38,          2,          1,          1,2,20220515,       0708,    29.9999,   153.2732,       5844,  5952.8,2,   1.5756,2,  34.6939,3,  34.6962,2,    170.7,2,   170.6,2,  136.89,2,   34.56,2,    0.00,2,    2.35,2,   0.009,2,   0.000,2,   0.0000,2,  2306.9,6,  2406.1,2,   7.5972,2,    24.96,2, -999.00,9,  -999.0,9, -999.00,1, -999.00,1,       22.2,2, 20220515,      708,  29.9996, 153.2732,     1.5751,2,     -999.0,9,     -999.0,9,     -999.0,9,     -999.0,9,     0.0122,1,     4.7019,1,     -999.0,9,     -999.0,9,     -999.0,9