BOTTLE,20230801CCHSIOCBG
EXPOCODE,SECT_ID,STNNBR,CASTNO,SAMPNO,BTLNBR,BTLNBR_FLAG_W,DATE,TIME,LATITUDE,LONGITUDE,DEPTH,CTDPRS,CTDPRS_FLAG_W,CTDTMP,CTDTMP_FLAG_W,CTDSAL,CTDSAL_FLAG_W,SALNTY,SALNTY_FLAG_W,CTDOXY,CTDOXY_FLAG_W,OXYGEN,OXYGEN_FLAG_W,SILCAT,SILCAT_FLAG_W,NITRAT,NITRAT_FLAG_W,NITRIT,NITRIT_FLAG_W,PHSPHT,PHSPHT_FLAG_W,CFC-11,CFC-11_FLAG_W,CFC-12,CFC-12_FLAG_W,SF6,SF6_FLAG_W,TCARBN,TCARBN_FLAG_W,ALKALI,ALKALI_FLAG_W,PH_TOT,PH_TOT_FLAG_W,PH_TMP,PH_TMP_FLAG_W,DELC13,DELC13_FLAG_W,DELC14,DELC14_FLAG_W,DOC,DOC_FLAG_W,TDN,TDN_FLAG_W,N2O,N2O_FLAG_W,BTL_DATE,BTL_TIME,BTL_LAT,BTL_LON,REFTMP,REFTMP_FLAG_W,POC,POC_FLAG_W,PON,PON_FLAG_W,POP,POP_FLAG_W,PCOD,PCOD_FLAG_W,CTDFLUOR,CTDFLUOR_FLAG_W,CTDXMISS,CTDXMISS_FLAG_W,HPLC,HPLC_FLAG_W,DNA,DNA_FLAG_W,FCM,FCM_FLAG_W
,,,,,,,,,,,METERS,DBAR,,ITS-90,,PSS-78,,PSS-78,,UMOL/KG,,UMOL/KG,,UMOL/KG,,UMOL/KG,,UMOL/KG,,UMOL/KG,,PMOL/KG,,PMOL/KG,,FMOL/KG,,UMOL/KG,,UMOL/KG,,,,DEG C,,/MILLE,,/MILLE,,UMOL/KG,,UMOL/KG,,NMOL/KG,,,,,,ITS-90,,UG/L,,UG/L,,UG/L,,UG/L,,VOLTS,,VOLTS,,,,,,,
33RR20220430,        P02,      26,          2,          3,          3,2,20220511,       0412,    29.9999,   145.1959,       5881,  5265.0,2,   1.5352,2,  34.6902,2,  34.6893,2,    162.8,2,   162.8,2,  143.30,2,   35.29,2,    0.00,2,    2.41,2,   0.007,2,   0.000,2,   0.0000,2,  2312.2,6,  2410.2,2,   7.5871,2,    25.01,2, -999.00,9,  -999.0,9, -999.00,1, -999.00,1,       23.2,2, 20220511,      426,  29.9999, 145.1960,     1.5351,2,     -999.0,9,     -999.0,9,     -999.0,9,     -999.0,9,     0.0122,1,     4.7082,1,     -999.0,9,     -999.0,9,     -999.0,9
33RR20220430,        P02,      26,          2,          2,          2,2,20220511,       0412,    29.9999,   145.1959,       5881,  5630.8,2,   1.5730,2,  34.6911,2,  34.6903,2,    164.9,2,   165.1,2,  141.55,2,   35.29,2,    0.00,2,    2.39,2,-999.000,9,-999.000,9,-999.0000,9,  2308.9,2,  2409.2,2,   7.5894,2,    25.01,2, -999.00,9,  -999.0,9, -999.00,1, -999.00,1,     -999.0,9, 20220511,      419,  29.9999, 145.1959,     1.5727,2,     -999.0,9,     -999.0,9,     -999.0,9,     -999.0,9,     0.0122,1,     4.7069,1,     -999.0,9,     -999.0,9,     -999.0,9
33RR20220430,        P02,      26,          2,          1,          1,2,20220511,       0412,    29.9999,   145.1959,       5881,  5993.5,2,   1.6115,2,  34.6920,2,  34.6916,2,    166.9,2,   166.7,2,  139.88,2,   35.09,2,    0.00,2,    2.37,2,   0.008,2,   0.000,2,   0.0000,2,  2309.2,2,  2407.5,2,   7.5920,2,    25.03,2, -999.00,9,  -999.0,9, -999.00,1, -999.00,1,       24.1,2, 20220511,      412,  30.0000, 145.1960,     1.6111,2,     -999.0,9,     -999.0,9,     -999.0,9,     -999.0,9,     0.0122,1,     4.7027,1,     -999.0,9,     -999.0,9,     -999.0,9