BOTTLE,20230801CCHSIOCBG
EXPOCODE,SECT_ID,STNNBR,CASTNO,SAMPNO,BTLNBR,BTLNBR_FLAG_W,DATE,TIME,LATITUDE,LONGITUDE,DEPTH,CTDPRS,CTDPRS_FLAG_W,CTDTMP,CTDTMP_FLAG_W,CTDSAL,CTDSAL_FLAG_W,SALNTY,SALNTY_FLAG_W,CTDOXY,CTDOXY_FLAG_W,OXYGEN,OXYGEN_FLAG_W,SILCAT,SILCAT_FLAG_W,NITRAT,NITRAT_FLAG_W,NITRIT,NITRIT_FLAG_W,PHSPHT,PHSPHT_FLAG_W,CFC-11,CFC-11_FLAG_W,CFC-12,CFC-12_FLAG_W,SF6,SF6_FLAG_W,TCARBN,TCARBN_FLAG_W,ALKALI,ALKALI_FLAG_W,PH_TOT,PH_TOT_FLAG_W,PH_TMP,PH_TMP_FLAG_W,DELC13,DELC13_FLAG_W,DELC14,DELC14_FLAG_W,DOC,DOC_FLAG_W,TDN,TDN_FLAG_W,N2O,N2O_FLAG_W,BTL_DATE,BTL_TIME,BTL_LAT,BTL_LON,REFTMP,REFTMP_FLAG_W,POC,POC_FLAG_W,PON,PON_FLAG_W,POP,POP_FLAG_W,PCOD,PCOD_FLAG_W,CTDFLUOR,CTDFLUOR_FLAG_W,CTDXMISS,CTDXMISS_FLAG_W,HPLC,HPLC_FLAG_W,DNA,DNA_FLAG_W,FCM,FCM_FLAG_W
,,,,,,,,,,,METERS,DBAR,,ITS-90,,PSS-78,,PSS-78,,UMOL/KG,,UMOL/KG,,UMOL/KG,,UMOL/KG,,UMOL/KG,,UMOL/KG,,PMOL/KG,,PMOL/KG,,FMOL/KG,,UMOL/KG,,UMOL/KG,,,,DEG C,,/MILLE,,/MILLE,,UMOL/KG,,UMOL/KG,,NMOL/KG,,,,,,ITS-90,,UG/L,,UG/L,,UG/L,,UG/L,,VOLTS,,VOLTS,,,,,,,
33RR20220430,        P02,      43,          1,          3,          3,2,20220516,       2304,    29.9992,   156.6390,       5798,  5337.9,2,   1.5114,2,  34.6922,2,  34.6926,2,    168.8,2,   168.9,2,  138.88,2,   34.86,2,    0.00,2,    2.39,2,   0.007,2,   0.000,2,   0.0000,2,  2305.0,2,  2404.2,2,   7.5937,2,    24.99,2, -999.00,1,  -999.0,1, -999.00,1, -999.00,1,       22.4,2, 20220516,     2318,  29.9993, 156.6390,     1.5116,2,     -999.0,9,     -999.0,9,     -999.0,9,     -999.0,9,     0.0122,1,     4.7092,1,     -999.0,9,     -999.0,9,     -999.0,9
33RR20220430,        P02,      43,          1,          2,          2,2,20220516,       2304,    29.9992,   156.6390,       5798,  5679.3,2,   1.5417,2,  34.6932,2,  34.6938,2,    170.6,2,   170.8,2,  138.10,2,   34.41,2,    0.00,2,    2.37,2,-999.000,9,-999.000,9,-999.0000,9,  2304.8,6,  2403.9,2,   7.5962,2,    25.00,2, -999.00,1,  -999.0,1, -999.00,1, -999.00,1,     -999.0,9, 20220516,     2311,  29.9993, 156.6390,     1.5420,2,     -999.0,9,     -999.0,9,     -999.0,9,     -999.0,9,     0.0122,1,     4.7068,1,     -999.0,9,     -999.0,9,     -999.0,9
33RR20220430,        P02,      43,          1,          1,          1,2,20220516,       2304,    29.9992,   156.6390,       5798,  5907.9,2,   1.5636,2,  34.6938,2,  34.6950,2,    171.6,2,   171.6,2,  137.41,2,   34.61,2,    0.00,2,    2.36,2,   0.007,2,   0.000,2,   0.0000,2,  2305.9,2,  2405.6,2,   7.5961,2,    24.98,2, -999.00,1,  -999.0,1, -999.00,1, -999.00,1,       22.1,2, 20220516,     2304,  29.9992, 156.6390,     1.5637,2,     -999.0,9,     -999.0,9,     -999.0,9,     -999.0,9,     0.0134,1,     4.7028,1,     -999.0,9,     -999.0,9,     -999.0,9
33RR20220430,        P02,      44,          1,         17,         17,2,20220517,       0509,    30.0005,   157.3115,       5258,     6.0,2,  20.2591,2,  34.7716,2,-999.0000,9,    223.0,2,  -999.0,9, -999.00,9, -999.00,9, -999.00,9, -999.00,9,-999.000,9,-999.000,9,-999.0000,9,  -999.0,9,  -999.0,9,-999.0000,9,  -999.00,9, -999.00,9,  -999.0,9, -999.00,9, -999.00,9,     -999.0,9, 20220517,      538,  30.0005, 157.3115,    20.2416,2,     -999.0,9,     -999.0,9,     -999.0,9,     -999.0,1,     0.0147,1,     4.5769,1,     -999.0,9,     -999.0,9,     -999.0,9
33RR20220430,        P02,      44,          1,         15,         15,2,20220517,       0509,    30.0005,   157.3115,       5258,     6.1,2,  20.3168,2,  34.7726,2,-999.0000,9,    222.6,2,  -999.0,9, -999.00,9, -999.00,9, -999.00,9, -999.00,9,-999.000,9,-999.000,9,-999.0000,9,  -999.0,9,  -999.0,9,-999.0000,9,  -999.00,9, -999.00,9,  -999.0,9, -999.00,9, -999.00,9,     -999.0,9, 20220517,      537,  30.0005, 157.3115,    20.3135,2,     -999.0,9,     -999.0,9,     -999.0,1,     -999.0,9,     0.0147,1,     4.5749,1,     -999.0,9,     -999.0,9,     -999.0,9
33RR20220430,        P02,      44,          1,         14,         14,2,20220517,       0509,    30.0005,   157.3115,       5258,     6.1,2,  20.4259,2,  34.7723,2,-999.0000,9,    222.5,2,  -999.0,9, -999.00,9, -999.00,9, -999.00,9, -999.00,9,-999.000,9,-999.000,9,-999.0000,9,  -999.0,9,  -999.0,9,-999.0000,9,  -999.00,9, -999.00,9,  -999.0,9, -999.00,9, -999.00,9,     -999.0,9, 20220517,      537,  30.0005, 157.3115,    20.2540,2,     -999.0,9,     -999.0,9,     -999.0,1,     -999.0,9,     0.0147,1,     4.5752,1,     -999.0,9,     -999.0,9,     -999.0,9
33RR20220430,        P02,      44,          1,         12,         12,2,20220517,       0509,    30.0005,   157.3115,       5258,     6.1,2,  20.4007,2,  34.7675,2,-999.0000,9,    222.6,2,  -999.0,9, -999.00,9, -999.00,9, -999.00,9, -999.00,9,-999.000,9,-999.000,9,-999.0000,9,  -999.0,9,  -999.0,9,-999.0000,9,  -999.00,9, -999.00,9,  -999.0,9, -999.00,9, -999.00,9,     -999.0,9, 20220517,      536,  30.0005, 157.3115,    20.4208,3,     -999.0,1,     -999.0,1,     -999.0,9,     -999.0,9,     0.0147,1,     4.5764,1,     -999.0,9,     -999.0,9,     -999.0,9
33RR20220430,        P02,      44,          1,         11,         11,2,20220517,       0509,    30.0005,   157.3115,       5258,     6.2,2,  20.2764,2,  34.7724,2,-999.0000,9,    222.1,2,  -999.0,9, -999.00,9, -999.00,9, -999.00,9, -999.00,9,-999.000,9,-999.000,9,-999.0000,9,  -999.0,9,  -999.0,9,-999.0000,9,  -999.00,9, -999.00,9,  -999.0,9, -999.00,9, -999.00,9,     -999.0,9, 20220517,      536,  30.0005, 157.3116,    20.3038,2,     -999.0,1,     -999.0,1,     -999.0,9,     -999.0,9,     0.0149,1,     4.5779,1,     -999.0,9,     -999.0,9,     -999.0,9
33RR20220430,        P02,      44,          1,         16,         16,2,20220517,       0509,    30.0005,   157.3115,       5258,     6.3,2,  20.3705,2,  34.7730,2,-999.0000,9,    222.2,2,  -999.0,9, -999.00,9, -999.00,9, -999.00,9, -999.00,9,-999.000,9,-999.000,9,-999.0000,9,  -999.0,9,  -999.0,9,-999.0000,9,  -999.00,9, -999.00,9,  -999.0,9, -999.00,9, -999.00,9,     -999.0,9, 20220517,      538,  30.0005, 157.3115,    20.3745,2,     -999.0,9,     -999.0,9,     -999.0,1,     -999.0,9,     0.0147,1,     4.5724,1,     -999.0,9,     -999.0,9,     -999.0,9
33RR20220430,        P02,      44,          1,         10,         10,2,20220517,       0509,    30.0005,   157.3115,       5258,     6.3,2,  20.2472,2,  34.7664,2,-999.0000,9,    223.0,2,  -999.0,9, -999.00,9, -999.00,9, -999.00,9, -999.00,9,-999.000,9,-999.000,9,-999.0000,9,  -999.0,9,  -999.0,9,-999.0000,9,  -999.00,9, -999.00,9,  -999.0,9, -999.00,9, -999.00,9,     -999.0,9, 20220517,      536,  30.0004, 157.3116,    20.2223,2,     -999.0,9,     -999.0,9,     -999.0,9,     -999.0,9,     0.0147,1,     4.5758,1,     -999.0,9,     -999.0,1,     -999.0,9
33RR20220430,        P02,      44,          1,         13,         13,2,20220517,       0509,    30.0005,   157.3115,       5258,     6.3,2,  20.4577,2,  34.7724,2,-999.0000,9,    222.0,2,  -999.0,9, -999.00,9, -999.00,9, -999.00,9, -999.00,9,-999.000,9,-999.000,9,-999.0000,9,  -999.0,9,  -999.0,9,-999.0000,9,  -999.00,9, -999.00,9,  -999.0,9, -999.00,9, -999.00,9,     -999.0,9, 20220517,      537,  30.0005, 157.3115,    20.4136,2,     -999.0,1,     -999.0,1,     -999.0,9,     -999.0,9,     0.0147,1,     4.5746,1,     -999.0,9,     -999.0,9,     -999.0,9
33RR20220430,        P02,      44,          1,         18,         18,2,20220517,       0509,    30.0005,   157.3115,       5258,     6.4,2,  20.3031,2,  34.7727,2,-999.0000,9,    222.5,2,  -999.0,9, -999.00,9, -999.00,9, -999.00,9, -999.00,9,-999.000,9,-999.000,9,-999.0000,9,  -999.0,9,  -999.0,9,-999.0000,9,  -999.00,9, -999.00,9,  -999.0,9, -999.00,9, -999.00,9,     -999.0,9, 20220517,      538,  30.0005, 157.3115,    20.2981,2,     -999.0,9,     -999.0,9,     -999.0,9,     -999.0,1,     0.0155,1,     4.5762,1,     -999.0,9,     -999.0,9,     -999.0,9
33RR20220430,        P02,      44,          1,          9,          9,2,20220517,       0509,    30.0005,   157.3115,       5258,     6.4,2,  20.2943,2,  34.7726,2,-999.0000,9,    222.6,2,  -999.0,9, -999.00,9, -999.00,9, -999.00,9, -999.00,9,-999.000,9,-999.000,9,-999.0000,9,  -999.0,9,  -999.0,9,-999.0000,9,  -999.00,9, -999.00,9,  -999.0,9, -999.00,9, -999.00,9,     -999.0,9, 20220517,      535,  30.0005, 157.3116,    20.2769,2,     -999.0,9,     -999.0,9,     -999.0,9,     -999.0,9,     0.0147,1,     4.5752,1,     -999.0,1,     -999.0,9,     -999.0,1
33RR20220430,        P02,      44,          1,         19,         19,2,20220517,       0509,    30.0005,   157.3115,       5258,     6.5,2,  20.2847,2,  34.7741,2,-999.0000,9,    222.0,2,  -999.0,9, -999.00,9, -999.00,9, -999.00,9, -999.00,9,-999.000,9,-999.000,9,-999.0000,9,  -999.0,9,  -999.0,9,-999.0000,9,  -999.00,9, -999.00,9,  -999.0,9, -999.00,9, -999.00,9,     -999.0,9, 20220517,      539,  30.0005, 157.3115,     -999.0,9,     -999.0,9,     -999.0,9,     -999.0,9,     -999.0,1,     0.0147,1,     4.5757,1,     -999.0,9,     -999.0,9,     -999.0,9
33RR20220430,        P02,      44,          1,          8,          8,2,20220517,       0509,    30.0005,   157.3115,       5258,    41.3,2,  18.2107,2,  34.7374,2,-999.0000,9,    231.1,2,  -999.0,9, -999.00,9, -999.00,9, -999.00,9, -999.00,9,-999.000,9,-999.000,9,-999.0000,9,  -999.0,9,  -999.0,9,-999.0000,9,  -999.00,9, -999.00,9,  -999.0,9, -999.00,9, -999.00,9,     -999.0,9, 20220517,      533,  30.0005, 157.3115,    18.2078,2,     -999.0,9,     -999.0,9,     -999.0,9,     -999.0,9,     0.0331,1,     4.5147,1,     -999.0,1,     -999.0,9,     -999.0,1
33RR20220430,        P02,      44,          1,          7,          7,2,20220517,       0509,    30.0005,   157.3115,       5258,    77.0,2,  17.3719,2,  34.7197,2,-999.0000,9,    219.6,2,  -999.0,9, -999.00,9, -999.00,9, -999.00,9, -999.00,9,-999.000,9,-999.000,9,-999.0000,9,  -999.0,9,  -999.0,9,-999.0000,9,  -999.00,9, -999.00,9,  -999.0,9, -999.00,9, -999.00,9,     -999.0,9, 20220517,      531,  30.0005, 157.3115,    17.3638,2,     -999.0,9,     -999.0,9,     -999.0,9,     -999.0,9,     0.0313,1,     4.6397,1,     -999.0,9,     -999.0,9,     -999.0,1
33RR20220430,        P02,      44,          1,          5,          5,2,20220517,       0509,    30.0005,   157.3115,       5258,   101.7,2,  17.2025,2,  34.7175,2,-999.0000,9,    218.6,2,  -999.0,9, -999.00,9, -999.00,9, -999.00,9, -999.00,9,-999.000,9,-999.000,9,-999.0000,9,  -999.0,9,  -999.0,9,-999.0000,9,  -999.00,9, -999.00,9,  -999.0,9, -999.00,9, -999.00,9,     -999.0,9, 20220517,      529,  30.0005, 157.3115,    17.1946,2,     -999.0,9,     -999.0,9,     -999.0,9,     -999.0,9,     0.0159,1,     4.6702,1,     -999.0,9,     -999.0,1,     -999.0,9
33RR20220430,        P02,      44,          1,          6,          6,2,20220517,       0509,    30.0005,   157.3115,       5258,   102.0,2,  17.2021,2,  34.7176,2,-999.0000,9,    218.8,2,  -999.0,9, -999.00,9, -999.00,9, -999.00,9, -999.00,9,-999.000,9,-999.000,9,-999.0000,9,  -999.0,9,  -999.0,9,-999.0000,9,  -999.00,9, -999.00,9,  -999.0,9, -999.00,9, -999.00,9,     -999.0,9, 20220517,      529,  30.0004, 157.3115,    17.1935,2,     -999.0,9,     -999.0,9,     -999.0,9,     -999.0,9,     0.0151,1,     4.6704,1,     -999.0,1,     -999.0,9,     -999.0,1
33RR20220430,        P02,      44,          1,          4,          4,2,20220517,       0509,    30.0005,   157.3115,       5258,   152.2,2,  16.8227,2,  34.6946,2,-999.0000,9,    214.1,2,  -999.0,9, -999.00,9, -999.00,9, -999.00,9, -999.00,9,-999.000,9,-999.000,9,-999.0000,9,  -999.0,9,  -999.0,9,-999.0000,9,  -999.00,9, -999.00,9,  -999.0,9, -999.00,9, -999.00,9,     -999.0,9, 20220517,      527,  30.0004, 157.3115,    16.8172,2,     -999.0,9,     -999.0,9,     -999.0,9,     -999.0,9,     0.0134,1,     4.6786,1,     -999.0,9,     -999.0,9,     -999.0,1
33RR20220430,        P02,      44,          1,          3,          3,2,20220517,       0509,    30.0005,   157.3115,       5258,   205.4,2,  16.2142,2,  34.6754,2,-999.0000,9,    203.4,2,  -999.0,9, -999.00,9, -999.00,9, -999.00,9, -999.00,9,-999.000,9,-999.000,9,-999.0000,9,  -999.0,9,  -999.0,9,-999.0000,9,  -999.00,9, -999.00,9,  -999.0,9, -999.00,9, -999.00,9,     -999.0,9, 20220517,      525,  30.0004, 157.3115,    16.2084,2,     -999.0,9,     -999.0,9,     -999.0,9,     -999.0,9,     0.0134,1,     4.6809,1,     -999.0,9,     -999.0,1,     -999.0,1
33RR20220430,        P02,      44,          1,          2,          2,2,20220517,       0509,    30.0005,   157.3115,       5258,   507.5,2,   9.6930,2,  34.1515,2,-999.0000,9,    188.8,2,  -999.0,9, -999.00,9, -999.00,9, -999.00,9, -999.00,9,-999.000,9,-999.000,9,-999.0000,9,  -999.0,9,  -999.0,9,-999.0000,9,  -999.00,9, -999.00,9,  -999.0,9, -999.00,9, -999.00,9,     -999.0,9, 20220517,      519,  30.0005, 157.3115,     9.6862,2,     -999.0,9,     -999.0,9,     -999.0,9,     -999.0,9,     0.0122,1,     4.7013,1,     -999.0,9,     -999.0,9,     -999.0,1
33RR20220430,        P02,      44,          1,          1,          1,2,20220517,       0509,    30.0005,   157.3115,       5258,  1011.2,2,   3.5856,2,  34.3027,2,-999.0000,9,     37.8,2,  -999.0,9, -999.00,9, -999.00,9, -999.00,9, -999.00,9,-999.000,9,-999.000,9,-999.0000,9,  -999.0,9,  -999.0,9,-999.0000,9,  -999.00,9, -999.00,9,  -999.0,9, -999.00,9, -999.00,9,     -999.0,9, 20220517,      509,  30.0005, 157.3115,     3.5874,2,     -999.0,9,     -999.0,9,     -999.0,9,     -999.0,9,     0.0134,1,     4.7041,1,     -999.0,9,     -999.0,1,     -999.0,1