BOTTLE,20230801CCHSIOCBG
EXPOCODE,SECT_ID,STNNBR,CASTNO,SAMPNO,BTLNBR,BTLNBR_FLAG_W,DATE,TIME,LATITUDE,LONGITUDE,DEPTH,CTDPRS,CTDPRS_FLAG_W,CTDTMP,CTDTMP_FLAG_W,CTDSAL,CTDSAL_FLAG_W,SALNTY,SALNTY_FLAG_W,CTDOXY,CTDOXY_FLAG_W,OXYGEN,OXYGEN_FLAG_W,SILCAT,SILCAT_FLAG_W,NITRAT,NITRAT_FLAG_W,NITRIT,NITRIT_FLAG_W,PHSPHT,PHSPHT_FLAG_W,CFC-11,CFC-11_FLAG_W,CFC-12,CFC-12_FLAG_W,SF6,SF6_FLAG_W,TCARBN,TCARBN_FLAG_W,ALKALI,ALKALI_FLAG_W,PH_TOT,PH_TOT_FLAG_W,PH_TMP,PH_TMP_FLAG_W,DELC13,DELC13_FLAG_W,DELC14,DELC14_FLAG_W,DOC,DOC_FLAG_W,TDN,TDN_FLAG_W,N2O,N2O_FLAG_W,BTL_DATE,BTL_TIME,BTL_LAT,BTL_LON,REFTMP,REFTMP_FLAG_W,POC,POC_FLAG_W,PON,PON_FLAG_W,POP,POP_FLAG_W,PCOD,PCOD_FLAG_W,CTDFLUOR,CTDFLUOR_FLAG_W,CTDXMISS,CTDXMISS_FLAG_W,HPLC,HPLC_FLAG_W,DNA,DNA_FLAG_W,FCM,FCM_FLAG_W
,,,,,,,,,,,METERS,DBAR,,ITS-90,,PSS-78,,PSS-78,,UMOL/KG,,UMOL/KG,,UMOL/KG,,UMOL/KG,,UMOL/KG,,UMOL/KG,,PMOL/KG,,PMOL/KG,,FMOL/KG,,UMOL/KG,,UMOL/KG,,,,DEG C,,/MILLE,,/MILLE,,UMOL/KG,,UMOL/KG,,NMOL/KG,,,,,,ITS-90,,UG/L,,UG/L,,UG/L,,UG/L,,VOLTS,,VOLTS,,,,,,,
33RR20220430,        P02,      29,          2,         36,         36,2,20220512,       0507,    30.0001,   147.2155,       6221,     3.9,2,  21.5195,2,  34.7771,2,  34.7683,2,    224.1,2,   223.6,2,    0.49,2,    0.03,2,    0.00,2,    0.00,2,   1.885,2,   1.143,2,   1.7905,2,  2005.4,2,  2282.2,2,   8.0114,2,    25.00,2, -999.00,9,  -999.0,9, -999.00,1, -999.00,1,        6.5,2, 20220512,      724,  30.0001, 147.2155,    21.5173,2,     -999.0,9,     -999.0,9,     -999.0,9,     -999.0,9,     0.0153,1,     0.0097,1,     -999.0,9,     -999.0,9,     -999.0,9
33RR20220430,        P02,      29,          2,         35,         35,2,20220512,       0507,    30.0001,   147.2155,       6221,    21.3,2,  21.5011,2,  34.7764,2,  34.7691,2,    224.1,2,   223.9,2,    0.68,2,    0.00,2,    0.00,2,    0.00,2,   1.902,2,   1.159,2,   1.8899,2,  2006.7,2,  2281.6,2,   8.0115,2,    25.02,2, -999.00,9,  -999.0,9, -999.00,1, -999.00,1,        6.7,2, 20220512,      722,  30.0002, 147.2155,    21.4911,2,     -999.0,9,     -999.0,9,     -999.0,9,     -999.0,9,     0.0159,1,     0.0096,1,     -999.0,9,     -999.0,9,     -999.0,9
33RR20220430,        P02,      29,          2,         34,         34,2,20220512,       0507,    30.0001,   147.2155,       6221,    41.6,2,  20.9468,2,  34.7923,2,  34.7817,2,    227.4,2,   227.1,2,    0.59,2,    0.00,2,    0.00,2,    0.00,2,   1.975,2,   1.198,2,   1.7552,2,  2007.3,2,  2285.9,2,   8.0117,2,    24.97,2, -999.00,9,  -999.0,9, -999.00,1, -999.00,1,        6.7,2, 20220512,      720,  30.0001, 147.2156,    20.9600,2,     -999.0,9,     -999.0,9,     -999.0,9,     -999.0,9,     0.0185,1,     0.0097,1,     -999.0,9,     -999.0,9,     -999.0,9
33RR20220430,        P02,      29,          2,         33,         33,2,20220512,       0507,    30.0001,   147.2155,       6221,    66.1,2,  19.7374,2,  34.8326,2,  34.8253,2,    228.4,2,   229.2,2,    0.59,2,    0.00,2,    0.00,2,    0.00,2,   2.052,2,   1.257,2,   2.0883,2,  2014.4,2,  2286.5,2,   8.0045,2,    24.90,2, -999.00,9,  -999.0,9, -999.00,1, -999.00,1,        7.1,2, 20220512,      719,  30.0001, 147.2156,    19.7545,2,     -999.0,9,     -999.0,9,     -999.0,9,     -999.0,9,     0.0257,1,     0.0096,1,     -999.0,9,     -999.0,9,     -999.0,9
33RR20220430,        P02,      29,          2,         32,         32,2,20220512,       0507,    30.0001,   147.2155,       6221,    90.2,2,  19.1168,2,  34.8098,2,  34.7994,2,    221.8,2,   221.8,2,    0.78,2,    0.73,2,    0.17,2,    0.01,2,   2.033,2,   1.275,2,   1.8228,2,  2020.3,2,  2284.7,2,   7.9844,2,    25.01,2, -999.00,9,  -999.0,9, -999.00,1, -999.00,1,        8.5,2, 20220512,      717,  30.0002, 147.2155,    19.1174,2,     -999.0,9,     -999.0,9,     -999.0,9,     -999.0,9,     0.0392,1,     0.0096,1,     -999.0,9,     -999.0,9,     -999.0,9
33RR20220430,        P02,      29,          2,         31,         31,2,20220512,       0507,    30.0001,   147.2155,       6221,   136.4,2,  17.9754,2,  34.7760,2,  34.7728,2,    213.8,2,   213.9,2,    1.47,2,    2.45,2,    0.01,2,    0.11,2,   2.089,2,   1.318,2,   1.9862,2,  2032.4,2,  2283.3,2,   7.9569,2,    25.01,2, -999.00,9,  -999.0,9, -999.00,1, -999.00,1,        9.0,2, 20220512,      715,  30.0002, 147.2156,    17.9895,2,     -999.0,9,     -999.0,9,     -999.0,9,     -999.0,9,     0.0147,1,     0.0096,1,     -999.0,9,     -999.0,9,     -999.0,9
33RR20220430,        P02,      29,          2,         30,         30,2,20220512,       0507,    30.0001,   147.2155,       6221,   186.9,2,  17.4443,2,  34.7558,2,  34.7498,2,    213.4,2,   214.0,2,    2.25,2,    3.41,2,    0.00,2,    0.18,2,   2.108,2,   1.345,2,   1.9621,2,  2039.9,2,  2281.5,2,   7.9448,2,    25.01,2, -999.00,9,  -999.0,9, -999.00,1, -999.00,1,        9.2,2, 20220512,      713,  30.0001, 147.2156,    17.4436,2,     -999.0,9,     -999.0,9,     -999.0,9,     -999.0,9,     0.0122,1,     0.0096,1,     -999.0,9,     -999.0,9,     -999.0,9
33RR20220430,        P02,      29,          2,         29,         29,2,20220512,       0507,    30.0001,   147.2155,       6221,   237.1,2,  17.2108,2,  34.7480,2,  34.7418,2,    219.5,2,   220.0,2,    2.34,2,    3.27,2,    0.00,2,    0.18,2,   2.142,2,   1.318,2,   2.0214,2,  2032.7,2,  2283.0,2,   7.9492,2,    25.00,2, -999.00,9,  -999.0,9, -999.00,1, -999.00,1,        9.1,2, 20220512,      712,  30.0002, 147.2156,    17.2087,2,     -999.0,9,     -999.0,9,     -999.0,9,     -999.0,9,     0.0122,1,     0.0097,1,     -999.0,9,     -999.0,9,     -999.0,9
33RR20220430,        P02,      29,          2,         28,         28,2,20220512,       0507,    30.0001,   147.2155,       6221,   287.4,2,  17.0000,2,  34.7374,2,  34.7313,2,    215.1,2,   215.3,2,    3.03,2,    4.10,2,    0.00,2,    0.21,2,   2.198,2,   1.339,2,   1.9875,2,  -999.0,9,  -999.0,9,-999.0000,9,  -999.00,9, -999.00,9,  -999.0,9, -999.00,1, -999.00,1,        9.3,2, 20220512,      710,  30.0002, 147.2156,    16.9995,2,     -999.0,9,     -999.0,9,     -999.0,9,     -999.0,9,     0.0122,1,     0.0096,1,     -999.0,9,     -999.0,9,     -999.0,9
33RR20220430,        P02,      29,          2,         27,         27,2,20220512,       0507,    30.0001,   147.2155,       6221,   338.0,2,  16.5181,2,  34.7036,2,  34.6975,2,    209.1,2,   208.3,2,    4.40,2,    5.51,2,    0.00,2,    0.29,2,   2.225,2,   1.371,2,   1.9682,2,  2051.9,6,  2278.7,2,   7.9153,2,    24.99,2, -999.00,9,  -999.0,9, -999.00,1, -999.00,1,       10.2,2, 20220512,      708,  30.0001, 147.2156,    16.5208,2,     -999.0,9,     -999.0,9,     -999.0,9,     -999.0,9,     0.0122,1,     0.0096,1,     -999.0,9,     -999.0,9,     -999.0,9
33RR20220430,        P02,      29,          2,         26,         26,2,20220512,       0507,    30.0001,   147.2155,       6221,   388.8,2,  15.7983,2,  34.6555,2,  34.6531,2,    206.3,2,   207.7,2,    5.96,2,    6.61,2,    0.00,2,    0.38,2,   2.290,2,   1.383,2,   1.9490,2,  -999.0,9,  -999.0,9,-999.0000,9,  -999.00,9, -999.00,9,  -999.0,9, -999.00,1, -999.00,1,       11.1,2, 20220512,      706,  30.0002, 147.2156,    15.8138,2,     -999.0,9,     -999.0,9,     -999.0,9,     -999.0,9,     0.0122,1,     0.0097,1,     -999.0,9,     -999.0,9,     -999.0,9
33RR20220430,        P02,      29,          2,         25,         25,2,20220512,       0507,    30.0001,   147.2155,       6221,   469.5,2,  13.5205,2,  34.4635,2,  34.4555,2,    184.2,2,   185.0,2,   14.27,2,   12.37,2,    0.00,2,    0.77,2,   2.447,2,   1.454,2,   1.5282,2,  2100.7,2,  2274.2,2,   7.8033,2,    24.98,2, -999.00,9,  -999.0,9, -999.00,1, -999.00,1,       15.7,2, 20220512,      703,  30.0002, 147.2155,    13.5338,2,     -999.0,9,     -999.0,9,     -999.0,9,     -999.0,9,     0.0122,1,     0.0096,1,     -999.0,9,     -999.0,9,     -999.0,9
33RR20220430,        P02,      29,          2,         24,         24,2,20220512,       0507,    30.0001,   147.2155,       6221,   570.9,2,  10.1096,2,  34.2367,2,  34.2338,2,    169.0,2,   169.1,2,   30.20,2,   19.11,2,    0.00,2,    1.29,2,   2.449,2,   1.434,2,   1.2330,2,  2150.8,2,  2278.0,2,   7.6898,2,    24.98,2, -999.00,9,  -999.0,9, -999.00,1, -999.00,1,       21.5,2, 20220512,      701,  30.0002, 147.2155,    10.1028,2,     -999.0,9,     -999.0,9,     -999.0,9,     -999.0,9,     0.0122,1,     0.0096,1,     -999.0,9,     -999.0,9,     -999.0,9
33RR20220430,        P02,      29,          2,         23,         23,2,20220512,       0507,    30.0001,   147.2155,       6221,   671.9,2,   7.3638,2,  34.0351,2,  34.0345,2,    155.9,2,   156.0,2,   45.06,2,   25.61,2,    0.00,2,    1.77,2,   2.512,2,   1.458,2,   1.1422,2,  2193.9,2,  2280.5,2,   7.5845,2,    24.97,2, -999.00,9,  -999.0,9, -999.00,1, -999.00,1,       26.0,2, 20220512,      658,  30.0001, 147.2156,     7.3569,2,     -999.0,9,     -999.0,9,     -999.0,9,     -999.0,9,     0.0125,1,     0.0096,1,     -999.0,9,     -999.0,9,     -999.0,9
33RR20220430,        P02,      29,          2,         22,         22,2,20220512,       0507,    30.0001,   147.2155,       6221,   772.9,2,   5.4681,2,  34.0581,2,  34.0578,2,    102.6,2,   102.5,2,   73.89,2,   33.89,2,    0.00,2,    2.38,2,   1.751,2,   1.012,2,   0.7623,2,  2259.5,2,  2302.8,2,   7.4493,2,    24.96,2, -999.00,9,  -999.0,9, -999.00,9, -999.00,9,       35.3,2, 20220512,      656,  30.0002, 147.2155,     5.4683,2,     -999.0,9,     -999.0,9,     -999.0,9,     -999.0,9,     0.0134,1,     0.0096,1,     -999.0,9,     -999.0,9,     -999.0,9
33RR20220430,        P02,      29,          2,         21,         21,2,20220512,       0507,    30.0001,   147.2155,       6221,   875.1,2,   4.6633,2,  34.1447,2,  34.1444,2,     67.6,2,    66.9,2,   92.75,2,   38.18,2,    0.00,2,    2.68,2,   1.075,6,   0.615,6,   0.3777,6,  2299.2,2,  2322.4,2,   7.3843,2,    24.97,2, -999.00,9,  -999.0,9, -999.00,1, -999.00,1,       41.7,6, 20220512,      653,  30.0001, 147.2155,     4.6618,2,     -999.0,9,     -999.0,9,     -999.0,9,     -999.0,9,     0.0134,1,     0.0096,1,     -999.0,9,     -999.0,9,     -999.0,9
33RR20220430,        P02,      29,          2,         20,         20,2,20220512,       0507,    30.0001,   147.2155,       6221,   976.7,2,   4.1577,2,  34.2209,2,  34.2234,2,     49.6,2,    49.5,2,  106.91,2,   40.27,2,    0.00,2,    2.84,2,   0.649,2,   0.393,2,   0.1900,2,  2325.8,2,  2338.8,2,   7.3555,2,    24.97,2, -999.00,9,  -999.0,9, -999.00,9, -999.00,9,       45.5,2, 20220512,      650,  30.0001, 147.2156,     4.1586,2,     -999.0,9,     -999.0,9,     -999.0,9,     -999.0,9,     0.0134,1,     0.0097,1,     -999.0,9,     -999.0,9,     -999.0,9
33RR20220430,        P02,      29,          2,         19,         19,2,20220512,       0507,    30.0001,   147.2155,       6221,  1074.7,2,   3.7207,2,  34.2918,2,  34.2880,2,     39.9,3,    40.4,2,  118.73,2,   41.49,2,    0.00,2,    2.93,2,   0.416,2,   0.233,2,   0.0000,2,  2340.8,2,  2352.3,2,   7.3441,2,    25.00,2, -999.00,9,  -999.0,9, -999.00,1, -999.00,1,       47.1,2, 20220512,      648,  30.0001, 147.2155,     3.7249,2,     -999.0,9,     -999.0,9,     -999.0,9,     -999.0,9,     0.0134,1,     0.0095,1,     -999.0,9,     -999.0,9,     -999.0,9
33RR20220430,        P02,      29,          2,         18,         18,2,20220512,       0507,    30.0001,   147.2155,       6221,  1176.4,2,   3.3395,2,  34.3554,2,  34.3550,2,     37.4,3,    38.1,2,  130.65,2,   42.16,2,    0.00,2,    2.97,2,   0.257,2,   0.144,2,   0.0000,2,  -999.0,9,  -999.0,9,-999.0000,9,  -999.00,9, -999.00,9,  -999.0,9, -999.00,9, -999.00,9,       47.8,2, 20220512,      645,  30.0002, 147.2156,     3.3380,2,     -999.0,9,     -999.0,9,     -999.0,9,     -999.0,9,     0.0134,1,     0.0096,1,     -999.0,9,     -999.0,9,     -999.0,9
33RR20220430,        P02,      29,          2,         17,         17,2,20220512,       0507,    30.0001,   147.2155,       6221,  1277.1,2,   3.0588,2,  34.4039,2,  34.4043,2,     36.3,2,    36.6,2,  138.26,2,   42.79,2,    0.00,2,    2.99,2,   0.149,2,   0.085,2,   0.0000,2,  2365.6,2,  2376.4,2,   7.3465,2,    24.99,2, -999.00,9,  -999.0,9, -999.00,1, -999.00,1,       48.1,2, 20220512,      642,  30.0002, 147.2156,     3.0582,2,     -999.0,9,     -999.0,9,     -999.0,9,     -999.0,9,     0.0134,1,     0.0096,1,     -999.0,9,     -999.0,9,     -999.0,9
33RR20220430,        P02,      29,          2,         16,         16,2,20220512,       0507,    30.0001,   147.2155,       6221,  1378.9,2,   2.8137,2,  34.4492,2,  34.4495,2,     38.8,2,    38.8,2,  144.90,2,   42.76,2,    0.00,2,    3.00,2,   0.084,2,   0.049,2,   0.0000,2,  -999.0,9,  -999.0,9,-999.0000,9,  -999.00,9, -999.00,9,  -999.0,9, -999.00,9, -999.00,9,       45.9,2, 20220512,      639,  30.0001, 147.2156,     2.8140,2,     -999.0,9,     -999.0,9,     -999.0,9,     -999.0,9,     0.0134,1,     0.0096,1,     -999.0,9,     -999.0,9,     -999.0,9
33RR20220430,        P02,      29,          2,         15,         15,2,20220512,       0507,    30.0001,   147.2155,       6221,  1552.8,2,   2.5069,2,  34.5042,2,  34.5044,2,     46.3,2,    46.5,2,  152.62,2,   42.56,2,    0.00,2,    2.98,2,   0.035,2,   0.021,2,   0.0000,2,  2375.0,2,  2396.8,2,   7.3736,2,    24.98,2, -999.00,9,  -999.0,9, -999.00,1, -999.00,1,       42.5,2, 20220512,      635,  30.0001, 147.2156,     2.5063,2,     -999.0,9,     -999.0,9,     -999.0,9,     -999.0,9,     0.0134,1,     0.0096,1,     -999.0,9,     -999.0,9,     -999.0,9
33RR20220430,        P02,      29,          2,         14,         14,2,20220512,       0507,    30.0001,   147.2155,       6221,  1755.7,2,   2.2148,2,  34.5513,2,  34.5512,2,     58.6,2,    58.3,2,  158.28,2,   41.90,2,    0.00,2,    2.92,2,   0.016,2,   0.008,2,   0.0000,2,  -999.0,9,  -999.0,9,-999.0000,9,  -999.00,9, -999.00,9,  -999.0,9, -999.00,9, -999.00,9,       39.4,2, 20220512,      631,  30.0001, 147.2156,     2.2139,2,     -999.0,9,     -999.0,9,     -999.0,9,     -999.0,9,     0.0129,1,     0.0094,1,     -999.0,9,     -999.0,9,     -999.0,9
33RR20220430,        P02,      29,          2,         13,         13,2,20220512,       0507,    30.0001,   147.2155,       6221,  1956.3,2,   2.0116,2,  34.5861,2,  34.5865,2,     74.2,2,    74.1,2,  160.13,2,   40.92,2,    0.00,2,    2.86,2,   0.008,2,   0.000,2,   0.0000,2,  2368.2,2,  2409.2,2,   7.4306,2,    24.99,2, -999.00,9,  -999.0,9, -999.00,1, -999.00,1,       35.5,2, 20220512,      626,  30.0001, 147.2155,     2.0129,2,     -999.0,9,     -999.0,9,     -999.0,9,     -999.0,9,     0.0133,1,     0.0096,1,     -999.0,9,     -999.0,9,     -999.0,9
33RR20220430,        P02,      29,          2,         12,         12,2,20220512,       0507,    30.0001,   147.2155,       6221,  2192.3,2,   1.8420,2,  34.6151,2,  34.6156,2,     92.0,2,    91.9,2,  159.74,2,   40.05,2,    0.00,2,    2.76,2,   0.006,2,   0.000,2,   0.0000,2,  -999.0,9,  -999.0,9,-999.0000,9,  -999.00,9, -999.00,9,  -999.0,9, -999.00,9, -999.00,9,       31.8,2, 20220512,      621,  30.0001, 147.2155,     1.8424,2,     -999.0,9,     -999.0,9,     -999.0,9,     -999.0,9,     0.0128,1,     0.0097,1,     -999.0,9,     -999.0,9,     -999.0,9
33RR20220430,        P02,      29,          2,         11,         11,2,20220512,       0507,    30.0001,   147.2155,       6221,  2446.8,2,   1.7316,2,  34.6351,2,  34.6346,2,    107.8,2,   107.4,2,  157.00,2,   38.82,2,    0.00,2,    2.69,2,   0.005,2,   0.000,2,   0.0000,2,  2351.5,2,  2413.4,2,   7.4947,2,    24.93,2, -999.00,9,  -999.0,9, -999.00,1, -999.00,1,       28.9,2, 20220512,      616,  30.0001, 147.2155,     1.7318,2,     -999.0,9,     -999.0,9,     -999.0,9,     -999.0,9,     0.0126,1,     0.0095,1,     -999.0,9,     -999.0,9,     -999.0,9
33RR20220430,        P02,      29,          2,         10,         10,2,20220512,       0507,    30.0001,   147.2155,       6221,  2700.8,2,   1.6512,2,  34.6491,2,  34.6486,2,    120.0,2,   120.6,2,  154.46,2,   38.02,2,    0.00,2,    2.63,2,   0.007,2,   0.000,2,   0.0000,2,  -999.0,9,  -999.0,9,-999.0000,9,  -999.00,9, -999.00,9,  -999.0,9, -999.00,9, -999.00,9,       27.4,2, 20220512,      611,  30.0002, 147.2156,     1.6512,2,     -999.0,9,     -999.0,9,     -999.0,9,     -999.0,9,     0.0122,1,     0.0094,1,     -999.0,9,     -999.0,9,     -999.0,9
33RR20220430,        P02,      29,          2,          9,          9,2,20220512,       0507,    30.0001,   147.2155,       6221,  2958.0,2,   1.6025,2,  34.6582,2,  34.6580,2,    127.9,2,   127.8,2,  152.80,2,   37.44,2,    0.00,2,    2.58,2,   0.004,2,   0.000,2,   0.0000,2,  2340.2,2,  2415.2,2,   7.5327,2,    24.97,2, -999.00,9,  -999.0,9, -999.00,1, -999.00,1,       26.5,2, 20220512,      605,  30.0001, 147.2155,     1.6025,2,     -999.0,9,     -999.0,9,     -999.0,9,     -999.0,9,     0.0125,1,     0.0095,1,     -999.0,9,     -999.0,9,     -999.0,9
33RR20220430,        P02,      29,          2,          8,          8,2,20220512,       0507,    30.0001,   147.2155,       6221,  3247.8,2,   1.5634,2,  34.6656,2,  34.6655,2,    134.3,2,   134.3,2,  152.11,2,   37.04,2,    0.00,2,    2.55,2,   0.006,2,   0.000,2,   0.0000,2,  -999.0,9,  -999.0,9,-999.0000,9,  -999.00,9, -999.00,9,  -999.0,9, -999.00,9, -999.00,9,       25.1,2, 20220512,      559,  30.0001, 147.2155,     1.5634,2,     -999.0,9,     -999.0,9,     -999.0,9,     -999.0,9,     0.0131,1,     0.0095,1,     -999.0,9,     -999.0,9,     -999.0,9
33RR20220430,        P02,      29,          2,          7,          7,2,20220512,       0507,    30.0001,   147.2155,       6221,  3555.0,2,   1.5234,2,  34.6728,2,  34.6726,2,    140.9,2,   141.2,2,  150.84,2,   36.83,2,    0.00,2,    2.53,2,   0.006,2,   0.000,2,   0.0000,2,  2328.9,6,  2416.0,2,   7.5546,2,    24.99,2, -999.00,9,  -999.0,9, -999.00,1, -999.00,1,       24.0,2, 20220512,      553,  30.0001, 147.2156,     1.5240,2,     -999.0,9,     -999.0,9,     -999.0,9,     -999.0,9,     0.0126,1,     0.0095,1,     -999.0,9,     -999.0,9,     -999.0,9
33RR20220430,        P02,      29,          2,          6,          6,2,20220512,       0507,    30.0001,   147.2155,       6221,  3861.4,2,   1.5014,2,  34.6779,2,  34.6777,2,    146.7,2,   147.0,2,  149.28,2,   36.34,2,    0.00,2,    2.49,2,   0.005,2,   0.000,2,   0.0000,2,  -999.0,9,  -999.0,9,-999.0000,9,  -999.00,9, -999.00,9,  -999.0,9, -999.00,9, -999.00,9,       23.6,2, 20220512,      547,  30.0001, 147.2155,     1.5013,2,     -999.0,9,     -999.0,9,     -999.0,9,     -999.0,9,     0.0124,1,     0.0094,1,     -999.0,9,     -999.0,9,     -999.0,9
33RR20220430,        P02,      29,          2,          5,          5,2,20220512,       0507,    30.0001,   147.2155,       6221,  4273.6,2,   1.4908,2,  34.6832,2,  34.6828,2,    153.0,2,   153.0,2,  147.61,2,   35.89,2,    0.00,2,    2.46,2,   0.007,2,   0.000,2,   0.0000,2,  2323.8,2,  2417.5,2,   7.5732,2,    24.98,2, -999.00,9,  -999.0,9, -999.00,1, -999.00,1,       23.5,2, 20220512,      540,  30.0001, 147.2156,     1.4909,2,     -999.0,9,     -999.0,9,     -999.0,9,     -999.0,9,     0.0125,1,     0.0093,1,     -999.0,9,     -999.0,9,     -999.0,9
33RR20220430,        P02,      29,          2,          4,          4,2,20220512,       0507,    30.0001,   147.2155,       6221,  4681.7,2,   1.5032,2,  34.6864,2,  34.6857,2,    157.3,2,   157.3,2,  146.15,2,   35.71,2,    0.00,2,    2.43,2,   0.006,2,   0.000,2,   0.0000,2,  -999.0,9,  -999.0,9,-999.0000,9,  -999.00,9, -999.00,9,  -999.0,9, -999.00,9, -999.00,9,       22.6,2, 20220512,      532,  30.0001, 147.2155,     1.5030,2,     -999.0,9,     -999.0,9,     -999.0,9,     -999.0,9,     0.0122,1,     0.0095,1,     -999.0,9,     -999.0,9,     -999.0,9