BOTTLE,20230801CCHSIOCBG
EXPOCODE,SECT_ID,STNNBR,CASTNO,SAMPNO,BTLNBR,BTLNBR_FLAG_W,DATE,TIME,LATITUDE,LONGITUDE,DEPTH,CTDPRS,CTDPRS_FLAG_W,CTDTMP,CTDTMP_FLAG_W,CTDSAL,CTDSAL_FLAG_W,SALNTY,SALNTY_FLAG_W,CTDOXY,CTDOXY_FLAG_W,OXYGEN,OXYGEN_FLAG_W,SILCAT,SILCAT_FLAG_W,NITRAT,NITRAT_FLAG_W,NITRIT,NITRIT_FLAG_W,PHSPHT,PHSPHT_FLAG_W,CFC-11,CFC-11_FLAG_W,CFC-12,CFC-12_FLAG_W,SF6,SF6_FLAG_W,TCARBN,TCARBN_FLAG_W,ALKALI,ALKALI_FLAG_W,PH_TOT,PH_TOT_FLAG_W,PH_TMP,PH_TMP_FLAG_W,DELC13,DELC13_FLAG_W,DELC14,DELC14_FLAG_W,DOC,DOC_FLAG_W,TDN,TDN_FLAG_W,N2O,N2O_FLAG_W,BTL_DATE,BTL_TIME,BTL_LAT,BTL_LON,REFTMP,REFTMP_FLAG_W,POC,POC_FLAG_W,PON,PON_FLAG_W,POP,POP_FLAG_W,PCOD,PCOD_FLAG_W,CTDFLUOR,CTDFLUOR_FLAG_W,CTDXMISS,CTDXMISS_FLAG_W,HPLC,HPLC_FLAG_W,DNA,DNA_FLAG_W,FCM,FCM_FLAG_W
,,,,,,,,,,,METERS,DBAR,,ITS-90,,PSS-78,,PSS-78,,UMOL/KG,,UMOL/KG,,UMOL/KG,,UMOL/KG,,UMOL/KG,,UMOL/KG,,PMOL/KG,,PMOL/KG,,FMOL/KG,,UMOL/KG,,UMOL/KG,,,,DEG C,,/MILLE,,/MILLE,,UMOL/KG,,UMOL/KG,,NMOL/KG,,,,,,ITS-90,,UG/L,,UG/L,,UG/L,,UG/L,,VOLTS,,VOLTS,,,,,,,
33RR20220430,        P02,      57,          1,         36,         36,2,20220521,       1105,    29.9998,   165.1040,       5851,     3.3,2,  22.9391,2,  35.0981,2,  35.0872,2,    222.4,2,   222.1,2,    0.98,2,    0.02,2,    0.00,2,    0.00,2,   1.861,2,   1.154,2,   1.9624,2,  2026.5,2,  2301.0,2,   8.0063,2,    24.99,2, -999.00,9,  -999.0,9, -999.00,9, -999.00,9,        6.2,2, 20220521,     1324,  29.9998, 165.1040,    22.9976,3,     -999.0,9,     -999.0,9,     -999.0,9,     -999.0,9,     0.0146,1,     4.6319,1,     -999.0,9,     -999.0,9,     -999.0,9
33RR20220430,        P02,      57,          1,         35,         35,2,20220521,       1105,    29.9998,   165.1040,       5851,    25.2,2,  19.6251,2,  34.8515,2,  34.8430,2,    241.0,2,   241.3,2,    1.27,2,    0.01,2,    0.00,2,    0.00,2,   2.255,2,   1.326,2,   2.1807,2,  2020.5,2,  2286.2,2,   7.9931,2,    24.99,2, -999.00,9,  -999.0,9, -999.00,9, -999.00,9,        7.0,2, 20220521,     1322,  29.9998, 165.1040,    19.6228,2,     -999.0,9,     -999.0,9,     -999.0,9,     -999.0,9,     0.0150,1,     4.6330,1,     -999.0,9,     -999.0,9,     -999.0,9
33RR20220430,        P02,      57,          1,         34,         34,2,20220521,       1105,    29.9998,   165.1040,       5851,    51.2,2,  18.0087,2,  34.7767,2,  34.7705,2,    243.7,2,   242.9,2,    1.76,2,    0.00,2,    0.00,2,    0.00,2,   2.258,2,   1.317,2,   2.1977,2,  2021.4,2,  2281.0,2,   7.9836,2,    24.97,2, -999.00,9,  -999.0,9, -999.00,9, -999.00,9,        7.4,2, 20220521,     1320,  29.9998, 165.1040,    18.0054,2,     -999.0,9,     -999.0,9,     -999.0,9,     -999.0,9,     0.0220,1,     4.6091,1,     -999.0,9,     -999.0,9,     -999.0,9
33RR20220430,        P02,      57,          1,         33,         33,2,20220521,       1105,    29.9998,   165.1040,       5851,    76.2,2,  17.2748,2,  34.7341,2,  34.7290,2,    222.2,2,   222.9,2,    2.54,2,    2.15,2,    0.06,2,    0.15,2,   2.273,2,   1.356,2,   2.2005,2,  2037.3,2,  2278.0,2,   7.9472,2,    24.98,2, -999.00,9,  -999.0,9, -999.00,9, -999.00,9,        8.3,2, 20220521,     1318,  29.9998, 165.1040,    17.2719,2,     -999.0,9,     -999.0,9,     -999.0,9,     -999.0,9,     0.0558,1,     4.5890,1,     -999.0,9,     -999.0,9,     -999.0,9
33RR20220430,        P02,      57,          1,         32,         32,2,20220521,       1105,    29.9998,   165.1040,       5851,   101.3,2,  16.7955,2,  34.7030,2,  34.6967,2,    229.4,3,   224.9,2,    2.93,2,    2.77,2,    0.18,2,    0.20,2,   2.336,2,   1.394,2,   2.1002,2,  2039.2,2,  2276.3,2,   7.9386,2,    25.00,2, -999.00,9,  -999.0,9, -999.00,9, -999.00,9,        8.5,2, 20220521,     1316,  29.9998, 165.1040,    16.7971,2,     -999.0,9,     -999.0,9,     -999.0,9,     -999.0,9,     0.0390,1,     4.6280,1,     -999.0,9,     -999.0,9,     -999.0,9
33RR20220430,        P02,      57,          1,         31,         31,2,20220521,       1105,    29.9998,   165.1040,       5851,   151.2,2,  16.0571,2,  34.6497,2,  34.6439,2,    227.5,2,   227.2,2,    3.91,2,    4.00,2,    0.01,2,    0.26,2,   2.397,2,   1.391,2,   2.2172,2,  2045.3,2,  2273.3,2,   7.9247,2,    25.00,2, -999.00,9,  -999.0,9, -999.00,9, -999.00,9,        8.7,2, 20220521,     1314,  29.9998, 165.1040,    16.0569,2,     -999.0,9,     -999.0,9,     -999.0,9,     -999.0,9,     0.0159,1,     4.6790,1,     -999.0,9,     -999.0,9,     -999.0,9
33RR20220430,        P02,      57,          1,         30,         30,2,20220521,       1105,    29.9998,   165.1040,       5851,   201.3,2,  15.5718,2,  34.6362,2,  34.6240,2,    226.7,3,   223.1,2,    5.18,2,    5.30,2,    0.00,2,    0.34,2,   2.457,2,   1.420,2,   2.1391,2,  -999.0,9,  -999.0,9,-999.0000,9,  -999.00,9, -999.00,9,  -999.0,9, -999.00,9, -999.00,9,        9.3,2, 20220521,     1312,  29.9998, 165.1040,    15.5880,2,     -999.0,9,     -999.0,9,     -999.0,9,     -999.0,9,     0.0131,1,     4.6836,1,     -999.0,9,     -999.0,9,     -999.0,9
33RR20220430,        P02,      57,          1,         29,         29,2,20220521,       1105,    29.9998,   165.1040,       5851,   251.6,2,  15.4354,2,  34.6414,2,  34.6380,2,    232.8,2,   233.5,2,    4.89,2,    4.57,2,    0.00,2,    0.29,2,   2.457,2,   1.455,2,   2.3205,2,  2048.1,2,  2274.0,2,   7.9188,2,    25.00,2, -999.00,9,  -999.0,9, -999.00,9, -999.00,9,        8.6,2, 20220521,     1310,  29.9998, 165.1040,    15.4353,2,     -999.0,9,     -999.0,9,     -999.0,9,     -999.0,9,     0.0122,1,     4.6841,1,     -999.0,9,     -999.0,9,     -999.0,9
33RR20220430,        P02,      57,          1,         28,         28,2,20220521,       1105,    29.9998,   165.1040,       5851,   302.0,2,  14.9767,2,  34.5844,2,  34.5806,2,    220.0,2,   221.0,2,    6.84,2,    6.47,2,    0.00,2,    0.43,2,   2.492,2,   1.442,2,   2.1205,2,  -999.0,9,  -999.0,9,-999.0000,9,  -999.00,9, -999.00,9,  -999.0,9, -999.00,9, -999.00,9,        9.9,2, 20220521,     1308,  29.9998, 165.1040,    14.9712,2,     -999.0,9,     -999.0,9,     -999.0,9,     -999.0,9,     0.0122,1,     4.6883,1,     -999.0,9,     -999.0,9,     -999.0,9
33RR20220430,        P02,      57,          1,         27,         27,2,20220521,       1105,    29.9998,   165.1040,       5851,   352.4,2,  13.8147,2,  34.4798,2,  34.4652,2,    206.5,2,   205.2,2,   11.04,2,    9.99,2,    0.00,2,    0.67,2,   2.514,2,   1.490,2,   2.1231,2,  2085.6,2,  2269.9,2,   7.8332,2,    25.00,2, -999.00,9,  -999.0,9, -999.00,9, -999.00,9,       12.2,2, 20220521,     1306,  29.9998, 165.1040,    13.8082,2,     -999.0,9,     -999.0,9,     -999.0,9,     -999.0,9,     0.0122,1,     4.6914,1,     -999.0,9,     -999.0,9,     -999.0,9
33RR20220430,        P02,      57,          1,         26,         26,2,20220521,       1105,    29.9998,   165.1040,       5851,   410.0,2,  12.4692,2,  34.3740,2,  34.3719,2,    208.7,3,   211.4,2,   14.07,2,   11.47,2,    0.00,2,    0.78,2,   2.656,2,   1.575,2,   2.0870,2,  2096.7,2,  2269.3,2,   7.8080,2,    25.00,2, -999.00,9,  -999.0,9, -999.00,9, -999.00,9,       13.0,2, 20220521,     1304,  29.9998, 165.1040,    12.4590,2,     -999.0,9,     -999.0,9,     -999.0,9,     -999.0,9,     0.0122,1,     4.6922,1,     -999.0,9,     -999.0,9,     -999.0,9
33RR20220430,        P02,      57,          1,         25,         25,2,20220521,       1105,    29.9998,   165.1040,       5851,   511.3,2,   9.6313,2,  34.1482,2,  34.1468,2,    205.4,2,   206.3,2,   24.24,2,   16.70,2,    0.00,2,    1.17,2,   2.840,2,   1.685,2,   2.0639,2,  2130.3,2,  2268.7,2,   7.7210,2,    25.00,2, -999.00,9,  -999.0,9, -999.00,9, -999.00,9,       16.1,2, 20220521,     1302,  29.9998, 165.1040,     9.6395,2,     -999.0,9,     -999.0,9,     -999.0,9,     -999.0,9,     0.0122,1,     4.6961,1,     -999.0,9,     -999.0,9,     -999.0,9
33RR20220430,        P02,      57,          1,         24,         24,2,20220521,       1105,    29.9998,   165.1040,       5851,   612.2,2,   6.7317,2,  33.9931,2,  33.9916,2,    149.2,2,   148.9,2,   50.44,2,   27.58,2,    0.00,2,    1.96,2,   2.503,2,   1.465,2,   1.2318,2,  2206.2,2,  2280.1,2,   7.5473,2,    25.01,2, -999.00,9,  -999.0,9, -999.00,9, -999.00,9,       26.0,2, 20220521,     1259,  29.9996, 165.1041,     6.7251,2,     -999.0,9,     -999.0,9,     -999.0,9,     -999.0,9,     0.0129,1,     4.7024,1,     -999.0,9,     -999.0,9,     -999.0,9
33RR20220430,        P02,      57,          1,         23,         23,2,20220521,       1105,    29.9998,   165.1040,       5851,   712.3,2,   5.4208,2,  34.0214,2,  34.0258,2,    106.3,2,   105.3,2,   72.63,2,   33.88,2,    0.00,2,    2.41,2,   1.899,2,   1.119,2,   0.8670,2,  2257.5,2,  2297.8,2,   7.4442,2,    25.01,2, -999.00,9,  -999.0,9, -999.00,9, -999.00,9,       33.1,2, 20220521,     1256,  29.9997, 165.1041,     5.3982,2,     -999.0,9,     -999.0,9,     -999.0,9,     -999.0,9,     0.0131,1,     4.7017,1,     -999.0,9,     -999.0,9,     -999.0,9
33RR20220430,        P02,      57,          1,         22,         22,2,20220521,       1105,    29.9998,   165.1040,       5851,   813.4,2,   4.6381,2,  34.1133,2,  34.1136,2,     71.1,2,    71.5,2,   91.78,2,   37.96,2,    0.00,2,    2.71,2,   1.299,2,   0.724,2,   0.5384,2,  -999.0,9,  -999.0,9,-999.0000,9,  -999.00,9, -999.00,9,  -999.0,9, -999.00,9, -999.00,9,       39.3,2, 20220521,     1254,  29.9996, 165.1041,     4.6374,2,     -999.0,9,     -999.0,9,     -999.0,9,     -999.0,9,     0.0134,1,     4.7018,1,     -999.0,9,     -999.0,9,     -999.0,9
33RR20220430,        P02,      57,          1,         21,         21,2,20220521,       1105,    29.9998,   165.1040,       5851,   913.6,2,   4.0463,2,  34.2097,2,  34.2097,2,     48.4,2,    48.6,2,  109.08,2,   40.56,2,    0.00,2,    2.88,2,   0.747,6,   0.419,6,   0.2550,6,  2325.6,2,  2335.1,2,   7.3460,2,    25.01,2, -999.00,9,  -999.0,9, -999.00,9, -999.00,9,       44.2,6, 20220521,     1251,  29.9997, 165.1042,     4.0448,2,     -999.0,9,     -999.0,9,     -999.0,9,     -999.0,9,     0.0134,1,     4.7019,1,     -999.0,9,     -999.0,9,     -999.0,9
33RR20220430,        P02,      57,          1,         20,         20,2,20220521,       1105,    29.9998,   165.1040,       5851,  1014.4,2,   3.5984,2,  34.2879,2,  34.2885,2,     36.8,3,    38.9,2,  122.66,2,   41.92,2,    0.00,2,    2.99,2,   0.434,2,   0.248,2,   0.1990,2,  -999.0,9,  -999.0,9,-999.0000,9,  -999.00,9, -999.00,9,  -999.0,9, -999.00,9, -999.00,9,       47.2,2, 20220521,     1248,  29.9996, 165.1041,     3.5980,2,     -999.0,9,     -999.0,9,     -999.0,9,     -999.0,9,     0.0134,1,     4.7019,1,     -999.0,9,     -999.0,9,     -999.0,9
33RR20220430,        P02,      57,          1,         19,         19,2,20220521,       1105,    29.9998,   165.1040,       5851,  1116.7,2,   3.2744,2,  34.3576,2,  34.3574,2,     31.5,2,    31.8,2,  132.42,2,   42.87,2,    0.00,2,    3.05,2,   0.204,2,   0.112,2,   0.0000,2,  2362.4,2,  2365.2,2,   7.3287,2,    25.00,2, -999.00,9,  -999.0,9, -999.00,9, -999.00,9,       48.3,2, 20220521,     1245,  29.9996, 165.1041,     3.2734,2,     -999.0,9,     -999.0,9,     -999.0,9,     -999.0,9,     0.0134,1,     4.7029,1,     -999.0,9,     -999.0,9,     -999.0,9
33RR20220430,        P02,      57,          1,         18,         18,2,20220521,       1105,    29.9998,   165.1040,       5851,  1217.9,2,   3.0225,2,  34.4158,2,  34.4157,2,     31.3,2,    31.3,2,  140.53,2,   43.08,2,    0.00,2,    3.07,2,   0.092,2,   0.048,2,   0.0000,2,  2371.9,2,  2376.8,2,   7.3354,2,    25.00,2, -999.00,9,  -999.0,9, -999.00,9, -999.00,9,       47.0,2, 20220521,     1242,  29.9996, 165.1041,     3.0224,2,     -999.0,9,     -999.0,9,     -999.0,9,     -999.0,9,     0.0134,1,     4.7032,1,     -999.0,9,     -999.0,9,     -999.0,9
33RR20220430,        P02,      57,          1,         17,         17,2,20220521,       1105,    29.9998,   165.1040,       5851,  1319.0,2,   2.8330,2,  34.4520,2,  34.4530,2,     33.6,2,    33.9,2,  145.21,2,   43.11,2,    0.00,2,    3.07,2,-999.000,9,-999.000,9,-999.0000,9,  2376.4,6,  2383.8,2,   7.3442,2,    25.00,2, -999.00,9,  -999.0,9, -999.00,9, -999.00,9,     -999.0,9, 20220521,     1240,  29.9996, 165.1041,     2.8334,2,     -999.0,9,     -999.0,9,     -999.0,9,     -999.0,9,     0.0134,1,     4.7043,1,     -999.0,9,     -999.0,9,     -999.0,9
33RR20220430,        P02,      57,          1,         16,         16,2,20220521,       1105,    29.9998,   165.1040,       5851,  1421.3,2,   2.6227,2,  34.4873,2,  34.4875,2,     38.6,2,    38.9,2,  150.88,2,   43.20,2,    0.00,2,    3.05,2,   0.034,2,   0.018,2,   0.0000,2,  -999.0,9,  -999.0,9,-999.0000,9,  -999.00,9, -999.00,9,  -999.0,9, -999.00,9, -999.00,9,       44.1,2, 20220521,     1237,  29.9996, 165.1041,     2.6217,2,     -999.0,9,     -999.0,9,     -999.0,9,     -999.0,9,     0.0134,1,     4.7040,1,     -999.0,9,     -999.0,9,     -999.0,9
33RR20220430,        P02,      57,          1,         15,         15,2,20220521,       1105,    29.9998,   165.1040,       5851,  1623.0,2,   2.3236,2,  34.5400,2,  34.5413,2,     53.1,2,    52.9,2,  157.81,2,   42.12,2,    0.00,2,    3.00,2,-999.000,9,-999.000,9,-999.0000,9,  2376.5,2,  2400.2,2,   7.3866,2,    24.96,2, -999.00,9,  -999.0,9, -999.00,9, -999.00,9,     -999.0,9, 20220521,     1232,  29.9997, 165.1042,     2.3228,2,     -999.0,9,     -999.0,9,     -999.0,9,     -999.0,9,     0.0125,1,     4.7055,1,     -999.0,9,     -999.0,9,     -999.0,9
33RR20220430,        P02,      57,          1,         14,         14,2,20220521,       1105,    29.9998,   165.1040,       5851,  1824.9,2,   2.1149,2,  34.5721,2,  34.5734,2,     65.6,3,    66.3,2,  160.84,2,   41.27,2,    0.00,2,    2.91,2,   0.010,2,   0.000,2,   0.0000,2,  -999.0,9,  -999.0,9,-999.0000,9,  -999.00,9, -999.00,9,  -999.0,9, -999.00,9, -999.00,9,       35.6,2, 20220521,     1227,  29.9996, 165.1041,     2.1160,2,     -999.0,9,     -999.0,9,     -999.0,9,     -999.0,9,     0.0129,1,     4.7058,1,     -999.0,9,     -999.0,9,     -999.0,9
33RR20220430,        P02,      57,          1,         13,         13,2,20220521,       1105,    29.9998,   165.1040,       5851,  2028.9,2,   1.9407,2,  34.6002,2,  34.6016,2,     81.0,2,    80.7,2,  162.20,2,   40.35,2,    0.00,2,    2.86,2,-999.000,9,-999.000,9,-999.0000,9,  2366.4,2,  2408.8,2,   7.4427,2,    24.99,2, -999.00,9,  -999.0,9, -999.00,9, -999.00,9,     -999.0,9, 20220521,     1223,  29.9996, 165.1041,     1.9416,2,     -999.0,9,     -999.0,9,     -999.0,9,     -999.0,9,     0.0133,1,     4.7034,1,     -999.0,9,     -999.0,9,     -999.0,9
33RR20220430,        P02,      57,          1,         12,         12,2,20220521,       1105,    29.9998,   165.1040,       5851,  2283.0,2,   1.7823,2,  34.6255,2,  34.6258,2,     99.2,2,    99.3,2,  159.46,2,   39.21,2,    0.00,2,    2.77,2,   0.004,2,   0.000,2,   0.0000,2,  2356.7,2,  2409.1,2,   7.4774,2,    25.01,2, -999.00,9,  -999.0,9, -999.00,9, -999.00,9,       28.5,2, 20220521,     1218,  29.9996, 165.1042,     1.7827,2,     -999.0,9,     -999.0,9,     -999.0,9,     -999.0,9,     0.0125,1,     4.7056,1,     -999.0,9,     -999.0,9,     -999.0,9
33RR20220430,        P02,      57,          1,         11,         11,2,20220521,       1105,    29.9998,   165.1040,       5851,  2535.3,2,   1.6696,2,  34.6435,2,  34.6443,2,    114.2,2,   114.1,2,  156.72,2,   38.16,2,    0.00,2,    2.68,2,-999.000,9,-999.000,9,-999.0000,9,  2346.8,2,  2413.4,2,   7.5060,2,    25.00,2, -999.00,9,  -999.0,9, -999.00,9, -999.00,9,     -999.0,9, 20220521,     1212,  29.9996, 165.1041,     1.6687,2,     -999.0,9,     -999.0,9,     -999.0,9,     -999.0,9,     0.0127,1,     4.7067,1,     -999.0,9,     -999.0,9,     -999.0,9
33RR20220430,        P02,      57,          1,         10,         10,2,20220521,       1105,    29.9998,   165.1040,       5851,  2787.2,2,   1.6030,2,  34.6546,2,  34.6537,2,    123.8,2,   123.9,2,  154.57,2,   37.53,2,    0.00,2,    2.63,2,   0.005,2,   0.000,2,   0.0000,2,  -999.0,9,  -999.0,9,-999.0000,9,  -999.00,9, -999.00,9,  -999.0,9, -999.00,9, -999.00,9,       24.4,2, 20220521,     1207,  29.9996, 165.1041,     1.6029,2,     -999.0,9,     -999.0,9,     -999.0,9,     -999.0,9,     0.0129,1,     4.7080,1,     -999.0,9,     -999.0,9,     -999.0,9
33RR20220430,        P02,      57,          1,          9,          9,2,20220521,       1105,    29.9998,   165.1040,       5851,  3044.1,2,   1.5568,2,  34.6631,2,  34.6641,2,    131.8,2,   131.9,2,  153.11,2,   37.17,2,    0.00,2,    2.59,2,-999.000,9,-999.000,9,-999.0000,9,  2337.4,2,  2414.7,2,   7.5383,2,    24.99,2, -999.00,9,  -999.0,9, -999.00,9, -999.00,9,     -999.0,9, 20220521,     1202,  29.9997, 165.1041,     1.5567,2,     -999.0,9,     -999.0,9,     -999.0,9,     -999.0,9,     0.0122,1,     4.7084,1,     -999.0,9,     -999.0,9,     -999.0,9
33RR20220430,        P02,      57,          1,          8,          8,2,20220521,       1105,    29.9998,   165.1040,       5851,  3349.9,2,   1.5183,2,  34.6705,2,  34.6710,2,    139.5,2,   140.1,2,  151.44,2,   36.63,2,    0.00,2,    2.56,2,   0.005,2,   0.000,2,   0.0000,2,  -999.0,9,  -999.0,9,-999.0000,9,  -999.00,9, -999.00,9,  -999.0,9, -999.00,9, -999.00,9,       22.6,2, 20220521,     1156,  29.9997, 165.1041,     1.5183,2,     -999.0,9,     -999.0,9,     -999.0,9,     -999.0,9,     0.0122,1,     4.7091,1,     -999.0,9,     -999.0,9,     -999.0,9
33RR20220430,        P02,      57,          1,          7,          7,2,20220521,       1105,    29.9998,   165.1040,       5851,  3656.6,2,   1.4937,2,  34.6760,2,  34.6761,2,    145.7,2,   145.4,2,  150.17,2,   36.38,2,    0.00,2,    2.52,2,-999.000,9,-999.000,9,-999.0000,9,  2325.7,2,  2412.6,2,   7.5619,2,    25.00,2, -999.00,9,  -999.0,9, -999.00,9, -999.00,9,     -999.0,9, 20220521,     1149,  29.9996, 165.1041,     1.4938,2,     -999.0,9,     -999.0,9,     -999.0,9,     -999.0,9,     0.0128,1,     4.7071,1,     -999.0,9,     -999.0,9,     -999.0,9
33RR20220430,        P02,      57,          1,          6,          6,2,20220521,       1105,    29.9998,   165.1040,       5851,  4066.1,2,   1.4774,2,  34.6812,2,  34.6810,2,    151.6,2,   151.9,2,  148.71,2,   35.81,2,    0.00,2,    2.49,2,   0.004,2,   0.000,2,   0.0000,2,  -999.0,9,  -999.0,9,-999.0000,9,  -999.00,9, -999.00,9,  -999.0,9, -999.00,9, -999.00,9,       21.3,2, 20220521,     1141,  29.9996, 165.1041,     1.4772,2,     -999.0,9,     -999.0,9,     -999.0,9,     -999.0,9,     0.0122,1,     4.7083,1,     -999.0,9,     -999.0,9,     -999.0,9
33RR20220430,        P02,      57,          1,          5,          5,2,20220521,       1105,    29.9998,   165.1040,       5851,  4477.4,2,   1.4748,2,  34.6859,2,  34.6869,2,    158.0,2,   158.0,2,  145.38,2,   35.72,2,    0.00,2,    2.45,2,-999.000,9,-999.000,9,-999.0000,9,  2317.4,2,  2409.7,2,   7.5812,2,    24.99,2, -999.00,9,  -999.0,9, -999.00,9, -999.00,9,     -999.0,9, 20220521,     1134,  29.9996, 165.1041,     1.4748,2,     -999.0,9,     -999.0,9,     -999.0,9,     -999.0,9,     0.0122,1,     4.7075,1,     -999.0,9,     -999.0,9,     -999.0,9
33RR20220430,        P02,      57,          1,          4,          4,2,20220521,       1105,    29.9998,   165.1040,       5851,  4889.0,2,   1.4859,2,  34.6893,2,  34.6905,2,    163.7,2,   163.3,2,  142.26,2,   34.90,2,    0.00,2,    2.42,2,   0.006,2,   0.000,2,   0.0000,2,  -999.0,9,  -999.0,9,-999.0000,9,  -999.00,9, -999.00,9,  -999.0,9, -999.00,9, -999.00,9,       20.5,2, 20220521,     1126,  29.9996, 165.1041,     1.4860,2,     -999.0,9,     -999.0,9,     -999.0,9,     -999.0,9,     0.0122,1,     4.7084,1,     -999.0,9,     -999.0,9,     -999.0,9