BOTTLE,20230801CCHSIOCBG
EXPOCODE,SECT_ID,STNNBR,CASTNO,SAMPNO,BTLNBR,BTLNBR_FLAG_W,DATE,TIME,LATITUDE,LONGITUDE,DEPTH,CTDPRS,CTDPRS_FLAG_W,CTDTMP,CTDTMP_FLAG_W,CTDSAL,CTDSAL_FLAG_W,SALNTY,SALNTY_FLAG_W,CTDOXY,CTDOXY_FLAG_W,OXYGEN,OXYGEN_FLAG_W,SILCAT,SILCAT_FLAG_W,NITRAT,NITRAT_FLAG_W,NITRIT,NITRIT_FLAG_W,PHSPHT,PHSPHT_FLAG_W,CFC-11,CFC-11_FLAG_W,CFC-12,CFC-12_FLAG_W,SF6,SF6_FLAG_W,TCARBN,TCARBN_FLAG_W,ALKALI,ALKALI_FLAG_W,PH_TOT,PH_TOT_FLAG_W,PH_TMP,PH_TMP_FLAG_W,DELC13,DELC13_FLAG_W,DELC14,DELC14_FLAG_W,DOC,DOC_FLAG_W,TDN,TDN_FLAG_W,N2O,N2O_FLAG_W,BTL_DATE,BTL_TIME,BTL_LAT,BTL_LON,REFTMP,REFTMP_FLAG_W,POC,POC_FLAG_W,PON,PON_FLAG_W,POP,POP_FLAG_W,PCOD,PCOD_FLAG_W,CTDFLUOR,CTDFLUOR_FLAG_W,CTDXMISS,CTDXMISS_FLAG_W,HPLC,HPLC_FLAG_W,DNA,DNA_FLAG_W,FCM,FCM_FLAG_W
,,,,,,,,,,,METERS,DBAR,,ITS-90,,PSS-78,,PSS-78,,UMOL/KG,,UMOL/KG,,UMOL/KG,,UMOL/KG,,UMOL/KG,,UMOL/KG,,PMOL/KG,,PMOL/KG,,FMOL/KG,,UMOL/KG,,UMOL/KG,,,,DEG C,,/MILLE,,/MILLE,,UMOL/KG,,UMOL/KG,,NMOL/KG,,,,,,ITS-90,,UG/L,,UG/L,,UG/L,,UG/L,,VOLTS,,VOLTS,,,,,,,
33RR20220430,        P02,      45,          1,         36,         36,2,20220517,       1502,    30.0001,   157.9847,       5714,     3.6,2,  22.0040,2,  34.6818,2,  34.6985,2,    232.2,2,   229.9,2,    0.49,2,    0.02,2,    0.00,2,    0.00,2,   1.966,2,   1.221,2,   2.1953,2,  2013.9,2,  2277.6,2,   7.9855,2,    24.99,2, -999.00,9,  -999.0,9, -999.00,9, -999.00,9,        6.7,2, 20220517,     1715,  30.0001, 157.9847,    21.5395,3,     -999.0,9,     -999.0,9,     -999.0,9,     -999.0,9,     0.0152,1,     4.6193,1,     -999.0,9,     -999.0,9,     -999.0,9
33RR20220430,        P02,      45,          1,         35,         35,2,20220517,       1502,    30.0001,   157.9847,       5714,    25.7,2,  18.3154,2,  34.7314,2,  34.7274,2,    242.9,3,   246.0,2,    0.29,2,    0.00,2,    0.00,2,    0.01,2,   2.120,2,   1.327,2,   2.3279,2,  2015.0,2,  2279.6,2,   7.9886,2,    24.96,2, -999.00,9,  -999.0,9, -999.00,9, -999.00,9,        7.3,2, 20220517,     1713,  30.0001, 157.9847,    18.3474,2,     -999.0,9,     -999.0,9,     -999.0,9,     -999.0,9,     0.0170,1,     4.6190,1,     -999.0,9,     -999.0,9,     -999.0,9
33RR20220430,        P02,      45,          1,         34,         34,2,20220517,       1502,    30.0001,   157.9847,       5714,    50.8,2,  17.4970,2,  34.7415,2,  34.7355,2,    239.4,3,   242.7,2,    0.59,2,    0.10,2,    0.12,2,    0.05,2,   2.087,2,   1.324,2,   2.1745,2,  2023.0,2,  2280.8,2,   7.9794,2,    24.97,2, -999.00,9,  -999.0,9, -999.00,9, -999.00,9,        7.9,2, 20220517,     1711,  30.0001, 157.9847,    17.4960,2,     -999.0,9,     -999.0,9,     -999.0,9,     -999.0,9,     0.0490,1,     4.5914,1,     -999.0,9,     -999.0,9,     -999.0,9
33RR20220430,        P02,      45,          1,         33,         33,2,20220517,       1502,    30.0001,   157.9847,       5714,    75.5,2,  17.1094,2,  34.7206,2,  34.7123,2,    227.8,2,   228.8,2,    1.76,2,    2.34,2,    0.08,2,    0.18,2,   2.154,2,   1.349,2,   2.2818,2,  2034.0,2,  2279.6,2,   7.9525,2,    24.99,2, -999.00,9,  -999.0,9, -999.00,9, -999.00,9,        8.3,2, 20220517,     1709,  30.0001, 157.9848,    17.1054,2,     -999.0,9,     -999.0,9,     -999.0,9,     -999.0,9,     0.0298,1,     4.6347,1,     -999.0,9,     -999.0,9,     -999.0,9
33RR20220430,        P02,      45,          1,         32,         32,2,20220517,       1502,    30.0001,   157.9847,       5714,   101.7,2,  16.6765,2,  34.6933,2,  34.6891,2,    223.0,2,   223.5,2,    2.54,2,    3.53,2,    0.01,2,    0.23,2,   2.157,2,   1.382,2,   2.2375,2,  2041.5,2,  2276.8,2,   7.9357,2,    24.99,2, -999.00,9,  -999.0,9, -999.00,9, -999.00,9,        9.0,2, 20220517,     1708,  30.0001, 157.9847,    16.6763,2,     -999.0,9,     -999.0,9,     -999.0,9,     -999.0,9,     0.0195,1,     4.6698,1,     -999.0,9,     -999.0,9,     -999.0,9
33RR20220430,        P02,      45,          1,         31,         31,2,20220517,       1502,    30.0001,   157.9847,       5714,   151.6,2,  16.3139,2,  34.6842,2,  34.6806,2,    224.5,2,   225.1,2,    3.22,2,    4.09,2,    0.00,2,    0.27,2,   2.154,2,   1.375,2,   2.3679,2,  2040.8,2,  2279.7,2,   7.9321,2,    24.99,2, -999.00,9,  -999.0,9, -999.00,9, -999.00,9,        8.9,2, 20220517,     1706,  30.0002, 157.9847,    16.3137,2,     -999.0,9,     -999.0,9,     -999.0,9,     -999.0,9,     0.0128,1,     4.6837,1,     -999.0,9,     -999.0,9,     -999.0,9
33RR20220430,        P02,      45,          1,         30,         30,2,20220517,       1502,    30.0001,   157.9847,       5714,   202.0,2,  15.8906,2,  34.6678,2,  34.6651,2,    221.4,2,   221.7,2,    4.30,2,    5.04,2,    0.00,2,    0.33,2,   2.182,2,   1.387,2,   2.2949,2,  2048.1,2,  2276.4,2,   7.9185,2,    24.99,2, -999.00,9,  -999.0,9, -999.00,9, -999.00,9,        9.4,2, 20220517,     1704,  30.0002, 157.9847,    15.8910,2,     -999.0,9,     -999.0,9,     -999.0,9,     -999.0,9,     0.0122,1,     4.6836,1,     -999.0,9,     -999.0,9,     -999.0,9
33RR20220430,        P02,      45,          1,         29,         29,2,20220517,       1502,    30.0001,   157.9847,       5714,   252.1,2,  15.5555,2,  34.6443,2,  34.6400,2,    217.5,2,   217.7,2,    5.37,2,    6.04,2,    0.00,2,    0.39,2,   2.213,2,   1.402,2,   2.2999,2,  2057.0,2,  2278.0,2,   7.9042,2,    24.98,2, -999.00,9,  -999.0,9, -999.00,9, -999.00,9,       10.0,2, 20220517,     1702,  30.0001, 157.9847,    15.5545,2,     -999.0,9,     -999.0,9,     -999.0,9,     -999.0,9,     0.0122,1,     4.6860,1,     -999.0,9,     -999.0,9,     -999.0,9
33RR20220430,        P02,      45,          1,         28,         28,2,20220517,       1502,    30.0001,   157.9847,       5714,   302.6,2,  14.9549,2,  34.5771,2,  34.5726,2,    200.0,3,   197.5,2,    8.60,2,    8.92,2,    0.00,2,    0.57,2,   2.310,2,   1.423,2,   1.8823,2,  -999.0,9,  -999.0,9,-999.0000,9,  -999.00,9, -999.00,9,  -999.0,9, -999.00,9, -999.00,9,       12.0,2, 20220517,     1700,  30.0001, 157.9847,    14.9569,2,     -999.0,9,     -999.0,9,     -999.0,9,     -999.0,9,     0.0122,1,     4.6883,1,     -999.0,9,     -999.0,9,     -999.0,9
33RR20220430,        P02,      45,          1,         27,         27,2,20220517,       1502,    30.0001,   157.9847,       5714,   359.0,2,  13.8069,2,  34.4818,2,  34.4756,2,    200.9,3,   198.7,2,   11.53,2,   10.66,2,    0.00,2,    0.71,2,   2.370,2,   1.474,2,   1.8300,2,  2088.0,2,  2272.5,2,   7.8270,2,    24.98,2, -999.00,9,  -999.0,9, -999.00,9, -999.00,9,       13.1,2, 20220517,     1658,  30.0001, 157.9847,    13.8136,2,     -999.0,9,     -999.0,9,     -999.0,9,     -999.0,9,     0.0122,1,     4.6918,1,     -999.0,9,     -999.0,9,     -999.0,9
33RR20220430,        P02,      45,          1,         26,         26,2,20220517,       1502,    30.0001,   157.9847,       5714,   409.9,2,  12.3665,2,  34.3701,2,  34.3674,2,    195.4,2,   195.0,2,   15.83,2,   13.26,2,    0.00,2,    0.89,2,   2.489,2,   1.529,2,   1.7547,2,  -999.0,9,  -999.0,9,-999.0000,9,  -999.00,9, -999.00,9,  -999.0,9, -999.00,9, -999.00,9,       15.1,2, 20220517,     1657,  30.0001, 157.9847,    12.3728,2,     -999.0,9,     -999.0,9,     -999.0,9,     -999.0,9,     0.0122,1,     4.6940,1,     -999.0,9,     -999.0,9,     -999.0,9
33RR20220430,        P02,      45,          1,         25,         25,2,20220517,       1502,    30.0001,   157.9847,       5714,   511.1,2,   9.4927,2,  34.1392,2,  34.1375,2,    192.9,3,   195.3,2,   26.48,2,   18.05,2,    0.00,2,    1.25,2,   2.684,2,   1.623,2,   1.9647,2,  2143.4,2,  2272.0,2,   7.7021,2,    24.98,2, -999.00,9,  -999.0,9, -999.00,9, -999.00,9,       18.2,2, 20220517,     1654,  30.0001, 157.9847,     9.5237,2,     -999.0,9,     -999.0,9,     -999.0,9,     -999.0,9,     0.0122,1,     4.6991,1,     -999.0,9,     -999.0,9,     -999.0,9
33RR20220430,        P02,      45,          1,         24,         24,2,20220517,       1502,    30.0001,   157.9847,       5714,   612.3,2,   6.4968,2,  33.9569,2,  33.9579,2,    158.1,2,   158.5,2,   50.53,2,   27.12,2,    0.00,2,    1.92,2,   2.487,2,   1.530,2,   1.6361,2,  2203.3,2,  2279.8,2,   7.5508,2,    25.00,2, -999.00,9,  -999.0,9, -999.00,9, -999.00,9,       25.9,2, 20220517,     1651,  30.0002, 157.9847,     6.4970,2,     -999.0,9,     -999.0,9,     -999.0,9,     -999.0,9,     0.0122,1,     4.7009,1,     -999.0,9,     -999.0,9,     -999.0,9
33RR20220430,        P02,      45,          1,         23,         23,2,20220517,       1502,    30.0001,   157.9847,       5714,   712.8,2,   5.2875,2,  34.0253,2,  34.0290,2,    106.6,3,   103.8,2,   74.28,2,   34.04,2,    0.00,2,    2.41,2,   1.702,6,   1.017,6,   0.8434,6,  2261.4,2,  2299.4,2,   7.4393,2,    25.01,2, -999.00,9,  -999.0,9, -999.00,9, -999.00,9,       30.4,6, 20220517,     1649,  30.0002, 157.9847,     5.2891,2,     -999.0,9,     -999.0,9,     -999.0,9,     -999.0,9,     0.0125,1,     4.7022,1,     -999.0,9,     -999.0,9,     -999.0,9
33RR20220430,        P02,      45,          1,         22,         22,2,20220517,       1502,    30.0001,   157.9847,       5714,   813.8,2,   4.5356,2,  34.1342,2,  34.1346,2,     68.9,3,    67.9,2,   95.09,2,   38.24,2,    0.00,2,    2.71,2,   1.172,2,   0.689,2,   0.4873,2,  -999.0,9,  -999.0,9,-999.0000,9,  -999.00,9, -999.00,9,  -999.0,9, -999.00,9, -999.00,9,       40.9,2, 20220517,     1646,  30.0001, 157.9847,     4.5502,2,     -999.0,9,     -999.0,9,     -999.0,9,     -999.0,9,     0.0134,1,     4.7010,1,     -999.0,9,     -999.0,9,     -999.0,9
33RR20220430,        P02,      45,          1,         21,         21,2,20220517,       1502,    30.0001,   157.9847,       5714,   913.9,2,   3.9697,2,  34.2324,2,  34.2352,2,     47.6,3,    48.6,2,  112.18,2,   40.45,2,    0.00,2,    2.87,2,   0.676,2,   0.393,2,   0.2827,2,  2330.9,2,  2341.2,2,   7.3473,2,    25.00,2, -999.00,9,  -999.0,9, -999.00,9, -999.00,9,       45.6,2, 20220517,     1643,  30.0001, 157.9847,     3.9693,2,     -999.0,9,     -999.0,9,     -999.0,9,     -999.0,9,     0.0134,1,     4.7017,1,     -999.0,9,     -999.0,9,     -999.0,9
33RR20220430,        P02,      45,          1,         20,         20,2,20220517,       1502,    30.0001,   157.9847,       5714,  1015.1,2,   3.5317,2,  34.3043,2,  34.3062,2,     35.8,3,    37.9,2,  124.78,2,   41.88,2,    0.00,2,    2.97,2,   0.368,2,   0.218,2,   0.1614,2,  2352.4,2,  2357.9,2,   7.3350,2,    24.98,2, -999.00,9,  -999.0,9, -999.00,9, -999.00,9,       47.9,2, 20220517,     1641,  30.0001, 157.9847,     3.5317,2,     -999.0,9,     -999.0,9,     -999.0,9,     -999.0,9,     0.0134,1,     4.7028,1,     -999.0,9,     -999.0,9,     -999.0,9
33RR20220430,        P02,      45,          1,         19,         19,4,20220517,       1502,    30.0001,   157.9847,       5714,  1115.8,3,   3.1933,3,  34.3645,3,  34.1411,3,     32.8,3,   195.6,3,   26.38,3,   18.05,3,    0.00,3,    1.25,3,-999.000,9,-999.000,9,-999.0000,9,  -999.0,9,  -999.0,9,-999.0000,9,  -999.00,9, -999.00,9,  -999.0,9, -999.00,9, -999.00,9,     -999.0,9, 20220517,     1638,  30.0001, 157.9847,     3.1937,3,     -999.0,9,     -999.0,9,     -999.0,9,     -999.0,9,     0.0134,1,     4.7025,1,     -999.0,9,     -999.0,9,     -999.0,9
33RR20220430,        P02,      45,          1,         18,         18,2,20220517,       1502,    30.0001,   157.9847,       5714,  1217.2,2,   2.8867,2,  34.4172,2,  34.4180,2,     33.6,3,    35.2,2,  144.41,2,   42.75,2,    0.00,2,    3.03,2,   0.134,2,   0.072,2,   0.0000,2,  2369.7,6,  2378.8,2,   7.3396,2,    25.01,2, -999.00,9,  -999.0,9, -999.00,9, -999.00,9,       46.7,2, 20220517,     1635,  30.0001, 157.9847,     2.8876,2,     -999.0,9,     -999.0,9,     -999.0,9,     -999.0,9,     0.0134,1,     4.7031,1,     -999.0,9,     -999.0,9,     -999.0,9
33RR20220430,        P02,      45,          1,         17,         17,2,20220517,       1502,    30.0001,   157.9847,       5714,  1319.5,2,   2.7147,2,  34.4488,2,  34.4516,2,     35.4,2,    35.5,2,  148.31,2,   42.77,2,    0.00,2,    3.02,2,   0.086,2,   0.048,2,   0.0000,2,  2375.6,2,  2386.4,2,   7.3467,2,    25.01,2, -999.00,9,  -999.0,9, -999.00,9, -999.00,9,       46.3,2, 20220517,     1633,  30.0002, 157.9847,     2.7130,2,     -999.0,9,     -999.0,9,     -999.0,9,     -999.0,9,     0.0134,1,     4.7032,1,     -999.0,9,     -999.0,9,     -999.0,9
33RR20220430,        P02,      45,          1,         16,         16,2,20220517,       1502,    30.0001,   157.9847,       5714,  1421.2,2,   2.5811,2,  34.4895,2,  34.4919,2,     40.3,3,    41.4,2,  151.04,2,   42.66,2,    0.00,2,    3.01,2,   0.036,2,   0.020,2,   0.0000,2,  -999.0,9,  -999.0,9,-999.0000,9,  -999.00,9, -999.00,9,  -999.0,9, -999.00,9, -999.00,9,       43.8,2, 20220517,     1630,  30.0001, 157.9847,     2.5808,2,     -999.0,9,     -999.0,9,     -999.0,9,     -999.0,9,     0.0134,1,     4.7055,1,     -999.0,9,     -999.0,9,     -999.0,9
33RR20220430,        P02,      45,          1,         15,         15,2,20220517,       1502,    30.0001,   157.9847,       5714,  1623.1,2,   2.2802,2,  34.5381,2,  34.5398,2,     51.6,2,    51.5,2,  158.56,2,   42.19,2,    0.00,2,    2.96,2,   0.016,2,   0.009,2,   0.0000,2,  2378.9,2,  2401.0,2,   7.3833,2,    25.00,2, -999.00,9,  -999.0,9, -999.00,9, -999.00,9,       40.2,2, 20220517,     1626,  30.0002, 157.9847,     2.2798,2,     -999.0,9,     -999.0,9,     -999.0,9,     -999.0,9,     0.0134,1,     4.7066,1,     -999.0,9,     -999.0,9,     -999.0,9
33RR20220430,        P02,      45,          1,         14,         14,2,20220517,       1502,    30.0001,   157.9847,       5714,  1825.0,2,   2.0850,2,  34.5780,2,  34.5794,2,     72.7,2,    72.1,2,  159.24,2,   40.86,2,    0.00,2,    2.85,2,-999.000,9,-999.000,9,-999.0000,9,  -999.0,9,  -999.0,9,-999.0000,9,  -999.00,9, -999.00,9,  -999.0,9, -999.00,9, -999.00,9,     -999.0,9, 20220517,     1621,  30.0001, 157.9847,     2.0861,2,     -999.0,9,     -999.0,9,     -999.0,9,     -999.0,9,     0.0122,1,     4.7079,1,     -999.0,9,     -999.0,9,     -999.0,9
33RR20220430,        P02,      45,          1,         13,         13,2,20220517,       1502,    30.0001,   157.9847,       5714,  2028.5,2,   1.8895,2,  34.6013,2,  34.6016,2,     80.5,3,    79.6,2,  162.75,2,   40.62,2,    0.00,2,    2.84,2,   0.007,2,   0.000,2,   0.0000,2,  2370.3,2,  2410.8,2,   7.4396,2,    25.00,2, -999.00,9,  -999.0,9, -999.00,9, -999.00,9,       33.3,2, 20220517,     1617,  30.0001, 157.9847,     1.8901,2,     -999.0,9,     -999.0,9,     -999.0,9,     -999.0,9,     0.0134,1,     4.7068,1,     -999.0,9,     -999.0,9,     -999.0,9
33RR20220430,        P02,      45,          1,         12,         12,2,20220517,       1502,    30.0001,   157.9847,       5714,  2282.7,2,   1.7645,2,  34.6292,2,  34.6289,2,    105.0,2,   104.8,2,  157.18,2,   38.98,2,    0.00,2,    2.71,2,-999.000,9,-999.000,9,-999.0000,9,  -999.0,9,  -999.0,9,-999.0000,9,  -999.00,9, -999.00,9,  -999.0,9, -999.00,9, -999.00,9,     -999.0,9, 20220517,     1612,  30.0001, 157.9847,     1.7645,2,     -999.0,9,     -999.0,9,     -999.0,9,     -999.0,9,     0.0134,1,     4.7081,1,     -999.0,9,     -999.0,9,     -999.0,9
33RR20220430,        P02,      45,          1,         11,         11,2,20220517,       1502,    30.0001,   157.9847,       5714,  2536.0,2,   1.6616,2,  34.6450,2,  34.6468,2,    117.1,2,   116.8,2,  155.91,2,   38.18,2,    0.00,2,    2.63,2,   0.005,2,   0.000,2,   0.0000,2,  2346.0,2,  2415.7,2,   7.5106,2,    25.00,2, -999.00,9,  -999.0,9, -999.00,9, -999.00,9,       27.5,2, 20220517,     1607,  30.0001, 157.9847,     1.6617,2,     -999.0,9,     -999.0,9,     -999.0,9,     -999.0,9,     0.0123,1,     4.7093,1,     -999.0,9,     -999.0,9,     -999.0,9
33RR20220430,        P02,      45,          1,         10,         10,2,20220517,       1502,    30.0001,   157.9847,       5714,  2791.1,2,   1.5824,2,  34.6565,2,  34.6578,2,    125.3,2,   124.9,2,  155.32,2,   37.62,2,    0.00,2,    2.60,2,-999.000,9,-999.000,9,-999.0000,9,  -999.0,9,  -999.0,9,-999.0000,9,  -999.00,9, -999.00,9,  -999.0,9, -999.00,9, -999.00,9,     -999.0,9, 20220517,     1602,  30.0002, 157.9847,     1.5825,2,     -999.0,9,     -999.0,9,     -999.0,9,     -999.0,9,     0.0125,1,     4.7085,1,     -999.0,9,     -999.0,9,     -999.0,9
33RR20220430,        P02,      45,          1,          9,          9,2,20220517,       1502,    30.0001,   157.9847,       5714,  3047.0,2,   1.5357,2,  34.6654,2,  34.6659,2,    134.6,2,   135.2,2,  152.39,2,   36.96,2,    0.00,2,    2.54,2,   0.005,2,   0.000,2,   0.0000,2,  2335.0,2,  2416.5,2,   7.5441,2,    25.01,2, -999.00,9,  -999.0,9, -999.00,9, -999.00,9,       24.6,2, 20220517,     1556,  30.0002, 157.9847,     1.5357,2,     -999.0,9,     -999.0,9,     -999.0,9,     -999.0,9,     0.0124,1,     4.7095,1,     -999.0,9,     -999.0,9,     -999.0,9
33RR20220430,        P02,      45,          1,          8,          8,2,20220517,       1502,    30.0001,   157.9847,       5714,  3352.5,2,   1.4940,2,  34.6724,2,  34.6730,2,    140.8,2,   141.5,2,  151.51,2,   36.47,2,    0.00,2,    2.51,2,-999.000,9,-999.000,9,-999.0000,9,  -999.0,9,  -999.0,9,-999.0000,9,  -999.00,9, -999.00,9,  -999.0,9, -999.00,9, -999.00,9,     -999.0,9, 20220517,     1550,  30.0002, 157.9847,     1.4939,2,     -999.0,9,     -999.0,9,     -999.0,9,     -999.0,9,     0.0129,1,     4.7096,1,     -999.0,9,     -999.0,9,     -999.0,9
33RR20220430,        P02,      45,          1,          7,          7,2,20220517,       1502,    30.0001,   157.9847,       5714,  3660.0,2,   1.4645,2,  34.6777,2,  34.6779,2,    146.0,2,   146.3,2,  151.80,2,   36.19,2,    0.00,2,    2.49,2,   0.004,2,   0.000,2,   0.0000,2,  2326.0,2,  2415.0,2,   7.5633,2,    25.04,2, -999.00,9,  -999.0,9, -999.00,9, -999.00,9,       23.1,2, 20220517,     1544,  30.0002, 157.9848,     1.4645,2,     -999.0,9,     -999.0,9,     -999.0,9,     -999.0,9,     0.0121,1,     4.7082,1,     -999.0,9,     -999.0,9,     -999.0,9
33RR20220430,        P02,      45,          1,          6,          6,2,20220517,       1502,    30.0001,   157.9847,       5714,  3965.1,2,   1.4560,2,  34.6819,2,  34.6822,2,    151.2,2,   152.0,2,  150.14,2,   35.86,2,    0.00,2,    2.47,2,-999.000,9,-999.000,9,-999.0000,9,  -999.0,9,  -999.0,9,-999.0000,9,  -999.00,9, -999.00,9,  -999.0,9, -999.00,9, -999.00,9,     -999.0,9, 20220517,     1538,  30.0002, 157.9847,     1.4561,2,     -999.0,9,     -999.0,9,     -999.0,9,     -999.0,9,     0.0122,1,     4.7079,1,     -999.0,9,     -999.0,9,     -999.0,9
33RR20220430,        P02,      45,          1,          5,          5,2,20220517,       1502,    30.0001,   157.9847,       5714,  4376.9,2,   1.4668,2,  34.6855,2,  34.6863,2,    156.8,2,   156.6,2,  147.31,2,   35.59,2,    0.00,2,    2.43,2,   0.007,2,   0.000,2,   0.0000,2,  2316.0,2,  2413.9,2,   7.5796,2,    25.03,2, -999.00,9,  -999.0,9, -999.00,9, -999.00,9,       22.2,2, 20220517,     1530,  30.0001, 157.9847,     1.4667,2,     -999.0,9,     -999.0,9,     -999.0,9,     -999.0,9,     0.0122,1,     4.7087,1,     -999.0,9,     -999.0,9,     -999.0,9
33RR20220430,        P02,      45,          1,          4,          4,2,20220517,       1502,    30.0001,   157.9847,       5714,  4889.6,2,   1.4826,2,  34.6897,2,  34.6891,2,    163.8,2,   163.7,2,  143.01,2,   35.22,2,    0.00,2,    2.40,2,-999.000,9,-999.000,9,-999.0000,9,  2311.6,2,  2411.1,2,   7.5882,2,    24.93,2, -999.00,9,  -999.0,9, -999.00,9, -999.00,9,     -999.0,9, 20220517,     1521,  30.0001, 157.9847,     1.4827,2,     -999.0,9,     -999.0,9,     -999.0,9,     -999.0,9,     0.0122,1,     4.7082,1,     -999.0,9,     -999.0,9,     -999.0,9