BOTTLE,20230801CCHSIOCBG
EXPOCODE,SECT_ID,STNNBR,CASTNO,SAMPNO,BTLNBR,BTLNBR_FLAG_W,DATE,TIME,LATITUDE,LONGITUDE,DEPTH,CTDPRS,CTDPRS_FLAG_W,CTDTMP,CTDTMP_FLAG_W,CTDSAL,CTDSAL_FLAG_W,SALNTY,SALNTY_FLAG_W,CTDOXY,CTDOXY_FLAG_W,OXYGEN,OXYGEN_FLAG_W,SILCAT,SILCAT_FLAG_W,NITRAT,NITRAT_FLAG_W,NITRIT,NITRIT_FLAG_W,PHSPHT,PHSPHT_FLAG_W,CFC-11,CFC-11_FLAG_W,CFC-12,CFC-12_FLAG_W,SF6,SF6_FLAG_W,TCARBN,TCARBN_FLAG_W,ALKALI,ALKALI_FLAG_W,PH_TOT,PH_TOT_FLAG_W,PH_TMP,PH_TMP_FLAG_W,DELC13,DELC13_FLAG_W,DELC14,DELC14_FLAG_W,DOC,DOC_FLAG_W,TDN,TDN_FLAG_W,N2O,N2O_FLAG_W,BTL_DATE,BTL_TIME,BTL_LAT,BTL_LON,REFTMP,REFTMP_FLAG_W,POC,POC_FLAG_W,PON,PON_FLAG_W,POP,POP_FLAG_W,PCOD,PCOD_FLAG_W,CTDFLUOR,CTDFLUOR_FLAG_W,CTDXMISS,CTDXMISS_FLAG_W,HPLC,HPLC_FLAG_W,DNA,DNA_FLAG_W,FCM,FCM_FLAG_W
,,,,,,,,,,,METERS,DBAR,,ITS-90,,PSS-78,,PSS-78,,UMOL/KG,,UMOL/KG,,UMOL/KG,,UMOL/KG,,UMOL/KG,,UMOL/KG,,PMOL/KG,,PMOL/KG,,FMOL/KG,,UMOL/KG,,UMOL/KG,,,,DEG C,,/MILLE,,/MILLE,,UMOL/KG,,UMOL/KG,,NMOL/KG,,,,,,ITS-90,,UG/L,,UG/L,,UG/L,,UG/L,,VOLTS,,VOLTS,,,,,,,
33RR20220430,        P02,     108,          1,          3,          3,2,20220605,       1600,    30.0003,  -166.4060,       5480,  4994.5,2,   1.5357,2,  34.6861,3,  34.6838,2,    154.3,2,   154.2,2,  153.36,2,   36.00,2,    0.00,2,    2.47,2,   0.007,2,   0.000,2,   0.0000,2,  2324.2,6,  2418.5,2,   7.5810,2,    25.02,2, -999.00,9,  -999.0,9, -999.00,1, -999.00,1,       21.5,2, 20220605,     1612,  30.0003,-166.4059,     1.5359,2,     -999.0,9,     -999.0,9,     -999.0,9,     -999.0,9,     0.0131,1,     4.7050,1,     -999.0,9,     -999.0,9,     -999.0,9
33RR20220430,        P02,     108,          1,          2,          2,2,20220605,       1600,    30.0003,  -166.4060,       5480,  5302.8,2,   1.5616,2,  34.6873,2,  34.6857,2,    157.3,2,   157.6,2,  149.55,2,   35.78,2,    0.00,2,    2.46,2,   0.007,2,   0.000,2,   0.0000,2,  2323.0,2,  2416.6,2,   7.5838,2,    25.01,2, -999.00,9,  -999.0,9, -999.00,9, -999.00,9,       21.7,2, 20220605,     1606,  30.0003,-166.4059,     1.5617,2,     -999.0,9,     -999.0,9,     -999.0,9,     -999.0,9,     0.0122,1,     4.7045,1,     -999.0,9,     -999.0,9,     -999.0,9
33RR20220430,        P02,     108,          1,          1,          1,2,20220605,       1600,    30.0003,  -166.4060,       5480,  5576.9,2,   1.5853,2,  34.6882,2,  34.6867,2,    160.0,2,   159.9,2,  146.91,2,   35.54,2,    0.00,2,    2.44,2,   0.009,2,   0.000,2,   0.0000,2,  2319.3,2,  2412.7,2,   7.5874,2,    25.00,2, -999.00,9,  -999.0,9, -999.00,1, -999.00,1,       21.4,2, 20220605,     1600,  30.0003,-166.4059,     1.5855,2,     -999.0,9,     -999.0,9,     -999.0,9,     -999.0,9,     0.0122,1,     4.7012,1,     -999.0,9,     -999.0,9,     -999.0,9