BOTTLE,20230801CCHSIOCBG
EXPOCODE,SECT_ID,STNNBR,CASTNO,SAMPNO,BTLNBR,BTLNBR_FLAG_W,DATE,TIME,LATITUDE,LONGITUDE,DEPTH,CTDPRS,CTDPRS_FLAG_W,CTDTMP,CTDTMP_FLAG_W,CTDSAL,CTDSAL_FLAG_W,SALNTY,SALNTY_FLAG_W,CTDOXY,CTDOXY_FLAG_W,OXYGEN,OXYGEN_FLAG_W,SILCAT,SILCAT_FLAG_W,NITRAT,NITRAT_FLAG_W,NITRIT,NITRIT_FLAG_W,PHSPHT,PHSPHT_FLAG_W,CFC-11,CFC-11_FLAG_W,CFC-12,CFC-12_FLAG_W,SF6,SF6_FLAG_W,TCARBN,TCARBN_FLAG_W,ALKALI,ALKALI_FLAG_W,PH_TOT,PH_TOT_FLAG_W,PH_TMP,PH_TMP_FLAG_W,DELC13,DELC13_FLAG_W,DELC14,DELC14_FLAG_W,DOC,DOC_FLAG_W,TDN,TDN_FLAG_W,N2O,N2O_FLAG_W,BTL_DATE,BTL_TIME,BTL_LAT,BTL_LON,REFTMP,REFTMP_FLAG_W,POC,POC_FLAG_W,PON,PON_FLAG_W,POP,POP_FLAG_W,PCOD,PCOD_FLAG_W,CTDFLUOR,CTDFLUOR_FLAG_W,CTDXMISS,CTDXMISS_FLAG_W,HPLC,HPLC_FLAG_W,DNA,DNA_FLAG_W,FCM,FCM_FLAG_W
,,,,,,,,,,,METERS,DBAR,,ITS-90,,PSS-78,,PSS-78,,UMOL/KG,,UMOL/KG,,UMOL/KG,,UMOL/KG,,UMOL/KG,,UMOL/KG,,PMOL/KG,,PMOL/KG,,FMOL/KG,,UMOL/KG,,UMOL/KG,,,,DEG C,,/MILLE,,/MILLE,,UMOL/KG,,UMOL/KG,,NMOL/KG,,,,,,ITS-90,,UG/L,,UG/L,,UG/L,,UG/L,,VOLTS,,VOLTS,,,,,,,
33RR20220430,        P02,     101,          2,         36,         36,2,20220603,       1344,    30.0004,  -170.4455,       5402,     4.6,2,  23.7825,2,  35.1777,2,  35.1620,2,    214.8,2,   215.0,2,    0.98,2,    0.02,2,    0.00,2,    0.00,2,   1.581,2,   1.058,2,   1.8555,2,  2019.0,2,  2312.1,2,   8.0254,2,    25.02,2, -999.00,9,  -999.0,9, -999.00,9, -999.00,9,        7.2,2, 20220603,     1550,  30.0004,-170.4455,    23.7805,2,     -999.0,9,     -999.0,9,     -999.0,9,     -999.0,9,     0.0134,1,     4.6415,1,     -999.0,9,     -999.0,9,     -999.0,9
33RR20220430,        P02,     101,          2,         35,         35,2,20220603,       1344,    30.0004,  -170.4455,       5402,    21.2,2,  23.5203,2,  35.1943,2,  35.1807,2,    216.0,2,   216.2,2,    0.98,2,    0.02,2,    0.00,2,    0.00,2,   1.595,2,   1.062,2,   1.8760,2,  2019.5,6,  2309.3,2,   8.0267,2,    25.05,2, -999.00,9,  -999.0,9, -999.00,9, -999.00,9,        7.3,2, 20220603,     1549,  30.0004,-170.4455,    23.5210,2,     -999.0,9,     -999.0,9,     -999.0,9,     -999.0,9,     0.0143,1,     4.6419,1,     -999.0,9,     -999.0,9,     -999.0,9
33RR20220430,        P02,     101,          2,         34,         34,2,20220603,       1344,    30.0004,  -170.4455,       5402,    41.3,2,  22.7547,2,  35.1803,2,  35.1671,2,    219.1,2,   218.9,2,    0.98,2,    0.00,2,    0.00,2,    0.00,2,   1.639,2,   1.087,2,   1.8849,2,  2017.3,2,  2308.8,2,   8.0237,2,    25.04,2, -999.00,9,  -999.0,9, -999.00,9, -999.00,9,        7.3,2, 20220603,     1547,  30.0004,-170.4455,    22.7603,2,     -999.0,9,     -999.0,9,     -999.0,9,     -999.0,9,     0.0137,1,     4.6381,1,     -999.0,9,     -999.0,9,     -999.0,9
33RR20220430,        P02,     101,          2,         33,         33,2,20220603,       1344,    30.0004,  -170.4455,       5402,    66.7,2,  20.7214,2,  35.0582,2,  35.0429,2,    225.5,2,   225.3,2,    1.27,2,    0.00,2,    0.00,2,    0.01,2,   1.807,2,   1.211,2,   1.9959,2,  2026.1,2,  2301.7,2,   7.9993,2,    25.02,2, -999.00,9,  -999.0,9, -999.00,9, -999.00,9,        7.9,2, 20220603,     1546,  30.0004,-170.4455,    20.7129,2,     -999.0,9,     -999.0,9,     -999.0,9,     -999.0,9,     0.0147,1,     4.6444,1,     -999.0,9,     -999.0,9,     -999.0,9
33RR20220430,        P02,     101,          2,         32,         32,2,20220603,       1344,    30.0004,  -170.4455,       5402,    91.5,2,  19.4271,2,  34.9901,3,  34.9699,2,    215.1,2,   216.0,2,    1.76,2,    0.27,2,    0.04,2,    0.06,2,   1.911,2,   1.224,2,   2.0563,2,  2044.4,2,  2297.0,2,   7.9638,2,    25.02,2, -999.00,9,  -999.0,9, -999.00,9, -999.00,9,        8.6,2, 20220603,     1544,  30.0004,-170.4456,    19.4143,2,     -999.0,9,     -999.0,9,     -999.0,9,     -999.0,9,     0.0449,1,     4.6253,1,     -999.0,9,     -999.0,9,     -999.0,9
33RR20220430,        P02,     101,          2,         31,         31,2,20220603,       1344,    30.0004,  -170.4455,       5402,   136.4,2,  17.8106,2,  34.7643,2,  34.7480,2,    218.4,2,   217.4,2,    2.83,2,    1.53,2,    0.03,2,    0.15,2,   2.073,2,   1.324,2,   2.2619,2,  2049.1,2,  2280.2,2,   7.9344,2,    25.03,2, -999.00,9,  -999.0,9, -999.00,9, -999.00,9,        9.3,2, 20220603,     1542,  30.0004,-170.4455,    17.8138,2,     -999.0,9,     -999.0,9,     -999.0,9,     -999.0,9,     0.0220,1,     4.6690,1,     -999.0,9,     -999.0,9,     -999.0,9
33RR20220430,        P02,     101,          2,         30,         30,2,20220603,       1344,    30.0004,  -170.4455,       5402,   186.6,2,  16.0317,2,  34.6077,2,  34.5967,2,    208.3,2,   208.2,2,    4.69,2,    4.73,2,    0.01,2,    0.37,2,   2.260,2,   1.443,2,   1.8629,2,  -999.0,9,  -999.0,9,-999.0000,9,  -999.00,9, -999.00,9,  -999.0,9, -999.00,9, -999.00,9,       10.4,2, 20220603,     1540,  30.0004,-170.4455,    16.0331,2,     -999.0,9,     -999.0,9,     -999.0,9,     -999.0,9,     0.0134,1,     4.6836,1,     -999.0,9,     -999.0,9,     -999.0,9
33RR20220430,        P02,     101,          2,         29,         29,2,20220603,       1344,    30.0004,  -170.4455,       5402,   236.7,2,  14.6692,2,  34.4913,2,  34.4830,2,    211.0,2,   210.8,2,    6.74,2,    6.90,2,    0.00,2,    0.51,2,   2.375,2,   1.544,2,   2.0922,2,  2075.1,2,  2267.4,2,   7.8548,2,    25.02,2, -999.00,9,  -999.0,9, -999.00,9, -999.00,9,       12.7,2, 20220603,     1538,  30.0004,-170.4455,    14.6802,2,     -999.0,9,     -999.0,9,     -999.0,9,     -999.0,9,     0.0122,1,     4.6881,1,     -999.0,9,     -999.0,9,     -999.0,9
33RR20220430,        P02,     101,          2,         28,         28,2,20220603,       1344,    30.0004,  -170.4455,       5402,   287.3,2,  13.2497,2,  34.3797,2,  34.3713,2,    212.7,2,   212.7,2,    9.48,2,    9.26,2,    0.00,2,    0.66,2,   2.511,2,   1.573,2,   2.1096,2,  -999.0,9,  -999.0,9,-999.0000,9,  -999.00,9, -999.00,9,  -999.0,9, -999.00,9, -999.00,9,       14.6,2, 20220603,     1537,  30.0004,-170.4455,    13.2633,2,     -999.0,9,     -999.0,9,     -999.0,9,     -999.0,9,     0.0114,1,     4.6913,1,     -999.0,9,     -999.0,9,     -999.0,9
33RR20220430,        P02,     101,          2,         27,         27,2,20220603,       1344,    30.0004,  -170.4455,       5402,   338.2,2,  12.0572,2,  34.2859,2,  34.2725,2,    209.8,2,   209.9,2,   12.80,2,   11.90,2,    0.00,2,    0.85,2,   2.659,2,   1.651,2,   2.0062,2,  2102.9,2,  2260.6,2,   7.7850,2,    25.02,2, -999.00,9,  -999.0,9, -999.00,9, -999.00,9,       15.9,2, 20220603,     1535,  30.0004,-170.4455,    12.0036,2,     -999.0,9,     -999.0,9,     -999.0,9,     -999.0,9,     0.0122,1,     4.6935,1,     -999.0,9,     -999.0,9,     -999.0,9
33RR20220430,        P02,     101,          2,         26,         26,2,20220603,       1344,    30.0004,  -170.4455,       5402,   388.9,2,  11.0165,2,  34.2066,2,  34.2064,2,    206.8,2,   208.1,2,   15.93,2,   13.94,2,    0.00,2,    0.99,2,   2.770,2,   1.710,2,   1.9777,2,  -999.0,9,  -999.0,9,-999.0000,9,  -999.00,9, -999.00,9,  -999.0,9, -999.00,9, -999.00,9,       17.3,2, 20220603,     1533,  30.0004,-170.4455,    11.0316,2,     -999.0,9,     -999.0,9,     -999.0,9,     -999.0,9,     0.0122,1,     4.6950,1,     -999.0,9,     -999.0,9,     -999.0,9
33RR20220430,        P02,     101,          2,         25,         25,2,20220603,       1344,    30.0004,  -170.4455,       5402,   468.9,2,   9.3913,2,  34.0986,2,  34.0909,2,    188.5,2,   188.2,2,   25.80,2,   19.27,2,    0.00,2,    1.37,2,   2.753,2,   1.737,2,   1.6424,2,  2146.9,2,  2264.2,2,   7.6790,2,    25.03,2, -999.00,9,  -999.0,9, -999.00,9, -999.00,9,       21.6,2, 20220603,     1531,  30.0004,-170.4455,     9.3671,2,     -999.0,9,     -999.0,9,     -999.0,9,     -999.0,9,     0.0122,1,     4.6970,1,     -999.0,9,     -999.0,9,     -999.0,9
33RR20220430,        P02,     101,          2,         24,         24,2,20220603,       1344,    30.0004,  -170.4455,       5402,   570.3,2,   7.3473,2,  34.0290,2,  34.0256,2,    140.7,3,   138.6,2,   46.33,2,   27.95,2,    0.00,2,    1.99,2,   2.354,2,   1.424,2,   0.9767,2,  2205.7,2,  2276.0,2,   7.5437,2,    25.02,2, -999.00,9,  -999.0,9, -999.00,9, -999.00,9,       29.5,2, 20220603,     1528,  30.0004,-170.4456,     7.3500,2,     -999.0,9,     -999.0,9,     -999.0,9,     -999.0,9,     0.0130,1,     4.6987,1,     -999.0,9,     -999.0,9,     -999.0,9
33RR20220430,        P02,     101,          2,         23,         23,2,20220603,       1344,    30.0004,  -170.4455,       5402,   671.2,2,   5.9177,2,  34.0399,2,  34.0396,2,     93.9,2,    94.2,2,   66.46,2,   34.44,2,    0.00,2,    2.48,2,   1.685,2,   1.010,2,   0.5532,2,  2257.8,2,  2290.9,2,   7.4360,2,    25.01,2, -999.00,9,  -999.0,9, -999.00,9, -999.00,9,       37.4,2, 20220603,     1526,  30.0004,-170.4455,     5.9288,2,     -999.0,9,     -999.0,9,     -999.0,9,     -999.0,9,     0.0124,1,     4.6994,1,     -999.0,9,     -999.0,9,     -999.0,9
33RR20220430,        P02,     101,          2,         22,         22,2,20220603,       1344,    30.0004,  -170.4455,       5402,   772.5,2,   4.8296,2,  34.1171,2,  34.1156,2,     55.3,3,    54.6,2,   88.64,2,   39.75,2,    0.00,2,    2.87,2,   0.864,2,   0.526,2,   0.1896,2,  2306.3,2,  2314.2,2,   7.3534,2,    25.01,2, -999.00,9,  -999.0,9, -999.00,9, -999.00,9,       46.7,2, 20220603,     1523,  30.0004,-170.4455,     4.8593,2,     -999.0,9,     -999.0,9,     -999.0,9,     -999.0,9,     0.0134,1,     4.7000,1,     -999.0,9,     -999.0,9,     -999.0,9
33RR20220430,        P02,     101,          2,         21,         21,2,20220603,       1344,    30.0004,  -170.4455,       5402,   872.8,2,   4.2688,2,  34.2062,2,  34.2085,2,     30.6,3,    31.3,2,  104.56,2,   42.28,2,    0.00,2,    3.07,2,   0.355,2,   0.218,2,   0.0000,2,  2337.3,2,  2335.8,2,   7.3190,2,    25.03,2, -999.00,9,  -999.0,9, -999.00,9, -999.00,9,       54.2,2, 20220603,     1520,  30.0004,-170.4455,     4.2692,2,     -999.0,9,     -999.0,9,     -999.0,9,     -999.0,9,     0.0134,1,     4.7006,1,     -999.0,9,     -999.0,9,     -999.0,9
33RR20220430,        P02,     101,          2,         20,         20,2,20220603,       1344,    30.0004,  -170.4455,       5402,   973.4,2,   3.8828,2,  34.3056,2,  34.3066,2,     23.0,3,    23.9,2,  116.28,2,   43.21,2,    0.00,2,    3.14,2,   0.124,2,   0.073,2,   0.0000,2,  -999.0,9,  -999.0,9,-999.0000,9,  -999.00,9, -999.00,9,  -999.0,9, -999.00,9, -999.00,9,       57.5,2, 20220603,     1518,  30.0004,-170.4455,     3.8822,2,     -999.0,9,     -999.0,9,     -999.0,9,     -999.0,9,     0.0134,1,     4.7002,1,     -999.0,9,     -999.0,9,     -999.0,9
33RR20220430,        P02,     101,          2,         19,         19,2,20220603,       1344,    30.0004,  -170.4455,       5402,  1075.8,2,   3.6189,2,  34.3771,2,  34.3768,2,     25.5,2,    25.7,2,  123.80,2,   43.39,2,    0.00,2,    3.14,2,   0.052,6,   0.035,6,   0.0000,6,  2363.9,2,  2364.1,2,   7.3289,2,    25.02,2, -999.00,9,  -999.0,9, -999.00,9, -999.00,9,       56.2,6, 20220603,     1515,  30.0004,-170.4455,     3.6201,2,     -999.0,9,     -999.0,9,     -999.0,9,     -999.0,9,     0.0134,1,     4.7007,1,     -999.0,9,     -999.0,9,     -999.0,9
33RR20220430,        P02,     101,          2,         18,         18,2,20220603,       1344,    30.0004,  -170.4455,       5402,  1176.7,2,   3.3915,2,  34.4278,2,  34.4288,2,     31.0,3,    31.8,2,  129.95,2,   43.24,2,    0.00,2,    3.14,2,   0.028,2,   0.021,2,   0.0000,2,  -999.0,9,  -999.0,9,-999.0000,9,  -999.00,9, -999.00,9,  -999.0,9, -999.00,9, -999.00,9,       52.6,2, 20220603,     1513,  30.0004,-170.4455,     3.3921,2,     -999.0,9,     -999.0,9,     -999.0,9,     -999.0,9,     0.0134,1,     4.7011,1,     -999.0,9,     -999.0,9,     -999.0,9
33RR20220430,        P02,     101,          2,         17,         17,2,20220603,       1344,    30.0004,  -170.4455,       5402,  1283.3,2,   3.1111,2,  34.4795,2,  34.4799,2,     39.9,2,    39.8,2,  136.29,2,   43.07,2,    0.00,2,    3.10,2,   0.014,2,   0.000,2,   0.0000,2,  2367.5,2,  2382.3,2,   7.3664,2,    25.01,2, -999.00,9,  -999.0,9, -999.00,9, -999.00,9,       48.7,2, 20220603,     1510,  30.0004,-170.4455,     3.1090,2,     -999.0,9,     -999.0,9,     -999.0,9,     -999.0,9,     0.0134,1,     4.7019,1,     -999.0,9,     -999.0,9,     -999.0,9
33RR20220430,        P02,     101,          2,         16,         16,2,20220603,       1344,    30.0004,  -170.4455,       5402,  1384.5,2,   2.9359,2,  34.5050,2,  34.5068,2,     43.5,2,    43.2,2,  140.78,2,   42.80,2,    0.00,2,    3.08,2,   0.009,2,   0.000,2,   0.0000,2,  2372.2,2,  2390.0,2,   7.3769,2,    25.02,2, -999.00,9,  -999.0,9, -999.00,9, -999.00,9,       46.6,2, 20220603,     1507,  30.0004,-170.4455,     2.9350,2,     -999.0,9,     -999.0,9,     -999.0,9,     -999.0,9,     0.0134,1,     4.7020,1,     -999.0,9,     -999.0,9,     -999.0,9
33RR20220430,        P02,     101,          2,         15,         15,2,20220603,       1344,    30.0004,  -170.4455,       5402,  1585.9,2,   2.5068,2,  34.5510,2,  34.5516,2,     54.9,2,    54.5,2,  151.52,2,   42.24,2,    0.00,2,    3.02,2,   0.006,2,   0.000,2,   0.0000,2,  2374.1,2,  2400.7,2,-999.0000,1,  -999.00,1, -999.00,9,  -999.0,9, -999.00,9, -999.00,9,       41.4,2, 20220603,     1503,  30.0004,-170.4455,     2.5070,2,     -999.0,9,     -999.0,9,     -999.0,9,     -999.0,9,     0.0134,1,     4.7023,1,     -999.0,9,     -999.0,9,     -999.0,9
33RR20220430,        P02,     101,          2,         14,         14,2,20220603,       1344,    30.0004,  -170.4455,       5402,  1758.3,2,   2.2702,2,  34.5751,2,  34.5773,2,     62.9,2,    62.4,2,  157.58,2,   41.66,2,    0.00,2,    2.95,2,   0.006,2,   0.000,2,   0.0000,2,  2375.0,2,  2406.9,2,   7.3963,2,    25.02,2, -999.00,9,  -999.0,9, -999.00,9, -999.00,9,       38.3,2, 20220603,     1459,  30.0004,-170.4455,     2.2699,2,     -999.0,9,     -999.0,9,     -999.0,9,     -999.0,9,     0.0134,1,     4.7031,1,     -999.0,9,     -999.0,9,     -999.0,9
33RR20220430,        P02,     101,          2,         13,         13,2,20220603,       1344,    30.0004,  -170.4455,       5402,  1961.8,2,   2.0488,2,  34.5990,2,  34.6016,2,     74.6,2,    74.7,2,  162.27,2,   41.04,2,    0.00,2,    2.90,2,   0.004,2,   0.000,2,   0.0000,2,  2374.1,2,  2412.5,2,   7.4133,2,    25.02,2, -999.00,9,  -999.0,9, -999.00,9, -999.00,9,       34.9,2, 20220603,     1455,  30.0004,-170.4456,     2.0478,2,     -999.0,9,     -999.0,9,     -999.0,9,     -999.0,9,     0.0134,1,     4.7032,1,     -999.0,9,     -999.0,9,     -999.0,9
33RR20220430,        P02,     101,          2,         12,         12,2,20220603,       1344,    30.0004,  -170.4455,       5402,  2196.2,2,   1.8349,2,  34.6234,2,  34.6244,2,     90.2,2,    89.5,2,  164.51,2,   40.01,2,    0.00,2,    2.82,2,   0.005,2,   0.000,2,   0.0000,2,  -999.0,9,  -999.0,9,-999.0000,9,  -999.00,9, -999.00,9,  -999.0,9, -999.00,9, -999.00,9,       31.2,2, 20220603,     1450,  30.0004,-170.4455,     1.8360,2,     -999.0,9,     -999.0,9,     -999.0,9,     -999.0,9,     0.0122,1,     4.7040,1,     -999.0,9,     -999.0,9,     -999.0,9
33RR20220430,        P02,     101,          2,         11,         11,2,20220603,       1344,    30.0004,  -170.4455,       5402,  2449.9,2,   1.7099,2,  34.6390,2,  34.6398,2,    103.5,2,   103.1,2,  164.12,2,   39.05,2,    0.00,2,    2.75,2,   0.005,2,   0.000,2,   0.0000,2,  2357.5,2,  2419.2,2,   7.4897,2,    25.01,2, -999.00,9,  -999.0,9, -999.00,9, -999.00,9,       28.7,2, 20220603,     1445,  30.0004,-170.4455,     1.7103,2,     -999.0,9,     -999.0,9,     -999.0,9,     -999.0,9,     0.0125,1,     4.7044,1,     -999.0,9,     -999.0,9,     -999.0,9
33RR20220430,        P02,     101,          2,         10,         10,2,20220603,       1344,    30.0004,  -170.4455,       5402,  2704.7,2,   1.6145,2,  34.6514,2,  34.6525,2,    114.5,2,   114.9,2,  163.14,2,   38.33,2,    0.00,2,    2.70,2,-999.000,9,-999.000,9,-999.0000,9,  -999.0,9,  -999.0,9,-999.0000,9,  -999.00,9, -999.00,9,  -999.0,9, -999.00,9, -999.00,9,     -999.0,9, 20220603,     1440,  30.0004,-170.4455,     1.6135,2,     -999.0,9,     -999.0,9,     -999.0,9,     -999.0,9,     0.0122,1,     4.7047,1,     -999.0,9,     -999.0,9,     -999.0,9
33RR20220430,        P02,     101,          2,          9,          9,2,20220603,       1344,    30.0004,  -170.4455,       5402,  2959.9,2,   1.5554,2,  34.6603,2,  34.6616,2,    124.8,2,   126.0,2,  160.50,2,   37.65,2,    0.00,2,    2.65,2,   0.006,2,   0.000,2,   0.0000,2,  2345.5,2,  2419.8,2,   7.5272,2,    25.01,2, -999.00,9,  -999.0,9, -999.00,9, -999.00,9,       25.6,2, 20220603,     1434,  30.0004,-170.4456,     1.5552,2,     -999.0,9,     -999.0,9,     -999.0,9,     -999.0,9,     0.0130,1,     4.7057,1,     -999.0,9,     -999.0,9,     -999.0,9
33RR20220430,        P02,     101,          2,          8,          8,2,20220603,       1344,    30.0004,  -170.4455,       5402,  3249.6,2,   1.5221,2,  34.6667,2,  34.6679,2,    131.5,2,   132.1,2,  159.13,2,   37.30,2,    0.00,2,    2.62,2,-999.000,9,-999.000,9,-999.0000,9,  -999.0,9,  -999.0,9,-999.0000,9,  -999.00,9, -999.00,9,  -999.0,9, -999.00,9, -999.00,9,     -999.0,9, 20220603,     1428,  30.0004,-170.4455,     1.5218,2,     -999.0,9,     -999.0,9,     -999.0,9,     -999.0,9,     0.0122,1,     4.7055,1,     -999.0,9,     -999.0,9,     -999.0,9
33RR20220430,        P02,     101,          2,          7,          7,2,20220603,       1344,    30.0004,  -170.4455,       5402,  3557.2,2,   1.4890,2,  34.6735,2,  34.6743,2,    139.1,2,   138.9,2,  157.18,2,   36.75,2,    0.00,2,    2.58,2,   0.005,2,   0.000,2,   0.0000,2,  2338.5,2,  2417.7,2,   7.5526,2,    25.02,2, -999.00,9,  -999.0,9, -999.00,9, -999.00,9,       24.0,2, 20220603,     1422,  30.0004,-170.4455,     1.4891,2,     -999.0,9,     -999.0,9,     -999.0,9,     -999.0,9,     0.0122,1,     4.7056,1,     -999.0,9,     -999.0,9,     -999.0,9
33RR20220430,        P02,     101,          2,          6,          6,2,20220603,       1344,    30.0004,  -170.4455,       5402,  3863.5,2,   1.4743,2,  34.6784,2,  34.6793,2,    144.8,2,   144.8,2,  156.20,2,   36.40,2,    0.00,2,    2.53,2,-999.000,9,-999.000,9,-999.0000,9,  -999.0,9,  -999.0,9,-999.0000,9,  -999.00,9, -999.00,9,  -999.0,9, -999.00,9, -999.00,9,     -999.0,9, 20220603,     1416,  30.0004,-170.4455,     1.4741,2,     -999.0,9,     -999.0,9,     -999.0,9,     -999.0,9,     0.0122,1,     4.7056,1,     -999.0,9,     -999.0,9,     -999.0,9
33RR20220430,        P02,     101,          2,          5,          5,2,20220603,       1344,    30.0004,  -170.4455,       5402,  4170.9,2,   1.4745,2,  34.6822,2,  34.6832,2,    149.1,2,   149.0,2,  155.42,2,   36.17,2,    0.00,2,    2.51,2,   0.006,2,   0.000,2,   0.0000,2,  2328.7,2,  2420.4,2,   7.5695,2,    25.04,2, -999.00,9,  -999.0,9, -999.00,9, -999.00,9,       22.7,2, 20220603,     1410,  30.0004,-170.4455,     1.4746,2,     -999.0,9,     -999.0,9,     -999.0,9,     -999.0,9,     0.0122,1,     4.7056,1,     -999.0,9,     -999.0,9,     -999.0,9
33RR20220430,        P02,     101,          2,          4,          4,2,20220603,       1344,    30.0004,  -170.4455,       5402,  4479.2,2,   1.4903,2,  34.6844,2,  34.6849,2,    151.2,2,   151.9,2,  156.00,2,   36.05,2,    0.00,2,    2.50,2,-999.000,9,-999.000,9,-999.0000,9,  -999.0,9,  -999.0,9,-999.0000,9,  -999.00,9, -999.00,9,  -999.0,9, -999.00,9, -999.00,9,     -999.0,9, 20220603,     1404,  30.0004,-170.4455,     1.4902,2,     -999.0,9,     -999.0,9,     -999.0,9,     -999.0,9,     0.0122,1,     4.7055,1,     -999.0,9,     -999.0,9,     -999.0,9