BOTTLE,20230801CCHSIOCBG
EXPOCODE,SECT_ID,STNNBR,CASTNO,SAMPNO,BTLNBR,BTLNBR_FLAG_W,DATE,TIME,LATITUDE,LONGITUDE,DEPTH,CTDPRS,CTDPRS_FLAG_W,CTDTMP,CTDTMP_FLAG_W,CTDSAL,CTDSAL_FLAG_W,SALNTY,SALNTY_FLAG_W,CTDOXY,CTDOXY_FLAG_W,OXYGEN,OXYGEN_FLAG_W,SILCAT,SILCAT_FLAG_W,NITRAT,NITRAT_FLAG_W,NITRIT,NITRIT_FLAG_W,PHSPHT,PHSPHT_FLAG_W,CFC-11,CFC-11_FLAG_W,CFC-12,CFC-12_FLAG_W,SF6,SF6_FLAG_W,TCARBN,TCARBN_FLAG_W,ALKALI,ALKALI_FLAG_W,PH_TOT,PH_TOT_FLAG_W,PH_TMP,PH_TMP_FLAG_W,DELC13,DELC13_FLAG_W,DELC14,DELC14_FLAG_W,DOC,DOC_FLAG_W,TDN,TDN_FLAG_W,N2O,N2O_FLAG_W,BTL_DATE,BTL_TIME,BTL_LAT,BTL_LON,REFTMP,REFTMP_FLAG_W,POC,POC_FLAG_W,PON,PON_FLAG_W,POP,POP_FLAG_W,PCOD,PCOD_FLAG_W,CTDFLUOR,CTDFLUOR_FLAG_W,CTDXMISS,CTDXMISS_FLAG_W,HPLC,HPLC_FLAG_W,DNA,DNA_FLAG_W,FCM,FCM_FLAG_W
,,,,,,,,,,,METERS,DBAR,,ITS-90,,PSS-78,,PSS-78,,UMOL/KG,,UMOL/KG,,UMOL/KG,,UMOL/KG,,UMOL/KG,,UMOL/KG,,PMOL/KG,,PMOL/KG,,FMOL/KG,,UMOL/KG,,UMOL/KG,,,,DEG C,,/MILLE,,/MILLE,,UMOL/KG,,UMOL/KG,,NMOL/KG,,,,,,ITS-90,,UG/L,,UG/L,,UG/L,,UG/L,,VOLTS,,VOLTS,,,,,,,
33RR20220430,        P02,      96,          1,         34,         34,2,20220602,       0114,    29.9994,  -173.3282,       5409,     2.8,2,  23.2054,2,  35.1634,2,  35.1475,2,    222.7,3,   220.0,2,    1.17,2,    0.04,2,    0.00,2,    0.00,2,   1.647,2,   1.141,2,   1.8904,2,  2027.1,2,  2307.6,2,   8.0135,2,    25.00,2, -999.00,9,  -999.0,9, -999.00,1, -999.00,1,        7.4,2, 20220602,      322,  29.9994,-173.3282,    23.1605,2,     -999.0,9,     -999.0,9,     -999.0,9,     -999.0,9,     0.0135,1,     4.6330,1,     -999.0,9,     -999.0,9,     -999.0,9
33RR20220430,        P02,      96,          1,         33,         33,2,20220602,       0114,    29.9994,  -173.3282,       5409,    26.6,2,  22.0891,2,  35.1630,2,  35.1437,2,    223.7,2,   223.0,2,    1.27,2,    0.03,2,    0.00,2,    0.00,2,   1.655,2,   1.134,2,   1.9981,2,  2024.3,2,  2311.0,2,   8.0137,2,    24.99,2, -999.00,9,  -999.0,9, -999.00,1, -999.00,1,        7.3,2, 20220602,      320,  29.9994,-173.3282,    22.0883,2,     -999.0,9,     -999.0,9,     -999.0,9,     -999.0,9,     0.0138,1,     4.6236,1,     -999.0,9,     -999.0,9,     -999.0,9
33RR20220430,        P02,      96,          1,         32,         32,2,20220602,       0114,    29.9994,  -173.3282,       5409,    51.6,2,  21.4606,2,  35.1574,2,  35.1378,2,    228.3,2,   227.9,2,    1.27,2,    0.02,2,    0.00,2,    0.00,2,   1.707,2,   1.157,2,   2.1215,2,  2023.2,2,  2308.1,2,   8.0140,2,    25.00,2, -999.00,9,  -999.0,9, -999.00,1, -999.00,1,        7.5,2, 20220602,      319,  29.9994,-173.3282,    21.4634,2,     -999.0,9,     -999.0,9,     -999.0,9,     -999.0,9,     0.0147,1,     4.6295,1,     -999.0,9,     -999.0,9,     -999.0,9
33RR20220430,        P02,      96,          1,         31,         31,2,20220602,       0114,    29.9994,  -173.3282,       5409,    75.2,2,  20.8078,2,  35.1455,2,  35.1299,2,    231.2,2,   230.3,2,    1.37,2,    0.01,2,    0.00,2,    0.00,2,   1.783,2,   1.214,2,   2.1105,2,  2025.3,2,  2307.4,2,   8.0105,2,    24.99,2, -999.00,9,  -999.0,9, -999.00,1, -999.00,1,        7.7,2, 20220602,      317,  29.9994,-173.3282,    20.8060,2,     -999.0,9,     -999.0,9,     -999.0,9,     -999.0,9,     0.0159,1,     4.6346,1,     -999.0,9,     -999.0,9,     -999.0,9
33RR20220430,        P02,      96,          1,         30,         30,2,20220602,       0114,    29.9994,  -173.3282,       5409,   102.1,2,  20.2670,2,  35.1044,2,  35.0925,2,    228.1,2,   229.0,2,    1.46,2,    0.01,2,    0.00,2,    0.00,2,   1.830,2,   1.229,2,   2.1293,2,  2028.6,2,  2304.7,2,   8.0018,2,    25.00,2, -999.00,9,  -999.0,9, -999.00,1, -999.00,1,        7.7,2, 20220602,      315,  29.9994,-173.3282,    20.2768,2,     -999.0,9,     -999.0,9,     -999.0,9,     -999.0,9,     0.0195,1,     4.6442,1,     -999.0,9,     -999.0,9,     -999.0,9
33RR20220430,        P02,      96,          1,         29,         29,2,20220602,       0114,    29.9994,  -173.3282,       5409,   151.8,2,  19.0088,2,  34.9394,3,  34.9183,2,    221.1,2,   220.9,2,    1.86,2,    0.18,2,    0.18,2,    0.03,2,   1.942,2,   1.280,2,   2.2154,2,  2038.0,2,  2293.4,2,   7.9673,2,    25.00,2, -999.00,9,  -999.0,9, -999.00,1, -999.00,1,        8.3,2, 20220602,      313,  29.9994,-173.3282,    19.0190,2,     -999.0,9,     -999.0,9,     -999.0,9,     -999.0,9,     0.0237,1,     4.6629,1,     -999.0,9,     -999.0,9,     -999.0,9
33RR20220430,        P02,      96,          1,         28,         28,2,20220602,       0114,    29.9994,  -173.3282,       5409,   202.1,2,  17.3276,2,  34.7554,3,  34.7313,2,    209.2,2,   209.6,2,    3.32,2,    2.77,2,    0.02,2,    0.20,2,   2.095,2,   1.392,2,   2.0576,2,  -999.0,9,  -999.0,9,-999.0000,9,  -999.00,9, -999.00,9,  -999.0,9, -999.00,1, -999.00,1,       10.3,2, 20220602,      312,  29.9994,-173.3282,    17.3523,2,     -999.0,9,     -999.0,9,     -999.0,9,     -999.0,9,     0.0177,1,     4.6794,1,     -999.0,9,     -999.0,9,     -999.0,9
33RR20220430,        P02,      96,          1,         27,         27,2,20220602,       0114,    29.9994,  -173.3282,       5409,   252.8,2,  15.3407,2,  34.5529,2,  34.5378,2,    206.3,2,   206.5,2,    5.76,2,    5.97,2,    0.00,2,    0.41,2,   2.317,2,   1.529,2,   2.1500,2,  2070.8,6,  2269.6,2,   7.8647,2,    25.00,2, -999.00,9,  -999.0,9, -999.00,1, -999.00,1,       11.9,2, 20220602,      309,  29.9994,-173.3282,    15.3404,2,     -999.0,9,     -999.0,9,     -999.0,9,     -999.0,9,     0.0134,1,     4.6857,1,     -999.0,9,     -999.0,9,     -999.0,9
33RR20220430,        P02,      96,          1,         26,         26,2,20220602,       0114,    29.9994,  -173.3282,       5409,   403.8,2,  11.1465,2,  34.2142,2,  34.1999,2,    203.6,2,   204.4,2,   16.12,2,   13.91,2,    0.00,2,    0.96,2,   2.745,2,   1.758,2,   1.9277,2,  2110.6,2,  2264.7,2,   7.7536,2,    25.00,2, -999.00,9,  -999.0,9, -999.00,1, -999.00,1,       17.2,2, 20220602,      305,  29.9994,-173.3282,    11.1402,2,     -999.0,9,     -999.0,9,     -999.0,9,     -999.0,9,     0.0122,1,     4.6954,1,     -999.0,9,     -999.0,9,     -999.0,9
33RR20220430,        P02,      96,          1,         25,         25,2,20220602,       0114,    29.9994,  -173.3282,       5409,   505.0,2,   9.0822,2,  34.0912,2,  34.0844,2,    181.7,2,   181.7,2,   28.34,2,   19.95,2,    0.00,2,    1.38,2,   2.674,2,   1.678,2,   1.5938,2,  2152.1,2,  2268.0,2,   7.6643,2,    25.00,2, -999.00,9,  -999.0,9, -999.00,1, -999.00,1,       21.8,2, 20220602,      303,  29.9994,-173.3282,     9.0810,2,     -999.0,9,     -999.0,9,     -999.0,9,     -999.0,9,     0.0122,1,     4.6978,1,     -999.0,9,     -999.0,9,     -999.0,9
33RR20220430,        P02,      96,          1,         24,         24,2,20220602,       0114,    29.9994,  -173.3282,       5409,   606.2,2,   7.0883,2,  34.0171,2,  34.0074,2,    144.2,3,   141.3,2,   48.57,2,   27.55,2,    0.00,2,    1.95,2,   2.354,2,   1.472,2,   1.1440,2,  -999.0,9,  -999.0,9,-999.0000,9,  -999.00,9, -999.00,9,  -999.0,9, -999.00,9, -999.00,9,       27.8,2, 20220602,      300,  29.9994,-173.3282,     7.1378,2,     -999.0,9,     -999.0,9,     -999.0,9,     -999.0,9,     0.0122,1,     4.6984,1,     -999.0,9,     -999.0,9,     -999.0,9
33RR20220430,        P02,      96,          1,         23,         23,2,20220602,       0114,    29.9994,  -173.3282,       5409,   707.2,2,   5.6668,2,  34.0376,2,  34.0341,2,     93.5,2,    93.1,2,   69.96,2,   34.27,2,    0.00,2,    2.44,2,   1.643,6,   1.001,6,   0.5671,6,  2262.5,2,  2297.0,2,   7.4325,2,    25.00,2, -999.00,9,  -999.0,9, -999.00,1, -999.00,1,       37.3,6, 20220602,      257,  29.9994,-173.3282,     5.6606,2,     -999.0,9,     -999.0,9,     -999.0,9,     -999.0,9,     0.0134,1,     4.6995,1,     -999.0,9,     -999.0,9,     -999.0,9
33RR20220430,        P02,      96,          1,         22,         22,2,20220602,       0114,    29.9994,  -173.3282,       5409,   808.4,2,   4.6486,2,  34.1319,2,  34.1366,2,     50.2,3,    49.4,2,   94.00,2,   39.48,2,    0.00,2,    2.82,2,   0.756,2,   0.452,2,   0.1687,2,  -999.0,9,  -999.0,9,-999.0000,9,  -999.00,9, -999.00,9,  -999.0,9, -999.00,9, -999.00,9,       47.6,2, 20220602,      254,  29.9994,-173.3282,     4.6564,2,     -999.0,9,     -999.0,9,     -999.0,9,     -999.0,9,     0.0134,1,     4.6997,1,     -999.0,9,     -999.0,9,     -999.0,9
33RR20220430,        P02,      96,          1,         21,         21,2,20220602,       0114,    29.9994,  -173.3282,       5409,   909.5,2,   4.0681,2,  34.2336,2,  34.2271,2,     28.7,3,    29.9,2,  109.33,2,   41.63,2,    0.00,2,    3.00,2,   0.315,2,   0.209,2,   0.0879,2,  2341.4,2,  2340.1,2,   7.3212,2,    25.00,2, -999.00,9,  -999.0,9, -999.00,1, -999.00,1,       53.5,2, 20220602,      252,  29.9994,-173.3282,     4.0832,2,     -999.0,9,     -999.0,9,     -999.0,9,     -999.0,9,     0.0134,1,     4.7003,1,     -999.0,9,     -999.0,9,     -999.0,9
33RR20220430,        P02,      96,          1,         20,         20,2,20220602,       0114,    29.9994,  -173.3282,       5409,  1008.4,2,   3.6782,2,  34.3134,2,  34.3127,2,     21.4,3,    22.0,2,  122.02,2,   42.69,2,    0.00,2,    3.08,2,   0.117,2,   0.081,2,   0.0420,2,  2359.8,2,  2357.3,2,   7.3138,2,    24.99,2, -999.00,9,  -999.0,9, -999.00,1, -999.00,1,       57.1,2, 20220602,      249,  29.9994,-173.3282,     3.6823,2,     -999.0,9,     -999.0,9,     -999.0,9,     -999.0,9,     0.0134,1,     4.6995,1,     -999.0,9,     -999.0,9,     -999.0,9
33RR20220430,        P02,      96,          1,         19,         19,2,20220602,       0114,    29.9994,  -173.3282,       5409,  1110.0,2,   3.4728,2,  34.3823,2,  34.3800,2,     25.0,2,    25.1,2,  128.46,2,   42.70,2,    0.00,2,    3.09,2,   0.057,2,   0.043,2,   0.0000,2,  2365.9,2,  2367.6,2,   7.3299,2,    25.00,2, -999.00,9,  -999.0,9, -999.00,1, -999.00,1,       55.6,2, 20220602,      246,  29.9994,-173.3282,     3.4738,2,     -999.0,9,     -999.0,9,     -999.0,9,     -999.0,9,     0.0133,1,     4.7007,1,     -999.0,9,     -999.0,9,     -999.0,9
33RR20220430,        P02,      96,          1,         18,         18,2,20220602,       0114,    29.9994,  -173.3282,       5409,  1212.3,2,   3.2402,2,  34.4294,2,  34.4298,2,     27.4,2,    27.4,2,  135.00,2,   42.87,2,    0.00,2,    3.09,2,   0.028,2,   0.018,2,   0.0000,2,  2372.0,2,  2379.1,2,   7.3384,2,    24.99,2, -999.00,9,  -999.0,9, -999.00,1, -999.00,1,       54.7,2, 20220602,      244,  29.9994,-173.3282,     3.2358,2,     -999.0,9,     -999.0,9,     -999.0,9,     -999.0,9,     0.0134,1,     4.7008,1,     -999.0,9,     -999.0,9,     -999.0,9
33RR20220430,        P02,      96,          1,         17,         17,2,20220602,       0114,    29.9994,  -173.3282,       5409,  1313.4,2,   3.0508,2,  34.4669,2,  34.4677,2,     32.4,3,    33.2,2,  139.69,2,   42.79,2,    0.00,2,    3.08,2,   0.016,2,   0.009,2,   0.0000,2,  2375.0,2,  2384.6,2,   7.3529,2,    25.00,2, -999.00,9,  -999.0,9, -999.00,1, -999.00,1,       50.9,2, 20220602,      241,  29.9995,-173.3282,     3.0499,2,     -999.0,9,     -999.0,9,     -999.0,9,     -999.0,9,     0.0134,1,     4.7008,1,     -999.0,9,     -999.0,9,     -999.0,9
33RR20220430,        P02,      96,          1,         16,         16,2,20220602,       0114,    29.9994,  -173.3282,       5409,  1415.8,2,   2.8370,2,  34.5005,2,  34.5005,2,     38.4,2,    38.3,2,  145.16,2,   42.68,2,    0.00,2,    3.05,2,   0.010,2,   0.006,2,   0.0000,2,  2377.1,2,  2391.8,2,   7.3653,2,    25.00,2, -999.00,9,  -999.0,9, -999.00,9, -999.00,9,       47.6,2, 20220602,      238,  29.9994,-173.3282,     2.8385,2,     -999.0,9,     -999.0,9,     -999.0,9,     -999.0,9,     0.0134,1,     4.7013,1,     -999.0,9,     -999.0,9,     -999.0,9
33RR20220430,        P02,      96,          1,         15,         15,2,20220602,       0114,    29.9994,  -173.3282,       5409,  1618.2,2,   2.4264,2,  34.5560,2,  34.5547,2,     55.9,2,    55.9,2,  153.84,2,   41.99,2,    0.00,2,    2.97,2,   0.005,2,   0.000,2,   0.0000,2,  2375.2,2,  2403.1,2,   7.4014,2,    25.00,2, -999.00,9,  -999.0,9, -999.00,1, -999.00,1,       40.6,2, 20220602,      234,  29.9995,-173.3282,     2.4261,2,     -999.0,9,     -999.0,9,     -999.0,9,     -999.0,9,     0.0134,1,     4.7024,1,     -999.0,9,     -999.0,9,     -999.0,9
33RR20220430,        P02,      96,          1,         14,         14,2,20220602,       0114,    29.9994,  -173.3282,       5409,  1820.7,2,   2.1718,2,  34.5848,2,  34.5840,2,     67.9,2,    67.7,2,  159.31,2,   41.27,2,    0.00,2,    2.92,2,   0.005,2,   0.000,2,   0.0000,2,  2371.6,2,  2409.1,2,   7.4242,2,    25.00,2, -999.00,9,  -999.0,9, -999.00,1, -999.00,1,       36.5,2, 20220602,      229,  29.9995,-173.3281,     2.1712,2,     -999.0,9,     -999.0,9,     -999.0,9,     -999.0,9,     0.0132,1,     4.7032,1,     -999.0,9,     -999.0,9,     -999.0,9
33RR20220430,        P02,      96,          1,         13,         13,2,20220602,       0114,    29.9994,  -173.3282,       5409,  2024.6,2,   1.9858,2,  34.6061,3,  34.6040,2,     79.6,2,    79.6,2,  161.94,2,   40.54,2,    0.00,2,    2.87,2,   0.005,2,   0.000,2,   0.0000,2,  2369.4,2,  2414.3,2,   7.4460,2,    25.00,2, -999.00,9,  -999.0,9, -999.00,1, -999.00,1,       33.1,2, 20220602,      225,  29.9994,-173.3282,     1.9850,2,     -999.0,9,     -999.0,9,     -999.0,9,     -999.0,9,     0.0128,1,     4.7040,1,     -999.0,9,     -999.0,9,     -999.0,9
33RR20220430,        P02,      96,          1,         12,         12,2,20220602,       0114,    29.9994,  -173.3282,       5409,  2279.6,2,   1.8050,2,  34.6272,2,  34.6268,2,     93.8,2,    93.7,2,  163.60,2,   39.69,2,    0.00,2,    2.81,2,-999.000,9,-999.000,9,-999.0000,9,  -999.0,9,  -999.0,9,-999.0000,9,  -999.00,9, -999.00,9,  -999.0,9, -999.00,9, -999.00,9,     -999.0,9, 20220602,      220,  29.9995,-173.3282,     1.8059,2,     -999.0,9,     -999.0,9,     -999.0,9,     -999.0,9,     0.0125,1,     4.7037,1,     -999.0,9,     -999.0,9,     -999.0,9
33RR20220430,        P02,      96,          1,         11,         11,2,20220602,       0114,    29.9994,  -173.3282,       5409,  2533.2,2,   1.6974,2,  34.6411,2,  34.6403,2,    105.2,2,   105.2,2,  163.31,2,   38.95,2,    0.00,2,    2.74,2,   0.004,2,   0.000,2,   0.0000,2,  2359.8,2,  2418.5,2,   7.4936,2,    25.00,2, -999.00,9,  -999.0,9, -999.00,1, -999.00,1,       27.9,2, 20220602,      214,  29.9994,-173.3282,     1.6971,2,     -999.0,9,     -999.0,9,     -999.0,9,     -999.0,9,     0.0122,1,     4.7044,1,     -999.0,9,     -999.0,9,     -999.0,9
33RR20220430,        P02,      96,          1,         10,         10,2,20220602,       0114,    29.9994,  -173.3282,       5409,  2788.6,2,   1.6148,2,  34.6523,2,  34.6510,2,    114.8,2,   114.9,2,  162.52,2,   38.42,2,    0.00,2,    2.71,2,-999.000,9,-999.000,9,-999.0000,9,  -999.0,9,  -999.0,9,-999.0000,9,  -999.00,9, -999.00,9,  -999.0,9, -999.00,9, -999.00,9,     -999.0,9, 20220602,      209,  29.9994,-173.3282,     1.6145,2,     -999.0,9,     -999.0,9,     -999.0,9,     -999.0,9,     0.0134,1,     4.7047,1,     -999.0,9,     -999.0,9,     -999.0,9
33RR20220430,        P02,      96,          1,          9,          9,2,20220602,       0114,    29.9994,  -173.3282,       5409,  3043.1,2,   1.5634,2,  34.6605,2,  34.6592,2,    123.5,2,   123.8,2,  160.57,2,   37.83,2,    0.00,2,    2.66,2,   0.004,2,   0.000,2,   0.0000,2,  2346.2,2,  2419.5,2,   7.5271,2,    24.99,2, -999.00,9,  -999.0,9, -999.00,1, -999.00,1,       25.1,2, 20220602,      203,  29.9994,-173.3282,     1.5631,2,     -999.0,9,     -999.0,9,     -999.0,9,     -999.0,9,     0.0133,1,     4.7051,1,     -999.0,9,     -999.0,9,     -999.0,9
33RR20220430,        P02,      96,          1,          8,          8,2,20220602,       0114,    29.9994,  -173.3282,       5409,  3349.6,2,   1.5130,2,  34.6687,2,  34.6671,2,    132.1,2,   132.4,2,  159.40,2,   37.26,2,    0.00,2,    2.62,2,-999.000,9,-999.000,9,-999.0000,9,  -999.0,9,  -999.0,9,-999.0000,9,  -999.00,9, -999.00,9,  -999.0,9, -999.00,9, -999.00,9,     -999.0,9, 20220602,      157,  29.9994,-173.3282,     1.5127,2,     -999.0,9,     -999.0,9,     -999.0,9,     -999.0,9,     0.0128,1,     4.7051,1,     -999.0,9,     -999.0,9,     -999.0,9
33RR20220430,        P02,      96,          1,          7,          7,2,20220602,       0114,    29.9994,  -173.3282,       5409,  3657.9,2,   1.4833,2,  34.6754,3,  34.6730,2,    139.7,2,   139.7,2,  157.93,2,   36.92,2,    0.00,2,    2.56,2,   0.004,2,   0.000,2,   0.0000,2,  2336.4,2,  2418.9,2,   7.5555,2,    25.00,2, -999.00,9,  -999.0,9, -999.00,1, -999.00,1,       23.2,2, 20220602,      151,  29.9994,-173.3282,     1.4830,2,     -999.0,9,     -999.0,9,     -999.0,9,     -999.0,9,     0.0122,1,     4.7048,1,     -999.0,9,     -999.0,9,     -999.0,9
33RR20220430,        P02,      96,          1,          6,          6,2,20220602,       0114,    29.9994,  -173.3282,       5409,  3964.3,2,   1.4749,2,  34.6799,2,  34.6793,2,    145.4,2,   145.5,2,  156.17,2,   36.49,2,    0.00,2,    2.50,2,-999.000,9,-999.000,9,-999.0000,9,  -999.0,9,  -999.0,9,-999.0000,9,  -999.00,9, -999.00,9,  -999.0,9, -999.00,9, -999.00,9,     -999.0,9, 20220602,      145,  29.9994,-173.3282,     1.4747,2,     -999.0,9,     -999.0,9,     -999.0,9,     -999.0,9,     0.0122,1,     4.7056,1,     -999.0,9,     -999.0,9,     -999.0,9
33RR20220430,        P02,      96,          1,          5,          5,2,20220602,       0114,    29.9994,  -173.3282,       5409,  4272.3,2,   1.4806,2,  34.6831,3,  34.6804,2,    149.0,2,   149.2,2,  155.49,2,   36.26,2,    0.00,2,    2.50,2,   0.005,2,   0.000,2,   0.0000,2,  2330.1,2,  2419.7,2,   7.5719,2,    24.98,2, -999.00,9,  -999.0,9, -999.00,1, -999.00,1,       22.1,2, 20220602,      139,  29.9994,-173.3282,     1.4804,2,     -999.0,9,     -999.0,9,     -999.0,9,     -999.0,9,     0.0122,1,     4.7056,1,     -999.0,9,     -999.0,9,     -999.0,9
33RR20220430,        P02,      96,          1,          4,          4,2,20220602,       0114,    29.9994,  -173.3282,       5409,  4579.7,2,   1.4998,2,  34.6850,2,  34.6844,2,    151.1,2,   151.3,2,  155.98,2,   36.08,2,    0.00,2,    2.50,2,-999.000,9,-999.000,9,-999.0000,9,  -999.0,9,  -999.0,9,-999.0000,9,  -999.00,9, -999.00,9,  -999.0,9, -999.00,9, -999.00,9,     -999.0,9, 20220602,      132,  29.9995,-173.3282,     1.4998,2,     -999.0,9,     -999.0,9,     -999.0,9,     -999.0,9,     0.0122,1,     4.7056,1,     -999.0,9,     -999.0,9,     -999.0,9
33RR20220430,        P02,      96,          1,          3,          3,2,20220602,       0114,    29.9994,  -173.3282,       5409,  4993.7,2,   1.5304,2,  34.6870,3,  34.6842,2,    154.9,2,   154.9,2,  152.36,2,   35.73,2,    0.00,2,    2.47,2,   0.006,2,   0.000,2,   0.0000,2,  2324.4,6,  2417.4,2,   7.5813,2,    24.99,2, -999.00,9,  -999.0,9, -999.00,1, -999.00,1,       21.6,2, 20220602,      124,  29.9994,-173.3282,     1.5304,2,     -999.0,9,     -999.0,9,     -999.0,9,     -999.0,9,     0.0122,1,     4.7049,1,     -999.0,9,     -999.0,9,     -999.0,9
33RR20220430,        P02,      96,          1,          2,          2,2,20220602,       0114,    29.9994,  -173.3282,       5409,  5302.0,2,   1.5521,2,  34.6883,2,  34.6865,2,    158.3,2,   158.5,2,  148.65,2,   35.43,2,    0.00,2,    2.47,2,-999.000,9,-999.000,9,-999.0000,9,  2321.5,2,  2410.1,2,   7.5849,2,    24.99,2, -999.00,9,  -999.0,9, -999.00,1, -999.00,1,     -999.0,9, 20220602,      118,  29.9994,-173.3282,     1.5521,2,     -999.0,9,     -999.0,9,     -999.0,9,     -999.0,9,     0.0134,1,     4.7047,1,     -999.0,9,     -999.0,9,     -999.0,9