BOTTLE,20230801CCHSIOCBG
EXPOCODE,SECT_ID,STNNBR,CASTNO,SAMPNO,BTLNBR,BTLNBR_FLAG_W,DATE,TIME,LATITUDE,LONGITUDE,DEPTH,CTDPRS,CTDPRS_FLAG_W,CTDTMP,CTDTMP_FLAG_W,CTDSAL,CTDSAL_FLAG_W,SALNTY,SALNTY_FLAG_W,CTDOXY,CTDOXY_FLAG_W,OXYGEN,OXYGEN_FLAG_W,SILCAT,SILCAT_FLAG_W,NITRAT,NITRAT_FLAG_W,NITRIT,NITRIT_FLAG_W,PHSPHT,PHSPHT_FLAG_W,CFC-11,CFC-11_FLAG_W,CFC-12,CFC-12_FLAG_W,SF6,SF6_FLAG_W,TCARBN,TCARBN_FLAG_W,ALKALI,ALKALI_FLAG_W,PH_TOT,PH_TOT_FLAG_W,PH_TMP,PH_TMP_FLAG_W,DELC13,DELC13_FLAG_W,DELC14,DELC14_FLAG_W,DOC,DOC_FLAG_W,TDN,TDN_FLAG_W,N2O,N2O_FLAG_W,BTL_DATE,BTL_TIME,BTL_LAT,BTL_LON,REFTMP,REFTMP_FLAG_W,POC,POC_FLAG_W,PON,PON_FLAG_W,POP,POP_FLAG_W,PCOD,PCOD_FLAG_W,CTDFLUOR,CTDFLUOR_FLAG_W,CTDXMISS,CTDXMISS_FLAG_W,HPLC,HPLC_FLAG_W,DNA,DNA_FLAG_W,FCM,FCM_FLAG_W
,,,,,,,,,,,METERS,DBAR,,ITS-90,,PSS-78,,PSS-78,,UMOL/KG,,UMOL/KG,,UMOL/KG,,UMOL/KG,,UMOL/KG,,UMOL/KG,,PMOL/KG,,PMOL/KG,,FMOL/KG,,UMOL/KG,,UMOL/KG,,,,DEG C,,/MILLE,,/MILLE,,UMOL/KG,,UMOL/KG,,NMOL/KG,,,,,,ITS-90,,UG/L,,UG/L,,UG/L,,UG/L,,VOLTS,,VOLTS,,,,,,,
33RR20220430,        P02,      10,          1,         36,         36,2,20220506,       1034,    31.0910,   134.0937,       4469,    16.5,2,  22.2363,2,  34.7023,3,  34.6808,2,    222.0,3,   218.9,2,    0.88,2,    0.01,2,    0.00,2,    0.04,2,   2.074,2,   1.229,2,   2.1456,2,  1983.0,2,  2276.5,2,   8.0349,2,    25.02,2, -999.00,9,  -999.0,9, -999.00,1, -999.00,1,        3.8,2, 20220506,     1228,  31.0910, 134.0937,     -999.0,9,     -999.0,9,     -999.0,9,     -999.0,9,     -999.0,9,     0.0171,1,     4.6347,1,     -999.0,9,     -999.0,9,     -999.0,9
33RR20220430,        P02,      10,          1,         35,         35,2,20220506,       1034,    31.0910,   134.0937,       4469,    35.7,2,  22.1872,2,  34.7279,2,  34.7201,2,    219.7,2,   219.6,2,    0.98,2,    0.00,2,    0.00,2,    0.01,2,   1.966,2,   1.138,2,   2.0249,2,  1987.9,2,  2279.6,2,   8.0330,2,    25.00,2, -999.00,9,  -999.0,9, -999.00,1, -999.00,1,        3.6,2, 20220506,     1226,  31.0910, 134.0937,     -999.0,9,     -999.0,9,     -999.0,9,     -999.0,9,     -999.0,9,     0.0195,1,     4.6307,1,     -999.0,9,     -999.0,9,     -999.0,9
33RR20220430,        P02,      10,          1,         34,         34,2,20220506,       1034,    31.0910,   134.0937,       4469,    59.6,2,  20.4950,2,  34.7420,2,  34.7335,2,    222.1,3,   227.5,2,    1.07,2,    0.00,2,    0.00,2,    0.00,2,-999.000,9,-999.000,9,-999.0000,9,  1995.3,2,  2280.0,2,   8.0231,2,    25.00,2, -999.00,9,  -999.0,9, -999.00,1, -999.00,1,     -999.0,9, 20220506,     1224,  31.0909, 134.0937,     -999.0,9,     -999.0,9,     -999.0,9,     -999.0,9,     -999.0,9,     0.0208,1,     4.6294,1,     -999.0,9,     -999.0,9,     -999.0,9
33RR20220430,        P02,      10,          1,         33,         33,2,20220506,       1034,    31.0910,   134.0937,       4469,    86.5,2,  19.8883,2,  34.7571,2,  34.7484,2,    210.9,3,   227.3,2,    0.88,2,    0.00,2,    0.00,2,    0.00,2,-999.000,5,-999.000,5,-999.0000,5,  1999.3,2,  2282.2,2,   8.0180,2,    25.00,2, -999.00,9,  -999.0,9, -999.00,1, -999.00,1,     -999.0,5, 20220506,     1222,  31.0910, 134.0937,     -999.0,9,     -999.0,9,     -999.0,9,     -999.0,9,     -999.0,9,     0.0196,1,     4.6420,1,     -999.0,9,     -999.0,9,     -999.0,9
33RR20220430,        P02,      10,          1,         32,         32,2,20220506,       1034,    31.0910,   134.0937,       4469,   111.1,2,  19.7185,2,  34.7645,2,  34.7561,2,    211.8,3,   218.6,2,    1.07,2,    0.79,2,    0.02,2,    0.04,2,-999.000,9,-999.000,9,-999.0000,9,  2006.3,2,  2281.4,2,   8.0052,2,    24.98,2, -999.00,9,  -999.0,9, -999.00,1, -999.00,1,     -999.0,9, 20220506,     1221,  31.0909, 134.0937,     -999.0,9,     -999.0,9,     -999.0,9,     -999.0,9,     -999.0,9,     0.0174,1,     4.6673,1,     -999.0,9,     -999.0,9,     -999.0,9
33RR20220430,        P02,      10,          1,         31,         31,2,20220506,       1034,    31.0910,   134.0937,       4469,   138.1,2,  19.6879,2,  34.7732,2,  34.7642,2,    213.2,3,   217.9,2,    0.88,2,    0.92,2,    0.00,2,    0.03,2,   2.111,2,-999.000,5,-999.0000,5,  2007.7,2,  2283.2,2,   8.0035,2,    24.98,2, -999.00,9,  -999.0,9, -999.00,1, -999.00,1,     -999.0,5, 20220506,     1219,  31.0909, 134.0937,     -999.0,9,     -999.0,9,     -999.0,9,     -999.0,9,     -999.0,9,     0.0147,1,     4.6776,1,     -999.0,9,     -999.0,9,     -999.0,9
33RR20220430,        P02,      10,          1,         30,         30,2,20220506,       1034,    31.0910,   134.0937,       4469,   166.6,2,  19.6313,2,  34.7835,2,  34.7752,2,    215.0,2,   214.3,2,    1.37,2,    1.22,2,    0.00,2,    0.06,2,-999.000,9,-999.000,9,-999.0000,9,  2012.0,2,  2283.8,2,   7.9978,2,    24.97,2, -999.00,9,  -999.0,9, -999.00,1, -999.00,1,     -999.0,9, 20220506,     1218,  31.0910, 134.0937,     -999.0,9,     -999.0,9,     -999.0,9,     -999.0,9,     -999.0,9,     0.0122,1,     4.6819,1,     -999.0,9,     -999.0,9,     -999.0,9
33RR20220430,        P02,      10,          1,         29,         29,2,20220506,       1034,    31.0910,   134.0937,       4469,   215.5,2,  19.0814,2,  34.8078,2,  34.7982,2,    201.6,2,   203.1,2,    2.05,2,    2.65,2,    0.00,2,    0.13,2,   2.216,2,   1.922,2,   1.8947,2,  2031.5,2,  2283.7,2,   7.9675,2,    24.98,2, -999.00,9,  -999.0,9, -999.00,1, -999.00,1,        5.1,2, 20220506,     1216,  31.0909, 134.0937,     -999.0,9,     -999.0,9,     -999.0,9,     -999.0,9,     -999.0,9,     0.0122,1,     4.6885,1,     -999.0,9,     -999.0,9,     -999.0,9
33RR20220430,        P02,      10,          1,         28,         28,4,20220506,       1034,    31.0910,   134.0937,       4469,   265.2,3,  18.3291,3,  34.7739,3,  34.7659,3,    196.7,3,   211.7,3,    2.44,3,    2.63,3,    0.00,3,    0.13,3,-999.000,9,-999.000,9,-999.0000,9,  2028.7,3,  2281.1,3,   7.9628,3,    24.92,3, -999.00,9,  -999.0,9, -999.00,1, -999.00,1,     -999.0,9, 20220506,     1214,  31.0910, 134.0937,     -999.0,9,     -999.0,9,     -999.0,9,     -999.0,9,     -999.0,9,     0.0122,1,     4.6882,1,     -999.0,9,     -999.0,9,     -999.0,9
33RR20220430,        P02,      10,          1,         27,         27,2,20220506,       1034,    31.0910,   134.0937,       4469,   318.6,2,  17.5209,2,  34.7607,2,  34.7508,2,    192.1,3,   194.7,2,    4.00,2,    5.23,2,    0.00,2,    0.26,2,   2.383,2,   1.375,2,   1.8971,2,  2054.9,2,  2281.7,2,   7.9148,2,    24.98,2, -999.00,9,  -999.0,9, -999.00,1, -999.00,1,        6.9,2, 20220506,     1212,  31.0909, 134.0937,     -999.0,9,     -999.0,9,     -999.0,9,     -999.0,9,     -999.0,9,     0.0122,1,     4.6909,1,     -999.0,9,     -999.0,9,     -999.0,9
33RR20220430,        P02,      10,          1,         26,         26,2,20220506,       1034,    31.0910,   134.0937,       4469,   367.4,2,  16.4354,2,  34.6934,2,  34.6853,2,    191.3,2,   191.0,2,    6.15,2,    7.19,2,    0.00,2,    0.38,2,-999.000,9,-999.000,9,-999.0000,9,  2065.3,2,  2278.8,2,   7.8849,2,    24.95,2, -999.00,9,  -999.0,9, -999.00,1, -999.00,1,     -999.0,9, 20220506,     1210,  31.0909, 134.0937,     -999.0,9,     -999.0,9,     -999.0,9,     -999.0,9,     -999.0,9,     0.0122,1,     4.6945,1,     -999.0,9,     -999.0,9,     -999.0,9
33RR20220430,        P02,      10,          1,         25,         25,2,20220506,       1034,    31.0910,   134.0937,       4469,   417.7,2,  15.3447,2,  34.6090,2,  34.5991,2,    187.1,2,   185.9,2,    9.48,2,    9.39,2,    0.00,2,    0.55,2,   3.252,2,   1.458,2,   1.7462,2,  2081.2,2,  2275.1,2,   7.8503,2,    24.94,2, -999.00,9,  -999.0,9, -999.00,1, -999.00,1,        9.7,2, 20220506,     1208,  31.0910, 134.0937,     -999.0,9,     -999.0,9,     -999.0,9,     -999.0,9,     -999.0,9,     0.0122,1,     4.6961,1,     -999.0,9,     -999.0,9,     -999.0,9
33RR20220430,        P02,      10,          1,         24,         24,2,20220506,       1034,    31.0910,   134.0937,       4469,   467.8,2,  13.6452,2,  34.4801,2,  34.4718,2,    182.3,2,   182.2,2,   14.26,2,   12.36,2,    0.00,2,    0.77,2,-999.000,9,-999.000,9,-999.0000,9,  -999.0,9,  -999.0,9,-999.0000,9,  -999.00,9, -999.00,9,  -999.0,9, -999.00,9, -999.00,9,     -999.0,9, 20220506,     1207,  31.0910, 134.0937,     -999.0,9,     -999.0,9,     -999.0,9,     -999.0,9,     -999.0,9,     0.0122,1,     4.6995,1,     -999.0,9,     -999.0,9,     -999.0,9
33RR20220430,        P02,      10,          1,         23,         23,2,20220506,       1034,    31.0910,   134.0937,       4469,   538.8,2,  11.5701,2,  34.3386,2,  34.3341,2,    170.4,2,   170.5,2,   23.45,2,   17.01,2,    0.00,2,    1.10,2,   2.711,2,   1.495,2,   1.4252,2,  2133.2,2,  2276.0,2,   7.7310,2,    24.98,2, -999.00,9,  -999.0,9, -999.00,1, -999.00,1,       16.0,2, 20220506,     1204,  31.0909, 134.0938,     -999.0,9,     -999.0,9,     -999.0,9,     -999.0,9,     -999.0,9,     0.0125,1,     4.7005,1,     -999.0,9,     -999.0,9,     -999.0,9
33RR20220430,        P02,      10,          1,         22,         22,2,20220506,       1034,    31.0910,   134.0937,       4469,   642.0,2,   8.9914,2,  34.2304,2,  34.2258,2,    141.4,3,   139.1,2,   43.48,2,   24.42,2,    0.00,2,    1.65,2,-999.000,9,-999.000,9,-999.0000,9,  -999.0,9,  -999.0,9,-999.0000,9,  -999.00,9, -999.00,9,  -999.0,9, -999.00,9, -999.00,9,     -999.0,9, 20220506,     1202,  31.0910, 134.0937,     -999.0,9,     -999.0,9,     -999.0,9,     -999.0,9,     -999.0,9,     0.0122,1,     4.7019,1,     -999.0,9,     -999.0,9,     -999.0,9
33RR20220430,        P02,      10,          1,         21,         21,2,20220506,       1034,    31.0910,   134.0937,       4469,   743.0,2,   7.0137,2,  34.2155,2,  34.2083,2,    112.5,3,   107.8,2,   65.47,2,   30.71,2,    0.00,2,    2.12,2,   1.739,2,   1.375,2,   0.6684,2,  2238.3,2,  2305.1,2,   7.5182,2,    24.97,2, -999.00,9,  -999.0,9, -999.00,1, -999.00,1,       29.6,2, 20220506,     1159,  31.0909, 134.0937,     -999.0,9,     -999.0,9,     -999.0,9,     -999.0,9,     -999.0,9,     0.0134,1,     4.7019,1,     -999.0,9,     -999.0,9,     -999.0,9
33RR20220430,        P02,      10,          1,         20,         20,2,20220506,       1034,    31.0910,   134.0937,       4469,   843.7,2,   5.6087,2,  34.2421,2,  34.2415,2,     86.0,3,    84.0,2,   85.50,2,   35.23,2,    0.00,2,    2.46,2,-999.000,9,-999.000,9,-999.0000,9,  -999.0,9,  -999.0,9,-999.0000,9,  -999.00,9, -999.00,9,  -999.0,9, -999.00,9, -999.00,9,     -999.0,9, 20220506,     1156,  31.0910, 134.0937,     -999.0,9,     -999.0,9,     -999.0,9,     -999.0,9,     -999.0,9,     0.0129,1,     4.7032,1,     -999.0,9,     -999.0,9,     -999.0,9
33RR20220430,        P02,      10,          1,         19,         19,2,20220506,       1034,    31.0910,   134.0937,       4469,   943.1,2,   4.6623,2,  34.2966,2,  34.2936,2,     70.6,3,    69.1,2,  101.32,2,   37.67,2,    0.00,2,    2.65,2,   0.771,6,   0.669,2,   0.2041,6,  2307.3,2,  2340.4,2,   7.4192,2,    25.03,2, -999.00,9,  -999.0,9, -999.00,1, -999.00,1,       37.9,6, 20220506,     1154,  31.0910, 134.0937,     -999.0,9,     -999.0,9,     -999.0,9,     -999.0,9,     -999.0,9,     0.0134,1,     4.7043,1,     -999.0,9,     -999.0,9,     -999.0,9
33RR20220430,        P02,      10,          1,         18,         18,2,20220506,       1034,    31.0910,   134.0937,       4469,  1044.5,2,   4.0601,2,  34.3488,2,  34.3474,2,     63.3,3,    62.5,2,  113.53,2,   39.08,2,    0.00,2,    2.75,2,-999.000,9,-999.000,9,-999.0000,9,  2325.6,2,  2355.1,2,   7.4055,2,    24.97,2, -999.00,9,  -999.0,9, -999.00,9, -999.00,9,     -999.0,9, 20220506,     1151,  31.0909, 134.0937,     -999.0,9,     -999.0,9,     -999.0,9,     -999.0,9,     -999.0,9,     0.0131,1,     4.7035,1,     -999.0,9,     -999.0,9,     -999.0,9
33RR20220430,        P02,      10,          1,         17,         17,2,20220506,       1034,    31.0910,   134.0937,       4469,  1145.8,2,   3.5844,2,  34.4024,2,  34.4012,2,     63.1,3,    62.1,2,  123.10,2,   40.03,2,    0.00,2,    2.77,2,   0.332,2,   0.171,2,   0.0946,2,  2336.8,2,  2366.4,2,   7.4064,2,    24.99,2, -999.00,9,  -999.0,9, -999.00,1, -999.00,1,       38.6,2, 20220506,     1148,  31.0910, 134.0937,     -999.0,9,     -999.0,9,     -999.0,9,     -999.0,9,     -999.0,9,     0.0134,1,     4.7053,1,     -999.0,9,     -999.0,9,     -999.0,9
33RR20220430,        P02,      10,          1,         16,         16,2,20220506,       1034,    31.0910,   134.0937,       4469,  1247.1,2,   3.3217,2,  34.4331,3,  34.4263,2,     64.4,3,    63.7,2,  127.79,2,   40.18,2,    0.00,2,    2.79,2,-999.000,9,-999.000,9,-999.0000,9,  -999.0,9,  -999.0,9,-999.0000,9,  -999.00,9, -999.00,9,  -999.0,9, -999.00,9, -999.00,9,     -999.0,9, 20220506,     1145,  31.0910, 134.0937,     -999.0,9,     -999.0,9,     -999.0,9,     -999.0,9,     -999.0,9,     0.0134,1,     4.7044,1,     -999.0,9,     -999.0,9,     -999.0,9
33RR20220430,        P02,      10,          1,         15,         15,2,20220506,       1034,    31.0910,   134.0937,       4469,  1348.9,2,   3.1007,2,  34.4580,2,  34.4557,2,     66.3,3,    65.5,2,  133.16,2,   40.28,2,    0.00,2,    2.80,2,   0.182,2,   0.134,2,   0.0000,2,  2345.2,2,  2379.3,2,   7.4135,2,    25.00,2, -999.00,9,  -999.0,9, -999.00,1, -999.00,1,       37.5,2, 20220506,     1143,  31.0909, 134.0937,     -999.0,9,     -999.0,9,     -999.0,9,     -999.0,9,     -999.0,9,     0.0134,1,     4.7055,1,     -999.0,9,     -999.0,9,     -999.0,9
33RR20220430,        P02,      10,          1,         14,         14,2,20220506,       1034,    31.0910,   134.0937,       4469,  1450.6,2,   2.8698,2,  34.4839,2,  34.4818,2,     69.6,3,    68.5,2,  137.36,2,   40.08,2,    0.00,2,    2.80,2,-999.000,9,-999.000,9,-999.0000,9,  -999.0,9,  -999.0,9,-999.0000,9,  -999.00,9, -999.00,9,  -999.0,9, -999.00,9, -999.00,9,     -999.0,9, 20220506,     1140,  31.0909, 134.0937,     -999.0,9,     -999.0,9,     -999.0,9,     -999.0,9,     -999.0,9,     0.0134,1,     4.7056,1,     -999.0,9,     -999.0,9,     -999.0,9
33RR20220430,        P02,      10,          1,         13,         13,2,20220506,       1034,    31.0910,   134.0937,       4469,  1552.0,2,   2.6911,2,  34.5052,2,  34.5050,2,     72.9,2,    73.3,2,  140.87,2,   39.97,2,    0.00,2,    2.80,2,   0.106,2,-999.000,5,-999.0000,5,  2350.2,6,  2389.6,2,   7.4277,2,    24.98,2, -999.00,9,  -999.0,9, -999.00,1, -999.00,1,       35.8,2, 20220506,     1137,  31.0910, 134.0937,     -999.0,9,     -999.0,9,     -999.0,9,     -999.0,9,     -999.0,9,     0.0132,1,     4.7056,1,     -999.0,9,     -999.0,9,     -999.0,9
33RR20220430,        P02,      10,          1,         12,         12,2,20220506,       1034,    31.0910,   134.0937,       4469,  1653.8,2,   2.5622,2,  34.5235,2,  34.5227,2,     77.5,2,    77.4,2,  142.04,2,   39.69,2,    0.00,2,    2.79,2,-999.000,9,-999.000,9,-999.0000,9,  -999.0,9,  -999.0,9,-999.0000,9,  -999.00,9, -999.00,9,  -999.0,9, -999.00,9, -999.00,9,     -999.0,9, 20220506,     1134,  31.0910, 134.0937,     -999.0,9,     -999.0,9,     -999.0,9,     -999.0,9,     -999.0,9,     0.0134,1,     4.7068,1,     -999.0,9,     -999.0,9,     -999.0,9
33RR20220430,        P02,      10,          1,         11,         11,2,20220506,       1034,    31.0910,   134.0937,       4469,  1753.5,2,   2.4107,2,  34.5447,2,  34.5447,2,     83.6,2,    84.0,2,  143.70,2,   39.53,2,    0.00,2,    2.77,2,-999.000,5,   0.034,2,   0.0000,2,  2349.6,2,  2396.3,2,   7.4498,2,    24.98,2, -999.00,9,  -999.0,9, -999.00,1, -999.00,1,       32.5,2, 20220506,     1132,  31.0910, 134.0937,     -999.0,9,     -999.0,9,     -999.0,9,     -999.0,9,     -999.0,9,     0.0129,1,     4.7057,1,     -999.0,9,     -999.0,9,     -999.0,9
33RR20220430,        P02,      10,          1,         10,         10,2,20220506,       1034,    31.0910,   134.0937,       4469,  1885.8,2,   2.2368,2,  34.5691,2,  34.5663,2,     91.8,2,    92.6,2,  145.36,2,   39.23,2,    0.00,2,    2.75,2,-999.000,9,-999.000,9,-999.0000,9,  -999.0,9,  -999.0,9,-999.0000,9,  -999.00,9, -999.00,9,  -999.0,9, -999.00,9, -999.00,9,     -999.0,9, 20220506,     1128,  31.0910, 134.0937,     -999.0,9,     -999.0,9,     -999.0,9,     -999.0,9,     -999.0,9,     0.0126,1,     4.7069,1,     -999.0,9,     -999.0,9,     -999.0,9
33RR20220430,        P02,      10,          1,          9,          9,2,20220506,       1034,    31.0910,   134.0937,       4469,  2108.9,2,   2.0555,2,  34.5967,3,  34.5924,2,    103.5,3,   104.6,2,  146.33,2,   38.42,2,    0.00,2,    2.69,2,   0.025,2,   0.017,2,   0.0000,2,  2343.8,2,  2404.4,2,   7.4889,2,    25.00,2, -999.00,9,  -999.0,9, -999.00,1, -999.00,1,       27.9,2, 20220506,     1123,  31.0910, 134.0937,     -999.0,9,     -999.0,9,     -999.0,9,     -999.0,9,     -999.0,9,     0.0134,1,     4.7068,1,     -999.0,9,     -999.0,9,     -999.0,9
33RR20220430,        P02,      10,          1,          8,          8,2,20220506,       1034,    31.0910,   134.0937,       4469,  2363.8,2,   1.9097,2,  34.6192,3,  34.6162,2,    114.5,2,   115.6,2,  146.33,2,   37.81,2,    0.00,2,    2.64,2,-999.000,9,-999.000,9,-999.0000,9,  -999.0,9,  -999.0,9,-999.0000,9,  -999.00,9, -999.00,9,  -999.0,9, -999.00,9, -999.00,9,     -999.0,9, 20220506,     1118,  31.0909, 134.0937,     -999.0,9,     -999.0,9,     -999.0,9,     -999.0,9,     -999.0,9,     0.0122,1,     4.7068,1,     -999.0,9,     -999.0,9,     -999.0,9
33RR20220430,        P02,      10,          1,          7,          7,2,20220506,       1034,    31.0910,   134.0937,       4469,  2619.0,2,   1.7837,2,  34.6383,3,  34.6360,2,    125.1,2,   125.8,2,  145.25,2,   37.28,2,    0.00,2,    2.58,2,   0.012,2,   0.017,2,   0.0000,2,  2336.8,6,  2410.1,2,   7.5288,2,    24.99,2, -999.00,9,  -999.0,9, -999.00,1, -999.00,1,       23.8,2, 20220506,     1113,  31.0910, 134.0937,     -999.0,9,     -999.0,9,     -999.0,9,     -999.0,9,     -999.0,9,     0.0134,1,     4.7056,1,     -999.0,9,     -999.0,9,     -999.0,9
33RR20220430,        P02,      10,          1,          6,          6,2,20220506,       1034,    31.0910,   134.0937,       4469,  2878.9,2,   1.6694,2,  34.6549,2,  34.6531,2,    135.1,2,   136.2,2,  144.57,2,   36.69,2,    0.00,2,    2.53,2,-999.000,9,-999.000,9,-999.0000,9,  -999.0,9,  -999.0,9,-999.0000,9,  -999.00,9, -999.00,9,  -999.0,9, -999.00,9, -999.00,9,     -999.0,9, 20220506,     1107,  31.0910, 134.0937,     -999.0,9,     -999.0,9,     -999.0,9,     -999.0,9,     -999.0,9,     0.0134,1,     4.7044,1,     -999.0,9,     -999.0,9,     -999.0,9
33RR20220430,        P02,      10,          1,          5,          5,2,20220506,       1034,    31.0910,   134.0937,       4469,  3144.3,2,   1.5881,2,  34.6672,2,  34.6653,2,    143.2,2,   143.7,2,  143.59,2,   36.32,2,    0.00,2,    2.49,2,   0.007,2,   0.017,2,   0.0000,2,  2326.1,2,  2412.1,2,   7.5610,2,    24.99,2, -999.00,9,  -999.0,9, -999.00,1, -999.00,1,       21.0,2, 20220506,     1102,  31.0909, 134.0937,     -999.0,9,     -999.0,9,     -999.0,9,     -999.0,9,     -999.0,9,     0.0122,1,     4.7044,1,     -999.0,9,     -999.0,9,     -999.0,9
33RR20220430,        P02,      10,          1,          4,          4,2,20220506,       1034,    31.0910,   134.0937,       4469,  3451.2,2,   1.5497,2,  34.6750,3,  34.6708,2,    148.9,2,   148.8,2,  142.91,2,   35.98,2,    0.00,2,    2.46,2,-999.000,9,-999.000,9,-999.0000,9,  -999.0,9,  -999.0,9,-999.0000,9,  -999.00,9, -999.00,9,  -999.0,9, -999.00,9, -999.00,9,     -999.0,9, 20220506,     1055,  31.0910, 134.0937,     -999.0,9,     -999.0,9,     -999.0,9,     -999.0,9,     -999.0,9,     0.0122,1,     4.7050,1,     -999.0,9,     -999.0,9,     -999.0,9