BOTTLE,20230801CCHSIOCBG
EXPOCODE,SECT_ID,STNNBR,CASTNO,SAMPNO,BTLNBR,BTLNBR_FLAG_W,DATE,TIME,LATITUDE,LONGITUDE,DEPTH,CTDPRS,CTDPRS_FLAG_W,CTDTMP,CTDTMP_FLAG_W,CTDSAL,CTDSAL_FLAG_W,SALNTY,SALNTY_FLAG_W,CTDOXY,CTDOXY_FLAG_W,OXYGEN,OXYGEN_FLAG_W,SILCAT,SILCAT_FLAG_W,NITRAT,NITRAT_FLAG_W,NITRIT,NITRIT_FLAG_W,PHSPHT,PHSPHT_FLAG_W,CFC-11,CFC-11_FLAG_W,CFC-12,CFC-12_FLAG_W,SF6,SF6_FLAG_W,TCARBN,TCARBN_FLAG_W,ALKALI,ALKALI_FLAG_W,PH_TOT,PH_TOT_FLAG_W,PH_TMP,PH_TMP_FLAG_W,DELC13,DELC13_FLAG_W,DELC14,DELC14_FLAG_W,DOC,DOC_FLAG_W,TDN,TDN_FLAG_W,N2O,N2O_FLAG_W,BTL_DATE,BTL_TIME,BTL_LAT,BTL_LON,REFTMP,REFTMP_FLAG_W,POC,POC_FLAG_W,PON,PON_FLAG_W,POP,POP_FLAG_W,PCOD,PCOD_FLAG_W,CTDFLUOR,CTDFLUOR_FLAG_W,CTDXMISS,CTDXMISS_FLAG_W,HPLC,HPLC_FLAG_W,DNA,DNA_FLAG_W,FCM,FCM_FLAG_W
,,,,,,,,,,,METERS,DBAR,,ITS-90,,PSS-78,,PSS-78,,UMOL/KG,,UMOL/KG,,UMOL/KG,,UMOL/KG,,UMOL/KG,,UMOL/KG,,PMOL/KG,,PMOL/KG,,FMOL/KG,,UMOL/KG,,UMOL/KG,,,,DEG C,,/MILLE,,/MILLE,,UMOL/KG,,UMOL/KG,,NMOL/KG,,,,,,ITS-90,,UG/L,,UG/L,,UG/L,,UG/L,,VOLTS,,VOLTS,,,,,,,
33RR20220430,        P02,      29,          2,          3,          3,2,20220512,       0507,    30.0001,   147.2155,       6221,  5095.6,2,   1.5234,2,  34.6842,3,  34.6889,2,    161.6,2,   161.8,2,  143.41,2,   35.30,2,    0.00,2,    2.42,2,   0.006,2,   0.000,2,   0.0000,2,  2315.9,2,  2410.8,2,   7.5858,2,    24.97,2, -999.00,9,  -999.0,9, -999.00,1, -999.00,1,       22.3,2, 20220512,      524,  30.0001, 147.2155,     1.5245,2,     -999.0,9,     -999.0,9,     -999.0,9,     -999.0,9,     0.0122,1,     0.0094,1,     -999.0,9,     -999.0,9,     -999.0,9
33RR20220430,        P02,      29,          2,          2,          2,2,20220512,       0507,    30.0001,   147.2155,       6221,  5611.2,2,   1.5652,2,  34.6865,3,  34.6912,2,    165.9,2,   166.0,2,  140.29,2,   34.86,2,    0.00,2,    2.41,2,   0.005,2,   0.000,2,   0.0000,2,  2312.0,2,  2407.6,2,   7.5908,2,    24.98,2, -999.00,9,  -999.0,9, -999.00,1, -999.00,1,       22.4,2, 20220512,      514,  30.0001, 147.2155,     1.5661,2,     -999.0,9,     -999.0,9,     -999.0,9,     -999.0,9,     0.0122,1,     0.0094,1,     -999.0,9,     -999.0,9,     -999.0,9
33RR20220430,        P02,      29,          2,          1,          1,2,20220512,       0507,    30.0001,   147.2155,       6221,  6008.8,2,   1.6010,2,  34.6918,2,  34.6930,2,    168.5,2,   168.4,2,  138.14,2,   34.86,2,    0.00,2,    2.40,2,   0.006,2,   0.000,2,   0.0000,2,  2307.6,2,  2405.9,2,   7.5940,2,    24.99,2, -999.00,9,  -999.0,9, -999.00,1, -999.00,1,       22.5,2, 20220512,      507,  30.0002, 147.2155,     1.6045,2,     -999.0,9,     -999.0,9,     -999.0,9,     -999.0,9,     0.0129,1,     0.0092,1,     -999.0,9,     -999.0,9,     -999.0,9