BOTTLE,20230801CCHSIOCBG
EXPOCODE,SECT_ID,STNNBR,CASTNO,SAMPNO,BTLNBR,BTLNBR_FLAG_W,DATE,TIME,LATITUDE,LONGITUDE,DEPTH,CTDPRS,CTDPRS_FLAG_W,CTDTMP,CTDTMP_FLAG_W,CTDSAL,CTDSAL_FLAG_W,SALNTY,SALNTY_FLAG_W,CTDOXY,CTDOXY_FLAG_W,OXYGEN,OXYGEN_FLAG_W,SILCAT,SILCAT_FLAG_W,NITRAT,NITRAT_FLAG_W,NITRIT,NITRIT_FLAG_W,PHSPHT,PHSPHT_FLAG_W,CFC-11,CFC-11_FLAG_W,CFC-12,CFC-12_FLAG_W,SF6,SF6_FLAG_W,TCARBN,TCARBN_FLAG_W,ALKALI,ALKALI_FLAG_W,PH_TOT,PH_TOT_FLAG_W,PH_TMP,PH_TMP_FLAG_W,DELC13,DELC13_FLAG_W,DELC14,DELC14_FLAG_W,DOC,DOC_FLAG_W,TDN,TDN_FLAG_W,N2O,N2O_FLAG_W,BTL_DATE,BTL_TIME,BTL_LAT,BTL_LON,REFTMP,REFTMP_FLAG_W,POC,POC_FLAG_W,PON,PON_FLAG_W,POP,POP_FLAG_W,PCOD,PCOD_FLAG_W,CTDFLUOR,CTDFLUOR_FLAG_W,CTDXMISS,CTDXMISS_FLAG_W,HPLC,HPLC_FLAG_W,DNA,DNA_FLAG_W,FCM,FCM_FLAG_W
,,,,,,,,,,,METERS,DBAR,,ITS-90,,PSS-78,,PSS-78,,UMOL/KG,,UMOL/KG,,UMOL/KG,,UMOL/KG,,UMOL/KG,,UMOL/KG,,PMOL/KG,,PMOL/KG,,FMOL/KG,,UMOL/KG,,UMOL/KG,,,,DEG C,,/MILLE,,/MILLE,,UMOL/KG,,UMOL/KG,,NMOL/KG,,,,,,ITS-90,,UG/L,,UG/L,,UG/L,,UG/L,,VOLTS,,VOLTS,,,,,,,
33RR20220430,        P02,     115,          1,         36,         36,2,20220607,       1755,    30.0005,  -162.3672,       5671,     4.5,2,  24.3488,2,  35.0011,2,  34.9872,2,    210.3,3,   214.4,2,    0.00,2,    0.00,2,    0.00,2,    0.00,2,   1.547,2,   1.047,2,   1.8294,2,  2015.1,2,  2295.9,2,   8.0086,2,    25.02,2, -999.00,9,  -999.0,9, -999.00,1, -999.00,1,        7.2,2, 20220607,     2008,  30.0005,-162.3672,    24.3533,2,     -999.0,9,     -999.0,9,     -999.0,9,     -999.0,9,     0.0122,1,     4.6317,1,     -999.0,9,     -999.0,9,     -999.0,9
33RR20220430,        P02,     115,          1,         35,         35,2,20220607,       1755,    30.0005,  -162.3672,       5671,    36.4,2,  21.7347,2,  35.0001,2,  34.9913,2,    228.3,2,   229.4,2,    0.20,2,    0.00,2,    0.00,2,    0.00,2,   1.744,2,   1.157,2,   1.9395,2,  2019.7,2,  2295.7,2,   8.0044,2,    25.03,2, -999.00,9,  -999.0,9, -999.00,1, -999.00,1,        7.8,2, 20220607,     2006,  30.0005,-162.3672,    21.7952,3,     -999.0,9,     -999.0,9,     -999.0,9,     -999.0,9,     0.0147,1,     4.6221,1,     -999.0,9,     -999.0,9,     -999.0,9
33RR20220430,        P02,     115,          1,         34,         34,2,20220607,       1755,    30.0005,  -162.3672,       5671,    61.3,2,  19.2602,2,  34.8986,2,  34.8975,2,    235.8,2,   235.0,2,    0.39,2,    0.00,2,    0.00,2,    0.02,2,   1.881,2,   1.249,2,   2.0037,2,  2025.6,2,  2289.9,2,   7.9851,2,    25.00,2, -999.00,9,  -999.0,9, -999.00,1, -999.00,1,        8.3,2, 20220607,     2005,  30.0005,-162.3672,    19.2633,2,     -999.0,9,     -999.0,9,     -999.0,9,     -999.0,9,     0.0159,1,     4.6350,1,     -999.0,9,     -999.0,9,     -999.0,9
33RR20220430,        P02,     115,          1,         33,         33,2,20220607,       1755,    30.0005,  -162.3672,       5671,    86.4,2,  18.5345,2,  34.8161,2,  34.8080,2,    239.8,2,   239.1,2,    0.59,2,    0.00,2,    0.00,2,    0.03,2,   1.959,2,   1.282,2,   2.1186,2,  2024.0,2,  2285.3,2,   7.9738,2,    25.02,2, -999.00,9,  -999.0,9, -999.00,1, -999.00,1,        8.4,2, 20220607,     2003,  30.0005,-162.3672,    18.5277,2,     -999.0,9,     -999.0,9,     -999.0,9,     -999.0,9,     0.0183,1,     4.6409,1,     -999.0,9,     -999.0,9,     -999.0,9
33RR20220430,        P02,     115,          1,         32,         32,2,20220607,       1755,    30.0005,  -162.3672,       5671,   116.6,2,  17.3729,2,  34.7077,2,  34.7009,2,    229.2,2,   229.9,2,    1.07,2,    0.11,2,    0.03,2,    0.08,2,   2.036,2,   1.334,2,   2.0810,2,  2037.3,2,  2277.4,2,   7.9445,2,    25.02,2, -999.00,9,  -999.0,9, -999.00,1, -999.00,1,        9.2,2, 20220607,     2001,  30.0005,-162.3672,    17.4088,2,     -999.0,9,     -999.0,9,     -999.0,9,     -999.0,9,     0.0457,1,     4.6331,1,     -999.0,9,     -999.0,9,     -999.0,9
33RR20220430,        P02,     115,          1,         31,         31,2,20220607,       1755,    30.0005,  -162.3672,       5671,   166.6,2,  15.2763,2,  34.5153,2,  34.5111,2,    215.0,2,   215.5,2,    2.74,2,    4.73,2,    0.01,2,    0.37,2,   2.267,2,   1.464,2,   2.1994,2,  2060.7,2,  2266.7,2,   7.8753,2,    24.99,2, -999.00,9,  -999.0,9, -999.00,1, -999.00,1,       11.9,2, 20220607,     1959,  30.0005,-162.3672,    15.2777,2,     -999.0,9,     -999.0,9,     -999.0,9,     -999.0,9,     0.0196,1,     4.6760,1,     -999.0,9,     -999.0,9,     -999.0,9
33RR20220430,        P02,     115,          1,         30,         30,2,20220607,       1755,    30.0005,  -162.3672,       5671,   216.8,2,  14.2819,2,  34.4474,2,  34.4400,2,    211.8,2,   212.6,2,    4.89,2,    7.02,2,    0.00,2,    0.52,2,   2.382,2,   1.524,2,   2.0812,2,  2072.7,2,  2263.9,2,   7.8469,2,    25.02,2, -999.00,9,  -999.0,9, -999.00,1, -999.00,1,       13.2,2, 20220607,     1958,  30.0005,-162.3672,    14.2817,2,     -999.0,9,     -999.0,9,     -999.0,9,     -999.0,9,     0.0134,1,     4.6836,1,     -999.0,9,     -999.0,9,     -999.0,9
33RR20220430,        P02,     115,          1,         29,         29,2,20220607,       1755,    30.0005,  -162.3672,       5671,   267.3,2,  12.9879,2,  34.3498,2,  34.3431,2,    215.9,2,   215.6,2,    7.72,2,    9.19,2,    0.00,2,    0.66,2,   2.498,2,   1.612,2,   2.1321,2,  2083.3,2,  2261.4,2,   7.8178,2,    25.01,2, -999.00,9,  -999.0,9, -999.00,1, -999.00,1,       14.6,2, 20220607,     1956,  30.0005,-162.3672,    12.9893,2,     -999.0,9,     -999.0,9,     -999.0,9,     -999.0,9,     0.0122,1,     4.6898,1,     -999.0,9,     -999.0,9,     -999.0,9
33RR20220430,        P02,     115,          1,         28,         28,2,20220607,       1755,    30.0005,  -162.3672,       5671,   317.5,2,  12.0911,2,  34.2872,2,  34.2795,2,    214.2,2,   213.4,2,   10.75,2,   11.34,2,    0.00,2,    0.80,2,   2.588,2,   1.655,2,   2.0797,2,  -999.0,9,  -999.0,9,-999.0000,9,  -999.00,9, -999.00,9,  -999.0,9, -999.00,1, -999.00,1,       15.8,2, 20220607,     1954,  30.0005,-162.3672,    12.0752,2,     -999.0,9,     -999.0,9,     -999.0,9,     -999.0,9,     0.0122,1,     4.6913,1,     -999.0,9,     -999.0,9,     -999.0,9
33RR20220430,        P02,     115,          1,         27,         27,2,20220607,       1755,    30.0005,  -162.3672,       5671,   368.4,2,  10.9147,2,  34.1982,2,  34.1938,2,    209.6,2,   209.1,2,   15.05,2,   13.91,2,    0.00,2,    0.98,2,   2.726,2,   1.711,2,   1.8860,2,  2109.0,2,  2260.9,2,   7.7544,2,    25.01,2, -999.00,9,  -999.0,9, -999.00,1, -999.00,1,       17.7,2, 20220607,     1952,  30.0005,-162.3672,    10.9571,2,     -999.0,9,     -999.0,9,     -999.0,9,     -999.0,9,     0.0122,1,     4.6933,1,     -999.0,9,     -999.0,9,     -999.0,9
33RR20220430,        P02,     115,          1,         26,         26,2,20220607,       1755,    30.0005,  -162.3672,       5671,   439.6,2,   9.3668,2,  34.0880,2,  34.0772,2,    196.8,2,   196.9,2,   24.53,2,   18.62,2,    0.00,2,    1.29,2,   2.745,2,   1.728,2,   1.7749,2,  -999.0,9,  -999.0,9,-999.0000,9,  -999.00,9, -999.00,9,  -999.0,9, -999.00,1, -999.00,1,       20.9,2, 20220607,     1950,  30.0005,-162.3672,     9.3729,2,     -999.0,9,     -999.0,9,     -999.0,9,     -999.0,9,     0.0129,1,     4.6946,1,     -999.0,9,     -999.0,9,     -999.0,9
33RR20220430,        P02,     115,          1,         25,         25,2,20220607,       1755,    30.0005,  -162.3672,       5671,   540.6,2,   7.4139,2,  34.0188,2,  34.0168,2,    141.6,2,   142.2,2,   43.88,2,   27.06,2,    0.00,2,    1.92,2,   2.434,2,   1.486,2,   1.1038,2,  2198.1,2,  2272.3,2,   7.5496,2,    25.01,2, -999.00,9,  -999.0,9, -999.00,1, -999.00,1,       29.0,2, 20220607,     1947,  30.0005,-162.3672,     7.4008,2,     -999.0,9,     -999.0,9,     -999.0,9,     -999.0,9,     0.0122,1,     4.6971,1,     -999.0,9,     -999.0,9,     -999.0,9
33RR20220430,        P02,     115,          1,         24,         24,2,20220607,       1755,    30.0005,  -162.3672,       5671,   642.2,2,   5.7515,2,  34.0392,2,  34.0398,2,     78.1,2,    78.9,2,   69.59,2,   35.66,2,    0.00,2,    2.56,2,   1.535,2,   0.927,2,   0.5761,2,  -999.0,9,  -999.0,9,-999.0000,9,  -999.00,9, -999.00,9,  -999.0,9, -999.00,9, -999.00,9,       39.4,2, 20220607,     1945,  30.0005,-162.3671,     5.7531,2,     -999.0,9,     -999.0,9,     -999.0,9,     -999.0,9,     0.0134,1,     4.6983,1,     -999.0,9,     -999.0,9,     -999.0,9
33RR20220430,        P02,     115,          1,         23,         23,2,20220607,       1755,    30.0005,  -162.3672,       5671,   742.2,2,   4.7811,2,  34.1322,2,  34.1352,2,     40.6,3,    41.3,2,   92.45,2,   40.44,2,    0.00,2,    2.92,2,   0.704,2,   0.407,2,   0.0921,2,  2310.3,2,  2315.4,2,   7.3299,2,    24.98,2, -999.00,9,  -999.0,9, -999.00,1, -999.00,1,       47.9,2, 20220607,     1942,  30.0005,-162.3671,     4.7750,2,     -999.0,9,     -999.0,9,     -999.0,9,     -999.0,9,     0.0134,1,     4.6984,1,     -999.0,9,     -999.0,9,     -999.0,9
33RR20220430,        P02,     115,          1,         22,         22,2,20220607,       1755,    30.0005,  -162.3672,       5671,   843.7,2,   4.3082,2,  34.2120,2,  34.2115,2,     26.7,2,    26.5,2,  105.54,2,   42.29,2,    0.00,2,    3.04,2,   0.325,2,   0.190,2,   0.0000,2,  -999.0,9,  -999.0,9,-999.0000,9,  -999.00,9, -999.00,9,  -999.0,9, -999.00,9, -999.00,9,       52.8,2, 20220607,     1939,  30.0005,-162.3672,     4.3098,2,     -999.0,9,     -999.0,9,     -999.0,9,     -999.0,9,     0.0134,1,     4.6989,1,     -999.0,9,     -999.0,9,     -999.0,9
33RR20220430,        P02,     115,          1,         21,         21,2,20220607,       1755,    30.0005,  -162.3672,       5671,   943.4,2,   3.9706,2,  34.3001,2,  34.3029,2,     21.4,3,    21.6,2,  116.97,2,   43.11,2,    0.00,2,    3.11,2,   0.110,2,   0.066,2,   0.0000,2,  2350.5,2,  2348.2,2,   7.3112,2,    25.00,2, -999.00,9,  -999.0,9, -999.00,1, -999.00,1,       55.3,2, 20220607,     1937,  30.0005,-162.3672,     3.9600,2,     -999.0,9,     -999.0,9,     -999.0,9,     -999.0,9,     0.0134,1,     4.6994,1,     -999.0,9,     -999.0,9,     -999.0,9
33RR20220430,        P02,     115,          1,         20,         20,3,20220607,       1755,    30.0005,  -162.3672,       5671,  1044.6,3,   3.6894,3,  34.3775,3,  34.4180,3,     24.6,3,    43.5,3,  111.19,3,   39.09,3,    0.00,3,    2.79,3,-999.000,5,-999.000,5,-999.0000,5,  -999.0,9,  -999.0,9,-999.0000,9,  -999.00,9, -999.00,9,  -999.0,9, -999.00,9, -999.00,9,     -999.0,5, 20220607,     1934,  30.0005,-162.3672,     3.6949,3,     -999.0,9,     -999.0,9,     -999.0,9,     -999.0,9,     0.0125,1,     4.6995,1,     -999.0,9,     -999.0,9,     -999.0,9
33RR20220430,        P02,     115,          1,         19,         19,2,20220607,       1755,    30.0005,  -162.3672,       5671,  1152.7,2,   3.4362,2,  34.4336,2,  34.4347,2,     30.8,3,    29.6,2,  131.22,2,   43.07,2,    0.00,2,    3.10,2,   0.019,2,   0.013,2,   0.0000,2,  2364.2,2,  2372.0,2,   7.3440,2,    25.01,2, -999.00,9,  -999.0,9, -999.00,1, -999.00,1,       51.6,2, 20220607,     1931,  30.0005,-162.3672,     3.4411,2,     -999.0,9,     -999.0,9,     -999.0,9,     -999.0,9,     0.0134,1,     4.6999,1,     -999.0,9,     -999.0,9,     -999.0,9
33RR20220430,        P02,     115,          1,         18,         18,2,20220607,       1755,    30.0005,  -162.3672,       5671,  1254.2,2,   3.2289,2,  34.4740,2,  34.4775,2,     38.5,3,    37.9,2,  134.63,2,   42.72,2,    0.00,2,    3.04,2,-999.000,9,-999.000,9,-999.0000,9,  -999.0,9,  -999.0,9,-999.0000,9,  -999.00,9, -999.00,9,  -999.0,9, -999.00,9, -999.00,9,     -999.0,9, 20220607,     1928,  30.0005,-162.3672,     3.2254,2,     -999.0,9,     -999.0,9,     -999.0,9,     -999.0,9,     0.0134,1,     4.7006,1,     -999.0,9,     -999.0,9,     -999.0,9
33RR20220430,        P02,     115,          1,         17,         17,2,20220607,       1755,    30.0005,  -162.3672,       5671,  1355.7,2,   3.0114,2,  34.5087,2,  34.5107,2,     47.6,3,    47.0,2,  139.22,2,   42.28,2,    0.00,2,    3.00,2,   0.007,2,   0.000,2,   0.0000,2,  2364.3,2,  2386.8,2,   7.3841,2,    24.99,2, -999.00,9,  -999.0,9, -999.00,1, -999.00,1,       44.3,2, 20220607,     1926,  30.0005,-162.3671,     3.0118,2,     -999.0,9,     -999.0,9,     -999.0,9,     -999.0,9,     0.0134,1,     4.7008,1,     -999.0,9,     -999.0,9,     -999.0,9
33RR20220430,        P02,     115,          1,         16,         16,2,20220607,       1755,    30.0005,  -162.3672,       5671,  1486.5,2,   2.7550,2,  34.5395,2,  34.5411,2,     57.0,2,    57.4,2,  144.69,2,   41.68,2,    0.00,2,    2.95,2,-999.000,9,-999.000,9,-999.0000,9,  2364.9,2,  2394.8,2,   7.4050,2,    25.00,2, -999.00,9,  -999.0,9, -999.00,1, -999.00,1,     -999.0,9, 20220607,     1922,  30.0005,-162.3672,     2.7564,2,     -999.0,9,     -999.0,9,     -999.0,9,     -999.0,9,     0.0134,1,     4.7019,1,     -999.0,9,     -999.0,9,     -999.0,9
33RR20220430,        P02,     115,          1,         15,         15,2,20220607,       1755,    30.0005,  -162.3672,       5671,  1689.0,2,   2.4348,2,  34.5706,2,  34.5736,2,     68.5,2,    68.6,2,  151.43,2,   41.04,2,    0.00,2,    2.90,2,   0.004,2,   0.000,2,   0.0000,2,  2363.6,2,  2403.0,2,   7.4270,2,    24.98,2, -999.00,9,  -999.0,9, -999.00,1, -999.00,1,       37.1,2, 20220607,     1918,  30.0005,-162.3672,     2.4348,2,     -999.0,9,     -999.0,9,     -999.0,9,     -999.0,9,     0.0132,1,     4.7022,1,     -999.0,9,     -999.0,9,     -999.0,9
33RR20220430,        P02,     115,          1,         14,         14,2,20220607,       1755,    30.0005,  -162.3672,       5671,  1892.2,2,   2.2116,2,  34.5911,2,  34.5926,2,     77.0,2,    77.7,2,  156.70,2,   40.47,2,    0.00,2,    2.85,2,-999.000,9,-999.000,9,-999.0000,9,  2363.6,2,  2407.6,2,   7.4436,2,    25.02,2, -999.00,9,  -999.0,9, -999.00,1, -999.00,1,     -999.0,9, 20220607,     1913,  30.0005,-162.3672,     2.2152,2,     -999.0,9,     -999.0,9,     -999.0,9,     -999.0,9,     0.0134,1,     4.7031,1,     -999.0,9,     -999.0,9,     -999.0,9
33RR20220430,        P02,     115,          1,         13,         13,2,20220607,       1755,    30.0005,  -162.3672,       5671,  2115.8,2,   2.0022,2,  34.6113,3,  34.6138,2,     87.4,2,    87.3,2,  160.90,2,   39.85,2,    0.00,2,    2.80,2,   0.002,2,   0.000,2,   0.0000,2,  2363.3,2,  2413.4,2,   7.4611,2,    25.00,2, -999.00,9,  -999.0,9, -999.00,1, -999.00,1,       32.2,2, 20220607,     1908,  30.0005,-162.3672,     2.0024,2,     -999.0,9,     -999.0,9,     -999.0,9,     -999.0,9,     0.0134,1,     4.7033,1,     -999.0,9,     -999.0,9,     -999.0,9
33RR20220430,        P02,     115,          1,         12,         12,2,20220607,       1755,    30.0005,  -162.3672,       5671,  2370.5,2,   1.8143,2,  34.6297,2,  34.6317,2,     98.1,2,    98.5,2,  163.54,2,   39.18,2,    0.00,2,    2.75,2,-999.000,9,-999.000,9,-999.0000,9,  -999.0,9,  -999.0,9,-999.0000,9,  -999.00,9, -999.00,9,  -999.0,9, -999.00,9, -999.00,9,     -999.0,9, 20220607,     1903,  30.0005,-162.3672,     1.8148,2,     -999.0,9,     -999.0,9,     -999.0,9,     -999.0,9,     0.0127,1,     4.7037,1,     -999.0,9,     -999.0,9,     -999.0,9
33RR20220430,        P02,     115,          1,         11,         11,2,20220607,       1755,    30.0005,  -162.3672,       5671,  2623.7,2,   1.6827,2,  34.6447,3,  34.6474,2,    108.9,2,   109.2,2,  165.00,2,   38.48,2,    0.00,2,    2.70,2,   0.006,2,   0.000,2,   0.0000,2,  2355.6,2,  2418.8,2,   7.5011,2,    25.00,2, -999.00,9,  -999.0,9, -999.00,1, -999.00,1,       28.0,2, 20220607,     1858,  30.0005,-162.3671,     1.6826,2,     -999.0,9,     -999.0,9,     -999.0,9,     -999.0,9,     0.0130,1,     4.7045,1,     -999.0,9,     -999.0,9,     -999.0,9
33RR20220430,        P02,     115,          1,         10,         10,2,20220607,       1755,    30.0005,  -162.3672,       5671,  2880.1,2,   1.6431,2,  34.6510,2,  34.6525,2,    114.5,2,   114.3,2,  164.90,2,   38.12,2,    0.00,2,    2.67,2,-999.000,9,-999.000,9,-999.0000,9,  -999.0,9,  -999.0,9,-999.0000,9,  -999.00,9, -999.00,9,  -999.0,9, -999.00,9, -999.00,9,     -999.0,9, 20220607,     1852,  30.0005,-162.3672,     1.6428,2,     -999.0,9,     -999.0,9,     -999.0,9,     -999.0,9,     0.0127,1,     4.7034,1,     -999.0,9,     -999.0,9,     -999.0,9
33RR20220430,        P02,     115,          1,          9,          9,2,20220607,       1755,    30.0005,  -162.3672,       5671,  3149.3,2,   1.5795,2,  34.6598,2,  34.6618,2,    122.3,2,   122.6,2,  164.61,2,   37.65,2,    0.00,2,    2.62,2,   0.005,2,   0.000,2,   0.0000,2,  2344.7,2,  2420.5,2,   7.5251,2,    25.00,2, -999.00,9,  -999.0,9, -999.00,1, -999.00,1,       25.9,2, 20220607,     1847,  30.0006,-162.3672,     1.5789,2,     -999.0,9,     -999.0,9,     -999.0,9,     -999.0,9,     0.0122,1,     4.7044,1,     -999.0,9,     -999.0,9,     -999.0,9
33RR20220430,        P02,     115,          1,          8,          8,2,20220607,       1755,    30.0005,  -162.3672,       5671,  3455.7,2,   1.5234,2,  34.6687,3,  34.6708,2,    132.6,2,   132.8,2,  162.75,2,   36.97,2,    0.00,2,    2.57,2,-999.000,9,-999.000,9,-999.0000,9,  -999.0,9,  -999.0,9,-999.0000,9,  -999.00,9, -999.00,9,  -999.0,9, -999.00,9, -999.00,9,     -999.0,9, 20220607,     1841,  30.0005,-162.3672,     1.5233,2,     -999.0,9,     -999.0,9,     -999.0,9,     -999.0,9,     0.0130,1,     4.7047,1,     -999.0,9,     -999.0,9,     -999.0,9
33RR20220430,        P02,     115,          1,          7,          7,2,20220607,       1755,    30.0005,  -162.3672,       5671,  3761.6,2,   1.4895,2,  34.6756,3,  34.6779,2,    141.2,2,   140.7,2,  159.92,2,   36.48,2,    0.00,2,    2.52,2,   0.004,2,   0.000,2,   0.0000,2,  2334.2,2,  2420.3,2,   7.5579,2,    25.00,2, -999.00,9,  -999.0,9, -999.00,1, -999.00,1,       23.9,2, 20220607,     1835,  30.0005,-162.3672,     1.4895,2,     -999.0,9,     -999.0,9,     -999.0,9,     -999.0,9,     0.0122,1,     4.7052,1,     -999.0,9,     -999.0,9,     -999.0,9
33RR20220430,        P02,     115,          1,          6,          6,2,20220607,       1755,    30.0005,  -162.3672,       5671,  4105.1,2,   1.4823,2,  34.6802,2,  34.6820,2,    147.2,2,   147.1,2,  158.25,2,   36.12,2,    0.00,2,    2.50,2,-999.000,9,-999.000,9,-999.0000,9,  -999.0,9,  -999.0,9,-999.0000,9,  -999.00,9, -999.00,9,  -999.0,9, -999.00,9, -999.00,9,     -999.0,9, 20220607,     1828,  30.0005,-162.3672,     1.4824,2,     -999.0,9,     -999.0,9,     -999.0,9,     -999.0,9,     0.0122,1,     4.7044,1,     -999.0,9,     -999.0,9,     -999.0,9
33RR20220430,        P02,     115,          1,          5,          5,2,20220607,       1755,    30.0005,  -162.3672,       5671,  4516.5,2,   1.4976,2,  34.6836,3,  34.6869,2,    151.5,2,   151.6,2,  157.38,2,   35.88,2,    0.00,2,    2.49,2,   0.004,2,   0.000,2,   0.0000,2,  2326.3,2,  -999.0,1,   7.5748,2,    25.01,2, -999.00,9,  -999.0,9, -999.00,1, -999.00,1,       22.9,2, 20220607,     1820,  30.0005,-162.3672,     1.4975,2,     -999.0,9,     -999.0,9,     -999.0,9,     -999.0,9,     0.0121,1,     4.7044,1,     -999.0,9,     -999.0,9,     -999.0,9
33RR20220430,        P02,     115,          1,          4,          4,2,20220607,       1755,    30.0005,  -162.3672,       5671,  4926.7,2,   1.5285,2,  34.6856,2,  34.6871,2,    154.4,2,   154.4,2,  155.13,2,   35.68,2,    0.00,2,    2.47,2,-999.000,9,-999.000,9,-999.0000,9,  -999.0,9,  -999.0,9,-999.0000,9,  -999.00,9, -999.00,9,  -999.0,9, -999.00,9, -999.00,9,     -999.0,9, 20220607,     1812,  30.0005,-162.3672,     1.5287,2,     -999.0,9,     -999.0,9,     -999.0,9,     -999.0,9,     0.0122,1,     4.7055,1,     -999.0,9,     -999.0,9,     -999.0,9