BOTTLE,20230801CCHSIOCBG
EXPOCODE,SECT_ID,STNNBR,CASTNO,SAMPNO,BTLNBR,BTLNBR_FLAG_W,DATE,TIME,LATITUDE,LONGITUDE,DEPTH,CTDPRS,CTDPRS_FLAG_W,CTDTMP,CTDTMP_FLAG_W,CTDSAL,CTDSAL_FLAG_W,SALNTY,SALNTY_FLAG_W,CTDOXY,CTDOXY_FLAG_W,OXYGEN,OXYGEN_FLAG_W,SILCAT,SILCAT_FLAG_W,NITRAT,NITRAT_FLAG_W,NITRIT,NITRIT_FLAG_W,PHSPHT,PHSPHT_FLAG_W,CFC-11,CFC-11_FLAG_W,CFC-12,CFC-12_FLAG_W,SF6,SF6_FLAG_W,TCARBN,TCARBN_FLAG_W,ALKALI,ALKALI_FLAG_W,PH_TOT,PH_TOT_FLAG_W,PH_TMP,PH_TMP_FLAG_W,DELC13,DELC13_FLAG_W,DELC14,DELC14_FLAG_W,DOC,DOC_FLAG_W,TDN,TDN_FLAG_W,N2O,N2O_FLAG_W,BTL_DATE,BTL_TIME,BTL_LAT,BTL_LON,REFTMP,REFTMP_FLAG_W,POC,POC_FLAG_W,PON,PON_FLAG_W,POP,POP_FLAG_W,PCOD,PCOD_FLAG_W,CTDFLUOR,CTDFLUOR_FLAG_W,CTDXMISS,CTDXMISS_FLAG_W,HPLC,HPLC_FLAG_W,DNA,DNA_FLAG_W,FCM,FCM_FLAG_W
,,,,,,,,,,,METERS,DBAR,,ITS-90,,PSS-78,,PSS-78,,UMOL/KG,,UMOL/KG,,UMOL/KG,,UMOL/KG,,UMOL/KG,,UMOL/KG,,PMOL/KG,,PMOL/KG,,FMOL/KG,,UMOL/KG,,UMOL/KG,,,,DEG C,,/MILLE,,/MILLE,,UMOL/KG,,UMOL/KG,,NMOL/KG,,,,,,ITS-90,,UG/L,,UG/L,,UG/L,,UG/L,,VOLTS,,VOLTS,,,,,,,
33RR20220430,        P02,      83,          2,         36,         36,2,20220529,       0647,    30.0001,   179.1712,       4488,     4.4,2,  21.2535,2,  35.1830,2,  35.1681,2,    226.0,2,   225.3,2,    1.46,2,    0.05,2,    0.00,2,    0.00,2,   1.761,2,   1.160,2,   2.0413,2,  2032.0,2,  2310.3,2,   8.0063,2,    24.99,2, -999.00,1,  -999.0,1, -999.00,1, -999.00,1,        7.5,2, 20220529,      844,  30.0001, 179.1712,    21.2561,2,     -999.0,9,     -999.0,9,     -999.0,9,     -999.0,9,     0.0147,1,     4.6204,1,     -999.0,9,     -999.0,9,     -999.0,9
33RR20220430,        P02,      83,          2,         35,         35,2,20220529,       0647,    30.0001,   179.1712,       4488,    20.9,2,  21.0908,2,  35.1838,2,  35.1695,2,    227.7,2,   226.7,2,    1.37,2,    0.04,2,    0.00,2,    0.00,2,   1.789,2,   1.169,2,   2.0173,2,  2028.7,2,  2311.7,2,   8.0064,2,    24.98,2, -999.00,1,  -999.0,1, -999.00,1, -999.00,1,        7.6,2, 20220529,      842,  30.0001, 179.1712,    21.0786,2,     -999.0,9,     -999.0,9,     -999.0,9,     -999.0,9,     0.0147,1,     4.6227,1,     -999.0,9,     -999.0,9,     -999.0,9
33RR20220430,        P02,      83,          2,         34,         34,2,20220529,       0647,    30.0001,   179.1712,       4488,    40.2,2,  20.8398,2,  35.1735,2,  35.1624,2,    229.1,2,   228.4,2,    1.37,2,    0.03,2,    0.00,2,    0.00,2,   1.819,2,   1.163,2,   2.0224,2,  2028.1,2,  2309.7,2,   8.0061,2,    24.97,2, -999.00,1,  -999.0,1, -999.00,1, -999.00,1,        7.6,2, 20220529,      840,  30.0000, 179.1712,    20.8436,2,     -999.0,9,     -999.0,9,     -999.0,9,     -999.0,9,     0.0159,1,     4.6204,1,     -999.0,9,     -999.0,9,     -999.0,9
33RR20220430,        P02,      83,          2,         33,         33,2,20220529,       0647,    30.0001,   179.1712,       4488,    65.3,2,  19.6760,2,  35.0510,2,  35.0364,2,    233.3,2,   234.1,2,    1.56,2,    0.01,2,    0.00,2,    0.00,2,   1.877,2,   1.220,2,   2.0486,2,  2028.3,6,  2302.8,2,   7.9969,2,    24.98,2, -999.00,1,  -999.0,1, -999.00,1, -999.00,1,        7.9,2, 20220529,      839,  30.0000, 179.1712,    19.6705,2,     -999.0,9,     -999.0,9,     -999.0,9,     -999.0,9,     0.0195,1,     4.6265,1,     -999.0,9,     -999.0,9,     -999.0,9
33RR20220430,        P02,      83,          2,         32,         32,2,20220529,       0647,    30.0001,   179.1712,       4488,    86.5,2,  19.4271,2,  35.0409,2,  35.0281,2,    231.0,2,   230.6,2,    1.56,2,    0.01,2,    0.00,2,    0.02,2,   1.896,2,   1.222,2,   2.1628,2,  2028.6,2,  2299.6,2,   7.9920,2,    24.98,2, -999.00,1,  -999.0,1, -999.00,1, -999.00,1,        8.0,2, 20220529,      837,  30.0000, 179.1712,    19.4233,2,     -999.0,9,     -999.0,9,     -999.0,9,     -999.0,9,     0.0213,1,     4.6387,1,     -999.0,9,     -999.0,9,     -999.0,9
33RR20220430,        P02,      83,          2,         31,         31,2,20220529,       0647,    30.0001,   179.1712,       4488,   136.3,2,  18.5326,2,  34.9010,2,  34.8880,2,    223.9,2,   223.8,2,    1.86,2,    0.42,2,    0.16,2,    0.06,2,   1.947,2,   1.246,2,   2.1007,2,  2035.1,2,  2291.3,2,   7.9693,2,    24.97,2, -999.00,1,  -999.0,1, -999.00,1, -999.00,1,        8.4,2, 20220529,      834,  30.0000, 179.1712,    18.5439,2,     -999.0,9,     -999.0,9,     -999.0,9,     -999.0,9,     0.0191,1,     4.6684,1,     -999.0,9,     -999.0,9,     -999.0,9
33RR20220430,        P02,      83,          2,         30,         30,2,20220529,       0647,    30.0001,   179.1712,       4488,   186.5,2,  17.1671,2,  34.7146,2,  34.7026,2,    220.1,2,   220.8,2,    2.93,2,    2.51,2,    0.01,2,    0.19,2,   2.093,2,   1.344,2,   2.1504,2,  2041.9,2,  2287.3,2,   7.9373,2,    24.98,2, -999.00,1,  -999.0,1, -999.00,1, -999.00,1,        9.3,2, 20220529,      832,  30.0000, 179.1712,    17.1682,2,     -999.0,9,     -999.0,9,     -999.0,9,     -999.0,9,     0.0134,1,     4.6814,1,     -999.0,9,     -999.0,9,     -999.0,9
33RR20220430,        P02,      83,          2,         29,         29,2,20220529,       0647,    30.0001,   179.1712,       4488,   236.1,2,  16.1493,2,  34.6241,2,  34.6134,2,    222.3,2,   222.7,2,    4.40,2,    4.30,2,    0.00,2,    0.29,2,   2.136,2,   1.366,2,   2.1649,2,  2049.4,2,  2272.5,2,   7.9193,2,    24.97,2, -999.00,1,  -999.0,1, -999.00,1, -999.00,1,       10.3,2, 20220529,      830,  30.0001, 179.1712,    16.1482,2,     -999.0,9,     -999.0,9,     -999.0,9,     -999.0,9,     0.0122,1,     4.6861,1,     -999.0,9,     -999.0,9,     -999.0,9
33RR20220430,        P02,      83,          2,         28,         28,2,20220529,       0647,    30.0001,   179.1712,       4488,   287.0,2,  15.1459,2,  34.5665,2,  34.5561,2,    209.3,2,   209.3,2,    6.84,2,    6.99,2,    0.00,2,    0.46,2,   2.284,2,   1.446,2,   2.0702,2,  2068.6,2,  2271.8,2,   7.8731,2,    24.97,2, -999.00,1,  -999.0,1, -999.00,1, -999.00,1,       11.8,2, 20220529,      828,  30.0000, 179.1712,    15.1449,2,     -999.0,9,     -999.0,9,     -999.0,9,     -999.0,9,     0.0122,1,     4.6885,1,     -999.0,9,     -999.0,9,     -999.0,9
33RR20220430,        P02,      83,          2,         27,         27,2,20220529,       0647,    30.0001,   179.1712,       4488,   337.3,2,  13.9428,2,  34.4717,2,  34.4602,2,    208.4,2,   208.7,2,    9.48,2,    9.01,2,    0.00,2,    0.61,2,   2.415,2,   1.508,2,   2.1881,2,  2084.2,2,  2269.1,2,   7.8396,2,    24.97,2, -999.00,1,  -999.0,1, -999.00,1, -999.00,1,       13.0,2, 20220529,      826,  30.0000, 179.1712,    13.9491,2,     -999.0,9,     -999.0,9,     -999.0,9,     -999.0,9,     0.0122,1,     4.6902,1,     -999.0,9,     -999.0,9,     -999.0,9
33RR20220430,        P02,      83,          2,         26,         26,2,20220529,       0647,    30.0001,   179.1712,       4488,   387.5,2,  12.8523,2,  34.3843,2,  34.3751,2,    208.8,2,   209.8,2,   12.11,2,   10.80,2,    0.00,2,    0.73,2,   2.514,2,   1.568,2,   1.9848,2,  2091.2,2,  2267.6,2,   7.8114,2,    24.98,2, -999.00,1,  -999.0,1, -999.00,1, -999.00,1,       14.1,2, 20220529,      824,  30.0000, 179.1712,    12.8515,2,     -999.0,9,     -999.0,9,     -999.0,9,     -999.0,9,     0.0122,1,     4.6928,1,     -999.0,9,     -999.0,9,     -999.0,9
33RR20220430,        P02,      83,          2,         25,         25,2,20220529,       0647,    30.0001,   179.1712,       4488,   438.8,2,  11.5596,2,  34.2774,2,  34.2713,2,    206.3,2,   206.8,2,   15.92,2,   13.33,2,    0.00,2,    0.92,2,   2.643,2,   1.605,2,   1.9271,2,  2109.2,2,  2267.1,2,   7.7726,2,    24.96,2, -999.00,1,  -999.0,1, -999.00,1, -999.00,1,       15.8,2, 20220529,      822,  30.0000, 179.1712,    11.5620,2,     -999.0,9,     -999.0,9,     -999.0,9,     -999.0,9,     0.0122,1,     4.6946,1,     -999.0,9,     -999.0,9,     -999.0,9
33RR20220430,        P02,      83,          2,         24,         24,2,20220529,       0647,    30.0001,   179.1712,       4488,   488.8,2,  10.1977,2,  34.1737,2,  34.1660,2,    198.2,2,   198.7,2,   21.89,2,   16.68,2,    0.00,2,    1.15,2,   2.659,2,   1.696,2,   1.7212,2,  2128.1,2,  2266.4,2,   7.7226,2,    24.97,2, -999.00,1,  -999.0,1, -999.00,9, -999.00,9,       18.1,2, 20220529,      820,  30.0000, 179.1712,    10.1981,2,     -999.0,9,     -999.0,9,     -999.0,9,     -999.0,9,     0.0122,1,     4.6970,1,     -999.0,9,     -999.0,9,     -999.0,9
33RR20220430,        P02,      83,          2,         23,         23,2,20220529,       0647,    30.0001,   179.1712,       4488,   569.8,2,   8.6652,2,  34.0752,2,  34.0733,2,    183.8,2,   184.1,2,   31.85,2,   20.83,2,    0.00,2,    1.46,2,   2.646,2,   1.581,2,   1.6806,2,  2157.1,6,  2269.4,2,   7.6583,2,    25.00,2, -999.00,1,  -999.0,1, -999.00,1, -999.00,1,       20.9,2, 20220529,      818,  30.0000, 179.1712,     8.6577,2,     -999.0,9,     -999.0,9,     -999.0,9,     -999.0,9,     0.0122,1,     4.6982,1,     -999.0,9,     -999.0,9,     -999.0,9
33RR20220430,        P02,      83,          2,         22,         22,2,20220529,       0647,    30.0001,   179.1712,       4488,   671.9,2,   6.7449,2,  34.0132,2,  34.0104,2,    140.3,2,   139.1,2,   53.06,2,   28.63,2,    0.00,2,    2.00,2,   2.262,2,   1.354,2,   1.1831,2,  2211.8,2,  2283.4,2,   7.5338,2,    24.99,2, -999.00,1,  -999.0,1, -999.00,9, -999.00,9,       28.9,2, 20220529,      815,  30.0000, 179.1712,     6.7424,2,     -999.0,9,     -999.0,9,     -999.0,9,     -999.0,9,     0.0125,1,     4.6988,1,     -999.0,9,     -999.0,9,     -999.0,9
33RR20220430,        P02,      83,          2,         21,         21,2,20220529,       0647,    30.0001,   179.1712,       4488,   772.7,2,   5.3445,2,  34.0599,2,  34.0611,2,     90.6,3,    89.5,2,   76.90,2,   35.56,2,    0.00,2,    2.51,2,   1.476,2,   0.876,2,   0.5019,2,  2268.4,2,  2301.8,2,   7.4224,2,    24.98,2, -999.00,1,  -999.0,1, -999.00,1, -999.00,1,       37.8,2, 20220529,      812,  30.0000, 179.1712,     5.3501,2,     -999.0,9,     -999.0,9,     -999.0,9,     -999.0,9,     0.0134,1,     4.6994,1,     -999.0,9,     -999.0,9,     -999.0,9
33RR20220430,        P02,      83,          2,         20,         20,2,20220529,       0647,    30.0001,   179.1712,       4488,   873.6,2,   4.5970,2,  34.1450,2,  34.1456,2,     56.1,2,    55.8,2,   94.97,2,   39.65,2,    0.00,2,    2.79,2,   0.841,2,   0.495,2,   0.2404,2,  2307.8,2,  2322.6,2,   7.3589,2,    25.00,2, -999.00,1,  -999.0,1, -999.00,9, -999.00,9,       46.3,2, 20220529,      809,  30.0000, 179.1712,     4.5964,2,     -999.0,9,     -999.0,9,     -999.0,9,     -999.0,9,     0.0125,1,     4.6996,1,     -999.0,9,     -999.0,9,     -999.0,9
33RR20220430,        P02,      83,          2,         19,         19,2,20220529,       0647,    30.0001,   179.1712,       4488,   974.2,2,   4.0097,2,  34.2419,2,  34.2419,2,     35.1,3,    35.5,2,  111.57,2,   42.11,2,    0.00,2,    2.98,2,   0.398,6,   0.238,6,   0.0000,6,  2338.4,2,  2342.1,2,   7.3307,2,    25.00,2, -999.00,1,  -999.0,1, -999.00,1, -999.00,1,       52.5,6, 20220529,      806,  30.0000, 179.1712,     4.0087,2,     -999.0,9,     -999.0,9,     -999.0,9,     -999.0,9,     0.0134,1,     4.7005,1,     -999.0,9,     -999.0,9,     -999.0,9
33RR20220430,        P02,      83,          2,         18,         18,2,20220529,       0647,    30.0001,   179.1712,       4488,  1078.9,2,   3.6005,2,  34.3270,2,  34.3266,2,     26.4,2,    26.5,2,  124.27,2,   43.30,2,    0.00,2,    3.05,2,   0.159,2,   0.095,2,   0.0000,2,  2356.3,2,  2359.7,2,   7.3239,2,    24.98,2, -999.00,1,  -999.0,1, -999.00,9, -999.00,9,       55.8,2, 20220529,      803,  30.0000, 179.1712,     3.6015,2,     -999.0,9,     -999.0,9,     -999.0,9,     -999.0,9,     0.0134,1,     4.7007,1,     -999.0,9,     -999.0,9,     -999.0,9
33RR20220430,        P02,      83,          2,         17,         17,2,20220529,       0647,    30.0001,   179.1712,       4488,  1180.0,2,   3.3638,2,  34.3828,2,  34.3819,2,     26.0,2,    26.2,2,  131.00,2,   43.59,2,    0.00,2,    3.08,2,   0.074,2,   0.049,2,   0.0000,2,  2363.6,2,  2370.1,2,   7.3284,2,    24.96,2, -999.00,1,  -999.0,1, -999.00,1, -999.00,1,       54.7,2, 20220529,      800,  30.0000, 179.1712,     3.3638,2,     -999.0,9,     -999.0,9,     -999.0,9,     -999.0,9,     0.0134,1,     4.7008,1,     -999.0,9,     -999.0,9,     -999.0,9
33RR20220430,        P02,      83,          2,         16,         16,2,20220529,       0647,    30.0001,   179.1712,       4488,  1279.2,2,   3.0979,2,  34.4369,2,  34.4379,2,     30.8,2,    31.1,2,  138.32,2,   43.53,2,    0.00,2,    3.07,2,   0.037,2,   0.021,2,   0.0000,2,  2371.4,2,  2380.5,2,   7.3451,2,    24.97,2, -999.00,1,  -999.0,1, -999.00,9, -999.00,9,       52.1,2, 20220529,      757,  30.0000, 179.1712,     3.0974,2,     -999.0,9,     -999.0,9,     -999.0,9,     -999.0,9,     0.0134,1,     4.7016,1,     -999.0,9,     -999.0,9,     -999.0,9
33RR20220430,        P02,      83,          2,         15,         15,2,20220529,       0647,    30.0001,   179.1712,       4488,  1381.6,2,   2.8615,2,  34.4623,2,  34.4632,2,     30.6,2,    30.8,2,  145.84,2,   43.75,2,    0.00,2,    3.08,2,   0.030,2,   0.021,2,   0.0000,2,  2378.3,2,  2387.7,2,   7.3430,2,    24.97,2, -999.00,1,  -999.0,1, -999.00,1, -999.00,1,       51.4,2, 20220529,      754,  30.0000, 179.1712,     2.8630,2,     -999.0,9,     -999.0,9,     -999.0,9,     -999.0,9,     0.0134,1,     4.7003,1,     -999.0,9,     -999.0,9,     -999.0,9
33RR20220430,        P02,      83,          2,         14,         14,2,20220529,       0647,    30.0001,   179.1712,       4488,  1481.3,2,   2.6602,2,  34.4913,2,  34.4917,2,     33.6,2,    33.6,2,  151.41,2,   43.63,2,    0.00,2,    3.05,2,   0.022,2,   0.014,2,   0.0000,2,  2379.8,2,  2394.4,2,   7.3500,2,    24.97,2, -999.00,1,  -999.0,1, -999.00,9, -999.00,9,       49.2,2, 20220529,      752,  30.0000, 179.1712,     2.6603,2,     -999.0,9,     -999.0,9,     -999.0,9,     -999.0,9,     0.0134,1,     4.7007,1,     -999.0,9,     -999.0,9,     -999.0,9
33RR20220430,        P02,      83,          2,         13,         13,2,20220529,       0647,    30.0001,   179.1712,       4488,  1552.6,2,   2.5752,2,  34.5107,2,  34.5113,2,     38.9,2,    38.9,2,  153.46,2,   43.34,2,    0.00,2,    3.04,2,   0.017,2,   0.000,2,   0.0000,2,  2383.0,2,  2396.1,2,   7.3616,2,    24.99,2, -999.00,1,  -999.0,1, -999.00,1, -999.00,1,       46.0,2, 20220529,      749,  30.0000, 179.1712,     2.5747,2,     -999.0,9,     -999.0,9,     -999.0,9,     -999.0,9,     0.0133,1,     4.7019,1,     -999.0,9,     -999.0,9,     -999.0,9
33RR20220430,        P02,      83,          2,         12,         12,2,20220529,       0647,    30.0001,   179.1712,       4488,  1754.1,2,   2.2521,2,  34.5561,2,  34.5574,2,     52.7,3,    53.4,2,  160.58,2,   42.49,2,    0.00,2,    2.98,2,   0.009,2,   0.000,2,   0.0000,2,  2380.3,6,  2407.0,2,   7.3908,2,    24.99,2, -999.00,9,  -999.0,9, -999.00,9, -999.00,9,       40.2,2, 20220529,      745,  30.0000, 179.1712,     2.2514,2,     -999.0,9,     -999.0,9,     -999.0,9,     -999.0,9,     0.0127,1,     4.7020,1,     -999.0,9,     -999.0,9,     -999.0,9
33RR20220430,        P02,      83,          2,         11,         11,2,20220529,       0647,    30.0001,   179.1712,       4488,  1956.5,2,   2.0315,2,  34.5857,2,  34.5861,2,     65.2,2,    65.3,2,  164.88,2,   41.71,2,    0.00,2,    2.91,2,   0.005,2,   0.000,2,   0.0000,2,  2378.6,2,  2412.9,2,   7.4146,2,    24.98,2, -999.00,1,  -999.0,1, -999.00,1, -999.00,1,       36.8,2, 20220529,      741,  30.0001, 179.1712,     2.0316,2,     -999.0,9,     -999.0,9,     -999.0,9,     -999.0,9,     0.0131,1,     4.7023,1,     -999.0,9,     -999.0,9,     -999.0,9
33RR20220430,        P02,      83,          2,         10,         10,2,20220529,       0647,    30.0001,   179.1712,       4488,  2194.0,2,   1.8218,2,  34.6167,2,  34.6164,2,     84.9,2,    85.2,2,  165.85,2,   40.55,2,    0.00,2,    2.81,2,-999.000,9,-999.000,9,-999.0000,9,  2369.0,2,  2417.2,2,   7.4530,2,    24.98,2, -999.00,9,  -999.0,9, -999.00,9, -999.00,9,     -999.0,9, 20220529,      736,  30.0000, 179.1712,     1.8223,2,     -999.0,9,     -999.0,9,     -999.0,9,     -999.0,9,     0.0129,1,     4.7033,1,     -999.0,9,     -999.0,9,     -999.0,9
33RR20220430,        P02,      83,          2,          9,          9,2,20220529,       0647,    30.0001,   179.1712,       4488,  2446.3,2,   1.6908,2,  34.6367,2,  34.6362,2,    101.3,2,   101.2,2,  164.58,2,   39.36,2,    0.00,2,    2.73,2,   0.003,2,   0.000,2,   0.0000,2,  2358.6,2,  2417.6,2,   7.4832,2,    25.01,2, -999.00,1,  -999.0,1, -999.00,1, -999.00,1,       28.8,2, 20220529,      730,  30.0000, 179.1712,     1.6907,2,     -999.0,9,     -999.0,9,     -999.0,9,     -999.0,9,     0.0131,1,     4.7044,1,     -999.0,9,     -999.0,9,     -999.0,9
33RR20220430,        P02,      83,          2,          8,          8,2,20220529,       0647,    30.0001,   179.1712,       4488,  2702.2,2,   1.5917,2,  34.6517,3,  34.6537,2,    115.2,2,   115.1,2,  162.33,2,   38.45,2,    0.00,2,    2.67,2,-999.000,9,-999.000,9,-999.0000,9,  2350.1,2,  2419.8,2,   7.5095,2,    25.00,2, -999.00,9,  -999.0,9, -999.00,9, -999.00,9,     -999.0,9, 20220529,      725,  30.0000, 179.1712,     1.5916,2,     -999.0,9,     -999.0,9,     -999.0,9,     -999.0,9,     0.0122,1,     4.7048,1,     -999.0,9,     -999.0,9,     -999.0,9
33RR20220430,        P02,      83,          2,          7,          7,2,20220529,       0647,    30.0001,   179.1712,       4488,  2957.5,2,   1.5225,2,  34.6627,2,  34.6641,2,    126.6,2,   126.5,2,  159.89,2,   37.76,2,    0.00,2,    2.62,2,   0.005,2,   0.000,2,   0.0000,2,  2342.7,2,  2418.6,2,   7.5304,2,    25.01,2, -999.00,1,  -999.0,1, -999.00,1, -999.00,1,       24.8,2, 20220529,      720,  30.0000, 179.1712,     1.5223,2,     -999.0,9,     -999.0,9,     -999.0,9,     -999.0,9,     0.0127,1,     4.7056,1,     -999.0,9,     -999.0,9,     -999.0,9
33RR20220430,        P02,      83,          2,          6,          6,2,20220529,       0647,    30.0001,   179.1712,       4488,  3248.5,2,   1.4872,2,  34.6700,2,  34.6712,2,    134.9,2,   134.9,2,  158.23,2,   37.20,2,    0.00,2,    2.58,2,-999.000,9,-999.000,9,-999.0000,9,  2335.8,2,  2419.1,2,   7.5455,2,    25.00,2, -999.00,9,  -999.0,9, -999.00,9, -999.00,9,     -999.0,9, 20220529,      714,  30.0000, 179.1712,     1.4870,2,     -999.0,9,     -999.0,9,     -999.0,9,     -999.0,9,     0.0122,1,     4.7058,1,     -999.0,9,     -999.0,9,     -999.0,9
33RR20220430,        P02,      83,          2,          5,          5,2,20220529,       0647,    30.0001,   179.1712,       4488,  3555.4,2,   1.4665,2,  34.6758,2,  34.6761,2,    141.5,2,   141.5,2,  156.27,2,   36.73,2,    0.00,2,    2.54,2,   0.004,2,   0.000,2,   0.0000,2,  2331.2,2,  2419.6,2,   7.5571,2,    25.00,2, -999.00,1,  -999.0,1, -999.00,1, -999.00,1,       23.0,2, 20220529,      708,  30.0000, 179.1712,     1.4665,2,     -999.0,9,     -999.0,9,     -999.0,9,     -999.0,9,     0.0122,1,     4.7068,1,     -999.0,9,     -999.0,9,     -999.0,9
33RR20220430,        P02,      83,          2,          4,          4,2,20220529,       0647,    30.0001,   179.1712,       4488,  3862.3,2,   1.4530,2,  34.6809,2,  34.6814,2,    147.6,2,   147.8,2,  154.41,2,   36.34,2,    0.00,2,    2.51,2,-999.000,9,-999.000,9,-999.0000,9,  2329.1,2,  2419.3,2,   7.5671,2,    25.01,2, -999.00,9,  -999.0,9, -999.00,9, -999.00,9,     -999.0,9, 20220529,      702,  30.0000, 179.1712,     1.4528,2,     -999.0,9,     -999.0,9,     -999.0,9,     -999.0,9,     0.0122,1,     4.7068,1,     -999.0,9,     -999.0,9,     -999.0,9