BOTTLE,20230801CCHSIOCBG
EXPOCODE,SECT_ID,STNNBR,CASTNO,SAMPNO,BTLNBR,BTLNBR_FLAG_W,DATE,TIME,LATITUDE,LONGITUDE,DEPTH,CTDPRS,CTDPRS_FLAG_W,CTDTMP,CTDTMP_FLAG_W,CTDSAL,CTDSAL_FLAG_W,SALNTY,SALNTY_FLAG_W,CTDOXY,CTDOXY_FLAG_W,OXYGEN,OXYGEN_FLAG_W,SILCAT,SILCAT_FLAG_W,NITRAT,NITRAT_FLAG_W,NITRIT,NITRIT_FLAG_W,PHSPHT,PHSPHT_FLAG_W,CFC-11,CFC-11_FLAG_W,CFC-12,CFC-12_FLAG_W,SF6,SF6_FLAG_W,TCARBN,TCARBN_FLAG_W,ALKALI,ALKALI_FLAG_W,PH_TOT,PH_TOT_FLAG_W,PH_TMP,PH_TMP_FLAG_W,DELC13,DELC13_FLAG_W,DELC14,DELC14_FLAG_W,DOC,DOC_FLAG_W,TDN,TDN_FLAG_W,N2O,N2O_FLAG_W,BTL_DATE,BTL_TIME,BTL_LAT,BTL_LON,REFTMP,REFTMP_FLAG_W,POC,POC_FLAG_W,PON,PON_FLAG_W,POP,POP_FLAG_W,PCOD,PCOD_FLAG_W,CTDFLUOR,CTDFLUOR_FLAG_W,CTDXMISS,CTDXMISS_FLAG_W,HPLC,HPLC_FLAG_W,DNA,DNA_FLAG_W,FCM,FCM_FLAG_W
,,,,,,,,,,,METERS,DBAR,,ITS-90,,PSS-78,,PSS-78,,UMOL/KG,,UMOL/KG,,UMOL/KG,,UMOL/KG,,UMOL/KG,,UMOL/KG,,PMOL/KG,,PMOL/KG,,FMOL/KG,,UMOL/KG,,UMOL/KG,,,,DEG C,,/MILLE,,/MILLE,,UMOL/KG,,UMOL/KG,,NMOL/KG,,,,,,ITS-90,,UG/L,,UG/L,,UG/L,,UG/L,,VOLTS,,VOLTS,,,,,,,
33RR20220430,        P02,      44,          2,          3,          3,2,20220517,       0801,    30.0005,   157.3115,       5258,  4787.3,2,   1.4801,2,  34.6889,2,  34.6879,2,    160.7,2,   160.5,2,  144.96,2,   35.12,2,    0.00,2,    2.41,2,   0.006,2,   0.000,2,   0.0000,2,  2316.6,2,  2408.9,2,   7.5846,2,    24.99,2, -999.00,9,  -999.0,9, -999.00,1, -999.00,1,       21.9,2, 20220517,      812,  30.0005, 157.3115,     1.4802,2,     -999.0,9,     -999.0,9,     -999.0,9,     -999.0,9,     0.0122,1,     4.7059,1,     -999.0,9,     -999.0,9,     -999.0,9
33RR20220430,        P02,      44,          2,          2,          2,2,20220517,       0801,    30.0005,   157.3115,       5258,  5045.0,2,   1.4863,2,  34.6912,2,  34.6910,2,    165.0,2,   165.3,2,  141.25,2,   35.02,2,    0.00,2,    2.39,2,-999.000,9,-999.000,9,-999.0000,9,  2311.6,2,  2406.6,2,   7.5897,2,    24.99,2, -999.00,9,  -999.0,9, -999.00,1, -999.00,1,     -999.0,9, 20220517,      807,  30.0005, 157.3115,     1.4863,2,     -999.0,9,     -999.0,9,     -999.0,9,     -999.0,9,     0.0122,1,     4.7056,1,     -999.0,9,     -999.0,9,     -999.0,9
33RR20220430,        P02,      44,          2,          1,          1,2,20220517,       0801,    30.0005,   157.3115,       5258,  5348.3,2,   1.4995,2,  34.6933,2,  34.6920,2,    169.6,2,   169.8,2,  137.24,2,   34.71,2,    0.00,2,    2.35,2,   0.007,2,   0.000,2,   0.0000,2,  2307.3,6,  2403.0,2,   7.5950,2,    25.00,2, -999.00,9,  -999.0,9, -999.00,1, -999.00,1,       21.7,2, 20220517,      801,  30.0004, 157.3115,     1.4995,2,     -999.0,9,     -999.0,9,     -999.0,9,     -999.0,9,     0.0122,1,     4.7036,1,     -999.0,9,     -999.0,9,     -999.0,9