BOTTLE,20230801CCHSIOCBG
EXPOCODE,SECT_ID,STNNBR,CASTNO,SAMPNO,BTLNBR,BTLNBR_FLAG_W,DATE,TIME,LATITUDE,LONGITUDE,DEPTH,CTDPRS,CTDPRS_FLAG_W,CTDTMP,CTDTMP_FLAG_W,CTDSAL,CTDSAL_FLAG_W,SALNTY,SALNTY_FLAG_W,CTDOXY,CTDOXY_FLAG_W,OXYGEN,OXYGEN_FLAG_W,SILCAT,SILCAT_FLAG_W,NITRAT,NITRAT_FLAG_W,NITRIT,NITRIT_FLAG_W,PHSPHT,PHSPHT_FLAG_W,CFC-11,CFC-11_FLAG_W,CFC-12,CFC-12_FLAG_W,SF6,SF6_FLAG_W,TCARBN,TCARBN_FLAG_W,ALKALI,ALKALI_FLAG_W,PH_TOT,PH_TOT_FLAG_W,PH_TMP,PH_TMP_FLAG_W,DELC13,DELC13_FLAG_W,DELC14,DELC14_FLAG_W,DOC,DOC_FLAG_W,TDN,TDN_FLAG_W,N2O,N2O_FLAG_W,BTL_DATE,BTL_TIME,BTL_LAT,BTL_LON,REFTMP,REFTMP_FLAG_W,POC,POC_FLAG_W,PON,PON_FLAG_W,POP,POP_FLAG_W,PCOD,PCOD_FLAG_W,CTDFLUOR,CTDFLUOR_FLAG_W,CTDXMISS,CTDXMISS_FLAG_W,HPLC,HPLC_FLAG_W,DNA,DNA_FLAG_W,FCM,FCM_FLAG_W
,,,,,,,,,,,METERS,DBAR,,ITS-90,,PSS-78,,PSS-78,,UMOL/KG,,UMOL/KG,,UMOL/KG,,UMOL/KG,,UMOL/KG,,UMOL/KG,,PMOL/KG,,PMOL/KG,,FMOL/KG,,UMOL/KG,,UMOL/KG,,,,DEG C,,/MILLE,,/MILLE,,UMOL/KG,,UMOL/KG,,NMOL/KG,,,,,,ITS-90,,UG/L,,UG/L,,UG/L,,UG/L,,VOLTS,,VOLTS,,,,,,,
33RR20220430,        P02,      10,          1,          3,          3,2,20220506,       1034,    31.0910,   134.0937,       4469,  3762.7,2,   1.5482,2,  34.6790,3,  34.6749,2,    152.2,2,   151.6,2,  142.61,2,   35.95,2,    0.00,2,    2.45,2,   0.008,2,   0.009,2,   0.0000,2,  2321.1,2,  2408.7,2,   7.5736,2,    25.01,2, -999.00,9,  -999.0,9, -999.00,1, -999.00,1,       20.3,2, 20220506,     1049,  31.0910, 134.0937,     -999.0,9,     -999.0,9,     -999.0,9,     -999.0,9,     -999.0,9,     0.0129,1,     4.7001,1,     -999.0,9,     -999.0,9,     -999.0,9
33RR20220430,        P02,      10,          1,          2,          2,2,20220506,       1034,    31.0910,   134.0937,       4469,  4146.2,2,   1.5663,2,  34.6815,3,  34.6793,2,    154.5,2,   153.9,2,  142.61,2,   35.83,2,    0.00,2,    2.45,2,-999.000,9,-999.000,9,-999.0000,9,  2320.6,2,  2413.1,2,   7.5761,2,    24.99,2, -999.00,9,  -999.0,9, -999.00,9, -999.00,9,     -999.0,9, 20220506,     1042,  31.0909, 134.0937,     -999.0,9,     -999.0,9,     -999.0,9,     -999.0,9,     -999.0,9,     0.0122,1,     4.6605,1,     -999.0,9,     -999.0,9,     -999.0,9
33RR20220430,        P02,      10,          1,          1,          1,2,20220506,       1034,    31.0910,   134.0937,       4469,  4540.1,2,   1.5981,2,  34.6828,3,  34.6804,2,    154.9,2,   154.4,2,  142.22,2,   35.48,2,    0.00,2,    2.44,2,   0.006,2,   0.008,2,   0.0000,2,  2321.0,2,  2412.6,2,   7.5782,2,    24.99,2, -999.00,9,  -999.0,9, -999.00,1, -999.00,1,       19.6,2, 20220506,     1034,  31.0910, 134.0937,     -999.0,9,     -999.0,9,     -999.0,9,     -999.0,9,     -999.0,9,     0.0131,1,     4.4907,1,     -999.0,9,     -999.0,9,     -999.0,9