BOTTLE,20230801CCHSIOCBG
EXPOCODE,SECT_ID,STNNBR,CASTNO,SAMPNO,BTLNBR,BTLNBR_FLAG_W,DATE,TIME,LATITUDE,LONGITUDE,DEPTH,CTDPRS,CTDPRS_FLAG_W,CTDTMP,CTDTMP_FLAG_W,CTDSAL,CTDSAL_FLAG_W,SALNTY,SALNTY_FLAG_W,CTDOXY,CTDOXY_FLAG_W,OXYGEN,OXYGEN_FLAG_W,SILCAT,SILCAT_FLAG_W,NITRAT,NITRAT_FLAG_W,NITRIT,NITRIT_FLAG_W,PHSPHT,PHSPHT_FLAG_W,CFC-11,CFC-11_FLAG_W,CFC-12,CFC-12_FLAG_W,SF6,SF6_FLAG_W,TCARBN,TCARBN_FLAG_W,ALKALI,ALKALI_FLAG_W,PH_TOT,PH_TOT_FLAG_W,PH_TMP,PH_TMP_FLAG_W,DELC13,DELC13_FLAG_W,DELC14,DELC14_FLAG_W,DOC,DOC_FLAG_W,TDN,TDN_FLAG_W,N2O,N2O_FLAG_W,BTL_DATE,BTL_TIME,BTL_LAT,BTL_LON,REFTMP,REFTMP_FLAG_W,POC,POC_FLAG_W,PON,PON_FLAG_W,POP,POP_FLAG_W,PCOD,PCOD_FLAG_W,CTDFLUOR,CTDFLUOR_FLAG_W,CTDXMISS,CTDXMISS_FLAG_W,HPLC,HPLC_FLAG_W,DNA,DNA_FLAG_W,FCM,FCM_FLAG_W
,,,,,,,,,,,METERS,DBAR,,ITS-90,,PSS-78,,PSS-78,,UMOL/KG,,UMOL/KG,,UMOL/KG,,UMOL/KG,,UMOL/KG,,UMOL/KG,,PMOL/KG,,PMOL/KG,,FMOL/KG,,UMOL/KG,,UMOL/KG,,,,DEG C,,/MILLE,,/MILLE,,UMOL/KG,,UMOL/KG,,NMOL/KG,,,,,,ITS-90,,UG/L,,UG/L,,UG/L,,UG/L,,VOLTS,,VOLTS,,,,,,,
33RR20220430,        P02,      17,          1,          3,          3,2,20220508,       1007,    30.0005,   138.3645,       3660,  3106.6,2,   1.5450,2,  34.6704,2,  34.6704,2,    146.2,2,   146.1,2,  144.18,2,   36.37,2,    0.00,2,    2.55,2,-999.000,9,-999.000,9,-999.0000,9,  2324.0,6,  2411.4,2,   7.5650,2,    25.00,2, -999.00,9,  -999.0,9, -999.00,1, -999.00,1,     -999.0,9, 20220508,     1019,  30.0005, 138.3645,     1.5459,2,     -999.0,9,     -999.0,9,     -999.0,9,     -999.0,9,     0.0129,1,     4.7104,1,     -999.0,9,     -999.0,9,     -999.0,9
33RR20220430,        P02,      17,          1,          2,          2,2,20220508,       1007,    30.0005,   138.3645,       3660,  3407.2,2,   1.5048,2,  34.6781,2,  34.6775,2,    151.4,2,   151.5,2,  143.11,2,   36.34,2,    0.00,2,    2.51,2,-999.000,9,-999.000,9,-999.0000,9,  2323.4,2,  2412.5,2,   7.5708,2,    25.01,2, -999.00,9,  -999.0,9, -999.00,1, -999.00,1,     -999.0,9, 20220508,     1013,  30.0005, 138.3645,     1.5049,2,     -999.0,9,     -999.0,9,     -999.0,9,     -999.0,9,     0.0122,1,     4.7068,1,     -999.0,9,     -999.0,9,     -999.0,9
33RR20220430,        P02,      17,          1,          1,          1,2,20220508,       1007,    30.0005,   138.3645,       3660,  3709.3,2,   1.5006,2,  34.6819,2,  34.6822,2,    154.5,2,   154.4,2,  142.72,2,   35.92,2,    0.00,2,    2.50,2,-999.000,9,-999.000,9,-999.0000,9,  2321.8,2,  2411.9,2,   7.5787,2,    25.02,2, -999.00,9,  -999.0,9, -999.00,1, -999.00,1,     -999.0,9, 20220508,     1007,  30.0005, 138.3645,     1.5006,2,     -999.0,9,     -999.0,9,     -999.0,9,     -999.0,9,     0.0128,1,     4.7033,1,     -999.0,9,     -999.0,9,     -999.0,9
33RR20220430,        P02,      18,          1,         24,         24,2,20220508,       1454,    29.9988,   138.7947,       2385,     9.6,2,  20.1932,2,  34.6777,2,  34.6696,2,    229.2,2,   229.0,2,    0.10,2,    0.00,2,    0.00,2,    0.03,2,-999.000,9,-999.000,9,-999.0000,9,  2002.3,2,  2275.5,2,   8.0084,2,    24.97,2, -999.00,9,  -999.0,9, -999.00,9, -999.00,9,     -999.0,9, 20220508,     1601,  29.9988, 138.7947,    20.3022,3,     -999.0,9,     -999.0,9,     -999.0,9,     -999.0,9,     0.0186,1,     4.6105,1,     -999.0,9,     -999.0,9,     -999.0,9
33RR20220430,        P02,      18,          1,         23,         23,2,20220508,       1454,    29.9988,   138.7947,       2385,    29.3,2,  20.1193,2,  34.6870,2,  34.6796,2,    230.1,2,   229.2,2,    0.39,2,    0.00,2,    0.00,2,    0.00,2,-999.000,9,-999.000,9,-999.0000,9,  2002.2,2,  2275.8,2,   8.0096,2,    25.02,2, -999.00,9,  -999.0,9, -999.00,9, -999.00,9,     -999.0,9, 20220508,     1559,  29.9989, 138.7947,    20.1200,2,     -999.0,9,     -999.0,9,     -999.0,9,     -999.0,9,     0.0208,1,     4.6071,1,     -999.0,9,     -999.0,9,     -999.0,9
33RR20220430,        P02,      18,          1,         22,         22,2,20220508,       1454,    29.9988,   138.7947,       2385,    54.8,2,  19.1236,2,  34.7619,2,  34.7535,2,    227.1,2,   226.7,2,    0.49,2,    0.19,2,    0.13,2,    0.04,2,-999.000,9,-999.000,9,-999.0000,9,  2011.7,2,  2280.8,2,   7.9981,2,    25.02,2, -999.00,9,  -999.0,9, -999.00,9, -999.00,9,     -999.0,9, 20220508,     1557,  29.9989, 138.7947,    19.1283,2,     -999.0,9,     -999.0,9,     -999.0,9,     -999.0,9,     0.0412,1,     4.6060,1,     -999.0,9,     -999.0,9,     -999.0,9
33RR20220430,        P02,      18,          1,         21,         21,2,20220508,       1454,    29.9988,   138.7947,       2385,    79.8,2,  18.7920,2,  34.7840,2,  34.7769,2,    221.8,2,   221.7,2,    0.78,2,    0.97,2,    0.03,2,    0.06,2,-999.000,9,-999.000,9,-999.0000,9,  2018.5,2,  2283.0,2,   7.9864,2,    25.00,2, -999.00,9,  -999.0,9, -999.00,9, -999.00,9,     -999.0,9, 20220508,     1555,  29.9989, 138.7947,    18.7899,2,     -999.0,9,     -999.0,9,     -999.0,9,     -999.0,9,     0.0217,1,     4.6561,1,     -999.0,9,     -999.0,9,     -999.0,9
33RR20220430,        P02,      18,          1,         20,         20,2,20220508,       1454,    29.9988,   138.7947,       2385,   105.1,2,  18.4143,2,  34.7981,2,  34.7903,2,    219.3,2,   219.5,2,    1.17,2,    1.57,2,    0.01,2,    0.10,2,-999.000,9,-999.000,9,-999.0000,9,  2024.8,2,  2285.1,2,   7.9761,2,    25.00,2, -999.00,9,  -999.0,9, -999.00,9, -999.00,9,     -999.0,9, 20220508,     1553,  29.9988, 138.7947,    18.4141,2,     -999.0,9,     -999.0,9,     -999.0,9,     -999.0,9,     0.0134,1,     4.6791,1,     -999.0,9,     -999.0,9,     -999.0,9
33RR20220430,        P02,      18,          1,         19,         19,2,20220508,       1454,    29.9988,   138.7947,       2385,   155.0,2,  18.0354,2,  34.7786,2,  34.7712,2,    220.4,2,   219.9,2,    1.37,2,    1.88,2,    0.00,2,    0.11,2,-999.000,9,-999.000,9,-999.0000,9,  2029.2,2,  2281.7,2,   7.9684,2,    25.01,2, -999.00,9,  -999.0,9, -999.00,9, -999.00,9,     -999.0,9, 20220508,     1551,  29.9988, 138.7947,    18.0356,2,     -999.0,9,     -999.0,9,     -999.0,9,     -999.0,9,     0.0122,1,     4.6833,1,     -999.0,9,     -999.0,9,     -999.0,9
33RR20220430,        P02,      18,          1,         18,         18,2,20220508,       1454,    29.9988,   138.7947,       2385,   205.6,2,  17.7292,2,  34.7684,2,  34.7608,2,    222.1,2,   222.2,2,    1.37,2,    2.07,2,    0.00,2,    0.13,2,-999.000,9,-999.000,9,-999.0000,9,  2029.9,6,  2280.3,2,   7.9655,2,    25.00,2, -999.00,9,  -999.0,9, -999.00,9, -999.00,9,     -999.0,9, 20220508,     1549,  29.9988, 138.7947,    17.7344,2,     -999.0,9,     -999.0,9,     -999.0,9,     -999.0,9,     0.0122,1,     4.6860,1,     -999.0,9,     -999.0,9,     -999.0,9
33RR20220430,        P02,      18,          1,         17,         17,2,20220508,       1454,    29.9988,   138.7947,       2385,   255.1,2,  17.5374,2,  34.7528,2,  34.7447,2,    224.1,2,   225.0,2,    1.47,2,    2.23,2,    0.00,2,    0.13,2,-999.000,9,-999.000,9,-999.0000,9,  2032.1,2,  2281.7,2,   7.9636,2,    24.98,2, -999.00,9,  -999.0,9, -999.00,9, -999.00,9,     -999.0,9, 20220508,     1548,  29.9988, 138.7947,    17.5315,2,     -999.0,9,     -999.0,9,     -999.0,9,     -999.0,9,     0.0122,1,     4.6878,1,     -999.0,9,     -999.0,9,     -999.0,9
33RR20220430,        P02,      18,          1,         16,         16,2,20220508,       1454,    29.9988,   138.7947,       2385,   305.5,2,  17.3391,2,  34.7568,2,  34.7506,2,    222.7,2,   222.8,2,    1.56,2,    2.64,2,    0.00,2,    0.17,2,-999.000,9,-999.000,9,-999.0000,9,  2033.3,2,  2281.7,2,   7.9594,2,    25.00,2, -999.00,9,  -999.0,9, -999.00,9, -999.00,9,     -999.0,9, 20220508,     1546,  29.9988, 138.7947,    17.3380,2,     -999.0,9,     -999.0,9,     -999.0,9,     -999.0,9,     0.0122,1,     4.6872,1,     -999.0,9,     -999.0,9,     -999.0,9
33RR20220430,        P02,      18,          1,         15,         15,2,20220508,       1454,    29.9988,   138.7947,       2385,   356.3,2,  17.2001,2,  34.7478,2,  34.7414,2,    219.3,2,   220.4,2,    2.05,2,    3.13,2,    0.00,2,    0.18,2,-999.000,9,-999.000,9,-999.0000,9,  2034.0,2,  2279.9,2,   7.9509,2,    25.01,2, -999.00,9,  -999.0,9, -999.00,9, -999.00,9,     -999.0,9, 20220508,     1544,  29.9988, 138.7947,    17.2006,2,     -999.0,9,     -999.0,9,     -999.0,9,     -999.0,9,     0.0122,1,     4.6886,1,     -999.0,9,     -999.0,9,     -999.0,9
33RR20220430,        P02,      18,          1,         14,         14,2,20220508,       1454,    29.9988,   138.7947,       2385,   406.7,2,  16.3804,2,  34.6883,2,  34.6822,2,    199.3,2,   199.1,2,    5.18,2,    6.44,2,    0.00,2,    0.40,2,-999.000,9,-999.000,9,-999.0000,9,  2064.0,2,  2279.5,2,   7.8965,2,    25.01,2, -999.00,9,  -999.0,9, -999.00,9, -999.00,9,     -999.0,9, 20220508,     1542,  29.9988, 138.7947,    16.3877,2,     -999.0,9,     -999.0,9,     -999.0,9,     -999.0,9,     0.0122,1,     4.6940,1,     -999.0,9,     -999.0,9,     -999.0,9
33RR20220430,        P02,      18,          1,         13,         13,2,20220508,       1454,    29.9988,   138.7947,       2385,   507.2,2,  13.6353,2,  34.4641,2,  34.4587,2,    195.4,2,   194.9,2,   11.63,2,   11.00,2,    0.00,2,    0.72,2,-999.000,9,-999.000,9,-999.0000,9,  2095.2,2,  2270.8,2,   7.8174,2,    24.98,2, -999.00,9,  -999.0,9, -999.00,9, -999.00,9,     -999.0,9, 20220508,     1539,  29.9988, 138.7947,    13.6311,2,     -999.0,9,     -999.0,9,     -999.0,9,     -999.0,9,     0.0122,1,     4.7004,1,     -999.0,9,     -999.0,9,     -999.0,9
33RR20220430,        P02,      18,          1,         12,         12,2,20220508,       1454,    29.9988,   138.7947,       2385,   709.8,2,   7.8441,2,  34.0795,2,  34.0778,2,    152.1,2,   152.8,2,   43.99,2,   25.16,2,    0.00,2,    1.77,2,-999.000,9,-999.000,9,-999.0000,9,  2191.8,2,  2280.5,2,   7.5933,2,    24.92,2, -999.00,9,  -999.0,9, -999.00,9, -999.00,9,     -999.0,9, 20220508,     1535,  29.9988, 138.7947,     7.7985,2,     -999.0,9,     -999.0,9,     -999.0,9,     -999.0,9,     0.0122,1,     4.7058,1,     -999.0,9,     -999.0,9,     -999.0,9
33RR20220430,        P02,      18,          1,         11,         11,2,20220508,       1454,    29.9988,   138.7947,       2385,   810.4,2,   5.9111,2,  34.1191,2,  34.1174,2,    104.3,2,   103.6,2,   73.22,2,   32.97,2,    0.00,2,    2.33,2,-999.000,9,-999.000,9,-999.0000,9,  2258.6,2,  2305.6,2,   7.4712,2,    25.00,2, -999.00,9,  -999.0,9, -999.00,9, -999.00,9,     -999.0,9, 20220508,     1532,  29.9988, 138.7948,     5.9117,2,     -999.0,9,     -999.0,9,     -999.0,9,     -999.0,9,     0.0134,1,     4.7061,1,     -999.0,9,     -999.0,9,     -999.0,9
33RR20220430,        P02,      18,          1,         10,         10,2,20220508,       1454,    29.9988,   138.7947,       2385,   910.3,2,   4.9823,2,  34.1606,2,  34.1566,2,     79.3,2,    79.3,2,   89.84,2,   36.48,2,    0.00,2,    2.60,2,-999.000,9,-999.000,9,-999.0000,9,  2290.2,2,  2319.9,2,   7.4123,2,    24.99,2, -999.00,9,  -999.0,9, -999.00,9, -999.00,9,     -999.0,9, 20220508,     1529,  29.9988, 138.7947,     4.9967,2,     -999.0,9,     -999.0,9,     -999.0,9,     -999.0,9,     0.0134,1,     4.7056,1,     -999.0,9,     -999.0,9,     -999.0,9
33RR20220430,        P02,      18,          1,          9,          9,2,20220508,       1454,    29.9988,   138.7947,       2385,  1010.9,2,   4.2557,2,  34.2964,2,  34.2946,2,     62.6,2,    62.3,2,  109.47,2,   38.95,2,    0.00,2,    2.78,2,-999.000,9,-999.000,9,-999.0000,9,  2321.2,2,  2345.6,2,   7.3958,2,    25.05,2, -999.00,9,  -999.0,9, -999.00,9, -999.00,9,     -999.0,9, 20220508,     1526,  29.9988, 138.7947,     4.2573,2,     -999.0,9,     -999.0,9,     -999.0,9,     -999.0,9,     0.0134,1,     4.7056,1,     -999.0,9,     -999.0,9,     -999.0,9
33RR20220430,        P02,      18,          1,          8,          8,2,20220508,       1454,    29.9988,   138.7947,       2385,  1111.8,2,   3.9473,2,  34.3307,2,  34.3309,2,     59.0,2,    59.6,2,  116.70,2,   39.85,2,    0.00,2,    2.83,2,-999.000,9,-999.000,9,-999.0000,9,  2331.3,2,  2356.1,2,   7.3910,2,    24.95,2, -999.00,9,  -999.0,9, -999.00,9, -999.00,9,     -999.0,9, 20220508,     1524,  29.9988, 138.7947,     3.9460,2,     -999.0,9,     -999.0,9,     -999.0,9,     -999.0,9,     0.0134,1,     4.7055,1,     -999.0,9,     -999.0,9,     -999.0,9
33RR20220430,        P02,      18,          1,          7,          7,2,20220508,       1454,    29.9988,   138.7947,       2385,  1214.2,2,   3.5153,2,  34.4018,2,  34.4019,2,     60.6,2,    60.7,2,  125.98,2,   40.32,2,    0.00,2,    2.86,2,-999.000,9,-999.000,9,-999.0000,9,  2341.8,6,  2367.8,2,   7.4009,2,    25.01,2, -999.00,9,  -999.0,9, -999.00,9, -999.00,9,     -999.0,9, 20220508,     1521,  29.9988, 138.7947,     3.5130,2,     -999.0,9,     -999.0,9,     -999.0,9,     -999.0,9,     0.0134,1,     4.7049,1,     -999.0,9,     -999.0,9,     -999.0,9
33RR20220430,        P02,      18,          1,          6,          6,2,20220508,       1454,    29.9988,   138.7947,       2385,  1315.4,2,   3.2334,2,  34.4369,2,  34.4369,2,     62.4,2,    62.5,2,  132.04,2,   40.35,2,    0.00,2,    2.87,2,-999.000,9,-999.000,9,-999.0000,9,  2345.2,2,  2375.4,2,   7.4059,2,    24.93,2, -999.00,9,  -999.0,9, -999.00,9, -999.00,9,     -999.0,9, 20220508,     1518,  29.9988, 138.7947,     3.2333,2,     -999.0,9,     -999.0,9,     -999.0,9,     -999.0,9,     0.0134,1,     4.7044,1,     -999.0,9,     -999.0,9,     -999.0,9
33RR20220430,        P02,      18,          1,          5,          5,2,20220508,       1454,    29.9988,   138.7947,       2385,  1417.6,2,   2.9940,2,  34.4654,2,  34.4642,2,     64.9,2,    65.0,2,  136.53,2,   40.39,2,    0.00,2,    2.88,2,-999.000,9,-999.000,9,-999.0000,9,  2349.8,2,  2381.1,2,   7.4105,2,    24.99,2, -999.00,9,  -999.0,9, -999.00,9, -999.00,9,     -999.0,9, 20220508,     1516,  29.9988, 138.7947,     2.9936,2,     -999.0,9,     -999.0,9,     -999.0,9,     -999.0,9,     0.0134,1,     4.7054,1,     -999.0,9,     -999.0,9,     -999.0,9
33RR20220430,        P02,      18,          1,          4,          4,2,20220508,       1454,    29.9988,   138.7947,       2385,  1618.9,2,   2.6786,2,  34.5059,2,  34.5056,2,     72.0,2,    72.5,2,  142.59,2,   40.65,2,    0.00,2,    2.87,2,-999.000,9,-999.000,9,-999.0000,9,  2354.3,2,  2389.2,2,   7.4243,2,    24.98,2, -999.00,9,  -999.0,9, -999.00,9, -999.00,9,     -999.0,9, 20220508,     1511,  29.9988, 138.7947,     2.6840,2,     -999.0,9,     -999.0,9,     -999.0,9,     -999.0,9,     0.0134,1,     4.7056,1,     -999.0,9,     -999.0,9,     -999.0,9
33RR20220430,        P02,      18,          1,          3,          3,2,20220508,       1454,    29.9988,   138.7947,       2385,  1821.6,2,   2.3747,2,  34.5447,2,  34.5447,2,     81.4,2,    81.6,2,  146.78,2,   40.09,2,    0.00,2,    2.83,2,-999.000,9,-999.000,9,-999.0000,9,  2352.6,2,  2398.0,2,   7.4436,2,    24.98,2, -999.00,9,  -999.0,9, -999.00,9, -999.00,9,     -999.0,9, 20220508,     1507,  29.9988, 138.7947,     2.3767,2,     -999.0,9,     -999.0,9,     -999.0,9,     -999.0,9,     0.0130,1,     4.7058,1,     -999.0,9,     -999.0,9,     -999.0,9
33RR20220430,        P02,      18,          1,          2,          2,2,20220508,       1454,    29.9988,   138.7947,       2385,  2117.6,2,   2.0048,2,  34.5967,2,  34.5956,2,    100.1,2,    99.8,2,  150.20,2,   38.98,2,    0.00,2,    2.77,2,-999.000,9,-999.000,9,-999.0000,9,  2350.8,2,  2406.4,2,   7.4789,2,    25.01,2, -999.00,9,  -999.0,9, -999.00,9, -999.00,9,     -999.0,9, 20220508,     1500,  29.9988, 138.7947,     2.0097,2,     -999.0,9,     -999.0,9,     -999.0,9,     -999.0,9,     0.0134,1,     4.7061,1,     -999.0,9,     -999.0,9,     -999.0,9
33RR20220430,        P02,      18,          1,          1,          1,2,20220508,       1454,    29.9988,   138.7947,       2385,  2404.8,2,   1.7794,2,  34.6321,2,  34.6319,2,    120.2,2,   120.4,2,  147.85,2,   37.70,2,    0.00,2,    2.68,2,-999.000,9,-999.000,9,-999.0000,9,  2341.0,2,  2410.7,2,   7.5189,2,    25.00,2, -999.00,9,  -999.0,9, -999.00,9, -999.00,9,     -999.0,9, 20220508,     1454,  29.9988, 138.7947,     1.7795,2,     -999.0,9,     -999.0,9,     -999.0,9,     -999.0,9,     0.0130,1,     4.7043,1,     -999.0,9,     -999.0,9,     -999.0,9