BOTTLE,20230801CCHSIOCBG
EXPOCODE,SECT_ID,STNNBR,CASTNO,SAMPNO,BTLNBR,BTLNBR_FLAG_W,DATE,TIME,LATITUDE,LONGITUDE,DEPTH,CTDPRS,CTDPRS_FLAG_W,CTDTMP,CTDTMP_FLAG_W,CTDSAL,CTDSAL_FLAG_W,SALNTY,SALNTY_FLAG_W,CTDOXY,CTDOXY_FLAG_W,OXYGEN,OXYGEN_FLAG_W,SILCAT,SILCAT_FLAG_W,NITRAT,NITRAT_FLAG_W,NITRIT,NITRIT_FLAG_W,PHSPHT,PHSPHT_FLAG_W,CFC-11,CFC-11_FLAG_W,CFC-12,CFC-12_FLAG_W,SF6,SF6_FLAG_W,TCARBN,TCARBN_FLAG_W,ALKALI,ALKALI_FLAG_W,PH_TOT,PH_TOT_FLAG_W,PH_TMP,PH_TMP_FLAG_W,DELC13,DELC13_FLAG_W,DELC14,DELC14_FLAG_W,DOC,DOC_FLAG_W,TDN,TDN_FLAG_W,N2O,N2O_FLAG_W,BTL_DATE,BTL_TIME,BTL_LAT,BTL_LON,REFTMP,REFTMP_FLAG_W,POC,POC_FLAG_W,PON,PON_FLAG_W,POP,POP_FLAG_W,PCOD,PCOD_FLAG_W,CTDFLUOR,CTDFLUOR_FLAG_W,CTDXMISS,CTDXMISS_FLAG_W,HPLC,HPLC_FLAG_W,DNA,DNA_FLAG_W,FCM,FCM_FLAG_W
,,,,,,,,,,,METERS,DBAR,,ITS-90,,PSS-78,,PSS-78,,UMOL/KG,,UMOL/KG,,UMOL/KG,,UMOL/KG,,UMOL/KG,,UMOL/KG,,PMOL/KG,,PMOL/KG,,FMOL/KG,,UMOL/KG,,UMOL/KG,,,,DEG C,,/MILLE,,/MILLE,,UMOL/KG,,UMOL/KG,,NMOL/KG,,,,,,ITS-90,,UG/L,,UG/L,,UG/L,,UG/L,,VOLTS,,VOLTS,,,,,,,
33RR20220430,        P02,      54,          1,         36,         36,2,20220520,       1222,    29.9990,   163.3729,       5992,     3.1,2,  20.7585,2,  34.7944,2,  34.7938,2,    231.2,2,   231.1,2,    1.07,2,    0.02,2,    0.00,2,    0.00,2,   2.096,2,   1.234,2,   2.1615,2,  2021.1,2,  2285.1,2,   7.9864,2,    25.01,2, -999.00,9,  -999.0,9, -999.00,9, -999.00,9,        6.7,2, 20220520,     1440,  29.9990, 163.3729,    20.7062,3,     -999.0,9,     -999.0,9,     -999.0,9,     -999.0,9,     0.0149,1,     4.6258,1,     -999.0,9,     -999.0,9,     -999.0,9
33RR20220430,        P02,      54,          1,         35,         35,2,20220520,       1222,    29.9990,   163.3729,       5992,    25.4,2,  19.4181,2,  34.8447,3,  34.8228,2,    237.2,2,   238.0,2,    1.17,2,    0.00,2,    0.00,2,    0.00,2,   2.195,2,   1.270,2,   2.2204,2,  2019.7,2,  2286.3,2,   7.9872,2,    25.04,2, -999.00,9,  -999.0,9, -999.00,9, -999.00,9,        6.9,2, 20220520,     1438,  29.9990, 163.3729,    19.4163,2,     -999.0,9,     -999.0,9,     -999.0,9,     -999.0,9,     0.0159,1,     4.6093,1,     -999.0,9,     -999.0,9,     -999.0,9
33RR20220430,        P02,      54,          1,         34,         34,2,20220520,       1222,    29.9990,   163.3729,       5992,    50.5,2,  18.0734,2,  34.7755,2,  34.7632,2,    240.6,2,   240.7,2,    1.66,2,    0.03,2,    0.00,2,    0.01,2,   2.224,2,   1.319,2,   2.2525,2,  2019.8,2,  2278.6,2,   7.9841,2,    25.05,2, -999.00,9,  -999.0,9, -999.00,9, -999.00,9,        7.5,2, 20220520,     1437,  29.9990, 163.3729,    18.0716,2,     -999.0,9,     -999.0,9,     -999.0,9,     -999.0,9,     0.0269,1,     4.5872,1,     -999.0,9,     -999.0,9,     -999.0,9
33RR20220430,        P02,      54,          1,         33,         33,2,20220520,       1222,    29.9990,   163.3729,       5992,    77.4,2,  17.1987,2,  34.7346,2,  34.7237,2,    225.9,2,   225.5,2,    2.54,2,    2.22,2,    0.12,2,    0.16,2,   2.268,2,   1.348,2,   2.1577,2,  2036.2,2,  2278.4,2,   7.9491,2,    25.03,2, -999.00,9,  -999.0,9, -999.00,9, -999.00,9,        8.2,2, 20220520,     1435,  29.9990, 163.3729,    17.1960,2,     -999.0,9,     -999.0,9,     -999.0,9,     -999.0,9,     0.0434,1,     4.6174,1,     -999.0,9,     -999.0,9,     -999.0,9
33RR20220430,        P02,      54,          1,         32,         32,2,20220520,       1222,    29.9990,   163.3729,       5992,   101.5,2,  16.7708,2,  34.7022,2,  34.6940,2,    221.5,2,   221.4,2,    3.13,2,    3.25,2,    0.05,2,    0.21,2,   2.283,2,   1.402,2,   2.2768,2,  2042.0,2,  2277.4,2,   7.9341,2,    25.03,2, -999.00,9,  -999.0,9, -999.00,9, -999.00,9,        8.6,2, 20220520,     1433,  29.9990, 163.3729,    16.7692,2,     -999.0,9,     -999.0,9,     -999.0,9,     -999.0,9,     0.0256,1,     4.6604,1,     -999.0,9,     -999.0,9,     -999.0,9
33RR20220430,        P02,      54,          1,         31,         31,2,20220520,       1222,    29.9990,   163.3729,       5992,   152.0,2,  16.1629,2,  34.6630,2,  34.6582,2,    215.1,2,   214.4,2,    4.49,2,    5.03,2,    0.00,2,    0.33,2,   2.333,2,   1.398,2,   2.1029,2,  2052.0,2,  2273.2,2,   7.9114,2,    25.03,2, -999.00,9,  -999.0,9, -999.00,9, -999.00,9,        9.3,2, 20220520,     1431,  29.9990, 163.3729,    16.1628,2,     -999.0,9,     -999.0,9,     -999.0,9,     -999.0,9,     0.0134,1,     4.6829,1,     -999.0,9,     -999.0,9,     -999.0,9
33RR20220430,        P02,      54,          1,         30,         30,2,20220520,       1222,    29.9990,   163.3729,       5992,   201.9,2,  15.6324,2,  34.6292,2,  34.6236,2,    224.8,2,   225.2,2,    4.79,2,    4.84,2,    0.00,2,    0.34,2,   2.371,2,   1.440,2,   2.1830,2,  2049.3,2,  2271.9,2,   7.9134,2,    25.01,2, -999.00,9,  -999.0,9, -999.00,9, -999.00,9,        9.1,2, 20220520,     1429,  29.9990, 163.3729,    15.6301,2,     -999.0,9,     -999.0,9,     -999.0,9,     -999.0,9,     0.0122,1,     4.6861,1,     -999.0,9,     -999.0,9,     -999.0,9
33RR20220430,        P02,      54,          1,         29,         29,2,20220520,       1222,    29.9990,   163.3729,       5992,   252.3,2,  15.4562,2,  34.6464,2,  34.6390,2,    233.1,2,   234.2,2,    4.40,2,    4.25,2,    0.00,2,    0.31,2,   2.390,2,   1.429,2,   2.2806,2,  2047.0,2,  2275.4,2,   7.9214,2,    25.00,2, -999.00,9,  -999.0,9, -999.00,9, -999.00,9,        8.7,2, 20220520,     1427,  29.9990, 163.3729,    15.4534,2,     -999.0,9,     -999.0,9,     -999.0,9,     -999.0,9,     0.0122,1,     4.6873,1,     -999.0,9,     -999.0,9,     -999.0,9
33RR20220430,        P02,      54,          1,         28,         28,2,20220520,       1222,    29.9990,   163.3729,       5992,   303.8,2,  14.6059,2,  34.5435,2,  34.5337,2,    204.0,2,   203.1,2,    8.89,2,    8.66,2,    0.00,2,    0.61,2,   2.465,2,   1.460,2,   1.8045,2,  -999.0,9,  -999.0,9,-999.0000,9,  -999.00,9, -999.00,9,  -999.0,9, -999.00,9, -999.00,9,       11.5,2, 20220520,     1425,  29.9990, 163.3729,    14.6052,2,     -999.0,9,     -999.0,9,     -999.0,9,     -999.0,9,     0.0122,1,     4.6727,1,     -999.0,9,     -999.0,9,     -999.0,9
33RR20220430,        P02,      54,          1,         27,         27,2,20220520,       1222,    29.9990,   163.3729,       5992,   354.3,2,  13.4210,2,  34.4475,2,  34.4457,2,    202.1,2,   202.3,2,   12.02,2,   10.59,2,    0.00,2,    0.75,2,   2.551,2,   1.515,2,   1.8983,2,  2090.1,2,  2268.1,2,   7.8234,2,    25.03,2, -999.00,9,  -999.0,9, -999.00,9, -999.00,9,       12.8,2, 20220520,     1423,  29.9990, 163.3729,    13.4291,2,     -999.0,9,     -999.0,9,     -999.0,9,     -999.0,9,     0.0122,1,     4.6922,1,     -999.0,9,     -999.0,9,     -999.0,9
33RR20220430,        P02,      54,          1,         26,         26,2,20220520,       1222,    29.9990,   163.3729,       5992,   409.7,2,  12.0485,2,  34.3431,2,  34.3339,2,    210.6,2,   211.5,2,   15.44,2,   12.10,2,    0.00,2,    0.87,2,   2.668,2,   1.579,2,   2.0992,2,  -999.0,9,  -999.0,9,-999.0000,9,  -999.00,9, -999.00,9,  -999.0,9, -999.00,9, -999.00,9,       13.6,2, 20220520,     1421,  29.9990, 163.3729,    12.0455,2,     -999.0,9,     -999.0,9,     -999.0,9,     -999.0,9,     0.0122,1,     4.6935,1,     -999.0,9,     -999.0,9,     -999.0,9
33RR20220430,        P02,      54,          1,         25,         25,2,20220520,       1222,    29.9990,   163.3729,       5992,   511.3,2,   9.2501,2,  34.1113,2,  34.1040,2,    200.6,2,   200.7,2,   27.36,2,   18.01,2,    0.00,2,    1.31,2,   2.892,2,   1.669,2,   2.0763,2,  2141.6,2,  2270.6,2,   7.6994,2,    25.02,2, -999.00,9,  -999.0,9, -999.00,9, -999.00,9,       17.3,2, 20220520,     1418,  29.9990, 163.3729,     9.2526,2,     -999.0,9,     -999.0,9,     -999.0,9,     -999.0,9,     0.0122,1,     4.6971,1,     -999.0,9,     -999.0,9,     -999.0,9
33RR20220430,        P02,      54,          1,         24,         24,2,20220520,       1222,    29.9990,   163.3729,       5992,   612.1,2,   6.7088,2,  33.9581,2,  33.9543,2,    164.6,2,   165.3,2,   48.28,2,   26.13,2,    0.00,2,    1.91,2,   2.685,6,   1.559,6,   1.6100,6,  2197.5,2,  2280.5,2,   7.5675,2,    25.04,2, -999.00,9,  -999.0,9, -999.00,9, -999.00,9,       24.4,6, 20220520,     1416,  29.9990, 163.3729,     6.6978,2,     -999.0,9,     -999.0,9,     -999.0,9,     -999.0,9,     0.0122,1,     4.7017,1,     -999.0,9,     -999.0,9,     -999.0,9
33RR20220430,        P02,      54,          1,         23,         23,2,20220520,       1222,    29.9990,   163.3729,       5992,   712.8,2,   5.2680,2,  34.0384,2,  34.0368,2,    100.2,2,    99.5,2,   75.64,2,   34.51,2,    0.00,2,    2.50,2,   1.822,2,   1.047,2,   0.7651,2,  2264.3,2,  2299.0,2,   7.4320,2,    25.01,2, -999.00,9,  -999.0,9, -999.00,9, -999.00,9,       34.7,2, 20220520,     1413,  29.9990, 163.3729,     5.2867,2,     -999.0,9,     -999.0,9,     -999.0,9,     -999.0,9,     0.0134,1,     4.7023,1,     -999.0,9,     -999.0,9,     -999.0,9
33RR20220430,        P02,      54,          1,         22,         22,2,20220520,       1222,    29.9990,   163.3729,       5992,   813.0,2,   4.4781,2,  34.1428,2,  34.1397,2,     64.7,3,    63.8,2,   96.55,2,   38.69,2,    0.00,2,    2.79,2,   1.108,2,   0.626,2,   0.5674,2,  -999.0,9,  -999.0,9,-999.0000,9,  -999.00,9, -999.00,9,  -999.0,9, -999.00,9, -999.00,9,       40.9,2, 20220520,     1411,  29.9990, 163.3729,     4.4683,2,     -999.0,9,     -999.0,9,     -999.0,9,     -999.0,9,     0.0134,1,     4.7019,1,     -999.0,9,     -999.0,9,     -999.0,9
33RR20220430,        P02,      54,          1,         21,         21,2,20220520,       1222,    29.9990,   163.3729,       5992,   913.8,2,   3.9754,2,  34.2302,2,  34.2217,2,     46.7,3,    48.3,2,  110.71,2,   40.65,2,    0.00,2,    2.93,2,-999.000,9,-999.000,9,-999.0000,9,  2330.1,2,  2337.6,2,   7.3457,2,    25.01,2, -999.00,9,  -999.0,9, -999.00,9, -999.00,9,     -999.0,9, 20220520,     1408,  29.9990, 163.3729,     3.9851,2,     -999.0,9,     -999.0,9,     -999.0,9,     -999.0,9,     0.0134,1,     4.7021,1,     -999.0,9,     -999.0,9,     -999.0,9
33RR20220430,        P02,      54,          1,         20,         20,2,20220520,       1222,    29.9990,   163.3729,       5992,  1080.2,2,   3.3387,2,  34.3407,2,  34.3399,2,     32.7,3,    33.4,2,  130.35,2,   42.52,2,    0.00,2,    3.07,2,   0.252,2,   0.140,2,   0.0000,2,  2358.4,2,  2362.3,2,   7.3298,2,    25.01,2, -999.00,9,  -999.0,9, -999.00,9, -999.00,9,       47.3,2, 20220520,     1405,  29.9990, 163.3729,     3.3448,2,     -999.0,9,     -999.0,9,     -999.0,9,     -999.0,9,     0.0134,1,     4.7025,1,     -999.0,9,     -999.0,9,     -999.0,9
33RR20220430,        P02,      54,          1,         19,         19,4,20220520,       1222,    29.9990,   163.3729,       5992,  1115.4,3,   3.2431,3,  34.3610,3,-999.0000,9,     32.5,3,  -999.0,9, -999.00,9, -999.00,9, -999.00,9, -999.00,9,-999.000,9,-999.000,9,-999.0000,9,  -999.0,9,  -999.0,9,-999.0000,9,  -999.00,9, -999.00,9,  -999.0,9, -999.00,9, -999.00,9,     -999.0,9, 20220520,     1403,  29.9990, 163.3729,     3.2462,3,     -999.0,9,     -999.0,9,     -999.0,9,     -999.0,9,     0.0134,1,     4.7023,1,     -999.0,9,     -999.0,9,     -999.0,9
33RR20220430,        P02,      54,          1,         18,         18,2,20220520,       1222,    29.9990,   163.3729,       5992,  1217.0,2,   2.9952,2,  34.4033,2,  34.4029,2,     32.7,3,    32.4,2,  141.48,2,   42.92,2,    0.00,2,    3.08,2,   0.142,2,   0.075,2,   0.0000,2,  2368.8,2,  2374.7,2,   7.3352,2,    24.99,2, -999.00,9,  -999.0,9, -999.00,9, -999.00,9,       45.6,2, 20220520,     1400,  29.9990, 163.3729,     2.9978,2,     -999.0,9,     -999.0,9,     -999.0,9,     -999.0,9,     0.0134,1,     4.7030,1,     -999.0,9,     -999.0,9,     -999.0,9
33RR20220430,        P02,      54,          1,         17,         17,2,20220520,       1222,    29.9990,   163.3729,       5992,  1319.0,2,   2.7742,2,  34.4420,2,  34.4387,2,     34.2,2,    34.2,2,  147.92,2,   43.10,2,    0.00,2,    3.10,2,   0.090,2,   0.047,2,   0.0000,2,  2375.7,6,  2383.4,2,   7.3412,2,    25.00,2, -999.00,9,  -999.0,9, -999.00,9, -999.00,9,       45.5,2, 20220520,     1358,  29.9990, 163.3729,     2.7734,2,     -999.0,9,     -999.0,9,     -999.0,9,     -999.0,9,     0.0134,1,     4.7023,1,     -999.0,9,     -999.0,9,     -999.0,9
33RR20220430,        P02,      54,          1,         16,         16,2,20220520,       1222,    29.9990,   163.3729,       5992,  1420.2,2,   2.5511,2,  34.4804,2,  34.4762,2,     36.8,2,    36.5,2,  154.27,2,   43.02,2,    0.00,2,    3.09,2,   0.058,2,   0.035,2,   0.0000,2,  -999.0,9,  -999.0,9,-999.0000,9,  -999.00,9, -999.00,9,  -999.0,9, -999.00,9, -999.00,9,       44.2,2, 20220520,     1355,  29.9990, 163.3729,     2.5559,2,     -999.0,9,     -999.0,9,     -999.0,9,     -999.0,9,     0.0134,1,     4.7024,1,     -999.0,9,     -999.0,9,     -999.0,9
33RR20220430,        P02,      54,          1,         15,         15,2,20220520,       1222,    29.9990,   163.3729,       5992,  1622.8,2,   2.2689,2,  34.5396,2,  34.5362,2,     50.5,2,    50.9,2,  160.12,2,   42.42,2,    0.00,2,    3.04,2,   0.019,2,   0.011,2,   0.0000,2,  2380.5,2,  2402.4,2,   7.3806,2,    24.99,2, -999.00,9,  -999.0,9, -999.00,9, -999.00,9,       39.5,2, 20220520,     1351,  29.9990, 163.3729,     2.2681,2,     -999.0,9,     -999.0,9,     -999.0,9,     -999.0,9,     0.0134,1,     4.7043,1,     -999.0,9,     -999.0,9,     -999.0,9
33RR20220430,        P02,      54,          1,         14,         14,2,20220520,       1222,    29.9990,   163.3729,       5992,  1824.7,2,   2.0499,2,  34.5794,2,  34.5761,2,     68.5,3,    69.4,2,  161.78,2,   41.19,2,    0.00,2,    2.94,2,-999.000,9,-999.000,9,-999.0000,9,  -999.0,9,  -999.0,9,-999.0000,9,  -999.00,9, -999.00,9,  -999.0,9, -999.00,9, -999.00,9,     -999.0,9, 20220520,     1346,  29.9990, 163.3729,     2.0498,2,     -999.0,9,     -999.0,9,     -999.0,9,     -999.0,9,     0.0134,1,     4.7057,1,     -999.0,9,     -999.0,9,     -999.0,9
33RR20220430,        P02,      54,          1,         13,         13,2,20220520,       1222,    29.9990,   163.3729,       5992,  2028.4,2,   1.8858,2,  34.6037,2,  34.6034,2,     81.7,2,    81.6,2,  163.14,2,   40.44,2,    0.00,2,    2.87,2,   0.006,2,   0.000,2,   0.0000,2,  2368.6,2,  2411.3,2,   7.4432,2,    25.02,2, -999.00,9,  -999.0,9, -999.00,9, -999.00,9,       31.9,2, 20220520,     1342,  29.9989, 163.3730,     1.8876,2,     -999.0,9,     -999.0,9,     -999.0,9,     -999.0,9,     0.0131,1,     4.7059,1,     -999.0,9,     -999.0,9,     -999.0,9
33RR20220430,        P02,      54,          1,         12,         12,2,20220520,       1222,    29.9990,   163.3729,       5992,  2282.5,2,   1.7531,2,  34.6304,2,  34.6303,2,    104.4,2,   104.4,2,  157.77,2,   39.10,2,    0.00,2,    2.75,2,-999.000,9,-999.000,9,-999.0000,9,  -999.0,9,  -999.0,9,-999.0000,9,  -999.00,9, -999.00,9,  -999.0,9, -999.00,9, -999.00,9,     -999.0,9, 20220520,     1337,  29.9990, 163.3729,     1.7528,2,     -999.0,9,     -999.0,9,     -999.0,9,     -999.0,9,     0.0130,1,     4.7070,1,     -999.0,9,     -999.0,9,     -999.0,9
33RR20220430,        P02,      54,          1,         11,         11,2,20220520,       1222,    29.9990,   163.3729,       5992,  2536.1,2,   1.6561,2,  34.6450,3,  34.6425,2,    114.9,2,   114.7,2,  157.38,2,   38.31,2,    0.00,2,    2.71,2,   0.005,2,   0.000,2,   0.0000,2,  2348.1,2,  2415.2,2,   7.5080,2,    24.98,2, -999.00,9,  -999.0,9, -999.00,9, -999.00,9,       26.1,2, 20220520,     1332,  29.9990, 163.3729,     1.6562,2,     -999.0,9,     -999.0,9,     -999.0,9,     -999.0,9,     0.0122,1,     4.7080,1,     -999.0,9,     -999.0,9,     -999.0,9
33RR20220430,        P02,      54,          1,         10,         10,2,20220520,       1222,    29.9990,   163.3729,       5992,  2791.7,2,   1.5916,2,  34.6565,3,  34.6531,2,    125.8,2,   125.5,2,  153.76,2,   37.58,2,    0.00,2,    2.64,2,-999.000,9,-999.000,9,-999.0000,9,  -999.0,9,  -999.0,9,-999.0000,9,  -999.00,9, -999.00,9,  -999.0,9, -999.00,9, -999.00,9,     -999.0,9, 20220520,     1326,  29.9990, 163.3729,     1.5915,2,     -999.0,9,     -999.0,9,     -999.0,9,     -999.0,9,     0.0122,1,     4.7084,1,     -999.0,9,     -999.0,9,     -999.0,9
33RR20220430,        P02,      54,          1,          9,          9,2,20220520,       1222,    29.9990,   163.3729,       5992,  3046.9,2,   1.5460,2,  34.6641,3,  34.6602,2,    132.5,2,   132.8,2,  152.68,2,   37.10,2,    0.00,2,    2.61,2,   0.005,2,   0.000,2,   0.0000,2,  2336.7,2,  2414.3,2,   7.5409,2,    24.99,2, -999.00,9,  -999.0,9, -999.00,9, -999.00,9,       23.7,2, 20220520,     1321,  29.9990, 163.3729,     1.5463,2,     -999.0,9,     -999.0,9,     -999.0,9,     -999.0,9,     0.0122,1,     4.7083,1,     -999.0,9,     -999.0,9,     -999.0,9
33RR20220430,        P02,      54,          1,          8,          8,2,20220520,       1222,    29.9990,   163.3729,       5992,  3353.0,2,   1.5112,2,  34.6711,3,  34.6690,2,    140.0,2,   139.9,2,  151.02,2,   36.62,2,    0.00,2,    2.57,2,-999.000,9,-999.000,9,-999.0000,9,  -999.0,9,  -999.0,9,-999.0000,9,  -999.00,9, -999.00,9,  -999.0,9, -999.00,9, -999.00,9,     -999.0,9, 20220520,     1314,  29.9990, 163.3729,     1.5110,2,     -999.0,9,     -999.0,9,     -999.0,9,     -999.0,9,     0.0122,1,     4.7089,1,     -999.0,9,     -999.0,9,     -999.0,9
33RR20220430,        P02,      54,          1,          7,          7,2,20220520,       1222,    29.9990,   163.3729,       5992,  3660.1,2,   1.4921,2,  34.6760,3,  34.6728,2,    145.4,2,   145.5,2,  149.85,2,   36.27,2,    0.00,2,    2.54,2,   0.005,2,   0.000,2,   0.0000,2,  2325.7,2,  2415.2,2,   7.5621,2,    25.00,2, -999.00,9,  -999.0,9, -999.00,9, -999.00,9,       22.2,2, 20220520,     1308,  29.9990, 163.3729,     1.4919,2,     -999.0,9,     -999.0,9,     -999.0,9,     -999.0,9,     0.0130,1,     4.7092,1,     -999.0,9,     -999.0,9,     -999.0,9
33RR20220430,        P02,      54,          1,          6,          6,2,20220520,       1222,    29.9990,   163.3729,       5992,  4067.9,2,   1.4742,2,  34.6818,2,  34.6818,2,    152.5,2,   153.1,2,  147.41,2,   35.80,2,    0.00,2,    2.49,2,-999.000,9,-999.000,9,-999.0000,9,  -999.0,9,  -999.0,9,-999.0000,9,  -999.00,9, -999.00,9,  -999.0,9, -999.00,9, -999.00,9,     -999.0,9, 20220520,     1300,  29.9990, 163.3729,     1.4743,2,     -999.0,9,     -999.0,9,     -999.0,9,     -999.0,9,     0.0122,1,     4.7091,1,     -999.0,9,     -999.0,9,     -999.0,9
33RR20220430,        P02,      54,          1,          5,          5,2,20220520,       1222,    29.9990,   163.3729,       5992,  4479.6,2,   1.4742,2,  34.6861,2,  34.6857,2,    158.7,2,   159.0,2,  144.87,2,   35.17,2,    0.00,2,    2.47,2,   0.005,2,   0.000,2,   0.0000,2,  2318.5,2,  2410.7,2,   7.5814,2,    25.02,2, -999.00,9,  -999.0,9, -999.00,9, -999.00,9,       21.0,2, 20220520,     1253,  29.9990, 163.3729,     1.4741,2,     -999.0,9,     -999.0,9,     -999.0,9,     -999.0,9,     0.0122,1,     4.7090,1,     -999.0,9,     -999.0,9,     -999.0,9
33RR20220430,        P02,      54,          1,          4,          4,2,20220520,       1222,    29.9990,   163.3729,       5992,  4890.7,2,   1.4857,2,  34.6896,2,  34.6879,2,    164.5,2,   164.4,2,  141.45,2,   34.89,2,    0.00,2,    2.43,2,-999.000,9,-999.000,9,-999.0000,9,  -999.0,9,  -999.0,9,-999.0000,9,  -999.00,9, -999.00,9,  -999.0,9, -999.00,9, -999.00,9,     -999.0,9, 20220520,     1245,  29.9990, 163.3729,     1.4856,2,     -999.0,9,     -999.0,9,     -999.0,9,     -999.0,9,     0.0122,1,     4.7093,1,     -999.0,9,     -999.0,9,     -999.0,9