BOTTLE,20230801CCHSIOCBG
EXPOCODE,SECT_ID,STNNBR,CASTNO,SAMPNO,BTLNBR,BTLNBR_FLAG_W,DATE,TIME,LATITUDE,LONGITUDE,DEPTH,CTDPRS,CTDPRS_FLAG_W,CTDTMP,CTDTMP_FLAG_W,CTDSAL,CTDSAL_FLAG_W,SALNTY,SALNTY_FLAG_W,CTDOXY,CTDOXY_FLAG_W,OXYGEN,OXYGEN_FLAG_W,SILCAT,SILCAT_FLAG_W,NITRAT,NITRAT_FLAG_W,NITRIT,NITRIT_FLAG_W,PHSPHT,PHSPHT_FLAG_W,CFC-11,CFC-11_FLAG_W,CFC-12,CFC-12_FLAG_W,SF6,SF6_FLAG_W,TCARBN,TCARBN_FLAG_W,ALKALI,ALKALI_FLAG_W,PH_TOT,PH_TOT_FLAG_W,PH_TMP,PH_TMP_FLAG_W,DELC13,DELC13_FLAG_W,DELC14,DELC14_FLAG_W,DOC,DOC_FLAG_W,TDN,TDN_FLAG_W,N2O,N2O_FLAG_W,BTL_DATE,BTL_TIME,BTL_LAT,BTL_LON,REFTMP,REFTMP_FLAG_W,POC,POC_FLAG_W,PON,PON_FLAG_W,POP,POP_FLAG_W,PCOD,PCOD_FLAG_W,CTDFLUOR,CTDFLUOR_FLAG_W,CTDXMISS,CTDXMISS_FLAG_W,HPLC,HPLC_FLAG_W,DNA,DNA_FLAG_W,FCM,FCM_FLAG_W
,,,,,,,,,,,METERS,DBAR,,ITS-90,,PSS-78,,PSS-78,,UMOL/KG,,UMOL/KG,,UMOL/KG,,UMOL/KG,,UMOL/KG,,UMOL/KG,,PMOL/KG,,PMOL/KG,,FMOL/KG,,UMOL/KG,,UMOL/KG,,,,DEG C,,/MILLE,,/MILLE,,UMOL/KG,,UMOL/KG,,NMOL/KG,,,,,,ITS-90,,UG/L,,UG/L,,UG/L,,UG/L,,VOLTS,,VOLTS,,,,,,,
33RR20220430,        P02,      60,          1,         36,         36,2,20220522,       0954,    30.0000,   166.8343,       6123,     4.2,2,  23.0275,2,  35.2144,2,  35.2024,2,    219.9,2,   220.7,2,    0.88,2,    0.02,2,    0.00,2,    0.02,2,   1.875,2,   1.133,2,   2.0030,2,  2022.7,2,  2310.9,2,   8.0179,2,    25.05,2, -999.00,9,  -999.0,9, -999.00,9, -999.00,9,        6.1,2, 20220522,     1215,  30.0000, 166.8343,    22.9462,2,     -999.0,9,     -999.0,9,     -999.0,9,     -999.0,9,     0.0135,1,     4.6343,1,     -999.0,9,     -999.0,9,     -999.0,9
33RR20220430,        P02,      60,          1,         35,         35,2,20220522,       0954,    30.0000,   166.8343,       6123,    25.7,2,  22.3953,2,  35.2503,2,  35.2385,2,    222.8,2,   222.9,2,    0.88,2,    0.01,2,    0.00,2,    0.01,2,   1.888,2,   1.124,2,   1.8110,2,  2022.3,2,  2312.6,2,   8.0251,2,    25.00,2, -999.00,9,  -999.0,9, -999.00,9, -999.00,9,        6.1,2, 20220522,     1213,  30.0001, 166.8344,    22.3964,2,     -999.0,9,     -999.0,9,     -999.0,9,     -999.0,9,     0.0147,1,     4.6349,1,     -999.0,9,     -999.0,9,     -999.0,9
33RR20220430,        P02,      60,          1,         34,         34,2,20220522,       0954,    30.0000,   166.8343,       6123,    50.5,2,  20.9111,2,  35.0720,2,  35.0529,2,    231.4,2,   231.6,2,    1.17,2,    0.01,2,    0.00,2,    0.01,2,   2.059,2,   1.198,2,   1.9080,2,  2020.9,2,  2300.7,2,   8.0118,2,    25.01,2, -999.00,9,  -999.0,9, -999.00,9, -999.00,9,        6.5,2, 20220522,     1211,  30.0001, 166.8344,    20.9104,2,     -999.0,9,     -999.0,9,     -999.0,9,     -999.0,9,     0.0171,1,     4.6194,1,     -999.0,9,     -999.0,9,     -999.0,9
33RR20220430,        P02,      60,          1,         33,         33,2,20220522,       0954,    30.0000,   166.8343,       6123,    77.8,2,  19.4547,2,  34.9602,2,  34.9461,2,    235.2,2,   234.7,2,    1.37,2,    0.01,2,    0.00,2,    0.01,2,   2.119,2,   1.256,2,   2.0994,2,  2021.6,2,  2295.5,2,   7.9989,2,    25.02,2, -999.00,9,  -999.0,9, -999.00,9, -999.00,9,        6.8,2, 20220522,     1209,  30.0001, 166.8345,    19.4555,2,     -999.0,9,     -999.0,9,     -999.0,9,     -999.0,9,     0.0220,1,     4.5405,1,     -999.0,9,     -999.0,9,     -999.0,9
33RR20220430,        P02,      60,          1,         32,         32,2,20220522,       0954,    30.0000,   166.8343,       6123,   103.2,2,  18.6765,2,  34.8991,2,  34.8894,2,    231.2,2,   230.9,2,    1.47,2,    0.00,2,    0.00,2,    0.03,2,   2.142,2,   1.272,2,   2.0674,2,  2024.1,2,  2290.8,2,   7.9855,2,    25.01,2, -999.00,9,  -999.0,9, -999.00,9, -999.00,9,        7.0,2, 20220522,     1207,  30.0001, 166.8345,    18.6777,2,     -999.0,9,     -999.0,9,     -999.0,9,     -999.0,9,     0.0291,1,     4.6343,1,     -999.0,9,     -999.0,9,     -999.0,9
33RR20220430,        P02,      60,          1,         31,         31,2,20220522,       0954,    30.0000,   166.8343,       6123,   152.9,2,  17.6826,2,  34.7963,2,  34.7856,2,    224.8,2,   224.4,2,    1.86,2,    1.60,2,    0.00,2,    0.14,2,   2.237,2,   1.328,2,   2.1216,2,  2033.3,2,  2282.9,2,   7.9575,2,    25.04,2, -999.00,9,  -999.0,9, -999.00,9, -999.00,9,        7.4,2, 20220522,     1205,  30.0001, 166.8345,    17.6791,2,     -999.0,9,     -999.0,9,     -999.0,9,     -999.0,9,     0.0167,1,     4.6781,1,     -999.0,9,     -999.0,9,     -999.0,9
33RR20220430,        P02,      60,          1,         30,         30,2,20220522,       0954,    30.0000,   166.8343,       6123,   202.4,2,  17.1014,2,  34.7184,2,  34.7079,2,    225.8,2,   225.4,2,    2.54,2,    2.43,2,    0.00,2,    0.19,2,   2.246,2,   1.345,2,   2.1942,2,  2035.7,2,  2277.7,2,   7.9463,2,    25.02,2, -999.00,9,  -999.0,9, -999.00,9, -999.00,9,        7.9,2, 20220522,     1203,  30.0001, 166.8345,    17.0992,2,     -999.0,9,     -999.0,9,     -999.0,9,     -999.0,9,     0.0134,1,     4.6849,1,     -999.0,9,     -999.0,9,     -999.0,9
33RR20220430,        P02,      60,          1,         29,         29,2,20220522,       0954,    30.0000,   166.8343,       6123,   252.9,2,  16.5784,2,  34.6992,2,  34.6879,2,    228.7,2,   228.4,2,    2.93,2,    2.99,2,    0.00,2,    0.21,2,   2.268,2,   1.377,2,   2.1086,2,  -999.0,9,  -999.0,9,-999.0000,9,  -999.00,9, -999.00,9,  -999.0,9, -999.00,9, -999.00,9,        8.2,2, 20220522,     1201,  30.0001, 166.8344,    16.5736,2,     -999.0,9,     -999.0,9,     -999.0,9,     -999.0,9,     0.0134,1,     4.6836,1,     -999.0,9,     -999.0,9,     -999.0,9
33RR20220430,        P02,      60,          1,         28,         28,2,20220522,       0954,    30.0000,   166.8343,       6123,   303.5,2,  15.8663,2,  34.6424,2,  34.6321,2,    217.2,2,   215.6,2,    4.88,2,    5.39,2,    0.00,2,    0.37,2,   2.346,2,   1.407,2,   2.0141,2,  2055.1,6,  2274.3,2,   7.9044,2,    25.01,2, -999.00,9,  -999.0,9, -999.00,9, -999.00,9,        9.3,2, 20220522,     1159,  30.0001, 166.8344,    15.8613,2,     -999.0,9,     -999.0,9,     -999.0,9,     -999.0,9,     0.0122,1,     4.6875,1,     -999.0,9,     -999.0,9,     -999.0,9
33RR20220430,        P02,      60,          1,         27,         27,2,20220522,       0954,    30.0000,   166.8343,       6123,   354.1,2,  14.8048,2,  34.5585,2,  34.5496,2,    201.1,2,   201.7,2,    8.40,2,    8.42,2,    0.00,2,    0.60,2,   2.449,2,   1.481,2,   1.9026,2,  -999.0,9,  -999.0,9,-999.0000,9,  -999.00,9, -999.00,9,  -999.0,9, -999.00,9, -999.00,9,       11.3,2, 20220522,     1157,  30.0001, 166.8345,    14.7998,2,     -999.0,9,     -999.0,9,     -999.0,9,     -999.0,9,     0.0122,1,     4.6922,1,     -999.0,9,     -999.0,9,     -999.0,9
33RR20220430,        P02,      60,          1,         26,         26,2,20220522,       0954,    30.0000,   166.8343,       6123,   404.4,2,  13.4956,2,  34.4482,2,  34.4400,2,    205.0,2,   205.4,2,   10.84,2,   10.10,2,    0.00,2,    0.71,2,   2.602,2,   1.558,2,   1.8455,2,  2087.3,2,  2270.3,2,   7.8261,2,    25.03,2, -999.00,9,  -999.0,9, -999.00,9, -999.00,9,       12.6,2, 20220522,     1155,  30.0001, 166.8345,    13.4841,2,     -999.0,9,     -999.0,9,     -999.0,9,     -999.0,9,     0.0115,1,     4.6956,1,     -999.0,9,     -999.0,9,     -999.0,9
33RR20220430,        P02,      60,          1,         25,         25,2,20220522,       0954,    30.0000,   166.8343,       6123,   506.2,2,  10.6911,2,  34.2247,2,  34.2166,2,    202.0,2,   202.4,2,   19.84,2,   15.23,2,    0.00,2,    1.08,2,   2.867,2,   1.671,2,   1.8900,2,  2120.6,2,  2266.1,2,   7.7438,2,    25.00,2, -999.00,9,  -999.0,9, -999.00,9, -999.00,9,       15.7,2, 20220522,     1152,  30.0001, 166.8344,    10.6906,2,     -999.0,9,     -999.0,9,     -999.0,9,     -999.0,9,     0.0122,1,     4.6994,1,     -999.0,9,     -999.0,9,     -999.0,9
33RR20220430,        P02,      60,          1,         24,         24,2,20220522,       0954,    30.0000,   166.8343,       6123,   607.0,2,   8.5709,2,  34.0884,2,  34.0836,2,    169.8,2,   169.6,2,   33.81,2,   22.04,2,    0.00,2,    1.58,2,   2.724,2,   1.573,2,   1.3281,2,  2167.8,2,  2271.3,2,   7.6353,2,    25.02,2, -999.00,9,  -999.0,9, -999.00,9, -999.00,9,       21.8,2, 20220522,     1149,  30.0001, 166.8345,     8.5672,2,     -999.0,9,     -999.0,9,     -999.0,9,     -999.0,9,     0.0122,1,     4.7013,1,     -999.0,9,     -999.0,9,     -999.0,9
33RR20220430,        P02,      60,          1,         23,         23,2,20220522,       0954,    30.0000,   166.8343,       6123,   707.9,2,   6.4279,2,  34.0198,2,  34.0180,2,    130.4,2,   130.9,2,   56.59,2,   29.54,2,    0.00,2,    2.13,2,   2.284,2,   1.316,2,   0.9787,2,  2222.9,2,  2286.1,2,   7.5133,2,    25.02,2, -999.00,9,  -999.0,9, -999.00,9, -999.00,9,       28.9,2, 20220522,     1146,  30.0001, 166.8344,     6.4275,2,     -999.0,9,     -999.0,9,     -999.0,9,     -999.0,9,     0.0122,1,     4.7021,1,     -999.0,9,     -999.0,9,     -999.0,9
33RR20220430,        P02,      60,          1,         22,         22,2,20220522,       0954,    30.0000,   166.8343,       6123,   808.3,2,   5.1610,2,  34.0605,2,  34.0595,2,     91.8,2,    91.7,2,   78.77,2,   35.23,2,    0.00,2,    2.55,2,   1.666,2,   0.960,2,   0.6256,2,  -999.0,9,  -999.0,9,-999.0000,9,  -999.00,9, -999.00,9,  -999.0,9, -999.00,9, -999.00,9,       35.9,2, 20220522,     1144,  30.0001, 166.8345,     5.1624,2,     -999.0,9,     -999.0,9,     -999.0,9,     -999.0,9,     0.0134,1,     4.7021,1,     -999.0,9,     -999.0,9,     -999.0,9
33RR20220430,        P02,      60,          1,         21,         21,2,20220522,       0954,    30.0000,   166.8343,       6123,   909.1,2,   4.4595,2,  34.1434,2,  34.1485,2,     63.0,3,    62.2,2,   97.63,2,   38.85,2,    0.00,2,    2.79,2,   1.099,2,   0.614,2,   0.3809,2,  2308.5,2,  2324.1,2,   7.3647,2,    25.03,2, -999.00,9,  -999.0,9, -999.00,9, -999.00,9,       41.2,2, 20220522,     1141,  30.0001, 166.8345,     4.4585,2,     -999.0,9,     -999.0,9,     -999.0,9,     -999.0,9,     0.0134,1,     4.7019,1,     -999.0,9,     -999.0,9,     -999.0,9
33RR20220430,        P02,      60,          1,         20,         20,2,20220522,       0954,    30.0000,   166.8343,       6123,  1009.3,2,   3.8428,2,  34.2485,2,  34.2491,2,     42.0,2,    42.4,2,  115.01,2,   41.11,2,    0.00,2,    2.98,2,   0.559,2,   0.318,2,   0.1710,2,  2339.1,2,  2346.6,2,   7.3371,2,    25.03,2, -999.00,9,  -999.0,9, -999.00,9, -999.00,9,       46.2,2, 20220522,     1138,  30.0001, 166.8345,     3.8412,2,     -999.0,9,     -999.0,9,     -999.0,9,     -999.0,9,     0.0134,1,     4.7019,1,     -999.0,9,     -999.0,9,     -999.0,9
33RR20220430,        P02,      60,          1,         19,         19,2,20220522,       0954,    30.0000,   166.8343,       6123,  1116.9,2,   3.4446,2,  34.3226,2,  34.3223,2,     35.2,2,    35.3,2,  127.32,2,   42.24,2,    0.00,2,    3.03,2,   0.312,2,   0.173,2,   0.0000,2,  -999.0,9,  -999.0,9,-999.0000,9,  -999.00,9, -999.00,9,  -999.0,9, -999.00,9, -999.00,9,       47.5,2, 20220522,     1136,  30.0001, 166.8344,     3.4456,2,     -999.0,9,     -999.0,9,     -999.0,9,     -999.0,9,     0.0134,1,     4.7019,1,     -999.0,9,     -999.0,9,     -999.0,9
33RR20220430,        P02,      60,          1,         18,         18,2,20220522,       0954,    30.0000,   166.8343,       6123,  1217.4,2,   3.1579,2,  34.3774,2,  34.3780,2,     32.3,3,    32.9,2,  136.01,2,   42.69,2,    0.00,2,    3.07,2,   0.168,2,   0.098,2,   0.0000,2,  2366.4,2,  2373.8,2,   7.3313,2,    25.03,2, -999.00,9,  -999.0,9, -999.00,9, -999.00,9,       47.5,2, 20220522,     1133,  30.0001, 166.8344,     3.1537,2,     -999.0,9,     -999.0,9,     -999.0,9,     -999.0,9,     0.0134,1,     4.7022,1,     -999.0,9,     -999.0,9,     -999.0,9
33RR20220430,        P02,      60,          1,         17,         17,2,20220522,       0954,    30.0000,   166.8343,       6123,  1320.0,2,   2.9020,2,  34.4236,2,  34.4241,2,     32.9,3,    32.6,2,  143.23,2,   42.84,2,    0.00,2,    3.07,2,   0.105,6,   0.057,6,   0.0000,6,  2375.9,2,  2380.3,2,   7.3362,2,    25.01,2, -999.00,9,  -999.0,9, -999.00,9, -999.00,9,       46.6,6, 20220522,     1130,  30.0001, 166.8344,     2.9020,2,     -999.0,9,     -999.0,9,     -999.0,9,     -999.0,9,     0.0134,1,     4.7020,1,     -999.0,9,     -999.0,9,     -999.0,9
33RR20220430,        P02,      60,          1,         16,         16,2,20220522,       0954,    30.0000,   166.8343,       6123,  1416.4,2,   2.7215,2,  34.4620,2,  34.4622,2,     34.3,3,    33.8,2,  148.99,2,   42.99,2,    0.00,2,    3.09,2,   0.059,2,   0.035,2,   0.0000,2,  -999.0,9,  -999.0,9,-999.0000,9,  -999.00,9, -999.00,9,  -999.0,9, -999.00,9, -999.00,9,       45.4,2, 20220522,     1127,  30.0001, 166.8345,     2.7183,2,     -999.0,9,     -999.0,9,     -999.0,9,     -999.0,9,     0.0133,1,     4.7031,1,     -999.0,9,     -999.0,9,     -999.0,9
33RR20220430,        P02,      60,          1,         15,         15,2,20220522,       0954,    30.0000,   166.8343,       6123,  1623.3,2,   2.3582,2,  34.5266,2,  34.5282,2,     45.3,2,    45.4,2,  158.56,2,   42.65,2,    0.00,2,    3.03,2,   0.023,2,   0.012,2,   0.0000,2,  2383.5,2,  2400.5,2,   7.3711,2,    25.01,2, -999.00,9,  -999.0,9, -999.00,9, -999.00,9,       40.7,2, 20220522,     1123,  30.0001, 166.8344,     2.3602,2,     -999.0,9,     -999.0,9,     -999.0,9,     -999.0,9,     0.0134,1,     4.7037,1,     -999.0,9,     -999.0,9,     -999.0,9
33RR20220430,        P02,      60,          1,         14,         14,2,20220522,       0954,    30.0000,   166.8343,       6123,  1826.0,2,   2.1141,2,  34.5717,2,  34.5716,2,     62.7,2,    63.1,2,  160.61,2,   41.51,2,    0.00,2,    2.94,2,   0.011,2,   0.006,2,   0.0000,2,  -999.0,9,  -999.0,9,-999.0000,9,  -999.00,9, -999.00,9,  -999.0,9, -999.00,9, -999.00,9,       36.1,2, 20220522,     1119,  30.0001, 166.8344,     2.1160,2,     -999.0,9,     -999.0,9,     -999.0,9,     -999.0,9,     0.0134,1,     4.7050,1,     -999.0,9,     -999.0,9,     -999.0,9
33RR20220430,        P02,      60,          1,         13,         13,2,20220522,       0954,    30.0000,   166.8343,       6123,  2024.4,2,   1.9305,2,  34.6006,2,  34.6012,2,     77.9,2,    78.1,2,  162.17,2,   40.55,2,    0.00,2,    2.86,2,   0.007,2,   0.000,2,   0.0000,2,  2371.3,2,  2413.0,2,   7.4340,2,    25.02,2, -999.00,9,  -999.0,9, -999.00,9, -999.00,9,       32.2,2, 20220522,     1114,  30.0001, 166.8344,     1.9312,2,     -999.0,9,     -999.0,9,     -999.0,9,     -999.0,9,     0.0134,1,     4.7058,1,     -999.0,9,     -999.0,9,     -999.0,9
33RR20220430,        P02,      60,          1,         12,         12,2,20220522,       0954,    30.0000,   166.8343,       6123,  2284.1,2,   1.7640,2,  34.6279,2,  34.6286,2,     99.3,3,    97.9,2,  160.02,2,   39.23,2,    0.00,2,    2.76,2,-999.000,9,-999.000,9,-999.0000,9,  -999.0,9,  -999.0,9,-999.0000,9,  -999.00,9, -999.00,9,  -999.0,9, -999.00,9, -999.00,9,     -999.0,9, 20220522,     1109,  30.0001, 166.8344,     1.7638,2,     -999.0,9,     -999.0,9,     -999.0,9,     -999.0,9,     0.0123,1,     4.7063,1,     -999.0,9,     -999.0,9,     -999.0,9
33RR20220430,        P02,      60,          1,         11,         11,2,20220522,       0954,    30.0000,   166.8343,       6123,  2537.6,2,   1.6646,2,  34.6454,2,  34.6458,2,    114.4,2,   114.9,2,  156.98,2,   38.26,2,    0.00,2,    2.68,2,   0.004,2,   0.000,2,   0.0000,2,  2349.8,2,  2414.8,2,   7.5068,2,    25.01,2, -999.00,9,  -999.0,9, -999.00,9, -999.00,9,       25.7,2, 20220522,     1104,  30.0001, 166.8345,     1.6645,2,     -999.0,9,     -999.0,9,     -999.0,9,     -999.0,9,     0.0123,1,     4.7079,1,     -999.0,9,     -999.0,9,     -999.0,9
33RR20220430,        P02,      60,          1,         10,         10,2,20220522,       0954,    30.0000,   166.8343,       6123,  2788.2,2,   1.6008,2,  34.6557,2,  34.6559,2,    123.2,2,   123.3,2,  156.20,2,   37.76,2,    0.00,2,    2.64,2,-999.000,9,-999.000,9,-999.0000,9,  -999.0,9,  -999.0,9,-999.0000,9,  -999.00,9, -999.00,9,  -999.0,9, -999.00,9, -999.00,9,     -999.0,9, 20220522,     1059,  30.0001, 166.8345,     1.6009,2,     -999.0,9,     -999.0,9,     -999.0,9,     -999.0,9,     0.0130,1,     4.7079,1,     -999.0,9,     -999.0,9,     -999.0,9
33RR20220430,        P02,      60,          1,          9,          9,2,20220522,       0954,    30.0000,   166.8343,       6123,  3047.0,2,   1.5527,2,  34.6648,2,  34.6653,2,    132.4,2,   132.3,2,  153.07,2,   37.12,2,    0.00,2,    2.60,2,   0.004,2,   0.000,2,   0.0000,2,  2337.7,2,  2416.3,2,   7.5401,2,    25.03,2, -999.00,9,  -999.0,9, -999.00,9, -999.00,9,       23.3,2, 20220522,     1053,  30.0001, 166.8344,     1.5526,2,     -999.0,9,     -999.0,9,     -999.0,9,     -999.0,9,     0.0122,1,     4.7081,1,     -999.0,9,     -999.0,9,     -999.0,9
33RR20220430,        P02,      60,          1,          8,          8,2,20220522,       0954,    30.0000,   166.8343,       6123,  3353.8,2,   1.5154,2,  34.6720,2,  34.6722,2,    139.9,2,   140.0,2,  151.12,2,   37.31,2,    0.00,2,    2.58,2,-999.000,9,-999.000,9,-999.0000,9,  -999.0,9,  -999.0,9,-999.0000,9,  -999.00,9, -999.00,9,  -999.0,9, -999.00,9, -999.00,9,     -999.0,9, 20220522,     1047,  30.0001, 166.8344,     1.5151,2,     -999.0,9,     -999.0,9,     -999.0,9,     -999.0,9,     0.0122,1,     4.7087,1,     -999.0,9,     -999.0,9,     -999.0,9
33RR20220430,        P02,      60,          1,          7,          7,2,20220522,       0954,    30.0000,   166.8343,       6123,  3661.9,2,   1.4949,2,  34.6769,2,  34.6787,2,    145.4,2,   145.4,2,  149.75,2,   36.17,2,    0.00,2,    2.54,2,   0.005,2,   0.000,2,   0.0000,2,  2332.0,2,  2413.5,2,   7.5615,2,    25.01,2, -999.00,9,  -999.0,9, -999.00,9, -999.00,9,       22.0,2, 20220522,     1041,  30.0001, 166.8345,     1.4945,2,     -999.0,9,     -999.0,9,     -999.0,9,     -999.0,9,     0.0127,1,     4.7086,1,     -999.0,9,     -999.0,9,     -999.0,9
33RR20220430,        P02,      60,          1,          6,          6,2,20220522,       0954,    30.0000,   166.8343,       6123,  4069.7,2,   1.4795,2,  34.6823,2,  34.6830,2,    152.0,2,   151.6,2,  147.99,2,   35.72,2,    0.00,2,    2.49,2,-999.000,9,-999.000,9,-999.0000,9,  -999.0,9,  -999.0,9,-999.0000,9,  -999.00,9, -999.00,9,  -999.0,9, -999.00,9, -999.00,9,     -999.0,9, 20220522,     1033,  30.0001, 166.8344,     1.4795,2,     -999.0,9,     -999.0,9,     -999.0,9,     -999.0,9,     0.0122,1,     4.7082,1,     -999.0,9,     -999.0,9,     -999.0,9
33RR20220430,        P02,      60,          1,          5,          5,2,20220522,       0954,    30.0000,   166.8343,       6123,  4481.6,2,   1.4778,2,  34.6867,2,  34.6871,2,    154.4,3,   157.6,2,  146.72,2,   35.38,2,    0.00,2,    2.46,2,   0.005,2,   0.000,2,   0.0000,2,  2319.3,6,  2409.8,2,   7.5797,2,    25.01,2, -999.00,9,  -999.0,9, -999.00,9, -999.00,9,       20.6,2, 20220522,     1025,  30.0001, 166.8344,     1.4777,2,     -999.0,9,     -999.0,9,     -999.0,9,     -999.0,9,     0.0122,1,     4.7079,1,     -999.0,9,     -999.0,9,     -999.0,9
33RR20220430,        P02,      60,          1,          4,          4,2,20220522,       0954,    30.0000,   166.8343,       6123,  4892.6,2,   1.4865,2,  34.6903,2,  34.6908,2,    163.5,2,   163.9,2,  141.45,2,   34.92,2,    0.00,2,    2.42,2,-999.000,9,-999.000,9,-999.0000,9,  -999.0,9,  -999.0,9,-999.0000,9,  -999.00,9, -999.00,9,  -999.0,9, -999.00,9, -999.00,9,     -999.0,9, 20220522,     1017,  30.0001, 166.8344,     1.4865,2,     -999.0,9,     -999.0,9,     -999.0,9,     -999.0,9,     0.0122,1,     4.7085,1,     -999.0,9,     -999.0,9,     -999.0,9