BOTTLE,20230801CCHSIOCBG
EXPOCODE,SECT_ID,STNNBR,CASTNO,SAMPNO,BTLNBR,BTLNBR_FLAG_W,DATE,TIME,LATITUDE,LONGITUDE,DEPTH,CTDPRS,CTDPRS_FLAG_W,CTDTMP,CTDTMP_FLAG_W,CTDSAL,CTDSAL_FLAG_W,SALNTY,SALNTY_FLAG_W,CTDOXY,CTDOXY_FLAG_W,OXYGEN,OXYGEN_FLAG_W,SILCAT,SILCAT_FLAG_W,NITRAT,NITRAT_FLAG_W,NITRIT,NITRIT_FLAG_W,PHSPHT,PHSPHT_FLAG_W,CFC-11,CFC-11_FLAG_W,CFC-12,CFC-12_FLAG_W,SF6,SF6_FLAG_W,TCARBN,TCARBN_FLAG_W,ALKALI,ALKALI_FLAG_W,PH_TOT,PH_TOT_FLAG_W,PH_TMP,PH_TMP_FLAG_W,DELC13,DELC13_FLAG_W,DELC14,DELC14_FLAG_W,DOC,DOC_FLAG_W,TDN,TDN_FLAG_W,N2O,N2O_FLAG_W,BTL_DATE,BTL_TIME,BTL_LAT,BTL_LON,REFTMP,REFTMP_FLAG_W,POC,POC_FLAG_W,PON,PON_FLAG_W,POP,POP_FLAG_W,PCOD,PCOD_FLAG_W,CTDFLUOR,CTDFLUOR_FLAG_W,CTDXMISS,CTDXMISS_FLAG_W,HPLC,HPLC_FLAG_W,DNA,DNA_FLAG_W,FCM,FCM_FLAG_W
,,,,,,,,,,,METERS,DBAR,,ITS-90,,PSS-78,,PSS-78,,UMOL/KG,,UMOL/KG,,UMOL/KG,,UMOL/KG,,UMOL/KG,,UMOL/KG,,PMOL/KG,,PMOL/KG,,FMOL/KG,,UMOL/KG,,UMOL/KG,,,,DEG C,,/MILLE,,/MILLE,,UMOL/KG,,UMOL/KG,,NMOL/KG,,,,,,ITS-90,,UG/L,,UG/L,,UG/L,,UG/L,,VOLTS,,VOLTS,,,,,,,
33RR20220430,        P02,      41,          2,         36,         36,2,20220516,       0816,    30.0007,   155.2936,       5807,     2.3,2,  21.4717,2,  34.5667,2,  34.5519,2,    226.9,2,   227.0,2,    0.78,2,    0.02,2,    0.00,2,    0.01,2,   1.876,2,   1.193,2,   1.8743,2,  2006.8,2,  2268.1,2,   7.9940,2,    25.02,2, -999.00,9,  -999.0,9, -999.00,1, -999.00,1,        6.5,2, 20220516,     1035,  30.0007, 155.2936,    21.5701,2,     -999.0,9,     -999.0,9,     -999.0,9,     -999.0,9,     0.0147,1,     4.6251,1,     -999.0,9,     -999.0,9,     -999.0,9
33RR20220430,        P02,      41,          2,         35,         35,2,20220516,       0816,    30.0007,   155.2936,       5807,    20.9,2,  20.5865,2,  34.6447,2,  34.6333,2,    231.4,2,   230.6,2,    0.98,2,    0.01,2,    0.00,2,    0.00,2,   1.923,2,   1.222,2,   1.9730,2,  2007.8,2,  2273.7,2,   7.9941,2,    25.01,2, -999.00,9,  -999.0,9, -999.00,1, -999.00,1,        6.7,2, 20220516,     1033,  30.0007, 155.2936,    20.5525,2,     -999.0,9,     -999.0,9,     -999.0,9,     -999.0,9,     0.0147,1,     4.6361,1,     -999.0,9,     -999.0,9,     -999.0,9
33RR20220430,        P02,      41,          2,         34,         34,2,20220516,       0816,    30.0007,   155.2936,       5807,    42.3,2,  18.5509,2,  34.7484,2,  34.7398,2,    244.6,2,   243.8,2,    0.98,2,    0.00,2,    0.00,2,    0.02,2,   2.050,2,   1.334,2,   2.1308,2,  2014.6,2,  2281.4,2,   7.9930,2,    25.01,2, -999.00,9,  -999.0,9, -999.00,1, -999.00,1,        7.3,2, 20220516,     1031,  30.0007, 155.2935,    18.5736,2,     -999.0,9,     -999.0,9,     -999.0,9,     -999.0,9,     0.0171,1,     4.6318,1,     -999.0,9,     -999.0,9,     -999.0,9
33RR20220430,        P02,      41,          2,         33,         33,2,20220516,       0816,    30.0007,   155.2936,       5807,    67.3,2,  17.4865,2,  34.7136,2,  34.7117,2,    240.4,2,   240.0,2,    1.76,2,    0.69,2,    0.08,2,    0.09,2,   2.084,2,   1.378,2,   2.1769,2,  2023.1,2,  2279.5,2,   7.9737,2,    25.00,2, -999.00,9,  -999.0,9, -999.00,1, -999.00,1,        8.7,2, 20220516,     1029,  30.0007, 155.2935,    17.4846,2,     -999.0,9,     -999.0,9,     -999.0,9,     -999.0,9,     0.0515,1,     4.5887,1,     -999.0,9,     -999.0,9,     -999.0,9
33RR20220430,        P02,      41,          2,         32,         32,2,20220516,       0816,    30.0007,   155.2936,       5807,    92.2,2,  17.2605,2,  34.7314,2,  34.7260,2,    221.1,2,   221.1,2,    2.25,2,    2.99,2,    0.07,2,    0.21,2,   2.099,2,   1.390,2,   2.0956,2,  2037.7,2,  2279.4,2,   7.9486,2,    25.00,2, -999.00,9,  -999.0,9, -999.00,1, -999.00,1,        9.0,2, 20220516,     1027,  30.0007, 155.2935,    17.2637,2,     -999.0,9,     -999.0,9,     -999.0,9,     -999.0,9,     0.0378,1,     4.6343,1,     -999.0,9,     -999.0,9,     -999.0,9
33RR20220430,        P02,      41,          2,         31,         31,2,20220516,       0816,    30.0007,   155.2936,       5807,   137.7,2,  16.7945,2,  34.7072,2,  34.7015,2,    223.1,2,   223.8,2,    2.83,2,    3.40,2,    0.07,2,    0.23,2,   2.140,2,   1.365,2,   2.2515,2,  2042.0,2,  2278.3,2,   7.9395,2,    25.01,2, -999.00,9,  -999.0,9, -999.00,1, -999.00,1,        9.3,2, 20220516,     1025,  30.0007, 155.2935,    16.7947,2,     -999.0,9,     -999.0,9,     -999.0,9,     -999.0,9,     0.0166,1,     4.6745,1,     -999.0,9,     -999.0,9,     -999.0,9
33RR20220430,        P02,      41,          2,         30,         30,2,20220516,       0816,    30.0007,   155.2936,       5807,   187.7,2,  16.3983,2,  34.6910,2,  34.6857,2,    222.5,2,   223.2,2,    3.42,2,    4.14,2,    0.00,2,    0.28,2,   2.165,2,   1.371,2,   2.2917,2,  2045.0,2,  2278.0,2,   7.9320,2,    25.01,2, -999.00,9,  -999.0,9, -999.00,1, -999.00,1,        9.3,2, 20220516,     1023,  30.0007, 155.2935,    16.3993,2,     -999.0,9,     -999.0,9,     -999.0,9,     -999.0,9,     0.0129,1,     4.6853,1,     -999.0,9,     -999.0,9,     -999.0,9
33RR20220430,        P02,      41,          2,         29,         29,2,20220516,       0816,    30.0007,   155.2936,       5807,   238.1,2,  15.9456,2,  34.6621,2,  34.6574,2,    218.5,2,   219.1,2,    4.59,2,    5.22,2,    0.00,2,    0.35,2,   2.190,2,   1.401,2,   2.1743,2,  2054.2,2,  2277.4,2,   7.9148,2,    25.01,2, -999.00,9,  -999.0,9, -999.00,1, -999.00,1,       10.2,2, 20220516,     1021,  30.0007, 155.2935,    15.9448,2,     -999.0,9,     -999.0,9,     -999.0,9,     -999.0,9,     0.0127,1,     4.6845,1,     -999.0,9,     -999.0,9,     -999.0,9
33RR20220430,        P02,      41,          2,         28,         28,2,20220516,       0816,    30.0007,   155.2936,       5807,   287.0,2,  15.6624,2,  34.6523,2,  34.6480,2,    223.1,2,   224.3,2,    4.79,2,    5.18,2,    0.00,2,    0.35,2,   2.218,2,   1.428,2,   2.1901,2,  -999.0,9,  -999.0,9,-999.0000,9,  -999.00,9, -999.00,9,  -999.0,9, -999.00,1, -999.00,1,        9.8,2, 20220516,     1019,  30.0007, 155.2935,    15.6616,2,     -999.0,9,     -999.0,9,     -999.0,9,     -999.0,9,     0.0122,1,     4.6885,1,     -999.0,9,     -999.0,9,     -999.0,9
33RR20220430,        P02,      41,          2,         27,         27,2,20220516,       0816,    30.0007,   155.2936,       5807,   337.4,2,  14.6761,2,  34.5563,2,  34.5523,2,    202.5,2,   202.8,2,    8.60,2,    8.81,2,    0.00,2,    0.58,2,   2.257,2,   1.475,2,   1.9106,2,  2078.2,6,  2274.9,2,   7.8577,2,    25.01,2, -999.00,9,  -999.0,9, -999.00,1, -999.00,1,       12.4,2, 20220516,     1017,  30.0007, 155.2935,    14.6727,2,     -999.0,9,     -999.0,9,     -999.0,9,     -999.0,9,     0.0122,1,     4.6888,1,     -999.0,9,     -999.0,9,     -999.0,9
33RR20220430,        P02,      41,          2,         26,         26,2,20220516,       0816,    30.0007,   155.2936,       5807,   387.5,2,  12.7768,2,  34.4073,2,  34.4145,2,    187.7,2,   187.4,2,   16.22,2,   13.31,2,    0.00,2,    0.89,2,   2.456,2,   1.479,2,   1.7751,2,  -999.0,9,  -999.0,9,-999.0000,9,  -999.00,9, -999.00,9,  -999.0,9, -999.00,1, -999.00,1,       15.9,2, 20220516,     1015,  30.0007, 155.2936,    12.7746,2,     -999.0,9,     -999.0,9,     -999.0,9,     -999.0,9,     0.0122,1,     4.6939,1,     -999.0,9,     -999.0,9,     -999.0,9
33RR20220430,        P02,      41,          2,         25,         25,2,20220516,       0816,    30.0007,   155.2936,       5807,   469.0,2,  10.0038,2,  34.2008,2,  34.1981,2,    185.8,2,   187.1,2,   25.79,2,   17.84,2,    0.00,2,    1.23,2,   2.615,2,   1.548,2,   1.7300,2,  2142.8,2,  2274.4,2,   7.7094,2,    25.00,2, -999.00,9,  -999.0,9, -999.00,1, -999.00,1,       19.1,2, 20220516,     1013,  30.0007, 155.2935,    10.0217,2,     -999.0,9,     -999.0,9,     -999.0,9,     -999.0,9,     0.0125,1,     4.6973,1,     -999.0,9,     -999.0,9,     -999.0,9
33RR20220430,        P02,      41,          2,         24,         24,2,20220516,       0816,    30.0007,   155.2936,       5807,   570.2,2,   7.1084,2,  34.0054,2,  34.0057,2,    161.3,2,   161.2,2,   45.83,2,   25.70,2,    0.00,2,    1.82,2,   2.494,2,   1.523,2,   1.4994,2,  2195.3,2,  2282.0,2,   7.5806,2,    25.01,2, -999.00,9,  -999.0,9, -999.00,1, -999.00,1,       25.5,2, 20220516,     1010,  30.0007, 155.2935,     7.1058,2,     -999.0,9,     -999.0,9,     -999.0,9,     -999.0,9,     0.0127,1,     4.7018,1,     -999.0,9,     -999.0,9,     -999.0,9
33RR20220430,        P02,      41,          2,         23,         23,2,20220516,       0816,    30.0007,   155.2936,       5807,   672.8,2,   5.3616,2,  34.0178,2,  34.0182,2,    109.3,3,   108.2,2,   71.14,2,   33.57,2,    0.00,2,    2.38,2,   1.937,2,   1.141,2,   0.8724,2,  2256.7,2,  2300.4,2,   7.4483,2,    24.99,2, -999.00,9,  -999.0,9, -999.00,1, -999.00,1,       34.2,2, 20220516,     1008,  30.0007, 155.2935,     5.3615,2,     -999.0,9,     -999.0,9,     -999.0,9,     -999.0,9,     0.0126,1,     4.7026,1,     -999.0,9,     -999.0,9,     -999.0,9
33RR20220430,        P02,      41,          2,         22,         22,2,20220516,       0816,    30.0007,   155.2936,       5807,   772.7,2,   4.6380,2,  34.1281,2,  34.1303,2,     69.3,2,    69.1,2,   91.55,2,   38.13,2,    0.00,2,    2.68,2,   1.168,2,   0.677,2,   0.5220,2,  2298.2,2,  2320.3,2,   7.3826,2,    25.00,2, -999.00,9,  -999.0,9, -999.00,9, -999.00,9,       41.6,2, 20220516,     1005,  30.0007, 155.2936,     4.6303,2,     -999.0,9,     -999.0,9,     -999.0,9,     -999.0,9,     0.0134,1,     4.7043,1,     -999.0,9,     -999.0,9,     -999.0,9
33RR20220430,        P02,      41,          2,         21,         21,2,20220516,       0816,    30.0007,   155.2936,       5807,   873.9,2,   3.9911,2,  34.2305,2,  34.2321,2,     45.9,2,    46.1,2,  109.82,2,   40.73,2,    0.00,2,    2.88,2,   0.614,6,   0.361,6,   0.0000,6,  2331.5,2,  2342.0,2,   7.3474,2,    25.00,2, -999.00,9,  -999.0,9, -999.00,1, -999.00,1,       45.8,6, 20220516,     1002,  30.0007, 155.2935,     3.9900,2,     -999.0,9,     -999.0,9,     -999.0,9,     -999.0,9,     0.0134,1,     4.7041,1,     -999.0,9,     -999.0,9,     -999.0,9
33RR20220430,        P02,      41,          2,         20,         20,2,20220516,       0816,    30.0007,   155.2936,       5807,   974.5,2,   3.6502,2,  34.2909,2,  34.2936,2,     36.7,2,    36.9,2,  120.36,2,   41.85,2,    0.00,2,    2.96,2,   0.371,2,   0.215,2,   0.0000,2,  2347.8,2,  2355.0,2,   7.3375,2,    25.02,2, -999.00,9,  -999.0,9, -999.00,9, -999.00,9,       47.8,2, 20220516,      959,  30.0007, 155.2935,     3.6488,2,     -999.0,9,     -999.0,9,     -999.0,9,     -999.0,9,     0.0134,1,     4.7044,1,     -999.0,9,     -999.0,9,     -999.0,9
33RR20220430,        P02,      41,          2,         19,         19,2,20220516,       0816,    30.0007,   155.2936,       5807,  1075.8,2,   3.2950,2,  34.3569,2,  34.3578,2,     32.5,3,    33.0,2,  130.52,2,   42.55,2,    0.00,2,    3.02,2,   0.198,2,   0.117,2,   0.0000,2,  2361.5,2,  2368.3,2,   7.3404,2,    25.00,2, -999.00,9,  -999.0,9, -999.00,1, -999.00,1,       49.2,2, 20220516,      957,  30.0007, 155.2935,     3.2959,2,     -999.0,9,     -999.0,9,     -999.0,9,     -999.0,9,     0.0134,1,     4.7050,1,     -999.0,9,     -999.0,9,     -999.0,9
33RR20220430,        P02,      41,          2,         18,         18,2,20220516,       0816,    30.0007,   155.2936,       5807,  1176.4,2,   3.0170,2,  34.4046,2,  34.4055,2,     32.3,2,    32.5,2,  138.72,2,   42.81,2,    0.00,2,    3.04,2,   0.123,2,   0.072,2,   0.0000,2,  2369.1,2,  2376.0,2,   7.3381,2,    25.00,2, -999.00,9,  -999.0,9, -999.00,9, -999.00,9,       48.5,2, 20220516,      954,  30.0007, 155.2935,     3.0173,2,     -999.0,9,     -999.0,9,     -999.0,9,     -999.0,9,     0.0134,1,     4.7053,1,     -999.0,9,     -999.0,9,     -999.0,9
33RR20220430,        P02,      41,          2,         17,         17,2,20220516,       0816,    30.0007,   155.2936,       5807,  1278.8,2,   2.7842,2,  34.4446,2,  34.4459,2,     33.3,2,    33.5,2,  144.87,2,   42.54,2,    0.00,2,    3.03,2,   0.075,2,   0.046,2,   0.0000,2,  2376.0,2,  2384.4,2,   7.3431,2,    24.99,2, -999.00,9,  -999.0,9, -999.00,1, -999.00,1,       47.1,2, 20220516,      951,  30.0007, 155.2935,     2.7834,2,     -999.0,9,     -999.0,9,     -999.0,9,     -999.0,9,     0.0134,1,     4.7054,1,     -999.0,9,     -999.0,9,     -999.0,9
33RR20220430,        P02,      41,          2,         16,         16,2,20220516,       0816,    30.0007,   155.2936,       5807,  1380.3,2,   2.6214,2,  34.4742,2,  34.4748,2,     35.8,3,    42.9,2,  150.34,2,   43.01,2,    0.00,2,    3.03,2,   0.049,2,   0.029,2,   0.0000,2,  2379.4,2,  2391.2,2,   7.3506,2,    25.00,2, -999.00,9,  -999.0,9, -999.00,9, -999.00,9,       45.6,2, 20220516,      948,  30.0007, 155.2936,     2.6221,2,     -999.0,9,     -999.0,9,     -999.0,9,     -999.0,9,     0.0134,1,     4.7055,1,     -999.0,9,     -999.0,9,     -999.0,9
33RR20220430,        P02,      41,          2,         15,         15,2,20220516,       0816,    30.0007,   155.2936,       5807,  1552.2,2,   2.3629,2,  34.5219,2,  34.5225,2,     44.9,2,    45.1,2,  156.97,2,   42.63,2,    0.00,2,    2.99,2,   0.022,2,   0.009,2,   0.0000,2,  2378.9,2,  2398.8,2,   7.3711,2,    24.99,2, -999.00,9,  -999.0,9, -999.00,1, -999.00,1,       42.5,2, 20220516,      944,  30.0007, 155.2936,     2.3626,2,     -999.0,9,     -999.0,9,     -999.0,9,     -999.0,9,     0.0134,1,     4.7059,1,     -999.0,9,     -999.0,9,     -999.0,9
33RR20220430,        P02,      41,          2,         14,         14,2,20220516,       0816,    30.0007,   155.2936,       5807,  1754.6,2,   2.1127,2,  34.5660,2,  34.5671,2,     60.3,2,    60.3,2,  161.07,2,   41.67,2,    0.00,2,    2.92,2,   0.012,2,   0.003,2,   0.0000,2,  2377.2,2,  2405.7,2,   7.4034,2,    25.00,2, -999.00,9,  -999.0,9, -999.00,1, -999.00,1,       37.9,2, 20220516,      940,  30.0007, 155.2936,     2.1118,2,     -999.0,9,     -999.0,9,     -999.0,9,     -999.0,9,     0.0128,1,     4.7068,1,     -999.0,9,     -999.0,9,     -999.0,9
33RR20220430,        P02,      41,          2,         13,         13,2,20220516,       0816,    30.0007,   155.2936,       5807,  1957.4,2,   1.9412,2,  34.5958,2,  34.5969,2,     76.1,2,    76.6,2,  162.04,2,   40.67,2,    0.00,2,    2.84,2,   0.006,2,   0.000,2,   0.0000,2,  -999.0,9,  -999.0,9,-999.0000,9,  -999.00,9, -999.00,9,  -999.0,9, -999.00,1, -999.00,1,       35.4,2, 20220516,      936,  30.0007, 155.2936,     1.9411,2,     -999.0,9,     -999.0,9,     -999.0,9,     -999.0,9,     0.0134,1,     4.7077,1,     -999.0,9,     -999.0,9,     -999.0,9
33RR20220430,        P02,      41,          2,         12,         12,2,20220516,       0816,    30.0007,   155.2936,       5807,  2191.2,2,   1.7823,2,  34.6219,2,  34.6234,2,     93.6,2,    93.4,2,  161.06,2,   39.77,2,    0.00,2,    2.75,2,   0.003,2,   0.000,2,   0.0000,2,  -999.0,9,  -999.0,9,-999.0000,9,  -999.00,9, -999.00,9,  -999.0,9, -999.00,9, -999.00,9,       30.7,2, 20220516,      931,  30.0007, 155.2936,     1.7835,2,     -999.0,9,     -999.0,9,     -999.0,9,     -999.0,9,     0.0124,1,     4.7079,1,     -999.0,9,     -999.0,9,     -999.0,9
33RR20220430,        P02,      41,          2,         11,         11,2,20220516,       0816,    30.0007,   155.2936,       5807,  2404.2,2,   1.6714,2,  34.6402,2,  34.6409,2,    108.8,2,   108.6,2,  158.62,2,   38.71,2,    0.00,2,    2.68,2,   0.004,2,   0.000,2,   0.0000,2,  2352.7,2,  2415.6,2,   7.4979,2,    25.01,2, -999.00,9,  -999.0,9, -999.00,1, -999.00,1,       27.9,2, 20220516,      926,  30.0007, 155.2936,     1.6706,2,     -999.0,9,     -999.0,9,     -999.0,9,     -999.0,9,     0.0122,1,     4.7091,1,     -999.0,9,     -999.0,9,     -999.0,9
33RR20220430,        P02,      41,          2,         10,         10,2,20220516,       0816,    30.0007,   155.2936,       5807,  2700.7,2,   1.5764,2,  34.6570,2,  34.6580,2,    125.2,2,   125.1,2,  154.71,2,   37.63,2,    0.00,2,    2.59,2,-999.000,9,-999.000,9,-999.0000,9,  -999.0,9,  -999.0,9,-999.0000,9,  -999.00,9, -999.00,9,  -999.0,9, -999.00,9, -999.00,9,     -999.0,9, 20220516,      920,  30.0007, 155.2936,     1.5761,2,     -999.0,9,     -999.0,9,     -999.0,9,     -999.0,9,     0.0122,1,     4.7096,1,     -999.0,9,     -999.0,9,     -999.0,9
33RR20220430,        P02,      41,          2,          9,          9,2,20220516,       0816,    30.0007,   155.2936,       5807,  2957.8,2,   1.5313,2,  34.6642,2,  34.6645,2,    131.4,2,   132.0,2,  154.03,2,   37.19,2,    0.00,2,    2.56,2,   0.003,2,   0.000,2,   0.0000,2,  -999.0,9,  -999.0,9,-999.0000,9,  -999.00,9, -999.00,9,  -999.0,9, -999.00,1, -999.00,1,       24.8,2, 20220516,      915,  30.0007, 155.2936,     1.5312,2,     -999.0,9,     -999.0,9,     -999.0,9,     -999.0,9,     0.0122,1,     4.7093,1,     -999.0,9,     -999.0,9,     -999.0,9
33RR20220430,        P02,      41,          2,          8,          8,2,20220516,       0816,    30.0007,   155.2936,       5807,  3247.5,2,   1.4958,2,  34.6713,2,  34.6714,2,    138.8,2,   138.8,2,  152.66,2,   36.71,2,    0.00,2,    2.52,2,-999.000,9,-999.000,9,-999.0000,9,  2331.8,2,  2414.6,2,   7.5508,2,    25.00,2, -999.00,9,  -999.0,9, -999.00,9, -999.00,9,     -999.0,9, 20220516,      909,  30.0007, 155.2936,     1.4956,2,     -999.0,9,     -999.0,9,     -999.0,9,     -999.0,9,     0.0122,1,     4.7093,1,     -999.0,9,     -999.0,9,     -999.0,9
33RR20220430,        P02,      41,          2,          7,          7,2,20220516,       0816,    30.0007,   155.2936,       5807,  3622.3,2,   1.4650,2,  34.6779,2,  34.6781,2,    145.7,2,   146.0,2,  151.39,2,   36.28,2,    0.00,2,    2.49,2,   0.003,2,   0.000,2,   0.0000,2,  -999.0,9,  -999.0,9,-999.0000,9,  -999.00,9, -999.00,9,  -999.0,9, -999.00,1, -999.00,1,       23.2,2, 20220516,      901,  30.0007, 155.2936,     1.4648,2,     -999.0,9,     -999.0,9,     -999.0,9,     -999.0,9,     0.0122,1,     4.7091,1,     -999.0,9,     -999.0,9,     -999.0,9
33RR20220430,        P02,      41,          2,          6,          6,2,20220516,       0816,    30.0007,   155.2936,       5807,  4104.4,2,   1.4511,2,  34.6844,2,  34.6840,2,    153.6,2,   153.9,2,  150.02,2,   35.77,2,    0.00,2,    2.45,2,-999.000,9,-999.000,9,-999.0000,9,  -999.0,9,  -999.0,9,-999.0000,9,  -999.00,9, -999.00,9,  -999.0,9, -999.00,9, -999.00,9,     -999.0,9, 20220516,      852,  30.0007, 155.2936,     1.4510,2,     -999.0,9,     -999.0,9,     -999.0,9,     -999.0,9,     0.0122,1,     4.7082,1,     -999.0,9,     -999.0,9,     -999.0,9
33RR20220430,        P02,      41,          2,          5,          5,2,20220516,       0816,    30.0007,   155.2936,       5807,  4442.6,2,   1.4614,2,  34.6872,2,  34.6881,2,    158.0,2,   158.0,2,  147.48,2,   35.41,2,    0.00,2,    2.43,2,   0.005,2,   0.000,2,   0.0000,2,  2318.1,2,  2411.4,2,   7.5815,2,    25.00,2, -999.00,9,  -999.0,9, -999.00,1, -999.00,1,       22.5,2, 20220516,      846,  30.0007, 155.2936,     1.4614,2,     -999.0,9,     -999.0,9,     -999.0,9,     -999.0,9,     0.0122,1,     4.7091,1,     -999.0,9,     -999.0,9,     -999.0,9
33RR20220430,        P02,      41,          2,          4,          4,2,20220516,       0816,    30.0007,   155.2936,       5807,  4852.9,2,   1.4809,2,  34.6900,2,  34.6897,2,    162.4,2,   162.4,2,  144.74,2,   35.14,2,    0.00,2,    2.40,2,-999.000,9,-999.000,9,-999.0000,9,  -999.0,9,  -999.0,9,-999.0000,9,  -999.00,9, -999.00,9,  -999.0,9, -999.00,9, -999.00,9,     -999.0,9, 20220516,      838,  30.0006, 155.2936,     1.4810,2,     -999.0,9,     -999.0,9,     -999.0,9,     -999.0,9,     0.0122,1,     4.7080,1,     -999.0,9,     -999.0,9,     -999.0,9