BOTTLE,20230801CCHSIOCBG
EXPOCODE,SECT_ID,STNNBR,CASTNO,SAMPNO,BTLNBR,BTLNBR_FLAG_W,DATE,TIME,LATITUDE,LONGITUDE,DEPTH,CTDPRS,CTDPRS_FLAG_W,CTDTMP,CTDTMP_FLAG_W,CTDSAL,CTDSAL_FLAG_W,SALNTY,SALNTY_FLAG_W,CTDOXY,CTDOXY_FLAG_W,OXYGEN,OXYGEN_FLAG_W,SILCAT,SILCAT_FLAG_W,NITRAT,NITRAT_FLAG_W,NITRIT,NITRIT_FLAG_W,PHSPHT,PHSPHT_FLAG_W,CFC-11,CFC-11_FLAG_W,CFC-12,CFC-12_FLAG_W,SF6,SF6_FLAG_W,TCARBN,TCARBN_FLAG_W,ALKALI,ALKALI_FLAG_W,PH_TOT,PH_TOT_FLAG_W,PH_TMP,PH_TMP_FLAG_W,DELC13,DELC13_FLAG_W,DELC14,DELC14_FLAG_W,DOC,DOC_FLAG_W,TDN,TDN_FLAG_W,N2O,N2O_FLAG_W,BTL_DATE,BTL_TIME,BTL_LAT,BTL_LON,REFTMP,REFTMP_FLAG_W,POC,POC_FLAG_W,PON,PON_FLAG_W,POP,POP_FLAG_W,PCOD,PCOD_FLAG_W,CTDFLUOR,CTDFLUOR_FLAG_W,CTDXMISS,CTDXMISS_FLAG_W,HPLC,HPLC_FLAG_W,DNA,DNA_FLAG_W,FCM,FCM_FLAG_W
,,,,,,,,,,,METERS,DBAR,,ITS-90,,PSS-78,,PSS-78,,UMOL/KG,,UMOL/KG,,UMOL/KG,,UMOL/KG,,UMOL/KG,,UMOL/KG,,PMOL/KG,,PMOL/KG,,FMOL/KG,,UMOL/KG,,UMOL/KG,,,,DEG C,,/MILLE,,/MILLE,,UMOL/KG,,UMOL/KG,,NMOL/KG,,,,,,ITS-90,,UG/L,,UG/L,,UG/L,,UG/L,,VOLTS,,VOLTS,,,,,,,
33RR20220430,        P02,      27,          1,          3,          3,2,20220511,       1208,    30.0000,   145.8692,       6185,  5301.2,2,   1.5400,2,  34.6898,2,  34.6903,2,    163.0,2,   163.1,2,  143.40,2,   34.85,2,    0.00,2,    2.41,2,-999.000,5,   0.000,2,   0.0000,2,  2314.1,2,  2409.8,2,   7.5869,2,    25.07,2, -999.00,9,  -999.0,9, -999.00,9, -999.00,9,       24.4,2, 20220511,     1224,  30.0000, 145.8692,     1.5398,2,     -999.0,9,     -999.0,9,     -999.0,9,     -999.0,9,     0.0122,1,     4.7080,1,     -999.0,9,     -999.0,9,     -999.0,9
33RR20220430,        P02,      27,          1,          2,          2,2,20220511,       1208,    30.0000,   145.8692,       6185,  5715.1,2,   1.5840,2,  34.6907,2,  34.6910,2,    165.1,2,   165.3,2,  141.55,2,   34.90,2,    0.00,2,    2.39,2,-999.000,9,-999.000,9,-999.0000,9,  2314.2,6,  2406.9,2,   7.5910,2,    25.00,2, -999.00,9,  -999.0,9, -999.00,9, -999.00,9,     -999.0,9, 20220511,     1216,  30.0000, 145.8693,     1.5839,2,     -999.0,9,     -999.0,9,     -999.0,9,     -999.0,9,     0.0126,1,     4.7061,1,     -999.0,9,     -999.0,9,     -999.0,9
33RR20220430,        P02,      27,          1,          1,          1,2,20220511,       1208,    30.0000,   145.8692,       6185,  6127.1,2,   1.6294,2,  34.6916,2,  34.6918,2,    167.5,2,   167.3,2,  139.49,2,   34.69,2,    0.00,2,    2.37,2,   0.007,2,   0.000,2,   0.0000,2,  2312.0,2,  2406.6,2,   7.5921,2,    25.01,2, -999.00,9,  -999.0,9, -999.00,9, -999.00,9,       23.9,2, 20220511,     1208,  30.0000, 145.8692,     1.6291,2,     -999.0,9,     -999.0,9,     -999.0,9,     -999.0,9,     0.0122,1,     4.7044,1,     -999.0,9,     -999.0,9,     -999.0,9