BOTTLE,20230801CCHSIOCBG
EXPOCODE,SECT_ID,STNNBR,CASTNO,SAMPNO,BTLNBR,BTLNBR_FLAG_W,DATE,TIME,LATITUDE,LONGITUDE,DEPTH,CTDPRS,CTDPRS_FLAG_W,CTDTMP,CTDTMP_FLAG_W,CTDSAL,CTDSAL_FLAG_W,SALNTY,SALNTY_FLAG_W,CTDOXY,CTDOXY_FLAG_W,OXYGEN,OXYGEN_FLAG_W,SILCAT,SILCAT_FLAG_W,NITRAT,NITRAT_FLAG_W,NITRIT,NITRIT_FLAG_W,PHSPHT,PHSPHT_FLAG_W,CFC-11,CFC-11_FLAG_W,CFC-12,CFC-12_FLAG_W,SF6,SF6_FLAG_W,TCARBN,TCARBN_FLAG_W,ALKALI,ALKALI_FLAG_W,PH_TOT,PH_TOT_FLAG_W,PH_TMP,PH_TMP_FLAG_W,DELC13,DELC13_FLAG_W,DELC14,DELC14_FLAG_W,DOC,DOC_FLAG_W,TDN,TDN_FLAG_W,N2O,N2O_FLAG_W,BTL_DATE,BTL_TIME,BTL_LAT,BTL_LON,REFTMP,REFTMP_FLAG_W,POC,POC_FLAG_W,PON,PON_FLAG_W,POP,POP_FLAG_W,PCOD,PCOD_FLAG_W,CTDFLUOR,CTDFLUOR_FLAG_W,CTDXMISS,CTDXMISS_FLAG_W,HPLC,HPLC_FLAG_W,DNA,DNA_FLAG_W,FCM,FCM_FLAG_W
,,,,,,,,,,,METERS,DBAR,,ITS-90,,PSS-78,,PSS-78,,UMOL/KG,,UMOL/KG,,UMOL/KG,,UMOL/KG,,UMOL/KG,,UMOL/KG,,PMOL/KG,,PMOL/KG,,FMOL/KG,,UMOL/KG,,UMOL/KG,,,,DEG C,,/MILLE,,/MILLE,,UMOL/KG,,UMOL/KG,,NMOL/KG,,,,,,ITS-90,,UG/L,,UG/L,,UG/L,,UG/L,,VOLTS,,VOLTS,,,,,,,
33RR20220430,        P02,      53,          2,          3,          3,2,20220520,       0513,    29.9986,   162.7964,       6015,  5200.9,2,   1.5063,2,  34.6912,2,  34.6924,2,    166.9,2,   166.6,2,  139.46,2,   34.86,2,    0.00,2,    2.38,2,   0.005,2,   0.000,2,   0.0000,2,  2304.8,2,  2405.6,2,   7.5913,2,    25.00,2, -999.00,9,  -999.0,9, -999.00,1, -999.00,1,       20.7,2, 20220520,      528,  29.9986, 162.7965,     1.5063,2,     -999.0,9,     -999.0,9,     -999.0,9,     -999.0,9,     0.0122,1,     4.7083,1,     -999.0,9,     -999.0,9,     -999.0,9
33RR20220430,        P02,      53,          2,          2,          2,2,20220520,       0513,    29.9986,   162.7964,       6015,  5613.6,2,   1.5342,2,  34.6932,2,  34.6944,2,    170.6,2,   171.0,2,  136.92,2,   34.69,2,    0.00,2,    2.36,2,-999.000,9,-999.000,9,-999.0000,9,  2303.3,2,  2401.3,2,   7.5959,2,    24.99,2, -999.00,9,  -999.0,9, -999.00,1, -999.00,1,     -999.0,9, 20220520,      520,  29.9986, 162.7965,     1.5341,2,     -999.0,9,     -999.0,9,     -999.0,9,     -999.0,9,     0.0122,1,     4.7079,1,     -999.0,9,     -999.0,9,     -999.0,9
33RR20220430,        P02,      53,          2,          1,          1,2,20220520,       0513,    29.9986,   162.7964,       6015,  6026.1,2,   1.5646,2,  34.6949,2,  34.6965,2,    173.9,2,   173.9,2,  134.68,2,   34.42,2,    0.00,2,    2.34,2,   0.009,2,   0.000,2,   0.0000,2,  2299.6,6,  2398.6,2,   7.5987,2,    24.97,2, -999.00,9,  -999.0,9, -999.00,1, -999.00,1,       20.3,2, 20220520,      513,  29.9986, 162.7964,     1.5648,2,     -999.0,9,     -999.0,9,     -999.0,9,     -999.0,9,     0.0122,1,     4.7046,1,     -999.0,9,     -999.0,9,     -999.0,9