BOTTLE,20230801CCHSIOCBG
EXPOCODE,SECT_ID,STNNBR,CASTNO,SAMPNO,BTLNBR,BTLNBR_FLAG_W,DATE,TIME,LATITUDE,LONGITUDE,DEPTH,CTDPRS,CTDPRS_FLAG_W,CTDTMP,CTDTMP_FLAG_W,CTDSAL,CTDSAL_FLAG_W,SALNTY,SALNTY_FLAG_W,CTDOXY,CTDOXY_FLAG_W,OXYGEN,OXYGEN_FLAG_W,SILCAT,SILCAT_FLAG_W,NITRAT,NITRAT_FLAG_W,NITRIT,NITRIT_FLAG_W,PHSPHT,PHSPHT_FLAG_W,CFC-11,CFC-11_FLAG_W,CFC-12,CFC-12_FLAG_W,SF6,SF6_FLAG_W,TCARBN,TCARBN_FLAG_W,ALKALI,ALKALI_FLAG_W,PH_TOT,PH_TOT_FLAG_W,PH_TMP,PH_TMP_FLAG_W,DELC13,DELC13_FLAG_W,DELC14,DELC14_FLAG_W,DOC,DOC_FLAG_W,TDN,TDN_FLAG_W,N2O,N2O_FLAG_W,BTL_DATE,BTL_TIME,BTL_LAT,BTL_LON,REFTMP,REFTMP_FLAG_W,POC,POC_FLAG_W,PON,PON_FLAG_W,POP,POP_FLAG_W,PCOD,PCOD_FLAG_W,CTDFLUOR,CTDFLUOR_FLAG_W,CTDXMISS,CTDXMISS_FLAG_W,HPLC,HPLC_FLAG_W,DNA,DNA_FLAG_W,FCM,FCM_FLAG_W
,,,,,,,,,,,METERS,DBAR,,ITS-90,,PSS-78,,PSS-78,,UMOL/KG,,UMOL/KG,,UMOL/KG,,UMOL/KG,,UMOL/KG,,UMOL/KG,,PMOL/KG,,PMOL/KG,,FMOL/KG,,UMOL/KG,,UMOL/KG,,,,DEG C,,/MILLE,,/MILLE,,UMOL/KG,,UMOL/KG,,NMOL/KG,,,,,,ITS-90,,UG/L,,UG/L,,UG/L,,UG/L,,VOLTS,,VOLTS,,,,,,,
33RR20220430,        P02,     110,          2,         36,         36,2,20220606,       0651,    29.9987,  -165.2521,       5356,     4.3,2,  22.9193,2,  34.8061,2,  34.7964,2,    222.3,2,   222.3,2,    1.47,2,    0.02,2,    0.00,2,    0.00,2,   1.726,2,   1.132,2,   1.9423,2,  2020.0,2,  2285.2,2,   7.9836,2,    25.02,2, -999.00,9,  -999.0,9, -999.00,1, -999.00,1,        7.5,2, 20220606,      901,  29.9987,-165.2521,    22.9044,2,     -999.0,9,     -999.0,9,     -999.0,9,     -999.0,9,     0.0138,1,     4.6204,1,     -999.0,9,     -999.0,9,     -999.0,9
33RR20220430,        P02,     110,          2,         35,         35,2,20220606,       0651,    29.9987,  -165.2521,       5356,    21.3,2,  21.2253,2,  34.8500,2,  34.8328,2,    231.0,2,   230.1,2,    1.46,2,    0.01,2,    0.00,2,    0.00,2,   1.832,2,   1.179,2,   2.0234,2,  2021.8,2,  2287.0,2,   7.9855,2,    25.02,2, -999.00,9,  -999.0,9, -999.00,1, -999.00,1,        7.8,2, 20220606,      859,  29.9987,-165.2521,    21.2036,2,     -999.0,9,     -999.0,9,     -999.0,9,     -999.0,9,     0.0155,1,     4.6212,1,     -999.0,9,     -999.0,9,     -999.0,9
33RR20220430,        P02,     110,          2,         34,         34,2,20220606,       0651,    29.9987,  -165.2521,       5356,    41.0,2,  19.5721,2,  34.8637,2,  34.8489,2,    240.2,2,   240.2,2,    1.56,2,    0.01,2,    0.00,2,    0.00,2,   1.943,2,   1.246,2,   2.2377,2,  2021.3,2,  2288.0,2,   7.9866,2,    25.02,2, -999.00,9,  -999.0,9, -999.00,1, -999.00,1,        8.1,2, 20220606,      857,  29.9987,-165.2520,    19.5146,2,     -999.0,9,     -999.0,9,     -999.0,9,     -999.0,9,     0.0164,1,     4.6201,1,     -999.0,9,     -999.0,9,     -999.0,9
33RR20220430,        P02,     110,          2,         33,         33,2,20220606,       0651,    29.9987,  -165.2521,       5356,    68.6,2,  17.8377,2,  34.7075,3,  34.6720,2,    239.1,3,   242.3,2,    2.25,2,    0.00,2,    0.00,2,    0.03,2,   2.060,2,   1.322,2,   2.2651,2,  2026.6,2,  2275.9,2,   7.9626,2,    25.01,2, -999.00,9,  -999.0,9, -999.00,1, -999.00,1,        8.6,2, 20220606,      855,  29.9988,-165.2521,    17.7718,2,     -999.0,9,     -999.0,9,     -999.0,9,     -999.0,9,     0.0183,1,     4.6419,1,     -999.0,9,     -999.0,9,     -999.0,9
33RR20220430,        P02,     110,          2,         32,         32,2,20220606,       0651,    29.9987,  -165.2521,       5356,    92.8,2,  17.2955,2,  34.6678,2,  34.6480,2,    236.0,2,   236.5,2,    2.54,2,    0.10,2,    0.03,2,    0.07,2,   2.076,2,   1.343,2,   2.3091,2,  2036.2,2,  2275.8,2,   7.9462,2,    25.01,2, -999.00,9,  -999.0,9, -999.00,1, -999.00,1,        9.3,2, 20220606,      853,  29.9987,-165.2521,    17.2907,2,     -999.0,9,     -999.0,9,     -999.0,9,     -999.0,9,     0.0325,1,     4.6313,1,     -999.0,9,     -999.0,9,     -999.0,9
33RR20220430,        P02,     110,          2,         31,         31,2,20220606,       0651,    29.9987,  -165.2521,       5356,   138.4,2,  15.3017,2,  34.4397,2,  34.4330,2,    234.5,2,   236.6,2,    3.91,2,    2.29,2,    0.01,2,    0.21,2,   2.271,2,   1.448,2,   2.3985,2,  2046.8,2,  2262.7,2,   7.9037,2,    25.03,2, -999.00,9,  -999.0,9, -999.00,1, -999.00,1,       10.5,2, 20220606,      851,  29.9987,-165.2521,    15.3049,2,     -999.0,9,     -999.0,9,     -999.0,9,     -999.0,9,     0.0183,1,     4.6736,1,     -999.0,9,     -999.0,9,     -999.0,9
33RR20220430,        P02,     110,          2,         30,         30,2,20220606,       0651,    29.9987,  -165.2521,       5356,   185.1,2,  14.4289,2,  34.4569,2,  34.4442,2,    214.5,2,   214.7,2,    6.25,2,    6.78,2,    0.01,2,    0.49,2,   2.384,2,   1.506,2,   2.2677,2,  2072.3,2,  2265.4,2,   7.8511,2,    25.03,2, -999.00,9,  -999.0,9, -999.00,1, -999.00,1,       13.3,2, 20220606,      850,  29.9987,-165.2521,    14.4273,2,     -999.0,9,     -999.0,9,     -999.0,9,     -999.0,9,     0.0134,1,     4.6839,1,     -999.0,9,     -999.0,9,     -999.0,9
33RR20220430,        P02,     110,          2,         29,         29,2,20220606,       0651,    29.9987,  -165.2521,       5356,   236.9,2,  13.2547,2,  34.3696,2,  34.3584,2,    216.5,2,   217.2,2,    8.70,2,    8.80,2,    0.00,2,    0.61,2,   2.515,2,   1.577,2,   2.2797,2,  2081.9,2,  2262.3,2,   7.8252,2,    25.00,2, -999.00,9,  -999.0,9, -999.00,1, -999.00,1,       14.4,2, 20220606,      848,  29.9987,-165.2521,    13.2552,2,     -999.0,9,     -999.0,9,     -999.0,9,     -999.0,9,     0.0122,1,     4.6897,1,     -999.0,9,     -999.0,9,     -999.0,9
33RR20220430,        P02,     110,          2,         28,         28,2,20220606,       0651,    29.9987,  -165.2521,       5356,   289.6,2,  12.0025,2,  34.2849,2,  34.2748,2,    216.2,2,   216.6,2,   12.31,2,   11.36,2,    0.00,2,    0.77,2,   2.636,2,   1.645,2,   2.2005,2,  -999.0,9,  -999.0,9,-999.0000,9,  -999.00,9, -999.00,9,  -999.0,9, -999.00,1, -999.00,1,       16.0,2, 20220606,      846,  29.9987,-165.2521,    12.0008,2,     -999.0,9,     -999.0,9,     -999.0,9,     -999.0,9,     0.0122,1,     4.6910,1,     -999.0,9,     -999.0,9,     -999.0,9
33RR20220430,        P02,     110,          2,         27,         27,2,20220606,       0651,    29.9987,  -165.2521,       5356,   337.1,2,  11.0767,2,  34.2159,2,  34.2083,2,    213.2,2,   213.8,2,   15.54,2,   13.40,2,    0.00,2,    0.93,2,   2.733,2,   1.692,2,   2.1270,2,  2108.5,6,  2263.1,2,   7.7647,2,    25.00,2, -999.00,9,  -999.0,9, -999.00,1, -999.00,1,       16.8,2, 20220606,      844,  29.9987,-165.2521,    11.0755,2,     -999.0,9,     -999.0,9,     -999.0,9,     -999.0,9,     0.0122,1,     4.6923,1,     -999.0,9,     -999.0,9,     -999.0,9
33RR20220430,        P02,     110,          2,         26,         26,2,20220606,       0651,    29.9987,  -165.2521,       5356,   387.2,2,  10.2951,2,  34.1562,2,  34.1499,2,    209.3,2,   210.1,2,   18.86,2,   15.38,2,    0.00,2,    1.06,2,   2.781,2,   1.713,2,   2.2277,2,  -999.0,9,  -999.0,9,-999.0000,9,  -999.00,9, -999.00,9,  -999.0,9, -999.00,1, -999.00,1,       17.8,2, 20220606,      842,  29.9987,-165.2521,    10.2922,2,     -999.0,9,     -999.0,9,     -999.0,9,     -999.0,9,     0.0122,1,     4.6926,1,     -999.0,9,     -999.0,9,     -999.0,9
33RR20220430,        P02,     110,          2,         25,         25,2,20220606,       0651,    29.9987,  -165.2521,       5356,   471.7,2,   8.5598,2,  34.0525,2,  34.0470,2,    178.2,2,   177.3,2,   31.27,2,   21.85,2,    0.00,2,    1.50,2,   2.753,2,   1.664,2,   1.6945,2,  2161.0,2,  2266.1,2,   7.6410,2,    25.03,2, -999.00,9,  -999.0,9, -999.00,1, -999.00,1,       23.1,2, 20220606,      840,  29.9987,-165.2521,     8.5561,2,     -999.0,9,     -999.0,9,     -999.0,9,     -999.0,9,     0.0128,1,     4.6962,1,     -999.0,9,     -999.0,9,     -999.0,9
33RR20220430,        P02,     110,          2,         24,         24,2,20220606,       0651,    29.9987,  -165.2521,       5356,   570.8,2,   6.5929,2,  34.0014,2,  33.9959,2,    130.8,2,   130.3,2,   52.67,2,   29.90,2,    0.00,2,    2.08,2,   2.278,2,   1.362,2,   0.9714,2,  -999.0,9,  -999.0,9,-999.0000,9,  -999.00,9, -999.00,9,  -999.0,9, -999.00,9, -999.00,9,       29.9,2, 20220606,      837,  29.9987,-165.2521,     6.6058,2,     -999.0,9,     -999.0,9,     -999.0,9,     -999.0,9,     0.0125,1,     4.6971,1,     -999.0,9,     -999.0,9,     -999.0,9
33RR20220430,        P02,     110,          2,         23,         23,2,20220606,       0651,    29.9987,  -165.2521,       5356,   672.8,2,   5.1691,2,  34.0409,2,  34.0388,2,     80.9,2,    80.6,2,   77.40,2,   36.82,2,    0.00,2,    2.60,2,   1.440,2,   0.871,2,   0.4640,2,  2275.6,2,  2301.0,2,   7.3991,2,    25.01,2, -999.00,9,  -999.0,9, -999.00,1, -999.00,1,       37.6,2, 20220606,      834,  29.9987,-165.2521,     5.1728,2,     -999.0,9,     -999.0,9,     -999.0,9,     -999.0,9,     0.0134,1,     4.6983,1,     -999.0,9,     -999.0,9,     -999.0,9
33RR20220430,        P02,     110,          2,         22,         22,2,20220606,       0651,    29.9987,  -165.2521,       5356,   773.6,2,   4.5163,2,  34.1212,2,  34.1211,2,     48.1,2,    47.7,2,   94.88,2,   40.60,2,    0.00,2,    2.85,2,   0.786,2,   0.467,2,   0.2514,2,  -999.0,9,  -999.0,9,-999.0000,9,  -999.00,9, -999.00,9,  -999.0,9, -999.00,9, -999.00,9,       43.5,2, 20220606,      832,  29.9987,-165.2521,     4.5161,2,     -999.0,9,     -999.0,9,     -999.0,9,     -999.0,9,     0.0134,1,     4.6983,1,     -999.0,9,     -999.0,9,     -999.0,9
33RR20220430,        P02,     110,          2,         21,         21,2,20220606,       0651,    29.9987,  -165.2521,       5356,   874.5,2,   4.0321,2,  34.2175,2,  34.2168,2,     24.4,2,    24.6,2,  110.90,2,   42.93,2,    0.00,2,    3.05,2,   0.294,6,   0.172,6,   0.0000,6,  2345.2,2,  2337.9,2,   7.3064,2,    25.01,2, -999.00,9,  -999.0,9, -999.00,1, -999.00,1,       49.1,6, 20220606,      829,  29.9987,-165.2521,     4.0277,2,     -999.0,9,     -999.0,9,     -999.0,9,     -999.0,9,     0.0134,1,     4.6990,1,     -999.0,9,     -999.0,9,     -999.0,9
33RR20220430,        P02,     110,          2,         20,         20,2,20220606,       0651,    29.9987,  -165.2521,       5356,   974.7,2,   3.7220,2,  34.3011,2,  34.3003,2,     15.4,3,    15.6,2,  121.45,2,   43.81,2,    0.00,2,    3.13,2,   0.095,2,   0.056,2,   0.0000,2,  -999.0,9,  -999.0,9,-999.0000,9,  -999.00,9, -999.00,9,  -999.0,9, -999.00,9, -999.00,9,       51.6,2, 20220606,      826,  29.9987,-165.2521,     3.7219,2,     -999.0,9,     -999.0,9,     -999.0,9,     -999.0,9,     0.0134,1,     4.6994,1,     -999.0,9,     -999.0,9,     -999.0,9
33RR20220430,        P02,     110,          2,         19,         19,2,20220606,       0651,    29.9987,  -165.2521,       5356,  1074.7,2,   3.4899,2,  34.3900,2,  34.3866,2,     19.8,3,    20.5,2,  128.57,2,   43.76,2,    0.00,2,    3.13,2,   0.034,2,   0.021,2,   0.0000,2,  2367.9,2,  2368.1,2,-999.0000,1,  -999.00,1, -999.00,9,  -999.0,9, -999.00,1, -999.00,1,       50.9,2, 20220606,      823,  29.9987,-165.2520,     3.4899,2,     -999.0,9,     -999.0,9,     -999.0,9,     -999.0,9,     0.0134,1,     4.6994,1,     -999.0,9,     -999.0,9,     -999.0,9
33RR20220430,        P02,     110,          2,         18,         18,2,20220606,       0651,    29.9987,  -165.2521,       5356,  1176.2,2,   3.3453,2,  34.4361,2,  34.4345,2,     27.6,2,    27.7,2,  131.69,2,   43.48,2,    0.00,2,    3.10,2,   0.018,2,   0.012,2,   0.0000,2,  2366.3,2,  2374.9,2,   7.3406,2,    25.01,2, -999.00,9,  -999.0,9, -999.00,9, -999.00,9,       47.6,2, 20220606,      820,  29.9987,-165.2521,     3.3438,2,     -999.0,9,     -999.0,9,     -999.0,9,     -999.0,9,     0.0134,1,     4.7005,1,     -999.0,9,     -999.0,9,     -999.0,9
33RR20220430,        P02,     110,          2,         17,         17,2,20220606,       0651,    29.9987,  -165.2521,       5356,  1278.8,2,   3.0929,2,  34.4804,2,  34.4799,2,     33.3,2,    33.6,2,  138.04,2,   43.34,2,    0.00,2,    3.08,2,   0.009,2,   0.007,2,   0.0000,2,  2372.2,2,  2384.6,2,-999.0000,1,  -999.00,1, -999.00,9,  -999.0,9, -999.00,1, -999.00,1,       45.4,2, 20220606,      817,  29.9987,-165.2521,     3.0947,2,     -999.0,9,     -999.0,9,     -999.0,9,     -999.0,9,     0.0134,1,     4.7005,1,     -999.0,9,     -999.0,9,     -999.0,9
33RR20220430,        P02,     110,          2,         16,         16,2,20220606,       0651,    29.9987,  -165.2521,       5356,  1379.2,2,   2.9155,2,  34.5113,2,  34.5107,2,     45.7,2,    45.5,2,  140.58,2,   42.64,2,    0.00,2,    3.00,2,   0.008,2,   0.000,2,   0.0000,2,  2368.0,2,  2386.7,2,   7.3542,2,    25.02,2, -999.00,9,  -999.0,9, -999.00,9, -999.00,9,       41.4,2, 20220606,      815,  29.9987,-165.2521,     2.9139,2,     -999.0,9,     -999.0,9,     -999.0,9,     -999.0,9,     0.0134,1,     4.7011,1,     -999.0,9,     -999.0,9,     -999.0,9
33RR20220430,        P02,     110,          2,         15,         15,2,20220606,       0651,    29.9987,  -165.2521,       5356,  1553.4,2,   2.6215,2,  34.5466,2,  34.5437,2,     57.2,2,    57.3,2,  146.82,2,   42.05,2,    0.00,2,    2.96,2,   0.007,2,   0.000,2,   0.0000,2,  2369.0,2,  2397.7,2,   7.4039,2,    25.02,2, -999.00,9,  -999.0,9, -999.00,1, -999.00,1,       37.4,2, 20220606,      811,  29.9987,-165.2520,     2.6250,2,     -999.0,9,     -999.0,9,     -999.0,9,     -999.0,9,     0.0134,1,     4.7020,1,     -999.0,9,     -999.0,9,     -999.0,9
33RR20220430,        P02,     110,          2,         14,         14,2,20220606,       0651,    29.9987,  -165.2521,       5356,  1755.2,2,   2.2856,2,  34.5771,2,  34.5734,2,     68.0,2,    68.0,2,  154.44,2,   41.31,2,    0.00,2,    2.90,2,   0.005,2,   0.000,2,   0.0000,2,  2371.6,2,  2405.1,2,   7.4232,2,    25.04,2, -999.00,9,  -999.0,9, -999.00,1, -999.00,1,       34.5,2, 20220606,      806,  29.9987,-165.2521,     2.2854,2,     -999.0,9,     -999.0,9,     -999.0,9,     -999.0,9,     0.0134,1,     4.7028,1,     -999.0,9,     -999.0,9,     -999.0,9
33RR20220430,        P02,     110,          2,         13,         13,2,20220606,       0651,    29.9987,  -165.2521,       5356,  1956.6,2,   2.0517,2,  34.6004,2,  34.6012,2,     76.3,2,    76.4,2,  160.10,2,   40.79,2,    0.00,2,    2.87,2,   0.004,2,   0.000,2,   0.0000,2,  2371.7,2,  2412.2,2,   7.4381,2,    25.02,2, -999.00,9,  -999.0,9, -999.00,1, -999.00,1,       32.6,2, 20220606,      802,  29.9987,-165.2521,     2.0516,2,     -999.0,9,     -999.0,9,     -999.0,9,     -999.0,9,     0.0133,1,     4.7033,1,     -999.0,9,     -999.0,9,     -999.0,9
33RR20220430,        P02,     110,          2,         12,         12,2,20220606,       0651,    29.9987,  -165.2521,       5356,  2191.2,2,   1.8625,2,  34.6220,2,  34.6207,2,     88.3,2,    88.4,2,  161.27,2,   40.09,2,    0.00,2,    2.80,2,   0.004,2,   0.000,2,   0.0000,2,  2368.2,2,  2415.6,2,   7.4613,2,    25.01,2, -999.00,9,  -999.0,9, -999.00,1, -999.00,1,       30.1,2, 20220606,      757,  29.9987,-165.2521,     1.8624,2,     -999.0,9,     -999.0,9,     -999.0,9,     -999.0,9,     0.0127,1,     4.7032,1,     -999.0,9,     -999.0,9,     -999.0,9
33RR20220430,        P02,     110,          2,         11,         11,2,20220606,       0651,    29.9987,  -165.2521,       5356,  2445.7,2,   1.7268,2,  34.6380,2,  34.6384,2,     99.7,2,    99.6,2,  161.47,2,   39.41,2,    0.00,2,    2.74,2,   0.005,2,   0.000,2,   0.0000,2,  2361.6,2,  2418.9,2,   7.4846,2,    25.03,2, -999.00,9,  -999.0,9, -999.00,1, -999.00,1,       28.0,2, 20220606,      752,  29.9987,-165.2521,     1.7270,2,     -999.0,9,     -999.0,9,     -999.0,9,     -999.0,9,     0.0125,1,     4.7037,1,     -999.0,9,     -999.0,9,     -999.0,9
33RR20220430,        P02,     110,          2,         10,         10,2,20220606,       0651,    29.9987,  -165.2521,       5356,  2701.4,2,   1.6308,2,  34.6501,2,  34.6498,2,    110.8,2,   110.5,2,  162.25,2,   38.75,2,    0.00,2,    2.70,2,   0.004,2,   0.000,2,   0.0000,2,  -999.0,9,  -999.0,9,-999.0000,9,  -999.00,9, -999.00,9,  -999.0,9, -999.00,9, -999.00,9,       26.6,2, 20220606,      746,  29.9988,-165.2521,     1.6310,2,     -999.0,9,     -999.0,9,     -999.0,9,     -999.0,9,     0.0134,1,     4.7040,1,     -999.0,9,     -999.0,9,     -999.0,9
33RR20220430,        P02,     110,          2,          9,          9,2,20220606,       0651,    29.9987,  -165.2521,       5356,  2962.5,2,   1.5683,2,  34.6591,2,  34.6586,2,    120.1,2,   120.3,2,  160.88,2,   38.12,2,    0.00,2,    2.64,2,   0.004,2,   0.000,2,   0.0000,2,  -999.0,9,  -999.0,9,-999.0000,9,  -999.00,9, -999.00,9,  -999.0,9, -999.00,1, -999.00,1,       25.3,2, 20220606,      741,  29.9987,-165.2521,     1.5682,2,     -999.0,9,     -999.0,9,     -999.0,9,     -999.0,9,     0.0125,1,     4.7043,1,     -999.0,9,     -999.0,9,     -999.0,9
33RR20220430,        P02,     110,          2,          8,          8,2,20220606,       0651,    29.9987,  -165.2521,       5356,  3250.4,2,   1.5158,2,  34.6676,3,  34.6645,2,    129.5,2,   129.8,2,  160.49,2,   37.59,2,    0.00,2,    2.59,2,-999.000,9,-999.000,9,-999.0000,9,  -999.0,9,  -999.0,9,-999.0000,9,  -999.00,9, -999.00,9,  -999.0,9, -999.00,9, -999.00,9,     -999.0,9, 20220606,      735,  29.9987,-165.2521,     1.5159,2,     -999.0,9,     -999.0,9,     -999.0,9,     -999.0,9,     0.0122,1,     4.7049,1,     -999.0,9,     -999.0,9,     -999.0,9
33RR20220430,        P02,     110,          2,          7,          7,2,20220606,       0651,    29.9987,  -165.2521,       5356,  3558.9,2,   1.4856,2,  34.6741,2,  34.6730,2,    137.6,2,   137.5,2,  158.34,2,   37.03,2,    0.00,2,    2.54,2,   0.004,2,   0.000,2,   0.0000,2,  2337.8,2,  2419.8,2,   7.5534,2,    25.02,2, -999.00,9,  -999.0,9, -999.00,1, -999.00,1,       23.3,2, 20220606,      729,  29.9988,-165.2521,     1.4854,2,     -999.0,9,     -999.0,9,     -999.0,9,     -999.0,9,     0.0122,1,     4.7055,1,     -999.0,9,     -999.0,9,     -999.0,9
33RR20220430,        P02,     110,          2,          6,          6,2,20220606,       0651,    29.9987,  -165.2521,       5356,  3865.3,2,   1.4709,2,  34.6789,2,  34.6796,2,    144.1,2,   144.1,2,  156.09,2,   36.58,2,    0.00,2,    2.51,2,-999.000,9,-999.000,9,-999.0000,9,  -999.0,9,  -999.0,9,-999.0000,9,  -999.00,9, -999.00,9,  -999.0,9, -999.00,9, -999.00,9,     -999.0,9, 20220606,      723,  29.9987,-165.2520,     1.4706,2,     -999.0,9,     -999.0,9,     -999.0,9,     -999.0,9,     0.0122,1,     4.7055,1,     -999.0,9,     -999.0,9,     -999.0,9
33RR20220430,        P02,     110,          2,          5,          5,2,20220606,       0651,    29.9987,  -165.2521,       5356,  4169.9,2,   1.4743,2,  34.6821,2,  34.6830,2,    148.2,2,   148.3,2,  155.01,3,   35.52,3,    0.00,2,    2.50,2,   0.004,2,   0.000,2,   0.0000,2,  2331.2,2,  2419.7,2,   7.5706,2,    25.02,2, -999.00,9,  -999.0,9, -999.00,1, -999.00,1,       22.4,2, 20220606,      716,  29.9987,-165.2521,     1.4743,2,     -999.0,9,     -999.0,9,     -999.0,9,     -999.0,9,     0.0130,1,     4.7056,1,     -999.0,9,     -999.0,9,     -999.0,9
33RR20220430,        P02,     110,          2,          4,          4,2,20220606,       0651,    29.9987,  -165.2521,       5356,  4480.0,2,   1.4889,2,  34.6843,2,  34.6844,2,    151.0,2,   151.1,2,  154.72,2,   36.15,2,    0.00,2,    2.48,2,-999.000,9,-999.000,9,-999.0000,9,  -999.0,9,  -999.0,9,-999.0000,9,  -999.00,9, -999.00,9,  -999.0,9, -999.00,9, -999.00,9,     -999.0,9, 20220606,      710,  29.9988,-165.2521,     1.4889,2,     -999.0,9,     -999.0,9,     -999.0,9,     -999.0,9,     0.0122,1,     4.7056,1,     -999.0,9,     -999.0,9,     -999.0,9