BOTTLE,20230801CCHSIOCBG
EXPOCODE,SECT_ID,STNNBR,CASTNO,SAMPNO,BTLNBR,BTLNBR_FLAG_W,DATE,TIME,LATITUDE,LONGITUDE,DEPTH,CTDPRS,CTDPRS_FLAG_W,CTDTMP,CTDTMP_FLAG_W,CTDSAL,CTDSAL_FLAG_W,SALNTY,SALNTY_FLAG_W,CTDOXY,CTDOXY_FLAG_W,OXYGEN,OXYGEN_FLAG_W,SILCAT,SILCAT_FLAG_W,NITRAT,NITRAT_FLAG_W,NITRIT,NITRIT_FLAG_W,PHSPHT,PHSPHT_FLAG_W,CFC-11,CFC-11_FLAG_W,CFC-12,CFC-12_FLAG_W,SF6,SF6_FLAG_W,TCARBN,TCARBN_FLAG_W,ALKALI,ALKALI_FLAG_W,PH_TOT,PH_TOT_FLAG_W,PH_TMP,PH_TMP_FLAG_W,DELC13,DELC13_FLAG_W,DELC14,DELC14_FLAG_W,DOC,DOC_FLAG_W,TDN,TDN_FLAG_W,N2O,N2O_FLAG_W,BTL_DATE,BTL_TIME,BTL_LAT,BTL_LON,REFTMP,REFTMP_FLAG_W,POC,POC_FLAG_W,PON,PON_FLAG_W,POP,POP_FLAG_W,PCOD,PCOD_FLAG_W,CTDFLUOR,CTDFLUOR_FLAG_W,CTDXMISS,CTDXMISS_FLAG_W,HPLC,HPLC_FLAG_W,DNA,DNA_FLAG_W,FCM,FCM_FLAG_W
,,,,,,,,,,,METERS,DBAR,,ITS-90,,PSS-78,,PSS-78,,UMOL/KG,,UMOL/KG,,UMOL/KG,,UMOL/KG,,UMOL/KG,,UMOL/KG,,PMOL/KG,,PMOL/KG,,FMOL/KG,,UMOL/KG,,UMOL/KG,,,,DEG C,,/MILLE,,/MILLE,,UMOL/KG,,UMOL/KG,,NMOL/KG,,,,,,ITS-90,,UG/L,,UG/L,,UG/L,,UG/L,,VOLTS,,VOLTS,,,,,,,
33RR20220430,        P02,      95,          2,         32,         32,2,20220601,       1915,    30.0006,  -173.9052,       3683,     2.8,2,  22.8405,2,  35.1620,2,  35.1431,2,    219.1,2,   219.1,2,    1.27,2,    0.04,2,    0.00,2,    0.00,2,   1.684,2,   1.095,2,   1.8259,2,  2023.9,3,  2307.8,2,   8.0141,2,    24.98,2, -999.00,9,  -999.0,9, -999.00,1, -999.00,1,        5.8,2, 20220601,     2050,  30.0006,-173.9052,    22.8416,2,     -999.0,9,     -999.0,9,     -999.0,9,     -999.0,9,     0.0134,1,     4.6459,1,     -999.0,9,     -999.0,9,     -999.0,9
33RR20220430,        P02,      95,          2,         31,         31,2,20220601,       1915,    30.0006,  -173.9052,       3683,    19.8,2,  22.3887,2,  35.1661,2,  35.1500,2,    220.0,2,   220.8,2,    1.37,2,    0.03,2,    0.00,2,    0.00,2,   1.687,2,   1.131,2,   1.9179,2,  2021.8,3,  2308.1,2,   8.0139,2,    24.99,2, -999.00,9,  -999.0,9, -999.00,1, -999.00,1,        5.8,2, 20220601,     2049,  30.0006,-173.9052,    22.3935,2,     -999.0,9,     -999.0,9,     -999.0,9,     -999.0,9,     0.0134,1,     4.6354,1,     -999.0,9,     -999.0,9,     -999.0,9
33RR20220430,        P02,      95,          2,         30,         30,2,20220601,       1915,    30.0006,  -173.9052,       3683,    41.0,2,  22.1658,2,  35.1605,2,  35.1437,2,    222.5,2,   223.2,2,    1.46,2,    0.03,2,    0.00,2,    0.00,2,   1.713,2,   1.111,2,   1.9463,2,  2024.7,3,  2307.2,2,   8.0152,2,    24.98,2, -999.00,9,  -999.0,9, -999.00,1, -999.00,1,        5.9,2, 20220601,     2047,  30.0006,-173.9052,    22.1689,2,     -999.0,9,     -999.0,9,     -999.0,9,     -999.0,9,     0.0135,1,     4.6371,1,     -999.0,9,     -999.0,9,     -999.0,9
33RR20220430,        P02,      95,          2,         29,         29,2,20220601,       1915,    30.0006,  -173.9052,       3683,    65.9,2,  20.6001,2,  35.1191,2,  35.1020,2,    229.4,2,   229.1,2,    1.56,2,    0.03,2,    0.00,2,    0.00,2,   1.819,2,   1.202,2,   1.9946,2,  2028.1,3,  2305.1,2,   8.0065,2,    24.99,2, -999.00,9,  -999.0,9, -999.00,1, -999.00,1,        6.2,2, 20220601,     2045,  30.0006,-173.9052,    20.5994,2,     -999.0,9,     -999.0,9,     -999.0,9,     -999.0,9,     0.0159,1,     4.6432,1,     -999.0,9,     -999.0,9,     -999.0,9
33RR20220430,        P02,      95,          2,         28,         28,2,20220601,       1915,    30.0006,  -173.9052,       3683,    91.1,2,  19.7234,2,  35.0297,2,  35.0165,2,    226.7,2,   226.5,2,    1.86,2,    0.03,2,    0.00,2,    0.00,2,   1.825,2,   1.199,2,   2.0991,2,  2031.3,3,  2299.4,2,   7.9896,2,    24.99,2, -999.00,9,  -999.0,9, -999.00,1, -999.00,1,        6.4,2, 20220601,     2044,  30.0006,-173.9052,    19.7283,2,     -999.0,9,     -999.0,9,     -999.0,9,     -999.0,9,     0.0183,1,     4.6539,1,     -999.0,9,     -999.0,9,     -999.0,9
33RR20220430,        P02,      95,          2,         27,         27,2,20220601,       1915,    30.0006,  -173.9052,       3683,   135.6,2,  18.8949,2,  34.9488,2,  34.9339,2,    227.6,2,   227.4,2,    2.15,2,    0.05,2,    0.06,2,    0.02,2,   1.935,2,   1.271,2,   1.9776,2,  2037.1,3,  2294.1,2,   7.9734,2,    25.05,2, -999.00,9,  -999.0,9, -999.00,1, -999.00,1,        6.8,2, 20220601,     2042,  30.0006,-173.9052,    18.8897,2,     -999.0,9,     -999.0,9,     -999.0,9,     -999.0,9,     0.0342,1,     4.6566,1,     -999.0,9,     -999.0,9,     -999.0,9
33RR20220430,        P02,      95,          2,         26,         26,2,20220601,       1915,    30.0006,  -173.9052,       3683,   185.9,2,  17.4923,2,  34.7614,3,  34.7305,2,    220.0,3,   217.7,2,    3.32,2,    2.16,2,    0.05,2,    0.18,2,   2.057,2,   1.318,2,   2.1423,2,  2045.6,3,  2279.9,2,   7.9292,2,    25.00,2, -999.00,9,  -999.0,9, -999.00,1, -999.00,1,        8.2,2, 20220601,     2040,  30.0006,-173.9052,    17.4803,2,     -999.0,9,     -999.0,9,     -999.0,9,     -999.0,9,     0.0186,1,     4.6768,1,     -999.0,9,     -999.0,9,     -999.0,9
33RR20220430,        P02,      95,          2,         25,         25,2,20220601,       1915,    30.0006,  -173.9052,       3683,   236.4,2,  15.5434,2,  34.5730,2,  34.5553,2,    209.6,2,   208.4,2,    5.76,2,    5.80,2,    0.00,2,    0.40,2,   2.286,2,   1.475,2,   2.0685,2,  2065.1,3,  2269.6,2,   7.8720,2,    25.02,2, -999.00,9,  -999.0,9, -999.00,1, -999.00,1,       10.0,2, 20220601,     2038,  30.0006,-173.9052,    15.5336,2,     -999.0,9,     -999.0,9,     -999.0,9,     -999.0,9,     0.0128,1,     4.6868,1,     -999.0,9,     -999.0,9,     -999.0,9
33RR20220430,        P02,      95,          2,         24,         24,2,20220601,       1915,    30.0006,  -173.9052,       3683,   286.8,2,  13.6420,2,  34.4217,2,  34.4141,2,    210.2,2,   209.4,2,    9.09,2,    8.88,2,    0.00,2,    0.60,2,   2.461,2,   1.542,2,   2.0729,2,  -999.0,9,  -999.0,9,-999.0000,9,  -999.00,9, -999.00,9,  -999.0,9, -999.00,1, -999.00,1,       12.0,2, 20220601,     2036,  30.0006,-173.9052,    13.6399,2,     -999.0,9,     -999.0,9,     -999.0,9,     -999.0,9,     0.0122,1,     4.6909,1,     -999.0,9,     -999.0,9,     -999.0,9
33RR20220430,        P02,      95,          2,         23,         23,2,20220601,       1915,    30.0006,  -173.9052,       3683,   337.3,2,  12.5083,2,  34.3257,2,  34.3142,2,    211.3,2,   211.2,2,   11.73,2,   10.94,2,    0.00,2,    0.73,2,   2.578,2,   1.665,2,   1.9604,2,  2092.5,3,  2263.4,2,   7.8004,2,    25.01,2, -999.00,9,  -999.0,9, -999.00,1, -999.00,1,       13.3,2, 20220601,     2035,  30.0006,-173.9052,    12.5053,2,     -999.0,9,     -999.0,9,     -999.0,9,     -999.0,9,     0.0122,1,     4.6939,1,     -999.0,9,     -999.0,9,     -999.0,9
33RR20220430,        P02,      95,          2,         22,         22,2,20220601,       1915,    30.0006,  -173.9052,       3683,   387.8,2,  11.3016,2,  34.2334,2,  34.2250,2,    209.3,2,   209.5,2,   15.54,2,   13.32,2,    0.00,2,    0.90,2,   2.688,2,   1.679,2,   1.9215,2,  -999.0,9,  -999.0,9,-999.0000,9,  -999.00,9, -999.00,9,  -999.0,9, -999.00,1, -999.00,1,       14.8,2, 20220601,     2032,  30.0006,-173.9052,    11.2997,2,     -999.0,9,     -999.0,9,     -999.0,9,     -999.0,9,     0.0122,1,     4.6955,1,     -999.0,9,     -999.0,9,     -999.0,9
33RR20220430,        P02,      95,          2,         21,         21,2,20220601,       1915,    30.0006,  -173.9052,       3683,   469.0,2,   9.7537,2,  34.1236,2,  34.1178,2,    195.6,2,   196.5,2,   22.96,2,   17.51,2,    0.00,2,    1.20,2,   2.758,2,   1.745,2,   1.7514,2,  2141.7,3,  2273.3,2,   7.7052,2,    25.00,2, -999.00,9,  -999.0,9, -999.00,1, -999.00,1,       17.7,2, 20220601,     2030,  30.0006,-173.9052,     9.7518,2,     -999.0,9,     -999.0,9,     -999.0,9,     -999.0,9,     0.0122,1,     4.6971,1,     -999.0,9,     -999.0,9,     -999.0,9
33RR20220430,        P02,      95,          2,         20,         20,2,20220601,       1915,    30.0006,  -173.9052,       3683,   571.0,2,   7.8294,2,  34.0327,2,  34.0286,2,    157.9,2,   158.4,2,   39.48,2,   24.90,2,    0.00,2,    1.74,2,   2.575,2,   1.582,2,   1.1629,2,  2183.5,3,  2273.0,2,   7.5924,2,    25.01,2, -999.00,9,  -999.0,9, -999.00,1, -999.00,1,       23.2,2, 20220601,     2027,  30.0007,-173.9052,     7.8292,2,     -999.0,9,     -999.0,9,     -999.0,9,     -999.0,9,     0.0122,1,     4.6985,1,     -999.0,9,     -999.0,9,     -999.0,9
33RR20220430,        P02,      95,          2,         19,         19,2,20220601,       1915,    30.0006,  -173.9052,       3683,   671.7,2,   6.0430,2,  34.0256,2,  34.0262,2,    108.3,3,   106.5,2,   64.11,2,   32.90,2,    0.00,2,    2.33,2,   1.865,2,   1.143,2,   0.6310,2,  2246.4,3,  2292.9,2,   7.4618,2,    25.01,2, -999.00,9,  -999.0,9, -999.00,1, -999.00,1,       30.7,2, 20220601,     2025,  30.0006,-173.9052,     6.0306,2,     -999.0,9,     -999.0,9,     -999.0,9,     -999.0,9,     0.0130,1,     4.6995,1,     -999.0,9,     -999.0,9,     -999.0,9
33RR20220430,        P02,      95,          2,         18,         18,2,20220601,       1915,    30.0006,  -173.9052,       3683,   772.3,2,   5.0479,2,  34.0726,2,  34.0742,2,     69.9,2,    69.8,2,   82.58,2,   38.26,2,    0.00,2,    2.67,2,   1.216,2,   0.732,2,   0.5136,2,  2290.2,3,  2309.8,2,   7.3818,2,    25.02,2, -999.00,9,  -999.0,9, -999.00,9, -999.00,9,       36.6,2, 20220601,     2022,  30.0006,-173.9052,     5.0159,2,     -999.0,9,     -999.0,9,     -999.0,9,     -999.0,9,     0.0134,1,     4.6997,1,     -999.0,9,     -999.0,9,     -999.0,9
33RR20220430,        P02,      95,          2,         17,         17,2,20220601,       1915,    30.0006,  -173.9052,       3683,   874.3,2,   4.4893,2,  34.1653,2,  34.1670,2,     42.9,2,    42.7,2,   98.60,2,   40.71,2,    0.00,2,    2.89,2,   0.599,2,   0.351,2,   0.3255,2,  2330.0,3,  2334.5,2,   7.3368,2,    25.01,2, -999.00,9,  -999.0,9, -999.00,1, -999.00,1,       42.1,2, 20220601,     2019,  30.0006,-173.9052,     4.4936,2,     -999.0,9,     -999.0,9,     -999.0,9,     -999.0,9,     0.0134,1,     4.7007,1,     -999.0,9,     -999.0,9,     -999.0,9
33RR20220430,        P02,      95,          2,         16,         16,2,20220601,       1915,    30.0006,  -173.9052,       3683,   977.7,2,   4.0386,2,  34.2505,2,  34.2515,2,     27.2,3,    27.5,2,  111.69,2,   42.65,2,    0.00,2,    2.96,2,   0.257,2,   0.157,2,   0.0000,2,  -999.0,9,  -999.0,9,-999.0000,9,  -999.00,9, -999.00,9,  -999.0,9, -999.00,9, -999.00,9,       46.1,2, 20220601,     2017,  30.0006,-173.9052,     4.0400,2,     -999.0,9,     -999.0,9,     -999.0,9,     -999.0,9,     0.0134,1,     4.7007,1,     -999.0,9,     -999.0,9,     -999.0,9
33RR20220430,        P02,      95,          2,         15,         15,2,20220601,       1915,    30.0006,  -173.9052,       3683,  1078.7,2,   3.6895,2,  34.3445,2,  34.3446,2,     24.1,3,    24.5,2,  122.52,2,   43.17,2,    0.00,2,    3.06,2,   0.080,2,   0.051,2,   0.0000,2,  2361.4,3,  2360.3,2,   7.3231,2,    25.01,2, -999.00,9,  -999.0,9, -999.00,1, -999.00,1,       47.1,2, 20220601,     2014,  30.0006,-173.9052,     3.6865,2,     -999.0,9,     -999.0,9,     -999.0,9,     -999.0,9,     0.0134,1,     4.7007,1,     -999.0,9,     -999.0,9,     -999.0,9
33RR20220430,        P02,      95,          2,         14,         14,2,20220601,       1915,    30.0006,  -173.9052,       3683,  1180.8,2,   3.4638,2,  34.4034,2,  34.4031,2,     27.3,3,    27.7,2,  128.28,2,   43.10,2,    0.00,2,    3.06,2,   0.040,2,   0.023,2,   0.0000,2,  2367.3,3,  2371.3,2,   7.3354,2,    25.00,2, -999.00,9,  -999.0,9, -999.00,1, -999.00,1,       45.8,2, 20220601,     2011,  30.0006,-173.9052,     3.4634,2,     -999.0,9,     -999.0,9,     -999.0,9,     -999.0,9,     0.0134,1,     4.7015,1,     -999.0,9,     -999.0,9,     -999.0,9
33RR20220430,        P02,      95,          2,         13,         13,2,20220601,       1915,    30.0006,  -173.9052,       3683,  1282.0,2,   3.1883,2,  34.4550,2,  34.4536,2,     34.4,3,    34.1,2,  135.22,2,   42.89,2,    0.00,2,    3.04,2,   0.021,6,   0.016,6,   0.0000,6,  2368.9,3,  2379.7,2,   7.3533,2,    25.01,2, -999.00,9,  -999.0,9, -999.00,1, -999.00,1,       43.4,6, 20220601,     2008,  30.0006,-173.9052,     3.1911,2,     -999.0,9,     -999.0,9,     -999.0,9,     -999.0,9,     0.0134,1,     4.7020,1,     -999.0,9,     -999.0,9,     -999.0,9
33RR20220430,        P02,      95,          2,         12,         12,2,20220601,       1915,    30.0006,  -173.9052,       3683,  1383.3,2,   2.9672,2,  34.4819,2,  34.4815,2,     39.3,2,    39.2,2,  141.27,2,   42.71,2,    0.00,2,    3.02,2,   0.017,2,   0.014,2,   0.0000,2,  -999.0,9,  -999.0,9,-999.0000,9,  -999.00,9, -999.00,9,  -999.0,9, -999.00,9, -999.00,9,       40.3,2, 20220601,     2005,  30.0006,-173.9052,     2.9668,2,     -999.0,9,     -999.0,9,     -999.0,9,     -999.0,9,     0.0134,1,     4.7020,1,     -999.0,9,     -999.0,9,     -999.0,9
33RR20220430,        P02,      95,          2,         11,         11,2,20220601,       1915,    30.0006,  -173.9052,       3683,  1484.7,2,   2.7792,2,  34.5123,2,  34.5115,2,     45.9,3,    46.6,2,  144.69,2,   42.37,2,    0.00,2,    2.98,2,   0.009,2,   0.008,2,   0.0000,2,  2374.0,3,  2393.1,2,   7.3785,2,    25.02,2, -999.00,9,  -999.0,9, -999.00,1, -999.00,1,       39.1,2, 20220601,     2003,  30.0006,-173.9052,     2.7790,2,     -999.0,9,     -999.0,9,     -999.0,9,     -999.0,9,     0.0134,1,     4.7023,1,     -999.0,9,     -999.0,9,     -999.0,9
33RR20220430,        P02,      95,          2,         10,         10,2,20220601,       1915,    30.0006,  -173.9052,       3683,  1585.8,2,   2.6144,2,  34.5335,2,  34.5345,2,     51.4,2,    51.0,2,  149.67,2,   42.12,2,    0.00,2,    2.97,2,   0.006,2,   0.000,2,   0.0000,2,  2376.2,3,  2399.1,2,   7.3885,2,    25.00,2, -999.00,9,  -999.0,9, -999.00,9, -999.00,9,       37.6,2, 20220601,     2000,  30.0007,-173.9052,     2.6110,2,     -999.0,9,     -999.0,9,     -999.0,9,     -999.0,9,     0.0134,1,     4.7032,1,     -999.0,9,     -999.0,9,     -999.0,9
33RR20220430,        P02,      95,          2,          9,          9,2,20220601,       1915,    30.0006,  -173.9052,       3683,  1757.1,2,   2.3232,2,  34.5685,2,  34.5682,2,     62.6,2,    62.5,2,  155.72,2,   41.49,2,    0.00,2,    2.92,2,   0.004,2,   0.000,2,   0.0000,2,  2376.9,3,  2406.4,2,   7.4116,2,    25.02,2, -999.00,9,  -999.0,9, -999.00,1, -999.00,1,       33.6,2, 20220601,     1956,  30.0006,-173.9052,     2.3232,2,     -999.0,9,     -999.0,9,     -999.0,9,     -999.0,9,     0.0134,1,     4.7032,1,     -999.0,9,     -999.0,9,     -999.0,9
33RR20220430,        P02,      95,          2,          8,          8,2,20220601,       1915,    30.0006,  -173.9052,       3683,  1960.1,2,   2.0978,2,  34.5937,2,  34.5946,2,     74.1,2,    74.0,2,  160.01,2,   40.83,2,    0.00,2,    2.86,2,-999.000,9,-999.000,9,-999.0000,9,  -999.0,9,  -999.0,9,-999.0000,9,  -999.00,9, -999.00,9,  -999.0,9, -999.00,9, -999.00,9,     -999.0,9, 20220601,     1952,  30.0006,-173.9052,     2.0980,2,     -999.0,9,     -999.0,9,     -999.0,9,     -999.0,9,     0.0134,1,     4.7044,1,     -999.0,9,     -999.0,9,     -999.0,9
33RR20220430,        P02,      95,          2,          7,          7,2,20220601,       1915,    30.0006,  -173.9052,       3683,  2195.7,2,   1.9096,2,  34.6155,2,  34.6146,2,     87.4,2,    87.4,2,  162.84,2,   40.05,2,    0.00,2,    2.79,2,   0.004,2,   0.000,2,   0.0000,2,  2369.4,3,  2417.2,2,   7.4595,2,    25.02,2, -999.00,9,  -999.0,9, -999.00,1, -999.00,1,       28.6,2, 20220601,     1947,  30.0007,-173.9052,     1.9093,2,     -999.0,9,     -999.0,9,     -999.0,9,     -999.0,9,     0.0134,1,     4.7054,1,     -999.0,9,     -999.0,9,     -999.0,9
33RR20220430,        P02,      95,          2,          6,          6,2,20220601,       1915,    30.0006,  -173.9052,       3683,  2448.3,2,   1.7431,2,  34.6354,2,  34.6352,2,    102.7,2,   102.5,2,  162.35,2,   39.11,2,    0.00,2,    2.73,2,-999.000,9,-999.000,9,-999.0000,9,  -999.0,9,  -999.0,9,-999.0000,9,  -999.00,9, -999.00,9,  -999.0,9, -999.00,9, -999.00,9,     -999.0,9, 20220601,     1941,  30.0007,-173.9052,     1.7433,2,     -999.0,9,     -999.0,9,     -999.0,9,     -999.0,9,     0.0134,1,     4.7058,1,     -999.0,9,     -999.0,9,     -999.0,9
33RR20220430,        P02,      95,          2,          5,          5,2,20220601,       1915,    30.0006,  -173.9052,       3683,  2702.9,2,   1.6365,2,  34.6491,2,  34.6488,2,    114.8,2,   115.0,2,  161.18,2,   38.32,2,    0.00,2,    2.66,2,-999.000,5,-999.000,5,-999.0000,5,  2353.7,3,  2420.4,2,   7.5099,2,    25.02,2, -999.00,9,  -999.0,9, -999.00,1, -999.00,1,       24.8,2, 20220601,     1936,  30.0006,-173.9052,     1.6369,2,     -999.0,9,     -999.0,9,     -999.0,9,     -999.0,9,     0.0122,1,     4.7070,1,     -999.0,9,     -999.0,9,     -999.0,9
33RR20220430,        P02,      95,          2,          4,          4,2,20220601,       1915,    30.0006,  -173.9052,       3683,  2958.5,2,   1.5793,2,  34.6577,2,  34.6568,2,    123.0,2,   123.3,2,  160.20,2,   37.76,2,    0.00,2,    2.61,2,-999.000,9,-999.000,9,-999.0000,9,  2347.5,3,  2418.8,2,   7.5249,2,    25.01,2, -999.00,9,  -999.0,9, -999.00,9, -999.00,9,     -999.0,9, 20220601,     1931,  30.0006,-173.9052,     1.5791,2,     -999.0,9,     -999.0,9,     -999.0,9,     -999.0,9,     0.0122,1,     4.7071,1,     -999.0,9,     -999.0,9,     -999.0,9
33RR20220430,        P02,      95,          2,          3,          3,2,20220601,       1915,    30.0006,  -173.9052,       3683,  3248.7,2,   1.5271,2,  34.6661,2,  34.6671,2,    131.4,2,   131.5,2,  158.64,2,   37.30,2,    0.00,2,    2.58,2,   0.003,2,   0.000,2,   0.0000,2,  2342.3,3,  2419.6,2,   7.5392,2,    25.01,2, -999.00,9,  -999.0,9, -999.00,1, -999.00,1,       22.7,2, 20220601,     1925,  30.0006,-173.9052,     1.5268,2,     -999.0,9,     -999.0,9,     -999.0,9,     -999.0,9,     0.0130,1,     4.7069,1,     -999.0,9,     -999.0,9,     -999.0,9
33RR20220430,        P02,      95,          2,          2,          2,2,20220601,       1915,    30.0006,  -173.9052,       3683,  3494.4,2,   1.4943,2,  34.6722,2,  34.6728,2,    138.2,2,   137.8,2,  157.56,2,   36.93,2,    0.00,2,    2.55,2,-999.000,9,-999.000,9,-999.0000,9,  2337.4,3,  2420.1,2,   7.5507,2,    25.00,2, -999.00,9,  -999.0,9, -999.00,9, -999.00,9,     -999.0,9, 20220601,     1920,  30.0006,-173.9052,     1.4942,2,     -999.0,9,     -999.0,9,     -999.0,9,     -999.0,9,     0.0123,1,     4.7080,1,     -999.0,9,     -999.0,9,     -999.0,9
33RR20220430,        P02,      95,          2,          1,          1,2,20220601,       1915,    30.0006,  -173.9052,       3683,  3731.4,2,   1.4853,2,  34.6757,2,  34.6755,2,    142.3,2,   142.5,2,  156.98,2,   36.71,2,    0.00,2,    2.53,2,   0.006,2,   0.000,2,   0.0000,2,  2335.2,3,  2418.6,2,   7.5584,2,    25.01,2, -999.00,9,  -999.0,9, -999.00,1, -999.00,1,       21.8,2, 20220601,     1915,  30.0006,-173.9052,     1.4856,2,     -999.0,9,     -999.0,9,     -999.0,9,     -999.0,9,     0.0134,1,     4.7081,1,     -999.0,9,     -999.0,9,     -999.0,9