BOTTLE,20230801CCHSIOCBG
EXPOCODE,SECT_ID,STNNBR,CASTNO,SAMPNO,BTLNBR,BTLNBR_FLAG_W,DATE,TIME,LATITUDE,LONGITUDE,DEPTH,CTDPRS,CTDPRS_FLAG_W,CTDTMP,CTDTMP_FLAG_W,CTDSAL,CTDSAL_FLAG_W,SALNTY,SALNTY_FLAG_W,CTDOXY,CTDOXY_FLAG_W,OXYGEN,OXYGEN_FLAG_W,SILCAT,SILCAT_FLAG_W,NITRAT,NITRAT_FLAG_W,NITRIT,NITRIT_FLAG_W,PHSPHT,PHSPHT_FLAG_W,CFC-11,CFC-11_FLAG_W,CFC-12,CFC-12_FLAG_W,SF6,SF6_FLAG_W,TCARBN,TCARBN_FLAG_W,ALKALI,ALKALI_FLAG_W,PH_TOT,PH_TOT_FLAG_W,PH_TMP,PH_TMP_FLAG_W,DELC13,DELC13_FLAG_W,DELC14,DELC14_FLAG_W,DOC,DOC_FLAG_W,TDN,TDN_FLAG_W,N2O,N2O_FLAG_W,BTL_DATE,BTL_TIME,BTL_LAT,BTL_LON,REFTMP,REFTMP_FLAG_W,POC,POC_FLAG_W,PON,PON_FLAG_W,POP,POP_FLAG_W,PCOD,PCOD_FLAG_W,CTDFLUOR,CTDFLUOR_FLAG_W,CTDXMISS,CTDXMISS_FLAG_W,HPLC,HPLC_FLAG_W,DNA,DNA_FLAG_W,FCM,FCM_FLAG_W
,,,,,,,,,,,METERS,DBAR,,ITS-90,,PSS-78,,PSS-78,,UMOL/KG,,UMOL/KG,,UMOL/KG,,UMOL/KG,,UMOL/KG,,UMOL/KG,,PMOL/KG,,PMOL/KG,,FMOL/KG,,UMOL/KG,,UMOL/KG,,,,DEG C,,/MILLE,,/MILLE,,UMOL/KG,,UMOL/KG,,NMOL/KG,,,,,,ITS-90,,UG/L,,UG/L,,UG/L,,UG/L,,VOLTS,,VOLTS,,,,,,,
33RR20220430,        P02,      51,          1,         36,         36,2,20220519,       1324,    29.9997,   161.6427,       5987,     3.5,2,  22.2308,2,  34.7998,2,  34.7899,2,    226.3,2,   226.1,2,    1.07,2,    0.05,2,    0.00,2,    0.02,2,   1.986,2,   1.211,2,   1.9503,2,  2022.6,2,  2281.3,2,   7.9826,2,    25.00,2, -999.00,9,  -999.0,9, -999.00,9, -999.00,9,        6.5,2, 20220519,     1544,  29.9997, 161.6427,    22.3680,2,     -999.0,9,     -999.0,9,     -999.0,9,     -999.0,9,     0.0147,1,     4.6149,1,     -999.0,9,     -999.0,9,     -999.0,9
33RR20220430,        P02,      51,          1,         35,         35,2,20220519,       1324,    29.9997,   161.6427,       5987,    24.5,2,  19.7625,2,  34.8061,2,  34.7997,2,    235.8,2,   236.4,2,    1.37,2,    0.00,2,    0.00,2,    0.01,2,   2.126,2,   1.281,2,   2.1563,2,  2026.2,2,  2281.9,2,   7.9841,2,    25.00,2, -999.00,9,  -999.0,9, -999.00,9, -999.00,9,        7.0,2, 20220519,     1542,  29.9997, 161.6427,    19.7641,2,     -999.0,9,     -999.0,9,     -999.0,9,     -999.0,9,     0.0147,1,     4.6314,1,     -999.0,9,     -999.0,9,     -999.0,9
33RR20220430,        P02,      51,          1,         34,         34,3,20220519,       1324,    29.9997,   161.6427,       5987,    48.8,3,  18.1023,3,  34.7865,3,  34.7817,3,    228.9,3,   228.5,3,    1.47,3,    0.62,3,    0.07,3,    0.06,3,-999.000,9,-999.000,9,-999.0000,9,  -999.0,9,  -999.0,9,-999.0000,9,  -999.00,9, -999.00,9,  -999.0,9, -999.00,9, -999.00,9,     -999.0,9, 20220519,     1541,  29.9997, 161.6427,    18.1025,3,     -999.0,9,     -999.0,9,     -999.0,9,     -999.0,9,     0.0511,1,     4.5806,1,     -999.0,9,     -999.0,9,     -999.0,9
33RR20220430,        P02,      51,          1,         33,         33,2,20220519,       1324,    29.9997,   161.6427,       5987,    78.7,2,  17.6157,2,  34.7515,2,  34.7469,2,    222.4,2,   221.7,2,    2.05,2,    2.20,2,    0.04,2,    0.14,2,   2.168,2,   1.318,2,   2.1294,2,  2033.4,2,  2278.2,2,   7.9556,2,    25.01,2, -999.00,9,  -999.0,9, -999.00,9, -999.00,9,        8.1,2, 20220519,     1539,  29.9997, 161.6427,    17.6173,2,     -999.0,9,     -999.0,9,     -999.0,9,     -999.0,9,     0.0287,1,     4.6429,1,     -999.0,9,     -999.0,9,     -999.0,9
33RR20220430,        P02,      51,          1,         32,         32,2,20220519,       1324,    29.9997,   161.6427,       5987,   101.8,2,  17.3688,2,  34.7476,2,  34.7416,2,    225.5,2,   226.0,2,    2.25,2,    2.07,2,    0.09,2,    0.14,2,   2.180,2,   1.336,2,   2.1071,2,  2034.4,2,  2277.7,2,   7.9548,2,    25.01,2, -999.00,9,  -999.0,9, -999.00,9, -999.00,9,        8.3,2, 20220519,     1537,  29.9997, 161.6427,    17.3681,2,     -999.0,9,     -999.0,9,     -999.0,9,     -999.0,9,     0.0317,1,     4.6499,1,     -999.0,9,     -999.0,9,     -999.0,9
33RR20220430,        P02,      51,          1,         31,         31,2,20220519,       1324,    29.9997,   161.6427,       5987,   152.7,2,  16.7464,2,  34.7136,2,  34.7085,2,    229.5,2,   229.2,2,    2.54,2,    2.67,2,    0.02,2,    0.17,2,   2.251,6,   1.366,6,   2.2134,6,  2036.5,2,  2275.9,2,   7.9452,2,    25.01,2, -999.00,9,  -999.0,9, -999.00,9, -999.00,9,        8.2,6, 20220519,     1534,  29.9997, 161.6426,    16.7454,2,     -999.0,9,     -999.0,9,     -999.0,9,     -999.0,9,     0.0197,1,     4.6653,1,     -999.0,9,     -999.0,9,     -999.0,9
33RR20220430,        P02,      51,          1,         30,         30,2,20220519,       1324,    29.9997,   161.6427,       5987,   202.4,2,  16.4694,2,  34.6898,2,  34.6853,2,    229.1,2,   228.9,2,    2.83,2,    3.17,2,    0.00,2,    0.19,2,   2.326,2,   1.400,2,   2.1821,2,  2040.4,2,  2275.3,2,   7.9383,2,    25.01,2, -999.00,9,  -999.0,9, -999.00,9, -999.00,9,        8.4,2, 20220519,     1533,  29.9997, 161.6426,    16.4796,2,     -999.0,9,     -999.0,9,     -999.0,9,     -999.0,9,     0.0135,1,     4.6779,1,     -999.0,9,     -999.0,9,     -999.0,9
33RR20220430,        P02,      51,          1,         29,         29,2,20220519,       1324,    29.9997,   161.6427,       5987,   253.7,2,  15.9627,2,  34.6555,2,  34.6517,2,    229.1,2,   229.0,2,    3.81,2,    4.05,2,    0.00,2,    0.24,2,   2.377,2,   1.401,2,   2.2619,2,  2045.9,2,  2273.4,2,   7.9268,2,    25.01,2, -999.00,9,  -999.0,9, -999.00,9, -999.00,9,        8.8,2, 20220519,     1531,  29.9997, 161.6426,    15.9652,2,     -999.0,9,     -999.0,9,     -999.0,9,     -999.0,9,     0.0122,1,     4.6823,1,     -999.0,9,     -999.0,9,     -999.0,9
33RR20220430,        P02,      51,          1,         28,         28,2,20220519,       1324,    29.9997,   161.6427,       5987,   304.1,2,  15.6295,2,  34.6418,2,  34.6384,2,    231.8,2,   232.2,2,    4.10,2,    4.33,2,    0.00,2,    0.26,2,   2.413,2,   1.421,2,   2.2650,2,  -999.0,9,  -999.0,9,-999.0000,9,  -999.00,9, -999.00,9,  -999.0,9, -999.00,9, -999.00,9,        8.7,2, 20220519,     1529,  29.9997, 161.6426,    15.6285,2,     -999.0,9,     -999.0,9,     -999.0,9,     -999.0,9,     0.0122,1,     4.6861,1,     -999.0,9,     -999.0,9,     -999.0,9
33RR20220430,        P02,      51,          1,         27,         27,2,20220519,       1324,    29.9997,   161.6427,       5987,   358.4,2,  15.5074,2,  34.6519,2,  34.6470,2,    233.4,2,   233.8,2,    4.30,2,    4.37,2,    0.00,2,    0.28,2,   2.365,2,   1.417,2,   2.1722,2,  2048.0,2,  2276.0,2,   7.9237,2,    25.02,2, -999.00,9,  -999.0,9, -999.00,9, -999.00,9,        8.7,2, 20220519,     1527,  29.9997, 161.6426,    15.5063,2,     -999.0,9,     -999.0,9,     -999.0,9,     -999.0,9,     0.0115,1,     4.6852,1,     -999.0,9,     -999.0,9,     -999.0,9
33RR20220430,        P02,      51,          1,         26,         26,2,20220519,       1324,    29.9997,   161.6427,       5987,   408.7,2,  15.1120,2,  34.6079,2,  34.6038,2,    222.9,2,   223.1,2,    6.25,2,    6.09,2,    0.00,2,    0.38,2,   2.401,2,   1.442,2,   2.1765,2,  -999.0,9,  -999.0,9,-999.0000,9,  -999.00,9, -999.00,9,  -999.0,9, -999.00,9, -999.00,9,        9.9,2, 20220519,     1525,  29.9997, 161.6426,    15.1141,2,     -999.0,9,     -999.0,9,     -999.0,9,     -999.0,9,     0.0121,1,     4.6890,1,     -999.0,9,     -999.0,9,     -999.0,9
33RR20220430,        P02,      51,          1,         25,         25,2,20220519,       1324,    29.9997,   161.6427,       5987,   509.4,2,  12.2990,2,  34.3582,2,  34.3578,2,    206.1,2,   206.1,2,   14.95,2,   12.25,2,    0.00,2,    0.80,2,   2.689,2,   1.583,2,   1.9575,2,  2102.9,2,  2268.8,2,   7.7973,2,    25.01,2, -999.00,9,  -999.0,9, -999.00,9, -999.00,9,       13.9,2, 20220519,     1523,  29.9997, 161.6427,    12.2938,2,     -999.0,9,     -999.0,9,     -999.0,9,     -999.0,9,     0.0122,1,     4.6929,1,     -999.0,9,     -999.0,9,     -999.0,9
33RR20220430,        P02,      51,          1,         24,         24,2,20220519,       1324,    29.9997,   161.6427,       5987,   611.4,2,   9.1086,2,  34.1027,2,  34.0997,2,    196.9,2,   197.3,2,   28.34,2,   18.78,2,    0.00,2,    1.29,2,   2.852,2,   1.659,2,   1.9198,2,  -999.0,9,  -999.0,9,-999.0000,9,  -999.00,9, -999.00,9,  -999.0,9, -999.00,9, -999.00,9,       18.2,2, 20220519,     1520,  29.9997, 161.6427,     9.1096,2,     -999.0,9,     -999.0,9,     -999.0,9,     -999.0,9,     0.0122,1,     4.6990,1,     -999.0,9,     -999.0,9,     -999.0,9
33RR20220430,        P02,      51,          1,         23,         23,2,20220519,       1324,    29.9997,   161.6427,       5987,   712.6,2,   6.2388,2,  33.9624,2,  33.9641,2,    149.8,3,   148.1,2,   55.82,2,   28.70,2,    0.00,2,    2.03,2,   2.507,2,   1.446,2,   1.2815,2,  2217.6,2,  2282.1,2,   7.5288,2,    25.02,2, -999.00,9,  -999.0,9, -999.00,9, -999.00,9,       27.4,2, 20220519,     1517,  29.9997, 161.6426,     6.2510,2,     -999.0,9,     -999.0,9,     -999.0,9,     -999.0,9,     0.0128,1,     4.7017,1,     -999.0,9,     -999.0,9,     -999.0,9
33RR20220430,        P02,      51,          1,         22,         22,2,20220519,       1324,    29.9997,   161.6427,       5987,   812.6,2,   4.9968,2,  34.0668,2,  34.0699,2,     87.9,2,    87.3,2,   82.89,2,   36.23,2,    0.00,2,    2.57,2,   1.591,2,   0.904,2,   0.6445,2,  2280.5,2,  2307.7,2,   7.4082,2,    25.02,2, -999.00,9,  -999.0,9, -999.00,9, -999.00,9,       37.4,2, 20220519,     1515,  29.9997, 161.6427,     4.9957,2,     -999.0,9,     -999.0,9,     -999.0,9,     -999.0,9,     0.0134,1,     4.7019,1,     -999.0,9,     -999.0,9,     -999.0,9
33RR20220430,        P02,      51,          1,         21,         21,2,20220519,       1324,    29.9997,   161.6427,       5987,   913.2,2,   4.2970,2,  34.1791,2,  34.1844,2,     57.2,2,    57.3,2,  103.70,2,   39.70,2,    0.00,2,    2.81,2,   0.950,2,   0.532,2,   0.3880,2,  2318.4,2,  2331.0,2,   7.3585,2,    25.01,2, -999.00,9,  -999.0,9, -999.00,9, -999.00,9,       43.2,2, 20220519,     1512,  29.9997, 161.6427,     4.2949,2,     -999.0,9,     -999.0,9,     -999.0,9,     -999.0,9,     0.0134,1,     4.7015,1,     -999.0,9,     -999.0,9,     -999.0,9
33RR20220430,        P02,      51,          1,         20,         20,2,20220519,       1324,    29.9997,   161.6427,       5987,  1014.8,2,   3.7953,2,  34.2610,2,  34.2638,2,     42.7,2,    43.1,2,  116.98,2,   41.57,2,    0.00,2,    2.93,2,   0.549,2,   0.307,2,   0.0000,2,  -999.0,9,  -999.0,9,-999.0000,9,  -999.00,9, -999.00,9,  -999.0,9, -999.00,9, -999.00,9,       46.4,2, 20220519,     1510,  29.9997, 161.6426,     3.7995,2,     -999.0,9,     -999.0,9,     -999.0,9,     -999.0,9,     0.0134,1,     4.7020,1,     -999.0,9,     -999.0,9,     -999.0,9
33RR20220430,        P02,      51,          1,         19,         19,2,20220519,       1324,    29.9997,   161.6427,       5987,  1115.6,2,   3.4112,2,  34.3310,2,  34.3333,2,     35.5,2,    35.6,2,  128.61,2,   42.52,2,    0.00,2,    3.00,2,   0.281,2,   0.166,2,   0.0000,2,  2356.6,2,  2361.2,2,   7.3336,2,    25.02,2, -999.00,9,  -999.0,9, -999.00,9, -999.00,9,       48.0,2, 20220519,     1507,  29.9997, 161.6426,     3.4100,2,     -999.0,9,     -999.0,9,     -999.0,9,     -999.0,9,     0.0134,1,     4.7025,1,     -999.0,9,     -999.0,9,     -999.0,9
33RR20220430,        P02,      51,          1,         18,         18,2,20220519,       1324,    29.9997,   161.6427,       5987,  1217.8,2,   3.1354,2,  34.3847,2,  34.3853,2,     32.4,3,    32.9,2,  136.03,2,   43.04,2,    0.00,2,    3.04,2,   0.163,2,   0.088,2,   0.0000,2,  2366.8,6,  2372.2,2,   7.3346,2,    25.03,2, -999.00,9,  -999.0,9, -999.00,9, -999.00,9,       48.2,2, 20220519,     1504,  29.9997, 161.6426,     3.1367,2,     -999.0,9,     -999.0,9,     -999.0,9,     -999.0,9,     0.0134,1,     4.7032,1,     -999.0,9,     -999.0,9,     -999.0,9
33RR20220430,        P02,      51,          1,         17,         17,2,20220519,       1324,    29.9997,   161.6427,       5987,  1318.6,2,   2.8475,2,  34.4300,2,  34.4326,2,     33.7,3,    33.3,2,  144.91,2,   43.14,2,    0.00,2,    3.03,2,   0.106,2,   0.057,2,   0.0000,2,  2372.1,2,  2380.7,2,   7.3405,2,    25.01,2, -999.00,9,  -999.0,9, -999.00,9, -999.00,9,       47.2,2, 20220519,     1502,  29.9997, 161.6427,     2.8466,2,     -999.0,9,     -999.0,9,     -999.0,9,     -999.0,9,     0.0134,1,     4.7031,1,     -999.0,9,     -999.0,9,     -999.0,9
33RR20220430,        P02,      51,          1,         16,         16,2,20220519,       1324,    29.9997,   161.6427,       5987,  1420.4,2,   2.6490,2,  34.4647,2,  34.4669,2,     34.6,3,    35.0,2,  151.46,2,   43.22,2,    0.00,2,    3.05,2,   0.061,2,   0.037,2,   0.0000,2,  -999.0,9,  -999.0,9,-999.0000,9,  -999.00,9, -999.00,9,  -999.0,9, -999.00,9, -999.00,9,       46.7,2, 20220519,     1459,  29.9997, 161.6426,     2.6490,2,     -999.0,9,     -999.0,9,     -999.0,9,     -999.0,9,     0.0134,1,     4.7032,1,     -999.0,9,     -999.0,9,     -999.0,9
33RR20220430,        P02,      51,          1,         15,         15,2,20220519,       1324,    29.9997,   161.6427,       5987,  1622.2,2,   2.3390,2,  34.5239,2,  34.5258,2,     47.4,3,    45.9,2,  158.00,2,   42.75,2,    0.00,2,    2.99,2,   0.028,2,   0.011,2,   0.0000,2,  2380.7,2,  2402.2,2,   7.3708,2,    25.00,2, -999.00,9,  -999.0,9, -999.00,9, -999.00,9,       41.8,2, 20220519,     1455,  29.9997, 161.6427,     2.3390,2,     -999.0,9,     -999.0,9,     -999.0,9,     -999.0,9,     0.0134,1,     4.7039,1,     -999.0,9,     -999.0,9,     -999.0,9
33RR20220430,        P02,      51,          1,         14,         14,2,20220519,       1324,    29.9997,   161.6427,       5987,  1824.6,2,   2.1177,2,  34.5699,2,  34.5704,2,     64.9,2,    64.5,2,  160.24,2,   41.52,2,    0.00,2,    2.91,2,   0.014,2,   0.008,2,   0.0000,2,  -999.0,9,  -999.0,9,-999.0000,9,  -999.00,9, -999.00,9,  -999.0,9, -999.00,9, -999.00,9,       36.6,2, 20220519,     1450,  29.9997, 161.6426,     2.1180,2,     -999.0,9,     -999.0,9,     -999.0,9,     -999.0,9,     0.0134,1,     4.7064,1,     -999.0,9,     -999.0,9,     -999.0,9
33RR20220430,        P02,      51,          1,         13,         13,2,20220519,       1324,    29.9997,   161.6427,       5987,  2028.3,2,   1.9336,2,  34.6001,2,  34.6018,2,     81.1,2,    81.4,2,  160.43,2,   40.49,2,    0.00,2,    2.81,2,   0.007,2,   0.000,2,   0.0000,2,  2367.9,2,  2412.4,2,   7.4427,2,    25.01,2, -999.00,9,  -999.0,9, -999.00,9, -999.00,9,       33.0,2, 20220519,     1446,  29.9997, 161.6426,     1.9337,2,     -999.0,9,     -999.0,9,     -999.0,9,     -999.0,9,     0.0133,1,     4.7069,1,     -999.0,9,     -999.0,9,     -999.0,9
33RR20220430,        P02,      51,          1,         12,         12,2,20220519,       1324,    29.9997,   161.6427,       5987,  2282.9,2,   1.7680,2,  34.6286,2,  34.6301,2,    102.6,2,   102.1,2,  157.69,2,   39.16,2,    0.00,2,    2.72,2,   0.006,2,   0.000,2,   0.0000,2,  -999.0,9,  -999.0,9,-999.0000,9,  -999.00,9, -999.00,9,  -999.0,9, -999.00,9, -999.00,9,       29.6,2, 20220519,     1441,  29.9997, 161.6426,     1.7676,2,     -999.0,9,     -999.0,9,     -999.0,9,     -999.0,9,     0.0122,1,     4.7077,1,     -999.0,9,     -999.0,9,     -999.0,9
33RR20220430,        P02,      51,          1,         11,         11,2,20220519,       1324,    29.9997,   161.6427,       5987,  2536.3,2,   1.6788,2,  34.6433,2,  34.6439,2,    114.1,2,   114.1,2,  156.81,2,   38.47,2,    0.00,2,    2.66,2,-999.000,5,-999.000,5,-999.0000,5,  2349.0,2,  2413.8,2,   7.5059,2,    25.01,2, -999.00,9,  -999.0,9, -999.00,9, -999.00,9,     -999.0,5, 20220519,     1436,  29.9997, 161.6427,     1.6786,2,     -999.0,9,     -999.0,9,     -999.0,9,     -999.0,9,     0.0128,1,     4.7084,1,     -999.0,9,     -999.0,9,     -999.0,9
33RR20220430,        P02,      51,          1,         10,         10,2,20220519,       1324,    29.9997,   161.6427,       5987,  2791.8,2,   1.6018,2,  34.6548,2,  34.6549,2,    123.6,2,   124.2,2,  155.83,2,   37.77,2,    0.00,2,    2.62,2,-999.000,9,-999.000,9,-999.0000,9,  -999.0,9,  -999.0,9,-999.0000,9,  -999.00,9, -999.00,9,  -999.0,9, -999.00,9, -999.00,9,     -999.0,9, 20220519,     1430,  29.9997, 161.6426,     1.6017,2,     -999.0,9,     -999.0,9,     -999.0,9,     -999.0,9,     0.0122,1,     4.7081,1,     -999.0,9,     -999.0,9,     -999.0,9
33RR20220430,        P02,      51,          1,          9,          9,2,20220519,       1324,    29.9997,   161.6427,       5987,  3047.1,2,   1.5525,2,  34.6632,2,  34.6647,2,    131.3,2,   131.3,2,  154.27,2,   37.28,2,    0.00,2,    2.58,2,   0.005,2,   0.000,2,   0.0000,2,  2339.2,2,  2416.2,2,   7.5375,2,    25.01,2, -999.00,9,  -999.0,9, -999.00,9, -999.00,9,       24.7,2, 20220519,     1425,  29.9997, 161.6426,     1.5525,2,     -999.0,9,     -999.0,9,     -999.0,9,     -999.0,9,     0.0122,1,     4.7084,1,     -999.0,9,     -999.0,9,     -999.0,9
33RR20220430,        P02,      51,          1,          8,          8,2,20220519,       1324,    29.9997,   161.6427,       5987,  3352.5,2,   1.5156,2,  34.6706,2,  34.6712,2,    139.2,2,   139.4,2,  151.73,2,   36.74,2,    0.00,2,    2.54,2,-999.000,9,-999.000,9,-999.0000,9,  2334.0,2,  2416.7,2,   7.5515,2,    25.02,2, -999.00,9,  -999.0,9, -999.00,9, -999.00,9,     -999.0,9, 20220519,     1419,  29.9997, 161.6426,     1.5156,2,     -999.0,9,     -999.0,9,     -999.0,9,     -999.0,9,     0.0122,1,     4.7091,1,     -999.0,9,     -999.0,9,     -999.0,9
33RR20220430,        P02,      51,          1,          7,          7,2,20220519,       1324,    29.9997,   161.6427,       5987,  3659.7,2,   1.4935,2,  34.6762,2,  34.6765,2,    145.4,2,   145.4,2,  149.68,2,   36.41,2,    0.00,2,    2.51,2,   0.007,2,   0.000,2,   0.0000,2,  2329.4,2,  2413.5,2,   7.5613,2,    25.02,2, -999.00,9,  -999.0,9, -999.00,9, -999.00,9,       23.0,2, 20220519,     1412,  29.9997, 161.6426,     1.4939,2,     -999.0,9,     -999.0,9,     -999.0,9,     -999.0,9,     0.0122,1,     4.7090,1,     -999.0,9,     -999.0,9,     -999.0,9
33RR20220430,        P02,      51,          1,          6,          6,2,20220519,       1324,    29.9997,   161.6427,       5987,  4068.3,2,   1.4735,2,  34.6822,2,  34.6824,2,    153.0,2,   153.2,2,  147.13,2,   35.94,2,    0.00,2,    2.46,2,-999.000,9,-999.000,9,-999.0000,9,  -999.0,9,  -999.0,9,-999.0000,9,  -999.00,9, -999.00,9,  -999.0,9, -999.00,9, -999.00,9,     -999.0,9, 20220519,     1404,  29.9997, 161.6427,     1.4734,2,     -999.0,9,     -999.0,9,     -999.0,9,     -999.0,9,     0.0130,1,     4.7094,1,     -999.0,9,     -999.0,9,     -999.0,9
33RR20220430,        P02,      51,          1,          5,          5,2,20220519,       1324,    29.9997,   161.6427,       5987,  4479.6,2,   1.4745,2,  34.6863,2,  34.6857,2,    158.5,2,   158.4,2,  145.47,2,   35.53,2,    0.00,2,    2.43,2,   0.008,2,   0.000,2,   0.0000,2,  2319.7,2,  2413.4,2,   7.5807,2,    25.02,2, -999.00,9,  -999.0,9, -999.00,9, -999.00,9,       21.7,2, 20220519,     1356,  29.9997, 161.6426,     1.4744,2,     -999.0,9,     -999.0,9,     -999.0,9,     -999.0,9,     0.0122,1,     4.7082,1,     -999.0,9,     -999.0,9,     -999.0,9
33RR20220430,        P02,      51,          1,          4,          4,2,20220519,       1324,    29.9997,   161.6427,       5987,  4890.1,2,   1.4829,2,  34.6901,2,  34.6908,2,    165.0,2,   165.5,2,  141.47,2,   35.16,2,    0.00,2,    2.40,2,-999.000,9,-999.000,9,-999.0000,9,  -999.0,9,  -999.0,9,-999.0000,9,  -999.00,9, -999.00,9,  -999.0,9, -999.00,9, -999.00,9,     -999.0,9, 20220519,     1348,  29.9997, 161.6427,     1.4831,2,     -999.0,9,     -999.0,9,     -999.0,9,     -999.0,9,     0.0122,1,     4.7094,1,     -999.0,9,     -999.0,9,     -999.0,9