BOTTLE,20230801CCHSIOCBG
EXPOCODE,SECT_ID,STNNBR,CASTNO,SAMPNO,BTLNBR,BTLNBR_FLAG_W,DATE,TIME,LATITUDE,LONGITUDE,DEPTH,CTDPRS,CTDPRS_FLAG_W,CTDTMP,CTDTMP_FLAG_W,CTDSAL,CTDSAL_FLAG_W,SALNTY,SALNTY_FLAG_W,CTDOXY,CTDOXY_FLAG_W,OXYGEN,OXYGEN_FLAG_W,SILCAT,SILCAT_FLAG_W,NITRAT,NITRAT_FLAG_W,NITRIT,NITRIT_FLAG_W,PHSPHT,PHSPHT_FLAG_W,CFC-11,CFC-11_FLAG_W,CFC-12,CFC-12_FLAG_W,SF6,SF6_FLAG_W,TCARBN,TCARBN_FLAG_W,ALKALI,ALKALI_FLAG_W,PH_TOT,PH_TOT_FLAG_W,PH_TMP,PH_TMP_FLAG_W,DELC13,DELC13_FLAG_W,DELC14,DELC14_FLAG_W,DOC,DOC_FLAG_W,TDN,TDN_FLAG_W,N2O,N2O_FLAG_W,BTL_DATE,BTL_TIME,BTL_LAT,BTL_LON,REFTMP,REFTMP_FLAG_W,POC,POC_FLAG_W,PON,PON_FLAG_W,POP,POP_FLAG_W,PCOD,PCOD_FLAG_W,CTDFLUOR,CTDFLUOR_FLAG_W,CTDXMISS,CTDXMISS_FLAG_W,HPLC,HPLC_FLAG_W,DNA,DNA_FLAG_W,FCM,FCM_FLAG_W
,,,,,,,,,,,METERS,DBAR,,ITS-90,,PSS-78,,PSS-78,,UMOL/KG,,UMOL/KG,,UMOL/KG,,UMOL/KG,,UMOL/KG,,UMOL/KG,,PMOL/KG,,PMOL/KG,,FMOL/KG,,UMOL/KG,,UMOL/KG,,,,DEG C,,/MILLE,,/MILLE,,UMOL/KG,,UMOL/KG,,NMOL/KG,,,,,,ITS-90,,UG/L,,UG/L,,UG/L,,UG/L,,VOLTS,,VOLTS,,,,,,,
33RR20220430,        P02,      63,          1,         36,         36,2,20220523,       0904,    29.9994,   168.5663,       5861,     4.3,2,  23.3037,2,  35.1494,2,  35.1341,2,    219.4,2,   218.8,2,    0.88,2,    0.00,2,    0.00,2,    0.02,2,   1.841,2,   1.113,2,   1.8603,2,  2022.4,2,  2306.0,2,   8.0142,2,    25.00,2, -999.00,9,  -999.0,9, -999.00,1, -999.00,1,        6.0,2, 20220523,     1123,  29.9994, 168.5663,    23.3030,2,     -999.0,9,     -999.0,9,     -999.0,9,     -999.0,9,     0.0147,1,     4.6251,1,     -999.0,9,     -999.0,9,     -999.0,9
33RR20220430,        P02,      63,          1,         35,         35,2,20220523,       0904,    29.9994,   168.5663,       5861,    25.8,2,  22.3881,2,  35.1691,2,  35.1567,2,    223.1,2,   223.4,2,    0.78,2,    0.00,2,    0.00,2,    0.00,2,   1.875,2,   1.144,2,   1.8653,2,  2023.5,2,  2306.6,2,   8.0151,2,    24.99,2, -999.00,9,  -999.0,9, -999.00,1, -999.00,1,        6.1,2, 20220523,     1121,  29.9994, 168.5663,    22.4584,3,     -999.0,9,     -999.0,9,     -999.0,9,     -999.0,9,     0.0154,1,     4.6307,1,     -999.0,9,     -999.0,9,     -999.0,9
33RR20220430,        P02,      63,          1,         34,         34,2,20220523,       0904,    29.9994,   168.5663,       5861,    49.0,2,  19.3019,2,  34.8156,2,  34.8290,2,    239.1,2,   239.8,2,    0.68,2,    0.00,2,    0.00,2,    0.02,2,   2.176,2,   1.277,2,   2.1114,2,  2020.0,2,  2285.9,2,   7.9914,2,    24.98,2, -999.00,9,  -999.0,9, -999.00,1, -999.00,1,        6.9,2, 20220523,     1119,  29.9994, 168.5662,    19.2301,3,     -999.0,9,     -999.0,9,     -999.0,9,     -999.0,9,     0.0168,1,     4.6415,1,     -999.0,9,     -999.0,9,     -999.0,9
33RR20220430,        P02,      63,          1,         33,         33,2,20220523,       0904,    29.9994,   168.5663,       5861,    75.9,2,  17.7008,2,  34.7788,2,  34.7663,2,    231.8,2,   231.0,2,    1.56,2,    0.52,2,    0.08,2,    0.09,2,   2.232,2,   1.322,2,   2.1476,2,  -999.0,9,  -999.0,1,-999.0000,9,  -999.00,9, -999.00,9,  -999.0,9, -999.00,1, -999.00,1,        7.6,2, 20220523,     1117,  29.9995, 168.5662,    17.7022,2,     -999.0,9,     -999.0,9,     -999.0,9,     -999.0,9,     0.0369,1,     4.6318,1,     -999.0,9,     -999.0,9,     -999.0,9
33RR20220430,        P02,      63,          1,         32,         32,2,20220523,       0904,    29.9994,   168.5663,       5861,   100.5,2,  17.0497,2,  34.7229,2,  34.7154,2,    211.9,2,   210.3,2,    2.83,2,    3.86,2,    0.02,2,    0.26,2,   2.278,2,   1.346,2,   1.9995,2,  2047.4,6,  2278.0,2,   7.9250,2,    25.00,2, -999.00,9,  -999.0,9, -999.00,1, -999.00,1,        8.5,2, 20220523,     1116,  29.9994, 168.5662,    17.0505,2,     -999.0,9,     -999.0,9,     -999.0,9,     -999.0,9,     0.0171,1,     4.6716,1,     -999.0,9,     -999.0,9,     -999.0,9
33RR20220430,        P02,      63,          1,         31,         31,2,20220523,       0904,    29.9994,   168.5663,       5861,   151.4,2,  16.3601,2,  34.6816,2,  34.6686,2,    209.7,2,   209.8,2,    4.30,2,    5.19,2,    0.00,2,    0.35,2,   2.397,2,   1.444,2,   2.0451,2,  -999.0,9,  -999.0,9,-999.0000,9,  -999.00,9, -999.00,9,  -999.0,9, -999.00,1, -999.00,1,        9.2,2, 20220523,     1114,  29.9994, 168.5663,    16.3633,2,     -999.0,9,     -999.0,9,     -999.0,9,     -999.0,9,     0.0130,1,     4.6842,1,     -999.0,9,     -999.0,9,     -999.0,9
33RR20220430,        P02,      63,          1,         30,         30,2,20220523,       0904,    29.9994,   168.5663,       5861,   203.4,2,  15.6061,2,  34.6270,2,  34.6164,2,    215.6,2,   215.0,2,    5.47,2,    5.91,2,    0.00,2,    0.41,2,   2.429,2,   1.430,2,   2.0236,2,  2058.1,2,  2276.8,2,   7.8956,2,    24.99,2, -999.00,9,  -999.0,9, -999.00,1, -999.00,1,        9.7,2, 20220523,     1112,  29.9994, 168.5663,    15.6048,2,     -999.0,9,     -999.0,9,     -999.0,9,     -999.0,9,     0.0122,1,     4.6860,1,     -999.0,9,     -999.0,9,     -999.0,9
33RR20220430,        P02,      63,          1,         29,         29,2,20220523,       0904,    29.9994,   168.5663,       5861,   252.8,2,  15.4626,2,  34.6625,2,  34.6531,2,    232.9,2,   234.0,2,    4.79,2,    4.56,2,    0.00,2,    0.31,2,   2.417,2,   1.423,2,   2.1913,2,  2048.0,2,  2275.6,2,   7.9184,2,    24.99,2, -999.00,9,  -999.0,9, -999.00,1, -999.00,1,        8.6,2, 20220523,     1111,  29.9994, 168.5663,    15.4613,2,     -999.0,9,     -999.0,9,     -999.0,9,     -999.0,9,     0.0122,1,     4.6819,1,     -999.0,9,     -999.0,9,     -999.0,9
33RR20220430,        P02,      63,          1,         28,         28,2,20220523,       0904,    29.9994,   168.5663,       5861,   302.6,2,  14.8368,2,  34.5833,2,  34.5730,2,    233.2,2,   234.2,2,    5.86,2,    5.34,2,    0.00,2,    0.37,2,   2.497,2,   1.471,2,   2.2175,2,  2055.9,2,  -999.0,1,   7.9018,2,    24.99,2, -999.00,9,  -999.0,9, -999.00,1, -999.00,1,        9.3,2, 20220523,     1109,  29.9995, 168.5662,    14.8510,2,     -999.0,9,     -999.0,9,     -999.0,9,     -999.0,9,     0.0122,1,     4.6873,1,     -999.0,9,     -999.0,9,     -999.0,9
33RR20220430,        P02,      63,          1,         27,         27,2,20220523,       0904,    29.9994,   168.5663,       5861,   353.5,2,  13.7396,2,  34.4836,2,  34.4758,2,    206.6,2,   206.3,2,   11.43,2,    9.80,2,    0.00,2,    0.67,2,   2.535,2,   1.484,2,   1.9251,2,  2084.6,2,  2271.7,2,   7.8381,2,    24.99,2, -999.00,9,  -999.0,9, -999.00,1, -999.00,1,       12.1,2, 20220523,     1107,  29.9994, 168.5662,    13.7488,2,     -999.0,9,     -999.0,9,     -999.0,9,     -999.0,9,     0.0122,1,     4.6879,1,     -999.0,9,     -999.0,9,     -999.0,9
33RR20220430,        P02,      63,          1,         26,         26,2,20220523,       0904,    29.9994,   168.5663,       5861,   403.6,2,  12.5026,2,  34.3681,2,  34.3560,2,    204.8,2,   204.8,2,   13.77,2,   11.92,2,    0.00,2,    0.84,2,   2.743,2,   1.621,2,   1.8683,2,  2100.5,2,  2268.3,2,   7.7970,2,    24.97,2, -999.00,9,  -999.0,9, -999.00,1, -999.00,1,       13.5,2, 20220523,     1106,  29.9994, 168.5662,    12.4947,2,     -999.0,9,     -999.0,9,     -999.0,9,     -999.0,9,     0.0122,1,     4.6954,1,     -999.0,9,     -999.0,9,     -999.0,9
33RR20220430,        P02,      63,          1,         25,         25,2,20220523,       0904,    29.9994,   168.5663,       5861,   505.4,2,  10.2683,2,  34.1951,2,  34.1919,2,    200.1,2,   200.2,2,   21.39,2,   16.07,2,    0.00,2,    1.14,2,   2.862,6,   1.637,6,   1.8383,6,  2129.2,2,  2267.3,2,   7.7314,2,    25.00,2, -999.00,9,  -999.0,9, -999.00,1, -999.00,1,       16.2,6, 20220523,     1103,  29.9994, 168.5662,    10.2919,2,     -999.0,9,     -999.0,9,     -999.0,9,     -999.0,9,     0.0122,1,     4.6983,1,     -999.0,9,     -999.0,9,     -999.0,9
33RR20220430,        P02,      63,          1,         24,         24,2,20220523,       0904,    29.9994,   168.5663,       5861,   607.6,2,   7.6707,2,  34.0299,2,  34.0262,2,    167.2,2,   167.2,2,   40.25,2,   24.03,2,    0.00,2,    1.72,2,   2.736,2,   1.558,2,   1.5158,2,  2184.5,2,  2276.1,2,   7.6047,2,    24.98,2, -999.00,9,  -999.0,9, -999.00,1, -999.00,1,       22.6,2, 20220523,     1059,  29.9994, 168.5662,     7.6748,2,     -999.0,9,     -999.0,9,     -999.0,9,     -999.0,9,     0.0122,1,     4.7005,1,     -999.0,9,     -999.0,9,     -999.0,9
33RR20220430,        P02,      63,          1,         23,         23,2,20220523,       0904,    29.9994,   168.5663,       5861,   707.6,2,   5.7438,2,  34.0290,2,  34.0278,2,    111.8,2,   111.7,2,   67.32,2,   32.67,2,    0.00,2,    2.34,2,   1.991,2,   1.127,2,   0.8468,2,  2249.8,2,  2296.7,2,   7.4636,2,    24.98,2, -999.00,9,  -999.0,9, -999.00,1, -999.00,1,       32.1,2, 20220523,     1056,  29.9994, 168.5662,     5.7410,2,     -999.0,9,     -999.0,9,     -999.0,9,     -999.0,9,     0.0133,1,     4.7008,1,     -999.0,9,     -999.0,9,     -999.0,9
33RR20220430,        P02,      63,          1,         22,         22,2,20220523,       0904,    29.9994,   168.5663,       5861,   806.9,2,   4.8418,2,  34.1127,2,  34.1091,2,     70.7,2,    71.2,2,   86.95,2,   37.61,2,    0.00,2,    2.70,2,   1.221,2,   0.684,2,   0.4126,2,  2291.7,2,  2313.8,2,   7.3864,2,    24.97,2, -999.00,9,  -999.0,9, -999.00,9, -999.00,9,       39.2,2, 20220523,     1054,  29.9994, 168.5662,     4.8420,2,     -999.0,9,     -999.0,9,     -999.0,9,     -999.0,9,     0.0133,1,     4.7007,1,     -999.0,9,     -999.0,9,     -999.0,9
33RR20220430,        P02,      63,          1,         21,         21,2,20220523,       0904,    29.9994,   168.5663,       5861,   909.1,2,   4.2430,2,  34.1985,2,  34.1987,2,     45.0,2,    44.8,2,  103.85,2,   40.63,2,    0.00,2,    2.91,2,   0.647,2,   0.362,2,   0.2035,2,  2325.7,2,  2333.4,2,   7.3427,2,    25.00,2, -999.00,9,  -999.0,9, -999.00,1, -999.00,1,       44.9,2, 20220523,     1051,  29.9994, 168.5662,     4.2464,2,     -999.0,9,     -999.0,9,     -999.0,9,     -999.0,9,     0.0134,1,     4.7014,1,     -999.0,9,     -999.0,9,     -999.0,9
33RR20220430,        P02,      63,          1,         20,         20,2,20220523,       0904,    29.9994,   168.5663,       5861,  1009.5,2,   3.8633,2,  34.2680,2,  34.2689,2,     35.0,3,    34.6,2,  114.88,2,   41.78,2,    0.00,2,    3.01,2,   0.361,2,   0.207,2,   0.1620,2,  2346.0,2,  2345.1,2,   7.3296,2,    24.98,2, -999.00,9,  -999.0,9, -999.00,9, -999.00,9,       47.0,2, 20220523,     1048,  29.9994, 168.5662,     3.8653,2,     -999.0,9,     -999.0,9,     -999.0,9,     -999.0,9,     0.0134,1,     4.7016,1,     -999.0,9,     -999.0,9,     -999.0,9
33RR20220430,        P02,      63,          1,         19,         19,2,20220523,       0904,    29.9994,   168.5663,       5861,  1113.0,2,   3.5079,2,  34.3334,2,  34.3333,2,     29.7,3,    29.2,2,  125.91,2,   42.73,2,    0.00,2,    3.06,2,   0.199,2,   0.107,2,   0.0000,2,  2359.3,2,  2360.1,2,   7.3268,2,    24.98,2, -999.00,9,  -999.0,9, -999.00,1, -999.00,1,       49.1,2, 20220523,     1045,  29.9994, 168.5663,     3.5058,2,     -999.0,9,     -999.0,9,     -999.0,9,     -999.0,9,     0.0134,1,     4.7017,1,     -999.0,9,     -999.0,9,     -999.0,9
33RR20220430,        P02,      63,          1,         18,         18,2,20220523,       0904,    29.9994,   168.5663,       5861,  1211.7,2,   3.2079,2,  34.3883,2,  34.3833,2,     28.4,3,    29.4,2,  134.60,2,   42.99,2,    0.00,2,    3.09,2,   0.118,2,   0.067,2,   0.0000,2,  -999.0,9,  -999.0,9,-999.0000,9,  -999.00,9, -999.00,9,  -999.0,9, -999.00,9, -999.00,9,       49.2,2, 20220523,     1043,  29.9994, 168.5662,     3.2199,2,     -999.0,9,     -999.0,9,     -999.0,9,     -999.0,9,     0.0134,1,     4.7015,1,     -999.0,9,     -999.0,9,     -999.0,9
33RR20220430,        P02,      63,          1,         17,         17,2,20220523,       0904,    29.9994,   168.5663,       5861,  1312.3,2,   2.9653,2,  34.4308,2,  34.4306,2,     30.2,2,    30.4,2,  142.12,2,   43.08,2,    0.00,2,    3.10,2,   0.070,2,   0.043,2,   0.0000,2,  2374.1,2,  2380.9,2,   7.3354,2,    25.00,2, -999.00,9,  -999.0,9, -999.00,1, -999.00,1,       48.2,2, 20220523,     1040,  29.9995, 168.5662,     2.9640,2,     -999.0,9,     -999.0,9,     -999.0,9,     -999.0,9,     0.0134,1,     4.7019,1,     -999.0,9,     -999.0,9,     -999.0,9
33RR20220430,        P02,      63,          1,         16,         16,2,20220523,       0904,    29.9994,   168.5663,       5861,  1418.7,2,   2.7874,2,  34.4725,2,  34.4720,2,     35.8,2,    35.6,2,  146.31,2,   42.93,2,    0.00,2,    3.07,2,   0.035,2,   0.018,2,   0.0000,2,  -999.0,9,  -999.0,9,-999.0000,9,  -999.00,9, -999.00,9,  -999.0,9, -999.00,9, -999.00,9,       45.4,2, 20220523,     1037,  29.9994, 168.5663,     2.7889,2,     -999.0,9,     -999.0,9,     -999.0,9,     -999.0,9,     0.0134,1,     4.7030,1,     -999.0,9,     -999.0,9,     -999.0,9
33RR20220430,        P02,      63,          1,         15,         15,2,20220523,       0904,    29.9994,   168.5663,       5861,  1619.2,2,   2.4360,2,  34.5287,2,  34.5288,2,     47.0,3,    46.5,2,  154.71,2,   42.39,2,    0.00,2,    3.02,2,   0.015,2,   0.012,2,   0.0000,2,  2381.3,2,  2400.2,2,   7.3723,2,    24.97,2, -999.00,9,  -999.0,9, -999.00,1, -999.00,1,       40.7,2, 20220523,     1033,  29.9995, 168.5662,     2.4379,2,     -999.0,9,     -999.0,9,     -999.0,9,     -999.0,9,     0.0134,1,     4.7031,1,     -999.0,9,     -999.0,9,     -999.0,9
33RR20220430,        P02,      63,          1,         14,         14,2,20220523,       0904,    29.9994,   168.5663,       5861,  1822.5,2,   2.1505,2,  34.5696,2,  34.5690,2,     61.3,2,    61.2,2,  160.08,2,   41.54,2,    0.00,2,    2.95,2,   0.011,2,   0.000,2,   0.0000,2,  -999.0,9,  -999.0,9,-999.0000,9,  -999.00,9, -999.00,9,  -999.0,9, -999.00,9, -999.00,9,       36.2,2, 20220523,     1028,  29.9994, 168.5663,     2.1505,2,     -999.0,9,     -999.0,9,     -999.0,9,     -999.0,9,     0.0134,1,     4.7037,1,     -999.0,9,     -999.0,9,     -999.0,9
33RR20220430,        P02,      63,          1,         13,         13,2,20220523,       0904,    29.9994,   168.5663,       5861,  2023.7,2,   1.9740,2,  34.5991,2,  34.5985,2,     79.0,2,    79.3,2,  160.56,2,   40.53,2,    0.00,2,    2.87,2,   0.005,2,   0.000,2,   0.0000,2,  2369.1,2,  2410.6,2,   7.4403,2,    25.00,2, -999.00,9,  -999.0,9, -999.00,1, -999.00,1,       32.1,2, 20220523,     1024,  29.9994, 168.5662,     1.9736,2,     -999.0,9,     -999.0,9,     -999.0,9,     -999.0,9,     0.0124,1,     4.7054,1,     -999.0,9,     -999.0,9,     -999.0,9
33RR20220430,        P02,      63,          1,         12,         12,2,20220523,       0904,    29.9994,   168.5663,       5861,  2277.7,2,   1.8029,2,  34.6248,2,  34.6242,2,     96.3,2,    96.1,2,  160.36,2,   39.40,2,    0.00,2,    2.78,2,   0.005,2,   0.000,2,   0.0000,2,  -999.0,9,  -999.0,9,-999.0000,9,  -999.00,9, -999.00,9,  -999.0,9, -999.00,9, -999.00,9,       28.7,2, 20220523,     1018,  29.9994, 168.5663,     1.8026,2,     -999.0,9,     -999.0,9,     -999.0,9,     -999.0,9,     0.0134,1,     4.7056,1,     -999.0,9,     -999.0,9,     -999.0,9
33RR20220430,        P02,      63,          1,         11,         11,2,20220523,       0904,    29.9994,   168.5663,       5861,  2528.2,2,   1.6898,2,  34.6404,2,  34.6403,2,    107.9,2,   107.9,2,  159.58,2,   38.64,2,    0.00,2,    2.72,2,   0.005,2,   0.000,2,   0.0000,2,  2353.1,2,  2415.7,2,   7.4935,2,    24.99,2, -999.00,9,  -999.0,9, -999.00,1, -999.00,1,       26.7,2, 20220523,     1013,  29.9994, 168.5663,     1.6896,2,     -999.0,9,     -999.0,9,     -999.0,9,     -999.0,9,     0.0130,1,     4.7057,1,     -999.0,9,     -999.0,9,     -999.0,9
33RR20220430,        P02,      63,          1,         10,         10,2,20220523,       0904,    29.9994,   168.5663,       5861,  2790.9,2,   1.5976,2,  34.6547,2,  34.6549,2,    120.7,2,   120.9,2,  157.53,2,   37.81,2,    0.00,2,    2.67,2,-999.000,9,-999.000,9,-999.0000,9,  -999.0,9,  -999.0,9,-999.0000,9,  -999.00,9, -999.00,9,  -999.0,9, -999.00,9, -999.00,9,     -999.0,9, 20220523,     1007,  29.9994, 168.5663,     1.5977,2,     -999.0,9,     -999.0,9,     -999.0,9,     -999.0,9,     0.0134,1,     4.7068,1,     -999.0,9,     -999.0,9,     -999.0,9
33RR20220430,        P02,      63,          1,          9,          9,2,20220523,       0904,    29.9994,   168.5663,       5861,  3047.5,2,   1.5475,2,  34.6639,2,  34.6643,2,    129.6,2,   130.2,2,  154.99,2,   37.23,2,    0.00,2,    2.62,2,   0.005,2,   0.000,2,   0.0000,2,  2340.9,2,  2416.1,2,   7.5343,2,    24.99,2, -999.00,9,  -999.0,9, -999.00,1, -999.00,1,       23.5,2, 20220523,     1002,  29.9994, 168.5663,     1.5475,2,     -999.0,9,     -999.0,9,     -999.0,9,     -999.0,9,     0.0122,1,     4.7069,1,     -999.0,9,     -999.0,9,     -999.0,9
33RR20220430,        P02,      63,          1,          8,          8,2,20220523,       0904,    29.9994,   168.5663,       5861,  3355.0,2,   1.4993,2,  34.6719,2,  34.6716,2,    137.5,2,   137.5,2,  154.11,2,   36.72,2,    0.00,2,    2.57,2,-999.000,9,-999.000,9,-999.0000,9,  -999.0,9,  -999.0,9,-999.0000,9,  -999.00,9, -999.00,9,  -999.0,9, -999.00,9, -999.00,9,     -999.0,9, 20220523,      956,  29.9994, 168.5663,     1.4993,2,     -999.0,9,     -999.0,9,     -999.0,9,     -999.0,9,     0.0124,1,     4.7069,1,     -999.0,9,     -999.0,9,     -999.0,9
33RR20220430,        P02,      63,          1,          7,          7,2,20220523,       0904,    29.9994,   168.5663,       5861,  3663.0,2,   1.4802,2,  34.6773,2,  34.6759,2,    143.4,2,   143.2,2,  152.84,2,   36.43,2,    0.00,2,    2.54,2,   0.005,2,   0.000,2,   0.0000,2,  2333.3,2,  2415.6,2,   7.5549,2,    25.00,2, -999.00,9,  -999.0,9, -999.00,1, -999.00,1,       21.9,2, 20220523,      949,  29.9994, 168.5663,     1.4802,2,     -999.0,9,     -999.0,9,     -999.0,9,     -999.0,9,     0.0122,1,     4.7068,1,     -999.0,9,     -999.0,9,     -999.0,9
33RR20220430,        P02,      63,          1,          6,          6,2,20220523,       0904,    29.9994,   168.5663,       5861,  4018.5,2,   1.4648,2,  34.6828,2,  34.6820,2,    150.7,2,   150.7,2,  150.10,2,   35.88,2,    0.00,2,    2.50,2,-999.000,9,-999.000,9,-999.0000,9,  -999.0,9,  -999.0,9,-999.0000,9,  -999.00,9, -999.00,9,  -999.0,9, -999.00,9, -999.00,9,     -999.0,9, 20220523,      942,  29.9994, 168.5662,     1.4648,2,     -999.0,9,     -999.0,9,     -999.0,9,     -999.0,9,     0.0122,1,     4.7069,1,     -999.0,9,     -999.0,9,     -999.0,9
33RR20220430,        P02,      63,          1,          5,          5,2,20220523,       0904,    29.9994,   168.5663,       5861,  4476.1,2,   1.4640,2,  34.6879,2,  34.6879,2,    158.7,2,   158.6,2,  146.58,2,   35.31,2,    0.00,2,    2.46,2,   0.006,2,   0.000,2,   0.0000,2,  2319.5,6,  2411.7,2,   7.5807,2,    24.99,2, -999.00,9,  -999.0,9, -999.00,1, -999.00,1,       20.6,2, 20220523,      933,  29.9994, 168.5662,     1.4640,2,     -999.0,9,     -999.0,9,     -999.0,9,     -999.0,9,     0.0128,1,     4.7071,1,     -999.0,9,     -999.0,9,     -999.0,9
33RR20220430,        P02,      63,          1,          4,          4,2,20220523,       0904,    29.9994,   168.5663,       5861,  4890.0,2,   1.4693,2,  34.6918,2,  34.6905,2,    165.6,2,   165.9,2,  141.12,2,   34.79,2,    0.00,2,    2.42,2,-999.000,9,-999.000,9,-999.0000,9,  -999.0,9,  -999.0,9,-999.0000,9,  -999.00,9, -999.00,9,  -999.0,9, -999.00,9, -999.00,9,     -999.0,9, 20220523,      925,  29.9994, 168.5662,     1.4695,2,     -999.0,9,     -999.0,9,     -999.0,9,     -999.0,9,     0.0122,1,     4.7073,1,     -999.0,9,     -999.0,9,     -999.0,9