BOTTLE,20230801CCHSIOCBG
EXPOCODE,SECT_ID,STNNBR,CASTNO,SAMPNO,BTLNBR,BTLNBR_FLAG_W,DATE,TIME,LATITUDE,LONGITUDE,DEPTH,CTDPRS,CTDPRS_FLAG_W,CTDTMP,CTDTMP_FLAG_W,CTDSAL,CTDSAL_FLAG_W,SALNTY,SALNTY_FLAG_W,CTDOXY,CTDOXY_FLAG_W,OXYGEN,OXYGEN_FLAG_W,SILCAT,SILCAT_FLAG_W,NITRAT,NITRAT_FLAG_W,NITRIT,NITRIT_FLAG_W,PHSPHT,PHSPHT_FLAG_W,CFC-11,CFC-11_FLAG_W,CFC-12,CFC-12_FLAG_W,SF6,SF6_FLAG_W,TCARBN,TCARBN_FLAG_W,ALKALI,ALKALI_FLAG_W,PH_TOT,PH_TOT_FLAG_W,PH_TMP,PH_TMP_FLAG_W,DELC13,DELC13_FLAG_W,DELC14,DELC14_FLAG_W,DOC,DOC_FLAG_W,TDN,TDN_FLAG_W,N2O,N2O_FLAG_W,BTL_DATE,BTL_TIME,BTL_LAT,BTL_LON,REFTMP,REFTMP_FLAG_W,POC,POC_FLAG_W,PON,PON_FLAG_W,POP,POP_FLAG_W,PCOD,PCOD_FLAG_W,CTDFLUOR,CTDFLUOR_FLAG_W,CTDXMISS,CTDXMISS_FLAG_W,HPLC,HPLC_FLAG_W,DNA,DNA_FLAG_W,FCM,FCM_FLAG_W
,,,,,,,,,,,METERS,DBAR,,ITS-90,,PSS-78,,PSS-78,,UMOL/KG,,UMOL/KG,,UMOL/KG,,UMOL/KG,,UMOL/KG,,UMOL/KG,,PMOL/KG,,PMOL/KG,,FMOL/KG,,UMOL/KG,,UMOL/KG,,,,DEG C,,/MILLE,,/MILLE,,UMOL/KG,,UMOL/KG,,NMOL/KG,,,,,,ITS-90,,UG/L,,UG/L,,UG/L,,UG/L,,VOLTS,,VOLTS,,,,,,,
33RR20220430,        P02,      50,          2,         36,         36,2,20220519,       0607,    30.0006,   161.0654,       5902,     4.2,2,  23.1719,2,  34.9272,2,  34.9260,2,    225.0,2,   222.9,2,    1.17,2,    0.02,2,    0.00,2,    0.01,2,   1.974,2,   1.163,2,   1.9299,2,  2020.4,2,  2295.0,2,   7.9949,2,    24.94,2, -999.00,9,  -999.0,9, -999.00,1, -999.00,1,        6.5,2, 20220519,      832,  30.0006, 161.0654,    23.2869,2,     -999.0,9,     -999.0,9,     -999.0,9,     -999.0,9,     0.0143,1,     4.6134,1,     -999.0,9,     -999.0,9,     -999.0,9
33RR20220430,        P02,      50,          2,         35,         35,2,20220519,       0607,    30.0006,   161.0654,       5902,    22.8,2,  21.3060,2,  34.8899,2,  34.8786,2,    228.6,2,   228.7,2,    1.27,2,    0.00,2,    0.00,2,    0.01,2,   2.069,2,   1.209,2,   2.0509,2,  2019.5,2,  2291.8,2,   7.9922,2,    24.98,2, -999.00,9,  -999.0,9, -999.00,1, -999.00,1,        6.6,2, 20220519,      830,  30.0006, 161.0654,    21.3051,2,     -999.0,9,     -999.0,9,     -999.0,9,     -999.0,9,     0.0147,1,     4.6257,1,     -999.0,9,     -999.0,9,     -999.0,9
33RR20220430,        P02,      50,          2,         34,         34,2,20220519,       0607,    30.0006,   161.0654,       5902,    42.3,2,  19.1168,2,  34.8022,2,  34.7968,2,    242.0,2,   242.8,2,    1.37,2,    0.00,2,    0.00,2,    0.01,2,   2.303,2,   1.327,2,   2.2602,2,  2014.4,2,  2284.2,2,   7.9934,2,    24.99,2, -999.00,9,  -999.0,9, -999.00,1, -999.00,1,        7.2,2, 20220519,      828,  30.0006, 161.0654,    19.1254,2,     -999.0,9,     -999.0,9,     -999.0,9,     -999.0,9,     0.0151,1,     4.6145,1,     -999.0,9,     -999.0,9,     -999.0,9
33RR20220430,        P02,      50,          2,         33,         33,2,20220519,       0607,    30.0006,   161.0654,       5902,    72.8,2,  17.6312,2,  34.7494,2,  34.7471,2,    244.9,2,   245.8,2,    1.76,2,    0.12,2,    0.01,2,    0.04,2,   2.322,2,   1.372,2,   2.3491,2,  2018.9,2,  2280.1,2,   7.9823,2,    24.96,2, -999.00,9,  -999.0,9, -999.00,1, -999.00,1,        7.7,2, 20220519,      826,  30.0006, 161.0654,    17.6249,2,     -999.0,9,     -999.0,9,     -999.0,9,     -999.0,9,     0.0415,1,     4.6019,1,     -999.0,9,     -999.0,9,     -999.0,9
33RR20220430,        P02,      50,          2,         32,         32,2,20220519,       0607,    30.0006,   161.0654,       5902,    97.0,2,  17.0828,2,  34.7310,2,  34.7260,2,    230.2,2,   229.7,2,    2.15,2,    1.76,2,    0.27,2,    0.15,2,   2.321,2,   1.394,2,   2.2386,2,  2033.3,2,  2277.2,2,   7.9509,2,    24.98,2, -999.00,9,  -999.0,9, -999.00,1, -999.00,1,        8.3,2, 20220519,      824,  30.0006, 161.0654,    17.0831,2,     -999.0,9,     -999.0,9,     -999.0,9,     -999.0,9,     0.0289,1,     4.6453,1,     -999.0,9,     -999.0,9,     -999.0,9
33RR20220430,        P02,      50,          2,         31,         31,2,20220519,       0607,    30.0006,   161.0654,       5902,   141.9,2,  16.6217,2,  34.6984,2,  34.6948,2,    229.9,2,   229.6,2,    2.83,2,    2.81,2,    0.04,2,    0.20,2,   2.356,2,   1.361,2,   2.3957,2,  2037.1,6,  2274.6,2,   7.9395,2,    24.98,2, -999.00,9,  -999.0,9, -999.00,1, -999.00,1,        8.5,2, 20220519,      822,  30.0006, 161.0654,    16.6219,2,     -999.0,9,     -999.0,9,     -999.0,9,     -999.0,9,     0.0229,1,     4.6643,1,     -999.0,9,     -999.0,9,     -999.0,9
33RR20220430,        P02,      50,          2,         30,         30,2,20220519,       0607,    30.0006,   161.0654,       5902,   188.7,2,  16.1618,2,  34.6536,2,  34.6500,2,    230.5,2,   230.4,2,    3.52,2,    3.54,2,    0.00,2,    0.23,2,   2.338,2,   1.389,2,   2.3050,2,  -999.0,9,  -999.0,9,-999.0000,9,  -999.00,9, -999.00,9,  -999.0,9, -999.00,1, -999.00,1,        8.7,2, 20220519,      820,  30.0006, 161.0654,    16.1608,2,     -999.0,9,     -999.0,9,     -999.0,9,     -999.0,9,     0.0134,1,     4.6835,1,     -999.0,9,     -999.0,9,     -999.0,9
33RR20220430,        P02,      50,          2,         29,         29,2,20220519,       0607,    30.0006,   161.0654,       5902,   238.7,2,  15.8252,2,  34.6495,2,  34.6502,2,    228.5,2,   227.7,2,    4.39,2,    4.44,2,    0.00,2,    0.30,2,   2.339,2,   1.388,2,   2.3353,2,  2045.1,2,  2273.8,2,   7.9225,2,    25.01,2, -999.00,9,  -999.0,9, -999.00,1, -999.00,1,        8.9,2, 20220519,      818,  30.0006, 161.0654,    15.8274,2,     -999.0,9,     -999.0,9,     -999.0,9,     -999.0,9,     0.0122,1,     4.6809,1,     -999.0,9,     -999.0,9,     -999.0,9
33RR20220430,        P02,      50,          2,         28,         28,2,20220519,       0607,    30.0006,   161.0654,       5902,   289.3,2,  15.5439,2,  34.6405,2,  34.6403,2,    229.0,2,   229.6,2,    4.69,2,    4.73,2,    0.00,2,    0.33,2,   2.397,2,   1.417,2,   2.4138,2,  2048.1,2,  2275.4,2,   7.9179,2,    25.01,2, -999.00,9,  -999.0,9, -999.00,1, -999.00,1,        9.0,2, 20220519,      816,  30.0006, 161.0654,    15.5439,2,     -999.0,9,     -999.0,9,     -999.0,9,     -999.0,9,     0.0122,1,     4.6839,1,     -999.0,9,     -999.0,9,     -999.0,9
33RR20220430,        P02,      50,          2,         27,         27,2,20220519,       0607,    30.0006,   161.0654,       5902,   336.0,2,  15.3293,2,  34.6293,2,  34.6250,2,    225.2,2,   225.4,2,    5.47,2,    5.51,2,    0.00,2,    0.36,2,   2.406,2,   1.423,2,   2.3312,2,  2054.7,2,  2274.9,2,   7.9064,2,    24.99,2, -999.00,9,  -999.0,9, -999.00,1, -999.00,1,        9.5,2, 20220519,      814,  30.0006, 161.0654,    15.3284,2,     -999.0,9,     -999.0,9,     -999.0,9,     -999.0,9,     0.0114,1,     4.6863,1,     -999.0,9,     -999.0,9,     -999.0,9
33RR20220430,        P02,      50,          2,         26,         26,2,20220519,       0607,    30.0006,   161.0654,       5902,   389.4,2,  14.2016,2,  34.5162,2,  34.5117,2,    205.3,2,   204.7,2,   10.35,2,    9.36,2,    0.00,2,    0.63,2,   2.450,2,   1.489,2,   2.0256,2,  -999.0,9,  -999.0,9,-999.0000,9,  -999.00,9, -999.00,9,  -999.0,9, -999.00,1, -999.00,1,       12.1,2, 20220519,      812,  30.0006, 161.0654,    14.2003,2,     -999.0,9,     -999.0,9,     -999.0,9,     -999.0,9,     0.0122,1,     4.6880,1,     -999.0,9,     -999.0,9,     -999.0,9
33RR20220430,        P02,      50,          2,         25,         25,2,20220519,       0607,    30.0006,   161.0654,       5902,   469.1,2,  12.4185,2,  34.3694,2,  34.3649,2,    204.6,2,   204.8,2,   14.95,2,   12.22,2,    0.00,2,    0.83,2,   2.597,2,   1.566,2,   2.0490,2,  2101.5,2,  2268.9,2,   7.7975,2,    24.98,2, -999.00,9,  -999.0,9, -999.00,1, -999.00,1,       14.0,2, 20220519,      809,  30.0006, 161.0654,    12.4220,2,     -999.0,9,     -999.0,9,     -999.0,9,     -999.0,9,     0.0122,1,     4.6923,1,     -999.0,9,     -999.0,9,     -999.0,9
33RR20220430,        P02,      50,          2,         24,         24,2,20220519,       0607,    30.0006,   161.0654,       5902,   571.5,2,   9.6512,2,  34.1471,2,  34.1477,2,    189.3,2,   190.2,2,   25.79,2,   18.27,2,    0.00,2,    1.25,2,   2.791,2,   1.628,2,   1.7407,2,  2140.2,2,  2268.7,2,   7.6992,2,    24.99,2, -999.00,9,  -999.0,9, -999.00,1, -999.00,1,       18.5,2, 20220519,      807,  30.0006, 161.0654,     9.6517,2,     -999.0,9,     -999.0,9,     -999.0,9,     -999.0,9,     0.0122,1,     4.7006,1,     -999.0,9,     -999.0,9,     -999.0,9
33RR20220430,        P02,      50,          2,         23,         23,2,20220519,       0607,    30.0006,   161.0654,       5902,   672.0,2,   6.8741,2,  33.9890,2,  33.9898,2,    155.0,2,   155.0,2,   48.66,2,   26.78,2,    0.00,2,    1.88,2,   2.540,6,   1.478,6,   1.4041,6,  2200.7,2,  2278.6,2,   7.5615,2,    24.99,2, -999.00,9,  -999.0,9, -999.00,1, -999.00,1,       25.5,6, 20220519,      803,  30.0006, 161.0654,     6.8762,2,     -999.0,9,     -999.0,9,     -999.0,9,     -999.0,9,     0.0127,1,     4.7020,1,     -999.0,9,     -999.0,9,     -999.0,9
33RR20220430,        P02,      50,          2,         22,         22,2,20220519,       0607,    30.0006,   161.0654,       5902,   773.9,2,   5.4082,2,  34.0531,2,  34.0541,2,     97.0,2,    96.3,2,   74.84,2,   34.65,2,    0.00,2,    2.43,2,   1.683,2,   0.972,2,   0.7333,2,  -999.0,9,  -999.0,9,-999.0000,9,  -999.00,9, -999.00,9,  -999.0,9, -999.00,9, -999.00,9,       35.0,2, 20220519,      800,  30.0006, 161.0654,     5.4079,2,     -999.0,9,     -999.0,9,     -999.0,9,     -999.0,9,     0.0132,1,     4.7032,1,     -999.0,9,     -999.0,9,     -999.0,9
33RR20220430,        P02,      50,          2,         21,         21,2,20220519,       0607,    30.0006,   161.0654,       5902,   871.7,2,   4.7269,2,  34.1363,2,  34.1381,2,     64.7,2,    64.9,2,   92.13,2,   38.47,2,    0.00,2,    2.71,2,   1.049,2,   0.588,2,   0.3666,2,  2300.1,2,  2318.4,2,   7.3785,2,    25.00,2, -999.00,9,  -999.0,9, -999.00,1, -999.00,1,       40.2,2, 20220519,      758,  30.0005, 161.0654,     4.7268,2,     -999.0,9,     -999.0,9,     -999.0,9,     -999.0,9,     0.0134,1,     4.7041,1,     -999.0,9,     -999.0,9,     -999.0,9
33RR20220430,        P02,      50,          2,         20,         20,2,20220519,       0607,    30.0006,   161.0654,       5902,   975.4,2,   4.0364,2,  34.2305,2,  34.2340,2,     43.4,2,    43.6,2,  111.08,2,   41.10,2,    0.00,2,    2.91,2,   0.582,2,   0.329,2,   0.1667,2,  2331.7,2,  2340.1,2,   7.3433,2,    24.99,2, -999.00,9,  -999.0,9, -999.00,9, -999.00,9,       45.6,2, 20220519,      755,  30.0006, 161.0653,     4.0360,2,     -999.0,9,     -999.0,9,     -999.0,9,     -999.0,9,     0.0134,1,     4.7043,1,     -999.0,9,     -999.0,9,     -999.0,9
33RR20220430,        P02,      50,          2,         19,         19,2,20220519,       0607,    30.0006,   161.0654,       5902,  1075.7,2,   3.5758,2,  34.3138,2,  34.3148,2,     33.4,2,    33.6,2,  124.36,2,   42.39,2,    0.00,2,    3.00,2,   0.275,2,   0.155,2,   0.0771,2,  2352.4,2,  2357.9,2,   7.3323,2,    25.01,2, -999.00,9,  -999.0,9, -999.00,1, -999.00,1,       47.9,2, 20220519,      752,  30.0006, 161.0654,     3.5754,2,     -999.0,9,     -999.0,9,     -999.0,9,     -999.0,9,     0.0134,1,     4.7041,1,     -999.0,9,     -999.0,9,     -999.0,9
33RR20220430,        P02,      50,          2,         18,         18,2,20220519,       0607,    30.0006,   161.0654,       5902,  1176.7,2,   3.2176,2,  34.3624,2,  34.3651,2,     32.7,2,    32.8,2,  135.78,2,   42.67,2,    0.00,2,    3.02,2,   0.204,2,   0.118,2,   0.0000,2,  -999.0,9,  -999.0,9,-999.0000,9,  -999.00,9, -999.00,9,  -999.0,9, -999.00,9, -999.00,9,       48.7,2, 20220519,      749,  30.0005, 161.0654,     3.2155,2,     -999.0,9,     -999.0,9,     -999.0,9,     -999.0,9,     0.0132,1,     4.7032,1,     -999.0,9,     -999.0,9,     -999.0,9
33RR20220430,        P02,      50,          2,         17,         17,2,20220519,       0607,    30.0006,   161.0654,       5902,  1277.1,2,   2.9714,2,  34.4105,2,  34.4120,2,     31.7,2,    31.7,2,  143.39,2,   43.00,2,    0.00,2,    3.03,2,   0.118,2,   0.066,2,   0.0000,2,  2369.7,6,  2375.9,2,   7.3354,2,    25.01,2, -999.00,9,  -999.0,9, -999.00,1, -999.00,1,       47.6,2, 20220519,      746,  30.0005, 161.0654,     2.9708,2,     -999.0,9,     -999.0,9,     -999.0,9,     -999.0,9,     0.0134,1,     4.7034,1,     -999.0,9,     -999.0,9,     -999.0,9
33RR20220430,        P02,      50,          2,         16,         16,2,20220519,       0607,    30.0006,   161.0654,       5902,  1379.6,2,   2.7417,2,  34.4490,2,  34.4504,2,     33.6,2,    33.8,2,  149.35,2,   43.28,2,    0.00,2,    3.00,2,   0.077,2,   0.043,2,   0.0000,2,  2377.7,2,  2385.8,2,   7.3413,2,    25.03,2, -999.00,9,  -999.0,9, -999.00,9, -999.00,9,       46.3,2, 20220519,      743,  30.0006, 161.0654,     2.7408,2,     -999.0,9,     -999.0,9,     -999.0,9,     -999.0,9,     0.0134,1,     4.7032,1,     -999.0,9,     -999.0,9,     -999.0,9
33RR20220430,        P02,      50,          2,         15,         15,2,20220519,       0607,    30.0006,   161.0654,       5902,  1552.5,2,   2.4800,2,  34.5132,2,  34.5137,2,     45.2,2,    45.6,2,  154.81,2,   42.75,2,    0.00,2,    2.96,2,   0.022,2,   0.015,2,   0.0000,2,  2378.5,2,  2394.5,2,   7.3703,2,    25.02,2, -999.00,9,  -999.0,9, -999.00,1, -999.00,1,       42.0,2, 20220519,      739,  30.0006, 161.0654,     2.4804,2,     -999.0,9,     -999.0,9,     -999.0,9,     -999.0,9,     0.0133,1,     4.7056,1,     -999.0,9,     -999.0,9,     -999.0,9
33RR20220430,        P02,      50,          2,         14,         14,2,20220519,       0607,    30.0006,   161.0654,       5902,  1754.9,2,   2.2079,2,  34.5534,2,  34.5543,2,     56.8,2,    56.4,2,  161.16,2,   41.98,2,    0.00,2,    2.91,2,   0.017,2,   0.008,2,   0.0000,2,  2375.6,2,  2402.7,2,   7.3946,2,    25.04,2, -999.00,9,  -999.0,9, -999.00,1, -999.00,1,       37.9,2, 20220519,      734,  30.0006, 161.0654,     2.2040,2,     -999.0,9,     -999.0,9,     -999.0,9,     -999.0,9,     0.0133,1,     4.7056,1,     -999.0,9,     -999.0,9,     -999.0,9
33RR20220430,        P02,      50,          2,         13,         13,2,20220519,       0607,    30.0006,   161.0654,       5902,  1956.4,2,   2.0157,2,  34.5869,2,  34.5889,2,     72.8,2,    73.2,2,  162.03,2,   41.04,2,    0.00,2,    2.82,2,   0.008,2,   0.007,2,   0.0000,2,  2370.1,2,  2408.6,2,   7.4272,2,    25.03,2, -999.00,9,  -999.0,9, -999.00,1, -999.00,1,       34.1,2, 20220519,      729,  30.0005, 161.0654,     2.0155,2,     -999.0,9,     -999.0,9,     -999.0,9,     -999.0,9,     0.0134,1,     4.7068,1,     -999.0,9,     -999.0,9,     -999.0,9
33RR20220430,        P02,      50,          2,         12,         12,2,20220519,       0607,    30.0006,   161.0654,       5902,  2193.8,2,   1.8515,2,  34.6147,2,  34.6156,2,     90.6,2,    90.3,2,  161.64,2,   39.84,2,    0.00,2,    2.76,2,-999.000,9,-999.000,9,-999.0000,9,  -999.0,9,  -999.0,9,-999.0000,9,  -999.00,9, -999.00,9,  -999.0,9, -999.00,9, -999.00,9,     -999.0,9, 20220519,      725,  30.0006, 161.0653,     1.8522,2,     -999.0,9,     -999.0,9,     -999.0,9,     -999.0,9,     0.0134,1,     4.7069,1,     -999.0,9,     -999.0,9,     -999.0,9
33RR20220430,        P02,      50,          2,         11,         11,2,20220519,       0607,    30.0006,   161.0654,       5902,  2446.8,2,   1.7297,2,  34.6365,2,  34.6364,2,    109.0,2,   109.1,2,  157.43,2,   38.61,2,    0.00,2,    2.66,2,   0.005,2,   0.003,2,   0.0000,2,  -999.0,9,  -999.0,9,-999.0000,9,  -999.00,9, -999.00,9,  -999.0,9, -999.00,1, -999.00,1,       27.2,2, 20220519,      719,  30.0005, 161.0654,     1.7296,2,     -999.0,9,     -999.0,9,     -999.0,9,     -999.0,9,     0.0122,1,     4.7084,1,     -999.0,9,     -999.0,9,     -999.0,9
33RR20220430,        P02,      50,          2,         10,         10,2,20220519,       0607,    30.0006,   161.0654,       5902,  2701.8,2,   1.6480,2,  34.6488,2,  34.6486,2,    117.7,2,   118.0,2,  157.24,2,   38.06,2,    0.00,2,    2.61,2,-999.000,9,-999.000,9,-999.0000,9,  2344.8,2,  2413.4,2,   7.5136,2,    25.03,2, -999.00,9,  -999.0,9, -999.00,9, -999.00,9,     -999.0,9, 20220519,      714,  30.0006, 161.0654,     1.6479,2,     -999.0,9,     -999.0,9,     -999.0,9,     -999.0,9,     0.0122,1,     4.7087,1,     -999.0,9,     -999.0,9,     -999.0,9
33RR20220430,        P02,      50,          2,          9,          9,2,20220519,       0607,    30.0006,   161.0654,       5902,  2957.6,2,   1.5880,2,  34.6592,2,  34.6586,2,    127.6,2,   127.8,2,  154.31,2,   37.48,2,    0.00,2,    2.57,2,   0.006,2,   0.000,2,   0.0000,2,  -999.0,9,  -999.0,9,-999.0000,9,  -999.00,9, -999.00,9,  -999.0,9, -999.00,1, -999.00,1,       24.8,2, 20220519,      708,  30.0006, 161.0654,     1.5882,2,     -999.0,9,     -999.0,9,     -999.0,9,     -999.0,9,     0.0129,1,     4.7092,1,     -999.0,9,     -999.0,9,     -999.0,9
33RR20220430,        P02,      50,          2,          8,          8,2,20220519,       0607,    30.0006,   161.0654,       5902,  3248.0,2,   1.5447,2,  34.6670,2,  34.6673,2,    135.1,2,   135.7,2,  153.82,2,   37.03,2,    0.00,2,    2.53,2,-999.000,9,-999.000,9,-999.0000,9,  -999.0,9,  -999.0,9,-999.0000,9,  -999.00,9, -999.00,9,  -999.0,9, -999.00,9, -999.00,9,     -999.0,9, 20220519,      702,  30.0005, 161.0654,     1.5453,2,     -999.0,9,     -999.0,9,     -999.0,9,     -999.0,9,     0.0122,1,     4.7093,1,     -999.0,9,     -999.0,9,     -999.0,9
33RR20220430,        P02,      50,          2,          7,          7,2,20220519,       0607,    30.0006,   161.0654,       5902,  3622.3,2,   1.5042,2,  34.6741,2,  34.6737,2,    141.5,2,   141.3,2,  152.74,2,   36.65,2,    0.00,2,    2.49,2,   0.004,2,   0.000,2,   0.0000,2,  2330.0,2,  2415.1,2,   7.5555,2,    25.02,2, -999.00,9,  -999.0,9, -999.00,1, -999.00,1,       22.8,2, 20220519,      655,  30.0006, 161.0654,     1.5040,2,     -999.0,9,     -999.0,9,     -999.0,9,     -999.0,9,     0.0122,1,     4.7078,1,     -999.0,9,     -999.0,9,     -999.0,9
33RR20220430,        P02,      50,          2,          6,          6,2,20220519,       0607,    30.0006,   161.0654,       5902,  4030.1,2,   1.4783,2,  34.6807,2,  34.6800,2,    148.9,2,   149.0,2,  151.18,2,   36.12,2,    0.00,2,    2.46,2,-999.000,9,-999.000,9,-999.0000,9,  -999.0,9,  -999.0,9,-999.0000,9,  -999.00,9, -999.00,9,  -999.0,9, -999.00,9, -999.00,9,     -999.0,9, 20220519,      647,  30.0006, 161.0654,     1.4783,2,     -999.0,9,     -999.0,9,     -999.0,9,     -999.0,9,     0.0128,1,     4.7079,1,     -999.0,9,     -999.0,9,     -999.0,9
33RR20220430,        P02,      50,          2,          5,          5,2,20220519,       0607,    30.0006,   161.0654,       5902,  4442.4,2,   1.4792,2,  34.6852,2,  34.6846,2,    155.3,2,   155.2,2,  149.23,2,   35.68,2,    0.00,2,    2.43,2,   0.006,2,   0.000,2,   0.0000,2,  2319.9,2,  2413.4,2,   7.5773,2,    25.02,2, -999.00,9,  -999.0,9, -999.00,1, -999.00,1,       21.4,2, 20220519,      639,  30.0006, 161.0654,     1.4791,2,     -999.0,9,     -999.0,9,     -999.0,9,     -999.0,9,     0.0125,1,     4.7071,1,     -999.0,9,     -999.0,9,     -999.0,9
33RR20220430,        P02,      50,          2,          4,          4,2,20220519,       0607,    30.0006,   161.0654,       5902,  4853.3,2,   1.4891,2,  34.6890,2,  34.6875,2,    161.7,2,   161.5,2,  144.05,2,   35.23,2,    0.00,2,    2.40,2,-999.000,9,-999.000,9,-999.0000,9,  -999.0,9,  -999.0,9,-999.0000,9,  -999.00,9, -999.00,9,  -999.0,9, -999.00,9, -999.00,9,     -999.0,9, 20220519,      631,  30.0006, 161.0654,     1.4892,2,     -999.0,9,     -999.0,9,     -999.0,9,     -999.0,9,     0.0121,1,     4.7085,1,     -999.0,9,     -999.0,9,     -999.0,9