BOTTLE,20230801CCHSIOCBG
EXPOCODE,SECT_ID,STNNBR,CASTNO,SAMPNO,BTLNBR,BTLNBR_FLAG_W,DATE,TIME,LATITUDE,LONGITUDE,DEPTH,CTDPRS,CTDPRS_FLAG_W,CTDTMP,CTDTMP_FLAG_W,CTDSAL,CTDSAL_FLAG_W,SALNTY,SALNTY_FLAG_W,CTDOXY,CTDOXY_FLAG_W,OXYGEN,OXYGEN_FLAG_W,SILCAT,SILCAT_FLAG_W,NITRAT,NITRAT_FLAG_W,NITRIT,NITRIT_FLAG_W,PHSPHT,PHSPHT_FLAG_W,CFC-11,CFC-11_FLAG_W,CFC-12,CFC-12_FLAG_W,SF6,SF6_FLAG_W,TCARBN,TCARBN_FLAG_W,ALKALI,ALKALI_FLAG_W,PH_TOT,PH_TOT_FLAG_W,PH_TMP,PH_TMP_FLAG_W,DELC13,DELC13_FLAG_W,DELC14,DELC14_FLAG_W,DOC,DOC_FLAG_W,TDN,TDN_FLAG_W,N2O,N2O_FLAG_W,BTL_DATE,BTL_TIME,BTL_LAT,BTL_LON,REFTMP,REFTMP_FLAG_W,POC,POC_FLAG_W,PON,PON_FLAG_W,POP,POP_FLAG_W,PCOD,PCOD_FLAG_W,CTDFLUOR,CTDFLUOR_FLAG_W,CTDXMISS,CTDXMISS_FLAG_W,HPLC,HPLC_FLAG_W,DNA,DNA_FLAG_W,FCM,FCM_FLAG_W
,,,,,,,,,,,METERS,DBAR,,ITS-90,,PSS-78,,PSS-78,,UMOL/KG,,UMOL/KG,,UMOL/KG,,UMOL/KG,,UMOL/KG,,UMOL/KG,,PMOL/KG,,PMOL/KG,,FMOL/KG,,UMOL/KG,,UMOL/KG,,,,DEG C,,/MILLE,,/MILLE,,UMOL/KG,,UMOL/KG,,NMOL/KG,,,,,,ITS-90,,UG/L,,UG/L,,UG/L,,UG/L,,VOLTS,,VOLTS,,,,,,,
33RR20220430,        P02,     111,          1,         36,         36,2,20220606,       1339,    30.0002,  -164.6754,       5522,     4.8,2,  23.9038,2,  35.0120,2,  34.9967,2,    214.9,2,   215.0,2,    0.00,2,    0.05,2,    0.00,2,    0.00,2,   1.581,2,   1.073,2,   1.9381,2,  2016.7,2,  2300.1,2,   8.0097,2,    24.99,2, -999.00,9,  -999.0,9, -999.00,9, -999.00,9,        7.2,2, 20220606,     1547,  30.0002,-164.6754,    23.9065,2,     -999.0,9,     -999.0,9,     -999.0,9,     -999.0,9,     0.0134,1,     4.6398,1,     -999.0,9,     -999.0,9,     -999.0,9
33RR20220430,        P02,     111,          1,         35,         35,2,20220606,       1339,    30.0002,  -164.6754,       5522,    24.8,2,  22.3558,2,  35.0866,2,  35.0728,2,    224.1,2,   224.6,2,    0.29,2,    0.02,2,    0.00,2,    0.00,2,   1.711,2,   1.114,2,   2.0456,2,  2015.3,2,  2305.7,2,   8.0175,2,    25.03,2, -999.00,9,  -999.0,9, -999.00,9, -999.00,9,        7.6,2, 20220606,     1545,  30.0002,-164.6754,    22.3522,2,     -999.0,9,     -999.0,9,     -999.0,9,     -999.0,9,     0.0147,1,     4.6327,1,     -999.0,9,     -999.0,9,     -999.0,9
33RR20220430,        P02,     111,          1,         34,         34,2,20220606,       1339,    30.0002,  -164.6754,       5522,    51.6,2,  20.2836,2,  35.0260,2,  35.0205,2,    234.6,2,   232.9,2,    0.39,2,    0.02,2,    0.00,2,    0.00,2,   1.851,2,   1.197,2,   2.1031,2,  2025.2,2,  2300.8,2,   7.9990,2,    24.97,2, -999.00,9,  -999.0,9, -999.00,9, -999.00,9,        7.9,2, 20220606,     1544,  30.0002,-164.6754,    20.3137,2,     -999.0,9,     -999.0,9,     -999.0,9,     -999.0,9,     0.0147,1,     4.6354,1,     -999.0,9,     -999.0,9,     -999.0,9
33RR20220430,        P02,     111,          1,         33,         33,2,20220606,       1339,    30.0002,  -164.6754,       5522,    76.5,2,  18.9243,2,  34.8965,2,  34.8792,2,    226.1,2,   225.7,2,    0.59,2,    0.01,2,    0.00,2,    0.03,2,   1.921,2,   1.255,2,   2.1587,2,  2034.8,2,  2291.6,2,   7.9685,2,    25.01,2, -999.00,9,  -999.0,9, -999.00,9, -999.00,9,        8.4,2, 20220606,     1542,  30.0002,-164.6754,    18.9248,2,     -999.0,9,     -999.0,9,     -999.0,9,     -999.0,9,     0.0195,1,     4.6493,1,     -999.0,9,     -999.0,9,     -999.0,9
33RR20220430,        P02,     111,          1,         32,         32,2,20220606,       1339,    30.0002,  -164.6754,       5522,   101.1,2,  18.0199,2,  34.7943,2,  34.7775,2,    219.0,2,   218.9,2,    0.98,2,    0.89,2,    0.06,2,    0.12,2,   2.026,2,   1.311,2,   2.2281,2,  2044.1,2,  2285.0,2,   7.9390,2,    24.99,2, -999.00,9,  -999.0,9, -999.00,9, -999.00,9,        9.3,2, 20220606,     1540,  30.0002,-164.6754,    18.0096,2,     -999.0,9,     -999.0,9,     -999.0,9,     -999.0,9,     0.0478,1,     4.6310,1,     -999.0,9,     -999.0,9,     -999.0,9
33RR20220430,        P02,     111,          1,         31,         31,2,20220606,       1339,    30.0002,  -164.6754,       5522,   151.4,2,  15.7767,2,  34.5652,2,  34.5518,2,    213.3,2,   213.0,2,    2.74,2,    4.79,2,    0.02,2,    0.35,2,   2.245,2,   1.437,2,   2.1000,2,  2062.5,2,  2271.6,2,   7.8834,2,    25.00,2, -999.00,9,  -999.0,9, -999.00,9, -999.00,9,       11.5,2, 20220606,     1538,  30.0002,-164.6754,    15.7760,2,     -999.0,9,     -999.0,9,     -999.0,9,     -999.0,9,     0.0216,1,     4.6723,1,     -999.0,9,     -999.0,9,     -999.0,9
33RR20220430,        P02,     111,          1,         30,         30,2,20220606,       1339,    30.0002,  -164.6754,       5522,   202.0,2,  14.3210,2,  34.4654,2,  34.4575,2,    213.6,2,   213.6,2,    5.37,2,    7.31,2,    0.00,2,    0.51,2,   2.395,2,   1.523,2,   2.1525,2,  -999.0,9,  -999.0,9,-999.0000,9,  -999.00,9, -999.00,9,  -999.0,9, -999.00,9, -999.00,9,       13.3,2, 20220606,     1537,  30.0002,-164.6754,    14.3261,2,     -999.0,9,     -999.0,9,     -999.0,9,     -999.0,9,     0.0122,1,     4.6858,1,     -999.0,9,     -999.0,9,     -999.0,9
33RR20220430,        P02,     111,          1,         29,         29,2,20220606,       1339,    30.0002,  -164.6754,       5522,   251.7,2,  13.3774,2,  34.4047,2,  34.3915,2,    217.5,2,   217.7,2,    7.82,2,    8.95,2,    0.00,2,    0.63,2,   2.510,2,   1.581,2,   2.4025,2,  2078.8,2,  2267.0,2,   7.8306,2,    25.02,2, -999.00,9,  -999.0,9, -999.00,9, -999.00,9,       14.1,2, 20220606,     1535,  30.0002,-164.6754,    13.3720,2,     -999.0,9,     -999.0,9,     -999.0,9,     -999.0,9,     0.0122,1,     4.6886,1,     -999.0,9,     -999.0,9,     -999.0,9
33RR20220430,        P02,     111,          1,         28,         28,2,20220606,       1339,    30.0002,  -164.6754,       5522,   302.7,2,  12.0322,2,  34.2818,2,  34.2754,2,    215.6,2,   215.6,2,   10.75,2,   11.33,2,    0.00,2,    0.78,2,   2.646,2,   1.649,2,   2.0903,2,  -999.0,9,  -999.0,9,-999.0000,9,  -999.00,9, -999.00,9,  -999.0,9, -999.00,9, -999.00,9,       15.8,2, 20220606,     1533,  30.0002,-164.6754,    12.0325,2,     -999.0,9,     -999.0,9,     -999.0,9,     -999.0,9,     0.0122,1,     4.6922,1,     -999.0,9,     -999.0,9,     -999.0,9
33RR20220430,        P02,     111,          1,         27,         27,2,20220606,       1339,    30.0002,  -164.6754,       5522,   352.9,2,  11.0075,2,  34.2048,2,  34.1981,2,    212.7,2,   213.0,2,   14.66,2,   13.63,2,    0.00,2,    0.95,2,   2.749,2,   1.710,2,   2.1378,2,  2107.3,2,  2263.0,2,   7.7610,2,    25.00,2, -999.00,9,  -999.0,9, -999.00,9, -999.00,9,       17.1,2, 20220606,     1531,  30.0002,-164.6754,    11.0038,2,     -999.0,9,     -999.0,9,     -999.0,9,     -999.0,9,     0.0122,1,     4.6931,1,     -999.0,9,     -999.0,9,     -999.0,9
33RR20220430,        P02,     111,          1,         26,         26,2,20220606,       1339,    30.0002,  -164.6754,       5522,   402.7,2,   9.9220,2,  34.1231,2,  34.1168,2,    203.1,2,   203.7,2,   19.94,2,   16.68,2,    0.00,2,    1.15,2,   2.795,2,   1.744,2,   2.0235,2,  -999.0,9,  -999.0,9,-999.0000,9,  -999.00,9, -999.00,9,  -999.0,9, -999.00,9, -999.00,9,       19.1,2, 20220606,     1529,  30.0002,-164.6754,     9.9171,2,     -999.0,9,     -999.0,9,     -999.0,9,     -999.0,9,     0.0122,1,     4.6946,1,     -999.0,9,     -999.0,9,     -999.0,9
33RR20220430,        P02,     111,          1,         25,         25,2,20220606,       1339,    30.0002,  -164.6754,       5522,   504.0,2,   7.7599,2,  34.0213,2,  34.0196,2,    160.8,2,   161.1,2,   38.11,2,   24.85,2,    0.00,2,    1.73,2,   2.608,6,   1.596,6,   1.4142,6,  2184.0,2,  2273.2,2,   7.5943,2,    25.00,2, -999.00,9,  -999.0,9, -999.00,9, -999.00,9,       25.5,6, 20220606,     1527,  30.0002,-164.6754,     7.7810,2,     -999.0,9,     -999.0,9,     -999.0,9,     -999.0,9,     0.0130,1,     4.6964,1,     -999.0,9,     -999.0,9,     -999.0,9
33RR20220430,        P02,     111,          1,         24,         24,2,20220606,       1339,    30.0002,  -164.6754,       5522,   607.0,2,   5.9211,2,  34.0059,2,  34.0053,2,    107.6,2,   107.5,2,   62.74,2,   33.29,2,    0.00,2,    2.35,2,   1.931,2,   1.181,2,   0.7882,2,  2249.8,2,  2288.7,2,   7.4543,2,    25.00,2, -999.00,9,  -999.0,9, -999.00,9, -999.00,9,       33.5,2, 20220606,     1524,  30.0002,-164.6754,     5.9185,2,     -999.0,9,     -999.0,9,     -999.0,9,     -999.0,9,     0.0127,1,     4.6981,1,     -999.0,9,     -999.0,9,     -999.0,9
33RR20220430,        P02,     111,          1,         23,         23,2,20220606,       1339,    30.0002,  -164.6754,       5522,   707.3,2,   4.8778,2,  34.0783,2,  34.0797,2,     60.2,2,    59.9,2,   85.51,2,   39.21,2,    0.00,2,    2.77,2,   1.065,2,   0.635,2,   0.3110,2,  2297.6,2,  2311.1,2,   7.3605,2,    25.00,2, -999.00,9,  -999.0,9, -999.00,9, -999.00,9,       42.2,2, 20220606,     1522,  30.0002,-164.6754,     4.8831,2,     -999.0,9,     -999.0,9,     -999.0,9,     -999.0,9,     0.0134,1,     4.6987,1,     -999.0,9,     -999.0,9,     -999.0,9
33RR20220430,        P02,     111,          1,         22,         22,2,20220606,       1339,    30.0002,  -164.6754,       5522,   807.2,2,   4.3243,2,  34.1799,2,  34.1830,2,     30.1,3,    30.6,2,  102.90,2,   42.43,2,    0.00,2,    3.01,2,   0.412,2,   0.236,2,   0.0922,2,  -999.0,9,  -999.0,9,-999.0000,9,  -999.00,9, -999.00,9,  -999.0,9, -999.00,9, -999.00,9,       48.9,2, 20220606,     1519,  30.0002,-164.6754,     4.3250,2,     -999.0,9,     -999.0,9,     -999.0,9,     -999.0,9,     0.0134,1,     4.6994,1,     -999.0,9,     -999.0,9,     -999.0,9
33RR20220430,        P02,     111,          1,         21,         21,2,20220606,       1339,    30.0002,  -164.6754,       5522,   909.0,2,   3.9041,2,  34.2765,2,  34.2770,2,     17.8,3,    17.5,2,  116.47,2,   43.75,2,    0.00,2,    3.13,2,   0.129,2,   0.076,2,   0.0000,2,  2352.0,2,  2347.4,2,   7.2977,2,    25.00,2, -999.00,9,  -999.0,9, -999.00,9, -999.00,9,       52.7,2, 20220606,     1516,  30.0002,-164.6754,     3.9040,2,     -999.0,9,     -999.0,9,     -999.0,9,     -999.0,9,     0.0134,1,     4.6996,1,     -999.0,9,     -999.0,9,     -999.0,9
33RR20220430,        P02,     111,          1,         20,         20,2,20220606,       1339,    30.0002,  -164.6754,       5522,  1015.0,2,   3.6196,2,  34.3620,2,  34.3621,2,     17.2,2,    17.3,2,  125.75,2,   44.13,2,    0.00,2,    3.17,2,   0.038,2,   0.022,2,   0.0000,2,  2364.4,2,  2362.8,2,   7.3090,2,    25.01,2, -999.00,9,  -999.0,9, -999.00,9, -999.00,9,       54.9,2, 20220606,     1513,  30.0002,-164.6754,     3.6190,2,     -999.0,9,     -999.0,9,     -999.0,9,     -999.0,9,     0.0134,1,     4.6995,1,     -999.0,9,     -999.0,9,     -999.0,9
33RR20220430,        P02,     111,          1,         19,         19,2,20220606,       1339,    30.0002,  -164.6754,       5522,  1116.7,2,   3.3984,2,  34.4218,2,  34.4218,2,     22.7,3,    23.4,2,  131.99,2,   44.01,2,    0.00,2,    3.15,2,   0.014,2,   0.009,2,   0.0000,2,  2370.0,2,  2372.9,2,   7.3257,2,    25.00,2, -999.00,9,  -999.0,9, -999.00,9, -999.00,9,       51.8,2, 20220606,     1511,  30.0002,-164.6754,     3.3982,2,     -999.0,9,     -999.0,9,     -999.0,9,     -999.0,9,     0.0134,1,     4.6996,1,     -999.0,9,     -999.0,9,     -999.0,9
33RR20220430,        P02,     111,          1,         18,         18,2,20220606,       1339,    30.0002,  -164.6754,       5522,  1217.8,2,   3.1976,2,  34.4664,2,  34.4663,2,     30.2,3,    30.9,2,  136.39,2,   43.66,2,    0.00,2,    3.12,2,   0.010,2,   0.009,2,   0.0000,2,  -999.0,9,  -999.0,9,-999.0000,9,  -999.00,9, -999.00,9,  -999.0,9, -999.00,9, -999.00,9,       48.1,2, 20220606,     1508,  30.0002,-164.6754,     3.2003,2,     -999.0,9,     -999.0,9,     -999.0,9,     -999.0,9,     0.0134,1,     4.7004,1,     -999.0,9,     -999.0,9,     -999.0,9
33RR20220430,        P02,     111,          1,         17,         17,2,20220606,       1339,    30.0002,  -164.6754,       5522,  1320.1,2,   2.9568,2,  34.5050,2,  34.5074,2,     39.4,3,    38.8,2,  141.85,2,   43.24,2,    0.00,2,    3.07,2,   0.007,2,   0.004,2,   0.0000,2,  2375.2,6,  2390.0,2,   7.3661,2,    25.01,2, -999.00,9,  -999.0,9, -999.00,9, -999.00,9,       44.1,2, 20220606,     1506,  30.0002,-164.6754,     2.9555,2,     -999.0,9,     -999.0,9,     -999.0,9,     -999.0,9,     0.0134,1,     4.7008,1,     -999.0,9,     -999.0,9,     -999.0,9
33RR20220430,        P02,     111,          1,         16,         16,2,20220606,       1339,    30.0002,  -164.6754,       5522,  1421.1,2,   2.7861,2,  34.5271,2,  34.5280,2,     45.8,3,    45.2,2,  145.76,2,   42.92,2,    0.00,2,    3.04,2,   0.007,2,   0.000,2,   0.0000,2,  2374.5,2,  -999.0,1,   7.3779,2,    25.00,2, -999.00,9,  -999.0,9, -999.00,9, -999.00,9,       42.0,2, 20220606,     1503,  30.0002,-164.6754,     2.7862,2,     -999.0,9,     -999.0,9,     -999.0,9,     -999.0,9,     0.0134,1,     4.7020,1,     -999.0,9,     -999.0,9,     -999.0,9
33RR20220430,        P02,     111,          1,         15,         15,2,20220606,       1339,    30.0002,  -164.6754,       5522,  1622.5,2,   2.4593,2,  34.5635,2,  34.5647,2,     66.6,3,    65.6,2,  150.25,2,   41.65,2,    0.00,2,    2.91,2,   0.009,2,   0.000,2,   0.0000,2,  2367.3,2,  2403.0,2,   7.4201,2,    25.01,2, -999.00,9,  -999.0,9, -999.00,9, -999.00,9,       36.7,2, 20220606,     1459,  30.0003,-164.6754,     2.4566,2,     -999.0,9,     -999.0,9,     -999.0,9,     -999.0,9,     0.0134,1,     4.7031,1,     -999.0,9,     -999.0,9,     -999.0,9
33RR20220430,        P02,     111,          1,         14,         14,2,20220606,       1339,    30.0002,  -164.6754,       5522,  1825.1,2,   2.1723,2,  34.5896,2,  34.5906,2,     75.4,2,    76.1,2,  157.28,2,   41.07,2,    0.00,2,    2.88,2,   0.008,2,   0.000,2,   0.0000,2,  2369.0,2,  2408.6,2,   7.4367,2,    25.00,2, -999.00,9,  -999.0,9, -999.00,9, -999.00,9,       34.2,2, 20220606,     1454,  30.0002,-164.6754,     2.1723,2,     -999.0,9,     -999.0,9,     -999.0,9,     -999.0,9,     0.0134,1,     4.7031,1,     -999.0,9,     -999.0,9,     -999.0,9
33RR20220430,        P02,     111,          1,         13,         13,2,20220606,       1339,    30.0002,  -164.6754,       5522,  2029.8,2,   1.9567,2,  34.6111,2,  34.6119,2,     84.6,2,    85.1,2,  162.16,2,   40.57,2,    0.00,2,    2.83,2,   0.006,2,   0.000,2,   0.0000,2,  2365.9,2,  2414.0,2,   7.4541,2,    24.99,2, -999.00,9,  -999.0,9, -999.00,9, -999.00,9,       31.7,2, 20220606,     1450,  30.0002,-164.6754,     1.9573,2,     -999.0,9,     -999.0,9,     -999.0,9,     -999.0,9,     0.0134,1,     4.7041,1,     -999.0,9,     -999.0,9,     -999.0,9
33RR20220430,        P02,     111,          1,         12,         12,2,20220606,       1339,    30.0002,  -164.6754,       5522,  2282.4,2,   1.7893,2,  34.6305,2,  34.6311,2,     95.1,2,    94.7,2,  166.26,2,   39.54,2,    0.00,2,    2.79,2,   0.005,2,   0.000,2,   0.0000,2,  -999.0,9,  -999.0,9,-999.0000,9,  -999.00,9, -999.00,9,  -999.0,9, -999.00,9, -999.00,9,       29.4,2, 20220606,     1445,  30.0002,-164.6754,     1.7890,2,     -999.0,9,     -999.0,9,     -999.0,9,     -999.0,9,     0.0122,1,     4.7034,1,     -999.0,9,     -999.0,9,     -999.0,9
33RR20220430,        P02,     111,          1,         11,         11,2,20220606,       1339,    30.0002,  -164.6754,       5522,  2536.4,2,   1.6749,2,  34.6434,2,  34.6447,2,    106.6,2,   107.1,2,  165.09,2,   39.11,2,    0.00,2,    2.74,2,   0.006,2,   0.000,2,   0.0000,2,  2355.1,2,  2418.6,2,   7.4959,2,    25.00,2, -999.00,9,  -999.0,9, -999.00,9, -999.00,9,       27.5,2, 20220606,     1439,  30.0002,-164.6754,     1.6738,2,     -999.0,9,     -999.0,9,     -999.0,9,     -999.0,9,     0.0122,1,     4.7042,1,     -999.0,9,     -999.0,9,     -999.0,9
33RR20220430,        P02,     111,          1,         10,         10,2,20220606,       1339,    30.0002,  -164.6754,       5522,  2792.1,2,   1.6021,2,  34.6535,2,  34.6539,2,    115.9,2,   116.1,2,  164.11,2,   38.49,2,    0.00,2,    2.69,2,-999.000,9,-999.000,9,-999.0000,9,  -999.0,9,  -999.0,9,-999.0000,9,  -999.00,9, -999.00,9,  -999.0,9, -999.00,9, -999.00,9,     -999.0,9, 20220606,     1434,  30.0002,-164.6754,     1.6021,2,     -999.0,9,     -999.0,9,     -999.0,9,     -999.0,9,     0.0122,1,     4.7044,1,     -999.0,9,     -999.0,9,     -999.0,9
33RR20220430,        P02,     111,          1,          9,          9,2,20220606,       1339,    30.0002,  -164.6754,       5522,  3047.7,2,   1.5536,2,  34.6613,2,  34.6616,2,    123.9,2,   123.7,2,  162.74,2,   37.96,2,    0.00,2,    2.64,2,   0.004,2,   0.000,2,   0.0000,2,  2344.1,2,  2421.7,2,   7.5271,2,    25.00,2, -999.00,9,  -999.0,9, -999.00,9, -999.00,9,       24.9,2, 20220606,     1429,  30.0002,-164.6754,     1.5536,2,     -999.0,9,     -999.0,9,     -999.0,9,     -999.0,9,     0.0126,1,     4.7044,1,     -999.0,9,     -999.0,9,     -999.0,9
33RR20220430,        P02,     111,          1,          8,          8,2,20220606,       1339,    30.0002,  -164.6754,       5522,  3352.5,2,   1.5063,2,  34.6695,2,  34.6702,2,    133.3,2,   133.6,2,  160.69,2,   37.33,2,    0.00,2,    2.59,2,-999.000,9,-999.000,9,-999.0000,9,  -999.0,9,  -999.0,9,-999.0000,9,  -999.00,9, -999.00,9,  -999.0,9, -999.00,9, -999.00,9,     -999.0,9, 20220606,     1423,  30.0002,-164.6754,     1.5061,2,     -999.0,9,     -999.0,9,     -999.0,9,     -999.0,9,     0.0121,1,     4.7049,1,     -999.0,9,     -999.0,9,     -999.0,9
33RR20220430,        P02,     111,          1,          7,          7,2,20220606,       1339,    30.0002,  -164.6754,       5522,  3661.5,2,   1.4800,2,  34.6757,2,  34.6765,2,    140.7,2,   140.7,2,  158.74,2,   36.87,2,    0.00,2,    2.56,2,   0.005,2,   0.000,2,   0.0000,2,  2333.7,2,  2422.0,2,   7.5577,2,    25.00,2, -999.00,9,  -999.0,9, -999.00,9, -999.00,9,       23.3,2, 20220606,     1417,  30.0002,-164.6754,     1.4800,2,     -999.0,9,     -999.0,9,     -999.0,9,     -999.0,9,     0.0121,1,     4.7055,1,     -999.0,9,     -999.0,9,     -999.0,9
33RR20220430,        P02,     111,          1,          6,          6,2,20220606,       1339,    30.0002,  -164.6754,       5522,  3967.0,2,   1.4724,2,  34.6801,2,  34.6806,2,    146.1,2,   146.2,2,  157.17,2,   36.50,2,    0.00,2,    2.53,2,-999.000,9,-999.000,9,-999.0000,9,  -999.0,9,  -999.0,9,-999.0000,9,  -999.00,9, -999.00,9,  -999.0,9, -999.00,9, -999.00,9,     -999.0,9, 20220606,     1411,  30.0002,-164.6754,     1.4720,2,     -999.0,9,     -999.0,9,     -999.0,9,     -999.0,9,     0.0122,1,     4.7056,1,     -999.0,9,     -999.0,9,     -999.0,9
33RR20220430,        P02,     111,          1,          5,          5,2,20220606,       1339,    30.0002,  -164.6754,       5522,  4275.1,2,   1.4817,2,  34.6826,2,  34.6824,2,    149.8,2,   149.5,2,  155.80,2,   36.31,2,    0.00,2,    2.50,2,   0.005,2,   0.000,2,   0.0000,2,  2332.0,2,  2421.1,2,   7.5727,2,    25.00,2, -999.00,9,  -999.0,9, -999.00,9, -999.00,9,       22.1,2, 20220606,     1405,  30.0002,-164.6754,     1.4818,2,     -999.0,9,     -999.0,9,     -999.0,9,     -999.0,9,     0.0122,1,     4.7054,1,     -999.0,9,     -999.0,9,     -999.0,9
33RR20220430,        P02,     111,          1,          4,          4,2,20220606,       1339,    30.0002,  -164.6754,       5522,  4581.7,2,   1.4985,2,  34.6846,2,  34.6842,2,    152.6,2,   152.6,2,  154.53,2,   36.09,2,    0.00,2,    2.50,2,-999.000,9,-999.000,9,-999.0000,9,  -999.0,9,  -999.0,9,-999.0000,9,  -999.00,9, -999.00,9,  -999.0,9, -999.00,9, -999.00,9,     -999.0,9, 20220606,     1359,  30.0002,-164.6754,     1.4986,2,     -999.0,9,     -999.0,9,     -999.0,9,     -999.0,9,     0.0127,1,     4.7056,1,     -999.0,9,     -999.0,9,     -999.0,9