BOTTLE,20230801CCHSIOCBG
EXPOCODE,SECT_ID,STNNBR,CASTNO,SAMPNO,BTLNBR,BTLNBR_FLAG_W,DATE,TIME,LATITUDE,LONGITUDE,DEPTH,CTDPRS,CTDPRS_FLAG_W,CTDTMP,CTDTMP_FLAG_W,CTDSAL,CTDSAL_FLAG_W,SALNTY,SALNTY_FLAG_W,CTDOXY,CTDOXY_FLAG_W,OXYGEN,OXYGEN_FLAG_W,SILCAT,SILCAT_FLAG_W,NITRAT,NITRAT_FLAG_W,NITRIT,NITRIT_FLAG_W,PHSPHT,PHSPHT_FLAG_W,CFC-11,CFC-11_FLAG_W,CFC-12,CFC-12_FLAG_W,SF6,SF6_FLAG_W,TCARBN,TCARBN_FLAG_W,ALKALI,ALKALI_FLAG_W,PH_TOT,PH_TOT_FLAG_W,PH_TMP,PH_TMP_FLAG_W,DELC13,DELC13_FLAG_W,DELC14,DELC14_FLAG_W,DOC,DOC_FLAG_W,TDN,TDN_FLAG_W,N2O,N2O_FLAG_W,BTL_DATE,BTL_TIME,BTL_LAT,BTL_LON,REFTMP,REFTMP_FLAG_W,POC,POC_FLAG_W,PON,PON_FLAG_W,POP,POP_FLAG_W,PCOD,PCOD_FLAG_W,CTDFLUOR,CTDFLUOR_FLAG_W,CTDXMISS,CTDXMISS_FLAG_W,HPLC,HPLC_FLAG_W,DNA,DNA_FLAG_W,FCM,FCM_FLAG_W
,,,,,,,,,,,METERS,DBAR,,ITS-90,,PSS-78,,PSS-78,,UMOL/KG,,UMOL/KG,,UMOL/KG,,UMOL/KG,,UMOL/KG,,UMOL/KG,,PMOL/KG,,PMOL/KG,,FMOL/KG,,UMOL/KG,,UMOL/KG,,,,DEG C,,/MILLE,,/MILLE,,UMOL/KG,,UMOL/KG,,NMOL/KG,,,,,,ITS-90,,UG/L,,UG/L,,UG/L,,UG/L,,VOLTS,,VOLTS,,,,,,,
33RR20220430,        P02,      67,          1,         36,         36,2,20220524,       1421,    29.9988,   170.8733,       5597,     4.7,2,  22.9376,2,  35.1560,2,  35.1410,2,    219.3,2,   219.1,2,    0.88,2,    0.00,2,    0.00,2,    0.00,2,   1.776,6,   1.150,6,   1.9324,6,  2018.4,2,  2307.9,2,   8.0191,2,    25.01,2, -999.00,9,  -999.0,9, -999.00,9, -999.00,9,        6.0,6, 20220524,     1631,  29.9988, 170.8733,    22.9427,2,     -999.0,9,     -999.0,9,     -999.0,9,     -999.0,9,     0.0134,1,     4.6393,1,     -999.0,9,     -999.0,9,     -999.0,9
33RR20220430,        P02,      67,          1,         35,         35,2,20220524,       1421,    29.9988,   170.8733,       5597,    34.9,2,  21.0621,2,  35.0882,2,  35.0807,2,    230.0,2,   230.1,2,    1.17,2,    0.00,2,    0.00,2,    0.00,2,   1.923,2,   1.201,2,   2.1230,2,  2025.4,6,  2303.8,2,   8.0053,2,    25.00,2, -999.00,9,  -999.0,9, -999.00,9, -999.00,9,        6.4,2, 20220524,     1629,  29.9989, 170.8734,    21.0363,2,     -999.0,9,     -999.0,9,     -999.0,9,     -999.0,9,     0.0138,1,     4.6306,1,     -999.0,9,     -999.0,9,     -999.0,9
33RR20220430,        P02,      67,          1,         34,         34,2,20220524,       1421,    29.9988,   170.8733,       5597,    60.6,2,  18.4940,2,  34.8428,2,  34.8385,2,    238.4,2,   239.7,2,    1.37,2,    0.00,2,    0.00,2,    0.00,2,   2.087,2,   1.307,2,   2.2244,2,  2021.8,2,  2286.5,2,   7.9886,2,    25.05,2, -999.00,9,  -999.0,9, -999.00,9, -999.00,9,        7.1,2, 20220524,     1627,  29.9988, 170.8733,    18.4888,2,     -999.0,9,     -999.0,9,     -999.0,9,     -999.0,9,     0.0196,1,     4.6181,1,     -999.0,9,     -999.0,9,     -999.0,9
33RR20220430,        P02,      67,          1,         33,         33,2,20220524,       1421,    29.9988,   170.8733,       5597,    87.0,2,  17.8186,2,  34.7941,2,  34.7797,2,    222.6,2,   221.1,2,    2.15,2,    1.32,2,    0.09,2,    0.09,2,   2.133,2,   1.336,2,   2.1139,2,  2035.5,2,  2282.9,2,   7.9566,2,    25.02,2, -999.00,9,  -999.0,9, -999.00,9, -999.00,9,        7.7,2, 20220524,     1625,  29.9987, 170.8733,    17.8183,2,     -999.0,9,     -999.0,9,     -999.0,9,     -999.0,9,     0.0421,1,     4.6122,1,     -999.0,9,     -999.0,9,     -999.0,9
33RR20220430,        P02,      67,          1,         32,         32,2,20220524,       1421,    29.9988,   170.8733,       5597,   117.4,2,  17.2610,2,  34.7430,2,  34.7392,2,    223.3,2,   222.2,2,    2.54,2,    2.34,2,    0.05,2,    0.16,2,   2.149,2,   1.348,2,   2.2574,2,  2039.8,2,  2279.9,2,   7.9571,2,    25.01,2, -999.00,9,  -999.0,9, -999.00,9, -999.00,9,        7.9,2, 20220524,     1624,  29.9987, 170.8733,    17.2404,2,     -999.0,9,     -999.0,9,     -999.0,9,     -999.0,9,     0.0232,1,     4.6605,1,     -999.0,9,     -999.0,9,     -999.0,9
33RR20220430,        P02,      67,          1,         31,         31,2,20220524,       1421,    29.9988,   170.8733,       5597,   167.9,2,  16.2428,2,  34.6657,2,  34.6537,2,    223.7,2,   223.7,2,    3.81,2,    4.01,2,    0.02,2,    0.25,2,   2.226,2,   1.427,2,   2.1935,2,  2045.8,2,  2274.4,2,   7.9242,2,    25.00,2, -999.00,9,  -999.0,9, -999.00,9, -999.00,9,        8.5,2, 20220524,     1622,  29.9987, 170.8733,    16.2433,2,     -999.0,9,     -999.0,9,     -999.0,9,     -999.0,9,     0.0147,1,     4.6791,1,     -999.0,9,     -999.0,9,     -999.0,9
33RR20220430,        P02,      67,          1,         30,         30,2,20220524,       1421,    29.9988,   170.8733,       5597,   217.7,2,  15.7224,2,  34.6376,2,  34.6268,2,    224.7,2,   225.8,2,    4.79,2,    4.81,2,    0.02,2,    0.30,2,   2.299,2,   1.430,2,   2.2312,2,  2051.6,2,  2272.9,2,   7.9146,2,    24.99,2, -999.00,9,  -999.0,9, -999.00,9, -999.00,9,        9.0,2, 20220524,     1620,  29.9987, 170.8733,    15.7222,2,     -999.0,9,     -999.0,9,     -999.0,9,     -999.0,9,     0.0134,1,     4.6799,1,     -999.0,9,     -999.0,9,     -999.0,9
33RR20220430,        P02,      67,          1,         29,         29,2,20220524,       1421,    29.9988,   170.8733,       5597,   267.6,2,  15.5476,2,  34.6586,2,  34.6470,2,    228.5,2,   229.3,2,    5.18,2,    4.91,2,    0.00,2,    0.32,2,   2.271,2,   1.438,2,   2.3155,2,  2050.1,2,  2276.5,2,   7.9172,2,    24.99,2, -999.00,9,  -999.0,9, -999.00,9, -999.00,9,        8.8,2, 20220524,     1618,  29.9987, 170.8733,    15.5474,2,     -999.0,9,     -999.0,9,     -999.0,9,     -999.0,9,     0.0133,1,     4.6767,1,     -999.0,9,     -999.0,9,     -999.0,9
33RR20220430,        P02,      67,          1,         28,         28,2,20220524,       1421,    29.9988,   170.8733,       5597,   318.0,2,  15.2501,2,  34.6208,2,  34.6081,2,    230.0,2,   231.4,2,    5.57,2,    5.10,2,    0.00,2,    0.32,2,   2.313,2,   1.443,2,   2.3309,2,  2052.4,2,  2277.6,2,   7.9094,2,    25.00,2, -999.00,9,  -999.0,9, -999.00,9, -999.00,9,        8.9,2, 20220524,     1616,  29.9987, 170.8733,    15.2503,2,     -999.0,9,     -999.0,9,     -999.0,9,     -999.0,9,     0.0122,1,     4.6828,1,     -999.0,9,     -999.0,9,     -999.0,9
33RR20220430,        P02,      67,          1,         27,         27,2,20220524,       1421,    29.9988,   170.8733,       5597,   368.1,2,  14.4567,2,  34.5433,2,  34.5262,2,    214.3,2,   213.1,2,    8.99,2,    8.15,2,    0.00,2,    0.54,2,   2.387,2,   1.493,2,   2.1053,2,  2073.1,2,  2274.2,2,   7.8635,2,    24.99,2, -999.00,9,  -999.0,9, -999.00,9, -999.00,9,       10.9,2, 20220524,     1615,  29.9987, 170.8733,    14.4607,2,     -999.0,9,     -999.0,9,     -999.0,9,     -999.0,9,     0.0122,1,     4.6864,1,     -999.0,9,     -999.0,9,     -999.0,9
33RR20220430,        P02,      67,          1,         26,         26,2,20220524,       1421,    29.9988,   170.8733,       5597,   439.6,2,  12.6322,2,  34.3943,2,  34.3866,2,    206.3,2,   206.3,2,   14.17,2,   11.63,2,    0.00,2,    0.77,2,   2.522,2,   1.596,2,   2.1123,2,  2099.7,2,  2271.8,2,   7.8068,2,    25.01,2, -999.00,9,  -999.0,9, -999.00,9, -999.00,9,       13.1,2, 20220524,     1613,  29.9987, 170.8733,    12.6340,2,     -999.0,9,     -999.0,9,     -999.0,9,     -999.0,9,     0.0122,1,     4.6885,1,     -999.0,9,     -999.0,9,     -999.0,9
33RR20220430,        P02,      67,          1,         25,         25,2,20220524,       1421,    29.9988,   170.8733,       5597,   539.9,2,  10.0472,2,  34.1750,3,  34.1644,2,    198.4,2,   198.8,2,   23.35,2,   16.90,2,    0.00,2,    1.15,2,   2.744,2,   1.676,2,   1.8520,2,  2131.3,2,  2268.5,2,   7.7199,2,    25.00,2, -999.00,9,  -999.0,9, -999.00,9, -999.00,9,       16.7,2, 20220524,     1610,  29.9988, 170.8733,    10.0576,2,     -999.0,9,     -999.0,9,     -999.0,9,     -999.0,9,     0.0122,1,     4.6970,1,     -999.0,9,     -999.0,9,     -999.0,9
33RR20220430,        P02,      67,          1,         24,         24,2,20220524,       1421,    29.9988,   170.8733,       5597,   642.1,2,   7.5133,2,  34.0135,2,  34.0094,2,    170.5,2,   170.8,2,   41.43,2,   24.11,2,    0.00,2,    1.68,2,   2.606,2,   1.590,2,   1.5315,2,  2184.1,2,  2276.2,2,   7.6055,2,    25.02,2, -999.00,9,  -999.0,9, -999.00,9, -999.00,9,       22.3,2, 20220524,     1607,  29.9987, 170.8733,     7.5199,2,     -999.0,9,     -999.0,9,     -999.0,9,     -999.0,9,     0.0127,1,     4.6983,1,     -999.0,9,     -999.0,9,     -999.0,9
33RR20220430,        P02,      67,          1,         23,         23,2,20220524,       1421,    29.9988,   170.8733,       5597,   742.5,2,   5.8193,2,  34.0350,2,  34.0317,2,    110.6,2,   110.1,2,   66.84,2,   32.75,2,    0.00,2,    2.31,2,   1.837,2,   1.124,2,   0.7647,2,  2252.3,2,  2295.6,2,   7.4654,2,    25.02,2, -999.00,9,  -999.0,9, -999.00,9, -999.00,9,       31.9,2, 20220524,     1605,  29.9988, 170.8733,     5.8180,2,     -999.0,9,     -999.0,9,     -999.0,9,     -999.0,9,     0.0130,1,     4.6987,1,     -999.0,9,     -999.0,9,     -999.0,9
33RR20220430,        P02,      67,          1,         22,         22,2,20220524,       1421,    29.9988,   170.8733,       5597,   840.9,2,   4.9181,2,  34.0949,2,  34.0940,2,     78.0,2,    77.7,2,   85.89,2,   37.13,2,    0.00,2,    2.62,2,   1.320,2,   0.783,2,   0.5145,2,  2292.3,2,  2312.0,2,   7.3969,2,    25.00,2, -999.00,9,  -999.0,9, -999.00,9, -999.00,9,       38.1,2, 20220524,     1602,  29.9988, 170.8733,     4.9165,2,     -999.0,9,     -999.0,9,     -999.0,9,     -999.0,9,     0.0134,1,     4.6995,1,     -999.0,9,     -999.0,9,     -999.0,9
33RR20220430,        P02,      67,          1,         21,         21,2,20220524,       1421,    29.9988,   170.8733,       5597,   943.2,2,   4.1988,2,  34.1953,2,  34.1942,2,     49.7,2,    49.7,2,  104.35,2,   40.45,2,    0.00,2,    2.85,2,   0.726,2,   0.425,2,   0.3569,2,  2329.2,2,  2333.9,2,   7.3479,2,    25.01,2, -999.00,9,  -999.0,9, -999.00,9, -999.00,9,       44.2,2, 20220524,     1600,  29.9987, 170.8733,     4.1971,2,     -999.0,9,     -999.0,9,     -999.0,9,     -999.0,9,     0.0134,1,     4.6995,1,     -999.0,9,     -999.0,9,     -999.0,9
33RR20220430,        P02,      67,          1,         20,         20,2,20220524,       1421,    29.9988,   170.8733,       5597,  1044.2,2,   3.7181,2,  34.2716,2,  34.2703,2,     40.4,3,    41.1,2,  119.30,2,   41.63,2,    0.00,2,    2.94,2,   0.490,2,   0.292,2,   0.0000,2,  2348.7,2,  2348.8,2,   7.3374,2,    25.00,2, -999.00,9,  -999.0,9, -999.00,9, -999.00,9,       46.1,2, 20220524,     1557,  29.9988, 170.8733,     3.7159,2,     -999.0,9,     -999.0,9,     -999.0,9,     -999.0,9,     0.0134,1,     4.6971,1,     -999.0,9,     -999.0,9,     -999.0,9
33RR20220430,        P02,      67,          1,         19,         19,2,20220524,       1421,    29.9988,   170.8733,       5597,  1145.8,2,   3.3792,2,  34.3344,2,  34.3329,2,     33.9,3,    34.5,2,  129.65,2,   42.50,2,    0.00,2,    3.01,2,   0.280,2,   0.162,2,   0.0000,2,  2361.4,6,  2361.8,2,   7.3319,2,    25.01,2, -999.00,9,  -999.0,9, -999.00,9, -999.00,9,       47.2,2, 20220524,     1554,  29.9988, 170.8733,     3.3783,2,     -999.0,9,     -999.0,9,     -999.0,9,     -999.0,9,     0.0134,1,     4.6984,1,     -999.0,9,     -999.0,9,     -999.0,9
33RR20220430,        P02,      67,          1,         18,         18,2,20220524,       1421,    29.9988,   170.8733,       5597,  1247.6,2,   3.0713,2,  34.3908,2,  34.3898,2,     31.7,3,    31.4,2,  138.24,2,   43.01,2,    0.00,2,    3.05,2,   0.153,2,   0.085,2,   0.0000,2,  2373.7,2,  2373.2,2,   7.3310,2,    25.00,2, -999.00,9,  -999.0,9, -999.00,9, -999.00,9,       48.1,2, 20220524,     1552,  29.9987, 170.8733,     3.0724,2,     -999.0,9,     -999.0,9,     -999.0,9,     -999.0,9,     0.0134,1,     4.6986,1,     -999.0,9,     -999.0,9,     -999.0,9
33RR20220430,        P02,      67,          1,         17,         17,2,20220524,       1421,    29.9988,   170.8733,       5597,  1378.0,2,   2.7640,2,  34.4602,2,  34.4601,2,     33.4,2,    33.2,2,  147.12,2,   43.36,2,    0.00,2,    3.06,2,   0.048,2,   0.032,2,   0.0000,2,  2382.3,2,  2388.5,2,   7.3429,2,    25.02,2, -999.00,9,  -999.0,9, -999.00,9, -999.00,9,       46.3,2, 20220524,     1548,  29.9988, 170.8733,     2.7640,2,     -999.0,9,     -999.0,9,     -999.0,9,     -999.0,9,     0.0134,1,     4.6994,1,     -999.0,9,     -999.0,9,     -999.0,9
33RR20220430,        P02,      67,          1,         16,         16,2,20220524,       1421,    29.9988,   170.8733,       5597,  1484.7,2,   2.5925,2,  34.4977,2,  34.4966,2,     38.6,3,    39.8,2,  151.71,2,   43.21,2,    0.00,2,    3.04,2,   0.024,2,   0.017,2,   0.0000,2,  2384.7,2,  2396.2,2,   7.3593,2,    25.01,2, -999.00,9,  -999.0,9, -999.00,9, -999.00,9,       44.0,2, 20220524,     1546,  29.9987, 170.8733,     2.5916,2,     -999.0,9,     -999.0,9,     -999.0,9,     -999.0,9,     0.0134,1,     4.7006,1,     -999.0,9,     -999.0,9,     -999.0,9
33RR20220430,        P02,      67,          1,         15,         15,2,20220524,       1421,    29.9988,   170.8733,       5597,  1687.6,2,   2.3000,2,  34.5468,2,  34.5461,2,     51.8,2,    52.1,2,  158.35,2,   42.40,2,    0.00,2,    2.96,2,   0.010,2,   0.005,2,   0.0000,2,  2384.8,2,  -999.0,1,   7.3866,2,    25.01,2, -999.00,9,  -999.0,9, -999.00,9, -999.00,9,       39.1,2, 20220524,     1541,  29.9988, 170.8733,     2.3004,2,     -999.0,9,     -999.0,9,     -999.0,9,     -999.0,9,     0.0133,1,     4.7015,1,     -999.0,9,     -999.0,9,     -999.0,9
33RR20220430,        P02,      67,          1,         14,         14,2,20220524,       1421,    29.9988,   170.8733,       5597,  1891.1,2,   2.0693,2,  34.5817,2,  34.5806,2,     67.2,2,    67.1,2,  160.78,2,   41.53,2,    0.00,2,    2.88,2,-999.000,9,-999.000,9,-999.0000,9,  2377.0,2,  2409.4,2,   7.4158,2,    25.01,2, -999.00,9,  -999.0,9, -999.00,9, -999.00,9,     -999.0,9, 20220524,     1537,  29.9988, 170.8733,     2.0710,2,     -999.0,9,     -999.0,9,     -999.0,9,     -999.0,9,     0.0122,1,     4.7019,1,     -999.0,9,     -999.0,9,     -999.0,9
33RR20220430,        P02,      67,          1,         13,         13,2,20220524,       1421,    29.9988,   170.8733,       5597,  2114.7,2,   1.8893,2,  34.6092,2,  34.6083,2,     83.5,3,    82.6,2,  161.86,2,   40.45,2,    0.00,2,    2.80,2,-999.000,9,-999.000,9,-999.0000,9,  2369.2,2,  2411.8,2,   7.4476,2,    24.99,2, -999.00,9,  -999.0,9, -999.00,9, -999.00,9,     -999.0,9, 20220524,     1532,  29.9987, 170.8733,     1.8886,2,     -999.0,9,     -999.0,9,     -999.0,9,     -999.0,9,     0.0133,1,     4.7030,1,     -999.0,9,     -999.0,9,     -999.0,9
33RR20220430,        P02,      67,          1,         12,         12,2,20220524,       1421,    29.9988,   170.8733,       5597,  2369.0,2,   1.7480,2,  34.6294,2,  34.6289,2,     97.4,2,    97.5,2,  161.76,2,   39.49,2,    0.00,2,    2.74,2,   0.007,2,   0.000,2,   0.0000,2,  2362.2,2,  2416.3,2,   7.4750,2,    25.00,2, -999.00,9,  -999.0,9, -999.00,9, -999.00,9,       28.6,2, 20220524,     1527,  29.9987, 170.8733,     1.7484,2,     -999.0,9,     -999.0,9,     -999.0,9,     -999.0,9,     0.0122,1,     4.7027,1,     -999.0,9,     -999.0,9,     -999.0,9
33RR20220430,        P02,      67,          1,         11,         11,2,20220524,       1421,    29.9988,   170.8733,       5597,  2622.4,2,   1.6271,2,  34.6469,2,  34.6468,2,    111.8,2,   112.6,2,  159.70,2,   38.58,2,    0.00,2,    2.68,2,-999.000,9,-999.000,9,-999.0000,9,  2353.5,6,  2416.9,2,   7.5020,2,    24.97,2, -999.00,9,  -999.0,9, -999.00,9, -999.00,9,     -999.0,9, 20220524,     1522,  29.9988, 170.8733,     1.6272,2,     -999.0,9,     -999.0,9,     -999.0,9,     -999.0,9,     0.0129,1,     4.7043,1,     -999.0,9,     -999.0,9,     -999.0,9
33RR20220430,        P02,      67,          1,         10,         10,2,20220524,       1421,    29.9988,   170.8733,       5597,  2878.3,2,   1.5517,2,  34.6593,2,  34.6588,2,    123.9,2,   123.7,2,  157.55,2,   37.77,2,    0.00,2,    2.62,2,-999.000,9,-999.000,9,-999.0000,9,  2347.5,2,  2417.2,2,   7.5241,2,    25.03,2, -999.00,9,  -999.0,9, -999.00,9, -999.00,9,     -999.0,9, 20220524,     1516,  29.9987, 170.8733,     1.5519,2,     -999.0,9,     -999.0,9,     -999.0,9,     -999.0,9,     0.0124,1,     4.7040,1,     -999.0,9,     -999.0,9,     -999.0,9
33RR20220430,        P02,      67,          1,          9,          9,2,20220524,       1421,    29.9988,   170.8733,       5597,  3147.6,2,   1.5125,2,  34.6678,2,  34.6671,2,    132.9,2,   132.6,2,  154.82,2,   37.16,2,    0.00,2,    2.56,2,   0.004,2,   0.000,2,   0.0000,2,  2341.8,2,  2417.7,2,   7.5415,2,    24.99,2, -999.00,9,  -999.0,9, -999.00,9, -999.00,9,       23.1,2, 20220524,     1511,  29.9988, 170.8733,     1.5128,2,     -999.0,9,     -999.0,9,     -999.0,9,     -999.0,9,     0.0127,1,     4.7045,1,     -999.0,9,     -999.0,9,     -999.0,9
33RR20220430,        P02,      67,          1,          8,          8,2,20220524,       1421,    29.9988,   170.8733,       5597,  3454.8,2,   1.4771,2,  34.6747,2,  34.6745,2,    140.4,2,   140.5,2,  153.64,2,   36.68,2,    0.00,2,    2.53,2,-999.000,9,-999.000,9,-999.0000,9,  2334.9,2,  2416.4,2,   7.5541,2,    24.99,2, -999.00,9,  -999.0,9, -999.00,9, -999.00,9,     -999.0,9, 20220524,     1505,  29.9987, 170.8733,     1.4774,2,     -999.0,9,     -999.0,9,     -999.0,9,     -999.0,9,     0.0122,1,     4.7043,1,     -999.0,9,     -999.0,9,     -999.0,9
33RR20220430,        P02,      67,          1,          7,          7,2,20220524,       1421,    29.9988,   170.8733,       5597,  3762.6,2,   1.4608,2,  34.6800,2,  34.6793,2,    146.9,2,   146.8,2,  152.18,2,   36.31,2,    0.00,2,    2.50,2,-999.000,9,-999.000,9,-999.0000,9,  2331.4,2,  2417.3,2,   7.5654,2,    25.00,2, -999.00,9,  -999.0,9, -999.00,9, -999.00,9,     -999.0,9, 20220524,     1459,  29.9987, 170.8733,     1.4609,2,     -999.0,9,     -999.0,9,     -999.0,9,     -999.0,9,     0.0122,1,     4.7044,1,     -999.0,9,     -999.0,9,     -999.0,9
33RR20220430,        P02,      67,          1,          6,          6,2,20220524,       1421,    29.9988,   170.8733,       5597,  4068.5,2,   1.4585,2,  34.6836,2,  34.6834,2,    151.5,2,   151.9,2,  150.22,2,   36.05,2,    0.00,2,    2.47,2,   0.005,2,   0.000,2,   0.0000,2,  2326.5,2,  2415.7,2,   7.5736,2,    24.99,2, -999.00,9,  -999.0,9, -999.00,9, -999.00,9,       20.8,2, 20220524,     1453,  29.9988, 170.8733,     1.4583,2,     -999.0,9,     -999.0,9,     -999.0,9,     -999.0,9,     0.0122,1,     4.7042,1,     -999.0,9,     -999.0,9,     -999.0,9
33RR20220430,        P02,      67,          1,          5,          5,2,20220524,       1421,    29.9988,   170.8733,       5597,  4376.9,2,   1.4586,2,  34.6871,2,  34.6857,2,    156.8,2,   157.2,2,  147.59,2,   35.66,2,    0.00,2,    2.44,2,-999.000,9,-999.000,9,-999.0000,9,  2323.0,2,  2413.4,2,   7.5808,2,    25.01,2, -999.00,9,  -999.0,9, -999.00,9, -999.00,9,     -999.0,9, 20220524,     1447,  29.9987, 170.8733,     1.4587,2,     -999.0,9,     -999.0,9,     -999.0,9,     -999.0,9,     0.0122,1,     4.7044,1,     -999.0,9,     -999.0,9,     -999.0,9
33RR20220430,        P02,      67,          1,          4,          4,2,20220524,       1421,    29.9988,   170.8733,       5597,  4657.8,2,   1.4628,2,  34.6897,2,  34.6889,2,    161.4,2,   161.4,2,  144.26,2,   35.32,2,    0.00,2,    2.41,2,-999.000,9,-999.000,9,-999.0000,9,  2316.6,2,  2410.4,2,   7.5856,2,    25.01,2, -999.00,9,  -999.0,9, -999.00,9, -999.00,9,     -999.0,9, 20220524,     1441,  29.9988, 170.8733,     1.4629,2,     -999.0,9,     -999.0,9,     -999.0,9,     -999.0,9,     0.0122,1,     4.7054,1,     -999.0,9,     -999.0,9,     -999.0,9