BOTTLE,20230801CCHSIOCBG
EXPOCODE,SECT_ID,STNNBR,CASTNO,SAMPNO,BTLNBR,BTLNBR_FLAG_W,DATE,TIME,LATITUDE,LONGITUDE,DEPTH,CTDPRS,CTDPRS_FLAG_W,CTDTMP,CTDTMP_FLAG_W,CTDSAL,CTDSAL_FLAG_W,SALNTY,SALNTY_FLAG_W,CTDOXY,CTDOXY_FLAG_W,OXYGEN,OXYGEN_FLAG_W,SILCAT,SILCAT_FLAG_W,NITRAT,NITRAT_FLAG_W,NITRIT,NITRIT_FLAG_W,PHSPHT,PHSPHT_FLAG_W,CFC-11,CFC-11_FLAG_W,CFC-12,CFC-12_FLAG_W,SF6,SF6_FLAG_W,TCARBN,TCARBN_FLAG_W,ALKALI,ALKALI_FLAG_W,PH_TOT,PH_TOT_FLAG_W,PH_TMP,PH_TMP_FLAG_W,DELC13,DELC13_FLAG_W,DELC14,DELC14_FLAG_W,DOC,DOC_FLAG_W,TDN,TDN_FLAG_W,N2O,N2O_FLAG_W,BTL_DATE,BTL_TIME,BTL_LAT,BTL_LON,REFTMP,REFTMP_FLAG_W,POC,POC_FLAG_W,PON,PON_FLAG_W,POP,POP_FLAG_W,PCOD,PCOD_FLAG_W,CTDFLUOR,CTDFLUOR_FLAG_W,CTDXMISS,CTDXMISS_FLAG_W,HPLC,HPLC_FLAG_W,DNA,DNA_FLAG_W,FCM,FCM_FLAG_W
,,,,,,,,,,,METERS,DBAR,,ITS-90,,PSS-78,,PSS-78,,UMOL/KG,,UMOL/KG,,UMOL/KG,,UMOL/KG,,UMOL/KG,,UMOL/KG,,PMOL/KG,,PMOL/KG,,FMOL/KG,,UMOL/KG,,UMOL/KG,,,,DEG C,,/MILLE,,/MILLE,,UMOL/KG,,UMOL/KG,,NMOL/KG,,,,,,ITS-90,,UG/L,,UG/L,,UG/L,,UG/L,,VOLTS,,VOLTS,,,,,,,
33RR20220430,        P02,      55,          1,         36,         36,2,20220520,       1913,    30.0000,   163.9499,       5956,     3.3,2,  23.5550,2,  35.0930,2,  35.0791,2,    224.6,3,   217.6,2,    0.88,2,    0.00,2,    0.00,2,    0.00,2,   1.861,2,   1.116,2,   1.9165,2,  2022.0,2,  2300.8,2,   8.0120,2,    25.01,2, -999.00,1,  -999.0,1, -999.00,1, -999.00,1,        6.1,2, 20220520,     2133,  30.0000, 163.9499,    23.5415,2,     -999.0,9,     -999.0,9,     -999.0,9,     -999.0,9,     0.0135,1,     4.6434,1,     -999.0,9,     -999.0,9,     -999.0,9
33RR20220430,        P02,      55,          1,         35,         35,2,20220520,       1913,    30.0000,   163.9499,       5956,    36.8,2,  18.2202,2,  34.7604,2,  34.7549,2,    245.3,2,   246.9,2,    1.47,2,    0.00,2,    0.00,2,    0.00,2,   2.288,2,   1.338,2,   2.2508,2,  2016.1,6,  2278.8,2,   7.9895,2,    24.99,2, -999.00,1,  -999.0,1, -999.00,1, -999.00,1,        7.4,2, 20220520,     2131,  30.0000, 163.9499,    18.2246,2,     -999.0,9,     -999.0,9,     -999.0,9,     -999.0,9,     0.0159,1,     4.6359,1,     -999.0,9,     -999.0,9,     -999.0,9
33RR20220430,        P02,      55,          1,         34,         34,2,20220520,       1913,    30.0000,   163.9499,       5956,    61.6,2,  17.2535,2,  34.7152,2,  34.7095,2,    242.6,2,   244.5,2,    2.05,2,    0.26,2,    0.06,2,    0.03,2,   2.352,2,   1.351,2,   2.2194,2,  2024.0,2,  2278.5,2,   7.9758,2,    25.01,2, -999.00,1,  -999.0,1, -999.00,1, -999.00,1,        8.0,2, 20220520,     2129,  30.0000, 163.9499,    17.2431,2,     -999.0,9,     -999.0,9,     -999.0,9,     -999.0,9,     0.0611,1,     4.5777,1,     -999.0,9,     -999.0,9,     -999.0,9
33RR20220430,        P02,      55,          1,         33,         33,2,20220520,       1913,    30.0000,   163.9499,       5956,    87.2,2,  16.8974,2,  34.7139,2,  34.7083,2,    223.3,2,   223.7,2,    2.93,2,    3.09,2,    0.07,2,    0.18,2,   2.348,6,   1.367,6,   2.2088,6,  2037.2,2,  2276.0,2,   7.9417,2,    25.01,2, -999.00,1,  -999.0,1, -999.00,1, -999.00,1,        8.5,6, 20220520,     2127,  30.0001, 163.9499,    16.8963,2,     -999.0,9,     -999.0,9,     -999.0,9,     -999.0,9,     0.0388,1,     4.6322,1,     -999.0,9,     -999.0,9,     -999.0,9
33RR20220430,        P02,      55,          1,         32,         32,2,20220520,       1913,    30.0000,   163.9499,       5956,   117.3,2,  16.6427,2,  34.6979,2,  34.6932,2,    217.5,2,   218.4,2,    3.61,2,    4.03,2,    0.02,2,    0.23,2,   2.376,2,   1.368,2,   2.1016,2,  2046.3,2,  2275.1,2,   7.9286,2,    25.01,2, -999.00,1,  -999.0,1, -999.00,1, -999.00,1,        8.8,2, 20220520,     2125,  30.0000, 163.9499,    16.6446,2,     -999.0,9,     -999.0,9,     -999.0,9,     -999.0,9,     0.0244,1,     4.6668,1,     -999.0,9,     -999.0,9,     -999.0,9
33RR20220430,        P02,      55,          1,         31,         31,2,20220520,       1913,    30.0000,   163.9499,       5956,   167.2,2,  16.2373,2,  34.6716,2,  34.6633,2,    222.7,3,   218.3,2,    4.40,2,    4.69,2,    0.00,2,    0.27,2,   2.418,2,   1.379,2,   2.0110,2,  2049.8,2,  2273.9,2,   7.9187,2,    25.03,2, -999.00,1,  -999.0,1, -999.00,1, -999.00,1,        9.2,2, 20220520,     2123,  30.0001, 163.9499,    16.2363,2,     -999.0,9,     -999.0,9,     -999.0,9,     -999.0,9,     0.0134,1,     4.6821,1,     -999.0,9,     -999.0,9,     -999.0,9
33RR20220430,        P02,      55,          1,         30,         30,2,20220520,       1913,    30.0000,   163.9499,       5956,   217.2,2,  15.6460,2,  34.6301,2,  34.6256,2,    209.2,2,   209.8,2,    6.15,2,    6.48,2,    0.00,2,    0.39,2,   2.470,2,   1.404,2,   2.1171,2,  2064.5,2,  2273.2,2,   7.8929,2,    25.01,2, -999.00,1,  -999.0,1, -999.00,1, -999.00,1,       10.2,2, 20220520,     2121,  30.0000, 163.9499,    15.6445,2,     -999.0,9,     -999.0,9,     -999.0,9,     -999.0,9,     0.0122,1,     4.6849,1,     -999.0,9,     -999.0,9,     -999.0,9
33RR20220430,        P02,      55,          1,         29,         29,2,20220520,       1913,    30.0000,   163.9499,       5956,   267.7,2,  15.0101,2,  34.5839,2,  34.5792,2,    203.8,2,   204.2,2,    8.30,2,    8.06,2,    0.00,2,    0.51,2,   2.547,2,   1.433,2,   1.8643,2,  2072.5,2,  2274.5,2,   7.8688,2,    25.02,2, -999.00,1,  -999.0,1, -999.00,1, -999.00,1,       11.1,2, 20220520,     2120,  30.0001, 163.9499,    15.0104,2,     -999.0,9,     -999.0,9,     -999.0,9,     -999.0,9,     0.0122,1,     4.6867,1,     -999.0,9,     -999.0,9,     -999.0,9
33RR20220430,        P02,      55,          1,         28,         28,2,20220520,       1913,    30.0000,   163.9499,       5956,   318.0,2,  13.9719,2,  34.4966,2,  34.4921,2,    197.6,2,   198.1,2,   11.53,2,   10.27,2,    0.00,2,    0.66,2,   2.624,2,   1.453,2,   1.8757,2,  2087.6,2,  2271.7,2,   7.8329,2,    25.02,2, -999.00,1,  -999.0,1, -999.00,1, -999.00,1,       12.8,2, 20220520,     2118,  30.0001, 163.9499,    13.9723,2,     -999.0,9,     -999.0,9,     -999.0,9,     -999.0,9,     0.0122,1,     4.6896,1,     -999.0,9,     -999.0,9,     -999.0,9
33RR20220430,        P02,      55,          1,         27,         27,2,20220520,       1913,    30.0000,   163.9499,       5956,   368.8,2,  12.8104,2,  34.4033,2,  34.3965,2,    196.0,2,   197.0,2,   14.95,2,   12.31,2,    0.00,2,    0.81,2,   2.751,2,   1.517,2,   1.8483,2,  2101.3,2,  2270.2,2,   7.7982,2,    25.04,2, -999.00,1,  -999.0,1, -999.00,1, -999.00,1,       14.2,2, 20220520,     2116,  30.0001, 163.9499,    12.8152,2,     -999.0,9,     -999.0,9,     -999.0,9,     -999.0,9,     0.0122,1,     4.6923,1,     -999.0,9,     -999.0,9,     -999.0,9
33RR20220430,        P02,      55,          1,         26,         26,2,20220520,       1913,    30.0000,   163.9499,       5956,   443.8,2,  10.8966,2,  34.2460,2,  34.2450,2,    198.5,2,   199.8,2,   20.13,2,   15.19,2,    0.00,2,    1.02,2,   2.961,2,   1.599,2,   1.9425,2,  2121.1,2,  2267.5,2,   7.7479,2,    25.03,2, -999.00,1,  -999.0,1, -999.00,1, -999.00,1,       15.9,2, 20220520,     2114,  30.0001, 163.9499,    10.8744,2,     -999.0,9,     -999.0,9,     -999.0,9,     -999.0,9,     0.0122,1,     4.6975,1,     -999.0,9,     -999.0,9,     -999.0,9
33RR20220430,        P02,      55,          1,         25,         25,2,20220520,       1913,    30.0000,   163.9499,       5956,   545.1,2,   8.1276,2,  34.0483,2,  34.0433,2,    174.2,2,   173.1,2,   36.94,2,   22.92,2,    0.00,2,    1.57,2,   2.899,2,   1.563,2,   1.5119,2,  2170.8,2,  2272.4,2,   7.6247,2,    25.03,2, -999.00,1,  -999.0,1, -999.00,1, -999.00,1,       21.9,2, 20220520,     2111,  30.0000, 163.9499,     8.1266,2,     -999.0,9,     -999.0,9,     -999.0,9,     -999.0,9,     0.0122,1,     4.7008,1,     -999.0,9,     -999.0,9,     -999.0,9
33RR20220430,        P02,      55,          1,         24,         24,2,20220520,       1913,    30.0000,   163.9499,       5956,   646.7,2,   6.0532,2,  33.9941,2,  33.9937,2,    131.1,2,   130.6,2,   60.11,2,   30.41,2,    0.00,2,    2.13,2,   2.387,2,   1.306,2,   1.0740,2,  2228.6,2,  2286.9,2,   7.5014,2,    25.02,2, -999.00,1,  -999.0,1, -999.00,9, -999.00,9,       29.4,2, 20220520,     2108,  30.0001, 163.9499,     6.0517,2,     -999.0,9,     -999.0,9,     -999.0,9,     -999.0,9,     0.0131,1,     4.7013,1,     -999.0,9,     -999.0,9,     -999.0,9
33RR20220430,        P02,      55,          1,         23,         23,2,20220520,       1913,    30.0000,   163.9499,       5956,   747.6,2,   5.0647,2,  34.0730,2,  34.0776,2,     85.7,2,    85.0,2,   82.29,2,   36.34,2,    0.00,2,    2.56,2,   1.581,2,   0.847,2,   0.5897,2,  2281.0,2,  2306.3,2,   7.4073,2,    25.00,2, -999.00,1,  -999.0,1, -999.00,1, -999.00,1,       37.2,2, 20220520,     2105,  30.0000, 163.9499,     5.0609,2,     -999.0,9,     -999.0,9,     -999.0,9,     -999.0,9,     0.0134,1,     4.7023,1,     -999.0,9,     -999.0,9,     -999.0,9
33RR20220430,        P02,      55,          1,         22,         22,2,20220520,       1913,    30.0000,   163.9499,       5956,   847.6,2,   4.3389,2,  34.1710,2,  34.1748,2,     54.9,2,    55.0,2,  101.14,2,   39.89,2,    0.00,2,    2.81,2,   0.907,2,   0.478,2,   0.3200,2,  2317.8,2,  2329.4,2,   7.3567,2,    24.98,2, -999.00,1,  -999.0,1, -999.00,9, -999.00,9,       43.3,2, 20220520,     2103,  30.0000, 163.9499,     4.3367,2,     -999.0,9,     -999.0,9,     -999.0,9,     -999.0,9,     0.0134,1,     4.7023,1,     -999.0,9,     -999.0,9,     -999.0,9
33RR20220430,        P02,      55,          1,         21,         21,2,20220520,       1913,    30.0000,   163.9499,       5956,   948.4,2,   3.8417,2,  34.2573,2,  34.2587,2,     37.9,3,    38.7,2,  115.50,2,   41.71,2,    0.00,2,    2.95,2,   0.484,2,   0.255,2,   0.0000,2,  2344.2,2,  2346.0,2,   7.3347,2,    24.99,2, -999.00,1,  -999.0,1, -999.00,1, -999.00,1,       47.3,2, 20220520,     2100,  30.0000, 163.9499,     3.8424,2,     -999.0,9,     -999.0,9,     -999.0,9,     -999.0,9,     0.0134,1,     4.7030,1,     -999.0,9,     -999.0,9,     -999.0,9
33RR20220430,        P02,      55,          1,         20,         20,2,20220520,       1913,    30.0000,   163.9499,       5956,  1049.5,2,   3.4381,2,  34.3323,2,  34.3344,2,     30.4,3,    32.9,2,  127.51,2,   42.77,2,    0.00,2,    3.03,2,   0.240,2,   0.125,2,   0.0000,2,  2360.0,2,  2361.2,2,   7.3286,2,    25.01,2, -999.00,1,  -999.0,1, -999.00,9, -999.00,9,       48.9,2, 20220520,     2057,  30.0000, 163.9499,     3.4377,2,     -999.0,9,     -999.0,9,     -999.0,9,     -999.0,9,     0.0134,1,     4.7030,1,     -999.0,9,     -999.0,9,     -999.0,9
33RR20220430,        P02,      55,          1,         19,         19,2,20220520,       1913,    30.0000,   163.9499,       5956,  1080.0,2,   3.3463,2,  34.3527,2,  34.3533,2,     29.5,3,    30.5,2,  130.25,2,   42.90,2,    0.00,2,    3.04,2,   0.188,2,   0.100,2,   0.0000,2,  2364.9,2,  2365.5,2,   7.3284,2,    25.01,2, -999.00,1,  -999.0,1, -999.00,1, -999.00,1,       49.0,2, 20220520,     2056,  30.0000, 163.9499,     3.3458,2,     -999.0,9,     -999.0,9,     -999.0,9,     -999.0,9,     0.0133,1,     4.7032,1,     -999.0,9,     -999.0,9,     -999.0,9
33RR20220430,        P02,      55,          1,         18,         18,2,20220520,       1913,    30.0000,   163.9499,       5956,  1150.7,2,   3.1664,2,  34.3903,2,  34.3915,2,     28.9,3,    30.4,2,  135.71,2,   43.27,2,    0.00,2,    3.06,2,   0.121,2,   0.064,2,   0.0000,2,  2369.3,2,  2372.5,2,   7.3311,2,    25.03,2, -999.00,1,  -999.0,1, -999.00,9, -999.00,9,       48.9,2, 20220520,     2053,  30.0000, 163.9498,     3.1657,2,     -999.0,9,     -999.0,9,     -999.0,9,     -999.0,9,     0.0134,1,     4.7034,1,     -999.0,9,     -999.0,9,     -999.0,9
33RR20220430,        P02,      55,          1,         17,         17,2,20220520,       1913,    30.0000,   163.9499,       5956,  1252.2,2,   2.9902,2,  34.4369,2,  34.4369,2,     32.5,3,    33.7,2,  140.59,2,   43.19,2,    0.00,2,    3.06,2,   0.058,2,   0.027,2,   0.0000,2,  2374.0,6,  2380.8,2,   7.3427,2,    25.00,2, -999.00,1,  -999.0,1, -999.00,1, -999.00,1,       46.7,2, 20220520,     2051,  30.0000, 163.9499,     2.9898,2,     -999.0,9,     -999.0,9,     -999.0,9,     -999.0,9,     0.0134,1,     4.7043,1,     -999.0,9,     -999.0,9,     -999.0,9
33RR20220430,        P02,      55,          1,         16,         16,2,20220520,       1913,    30.0000,   163.9499,       5956,  1485.7,2,   2.5356,2,  34.5113,2,  34.5123,2,     44.8,3,    46.3,2,  151.53,2,   42.69,2,    0.00,2,    3.00,2,   0.047,2,   0.009,2,   0.0000,2,  2380.3,2,  2393.9,2,   7.3725,2,    24.99,2, -999.00,1,  -999.0,1, -999.00,9, -999.00,9,       41.8,2, 20220520,     2046,  30.0000, 163.9498,     2.5356,2,     -999.0,9,     -999.0,9,     -999.0,9,     -999.0,9,     0.0134,1,     4.7052,1,     -999.0,9,     -999.0,9,     -999.0,9
33RR20220430,        P02,      55,          1,         15,         15,2,20220520,       1913,    30.0000,   163.9499,       5956,  1687.4,2,   2.2336,2,  34.5548,2,  34.5561,2,     57.2,3,    58.5,2,  158.27,2,   41.99,2,    0.00,2,    2.94,2,   0.012,2,   0.000,2,   0.0000,2,  2379.9,2,  2403.0,2,   7.3976,2,    24.99,2, -999.00,9,  -999.0,9, -999.00,1, -999.00,1,       37.6,2, 20220520,     2041,  30.0001, 163.9499,     2.2333,2,     -999.0,9,     -999.0,9,     -999.0,9,     -999.0,9,     0.0127,1,     4.7060,1,     -999.0,9,     -999.0,9,     -999.0,9
33RR20220430,        P02,      55,          1,         14,         14,2,20220520,       1913,    30.0000,   163.9499,       5956,  1890.4,2,   2.0399,2,  34.5844,2,  34.5859,2,     71.1,3,    72.1,2,  160.41,2,   41.06,2,    0.00,2,    2.87,2,   0.010,2,   0.000,2,   0.0000,2,  2374.6,2,  2407.8,2,   7.4260,2,    25.00,2, -999.00,1,  -999.0,1, -999.00,9, -999.00,9,       33.9,2, 20220520,     2037,  30.0000, 163.9499,     2.0396,2,     -999.0,9,     -999.0,9,     -999.0,9,     -999.0,9,     0.0129,1,     4.7067,1,     -999.0,9,     -999.0,9,     -999.0,9
33RR20220430,        P02,      55,          1,         13,         13,2,20220520,       1913,    30.0000,   163.9499,       5956,  2114.3,2,   1.8508,2,  34.6141,2,  34.6154,2,     90.0,2,    90.6,2,  160.11,2,   39.85,2,    0.00,2,    2.78,2,   0.005,2,   0.000,2,   0.0000,2,  2365.0,2,  2411.4,2,   7.4617,2,    24.99,2, -999.00,9,  -999.0,9, -999.00,1, -999.00,1,       30.5,2, 20220520,     2032,  30.0001, 163.9499,     1.8504,2,     -999.0,9,     -999.0,9,     -999.0,9,     -999.0,9,     0.0122,1,     4.7072,1,     -999.0,9,     -999.0,9,     -999.0,9
33RR20220430,        P02,      55,          1,         12,         12,2,20220520,       1913,    30.0000,   163.9499,       5956,  2368.5,2,   1.7266,2,  34.6336,2,  34.6350,2,    104.1,2,   104.8,2,  159.04,2,   38.95,2,    0.00,2,    2.73,2,-999.000,9,-999.000,9,-999.0000,9,  2356.7,2,  2413.3,2,   7.4889,2,    25.03,2, -999.00,1,  -999.0,1, -999.00,1, -999.00,1,     -999.0,9, 20220520,     2027,  30.0000, 163.9499,     1.7261,2,     -999.0,9,     -999.0,9,     -999.0,9,     -999.0,9,     0.0128,1,     4.7068,1,     -999.0,9,     -999.0,9,     -999.0,9
33RR20220430,        P02,      55,          1,         11,         11,2,20220520,       1913,    30.0000,   163.9499,       5956,  2622.3,2,   1.6338,2,  34.6490,2,  34.6500,2,    118.1,2,   118.6,2,  155.91,2,   38.15,2,    0.00,2,    2.66,2,   0.006,2,   0.000,2,   0.0000,2,  2347.0,6,  2414.3,2,   7.5146,2,    25.04,2, -999.00,9,  -999.0,9, -999.00,9, -999.00,9,       25.6,2, 20220520,     2022,  30.0000, 163.9499,     1.6336,2,     -999.0,9,     -999.0,9,     -999.0,9,     -999.0,9,     0.0122,1,     4.7080,1,     -999.0,9,     -999.0,9,     -999.0,9
33RR20220430,        P02,      55,          1,         10,         10,2,20220520,       1913,    30.0000,   163.9499,       5956,  2877.4,2,   1.5755,2,  34.6587,2,  34.6602,2,    126.7,2,   127.4,2,  154.15,2,   37.56,2,    0.00,2,    2.61,2,-999.000,9,-999.000,9,-999.0000,9,  2342.8,2,  2416.3,2,   7.5310,2,    25.04,2, -999.00,1,  -999.0,1, -999.00,1, -999.00,1,     -999.0,9, 20220520,     2016,  30.0000, 163.9499,     1.5756,2,     -999.0,9,     -999.0,9,     -999.0,9,     -999.0,9,     0.0122,1,     4.7080,1,     -999.0,9,     -999.0,9,     -999.0,9
33RR20220430,        P02,      55,          1,          9,          9,2,20220520,       1913,    30.0000,   163.9499,       5956,  3147.8,2,   1.5340,2,  34.6664,2,  34.6663,2,    134.4,2,   134.8,2,  151.51,2,   37.01,2,    0.00,2,    2.57,2,   0.005,2,   0.000,2,   0.0000,2,  2339.6,2,  2415.6,2,   7.5425,2,    25.00,2, -999.00,9,  -999.0,9, -999.00,1, -999.00,1,       23.1,2, 20220520,     2011,  30.0000, 163.9499,     1.5338,2,     -999.0,9,     -999.0,9,     -999.0,9,     -999.0,9,     0.0123,1,     4.7090,1,     -999.0,9,     -999.0,9,     -999.0,9
33RR20220430,        P02,      55,          1,          8,          8,2,20220520,       1913,    30.0000,   163.9499,       5956,  3454.3,2,   1.5024,2,  34.6727,2,  34.6737,2,    141.1,2,   142.3,2,  150.34,2,   36.58,2,    0.00,2,    2.54,2,-999.000,9,-999.000,9,-999.0000,9,  2333.2,2,  2413.7,2,   7.5557,2,    25.03,2, -999.00,1,  -999.0,1, -999.00,1, -999.00,1,     -999.0,9, 20220520,     2005,  30.0000, 163.9499,     1.5021,2,     -999.0,9,     -999.0,9,     -999.0,9,     -999.0,9,     0.0125,1,     4.7091,1,     -999.0,9,     -999.0,9,     -999.0,9
33RR20220430,        P02,      55,          1,          7,          7,2,20220520,       1913,    30.0000,   163.9499,       5956,  3796.7,2,   1.4798,2,  34.6785,2,  34.6787,2,    147.9,2,   148.7,2,  148.48,2,   36.16,2,    0.00,2,    2.49,2,   0.004,2,   0.000,2,   0.0000,2,  2329.0,2,  2412.8,2,   7.5662,2,    25.01,2, -999.00,9,  -999.0,9, -999.00,1, -999.00,1,       22.1,2, 20220520,     1958,  30.0000, 163.9499,     1.4797,2,     -999.0,9,     -999.0,9,     -999.0,9,     -999.0,9,     0.0133,1,     4.7092,1,     -999.0,9,     -999.0,9,     -999.0,9
33RR20220430,        P02,      55,          1,          6,          6,2,20220520,       1913,    30.0000,   163.9499,       5956,  4206.5,2,   1.4693,2,  34.6836,2,  34.6838,2,    154.6,2,   155.3,2,  146.04,2,   35.71,2,    0.00,2,    2.44,2,-999.000,9,-999.000,9,-999.0000,9,  2323.0,2,  2410.7,2,   7.5756,2,    25.03,2, -999.00,1,  -999.0,1, -999.00,9, -999.00,9,     -999.0,9, 20220520,     1950,  30.0002, 163.9500,     1.4694,2,     -999.0,9,     -999.0,9,     -999.0,9,     -999.0,9,     0.0122,1,     4.7088,1,     -999.0,9,     -999.0,9,     -999.0,9
33RR20220430,        P02,      55,          1,          5,          5,2,20220520,       1913,    30.0000,   163.9499,       5956,  4617.0,2,   1.4759,2,  34.6873,2,  34.6889,2,    160.4,2,   160.5,2,  143.11,2,   35.30,2,    0.00,2,    2.44,2,   0.007,2,   0.000,2,   0.0000,2,  2316.6,2,  2409.6,2,   7.5827,2,    25.03,2, -999.00,1,  -999.0,1, -999.00,1, -999.00,1,       20.9,2, 20220520,     1942,  30.0000, 163.9498,     1.4758,2,     -999.0,9,     -999.0,9,     -999.0,9,     -999.0,9,     0.0122,1,     4.7092,1,     -999.0,9,     -999.0,9,     -999.0,9
33RR20220430,        P02,      55,          1,          4,          4,2,20220520,       1913,    30.0000,   163.9499,       5956,  5029.6,2,   1.4885,2,  34.6907,2,  34.6918,2,    166.2,2,   167.1,2,  139.01,2,   34.85,2,    0.00,2,    2.40,2,-999.000,9,-999.000,9,-999.0000,9,  2311.9,2,  2404.3,2,   7.5904,2,    25.00,2, -999.00,1,  -999.0,1, -999.00,9, -999.00,9,     -999.0,9, 20220520,     1934,  30.0001, 163.9499,     1.4885,2,     -999.0,9,     -999.0,9,     -999.0,9,     -999.0,9,     0.0122,1,     4.7092,1,     -999.0,9,     -999.0,9,     -999.0,9