BOTTLE,20230801CCHSIOCBG
EXPOCODE,SECT_ID,STNNBR,CASTNO,SAMPNO,BTLNBR,BTLNBR_FLAG_W,DATE,TIME,LATITUDE,LONGITUDE,DEPTH,CTDPRS,CTDPRS_FLAG_W,CTDTMP,CTDTMP_FLAG_W,CTDSAL,CTDSAL_FLAG_W,SALNTY,SALNTY_FLAG_W,CTDOXY,CTDOXY_FLAG_W,OXYGEN,OXYGEN_FLAG_W,SILCAT,SILCAT_FLAG_W,NITRAT,NITRAT_FLAG_W,NITRIT,NITRIT_FLAG_W,PHSPHT,PHSPHT_FLAG_W,CFC-11,CFC-11_FLAG_W,CFC-12,CFC-12_FLAG_W,SF6,SF6_FLAG_W,TCARBN,TCARBN_FLAG_W,ALKALI,ALKALI_FLAG_W,PH_TOT,PH_TOT_FLAG_W,PH_TMP,PH_TMP_FLAG_W,DELC13,DELC13_FLAG_W,DELC14,DELC14_FLAG_W,DOC,DOC_FLAG_W,TDN,TDN_FLAG_W,N2O,N2O_FLAG_W,BTL_DATE,BTL_TIME,BTL_LAT,BTL_LON,REFTMP,REFTMP_FLAG_W,POC,POC_FLAG_W,PON,PON_FLAG_W,POP,POP_FLAG_W,PCOD,PCOD_FLAG_W,CTDFLUOR,CTDFLUOR_FLAG_W,CTDXMISS,CTDXMISS_FLAG_W,HPLC,HPLC_FLAG_W,DNA,DNA_FLAG_W,FCM,FCM_FLAG_W
,,,,,,,,,,,METERS,DBAR,,ITS-90,,PSS-78,,PSS-78,,UMOL/KG,,UMOL/KG,,UMOL/KG,,UMOL/KG,,UMOL/KG,,UMOL/KG,,PMOL/KG,,PMOL/KG,,FMOL/KG,,UMOL/KG,,UMOL/KG,,,,DEG C,,/MILLE,,/MILLE,,UMOL/KG,,UMOL/KG,,NMOL/KG,,,,,,ITS-90,,UG/L,,UG/L,,UG/L,,UG/L,,VOLTS,,VOLTS,,,,,,,
33RR20220430,        P02,      34,          1,          3,          3,2,20220513,       2145,    30.0001,   150.5814,       6105,  5132.0,2,   1.5201,2,  34.6898,2,  34.6901,2,    163.6,2,   164.0,2,  142.05,2,   35.36,2,    0.00,2,    2.39,2,   0.006,2,   0.000,2,   0.0000,2,  2315.6,2,  2409.9,2,   7.5871,2,    24.99,2, -999.00,9,  -999.0,9, -999.00,1, -999.00,1,       23.2,2, 20220513,     2202,  30.0001, 150.5814,     1.5198,2,     -999.0,9,     -999.0,9,     -999.0,9,     -999.0,9,     0.0131,1,     4.7092,1,     -999.0,9,     -999.0,9,     -999.0,9
33RR20220430,        P02,      34,          1,          2,          2,2,20220513,       2145,    30.0001,   150.5814,       6105,  5633.0,2,   1.5613,2,  34.6919,2,  34.6924,2,    167.9,2,   167.6,2,  138.04,2,   34.85,2,    0.00,2,    2.38,2,-999.000,9,-999.000,9,-999.0000,9,  2310.5,2,  2407.2,2,   7.5920,2,    24.98,2, -999.00,9,  -999.0,9, -999.00,1, -999.00,1,     -999.0,9, 20220513,     2153,  30.0001, 150.5814,     1.5611,2,     -999.0,9,     -999.0,9,     -999.0,9,     -999.0,9,     0.0122,1,     4.7080,1,     -999.0,9,     -999.0,9,     -999.0,9
33RR20220430,        P02,      34,          1,          1,          1,2,20220513,       2145,    30.0001,   150.5814,       6105,  6075.6,2,   1.6061,2,  34.6931,2,  34.6938,2,    170.5,2,   170.5,2,  136.28,2,   34.70,2,    0.00,2,    2.36,2,   0.010,2,   0.000,2,   0.0000,2,  2306.8,2,  2404.8,2,   7.5947,2,    24.99,2, -999.00,9,  -999.0,9, -999.00,1, -999.00,1,       22.3,2, 20220513,     2145,  30.0001, 150.5814,     1.6057,2,     -999.0,9,     -999.0,9,     -999.0,9,     -999.0,9,     0.0122,1,     4.7043,1,     -999.0,9,     -999.0,9,     -999.0,9
33RR20220430,        P02,      35,          1,         12,         12,2,20220514,       0343,    30.0001,   151.2538,       6074,     5.8,2,  20.6131,2,  34.9573,2,-999.0000,9,    219.6,2,  -999.0,9, -999.00,9, -999.00,9, -999.00,9, -999.00,9,-999.000,9,-999.000,9,-999.0000,9,  -999.0,9,  -999.0,9,-999.0000,9,  -999.00,9, -999.00,9,  -999.0,9, -999.00,9, -999.00,9,     -999.0,9, 20220514,      408,  30.0001, 151.2538,    20.8755,2,     -999.0,1,     -999.0,1,     -999.0,9,     -999.0,9,     0.0133,1,     4.6313,1,     -999.0,9,     -999.0,9,     -999.0,9
33RR20220430,        P02,      35,          1,         15,         15,2,20220514,       0343,    30.0001,   151.2538,       6074,     5.8,2,  20.6658,2,  34.9577,2,-999.0000,9,    219.9,2,  -999.0,9, -999.00,9, -999.00,9, -999.00,9, -999.00,9,-999.000,9,-999.000,9,-999.0000,9,  -999.0,9,  -999.0,9,-999.0000,9,  -999.00,9, -999.00,9,  -999.0,9, -999.00,9, -999.00,9,     -999.0,9, 20220514,      409,  30.0001, 151.2539,    20.8721,2,     -999.0,9,     -999.0,9,     -999.0,1,     -999.0,9,     0.0137,1,     4.6377,1,     -999.0,9,     -999.0,9,     -999.0,9
33RR20220430,        P02,      35,          1,         18,         18,2,20220514,       0343,    30.0001,   151.2538,       6074,     5.9,2,  20.6490,2,  34.9579,2,-999.0000,9,    219.5,2,  -999.0,9, -999.00,9, -999.00,9, -999.00,9, -999.00,9,-999.000,9,-999.000,9,-999.0000,9,  -999.0,9,  -999.0,9,-999.0000,9,  -999.00,9, -999.00,9,  -999.0,9, -999.00,9, -999.00,9,     -999.0,9, 20220514,      410,  30.0001, 151.2538,    20.7893,2,     -999.0,9,     -999.0,9,     -999.0,9,     -999.0,1,     0.0130,1,     4.6355,1,     -999.0,9,     -999.0,9,     -999.0,9
33RR20220430,        P02,      35,          1,         19,         19,2,20220514,       0343,    30.0001,   151.2538,       6074,     5.9,2,  20.5240,2,  34.9595,2,-999.0000,9,    219.5,2,  -999.0,9, -999.00,9, -999.00,9, -999.00,9, -999.00,9,-999.000,9,-999.000,9,-999.0000,9,  -999.0,9,  -999.0,9,-999.0000,9,  -999.00,9, -999.00,9,  -999.0,9, -999.00,9, -999.00,9,     -999.0,9, 20220514,      410,  30.0001, 151.2538,     -999.0,9,     -999.0,9,     -999.0,9,     -999.0,9,     -999.0,1,     0.0134,1,     4.6347,1,     -999.0,9,     -999.0,9,     -999.0,9
33RR20220430,        P02,      35,          1,         10,         10,2,20220514,       0343,    30.0001,   151.2538,       6074,     5.9,2,  20.4568,2,  34.9577,2,-999.0000,9,    220.2,2,  -999.0,9, -999.00,9, -999.00,9, -999.00,9, -999.00,9,-999.000,9,-999.000,9,-999.0000,9,  -999.0,9,  -999.0,9,-999.0000,9,  -999.00,9, -999.00,9,  -999.0,9, -999.00,9, -999.00,9,     -999.0,9, 20220514,      408,  30.0001, 151.2538,    20.7539,2,     -999.0,1,     -999.0,1,     -999.0,9,     -999.0,9,     0.0134,1,     4.6359,1,     -999.0,1,     -999.0,9,     -999.0,1
33RR20220430,        P02,      35,          1,         16,         16,2,20220514,       0343,    30.0001,   151.2538,       6074,     6.0,2,  20.6799,2,  34.9576,2,-999.0000,9,    220.0,2,  -999.0,9, -999.00,9, -999.00,9, -999.00,9, -999.00,9,-999.000,9,-999.000,9,-999.0000,9,  -999.0,9,  -999.0,9,-999.0000,9,  -999.00,9, -999.00,9,  -999.0,9, -999.00,9, -999.00,9,     -999.0,9, 20220514,      409,  30.0001, 151.2538,    20.8831,2,     -999.0,9,     -999.0,9,     -999.0,1,     -999.0,9,     0.0127,1,     4.6373,1,     -999.0,9,     -999.0,9,     -999.0,9
33RR20220430,        P02,      35,          1,         13,         13,2,20220514,       0343,    30.0001,   151.2538,       6074,     6.0,2,  20.6925,2,  34.9569,2,-999.0000,9,    219.5,2,  -999.0,9, -999.00,9, -999.00,9, -999.00,9, -999.00,9,-999.000,9,-999.000,9,-999.0000,9,  -999.0,9,  -999.0,9,-999.0000,9,  -999.00,9, -999.00,9,  -999.0,9, -999.00,9, -999.00,9,     -999.0,9, 20220514,      408,  30.0001, 151.2538,     -999.0,9,     -999.0,1,     -999.0,1,     -999.0,9,     -999.0,9,     0.0135,1,     4.6347,1,     -999.0,9,     -999.0,9,     -999.0,9
33RR20220430,        P02,      35,          1,         14,         14,2,20220514,       0343,    30.0001,   151.2538,       6074,     6.1,2,  20.7157,2,  34.9568,2,-999.0000,9,    219.5,2,  -999.0,9, -999.00,9, -999.00,9, -999.00,9, -999.00,9,-999.000,9,-999.000,9,-999.0000,9,  -999.0,9,  -999.0,9,-999.0000,9,  -999.00,9, -999.00,9,  -999.0,9, -999.00,9, -999.00,9,     -999.0,9, 20220514,      409,  30.0001, 151.2538,    20.9255,2,     -999.0,1,     -999.0,1,     -999.0,9,     -999.0,9,     0.0135,1,     4.6362,1,     -999.0,9,     -999.0,9,     -999.0,9
33RR20220430,        P02,      35,          1,         11,         11,2,20220514,       0343,    30.0001,   151.2538,       6074,     6.2,2,  20.5845,2,  34.9567,2,-999.0000,9,    219.8,2,  -999.0,9, -999.00,9, -999.00,9, -999.00,9, -999.00,9,-999.000,9,-999.000,9,-999.0000,9,  -999.0,9,  -999.0,9,-999.0000,9,  -999.00,9, -999.00,9,  -999.0,9, -999.00,9, -999.00,9,     -999.0,9, 20220514,      408,  30.0001, 151.2538,     -999.0,9,     -999.0,9,     -999.0,9,     -999.0,9,     -999.0,9,     0.0135,1,     4.6366,1,     -999.0,9,     -999.0,1,     -999.0,9
33RR20220430,        P02,      35,          1,         17,         17,2,20220514,       0343,    30.0001,   151.2538,       6074,     6.2,2,  20.6730,2,  34.9573,2,-999.0000,9,    219.9,2,  -999.0,9, -999.00,9, -999.00,9, -999.00,9, -999.00,9,-999.000,9,-999.000,9,-999.0000,9,  -999.0,9,  -999.0,9,-999.0000,9,  -999.00,9, -999.00,9,  -999.0,9, -999.00,9, -999.00,9,     -999.0,9, 20220514,      410,  30.0001, 151.2538,     -999.0,9,     -999.0,9,     -999.0,9,     -999.0,1,     -999.0,9,     0.0135,1,     4.6367,1,     -999.0,9,     -999.0,9,     -999.0,9
33RR20220430,        P02,      35,          1,         20,         20,2,20220514,       0343,    30.0001,   151.2538,       6074,     6.4,2,  20.5189,2,  34.9591,2,-999.0000,9,    219.9,2,  -999.0,9, -999.00,9, -999.00,9, -999.00,9, -999.00,9,-999.000,9,-999.000,9,-999.0000,9,  -999.0,9,  -999.0,9,-999.0000,9,  -999.00,9, -999.00,9,  -999.0,9, -999.00,9, -999.00,9,     -999.0,9, 20220514,      410,  30.0001, 151.2538,    20.7821,2,     -999.0,9,     -999.0,9,     -999.0,9,     -999.0,1,     0.0135,1,     4.6338,1,     -999.0,9,     -999.0,9,     -999.0,9
33RR20220430,        P02,      35,          1,          9,          9,2,20220514,       0343,    30.0001,   151.2538,       6074,    40.8,2,  20.0154,2,  34.9288,2,-999.0000,9,    221.3,2,  -999.0,9, -999.00,9, -999.00,9, -999.00,9, -999.00,9,-999.000,9,-999.000,9,-999.0000,9,  -999.0,9,  -999.0,9,-999.0000,9,  -999.00,9, -999.00,9,  -999.0,9, -999.00,9, -999.00,9,     -999.0,9, 20220514,      406,  30.0001, 151.2539,    20.1690,2,     -999.0,1,     -999.0,1,     -999.0,9,     -999.0,9,     0.0147,1,     4.6299,1,     -999.0,1,     -999.0,9,     -999.0,1
33RR20220430,        P02,      35,          1,          8,          8,2,20220514,       0343,    30.0001,   151.2538,       6074,    62.6,2,  18.8080,2,  34.9620,2,-999.0000,9,    225.9,2,  -999.0,9, -999.00,9, -999.00,9, -999.00,9, -999.00,9,-999.000,9,-999.000,9,-999.0000,9,  -999.0,9,  -999.0,9,-999.0000,9,  -999.00,9, -999.00,9,  -999.0,9, -999.00,9, -999.00,9,     -999.0,9, 20220514,      404,  30.0001, 151.2538,    18.9980,2,     -999.0,1,     -999.0,1,     -999.0,9,     -999.0,9,     0.0208,1,     4.6291,1,     -999.0,1,     -999.0,9,     -999.0,1
33RR20220430,        P02,      35,          1,          7,          7,2,20220514,       0343,    30.0001,   151.2538,       6074,    81.7,2,  18.0992,2,  34.9532,2,-999.0000,9,    218.0,2,  -999.0,9, -999.00,9, -999.00,9, -999.00,9, -999.00,9,-999.000,9,-999.000,9,-999.0000,9,  -999.0,9,  -999.0,9,-999.0000,9,  -999.00,9, -999.00,9,  -999.0,9, -999.00,9, -999.00,9,     -999.0,9, 20220514,      403,  30.0001, 151.2539,    18.2931,2,     -999.0,9,     -999.0,9,     -999.0,9,     -999.0,9,     0.0564,1,     4.6009,1,     -999.0,9,     -999.0,1,     -999.0,9
33RR20220430,        P02,      35,          1,          6,          6,2,20220514,       0343,    30.0001,   151.2538,       6074,    81.8,2,  18.0743,2,  34.9517,2,-999.0000,9,    218.1,2,  -999.0,9, -999.00,9, -999.00,9, -999.00,9, -999.00,9,-999.000,9,-999.000,9,-999.0000,9,  -999.0,9,  -999.0,9,-999.0000,9,  -999.00,9, -999.00,9,  -999.0,9, -999.00,9, -999.00,9,     -999.0,9, 20220514,      403,  30.0001, 151.2538,    18.2696,2,     -999.0,1,     -999.0,1,     -999.0,9,     -999.0,9,     0.0575,1,     4.6038,1,     -999.0,1,     -999.0,9,     -999.0,1
33RR20220430,        P02,      35,          1,          5,          5,2,20220514,       0343,    30.0001,   151.2538,       6074,   111.6,2,  17.4470,2,  34.9207,2,-999.0000,9,    207.3,2,  -999.0,9, -999.00,9, -999.00,9, -999.00,9, -999.00,9,-999.000,9,-999.000,9,-999.0000,9,  -999.0,9,  -999.0,9,-999.0000,9,  -999.00,9, -999.00,9,  -999.0,9, -999.00,9, -999.00,9,     -999.0,9, 20220514,      401,  30.0001, 151.2539,    17.6418,2,     -999.0,1,     -999.0,1,     -999.0,9,     -999.0,9,     0.0275,1,     4.6622,1,     -999.0,1,     -999.0,9,     -999.0,1
33RR20220430,        P02,      35,          1,          4,          4,2,20220514,       0343,    30.0001,   151.2538,       6074,   201.9,2,  16.7813,2,  34.8767,2,-999.0000,9,    210.1,2,  -999.0,9, -999.00,9, -999.00,9, -999.00,9, -999.00,9,-999.000,9,-999.000,9,-999.0000,9,  -999.0,9,  -999.0,9,-999.0000,9,  -999.00,9, -999.00,9,  -999.0,9, -999.00,9, -999.00,9,     -999.0,9, 20220514,      358,  30.0001, 151.2539,    16.9525,2,     -999.0,1,     -999.0,1,     -999.0,9,     -999.0,9,     0.0134,1,     4.6849,1,     -999.0,1,     -999.0,9,     -999.0,9
33RR20220430,        P02,      35,          1,          3,          3,2,20220514,       0343,    30.0001,   151.2538,       6074,   202.5,2,  16.7815,2,  34.8767,2,-999.0000,9,    209.9,2,  -999.0,9, -999.00,9, -999.00,9, -999.00,9, -999.00,9,-999.000,9,-999.000,9,-999.0000,9,  -999.0,9,  -999.0,9,-999.0000,9,  -999.00,9, -999.00,9,  -999.0,9, -999.00,9, -999.00,9,     -999.0,9, 20220514,      358,  30.0001, 151.2538,    16.9521,2,     -999.0,9,     -999.0,9,     -999.0,9,     -999.0,9,     0.0122,1,     4.6828,1,     -999.0,9,     -999.0,1,     -999.0,1
33RR20220430,        P02,      35,          1,          2,          2,2,20220514,       0343,    30.0001,   151.2538,       6074,   505.9,2,  10.9829,2,  34.3785,2,-999.0000,9,    176.3,2,  -999.0,9, -999.00,9, -999.00,9, -999.00,9, -999.00,9,-999.000,9,-999.000,9,-999.0000,9,  -999.0,9,  -999.0,9,-999.0000,9,  -999.00,9, -999.00,9,  -999.0,9, -999.00,9, -999.00,9,     -999.0,9, 20220514,      352,  30.0001, 151.2539,    11.0788,2,     -999.0,9,     -999.0,9,     -999.0,9,     -999.0,9,     0.0122,1,     4.7022,1,     -999.0,9,     -999.0,9,     -999.0,1
33RR20220430,        P02,      35,          1,          1,          1,2,20220514,       0343,    30.0001,   151.2538,       6074,  1011.2,2,   3.7829,2,  34.2801,2,-999.0000,9,     39.2,2,  -999.0,9, -999.00,9, -999.00,9, -999.00,9, -999.00,9,-999.000,9,-999.000,9,-999.0000,9,  -999.0,9,  -999.0,9,-999.0000,9,  -999.00,9, -999.00,9,  -999.0,9, -999.00,9, -999.00,9,     -999.0,9, 20220514,      343,  30.0000, 151.2538,     3.7788,2,     -999.0,9,     -999.0,9,     -999.0,9,     -999.0,9,     0.0134,1,     4.7057,1,     -999.0,9,     -999.0,1,     -999.0,1