BOTTLE,20230801CCHSIOCBG
EXPOCODE,SECT_ID,STNNBR,CASTNO,SAMPNO,BTLNBR,BTLNBR_FLAG_W,DATE,TIME,LATITUDE,LONGITUDE,DEPTH,CTDPRS,CTDPRS_FLAG_W,CTDTMP,CTDTMP_FLAG_W,CTDSAL,CTDSAL_FLAG_W,SALNTY,SALNTY_FLAG_W,CTDOXY,CTDOXY_FLAG_W,OXYGEN,OXYGEN_FLAG_W,SILCAT,SILCAT_FLAG_W,NITRAT,NITRAT_FLAG_W,NITRIT,NITRIT_FLAG_W,PHSPHT,PHSPHT_FLAG_W,CFC-11,CFC-11_FLAG_W,CFC-12,CFC-12_FLAG_W,SF6,SF6_FLAG_W,TCARBN,TCARBN_FLAG_W,ALKALI,ALKALI_FLAG_W,PH_TOT,PH_TOT_FLAG_W,PH_TMP,PH_TMP_FLAG_W,DELC13,DELC13_FLAG_W,DELC14,DELC14_FLAG_W,DOC,DOC_FLAG_W,TDN,TDN_FLAG_W,N2O,N2O_FLAG_W,BTL_DATE,BTL_TIME,BTL_LAT,BTL_LON,REFTMP,REFTMP_FLAG_W,POC,POC_FLAG_W,PON,PON_FLAG_W,POP,POP_FLAG_W,PCOD,PCOD_FLAG_W,CTDFLUOR,CTDFLUOR_FLAG_W,CTDXMISS,CTDXMISS_FLAG_W,HPLC,HPLC_FLAG_W,DNA,DNA_FLAG_W,FCM,FCM_FLAG_W
,,,,,,,,,,,METERS,DBAR,,ITS-90,,PSS-78,,PSS-78,,UMOL/KG,,UMOL/KG,,UMOL/KG,,UMOL/KG,,UMOL/KG,,UMOL/KG,,PMOL/KG,,PMOL/KG,,FMOL/KG,,UMOL/KG,,UMOL/KG,,,,DEG C,,/MILLE,,/MILLE,,UMOL/KG,,UMOL/KG,,NMOL/KG,,,,,,ITS-90,,UG/L,,UG/L,,UG/L,,UG/L,,VOLTS,,VOLTS,,,,,,,
33RR20220430,        P02,     111,          1,          3,          3,2,20220606,       1339,    30.0002,  -164.6754,       5522,  4994.2,2,   1.5311,2,  34.6863,2,  34.6865,2,    155.7,2,   156.0,2,  151.99,2,   35.86,2,    0.00,2,    2.47,2,   0.005,2,   0.000,2,   0.0000,2,  2325.0,6,  2417.3,2,   7.5827,2,    25.02,2, -999.00,9,  -999.0,9, -999.00,9, -999.00,9,       22.0,2, 20220606,     1352,  30.0002,-164.6754,     1.5310,2,     -999.0,9,     -999.0,9,     -999.0,9,     -999.0,9,     0.0122,1,     4.7056,1,     -999.0,9,     -999.0,9,     -999.0,9
33RR20220430,        P02,     111,          1,          2,          2,2,20220606,       1339,    30.0002,  -164.6754,       5522,  5302.6,2,   1.5542,2,  34.6878,2,  34.6881,2,    159.0,2,   159.3,2,  148.38,2,   35.64,2,    0.00,2,    2.46,2,-999.000,9,-999.000,9,-999.0000,9,  2319.0,2,  2415.0,2,   7.5858,2,    25.01,2, -999.00,9,  -999.0,9, -999.00,9, -999.00,9,     -999.0,9, 20220606,     1346,  30.0002,-164.6754,     1.5543,2,     -999.0,9,     -999.0,9,     -999.0,9,     -999.0,9,     0.0130,1,     4.7052,1,     -999.0,9,     -999.0,9,     -999.0,9
33RR20220430,        P02,     111,          1,          1,          1,2,20220606,       1339,    30.0002,  -164.6754,       5522,  5622.2,2,   1.5861,2,  34.6886,2,  34.6887,2,    161.5,2,   161.4,2,  146.13,2,   35.48,2,    0.00,2,    2.44,2,   0.010,2,   0.000,2,   0.0000,2,  2316.4,2,  2412.7,2,   7.5876,2,    25.01,2, -999.00,9,  -999.0,9, -999.00,9, -999.00,9,       22.1,2, 20220606,     1339,  30.0002,-164.6754,     1.5861,2,     -999.0,9,     -999.0,9,     -999.0,9,     -999.0,9,     0.0134,1,     4.7026,1,     -999.0,9,     -999.0,9,     -999.0,9