BOTTLE,20230801CCHSIOCBG
EXPOCODE,SECT_ID,STNNBR,CASTNO,SAMPNO,BTLNBR,BTLNBR_FLAG_W,DATE,TIME,LATITUDE,LONGITUDE,DEPTH,CTDPRS,CTDPRS_FLAG_W,CTDTMP,CTDTMP_FLAG_W,CTDSAL,CTDSAL_FLAG_W,SALNTY,SALNTY_FLAG_W,CTDOXY,CTDOXY_FLAG_W,OXYGEN,OXYGEN_FLAG_W,SILCAT,SILCAT_FLAG_W,NITRAT,NITRAT_FLAG_W,NITRIT,NITRIT_FLAG_W,PHSPHT,PHSPHT_FLAG_W,CFC-11,CFC-11_FLAG_W,CFC-12,CFC-12_FLAG_W,SF6,SF6_FLAG_W,TCARBN,TCARBN_FLAG_W,ALKALI,ALKALI_FLAG_W,PH_TOT,PH_TOT_FLAG_W,PH_TMP,PH_TMP_FLAG_W,DELC13,DELC13_FLAG_W,DELC14,DELC14_FLAG_W,DOC,DOC_FLAG_W,TDN,TDN_FLAG_W,N2O,N2O_FLAG_W,BTL_DATE,BTL_TIME,BTL_LAT,BTL_LON,REFTMP,REFTMP_FLAG_W,POC,POC_FLAG_W,PON,PON_FLAG_W,POP,POP_FLAG_W,PCOD,PCOD_FLAG_W,CTDFLUOR,CTDFLUOR_FLAG_W,CTDXMISS,CTDXMISS_FLAG_W,HPLC,HPLC_FLAG_W,DNA,DNA_FLAG_W,FCM,FCM_FLAG_W
,,,,,,,,,,,METERS,DBAR,,ITS-90,,PSS-78,,PSS-78,,UMOL/KG,,UMOL/KG,,UMOL/KG,,UMOL/KG,,UMOL/KG,,UMOL/KG,,PMOL/KG,,PMOL/KG,,FMOL/KG,,UMOL/KG,,UMOL/KG,,,,DEG C,,/MILLE,,/MILLE,,UMOL/KG,,UMOL/KG,,NMOL/KG,,,,,,ITS-90,,UG/L,,UG/L,,UG/L,,UG/L,,VOLTS,,VOLTS,,,,,,,
33RR20220430,        P02,     112,          1,         36,         36,2,20220606,       2018,    30.0003,  -164.0982,       5689,     3.1,2,  24.6940,2,  35.0673,2,  35.0531,2,    214.2,2,   212.8,2,    0.10,2,    0.00,2,    0.00,2,    0.00,2,   1.497,6,   1.027,6,   1.9831,6,  2014.5,2,  2301.7,2,   8.0178,2,    25.02,2, -999.00,9,  -999.0,9, -999.00,1, -999.00,1,        7.2,6, 20220606,     2233,  30.0003,-164.0982,    24.6870,2,     -999.0,9,     -999.0,9,     -999.0,9,     -999.0,9,     0.0122,1,     4.6374,1,     -999.0,9,     -999.0,9,     -999.0,9
33RR20220430,        P02,     112,          1,         35,         35,2,20220606,       2018,    30.0003,  -164.0982,       5689,    35.3,2,  21.6886,2,  35.0156,2,  35.0258,2,    228.6,2,   228.6,2,    0.29,2,    0.00,2,    0.00,2,    0.00,2,   1.698,2,   1.144,2,   2.0691,2,  2019.4,2,  2299.6,2,   8.0084,2,    25.02,2, -999.00,9,  -999.0,9, -999.00,1, -999.00,1,        7.8,2, 20220606,     2231,  30.0003,-164.0982,    21.6946,2,     -999.0,9,     -999.0,9,     -999.0,9,     -999.0,9,     0.0135,1,     4.6230,1,     -999.0,9,     -999.0,9,     -999.0,9
33RR20220430,        P02,     112,          1,         34,         34,2,20220606,       2018,    30.0003,  -164.0982,       5689,    61.2,2,  19.6785,2,  34.9662,2,  34.9638,2,    235.5,3,   233.1,2,    0.59,2,    0.00,2,    0.00,2,    0.01,2,   1.899,2,   1.220,2,   2.1743,2,  2025.4,2,  2295.2,2,   7.9893,2,    25.01,2, -999.00,9,  -999.0,9, -999.00,1, -999.00,1,        8.2,2, 20220606,     2229,  30.0003,-164.0982,    19.6777,2,     -999.0,9,     -999.0,9,     -999.0,9,     -999.0,9,     0.0159,1,     4.6368,1,     -999.0,9,     -999.0,9,     -999.0,9
33RR20220430,        P02,     112,          1,         33,         33,2,20220606,       2018,    30.0003,  -164.0982,       5689,    86.0,2,  19.1107,2,  34.9250,2,  34.9071,2,    224.3,2,   224.3,2,    0.78,2,    0.00,2,    0.00,2,    0.04,2,   1.927,2,   1.254,2,   2.2313,2,  2035.6,2,  2292.8,2,   7.9687,2,    25.02,2, -999.00,9,  -999.0,9, -999.00,1, -999.00,1,        8.4,2, 20220606,     2227,  30.0003,-164.0982,    19.1064,2,     -999.0,9,     -999.0,9,     -999.0,9,     -999.0,9,     0.0313,1,     4.6220,1,     -999.0,9,     -999.0,9,     -999.0,9
33RR20220430,        P02,     112,          1,         32,         32,2,20220606,       2018,    30.0003,  -164.0982,       5689,   118.0,2,  18.0277,2,  34.8040,2,  34.7915,2,    212.9,2,   213.2,2,    1.27,2,    1.46,2,    0.05,2,    0.16,2,   2.070,2,   1.319,2,   2.0938,2,  2047.5,2,  2283.8,2,   7.9303,2,    25.01,2, -999.00,9,  -999.0,9, -999.00,1, -999.00,1,        9.6,2, 20220606,     2225,  30.0003,-164.0982,    18.0255,2,     -999.0,9,     -999.0,9,     -999.0,9,     -999.0,9,     0.0377,1,     4.6376,1,     -999.0,9,     -999.0,9,     -999.0,9
33RR20220430,        P02,     112,          1,         31,         31,2,20220606,       2018,    30.0003,  -164.0982,       5689,   167.0,2,  15.4985,2,  34.5377,2,  34.5284,2,    215.1,2,   215.0,2,    3.03,2,    4.49,2,    0.01,2,    0.35,2,   2.275,2,   1.455,2,   2.2196,2,  2060.1,2,  2269.8,2,   7.8789,2,    25.00,2, -999.00,9,  -999.0,9, -999.00,1, -999.00,1,       11.7,2, 20220606,     2223,  30.0003,-164.0982,    15.4988,2,     -999.0,9,     -999.0,9,     -999.0,9,     -999.0,9,     0.0162,1,     4.6791,1,     -999.0,9,     -999.0,9,     -999.0,9
33RR20220430,        P02,     112,          1,         30,         30,2,20220606,       2018,    30.0003,  -164.0982,       5689,   217.4,2,  13.9386,2,  34.4182,2,  34.4124,2,    213.5,2,   213.4,2,    5.86,2,    7.54,2,    0.00,2,    0.55,2,   2.458,2,   1.559,2,   2.2065,2,  2075.1,2,  2264.3,2,   7.8399,2,    24.98,2, -999.00,9,  -999.0,9, -999.00,1, -999.00,1,       13.7,2, 20220606,     2221,  30.0003,-164.0982,    13.9360,2,     -999.0,9,     -999.0,9,     -999.0,9,     -999.0,9,     0.0122,1,     4.6881,1,     -999.0,9,     -999.0,9,     -999.0,9
33RR20220430,        P02,     112,          1,         29,         29,2,20220606,       2018,    30.0003,  -164.0982,       5689,   268.4,2,  12.8405,2,  34.3398,2,  34.3284,2,    214.3,2,   214.5,2,    8.89,2,    9.80,2,    0.00,2,    0.70,2,   2.595,2,   1.611,2,   2.1585,2,  2086.5,2,  2261.2,2,   7.8122,2,    24.99,2, -999.00,9,  -999.0,9, -999.00,1, -999.00,1,       15.0,2, 20220606,     2219,  30.0003,-164.0982,    12.8395,2,     -999.0,9,     -999.0,9,     -999.0,9,     -999.0,9,     0.0122,1,     4.6908,1,     -999.0,9,     -999.0,9,     -999.0,9
33RR20220430,        P02,     112,          1,         28,         28,2,20220606,       2018,    30.0003,  -164.0982,       5689,   319.4,2,  11.8864,2,  34.2703,2,  34.2654,2,    214.0,2,   214.4,2,   11.63,2,   11.61,2,    0.00,2,    0.83,2,   2.725,2,   1.662,2,   2.0213,2,  -999.0,9,  -999.0,9,-999.0000,9,  -999.00,9, -999.00,9,  -999.0,9, -999.00,1, -999.00,1,       16.1,2, 20220606,     2217,  30.0003,-164.0982,    11.8824,2,     -999.0,9,     -999.0,9,     -999.0,9,     -999.0,9,     0.0122,1,     4.6919,1,     -999.0,9,     -999.0,9,     -999.0,9
33RR20220430,        P02,     112,          1,         27,         27,2,20220606,       2018,    30.0003,  -164.0982,       5689,   373.5,2,  10.6425,2,  34.1758,2,  34.1709,2,    208.7,2,   209.2,2,   16.41,2,   14.58,2,    0.00,2,    1.04,2,   2.775,2,   1.734,2,   1.9867,2,  2112.4,2,  2261.2,2,   7.7467,2,    24.98,2, -999.00,9,  -999.0,9, -999.00,1, -999.00,1,       17.9,2, 20220606,     2215,  30.0003,-164.0982,    10.6476,2,     -999.0,9,     -999.0,9,     -999.0,9,     -999.0,9,     0.0122,1,     4.6934,1,     -999.0,9,     -999.0,9,     -999.0,9
33RR20220430,        P02,     112,          1,         26,         26,2,20220606,       2018,    30.0003,  -164.0982,       5689,   438.6,2,   9.6093,2,  34.1060,2,  34.1032,2,    197.7,2,   198.9,2,   22.08,2,   17.59,2,    0.00,2,    1.25,2,   2.791,2,   1.750,2,   2.0058,2,  -999.0,9,  -999.0,9,-999.0000,9,  -999.00,9, -999.00,9,  -999.0,9, -999.00,1, -999.00,1,       20.0,2, 20220606,     2213,  30.0003,-164.0982,     9.6055,2,     -999.0,9,     -999.0,9,     -999.0,9,     -999.0,9,     0.0122,1,     4.6946,1,     -999.0,9,     -999.0,9,     -999.0,9
33RR20220430,        P02,     112,          1,         25,         25,2,20220606,       2018,    30.0003,  -164.0982,       5689,   539.4,2,   7.4938,2,  34.0151,2,  34.0137,2,    150.4,2,   150.1,2,   42.41,2,   26.42,2,    0.00,2,    1.88,2,   2.523,2,   1.531,2,   1.3405,2,  2189.4,2,  2276.1,2,   7.5682,2,    24.99,2, -999.00,9,  -999.0,9, -999.00,1, -999.00,1,       27.3,2, 20220606,     2210,  30.0003,-164.0982,     7.4910,2,     -999.0,9,     -999.0,9,     -999.0,9,     -999.0,9,     0.0124,1,     4.6971,1,     -999.0,9,     -999.0,9,     -999.0,9
33RR20220430,        P02,     112,          1,         24,         24,2,20220606,       2018,    30.0003,  -164.0982,       5689,   642.9,2,   5.5421,2,  34.0207,2,  34.0225,2,     89.8,2,    90.0,2,   71.24,2,   35.61,2,    0.00,2,    2.53,2,   1.685,2,   0.997,2,   0.6511,2,  -999.0,9,  -999.0,9,-999.0000,9,  -999.00,9, -999.00,9,  -999.0,9, -999.00,9, -999.00,9,       36.6,2, 20220606,     2208,  30.0003,-164.0982,     5.5415,2,     -999.0,9,     -999.0,9,     -999.0,9,     -999.0,9,     0.0124,1,     4.6983,1,     -999.0,9,     -999.0,9,     -999.0,9
33RR20220430,        P02,     112,          1,         23,         23,2,20220606,       2018,    30.0003,  -164.0982,       5689,   748.6,2,   4.7509,2,  34.0921,2,  34.0948,2,     53.6,2,    53.8,2,   89.60,2,   39.93,2,    0.00,2,    2.84,2,   0.952,2,   0.552,2,   0.2561,2,  2301.2,2,  2314.5,2,   7.3499,2,    24.99,2, -999.00,9,  -999.0,9, -999.00,1, -999.00,1,       43.8,2, 20220606,     2205,  30.0003,-164.0982,     4.7517,2,     -999.0,9,     -999.0,9,     -999.0,9,     -999.0,9,     0.0134,1,     4.6986,1,     -999.0,9,     -999.0,9,     -999.0,9
33RR20220430,        P02,     112,          1,         22,         22,2,20220606,       2018,    30.0003,  -164.0982,       5689,   843.2,2,   4.2064,2,  34.1937,2,  34.1964,2,     27.3,3,    27.6,2,  106.79,2,   42.73,2,    0.00,2,    3.06,2,   0.359,2,   0.214,2,   0.0000,2,  -999.0,9,  -999.0,9,-999.0000,9,  -999.00,9, -999.00,9,  -999.0,9, -999.00,9, -999.00,9,       50.1,2, 20220606,     2202,  30.0003,-164.0982,     4.2041,2,     -999.0,9,     -999.0,9,     -999.0,9,     -999.0,9,     0.0134,1,     4.6985,1,     -999.0,9,     -999.0,9,     -999.0,9
33RR20220430,        P02,     112,          1,         21,         21,2,20220606,       2018,    30.0003,  -164.0982,       5689,   943.9,2,   3.8588,2,  34.2905,2,  34.2942,2,     16.1,3,    16.0,2,  119.00,2,   43.85,2,    0.00,2,    3.17,2,   0.095,2,   0.058,2,   0.0000,2,  2355.0,2,  2349.2,2,   7.3028,2,    24.98,2, -999.00,9,  -999.0,9, -999.00,1, -999.00,1,       53.1,2, 20220606,     2159,  30.0003,-164.0982,     3.8581,2,     -999.0,9,     -999.0,9,     -999.0,9,     -999.0,9,     0.0134,1,     4.6994,1,     -999.0,9,     -999.0,9,     -999.0,9
33RR20220430,        P02,     112,          1,         20,         20,2,20220606,       2018,    30.0003,  -164.0982,       5689,  1045.0,2,   3.5484,2,  34.3644,2,  34.3662,2,     16.9,3,    16.7,2,  128.46,2,   44.13,2,    0.00,2,    3.19,2,   0.033,2,   0.022,2,   0.0000,2,  2366.0,2,  2363.8,2,   7.3097,2,    24.99,2, -999.00,9,  -999.0,9, -999.00,1, -999.00,1,       54.4,2, 20220606,     2157,  30.0003,-164.0982,     3.5485,2,     -999.0,9,     -999.0,9,     -999.0,9,     -999.0,9,     0.0134,1,     4.6992,1,     -999.0,9,     -999.0,9,     -999.0,9
33RR20220430,        P02,     112,          1,         19,         19,2,20220606,       2018,    30.0003,  -164.0982,       5689,  1146.6,2,   3.3215,2,  34.4273,2,  34.4310,2,     22.3,2,    22.1,2,  134.61,2,   43.96,2,    0.00,2,    3.18,2,   0.017,2,   0.011,2,   0.0000,2,  2371.0,6,  2377.2,2,   7.3286,2,    24.98,2, -999.00,9,  -999.0,9, -999.00,1, -999.00,1,       51.4,2, 20220606,     2154,  30.0003,-164.0982,     3.3191,2,     -999.0,9,     -999.0,9,     -999.0,9,     -999.0,9,     0.0134,1,     4.6995,1,     -999.0,9,     -999.0,9,     -999.0,9
33RR20220430,        P02,     112,          1,         18,         18,2,20220606,       2018,    30.0003,  -164.0982,       5689,  1248.1,2,   3.1454,2,  34.4735,2,  34.4769,2,     33.3,2,    33.4,2,  138.03,2,   43.32,2,    0.00,2,    3.13,2,   0.010,2,   0.008,2,   0.0000,2,  -999.0,9,  -999.0,9,-999.0000,9,  -999.00,9, -999.00,9,  -999.0,9, -999.00,9, -999.00,9,       47.1,2, 20220606,     2151,  30.0003,-164.0982,     3.1445,2,     -999.0,9,     -999.0,9,     -999.0,9,     -999.0,9,     0.0130,1,     4.7005,1,     -999.0,9,     -999.0,9,     -999.0,9
33RR20220430,        P02,     112,          1,         17,         17,2,20220606,       2018,    30.0003,  -164.0982,       5689,  1349.6,2,   2.9719,2,  34.5058,2,  34.5080,2,     43.9,2,    44.1,2,  140.47,2,   42.68,2,    0.00,2,    3.08,2,   0.009,2,   0.000,2,   0.0000,2,  2366.0,2,  2388.6,2,   7.3787,2,    24.98,2, -999.00,9,  -999.0,9, -999.00,1, -999.00,1,       42.9,2, 20220606,     2148,  30.0003,-164.0982,     2.9714,2,     -999.0,9,     -999.0,9,     -999.0,9,     -999.0,9,     0.0134,1,     4.7009,1,     -999.0,9,     -999.0,9,     -999.0,9
33RR20220430,        P02,     112,          1,         16,         16,2,20220606,       2018,    30.0003,  -164.0982,       5689,  1482.3,2,   2.7102,2,  34.5367,2,  34.5380,2,     53.6,2,    53.5,2,  146.23,2,   42.22,2,    0.00,2,    3.04,2,-999.000,9,-999.000,9,-999.0000,9,  2367.3,2,  2395.8,2,   7.3981,2,    25.00,2, -999.00,9,  -999.0,9, -999.00,9, -999.00,9,     -999.0,9, 20220606,     2145,  30.0003,-164.0982,     2.7099,2,     -999.0,9,     -999.0,9,     -999.0,9,     -999.0,9,     0.0134,1,     4.7019,1,     -999.0,9,     -999.0,9,     -999.0,9
33RR20220430,        P02,     112,          1,         15,         15,2,20220606,       2018,    30.0003,  -164.0982,       5689,  1689.5,2,   2.4088,2,  34.5689,2,  34.5704,2,     67.7,2,    67.9,2,  151.99,2,   41.41,2,    0.00,2,    2.96,2,   0.005,2,   0.000,2,   0.0000,2,  2364.7,2,  2403.6,2,   7.4256,2,    24.99,2, -999.00,9,  -999.0,9, -999.00,1, -999.00,1,       35.9,2, 20220606,     2140,  30.0003,-164.0982,     2.4077,2,     -999.0,9,     -999.0,9,     -999.0,9,     -999.0,9,     0.0134,1,     4.7029,1,     -999.0,9,     -999.0,9,     -999.0,9
33RR20220430,        P02,     112,          1,         14,         14,2,20220606,       2018,    30.0003,  -164.0982,       5689,  1892.3,2,   2.1255,2,  34.5958,2,  34.5979,2,     73.9,2,    74.0,2,  160.87,2,   41.07,2,    0.00,2,    2.92,2,-999.000,9,-999.000,9,-999.0000,9,  2368.2,2,  2411.9,2,   7.4380,2,    25.01,2, -999.00,9,  -999.0,9, -999.00,9, -999.00,9,     -999.0,9, 20220606,     2136,  30.0003,-164.0982,     2.1259,2,     -999.0,9,     -999.0,9,     -999.0,9,     -999.0,9,     0.0134,1,     4.7029,1,     -999.0,9,     -999.0,9,     -999.0,9
33RR20220430,        P02,     112,          1,         13,         13,2,20220606,       2018,    30.0003,  -164.0982,       5689,  2116.7,2,   1.9166,2,  34.6174,2,  34.6191,2,     86.4,2,    86.4,2,  164.09,2,   40.27,2,    0.00,2,    2.86,2,   0.004,2,   0.000,2,   0.0000,2,  2367.4,2,  2416.6,2,   7.4606,2,    25.01,2, -999.00,9,  -999.0,9, -999.00,1, -999.00,1,       30.7,2, 20220606,     2131,  30.0003,-164.0982,     1.9169,2,     -999.0,9,     -999.0,9,     -999.0,9,     -999.0,9,     0.0133,1,     4.7033,1,     -999.0,9,     -999.0,9,     -999.0,9
33RR20220430,        P02,     112,          1,         12,         12,2,20220606,       2018,    30.0003,  -164.0982,       5689,  2369.9,2,   1.7699,2,  34.6345,2,  34.6362,2,     96.8,2,    96.8,2,  166.82,2,   39.61,2,    0.00,2,    2.80,2,-999.000,9,-999.000,9,-999.0000,9,  -999.0,9,  -999.0,9,-999.0000,9,  -999.00,9, -999.00,9,  -999.0,9, -999.00,9, -999.00,9,     -999.0,9, 20220606,     2126,  30.0003,-164.0982,     1.7699,2,     -999.0,9,     -999.0,9,     -999.0,9,     -999.0,9,     0.0130,1,     4.7033,1,     -999.0,9,     -999.0,9,     -999.0,9
33RR20220430,        P02,     112,          1,         11,         11,2,20220606,       2018,    30.0003,  -164.0982,       5689,  2573.5,2,   1.6761,2,  34.6447,2,  34.6455,2,    106.4,2,   106.5,2,  165.75,2,   38.98,2,    0.00,2,    2.76,2,   0.004,2,   0.000,2,   0.0000,2,  2358.3,2,  2419.8,2,   7.4977,2,    25.00,2, -999.00,9,  -999.0,9, -999.00,1, -999.00,1,       27.1,2, 20220606,     2122,  30.0003,-164.0982,     1.6759,2,     -999.0,9,     -999.0,9,     -999.0,9,     -999.0,9,     0.0133,1,     4.7046,1,     -999.0,9,     -999.0,9,     -999.0,9
33RR20220430,        P02,     112,          1,         10,         10,2,20220606,       2018,    30.0003,  -164.0982,       5689,  2880.0,2,   1.5904,2,  34.6563,2,  34.6576,2,    116.7,2,   117.0,2,  164.97,2,   38.34,2,    0.00,2,    2.71,2,-999.000,9,-999.000,9,-999.0000,9,  -999.0,9,  -999.0,9,-999.0000,9,  -999.00,9, -999.00,9,  -999.0,9, -999.00,9, -999.00,9,     -999.0,9, 20220606,     2116,  30.0003,-164.0982,     1.5901,2,     -999.0,9,     -999.0,9,     -999.0,9,     -999.0,9,     0.0129,1,     4.7045,1,     -999.0,9,     -999.0,9,     -999.0,9
33RR20220430,        P02,     112,          1,          9,          9,2,20220606,       2018,    30.0003,  -164.0982,       5689,  3148.7,2,   1.5380,2,  34.6642,2,  34.6657,2,    125.7,2,   125.9,2,  162.82,2,   37.83,2,    0.00,2,    2.66,2,   0.003,2,   0.000,2,   0.0000,2,  2344.5,2,  2419.8,2,   7.5323,2,    24.99,2, -999.00,9,  -999.0,9, -999.00,1, -999.00,1,       24.8,2, 20220606,     2110,  30.0003,-164.0982,     1.5377,2,     -999.0,9,     -999.0,9,     -999.0,9,     -999.0,9,     0.0122,1,     4.7048,1,     -999.0,9,     -999.0,9,     -999.0,9
33RR20220430,        P02,     112,          1,          8,          8,2,20220606,       2018,    30.0003,  -164.0982,       5689,  3455.9,2,   1.5012,2,  34.6712,2,  34.6722,2,    134.1,2,   134.0,2,  160.96,2,   37.37,2,    0.00,2,    2.61,2,-999.000,9,-999.000,9,-999.0000,9,  -999.0,9,  -999.0,9,-999.0000,9,  -999.00,9, -999.00,9,  -999.0,9, -999.00,9, -999.00,9,     -999.0,9, 20220606,     2104,  30.0003,-164.0982,     1.5012,2,     -999.0,9,     -999.0,9,     -999.0,9,     -999.0,9,     0.0121,1,     4.7050,1,     -999.0,9,     -999.0,9,     -999.0,9
33RR20220430,        P02,     112,          1,          7,          7,2,20220606,       2018,    30.0003,  -164.0982,       5689,  3763.4,2,   1.4794,2,  34.6770,2,  34.6785,2,    141.2,2,   141.3,2,  158.61,2,   36.91,2,    0.00,2,    2.57,2,   0.005,2,   0.000,2,   0.0000,2,  2334.7,2,  2422.9,2,   7.5601,2,    25.00,2, -999.00,9,  -999.0,9, -999.00,1, -999.00,1,       23.2,2, 20220606,     2058,  30.0003,-164.0982,     1.4789,2,     -999.0,9,     -999.0,9,     -999.0,9,     -999.0,9,     0.0122,1,     4.7055,1,     -999.0,9,     -999.0,9,     -999.0,9
33RR20220430,        P02,     112,          1,          6,          6,2,20220606,       2018,    30.0003,  -164.0982,       5689,  4106.3,2,   1.4778,2,  34.6811,2,  34.6814,2,    146.6,2,   146.8,2,  157.15,2,   36.59,2,    0.00,2,    2.53,2,-999.000,9,-999.000,9,-999.0000,9,  -999.0,9,  -999.0,9,-999.0000,9,  -999.00,9, -999.00,9,  -999.0,9, -999.00,9, -999.00,9,     -999.0,9, 20220606,     2051,  30.0003,-164.0982,     1.4777,2,     -999.0,9,     -999.0,9,     -999.0,9,     -999.0,9,     0.0122,1,     4.7055,1,     -999.0,9,     -999.0,9,     -999.0,9
33RR20220430,        P02,     112,          1,          5,          5,2,20220606,       2018,    30.0003,  -164.0982,       5689,  4379.1,2,   1.4869,2,  34.6833,2,  34.6842,2,    149.8,2,   149.7,2,  156.17,2,   36.37,2,    0.00,2,    2.51,2,   0.005,2,   0.000,2,   0.0000,2,  2328.9,2,  2421.3,2,   7.5739,2,    25.01,2, -999.00,9,  -999.0,9, -999.00,1, -999.00,1,       22.3,2, 20220606,     2046,  30.0003,-164.0982,     1.4867,2,     -999.0,9,     -999.0,9,     -999.0,9,     -999.0,9,     0.0122,1,     4.7055,1,     -999.0,9,     -999.0,9,     -999.0,9
33RR20220430,        P02,     112,          1,          4,          4,2,20220606,       2018,    30.0003,  -164.0982,       5689,  4685.0,2,   1.5059,2,  34.6851,2,  34.6863,2,    152.5,2,   152.5,2,  154.80,2,   36.18,2,    0.00,2,    2.49,2,-999.000,9,-999.000,9,-999.0000,9,  -999.0,9,  -999.0,9,-999.0000,9,  -999.00,9, -999.00,9,  -999.0,9, -999.00,9, -999.00,9,     -999.0,9, 20220606,     2040,  30.0003,-164.0982,     1.5059,2,     -999.0,9,     -999.0,9,     -999.0,9,     -999.0,9,     0.0122,1,     4.7055,1,     -999.0,9,     -999.0,9,     -999.0,9