BOTTLE,20230801CCHSIOCBG
EXPOCODE,SECT_ID,STNNBR,CASTNO,SAMPNO,BTLNBR,BTLNBR_FLAG_W,DATE,TIME,LATITUDE,LONGITUDE,DEPTH,CTDPRS,CTDPRS_FLAG_W,CTDTMP,CTDTMP_FLAG_W,CTDSAL,CTDSAL_FLAG_W,SALNTY,SALNTY_FLAG_W,CTDOXY,CTDOXY_FLAG_W,OXYGEN,OXYGEN_FLAG_W,SILCAT,SILCAT_FLAG_W,NITRAT,NITRAT_FLAG_W,NITRIT,NITRIT_FLAG_W,PHSPHT,PHSPHT_FLAG_W,CFC-11,CFC-11_FLAG_W,CFC-12,CFC-12_FLAG_W,SF6,SF6_FLAG_W,TCARBN,TCARBN_FLAG_W,ALKALI,ALKALI_FLAG_W,PH_TOT,PH_TOT_FLAG_W,PH_TMP,PH_TMP_FLAG_W,DELC13,DELC13_FLAG_W,DELC14,DELC14_FLAG_W,DOC,DOC_FLAG_W,TDN,TDN_FLAG_W,N2O,N2O_FLAG_W,BTL_DATE,BTL_TIME,BTL_LAT,BTL_LON,REFTMP,REFTMP_FLAG_W,POC,POC_FLAG_W,PON,PON_FLAG_W,POP,POP_FLAG_W,PCOD,PCOD_FLAG_W,CTDFLUOR,CTDFLUOR_FLAG_W,CTDXMISS,CTDXMISS_FLAG_W,HPLC,HPLC_FLAG_W,DNA,DNA_FLAG_W,FCM,FCM_FLAG_W
,,,,,,,,,,,METERS,DBAR,,ITS-90,,PSS-78,,PSS-78,,UMOL/KG,,UMOL/KG,,UMOL/KG,,UMOL/KG,,UMOL/KG,,UMOL/KG,,PMOL/KG,,PMOL/KG,,FMOL/KG,,UMOL/KG,,UMOL/KG,,,,DEG C,,/MILLE,,/MILLE,,UMOL/KG,,UMOL/KG,,NMOL/KG,,,,,,ITS-90,,UG/L,,UG/L,,UG/L,,UG/L,,VOLTS,,VOLTS,,,,,,,
33RR20220430,        P02,      85,          1,         36,         36,2,20220529,       1957,    29.9998,  -179.6744,       5353,     3.1,2,  20.8421,2,  35.0546,2,  35.0402,2,    227.4,2,   227.1,2,    1.56,2,    0.00,2,    0.00,2,    0.00,2,   1.849,2,   1.208,2,   2.0751,2,  2031.6,2,  2302.6,2,   7.9950,2,    24.98,2, -999.00,9,  -999.0,9, -999.00,1, -999.00,1,        7.6,2, 20220529,     2204,  29.9998,-179.6744,    20.8465,2,     -999.0,9,     -999.0,9,     -999.0,9,     -999.0,9,     0.0125,1,     4.6356,1,     -999.0,9,     -999.0,9,     -999.0,9
33RR20220430,        P02,      85,          1,         35,         35,2,20220529,       1957,    29.9998,  -179.6744,       5353,    36.7,2,  19.9447,2,  35.0025,2,  34.9839,2,    234.2,2,   233.8,2,    1.66,2,    0.00,2,    0.01,2,    0.00,2,   1.940,2,   1.249,2,   2.1489,2,  2027.7,6,  2297.4,2,   7.9923,2,    25.00,2, -999.00,9,  -999.0,9, -999.00,1, -999.00,1,        7.8,2, 20220529,     2202,  29.9998,-179.6744,    19.9514,2,     -999.0,9,     -999.0,9,     -999.0,9,     -999.0,9,     0.0134,1,     4.6348,1,     -999.0,9,     -999.0,9,     -999.0,9
33RR20220430,        P02,      85,          1,         34,         34,2,20220529,       1957,    29.9998,  -179.6744,       5353,    61.5,2,  18.3127,2,  34.7880,2,  34.7919,2,    240.7,2,   242.0,2,    1.66,2,    0.00,2,    0.01,2,    0.02,2,   2.052,2,   1.285,2,   2.1934,2,  2026.7,2,  2286.0,2,   7.9827,2,    25.02,2, -999.00,9,  -999.0,9, -999.00,1, -999.00,1,        8.3,2, 20220529,     2201,  29.9997,-179.6744,    18.3247,2,     -999.0,9,     -999.0,9,     -999.0,9,     -999.0,9,     0.0183,1,     4.6433,1,     -999.0,9,     -999.0,9,     -999.0,9
33RR20220430,        P02,      85,          1,         33,         33,2,20220529,       1957,    29.9998,  -179.6744,       5353,    86.2,2,  17.3661,2,  34.7243,2,  34.7085,2,    234.3,2,   234.0,2,    2.25,2,    0.25,2,    0.16,2,    0.09,2,   2.107,6,   1.307,6,   2.3042,6,  2035.6,2,  2280.9,2,   7.9569,2,    25.02,2, -999.00,9,  -999.0,9, -999.00,1, -999.00,1,        9.1,6, 20220529,     2159,  29.9997,-179.6744,    17.3618,2,     -999.0,9,     -999.0,9,     -999.0,9,     -999.0,9,     0.0431,1,     4.6311,1,     -999.0,9,     -999.0,9,     -999.0,9
33RR20220430,        P02,      85,          1,         32,         32,2,20220529,       1957,    29.9998,  -179.6744,       5353,   116.8,2,  16.7467,2,  34.6690,2,  34.6572,2,    226.5,2,   226.7,2,    3.13,2,    2.50,2,    0.05,2,    0.21,2,   2.178,2,   1.365,2,   2.3372,2,  2041.8,2,  2277.0,2,   7.9338,2,    25.02,2, -999.00,9,  -999.0,9, -999.00,1, -999.00,1,        9.4,2, 20220529,     2157,  29.9997,-179.6744,    16.7478,2,     -999.0,9,     -999.0,9,     -999.0,9,     -999.0,9,     0.0255,1,     4.6604,1,     -999.0,9,     -999.0,9,     -999.0,9
33RR20220430,        P02,      85,          1,         31,         31,2,20220529,       1957,    29.9998,  -179.6744,       5353,   167.0,2,  16.0901,2,  34.6217,2,  34.6089,2,    225.1,2,   224.8,2,    4.30,2,    3.78,2,    0.03,2,    0.28,2,   2.211,2,   1.448,2,   2.2420,2,  2048.1,2,  2276.2,2,   7.9168,2,    25.01,2, -999.00,9,  -999.0,9, -999.00,1, -999.00,1,        9.9,2, 20220529,     2155,  29.9998,-179.6744,    16.0897,2,     -999.0,9,     -999.0,9,     -999.0,9,     -999.0,9,     0.0122,1,     4.6813,1,     -999.0,9,     -999.0,9,     -999.0,9
33RR20220430,        P02,      85,          1,         30,         30,2,20220529,       1957,    29.9998,  -179.6744,       5353,   216.7,2,  15.2087,2,  34.5699,2,  34.5553,2,    210.5,2,   210.0,2,    6.74,2,    6.79,2,    0.01,2,    0.48,2,   2.325,2,   1.488,2,   2.1242,2,  2068.8,2,  2270.4,2,   7.8745,2,    25.02,2, -999.00,9,  -999.0,9, -999.00,1, -999.00,1,       11.6,2, 20220529,     2153,  29.9998,-179.6744,    15.1916,2,     -999.0,9,     -999.0,9,     -999.0,9,     -999.0,9,     0.0122,1,     4.6849,1,     -999.0,9,     -999.0,9,     -999.0,9
33RR20220430,        P02,      85,          1,         29,         29,2,20220529,       1957,    29.9998,  -179.6744,       5353,   267.5,2,  14.5220,2,  34.5236,2,  34.5076,2,    209.1,2,   207.8,2,    9.09,2,    8.40,2,    0.00,2,    0.58,2,   2.400,2,   1.464,2,   2.0376,2,  2078.0,2,  2271.5,2,   7.8533,2,    25.00,2, -999.00,9,  -999.0,9, -999.00,1, -999.00,1,       12.5,2, 20220529,     2151,  29.9998,-179.6744,    14.5211,2,     -999.0,9,     -999.0,9,     -999.0,9,     -999.0,9,     0.0122,1,     4.6874,1,     -999.0,9,     -999.0,9,     -999.0,9
33RR20220430,        P02,      85,          1,         28,         28,2,20220529,       1957,    29.9998,  -179.6744,       5353,   317.9,2,  13.3649,2,  34.4340,2,  34.4251,2,    210.3,2,   210.4,2,   11.24,2,    9.92,2,    0.00,2,    0.68,2,   2.515,2,   1.606,2,   2.1040,2,  2086.4,2,  2269.8,2,   7.8269,2,    25.03,2, -999.00,9,  -999.0,9, -999.00,1, -999.00,1,       13.4,2, 20220529,     2150,  29.9998,-179.6744,    13.3660,2,     -999.0,9,     -999.0,9,     -999.0,9,     -999.0,9,     0.0122,1,     4.6890,1,     -999.0,9,     -999.0,9,     -999.0,9
33RR20220430,        P02,      85,          1,         27,         27,2,20220529,       1957,    29.9998,  -179.6744,       5353,   368.3,2,  12.3036,2,  34.3503,2,  34.3421,2,    209.3,2,   210.1,2,   14.07,2,   11.81,2,    0.00,2,    0.81,2,   2.582,2,   1.605,2,   2.0715,2,  2100.0,2,  2268.0,2,   7.7981,2,    25.03,2, -999.00,9,  -999.0,9, -999.00,1, -999.00,1,       14.4,2, 20220529,     2148,  29.9998,-179.6744,    12.3026,2,     -999.0,9,     -999.0,9,     -999.0,9,     -999.0,9,     0.0122,1,     4.6912,1,     -999.0,9,     -999.0,9,     -999.0,9
33RR20220430,        P02,      85,          1,         26,         26,2,20220529,       1957,    29.9998,  -179.6744,       5353,   439.2,2,  10.5804,2,  34.2111,2,  34.2034,2,    205.8,2,   207.2,2,   20.13,2,   15.21,2,    0.00,2,    1.05,2,   2.725,2,   1.657,2,   2.0113,2,  2122.9,2,  2267.5,2,   7.7454,2,    25.01,2, -999.00,9,  -999.0,9, -999.00,1, -999.00,1,       16.1,2, 20220529,     2146,  29.9998,-179.6744,    10.5801,2,     -999.0,9,     -999.0,9,     -999.0,9,     -999.0,9,     0.0122,1,     4.6938,1,     -999.0,9,     -999.0,9,     -999.0,9
33RR20220430,        P02,      85,          1,         25,         25,2,20220529,       1957,    29.9998,  -179.6744,       5353,   540.0,2,   8.2589,2,  34.0466,2,  34.0388,2,    179.1,2,   179.0,2,   35.28,2,   22.25,2,    0.00,2,    1.55,2,   2.720,2,   1.678,2,   1.6867,2,  2168.0,2,  2271.0,2,   7.6364,2,    24.99,2, -999.00,9,  -999.0,9, -999.00,1, -999.00,1,       21.8,2, 20220529,     2143,  29.9997,-179.6744,     8.2561,2,     -999.0,9,     -999.0,9,     -999.0,9,     -999.0,9,     0.0131,1,     4.6943,1,     -999.0,9,     -999.0,9,     -999.0,9
33RR20220430,        P02,      85,          1,         24,         24,2,20220529,       1957,    29.9998,  -179.6744,       5353,   641.2,2,   6.2079,2,  33.9951,2,  33.9914,2,    131.7,2,   130.7,2,   59.52,2,   30.40,2,    0.00,2,    2.15,2,   2.234,2,   1.331,2,   1.1918,2,  2227.3,2,  2289.1,2,   7.5043,2,    25.04,2, -999.00,9,  -999.0,9, -999.00,9, -999.00,9,       30.2,2, 20220529,     2140,  29.9998,-179.6744,     6.2055,2,     -999.0,9,     -999.0,9,     -999.0,9,     -999.0,9,     0.0127,1,     4.6974,1,     -999.0,9,     -999.0,9,     -999.0,9
33RR20220430,        P02,      85,          1,         23,         23,2,20220529,       1957,    29.9998,  -179.6744,       5353,   741.7,2,   5.0888,2,  34.0628,2,  34.0605,2,     86.5,2,    86.4,2,   81.21,2,   36.24,2,    0.00,2,    2.57,2,   1.539,2,   0.907,2,   0.6082,2,  2278.6,6,  2306.1,2,   7.4119,2,    25.03,2, -999.00,9,  -999.0,9, -999.00,1, -999.00,1,       38.3,2, 20220529,     2138,  29.9998,-179.6744,     5.0873,2,     -999.0,9,     -999.0,9,     -999.0,9,     -999.0,9,     0.0134,1,     4.6983,1,     -999.0,9,     -999.0,9,     -999.0,9
33RR20220430,        P02,      85,          1,         22,         22,2,20220529,       1957,    29.9998,  -179.6744,       5353,   842.4,2,   4.4256,2,  34.1594,2,  34.1577,2,     52.4,3,    53.2,2,   99.38,2,   40.17,2,    0.00,2,    2.82,2,   0.834,2,   0.476,2,   0.2171,2,  2316.1,2,  2327.4,2,   7.3545,2,    25.00,2, -999.00,9,  -999.0,9, -999.00,9, -999.00,9,       45.6,2, 20220529,     2135,  29.9997,-179.6744,     4.4265,2,     -999.0,9,     -999.0,9,     -999.0,9,     -999.0,9,     0.0134,1,     4.6996,1,     -999.0,9,     -999.0,9,     -999.0,9
33RR20220430,        P02,      85,          1,         21,         21,2,20220529,       1957,    29.9998,  -179.6744,       5353,   943.0,2,   3.9687,2,  34.2470,2,  34.2491,2,     33.4,3,    34.4,2,  113.45,2,   42.16,2,    0.00,2,    3.00,2,   0.375,2,   0.225,2,   0.1367,2,  2341.6,2,  2344.0,2,   7.3299,2,    25.00,2, -999.00,9,  -999.0,9, -999.00,1, -999.00,1,       51.4,2, 20220529,     2132,  29.9998,-179.6744,     3.9683,2,     -999.0,9,     -999.0,9,     -999.0,9,     -999.0,9,     0.0134,1,     4.7001,1,     -999.0,9,     -999.0,9,     -999.0,9
33RR20220430,        P02,      85,          1,         20,         20,2,20220529,       1957,    29.9998,  -179.6744,       5353,  1048.6,2,   3.5672,2,  34.3255,2,  34.3272,2,     25.9,2,    26.0,2,  125.56,2,   43.29,2,    0.00,2,    3.07,2,   0.161,2,   0.097,2,   0.0000,2,  2361.4,2,  2360.2,2,   7.3217,2,    25.00,2, -999.00,9,  -999.0,9, -999.00,1, -999.00,1,       54.4,2, 20220529,     2129,  29.9998,-179.6744,     3.5668,2,     -999.0,9,     -999.0,9,     -999.0,9,     -999.0,9,     0.0133,1,     4.6997,1,     -999.0,9,     -999.0,9,     -999.0,9
33RR20220430,        P02,      85,          1,         19,         19,2,20220529,       1957,    29.9998,  -179.6744,       5353,  1150.1,2,   3.2832,2,  34.3846,2,  34.3833,2,     24.7,3,    25.5,2,  134.05,2,   43.69,2,    0.00,2,    3.11,2,   0.081,2,   0.053,2,   0.0000,2,  2369.1,2,  2371.0,2,   7.3253,2,    24.99,2, -999.00,9,  -999.0,9, -999.00,1, -999.00,1,       54.4,2, 20220529,     2126,  29.9998,-179.6744,     3.2895,2,     -999.0,9,     -999.0,9,     -999.0,9,     -999.0,9,     0.0134,1,     4.7001,1,     -999.0,9,     -999.0,9,     -999.0,9
33RR20220430,        P02,      85,          1,         18,         18,2,20220529,       1957,    29.9998,  -179.6744,       5353,  1251.9,2,   3.0267,2,  34.4400,2,  34.4379,2,     27.8,3,    27.3,2,  141.57,2,   43.72,2,    0.00,2,    3.10,2,   0.034,2,   0.025,2,   0.0000,2,  2377.0,2,  2381.2,2,   7.3358,2,    25.02,2, -999.00,9,  -999.0,9, -999.00,1, -999.00,1,       53.4,2, 20220529,     2124,  29.9998,-179.6744,     3.0256,2,     -999.0,9,     -999.0,9,     -999.0,9,     -999.0,9,     0.0134,1,     4.6998,1,     -999.0,9,     -999.0,9,     -999.0,9
33RR20220430,        P02,      85,          1,         17,         17,2,20220529,       1957,    29.9998,  -179.6744,       5353,  1353.9,2,   2.9038,2,  34.4665,2,  34.4644,2,     31.8,3,    31.4,2,  144.50,2,   43.58,2,    0.00,2,    3.09,2,   0.024,2,   0.016,2,   0.0000,2,  2378.5,2,  2386.6,2,   7.3461,2,    25.01,2, -999.00,9,  -999.0,9, -999.00,1, -999.00,1,       51.2,2, 20220529,     2121,  29.9998,-179.6744,     2.9003,2,     -999.0,9,     -999.0,9,     -999.0,9,     -999.0,9,     0.0134,1,     4.7007,1,     -999.0,9,     -999.0,9,     -999.0,9
33RR20220430,        P02,      85,          1,         16,         16,2,20220529,       1957,    29.9998,  -179.6744,       5353,  1485.3,2,   2.6747,2,  34.5118,2,  34.5127,2,     42.4,3,    41.9,2,  149.67,2,   43.08,2,    0.00,2,    3.04,2,   0.012,2,   0.006,2,   0.0000,2,  2377.7,2,  2395.1,2,   7.3702,2,    25.02,2, -999.00,9,  -999.0,9, -999.00,9, -999.00,9,       45.2,2, 20220529,     2118,  29.9998,-179.6744,     2.6722,2,     -999.0,9,     -999.0,9,     -999.0,9,     -999.0,9,     0.0134,1,     4.7011,1,     -999.0,9,     -999.0,9,     -999.0,9
33RR20220430,        P02,      85,          1,         15,         15,2,20220529,       1957,    29.9998,  -179.6744,       5353,  1686.7,2,   2.3014,2,  34.5568,2,  34.5563,2,     55.9,3,    56.5,2,  158.26,2,   42.37,2,    0.00,2,    2.96,2,   0.008,2,   0.000,2,   0.0000,2,  2376.7,2,  2404.1,2,   7.3956,2,    25.02,2, -999.00,9,  -999.0,9, -999.00,1, -999.00,1,       39.8,2, 20220529,     2113,  29.9997,-179.6744,     2.3019,2,     -999.0,9,     -999.0,9,     -999.0,9,     -999.0,9,     0.0133,1,     4.7021,1,     -999.0,9,     -999.0,9,     -999.0,9
33RR20220430,        P02,      85,          1,         14,         14,2,20220529,       1957,    29.9998,  -179.6744,       5353,  1889.4,2,   2.0345,2,  34.5917,2,  34.5914,2,     72.2,2,    72.0,2,  162.56,2,   41.34,2,    0.00,2,    2.88,2,-999.000,9,-999.000,9,-999.0000,9,  2374.0,2,  2411.5,2,   7.4265,2,    25.00,2, -999.00,9,  -999.0,9, -999.00,9, -999.00,9,     -999.0,9, 20220529,     2109,  29.9997,-179.6744,     2.0346,2,     -999.0,9,     -999.0,9,     -999.0,9,     -999.0,9,     0.0122,1,     4.7033,1,     -999.0,9,     -999.0,9,     -999.0,9
33RR20220430,        P02,      85,          1,         13,         13,2,20220529,       1957,    29.9998,  -179.6744,       5353,  2113.6,2,   1.8602,2,  34.6148,2,  34.6144,2,     86.5,2,    86.7,2,  164.02,2,   40.42,2,    0.00,2,    2.81,2,   0.004,2,   0.000,2,   0.0000,2,  2368.0,2,  2415.3,2,   7.4541,2,    24.99,2, -999.00,9,  -999.0,9, -999.00,1, -999.00,1,       32.7,2, 20220529,     2104,  29.9998,-179.6744,     1.8604,2,     -999.0,9,     -999.0,9,     -999.0,9,     -999.0,9,     0.0133,1,     4.7036,1,     -999.0,9,     -999.0,9,     -999.0,9
33RR20220430,        P02,      85,          1,         12,         12,2,20220529,       1957,    29.9998,  -179.6744,       5353,  2366.8,2,   1.7213,2,  34.6331,2,  34.6327,2,     99.4,2,    99.5,2,  164.51,2,   39.58,2,    0.00,2,    2.75,2,-999.000,9,-999.000,9,-999.0000,9,  2361.7,2,  2416.7,2,   7.4784,2,    24.98,2, -999.00,9,  -999.0,9, -999.00,9, -999.00,9,     -999.0,9, 20220529,     2059,  29.9997,-179.6744,     1.7218,2,     -999.0,9,     -999.0,9,     -999.0,9,     -999.0,9,     0.0126,1,     4.7036,1,     -999.0,9,     -999.0,9,     -999.0,9
33RR20220430,        P02,      85,          1,         11,         11,2,20220529,       1957,    29.9998,  -179.6744,       5353,  2620.9,2,   1.6144,2,  34.6484,2,  34.6482,2,    112.5,2,   112.6,2,  163.33,2,   38.67,2,    0.00,2,    2.69,2,   0.004,2,   0.000,2,   0.0000,2,  2352.4,2,  2417.4,2,   7.5035,2,    24.98,2, -999.00,9,  -999.0,9, -999.00,1, -999.00,1,       27.8,2, 20220529,     2054,  29.9998,-179.6744,     1.6141,2,     -999.0,9,     -999.0,9,     -999.0,9,     -999.0,9,     0.0128,1,     4.7043,1,     -999.0,9,     -999.0,9,     -999.0,9
33RR20220430,        P02,      85,          1,         10,         10,2,20220529,       1957,    29.9998,  -179.6744,       5353,  2876.9,2,   1.5413,2,  34.6598,2,  34.6590,2,    123.7,2,   123.6,2,  161.09,2,   37.94,2,    0.00,2,    2.62,2,-999.000,9,-999.000,9,-999.0000,9,  2348.6,2,  2420.3,2,   7.5252,2,    24.97,2, -999.00,9,  -999.0,9, -999.00,9, -999.00,9,     -999.0,9, 20220529,     2048,  29.9997,-179.6744,     1.5412,2,     -999.0,9,     -999.0,9,     -999.0,9,     -999.0,9,     0.0127,1,     4.7044,1,     -999.0,9,     -999.0,9,     -999.0,9
33RR20220430,        P02,      85,          1,          9,          9,2,20220529,       1957,    29.9998,  -179.6744,       5353,  3146.7,2,   1.4980,2,  34.6678,2,  34.6696,2,    132.1,2,   132.1,2,  159.91,2,   37.38,2,    0.00,2,    2.58,2,   0.004,2,   0.000,2,   0.0000,2,  2341.2,6,  2419.2,2,   7.5396,2,    24.99,2, -999.00,9,  -999.0,9, -999.00,1, -999.00,1,       25.2,2, 20220529,     2043,  29.9998,-179.6744,     1.4979,2,     -999.0,9,     -999.0,9,     -999.0,9,     -999.0,9,     0.0122,1,     4.7053,1,     -999.0,9,     -999.0,9,     -999.0,9
33RR20220430,        P02,      85,          1,          8,          8,2,20220529,       1957,    29.9998,  -179.6744,       5353,  3453.6,2,   1.4689,2,  34.6745,2,  34.6743,2,    139.7,2,   139.9,2,  157.86,2,   36.89,2,    0.00,2,    2.54,2,-999.000,9,-999.000,9,-999.0000,9,  2336.1,2,  2421.1,2,   7.5539,2,    24.99,2, -999.00,9,  -999.0,9, -999.00,9, -999.00,9,     -999.0,9, 20220529,     2037,  29.9998,-179.6744,     1.4686,2,     -999.0,9,     -999.0,9,     -999.0,9,     -999.0,9,     0.0128,1,     4.7056,1,     -999.0,9,     -999.0,9,     -999.0,9
33RR20220430,        P02,      85,          1,          7,          7,2,20220529,       1957,    29.9998,  -179.6744,       5353,  3760.1,2,   1.4568,2,  34.6794,2,  34.6794,2,    145.5,2,   145.7,2,  156.10,2,   36.50,2,    0.00,2,    2.51,2,   0.006,2,   0.000,2,   0.0000,2,  2332.1,2,  2418.4,2,   7.5641,2,    24.99,2, -999.00,9,  -999.0,9, -999.00,1, -999.00,1,       22.7,2, 20220529,     2031,  29.9997,-179.6744,     1.4565,2,     -999.0,9,     -999.0,9,     -999.0,9,     -999.0,9,     0.0131,1,     4.7056,1,     -999.0,9,     -999.0,9,     -999.0,9
33RR20220430,        P02,      85,          1,          6,          6,2,20220529,       1957,    29.9998,  -179.6744,       5353,  4066.3,2,   1.4615,2,  34.6825,3,  34.6800,2,    149.5,2,   149.3,2,  154.83,2,   36.24,2,    0.00,2,    2.49,2,-999.000,9,-999.000,9,-999.0000,9,  2327.2,2,  2419.7,2,   7.5712,2,    24.99,2, -999.00,9,  -999.0,9, -999.00,9, -999.00,9,     -999.0,9, 20220529,     2025,  29.9998,-179.6744,     1.4614,2,     -999.0,9,     -999.0,9,     -999.0,9,     -999.0,9,     0.0130,1,     4.7045,1,     -999.0,9,     -999.0,9,     -999.0,9
33RR20220430,        P02,      85,          1,          5,          5,2,20220529,       1957,    29.9998,  -179.6744,       5353,  4375.3,2,   1.4718,2,  34.6851,2,  34.6848,2,    153.2,2,   153.6,2,  153.46,2,   36.04,2,    0.00,2,    2.48,2,-999.000,9,-999.000,9,-999.0000,9,  2327.2,2,  2417.6,2,   7.5765,2,    24.97,2, -999.00,9,  -999.0,9, -999.00,1, -999.00,1,     -999.0,9, 20220529,     2019,  29.9997,-179.6744,     1.4715,2,     -999.0,9,     -999.0,9,     -999.0,9,     -999.0,9,     0.0122,1,     4.7056,1,     -999.0,9,     -999.0,9,     -999.0,9
33RR20220430,        P02,      85,          1,          4,          4,2,20220529,       1957,    29.9998,  -179.6744,       5353,  4681.9,2,   1.4811,2,  34.6877,2,  34.6875,2,    157.9,2,   158.0,2,  149.26,2,   35.69,2,    0.00,2,    2.45,2,   0.008,2,   0.000,2,   0.0000,2,  2321.1,2,  2416.8,2,   7.5829,2,    25.00,2, -999.00,9,  -999.0,9, -999.00,9, -999.00,9,       21.7,2, 20220529,     2013,  29.9998,-179.6744,     1.4811,2,     -999.0,9,     -999.0,9,     -999.0,9,     -999.0,9,     0.0122,1,     4.7057,1,     -999.0,9,     -999.0,9,     -999.0,9