BOTTLE,20230801CCHSIOCBG
EXPOCODE,SECT_ID,STNNBR,CASTNO,SAMPNO,BTLNBR,BTLNBR_FLAG_W,DATE,TIME,LATITUDE,LONGITUDE,DEPTH,CTDPRS,CTDPRS_FLAG_W,CTDTMP,CTDTMP_FLAG_W,CTDSAL,CTDSAL_FLAG_W,SALNTY,SALNTY_FLAG_W,CTDOXY,CTDOXY_FLAG_W,OXYGEN,OXYGEN_FLAG_W,SILCAT,SILCAT_FLAG_W,NITRAT,NITRAT_FLAG_W,NITRIT,NITRIT_FLAG_W,PHSPHT,PHSPHT_FLAG_W,CFC-11,CFC-11_FLAG_W,CFC-12,CFC-12_FLAG_W,SF6,SF6_FLAG_W,TCARBN,TCARBN_FLAG_W,ALKALI,ALKALI_FLAG_W,PH_TOT,PH_TOT_FLAG_W,PH_TMP,PH_TMP_FLAG_W,DELC13,DELC13_FLAG_W,DELC14,DELC14_FLAG_W,DOC,DOC_FLAG_W,TDN,TDN_FLAG_W,N2O,N2O_FLAG_W,BTL_DATE,BTL_TIME,BTL_LAT,BTL_LON,REFTMP,REFTMP_FLAG_W,POC,POC_FLAG_W,PON,PON_FLAG_W,POP,POP_FLAG_W,PCOD,PCOD_FLAG_W,CTDFLUOR,CTDFLUOR_FLAG_W,CTDXMISS,CTDXMISS_FLAG_W,HPLC,HPLC_FLAG_W,DNA,DNA_FLAG_W,FCM,FCM_FLAG_W
,,,,,,,,,,,METERS,DBAR,,ITS-90,,PSS-78,,PSS-78,,UMOL/KG,,UMOL/KG,,UMOL/KG,,UMOL/KG,,UMOL/KG,,UMOL/KG,,PMOL/KG,,PMOL/KG,,FMOL/KG,,UMOL/KG,,UMOL/KG,,,,DEG C,,/MILLE,,/MILLE,,UMOL/KG,,UMOL/KG,,NMOL/KG,,,,,,ITS-90,,UG/L,,UG/L,,UG/L,,UG/L,,VOLTS,,VOLTS,,,,,,,
33RR20220430,        P02,      58,          1,         36,         36,2,20220521,       1808,    29.9991,   165.6802,       5976,     4.0,2,  21.1609,2,  34.9022,2,  34.8969,2,    229.1,2,   229.0,2,    1.27,2,    0.03,2,    0.00,2,    0.01,2,   2.050,6,   1.195,6,   2.0709,6,  2024.2,2,  2290.8,2,   7.9868,2,    24.93,2, -999.00,9,  -999.0,9, -999.00,1, -999.00,1,        6.5,6, 20220521,     2030,  29.9991, 165.6802,    21.1828,2,     -999.0,9,     -999.0,9,     -999.0,9,     -999.0,9,     0.0135,1,     4.6285,1,     -999.0,9,     -999.0,9,     -999.0,9
33RR20220430,        P02,      58,          1,         35,         35,2,20220521,       1808,    29.9991,   165.6802,       5976,    35.9,2,  19.2130,2,  34.7714,2,  34.7648,2,    239.8,2,   240.8,2,    1.47,2,    0.02,2,    0.00,2,    0.00,2,   2.191,2,   1.288,2,   2.3102,2,  2023.6,2,  2285.5,2,   7.9846,2,    24.93,2, -999.00,9,  -999.0,9, -999.00,1, -999.00,1,        7.0,2, 20220521,     2027,  29.9990, 165.6801,    19.1901,2,     -999.0,9,     -999.0,9,     -999.0,9,     -999.0,9,     0.0159,1,     4.6282,1,     -999.0,9,     -999.0,9,     -999.0,9
33RR20220430,        P02,      58,          1,         34,         34,2,20220521,       1808,    29.9991,   165.6802,       5976,    60.9,2,  17.6839,2,  34.7608,2,  34.7581,2,    240.5,2,   241.6,2,    1.66,2,    0.07,2,    0.00,2,    0.02,2,   2.316,2,   1.327,2,   2.1506,2,  2023.0,2,  2282.8,2,   7.9799,2,    24.99,2, -999.00,9,  -999.0,9, -999.00,1, -999.00,1,        7.6,2, 20220521,     2026,  29.9991, 165.6801,    17.7132,2,     -999.0,9,     -999.0,9,     -999.0,9,     -999.0,9,     0.0391,1,     4.5957,1,     -999.0,9,     -999.0,9,     -999.0,9
33RR20220430,        P02,      58,          1,         33,         33,2,20220521,       1808,    29.9991,   165.6802,       5976,    86.4,2,  17.0593,2,  34.7217,2,  34.7166,2,    233.4,2,   232.6,2,    2.25,2,    1.64,2,    0.13,2,    0.13,2,   2.310,2,   1.361,2,   2.2785,2,  2030.5,2,  2279.9,2,   7.9545,2,    24.98,2, -999.00,9,  -999.0,9, -999.00,1, -999.00,1,        8.3,2, 20220521,     2024,  29.9991, 165.6802,    17.0674,2,     -999.0,9,     -999.0,9,     -999.0,9,     -999.0,9,     0.0474,1,     4.6062,1,     -999.0,9,     -999.0,9,     -999.0,9
33RR20220430,        P02,      58,          1,         32,         32,2,20220521,       1808,    29.9991,   165.6802,       5976,   115.0,2,  16.5361,2,  34.6892,2,  34.6853,2,    230.7,2,   230.2,2,    2.93,2,    2.83,2,    0.11,2,    0.19,2,   2.301,2,   1.319,2,   2.2753,2,  2039.0,2,  2278.0,2,   7.9403,2,    25.00,2, -999.00,9,  -999.0,9, -999.00,1, -999.00,1,        8.3,2, 20220521,     2022,  29.9991, 165.6802,    16.5316,2,     -999.0,9,     -999.0,9,     -999.0,9,     -999.0,9,     0.0302,1,     4.6502,1,     -999.0,9,     -999.0,9,     -999.0,9
33RR20220430,        P02,      58,          1,         31,         31,2,20220521,       1808,    29.9991,   165.6802,       5976,   168.4,2,  15.8855,2,  34.6455,2,  34.6425,2,    229.6,2,   229.7,2,    4.01,2,    4.10,2,    0.04,2,    0.25,2,   2.342,2,   1.346,2,   2.2023,2,  2045.1,2,  2274.9,2,   7.9257,2,    24.98,2, -999.00,9,  -999.0,9, -999.00,1, -999.00,1,        8.7,2, 20220521,     2020,  29.9990, 165.6801,    15.9071,2,     -999.0,9,     -999.0,9,     -999.0,9,     -999.0,9,     0.0166,1,     4.6753,1,     -999.0,9,     -999.0,9,     -999.0,9
33RR20220430,        P02,      58,          1,         30,         30,2,20220521,       1808,    29.9991,   165.6802,       5976,   217.8,2,  15.5226,2,  34.6399,2,  34.6366,2,    228.5,2,   228.4,2,    4.98,2,    4.92,2,    0.00,2,    0.30,2,   2.417,2,   1.409,2,   2.2663,2,  2053.4,2,  2276.2,2,   7.9143,2,    24.96,2, -999.00,9,  -999.0,9, -999.00,1, -999.00,1,        9.0,2, 20220521,     2018,  29.9991, 165.6801,    15.5270,2,     -999.0,9,     -999.0,9,     -999.0,9,     -999.0,9,     0.0127,1,     4.6850,1,     -999.0,9,     -999.0,9,     -999.0,9
33RR20220430,        P02,      58,          1,         29,         29,2,20220521,       1808,    29.9991,   165.6802,       5976,   268.8,2,  14.9598,2,  34.5786,2,  34.5779,2,    212.3,2,   211.8,2,    7.43,2,    7.34,2,    0.00,2,    0.48,2,   2.413,2,   1.385,2,   2.0788,2,  2072.1,2,  2274.8,2,   7.8781,2,    24.99,2, -999.00,9,  -999.0,9, -999.00,1, -999.00,1,       10.6,2, 20220521,     2016,  29.9991, 165.6801,    14.9800,2,     -999.0,9,     -999.0,9,     -999.0,9,     -999.0,9,     0.0122,1,     4.6884,1,     -999.0,9,     -999.0,9,     -999.0,9
33RR20220430,        P02,      58,          1,         28,         28,2,20220521,       1808,    29.9991,   165.6802,       5976,   316.1,2,  13.8140,2,  34.4751,2,  34.4703,2,    203.9,2,   203.8,2,   10.85,2,    9.97,2,    0.00,2,    0.64,2,   2.543,2,   1.449,2,   2.0945,2,  2088.4,2,  2271.9,2,   7.8336,2,    24.99,2, -999.00,9,  -999.0,9, -999.00,1, -999.00,1,       12.2,2, 20220521,     2014,  29.9990, 165.6801,    13.8070,2,     -999.0,9,     -999.0,9,     -999.0,9,     -999.0,9,     0.0122,1,     4.6919,1,     -999.0,9,     -999.0,9,     -999.0,9
33RR20220430,        P02,      58,          1,         27,         27,2,20220521,       1808,    29.9991,   165.6802,       5976,   369.1,2,  12.3621,2,  34.3614,2,  34.3601,2,    201.7,2,   201.7,2,   15.34,2,   12.61,2,    0.00,2,    0.84,2,   2.643,2,   1.497,2,   1.8555,2,  2102.2,2,  2270.4,2,   7.7915,2,    24.99,2, -999.00,9,  -999.0,9, -999.00,1, -999.00,1,       13.9,2, 20220521,     2013,  29.9991, 165.6801,    12.3353,2,     -999.0,9,     -999.0,9,     -999.0,9,     -999.0,9,     0.0122,1,     4.6933,1,     -999.0,9,     -999.0,9,     -999.0,9
33RR20220430,        P02,      58,          1,         26,         26,2,20220521,       1808,    29.9991,   165.6802,       5976,   445.6,2,  10.7804,2,  34.2383,2,  34.2317,2,    206.3,2,   206.8,2,   20.33,2,   14.95,2,    0.00,2,    1.02,2,   2.739,2,   1.565,2,   2.1120,2,  -999.0,9,  -999.0,9,-999.0000,9,  -999.00,9, -999.00,9,  -999.0,9, -999.00,1, -999.00,1,       15.0,2, 20220521,     2010,  29.9991, 165.6801,    10.7770,2,     -999.0,9,     -999.0,9,     -999.0,9,     -999.0,9,     0.0122,1,     4.6934,1,     -999.0,9,     -999.0,9,     -999.0,9
33RR20220430,        P02,      58,          1,         25,         25,2,20220521,       1808,    29.9991,   165.6802,       5976,   546.0,2,   8.0523,2,  34.0218,2,  34.0211,2,    192.9,2,   193.8,2,   34.70,2,   21.05,2,    0.00,2,    1.48,2,   2.851,2,   1.654,2,   1.9067,2,  2162.2,2,  2273.6,2,   7.6539,2,    24.97,2, -999.00,9,  -999.0,9, -999.00,1, -999.00,1,       19.3,2, 20220521,     2008,  29.9991, 165.6801,     8.0346,3,     -999.0,9,     -999.0,9,     -999.0,9,     -999.0,9,     0.0134,1,     4.6977,1,     -999.0,9,     -999.0,9,     -999.0,9
33RR20220430,        P02,      58,          1,         24,         24,2,20220521,       1808,    29.9991,   165.6802,       5976,   648.3,2,   5.8552,2,  33.9826,2,  33.9847,2,    130.4,2,   129.5,2,   62.86,2,   31.03,2,    0.00,2,    2.19,2,   2.307,2,   1.266,2,   1.1597,2,  2233.4,2,  2290.4,2,   7.4931,2,    24.99,2, -999.00,9,  -999.0,9, -999.00,9, -999.00,9,       29.5,2, 20220521,     2005,  29.9990, 165.6801,     5.8628,2,     -999.0,9,     -999.0,9,     -999.0,9,     -999.0,9,     0.0134,1,     4.7009,1,     -999.0,9,     -999.0,9,     -999.0,9
33RR20220430,        P02,      58,          1,         23,         23,2,20220521,       1808,    29.9991,   165.6802,       5976,   748.4,2,   4.9176,2,  34.0788,2,  34.0811,2,     81.8,2,    81.6,2,   84.94,2,   36.88,2,    0.00,2,    2.61,2,   1.490,2,   0.819,2,   0.5486,2,  2286.7,2,  2311.0,2,   7.4001,2,    25.01,2, -999.00,9,  -999.0,9, -999.00,1, -999.00,1,       37.3,2, 20220521,     2002,  29.9990, 165.6802,     4.9176,2,     -999.0,9,     -999.0,9,     -999.0,9,     -999.0,9,     0.0134,1,     4.7011,1,     -999.0,9,     -999.0,9,     -999.0,9
33RR20220430,        P02,      58,          1,         22,         22,2,20220521,       1808,    29.9991,   165.6802,       5976,   848.1,2,   4.3618,2,  34.1600,2,  34.1611,2,     57.9,2,    57.8,2,  100.97,2,   39.66,2,    0.00,2,    2.81,2,   0.997,2,   0.530,2,   0.3412,2,  -999.0,9,  -999.0,9,-999.0000,9,  -999.00,9, -999.00,9,  -999.0,9, -999.00,9, -999.00,9,       41.8,2, 20220521,     2000,  29.9991, 165.6802,     4.3602,2,     -999.0,9,     -999.0,9,     -999.0,9,     -999.0,9,     0.0134,1,     4.7013,1,     -999.0,9,     -999.0,9,     -999.0,9
33RR20220430,        P02,      58,          1,         21,         21,2,20220521,       1808,    29.9991,   165.6802,       5976,   950.0,2,   3.8730,2,  34.2430,2,  34.2472,2,     41.6,3,    42.2,2,  116.31,2,   41.44,2,    0.00,2,    2.94,2,   0.576,2,   0.318,2,   0.0000,2,  2340.2,2,  2346.4,2,   7.3374,2,    24.98,2, -999.00,9,  -999.0,9, -999.00,1, -999.00,1,       45.2,2, 20220521,     1957,  29.9991, 165.6802,     3.8759,2,     -999.0,9,     -999.0,9,     -999.0,9,     -999.0,9,     0.0134,1,     4.7018,1,     -999.0,9,     -999.0,9,     -999.0,9
33RR20220430,        P02,      58,          1,         20,         20,2,20220521,       1808,    29.9991,   165.6802,       5976,  1050.4,2,   3.4622,2,  34.3226,2,  34.3242,2,     30.5,3,    31.2,2,  128.03,2,   42.76,2,    0.00,2,    3.04,2,   0.257,2,   0.138,2,   0.0000,2,  -999.0,9,  -999.0,9,-999.0000,9,  -999.00,9, -999.00,9,  -999.0,9, -999.00,9, -999.00,9,       48.4,2, 20220521,     1954,  29.9991, 165.6801,     3.4616,2,     -999.0,9,     -999.0,9,     -999.0,9,     -999.0,9,     0.0134,1,     4.7018,1,     -999.0,9,     -999.0,9,     -999.0,9
33RR20220430,        P02,      58,          1,         19,         19,2,20220521,       1808,    29.9991,   165.6802,       5976,  1157.7,2,   3.1141,2,  34.3812,2,  34.3817,2,     30.7,2,    30.9,2,  138.97,2,   43.06,2,    0.00,2,    3.06,2,   0.166,2,   0.091,2,   0.0000,2,  2368.8,6,  2374.8,2,   7.3297,2,    24.96,2, -999.00,9,  -999.0,9, -999.00,1, -999.00,1,       47.7,2, 20220521,     1951,  29.9990, 165.6801,     3.1183,2,     -999.0,9,     -999.0,9,     -999.0,9,     -999.0,9,     0.0134,1,     4.7018,1,     -999.0,9,     -999.0,9,     -999.0,9
33RR20220430,        P02,      58,          1,         18,         18,2,20220521,       1808,    29.9991,   165.6802,       5976,  1258.6,2,   2.8827,2,  34.4250,2,  34.4273,2,     31.3,2,    31.2,2,  146.49,2,   43.41,2,    0.00,2,    3.07,2,   0.097,2,   0.059,2,   0.0000,2,  2377.9,2,  2382.1,2,   7.3359,2,    24.99,2, -999.00,9,  -999.0,9, -999.00,1, -999.00,1,       46.8,2, 20220521,     1949,  29.9991, 165.6801,     2.8817,2,     -999.0,9,     -999.0,9,     -999.0,9,     -999.0,9,     0.0134,1,     4.7020,1,     -999.0,9,     -999.0,9,     -999.0,9
33RR20220430,        P02,      58,          1,         17,         17,2,20220521,       1808,    29.9991,   165.6802,       5976,  1359.4,2,   2.6969,2,  34.4617,2,  34.4646,2,     33.8,2,    33.7,2,  151.37,2,   43.34,2,    0.00,2,    3.07,2,   0.058,2,   0.035,2,   0.0000,2,  2381.5,2,  2392.0,2,   7.3428,2,    24.99,2, -999.00,9,  -999.0,9, -999.00,1, -999.00,1,       45.0,2, 20220521,     1946,  29.9991, 165.6801,     2.6961,2,     -999.0,9,     -999.0,9,     -999.0,9,     -999.0,9,     0.0134,1,     4.7030,1,     -999.0,9,     -999.0,9,     -999.0,9
33RR20220430,        P02,      58,          1,         16,         16,2,20220521,       1808,    29.9991,   165.6802,       5976,  1485.4,2,   2.4897,2,  34.5066,2,  34.5084,2,     40.5,2,    40.4,2,  155.76,2,   43.20,2,    0.00,2,    3.03,2,   0.028,2,   0.014,2,   0.0000,2,  -999.0,9,  -999.0,9,-999.0000,9,  -999.00,9, -999.00,9,  -999.0,9, -999.00,9, -999.00,9,     -999.0,5, 20220521,     1943,  29.9990, 165.6802,     2.4855,2,     -999.0,9,     -999.0,9,     -999.0,9,     -999.0,9,     0.0134,1,     4.7034,1,     -999.0,9,     -999.0,9,     -999.0,9
33RR20220430,        P02,      58,          1,         15,         15,2,20220521,       1808,    29.9991,   165.6802,       5976,  1686.6,2,   2.2222,2,  34.5530,2,  34.5551,2,     57.1,2,    57.1,2,  160.54,2,   42.24,2,    0.00,2,    2.96,2,-999.000,5,-999.000,5,-999.0000,5,  2378.2,2,  2405.0,2,   7.3941,2,    24.99,2, -999.00,9,  -999.0,9, -999.00,1, -999.00,1,     -999.0,5, 20220521,     1938,  29.9991, 165.6802,     2.2205,2,     -999.0,9,     -999.0,9,     -999.0,9,     -999.0,9,     0.0134,1,     4.7044,1,     -999.0,9,     -999.0,9,     -999.0,9
33RR20220430,        P02,      58,          1,         14,         14,2,20220521,       1808,    29.9991,   165.6802,       5976,  1892.0,2,   2.0239,2,  34.5863,2,  34.5875,2,     72.5,2,    72.4,2,  162.89,2,   41.24,2,    0.00,2,    2.89,2,   0.008,2,   0.004,2,   0.0000,2,  -999.0,9,  -999.0,9,-999.0000,9,  -999.00,9, -999.00,9,  -999.0,9, -999.00,9, -999.00,9,       34.2,2, 20220521,     1934,  29.9990, 165.6802,     2.0244,2,     -999.0,9,     -999.0,9,     -999.0,9,     -999.0,9,     0.0134,1,     4.7057,1,     -999.0,9,     -999.0,9,     -999.0,9
33RR20220430,        P02,      58,          1,         13,         13,2,20220521,       1808,    29.9991,   165.6802,       5976,  2115.9,2,   1.8494,2,  34.6142,2,  34.6152,2,     90.2,2,    90.6,2,  161.42,2,   40.32,2,    0.00,2,    2.78,2,   0.007,2,   0.000,2,   0.0000,2,  2363.3,2,  2413.7,2,   7.4603,2,    25.00,2, -999.00,9,  -999.0,9, -999.00,1, -999.00,1,       30.5,2, 20220521,     1929,  29.9991, 165.6802,     1.8497,2,     -999.0,9,     -999.0,9,     -999.0,9,     -999.0,9,     0.0127,1,     4.7068,1,     -999.0,9,     -999.0,9,     -999.0,9
33RR20220430,        P02,      58,          1,         12,         12,2,20220521,       1808,    29.9991,   165.6802,       5976,  2370.1,2,   1.7092,2,  34.6362,2,  34.6378,2,    107.3,2,   107.0,2,  159.17,2,   39.11,2,    0.00,2,    2.70,2,-999.000,9,-999.000,9,-999.0000,9,  -999.0,9,  -999.0,9,-999.0000,9,  -999.00,9, -999.00,9,  -999.0,9, -999.00,9, -999.00,9,     -999.0,9, 20220521,     1924,  29.9991, 165.6801,     1.7093,2,     -999.0,9,     -999.0,9,     -999.0,9,     -999.0,9,     0.0128,1,     4.7068,1,     -999.0,9,     -999.0,9,     -999.0,9
33RR20220430,        P02,      58,          1,         11,         11,2,20220521,       1808,    29.9991,   165.6802,       5976,  2622.7,2,   1.6325,2,  34.6492,2,  34.6502,2,    118.5,2,   118.6,2,  158.38,2,   38.37,2,    0.00,2,    2.64,2,   0.005,2,   0.000,2,   0.0000,2,  2348.8,2,  2417.0,2,   7.5138,2,    25.00,2, -999.00,9,  -999.0,9, -999.00,1, -999.00,1,       25.8,2, 20220521,     1918,  29.9991, 165.6801,     1.6324,2,     -999.0,9,     -999.0,9,     -999.0,9,     -999.0,9,     0.0130,1,     4.7079,1,     -999.0,9,     -999.0,9,     -999.0,9
33RR20220430,        P02,      58,          1,         10,         10,2,20220521,       1808,    29.9991,   165.6802,       5976,  2879.3,2,   1.5812,2,  34.6584,2,  34.6594,2,    127.0,2,   127.3,2,  155.94,2,   37.75,2,    0.00,2,    2.61,2,-999.000,9,-999.000,9,-999.0000,9,  -999.0,9,  -999.0,9,-999.0000,9,  -999.00,9, -999.00,9,  -999.0,9, -999.00,9, -999.00,9,     -999.0,9, 20220521,     1913,  29.9990, 165.6801,     1.5811,2,     -999.0,9,     -999.0,9,     -999.0,9,     -999.0,9,     0.0122,1,     4.7071,1,     -999.0,9,     -999.0,9,     -999.0,9
33RR20220430,        P02,      58,          1,          9,          9,2,20220521,       1808,    29.9991,   165.6802,       5976,  3149.1,2,   1.5331,2,  34.6660,2,  34.6667,2,    134.2,2,   134.2,2,  154.57,2,   37.19,2,    0.00,2,    2.57,2,   0.005,2,   0.000,2,   0.0000,2,  2335.4,2,  2413.7,2,   7.5416,2,    24.99,2, -999.00,9,  -999.0,9, -999.00,1, -999.00,1,       23.5,2, 20220521,     1908,  29.9991, 165.6801,     1.5331,2,     -999.0,9,     -999.0,9,     -999.0,9,     -999.0,9,     0.0134,1,     4.7078,1,     -999.0,9,     -999.0,9,     -999.0,9
33RR20220430,        P02,      58,          1,          8,          8,2,20220521,       1808,    29.9991,   165.6802,       5976,  3455.4,2,   1.5050,2,  34.6720,2,  34.6726,2,    140.3,2,   140.3,2,  153.98,2,   36.85,2,    0.00,2,    2.54,2,-999.000,9,-999.000,9,-999.0000,9,  -999.0,9,  -999.0,9,-999.0000,9,  -999.00,9, -999.00,9,  -999.0,9, -999.00,9, -999.00,9,     -999.0,9, 20220521,     1901,  29.9991, 165.6801,     1.5049,2,     -999.0,9,     -999.0,9,     -999.0,9,     -999.0,9,     0.0125,1,     4.7072,1,     -999.0,9,     -999.0,9,     -999.0,9
33RR20220430,        P02,      58,          1,          7,          7,2,20220521,       1808,    29.9991,   165.6802,       5976,  3797.3,2,   1.4853,2,  34.6776,2,  34.6783,2,    146.5,2,   146.7,2,  151.64,2,   36.50,2,    0.00,2,    2.50,2,   0.006,2,   0.000,2,   0.0000,2,  2329.7,2,  2412.6,2,   7.5629,2,    24.99,2, -999.00,9,  -999.0,9, -999.00,1, -999.00,1,       22.4,2, 20220521,     1855,  29.9990, 165.6802,     1.4855,2,     -999.0,9,     -999.0,9,     -999.0,9,     -999.0,9,     0.0121,1,     4.7072,1,     -999.0,9,     -999.0,9,     -999.0,9
33RR20220430,        P02,      58,          1,          6,          6,2,20220521,       1808,    29.9991,   165.6802,       5976,  4209.3,2,   1.4725,2,  34.6832,2,  34.6838,2,    154.1,2,   153.8,2,  148.61,2,   36.02,2,    0.00,2,    2.46,2,-999.000,9,-999.000,9,-999.0000,9,  -999.0,9,  -999.0,9,-999.0000,9,  -999.00,9, -999.00,9,  -999.0,9, -999.00,9, -999.00,9,     -999.0,9, 20220521,     1847,  29.9991, 165.6801,     1.4724,2,     -999.0,9,     -999.0,9,     -999.0,9,     -999.0,9,     0.0122,1,     4.7080,1,     -999.0,9,     -999.0,9,     -999.0,9
33RR20220430,        P02,      58,          1,          5,          5,2,20220521,       1808,    29.9991,   165.6802,       5976,  4618.1,2,   1.4777,2,  34.6873,2,  34.6873,2,    160.6,2,   160.7,2,  145.09,2,   35.67,2,    0.00,2,    2.42,2,-999.000,9,-999.000,9,-999.0000,9,  2315.9,2,  2408.2,2,   7.5820,2,    24.99,2, -999.00,9,  -999.0,9, -999.00,1, -999.00,1,     -999.0,9, 20220521,     1839,  29.9991, 165.6801,     1.4775,2,     -999.0,9,     -999.0,9,     -999.0,9,     -999.0,9,     0.0122,1,     4.7081,1,     -999.0,9,     -999.0,9,     -999.0,9
33RR20220430,        P02,      58,          1,          4,          4,2,20220521,       1808,    29.9991,   165.6802,       5976,  5028.4,2,   1.4905,2,  34.6909,2,  34.6914,2,    166.6,2,   166.9,2,  140.69,2,   35.11,2,    0.00,2,    2.39,2,   0.007,2,   0.000,2,   0.0000,2,  2311.6,2,  2404.2,2,   7.5901,2,    25.00,2, -999.00,9,  -999.0,9, -999.00,1, -999.00,1,       20.6,2, 20220521,     1831,  29.9991, 165.6801,     1.4908,2,     -999.0,9,     -999.0,9,     -999.0,9,     -999.0,9,     0.0122,1,     4.7086,1,     -999.0,9,     -999.0,9,     -999.0,9