BOTTLE,20230801CCHSIOCBG
EXPOCODE,SECT_ID,STNNBR,CASTNO,SAMPNO,BTLNBR,BTLNBR_FLAG_W,DATE,TIME,LATITUDE,LONGITUDE,DEPTH,CTDPRS,CTDPRS_FLAG_W,CTDTMP,CTDTMP_FLAG_W,CTDSAL,CTDSAL_FLAG_W,SALNTY,SALNTY_FLAG_W,CTDOXY,CTDOXY_FLAG_W,OXYGEN,OXYGEN_FLAG_W,SILCAT,SILCAT_FLAG_W,NITRAT,NITRAT_FLAG_W,NITRIT,NITRIT_FLAG_W,PHSPHT,PHSPHT_FLAG_W,CFC-11,CFC-11_FLAG_W,CFC-12,CFC-12_FLAG_W,SF6,SF6_FLAG_W,TCARBN,TCARBN_FLAG_W,ALKALI,ALKALI_FLAG_W,PH_TOT,PH_TOT_FLAG_W,PH_TMP,PH_TMP_FLAG_W,DELC13,DELC13_FLAG_W,DELC14,DELC14_FLAG_W,DOC,DOC_FLAG_W,TDN,TDN_FLAG_W,N2O,N2O_FLAG_W,BTL_DATE,BTL_TIME,BTL_LAT,BTL_LON,REFTMP,REFTMP_FLAG_W,POC,POC_FLAG_W,PON,PON_FLAG_W,POP,POP_FLAG_W,PCOD,PCOD_FLAG_W,CTDFLUOR,CTDFLUOR_FLAG_W,CTDXMISS,CTDXMISS_FLAG_W,HPLC,HPLC_FLAG_W,DNA,DNA_FLAG_W,FCM,FCM_FLAG_W
,,,,,,,,,,,METERS,DBAR,,ITS-90,,PSS-78,,PSS-78,,UMOL/KG,,UMOL/KG,,UMOL/KG,,UMOL/KG,,UMOL/KG,,UMOL/KG,,PMOL/KG,,PMOL/KG,,FMOL/KG,,UMOL/KG,,UMOL/KG,,,,DEG C,,/MILLE,,/MILLE,,UMOL/KG,,UMOL/KG,,NMOL/KG,,,,,,ITS-90,,UG/L,,UG/L,,UG/L,,UG/L,,VOLTS,,VOLTS,,,,,,,
33RR20220430,        P02,       5,          1,          3,          3,2,20220505,       0103,    32.2463,   133.3859,       1162,  1063.4,2,   3.2900,2,  34.4342,2,  34.4324,2,     64.9,3,    63.8,2,  130.14,2,   40.11,2,    0.00,2,    2.91,2,   0.255,2,   0.123,2,   0.0865,2,  2343.2,2,  2377.3,2,   7.4083,2,    25.08,2, -999.00,9,  -999.0,9, -999.00,1, -999.00,1,       40.8,2, 20220505,      108,  32.2444, 133.3774,     3.2898,2,     -999.0,9,     -999.0,9,     -999.0,9,     -999.0,9,     0.0134,1,     4.6924,1,     -999.0,9,     -999.0,9,     -999.0,9
33RR20220430,        P02,       5,          1,          2,          2,2,20220505,       0103,    32.2463,   133.3859,       1162,  1123.1,2,   3.1444,2,  34.4500,2,  34.4479,2,     65.7,2,    65.8,2,  133.17,2,   40.39,2,    0.00,2,    2.91,2,-999.000,9,-999.000,9,-999.0000,9,  -999.0,9,  -999.0,9,-999.0000,9,  -999.00,9, -999.00,9,  -999.0,9, -999.00,9, -999.00,9,     -999.0,9, 20220505,      105,  32.2443, 133.3769,     3.1461,2,     -999.0,9,     -999.0,9,     -999.0,9,     -999.0,9,     0.0134,1,     4.6938,1,     -999.0,9,     -999.0,9,     -999.0,9
33RR20220430,        P02,       5,          1,          1,          1,2,20220505,       0103,    32.2463,   133.3859,       1162,  1163.8,2,   2.9676,2,  34.4702,2,  34.4685,2,     67.3,2,    67.6,2,  136.10,2,   40.32,2,    0.00,2,    2.89,2,   0.201,2,   0.131,2,   0.0000,2,  2347.9,6,  2384.0,2,   7.4163,2,    25.03,2, -999.00,9,  -999.0,9, -999.00,1, -999.00,1,       39.5,2, 20220505,      103,  32.2442, 133.3764,     2.9672,2,     -999.0,9,     -999.0,9,     -999.0,9,     -999.0,9,     0.0134,1,     4.6924,1,     -999.0,9,     -999.0,9,     -999.0,9
33RR20220430,        P02,       6,          1,         26,         26,2,20220505,       0519,    32.0735,   133.4843,       2136,     4.1,2,  23.9062,2,  34.4546,2,  34.4451,2,    212.7,2,   212.3,2,    0.10,2,    0.00,2,    0.00,2,    0.03,2,   1.774,2,   1.058,2,   1.8325,2,  1966.4,6,  2263.4,2,   8.0537,2,    24.99,2, -999.00,9,  -999.0,9, -999.00,1, -999.00,1,        6.8,2, 20220505,      630,  32.0735, 133.4843,    23.9032,2,     -999.0,9,     -999.0,9,     -999.0,9,     -999.0,9,     0.0150,1,     4.6244,1,     -999.0,9,     -999.0,9,     -999.0,9
33RR20220430,        P02,       6,          1,         25,         25,2,20220505,       0519,    32.0735,   133.4843,       2136,    28.5,2,  23.6410,2,  34.4685,2,  34.4544,2,    213.4,2,   211.9,2,    0.00,2,    0.00,2,    0.00,2,    0.01,2,   2.303,2,   1.061,2,   1.8030,2,  1965.1,2,  2263.2,2,   8.0526,2,    25.02,2, -999.00,9,  -999.0,9, -999.00,1, -999.00,1,        6.9,2, 20220505,      627,  32.0732, 133.4836,    23.6406,2,     -999.0,9,     -999.0,9,     -999.0,9,     -999.0,9,     0.0218,1,     4.5932,1,     -999.0,9,     -999.0,9,     -999.0,9
33RR20220430,        P02,       6,          1,         24,         24,2,20220505,       0519,    32.0735,   133.4843,       2136,    51.1,2,  21.8256,2,  34.5814,2,  34.5688,2,    208.1,2,   207.2,2,    1.07,2,    1.06,2,    0.18,2,    0.03,2,   2.505,2,   1.149,2,   1.8568,2,  1995.7,2,  2272.0,2,   8.0091,2,    25.03,2, -999.00,9,  -999.0,9, -999.00,1, -999.00,1,        8.3,2, 20220505,      625,  32.0729, 133.4828,    21.8232,2,     -999.0,9,     -999.0,9,     -999.0,9,     -999.0,9,     0.0688,1,     4.5370,1,     -999.0,9,     -999.0,9,     -999.0,9
33RR20220430,        P02,       6,          1,         23,         23,2,20220505,       0519,    32.0735,   133.4843,       2136,    76.1,2,  20.5334,2,  34.7186,2,  34.7097,2,    229.0,2,   229.2,2,    0.10,2,    0.14,2,    0.00,2,    0.00,2,   2.220,2,   1.328,2,   2.0138,2,  2001.2,2,  2278.5,2,   8.0152,2,    25.02,2, -999.00,9,  -999.0,9, -999.00,9, -999.00,9,        7.6,2, 20220505,      623,  32.0726, 133.4819,    20.5305,2,     -999.0,9,     -999.0,9,     -999.0,9,     -999.0,9,     0.0340,1,     4.6320,1,     -999.0,9,     -999.0,9,     -999.0,9
33RR20220430,        P02,       6,          1,         22,         22,2,20220505,       0519,    32.0735,   133.4843,       2136,   100.6,2,  19.6278,2,  34.7351,2,  34.7264,2,    199.1,3,   201.7,2,    1.86,2,    2.74,2,    0.06,2,    0.05,2,   2.140,2,   1.380,2,   1.9832,2,  2027.2,2,  2284.2,2,   7.9672,2,    24.99,2, -999.00,9,  -999.0,9, -999.00,1, -999.00,1,        9.1,2, 20220505,      620,  32.0723, 133.4812,    19.6228,2,     -999.0,9,     -999.0,9,     -999.0,9,     -999.0,9,     0.0273,1,     4.6556,1,     -999.0,9,     -999.0,9,     -999.0,9
33RR20220430,        P02,       6,          1,         21,         21,2,20220505,       0519,    32.0735,   133.4843,       2136,   151.8,2,  18.2374,2,  34.6935,2,  34.6848,2,    213.7,2,   215.0,2,    1.76,2,    2.92,2,    0.00,2,    0.10,2,   2.205,2,-999.000,5,   2.0886,2,  2020.7,2,  2279.8,2,   7.9657,2,    25.10,2, -999.00,9,  -999.0,9, -999.00,1, -999.00,1,        8.6,2, 20220505,      618,  32.0720, 133.4805,    18.2373,2,     -999.0,9,     -999.0,9,     -999.0,9,     -999.0,9,     0.0134,1,     4.6787,1,     -999.0,9,     -999.0,9,     -999.0,9
33RR20220430,        P02,       6,          1,         20,         20,2,20220505,       0519,    32.0735,   133.4843,       2136,   196.7,2,  17.2228,2,  34.6559,2,  34.6502,2,    184.3,2,   184.3,2,    7.23,2,    7.36,2,    0.00,2,    0.37,2,   2.944,2,   1.319,2,   1.6760,2,  2063.7,2,  2282.2,2,   7.8912,2,    25.01,2, -999.00,9,  -999.0,9, -999.00,1, -999.00,1,       12.4,2, 20220505,      616,  32.0718, 133.4799,    17.2138,2,     -999.0,9,     -999.0,9,     -999.0,9,     -999.0,9,     0.0122,1,     4.6848,1,     -999.0,9,     -999.0,9,     -999.0,9
33RR20220430,        P02,       6,          1,         19,         19,2,20220505,       0519,    32.0735,   133.4843,       2136,   247.1,2,  14.7667,2,  34.5509,2,  34.5449,2,    165.9,2,   165.7,2,   14.75,2,   12.72,2,    0.00,2,    0.75,2,   3.128,2,   1.369,2,   1.5200,2,  2106.9,2,  2278.9,2,   7.8053,2,    25.00,2, -999.00,9,  -999.0,9, -999.00,1, -999.00,1,       16.3,2, 20220505,      614,  32.0715, 133.4792,    14.7577,2,     -999.0,9,     -999.0,9,     -999.0,9,     -999.0,9,     0.0125,1,     4.6849,1,     -999.0,9,     -999.0,9,     -999.0,9
33RR20220430,        P02,       6,          1,         18,         18,2,20220505,       0519,    32.0735,   133.4843,       2136,   298.5,2,  12.3038,2,  34.3820,2,  34.3776,2,    174.8,2,   174.5,2,   17.98,2,   15.16,2,    0.00,2,    0.94,2,   2.716,2,   1.756,2,   1.4839,2,  2121.7,2,  2274.4,2,   7.7586,2,    24.88,2, -999.00,9,  -999.0,9, -999.00,1, -999.00,1,       18.2,2, 20220505,      612,  32.0713, 133.4786,    12.3261,2,     -999.0,9,     -999.0,9,     -999.0,9,     -999.0,9,     0.0122,1,     4.7001,1,     -999.0,9,     -999.0,9,     -999.0,9
33RR20220430,        P02,       6,          1,         17,         17,2,20220505,       0519,    32.0735,   133.4843,       2136,   349.2,2,  10.9430,2,  34.3355,2,  34.3295,2,    155.0,2,   153.8,2,   30.39,2,   19.61,2,    0.00,2,    1.28,2,   3.218,2,   1.351,2,   1.1721,2,  -999.0,9,  -999.0,9,-999.0000,9,  -999.00,9, -999.00,9,  -999.0,9, -999.00,1, -999.00,1,       22.2,2, 20220505,      610,  32.0711, 133.4779,    10.9407,2,     -999.0,9,     -999.0,9,     -999.0,9,     -999.0,9,     0.0122,1,     4.6934,1,     -999.0,9,     -999.0,9,     -999.0,9
33RR20220430,        P02,       6,          1,         16,         16,2,20220505,       0519,    32.0735,   133.4843,       2136,   400.0,2,   9.2082,2,  34.2936,2,  34.2932,2,    132.6,3,   134.0,2,   45.05,2,   24.25,2,    0.00,2,    1.65,2,   2.139,2,   1.665,2,   0.9659,2,  2186.5,2,  2297.1,2,   7.6237,2,    25.01,2, -999.00,9,  -999.0,9, -999.00,1, -999.00,1,       26.7,2, 20220505,      608,  32.0708, 133.4773,     9.2026,2,     -999.0,9,     -999.0,9,     -999.0,9,     -999.0,9,     0.0128,1,     4.6873,1,     -999.0,9,     -999.0,9,     -999.0,9
33RR20220430,        P02,       6,          1,         15,         15,2,20220505,       0519,    32.0735,   133.4843,       2136,   501.8,2,   7.0065,2,  34.1902,2,  34.1854,2,    112.0,2,   111.6,2,   61.96,2,   30.20,2,    0.00,2,    2.13,2,   1.955,2,   0.989,2,   0.6992,2,  2235.6,2,  2301.3,2,   7.5245,2,    24.99,2, -999.00,9,  -999.0,9, -999.00,1, -999.00,1,       32.6,2, 20220505,      605,  32.0704, 133.4764,     7.0191,2,     -999.0,9,     -999.0,9,     -999.0,9,     -999.0,9,     0.0134,1,     4.7039,1,     -999.0,9,     -999.0,9,     -999.0,9
33RR20220430,        P02,       6,          1,         14,         14,2,20220505,       0519,    32.0735,   133.4843,       2136,   591.3,2,   6.2385,2,  34.2461,2,  34.2440,2,     94.7,2,    94.4,2,   76.71,2,   33.14,2,    0.00,2,    2.34,2,   1.693,2,   0.783,2,   0.5148,2,  2260.9,2,  2317.5,2,   7.4907,2,    24.98,2, -999.00,9,  -999.0,9, -999.00,1, -999.00,1,       35.7,2, 20220505,      603,  32.0701, 133.4755,     6.2370,2,     -999.0,9,     -999.0,9,     -999.0,9,     -999.0,9,     0.0134,1,     4.6915,1,     -999.0,9,     -999.0,9,     -999.0,9
33RR20220430,        P02,       6,          1,         13,         13,2,20220505,       0519,    32.0735,   133.4843,       2136,   694.9,2,   5.0543,2,  34.2780,2,  34.2742,2,     75.8,2,    75.8,2,   94.30,2,   36.56,2,    0.00,2,    2.61,2,   0.987,2,   0.498,2,   0.2909,2,  2293.8,2,  2334.3,2,   7.4359,2,    24.99,2, -999.00,9,  -999.0,9, -999.00,1, -999.00,1,       39.6,2, 20220505,      600,  32.0697, 133.4746,     5.0521,2,     -999.0,9,     -999.0,9,     -999.0,9,     -999.0,9,     0.0134,1,     4.6957,1,     -999.0,9,     -999.0,9,     -999.0,9
33RR20220430,        P02,       6,          1,         12,         12,2,20220505,       0519,    32.0735,   133.4843,       2136,   791.8,2,   4.4148,2,  34.3238,2,  34.3215,2,     67.0,2,    67.1,2,  106.22,2,   38.57,2,    0.00,2,    2.74,2,   0.697,2,-999.000,5,-999.0000,5,  2311.8,2,  2347.1,2,   7.4162,2,    25.01,2, -999.00,9,  -999.0,9, -999.00,1, -999.00,1,       40.6,2, 20220505,      557,  32.0693, 133.4736,     4.4124,2,     -999.0,9,     -999.0,9,     -999.0,9,     -999.0,9,     0.0134,1,     4.7000,1,     -999.0,9,     -999.0,9,     -999.0,9
33RR20220430,        P02,       6,          1,         11,         11,2,20220505,       0519,    32.0735,   133.4843,       2136,   894.2,2,   3.8474,2,  34.3741,2,  34.3717,2,     62.5,2,    62.7,2,  118.13,2,   39.58,2,    0.00,2,    2.83,2,   0.610,2,   0.371,2,-999.0000,5,  2328.5,2,  2361.8,2,   7.4068,2,    25.02,2, -999.00,9,  -999.0,9, -999.00,1, -999.00,1,       42.7,2, 20220505,      554,  32.0689, 133.4727,     3.8476,2,     -999.0,9,     -999.0,9,     -999.0,9,     -999.0,9,     0.0134,1,     4.6996,1,     -999.0,9,     -999.0,9,     -999.0,9
33RR20220430,        P02,       6,          1,         10,         10,2,20220505,       0519,    32.0735,   133.4843,       2136,   997.9,2,   3.4315,2,  34.4194,2,  34.4171,2,     62.8,2,    63.1,2,  126.14,2,   39.89,2,    0.00,2,    2.87,2,   0.297,2,   0.149,2,   0.1058,2,  2340.8,2,  2371.7,2,   7.4087,2,    25.00,2, -999.00,9,  -999.0,9, -999.00,1, -999.00,1,       41.8,2, 20220505,      551,  32.0685, 133.4716,     3.4321,2,     -999.0,9,     -999.0,9,     -999.0,9,     -999.0,9,     0.0134,1,     4.6977,1,     -999.0,9,     -999.0,9,     -999.0,9
33RR20220430,        P02,       6,          1,          9,          9,2,20220505,       0519,    32.0735,   133.4843,       2136,  1097.7,2,   3.1382,2,  34.4519,2,  34.4502,2,     64.9,3,    66.8,2,  132.39,2,   40.37,2,    0.00,2,    2.89,2,   0.211,2,   0.103,2,   0.1076,2,  -999.0,9,  -999.0,9,-999.0000,9,  -999.00,9, -999.00,9,  -999.0,9, -999.00,1, -999.00,1,       41.0,2, 20220505,      548,  32.0681, 133.4707,     3.1383,2,     -999.0,9,     -999.0,9,     -999.0,9,     -999.0,9,     0.0134,1,     4.6998,1,     -999.0,9,     -999.0,9,     -999.0,9
33RR20220430,        P02,       6,          1,          8,          8,2,20220505,       0519,    32.0735,   133.4843,       2136,  1189.3,2,   2.9576,2,  34.4726,2,  34.4710,2,     67.3,2,    67.4,2,  135.81,2,   40.25,2,    0.00,2,    2.88,2,   0.166,2,   0.081,2,   0.0598,2,  2347.3,2,  2383.7,2,   7.4178,2,    24.96,2, -999.00,9,  -999.0,9, -999.00,1, -999.00,1,       40.0,2, 20220505,      545,  32.0677, 133.4698,     2.9579,2,     -999.0,9,     -999.0,9,     -999.0,9,     -999.0,9,     0.0134,1,     4.6994,1,     -999.0,9,     -999.0,9,     -999.0,9
33RR20220430,        P02,       6,          1,          7,          7,2,20220505,       0519,    32.0735,   133.4843,       2136,  1292.5,2,   2.7824,2,  34.4934,2,  34.4928,2,     70.8,2,    70.4,2,  138.93,2,   40.47,2,    0.00,2,    2.87,2,   0.129,2,   0.067,2,   0.0693,2,  -999.0,9,  -999.0,9,-999.0000,9,  -999.00,9, -999.00,9,  -999.0,9, -999.00,1, -999.00,1,       39.0,2, 20220505,      542,  32.0673, 133.4688,     2.7822,2,     -999.0,9,     -999.0,9,     -999.0,9,     -999.0,9,     0.0134,1,     4.7020,1,     -999.0,9,     -999.0,9,     -999.0,9
33RR20220430,        P02,       6,          1,          6,          6,2,20220505,       0519,    32.0735,   133.4843,       2136,  1386.5,2,   2.6078,2,  34.5151,2,  34.5144,2,     75.6,2,    76.1,2,  142.15,2,   40.18,2,    0.00,2,    2.87,2,   0.097,2,   0.048,2,   0.0678,2,  2352.1,2,  2391.9,2,   7.4326,2,    25.07,2, -999.00,9,  -999.0,9, -999.00,1, -999.00,1,       37.6,2, 20220505,      539,  32.0670, 133.4678,     2.6073,2,     -999.0,9,     -999.0,9,     -999.0,9,     -999.0,9,     0.0134,1,     4.6996,1,     -999.0,9,     -999.0,9,     -999.0,9
33RR20220430,        P02,       6,          1,          5,          5,2,20220505,       0519,    32.0735,   133.4843,       2136,  1491.5,2,   2.4587,2,  34.5348,2,  34.5327,2,     81.1,2,    81.5,2,  144.11,2,   40.26,2,    0.00,2,    2.83,2,   0.076,6,   0.038,6,   0.0846,6,  -999.0,9,  -999.0,9,-999.0000,9,  -999.00,9, -999.00,9,  -999.0,9, -999.00,1, -999.00,1,       36.3,6, 20220505,      536,  32.0666, 133.4669,     2.4587,2,     -999.0,9,     -999.0,9,     -999.0,9,     -999.0,9,     0.0134,1,     4.6971,1,     -999.0,9,     -999.0,9,     -999.0,9
33RR20220430,        P02,       6,          1,          4,          4,2,20220505,       0519,    32.0735,   133.4843,       2136,  1594.8,2,   2.3247,2,  34.5527,2,  34.5514,2,     86.8,2,    86.2,2,  145.47,2,   39.74,2,    0.00,2,    2.81,2,   0.059,2,   0.031,2,   0.0875,2,  2349.8,2,  2399.1,2,   7.4546,2,    24.98,2, -999.00,9,  -999.0,9, -999.00,9, -999.00,9,       34.9,2, 20220505,      533,  32.0662, 133.4660,     2.3247,2,     -999.0,9,     -999.0,9,     -999.0,9,     -999.0,9,     0.0134,1,     4.6955,1,     -999.0,9,     -999.0,9,     -999.0,9
33RR20220430,        P02,       6,          1,          3,          3,2,20220505,       0519,    32.0735,   133.4843,       2136,  1787.3,2,   2.1331,2,  34.5806,2,  34.5796,2,     98.0,3,    96.9,2,  146.64,2,   39.05,2,    0.00,2,    2.76,2,   0.038,2,   0.021,2,   0.0654,2,  2346.4,2,  2405.0,2,   7.4753,2,    25.00,2, -999.00,9,  -999.0,9, -999.00,1, -999.00,1,       32.6,2, 20220505,      529,  32.0659, 133.4653,     2.1328,2,     -999.0,9,     -999.0,9,     -999.0,9,     -999.0,9,     0.0134,1,     4.6934,1,     -999.0,9,     -999.0,9,     -999.0,9
33RR20220430,        P02,       6,          1,          2,          2,2,20220505,       0519,    32.0735,   133.4843,       2136,  1980.1,2,   1.9573,2,  34.6064,2,  34.6050,2,    110.1,3,   108.7,2,  147.22,2,   38.55,2,    0.00,2,    2.70,2,   0.021,2,   0.013,2,   0.0770,2,  -999.0,9,  -999.0,9,-999.0000,9,  -999.00,9, -999.00,9,  -999.0,9, -999.00,1, -999.00,1,       30.1,2, 20220505,      524,  32.0654, 133.4638,     1.9585,2,     -999.0,9,     -999.0,9,     -999.0,9,     -999.0,9,     0.0125,1,     4.6930,1,     -999.0,9,     -999.0,9,     -999.0,9
33RR20220430,        P02,       6,          1,          1,          1,2,20220505,       0519,    32.0735,   133.4843,       2136,  2142.5,2,   1.8796,2,  34.6188,2,  34.6181,2,    116.8,2,   117.7,2,  146.73,2,   37.99,2,    0.00,2,    2.66,2,   0.026,2,   0.016,2,-999.0000,5,  2341.2,6,  2408.7,2,   7.5129,2,    25.01,2, -999.00,9,  -999.0,9, -999.00,1, -999.00,1,       28.5,2, 20220505,      519,  32.0653, 133.4636,     1.8794,2,     -999.0,9,     -999.0,9,     -999.0,9,     -999.0,9,     0.0129,1,     4.6947,1,     -999.0,9,     -999.0,9,     -999.0,9