BOTTLE,20230801CCHSIOCBG
EXPOCODE,SECT_ID,STNNBR,CASTNO,SAMPNO,BTLNBR,BTLNBR_FLAG_W,DATE,TIME,LATITUDE,LONGITUDE,DEPTH,CTDPRS,CTDPRS_FLAG_W,CTDTMP,CTDTMP_FLAG_W,CTDSAL,CTDSAL_FLAG_W,SALNTY,SALNTY_FLAG_W,CTDOXY,CTDOXY_FLAG_W,OXYGEN,OXYGEN_FLAG_W,SILCAT,SILCAT_FLAG_W,NITRAT,NITRAT_FLAG_W,NITRIT,NITRIT_FLAG_W,PHSPHT,PHSPHT_FLAG_W,CFC-11,CFC-11_FLAG_W,CFC-12,CFC-12_FLAG_W,SF6,SF6_FLAG_W,TCARBN,TCARBN_FLAG_W,ALKALI,ALKALI_FLAG_W,PH_TOT,PH_TOT_FLAG_W,PH_TMP,PH_TMP_FLAG_W,DELC13,DELC13_FLAG_W,DELC14,DELC14_FLAG_W,DOC,DOC_FLAG_W,TDN,TDN_FLAG_W,N2O,N2O_FLAG_W,BTL_DATE,BTL_TIME,BTL_LAT,BTL_LON,REFTMP,REFTMP_FLAG_W,POC,POC_FLAG_W,PON,PON_FLAG_W,POP,POP_FLAG_W,PCOD,PCOD_FLAG_W,CTDFLUOR,CTDFLUOR_FLAG_W,CTDXMISS,CTDXMISS_FLAG_W,HPLC,HPLC_FLAG_W,DNA,DNA_FLAG_W,FCM,FCM_FLAG_W
,,,,,,,,,,,METERS,DBAR,,ITS-90,,PSS-78,,PSS-78,,UMOL/KG,,UMOL/KG,,UMOL/KG,,UMOL/KG,,UMOL/KG,,UMOL/KG,,PMOL/KG,,PMOL/KG,,FMOL/KG,,UMOL/KG,,UMOL/KG,,,,DEG C,,/MILLE,,/MILLE,,UMOL/KG,,UMOL/KG,,NMOL/KG,,,,,,ITS-90,,UG/L,,UG/L,,UG/L,,UG/L,,VOLTS,,VOLTS,,,,,,,
33RR20220430,        P02,      27,          1,         36,         36,2,20220511,       1208,    30.0000,   145.8692,       6185,    12.5,2,  21.4561,2,  34.8127,2,  34.8064,2,    226.2,3,   222.8,2,    0.68,2,    0.00,2,    0.00,2,    0.00,2,   1.784,2,   1.122,2,   1.8345,2,  2006.3,2,  2285.7,2,   8.0154,2,    25.01,2, -999.00,9,  -999.0,9, -999.00,9, -999.00,9,        6.3,2, 20220511,     1427,  30.0000, 145.8692,    21.4584,2,     -999.0,9,     -999.0,9,     -999.0,9,     -999.0,9,     0.0171,1,     4.6374,1,     -999.0,9,     -999.0,9,     -999.0,9
33RR20220430,        P02,      27,          1,         35,         35,2,20220511,       1208,    30.0000,   145.8692,       6185,    32.4,2,  19.8534,2,  34.6760,2,  34.6745,2,    233.7,2,   233.2,2,    0.20,2,    0.00,2,    0.00,2,    0.00,2,   1.894,2,   1.214,2,   2.1185,2,  1999.4,2,  2281.7,2,   8.0113,2,    24.97,2, -999.00,9,  -999.0,9, -999.00,9, -999.00,9,        7.0,2, 20220511,     1425,  30.0000, 145.8692,    19.8232,2,     -999.0,9,     -999.0,9,     -999.0,9,     -999.0,9,     0.0257,1,     4.5909,1,     -999.0,9,     -999.0,9,     -999.0,9
33RR20220430,        P02,      27,          1,         34,         34,2,20220511,       1208,    30.0000,   145.8692,       6185,    58.1,2,  19.0446,2,  34.7342,2,  34.7262,2,    232.4,2,   231.9,2,    0.39,2,    0.02,2,    0.01,2,    0.00,2,   1.900,2,   1.244,2,   2.1609,2,  2009.1,2,  2279.0,2,   8.0010,2,    25.06,2, -999.00,9,  -999.0,9, -999.00,9, -999.00,9,        7.4,2, 20220511,     1423,  30.0000, 145.8692,    19.0533,2,     -999.0,9,     -999.0,9,     -999.0,9,     -999.0,9,     0.0446,1,     4.5906,1,     -999.0,9,     -999.0,9,     -999.0,9
33RR20220430,        P02,      27,          1,         33,         33,2,20220511,       1208,    30.0000,   145.8692,       6185,    83.1,2,  18.4735,2,  34.7597,2,  34.7522,2,    225.4,2,   224.8,2,    1.27,2,    0.95,2,    0.19,2,    0.06,2,   1.942,2,   1.300,2,   2.1150,2,  2020.1,2,  2279.9,2,   7.9831,2,    25.01,2, -999.00,9,  -999.0,9, -999.00,9, -999.00,9,        8.5,2, 20220511,     1421,  30.0000, 145.8692,    18.4739,2,     -999.0,9,     -999.0,9,     -999.0,9,     -999.0,9,     0.0404,1,     4.6108,1,     -999.0,9,     -999.0,9,     -999.0,9
33RR20220430,        P02,      27,          1,         32,         32,2,20220511,       1208,    30.0000,   145.8692,       6185,   107.9,2,  18.0868,2,  34.7555,2,  34.7457,2,    222.2,2,   222.0,2,    1.66,2,    1.82,2,    0.06,2,    0.09,2,   1.982,2,   1.313,2,   2.0805,2,  2027.2,2,  2281.2,2,   7.9707,2,    25.02,2, -999.00,9,  -999.0,9, -999.00,9, -999.00,9,        8.5,2, 20220511,     1420,  30.0000, 145.8693,    18.0909,2,     -999.0,9,     -999.0,9,     -999.0,9,     -999.0,9,     0.0236,1,     4.6575,1,     -999.0,9,     -999.0,9,     -999.0,9
33RR20220430,        P02,      27,          1,         31,         31,2,20220511,       1208,    30.0000,   145.8692,       6185,   157.6,2,  17.6787,2,  34.7606,2,  34.7549,2,    222.0,2,   221.6,2,    1.86,2,    2.48,2,    0.01,2,    0.12,2,   1.993,2,   1.297,2,   2.1271,2,  2029.5,2,  2282.7,2,   7.9634,2,    25.04,2, -999.00,9,  -999.0,9, -999.00,9, -999.00,9,        8.8,2, 20220511,     1418,  30.0000, 145.8692,    17.6805,2,     -999.0,9,     -999.0,9,     -999.0,9,     -999.0,9,     0.0122,1,     4.6795,1,     -999.0,9,     -999.0,9,     -999.0,9
33RR20220430,        P02,      27,          1,         30,         30,2,20220511,       1208,    30.0000,   145.8692,       6185,   208.3,2,  17.3844,2,  34.7483,2,  34.7406,2,    219.0,2,   218.8,2,    2.44,2,    3.32,2,    0.01,2,    0.16,2,   2.037,2,   1.310,2,   2.0398,2,  2035.1,2,  2281.5,2,   7.9511,2,    25.03,2, -999.00,9,  -999.0,9, -999.00,9, -999.00,9,        9.1,2, 20220511,     1416,  30.0000, 145.8692,    17.3850,2,     -999.0,9,     -999.0,9,     -999.0,9,     -999.0,9,     0.0122,1,     4.6827,1,     -999.0,9,     -999.0,9,     -999.0,9
33RR20220430,        P02,      27,          1,         29,         29,2,20220511,       1208,    30.0000,   145.8692,       6185,   258.2,2,  17.0296,2,  34.7307,2,  34.7247,2,    221.1,2,   222.0,2,    2.83,2,    3.66,2,    0.00,2,    0.19,2,   2.080,2,   1.327,2,   2.1960,2,  2038.3,2,  2279.4,2,   7.9466,2,    25.05,2, -999.00,9,  -999.0,9, -999.00,9, -999.00,9,        9.1,2, 20220511,     1414,  30.0000, 145.8692,    17.0281,2,     -999.0,9,     -999.0,9,     -999.0,9,     -999.0,9,     0.0134,1,     4.6800,1,     -999.0,9,     -999.0,9,     -999.0,9
33RR20220430,        P02,      27,          1,         28,         28,2,20220511,       1208,    30.0000,   145.8692,       6185,   308.7,2,  16.6778,2,  34.7108,2,  34.7054,2,    203.2,2,   203.5,2,    4.79,2,    6.02,2,    0.00,2,    0.32,2,   2.131,2,   1.356,2,   1.8790,2,  -999.0,9,  -999.0,9,-999.0000,9,  -999.00,9, -999.00,9,  -999.0,9, -999.00,9, -999.00,9,       10.6,2, 20220511,     1412,  30.0000, 145.8692,    16.6764,2,     -999.0,9,     -999.0,9,     -999.0,9,     -999.0,9,     0.0122,1,     4.6894,1,     -999.0,9,     -999.0,9,     -999.0,9
33RR20220430,        P02,      27,          1,         27,         27,2,20220511,       1208,    30.0000,   145.8692,       6185,   359.2,2,  15.8481,2,  34.6535,2,  34.6482,2,    200.4,2,   200.6,2,    7.23,2,    7.65,2,    0.00,2,    0.44,2,   2.141,2,   1.407,2,   1.8064,2,  2067.9,2,  2276.5,2,   7.8879,2,    25.04,2, -999.00,9,  -999.0,9, -999.00,9, -999.00,9,       12.2,2, 20220511,     1410,  30.0000, 145.8692,    15.8447,2,     -999.0,9,     -999.0,9,     -999.0,9,     -999.0,9,     0.0122,1,     4.6882,1,     -999.0,9,     -999.0,9,     -999.0,9
33RR20220430,        P02,      27,          1,         26,         26,2,20220511,       1208,    30.0000,   145.8692,       6185,   409.5,2,  14.7047,2,  34.5601,2,  34.5537,2,    187.5,2,   188.0,2,   11.53,2,   10.66,2,    0.00,2,    0.64,2,   2.295,2,   1.407,2,   1.5825,2,  -999.0,9,  -999.0,9,-999.0000,9,  -999.00,9, -999.00,9,  -999.0,9, -999.00,9, -999.00,9,       14.7,2, 20220511,     1408,  30.0000, 145.8692,    14.7042,2,     -999.0,9,     -999.0,9,     -999.0,9,     -999.0,9,     0.0122,1,     4.6913,1,     -999.0,9,     -999.0,9,     -999.0,9
33RR20220430,        P02,      27,          1,         25,         25,2,20220511,       1208,    30.0000,   145.8692,       6185,   510.6,2,  11.5733,2,  34.3163,2,  34.3121,2,    183.0,2,   184.0,2,   20.13,2,   15.99,2,    0.00,2,    1.03,2,   2.574,2,   1.539,2,   1.6285,2,  2122.4,2,  2271.6,2,   7.7481,2,    24.94,2, -999.00,9,  -999.0,9, -999.00,9, -999.00,9,       18.4,2, 20220511,     1406,  30.0000, 145.8692,    11.5769,2,     -999.0,9,     -999.0,9,     -999.0,9,     -999.0,9,     0.0122,1,     4.7017,1,     -999.0,9,     -999.0,9,     -999.0,9
33RR20220430,        P02,      27,          1,         24,         24,2,20220511,       1208,    30.0000,   145.8692,       6185,   606.4,2,   8.4653,2,  34.0977,2,  34.0972,2,    166.9,2,   166.2,2,   37.53,2,   23.25,2,    0.00,2,    1.55,2,   2.543,2,   1.493,2,   1.2401,2,  -999.0,9,  -999.0,9,-999.0000,9,  -999.00,9, -999.00,9,  -999.0,9, -999.00,9, -999.00,9,       24.4,2, 20220511,     1403,  30.0001, 145.8692,     8.4614,2,     -999.0,9,     -999.0,9,     -999.0,9,     -999.0,9,     0.0127,1,     4.7049,1,     -999.0,9,     -999.0,9,     -999.0,9
33RR20220430,        P02,      27,          1,         23,         23,2,20220511,       1208,    30.0000,   145.8692,       6185,   707.2,2,   6.1820,2,  34.0529,2,  34.0541,2,    119.3,2,   118.6,2,   63.23,2,   31.68,2,    0.00,2,    2.19,2,   1.930,2,   1.145,2,   0.7530,2,  2237.8,2,  2292.5,2,   7.4928,2,    25.05,2, -999.00,9,  -999.0,9, -999.00,9, -999.00,9,       33.3,2, 20220511,     1400,  30.0000, 145.8693,     6.1834,2,     -999.0,9,     -999.0,9,     -999.0,9,     -999.0,9,     0.0122,1,     4.7060,1,     -999.0,9,     -999.0,9,     -999.0,9
33RR20220430,        P02,      27,          1,         22,         22,2,20220511,       1208,    30.0000,   145.8692,       6185,   807.6,2,   5.1323,2,  34.1007,2,  34.1029,2,     84.9,2,    84.6,2,   82.38,2,   36.53,2,    0.00,2,    2.53,2,   1.386,2,   0.812,2,   0.6916,2,  -999.0,9,  -999.0,9,-999.0000,9,  -999.00,9, -999.00,9,  -999.0,9, -999.00,9, -999.00,9,       39.6,2, 20220511,     1358,  30.0000, 145.8692,     5.1316,2,     -999.0,9,     -999.0,9,     -999.0,9,     -999.0,9,     0.0134,1,     4.7063,1,     -999.0,9,     -999.0,9,     -999.0,9
33RR20220430,        P02,      27,          1,         21,         21,2,20220511,       1208,    30.0000,   145.8692,       6185,   909.7,2,   4.3861,2,  34.1922,2,  34.1938,2,     57.9,2,    57.9,2,  100.75,2,   40.00,2,    0.00,2,    2.76,2,   0.847,2,   0.487,2,   0.3813,2,  2314.9,2,  2330.4,2,   7.3673,2,    25.04,2, -999.00,9,  -999.0,9, -999.00,9, -999.00,9,       44.8,2, 20220511,     1355,  30.0000, 145.8692,     4.3828,2,     -999.0,9,     -999.0,9,     -999.0,9,     -999.0,9,     0.0134,1,     4.7066,1,     -999.0,9,     -999.0,9,     -999.0,9
33RR20220430,        P02,      27,          1,         20,         20,2,20220511,       1208,    30.0000,   145.8692,       6185,  1009.9,2,   3.9069,2,  34.2674,2,  34.2679,2,     46.1,3,    45.6,2,  114.03,2,   41.44,2,    0.00,2,    2.88,2,   0.533,2,   0.308,2,   0.1737,2,  -999.0,9,  -999.0,9,-999.0000,9,  -999.00,9, -999.00,9,  -999.0,9, -999.00,9, -999.00,9,       47.9,2, 20220511,     1352,  30.0000, 145.8692,     3.9105,2,     -999.0,9,     -999.0,9,     -999.0,9,     -999.0,9,     0.0134,1,     4.7065,1,     -999.0,9,     -999.0,9,     -999.0,9
33RR20220430,        P02,      27,          1,         19,         19,2,20220511,       1208,    30.0000,   145.8692,       6185,  1110.0,2,   3.4909,2,  34.3414,2,  34.3425,2,     39.8,3,    40.6,2,  125.65,2,   41.54,2,    0.00,2,    2.96,2,   0.289,2,   0.157,2,   0.0000,2,  2350.2,2,  2361.8,2,   7.3474,2,    25.10,2, -999.00,9,  -999.0,9, -999.00,9, -999.00,9,       49.1,2, 20220511,     1350,  30.0000, 145.8692,     3.4962,2,     -999.0,9,     -999.0,9,     -999.0,9,     -999.0,9,     0.0134,1,     4.7068,1,     -999.0,9,     -999.0,9,     -999.0,9
33RR20220430,        P02,      27,          1,         18,         18,2,20220511,       1208,    30.0000,   145.8692,       6185,  1212.3,2,   3.1714,2,  34.3951,2,  34.3949,2,     38.2,3,    39.0,2,  134.83,2,   42.04,2,    0.00,2,    2.98,2,   0.162,2,   0.085,2,   0.0000,2,  -999.0,9,  -999.0,9,-999.0000,9,  -999.00,9, -999.00,9,  -999.0,9, -999.00,9, -999.00,9,       49.1,2, 20220511,     1347,  30.0000, 145.8692,     3.1730,2,     -999.0,9,     -999.0,9,     -999.0,9,     -999.0,9,     0.0134,1,     4.7073,1,     -999.0,9,     -999.0,9,     -999.0,9
33RR20220430,        P02,      27,          1,         17,         17,2,20220511,       1208,    30.0000,   145.8692,       6185,  1313.6,2,   2.9330,2,  34.4347,2,  34.4367,2,     40.0,3,    40.5,2,  141.38,2,   41.81,2,    0.00,2,    2.97,2,   0.104,2,   0.058,2,   0.0000,2,  2366.9,2,  2381.6,2,   7.3553,2,    25.03,2, -999.00,9,  -999.0,9, -999.00,9, -999.00,9,       48.1,2, 20220511,     1344,  30.0000, 145.8692,     2.9321,2,     -999.0,9,     -999.0,9,     -999.0,9,     -999.0,9,     0.0134,1,     4.7070,1,     -999.0,9,     -999.0,9,     -999.0,9
33RR20220430,        P02,      27,          1,         16,         16,2,20220511,       1208,    30.0000,   145.8692,       6185,  1415.8,2,   2.7110,2,  34.4745,2,  34.4767,2,     44.0,2,    43.7,2,  146.84,2,   41.87,2,    0.00,2,    2.97,2,   0.060,2,   0.031,2,   0.0000,2,  2372.0,6,  2390.5,2,   7.3671,2,    25.01,2, -999.00,9,  -999.0,9, -999.00,9, -999.00,9,       45.5,2, 20220511,     1341,  30.0000, 145.8692,     2.7102,2,     -999.0,9,     -999.0,9,     -999.0,9,     -999.0,9,     0.0134,1,     4.7079,1,     -999.0,9,     -999.0,9,     -999.0,9
33RR20220430,        P02,      27,          1,         15,         15,2,20220511,       1208,    30.0000,   145.8692,       6185,  1622.4,2,   2.3737,2,  34.5280,2,  34.5300,2,     54.2,2,    54.4,2,  154.65,2,   41.60,2,    0.00,2,    2.93,2,   0.026,2,   0.012,2,   0.0000,2,  2372.9,2,  2399.4,2,   7.3883,2,    25.03,2, -999.00,9,  -999.0,9, -999.00,9, -999.00,9,       42.4,2, 20220511,     1337,  30.0000, 145.8693,     2.3735,2,     -999.0,9,     -999.0,9,     -999.0,9,     -999.0,9,     0.0134,1,     4.7080,1,     -999.0,9,     -999.0,9,     -999.0,9
33RR20220430,        P02,      27,          1,         14,         14,2,20220511,       1208,    30.0000,   145.8692,       6185,  1819.9,2,   2.1689,2,  34.5647,2,  34.5655,2,     69.0,3,    69.9,2,  156.02,2,   40.61,2,    0.00,2,    2.85,2,   0.015,2,   0.006,2,   0.0000,2,  -999.0,9,  -999.0,9,-999.0000,9,  -999.00,9, -999.00,9,  -999.0,9, -999.00,9, -999.00,9,       38.6,2, 20220511,     1332,  30.0000, 145.8693,     2.1691,2,     -999.0,9,     -999.0,9,     -999.0,9,     -999.0,9,     0.0126,1,     4.7093,1,     -999.0,9,     -999.0,9,     -999.0,9
33RR20220430,        P02,      27,          1,         13,         13,2,20220511,       1208,    30.0000,   145.8692,       6185,  2023.2,2,   1.9796,2,  34.5939,2,  34.5938,2,     82.7,2,    82.1,2,  157.87,2,   39.90,2,    0.00,2,    2.79,2,   0.009,2,   0.000,2,   0.0000,2,  2362.7,2,  2409.2,2,   7.4452,2,    25.02,2, -999.00,9,  -999.0,9, -999.00,9, -999.00,9,       35.3,2, 20220511,     1328,  30.0000, 145.8692,     1.9797,2,     -999.0,9,     -999.0,9,     -999.0,9,     -999.0,9,     0.0134,1,     4.7093,1,     -999.0,9,     -999.0,9,     -999.0,9
33RR20220430,        P02,      27,          1,         12,         12,2,20220511,       1208,    30.0000,   145.8692,       6185,  2282.0,2,   1.8122,2,  34.6213,2,  34.6213,2,     99.0,2,    98.8,2,  157.57,2,   39.06,2,    0.00,2,    2.73,2,   0.006,2,   0.000,2,   0.0000,2,  -999.0,9,  -999.0,9,-999.0000,9,  -999.00,9, -999.00,9,  -999.0,9, -999.00,9, -999.00,9,       32.1,2, 20220511,     1323,  30.0000, 145.8692,     1.8119,2,     -999.0,9,     -999.0,9,     -999.0,9,     -999.0,9,     0.0125,1,     4.7093,1,     -999.0,9,     -999.0,9,     -999.0,9
33RR20220430,        P02,      27,          1,         11,         11,2,20220511,       1208,    30.0000,   145.8692,       6185,  2531.7,2,   1.7091,2,  34.6394,2,  34.6392,2,    113.5,2,   113.8,2,  154.74,2,   37.80,2,    0.00,2,    2.65,2,   0.007,2,   0.000,2,   0.0000,2,  2347.8,2,  2414.6,2,   7.5048,2,    25.03,2, -999.00,9,  -999.0,9, -999.00,9, -999.00,9,       29.3,2, 20220511,     1317,  30.0000, 145.8692,     1.7095,2,     -999.0,9,     -999.0,9,     -999.0,9,     -999.0,9,     0.0125,1,     4.7105,1,     -999.0,9,     -999.0,9,     -999.0,9
33RR20220430,        P02,      27,          1,         10,         10,2,20220511,       1208,    30.0000,   145.8692,       6185,  2787.6,2,   1.6436,2,  34.6505,2,  34.6504,2,    122.4,2,   122.6,2,  153.47,2,   37.15,2,    0.00,2,    2.59,2,-999.000,9,-999.000,9,-999.0000,9,  -999.0,9,  -999.0,9,-999.0000,9,  -999.00,9, -999.00,9,  -999.0,9, -999.00,9, -999.00,9,     -999.0,9, 20220511,     1312,  30.0000, 145.8692,     1.6439,2,     -999.0,9,     -999.0,9,     -999.0,9,     -999.0,9,     0.0122,1,     4.7105,1,     -999.0,9,     -999.0,9,     -999.0,9
33RR20220430,        P02,      27,          1,          9,          9,2,20220511,       1208,    30.0000,   145.8692,       6185,  3047.0,2,   1.5797,2,  34.6606,2,  34.6618,2,    129.3,2,   129.8,2,  153.56,2,   36.79,2,    0.00,2,    2.55,2,   0.004,2,   0.000,2,   0.0000,2,  2338.6,2,  2416.4,2,   7.5339,2,    25.08,2, -999.00,9,  -999.0,9, -999.00,9, -999.00,9,       27.0,2, 20220511,     1307,  30.0000, 145.8692,     1.5797,2,     -999.0,9,     -999.0,9,     -999.0,9,     -999.0,9,     0.0122,1,     4.7102,1,     -999.0,9,     -999.0,9,     -999.0,9
33RR20220430,        P02,      27,          1,          8,          8,2,20220511,       1208,    30.0000,   145.8692,       6185,  3352.2,2,   1.5375,2,  34.6684,2,  34.6684,2,    136.5,2,   136.7,2,  152.39,2,   36.36,2,    0.00,2,    2.52,2,-999.000,9,-999.000,9,-999.0000,9,  -999.0,9,  -999.0,9,-999.0000,9,  -999.00,9, -999.00,9,  -999.0,9, -999.00,9, -999.00,9,     -999.0,9, 20220511,     1301,  30.0000, 145.8692,     1.5375,2,     -999.0,9,     -999.0,9,     -999.0,9,     -999.0,9,     0.0122,1,     4.7096,1,     -999.0,9,     -999.0,9,     -999.0,9
33RR20220430,        P02,      27,          1,          7,          7,2,20220511,       1208,    30.0000,   145.8692,       6185,  3659.8,2,   1.5089,2,  34.6745,3,  34.6842,2,    143.0,2,   143.0,2,  150.92,2,   35.91,2,    0.00,2,    2.50,2,   0.005,2,   0.000,2,   0.0000,2,  2329.9,2,  2415.5,2,   7.5580,2,    24.94,2, -999.00,9,  -999.0,9, -999.00,9, -999.00,9,       25.4,2, 20220511,     1255,  30.0000, 145.8692,     1.5094,2,     -999.0,9,     -999.0,9,     -999.0,9,     -999.0,9,     0.0122,1,     4.7098,1,     -999.0,9,     -999.0,9,     -999.0,9
33RR20220430,        P02,      27,          1,          6,          6,2,20220511,       1208,    30.0000,   145.8692,       6185,  4069.1,2,   1.4853,2,  34.6811,2,  34.6808,2,    150.5,2,   150.3,2,  149.26,2,   35.67,2,    0.00,2,    2.46,2,-999.000,9,-999.000,9,-999.0000,9,  -999.0,9,  -999.0,9,-999.0000,9,  -999.00,9, -999.00,9,  -999.0,9, -999.00,9, -999.00,9,     -999.0,9, 20220511,     1247,  30.0000, 145.8692,     1.4854,2,     -999.0,9,     -999.0,9,     -999.0,9,     -999.0,9,     0.0122,1,     4.7093,1,     -999.0,9,     -999.0,9,     -999.0,9
33RR20220430,        P02,      27,          1,          5,          5,2,20220511,       1208,    30.0000,   145.8692,       6185,  4479.9,2,   1.4907,2,  34.6850,2,  34.6842,2,    155.6,2,   156.0,2,  147.31,2,   35.25,2,    0.00,2,    2.44,2,   0.005,2,   0.000,2,   0.0000,2,  2319.7,2,  2413.3,2,   7.5766,2,    25.02,2, -999.00,9,  -999.0,9, -999.00,9, -999.00,9,       24.5,2, 20220511,     1239,  30.0000, 145.8693,     1.4906,2,     -999.0,9,     -999.0,9,     -999.0,9,     -999.0,9,     0.0122,1,     4.7093,1,     -999.0,9,     -999.0,9,     -999.0,9
33RR20220430,        P02,      27,          1,          4,          4,2,20220511,       1208,    30.0000,   145.8692,       6185,  4890.9,2,   1.5089,2,  34.6879,2,  34.6877,2,    160.3,2,   160.3,2,  144.77,2,   35.04,2,    0.00,2,    2.41,2,-999.000,9,-999.000,9,-999.0000,9,  2317.6,2,  2409.3,2,   7.5840,2,    25.01,2, -999.00,9,  -999.0,9, -999.00,9, -999.00,9,     -999.0,9, 20220511,     1231,  30.0000, 145.8692,     1.5087,2,     -999.0,9,     -999.0,9,     -999.0,9,     -999.0,9,     0.0122,1,     4.7096,1,     -999.0,9,     -999.0,9,     -999.0,9