BOTTLE,20230801CCHSIOCBG
EXPOCODE,SECT_ID,STNNBR,CASTNO,SAMPNO,BTLNBR,BTLNBR_FLAG_W,DATE,TIME,LATITUDE,LONGITUDE,DEPTH,CTDPRS,CTDPRS_FLAG_W,CTDTMP,CTDTMP_FLAG_W,CTDSAL,CTDSAL_FLAG_W,SALNTY,SALNTY_FLAG_W,CTDOXY,CTDOXY_FLAG_W,OXYGEN,OXYGEN_FLAG_W,SILCAT,SILCAT_FLAG_W,NITRAT,NITRAT_FLAG_W,NITRIT,NITRIT_FLAG_W,PHSPHT,PHSPHT_FLAG_W,CFC-11,CFC-11_FLAG_W,CFC-12,CFC-12_FLAG_W,SF6,SF6_FLAG_W,TCARBN,TCARBN_FLAG_W,ALKALI,ALKALI_FLAG_W,PH_TOT,PH_TOT_FLAG_W,PH_TMP,PH_TMP_FLAG_W,DELC13,DELC13_FLAG_W,DELC14,DELC14_FLAG_W,DOC,DOC_FLAG_W,TDN,TDN_FLAG_W,N2O,N2O_FLAG_W,BTL_DATE,BTL_TIME,BTL_LAT,BTL_LON,REFTMP,REFTMP_FLAG_W,POC,POC_FLAG_W,PON,PON_FLAG_W,POP,POP_FLAG_W,PCOD,PCOD_FLAG_W,CTDFLUOR,CTDFLUOR_FLAG_W,CTDXMISS,CTDXMISS_FLAG_W,HPLC,HPLC_FLAG_W,DNA,DNA_FLAG_W,FCM,FCM_FLAG_W
,,,,,,,,,,,METERS,DBAR,,ITS-90,,PSS-78,,PSS-78,,UMOL/KG,,UMOL/KG,,UMOL/KG,,UMOL/KG,,UMOL/KG,,UMOL/KG,,PMOL/KG,,PMOL/KG,,FMOL/KG,,UMOL/KG,,UMOL/KG,,,,DEG C,,/MILLE,,/MILLE,,UMOL/KG,,UMOL/KG,,NMOL/KG,,,,,,ITS-90,,UG/L,,UG/L,,UG/L,,UG/L,,VOLTS,,VOLTS,,,,,,,
33RR20220430,        P02,      11,          1,         36,         36,2,20220506,       1808,    30.5448,   134.4547,       4505,     2.2,2,  23.0176,2,  34.7228,2,-999.0000,9,    216.5,2,  -999.0,9, -999.00,9, -999.00,9, -999.00,9, -999.00,9,-999.000,9,-999.000,9,-999.0000,9,  -999.0,9,  -999.0,9,-999.0000,9,  -999.00,9, -999.00,9,  -999.0,9, -999.00,9, -999.00,9,     -999.0,9, 20220506,     1958,  30.5448, 134.4547,     -999.0,9,     -999.0,9,     -999.0,9,     -999.0,1,     -999.0,9,     0.0165,1,     4.6436,1,     -999.0,9,     -999.0,9,     -999.0,9
33RR20220430,        P02,      11,          1,         35,         35,2,20220506,       1808,    30.5448,   134.4547,       4505,     3.0,2,  23.0087,2,  34.7232,2,-999.0000,9,    216.6,2,  -999.0,9, -999.00,9, -999.00,9, -999.00,9, -999.00,9,-999.000,9,-999.000,9,-999.0000,9,  -999.0,9,  -999.0,9,-999.0000,9,  -999.00,9, -999.00,9,  -999.0,9, -999.00,9, -999.00,9,     -999.0,9, 20220506,     1957,  30.5449, 134.4547,     -999.0,9,     -999.0,9,     -999.0,9,     -999.0,1,     -999.0,9,     0.0160,1,     4.6459,1,     -999.0,9,     -999.0,9,     -999.0,9
33RR20220430,        P02,      11,          1,         32,         32,2,20220506,       1808,    30.5448,   134.4547,       4505,     3.3,2,  23.0191,2,  34.7231,2,-999.0000,9,    216.5,2,  -999.0,9, -999.00,9, -999.00,9, -999.00,9, -999.00,9,-999.000,9,-999.000,9,-999.0000,9,  -999.0,9,  -999.0,9,-999.0000,9,  -999.00,9, -999.00,9,  -999.0,9, -999.00,9, -999.00,9,     -999.0,9, 20220506,     1957,  30.5448, 134.4547,     -999.0,9,     -999.0,1,     -999.0,1,     -999.0,9,     -999.0,9,     0.0170,1,     4.6451,1,     -999.0,9,     -999.0,9,     -999.0,9
33RR20220430,        P02,      11,          1,         33,         33,2,20220506,       1808,    30.5448,   134.4547,       4505,     3.4,2,  23.0199,2,  34.7228,2,-999.0000,9,    216.5,2,  -999.0,9, -999.00,9, -999.00,9, -999.00,9, -999.00,9,-999.000,9,-999.000,9,-999.0000,9,  -999.0,9,  -999.0,9,-999.0000,9,  -999.00,9, -999.00,9,  -999.0,9, -999.00,9, -999.00,9,     -999.0,9, 20220506,     1957,  30.5448, 134.4547,     -999.0,9,     -999.0,1,     -999.0,1,     -999.0,9,     -999.0,9,     0.0170,1,     4.6426,1,     -999.0,9,     -999.0,9,     -999.0,9
33RR20220430,        P02,      11,          1,         29,         29,2,20220506,       1808,    30.5448,   134.4547,       4505,     3.6,2,  23.0210,2,  34.7228,2,-999.0000,9,    216.5,2,  -999.0,9, -999.00,9, -999.00,9, -999.00,9, -999.00,9,-999.000,9,-999.000,9,-999.0000,9,  -999.0,9,  -999.0,9,-999.0000,9,  -999.00,9, -999.00,9,  -999.0,9, -999.00,9, -999.00,9,     -999.0,9, 20220506,     1956,  30.5448, 134.4547,     -999.0,9,     -999.0,1,     -999.0,1,     -999.0,9,     -999.0,9,     0.0160,1,     4.6462,1,     -999.0,9,     -999.0,9,     -999.0,9
33RR20220430,        P02,      11,          1,         34,         34,2,20220506,       1808,    30.5448,   134.4547,       4505,     3.6,2,  23.0115,2,  34.7231,2,-999.0000,9,    216.6,2,  -999.0,9, -999.00,9, -999.00,9, -999.00,9, -999.00,9,-999.000,9,-999.000,9,-999.0000,9,  -999.0,9,  -999.0,9,-999.0000,9,  -999.00,9, -999.00,9,  -999.0,9, -999.00,9, -999.00,9,     -999.0,9, 20220506,     1957,  30.5449, 134.4547,     -999.0,9,     -999.0,1,     -999.0,1,     -999.0,9,     -999.0,9,     0.0159,1,     4.6454,1,     -999.0,9,     -999.0,9,     -999.0,9
33RR20220430,        P02,      11,          1,         31,         31,2,20220506,       1808,    30.5448,   134.4547,       4505,     3.7,2,  23.0165,2,  34.7228,2,-999.0000,9,    216.6,2,  -999.0,9, -999.00,9, -999.00,9, -999.00,9, -999.00,9,-999.000,9,-999.000,9,-999.0000,9,  -999.0,9,  -999.0,9,-999.0000,9,  -999.00,9, -999.00,9,  -999.0,9, -999.00,9, -999.00,9,     -999.0,9, 20220506,     1956,  30.5448, 134.4547,     -999.0,9,     -999.0,1,     -999.0,1,     -999.0,9,     -999.0,9,     0.0163,1,     4.6398,1,     -999.0,9,     -999.0,9,     -999.0,9
33RR20220430,        P02,      11,          1,         28,         28,2,20220506,       1808,    30.5448,   134.4547,       4505,     3.7,2,  23.0218,2,  34.7229,2,-999.0000,9,    216.5,3,  -999.0,9, -999.00,9, -999.00,9, -999.00,9, -999.00,9,-999.000,9,-999.000,9,-999.0000,9,  -999.0,9,  -999.0,9,-999.0000,9,  -999.00,9, -999.00,9,  -999.0,9, -999.00,9, -999.00,9,     -999.0,9, 20220506,     1956,  30.5449, 134.4547,     -999.0,9,     -999.0,9,     -999.0,9,     -999.0,9,     -999.0,9,     0.0166,1,     4.6460,1,     -999.0,9,     -999.0,1,     -999.0,9
33RR20220430,        P02,      11,          1,         30,         30,2,20220506,       1808,    30.5448,   134.4547,       4505,     3.8,2,  23.0203,2,  34.7229,2,-999.0000,9,    216.5,2,  -999.0,9, -999.00,9, -999.00,9, -999.00,9, -999.00,9,-999.000,9,-999.000,9,-999.0000,9,  -999.0,9,  -999.0,9,-999.0000,9,  -999.00,9, -999.00,9,  -999.0,9, -999.00,9, -999.00,9,     -999.0,9, 20220506,     1956,  30.5448, 134.4547,     -999.0,9,     -999.0,1,     -999.0,1,     -999.0,9,     -999.0,9,     0.0159,1,     4.6430,1,     -999.0,9,     -999.0,9,     -999.0,9
33RR20220430,        P02,      11,          1,         27,         27,2,20220506,       1808,    30.5448,   134.4547,       4505,     3.9,2,  23.0225,2,  34.7230,2,  34.7113,2,    216.5,2,   215.8,2,    1.47,2,    0.03,2,    0.00,2,    0.02,2,   1.951,2,   1.312,2,   1.8353,2,  1983.8,2,  2276.9,2,   8.0386,2,    24.95,2, -999.00,1,  -999.0,1, -999.00,1, -999.00,1,        2.9,2, 20220506,     1955,  30.5449, 134.4547,     -999.0,9,     -999.0,1,     -999.0,1,     -999.0,9,     -999.0,9,     0.0170,1,     4.6454,1,     -999.0,1,     -999.0,9,     -999.0,1
33RR20220430,        P02,      11,          1,         26,         26,2,20220506,       1808,    30.5448,   134.4547,       4505,    51.4,2,  22.1346,2,  34.7346,2,  34.7256,2,    222.0,2,   219.9,2,    1.17,2,    0.00,2,    0.00,2,    0.00,2,   2.232,2,   1.231,2,   1.9961,2,  1992.7,2,  2279.1,2,   8.0276,2,    25.01,2, -999.00,1,  -999.0,1, -999.00,1, -999.00,1,        3.2,2, 20220506,     1953,  30.5448, 134.4547,     -999.0,9,     -999.0,1,     -999.0,1,     -999.0,9,     -999.0,9,     0.0177,1,     4.6384,1,     -999.0,1,     -999.0,9,     -999.0,1
33RR20220430,        P02,      11,          1,         24,         24,2,20220506,       1808,    30.5448,   134.4547,       4505,   100.0,2,  20.1114,2,  34.7701,2,-999.0000,9,    211.3,2,  -999.0,9, -999.00,9, -999.00,9, -999.00,9, -999.00,9,-999.000,9,-999.000,9,-999.0000,9,  -999.0,9,  -999.0,9,-999.0000,9,  -999.00,9, -999.00,9,  -999.0,9, -999.00,9, -999.00,9,     -999.0,9, 20220506,     1950,  30.5449, 134.4547,     -999.0,9,     -999.0,1,     -999.0,1,     -999.0,9,     -999.0,9,     0.0258,1,     4.6557,1,     -999.0,9,     -999.0,1,     -999.0,9
33RR20220430,        P02,      11,          1,         25,         25,2,20220506,       1808,    30.5448,   134.4547,       4505,   100.7,2,  20.0877,2,  34.7675,2,  34.7612,2,    211.4,3,   215.1,2,    1.56,2,    0.68,2,    0.09,2,    0.01,2,   2.143,2,-999.000,5,-999.0000,5,  2010.9,2,  2281.2,2,   8.0014,2,    25.00,2, -999.00,1,  -999.0,1, -999.00,1, -999.00,1,        3.9,2, 20220506,     1950,  30.5448, 134.4547,     -999.0,9,     -999.0,1,     -999.0,1,     -999.0,9,     -999.0,9,     0.0241,1,     4.6557,1,     -999.0,1,     -999.0,9,     -999.0,1
33RR20220430,        P02,      11,          1,         23,         23,2,20220506,       1808,    30.5448,   134.4547,       4505,   190.6,2,  19.0328,2,  34.8011,2,  34.7911,2,    201.5,2,   201.2,2,    2.64,2,    2.75,2,    0.00,2,    0.07,2,   2.191,2,   1.780,2,   1.9292,2,  2035.1,2,  2283.3,2,   8.0283,2,    25.03,2, -999.00,1,  -999.0,1, -999.00,1, -999.00,1,        4.9,2, 20220506,     1947,  30.5449, 134.4547,     -999.0,9,     -999.0,1,     -999.0,1,     -999.0,9,     -999.0,9,     0.0134,1,     4.6846,1,     -999.0,1,     -999.0,9,     -999.0,1
33RR20220430,        P02,      11,          1,         22,         22,2,20220506,       1808,    30.5448,   134.4547,       4505,   245.8,2,  18.1633,2,  34.7816,2,  34.7728,2,    207.9,3,   198.3,2,    3.42,2,    4.00,2,    0.00,2,    0.18,2,   2.299,2,   1.631,2,   1.9555,2,  2044.9,2,  2282.6,2,   7.9348,2,    25.01,2, -999.00,1,  -999.0,1, -999.00,1, -999.00,1,        5.6,2, 20220506,     1945,  30.5448, 134.4546,     -999.0,9,     -999.0,1,     -999.0,1,     -999.0,9,     -999.0,9,     0.0122,1,     4.6892,1,     -999.0,1,     -999.0,9,     -999.0,1
33RR20220430,        P02,      11,          1,         21,         21,2,20220506,       1808,    30.5448,   134.4547,       4505,   246.3,2,  18.1638,2,  34.7815,2,-999.0000,9,    207.9,2,  -999.0,9, -999.00,9, -999.00,9, -999.00,9, -999.00,9,-999.000,9,-999.000,9,-999.0000,9,  -999.0,9,  -999.0,9,-999.0000,9,  -999.00,9, -999.00,9,  -999.0,9, -999.00,9, -999.00,9,     -999.0,9, 20220506,     1945,  30.5448, 134.4546,     -999.0,9,     -999.0,9,     -999.0,9,     -999.0,9,     -999.0,9,     0.0122,1,     4.6891,1,     -999.0,9,     -999.0,1,     -999.0,9
33RR20220430,        P02,      11,          1,         20,         20,2,20220506,       1808,    30.5448,   134.4547,       4505,   345.0,2,  16.8350,2,  34.7230,2,  34.7150,2,    195.2,2,   196.3,2,    5.57,2,    6.14,2,    0.00,2,    0.32,2,   3.016,2,   1.402,2,   1.9718,2,  2059.3,2,  2279.2,2,   7.9039,2,    25.01,2, -999.00,1,  -999.0,1, -999.00,1, -999.00,1,        6.8,2, 20220506,     1942,  30.5448, 134.4547,     -999.0,9,     -999.0,1,     -999.0,1,     -999.0,9,     -999.0,9,     0.0122,1,     4.6945,1,     -999.0,1,     -999.0,9,     -999.0,1
33RR20220430,        P02,      11,          1,         19,         19,2,20220506,       1808,    30.5448,   134.4547,       4505,   477.4,2,  14.4205,2,  34.5400,2,  34.5329,2,    182.7,2,   183.5,2,   12.31,2,   11.03,2,    0.00,2,    0.66,2,   2.654,2,   1.477,2,   1.6253,2,  2093.9,2,  2274.9,2,   7.8246,2,    25.00,2, -999.00,1,  -999.0,1, -999.00,1, -999.00,1,       10.8,2, 20220506,     1939,  30.5448, 134.4547,     -999.0,9,     -999.0,9,     -999.0,9,     -999.0,9,     -999.0,9,     0.0122,1,     4.6983,1,     -999.0,9,     -999.0,9,     -999.0,9
33RR20220430,        P02,      11,          1,         18,         18,2,20220506,       1808,    30.5448,   134.4547,       4505,   578.1,2,  11.2045,2,  34.3122,2,  34.3084,2,    168.5,2,   168.4,2,   25.21,2,   17.57,2,    0.00,2,    1.15,2,   2.766,2,   1.485,2,   1.3702,2,  2140.0,2,  2274.1,2,   7.7186,2,    25.01,2, -999.00,1,  -999.0,1, -999.00,1, -999.00,1,       16.3,2, 20220506,     1936,  30.5448, 134.4547,     -999.0,9,     -999.0,9,     -999.0,9,     -999.0,9,     -999.0,9,     0.0131,1,     4.7022,1,     -999.0,9,     -999.0,9,     -999.0,1
33RR20220430,        P02,      11,          1,         17,         17,2,20220506,       1808,    30.5448,   134.4547,       4505,   779.3,2,   7.0246,2,  34.2011,2,  34.2015,2,    112.6,3,   109.9,2,   63.82,2,   30.32,2,    0.00,2,    2.12,2,   1.946,2,   1.010,2,   0.6973,2,  2237.9,2,  2306.6,2,   7.5218,2,    25.01,2, -999.00,1,  -999.0,1, -999.00,1, -999.00,1,       28.6,2, 20220506,     1931,  30.5449, 134.4547,     -999.0,9,     -999.0,9,     -999.0,9,     -999.0,9,     -999.0,9,     0.0130,1,     4.7029,1,     -999.0,9,     -999.0,9,     -999.0,9
33RR20220430,        P02,      11,          1,         16,         16,2,20220506,       1808,    30.5448,   134.4547,       4505,   980.8,2,   4.6137,2,  34.3036,2,  34.3021,2,     71.2,3,    68.9,2,  102.52,2,   37.80,2,    0.00,2,    2.67,2,   0.770,2,   0.362,2,   0.2186,2,  2310.8,2,  2342.3,2,   7.4142,2,    25.01,2, -999.00,1,  -999.0,1, -999.00,1, -999.00,1,       36.8,2, 20220506,     1926,  30.5448, 134.4547,     -999.0,9,     -999.0,9,     -999.0,9,     -999.0,9,     -999.0,9,     0.0134,1,     4.7023,1,     -999.0,9,     -999.0,9,     -999.0,9
33RR20220430,        P02,      11,          1,         15,         15,2,20220506,       1808,    30.5448,   134.4547,       4505,   981.0,2,   4.6032,2,  34.3036,2,-999.0000,9,     71.2,2,  -999.0,9, -999.00,9, -999.00,9, -999.00,9, -999.00,9,-999.000,9,-999.000,9,-999.0000,9,  -999.0,9,  -999.0,9,-999.0000,9,  -999.00,9, -999.00,9,  -999.0,9, -999.00,9, -999.00,9,     -999.0,9, 20220506,     1926,  30.5448, 134.4547,     -999.0,9,     -999.0,9,     -999.0,9,     -999.0,9,     -999.0,9,     0.0134,1,     4.7031,1,     -999.0,9,     -999.0,1,     -999.0,1
33RR20220430,        P02,      11,          1,         14,         14,2,20220506,       1808,    30.5448,   134.4547,       4505,  1184.6,2,   3.6284,2,  34.3938,2,  34.3929,2,     62.6,2,    62.0,2,  122.05,2,   39.71,2,    0.00,2,    2.81,2,   0.366,2,   0.171,2,   0.1295,2,  2338.2,6,  2367.5,2,   7.3996,2,    25.06,2, -999.00,1,  -999.0,1, -999.00,1, -999.00,1,       37.6,2, 20220506,     1921,  30.5448, 134.4547,     -999.0,9,     -999.0,9,     -999.0,9,     -999.0,9,     -999.0,9,     0.0134,1,     4.7040,1,     -999.0,9,     -999.0,9,     -999.0,9
33RR20220430,        P02,      11,          1,         13,         13,2,20220506,       1808,    30.5448,   134.4547,       4505,  1388.1,2,   3.0496,2,  34.4625,2,  34.4620,2,     66.5,2,    66.0,2,  133.97,2,   40.28,2,    0.00,2,    2.83,2,   0.184,2,   0.087,2,   0.1334,2,  2349.4,2,  2381.3,2,   7.4128,2,    25.02,2, -999.00,1,  -999.0,1, -999.00,1, -999.00,1,       36.5,2, 20220506,     1917,  30.5449, 134.4547,     -999.0,9,     -999.0,9,     -999.0,9,     -999.0,9,     -999.0,9,     0.0134,1,     4.7035,1,     -999.0,9,     -999.0,9,     -999.0,9
33RR20220430,        P02,      11,          1,         12,         12,2,20220506,       1808,    30.5448,   134.4547,       4505,  1590.8,2,   2.6749,2,  34.5092,2,  34.5084,2,     74.2,2,    74.4,2,  140.12,2,   40.01,2,    0.00,2,    2.81,2,-999.000,9,-999.000,9,-999.0000,9,  2351.1,2,  2391.2,2,   7.4289,2,    25.08,2, -999.00,1,  -999.0,1, -999.00,1, -999.00,1,     -999.0,9, 20220506,     1912,  30.5448, 134.4547,     -999.0,9,     -999.0,9,     -999.0,9,     -999.0,9,     -999.0,9,     0.0134,1,     4.7057,1,     -999.0,9,     -999.0,9,     -999.0,9
33RR20220430,        P02,      11,          1,         11,         11,2,20220506,       1808,    30.5448,   134.4547,       4505,  1792.0,2,   2.3669,2,  34.5491,2,  34.5478,2,     84.1,3,    85.1,2,  144.32,2,   39.59,2,    0.00,2,    2.78,2,   0.060,2,   0.050,2,   0.0000,2,  2352.5,2,  2397.1,2,   7.4511,2,    25.01,2, -999.00,1,  -999.0,1, -999.00,1, -999.00,1,       31.6,2, 20220506,     1907,  30.5449, 134.4547,     -999.0,9,     -999.0,9,     -999.0,9,     -999.0,9,     -999.0,9,     0.0134,1,     4.7039,1,     -999.0,9,     -999.0,9,     -999.0,9
33RR20220430,        P02,      11,          1,         10,         10,2,20220506,       1808,    30.5448,   134.4547,       4505,  1965.9,2,   2.2131,2,  34.5731,2,  34.5712,2,     93.9,2,    94.3,2,  144.90,2,   39.02,2,    0.00,2,    2.75,2,-999.000,9,-999.000,9,-999.0000,9,  2350.2,2,  2400.7,2,   7.4694,2,    25.01,2, -999.00,1,  -999.0,1, -999.00,1, -999.00,1,     -999.0,9, 20220506,     1903,  30.5448, 134.4547,     -999.0,9,     -999.0,9,     -999.0,9,     -999.0,9,     -999.0,9,     0.0134,1,     4.7055,1,     -999.0,9,     -999.0,9,     -999.0,9
33RR20220430,        P02,      11,          1,          9,          9,2,20220506,       1808,    30.5448,   134.4547,       4505,  2199.8,2,   2.0213,2,  34.6008,2,  34.5993,2,    105.1,2,   105.8,2,  146.07,2,   38.72,2,    0.00,2,    2.69,2,-999.000,5,   0.021,2,   0.0000,2,  2344.8,2,  2403.8,2,   7.4905,2,    25.00,2, -999.00,1,  -999.0,1, -999.00,1, -999.00,1,       27.0,2, 20220506,     1858,  30.5449, 134.4547,     -999.0,9,     -999.0,9,     -999.0,9,     -999.0,9,     -999.0,9,     0.0124,1,     4.7057,1,     -999.0,9,     -999.0,9,     -999.0,9
33RR20220430,        P02,      11,          1,          8,          8,2,20220506,       1808,    30.5448,   134.4547,       4505,  2453.3,2,   1.8670,2,  34.6249,2,  34.6233,2,    117.8,2,   118.2,2,  144.89,2,   37.65,2,    0.00,2,    2.63,2,-999.000,9,-999.000,9,-999.0000,9,  2339.9,2,  2409.0,2,   7.5143,2,    25.09,2, -999.00,1,  -999.0,1, -999.00,1, -999.00,1,     -999.0,9, 20220506,     1853,  30.5448, 134.4547,     -999.0,9,     -999.0,9,     -999.0,9,     -999.0,9,     -999.0,9,     0.0131,1,     4.7072,1,     -999.0,9,     -999.0,9,     -999.0,9
33RR20220430,        P02,      11,          1,          7,          7,2,20220506,       1808,    30.5448,   134.4547,       4505,  2702.5,2,   1.7456,2,  34.6433,2,  34.6415,2,    128.1,2,   128.6,2,  144.40,2,   37.10,2,    0.00,2,    2.58,2,-999.000,5,   0.009,2,   0.0000,2,  2333.6,2,  2409.3,2,   7.5329,2,    25.02,2, -999.00,1,  -999.0,1, -999.00,1, -999.00,1,       22.7,2, 20220506,     1847,  30.5448, 134.4547,     -999.0,9,     -999.0,9,     -999.0,9,     -999.0,9,     -999.0,9,     0.0122,1,     4.7079,1,     -999.0,9,     -999.0,9,     -999.0,9
33RR20220430,        P02,      11,          1,          6,          6,2,20220506,       1808,    30.5448,   134.4547,       4505,  2958.0,2,   1.6523,2,  34.6577,2,  34.6563,2,    137.0,2,   137.5,2,  143.52,2,   36.49,2,    0.00,2,    2.54,2,-999.000,9,-999.000,9,-999.0000,9,  2328.4,2,  2412.9,2,   7.5499,2,    25.00,2, -999.00,1,  -999.0,1, -999.00,1, -999.00,1,     -999.0,9, 20220506,     1842,  30.5448, 134.4547,     -999.0,9,     -999.0,9,     -999.0,9,     -999.0,9,     -999.0,9,     0.0122,1,     4.7069,1,     -999.0,9,     -999.0,9,     -999.0,9
33RR20220430,        P02,      11,          1,          5,          5,2,20220506,       1808,    30.5448,   134.4547,       4505,  3253.7,2,   1.5711,2,  34.6703,2,  34.6684,2,    145.5,2,   145.5,2,  142.84,2,   36.20,2,    0.00,2,    2.48,2,   0.011,2,   0.008,2,   0.0000,2,  -999.0,5,  2412.4,2,   7.5634,2,    25.03,2, -999.00,1,  -999.0,1, -999.00,1, -999.00,1,       20.1,2, 20220506,     1835,  30.5449, 134.4547,     -999.0,9,     -999.0,9,     -999.0,9,     -999.0,9,     -999.0,9,     0.0122,1,     4.7067,1,     -999.0,9,     -999.0,9,     -999.0,9
33RR20220430,        P02,      11,          1,          4,          4,2,20220506,       1808,    30.5448,   134.4547,       4505,  3559.7,2,   1.5363,2,  34.6775,3,  34.6753,2,    151.1,2,   151.0,2,  141.86,2,   35.66,2,    0.00,2,    2.46,2,-999.000,9,-999.000,9,-999.0000,9,  2323.1,2,  2412.5,2,   7.5707,2,    25.03,2, -999.00,9,  -999.0,9, -999.00,1, -999.00,1,     -999.0,9, 20220506,     1829,  30.5448, 134.4547,     -999.0,9,     -999.0,9,     -999.0,9,     -999.0,9,     -999.0,9,     0.0122,1,     4.7048,1,     -999.0,9,     -999.0,9,     -999.0,9