BOTTLE,20230801CCHSIOCBG
EXPOCODE,SECT_ID,STNNBR,CASTNO,SAMPNO,BTLNBR,BTLNBR_FLAG_W,DATE,TIME,LATITUDE,LONGITUDE,DEPTH,CTDPRS,CTDPRS_FLAG_W,CTDTMP,CTDTMP_FLAG_W,CTDSAL,CTDSAL_FLAG_W,SALNTY,SALNTY_FLAG_W,CTDOXY,CTDOXY_FLAG_W,OXYGEN,OXYGEN_FLAG_W,SILCAT,SILCAT_FLAG_W,NITRAT,NITRAT_FLAG_W,NITRIT,NITRIT_FLAG_W,PHSPHT,PHSPHT_FLAG_W,CFC-11,CFC-11_FLAG_W,CFC-12,CFC-12_FLAG_W,SF6,SF6_FLAG_W,TCARBN,TCARBN_FLAG_W,ALKALI,ALKALI_FLAG_W,PH_TOT,PH_TOT_FLAG_W,PH_TMP,PH_TMP_FLAG_W,DELC13,DELC13_FLAG_W,DELC14,DELC14_FLAG_W,DOC,DOC_FLAG_W,TDN,TDN_FLAG_W,N2O,N2O_FLAG_W,BTL_DATE,BTL_TIME,BTL_LAT,BTL_LON,REFTMP,REFTMP_FLAG_W,POC,POC_FLAG_W,PON,PON_FLAG_W,POP,POP_FLAG_W,PCOD,PCOD_FLAG_W,CTDFLUOR,CTDFLUOR_FLAG_W,CTDXMISS,CTDXMISS_FLAG_W,HPLC,HPLC_FLAG_W,DNA,DNA_FLAG_W,FCM,FCM_FLAG_W
,,,,,,,,,,,METERS,DBAR,,ITS-90,,PSS-78,,PSS-78,,UMOL/KG,,UMOL/KG,,UMOL/KG,,UMOL/KG,,UMOL/KG,,UMOL/KG,,PMOL/KG,,PMOL/KG,,FMOL/KG,,UMOL/KG,,UMOL/KG,,,,DEG C,,/MILLE,,/MILLE,,UMOL/KG,,UMOL/KG,,NMOL/KG,,,,,,ITS-90,,UG/L,,UG/L,,UG/L,,UG/L,,VOLTS,,VOLTS,,,,,,,
33RR20220430,        P02,      31,          1,          3,          3,2,20220512,       2034,    29.9999,   148.5609,       6161,  5439.4,2,   1.5455,2,  34.6911,2,  34.6910,2,    165.9,2,   166.4,2,  140.49,2,   35.11,2,    0.00,2,    2.41,2,   0.007,2,   0.000,2,   0.0000,2,  2312.8,2,  2407.8,2,   7.5899,2,    25.05,2, -999.00,9,  -999.0,9, -999.00,1, -999.00,1,       23.5,2, 20220512,     2047,  29.9999, 148.5610,     1.5453,2,     -999.0,9,     -999.0,9,     -999.0,9,     -999.0,9,     0.0128,1,     4.7080,1,     -999.0,9,     -999.0,9,     -999.0,9
33RR20220430,        P02,      31,          1,          2,          2,2,20220512,       2034,    29.9999,   148.5609,       6161,  5786.1,2,   1.5775,2,  34.6923,2,  34.6918,2,    168.5,2,   168.3,2,  137.85,2,   35.14,2,    0.00,2,    2.38,2,-999.000,9,-999.000,9,-999.0000,9,  2310.6,6,  2406.7,2,   7.5932,2,    25.04,2, -999.00,9,  -999.0,9, -999.00,1, -999.00,1,     -999.0,9, 20220512,     2040,  29.9999, 148.5609,     1.5771,2,     -999.0,9,     -999.0,9,     -999.0,9,     -999.0,9,     0.0122,1,     4.7080,1,     -999.0,9,     -999.0,9,     -999.0,9
33RR20220430,        P02,      31,          1,          1,          1,2,20220512,       2034,    29.9999,   148.5609,       6161,  6125.7,2,   1.6129,2,  34.6931,2,  34.6936,2,    170.4,2,   170.6,2,  136.39,2,   34.94,2,    0.00,2,    2.38,2,   0.011,2,   0.000,2,   0.0000,2,  2310.5,2,  2403.8,2,   7.5961,2,    25.03,2, -999.00,9,  -999.0,9, -999.00,1, -999.00,1,       22.8,2, 20220512,     2034,  29.9999, 148.5609,     1.6126,2,     -999.0,9,     -999.0,9,     -999.0,9,     -999.0,9,     0.0122,1,     4.7044,1,     -999.0,9,     -999.0,9,     -999.0,9
33RR20220430,        P02,      32,          2,         13,         13,2,20220513,       0321,    30.0003,   149.2354,       6185,     4.4,2,  20.3396,2,  34.8471,2,-999.0000,9,    219.8,2,  -999.0,9, -999.00,9, -999.00,9, -999.00,9, -999.00,9,-999.000,9,-999.000,9,-999.0000,9,  -999.0,9,  -999.0,9,-999.0000,9,  -999.00,9, -999.00,9,  -999.0,9, -999.00,9, -999.00,9,     -999.0,9, 20220513,      348,  30.0003, 149.2354,     -999.0,9,     -999.0,1,     -999.0,1,     -999.0,9,     -999.0,9,     0.0134,1,     4.5709,1,     -999.0,9,     -999.0,9,     -999.0,9
33RR20220430,        P02,      32,          2,         11,         11,2,20220513,       0321,    30.0003,   149.2354,       6185,     4.5,2,  20.3008,2,  34.8477,2,-999.0000,9,    219.6,2,  -999.0,9, -999.00,9, -999.00,9, -999.00,9, -999.00,9,-999.000,9,-999.000,9,-999.0000,9,  -999.0,9,  -999.0,9,-999.0000,9,  -999.00,9, -999.00,9,  -999.0,9, -999.00,9, -999.00,9,     -999.0,9, 20220513,      347,  30.0003, 149.2354,     -999.0,9,     -999.0,1,     -999.0,1,     -999.0,9,     -999.0,9,     0.0135,1,     4.5707,1,     -999.0,9,     -999.0,9,     -999.0,9
33RR20220430,        P02,      32,          2,         15,         15,2,20220513,       0321,    30.0003,   149.2354,       6185,     4.5,2,  20.3457,2,  34.8471,2,-999.0000,9,    219.4,2,  -999.0,9, -999.00,9, -999.00,9, -999.00,9, -999.00,9,-999.000,9,-999.000,9,-999.0000,9,  -999.0,9,  -999.0,9,-999.0000,9,  -999.00,9, -999.00,9,  -999.0,9, -999.00,9, -999.00,9,     -999.0,9, 20220513,      348,  30.0002, 149.2354,     -999.0,9,     -999.0,9,     -999.0,9,     -999.0,1,     -999.0,9,     0.0142,1,     4.5704,1,     -999.0,9,     -999.0,9,     -999.0,9
33RR20220430,        P02,      32,          2,         19,         19,2,20220513,       0321,    30.0003,   149.2354,       6185,     4.7,2,  20.2980,2,  34.8462,2,-999.0000,9,    219.5,2,  -999.0,9, -999.00,9, -999.00,9, -999.00,9, -999.00,9,-999.000,9,-999.000,9,-999.0000,9,  -999.0,9,  -999.0,9,-999.0000,9,  -999.00,9, -999.00,9,  -999.0,9, -999.00,9, -999.00,9,     -999.0,9, 20220513,      350,  30.0003, 149.2354,    20.4932,2,     -999.0,9,     -999.0,9,     -999.0,9,     -999.0,1,     0.0147,1,     4.5671,1,     -999.0,9,     -999.0,9,     -999.0,9
33RR20220430,        P02,      32,          2,         12,         12,2,20220513,       0321,    30.0003,   149.2354,       6185,     4.8,2,  20.3107,2,  34.8474,2,-999.0000,9,    219.8,2,  -999.0,9, -999.00,9, -999.00,9, -999.00,9, -999.00,9,-999.000,9,-999.000,9,-999.0000,9,  -999.0,9,  -999.0,9,-999.0000,9,  -999.00,9, -999.00,9,  -999.0,9, -999.00,9, -999.00,9,     -999.0,9, 20220513,      348,  30.0003, 149.2354,    20.5255,2,     -999.0,1,     -999.0,1,     -999.0,9,     -999.0,9,     0.0135,1,     4.5693,1,     -999.0,9,     -999.0,9,     -999.0,9
33RR20220430,        P02,      32,          2,         17,         17,2,20220513,       0321,    30.0003,   149.2354,       6185,     5.1,2,  20.2587,2,  34.8475,2,-999.0000,9,    220.0,2,  -999.0,9, -999.00,9, -999.00,9, -999.00,9, -999.00,9,-999.000,9,-999.000,9,-999.0000,9,  -999.0,9,  -999.0,9,-999.0000,9,  -999.00,9, -999.00,9,  -999.0,9, -999.00,9, -999.00,9,     -999.0,9, 20220513,      349,  30.0003, 149.2354,     -999.0,9,     -999.0,9,     -999.0,9,     -999.0,9,     -999.0,1,     0.0135,1,     4.5713,1,     -999.0,9,     -999.0,9,     -999.0,9
33RR20220430,        P02,      32,          2,         14,         14,2,20220513,       0321,    30.0003,   149.2354,       6185,     5.1,2,  20.3418,2,  34.8473,2,-999.0000,9,    219.7,2,  -999.0,9, -999.00,9, -999.00,9, -999.00,9, -999.00,9,-999.000,9,-999.000,9,-999.0000,9,  -999.0,9,  -999.0,9,-999.0000,9,  -999.00,9, -999.00,9,  -999.0,9, -999.00,9, -999.00,9,     -999.0,9, 20220513,      348,  30.0002, 149.2354,    20.5596,2,     -999.0,9,     -999.0,9,     -999.0,1,     -999.0,9,     0.0134,1,     4.5718,1,     -999.0,9,     -999.0,9,     -999.0,9
33RR20220430,        P02,      32,          2,         18,         18,2,20220513,       0321,    30.0003,   149.2354,       6185,     5.2,2,  20.1158,2,  34.8501,2,-999.0000,9,    220.3,2,  -999.0,9, -999.00,9, -999.00,9, -999.00,9, -999.00,9,-999.000,9,-999.000,9,-999.0000,9,  -999.0,9,  -999.0,9,-999.0000,9,  -999.00,9, -999.00,9,  -999.0,9, -999.00,9, -999.00,9,     -999.0,9, 20220513,      349,  30.0003, 149.2354,    20.4916,2,     -999.0,9,     -999.0,9,     -999.0,9,     -999.0,1,     0.0135,1,     4.5667,1,     -999.0,9,     -999.0,9,     -999.0,9
33RR20220430,        P02,      32,          2,          9,          9,2,20220513,       0321,    30.0003,   149.2354,       6185,     5.3,2,  20.3115,2,  34.8471,2,-999.0000,9,    219.9,2,  -999.0,9, -999.00,9, -999.00,9, -999.00,9, -999.00,9,-999.000,9,-999.000,9,-999.0000,9,  -999.0,9,  -999.0,9,-999.0000,9,  -999.00,9, -999.00,9,  -999.0,9, -999.00,9, -999.00,9,     -999.0,9, 20220513,      347,  30.0002, 149.2354,    20.5272,2,     -999.0,9,     -999.0,9,     -999.0,9,     -999.0,9,     0.0146,1,     4.5643,1,     -999.0,1,     -999.0,9,     -999.0,1
33RR20220430,        P02,      32,          2,         10,         10,2,20220513,       0321,    30.0003,   149.2354,       6185,     5.3,2,  20.3091,2,  34.8479,2,-999.0000,9,    219.4,2,  -999.0,9, -999.00,9, -999.00,9, -999.00,9, -999.00,9,-999.000,9,-999.000,9,-999.0000,9,  -999.0,9,  -999.0,9,-999.0000,9,  -999.00,9, -999.00,9,  -999.0,9, -999.00,9, -999.00,9,     -999.0,9, 20220513,      347,  30.0002, 149.2354,    20.5137,2,     -999.0,9,     -999.0,9,     -999.0,9,     -999.0,9,     0.0134,1,     4.5690,1,     -999.0,9,     -999.0,1,     -999.0,9
33RR20220430,        P02,      32,          2,         16,         16,2,20220513,       0321,    30.0003,   149.2354,       6185,     5.3,2,  20.3244,2,  34.8472,2,-999.0000,9,    219.6,2,  -999.0,9, -999.00,9, -999.00,9, -999.00,9, -999.00,9,-999.000,9,-999.000,9,-999.0000,9,  -999.0,9,  -999.0,9,-999.0000,9,  -999.00,9, -999.00,9,  -999.0,9, -999.00,9, -999.00,9,     -999.0,9, 20220513,      349,  30.0002, 149.2354,    20.5413,2,     -999.0,9,     -999.0,9,     -999.0,1,     -999.0,9,     0.0137,1,     4.5698,1,     -999.0,9,     -999.0,9,     -999.0,9
33RR20220430,        P02,      32,          2,          8,          8,2,20220513,       0321,    30.0003,   149.2354,       6185,    41.8,2,  18.7865,2,  34.8909,2,-999.0000,9,    226.3,2,  -999.0,9, -999.00,9, -999.00,9, -999.00,9, -999.00,9,-999.000,9,-999.000,9,-999.0000,9,  -999.0,9,  -999.0,9,-999.0000,9,  -999.00,9, -999.00,9,  -999.0,9, -999.00,9, -999.00,9,     -999.0,9, 20220513,      344,  30.0003, 149.2354,    18.9822,2,     -999.0,9,     -999.0,9,     -999.0,9,     -999.0,9,     0.0201,1,     4.5848,1,     -999.0,1,     -999.0,9,     -999.0,1
33RR20220430,        P02,      32,          2,          7,          7,2,20220513,       0321,    30.0003,   149.2354,       6185,    75.3,2,  17.6817,2,  34.8851,2,-999.0000,9,    217.2,2,  -999.0,9, -999.00,9, -999.00,9, -999.00,9, -999.00,9,-999.000,9,-999.000,9,-999.0000,9,  -999.0,9,  -999.0,9,-999.0000,9,  -999.00,9, -999.00,9,  -999.0,9, -999.00,9, -999.00,9,     -999.0,9, 20220513,      342,  30.0002, 149.2354,    17.8865,2,     -999.0,9,     -999.0,9,     -999.0,9,     -999.0,9,     0.0625,1,     4.5982,1,     -999.0,9,     -999.0,9,     -999.0,1
33RR20220430,        P02,      32,          2,          5,          5,2,20220513,       0321,    30.0003,   149.2354,       6185,   101.4,2,  17.4598,2,  34.9009,2,-999.0000,9,    214.6,2,  -999.0,9, -999.00,9, -999.00,9, -999.00,9, -999.00,9,-999.000,9,-999.000,9,-999.0000,9,  -999.0,9,  -999.0,9,-999.0000,9,  -999.00,9, -999.00,9,  -999.0,9, -999.00,9, -999.00,9,     -999.0,9, 20220513,      339,  30.0002, 149.2354,    17.6551,2,     -999.0,9,     -999.0,9,     -999.0,9,     -999.0,9,     0.0207,1,     4.6629,1,     -999.0,9,     -999.0,1,     -999.0,9
33RR20220430,        P02,      32,          2,          6,          6,2,20220513,       0321,    30.0003,   149.2354,       6185,   102.6,2,  17.4630,2,  34.9008,2,-999.0000,9,    214.2,2,  -999.0,9, -999.00,9, -999.00,9, -999.00,9, -999.00,9,-999.000,9,-999.000,9,-999.0000,9,  -999.0,9,  -999.0,9,-999.0000,9,  -999.00,9, -999.00,9,  -999.0,9, -999.00,9, -999.00,9,     -999.0,9, 20220513,      340,  30.0003, 149.2354,    17.6535,2,     -999.0,9,     -999.0,9,     -999.0,9,     -999.0,9,     0.0183,1,     4.6617,1,     -999.0,1,     -999.0,9,     -999.0,1
33RR20220430,        P02,      32,          2,          4,          4,2,20220513,       0321,    30.0003,   149.2354,       6185,   152.9,2,  17.2297,2,  34.9064,2,-999.0000,9,    211.0,2,  -999.0,9, -999.00,9, -999.00,9, -999.00,9, -999.00,9,-999.000,9,-999.000,9,-999.0000,9,  -999.0,9,  -999.0,9,-999.0000,9,  -999.00,9, -999.00,9,  -999.0,9, -999.00,9, -999.00,9,     -999.0,9, 20220513,      337,  30.0002, 149.2354,    17.4019,2,     -999.0,9,     -999.0,9,     -999.0,9,     -999.0,9,     0.0155,1,     4.6765,1,     -999.0,9,     -999.0,9,     -999.0,1
33RR20220430,        P02,      32,          2,          3,          3,2,20220513,       0321,    30.0003,   149.2354,       6185,   202.3,2,  16.9134,2,  34.8908,2,-999.0000,9,    209.6,2,  -999.0,9, -999.00,9, -999.00,9, -999.00,9, -999.00,9,-999.000,9,-999.000,9,-999.0000,9,  -999.0,9,  -999.0,9,-999.0000,9,  -999.00,9, -999.00,9,  -999.0,9, -999.00,9, -999.00,9,     -999.0,9, 20220513,      336,  30.0003, 149.2354,    17.0846,2,     -999.0,9,     -999.0,9,     -999.0,9,     -999.0,9,     0.0122,1,     4.6845,1,     -999.0,9,     -999.0,1,     -999.0,1
33RR20220430,        P02,      32,          2,          2,          2,2,20220513,       0321,    30.0003,   149.2354,       6185,   508.3,2,  11.0099,2,  34.3903,2,-999.0000,9,    171.0,2,  -999.0,9, -999.00,9, -999.00,9, -999.00,9, -999.00,9,-999.000,9,-999.000,9,-999.0000,9,  -999.0,9,  -999.0,9,-999.0000,9,  -999.00,9, -999.00,9,  -999.0,9, -999.00,9, -999.00,9,     -999.0,9, 20220513,      330,  30.0002, 149.2354,    11.1320,2,     -999.0,9,     -999.0,9,     -999.0,9,     -999.0,9,     0.0122,1,     4.7008,1,     -999.0,9,     -999.0,9,     -999.0,1
33RR20220430,        P02,      32,          2,          1,          1,2,20220513,       0321,    30.0003,   149.2354,       6185,  1011.8,2,   3.7174,2,  34.2933,2,-999.0000,9,     40.3,2,  -999.0,9, -999.00,9, -999.00,9, -999.00,9, -999.00,9,-999.000,9,-999.000,9,-999.0000,9,  -999.0,9,  -999.0,9,-999.0000,9,  -999.00,9, -999.00,9,  -999.0,9, -999.00,9, -999.00,9,     -999.0,9, 20220513,      321,  30.0003, 149.2354,     3.7185,2,     -999.0,9,     -999.0,9,     -999.0,9,     -999.0,9,     0.0135,1,     4.7041,1,     -999.0,9,     -999.0,1,     -999.0,1