BOTTLE,20230801CCHSIOCBG
EXPOCODE,SECT_ID,STNNBR,CASTNO,SAMPNO,BTLNBR,BTLNBR_FLAG_W,DATE,TIME,LATITUDE,LONGITUDE,DEPTH,CTDPRS,CTDPRS_FLAG_W,CTDTMP,CTDTMP_FLAG_W,CTDSAL,CTDSAL_FLAG_W,SALNTY,SALNTY_FLAG_W,CTDOXY,CTDOXY_FLAG_W,OXYGEN,OXYGEN_FLAG_W,SILCAT,SILCAT_FLAG_W,NITRAT,NITRAT_FLAG_W,NITRIT,NITRIT_FLAG_W,PHSPHT,PHSPHT_FLAG_W,CFC-11,CFC-11_FLAG_W,CFC-12,CFC-12_FLAG_W,SF6,SF6_FLAG_W,TCARBN,TCARBN_FLAG_W,ALKALI,ALKALI_FLAG_W,PH_TOT,PH_TOT_FLAG_W,PH_TMP,PH_TMP_FLAG_W,DELC13,DELC13_FLAG_W,DELC14,DELC14_FLAG_W,DOC,DOC_FLAG_W,TDN,TDN_FLAG_W,N2O,N2O_FLAG_W,BTL_DATE,BTL_TIME,BTL_LAT,BTL_LON,REFTMP,REFTMP_FLAG_W,POC,POC_FLAG_W,PON,PON_FLAG_W,POP,POP_FLAG_W,PCOD,PCOD_FLAG_W,CTDFLUOR,CTDFLUOR_FLAG_W,CTDXMISS,CTDXMISS_FLAG_W,HPLC,HPLC_FLAG_W,DNA,DNA_FLAG_W,FCM,FCM_FLAG_W
,,,,,,,,,,,METERS,DBAR,,ITS-90,,PSS-78,,PSS-78,,UMOL/KG,,UMOL/KG,,UMOL/KG,,UMOL/KG,,UMOL/KG,,UMOL/KG,,PMOL/KG,,PMOL/KG,,FMOL/KG,,UMOL/KG,,UMOL/KG,,,,DEG C,,/MILLE,,/MILLE,,UMOL/KG,,UMOL/KG,,NMOL/KG,,,,,,ITS-90,,UG/L,,UG/L,,UG/L,,UG/L,,VOLTS,,VOLTS,,,,,,,
33RR20220430,        P02,      49,          1,          3,          3,2,20220518,       2057,    29.9997,   160.4892,       5758,  5132.2,2,   1.4967,2,  34.6913,2,  34.6928,2,    166.4,2,   166.6,2,  141.34,2,   34.90,2,    0.00,2,    2.39,2,-999.000,9,-999.000,9,-999.0000,9,  2310.0,2,  2406.6,2,-999.0000,1,  -999.00,1, -999.00,1,  -999.0,1, -999.00,1, -999.00,1,     -999.0,9, 20220518,     2112,  29.9997, 160.4891,     1.4968,2,     -999.0,9,     -999.0,9,     -999.0,9,     -999.0,9,     0.0122,1,     4.7075,1,     -999.0,9,     -999.0,9,     -999.0,9
33RR20220430,        P02,      49,          1,          2,          2,2,20220518,       2057,    29.9997,   160.4892,       5758,  5508.7,2,   1.5188,2,  34.6933,2,  34.6942,2,    170.6,2,   170.7,2,  138.02,2,   34.56,2,    0.00,2,    2.36,2,-999.000,9,-999.000,9,-999.0000,9,  2305.9,6,  2403.7,2,   7.5955,2,    25.01,2, -999.00,1,  -999.0,1, -999.00,1, -999.00,1,     -999.0,9, 20220518,     2104,  29.9998, 160.4892,     1.5188,2,     -999.0,9,     -999.0,9,     -999.0,9,     -999.0,9,     0.0122,1,     4.7070,1,     -999.0,9,     -999.0,9,     -999.0,9
33RR20220430,        P02,      49,          1,          1,          1,2,20220518,       2057,    29.9997,   160.4892,       5758,  5866.0,2,   1.5504,2,  34.6946,2,  34.6956,2,    172.5,2,   173.1,2,  137.14,2,   34.44,2,    0.00,2,    2.36,2,   0.006,2,   0.000,2,   0.0000,2,  2304.7,2,  2403.0,2,   7.5988,2,    25.00,2, -999.00,1,  -999.0,1, -999.00,1, -999.00,1,       20.9,2, 20220518,     2057,  29.9997, 160.4892,     1.5507,2,     -999.0,9,     -999.0,9,     -999.0,9,     -999.0,9,     0.0122,1,     4.7016,1,     -999.0,9,     -999.0,9,     -999.0,9
33RR20220430,        P02,      50,          1,         18,         18,2,20220519,       0233,    30.0006,   161.0654,       5902,     2.5,2,  23.2742,2,  34.8832,2,-999.0000,9,    213.8,2,  -999.0,9, -999.00,9, -999.00,9, -999.00,9, -999.00,9,-999.000,9,-999.000,9,-999.0000,9,  -999.0,9,  -999.0,9,-999.0000,9,  -999.00,9, -999.00,9,  -999.0,9, -999.00,9, -999.00,9,     -999.0,9, 20220519,      303,  30.0006, 161.0654,    23.2453,2,     -999.0,9,     -999.0,9,     -999.0,9,     -999.0,1,     0.0134,1,     4.5840,1,     -999.0,9,     -999.0,9,     -999.0,9
33RR20220430,        P02,      50,          1,         20,         20,2,20220519,       0233,    30.0006,   161.0654,       5902,     2.6,2,  22.9695,2,  34.8901,2,-999.0000,9,    214.1,2,  -999.0,9, -999.00,9, -999.00,9, -999.00,9, -999.00,9,-999.000,9,-999.000,9,-999.0000,9,  -999.0,9,  -999.0,9,-999.0000,9,  -999.00,9, -999.00,9,  -999.0,9, -999.00,9, -999.00,9,     -999.0,9, 20220519,      303,  30.0006, 161.0654,    23.0160,2,     -999.0,9,     -999.0,9,     -999.0,9,     -999.0,1,     0.0136,1,     4.6206,1,     -999.0,9,     -999.0,9,     -999.0,9
33RR20220430,        P02,      50,          1,         13,         13,2,20220519,       0233,    30.0006,   161.0654,       5902,     2.7,2,  22.9190,2,  34.8903,2,-999.0000,9,    213.9,2,  -999.0,9, -999.00,9, -999.00,9, -999.00,9, -999.00,9,-999.000,9,-999.000,9,-999.0000,9,  -999.0,9,  -999.0,9,-999.0000,9,  -999.00,9, -999.00,9,  -999.0,9, -999.00,9, -999.00,9,     -999.0,9, 20220519,      301,  30.0006, 161.0654,    23.0269,3,     -999.0,1,     -999.0,1,     -999.0,9,     -999.0,9,     0.0134,1,     4.6242,1,     -999.0,9,     -999.0,9,     -999.0,9
33RR20220430,        P02,      50,          1,         19,         19,2,20220519,       0233,    30.0006,   161.0654,       5902,     2.8,2,  23.3792,2,  34.8780,2,-999.0000,9,    212.8,2,  -999.0,9, -999.00,9, -999.00,9, -999.00,9, -999.00,9,-999.000,9,-999.000,9,-999.0000,9,  -999.0,9,  -999.0,9,-999.0000,9,  -999.00,9, -999.00,9,  -999.0,9, -999.00,9, -999.00,9,     -999.0,9, 20220519,      303,  30.0006, 161.0654,    23.3074,2,     -999.0,9,     -999.0,9,     -999.0,9,     -999.0,1,     0.0135,1,     4.6226,1,     -999.0,9,     -999.0,9,     -999.0,9
33RR20220430,        P02,      50,          1,         14,         14,2,20220519,       0233,    30.0006,   161.0654,       5902,     2.8,2,  23.2413,2,  34.8779,2,-999.0000,9,    213.2,2,  -999.0,9, -999.00,9, -999.00,9, -999.00,9, -999.00,9,-999.000,9,-999.000,9,-999.0000,9,  -999.0,9,  -999.0,9,-999.0000,9,  -999.00,9, -999.00,9,  -999.0,9, -999.00,9, -999.00,9,     -999.0,9, 20220519,      301,  30.0006, 161.0654,    23.3599,3,     -999.0,1,     -999.0,1,     -999.0,9,     -999.0,9,     0.0134,1,     4.6235,1,     -999.0,9,     -999.0,9,     -999.0,9
33RR20220430,        P02,      50,          1,         16,         16,2,20220519,       0233,    30.0006,   161.0654,       5902,     2.9,2,  23.6672,2,  34.8775,2,-999.0000,9,    212.9,2,  -999.0,9, -999.00,9, -999.00,9, -999.00,9, -999.00,9,-999.000,9,-999.000,9,-999.0000,9,  -999.0,9,  -999.0,9,-999.0000,9,  -999.00,9, -999.00,9,  -999.0,9, -999.00,9, -999.00,9,     -999.0,9, 20220519,      302,  30.0005, 161.0655,    23.7462,2,     -999.0,9,     -999.0,9,     -999.0,1,     -999.0,9,     0.0135,1,     4.6192,1,     -999.0,9,     -999.0,9,     -999.0,9
33RR20220430,        P02,      50,          1,         12,         12,2,20220519,       0233,    30.0006,   161.0654,       5902,     2.9,2,  23.7408,2,  34.8764,2,-999.0000,9,    212.5,2,  -999.0,9, -999.00,9, -999.00,9, -999.00,9, -999.00,9,-999.000,9,-999.000,9,-999.0000,9,  -999.0,9,  -999.0,9,-999.0000,9,  -999.00,9, -999.00,9,  -999.0,9, -999.00,9, -999.00,9,     -999.0,9, 20220519,      300,  30.0005, 161.0654,    23.6345,3,     -999.0,1,     -999.0,1,     -999.0,9,     -999.0,9,     0.0130,1,     4.5970,1,     -999.0,9,     -999.0,9,     -999.0,9
33RR20220430,        P02,      50,          1,         17,         17,2,20220519,       0233,    30.0006,   161.0654,       5902,     2.9,2,  23.1966,2,  34.8911,2,-999.0000,9,    213.7,2,  -999.0,9, -999.00,9, -999.00,9, -999.00,9, -999.00,9,-999.000,9,-999.000,9,-999.0000,9,  -999.0,9,  -999.0,9,-999.0000,9,  -999.00,9, -999.00,9,  -999.0,9, -999.00,9, -999.00,9,     -999.0,9, 20220519,      302,  30.0005, 161.0654,    23.2448,2,     -999.0,9,     -999.0,9,     -999.0,1,     -999.0,9,     0.0135,1,     4.5359,1,     -999.0,9,     -999.0,9,     -999.0,9
33RR20220430,        P02,      50,          1,         11,         11,2,20220519,       0233,    30.0006,   161.0654,       5902,     2.9,2,  23.6976,2,  34.8791,2,-999.0000,9,    212.5,2,  -999.0,9, -999.00,9, -999.00,9, -999.00,9, -999.00,9,-999.000,9,-999.000,9,-999.0000,9,  -999.0,9,  -999.0,9,-999.0000,9,  -999.00,9, -999.00,9,  -999.0,9, -999.00,9, -999.00,9,     -999.0,9, 20220519,      300,  30.0005, 161.0654,    23.7304,2,     -999.0,9,     -999.0,9,     -999.0,9,     -999.0,9,     0.0134,1,     4.6207,1,     -999.0,9,     -999.0,1,     -999.0,9
33RR20220430,        P02,      50,          1,         15,         15,2,20220519,       0233,    30.0006,   161.0654,       5902,     3.0,2,  23.4641,2,  34.8900,2,-999.0000,9,    212.5,2,  -999.0,9, -999.00,9, -999.00,9, -999.00,9, -999.00,9,-999.000,9,-999.000,9,-999.0000,9,  -999.0,9,  -999.0,9,-999.0000,9,  -999.00,9, -999.00,9,  -999.0,9, -999.00,9, -999.00,9,     -999.0,9, 20220519,      302,  30.0006, 161.0654,    23.6315,3,     -999.0,9,     -999.0,9,     -999.0,1,     -999.0,9,     0.0134,1,     4.6200,1,     -999.0,9,     -999.0,9,     -999.0,9
33RR20220430,        P02,      50,          1,         10,         10,2,20220519,       0233,    30.0006,   161.0654,       5902,     3.0,2,  23.3632,2,  34.8772,2,-999.0000,9,    212.7,2,  -999.0,9, -999.00,9, -999.00,9, -999.00,9, -999.00,9,-999.000,9,-999.000,9,-999.0000,9,  -999.0,9,  -999.0,9,-999.0000,9,  -999.00,9, -999.00,9,  -999.0,9, -999.00,9, -999.00,9,     -999.0,9, 20220519,      300,  30.0006, 161.0654,    23.4394,2,     -999.0,1,     -999.0,1,     -999.0,9,     -999.0,9,     0.0129,1,     4.6233,1,     -999.0,9,     -999.0,9,     -999.0,1
33RR20220430,        P02,      50,          1,          9,          9,2,20220519,       0233,    30.0006,   161.0654,       5902,     3.0,2,  23.3148,2,  34.8781,2,-999.0000,9,    213.3,2,  -999.0,9, -999.00,9, -999.00,9, -999.00,9, -999.00,9,-999.000,9,-999.000,9,-999.0000,9,  -999.0,9,  -999.0,9,-999.0000,9,  -999.00,9, -999.00,9,  -999.0,9, -999.00,9, -999.00,9,     -999.0,9, 20220519,      259,  30.0006, 161.0654,    23.3259,2,     -999.0,1,     -999.0,1,     -999.0,9,     -999.0,9,     0.0134,1,     4.6237,1,     -999.0,1,     -999.0,9,     -999.0,1
33RR20220430,        P02,      50,          1,          8,          8,2,20220519,       0233,    30.0006,   161.0654,       5902,    44.3,2,  18.4945,2,  34.7764,2,-999.0000,9,    233.7,2,  -999.0,9, -999.00,9, -999.00,9, -999.00,9, -999.00,9,-999.000,9,-999.000,9,-999.0000,9,  -999.0,9,  -999.0,9,-999.0000,9,  -999.00,9, -999.00,9,  -999.0,9, -999.00,9, -999.00,9,     -999.0,9, 20220519,      257,  30.0006, 161.0654,    18.4816,2,     -999.0,1,     -999.0,1,     -999.0,9,     -999.0,9,     0.0159,1,     4.6229,1,     -999.0,1,     -999.0,9,     -999.0,1
33RR20220430,        P02,      50,          1,          7,          7,2,20220519,       0233,    30.0006,   161.0654,       5902,    79.0,2,  17.2801,2,  34.7337,2,-999.0000,9,    229.8,2,  -999.0,9, -999.00,9, -999.00,9, -999.00,9, -999.00,9,-999.000,9,-999.000,9,-999.0000,9,  -999.0,9,  -999.0,9,-999.0000,9,  -999.00,9, -999.00,9,  -999.0,9, -999.00,9, -999.00,9,     -999.0,9, 20220519,      255,  30.0006, 161.0654,    17.2721,2,     -999.0,9,     -999.0,9,     -999.0,9,     -999.0,9,     0.0520,1,     4.6196,1,     -999.0,9,     -999.0,1,     -999.0,9
33RR20220430,        P02,      50,          1,          6,          6,2,20220519,       0233,    30.0006,   161.0654,       5902,    79.1,2,  17.2811,2,  34.7336,2,-999.0000,9,    229.9,2,  -999.0,9, -999.00,9, -999.00,9, -999.00,9, -999.00,9,-999.000,9,-999.000,9,-999.0000,9,  -999.0,9,  -999.0,9,-999.0000,9,  -999.00,9, -999.00,9,  -999.0,9, -999.00,9, -999.00,9,     -999.0,9, 20220519,      254,  30.0006, 161.0654,    17.2756,2,     -999.0,1,     -999.0,1,     -999.0,9,     -999.0,9,     0.0496,1,     4.6197,1,     -999.0,1,     -999.0,9,     -999.0,1
33RR20220430,        P02,      50,          1,          5,          5,2,20220519,       0233,    30.0006,   161.0654,       5902,   153.3,2,  16.5003,2,  34.6839,2,-999.0000,9,    207.0,2,  -999.0,9, -999.00,9, -999.00,9, -999.00,9, -999.00,9,-999.000,9,-999.000,9,-999.0000,9,  -999.0,9,  -999.0,9,-999.0000,9,  -999.00,9, -999.00,9,  -999.0,9, -999.00,9, -999.00,9,     -999.0,9, 20220519,      251,  30.0006, 161.0654,    16.4976,2,     -999.0,1,     -999.0,1,     -999.0,9,     -999.0,9,     0.0134,1,     4.6800,1,     -999.0,1,     -999.0,9,     -999.0,1
33RR20220430,        P02,      50,          1,          3,          3,2,20220519,       0233,    30.0006,   161.0654,       5902,   200.7,2,  16.1215,2,  34.6581,2,-999.0000,9,    216.0,2,  -999.0,9, -999.00,9, -999.00,9, -999.00,9, -999.00,9,-999.000,9,-999.000,9,-999.0000,9,  -999.0,9,  -999.0,9,-999.0000,9,  -999.00,9, -999.00,9,  -999.0,9, -999.00,9, -999.00,9,     -999.0,9, 20220519,      249,  30.0006, 161.0654,    16.1130,2,     -999.0,9,     -999.0,9,     -999.0,9,     -999.0,9,     0.0136,1,     4.6835,1,     -999.0,9,     -999.0,1,     -999.0,1
33RR20220430,        P02,      50,          1,          4,          4,2,20220519,       0233,    30.0006,   161.0654,       5902,   201.3,2,  16.1179,2,  34.6582,2,-999.0000,9,    215.2,2,  -999.0,9, -999.00,9, -999.00,9, -999.00,9, -999.00,9,-999.000,9,-999.000,9,-999.0000,9,  -999.0,9,  -999.0,9,-999.0000,9,  -999.00,9, -999.00,9,  -999.0,9, -999.00,9, -999.00,9,     -999.0,9, 20220519,      249,  30.0006, 161.0654,    16.1106,2,     -999.0,1,     -999.0,1,     -999.0,9,     -999.0,9,     0.0134,1,     4.6836,1,     -999.0,1,     -999.0,9,     -999.0,9
33RR20220430,        P02,      50,          1,          2,          2,2,20220519,       0233,    30.0006,   161.0654,       5902,   498.1,2,  11.5452,2,  34.2970,2,-999.0000,9,    192.0,2,  -999.0,9, -999.00,9, -999.00,9, -999.00,9, -999.00,9,-999.000,9,-999.000,9,-999.0000,9,  -999.0,9,  -999.0,9,-999.0000,9,  -999.00,9, -999.00,9,  -999.0,9, -999.00,9, -999.00,9,     -999.0,9, 20220519,      243,  30.0006, 161.0654,    11.5452,2,     -999.0,9,     -999.0,9,     -999.0,9,     -999.0,9,     0.0122,1,     4.6958,1,     -999.0,9,     -999.0,9,     -999.0,1
33RR20220430,        P02,      50,          1,          1,          1,2,20220519,       0233,    30.0006,   161.0654,       5902,  1004.7,2,   3.9779,2,  34.2489,2,-999.0000,9,     39.9,2,  -999.0,9, -999.00,9, -999.00,9, -999.00,9, -999.00,9,-999.000,9,-999.000,9,-999.0000,9,  -999.0,9,  -999.0,9,-999.0000,9,  -999.00,9, -999.00,9,  -999.0,9, -999.00,9, -999.00,9,     -999.0,9, 20220519,      233,  30.0006, 161.0654,     3.9792,2,     -999.0,9,     -999.0,9,     -999.0,9,     -999.0,9,     0.0134,1,     4.7045,1,     -999.0,9,     -999.0,1,     -999.0,1