BOTTLE,20230801CCHSIOCBG
EXPOCODE,SECT_ID,STNNBR,CASTNO,SAMPNO,BTLNBR,BTLNBR_FLAG_W,DATE,TIME,LATITUDE,LONGITUDE,DEPTH,CTDPRS,CTDPRS_FLAG_W,CTDTMP,CTDTMP_FLAG_W,CTDSAL,CTDSAL_FLAG_W,SALNTY,SALNTY_FLAG_W,CTDOXY,CTDOXY_FLAG_W,OXYGEN,OXYGEN_FLAG_W,SILCAT,SILCAT_FLAG_W,NITRAT,NITRAT_FLAG_W,NITRIT,NITRIT_FLAG_W,PHSPHT,PHSPHT_FLAG_W,CFC-11,CFC-11_FLAG_W,CFC-12,CFC-12_FLAG_W,SF6,SF6_FLAG_W,TCARBN,TCARBN_FLAG_W,ALKALI,ALKALI_FLAG_W,PH_TOT,PH_TOT_FLAG_W,PH_TMP,PH_TMP_FLAG_W,DELC13,DELC13_FLAG_W,DELC14,DELC14_FLAG_W,DOC,DOC_FLAG_W,TDN,TDN_FLAG_W,N2O,N2O_FLAG_W,BTL_DATE,BTL_TIME,BTL_LAT,BTL_LON,REFTMP,REFTMP_FLAG_W,POC,POC_FLAG_W,PON,PON_FLAG_W,POP,POP_FLAG_W,PCOD,PCOD_FLAG_W,CTDFLUOR,CTDFLUOR_FLAG_W,CTDXMISS,CTDXMISS_FLAG_W,HPLC,HPLC_FLAG_W,DNA,DNA_FLAG_W,FCM,FCM_FLAG_W
,,,,,,,,,,,METERS,DBAR,,ITS-90,,PSS-78,,PSS-78,,UMOL/KG,,UMOL/KG,,UMOL/KG,,UMOL/KG,,UMOL/KG,,UMOL/KG,,PMOL/KG,,PMOL/KG,,FMOL/KG,,UMOL/KG,,UMOL/KG,,,,DEG C,,/MILLE,,/MILLE,,UMOL/KG,,UMOL/KG,,NMOL/KG,,,,,,ITS-90,,UG/L,,UG/L,,UG/L,,UG/L,,VOLTS,,VOLTS,,,,,,,
33RR20220430,        P02,      46,          1,          3,          3,2,20220517,       2210,    30.0000,   158.6584,       5801,  5442.2,2,   1.5126,2,  34.6931,2,  34.6930,2,    170.7,2,   170.7,2,  138.71,2,   34.48,2,    0.00,2,    2.38,2,   0.005,2,   0.000,2,   0.0000,2,  2302.5,2,  2404.3,2,   7.5956,2,    24.98,2, -999.00,9,  -999.0,9, -999.00,1, -999.00,1,       18.2,2, 20220517,     2219,  30.0001, 158.6584,     1.5128,2,     -999.0,9,     -999.0,9,     -999.0,9,     -999.0,9,     0.0122,1,     4.7080,1,     -999.0,9,     -999.0,9,     -999.0,9
33RR20220430,        P02,      46,          1,          2,          2,2,20220517,       2210,    30.0000,   158.6584,       5801,  5716.6,2,   1.5339,2,  34.6941,2,  34.6948,2,    172.5,2,   172.8,2,  137.54,2,   34.42,2,    0.00,2,    2.38,2,   0.006,2,   0.000,2,   0.0000,2,  2302.2,6,  2402.8,2,   7.5972,2,    24.98,2, -999.00,9,  -999.0,9, -999.00,1, -999.00,1,       21.7,2, 20220517,     2214,  30.0001, 158.6584,     1.5341,2,     -999.0,9,     -999.0,9,     -999.0,9,     -999.0,9,     0.0122,1,     4.7054,1,     -999.0,9,     -999.0,9,     -999.0,9
33RR20220430,        P02,      46,          1,          1,          1,2,20220517,       2210,    30.0000,   158.6584,       5801,  5910.6,2,   1.5574,2,  34.6943,3,  34.6965,2,    172.9,2,   172.7,2,  137.34,2,   34.38,2,    0.00,2,    2.36,2,-999.000,9,-999.000,9,-999.0000,9,  -999.0,9,  -999.0,9,-999.0000,9,  -999.00,9, -999.00,9,  -999.0,9, -999.00,9, -999.00,9,     -999.0,9, 20220517,     2210,  30.0000, 158.6584,     1.5575,2,     -999.0,9,     -999.0,9,     -999.0,9,     -999.0,9,     0.0122,1,     4.7009,1,     -999.0,9,     -999.0,9,     -999.0,9
33RR20220430,        P02,      47,          1,         19,         19,2,20220518,       0405,    30.0006,   159.3298,       5735,     6.4,2,  23.4884,2,  35.0660,2,-999.0000,9,    207.8,2,  -999.0,9, -999.00,9, -999.00,9, -999.00,9, -999.00,9,-999.000,9,-999.000,9,-999.0000,9,  -999.0,9,  -999.0,9,-999.0000,9,  -999.00,9, -999.00,9,  -999.0,9, -999.00,9, -999.00,9,     -999.0,9, 20220518,      434,  30.0006, 159.3298,     -999.0,9,     -999.0,9,     -999.0,9,     -999.0,9,     -999.0,1,     0.0136,1,     4.6348,1,     -999.0,9,     -999.0,9,     -999.0,9
33RR20220430,        P02,      47,          1,         15,         15,2,20220518,       0405,    30.0006,   159.3298,       5735,     6.6,2,  23.4589,2,  35.0660,2,-999.0000,9,    207.3,2,  -999.0,9, -999.00,9, -999.00,9, -999.00,9, -999.00,9,-999.000,9,-999.000,9,-999.0000,9,  -999.0,9,  -999.0,9,-999.0000,9,  -999.00,9, -999.00,9,  -999.0,9, -999.00,9, -999.00,9,     -999.0,9, 20220518,      433,  30.0006, 159.3298,    23.4512,2,     -999.0,9,     -999.0,9,     -999.0,1,     -999.0,9,     0.0134,1,     4.6354,1,     -999.0,9,     -999.0,9,     -999.0,9
33RR20220430,        P02,      47,          1,         18,         18,2,20220518,       0405,    30.0006,   159.3298,       5735,     6.7,2,  23.4760,2,  35.0668,2,-999.0000,9,    207.6,2,  -999.0,9, -999.00,9, -999.00,9, -999.00,9, -999.00,9,-999.000,9,-999.000,9,-999.0000,9,  -999.0,9,  -999.0,9,-999.0000,9,  -999.00,9, -999.00,9,  -999.0,9, -999.00,9, -999.00,9,     -999.0,9, 20220518,      434,  30.0006, 159.3298,    23.4767,2,     -999.0,9,     -999.0,9,     -999.0,9,     -999.0,1,     0.0131,1,     4.6339,1,     -999.0,9,     -999.0,9,     -999.0,9
33RR20220430,        P02,      47,          1,         12,         12,2,20220518,       0405,    30.0006,   159.3298,       5735,     6.7,2,  23.4617,2,  35.0662,2,-999.0000,9,    207.3,2,  -999.0,9, -999.00,9, -999.00,9, -999.00,9, -999.00,9,-999.000,9,-999.000,9,-999.0000,9,  -999.0,9,  -999.0,9,-999.0000,9,  -999.00,9, -999.00,9,  -999.0,9, -999.00,9, -999.00,9,     -999.0,9, 20220518,      432,  30.0006, 159.3298,    23.4542,2,     -999.0,1,     -999.0,1,     -999.0,9,     -999.0,9,     0.0136,1,     4.6362,1,     -999.0,9,     -999.0,1,     -999.0,9
33RR20220430,        P02,      47,          1,         17,         17,2,20220518,       0405,    30.0006,   159.3298,       5735,     6.8,2,  23.4833,2,  35.0673,2,-999.0000,9,    207.6,2,  -999.0,9, -999.00,9, -999.00,9, -999.00,9, -999.00,9,-999.000,9,-999.000,9,-999.0000,9,  -999.0,9,  -999.0,9,-999.0000,9,  -999.00,9, -999.00,9,  -999.0,9, -999.00,9, -999.00,9,     -999.0,9, 20220518,      434,  30.0006, 159.3298,    23.4956,2,     -999.0,9,     -999.0,9,     -999.0,9,     -999.0,1,     0.0136,1,     4.6360,1,     -999.0,9,     -999.0,9,     -999.0,9
33RR20220430,        P02,      47,          1,         14,         14,2,20220518,       0405,    30.0006,   159.3298,       5735,     6.8,2,  23.4579,2,  35.0662,2,-999.0000,9,    207.3,2,  -999.0,9, -999.00,9, -999.00,9, -999.00,9, -999.00,9,-999.000,9,-999.000,9,-999.0000,9,  -999.0,9,  -999.0,9,-999.0000,9,  -999.00,9, -999.00,9,  -999.0,9, -999.00,9, -999.00,9,     -999.0,9, 20220518,      433,  30.0007, 159.3298,    23.4498,2,     -999.0,9,     -999.0,9,     -999.0,1,     -999.0,9,     0.0135,1,     4.6360,1,     -999.0,9,     -999.0,9,     -999.0,9
33RR20220430,        P02,      47,          1,         10,         10,2,20220518,       0405,    30.0006,   159.3298,       5735,     6.8,2,  23.4569,2,  35.0659,2,-999.0000,9,    207.5,2,  -999.0,9, -999.00,9, -999.00,9, -999.00,9, -999.00,9,-999.000,9,-999.000,9,-999.0000,9,  -999.0,9,  -999.0,9,-999.0000,9,  -999.00,9, -999.00,9,  -999.0,9, -999.00,9, -999.00,9,     -999.0,9, 20220518,      432,  30.0006, 159.3298,    23.4705,2,     -999.0,9,     -999.0,9,     -999.0,9,     -999.0,9,     0.0134,1,     4.6361,1,     -999.0,9,     -999.0,1,     -999.0,9
33RR20220430,        P02,      47,          1,         16,         16,2,20220518,       0405,    30.0006,   159.3298,       5735,     7.0,2,  23.4591,2,  35.0662,2,-999.0000,9,    207.5,2,  -999.0,9, -999.00,9, -999.00,9, -999.00,9, -999.00,9,-999.000,9,-999.000,9,-999.0000,9,  -999.0,9,  -999.0,9,-999.0000,9,  -999.00,9, -999.00,9,  -999.0,9, -999.00,9, -999.00,9,     -999.0,9, 20220518,      434,  30.0006, 159.3298,    23.4570,2,     -999.0,9,     -999.0,9,     -999.0,1,     -999.0,9,     0.0134,1,     4.6360,1,     -999.0,9,     -999.0,9,     -999.0,9
33RR20220430,        P02,      47,          1,          9,          9,2,20220518,       0405,    30.0006,   159.3298,       5735,     7.1,2,  23.4527,2,  35.0659,2,-999.0000,9,    208.0,2,  -999.0,9, -999.00,9, -999.00,9, -999.00,9, -999.00,9,-999.000,9,-999.000,9,-999.0000,9,  -999.0,9,  -999.0,9,-999.0000,9,  -999.00,9, -999.00,9,  -999.0,9, -999.00,9, -999.00,9,     -999.0,9, 20220518,      431,  30.0006, 159.3298,    23.4455,2,     -999.0,9,     -999.0,9,     -999.0,9,     -999.0,9,     0.0135,1,     4.6368,1,     -999.0,1,     -999.0,9,     -999.0,1
33RR20220430,        P02,      47,          1,         11,         11,2,20220518,       0405,    30.0006,   159.3298,       5735,     7.2,2,  23.5297,2,  35.0646,2,-999.0000,9,    208.0,2,  -999.0,9, -999.00,9, -999.00,9, -999.00,9, -999.00,9,-999.000,9,-999.000,9,-999.0000,9,  -999.0,9,  -999.0,9,-999.0000,9,  -999.00,9, -999.00,9,  -999.0,9, -999.00,9, -999.00,9,     -999.0,9, 20220518,      432,  30.0006, 159.3298,    23.5327,2,     -999.0,1,     -999.0,1,     -999.0,9,     -999.0,9,     0.0135,1,     4.6385,1,     -999.0,9,     -999.0,1,     -999.0,9
33RR20220430,        P02,      47,          1,         13,         13,2,20220518,       0405,    30.0006,   159.3298,       5735,     7.2,2,  23.4583,2,  35.0661,2,-999.0000,9,    207.4,2,  -999.0,9, -999.00,9, -999.00,9, -999.00,9, -999.00,9,-999.000,9,-999.000,9,-999.0000,9,  -999.0,9,  -999.0,9,-999.0000,9,  -999.00,9, -999.00,9,  -999.0,9, -999.00,9, -999.00,9,     -999.0,9, 20220518,      433,  30.0006, 159.3298,    23.4513,2,     -999.0,1,     -999.0,1,     -999.0,9,     -999.0,9,     0.0135,1,     4.6356,1,     -999.0,9,     -999.0,9,     -999.0,9
33RR20220430,        P02,      47,          1,          8,          8,2,20220518,       0405,    30.0006,   159.3298,       5735,    40.0,2,  20.8398,2,  34.9602,2,-999.0000,9,    219.9,2,  -999.0,9, -999.00,9, -999.00,9, -999.00,9, -999.00,9,-999.000,9,-999.000,9,-999.0000,9,  -999.0,9,  -999.0,9,-999.0000,9,  -999.00,9, -999.00,9,  -999.0,9, -999.00,9, -999.00,9,     -999.0,9, 20220518,      429,  30.0006, 159.3298,    20.8319,2,     -999.0,9,     -999.0,9,     -999.0,9,     -999.0,9,     0.0151,1,     4.6179,1,     -999.0,1,     -999.0,9,     -999.0,1
33RR20220430,        P02,      47,          1,          7,          7,2,20220518,       0405,    30.0006,   159.3298,       5735,    75.3,2,  18.8103,2,  34.8027,2,-999.0000,9,    228.2,2,  -999.0,9, -999.00,9, -999.00,9, -999.00,9, -999.00,9,-999.000,9,-999.000,9,-999.0000,9,  -999.0,9,  -999.0,9,-999.0000,9,  -999.00,9, -999.00,9,  -999.0,9, -999.00,9, -999.00,9,     -999.0,9, 20220518,      427,  30.0006, 159.3298,    18.8011,2,     -999.0,9,     -999.0,9,     -999.0,9,     -999.0,9,     0.0236,1,     4.6333,1,     -999.0,9,     -999.0,9,     -999.0,1
33RR20220430,        P02,      47,          1,          5,          5,2,20220518,       0405,    30.0006,   159.3298,       5735,   105.2,2,  18.0977,2,  34.7581,2,-999.0000,9,    222.4,2,  -999.0,9, -999.00,9, -999.00,9, -999.00,9, -999.00,9,-999.000,9,-999.000,9,-999.0000,9,  -999.0,9,  -999.0,9,-999.0000,9,  -999.00,9, -999.00,9,  -999.0,9, -999.00,9, -999.00,9,     -999.0,9, 20220518,      424,  30.0006, 159.3298,    18.0905,2,     -999.0,9,     -999.0,9,     -999.0,9,     -999.0,9,     0.0342,1,     4.6470,1,     -999.0,9,     -999.0,1,     -999.0,9
33RR20220430,        P02,      47,          1,          6,          6,2,20220518,       0405,    30.0006,   159.3298,       5735,   105.5,2,  18.0992,2,  34.7582,2,-999.0000,9,    222.3,2,  -999.0,9, -999.00,9, -999.00,9, -999.00,9, -999.00,9,-999.000,9,-999.000,9,-999.0000,9,  -999.0,9,  -999.0,9,-999.0000,9,  -999.00,9, -999.00,9,  -999.0,9, -999.00,9, -999.00,9,     -999.0,9, 20220518,      425,  30.0007, 159.3298,    18.0938,2,     -999.0,9,     -999.0,9,     -999.0,9,     -999.0,9,     0.0322,1,     4.6468,1,     -999.0,1,     -999.0,9,     -999.0,1
33RR20220430,        P02,      47,          1,          4,          4,2,20220518,       0405,    30.0006,   159.3298,       5735,   154.8,2,  17.4942,2,  34.7474,2,-999.0000,9,    197.6,2,  -999.0,9, -999.00,9, -999.00,9, -999.00,9, -999.00,9,-999.000,9,-999.000,9,-999.0000,9,  -999.0,9,  -999.0,9,-999.0000,9,  -999.00,9, -999.00,9,  -999.0,9, -999.00,9, -999.00,9,     -999.0,9, 20220518,      422,  30.0006, 159.3298,    17.4814,2,     -999.0,9,     -999.0,9,     -999.0,9,     -999.0,9,     0.0152,1,     4.6843,1,     -999.0,9,     -999.0,9,     -999.0,1
33RR20220430,        P02,      47,          1,          3,          3,2,20220518,       0405,    30.0006,   159.3298,       5735,   204.9,2,  16.9041,2,  34.7163,2,-999.0000,9,    195.5,2,  -999.0,9, -999.00,9, -999.00,9, -999.00,9, -999.00,9,-999.000,9,-999.000,9,-999.0000,9,  -999.0,9,  -999.0,9,-999.0000,9,  -999.00,9, -999.00,9,  -999.0,9, -999.00,9, -999.00,9,     -999.0,9, 20220518,      421,  30.0006, 159.3298,    16.8965,2,     -999.0,9,     -999.0,9,     -999.0,9,     -999.0,9,     0.0122,1,     4.6920,1,     -999.0,9,     -999.0,1,     -999.0,1
33RR20220430,        P02,      47,          1,          2,          2,2,20220518,       0405,    30.0006,   159.3298,       5735,   508.0,2,  11.0182,2,  34.2703,2,-999.0000,9,    180.7,2,  -999.0,9, -999.00,9, -999.00,9, -999.00,9, -999.00,9,-999.000,9,-999.000,9,-999.0000,9,  -999.0,9,  -999.0,9,-999.0000,9,  -999.00,9, -999.00,9,  -999.0,9, -999.00,9, -999.00,9,     -999.0,9, 20220518,      414,  30.0007, 159.3299,    11.0232,2,     -999.0,9,     -999.0,9,     -999.0,9,     -999.0,9,     0.0122,1,     4.7007,1,     -999.0,9,     -999.0,9,     -999.0,1
33RR20220430,        P02,      47,          1,          1,          1,2,20220518,       0405,    30.0006,   159.3298,       5735,  1010.8,2,   3.7854,2,  34.2725,2,-999.0000,9,     37.4,2,  -999.0,9, -999.00,9, -999.00,9, -999.00,9, -999.00,9,-999.000,9,-999.000,9,-999.0000,9,  -999.0,9,  -999.0,9,-999.0000,9,  -999.00,9, -999.00,9,  -999.0,9, -999.00,9, -999.00,9,     -999.0,9, 20220518,      405,  30.0006, 159.3298,     3.7829,2,     -999.0,9,     -999.0,9,     -999.0,9,     -999.0,9,     0.0135,1,     4.7029,1,     -999.0,9,     -999.0,1,     -999.0,1