BOTTLE,20230801CCHSIOCBG
EXPOCODE,SECT_ID,STNNBR,CASTNO,SAMPNO,BTLNBR,BTLNBR_FLAG_W,DATE,TIME,LATITUDE,LONGITUDE,DEPTH,CTDPRS,CTDPRS_FLAG_W,CTDTMP,CTDTMP_FLAG_W,CTDSAL,CTDSAL_FLAG_W,SALNTY,SALNTY_FLAG_W,CTDOXY,CTDOXY_FLAG_W,OXYGEN,OXYGEN_FLAG_W,SILCAT,SILCAT_FLAG_W,NITRAT,NITRAT_FLAG_W,NITRIT,NITRIT_FLAG_W,PHSPHT,PHSPHT_FLAG_W,CFC-11,CFC-11_FLAG_W,CFC-12,CFC-12_FLAG_W,SF6,SF6_FLAG_W,TCARBN,TCARBN_FLAG_W,ALKALI,ALKALI_FLAG_W,PH_TOT,PH_TOT_FLAG_W,PH_TMP,PH_TMP_FLAG_W,DELC13,DELC13_FLAG_W,DELC14,DELC14_FLAG_W,DOC,DOC_FLAG_W,TDN,TDN_FLAG_W,N2O,N2O_FLAG_W,BTL_DATE,BTL_TIME,BTL_LAT,BTL_LON,REFTMP,REFTMP_FLAG_W,POC,POC_FLAG_W,PON,PON_FLAG_W,POP,POP_FLAG_W,PCOD,PCOD_FLAG_W,CTDFLUOR,CTDFLUOR_FLAG_W,CTDXMISS,CTDXMISS_FLAG_W,HPLC,HPLC_FLAG_W,DNA,DNA_FLAG_W,FCM,FCM_FLAG_W
,,,,,,,,,,,METERS,DBAR,,ITS-90,,PSS-78,,PSS-78,,UMOL/KG,,UMOL/KG,,UMOL/KG,,UMOL/KG,,UMOL/KG,,UMOL/KG,,PMOL/KG,,PMOL/KG,,FMOL/KG,,UMOL/KG,,UMOL/KG,,,,DEG C,,/MILLE,,/MILLE,,UMOL/KG,,UMOL/KG,,NMOL/KG,,,,,,ITS-90,,UG/L,,UG/L,,UG/L,,UG/L,,VOLTS,,VOLTS,,,,,,,
33RR20220430,        P02,     116,          2,          3,          3,2,20220608,       0220,    30.0009,  -161.7914,       5721,  5265.4,2,   1.5568,2,  34.6877,3,  34.6897,2,    157.4,2,   157.4,2,  148.75,2,   35.60,2,    0.00,2,    2.46,2,   0.004,2,   0.000,2,   0.0000,2,  2319.4,2,  2416.6,2,   7.5865,2,    25.03,2, -999.00,9,  -999.0,9, -999.00,1, -999.00,1,       22.4,2, 20220608,      232,  30.0009,-161.7914,     1.5567,2,     -999.0,9,     -999.0,9,     -999.0,9,     -999.0,9,     0.0121,1,     4.7055,1,     -999.0,9,     -999.0,9,     -999.0,9
33RR20220430,        P02,     116,          2,          2,          2,2,20220608,       0220,    30.0009,  -161.7914,       5721,  5559.2,2,   1.5869,2,  34.6878,3,  34.6903,2,    158.6,2,   158.9,2,  147.87,2,   35.56,2,    0.00,2,    2.45,2,-999.000,9,-999.000,9,-999.0000,9,  2318.2,2,  2415.7,2,   7.5855,2,    25.01,2, -999.00,9,  -999.0,9, -999.00,1, -999.00,1,     -999.0,9, 20220608,      226,  30.0009,-161.7914,     1.5871,2,     -999.0,9,     -999.0,9,     -999.0,9,     -999.0,9,     0.0122,1,     4.7043,1,     -999.0,9,     -999.0,9,     -999.0,9
33RR20220430,        P02,     116,          2,          1,          1,2,20220608,       0220,    30.0009,  -161.7914,       5721,  5832.0,2,   1.6166,2,  34.6883,3,  34.6916,2,    160.2,2,   160.2,2,  146.40,2,   35.47,2,    0.00,2,    2.45,2,   0.007,2,   0.000,2,   0.0000,2,  2316.4,6,  2412.6,2,   7.5869,2,    25.02,2, -999.00,9,  -999.0,9, -999.00,1, -999.00,1,       22.7,2, 20220608,      220,  30.0009,-161.7914,     1.6170,2,     -999.0,9,     -999.0,9,     -999.0,9,     -999.0,9,     0.0126,1,     4.7023,1,     -999.0,9,     -999.0,9,     -999.0,9