BOTTLE,20230801CCHSIOCBG
EXPOCODE,SECT_ID,STNNBR,CASTNO,SAMPNO,BTLNBR,BTLNBR_FLAG_W,DATE,TIME,LATITUDE,LONGITUDE,DEPTH,CTDPRS,CTDPRS_FLAG_W,CTDTMP,CTDTMP_FLAG_W,CTDSAL,CTDSAL_FLAG_W,SALNTY,SALNTY_FLAG_W,CTDOXY,CTDOXY_FLAG_W,OXYGEN,OXYGEN_FLAG_W,SILCAT,SILCAT_FLAG_W,NITRAT,NITRAT_FLAG_W,NITRIT,NITRIT_FLAG_W,PHSPHT,PHSPHT_FLAG_W,CFC-11,CFC-11_FLAG_W,CFC-12,CFC-12_FLAG_W,SF6,SF6_FLAG_W,TCARBN,TCARBN_FLAG_W,ALKALI,ALKALI_FLAG_W,PH_TOT,PH_TOT_FLAG_W,PH_TMP,PH_TMP_FLAG_W,DELC13,DELC13_FLAG_W,DELC14,DELC14_FLAG_W,DOC,DOC_FLAG_W,TDN,TDN_FLAG_W,N2O,N2O_FLAG_W,BTL_DATE,BTL_TIME,BTL_LAT,BTL_LON,REFTMP,REFTMP_FLAG_W,POC,POC_FLAG_W,PON,PON_FLAG_W,POP,POP_FLAG_W,PCOD,PCOD_FLAG_W,CTDFLUOR,CTDFLUOR_FLAG_W,CTDXMISS,CTDXMISS_FLAG_W,HPLC,HPLC_FLAG_W,DNA,DNA_FLAG_W,FCM,FCM_FLAG_W
,,,,,,,,,,,METERS,DBAR,,ITS-90,,PSS-78,,PSS-78,,UMOL/KG,,UMOL/KG,,UMOL/KG,,UMOL/KG,,UMOL/KG,,UMOL/KG,,PMOL/KG,,PMOL/KG,,FMOL/KG,,UMOL/KG,,UMOL/KG,,,,DEG C,,/MILLE,,/MILLE,,UMOL/KG,,UMOL/KG,,NMOL/KG,,,,,,ITS-90,,UG/L,,UG/L,,UG/L,,UG/L,,VOLTS,,VOLTS,,,,,,,
33RR20220430,        P02,      94,          1,         36,         36,2,20220601,       1138,    30.0002,  -174.4820,       5374,     3.4,2,  22.3340,2,  35.1630,3,  35.1417,2,    215.9,3,   220.6,2,    1.46,2,    0.01,2,    0.00,2,    0.01,2,   1.674,6,   1.137,6,   1.7572,6,  2027.8,2,  2306.7,2,   8.0066,2,    25.03,2, -999.00,9,  -999.0,9, -999.00,9, -999.00,9,        5.9,6, 20220601,     1347,  30.0002,-174.4820,    22.3340,2,     -999.0,9,     -999.0,9,     -999.0,9,     -999.0,9,     0.0139,1,     4.6429,1,     -999.0,9,     -999.0,9,     -999.0,9
33RR20220430,        P02,      94,          1,         35,         35,2,20220601,       1138,    30.0002,  -174.4820,       5374,    35.7,2,  19.8242,2,  34.9461,3,  34.9179,2,    233.4,2,   234.6,2,    1.86,2,    0.00,2,    0.00,2,    0.01,2,   1.876,2,   1.286,2,   1.9007,2,  2025.9,6,  2293.4,2,   7.9873,2,    25.02,2, -999.00,9,  -999.0,9, -999.00,9, -999.00,9,        6.5,2, 20220601,     1345,  30.0002,-174.4820,    19.8150,2,     -999.0,9,     -999.0,9,     -999.0,9,     -999.0,9,     0.0147,1,     4.6448,1,     -999.0,9,     -999.0,9,     -999.0,9
33RR20220430,        P02,      94,          1,         34,         34,2,20220601,       1138,    30.0002,  -174.4820,       5374,    61.1,2,  18.5525,2,  34.7703,2,  34.7561,2,    242.2,2,   240.7,2,    1.86,2,    0.00,2,    0.00,2,    0.03,2,   2.005,2,   1.320,2,   2.0429,2,  2023.2,2,  2283.6,2,   7.9767,2,    25.02,2, -999.00,9,  -999.0,9, -999.00,9, -999.00,9,        6.8,2, 20220601,     1343,  30.0002,-174.4820,    18.5682,2,     -999.0,9,     -999.0,9,     -999.0,9,     -999.0,9,     0.0159,1,     4.6365,1,     -999.0,9,     -999.0,9,     -999.0,9
33RR20220430,        P02,      94,          1,         33,         33,2,20220601,       1138,    30.0002,  -174.4820,       5374,    85.9,2,  17.7957,2,  34.7682,2,  34.7569,2,    244.1,3,   241.7,2,    2.05,2,    0.00,2,    0.00,2,    0.05,2,   2.029,2,   1.367,2,   2.0125,2,  2024.8,2,  2282.5,2,   7.9727,2,    25.03,2, -999.00,9,  -999.0,9, -999.00,9, -999.00,9,        7.1,2, 20220601,     1342,  30.0002,-174.4820,    17.7964,2,     -999.0,9,     -999.0,9,     -999.0,9,     -999.0,9,     0.0238,1,     4.6379,1,     -999.0,9,     -999.0,9,     -999.0,9
33RR20220430,        P02,      94,          1,         32,         32,2,20220601,       1138,    30.0002,  -174.4820,       5374,   116.4,2,  17.3660,2,  34.7679,2,  34.7565,2,    230.7,2,   230.0,2,    2.64,2,    0.81,2,    0.16,2,    0.12,2,   2.051,2,   1.346,2,   2.0260,2,  2033.1,2,  2280.9,2,   7.9515,2,    25.01,2, -999.00,9,  -999.0,9, -999.00,9, -999.00,9,        7.5,2, 20220601,     1339,  30.0002,-174.4820,    17.3688,2,     -999.0,9,     -999.0,9,     -999.0,9,     -999.0,9,     0.0394,1,     4.6339,1,     -999.0,9,     -999.0,9,     -999.0,9
33RR20220430,        P02,      94,          1,         31,         31,2,20220601,       1138,    30.0002,  -174.4820,       5374,   166.0,2,  16.2074,2,  34.6273,2,  34.6187,2,    223.8,2,   224.0,2,    4.20,2,    3.54,2,    0.02,2,    0.28,2,   2.158,2,   1.399,2,   2.0969,2,  2046.3,2,  2274.5,2,   7.9168,2,    25.02,2, -999.00,9,  -999.0,9, -999.00,9, -999.00,9,        8.5,2, 20220601,     1337,  30.0002,-174.4820,    16.2089,2,     -999.0,9,     -999.0,9,     -999.0,9,     -999.0,9,     0.0134,1,     4.6788,1,     -999.0,9,     -999.0,9,     -999.0,9
33RR20220430,        P02,      94,          1,         30,         30,2,20220601,       1138,    30.0002,  -174.4820,       5374,   216.5,2,  15.0837,2,  34.5331,2,  34.5193,2,    220.1,2,   220.3,2,    6.35,2,    6.00,2,    0.00,2,    0.44,2,   2.274,2,   1.480,2,   2.0388,2,  -999.0,9,  -999.0,9,-999.0000,9,  -999.00,9, -999.00,9,  -999.0,9, -999.00,9, -999.00,9,       10.0,2, 20220601,     1335,  30.0002,-174.4820,    15.0826,2,     -999.0,9,     -999.0,9,     -999.0,9,     -999.0,9,     0.0122,1,     4.6848,1,     -999.0,9,     -999.0,9,     -999.0,9
33RR20220430,        P02,      94,          1,         29,         29,2,20220601,       1138,    30.0002,  -174.4820,       5374,   267.4,2,  13.9736,2,  34.4676,2,  34.4589,2,    210.7,2,   211.9,2,    9.38,2,    8.75,2,    0.00,2,    0.63,2,   2.378,2,   1.528,2,   1.9042,2,  2077.3,2,  2269.4,2,   7.8430,2,    25.00,2, -999.00,9,  -999.0,9, -999.00,9, -999.00,9,       11.8,2, 20220601,     1334,  30.0002,-174.4820,    13.9914,2,     -999.0,9,     -999.0,9,     -999.0,9,     -999.0,9,     0.0116,1,     4.6873,1,     -999.0,9,     -999.0,9,     -999.0,9
33RR20220430,        P02,      94,          1,         28,         28,2,20220601,       1138,    30.0002,  -174.4820,       5374,   317.1,2,  13.0308,2,  34.4001,2,  34.3888,2,    212.5,2,   212.9,2,   11.82,2,   10.35,2,    0.00,2,    0.74,2,   2.481,2,   1.613,2,   2.1682,2,  -999.0,9,  -999.0,9,-999.0000,9,  -999.00,9, -999.00,9,  -999.0,9, -999.00,9, -999.00,9,       12.7,2, 20220601,     1332,  30.0002,-174.4820,    13.0263,2,     -999.0,9,     -999.0,9,     -999.0,9,     -999.0,9,     0.0122,1,     4.6885,1,     -999.0,9,     -999.0,9,     -999.0,9
33RR20220430,        P02,      94,          1,         27,         27,2,20220601,       1138,    30.0002,  -174.4820,       5374,   367.7,2,  11.7351,2,  34.2807,2,  34.2717,2,    209.0,2,   209.4,2,   14.66,2,   12.66,2,    0.00,2,    0.90,2,   2.628,2,   1.672,2,   1.8230,2,  2102.0,2,  2263.6,2,   7.7787,2,    25.00,2, -999.00,9,  -999.0,9, -999.00,9, -999.00,9,       14.2,2, 20220601,     1330,  30.0002,-174.4820,    11.7340,2,     -999.0,9,     -999.0,9,     -999.0,9,     -999.0,9,     0.0122,1,     4.6927,1,     -999.0,9,     -999.0,9,     -999.0,9
33RR20220430,        P02,      94,          1,         26,         26,2,20220601,       1138,    30.0002,  -174.4820,       5374,   438.7,2,  10.4759,2,  34.1786,2,  34.1722,2,    201.0,2,   201.3,2,   20.23,2,   15.94,2,    0.00,2,    1.12,2,-999.000,9,-999.000,9,-999.0000,9,  2122.3,2,  2263.9,2,   7.7315,2,    25.00,2, -999.00,9,  -999.0,9, -999.00,9, -999.00,9,     -999.0,9, 20220601,     1328,  30.0002,-174.4820,    10.5064,2,     -999.0,9,     -999.0,9,     -999.0,9,     -999.0,9,     0.0122,1,     4.6954,1,     -999.0,9,     -999.0,9,     -999.0,9
33RR20220430,        P02,      94,          1,         25,         25,2,20220601,       1138,    30.0002,  -174.4820,       5374,   539.7,2,   8.4048,2,  34.0567,2,  34.0584,2,    171.3,2,   171.2,2,   34.69,2,   22.72,2,    0.00,2,    1.61,2,   2.623,2,   1.630,2,   1.3024,2,  2167.2,2,  2269.8,2,   7.6287,2,    25.00,2, -999.00,9,  -999.0,9, -999.00,9, -999.00,9,       21.5,2, 20220601,     1325,  30.0002,-174.4820,     8.4048,2,     -999.0,9,     -999.0,9,     -999.0,9,     -999.0,9,     0.0122,1,     4.6972,1,     -999.0,9,     -999.0,9,     -999.0,9
33RR20220430,        P02,      94,          1,         24,         24,2,20220601,       1138,    30.0002,  -174.4820,       5374,   641.2,2,   6.4343,2,  34.0168,2,  34.0149,2,    125.0,2,   124.0,2,   57.37,2,   30.63,2,    0.00,2,    2.21,2,-999.000,9,-999.000,9,-999.0000,9,  2226.9,2,  2284.0,2,   7.5017,2,    25.01,2, -999.00,9,  -999.0,9, -999.00,9, -999.00,9,     -999.0,9, 20220601,     1322,  30.0002,-174.4820,     6.4886,2,     -999.0,9,     -999.0,9,     -999.0,9,     -999.0,9,     0.0131,1,     4.6983,1,     -999.0,9,     -999.0,9,     -999.0,9
33RR20220430,        P02,      94,          1,         23,         23,2,20220601,       1138,    30.0002,  -174.4820,       5374,   742.3,2,   5.1365,2,  34.0740,2,  34.0746,2,     73.1,3,    74.5,2,   80.92,2,   37.27,2,    0.00,2,    2.70,2,   1.246,2,   0.765,2,   0.4186,2,  2281.4,2,  2308.6,2,   7.3929,2,    25.01,2, -999.00,9,  -999.0,9, -999.00,9, -999.00,9,       36.9,2, 20220601,     1320,  30.0002,-174.4820,     5.1347,2,     -999.0,9,     -999.0,9,     -999.0,9,     -999.0,9,     0.0134,1,     4.6986,1,     -999.0,9,     -999.0,9,     -999.0,9
33RR20220430,        P02,      94,          1,         22,         22,2,20220601,       1138,    30.0002,  -174.4820,       5374,   842.3,2,   4.4413,2,  34.1663,2,  34.1746,2,     43.5,3,    44.2,2,   99.87,2,   41.00,2,    0.00,2,    2.96,2,-999.000,9,-999.000,9,-999.0000,9,  -999.0,9,  -999.0,9,-999.0000,9,  -999.00,9, -999.00,9,  -999.0,9, -999.00,9, -999.00,9,     -999.0,9, 20220601,     1317,  30.0002,-174.4820,     4.4407,2,     -999.0,9,     -999.0,9,     -999.0,9,     -999.0,9,     0.0134,1,     4.6996,1,     -999.0,9,     -999.0,9,     -999.0,9
33RR20220430,        P02,      94,          1,         21,         21,2,20220601,       1138,    30.0002,  -174.4820,       5374,   948.3,2,   3.9644,2,  34.2687,2,  34.2666,2,     28.9,3,    29.5,2,  113.55,2,   42.59,2,    0.00,2,    3.09,2,   0.256,2,   0.151,2,   0.0000,2,  2344.2,2,  2346.6,2,   7.3234,2,    25.01,2, -999.00,9,  -999.0,9, -999.00,9, -999.00,9,       46.6,2, 20220601,     1314,  30.0002,-174.4820,     3.9621,2,     -999.0,9,     -999.0,9,     -999.0,9,     -999.0,9,     0.0134,1,     4.6996,1,     -999.0,9,     -999.0,9,     -999.0,9
33RR20220430,        P02,      94,          1,         20,         20,3,20220601,       1138,    30.0002,  -174.4820,       5374,  1049.2,3,   3.6697,3,  34.3349,3,  34.3654,3,     26.0,3,    43.8,3,  117.25,3,   41.09,3,    0.00,3,    2.99,3,-999.000,9,-999.000,9,-999.0000,9,  -999.0,9,  -999.0,9,-999.0000,9,  -999.00,9, -999.00,9,  -999.0,9, -999.00,9, -999.00,9,     -999.0,9, 20220601,     1312,  30.0002,-174.4820,     3.6726,3,     -999.0,9,     -999.0,9,     -999.0,9,     -999.0,9,     0.0134,1,     4.7001,1,     -999.0,9,     -999.0,9,     -999.0,9
33RR20220430,        P02,      94,          1,         19,         19,2,20220601,       1138,    30.0002,  -174.4820,       5374,  1151.0,2,   3.4167,2,  34.3987,2,  34.4008,2,     28.1,3,    27.5,2,  130.24,2,   43.25,2,    0.00,2,    3.14,2,   0.051,2,   0.037,2,   0.0000,2,  2364.2,2,  2369.8,2,   7.3351,2,    24.98,2, -999.00,9,  -999.0,9, -999.00,9, -999.00,9,       46.6,2, 20220601,     1309,  30.0002,-174.4820,     3.4174,2,     -999.0,9,     -999.0,9,     -999.0,9,     -999.0,9,     0.0134,1,     4.7007,1,     -999.0,9,     -999.0,9,     -999.0,9
33RR20220430,        P02,      94,          1,         18,         18,2,20220601,       1138,    30.0002,  -174.4820,       5374,  1252.4,2,   3.1779,2,  34.4431,2,  34.4434,2,     30.5,3,    29.9,2,  136.59,2,   43.33,2,    0.00,2,    3.14,2,-999.000,9,-999.000,9,-999.0000,9,  -999.0,9,  -999.0,9,-999.0000,9,  -999.00,9, -999.00,9,  -999.0,9, -999.00,9, -999.00,9,     -999.0,9, 20220601,     1306,  30.0002,-174.4820,     3.1776,2,     -999.0,9,     -999.0,9,     -999.0,9,     -999.0,9,     0.0134,1,     4.7008,1,     -999.0,9,     -999.0,9,     -999.0,9
33RR20220430,        P02,      94,          1,         17,         17,2,20220601,       1138,    30.0002,  -174.4820,       5374,  1353.8,2,   2.9465,2,  34.4794,2,  34.4807,2,     35.2,3,    34.4,2,  143.03,2,   43.19,2,    0.00,2,    3.13,2,   0.014,2,   0.010,2,   0.0000,2,  2371.7,2,  2387.2,2,   7.3540,2,    25.00,2, -999.00,9,  -999.0,9, -999.00,9, -999.00,9,       43.6,2, 20220601,     1304,  30.0002,-174.4821,     2.9448,2,     -999.0,9,     -999.0,9,     -999.0,9,     -999.0,9,     0.0134,1,     4.7007,1,     -999.0,9,     -999.0,9,     -999.0,9
33RR20220430,        P02,      94,          1,         16,         16,2,20220601,       1138,    30.0002,  -174.4820,       5374,  1485.6,2,   2.7039,2,  34.5177,2,  34.5205,2,     45.0,2,    45.5,2,  147.91,2,   42.62,2,    0.00,2,    3.07,2,-999.000,9,-999.000,9,-999.0000,9,  2373.5,2,  2395.0,2,   7.3776,2,    25.04,2, -999.00,9,  -999.0,9, -999.00,9, -999.00,9,     -999.0,9, 20220601,     1300,  30.0002,-174.4820,     2.7040,2,     -999.0,9,     -999.0,9,     -999.0,9,     -999.0,9,     0.0134,1,     4.7018,1,     -999.0,9,     -999.0,9,     -999.0,9
33RR20220430,        P02,      94,          1,         15,         15,2,20220601,       1138,    30.0002,  -174.4820,       5374,  1688.0,2,   2.3887,2,  34.5601,2,  34.5608,2,     59.8,2,    59.4,2,  154.06,2,   41.77,2,    0.00,2,    3.00,2,   0.008,2,   0.000,2,   0.0000,2,  2370.7,2,  2404.0,2,   7.4071,2,    25.00,2, -999.00,9,  -999.0,9, -999.00,9, -999.00,9,       34.6,2, 20220601,     1256,  30.0002,-174.4820,     2.3883,2,     -999.0,9,     -999.0,9,     -999.0,9,     -999.0,9,     0.0134,1,     4.7031,1,     -999.0,9,     -999.0,9,     -999.0,9
33RR20220430,        P02,      94,          1,         14,         14,2,20220601,       1138,    30.0002,  -174.4820,       5374,  1889.8,2,   2.1343,2,  34.5890,2,  34.5902,2,     72.5,2,    72.7,2,  158.75,2,   41.01,2,    0.00,2,    2.92,2,-999.000,9,-999.000,9,-999.0000,9,  2369.0,2,  2409.3,2,   7.4323,2,    24.98,2, -999.00,9,  -999.0,9, -999.00,9, -999.00,9,     -999.0,9, 20220601,     1251,  30.0002,-174.4820,     2.1337,2,     -999.0,9,     -999.0,9,     -999.0,9,     -999.0,9,     0.0129,1,     4.7033,1,     -999.0,9,     -999.0,9,     -999.0,9
33RR20220430,        P02,      94,          1,         13,         13,2,20220601,       1138,    30.0002,  -174.4820,       5374,  2114.4,2,   1.9359,2,  34.6114,2,  34.6126,2,     85.1,2,    85.1,2,  161.97,2,   40.31,2,    0.00,2,    2.85,2,   0.004,2,   0.000,2,   0.0000,2,  2365.9,2,  2412.4,2,   7.4554,2,    25.58,2, -999.00,9,  -999.0,9, -999.00,9, -999.00,9,       29.3,2, 20220601,     1247,  30.0002,-174.4821,     1.9359,2,     -999.0,9,     -999.0,9,     -999.0,9,     -999.0,9,     0.0134,1,     4.7043,1,     -999.0,9,     -999.0,9,     -999.0,9
33RR20220430,        P02,      94,          1,         12,         12,2,20220601,       1138,    30.0002,  -174.4820,       5374,  2367.9,2,   1.7658,2,  34.6307,3,  34.6327,2,     96.5,2,    96.6,2,  164.22,2,   39.59,2,    0.00,2,    2.79,2,-999.000,9,-999.000,9,-999.0000,9,  -999.0,9,  -999.0,9,-999.0000,9,  -999.00,9, -999.00,9,  -999.0,9, -999.00,9, -999.00,9,     -999.0,9, 20220601,     1241,  30.0002,-174.4820,     1.7664,2,     -999.0,9,     -999.0,9,     -999.0,9,     -999.0,9,     0.0134,1,     4.7037,1,     -999.0,9,     -999.0,9,     -999.0,9
33RR20220430,        P02,      94,          1,         11,         11,2,20220601,       1138,    30.0002,  -174.4820,       5374,  2621.8,2,   1.6620,2,  34.6446,2,  34.6464,2,    108.2,2,   108.6,2,  163.53,2,   38.87,2,    0.00,2,    2.74,2,   0.004,2,   0.000,2,   0.0000,2,  2355.9,2,  2417.8,2,   7.4990,2,    25.01,2, -999.00,9,  -999.0,9, -999.00,9, -999.00,9,       25.0,2, 20220601,     1236,  30.0002,-174.4820,     1.6617,2,     -999.0,9,     -999.0,9,     -999.0,9,     -999.0,9,     0.0122,1,     4.7043,1,     -999.0,9,     -999.0,9,     -999.0,9
33RR20220430,        P02,      94,          1,         10,         10,2,20220601,       1138,    30.0002,  -174.4820,       5374,  2877.5,2,   1.5894,2,  34.6550,2,  34.6555,2,    117.9,2,   117.9,2,  163.04,2,   38.25,2,    0.00,2,    2.70,2,-999.000,9,-999.000,9,-999.0000,9,  -999.0,9,  -999.0,9,-999.0000,9,  -999.00,9, -999.00,9,  -999.0,9, -999.00,9, -999.00,9,     -999.0,9, 20220601,     1231,  30.0002,-174.4820,     1.5891,2,     -999.0,9,     -999.0,9,     -999.0,9,     -999.0,9,     0.0125,1,     4.7043,1,     -999.0,9,     -999.0,9,     -999.0,9
33RR20220430,        P02,      94,          1,          9,          9,2,20220601,       1138,    30.0002,  -174.4820,       5374,  3147.8,2,   1.5293,2,  34.6644,2,  34.6655,2,    127.9,2,   128.4,2,  160.79,2,   37.50,2,    0.00,2,    2.64,2,   0.004,2,   0.000,2,   0.0000,2,  2342.5,2,  2418.3,2,   7.5339,2,    25.02,2, -999.00,9,  -999.0,9, -999.00,9, -999.00,9,       22.6,2, 20220601,     1225,  30.0002,-174.4820,     1.5291,2,     -999.0,9,     -999.0,9,     -999.0,9,     -999.0,9,     0.0126,1,     4.7048,1,     -999.0,9,     -999.0,9,     -999.0,9
33RR20220430,        P02,      94,          1,          8,          8,2,20220601,       1138,    30.0002,  -174.4820,       5374,  3453.9,2,   1.4930,2,  34.6713,3,  34.6734,2,    135.8,2,   136.4,2,  159.42,2,   36.97,2,    0.00,2,    2.59,2,-999.000,9,-999.000,9,-999.0000,9,  -999.0,9,  -999.0,9,-999.0000,9,  -999.00,9, -999.00,9,  -999.0,9, -999.00,9, -999.00,9,     -999.0,9, 20220601,     1219,  30.0001,-174.4821,     1.4928,2,     -999.0,9,     -999.0,9,     -999.0,9,     -999.0,9,     0.0122,1,     4.7044,1,     -999.0,9,     -999.0,9,     -999.0,9
33RR20220430,        P02,      94,          1,          7,          7,2,20220601,       1138,    30.0002,  -174.4820,       5374,  3760.9,2,   1.4719,2,  34.6775,2,  34.6793,2,    142.9,2,   142.8,2,  157.57,2,   36.54,2,    0.00,2,    2.56,2,   0.004,2,   0.000,2,   0.0000,2,  2333.0,2,  2417.6,2,   7.5603,2,    25.01,2, -999.00,9,  -999.0,9, -999.00,9, -999.00,9,       20.9,2, 20220601,     1213,  30.0002,-174.4820,     1.4718,2,     -999.0,9,     -999.0,9,     -999.0,9,     -999.0,9,     0.0122,1,     4.7044,1,     -999.0,9,     -999.0,9,     -999.0,9
33RR20220430,        P02,      94,          1,          6,          6,2,20220601,       1138,    30.0002,  -174.4820,       5374,  4067.2,2,   1.4724,2,  34.6812,2,  34.6822,2,    147.5,2,   147.3,2,  157.27,2,   36.26,2,    0.00,2,    2.53,2,-999.000,9,-999.000,9,-999.0000,9,  -999.0,9,  -999.0,9,-999.0000,9,  -999.00,9, -999.00,9,  -999.0,9, -999.00,9, -999.00,9,     -999.0,9, 20220601,     1207,  30.0002,-174.4820,     1.4721,2,     -999.0,9,     -999.0,9,     -999.0,9,     -999.0,9,     0.0130,1,     4.7039,1,     -999.0,9,     -999.0,9,     -999.0,9
33RR20220430,        P02,      94,          1,          5,          5,2,20220601,       1138,    30.0002,  -174.4820,       5374,  4376.7,2,   1.4852,2,  34.6838,2,  34.6853,2,    150.4,2,   150.3,2,  156.59,2,   36.08,2,    0.00,2,    2.52,2,   0.005,2,   0.000,2,   0.0000,2,  2326.9,2,  2417.7,2,   7.5734,2,    25.04,2, -999.00,9,  -999.0,9, -999.00,9, -999.00,9,       20.2,2, 20220601,     1200,  30.0002,-174.4820,     1.4850,2,     -999.0,9,     -999.0,9,     -999.0,9,     -999.0,9,     0.0122,1,     4.7048,1,     -999.0,9,     -999.0,9,     -999.0,9
33RR20220430,        P02,      94,          1,          4,          4,2,20220601,       1138,    30.0002,  -174.4820,       5374,  4683.1,2,   1.5094,2,  34.6853,2,  34.6853,2,    151.9,2,   151.7,2,  157.18,2,   35.97,2,    0.00,2,    2.50,2,-999.000,9,-999.000,9,-999.0000,9,  -999.0,9,  -999.0,9,-999.0000,9,  -999.00,9, -999.00,9,  -999.0,9, -999.00,9, -999.00,9,     -999.0,9, 20220601,     1154,  30.0002,-174.4820,     1.5093,2,     -999.0,9,     -999.0,9,     -999.0,9,     -999.0,9,     0.0122,1,     4.7053,1,     -999.0,9,     -999.0,9,     -999.0,9