BOTTLE,20230801CCHSIOCBG
EXPOCODE,SECT_ID,STNNBR,CASTNO,SAMPNO,BTLNBR,BTLNBR_FLAG_W,DATE,TIME,LATITUDE,LONGITUDE,DEPTH,CTDPRS,CTDPRS_FLAG_W,CTDTMP,CTDTMP_FLAG_W,CTDSAL,CTDSAL_FLAG_W,SALNTY,SALNTY_FLAG_W,CTDOXY,CTDOXY_FLAG_W,OXYGEN,OXYGEN_FLAG_W,SILCAT,SILCAT_FLAG_W,NITRAT,NITRAT_FLAG_W,NITRIT,NITRIT_FLAG_W,PHSPHT,PHSPHT_FLAG_W,CFC-11,CFC-11_FLAG_W,CFC-12,CFC-12_FLAG_W,SF6,SF6_FLAG_W,TCARBN,TCARBN_FLAG_W,ALKALI,ALKALI_FLAG_W,PH_TOT,PH_TOT_FLAG_W,PH_TMP,PH_TMP_FLAG_W,DELC13,DELC13_FLAG_W,DELC14,DELC14_FLAG_W,DOC,DOC_FLAG_W,TDN,TDN_FLAG_W,N2O,N2O_FLAG_W,BTL_DATE,BTL_TIME,BTL_LAT,BTL_LON,REFTMP,REFTMP_FLAG_W,POC,POC_FLAG_W,PON,PON_FLAG_W,POP,POP_FLAG_W,PCOD,PCOD_FLAG_W,CTDFLUOR,CTDFLUOR_FLAG_W,CTDXMISS,CTDXMISS_FLAG_W,HPLC,HPLC_FLAG_W,DNA,DNA_FLAG_W,FCM,FCM_FLAG_W
,,,,,,,,,,,METERS,DBAR,,ITS-90,,PSS-78,,PSS-78,,UMOL/KG,,UMOL/KG,,UMOL/KG,,UMOL/KG,,UMOL/KG,,UMOL/KG,,PMOL/KG,,PMOL/KG,,FMOL/KG,,UMOL/KG,,UMOL/KG,,,,DEG C,,/MILLE,,/MILLE,,UMOL/KG,,UMOL/KG,,NMOL/KG,,,,,,ITS-90,,UG/L,,UG/L,,UG/L,,UG/L,,VOLTS,,VOLTS,,,,,,,
33RR20220430,        P02,      97,          1,          3,          3,2,20220602,       0737,    29.9995,  -172.7519,       5260,  4683.3,2,   1.5082,2,  34.6852,2,  34.6859,2,    151.6,2,   151.9,2,  155.02,2,   36.02,2,    0.00,2,    2.49,2,   0.008,2,   0.000,2,   0.0000,2,  2328.1,3,  2417.8,2,   7.5773,2,    25.00,2, -999.00,9,  -999.0,9, -999.00,1, -999.00,1,       21.9,2, 20220602,      750,  29.9995,-172.7519,     1.5081,2,     -999.0,9,     -999.0,9,     -999.0,9,     -999.0,9,     0.0122,1,     4.7056,1,     -999.0,9,     -999.0,9,     -999.0,9
33RR20220430,        P02,      97,          1,          2,          2,2,20220602,       0737,    29.9995,  -172.7519,       5260,  5096.4,2,   1.5352,2,  34.6874,2,  34.6871,2,    156.4,2,   156.8,2,  150.04,2,   35.70,2,    0.00,2,    2.46,2,-999.000,9,-999.000,9,-999.0000,9,  2320.8,3,  2414.4,2,   7.5830,2,    25.00,2, -999.00,9,  -999.0,9, -999.00,1, -999.00,1,     -999.0,9, 20220602,      742,  29.9994,-172.7519,     1.5353,2,     -999.0,9,     -999.0,9,     -999.0,9,     -999.0,9,     0.0122,1,     4.7063,1,     -999.0,9,     -999.0,9,     -999.0,9
33RR20220430,        P02,      97,          1,          1,          1,2,20220602,       0737,    29.9995,  -172.7519,       5260,  5352.7,2,   1.5433,2,  34.6893,2,  34.6893,2,    161.4,2,   160.6,2,  146.32,2,   35.39,2,    0.00,2,    2.44,2,   0.008,2,   0.000,2,   0.0000,2,  2319.3,3,  2412.0,2,   7.5853,2,    25.00,2, -999.00,9,  -999.0,9, -999.00,1, -999.00,1,       21.7,2, 20220602,      737,  29.9995,-172.7519,     1.5439,2,     -999.0,9,     -999.0,9,     -999.0,9,     -999.0,9,     0.0134,1,     4.7056,1,     -999.0,9,     -999.0,9,     -999.0,9
33RR20220430,        P02,      98,          1,         17,         17,2,20220602,       1258,    29.9999,  -172.1757,       5427,     4.1,2,  21.8252,2,  35.1396,2,-999.0000,9,    217.0,2,  -999.0,9, -999.00,9, -999.00,9, -999.00,9, -999.00,9,-999.000,9,-999.000,9,-999.0000,9,  -999.0,9,  -999.0,9,-999.0000,9,  -999.00,9, -999.00,9,  -999.0,9, -999.00,9, -999.00,9,     -999.0,9, 20220602,     1326,  29.9999,-172.1756,     -999.0,9,     -999.0,9,     -999.0,9,     -999.0,9,     -999.0,1,     0.0134,1,     4.6372,1,     -999.0,9,     -999.0,9,     -999.0,9
33RR20220430,        P02,      98,          1,         18,         18,2,20220602,       1258,    29.9999,  -172.1757,       5427,     4.2,2,  21.9313,2,  35.1418,2,-999.0000,9,    216.4,2,  -999.0,9, -999.00,9, -999.00,9, -999.00,9, -999.00,9,-999.000,9,-999.000,9,-999.0000,9,  -999.0,9,  -999.0,9,-999.0000,9,  -999.00,9, -999.00,9,  -999.0,9, -999.00,9, -999.00,9,     -999.0,9, 20220602,     1326,  29.9999,-172.1756,    22.0138,3,     -999.0,9,     -999.0,9,     -999.0,9,     -999.0,1,     0.0142,1,     4.6375,1,     -999.0,9,     -999.0,9,     -999.0,9
33RR20220430,        P02,      98,          1,         16,         16,2,20220602,       1258,    29.9999,  -172.1757,       5427,     4.2,2,  21.8125,2,  35.1401,2,-999.0000,9,    217.0,2,  -999.0,9, -999.00,9, -999.00,9, -999.00,9, -999.00,9,-999.000,9,-999.000,9,-999.0000,9,  -999.0,9,  -999.0,9,-999.0000,9,  -999.00,9, -999.00,9,  -999.0,9, -999.00,9, -999.00,9,     -999.0,9, 20220602,     1325,  29.9999,-172.1756,    21.8293,2,     -999.0,9,     -999.0,9,     -999.0,1,     -999.0,9,     0.0134,1,     4.6377,1,     -999.0,9,     -999.0,9,     -999.0,9
33RR20220430,        P02,      98,          1,         10,         10,2,20220602,       1258,    29.9999,  -172.1757,       5427,     4.3,2,  21.6655,2,  35.1436,2,-999.0000,9,    217.2,2,  -999.0,9, -999.00,9, -999.00,9, -999.00,9, -999.00,9,-999.000,9,-999.000,9,-999.0000,9,  -999.0,9,  -999.0,9,-999.0000,9,  -999.00,9, -999.00,9,  -999.0,9, -999.00,9, -999.00,9,     -999.0,9, 20220602,     1324,  29.9999,-172.1756,     -999.0,9,     -999.0,9,     -999.0,9,     -999.0,9,     -999.0,9,     0.0134,1,     4.6381,1,     -999.0,9,     -999.0,1,     -999.0,9
33RR20220430,        P02,      98,          1,         15,         15,2,20220602,       1258,    29.9999,  -172.1757,       5427,     4.4,2,  21.7612,2,  35.1448,2,-999.0000,9,    216.3,2,  -999.0,9, -999.00,9, -999.00,9, -999.00,9, -999.00,9,-999.000,9,-999.000,9,-999.0000,9,  -999.0,9,  -999.0,9,-999.0000,9,  -999.00,9, -999.00,9,  -999.0,9, -999.00,9, -999.00,9,     -999.0,9, 20220602,     1325,  29.9999,-172.1756,     -999.0,9,     -999.0,9,     -999.0,9,     -999.0,1,     -999.0,9,     0.0134,1,     4.6372,1,     -999.0,9,     -999.0,9,     -999.0,9
33RR20220430,        P02,      98,          1,         19,         19,2,20220602,       1258,    29.9999,  -172.1757,       5427,     4.4,2,  22.0931,2,  35.1289,2,-999.0000,9,    215.9,2,  -999.0,9, -999.00,9, -999.00,9, -999.00,9, -999.00,9,-999.000,9,-999.000,9,-999.0000,9,  -999.0,9,  -999.0,9,-999.0000,9,  -999.00,9, -999.00,9,  -999.0,9, -999.00,9, -999.00,9,     -999.0,9, 20220602,     1326,  29.9999,-172.1757,     -999.0,9,     -999.0,9,     -999.0,9,     -999.0,9,     -999.0,1,     0.0134,1,     4.6375,1,     -999.0,9,     -999.0,9,     -999.0,9
33RR20220430,        P02,      98,          1,          9,          9,2,20220602,       1258,    29.9999,  -172.1757,       5427,     4.4,2,  21.6504,2,  35.1443,2,-999.0000,9,    217.2,2,  -999.0,9, -999.00,9, -999.00,9, -999.00,9, -999.00,9,-999.000,9,-999.000,9,-999.0000,9,  -999.0,9,  -999.0,9,-999.0000,9,  -999.00,9, -999.00,9,  -999.0,9, -999.00,9, -999.00,9,     -999.0,9, 20220602,     1324,  29.9999,-172.1756,    21.6349,2,     -999.0,9,     -999.0,9,     -999.0,9,     -999.0,9,     0.0143,1,     4.6376,1,     -999.0,1,     -999.0,9,     -999.0,1
33RR20220430,        P02,      98,          1,         13,         13,2,20220602,       1258,    29.9999,  -172.1757,       5427,     4.5,2,  21.5882,2,  35.1457,2,-999.0000,9,    217.3,2,  -999.0,9, -999.00,9, -999.00,9, -999.00,9, -999.00,9,-999.000,9,-999.000,9,-999.0000,9,  -999.0,9,  -999.0,9,-999.0000,9,  -999.00,9, -999.00,9,  -999.0,9, -999.00,9, -999.00,9,     -999.0,9, 20220602,     1325,  29.9999,-172.1757,     -999.0,9,     -999.0,1,     -999.0,1,     -999.0,9,     -999.0,9,     0.0134,1,     4.6383,1,     -999.0,9,     -999.0,9,     -999.0,9
33RR20220430,        P02,      98,          1,         12,         12,2,20220602,       1258,    29.9999,  -172.1757,       5427,     4.5,2,  21.5923,2,  35.1457,2,-999.0000,9,    217.3,2,  -999.0,9, -999.00,9, -999.00,9, -999.00,9, -999.00,9,-999.000,9,-999.000,9,-999.0000,9,  -999.0,9,  -999.0,9,-999.0000,9,  -999.00,9, -999.00,9,  -999.0,9, -999.00,9, -999.00,9,     -999.0,9, 20220602,     1324,  29.9999,-172.1757,    21.6015,2,     -999.0,1,     -999.0,1,     -999.0,9,     -999.0,9,     0.0134,1,     4.6357,1,     -999.0,9,     -999.0,9,     -999.0,9
33RR20220430,        P02,      98,          1,         11,         11,2,20220602,       1258,    29.9999,  -172.1757,       5427,     4.6,2,  21.6570,2,  35.1443,2,-999.0000,9,    217.4,2,  -999.0,9, -999.00,9, -999.00,9, -999.00,9, -999.00,9,-999.000,9,-999.000,9,-999.0000,9,  -999.0,9,  -999.0,9,-999.0000,9,  -999.00,9, -999.00,9,  -999.0,9, -999.00,9, -999.00,9,     -999.0,9, 20220602,     1324,  29.9999,-172.1756,    21.6256,2,     -999.0,1,     -999.0,1,     -999.0,9,     -999.0,9,     0.0143,1,     4.6378,1,     -999.0,9,     -999.0,9,     -999.0,9
33RR20220430,        P02,      98,          1,         14,         14,2,20220602,       1258,    29.9999,  -172.1757,       5427,     4.6,2,  21.8359,2,  35.1368,2,-999.0000,9,    216.3,2,  -999.0,9, -999.00,9, -999.00,9, -999.00,9, -999.00,9,-999.000,9,-999.000,9,-999.0000,9,  -999.0,9,  -999.0,9,-999.0000,9,  -999.00,9, -999.00,9,  -999.0,9, -999.00,9, -999.00,9,     -999.0,9, 20220602,     1325,  29.9999,-172.1756,    21.8791,2,     -999.0,9,     -999.0,9,     -999.0,1,     -999.0,9,     0.0134,1,     4.6382,1,     -999.0,9,     -999.0,9,     -999.0,9
33RR20220430,        P02,      98,          1,          8,          8,2,20220602,       1258,    29.9999,  -172.1757,       5427,    41.0,2,  20.2456,2,  35.0691,2,-999.0000,9,    225.3,2,  -999.0,9, -999.00,9, -999.00,9, -999.00,9, -999.00,9,-999.000,9,-999.000,9,-999.0000,9,  -999.0,9,  -999.0,9,-999.0000,9,  -999.00,9, -999.00,9,  -999.0,9, -999.00,9, -999.00,9,     -999.0,9, 20220602,     1322,  29.9999,-172.1756,    20.2470,2,     -999.0,9,     -999.0,9,     -999.0,9,     -999.0,9,     0.0147,1,     4.6377,1,     -999.0,1,     -999.0,9,     -999.0,1
33RR20220430,        P02,      98,          1,          7,          7,2,20220602,       1258,    29.9999,  -172.1757,       5427,    75.8,2,  18.4729,2,  34.8905,2,-999.0000,9,    223.2,2,  -999.0,9, -999.00,9, -999.00,9, -999.00,9, -999.00,9,-999.000,9,-999.000,9,-999.0000,9,  -999.0,9,  -999.0,9,-999.0000,9,  -999.00,9, -999.00,9,  -999.0,9, -999.00,9, -999.00,9,     -999.0,9, 20220602,     1319,  29.9999,-172.1755,    18.4697,2,     -999.0,9,     -999.0,9,     -999.0,9,     -999.0,9,     0.0385,1,     4.6324,1,     -999.0,9,     -999.0,9,     -999.0,1
33RR20220430,        P02,      98,          1,          6,          6,2,20220602,       1258,    29.9999,  -172.1757,       5427,   101.0,2,  17.2444,2,  34.7021,2,-999.0000,9,    224.8,2,  -999.0,9, -999.00,9, -999.00,9, -999.00,9, -999.00,9,-999.000,9,-999.000,9,-999.0000,9,  -999.0,9,  -999.0,9,-999.0000,9,  -999.00,9, -999.00,9,  -999.0,9, -999.00,9, -999.00,9,     -999.0,9, 20220602,     1318,  29.9999,-172.1755,     -999.0,9,     -999.0,9,     -999.0,9,     -999.0,9,     -999.0,9,     0.0373,1,     4.6484,1,     -999.0,1,     -999.0,9,     -999.0,1
33RR20220430,        P02,      98,          1,          5,          5,2,20220602,       1258,    29.9999,  -172.1757,       5427,   101.3,2,  17.2494,2,  34.7045,2,-999.0000,9,    225.4,2,  -999.0,9, -999.00,9, -999.00,9, -999.00,9, -999.00,9,-999.000,9,-999.000,9,-999.0000,9,  -999.0,9,  -999.0,9,-999.0000,9,  -999.00,9, -999.00,9,  -999.0,9, -999.00,9, -999.00,9,     -999.0,9, 20220602,     1317,  29.9999,-172.1756,    17.2448,2,     -999.0,9,     -999.0,9,     -999.0,9,     -999.0,9,     0.0341,1,     4.6478,1,     -999.0,9,     -999.0,1,     -999.0,9
33RR20220430,        P02,      98,          1,          4,          4,2,20220602,       1258,    29.9999,  -172.1757,       5427,   151.7,2,  16.2798,2,  34.6059,2,-999.0000,9,    221.7,2,  -999.0,9, -999.00,9, -999.00,9, -999.00,9, -999.00,9,-999.000,9,-999.000,9,-999.0000,9,  -999.0,9,  -999.0,9,-999.0000,9,  -999.00,9, -999.00,9,  -999.0,9, -999.00,9, -999.00,9,     -999.0,9, 20220602,     1316,  29.9999,-172.1756,    16.2890,2,     -999.0,9,     -999.0,9,     -999.0,9,     -999.0,9,     0.0183,1,     4.6737,1,     -999.0,9,     -999.0,9,     -999.0,1
33RR20220430,        P02,      98,          1,          3,          3,2,20220602,       1258,    29.9999,  -172.1757,       5427,   205.2,2,  15.0024,2,  34.5296,2,-999.0000,9,    205.9,2,  -999.0,9, -999.00,9, -999.00,9, -999.00,9, -999.00,9,-999.000,9,-999.000,9,-999.0000,9,  -999.0,9,  -999.0,9,-999.0000,9,  -999.00,9, -999.00,9,  -999.0,9, -999.00,9, -999.00,9,     -999.0,9, 20220602,     1314,  29.9999,-172.1756,    14.9989,2,     -999.0,9,     -999.0,9,     -999.0,9,     -999.0,9,     0.0122,1,     4.6879,1,     -999.0,9,     -999.0,1,     -999.0,1
33RR20220430,        P02,      98,          1,          2,          2,2,20220602,       1258,    29.9999,  -172.1757,       5427,   508.3,2,   8.2716,2,  34.0399,2,-999.0000,9,    170.2,2,  -999.0,9, -999.00,9, -999.00,9, -999.00,9, -999.00,9,-999.000,9,-999.000,9,-999.0000,9,  -999.0,9,  -999.0,9,-999.0000,9,  -999.00,9, -999.00,9,  -999.0,9, -999.00,9, -999.00,9,     -999.0,9, 20220602,     1308,  29.9999,-172.1755,     8.2614,3,     -999.0,9,     -999.0,9,     -999.0,9,     -999.0,9,     0.0122,1,     4.6983,1,     -999.0,9,     -999.0,9,     -999.0,1
33RR20220430,        P02,      98,          1,          1,          1,2,20220602,       1258,    29.9999,  -172.1757,       5427,  1011.5,2,   3.6172,2,  34.3107,2,-999.0000,9,     16.7,2,  -999.0,9, -999.00,9, -999.00,9, -999.00,9, -999.00,9,-999.000,9,-999.000,9,-999.0000,9,  -999.0,9,  -999.0,9,-999.0000,9,  -999.00,9, -999.00,9,  -999.0,9, -999.00,9, -999.00,9,     -999.0,9, 20220602,     1258,  29.9999,-172.1755,     3.6198,2,     -999.0,9,     -999.0,9,     -999.0,9,     -999.0,9,     0.0134,1,     4.7007,1,     -999.0,9,     -999.0,1,     -999.0,1