BOTTLE,20230801CCHSIOCBG
EXPOCODE,SECT_ID,STNNBR,CASTNO,SAMPNO,BTLNBR,BTLNBR_FLAG_W,DATE,TIME,LATITUDE,LONGITUDE,DEPTH,CTDPRS,CTDPRS_FLAG_W,CTDTMP,CTDTMP_FLAG_W,CTDSAL,CTDSAL_FLAG_W,SALNTY,SALNTY_FLAG_W,CTDOXY,CTDOXY_FLAG_W,OXYGEN,OXYGEN_FLAG_W,SILCAT,SILCAT_FLAG_W,NITRAT,NITRAT_FLAG_W,NITRIT,NITRIT_FLAG_W,PHSPHT,PHSPHT_FLAG_W,CFC-11,CFC-11_FLAG_W,CFC-12,CFC-12_FLAG_W,SF6,SF6_FLAG_W,TCARBN,TCARBN_FLAG_W,ALKALI,ALKALI_FLAG_W,PH_TOT,PH_TOT_FLAG_W,PH_TMP,PH_TMP_FLAG_W,DELC13,DELC13_FLAG_W,DELC14,DELC14_FLAG_W,DOC,DOC_FLAG_W,TDN,TDN_FLAG_W,N2O,N2O_FLAG_W,BTL_DATE,BTL_TIME,BTL_LAT,BTL_LON,REFTMP,REFTMP_FLAG_W,POC,POC_FLAG_W,PON,PON_FLAG_W,POP,POP_FLAG_W,PCOD,PCOD_FLAG_W,CTDFLUOR,CTDFLUOR_FLAG_W,CTDXMISS,CTDXMISS_FLAG_W,HPLC,HPLC_FLAG_W,DNA,DNA_FLAG_W,FCM,FCM_FLAG_W
,,,,,,,,,,,METERS,DBAR,,ITS-90,,PSS-78,,PSS-78,,UMOL/KG,,UMOL/KG,,UMOL/KG,,UMOL/KG,,UMOL/KG,,UMOL/KG,,PMOL/KG,,PMOL/KG,,FMOL/KG,,UMOL/KG,,UMOL/KG,,,,DEG C,,/MILLE,,/MILLE,,UMOL/KG,,UMOL/KG,,NMOL/KG,,,,,,ITS-90,,UG/L,,UG/L,,UG/L,,UG/L,,VOLTS,,VOLTS,,,,,,,
33RR20220430,        P02,      52,          1,         36,         36,2,20220519,       2030,    29.9996,   162.2201,       6003,     2.9,2,  21.9927,2,  34.9882,2,  34.9726,2,    224.2,2,   222.7,2,    1.07,2,    0.00,2,    0.00,2,    0.01,2,   1.886,2,   1.160,2,   1.9709,2,  2020.6,2,  2294.6,2,   8.0030,2,    24.99,2, -999.00,9,  -999.0,9, -999.00,1, -999.00,1,        6.3,2, 20220519,     2248,  29.9996, 162.2201,    22.1994,3,     -999.0,9,     -999.0,9,     -999.0,9,     -999.0,9,     0.0134,1,     4.6185,1,     -999.0,9,     -999.0,9,     -999.0,9
33RR20220430,        P02,      52,          1,         35,         35,2,20220519,       2030,    29.9996,   162.2201,       6003,    35.7,2,  20.9267,2,  34.9608,2,  34.9461,2,    229.0,2,   230.8,2,    1.07,2,    0.00,2,    0.00,2,    0.02,2,   1.964,6,   1.200,6,   2.0435,6,  2017.6,2,  2292.4,2,   8.0050,2,    24.99,2, -999.00,9,  -999.0,9, -999.00,1, -999.00,1,        6.6,6, 20220519,     2246,  29.9996, 162.2201,    20.9915,2,     -999.0,9,     -999.0,9,     -999.0,9,     -999.0,9,     0.0147,1,     4.6221,1,     -999.0,9,     -999.0,9,     -999.0,9
33RR20220430,        P02,      52,          1,         34,         34,2,20220519,       2030,    29.9996,   162.2201,       6003,    60.7,2,  18.5589,2,  34.7934,2,  34.7872,2,    233.9,2,   234.0,2,    1.37,2,    0.00,2,    0.00,2,    0.03,2,   2.103,2,   1.286,2,   2.1796,2,  2020.4,2,  2284.8,2,   7.9876,2,    25.01,2, -999.00,9,  -999.0,9, -999.00,1, -999.00,1,        7.3,2, 20220519,     2244,  29.9996, 162.2201,    18.5622,2,     -999.0,9,     -999.0,9,     -999.0,9,     -999.0,9,     0.0238,1,     4.6204,1,     -999.0,9,     -999.0,9,     -999.0,9
33RR20220430,        P02,      52,          1,         33,         33,2,20220519,       2030,    29.9996,   162.2201,       6003,    85.7,2,  17.9867,2,  34.7729,2,  34.7677,2,    222.8,2,   222.7,2,    1.76,2,    1.19,2,    0.10,2,    0.12,2,   2.103,2,   1.297,2,   2.1872,2,  2030.1,2,  2283.1,2,   7.9647,2,    25.01,2, -999.00,9,  -999.0,9, -999.00,1, -999.00,1,        7.9,2, 20220519,     2242,  29.9996, 162.2202,    17.9873,2,     -999.0,9,     -999.0,9,     -999.0,9,     -999.0,9,     0.0496,1,     4.6304,1,     -999.0,9,     -999.0,9,     -999.0,9
33RR20220430,        P02,      52,          1,         32,         32,2,20220519,       2030,    29.9996,   162.2201,       6003,   116.9,2,  17.5657,2,  34.7517,2,  34.7459,2,    221.2,2,   220.6,2,    2.25,2,    2.22,2,    0.01,2,    0.17,2,   2.141,2,   1.319,2,   2.2305,2,  2033.0,2,  2278.8,2,   7.9535,2,    25.00,2, -999.00,9,  -999.0,9, -999.00,1, -999.00,1,        8.0,2, 20220519,     2241,  29.9996, 162.2202,    17.5689,2,     -999.0,9,     -999.0,9,     -999.0,9,     -999.0,9,     0.0201,1,     4.6718,1,     -999.0,9,     -999.0,9,     -999.0,9
33RR20220430,        P02,      52,          1,         31,         31,2,20220519,       2030,    29.9996,   162.2201,       6003,   166.9,2,  17.0251,2,  34.7267,2,  34.7197,2,    208.8,2,   209.8,2,    3.32,2,    4.07,2,    0.00,2,    0.29,2,   2.165,2,   1.352,2,   2.0937,2,  2047.8,2,  2280.2,2,   7.9260,2,    25.01,2, -999.00,9,  -999.0,9, -999.00,1, -999.00,1,        8.8,2, 20220519,     2239,  29.9996, 162.2201,    17.0251,2,     -999.0,9,     -999.0,9,     -999.0,9,     -999.0,9,     0.0122,1,     4.6838,1,     -999.0,9,     -999.0,9,     -999.0,9
33RR20220430,        P02,      52,          1,         30,         30,2,20220519,       2030,    29.9996,   162.2201,       6003,   217.2,2,  16.5836,2,  34.6943,2,  34.6918,2,    224.6,3,   220.6,2,    3.42,2,    3.59,2,    0.00,2,    0.26,2,   2.232,2,   1.367,2,   2.2885,2,  2044.0,2,  2278.4,2,   7.9302,2,    25.01,2, -999.00,9,  -999.0,9, -999.00,1, -999.00,1,        8.7,2, 20220519,     2237,  29.9996, 162.2201,    16.5834,2,     -999.0,9,     -999.0,9,     -999.0,9,     -999.0,9,     0.0134,1,     4.6825,1,     -999.0,9,     -999.0,9,     -999.0,9
33RR20220430,        P02,      52,          1,         29,         29,2,20220519,       2030,    29.9996,   162.2201,       6003,   267.6,2,  16.1587,2,  34.6703,2,  34.6625,2,    229.4,2,   229.7,2,    3.81,2,    3.48,2,    0.00,2,    0.27,2,   2.304,2,   1.402,2,   2.3739,2,  2044.3,2,  2276.2,2,   7.9290,2,    24.99,2, -999.00,9,  -999.0,9, -999.00,1, -999.00,1,        8.7,2, 20220519,     2235,  29.9996, 162.2201,    16.1594,2,     -999.0,9,     -999.0,9,     -999.0,9,     -999.0,9,     0.0134,1,     4.6822,1,     -999.0,9,     -999.0,9,     -999.0,9
33RR20220430,        P02,      52,          1,         28,         28,2,20220519,       2030,    29.9996,   162.2201,       6003,   318.1,2,  15.5405,2,  34.6469,2,  34.6419,2,    221.9,2,   222.1,2,    5.28,2,    5.31,2,    0.00,2,    0.39,2,   2.328,2,   1.430,2,   2.1741,2,  -999.0,9,  -999.0,9,-999.0000,9,  -999.00,9, -999.00,9,  -999.0,9, -999.00,1, -999.00,1,        9.5,2, 20220519,     2234,  29.9996, 162.2202,    15.5397,2,     -999.0,9,     -999.0,9,     -999.0,9,     -999.0,9,     0.0122,1,     4.6885,1,     -999.0,9,     -999.0,9,     -999.0,9
33RR20220430,        P02,      52,          1,         27,         27,2,20220519,       2030,    29.9996,   162.2201,       6003,   368.4,2,  14.4517,2,  34.5258,2,  34.5199,2,    202.0,2,   201.8,2,    9.38,2,    8.96,2,    0.00,2,    0.64,2,   2.439,2,   1.480,2,   1.9764,2,  2081.6,2,  2273.3,2,   7.8468,2,    24.98,2, -999.00,9,  -999.0,9, -999.00,1, -999.00,1,       12.2,2, 20220519,     2232,  29.9996, 162.2202,    14.4514,2,     -999.0,9,     -999.0,9,     -999.0,9,     -999.0,9,     0.0122,1,     4.6915,1,     -999.0,9,     -999.0,9,     -999.0,9
33RR20220430,        P02,      52,          1,         26,         26,2,20220519,       2030,    29.9996,   162.2201,       6003,   438.9,2,  12.6425,2,  34.3843,2,  34.3825,2,    196.8,2,   196.5,2,   14.75,2,   12.42,2,    0.00,2,    0.88,2,   2.631,2,   1.562,2,   1.8472,2,  -999.0,9,  -999.0,9,-999.0000,9,  -999.00,9, -999.00,9,  -999.0,9, -999.00,1, -999.00,1,       14.4,2, 20220519,     2230,  29.9996, 162.2202,    12.6494,2,     -999.0,9,     -999.0,9,     -999.0,9,     -999.0,9,     0.0122,1,     4.6970,1,     -999.0,9,     -999.0,9,     -999.0,9
33RR20220430,        P02,      52,          1,         25,         25,2,20220519,       2030,    29.9996,   162.2201,       6003,   540.3,2,   9.6448,2,  34.1472,2,  34.1393,2,    189.3,2,   190.4,2,   26.29,2,   18.33,2,    0.00,2,    1.31,2,   2.835,2,   1.644,2,   1.7699,2,  2141.6,2,  2269.9,2,   7.6963,2,    25.00,2, -999.00,9,  -999.0,9, -999.00,1, -999.00,1,       18.5,2, 20220519,     2227,  29.9996, 162.2202,     9.6479,2,     -999.0,9,     -999.0,9,     -999.0,9,     -999.0,9,     0.0122,1,     4.7007,1,     -999.0,9,     -999.0,9,     -999.0,9
33RR20220430,        P02,      52,          1,         24,         24,2,20220519,       2030,    29.9996,   162.2201,       6003,   641.2,2,   7.1649,2,  33.9858,2,  33.9835,2,    171.3,2,   170.3,2,   44.76,2,   24.88,2,    0.00,2,    1.81,2,   2.771,2,   1.580,2,   1.7118,2,  2190.8,2,  2280.2,2,   7.5904,2,    24.99,2, -999.00,9,  -999.0,9, -999.00,9, -999.00,9,       23.7,2, 20220519,     2225,  29.9996, 162.2201,     7.1757,2,     -999.0,9,     -999.0,9,     -999.0,9,     -999.0,9,     0.0122,1,     4.7017,1,     -999.0,9,     -999.0,9,     -999.0,9
33RR20220430,        P02,      52,          1,         23,         23,2,20220519,       2030,    29.9996,   162.2201,       6003,   742.3,2,   5.5899,2,  34.0065,3,  34.0190,2,    112.2,3,   109.7,2,   70.86,2,   33.40,2,    0.00,2,    2.41,2,   2.052,2,   1.144,2,   0.8402,2,  2254.6,2,  2299.1,2,   7.4541,2,    24.97,2, -999.00,9,  -999.0,9, -999.00,1, -999.00,1,       33.0,2, 20220519,     2222,  29.9996, 162.2202,     5.5256,3,     -999.0,9,     -999.0,9,     -999.0,9,     -999.0,9,     0.0134,1,     4.7029,1,     -999.0,9,     -999.0,9,     -999.0,9
33RR20220430,        P02,      52,          1,         22,         22,2,20220519,       2030,    29.9996,   162.2201,       6003,   843.3,2,   4.6905,2,  34.1040,2,  34.1095,2,     72.5,2,    72.0,2,   91.37,2,   38.16,2,    0.00,2,    2.74,2,   1.354,2,   0.773,2,   1.0069,2,  -999.0,9,  -999.0,9,-999.0000,9,  -999.00,9, -999.00,9,  -999.0,9, -999.00,9, -999.00,9,       41.7,2, 20220519,     2219,  29.9996, 162.2202,     4.7010,2,     -999.0,9,     -999.0,9,     -999.0,9,     -999.0,9,     0.0134,1,     4.7020,1,     -999.0,9,     -999.0,9,     -999.0,9
33RR20220430,        P02,      52,          1,         21,         21,2,20220519,       2030,    29.9996,   162.2201,       6003,   943.1,2,   4.1135,2,  34.1977,2,  34.1991,2,     50.0,2,    50.2,2,  107.69,2,   40.75,2,    0.00,2,    2.90,2,   0.825,2,   0.453,2,   0.2426,2,  2326.6,2,  2336.2,2,   7.3480,2,    24.99,2, -999.00,9,  -999.0,9, -999.00,1, -999.00,1,       44.3,2, 20220519,     2217,  29.9996, 162.2202,     4.1103,2,     -999.0,9,     -999.0,9,     -999.0,9,     -999.0,9,     0.0134,1,     4.7015,1,     -999.0,9,     -999.0,9,     -999.0,9
33RR20220430,        P02,      52,          1,         20,         20,2,20220519,       2030,    29.9996,   162.2201,       6003,  1043.5,2,   3.6506,2,  34.2874,2,  34.2897,2,     39.9,3,    40.8,2,  121.85,2,   42.02,2,    0.00,2,    2.99,2,   0.468,2,   0.259,2,   0.1584,2,  2341.5,2,  2354.3,2,   7.3383,2,    24.98,2, -999.00,9,  -999.0,9, -999.00,1, -999.00,1,       46.2,2, 20220519,     2214,  29.9996, 162.2201,     3.6516,2,     -999.0,9,     -999.0,9,     -999.0,9,     -999.0,9,     0.0134,1,     4.7013,1,     -999.0,9,     -999.0,9,     -999.0,9
33RR20220430,        P02,      52,          1,         19,         19,2,20220519,       2030,    29.9996,   162.2201,       6003,  1145.5,2,   3.3354,2,  34.3394,2,-999.0000,9,     35.4,2,  -999.0,9, -999.00,9, -999.00,9, -999.00,9, -999.00,9,-999.000,9,-999.000,9,-999.0000,9,  -999.0,9,  -999.0,9,-999.0000,9,  -999.00,9, -999.00,9,  -999.0,9, -999.00,9, -999.00,9,     -999.0,9, 20220519,     2212,  29.9996, 162.2202,     3.3349,2,     -999.0,9,     -999.0,9,     -999.0,9,     -999.0,9,     0.0134,1,     4.7014,1,     -999.0,9,     -999.0,9,     -999.0,9
33RR20220430,        P02,      52,          1,         18,         18,2,20220519,       2030,    29.9996,   162.2201,       6003,  1246.4,2,   3.0501,2,  34.3926,2,  34.3945,2,     33.2,3,    34.1,2,  139.72,2,   43.20,2,    0.00,2,    3.08,2,   0.163,2,   0.092,2,   0.0000,2,  2371.1,2,  2373.1,2,   7.3354,2,    24.98,2, -999.00,9,  -999.0,9, -999.00,1, -999.00,1,       47.2,2, 20220519,     2209,  29.9996, 162.2202,     3.0479,2,     -999.0,9,     -999.0,9,     -999.0,9,     -999.0,9,     0.0134,1,     4.7021,1,     -999.0,9,     -999.0,9,     -999.0,9
33RR20220430,        P02,      52,          1,         17,         17,2,20220519,       2030,    29.9996,   162.2201,       6003,  1353.3,2,   2.7692,2,  34.4452,2,  34.4461,2,     34.6,2,    34.6,2,  147.92,2,   43.39,2,    0.00,2,    3.09,2,   0.086,2,   0.046,2,   0.0000,2,  2377.8,6,  2379.9,2,   7.3424,2,    24.99,2, -999.00,9,  -999.0,9, -999.00,1, -999.00,1,       46.1,2, 20220519,     2206,  29.9996, 162.2202,     2.7723,2,     -999.0,9,     -999.0,9,     -999.0,9,     -999.0,9,     0.0134,1,     4.7028,1,     -999.0,9,     -999.0,9,     -999.0,9
33RR20220430,        P02,      52,          1,         16,         16,2,20220519,       2030,    29.9996,   162.2201,       6003,  1485.6,2,   2.5465,2,  34.4834,2,  34.4842,2,     37.2,3,    37.9,2,  154.66,2,   43.58,2,    0.00,2,    3.08,2,   0.051,2,   0.026,2,   0.0000,2,  2385.0,2,  2390.0,2,   7.3499,2,    24.96,2, -999.00,9,  -999.0,9, -999.00,9, -999.00,9,       44.5,2, 20220519,     2203,  29.9996, 162.2202,     2.5489,2,     -999.0,9,     -999.0,9,     -999.0,9,     -999.0,9,     0.0134,1,     4.7031,1,     -999.0,9,     -999.0,9,     -999.0,9
33RR20220430,        P02,      52,          1,         15,         15,2,20220519,       2030,    29.9996,   162.2201,       6003,  1687.8,2,   2.2754,2,  34.5369,2,  34.5376,2,     50.0,3,    49.1,2,  160.90,2,   42.99,2,    0.00,2,    3.02,2,   0.019,2,   0.010,2,   0.0000,2,  2383.4,2,  2397.4,2,   7.3764,2,    24.98,2, -999.00,9,  -999.0,9, -999.00,1, -999.00,1,       39.9,2, 20220519,     2157,  29.9996, 162.2202,     2.2761,2,     -999.0,9,     -999.0,9,     -999.0,9,     -999.0,9,     0.0134,1,     4.7045,1,     -999.0,9,     -999.0,9,     -999.0,9
33RR20220430,        P02,      52,          1,         14,         14,2,20220519,       2030,    29.9996,   162.2201,       6003,  1890.2,2,   2.0652,2,  34.5765,2,  34.5779,2,     67.1,2,    66.7,2,  163.15,2,   41.85,2,    0.00,2,    2.94,2,   0.011,2,   0.000,2,   0.0000,2,  -999.0,9,  -999.0,9,-999.0000,9,  -999.00,9, -999.00,9,  -999.0,9, -999.00,9, -999.00,9,       35.3,2, 20220519,     2153,  29.9996, 162.2201,     2.0651,2,     -999.0,9,     -999.0,9,     -999.0,9,     -999.0,9,     0.0134,1,     4.7056,1,     -999.0,9,     -999.0,9,     -999.0,9
33RR20220430,        P02,      52,          1,         13,         13,2,20220519,       2030,    29.9996,   162.2201,       6003,  2114.1,2,   1.8828,2,  34.6072,2,  34.6079,2,     85.2,2,    84.7,2,  162.85,2,   40.60,2,    0.00,2,    2.84,2,   0.007,2,   0.000,2,   0.0000,2,  2368.8,2,  2408.0,2,   7.4496,2,    24.98,2, -999.00,9,  -999.0,9, -999.00,1, -999.00,1,       31.9,2, 20220519,     2148,  29.9996, 162.2202,     1.8828,2,     -999.0,9,     -999.0,9,     -999.0,9,     -999.0,9,     0.0127,1,     4.7065,1,     -999.0,9,     -999.0,9,     -999.0,9
33RR20220430,        P02,      52,          1,         12,         12,2,20220519,       2030,    29.9996,   162.2201,       6003,  2367.4,2,   1.7325,2,  34.6296,3,  34.6319,2,     99.0,2,    98.9,2,  163.14,2,   39.63,2,    0.00,2,    2.77,2,-999.000,9,-999.000,9,-999.0000,9,  -999.0,9,  -999.0,9,-999.0000,9,  -999.00,9, -999.00,9,  -999.0,9, -999.00,9, -999.00,9,     -999.0,9, 20220519,     2143,  29.9996, 162.2201,     1.7330,2,     -999.0,9,     -999.0,9,     -999.0,9,     -999.0,9,     0.0122,1,     4.7050,1,     -999.0,9,     -999.0,9,     -999.0,9
33RR20220430,        P02,      52,          1,         11,         11,2,20220519,       2030,    29.9996,   162.2201,       6003,  2621.8,2,   1.6411,2,  34.6465,2,  34.6480,2,    114.8,2,   115.3,2,  159.82,2,   38.62,2,    0.00,2,    2.69,2,   0.004,2,   0.000,2,   0.0000,2,  2350.4,2,  2410.8,2,   7.5077,2,    24.98,2, -999.00,9,  -999.0,9, -999.00,1, -999.00,1,       26.2,2, 20220519,     2138,  29.9996, 162.2202,     1.6412,2,     -999.0,9,     -999.0,9,     -999.0,9,     -999.0,9,     0.0122,1,     4.7074,1,     -999.0,9,     -999.0,9,     -999.0,9
33RR20220430,        P02,      52,          1,         10,         10,2,20220519,       2030,    29.9996,   162.2201,       6003,  2877.7,2,   1.5846,2,  34.6571,2,  34.6590,2,    125.1,2,   125.2,2,  157.28,2,   37.92,2,    0.00,2,    2.65,2,-999.000,9,-999.000,9,-999.0000,9,  -999.0,9,  -999.0,9,-999.0000,9,  -999.00,9, -999.00,9,  -999.0,9, -999.00,9, -999.00,9,     -999.0,9, 20220519,     2132,  29.9996, 162.2202,     1.5844,2,     -999.0,9,     -999.0,9,     -999.0,9,     -999.0,9,     0.0122,1,     4.7071,1,     -999.0,9,     -999.0,9,     -999.0,9
33RR20220430,        P02,      52,          1,          9,          9,2,20220519,       2030,    29.9996,   162.2201,       6003,  3147.2,2,   1.5350,2,  34.6651,2,  34.6663,2,    132.2,2,   132.5,2,  156.59,2,   37.49,2,    0.00,2,    2.61,2,   0.004,2,   0.000,2,   0.0000,2,  2338.7,2,  2412.8,2,   7.5395,2,    25.00,2, -999.00,9,  -999.0,9, -999.00,1, -999.00,1,       24.0,2, 20220519,     2127,  29.9996, 162.2201,     1.5351,2,     -999.0,9,     -999.0,9,     -999.0,9,     -999.0,9,     0.0126,1,     4.7070,1,     -999.0,9,     -999.0,9,     -999.0,9
33RR20220430,        P02,      52,          1,          8,          8,2,20220519,       2030,    29.9996,   162.2201,       6003,  3454.1,2,   1.5016,2,  34.6722,2,  34.6734,2,    139.9,2,   140.2,2,  154.25,2,   36.93,2,    0.00,2,    2.56,2,-999.000,9,-999.000,9,-999.0000,9,  -999.0,9,  -999.0,9,-999.0000,9,  -999.00,9, -999.00,9,  -999.0,9, -999.00,9, -999.00,9,     -999.0,9, 20220519,     2121,  29.9996, 162.2201,     1.5013,2,     -999.0,9,     -999.0,9,     -999.0,9,     -999.0,9,     0.0122,1,     4.7072,1,     -999.0,9,     -999.0,9,     -999.0,9
33RR20220430,        P02,      52,          1,          7,          7,2,20220519,       2030,    29.9996,   162.2201,       6003,  3797.6,2,   1.4759,2,  34.6784,2,  34.6802,2,    147.1,2,   147.6,2,  151.80,2,   36.46,2,    0.00,2,    2.52,2,   0.004,2,   0.000,2,   0.0000,2,  2329.4,2,  2411.4,2,   7.5652,2,    25.00,2, -999.00,9,  -999.0,9, -999.00,1, -999.00,1,       23.0,2, 20220519,     2114,  29.9996, 162.2201,     1.4757,2,     -999.0,9,     -999.0,9,     -999.0,9,     -999.0,9,     0.0127,1,     4.7080,1,     -999.0,9,     -999.0,9,     -999.0,9
33RR20220430,        P02,      52,          1,          6,          6,2,20220519,       2030,    29.9996,   162.2201,       6003,  4206.3,2,   1.4704,2,  34.6833,2,  34.6846,2,    153.6,2,   153.4,2,  149.95,2,   36.08,2,    0.00,2,    2.48,2,-999.000,9,-999.000,9,-999.0000,9,  -999.0,9,  -999.0,9,-999.0000,9,  -999.00,9, -999.00,9,  -999.0,9, -999.00,9, -999.00,9,     -999.0,9, 20220519,     2106,  29.9996, 162.2201,     1.4706,2,     -999.0,9,     -999.0,9,     -999.0,9,     -999.0,9,     0.0122,1,     4.7074,1,     -999.0,9,     -999.0,9,     -999.0,9
33RR20220430,        P02,      52,          1,          5,          5,2,20220519,       2030,    29.9996,   162.2201,       6003,  4617.0,2,   1.4769,2,  34.6873,2,  34.6885,2,    159.5,2,   159.4,2,  146.92,2,   35.85,2,    0.00,2,    2.43,2,-999.000,9,-999.000,9,-999.0000,9,  2320.7,2,  2409.4,2,   7.5828,2,    25.00,2, -999.00,9,  -999.0,9, -999.00,1, -999.00,1,     -999.0,9, 20220519,     2059,  29.9996, 162.2201,     1.4769,2,     -999.0,9,     -999.0,9,     -999.0,9,     -999.0,9,     0.0131,1,     4.7080,1,     -999.0,9,     -999.0,9,     -999.0,9
33RR20220430,        P02,      52,          1,          4,          4,2,20220519,       2030,    29.9996,   162.2201,       6003,  5029.2,2,   1.4902,2,  34.6907,2,  34.6914,2,    166.1,2,   166.1,2,  141.64,2,   35.30,2,    0.00,2,    2.40,2,   0.007,2,   0.000,2,   0.0000,2,  2312.9,2,  2404.8,2,   7.5748,2,    25.01,2, -999.00,9,  -999.0,9, -999.00,1, -999.00,1,       21.0,2, 20220519,     2051,  29.9996, 162.2201,     1.4904,2,     -999.0,9,     -999.0,9,     -999.0,9,     -999.0,9,     0.0122,1,     4.7084,1,     -999.0,9,     -999.0,9,     -999.0,9