BOTTLE,20230801CCHSIOCBG
EXPOCODE,SECT_ID,STNNBR,CASTNO,SAMPNO,BTLNBR,BTLNBR_FLAG_W,DATE,TIME,LATITUDE,LONGITUDE,DEPTH,CTDPRS,CTDPRS_FLAG_W,CTDTMP,CTDTMP_FLAG_W,CTDSAL,CTDSAL_FLAG_W,SALNTY,SALNTY_FLAG_W,CTDOXY,CTDOXY_FLAG_W,OXYGEN,OXYGEN_FLAG_W,SILCAT,SILCAT_FLAG_W,NITRAT,NITRAT_FLAG_W,NITRIT,NITRIT_FLAG_W,PHSPHT,PHSPHT_FLAG_W,CFC-11,CFC-11_FLAG_W,CFC-12,CFC-12_FLAG_W,SF6,SF6_FLAG_W,TCARBN,TCARBN_FLAG_W,ALKALI,ALKALI_FLAG_W,PH_TOT,PH_TOT_FLAG_W,PH_TMP,PH_TMP_FLAG_W,DELC13,DELC13_FLAG_W,DELC14,DELC14_FLAG_W,DOC,DOC_FLAG_W,TDN,TDN_FLAG_W,N2O,N2O_FLAG_W,BTL_DATE,BTL_TIME,BTL_LAT,BTL_LON,REFTMP,REFTMP_FLAG_W,POC,POC_FLAG_W,PON,PON_FLAG_W,POP,POP_FLAG_W,PCOD,PCOD_FLAG_W,CTDFLUOR,CTDFLUOR_FLAG_W,CTDXMISS,CTDXMISS_FLAG_W,HPLC,HPLC_FLAG_W,DNA,DNA_FLAG_W,FCM,FCM_FLAG_W
,,,,,,,,,,,METERS,DBAR,,ITS-90,,PSS-78,,PSS-78,,UMOL/KG,,UMOL/KG,,UMOL/KG,,UMOL/KG,,UMOL/KG,,UMOL/KG,,PMOL/KG,,PMOL/KG,,FMOL/KG,,UMOL/KG,,UMOL/KG,,,,DEG C,,/MILLE,,/MILLE,,UMOL/KG,,UMOL/KG,,NMOL/KG,,,,,,ITS-90,,UG/L,,UG/L,,UG/L,,UG/L,,VOLTS,,VOLTS,,,,,,,
33RR20220430,        P02,      67,          1,          3,          3,2,20220524,       1421,    29.9988,   170.8733,       5597,  4993.8,2,   1.4681,2,  34.6926,2,  34.6918,2,    167.4,2,   167.9,2,  139.87,2,   34.86,2,    0.00,2,    2.36,2,   0.006,2,   0.000,2,   0.0000,2,  2311.6,2,  2406.6,2,   7.5922,2,    25.04,2, -999.00,9,  -999.0,9, -999.00,9, -999.00,9,       20.0,2, 20220524,     1435,  29.9988, 170.8733,     1.4680,2,     -999.0,9,     -999.0,9,     -999.0,9,     -999.0,9,     0.0122,1,     4.7047,1,     -999.0,9,     -999.0,9,     -999.0,9
33RR20220430,        P02,      67,          1,          2,          2,2,20220524,       1421,    29.9988,   170.8733,       5597,  5352.7,2,   1.4871,2,  34.6948,2,  34.6936,2,    171.7,2,   171.6,2,  136.45,2,   34.53,2,    0.00,2,    2.35,2,-999.000,9,-999.000,9,-999.0000,9,  2305.6,2,  2402.6,2,   7.5965,2,    25.01,2, -999.00,9,  -999.0,9, -999.00,9, -999.00,9,     -999.0,9, 20220524,     1428,  29.9987, 170.8733,     1.4873,2,     -999.0,9,     -999.0,9,     -999.0,9,     -999.0,9,     0.0122,1,     4.7041,1,     -999.0,9,     -999.0,9,     -999.0,9
33RR20220430,        P02,      67,          1,          1,          1,2,20220524,       1421,    29.9988,   170.8733,       5597,  5700.4,2,   1.5081,2,  34.6965,2,  34.6963,2,    175.8,2,   175.6,2,  133.32,2,   34.17,2,    0.00,2,    2.33,2,   0.010,2,   0.000,2,   0.0000,2,  2302.8,6,  2398.6,2,   7.6010,2,    25.00,2, -999.00,9,  -999.0,9, -999.00,9, -999.00,9,       19.8,2, 20220524,     1421,  29.9988, 170.8733,     1.5082,2,     -999.0,9,     -999.0,9,     -999.0,9,     -999.0,9,     0.0127,1,     4.7009,1,     -999.0,9,     -999.0,9,     -999.0,9
33RR20220430,        P02,      68,          1,         19,         19,2,20220524,       1943,    30.0000,   171.4509,       5392,     5.0,2,  23.3051,2,  35.1982,2,-999.0000,9,    208.5,2,  -999.0,9, -999.00,9, -999.00,9, -999.00,9, -999.00,9,-999.000,9,-999.000,9,-999.0000,9,  -999.0,9,  -999.0,9,-999.0000,9,  -999.00,9, -999.00,9,  -999.0,9, -999.00,9, -999.00,9,     -999.0,9, 20220524,     2013,  30.0000, 171.4509,     -999.0,9,     -999.0,9,     -999.0,9,     -999.0,9,     -999.0,1,     0.0134,1,     4.6342,1,     -999.0,9,     -999.0,9,     -999.0,9
33RR20220430,        P02,      68,          1,         12,         12,2,20220524,       1943,    30.0000,   171.4509,       5392,     5.0,2,  23.3131,2,  35.1986,2,-999.0000,9,    207.5,2,  -999.0,9, -999.00,9, -999.00,9, -999.00,9, -999.00,9,-999.000,9,-999.000,9,-999.0000,9,  -999.0,9,  -999.0,9,-999.0000,9,  -999.00,9, -999.00,9,  -999.0,9, -999.00,9, -999.00,9,     -999.0,9, 20220524,     2011,  29.9999, 171.4509,     -999.0,9,     -999.0,1,     -999.0,1,     -999.0,9,     -999.0,9,     0.0135,1,     4.6319,1,     -999.0,9,     -999.0,9,     -999.0,9
33RR20220430,        P02,      68,          1,         11,         11,2,20220524,       1943,    30.0000,   171.4509,       5392,     5.0,2,  23.3087,2,  35.1978,2,-999.0000,9,    208.4,2,  -999.0,9, -999.00,9, -999.00,9, -999.00,9, -999.00,9,-999.000,9,-999.000,9,-999.0000,9,  -999.0,9,  -999.0,9,-999.0000,9,  -999.00,9, -999.00,9,  -999.0,9, -999.00,9, -999.00,9,     -999.0,9, 20220524,     2011,  29.9999, 171.4509,    23.3014,2,     -999.0,1,     -999.0,1,     -999.0,9,     -999.0,9,     0.0134,1,     4.6345,1,     -999.0,9,     -999.0,9,     -999.0,9
33RR20220430,        P02,      68,          1,         18,         18,2,20220524,       1943,    30.0000,   171.4509,       5392,     5.1,2,  23.3111,2,  35.1983,2,-999.0000,9,    207.6,2,  -999.0,9, -999.00,9, -999.00,9, -999.00,9, -999.00,9,-999.000,9,-999.000,9,-999.0000,9,  -999.0,9,  -999.0,9,-999.0000,9,  -999.00,9, -999.00,9,  -999.0,9, -999.00,9, -999.00,9,     -999.0,9, 20220524,     2013,  30.0000, 171.4509,    23.2964,2,     -999.0,9,     -999.0,9,     -999.0,9,     -999.0,1,     0.0135,1,     4.6342,1,     -999.0,9,     -999.0,9,     -999.0,9
33RR20220430,        P02,      68,          1,         14,         14,2,20220524,       1943,    30.0000,   171.4509,       5392,     5.1,2,  23.3097,2,  35.1982,2,-999.0000,9,    208.3,2,  -999.0,9, -999.00,9, -999.00,9, -999.00,9, -999.00,9,-999.000,9,-999.000,9,-999.0000,9,  -999.0,9,  -999.0,9,-999.0000,9,  -999.00,9, -999.00,9,  -999.0,9, -999.00,9, -999.00,9,     -999.0,9, 20220524,     2012,  30.0000, 171.4509,    23.2927,2,     -999.0,9,     -999.0,9,     -999.0,1,     -999.0,9,     0.0134,1,     4.6342,1,     -999.0,9,     -999.0,9,     -999.0,9
33RR20220430,        P02,      68,          1,         15,         15,2,20220524,       1943,    30.0000,   171.4509,       5392,     5.1,2,  23.3008,2,  35.1982,2,-999.0000,9,    208.2,2,  -999.0,9, -999.00,9, -999.00,9, -999.00,9, -999.00,9,-999.000,9,-999.000,9,-999.0000,9,  -999.0,9,  -999.0,9,-999.0000,9,  -999.00,9, -999.00,9,  -999.0,9, -999.00,9, -999.00,9,     -999.0,9, 20220524,     2012,  30.0000, 171.4509,    23.2958,2,     -999.0,9,     -999.0,9,     -999.0,1,     -999.0,9,     0.0134,1,     4.6348,1,     -999.0,9,     -999.0,9,     -999.0,9
33RR20220430,        P02,      68,          1,         16,         16,2,20220524,       1943,    30.0000,   171.4509,       5392,     5.2,2,  23.3053,2,  35.1982,2,-999.0000,9,    208.4,2,  -999.0,9, -999.00,9, -999.00,9, -999.00,9, -999.00,9,-999.000,9,-999.000,9,-999.0000,9,  -999.0,9,  -999.0,9,-999.0000,9,  -999.00,9, -999.00,9,  -999.0,9, -999.00,9, -999.00,9,     -999.0,9, 20220524,     2012,  30.0000, 171.4509,     -999.0,9,     -999.0,9,     -999.0,9,     -999.0,1,     -999.0,9,     0.0134,1,     4.6349,1,     -999.0,9,     -999.0,9,     -999.0,9
33RR20220430,        P02,      68,          1,         10,         10,2,20220524,       1943,    30.0000,   171.4509,       5392,     5.2,2,  23.2975,2,  35.1981,2,-999.0000,9,    208.3,2,  -999.0,9, -999.00,9, -999.00,9, -999.00,9, -999.00,9,-999.000,9,-999.000,9,-999.0000,9,  -999.0,9,  -999.0,9,-999.0000,9,  -999.00,9, -999.00,9,  -999.0,9, -999.00,9, -999.00,9,     -999.0,9, 20220524,     2011,  30.0000, 171.4509,     -999.0,9,     -999.0,9,     -999.0,9,     -999.0,9,     -999.0,9,     0.0134,1,     4.6348,1,     -999.0,9,     -999.0,1,     -999.0,9
33RR20220430,        P02,      68,          1,         17,         17,2,20220524,       1943,    30.0000,   171.4509,       5392,     5.3,2,  23.3087,2,  35.1982,2,-999.0000,9,    208.2,2,  -999.0,9, -999.00,9, -999.00,9, -999.00,9, -999.00,9,-999.000,9,-999.000,9,-999.0000,9,  -999.0,9,  -999.0,9,-999.0000,9,  -999.00,9, -999.00,9,  -999.0,9, -999.00,9, -999.00,9,     -999.0,9, 20220524,     2012,  30.0000, 171.4509,    23.2984,2,     -999.0,9,     -999.0,9,     -999.0,9,     -999.0,1,     0.0127,1,     4.6347,1,     -999.0,9,     -999.0,9,     -999.0,9
33RR20220430,        P02,      68,          1,         13,         13,2,20220524,       1943,    30.0000,   171.4509,       5392,     5.3,2,  23.3165,2,  35.1982,2,-999.0000,9,    208.2,2,  -999.0,9, -999.00,9, -999.00,9, -999.00,9, -999.00,9,-999.000,9,-999.000,9,-999.0000,9,  -999.0,9,  -999.0,9,-999.0000,9,  -999.00,9, -999.00,9,  -999.0,9, -999.00,9, -999.00,9,     -999.0,9, 20220524,     2011,  29.9999, 171.4509,    23.3065,2,     -999.0,1,     -999.0,1,     -999.0,9,     -999.0,9,     0.0134,1,     4.6349,1,     -999.0,9,     -999.0,9,     -999.0,9
33RR20220430,        P02,      68,          1,          9,          9,2,20220524,       1943,    30.0000,   171.4509,       5392,     5.6,2,  23.3055,2,  35.1978,2,-999.0000,9,    208.3,2,  -999.0,9, -999.00,9, -999.00,9, -999.00,9, -999.00,9,-999.000,9,-999.000,9,-999.0000,9,  -999.0,9,  -999.0,9,-999.0000,9,  -999.00,9, -999.00,9,  -999.0,9, -999.00,9, -999.00,9,     -999.0,9, 20220524,     2010,  30.0000, 171.4509,    23.2977,2,     -999.0,9,     -999.0,9,     -999.0,9,     -999.0,9,     0.0134,1,     4.6356,1,     -999.0,1,     -999.0,9,     -999.0,1
33RR20220430,        P02,      68,          1,          8,          8,2,20220524,       1943,    30.0000,   171.4509,       5392,    40.3,2,  20.5165,2,  35.0419,2,-999.0000,9,    219.5,2,  -999.0,9, -999.00,9, -999.00,9, -999.00,9, -999.00,9,-999.000,9,-999.000,9,-999.0000,9,  -999.0,9,  -999.0,9,-999.0000,9,  -999.00,9, -999.00,9,  -999.0,9, -999.00,9, -999.00,9,     -999.0,9, 20220524,     2008,  29.9999, 171.4509,    20.4997,2,     -999.0,9,     -999.0,9,     -999.0,9,     -999.0,9,     0.0147,1,     4.6341,1,     -999.0,1,     -999.0,9,     -999.0,1
33RR20220430,        P02,      68,          1,          7,          7,2,20220524,       1943,    30.0000,   171.4509,       5392,    75.7,2,  18.4270,2,  34.8469,2,-999.0000,9,    222.3,2,  -999.0,9, -999.00,9, -999.00,9, -999.00,9, -999.00,9,-999.000,9,-999.000,9,-999.0000,9,  -999.0,9,  -999.0,9,-999.0000,9,  -999.00,9, -999.00,9,  -999.0,9, -999.00,9, -999.00,9,     -999.0,9, 20220524,     2006,  30.0000, 171.4509,    18.4661,2,     -999.0,9,     -999.0,9,     -999.0,9,     -999.0,9,     0.0293,1,     4.6277,1,     -999.0,9,     -999.0,9,     -999.0,1
33RR20220430,        P02,      68,          1,          6,          6,2,20220524,       1943,    30.0000,   171.4509,       5392,   101.5,2,  17.6614,2,  34.7763,2,-999.0000,9,    211.6,2,  -999.0,9, -999.00,9, -999.00,9, -999.00,9, -999.00,9,-999.000,9,-999.000,9,-999.0000,9,  -999.0,9,  -999.0,9,-999.0000,9,  -999.00,9, -999.00,9,  -999.0,9, -999.00,9, -999.00,9,     -999.0,9, 20220524,     2004,  30.0000, 171.4509,     -999.0,9,     -999.0,9,     -999.0,9,     -999.0,9,     -999.0,9,     0.0251,1,     4.6662,1,     -999.0,1,     -999.0,9,     -999.0,1
33RR20220430,        P02,      68,          1,          5,          5,2,20220524,       1943,    30.0000,   171.4509,       5392,   102.2,2,  17.6614,2,  34.7757,2,-999.0000,9,    211.3,2,  -999.0,9, -999.00,9, -999.00,9, -999.00,9, -999.00,9,-999.000,9,-999.000,9,-999.0000,9,  -999.0,9,  -999.0,9,-999.0000,9,  -999.00,9, -999.00,9,  -999.0,9, -999.00,9, -999.00,9,     -999.0,9, 20220524,     2004,  30.0000, 171.4509,    17.6551,2,     -999.0,9,     -999.0,9,     -999.0,9,     -999.0,9,     0.0249,1,     4.6653,1,     -999.0,9,     -999.0,1,     -999.0,9
33RR20220430,        P02,      68,          1,          4,          4,2,20220524,       1943,    30.0000,   171.4509,       5392,   159.8,2,  16.5492,2,  34.6671,2,-999.0000,9,    200.4,2,  -999.0,9, -999.00,9, -999.00,9, -999.00,9, -999.00,9,-999.000,9,-999.000,9,-999.0000,9,  -999.0,9,  -999.0,9,-999.0000,9,  -999.00,9, -999.00,9,  -999.0,9, -999.00,9, -999.00,9,     -999.0,9, 20220524,     2001,  30.0000, 171.4509,    16.5407,2,     -999.0,9,     -999.0,9,     -999.0,9,     -999.0,9,     0.0134,1,     4.6854,1,     -999.0,9,     -999.0,9,     -999.0,1
33RR20220430,        P02,      68,          1,          3,          3,2,20220524,       1943,    30.0000,   171.4509,       5392,   200.4,2,  15.9458,2,  34.6266,2,-999.0000,9,    201.7,2,  -999.0,9, -999.00,9, -999.00,9, -999.00,9, -999.00,9,-999.000,9,-999.000,9,-999.0000,9,  -999.0,9,  -999.0,9,-999.0000,9,  -999.00,9, -999.00,9,  -999.0,9, -999.00,9, -999.00,9,     -999.0,9, 20220524,     1959,  29.9999, 171.4509,    15.9535,2,     -999.0,9,     -999.0,9,     -999.0,9,     -999.0,9,     0.0122,1,     4.6896,1,     -999.0,9,     -999.0,1,     -999.0,1
33RR20220430,        P02,      68,          1,          2,          2,2,20220524,       1943,    30.0000,   171.4509,       5392,   505.1,2,   9.9754,2,  34.1610,2,-999.0000,9,    187.5,2,  -999.0,9, -999.00,9, -999.00,9, -999.00,9, -999.00,9,-999.000,9,-999.000,9,-999.0000,9,  -999.0,9,  -999.0,9,-999.0000,9,  -999.00,9, -999.00,9,  -999.0,9, -999.00,9, -999.00,9,     -999.0,9, 20220524,     1952,  30.0000, 171.4509,     9.9658,2,     -999.0,9,     -999.0,9,     -999.0,9,     -999.0,9,     0.0122,1,     4.6989,1,     -999.0,9,     -999.0,9,     -999.0,1
33RR20220430,        P02,      68,          1,          1,          1,2,20220524,       1943,    30.0000,   171.4509,       5392,  1011.0,2,   3.7818,2,  34.2859,2,-999.0000,9,     31.1,2,  -999.0,9, -999.00,9, -999.00,9, -999.00,9, -999.00,9,-999.000,9,-999.000,9,-999.0000,9,  -999.0,9,  -999.0,9,-999.0000,9,  -999.00,9, -999.00,9,  -999.0,9, -999.00,9, -999.00,9,     -999.0,9, 20220524,     1943,  29.9999, 171.4509,     3.7830,2,     -999.0,9,     -999.0,9,     -999.0,9,     -999.0,9,     0.0134,1,     4.7022,1,     -999.0,9,     -999.0,1,     -999.0,1