BOTTLE,20230801CCHSIOCBG
EXPOCODE,SECT_ID,STNNBR,CASTNO,SAMPNO,BTLNBR,BTLNBR_FLAG_W,DATE,TIME,LATITUDE,LONGITUDE,DEPTH,CTDPRS,CTDPRS_FLAG_W,CTDTMP,CTDTMP_FLAG_W,CTDSAL,CTDSAL_FLAG_W,SALNTY,SALNTY_FLAG_W,CTDOXY,CTDOXY_FLAG_W,OXYGEN,OXYGEN_FLAG_W,SILCAT,SILCAT_FLAG_W,NITRAT,NITRAT_FLAG_W,NITRIT,NITRIT_FLAG_W,PHSPHT,PHSPHT_FLAG_W,CFC-11,CFC-11_FLAG_W,CFC-12,CFC-12_FLAG_W,SF6,SF6_FLAG_W,TCARBN,TCARBN_FLAG_W,ALKALI,ALKALI_FLAG_W,PH_TOT,PH_TOT_FLAG_W,PH_TMP,PH_TMP_FLAG_W,DELC13,DELC13_FLAG_W,DELC14,DELC14_FLAG_W,DOC,DOC_FLAG_W,TDN,TDN_FLAG_W,N2O,N2O_FLAG_W,BTL_DATE,BTL_TIME,BTL_LAT,BTL_LON,REFTMP,REFTMP_FLAG_W,POC,POC_FLAG_W,PON,PON_FLAG_W,POP,POP_FLAG_W,PCOD,PCOD_FLAG_W,CTDFLUOR,CTDFLUOR_FLAG_W,CTDXMISS,CTDXMISS_FLAG_W,HPLC,HPLC_FLAG_W,DNA,DNA_FLAG_W,FCM,FCM_FLAG_W
,,,,,,,,,,,METERS,DBAR,,ITS-90,,PSS-78,,PSS-78,,UMOL/KG,,UMOL/KG,,UMOL/KG,,UMOL/KG,,UMOL/KG,,UMOL/KG,,PMOL/KG,,PMOL/KG,,FMOL/KG,,UMOL/KG,,UMOL/KG,,,,DEG C,,/MILLE,,/MILLE,,UMOL/KG,,UMOL/KG,,NMOL/KG,,,,,,ITS-90,,UG/L,,UG/L,,UG/L,,UG/L,,VOLTS,,VOLTS,,,,,,,
33RR20220430,        P02,      25,          1,         36,         36,2,20220510,       1906,    29.9993,   144.5238,       5851,    12.8,2,  22.2752,2,  34.8588,2,  34.8501,2,    220.4,2,   220.2,2,    0.78,2,    0.00,2,    0.00,2,    0.00,2,   1.710,2,   1.192,2,   1.6780,2,  2002.5,6,  2287.0,2,   8.0221,2,    25.03,2, -999.00,9,  -999.0,9, -999.00,1, -999.00,1,        6.5,2, 20220510,     2123,  29.9993, 144.5238,    22.2757,2,     -999.0,9,     -999.0,9,     -999.0,9,     -999.0,9,     0.0147,1,     4.6444,1,     -999.0,9,     -999.0,9,     -999.0,9
33RR20220430,        P02,      25,          1,         35,         35,2,20220510,       1906,    29.9993,   144.5238,       5851,    43.0,2,  22.0882,2,  34.8344,2,  34.8255,2,    221.4,2,   220.3,2,    0.78,2,    0.00,2,    0.00,2,    0.00,2,   1.770,2,   1.127,2,   1.8474,2,  2000.7,2,  2285.3,2,   8.0196,2,    25.03,2, -999.00,9,  -999.0,9, -999.00,1, -999.00,1,        6.6,2, 20220510,     2120,  29.9993, 144.5238,    22.0869,2,     -999.0,9,     -999.0,9,     -999.0,9,     -999.0,9,     0.0147,1,     4.6409,1,     -999.0,9,     -999.0,9,     -999.0,9
33RR20220430,        P02,      25,          1,         34,         34,2,20220510,       1906,    29.9993,   144.5238,       5851,    67.7,2,  20.7547,2,  34.7630,2,  34.7571,2,    228.1,2,   228.0,2,    0.88,2,    0.00,2,    0.00,2,    0.00,2,   1.859,2,   1.167,2,   1.8319,2,  2003.2,2,  2281.9,2,   8.0116,2,    25.02,2, -999.00,9,  -999.0,9, -999.00,1, -999.00,1,        6.9,2, 20220510,     2119,  29.9993, 144.5238,    20.7575,2,     -999.0,9,     -999.0,9,     -999.0,9,     -999.0,9,     0.0186,1,     4.6362,1,     -999.0,9,     -999.0,9,     -999.0,9
33RR20220430,        P02,      25,          1,         33,         33,2,20220510,       1906,    29.9993,   144.5238,       5851,    92.5,2,  19.3396,2,  34.7664,2,  34.7602,2,    231.4,2,   232.0,2,    0.88,2,    0.00,2,    0.00,2,    0.00,2,-999.000,9,-999.000,9,-999.0000,9,  -999.0,9,  -999.0,9,-999.0000,9,  -999.00,9, -999.00,9,  -999.0,9, -999.00,1, -999.00,1,     -999.0,9, 20220510,     2117,  29.9993, 144.5238,    19.3423,2,     -999.0,9,     -999.0,9,     -999.0,9,     -999.0,9,     0.0244,1,     4.6402,1,     -999.0,9,     -999.0,9,     -999.0,9
33RR20220430,        P02,      25,          1,         32,         32,2,20220510,       1906,    29.9993,   144.5238,       5851,   122.0,2,  18.8963,2,  34.7796,2,  34.7732,2,    220.6,2,   220.4,2,    1.37,2,    0.88,2,    0.17,2,    0.03,2,   1.983,2,   1.290,2,   1.7718,2,  2021.1,2,  2282.7,2,   7.9804,2,    25.01,2, -999.00,9,  -999.0,9, -999.00,1, -999.00,1,        8.8,2, 20220510,     2114,  29.9993, 144.5238,    18.8960,2,     -999.0,9,     -999.0,9,     -999.0,9,     -999.0,9,     0.0228,1,     4.6553,1,     -999.0,9,     -999.0,9,     -999.0,9
33RR20220430,        P02,      25,          1,         31,         31,2,20220510,       1906,    29.9993,   144.5238,       5851,   172.5,2,  17.8086,2,  34.7674,2,  34.7608,2,    216.4,2,   216.5,2,    1.95,2,    2.51,2,    0.02,2,    0.12,2,   2.080,2,   1.341,2,   1.9837,2,  2032.1,2,  2280.2,2,   7.9571,2,    25.03,2, -999.00,9,  -999.0,9, -999.00,1, -999.00,1,        8.9,2, 20220510,     2113,  29.9993, 144.5238,    17.8100,2,     -999.0,9,     -999.0,9,     -999.0,9,     -999.0,9,     0.0167,1,     4.6773,1,     -999.0,9,     -999.0,9,     -999.0,9
33RR20220430,        P02,      25,          1,         30,         30,2,20220510,       1906,    29.9993,   144.5238,       5851,   222.5,2,  17.3353,2,  34.7532,2,  34.7471,2,    217.4,2,   218.0,2,    2.54,2,    3.17,2,    0.00,2,    0.16,2,   2.218,2,   1.287,2,   2.0104,2,  2036.0,2,  2281.3,2,   7.9499,2,    25.03,2, -999.00,9,  -999.0,9, -999.00,1, -999.00,1,        9.0,2, 20220510,     2111,  29.9993, 144.5238,    17.3353,2,     -999.0,9,     -999.0,9,     -999.0,9,     -999.0,9,     0.0122,1,     4.6859,1,     -999.0,9,     -999.0,9,     -999.0,9
33RR20220430,        P02,      25,          1,         29,         29,2,20220510,       1906,    29.9993,   144.5238,       5851,   271.9,2,  17.0318,2,  34.7373,2,  34.7313,2,    205.4,2,   204.9,2,    3.71,2,    4.90,2,    0.00,2,    0.27,2,   2.162,2,   1.290,2,   1.7747,2,  2051.2,2,  2279.4,2,   7.9208,2,    25.03,2, -999.00,9,  -999.0,9, -999.00,1, -999.00,1,       10.1,2, 20220510,     2109,  29.9993, 144.5238,    17.0310,2,     -999.0,9,     -999.0,9,     -999.0,9,     -999.0,9,     0.0122,1,     4.6910,1,     -999.0,9,     -999.0,9,     -999.0,9
33RR20220430,        P02,      25,          1,         28,         28,2,20220510,       1906,    29.9993,   144.5238,       5851,   322.9,2,  16.5309,2,  34.7016,2,  34.6958,2,    202.4,2,   202.4,2,    4.88,2,    5.95,2,    0.00,2,    0.32,2,   2.258,2,   1.348,2,   1.7306,2,  2056.9,2,  2279.6,2,   7.9058,2,    25.03,2, -999.00,9,  -999.0,9, -999.00,1, -999.00,1,       10.3,2, 20220510,     2107,  29.9993, 144.5238,    16.5346,2,     -999.0,9,     -999.0,9,     -999.0,9,     -999.0,9,     0.0119,1,     4.6893,1,     -999.0,9,     -999.0,9,     -999.0,9
33RR20220430,        P02,      25,          1,         27,         27,2,20220510,       1906,    29.9993,   144.5238,       5851,   372.1,2,  15.6966,2,  34.6372,2,  34.6305,2,    195.2,2,   195.3,2,    7.52,2,    8.05,2,    0.00,2,    0.48,2,   2.292,2,   1.342,2,   1.7106,2,  2069.6,2,  2277.1,2,   7.8742,2,    25.02,2, -999.00,9,  -999.0,9, -999.00,1, -999.00,1,       12.2,2, 20220510,     2105,  29.9993, 144.5238,    15.6972,2,     -999.0,9,     -999.0,9,     -999.0,9,     -999.0,9,     0.0122,1,     4.6929,1,     -999.0,9,     -999.0,9,     -999.0,9
33RR20220430,        P02,      25,          1,         26,         26,2,20220510,       1906,    29.9993,   144.5238,       5851,   442.3,2,  13.9187,2,  34.4897,2,  34.4852,2,    192.2,2,   192.7,2,   11.33,2,   10.85,2,    0.00,2,    0.67,2,   2.565,2,   1.485,2,   1.6813,2,  2091.1,2,  2273.0,2,   7.8231,2,    25.04,2, -999.00,9,  -999.0,9, -999.00,1, -999.00,1,       14.1,2, 20220510,     2103,  29.9993, 144.5238,    13.9202,2,     -999.0,9,     -999.0,9,     -999.0,9,     -999.0,9,     0.0122,1,     4.6985,1,     -999.0,9,     -999.0,9,     -999.0,9
33RR20220430,        P02,      25,          1,         25,         25,2,20220510,       1906,    29.9993,   144.5238,       5851,   541.8,2,  11.0778,2,  34.2784,2,  34.2760,2,    182.9,2,   183.6,2,   21.99,2,   16.48,2,    0.00,2,    1.08,2,   2.593,2,   1.427,2,   1.4405,2,  2125.9,2,  2273.1,2,   7.7339,2,    24.95,2, -999.00,9,  -999.0,9, -999.00,1, -999.00,1,       18.4,2, 20220510,     2100,  29.9993, 144.5238,    11.0762,2,     -999.0,9,     -999.0,9,     -999.0,9,     -999.0,9,     0.0122,1,     4.7020,1,     -999.0,9,     -999.0,9,     -999.0,9
33RR20220430,        P02,      25,          1,         24,         24,2,20220510,       1906,    29.9993,   144.5238,       5851,   643.3,2,   8.2008,2,  34.0915,2,  34.0895,2,    158.4,2,   158.8,2,   39.48,2,   24.02,2,    0.00,2,    1.64,2,   2.514,2,   1.438,2,   1.1871,2,  2178.8,2,  2278.1,2,   7.6133,2,    24.99,2, -999.00,9,  -999.0,9, -999.00,9, -999.00,9,       24.9,2, 20220510,     2058,  29.9993, 144.5238,     8.2010,2,     -999.0,9,     -999.0,9,     -999.0,9,     -999.0,9,     0.0122,1,     4.7059,1,     -999.0,9,     -999.0,9,     -999.0,9
33RR20220430,        P02,      25,          1,         23,         23,2,20220510,       1906,    29.9993,   144.5238,       5851,   744.6,2,   6.1725,2,  34.0485,2,  34.0486,2,    120.8,2,   119.8,2,   62.84,2,   31.34,2,    0.00,2,    2.18,2,   1.964,2,   1.066,2,   0.8665,2,  2234.6,2,  2294.4,2,   7.4942,2,    25.01,2, -999.00,9,  -999.0,9, -999.00,1, -999.00,1,       32.0,2, 20220510,     2055,  29.9993, 144.5238,     6.1750,2,     -999.0,9,     -999.0,9,     -999.0,9,     -999.0,9,     0.0125,1,     4.7063,1,     -999.0,9,     -999.0,9,     -999.0,9
33RR20220430,        P02,      25,          1,         22,         22,2,20220510,       1906,    29.9993,   144.5238,       5851,   846.0,2,   4.9600,2,  34.1264,2,  34.1268,2,     80.7,3,    79.1,2,   87.37,2,   36.91,2,    0.00,2,    2.56,2,   1.286,2,   0.742,2,   0.3808,2,  2287.3,2,  2316.4,2,   7.4058,2,    25.02,2, -999.00,9,  -999.0,9, -999.00,9, -999.00,9,       39.1,2, 20220510,     2052,  29.9993, 144.5238,     4.9594,2,     -999.0,9,     -999.0,9,     -999.0,9,     -999.0,9,     0.0134,1,     4.7056,1,     -999.0,9,     -999.0,9,     -999.0,9
33RR20220430,        P02,      25,          1,         21,         21,2,20220510,       1906,    29.9993,   144.5238,       5851,   947.4,2,   4.3243,2,  34.2090,2,  34.2103,2,     57.4,3,    56.6,2,  103.39,2,   39.76,2,    0.00,2,    2.77,2,   0.787,2,   0.451,2,   0.0000,2,  2316.7,2,  2334.7,2,   7.3669,2,    24.94,2, -999.00,9,  -999.0,9, -999.00,1, -999.00,1,       43.6,2, 20220510,     2049,  29.9993, 144.5238,     4.3245,2,     -999.0,9,     -999.0,9,     -999.0,9,     -999.0,9,     0.0134,1,     4.7065,1,     -999.0,9,     -999.0,9,     -999.0,9
33RR20220430,        P02,      25,          1,         20,         20,2,20220510,       1906,    29.9993,   144.5238,       5851,  1048.2,2,   3.7252,2,  34.2931,2,  34.2936,2,     44.2,3,    45.4,2,  119.90,2,   41.56,2,    0.00,2,    2.89,2,   0.462,2,   0.262,2,   0.0000,2,  2340.8,2,  2351.4,2,   7.3508,2,    25.06,2, -999.00,9,  -999.0,9, -999.00,9, -999.00,9,       46.5,2, 20220510,     2047,  29.9993, 144.5238,     3.7256,2,     -999.0,9,     -999.0,9,     -999.0,9,     -999.0,9,     0.0134,1,     4.7057,1,     -999.0,9,     -999.0,9,     -999.0,9
33RR20220430,        P02,      25,          1,         19,         19,2,20220510,       1906,    29.9993,   144.5238,       5851,  1149.3,2,   3.3634,2,  34.3540,2,  34.3554,2,     39.6,2,    39.9,2,  129.67,2,   42.31,2,    0.00,2,    2.96,2,   0.260,2,   0.146,2,   0.0000,2,  2354.2,6,  2365.3,2,   7.3453,2,    25.02,2, -999.00,9,  -999.0,9, -999.00,1, -999.00,1,       47.8,2, 20220510,     2044,  29.9993, 144.5238,     3.3616,2,     -999.0,9,     -999.0,9,     -999.0,9,     -999.0,9,     0.0134,1,     4.7055,1,     -999.0,9,     -999.0,9,     -999.0,9
33RR20220430,        P02,      25,          1,         18,         18,2,20220510,       1906,    29.9993,   144.5238,       5851,  1250.8,2,   3.0897,2,  34.3990,2,  34.3994,2,     39.4,2,    39.4,2,  137.48,2,   42.52,2,    0.00,2,    2.98,2,   0.177,2,   0.099,2,   0.0000,2,  2363.0,2,  2374.9,2,   7.3489,2,    25.08,2, -999.00,9,  -999.0,9, -999.00,9, -999.00,9,       47.0,2, 20220510,     2041,  29.9993, 144.5238,     3.0908,2,     -999.0,9,     -999.0,9,     -999.0,9,     -999.0,9,     0.0134,1,     4.7056,1,     -999.0,9,     -999.0,9,     -999.0,9
33RR20220430,        P02,      25,          1,         17,         17,2,20220510,       1906,    29.9993,   144.5238,       5851,  1352.9,2,   2.9015,2,  34.4358,2,  34.4367,2,     41.4,3,    43.1,2,  142.46,2,   42.72,2,    0.00,2,    2.99,2,   0.113,2,   0.065,2,   0.0000,2,  2366.6,2,  2382.2,2,   7.3580,2,    25.00,2, -999.00,9,  -999.0,9, -999.00,1, -999.00,1,       46.7,2, 20220510,     2039,  29.9993, 144.5238,     2.9004,2,     -999.0,9,     -999.0,9,     -999.0,9,     -999.0,9,     0.0134,1,     4.7064,1,     -999.0,9,     -999.0,9,     -999.0,9
33RR20220430,        P02,      25,          1,         16,         16,2,20220510,       1906,    29.9993,   144.5238,       5851,  1485.4,2,   2.6193,2,  34.4872,2,  34.4866,2,     47.6,3,    47.1,2,  149.20,2,   42.73,2,    0.00,2,    2.97,2,-999.000,9,-999.000,9,-999.0000,9,  2372.4,2,  2392.4,2,   7.3724,2,    24.99,2, -999.00,9,  -999.0,9, -999.00,9, -999.00,9,     -999.0,9, 20220510,     2035,  29.9993, 144.5238,     2.6179,2,     -999.0,9,     -999.0,9,     -999.0,9,     -999.0,9,     0.0134,1,     4.7070,1,     -999.0,9,     -999.0,9,     -999.0,9
33RR20220430,        P02,      25,          1,         15,         15,2,20220510,       1906,    29.9993,   144.5238,       5851,  1686.6,2,   2.3149,2,  34.5393,2,  34.5396,2,     61.2,2,    61.6,2,  154.66,2,   41.93,2,    0.00,2,    2.90,2,   0.028,2,   0.012,2,   0.0000,2,  2370.4,2,  2401.3,2,   7.4013,2,    25.03,2, -999.00,9,  -999.0,9, -999.00,1, -999.00,1,       40.1,2, 20220510,     2031,  29.9993, 144.5238,     2.3167,2,     -999.0,9,     -999.0,9,     -999.0,9,     -999.0,9,     0.0134,1,     4.7080,1,     -999.0,9,     -999.0,9,     -999.0,9
33RR20220430,        P02,      25,          1,         14,         14,2,20220510,       1906,    29.9993,   144.5238,       5851,  1889.7,2,   2.0946,2,  34.5751,2,  34.5759,2,     74.4,2,    74.1,2,  157.69,2,   41.07,2,    0.00,2,    2.84,2,-999.000,9,-999.000,9,-999.0000,9,  2367.5,2,  2407.0,2,   7.4279,2,    25.01,2, -999.00,9,  -999.0,9, -999.00,9, -999.00,9,     -999.0,9, 20220510,     2027,  29.9993, 144.5238,     2.0955,2,     -999.0,9,     -999.0,9,     -999.0,9,     -999.0,9,     0.0134,1,     4.7085,1,     -999.0,9,     -999.0,9,     -999.0,9
33RR20220430,        P02,      25,          1,         13,         13,2,20220510,       1906,    29.9993,   144.5238,       5851,  2114.7,2,   1.9237,2,  34.6029,2,  34.6020,2,     87.7,2,    87.1,2,  159.25,2,   40.51,2,    0.00,2,    2.80,2,   0.010,2,   0.006,2,   0.0000,2,  2366.0,2,  2409.8,2,   7.4525,2,    24.97,2, -999.00,9,  -999.0,9, -999.00,1, -999.00,1,       33.9,2, 20220510,     2022,  29.9993, 144.5238,     1.9251,2,     -999.0,9,     -999.0,9,     -999.0,9,     -999.0,9,     0.0130,1,     4.7092,1,     -999.0,9,     -999.0,9,     -999.0,9
33RR20220430,        P02,      25,          1,         12,         12,2,20220510,       1906,    29.9993,   144.5238,       5851,  2367.8,2,   1.7682,2,  34.6281,2,  34.6282,2,    102.8,2,   102.6,2,  158.36,2,   39.37,2,    0.00,2,    2.72,2,-999.000,9,-999.000,9,-999.0000,9,  2357.8,2,  2414.3,2,   7.4834,2,    25.09,2, -999.00,9,  -999.0,9, -999.00,9, -999.00,9,     -999.0,9, 20220510,     2017,  29.9993, 144.5238,     1.7683,2,     -999.0,9,     -999.0,9,     -999.0,9,     -999.0,9,     0.0122,1,     4.7093,1,     -999.0,9,     -999.0,9,     -999.0,9
33RR20220430,        P02,      25,          1,         11,         11,2,20220510,       1906,    29.9993,   144.5238,       5851,  2622.0,2,   1.6873,2,  34.6427,2,  34.6421,2,    114.9,3,   116.2,2,  156.21,2,   38.52,2,    0.00,2,    2.65,2,   0.007,2,   0.000,2,   0.0000,2,  2350.1,2,  2416.0,2,   7.5064,2,    24.94,2, -999.00,9,  -999.0,9, -999.00,1, -999.00,1,       29.8,2, 20220510,     2011,  29.9993, 144.5238,     1.6874,2,     -999.0,9,     -999.0,9,     -999.0,9,     -999.0,9,     0.0128,1,     4.7105,1,     -999.0,9,     -999.0,9,     -999.0,9
33RR20220430,        P02,      25,          1,         10,         10,2,20220510,       1906,    29.9993,   144.5238,       5851,  2877.9,2,   1.6179,2,  34.6544,2,  34.6547,2,    124.5,2,   124.5,2,  154.45,2,   37.86,2,    0.00,2,    2.61,2,-999.000,9,-999.000,9,-999.0000,9,  2343.1,2,  2417.8,2,   7.5256,2,    25.03,2, -999.00,9,  -999.0,9, -999.00,9, -999.00,9,     -999.0,9, 20220510,     2006,  29.9993, 144.5238,     1.6180,2,     -999.0,9,     -999.0,9,     -999.0,9,     -999.0,9,     0.0124,1,     4.7100,1,     -999.0,9,     -999.0,9,     -999.0,9
33RR20220430,        P02,      25,          1,          9,          9,2,20220510,       1906,    29.9993,   144.5238,       5851,  3147.4,2,   1.5625,2,  34.6634,2,  34.6641,2,    132.3,2,   132.7,2,  153.28,2,   37.53,2,    0.00,2,    2.58,2,   0.006,2,   0.000,2,   0.0000,2,  2337.1,2,  2416.6,2,   7.5382,2,    25.00,2, -999.00,9,  -999.0,9, -999.00,1, -999.00,1,       26.3,2, 20220510,     2000,  29.9993, 144.5238,     1.5625,2,     -999.0,9,     -999.0,9,     -999.0,9,     -999.0,9,     0.0122,1,     4.7101,1,     -999.0,9,     -999.0,9,     -999.0,9
33RR20220430,        P02,      25,          1,          8,          8,2,20220510,       1906,    29.9993,   144.5238,       5851,  3454.1,2,   1.5255,2,  34.6707,2,  34.6710,2,    138.8,2,   138.6,2,  152.40,2,   37.11,2,    0.00,2,    2.55,2,-999.000,9,-999.000,9,-999.0000,9,  2332.4,2,  2416.9,2,   7.5502,2,    25.06,2, -999.00,9,  -999.0,9, -999.00,9, -999.00,9,     -999.0,9, 20220510,     1954,  29.9993, 144.5238,     1.5256,2,     -999.0,9,     -999.0,9,     -999.0,9,     -999.0,9,     0.0122,1,     4.7101,1,     -999.0,9,     -999.0,9,     -999.0,9
33RR20220430,        P02,      25,          1,          7,          7,2,20220510,       1906,    29.9993,   144.5238,       5851,  3761.3,2,   1.5000,2,  34.6762,2,  34.6765,2,    144.6,2,   144.4,2,  151.32,2,   36.77,2,    0.00,2,    2.51,2,   0.005,2,   0.000,2,   0.0000,2,  2330.0,2,  2416.9,2,   7.5601,2,    25.01,2, -999.00,9,  -999.0,9, -999.00,1, -999.00,1,       24.7,2, 20220510,     1948,  29.9993, 144.5238,     1.4999,2,     -999.0,9,     -999.0,9,     -999.0,9,     -999.0,9,     0.0122,1,     4.7094,1,     -999.0,9,     -999.0,9,     -999.0,9
33RR20220430,        P02,      25,          1,          6,          6,2,20220510,       1906,    29.9993,   144.5238,       5851,  4067.9,2,   1.4828,2,  34.6811,2,  34.6822,2,    150.4,2,   150.1,2,  149.66,2,   36.45,2,    0.00,2,    2.49,2,-999.000,9,-999.000,9,-999.0000,9,  2325.9,2,  2413.6,2,   7.5688,2,    25.00,2, -999.00,9,  -999.0,9, -999.00,9, -999.00,9,     -999.0,9, 20220510,     1942,  29.9993, 144.5238,     1.4827,2,     -999.0,9,     -999.0,9,     -999.0,9,     -999.0,9,     0.0122,1,     4.7086,1,     -999.0,9,     -999.0,9,     -999.0,9
33RR20220430,        P02,      25,          1,          5,          5,2,20220510,       1906,    29.9993,   144.5238,       5851,  4376.7,2,   1.4810,2,  34.6845,2,  34.6844,2,    154.7,2,   154.5,2,  148.49,2,   36.17,2,    0.00,2,    2.46,2,   0.006,2,   0.000,2,   0.0000,2,  2320.7,2,  2414.1,2,   7.5756,2,    24.98,2, -999.00,9,  -999.0,9, -999.00,1, -999.00,1,       23.6,2, 20220510,     1936,  29.9993, 144.5238,     1.4809,2,     -999.0,9,     -999.0,9,     -999.0,9,     -999.0,9,     0.0122,1,     4.7085,1,     -999.0,9,     -999.0,9,     -999.0,9
33RR20220430,        P02,      25,          1,          4,          4,2,20220510,       1906,    29.9993,   144.5238,       5851,  4719.7,2,   1.4914,2,  34.6875,2,  34.6875,2,    158.8,2,   158.9,2,  146.54,2,   35.79,2,    0.00,2,    2.45,2,-999.000,9,-999.000,9,-999.0000,9,  2318.7,2,  2415.7,2,   7.5820,2,    24.99,2, -999.00,9,  -999.0,9, -999.00,1, -999.00,1,     -999.0,9, 20220510,     1930,  29.9993, 144.5238,     1.4914,2,     -999.0,9,     -999.0,9,     -999.0,9,     -999.0,9,     0.0122,1,     4.7093,1,     -999.0,9,     -999.0,9,     -999.0,9