BOTTLE,20230801CCHSIOCBG
EXPOCODE,SECT_ID,STNNBR,CASTNO,SAMPNO,BTLNBR,BTLNBR_FLAG_W,DATE,TIME,LATITUDE,LONGITUDE,DEPTH,CTDPRS,CTDPRS_FLAG_W,CTDTMP,CTDTMP_FLAG_W,CTDSAL,CTDSAL_FLAG_W,SALNTY,SALNTY_FLAG_W,CTDOXY,CTDOXY_FLAG_W,OXYGEN,OXYGEN_FLAG_W,SILCAT,SILCAT_FLAG_W,NITRAT,NITRAT_FLAG_W,NITRIT,NITRIT_FLAG_W,PHSPHT,PHSPHT_FLAG_W,CFC-11,CFC-11_FLAG_W,CFC-12,CFC-12_FLAG_W,SF6,SF6_FLAG_W,TCARBN,TCARBN_FLAG_W,ALKALI,ALKALI_FLAG_W,PH_TOT,PH_TOT_FLAG_W,PH_TMP,PH_TMP_FLAG_W,DELC13,DELC13_FLAG_W,DELC14,DELC14_FLAG_W,DOC,DOC_FLAG_W,TDN,TDN_FLAG_W,N2O,N2O_FLAG_W,BTL_DATE,BTL_TIME,BTL_LAT,BTL_LON,REFTMP,REFTMP_FLAG_W,POC,POC_FLAG_W,PON,PON_FLAG_W,POP,POP_FLAG_W,PCOD,PCOD_FLAG_W,CTDFLUOR,CTDFLUOR_FLAG_W,CTDXMISS,CTDXMISS_FLAG_W,HPLC,HPLC_FLAG_W,DNA,DNA_FLAG_W,FCM,FCM_FLAG_W
,,,,,,,,,,,METERS,DBAR,,ITS-90,,PSS-78,,PSS-78,,UMOL/KG,,UMOL/KG,,UMOL/KG,,UMOL/KG,,UMOL/KG,,UMOL/KG,,PMOL/KG,,PMOL/KG,,FMOL/KG,,UMOL/KG,,UMOL/KG,,,,DEG C,,/MILLE,,/MILLE,,UMOL/KG,,UMOL/KG,,NMOL/KG,,,,,,ITS-90,,UG/L,,UG/L,,UG/L,,UG/L,,VOLTS,,VOLTS,,,,,,,
33RR20220430,        P02,      53,          2,         36,         36,2,20220520,       0513,    29.9986,   162.7964,       6015,     4.3,2,  22.2267,2,  34.8581,2,  34.8444,2,    226.8,2,   226.8,2,    0.88,2,    0.01,2,    0.00,2,    0.00,2,   1.916,2,   1.187,2,   2.0863,2,  2021.9,2,  2286.8,2,   7.9901,2,    24.97,2, -999.00,9,  -999.0,9, -999.00,1, -999.00,1,        6.3,2, 20220520,      736,  29.9986, 162.7964,    22.1599,2,     -999.0,9,     -999.0,9,     -999.0,9,     -999.0,9,     0.0140,1,     4.6145,1,     -999.0,9,     -999.0,9,     -999.0,9
33RR20220430,        P02,      53,          2,         35,         35,2,20220520,       0513,    29.9986,   162.7964,       6015,    26.3,2,  19.2128,2,  34.7947,2,  34.7836,2,    240.6,2,   240.6,2,    0.98,2,    0.01,2,    0.00,2,    0.02,2,   2.105,2,   1.282,2,   2.1605,2,  2018.6,2,  2281.8,2,   7.9904,2,    24.99,2, -999.00,9,  -999.0,9, -999.00,1, -999.00,1,        7.0,2, 20220520,      733,  29.9986, 162.7965,    19.2110,2,     -999.0,9,     -999.0,9,     -999.0,9,     -999.0,9,     0.0159,1,     4.6110,1,     -999.0,9,     -999.0,9,     -999.0,9
33RR20220430,        P02,      53,          2,         34,         34,2,20220520,       0513,    29.9986,   162.7964,       6015,    40.4,2,  18.2720,2,  34.7581,2,  34.7535,2,    244.1,2,   244.3,2,    1.37,2,    0.00,2,    0.00,2,    0.02,2,   2.142,2,   1.325,2,   2.2427,2,  2017.6,2,  2282.0,2,   7.9907,2,    25.00,2, -999.00,9,  -999.0,9, -999.00,1, -999.00,1,        7.4,2, 20220520,      731,  29.9986, 162.7964,    18.2708,2,     -999.0,9,     -999.0,9,     -999.0,9,     -999.0,9,     0.0176,1,     4.6021,1,     -999.0,9,     -999.0,9,     -999.0,9
33RR20220430,        P02,      53,          2,         33,         33,2,20220520,       0513,    29.9986,   162.7964,       6015,    66.2,2,  17.5968,2,  34.7466,2,  34.7416,2,    217.9,2,   218.9,2,    2.15,2,    2.28,2,    0.06,2,    0.18,2,   2.115,2,   1.332,2,   2.1299,2,  2035.7,2,  2280.1,2,   7.9508,2,    24.99,2, -999.00,9,  -999.0,9, -999.00,1, -999.00,1,        8.4,2, 20220520,      730,  29.9986, 162.7965,    17.5955,2,     -999.0,9,     -999.0,9,     -999.0,9,     -999.0,9,     0.0574,1,     4.5636,1,     -999.0,9,     -999.0,9,     -999.0,9
33RR20220430,        P02,      53,          2,         32,         32,2,20220520,       0513,    29.9986,   162.7964,       6015,    91.1,2,  17.2358,2,  34.7318,2,  34.7270,2,    218.3,2,   218.1,2,    2.54,2,    3.16,2,    0.03,2,    0.23,2,   2.120,2,   1.337,2,   2.1982,2,  2038.5,2,  2278.8,2,   7.9441,2,    24.98,2, -999.00,9,  -999.0,9, -999.00,1, -999.00,1,        8.3,2, 20220520,      728,  29.9986, 162.7965,    17.2314,2,     -999.0,9,     -999.0,9,     -999.0,9,     -999.0,9,     0.0201,1,     4.6672,1,     -999.0,9,     -999.0,9,     -999.0,9
33RR20220430,        P02,      53,          2,         31,         31,2,20220520,       0513,    29.9986,   162.7964,       6015,   136.9,2,  16.7745,2,  34.7048,2,  34.7001,2,    222.5,2,   221.8,2,    3.22,2,    3.45,2,    0.00,2,    0.26,2,   2.177,2,   1.376,2,   2.2402,2,  2040.3,2,  2277.1,2,   7.9364,2,    24.99,2, -999.00,9,  -999.0,9, -999.00,1, -999.00,1,        8.5,2, 20220520,      726,  29.9986, 162.7964,    16.7740,2,     -999.0,9,     -999.0,9,     -999.0,9,     -999.0,9,     0.0147,1,     4.6800,1,     -999.0,9,     -999.0,9,     -999.0,9
33RR20220430,        P02,      53,          2,         30,         30,2,20220520,       0513,    29.9986,   162.7964,       6015,   187.7,2,  16.2714,2,  34.6716,2,  34.6675,2,    221.5,2,   221.4,2,    4.00,2,    4.22,2,    0.00,2,    0.32,2,   2.242,2,   1.379,2,   2.2382,2,  2050.1,2,  2274.9,2,   7.9246,2,    25.00,2, -999.00,9,  -999.0,9, -999.00,1, -999.00,1,        8.8,2, 20220520,      724,  29.9986, 162.7965,    16.2704,2,     -999.0,9,     -999.0,9,     -999.0,9,     -999.0,9,     0.0122,1,     4.6835,1,     -999.0,9,     -999.0,9,     -999.0,9
33RR20220430,        P02,      53,          2,         29,         29,2,20220520,       0513,    29.9986,   162.7964,       6015,   236.6,2,  15.6656,2,  34.6300,2,  34.6260,2,    202.8,2,   202.4,2,    6.54,2,    7.08,2,    0.00,2,    0.51,2,   2.296,2,   1.421,2,   2.0936,2,  2066.1,2,  2278.2,2,   7.8829,2,    24.99,2, -999.00,9,  -999.0,9, -999.00,1, -999.00,1,       10.5,2, 20220520,      722,  29.9986, 162.7965,    15.6638,2,     -999.0,9,     -999.0,9,     -999.0,9,     -999.0,9,     0.0122,1,     4.6881,1,     -999.0,9,     -999.0,9,     -999.0,9
33RR20220430,        P02,      53,          2,         28,         28,2,20220520,       0513,    29.9986,   162.7964,       6015,   287.5,2,  15.3277,2,  34.6121,2,  34.6097,2,    213.5,2,   213.6,2,    6.35,2,    6.46,2,    0.00,2,    0.48,2,   2.345,2,   1.425,2,   2.2128,2,  2060.1,2,  2275.2,2,   7.8906,2,    25.00,2, -999.00,9,  -999.0,9, -999.00,1, -999.00,1,       10.2,2, 20220520,      720,  29.9986, 162.7965,    15.3313,2,     -999.0,9,     -999.0,9,     -999.0,9,     -999.0,9,     0.0120,1,     4.6873,1,     -999.0,9,     -999.0,9,     -999.0,9
33RR20220430,        P02,      53,          2,         27,         27,2,20220520,       0513,    29.9986,   162.7964,       6015,   338.2,2,  14.2582,2,  34.5135,2,  34.5127,2,    196.6,2,   196.7,2,   10.06,2,    9.73,2,    0.00,2,    0.69,2,   2.408,2,   1.483,2,   1.9633,2,  2086.7,6,  2270.7,2,   7.8373,2,    25.00,2, -999.00,9,  -999.0,9, -999.00,1, -999.00,1,       12.5,2, 20220520,      718,  29.9986, 162.7964,    14.2649,2,     -999.0,9,     -999.0,9,     -999.0,9,     -999.0,9,     0.0122,1,     4.6928,1,     -999.0,9,     -999.0,9,     -999.0,9
33RR20220430,        P02,      53,          2,         26,         26,2,20220520,       0513,    29.9986,   162.7964,       6015,   386.8,2,  13.2913,2,  34.4398,2,  34.4381,2,    206.2,2,   206.7,2,   12.11,2,   10.41,2,    0.00,2,    0.75,2,   2.497,2,   1.526,2,   2.0482,2,  -999.0,9,  -999.0,9,-999.0000,9,  -999.00,9, -999.00,9,  -999.0,9, -999.00,1, -999.00,1,       12.9,2, 20220520,      715,  29.9986, 162.7965,    13.2794,2,     -999.0,9,     -999.0,9,     -999.0,9,     -999.0,9,     0.0122,1,     4.6918,1,     -999.0,9,     -999.0,9,     -999.0,9
33RR20220430,        P02,      53,          2,         25,         25,2,20220520,       0513,    29.9986,   162.7964,       6015,   468.9,2,  11.2319,2,  34.2777,2,  34.2774,2,    202.3,2,   203.2,2,   18.95,2,   14.18,2,    0.00,2,    1.02,2,   2.629,2,   1.600,2,   1.9484,2,  2115.2,2,  2270.3,2,   7.7639,2,    25.00,2, -999.00,9,  -999.0,9, -999.00,1, -999.00,1,       15.0,2, 20220520,      713,  29.9986, 162.7964,    11.2335,2,     -999.0,9,     -999.0,9,     -999.0,9,     -999.0,9,     0.0122,1,     4.6927,1,     -999.0,9,     -999.0,9,     -999.0,9
33RR20220430,        P02,      53,          2,         24,         24,2,20220520,       0513,    29.9986,   162.7964,       6015,   568.8,2,   8.3023,2,  34.0447,2,  34.0458,2,    191.6,2,   191.5,2,   32.93,2,   20.50,2,    0.00,2,    1.49,2,   2.804,2,   1.658,2,   1.8895,2,  2160.0,2,  2271.5,2,   7.6606,2,    24.98,2, -999.00,9,  -999.0,9, -999.00,9, -999.00,9,       19.3,2, 20220520,      710,  29.9986, 162.7964,     8.3385,2,     -999.0,9,     -999.0,9,     -999.0,9,     -999.0,9,     0.0122,1,     4.6995,1,     -999.0,9,     -999.0,9,     -999.0,9
33RR20220430,        P02,      53,          2,         23,         23,2,20220520,       0513,    29.9986,   162.7964,       6015,   673.1,2,   5.8741,2,  33.9578,2,  33.9590,2,    139.8,2,   139.9,2,   60.19,2,   29.89,2,    0.00,2,    2.19,2,   2.370,2,   1.399,2,   1.3324,2,  2226.5,2,  2288.0,2,   7.5063,2,    24.99,2, -999.00,9,  -999.0,9, -999.00,1, -999.00,1,       28.7,2, 20220520,      707,  29.9986, 162.7965,     5.8643,2,     -999.0,9,     -999.0,9,     -999.0,9,     -999.0,9,     0.0130,1,     4.7010,1,     -999.0,9,     -999.0,9,     -999.0,9
33RR20220430,        P02,      53,          2,         22,         22,2,20220520,       0513,    29.9986,   162.7964,       6015,   772.3,2,   4.9223,2,  34.0741,2,  34.0805,2,     80.7,2,    80.4,2,   85.30,2,   36.88,2,    0.00,2,    2.65,2,   1.469,2,   0.851,2,   0.5715,2,  2284.9,2,  2309.9,2,   7.3986,2,    24.98,2, -999.00,9,  -999.0,9, -999.00,9, -999.00,9,       38.0,2, 20220520,      704,  29.9986, 162.7964,     4.9026,2,     -999.0,9,     -999.0,9,     -999.0,9,     -999.0,9,     0.0133,1,     4.7019,1,     -999.0,9,     -999.0,9,     -999.0,9
33RR20220430,        P02,      53,          2,         21,         21,2,20220520,       0513,    29.9986,   162.7964,       6015,   873.8,2,   4.2892,2,  34.1657,2,  34.1693,2,     55.4,2,    55.1,2,  102.20,2,   39.74,2,    0.00,2,    2.85,2,   0.939,2,   0.533,2,   0.2912,2,  2318.6,6,  2328.1,2,   7.3578,2,    25.01,2, -999.00,9,  -999.0,9, -999.00,1, -999.00,1,       43.3,2, 20220520,      701,  29.9986, 162.7965,     4.2902,2,     -999.0,9,     -999.0,9,     -999.0,9,     -999.0,9,     0.0134,1,     4.7011,1,     -999.0,9,     -999.0,9,     -999.0,9
33RR20220430,        P02,      53,          2,         20,         20,2,20220520,       0513,    29.9986,   162.7964,       6015,   973.9,2,   3.7915,2,  34.2560,2,  34.2564,2,     39.7,3,    40.6,2,  116.35,2,   41.51,2,    0.00,2,    2.99,2,   0.517,2,   0.297,2,   0.1379,2,  -999.0,9,  -999.0,9,-999.0000,9,  -999.00,9, -999.00,9,  -999.0,9, -999.00,9, -999.00,9,       46.3,2, 20220520,      658,  29.9986, 162.7965,     3.7920,2,     -999.0,9,     -999.0,9,     -999.0,9,     -999.0,9,     0.0134,1,     4.7020,1,     -999.0,9,     -999.0,9,     -999.0,9
33RR20220430,        P02,      53,          2,         19,         19,4,20220520,       0513,    29.9986,   162.7964,       6015,  1075.1,3,   3.4339,3,  34.3242,3,  34.1954,3,     33.0,3,    49.8,3,  105.99,3,   40.30,3,    0.00,3,    2.91,3,-999.000,5,-999.000,5,-999.0000,5,  2324.8,3,  2333.0,3,   7.3489,3,    25.00,3, -999.00,9,  -999.0,9, -999.00,1, -999.00,1,     -999.0,5, 20220520,      656,  29.9986, 162.7964,     3.4336,3,     -999.0,9,     -999.0,9,     -999.0,9,     -999.0,9,     0.0134,1,     4.7022,1,     -999.0,9,     -999.0,9,     -999.0,9
33RR20220430,        P02,      53,          2,         18,         18,2,20220520,       0513,    29.9986,   162.7964,       6015,  1177.1,2,   3.1649,2,  34.3677,3,  34.3733,2,     32.0,2,    32.1,2,  136.47,2,   42.72,2,    0.00,2,    3.07,2,   0.200,6,   0.113,6,   0.0000,6,  2365.4,2,  2370.3,2,   7.3324,2,    24.99,2, -999.00,9,  -999.0,9, -999.00,9, -999.00,9,       47.7,6, 20220520,      653,  29.9986, 162.7965,     3.1627,2,     -999.0,9,     -999.0,9,     -999.0,9,     -999.0,9,     0.0134,1,     4.7015,1,     -999.0,9,     -999.0,9,     -999.0,9
33RR20220430,        P02,      53,          2,         17,         17,2,20220520,       0513,    29.9986,   162.7964,       6015,  1278.6,2,   2.9016,2,  34.4178,2,  34.4212,2,     32.5,2,    32.4,2,  143.89,2,   42.91,2,    0.00,2,    3.10,2,   0.119,2,   0.070,2,   0.0000,2,  2372.6,2,  2377.1,2,   7.3378,2,    24.99,2, -999.00,9,  -999.0,9, -999.00,1, -999.00,1,       46.5,2, 20220520,      650,  29.9986, 162.7964,     2.9000,2,     -999.0,9,     -999.0,9,     -999.0,9,     -999.0,9,     0.0134,1,     4.7020,1,     -999.0,9,     -999.0,9,     -999.0,9
33RR20220430,        P02,      53,          2,         16,         16,2,20220520,       0513,    29.9986,   162.7964,       6015,  1379.6,2,   2.6764,2,  34.4566,2,  34.4593,2,     34.6,3,    35.0,2,  150.04,2,   42.97,2,    0.00,2,    3.10,2,   0.076,2,   0.044,2,   0.0000,2,  2380.0,2,  2386.3,2,   7.3458,2,    25.00,2, -999.00,9,  -999.0,9, -999.00,9, -999.00,9,       45.0,2, 20220520,      647,  29.9986, 162.7965,     2.6778,2,     -999.0,9,     -999.0,9,     -999.0,9,     -999.0,9,     0.0134,1,     4.7013,1,     -999.0,9,     -999.0,9,     -999.0,9
33RR20220430,        P02,      53,          2,         15,         15,2,20220520,       0513,    29.9986,   162.7964,       6015,  1553.0,2,   2.4410,2,  34.5134,2,  34.5162,2,     44.9,2,    44.7,2,  155.30,2,   42.58,2,    0.00,2,    3.06,2,   0.027,2,   0.016,2,   0.0000,2,  2379.4,2,  2395.8,2,   7.3703,2,    24.98,2, -999.00,9,  -999.0,9, -999.00,1, -999.00,1,       41.5,2, 20220520,      643,  29.9986, 162.7965,     2.4409,2,     -999.0,9,     -999.0,9,     -999.0,9,     -999.0,9,     0.0134,1,     4.7047,1,     -999.0,9,     -999.0,9,     -999.0,9
33RR20220430,        P02,      53,          2,         14,         14,2,20220520,       0513,    29.9986,   162.7964,       6015,  1754.2,2,   2.1494,2,  34.5583,2,  34.5610,2,     57.1,2,    57.0,2,  161.45,2,   41.95,2,    0.00,2,    2.99,2,   0.014,2,   0.000,2,   0.0000,2,  2376.4,2,  2404.0,2,   7.3951,2,    25.00,2, -999.00,9,  -999.0,9, -999.00,9, -999.00,9,       37.7,2, 20220520,      638,  29.9986, 162.7965,     2.1512,2,     -999.0,9,     -999.0,9,     -999.0,9,     -999.0,9,     0.0132,1,     4.7046,1,     -999.0,9,     -999.0,9,     -999.0,9
33RR20220430,        P02,      53,          2,         13,         13,2,20220520,       0513,    29.9986,   162.7964,       6015,  1957.4,2,   2.0017,2,  34.5894,2,  34.5916,2,     74.6,2,    74.4,2,  160.86,2,   40.87,2,    0.00,2,    2.89,2,   0.007,2,   0.000,2,   0.0000,2,  2369.6,2,  2408.3,2,   7.4311,2,    24.99,2, -999.00,9,  -999.0,9, -999.00,1, -999.00,1,       33.5,2, 20220520,      633,  29.9986, 162.7965,     2.0011,2,     -999.0,9,     -999.0,9,     -999.0,9,     -999.0,9,     0.0129,1,     4.7059,1,     -999.0,9,     -999.0,9,     -999.0,9
33RR20220430,        P02,      53,          2,         12,         12,2,20220520,       0513,    29.9986,   162.7964,       6015,  2193.4,2,   1.8387,2,  34.6184,2,  34.6197,2,     95.0,2,    94.9,2,  158.12,2,   39.54,2,    0.00,2,    2.80,2,   0.004,2,   0.000,2,   0.0000,2,  2357.9,2,  2410.1,2,   7.4714,2,    24.98,2, -999.00,9,  -999.0,9, -999.00,9, -999.00,9,       29.4,2, 20220520,      628,  29.9986, 162.7965,     1.8389,2,     -999.0,9,     -999.0,9,     -999.0,9,     -999.0,9,     0.0134,1,     4.7077,1,     -999.0,9,     -999.0,9,     -999.0,9
33RR20220430,        P02,      53,          2,         11,         11,2,20220520,       0513,    29.9986,   162.7964,       6015,  2446.9,2,   1.7265,2,  34.6364,2,  34.6384,2,    108.4,2,   108.6,2,  156.76,2,   38.66,2,    0.00,2,    2.71,2,   0.004,2,   0.000,2,   0.0000,2,  2351.9,6,  2412.7,2,   7.4974,2,    25.00,2, -999.00,9,  -999.0,9, -999.00,1, -999.00,1,       27.2,2, 20220520,      623,  29.9986, 162.7965,     1.7264,2,     -999.0,9,     -999.0,9,     -999.0,9,     -999.0,9,     0.0122,1,     4.7080,1,     -999.0,9,     -999.0,9,     -999.0,9
33RR20220430,        P02,      53,          2,         10,         10,2,20220520,       0513,    29.9986,   162.7964,       6015,  2701.2,2,   1.6395,2,  34.6495,3,  34.6519,2,    118.7,2,   119.0,2,  155.97,2,   38.04,2,    0.00,2,    2.67,2,   0.004,2,   0.000,2,   0.0000,2,  -999.0,9,  -999.0,9,-999.0000,9,  -999.00,9, -999.00,9,  -999.0,9, -999.00,9, -999.00,9,       25.5,2, 20220520,      617,  29.9986, 162.7964,     1.6393,2,     -999.0,9,     -999.0,9,     -999.0,9,     -999.0,9,     0.0128,1,     4.7080,1,     -999.0,9,     -999.0,9,     -999.0,9
33RR20220430,        P02,      53,          2,          9,          9,2,20220520,       0513,    29.9986,   162.7964,       6015,  2956.9,2,   1.5787,2,  34.6598,2,  34.6608,2,    128.2,2,   128.5,2,  154.21,2,   37.46,2,    0.00,2,    2.61,2,   0.004,2,   0.000,2,   0.0000,2,  2339.8,2,  2414.5,2,   7.5335,2,    25.00,2, -999.00,9,  -999.0,9, -999.00,1, -999.00,1,       24.2,2, 20220520,      612,  29.9986, 162.7965,     1.5787,2,     -999.0,9,     -999.0,9,     -999.0,9,     -999.0,9,     0.0122,1,     4.7090,1,     -999.0,9,     -999.0,9,     -999.0,9
33RR20220430,        P02,      53,          2,          8,          8,2,20220520,       0513,    29.9986,   162.7964,       6015,  3246.6,2,   1.5322,2,  34.6678,2,  34.6690,2,    135.9,2,   135.8,2,  152.65,2,   36.97,2,    0.00,2,    2.55,2,   0.004,2,   0.000,2,   0.0000,2,  2335.4,2,  2416.6,2,   7.5461,2,    25.01,2, -999.00,9,  -999.0,9, -999.00,9, -999.00,9,       23.4,2, 20220520,      606,  29.9986, 162.7964,     1.5321,2,     -999.0,9,     -999.0,9,     -999.0,9,     -999.0,9,     0.0126,1,     4.7088,1,     -999.0,9,     -999.0,9,     -999.0,9
33RR20220430,        P02,      53,          2,          7,          7,2,20220520,       0513,    29.9986,   162.7964,       6015,  3559.4,2,   1.5006,2,  34.6743,2,  34.6753,2,    142.8,2,   142.9,2,  149.91,2,   36.47,2,    0.00,2,    2.53,2,   0.005,2,   0.000,2,   0.0000,2,  2328.2,2,  2413.5,2,   7.5587,2,    25.00,2, -999.00,9,  -999.0,9, -999.00,1, -999.00,1,       22.5,2, 20220520,      600,  29.9986, 162.7964,     1.5005,2,     -999.0,9,     -999.0,9,     -999.0,9,     -999.0,9,     0.0122,1,     4.7092,1,     -999.0,9,     -999.0,9,     -999.0,9
33RR20220430,        P02,      53,          2,          6,          6,2,20220520,       0513,    29.9986,   162.7964,       6015,  3866.0,2,   1.4831,2,  34.6790,2,  34.6798,2,    148.6,2,   148.7,2,  147.96,2,   36.13,2,    0.00,2,    2.50,2,-999.000,9,-999.000,9,-999.0000,9,  2322.8,2,  2412.5,2,   7.5678,2,    24.99,2, -999.00,9,  -999.0,9, -999.00,1, -999.00,1,     -999.0,9, 20220520,      554,  29.9986, 162.7965,     1.4828,2,     -999.0,9,     -999.0,9,     -999.0,9,     -999.0,9,     0.0127,1,     4.7092,1,     -999.0,9,     -999.0,9,     -999.0,9
33RR20220430,        P02,      53,          2,          5,          5,2,20220520,       0513,    29.9986,   162.7964,       6015,  4276.6,2,   1.4737,2,  34.6840,2,  34.6859,2,    155.2,2,   155.2,2,  146.10,2,   35.69,2,    0.00,2,    2.46,2,   0.004,2,   0.000,2,   0.0000,2,  2318.2,2,  2412.2,2,   7.5773,2,    25.00,2, -999.00,9,  -999.0,9, -999.00,1, -999.00,1,       21.4,2, 20220520,      546,  29.9986, 162.7965,     1.4734,2,     -999.0,9,     -999.0,9,     -999.0,9,     -999.0,9,     0.0122,1,     4.7093,1,     -999.0,9,     -999.0,9,     -999.0,9
33RR20220430,        P02,      53,          2,          4,          4,2,20220520,       0513,    29.9986,   162.7964,       6015,  4737.2,2,   1.4857,2,  34.6879,2,  34.6887,2,    161.1,2,   161.2,2,  142.69,2,   35.28,2,    0.00,2,    2.43,2,-999.000,9,-999.000,9,-999.0000,9,  2311.7,2,  2408.0,2,   7.5844,2,    24.99,2, -999.00,9,  -999.0,9, -999.00,9, -999.00,9,     -999.0,9, 20220520,      537,  29.9986, 162.7964,     1.4856,2,     -999.0,9,     -999.0,9,     -999.0,9,     -999.0,9,     0.0122,1,     4.7090,1,     -999.0,9,     -999.0,9,     -999.0,9