BOTTLE,20230801CCHSIOCBG
EXPOCODE,SECT_ID,STNNBR,CASTNO,SAMPNO,BTLNBR,BTLNBR_FLAG_W,DATE,TIME,LATITUDE,LONGITUDE,DEPTH,CTDPRS,CTDPRS_FLAG_W,CTDTMP,CTDTMP_FLAG_W,CTDSAL,CTDSAL_FLAG_W,SALNTY,SALNTY_FLAG_W,CTDOXY,CTDOXY_FLAG_W,OXYGEN,OXYGEN_FLAG_W,SILCAT,SILCAT_FLAG_W,NITRAT,NITRAT_FLAG_W,NITRIT,NITRIT_FLAG_W,PHSPHT,PHSPHT_FLAG_W,CFC-11,CFC-11_FLAG_W,CFC-12,CFC-12_FLAG_W,SF6,SF6_FLAG_W,TCARBN,TCARBN_FLAG_W,ALKALI,ALKALI_FLAG_W,PH_TOT,PH_TOT_FLAG_W,PH_TMP,PH_TMP_FLAG_W,DELC13,DELC13_FLAG_W,DELC14,DELC14_FLAG_W,DOC,DOC_FLAG_W,TDN,TDN_FLAG_W,N2O,N2O_FLAG_W,BTL_DATE,BTL_TIME,BTL_LAT,BTL_LON,REFTMP,REFTMP_FLAG_W,POC,POC_FLAG_W,PON,PON_FLAG_W,POP,POP_FLAG_W,PCOD,PCOD_FLAG_W,CTDFLUOR,CTDFLUOR_FLAG_W,CTDXMISS,CTDXMISS_FLAG_W,HPLC,HPLC_FLAG_W,DNA,DNA_FLAG_W,FCM,FCM_FLAG_W
,,,,,,,,,,,METERS,DBAR,,ITS-90,,PSS-78,,PSS-78,,UMOL/KG,,UMOL/KG,,UMOL/KG,,UMOL/KG,,UMOL/KG,,UMOL/KG,,PMOL/KG,,PMOL/KG,,FMOL/KG,,UMOL/KG,,UMOL/KG,,,,DEG C,,/MILLE,,/MILLE,,UMOL/KG,,UMOL/KG,,NMOL/KG,,,,,,ITS-90,,UG/L,,UG/L,,UG/L,,UG/L,,VOLTS,,VOLTS,,,,,,,
33RR20220430,        P02,     104,          2,          3,          3,2,20220604,       1122,    30.0001,  -168.7140,       5416,  4854.3,2,   1.5177,2,  34.6864,3,  34.6836,2,    154.2,2,   154.1,2,  153.70,2,   36.01,2,    0.00,2,    2.50,2,   0.005,2,   0.000,2,   0.0000,2,  2327.8,2,  2418.0,2,   7.5817,2,    25.00,2, -999.00,9,  -999.0,9, -999.00,9, -999.00,9,       21.7,2, 20220604,     1135,  30.0001,-168.7139,     1.5177,2,     -999.0,9,     -999.0,9,     -999.0,9,     -999.0,9,     0.0130,1,     4.7054,1,     -999.0,9,     -999.0,9,     -999.0,9
33RR20220430,        P02,     104,          2,          2,          2,2,20220604,       1122,    30.0001,  -168.7140,       5416,  5197.9,2,   1.5410,2,  34.6879,2,  34.6881,2,    158.5,2,   158.3,2,  148.82,2,   35.64,2,    0.00,2,    2.47,2,-999.000,9,-999.000,9,-999.0000,9,  2321.5,6,  2415.1,2,   7.5852,2,    25.00,2, -999.00,9,  -999.0,9, -999.00,9, -999.00,9,     -999.0,9, 20220604,     1128,  30.0001,-168.7140,     1.5410,2,     -999.0,9,     -999.0,9,     -999.0,9,     -999.0,9,     0.0122,1,     4.7047,1,     -999.0,9,     -999.0,9,     -999.0,9
33RR20220430,        P02,     104,          2,          1,          1,2,20220604,       1122,    30.0001,  -168.7140,       5416,  5513.8,2,   1.5654,2,  34.6893,3,  34.6869,2,    162.0,2,   162.1,2,  145.79,2,   35.36,2,    0.00,2,    2.46,2,   0.007,2,   0.000,2,   0.0000,2,  2316.2,2,  2411.9,2,   7.5886,2,    25.00,2, -999.00,9,  -999.0,9, -999.00,9, -999.00,9,       21.2,2, 20220604,     1122,  30.0001,-168.7139,     1.5655,2,     -999.0,9,     -999.0,9,     -999.0,9,     -999.0,9,     0.0122,1,     4.7028,1,     -999.0,9,     -999.0,9,     -999.0,9