BOTTLE,20230801CCHSIOCBG
EXPOCODE,SECT_ID,STNNBR,CASTNO,SAMPNO,BTLNBR,BTLNBR_FLAG_W,DATE,TIME,LATITUDE,LONGITUDE,DEPTH,CTDPRS,CTDPRS_FLAG_W,CTDTMP,CTDTMP_FLAG_W,CTDSAL,CTDSAL_FLAG_W,SALNTY,SALNTY_FLAG_W,CTDOXY,CTDOXY_FLAG_W,OXYGEN,OXYGEN_FLAG_W,SILCAT,SILCAT_FLAG_W,NITRAT,NITRAT_FLAG_W,NITRIT,NITRIT_FLAG_W,PHSPHT,PHSPHT_FLAG_W,CFC-11,CFC-11_FLAG_W,CFC-12,CFC-12_FLAG_W,SF6,SF6_FLAG_W,TCARBN,TCARBN_FLAG_W,ALKALI,ALKALI_FLAG_W,PH_TOT,PH_TOT_FLAG_W,PH_TMP,PH_TMP_FLAG_W,DELC13,DELC13_FLAG_W,DELC14,DELC14_FLAG_W,DOC,DOC_FLAG_W,TDN,TDN_FLAG_W,N2O,N2O_FLAG_W,BTL_DATE,BTL_TIME,BTL_LAT,BTL_LON,REFTMP,REFTMP_FLAG_W,POC,POC_FLAG_W,PON,PON_FLAG_W,POP,POP_FLAG_W,PCOD,PCOD_FLAG_W,CTDFLUOR,CTDFLUOR_FLAG_W,CTDXMISS,CTDXMISS_FLAG_W,HPLC,HPLC_FLAG_W,DNA,DNA_FLAG_W,FCM,FCM_FLAG_W
,,,,,,,,,,,METERS,DBAR,,ITS-90,,PSS-78,,PSS-78,,UMOL/KG,,UMOL/KG,,UMOL/KG,,UMOL/KG,,UMOL/KG,,UMOL/KG,,PMOL/KG,,PMOL/KG,,FMOL/KG,,UMOL/KG,,UMOL/KG,,,,DEG C,,/MILLE,,/MILLE,,UMOL/KG,,UMOL/KG,,NMOL/KG,,,,,,ITS-90,,UG/L,,UG/L,,UG/L,,UG/L,,VOLTS,,VOLTS,,,,,,,
33RR20220430,        P02,      71,          2,         36,         36,2,20220525,       1956,    29.9999,   173.1818,       5247,     4.7,2,  22.5749,2,  35.0077,2,  34.9939,2,    226.6,3,   222.7,2,    1.37,2,    0.03,2,    0.00,2,    0.00,2,   1.798,2,   1.173,2,   2.0040,2,  2021.8,2,  2296.3,2,   7.9991,2,    25.02,2, -999.00,9,  -999.0,9, -999.00,1, -999.00,1,        7.5,2, 20220525,     2201,  29.9999, 173.1818,    22.5637,2,     -999.0,9,     -999.0,9,     -999.0,9,     -999.0,9,     0.0134,1,     4.6145,1,     -999.0,9,     -999.0,9,     -999.0,9
33RR20220430,        P02,      71,          2,         35,         35,2,20220525,       1956,    29.9999,   173.1818,       5247,    21.2,2,  21.3219,2,  35.0734,2,  35.0604,2,    229.2,2,   228.9,2,    1.56,2,    0.02,2,    0.00,2,    0.00,2,   1.862,2,   1.220,2,   2.2550,2,  2025.5,6,  2300.6,2,   8.0014,2,    25.00,2, -999.00,9,  -999.0,9, -999.00,1, -999.00,1,        7.7,2, 20220525,     2159,  29.9999, 173.1818,    21.3226,2,     -999.0,9,     -999.0,9,     -999.0,9,     -999.0,9,     0.0136,1,     4.6182,1,     -999.0,9,     -999.0,9,     -999.0,9
33RR20220430,        P02,      71,          2,         34,         34,2,20220525,       1956,    29.9999,   173.1818,       5247,    41.2,2,  20.4725,2,  35.0401,2,  35.0258,2,    233.3,2,   233.7,2,    1.56,2,    0.02,2,    0.00,2,    0.00,2,   1.920,2,   1.240,2,   2.2514,2,  2024.1,2,  2301.7,2,   8.0009,2,    24.98,2, -999.00,9,  -999.0,9, -999.00,1, -999.00,1,        8.0,2, 20220525,     2158,  29.9999, 173.1817,    20.4754,2,     -999.0,9,     -999.0,9,     -999.0,9,     -999.0,9,     0.0142,1,     4.6280,1,     -999.0,9,     -999.0,9,     -999.0,9
33RR20220430,        P02,      71,          2,         33,         33,2,20220525,       1956,    29.9999,   173.1818,       5247,    66.6,2,  19.1559,2,  34.9221,2,  34.9174,2,    238.0,2,   238.5,2,    1.56,2,    0.02,2,    0.00,2,    0.00,2,   2.007,6,   1.242,6,   2.2904,6,  2021.8,2,  2291.7,2,   7.9932,2,    25.03,2, -999.00,9,  -999.0,9, -999.00,1, -999.00,1,        8.2,6, 20220525,     2156,  29.9999, 173.1817,    19.2274,2,     -999.0,9,     -999.0,9,     -999.0,9,     -999.0,9,     0.0171,1,     4.6275,1,     -999.0,9,     -999.0,9,     -999.0,9
33RR20220430,        P02,      71,          2,         32,         32,2,20220525,       1956,    29.9999,   173.1818,       5247,    91.6,2,  18.4721,2,  34.8583,2,  34.8471,2,    236.9,2,   237.5,2,    1.86,2,    0.01,2,    0.00,2,    0.00,2,   2.067,2,   1.264,2,   2.1995,2,  2021.4,2,  2288.8,2,   7.9855,2,    25.00,2, -999.00,9,  -999.0,9, -999.00,1, -999.00,1,        8.4,2, 20220525,     2154,  29.9999, 173.1817,    18.4722,2,     -999.0,9,     -999.0,9,     -999.0,9,     -999.0,9,     0.0244,1,     4.6324,1,     -999.0,9,     -999.0,9,     -999.0,9
33RR20220430,        P02,      71,          2,         31,         31,2,20220525,       1956,    29.9999,   173.1818,       5247,   137.7,2,  16.9218,2,  34.7039,2,  34.6928,2,    231.5,2,   231.4,2,    2.83,2,    1.87,2,    0.30,2,    0.13,2,   2.158,2,   1.396,2,   2.3641,2,  2032.2,2,  2280.2,2,   7.9488,2,    24.98,2, -999.00,9,  -999.0,9, -999.00,1, -999.00,1,        9.4,2, 20220525,     2152,  29.9999, 173.1817,    16.9253,2,     -999.0,9,     -999.0,9,     -999.0,9,     -999.0,9,     0.0220,1,     4.6662,1,     -999.0,9,     -999.0,9,     -999.0,9
33RR20220430,        P02,      71,          2,         30,         30,2,20220525,       1956,    29.9999,   173.1818,       5247,   187.1,2,  16.3778,2,  34.6512,2,  34.6396,2,    228.8,2,   229.1,2,    3.52,2,    3.31,2,    0.00,2,    0.21,2,   2.188,2,   1.352,2,   2.2303,2,  2038.0,2,  2276.5,2,   7.9351,2,    25.01,2, -999.00,9,  -999.0,9, -999.00,1, -999.00,1,        9.5,2, 20220525,     2150,  29.9999, 173.1817,    16.3773,2,     -999.0,9,     -999.0,9,     -999.0,9,     -999.0,9,     0.0134,1,     4.6840,1,     -999.0,9,     -999.0,9,     -999.0,9
33RR20220430,        P02,      71,          2,         29,         29,2,20220525,       1956,    29.9999,   173.1818,       5247,   237.4,2,  16.0569,2,  34.6474,2,  34.6319,2,    223.1,2,   222.6,2,    4.49,2,    4.49,2,    0.00,2,    0.29,2,   2.243,2,   1.381,2,   2.2591,2,  2046.9,2,  2276.3,2,   7.9181,2,    25.00,2, -999.00,9,  -999.0,9, -999.00,1, -999.00,1,       10.0,2, 20220525,     2149,  29.9999, 173.1817,    16.0558,2,     -999.0,9,     -999.0,9,     -999.0,9,     -999.0,9,     0.0122,1,     4.6869,1,     -999.0,9,     -999.0,9,     -999.0,9
33RR20220430,        P02,      71,          2,         28,         28,2,20220525,       1956,    29.9999,   173.1818,       5247,   287.4,2,  15.6081,2,  34.6195,2,  34.6113,2,    220.3,2,   222.4,2,    5.37,2,    5.23,2,    0.00,2,    0.34,2,   2.305,2,   1.409,2,   2.2579,2,  -999.0,9,  -999.0,9,-999.0000,9,  -999.00,9, -999.00,9,  -999.0,9, -999.00,1, -999.00,1,       10.4,2, 20220525,     2147,  29.9999, 173.1817,    15.5944,2,     -999.0,9,     -999.0,9,     -999.0,9,     -999.0,9,     0.0122,1,     4.6880,1,     -999.0,9,     -999.0,9,     -999.0,9
33RR20220430,        P02,      71,          2,         27,         27,2,20220525,       1956,    29.9999,   173.1818,       5247,   338.2,2,  14.7442,2,  34.5540,2,  34.5417,2,    205.5,2,   205.0,2,    8.89,2,    8.41,2,    0.00,2,    0.54,2,   2.415,2,   1.510,2,   2.2709,2,  2075.8,2,  2274.3,2,   7.8593,2,    25.00,2, -999.00,9,  -999.0,9, -999.00,1, -999.00,1,       12.4,2, 20220525,     2145,  29.9999, 173.1817,    14.7409,2,     -999.0,9,     -999.0,9,     -999.0,9,     -999.0,9,     0.0122,1,     4.6897,1,     -999.0,9,     -999.0,9,     -999.0,9
33RR20220430,        P02,      71,          2,         26,         26,2,20220525,       1956,    29.9999,   173.1818,       5247,   388.9,2,  13.4885,2,  34.4542,2,  34.4473,2,    203.5,2,   203.4,2,   12.21,2,   10.57,2,    0.00,2,    0.70,2,   2.510,2,   1.498,2,   2.2745,2,  -999.0,9,  -999.0,9,-999.0000,9,  -999.00,9, -999.00,9,  -999.0,9, -999.00,1, -999.00,1,       13.6,2, 20220525,     2143,  29.9999, 173.1817,    13.4817,2,     -999.0,9,     -999.0,9,     -999.0,9,     -999.0,9,     0.0122,1,     4.6906,1,     -999.0,9,     -999.0,9,     -999.0,9
33RR20220430,        P02,      71,          2,         25,         25,2,20220525,       1956,    29.9999,   173.1818,       5247,   473.5,2,  10.9641,2,  34.2485,2,  34.2401,2,    205.4,2,   205.7,2,   19.35,2,   14.68,2,    0.00,2,    0.99,2,   2.803,2,   1.646,2,   2.2445,2,  2116.7,2,  2270.7,2,   7.7549,2,    24.97,2, -999.00,9,  -999.0,9, -999.00,1, -999.00,1,       15.7,2, 20220525,     2140,  29.9999, 173.1817,    10.9644,2,     -999.0,9,     -999.0,9,     -999.0,9,     -999.0,9,     0.0122,1,     4.6949,1,     -999.0,9,     -999.0,9,     -999.0,9
33RR20220430,        P02,      71,          2,         24,         24,2,20220525,       1956,    29.9999,   173.1818,       5247,   575.1,2,   8.3168,2,  34.0404,2,  34.0354,2,    194.3,2,   194.9,2,   32.44,2,   20.47,2,    0.00,2,    1.43,2,   2.850,2,   1.694,2,   2.0542,2,  2155.3,2,  2270.6,2,   7.6614,2,    24.97,2, -999.00,9,  -999.0,9, -999.00,9, -999.00,9,       20.2,2, 20220525,     2138,  29.9999, 173.1818,     8.3204,2,     -999.0,9,     -999.0,9,     -999.0,9,     -999.0,9,     0.0122,1,     4.6975,1,     -999.0,9,     -999.0,9,     -999.0,9
33RR20220430,        P02,      71,          2,         23,         23,2,20220525,       1956,    29.9999,   173.1818,       5247,   676.0,2,   6.0221,2,  33.9766,2,  33.9755,2,    137.8,3,   136.1,2,   59.61,2,   30.20,2,    0.00,2,    2.11,2,   2.326,2,   1.379,2,   1.3991,2,  2226.6,2,  2288.5,2,   7.5032,2,    24.98,2, -999.00,9,  -999.0,9, -999.00,1, -999.00,1,       30.5,2, 20220525,     2135,  29.9999, 173.1817,     6.0265,2,     -999.0,9,     -999.0,9,     -999.0,9,     -999.0,9,     0.0134,1,     4.6993,1,     -999.0,9,     -999.0,9,     -999.0,9
33RR20220430,        P02,      71,          2,         22,         22,2,20220525,       1956,    29.9999,   173.1818,       5247,   776.4,2,   5.0602,2,  34.0674,2,  34.0672,2,     86.7,2,    85.9,2,   81.50,2,   36.37,2,    0.00,2,    2.54,2,   1.494,2,   0.913,2,   0.6447,2,  -999.0,9,  -999.0,9,-999.0000,9,  -999.00,9, -999.00,9,  -999.0,9, -999.00,9, -999.00,9,       39.8,2, 20220525,     2133,  29.9999, 173.1817,     5.0588,2,     -999.0,9,     -999.0,9,     -999.0,9,     -999.0,9,     0.0134,1,     4.7002,1,     -999.0,9,     -999.0,9,     -999.0,9
33RR20220430,        P02,      71,          2,         21,         21,2,20220525,       1956,    29.9999,   173.1818,       5247,   877.0,2,   4.2768,2,  34.1709,2,  34.1697,2,     56.5,3,    57.2,2,  102.40,2,   39.93,2,    0.00,2,    2.78,2,   0.895,2,   0.539,2,   0.3818,2,  2319.5,2,  2330.4,2,   7.3565,2,    24.98,2, -999.00,9,  -999.0,9, -999.00,1, -999.00,1,       46.1,2, 20220525,     2130,  29.9999, 173.1817,     4.2733,2,     -999.0,9,     -999.0,9,     -999.0,9,     -999.0,9,     0.0125,1,     4.6997,1,     -999.0,9,     -999.0,9,     -999.0,9
33RR20220430,        P02,      71,          2,         20,         20,2,20220525,       1956,    29.9999,   173.1818,       5247,   976.9,2,   3.8827,2,  34.2413,2,  34.2397,2,     41.8,3,    42.3,2,  114.22,2,   41.58,2,    0.00,2,    2.90,2,   0.534,2,   0.317,2,   0.1797,2,  -999.0,9,  -999.0,9,-999.0000,9,  -999.00,9, -999.00,9,  -999.0,9, -999.00,9, -999.00,9,       50.1,2, 20220525,     2127,  29.9999, 173.1817,     3.8837,2,     -999.0,9,     -999.0,9,     -999.0,9,     -999.0,9,     0.0134,1,     4.6997,1,     -999.0,9,     -999.0,9,     -999.0,9
33RR20220430,        P02,      71,          2,         19,         19,2,20220525,       1956,    29.9999,   173.1818,       5247,  1078.5,2,   3.4612,2,  34.3200,2,  34.3186,2,     32.2,3,    32.6,2,  127.50,2,   42.76,2,    0.00,2,    3.00,2,   0.268,2,   0.160,2,   0.0000,2,  2357.8,2,  2362.6,2,   7.3278,2,    25.05,2, -999.00,9,  -999.0,9, -999.00,1, -999.00,1,       53.4,2, 20220525,     2125,  29.9999, 173.1818,     3.4615,2,     -999.0,9,     -999.0,9,     -999.0,9,     -999.0,9,     0.0134,1,     4.7007,1,     -999.0,9,     -999.0,9,     -999.0,9
33RR20220430,        P02,      71,          2,         18,         18,2,20220525,       1956,    29.9999,   173.1818,       5247,  1180.4,2,   3.1342,2,  34.3809,2,  34.3804,2,     29.6,2,    29.8,2,  137.66,2,   43.28,2,    0.00,2,    3.04,2,   0.148,2,   0.086,2,   0.0000,2,  -999.0,9,  -999.0,9,-999.0000,9,  -999.00,9, -999.00,9,  -999.0,9, -999.00,9, -999.00,9,       53.6,2, 20220525,     2122,  29.9999, 173.1817,     3.1370,2,     -999.0,9,     -999.0,9,     -999.0,9,     -999.0,9,     0.0134,1,     4.7000,1,     -999.0,9,     -999.0,9,     -999.0,9
33RR20220430,        P02,      71,          2,         17,         17,2,20220525,       1956,    29.9999,   173.1818,       5247,  1282.4,2,   2.8988,2,  34.4332,2,  34.4343,2,     30.6,3,    31.2,2,  144.39,2,   43.47,2,    0.00,2,    3.05,2,   0.070,2,   0.040,2,   0.0000,2,  2378.7,2,  2383.0,2,   7.3346,2,    24.99,2, -999.00,9,  -999.0,9, -999.00,1, -999.00,1,       51.8,2, 20220525,     2119,  29.9999, 173.1817,     2.8980,2,     -999.0,9,     -999.0,9,     -999.0,9,     -999.0,9,     0.0134,1,     4.7016,1,     -999.0,9,     -999.0,9,     -999.0,9
33RR20220430,        P02,      71,          2,         16,         16,2,20220525,       1956,    29.9999,   173.1818,       5247,  1383.8,2,   2.7488,2,  34.4797,2,  34.4809,2,     36.7,2,    36.7,2,  147.81,2,   43.23,2,    0.00,2,    3.03,2,   0.031,2,   0.016,2,   0.0000,2,  -999.0,9,  -999.0,9,-999.0000,9,  -999.00,9, -999.00,9,  -999.0,9, -999.00,9, -999.00,9,       49.2,2, 20220525,     2116,  29.9999, 173.1817,     2.7474,2,     -999.0,9,     -999.0,9,     -999.0,9,     -999.0,9,     0.0134,1,     4.7031,1,     -999.0,9,     -999.0,9,     -999.0,9
33RR20220430,        P02,      71,          2,         15,         15,2,20220525,       1956,    29.9999,   173.1818,       5247,  1555.4,2,   2.4365,2,  34.5299,2,  34.5300,2,     48.1,3,    47.3,2,  155.13,2,   42.63,2,    0.00,2,    2.97,2,   0.013,2,   0.000,2,   0.0000,2,  2379.8,2,  2400.3,2,   7.3763,2,    25.00,2, -999.00,9,  -999.0,9, -999.00,1, -999.00,1,       44.9,2, 20220525,     2113,  29.9998, 173.1817,     2.4379,2,     -999.0,9,     -999.0,9,     -999.0,9,     -999.0,9,     0.0134,1,     4.7036,1,     -999.0,9,     -999.0,9,     -999.0,9
33RR20220430,        P02,      71,          2,         14,         14,2,20220525,       1956,    29.9999,   173.1818,       5247,  1757.7,2,   2.1849,2,  34.5673,2,  34.5673,2,     61.4,3,    60.8,2,  159.72,2,   41.92,2,    0.00,2,    2.90,2,   0.010,2,   0.000,2,   0.0000,2,  2379.0,2,  2407.2,2,   7.4041,2,    24.98,2, -999.00,9,  -999.0,9, -999.00,1, -999.00,1,       40.0,2, 20220525,     2108,  29.9998, 173.1817,     2.1857,2,     -999.0,9,     -999.0,9,     -999.0,9,     -999.0,9,     0.0131,1,     4.7044,1,     -999.0,9,     -999.0,9,     -999.0,9
33RR20220430,        P02,      71,          2,         13,         13,2,20220525,       1956,    29.9999,   173.1818,       5247,  1960.6,2,   1.9643,2,  34.5984,2,  34.5985,2,     77.1,2,    76.6,2,  163.03,2,   40.94,2,    0.00,2,    2.82,2,   0.006,2,   0.000,2,   0.0000,2,  2370.3,2,  2411.8,2,   7.4352,2,    24.98,2, -999.00,9,  -999.0,9, -999.00,1, -999.00,1,       35.0,2, 20220525,     2104,  29.9999, 173.1817,     1.9627,2,     -999.0,9,     -999.0,9,     -999.0,9,     -999.0,9,     0.0134,1,     4.7053,1,     -999.0,9,     -999.0,9,     -999.0,9
33RR20220430,        P02,      71,          2,         12,         12,2,20220525,       1956,    29.9999,   173.1818,       5247,  2195.5,2,   1.8165,2,  34.6199,2,  34.6203,2,     91.9,2,    92.2,2,  161.96,2,   39.88,2,    0.00,2,    2.75,2,   0.004,2,   0.000,2,   0.0000,2,  -999.0,9,  -999.0,9,-999.0000,9,  -999.00,9, -999.00,9,  -999.0,9, -999.00,9, -999.00,9,       32.1,2, 20220525,     2059,  29.9999, 173.1817,     1.8166,2,     -999.0,9,     -999.0,9,     -999.0,9,     -999.0,9,     0.0127,1,     4.7046,1,     -999.0,9,     -999.0,9,     -999.0,9
33RR20220430,        P02,      71,          2,         11,         11,2,20220525,       1956,    29.9999,   173.1818,       5247,  2448.5,2,   1.7088,2,  34.6357,2,  34.6348,2,    103.5,2,   103.5,2,  162.05,2,   39.14,2,    0.00,2,    2.71,2,   0.003,2,   0.000,2,   0.0000,2,  2357.0,2,  2415.2,2,   7.4866,2,    24.98,2, -999.00,9,  -999.0,9, -999.00,1, -999.00,1,       29.6,2, 20220525,     2053,  29.9999, 173.1817,     1.7095,2,     -999.0,9,     -999.0,9,     -999.0,9,     -999.0,9,     0.0125,1,     4.7057,1,     -999.0,9,     -999.0,9,     -999.0,9
33RR20220430,        P02,      71,          2,         10,         10,2,20220525,       1956,    29.9999,   173.1818,       5247,  2702.8,2,   1.6202,2,  34.6487,2,  34.6480,2,    114.1,2,   114.1,2,  160.98,2,   38.46,2,    0.00,2,    2.64,2,-999.000,9,-999.000,9,-999.0000,9,  -999.0,9,  -999.0,9,-999.0000,9,  -999.00,9, -999.00,9,  -999.0,9, -999.00,9, -999.00,9,     -999.0,9, 20220525,     2048,  29.9999, 173.1817,     1.6202,2,     -999.0,9,     -999.0,9,     -999.0,9,     -999.0,9,     0.0129,1,     4.7058,1,     -999.0,9,     -999.0,9,     -999.0,9
33RR20220430,        P02,      71,          2,          9,          9,2,20220525,       1956,    29.9999,   173.1818,       5247,  2958.9,2,   1.5556,2,  34.6596,2,  34.6576,2,    124.4,2,   124.8,2,  159.02,2,   37.74,2,    0.00,2,    2.60,2,   0.005,2,   0.000,2,   0.0000,2,  2346.5,2,  2418.0,2,   7.5246,2,    24.98,2, -999.00,9,  -999.0,9, -999.00,1, -999.00,1,       26.6,2, 20220525,     2043,  29.9999, 173.1817,     1.5555,2,     -999.0,9,     -999.0,9,     -999.0,9,     -999.0,9,     0.0126,1,     4.7068,1,     -999.0,9,     -999.0,9,     -999.0,9
33RR20220430,        P02,      71,          2,          8,          8,2,20220525,       1956,    29.9999,   173.1818,       5247,  3248.7,2,   1.5059,2,  34.6689,2,  34.6682,2,    134.2,2,   134.4,2,  156.68,2,   37.13,2,    0.00,2,    2.56,2,-999.000,9,-999.000,9,-999.0000,9,  -999.0,9,  -999.0,9,-999.0000,9,  -999.00,9, -999.00,9,  -999.0,9, -999.00,9, -999.00,9,     -999.0,9, 20220525,     2037,  29.9999, 173.1817,     1.5062,2,     -999.0,9,     -999.0,9,     -999.0,9,     -999.0,9,     0.0130,1,     4.7070,1,     -999.0,9,     -999.0,9,     -999.0,9
33RR20220430,        P02,      71,          2,          7,          7,2,20220525,       1956,    29.9999,   173.1818,       5247,  3556.1,2,   1.4785,2,  34.6755,2,  34.6755,2,    141.7,2,   141.9,2,  154.53,2,   36.64,2,    0.00,2,    2.51,2,   0.006,2,   0.000,2,   0.0000,2,  2334.6,2,  2417.3,2,   7.5544,2,    24.99,2, -999.00,9,  -999.0,9, -999.00,1, -999.00,1,       24.2,2, 20220525,     2031,  29.9999, 173.1818,     1.4785,2,     -999.0,9,     -999.0,9,     -999.0,9,     -999.0,9,     0.0122,1,     4.7069,1,     -999.0,9,     -999.0,9,     -999.0,9
33RR20220430,        P02,      71,          2,          6,          6,2,20220525,       1956,    29.9999,   173.1818,       5247,  3863.6,2,   1.4626,2,  34.6806,2,  34.6806,2,    148.1,2,   148.2,2,  153.06,2,   36.28,2,    0.00,2,    2.48,2,-999.000,9,-999.000,9,-999.0000,9,  2329.3,2,  2416.1,2,   7.5660,2,    24.98,2, -999.00,9,  -999.0,9, -999.00,1, -999.00,1,     -999.0,9, 20220525,     2025,  29.9999, 173.1817,     1.4624,2,     -999.0,9,     -999.0,9,     -999.0,9,     -999.0,9,     0.0126,1,     4.7071,1,     -999.0,9,     -999.0,9,     -999.0,9
33RR20220430,        P02,      71,          2,          5,          5,2,20220525,       1956,    29.9999,   173.1818,       5247,  4170.8,2,   1.4519,2,  34.6852,2,  34.6855,2,    154.4,2,   154.3,2,  149.93,2,   35.85,2,    0.00,2,    2.44,2,   0.005,2,   0.000,2,   0.0000,2,  2324.8,2,  2416.6,2,   7.5758,2,    24.98,2, -999.00,9,  -999.0,9, -999.00,1, -999.00,1,       23.3,2, 20220525,     2019,  29.9999, 173.1817,     1.4519,2,     -999.0,9,     -999.0,9,     -999.0,9,     -999.0,9,     0.0122,1,     4.7071,1,     -999.0,9,     -999.0,9,     -999.0,9
33RR20220430,        P02,      71,          2,          4,          4,2,20220525,       1956,    29.9999,   173.1818,       5247,  4477.7,2,   1.4564,2,  34.6881,2,  34.6879,2,    159.1,2,   159.1,2,  147.10,2,   35.52,2,    0.00,2,    2.41,2,-999.000,9,-999.000,9,-999.0000,9,  -999.0,9,  -999.0,9,-999.0000,9,  -999.00,9, -999.00,9,  -999.0,9, -999.00,9, -999.00,9,     -999.0,9, 20220525,     2013,  29.9998, 173.1817,     1.4564,2,     -999.0,9,     -999.0,9,     -999.0,9,     -999.0,9,     0.0122,1,     4.7079,1,     -999.0,9,     -999.0,9,     -999.0,9