BOTTLE,20230801CCHSIOCBG
EXPOCODE,SECT_ID,STNNBR,CASTNO,SAMPNO,BTLNBR,BTLNBR_FLAG_W,DATE,TIME,LATITUDE,LONGITUDE,DEPTH,CTDPRS,CTDPRS_FLAG_W,CTDTMP,CTDTMP_FLAG_W,CTDSAL,CTDSAL_FLAG_W,SALNTY,SALNTY_FLAG_W,CTDOXY,CTDOXY_FLAG_W,OXYGEN,OXYGEN_FLAG_W,SILCAT,SILCAT_FLAG_W,NITRAT,NITRAT_FLAG_W,NITRIT,NITRIT_FLAG_W,PHSPHT,PHSPHT_FLAG_W,CFC-11,CFC-11_FLAG_W,CFC-12,CFC-12_FLAG_W,SF6,SF6_FLAG_W,TCARBN,TCARBN_FLAG_W,ALKALI,ALKALI_FLAG_W,PH_TOT,PH_TOT_FLAG_W,PH_TMP,PH_TMP_FLAG_W,DELC13,DELC13_FLAG_W,DELC14,DELC14_FLAG_W,DOC,DOC_FLAG_W,TDN,TDN_FLAG_W,N2O,N2O_FLAG_W,BTL_DATE,BTL_TIME,BTL_LAT,BTL_LON,REFTMP,REFTMP_FLAG_W,POC,POC_FLAG_W,PON,PON_FLAG_W,POP,POP_FLAG_W,PCOD,PCOD_FLAG_W,CTDFLUOR,CTDFLUOR_FLAG_W,CTDXMISS,CTDXMISS_FLAG_W,HPLC,HPLC_FLAG_W,DNA,DNA_FLAG_W,FCM,FCM_FLAG_W
,,,,,,,,,,,METERS,DBAR,,ITS-90,,PSS-78,,PSS-78,,UMOL/KG,,UMOL/KG,,UMOL/KG,,UMOL/KG,,UMOL/KG,,UMOL/KG,,PMOL/KG,,PMOL/KG,,FMOL/KG,,UMOL/KG,,UMOL/KG,,,,DEG C,,/MILLE,,/MILLE,,UMOL/KG,,UMOL/KG,,NMOL/KG,,,,,,ITS-90,,UG/L,,UG/L,,UG/L,,UG/L,,VOLTS,,VOLTS,,,,,,,
33RR20220430,        P02,      94,          1,          3,          3,2,20220601,       1138,    30.0002,  -174.4820,       5374,  4967.4,2,   1.5340,2,  34.6861,2,  34.6875,2,    153.8,2,   153.9,2,  154.54,2,   35.81,2,    0.00,2,    2.48,2,   0.005,2,   0.000,2,   0.0000,2,  -999.0,9,  -999.0,9,-999.0000,9,  -999.00,9, -999.00,9,  -999.0,9, -999.00,9, -999.00,9,       20.1,2, 20220601,     1149,  30.0002,-174.4820,     1.5341,2,     -999.0,9,     -999.0,9,     -999.0,9,     -999.0,9,     0.0122,1,     4.7049,1,     -999.0,9,     -999.0,9,     -999.0,9
33RR20220430,        P02,      94,          1,          2,          2,2,20220601,       1138,    30.0002,  -174.4820,       5374,  5300.8,2,   1.5445,2,  34.6887,2,  34.6899,2,    160.1,2,   160.1,2,  147.60,2,   35.33,2,    0.00,2,    2.46,2,-999.000,9,-999.000,9,-999.0000,9,  2317.4,6,  2412.4,2,   7.5863,2,    25.01,2, -999.00,9,  -999.0,9, -999.00,9, -999.00,9,     -999.0,9, 20220601,     1142,  30.0001,-174.4821,     1.5448,2,     -999.0,9,     -999.0,9,     -999.0,9,     -999.0,9,     0.0122,1,     4.7033,1,     -999.0,9,     -999.0,9,     -999.0,9
33RR20220430,        P02,      94,          1,          1,          1,2,20220601,       1138,    30.0002,  -174.4820,       5374,  5469.3,2,   1.5573,2,  34.6895,2,  34.6908,2,    162.2,2,   162.3,2,  145.36,2,   35.16,2,    0.00,2,    2.44,2,   0.008,2,   0.000,2,   0.0000,2,  2315.3,2,  2411.0,2,   7.5892,2,    25.01,2, -999.00,9,  -999.0,9, -999.00,9, -999.00,9,       19.8,2, 20220601,     1138,  30.0002,-174.4820,     1.5575,2,     -999.0,9,     -999.0,9,     -999.0,9,     -999.0,9,     0.0122,1,     4.7008,1,     -999.0,9,     -999.0,9,     -999.0,9
33RR20220430,        P02,      95,          1,         16,         16,2,20220601,       1657,    30.0007,  -173.9052,       3683,     3.7,2,  22.5616,2,  35.1539,2,-999.0000,9,    214.2,2,  -999.0,9, -999.00,9, -999.00,9, -999.00,9, -999.00,9,-999.000,9,-999.000,9,-999.0000,9,  -999.0,9,  -999.0,9,-999.0000,9,  -999.00,9, -999.00,9,  -999.0,9, -999.00,9, -999.00,9,     -999.0,9, 20220601,     1724,  30.0006,-173.9052,    22.5765,2,     -999.0,9,     -999.0,9,     -999.0,1,     -999.0,9,     0.0134,1,     4.6421,1,     -999.0,9,     -999.0,9,     -999.0,9
33RR20220430,        P02,      95,          1,         19,         19,2,20220601,       1657,    30.0007,  -173.9052,       3683,     3.8,2,  22.5475,2,  35.1527,2,-999.0000,9,    214.0,2,  -999.0,9, -999.00,9, -999.00,9, -999.00,9, -999.00,9,-999.000,9,-999.000,9,-999.0000,9,  -999.0,9,  -999.0,9,-999.0000,9,  -999.00,9, -999.00,9,  -999.0,9, -999.00,9, -999.00,9,     -999.0,9, 20220601,     1725,  30.0007,-173.9052,     -999.0,9,     -999.0,9,     -999.0,9,     -999.0,9,     -999.0,1,     0.0134,1,     4.6421,1,     -999.0,9,     -999.0,9,     -999.0,9
33RR20220430,        P02,      95,          1,         18,         18,2,20220601,       1657,    30.0007,  -173.9052,       3683,     3.9,2,  22.5785,2,  35.1528,2,-999.0000,9,    214.4,2,  -999.0,9, -999.00,9, -999.00,9, -999.00,9, -999.00,9,-999.000,9,-999.000,9,-999.0000,9,  -999.0,9,  -999.0,9,-999.0000,9,  -999.00,9, -999.00,9,  -999.0,9, -999.00,9, -999.00,9,     -999.0,9, 20220601,     1725,  30.0006,-173.9052,    22.5573,2,     -999.0,9,     -999.0,9,     -999.0,9,     -999.0,1,     0.0134,1,     4.6427,1,     -999.0,9,     -999.0,9,     -999.0,9
33RR20220430,        P02,      95,          1,          9,          9,2,20220601,       1657,    30.0007,  -173.9052,       3683,     4.0,2,  22.7065,2,  35.1534,2,-999.0000,9,    213.6,2,  -999.0,9, -999.00,9, -999.00,9, -999.00,9, -999.00,9,-999.000,9,-999.000,9,-999.0000,9,  -999.0,9,  -999.0,9,-999.0000,9,  -999.00,9, -999.00,9,  -999.0,9, -999.00,9, -999.00,9,     -999.0,9, 20220601,     1722,  30.0006,-173.9052,    22.6919,2,     -999.0,9,     -999.0,9,     -999.0,9,     -999.0,9,     0.0134,1,     4.6452,1,     -999.0,1,     -999.0,9,     -999.0,1
33RR20220430,        P02,      95,          1,         12,         12,2,20220601,       1657,    30.0007,  -173.9052,       3683,     4.0,2,  22.6639,2,  35.1535,2,-999.0000,9,    214.0,2,  -999.0,9, -999.00,9, -999.00,9, -999.00,9, -999.00,9,-999.000,9,-999.000,9,-999.0000,9,  -999.0,9,  -999.0,9,-999.0000,9,  -999.00,9, -999.00,9,  -999.0,9, -999.00,9, -999.00,9,     -999.0,9, 20220601,     1723,  30.0007,-173.9052,    22.6433,2,     -999.0,1,     -999.0,1,     -999.0,9,     -999.0,9,     0.0134,1,     4.6419,1,     -999.0,9,     -999.0,9,     -999.0,9
33RR20220430,        P02,      95,          1,         15,         15,2,20220601,       1657,    30.0007,  -173.9052,       3683,     4.0,2,  22.6208,2,  35.1537,2,-999.0000,9,    213.9,2,  -999.0,9, -999.00,9, -999.00,9, -999.00,9, -999.00,9,-999.000,9,-999.000,9,-999.0000,9,  -999.0,9,  -999.0,9,-999.0000,9,  -999.00,9, -999.00,9,  -999.0,9, -999.00,9, -999.00,9,     -999.0,9, 20220601,     1724,  30.0006,-173.9052,     -999.0,9,     -999.0,9,     -999.0,9,     -999.0,1,     -999.0,9,     0.0135,1,     4.6423,1,     -999.0,9,     -999.0,9,     -999.0,9
33RR20220430,        P02,      95,          1,         13,         13,2,20220601,       1657,    30.0007,  -173.9052,       3683,     4.0,2,  22.6559,2,  35.1534,2,-999.0000,9,    213.9,2,  -999.0,9, -999.00,9, -999.00,9, -999.00,9, -999.00,9,-999.000,9,-999.000,9,-999.0000,9,  -999.0,9,  -999.0,9,-999.0000,9,  -999.00,9, -999.00,9,  -999.0,9, -999.00,9, -999.00,9,     -999.0,9, 20220601,     1723,  30.0007,-173.9052,     -999.0,9,     -999.0,1,     -999.0,1,     -999.0,9,     -999.0,9,     0.0134,1,     4.6450,1,     -999.0,9,     -999.0,9,     -999.0,9
33RR20220430,        P02,      95,          1,         10,         10,2,20220601,       1657,    30.0007,  -173.9052,       3683,     4.1,2,  22.6684,2,  35.1532,2,-999.0000,9,    214.2,2,  -999.0,9, -999.00,9, -999.00,9, -999.00,9, -999.00,9,-999.000,9,-999.000,9,-999.0000,9,  -999.0,9,  -999.0,9,-999.0000,9,  -999.00,9, -999.00,9,  -999.0,9, -999.00,9, -999.00,9,     -999.0,9, 20220601,     1723,  30.0007,-173.9052,     -999.0,9,     -999.0,9,     -999.0,9,     -999.0,9,     -999.0,9,     0.0171,1,     4.6454,1,     -999.0,9,     -999.0,1,     -999.0,9
33RR20220430,        P02,      95,          1,         14,         14,2,20220601,       1657,    30.0007,  -173.9052,       3683,     4.2,2,  22.6586,2,  35.1534,2,-999.0000,9,    214.4,2,  -999.0,9, -999.00,9, -999.00,9, -999.00,9, -999.00,9,-999.000,9,-999.000,9,-999.0000,9,  -999.0,9,  -999.0,9,-999.0000,9,  -999.00,9, -999.00,9,  -999.0,9, -999.00,9, -999.00,9,     -999.0,9, 20220601,     1724,  30.0007,-173.9052,    22.6435,2,     -999.0,9,     -999.0,9,     -999.0,1,     -999.0,9,     0.0135,1,     4.6439,1,     -999.0,9,     -999.0,9,     -999.0,9
33RR20220430,        P02,      95,          1,         17,         17,2,20220601,       1657,    30.0007,  -173.9052,       3683,     4.3,2,  22.5930,2,  35.1530,2,-999.0000,9,    214.0,2,  -999.0,9, -999.00,9, -999.00,9, -999.00,9, -999.00,9,-999.000,9,-999.000,9,-999.0000,9,  -999.0,9,  -999.0,9,-999.0000,9,  -999.00,9, -999.00,9,  -999.0,9, -999.00,9, -999.00,9,     -999.0,9, 20220601,     1724,  30.0006,-173.9052,     -999.0,9,     -999.0,9,     -999.0,9,     -999.0,9,     -999.0,1,     0.0134,1,     4.6428,1,     -999.0,9,     -999.0,9,     -999.0,9
33RR20220430,        P02,      95,          1,         11,         11,2,20220601,       1657,    30.0007,  -173.9052,       3683,     4.3,2,  22.6700,2,  35.1534,2,-999.0000,9,    214.3,2,  -999.0,9, -999.00,9, -999.00,9, -999.00,9, -999.00,9,-999.000,9,-999.000,9,-999.0000,9,  -999.0,9,  -999.0,9,-999.0000,9,  -999.00,9, -999.00,9,  -999.0,9, -999.00,9, -999.00,9,     -999.0,9, 20220601,     1723,  30.0007,-173.9052,    22.6680,2,     -999.0,1,     -999.0,1,     -999.0,9,     -999.0,9,     0.0134,1,     4.6436,1,     -999.0,9,     -999.0,9,     -999.0,9
33RR20220430,        P02,      95,          1,          8,          8,2,20220601,       1657,    30.0007,  -173.9052,       3683,    41.5,2,  21.6779,2,  35.1398,2,-999.0000,9,    221.4,2,  -999.0,9, -999.00,9, -999.00,9, -999.00,9, -999.00,9,-999.000,9,-999.000,9,-999.0000,9,  -999.0,9,  -999.0,9,-999.0000,9,  -999.00,9, -999.00,9,  -999.0,9, -999.00,9, -999.00,9,     -999.0,9, 20220601,     1720,  30.0006,-173.9052,    21.7030,2,     -999.0,9,     -999.0,9,     -999.0,9,     -999.0,9,     0.0148,1,     4.6360,1,     -999.0,1,     -999.0,9,     -999.0,1
33RR20220430,        P02,      95,          1,          7,          7,2,20220601,       1657,    30.0007,  -173.9052,       3683,    76.1,2,  20.2527,2,  35.0755,2,-999.0000,9,    223.8,2,  -999.0,9, -999.00,9, -999.00,9, -999.00,9, -999.00,9,-999.000,9,-999.000,9,-999.0000,9,  -999.0,9,  -999.0,9,-999.0000,9,  -999.00,9, -999.00,9,  -999.0,9, -999.00,9, -999.00,9,     -999.0,9, 20220601,     1718,  30.0006,-173.9052,    20.2519,2,     -999.0,9,     -999.0,9,     -999.0,9,     -999.0,9,     0.0183,1,     4.6493,1,     -999.0,9,     -999.0,9,     -999.0,1
33RR20220430,        P02,      95,          1,          5,          5,2,20220601,       1657,    30.0007,  -173.9052,       3683,   104.3,2,  19.3818,2,  34.9961,2,-999.0000,9,    222.7,2,  -999.0,9, -999.00,9, -999.00,9, -999.00,9, -999.00,9,-999.000,9,-999.000,9,-999.0000,9,  -999.0,9,  -999.0,9,-999.0000,9,  -999.00,9, -999.00,9,  -999.0,9, -999.00,9, -999.00,9,     -999.0,9, 20220601,     1716,  30.0007,-173.9052,    19.3783,2,     -999.0,9,     -999.0,9,     -999.0,9,     -999.0,9,     0.0250,1,     4.6555,1,     -999.0,9,     -999.0,1,     -999.0,9
33RR20220430,        P02,      95,          1,          6,          6,2,20220601,       1657,    30.0007,  -173.9052,       3683,   104.7,2,  19.3745,2,  34.9960,2,-999.0000,9,    222.5,2,  -999.0,9, -999.00,9, -999.00,9, -999.00,9, -999.00,9,-999.000,9,-999.000,9,-999.0000,9,  -999.0,9,  -999.0,9,-999.0000,9,  -999.00,9, -999.00,9,  -999.0,9, -999.00,9, -999.00,9,     -999.0,9, 20220601,     1716,  30.0007,-173.9052,     -999.0,9,     -999.0,9,     -999.0,9,     -999.0,9,     -999.0,9,     0.0224,1,     4.6552,1,     -999.0,1,     -999.0,9,     -999.0,1
33RR20220430,        P02,      95,          1,          4,          4,2,20220601,       1657,    30.0007,  -173.9052,       3683,   154.6,2,  18.2376,2,  34.8549,2,-999.0000,9,    217.7,2,  -999.0,9, -999.00,9, -999.00,9, -999.00,9, -999.00,9,-999.000,9,-999.000,9,-999.0000,9,  -999.0,9,  -999.0,9,-999.0000,9,  -999.00,9, -999.00,9,  -999.0,9, -999.00,9, -999.00,9,     -999.0,9, 20220601,     1714,  30.0006,-173.9052,    18.2371,2,     -999.0,9,     -999.0,9,     -999.0,9,     -999.0,9,     0.0232,1,     4.6711,1,     -999.0,9,     -999.0,9,     -999.0,1
33RR20220430,        P02,      95,          1,          3,          3,2,20220601,       1657,    30.0007,  -173.9052,       3683,   204.5,2,  16.4792,2,  34.6551,2,-999.0000,9,    204.2,2,  -999.0,9, -999.00,9, -999.00,9, -999.00,9, -999.00,9,-999.000,9,-999.000,9,-999.0000,9,  -999.0,9,  -999.0,9,-999.0000,9,  -999.00,9, -999.00,9,  -999.0,9, -999.00,9, -999.00,9,     -999.0,9, 20220601,     1712,  30.0006,-173.9052,    16.4802,2,     -999.0,9,     -999.0,9,     -999.0,9,     -999.0,9,     0.0147,1,     4.6856,1,     -999.0,9,     -999.0,1,     -999.0,1
33RR20220430,        P02,      95,          1,          2,          2,2,20220601,       1657,    30.0007,  -173.9052,       3683,   507.4,2,   9.1596,2,  34.0869,2,-999.0000,9,    183.5,2,  -999.0,9, -999.00,9, -999.00,9, -999.00,9, -999.00,9,-999.000,9,-999.000,9,-999.0000,9,  -999.0,9,  -999.0,9,-999.0000,9,  -999.00,9, -999.00,9,  -999.0,9, -999.00,9, -999.00,9,     -999.0,9, 20220601,     1706,  30.0006,-173.9052,     9.1953,2,     -999.0,9,     -999.0,9,     -999.0,9,     -999.0,9,     0.0122,1,     4.6985,1,     -999.0,9,     -999.0,9,     -999.0,1
33RR20220430,        P02,      95,          1,          1,          1,2,20220601,       1657,    30.0007,  -173.9052,       3683,  1010.2,2,   3.8626,2,  34.3052,2,-999.0000,9,     25.0,2,  -999.0,9, -999.00,9, -999.00,9, -999.00,9, -999.00,9,-999.000,9,-999.000,9,-999.0000,9,  -999.0,9,  -999.0,9,-999.0000,9,  -999.00,9, -999.00,9,  -999.0,9, -999.00,9, -999.00,9,     -999.0,9, 20220601,     1657,  30.0006,-173.9052,     3.8636,2,     -999.0,9,     -999.0,9,     -999.0,9,     -999.0,9,     0.0134,1,     4.7011,1,     -999.0,9,     -999.0,1,     -999.0,1