BOTTLE,20230801CCHSIOCBG
EXPOCODE,SECT_ID,STNNBR,CASTNO,SAMPNO,BTLNBR,BTLNBR_FLAG_W,DATE,TIME,LATITUDE,LONGITUDE,DEPTH,CTDPRS,CTDPRS_FLAG_W,CTDTMP,CTDTMP_FLAG_W,CTDSAL,CTDSAL_FLAG_W,SALNTY,SALNTY_FLAG_W,CTDOXY,CTDOXY_FLAG_W,OXYGEN,OXYGEN_FLAG_W,SILCAT,SILCAT_FLAG_W,NITRAT,NITRAT_FLAG_W,NITRIT,NITRIT_FLAG_W,PHSPHT,PHSPHT_FLAG_W,CFC-11,CFC-11_FLAG_W,CFC-12,CFC-12_FLAG_W,SF6,SF6_FLAG_W,TCARBN,TCARBN_FLAG_W,ALKALI,ALKALI_FLAG_W,PH_TOT,PH_TOT_FLAG_W,PH_TMP,PH_TMP_FLAG_W,DELC13,DELC13_FLAG_W,DELC14,DELC14_FLAG_W,DOC,DOC_FLAG_W,TDN,TDN_FLAG_W,N2O,N2O_FLAG_W,BTL_DATE,BTL_TIME,BTL_LAT,BTL_LON,REFTMP,REFTMP_FLAG_W,POC,POC_FLAG_W,PON,PON_FLAG_W,POP,POP_FLAG_W,PCOD,PCOD_FLAG_W,CTDFLUOR,CTDFLUOR_FLAG_W,CTDXMISS,CTDXMISS_FLAG_W,HPLC,HPLC_FLAG_W,DNA,DNA_FLAG_W,FCM,FCM_FLAG_W
,,,,,,,,,,,METERS,DBAR,,ITS-90,,PSS-78,,PSS-78,,UMOL/KG,,UMOL/KG,,UMOL/KG,,UMOL/KG,,UMOL/KG,,UMOL/KG,,PMOL/KG,,PMOL/KG,,FMOL/KG,,UMOL/KG,,UMOL/KG,,,,DEG C,,/MILLE,,/MILLE,,UMOL/KG,,UMOL/KG,,NMOL/KG,,,,,,ITS-90,,UG/L,,UG/L,,UG/L,,UG/L,,VOLTS,,VOLTS,,,,,,,
33RR20220430,        P02,      12,          1,          3,          3,2,20220507,       0110,    29.9967,   134.8612,       4702,  4272.0,2,   1.5772,2,  34.6816,3,  34.6793,2,    154.1,2,   153.5,2,  141.95,2,   35.89,2,    0.00,2,    2.47,2,   0.007,2,   0.009,2,   0.0000,2,  2319.8,2,  2411.9,2,   7.5772,2,    24.96,2, -999.00,9,  -999.0,9, -999.00,1, -999.00,1,       18.5,2, 20220507,      120,  29.9967, 134.8611,     1.5770,2,     -999.0,9,     -999.0,9,     -999.0,9,     -999.0,9,     0.0122,1,     4.6998,1,     -999.0,9,     -999.0,9,     -999.0,9
33RR20220430,        P02,      12,          1,          2,          2,2,20220507,       0110,    29.9967,   134.8612,       4702,  4530.0,2,   1.5984,2,  34.6824,2,  34.6810,2,    156.0,2,   155.1,2,  141.56,2,   35.88,2,    0.00,2,    2.46,2,   0.006,2,   0.005,2,   0.0000,2,  2320.1,2,  2412.5,2,   7.5781,2,    25.01,2, -999.00,9,  -999.0,9, -999.00,9, -999.00,9,       18.5,2, 20220507,      115,  29.9967, 134.8612,     1.5983,2,     -999.0,9,     -999.0,9,     -999.0,9,     -999.0,9,     0.0127,1,     4.6996,1,     -999.0,9,     -999.0,9,     -999.0,9
33RR20220430,        P02,      12,          1,          1,          1,2,20220507,       0110,    29.9967,   134.8612,       4702,  4776.9,2,   1.6199,2,  34.6833,2,  34.6818,2,    154.0,2,   155.2,2,  141.27,2,   35.79,2,    0.00,2,    2.45,2,   0.007,2,   0.005,2,   0.0000,2,  2319.4,2,  2410.8,2,   7.5795,2,    25.03,2, -999.00,9,  -999.0,9, -999.00,1, -999.00,1,       18.7,2, 20220507,      110,  29.9968, 134.8611,     1.6199,2,     -999.0,9,     -999.0,9,     -999.0,9,     -999.0,9,     0.0122,1,     4.6994,1,     -999.0,9,     -999.0,9,     -999.0,9