BOTTLE,20230801CCHSIOCBG
EXPOCODE,SECT_ID,STNNBR,CASTNO,SAMPNO,BTLNBR,BTLNBR_FLAG_W,DATE,TIME,LATITUDE,LONGITUDE,DEPTH,CTDPRS,CTDPRS_FLAG_W,CTDTMP,CTDTMP_FLAG_W,CTDSAL,CTDSAL_FLAG_W,SALNTY,SALNTY_FLAG_W,CTDOXY,CTDOXY_FLAG_W,OXYGEN,OXYGEN_FLAG_W,SILCAT,SILCAT_FLAG_W,NITRAT,NITRAT_FLAG_W,NITRIT,NITRIT_FLAG_W,PHSPHT,PHSPHT_FLAG_W,CFC-11,CFC-11_FLAG_W,CFC-12,CFC-12_FLAG_W,SF6,SF6_FLAG_W,TCARBN,TCARBN_FLAG_W,ALKALI,ALKALI_FLAG_W,PH_TOT,PH_TOT_FLAG_W,PH_TMP,PH_TMP_FLAG_W,DELC13,DELC13_FLAG_W,DELC14,DELC14_FLAG_W,DOC,DOC_FLAG_W,TDN,TDN_FLAG_W,N2O,N2O_FLAG_W,BTL_DATE,BTL_TIME,BTL_LAT,BTL_LON,REFTMP,REFTMP_FLAG_W,POC,POC_FLAG_W,PON,PON_FLAG_W,POP,POP_FLAG_W,PCOD,PCOD_FLAG_W,CTDFLUOR,CTDFLUOR_FLAG_W,CTDXMISS,CTDXMISS_FLAG_W,HPLC,HPLC_FLAG_W,DNA,DNA_FLAG_W,FCM,FCM_FLAG_W
,,,,,,,,,,,METERS,DBAR,,ITS-90,,PSS-78,,PSS-78,,UMOL/KG,,UMOL/KG,,UMOL/KG,,UMOL/KG,,UMOL/KG,,UMOL/KG,,PMOL/KG,,PMOL/KG,,FMOL/KG,,UMOL/KG,,UMOL/KG,,,,DEG C,,/MILLE,,/MILLE,,UMOL/KG,,UMOL/KG,,NMOL/KG,,,,,,ITS-90,,UG/L,,UG/L,,UG/L,,UG/L,,VOLTS,,VOLTS,,,,,,,
33RR20220430,        P02,      84,          1,         36,         36,2,20220529,       1321,    30.0006,   179.7481,       5360,     5.2,2,  21.3391,2,  35.1804,2,  35.1662,2,    225.1,2,   224.7,2,    1.17,2,    0.01,2,    0.00,2,    0.00,2,   1.778,6,   1.130,6,   2.0710,6,  2026.7,2,  2309.0,2,   8.0054,2,    25.00,2, -999.00,9,  -999.0,9, -999.00,9, -999.00,9,        7.5,6, 20220529,     1527,  30.0006, 179.7481,    21.3363,2,     -999.0,9,     -999.0,9,     -999.0,9,     -999.0,9,     0.0135,1,     4.6343,1,     -999.0,9,     -999.0,9,     -999.0,9
33RR20220430,        P02,      84,          1,         35,         35,2,20220529,       1321,    30.0006,   179.7481,       5360,    27.0,2,  20.8639,2,  35.1660,2,  35.1561,2,    229.1,2,   228.0,2,    1.27,2,    0.00,2,    0.00,2,    0.00,2,   1.818,2,   1.194,2,   2.0787,2,  2026.6,2,  2307.1,2,   8.0056,2,    25.00,2, -999.00,9,  -999.0,9, -999.00,9, -999.00,9,        7.7,2, 20220529,     1526,  30.0006, 179.7480,    20.8590,2,     -999.0,9,     -999.0,9,     -999.0,9,     -999.0,9,     0.0147,1,     4.6333,1,     -999.0,9,     -999.0,9,     -999.0,9
33RR20220430,        P02,      84,          1,         34,         34,2,20220529,       1321,    30.0006,   179.7481,       5360,    51.7,2,  19.5919,2,  35.0287,2,  35.0220,2,    232.8,2,   232.6,2,    1.56,2,    0.00,2,    0.00,2,    0.01,2,   1.899,2,   1.237,2,   2.1057,2,  2026.1,2,  2296.5,2,   7.9963,2,    25.04,2, -999.00,9,  -999.0,9, -999.00,9, -999.00,9,        8.0,2, 20220529,     1524,  30.0006, 179.7481,    19.5962,2,     -999.0,9,     -999.0,9,     -999.0,9,     -999.0,9,     0.0167,1,     4.6351,1,     -999.0,9,     -999.0,9,     -999.0,9
33RR20220430,        P02,      84,          1,         33,         33,2,20220529,       1321,    30.0006,   179.7481,       5360,    76.7,2,  19.1847,2,  34.9969,2,  34.9813,2,    230.2,2,   229.9,2,    1.56,2,    0.00,2,    0.00,2,    0.03,2,   1.917,2,   1.189,2,   2.0923,2,  2028.6,2,  2296.3,2,   7.9873,2,    25.01,2, -999.00,9,  -999.0,9, -999.00,9, -999.00,9,        8.1,2, 20220529,     1523,  30.0006, 179.7480,    19.1900,2,     -999.0,9,     -999.0,9,     -999.0,9,     -999.0,9,     0.0210,1,     4.6401,1,     -999.0,9,     -999.0,9,     -999.0,9
33RR20220430,        P02,      84,          1,         32,         32,2,20220529,       1321,    30.0006,   179.7481,       5360,   101.4,2,  18.6696,2,  34.9197,2,  34.9067,2,    225.7,2,   225.6,2,    1.76,2,    0.08,2,    0.14,2,    0.06,2,   1.963,2,   1.239,2,   2.0554,2,  2032.3,2,  2290.5,2,   7.9736,2,    25.02,2, -999.00,9,  -999.0,9, -999.00,9, -999.00,9,        8.4,2, 20220529,     1521,  30.0007, 179.7480,    18.6677,2,     -999.0,9,     -999.0,9,     -999.0,9,     -999.0,9,     0.0337,1,     4.6371,1,     -999.0,9,     -999.0,9,     -999.0,9
33RR20220430,        P02,      84,          1,         31,         31,2,20220529,       1321,    30.0006,   179.7481,       5360,   151.6,2,  17.3086,2,  34.7259,2,  34.7191,2,    224.8,2,   224.6,2,    2.64,2,    1.88,2,    0.02,2,    0.17,2,   2.102,2,   1.281,2,   2.1579,2,  2037.9,2,  2277.5,2,   7.9455,2,    25.01,2, -999.00,9,  -999.0,9, -999.00,9, -999.00,9,        9.0,2, 20220529,     1519,  30.0007, 179.7481,    17.3166,2,     -999.0,9,     -999.0,9,     -999.0,9,     -999.0,9,     0.0134,1,     4.6802,1,     -999.0,9,     -999.0,9,     -999.0,9
33RR20220430,        P02,      84,          1,         30,         30,2,20220529,       1321,    30.0006,   179.7481,       5360,   201.8,2,  16.4699,2,  34.6220,2,  34.6124,2,    226.9,2,   227.3,2,    3.52,2,    3.32,2,    0.00,2,    0.25,2,   2.153,2,   1.300,2,   2.1332,2,  -999.0,9,  -999.0,9,-999.0000,9,  -999.00,9, -999.00,9,  -999.0,9, -999.00,9, -999.00,9,        9.3,2, 20220529,     1517,  30.0006, 179.7481,    16.4702,2,     -999.0,9,     -999.0,9,     -999.0,9,     -999.0,9,     0.0134,1,     4.6835,1,     -999.0,9,     -999.0,9,     -999.0,9
33RR20220430,        P02,      84,          1,         29,         29,2,20220529,       1321,    30.0006,   179.7481,       5360,   251.5,2,  15.5093,2,  34.5939,2,  34.5824,2,    209.1,2,   209.2,2,    5.96,2,    6.37,2,    0.00,2,    0.45,2,   2.280,2,   1.399,2,   2.0730,2,  2065.5,2,  2273.6,2,   7.8801,2,    25.04,2, -999.00,9,  -999.0,9, -999.00,9, -999.00,9,       11.3,2, 20220529,     1516,  30.0006, 179.7480,    15.4789,2,     -999.0,9,     -999.0,9,     -999.0,9,     -999.0,9,     0.0122,1,     4.6872,1,     -999.0,9,     -999.0,9,     -999.0,9
33RR20220430,        P02,      84,          1,         28,         28,2,20220529,       1321,    30.0006,   179.7481,       5360,   302.2,2,  14.5227,2,  34.5137,2,  34.5040,2,    207.9,2,   208.1,2,    7.91,2,    7.98,2,    0.00,2,    0.56,2,   2.369,2,   1.497,2,   1.9868,2,  2075.4,2,  2269.7,2,   7.8535,2,    25.03,2, -999.00,9,  -999.0,9, -999.00,9, -999.00,9,       12.5,2, 20220529,     1514,  30.0006, 179.7480,    14.5246,2,     -999.0,9,     -999.0,9,     -999.0,9,     -999.0,9,     0.0122,1,     4.6897,1,     -999.0,9,     -999.0,9,     -999.0,9
33RR20220430,        P02,      84,          1,         27,         27,2,20220529,       1321,    30.0006,   179.7481,       5360,   353.2,2,  13.4585,2,  34.4307,2,  34.4169,2,    208.9,2,   210.0,2,   10.45,2,    9.74,2,    0.00,2,    0.69,2,   2.496,2,   1.573,2,   2.0518,2,  2085.4,2,  2266.3,2,   7.8259,2,    25.01,2, -999.00,9,  -999.0,9, -999.00,9, -999.00,9,       13.6,2, 20220529,     1512,  30.0006, 179.7481,    13.4412,2,     -999.0,9,     -999.0,9,     -999.0,9,     -999.0,9,     0.0122,1,     4.6921,1,     -999.0,9,     -999.0,9,     -999.0,9
33RR20220430,        P02,      84,          1,         26,         26,2,20220529,       1321,    30.0006,   179.7481,       5360,   404.7,2,  12.3396,2,  34.3436,2,  34.3350,2,    208.0,2,   209.0,2,   13.48,2,   11.70,2,    0.00,2,    0.83,2,   2.590,2,   1.520,2,   2.0376,2,  -999.0,9,  -999.0,9,-999.0000,9,  -999.00,9, -999.00,9,  -999.0,9, -999.00,9, -999.00,9,       14.7,2, 20220529,     1510,  30.0006, 179.7481,    12.3277,2,     -999.0,9,     -999.0,9,     -999.0,9,     -999.0,9,     0.0122,1,     4.6940,1,     -999.0,9,     -999.0,9,     -999.0,9
33RR20220430,        P02,      84,          1,         25,         25,2,20220529,       1321,    30.0006,   179.7481,       5360,   505.9,2,   9.7963,2,  34.1473,2,  34.1419,2,    194.4,2,   194.7,2,   24.13,2,   17.65,2,    0.00,2,    1.26,2,   2.693,2,   1.673,2,   1.8450,2,  2139.0,2,  2266.6,2,   7.7054,2,    25.06,2, -999.00,9,  -999.0,9, -999.00,9, -999.00,9,       18.9,2, 20220529,     1508,  30.0006, 179.7480,     9.7953,2,     -999.0,9,     -999.0,9,     -999.0,9,     -999.0,9,     0.0122,1,     4.6971,1,     -999.0,9,     -999.0,9,     -999.0,9
33RR20220430,        P02,      84,          1,         24,         24,2,20220529,       1321,    30.0006,   179.7481,       5360,   606.7,2,   7.5922,2,  34.0410,2,  34.0384,2,    154.9,2,   153.8,2,   42.60,2,   25.54,2,    0.00,2,    1.82,2,   2.431,2,   1.470,2,   1.3150,2,  2190.3,2,  2274.4,2,   7.5822,2,    24.99,2, -999.00,9,  -999.0,9, -999.00,9, -999.00,9,       26.3,2, 20220529,     1505,  30.0007, 179.7481,     7.6117,2,     -999.0,9,     -999.0,9,     -999.0,9,     -999.0,9,     0.0122,1,     4.6983,1,     -999.0,9,     -999.0,9,     -999.0,9
33RR20220430,        P02,      84,          1,         23,         23,2,20220529,       1321,    30.0006,   179.7481,       5360,   711.2,2,   5.9924,2,  34.0370,2,  34.0349,2,    110.0,2,   109.5,2,   64.88,2,   32.66,2,    0.00,2,    2.36,2,   1.797,2,   1.111,2,   0.7601,2,  2244.9,2,  2291.9,2,   7.4660,2,    24.98,2, -999.00,9,  -999.0,9, -999.00,9, -999.00,9,       34.7,2, 20220529,     1502,  30.0006, 179.7480,     5.9920,2,     -999.0,9,     -999.0,9,     -999.0,9,     -999.0,9,     0.0134,1,     4.6993,1,     -999.0,9,     -999.0,9,     -999.0,9
33RR20220430,        P02,      84,          1,         22,         22,2,20220529,       1321,    30.0006,   179.7481,       5360,   812.0,2,   4.7995,2,  34.1096,2,  34.1068,2,     71.0,3,    69.9,2,   88.33,2,   37.97,2,    0.00,2,    2.75,2,-999.000,9,-999.000,9,-999.0000,9,  -999.0,9,  -999.0,9,-999.0000,9,  -999.00,9, -999.00,9,  -999.0,9, -999.00,9, -999.00,9,     -999.0,9, 20220529,     1500,  30.0007, 179.7481,     4.8131,2,     -999.0,9,     -999.0,9,     -999.0,9,     -999.0,9,     0.0134,1,     4.6990,1,     -999.0,9,     -999.0,9,     -999.0,9
33RR20220430,        P02,      84,          1,         21,         21,2,20220529,       1321,    30.0006,   179.7481,       5360,   911.7,2,   4.2528,2,  34.1984,2,  34.1985,2,     44.4,2,    44.5,2,  104.24,2,   41.00,2,    0.00,2,    2.96,2,   0.557,2,   0.341,2,   0.1625,2,  2326.1,6,  2334.5,2,   7.3402,2,    24.98,2, -999.00,9,  -999.0,9, -999.00,9, -999.00,9,       50.4,2, 20220529,     1457,  30.0006, 179.7480,     4.2518,2,     -999.0,9,     -999.0,9,     -999.0,9,     -999.0,9,     0.0132,1,     4.7002,1,     -999.0,9,     -999.0,9,     -999.0,9
33RR20220430,        P02,      84,          1,         20,         20,2,20220529,       1321,    30.0006,   179.7481,       5360,  1013.0,2,   3.8084,2,  34.2807,2,  34.2795,2,     31.9,2,    32.1,2,  117.43,2,   42.54,2,    0.00,2,    3.04,2,-999.000,9,-999.000,9,-999.0000,9,  -999.0,9,  -999.0,9,-999.0000,9,  -999.00,9, -999.00,9,  -999.0,9, -999.00,9, -999.00,9,     -999.0,9, 20220529,     1455,  30.0006, 179.7481,     3.8105,2,     -999.0,9,     -999.0,9,     -999.0,9,     -999.0,9,     0.0134,1,     4.7003,1,     -999.0,9,     -999.0,9,     -999.0,9
33RR20220430,        P02,      84,          1,         19,         19,2,20220529,       1321,    30.0006,   179.7481,       5360,  1113.6,2,   3.4788,2,  34.3359,2,  34.3339,2,     25.3,3,    26.0,2,  127.29,2,   43.40,2,    0.00,2,    3.12,2,   0.152,2,   0.087,2,   0.0000,2,  2362.1,2,  2363.6,2,   7.3177,2,    24.99,2, -999.00,9,  -999.0,9, -999.00,9, -999.00,9,       56.4,2, 20220529,     1452,  30.0006, 179.7481,     3.4814,2,     -999.0,9,     -999.0,9,     -999.0,9,     -999.0,9,     0.0134,1,     4.6990,1,     -999.0,9,     -999.0,9,     -999.0,9
33RR20220430,        P02,      84,          1,         18,         18,2,20220529,       1321,    30.0006,   179.7481,       5360,  1216.0,2,   3.2254,2,  34.4016,2,  34.4019,2,     27.7,2,    27.7,2,  134.90,2,   43.57,2,    0.00,2,    3.12,2,-999.000,9,-999.000,9,-999.0000,9,  -999.0,9,  -999.0,9,-999.0000,9,  -999.00,9, -999.00,9,  -999.0,9, -999.00,9, -999.00,9,     -999.0,9, 20220529,     1449,  30.0006, 179.7480,     3.2253,2,     -999.0,9,     -999.0,9,     -999.0,9,     -999.0,9,     0.0134,1,     4.7002,1,     -999.0,9,     -999.0,9,     -999.0,9
33RR20220430,        P02,      84,          1,         17,         17,2,20220529,       1321,    30.0006,   179.7481,       5360,  1317.4,2,   2.9935,2,  34.4505,2,  34.4502,2,     32.0,3,    32.7,2,  140.86,2,   43.43,2,    0.00,2,    3.11,2,   0.032,2,   0.023,2,   0.0000,2,  2375.4,2,  2382.9,2,   7.3436,2,    24.99,2, -999.00,9,  -999.0,9, -999.00,9, -999.00,9,       52.8,2, 20220529,     1447,  30.0006, 179.7480,     2.9954,2,     -999.0,9,     -999.0,9,     -999.0,9,     -999.0,9,     0.0134,1,     4.7010,1,     -999.0,9,     -999.0,9,     -999.0,9
33RR20220430,        P02,      84,          1,         16,         16,2,20220529,       1321,    30.0006,   179.7481,       5360,  1418.5,2,   2.7721,2,  34.4843,2,  34.4854,2,     35.2,2,    35.5,2,  147.49,2,   43.37,2,    0.00,2,    3.10,2,-999.000,9,-999.000,9,-999.0000,9,  2379.9,2,  2392.2,2,   7.3512,2,    25.00,2, -999.00,9,  -999.0,9, -999.00,9, -999.00,9,     -999.0,9, 20220529,     1444,  30.0006, 179.7481,     2.7723,2,     -999.0,9,     -999.0,9,     -999.0,9,     -999.0,9,     0.0134,1,     4.7007,1,     -999.0,9,     -999.0,9,     -999.0,9
33RR20220430,        P02,      84,          1,         15,         15,2,20220529,       1321,    30.0006,   179.7481,       5360,  1620.4,2,   2.4514,2,  34.5387,2,  34.5394,2,     50.6,2,    50.2,2,  154.03,2,   42.57,2,    0.00,2,    3.02,2,   0.011,2,   0.000,2,   0.0000,2,  2379.3,2,  2399.5,2,   7.3853,2,    24.98,2, -999.00,9,  -999.0,9, -999.00,9, -999.00,9,       42.4,2, 20220529,     1440,  30.0006, 179.7481,     2.4523,2,     -999.0,9,     -999.0,9,     -999.0,9,     -999.0,9,     0.0134,1,     4.7025,1,     -999.0,9,     -999.0,9,     -999.0,9
33RR20220430,        P02,      84,          1,         14,         14,2,20220529,       1321,    30.0006,   179.7481,       5360,  1823.2,2,   2.1318,2,  34.5766,2,  34.5771,2,     63.2,2,    63.1,2,  161.74,2,   41.83,2,    0.00,2,    2.95,2,-999.000,9,-999.000,9,-999.0000,9,  2377.2,2,  2406.3,2,   7.4084,2,    24.99,2, -999.00,9,  -999.0,9, -999.00,9, -999.00,9,     -999.0,9, 20220529,     1435,  30.0006, 179.7480,     2.1329,2,     -999.0,9,     -999.0,9,     -999.0,9,     -999.0,9,     0.0125,1,     4.7025,1,     -999.0,9,     -999.0,9,     -999.0,9
33RR20220430,        P02,      84,          1,         13,         13,2,20220529,       1321,    30.0006,   179.7481,       5360,  2026.1,2,   1.9435,2,  34.6016,2,  34.6014,2,     76.6,2,    76.5,2,  164.18,2,   41.00,2,    0.00,2,    2.89,2,-999.000,9,-999.000,9,-999.0000,9,  2371.8,2,  2411.8,2,   7.4344,2,    24.99,2, -999.00,9,  -999.0,9, -999.00,9, -999.00,9,     -999.0,9, 20220529,     1431,  30.0007, 179.7480,     1.9424,2,     -999.0,9,     -999.0,9,     -999.0,9,     -999.0,9,     0.0133,1,     4.7032,1,     -999.0,9,     -999.0,9,     -999.0,9
33RR20220430,        P02,      84,          1,         12,         12,2,20220529,       1321,    30.0006,   179.7481,       5360,  2280.3,2,   1.7767,2,  34.6253,2,  34.6252,2,     92.5,2,    92.7,2,  164.57,2,   39.95,2,    0.00,2,    2.80,2,   0.004,2,   0.000,2,   0.0000,2,  -999.0,9,  -999.0,9,-999.0000,9,  -999.00,9, -999.00,9,  -999.0,9, -999.00,9, -999.00,9,       30.7,2, 20220529,     1425,  30.0006, 179.7481,     1.7767,2,     -999.0,9,     -999.0,9,     -999.0,9,     -999.0,9,     0.0134,1,     4.7032,1,     -999.0,9,     -999.0,9,     -999.0,9
33RR20220430,        P02,      84,          1,         11,         11,2,20220529,       1321,    30.0006,   179.7481,       5360,  2533.2,2,   1.6481,2,  34.6433,2,  34.6429,2,    107.6,2,   107.7,2,  163.40,2,   38.96,2,    0.00,2,    2.73,2,-999.000,9,-999.000,9,-999.0000,9,  2356.7,2,  2418.9,2,   7.4943,2,    24.99,2, -999.00,9,  -999.0,9, -999.00,9, -999.00,9,     -999.0,9, 20220529,     1420,  30.0006, 179.7481,     1.6482,2,     -999.0,9,     -999.0,9,     -999.0,9,     -999.0,9,     0.0130,1,     4.7043,1,     -999.0,9,     -999.0,9,     -999.0,9
33RR20220430,        P02,      84,          1,         10,         10,2,20220529,       1321,    30.0006,   179.7481,       5360,  2789.1,2,   1.5732,2,  34.6551,2,  34.6559,2,    118.9,2,   119.3,2,  161.54,2,   38.21,2,    0.00,2,    2.67,2,-999.000,9,-999.000,9,-999.0000,9,  -999.0,9,  -999.0,9,-999.0000,9,  -999.00,9, -999.00,9,  -999.0,9, -999.00,9, -999.00,9,     -999.0,9, 20220529,     1415,  30.0007, 179.7480,     1.5731,2,     -999.0,9,     -999.0,9,     -999.0,9,     -999.0,9,     0.0121,1,     4.7045,1,     -999.0,9,     -999.0,9,     -999.0,9
33RR20220430,        P02,      84,          1,          9,          9,2,20220529,       1321,    30.0006,   179.7481,       5360,  3044.5,2,   1.5254,2,  34.6636,2,  34.6635,2,    127.6,2,   127.5,2,  159.98,2,   37.66,2,    0.00,2,    2.63,2,   0.005,2,   0.000,2,   0.0000,2,  2343.3,2,  2419.6,2,   7.5321,2,    24.99,2, -999.00,9,  -999.0,9, -999.00,9, -999.00,9,       24.7,2, 20220529,     1410,  30.0006, 179.7480,     1.5252,2,     -999.0,9,     -999.0,9,     -999.0,9,     -999.0,9,     0.0129,1,     4.7044,1,     -999.0,9,     -999.0,9,     -999.0,9
33RR20220430,        P02,      84,          1,          8,          8,2,20220529,       1321,    30.0006,   179.7481,       5360,  3350.0,2,   1.4815,2,  34.6720,2,  34.6720,2,    137.3,2,   137.2,2,  156.95,2,   37.02,2,    0.00,2,    2.58,2,-999.000,9,-999.000,9,-999.0000,9,  -999.0,9,  -999.0,9,-999.0000,9,  -999.00,9, -999.00,9,  -999.0,9, -999.00,9, -999.00,9,     -999.0,9, 20220529,     1404,  30.0006, 179.7480,     1.4814,2,     -999.0,9,     -999.0,9,     -999.0,9,     -999.0,9,     0.0122,1,     4.7055,1,     -999.0,9,     -999.0,9,     -999.0,9
33RR20220430,        P02,      84,          1,          7,          7,2,20220529,       1321,    30.0006,   179.7481,       5360,  3657.9,2,   1.4628,2,  34.6777,2,  34.6771,2,    143.9,2,   143.7,2,  155.38,2,   36.58,2,    0.00,2,    2.55,2,-999.000,9,-999.000,9,-999.0000,9,  2331.6,2,  2417.9,2,   7.5607,2,    24.99,2, -999.00,9,  -999.0,9, -999.00,9, -999.00,9,     -999.0,9, 20220529,     1358,  30.0007, 179.7481,     1.4626,2,     -999.0,9,     -999.0,9,     -999.0,9,     -999.0,9,     0.0125,1,     4.7054,1,     -999.0,9,     -999.0,9,     -999.0,9
33RR20220430,        P02,      84,          1,          6,          6,2,20220529,       1321,    30.0006,   179.7481,       5360,  3963.2,2,   1.4586,2,  34.6816,2,  34.6814,2,    149.0,2,   149.2,2,  153.72,2,   36.24,2,    0.00,2,    2.52,2,   0.006,2,   0.000,2,   0.0000,2,  -999.0,9,  -999.0,9,-999.0000,9,  -999.00,9, -999.00,9,  -999.0,9, -999.00,9, -999.00,9,       22.3,2, 20220529,     1352,  30.0006, 179.7481,     1.4584,2,     -999.0,9,     -999.0,9,     -999.0,9,     -999.0,9,     0.0125,1,     4.7056,1,     -999.0,9,     -999.0,9,     -999.0,9
33RR20220430,        P02,      84,          1,          5,          5,2,20220529,       1321,    30.0006,   179.7481,       5360,  4271.0,2,   1.4611,2,  34.6849,2,  34.6846,2,    153.6,2,   154.1,2,  151.18,2,   35.96,2,    0.00,2,    2.48,2,-999.000,9,-999.000,9,-999.0000,9,  2324.9,2,  2417.5,2,   7.5764,2,    24.99,2, -999.00,9,  -999.0,9, -999.00,9, -999.00,9,     -999.0,9, 20220529,     1346,  30.0007, 179.7481,     1.4611,2,     -999.0,9,     -999.0,9,     -999.0,9,     -999.0,9,     0.0122,1,     4.7057,1,     -999.0,9,     -999.0,9,     -999.0,9
33RR20220430,        P02,      84,          1,          4,          4,2,20220529,       1321,    30.0006,   179.7481,       5360,  4577.7,2,   1.4663,2,  34.6879,2,  34.6879,2,    158.6,2,   158.6,2,  147.86,2,   35.60,2,    0.00,2,    2.46,2,-999.000,9,-999.000,9,-999.0000,9,  2317.9,2,  2413.4,2,   7.5829,2,    24.99,2, -999.00,9,  -999.0,9, -999.00,9, -999.00,9,     -999.0,9, 20220529,     1339,  30.0006, 179.7481,     1.4662,2,     -999.0,9,     -999.0,9,     -999.0,9,     -999.0,9,     0.0122,1,     4.7055,1,     -999.0,9,     -999.0,9,     -999.0,9