BOTTLE,20230801CCHSIOCBG
EXPOCODE,SECT_ID,STNNBR,CASTNO,SAMPNO,BTLNBR,BTLNBR_FLAG_W,DATE,TIME,LATITUDE,LONGITUDE,DEPTH,CTDPRS,CTDPRS_FLAG_W,CTDTMP,CTDTMP_FLAG_W,CTDSAL,CTDSAL_FLAG_W,SALNTY,SALNTY_FLAG_W,CTDOXY,CTDOXY_FLAG_W,OXYGEN,OXYGEN_FLAG_W,SILCAT,SILCAT_FLAG_W,NITRAT,NITRAT_FLAG_W,NITRIT,NITRIT_FLAG_W,PHSPHT,PHSPHT_FLAG_W,CFC-11,CFC-11_FLAG_W,CFC-12,CFC-12_FLAG_W,SF6,SF6_FLAG_W,TCARBN,TCARBN_FLAG_W,ALKALI,ALKALI_FLAG_W,PH_TOT,PH_TOT_FLAG_W,PH_TMP,PH_TMP_FLAG_W,DELC13,DELC13_FLAG_W,DELC14,DELC14_FLAG_W,DOC,DOC_FLAG_W,TDN,TDN_FLAG_W,N2O,N2O_FLAG_W,BTL_DATE,BTL_TIME,BTL_LAT,BTL_LON,REFTMP,REFTMP_FLAG_W,POC,POC_FLAG_W,PON,PON_FLAG_W,POP,POP_FLAG_W,PCOD,PCOD_FLAG_W,CTDFLUOR,CTDFLUOR_FLAG_W,CTDXMISS,CTDXMISS_FLAG_W,HPLC,HPLC_FLAG_W,DNA,DNA_FLAG_W,FCM,FCM_FLAG_W
,,,,,,,,,,,METERS,DBAR,,ITS-90,,PSS-78,,PSS-78,,UMOL/KG,,UMOL/KG,,UMOL/KG,,UMOL/KG,,UMOL/KG,,UMOL/KG,,PMOL/KG,,PMOL/KG,,FMOL/KG,,UMOL/KG,,UMOL/KG,,,,DEG C,,/MILLE,,/MILLE,,UMOL/KG,,UMOL/KG,,NMOL/KG,,,,,,ITS-90,,UG/L,,UG/L,,UG/L,,UG/L,,VOLTS,,VOLTS,,,,,,,
33RR20220430,        P02,      77,          2,          3,          3,2,20220527,       1149,    30.0000,   175.7141,       5167,  4785.1,2,   1.4612,2,  34.6909,2,  34.6895,2,    163.8,2,   163.9,2,  144.55,2,   35.15,2,    0.00,2,    2.39,2,   0.008,2,   0.000,2,   0.0000,2,  2311.3,2,  2410.2,2,   7.5895,2,    25.03,2, -999.00,9,  -999.0,9, -999.00,9, -999.00,9,       21.4,2, 20220527,     1159,  30.0000, 175.7141,     1.4612,2,     -999.0,9,     -999.0,9,     -999.0,9,     -999.0,9,     0.0122,1,     4.7059,1,     -999.0,9,     -999.0,9,     -999.0,9
33RR20220430,        P02,      77,          2,          2,          2,2,20220527,       1149,    30.0000,   175.7141,       5167,  5093.8,2,   1.4742,2,  34.6929,3,  34.6903,2,    168.1,2,   168.2,2,  140.16,2,   34.82,2,    0.00,2,    2.37,2,-999.000,9,-999.000,9,-999.0000,9,  2308.6,6,  2407.6,2,   7.5947,2,    25.01,2, -999.00,9,  -999.0,9, -999.00,9, -999.00,9,     -999.0,9, 20220527,     1153,  30.0000, 175.7141,     1.4743,2,     -999.0,9,     -999.0,9,     -999.0,9,     -999.0,9,     0.0122,1,     4.7049,1,     -999.0,9,     -999.0,9,     -999.0,9
33RR20220430,        P02,      77,          2,          1,          1,2,20220527,       1149,    30.0000,   175.7141,       5167,  5257.1,2,   1.4775,2,  34.6943,2,  34.6938,2,    171.0,2,   170.9,2,  138.11,2,   34.65,2,    0.00,2,    2.37,2,   0.011,2,   0.000,2,   0.0000,2,  2305.0,2,  2404.9,2,   7.5958,2,    25.01,2, -999.00,9,  -999.0,9, -999.00,9, -999.00,9,       21.4,2, 20220527,     1149,  30.0000, 175.7142,     1.4777,2,     -999.0,9,     -999.0,9,     -999.0,9,     -999.0,9,     0.0122,1,     4.7043,1,     -999.0,9,     -999.0,9,     -999.0,9