BOTTLE,20230801CCHSIOCBG
EXPOCODE,SECT_ID,STNNBR,CASTNO,SAMPNO,BTLNBR,BTLNBR_FLAG_W,DATE,TIME,LATITUDE,LONGITUDE,DEPTH,CTDPRS,CTDPRS_FLAG_W,CTDTMP,CTDTMP_FLAG_W,CTDSAL,CTDSAL_FLAG_W,SALNTY,SALNTY_FLAG_W,CTDOXY,CTDOXY_FLAG_W,OXYGEN,OXYGEN_FLAG_W,SILCAT,SILCAT_FLAG_W,NITRAT,NITRAT_FLAG_W,NITRIT,NITRIT_FLAG_W,PHSPHT,PHSPHT_FLAG_W,CFC-11,CFC-11_FLAG_W,CFC-12,CFC-12_FLAG_W,SF6,SF6_FLAG_W,TCARBN,TCARBN_FLAG_W,ALKALI,ALKALI_FLAG_W,PH_TOT,PH_TOT_FLAG_W,PH_TMP,PH_TMP_FLAG_W,DELC13,DELC13_FLAG_W,DELC14,DELC14_FLAG_W,DOC,DOC_FLAG_W,TDN,TDN_FLAG_W,N2O,N2O_FLAG_W,BTL_DATE,BTL_TIME,BTL_LAT,BTL_LON,REFTMP,REFTMP_FLAG_W,POC,POC_FLAG_W,PON,PON_FLAG_W,POP,POP_FLAG_W,PCOD,PCOD_FLAG_W,CTDFLUOR,CTDFLUOR_FLAG_W,CTDXMISS,CTDXMISS_FLAG_W,HPLC,HPLC_FLAG_W,DNA,DNA_FLAG_W,FCM,FCM_FLAG_W
,,,,,,,,,,,METERS,DBAR,,ITS-90,,PSS-78,,PSS-78,,UMOL/KG,,UMOL/KG,,UMOL/KG,,UMOL/KG,,UMOL/KG,,UMOL/KG,,PMOL/KG,,PMOL/KG,,FMOL/KG,,UMOL/KG,,UMOL/KG,,,,DEG C,,/MILLE,,/MILLE,,UMOL/KG,,UMOL/KG,,NMOL/KG,,,,,,ITS-90,,UG/L,,UG/L,,UG/L,,UG/L,,VOLTS,,VOLTS,,,,,,,
33RR20220430,        P02,      76,          1,          3,          3,2,20220527,       0321,    30.0007,   175.1323,       5286,  4681.3,2,   1.4577,2,  34.6900,2,  34.6881,2,    162.0,2,   162.0,2,  144.46,2,   35.13,2,    0.00,2,    2.42,2,   0.008,2,   0.000,2,   0.0000,2,  2316.0,2,  2411.2,2,   7.5875,2,    25.02,2, -999.00,9,  -999.0,9, -999.00,1, -999.00,1,       22.5,2, 20220527,      335,  30.0007, 175.1323,     1.4575,2,     -999.0,9,     -999.0,9,     -999.0,9,     -999.0,9,     0.0122,1,     4.7068,1,     -999.0,9,     -999.0,9,     -999.0,9
33RR20220430,        P02,      76,          1,          2,          2,2,20220527,       0321,    30.0007,   175.1323,       5286,  4991.4,2,   1.4658,2,  34.6926,2,  34.6910,2,    167.0,2,   167.1,2,  140.35,2,   34.80,2,    0.00,2,    2.37,2,-999.000,9,-999.000,9,-999.0000,9,  2310.1,2,  2409.0,2,   7.5934,2,    25.02,2, -999.00,9,  -999.0,9, -999.00,9, -999.00,9,     -999.0,9, 20220527,      329,  30.0007, 175.1323,     1.4658,2,     -999.0,9,     -999.0,9,     -999.0,9,     -999.0,9,     0.0122,1,     4.7056,1,     -999.0,9,     -999.0,9,     -999.0,9
33RR20220430,        P02,      76,          1,          1,          1,2,20220527,       0321,    30.0007,   175.1323,       5286,  5381.4,2,   1.4659,2,  34.6962,2,  34.6954,2,    175.3,2,   175.5,2,  133.91,2,   34.18,2,    0.00,2,    2.34,2,   0.014,2,   0.000,2,   0.0000,2,  2301.9,6,  2401.1,2,   7.6000,2,    25.01,2, -999.00,9,  -999.0,9, -999.00,1, -999.00,1,       21.3,2, 20220527,      321,  30.0007, 175.1323,     1.4651,2,     -999.0,9,     -999.0,9,     -999.0,9,     -999.0,9,     0.0122,1,     4.7045,1,     -999.0,9,     -999.0,9,     -999.0,9
33RR20220430,        P02,      77,          1,         14,         14,2,20220527,       0856,    30.0000,   175.7142,       5167,     3.6,2,  22.4782,2,  35.2627,2,-999.0000,9,    208.5,2,  -999.0,9, -999.00,9, -999.00,9, -999.00,9, -999.00,9,-999.000,9,-999.000,9,-999.0000,9,  -999.0,9,  -999.0,9,-999.0000,9,  -999.00,9, -999.00,9,  -999.0,9, -999.00,9, -999.00,9,     -999.0,9, 20220527,      924,  30.0000, 175.7141,    22.4674,2,     -999.0,9,     -999.0,9,     -999.0,1,     -999.0,9,     0.0153,1,     4.6355,1,     -999.0,9,     -999.0,9,     -999.0,9
33RR20220430,        P02,      77,          1,         16,         16,2,20220527,       0856,    30.0000,   175.7142,       5167,     3.7,2,  22.4708,2,  35.2613,2,-999.0000,9,    208.3,2,  -999.0,9, -999.00,9, -999.00,9, -999.00,9, -999.00,9,-999.000,9,-999.000,9,-999.0000,9,  -999.0,9,  -999.0,9,-999.0000,9,  -999.00,9, -999.00,9,  -999.0,9, -999.00,9, -999.00,9,     -999.0,9, 20220527,      925,  30.0000, 175.7142,    22.4646,2,     -999.0,9,     -999.0,9,     -999.0,1,     -999.0,9,     0.0147,1,     4.6343,1,     -999.0,9,     -999.0,9,     -999.0,9
33RR20220430,        P02,      77,          1,         11,         11,2,20220527,       0856,    30.0000,   175.7142,       5167,     3.8,2,  22.4805,2,  35.2627,2,-999.0000,9,    208.7,2,  -999.0,9, -999.00,9, -999.00,9, -999.00,9, -999.00,9,-999.000,9,-999.000,9,-999.0000,9,  -999.0,9,  -999.0,9,-999.0000,9,  -999.00,9, -999.00,9,  -999.0,9, -999.00,9, -999.00,9,     -999.0,9, 20220527,      923,  30.0000, 175.7142,    22.4706,2,     -999.0,1,     -999.0,1,     -999.0,9,     -999.0,9,     0.0142,1,     4.6360,1,     -999.0,9,     -999.0,9,     -999.0,9
33RR20220430,        P02,      77,          1,         18,         18,2,20220527,       0856,    30.0000,   175.7142,       5167,     3.9,2,  22.4834,2,  35.2626,2,-999.0000,9,    208.9,2,  -999.0,9, -999.00,9, -999.00,9, -999.00,9, -999.00,9,-999.000,9,-999.000,9,-999.0000,9,  -999.0,9,  -999.0,9,-999.0000,9,  -999.00,9, -999.00,9,  -999.0,9, -999.00,9, -999.00,9,     -999.0,9, 20220527,      925,  30.0000, 175.7141,    22.4748,2,     -999.0,9,     -999.0,9,     -999.0,9,     -999.0,1,     0.0147,1,     4.6344,1,     -999.0,9,     -999.0,9,     -999.0,9
33RR20220430,        P02,      77,          1,         17,         17,2,20220527,       0856,    30.0000,   175.7142,       5167,     4.0,2,  22.4750,2,  35.2620,2,-999.0000,9,    208.4,2,  -999.0,9, -999.00,9, -999.00,9, -999.00,9, -999.00,9,-999.000,9,-999.000,9,-999.0000,9,  -999.0,9,  -999.0,9,-999.0000,9,  -999.00,9, -999.00,9,  -999.0,9, -999.00,9, -999.00,9,     -999.0,9, 20220527,      925,  30.0000, 175.7141,    22.4678,2,     -999.0,9,     -999.0,9,     -999.0,9,     -999.0,1,     0.0139,1,     4.6347,1,     -999.0,9,     -999.0,9,     -999.0,9
33RR20220430,        P02,      77,          1,          9,          9,2,20220527,       0856,    30.0000,   175.7142,       5167,     4.1,2,  22.4743,2,  35.2620,2,-999.0000,9,    208.9,2,  -999.0,9, -999.00,9, -999.00,9, -999.00,9, -999.00,9,-999.000,9,-999.000,9,-999.0000,9,  -999.0,9,  -999.0,9,-999.0000,9,  -999.00,9, -999.00,9,  -999.0,9, -999.00,9, -999.00,9,     -999.0,9, 20220527,      923,  30.0000, 175.7141,    22.4676,2,     -999.0,9,     -999.0,9,     -999.0,9,     -999.0,9,     0.0138,1,     4.6365,1,     -999.0,1,     -999.0,9,     -999.0,1
33RR20220430,        P02,      77,          1,         12,         12,2,20220527,       0856,    30.0000,   175.7142,       5167,     4.2,2,  22.4795,2,  35.2627,2,-999.0000,9,    208.4,2,  -999.0,9, -999.00,9, -999.00,9, -999.00,9, -999.00,9,-999.000,9,-999.000,9,-999.0000,9,  -999.0,9,  -999.0,9,-999.0000,9,  -999.00,9, -999.00,9,  -999.0,9, -999.00,9, -999.00,9,     -999.0,9, 20220527,      924,  30.0000, 175.7142,    22.4702,2,     -999.0,1,     -999.0,1,     -999.0,9,     -999.0,9,     0.0147,1,     4.6359,1,     -999.0,9,     -999.0,9,     -999.0,9
33RR20220430,        P02,      77,          1,         15,         15,2,20220527,       0856,    30.0000,   175.7142,       5167,     4.4,2,  22.4728,2,  35.2622,2,-999.0000,9,    208.9,2,  -999.0,9, -999.00,9, -999.00,9, -999.00,9, -999.00,9,-999.000,9,-999.000,9,-999.0000,9,  -999.0,9,  -999.0,9,-999.0000,9,  -999.00,9, -999.00,9,  -999.0,9, -999.00,9, -999.00,9,     -999.0,9, 20220527,      924,  30.0000, 175.7142,    22.4645,2,     -999.0,9,     -999.0,9,     -999.0,1,     -999.0,9,     0.0135,1,     4.6359,1,     -999.0,9,     -999.0,9,     -999.0,9
33RR20220430,        P02,      77,          1,         19,         19,2,20220527,       0856,    30.0000,   175.7142,       5167,     4.5,2,  22.4824,2,  35.2631,2,-999.0000,9,    208.2,2,  -999.0,9, -999.00,9, -999.00,9, -999.00,9, -999.00,9,-999.000,9,-999.000,9,-999.0000,9,  -999.0,9,  -999.0,9,-999.0000,9,  -999.00,9, -999.00,9,  -999.0,9, -999.00,9, -999.00,9,     -999.0,9, 20220527,      926,  30.0000, 175.7142,    22.4738,2,     -999.0,9,     -999.0,9,     -999.0,9,     -999.0,1,     0.0157,1,     4.6348,1,     -999.0,9,     -999.0,9,     -999.0,9
33RR20220430,        P02,      77,          1,         13,         13,2,20220527,       0856,    30.0000,   175.7142,       5167,     4.6,2,  22.4792,2,  35.2626,2,-999.0000,9,    208.7,2,  -999.0,9, -999.00,9, -999.00,9, -999.00,9, -999.00,9,-999.000,9,-999.000,9,-999.0000,9,  -999.0,9,  -999.0,9,-999.0000,9,  -999.00,9, -999.00,9,  -999.0,9, -999.00,9, -999.00,9,     -999.0,9, 20220527,      924,  30.0000, 175.7141,    22.4692,2,     -999.0,1,     -999.0,1,     -999.0,9,     -999.0,9,     0.0141,1,     4.6349,1,     -999.0,9,     -999.0,9,     -999.0,9
33RR20220430,        P02,      77,          1,         10,         10,2,20220527,       0856,    30.0000,   175.7142,       5167,     4.8,2,  22.4787,2,  35.2627,2,-999.0000,9,    208.7,2,  -999.0,9, -999.00,9, -999.00,9, -999.00,9, -999.00,9,-999.000,9,-999.000,9,-999.0000,9,  -999.0,9,  -999.0,9,-999.0000,9,  -999.00,9, -999.00,9,  -999.0,9, -999.00,9, -999.00,9,     -999.0,9, 20220527,      923,  30.0000, 175.7141,    22.4705,2,     -999.0,9,     -999.0,9,     -999.0,9,     -999.0,9,     0.0147,1,     4.6354,1,     -999.0,9,     -999.0,1,     -999.0,9
33RR20220430,        P02,      77,          1,          8,          8,2,20220527,       0856,    30.0000,   175.7142,       5167,    42.3,2,  21.0346,2,  35.1657,2,-999.0000,9,    218.2,2,  -999.0,9, -999.00,9, -999.00,9, -999.00,9, -999.00,9,-999.000,9,-999.000,9,-999.0000,9,  -999.0,9,  -999.0,9,-999.0000,9,  -999.00,9, -999.00,9,  -999.0,9, -999.00,9, -999.00,9,     -999.0,9, 20220527,      920,  30.0000, 175.7141,    21.0270,2,     -999.0,9,     -999.0,9,     -999.0,9,     -999.0,9,     0.0183,1,     4.6288,1,     -999.0,1,     -999.0,9,     -999.0,1
33RR20220430,        P02,      77,          1,          7,          7,2,20220527,       0856,    30.0000,   175.7142,       5167,    76.6,2,  18.5428,2,  34.8430,2,-999.0000,9,    224.9,2,  -999.0,9, -999.00,9, -999.00,9, -999.00,9, -999.00,9,-999.000,9,-999.000,9,-999.0000,9,  -999.0,9,  -999.0,9,-999.0000,9,  -999.00,9, -999.00,9,  -999.0,9, -999.00,9, -999.00,9,     -999.0,9, 20220527,      918,  30.0000, 175.7142,    18.5449,2,     -999.0,9,     -999.0,9,     -999.0,9,     -999.0,9,     0.0256,1,     4.6344,1,     -999.0,9,     -999.0,9,     -999.0,1
33RR20220430,        P02,      77,          1,          5,          5,2,20220527,       0856,    30.0000,   175.7142,       5167,   103.4,2,  17.9377,2,  34.7886,2,-999.0000,9,    215.1,2,  -999.0,9, -999.00,9, -999.00,9, -999.00,9, -999.00,9,-999.000,9,-999.000,9,-999.0000,9,  -999.0,9,  -999.0,9,-999.0000,9,  -999.00,9, -999.00,9,  -999.0,9, -999.00,9, -999.00,9,     -999.0,9, 20220527,      915,  30.0000, 175.7142,    17.9155,2,     -999.0,9,     -999.0,9,     -999.0,9,     -999.0,9,     0.0429,1,     4.6270,1,     -999.0,9,     -999.0,1,     -999.0,9
33RR20220430,        P02,      77,          1,          6,          6,2,20220527,       0856,    30.0000,   175.7142,       5167,   104.5,2,  17.9264,2,  34.7873,2,-999.0000,9,    214.8,2,  -999.0,9, -999.00,9, -999.00,9, -999.00,9, -999.00,9,-999.000,9,-999.000,9,-999.0000,9,  -999.0,9,  -999.0,9,-999.0000,9,  -999.00,9, -999.00,9,  -999.0,9, -999.00,9, -999.00,9,     -999.0,9, 20220527,      916,  30.0000, 175.7141,    17.9272,2,     -999.0,9,     -999.0,9,     -999.0,9,     -999.0,9,     0.0431,1,     4.6287,1,     -999.0,1,     -999.0,9,     -999.0,1
33RR20220430,        P02,      77,          1,          4,          4,2,20220527,       0856,    30.0000,   175.7142,       5167,   154.0,2,  16.8447,2,  34.6572,2,-999.0000,9,    215.1,2,  -999.0,9, -999.00,9, -999.00,9, -999.00,9, -999.00,9,-999.000,9,-999.000,9,-999.0000,9,  -999.0,9,  -999.0,9,-999.0000,9,  -999.00,9, -999.00,9,  -999.0,9, -999.00,9, -999.00,9,     -999.0,9, 20220527,      913,  30.0000, 175.7142,    16.8343,2,     -999.0,9,     -999.0,9,     -999.0,9,     -999.0,9,     0.0179,1,     4.6787,1,     -999.0,9,     -999.0,9,     -999.0,1
33RR20220430,        P02,      77,          1,          3,          3,2,20220527,       0856,    30.0000,   175.7142,       5167,   204.9,2,  16.2763,2,  34.6192,2,-999.0000,9,    214.5,2,  -999.0,9, -999.00,9, -999.00,9, -999.00,9, -999.00,9,-999.000,9,-999.000,9,-999.0000,9,  -999.0,9,  -999.0,9,-999.0000,9,  -999.00,9, -999.00,9,  -999.0,9, -999.00,9, -999.00,9,     -999.0,9, 20220527,      911,  30.0000, 175.7142,    16.2741,2,     -999.0,9,     -999.0,9,     -999.0,9,     -999.0,9,     0.0122,1,     4.6876,1,     -999.0,9,     -999.0,1,     -999.0,1
33RR20220430,        P02,      77,          1,          2,          2,2,20220527,       0856,    30.0000,   175.7142,       5167,   507.7,2,   9.5734,2,  34.1291,2,-999.0000,9,    174.3,2,  -999.0,9, -999.00,9, -999.00,9, -999.00,9, -999.00,9,-999.000,9,-999.000,9,-999.0000,9,  -999.0,9,  -999.0,9,-999.0000,9,  -999.00,9, -999.00,9,  -999.0,9, -999.00,9, -999.00,9,     -999.0,9, 20220527,      905,  30.0000, 175.7142,     9.5687,2,     -999.0,9,     -999.0,9,     -999.0,9,     -999.0,9,     0.0122,1,     4.7006,1,     -999.0,9,     -999.0,9,     -999.0,1
33RR20220430,        P02,      77,          1,          1,          1,2,20220527,       0856,    30.0000,   175.7142,       5167,  1009.9,2,   3.6922,2,  34.2835,2,-999.0000,9,     29.9,2,  -999.0,9, -999.00,9, -999.00,9, -999.00,9, -999.00,9,-999.000,9,-999.000,9,-999.0000,9,  -999.0,9,  -999.0,9,-999.0000,9,  -999.00,9, -999.00,9,  -999.0,9, -999.00,9, -999.00,9,     -999.0,9, 20220527,      856,  30.0000, 175.7142,     3.6857,2,     -999.0,9,     -999.0,9,     -999.0,9,     -999.0,9,     0.0134,1,     4.7007,1,     -999.0,9,     -999.0,1,     -999.0,1