BOTTLE,20230801CCHSIOCBG
EXPOCODE,SECT_ID,STNNBR,CASTNO,SAMPNO,BTLNBR,BTLNBR_FLAG_W,DATE,TIME,LATITUDE,LONGITUDE,DEPTH,CTDPRS,CTDPRS_FLAG_W,CTDTMP,CTDTMP_FLAG_W,CTDSAL,CTDSAL_FLAG_W,SALNTY,SALNTY_FLAG_W,CTDOXY,CTDOXY_FLAG_W,OXYGEN,OXYGEN_FLAG_W,SILCAT,SILCAT_FLAG_W,NITRAT,NITRAT_FLAG_W,NITRIT,NITRIT_FLAG_W,PHSPHT,PHSPHT_FLAG_W,CFC-11,CFC-11_FLAG_W,CFC-12,CFC-12_FLAG_W,SF6,SF6_FLAG_W,TCARBN,TCARBN_FLAG_W,ALKALI,ALKALI_FLAG_W,PH_TOT,PH_TOT_FLAG_W,PH_TMP,PH_TMP_FLAG_W,DELC13,DELC13_FLAG_W,DELC14,DELC14_FLAG_W,DOC,DOC_FLAG_W,TDN,TDN_FLAG_W,N2O,N2O_FLAG_W,BTL_DATE,BTL_TIME,BTL_LAT,BTL_LON,REFTMP,REFTMP_FLAG_W,POC,POC_FLAG_W,PON,PON_FLAG_W,POP,POP_FLAG_W,PCOD,PCOD_FLAG_W,CTDFLUOR,CTDFLUOR_FLAG_W,CTDXMISS,CTDXMISS_FLAG_W,HPLC,HPLC_FLAG_W,DNA,DNA_FLAG_W,FCM,FCM_FLAG_W
,,,,,,,,,,,METERS,DBAR,,ITS-90,,PSS-78,,PSS-78,,UMOL/KG,,UMOL/KG,,UMOL/KG,,UMOL/KG,,UMOL/KG,,UMOL/KG,,PMOL/KG,,PMOL/KG,,FMOL/KG,,UMOL/KG,,UMOL/KG,,,,DEG C,,/MILLE,,/MILLE,,UMOL/KG,,UMOL/KG,,NMOL/KG,,,,,,ITS-90,,UG/L,,UG/L,,UG/L,,UG/L,,VOLTS,,VOLTS,,,,,,,
33RR20220430,        P02,      72,          1,         33,         33,2,20220526,       0223,    30.0004,   173.3407,       4370,     4.3,2,  21.4311,2,  35.0787,2,  35.0622,2,    227.7,2,   227.4,2,    1.56,2,    0.02,2,    0.00,2,    0.00,2,   1.827,2,   1.221,2,   2.0142,2,  2023.2,2,  2302.7,2,   8.0051,2,    24.97,2, -999.00,9,  -999.0,9, -999.00,1, -999.00,1,        7.9,2, 20220526,      415,  30.0004, 173.3407,    21.6524,3,     -999.0,9,     -999.0,9,     -999.0,9,     -999.0,9,     0.0142,1,     4.6258,1,     -999.0,9,     -999.0,9,     -999.0,9
33RR20220430,        P02,      72,          1,         32,         32,2,20220526,       0223,    30.0004,   173.3407,       4370,    26.5,2,  20.4064,2,  35.0488,2,  35.0337,2,    228.4,2,   229.6,2,    1.56,2,    0.01,2,    0.00,2,    0.01,2,   1.866,2,   1.241,2,   2.0442,2,  2022.3,2,  2301.2,2,   8.0043,2,    25.00,2, -999.00,9,  -999.0,9, -999.00,1, -999.00,1,        8.1,2, 20220526,      414,  30.0004, 173.3407,    20.4084,2,     -999.0,9,     -999.0,9,     -999.0,9,     -999.0,9,     0.0147,1,     4.6311,1,     -999.0,9,     -999.0,9,     -999.0,9
33RR20220430,        P02,      72,          1,         31,         31,2,20220526,       0223,    30.0004,   173.3407,       4370,    51.3,2,  19.3747,2,  34.9544,2,  34.9431,2,    229.5,2,   230.9,2,    1.76,2,    0.01,2,    0.00,2,    0.01,2,   1.947,2,   1.267,2,   2.1100,2,  2022.9,2,  2295.9,2,   7.9925,2,    25.00,2, -999.00,9,  -999.0,9, -999.00,1, -999.00,1,        8.4,2, 20220526,      412,  30.0003, 173.3407,    19.3754,2,     -999.0,9,     -999.0,9,     -999.0,9,     -999.0,9,     0.0184,1,     4.6200,1,     -999.0,9,     -999.0,9,     -999.0,9
33RR20220430,        P02,      72,          1,         30,         30,2,20220526,       0223,    30.0004,   173.3407,       4370,    75.7,2,  18.3774,2,  34.8581,2,  34.8497,2,    231.1,2,   233.2,2,    1.95,2,    0.05,2,    0.01,2,    0.01,2,   2.018,2,   1.308,2,   2.1532,2,  2025.8,2,  2288.5,2,   7.9794,2,    24.99,2, -999.00,9,  -999.0,9, -999.00,1, -999.00,1,        8.6,2, 20220526,      410,  30.0004, 173.3407,    18.3738,2,     -999.0,9,     -999.0,9,     -999.0,9,     -999.0,9,     0.0428,1,     4.6046,1,     -999.0,9,     -999.0,9,     -999.0,9
33RR20220430,        P02,      72,          1,         29,         29,2,20220526,       0223,    30.0004,   173.3407,       4370,   101.3,2,  17.3940,2,  34.7425,2,  34.7319,2,    222.4,2,   222.1,2,    2.64,2,    2.16,2,    0.04,2,    0.16,2,   2.106,2,   1.340,2,   2.2673,2,  2036.6,2,  2279.1,2,   7.9469,2,    25.00,2, -999.00,9,  -999.0,9, -999.00,1, -999.00,1,        9.2,2, 20220526,      407,  30.0004, 173.3407,    17.3921,2,     -999.0,9,     -999.0,9,     -999.0,9,     -999.0,9,     0.0284,1,     4.6526,1,     -999.0,9,     -999.0,9,     -999.0,9
33RR20220430,        P02,      72,          1,         28,         28,2,20220526,       0223,    30.0004,   173.3407,       4370,   152.3,2,  16.6225,2,  34.6678,2,  34.6570,2,    226.3,2,   226.0,2,    3.22,2,    3.15,2,    0.02,2,    0.22,2,   2.168,2,   1.383,2,   2.1830,2,  2037.7,2,  2276.1,2,   7.9355,2,    24.97,2, -999.00,9,  -999.0,9, -999.00,1, -999.00,1,        9.5,2, 20220526,      406,  30.0004, 173.3407,    16.6201,2,     -999.0,9,     -999.0,9,     -999.0,9,     -999.0,9,     0.0134,1,     4.6826,1,     -999.0,9,     -999.0,9,     -999.0,9
33RR20220430,        P02,      72,          1,         27,         27,2,20220526,       0223,    30.0004,   173.3407,       4370,   202.4,2,  16.2999,2,  34.6533,2,  34.6437,2,    228.7,2,   228.9,2,    3.61,2,    3.46,2,    0.00,2,    0.25,2,   2.206,2,   1.399,2,   2.3041,2,  2041.1,2,  2277.2,2,   7.9321,2,    24.98,2, -999.00,9,  -999.0,9, -999.00,1, -999.00,1,        9.6,2, 20220526,      404,  30.0004, 173.3407,    16.3028,2,     -999.0,9,     -999.0,9,     -999.0,9,     -999.0,9,     0.0134,1,     4.6846,1,     -999.0,9,     -999.0,9,     -999.0,9
33RR20220430,        P02,      72,          1,         26,         26,2,20220526,       0223,    30.0004,   173.3407,       4370,   252.4,2,  15.9653,2,  34.6542,2,  34.6433,2,    226.1,2,   225.7,2,    4.79,2,    4.50,2,    0.00,2,    0.32,2,   2.225,2,   1.411,2,   2.2152,2,  -999.0,9,  -999.0,9,-999.0000,9,  -999.00,9, -999.00,9,  -999.0,9, -999.00,1, -999.00,1,       10.1,2, 20220526,      402,  30.0004, 173.3407,    15.9643,2,     -999.0,9,     -999.0,9,     -999.0,9,     -999.0,9,     0.0134,1,     4.6836,1,     -999.0,9,     -999.0,9,     -999.0,9
33RR20220430,        P02,      72,          1,         25,         25,2,20220526,       0223,    30.0004,   173.3407,       4370,   303.8,2,  15.3490,2,  34.5996,2,  34.5934,2,    217.0,2,   216.8,2,    6.45,2,    6.18,2,    0.00,2,    0.44,2,   2.270,2,   1.449,2,   2.1754,2,  2058.7,6,  2274.3,2,   7.8935,2,    24.98,2, -999.00,9,  -999.0,9, -999.00,1, -999.00,1,       11.2,2, 20220526,      400,  30.0004, 173.3407,    15.3486,2,     -999.0,9,     -999.0,9,     -999.0,9,     -999.0,9,     0.0122,1,     4.6877,1,     -999.0,9,     -999.0,9,     -999.0,9
33RR20220430,        P02,      72,          1,         24,         24,2,20220526,       0223,    30.0004,   173.3407,       4370,   353.0,2,  14.1945,2,  34.5088,2,  34.5013,2,    204.9,2,   203.5,2,   10.26,2,    9.26,2,    0.00,2,    0.65,2,   2.378,2,   1.498,2,   1.9487,2,  -999.0,9,  -999.0,9,-999.0000,9,  -999.00,9, -999.00,9,  -999.0,9, -999.00,1, -999.00,1,       13.1,2, 20220526,      358,  30.0004, 173.3407,    14.1951,2,     -999.0,9,     -999.0,9,     -999.0,9,     -999.0,9,     0.0122,1,     4.6914,1,     -999.0,9,     -999.0,9,     -999.0,9
33RR20220430,        P02,      72,          1,         23,         23,2,20220526,       0223,    30.0004,   173.3407,       4370,   403.4,2,  12.7464,2,  34.3986,2,  34.3908,2,    203.1,2,   202.6,2,   14.66,2,   11.85,2,    0.00,2,    0.85,2,   2.543,2,   1.572,2,   2.1173,2,  2098.2,2,  2273.0,2,   7.8026,2,    25.00,2, -999.00,9,  -999.0,9, -999.00,1, -999.00,1,       14.6,2, 20220526,      356,  30.0004, 173.3407,    12.7434,2,     -999.0,9,     -999.0,9,     -999.0,9,     -999.0,9,     0.0122,1,     4.6919,1,     -999.0,9,     -999.0,9,     -999.0,9
33RR20220430,        P02,      72,          1,         22,         22,2,20220526,       0223,    30.0004,   173.3407,       4370,   504.4,2,   9.9990,2,  34.1691,2,  34.1619,2,    203.6,2,   204.9,2,   23.55,2,   16.44,2,    0.00,2,    1.19,2,   2.751,2,   1.681,2,   1.9562,2,  2130.5,2,  2268.6,2,   7.7256,2,    25.00,2, -999.00,9,  -999.0,9, -999.00,1, -999.00,1,       17.3,2, 20220526,      353,  30.0004, 173.3407,     9.9882,2,     -999.0,9,     -999.0,9,     -999.0,9,     -999.0,9,     0.0122,1,     4.6946,1,     -999.0,9,     -999.0,9,     -999.0,9
33RR20220430,        P02,      72,          1,         21,         21,2,20220526,       0223,    30.0004,   173.3407,       4370,   605.4,2,   7.5206,2,  34.0025,2,  34.0004,2,    177.8,2,   178.0,2,   40.36,2,   23.31,2,    0.00,2,    1.71,2,   2.664,2,   1.623,2,   1.7557,2,  2175.1,2,  2275.3,2,   7.6144,2,    24.99,2, -999.00,9,  -999.0,9, -999.00,1, -999.00,1,       23.2,2, 20220526,      350,  30.0004, 173.3407,     7.5219,2,     -999.0,9,     -999.0,9,     -999.0,9,     -999.0,9,     0.0122,1,     4.6988,1,     -999.0,9,     -999.0,9,     -999.0,9
33RR20220430,        P02,      72,          1,         20,         20,2,20220526,       0223,    30.0004,   173.3407,       4370,   706.5,2,   5.7528,2,  33.9880,2,  33.9872,2,    124.9,2,   124.6,2,   64.80,2,   31.37,2,    0.00,2,    2.28,2,   2.062,2,   1.290,2,   1.1961,2,  2238.2,2,  2292.3,2,   7.4810,2,    25.00,2, -999.00,9,  -999.0,9, -999.00,9, -999.00,9,       32.6,2, 20220526,      348,  30.0004, 173.3407,     5.7551,2,     -999.0,9,     -999.0,9,     -999.0,9,     -999.0,9,     0.0122,1,     4.6994,1,     -999.0,9,     -999.0,9,     -999.0,9
33RR20220430,        P02,      72,          1,         19,         19,2,20220526,       0223,    30.0004,   173.3407,       4370,   810.7,2,   4.8088,2,  34.0750,2,  34.0756,2,     80.0,2,    80.0,2,   86.98,2,   36.84,2,    0.00,2,    2.67,2,   1.415,2,   0.873,2,   0.7545,2,  2286.6,2,  2311.8,2,   7.3930,2,    24.99,2, -999.00,9,  -999.0,9, -999.00,1, -999.00,1,       41.0,2, 20220526,      345,  30.0004, 173.3407,     4.8097,2,     -999.0,9,     -999.0,9,     -999.0,9,     -999.0,9,     0.0134,1,     4.6983,1,     -999.0,9,     -999.0,9,     -999.0,9
33RR20220430,        P02,      72,          1,         18,         18,2,20220526,       0223,    30.0004,   173.3407,       4370,   909.4,2,   4.2103,2,  34.1827,2,  34.1838,2,     50.4,2,    50.5,2,  105.15,2,   40.08,2,    0.00,2,    2.91,2,-999.000,9,-999.000,9,-999.0000,9,  2320.6,2,  2333.2,2,   7.3496,2,    24.97,2, -999.00,9,  -999.0,9, -999.00,9, -999.00,9,     -999.0,9, 20220526,      342,  30.0004, 173.3407,     4.2143,2,     -999.0,9,     -999.0,9,     -999.0,9,     -999.0,9,     0.0134,1,     4.7006,1,     -999.0,9,     -999.0,9,     -999.0,9
33RR20220430,        P02,      72,          1,         17,         17,2,20220526,       0223,    30.0004,   173.3407,       4370,  1011.0,2,   3.6905,2,  34.2724,2,  34.2711,2,     37.4,2,    37.8,2,  120.09,2,   41.62,2,    0.00,2,    3.01,2,   0.434,2,   0.267,2,   0.1316,2,  2346.0,2,  2350.6,2,   7.3333,2,    24.98,2, -999.00,9,  -999.0,9, -999.00,1, -999.00,1,       51.4,2, 20220526,      339,  30.0005, 173.3408,     3.6948,2,     -999.0,9,     -999.0,9,     -999.0,9,     -999.0,9,     0.0134,1,     4.7000,1,     -999.0,9,     -999.0,9,     -999.0,9
33RR20220430,        P02,      72,          1,         16,         16,2,20220526,       0223,    30.0004,   173.3407,       4370,  1110.4,2,   3.2973,2,  34.3468,2,  34.3466,2,     30.8,3,    35.5,2,  132.59,2,   42.54,2,    0.00,2,    3.09,2,-999.000,9,-999.000,9,-999.0000,9,  -999.0,9,  -999.0,9,-999.0000,9,  -999.00,9, -999.00,9,  -999.0,9, -999.00,9, -999.00,9,     -999.0,9, 20220526,      337,  30.0005, 173.3408,     3.2981,2,     -999.0,9,     -999.0,9,     -999.0,9,     -999.0,9,     0.0134,1,     4.7008,1,     -999.0,9,     -999.0,9,     -999.0,9
33RR20220430,        P02,      72,          1,         15,         15,2,20220526,       0223,    30.0004,   173.3407,       4370,  1211.7,2,   3.0934,2,  34.3888,2,  34.3888,2,     28.1,2,    27.8,2,  139.43,2,   43.01,2,    0.00,2,    3.12,2,   0.132,2,   0.079,2,   0.0000,2,  2371.0,2,  2374.4,2,   7.3282,2,    24.97,2, -999.00,9,  -999.0,9, -999.00,1, -999.00,1,       53.8,2, 20220526,      334,  30.0004, 173.3407,     3.0931,2,     -999.0,9,     -999.0,9,     -999.0,9,     -999.0,9,     0.0134,1,     4.7009,1,     -999.0,9,     -999.0,9,     -999.0,9
33RR20220430,        P02,      72,          1,         14,         14,2,20220526,       0223,    30.0004,   173.3407,       4370,  1314.0,2,   2.8669,2,  34.4449,2,  34.4449,2,     30.5,2,    30.6,2,  145.28,2,   43.22,2,    0.00,2,    3.11,2,-999.000,9,-999.000,9,-999.0000,9,  -999.0,9,  -999.0,9,-999.0000,9,  -999.00,9, -999.00,9,  -999.0,9, -999.00,9, -999.00,9,     -999.0,9, 20220526,      331,  30.0005, 173.3408,     2.8683,2,     -999.0,9,     -999.0,9,     -999.0,9,     -999.0,9,     0.0134,1,     4.7018,1,     -999.0,9,     -999.0,9,     -999.0,9
33RR20220430,        P02,      72,          1,         13,         13,2,20220526,       0223,    30.0004,   173.3407,       4370,  1417.0,2,   2.7106,2,  34.4813,2,  34.4816,2,     35.5,2,    35.7,2,  149.38,2,   43.03,2,    0.00,2,    3.09,2,   0.029,2,   0.017,2,   0.0000,2,  2379.4,2,  2391.0,2,   7.3504,2,    24.97,2, -999.00,9,  -999.0,9, -999.00,1, -999.00,1,       48.2,2, 20220526,      328,  30.0005, 173.3407,     2.7096,2,     -999.0,9,     -999.0,9,     -999.0,9,     -999.0,9,     0.0134,1,     4.7032,1,     -999.0,9,     -999.0,9,     -999.0,9
33RR20220430,        P02,      72,          1,         12,         12,2,20220526,       0223,    30.0004,   173.3407,       4370,  1618.0,2,   2.3837,2,  34.5399,2,  34.5413,2,     51.3,2,    51.4,2,  156.90,2,   42.17,2,    0.00,2,    3.03,2,-999.000,9,-999.000,9,-999.0000,9,  2378.5,2,  2404.3,2,   7.3865,2,    24.97,2, -999.00,9,  -999.0,9, -999.00,9, -999.00,9,     -999.0,9, 20220526,      324,  30.0005, 173.3408,     2.3848,2,     -999.0,9,     -999.0,9,     -999.0,9,     -999.0,9,     0.0134,1,     4.7033,1,     -999.0,9,     -999.0,9,     -999.0,9
33RR20220430,        P02,      72,          1,         11,         11,2,20220526,       0223,    30.0004,   173.3407,       4370,  1903.5,2,   2.0093,2,  34.5922,2,  34.5928,2,     73.1,2,    72.8,2,  162.07,2,   40.90,2,    0.00,2,    2.91,2,-999.000,9,-999.000,9,-999.0000,9,  2372.1,2,  2412.0,2,   7.4286,2,    25.01,2, -999.00,9,  -999.0,9, -999.00,1, -999.00,1,     -999.0,9, 20220526,      318,  30.0004, 173.3408,     2.0088,2,     -999.0,9,     -999.0,9,     -999.0,9,     -999.0,9,     0.0134,1,     4.7057,1,     -999.0,9,     -999.0,9,     -999.0,9
33RR20220430,        P02,      72,          1,         10,         10,2,20220526,       0223,    30.0004,   173.3407,       4370,  2024.8,2,   1.8991,2,  34.6071,2,  34.6085,2,     81.5,2,    81.9,2,  163.73,2,   40.39,2,    0.00,2,    2.86,2,   0.005,2,   0.000,2,   0.0000,2,  -999.0,9,  -999.0,9,-999.0000,9,  -999.00,9, -999.00,9,  -999.0,9, -999.00,9, -999.00,9,       32.8,2, 20220526,      315,  30.0005, 173.3407,     1.8986,2,     -999.0,9,     -999.0,9,     -999.0,9,     -999.0,9,     0.0127,1,     4.7056,1,     -999.0,9,     -999.0,9,     -999.0,9
33RR20220430,        P02,      72,          1,          9,          9,2,20220526,       0223,    30.0004,   173.3407,       4370,  2279.5,2,   1.7855,2,  34.6243,2,  34.6244,2,     93.7,2,    93.6,2,  163.24,2,   39.66,2,    0.00,2,    2.80,2,-999.000,9,-999.000,9,-999.0000,9,  2361.4,2,  2415.3,2,   7.4696,2,    25.01,2, -999.00,9,  -999.0,9, -999.00,1, -999.00,1,     -999.0,9, 20220526,      309,  30.0005, 173.3408,     1.7854,2,     -999.0,9,     -999.0,9,     -999.0,9,     -999.0,9,     0.0133,1,     4.7066,1,     -999.0,9,     -999.0,9,     -999.0,9
33RR20220430,        P02,      72,          1,          8,          8,2,20220526,       0223,    30.0004,   173.3407,       4370,  2532.2,2,   1.6784,2,  34.6402,2,  34.6400,2,    106.2,2,   106.0,2,  161.77,2,   38.81,2,    0.00,2,    2.75,2,-999.000,9,-999.000,9,-999.0000,9,  -999.0,9,  -999.0,9,-999.0000,9,  -999.00,9, -999.00,9,  -999.0,9, -999.00,9, -999.00,9,     -999.0,9, 20220526,      304,  30.0004, 173.3407,     1.6778,2,     -999.0,9,     -999.0,9,     -999.0,9,     -999.0,9,     0.0122,1,     4.7067,1,     -999.0,9,     -999.0,9,     -999.0,9
33RR20220430,        P02,      72,          1,          7,          7,2,20220526,       0223,    30.0004,   173.3407,       4370,  2788.2,2,   1.5853,2,  34.6541,2,  34.6545,2,    118.3,2,   118.2,2,  160.01,2,   38.05,2,    0.00,2,    2.68,2,   0.005,2,   0.000,2,   0.0000,2,  2345.8,2,  2417.7,2,   7.5153,2,    25.01,2, -999.00,9,  -999.0,9, -999.00,1, -999.00,1,       26.5,2, 20220526,      259,  30.0004, 173.3408,     1.5853,2,     -999.0,9,     -999.0,9,     -999.0,9,     -999.0,9,     0.0122,1,     4.7069,1,     -999.0,9,     -999.0,9,     -999.0,9
33RR20220430,        P02,      72,          1,          6,          6,2,20220526,       0223,    30.0004,   173.3407,       4370,  3043.0,2,   1.5313,2,  34.6633,2,  34.6633,2,    127.5,2,   127.5,2,  158.74,2,   37.41,2,    0.00,2,    2.63,2,-999.000,9,-999.000,9,-999.0000,9,  -999.0,9,  -999.0,9,-999.0000,9,  -999.00,9, -999.00,9,  -999.0,9, -999.00,9, -999.00,9,     -999.0,9, 20220526,      253,  30.0004, 173.3407,     1.5313,2,     -999.0,9,     -999.0,9,     -999.0,9,     -999.0,9,     0.0129,1,     4.7070,1,     -999.0,9,     -999.0,9,     -999.0,9
33RR20220430,        P02,      72,          1,          5,          5,2,20220526,       0223,    30.0004,   173.3407,       4370,  3350.5,2,   1.4872,2,  34.6718,2,  34.6722,2,    136.7,2,   136.9,2,  156.69,2,   36.82,2,    0.00,2,    2.58,2,-999.000,9,-999.000,9,-999.0000,9,  2334.2,2,  2418.4,2,   7.5480,2,    25.03,2, -999.00,9,  -999.0,9, -999.00,1, -999.00,1,     -999.0,9, 20220526,      247,  30.0004, 173.3407,     1.4871,2,     -999.0,9,     -999.0,9,     -999.0,9,     -999.0,9,     0.0128,1,     4.7077,1,     -999.0,9,     -999.0,9,     -999.0,9
33RR20220430,        P02,      72,          1,          4,          4,2,20220526,       0223,    30.0004,   173.3407,       4370,  3657.4,2,   1.4640,2,  34.6782,2,  34.6783,2,    144.4,2,   144.5,2,  154.15,2,   36.39,2,    0.00,2,    2.52,2,   0.007,2,   0.000,2,   0.0000,2,  2330.0,2,  2417.4,2,   7.5621,2,    25.06,2, -999.00,9,  -999.0,9, -999.00,1, -999.00,1,       24.8,2, 20220526,      241,  30.0004, 173.3407,     1.4637,2,     -999.0,9,     -999.0,9,     -999.0,9,     -999.0,9,     0.0122,1,     4.7082,1,     -999.0,9,     -999.0,9,     -999.0,9
33RR20220430,        P02,      72,          1,          3,          3,2,20220526,       0223,    30.0004,   173.3407,       4370,  4065.6,2,   1.4575,2,  34.6833,2,  34.6836,2,    151.5,2,   151.5,2,  152.00,2,   36.00,2,    0.00,2,    2.48,2,-999.000,9,-999.000,9,-999.0000,9,  2325.0,2,  2415.5,2,   7.5728,2,    25.06,2, -999.00,9,  -999.0,9, -999.00,1, -999.00,1,     -999.0,9, 20220526,      233,  30.0004, 173.3407,     1.4577,2,     -999.0,9,     -999.0,9,     -999.0,9,     -999.0,9,     0.0122,1,     4.7080,1,     -999.0,9,     -999.0,9,     -999.0,9
33RR20220430,        P02,      72,          1,          2,          2,2,20220526,       0223,    30.0004,   173.3407,       4370,  4271.1,2,   1.4558,2,  34.6858,2,  34.6855,2,    155.3,2,   155.8,2,  149.75,2,   35.70,2,    0.00,2,    2.46,2,-999.000,9,-999.000,9,-999.0000,9,  2321.0,2,  2416.1,2,-999.0000,1,  -999.00,1, -999.00,9,  -999.0,9, -999.00,9, -999.00,9,     -999.0,9, 20220526,      228,  30.0004, 173.3408,     1.4559,2,     -999.0,9,     -999.0,9,     -999.0,9,     -999.0,9,     0.0122,1,     4.7083,1,     -999.0,9,     -999.0,9,     -999.0,9
33RR20220430,        P02,      72,          1,          1,          1,2,20220526,       0223,    30.0004,   173.3407,       4370,  4435.6,2,   1.4466,2,  34.6884,2,  34.6889,2,    159.8,2,   159.5,2,  147.11,2,   35.41,2,    0.00,2,    2.44,2,   0.009,2,   0.000,2,   0.0000,2,  2316.1,6,  2413.0,2,-999.0000,1,  -999.00,1, -999.00,9,  -999.0,9, -999.00,1, -999.00,1,       23.4,2, 20220526,      223,  30.0004, 173.3407,     1.4465,2,     -999.0,9,     -999.0,9,     -999.0,9,     -999.0,9,     0.0122,1,     4.7091,1,     -999.0,9,     -999.0,9,     -999.0,9