BOTTLE,20230801CCHSIOCBG
EXPOCODE,SECT_ID,STNNBR,CASTNO,SAMPNO,BTLNBR,BTLNBR_FLAG_W,DATE,TIME,LATITUDE,LONGITUDE,DEPTH,CTDPRS,CTDPRS_FLAG_W,CTDTMP,CTDTMP_FLAG_W,CTDSAL,CTDSAL_FLAG_W,SALNTY,SALNTY_FLAG_W,CTDOXY,CTDOXY_FLAG_W,OXYGEN,OXYGEN_FLAG_W,SILCAT,SILCAT_FLAG_W,NITRAT,NITRAT_FLAG_W,NITRIT,NITRIT_FLAG_W,PHSPHT,PHSPHT_FLAG_W,CFC-11,CFC-11_FLAG_W,CFC-12,CFC-12_FLAG_W,SF6,SF6_FLAG_W,TCARBN,TCARBN_FLAG_W,ALKALI,ALKALI_FLAG_W,PH_TOT,PH_TOT_FLAG_W,PH_TMP,PH_TMP_FLAG_W,DELC13,DELC13_FLAG_W,DELC14,DELC14_FLAG_W,DOC,DOC_FLAG_W,TDN,TDN_FLAG_W,N2O,N2O_FLAG_W,BTL_DATE,BTL_TIME,BTL_LAT,BTL_LON,REFTMP,REFTMP_FLAG_W,POC,POC_FLAG_W,PON,PON_FLAG_W,POP,POP_FLAG_W,PCOD,PCOD_FLAG_W,CTDFLUOR,CTDFLUOR_FLAG_W,CTDXMISS,CTDXMISS_FLAG_W,HPLC,HPLC_FLAG_W,DNA,DNA_FLAG_W,FCM,FCM_FLAG_W
,,,,,,,,,,,METERS,DBAR,,ITS-90,,PSS-78,,PSS-78,,UMOL/KG,,UMOL/KG,,UMOL/KG,,UMOL/KG,,UMOL/KG,,UMOL/KG,,PMOL/KG,,PMOL/KG,,FMOL/KG,,UMOL/KG,,UMOL/KG,,,,DEG C,,/MILLE,,/MILLE,,UMOL/KG,,UMOL/KG,,NMOL/KG,,,,,,ITS-90,,UG/L,,UG/L,,UG/L,,UG/L,,VOLTS,,VOLTS,,,,,,,
33RR20220430,        P02,      49,          1,         36,         36,2,20220518,       2057,    29.9997,   160.4892,       5758,     3.2,2,  22.2041,2,  34.8852,2,  34.8806,2,    225.9,2,   225.7,2,    1.07,2,    0.03,2,    0.00,2,    0.00,2,   1.912,2,   1.176,2,   2.1466,2,  2021.2,2,  2287.8,2,   7.9892,2,    25.01,2, -999.00,1,  -999.0,1, -999.00,1, -999.00,1,        6.3,2, 20220518,     2315,  29.9997, 160.4892,    22.2185,3,     -999.0,9,     -999.0,9,     -999.0,9,     -999.0,9,     0.0131,1,     4.6332,1,     -999.0,9,     -999.0,9,     -999.0,9
33RR20220430,        P02,      49,          1,         35,         35,2,20220518,       2057,    29.9997,   160.4892,       5758,    35.5,2,  18.8696,2,  34.7545,2,  34.7471,2,    242.1,2,   242.9,2,    1.17,2,    0.02,2,    0.00,2,    0.00,2,   2.168,2,   1.303,2,   2.2048,2,  2020.9,2,  2279.0,2,   7.9842,2,    25.02,2, -999.00,1,  -999.0,1, -999.00,1, -999.00,1,        7.2,2, 20220518,     2312,  29.9997, 160.4892,    18.8672,2,     -999.0,9,     -999.0,9,     -999.0,9,     -999.0,9,     0.0142,1,     4.6194,1,     -999.0,9,     -999.0,9,     -999.0,9
33RR20220430,        P02,      49,          1,         34,         34,2,20220518,       2057,    29.9997,   160.4892,       5758,    61.8,2,  17.2567,2,  34.7186,2,  34.7127,2,    248.6,2,   249.5,2,    1.95,2,    0.06,2,    0.00,2,    0.02,2,   2.234,2,   1.359,2,   2.2376,2,  2022.5,2,  2277.8,2,   7.9776,2,    25.01,2, -999.00,1,  -999.0,1, -999.00,1, -999.00,1,        7.9,2, 20220518,     2310,  29.9997, 160.4892,    17.2632,2,     -999.0,9,     -999.0,9,     -999.0,9,     -999.0,9,     0.0306,1,     4.5681,1,     -999.0,9,     -999.0,9,     -999.0,9
33RR20220430,        P02,      49,          1,         33,         33,2,20220518,       2057,    29.9997,   160.4892,       5758,    89.3,2,  16.7415,2,  34.7050,2,  34.7001,2,    230.0,2,   229.9,2,    2.73,2,    2.60,2,    0.12,2,    0.16,2,   2.207,2,   1.359,2,   2.2488,2,  2039.9,2,  2277.2,2,   7.9435,2,    25.02,2, -999.00,1,  -999.0,1, -999.00,1, -999.00,1,        8.5,2, 20220518,     2308,  29.9997, 160.4892,    16.7410,2,     -999.0,9,     -999.0,9,     -999.0,9,     -999.0,9,     0.0485,1,     4.6216,1,     -999.0,9,     -999.0,9,     -999.0,9
33RR20220430,        P02,      49,          1,         32,         32,2,20220518,       2057,    29.9997,   160.4892,       5758,   118.7,2,  16.4744,2,  34.6866,2,  34.6814,2,    228.5,2,   228.1,2,    3.13,2,    3.23,2,    0.02,2,    0.20,2,   2.240,2,   1.369,2,   2.3345,2,  2040.4,2,  2275.1,2,   7.9355,2,    25.02,2, -999.00,1,  -999.0,1, -999.00,1, -999.00,1,        8.6,2, 20220518,     2306,  29.9997, 160.4892,    16.4729,2,     -999.0,9,     -999.0,9,     -999.0,9,     -999.0,9,     0.0221,1,     4.6689,1,     -999.0,9,     -999.0,9,     -999.0,9
33RR20220430,        P02,      49,          1,         31,         31,2,20220518,       2057,    29.9997,   160.4892,       5758,   167.9,2,  16.1245,2,  34.6739,2,  34.6704,2,    228.5,2,   228.6,2,    4.00,2,    4.00,2,    0.00,2,    0.24,2,   2.273,2,   1.391,2,   2.1695,2,  2046.0,2,  2278.1,2,   7.9295,2,    25.02,2, -999.00,1,  -999.0,1, -999.00,1, -999.00,1,        8.8,2, 20220518,     2305,  29.9997, 160.4892,    16.1273,2,     -999.0,9,     -999.0,9,     -999.0,9,     -999.0,9,     0.0142,1,     4.6734,1,     -999.0,9,     -999.0,9,     -999.0,9
33RR20220430,        P02,      49,          1,         30,         30,2,20220518,       2057,    29.9997,   160.4892,       5758,   217.8,2,  15.7345,2,  34.6605,2,  34.6525,2,    229.7,2,   230.0,2,    4.59,2,    4.51,2,    0.00,2,    0.27,2,   2.302,2,   1.400,2,   2.2246,2,  2049.4,2,  2274.7,2,   7.9233,2,    25.02,2, -999.00,1,  -999.0,1, -999.00,1, -999.00,1,        8.9,2, 20220518,     2303,  29.9997, 160.4892,    15.7343,2,     -999.0,9,     -999.0,9,     -999.0,9,     -999.0,9,     0.0122,1,     4.6787,1,     -999.0,9,     -999.0,9,     -999.0,9
33RR20220430,        P02,      49,          1,         29,         29,2,20220518,       2057,    29.9997,   160.4892,       5758,   267.7,2,  15.5389,2,  34.6506,2,  34.6458,2,    229.6,2,   229.7,2,    4.88,2,    4.81,2,    0.00,2,    0.29,2,   2.296,2,   1.403,2,   2.3238,2,  2051.1,2,  2274.6,2,   7.9188,2,    25.02,2, -999.00,1,  -999.0,1, -999.00,1, -999.00,1,        9.2,2, 20220518,     2301,  29.9997, 160.4892,    15.5388,2,     -999.0,9,     -999.0,9,     -999.0,9,     -999.0,9,     0.0122,1,     4.6809,1,     -999.0,9,     -999.0,9,     -999.0,9
33RR20220430,        P02,      49,          1,         28,         28,2,20220518,       2057,    29.9997,   160.4892,       5758,   317.4,2,  15.4194,2,  34.6458,2,  34.6415,2,    231.2,2,   231.3,2,    4.88,2,    4.83,2,    0.00,2,    0.31,2,   2.354,2,   1.430,2,   2.2448,2,  2051.1,2,  2275.6,2,   7.9175,2,    25.00,2, -999.00,1,  -999.0,1, -999.00,1, -999.00,1,        9.0,2, 20220518,     2259,  29.9997, 160.4892,    15.4186,2,     -999.0,9,     -999.0,9,     -999.0,9,     -999.0,9,     0.0122,1,     4.6853,1,     -999.0,9,     -999.0,9,     -999.0,9
33RR20220430,        P02,      49,          1,         27,         27,2,20220518,       2057,    29.9997,   160.4892,       5758,   368.0,2,  14.6568,2,  34.5586,2,  34.5539,2,    211.1,2,   210.9,2,    8.50,2,    8.06,2,    0.00,2,    0.53,2,   2.379,2,   1.517,2,   2.1166,2,  2074.4,2,  2272.9,2,   7.8677,2,    25.02,2, -999.00,1,  -999.0,1, -999.00,1, -999.00,1,       11.2,2, 20220518,     2257,  29.9997, 160.4891,    14.6569,2,     -999.0,9,     -999.0,9,     -999.0,9,     -999.0,9,     0.0122,1,     4.6865,1,     -999.0,9,     -999.0,9,     -999.0,9
33RR20220430,        P02,      49,          1,         26,         26,2,20220518,       2057,    29.9997,   160.4892,       5758,   439.1,2,  12.7607,2,  34.3981,2,  34.3970,2,    205.8,2,   206.1,2,   13.87,2,   11.53,2,    0.00,2,    0.77,2,   2.579,2,   1.533,2,   1.9473,2,  2094.8,2,  2270.0,2,   7.8083,2,    25.02,2, -999.00,1,  -999.0,1, -999.00,1, -999.00,1,       13.5,2, 20220518,     2255,  29.9997, 160.4892,    12.7625,2,     -999.0,9,     -999.0,9,     -999.0,9,     -999.0,9,     0.0122,1,     4.6921,1,     -999.0,9,     -999.0,9,     -999.0,9
33RR20220430,        P02,      49,          1,         25,         25,2,20220518,       2057,    29.9997,   160.4892,       5758,   539.8,2,  10.0272,2,  34.1800,2,  34.1811,2,    194.6,2,   194.4,2,   24.23,2,   17.31,2,    0.00,2,    1.17,2,   2.797,2,   1.667,2,   1.8053,2,  2135.0,2,  2268.9,2,   7.7163,2,    25.03,2, -999.00,1,  -999.0,1, -999.00,1, -999.00,1,       17.4,2, 20220518,     2252,  29.9997, 160.4892,    10.0259,2,     -999.0,9,     -999.0,9,     -999.0,9,     -999.0,9,     0.0122,1,     4.7007,1,     -999.0,9,     -999.0,9,     -999.0,9
33RR20220430,        P02,      49,          1,         24,         24,2,20220518,       2057,    29.9997,   160.4892,       5758,   640.3,2,   7.1026,2,  33.9766,2,  33.9771,2,    172.2,2,   172.4,2,   44.37,2,   24.76,2,    0.00,2,    1.75,2,   2.697,2,   1.574,2,   1.6513,2,  -999.0,9,  -999.0,9,-999.0000,9,  -999.00,9, -999.00,1,  -999.0,1, -999.00,9, -999.00,9,       23.6,2, 20220518,     2249,  29.9997, 160.4892,     7.0969,2,     -999.0,9,     -999.0,9,     -999.0,9,     -999.0,9,     0.0124,1,     4.7005,1,     -999.0,9,     -999.0,9,     -999.0,9
33RR20220430,        P02,      49,          1,         23,         23,2,20220518,       2057,    29.9997,   160.4892,       5758,   743.0,2,   5.6260,2,  34.0068,2,  34.0086,2,    119.6,3,   117.5,2,   68.51,2,   32.44,2,    0.00,2,    2.31,2,-999.000,9,-999.000,9,-999.0000,9,  2247.4,2,  2294.5,2,   7.4677,2,    25.01,2, -999.00,1,  -999.0,1, -999.00,1, -999.00,1,     -999.0,9, 20220518,     2246,  29.9997, 160.4891,     5.6234,2,     -999.0,9,     -999.0,9,     -999.0,9,     -999.0,9,     0.0134,1,     4.7031,1,     -999.0,9,     -999.0,9,     -999.0,9
33RR20220430,        P02,      49,          1,         22,         22,2,20220518,       2057,    29.9997,   160.4892,       5758,   844.3,2,   4.7188,2,  34.1086,2,  34.1121,2,     76.3,3,    74.6,2,   91.86,2,   37.59,2,    0.00,2,    2.67,2,   1.348,2,   0.790,2,   0.5654,2,  -999.0,9,  -999.0,9,-999.0000,9,  -999.00,9, -999.00,1,  -999.0,1, -999.00,9, -999.00,9,       39.6,2, 20220518,     2243,  29.9997, 160.4891,     4.7200,2,     -999.0,9,     -999.0,9,     -999.0,9,     -999.0,9,     0.0134,1,     4.7023,1,     -999.0,9,     -999.0,9,     -999.0,9
33RR20220430,        P02,      49,          1,         21,         21,2,20220518,       2057,    29.9997,   160.4892,       5758,   945.5,2,   4.1138,2,  34.2078,2,  34.2113,2,     51.4,2,    51.7,2,  109.73,2,   40.27,2,    0.00,2,    2.86,2,-999.000,9,-999.000,9,-999.0000,9,  2326.1,2,  2335.3,2,   7.3482,2,    25.02,2, -999.00,1,  -999.0,1, -999.00,1, -999.00,1,     -999.0,9, 20220518,     2241,  29.9997, 160.4892,     4.1212,2,     -999.0,9,     -999.0,9,     -999.0,9,     -999.0,9,     0.0134,1,     4.7024,1,     -999.0,9,     -999.0,9,     -999.0,9
33RR20220430,        P02,      49,          1,         20,         20,2,20220518,       2057,    29.9997,   160.4892,       5758,  1045.8,2,   3.7008,2,  34.2807,2,  34.2819,2,     40.0,2,    39.9,2,  121.16,2,   41.56,2,    0.00,2,    2.96,2,   0.445,2,   0.257,2,   0.0000,2,  -999.0,9,  -999.0,9,-999.0000,9,  -999.00,9, -999.00,1,  -999.0,1, -999.00,9, -999.00,9,       47.5,2, 20220518,     2238,  29.9997, 160.4891,     3.7021,2,     -999.0,9,     -999.0,9,     -999.0,9,     -999.0,9,     0.0134,1,     4.7031,1,     -999.0,9,     -999.0,9,     -999.0,9
33RR20220430,        P02,      49,          1,         19,         19,2,20220518,       2057,    29.9997,   160.4892,       5758,  1147.8,2,   3.4067,2,  34.3341,2,  34.3342,2,     36.0,3,    36.5,2,  129.75,2,   42.19,2,    0.00,2,    3.01,2,-999.000,9,-999.000,9,-999.0000,9,  2356.3,2,  2361.8,2,   7.3338,2,    25.02,2, -999.00,1,  -999.0,1, -999.00,1, -999.00,1,     -999.0,9, 20220518,     2235,  29.9997, 160.4892,     3.4122,2,     -999.0,9,     -999.0,9,     -999.0,9,     -999.0,9,     0.0134,1,     4.7032,1,     -999.0,9,     -999.0,9,     -999.0,9
33RR20220430,        P02,      49,          1,         18,         18,2,20220518,       2057,    29.9997,   160.4892,       5758,  1248.8,2,   3.0878,2,  34.4000,2,  34.4023,2,     32.5,2,    32.3,2,  140.10,2,   42.90,2,    0.00,2,    3.06,2,   0.123,2,   0.068,2,   0.0000,2,  2369.3,6,  2375.4,2,   7.3354,2,    25.02,2, -999.00,1,  -999.0,1, -999.00,1, -999.00,1,       48.5,2, 20220518,     2232,  29.9997, 160.4891,     3.0867,2,     -999.0,9,     -999.0,9,     -999.0,9,     -999.0,9,     0.0134,1,     4.7044,1,     -999.0,9,     -999.0,9,     -999.0,9
33RR20220430,        P02,      49,          1,         17,         17,2,20220518,       2057,    29.9997,   160.4892,       5758,  1350.7,2,   2.8475,2,  34.4443,2,  34.4455,2,     34.7,2,    34.8,2,  145.96,2,   42.99,2,    0.00,2,    3.06,2,-999.000,9,-999.000,9,-999.0000,9,  2376.3,2,  2386.0,2,   7.3438,2,    25.03,2, -999.00,1,  -999.0,1, -999.00,1, -999.00,1,     -999.0,9, 20220518,     2230,  29.9997, 160.4891,     2.8473,2,     -999.0,9,     -999.0,9,     -999.0,9,     -999.0,9,     0.0134,1,     4.7044,1,     -999.0,9,     -999.0,9,     -999.0,9
33RR20220430,        P02,      49,          1,         16,         16,2,20220518,       2057,    29.9997,   160.4892,       5758,  1482.4,2,   2.5801,2,  34.4867,2,  34.4897,2,     38.9,3,    39.5,2,  153.77,2,   42.97,2,    0.00,2,    3.04,2,   0.038,2,   0.020,2,   0.0000,2,  -999.0,9,  -999.0,9,-999.0000,9,  -999.00,9, -999.00,1,  -999.0,1, -999.00,9, -999.00,9,       44.5,2, 20220518,     2226,  29.9997, 160.4891,     2.5798,2,     -999.0,9,     -999.0,9,     -999.0,9,     -999.0,9,     0.0134,1,     4.7044,1,     -999.0,9,     -999.0,9,     -999.0,9
33RR20220430,        P02,      49,          1,         15,         15,2,20220518,       2057,    29.9997,   160.4892,       5758,  1684.5,2,   2.3226,2,  34.5406,2,  34.5417,2,     53.8,2,    53.4,2,  157.96,2,   42.16,2,    0.00,2,    2.96,2,-999.000,9,-999.000,9,-999.0000,9,  2379.4,2,  2401.6,2,   7.3873,2,    25.02,2, -999.00,1,  -999.0,1, -999.00,1, -999.00,1,     -999.0,9, 20220518,     2221,  29.9998, 160.4892,     2.3214,2,     -999.0,9,     -999.0,9,     -999.0,9,     -999.0,9,     0.0134,1,     4.7065,1,     -999.0,9,     -999.0,9,     -999.0,9
33RR20220430,        P02,      49,          1,         14,         14,2,20220518,       2057,    29.9997,   160.4892,       5758,  1883.9,2,   2.0598,2,  34.5797,2,  34.5818,2,     69.1,2,    69.6,2,  161.67,2,   41.09,2,    0.00,2,    2.89,2,-999.000,9,-999.000,9,-999.0000,9,  -999.0,9,  -999.0,9,-999.0000,9,  -999.00,9, -999.00,9,  -999.0,9, -999.00,9, -999.00,9,     -999.0,9, 20220518,     2217,  29.9997, 160.4892,     2.0605,2,     -999.0,9,     -999.0,9,     -999.0,9,     -999.0,9,     0.0126,1,     4.7070,1,     -999.0,9,     -999.0,9,     -999.0,9
33RR20220430,        P02,      49,          1,         13,         13,2,20220518,       2057,    29.9997,   160.4892,       5758,  2116.9,2,   1.8895,2,  34.6103,2,  34.6105,2,     90.1,2,    90.0,2,  160.39,2,   39.90,2,    0.00,2,    2.79,2,   0.006,2,   0.000,2,   0.0000,2,  2364.1,2,  2412.1,2,   7.4599,2,    25.01,2, -999.00,1,  -999.0,1, -999.00,1, -999.00,1,       31.4,2, 20220518,     2212,  29.9998, 160.4892,     1.8890,2,     -999.0,9,     -999.0,9,     -999.0,9,     -999.0,9,     0.0122,1,     4.7080,1,     -999.0,9,     -999.0,9,     -999.0,9
33RR20220430,        P02,      49,          1,         12,         12,2,20220518,       2057,    29.9997,   160.4892,       5758,  2368.1,2,   1.7434,2,  34.6324,2,  34.6341,2,    105.8,2,   105.9,2,  158.83,2,   38.79,2,    0.00,2,    2.72,2,-999.000,9,-999.000,9,-999.0000,9,  -999.0,9,  -999.0,9,-999.0000,9,  -999.00,9, -999.00,9,  -999.0,9, -999.00,9, -999.00,9,     -999.0,9, 20220518,     2207,  29.9997, 160.4892,     1.7434,2,     -999.0,9,     -999.0,9,     -999.0,9,     -999.0,9,     0.0124,1,     4.7072,1,     -999.0,9,     -999.0,9,     -999.0,9
33RR20220430,        P02,      49,          1,         11,         11,2,20220518,       2057,    29.9997,   160.4892,       5758,  2621.7,2,   1.6587,2,  34.6468,2,  34.6484,2,    118.0,2,   118.4,2,  156.48,2,   37.97,2,    0.00,2,    2.67,2,-999.000,9,-999.000,9,-999.0000,9,  2346.2,2,  2416.2,2,   7.5134,2,    25.02,2, -999.00,1,  -999.0,1, -999.00,1, -999.00,1,     -999.0,9, 20220518,     2202,  29.9998, 160.4892,     1.6589,2,     -999.0,9,     -999.0,9,     -999.0,9,     -999.0,9,     0.0122,1,     4.7088,1,     -999.0,9,     -999.0,9,     -999.0,9
33RR20220430,        P02,      49,          1,         10,         10,2,20220518,       2057,    29.9997,   160.4892,       5758,  2878.6,2,   1.5914,2,  34.6572,2,  34.6580,2,    126.6,2,   126.4,2,  155.90,2,   37.42,2,    0.00,2,    2.63,2,   0.005,2,   0.000,2,   0.0000,2,  -999.0,9,  -999.0,9,-999.0000,9,  -999.00,9, -999.00,9,  -999.0,9, -999.00,9, -999.00,9,       25.5,2, 20220518,     2156,  29.9998, 160.4892,     1.5912,2,     -999.0,9,     -999.0,9,     -999.0,9,     -999.0,9,     0.0134,1,     4.7084,1,     -999.0,9,     -999.0,9,     -999.0,9
33RR20220430,        P02,      49,          1,          9,          9,2,20220518,       2057,    29.9997,   160.4892,       5758,  3148.0,2,   1.5397,2,  34.6656,2,  34.6661,2,    134.0,2,   133.9,2,  154.23,2,   36.95,2,    0.00,2,    2.58,2,-999.000,9,-999.000,9,-999.0000,9,  2338.6,2,  2417.2,2,   7.5421,2,    25.01,2, -999.00,1,  -999.0,1, -999.00,1, -999.00,1,     -999.0,9, 20220518,     2151,  29.9997, 160.4891,     1.5396,2,     -999.0,9,     -999.0,9,     -999.0,9,     -999.0,9,     0.0122,1,     4.7082,1,     -999.0,9,     -999.0,9,     -999.0,9
33RR20220430,        P02,      49,          1,          8,          8,2,20220518,       2057,    29.9997,   160.4892,       5758,  3454.4,2,   1.5146,2,  34.6714,2,  34.6712,2,    140.1,2,   140.3,2,  153.55,2,   36.64,2,    0.00,2,    2.55,2,-999.000,9,-999.000,9,-999.0000,9,  -999.0,9,  -999.0,9,-999.0000,9,  -999.00,9, -999.00,9,  -999.0,9, -999.00,9, -999.00,9,     -999.0,9, 20220518,     2144,  29.9997, 160.4891,     1.5147,2,     -999.0,9,     -999.0,9,     -999.0,9,     -999.0,9,     0.0134,1,     4.7089,1,     -999.0,9,     -999.0,9,     -999.0,9
33RR20220430,        P02,      49,          1,          7,          7,2,20220518,       2057,    29.9997,   160.4892,       5758,  3761.5,2,   1.4900,2,  34.6768,2,  34.6773,2,    145.5,2,   145.4,2,  152.08,2,   36.31,2,    0.00,2,    2.51,2,   0.004,2,   0.000,2,   0.0000,2,  2331.9,2,  2415.7,2,   7.5617,2,    25.02,2, -999.00,1,  -999.0,1, -999.00,1, -999.00,1,       23.3,2, 20220518,     2138,  29.9997, 160.4891,     1.4900,2,     -999.0,9,     -999.0,9,     -999.0,9,     -999.0,9,     0.0121,1,     4.7081,1,     -999.0,9,     -999.0,9,     -999.0,9
33RR20220430,        P02,      49,          1,          6,          6,2,20220518,       2057,    29.9997,   160.4892,       5758,  4068.4,2,   1.4797,2,  34.6811,2,  34.6828,2,    150.7,2,   150.9,2,  151.30,2,   35.97,2,    0.00,2,    2.48,2,-999.000,9,-999.000,9,-999.0000,9,  -999.0,9,  -999.0,9,-999.0000,9,  -999.00,9, -999.00,9,  -999.0,9, -999.00,9, -999.00,9,     -999.0,9, 20220518,     2132,  29.9997, 160.4892,     1.4796,2,     -999.0,9,     -999.0,9,     -999.0,9,     -999.0,9,     0.0122,1,     4.7080,1,     -999.0,9,     -999.0,9,     -999.0,9
33RR20220430,        P02,      49,          1,          5,          5,2,20220518,       2057,    29.9997,   160.4892,       5758,  4377.7,2,   1.4774,2,  34.6846,2,  34.6853,2,    155.4,2,   155.0,2,  149.35,2,   35.82,2,    0.00,2,    2.46,2,-999.000,9,-999.000,9,-999.0000,9,  2322.0,2,  2413.3,2,   7.5767,2,    25.03,2, -999.00,1,  -999.0,1, -999.00,1, -999.00,1,     -999.0,9, 20220518,     2126,  29.9998, 160.4892,     1.4774,2,     -999.0,9,     -999.0,9,     -999.0,9,     -999.0,9,     0.0122,1,     4.7080,1,     -999.0,9,     -999.0,9,     -999.0,9
33RR20220430,        P02,      49,          1,          4,          4,2,20220518,       2057,    29.9997,   160.4892,       5758,  4720.8,2,   1.4887,2,  34.6873,2,  34.6877,2,    159.0,2,   158.7,2,  149.35,2,   35.53,2,    0.00,2,    2.43,2,   0.006,2,   0.000,2,   0.0000,2,  -999.0,9,  -999.0,9,-999.0000,9,  -999.00,9, -999.00,1,  -999.0,1, -999.00,9, -999.00,9,       21.8,2, 20220518,     2119,  29.9998, 160.4892,     1.4887,2,     -999.0,9,     -999.0,9,     -999.0,9,     -999.0,9,     0.0122,1,     4.7068,1,     -999.0,9,     -999.0,9,     -999.0,9