BOTTLE,20230801CCHSIOCBG
EXPOCODE,SECT_ID,STNNBR,CASTNO,SAMPNO,BTLNBR,BTLNBR_FLAG_W,DATE,TIME,LATITUDE,LONGITUDE,DEPTH,CTDPRS,CTDPRS_FLAG_W,CTDTMP,CTDTMP_FLAG_W,CTDSAL,CTDSAL_FLAG_W,SALNTY,SALNTY_FLAG_W,CTDOXY,CTDOXY_FLAG_W,OXYGEN,OXYGEN_FLAG_W,SILCAT,SILCAT_FLAG_W,NITRAT,NITRAT_FLAG_W,NITRIT,NITRIT_FLAG_W,PHSPHT,PHSPHT_FLAG_W,CFC-11,CFC-11_FLAG_W,CFC-12,CFC-12_FLAG_W,SF6,SF6_FLAG_W,TCARBN,TCARBN_FLAG_W,ALKALI,ALKALI_FLAG_W,PH_TOT,PH_TOT_FLAG_W,PH_TMP,PH_TMP_FLAG_W,DELC13,DELC13_FLAG_W,DELC14,DELC14_FLAG_W,DOC,DOC_FLAG_W,TDN,TDN_FLAG_W,N2O,N2O_FLAG_W,BTL_DATE,BTL_TIME,BTL_LAT,BTL_LON,REFTMP,REFTMP_FLAG_W,POC,POC_FLAG_W,PON,PON_FLAG_W,POP,POP_FLAG_W,PCOD,PCOD_FLAG_W,CTDFLUOR,CTDFLUOR_FLAG_W,CTDXMISS,CTDXMISS_FLAG_W,HPLC,HPLC_FLAG_W,DNA,DNA_FLAG_W,FCM,FCM_FLAG_W
,,,,,,,,,,,METERS,DBAR,,ITS-90,,PSS-78,,PSS-78,,UMOL/KG,,UMOL/KG,,UMOL/KG,,UMOL/KG,,UMOL/KG,,UMOL/KG,,PMOL/KG,,PMOL/KG,,FMOL/KG,,UMOL/KG,,UMOL/KG,,,,DEG C,,/MILLE,,/MILLE,,UMOL/KG,,UMOL/KG,,NMOL/KG,,,,,,ITS-90,,UG/L,,UG/L,,UG/L,,UG/L,,VOLTS,,VOLTS,,,,,,,
33RR20220430,        P02,      87,          1,         36,         36,2,20220530,       1050,    30.0001,  -178.5213,       5061,     5.9,2,  22.2878,2,  35.2291,2,  35.2117,2,    220.3,2,   219.5,2,    1.07,2,    0.01,2,    0.00,2,    0.00,2,   1.657,2,   1.108,2,   1.8683,2,  2027.0,2,  2317.2,2,   8.0166,2,    25.00,2, -999.00,9,  -999.0,9, -999.00,9, -999.00,9,        7.3,2, 20220530,     1256,  30.0001,-178.5213,    22.2858,2,     -999.0,9,     -999.0,9,     -999.0,9,     -999.0,9,     0.0135,1,     4.6427,1,     -999.0,9,     -999.0,9,     -999.0,9
33RR20220430,        P02,      87,          1,         35,         35,2,20220530,       1050,    30.0001,  -178.5213,       5061,    25.4,2,  22.0878,2,  35.2009,2,  35.1847,2,    221.3,2,   220.6,2,    1.07,2,    0.01,2,    0.00,2,    0.00,2,   1.687,2,   1.141,2,   1.9123,2,  2026.3,2,  2310.5,2,   8.0149,2,    25.01,2, -999.00,9,  -999.0,9, -999.00,9, -999.00,9,        7.4,2, 20220530,     1252,  30.0001,-178.5213,    22.0755,2,     -999.0,9,     -999.0,9,     -999.0,9,     -999.0,9,     0.0147,1,     4.6412,1,     -999.0,9,     -999.0,9,     -999.0,9
33RR20220430,        P02,      87,          1,         34,         34,2,20220530,       1050,    30.0001,  -178.5213,       5061,    51.3,2,  20.2870,2,  35.0406,2,  35.0362,2,    231.4,2,   230.8,2,    1.37,2,    0.00,2,    0.00,2,    0.01,2,   1.815,2,   1.201,2,   2.1153,2,  2027.6,6,  2300.0,2,   7.9969,2,    24.99,2, -999.00,9,  -999.0,9, -999.00,9, -999.00,9,        7.7,2, 20220530,     1250,  30.0001,-178.5213,    20.2869,2,     -999.0,9,     -999.0,9,     -999.0,9,     -999.0,9,     0.0147,1,     4.6410,1,     -999.0,9,     -999.0,9,     -999.0,9
33RR20220430,        P02,      87,          1,         33,         33,2,20220530,       1050,    30.0001,  -178.5213,       5061,    76.6,2,  19.3030,2,  34.9641,2,  34.9506,2,    233.3,2,   233.1,2,    1.56,2,    0.00,2,    0.00,2,    0.02,2,   1.896,2,   1.263,2,   2.1933,2,  2027.2,2,  2293.1,2,   7.9879,2,    25.00,2, -999.00,9,  -999.0,9, -999.00,9, -999.00,9,        8.1,2, 20220530,     1248,  30.0001,-178.5212,    19.3030,2,     -999.0,9,     -999.0,9,     -999.0,9,     -999.0,9,     0.0224,1,     4.6361,1,     -999.0,9,     -999.0,9,     -999.0,9
33RR20220430,        P02,      87,          1,         32,         32,2,20220530,       1050,    30.0001,  -178.5213,       5061,   101.3,2,  17.9140,2,  34.7644,2,  34.7539,2,    235.5,2,   236.3,2,    1.76,2,    0.16,2,    0.04,2,    0.06,2,   2.026,2,   1.332,2,   2.1617,2,  2026.9,2,  2282.9,2,   7.9693,2,    25.00,2, -999.00,9,  -999.0,9, -999.00,9, -999.00,9,        8.5,2, 20220530,     1246,  30.0001,-178.5212,    17.9026,2,     -999.0,9,     -999.0,9,     -999.0,9,     -999.0,9,     0.0349,1,     4.6418,1,     -999.0,9,     -999.0,9,     -999.0,9
33RR20220430,        P02,      87,          1,         31,         31,2,20220530,       1050,    30.0001,  -178.5213,       5061,   152.0,2,  16.4528,2,  34.6191,2,  34.6115,2,    227.9,2,   229.0,2,    3.32,2,    3.19,2,    0.02,2,    0.23,2,   2.092,2,   1.350,2,   2.2297,2,  2039.1,2,  2276.5,2,   7.9331,2,    25.00,2, -999.00,9,  -999.0,9, -999.00,9, -999.00,9,        9.1,2, 20220530,     1244,  30.0001,-178.5212,    16.4530,2,     -999.0,9,     -999.0,9,     -999.0,9,     -999.0,9,     0.0134,1,     4.6820,1,     -999.0,9,     -999.0,9,     -999.0,9
33RR20220430,        P02,      87,          1,         30,         30,2,20220530,       1050,    30.0001,  -178.5213,       5061,   201.9,2,  16.1164,2,  34.6232,2,  34.6124,2,    220.5,2,   221.0,2,    4.30,2,    4.54,2,    0.00,2,    0.32,2,   2.133,2,   1.381,2,   2.1239,2,  -999.0,9,  -999.0,9,-999.0000,9,  -999.00,9, -999.00,9,  -999.0,9, -999.00,9, -999.00,9,        9.9,2, 20220530,     1242,  30.0001,-178.5212,    16.1153,2,     -999.0,9,     -999.0,9,     -999.0,9,     -999.0,9,     0.0122,1,     4.6859,1,     -999.0,9,     -999.0,9,     -999.0,9
33RR20220430,        P02,      87,          1,         29,         29,2,20220530,       1050,    30.0001,  -178.5213,       5061,   252.3,2,  15.0842,2,  34.5628,2,  34.5461,2,    209.1,2,   209.2,2,    7.13,2,    7.35,2,    0.00,2,    0.52,2,   2.263,2,   1.490,2,   2.1189,2,  2067.0,2,  2272.4,2,   7.8679,2,    25.01,2, -999.00,9,  -999.0,9, -999.00,9, -999.00,9,       11.9,2, 20220530,     1241,  30.0001,-178.5212,    15.0835,2,     -999.0,9,     -999.0,9,     -999.0,9,     -999.0,9,     0.0122,1,     4.6869,1,     -999.0,9,     -999.0,9,     -999.0,9
33RR20220430,        P02,      87,          1,         28,         28,2,20220530,       1050,    30.0001,  -178.5213,       5061,   302.9,2,  13.9640,2,  34.4762,2,  34.4669,2,    208.7,2,   208.9,2,    9.18,2,    8.97,2,    0.00,2,    0.63,2,   2.334,2,   1.528,2,   2.1134,2,  -999.0,9,  -999.0,9,-999.0000,9,  -999.00,9, -999.00,9,  -999.0,9, -999.00,9, -999.00,9,       13.0,2, 20220530,     1239,  30.0001,-178.5212,    13.9922,2,     -999.0,9,     -999.0,9,     -999.0,9,     -999.0,9,     0.0122,1,     4.6894,1,     -999.0,9,     -999.0,9,     -999.0,9
33RR20220430,        P02,      87,          1,         27,         27,2,20220530,       1050,    30.0001,  -178.5213,       5061,   353.6,2,  12.8422,2,  34.3834,2,  34.3727,2,    207.8,2,   208.2,2,   12.01,2,   11.00,2,    0.00,2,    0.78,2,   2.492,6,   1.594,6,   2.0269,6,  2091.8,2,  2266.6,2,   7.8082,2,    25.01,2, -999.00,9,  -999.0,9, -999.00,9, -999.00,9,       14.2,6, 20220530,     1237,  30.0001,-178.5212,    12.8485,2,     -999.0,9,     -999.0,9,     -999.0,9,     -999.0,9,     0.0122,1,     4.6928,1,     -999.0,9,     -999.0,9,     -999.0,9
33RR20220430,        P02,      87,          1,         26,         26,2,20220530,       1050,    30.0001,  -178.5213,       5061,   408.5,2,  11.5438,2,  34.2817,2,  34.2717,2,    206.9,2,   207.7,2,   16.12,2,   13.44,2,    0.00,2,    0.96,2,   2.597,2,   1.647,2,   2.0069,2,  -999.0,9,  -999.0,9,-999.0000,9,  -999.00,9, -999.00,9,  -999.0,9, -999.00,9, -999.00,9,       15.5,2, 20220530,     1235,  30.0001,-178.5212,    11.5391,2,     -999.0,9,     -999.0,9,     -999.0,9,     -999.0,9,     0.0122,1,     4.6946,1,     -999.0,9,     -999.0,9,     -999.0,9
33RR20220430,        P02,      87,          1,         25,         25,2,20220530,       1050,    30.0001,  -178.5213,       5061,   510.0,2,   9.2014,2,  34.1053,2,  34.0997,2,    196.4,2,   196.0,2,   27.16,2,   18.79,2,    0.00,2,    1.36,2,   2.712,2,   1.697,2,   1.9419,2,  2142.7,2,  2268.9,2,   7.6884,2,    25.03,2, -999.00,9,  -999.0,9, -999.00,9, -999.00,9,       18.8,2, 20220530,     1232,  30.0001,-178.5212,     9.2038,2,     -999.0,9,     -999.0,9,     -999.0,9,     -999.0,9,     0.0122,1,     4.6968,1,     -999.0,9,     -999.0,9,     -999.0,9
33RR20220430,        P02,      87,          1,         24,         24,2,20220530,       1050,    30.0001,  -178.5213,       5061,   611.2,2,   6.6312,2,  34.0059,2,  34.0037,2,    142.1,2,   141.1,2,   53.25,2,   28.67,2,    0.00,2,    2.07,2,   2.223,2,   1.391,2,   1.3055,2,  -999.0,9,  -999.0,9,-999.0000,9,  -999.00,9, -999.00,9,  -999.0,9, -999.00,9, -999.00,9,       28.7,2, 20220530,     1229,  30.0001,-178.5213,     6.6301,2,     -999.0,9,     -999.0,9,     -999.0,9,     -999.0,9,     0.0131,1,     4.6985,1,     -999.0,9,     -999.0,9,     -999.0,9
33RR20220430,        P02,      87,          1,         23,         23,2,20220530,       1050,    30.0001,  -178.5213,       5061,   711.7,2,   5.2960,2,  34.0548,2,  34.0496,2,     92.2,2,    92.5,2,   75.82,2,   35.28,2,    0.00,2,    2.55,2,   1.549,2,   0.962,2,   0.6561,2,  2269.6,2,  2302.8,2,   7.4257,2,    25.01,2, -999.00,9,  -999.0,9, -999.00,9, -999.00,9,       37.3,2, 20220530,     1227,  30.0001,-178.5212,     5.2980,2,     -999.0,9,     -999.0,9,     -999.0,9,     -999.0,9,     0.0134,1,     4.6983,1,     -999.0,9,     -999.0,9,     -999.0,9
33RR20220430,        P02,      87,          1,         22,         22,2,20220530,       1050,    30.0001,  -178.5213,       5061,   811.6,2,   4.5250,2,  34.1430,2,  34.1426,2,     57.6,2,    57.8,2,   95.84,2,   39.68,2,    0.00,2,    2.86,2,   0.849,2,   0.522,2,   0.2889,2,  -999.0,9,  -999.0,9,-999.0000,9,  -999.00,9, -999.00,9,  -999.0,9, -999.00,9, -999.00,9,       46.4,2, 20220530,     1224,  30.0001,-178.5212,     4.5229,2,     -999.0,9,     -999.0,9,     -999.0,9,     -999.0,9,     0.0134,1,     4.6994,1,     -999.0,9,     -999.0,9,     -999.0,9
33RR20220430,        P02,      87,          1,         21,         21,2,20220530,       1050,    30.0001,  -178.5213,       5061,   912.7,2,   3.9605,2,  34.2370,2,  34.2377,2,     35.8,2,    35.9,2,  112.54,2,   42.09,2,    0.00,2,    3.03,2,   0.413,2,   0.252,2,   0.0000,2,  2341.3,2,  2343.5,2,   7.3254,2,    25.02,2, -999.00,9,  -999.0,9, -999.00,9, -999.00,9,       52.3,2, 20220530,     1221,  30.0001,-178.5212,     3.9727,2,     -999.0,9,     -999.0,9,     -999.0,9,     -999.0,9,     0.0134,1,     4.6995,1,     -999.0,9,     -999.0,9,     -999.0,9
33RR20220430,        P02,      87,          1,         20,         20,2,20220530,       1050,    30.0001,  -178.5213,       5061,  1013.4,2,   3.5726,2,  34.3181,2,  34.3180,2,     25.6,2,    25.8,2,  124.84,2,   43.30,2,    0.00,2,    3.14,2,   0.173,2,   0.104,2,   0.0000,2,  2362.3,2,  2356.6,2,   7.3169,2,    24.99,2, -999.00,9,  -999.0,9, -999.00,9, -999.00,9,       56.1,2, 20220530,     1219,  30.0001,-178.5212,     3.5725,2,     -999.0,9,     -999.0,9,     -999.0,9,     -999.0,9,     0.0134,1,     4.6990,1,     -999.0,9,     -999.0,9,     -999.0,9
33RR20220430,        P02,      87,          1,         19,         19,2,20220530,       1050,    30.0001,  -178.5213,       5061,  1114.7,2,   3.3390,2,  34.3917,2,  34.3923,2,     26.4,2,    26.3,2,  131.77,2,   43.55,2,    0.00,2,    3.16,2,   0.064,2,   0.037,2,   0.0000,2,  -999.0,9,  -999.0,9,-999.0000,9,  -999.00,9, -999.00,9,  -999.0,9, -999.00,9, -999.00,9,       55.2,2, 20220530,     1216,  30.0001,-178.5212,     3.3399,2,     -999.0,9,     -999.0,9,     -999.0,9,     -999.0,9,     0.0134,1,     4.7002,1,     -999.0,9,     -999.0,9,     -999.0,9
33RR20220430,        P02,      87,          1,         18,         18,2,20220530,       1050,    30.0001,  -178.5213,       5061,  1215.9,2,   3.1152,2,  34.4382,2,  34.4379,2,     29.5,2,    29.5,2,  138.02,2,   43.53,2,    0.00,2,    3.15,2,   0.029,2,   0.021,2,   0.0000,2,  2373.6,2,  2379.7,2,   7.3382,2,    25.00,2, -999.00,9,  -999.0,9, -999.00,9, -999.00,9,       53.6,2, 20220530,     1213,  30.0001,-178.5212,     3.1183,2,     -999.0,9,     -999.0,9,     -999.0,9,     -999.0,9,     0.0133,1,     4.7006,1,     -999.0,9,     -999.0,9,     -999.0,9
33RR20220430,        P02,      87,          1,         17,         17,2,20220530,       1050,    30.0001,  -178.5213,       5061,  1318.0,2,   2.9138,2,  34.4786,2,  34.4773,2,     36.1,2,    36.2,2,  142.70,2,   43.34,2,    0.00,2,    3.13,2,   0.015,2,   0.008,2,   0.0000,2,  -999.0,9,  -999.0,9,-999.0000,9,  -999.00,9, -999.00,9,  -999.0,9, -999.00,9, -999.00,9,       49.6,2, 20220530,     1211,  30.0001,-178.5212,     2.9189,2,     -999.0,9,     -999.0,9,     -999.0,9,     -999.0,9,     0.0134,1,     4.7005,1,     -999.0,9,     -999.0,9,     -999.0,9
33RR20220430,        P02,      87,          1,         16,         16,2,20220530,       1050,    30.0001,  -178.5213,       5061,  1419.3,2,   2.7507,2,  34.5064,2,  34.5060,2,     42.2,2,    41.8,2,  146.51,2,   43.05,2,    0.00,2,    3.10,2,   0.011,2,   0.005,2,   0.0000,2,  -999.0,9,  -999.0,9,-999.0000,9,  -999.00,9, -999.00,9,  -999.0,9, -999.00,9, -999.00,9,       46.4,2, 20220530,     1208,  30.0001,-178.5212,     2.7506,2,     -999.0,9,     -999.0,9,     -999.0,9,     -999.0,9,     0.0133,1,     4.7017,1,     -999.0,9,     -999.0,9,     -999.0,9
33RR20220430,        P02,      87,          1,         15,         15,2,20220530,       1050,    30.0001,  -178.5213,       5061,  1520.2,2,   2.6068,2,  34.5298,2,  34.5301,2,     49.7,2,    50.0,2,  149.24,2,   42.70,2,    0.00,2,    3.06,2,   0.007,2,   0.000,2,   0.0000,2,  2374.8,2,  2397.7,2,   7.3841,2,    25.01,2, -999.00,9,  -999.0,9, -999.00,9, -999.00,9,       43.0,2, 20220530,     1205,  30.0001,-178.5212,     2.6070,2,     -999.0,9,     -999.0,9,     -999.0,9,     -999.0,9,     0.0134,1,     4.7019,1,     -999.0,9,     -999.0,9,     -999.0,9
33RR20220430,        P02,      87,          1,         14,         14,2,20220530,       1050,    30.0001,  -178.5213,       5061,  1621.8,2,   2.4631,2,  34.5480,2,  34.5488,2,     56.6,3,    57.5,2,  152.26,2,   42.25,2,    0.00,2,    3.00,2,   0.007,2,   0.000,2,   0.0000,2,  2374.3,2,  2400.2,2,   7.3982,2,    25.01,2, -999.00,9,  -999.0,9, -999.00,9, -999.00,9,       41.2,2, 20220530,     1202,  30.0001,-178.5212,     2.4613,2,     -999.0,9,     -999.0,9,     -999.0,9,     -999.0,9,     0.0134,1,     4.7032,1,     -999.0,9,     -999.0,9,     -999.0,9
33RR20220430,        P02,      87,          1,         13,         13,2,20220530,       1050,    30.0001,  -178.5213,       5061,  1823.7,2,   2.1496,2,  34.5840,2,  34.5849,2,     70.2,2,    69.6,2,  158.71,2,   41.52,2,    0.00,2,    2.94,2,   0.005,2,   0.000,2,   0.0000,2,  2373.2,2,  2409.6,2,   7.4249,2,    25.02,2, -999.00,9,  -999.0,9, -999.00,9, -999.00,9,       36.3,2, 20220530,     1158,  30.0001,-178.5212,     2.1506,2,     -999.0,9,     -999.0,9,     -999.0,9,     -999.0,9,     0.0131,1,     4.7037,1,     -999.0,9,     -999.0,9,     -999.0,9
33RR20220430,        P02,      87,          1,         12,         12,2,20220530,       1050,    30.0001,  -178.5213,       5061,  2026.8,2,   1.9468,2,  34.6069,2,  34.6071,2,     81.9,2,    81.5,2,  163.20,2,   40.78,2,    0.00,2,    2.89,2,-999.000,9,-999.000,9,-999.0000,9,  -999.0,9,  -999.0,9,-999.0000,9,  -999.00,9, -999.00,9,  -999.0,9, -999.00,9, -999.00,9,     -999.0,9, 20220530,     1154,  30.0001,-178.5212,     1.9465,2,     -999.0,9,     -999.0,9,     -999.0,9,     -999.0,9,     0.0134,1,     4.7027,1,     -999.0,9,     -999.0,9,     -999.0,9
33RR20220430,        P02,      87,          1,         11,         11,2,20220530,       1050,    30.0001,  -178.5213,       5061,  2281.6,2,   1.8033,2,  34.6249,2,  34.6254,2,     93.9,3,    95.0,2,  163.78,2,   39.97,2,    0.00,2,    2.82,2,   0.004,2,   0.000,2,   0.0000,2,  2362.5,2,  2414.6,2,   7.4699,2,    25.02,2, -999.00,9,  -999.0,9, -999.00,9, -999.00,9,       30.5,2, 20220530,     1148,  30.0001,-178.5212,     1.8021,2,     -999.0,9,     -999.0,9,     -999.0,9,     -999.0,9,     0.0124,1,     4.7042,1,     -999.0,9,     -999.0,9,     -999.0,9
33RR20220430,        P02,      87,          1,         10,         10,2,20220530,       1050,    30.0001,  -178.5213,       5061,  2534.6,2,   1.6769,2,  34.6419,2,  34.6423,2,    106.7,2,   106.1,2,  163.48,2,   39.15,2,    0.00,2,    2.75,2,-999.000,9,-999.000,9,-999.0000,9,  -999.0,9,  -999.0,9,-999.0000,9,  -999.00,9, -999.00,9,  -999.0,9, -999.00,9, -999.00,9,     -999.0,9, 20220530,     1143,  30.0001,-178.5212,     1.6767,2,     -999.0,9,     -999.0,9,     -999.0,9,     -999.0,9,     0.0122,1,     4.7045,1,     -999.0,9,     -999.0,9,     -999.0,9
33RR20220430,        P02,      87,          1,          9,          9,2,20220530,       1050,    30.0001,  -178.5213,       5061,  2790.1,2,   1.5898,2,  34.6541,2,  34.6545,2,    117.8,2,   117.5,2,  162.51,2,   38.46,2,    0.00,2,    2.69,2,   0.004,2,   0.000,2,   0.0000,2,  2352.4,2,  2419.8,2,   7.5139,2,    25.02,2, -999.00,9,  -999.0,9, -999.00,9, -999.00,9,       26.2,2, 20220530,     1138,  30.0001,-178.5212,     1.5898,2,     -999.0,9,     -999.0,9,     -999.0,9,     -999.0,9,     0.0124,1,     4.7051,1,     -999.0,9,     -999.0,9,     -999.0,9
33RR20220430,        P02,      87,          1,          8,          8,2,20220530,       1050,    30.0001,  -178.5213,       5061,  3045.7,2,   1.5316,2,  34.6630,2,  34.6627,2,    126.5,2,   126.9,2,  161.24,2,   37.88,2,    0.00,2,    2.66,2,-999.000,9,-999.000,9,-999.0000,9,  -999.0,9,  -999.0,9,-999.0000,9,  -999.00,9, -999.00,9,  -999.0,9, -999.00,9, -999.00,9,     -999.0,9, 20220530,     1132,  30.0001,-178.5212,     1.5310,2,     -999.0,9,     -999.0,9,     -999.0,9,     -999.0,9,     0.0124,1,     4.7048,1,     -999.0,9,     -999.0,9,     -999.0,9
33RR20220430,        P02,      87,          1,          7,          7,2,20220530,       1050,    30.0001,  -178.5213,       5061,  3350.4,2,   1.4852,2,  34.6714,2,  34.6720,2,    136.1,2,   135.7,2,  159.09,2,   37.29,2,    0.00,2,    2.61,2,   0.006,2,   0.000,2,   0.0000,2,  2338.8,2,  2418.5,2,   7.5466,2,    25.01,2, -999.00,9,  -999.0,9, -999.00,9, -999.00,9,       23.6,2, 20220530,     1126,  30.0001,-178.5213,     1.4850,2,     -999.0,9,     -999.0,9,     -999.0,9,     -999.0,9,     0.0122,1,     4.7048,1,     -999.0,9,     -999.0,9,     -999.0,9
33RR20220430,        P02,      87,          1,          6,          6,2,20220530,       1050,    30.0001,  -178.5213,       5061,  3657.5,2,   1.4643,2,  34.6772,2,  34.6761,2,    142.8,2,   143.1,2,  157.52,2,   36.87,2,    0.00,2,    2.56,2,-999.000,9,-999.000,9,-999.0000,9,  -999.0,9,  -999.0,9,-999.0000,9,  -999.00,9, -999.00,9,  -999.0,9, -999.00,9, -999.00,9,     -999.0,9, 20220530,     1120,  30.0001,-178.5212,     1.4642,2,     -999.0,9,     -999.0,9,     -999.0,9,     -999.0,9,     0.0122,1,     4.7055,1,     -999.0,9,     -999.0,9,     -999.0,9
33RR20220430,        P02,      87,          1,          5,          5,2,20220530,       1050,    30.0001,  -178.5213,       5061,  3963.7,2,   1.4599,2,  34.6814,2,  34.6822,2,    147.8,2,   148.4,2,  157.33,2,   36.57,2,    0.00,2,    2.53,2,   0.006,2,   0.000,2,   0.0000,2,  2330.3,2,  2419.1,2,   7.5682,2,    25.00,2, -999.00,9,  -999.0,9, -999.00,9, -999.00,9,       22.3,2, 20220530,     1114,  30.0001,-178.5212,     1.4601,2,     -999.0,9,     -999.0,9,     -999.0,9,     -999.0,9,     0.0122,1,     4.7056,1,     -999.0,9,     -999.0,9,     -999.0,9
33RR20220430,        P02,      87,          1,          4,          4,2,20220530,       1050,    30.0001,  -178.5213,       5061,  4272.7,2,   1.4714,2,  34.6841,2,  34.6849,2,    150.8,2,   150.8,2,  156.06,2,   36.35,2,    0.00,2,    2.50,2,-999.000,9,-999.000,9,-999.0000,9,  -999.0,9,  -999.0,9,-999.0000,9,  -999.00,9, -999.00,9,  -999.0,9, -999.00,9, -999.00,9,     -999.0,9, 20220530,     1108,  30.0001,-178.5212,     1.4713,2,     -999.0,9,     -999.0,9,     -999.0,9,     -999.0,9,     0.0122,1,     4.7056,1,     -999.0,9,     -999.0,9,     -999.0,9