BOTTLE,20230801CCHSIOCBG
EXPOCODE,SECT_ID,STNNBR,CASTNO,SAMPNO,BTLNBR,BTLNBR_FLAG_W,DATE,TIME,LATITUDE,LONGITUDE,DEPTH,CTDPRS,CTDPRS_FLAG_W,CTDTMP,CTDTMP_FLAG_W,CTDSAL,CTDSAL_FLAG_W,SALNTY,SALNTY_FLAG_W,CTDOXY,CTDOXY_FLAG_W,OXYGEN,OXYGEN_FLAG_W,SILCAT,SILCAT_FLAG_W,NITRAT,NITRAT_FLAG_W,NITRIT,NITRIT_FLAG_W,PHSPHT,PHSPHT_FLAG_W,CFC-11,CFC-11_FLAG_W,CFC-12,CFC-12_FLAG_W,SF6,SF6_FLAG_W,TCARBN,TCARBN_FLAG_W,ALKALI,ALKALI_FLAG_W,PH_TOT,PH_TOT_FLAG_W,PH_TMP,PH_TMP_FLAG_W,DELC13,DELC13_FLAG_W,DELC14,DELC14_FLAG_W,DOC,DOC_FLAG_W,TDN,TDN_FLAG_W,N2O,N2O_FLAG_W,BTL_DATE,BTL_TIME,BTL_LAT,BTL_LON,REFTMP,REFTMP_FLAG_W,POC,POC_FLAG_W,PON,PON_FLAG_W,POP,POP_FLAG_W,PCOD,PCOD_FLAG_W,CTDFLUOR,CTDFLUOR_FLAG_W,CTDXMISS,CTDXMISS_FLAG_W,HPLC,HPLC_FLAG_W,DNA,DNA_FLAG_W,FCM,FCM_FLAG_W
,,,,,,,,,,,METERS,DBAR,,ITS-90,,PSS-78,,PSS-78,,UMOL/KG,,UMOL/KG,,UMOL/KG,,UMOL/KG,,UMOL/KG,,UMOL/KG,,PMOL/KG,,PMOL/KG,,FMOL/KG,,UMOL/KG,,UMOL/KG,,,,DEG C,,/MILLE,,/MILLE,,UMOL/KG,,UMOL/KG,,NMOL/KG,,,,,,ITS-90,,UG/L,,UG/L,,UG/L,,UG/L,,VOLTS,,VOLTS,,,,,,,
33RR20220430,        P02,      16,          1,         36,         36,2,20220508,       0439,    30.0010,   137.9369,       4011,     5.8,2,  22.3774,2,  34.5596,2,  34.5500,2,    221.4,2,   220.0,2,    1.07,2,    0.01,2,    0.00,2,    0.04,2,   1.692,2,   1.138,2,   1.9142,2,  1982.3,2,  2268.9,2,   8.0303,2,    24.95,2, -999.00,1,  -999.0,1, -999.00,1, -999.00,1,        6.4,2, 20220508,      625,  30.0010, 137.9369,    22.3282,2,     -999.0,9,     -999.0,9,     -999.0,9,     -999.0,9,     0.0139,1,     4.6375,1,     -999.0,9,     -999.0,9,     -999.0,9
33RR20220430,        P02,      16,          1,         35,         35,2,20220508,       0439,    30.0010,   137.9369,       4011,    40.7,2,  21.2491,2,  34.7173,2,  34.7103,2,    218.9,2,   219.2,2,    1.27,2,    0.00,2,    0.00,2,    0.00,2,   1.862,2,   1.185,2,   1.8882,2,  1987.9,2,  2277.1,2,   8.0229,2,    24.89,2, -999.00,1,  -999.0,1, -999.00,1, -999.00,1,        7.1,2, 20220508,      623,  30.0010, 137.9369,    21.2491,2,     -999.0,9,     -999.0,9,     -999.0,9,     -999.0,9,     0.0224,1,     4.6244,1,     -999.0,9,     -999.0,9,     -999.0,9
33RR20220430,        P02,      16,          1,         34,         34,2,20220508,       0439,    30.0010,   137.9369,       4011,    65.7,2,  20.5740,2,  34.7781,2,  34.7701,2,    213.1,2,   212.9,2,    1.27,2,    0.35,2,    0.14,2,    0.02,2,   1.853,2,   1.172,2,   1.9102,2,  2005.0,2,  2283.4,2,   8.0053,2,    24.98,2, -999.00,1,  -999.0,1, -999.00,1, -999.00,1,        7.5,2, 20220508,      621,  30.0010, 137.9369,    20.5728,2,     -999.0,9,     -999.0,9,     -999.0,9,     -999.0,9,     0.0385,1,     4.6235,1,     -999.0,9,     -999.0,9,     -999.0,9
33RR20220430,        P02,      16,          1,         33,         33,2,20220508,       0439,    30.0010,   137.9369,       4011,    91.0,2,  20.0653,2,  34.7594,2,  34.7537,2,    214.8,2,   215.1,2,    1.56,2,    0.85,2,    0.09,2,    0.03,2,   1.909,2,   1.178,2,   2.0141,2,  2007.6,2,  2280.0,2,   7.9981,2,    25.08,2, -999.00,1,  -999.0,1, -999.00,1, -999.00,1,        7.8,2, 20220508,      619,  30.0010, 137.9369,    20.0715,2,     -999.0,9,     -999.0,9,     -999.0,9,     -999.0,9,     0.0203,1,     4.6646,1,     -999.0,9,     -999.0,9,     -999.0,9
33RR20220430,        P02,      16,          1,         32,         32,2,20220508,       0439,    30.0010,   137.9369,       4011,   116.4,2,  19.9060,2,  34.7726,2,  34.7661,2,    211.4,2,   211.6,2,    1.56,2,    1.18,2,    0.02,2,    0.03,2,-999.000,9,-999.000,9,-999.0000,9,  2009.4,2,  2280.0,2,   7.9943,2,    25.01,2, -999.00,1,  -999.0,1, -999.00,1, -999.00,1,     -999.0,9, 20220508,      617,  30.0010, 137.9369,    19.9050,2,     -999.0,9,     -999.0,9,     -999.0,9,     -999.0,9,     0.0159,1,     4.6734,1,     -999.0,9,     -999.0,9,     -999.0,9
33RR20220430,        P02,      16,          1,         31,         31,2,20220508,       0439,    30.0010,   137.9369,       4011,   140.2,2,  19.7395,2,  34.7787,2,  34.7736,2,    209.0,2,   208.8,2,    1.76,2,    1.55,2,    0.00,2,    0.05,2,   1.889,2,   1.234,2,   1.8566,2,  2014.6,2,  2283.1,2,   7.9882,2,    24.99,2, -999.00,1,  -999.0,1, -999.00,1, -999.00,1,        8.0,2, 20220508,      616,  30.0010, 137.9369,    19.7398,2,     -999.0,9,     -999.0,9,     -999.0,9,     -999.0,9,     0.0142,1,     4.6800,1,     -999.0,9,     -999.0,9,     -999.0,9
33RR20220430,        P02,      16,          1,         30,         30,2,20220508,       0439,    30.0010,   137.9369,       4011,   167.9,2,  19.4766,2,  34.7969,2,  34.7907,2,    199.7,2,   199.6,2,    2.25,2,    2.57,2,    0.00,2,    0.10,2,-999.000,9,-999.000,9,-999.0000,9,  2028.1,2,  2284.4,2,   7.9644,2,    24.99,2, -999.00,1,  -999.0,1, -999.00,1, -999.00,1,     -999.0,9, 20220508,      614,  30.0010, 137.9369,    19.4779,2,     -999.0,9,     -999.0,9,     -999.0,9,     -999.0,9,     0.0135,1,     4.6830,1,     -999.0,9,     -999.0,9,     -999.0,9
33RR20220430,        P02,      16,          1,         29,         29,2,20220508,       0439,    30.0010,   137.9369,       4011,   217.2,2,  18.7198,2,  34.7940,2,  34.7881,2,    190.3,2,   190.1,2,    3.32,2,    4.23,2,    0.00,2,    0.21,2,   2.100,2,   1.302,2,   1.7887,2,  2045.0,2,  2283.9,2,   7.9314,2,    25.00,2, -999.00,1,  -999.0,1, -999.00,1, -999.00,1,        9.6,2, 20220508,      612,  30.0010, 137.9369,    18.7189,2,     -999.0,9,     -999.0,9,     -999.0,9,     -999.0,9,     0.0122,1,     4.6841,1,     -999.0,9,     -999.0,9,     -999.0,9
33RR20220430,        P02,      16,          1,         28,         28,2,20220508,       0439,    30.0010,   137.9369,       4011,   268.1,2,  17.8189,2,  34.7578,2,  34.7526,2,    195.1,2,   195.4,2,    3.91,2,    4.84,2,    0.00,2,    0.25,2,-999.000,9,-999.000,9,-999.0000,9,  -999.0,9,  -999.0,9,-999.0000,9,  -999.00,9, -999.00,1,  -999.0,1, -999.00,1, -999.00,1,     -999.0,9, 20220508,      610,  30.0010, 137.9369,    17.8188,2,     -999.0,9,     -999.0,9,     -999.0,9,     -999.0,9,     0.0123,1,     4.6873,1,     -999.0,9,     -999.0,9,     -999.0,9
33RR20220430,        P02,      16,          1,         27,         27,2,20220508,       0439,    30.0010,   137.9369,       4011,   316.8,2,  17.0082,2,  34.7263,2,  34.7215,2,    193.9,2,   194.6,2,    5.27,2,    6.11,2,    0.00,2,    0.31,2,   2.192,2,   1.370,2,   1.5662,2,  2058.6,6,  2280.0,2,   7.9048,2,    24.99,2, -999.00,1,  -999.0,1, -999.00,1, -999.00,1,       10.8,2, 20220508,      608,  30.0010, 137.9369,    17.0096,2,     -999.0,9,     -999.0,9,     -999.0,9,     -999.0,9,     0.0122,1,     4.6902,1,     -999.0,9,     -999.0,9,     -999.0,9
33RR20220430,        P02,      16,          1,         26,         26,2,20220508,       0439,    30.0010,   137.9369,       4011,   369.0,2,  15.9275,2,  34.6502,2,  34.6462,2,    185.4,2,   186.4,2,    8.11,2,    8.47,2,    0.00,2,    0.47,2,-999.000,9,-999.000,9,-999.0000,9,  -999.0,9,  -999.0,9,-999.0000,9,  -999.00,9, -999.00,1,  -999.0,1, -999.00,1, -999.00,1,     -999.0,9, 20220508,      607,  30.0010, 137.9369,    15.9274,2,     -999.0,9,     -999.0,9,     -999.0,9,     -999.0,9,     0.0122,1,     4.6917,1,     -999.0,9,     -999.0,9,     -999.0,9
33RR20220430,        P02,      16,          1,         25,         25,2,20220508,       0439,    30.0010,   137.9369,       4011,   417.9,2,  14.4820,2,  34.5413,2,  34.5382,2,    178.7,2,   179.1,2,   12.99,2,   11.37,2,    0.00,2,    0.68,2,   2.406,2,   1.410,2,   1.4225,2,  2093.9,2,  2276.3,2,   7.8202,2,    24.93,2, -999.00,1,  -999.0,1, -999.00,1, -999.00,1,       15.4,2, 20220508,      605,  30.0010, 137.9369,    14.4693,2,     -999.0,9,     -999.0,9,     -999.0,9,     -999.0,9,     0.0122,1,     4.6934,1,     -999.0,9,     -999.0,9,     -999.0,9
33RR20220430,        P02,      16,          1,         24,         24,2,20220508,       0439,    30.0010,   137.9369,       4011,   468.2,2,  13.2056,2,  34.4645,2,  34.4608,2,    163.3,2,   163.9,2,   23.06,2,   15.23,2,    0.00,2,    0.97,2,-999.000,9,-999.000,9,-999.0000,9,  -999.0,9,  -999.0,9,-999.0000,9,  -999.00,9, -999.00,1,  -999.0,1, -999.00,9, -999.00,9,     -999.0,9, 20220508,      603,  30.0010, 137.9369,    13.2050,2,     -999.0,9,     -999.0,9,     -999.0,9,     -999.0,9,     0.0122,1,     4.6859,1,     -999.0,9,     -999.0,9,     -999.0,9
33RR20220430,        P02,      16,          1,         23,         23,2,20220508,       0439,    30.0010,   137.9369,       4011,   539.1,2,  10.2828,2,  34.3300,2,  34.3291,2,    142.5,2,   142.1,2,   38.89,2,   21.93,2,    0.00,2,    1.46,2,   2.026,2,   1.187,2,   1.0076,2,  2169.6,2,  2288.0,2,   7.6602,2,    25.00,2, -999.00,1,  -999.0,1, -999.00,1, -999.00,1,       26.1,2, 20220508,      601,  30.0010, 137.9369,    10.2761,2,     -999.0,9,     -999.0,9,     -999.0,9,     -999.0,9,     0.0123,1,     4.6888,1,     -999.0,9,     -999.0,9,     -999.0,9
33RR20220430,        P02,      16,          1,         22,         22,2,20220508,       0439,    30.0010,   137.9369,       4011,   640.2,2,   8.1830,2,  34.2405,2,  34.2395,2,    123.9,2,   123.7,2,   53.74,2,   27.13,2,    0.00,2,    1.85,2,-999.000,9,-999.000,9,-999.0000,9,  2209.5,2,  2295.5,2,   7.5757,2,    25.00,2, -999.00,1,  -999.0,1, -999.00,9, -999.00,9,     -999.0,9, 20220508,      558,  30.0010, 137.9369,     8.1827,2,     -999.0,9,     -999.0,9,     -999.0,9,     -999.0,9,     0.0122,1,     4.6947,1,     -999.0,9,     -999.0,9,     -999.0,9
33RR20220430,        P02,      16,          1,         21,         21,2,20220508,       0439,    30.0010,   137.9369,       4011,   740.0,2,   6.4544,2,  34.2352,2,  34.2358,2,     99.0,2,    98.4,2,   73.78,2,   32.32,2,    0.00,2,    2.24,2,   1.335,2,   0.765,2,   0.5260,2,  2253.3,2,  2313.7,2,   7.4943,2,    25.00,2, -999.00,1,  -999.0,1, -999.00,1, -999.00,1,       36.0,2, 20220508,      555,  30.0010, 137.9369,     6.4527,2,     -999.0,9,     -999.0,9,     -999.0,9,     -999.0,9,     0.0132,1,     4.6991,1,     -999.0,9,     -999.0,9,     -999.0,9
33RR20220430,        P02,      16,          1,         20,         20,2,20220508,       0439,    30.0010,   137.9369,       4011,   842.3,2,   5.1437,2,  34.2676,2,  34.2695,2,     76.6,2,    76.5,2,   92.83,2,   36.75,2,    0.00,2,    2.54,2,-999.000,9,-999.000,9,-999.0000,9,  2290.1,2,  2332.6,2,   7.4357,2,    25.00,2, -999.00,1,  -999.0,1, -999.00,9, -999.00,9,     -999.0,9, 20220508,      553,  30.0010, 137.9369,     5.1436,2,     -999.0,9,     -999.0,9,     -999.0,9,     -999.0,9,     0.0134,1,     4.7019,1,     -999.0,9,     -999.0,9,     -999.0,9
33RR20220430,        P02,      16,          1,         19,         19,2,20220508,       0439,    30.0010,   137.9369,       4011,   943.0,2,   4.1321,2,  34.3005,2,  34.3019,2,     59.0,3,    59.8,2,  110.81,2,   39.59,2,    0.00,2,    2.75,2,   0.589,2,   0.327,2,   0.3369,2,  2324.5,2,  2348.4,2,   7.3903,2,    25.00,2, -999.00,1,  -999.0,1, -999.00,1, -999.00,1,       45.5,2, 20220508,      550,  30.0010, 137.9369,     4.1314,2,     -999.0,9,     -999.0,9,     -999.0,9,     -999.0,9,     0.0134,1,     4.7061,1,     -999.0,9,     -999.0,9,     -999.0,9
33RR20220430,        P02,      16,          1,         18,         18,2,20220508,       0439,    30.0010,   137.9369,       4011,  1044.1,2,   3.6468,2,  34.3540,2,  34.3547,2,     53.9,3,    54.7,2,  121.75,2,   40.54,2,    0.00,2,    2.83,2,-999.000,9,-999.000,9,-999.0000,9,  2334.6,2,  2361.1,2,   7.3813,2,    25.00,2, -999.00,1,  -999.0,1, -999.00,9, -999.00,9,     -999.0,9, 20220508,      547,  30.0010, 137.9369,     3.6501,2,     -999.0,9,     -999.0,9,     -999.0,9,     -999.0,9,     0.0134,1,     4.7058,1,     -999.0,9,     -999.0,9,     -999.0,9
33RR20220430,        P02,      16,          1,         17,         17,2,20220508,       0439,    30.0010,   137.9369,       4011,  1146.3,2,   3.3277,2,  34.3943,2,  34.3953,2,     52.5,3,    53.6,2,  128.97,2,   41.38,2,    0.00,2,    2.87,2,   0.285,2,   0.151,2,   0.2919,2,  2346.3,2,  2370.7,2,   7.3799,2,    24.99,2, -999.00,1,  -999.0,1, -999.00,1, -999.00,1,       46.1,2, 20220508,      545,  30.0010, 137.9369,     3.3270,2,     -999.0,9,     -999.0,9,     -999.0,9,     -999.0,9,     0.0134,1,     4.7069,1,     -999.0,9,     -999.0,9,     -999.0,9
33RR20220430,        P02,      16,          1,         16,         16,2,20220508,       0439,    30.0010,   137.9369,       4011,  1248.0,2,   3.0820,2,  34.4344,2,  34.4304,2,     56.5,3,    54.9,2,  133.85,2,   41.28,2,    0.00,2,    2.87,2,-999.000,9,-999.000,9,-999.0000,9,  -999.0,9,  -999.0,9,-999.0000,9,  -999.00,9, -999.00,1,  -999.0,1, -999.00,9, -999.00,9,     -999.0,9, 20220508,      542,  30.0010, 137.9369,     3.0827,2,     -999.0,9,     -999.0,9,     -999.0,9,     -999.0,9,     0.0134,1,     4.7067,1,     -999.0,9,     -999.0,9,     -999.0,9
33RR20220430,        P02,      16,          1,         15,         15,2,20220508,       0439,    30.0010,   137.9369,       4011,  1350.7,2,   2.8403,2,  34.4720,2,  34.4722,2,     60.8,2,    61.1,2,  139.13,2,   41.01,2,    0.00,2,    2.86,2,   0.123,2,   0.065,2,   0.0000,2,  2354.6,2,  2385.8,2,   7.4015,2,    24.99,2, -999.00,1,  -999.0,1, -999.00,1, -999.00,1,       36.8,2, 20220508,      539,  30.0010, 137.9369,     2.8407,2,     -999.0,9,     -999.0,9,     -999.0,9,     -999.0,9,     0.0134,1,     4.7068,1,     -999.0,9,     -999.0,9,     -999.0,9
33RR20220430,        P02,      16,          1,         14,         14,2,20220508,       0439,    30.0010,   137.9369,       4011,  1451.9,2,   2.6803,2,  34.5038,2,  34.5060,2,     71.9,2,    72.2,2,  140.29,2,   40.58,2,    0.00,2,    2.80,2,-999.000,9,-999.000,9,-999.0000,9,  -999.0,9,  -999.0,9,-999.0000,9,  -999.00,9, -999.00,1,  -999.0,1, -999.00,9, -999.00,9,     -999.0,9, 20220508,      536,  30.0010, 137.9369,     2.6806,2,     -999.0,9,     -999.0,9,     -999.0,9,     -999.0,9,     0.0128,1,     4.7055,1,     -999.0,9,     -999.0,9,     -999.0,9
33RR20220430,        P02,      16,          1,         13,         13,2,20220508,       0439,    30.0010,   137.9369,       4011,  1553.5,2,   2.5109,2,  34.5224,2,  34.5223,2,     74.1,2,    73.7,2,  143.81,2,   40.39,2,    0.00,2,    2.81,2,   0.073,2,   0.039,2,   0.0000,2,  2353.1,2,  2393.3,2,   7.4281,2,    25.00,2, -999.00,1,  -999.0,1, -999.00,1, -999.00,1,       39.6,2, 20220508,      534,  30.0010, 137.9368,     2.5107,2,     -999.0,9,     -999.0,9,     -999.0,9,     -999.0,9,     0.0134,1,     4.7053,1,     -999.0,9,     -999.0,9,     -999.0,9
33RR20220430,        P02,      16,          1,         12,         12,2,20220508,       0439,    30.0010,   137.9369,       4011,  1654.6,2,   2.3709,2,  34.5444,2,  34.5445,2,     82.0,2,    82.5,2,  144.69,2,   39.90,2,    0.00,2,    2.79,2,-999.000,9,-999.000,9,-999.0000,9,  -999.0,9,  -999.0,9,-999.0000,9,  -999.00,9, -999.00,9,  -999.0,9, -999.00,9, -999.00,9,     -999.0,9, 20220508,      531,  30.0010, 137.9369,     2.3720,2,     -999.0,9,     -999.0,9,     -999.0,9,     -999.0,9,     0.0125,1,     4.7050,1,     -999.0,9,     -999.0,9,     -999.0,9
33RR20220430,        P02,      16,          1,         11,         11,2,20220508,       0439,    30.0010,   137.9369,       4011,  1756.2,2,   2.2254,2,  34.5650,2,  34.5663,2,     88.9,2,    89.1,2,  146.35,2,   39.50,2,    0.00,2,    2.76,2,   0.039,2,   0.019,2,   0.0000,2,  2349.8,2,  2400.7,2,   7.4589,2,    25.01,2, -999.00,1,  -999.0,1, -999.00,1, -999.00,1,       35.5,2, 20220508,      528,  30.0010, 137.9369,     2.2261,2,     -999.0,9,     -999.0,9,     -999.0,9,     -999.0,9,     0.0134,1,     4.7064,1,     -999.0,9,     -999.0,9,     -999.0,9
33RR20220430,        P02,      16,          1,         10,         10,2,20220508,       0439,    30.0010,   137.9369,       4011,  1887.6,2,   2.0693,2,  34.5886,2,  34.5889,2,     99.7,2,    99.5,2,  146.34,2,   38.78,2,    0.00,2,    2.73,2,-999.000,9,-999.000,9,-999.0000,9,  -999.0,9,  -999.0,9,-999.0000,9,  -999.00,9, -999.00,9,  -999.0,9, -999.00,9, -999.00,9,     -999.0,9, 20220508,      525,  30.0010, 137.9368,     2.0697,2,     -999.0,9,     -999.0,9,     -999.0,9,     -999.0,9,     0.0131,1,     4.7063,1,     -999.0,9,     -999.0,9,     -999.0,9
33RR20220430,        P02,      16,          1,          9,          9,2,20220508,       0439,    30.0010,   137.9369,       4011,  2112.0,2,   1.9156,2,  34.6123,2,  34.6128,2,    111.2,2,   111.6,2,  146.34,2,   38.50,2,    0.00,2,    2.66,2,   0.021,2,   0.011,2,-999.0000,5,  2342.2,2,  2410.3,2,   7.5015,2,    25.01,2, -999.00,1,  -999.0,1, -999.00,1, -999.00,1,       31.4,2, 20220508,      520,  30.0010, 137.9369,     1.9156,2,     -999.0,9,     -999.0,9,     -999.0,9,     -999.0,9,     0.0122,1,     4.7079,1,     -999.0,9,     -999.0,9,     -999.0,9
33RR20220430,        P02,      16,          1,          8,          8,2,20220508,       0439,    30.0010,   137.9369,       4011,  2366.3,2,   1.7691,2,  34.6342,2,  34.6348,2,    122.9,2,   123.8,2,  145.75,2,   37.65,2,    0.00,2,    2.60,2,-999.000,9,-999.000,9,-999.0000,9,  -999.0,9,  -999.0,9,-999.0000,9,  -999.00,9, -999.00,9,  -999.0,9, -999.00,9, -999.00,9,     -999.0,9, 20220508,      515,  30.0010, 137.9369,     1.7689,2,     -999.0,9,     -999.0,9,     -999.0,9,     -999.0,9,     0.0122,1,     4.7093,1,     -999.0,9,     -999.0,9,     -999.0,9
33RR20220430,        P02,      16,          1,          7,          7,2,20220508,       0439,    30.0010,   137.9369,       4011,  2621.3,2,   1.6691,2,  34.6505,2,  34.6504,2,    133.4,2,   133.1,2,  143.89,2,   36.96,2,    0.00,2,    2.55,2,   0.011,2,   0.006,2,   0.0000,2,  2329.7,2,  2412.1,2,   7.5414,2,    25.04,2, -999.00,1,  -999.0,1, -999.00,1, -999.00,1,       27.3,2, 20220508,      510,  30.0010, 137.9369,     1.6691,2,     -999.0,9,     -999.0,9,     -999.0,9,     -999.0,9,     0.0128,1,     4.7099,1,     -999.0,9,     -999.0,9,     -999.0,9
33RR20220430,        P02,      16,          1,          6,          6,2,20220508,       0439,    30.0010,   137.9369,       4011,  2875.7,2,   1.5969,2,  34.6619,2,  34.6629,2,    140.8,2,   140.7,2,  143.11,2,   36.45,2,    0.00,2,    2.52,2,-999.000,9,-999.000,9,-999.0000,9,  -999.0,9,  -999.0,9,-999.0000,9,  -999.00,9, -999.00,9,  -999.0,9, -999.00,9, -999.00,9,     -999.0,9, 20220508,      504,  30.0010, 137.9369,     1.5970,2,     -999.0,9,     -999.0,9,     -999.0,9,     -999.0,9,     0.0122,1,     4.7105,1,     -999.0,9,     -999.0,9,     -999.0,9
33RR20220430,        P02,      16,          1,          5,          5,2,20220508,       0439,    30.0010,   137.9369,       4011,  3130.7,2,   1.5660,2,  34.6683,2,  34.6679,2,    145.0,2,   144.7,2,  142.82,2,   36.52,2,    0.00,2,    2.49,2,   0.009,2,   0.006,2,   0.0000,2,  2325.5,2,  2413.5,2,   7.5623,2,    25.00,2, -999.00,1,  -999.0,1, -999.00,1, -999.00,1,       25.3,2, 20220508,      459,  30.0010, 137.9369,     1.5661,2,     -999.0,9,     -999.0,9,     -999.0,9,     -999.0,9,     0.0122,1,     4.7101,1,     -999.0,9,     -999.0,9,     -999.0,9
33RR20220430,        P02,      16,          1,          4,          4,2,20220508,       0439,    30.0010,   137.9369,       4011,  3386.2,2,   1.5250,2,  34.6755,2,  34.6747,2,    150.1,2,   150.1,2,  141.74,2,   35.94,2,    0.00,2,    2.48,2,-999.000,9,-999.000,9,-999.0000,9,  -999.0,9,  -999.0,9,-999.0000,9,  -999.00,9, -999.00,9,  -999.0,9, -999.00,9, -999.00,9,     -999.0,9, 20220508,      454,  30.0010, 137.9369,     1.5251,2,     -999.0,9,     -999.0,9,     -999.0,9,     -999.0,9,     0.0122,1,     4.7089,1,     -999.0,9,     -999.0,9,     -999.0,9