BOTTLE,20230801CCHSIOCBG
EXPOCODE,SECT_ID,STNNBR,CASTNO,SAMPNO,BTLNBR,BTLNBR_FLAG_W,DATE,TIME,LATITUDE,LONGITUDE,DEPTH,CTDPRS,CTDPRS_FLAG_W,CTDTMP,CTDTMP_FLAG_W,CTDSAL,CTDSAL_FLAG_W,SALNTY,SALNTY_FLAG_W,CTDOXY,CTDOXY_FLAG_W,OXYGEN,OXYGEN_FLAG_W,SILCAT,SILCAT_FLAG_W,NITRAT,NITRAT_FLAG_W,NITRIT,NITRIT_FLAG_W,PHSPHT,PHSPHT_FLAG_W,CFC-11,CFC-11_FLAG_W,CFC-12,CFC-12_FLAG_W,SF6,SF6_FLAG_W,TCARBN,TCARBN_FLAG_W,ALKALI,ALKALI_FLAG_W,PH_TOT,PH_TOT_FLAG_W,PH_TMP,PH_TMP_FLAG_W,DELC13,DELC13_FLAG_W,DELC14,DELC14_FLAG_W,DOC,DOC_FLAG_W,TDN,TDN_FLAG_W,N2O,N2O_FLAG_W,BTL_DATE,BTL_TIME,BTL_LAT,BTL_LON,REFTMP,REFTMP_FLAG_W,POC,POC_FLAG_W,PON,PON_FLAG_W,POP,POP_FLAG_W,PCOD,PCOD_FLAG_W,CTDFLUOR,CTDFLUOR_FLAG_W,CTDXMISS,CTDXMISS_FLAG_W,HPLC,HPLC_FLAG_W,DNA,DNA_FLAG_W,FCM,FCM_FLAG_W
,,,,,,,,,,,METERS,DBAR,,ITS-90,,PSS-78,,PSS-78,,UMOL/KG,,UMOL/KG,,UMOL/KG,,UMOL/KG,,UMOL/KG,,UMOL/KG,,PMOL/KG,,PMOL/KG,,FMOL/KG,,UMOL/KG,,UMOL/KG,,,,DEG C,,/MILLE,,/MILLE,,UMOL/KG,,UMOL/KG,,NMOL/KG,,,,,,ITS-90,,UG/L,,UG/L,,UG/L,,UG/L,,VOLTS,,VOLTS,,,,,,,
33RR20220430,        P02,     100,          1,          3,          3,2,20220603,       0505,    30.0002,  -171.0212,       5257,  4682.4,2,   1.5011,2,  34.6859,2,  34.6863,2,    153.7,2,   153.6,2,  152.95,2,   36.00,2,    0.00,2,    2.48,2,   0.006,2,   0.000,2,   0.0000,2,  2325.4,2,  2416.6,2,   7.5789,2,    25.00,2, -999.00,9,  -999.0,9, -999.00,1, -999.00,1,       22.8,2, 20220603,      519,  30.0002,-171.0212,     1.5011,2,     -999.0,9,     -999.0,9,     -999.0,9,     -999.0,9,     0.0122,1,     4.7067,1,     -999.0,9,     -999.0,9,     -999.0,9
33RR20220430,        P02,     100,          1,          2,          2,2,20220603,       0505,    30.0002,  -171.0212,       5257,  5044.3,2,   1.5221,2,  34.6880,2,  34.6887,2,    158.0,2,   158.5,2,  148.75,2,   35.62,2,    0.00,2,    2.45,2,-999.000,9,-999.000,9,-999.0000,9,  -999.0,9,  -999.0,9,-999.0000,9,  -999.00,9, -999.00,9,  -999.0,9, -999.00,1, -999.00,1,     -999.0,9, 20220603,      512,  30.0002,-171.0212,     1.5221,2,     -999.0,9,     -999.0,9,     -999.0,9,     -999.0,9,     0.0122,1,     4.7055,1,     -999.0,9,     -999.0,9,     -999.0,9
33RR20220430,        P02,     100,          1,          1,          1,2,20220603,       0505,    30.0002,  -171.0212,       5257,  5353.2,2,   1.5489,2,  34.6889,2,  34.6905,2,    160.7,2,   160.4,2,  146.41,2,   35.59,2,    0.00,2,    2.44,2,   0.009,2,   0.000,2,   0.0000,2,  2320.2,6,  2412.1,2,   7.5854,2,    25.00,2, -999.00,9,  -999.0,9, -999.00,1, -999.00,1,       22.4,2, 20220603,      505,  30.0002,-171.0212,     1.5489,2,     -999.0,9,     -999.0,9,     -999.0,9,     -999.0,9,     0.0122,1,     4.7046,1,     -999.0,9,     -999.0,9,     -999.0,9
33RR20220430,        P02,     101,          1,         12,         12,2,20220603,       1037,    29.9997,  -170.4444,       5402,     5.2,2,  23.7184,2,  35.1789,2,-999.0000,9,    208.5,2,  -999.0,9, -999.00,9, -999.00,9, -999.00,9, -999.00,9,-999.000,9,-999.000,9,-999.0000,9,  -999.0,9,  -999.0,9,-999.0000,9,  -999.00,9, -999.00,9,  -999.0,9, -999.00,9, -999.00,9,     -999.0,9, 20220603,     1106,  29.9997,-170.4445,    23.7155,2,     -999.0,9,     -999.0,9,     -999.0,9,     -999.0,9,     0.0138,1,     4.6371,1,     -999.0,9,     -999.0,1,     -999.0,9
33RR20220430,        P02,     101,          1,         14,         14,2,20220603,       1037,    29.9997,  -170.4444,       5402,     5.3,2,  23.6818,2,  35.1803,2,-999.0000,9,    208.5,2,  -999.0,9, -999.00,9, -999.00,9, -999.00,9, -999.00,9,-999.000,9,-999.000,9,-999.0000,9,  -999.0,9,  -999.0,9,-999.0000,9,  -999.00,9, -999.00,9,  -999.0,9, -999.00,9, -999.00,9,     -999.0,9, 20220603,     1107,  29.9997,-170.4445,    23.7013,2,     -999.0,1,     -999.0,1,     -999.0,9,     -999.0,9,     0.0135,1,     4.6371,1,     -999.0,9,     -999.0,9,     -999.0,9
33RR20220430,        P02,     101,          1,         16,         16,2,20220603,       1037,    29.9997,  -170.4444,       5402,     5.3,2,  23.7325,2,  35.1782,2,-999.0000,9,    208.6,2,  -999.0,9, -999.00,9, -999.00,9, -999.00,9, -999.00,9,-999.000,9,-999.000,9,-999.0000,9,  -999.0,9,  -999.0,9,-999.0000,9,  -999.00,9, -999.00,9,  -999.0,9, -999.00,9, -999.00,9,     -999.0,9, 20220603,     1107,  29.9997,-170.4445,    23.7230,2,     -999.0,9,     -999.0,9,     -999.0,1,     -999.0,9,     0.0134,1,     4.6370,1,     -999.0,9,     -999.0,9,     -999.0,9
33RR20220430,        P02,     101,          1,         17,         17,2,20220603,       1037,    29.9997,  -170.4444,       5402,     5.4,2,  23.7214,2,  35.1799,2,-999.0000,9,    208.3,2,  -999.0,9, -999.00,9, -999.00,9, -999.00,9, -999.00,9,-999.000,9,-999.000,9,-999.0000,9,  -999.0,9,  -999.0,9,-999.0000,9,  -999.00,9, -999.00,9,  -999.0,9, -999.00,9, -999.00,9,     -999.0,9, 20220603,     1107,  29.9997,-170.4445,    23.7318,2,     -999.0,9,     -999.0,9,     -999.0,1,     -999.0,9,     0.0134,1,     4.6364,1,     -999.0,9,     -999.0,9,     -999.0,9
33RR20220430,        P02,     101,          1,         21,         21,2,20220603,       1037,    29.9997,  -170.4444,       5402,     5.5,2,  23.7478,2,  35.1787,2,-999.0000,9,    208.5,2,  -999.0,9, -999.00,9, -999.00,9, -999.00,9, -999.00,9,-999.000,9,-999.000,9,-999.0000,9,  -999.0,9,  -999.0,9,-999.0000,9,  -999.00,9, -999.00,9,  -999.0,9, -999.00,9, -999.00,9,     -999.0,9, 20220603,     1109,  29.9997,-170.4444,    23.7669,2,     -999.0,1,     -999.0,1,     -999.0,9,     -999.0,1,     0.0137,1,     4.6349,1,     -999.0,9,     -999.0,9,     -999.0,9
33RR20220430,        P02,     101,          1,         18,         18,2,20220603,       1037,    29.9997,  -170.4444,       5402,     5.5,2,  23.8073,2,  35.1771,2,-999.0000,9,    208.1,2,  -999.0,9, -999.00,9, -999.00,9, -999.00,9, -999.00,9,-999.000,9,-999.000,9,-999.0000,9,  -999.0,9,  -999.0,9,-999.0000,9,  -999.00,9, -999.00,9,  -999.0,9, -999.00,9, -999.00,9,     -999.0,9, 20220603,     1108,  29.9997,-170.4445,    23.7933,2,     -999.0,1,     -999.0,1,     -999.0,9,     -999.0,9,     0.0135,1,     4.6353,1,     -999.0,9,     -999.0,9,     -999.0,9
33RR20220430,        P02,     101,          1,         11,         11,2,20220603,       1037,    29.9997,  -170.4444,       5402,     5.5,2,  23.8050,2,  35.1773,2,-999.0000,9,    208.0,2,  -999.0,9, -999.00,9, -999.00,9, -999.00,9, -999.00,9,-999.000,9,-999.000,9,-999.0000,9,  -999.0,9,  -999.0,9,-999.0000,9,  -999.00,9, -999.00,9,  -999.0,9, -999.00,9, -999.00,9,     -999.0,9, 20220603,     1106,  29.9997,-170.4445,    23.7749,2,     -999.0,1,     -999.0,1,     -999.0,9,     -999.0,9,     0.0135,1,     4.6372,1,     -999.0,1,     -999.0,9,     -999.0,1
33RR20220430,        P02,     101,          1,         13,         13,2,20220603,       1037,    29.9997,  -170.4444,       5402,     5.5,2,  23.7451,2,  35.1788,2,-999.0000,9,    208.4,2,  -999.0,9, -999.00,9, -999.00,9, -999.00,9, -999.00,9,-999.000,9,-999.000,9,-999.0000,9,  -999.0,9,  -999.0,9,-999.0000,9,  -999.00,9, -999.00,9,  -999.0,9, -999.00,9, -999.00,9,     -999.0,9, 20220603,     1106,  29.9997,-170.4445,    23.7139,2,     -999.0,1,     -999.0,1,     -999.0,9,     -999.0,9,     0.0134,1,     4.6369,1,     -999.0,9,     -999.0,9,     -999.0,9
33RR20220430,        P02,     101,          1,         20,         20,2,20220603,       1037,    29.9997,  -170.4444,       5402,     5.6,2,  23.8120,2,  35.1778,2,-999.0000,9,    208.2,2,  -999.0,9, -999.00,9, -999.00,9, -999.00,9, -999.00,9,-999.000,9,-999.000,9,-999.0000,9,  -999.0,9,  -999.0,9,-999.0000,9,  -999.00,9, -999.00,9,  -999.0,9, -999.00,9, -999.00,9,     -999.0,9, 20220603,     1108,  29.9997,-170.4445,    23.7662,2,     -999.0,9,     -999.0,9,     -999.0,9,     -999.0,1,     0.0135,1,     4.6365,1,     -999.0,9,     -999.0,9,     -999.0,9
33RR20220430,        P02,     101,          1,         15,         15,2,20220603,       1037,    29.9997,  -170.4444,       5402,     5.8,2,  23.7156,2,  35.1807,2,-999.0000,9,    208.1,2,  -999.0,9, -999.00,9, -999.00,9, -999.00,9, -999.00,9,-999.000,9,-999.000,9,-999.0000,9,  -999.0,9,  -999.0,9,-999.0000,9,  -999.00,9, -999.00,9,  -999.0,9, -999.00,9, -999.00,9,     -999.0,9, 20220603,     1107,  29.9997,-170.4445,    23.7331,2,     -999.0,9,     -999.0,9,     -999.0,1,     -999.0,9,     0.0134,1,     4.6368,1,     -999.0,9,     -999.0,9,     -999.0,9
33RR20220430,        P02,     101,          1,         19,         19,2,20220603,       1037,    29.9997,  -170.4444,       5402,     5.8,2,  23.8308,2,  35.1775,2,-999.0000,9,    207.9,2,  -999.0,9, -999.00,9, -999.00,9, -999.00,9, -999.00,9,-999.000,9,-999.000,9,-999.0000,9,  -999.0,9,  -999.0,9,-999.0000,9,  -999.00,9, -999.00,9,  -999.0,9, -999.00,9, -999.00,9,     -999.0,9, 20220603,     1108,  29.9997,-170.4445,    23.8124,2,     -999.0,9,     -999.0,9,     -999.0,9,     -999.0,1,     0.0136,1,     4.6360,1,     -999.0,9,     -999.0,9,     -999.0,9
33RR20220430,        P02,     101,          1,          9,          9,2,20220603,       1037,    29.9997,  -170.4444,       5402,    27.6,2,  23.3091,2,  35.2231,2,-999.0000,9,    209.8,2,  -999.0,9, -999.00,9, -999.00,9, -999.00,9, -999.00,9,-999.000,9,-999.000,9,-999.0000,9,  -999.0,9,  -999.0,9,-999.0000,9,  -999.00,9, -999.00,9,  -999.0,9, -999.00,9, -999.00,9,     -999.0,9, 20220603,     1102,  29.9997,-170.4445,    23.3052,2,     -999.0,1,     -999.0,1,     -999.0,9,     -999.0,9,     0.0134,1,     4.6377,1,     -999.0,1,     -999.0,9,     -999.0,1
33RR20220430,        P02,     101,          1,         10,         10,2,20220603,       1037,    29.9997,  -170.4444,       5402,    28.1,2,  23.3072,2,  35.2231,2,-999.0000,9,    210.0,2,  -999.0,9, -999.00,9, -999.00,9, -999.00,9, -999.00,9,-999.000,9,-999.000,9,-999.0000,9,  -999.0,9,  -999.0,9,-999.0000,9,  -999.00,9, -999.00,9,  -999.0,9, -999.00,9, -999.00,9,     -999.0,9, 20220603,     1103,  29.9997,-170.4445,    23.2933,2,     -999.0,9,     -999.0,9,     -999.0,9,     -999.0,9,     0.0135,1,     4.6371,1,     -999.0,9,     -999.0,9,     -999.0,9
33RR20220430,        P02,     101,          1,          8,          8,2,20220603,       1037,    29.9997,  -170.4444,       5402,    81.6,2,  20.2221,2,  35.0310,2,-999.0000,9,    221.4,2,  -999.0,9, -999.00,9, -999.00,9, -999.00,9, -999.00,9,-999.000,9,-999.000,9,-999.0000,9,  -999.0,9,  -999.0,9,-999.0000,9,  -999.00,9, -999.00,9,  -999.0,9, -999.00,9, -999.00,9,     -999.0,9, 20220603,     1059,  29.9997,-170.4445,    20.2289,2,     -999.0,1,     -999.0,1,     -999.0,9,     -999.0,9,     0.0171,1,     4.6386,1,     -999.0,1,     -999.0,9,     -999.0,1
33RR20220430,        P02,     101,          1,          7,          7,2,20220603,       1037,    29.9997,  -170.4444,       5402,    96.1,2,  19.4863,2,  34.9791,2,-999.0000,9,    210.2,2,  -999.0,9, -999.00,9, -999.00,9, -999.00,9, -999.00,9,-999.000,9,-999.000,9,-999.0000,9,  -999.0,9,  -999.0,9,-999.0000,9,  -999.00,9, -999.00,9,  -999.0,9, -999.00,9, -999.00,9,     -999.0,9, 20220603,     1057,  29.9997,-170.4445,    19.4854,2,     -999.0,9,     -999.0,9,     -999.0,9,     -999.0,9,     0.0516,1,     4.6101,1,     -999.0,9,     -999.0,1,     -999.0,9
33RR20220430,        P02,     101,          1,          6,          6,2,20220603,       1037,    29.9997,  -170.4444,       5402,    96.1,2,  19.4431,2,  34.9764,2,-999.0000,9,    209.9,2,  -999.0,9, -999.00,9, -999.00,9, -999.00,9, -999.00,9,-999.000,9,-999.000,9,-999.0000,9,  -999.0,9,  -999.0,9,-999.0000,9,  -999.00,9, -999.00,9,  -999.0,9, -999.00,9, -999.00,9,     -999.0,9, 20220603,     1057,  29.9997,-170.4445,    19.4676,2,     -999.0,1,     -999.0,1,     -999.0,9,     -999.0,9,     0.0507,1,     4.6104,1,     -999.0,1,     -999.0,9,     -999.0,1
33RR20220430,        P02,     101,          1,          5,          5,2,20220603,       1037,    29.9997,  -170.4444,       5402,   129.5,2,  18.1532,2,  34.8035,2,-999.0000,9,    211.3,2,  -999.0,9, -999.00,9, -999.00,9, -999.00,9, -999.00,9,-999.000,9,-999.000,9,-999.0000,9,  -999.0,9,  -999.0,9,-999.0000,9,  -999.00,9, -999.00,9,  -999.0,9, -999.00,9, -999.00,9,     -999.0,9, 20220603,     1055,  29.9997,-170.4445,    18.1483,2,     -999.0,1,     -999.0,1,     -999.0,9,     -999.0,9,     0.0269,1,     4.6613,1,     -999.0,1,     -999.0,9,     -999.0,1
33RR20220430,        P02,     101,          1,          3,          3,2,20220603,       1037,    29.9997,  -170.4444,       5402,   204.2,2,  15.4758,2,  34.5596,2,-999.0000,9,    199.6,2,  -999.0,9, -999.00,9, -999.00,9, -999.00,9, -999.00,9,-999.000,9,-999.000,9,-999.0000,9,  -999.0,9,  -999.0,9,-999.0000,9,  -999.00,9, -999.00,9,  -999.0,9, -999.00,9, -999.00,9,     -999.0,9, 20220603,     1053,  29.9997,-170.4445,    15.4680,2,     -999.0,1,     -999.0,1,     -999.0,9,     -999.0,9,     0.0131,1,     4.6880,1,     -999.0,1,     -999.0,9,     -999.0,1
33RR20220430,        P02,     101,          1,          4,          4,2,20220603,       1037,    29.9997,  -170.4444,       5402,   204.7,2,  15.4702,2,  34.5598,2,-999.0000,9,    199.3,2,  -999.0,9, -999.00,9, -999.00,9, -999.00,9, -999.00,9,-999.000,9,-999.000,9,-999.0000,9,  -999.0,9,  -999.0,9,-999.0000,9,  -999.00,9, -999.00,9,  -999.0,9, -999.00,9, -999.00,9,     -999.0,9, 20220603,     1053,  29.9997,-170.4445,    15.4707,2,     -999.0,9,     -999.0,9,     -999.0,9,     -999.0,9,     0.0134,1,     4.6872,1,     -999.0,9,     -999.0,1,     -999.0,9
33RR20220430,        P02,     101,          1,          2,          2,2,20220603,       1037,    29.9997,  -170.4444,       5402,   508.0,2,   8.6000,2,  34.0631,2,-999.0000,9,    165.9,2,  -999.0,9, -999.00,9, -999.00,9, -999.00,9, -999.00,9,-999.000,9,-999.000,9,-999.0000,9,  -999.0,9,  -999.0,9,-999.0000,9,  -999.00,9, -999.00,9,  -999.0,9, -999.00,9, -999.00,9,     -999.0,9, 20220603,     1047,  29.9997,-170.4445,     8.6254,2,     -999.0,9,     -999.0,9,     -999.0,9,     -999.0,9,     0.0122,1,     4.6994,1,     -999.0,9,     -999.0,9,     -999.0,1
33RR20220430,        P02,     101,          1,          1,          1,2,20220603,       1037,    29.9997,  -170.4444,       5402,  1010.1,2,   3.7973,2,  34.3311,2,-999.0000,9,     23.3,2,  -999.0,9, -999.00,9, -999.00,9, -999.00,9, -999.00,9,-999.000,9,-999.000,9,-999.0000,9,  -999.0,9,  -999.0,9,-999.0000,9,  -999.00,9, -999.00,9,  -999.0,9, -999.00,9, -999.00,9,     -999.0,9, 20220603,     1037,  29.9997,-170.4445,     3.8010,2,     -999.0,9,     -999.0,9,     -999.0,9,     -999.0,9,     0.0134,1,     4.7017,1,     -999.0,9,     -999.0,1,     -999.0,1