BOTTLE,20230801CCHSIOCBG
EXPOCODE,SECT_ID,STNNBR,CASTNO,SAMPNO,BTLNBR,BTLNBR_FLAG_W,DATE,TIME,LATITUDE,LONGITUDE,DEPTH,CTDPRS,CTDPRS_FLAG_W,CTDTMP,CTDTMP_FLAG_W,CTDSAL,CTDSAL_FLAG_W,SALNTY,SALNTY_FLAG_W,CTDOXY,CTDOXY_FLAG_W,OXYGEN,OXYGEN_FLAG_W,SILCAT,SILCAT_FLAG_W,NITRAT,NITRAT_FLAG_W,NITRIT,NITRIT_FLAG_W,PHSPHT,PHSPHT_FLAG_W,CFC-11,CFC-11_FLAG_W,CFC-12,CFC-12_FLAG_W,SF6,SF6_FLAG_W,TCARBN,TCARBN_FLAG_W,ALKALI,ALKALI_FLAG_W,PH_TOT,PH_TOT_FLAG_W,PH_TMP,PH_TMP_FLAG_W,DELC13,DELC13_FLAG_W,DELC14,DELC14_FLAG_W,DOC,DOC_FLAG_W,TDN,TDN_FLAG_W,N2O,N2O_FLAG_W,BTL_DATE,BTL_TIME,BTL_LAT,BTL_LON,REFTMP,REFTMP_FLAG_W,POC,POC_FLAG_W,PON,PON_FLAG_W,POP,POP_FLAG_W,PCOD,PCOD_FLAG_W,CTDFLUOR,CTDFLUOR_FLAG_W,CTDXMISS,CTDXMISS_FLAG_W,HPLC,HPLC_FLAG_W,DNA,DNA_FLAG_W,FCM,FCM_FLAG_W
,,,,,,,,,,,METERS,DBAR,,ITS-90,,PSS-78,,PSS-78,,UMOL/KG,,UMOL/KG,,UMOL/KG,,UMOL/KG,,UMOL/KG,,UMOL/KG,,PMOL/KG,,PMOL/KG,,FMOL/KG,,UMOL/KG,,UMOL/KG,,,,DEG C,,/MILLE,,/MILLE,,UMOL/KG,,UMOL/KG,,NMOL/KG,,,,,,ITS-90,,UG/L,,UG/L,,UG/L,,UG/L,,VOLTS,,VOLTS,,,,,,,
33RR20220430,        P02,      48,          1,         36,         36,2,20220518,       1401,    29.9998,   159.9124,       5689,     4.0,2,  23.5276,2,  35.1974,2,  35.1882,2,    216.3,2,   216.7,2,    0.59,2,    0.01,2,    0.00,2,    0.01,2,   1.776,2,   1.092,2,   1.9766,2,  2020.2,2,  2307.8,2,   8.0244,2,    25.00,2, -999.00,9,  -999.0,9, -999.00,9, -999.00,9,        6.1,2, 20220518,     1615,  29.9998, 159.9124,    23.5828,2,     -999.0,9,     -999.0,9,     -999.0,9,     -999.0,9,     0.0135,1,     4.6514,1,     -999.0,9,     -999.0,9,     -999.0,9
33RR20220430,        P02,      48,          1,         35,         35,2,20220518,       1401,    29.9998,   159.9124,       5689,    25.8,2,  22.9341,2,  35.2026,2,  35.1951,2,    219.7,2,   219.2,2,    0.68,2,    0.03,2,    0.00,2,    0.00,2,   1.790,2,   1.121,2,   1.9489,2,  2009.1,2,  2308.7,2,   8.0274,2,    25.02,2, -999.00,9,  -999.0,9, -999.00,9, -999.00,9,        6.1,2, 20220518,     1613,  29.9998, 159.9124,    22.9304,2,     -999.0,9,     -999.0,9,     -999.0,9,     -999.0,9,     0.0134,1,     4.6457,1,     -999.0,9,     -999.0,9,     -999.0,9
33RR20220430,        P02,      48,          1,         34,         34,2,20220518,       1401,    29.9998,   159.9124,       5689,    51.8,2,  20.0277,2,  34.8905,2,  34.8849,2,    233.7,2,   234.0,2,    0.98,2,    0.02,2,    0.00,2,    0.01,2,   2.005,2,   1.257,2,   2.0049,2,  2015.2,2,  2289.3,2,   8.0041,2,    24.99,2, -999.00,9,  -999.0,9, -999.00,9, -999.00,9,        7.0,2, 20220518,     1612,  29.9998, 159.9124,    20.0611,3,     -999.0,9,     -999.0,9,     -999.0,9,     -999.0,9,     0.0167,1,     4.6240,1,     -999.0,9,     -999.0,9,     -999.0,9
33RR20220430,        P02,      48,          1,         33,         33,2,20220518,       1401,    29.9998,   159.9124,       5689,    76.3,2,  18.6301,2,  34.7837,2,  34.7769,2,    233.6,2,   234.1,2,    1.07,2,    0.00,2,    0.00,2,    0.01,2,   2.084,6,   1.295,6,   2.1427,6,  2014.6,2,  2283.8,2,   7.9930,2,    25.01,2, -999.00,9,  -999.0,9, -999.00,9, -999.00,9,        7.1,6, 20220518,     1610,  29.9998, 159.9124,    18.6291,2,     -999.0,9,     -999.0,9,     -999.0,9,     -999.0,9,     0.0294,1,     4.6197,1,     -999.0,9,     -999.0,9,     -999.0,9
33RR20220430,        P02,      48,          1,         32,         32,2,20220518,       1401,    29.9998,   159.9124,       5689,   106.2,2,  18.1493,2,  34.7806,2,  34.7785,2,    223.2,3,   226.8,2,    1.27,2,    0.62,2,    0.11,2,    0.08,2,   2.159,2,   1.341,2,   2.1105,2,  2025.5,2,  2280.9,2,   7.9723,2,    25.03,2, -999.00,9,  -999.0,9, -999.00,9, -999.00,9,        7.8,2, 20220518,     1607,  29.9998, 159.9124,    18.1311,2,     -999.0,9,     -999.0,9,     -999.0,9,     -999.0,9,     0.0336,1,     4.6429,1,     -999.0,9,     -999.0,9,     -999.0,9
33RR20220430,        P02,      48,          1,         31,         31,2,20220518,       1401,    29.9998,   159.9124,       5689,   152.9,2,  17.6213,2,  34.7574,2,  34.7510,2,    221.4,2,   220.9,2,    1.76,2,    2.27,2,    0.01,2,    0.17,2,   2.153,2,   1.314,2,   2.1495,2,  2034.7,2,  2280.6,2,   7.9556,2,    25.00,2, -999.00,9,  -999.0,9, -999.00,9, -999.00,9,        7.9,2, 20220518,     1605,  29.9998, 159.9124,    17.6169,2,     -999.0,9,     -999.0,9,     -999.0,9,     -999.0,9,     0.0164,1,     4.6780,1,     -999.0,9,     -999.0,9,     -999.0,9
33RR20220430,        P02,      48,          1,         30,         30,2,20220518,       1401,    29.9998,   159.9124,       5689,   202.7,2,  17.1408,2,  34.7212,2,  34.7162,2,    221.1,2,   221.1,2,    2.44,2,    3.21,2,    0.00,2,    0.22,2,   2.152,2,   1.331,2,   2.0430,2,  2037.2,2,  2277.3,2,   7.9447,2,    25.03,2, -999.00,9,  -999.0,9, -999.00,9, -999.00,9,        8.2,2, 20220518,     1603,  29.9998, 159.9124,    17.1391,2,     -999.0,9,     -999.0,9,     -999.0,9,     -999.0,9,     0.0122,1,     4.6840,1,     -999.0,9,     -999.0,9,     -999.0,9
33RR20220430,        P02,      48,          1,         29,         29,2,20220518,       1401,    29.9998,   159.9124,       5689,   252.6,2,  16.6835,2,  34.6938,2,  34.6865,2,    217.0,2,   216.7,2,    3.42,2,    4.23,2,    0.00,2,    0.28,2,   2.202,2,   1.363,2,   2.1438,2,  2045.4,2,  2276.2,2,   7.9285,2,    25.00,2, -999.00,9,  -999.0,9, -999.00,9, -999.00,9,        8.8,2, 20220518,     1601,  29.9998, 159.9124,    16.6922,2,     -999.0,9,     -999.0,9,     -999.0,9,     -999.0,9,     0.0122,1,     4.6868,1,     -999.0,9,     -999.0,9,     -999.0,9
33RR20220430,        P02,      48,          1,         28,         28,2,20220518,       1401,    29.9998,   159.9124,       5689,   303.7,2,  16.1418,2,  34.6635,2,  34.6533,2,    215.0,3,   212.0,2,    4.79,2,    5.60,2,    0.00,2,    0.37,2,   2.255,2,   1.413,2,   1.9627,2,  2053.0,2,  2277.5,2,   7.9071,2,    25.03,2, -999.00,9,  -999.0,9, -999.00,9, -999.00,9,        9.7,2, 20220518,     1600,  29.9998, 159.9124,    16.1477,2,     -999.0,9,     -999.0,9,     -999.0,9,     -999.0,9,     0.0122,1,     4.6884,1,     -999.0,9,     -999.0,9,     -999.0,9
33RR20220430,        P02,      48,          1,         27,         27,2,20220518,       1401,    29.9998,   159.9124,       5689,   353.9,2,  15.5714,2,  34.6231,2,  34.6193,2,    207.7,2,   208.1,2,    6.25,2,    6.82,2,    0.00,2,    0.46,2,   2.300,2,   1.417,2,   2.0673,2,  2064.7,2,  2274.5,2,   7.8882,2,    25.01,2, -999.00,9,  -999.0,9, -999.00,9, -999.00,9,       10.5,2, 20220518,     1558,  29.9998, 159.9124,    15.5713,2,     -999.0,9,     -999.0,9,     -999.0,9,     -999.0,9,     0.0122,1,     4.6909,1,     -999.0,9,     -999.0,9,     -999.0,9
33RR20220430,        P02,      48,          1,         26,         26,2,20220518,       1401,    29.9998,   159.9124,       5689,   403.9,2,  14.5052,2,  34.5322,2,  34.5258,2,    199.7,2,   199.2,2,    9.38,2,    9.35,2,    0.00,2,    0.63,2,   2.422,2,   1.472,2,   1.8003,2,  -999.0,9,  -999.0,9,-999.0000,9,  -999.00,9, -999.00,9,  -999.0,9, -999.00,9, -999.00,9,       12.1,2, 20220518,     1556,  29.9998, 159.9124,    14.5055,2,     -999.0,9,     -999.0,9,     -999.0,9,     -999.0,9,     0.0122,1,     4.6948,1,     -999.0,9,     -999.0,9,     -999.0,9
33RR20220430,        P02,      48,          1,         25,         25,2,20220518,       1401,    29.9998,   159.9124,       5689,   505.0,2,  11.5213,2,  34.2965,2,  34.2948,2,    199.4,2,   199.9,2,   17.69,2,   14.15,2,    0.00,2,    0.98,2,   2.630,2,   1.628,2,   1.8284,2,  2111.8,2,  2269.3,2,   7.7667,2,    25.02,2, -999.00,9,  -999.0,9, -999.00,9, -999.00,9,       15.2,2, 20220518,     1553,  29.9998, 159.9124,    11.5148,2,     -999.0,9,     -999.0,9,     -999.0,9,     -999.0,9,     0.0122,1,     4.6988,1,     -999.0,9,     -999.0,9,     -999.0,9
33RR20220430,        P02,      48,          1,         24,         24,2,20220518,       1401,    29.9998,   159.9124,       5689,   611.2,2,   8.2486,2,  34.0534,2,  34.0521,2,    179.3,2,   179.5,2,   35.09,2,   21.85,2,    0.00,2,    1.55,2,   2.710,2,   1.624,2,   1.6266,2,  2163.7,2,  2273.8,2,   7.6406,2,    25.03,2, -999.00,9,  -999.0,9, -999.00,9, -999.00,9,       21.1,2, 20220518,     1550,  29.9998, 159.9124,     8.2485,2,     -999.0,9,     -999.0,9,     -999.0,9,     -999.0,9,     0.0123,1,     4.7031,1,     -999.0,9,     -999.0,9,     -999.0,9
33RR20220430,        P02,      48,          1,         23,         23,2,20220518,       1401,    29.9998,   159.9124,       5689,   712.4,2,   6.2736,2,  33.9984,2,  33.9970,2,    136.5,3,   134.5,2,   57.18,2,   29.65,2,    0.00,2,    2.12,2,   2.259,2,   1.323,2,   1.1277,2,  2224.6,2,  2286.6,2,   7.5125,2,    25.01,2, -999.00,9,  -999.0,9, -999.00,9, -999.00,9,       29.0,2, 20220518,     1548,  29.9998, 159.9124,     6.2789,2,     -999.0,9,     -999.0,9,     -999.0,9,     -999.0,9,     0.0122,1,     4.7042,1,     -999.0,9,     -999.0,9,     -999.0,9
33RR20220430,        P02,      48,          1,         22,         22,2,20220518,       1401,    29.9998,   159.9124,       5689,   812.5,2,   5.0239,2,  34.0699,2,  34.0703,2,     86.1,3,    89.0,2,   81.12,2,   35.85,2,    0.00,2,    2.58,2,   1.556,2,   0.917,2,   0.6174,2,  -999.0,9,  -999.0,9,-999.0000,9,  -999.00,9, -999.00,9,  -999.0,9, -999.00,9, -999.00,9,       37.0,2, 20220518,     1545,  29.9998, 159.9124,     5.0338,2,     -999.0,9,     -999.0,9,     -999.0,9,     -999.0,9,     0.0125,1,     4.7029,1,     -999.0,9,     -999.0,9,     -999.0,9
33RR20220430,        P02,      48,          1,         21,         21,2,20220518,       1401,    29.9998,   159.9124,       5689,   913.1,2,   4.3518,2,  34.1694,2,  34.1713,2,     59.4,2,    59.1,2,  100.27,2,   39.20,2,    0.00,2,    2.81,2,   0.952,2,   0.534,2,   0.3629,2,  2313.7,2,  2327.3,2,   7.3630,2,    25.03,2, -999.00,9,  -999.0,9, -999.00,9, -999.00,9,       42.6,2, 20220518,     1542,  29.9998, 159.9124,     4.3504,2,     -999.0,9,     -999.0,9,     -999.0,9,     -999.0,9,     0.0133,1,     4.7035,1,     -999.0,9,     -999.0,9,     -999.0,9
33RR20220430,        P02,      48,          1,         20,         20,2,20220518,       1401,    29.9998,   159.9124,       5689,  1013.9,2,   3.8989,2,  34.2606,2,  34.2644,2,     40.0,3,    39.2,2,  113.65,2,   41.54,2,    0.00,2,    2.97,2,   0.428,2,   0.233,2,   0.0000,2,  2337.7,2,  2347.4,2,   7.3388,2,    25.05,2, -999.00,9,  -999.0,9, -999.00,9, -999.00,9,       47.1,2, 20220518,     1540,  29.9998, 159.9124,     3.9013,2,     -999.0,9,     -999.0,9,     -999.0,9,     -999.0,9,     0.0134,1,     4.7047,1,     -999.0,9,     -999.0,9,     -999.0,9
33RR20220430,        P02,      48,          1,         19,         19,2,20220518,       1401,    29.9998,   159.9124,       5689,  1116.0,2,   3.5269,2,  34.3306,2,-999.0000,9,     34.1,2,  -999.0,9, -999.00,9, -999.00,9, -999.00,9, -999.00,9,-999.000,9,-999.000,9,-999.0000,9,  -999.0,9,  -999.0,9,-999.0000,9,  -999.00,9, -999.00,9,  -999.0,9, -999.00,9, -999.00,9,     -999.0,9, 20220518,     1537,  29.9998, 159.9124,     3.5289,2,     -999.0,9,     -999.0,9,     -999.0,9,     -999.0,9,     0.0134,1,     4.7045,1,     -999.0,9,     -999.0,9,     -999.0,9
33RR20220430,        P02,      48,          1,         18,         18,2,20220518,       1401,    29.9998,   159.9124,       5689,  1217.3,2,   3.2924,2,  34.3749,2,  34.3768,2,     32.7,2,    33.0,2,  131.52,2,   42.73,2,    0.00,2,    3.06,2,   0.146,2,   0.081,2,   0.0000,2,  2364.5,6,  2369.8,2,   7.3379,2,    25.02,2, -999.00,9,  -999.0,9, -999.00,9, -999.00,9,       47.4,2, 20220518,     1534,  29.9998, 159.9124,     3.2909,2,     -999.0,9,     -999.0,9,     -999.0,9,     -999.0,9,     0.0134,1,     4.7054,1,     -999.0,9,     -999.0,9,     -999.0,9
33RR20220430,        P02,      48,          1,         17,         17,2,20220518,       1401,    29.9998,   159.9124,       5689,  1318.6,2,   2.9584,2,  34.4235,2,  34.4271,2,     34.1,3,    35.0,2,  140.50,2,   42.77,2,    0.00,2,    3.06,2,   0.089,2,   0.049,2,   0.0000,2,  2370.2,2,  2380.1,2,   7.3431,2,    25.03,2, -999.00,9,  -999.0,9, -999.00,9, -999.00,9,       47.0,2, 20220518,     1532,  29.9998, 159.9124,     2.9596,2,     -999.0,9,     -999.0,9,     -999.0,9,     -999.0,9,     0.0134,1,     4.7044,1,     -999.0,9,     -999.0,9,     -999.0,9
33RR20220430,        P02,      48,          1,         16,         16,2,20220518,       1401,    29.9998,   159.9124,       5689,  1419.7,2,   2.7905,2,  34.4658,2,  34.4677,2,     38.4,2,    38.1,2,  145.09,2,   42.72,2,    0.00,2,    3.08,2,   0.043,2,   0.028,2,   0.0000,2,  -999.0,9,  -999.0,9,-999.0000,9,  -999.00,9, -999.00,9,  -999.0,9, -999.00,9, -999.00,9,       46.0,2, 20220518,     1529,  29.9998, 159.9124,     2.7878,2,     -999.0,9,     -999.0,9,     -999.0,9,     -999.0,9,     0.0134,1,     4.7056,1,     -999.0,9,     -999.0,9,     -999.0,9
33RR20220430,        P02,      48,          1,         15,         15,2,20220518,       1401,    29.9998,   159.9124,       5689,  1622.3,2,   2.4455,2,  34.5222,2,  34.5221,2,     50.8,2,    51.0,2,  153.00,2,   42.02,2,    0.00,2,    3.02,2,   0.024,2,   0.012,2,   0.0000,2,  2374.2,2,  2396.8,2,   7.3805,2,    24.95,2, -999.00,9,  -999.0,9, -999.00,9, -999.00,9,       40.9,2, 20220518,     1525,  29.9998, 159.9125,     2.4457,2,     -999.0,9,     -999.0,9,     -999.0,9,     -999.0,9,     0.0134,1,     4.7068,1,     -999.0,9,     -999.0,9,     -999.0,9
33RR20220430,        P02,      48,          1,         14,         14,2,20220518,       1401,    29.9998,   159.9124,       5689,  1824.0,2,   2.1822,2,  34.5635,2,  34.5647,2,     64.1,2,    63.7,2,  156.90,2,   41.26,2,    0.00,2,    2.94,2,   0.012,2,   0.000,2,   0.0000,2,  -999.0,9,  -999.0,9,-999.0000,9,  -999.00,9, -999.00,9,  -999.0,9, -999.00,9, -999.00,9,       36.7,2, 20220518,     1520,  29.9998, 159.9124,     2.1826,2,     -999.0,9,     -999.0,9,     -999.0,9,     -999.0,9,     0.0133,1,     4.7078,1,     -999.0,9,     -999.0,9,     -999.0,9
33RR20220430,        P02,      48,          1,         13,         13,2,20220518,       1401,    29.9998,   159.9124,       5689,  2028.2,2,   1.9783,2,  34.5940,2,  34.5946,2,     78.4,2,    78.4,2,  160.32,2,   40.41,2,    0.00,2,    2.84,2,   0.008,2,   0.000,2,   0.0000,2,  2370.1,2,  2411.9,2,   7.4375,2,    24.99,2, -999.00,9,  -999.0,9, -999.00,9, -999.00,9,       33.2,2, 20220518,     1516,  29.9998, 159.9124,     1.9781,2,     -999.0,9,     -999.0,9,     -999.0,9,     -999.0,9,     0.0134,1,     4.7079,1,     -999.0,9,     -999.0,9,     -999.0,9
33RR20220430,        P02,      48,          1,         12,         12,2,20220518,       1401,    29.9998,   159.9124,       5689,  2282.4,2,   1.8021,2,  34.6204,2,  34.6211,2,     93.9,2,    94.0,2,  160.12,2,   39.62,2,    0.00,2,    2.79,2,   0.007,2,   0.000,2,   0.0000,2,  -999.0,9,  -999.0,9,-999.0000,9,  -999.00,9, -999.00,9,  -999.0,9, -999.00,9, -999.00,9,       30.2,2, 20220518,     1511,  29.9998, 159.9124,     1.8019,2,     -999.0,9,     -999.0,9,     -999.0,9,     -999.0,9,     0.0134,1,     4.7074,1,     -999.0,9,     -999.0,9,     -999.0,9
33RR20220430,        P02,      48,          1,         11,         11,2,20220518,       1401,    29.9998,   159.9124,       5689,  2535.3,2,   1.7090,2,  34.6372,2,  34.6382,2,    107.6,2,   107.8,2,  158.46,2,   38.68,2,    0.00,2,    2.75,2,   0.004,2,   0.000,2,   0.0000,2,  2353.5,2,  2413.7,2,   7.4932,2,    25.04,2, -999.00,9,  -999.0,9, -999.00,9, -999.00,9,       27.8,2, 20220518,     1506,  29.9998, 159.9124,     1.7089,2,     -999.0,9,     -999.0,9,     -999.0,9,     -999.0,9,     0.0131,1,     4.7080,1,     -999.0,9,     -999.0,9,     -999.0,9
33RR20220430,        P02,      48,          1,         10,         10,2,20220518,       1401,    29.9998,   159.9124,       5689,  2790.1,2,   1.6169,2,  34.6519,2,  34.6523,2,    120.4,2,   120.1,2,  155.82,2,   37.81,2,    0.00,2,    2.68,2,-999.000,9,-999.000,9,-999.0000,9,  -999.0,9,  -999.0,9,-999.0000,9,  -999.00,9, -999.00,9,  -999.0,9, -999.00,9, -999.00,9,     -999.0,9, 20220518,     1501,  29.9998, 159.9124,     1.6170,2,     -999.0,9,     -999.0,9,     -999.0,9,     -999.0,9,     0.0122,1,     4.7082,1,     -999.0,9,     -999.0,9,     -999.0,9
33RR20220430,        P02,      48,          1,          9,          9,2,20220518,       1401,    29.9998,   159.9124,       5689,  3046.2,2,   1.5599,2,  34.6611,2,  34.6616,2,    128.3,2,   128.3,2,  154.74,2,   37.25,2,    0.00,2,    2.64,2,   0.007,2,   0.000,2,   0.0000,2,  2341.1,2,  2414.9,2,   7.5320,2,    25.01,2, -999.00,9,  -999.0,9, -999.00,9, -999.00,9,       24.1,2, 20220518,     1455,  29.9998, 159.9124,     1.5600,2,     -999.0,9,     -999.0,9,     -999.0,9,     -999.0,9,     0.0134,1,     4.7078,1,     -999.0,9,     -999.0,9,     -999.0,9
33RR20220430,        P02,      48,          1,          8,          8,2,20220518,       1401,    29.9998,   159.9124,       5689,  3352.0,2,   1.5063,2,  34.6694,2,  34.6704,2,    135.8,2,   136.1,2,  154.74,2,   36.72,2,    0.00,2,    2.59,2,-999.000,9,-999.000,9,-999.0000,9,  -999.0,9,  -999.0,9,-999.0000,9,  -999.00,9, -999.00,9,  -999.0,9, -999.00,9, -999.00,9,     -999.0,9, 20220518,     1449,  29.9998, 159.9124,     1.5064,2,     -999.0,9,     -999.0,9,     -999.0,9,     -999.0,9,     0.0122,1,     4.7063,1,     -999.0,9,     -999.0,9,     -999.0,9
33RR20220430,        P02,      48,          1,          7,          7,2,20220518,       1401,    29.9998,   159.9124,       5689,  3659.9,2,   1.4781,2,  34.6761,2,  34.6781,2,    143.9,2,   143.7,2,  151.51,2,   36.22,2,    0.00,2,    2.55,2,   0.005,2,   0.000,2,   0.0000,2,  2329.8,2,  2414.7,2,   7.5588,2,    25.02,2, -999.00,9,  -999.0,9, -999.00,9, -999.00,9,       22.7,2, 20220518,     1443,  29.9998, 159.9124,     1.4780,2,     -999.0,9,     -999.0,9,     -999.0,9,     -999.0,9,     0.0122,1,     4.7069,1,     -999.0,9,     -999.0,9,     -999.0,9
33RR20220430,        P02,      48,          1,          6,          6,2,20220518,       1401,    29.9998,   159.9124,       5689,  3965.2,2,   1.4672,2,  34.6808,2,  34.6812,2,    149.4,2,   150.0,2,  150.05,2,   35.86,2,    0.00,2,    2.50,2,-999.000,9,-999.000,9,-999.0000,9,  -999.0,9,  -999.0,9,-999.0000,9,  -999.00,9, -999.00,9,  -999.0,9, -999.00,9, -999.00,9,     -999.0,9, 20220518,     1437,  29.9998, 159.9124,     1.4671,2,     -999.0,9,     -999.0,9,     -999.0,9,     -999.0,9,     0.0122,1,     4.7073,1,     -999.0,9,     -999.0,9,     -999.0,9
33RR20220430,        P02,      48,          1,          5,          5,2,20220518,       1401,    29.9998,   159.9124,       5689,  4273.8,2,   1.4663,2,  34.6844,2,  34.6842,2,    153.8,2,   153.9,2,  148.88,2,   35.78,2,    0.00,2,    2.48,2,   0.006,2,   0.000,2,   0.0000,2,  2323.4,2,  2413.2,2,   7.5756,2,    25.02,2, -999.00,9,  -999.0,9, -999.00,9, -999.00,9,       21.5,2, 20220518,     1431,  29.9998, 159.9124,     1.4664,2,     -999.0,9,     -999.0,9,     -999.0,9,     -999.0,9,     0.0122,1,     4.7064,1,     -999.0,9,     -999.0,9,     -999.0,9
33RR20220430,        P02,      48,          1,          4,          4,2,20220518,       1401,    29.9998,   159.9124,       5689,  4581.6,2,   1.4816,2,  34.6865,2,  34.6869,2,    156.5,2,   156.7,2,  148.58,2,   35.56,2,    0.00,2,    2.47,2,-999.000,9,-999.000,9,-999.0000,9,  -999.0,9,  -999.0,9,-999.0000,9,  -999.00,9, -999.00,9,  -999.0,9, -999.00,9, -999.00,9,     -999.0,9, 20220518,     1424,  29.9998, 159.9124,     1.4818,2,     -999.0,9,     -999.0,9,     -999.0,9,     -999.0,9,     0.0122,1,     4.7056,1,     -999.0,9,     -999.0,9,     -999.0,9