BOTTLE,20230801CCHSIOCBG
EXPOCODE,SECT_ID,STNNBR,CASTNO,SAMPNO,BTLNBR,BTLNBR_FLAG_W,DATE,TIME,LATITUDE,LONGITUDE,DEPTH,CTDPRS,CTDPRS_FLAG_W,CTDTMP,CTDTMP_FLAG_W,CTDSAL,CTDSAL_FLAG_W,SALNTY,SALNTY_FLAG_W,CTDOXY,CTDOXY_FLAG_W,OXYGEN,OXYGEN_FLAG_W,SILCAT,SILCAT_FLAG_W,NITRAT,NITRAT_FLAG_W,NITRIT,NITRIT_FLAG_W,PHSPHT,PHSPHT_FLAG_W,CFC-11,CFC-11_FLAG_W,CFC-12,CFC-12_FLAG_W,SF6,SF6_FLAG_W,TCARBN,TCARBN_FLAG_W,ALKALI,ALKALI_FLAG_W,PH_TOT,PH_TOT_FLAG_W,PH_TMP,PH_TMP_FLAG_W,DELC13,DELC13_FLAG_W,DELC14,DELC14_FLAG_W,DOC,DOC_FLAG_W,TDN,TDN_FLAG_W,N2O,N2O_FLAG_W,BTL_DATE,BTL_TIME,BTL_LAT,BTL_LON,REFTMP,REFTMP_FLAG_W,POC,POC_FLAG_W,PON,PON_FLAG_W,POP,POP_FLAG_W,PCOD,PCOD_FLAG_W,CTDFLUOR,CTDFLUOR_FLAG_W,CTDXMISS,CTDXMISS_FLAG_W,HPLC,HPLC_FLAG_W,DNA,DNA_FLAG_W,FCM,FCM_FLAG_W
,,,,,,,,,,,METERS,DBAR,,ITS-90,,PSS-78,,PSS-78,,UMOL/KG,,UMOL/KG,,UMOL/KG,,UMOL/KG,,UMOL/KG,,UMOL/KG,,PMOL/KG,,PMOL/KG,,FMOL/KG,,UMOL/KG,,UMOL/KG,,,,DEG C,,/MILLE,,/MILLE,,UMOL/KG,,UMOL/KG,,NMOL/KG,,,,,,ITS-90,,UG/L,,UG/L,,UG/L,,UG/L,,VOLTS,,VOLTS,,,,,,,
33RR20220430,        P02,       9,          4,          3,          3,2,20220506,       0300,    31.6352,   133.7968,       4892,  4270.5,2,   1.5796,2,  34.6815,2,  34.6806,2,    153.3,2,   153.5,2,  141.39,2,   35.77,2,    0.00,2,    2.47,2,   0.018,2,   0.015,2,   0.0000,2,  2319.1,2,  2413.4,2,   7.5770,2,    24.98,2, -999.00,1,  -999.0,1, -999.00,1, -999.00,1,       21.3,2, 20220506,      313,  31.6353, 133.7756,     1.5797,2,     -999.0,9,     -999.0,9,     -999.0,9,     -999.0,9,     0.0122,1,     4.6995,1,     -999.0,9,     -999.0,9,     -999.0,9
33RR20220430,        P02,       9,          4,          2,          2,2,20220506,       0300,    31.6352,   133.7968,       4892,  4626.3,2,   1.6091,2,  34.6826,3,  34.6802,2,    154.5,2,   154.7,2,  141.29,2,   35.86,2,    0.00,2,    2.46,2,   0.008,2,   0.009,2,   0.0000,2,  2318.1,2,  2413.2,2,   7.5785,2,    24.97,2, -999.00,1,  -999.0,1, -999.00,9, -999.00,9,       20.8,2, 20220506,      307,  31.6352, 133.7743,     1.6091,2,     -999.0,9,     -999.0,9,     -999.0,9,     -999.0,9,     0.0127,1,     4.6995,1,     -999.0,9,     -999.0,9,     -999.0,9
33RR20220430,        P02,       9,          4,          1,          1,2,20220506,       0300,    31.6352,   133.7968,       4892,  4971.4,2,   1.6401,2,  34.6837,3,  34.6877,2,    155.4,2,   155.4,2,  140.80,2,   35.60,2,    0.00,2,    2.47,2,   0.033,2,-999.000,5,-999.0000,5,  2321.6,2,  2415.5,2,   7.5799,2,    24.97,2, -999.00,1,  -999.0,1, -999.00,1, -999.00,1,       21.0,2, 20220506,      300,  31.6352, 133.7729,     1.6401,2,     -999.0,9,     -999.0,9,     -999.0,9,     -999.0,9,     0.0122,1,     4.5776,1,     -999.0,9,     -999.0,9,     -999.0,9