BOTTLE,20230801CCHSIOCBG
EXPOCODE,SECT_ID,STNNBR,CASTNO,SAMPNO,BTLNBR,BTLNBR_FLAG_W,DATE,TIME,LATITUDE,LONGITUDE,DEPTH,CTDPRS,CTDPRS_FLAG_W,CTDTMP,CTDTMP_FLAG_W,CTDSAL,CTDSAL_FLAG_W,SALNTY,SALNTY_FLAG_W,CTDOXY,CTDOXY_FLAG_W,OXYGEN,OXYGEN_FLAG_W,SILCAT,SILCAT_FLAG_W,NITRAT,NITRAT_FLAG_W,NITRIT,NITRIT_FLAG_W,PHSPHT,PHSPHT_FLAG_W,CFC-11,CFC-11_FLAG_W,CFC-12,CFC-12_FLAG_W,SF6,SF6_FLAG_W,TCARBN,TCARBN_FLAG_W,ALKALI,ALKALI_FLAG_W,PH_TOT,PH_TOT_FLAG_W,PH_TMP,PH_TMP_FLAG_W,DELC13,DELC13_FLAG_W,DELC14,DELC14_FLAG_W,DOC,DOC_FLAG_W,TDN,TDN_FLAG_W,N2O,N2O_FLAG_W,BTL_DATE,BTL_TIME,BTL_LAT,BTL_LON,REFTMP,REFTMP_FLAG_W,POC,POC_FLAG_W,PON,PON_FLAG_W,POP,POP_FLAG_W,PCOD,PCOD_FLAG_W,CTDFLUOR,CTDFLUOR_FLAG_W,CTDXMISS,CTDXMISS_FLAG_W,HPLC,HPLC_FLAG_W,DNA,DNA_FLAG_W,FCM,FCM_FLAG_W
,,,,,,,,,,,METERS,DBAR,,ITS-90,,PSS-78,,PSS-78,,UMOL/KG,,UMOL/KG,,UMOL/KG,,UMOL/KG,,UMOL/KG,,UMOL/KG,,PMOL/KG,,PMOL/KG,,FMOL/KG,,UMOL/KG,,UMOL/KG,,,,DEG C,,/MILLE,,/MILLE,,UMOL/KG,,UMOL/KG,,NMOL/KG,,,,,,ITS-90,,UG/L,,UG/L,,UG/L,,UG/L,,VOLTS,,VOLTS,,,,,,,
33RR20220430,        P02,      33,          1,         36,         36,2,20220513,       1419,    30.0005,   149.9078,       6109,     5.5,2,  19.9357,2,  34.6708,2,  34.6637,2,    232.9,2,   231.5,2,    0.29,2,    0.00,2,    0.00,2,    0.00,2,   2.083,2,   1.312,2,   2.0581,2,  2003.1,2,  2275.9,2,   8.0011,2,    24.99,2, -999.00,9,  -999.0,9, -999.00,9, -999.00,9,        7.0,2, 20220513,     1639,  30.0005, 149.9078,    19.9661,2,     -999.0,9,     -999.0,9,     -999.0,9,     -999.0,9,     0.0159,1,     4.6063,1,     -999.0,9,     -999.0,9,     -999.0,9
33RR20220430,        P02,      33,          1,         35,         35,2,20220513,       1419,    30.0005,   149.9078,       6109,    27.0,2,  19.3594,2,  34.6776,2,  34.6698,2,    234.9,2,   234.4,2,    0.29,2,    0.00,2,    0.00,2,    0.00,2,   2.090,2,   1.247,2,   1.9140,2,  2005.0,2,  2275.4,2,   8.0020,2,    24.99,2, -999.00,9,  -999.0,9, -999.00,9, -999.00,9,        7.0,2, 20220513,     1637,  30.0005, 149.9078,    19.3561,2,     -999.0,9,     -999.0,9,     -999.0,9,     -999.0,9,     0.0188,1,     4.5951,1,     -999.0,9,     -999.0,9,     -999.0,9
33RR20220430,        P02,      33,          1,         34,         34,2,20220513,       1419,    30.0005,   149.9078,       6109,    52.2,2,  18.3984,2,  34.7205,2,  34.7125,2,    236.2,2,   236.5,2,    0.98,2,    0.00,2,    0.00,2,    0.00,2,   2.180,2,   1.284,2,   2.0146,2,  2012.2,2,  2279.2,2,   7.9931,2,    25.00,2, -999.00,9,  -999.0,9, -999.00,9, -999.00,9,        7.6,2, 20220513,     1635,  30.0005, 149.9078,    18.3935,2,     -999.0,9,     -999.0,9,     -999.0,9,     -999.0,9,     0.0754,1,     4.5418,1,     -999.0,9,     -999.0,9,     -999.0,9
33RR20220430,        P02,      33,          1,         33,         33,2,20220513,       1419,    30.0005,   149.9078,       6109,    77.6,2,  17.9132,2,  34.7304,2,  34.7250,2,    226.3,2,   226.5,2,    1.76,2,    1.50,2,    0.08,2,    0.10,2,   2.191,2,   1.338,2,   2.1761,2,  2024.1,2,  2279.3,2,   7.9694,2,    24.97,2, -999.00,9,  -999.0,9, -999.00,9, -999.00,9,        8.5,2, 20220513,     1633,  30.0005, 149.9078,    17.9126,2,     -999.0,9,     -999.0,9,     -999.0,9,     -999.0,9,     0.0357,1,     4.6332,1,     -999.0,9,     -999.0,9,     -999.0,9
33RR20220430,        P02,      33,          1,         32,         32,2,20220513,       1419,    30.0005,   149.9078,       6109,    97.5,2,  17.5912,2,  34.7331,2,  34.7288,2,    224.4,2,   224.0,2,    2.05,2,    2.16,2,    0.02,2,    0.12,2,   2.198,2,   1.339,2,   1.9651,2,  2029.4,2,  2278.0,2,   7.9622,2,    24.98,2, -999.00,9,  -999.0,9, -999.00,9, -999.00,9,        8.6,2, 20220513,     1632,  30.0005, 149.9078,    17.6023,2,     -999.0,9,     -999.0,9,     -999.0,9,     -999.0,9,     0.0159,1,     4.6644,1,     -999.0,9,     -999.0,9,     -999.0,9
33RR20220430,        P02,      33,          1,         31,         31,2,20220513,       1419,    30.0005,   149.9078,       6109,   157.9,2,  17.0952,2,  34.7410,2,  34.7353,2,    220.9,2,   220.8,2,    2.83,2,    3.26,2,    0.00,2,    0.19,2,   2.181,2,   1.331,2,   2.0095,2,  2034.8,2,  2280.1,2,   7.9497,2,    24.98,2, -999.00,9,  -999.0,9, -999.00,9, -999.00,9,        8.8,2, 20220513,     1629,  30.0005, 149.9078,    17.0953,2,     -999.0,9,     -999.0,9,     -999.0,9,     -999.0,9,     0.0125,1,     4.6810,1,     -999.0,9,     -999.0,9,     -999.0,9
33RR20220430,        P02,      33,          1,         30,         30,2,20220513,       1419,    30.0005,   149.9078,       6109,   207.7,2,  16.8781,2,  34.7302,2,  34.7239,2,    218.0,2,   217.8,2,    3.42,2,    3.95,2,    0.00,2,    0.22,2,   2.159,2,   1.371,2,   2.0030,2,  2042.0,2,  2279.6,2,   7.9393,2,    25.00,2, -999.00,9,  -999.0,9, -999.00,9, -999.00,9,        9.3,2, 20220513,     1627,  30.0005, 149.9078,    16.8805,2,     -999.0,9,     -999.0,9,     -999.0,9,     -999.0,9,     0.0122,1,     4.6814,1,     -999.0,9,     -999.0,9,     -999.0,9
33RR20220430,        P02,      33,          1,         29,         29,2,20220513,       1419,    30.0005,   149.9078,       6109,   257.7,2,  16.5455,2,  34.7086,2,  34.7017,2,    213.3,2,   213.5,2,    4.59,2,    4.95,2,    0.00,2,    0.29,2,   2.221,2,   1.361,2,   1.9958,2,  2048.5,2,  2279.4,2,   7.9248,2,    24.99,2, -999.00,9,  -999.0,9, -999.00,9, -999.00,9,       10.0,2, 20220513,     1625,  30.0005, 149.9078,    16.5447,2,     -999.0,9,     -999.0,9,     -999.0,9,     -999.0,9,     0.0122,1,     4.6830,1,     -999.0,9,     -999.0,9,     -999.0,9
33RR20220430,        P02,      33,          1,         28,         28,2,20220513,       1419,    30.0005,   149.9078,       6109,   308.3,2,  16.1606,2,  34.6948,2,  34.6883,2,    222.9,2,   223.5,2,    4.30,2,    4.53,2,    0.00,2,    0.27,2,   2.244,2,   1.361,2,   2.0787,2,  2045.1,2,  2277.4,2,   7.9280,2,    24.99,2, -999.00,9,  -999.0,9, -999.00,9, -999.00,9,        9.6,2, 20220513,     1623,  30.0005, 149.9078,    16.1620,2,     -999.0,9,     -999.0,9,     -999.0,9,     -999.0,9,     0.0122,1,     4.6827,1,     -999.0,9,     -999.0,9,     -999.0,9
33RR20220430,        P02,      33,          1,         27,         27,2,20220513,       1419,    30.0005,   149.9078,       6109,   358.9,2,  15.5210,2,  34.6254,2,  34.6197,2,    195.9,2,   195.7,2,    7.91,2,    8.20,2,    0.00,2,    0.51,2,   2.196,2,   1.379,2,   1.6595,2,  2073.0,2,  2276.8,2,   7.8698,2,    25.00,2, -999.00,9,  -999.0,9, -999.00,9, -999.00,9,       12.1,2, 20220513,     1622,  30.0005, 149.9078,    15.5203,2,     -999.0,9,     -999.0,9,     -999.0,9,     -999.0,9,     0.0122,1,     4.6894,1,     -999.0,9,     -999.0,9,     -999.0,9
33RR20220430,        P02,      33,          1,         26,         26,2,20220513,       1419,    30.0005,   149.9078,       6109,   409.6,2,  14.4431,2,  34.5410,2,  34.5364,2,    190.3,2,   190.1,2,   11.53,2,   10.42,2,    0.00,2,    0.66,2,   2.311,2,   1.462,2,   1.5487,2,  -999.0,9,  -999.0,9,-999.0000,9,  -999.00,9, -999.00,9,  -999.0,9, -999.00,9, -999.00,9,       14.0,2, 20220513,     1620,  30.0005, 149.9078,    14.4519,2,     -999.0,9,     -999.0,9,     -999.0,9,     -999.0,9,     0.0122,1,     4.6907,1,     -999.0,9,     -999.0,9,     -999.0,9
33RR20220430,        P02,      33,          1,         25,         25,2,20220513,       1419,    30.0005,   149.9078,       6109,   510.3,2,  11.2933,2,  34.3082,3,  34.2929,2,    177.6,2,   177.8,2,   23.84,2,   16.89,2,    0.00,2,    1.13,2,   2.447,2,   1.474,2,   1.4367,2,  2132.9,2,  2275.8,2,   7.7286,2,    24.99,2, -999.00,9,  -999.0,9, -999.00,9, -999.00,9,       18.9,2, 20220513,     1617,  30.0005, 149.9078,    11.2976,2,     -999.0,9,     -999.0,9,     -999.0,9,     -999.0,9,     0.0122,1,     4.6989,1,     -999.0,9,     -999.0,9,     -999.0,9
33RR20220430,        P02,      33,          1,         24,         24,2,20220513,       1419,    30.0005,   149.9078,       6109,   611.7,2,   7.9434,2,  34.0751,2,  34.0670,2,    161.3,2,   161.5,2,   42.51,2,   24.23,2,    0.00,2,    1.68,2,   2.529,2,   1.475,2,   1.3901,2,  -999.0,9,  -999.0,9,-999.0000,9,  -999.00,9, -999.00,9,  -999.0,9, -999.00,9, -999.00,9,       24.9,2, 20220513,     1614,  30.0005, 149.9078,     7.9701,2,     -999.0,9,     -999.0,9,     -999.0,9,     -999.0,9,     0.0132,1,     4.7032,1,     -999.0,9,     -999.0,9,     -999.0,9
33RR20220430,        P02,      33,          1,         23,         23,2,20220513,       1419,    30.0005,   149.9078,       6109,   712.4,2,   5.8163,2,  34.0185,2,  34.0182,2,    123.3,3,   121.6,2,   65.57,2,   31.62,2,    0.00,2,    2.22,2,   2.112,2,   1.227,2,   1.0214,2,  2240.1,2,  2293.5,2,   7.4846,2,    24.98,2, -999.00,9,  -999.0,9, -999.00,9, -999.00,9,       32.9,2, 20220513,     1612,  30.0005, 149.9078,     5.8244,2,     -999.0,9,     -999.0,9,     -999.0,9,     -999.0,9,     0.0133,1,     4.7039,1,     -999.0,9,     -999.0,9,     -999.0,9
33RR20220430,        P02,      33,          1,         22,         22,2,20220513,       1419,    30.0005,   149.9078,       6109,   812.5,2,   4.8934,2,  34.0992,2,  34.1003,2,     80.7,3,    79.5,2,   86.68,2,   36.97,2,    0.00,2,    2.59,2,   1.417,2,   0.780,2,   0.5092,2,  -999.0,9,  -999.0,9,-999.0000,9,  -999.00,9, -999.00,9,  -999.0,9, -999.00,9, -999.00,9,       39.7,2, 20220513,     1609,  30.0005, 149.9078,     4.8929,2,     -999.0,9,     -999.0,9,     -999.0,9,     -999.0,9,     0.0134,1,     4.7045,1,     -999.0,9,     -999.0,9,     -999.0,9
33RR20220430,        P02,      33,          1,         21,         21,2,20220513,       1419,    30.0005,   149.9078,       6109,   913.6,2,   4.3003,2,  34.1837,2,  34.1828,2,     56.8,3,    56.1,2,  102.60,2,   39.80,2,    0.00,2,    2.78,2,   0.880,2,   0.509,2,   0.0000,2,  2315.4,2,  2331.5,2,   7.3604,2,    25.01,2, -999.00,9,  -999.0,9, -999.00,9, -999.00,9,       43.7,2, 20220513,     1606,  30.0005, 149.9078,     4.3003,2,     -999.0,9,     -999.0,9,     -999.0,9,     -999.0,9,     0.0134,1,     4.7046,1,     -999.0,9,     -999.0,9,     -999.0,9
33RR20220430,        P02,      33,          1,         20,         20,2,20220513,       1419,    30.0005,   149.9078,       6109,  1013.0,2,   3.7816,2,  34.2781,2,  34.2768,2,     43.4,2,    43.7,2,  118.03,2,   41.59,2,    0.00,2,    2.89,2,   0.485,2,   0.272,2,   0.0000,2,  -999.0,9,  -999.0,9,-999.0000,9,  -999.00,9, -999.00,9,  -999.0,9, -999.00,9, -999.00,9,       47.2,2, 20220513,     1603,  30.0005, 149.9078,     3.7788,2,     -999.0,9,     -999.0,9,     -999.0,9,     -999.0,9,     0.0134,1,     4.7044,1,     -999.0,9,     -999.0,9,     -999.0,9
33RR20220430,        P02,      33,          1,         19,         19,2,20220513,       1419,    30.0005,   149.9078,       6109,  1115.4,2,   3.3702,2,  34.3448,2,  34.3448,2,     36.6,2,    36.8,2,  129.26,2,   42.39,2,    0.00,2,    2.98,2,   0.266,2,   0.154,2,   0.0000,2,  2355.7,2,  2363.1,2,   7.3394,2,    24.99,2, -999.00,9,  -999.0,9, -999.00,9, -999.00,9,       48.6,2, 20220513,     1601,  30.0004, 149.9078,     3.3696,2,     -999.0,9,     -999.0,9,     -999.0,9,     -999.0,9,     0.0134,1,     4.7046,1,     -999.0,9,     -999.0,9,     -999.0,9
33RR20220430,        P02,      33,          1,         18,         18,2,20220513,       1419,    30.0005,   149.9078,       6109,  1217.2,2,   3.0689,2,  34.3984,2,  34.3996,2,     35.9,3,    36.4,2,  138.44,2,   42.90,2,    0.00,2,    3.00,2,   0.156,2,   0.082,2,   0.0000,2,  2365.5,6,  2373.7,2,   7.3422,2,    24.99,2, -999.00,9,  -999.0,9, -999.00,9, -999.00,9,       47.9,2, 20220513,     1558,  30.0005, 149.9078,     3.0689,2,     -999.0,9,     -999.0,9,     -999.0,9,     -999.0,9,     0.0134,1,     4.7055,1,     -999.0,9,     -999.0,9,     -999.0,9
33RR20220430,        P02,      33,          1,         17,         17,2,20220513,       1419,    30.0005,   149.9078,       6109,  1318.6,2,   2.8465,2,  34.4375,2,  34.4379,2,     37.3,2,    37.1,2,  144.88,2,   42.90,2,    0.00,2,    3.02,2,   0.103,2,   0.052,2,   0.0000,2,  2371.5,2,  2383.0,2,   7.3479,2,    24.98,2, -999.00,9,  -999.0,9, -999.00,9, -999.00,9,       47.1,2, 20220513,     1555,  30.0004, 149.9078,     2.8458,2,     -999.0,9,     -999.0,9,     -999.0,9,     -999.0,9,     0.0134,1,     4.7055,1,     -999.0,9,     -999.0,9,     -999.0,9
33RR20220430,        P02,      33,          1,         16,         16,2,20220513,       1419,    30.0005,   149.9078,       6109,  1419.8,2,   2.6550,2,  34.4703,2,  34.4695,2,     38.9,2,    39.1,2,  149.76,2,   42.93,2,    0.00,2,    3.04,2,-999.000,9,-999.000,9,-999.0000,9,  -999.0,9,  -999.0,9,-999.0000,9,  -999.00,9, -999.00,9,  -999.0,9, -999.00,9, -999.00,9,     -999.0,9, 20220513,     1553,  30.0005, 149.9078,     2.6562,2,     -999.0,9,     -999.0,9,     -999.0,9,     -999.0,9,     0.0134,1,     4.7048,1,     -999.0,9,     -999.0,9,     -999.0,9
33RR20220430,        P02,      33,          1,         15,         15,2,20220513,       1419,    30.0005,   149.9078,       6109,  1621.5,2,   2.3519,2,  34.5243,2,  34.5252,2,     49.4,2,    49.9,2,  157.86,2,   42.78,2,    0.00,2,    2.99,2,   0.027,2,   0.015,2,   0.0000,2,  2377.5,2,  2399.2,2,   7.3772,2,    24.98,2, -999.00,9,  -999.0,9, -999.00,9, -999.00,9,       42.3,2, 20220513,     1548,  30.0005, 149.9078,     2.3512,2,     -999.0,9,     -999.0,9,     -999.0,9,     -999.0,9,     0.0134,1,     4.7056,1,     -999.0,9,     -999.0,9,     -999.0,9
33RR20220430,        P02,      33,          1,         14,         14,2,20220513,       1419,    30.0005,   149.9078,       6109,  1824.0,2,   2.1116,2,  34.5658,2,  34.5665,2,     62.8,2,    62.9,2,  161.86,2,   41.91,2,    0.00,2,    2.92,2,-999.000,9,-999.000,9,-999.0000,9,  -999.0,9,  -999.0,9,-999.0000,9,  -999.00,9, -999.00,9,  -999.0,9, -999.00,9, -999.00,9,     -999.0,9, 20220513,     1544,  30.0005, 149.9078,     2.1118,2,     -999.0,9,     -999.0,9,     -999.0,9,     -999.0,9,     0.0134,1,     4.7058,1,     -999.0,9,     -999.0,9,     -999.0,9
33RR20220430,        P02,      33,          1,         13,         13,2,20220513,       1419,    30.0005,   149.9078,       6109,  2028.0,2,   1.9309,2,  34.5983,2,  34.5969,2,     79.3,2,    79.0,2,  162.54,2,   40.93,2,    0.00,2,    2.83,2,   0.006,2,   0.000,2,   0.0000,2,  2368.6,2,  2410.8,2,   7.4364,2,    24.99,2, -999.00,9,  -999.0,9, -999.00,9, -999.00,9,       34.4,2, 20220513,     1540,  30.0005, 149.9078,     1.9327,2,     -999.0,9,     -999.0,9,     -999.0,9,     -999.0,9,     0.0134,1,     4.7078,1,     -999.0,9,     -999.0,9,     -999.0,9
33RR20220430,        P02,      33,          1,         12,         12,2,20220513,       1419,    30.0005,   149.9078,       6109,  2282.4,2,   1.7685,2,  34.6262,2,  34.6260,2,     98.8,2,    98.5,2,  160.49,2,   39.56,2,    0.00,2,    2.74,2,-999.000,9,-999.000,9,-999.0000,9,  -999.0,9,  -999.0,9,-999.0000,9,  -999.00,9, -999.00,9,  -999.0,9, -999.00,9, -999.00,9,     -999.0,9, 20220513,     1534,  30.0005, 149.9078,     1.7687,2,     -999.0,9,     -999.0,9,     -999.0,9,     -999.0,9,     0.0122,1,     4.7073,1,     -999.0,9,     -999.0,9,     -999.0,9
33RR20220430,        P02,      33,          1,         11,         11,2,20220513,       1419,    30.0005,   149.9078,       6109,  2536.3,2,   1.6542,2,  34.6455,2,  34.6455,2,    115.4,2,   115.4,2,  157.36,2,   38.68,2,    0.00,2,    2.66,2,   0.005,2,   0.000,2,   0.0000,2,  2346.9,2,  2415.7,2,   7.5079,2,    24.99,2, -999.00,9,  -999.0,9, -999.00,9, -999.00,9,       27.9,2, 20220513,     1529,  30.0005, 149.9078,     1.6549,2,     -999.0,9,     -999.0,9,     -999.0,9,     -999.0,9,     0.0122,1,     4.7093,1,     -999.0,9,     -999.0,9,     -999.0,9
33RR20220430,        P02,      33,          1,         10,         10,2,20220513,       1419,    30.0005,   149.9078,       6109,  2791.5,2,   1.5899,2,  34.6571,2,  34.6565,2,    126.5,2,   126.6,2,  154.23,2,   37.71,2,    0.00,2,    2.60,2,-999.000,9,-999.000,9,-999.0000,9,  -999.0,9,  -999.0,9,-999.0000,9,  -999.00,9, -999.00,9,  -999.0,9, -999.00,9, -999.00,9,     -999.0,9, 20220513,     1524,  30.0005, 149.9078,     1.5900,2,     -999.0,9,     -999.0,9,     -999.0,9,     -999.0,9,     0.0122,1,     4.7092,1,     -999.0,9,     -999.0,9,     -999.0,9
33RR20220430,        P02,      33,          1,          9,          9,2,20220513,       1419,    30.0005,   149.9078,       6109,  3046.4,2,   1.5439,2,  34.6649,2,  34.6657,2,    133.3,2,   133.4,2,  152.87,2,   37.21,2,    0.00,2,    2.57,2,   0.004,2,   0.000,2,   0.0000,2,  2334.6,2,  2414.7,2,   7.5410,2,    24.97,2, -999.00,9,  -999.0,9, -999.00,9, -999.00,9,       25.6,2, 20220513,     1519,  30.0005, 149.9078,     1.5441,2,     -999.0,9,     -999.0,9,     -999.0,9,     -999.0,9,     0.0122,1,     4.7096,1,     -999.0,9,     -999.0,9,     -999.0,9
33RR20220430,        P02,      33,          1,          8,          8,2,20220513,       1419,    30.0005,   149.9078,       6109,  3351.2,2,   1.5066,2,  34.6721,2,  34.6710,2,    140.8,2,   140.9,2,  151.60,2,   36.70,2,    0.00,2,    2.53,2,-999.000,9,-999.000,9,-999.0000,9,  -999.0,9,  -999.0,9,-999.0000,9,  -999.00,9, -999.00,9,  -999.0,9, -999.00,9, -999.00,9,     -999.0,9, 20220513,     1512,  30.0005, 149.9078,     1.5066,2,     -999.0,9,     -999.0,9,     -999.0,9,     -999.0,9,     0.0124,1,     4.7095,1,     -999.0,9,     -999.0,9,     -999.0,9
33RR20220430,        P02,      33,          1,          7,          7,2,20220513,       1419,    30.0005,   149.9078,       6109,  3659.4,2,   1.4820,2,  34.6776,2,  34.6777,2,    146.8,2,   147.1,2,  149.93,2,   36.61,2,    0.00,2,    2.50,2,   0.005,2,   0.000,2,   0.0000,2,  2325.7,2,  2414.3,2,   7.5634,2,    24.99,2, -999.00,9,  -999.0,9, -999.00,9, -999.00,9,       23.7,2, 20220513,     1506,  30.0005, 149.9078,     1.4818,2,     -999.0,9,     -999.0,9,     -999.0,9,     -999.0,9,     0.0122,1,     4.7105,1,     -999.0,9,     -999.0,9,     -999.0,9
33RR20220430,        P02,      33,          1,          6,          6,2,20220513,       1419,    30.0005,   149.9078,       6109,  4067.7,2,   1.4694,2,  34.6831,2,  34.6822,2,    153.8,2,   154.2,2,  147.49,2,   35.97,2,    0.00,2,    2.46,2,-999.000,9,-999.000,9,-999.0000,9,  -999.0,9,  -999.0,9,-999.0000,9,  -999.00,9, -999.00,9,  -999.0,9, -999.00,9, -999.00,9,     -999.0,9, 20220513,     1458,  30.0005, 149.9078,     1.4691,2,     -999.0,9,     -999.0,9,     -999.0,9,     -999.0,9,     0.0122,1,     4.7099,1,     -999.0,9,     -999.0,9,     -999.0,9
33RR20220430,        P02,      33,          1,          5,          5,2,20220513,       1419,    30.0005,   149.9078,       6109,  4479.1,2,   1.4800,2,  34.6863,2,  34.6851,2,    158.1,2,   158.1,2,  146.03,2,   35.62,2,    0.00,2,    2.42,2,   0.007,2,   0.000,2,   0.0000,2,  2319.7,2,  2412.3,2,   7.5781,2,    24.98,2, -999.00,9,  -999.0,9, -999.00,9, -999.00,9,       23.1,2, 20220513,     1451,  30.0005, 149.9078,     1.4797,2,     -999.0,9,     -999.0,9,     -999.0,9,     -999.0,9,     0.0122,1,     4.7100,1,     -999.0,9,     -999.0,9,     -999.0,9
33RR20220430,        P02,      33,          1,          4,          4,2,20220513,       1419,    30.0005,   149.9078,       6109,  4889.6,2,   1.5022,2,  34.6887,2,  34.6891,2,    161.9,2,   162.1,2,  144.37,2,   35.29,2,    0.00,2,    2.40,2,-999.000,9,-999.000,9,-999.0000,9,  2316.8,2,  2409.4,2,   7.5849,2,    24.99,2, -999.00,9,  -999.0,9, -999.00,9, -999.00,9,     -999.0,9, 20220513,     1443,  30.0005, 149.9078,     1.5020,2,     -999.0,9,     -999.0,9,     -999.0,9,     -999.0,9,     0.0122,1,     4.7092,1,     -999.0,9,     -999.0,9,     -999.0,9