BOTTLE,20230801CCHSIOCBG
EXPOCODE,SECT_ID,STNNBR,CASTNO,SAMPNO,BTLNBR,BTLNBR_FLAG_W,DATE,TIME,LATITUDE,LONGITUDE,DEPTH,CTDPRS,CTDPRS_FLAG_W,CTDTMP,CTDTMP_FLAG_W,CTDSAL,CTDSAL_FLAG_W,SALNTY,SALNTY_FLAG_W,CTDOXY,CTDOXY_FLAG_W,OXYGEN,OXYGEN_FLAG_W,SILCAT,SILCAT_FLAG_W,NITRAT,NITRAT_FLAG_W,NITRIT,NITRIT_FLAG_W,PHSPHT,PHSPHT_FLAG_W,CFC-11,CFC-11_FLAG_W,CFC-12,CFC-12_FLAG_W,SF6,SF6_FLAG_W,TCARBN,TCARBN_FLAG_W,ALKALI,ALKALI_FLAG_W,PH_TOT,PH_TOT_FLAG_W,PH_TMP,PH_TMP_FLAG_W,DELC13,DELC13_FLAG_W,DELC14,DELC14_FLAG_W,DOC,DOC_FLAG_W,TDN,TDN_FLAG_W,N2O,N2O_FLAG_W,BTL_DATE,BTL_TIME,BTL_LAT,BTL_LON,REFTMP,REFTMP_FLAG_W,POC,POC_FLAG_W,PON,PON_FLAG_W,POP,POP_FLAG_W,PCOD,PCOD_FLAG_W,CTDFLUOR,CTDFLUOR_FLAG_W,CTDXMISS,CTDXMISS_FLAG_W,HPLC,HPLC_FLAG_W,DNA,DNA_FLAG_W,FCM,FCM_FLAG_W
,,,,,,,,,,,METERS,DBAR,,ITS-90,,PSS-78,,PSS-78,,UMOL/KG,,UMOL/KG,,UMOL/KG,,UMOL/KG,,UMOL/KG,,UMOL/KG,,PMOL/KG,,PMOL/KG,,FMOL/KG,,UMOL/KG,,UMOL/KG,,,,DEG C,,/MILLE,,/MILLE,,UMOL/KG,,UMOL/KG,,NMOL/KG,,,,,,ITS-90,,UG/L,,UG/L,,UG/L,,UG/L,,VOLTS,,VOLTS,,,,,,,
33RR20220430,        P02,       7,          1,         32,         32,2,20220505,       0951,    31.8842,   133.6212,       3058,    19.9,2,  23.7778,2,  34.4250,2,  34.4137,2,    212.1,2,   212.8,2,    0.10,2,    0.00,2,    0.00,2,    0.06,2,   2.120,2,   1.823,2,   1.8662,2,  1966.0,2,  2262.5,2,   8.0519,2,    24.99,2, -999.00,9,  -999.0,9, -999.00,1, -999.00,1,        5.8,2, 20220505,     1121,  31.8842, 133.6212,    23.7774,2,     -999.0,9,     -999.0,9,     -999.0,9,     -999.0,9,     0.0187,1,     4.6069,1,     -999.0,9,     -999.0,9,     -999.0,9
33RR20220430,        P02,       7,          1,         31,         31,2,20220505,       0951,    31.8842,   133.6212,       3058,    39.4,2,  23.7862,2,  34.4242,2,  34.4133,2,    212.7,2,   212.7,2,    0.00,2,    0.00,2,    0.00,2,    0.03,2,   2.591,2,   2.105,2,-999.0000,5,  1966.4,2,  2261.9,2,   8.0519,2,    24.99,2, -999.00,9,  -999.0,9, -999.00,1, -999.00,1,        8.3,2, 20220505,     1119,  31.8843, 133.6207,    23.7818,2,     -999.0,9,     -999.0,9,     -999.0,9,     -999.0,9,     0.0196,1,     4.6093,1,     -999.0,9,     -999.0,9,     -999.0,9
33RR20220430,        P02,       7,          1,         30,         30,2,20220505,       0951,    31.8842,   133.6212,       3058,    58.4,2,  23.0030,2,  34.5310,2,  34.5193,2,    208.7,2,   208.8,2,    0.10,2,    0.24,2,    0.13,2,    0.02,2,   1.983,2,   1.637,2,   1.7192,2,  1981.5,2,  2270.2,2,   8.0339,2,    24.99,2, -999.00,9,  -999.0,9, -999.00,1, -999.00,1,        6.3,2, 20220505,     1117,  31.8844, 133.6202,    23.0239,2,     -999.0,9,     -999.0,9,     -999.0,9,     -999.0,9,     0.0451,1,     4.6004,1,     -999.0,9,     -999.0,9,     -999.0,9
33RR20220430,        P02,       7,          1,         29,         29,2,20220505,       0951,    31.8842,   133.6212,       3058,    88.4,2,  21.5315,2,  34.6694,2,  34.6594,2,    188.7,2,   188.7,2,    1.86,2,    2.96,2,    0.11,2,    0.10,2,   2.164,2,   1.168,2,   1.7921,2,  2020.8,2,  2278.1,2,   7.9745,2,    24.99,2, -999.00,9,  -999.0,9, -999.00,1, -999.00,1,        8.2,2, 20220505,     1115,  31.8845, 133.6197,    21.5329,2,     -999.0,9,     -999.0,9,     -999.0,9,     -999.0,9,     0.0264,1,     4.6525,1,     -999.0,9,     -999.0,9,     -999.0,9
33RR20220430,        P02,       7,          1,         28,         28,2,20220505,       0951,    31.8842,   133.6212,       3058,   113.5,2,  20.5717,2,  34.7134,2,  34.6963,2,    208.4,3,   203.2,2,    1.47,2,    2.25,2,    0.07,2,    0.13,2,   2.283,2,   1.542,2,   1.9565,2,  2021.9,2,  2279.8,2,   7.9796,2,    24.99,2, -999.00,9,  -999.0,9, -999.00,1, -999.00,1,        8.0,2, 20220505,     1113,  31.8845, 133.6192,    20.5650,2,     -999.0,9,     -999.0,9,     -999.0,9,     -999.0,9,     0.0151,1,     4.6703,1,     -999.0,9,     -999.0,9,     -999.0,9
33RR20220430,        P02,       7,          1,         27,         27,2,20220505,       0951,    31.8842,   133.6212,       3058,   133.1,2,  19.7228,2,  34.7217,2,  34.7121,2,    229.5,2,   231.3,2,    0.00,2,    0.01,2,    0.00,2,    0.05,2,   2.436,2,   1.454,2,   2.1287,2,  2003.2,2,  2278.0,2,   8.0119,2,    25.00,2, -999.00,9,  -999.0,9, -999.00,1, -999.00,1,        7.0,2, 20220505,     1112,  31.8846, 133.6189,    19.7239,2,     -999.0,9,     -999.0,9,     -999.0,9,     -999.0,9,     0.0135,1,     4.6739,1,     -999.0,9,     -999.0,9,     -999.0,9
33RR20220430,        P02,       7,          1,         26,         26,2,20220505,       0951,    31.8842,   133.6212,       3058,   167.3,2,  18.8022,2,  34.7178,2,  34.7127,2,    218.0,2,   219.0,2,    0.59,2,    1.36,2,    0.18,2,    0.07,2,   2.906,2,   1.273,2,   2.1628,2,  2019.9,2,  2279.9,2,   7.9843,2,    25.01,2, -999.00,9,  -999.0,9, -999.00,1, -999.00,1,        7.7,2, 20220505,     1110,  31.8846, 133.6185,    18.8007,2,     -999.0,9,     -999.0,9,     -999.0,9,     -999.0,9,     0.0175,1,     4.6691,1,     -999.0,9,     -999.0,9,     -999.0,9
33RR20220430,        P02,       7,          1,         25,         25,2,20220505,       0951,    31.8842,   133.6212,       3058,   211.8,2,  17.6574,2,  34.7468,2,  34.7378,2,    193.2,2,   192.8,2,    3.13,2,    5.43,2,    0.00,2,    0.31,2,   3.121,2,   1.351,2,   1.8642,2,  2056.3,2,  2281.9,2,   7.9151,2,    24.99,2, -999.00,9,  -999.0,9, -999.00,1, -999.00,1,        9.8,2, 20220505,     1108,  31.8846, 133.6180,    17.6570,2,     -999.0,9,     -999.0,9,     -999.0,9,     -999.0,9,     0.0122,1,     4.6860,1,     -999.0,9,     -999.0,9,     -999.0,9
33RR20220430,        P02,       7,          1,         24,         24,2,20220505,       0951,    31.8842,   133.6212,       3058,   261.7,2,  15.8948,2,  34.6483,2,  34.6409,2,    186.2,2,   186.1,2,    6.45,2,    8.50,2,    0.00,2,    0.47,2,   2.699,6,   1.653,2,   1.7529,6,  2079.8,2,  2279.2,2,   7.8641,2,    24.98,2, -999.00,9,  -999.0,9, -999.00,1, -999.00,1,       12.0,6, 20220505,     1106,  31.8846, 133.6174,    15.8943,2,     -999.0,9,     -999.0,9,     -999.0,9,     -999.0,9,     0.0122,1,     4.6894,1,     -999.0,9,     -999.0,9,     -999.0,9
33RR20220430,        P02,       7,          1,         23,         23,4,20220505,       0951,    31.8842,   133.6212,       3058,   318.4,3,  14.1420,3,  34.5204,3,-999.0000,9,    166.7,3,  -999.0,9, -999.00,9, -999.00,9, -999.00,9, -999.00,9,-999.000,9,-999.000,9,-999.0000,9,  -999.0,9,  -999.0,9,-999.0000,9,  -999.00,9, -999.00,9,  -999.0,9, -999.00,9, -999.00,9,     -999.0,9, 20220505,     1104,  31.8845, 133.6170,    14.1406,3,     -999.0,9,     -999.0,9,     -999.0,9,     -999.0,9,     0.0124,1,     4.6836,1,     -999.0,9,     -999.0,9,     -999.0,9
33RR20220430,        P02,       7,          1,         22,         22,2,20220505,       0951,    31.8842,   133.6212,       3058,   359.8,2,  12.4397,2,  34.4147,2,  34.4104,2,    166.0,2,   164.5,2,   21.79,2,   16.24,2,    0.00,2,    1.06,2,   2.675,2,   1.366,2,   1.3761,2,  2130.0,2,  2278.4,2,   7.7476,2,    25.01,2, -999.00,9,  -999.0,9, -999.00,1, -999.00,1,       18.7,2, 20220505,     1103,  31.8845, 133.6165,    12.4328,2,     -999.0,9,     -999.0,9,     -999.0,9,     -999.0,9,     0.0122,1,     4.6885,1,     -999.0,9,     -999.0,9,     -999.0,9
33RR20220430,        P02,       7,          1,         21,         21,2,20220505,       0951,    31.8842,   133.6212,       3058,   420.8,2,  10.6614,2,  34.2795,2,  34.2752,2,    164.0,2,   163.6,2,   26.97,2,   19.16,2,    0.00,2,    1.30,2,   2.800,2,   1.411,2,   1.3319,2,  2149.4,2,  2277.2,2,   7.6974,2,    24.99,2, -999.00,9,  -999.0,9, -999.00,1, -999.00,1,       20.5,2, 20220505,     1100,  31.8845, 133.6159,    10.6600,2,     -999.0,9,     -999.0,9,     -999.0,9,     -999.0,9,     0.0122,1,     4.6995,1,     -999.0,9,     -999.0,9,     -999.0,9
33RR20220430,        P02,       7,          1,         20,         20,2,20220505,       0951,    31.8842,   133.6212,       3058,   461.5,2,   9.8369,2,  34.2484,2,  34.2432,2,    147.2,2,   146.5,2,   32.93,2,   22.15,2,    0.00,2,    1.53,2,   2.607,2,   1.322,2,   1.1688,2,  2169.4,3,  2278.5,2,   7.6474,2,    24.99,2, -999.00,9,  -999.0,9, -999.00,9, -999.00,9,       24.8,2, 20220505,     1059,  31.8844, 133.6155,     9.8374,2,     -999.0,9,     -999.0,9,     -999.0,9,     -999.0,9,     0.0122,1,     4.6990,1,     -999.0,9,     -999.0,9,     -999.0,9
33RR20220430,        P02,       7,          1,         19,         19,4,20220505,       0951,    31.8842,   133.6212,       3058,   533.0,3,   8.2171,3,  34.2061,3,  34.2434,3,    127.1,3,   146.8,3,   32.84,3,   22.19,3,    0.00,3,    1.54,3,   2.567,3,-999.000,5,   1.0860,3,  2171.8,3,  2277.4,3,   7.6469,3,    25.00,3, -999.00,9,  -999.0,9, -999.00,1, -999.00,1,       25.1,3, 20220505,     1056,  31.8843, 133.6149,     8.2179,3,     -999.0,9,     -999.0,9,     -999.0,9,     -999.0,9,     0.0126,1,     4.7007,1,     -999.0,9,     -999.0,9,     -999.0,9
33RR20220430,        P02,       7,          1,         18,         18,2,20220505,       0951,    31.8842,   133.6212,       3058,   629.1,2,   6.7342,2,  34.2468,2,  34.2424,2,    101.5,2,   100.8,2,   70.75,2,   31.80,2,    0.00,2,    2.28,2,   1.611,2,   0.754,2,-999.0000,5,  2249.9,2,  2314.2,2,   7.5086,2,    25.00,2, -999.00,9,  -999.0,9, -999.00,1, -999.00,1,       33.3,2, 20220505,     1054,  31.8843, 133.6142,     6.7334,2,     -999.0,9,     -999.0,9,     -999.0,9,     -999.0,9,     0.0134,1,     4.6879,1,     -999.0,9,     -999.0,9,     -999.0,9
33RR20220430,        P02,       7,          1,         17,         17,2,20220505,       0951,    31.8842,   133.6212,       3058,   730.0,2,   5.5704,2,  34.2599,2,  34.2568,2,     83.6,2,    83.5,2,   86.58,2,   35.48,2,    0.00,2,    2.51,2,   1.195,2,-999.000,5,-999.0000,5,  2280.9,2,  2324.5,2,   7.4561,2,    24.98,2, -999.00,9,  -999.0,9, -999.00,1, -999.00,1,       37.5,2, 20220505,     1051,  31.8842, 133.6135,     5.5705,2,     -999.0,9,     -999.0,9,     -999.0,9,     -999.0,9,     0.0134,1,     4.6931,1,     -999.0,9,     -999.0,9,     -999.0,9
33RR20220430,        P02,       7,          1,         16,         16,2,20220505,       0951,    31.8842,   133.6212,       3058,   834.7,2,   4.6369,2,  34.3137,2,  34.3060,2,     70.3,3,    71.9,2,  101.72,2,   37.76,2,    0.00,2,    2.71,2,   0.813,2,-999.000,5,-999.0000,5,  2306.4,2,  2342.1,2,   7.4283,2,    25.02,2, -999.00,9,  -999.0,9, -999.00,9, -999.00,9,       39.8,2, 20220505,     1048,  31.8842, 133.6128,     4.6397,2,     -999.0,9,     -999.0,9,     -999.0,9,     -999.0,9,     0.0134,1,     4.6878,1,     -999.0,9,     -999.0,9,     -999.0,9
33RR20220430,        P02,       7,          1,         15,         15,2,20220505,       0951,    31.8842,   133.6212,       3058,   949.2,2,   3.8664,2,  34.3759,2,  34.3731,2,     63.4,2,    63.8,2,  118.13,2,   39.87,2,    0.00,2,    2.83,2,   0.507,2,   0.217,2,   0.1658,2,  2331.3,6,  2360.7,2,   7.4089,2,    24.93,2, -999.00,9,  -999.0,9, -999.00,1, -999.00,1,       41.4,2, 20220505,     1045,  31.8841, 133.6120,     3.8665,2,     -999.0,9,     -999.0,9,     -999.0,9,     -999.0,9,     0.0134,1,     4.6915,1,     -999.0,9,     -999.0,9,     -999.0,9
33RR20220430,        P02,       7,          1,         14,         14,2,20220505,       0951,    31.8842,   133.6212,       3058,  1048.4,2,   3.3766,2,  34.4181,2,  34.4153,2,     60.6,2,    60.8,2,  127.80,2,   40.67,2,    0.00,2,    2.89,2,   0.285,2,   0.195,2,   0.0000,2,  -999.0,9,  -999.0,9,-999.0000,9,  -999.00,9, -999.00,9,  -999.0,9, -999.00,9, -999.00,9,       42.0,2, 20220505,     1042,  31.8841, 133.6113,     3.3761,2,     -999.0,9,     -999.0,9,     -999.0,9,     -999.0,9,     0.0134,1,     4.7033,1,     -999.0,9,     -999.0,9,     -999.0,9
33RR20220430,        P02,       7,          1,         13,         13,2,20220505,       0951,    31.8842,   133.6212,       3058,  1141.5,2,   3.2117,2,  34.4433,2,  34.4406,2,     63.8,2,    63.4,2,  131.52,2,   40.83,2,    0.00,2,    2.89,2,   0.237,2,-999.000,5,-999.0000,5,  2345.6,2,  2377.4,2,   7.4125,2,    24.99,2, -999.00,9,  -999.0,9, -999.00,1, -999.00,1,       41.4,2, 20220505,     1040,  31.8840, 133.6108,     3.2116,2,     -999.0,9,     -999.0,9,     -999.0,9,     -999.0,9,     0.0134,1,     4.7021,1,     -999.0,9,     -999.0,9,     -999.0,9
33RR20220430,        P02,       7,          1,         12,         12,2,20220505,       0951,    31.8842,   133.6212,       3058,  1238.6,2,   2.9702,2,  34.4682,2,  34.4659,2,     65.3,2,    64.9,2,  136.30,2,   40.81,2,    0.00,2,    2.91,2,   0.178,2,-999.000,5,-999.0000,5,  -999.0,9,  -999.0,9,-999.0000,9,  -999.00,9, -999.00,9,  -999.0,9, -999.00,9, -999.00,9,       40.8,2, 20220505,     1036,  31.8840, 133.6099,     2.9695,2,     -999.0,9,     -999.0,9,     -999.0,9,     -999.0,9,     0.0134,1,     4.7023,1,     -999.0,9,     -999.0,9,     -999.0,9
33RR20220430,        P02,       7,          1,         11,         11,2,20220505,       0951,    31.8842,   133.6212,       3058,  1336.7,2,   2.8058,2,  34.4899,2,  34.4879,2,     69.3,2,    69.1,2,  139.42,2,   40.91,2,    0.00,2,    2.89,2,   0.139,2,-999.000,5,-999.0000,5,  2353.4,2,  2386.5,2,   7.4209,2,    25.07,2, -999.00,9,  -999.0,9, -999.00,1, -999.00,1,       39.2,2, 20220505,     1033,  31.8839, 133.6092,     2.8058,2,     -999.0,9,     -999.0,9,     -999.0,9,     -999.0,9,     0.0134,1,     4.7044,1,     -999.0,9,     -999.0,9,     -999.0,9
33RR20220430,        P02,       7,          1,         10,         10,2,20220505,       0951,    31.8842,   133.6212,       3058,  1439.9,2,   2.6321,2,  34.5132,2,  34.5105,2,     75.2,2,    75.1,2,  141.77,2,   40.41,2,    0.00,2,    2.87,2,   0.100,2,-999.000,5,-999.0000,5,  -999.0,9,  -999.0,9,-999.0000,9,  -999.00,9, -999.00,9,  -999.0,9, -999.00,9, -999.00,9,       37.4,2, 20220505,     1030,  31.8839, 133.6084,     2.6323,2,     -999.0,9,     -999.0,9,     -999.0,9,     -999.0,9,     0.0134,1,     4.6976,1,     -999.0,9,     -999.0,9,     -999.0,9
33RR20220430,        P02,       7,          1,          9,          9,2,20220505,       0951,    31.8842,   133.6212,       3058,  1536.9,2,   2.5180,2,  34.5281,2,  34.5256,2,     79.0,2,    78.7,2,  143.72,2,   40.19,2,    0.00,2,    2.85,2,   0.110,2,-999.000,5,-999.0000,5,  2354.8,2,  2394.9,2,   7.4391,2,    24.92,2, -999.00,9,  -999.0,9, -999.00,1, -999.00,1,       36.6,2, 20220505,     1027,  31.8838, 133.6076,     2.5177,2,     -999.0,9,     -999.0,9,     -999.0,9,     -999.0,9,     0.0134,1,     4.6970,1,     -999.0,9,     -999.0,9,     -999.0,9
33RR20220430,        P02,       7,          1,          8,          8,2,20220505,       0951,    31.8842,   133.6212,       3058,  1639.5,2,   2.4050,2,  34.5439,2,  34.5415,2,     83.6,2,    83.5,2,  144.60,2,   40.02,2,    0.00,2,    2.84,2,   0.071,2,-999.000,5,-999.0000,5,  -999.0,9,  -999.0,9,-999.0000,9,  -999.00,9, -999.00,9,  -999.0,9, -999.00,9, -999.00,9,       35.3,2, 20220505,     1025,  31.8837, 133.6069,     2.4052,2,     -999.0,9,     -999.0,9,     -999.0,9,     -999.0,9,     0.0134,1,     4.7008,1,     -999.0,9,     -999.0,9,     -999.0,9
33RR20220430,        P02,       7,          1,          7,          7,2,20220505,       0951,    31.8842,   133.6212,       3058,  1736.2,2,   2.3090,2,  34.5572,2,  34.5567,2,     88.1,2,    87.7,2,  145.47,2,   39.75,2,    0.00,2,    2.82,2,   0.053,2,-999.000,5,-999.0000,5,  2352.2,2,  2399.1,2,   7.4564,2,    24.98,2, -999.00,9,  -999.0,9, -999.00,1, -999.00,1,       34.5,2, 20220505,     1022,  31.8837, 133.6062,     2.3088,2,     -999.0,9,     -999.0,9,     -999.0,9,     -999.0,9,     0.0134,1,     4.6996,1,     -999.0,9,     -999.0,9,     -999.0,9
33RR20220430,        P02,       7,          1,          6,          6,2,20220505,       0951,    31.8842,   133.6212,       3058,  1862.8,2,   2.1728,2,  34.5765,2,  34.5749,2,     95.4,2,    95.0,2,  146.74,2,   39.61,2,    0.00,2,    2.79,2,   0.038,2,   0.022,2,   0.0000,2,  -999.0,9,  -999.0,9,-999.0000,9,  -999.00,9, -999.00,9,  -999.0,9, -999.00,9, -999.00,9,       32.8,2, 20220505,     1018,  31.8836, 133.6053,     2.1725,2,     -999.0,9,     -999.0,9,     -999.0,9,     -999.0,9,     0.0134,1,     4.6983,1,     -999.0,9,     -999.0,9,     -999.0,9
33RR20220430,        P02,       7,          1,          5,          5,2,20220505,       0951,    31.8842,   133.6212,       3058,  2069.1,2,   1.9779,2,  34.6066,2,  34.6046,2,    109.4,2,   108.9,2,  146.64,2,   38.62,2,    0.00,2,    2.72,2,   0.022,2,   0.012,2,   0.0000,2,  2343.2,2,  2405.6,2,   7.5017,2,    24.92,2, -999.00,9,  -999.0,9, -999.00,1, -999.00,1,       30.0,2, 20220505,     1014,  31.8836, 133.6040,     1.9770,2,     -999.0,9,     -999.0,9,     -999.0,9,     -999.0,9,     0.0134,1,     4.6949,1,     -999.0,9,     -999.0,9,     -999.0,9
33RR20220430,        P02,       7,          1,          4,          4,2,20220505,       0951,    31.8842,   133.6212,       3058,  2305.9,2,   1.7838,2,  34.6342,2,  34.6331,2,    123.7,2,   123.4,2,  146.15,2,   37.77,2,    0.00,2,    2.65,2,   0.026,2,   0.037,2,   0.0000,2,  -999.0,9,  -999.0,9,-999.0000,9,  -999.00,9, -999.00,9,  -999.0,9, -999.00,1, -999.00,1,       27.5,2, 20220505,     1008,  31.8835, 133.6027,     1.7837,2,     -999.0,9,     -999.0,9,     -999.0,9,     -999.0,9,     0.0128,1,     4.6934,1,     -999.0,9,     -999.0,9,     -999.0,9
33RR20220430,        P02,       7,          1,          3,          3,2,20220505,       0951,    31.8842,   133.6212,       3058,  2566.8,2,   1.6824,2,  34.6491,2,  34.6484,2,    132.4,2,   132.6,2,  145.07,2,   37.23,2,    0.00,2,    2.60,2,   0.019,2,   0.015,2,   0.0000,2,  2334.4,2,  2412.7,2,   7.5393,2,    25.02,2, -999.00,9,  -999.0,9, -999.00,1, -999.00,1,       25.8,2, 20220505,     1003,  31.8834, 133.6013,     1.6840,2,     -999.0,9,     -999.0,9,     -999.0,9,     -999.0,9,     0.0134,1,     4.6922,1,     -999.0,9,     -999.0,9,     -999.0,9
33RR20220430,        P02,       7,          1,          2,          2,2,20220505,       0951,    31.8842,   133.6212,       3058,  2823.2,2,   1.5731,2,  34.6644,3,  34.6620,2,    142.0,2,   142.8,2,  144.49,2,   36.64,2,    0.00,2,    2.55,2,   0.008,2,   0.015,2,   0.0000,2,  2328.7,2,  2412.7,2,   7.5577,2,    24.99,2, -999.00,9,  -999.0,9, -999.00,1, -999.00,1,       23.9,2, 20220505,      957,  31.8833, 133.5998,     1.5718,2,     -999.0,9,     -999.0,9,     -999.0,9,     -999.0,9,     0.0122,1,     4.6922,1,     -999.0,9,     -999.0,9,     -999.0,9
33RR20220430,        P02,       7,          1,          1,          1,2,20220505,       0951,    31.8842,   133.6212,       3058,  3094.6,2,   1.5140,2,  34.6735,2,  34.6724,2,    148.3,2,   148.2,2,  143.70,2,   36.35,2,    0.00,2,    2.50,2,   0.009,2,-999.000,5,-999.0000,5,  2328.5,6,  2414.4,2,   7.5685,2,    25.06,2, -999.00,9,  -999.0,9, -999.00,1, -999.00,1,       23.0,2, 20220505,      951,  31.8831, 133.5982,     1.5129,2,     -999.0,9,     -999.0,9,     -999.0,9,     -999.0,9,     0.0134,1,     4.6936,1,     -999.0,9,     -999.0,9,     -999.0,9