BOTTLE,20230801CCHSIOCBG
EXPOCODE,SECT_ID,STNNBR,CASTNO,SAMPNO,BTLNBR,BTLNBR_FLAG_W,DATE,TIME,LATITUDE,LONGITUDE,DEPTH,CTDPRS,CTDPRS_FLAG_W,CTDTMP,CTDTMP_FLAG_W,CTDSAL,CTDSAL_FLAG_W,SALNTY,SALNTY_FLAG_W,CTDOXY,CTDOXY_FLAG_W,OXYGEN,OXYGEN_FLAG_W,SILCAT,SILCAT_FLAG_W,NITRAT,NITRAT_FLAG_W,NITRIT,NITRIT_FLAG_W,PHSPHT,PHSPHT_FLAG_W,CFC-11,CFC-11_FLAG_W,CFC-12,CFC-12_FLAG_W,SF6,SF6_FLAG_W,TCARBN,TCARBN_FLAG_W,ALKALI,ALKALI_FLAG_W,PH_TOT,PH_TOT_FLAG_W,PH_TMP,PH_TMP_FLAG_W,DELC13,DELC13_FLAG_W,DELC14,DELC14_FLAG_W,DOC,DOC_FLAG_W,TDN,TDN_FLAG_W,N2O,N2O_FLAG_W,BTL_DATE,BTL_TIME,BTL_LAT,BTL_LON,REFTMP,REFTMP_FLAG_W,POC,POC_FLAG_W,PON,PON_FLAG_W,POP,POP_FLAG_W,PCOD,PCOD_FLAG_W,CTDFLUOR,CTDFLUOR_FLAG_W,CTDXMISS,CTDXMISS_FLAG_W,HPLC,HPLC_FLAG_W,DNA,DNA_FLAG_W,FCM,FCM_FLAG_W
,,,,,,,,,,,METERS,DBAR,,ITS-90,,PSS-78,,PSS-78,,UMOL/KG,,UMOL/KG,,UMOL/KG,,UMOL/KG,,UMOL/KG,,UMOL/KG,,PMOL/KG,,PMOL/KG,,FMOL/KG,,UMOL/KG,,UMOL/KG,,,,DEG C,,/MILLE,,/MILLE,,UMOL/KG,,UMOL/KG,,NMOL/KG,,,,,,ITS-90,,UG/L,,UG/L,,UG/L,,UG/L,,VOLTS,,VOLTS,,,,,,,
33RR20220430,        P02,      19,          1,         25,         25,2,20220508,       2126,    30.0008,   139.6600,       2234,    10.0,2,  20.1080,2,  34.6716,2,  34.6653,2,    230.7,2,   230.3,2,    0.10,2,    0.00,2,    0.00,2,    0.02,2,-999.000,9,-999.000,9,-999.0000,9,  1999.3,2,  2273.6,2,   8.0077,2,    25.01,2, -999.00,9,  -999.0,9, -999.00,1, -999.00,1,     -999.0,9, 20220508,     2229,  30.0008, 139.6600,    20.1085,2,     -999.0,9,     -999.0,9,     -999.0,9,     -999.0,9,     0.0159,1,     4.5994,1,     -999.0,9,     -999.0,9,     -999.0,9
33RR20220430,        P02,      19,          1,         24,         24,2,20220508,       2126,    30.0008,   139.6600,       2234,    19.5,2,  19.8525,2,  34.6708,2,  34.6643,2,    231.0,2,   230.9,2,    0.20,2,    0.05,2,    0.00,2,    0.00,2,-999.000,9,-999.000,9,-999.0000,9,  2003.9,2,  2275.0,2,   8.0074,2,    24.99,2, -999.00,9,  -999.0,9, -999.00,1, -999.00,1,     -999.0,9, 20220508,     2227,  30.0009, 139.6599,    19.8548,2,     -999.0,9,     -999.0,9,     -999.0,9,     -999.0,9,     0.0167,1,     4.5971,1,     -999.0,9,     -999.0,9,     -999.0,9
33RR20220430,        P02,      19,          1,         23,         23,2,20220508,       2126,    30.0008,   139.6600,       2234,    39.7,2,  19.8111,2,  34.6711,2,  34.6649,2,    231.1,2,   230.9,2,    0.29,2,    0.00,2,    0.00,2,    0.01,2,-999.000,9,-999.000,9,-999.0000,9,  2000.6,2,  2273.4,2,   8.0084,2,    25.11,2, -999.00,9,  -999.0,9, -999.00,1, -999.00,1,     -999.0,9, 20220508,     2226,  30.0008, 139.6599,    19.8109,2,     -999.0,9,     -999.0,9,     -999.0,9,     -999.0,9,     0.0180,1,     4.5993,1,     -999.0,9,     -999.0,9,     -999.0,9
33RR20220430,        P02,      19,          1,         22,         22,2,20220508,       2126,    30.0008,   139.6600,       2234,    64.6,2,  19.6637,2,  34.7087,2,  34.7022,2,    232.1,2,   232.0,2,    0.29,2,    0.00,2,    0.00,2,    0.00,2,-999.000,9,-999.000,9,-999.0000,9,  2000.6,2,  2277.9,2,   8.0070,2,    25.09,2, -999.00,9,  -999.0,9, -999.00,1, -999.00,1,     -999.0,9, 20220508,     2224,  30.0008, 139.6600,    19.6791,2,     -999.0,9,     -999.0,9,     -999.0,9,     -999.0,9,     0.0200,1,     4.6166,1,     -999.0,9,     -999.0,9,     -999.0,9
33RR20220430,        P02,      19,          1,         21,         21,2,20220508,       2126,    30.0008,   139.6600,       2234,    89.8,2,  18.6055,2,  34.7349,2,  34.7288,2,    231.7,2,   231.7,2,    0.39,2,    0.11,2,    0.12,2,    0.02,2,-999.000,9,-999.000,9,-999.0000,9,  2010.9,2,  2279.3,2,   7.9956,2,    24.98,2, -999.00,9,  -999.0,9, -999.00,1, -999.00,1,     -999.0,9, 20220508,     2223,  30.0008, 139.6599,    18.6049,2,     -999.0,9,     -999.0,9,     -999.0,9,     -999.0,9,     0.0498,1,     4.5958,1,     -999.0,9,     -999.0,9,     -999.0,9
33RR20220430,        P02,      19,          1,         20,         20,2,20220508,       2126,    30.0008,   139.6600,       2234,   119.9,2,  18.2632,2,  34.7634,2,  34.7567,2,    222.4,2,   222.5,2,    0.78,2,    1.33,2,    0.09,2,    0.07,2,-999.000,9,-999.000,9,-999.0000,9,  2023.1,2,  2280.9,2,   7.9785,2,    25.03,2, -999.00,9,  -999.0,9, -999.00,1, -999.00,1,     -999.0,9, 20220508,     2221,  30.0008, 139.6599,    18.2642,2,     -999.0,9,     -999.0,9,     -999.0,9,     -999.0,9,     0.0215,1,     4.6517,1,     -999.0,9,     -999.0,9,     -999.0,9
33RR20220430,        P02,      19,          1,         19,         19,2,20220508,       2126,    30.0008,   139.6600,       2234,   170.0,2,  17.8119,2,  34.7667,2,  34.7616,2,    220.8,2,   220.6,2,    1.07,2,    2.17,2,    0.01,2,    0.12,2,-999.000,9,-999.000,9,-999.0000,9,  2028.5,2,  2280.9,2,   7.9659,2,    24.97,2, -999.00,9,  -999.0,9, -999.00,1, -999.00,1,     -999.0,9, 20220508,     2219,  30.0008, 139.6599,    17.8104,2,     -999.0,9,     -999.0,9,     -999.0,9,     -999.0,9,     0.0134,1,     4.6742,1,     -999.0,9,     -999.0,9,     -999.0,9
33RR20220430,        P02,      19,          1,         18,         18,2,20220508,       2126,    30.0008,   139.6600,       2234,   219.8,2,  17.5673,2,  34.7619,2,  34.7557,2,    221.8,2,   222.1,2,    1.56,2,    2.43,2,    0.00,2,    0.14,2,-999.000,9,-999.000,9,-999.0000,9,  2030.4,6,  2280.7,2,   7.9623,2,    25.00,2, -999.00,9,  -999.0,9, -999.00,1, -999.00,1,     -999.0,9, 20220508,     2217,  30.0008, 139.6599,    17.5669,2,     -999.0,9,     -999.0,9,     -999.0,9,     -999.0,9,     0.0122,1,     4.6785,1,     -999.0,9,     -999.0,9,     -999.0,9
33RR20220430,        P02,      19,          1,         17,         17,2,20220508,       2126,    30.0008,   139.6600,       2234,   270.3,2,  17.3925,2,  34.7563,2,  34.7504,2,    219.8,2,   220.3,2,    1.86,2,    2.92,2,    0.00,2,    0.17,2,-999.000,9,-999.000,9,-999.0000,9,  2032.9,2,  2280.5,2,   7.9558,2,    25.05,2, -999.00,9,  -999.0,9, -999.00,1, -999.00,1,     -999.0,9, 20220508,     2215,  30.0008, 139.6599,    17.3920,2,     -999.0,9,     -999.0,9,     -999.0,9,     -999.0,9,     0.0122,1,     4.6802,1,     -999.0,9,     -999.0,9,     -999.0,9
33RR20220430,        P02,      19,          1,         16,         16,2,20220508,       2126,    30.0008,   139.6600,       2234,   320.4,2,  17.1510,2,  34.7436,2,  34.7370,2,    213.8,2,   214.0,2,    2.64,2,    3.91,2,    0.00,2,    0.22,2,-999.000,9,-999.000,9,-999.0000,9,  2039.8,2,  2279.7,2,   7.9395,2,    25.00,2, -999.00,9,  -999.0,9, -999.00,1, -999.00,1,     -999.0,9, 20220508,     2213,  30.0008, 139.6599,    17.1502,2,     -999.0,9,     -999.0,9,     -999.0,9,     -999.0,9,     0.0122,1,     4.6838,1,     -999.0,9,     -999.0,9,     -999.0,9
33RR20220430,        P02,      19,          1,         15,         15,2,20220508,       2126,    30.0008,   139.6600,       2234,   439.9,2,  15.9637,2,  34.6604,2,  34.6545,2,    199.9,2,   199.8,2,    6.55,2,    7.22,2,    0.00,2,    0.46,2,-999.000,9,-999.000,9,-999.0000,9,  2065.2,2,  2279.0,2,   7.8894,2,    25.01,2, -999.00,9,  -999.0,9, -999.00,1, -999.00,1,     -999.0,9, 20220508,     2210,  30.0008, 139.6599,    15.9620,2,     -999.0,9,     -999.0,9,     -999.0,9,     -999.0,9,     0.0122,1,     4.6855,1,     -999.0,9,     -999.0,9,     -999.0,9
33RR20220430,        P02,      19,          1,         14,         14,2,20220508,       2126,    30.0008,   139.6600,       2234,   542.5,2,  13.5120,2,  34.4734,2,  34.4697,2,    180.1,2,   180.2,2,   15.44,2,   13.01,2,    0.00,2,    0.86,2,-999.000,9,-999.000,9,-999.0000,9,  2102.5,2,  2274.8,2,   7.7967,2,    25.02,2, -999.00,9,  -999.0,9, -999.00,1, -999.00,1,     -999.0,9, 20220508,     2207,  30.0008, 139.6599,    13.5127,2,     -999.0,9,     -999.0,9,     -999.0,9,     -999.0,9,     0.0122,1,     4.6910,1,     -999.0,9,     -999.0,9,     -999.0,9
33RR20220430,        P02,      19,          1,         13,         13,2,20220508,       2126,    30.0008,   139.6600,       2234,   643.2,2,  10.3943,2,  34.2492,2,  34.2475,2,    174.5,2,   175.0,2,   27.76,2,   18.47,2,    0.00,2,    1.27,2,-999.000,9,-999.000,9,-999.0000,9,  2144.7,2,  2274.6,2,   7.7043,2,    25.03,2, -999.00,9,  -999.0,9, -999.00,1, -999.00,1,     -999.0,9, 20220508,     2205,  30.0008, 139.6599,    10.3948,2,     -999.0,9,     -999.0,9,     -999.0,9,     -999.0,9,     0.0134,1,     4.6962,1,     -999.0,9,     -999.0,9,     -999.0,9
33RR20220430,        P02,      19,          1,         12,         12,2,20220508,       2126,    30.0008,   139.6600,       2234,   743.6,2,   7.9390,2,  34.1478,2,  34.1477,2,    140.0,2,   139.9,2,   48.97,2,   26.09,2,    0.00,2,    1.82,2,-999.000,9,-999.000,9,-999.0000,9,  2198.8,2,  2289.4,2,   7.5858,2,    25.01,2, -999.00,9,  -999.0,9, -999.00,1, -999.00,1,     -999.0,9, 20220508,     2202,  30.0008, 139.6599,     7.9727,2,     -999.0,9,     -999.0,9,     -999.0,9,     -999.0,9,     0.0125,1,     4.6983,1,     -999.0,9,     -999.0,9,     -999.0,9
33RR20220430,        P02,      19,          1,         11,         11,2,20220508,       2126,    30.0008,   139.6600,       2234,   844.9,2,   5.9950,2,  34.1587,2,  34.1587,2,    100.2,2,    99.4,2,   75.56,2,   33.16,2,    0.00,2,    2.34,2,-999.000,9,-999.000,9,-999.0000,9,  2258.1,2,  2309.2,2,   7.4718,2,    25.02,2, -999.00,9,  -999.0,9, -999.00,1, -999.00,1,     -999.0,9, 20220508,     2159,  30.0008, 139.6599,     5.9943,2,     -999.0,9,     -999.0,9,     -999.0,9,     -999.0,9,     0.0134,1,     4.6996,1,     -999.0,9,     -999.0,9,     -999.0,9
33RR20220430,        P02,      19,          1,         10,         10,2,20220508,       2126,    30.0008,   139.6600,       2234,   945.8,2,   4.8705,2,  34.2573,2,  34.2585,2,     76.0,2,    75.9,2,   98.91,2,   37.34,2,    0.00,2,    2.60,2,-999.000,9,-999.000,9,-999.0000,9,  2298.3,2,  2343.3,2,   7.4239,2,    25.00,2, -999.00,9,  -999.0,9, -999.00,1, -999.00,1,     -999.0,9, 20220508,     2157,  30.0008, 139.6599,     4.8686,2,     -999.0,9,     -999.0,9,     -999.0,9,     -999.0,9,     0.0126,1,     4.6983,1,     -999.0,9,     -999.0,9,     -999.0,9
33RR20220430,        P02,      19,          1,          9,          9,2,20220508,       2126,    30.0008,   139.6600,       2234,  1047.0,2,   4.0359,2,  34.2986,2,  34.2993,2,     57.0,2,    56.9,2,  114.45,2,   39.95,2,    0.00,2,    2.81,2,-999.000,9,-999.000,9,-999.0000,9,  2326.7,2,  2348.0,2,   7.3786,2,    25.02,2, -999.00,9,  -999.0,9, -999.00,1, -999.00,1,     -999.0,9, 20220508,     2154,  30.0008, 139.6599,     4.0315,2,     -999.0,9,     -999.0,9,     -999.0,9,     -999.0,9,     0.0134,1,     4.6995,1,     -999.0,9,     -999.0,9,     -999.0,9
33RR20220430,        P02,      19,          1,          8,          8,2,20220508,       2126,    30.0008,   139.6600,       2234,  1148.5,2,   3.5492,2,  34.3499,2,  34.3501,2,     48.9,3,    49.9,2,  126.37,2,   41.10,2,    0.00,2,    2.88,2,-999.000,9,-999.000,9,-999.0000,9,  2342.2,2,  2360.1,2,   7.3670,2,    25.02,2, -999.00,9,  -999.0,9, -999.00,1, -999.00,1,     -999.0,9, 20220508,     2151,  30.0008, 139.6599,     3.5480,2,     -999.0,9,     -999.0,9,     -999.0,9,     -999.0,9,     0.0134,1,     4.7000,1,     -999.0,9,     -999.0,9,     -999.0,9
33RR20220430,        P02,      19,          1,          7,          7,2,20220508,       2126,    30.0008,   139.6600,       2234,  1250.2,2,   3.1873,2,  34.3952,2,  34.3963,2,     45.7,3,    46.4,2,  135.94,2,   41.69,2,    0.00,2,    2.95,2,-999.000,9,-999.000,9,-999.0000,9,  2355.6,6,  2373.6,2,   7.3615,2,    25.04,2, -999.00,9,  -999.0,9, -999.00,1, -999.00,1,     -999.0,9, 20220508,     2149,  30.0008, 139.6599,     3.1851,2,     -999.0,9,     -999.0,9,     -999.0,9,     -999.0,9,     0.0134,1,     4.7007,1,     -999.0,9,     -999.0,9,     -999.0,9
33RR20220430,        P02,      19,          1,          6,          6,2,20220508,       2126,    30.0008,   139.6600,       2234,  1350.9,2,   2.9717,2,  34.4422,2,  34.4420,2,     53.0,2,    52.8,2,  140.24,2,   41.83,2,    0.00,2,    2.92,2,-999.000,9,-999.000,9,-999.0000,9,  2356.1,2,  2380.1,2,   7.3823,2,    25.02,2, -999.00,9,  -999.0,9, -999.00,9, -999.00,9,     -999.0,9, 20220508,     2146,  30.0008, 139.6599,     2.9715,2,     -999.0,9,     -999.0,9,     -999.0,9,     -999.0,9,     0.0134,1,     4.7007,1,     -999.0,9,     -999.0,9,     -999.0,9
33RR20220430,        P02,      19,          1,          5,          5,2,20220508,       2126,    30.0008,   139.6600,       2234,  1482.8,2,   2.6919,2,  34.4807,2,  34.4815,2,     55.6,2,    55.7,2,  146.97,2,   41.78,2,    0.00,2,    2.92,2,-999.000,9,-999.000,9,-999.0000,9,  2362.5,2,  2388.9,2,   7.3888,2,    25.04,2, -999.00,9,  -999.0,9, -999.00,1, -999.00,1,     -999.0,9, 20220508,     2143,  30.0008, 139.6599,     2.6919,2,     -999.0,9,     -999.0,9,     -999.0,9,     -999.0,9,     0.0134,1,     4.7016,1,     -999.0,9,     -999.0,9,     -999.0,9
33RR20220430,        P02,      19,          1,          4,          4,2,20220508,       2126,    30.0008,   139.6600,       2234,  1684.9,2,   2.3338,2,  34.5363,2,  34.5360,2,     67.5,2,    67.4,2,  153.12,2,   41.19,2,    0.00,2,    2.87,2,-999.000,9,-999.000,9,-999.0000,9,  2364.0,2,  2398.0,2,   7.4170,2,    25.06,2, -999.00,9,  -999.0,9, -999.00,1, -999.00,1,     -999.0,9, 20220508,     2138,  30.0008, 139.6599,     2.3343,2,     -999.0,9,     -999.0,9,     -999.0,9,     -999.0,9,     0.0134,1,     4.7031,1,     -999.0,9,     -999.0,9,     -999.0,9
33RR20220430,        P02,      19,          1,          3,          3,2,20220508,       2126,    30.0008,   139.6600,       2234,  1887.1,2,   2.0994,2,  34.5735,2,  34.5743,2,     80.9,2,    80.6,2,  155.76,2,   40.66,2,    0.00,2,    2.81,2,-999.000,9,-999.000,9,-999.0000,9,  2361.6,2,  2403.9,2,   7.4385,2,    24.95,2, -999.00,9,  -999.0,9, -999.00,1, -999.00,1,     -999.0,9, 20220508,     2134,  30.0008, 139.6599,     2.0995,2,     -999.0,9,     -999.0,9,     -999.0,9,     -999.0,9,     0.0128,1,     4.7030,1,     -999.0,9,     -999.0,9,     -999.0,9
33RR20220430,        P02,      19,          1,          2,          2,2,20220508,       2126,    30.0008,   139.6600,       2234,  2066.1,2,   1.9687,2,  34.5964,2,  34.5965,2,     94.0,2,    93.6,2,  154.49,2,   39.64,2,    0.00,2,    2.75,2,-999.000,9,-999.000,9,-999.0000,9,  2355.3,2,  2406.8,2,   7.4663,2,    25.01,2, -999.00,9,  -999.0,9, -999.00,1, -999.00,1,     -999.0,9, 20220508,     2130,  30.0008, 139.6599,     1.9686,2,     -999.0,9,     -999.0,9,     -999.0,9,     -999.0,9,     0.0134,1,     4.7034,1,     -999.0,9,     -999.0,9,     -999.0,9
33RR20220430,        P02,      19,          1,          1,          1,2,20220508,       2126,    30.0008,   139.6600,       2234,  2250.7,2,   1.8410,2,  34.6178,2,  34.6185,2,    107.2,2,   107.8,2,  152.82,2,   38.65,2,    0.00,2,    2.68,2,-999.000,9,-999.000,9,-999.0000,9,  2350.0,2,  2408.8,2,   7.4930,2,    24.99,2, -999.00,9,  -999.0,9, -999.00,1, -999.00,1,     -999.0,9, 20220508,     2126,  30.0008, 139.6599,     1.8412,2,     -999.0,9,     -999.0,9,     -999.0,9,     -999.0,9,     0.0131,1,     4.7033,1,     -999.0,9,     -999.0,9,     -999.0,9