BOTTLE,20230801CCHSIOCBG
EXPOCODE,SECT_ID,STNNBR,CASTNO,SAMPNO,BTLNBR,BTLNBR_FLAG_W,DATE,TIME,LATITUDE,LONGITUDE,DEPTH,CTDPRS,CTDPRS_FLAG_W,CTDTMP,CTDTMP_FLAG_W,CTDSAL,CTDSAL_FLAG_W,SALNTY,SALNTY_FLAG_W,CTDOXY,CTDOXY_FLAG_W,OXYGEN,OXYGEN_FLAG_W,SILCAT,SILCAT_FLAG_W,NITRAT,NITRAT_FLAG_W,NITRIT,NITRIT_FLAG_W,PHSPHT,PHSPHT_FLAG_W,CFC-11,CFC-11_FLAG_W,CFC-12,CFC-12_FLAG_W,SF6,SF6_FLAG_W,TCARBN,TCARBN_FLAG_W,ALKALI,ALKALI_FLAG_W,PH_TOT,PH_TOT_FLAG_W,PH_TMP,PH_TMP_FLAG_W,DELC13,DELC13_FLAG_W,DELC14,DELC14_FLAG_W,DOC,DOC_FLAG_W,TDN,TDN_FLAG_W,N2O,N2O_FLAG_W,BTL_DATE,BTL_TIME,BTL_LAT,BTL_LON,REFTMP,REFTMP_FLAG_W,POC,POC_FLAG_W,PON,PON_FLAG_W,POP,POP_FLAG_W,PCOD,PCOD_FLAG_W,CTDFLUOR,CTDFLUOR_FLAG_W,CTDXMISS,CTDXMISS_FLAG_W,HPLC,HPLC_FLAG_W,DNA,DNA_FLAG_W,FCM,FCM_FLAG_W
,,,,,,,,,,,METERS,DBAR,,ITS-90,,PSS-78,,PSS-78,,UMOL/KG,,UMOL/KG,,UMOL/KG,,UMOL/KG,,UMOL/KG,,UMOL/KG,,PMOL/KG,,PMOL/KG,,FMOL/KG,,UMOL/KG,,UMOL/KG,,,,DEG C,,/MILLE,,/MILLE,,UMOL/KG,,UMOL/KG,,NMOL/KG,,,,,,ITS-90,,UG/L,,UG/L,,UG/L,,UG/L,,VOLTS,,VOLTS,,,,,,,
33RR20220430,        P02,      22,          1,         36,         36,2,20220509,       1837,    30.0002,   142.2562,       5949,    11.1,2,  21.0373,2,  34.6915,2,  34.6840,2,    227.9,2,   226.4,2,    0.98,2,    0.01,2,    0.00,2,    0.00,2,   1.781,2,   1.178,2,   1.8217,2,  2000.7,2,  2278.6,2,   8.0067,2,    25.02,2, -999.00,9,  -999.0,9, -999.00,9, -999.00,9,        6.8,2, 20220509,     2054,  30.0002, 142.2562,    21.0460,2,     -999.0,9,     -999.0,9,     -999.0,9,     -999.0,9,     0.0148,1,     4.6275,1,     -999.0,9,     -999.0,9,     -999.0,9
33RR20220430,        P02,      22,          1,         35,         35,2,20220509,       1837,    30.0002,   142.2562,       5949,    36.5,2,  19.5890,2,  34.6753,2,  34.6682,2,    236.9,2,   236.2,2,    0.68,2,    0.00,2,    0.00,2,    0.00,2,   1.849,2,   1.271,2,   1.7990,2,  2003.4,2,  2277.8,2,   8.0099,2,    24.94,2, -999.00,9,  -999.0,9, -999.00,9, -999.00,9,        7.2,2, 20220509,     2052,  30.0002, 142.2562,    19.5670,2,     -999.0,9,     -999.0,9,     -999.0,9,     -999.0,9,     0.0209,1,     4.6264,1,     -999.0,9,     -999.0,9,     -999.0,9
33RR20220430,        P02,      22,          1,         34,         34,2,20220509,       1837,    30.0002,   142.2562,       5949,    61.1,2,  18.2054,2,  34.6985,2,  34.6908,2,    234.6,2,   235.9,2,    0.68,2,    0.00,2,    0.01,2,    0.03,2,   1.957,2,   1.281,2,   1.9424,2,  2010.7,2,  2279.9,2,   7.9930,2,    25.04,2, -999.00,9,  -999.0,9, -999.00,9, -999.00,9,        7.7,2, 20220509,     2050,  30.0002, 142.2562,    18.2058,2,     -999.0,9,     -999.0,9,     -999.0,9,     -999.0,9,     0.0386,1,     4.5994,1,     -999.0,9,     -999.0,9,     -999.0,9
33RR20220430,        P02,      22,          1,         33,         33,2,20220509,       1837,    30.0002,   142.2562,       5949,    88.1,2,  17.7323,2,  34.7504,2,  34.7443,2,    221.8,2,   222.3,2,    2.15,2,    1.97,2,    0.05,2,    0.14,2,   1.962,2,   1.287,2,   1.8279,2,  2027.1,2,  2280.8,2,   7.9645,2,    25.01,2, -999.00,9,  -999.0,9, -999.00,9, -999.00,9,        8.4,2, 20220509,     2048,  30.0002, 142.2562,    17.7314,2,     -999.0,9,     -999.0,9,     -999.0,9,     -999.0,9,     0.0280,1,     4.6437,1,     -999.0,9,     -999.0,9,     -999.0,9
33RR20220430,        P02,      22,          1,         32,         32,2,20220509,       1837,    30.0002,   142.2562,       5949,   118.4,2,  17.5592,2,  34.7624,2,  34.7561,2,    215.9,2,   215.7,2,    2.74,2,    2.91,2,    0.01,2,    0.19,2,   1.998,2,   1.362,2,   1.8659,2,  2033.9,2,  2279.2,2,   7.9501,2,    25.00,2, -999.00,9,  -999.0,9, -999.00,9, -999.00,9,        8.8,2, 20220509,     2046,  30.0002, 142.2562,    17.5574,2,     -999.0,9,     -999.0,9,     -999.0,9,     -999.0,9,     0.0147,1,     4.6777,1,     -999.0,9,     -999.0,9,     -999.0,9
33RR20220430,        P02,      22,          1,         31,         31,2,20220509,       1837,    30.0002,   142.2562,       5949,   168.4,2,  17.3591,2,  34.7555,2,  34.7498,2,    219.1,2,   219.0,2,    3.03,2,    2.99,2,    0.01,2,    0.19,2,   2.027,2,   1.296,2,   2.0185,2,  2033.0,2,  2279.9,2,   7.9528,2,    25.03,2, -999.00,9,  -999.0,9, -999.00,9, -999.00,9,        8.6,2, 20220509,     2045,  30.0002, 142.2562,    17.3581,2,     -999.0,9,     -999.0,9,     -999.0,9,     -999.0,9,     0.0134,1,     4.6828,1,     -999.0,9,     -999.0,9,     -999.0,9
33RR20220430,        P02,      22,          1,         30,         30,2,20220509,       1837,    30.0002,   142.2562,       5949,   218.4,2,  17.0464,2,  34.7409,2,  34.7351,2,    217.3,2,   217.4,2,    3.52,2,    3.66,2,    0.00,2,    0.23,2,   2.071,2,   1.316,2,   1.8135,2,  2041.3,2,  2280.0,2,   7.9434,2,    25.03,2, -999.00,9,  -999.0,9, -999.00,9, -999.00,9,        9.0,2, 20220509,     2043,  30.0002, 142.2562,    17.0438,2,     -999.0,9,     -999.0,9,     -999.0,9,     -999.0,9,     0.0134,1,     4.6870,1,     -999.0,9,     -999.0,9,     -999.0,9
33RR20220430,        P02,      22,          1,         29,         29,2,20220509,       1837,    30.0002,   142.2562,       5949,   267.8,2,  16.6668,2,  34.7180,2,  34.7127,2,    213.7,2,   213.9,2,    4.59,2,    4.76,2,    0.00,2,    0.30,2,   2.119,2,   1.393,2,   1.8536,2,  2048.9,2,  2278.6,2,   7.9272,2,    25.02,2, -999.00,9,  -999.0,9, -999.00,9, -999.00,9,        9.6,2, 20220509,     2041,  30.0002, 142.2562,    16.6667,2,     -999.0,9,     -999.0,9,     -999.0,9,     -999.0,9,     0.0124,1,     4.6895,1,     -999.0,9,     -999.0,9,     -999.0,9
33RR20220430,        P02,      22,          1,         28,         28,2,20220509,       1837,    30.0002,   142.2562,       5949,   319.0,2,  16.0729,2,  34.6646,2,  34.6584,2,    196.1,2,   196.0,2,    6.84,2,    7.33,2,    0.00,2,    0.46,2,   2.263,2,   1.415,2,   1.7880,2,  2068.0,2,  2278.6,2,   7.8845,2,    25.00,2, -999.00,9,  -999.0,9, -999.00,9, -999.00,9,       11.1,2, 20220509,     2039,  30.0002, 142.2563,    16.0722,2,     -999.0,9,     -999.0,9,     -999.0,9,     -999.0,9,     0.0130,1,     4.6933,1,     -999.0,9,     -999.0,9,     -999.0,9
33RR20220430,        P02,      22,          1,         27,         27,2,20220509,       1837,    30.0002,   142.2562,       5949,   369.3,2,  15.0051,2,  34.5798,2,  34.5743,2,    189.6,2,   189.9,2,   10.06,2,    9.51,2,    0.00,2,    0.63,2,   2.391,2,   1.423,2,   1.5513,2,  2078.2,2,  2274.6,2,   7.8468,2,    25.08,2, -999.00,9,  -999.0,9, -999.00,9, -999.00,9,       12.7,2, 20220509,     2037,  30.0002, 142.2563,    15.0056,2,     -999.0,9,     -999.0,9,     -999.0,9,     -999.0,9,     0.0122,1,     4.6949,1,     -999.0,9,     -999.0,9,     -999.0,9
33RR20220430,        P02,      22,          1,         26,         26,2,20220509,       1837,    30.0002,   142.2562,       5949,   438.9,2,  13.5746,2,  34.4718,2,  34.4669,2,    183.7,2,   184.1,2,   14.95,2,   12.35,2,    0.00,2,    0.83,2,-999.000,9,-999.000,9,-999.0000,9,  -999.0,9,  -999.0,9,-999.0000,9,  -999.00,9, -999.00,9,  -999.0,9, -999.00,9, -999.00,9,     -999.0,9, 20220509,     2035,  30.0002, 142.2563,    13.5749,2,     -999.0,9,     -999.0,9,     -999.0,9,     -999.0,9,     0.0129,1,     4.6980,1,     -999.0,9,     -999.0,9,     -999.0,9
33RR20220430,        P02,      22,          1,         25,         25,2,20220509,       1837,    30.0002,   142.2562,       5949,   541.0,2,  10.2084,2,  34.2267,2,  34.2236,2,    174.5,2,   174.8,2,   28.34,2,   18.64,2,    0.00,2,    1.30,2,   2.691,2,   1.480,2,   1.2866,2,  2145.6,2,  2274.5,2,   7.6976,2,    25.00,2, -999.00,9,  -999.0,9, -999.00,9, -999.00,9,       20.5,2, 20220509,     2033,  30.0002, 142.2562,    10.2102,2,     -999.0,9,     -999.0,9,     -999.0,9,     -999.0,9,     0.0122,1,     4.7020,1,     -999.0,9,     -999.0,9,     -999.0,9
33RR20220430,        P02,      22,          1,         24,         24,2,20220509,       1837,    30.0002,   142.2562,       5949,   642.4,2,   7.6217,2,  34.0605,2,  34.0572,2,    155.5,2,   155.2,2,   45.74,2,   25.39,2,    0.00,2,    1.80,2,-999.000,9,-999.000,9,-999.0000,9,  -999.0,9,  -999.0,9,-999.0000,9,  -999.00,9, -999.00,9,  -999.0,9, -999.00,9, -999.00,9,     -999.0,9, 20220509,     2030,  30.0002, 142.2562,     7.6097,2,     -999.0,9,     -999.0,9,     -999.0,9,     -999.0,9,     0.0122,1,     4.7055,1,     -999.0,9,     -999.0,9,     -999.0,9
33RR20220430,        P02,      22,          1,         23,         23,2,20220509,       1837,    30.0002,   142.2562,       5949,   742.2,2,   5.7406,2,  34.0449,2,  34.0456,2,    110.7,2,   111.0,2,   69.10,2,   32.67,2,    0.00,2,    2.32,2,   1.773,2,   1.068,2,   0.6087,2,  2247.6,2,  2296.2,2,   7.4666,2,    25.00,2, -999.00,9,  -999.0,9, -999.00,9, -999.00,9,       33.9,2, 20220509,     2027,  30.0002, 142.2562,     5.7204,2,     -999.0,9,     -999.0,9,     -999.0,9,     -999.0,9,     0.0122,1,     4.7061,1,     -999.0,9,     -999.0,9,     -999.0,9
33RR20220430,        P02,      22,          1,         22,         22,2,20220509,       1837,    30.0002,   142.2562,       5949,   843.2,2,   4.6766,2,  34.1508,2,  34.1524,2,     68.7,2,    68.4,2,   93.72,2,   38.06,2,    0.00,2,    2.71,2,-999.000,9,-999.000,9,-999.0000,9,  -999.0,9,  -999.0,9,-999.0000,9,  -999.00,9, -999.00,9,  -999.0,9, -999.00,9, -999.00,9,     -999.0,9, 20220509,     2025,  30.0002, 142.2562,     4.6668,2,     -999.0,9,     -999.0,9,     -999.0,9,     -999.0,9,     0.0134,1,     4.7065,1,     -999.0,9,     -999.0,9,     -999.0,9
33RR20220430,        P02,      22,          1,         21,         21,2,20220509,       1837,    30.0002,   142.2562,       5949,   944.2,2,   4.1077,2,  34.2340,2,  34.2344,2,     50.7,3,    51.2,2,  108.96,2,   40.12,2,    0.00,2,    2.86,2,   0.635,6,   0.386,6,   0.0000,6,  2325.6,2,  2338.8,2,   7.3580,2,    25.00,2, -999.00,9,  -999.0,9, -999.00,9, -999.00,9,       47.0,6, 20220509,     2022,  30.0002, 142.2562,     4.1347,2,     -999.0,9,     -999.0,9,     -999.0,9,     -999.0,9,     0.0134,1,     4.7062,1,     -999.0,9,     -999.0,9,     -999.0,9
33RR20220430,        P02,      22,          1,         20,         20,2,20220509,       1837,    30.0002,   142.2562,       5949,  1045.1,2,   3.6714,2,  34.3065,2,  34.3056,2,     41.8,2,    41.9,2,  121.07,2,   41.60,2,    0.00,2,    2.96,2,-999.000,9,-999.000,9,-999.0000,9,  -999.0,9,  -999.0,9,-999.0000,9,  -999.00,9, -999.00,9,  -999.0,9, -999.00,9, -999.00,9,     -999.0,9, 20220509,     2018,  30.0002, 142.2562,     3.6906,2,     -999.0,9,     -999.0,9,     -999.0,9,     -999.0,9,     0.0134,1,     4.7066,1,     -999.0,9,     -999.0,9,     -999.0,9
33RR20220430,        P02,      22,          1,         19,         19,2,20220509,       1837,    30.0002,   142.2562,       5949,  1148.0,2,   3.3072,2,  34.3662,2,  34.3623,2,     38.9,2,    38.6,2,  131.13,2,   42.00,2,    0.00,2,    3.01,2,   0.227,2,   0.139,2,   0.0000,2,  2356.0,2,  2365.1,2,   7.3452,2,    25.04,2, -999.00,9,  -999.0,9, -999.00,9, -999.00,9,       50.6,2, 20220509,     2016,  30.0002, 142.2562,     3.3286,2,     -999.0,9,     -999.0,9,     -999.0,9,     -999.0,9,     0.0134,1,     4.7063,1,     -999.0,9,     -999.0,9,     -999.0,9
33RR20220430,        P02,      22,          1,         18,         18,2,20220509,       1837,    30.0002,   142.2562,       5949,  1249.0,2,   3.0193,2,  34.4123,2,  34.4127,2,     38.5,2,    38.7,2,  139.72,2,   42.26,2,    0.00,2,    3.03,2,   0.140,2,   0.079,2,   0.0000,2,  2365.4,6,  2377.1,2,   7.3495,2,    25.02,2, -999.00,9,  -999.0,9, -999.00,9, -999.00,9,       48.9,2, 20220509,     2013,  30.0002, 142.2562,     3.0219,2,     -999.0,9,     -999.0,9,     -999.0,9,     -999.0,9,     0.0134,1,     4.7065,1,     -999.0,9,     -999.0,9,     -999.0,9
33RR20220430,        P02,      22,          1,         17,         17,2,20220509,       1837,    30.0002,   142.2562,       5949,  1349.3,2,   2.8029,2,  34.4504,2,  34.4504,2,     41.4,2,    41.0,2,  145.38,2,   42.64,2,    0.00,2,    3.04,2,-999.000,9,-999.000,9,-999.0000,9,  -999.0,9,  -999.0,9,-999.0000,9,  -999.00,9, -999.00,9,  -999.0,9, -999.00,9, -999.00,9,     -999.0,9, 20220509,     2010,  30.0002, 142.2562,     2.8005,2,     -999.0,9,     -999.0,9,     -999.0,9,     -999.0,9,     0.0134,1,     4.7069,1,     -999.0,9,     -999.0,9,     -999.0,9
33RR20220430,        P02,      22,          1,         16,         16,2,20220509,       1837,    30.0002,   142.2562,       5949,  1481.3,2,   2.5850,2,  34.4933,2,  34.4921,2,     47.9,2,    48.2,2,  149.97,2,   42.19,2,    0.00,2,    3.00,2,   0.046,2,   0.030,2,   0.0000,2,  2371.7,2,  2392.0,2,   7.3739,2,    24.98,2, -999.00,9,  -999.0,9, -999.00,9, -999.00,9,       45.2,2, 20220509,     2007,  30.0002, 142.2562,     2.5828,2,     -999.0,9,     -999.0,9,     -999.0,9,     -999.0,9,     0.0134,1,     4.7078,1,     -999.0,9,     -999.0,9,     -999.0,9
33RR20220430,        P02,      22,          1,         15,         15,2,20220509,       1837,    30.0002,   142.2562,       5949,  1683.0,2,   2.2849,2,  34.5355,2,  34.5353,2,     52.9,3,    53.5,2,  158.56,2,   42.04,2,    0.00,2,    2.99,2,-999.000,5,-999.000,5,-999.0000,5,  2376.3,2,  2400.8,2,   7.3848,2,    25.00,2, -999.00,9,  -999.0,9, -999.00,9, -999.00,9,       45.7,2, 20220509,     2003,  30.0002, 142.2562,     2.2858,2,     -999.0,9,     -999.0,9,     -999.0,9,     -999.0,9,     0.0134,1,     4.7076,1,     -999.0,9,     -999.0,9,     -999.0,9
33RR20220430,        P02,      22,          1,         14,         14,2,20220509,       1837,    30.0002,   142.2562,       5949,  1886.0,2,   2.0654,2,  34.5751,2,  34.5751,2,     67.8,2,    67.5,2,  161.10,2,   41.11,2,    0.00,2,    2.92,2,-999.000,9,-999.000,9,-999.0000,9,  -999.0,9,  -999.0,9,-999.0000,9,  -999.00,9, -999.00,9,  -999.0,9, -999.00,9, -999.00,9,     -999.0,9, 20220509,     1958,  30.0002, 142.2562,     2.0655,2,     -999.0,9,     -999.0,9,     -999.0,9,     -999.0,9,     0.0134,1,     4.7081,1,     -999.0,9,     -999.0,9,     -999.0,9
33RR20220430,        P02,      22,          1,         13,         13,2,20220509,       1837,    30.0002,   142.2562,       5949,  2116.0,2,   1.8979,2,  34.6061,2,  34.6066,2,     87.5,2,    87.5,2,  159.92,2,   39.82,2,    0.00,2,    2.83,2,   0.008,2,   0.004,2,   0.0000,2,  2362.8,2,  2408.3,2,   7.4549,2,    25.04,2, -999.00,9,  -999.0,9, -999.00,9, -999.00,9,       35.6,2, 20220509,     1954,  30.0002, 142.2562,     1.8974,2,     -999.0,9,     -999.0,9,     -999.0,9,     -999.0,9,     0.0134,1,     4.7093,1,     -999.0,9,     -999.0,9,     -999.0,9
33RR20220430,        P02,      22,          1,         12,         12,2,20220509,       1837,    30.0002,   142.2562,       5949,  2370.4,2,   1.7555,2,  34.6303,2,  34.6307,2,    103.5,2,   103.4,2,  158.65,2,   39.04,2,    0.00,2,    2.76,2,-999.000,9,-999.000,9,-999.0000,9,  -999.0,9,  -999.0,9,-999.0000,9,  -999.00,9, -999.00,9,  -999.0,9, -999.00,9, -999.00,9,     -999.0,9, 20220509,     1948,  30.0002, 142.2562,     1.7571,2,     -999.0,9,     -999.0,9,     -999.0,9,     -999.0,9,     0.0133,1,     4.7094,1,     -999.0,9,     -999.0,9,     -999.0,9
33RR20220430,        P02,      22,          1,         11,         11,2,20220509,       1837,    30.0002,   142.2562,       5949,  2623.8,2,   1.6524,2,  34.6476,2,  34.6476,2,    118.1,2,   117.8,2,  156.01,2,   38.02,2,    0.00,2,    2.70,2,   0.012,2,   0.005,2,   0.0000,2,  2344.6,2,  2413.8,2,   7.5122,2,    25.02,2, -999.00,9,  -999.0,9, -999.00,9, -999.00,9,       29.9,2, 20220509,     1943,  30.0002, 142.2562,     1.6523,2,     -999.0,9,     -999.0,9,     -999.0,9,     -999.0,9,     0.0133,1,     4.7107,1,     -999.0,9,     -999.0,9,     -999.0,9
33RR20220430,        P02,      22,          1,         10,         10,2,20220509,       1837,    30.0002,   142.2562,       5949,  2879.4,2,   1.5918,2,  34.6578,2,  34.6586,2,    126.6,2,   126.3,2,  153.57,2,   37.44,2,    0.00,2,    2.65,2,-999.000,9,-999.000,9,-999.0000,9,  -999.0,9,  -999.0,9,-999.0000,9,  -999.00,9, -999.00,9,  -999.0,9, -999.00,9, -999.00,9,     -999.0,9, 20220509,     1938,  30.0002, 142.2562,     1.5920,2,     -999.0,9,     -999.0,9,     -999.0,9,     -999.0,9,     0.0125,1,     4.7105,1,     -999.0,9,     -999.0,9,     -999.0,9
33RR20220430,        P02,      22,          1,          9,          9,2,20220509,       1837,    30.0002,   142.2562,       5949,  3149.7,2,   1.5325,2,  34.6664,2,  34.6659,2,    133.5,2,   134.2,2,  153.96,2,   36.98,2,    0.00,2,    2.62,2,-999.000,5,-999.000,5,-999.0000,5,  2336.0,2,  2414.7,2,   7.5402,2,    25.02,2, -999.00,9,  -999.0,9, -999.00,9, -999.00,9,       28.7,2, 20220509,     1932,  30.0002, 142.2562,     1.5328,2,     -999.0,9,     -999.0,9,     -999.0,9,     -999.0,9,     0.0130,1,     4.7079,1,     -999.0,9,     -999.0,9,     -999.0,9
33RR20220430,        P02,      22,          1,          8,          8,2,20220509,       1837,    30.0002,   142.2562,       5949,  3455.2,2,   1.4862,2,  34.6745,2,  34.6745,2,    141.7,2,   141.7,2,  152.49,2,   36.51,2,    0.00,2,    2.57,2,-999.000,9,-999.000,9,-999.0000,9,  -999.0,9,  -999.0,9,-999.0000,9,  -999.00,9, -999.00,9,  -999.0,9, -999.00,9, -999.00,9,     -999.0,9, 20220509,     1926,  30.0002, 142.2562,     1.4865,2,     -999.0,9,     -999.0,9,     -999.0,9,     -999.0,9,     0.0122,1,     4.7068,1,     -999.0,9,     -999.0,9,     -999.0,9
33RR20220430,        P02,      22,          1,          7,          7,2,20220509,       1837,    30.0002,   142.2562,       5949,  3798.2,2,   1.4653,2,  34.6804,2,  34.6798,2,    148.2,2,   148.8,2,  151.12,2,   36.47,2,    0.00,2,    2.53,2,   0.006,2,   0.000,2,   0.0000,2,  2326.4,2,  2414.3,2,   7.5653,2,    25.02,2, -999.00,9,  -999.0,9, -999.00,9, -999.00,9,       25.2,2, 20220509,     1920,  30.0002, 142.2562,     1.4653,2,     -999.0,9,     -999.0,9,     -999.0,9,     -999.0,9,     0.0122,1,     4.7064,1,     -999.0,9,     -999.0,9,     -999.0,9
33RR20220430,        P02,      22,          1,          6,          6,2,20220509,       1837,    30.0002,   142.2562,       5949,  4206.9,2,   1.4524,2,  34.6860,2,  34.6861,2,    155.5,2,   155.5,2,  148.58,2,   35.85,2,    0.00,2,    2.49,2,   0.006,2,   0.000,2,   0.0000,2,  2319.4,2,  2413.3,2,   7.5766,2,    24.94,2, -999.00,9,  -999.0,9, -999.00,9, -999.00,9,       23.6,2, 20220509,     1912,  30.0002, 142.2562,     1.4523,2,     -999.0,9,     -999.0,9,     -999.0,9,     -999.0,9,     0.0122,1,     4.7056,1,     -999.0,9,     -999.0,9,     -999.0,9
33RR20220430,        P02,      22,          1,          5,          5,2,20220509,       1837,    30.0002,   142.2562,       5949,  4618.7,2,   1.4764,2,  34.6885,2,  34.6887,2,    158.8,2,   159.1,2,  147.31,2,   35.54,2,    0.00,2,    2.47,2,   0.007,2,   0.000,2,   0.0000,2,  2317.2,2,  2413.2,2,-999.0000,1,  -999.00,1, -999.00,9,  -999.0,9, -999.00,9, -999.00,9,       23.3,2, 20220509,     1904,  30.0002, 142.2562,     1.4763,2,     -999.0,9,     -999.0,9,     -999.0,9,     -999.0,9,     0.0122,1,     4.7044,1,     -999.0,9,     -999.0,9,     -999.0,9
33RR20220430,        P02,      22,          1,          4,          4,2,20220509,       1837,    30.0002,   142.2562,       5949,  5030.8,2,   1.5136,2,  34.6896,2,  34.6895,2,    160.9,2,   161.3,2,  145.95,2,   35.32,2,    0.00,2,    2.47,2,-999.000,9,-999.000,9,-999.0000,9,  -999.0,9,  -999.0,9,-999.0000,9,  -999.00,9, -999.00,9,  -999.0,9, -999.00,9, -999.00,9,     -999.0,9, 20220509,     1857,  30.0002, 142.2562,     1.5135,2,     -999.0,9,     -999.0,9,     -999.0,9,     -999.0,9,     0.0126,1,     4.7023,1,     -999.0,9,     -999.0,9,     -999.0,9