BOTTLE,20230801CCHSIOCBG
EXPOCODE,SECT_ID,STNNBR,CASTNO,SAMPNO,BTLNBR,BTLNBR_FLAG_W,DATE,TIME,LATITUDE,LONGITUDE,DEPTH,CTDPRS,CTDPRS_FLAG_W,CTDTMP,CTDTMP_FLAG_W,CTDSAL,CTDSAL_FLAG_W,SALNTY,SALNTY_FLAG_W,CTDOXY,CTDOXY_FLAG_W,OXYGEN,OXYGEN_FLAG_W,SILCAT,SILCAT_FLAG_W,NITRAT,NITRAT_FLAG_W,NITRIT,NITRIT_FLAG_W,PHSPHT,PHSPHT_FLAG_W,CFC-11,CFC-11_FLAG_W,CFC-12,CFC-12_FLAG_W,SF6,SF6_FLAG_W,TCARBN,TCARBN_FLAG_W,ALKALI,ALKALI_FLAG_W,PH_TOT,PH_TOT_FLAG_W,PH_TMP,PH_TMP_FLAG_W,DELC13,DELC13_FLAG_W,DELC14,DELC14_FLAG_W,DOC,DOC_FLAG_W,TDN,TDN_FLAG_W,N2O,N2O_FLAG_W,BTL_DATE,BTL_TIME,BTL_LAT,BTL_LON,REFTMP,REFTMP_FLAG_W,POC,POC_FLAG_W,PON,PON_FLAG_W,POP,POP_FLAG_W,PCOD,PCOD_FLAG_W,CTDFLUOR,CTDFLUOR_FLAG_W,CTDXMISS,CTDXMISS_FLAG_W,HPLC,HPLC_FLAG_W,DNA,DNA_FLAG_W,FCM,FCM_FLAG_W
,,,,,,,,,,,METERS,DBAR,,ITS-90,,PSS-78,,PSS-78,,UMOL/KG,,UMOL/KG,,UMOL/KG,,UMOL/KG,,UMOL/KG,,UMOL/KG,,PMOL/KG,,PMOL/KG,,FMOL/KG,,UMOL/KG,,UMOL/KG,,,,DEG C,,/MILLE,,/MILLE,,UMOL/KG,,UMOL/KG,,NMOL/KG,,,,,,ITS-90,,UG/L,,UG/L,,UG/L,,UG/L,,VOLTS,,VOLTS,,,,,,,
33RR20220430,        P02,      35,          2,          3,          3,2,20220514,       0657,    30.0001,   151.2538,       6074,  5268.0,2,   1.5217,2,  34.6915,2,  34.6920,2,    165.9,2,   165.9,2,  140.33,2,   34.96,2,    0.00,2,    2.40,2,   0.009,2,   0.000,2,   0.0000,2,  2310.9,2,  2407.9,2,   7.5909,2,    24.99,2, -999.00,9,  -999.0,9, -999.00,1, -999.00,1,       23.5,2, 20220514,      714,  30.0001, 151.2539,     1.5214,2,     -999.0,9,     -999.0,9,     -999.0,9,     -999.0,9,     0.0122,1,     4.7093,1,     -999.0,9,     -999.0,9,     -999.0,9
33RR20220430,        P02,      35,          2,          2,          2,2,20220514,       0657,    30.0001,   151.2538,       6074,  5769.5,2,   1.5648,2,  34.6933,2,  34.6944,2,    169.5,2,   169.5,2,  137.40,2,   34.54,2,    0.00,2,    2.37,2,-999.000,9,-999.000,9,-999.0000,9,  2307.1,2,  2405.0,2,   7.5954,2,    25.01,2, -999.00,9,  -999.0,9, -999.00,1, -999.00,1,     -999.0,9, 20220514,      704,  30.0001, 151.2539,     1.5643,2,     -999.0,9,     -999.0,9,     -999.0,9,     -999.0,9,     0.0122,1,     4.7068,1,     -999.0,9,     -999.0,9,     -999.0,9
33RR20220430,        P02,      35,          2,          1,          1,2,20220514,       0657,    30.0001,   151.2538,       6074,  6130.2,2,   1.6096,2,  34.6935,2,  34.6948,2,    170.0,2,   170.2,2,  137.40,2,   34.39,2,    0.00,2,    2.38,2,-999.000,9,-999.000,9,-999.0000,9,  2307.7,2,  2405.4,2,   7.5965,2,    25.00,2, -999.00,9,  -999.0,9, -999.00,1, -999.00,1,     -999.0,9, 20220514,      657,  30.0001, 151.2539,     1.6090,2,     -999.0,9,     -999.0,9,     -999.0,9,     -999.0,9,     0.0122,1,     4.7032,1,     -999.0,9,     -999.0,9,     -999.0,9