BOTTLE,20230801CCHSIOCBG
EXPOCODE,SECT_ID,STNNBR,CASTNO,SAMPNO,BTLNBR,BTLNBR_FLAG_W,DATE,TIME,LATITUDE,LONGITUDE,DEPTH,CTDPRS,CTDPRS_FLAG_W,CTDTMP,CTDTMP_FLAG_W,CTDSAL,CTDSAL_FLAG_W,SALNTY,SALNTY_FLAG_W,CTDOXY,CTDOXY_FLAG_W,OXYGEN,OXYGEN_FLAG_W,SILCAT,SILCAT_FLAG_W,NITRAT,NITRAT_FLAG_W,NITRIT,NITRIT_FLAG_W,PHSPHT,PHSPHT_FLAG_W,CFC-11,CFC-11_FLAG_W,CFC-12,CFC-12_FLAG_W,SF6,SF6_FLAG_W,TCARBN,TCARBN_FLAG_W,ALKALI,ALKALI_FLAG_W,PH_TOT,PH_TOT_FLAG_W,PH_TMP,PH_TMP_FLAG_W,DELC13,DELC13_FLAG_W,DELC14,DELC14_FLAG_W,DOC,DOC_FLAG_W,TDN,TDN_FLAG_W,N2O,N2O_FLAG_W,BTL_DATE,BTL_TIME,BTL_LAT,BTL_LON,REFTMP,REFTMP_FLAG_W,POC,POC_FLAG_W,PON,PON_FLAG_W,POP,POP_FLAG_W,PCOD,PCOD_FLAG_W,CTDFLUOR,CTDFLUOR_FLAG_W,CTDXMISS,CTDXMISS_FLAG_W,HPLC,HPLC_FLAG_W,DNA,DNA_FLAG_W,FCM,FCM_FLAG_W
,,,,,,,,,,,METERS,DBAR,,ITS-90,,PSS-78,,PSS-78,,UMOL/KG,,UMOL/KG,,UMOL/KG,,UMOL/KG,,UMOL/KG,,UMOL/KG,,PMOL/KG,,PMOL/KG,,FMOL/KG,,UMOL/KG,,UMOL/KG,,,,DEG C,,/MILLE,,/MILLE,,UMOL/KG,,UMOL/KG,,NMOL/KG,,,,,,ITS-90,,UG/L,,UG/L,,UG/L,,UG/L,,VOLTS,,VOLTS,,,,,,,
33RR20220430,        P02,      58,          1,          3,          3,2,20220521,       1808,    29.9991,   165.6802,       5976,  5441.1,2,   1.5197,2,  34.6927,2,  34.6934,2,    170.4,2,   170.4,2,  137.76,2,   34.82,2,    0.00,2,    2.37,2,-999.000,9,-999.000,9,-999.0000,9,  -999.0,9,  -999.0,9,-999.0000,9,  -999.00,9, -999.00,9,  -999.0,9, -999.00,9, -999.00,9,     -999.0,9, 20220521,     1823,  29.9991, 165.6802,     1.5198,2,     -999.0,9,     -999.0,9,     -999.0,9,     -999.0,9,     0.0121,1,     4.7081,1,     -999.0,9,     -999.0,9,     -999.0,9
33RR20220430,        P02,      58,          1,          2,          2,2,20220521,       1808,    29.9991,   165.6802,       5976,  5818.2,2,   1.5481,2,  34.6940,2,  34.6948,2,    172.9,2,   173.4,2,  136.49,2,   34.67,2,    0.00,2,    2.36,2,-999.000,9,-999.000,9,-999.0000,9,  2305.8,6,  2400.8,2,   7.5962,2,    24.98,2, -999.00,9,  -999.0,9, -999.00,1, -999.00,1,     -999.0,9, 20220521,     1816,  29.9991, 165.6801,     1.5482,2,     -999.0,9,     -999.0,9,     -999.0,9,     -999.0,9,     0.0122,1,     4.7068,1,     -999.0,9,     -999.0,9,     -999.0,9
33RR20220430,        P02,      58,          1,          1,          1,2,20220521,       1808,    29.9991,   165.6802,       5976,  6089.6,2,   1.5667,2,  34.6953,2,  34.6962,2,    175.7,2,   175.5,2,  133.95,2,   34.40,2,    0.00,2,    2.35,2,   0.010,2,   0.000,2,   0.0000,2,  2303.3,2,  2398.6,2,   7.6006,2,    25.01,2, -999.00,9,  -999.0,9, -999.00,1, -999.00,1,       20.4,2, 20220521,     1808,  29.9991, 165.6802,     1.5670,2,     -999.0,9,     -999.0,9,     -999.0,9,     -999.0,9,     0.0122,1,     4.7049,1,     -999.0,9,     -999.0,9,     -999.0,9
33RR20220430,        P02,      59,          1,         10,         10,2,20220521,       2347,    30.0000,   166.2579,       5904,     3.3,2,  23.5073,2,  35.1177,2,-999.0000,9,    207.3,2,  -999.0,9, -999.00,9, -999.00,9, -999.00,9, -999.00,9,-999.000,9,-999.000,9,-999.0000,9,  -999.0,9,  -999.0,9,-999.0000,9,  -999.00,9, -999.00,9,  -999.0,9, -999.00,9, -999.00,9,     -999.0,9, 20220522,       13,  30.0000, 166.2579,    23.4944,2,     -999.0,9,     -999.0,9,     -999.0,9,     -999.0,9,     0.0124,1,     4.6372,1,     -999.0,9,     -999.0,1,     -999.0,9
33RR20220430,        P02,      59,          1,         11,         11,2,20220521,       2347,    30.0000,   166.2579,       5904,     3.4,2,  23.4545,2,  35.1202,2,-999.0000,9,    206.9,2,  -999.0,9, -999.00,9, -999.00,9, -999.00,9, -999.00,9,-999.000,9,-999.000,9,-999.0000,9,  -999.0,9,  -999.0,9,-999.0000,9,  -999.00,9, -999.00,9,  -999.0,9, -999.00,9, -999.00,9,     -999.0,9, 20220522,       13,  30.0000, 166.2579,    23.4583,2,     -999.0,1,     -999.0,1,     -999.0,9,     -999.0,9,     0.0134,1,     4.6366,1,     -999.0,9,     -999.0,9,     -999.0,9
33RR20220430,        P02,      59,          1,         16,         16,2,20220521,       2347,    30.0000,   166.2579,       5904,     3.4,2,  23.4688,2,  35.1165,2,-999.0000,9,    206.9,2,  -999.0,9, -999.00,9, -999.00,9, -999.00,9, -999.00,9,-999.000,9,-999.000,9,-999.0000,9,  -999.0,9,  -999.0,9,-999.0000,9,  -999.00,9, -999.00,9,  -999.0,9, -999.00,9, -999.00,9,     -999.0,9, 20220522,       15,  30.0000, 166.2579,    23.4331,2,     -999.0,9,     -999.0,9,     -999.0,1,     -999.0,9,     0.0134,1,     4.6349,1,     -999.0,9,     -999.0,9,     -999.0,9
33RR20220430,        P02,      59,          1,         13,         13,2,20220521,       2347,    30.0000,   166.2579,       5904,     3.4,2,  23.4791,2,  35.1135,2,-999.0000,9,    207.0,2,  -999.0,9, -999.00,9, -999.00,9, -999.00,9, -999.00,9,-999.000,9,-999.000,9,-999.0000,9,  -999.0,9,  -999.0,9,-999.0000,9,  -999.00,9, -999.00,9,  -999.0,9, -999.00,9, -999.00,9,     -999.0,9, 20220522,       14,  30.0000, 166.2579,    23.4792,2,     -999.0,1,     -999.0,1,     -999.0,9,     -999.0,9,     0.0130,1,     4.6362,1,     -999.0,9,     -999.0,9,     -999.0,9
33RR20220430,        P02,      59,          1,         15,         15,2,20220521,       2347,    30.0000,   166.2579,       5904,     3.5,2,  23.4502,2,  35.1187,2,-999.0000,9,    207.4,2,  -999.0,9, -999.00,9, -999.00,9, -999.00,9, -999.00,9,-999.000,9,-999.000,9,-999.0000,9,  -999.0,9,  -999.0,9,-999.0000,9,  -999.00,9, -999.00,9,  -999.0,9, -999.00,9, -999.00,9,     -999.0,9, 20220522,       15,  30.0000, 166.2579,    23.4251,2,     -999.0,9,     -999.0,9,     -999.0,1,     -999.0,9,     0.0134,1,     4.6346,1,     -999.0,9,     -999.0,9,     -999.0,9
33RR20220430,        P02,      59,          1,         18,         18,2,20220521,       2347,    30.0000,   166.2579,       5904,     3.5,2,  23.4785,2,  35.1145,2,-999.0000,9,    207.5,2,  -999.0,9, -999.00,9, -999.00,9, -999.00,9, -999.00,9,-999.000,9,-999.000,9,-999.0000,9,  -999.0,9,  -999.0,9,-999.0000,9,  -999.00,9, -999.00,9,  -999.0,9, -999.00,9, -999.00,9,     -999.0,9, 20220522,       16,  30.0000, 166.2579,    23.4663,2,     -999.0,9,     -999.0,9,     -999.0,9,     -999.0,1,     0.0124,1,     4.6347,1,     -999.0,9,     -999.0,9,     -999.0,9
33RR20220430,        P02,      59,          1,         12,         12,2,20220521,       2347,    30.0000,   166.2579,       5904,     3.5,2,  23.4819,2,  35.1195,2,-999.0000,9,    206.9,2,  -999.0,9, -999.00,9, -999.00,9, -999.00,9, -999.00,9,-999.000,9,-999.000,9,-999.0000,9,  -999.0,9,  -999.0,9,-999.0000,9,  -999.00,9, -999.00,9,  -999.0,9, -999.00,9, -999.00,9,     -999.0,9, 20220522,       13,  30.0000, 166.2579,    23.4584,2,     -999.0,1,     -999.0,1,     -999.0,9,     -999.0,9,     0.0134,1,     4.6353,1,     -999.0,9,     -999.0,9,     -999.0,9
33RR20220430,        P02,      59,          1,          9,          9,2,20220521,       2347,    30.0000,   166.2579,       5904,     3.7,2,  23.4967,2,  35.1149,2,-999.0000,9,    207.0,2,  -999.0,9, -999.00,9, -999.00,9, -999.00,9, -999.00,9,-999.000,9,-999.000,9,-999.0000,9,  -999.0,9,  -999.0,9,-999.0000,9,  -999.00,9, -999.00,9,  -999.0,9, -999.00,9, -999.00,9,     -999.0,9, 20220522,       12,  30.0000, 166.2579,    23.5019,2,     -999.0,9,     -999.0,9,     -999.0,9,     -999.0,9,     0.0125,1,     4.6381,1,     -999.0,1,     -999.0,9,     -999.0,1
33RR20220430,        P02,      59,          1,         19,         19,2,20220521,       2347,    30.0000,   166.2579,       5904,     3.8,2,  23.5404,2,  35.1113,2,-999.0000,9,    207.1,2,  -999.0,9, -999.00,9, -999.00,9, -999.00,9, -999.00,9,-999.000,9,-999.000,9,-999.0000,9,  -999.0,9,  -999.0,9,-999.0000,9,  -999.00,9, -999.00,9,  -999.0,9, -999.00,9, -999.00,9,     -999.0,9, 20220522,       16,  30.0000, 166.2579,    23.4770,2,     -999.0,9,     -999.0,9,     -999.0,9,     -999.0,1,     0.0122,1,     4.6315,1,     -999.0,9,     -999.0,9,     -999.0,9
33RR20220430,        P02,      59,          1,         17,         17,2,20220521,       2347,    30.0000,   166.2579,       5904,     3.9,2,  23.4601,2,  35.1169,2,-999.0000,9,    207.0,2,  -999.0,9, -999.00,9, -999.00,9, -999.00,9, -999.00,9,-999.000,9,-999.000,9,-999.0000,9,  -999.0,9,  -999.0,9,-999.0000,9,  -999.00,9, -999.00,9,  -999.0,9, -999.00,9, -999.00,9,     -999.0,9, 20220522,       15,  30.0000, 166.2578,    23.4590,2,     -999.0,9,     -999.0,9,     -999.0,9,     -999.0,1,     0.0134,1,     4.6340,1,     -999.0,9,     -999.0,9,     -999.0,9
33RR20220430,        P02,      59,          1,         14,         14,2,20220521,       2347,    30.0000,   166.2579,       5904,     3.9,2,  23.4429,2,  35.1198,2,-999.0000,9,    207.0,2,  -999.0,9, -999.00,9, -999.00,9, -999.00,9, -999.00,9,-999.000,9,-999.000,9,-999.0000,9,  -999.0,9,  -999.0,9,-999.0000,9,  -999.00,9, -999.00,9,  -999.0,9, -999.00,9, -999.00,9,     -999.0,9, 20220522,       14,  30.0000, 166.2579,    23.4398,2,     -999.0,9,     -999.0,9,     -999.0,1,     -999.0,9,     0.0131,1,     4.6353,1,     -999.0,9,     -999.0,9,     -999.0,9
33RR20220430,        P02,      59,          1,          8,          8,2,20220521,       2347,    30.0000,   166.2579,       5904,    36.9,2,  21.1151,2,  34.9383,2,-999.0000,9,    219.9,2,  -999.0,9, -999.00,9, -999.00,9, -999.00,9, -999.00,9,-999.000,9,-999.000,9,-999.0000,9,  -999.0,9,  -999.0,9,-999.0000,9,  -999.00,9, -999.00,9,  -999.0,9, -999.00,9, -999.00,9,     -999.0,9, 20220522,       10,  30.0000, 166.2579,    21.1148,2,     -999.0,9,     -999.0,9,     -999.0,9,     -999.0,9,     0.0134,1,     4.6281,1,     -999.0,1,     -999.0,9,     -999.0,1
33RR20220430,        P02,      59,          1,          7,          7,2,20220521,       2347,    30.0000,   166.2579,       5904,    77.1,2,  18.0536,2,  34.7810,2,-999.0000,9,    216.0,2,  -999.0,9, -999.00,9, -999.00,9, -999.00,9, -999.00,9,-999.000,9,-999.000,9,-999.0000,9,  -999.0,9,  -999.0,9,-999.0000,9,  -999.00,9, -999.00,9,  -999.0,9, -999.00,9, -999.00,9,     -999.0,9, 20220522,        8,  30.0001, 166.2579,    18.0512,2,     -999.0,9,     -999.0,9,     -999.0,9,     -999.0,9,     0.0586,1,     4.5950,1,     -999.0,9,     -999.0,9,     -999.0,1
33RR20220430,        P02,      59,          1,          5,          5,2,20220521,       2347,    30.0000,   166.2579,       5904,   101.4,2,  17.5578,2,  34.7506,2,-999.0000,9,    207.7,2,  -999.0,9, -999.00,9, -999.00,9, -999.00,9, -999.00,9,-999.000,9,-999.000,9,-999.0000,9,  -999.0,9,  -999.0,9,-999.0000,9,  -999.00,9, -999.00,9,  -999.0,9, -999.00,9, -999.00,9,     -999.0,9, 20220522,        6,  30.0000, 166.2579,    17.5454,2,     -999.0,9,     -999.0,9,     -999.0,9,     -999.0,9,     0.0399,1,     4.6412,1,     -999.0,9,     -999.0,1,     -999.0,9
33RR20220430,        P02,      59,          1,          6,          6,2,20220521,       2347,    30.0000,   166.2579,       5904,   102.4,2,  17.5491,2,  34.7502,2,-999.0000,9,    208.0,2,  -999.0,9, -999.00,9, -999.00,9, -999.00,9, -999.00,9,-999.000,9,-999.000,9,-999.0000,9,  -999.0,9,  -999.0,9,-999.0000,9,  -999.00,9, -999.00,9,  -999.0,9, -999.00,9, -999.00,9,     -999.0,9, 20220522,        6,  30.0000, 166.2579,     -999.0,9,     -999.0,9,     -999.0,9,     -999.0,9,     -999.0,9,     0.0342,1,     4.6419,1,     -999.0,1,     -999.0,9,     -999.0,1
33RR20220430,        P02,      59,          1,          4,          4,2,20220521,       2347,    30.0000,   166.2579,       5904,   150.8,2,  16.9548,2,  34.7036,2,-999.0000,9,    199.1,2,  -999.0,9, -999.00,9, -999.00,9, -999.00,9, -999.00,9,-999.000,9,-999.000,9,-999.0000,9,  -999.0,9,  -999.0,9,-999.0000,9,  -999.00,9, -999.00,9,  -999.0,9, -999.00,9, -999.00,9,     -999.0,9, 20220522,        5,  30.0000, 166.2579,    16.9480,2,     -999.0,9,     -999.0,9,     -999.0,9,     -999.0,9,     0.0167,1,     4.6794,1,     -999.0,9,     -999.0,9,     -999.0,1
33RR20220430,        P02,      59,          1,          3,          3,2,20220521,       2347,    30.0000,   166.2579,       5904,   203.2,2,  16.0875,2,  34.6502,2,-999.0000,9,    194.0,2,  -999.0,9, -999.00,9, -999.00,9, -999.00,9, -999.00,9,-999.000,9,-999.000,9,-999.0000,9,  -999.0,9,  -999.0,9,-999.0000,9,  -999.00,9, -999.00,9,  -999.0,9, -999.00,9, -999.00,9,     -999.0,9, 20220522,        3,  30.0000, 166.2579,    16.0798,2,     -999.0,9,     -999.0,9,     -999.0,9,     -999.0,9,     0.0122,1,     4.6898,1,     -999.0,9,     -999.0,1,     -999.0,1
33RR20220430,        P02,      59,          1,          2,          2,2,20220521,       2347,    30.0000,   166.2579,       5904,   507.3,2,   9.3253,2,  34.1219,2,-999.0000,9,    175.1,2,  -999.0,9, -999.00,9, -999.00,9, -999.00,9, -999.00,9,-999.000,9,-999.000,9,-999.0000,9,  -999.0,9,  -999.0,9,-999.0000,9,  -999.00,9, -999.00,9,  -999.0,9, -999.00,9, -999.00,9,     -999.0,9, 20220521,     2357,  30.0000, 166.2579,     9.3266,2,     -999.0,9,     -999.0,9,     -999.0,9,     -999.0,9,     0.0122,1,     4.7030,1,     -999.0,9,     -999.0,9,     -999.0,1
33RR20220430,        P02,      59,          1,          1,          1,2,20220521,       2347,    30.0000,   166.2579,       5904,  1009.9,2,   3.6717,2,  34.2846,2,-999.0000,9,     35.0,2,  -999.0,9, -999.00,9, -999.00,9, -999.00,9, -999.00,9,-999.000,9,-999.000,9,-999.0000,9,  -999.0,9,  -999.0,9,-999.0000,9,  -999.00,9, -999.00,9,  -999.0,9, -999.00,9, -999.00,9,     -999.0,9, 20220521,     2347,  30.0001, 166.2579,     3.6730,2,     -999.0,9,     -999.0,9,     -999.0,9,     -999.0,9,     0.0134,1,     4.7030,1,     -999.0,9,     -999.0,1,     -999.0,1