BOTTLE,20230801CCHSIOCBG
EXPOCODE,SECT_ID,STNNBR,CASTNO,SAMPNO,BTLNBR,BTLNBR_FLAG_W,DATE,TIME,LATITUDE,LONGITUDE,DEPTH,CTDPRS,CTDPRS_FLAG_W,CTDTMP,CTDTMP_FLAG_W,CTDSAL,CTDSAL_FLAG_W,SALNTY,SALNTY_FLAG_W,CTDOXY,CTDOXY_FLAG_W,OXYGEN,OXYGEN_FLAG_W,SILCAT,SILCAT_FLAG_W,NITRAT,NITRAT_FLAG_W,NITRIT,NITRIT_FLAG_W,PHSPHT,PHSPHT_FLAG_W,CFC-11,CFC-11_FLAG_W,CFC-12,CFC-12_FLAG_W,SF6,SF6_FLAG_W,TCARBN,TCARBN_FLAG_W,ALKALI,ALKALI_FLAG_W,PH_TOT,PH_TOT_FLAG_W,PH_TMP,PH_TMP_FLAG_W,DELC13,DELC13_FLAG_W,DELC14,DELC14_FLAG_W,DOC,DOC_FLAG_W,TDN,TDN_FLAG_W,N2O,N2O_FLAG_W,BTL_DATE,BTL_TIME,BTL_LAT,BTL_LON,REFTMP,REFTMP_FLAG_W,POC,POC_FLAG_W,PON,PON_FLAG_W,POP,POP_FLAG_W,PCOD,PCOD_FLAG_W,CTDFLUOR,CTDFLUOR_FLAG_W,CTDXMISS,CTDXMISS_FLAG_W,HPLC,HPLC_FLAG_W,DNA,DNA_FLAG_W,FCM,FCM_FLAG_W
,,,,,,,,,,,METERS,DBAR,,ITS-90,,PSS-78,,PSS-78,,UMOL/KG,,UMOL/KG,,UMOL/KG,,UMOL/KG,,UMOL/KG,,UMOL/KG,,PMOL/KG,,PMOL/KG,,FMOL/KG,,UMOL/KG,,UMOL/KG,,,,DEG C,,/MILLE,,/MILLE,,UMOL/KG,,UMOL/KG,,NMOL/KG,,,,,,ITS-90,,UG/L,,UG/L,,UG/L,,UG/L,,VOLTS,,VOLTS,,,,,,,
33RR20220430,        P02,      28,          1,          3,          3,2,20220511,       1943,    29.9996,   146.5425,       6205,  5441.4,2,   1.5446,2,  34.6881,3,  34.6920,2,    165.6,2,   165.7,2,  140.19,2,   35.05,2,    0.00,2,    2.37,2,   0.012,2,   0.000,2,   0.0000,2,  2311.3,2,  2408.5,2,   7.5894,2,    25.01,2, -999.00,1,  -999.0,1, -999.00,1, -999.00,1,       22.6,2, 20220511,     1956,  29.9996, 146.5425,     1.5481,2,     -999.0,9,     -999.0,9,     -999.0,9,     -999.0,9,     0.0122,1,     4.7093,1,     -999.0,9,     -999.0,9,     -999.0,9
33RR20220430,        P02,      28,          1,          2,          2,2,20220511,       1943,    29.9996,   146.5425,       6205,  5853.7,2,   1.5864,2,  34.6909,3,  34.6930,2,    168.2,2,   168.7,2,  138.04,2,   34.78,2,    0.00,2,    2.35,2,   0.008,2,   0.000,2,   0.0000,2,  2310.5,2,  2405.4,2,   7.5929,2,    24.94,2, -999.00,1,  -999.0,1, -999.00,1, -999.00,1,       22.4,2, 20220511,     1948,  29.9996, 146.5425,     1.5892,2,     -999.0,9,     -999.0,9,     -999.0,9,     -999.0,9,     0.0122,1,     4.7080,1,     -999.0,9,     -999.0,9,     -999.0,9
33RR20220430,        P02,      28,          1,          1,          1,2,20220511,       1943,    29.9996,   146.5425,       6205,  6129.1,2,   1.6203,2,  34.6926,2,  34.6932,2,    169.6,2,   169.3,2,  136.87,2,   34.70,2,    0.00,2,    2.35,2,   0.008,2,   0.000,2,   0.0000,2,  2308.6,6,  2406.4,2,   7.5950,2,    25.02,2, -999.00,1,  -999.0,1, -999.00,1, -999.00,1,       24.0,2, 20220511,     1943,  29.9996, 146.5425,     1.6192,2,     -999.0,9,     -999.0,9,     -999.0,9,     -999.0,9,     0.0122,1,     4.7045,1,     -999.0,9,     -999.0,9,     -999.0,9
33RR20220430,        P02,      29,          1,         14,         14,2,20220512,       0154,    30.0000,   147.2156,       6221,     4.6,2,  21.1913,2,  34.9470,2,-999.0000,9,    214.0,2,  -999.0,9, -999.00,9, -999.00,9, -999.00,9, -999.00,9,-999.000,9,-999.000,9,-999.0000,9,  -999.0,9,  -999.0,9,-999.0000,9,  -999.00,9, -999.00,9,  -999.0,9, -999.00,9, -999.00,9,     -999.0,9, 20220512,      222,  30.0000, 147.2156,     -999.0,9,     -999.0,9,     -999.0,9,     -999.0,1,     -999.0,9,     0.0147,1,     0.0097,1,     -999.0,9,     -999.0,9,     -999.0,9
33RR20220430,        P02,      29,          1,         22,         22,2,20220512,       0154,    30.0000,   147.2156,       6221,     4.8,2,  21.1892,2,  34.9469,2,-999.0000,9,    214.8,2,  -999.0,9, -999.00,9, -999.00,9, -999.00,9, -999.00,9,-999.000,9,-999.000,9,-999.0000,9,  -999.0,9,  -999.0,9,-999.0000,9,  -999.00,9, -999.00,9,  -999.0,9, -999.00,9, -999.00,9,     -999.0,9, 20220512,      224,  30.0000, 147.2156,    21.4025,2,     -999.0,9,     -999.0,9,     -999.0,9,     -999.0,9,     0.0147,1,     0.0097,1,     -999.0,9,     -999.0,9,     -999.0,9
33RR20220430,        P02,      29,          1,          9,          9,2,20220512,       0154,    30.0000,   147.2156,       6221,     4.8,2,  21.1810,2,  34.9466,2,-999.0000,9,    214.3,2,  -999.0,9, -999.00,9, -999.00,9, -999.00,9, -999.00,9,-999.000,9,-999.000,9,-999.0000,9,  -999.0,9,  -999.0,9,-999.0000,9,  -999.00,9, -999.00,9,  -999.0,9, -999.00,9, -999.00,9,     -999.0,9, 20220512,      220,  30.0000, 147.2156,    21.3960,2,     -999.0,9,     -999.0,9,     -999.0,9,     -999.0,9,     0.0147,1,     0.0097,1,     -999.0,1,     -999.0,9,     -999.0,1
33RR20220430,        P02,      29,          1,         17,         17,2,20220512,       0154,    30.0000,   147.2156,       6221,     4.9,2,  21.1938,2,  34.9469,2,-999.0000,9,    214.7,2,  -999.0,9, -999.00,9, -999.00,9, -999.00,9, -999.00,9,-999.000,9,-999.000,9,-999.0000,9,  -999.0,9,  -999.0,9,-999.0000,9,  -999.00,9, -999.00,9,  -999.0,9, -999.00,9, -999.00,9,     -999.0,9, 20220512,      222,  30.0000, 147.2156,    21.4044,2,     -999.0,9,     -999.0,9,     -999.0,9,     -999.0,1,     0.0147,1,     0.0096,1,     -999.0,9,     -999.0,9,     -999.0,9
33RR20220430,        P02,      29,          1,         21,         21,2,20220512,       0154,    30.0000,   147.2156,       6221,     4.9,2,  21.1899,2,  34.9467,2,-999.0000,9,    214.0,2,  -999.0,9, -999.00,9, -999.00,9, -999.00,9, -999.00,9,-999.000,9,-999.000,9,-999.0000,9,  -999.0,9,  -999.0,9,-999.0000,9,  -999.00,9, -999.00,9,  -999.0,9, -999.00,9, -999.00,9,     -999.0,9, 20220512,      223,  30.0000, 147.2156,     -999.0,9,     -999.0,9,     -999.0,9,     -999.0,9,     -999.0,9,     0.0147,1,     0.0096,1,     -999.0,9,     -999.0,9,     -999.0,9
33RR20220430,        P02,      29,          1,         18,         18,2,20220512,       0154,    30.0000,   147.2156,       6221,     5.0,2,  21.1924,2,  34.9469,2,-999.0000,9,    214.8,2,  -999.0,9, -999.00,9, -999.00,9, -999.00,9, -999.00,9,-999.000,9,-999.000,9,-999.0000,9,  -999.0,9,  -999.0,9,-999.0000,9,  -999.00,9, -999.00,9,  -999.0,9, -999.00,9, -999.00,9,     -999.0,9, 20220512,      223,  30.0000, 147.2156,    21.4032,2,     -999.0,9,     -999.0,9,     -999.0,9,     -999.0,1,     0.0139,1,     0.0096,1,     -999.0,9,     -999.0,9,     -999.0,9
33RR20220430,        P02,      29,          1,         23,         23,2,20220512,       0154,    30.0000,   147.2156,       6221,     5.0,2,  21.1898,2,  34.9468,2,-999.0000,9,    214.3,2,  -999.0,9, -999.00,9, -999.00,9, -999.00,9, -999.00,9,-999.000,9,-999.000,9,-999.0000,9,  -999.0,9,  -999.0,9,-999.0000,9,  -999.00,9, -999.00,9,  -999.0,9, -999.00,9, -999.00,9,     -999.0,9, 20220512,      224,  30.0000, 147.2156,     -999.0,9,     -999.0,9,     -999.0,9,     -999.0,9,     -999.0,9,     0.0147,1,     0.0096,1,     -999.0,9,     -999.0,9,     -999.0,9
33RR20220430,        P02,      29,          1,         16,         16,2,20220512,       0154,    30.0000,   147.2156,       6221,     5.1,2,  21.1967,2,  34.9469,2,-999.0000,9,    214.4,2,  -999.0,9, -999.00,9, -999.00,9, -999.00,9, -999.00,9,-999.000,9,-999.000,9,-999.0000,9,  -999.0,9,  -999.0,9,-999.0000,9,  -999.00,9, -999.00,9,  -999.0,9, -999.00,9, -999.00,9,     -999.0,9, 20220512,      222,  30.0000, 147.2156,     -999.0,9,     -999.0,9,     -999.0,9,     -999.0,9,     -999.0,9,     0.0147,1,     0.0097,1,     -999.0,9,     -999.0,9,     -999.0,9
33RR20220430,        P02,      29,          1,         15,         15,2,20220512,       0154,    30.0000,   147.2156,       6221,     5.1,2,  21.1917,2,  34.9469,2,-999.0000,9,    214.3,2,  -999.0,9, -999.00,9, -999.00,9, -999.00,9, -999.00,9,-999.000,9,-999.000,9,-999.0000,9,  -999.0,9,  -999.0,9,-999.0000,9,  -999.00,9, -999.00,9,  -999.0,9, -999.00,9, -999.00,9,     -999.0,9, 20220512,      222,  30.0000, 147.2156,    21.4077,2,     -999.0,9,     -999.0,9,     -999.0,1,     -999.0,9,     0.0147,1,     0.0097,1,     -999.0,9,     -999.0,9,     -999.0,9
33RR20220430,        P02,      29,          1,         19,         19,2,20220512,       0154,    30.0000,   147.2156,       6221,     5.1,2,  21.1894,2,  34.9467,2,-999.0000,9,    215.0,2,  -999.0,9, -999.00,9, -999.00,9, -999.00,9, -999.00,9,-999.000,9,-999.000,9,-999.0000,9,  -999.0,9,  -999.0,9,-999.0000,9,  -999.00,9, -999.00,9,  -999.0,9, -999.00,9, -999.00,9,     -999.0,9, 20220512,      223,  30.0000, 147.2156,     -999.0,9,     -999.0,9,     -999.0,9,     -999.0,9,     -999.0,1,     0.0143,1,     0.0096,1,     -999.0,9,     -999.0,9,     -999.0,9
33RR20220430,        P02,      29,          1,         20,         20,2,20220512,       0154,    30.0000,   147.2156,       6221,     5.3,2,  21.1903,2,  34.9468,2,-999.0000,9,    214.8,2,  -999.0,9, -999.00,9, -999.00,9, -999.00,9, -999.00,9,-999.000,9,-999.000,9,-999.0000,9,  -999.0,9,  -999.0,9,-999.0000,9,  -999.00,9, -999.00,9,  -999.0,9, -999.00,9, -999.00,9,     -999.0,9, 20220512,      223,  30.0000, 147.2156,    21.4038,2,     -999.0,9,     -999.0,9,     -999.0,1,     -999.0,9,     0.0147,1,     0.0097,1,     -999.0,9,     -999.0,9,     -999.0,9
33RR20220430,        P02,      29,          1,         11,         11,2,20220512,       0154,    30.0000,   147.2156,       6221,     5.3,2,  21.1917,2,  34.9467,2,-999.0000,9,    214.3,2,  -999.0,9, -999.00,9, -999.00,9, -999.00,9, -999.00,9,-999.000,9,-999.000,9,-999.0000,9,  -999.0,9,  -999.0,9,-999.0000,9,  -999.00,9, -999.00,9,  -999.0,9, -999.00,9, -999.00,9,     -999.0,9, 20220512,      221,  30.0000, 147.2156,    21.4052,2,     -999.0,1,     -999.0,1,     -999.0,9,     -999.0,9,     0.0147,1,     0.0096,1,     -999.0,9,     -999.0,9,     -999.0,9
33RR20220430,        P02,      29,          1,         10,         10,2,20220512,       0154,    30.0000,   147.2156,       6221,     5.3,2,  21.1949,2,  34.9467,2,-999.0000,9,    214.9,2,  -999.0,9, -999.00,9, -999.00,9, -999.00,9, -999.00,9,-999.000,9,-999.000,9,-999.0000,9,  -999.0,9,  -999.0,9,-999.0000,9,  -999.00,9, -999.00,9,  -999.0,9, -999.00,9, -999.00,9,     -999.0,9, 20220512,      220,  30.0000, 147.2156,    21.4075,2,     -999.0,9,     -999.0,9,     -999.0,9,     -999.0,9,     0.0147,1,     0.0096,1,     -999.0,9,     -999.0,1,     -999.0,9
33RR20220430,        P02,      29,          1,         12,         12,2,20220512,       0154,    30.0000,   147.2156,       6221,     5.5,2,  21.1806,2,  34.9466,2,-999.0000,9,    214.9,2,  -999.0,9, -999.00,9, -999.00,9, -999.00,9, -999.00,9,-999.000,9,-999.000,9,-999.0000,9,  -999.0,9,  -999.0,9,-999.0000,9,  -999.00,9, -999.00,9,  -999.0,9, -999.00,9, -999.00,9,     -999.0,9, 20220512,      221,  30.0000, 147.2156,    21.4025,2,     -999.0,1,     -999.0,1,     -999.0,9,     -999.0,9,     0.0143,1,     0.0096,1,     -999.0,9,     -999.0,9,     -999.0,9
33RR20220430,        P02,      29,          1,         13,         13,2,20220512,       0154,    30.0000,   147.2156,       6221,     5.7,2,  21.1861,2,  34.9468,2,-999.0000,9,    214.2,2,  -999.0,9, -999.00,9, -999.00,9, -999.00,9, -999.00,9,-999.000,9,-999.000,9,-999.0000,9,  -999.0,9,  -999.0,9,-999.0000,9,  -999.00,9, -999.00,9,  -999.0,9, -999.00,9, -999.00,9,     -999.0,9, 20220512,      221,  30.0000, 147.2156,    21.3988,2,     -999.0,1,     -999.0,1,     -999.0,9,     -999.0,9,     0.0144,1,     0.0096,1,     -999.0,9,     -999.0,9,     -999.0,9
33RR20220430,        P02,      29,          1,          8,          8,2,20220512,       0154,    30.0000,   147.2156,       6221,    40.1,2,  20.7122,2,  34.9522,2,-999.0000,9,    217.3,2,  -999.0,9, -999.00,9, -999.00,9, -999.00,9, -999.00,9,-999.000,9,-999.000,9,-999.0000,9,  -999.0,9,  -999.0,9,-999.0000,9,  -999.00,9, -999.00,9,  -999.0,9, -999.00,9, -999.00,9,     -999.0,9, 20220512,      218,  30.0000, 147.2156,    20.9074,2,     -999.0,9,     -999.0,9,     -999.0,9,     -999.0,9,     0.0180,1,     0.0097,1,     -999.0,1,     -999.0,9,     -999.0,1
33RR20220430,        P02,      29,          1,          7,          7,2,20220512,       0154,    30.0000,   147.2156,       6221,    75.8,2,  19.3576,2,  34.9871,2,-999.0000,9,    220.3,2,  -999.0,9, -999.00,9, -999.00,9, -999.00,9, -999.00,9,-999.000,9,-999.000,9,-999.0000,9,  -999.0,9,  -999.0,9,-999.0000,9,  -999.00,9, -999.00,9,  -999.0,9, -999.00,9, -999.00,9,     -999.0,9, 20220512,      216,  30.0000, 147.2156,    19.5561,2,     -999.0,9,     -999.0,9,     -999.0,9,     -999.0,9,     0.0283,1,     0.0096,1,     -999.0,9,     -999.0,9,     -999.0,1
33RR20220430,        P02,      29,          1,          6,          6,2,20220512,       0154,    30.0000,   147.2156,       6221,   101.4,2,  18.8471,2,  34.9714,2,-999.0000,9,    211.1,2,  -999.0,9, -999.00,9, -999.00,9, -999.00,9, -999.00,9,-999.000,9,-999.000,9,-999.0000,9,  -999.0,9,  -999.0,9,-999.0000,9,  -999.00,9, -999.00,9,  -999.0,9, -999.00,9, -999.00,9,     -999.0,9, 20220512,      214,  30.0000, 147.2156,     -999.0,9,     -999.0,9,     -999.0,9,     -999.0,9,     -999.0,9,     0.0361,1,     0.0096,1,     -999.0,1,     -999.0,9,     -999.0,1
33RR20220430,        P02,      29,          1,          5,          5,2,20220512,       0154,    30.0000,   147.2156,       6221,   101.5,2,  18.8589,2,  34.9721,2,-999.0000,9,    210.8,2,  -999.0,9, -999.00,9, -999.00,9, -999.00,9, -999.00,9,-999.000,9,-999.000,9,-999.0000,9,  -999.0,9,  -999.0,9,-999.0000,9,  -999.00,9, -999.00,9,  -999.0,9, -999.00,9, -999.00,9,     -999.0,9, 20220512,      214,  30.0000, 147.2156,    19.0167,2,     -999.0,9,     -999.0,9,     -999.0,9,     -999.0,9,     0.0384,1,     0.0096,1,     -999.0,9,     -999.0,1,     -999.0,9
33RR20220430,        P02,      29,          1,          4,          4,2,20220512,       0154,    30.0000,   147.2156,       6221,   152.6,2,  17.5948,2,  34.9116,2,-999.0000,9,    208.3,2,  -999.0,9, -999.00,9, -999.00,9, -999.00,9, -999.00,9,-999.000,9,-999.000,9,-999.0000,9,  -999.0,9,  -999.0,9,-999.0000,9,  -999.00,9, -999.00,9,  -999.0,9, -999.00,9, -999.00,9,     -999.0,9, 20220512,      212,  30.0000, 147.2156,    17.7768,2,     -999.0,9,     -999.0,9,     -999.0,9,     -999.0,9,     0.0147,1,     0.0096,1,     -999.0,9,     -999.0,9,     -999.0,1
33RR20220430,        P02,      29,          1,          3,          3,2,20220512,       0154,    30.0000,   147.2156,       6221,   202.7,2,  17.2114,2,  34.9052,2,-999.0000,9,    211.1,2,  -999.0,9, -999.00,9, -999.00,9, -999.00,9, -999.00,9,-999.000,9,-999.000,9,-999.0000,9,  -999.0,9,  -999.0,9,-999.0000,9,  -999.00,9, -999.00,9,  -999.0,9, -999.00,9, -999.00,9,     -999.0,9, 20220512,      210,  30.0000, 147.2156,    17.3832,2,     -999.0,9,     -999.0,9,     -999.0,9,     -999.0,9,     0.0122,1,     0.0097,1,     -999.0,9,     -999.0,1,     -999.0,1
33RR20220430,        P02,      29,          1,          2,          2,2,20220512,       0154,    30.0000,   147.2156,       6221,   508.1,2,  11.8589,2,  34.4580,2,-999.0000,9,    168.6,2,  -999.0,9, -999.00,9, -999.00,9, -999.00,9, -999.00,9,-999.000,9,-999.000,9,-999.0000,9,  -999.0,9,  -999.0,9,-999.0000,9,  -999.00,9, -999.00,9,  -999.0,9, -999.00,9, -999.00,9,     -999.0,9, 20220512,      204,  30.0000, 147.2156,    12.0080,2,     -999.0,9,     -999.0,9,     -999.0,9,     -999.0,9,     0.0130,1,     0.0095,1,     -999.0,9,     -999.0,9,     -999.0,1
33RR20220430,        P02,      29,          1,          1,          1,2,20220512,       0154,    30.0000,   147.2156,       6221,  1011.4,2,   3.9136,2,  34.2649,2,-999.0000,9,     41.6,2,  -999.0,9, -999.00,9, -999.00,9, -999.00,9, -999.00,9,-999.000,9,-999.000,9,-999.0000,9,  -999.0,9,  -999.0,9,-999.0000,9,  -999.00,9, -999.00,9,  -999.0,9, -999.00,9, -999.00,9,     -999.0,9, 20220512,      154,  30.0000, 147.2156,     3.9149,2,     -999.0,9,     -999.0,9,     -999.0,9,     -999.0,9,     0.0134,1,     0.0095,1,     -999.0,9,     -999.0,1,     -999.0,1