BOTTLE,20230801CCHSIOCBG
EXPOCODE,SECT_ID,STNNBR,CASTNO,SAMPNO,BTLNBR,BTLNBR_FLAG_W,DATE,TIME,LATITUDE,LONGITUDE,DEPTH,CTDPRS,CTDPRS_FLAG_W,CTDTMP,CTDTMP_FLAG_W,CTDSAL,CTDSAL_FLAG_W,SALNTY,SALNTY_FLAG_W,CTDOXY,CTDOXY_FLAG_W,OXYGEN,OXYGEN_FLAG_W,SILCAT,SILCAT_FLAG_W,NITRAT,NITRAT_FLAG_W,NITRIT,NITRIT_FLAG_W,PHSPHT,PHSPHT_FLAG_W,CFC-11,CFC-11_FLAG_W,CFC-12,CFC-12_FLAG_W,SF6,SF6_FLAG_W,TCARBN,TCARBN_FLAG_W,ALKALI,ALKALI_FLAG_W,PH_TOT,PH_TOT_FLAG_W,PH_TMP,PH_TMP_FLAG_W,DELC13,DELC13_FLAG_W,DELC14,DELC14_FLAG_W,DOC,DOC_FLAG_W,TDN,TDN_FLAG_W,N2O,N2O_FLAG_W,BTL_DATE,BTL_TIME,BTL_LAT,BTL_LON,REFTMP,REFTMP_FLAG_W,POC,POC_FLAG_W,PON,PON_FLAG_W,POP,POP_FLAG_W,PCOD,PCOD_FLAG_W,CTDFLUOR,CTDFLUOR_FLAG_W,CTDXMISS,CTDXMISS_FLAG_W,HPLC,HPLC_FLAG_W,DNA,DNA_FLAG_W,FCM,FCM_FLAG_W
,,,,,,,,,,,METERS,DBAR,,ITS-90,,PSS-78,,PSS-78,,UMOL/KG,,UMOL/KG,,UMOL/KG,,UMOL/KG,,UMOL/KG,,UMOL/KG,,PMOL/KG,,PMOL/KG,,FMOL/KG,,UMOL/KG,,UMOL/KG,,,,DEG C,,/MILLE,,/MILLE,,UMOL/KG,,UMOL/KG,,NMOL/KG,,,,,,ITS-90,,UG/L,,UG/L,,UG/L,,UG/L,,VOLTS,,VOLTS,,,,,,,
33RR20220430,        P02,      39,          1,         36,         36,2,20220515,       1436,    29.9999,   153.9461,       5859,     4.1,2,  21.0827,2,  34.7470,2,  34.7394,2,    227.1,2,   226.3,2,    0.78,2,    0.01,2,    0.00,2,    0.00,2,   2.005,2,   1.245,2,   1.9453,2,  2012.8,2,  2279.1,2,   7.9958,2,    24.91,2, -999.00,9,  -999.0,9, -999.00,9, -999.00,9,        6.7,2, 20220515,     1650,  29.9999, 153.9461,    21.0206,3,     -999.0,9,     -999.0,9,     -999.0,9,     -999.0,9,     0.0147,1,     4.6340,1,     -999.0,9,     -999.0,9,     -999.0,9
33RR20220430,        P02,      39,          1,         35,         35,2,20220515,       1436,    29.9999,   153.9461,       5859,    27.9,2,  19.0149,2,  34.8083,2,  34.8019,2,    236.9,2,   237.3,2,    1.07,2,    0.00,2,    0.00,2,    0.00,2,   2.143,2,   1.318,2,   2.2702,2,  2015.8,2,  2284.9,2,   7.9958,2,    25.00,2, -999.00,9,  -999.0,9, -999.00,9, -999.00,9,        7.2,2, 20220515,     1649,  29.9999, 153.9461,    19.0177,2,     -999.0,9,     -999.0,9,     -999.0,9,     -999.0,9,     0.0159,1,     4.6409,1,     -999.0,9,     -999.0,9,     -999.0,9
33RR20220430,        P02,      39,          1,         34,         34,2,20220515,       1436,    29.9999,   153.9461,       5859,    52.9,2,  18.2943,2,  34.7865,2,  34.7813,2,    233.9,2,   234.9,2,    1.17,2,    0.01,2,    0.00,2,    0.02,2,   2.104,2,   1.264,2,   2.1884,2,  2020.9,2,  2284.2,2,   7.9878,2,    24.99,2, -999.00,9,  -999.0,9, -999.00,9, -999.00,9,        7.8,2, 20220515,     1647,  29.9999, 153.9461,    18.2956,2,     -999.0,9,     -999.0,9,     -999.0,9,     -999.0,9,     0.0321,1,     4.6123,1,     -999.0,9,     -999.0,9,     -999.0,9
33RR20220430,        P02,      39,          1,         33,         33,2,20220515,       1436,    29.9999,   153.9461,       5859,    77.7,2,  17.7909,2,  34.7658,2,  34.7589,2,    225.7,2,   226.5,2,    1.47,2,    1.37,2,    0.16,2,    0.08,2,   2.142,2,   1.305,2,   2.1463,2,  2032.5,2,  2281.3,2,   7.9659,2,    25.01,2, -999.00,9,  -999.0,9, -999.00,9, -999.00,9,        8.8,2, 20220515,     1645,  29.9999, 153.9461,    17.7907,2,     -999.0,9,     -999.0,9,     -999.0,9,     -999.0,9,     0.0521,1,     4.6098,1,     -999.0,9,     -999.0,9,     -999.0,9
33RR20220430,        P02,      39,          1,         32,         32,2,20220515,       1436,    29.9999,   153.9461,       5859,   102.6,2,  17.4193,2,  34.7370,2,  34.7300,2,    218.9,2,   218.4,2,    2.05,2,    2.99,2,    0.02,2,    0.17,2,   2.136,2,   1.367,2,   2.0663,2,  2041.9,2,  2280.8,2,   7.9482,2,    25.00,2, -999.00,9,  -999.0,9, -999.00,9, -999.00,9,        8.8,2, 20220515,     1643,  29.9999, 153.9461,    17.4180,2,     -999.0,9,     -999.0,9,     -999.0,9,     -999.0,9,     0.0238,1,     4.6617,1,     -999.0,9,     -999.0,9,     -999.0,9
33RR20220430,        P02,      39,          1,         31,         31,2,20220515,       1436,    29.9999,   153.9461,       5859,   153.2,2,  16.8482,2,  34.7152,2,  34.7099,2,    214.8,2,   214.2,2,    3.13,2,    4.30,2,    0.00,2,    0.25,2,   2.188,2,   1.395,2,   2.1234,2,  2047.0,2,  2279.1,2,   7.9306,2,    25.00,2, -999.00,9,  -999.0,9, -999.00,9, -999.00,9,        9.4,2, 20220515,     1642,  29.9999, 153.9461,    16.8491,2,     -999.0,9,     -999.0,9,     -999.0,9,     -999.0,9,     0.0129,1,     4.6858,1,     -999.0,9,     -999.0,9,     -999.0,9
33RR20220430,        P02,      39,          1,         30,         30,2,20220515,       1436,    29.9999,   153.9461,       5859,   203.2,2,  16.4085,2,  34.6902,2,  34.6849,2,    222.8,2,   223.0,2,    3.32,2,    4.09,2,    0.00,2,    0.24,2,   2.256,2,   1.421,2,   2.1363,2,  2043.4,2,  2280.0,2,   7.9345,2,    25.00,2, -999.00,9,  -999.0,9, -999.00,9, -999.00,9,        9.1,2, 20220515,     1640,  29.9999, 153.9461,    16.4090,2,     -999.0,9,     -999.0,9,     -999.0,9,     -999.0,9,     0.0113,1,     4.6868,1,     -999.0,9,     -999.0,9,     -999.0,9
33RR20220430,        P02,      39,          1,         29,         29,2,20220515,       1436,    29.9999,   153.9461,       5859,   253.7,2,  15.9932,2,  34.6600,2,  34.6537,2,    210.5,2,   210.3,2,    5.08,2,    5.97,2,    0.00,2,    0.35,2,   2.278,2,   1.375,2,   1.9979,2,  2062.7,2,  2276.9,2,   7.9049,2,    25.01,2, -999.00,9,  -999.0,9, -999.00,9, -999.00,9,       10.6,2, 20220515,     1638,  29.9999, 153.9461,    16.0005,2,     -999.0,9,     -999.0,9,     -999.0,9,     -999.0,9,     0.0122,1,     4.6896,1,     -999.0,9,     -999.0,9,     -999.0,9
33RR20220430,        P02,      39,          1,         28,         28,2,20220515,       1436,    29.9999,   153.9461,       5859,   303.5,2,  15.5255,2,  34.6460,2,  34.6331,2,    221.4,3,   217.8,2,    5.67,2,    6.04,2,    0.00,2,    0.36,2,   2.339,2,   1.455,2,   2.0531,2,  2061.7,2,  2278.5,2,   7.9022,2,    25.00,2, -999.00,9,  -999.0,9, -999.00,9, -999.00,9,       10.6,2, 20220515,     1636,  29.9999, 153.9461,    15.5238,2,     -999.0,9,     -999.0,9,     -999.0,9,     -999.0,9,     0.0122,1,     4.6889,1,     -999.0,9,     -999.0,9,     -999.0,9
33RR20220430,        P02,      39,          1,         27,         27,2,20220515,       1436,    29.9999,   153.9461,       5859,   353.9,2,  14.6429,2,  34.5525,2,  34.5464,2,    195.2,2,   195.1,2,    9.77,2,    9.59,2,    0.00,2,    0.60,2,   2.427,2,   1.486,2,   1.8099,2,  2085.4,2,  2274.6,2,   7.8466,2,    25.01,2, -999.00,9,  -999.0,9, -999.00,9, -999.00,9,       12.9,2, 20220515,     1634,  29.9999, 153.9461,    14.6415,2,     -999.0,9,     -999.0,9,     -999.0,9,     -999.0,9,     0.0122,1,     4.6917,1,     -999.0,9,     -999.0,9,     -999.0,9
33RR20220430,        P02,      39,          1,         26,         26,2,20220515,       1436,    29.9999,   153.9461,       5859,   409.5,2,  12.7430,2,  34.4090,2,  34.4045,2,    184.9,2,   185.2,2,   16.71,2,   13.56,2,    0.00,2,    0.88,2,   2.511,2,   1.541,2,   1.5770,2,  2112.1,2,  2273.9,2,   7.7828,2,    25.01,2, -999.00,9,  -999.0,9, -999.00,9, -999.00,9,       16.0,2, 20220515,     1632,  29.9999, 153.9461,    12.7428,2,     -999.0,9,     -999.0,9,     -999.0,9,     -999.0,9,     0.0122,1,     4.6958,1,     -999.0,9,     -999.0,9,     -999.0,9
33RR20220430,        P02,      39,          1,         25,         25,2,20220515,       1436,    29.9999,   153.9461,       5859,   510.5,2,   9.6935,2,  34.1613,2,  34.1540,2,    189.4,2,   190.3,2,   26.29,2,   18.19,2,    0.00,2,    1.22,2,   2.804,2,   1.607,2,   1.7525,2,  2143.9,2,  2273.0,2,   7.7004,2,    25.01,2, -999.00,9,  -999.0,9, -999.00,9, -999.00,9,       19.0,2, 20220515,     1630,  29.9999, 153.9461,     9.6925,2,     -999.0,9,     -999.0,9,     -999.0,9,     -999.0,9,     0.0122,1,     4.7015,1,     -999.0,9,     -999.0,9,     -999.0,9
33RR20220430,        P02,      39,          1,         24,         24,2,20220515,       1436,    29.9999,   153.9461,       5859,   611.6,2,   6.8160,2,  33.9956,2,  33.9937,2,    153.6,2,   153.7,2,   48.78,2,   26.79,2,    0.00,2,    1.88,2,   2.590,2,   1.463,2,   1.2732,2,  -999.0,9,  -999.0,9,-999.0000,9,  -999.00,9, -999.00,9,  -999.0,9, -999.00,9, -999.00,9,       27.0,2, 20220515,     1627,  29.9999, 153.9461,     6.8147,2,     -999.0,9,     -999.0,9,     -999.0,9,     -999.0,9,     0.0122,1,     4.7044,1,     -999.0,9,     -999.0,9,     -999.0,9
33RR20220430,        P02,      39,          1,         23,         23,2,20220515,       1436,    29.9999,   153.9461,       5859,   712.7,2,   5.3587,2,  34.0413,2,  34.0415,2,    102.4,2,   101.6,2,   73.12,2,   34.05,2,    0.00,2,    2.39,2,   1.859,2,   1.029,2,   0.7886,2,  2262.3,2,  2301.4,2,   7.4408,2,    25.00,2, -999.00,9,  -999.0,9, -999.00,9, -999.00,9,       35.0,2, 20220515,     1624,  29.9999, 153.9461,     5.3584,2,     -999.0,9,     -999.0,9,     -999.0,9,     -999.0,9,     0.0134,1,     4.7044,1,     -999.0,9,     -999.0,9,     -999.0,9
33RR20220430,        P02,      39,          1,         22,         22,2,20220515,       1436,    29.9999,   153.9461,       5859,   813.2,2,   4.6590,2,  34.1261,2,  34.1299,2,     71.4,3,    70.6,2,   91.78,2,   37.88,2,    0.00,2,    2.66,2,   1.266,2,   0.721,2,   0.5612,2,  -999.0,9,  -999.0,9,-999.0000,9,  -999.00,9, -999.00,9,  -999.0,9, -999.00,9, -999.00,9,       40.7,2, 20220515,     1622,  29.9999, 153.9461,     4.6584,2,     -999.0,9,     -999.0,9,     -999.0,9,     -999.0,9,     0.0134,1,     4.7031,1,     -999.0,9,     -999.0,9,     -999.0,9
33RR20220430,        P02,      39,          1,         21,         21,2,20220515,       1436,    29.9999,   153.9461,       5859,   913.4,2,   4.0801,2,  34.2173,2,  34.2179,2,     49.6,3,    50.3,2,  108.00,2,   40.19,2,    0.00,2,    2.82,2,   0.813,2,   0.420,2,   0.2502,2,  2325.9,2,  2337.8,2,   7.3510,2,    25.01,2, -999.00,9,  -999.0,9, -999.00,9, -999.00,9,       44.8,2, 20220515,     1619,  29.9999, 153.9461,     4.0817,2,     -999.0,9,     -999.0,9,     -999.0,9,     -999.0,9,     0.0134,1,     4.7028,1,     -999.0,9,     -999.0,9,     -999.0,9
33RR20220430,        P02,      39,          1,         20,         20,2,20220515,       1436,    29.9999,   153.9461,       5859,  1014.7,2,   3.5828,2,  34.3035,2,  34.3048,2,     41.8,2,    42.1,2,  122.46,2,   41.34,2,    0.00,2,    2.92,2,   0.485,2,   0.252,2,   0.0000,2,  -999.0,9,  -999.0,9,-999.0000,9,  -999.00,9, -999.00,9,  -999.0,9, -999.00,9, -999.00,9,       46.3,2, 20220515,     1617,  29.9999, 153.9461,     3.5846,2,     -999.0,9,     -999.0,9,     -999.0,9,     -999.0,9,     0.0134,1,     4.7031,1,     -999.0,9,     -999.0,9,     -999.0,9
33RR20220430,        P02,      39,          1,         19,         19,2,20220515,       1436,    29.9999,   153.9461,       5859,  1116.0,2,   3.2054,2,  34.3670,3,  34.3288,2,     34.6,3,    40.7,2,  126.26,2,   41.68,2,    0.00,2,    2.95,2,   0.382,2,   0.197,2,   0.0000,2,  2354.7,2,  2361.3,2,   7.3409,2,    25.02,2, -999.00,9,  -999.0,9, -999.00,9, -999.00,9,       47.3,2, 20220515,     1614,  29.9999, 153.9461,     3.2081,2,     -999.0,9,     -999.0,9,     -999.0,9,     -999.0,9,     0.0134,1,     4.7038,1,     -999.0,9,     -999.0,9,     -999.0,9
33RR20220430,        P02,      39,          1,         18,         18,2,20220515,       1436,    29.9999,   153.9461,       5859,  1218.0,2,   2.9743,2,  34.4083,2,  34.4110,2,     33.4,2,    33.6,2,  139.94,2,   42.78,2,    0.00,2,    3.01,2,   0.143,2,   0.078,2,   0.0000,2,  2371.9,6,  2378.6,2,   7.3380,2,    25.00,2, -999.00,9,  -999.0,9, -999.00,9, -999.00,9,       48.2,2, 20220515,     1611,  29.9999, 153.9461,     2.9726,2,     -999.0,9,     -999.0,9,     -999.0,9,     -999.0,9,     0.0134,1,     4.7043,1,     -999.0,9,     -999.0,9,     -999.0,9
33RR20220430,        P02,      39,          1,         17,         17,2,20220515,       1436,    29.9999,   153.9461,       5859,  1318.7,2,   2.7517,2,  34.4492,2,  34.4502,2,     35.1,2,    35.2,2,  146.58,2,   42.88,2,    0.00,2,    3.02,2,-999.000,5,-999.000,5,-999.0000,5,  2378.4,2,  2387.0,2,   7.3454,2,    25.01,2, -999.00,9,  -999.0,9, -999.00,9, -999.00,9,     -999.0,5, 20220515,     1609,  29.9999, 153.9461,     2.7504,2,     -999.0,9,     -999.0,9,     -999.0,9,     -999.0,9,     0.0134,1,     4.7051,1,     -999.0,9,     -999.0,9,     -999.0,9
33RR20220430,        P02,      39,          1,         16,         16,2,20220515,       1436,    29.9999,   153.9461,       5859,  1421.0,2,   2.5642,2,  34.4870,2,  34.4869,2,     39.4,3,    38.8,2,  151.37,2,   42.79,2,    0.00,2,    3.01,2,   0.044,2,   0.025,2,   0.0000,2,  -999.0,9,  -999.0,9,-999.0000,9,  -999.00,9, -999.00,9,  -999.0,9, -999.00,9, -999.00,9,       45.1,2, 20220515,     1606,  30.0000, 153.9461,     2.5632,2,     -999.0,9,     -999.0,9,     -999.0,9,     -999.0,9,     0.0134,1,     4.7056,1,     -999.0,9,     -999.0,9,     -999.0,9
33RR20220430,        P02,      39,          1,         15,         15,2,20220515,       1436,    29.9999,   153.9461,       5859,  1622.8,2,   2.2922,2,  34.5347,2,  34.5356,2,     50.0,2,    49.7,2,  158.01,2,   42.29,2,    0.00,2,    2.97,2,   0.018,2,   0.000,2,   0.0000,2,  2382.8,2,  2401.7,2,   7.3792,2,    25.00,2, -999.00,9,  -999.0,9, -999.00,9, -999.00,9,       35.9,2, 20220515,     1602,  29.9999, 153.9461,     2.2916,2,     -999.0,9,     -999.0,9,     -999.0,9,     -999.0,9,     0.0134,1,     4.7066,1,     -999.0,9,     -999.0,9,     -999.0,9
33RR20220430,        P02,      39,          1,         14,         14,2,20220515,       1436,    29.9999,   153.9461,       5859,  1819.3,2,   2.0599,2,  34.5743,2,  34.5743,2,     64.5,2,    64.9,2,  161.62,2,   41.42,2,    0.00,2,    2.88,2,   0.010,2,   0.000,2,   0.0000,2,  -999.0,9,  -999.0,9,-999.0000,9,  -999.00,9, -999.00,9,  -999.0,9, -999.00,9, -999.00,9,       37.2,2, 20220515,     1557,  29.9999, 153.9461,     2.0608,2,     -999.0,9,     -999.0,9,     -999.0,9,     -999.0,9,     0.0130,1,     4.7068,1,     -999.0,9,     -999.0,9,     -999.0,9
33RR20220430,        P02,      39,          1,         13,         13,2,20220515,       1436,    29.9999,   153.9461,       5859,  2023.5,2,   1.8999,2,  34.6025,2,  34.6036,2,     80.6,2,    81.1,2,  161.71,2,   40.40,2,    0.00,2,    2.80,2,   0.006,2,   0.000,2,   0.0000,2,  2369.6,2,  2411.9,2,   7.4419,2,    25.01,2, -999.00,9,  -999.0,9, -999.00,9, -999.00,9,       34.0,2, 20220515,     1553,  29.9999, 153.9461,     1.8999,2,     -999.0,9,     -999.0,9,     -999.0,9,     -999.0,9,     0.0134,1,     4.7073,1,     -999.0,9,     -999.0,9,     -999.0,9
33RR20220430,        P02,      39,          1,         12,         12,2,20220515,       1436,    29.9999,   153.9461,       5859,  2277.6,2,   1.7340,2,  34.6313,2,  34.6301,2,    102.6,2,   102.0,2,  159.17,2,   39.05,2,    0.00,2,    2.69,2,   0.005,2,   0.000,2,   0.0000,2,  -999.0,9,  -999.0,9,-999.0000,9,  -999.00,9, -999.00,9,  -999.0,9, -999.00,9, -999.00,9,       30.1,2, 20220515,     1548,  29.9999, 153.9461,     1.7343,2,     -999.0,9,     -999.0,9,     -999.0,9,     -999.0,9,     0.0123,1,     4.7079,1,     -999.0,9,     -999.0,9,     -999.0,9
33RR20220430,        P02,      39,          1,         11,         11,2,20220515,       1436,    29.9999,   153.9461,       5859,  2531.7,2,   1.6405,2,  34.6468,2,  34.6460,2,    115.5,2,   115.7,2,  157.21,2,   38.16,2,    0.00,2,    2.64,2,   0.004,2,   0.000,2,   0.0000,2,  2349.6,2,  2415.9,2,   7.5089,2,    25.01,2, -999.00,9,  -999.0,9, -999.00,9, -999.00,9,       27.9,2, 20220515,     1542,  29.9999, 153.9461,     1.6405,2,     -999.0,9,     -999.0,9,     -999.0,9,     -999.0,9,     0.0122,1,     4.7093,1,     -999.0,9,     -999.0,9,     -999.0,9
33RR20220430,        P02,      39,          1,         10,         10,2,20220515,       1436,    29.9999,   153.9461,       5859,  2792.1,2,   1.5781,2,  34.6573,2,  34.6559,2,    125.1,2,   125.6,2,  155.06,2,   37.44,2,    0.00,2,    2.59,2,   0.004,2,   0.000,2,   0.0000,2,  -999.0,9,  -999.0,9,-999.0000,9,  -999.00,9, -999.00,9,  -999.0,9, -999.00,9, -999.00,9,       27.5,2, 20220515,     1537,  29.9999, 153.9461,     1.5780,2,     -999.0,9,     -999.0,9,     -999.0,9,     -999.0,9,     0.0128,1,     4.7093,1,     -999.0,9,     -999.0,9,     -999.0,9
33RR20220430,        P02,      39,          1,          9,          9,2,20220515,       1436,    29.9999,   153.9461,       5859,  3046.6,2,   1.5309,2,  34.6656,2,  34.6651,2,    133.1,2,   133.1,2,  153.59,2,   36.95,2,    0.00,2,    2.54,2,   0.004,2,   0.000,2,   0.0000,2,  2337.3,2,  2414.1,2,   7.5410,2,    24.99,2, -999.00,9,  -999.0,9, -999.00,9, -999.00,9,       25.8,2, 20220515,     1532,  29.9999, 153.9461,     1.5310,2,     -999.0,9,     -999.0,9,     -999.0,9,     -999.0,9,     0.0122,1,     4.7093,1,     -999.0,9,     -999.0,9,     -999.0,9
33RR20220430,        P02,      39,          1,          8,          8,2,20220515,       1436,    29.9999,   153.9461,       5859,  3352.6,2,   1.4931,2,  34.6728,2,  34.6730,2,    141.0,2,   140.9,2,  151.25,2,   36.45,2,    0.00,2,    2.51,2,   0.004,2,   0.000,2,   0.0000,2,  -999.0,9,  -999.0,9,-999.0000,9,  -999.00,9, -999.00,9,  -999.0,9, -999.00,9, -999.00,9,       24.9,2, 20220515,     1526,  29.9999, 153.9461,     1.4930,2,     -999.0,9,     -999.0,9,     -999.0,9,     -999.0,9,     0.0122,1,     4.7065,1,     -999.0,9,     -999.0,9,     -999.0,9
33RR20220430,        P02,      39,          1,          7,          7,2,20220515,       1436,    29.9999,   153.9461,       5859,  3660.9,2,   1.4740,2,  34.6775,2,  34.6761,2,    145.8,2,   145.8,2,  151.25,2,   36.22,2,    0.00,2,    2.49,2,   0.003,2,   0.000,2,   0.0000,2,  2330.6,2,  2416.8,2,   7.5624,2,    24.86,2, -999.00,9,  -999.0,9, -999.00,9, -999.00,9,       24.2,2, 20220515,     1520,  29.9999, 153.9461,     1.4733,2,     -999.0,9,     -999.0,9,     -999.0,9,     -999.0,9,     0.0122,1,     4.7091,1,     -999.0,9,     -999.0,9,     -999.0,9
33RR20220430,        P02,      39,          1,          6,          6,2,20220515,       1436,    29.9999,   153.9461,       5859,  3966.0,2,   1.4517,2,  34.6827,2,  34.6820,2,    151.6,3,   155.4,2,  150.86,2,   35.86,2,    0.00,2,    2.46,2,   0.004,2,   0.000,2,   0.0000,2,  -999.0,9,  -999.0,9,-999.0000,9,  -999.00,9, -999.00,9,  -999.0,9, -999.00,9, -999.00,9,       23.9,2, 20220515,     1514,  29.9999, 153.9461,     1.4517,2,     -999.0,9,     -999.0,9,     -999.0,9,     -999.0,9,     0.0130,1,     4.7080,1,     -999.0,9,     -999.0,9,     -999.0,9
33RR20220430,        P02,      39,          1,          5,          5,2,20220515,       1436,    29.9999,   153.9461,       5859,  4275.0,2,   1.4566,2,  34.6856,2,  34.6849,2,    155.6,2,   155.7,2,  149.19,2,   35.54,2,    0.00,2,    2.45,2,   0.006,2,   0.000,2,   0.0000,2,  2323.2,2,  2414.7,2,   7.5780,2,    24.99,2, -999.00,9,  -999.0,9, -999.00,9, -999.00,9,       24.4,2, 20220515,     1508,  29.9999, 153.9461,     1.4564,2,     -999.0,9,     -999.0,9,     -999.0,9,     -999.0,9,     0.0122,1,     4.7073,1,     -999.0,9,     -999.0,9,     -999.0,9
33RR20220430,        P02,      39,          1,          4,          4,2,20220515,       1436,    29.9999,   153.9461,       5859,  4684.9,2,   1.4770,2,  34.6883,2,  34.6891,2,    159.9,2,   160.0,2,  147.14,2,   35.36,2,    0.00,2,    2.42,2,   0.005,2,   0.000,2,   0.0000,2,  -999.0,9,  -999.0,9,-999.0000,9,  -999.00,9, -999.00,9,  -999.0,9, -999.00,9, -999.00,9,       23.8,2, 20220515,     1500,  29.9999, 153.9461,     1.4767,2,     -999.0,9,     -999.0,9,     -999.0,9,     -999.0,9,     0.0122,1,     4.7075,1,     -999.0,9,     -999.0,9,     -999.0,9