BOTTLE,20230801CCHSIOCBG
EXPOCODE,SECT_ID,STNNBR,CASTNO,SAMPNO,BTLNBR,BTLNBR_FLAG_W,DATE,TIME,LATITUDE,LONGITUDE,DEPTH,CTDPRS,CTDPRS_FLAG_W,CTDTMP,CTDTMP_FLAG_W,CTDSAL,CTDSAL_FLAG_W,SALNTY,SALNTY_FLAG_W,CTDOXY,CTDOXY_FLAG_W,OXYGEN,OXYGEN_FLAG_W,SILCAT,SILCAT_FLAG_W,NITRAT,NITRAT_FLAG_W,NITRIT,NITRIT_FLAG_W,PHSPHT,PHSPHT_FLAG_W,CFC-11,CFC-11_FLAG_W,CFC-12,CFC-12_FLAG_W,SF6,SF6_FLAG_W,TCARBN,TCARBN_FLAG_W,ALKALI,ALKALI_FLAG_W,PH_TOT,PH_TOT_FLAG_W,PH_TMP,PH_TMP_FLAG_W,DELC13,DELC13_FLAG_W,DELC14,DELC14_FLAG_W,DOC,DOC_FLAG_W,TDN,TDN_FLAG_W,N2O,N2O_FLAG_W,BTL_DATE,BTL_TIME,BTL_LAT,BTL_LON,REFTMP,REFTMP_FLAG_W,POC,POC_FLAG_W,PON,PON_FLAG_W,POP,POP_FLAG_W,PCOD,PCOD_FLAG_W,CTDFLUOR,CTDFLUOR_FLAG_W,CTDXMISS,CTDXMISS_FLAG_W,HPLC,HPLC_FLAG_W,DNA,DNA_FLAG_W,FCM,FCM_FLAG_W
,,,,,,,,,,,METERS,DBAR,,ITS-90,,PSS-78,,PSS-78,,UMOL/KG,,UMOL/KG,,UMOL/KG,,UMOL/KG,,UMOL/KG,,UMOL/KG,,PMOL/KG,,PMOL/KG,,FMOL/KG,,UMOL/KG,,UMOL/KG,,,,DEG C,,/MILLE,,/MILLE,,UMOL/KG,,UMOL/KG,,NMOL/KG,,,,,,ITS-90,,UG/L,,UG/L,,UG/L,,UG/L,,VOLTS,,VOLTS,,,,,,,
33RR20220430,        P02,       4,          1,         22,         22,2,20220504,       2147,    32.4128,   133.2904,        960,    10.4,2,  21.0736,2,  34.4953,2,  34.4850,2,    227.3,2,   226.9,2,    0.98,2,    0.00,2,    0.00,2,    0.01,2,   1.978,2,   1.194,2,   2.1507,2,  1979.5,6,  2270.5,2,   8.0299,2,    25.01,2, -999.00,9,  -999.0,9, -999.00,1, -999.00,1,        7.7,2, 20220504,     2230,  32.4128, 133.2904,    21.0717,2,     -999.0,9,     -999.0,9,     -999.0,9,     -999.0,9,     0.0204,1,     4.5832,1,     -999.0,9,     -999.0,9,     -999.0,9
33RR20220430,        P02,       4,          1,         21,         21,2,20220504,       2147,    32.4128,   133.2904,        960,    35.4,2,  20.3786,2,  34.4807,2,  34.4720,2,    225.7,2,   225.3,2,    1.95,2,    0.30,2,    0.06,2,    0.00,2,   2.045,2,   1.239,2,   2.6046,2,  1991.1,2,  2269.5,2,   8.0143,2,    24.98,2, -999.00,9,  -999.0,9, -999.00,1, -999.00,1,        8.3,2, 20220504,     2228,  32.4128, 133.2904,    20.3677,2,     -999.0,9,     -999.0,9,     -999.0,9,     -999.0,9,     0.0313,1,     4.5978,1,     -999.0,9,     -999.0,9,     -999.0,9
33RR20220430,        P02,       4,          1,         20,         20,2,20220504,       2147,    32.4128,   133.2904,        960,    60.5,2,  19.0087,2,  34.5296,2,  34.5203,2,    213.2,2,   213.5,2,    4.20,2,    2.77,2,    0.29,2,    0.11,2,   2.120,2,   1.270,2,   2.1787,2,  2018.5,2,  -999.0,1,   7.9697,2,    25.00,2, -999.00,9,  -999.0,9, -999.00,1, -999.00,1,        9.5,2, 20220504,     2226,  32.4128, 133.2904,    19.0423,2,     -999.0,9,     -999.0,9,     -999.0,9,     -999.0,9,     0.0308,1,     4.6275,1,     -999.0,9,     -999.0,9,     -999.0,9
33RR20220430,        P02,       4,          1,         19,         19,2,20220504,       2147,    32.4128,   133.2904,        960,    85.8,2,  17.8192,2,  34.5645,2,  34.5553,2,    204.0,2,   204.2,2,    6.45,2,    5.11,2,    0.08,2,    0.26,2,   2.191,6,-999.000,5,   1.9096,2,  2040.2,2,  2276.8,2,   7.9338,2,    25.02,2, -999.00,9,  -999.0,9, -999.00,1, -999.00,1,       10.6,6, 20220504,     2224,  32.4129, 133.2904,    17.8233,2,     -999.0,9,     -999.0,9,     -999.0,9,     -999.0,9,     0.0244,1,     4.6554,1,     -999.0,9,     -999.0,9,     -999.0,9
33RR20220430,        P02,       4,          1,         18,         18,2,20220504,       2147,    32.4128,   133.2904,        960,   110.2,2,  16.8630,2,  34.5784,2,  34.5724,2,    193.0,2,   193.7,2,    8.89,2,    7.22,2,    0.02,2,    0.40,2,-999.000,9,-999.000,9,-999.0000,9,  -999.0,9,  -999.0,9,-999.0000,9,  -999.00,9, -999.00,9,  -999.0,9, -999.00,1, -999.00,1,     -999.0,9, 20220504,     2222,  32.4128, 133.2904,    16.8397,2,     -999.0,9,     -999.0,9,     -999.0,9,     -999.0,9,     0.0166,1,     4.6642,1,     -999.0,9,     -999.0,9,     -999.0,9
33RR20220430,        P02,       4,          1,         17,         17,2,20220504,       2147,    32.4128,   133.2904,        960,   135.7,2,  15.2852,2,  34.5625,2,  34.5537,2,    190.6,2,   190.6,2,   12.12,2,    9.22,2,    0.00,2,    0.55,2,   2.356,2,   2.321,2,   1.8228,2,  2076.3,2,  2278.3,2,   7.8624,2,    25.01,2, -999.00,9,  -999.0,9, -999.00,1, -999.00,1,       13.6,2, 20220504,     2221,  32.4128, 133.2904,    15.2853,2,     -999.0,9,     -999.0,9,     -999.0,9,     -999.0,9,     0.0134,1,     4.6565,1,     -999.0,9,     -999.0,9,     -999.0,9
33RR20220430,        P02,       4,          1,         16,         16,2,20220504,       2147,    32.4128,   133.2904,        960,   160.8,2,  14.2064,2,  34.5116,2,  34.5050,2,    169.6,2,   169.9,2,   18.56,2,   13.16,2,    0.00,2,    0.82,2,-999.000,9,-999.000,9,-999.0000,9,  -999.0,9,  -999.0,9,-999.0000,9,  -999.00,9, -999.00,9,  -999.0,9, -999.00,1, -999.00,1,     -999.0,9, 20220504,     2219,  32.4128, 133.2904,    14.2087,2,     -999.0,9,     -999.0,9,     -999.0,9,     -999.0,9,     0.0125,1,     4.6755,1,     -999.0,9,     -999.0,9,     -999.0,9
33RR20220430,        P02,       4,          1,         15,         15,2,20220504,       2147,    32.4128,   133.2904,        960,   185.7,2,  13.3422,2,  34.4694,2,  34.4616,2,    169.0,2,   168.9,2,   19.64,2,   14.48,2,    0.00,2,    0.95,2,-999.000,9,-999.000,9,-999.0000,9,  -999.0,9,  -999.0,9,-999.0000,9,  -999.00,9, -999.00,9,  -999.0,9, -999.00,1, -999.00,1,     -999.0,9, 20220504,     2217,  32.4128, 133.2904,    13.3409,2,     -999.0,9,     -999.0,9,     -999.0,9,     -999.0,9,     0.0122,1,     4.6871,1,     -999.0,9,     -999.0,9,     -999.0,9
33RR20220430,        P02,       4,          1,         14,         14,2,20220504,       2147,    32.4128,   133.2904,        960,   211.1,2,  12.2727,2,  34.4125,2,  34.4076,2,    162.0,2,   161.8,2,   24.53,2,   16.83,2,    0.00,2,    1.07,2,   2.435,2,-999.000,5,-999.0000,5,  2133.5,2,  2280.2,2,   7.7400,2,    25.01,2, -999.00,9,  -999.0,9, -999.00,1, -999.00,1,       19.7,2, 20220504,     2216,  32.4128, 133.2904,    12.2837,2,     -999.0,9,     -999.0,9,     -999.0,9,     -999.0,9,     0.0122,1,     4.6861,1,     -999.0,9,     -999.0,9,     -999.0,9
33RR20220430,        P02,       4,          1,         13,         13,2,20220504,       2147,    32.4128,   133.2904,        960,   236.0,2,  11.4701,2,  34.3847,2,  34.3806,2,    150.8,2,   151.1,2,   30.88,2,   19.21,2,    0.00,2,    1.26,2,-999.000,9,-999.000,9,-999.0000,9,  -999.0,9,  -999.0,9,-999.0000,9,  -999.00,9, -999.00,9,  -999.0,9, -999.00,1, -999.00,1,     -999.0,9, 20220504,     2214,  32.4128, 133.2904,    11.4636,2,     -999.0,9,     -999.0,9,     -999.0,9,     -999.0,9,     0.0133,1,     4.6797,1,     -999.0,9,     -999.0,9,     -999.0,9
33RR20220430,        P02,       4,          1,         12,         12,2,20220504,       2147,    32.4128,   133.2904,        960,   265.0,2,  10.5159,2,  34.3453,2,  34.3352,2,    144.7,2,   144.2,2,   37.04,2,   21.63,2,    0.00,2,    1.47,2,-999.000,9,-999.000,9,-999.0000,9,  -999.0,9,  -999.0,9,-999.0000,9,  -999.00,9, -999.00,9,  -999.0,9, -999.00,1, -999.00,1,     -999.0,9, 20220504,     2213,  32.4128, 133.2904,    10.5145,2,     -999.0,9,     -999.0,9,     -999.0,9,     -999.0,9,     0.0134,1,     4.6903,1,     -999.0,9,     -999.0,9,     -999.0,9
33RR20220430,        P02,       4,          1,         11,         11,2,20220504,       2147,    32.4128,   133.2904,        960,   315.7,2,   9.3464,2,  34.3126,2,  34.3056,2,    134.1,2,   134.3,2,   45.83,2,   24.29,2,    0.00,2,    1.64,2,   2.083,2,   1.119,2,   0.9199,2,  2191.0,2,  2294.3,2,   7.6250,2,    25.01,2, -999.00,9,  -999.0,9, -999.00,1, -999.00,1,       26.4,2, 20220504,     2211,  32.4128, 133.2904,     9.3483,2,     -999.0,9,     -999.0,9,     -999.0,9,     -999.0,9,     0.0133,1,     4.6940,1,     -999.0,9,     -999.0,9,     -999.0,9
33RR20220430,        P02,       4,          1,         10,         10,2,20220504,       2147,    32.4128,   133.2904,        960,   365.1,2,   8.1152,2,  34.2678,2,  34.2615,2,    120.0,2,   120.1,2,   56.49,2,   28.01,2,    0.00,2,    1.93,2,-999.000,9,-999.000,9,-999.0000,9,  -999.0,9,  -999.0,9,-999.0000,9,  -999.00,9, -999.00,9,  -999.0,9, -999.00,1, -999.00,1,     -999.0,9, 20220504,     2208,  32.4128, 133.2904,     8.1134,2,     -999.0,9,     -999.0,9,     -999.0,9,     -999.0,9,     0.0128,1,     4.6954,1,     -999.0,9,     -999.0,9,     -999.0,9
33RR20220430,        P02,       4,          1,          9,          9,2,20220504,       2147,    32.4128,   133.2904,        960,   414.6,2,   7.4175,2,  34.2585,2,  34.2540,2,    111.9,2,   111.8,2,   63.52,2,   29.77,2,    0.00,2,    2.07,2,-999.000,9,-999.000,9,-999.0000,9,  -999.0,9,  -999.0,9,-999.0000,9,  -999.00,9, -999.00,9,  -999.0,9, -999.00,1, -999.00,1,     -999.0,9, 20220504,     2206,  32.4129, 133.2904,     7.4239,2,     -999.0,9,     -999.0,9,     -999.0,9,     -999.0,9,     0.0128,1,     4.6972,1,     -999.0,9,     -999.0,9,     -999.0,9
33RR20220430,        P02,       4,          1,          8,          8,2,20220504,       2147,    32.4128,   133.2904,        960,   465.3,2,   6.3692,2,  34.2213,2,  34.2171,2,     98.5,2,    98.3,2,   73.30,2,   33.05,2,    0.00,2,    2.32,2,-999.000,9,-999.000,9,-999.0000,9,  -999.0,9,  -999.0,9,-999.0000,9,  -999.00,9, -999.00,9,  -999.0,9, -999.00,1, -999.00,1,     -999.0,9, 20220504,     2204,  32.4128, 133.2904,     6.3699,2,     -999.0,9,     -999.0,9,     -999.0,9,     -999.0,9,     0.0134,1,     4.7022,1,     -999.0,9,     -999.0,9,     -999.0,9
33RR20220430,        P02,       4,          1,          7,          7,2,20220504,       2147,    32.4128,   133.2904,        960,   514.6,2,   5.9089,2,  34.2393,2,  34.2373,2,     89.7,2,    89.4,2,   80.53,2,   34.32,2,    0.00,2,    2.43,2,   1.312,2,-999.000,5,-999.0000,5,  2269.1,2,  2319.6,2,   7.4675,2,    25.02,2, -999.00,9,  -999.0,9, -999.00,1, -999.00,1,       36.4,2, 20220504,     2202,  32.4129, 133.2904,     5.9073,2,     -999.0,9,     -999.0,9,     -999.0,9,     -999.0,9,     0.0129,1,     4.7017,1,     -999.0,9,     -999.0,9,     -999.0,9
33RR20220430,        P02,       4,          1,          6,          6,2,20220504,       2147,    32.4128,   133.2904,        960,   585.0,2,   5.2279,2,  34.2686,2,  34.2648,2,     78.7,2,    78.7,2,   91.57,2,   36.45,2,    0.00,2,    2.58,2,-999.000,9,-999.000,9,-999.0000,9,  -999.0,9,  -999.0,9,-999.0000,9,  -999.00,9, -999.00,9,  -999.0,9, -999.00,1, -999.00,1,     -999.0,9, 20220504,     2200,  32.4129, 133.2904,     5.2326,2,     -999.0,9,     -999.0,9,     -999.0,9,     -999.0,9,     0.0134,1,     4.6969,1,     -999.0,9,     -999.0,9,     -999.0,9
33RR20220430,        P02,       4,          1,          5,          5,2,20220504,       2147,    32.4128,   133.2904,        960,   634.8,2,   4.9359,2,  34.2869,2,  34.2842,2,     74.3,2,    74.5,2,   97.04,2,   37.18,2,    0.00,2,    2.65,2,-999.000,9,-999.000,9,-999.0000,9,  -999.0,9,  -999.0,9,-999.0000,9,  -999.00,9, -999.00,9,  -999.0,9, -999.00,1, -999.00,1,     -999.0,9, 20220504,     2158,  32.4129, 133.2904,     4.9370,2,     -999.0,9,     -999.0,9,     -999.0,9,     -999.0,9,     0.0134,1,     4.6946,1,     -999.0,9,     -999.0,9,     -999.0,9
33RR20220430,        P02,       4,          1,          4,          4,2,20220504,       2147,    32.4128,   133.2904,        960,   708.5,2,   4.3324,2,  34.3301,2,  34.3282,2,     66.9,2,    67.0,2,  108.47,2,   38.90,2,    0.00,2,    2.78,2,   0.632,2,-999.000,5,-999.0000,5,  2315.7,2,  2349.8,2,   7.4123,2,    25.01,2, -999.00,9,  -999.0,9, -999.00,1, -999.00,1,       40.8,2, 20220504,     2155,  32.4128, 133.2904,     4.3318,2,     -999.0,9,     -999.0,9,     -999.0,9,     -999.0,9,     0.0134,1,     4.6980,1,     -999.0,9,     -999.0,9,     -999.0,9
33RR20220430,        P02,       4,          1,          3,          3,2,20220504,       2147,    32.4128,   133.2904,        960,   784.1,2,   4.0431,2,  34.3565,2,  34.3541,2,     64.7,2,    65.2,2,  114.33,2,   39.61,2,    0.00,2,    2.79,2,-999.000,9,-999.000,9,-999.0000,9,  -999.0,9,  -999.0,9,-999.0000,9,  -999.00,9, -999.00,9,  -999.0,9, -999.00,1, -999.00,1,     -999.0,9, 20220504,     2153,  32.4129, 133.2904,     4.0433,2,     -999.0,9,     -999.0,9,     -999.0,9,     -999.0,9,     0.0134,1,     4.6942,1,     -999.0,9,     -999.0,9,     -999.0,9
33RR20220430,        P02,       4,          1,          2,          2,2,20220504,       2147,    32.4128,   133.2904,        960,   869.4,2,   3.7198,2,  34.3884,2,  34.3853,2,     63.5,2,    63.5,2,  120.49,2,   39.94,2,    0.00,2,    2.84,2,-999.000,9,-999.000,9,-999.0000,9,  -999.0,9,  -999.0,9,-999.0000,9,  -999.00,9, -999.00,9,  -999.0,9, -999.00,1, -999.00,1,     -999.0,9, 20220504,     2150,  32.4128, 133.2904,     3.7218,2,     -999.0,9,     -999.0,9,     -999.0,9,     -999.0,9,     0.0134,1,     4.6900,1,     -999.0,9,     -999.0,9,     -999.0,9
33RR20220430,        P02,       4,          1,          1,          1,2,20220504,       2147,    32.4128,   133.2904,        960,   958.5,2,   3.5172,2,  34.4096,2,  34.4051,2,     63.4,2,    63.2,2,  124.49,2,   40.44,2,    0.00,2,    2.86,2,   0.337,2,-999.000,5,-999.0000,5,  2340.0,2,  2367.9,2,   7.4058,2,    25.06,2, -999.00,9,  -999.0,9, -999.00,1, -999.00,1,       41.0,2, 20220504,     2147,  32.4128, 133.2904,     3.5170,2,     -999.0,9,     -999.0,9,     -999.0,9,     -999.0,9,     0.0134,1,     4.6856,1,     -999.0,9,     -999.0,9,     -999.0,9