BOTTLE,20230801CCHSIOCBG
EXPOCODE,SECT_ID,STNNBR,CASTNO,SAMPNO,BTLNBR,BTLNBR_FLAG_W,DATE,TIME,LATITUDE,LONGITUDE,DEPTH,CTDPRS,CTDPRS_FLAG_W,CTDTMP,CTDTMP_FLAG_W,CTDSAL,CTDSAL_FLAG_W,SALNTY,SALNTY_FLAG_W,CTDOXY,CTDOXY_FLAG_W,OXYGEN,OXYGEN_FLAG_W,SILCAT,SILCAT_FLAG_W,NITRAT,NITRAT_FLAG_W,NITRIT,NITRIT_FLAG_W,PHSPHT,PHSPHT_FLAG_W,CFC-11,CFC-11_FLAG_W,CFC-12,CFC-12_FLAG_W,SF6,SF6_FLAG_W,TCARBN,TCARBN_FLAG_W,ALKALI,ALKALI_FLAG_W,PH_TOT,PH_TOT_FLAG_W,PH_TMP,PH_TMP_FLAG_W,DELC13,DELC13_FLAG_W,DELC14,DELC14_FLAG_W,DOC,DOC_FLAG_W,TDN,TDN_FLAG_W,N2O,N2O_FLAG_W,BTL_DATE,BTL_TIME,BTL_LAT,BTL_LON,REFTMP,REFTMP_FLAG_W,POC,POC_FLAG_W,PON,PON_FLAG_W,POP,POP_FLAG_W,PCOD,PCOD_FLAG_W,CTDFLUOR,CTDFLUOR_FLAG_W,CTDXMISS,CTDXMISS_FLAG_W,HPLC,HPLC_FLAG_W,DNA,DNA_FLAG_W,FCM,FCM_FLAG_W
,,,,,,,,,,,METERS,DBAR,,ITS-90,,PSS-78,,PSS-78,,UMOL/KG,,UMOL/KG,,UMOL/KG,,UMOL/KG,,UMOL/KG,,UMOL/KG,,PMOL/KG,,PMOL/KG,,FMOL/KG,,UMOL/KG,,UMOL/KG,,,,DEG C,,/MILLE,,/MILLE,,UMOL/KG,,UMOL/KG,,NMOL/KG,,,,,,ITS-90,,UG/L,,UG/L,,UG/L,,UG/L,,VOLTS,,VOLTS,,,,,,,
33RR20220430,        P02,      70,          1,          3,          3,2,20220525,       1143,    30.0003,   172.6047,       5594,  4993.0,2,   1.4677,2,  34.6925,2,  34.6930,2,    167.4,2,   167.7,2,  139.94,2,   34.84,2,    0.00,2,    2.39,2,-999.000,9,-999.000,9,-999.0000,9,  -999.0,9,  -999.0,9,-999.0000,9,  -999.00,9, -999.00,9,  -999.0,9, -999.00,9, -999.00,9,     -999.0,9, 20220525,     1157,  30.0003, 172.6047,     1.4679,2,     -999.0,9,     -999.0,9,     -999.0,9,     -999.0,9,     0.0122,1,     4.7064,1,     -999.0,9,     -999.0,9,     -999.0,9
33RR20220430,        P02,      70,          1,          2,          2,2,20220525,       1143,    30.0003,   172.6047,       5594,  5342.3,2,   1.4834,2,  34.6948,2,  34.6940,2,    172.2,2,   172.3,2,  136.04,2,   34.52,2,    0.00,2,    2.38,2,   0.006,2,   0.000,2,   0.0000,2,  2304.6,2,  2404.4,2,   7.5964,2,    25.00,2, -999.00,9,  -999.0,9, -999.00,9, -999.00,9,       21.2,2, 20220525,     1150,  30.0003, 172.6047,     1.4836,2,     -999.0,9,     -999.0,9,     -999.0,9,     -999.0,9,     0.0122,1,     4.7058,1,     -999.0,9,     -999.0,9,     -999.0,9
33RR20220430,        P02,      70,          1,          1,          1,2,20220525,       1143,    30.0003,   172.6047,       5594,  5693.8,2,   1.4955,2,  34.6969,2,  34.6969,2,    177.6,2,   177.3,2,  132.33,2,   34.13,2,    0.00,2,    2.34,2,   0.010,2,   0.000,2,   0.0000,2,  2298.8,6,  2399.4,2,   7.6008,2,    24.97,2, -999.00,9,  -999.0,9, -999.00,9, -999.00,9,       21.2,2, 20220525,     1143,  30.0003, 172.6047,     1.4956,2,     -999.0,9,     -999.0,9,     -999.0,9,     -999.0,9,     0.0122,1,     4.7035,1,     -999.0,9,     -999.0,9,     -999.0,9
33RR20220430,        P02,      71,          1,         11,         11,2,20220525,       1707,    29.9999,   173.1817,       5247,     4.1,2,  22.4172,2,  34.9967,2,-999.0000,9,    212.0,2,  -999.0,9, -999.00,9, -999.00,9, -999.00,9, -999.00,9,-999.000,9,-999.000,9,-999.0000,9,  -999.0,9,  -999.0,9,-999.0000,9,  -999.00,9, -999.00,9,  -999.0,9, -999.00,9, -999.00,9,     -999.0,9, 20220525,     1733,  29.9999, 173.1817,     -999.0,9,     -999.0,1,     -999.0,1,     -999.0,9,     -999.0,9,     0.0159,1,     4.6163,1,     -999.0,9,     -999.0,9,     -999.0,9
33RR20220430,        P02,      71,          1,         17,         17,2,20220525,       1707,    29.9999,   173.1817,       5247,     4.1,2,  22.4281,2,  34.9971,2,-999.0000,9,    212.0,2,  -999.0,9, -999.00,9, -999.00,9, -999.00,9, -999.00,9,-999.000,9,-999.000,9,-999.0000,9,  -999.0,9,  -999.0,9,-999.0000,9,  -999.00,9, -999.00,9,  -999.0,9, -999.00,9, -999.00,9,     -999.0,9, 20220525,     1735,  29.9999, 173.1817,     -999.0,9,     -999.0,9,     -999.0,9,     -999.0,9,     -999.0,1,     0.0159,1,     4.6061,1,     -999.0,9,     -999.0,9,     -999.0,9
33RR20220430,        P02,      71,          1,         12,         12,2,20220525,       1707,    29.9999,   173.1817,       5247,     4.1,2,  22.4249,2,  34.9968,2,-999.0000,9,    211.5,2,  -999.0,9, -999.00,9, -999.00,9, -999.00,9, -999.00,9,-999.000,9,-999.000,9,-999.0000,9,  -999.0,9,  -999.0,9,-999.0000,9,  -999.00,9, -999.00,9,  -999.0,9, -999.00,9, -999.00,9,     -999.0,9, 20220525,     1733,  29.9999, 173.1817,    22.4220,2,     -999.0,1,     -999.0,1,     -999.0,9,     -999.0,9,     0.0148,1,     4.6116,1,     -999.0,9,     -999.0,9,     -999.0,9
33RR20220430,        P02,      71,          1,         18,         18,2,20220525,       1707,    29.9999,   173.1817,       5247,     4.1,2,  22.4295,2,  34.9973,2,-999.0000,9,    211.8,2,  -999.0,9, -999.00,9, -999.00,9, -999.00,9, -999.00,9,-999.000,9,-999.000,9,-999.0000,9,  -999.0,9,  -999.0,9,-999.0000,9,  -999.00,9, -999.00,9,  -999.0,9, -999.00,9, -999.00,9,     -999.0,9, 20220525,     1735,  29.9999, 173.1817,    22.4299,2,     -999.0,9,     -999.0,9,     -999.0,9,     -999.0,1,     0.0147,1,     4.6151,1,     -999.0,9,     -999.0,9,     -999.0,9
33RR20220430,        P02,      71,          1,         13,         13,2,20220525,       1707,    29.9999,   173.1817,       5247,     4.1,2,  22.4158,2,  34.9967,2,-999.0000,9,    212.0,2,  -999.0,9, -999.00,9, -999.00,9, -999.00,9, -999.00,9,-999.000,9,-999.000,9,-999.0000,9,  -999.0,9,  -999.0,9,-999.0000,9,  -999.00,9, -999.00,9,  -999.0,9, -999.00,9, -999.00,9,     -999.0,9, 20220525,     1734,  29.9999, 173.1817,     -999.0,9,     -999.0,1,     -999.0,1,     -999.0,9,     -999.0,9,     0.0154,1,     4.6162,1,     -999.0,9,     -999.0,9,     -999.0,9
33RR20220430,        P02,      71,          1,         10,         10,2,20220525,       1707,    29.9999,   173.1817,       5247,     4.4,2,  22.4149,2,  34.9965,2,-999.0000,9,    212.2,2,  -999.0,9, -999.00,9, -999.00,9, -999.00,9, -999.00,9,-999.000,9,-999.000,9,-999.0000,9,  -999.0,9,  -999.0,9,-999.0000,9,  -999.00,9, -999.00,9,  -999.0,9, -999.00,9, -999.00,9,     -999.0,9, 20220525,     1733,  29.9999, 173.1817,    22.4175,2,     -999.0,9,     -999.0,9,     -999.0,9,     -999.0,9,     0.0147,1,     4.6152,1,     -999.0,9,     -999.0,1,     -999.0,9
33RR20220430,        P02,      71,          1,         14,         14,2,20220525,       1707,    29.9999,   173.1817,       5247,     4.4,2,  22.4095,2,  34.9970,2,-999.0000,9,    211.8,2,  -999.0,9, -999.00,9, -999.00,9, -999.00,9, -999.00,9,-999.000,9,-999.000,9,-999.0000,9,  -999.0,9,  -999.0,9,-999.0000,9,  -999.00,9, -999.00,9,  -999.0,9, -999.00,9, -999.00,9,     -999.0,9, 20220525,     1734,  29.9999, 173.1817,    22.4223,2,     -999.0,9,     -999.0,9,     -999.0,1,     -999.0,9,     0.0155,1,     4.6161,1,     -999.0,9,     -999.0,9,     -999.0,9
33RR20220430,        P02,      71,          1,         19,         19,2,20220525,       1707,    29.9999,   173.1817,       5247,     4.4,2,  22.4311,2,  34.9972,2,-999.0000,9,    211.5,2,  -999.0,9, -999.00,9, -999.00,9, -999.00,9, -999.00,9,-999.000,9,-999.000,9,-999.0000,9,  -999.0,9,  -999.0,9,-999.0000,9,  -999.00,9, -999.00,9,  -999.0,9, -999.00,9, -999.00,9,     -999.0,9, 20220525,     1735,  29.9999, 173.1817,     -999.0,9,     -999.0,9,     -999.0,9,     -999.0,9,     -999.0,1,     0.0147,1,     4.6148,1,     -999.0,9,     -999.0,9,     -999.0,9
33RR20220430,        P02,      71,          1,         16,         16,2,20220525,       1707,    29.9999,   173.1817,       5247,     4.5,2,  22.4269,2,  34.9970,2,-999.0000,9,    211.8,2,  -999.0,9, -999.00,9, -999.00,9, -999.00,9, -999.00,9,-999.000,9,-999.000,9,-999.0000,9,  -999.0,9,  -999.0,9,-999.0000,9,  -999.00,9, -999.00,9,  -999.0,9, -999.00,9, -999.00,9,     -999.0,9, 20220525,     1734,  29.9999, 173.1817,    22.4279,2,     -999.0,9,     -999.0,9,     -999.0,1,     -999.0,9,     0.0155,1,     4.6154,1,     -999.0,9,     -999.0,9,     -999.0,9
33RR20220430,        P02,      71,          1,         15,         15,2,20220525,       1707,    29.9999,   173.1817,       5247,     4.6,2,  22.4294,2,  34.9969,2,-999.0000,9,    211.6,2,  -999.0,9, -999.00,9, -999.00,9, -999.00,9, -999.00,9,-999.000,9,-999.000,9,-999.0000,9,  -999.0,9,  -999.0,9,-999.0000,9,  -999.00,9, -999.00,9,  -999.0,9, -999.00,9, -999.00,9,     -999.0,9, 20220525,     1734,  29.9999, 173.1817,     -999.0,9,     -999.0,9,     -999.0,9,     -999.0,1,     -999.0,9,     0.0147,1,     4.6158,1,     -999.0,9,     -999.0,9,     -999.0,9
33RR20220430,        P02,      71,          1,          9,          9,2,20220525,       1707,    29.9999,   173.1817,       5247,     4.9,2,  22.4240,2,  34.9963,2,-999.0000,9,    212.3,2,  -999.0,9, -999.00,9, -999.00,9, -999.00,9, -999.00,9,-999.000,9,-999.000,9,-999.0000,9,  -999.0,9,  -999.0,9,-999.0000,9,  -999.00,9, -999.00,9,  -999.0,9, -999.00,9, -999.00,9,     -999.0,9, 20220525,     1733,  29.9999, 173.1817,    22.4076,2,     -999.0,9,     -999.0,9,     -999.0,9,     -999.0,9,     0.0147,1,     4.6165,1,     -999.0,1,     -999.0,9,     -999.0,1
33RR20220430,        P02,      71,          1,          8,          8,2,20220525,       1707,    29.9999,   173.1817,       5247,    40.9,2,  20.0652,2,  35.0043,2,-999.0000,9,    223.3,2,  -999.0,9, -999.00,9, -999.00,9, -999.00,9, -999.00,9,-999.000,9,-999.000,9,-999.0000,9,  -999.0,9,  -999.0,9,-999.0000,9,  -999.00,9, -999.00,9,  -999.0,9, -999.00,9, -999.00,9,     -999.0,9, 20220525,     1730,  29.9999, 173.1817,    20.0737,2,     -999.0,9,     -999.0,9,     -999.0,9,     -999.0,9,     0.0165,1,     4.6306,1,     -999.0,1,     -999.0,9,     -999.0,1
33RR20220430,        P02,      71,          1,          7,          7,2,20220525,       1707,    29.9999,   173.1817,       5247,    79.5,2,  18.9227,2,  34.8893,2,-999.0000,9,    227.2,2,  -999.0,9, -999.00,9, -999.00,9, -999.00,9, -999.00,9,-999.000,9,-999.000,9,-999.0000,9,  -999.0,9,  -999.0,9,-999.0000,9,  -999.00,9, -999.00,9,  -999.0,9, -999.00,9, -999.00,9,     -999.0,9, 20220525,     1728,  29.9999, 173.1817,    18.9263,2,     -999.0,9,     -999.0,9,     -999.0,9,     -999.0,9,     0.0183,1,     4.6272,1,     -999.0,9,     -999.0,9,     -999.0,1
33RR20220430,        P02,      71,          1,          5,          5,2,20220525,       1707,    29.9999,   173.1817,       5247,   104.4,2,  18.0835,2,  34.8076,2,-999.0000,9,    222.6,2,  -999.0,9, -999.00,9, -999.00,9, -999.00,9, -999.00,9,-999.000,9,-999.000,9,-999.0000,9,  -999.0,9,  -999.0,9,-999.0000,9,  -999.00,9, -999.00,9,  -999.0,9, -999.00,9, -999.00,9,     -999.0,9, 20220525,     1726,  29.9999, 173.1817,    18.0744,2,     -999.0,9,     -999.0,9,     -999.0,9,     -999.0,9,     0.0357,1,     4.6205,1,     -999.0,9,     -999.0,1,     -999.0,9
33RR20220430,        P02,      71,          1,          6,          6,2,20220525,       1707,    29.9999,   173.1817,       5247,   104.6,2,  18.0716,2,  34.8072,2,-999.0000,9,    223.1,2,  -999.0,9, -999.00,9, -999.00,9, -999.00,9, -999.00,9,-999.000,9,-999.000,9,-999.0000,9,  -999.0,9,  -999.0,9,-999.0000,9,  -999.00,9, -999.00,9,  -999.0,9, -999.00,9, -999.00,9,     -999.0,9, 20220525,     1726,  29.9999, 173.1817,     -999.0,9,     -999.0,9,     -999.0,9,     -999.0,9,     -999.0,9,     0.0374,1,     4.6202,1,     -999.0,1,     -999.0,9,     -999.0,1
33RR20220430,        P02,      71,          1,          4,          4,2,20220525,       1707,    29.9999,   173.1817,       5247,   154.6,2,  16.8452,2,  34.6956,2,-999.0000,9,    215.4,2,  -999.0,9, -999.00,9, -999.00,9, -999.00,9, -999.00,9,-999.000,9,-999.000,9,-999.0000,9,  -999.0,9,  -999.0,9,-999.0000,9,  -999.00,9, -999.00,9,  -999.0,9, -999.00,9, -999.00,9,     -999.0,9, 20220525,     1724,  29.9999, 173.1817,    16.8383,2,     -999.0,9,     -999.0,9,     -999.0,9,     -999.0,9,     0.0208,1,     4.6682,1,     -999.0,9,     -999.0,9,     -999.0,1
33RR20220430,        P02,      71,          1,          3,          3,2,20220525,       1707,    29.9999,   173.1817,       5247,   204.9,2,  16.3093,2,  34.6455,2,-999.0000,9,    214.8,2,  -999.0,9, -999.00,9, -999.00,9, -999.00,9, -999.00,9,-999.000,9,-999.000,9,-999.0000,9,  -999.0,9,  -999.0,9,-999.0000,9,  -999.00,9, -999.00,9,  -999.0,9, -999.00,9, -999.00,9,     -999.0,9, 20220525,     1723,  29.9999, 173.1817,    16.3077,2,     -999.0,9,     -999.0,9,     -999.0,9,     -999.0,9,     0.0122,1,     4.6876,1,     -999.0,9,     -999.0,1,     -999.0,1
33RR20220430,        P02,      71,          1,          2,          2,2,20220525,       1707,    29.9999,   173.1817,       5247,   507.3,2,  10.5296,2,  34.2089,2,-999.0000,9,    195.1,2,  -999.0,9, -999.00,9, -999.00,9, -999.00,9, -999.00,9,-999.000,9,-999.000,9,-999.0000,9,  -999.0,9,  -999.0,9,-999.0000,9,  -999.00,9, -999.00,9,  -999.0,9, -999.00,9, -999.00,9,     -999.0,9, 20220525,     1717,  29.9999, 173.1817,    10.5293,2,     -999.0,9,     -999.0,9,     -999.0,9,     -999.0,9,     0.0122,1,     4.6974,1,     -999.0,9,     -999.0,9,     -999.0,1
33RR20220430,        P02,      71,          1,          1,          1,2,20220525,       1707,    29.9999,   173.1817,       5247,  1010.0,2,   3.7143,2,  34.2718,2,-999.0000,9,     34.7,2,  -999.0,9, -999.00,9, -999.00,9, -999.00,9, -999.00,9,-999.000,9,-999.000,9,-999.0000,9,  -999.0,9,  -999.0,9,-999.0000,9,  -999.00,9, -999.00,9,  -999.0,9, -999.00,9, -999.00,9,     -999.0,9, 20220525,     1707,  29.9999, 173.1817,     3.7157,2,     -999.0,9,     -999.0,9,     -999.0,9,     -999.0,9,     0.0134,1,     4.7010,1,     -999.0,9,     -999.0,1,     -999.0,1