BOTTLE,20230801CCHSIOCBG
EXPOCODE,SECT_ID,STNNBR,CASTNO,SAMPNO,BTLNBR,BTLNBR_FLAG_W,DATE,TIME,LATITUDE,LONGITUDE,DEPTH,CTDPRS,CTDPRS_FLAG_W,CTDTMP,CTDTMP_FLAG_W,CTDSAL,CTDSAL_FLAG_W,SALNTY,SALNTY_FLAG_W,CTDOXY,CTDOXY_FLAG_W,OXYGEN,OXYGEN_FLAG_W,SILCAT,SILCAT_FLAG_W,NITRAT,NITRAT_FLAG_W,NITRIT,NITRIT_FLAG_W,PHSPHT,PHSPHT_FLAG_W,CFC-11,CFC-11_FLAG_W,CFC-12,CFC-12_FLAG_W,SF6,SF6_FLAG_W,TCARBN,TCARBN_FLAG_W,ALKALI,ALKALI_FLAG_W,PH_TOT,PH_TOT_FLAG_W,PH_TMP,PH_TMP_FLAG_W,DELC13,DELC13_FLAG_W,DELC14,DELC14_FLAG_W,DOC,DOC_FLAG_W,TDN,TDN_FLAG_W,N2O,N2O_FLAG_W,BTL_DATE,BTL_TIME,BTL_LAT,BTL_LON,REFTMP,REFTMP_FLAG_W,POC,POC_FLAG_W,PON,PON_FLAG_W,POP,POP_FLAG_W,PCOD,PCOD_FLAG_W,CTDFLUOR,CTDFLUOR_FLAG_W,CTDXMISS,CTDXMISS_FLAG_W,HPLC,HPLC_FLAG_W,DNA,DNA_FLAG_W,FCM,FCM_FLAG_W
,,,,,,,,,,,METERS,DBAR,,ITS-90,,PSS-78,,PSS-78,,UMOL/KG,,UMOL/KG,,UMOL/KG,,UMOL/KG,,UMOL/KG,,UMOL/KG,,PMOL/KG,,PMOL/KG,,FMOL/KG,,UMOL/KG,,UMOL/KG,,,,DEG C,,/MILLE,,/MILLE,,UMOL/KG,,UMOL/KG,,NMOL/KG,,,,,,ITS-90,,UG/L,,UG/L,,UG/L,,UG/L,,VOLTS,,VOLTS,,,,,,,
33RR20220430,        P02,      44,          2,         36,         36,2,20220517,       0801,    30.0005,   157.3115,       5258,     2.7,2,  21.4956,2,  34.7713,2,  34.7736,2,    229.9,2,   229.1,2,    0.10,2,    0.00,2,    0.00,2,    0.00,2,   1.968,2,   1.219,2,   2.1280,2,  2015.6,6,  2283.2,2,   7.9915,2,    25.00,2, -999.00,9,  -999.0,9, -999.00,1, -999.00,1,        6.7,2, 20220517,     1011,  30.0005, 157.3115,    21.4927,2,     -999.0,9,     -999.0,9,     -999.0,9,     -999.0,9,     0.0154,1,     4.5983,1,     -999.0,9,     -999.0,9,     -999.0,9
33RR20220430,        P02,      44,          2,         35,         35,2,20220517,       0801,    30.0005,   157.3115,       5258,    22.1,2,  18.8610,2,  34.7186,2,  34.7127,2,    239.4,2,   239.5,2,    0.00,2,    0.00,2,    0.00,2,    0.03,2,   2.071,2,   1.286,2,   2.1829,2,  2010.8,2,  2280.2,2,   7.9965,2,    24.99,2, -999.00,9,  -999.0,9, -999.00,1, -999.00,1,        7.3,2, 20220517,     1008,  30.0005, 157.3115,    18.8595,2,     -999.0,9,     -999.0,9,     -999.0,9,     -999.0,9,     0.0215,1,     4.5496,1,     -999.0,9,     -999.0,9,     -999.0,9
33RR20220430,        P02,      44,          2,         34,         34,2,20220517,       0801,    30.0005,   157.3115,       5258,    42.0,2,  18.0108,2,  34.7407,2,  34.7321,2,    241.2,2,   242.1,2,    0.49,2,    0.01,2,    0.00,2,    0.05,2,   2.132,2,   1.312,2,   2.2470,2,  2014.0,2,  2281.7,2,   7.9933,2,    24.92,2, -999.00,9,  -999.0,9, -999.00,1, -999.00,1,        7.6,2, 20220517,     1007,  30.0005, 157.3115,    18.0166,2,     -999.0,9,     -999.0,9,     -999.0,9,     -999.0,9,     0.0695,1,     4.4673,1,     -999.0,9,     -999.0,9,     -999.0,9
33RR20220430,        P02,      44,          2,         33,         33,2,20220517,       0801,    30.0005,   157.3115,       5258,    67.2,2,  17.4476,2,  34.7247,2,  34.7174,2,    229.2,2,   229.1,2,    1.56,2,    1.57,2,    0.44,2,    0.17,2,-999.000,5,-999.000,5,-999.0000,5,  2025.7,2,  -999.0,1,   7.9641,2,    24.98,2, -999.00,9,  -999.0,9, -999.00,1, -999.00,1,     -999.0,5, 20220517,     1005,  30.0005, 157.3115,    17.4469,2,     -999.0,9,     -999.0,9,     -999.0,9,     -999.0,9,     0.0412,1,     4.6167,1,     -999.0,9,     -999.0,9,     -999.0,9
33RR20220430,        P02,      44,          2,         32,         32,2,20220517,       0801,    30.0005,   157.3115,       5258,    92.4,2,  17.2645,2,  34.7236,2,  34.7152,2,    229.5,2,   229.7,2,    1.76,2,    1.50,2,    0.62,2,    0.19,2,   2.111,2,   1.340,2,   2.1646,2,  2028.1,2,  2279.7,2,   7.9669,2,    24.93,2, -999.00,9,  -999.0,9, -999.00,1, -999.00,1,        8.7,2, 20220517,     1003,  30.0005, 157.3115,    17.2615,2,     -999.0,9,     -999.0,9,     -999.0,9,     -999.0,9,     0.0191,1,     4.6592,1,     -999.0,9,     -999.0,9,     -999.0,9
33RR20220430,        P02,      44,          2,         31,         31,2,20220517,       0801,    30.0005,   157.3115,       5258,   138.3,2,  16.9866,2,  34.7055,2,  34.6971,2,    228.1,2,   228.7,2,    2.34,2,    2.58,2,    0.18,2,    0.22,2,   2.118,2,   1.353,2,   2.0421,2,  2033.0,2,  2278.3,2,   7.9552,2,    25.00,2, -999.00,9,  -999.0,9, -999.00,1, -999.00,1,        8.9,2, 20220517,     1001,  30.0005, 157.3115,    16.9907,2,     -999.0,9,     -999.0,9,     -999.0,9,     -999.0,9,     0.0153,1,     4.6723,1,     -999.0,9,     -999.0,9,     -999.0,9
33RR20220430,        P02,      44,          2,         30,         30,2,20220517,       0801,    30.0005,   157.3115,       5258,   188.0,2,  16.4744,2,  34.6954,2,  34.6875,2,    219.2,2,   219.3,2,    3.52,2,    4.47,2,    0.01,2,    0.32,2,   2.162,2,   1.370,2,   2.0535,2,  2046.8,2,  2278.3,2,   7.9299,2,    25.01,2, -999.00,9,  -999.0,9, -999.00,1, -999.00,1,        9.3,2, 20220517,      959,  30.0005, 157.3115,    16.4744,2,     -999.0,9,     -999.0,9,     -999.0,9,     -999.0,9,     0.0122,1,     4.6826,1,     -999.0,9,     -999.0,9,     -999.0,9
33RR20220430,        P02,      44,          2,         29,         29,2,20220517,       0801,    30.0005,   157.3115,       5258,   242.6,2,  15.9582,2,  34.6704,2,  34.6645,2,    215.5,2,   216.2,2,    4.69,2,    5.50,2,    0.00,2,    0.36,2,   2.189,6,   1.382,6,   1.9957,6,  2051.7,2,  2277.1,2,   7.9128,2,    25.01,2, -999.00,9,  -999.0,9, -999.00,1, -999.00,1,       10.0,6, 20220517,      957,  30.0005, 157.3115,    15.9690,2,     -999.0,9,     -999.0,9,     -999.0,9,     -999.0,9,     0.0122,1,     4.6825,1,     -999.0,9,     -999.0,9,     -999.0,9
33RR20220430,        P02,      44,          2,         28,         28,2,20220517,       0801,    30.0005,   157.3115,       5258,   288.4,2,  15.4810,2,  34.6295,2,  34.6219,2,    210.6,2,   210.7,2,    6.35,2,    6.86,2,    0.00,2,    0.47,2,   2.212,2,   1.401,2,   2.1063,2,  2062.2,2,  2277.4,2,   7.8922,2,    25.02,2, -999.00,9,  -999.0,9, -999.00,1, -999.00,1,       12.0,2, 20220517,      955,  30.0005, 157.3115,    15.4790,2,     -999.0,9,     -999.0,9,     -999.0,9,     -999.0,9,     0.0122,1,     4.6882,1,     -999.0,9,     -999.0,9,     -999.0,9
33RR20220430,        P02,      44,          2,         27,         27,2,20220517,       0801,    30.0005,   157.3115,       5258,   338.8,2,  14.6061,2,  34.5478,2,  34.5376,2,    197.6,2,   197.1,2,    9.57,2,    9.55,2,    0.00,2,    0.64,2,   2.278,2,   1.435,2,   1.6941,2,  2081.1,2,  2276.2,2,   7.8483,2,    24.99,2, -999.00,9,  -999.0,9, -999.00,1, -999.00,1,       12.8,2, 20220517,      953,  30.0005, 157.3115,    14.6021,2,     -999.0,9,     -999.0,9,     -999.0,9,     -999.0,9,     0.0122,1,     4.6897,1,     -999.0,9,     -999.0,9,     -999.0,9
33RR20220430,        P02,      44,          2,         26,         26,2,20220517,       0801,    30.0005,   157.3115,       5258,   389.5,2,  13.0671,2,  34.4272,2,  34.4159,2,    205.2,2,   206.7,2,   12.60,2,   11.20,2,    0.00,2,    0.78,2,   2.451,2,   1.528,2,   2.0518,2,  2095.1,2,  2272.5,2,   7.8181,2,    24.98,2, -999.00,9,  -999.0,9, -999.00,1, -999.00,1,       13.5,2, 20220517,      951,  30.0005, 157.3115,    13.0672,2,     -999.0,9,     -999.0,9,     -999.0,9,     -999.0,9,     0.0122,1,     4.6910,1,     -999.0,9,     -999.0,9,     -999.0,9
33RR20220430,        P02,      44,          2,         25,         25,2,20220517,       0801,    30.0005,   157.3115,       5258,   469.1,2,  10.9335,2,  34.2562,2,  34.2572,2,    201.2,2,   201.4,2,   19.25,2,   14.83,2,    0.00,2,    1.03,2,   2.588,2,   1.598,2,   1.8407,2,  2117.7,2,  2271.1,2,   7.7569,2,    24.99,2, -999.00,9,  -999.0,9, -999.00,1, -999.00,1,       16.0,2, 20220517,      949,  30.0005, 157.3115,    10.9802,2,     -999.0,9,     -999.0,9,     -999.0,9,     -999.0,9,     0.0122,1,     4.6955,1,     -999.0,9,     -999.0,9,     -999.0,9
33RR20220430,        P02,      44,          2,         24,         24,2,20220517,       0801,    30.0005,   157.3115,       5258,   570.7,2,   7.8361,2,  34.0328,2,  34.0251,2,    174.3,2,   174.7,2,   39.19,2,   23.26,2,    0.00,2,    1.64,2,   2.444,2,   1.501,2,   1.4975,2,  2176.7,2,  2276.5,2,   7.6206,2,    24.98,2, -999.00,9,  -999.0,9, -999.00,9, -999.00,9,       20.9,2, 20220517,      946,  30.0005, 157.3115,     7.8389,2,     -999.0,9,     -999.0,9,     -999.0,9,     -999.0,9,     0.0127,1,     4.7020,1,     -999.0,9,     -999.0,9,     -999.0,9
33RR20220430,        P02,      44,          2,         23,         23,2,20220517,       0801,    30.0005,   157.3115,       5258,   671.1,2,   5.6861,2,  33.9795,2,  33.9788,2,    127.5,2,   127.6,2,   19.45,4,   14.86,4,    0.00,4,    1.04,4,   2.169,2,   1.287,2,   1.0320,2,  2238.1,2,  2290.7,2,   7.4838,2,    24.99,2, -999.00,9,  -999.0,9, -999.00,1, -999.00,1,       31.0,2, 20220517,      944,  30.0005, 157.3115,     5.6844,2,     -999.0,9,     -999.0,9,     -999.0,9,     -999.0,9,     0.0131,1,     4.7030,1,     -999.0,9,     -999.0,9,     -999.0,9
33RR20220430,        P02,      44,          2,         22,         22,2,20220517,       0801,    30.0005,   157.3115,       5258,   773.1,2,   4.8123,2,  34.0877,2,  34.0882,2,     80.4,3,    79.5,2,   86.98,2,   37.19,2,    0.00,2,    2.61,2,   1.398,2,   0.831,2,   0.6020,2,  2289.0,2,  2312.1,2,   7.3939,2,    24.99,2, -999.00,9,  -999.0,9, -999.00,9, -999.00,9,       38.9,2, 20220517,      941,  30.0005, 157.3115,     4.8119,2,     -999.0,9,     -999.0,9,     -999.0,9,     -999.0,9,     0.0134,1,     4.7028,1,     -999.0,9,     -999.0,9,     -999.0,9
33RR20220430,        P02,      44,          2,         21,         21,2,20220517,       0801,    30.0005,   157.3115,       5258,   873.6,2,   4.1693,2,  34.1993,2,  34.1971,2,     52.9,2,    52.7,2,  105.53,2,   40.14,2,    0.00,2,    2.81,2,   0.832,2,   0.495,2,   0.3007,2,  2321.8,2,  2334.0,2,   7.3557,2,    24.97,2, -999.00,9,  -999.0,9, -999.00,1, -999.00,1,       43.9,2, 20220517,      938,  30.0005, 157.3115,     4.1700,2,     -999.0,9,     -999.0,9,     -999.0,9,     -999.0,9,     0.0134,1,     4.7020,1,     -999.0,9,     -999.0,9,     -999.0,9
33RR20220430,        P02,      44,          2,         20,         20,2,20220517,       0801,    30.0005,   157.3115,       5258,   974.6,2,   3.6630,2,  34.2830,2,  34.2829,2,     39.4,2,    39.6,2,  120.28,2,   41.79,2,    0.00,2,    2.94,2,   0.450,2,   0.262,2,   0.0000,2,  2345.2,2,  2352.6,2,   7.3376,2,    25.00,2, -999.00,9,  -999.0,9, -999.00,9, -999.00,9,       45.4,2, 20220517,      935,  30.0005, 157.3115,     3.6631,2,     -999.0,9,     -999.0,9,     -999.0,9,     -999.0,9,     0.0134,1,     4.7027,1,     -999.0,9,     -999.0,9,     -999.0,9
33RR20220430,        P02,      44,          2,         19,         19,2,20220517,       0801,    30.0005,   157.3115,       5258,  1075.7,2,   3.3331,2,  34.3444,2,  34.3423,2,     36.8,2,    37.0,2,  130.05,2,   42.29,2,    0.00,2,    2.97,2,   0.293,2,   0.171,2,   0.0000,2,  2354.7,2,  2363.6,2,   7.3401,2,    24.99,2, -999.00,9,  -999.0,9, -999.00,1, -999.00,1,       47.1,2, 20220517,      932,  30.0005, 157.3115,     3.3395,2,     -999.0,9,     -999.0,9,     -999.0,9,     -999.0,9,     0.0134,1,     4.7029,1,     -999.0,9,     -999.0,9,     -999.0,9
33RR20220430,        P02,      44,          2,         18,         18,2,20220517,       0801,    30.0005,   157.3115,       5258,  1176.8,2,   3.1310,2,  34.4036,2,  34.4041,2,     32.7,2,    32.8,2,  136.10,2,   42.89,2,    0.00,2,    3.04,2,   0.100,2,   0.056,2,   0.0000,2,  2365.9,6,  2374.3,2,   7.3403,2,    24.98,2, -999.00,9,  -999.0,9, -999.00,9, -999.00,9,       47.7,2, 20220517,      929,  30.0005, 157.3115,     3.1312,2,     -999.0,9,     -999.0,9,     -999.0,9,     -999.0,9,     0.0134,1,     4.7057,1,     -999.0,9,     -999.0,9,     -999.0,9
33RR20220430,        P02,      44,          2,         17,         17,2,20220517,       0801,    30.0005,   157.3115,       5258,  1279.1,2,   2.9054,2,  34.4371,2,  34.4355,2,     33.8,2,    34.1,2,  142.15,2,   42.94,2,    0.00,2,    3.04,2,   0.072,2,   0.042,2,   0.0000,2,  2372.4,2,  2381.1,2,   7.3451,2,    24.99,2, -999.00,9,  -999.0,9, -999.00,1, -999.00,1,       46.7,2, 20220517,      926,  30.0005, 157.3115,     2.9063,2,     -999.0,9,     -999.0,9,     -999.0,9,     -999.0,9,     0.0134,1,     4.7053,1,     -999.0,9,     -999.0,9,     -999.0,9
33RR20220430,        P02,      44,          2,         16,         16,2,20220517,       0801,    30.0005,   157.3115,       5258,  1380.6,2,   2.6386,2,  34.4830,2,  34.4838,2,     38.8,2,    39.0,2,  149.48,2,   42.91,2,    0.00,2,    3.01,2,   0.035,2,   0.021,2,   0.0000,2,  2377.2,2,  2389.1,2,   7.3575,2,    24.99,2, -999.00,9,  -999.0,9, -999.00,9, -999.00,9,       44.6,2, 20220517,      923,  30.0005, 157.3115,     2.6377,2,     -999.0,9,     -999.0,9,     -999.0,9,     -999.0,9,     0.0134,1,     4.7057,1,     -999.0,9,     -999.0,9,     -999.0,9
33RR20220430,        P02,      44,          2,         15,         15,2,20220517,       0801,    30.0005,   157.3115,       5258,  1552.1,2,   2.3696,2,  34.5290,2,  34.5276,2,     50.0,2,    50.4,2,  155.14,2,   42.35,2,    0.00,2,    2.97,2,   0.017,2,   0.012,2,   0.0000,2,  2376.7,2,  2398.4,2,   7.3805,2,    24.98,2, -999.00,9,  -999.0,9, -999.00,1, -999.00,1,       41.0,2, 20220517,      919,  30.0005, 157.3115,     2.3693,2,     -999.0,9,     -999.0,9,     -999.0,9,     -999.0,9,     0.0134,1,     4.7068,1,     -999.0,9,     -999.0,9,     -999.0,9
33RR20220430,        P02,      44,          2,         14,         14,2,20220517,       0801,    30.0005,   157.3115,       5258,  1753.7,2,   2.1183,2,  34.5713,2,  34.5706,2,     66.9,2,    66.8,2,  158.16,2,   41.35,2,    0.00,2,    2.89,2,   0.009,2,   0.004,2,   0.0000,2,  2370.9,2,  2406.5,2,   7.4161,2,    24.98,2, -999.00,9,  -999.0,9, -999.00,9, -999.00,9,       36.0,2, 20220517,      915,  30.0005, 157.3115,     2.1191,2,     -999.0,9,     -999.0,9,     -999.0,9,     -999.0,9,     0.0134,1,     4.7075,1,     -999.0,9,     -999.0,9,     -999.0,9
33RR20220430,        P02,      44,          2,         13,         13,2,20220517,       0801,    30.0005,   157.3115,       5258,  1957.6,2,   1.9602,2,  34.5984,2,  34.5957,2,     82.9,2,    82.8,2,  157.96,2,   40.26,2,    0.00,2,    2.81,2,   0.006,2,   0.000,2,   0.0000,2,  2363.9,2,  2408.4,2,   7.4480,2,    24.99,2, -999.00,9,  -999.0,9, -999.00,1, -999.00,1,       32.7,2, 20220517,      910,  30.0005, 157.3115,     1.9602,2,     -999.0,9,     -999.0,9,     -999.0,9,     -999.0,9,     0.0128,1,     4.7081,1,     -999.0,9,     -999.0,9,     -999.0,9
33RR20220430,        P02,      44,          2,         12,         12,2,20220517,       0801,    30.0005,   157.3115,       5258,  2191.6,2,   1.8139,2,  34.6236,2,  34.6236,2,    101.6,2,   101.5,2,  155.32,2,   39.22,2,    0.00,2,    2.73,2,   0.004,2,   0.000,2,   0.0000,2,  2353.4,2,  2411.6,2,   7.4844,2,    24.98,2, -999.00,9,  -999.0,9, -999.00,9, -999.00,9,       29.1,2, 20220517,      905,  30.0005, 157.3115,     1.8137,2,     -999.0,9,     -999.0,9,     -999.0,9,     -999.0,9,     0.0133,1,     4.7088,1,     -999.0,9,     -999.0,9,     -999.0,9
33RR20220430,        P02,      44,          2,         11,         11,2,20220517,       0801,    30.0005,   157.3115,       5258,  2450.3,2,   1.6837,2,  34.6405,2,  34.6392,2,    110.6,2,   110.4,2,  157.18,2,   38.62,2,    0.00,2,    2.68,2,   0.003,2,   0.000,2,   0.0000,2,  2350.1,2,  2413.0,2,   7.5011,2,    24.97,2, -999.00,9,  -999.0,9, -999.00,1, -999.00,1,       27.8,2, 20220517,      900,  30.0005, 157.3115,     1.6837,2,     -999.0,9,     -999.0,9,     -999.0,9,     -999.0,9,     0.0122,1,     4.7091,1,     -999.0,9,     -999.0,9,     -999.0,9
33RR20220430,        P02,      44,          2,         10,         10,2,20220517,       0801,    30.0005,   157.3115,       5258,  2704.5,2,   1.5978,2,  34.6537,2,  34.6537,2,    121.7,2,   121.7,2,  155.32,2,   37.92,2,    0.00,2,    2.62,2,   0.004,2,   0.000,2,   0.0000,2,  2344.9,2,  2413.6,2,   7.5209,2,    25.00,2, -999.00,9,  -999.0,9, -999.00,9, -999.00,9,       26.1,2, 20220517,      855,  30.0005, 157.3115,     1.5977,2,     -999.0,9,     -999.0,9,     -999.0,9,     -999.0,9,     0.0122,1,     4.7091,1,     -999.0,9,     -999.0,9,     -999.0,9
33RR20220430,        P02,      44,          2,          9,          9,2,20220517,       0801,    30.0005,   157.3115,       5258,  2961.5,2,   1.5500,2,  34.6628,3,  34.6606,2,    131.4,2,   131.9,2,  152.29,2,   37.30,2,    0.00,2,    2.58,2,   0.004,2,   0.000,2,   0.0000,2,  2337.8,2,  2412.0,2,   7.5383,2,    24.90,2, -999.00,9,  -999.0,9, -999.00,1, -999.00,1,       24.9,2, 20220517,      850,  30.0005, 157.3115,     1.5499,2,     -999.0,9,     -999.0,9,     -999.0,9,     -999.0,9,     0.0122,1,     4.7094,1,     -999.0,9,     -999.0,9,     -999.0,9
33RR20220430,        P02,      44,          2,          8,          8,2,20220517,       0801,    30.0005,   157.3115,       5258,  3250.6,2,   1.4997,2,  34.6710,2,  34.6700,2,    139.3,2,   139.5,2,  151.12,2,   36.76,2,    0.00,2,    2.52,2,-999.000,9,-999.000,9,-999.0000,9,  2331.7,2,  2413.3,2,   7.5521,2,    24.99,2, -999.00,9,  -999.0,9, -999.00,9, -999.00,9,     -999.0,9, 20220517,      844,  30.0004, 157.3116,     1.4998,2,     -999.0,9,     -999.0,9,     -999.0,9,     -999.0,9,     0.0124,1,     4.7097,1,     -999.0,9,     -999.0,9,     -999.0,9
33RR20220430,        P02,      44,          2,          7,          7,2,20220517,       0801,    30.0005,   157.3115,       5258,  3555.9,2,   1.4683,2,  34.6770,2,  34.6767,2,    146.2,2,   146.2,2,  149.55,2,   36.34,2,    0.00,2,    2.49,2,   0.004,2,   0.000,2,   0.0000,2,  2326.4,2,  2412.4,2,   7.5631,2,    24.99,2, -999.00,9,  -999.0,9, -999.00,1, -999.00,1,       23.9,2, 20220517,      838,  30.0005, 157.3115,     1.4681,2,     -999.0,9,     -999.0,9,     -999.0,9,     -999.0,9,     0.0127,1,     4.7104,1,     -999.0,9,     -999.0,9,     -999.0,9
33RR20220430,        P02,      44,          2,          6,          6,2,20220517,       0801,    30.0005,   157.3115,       5258,  3861.7,2,   1.4522,2,  34.6811,2,  34.6804,2,    149.5,2,   149.6,2,  150.82,2,   36.19,2,    0.00,2,    2.46,2,-999.000,9,-999.000,9,-999.0000,9,  2324.6,2,  2413.3,2,   7.5682,2,    25.00,2, -999.00,9,  -999.0,9, -999.00,1, -999.00,1,     -999.0,9, 20220517,      831,  30.0004, 157.3115,     1.4522,2,     -999.0,9,     -999.0,9,     -999.0,9,     -999.0,9,     0.0129,1,     4.7079,1,     -999.0,9,     -999.0,9,     -999.0,9
33RR20220430,        P02,      44,          2,          5,          5,2,20220517,       0801,    30.0005,   157.3115,       5258,  4170.7,2,   1.4553,2,  34.6842,2,  34.6848,2,    153.2,2,   153.5,2,  149.75,2,   35.87,2,    0.00,2,    2.44,2,   0.005,2,   0.000,2,   0.0000,2,  2321.8,2,  2411.4,2,   7.5752,2,    24.97,2, -999.00,9,  -999.0,9, -999.00,1, -999.00,1,       22.7,2, 20220517,      825,  30.0005, 157.3116,     1.4553,2,     -999.0,9,     -999.0,9,     -999.0,9,     -999.0,9,     0.0122,1,     4.7060,1,     -999.0,9,     -999.0,9,     -999.0,9
33RR20220430,        P02,      44,          2,          4,          4,2,20220517,       0801,    30.0005,   157.3115,       5258,  4478.9,2,   1.4651,2,  34.6869,2,  34.6863,2,    157.1,2,   156.8,2,  147.99,2,   35.63,2,    0.00,2,    2.42,2,-999.000,9,-999.000,9,-999.0000,9,  2320.3,2,  2412.0,2,   7.5805,2,    24.99,2, -999.00,9,  -999.0,9, -999.00,9, -999.00,9,     -999.0,9, 20220517,      819,  30.0004, 157.3115,     1.4652,2,     -999.0,9,     -999.0,9,     -999.0,9,     -999.0,9,     0.0121,1,     4.7069,1,     -999.0,9,     -999.0,9,     -999.0,9