BOTTLE,20230801CCHSIOCBG
EXPOCODE,SECT_ID,STNNBR,CASTNO,SAMPNO,BTLNBR,BTLNBR_FLAG_W,DATE,TIME,LATITUDE,LONGITUDE,DEPTH,CTDPRS,CTDPRS_FLAG_W,CTDTMP,CTDTMP_FLAG_W,CTDSAL,CTDSAL_FLAG_W,SALNTY,SALNTY_FLAG_W,CTDOXY,CTDOXY_FLAG_W,OXYGEN,OXYGEN_FLAG_W,SILCAT,SILCAT_FLAG_W,NITRAT,NITRAT_FLAG_W,NITRIT,NITRIT_FLAG_W,PHSPHT,PHSPHT_FLAG_W,CFC-11,CFC-11_FLAG_W,CFC-12,CFC-12_FLAG_W,SF6,SF6_FLAG_W,TCARBN,TCARBN_FLAG_W,ALKALI,ALKALI_FLAG_W,PH_TOT,PH_TOT_FLAG_W,PH_TMP,PH_TMP_FLAG_W,DELC13,DELC13_FLAG_W,DELC14,DELC14_FLAG_W,DOC,DOC_FLAG_W,TDN,TDN_FLAG_W,N2O,N2O_FLAG_W,BTL_DATE,BTL_TIME,BTL_LAT,BTL_LON,REFTMP,REFTMP_FLAG_W,POC,POC_FLAG_W,PON,PON_FLAG_W,POP,POP_FLAG_W,PCOD,PCOD_FLAG_W,CTDFLUOR,CTDFLUOR_FLAG_W,CTDXMISS,CTDXMISS_FLAG_W,HPLC,HPLC_FLAG_W,DNA,DNA_FLAG_W,FCM,FCM_FLAG_W
,,,,,,,,,,,METERS,DBAR,,ITS-90,,PSS-78,,PSS-78,,UMOL/KG,,UMOL/KG,,UMOL/KG,,UMOL/KG,,UMOL/KG,,UMOL/KG,,PMOL/KG,,PMOL/KG,,FMOL/KG,,UMOL/KG,,UMOL/KG,,,,DEG C,,/MILLE,,/MILLE,,UMOL/KG,,UMOL/KG,,NMOL/KG,,,,,,ITS-90,,UG/L,,UG/L,,UG/L,,UG/L,,VOLTS,,VOLTS,,,,,,,
33RR20220430,        P02,     110,          2,          3,          3,2,20220606,       0651,    29.9987,  -165.2521,       5356,  4890.5,2,   1.5229,2,  34.6860,2,  34.6848,2,    153.7,2,   153.8,2,  152.57,2,   35.93,2,    0.00,2,    2.47,2,   0.005,2,   0.000,2,   0.0000,2,  2327.4,6,  2418.2,2,   7.5811,2,    25.01,2, -999.00,9,  -999.0,9, -999.00,1, -999.00,1,       22.0,2, 20220606,      703,  29.9987,-165.2521,     1.5229,2,     -999.0,9,     -999.0,9,     -999.0,9,     -999.0,9,     0.0122,1,     4.7056,1,     -999.0,9,     -999.0,9,     -999.0,9
33RR20220430,        P02,     110,          2,          2,          2,2,20220606,       0651,    29.9987,  -165.2521,       5356,  5200.3,2,   1.5463,2,  34.6876,3,  34.6855,2,    157.0,2,   157.4,2,  148.96,2,   35.77,2,    0.00,2,    2.45,2,-999.000,9,-999.000,9,-999.0000,9,  2323.5,2,  2417.1,2,   7.5852,2,    25.00,2, -999.00,9,  -999.0,9, -999.00,9, -999.00,9,     -999.0,9, 20220606,      657,  29.9988,-165.2521,     1.5465,2,     -999.0,9,     -999.0,9,     -999.0,9,     -999.0,9,     0.0122,1,     4.7055,1,     -999.0,9,     -999.0,9,     -999.0,9
33RR20220430,        P02,     110,          2,          1,          1,2,20220606,       0651,    29.9987,  -165.2521,       5356,  5452.8,2,   1.5677,2,  34.6884,2,  34.6885,2,    159.6,2,   159.6,2,  146.42,2,   35.55,2,    0.00,2,    2.44,2,   0.006,2,   0.000,2,   0.0000,2,  2319.8,2,  2413.0,2,   7.5864,2,    25.00,2, -999.00,9,  -999.0,9, -999.00,1, -999.00,1,       21.7,2, 20220606,      651,  29.9988,-165.2520,     1.5678,2,     -999.0,9,     -999.0,9,     -999.0,9,     -999.0,9,     0.0125,1,     4.7021,1,     -999.0,9,     -999.0,9,     -999.0,9