BOTTLE,20230801CCHSIOCBG
EXPOCODE,SECT_ID,STNNBR,CASTNO,SAMPNO,BTLNBR,BTLNBR_FLAG_W,DATE,TIME,LATITUDE,LONGITUDE,DEPTH,CTDPRS,CTDPRS_FLAG_W,CTDTMP,CTDTMP_FLAG_W,CTDSAL,CTDSAL_FLAG_W,SALNTY,SALNTY_FLAG_W,CTDOXY,CTDOXY_FLAG_W,OXYGEN,OXYGEN_FLAG_W,SILCAT,SILCAT_FLAG_W,NITRAT,NITRAT_FLAG_W,NITRIT,NITRIT_FLAG_W,PHSPHT,PHSPHT_FLAG_W,CFC-11,CFC-11_FLAG_W,CFC-12,CFC-12_FLAG_W,SF6,SF6_FLAG_W,TCARBN,TCARBN_FLAG_W,ALKALI,ALKALI_FLAG_W,PH_TOT,PH_TOT_FLAG_W,PH_TMP,PH_TMP_FLAG_W,DELC13,DELC13_FLAG_W,DELC14,DELC14_FLAG_W,DOC,DOC_FLAG_W,TDN,TDN_FLAG_W,N2O,N2O_FLAG_W,BTL_DATE,BTL_TIME,BTL_LAT,BTL_LON,REFTMP,REFTMP_FLAG_W,POC,POC_FLAG_W,PON,PON_FLAG_W,POP,POP_FLAG_W,PCOD,PCOD_FLAG_W,CTDFLUOR,CTDFLUOR_FLAG_W,CTDXMISS,CTDXMISS_FLAG_W,HPLC,HPLC_FLAG_W,DNA,DNA_FLAG_W,FCM,FCM_FLAG_W
,,,,,,,,,,,METERS,DBAR,,ITS-90,,PSS-78,,PSS-78,,UMOL/KG,,UMOL/KG,,UMOL/KG,,UMOL/KG,,UMOL/KG,,UMOL/KG,,PMOL/KG,,PMOL/KG,,FMOL/KG,,UMOL/KG,,UMOL/KG,,,,DEG C,,/MILLE,,/MILLE,,UMOL/KG,,UMOL/KG,,NMOL/KG,,,,,,ITS-90,,UG/L,,UG/L,,UG/L,,UG/L,,VOLTS,,VOLTS,,,,,,,
33RR20220430,        P02,      62,          2,          3,          3,2,20220523,       0204,    30.0003,   167.9885,       5887,  5097.8,2,   1.4764,2,  34.6933,2,  34.6934,2,    168.9,2,   168.7,2,  139.49,2,   34.81,2,    0.00,2,    2.40,2,   0.005,2,   0.000,2,   0.0000,2,  -999.0,9,  -999.0,9,-999.0000,9,  -999.00,9, -999.00,1,  -999.0,1, -999.00,9, -999.00,9,       20.0,2, 20220523,      221,  30.0003, 167.9885,     1.4763,2,     -999.0,9,     -999.0,9,     -999.0,9,     -999.0,9,     0.0122,1,     4.7085,1,     -999.0,9,     -999.0,9,     -999.0,9
33RR20220430,        P02,      62,          2,          2,          2,2,20220523,       0204,    30.0003,   167.9885,       5887,  5612.8,2,   1.5002,2,  34.6963,2,  34.6963,2,    174.8,2,   175.6,2,  134.32,2,   34.40,2,    0.00,2,    2.36,2,   0.007,2,   0.000,2,   0.0000,2,  2300.3,2,  2396.9,2,   7.5979,2,    25.00,2, -999.00,1,  -999.0,1, -999.00,1, -999.00,1,       19.7,2, 20220523,      212,  30.0003, 167.9885,     1.5004,2,     -999.0,9,     -999.0,9,     -999.0,9,     -999.0,9,     0.0124,1,     4.7069,1,     -999.0,9,     -999.0,9,     -999.0,9
33RR20220430,        P02,      62,          2,          1,          1,2,20220523,       0204,    30.0003,   167.9885,       5887,  5998.2,2,   1.5409,2,  34.6970,2,  34.6973,2,    176.7,2,   176.7,2,  133.34,2,   34.18,2,    0.00,2,    2.35,2,   0.010,2,   0.000,2,   0.0000,2,  2299.3,6,  -999.0,1,   7.5994,2,    25.01,2, -999.00,1,  -999.0,1, -999.00,1, -999.00,1,       19.5,2, 20220523,      204,  30.0003, 167.9885,     1.5411,2,     -999.0,9,     -999.0,9,     -999.0,9,     -999.0,9,     0.0129,1,     4.7046,1,     -999.0,9,     -999.0,9,     -999.0,9