BOTTLE,20230801CCHSIOCBG
EXPOCODE,SECT_ID,STNNBR,CASTNO,SAMPNO,BTLNBR,BTLNBR_FLAG_W,DATE,TIME,LATITUDE,LONGITUDE,DEPTH,CTDPRS,CTDPRS_FLAG_W,CTDTMP,CTDTMP_FLAG_W,CTDSAL,CTDSAL_FLAG_W,SALNTY,SALNTY_FLAG_W,CTDOXY,CTDOXY_FLAG_W,OXYGEN,OXYGEN_FLAG_W,SILCAT,SILCAT_FLAG_W,NITRAT,NITRAT_FLAG_W,NITRIT,NITRIT_FLAG_W,PHSPHT,PHSPHT_FLAG_W,CFC-11,CFC-11_FLAG_W,CFC-12,CFC-12_FLAG_W,SF6,SF6_FLAG_W,TCARBN,TCARBN_FLAG_W,ALKALI,ALKALI_FLAG_W,PH_TOT,PH_TOT_FLAG_W,PH_TMP,PH_TMP_FLAG_W,DELC13,DELC13_FLAG_W,DELC14,DELC14_FLAG_W,DOC,DOC_FLAG_W,TDN,TDN_FLAG_W,N2O,N2O_FLAG_W,BTL_DATE,BTL_TIME,BTL_LAT,BTL_LON,REFTMP,REFTMP_FLAG_W,POC,POC_FLAG_W,PON,PON_FLAG_W,POP,POP_FLAG_W,PCOD,PCOD_FLAG_W,CTDFLUOR,CTDFLUOR_FLAG_W,CTDXMISS,CTDXMISS_FLAG_W,HPLC,HPLC_FLAG_W,DNA,DNA_FLAG_W,FCM,FCM_FLAG_W
,,,,,,,,,,,METERS,DBAR,,ITS-90,,PSS-78,,PSS-78,,UMOL/KG,,UMOL/KG,,UMOL/KG,,UMOL/KG,,UMOL/KG,,UMOL/KG,,PMOL/KG,,PMOL/KG,,FMOL/KG,,UMOL/KG,,UMOL/KG,,,,DEG C,,/MILLE,,/MILLE,,UMOL/KG,,UMOL/KG,,NMOL/KG,,,,,,ITS-90,,UG/L,,UG/L,,UG/L,,UG/L,,VOLTS,,VOLTS,,,,,,,
33RR20220430,        P02,      68,          2,         36,         36,2,20220524,       2244,    30.0000,   171.4509,       5392,     3.9,2,  23.5257,2,  35.2098,2,  35.1947,2,    219.9,2,   219.1,2,    1.37,2,    0.00,2,    0.00,2,    0.01,2,   1.695,2,   1.151,2,   1.9442,2,  2024.2,6,  2311.6,2,   8.0123,2,    25.00,2, -999.00,9,  -999.0,9, -999.00,1, -999.00,1,        7.4,2, 20220525,       54,  30.0000, 171.4509,    23.5326,2,     -999.0,9,     -999.0,9,     -999.0,9,     -999.0,9,     0.0128,1,     4.6322,1,     -999.0,9,     -999.0,9,     -999.0,9
33RR20220430,        P02,      68,          2,         35,         35,2,20220524,       2244,    30.0000,   171.4509,       5392,    21.1,2,  22.1713,2,  35.2479,3,  35.2012,2,    225.2,2,   225.5,2,    1.27,2,    0.00,2,    0.00,2,    0.00,2,   1.788,2,   1.193,2,   2.0049,2,  2024.4,2,  2311.5,2,   8.0165,2,    25.01,2, -999.00,9,  -999.0,9, -999.00,1, -999.00,1,        7.6,2, 20220525,       53,  30.0000, 171.4509,    22.1439,2,     -999.0,9,     -999.0,9,     -999.0,9,     -999.0,9,     0.0134,1,     4.6324,1,     -999.0,9,     -999.0,9,     -999.0,9
33RR20220430,        P02,      68,          2,         34,         34,2,20220524,       2244,    30.0000,   171.4509,       5392,    41.2,2,  21.2416,2,  35.1390,3,  35.1085,2,    229.8,2,   230.7,2,    1.56,2,    0.00,2,    0.00,2,    0.01,2,   1.869,2,   1.238,2,   2.0559,2,  2021.0,2,  2305.0,2,   8.0107,2,    25.02,2, -999.00,9,  -999.0,9, -999.00,1, -999.00,1,        7.9,2, 20220525,       51,  30.0000, 171.4509,    21.2536,2,     -999.0,9,     -999.0,9,     -999.0,9,     -999.0,9,     0.0135,1,     4.6279,1,     -999.0,9,     -999.0,9,     -999.0,9
33RR20220430,        P02,      68,          2,         33,         33,2,20220524,       2244,    30.0000,   171.4509,       5392,    67.0,2,  19.0101,2,  34.9216,2,  34.9056,2,    229.4,2,   230.5,2,    1.86,2,    0.00,2,    0.00,2,    0.04,2,-999.000,5,-999.000,5,-999.0000,5,  2025.3,2,  2292.3,2,   7.9853,2,    25.01,2, -999.00,9,  -999.0,9, -999.00,1, -999.00,1,     -999.0,5, 20220525,       49,  30.0000, 171.4509,    19.0117,2,     -999.0,9,     -999.0,9,     -999.0,9,     -999.0,9,     0.0184,1,     4.6281,1,     -999.0,9,     -999.0,9,     -999.0,9
33RR20220430,        P02,      68,          2,         32,         32,2,20220524,       2244,    30.0000,   171.4509,       5392,    91.4,2,  18.1664,2,  34.8473,3,  34.8261,2,    225.3,2,   225.8,2,    2.05,2,    0.37,2,    0.12,2,    0.09,2,   2.011,2,   1.307,2,   2.1571,2,  2032.8,2,  2288.0,2,   7.9655,2,    25.01,2, -999.00,9,  -999.0,9, -999.00,1, -999.00,1,        8.8,2, 20220525,       47,  29.9999, 171.4509,    18.1502,2,     -999.0,9,     -999.0,9,     -999.0,9,     -999.0,9,     0.0508,1,     4.6064,1,     -999.0,9,     -999.0,9,     -999.0,9
33RR20220430,        P02,      68,          2,         31,         31,2,20220524,       2244,    30.0000,   171.4509,       5392,   136.8,2,  17.2595,2,  34.7249,2,  34.7099,2,    222.3,2,   221.8,2,    2.83,2,    2.46,2,    0.02,2,    0.19,2,   2.075,2,   1.363,2,   2.2472,2,  2035.8,2,  2280.2,2,   7.9430,2,    25.00,2, -999.00,9,  -999.0,9, -999.00,1, -999.00,1,        9.2,2, 20220525,       45,  29.9999, 171.4509,    17.2596,2,     -999.0,9,     -999.0,9,     -999.0,9,     -999.0,9,     0.0174,1,     4.6767,1,     -999.0,9,     -999.0,9,     -999.0,9
33RR20220430,        P02,      68,          2,         30,         30,2,20220524,       2244,    30.0000,   171.4509,       5392,   186.4,2,  16.2891,2,  34.6595,2,  34.6478,2,    212.9,2,   212.2,2,    4.40,2,    4.92,2,    0.00,2,    0.34,2,   2.192,2,   1.432,2,   2.2378,2,  2053.4,2,  2277.3,2,   7.9074,2,    25.00,2, -999.00,9,  -999.0,9, -999.00,1, -999.00,1,       10.5,2, 20220525,       44,  30.0000, 171.4509,    16.2889,2,     -999.0,9,     -999.0,9,     -999.0,9,     -999.0,9,     0.0122,1,     4.6861,1,     -999.0,9,     -999.0,9,     -999.0,9
33RR20220430,        P02,      68,          2,         29,         29,2,20220524,       2244,    30.0000,   171.4509,       5392,   237.3,2,  15.6428,2,  34.6173,2,  34.6060,2,    212.2,2,   211.6,2,    5.76,2,    6.03,2,    0.00,2,    0.43,2,   2.245,6,   1.442,6,   2.1771,6,  2060.1,2,  2275.3,2,   7.8907,2,    24.99,2, -999.00,9,  -999.0,9, -999.00,1, -999.00,1,       11.2,6, 20220525,       42,  30.0000, 171.4509,    15.6420,2,     -999.0,9,     -999.0,9,     -999.0,9,     -999.0,9,     0.0122,1,     4.6885,1,     -999.0,9,     -999.0,9,     -999.0,9
33RR20220430,        P02,      68,          2,         28,         28,2,20220524,       2244,    30.0000,   171.4509,       5392,   287.3,2,  15.0808,2,  34.5815,2,  34.5720,2,    208.8,2,   208.6,2,    7.43,2,    7.30,2,    0.00,2,    0.50,2,   2.301,2,   1.468,2,   2.0774,2,  -999.0,9,  -999.0,9,-999.0000,9,  -999.00,9, -999.00,9,  -999.0,9, -999.00,1, -999.00,1,       12.1,2, 20220525,       40,  30.0000, 171.4509,    15.0793,2,     -999.0,9,     -999.0,9,     -999.0,9,     -999.0,9,     0.0122,1,     4.6886,1,     -999.0,9,     -999.0,9,     -999.0,9
33RR20220430,        P02,      68,          2,         27,         27,2,20220524,       2244,    30.0000,   171.4509,       5392,   338.0,2,  14.0453,2,  34.4929,2,  34.4807,2,    206.0,2,   206.1,2,    9.97,2,    9.18,2,    0.00,2,    0.64,2,   2.432,2,   1.528,2,   2.1297,2,  2080.6,6,  2272.2,2,   7.8409,2,    25.01,2, -999.00,9,  -999.0,9, -999.00,1, -999.00,1,       13.1,2, 20220525,       38,  29.9999, 171.4509,    14.0451,2,     -999.0,9,     -999.0,9,     -999.0,9,     -999.0,9,     0.0122,1,     4.6914,1,     -999.0,9,     -999.0,9,     -999.0,9
33RR20220430,        P02,      68,          2,         26,         26,2,20220524,       2244,    30.0000,   171.4509,       5392,   388.6,2,  12.8253,2,  34.4022,2,  34.3868,2,    203.6,3,   205.8,2,   13.39,2,   11.30,2,    0.00,2,    0.78,2,   2.505,2,   1.586,2,   1.9848,2,  -999.0,9,  -999.0,9,-999.0000,9,  -999.00,9, -999.00,9,  -999.0,9, -999.00,1, -999.00,1,       14.4,2, 20220525,       37,  29.9999, 171.4509,    12.8341,2,     -999.0,9,     -999.0,9,     -999.0,9,     -999.0,9,     0.0122,1,     4.6924,1,     -999.0,9,     -999.0,9,     -999.0,9
33RR20220430,        P02,      68,          2,         25,         25,2,20220524,       2244,    30.0000,   171.4509,       5392,   470.1,2,  10.5946,2,  34.2163,2,  34.2081,2,    201.4,2,   202.2,2,   20.52,2,   15.45,2,    0.00,2,    1.08,2,   2.711,2,   1.683,2,   1.9792,2,  2122.4,2,  2268.3,2,   7.7402,2,    25.00,2, -999.00,9,  -999.0,9, -999.00,1, -999.00,1,       17.1,2, 20220525,       34,  29.9999, 171.4509,    10.5851,2,     -999.0,9,     -999.0,9,     -999.0,9,     -999.0,9,     0.0122,1,     4.6970,1,     -999.0,9,     -999.0,9,     -999.0,9
33RR20220430,        P02,      68,          2,         24,         24,2,20220524,       2244,    30.0000,   171.4509,       5392,   571.6,2,   8.2261,2,  34.0351,2,  34.0319,2,    192.8,2,   193.3,2,   33.43,2,   20.64,2,    0.00,2,    1.48,2,   2.774,2,   1.698,2,   1.9745,2,  2157.5,2,  2271.7,2,   7.6582,2,    24.99,2, -999.00,9,  -999.0,9, -999.00,9, -999.00,9,       20.6,2, 20220525,       31,  29.9999, 171.4509,     8.2414,2,     -999.0,9,     -999.0,9,     -999.0,9,     -999.0,9,     0.0122,1,     4.6977,1,     -999.0,9,     -999.0,9,     -999.0,9
33RR20220430,        P02,      68,          2,         23,         23,2,20220524,       2244,    30.0000,   171.4509,       5392,   672.4,2,   6.2599,2,  33.9867,2,  33.9867,2,    137.5,2,   137.6,2,   56.99,2,   29.39,2,    0.00,2,    2.09,2,   2.319,2,   1.428,2,   1.3310,2,  2218.6,2,  2286.6,2,   7.5169,2,    25.00,2, -999.00,9,  -999.0,9, -999.00,1, -999.00,1,       30.1,2, 20220525,       29,  29.9999, 171.4509,     6.2723,2,     -999.0,9,     -999.0,9,     -999.0,9,     -999.0,9,     0.0122,1,     4.6996,1,     -999.0,9,     -999.0,9,     -999.0,9
33RR20220430,        P02,      68,          2,         22,         22,2,20220524,       2244,    30.0000,   171.4509,       5392,   772.9,2,   5.1699,2,  34.0508,2,  34.0499,2,     93.8,3,    92.7,2,   78.58,2,   35.37,2,    0.00,2,    2.51,2,   1.595,2,   0.991,2,   0.7680,2,  2271.3,2,  2304.8,2,   7.4210,2,    24.99,2, -999.00,9,  -999.0,9, -999.00,9, -999.00,9,       38.4,2, 20220525,       26,  30.0000, 171.4509,     5.1687,2,     -999.0,9,     -999.0,9,     -999.0,9,     -999.0,9,     0.0134,1,     4.6989,1,     -999.0,9,     -999.0,9,     -999.0,9
33RR20220430,        P02,      68,          2,         21,         21,2,20220524,       2244,    30.0000,   171.4509,       5392,   874.3,2,   4.3921,2,  34.1745,2,  34.1742,2,     50.7,2,    51.1,2,   99.20,2,   40.18,2,    0.00,2,    2.85,2,   0.763,2,   0.447,2,   0.2420,2,  2316.2,2,  2330.4,2,   7.3537,2,    25.01,2, -999.00,9,  -999.0,9, -999.00,1, -999.00,1,       47.8,2, 20220525,       23,  29.9999, 171.4509,     4.3933,2,     -999.0,9,     -999.0,9,     -999.0,9,     -999.0,9,     0.0134,1,     4.7010,1,     -999.0,9,     -999.0,9,     -999.0,9
33RR20220430,        P02,      68,          2,         20,         20,2,20220524,       2244,    30.0000,   171.4509,       5392,   974.2,2,   3.9214,2,  34.2537,2,  34.2528,2,     35.4,3,    36.2,2,  112.88,2,   41.95,2,    0.00,2,    2.99,2,   0.410,2,   0.248,2,   0.0737,2,  2335.6,2,  2345.6,2,   7.3332,2,    25.02,2, -999.00,9,  -999.0,9, -999.00,1, -999.00,1,       52.2,2, 20220525,       20,  29.9999, 171.4509,     3.9230,2,     -999.0,9,     -999.0,9,     -999.0,9,     -999.0,9,     0.0134,1,     4.7018,1,     -999.0,9,     -999.0,9,     -999.0,9
33RR20220430,        P02,      68,          2,         19,         19,2,20220524,       2244,    30.0000,   171.4509,       5392,  1074.3,2,   3.5139,2,  34.3311,2,  34.3278,2,     28.4,3,    29.2,2,  124.40,2,   42.98,2,    0.00,2,    3.05,2,   0.202,2,   0.127,2,   0.0000,2,  2357.3,2,  2360.3,2,   7.3274,2,    25.02,2, -999.00,9,  -999.0,9, -999.00,1, -999.00,1,       54.2,2, 20220525,       18,  30.0000, 171.4509,     3.5130,2,     -999.0,9,     -999.0,9,     -999.0,9,     -999.0,9,     0.0134,1,     4.7019,1,     -999.0,9,     -999.0,9,     -999.0,9
33RR20220430,        P02,      68,          2,         18,         18,2,20220524,       2244,    30.0000,   171.4509,       5392,  1176.0,2,   3.2522,2,  34.3829,2,  34.3825,2,     27.2,2,    27.2,2,  132.51,2,   43.40,2,    0.00,2,    3.08,2,   0.105,2,   0.060,2,   0.0000,2,  -999.0,9,  -999.0,9,-999.0000,9,  -999.00,9, -999.00,9,  -999.0,9, -999.00,9, -999.00,9,       54.2,2, 20220525,       15,  29.9999, 171.4509,     3.2539,2,     -999.0,9,     -999.0,9,     -999.0,9,     -999.0,9,     0.0134,1,     4.7018,1,     -999.0,9,     -999.0,9,     -999.0,9
33RR20220430,        P02,      68,          2,         17,         17,2,20220524,       2244,    30.0000,   171.4509,       5392,  1278.5,2,   3.0034,2,  34.4309,2,  34.4310,2,     29.2,2,    29.1,2,  139.73,2,   43.54,2,    0.00,2,    3.08,2,   0.056,2,   0.030,2,   0.0000,2,  2373.2,2,  2380.8,2,   7.3375,2,    24.99,2, -999.00,9,  -999.0,9, -999.00,1, -999.00,1,       52.7,2, 20220525,       12,  29.9999, 171.4509,     3.0029,2,     -999.0,9,     -999.0,9,     -999.0,9,     -999.0,9,     0.0134,1,     4.7019,1,     -999.0,9,     -999.0,9,     -999.0,9
33RR20220430,        P02,      68,          2,         16,         16,2,20220524,       2244,    30.0000,   171.4509,       5392,  1380.2,2,   2.8084,2,  34.4635,2,  34.4636,2,     32.4,2,    32.4,2,  145.79,2,   43.47,2,    0.00,2,    3.07,2,   0.039,2,   0.019,2,   0.0000,2,  -999.0,9,  -999.0,9,-999.0000,9,  -999.00,9, -999.00,9,  -999.0,9, -999.00,9, -999.00,9,       50.1,2, 20220525,        9,  29.9999, 171.4509,     2.8082,2,     -999.0,9,     -999.0,9,     -999.0,9,     -999.0,9,     0.0134,1,     4.7019,1,     -999.0,9,     -999.0,9,     -999.0,9
33RR20220430,        P02,      68,          2,         15,         15,2,20220524,       2244,    30.0000,   171.4509,       5392,  1552.2,2,   2.4549,2,  34.5259,2,  34.5250,2,     45.2,2,    45.0,2,  153.89,2,   42.87,2,    0.00,2,    3.01,2,   0.015,2,   0.000,2,   0.0000,2,  2379.5,2,  2400.3,2,   7.3740,2,    24.99,2, -999.00,9,  -999.0,9, -999.00,1, -999.00,1,       44.5,2, 20220525,        5,  29.9999, 171.4509,     2.4546,2,     -999.0,9,     -999.0,9,     -999.0,9,     -999.0,9,     0.0134,1,     4.7031,1,     -999.0,9,     -999.0,9,     -999.0,9
33RR20220430,        P02,      68,          2,         14,         14,2,20220524,       2244,    30.0000,   171.4509,       5392,  1754.5,2,   2.1915,2,  34.5655,2,  34.5659,2,     59.3,2,    59.3,2,  158.57,2,   41.98,2,    0.00,2,    2.94,2,   0.011,2,   0.000,2,   0.0000,2,  -999.0,9,  -999.0,9,-999.0000,9,  -999.00,9, -999.00,9,  -999.0,9, -999.00,9, -999.00,9,       39.3,2, 20220525,        0,  30.0000, 171.4509,     2.1894,2,     -999.0,9,     -999.0,9,     -999.0,9,     -999.0,9,     0.0134,1,     4.7043,1,     -999.0,9,     -999.0,9,     -999.0,9
33RR20220430,        P02,      68,          2,         13,         13,2,20220524,       2244,    30.0000,   171.4509,       5392,  1963.0,2,   1.9943,2,  34.5943,2,  34.5936,2,     73.7,2,    73.3,2,  161.01,2,   41.16,2,    0.00,2,    2.88,2,   0.006,2,   0.000,2,   0.0000,2,  2371.2,2,  2411.3,2,   7.4301,2,    25.02,2, -999.00,9,  -999.0,9, -999.00,1, -999.00,1,       35.3,2, 20220524,     2356,  30.0000, 171.4509,     1.9944,2,     -999.0,9,     -999.0,9,     -999.0,9,     -999.0,9,     0.0134,1,     4.7044,1,     -999.0,9,     -999.0,9,     -999.0,9
33RR20220430,        P02,      68,          2,         12,         12,2,20220524,       2244,    30.0000,   171.4509,       5392,  2196.8,2,   1.8206,2,  34.6192,2,  34.6193,2,     89.6,2,    89.9,2,  161.79,2,   40.07,2,    0.00,2,    2.78,2,-999.000,9,-999.000,9,-999.0000,9,  -999.0,9,  -999.0,9,-999.0000,9,  -999.00,9, -999.00,9,  -999.0,9, -999.00,9, -999.00,9,     -999.0,9, 20220524,     2350,  30.0000, 171.4509,     1.8203,2,     -999.0,9,     -999.0,9,     -999.0,9,     -999.0,9,     0.0134,1,     4.7048,1,     -999.0,9,     -999.0,9,     -999.0,9
33RR20220430,        P02,      68,          2,         11,         11,2,20220524,       2244,    30.0000,   171.4509,       5392,  2450.1,2,   1.6989,2,  34.6361,2,  34.6354,2,    102.1,2,   102.1,2,  161.50,2,   39.30,2,    0.00,2,    2.75,2,   0.006,2,   0.000,2,   0.0000,2,  -999.0,9,  -999.0,9,-999.0000,9,  -999.00,9, -999.00,9,  -999.0,9, -999.00,1, -999.00,1,       29.2,2, 20220524,     2345,  30.0000, 171.4509,     1.6988,2,     -999.0,9,     -999.0,9,     -999.0,9,     -999.0,9,     0.0132,1,     4.7056,1,     -999.0,9,     -999.0,9,     -999.0,9
33RR20220430,        P02,      68,          2,         10,         10,2,20220524,       2244,    30.0000,   171.4509,       5392,  2704.8,2,   1.6005,2,  34.6504,2,  34.6504,2,    114.7,2,   114.8,2,  160.03,2,   38.47,2,    0.00,2,    2.67,2,-999.000,9,-999.000,9,-999.0000,9,  -999.0,9,  -999.0,9,-999.0000,9,  -999.00,9, -999.00,9,  -999.0,9, -999.00,9, -999.00,9,     -999.0,9, 20220524,     2339,  30.0000, 171.4509,     1.6003,2,     -999.0,9,     -999.0,9,     -999.0,9,     -999.0,9,     0.0126,1,     4.7052,1,     -999.0,9,     -999.0,9,     -999.0,9
33RR20220430,        P02,      68,          2,          9,          9,2,20220524,       2244,    30.0000,   171.4509,       5392,  2960.5,2,   1.5313,2,  34.6621,2,  34.6614,2,    126.3,2,   126.3,2,  156.51,2,   37.63,2,    0.00,2,    2.61,2,   0.007,2,   0.000,2,   0.0000,2,  2340.0,2,  2417.6,2,   7.5292,2,    25.04,2, -999.00,9,  -999.0,9, -999.00,1, -999.00,1,       25.7,2, 20220524,     2334,  29.9999, 171.4509,     1.5313,2,     -999.0,9,     -999.0,9,     -999.0,9,     -999.0,9,     0.0122,1,     4.7055,1,     -999.0,9,     -999.0,9,     -999.0,9
33RR20220430,        P02,      68,          2,          8,          8,2,20220524,       2244,    30.0000,   171.4509,       5392,  3251.2,2,   1.4879,2,  34.6709,2,  34.6706,2,    135.8,2,   136.2,2,  155.14,2,   37.01,2,    0.00,2,    2.55,2,-999.000,9,-999.000,9,-999.0000,9,  -999.0,9,  -999.0,9,-999.0000,9,  -999.00,9, -999.00,9,  -999.0,9, -999.00,9, -999.00,9,     -999.0,9, 20220524,     2328,  30.0000, 171.4509,     1.4882,2,     -999.0,9,     -999.0,9,     -999.0,9,     -999.0,9,     0.0122,1,     4.7059,1,     -999.0,9,     -999.0,9,     -999.0,9
33RR20220430,        P02,      68,          2,          7,          7,2,20220524,       2244,    30.0000,   171.4509,       5392,  3558.4,2,   1.4591,2,  34.6776,2,  34.6767,2,    143.5,2,   143.5,2,  152.90,2,   36.53,2,    0.00,2,    2.52,2,   0.005,2,   0.000,2,   0.0000,2,  2328.7,2,  2418.5,2,   7.5602,2,    25.02,2, -999.00,9,  -999.0,9, -999.00,1, -999.00,1,       23.1,2, 20220524,     2322,  30.0000, 171.4509,     1.4585,2,     -999.0,9,     -999.0,9,     -999.0,9,     -999.0,9,     0.0122,1,     4.7068,1,     -999.0,9,     -999.0,9,     -999.0,9
33RR20220430,        P02,      68,          2,          6,          6,2,20220524,       2244,    30.0000,   171.4509,       5392,  3865.2,2,   1.4489,2,  34.6820,3,  34.6794,2,    149.0,2,   149.0,2,  151.72,2,   36.17,2,    0.00,2,    2.48,2,-999.000,9,-999.000,9,-999.0000,9,  -999.0,9,  -999.0,9,-999.0000,9,  -999.00,9, -999.00,9,  -999.0,9, -999.00,9, -999.00,9,     -999.0,9, 20220524,     2316,  30.0000, 171.4509,     1.4490,2,     -999.0,9,     -999.0,9,     -999.0,9,     -999.0,9,     0.0122,1,     4.7065,1,     -999.0,9,     -999.0,9,     -999.0,9
33RR20220430,        P02,      68,          2,          5,          5,2,20220524,       2244,    30.0000,   171.4509,       5392,  4172.6,2,   1.4517,2,  34.6852,2,  34.6844,2,    153.6,2,   153.5,2,  148.99,2,   35.87,2,    0.00,2,    2.47,2,   0.006,2,   0.000,2,   0.0000,2,  2323.5,2,  2414.9,2,   7.5761,2,    24.98,2, -999.00,9,  -999.0,9, -999.00,1, -999.00,1,       22.3,2, 20220524,     2310,  30.0000, 171.4509,     1.4518,2,     -999.0,9,     -999.0,9,     -999.0,9,     -999.0,9,     0.0122,1,     4.7068,1,     -999.0,9,     -999.0,9,     -999.0,9
33RR20220430,        P02,      68,          2,          4,          4,2,20220524,       2244,    30.0000,   171.4509,       5392,  4480.5,2,   1.4544,2,  34.6885,2,  34.6879,2,    158.4,2,   158.5,2,  147.13,2,   35.59,2,    0.00,2,    2.44,2,-999.000,9,-999.000,9,-999.0000,9,  -999.0,9,  -999.0,9,-999.0000,9,  -999.00,9, -999.00,9,  -999.0,9, -999.00,9, -999.00,9,     -999.0,9, 20220524,     2304,  30.0000, 171.4509,     1.4545,2,     -999.0,9,     -999.0,9,     -999.0,9,     -999.0,9,     0.0122,1,     4.7058,1,     -999.0,9,     -999.0,9,     -999.0,9