BOTTLE,20230801CCHSIOCBG
EXPOCODE,SECT_ID,STNNBR,CASTNO,SAMPNO,BTLNBR,BTLNBR_FLAG_W,DATE,TIME,LATITUDE,LONGITUDE,DEPTH,CTDPRS,CTDPRS_FLAG_W,CTDTMP,CTDTMP_FLAG_W,CTDSAL,CTDSAL_FLAG_W,SALNTY,SALNTY_FLAG_W,CTDOXY,CTDOXY_FLAG_W,OXYGEN,OXYGEN_FLAG_W,SILCAT,SILCAT_FLAG_W,NITRAT,NITRAT_FLAG_W,NITRIT,NITRIT_FLAG_W,PHSPHT,PHSPHT_FLAG_W,CFC-11,CFC-11_FLAG_W,CFC-12,CFC-12_FLAG_W,SF6,SF6_FLAG_W,TCARBN,TCARBN_FLAG_W,ALKALI,ALKALI_FLAG_W,PH_TOT,PH_TOT_FLAG_W,PH_TMP,PH_TMP_FLAG_W,DELC13,DELC13_FLAG_W,DELC14,DELC14_FLAG_W,DOC,DOC_FLAG_W,TDN,TDN_FLAG_W,N2O,N2O_FLAG_W,BTL_DATE,BTL_TIME,BTL_LAT,BTL_LON,REFTMP,REFTMP_FLAG_W,POC,POC_FLAG_W,PON,PON_FLAG_W,POP,POP_FLAG_W,PCOD,PCOD_FLAG_W,CTDFLUOR,CTDFLUOR_FLAG_W,CTDXMISS,CTDXMISS_FLAG_W,HPLC,HPLC_FLAG_W,DNA,DNA_FLAG_W,FCM,FCM_FLAG_W
,,,,,,,,,,,METERS,DBAR,,ITS-90,,PSS-78,,PSS-78,,UMOL/KG,,UMOL/KG,,UMOL/KG,,UMOL/KG,,UMOL/KG,,UMOL/KG,,PMOL/KG,,PMOL/KG,,FMOL/KG,,UMOL/KG,,UMOL/KG,,,,DEG C,,/MILLE,,/MILLE,,UMOL/KG,,UMOL/KG,,NMOL/KG,,,,,,ITS-90,,UG/L,,UG/L,,UG/L,,UG/L,,VOLTS,,VOLTS,,,,,,,
33RR20220430,        P02,      15,          1,         36,         36,2,20220507,       2150,    30.0015,   137.1691,       4345,    15.7,2,  23.2612,2,  34.5964,2,  34.5867,2,    214.5,2,   213.9,2,    1.07,2,    0.00,2,    0.00,2,    0.05,2,   1.633,2,   1.055,2,   1.6990,2,  1976.4,2,  2271.0,2,   8.0487,2,    24.99,2, -999.00,9,  -999.0,9, -999.00,9, -999.00,9,        6.4,2, 20220507,     2340,  30.0015, 137.1691,    23.2611,2,     -999.0,9,     -999.0,9,     -999.0,9,     -999.0,9,     0.0147,1,     4.6364,1,     -999.0,9,     -999.0,9,     -999.0,9
33RR20220430,        P02,      15,          1,         35,         35,2,20220507,       2150,    30.0015,   137.1691,       4345,    30.2,2,  23.2561,2,  34.5958,2,  34.5869,2,    214.4,2,   213.7,2,    1.17,2,    0.00,2,    0.00,2,    0.00,2,   1.641,2,   1.046,2,   1.7278,2,  1972.7,2,  2269.7,2,   8.0489,2,    25.00,2, -999.00,9,  -999.0,9, -999.00,9, -999.00,9,        6.5,2, 20220507,     2339,  30.0014, 137.1692,    23.2569,2,     -999.0,9,     -999.0,9,     -999.0,9,     -999.0,9,     0.0156,1,     4.6372,1,     -999.0,9,     -999.0,9,     -999.0,9
33RR20220430,        P02,      15,          1,         34,         34,2,20220507,       2150,    30.0015,   137.1691,       4345,    54.0,2,  23.1848,2,  34.5982,2,  34.5901,2,    213.6,2,   213.5,2,    1.17,2,    0.00,2,    0.00,2,    0.01,2,-999.000,9,-999.000,9,-999.0000,9,  1974.2,2,  2270.6,2,   8.0471,2,    25.09,2, -999.00,9,  -999.0,9, -999.00,9, -999.00,9,     -999.0,9, 20220507,     2337,  30.0014, 137.1692,    23.1843,2,     -999.0,9,     -999.0,9,     -999.0,9,     -999.0,9,     0.0184,1,     4.6345,1,     -999.0,9,     -999.0,9,     -999.0,9
33RR20220430,        P02,      15,          1,         33,         33,2,20220507,       2150,    30.0015,   137.1691,       4345,    79.0,2,  22.4638,2,  34.6600,2,  34.6553,2,    209.4,2,   209.7,2,    1.37,2,    0.19,2,    0.11,2,    0.04,2,   1.735,2,   1.127,2,   1.5898,2,  1988.7,2,  2275.8,2,   8.0292,2,    24.96,2, -999.00,9,  -999.0,9, -999.00,9, -999.00,9,        7.2,2, 20220507,     2335,  30.0013, 137.1692,    22.4660,2,     -999.0,9,     -999.0,9,     -999.0,9,     -999.0,9,     0.0433,1,     4.6133,1,     -999.0,9,     -999.0,9,     -999.0,9
33RR20220430,        P02,      15,          1,         32,         32,2,20220507,       2150,    30.0015,   137.1691,       4345,   103.9,2,  21.9664,2,  34.6637,2,  34.6547,2,    204.7,2,   204.7,2,    1.76,2,    0.93,2,    0.13,2,    0.06,2,-999.000,9,-999.000,9,-999.0000,9,  1995.1,2,  2274.6,2,   8.0135,2,    25.01,2, -999.00,9,  -999.0,9, -999.00,9, -999.00,9,     -999.0,9, 20220507,     2334,  30.0013, 137.1692,    21.9601,2,     -999.0,9,     -999.0,9,     -999.0,9,     -999.0,9,     0.0301,1,     4.6481,1,     -999.0,9,     -999.0,9,     -999.0,9
33RR20220430,        P02,      15,          1,         31,         31,2,20220507,       2150,    30.0015,   137.1691,       4345,   133.8,2,  20.9790,2,  34.7060,2,  34.6981,2,    194.2,2,   194.1,2,    3.13,2,    2.66,2,    0.03,2,    0.13,2,   1.810,2,   1.155,2,   1.7155,2,  2021.7,2,  2278.6,2,   7.9789,2,    25.02,2, -999.00,9,  -999.0,9, -999.00,9, -999.00,9,        9.1,2, 20220507,     2332,  30.0013, 137.1692,    20.9801,2,     -999.0,9,     -999.0,9,     -999.0,9,     -999.0,9,     0.0159,1,     4.6749,1,     -999.0,9,     -999.0,9,     -999.0,9
33RR20220430,        P02,      15,          1,         30,         30,2,20220507,       2150,    30.0015,   137.1691,       4345,   160.0,2,  19.4865,2,  34.7379,3,  34.7093,2,    185.8,2,   186.0,2,    5.08,2,    4.58,2,    0.01,2,    0.27,2,-999.000,9,-999.000,9,-999.0000,9,  2045.5,2,  2281.1,2,   7.9390,2,    25.01,2, -999.00,9,  -999.0,9, -999.00,9, -999.00,9,     -999.0,9, 20220507,     2331,  30.0013, 137.1692,    19.4686,2,     -999.0,9,     -999.0,9,     -999.0,9,     -999.0,9,     0.0127,1,     4.6823,1,     -999.0,9,     -999.0,9,     -999.0,9
33RR20220430,        P02,      15,          1,         29,         29,2,20220507,       2150,    30.0015,   137.1691,       4345,   204.0,2,  17.9117,2,  34.7040,2,  34.6975,2,    186.3,2,   185.4,2,    6.84,2,    6.28,2,    0.00,2,    0.40,2,   2.067,2,   1.302,2,   1.6258,2,  2060.7,2,  2281.5,2,   7.9059,2,    25.02,2, -999.00,9,  -999.0,9, -999.00,9, -999.00,9,       12.2,2, 20220507,     2329,  30.0013, 137.1692,    17.9053,2,     -999.0,9,     -999.0,9,     -999.0,9,     -999.0,9,     0.0122,1,     4.6843,1,     -999.0,9,     -999.0,9,     -999.0,9
33RR20220430,        P02,      15,          1,         28,         28,2,20220507,       2150,    30.0015,   137.1691,       4345,   255.4,2,  16.7822,2,  34.7063,2,  34.7003,2,    188.4,2,   189.0,2,    6.15,2,    6.95,2,    0.00,2,    0.43,2,-999.000,9,-999.000,9,-999.0000,9,  2066.0,2,  2279.8,2,   7.8893,2,    25.02,2, -999.00,9,  -999.0,9, -999.00,9, -999.00,9,     -999.0,9, 20220507,     2327,  30.0014, 137.1692,    16.7820,2,     -999.0,9,     -999.0,9,     -999.0,9,     -999.0,9,     0.0122,1,     4.6885,1,     -999.0,9,     -999.0,9,     -999.0,9
33RR20220430,        P02,      15,          1,         27,         27,2,20220507,       2150,    30.0015,   137.1691,       4345,   299.6,2,  15.8442,2,  34.6481,2,  34.6425,2,    188.4,2,   189.4,2,    7.91,2,    8.26,2,    0.00,2,    0.54,2,   2.356,2,   1.435,2,   1.5926,2,  2075.9,2,  2277.4,2,   7.8693,2,    25.03,2, -999.00,9,  -999.0,9, -999.00,9, -999.00,9,       12.9,2, 20220507,     2325,  30.0014, 137.1692,    15.8449,2,     -999.0,9,     -999.0,9,     -999.0,9,     -999.0,9,     0.0122,1,     4.6933,1,     -999.0,9,     -999.0,9,     -999.0,9
33RR20220430,        P02,      15,          1,         26,         26,2,20220507,       2150,    30.0015,   137.1691,       4345,   349.0,2,  14.6399,2,  34.5531,2,  34.5490,2,    180.8,2,   181.4,2,   12.11,2,   10.89,2,    0.00,2,    0.73,2,-999.000,9,-999.000,9,-999.0000,9,  2091.2,2,  2271.5,2,   7.8273,2,    25.02,2, -999.00,9,  -999.0,9, -999.00,9, -999.00,9,     -999.0,9, 20220507,     2323,  30.0013, 137.1692,    14.6089,2,     -999.0,9,     -999.0,9,     -999.0,9,     -999.0,9,     0.0122,1,     4.6929,1,     -999.0,9,     -999.0,9,     -999.0,9
33RR20220430,        P02,      15,          1,         25,         25,2,20220507,       2150,    30.0015,   137.1691,       4345,   399.8,2,  13.4164,2,  34.4747,2,  34.4691,2,    169.4,2,   169.6,2,   19.25,2,   14.28,2,    0.00,2,    0.98,2,   2.375,2,   1.425,2,   1.3584,2,  2117.4,2,  2272.3,2,   7.7781,2,    25.02,2, -999.00,9,  -999.0,9, -999.00,9, -999.00,9,       18.7,2, 20220507,     2321,  30.0013, 137.1692,    13.4156,2,     -999.0,9,     -999.0,9,     -999.0,9,     -999.0,9,     0.0122,1,     4.6898,1,     -999.0,9,     -999.0,9,     -999.0,9
33RR20220430,        P02,      15,          1,         24,         24,2,20220507,       2150,    30.0015,   137.1691,       4345,   441.7,2,  12.4261,2,  34.4090,2,  34.4063,2,    166.5,2,   167.2,2,   22.67,2,   16.03,2,    0.00,2,    1.10,2,-999.000,9,-999.000,9,-999.0000,9,  -999.0,9,  -999.0,9,-999.0000,9,  -999.00,9, -999.00,9,  -999.0,9, -999.00,9, -999.00,9,     -999.0,9, 20220507,     2319,  30.0013, 137.1692,    12.4269,2,     -999.0,9,     -999.0,9,     -999.0,9,     -999.0,9,     0.0122,1,     4.6923,1,     -999.0,9,     -999.0,9,     -999.0,9
33RR20220430,        P02,      15,          1,         23,         23,2,20220507,       2150,    30.0015,   137.1691,       4345,   495.8,2,  10.2350,2,  34.2836,2,  34.2834,2,    152.8,2,   152.3,2,   34.30,2,   21.04,2,    0.00,2,    1.49,2,-999.000,9,-999.000,9,-999.0000,9,  2161.9,2,  2277.6,2,   7.6706,2,    25.02,2, -999.00,9,  -999.0,9, -999.00,9, -999.00,9,     -999.0,9, 20220507,     2317,  30.0014, 137.1692,    10.2340,2,     -999.0,9,     -999.0,9,     -999.0,9,     -999.0,9,     0.0122,1,     4.6992,1,     -999.0,9,     -999.0,9,     -999.0,9
33RR20220430,        P02,      15,          1,         22,         22,2,20220507,       2150,    30.0015,   137.1691,       4345,   596.2,2,   7.8844,2,  34.2554,2,  34.2534,2,    117.4,2,   117.0,2,   58.43,2,   28.63,2,    0.00,2,    2.02,2,-999.000,9,-999.000,9,-999.0000,9,  -999.0,9,  -999.0,9,-999.0000,9,  -999.00,9, -999.00,9,  -999.0,9, -999.00,9, -999.00,9,     -999.0,9, 20220507,     2315,  30.0014, 137.1692,     7.8742,2,     -999.0,9,     -999.0,9,     -999.0,9,     -999.0,9,     0.0126,1,     4.6911,1,     -999.0,9,     -999.0,9,     -999.0,9
33RR20220430,        P02,      15,          1,         21,         21,2,20220507,       2150,    30.0015,   137.1691,       4345,   701.3,2,   5.7880,2,  34.2487,2,  34.2470,2,     88.1,2,    87.9,2,   82.47,2,   34.67,2,    0.00,2,    2.49,2,   1.131,2,   0.636,2,   0.4175,2,  2273.6,2,  2320.2,2,   7.4653,2,    25.02,2, -999.00,9,  -999.0,9, -999.00,9, -999.00,9,       38.0,2, 20220507,     2312,  30.0014, 137.1692,     5.7974,2,     -999.0,9,     -999.0,9,     -999.0,9,     -999.0,9,     0.0130,1,     4.6983,1,     -999.0,9,     -999.0,9,     -999.0,9
33RR20220430,        P02,      15,          1,         20,         20,2,20220507,       2150,    30.0015,   137.1691,       4345,   800.6,2,   4.8450,2,  34.2819,2,  34.2805,2,     72.5,2,    72.5,2,   97.62,2,   37.43,2,    0.00,2,    2.69,2,-999.000,9,-999.000,9,-999.0000,9,  -999.0,9,  -999.0,9,-999.0000,9,  -999.00,9, -999.00,9,  -999.0,9, -999.00,9, -999.00,9,     -999.0,9, 20220507,     2309,  30.0014, 137.1692,     4.8392,2,     -999.0,9,     -999.0,9,     -999.0,9,     -999.0,9,     0.0131,1,     4.7017,1,     -999.0,9,     -999.0,9,     -999.0,9
33RR20220430,        P02,      15,          1,         19,         19,2,20220507,       2150,    30.0015,   137.1691,       4345,   903.4,2,   4.1304,2,  34.3467,2,  34.3454,2,     64.7,2,    64.5,2,  110.90,2,   39.34,2,    0.00,2,    2.80,2,-999.000,9,-999.000,9,-999.0000,9,  2322.8,2,  2349.5,2,   7.4081,2,    25.02,2, -999.00,9,  -999.0,9, -999.00,9, -999.00,9,     -999.0,9, 20220507,     2306,  30.0014, 137.1692,     4.1332,2,     -999.0,9,     -999.0,9,     -999.0,9,     -999.0,9,     0.0134,1,     4.7019,1,     -999.0,9,     -999.0,9,     -999.0,9
33RR20220430,        P02,      15,          1,         18,         18,2,20220507,       2150,    30.0015,   137.1691,       4345,  1005.1,2,   3.5684,2,  34.4008,2,  34.4004,2,     61.7,2,    61.7,2,  122.72,2,   40.19,2,    0.00,2,    2.86,2,-999.000,9,-999.000,9,-999.0000,9,  -999.0,9,  -999.0,9,-999.0000,9,  -999.00,9, -999.00,9,  -999.0,9, -999.00,9, -999.00,9,     -999.0,9, 20220507,     2303,  30.0014, 137.1692,     3.5685,2,     -999.0,9,     -999.0,9,     -999.0,9,     -999.0,9,     0.0134,1,     4.7019,1,     -999.0,9,     -999.0,9,     -999.0,9
33RR20220430,        P02,      15,          1,         17,         17,2,20220507,       2150,    30.0015,   137.1691,       4345,  1106.5,2,   3.2683,2,  34.4345,2,  34.4343,2,     63.2,2,    63.5,2,  128.68,2,   40.62,2,    0.00,2,    2.90,2,   0.217,2,   0.117,2,   0.0000,2,  2345.1,6,  2371.7,2,   7.4092,2,    25.03,2, -999.00,9,  -999.0,9, -999.00,9, -999.00,9,       42.3,2, 20220507,     2301,  30.0013, 137.1692,     3.2730,2,     -999.0,9,     -999.0,9,     -999.0,9,     -999.0,9,     0.0134,1,     4.7016,1,     -999.0,9,     -999.0,9,     -999.0,9
33RR20220430,        P02,      15,          1,         16,         16,2,20220507,       2150,    30.0015,   137.1691,       4345,  1209.6,2,   3.0391,2,  34.4618,2,  34.4612,2,     65.9,2,    65.7,2,  133.46,2,   40.54,2,    0.00,2,    2.89,2,-999.000,9,-999.000,9,-999.0000,9,  -999.0,9,  -999.0,9,-999.0000,9,  -999.00,9, -999.00,9,  -999.0,9, -999.00,9, -999.00,9,     -999.0,9, 20220507,     2258,  30.0014, 137.1692,     3.0395,2,     -999.0,9,     -999.0,9,     -999.0,9,     -999.0,9,     0.0134,1,     4.7024,1,     -999.0,9,     -999.0,9,     -999.0,9
33RR20220430,        P02,      15,          1,         15,         15,2,20220507,       2150,    30.0015,   137.1691,       4345,  1311.2,2,   2.7749,2,  34.4931,2,  34.4917,2,     70.6,2,    70.4,2,  138.15,2,   40.71,2,    0.00,2,    2.89,2,-999.000,9,-999.000,9,-999.0000,9,  2353.0,2,  2383.4,2,   7.4227,2,    25.01,2, -999.00,9,  -999.0,9, -999.00,9, -999.00,9,     -999.0,9, 20220507,     2255,  30.0014, 137.1692,     2.7758,2,     -999.0,9,     -999.0,9,     -999.0,9,     -999.0,9,     0.0134,1,     4.7026,1,     -999.0,9,     -999.0,9,     -999.0,9
33RR20220430,        P02,      15,          1,         14,         14,2,20220507,       2150,    30.0015,   137.1691,       4345,  1413.1,2,   2.6398,2,  34.5107,2,  34.5089,2,     74.4,2,    74.6,2,  140.20,2,   40.24,2,    0.00,2,    2.87,2,-999.000,9,-999.000,9,-999.0000,9,  -999.0,9,  -999.0,9,-999.0000,9,  -999.00,9, -999.00,9,  -999.0,9, -999.00,9, -999.00,9,     -999.0,9, 20220507,     2253,  30.0014, 137.1692,     2.6405,2,     -999.0,9,     -999.0,9,     -999.0,9,     -999.0,9,     0.0134,1,     4.7047,1,     -999.0,9,     -999.0,9,     -999.0,9
33RR20220430,        P02,      15,          1,         13,         13,2,20220507,       2150,    30.0015,   137.1691,       4345,  1514.2,2,   2.4897,2,  34.5297,2,  34.5286,2,     79.1,2,    79.7,2,  142.44,2,   39.99,2,    0.00,2,    2.84,2,   0.067,2,   0.037,2,   0.0000,2,  2353.2,2,  2391.8,2,   7.4394,2,    25.01,2, -999.00,9,  -999.0,9, -999.00,9, -999.00,9,       38.0,2, 20220507,     2250,  30.0014, 137.1692,     2.4898,2,     -999.0,9,     -999.0,9,     -999.0,9,     -999.0,9,     0.0134,1,     4.7038,1,     -999.0,9,     -999.0,9,     -999.0,9
33RR20220430,        P02,      15,          1,         12,         12,2,20220507,       2150,    30.0015,   137.1691,       4345,  1615.8,2,   2.3549,2,  34.5490,2,  34.5482,2,     85.2,2,    85.6,2,  143.90,2,   39.99,2,    0.00,2,    2.82,2,-999.000,9,-999.000,9,-999.0000,9,  -999.0,9,  -999.0,9,-999.0000,9,  -999.00,9, -999.00,9,  -999.0,9, -999.00,9, -999.00,9,     -999.0,9, 20220507,     2247,  30.0014, 137.1692,     2.3549,2,     -999.0,9,     -999.0,9,     -999.0,9,     -999.0,9,     0.0134,1,     4.7057,1,     -999.0,9,     -999.0,9,     -999.0,9
33RR20220430,        P02,      15,          1,         11,         11,2,20220507,       2150,    30.0015,   137.1691,       4345,  1818.4,2,   2.1279,2,  34.5792,2,  34.5779,2,     94.3,2,    94.1,2,  146.93,2,   39.36,2,    0.00,2,    2.78,2,-999.000,9,-999.000,9,-999.0000,9,  2353.1,2,  2398.9,2,   7.4683,2,    25.02,2, -999.00,9,  -999.0,9, -999.00,9, -999.00,9,     -999.0,9, 20220507,     2243,  30.0013, 137.1692,     2.1279,2,     -999.0,9,     -999.0,9,     -999.0,9,     -999.0,9,     0.0134,1,     4.7067,1,     -999.0,9,     -999.0,9,     -999.0,9
33RR20220430,        P02,      15,          1,         10,         10,2,20220507,       2150,    30.0015,   137.1691,       4345,  2023.0,2,   1.9573,2,  34.6066,2,  34.6073,2,    108.7,2,   108.8,2,  145.95,2,   38.53,2,    0.00,2,    2.71,2,   0.020,2,   0.015,2,-999.0000,5,  2342.4,2,  2404.6,2,   7.4975,2,    25.01,2, -999.00,9,  -999.0,9, -999.00,9, -999.00,9,       31.4,2, 20220507,     2238,  30.0013, 137.1692,     1.9571,2,     -999.0,9,     -999.0,9,     -999.0,9,     -999.0,9,     0.0125,1,     4.7068,1,     -999.0,9,     -999.0,9,     -999.0,9
33RR20220430,        P02,      15,          1,          9,          9,2,20220507,       2150,    30.0015,   137.1691,       4345,  2278.7,2,   1.8204,2,  34.6281,2,  34.6270,2,    120.3,2,   120.1,2,  145.56,2,   37.93,2,    0.00,2,    2.65,2,-999.000,9,-999.000,9,-999.0000,9,  2340.5,2,  2406.9,2,   7.5161,2,    25.01,2, -999.00,9,  -999.0,9, -999.00,9, -999.00,9,     -999.0,9, 20220507,     2233,  30.0014, 137.1692,     1.8205,2,     -999.0,9,     -999.0,9,     -999.0,9,     -999.0,9,     0.0134,1,     4.7081,1,     -999.0,9,     -999.0,9,     -999.0,9
33RR20220430,        P02,      15,          1,          8,          8,2,20220507,       2150,    30.0015,   137.1691,       4345,  2532.7,2,   1.6989,2,  34.6466,2,  34.6456,2,    130.8,2,   131.4,2,  144.28,2,   37.01,2,    0.00,2,    2.60,2,   0.011,2,   0.006,2,   0.0000,2,  2331.9,2,  2409.6,2,   7.5379,2,    25.02,2, -999.00,9,  -999.0,9, -999.00,9, -999.00,9,       27.1,2, 20220507,     2228,  30.0014, 137.1692,     1.6987,2,     -999.0,9,     -999.0,9,     -999.0,9,     -999.0,9,     0.0122,1,     4.7096,1,     -999.0,9,     -999.0,9,     -999.0,9
33RR20220430,        P02,      15,          1,          7,          7,2,20220507,       2150,    30.0015,   137.1691,       4345,  2787.7,2,   1.6154,2,  34.6594,2,  34.6584,2,    138.7,2,   138.4,2,  143.70,2,   36.84,2,    0.00,2,    2.55,2,-999.000,9,-999.000,9,-999.0000,9,  -999.0,9,  -999.0,9,-999.0000,9,  -999.00,9, -999.00,9,  -999.0,9, -999.00,9, -999.00,9,     -999.0,9, 20220507,     2223,  30.0014, 137.1692,     1.6154,2,     -999.0,9,     -999.0,9,     -999.0,9,     -999.0,9,     0.0122,1,     4.7104,1,     -999.0,9,     -999.0,9,     -999.0,9
33RR20220430,        P02,      15,          1,          6,          6,2,20220507,       2150,    30.0015,   137.1691,       4345,  3041.8,2,   1.5544,2,  34.6689,2,  34.6680,2,    145.0,2,   145.5,2,  142.82,2,   36.24,2,    0.00,2,    2.52,2,   0.010,2,   0.006,2,   0.0000,2,  2327.7,2,  -999.0,1,   7.5634,2,    25.02,2, -999.00,9,  -999.0,9, -999.00,9, -999.00,9,       25.0,2, 20220507,     2218,  30.0013, 137.1692,     1.5545,2,     -999.0,9,     -999.0,9,     -999.0,9,     -999.0,9,     0.0122,1,     4.7092,1,     -999.0,9,     -999.0,9,     -999.0,9
33RR20220430,        P02,      15,          1,          5,          5,2,20220507,       2150,    30.0015,   137.1691,       4345,  3348.0,2,   1.5307,2,  34.6751,2,  34.6736,2,    149.3,2,   149.0,2,  142.13,2,   36.21,2,    0.00,2,    2.50,2,-999.000,9,-999.000,9,-999.0000,9,  -999.0,9,  -999.0,9,-999.0000,9,  -999.00,9, -999.00,9,  -999.0,9, -999.00,9, -999.00,9,     -999.0,9, 20220507,     2212,  30.0013, 137.1692,     1.5308,2,     -999.0,9,     -999.0,9,     -999.0,9,     -999.0,9,     0.0122,1,     4.7074,1,     -999.0,9,     -999.0,9,     -999.0,9
33RR20220430,        P02,      15,          1,          4,          4,2,20220507,       2150,    30.0015,   137.1691,       4345,  3655.8,2,   1.5253,2,  34.6791,3,  34.6771,2,    152.1,2,   152.3,2,  141.74,2,   35.85,2,    0.00,2,    2.48,2,-999.000,9,-999.000,9,-999.0000,9,  -999.0,9,  -999.0,9,-999.0000,9,  -999.00,9, -999.00,9,  -999.0,9, -999.00,9, -999.00,9,     -999.0,9, 20220507,     2206,  30.0013, 137.1692,     1.5254,2,     -999.0,9,     -999.0,9,     -999.0,9,     -999.0,9,     0.0121,1,     4.7047,1,     -999.0,9,     -999.0,9,     -999.0,9