BOTTLE,20230801CCHSIOCBG
EXPOCODE,SECT_ID,STNNBR,CASTNO,SAMPNO,BTLNBR,BTLNBR_FLAG_W,DATE,TIME,LATITUDE,LONGITUDE,DEPTH,CTDPRS,CTDPRS_FLAG_W,CTDTMP,CTDTMP_FLAG_W,CTDSAL,CTDSAL_FLAG_W,SALNTY,SALNTY_FLAG_W,CTDOXY,CTDOXY_FLAG_W,OXYGEN,OXYGEN_FLAG_W,SILCAT,SILCAT_FLAG_W,NITRAT,NITRAT_FLAG_W,NITRIT,NITRIT_FLAG_W,PHSPHT,PHSPHT_FLAG_W,CFC-11,CFC-11_FLAG_W,CFC-12,CFC-12_FLAG_W,SF6,SF6_FLAG_W,TCARBN,TCARBN_FLAG_W,ALKALI,ALKALI_FLAG_W,PH_TOT,PH_TOT_FLAG_W,PH_TMP,PH_TMP_FLAG_W,DELC13,DELC13_FLAG_W,DELC14,DELC14_FLAG_W,DOC,DOC_FLAG_W,TDN,TDN_FLAG_W,N2O,N2O_FLAG_W,BTL_DATE,BTL_TIME,BTL_LAT,BTL_LON,REFTMP,REFTMP_FLAG_W,POC,POC_FLAG_W,PON,PON_FLAG_W,POP,POP_FLAG_W,PCOD,PCOD_FLAG_W,CTDFLUOR,CTDFLUOR_FLAG_W,CTDXMISS,CTDXMISS_FLAG_W,HPLC,HPLC_FLAG_W,DNA,DNA_FLAG_W,FCM,FCM_FLAG_W
,,,,,,,,,,,METERS,DBAR,,ITS-90,,PSS-78,,PSS-78,,UMOL/KG,,UMOL/KG,,UMOL/KG,,UMOL/KG,,UMOL/KG,,UMOL/KG,,PMOL/KG,,PMOL/KG,,FMOL/KG,,UMOL/KG,,UMOL/KG,,,,DEG C,,/MILLE,,/MILLE,,UMOL/KG,,UMOL/KG,,NMOL/KG,,,,,,ITS-90,,UG/L,,UG/L,,UG/L,,UG/L,,VOLTS,,VOLTS,,,,,,,
33RR20220430,        P02,       8,          1,          3,          3,2,20220505,       1453,    31.8101,   133.6925,       4230,  3547.6,2,   1.5117,2,  34.6804,3,  34.6781,2,    152.3,2,   152.8,2,  143.22,2,   36.30,2,    0.00,2,    2.46,2,   0.011,2,   0.006,2,   0.0000,2,  2321.7,2,  2414.1,2,   7.5752,2,    24.98,2, -999.00,9,  -999.0,9, -999.00,9, -999.00,9,       22.0,2, 20220505,     1508,  31.8085, 133.6697,     1.5120,2,     -999.0,9,     -999.0,9,     -999.0,9,     -999.0,9,     0.0122,1,     4.6901,1,     -999.0,9,     -999.0,9,     -999.0,9
33RR20220430,        P02,       8,          1,          2,          2,2,20220505,       1453,    31.8101,   133.6925,       4230,  3809.1,2,   1.5304,2,  34.6815,3,  34.6789,2,    153.1,2,   153.3,2,  143.03,2,   36.02,2,    0.00,2,    2.46,2,   0.016,2,   0.017,2,   0.0000,2,  2319.6,2,  2411.9,2,   7.5749,2,    25.00,2, -999.00,9,  -999.0,9, -999.00,9, -999.00,9,       22.3,2, 20220505,     1503,  31.8084, 133.6683,     1.5307,2,     -999.0,9,     -999.0,9,     -999.0,9,     -999.0,9,     0.0129,1,     4.6895,1,     -999.0,9,     -999.0,9,     -999.0,9
33RR20220430,        P02,       8,          1,          1,          1,2,20220505,       1453,    31.8101,   133.6925,       4230,  4291.9,2,   1.5753,2,  34.6826,2,  34.6806,2,    154.1,2,   153.9,2,  142.93,2,   36.18,2,    0.00,2,    2.47,2,-999.000,5,-999.000,5,-999.0000,5,  2321.0,6,  2413.8,2,   7.5774,2,    24.99,2, -999.00,9,  -999.0,9, -999.00,9, -999.00,9,       22.6,2, 20220505,     1453,  31.8083, 133.6658,     1.5755,2,     -999.0,9,     -999.0,9,     -999.0,9,     -999.0,9,     0.0122,1,     4.6421,1,     -999.0,9,     -999.0,9,     -999.0,9