BOTTLE,20230801CCHSIOCBG
EXPOCODE,SECT_ID,STNNBR,CASTNO,SAMPNO,BTLNBR,BTLNBR_FLAG_W,DATE,TIME,LATITUDE,LONGITUDE,DEPTH,CTDPRS,CTDPRS_FLAG_W,CTDTMP,CTDTMP_FLAG_W,CTDSAL,CTDSAL_FLAG_W,SALNTY,SALNTY_FLAG_W,CTDOXY,CTDOXY_FLAG_W,OXYGEN,OXYGEN_FLAG_W,SILCAT,SILCAT_FLAG_W,NITRAT,NITRAT_FLAG_W,NITRIT,NITRIT_FLAG_W,PHSPHT,PHSPHT_FLAG_W,CFC-11,CFC-11_FLAG_W,CFC-12,CFC-12_FLAG_W,SF6,SF6_FLAG_W,TCARBN,TCARBN_FLAG_W,ALKALI,ALKALI_FLAG_W,PH_TOT,PH_TOT_FLAG_W,PH_TMP,PH_TMP_FLAG_W,DELC13,DELC13_FLAG_W,DELC14,DELC14_FLAG_W,DOC,DOC_FLAG_W,TDN,TDN_FLAG_W,N2O,N2O_FLAG_W,BTL_DATE,BTL_TIME,BTL_LAT,BTL_LON,REFTMP,REFTMP_FLAG_W,POC,POC_FLAG_W,PON,PON_FLAG_W,POP,POP_FLAG_W,PCOD,PCOD_FLAG_W,CTDFLUOR,CTDFLUOR_FLAG_W,CTDXMISS,CTDXMISS_FLAG_W,HPLC,HPLC_FLAG_W,DNA,DNA_FLAG_W,FCM,FCM_FLAG_W
,,,,,,,,,,,METERS,DBAR,,ITS-90,,PSS-78,,PSS-78,,UMOL/KG,,UMOL/KG,,UMOL/KG,,UMOL/KG,,UMOL/KG,,UMOL/KG,,PMOL/KG,,PMOL/KG,,FMOL/KG,,UMOL/KG,,UMOL/KG,,,,DEG C,,/MILLE,,/MILLE,,UMOL/KG,,UMOL/KG,,NMOL/KG,,,,,,ITS-90,,UG/L,,UG/L,,UG/L,,UG/L,,VOLTS,,VOLTS,,,,,,,
33RR20220430,        P02,      47,          2,         36,         36,2,20220518,       0706,    30.0007,   159.3300,       5735,     3.6,2,  23.9353,2,  35.0824,2,  35.0748,2,    216.5,2,   216.6,2,    1.46,2,    0.05,2,    0.00,2,    0.03,2,   1.738,2,   1.077,2,   1.8141,2,  2017.7,2,  2301.9,2,   8.0216,2,    25.03,2, -999.00,9,  -999.0,9, -999.00,1, -999.00,1,        6.0,2, 20220518,      923,  30.0007, 159.3300,    23.9326,2,     -999.0,9,     -999.0,9,     -999.0,9,     -999.0,9,     0.0135,1,     4.6383,1,     -999.0,9,     -999.0,9,     -999.0,9
33RR20220430,        P02,      47,          2,         35,         35,2,20220518,       0706,    30.0007,   159.3300,       5735,    24.8,2,  22.9907,2,  35.0943,2,  35.0878,2,    219.4,2,   219.6,2,    1.56,2,    0.02,2,    0.00,2,    0.02,2,   1.784,2,   1.102,2,   2.0316,2,  2018.2,2,  2303.4,2,   8.0213,2,    25.02,2, -999.00,9,  -999.0,9, -999.00,1, -999.00,1,        6.1,2, 20220518,      921,  30.0007, 159.3300,    22.9906,2,     -999.0,9,     -999.0,9,     -999.0,9,     -999.0,9,     0.0135,1,     4.6342,1,     -999.0,9,     -999.0,9,     -999.0,9
33RR20220430,        P02,      47,          2,         34,         34,2,20220518,       0706,    30.0007,   159.3300,       5735,    40.9,2,  21.5456,2,  35.0577,2,  35.0551,2,    230.6,2,   230.6,2,    1.66,2,    0.05,2,    0.00,2,    0.00,2,   1.869,2,   1.173,2,   2.0286,2,  2013.4,2,  2300.4,2,   8.0259,2,    25.02,2, -999.00,9,  -999.0,9, -999.00,1, -999.00,1,        6.4,2, 20220518,      920,  30.0007, 159.3300,    21.5331,2,     -999.0,9,     -999.0,9,     -999.0,9,     -999.0,9,     0.0149,1,     4.6225,1,     -999.0,9,     -999.0,9,     -999.0,9
33RR20220430,        P02,      47,          2,         33,         33,2,20220518,       0706,    30.0007,   159.3300,       5735,    67.9,2,  19.7968,2,  34.9112,2,  34.9048,2,    222.6,2,   222.5,2,    1.76,2,    0.00,2,    0.00,2,    0.04,2,   1.899,2,   1.237,2,   2.3712,2,  2025.5,2,  2291.1,2,   7.9944,2,    25.02,2, -999.00,9,  -999.0,9, -999.00,1, -999.00,1,        6.8,2, 20220518,      918,  30.0007, 159.3300,    19.7966,2,     -999.0,9,     -999.0,9,     -999.0,9,     -999.0,9,     0.0187,1,     4.6283,1,     -999.0,9,     -999.0,9,     -999.0,9
33RR20220430,        P02,      47,          2,         32,         32,2,20220518,       0706,    30.0007,   159.3300,       5735,    91.0,2,  18.9493,2,  34.8322,2,  34.8194,2,    230.4,2,   232.2,2,    1.86,2,    0.02,2,    0.00,2,    0.04,2,   2.028,2,   1.312,2,   2.0761,2,  2021.2,2,  2285.4,2,   7.9898,2,    25.02,2, -999.00,9,  -999.0,9, -999.00,1, -999.00,1,        7.2,2, 20220518,      916,  30.0007, 159.3300,    18.9502,2,     -999.0,9,     -999.0,9,     -999.0,9,     -999.0,9,     0.0349,1,     4.6213,1,     -999.0,9,     -999.0,9,     -999.0,9
33RR20220430,        P02,      47,          2,         31,         31,2,20220518,       0706,    30.0007,   159.3300,       5735,   138.2,2,  17.8329,2,  34.7658,2,  34.7610,2,    217.7,2,   217.9,2,    2.34,2,    2.04,2,    0.04,2,    0.16,2,   2.031,2,   1.304,2,   2.1446,2,  2040.5,2,  2283.2,2,   7.9531,2,    25.00,2, -999.00,9,  -999.0,9, -999.00,1, -999.00,1,        8.6,2, 20220518,      913,  30.0007, 159.3300,    17.8310,2,     -999.0,9,     -999.0,9,     -999.0,9,     -999.0,9,     0.0203,1,     4.6742,1,     -999.0,9,     -999.0,9,     -999.0,9
33RR20220430,        P02,      47,          2,         30,         30,2,20220518,       0706,    30.0007,   159.3300,       5735,   188.1,2,  17.2017,2,  34.7381,2,  34.7329,2,    206.4,2,   205.8,2,    3.61,2,    4.34,2,    0.00,2,    0.29,2,   2.122,2,   1.354,2,   1.9601,2,  2053.0,2,  2279.0,2,   7.9227,2,    25.00,2, -999.00,9,  -999.0,9, -999.00,1, -999.00,1,        8.8,2, 20220518,      911,  30.0007, 159.3300,    17.1964,2,     -999.0,9,     -999.0,9,     -999.0,9,     -999.0,9,     0.0126,1,     4.6869,1,     -999.0,9,     -999.0,9,     -999.0,9
33RR20220430,        P02,      47,          2,         29,         29,2,20220518,       0706,    30.0007,   159.3300,       5735,   238.4,2,  16.5762,2,  34.6956,2,  34.6918,2,    205.2,2,   205.1,2,    4.59,2,    5.39,2,    0.00,2,    0.37,2,   2.128,2,   1.366,2,   1.9463,2,  2056.6,2,  2277.6,2,   7.9071,2,    25.03,2, -999.00,9,  -999.0,9, -999.00,1, -999.00,1,        9.3,2, 20220518,      909,  30.0007, 159.3300,    16.5755,2,     -999.0,9,     -999.0,9,     -999.0,9,     -999.0,9,     0.0122,1,     4.6902,1,     -999.0,9,     -999.0,9,     -999.0,9
33RR20220430,        P02,      47,          2,         28,         28,2,20220518,       0706,    30.0007,   159.3300,       5735,   286.1,2,  15.9187,2,  34.6398,2,  34.6313,2,    202.0,2,   201.6,2,    6.15,2,    6.78,2,    0.00,2,    0.46,2,   2.214,2,   1.384,2,   1.9649,2,  -999.0,9,  -999.0,9,-999.0000,9,  -999.00,9, -999.00,9,  -999.0,9, -999.00,1, -999.00,1,       10.3,2, 20220518,      907,  30.0007, 159.3300,    15.9190,2,     -999.0,9,     -999.0,9,     -999.0,9,     -999.0,9,     0.0122,1,     4.6929,1,     -999.0,9,     -999.0,9,     -999.0,9
33RR20220430,        P02,      47,          2,         27,         27,2,20220518,       0706,    30.0007,   159.3300,       5735,   335.4,2,  14.9504,2,  34.5567,2,  34.5523,2,    199.9,2,   199.8,2,    8.11,2,    8.27,2,    0.00,2,    0.56,2,   2.277,2,   1.448,2,   1.9773,2,  2079.9,2,  2274.1,2,   7.8563,2,    25.03,2, -999.00,9,  -999.0,9, -999.00,1, -999.00,1,       11.5,2, 20220518,      905,  30.0007, 159.3300,    14.9506,2,     -999.0,9,     -999.0,9,     -999.0,9,     -999.0,9,     0.0122,1,     4.6942,1,     -999.0,9,     -999.0,9,     -999.0,9
33RR20220430,        P02,      47,          2,         26,         26,2,20220518,       0706,    30.0007,   159.3300,       5735,   387.2,2,  13.7209,2,  34.4609,2,  34.4561,2,    201.0,2,   201.5,2,   11.04,2,   10.18,2,    0.00,2,    0.68,2,   2.429,2,   1.521,2,   1.8889,2,  -999.0,9,  -999.0,9,-999.0000,9,  -999.00,9, -999.00,9,  -999.0,9, -999.00,1, -999.00,1,       12.7,2, 20220518,      903,  30.0007, 159.3300,    13.7203,2,     -999.0,9,     -999.0,9,     -999.0,9,     -999.0,9,     0.0122,1,     4.6975,1,     -999.0,9,     -999.0,9,     -999.0,9
33RR20220430,        P02,      47,          2,         25,         25,2,20220518,       0706,    30.0007,   159.3300,       5735,   470.8,2,  11.7424,2,  34.3101,2,  34.3097,2,    199.8,2,   200.2,2,   17.20,2,   13.67,2,    0.00,2,    0.94,2,   2.578,2,   1.623,2,   1.9040,2,  2112.9,2,  2268.6,2,   7.7729,2,    25.02,2, -999.00,9,  -999.0,9, -999.00,1, -999.00,1,       14.8,2, 20220518,      901,  30.0007, 159.3300,    11.7391,2,     -999.0,9,     -999.0,9,     -999.0,9,     -999.0,9,     0.0122,1,     4.6995,1,     -999.0,9,     -999.0,9,     -999.0,9
33RR20220430,        P02,      47,          2,         24,         24,2,20220518,       0706,    30.0007,   159.3300,       5735,   561.2,2,   9.3277,2,  34.1238,2,  34.1230,2,    192.4,2,   193.5,2,   27.75,2,   18.50,2,    0.00,2,    1.28,2,   2.748,2,   1.621,2,   1.8330,2,  2140.9,2,  2269.8,2,   7.6939,2,    25.03,2, -999.00,9,  -999.0,9, -999.00,9, -999.00,9,       18.1,2, 20220518,      858,  30.0007, 159.3300,     9.3251,2,     -999.0,9,     -999.0,9,     -999.0,9,     -999.0,9,     0.0122,1,     4.7020,1,     -999.0,9,     -999.0,9,     -999.0,9
33RR20220430,        P02,      47,          2,         23,         23,2,20220518,       0706,    30.0007,   159.3300,       5735,   672.8,2,   6.3294,2,  33.9705,2,  33.9726,2,    147.2,2,   146.4,2,   55.22,2,   28.44,2,    0.00,2,    2.03,2,   2.365,2,   1.422,2,   1.3628,2,  2215.5,2,  2285.7,2,   7.5310,2,    25.01,2, -999.00,9,  -999.0,9, -999.00,1, -999.00,1,       27.0,2, 20220518,      855,  30.0007, 159.3300,     6.3281,2,     -999.0,9,     -999.0,9,     -999.0,9,     -999.0,9,     0.0131,1,     4.7032,1,     -999.0,9,     -999.0,9,     -999.0,9
33RR20220430,        P02,      47,          2,         22,         22,2,20220518,       0706,    30.0007,   159.3300,       5735,   773.6,2,   5.1223,2,  34.0467,2,  34.0499,2,     94.8,2,    94.5,2,   79.36,2,   35.11,2,    0.00,2,    2.50,2,   1.649,2,   0.987,2,   0.7177,2,  2273.7,2,  2305.0,2,   7.4227,2,    25.01,2, -999.00,9,  -999.0,9, -999.00,9, -999.00,9,       35.3,2, 20220518,      852,  30.0007, 159.3300,     5.1221,2,     -999.0,9,     -999.0,9,     -999.0,9,     -999.0,9,     0.0130,1,     4.7027,1,     -999.0,9,     -999.0,9,     -999.0,9
33RR20220430,        P02,      47,          2,         21,         21,2,20220518,       0706,    30.0007,   159.3300,       5735,   874.5,2,   4.4103,2,  34.1577,2,  34.1611,2,     60.0,2,    60.1,2,   99.58,2,   38.95,2,    0.00,2,    2.78,2,   0.990,2,   0.575,2,   0.4157,2,  2311.5,2,  2326.7,2,   7.3645,2,    25.03,2, -999.00,9,  -999.0,9, -999.00,1, -999.00,1,       41.4,2, 20220518,      849,  30.0007, 159.3300,     4.4079,2,     -999.0,9,     -999.0,9,     -999.0,9,     -999.0,9,     0.0134,1,     4.7031,1,     -999.0,9,     -999.0,9,     -999.0,9
33RR20220430,        P02,      47,          2,         20,         20,2,20220518,       0706,    30.0007,   159.3300,       5735,   974.5,2,   3.8588,2,  34.2518,2,  34.2544,2,     39.9,3,    40.8,2,  115.11,2,   41.23,2,    0.00,2,    2.92,2,   0.483,2,   0.272,2,   0.1040,2,  -999.0,9,  -999.0,9,-999.0000,9,  -999.00,9, -999.00,9,  -999.0,9, -999.00,9, -999.00,9,       42.0,2, 20220518,      847,  30.0007, 159.3300,     3.8572,2,     -999.0,9,     -999.0,9,     -999.0,9,     -999.0,9,     0.0134,1,     4.7042,1,     -999.0,9,     -999.0,9,     -999.0,9
33RR20220430,        P02,      47,          2,         19,         19,4,20220518,       0706,    30.0007,   159.3300,       5735,  1076.0,3,   3.4637,3,  34.3217,3,  34.2528,3,     35.6,3,    40.9,3,  115.30,3,   41.20,3,    0.00,3,    2.93,3,   0.503,3,   0.295,3,   0.2098,3,  2339.2,3,  2345.0,3,   7.3402,3,    25.02,3, -999.00,9,  -999.0,9, -999.00,1, -999.00,1,       45.6,3, 20220518,      844,  30.0007, 159.3300,     3.4645,3,     -999.0,9,     -999.0,9,     -999.0,9,     -999.0,9,     0.0134,1,     4.7032,1,     -999.0,9,     -999.0,9,     -999.0,9
33RR20220430,        P02,      47,          2,         18,         18,2,20220518,       0706,    30.0007,   159.3300,       5735,  1177.6,2,   3.2151,2,  34.3861,2,  34.3884,2,     31.4,2,    31.7,2,  134.25,2,   42.59,2,    0.00,2,    3.04,2,   0.122,2,   0.069,2,   0.0000,2,  -999.0,9,  -999.0,9,-999.0000,9,  -999.00,9, -999.00,9,  -999.0,9, -999.00,9, -999.00,9,       46.4,2, 20220518,      842,  30.0007, 159.3300,     3.2144,2,     -999.0,9,     -999.0,9,     -999.0,9,     -999.0,9,     0.0134,1,     4.7052,1,     -999.0,9,     -999.0,9,     -999.0,9
33RR20220430,        P02,      47,          2,         17,         17,2,20220518,       0706,    30.0007,   159.3300,       5735,  1279.1,2,   3.0022,2,  34.4291,2,  34.4310,2,     34.1,2,    34.0,2,  140.11,2,   42.61,2,    0.00,2,    3.04,2,   0.075,2,   0.044,2,   0.0000,2,  2370.5,2,  2380.0,2,   7.3470,2,    25.03,2, -999.00,9,  -999.0,9, -999.00,1, -999.00,1,       45.2,2, 20220518,      839,  30.0007, 159.3300,     3.0008,2,     -999.0,9,     -999.0,9,     -999.0,9,     -999.0,9,     0.0134,1,     4.7055,1,     -999.0,9,     -999.0,9,     -999.0,9
33RR20220430,        P02,      47,          2,         16,         16,2,20220518,       0706,    30.0007,   159.3300,       5735,  1380.9,2,   2.7535,2,  34.4698,2,  34.4705,2,     37.2,2,    37.5,2,  147.23,2,   42.67,2,    0.00,2,    3.03,2,   0.043,2,   0.026,2,   0.0000,2,  2374.1,2,  2388.8,2,   7.3540,2,    25.02,2, -999.00,9,  -999.0,9, -999.00,9, -999.00,9,       45.5,2, 20220518,      837,  30.0007, 159.3300,     2.7540,2,     -999.0,9,     -999.0,9,     -999.0,9,     -999.0,9,     0.0134,1,     4.7063,1,     -999.0,9,     -999.0,9,     -999.0,9
33RR20220430,        P02,      47,          2,         15,         15,2,20220518,       0706,    30.0007,   159.3300,       5735,  1553.1,2,   2.4545,2,  34.5185,2,  34.5199,2,     47.1,2,    47.3,2,  153.97,2,   42.23,2,    0.00,2,    2.99,2,   0.020,2,   0.012,2,   0.0000,2,  2377.1,6,  2397.4,2,   7.3760,2,    25.01,2, -999.00,9,  -999.0,9, -999.00,1, -999.00,1,       41.6,2, 20220518,      832,  30.0007, 159.3300,     2.4553,2,     -999.0,9,     -999.0,9,     -999.0,9,     -999.0,9,     0.0134,1,     4.7068,1,     -999.0,9,     -999.0,9,     -999.0,9
33RR20220430,        P02,      47,          2,         14,         14,2,20220518,       0706,    30.0007,   159.3300,       5735,  1755.4,2,   2.1764,2,  34.5619,2,  34.5637,2,     61.7,2,    61.6,2,  159.05,2,   41.65,2,    0.00,2,    2.93,2,   0.012,2,   0.004,2,   0.0000,2,  2374.8,2,  2406.1,2,   7.4056,2,    25.02,2, -999.00,9,  -999.0,9, -999.00,9, -999.00,9,       37.1,2, 20220518,      827,  30.0007, 159.3300,     2.1772,2,     -999.0,9,     -999.0,9,     -999.0,9,     -999.0,9,     0.0134,1,     4.7076,1,     -999.0,9,     -999.0,9,     -999.0,9
33RR20220430,        P02,      47,          2,         13,         13,2,20220518,       0706,    30.0007,   159.3300,       5735,  1958.4,2,   2.0016,2,  34.5911,2,  34.5926,2,     76.6,2,    76.3,2,  159.82,2,   40.69,2,    0.00,2,    2.86,2,   0.006,2,   0.000,2,   0.0000,2,  -999.0,9,  -999.0,9,-999.0000,9,  -999.00,9, -999.00,9,  -999.0,9, -999.00,1, -999.00,1,       33.7,2, 20220518,      823,  30.0007, 159.3300,     2.0014,2,     -999.0,9,     -999.0,9,     -999.0,9,     -999.0,9,     0.0134,1,     4.7080,1,     -999.0,9,     -999.0,9,     -999.0,9
33RR20220430,        P02,      47,          2,         12,         12,2,20220518,       0706,    30.0007,   159.3300,       5735,  2192.6,2,   1.8180,2,  34.6193,2,  34.6207,2,     94.1,2,    94.1,2,  159.63,2,   39.65,2,    0.00,2,    2.78,2,   0.006,2,   0.000,2,   0.0000,2,  -999.0,9,  -999.0,9,-999.0000,9,  -999.00,9, -999.00,9,  -999.0,9, -999.00,9, -999.00,9,       30.2,2, 20220518,      818,  30.0007, 159.3300,     1.8180,2,     -999.0,9,     -999.0,9,     -999.0,9,     -999.0,9,     0.0134,1,     4.7080,1,     -999.0,9,     -999.0,9,     -999.0,9
33RR20220430,        P02,      47,          2,         11,         11,2,20220518,       0706,    30.0007,   159.3300,       5735,  2446.1,2,   1.7016,2,  34.6377,2,  34.6394,2,    108.0,2,   107.9,2,  158.35,2,   38.75,2,    0.00,2,    2.72,2,   0.006,2,   0.000,2,   0.0000,2,  2353.3,2,  2414.4,2,   7.4950,2,    25.00,2, -999.00,9,  -999.0,9, -999.00,1, -999.00,1,       28.2,2, 20220518,      813,  30.0007, 159.3300,     1.7014,2,     -999.0,9,     -999.0,9,     -999.0,9,     -999.0,9,     0.0134,1,     4.7085,1,     -999.0,9,     -999.0,9,     -999.0,9
33RR20220430,        P02,      47,          2,         10,         10,2,20220518,       0706,    30.0007,   159.3300,       5735,  2700.1,2,   1.6166,2,  34.6512,2,  34.6529,2,    119.3,2,   119.8,2,  156.40,2,   37.97,2,    0.00,2,    2.65,2,-999.000,9,-999.000,9,-999.0000,9,  -999.0,9,  -999.0,9,-999.0000,9,  -999.00,9, -999.00,9,  -999.0,9, -999.00,9, -999.00,9,     -999.0,9, 20220518,      807,  30.0007, 159.3299,     1.6160,2,     -999.0,9,     -999.0,9,     -999.0,9,     -999.0,9,     0.0127,1,     4.7089,1,     -999.0,9,     -999.0,9,     -999.0,9
33RR20220430,        P02,      47,          2,          9,          9,2,20220518,       0706,    30.0007,   159.3300,       5735,  2957.9,2,   1.5582,2,  34.6611,2,  34.6629,2,    128.4,2,   128.9,2,  154.44,2,   37.43,2,    0.00,2,    2.61,2,   0.006,2,   0.000,2,   0.0000,2,  2345.7,2,  2415.2,2,   7.5338,2,    25.02,2, -999.00,9,  -999.0,9, -999.00,1, -999.00,1,       24.8,2, 20220518,      802,  30.0007, 159.3299,     1.5585,2,     -999.0,9,     -999.0,9,     -999.0,9,     -999.0,9,     0.0134,1,     4.7091,1,     -999.0,9,     -999.0,9,     -999.0,9
33RR20220430,        P02,      47,          2,          8,          8,2,20220518,       0706,    30.0007,   159.3300,       5735,  3251.6,2,   1.5144,2,  34.6687,3,  34.6708,2,    136.1,2,   136.1,2,  153.47,2,   36.98,2,    0.00,2,    2.57,2,-999.000,9,-999.000,9,-999.0000,9,  -999.0,9,  -999.0,9,-999.0000,9,  -999.00,9, -999.00,9,  -999.0,9, -999.00,9, -999.00,9,     -999.0,9, 20220518,      756,  30.0007, 159.3299,     1.5147,2,     -999.0,9,     -999.0,9,     -999.0,9,     -999.0,9,     0.0131,1,     4.7086,1,     -999.0,9,     -999.0,9,     -999.0,9
33RR20220430,        P02,      47,          2,          7,          7,2,20220518,       0706,    30.0007,   159.3300,       5735,  3622.2,2,   1.4785,2,  34.6762,3,  34.6787,2,    144.2,2,   144.1,2,  152.00,2,   36.48,2,    0.00,2,    2.52,2,   0.004,2,   0.000,2,   0.0000,2,  2330.1,2,  2414.9,2,   7.5600,2,    25.02,2, -999.00,9,  -999.0,9, -999.00,1, -999.00,1,       22.8,2, 20220518,      749,  30.0007, 159.3300,     1.4784,2,     -999.0,9,     -999.0,9,     -999.0,9,     -999.0,9,     0.0122,1,     4.7083,1,     -999.0,9,     -999.0,9,     -999.0,9
33RR20220430,        P02,      47,          2,          6,          6,2,20220518,       0706,    30.0007,   159.3300,       5735,  4030.1,2,   1.4594,2,  34.6825,2,  34.6838,2,    151.9,2,   152.0,2,  149.36,2,   36.02,2,    0.00,2,    2.48,2,-999.000,9,-999.000,9,-999.0000,9,  -999.0,9,  -999.0,9,-999.0000,9,  -999.00,9, -999.00,9,  -999.0,9, -999.00,1, -999.00,1,     -999.0,9, 20220518,      741,  30.0007, 159.3299,     1.4594,2,     -999.0,9,     -999.0,9,     -999.0,9,     -999.0,9,     0.0122,1,     4.7082,1,     -999.0,9,     -999.0,9,     -999.0,9
33RR20220430,        P02,      47,          2,          5,          5,2,20220518,       0706,    30.0007,   159.3300,       5735,  4441.6,2,   1.4640,2,  34.6866,2,  34.6875,2,    157.4,2,   157.2,2,  148.38,2,   35.65,2,    0.00,2,    2.44,2,   0.007,2,   0.000,2,   0.0000,2,  -999.0,9,  -999.0,9,-999.0000,9,  -999.00,9, -999.00,9,  -999.0,9, -999.00,1, -999.00,1,       21.3,2, 20220518,      733,  30.0007, 159.3300,     1.4640,2,     -999.0,9,     -999.0,9,     -999.0,9,     -999.0,9,     0.0124,1,     4.7081,1,     -999.0,9,     -999.0,9,     -999.0,9
33RR20220430,        P02,      47,          2,          4,          4,2,20220518,       0706,    30.0007,   159.3300,       5735,  4852.1,2,   1.4790,2,  34.6897,2,  34.6905,2,    163.5,2,   163.3,2,  142.82,2,   35.27,2,    0.00,2,    2.41,2,-999.000,9,-999.000,9,-999.0000,9,  2313.7,2,  2409.1,2,   7.5873,2,    25.00,2, -999.00,9,  -999.0,9, -999.00,1, -999.00,1,     -999.0,9, 20220518,      726,  30.0006, 159.3300,     1.4791,2,     -999.0,9,     -999.0,9,     -999.0,9,     -999.0,9,     0.0122,1,     4.7090,1,     -999.0,9,     -999.0,9,     -999.0,9