BOTTLE,20230801CCHSIOCBG
EXPOCODE,SECT_ID,STNNBR,CASTNO,SAMPNO,BTLNBR,BTLNBR_FLAG_W,DATE,TIME,LATITUDE,LONGITUDE,DEPTH,CTDPRS,CTDPRS_FLAG_W,CTDTMP,CTDTMP_FLAG_W,CTDSAL,CTDSAL_FLAG_W,SALNTY,SALNTY_FLAG_W,CTDOXY,CTDOXY_FLAG_W,OXYGEN,OXYGEN_FLAG_W,SILCAT,SILCAT_FLAG_W,NITRAT,NITRAT_FLAG_W,NITRIT,NITRIT_FLAG_W,PHSPHT,PHSPHT_FLAG_W,CFC-11,CFC-11_FLAG_W,CFC-12,CFC-12_FLAG_W,SF6,SF6_FLAG_W,TCARBN,TCARBN_FLAG_W,ALKALI,ALKALI_FLAG_W,PH_TOT,PH_TOT_FLAG_W,PH_TMP,PH_TMP_FLAG_W,DELC13,DELC13_FLAG_W,DELC14,DELC14_FLAG_W,DOC,DOC_FLAG_W,TDN,TDN_FLAG_W,N2O,N2O_FLAG_W,BTL_DATE,BTL_TIME,BTL_LAT,BTL_LON,REFTMP,REFTMP_FLAG_W,POC,POC_FLAG_W,PON,PON_FLAG_W,POP,POP_FLAG_W,PCOD,PCOD_FLAG_W,CTDFLUOR,CTDFLUOR_FLAG_W,CTDXMISS,CTDXMISS_FLAG_W,HPLC,HPLC_FLAG_W,DNA,DNA_FLAG_W,FCM,FCM_FLAG_W
,,,,,,,,,,,METERS,DBAR,,ITS-90,,PSS-78,,PSS-78,,UMOL/KG,,UMOL/KG,,UMOL/KG,,UMOL/KG,,UMOL/KG,,UMOL/KG,,PMOL/KG,,PMOL/KG,,FMOL/KG,,UMOL/KG,,UMOL/KG,,,,DEG C,,/MILLE,,/MILLE,,UMOL/KG,,UMOL/KG,,NMOL/KG,,,,,,ITS-90,,UG/L,,UG/L,,UG/L,,UG/L,,VOLTS,,VOLTS,,,,,,,
33RR20220430,        P02,     109,          1,         36,         36,2,20220605,       2235,    29.9994,  -165.8283,       5560,     4.0,2,  23.9261,2,  35.0818,2,  35.0659,2,    223.2,3,   216.8,2,    1.17,2,    0.00,2,    0.00,2,    0.00,2,   1.588,2,   1.062,2,   2.0218,2,  2019.0,2,  2300.8,2,   8.0070,2,    25.00,2, -999.00,9,  -999.0,9, -999.00,1, -999.00,1,        7.2,2, 20220606,       48,  29.9994,-165.8283,    23.8716,2,     -999.0,9,     -999.0,9,     -999.0,9,     -999.0,9,     0.0122,1,     4.6320,1,     -999.0,9,     -999.0,9,     -999.0,9
33RR20220430,        P02,     109,          1,         35,         35,2,20220605,       2235,    29.9994,  -165.8283,       5560,    37.0,2,  21.0386,2,  35.0146,2,  35.0100,2,    236.1,3,   232.2,2,    1.37,2,    0.00,2,    0.00,2,    0.00,2,   1.778,2,   1.175,2,   2.2117,2,  2020.0,2,  2298.0,2,   8.0006,2,    25.02,2, -999.00,9,  -999.0,9, -999.00,1, -999.00,1,        7.9,2, 20220606,       46,  29.9994,-165.8283,    21.0601,2,     -999.0,9,     -999.0,9,     -999.0,9,     -999.0,9,     0.0147,1,     4.6208,1,     -999.0,9,     -999.0,9,     -999.0,9
33RR20220430,        P02,     109,          1,         34,         34,2,20220605,       2235,    29.9994,  -165.8283,       5560,    59.6,2,  19.3805,2,  34.9178,2,  34.9148,2,    241.0,2,   240.4,2,    1.66,2,    0.00,2,    0.00,2,    0.00,2,   1.901,2,   1.237,2,   2.3277,2,  2020.8,2,  2291.6,2,   7.9893,2,    25.02,2, -999.00,9,  -999.0,9, -999.00,1, -999.00,1,        8.2,2, 20220606,       44,  29.9994,-165.8283,    19.3208,3,     -999.0,9,     -999.0,9,     -999.0,9,     -999.0,9,     0.0171,1,     4.6249,1,     -999.0,9,     -999.0,9,     -999.0,9
33RR20220430,        P02,     109,          1,         33,         33,2,20220605,       2235,    29.9994,  -165.8283,       5560,    85.9,2,  18.3877,2,  34.8352,2,  34.8159,2,    230.9,2,   231.6,2,    1.95,2,    0.00,2,    0.00,2,    0.02,2,   1.959,2,   1.266,2,   2.2689,2,  2030.6,2,  2286.4,2,   7.9648,2,    25.00,2, -999.00,9,  -999.0,9, -999.00,1, -999.00,1,        8.6,2, 20220606,       42,  29.9994,-165.8284,    18.3758,2,     -999.0,9,     -999.0,9,     -999.0,9,     -999.0,9,     0.0346,1,     4.6175,1,     -999.0,9,     -999.0,9,     -999.0,9
33RR20220430,        P02,     109,          1,         32,         32,2,20220605,       2235,    29.9994,  -165.8283,       5560,   114.2,2,  17.0023,2,  34.6310,2,  34.6185,2,    237.5,2,   237.9,2,    2.54,2,    0.00,2,    0.08,2,    0.07,2,   2.097,2,   1.327,2,   2.4304,2,  2027.6,2,  2273.0,2,   7.9478,2,    25.01,2, -999.00,9,  -999.0,9, -999.00,1, -999.00,1,        8.9,2, 20220606,       40,  29.9994,-165.8284,    17.0167,2,     -999.0,9,     -999.0,9,     -999.0,9,     -999.0,9,     0.0318,1,     4.6508,1,     -999.0,9,     -999.0,9,     -999.0,9
33RR20220430,        P02,     109,          1,         31,         31,2,20220605,       2235,    29.9994,  -165.8283,       5560,   166.8,2,  15.8553,2,  34.5845,2,  34.5745,2,    212.1,2,   211.0,2,    4.59,2,    4.61,2,    0.01,2,    0.35,2,   2.247,2,   1.441,2,   2.1906,2,  2057.5,2,  2270.4,2,   7.8839,2,    25.00,2, -999.00,9,  -999.0,9, -999.00,1, -999.00,1,       11.3,2, 20220606,       38,  29.9994,-165.8284,    15.8102,2,     -999.0,9,     -999.0,9,     -999.0,9,     -999.0,9,     0.0159,1,     4.6791,1,     -999.0,9,     -999.0,9,     -999.0,9
33RR20220430,        P02,     109,          1,         30,         30,2,20220605,       2235,    29.9994,  -165.8283,       5560,   217.4,2,  14.5438,2,  34.4741,2,  34.4597,2,    207.7,2,   207.9,2,    6.55,2,    7.22,2,    0.00,2,    0.53,2,   2.418,2,   1.507,2,   2.2341,2,  2075.5,2,  2264.9,2,   7.8454,2,    25.01,2, -999.00,9,  -999.0,9, -999.00,1, -999.00,1,       13.1,2, 20220606,       36,  29.9994,-165.8284,    14.5293,2,     -999.0,9,     -999.0,9,     -999.0,9,     -999.0,9,     0.0122,1,     4.6861,1,     -999.0,9,     -999.0,9,     -999.0,9
33RR20220430,        P02,     109,          1,         29,         29,2,20220605,       2235,    29.9994,  -165.8283,       5560,   267.7,2,  13.0938,2,  34.3507,2,  34.3413,2,    208.8,2,   209.3,2,    9.28,2,    9.63,2,    0.00,2,    0.69,2,   2.558,2,   1.613,2,   2.1359,2,  2086.2,2,  2261.6,2,   7.8124,2,    25.01,2, -999.00,9,  -999.0,9, -999.00,1, -999.00,1,       14.7,2, 20220606,       34,  29.9995,-165.8284,    13.0408,2,     -999.0,9,     -999.0,9,     -999.0,9,     -999.0,9,     0.0122,1,     4.6904,1,     -999.0,9,     -999.0,9,     -999.0,9
33RR20220430,        P02,     109,          1,         28,         28,2,20220605,       2235,    29.9994,  -165.8283,       5560,   318.7,2,  11.9321,2,  34.2592,2,  34.2483,2,    209.3,2,   209.7,2,   12.41,2,   11.93,2,    0.00,2,    0.85,2,   2.691,2,   1.657,2,   2.0217,2,  2095.3,2,  2258.6,2,   7.7799,2,    25.00,2, -999.00,9,  -999.0,9, -999.00,1, -999.00,1,       16.3,2, 20220606,       32,  29.9994,-165.8283,    11.8988,2,     -999.0,9,     -999.0,9,     -999.0,9,     -999.0,9,     0.0122,1,     4.6915,1,     -999.0,9,     -999.0,9,     -999.0,9
33RR20220430,        P02,     109,          1,         27,         27,2,20220605,       2235,    29.9994,  -165.8283,       5560,   367.8,2,  10.8119,2,  34.1777,2,  34.1673,2,    204.1,2,   204.8,2,   16.32,2,   14.55,2,    0.00,2,    1.03,2,   2.781,6,   1.710,6,   2.0073,6,  2110.4,2,  2258.7,2,   7.7433,2,    25.01,2, -999.00,9,  -999.0,9, -999.00,1, -999.00,1,       18.1,6, 20220606,       30,  29.9994,-165.8283,    10.8070,2,     -999.0,9,     -999.0,9,     -999.0,9,     -999.0,9,     0.0122,1,     4.6938,1,     -999.0,9,     -999.0,9,     -999.0,9
33RR20220430,        P02,     109,          1,         26,         26,2,20220605,       2235,    29.9994,  -165.8283,       5560,   438.9,2,   9.2819,2,  34.0902,2,  34.0844,2,    192.7,2,   194.1,2,   25.21,2,   18.76,2,    0.00,2,    1.32,2,   2.790,2,   1.698,2,   1.8206,2,  -999.0,9,  -999.0,9,-999.0000,9,  -999.00,9, -999.00,9,  -999.0,9, -999.00,1, -999.00,1,       20.3,2, 20220606,       28,  29.9994,-165.8284,     9.2862,2,     -999.0,9,     -999.0,9,     -999.0,9,     -999.0,9,     0.0122,1,     4.6949,1,     -999.0,9,     -999.0,9,     -999.0,9
33RR20220430,        P02,     109,          1,         25,         25,2,20220605,       2235,    29.9994,  -165.8283,       5560,   539.3,2,   7.4330,2,  34.0091,2,  34.0055,2,    156.8,2,   156.3,2,   42.51,2,   25.84,2,    0.00,2,    1.84,2,   2.542,2,   1.552,2,   1.3174,2,  2186.3,6,  2274.0,2,   7.5781,2,    24.99,2, -999.00,9,  -999.0,9, -999.00,1, -999.00,1,       25.7,2, 20220606,       25,  29.9994,-165.8283,     7.4263,2,     -999.0,9,     -999.0,9,     -999.0,9,     -999.0,9,     0.0122,1,     4.6958,1,     -999.0,9,     -999.0,9,     -999.0,9
33RR20220430,        P02,     109,          1,         24,         24,2,20220605,       2235,    29.9994,  -165.8283,       5560,   640.5,2,   5.7836,2,  34.0079,2,  34.0078,2,    108.4,3,   107.0,2,   65.68,2,   33.36,2,    0.00,2,    2.38,2,   1.876,2,   1.125,2,   0.7978,2,  -999.0,9,  -999.0,9,-999.0000,9,  -999.00,9, -999.00,9,  -999.0,9, -999.00,9, -999.00,9,       32.8,2, 20220606,       22,  29.9994,-165.8284,     5.7801,2,     -999.0,9,     -999.0,9,     -999.0,9,     -999.0,9,     0.0134,1,     4.6971,1,     -999.0,9,     -999.0,9,     -999.0,9
33RR20220430,        P02,     109,          1,         23,         23,2,20220605,       2235,    29.9994,  -165.8283,       5560,   744.3,2,   4.8167,2,  34.1041,2,  34.1013,2,     52.4,2,    52.3,2,   87.86,2,   39.76,2,    0.00,2,    2.85,2,   0.891,2,   0.523,2,   0.1917,2,  2299.8,2,  2312.2,2,   7.3503,2,    25.00,2, -999.00,9,  -999.0,9, -999.00,1, -999.00,1,       41.8,2, 20220606,       19,  29.9994,-165.8284,     4.8179,2,     -999.0,9,     -999.0,9,     -999.0,9,     -999.0,9,     0.0134,1,     4.6983,1,     -999.0,9,     -999.0,9,     -999.0,9
33RR20220430,        P02,     109,          1,         22,         22,2,20220605,       2235,    29.9994,  -165.8283,       5560,   845.3,2,   4.2880,2,  34.1784,2,  34.1773,2,     32.4,2,    32.6,2,  102.61,2,   42.09,2,    0.00,2,    3.03,2,   0.448,2,   0.258,2,   0.0000,2,  -999.0,9,  -999.0,9,-999.0000,9,  -999.00,9, -999.00,9,  -999.0,9, -999.00,9, -999.00,9,       46.2,2, 20220606,       17,  29.9994,-165.8284,     4.2897,2,     -999.0,9,     -999.0,9,     -999.0,9,     -999.0,9,     0.0134,1,     4.6988,1,     -999.0,9,     -999.0,9,     -999.0,9
33RR20220430,        P02,     109,          1,         21,         21,2,20220605,       2235,    29.9994,  -165.8283,       5560,   944.9,2,   3.9300,2,  34.2828,2,  34.2829,2,     20.4,2,    20.4,2,  114.81,2,   43.23,2,    0.00,2,    3.14,2,   0.137,2,   0.080,2,   0.0000,2,  2346.9,2,  2346.3,2,   7.3093,2,    24.99,2, -999.00,9,  -999.0,9, -999.00,1, -999.00,1,       49.0,2, 20220606,       14,  29.9994,-165.8284,     3.9303,2,     -999.0,9,     -999.0,9,     -999.0,9,     -999.0,9,     0.0134,1,     4.6994,1,     -999.0,9,     -999.0,9,     -999.0,9
33RR20220430,        P02,     109,          1,         20,         20,3,20220605,       2235,    29.9994,  -165.8283,       5560,  1043.9,3,   3.6816,3,  34.3489,3,  34.4601,3,     19.7,3,  -999.0,9, -999.00,9, -999.00,9, -999.00,9, -999.00,9,-999.000,9,-999.000,9,-999.0000,9,  -999.0,9,  -999.0,9,-999.0000,9,  -999.00,9, -999.00,9,  -999.0,9, -999.00,9, -999.00,9,     -999.0,9, 20220606,       11,  29.9994,-165.8284,     3.6809,3,     -999.0,9,     -999.0,9,     -999.0,9,     -999.0,9,     0.0132,1,     4.6995,1,     -999.0,9,     -999.0,9,     -999.0,9
33RR20220430,        P02,     109,          1,         19,         19,2,20220605,       2235,    29.9994,  -165.8283,       5560,  1141.6,2,   3.4732,2,  34.4195,2,  34.4198,2,     30.0,2,    29.8,2,  127.02,2,   43.11,2,    0.00,2,    3.13,2,   0.028,2,   0.018,2,   0.0000,2,  2358.9,2,  2371.1,2,   7.3442,2,    25.00,2, -999.00,9,  -999.0,9, -999.00,1, -999.00,1,       45.9,2, 20220606,        9,  29.9994,-165.8284,     3.4726,2,     -999.0,9,     -999.0,9,     -999.0,9,     -999.0,9,     0.0133,1,     4.6997,1,     -999.0,9,     -999.0,9,     -999.0,9
33RR20220430,        P02,     109,          1,         18,         18,2,20220605,       2235,    29.9994,  -165.8283,       5560,  1251.7,2,   3.2351,2,  34.4675,2,  34.4675,2,     37.8,2,    37.8,2,  132.09,2,   42.77,2,    0.00,2,    3.11,2,-999.000,9,-999.000,9,-999.0000,9,  -999.0,9,  -999.0,9,-999.0000,9,  -999.00,9, -999.00,9,  -999.0,9, -999.00,9, -999.00,9,     -999.0,9, 20220606,        6,  29.9994,-165.8284,     3.2418,2,     -999.0,9,     -999.0,9,     -999.0,9,     -999.0,9,     0.0133,1,     4.7007,1,     -999.0,9,     -999.0,9,     -999.0,9
33RR20220430,        P02,     109,          1,         17,         17,2,20220605,       2235,    29.9994,  -165.8283,       5560,  1348.5,2,   3.0527,2,  34.4959,2,  34.4981,2,     44.2,3,    44.8,2,  136.29,2,   42.52,2,    0.00,2,    3.07,2,   0.011,2,   0.005,2,   0.0000,2,  2361.9,2,  2385.2,2,   7.3794,2,    24.99,2, -999.00,9,  -999.0,9, -999.00,1, -999.00,1,       41.3,2, 20220606,        3,  29.9994,-165.8284,     3.0533,2,     -999.0,9,     -999.0,9,     -999.0,9,     -999.0,9,     0.0132,1,     4.7008,1,     -999.0,9,     -999.0,9,     -999.0,9
33RR20220430,        P02,     109,          1,         16,         16,2,20220605,       2235,    29.9994,  -165.8283,       5560,  1487.6,2,   2.7855,2,  34.5299,2,  34.5303,2,     54.6,2,    54.6,2,  141.46,2,   41.95,2,    0.00,2,    3.03,2,-999.000,9,-999.000,9,-999.0000,9,  2363.7,2,  2392.0,2,   7.3993,2,    24.99,2, -999.00,9,  -999.0,9, -999.00,9, -999.00,9,     -999.0,9, 20220606,        0,  29.9994,-165.8284,     2.7863,2,     -999.0,9,     -999.0,9,     -999.0,9,     -999.0,9,     0.0134,1,     4.7019,1,     -999.0,9,     -999.0,9,     -999.0,9
33RR20220430,        P02,     109,          1,         15,         15,2,20220605,       2235,    29.9994,  -165.8283,       5560,  1683.6,2,   2.4542,2,  34.5625,2,  34.5627,2,     64.9,2,    64.9,2,  148.98,2,   41.46,2,    0.00,2,    2.97,2,   0.006,2,   0.000,2,   0.0000,2,  2366.6,2,  2402.8,2,   7.4189,2,    25.00,2, -999.00,9,  -999.0,9, -999.00,1, -999.00,1,       35.4,2, 20220605,     2356,  29.9994,-165.8284,     2.4548,2,     -999.0,9,     -999.0,9,     -999.0,9,     -999.0,9,     0.0133,1,     4.7026,1,     -999.0,9,     -999.0,9,     -999.0,9
33RR20220430,        P02,     109,          1,         14,         14,2,20220605,       2235,    29.9994,  -165.8283,       5560,  1888.0,2,   2.1842,2,  34.5877,2,  34.5873,2,     72.9,2,    73.2,2,  156.11,2,   41.08,2,    0.00,2,    2.93,2,-999.000,9,-999.000,9,-999.0000,9,  2363.9,2,  2408.2,2,   7.4343,2,    24.99,2, -999.00,9,  -999.0,9, -999.00,1, -999.00,1,     -999.0,9, 20220605,     2351,  29.9994,-165.8283,     2.1842,2,     -999.0,9,     -999.0,9,     -999.0,9,     -999.0,9,     0.0131,1,     4.7032,1,     -999.0,9,     -999.0,9,     -999.0,9
33RR20220430,        P02,     109,          1,         13,         13,2,20220605,       2235,    29.9994,  -165.8283,       5560,  2112.6,2,   1.9764,2,  34.6093,2,  34.6103,2,     80.6,2,    80.5,2,  161.68,2,   40.65,2,    0.00,2,    2.90,2,   0.005,2,   0.000,2,   0.0000,2,  2365.2,2,  2413.7,2,   7.4464,2,    25.00,2, -999.00,9,  -999.0,9, -999.00,1, -999.00,1,       31.1,2, 20220605,     2347,  29.9994,-165.8284,     1.9760,2,     -999.0,9,     -999.0,9,     -999.0,9,     -999.0,9,     0.0122,1,     4.7032,1,     -999.0,9,     -999.0,9,     -999.0,9
33RR20220430,        P02,     109,          1,         12,         12,2,20220605,       2235,    29.9994,  -165.8283,       5560,  2363.7,2,   1.7975,2,  34.6297,2,  34.6305,2,     93.6,2,    93.7,2,  163.73,2,   39.84,2,    0.00,2,    2.84,2,-999.000,9,-999.000,9,-999.0000,9,  -999.0,9,  -999.0,9,-999.0000,9,  -999.00,9, -999.00,9,  -999.0,9, -999.00,9, -999.00,9,     -999.0,9, 20220605,     2341,  29.9994,-165.8284,     1.7973,2,     -999.0,9,     -999.0,9,     -999.0,9,     -999.0,9,     0.0131,1,     4.7033,1,     -999.0,9,     -999.0,9,     -999.0,9
33RR20220430,        P02,     109,          1,         11,         11,2,20220605,       2235,    29.9994,  -165.8283,       5560,  2621.4,2,   1.6761,2,  34.6450,3,  34.6423,2,    105.5,2,   105.5,2,  164.21,2,   39.08,2,    0.00,2,    2.77,2,   0.006,2,   0.000,2,   0.0000,2,  2356.6,2,  2419.8,2,   7.4951,2,    25.00,2, -999.00,9,  -999.0,9, -999.00,1, -999.00,1,       26.8,2, 20220605,     2336,  29.9994,-165.8284,     1.6768,2,     -999.0,9,     -999.0,9,     -999.0,9,     -999.0,9,     0.0130,1,     4.7037,1,     -999.0,9,     -999.0,9,     -999.0,9
33RR20220430,        P02,     109,          1,         10,         10,2,20220605,       2235,    29.9994,  -165.8283,       5560,  2874.3,2,   1.6054,2,  34.6544,2,  34.6549,2,    115.1,2,   114.8,2,  163.24,2,   38.54,2,    0.00,2,    2.73,2,-999.000,9,-999.000,9,-999.0000,9,  -999.0,9,  -999.0,9,-999.0000,9,  -999.00,9, -999.00,9,  -999.0,9, -999.00,9, -999.00,9,     -999.0,9, 20220605,     2331,  29.9994,-165.8284,     1.6053,2,     -999.0,9,     -999.0,9,     -999.0,9,     -999.0,9,     0.0122,1,     4.7035,1,     -999.0,9,     -999.0,9,     -999.0,9
33RR20220430,        P02,     109,          1,          9,          9,2,20220605,       2235,    29.9994,  -165.8283,       5560,  3144.4,2,   1.5451,2,  34.6633,2,  34.6616,2,    125.2,2,   125.2,2,  160.69,2,   37.89,2,    0.00,2,    2.68,2,   0.006,2,   0.000,2,   0.0000,2,  2342.1,2,  2420.9,2,   7.5287,2,    25.00,2, -999.00,9,  -999.0,9, -999.00,1, -999.00,1,       24.3,2, 20220605,     2325,  29.9995,-165.8284,     1.5448,2,     -999.0,9,     -999.0,9,     -999.0,9,     -999.0,9,     0.0122,1,     4.7043,1,     -999.0,9,     -999.0,9,     -999.0,9
33RR20220430,        P02,     109,          1,          8,          8,2,20220605,       2235,    29.9994,  -165.8283,       5560,  3453.8,2,   1.5034,2,  34.6709,2,  34.6716,2,    133.7,2,   133.9,2,  158.94,2,   37.58,2,    0.00,2,    2.63,2,-999.000,9,-999.000,9,-999.0000,9,  -999.0,9,  -999.0,9,-999.0000,9,  -999.00,9, -999.00,9,  -999.0,9, -999.00,9, -999.00,9,     -999.0,9, 20220605,     2319,  29.9995,-165.8283,     1.5038,2,     -999.0,9,     -999.0,9,     -999.0,9,     -999.0,9,     0.0130,1,     4.7041,1,     -999.0,9,     -999.0,9,     -999.0,9
33RR20220430,        P02,     109,          1,          7,          7,2,20220605,       2235,    29.9994,  -165.8283,       5560,  3763.5,2,   1.4811,2,  34.6767,2,  34.6765,2,    140.9,2,   140.9,2,  157.18,2,   36.99,2,    0.00,2,    2.59,2,   0.005,2,   0.000,2,   0.0000,2,  2330.2,2,  2419.5,2,   7.5588,2,    25.01,2, -999.00,9,  -999.0,9, -999.00,1, -999.00,1,       22.5,2, 20220605,     2313,  29.9995,-165.8284,     1.4811,2,     -999.0,9,     -999.0,9,     -999.0,9,     -999.0,9,     0.0122,1,     4.7044,1,     -999.0,9,     -999.0,9,     -999.0,9
33RR20220430,        P02,     109,          1,          6,          6,2,20220605,       2235,    29.9994,  -165.8283,       5560,  4071.7,2,   1.4724,2,  34.6813,2,  34.6816,2,    146.5,2,   146.8,2,  155.32,2,   36.58,2,    0.00,2,    2.55,2,-999.000,9,-999.000,9,-999.0000,9,  -999.0,9,  -999.0,9,-999.0000,9,  -999.00,9, -999.00,9,  -999.0,9, -999.00,9, -999.00,9,     -999.0,9, 20220605,     2307,  29.9994,-165.8284,     1.4725,2,     -999.0,9,     -999.0,9,     -999.0,9,     -999.0,9,     0.0122,1,     4.7042,1,     -999.0,9,     -999.0,9,     -999.0,9
33RR20220430,        P02,     109,          1,          5,          5,2,20220605,       2235,    29.9994,  -165.8283,       5560,  4374.7,2,   1.4844,2,  34.6837,2,  34.6842,2,    149.7,2,   149.9,2,  154.83,2,   36.35,2,    0.00,2,    2.53,2,   0.006,2,   0.000,2,   0.0000,2,  2324.4,2,  2420.8,2,   7.5730,2,    25.00,2, -999.00,9,  -999.0,9, -999.00,1, -999.00,1,       21.9,2, 20220605,     2301,  29.9995,-165.8284,     1.4843,2,     -999.0,9,     -999.0,9,     -999.0,9,     -999.0,9,     0.0122,1,     4.7044,1,     -999.0,9,     -999.0,9,     -999.0,9
33RR20220430,        P02,     109,          1,          4,          4,2,20220605,       2235,    29.9994,  -165.8283,       5560,  4681.8,2,   1.5080,2,  34.6850,2,  34.6849,2,    151.6,2,   151.6,2,  154.83,2,   36.24,2,    0.00,2,    2.51,2,-999.000,9,-999.000,9,-999.0000,9,  -999.0,9,  -999.0,9,-999.0000,9,  -999.00,9, -999.00,9,  -999.0,9, -999.00,9, -999.00,9,     -999.0,9, 20220605,     2254,  29.9994,-165.8284,     1.5079,2,     -999.0,9,     -999.0,9,     -999.0,9,     -999.0,9,     0.0122,1,     4.7048,1,     -999.0,9,     -999.0,9,     -999.0,9