BOTTLE,20230801CCHSIOCBG
EXPOCODE,SECT_ID,STNNBR,CASTNO,SAMPNO,BTLNBR,BTLNBR_FLAG_W,DATE,TIME,LATITUDE,LONGITUDE,DEPTH,CTDPRS,CTDPRS_FLAG_W,CTDTMP,CTDTMP_FLAG_W,CTDSAL,CTDSAL_FLAG_W,SALNTY,SALNTY_FLAG_W,CTDOXY,CTDOXY_FLAG_W,OXYGEN,OXYGEN_FLAG_W,SILCAT,SILCAT_FLAG_W,NITRAT,NITRAT_FLAG_W,NITRIT,NITRIT_FLAG_W,PHSPHT,PHSPHT_FLAG_W,CFC-11,CFC-11_FLAG_W,CFC-12,CFC-12_FLAG_W,SF6,SF6_FLAG_W,TCARBN,TCARBN_FLAG_W,ALKALI,ALKALI_FLAG_W,PH_TOT,PH_TOT_FLAG_W,PH_TMP,PH_TMP_FLAG_W,DELC13,DELC13_FLAG_W,DELC14,DELC14_FLAG_W,DOC,DOC_FLAG_W,TDN,TDN_FLAG_W,N2O,N2O_FLAG_W,BTL_DATE,BTL_TIME,BTL_LAT,BTL_LON,REFTMP,REFTMP_FLAG_W,POC,POC_FLAG_W,PON,PON_FLAG_W,POP,POP_FLAG_W,PCOD,PCOD_FLAG_W,CTDFLUOR,CTDFLUOR_FLAG_W,CTDXMISS,CTDXMISS_FLAG_W,HPLC,HPLC_FLAG_W,DNA,DNA_FLAG_W,FCM,FCM_FLAG_W
,,,,,,,,,,,METERS,DBAR,,ITS-90,,PSS-78,,PSS-78,,UMOL/KG,,UMOL/KG,,UMOL/KG,,UMOL/KG,,UMOL/KG,,UMOL/KG,,PMOL/KG,,PMOL/KG,,FMOL/KG,,UMOL/KG,,UMOL/KG,,,,DEG C,,/MILLE,,/MILLE,,UMOL/KG,,UMOL/KG,,NMOL/KG,,,,,,ITS-90,,UG/L,,UG/L,,UG/L,,UG/L,,VOLTS,,VOLTS,,,,,,,
33RR20220430,        P02,      46,          1,         36,         36,2,20220517,       2210,    30.0000,   158.6584,       5801,     3.7,2,  23.7870,2,  35.0723,2,  35.0657,2,    216.4,2,   216.0,2,    0.29,2,    0.03,2,    0.00,2,    0.00,2,   1.671,6,   1.084,6,   1.8712,6,  2015.6,2,  2301.6,2,   8.0212,2,    24.99,2, -999.00,9,  -999.0,9, -999.00,1, -999.00,1,        5.9,6, 20220518,       25,  30.0000, 158.6584,    23.6713,2,     -999.0,9,     -999.0,9,     -999.0,9,     -999.0,9,     0.0122,1,     4.6459,1,     -999.0,9,     -999.0,9,     -999.0,9
33RR20220430,        P02,      46,          1,         35,         35,2,20220517,       2210,    30.0000,   158.6584,       5801,    36.2,2,  20.5215,2,  34.9217,2,  34.9166,2,    229.9,2,   230.5,2,    0.68,2,    0.02,2,    0.00,2,    0.00,2,   1.897,2,   1.208,2,   2.0447,2,  2011.0,2,  2291.9,2,   8.0144,2,    24.99,2, -999.00,9,  -999.0,9, -999.00,1, -999.00,1,        6.7,2, 20220518,       23,  30.0000, 158.6584,    20.5398,2,     -999.0,9,     -999.0,9,     -999.0,9,     -999.0,9,     0.0140,1,     4.6295,1,     -999.0,9,     -999.0,9,     -999.0,9
33RR20220430,        P02,      46,          1,         34,         34,2,20220517,       2210,    30.0000,   158.6584,       5801,    61.6,2,  19.0185,2,  34.8153,2,  34.8090,2,    228.3,2,   229.1,2,    0.78,2,    0.02,2,    0.00,2,    0.01,2,   1.981,2,   1.255,2,   2.1711,2,  2017.4,2,  2284.0,2,   7.9920,2,    25.02,2, -999.00,9,  -999.0,9, -999.00,1, -999.00,1,        7.1,2, 20220518,       21,  30.0000, 158.6584,    19.0193,2,     -999.0,9,     -999.0,9,     -999.0,9,     -999.0,9,     0.0195,1,     4.6353,1,     -999.0,9,     -999.0,9,     -999.0,9
33RR20220430,        P02,      46,          1,         33,         33,2,20220517,       2210,    30.0000,   158.6584,       5801,    86.4,2,  18.4962,2,  34.7822,2,  34.7763,2,    223.6,2,   223.9,2,    1.07,2,    0.59,2,    0.05,2,    0.04,2,   1.996,2,   1.277,2,   2.1460,2,  2023.3,2,  2283.5,2,   7.9770,2,    25.02,2, -999.00,9,  -999.0,9, -999.00,1, -999.00,1,        8.0,2, 20220518,       19,  30.0000, 158.6584,    18.4953,2,     -999.0,9,     -999.0,9,     -999.0,9,     -999.0,9,     0.0489,1,     4.6188,1,     -999.0,9,     -999.0,9,     -999.0,9
33RR20220430,        P02,      46,          1,         32,         32,2,20220517,       2210,    30.0000,   158.6584,       5801,   115.7,2,  18.0683,2,  34.7740,2,  34.7687,2,    220.1,2,   219.8,2,    1.37,2,    1.75,2,    0.01,2,    0.11,2,   2.016,2,   1.300,2,   2.1476,2,  2030.9,2,  2281.4,2,   7.9626,2,    25.03,2, -999.00,9,  -999.0,9, -999.00,1, -999.00,1,        8.0,2, 20220518,       17,  30.0001, 158.6584,    18.0610,2,     -999.0,9,     -999.0,9,     -999.0,9,     -999.0,9,     0.0159,1,     4.6787,1,     -999.0,9,     -999.0,9,     -999.0,9
33RR20220430,        P02,      46,          1,         31,         31,2,20220517,       2210,    30.0000,   158.6584,       5801,   167.6,2,  17.4055,2,  34.7427,2,  34.7368,2,    210.9,2,   210.6,2,    2.34,2,    3.72,2,    0.00,2,    0.22,2,   2.070,2,   1.332,2,   2.1536,2,  2043.7,2,  2280.0,2,   7.9351,2,    25.02,2, -999.00,9,  -999.0,9, -999.00,1, -999.00,1,        8.7,2, 20220518,       15,  30.0001, 158.6584,    17.4046,2,     -999.0,9,     -999.0,9,     -999.0,9,     -999.0,9,     0.0122,1,     4.6860,1,     -999.0,9,     -999.0,9,     -999.0,9
33RR20220430,        P02,      46,          1,         30,         30,2,20220517,       2210,    30.0000,   158.6584,       5801,   217.1,2,  16.7612,2,  34.7144,2,  34.7091,2,    206.8,2,   206.3,2,    3.52,2,    5.16,2,    0.00,2,    0.32,2,   2.164,2,   1.374,2,   2.0424,2,  2052.6,2,  2278.9,2,   7.9140,2,    25.03,2, -999.00,9,  -999.0,9, -999.00,1, -999.00,1,        9.5,2, 20220518,       13,  30.0000, 158.6584,    16.7589,2,     -999.0,9,     -999.0,9,     -999.0,9,     -999.0,9,     0.0122,1,     4.6899,1,     -999.0,9,     -999.0,9,     -999.0,9
33RR20220430,        P02,      46,          1,         29,         29,2,20220517,       2210,    30.0000,   158.6584,       5801,   267.8,2,  16.1309,2,  34.6630,2,  34.6590,2,    203.8,2,   203.5,2,    4.98,2,    6.38,2,    0.00,2,    0.40,2,   2.237,2,   1.402,2,   2.0311,2,  2061.5,2,  2277.5,2,   7.8947,2,    25.03,2, -999.00,9,  -999.0,9, -999.00,1, -999.00,1,       10.2,2, 20220518,       11,  30.0000, 158.6584,    16.1402,2,     -999.0,9,     -999.0,9,     -999.0,9,     -999.0,9,     0.0122,1,     4.6921,1,     -999.0,9,     -999.0,9,     -999.0,9
33RR20220430,        P02,      46,          1,         28,         28,2,20220517,       2210,    30.0000,   158.6584,       5801,   318.2,2,  15.2089,2,  34.5847,2,  34.5798,2,    198.6,2,   198.6,2,    7.13,2,    8.24,2,    0.00,2,    0.52,2,   2.311,2,   1.456,2,   1.8992,2,  2074.7,2,  2273.9,2,   7.8622,2,    25.02,2, -999.00,9,  -999.0,9, -999.00,1, -999.00,1,       11.7,2, 20220518,        9,  30.0000, 158.6584,    15.2094,2,     -999.0,9,     -999.0,9,     -999.0,9,     -999.0,9,     0.0122,1,     4.6943,1,     -999.0,9,     -999.0,9,     -999.0,9
33RR20220430,        P02,      46,          1,         27,         27,2,20220517,       2210,    30.0000,   158.6584,       5801,   368.5,2,  14.1682,2,  34.5089,2,  34.5042,2,    191.8,2,   191.6,2,   10.94,2,   10.66,2,    0.00,2,    0.70,2,   2.367,2,   1.504,2,   1.6833,2,  2090.1,2,  2273.8,2,   7.8254,2,    25.04,2, -999.00,9,  -999.0,9, -999.00,1, -999.00,1,       14.1,2, 20220518,        7,  30.0000, 158.6584,    14.1633,2,     -999.0,9,     -999.0,9,     -999.0,9,     -999.0,9,     0.0122,1,     4.6957,1,     -999.0,9,     -999.0,9,     -999.0,9
33RR20220430,        P02,      46,          1,         26,         26,2,20220517,       2210,    30.0000,   158.6584,       5801,   439.1,2,  12.3202,2,  34.3781,2,  34.3768,2,    183.1,2,   183.4,2,   19.05,2,   14.50,2,    0.00,2,    0.96,2,   2.407,2,   1.488,2,   1.7145,2,  2116.0,2,  2275.7,2,   7.7670,2,    25.01,2, -999.00,9,  -999.0,9, -999.00,1, -999.00,1,       16.5,2, 20220518,        5,  30.0000, 158.6584,    12.3290,2,     -999.0,9,     -999.0,9,     -999.0,9,     -999.0,9,     0.0122,1,     4.6947,1,     -999.0,9,     -999.0,9,     -999.0,9
33RR20220430,        P02,      46,          1,         25,         25,2,20220517,       2210,    30.0000,   158.6584,       5801,   541.0,2,   9.6221,2,  34.1611,2,  34.1595,2,    185.6,2,   186.5,2,   28.05,2,   18.69,2,    0.00,2,    1.28,2,   2.648,2,   1.585,2,   1.6769,2,  2146.1,2,  2273.2,2,   7.6930,2,    25.02,2, -999.00,9,  -999.0,9, -999.00,1, -999.00,1,       18.8,2, 20220518,        2,  30.0001, 158.6584,     9.6193,2,     -999.0,9,     -999.0,9,     -999.0,9,     -999.0,9,     0.0122,1,     4.7007,1,     -999.0,9,     -999.0,9,     -999.0,9
33RR20220430,        P02,      46,          1,         24,         24,2,20220517,       2210,    30.0000,   158.6584,       5801,   641.9,2,   6.5291,2,  33.9955,2,  33.9959,2,    145.2,2,   144.5,2,   54.54,2,   28.26,2,    0.00,2,    1.98,2,   2.364,2,   1.391,2,   1.2420,2,  2212.8,2,  2286.3,2,   7.5345,2,    25.01,2, -999.00,9,  -999.0,9, -999.00,9, -999.00,9,       27.5,2, 20220518,        0,  30.0000, 158.6584,     6.5261,2,     -999.0,9,     -999.0,9,     -999.0,9,     -999.0,9,     0.0125,1,     4.7032,1,     -999.0,9,     -999.0,9,     -999.0,9
33RR20220430,        P02,      46,          1,         23,         23,2,20220517,       2210,    30.0000,   158.6584,       5801,   743.3,2,   5.1206,2,  34.0638,2,  34.0623,2,     91.6,2,    91.3,2,   81.51,2,   35.39,2,    0.00,2,    2.51,2,   1.604,2,   0.946,2,   0.7313,2,  2273.1,2,  2306.5,2,   7.4204,2,    25.03,2, -999.00,9,  -999.0,9, -999.00,1, -999.00,1,       36.5,2, 20220517,     2357,  30.0001, 158.6584,     5.1242,2,     -999.0,9,     -999.0,9,     -999.0,9,     -999.0,9,     0.0134,1,     4.7032,1,     -999.0,9,     -999.0,9,     -999.0,9
33RR20220430,        P02,      46,          1,         22,         22,2,20220517,       2210,    30.0000,   158.6584,       5801,   843.1,2,   4.5033,2,  34.1608,2,  34.1615,2,     59.7,2,    59.6,2,   98.80,2,   39.06,2,    0.00,2,    2.78,2,   0.934,2,   0.521,2,   0.3259,2,  2310.6,2,  2325.2,2,   7.3686,2,    25.02,2, -999.00,9,  -999.0,9, -999.00,9, -999.00,9,       42.7,2, 20220517,     2354,  30.0000, 158.6584,     4.5060,2,     -999.0,9,     -999.0,9,     -999.0,9,     -999.0,9,     0.0134,1,     4.7043,1,     -999.0,9,     -999.0,9,     -999.0,9
33RR20220430,        P02,      46,          1,         21,         21,2,20220517,       2210,    30.0000,   158.6584,       5801,   943.9,2,   4.0240,2,  34.2477,2,  34.2485,2,     42.4,2,    42.7,2,  112.96,2,   41.02,2,    0.00,2,    2.91,2,   0.476,2,   0.272,2,   0.0000,2,  2332.6,2,  2343.4,2,   7.3457,2,    24.99,2, -999.00,9,  -999.0,9, -999.00,1, -999.00,1,       46.4,2, 20220517,     2352,  30.0001, 158.6584,     4.0267,2,     -999.0,9,     -999.0,9,     -999.0,9,     -999.0,9,     0.0134,1,     4.7052,1,     -999.0,9,     -999.0,9,     -999.0,9
33RR20220430,        P02,      46,          1,         20,         20,2,20220517,       2210,    30.0000,   158.6584,       5801,  1045.1,2,   3.6477,2,  34.3122,2,  34.3144,2,     35.1,2,    35.4,2,  124.39,2,   41.93,2,    0.00,2,    2.98,2,   0.269,2,   0.150,2,   0.0000,2,  2349.4,2,  2356.7,2,   7.3373,2,    25.00,2, -999.00,9,  -999.0,9, -999.00,9, -999.00,9,       48.3,2, 20220517,     2349,  30.0001, 158.6584,     3.6477,2,     -999.0,9,     -999.0,9,     -999.0,9,     -999.0,9,     0.0134,1,     4.7051,1,     -999.0,9,     -999.0,9,     -999.0,9
33RR20220430,        P02,      46,          1,         19,         19,2,20220517,       2210,    30.0000,   158.6584,       5801,  1146.3,2,   3.2921,2,  34.3776,2,  34.3784,2,     32.4,2,    32.6,2,  134.74,2,   42.49,2,    0.00,2,    3.01,2,   0.140,2,   0.078,2,   0.0000,2,  2363.2,2,  2369.2,2,   7.3384,2,    24.98,2, -999.00,9,  -999.0,9, -999.00,1, -999.00,1,       48.7,2, 20220517,     2346,  30.0001, 158.6584,     3.3005,2,     -999.0,9,     -999.0,9,     -999.0,9,     -999.0,9,     0.0134,1,     4.7054,1,     -999.0,9,     -999.0,9,     -999.0,9
33RR20220430,        P02,      46,          1,         18,         18,2,20220517,       2210,    30.0000,   158.6584,       5801,  1248.3,2,   3.0332,2,  34.4256,2,  34.4253,2,     34.5,2,    34.6,2,  141.87,2,   42.82,2,    0.00,2,    3.02,2,   0.074,2,   0.042,2,   0.0000,2,  2369.8,6,  2378.5,2,   7.3471,2,    25.00,2, -999.00,9,  -999.0,9, -999.00,9, -999.00,9,       47.5,2, 20220517,     2344,  30.0001, 158.6584,     3.0435,2,     -999.0,9,     -999.0,9,     -999.0,9,     -999.0,9,     0.0134,1,     4.7056,1,     -999.0,9,     -999.0,9,     -999.0,9
33RR20220430,        P02,      46,          1,         17,         17,2,20220517,       2210,    30.0000,   158.6584,       5801,  1349.2,2,   2.8081,2,  34.4676,2,  34.4685,2,     38.6,2,    38.5,2,  147.92,2,   42.60,2,    0.00,2,    3.01,2,   0.038,2,   0.019,2,   0.0000,2,  2373.4,2,  2386.4,2,   7.3574,2,    24.99,2, -999.00,9,  -999.0,9, -999.00,1, -999.00,1,       45.7,2, 20220517,     2341,  30.0001, 158.6584,     2.8117,2,     -999.0,9,     -999.0,9,     -999.0,9,     -999.0,9,     0.0134,1,     4.7061,1,     -999.0,9,     -999.0,9,     -999.0,9
33RR20220430,        P02,      46,          1,         16,         16,2,20220517,       2210,    30.0000,   158.6584,       5801,  1481.0,2,   2.5376,2,  34.5070,2,  34.5074,2,     44.7,2,    45.0,2,  154.26,2,   42.30,2,    0.00,2,    2.99,2,   0.023,2,   0.012,2,   0.0000,2,  2377.6,2,  2396.9,2,   7.3699,2,    25.00,2, -999.00,9,  -999.0,9, -999.00,9, -999.00,9,       43.9,2, 20220517,     2338,  30.0000, 158.6584,     2.5398,2,     -999.0,9,     -999.0,9,     -999.0,9,     -999.0,9,     0.0134,1,     4.7068,1,     -999.0,9,     -999.0,9,     -999.0,9
33RR20220430,        P02,      46,          1,         15,         15,2,20220517,       2210,    30.0000,   158.6584,       5801,  1689.4,2,   2.2394,2,  34.5531,2,  34.5541,2,     59.0,2,    58.8,2,  161.20,2,   41.46,2,    0.00,2,    2.94,2,   0.012,2,   0.006,2,   0.0000,2,  2374.6,2,  2403.8,2,   7.4000,2,    24.99,2, -999.00,9,  -999.0,9, -999.00,1, -999.00,1,       38.4,2, 20220517,     2333,  30.0000, 158.6584,     2.2401,2,     -999.0,9,     -999.0,9,     -999.0,9,     -999.0,9,     0.0134,1,     4.7073,1,     -999.0,9,     -999.0,9,     -999.0,9
33RR20220430,        P02,      46,          1,         14,         14,2,20220517,       2210,    30.0000,   158.6584,       5801,  1890.6,2,   2.0002,2,  34.5852,2,  34.5865,2,     70.8,2,    71.5,2,  163.93,2,   40.77,2,    0.00,2,    2.87,2,   0.008,2,   0.000,2,   0.0000,2,  2372.9,2,  2408.0,2,   7.4231,2,    24.97,2, -999.00,9,  -999.0,9, -999.00,9, -999.00,9,       35.3,2, 20220517,     2329,  30.0001, 158.6584,     2.0016,2,     -999.0,9,     -999.0,9,     -999.0,9,     -999.0,9,     0.0134,1,     4.7069,1,     -999.0,9,     -999.0,9,     -999.0,9
33RR20220430,        P02,      46,          1,         13,         13,2,20220517,       2210,    30.0000,   158.6584,       5801,  2114.9,2,   1.8261,2,  34.6146,2,  34.6154,2,     88.8,2,    88.7,2,  162.85,2,   39.61,2,    0.00,2,    2.77,2,   0.006,2,   0.000,2,   0.0000,2,  2365.5,2,  2412.9,2,   7.4581,2,    24.90,2, -999.00,9,  -999.0,9, -999.00,1, -999.00,1,       31.9,2, 20220517,     2324,  30.0001, 158.6585,     1.8263,2,     -999.0,9,     -999.0,9,     -999.0,9,     -999.0,9,     0.0125,1,     4.7072,1,     -999.0,9,     -999.0,9,     -999.0,9
33RR20220430,        P02,      46,          1,         12,         12,2,20220517,       2210,    30.0000,   158.6584,       5801,  2369.2,2,   1.7164,2,  34.6337,2,  34.6348,2,    103.8,2,   103.7,2,  161.87,2,   38.68,2,    0.00,2,    2.72,2,-999.000,9,-999.000,9,-999.0000,9,  2355.3,2,  2415.2,2,   7.4861,2,    24.97,2, -999.00,9,  -999.0,9, -999.00,1, -999.00,1,     -999.0,9, 20220517,     2319,  30.0000, 158.6584,     1.7167,2,     -999.0,9,     -999.0,9,     -999.0,9,     -999.0,9,     0.0128,1,     4.7075,1,     -999.0,9,     -999.0,9,     -999.0,9
33RR20220430,        P02,      46,          1,         11,         11,2,20220517,       2210,    30.0000,   158.6584,       5801,  2624.1,2,   1.6247,2,  34.6487,2,  34.6486,2,    116.9,2,   116.9,2,  160.11,2,   37.84,2,    0.00,2,    2.66,2,   0.004,2,   0.000,2,   0.0000,2,  2345.5,2,  2415.7,2,   7.5111,2,    24.98,2, -999.00,9,  -999.0,9, -999.00,9, -999.00,9,       26.7,2, 20220517,     2314,  30.0001, 158.6584,     1.6248,2,     -999.0,9,     -999.0,9,     -999.0,9,     -999.0,9,     0.0129,1,     4.7087,1,     -999.0,9,     -999.0,9,     -999.0,9
33RR20220430,        P02,      46,          1,         10,         10,2,20220517,       2210,    30.0000,   158.6584,       5801,  2878.9,2,   1.5640,2,  34.6588,2,  34.6592,2,    125.8,2,   125.7,2,  158.55,2,   37.32,2,    0.00,2,    2.59,2,-999.000,9,-999.000,9,-999.0000,9,  2338.4,2,  2416.5,2,   7.5282,2,    24.96,2, -999.00,9,  -999.0,9, -999.00,1, -999.00,1,     -999.0,9, 20220517,     2309,  30.0001, 158.6584,     1.5641,2,     -999.0,9,     -999.0,9,     -999.0,9,     -999.0,9,     0.0129,1,     4.7080,1,     -999.0,9,     -999.0,9,     -999.0,9
33RR20220430,        P02,      46,          1,          9,          9,2,20220517,       2210,    30.0000,   158.6584,       5801,  3149.4,2,   1.5198,2,  34.6672,2,  34.6682,2,    135.1,2,   134.8,2,  155.32,2,   36.75,2,    0.00,2,    2.56,2,   0.004,2,   0.000,2,   0.0000,2,  2336.9,2,  2416.5,2,   7.5444,2,    24.98,2, -999.00,9,  -999.0,9, -999.00,9, -999.00,9,       24.2,2, 20220517,     2303,  30.0000, 158.6584,     1.5196,2,     -999.0,9,     -999.0,9,     -999.0,9,     -999.0,9,     0.0122,1,     4.7090,1,     -999.0,9,     -999.0,9,     -999.0,9
33RR20220430,        P02,      46,          1,          8,          8,2,20220517,       2210,    30.0000,   158.6584,       5801,  3456.3,2,   1.4877,2,  34.6734,2,  34.6741,2,    141.2,2,   141.1,2,  154.44,2,   36.40,2,    0.00,2,    2.52,2,-999.000,9,-999.000,9,-999.0000,9,  2328.5,2,  2416.5,2,   7.5536,2,    24.98,2, -999.00,9,  -999.0,9, -999.00,1, -999.00,1,     -999.0,9, 20220517,     2257,  30.0001, 158.6584,     1.4878,2,     -999.0,9,     -999.0,9,     -999.0,9,     -999.0,9,     0.0129,1,     4.7081,1,     -999.0,9,     -999.0,9,     -999.0,9
33RR20220430,        P02,      46,          1,          7,          7,2,20220517,       2210,    30.0000,   158.6584,       5801,  3798.9,2,   1.4654,2,  34.6794,2,  34.6798,2,    148.9,2,   149.9,2,  151.61,2,   36.07,2,    0.00,2,    2.48,2,   0.006,2,   0.000,2,   0.0000,2,  2322.6,2,  2414.8,2,   7.5673,2,    24.97,2, -999.00,9,  -999.0,9, -999.00,9, -999.00,9,       22.9,2, 20220517,     2250,  30.0001, 158.6584,     1.4654,2,     -999.0,9,     -999.0,9,     -999.0,9,     -999.0,9,     0.0122,1,     4.7091,1,     -999.0,9,     -999.0,9,     -999.0,9
33RR20220430,        P02,      46,          1,          6,          6,2,20220517,       2210,    30.0000,   158.6584,       5801,  4208.2,2,   1.4615,2,  34.6840,2,  34.6832,2,    154.2,2,   154.6,2,  150.92,2,   35.66,2,    0.00,2,    2.45,2,-999.000,9,-999.000,9,-999.0000,9,  2321.0,2,  2414.2,2,   7.5687,2,    24.98,2, -999.00,9,  -999.0,9, -999.00,1, -999.00,1,     -999.0,9, 20220517,     2243,  30.0000, 158.6584,     1.4615,2,     -999.0,9,     -999.0,9,     -999.0,9,     -999.0,9,     0.0122,1,     4.7080,1,     -999.0,9,     -999.0,9,     -999.0,9
33RR20220430,        P02,      46,          1,          5,          5,2,20220517,       2210,    30.0000,   158.6584,       5801,  4649.6,2,   1.4728,2,  34.6881,2,  34.6879,2,    161.0,2,   161.1,2,  146.04,2,   35.17,2,    0.00,2,    2.43,2,   0.005,2,   0.000,2,   0.0000,2,  2314.5,2,  2411.0,2,   7.5847,2,    24.97,2, -999.00,9,  -999.0,9, -999.00,1, -999.00,1,       20.6,2, 20220517,     2234,  30.0001, 158.6584,     1.4730,2,     -999.0,9,     -999.0,9,     -999.0,9,     -999.0,9,     0.0122,1,     4.7093,1,     -999.0,9,     -999.0,9,     -999.0,9
33RR20220430,        P02,      46,          1,          4,          4,2,20220517,       2210,    30.0000,   158.6584,       5801,  5031.6,2,   1.4882,2,  34.6909,2,  34.6914,2,    166.4,2,   166.2,2,  141.84,2,   34.75,2,    0.00,2,    2.40,2,-999.000,9,-999.000,9,-999.0000,9,  2308.1,2,  2407.4,2,   7.5906,2,    24.99,2, -999.00,9,  -999.0,9, -999.00,1, -999.00,1,     -999.0,9, 20220517,     2227,  30.0001, 158.6584,     1.4883,2,     -999.0,9,     -999.0,9,     -999.0,9,     -999.0,9,     0.0122,1,     4.7088,1,     -999.0,9,     -999.0,9,     -999.0,9