BOTTLE,20230801CCHSIOCBG
EXPOCODE,SECT_ID,STNNBR,CASTNO,SAMPNO,BTLNBR,BTLNBR_FLAG_W,DATE,TIME,LATITUDE,LONGITUDE,DEPTH,CTDPRS,CTDPRS_FLAG_W,CTDTMP,CTDTMP_FLAG_W,CTDSAL,CTDSAL_FLAG_W,SALNTY,SALNTY_FLAG_W,CTDOXY,CTDOXY_FLAG_W,OXYGEN,OXYGEN_FLAG_W,SILCAT,SILCAT_FLAG_W,NITRAT,NITRAT_FLAG_W,NITRIT,NITRIT_FLAG_W,PHSPHT,PHSPHT_FLAG_W,CFC-11,CFC-11_FLAG_W,CFC-12,CFC-12_FLAG_W,SF6,SF6_FLAG_W,TCARBN,TCARBN_FLAG_W,ALKALI,ALKALI_FLAG_W,PH_TOT,PH_TOT_FLAG_W,PH_TMP,PH_TMP_FLAG_W,DELC13,DELC13_FLAG_W,DELC14,DELC14_FLAG_W,DOC,DOC_FLAG_W,TDN,TDN_FLAG_W,N2O,N2O_FLAG_W,BTL_DATE,BTL_TIME,BTL_LAT,BTL_LON,REFTMP,REFTMP_FLAG_W,POC,POC_FLAG_W,PON,PON_FLAG_W,POP,POP_FLAG_W,PCOD,PCOD_FLAG_W,CTDFLUOR,CTDFLUOR_FLAG_W,CTDXMISS,CTDXMISS_FLAG_W,HPLC,HPLC_FLAG_W,DNA,DNA_FLAG_W,FCM,FCM_FLAG_W
,,,,,,,,,,,METERS,DBAR,,ITS-90,,PSS-78,,PSS-78,,UMOL/KG,,UMOL/KG,,UMOL/KG,,UMOL/KG,,UMOL/KG,,UMOL/KG,,PMOL/KG,,PMOL/KG,,FMOL/KG,,UMOL/KG,,UMOL/KG,,,,DEG C,,/MILLE,,/MILLE,,UMOL/KG,,UMOL/KG,,NMOL/KG,,,,,,ITS-90,,UG/L,,UG/L,,UG/L,,UG/L,,VOLTS,,VOLTS,,,,,,,
33RR20220430,        P02,     108,          1,         36,         36,2,20220605,       1600,    30.0003,  -166.4060,       5480,     3.9,2,  23.8281,2,  35.1299,2,  35.1158,2,    216.0,2,   215.6,2,    1.17,2,    0.03,2,    0.00,2,    0.01,2,   1.569,2,   1.066,2,   2.0770,2,  2021.9,2,  2308.4,2,   8.0127,2,    24.99,2, -999.00,9,  -999.0,9, -999.00,1, -999.00,1,        7.2,2, 20220605,     1810,  30.0003,-166.4060,    23.8291,2,     -999.0,9,     -999.0,9,     -999.0,9,     -999.0,9,     0.0134,1,     4.6405,1,     -999.0,9,     -999.0,9,     -999.0,9
33RR20220430,        P02,     108,          1,         35,         35,2,20220605,       1600,    30.0003,  -166.4060,       5480,    26.2,2,  22.0330,2,  35.1130,2,  35.0949,2,    226.4,2,   226.2,2,    1.17,2,    0.02,2,    0.00,2,    0.00,2,   1.695,2,   1.143,2,   2.0668,2,  2022.7,6,  2303.3,2,   8.0110,2,    25.00,2, -999.00,9,  -999.0,9, -999.00,1, -999.00,1,        7.5,2, 20220605,     1808,  30.0003,-166.4059,    22.0126,2,     -999.0,9,     -999.0,9,     -999.0,9,     -999.0,9,     0.0134,1,     4.6335,1,     -999.0,9,     -999.0,9,     -999.0,9
33RR20220430,        P02,     108,          1,         34,         34,2,20220605,       1600,    30.0003,  -166.4060,       5480,    52.1,2,  20.7800,2,  35.0904,2,  35.0805,2,    228.4,2,   228.0,2,    1.07,2,    0.01,2,    0.00,2,    0.00,2,   1.757,2,   1.177,2,   1.9263,2,  2024.9,2,  2300.1,2,   8.0057,2,    25.01,2, -999.00,9,  -999.0,9, -999.00,1, -999.00,1,        7.8,2, 20220605,     1807,  30.0003,-166.4059,    20.7858,2,     -999.0,9,     -999.0,9,     -999.0,9,     -999.0,9,     0.0138,1,     4.6378,1,     -999.0,9,     -999.0,9,     -999.0,9
33RR20220430,        P02,     108,          1,         33,         33,2,20220605,       1600,    30.0003,  -166.4060,       5480,    76.8,2,  19.8295,2,  35.0061,2,  34.9904,2,    232.3,2,   233.0,2,    1.46,2,    0.01,2,    0.00,2,    0.00,2,   1.870,2,   1.237,2,   2.0872,2,  2026.9,2,  2296.1,2,   7.9921,2,    25.02,2, -999.00,9,  -999.0,9, -999.00,1, -999.00,1,        8.1,2, 20220605,     1805,  30.0003,-166.4059,    19.8278,2,     -999.0,9,     -999.0,9,     -999.0,9,     -999.0,9,     0.0166,1,     4.6377,1,     -999.0,9,     -999.0,9,     -999.0,9
33RR20220430,        P02,     108,          1,         32,         32,2,20220605,       1600,    30.0003,  -166.4060,       5480,   101.2,2,  18.5650,2,  34.8608,2,  34.8487,2,    228.7,2,   229.2,2,    1.86,2,    0.00,2,    0.00,2,    0.03,2,   1.959,2,   1.268,2,   2.0664,2,  2031.0,2,  2288.3,2,   7.9689,2,    25.02,2, -999.00,9,  -999.0,9, -999.00,1, -999.00,1,        8.5,2, 20220605,     1803,  30.0003,-166.4059,    18.5613,2,     -999.0,9,     -999.0,9,     -999.0,9,     -999.0,9,     0.0263,1,     4.6421,1,     -999.0,9,     -999.0,9,     -999.0,9
33RR20220430,        P02,     108,          1,         31,         31,2,20220605,       1600,    30.0003,  -166.4060,       5480,   151.9,2,  17.0650,2,  34.6695,2,  34.6594,2,    220.7,2,   220.3,2,    3.13,2,    1.92,2,    0.05,2,    0.18,2,   2.117,2,   1.385,2,   2.2561,2,  2046.6,2,  2276.8,2,   7.9242,2,    25.01,2, -999.00,9,  -999.0,9, -999.00,1, -999.00,1,        9.8,2, 20220605,     1801,  30.0003,-166.4060,    17.0658,2,     -999.0,9,     -999.0,9,     -999.0,9,     -999.0,9,     0.0252,1,     4.6628,1,     -999.0,9,     -999.0,9,     -999.0,9
33RR20220430,        P02,     108,          1,         30,         30,2,20220605,       1600,    30.0003,  -166.4060,       5480,   202.1,2,  15.0201,2,  34.5078,2,  34.4976,2,    209.6,2,   209.4,2,    5.67,2,    6.14,2,    0.00,2,    0.46,2,   2.320,2,   1.497,2,   2.1620,2,  2070.2,2,  2268.2,2,   7.8602,2,    25.03,2, -999.00,9,  -999.0,9, -999.00,1, -999.00,1,       12.4,2, 20220605,     1759,  30.0003,-166.4060,    15.0196,2,     -999.0,9,     -999.0,9,     -999.0,9,     -999.0,9,     0.0122,1,     4.6860,1,     -999.0,9,     -999.0,9,     -999.0,9
33RR20220430,        P02,     108,          1,         29,         29,2,20220605,       1600,    30.0003,  -166.4060,       5480,   251.9,2,  13.7337,2,  34.4068,2,  34.3900,2,    208.9,2,   209.6,2,    8.30,2,    8.65,2,    0.00,2,    0.62,2,   2.477,2,   1.570,2,   2.1088,2,  2082.8,2,  2263.7,2,   7.8278,2,    25.03,2, -999.00,9,  -999.0,9, -999.00,1, -999.00,1,       13.9,2, 20220605,     1757,  30.0003,-166.4059,    13.7294,2,     -999.0,9,     -999.0,9,     -999.0,9,     -999.0,9,     0.0122,1,     4.6885,1,     -999.0,9,     -999.0,9,     -999.0,9
33RR20220430,        P02,     108,          1,         28,         28,2,20220605,       1600,    30.0003,  -166.4060,       5480,   303.2,2,  12.2725,2,  34.2925,2,  34.2846,2,    208.5,2,   208.8,2,   11.63,2,   11.32,2,    0.00,2,    0.80,2,   2.574,2,   1.702,2,   2.1537,2,  -999.0,9,  -999.0,9,-999.0000,9,  -999.00,9, -999.00,9,  -999.0,9, -999.00,1, -999.00,1,       15.6,2, 20220605,     1755,  30.0003,-166.4059,    12.2730,2,     -999.0,9,     -999.0,9,     -999.0,9,     -999.0,9,     0.0122,1,     4.6920,1,     -999.0,9,     -999.0,9,     -999.0,9
33RR20220430,        P02,     108,          1,         27,         27,2,20220605,       1600,    30.0003,  -166.4060,       5480,   352.9,2,  11.1556,2,  34.2112,2,  34.2054,2,    205.9,2,   206.4,2,   15.24,2,   13.68,2,    0.00,2,    0.99,2,   2.699,2,   1.766,2,   2.0599,2,  2108.4,2,  2260.4,2,   7.7576,2,    25.03,2, -999.00,9,  -999.0,9, -999.00,1, -999.00,1,       17.2,2, 20220605,     1753,  30.0003,-166.4059,    11.1521,2,     -999.0,9,     -999.0,9,     -999.0,9,     -999.0,9,     0.0122,1,     4.6933,1,     -999.0,9,     -999.0,9,     -999.0,9
33RR20220430,        P02,     108,          1,         26,         26,2,20220605,       1600,    30.0003,  -166.4060,       5480,   405.1,2,  10.1266,2,  34.1379,2,  34.1338,2,    198.2,2,   199.3,2,   19.64,2,   16.40,2,    0.00,2,    1.15,2,   2.775,2,   1.753,2,   1.8491,2,  -999.0,9,  -999.0,9,-999.0000,9,  -999.00,9, -999.00,9,  -999.0,9, -999.00,1, -999.00,1,       19.2,2, 20220605,     1751,  30.0003,-166.4059,    10.1417,2,     -999.0,9,     -999.0,9,     -999.0,9,     -999.0,9,     0.0122,1,     4.6946,1,     -999.0,9,     -999.0,9,     -999.0,9
33RR20220430,        P02,     108,          1,         25,         25,2,20220605,       1600,    30.0003,  -166.4060,       5480,   505.2,2,   8.0505,2,  34.0410,2,  34.0372,2,    159.6,2,   158.6,2,   36.45,2,   24.44,2,    0.00,2,    1.72,2,   2.587,2,   1.586,2,   1.2888,2,  2179.1,2,  2269.0,2,   7.5973,2,    25.03,2, -999.00,9,  -999.0,9, -999.00,1, -999.00,1,       25.2,2, 20220605,     1749,  30.0003,-166.4059,     8.0513,2,     -999.0,9,     -999.0,9,     -999.0,9,     -999.0,9,     0.0122,1,     4.6971,1,     -999.0,9,     -999.0,9,     -999.0,9
33RR20220430,        P02,     108,          1,         24,         24,2,20220605,       1600,    30.0003,  -166.4060,       5480,   606.2,2,   6.5135,2,  34.0206,2,  34.0188,2,    115.0,3,   112.8,2,   56.49,2,   31.65,2,    0.00,2,    2.24,2,   2.002,2,   1.224,2,   0.7803,2,  2233.9,2,  2284.5,2,   7.4793,2,    25.02,2, -999.00,9,  -999.0,9, -999.00,1, -999.00,1,       30.6,2, 20220605,     1746,  30.0003,-166.4059,     6.5259,2,     -999.0,9,     -999.0,9,     -999.0,9,     -999.0,9,     0.0128,1,     4.6983,1,     -999.0,9,     -999.0,9,     -999.0,9
33RR20220430,        P02,     108,          1,         23,         23,2,20220605,       1600,    30.0003,  -166.4060,       5480,   707.6,2,   5.1110,2,  34.0700,2,  34.0717,2,     66.4,2,    66.6,2,   81.11,2,   38.14,2,    0.00,2,    2.74,2,   1.158,6,   0.703,6,   0.3250,6,  2288.3,2,  2304.6,2,   7.3729,2,    25.02,2, -999.00,9,  -999.0,9, -999.00,1, -999.00,1,       37.1,6, 20220605,     1743,  30.0003,-166.4059,     5.1111,2,     -999.0,9,     -999.0,9,     -999.0,9,     -999.0,9,     0.0134,1,     4.6983,1,     -999.0,9,     -999.0,9,     -999.0,9
33RR20220430,        P02,     108,          1,         22,         22,2,20220605,       1600,    30.0003,  -166.4060,       5480,   808.3,2,   4.4922,2,  34.1743,2,  34.1726,2,     32.6,3,    33.5,2,   98.40,2,   41.73,2,    0.00,2,    3.00,2,   0.486,2,   0.293,2,   0.0767,2,  -999.0,9,  -999.0,9,-999.0000,9,  -999.00,9, -999.00,9,  -999.0,9, -999.00,9, -999.00,9,       42.2,2, 20220605,     1740,  30.0004,-166.4059,     4.4919,2,     -999.0,9,     -999.0,9,     -999.0,9,     -999.0,9,     0.0134,1,     4.6990,1,     -999.0,9,     -999.0,9,     -999.0,9
33RR20220430,        P02,     108,          1,         21,         21,2,20220605,       1600,    30.0003,  -166.4060,       5480,   908.8,2,   4.0007,2,  34.2621,2,  34.2619,2,     21.2,2,    21.3,2,  112.46,2,   43.16,2,    0.00,2,    3.12,2,   0.187,2,   0.102,2,   0.0000,2,  2347.8,2,  2344.4,2,   7.3066,2,    25.02,2, -999.00,9,  -999.0,9, -999.00,1, -999.00,1,       44.4,2, 20220605,     1738,  30.0003,-166.4059,     4.0021,2,     -999.0,9,     -999.0,9,     -999.0,9,     -999.0,9,     0.0134,1,     4.6995,1,     -999.0,9,     -999.0,9,     -999.0,9
33RR20220430,        P02,     108,          1,         20,         20,2,20220605,       1600,    30.0003,  -166.4060,       5480,  1010.2,2,   3.6862,2,  34.3556,2,  34.3523,2,     20.5,3,    20.7,2,  122.13,2,   43.60,2,    0.00,2,    3.14,2,   0.055,2,   0.034,2,   0.0000,2,  -999.0,9,  -999.0,9,-999.0000,9,  -999.00,9, -999.00,9,  -999.0,9, -999.00,9, -999.00,9,       44.8,2, 20220605,     1735,  30.0003,-166.4059,     3.6926,2,     -999.0,9,     -999.0,9,     -999.0,9,     -999.0,9,     0.0134,1,     4.6994,1,     -999.0,9,     -999.0,9,     -999.0,9
33RR20220430,        P02,     108,          1,         19,         19,2,20220605,       1600,    30.0003,  -166.4060,       5480,  1110.6,2,   3.4625,2,  34.4212,2,  34.4171,2,     28.5,3,    28.0,2,  127.59,2,   43.37,2,    0.00,2,    3.12,2,   0.034,2,   0.017,2,   0.0000,2,  2361.2,2,  2371.2,2,   7.3390,2,    25.03,2, -999.00,9,  -999.0,9, -999.00,1, -999.00,1,       43.2,2, 20220605,     1732,  30.0003,-166.4060,     3.4655,2,     -999.0,9,     -999.0,9,     -999.0,9,     -999.0,9,     0.0134,1,     4.6998,1,     -999.0,9,     -999.0,9,     -999.0,9
33RR20220430,        P02,     108,          1,         18,         18,2,20220605,       1600,    30.0003,  -166.4060,       5480,  1211.6,2,   3.2760,2,  34.4641,2,  34.4654,2,     37.9,2,    37.8,2,  131.79,2,   42.95,2,    0.00,2,    3.08,2,   0.019,2,   0.010,2,   0.0000,2,  -999.0,9,  -999.0,9,-999.0000,9,  -999.00,9, -999.00,9,  -999.0,9, -999.00,9, -999.00,9,       40.6,2, 20220605,     1729,  30.0003,-166.4059,     3.2725,2,     -999.0,9,     -999.0,9,     -999.0,9,     -999.0,9,     0.0134,1,     4.7007,1,     -999.0,9,     -999.0,9,     -999.0,9
33RR20220430,        P02,     108,          1,         17,         17,2,20220605,       1600,    30.0003,  -166.4060,       5480,  1320.2,2,   3.0955,2,  34.4960,2,  34.4952,2,     45.9,2,    46.1,2,  135.21,2,   42.54,2,    0.00,2,    3.03,2,   0.011,2,   0.008,2,   0.0000,2,  2363.9,2,  2383.8,2,   7.3788,2,    25.01,2, -999.00,9,  -999.0,9, -999.00,1, -999.00,1,       38.6,2, 20220605,     1727,  30.0003,-166.4059,     3.0944,2,     -999.0,9,     -999.0,9,     -999.0,9,     -999.0,9,     0.0134,1,     4.7015,1,     -999.0,9,     -999.0,9,     -999.0,9
33RR20220430,        P02,     108,          1,         16,         16,2,20220605,       1600,    30.0003,  -166.4060,       5480,  1421.6,2,   2.8742,2,  34.5229,2,  34.5219,2,     54.1,2,    53.8,2,  139.80,2,   42.20,2,    0.00,2,    2.99,2,   0.009,2,   0.007,2,   0.0000,2,  2363.5,2,  2390.1,2,   7.3970,2,    25.02,2, -999.00,9,  -999.0,9, -999.00,9, -999.00,9,       36.4,2, 20220605,     1724,  30.0003,-166.4059,     2.8761,2,     -999.0,9,     -999.0,9,     -999.0,9,     -999.0,9,     0.0126,1,     4.7018,1,     -999.0,9,     -999.0,9,     -999.0,9
33RR20220430,        P02,     108,          1,         15,         15,2,20220605,       1600,    30.0003,  -166.4060,       5480,  1622.7,2,   2.5316,2,  34.5554,2,  34.5557,2,     63.8,2,    63.2,2,  147.41,2,   41.76,2,    0.00,2,    2.95,2,   0.009,2,   0.000,2,   0.0000,2,  2365.0,2,  2399.8,2,   7.4142,2,    25.01,2, -999.00,9,  -999.0,9, -999.00,1, -999.00,1,       34.1,2, 20220605,     1719,  30.0003,-166.4059,     2.5316,2,     -999.0,9,     -999.0,9,     -999.0,9,     -999.0,9,     0.0131,1,     4.7025,1,     -999.0,9,     -999.0,9,     -999.0,9
33RR20220430,        P02,     108,          1,         14,         14,2,20220605,       1600,    30.0003,  -166.4060,       5480,  1825.1,2,   2.2304,2,  34.5829,2,  34.5828,2,     71.9,3,    72.8,2,  155.03,2,   41.34,2,    0.00,2,    2.90,2,   0.006,2,   0.000,2,   0.0000,2,  2365.7,2,  2406.6,2,   7.4307,2,    25.00,2, -999.00,9,  -999.0,9, -999.00,1, -999.00,1,       32.3,2, 20220605,     1715,  30.0003,-166.4059,     2.2298,2,     -999.0,9,     -999.0,9,     -999.0,9,     -999.0,9,     0.0134,1,     4.7031,1,     -999.0,9,     -999.0,9,     -999.0,9
33RR20220430,        P02,     108,          1,         13,         13,2,20220605,       1600,    30.0003,  -166.4060,       5480,  2029.8,2,   2.0316,2,  34.6030,2,  34.6024,2,     78.3,2,    78.1,2,  160.89,2,   40.98,2,    0.00,2,    2.87,2,   0.006,2,   0.000,2,   0.0000,2,  2370.6,2,  2412.5,2,   7.4418,2,    25.03,2, -999.00,9,  -999.0,9, -999.00,1, -999.00,1,       30.9,2, 20220605,     1711,  30.0003,-166.4059,     2.0323,2,     -999.0,9,     -999.0,9,     -999.0,9,     -999.0,9,     0.0124,1,     4.7032,1,     -999.0,9,     -999.0,9,     -999.0,9
33RR20220430,        P02,     108,          1,         12,         12,2,20220605,       1600,    30.0003,  -166.4060,       5480,  2283.5,2,   1.8241,2,  34.6259,2,  34.6254,2,     91.9,2,    92.4,2,  164.50,2,   40.35,2,    0.00,2,    2.80,2,-999.000,9,-999.000,9,-999.0000,9,  -999.0,9,  -999.0,9,-999.0000,9,  -999.00,9, -999.00,9,  -999.0,9, -999.00,9, -999.00,9,     -999.0,9, 20220605,     1705,  30.0003,-166.4059,     1.8238,2,     -999.0,9,     -999.0,9,     -999.0,9,     -999.0,9,     0.0130,1,     4.7032,1,     -999.0,9,     -999.0,9,     -999.0,9
33RR20220430,        P02,     108,          1,         11,         11,2,20220605,       1600,    30.0003,  -166.4060,       5480,  2537.7,2,   1.7062,2,  34.6410,2,  34.6392,2,    103.1,2,   103.3,2,  165.38,2,   39.61,2,    0.00,2,    2.74,2,   0.010,2,   0.000,2,   0.0000,2,  2359.7,2,  2419.3,2,   7.4884,2,    25.02,2, -999.00,9,  -999.0,9, -999.00,1, -999.00,1,       27.3,2, 20220605,     1700,  30.0003,-166.4059,     1.7062,2,     -999.0,9,     -999.0,9,     -999.0,9,     -999.0,9,     0.0130,1,     4.7039,1,     -999.0,9,     -999.0,9,     -999.0,9
33RR20220430,        P02,     108,          1,         10,         10,2,20220605,       1600,    30.0003,  -166.4060,       5480,  2792.2,2,   1.6284,2,  34.6514,2,  34.6504,2,    112.5,2,   112.4,2,  164.59,2,   38.95,2,    0.00,2,    2.69,2,-999.000,9,-999.000,9,-999.0000,9,  -999.0,9,  -999.0,9,-999.0000,9,  -999.00,9, -999.00,9,  -999.0,9, -999.00,9, -999.00,9,     -999.0,9, 20220605,     1655,  30.0003,-166.4059,     1.6282,2,     -999.0,9,     -999.0,9,     -999.0,9,     -999.0,9,     0.0134,1,     4.7044,1,     -999.0,9,     -999.0,9,     -999.0,9
33RR20220430,        P02,     108,          1,          9,          9,2,20220605,       1600,    30.0003,  -166.4060,       5480,  3047.8,2,   1.5638,2,  34.6604,2,  34.6594,2,    122.5,2,   122.4,2,  162.54,2,   38.19,2,    0.00,2,    2.63,2,-999.000,5,-999.000,5,-999.0000,5,  2347.6,2,  2419.9,2,   7.5244,2,    25.02,2, -999.00,9,  -999.0,9, -999.00,1, -999.00,1,     -999.0,5, 20220605,     1650,  30.0003,-166.4059,     1.5637,2,     -999.0,9,     -999.0,9,     -999.0,9,     -999.0,9,     0.0122,1,     4.7044,1,     -999.0,9,     -999.0,9,     -999.0,9
33RR20220430,        P02,     108,          1,          8,          8,2,20220605,       1600,    30.0003,  -166.4060,       5480,  3353.2,2,   1.5174,2,  34.6683,3,  34.6661,2,    131.9,2,   131.8,2,  158.73,2,   37.52,2,    0.00,2,    2.58,2,-999.000,9,-999.000,9,-999.0000,9,  -999.0,9,  -999.0,9,-999.0000,9,  -999.00,9, -999.00,9,  -999.0,9, -999.00,9, -999.00,9,     -999.0,9, 20220605,     1644,  30.0003,-166.4059,     1.5173,2,     -999.0,9,     -999.0,9,     -999.0,9,     -999.0,9,     0.0129,1,     4.7044,1,     -999.0,9,     -999.0,9,     -999.0,9
33RR20220430,        P02,     108,          1,          7,          7,2,20220605,       1600,    30.0003,  -166.4060,       5480,  3661.1,2,   1.4817,2,  34.6755,3,  34.6730,2,    139.8,2,   140.0,2,  157.56,2,   36.73,2,    0.00,2,    2.53,2,   0.005,2,   0.000,2,   0.0000,2,  2336.2,2,  2420.2,2,   7.5562,2,    25.02,2, -999.00,9,  -999.0,9, -999.00,1, -999.00,1,       22.2,2, 20220605,     1637,  30.0003,-166.4059,     1.4815,2,     -999.0,9,     -999.0,9,     -999.0,9,     -999.0,9,     0.0125,1,     4.7044,1,     -999.0,9,     -999.0,9,     -999.0,9
33RR20220430,        P02,     108,          1,          6,          6,2,20220605,       1600,    30.0003,  -166.4060,       5480,  3967.9,2,   1.4740,2,  34.6800,2,  34.6798,2,    145.3,2,   145.3,2,  156.19,2,   36.38,2,    0.00,2,    2.51,2,-999.000,9,-999.000,9,-999.0000,9,  -999.0,9,  -999.0,9,-999.0000,9,  -999.00,9, -999.00,9,  -999.0,9, -999.00,9, -999.00,9,     -999.0,9, 20220605,     1631,  30.0003,-166.4059,     1.4741,2,     -999.0,9,     -999.0,9,     -999.0,9,     -999.0,9,     0.0122,1,     4.7044,1,     -999.0,9,     -999.0,9,     -999.0,9
33RR20220430,        P02,     108,          1,          5,          5,2,20220605,       1600,    30.0003,  -166.4060,       5480,  4275.3,2,   1.4794,2,  34.6831,2,  34.6832,2,    149.3,2,   149.8,2,  155.90,2,   36.26,2,    0.00,2,    2.49,2,   0.006,2,   0.000,2,   0.0000,2,  2329.2,2,  2419.9,2,   7.5727,2,    25.02,2, -999.00,9,  -999.0,9, -999.00,1, -999.00,1,       21.2,2, 20220605,     1625,  30.0003,-166.4059,     1.4794,2,     -999.0,9,     -999.0,9,     -999.0,9,     -999.0,9,     0.0122,1,     4.7044,1,     -999.0,9,     -999.0,9,     -999.0,9
33RR20220430,        P02,     108,          1,          4,          4,2,20220605,       1600,    30.0003,  -166.4060,       5480,  4583.3,2,   1.5009,2,  34.6845,2,  34.6830,2,    151.2,2,   151.2,2,  155.80,2,   36.18,2,    0.00,2,    2.48,2,-999.000,9,-999.000,9,-999.0000,9,  -999.0,9,  -999.0,9,-999.0000,9,  -999.00,9, -999.00,9,  -999.0,9, -999.00,9, -999.00,9,     -999.0,9, 20220605,     1619,  30.0003,-166.4059,     1.5010,2,     -999.0,9,     -999.0,9,     -999.0,9,     -999.0,9,     0.0131,1,     4.7047,1,     -999.0,9,     -999.0,9,     -999.0,9