BOTTLE,20230801CCHSIOCBG
EXPOCODE,SECT_ID,STNNBR,CASTNO,SAMPNO,BTLNBR,BTLNBR_FLAG_W,DATE,TIME,LATITUDE,LONGITUDE,DEPTH,CTDPRS,CTDPRS_FLAG_W,CTDTMP,CTDTMP_FLAG_W,CTDSAL,CTDSAL_FLAG_W,SALNTY,SALNTY_FLAG_W,CTDOXY,CTDOXY_FLAG_W,OXYGEN,OXYGEN_FLAG_W,SILCAT,SILCAT_FLAG_W,NITRAT,NITRAT_FLAG_W,NITRIT,NITRIT_FLAG_W,PHSPHT,PHSPHT_FLAG_W,CFC-11,CFC-11_FLAG_W,CFC-12,CFC-12_FLAG_W,SF6,SF6_FLAG_W,TCARBN,TCARBN_FLAG_W,ALKALI,ALKALI_FLAG_W,PH_TOT,PH_TOT_FLAG_W,PH_TMP,PH_TMP_FLAG_W,DELC13,DELC13_FLAG_W,DELC14,DELC14_FLAG_W,DOC,DOC_FLAG_W,TDN,TDN_FLAG_W,N2O,N2O_FLAG_W,BTL_DATE,BTL_TIME,BTL_LAT,BTL_LON,REFTMP,REFTMP_FLAG_W,POC,POC_FLAG_W,PON,PON_FLAG_W,POP,POP_FLAG_W,PCOD,PCOD_FLAG_W,CTDFLUOR,CTDFLUOR_FLAG_W,CTDXMISS,CTDXMISS_FLAG_W,HPLC,HPLC_FLAG_W,DNA,DNA_FLAG_W,FCM,FCM_FLAG_W
,,,,,,,,,,,METERS,DBAR,,ITS-90,,PSS-78,,PSS-78,,UMOL/KG,,UMOL/KG,,UMOL/KG,,UMOL/KG,,UMOL/KG,,UMOL/KG,,PMOL/KG,,PMOL/KG,,FMOL/KG,,UMOL/KG,,UMOL/KG,,,,DEG C,,/MILLE,,/MILLE,,UMOL/KG,,UMOL/KG,,NMOL/KG,,,,,,ITS-90,,UG/L,,UG/L,,UG/L,,UG/L,,VOLTS,,VOLTS,,,,,,,
33RR20220430,        P02,      37,          1,          3,          3,2,20220514,       2153,    30.0000,   152.6001,       5921,  5132.8,2,   1.5104,2,  34.6904,2,  34.6901,2,    165.0,2,   165.0,2,  141.14,2,   34.44,2,    0.00,2,    2.42,2,   0.008,2,   0.000,2,   0.0000,2,  2312.4,2,  2408.2,2,   7.5896,2,    24.99,2, -999.00,9,  -999.0,9, -999.00,1, -999.00,1,       23.0,2, 20220514,     2210,  30.0000, 152.6001,     1.5101,2,     -999.0,9,     -999.0,9,     -999.0,9,     -999.0,9,     0.0122,1,     4.7093,1,     -999.0,9,     -999.0,9,     -999.0,9
33RR20220430,        P02,      37,          1,          2,          2,2,20220514,       2153,    30.0000,   152.6001,       5921,  5632.4,2,   1.5471,2,  34.6929,2,  34.6928,2,    169.6,2,   170.0,2,  137.43,2,   34.58,2,    0.00,2,    2.38,2,-999.000,9,-999.000,9,-999.0000,9,  2308.3,6,  2405.5,2,   7.5951,2,    25.03,2, -999.00,9,  -999.0,9, -999.00,1, -999.00,1,     -999.0,9, 20220514,     2201,  30.0000, 152.6001,     1.5468,2,     -999.0,9,     -999.0,9,     -999.0,9,     -999.0,9,     0.0122,1,     4.7080,1,     -999.0,9,     -999.0,9,     -999.0,9
33RR20220430,        P02,      37,          1,          1,          1,2,20220514,       2153,    30.0000,   152.6001,       5921,  6034.7,2,   1.5922,2,  34.6934,2,  34.6940,2,    170.5,2,   170.6,2,  136.94,2,   34.36,2,    0.00,2,    2.37,2,   0.008,2,   0.000,2,   0.0000,2,  2309.0,2,  2406.9,2,   7.5975,2,    25.01,2, -999.00,9,  -999.0,9, -999.00,1, -999.00,1,       22.8,2, 20220514,     2153,  30.0000, 152.6001,     1.5918,2,     -999.0,9,     -999.0,9,     -999.0,9,     -999.0,9,     0.0122,1,     4.7019,1,     -999.0,9,     -999.0,9,     -999.0,9
33RR20220430,        P02,      38,          1,         19,         19,2,20220515,       0405,    29.9996,   153.2733,       5844,     8.5,2,  20.6387,2,  34.8061,2,-999.0000,9,    219.5,2,  -999.0,9, -999.00,9, -999.00,9, -999.00,9, -999.00,9,-999.000,9,-999.000,9,-999.0000,9,  -999.0,9,  -999.0,9,-999.0000,9,  -999.00,9, -999.00,9,  -999.0,9, -999.00,9, -999.00,9,     -999.0,9, 20220515,      435,  29.9996, 153.2733,    20.9004,2,     -999.0,9,     -999.0,9,     -999.0,9,     -999.0,1,     0.0135,1,     4.6179,1,     -999.0,9,     -999.0,9,     -999.0,9
33RR20220430,        P02,      38,          1,         12,         12,2,20220515,       0405,    29.9996,   153.2733,       5844,     8.7,2,  20.6929,2,  34.8071,2,-999.0000,9,    218.9,2,  -999.0,9, -999.00,9, -999.00,9, -999.00,9, -999.00,9,-999.000,9,-999.000,9,-999.0000,9,  -999.0,9,  -999.0,9,-999.0000,9,  -999.00,9, -999.00,9,  -999.0,9, -999.00,9, -999.00,9,     -999.0,9, 20220515,      432,  29.9995, 153.2733,    20.9824,3,     -999.0,1,     -999.0,1,     -999.0,9,     -999.0,9,     0.0134,1,     4.6203,1,     -999.0,9,     -999.0,9,     -999.0,9
33RR20220430,        P02,      38,          1,         10,         10,2,20220515,       0405,    29.9996,   153.2733,       5844,     8.7,2,  21.2600,2,  34.8009,2,-999.0000,9,    217.7,2,  -999.0,9, -999.00,9, -999.00,9, -999.00,9, -999.00,9,-999.000,9,-999.000,9,-999.0000,9,  -999.0,9,  -999.0,9,-999.0000,9,  -999.00,9, -999.00,9,  -999.0,9, -999.00,9, -999.00,9,     -999.0,9, 20220515,      432,  29.9996, 153.2732,    21.3101,3,     -999.0,9,     -999.0,9,     -999.0,9,     -999.0,9,     0.0134,1,     4.6214,1,     -999.0,9,     -999.0,1,     -999.0,9
33RR20220430,        P02,      38,          1,          9,          9,2,20220515,       0405,    29.9996,   153.2733,       5844,     8.8,2,  21.0840,2,  34.8057,2,-999.0000,9,    218.0,2,  -999.0,9, -999.00,9, -999.00,9, -999.00,9, -999.00,9,-999.000,9,-999.000,9,-999.0000,9,  -999.0,9,  -999.0,9,-999.0000,9,  -999.00,9, -999.00,9,  -999.0,9, -999.00,9, -999.00,9,     -999.0,9, 20220515,      431,  29.9996, 153.2731,    21.3825,3,     -999.0,9,     -999.0,9,     -999.0,9,     -999.0,9,     0.0134,1,     4.6212,1,     -999.0,1,     -999.0,9,     -999.0,1
33RR20220430,        P02,      38,          1,         18,         18,2,20220515,       0405,    29.9996,   153.2733,       5844,     8.8,2,  20.8753,2,  34.8106,2,-999.0000,9,    218.5,2,  -999.0,9, -999.00,9, -999.00,9, -999.00,9, -999.00,9,-999.000,9,-999.000,9,-999.0000,9,  -999.0,9,  -999.0,9,-999.0000,9,  -999.00,9, -999.00,9,  -999.0,9, -999.00,9, -999.00,9,     -999.0,9, 20220515,      434,  29.9996, 153.2732,    21.0754,2,     -999.0,9,     -999.0,9,     -999.0,9,     -999.0,1,     0.0134,1,     4.6170,1,     -999.0,9,     -999.0,9,     -999.0,9
33RR20220430,        P02,      38,          1,         14,         14,2,20220515,       0405,    29.9996,   153.2733,       5844,     9.0,2,  20.8270,2,  34.8096,2,-999.0000,9,    218.4,2,  -999.0,9, -999.00,9, -999.00,9, -999.00,9, -999.00,9,-999.000,9,-999.000,9,-999.0000,9,  -999.0,9,  -999.0,9,-999.0000,9,  -999.00,9, -999.00,9,  -999.0,9, -999.00,9, -999.00,9,     -999.0,9, 20220515,      433,  29.9995, 153.2732,    21.0392,2,     -999.0,9,     -999.0,9,     -999.0,1,     -999.0,9,     0.0135,1,     4.6194,1,     -999.0,9,     -999.0,9,     -999.0,9
33RR20220430,        P02,      38,          1,         15,         15,2,20220515,       0405,    29.9996,   153.2733,       5844,     9.0,2,  20.7481,2,  34.8082,2,-999.0000,9,    218.9,2,  -999.0,9, -999.00,9, -999.00,9, -999.00,9, -999.00,9,-999.000,9,-999.000,9,-999.0000,9,  -999.0,9,  -999.0,9,-999.0000,9,  -999.00,9, -999.00,9,  -999.0,9, -999.00,9, -999.00,9,     -999.0,9, 20220515,      433,  29.9996, 153.2732,    20.8658,2,     -999.0,9,     -999.0,9,     -999.0,1,     -999.0,9,     0.0135,1,     4.6226,1,     -999.0,9,     -999.0,9,     -999.0,9
33RR20220430,        P02,      38,          1,         13,         13,2,20220515,       0405,    29.9996,   153.2733,       5844,     9.1,2,  20.7745,2,  34.8077,2,-999.0000,9,    218.8,2,  -999.0,9, -999.00,9, -999.00,9, -999.00,9, -999.00,9,-999.000,9,-999.000,9,-999.0000,9,  -999.0,9,  -999.0,9,-999.0000,9,  -999.00,9, -999.00,9,  -999.0,9, -999.00,9, -999.00,9,     -999.0,9, 20220515,      433,  29.9995, 153.2733,    21.0415,2,     -999.0,1,     -999.0,1,     -999.0,9,     -999.0,9,     0.0135,1,     4.6223,1,     -999.0,9,     -999.0,9,     -999.0,9
33RR20220430,        P02,      38,          1,         11,         11,2,20220515,       0405,    29.9996,   153.2733,       5844,     9.2,2,  20.8890,2,  34.8094,2,-999.0000,9,    218.5,2,  -999.0,9, -999.00,9, -999.00,9, -999.00,9, -999.00,9,-999.000,9,-999.000,9,-999.0000,9,  -999.0,9,  -999.0,9,-999.0000,9,  -999.00,9, -999.00,9,  -999.0,9, -999.00,9, -999.00,9,     -999.0,9, 20220515,      432,  29.9996, 153.2733,    21.0602,3,     -999.0,1,     -999.0,1,     -999.0,9,     -999.0,9,     0.0135,1,     4.6192,1,     -999.0,9,     -999.0,9,     -999.0,9
33RR20220430,        P02,      38,          1,         16,         16,2,20220515,       0405,    29.9996,   153.2733,       5844,     9.3,2,  20.6808,2,  34.8073,2,-999.0000,9,    219.3,2,  -999.0,9, -999.00,9, -999.00,9, -999.00,9, -999.00,9,-999.000,9,-999.000,9,-999.0000,9,  -999.0,9,  -999.0,9,-999.0000,9,  -999.00,9, -999.00,9,  -999.0,9, -999.00,9, -999.00,9,     -999.0,9, 20220515,      434,  29.9996, 153.2732,    21.2595,3,     -999.0,9,     -999.0,9,     -999.0,1,     -999.0,9,     0.0134,1,     4.6189,1,     -999.0,9,     -999.0,9,     -999.0,9
33RR20220430,        P02,      38,          1,         17,         17,2,20220515,       0405,    29.9996,   153.2733,       5844,     9.5,2,  21.2120,2,  34.7978,2,-999.0000,9,    218.0,2,  -999.0,9, -999.00,9, -999.00,9, -999.00,9, -999.00,9,-999.000,9,-999.000,9,-999.0000,9,  -999.0,9,  -999.0,9,-999.0000,9,  -999.00,9, -999.00,9,  -999.0,9, -999.00,9, -999.00,9,     -999.0,9, 20220515,      434,  29.9996, 153.2732,    21.3662,2,     -999.0,9,     -999.0,9,     -999.0,9,     -999.0,1,     0.0135,1,     4.6184,1,     -999.0,9,     -999.0,9,     -999.0,9
33RR20220430,        P02,      38,          1,          8,          8,2,20220515,       0405,    29.9996,   153.2733,       5844,    43.8,2,  18.8460,2,  34.9651,2,-999.0000,9,    228.3,2,  -999.0,9, -999.00,9, -999.00,9, -999.00,9, -999.00,9,-999.000,9,-999.000,9,-999.0000,9,  -999.0,9,  -999.0,9,-999.0000,9,  -999.00,9, -999.00,9,  -999.0,9, -999.00,9, -999.00,9,     -999.0,9, 20220515,      429,  29.9996, 153.2732,    19.0590,2,     -999.0,9,     -999.0,9,     -999.0,9,     -999.0,9,     0.0155,1,     4.6348,1,     -999.0,1,     -999.0,9,     -999.0,1
33RR20220430,        P02,      38,          1,          7,          7,2,20220515,       0405,    29.9996,   153.2733,       5844,    78.8,2,  17.4264,2,  34.9124,2,-999.0000,9,    224.5,2,  -999.0,9, -999.00,9, -999.00,9, -999.00,9, -999.00,9,-999.000,9,-999.000,9,-999.0000,9,  -999.0,9,  -999.0,9,-999.0000,9,  -999.00,9, -999.00,9,  -999.0,9, -999.00,9, -999.00,9,     -999.0,9, 20220515,      427,  29.9996, 153.2732,    17.6239,2,     -999.0,9,     -999.0,9,     -999.0,9,     -999.0,9,     0.0472,1,     4.6214,1,     -999.0,9,     -999.0,9,     -999.0,1
33RR20220430,        P02,      38,          1,          6,          6,2,20220515,       0405,    29.9996,   153.2733,       5844,   104.1,2,  17.0739,2,  34.8949,2,-999.0000,9,    215.8,2,  -999.0,9, -999.00,9, -999.00,9, -999.00,9, -999.00,9,-999.000,9,-999.000,9,-999.0000,9,  -999.0,9,  -999.0,9,-999.0000,9,  -999.00,9, -999.00,9,  -999.0,9, -999.00,9, -999.00,9,     -999.0,9, 20220515,      425,  29.9996, 153.2732,    17.2661,2,     -999.0,9,     -999.0,9,     -999.0,9,     -999.0,9,     0.0277,1,     4.6526,1,     -999.0,1,     -999.0,9,     -999.0,1
33RR20220430,        P02,      38,          1,          5,          5,2,20220515,       0405,    29.9996,   153.2733,       5844,   104.7,2,  17.0751,2,  34.8955,2,-999.0000,9,    215.5,2,  -999.0,9, -999.00,9, -999.00,9, -999.00,9, -999.00,9,-999.000,9,-999.000,9,-999.0000,9,  -999.0,9,  -999.0,9,-999.0000,9,  -999.00,9, -999.00,9,  -999.0,9, -999.00,9, -999.00,9,     -999.0,9, 20220515,      425,  29.9996, 153.2732,    17.2670,2,     -999.0,9,     -999.0,9,     -999.0,9,     -999.0,9,     0.0315,1,     4.6581,1,     -999.0,9,     -999.0,1,     -999.0,9
33RR20220430,        P02,      38,          1,          4,          4,2,20220515,       0405,    29.9996,   153.2733,       5844,   154.5,2,  16.5693,2,  34.8633,2,-999.0000,9,    211.7,2,  -999.0,9, -999.00,9, -999.00,9, -999.00,9, -999.00,9,-999.000,9,-999.000,9,-999.0000,9,  -999.0,9,  -999.0,9,-999.0000,9,  -999.00,9, -999.00,9,  -999.0,9, -999.00,9, -999.00,9,     -999.0,9, 20220515,      423,  29.9996, 153.2732,    16.7499,2,     -999.0,9,     -999.0,9,     -999.0,9,     -999.0,9,     0.0171,1,     4.6738,1,     -999.0,9,     -999.0,9,     -999.0,1
33RR20220430,        P02,      38,          1,          3,          3,2,20220515,       0405,    29.9996,   153.2733,       5844,   203.8,2,  16.1438,2,  34.8345,2,-999.0000,9,    214.0,2,  -999.0,9, -999.00,9, -999.00,9, -999.00,9, -999.00,9,-999.000,9,-999.000,9,-999.0000,9,  -999.0,9,  -999.0,9,-999.0000,9,  -999.00,9, -999.00,9,  -999.0,9, -999.00,9, -999.00,9,     -999.0,9, 20220515,      421,  29.9996, 153.2732,    16.3091,2,     -999.0,9,     -999.0,9,     -999.0,9,     -999.0,9,     0.0134,1,     4.6825,1,     -999.0,9,     -999.0,1,     -999.0,1
33RR20220430,        P02,      38,          1,          2,          2,2,20220515,       0405,    29.9996,   153.2733,       5844,   506.0,2,  10.2163,2,  34.3184,2,-999.0000,9,    179.5,2,  -999.0,9, -999.00,9, -999.00,9, -999.00,9, -999.00,9,-999.000,9,-999.000,9,-999.0000,9,  -999.0,9,  -999.0,9,-999.0000,9,  -999.00,9, -999.00,9,  -999.0,9, -999.00,9, -999.00,9,     -999.0,9, 20220515,      415,  29.9996, 153.2733,    10.3306,2,     -999.0,9,     -999.0,9,     -999.0,9,     -999.0,9,     0.0122,1,     4.7002,1,     -999.0,9,     -999.0,9,     -999.0,1
33RR20220430,        P02,      38,          1,          1,          1,2,20220515,       0405,    29.9996,   153.2733,       5844,  1008.7,2,   3.6529,2,  34.2957,2,-999.0000,9,     36.7,2,  -999.0,9, -999.00,9, -999.00,9, -999.00,9, -999.00,9,-999.000,9,-999.000,9,-999.0000,9,  -999.0,9,  -999.0,9,-999.0000,9,  -999.00,9, -999.00,9,  -999.0,9, -999.00,9, -999.00,9,     -999.0,9, 20220515,      405,  29.9996, 153.2732,     3.6546,2,     -999.0,9,     -999.0,9,     -999.0,9,     -999.0,9,     0.0134,1,     4.7032,1,     -999.0,9,     -999.0,1,     -999.0,1