BOTTLE,20230801CCHSIOCBG
EXPOCODE,SECT_ID,STNNBR,CASTNO,SAMPNO,BTLNBR,BTLNBR_FLAG_W,DATE,TIME,LATITUDE,LONGITUDE,DEPTH,CTDPRS,CTDPRS_FLAG_W,CTDTMP,CTDTMP_FLAG_W,CTDSAL,CTDSAL_FLAG_W,SALNTY,SALNTY_FLAG_W,CTDOXY,CTDOXY_FLAG_W,OXYGEN,OXYGEN_FLAG_W,SILCAT,SILCAT_FLAG_W,NITRAT,NITRAT_FLAG_W,NITRIT,NITRIT_FLAG_W,PHSPHT,PHSPHT_FLAG_W,CFC-11,CFC-11_FLAG_W,CFC-12,CFC-12_FLAG_W,SF6,SF6_FLAG_W,TCARBN,TCARBN_FLAG_W,ALKALI,ALKALI_FLAG_W,PH_TOT,PH_TOT_FLAG_W,PH_TMP,PH_TMP_FLAG_W,DELC13,DELC13_FLAG_W,DELC14,DELC14_FLAG_W,DOC,DOC_FLAG_W,TDN,TDN_FLAG_W,N2O,N2O_FLAG_W,BTL_DATE,BTL_TIME,BTL_LAT,BTL_LON,REFTMP,REFTMP_FLAG_W,POC,POC_FLAG_W,PON,PON_FLAG_W,POP,POP_FLAG_W,PCOD,PCOD_FLAG_W,CTDFLUOR,CTDFLUOR_FLAG_W,CTDXMISS,CTDXMISS_FLAG_W,HPLC,HPLC_FLAG_W,DNA,DNA_FLAG_W,FCM,FCM_FLAG_W
,,,,,,,,,,,METERS,DBAR,,ITS-90,,PSS-78,,PSS-78,,UMOL/KG,,UMOL/KG,,UMOL/KG,,UMOL/KG,,UMOL/KG,,UMOL/KG,,PMOL/KG,,PMOL/KG,,FMOL/KG,,UMOL/KG,,UMOL/KG,,,,DEG C,,/MILLE,,/MILLE,,UMOL/KG,,UMOL/KG,,NMOL/KG,,,,,,ITS-90,,UG/L,,UG/L,,UG/L,,UG/L,,VOLTS,,VOLTS,,,,,,,
33RR20220430,        P02,      91,          1,          3,          3,2,20220531,       1431,    30.0001,  -176.2126,       5285,  4684.1,2,   1.5043,2,  34.6856,2,  34.6863,2,    152.9,2,   153.1,2,  155.50,2,   36.13,2,    0.00,2,    2.47,2,   0.007,2,   0.000,2,   0.0000,2,  2326.4,2,  2405.9,2,   7.5765,2,    25.00,2, -999.00,9,  -999.0,9, -999.00,9, -999.00,9,       20.1,2, 20220531,     1444,  30.0001,-176.2125,     1.5043,2,     -999.0,9,     -999.0,9,     -999.0,9,     -999.0,9,     0.0121,1,     4.7057,1,     -999.0,9,     -999.0,9,     -999.0,9
33RR20220430,        P02,      91,          1,          2,          2,2,20220531,       1431,    30.0001,  -176.2126,       5285,  5045.1,2,   1.5218,2,  34.6880,2,  34.6889,2,    158.1,2,   158.0,2,  149.84,2,   35.72,2,    0.00,2,    2.45,2,-999.000,9,-999.000,9,-999.0000,9,  2322.5,6,  2416.1,2,   7.5839,2,    24.99,2, -999.00,9,  -999.0,9, -999.00,9, -999.00,9,     -999.0,9, 20220531,     1437,  30.0001,-176.2125,     1.5219,2,     -999.0,9,     -999.0,9,     -999.0,9,     -999.0,9,     0.0122,1,     4.7056,1,     -999.0,9,     -999.0,9,     -999.0,9
33RR20220430,        P02,      91,          1,          1,          1,2,20220531,       1431,    30.0001,  -176.2126,       5285,  5377.4,2,   1.5454,2,  34.6897,2,  34.6910,2,    162.0,2,   162.0,2,  145.44,2,   35.40,2,    0.00,2,    2.43,2,   0.008,2,   0.000,2,   0.0000,2,  2317.1,2,  2413.6,2,   7.5876,2,    25.00,2, -999.00,9,  -999.0,9, -999.00,9, -999.00,9,       20.0,2, 20220531,     1431,  30.0001,-176.2125,     1.5455,2,     -999.0,9,     -999.0,9,     -999.0,9,     -999.0,9,     0.0122,1,     4.7014,1,     -999.0,9,     -999.0,9,     -999.0,9
33RR20220430,        P02,      92,          1,         10,         10,2,20220531,       1941,    29.9999,  -175.6366,       5286,     9.0,2,  21.5415,2,  35.1756,2,-999.0000,9,    211.3,2,  -999.0,9, -999.00,9, -999.00,9, -999.00,9, -999.00,9,-999.000,9,-999.000,9,-999.0000,9,  -999.0,9,  -999.0,9,-999.0000,9,  -999.00,9, -999.00,9,  -999.0,9, -999.00,9, -999.00,9,     -999.0,9, 20220531,     2007,  29.9999,-175.6366,     -999.0,9,     -999.0,9,     -999.0,9,     -999.0,9,     -999.0,9,     0.0134,1,     0.0097,1,     -999.0,9,     -999.0,1,     -999.0,9
33RR20220430,        P02,      92,          1,         12,         12,2,20220531,       1941,    29.9999,  -175.6366,       5286,     9.0,2,  21.5398,2,  35.1748,2,-999.0000,9,    211.5,2,  -999.0,9, -999.00,9, -999.00,9, -999.00,9, -999.00,9,-999.000,9,-999.000,9,-999.0000,9,  -999.0,9,  -999.0,9,-999.0000,9,  -999.00,9, -999.00,9,  -999.0,9, -999.00,9, -999.00,9,     -999.0,9, 20220531,     2007,  29.9999,-175.6366,     -999.0,9,     -999.0,1,     -999.0,1,     -999.0,9,     -999.0,9,     0.0134,1,     0.0097,1,     -999.0,9,     -999.0,9,     -999.0,9
33RR20220430,        P02,      92,          1,         17,         17,2,20220531,       1941,    29.9999,  -175.6366,       5286,     9.1,2,  21.5398,2,  35.1754,2,-999.0000,9,    211.3,2,  -999.0,9, -999.00,9, -999.00,9, -999.00,9, -999.00,9,-999.000,9,-999.000,9,-999.0000,9,  -999.0,9,  -999.0,9,-999.0000,9,  -999.00,9, -999.00,9,  -999.0,9, -999.00,9, -999.00,9,     -999.0,9, 20220531,     2008,  29.9999,-175.6366,    21.5371,2,     -999.0,9,     -999.0,9,     -999.0,9,     -999.0,1,     0.0134,1,     0.0096,1,     -999.0,9,     -999.0,9,     -999.0,9
33RR20220430,        P02,      92,          1,         11,         11,2,20220531,       1941,    29.9999,  -175.6366,       5286,     9.2,2,  21.5392,2,  35.1753,2,-999.0000,9,    211.4,2,  -999.0,9, -999.00,9, -999.00,9, -999.00,9, -999.00,9,-999.000,9,-999.000,9,-999.0000,9,  -999.0,9,  -999.0,9,-999.0000,9,  -999.00,9, -999.00,9,  -999.0,9, -999.00,9, -999.00,9,     -999.0,9, 20220531,     2007,  29.9999,-175.6366,    21.5369,2,     -999.0,1,     -999.0,1,     -999.0,9,     -999.0,9,     0.0134,1,     0.0097,1,     -999.0,9,     -999.0,9,     -999.0,9
33RR20220430,        P02,      92,          1,         15,         15,2,20220531,       1941,    29.9999,  -175.6366,       5286,     9.2,2,  21.5653,2,  35.1758,2,-999.0000,9,    211.3,2,  -999.0,9, -999.00,9, -999.00,9, -999.00,9, -999.00,9,-999.000,9,-999.000,9,-999.0000,9,  -999.0,9,  -999.0,9,-999.0000,9,  -999.00,9, -999.00,9,  -999.0,9, -999.00,9, -999.00,9,     -999.0,9, 20220531,     2008,  29.9999,-175.6367,    21.5473,2,     -999.0,9,     -999.0,9,     -999.0,1,     -999.0,9,     0.0134,1,     0.0097,1,     -999.0,9,     -999.0,9,     -999.0,9
33RR20220430,        P02,      92,          1,         19,         19,2,20220531,       1941,    29.9999,  -175.6366,       5286,     9.2,2,  21.5406,2,  35.1751,2,-999.0000,9,    211.6,2,  -999.0,9, -999.00,9, -999.00,9, -999.00,9, -999.00,9,-999.000,9,-999.000,9,-999.0000,9,  -999.0,9,  -999.0,9,-999.0000,9,  -999.00,9, -999.00,9,  -999.0,9, -999.00,9, -999.00,9,     -999.0,9, 20220531,     2009,  29.9999,-175.6366,    21.5620,2,     -999.0,9,     -999.0,9,     -999.0,9,     -999.0,1,     0.0134,1,     0.0096,1,     -999.0,9,     -999.0,9,     -999.0,9
33RR20220430,        P02,      92,          1,         16,         16,2,20220531,       1941,    29.9999,  -175.6366,       5286,     9.2,2,  21.5507,2,  35.1757,2,-999.0000,9,    211.4,2,  -999.0,9, -999.00,9, -999.00,9, -999.00,9, -999.00,9,-999.000,9,-999.000,9,-999.0000,9,  -999.0,9,  -999.0,9,-999.0000,9,  -999.00,9, -999.00,9,  -999.0,9, -999.00,9, -999.00,9,     -999.0,9, 20220531,     2008,  29.9999,-175.6366,     -999.0,9,     -999.0,9,     -999.0,9,     -999.0,1,     -999.0,9,     0.0134,1,     0.0097,1,     -999.0,9,     -999.0,9,     -999.0,9
33RR20220430,        P02,      92,          1,         13,         13,2,20220531,       1941,    29.9999,  -175.6366,       5286,     9.3,2,  21.5240,2,  35.1737,2,-999.0000,9,    211.0,2,  -999.0,9, -999.00,9, -999.00,9, -999.00,9, -999.00,9,-999.000,9,-999.000,9,-999.0000,9,  -999.0,9,  -999.0,9,-999.0000,9,  -999.00,9, -999.00,9,  -999.0,9, -999.00,9, -999.00,9,     -999.0,9, 20220531,     2007,  29.9999,-175.6367,    21.5272,2,     -999.0,1,     -999.0,1,     -999.0,9,     -999.0,9,     0.0134,1,     0.0097,1,     -999.0,9,     -999.0,9,     -999.0,9
33RR20220430,        P02,      92,          1,         18,         18,2,20220531,       1941,    29.9999,  -175.6366,       5286,     9.4,2,  21.5348,2,  35.1751,2,-999.0000,9,    211.8,2,  -999.0,9, -999.00,9, -999.00,9, -999.00,9, -999.00,9,-999.000,9,-999.000,9,-999.0000,9,  -999.0,9,  -999.0,9,-999.0000,9,  -999.00,9, -999.00,9,  -999.0,9, -999.00,9, -999.00,9,     -999.0,9, 20220531,     2009,  29.9999,-175.6366,     -999.0,9,     -999.0,9,     -999.0,9,     -999.0,9,     -999.0,1,     0.0134,1,     0.0097,1,     -999.0,9,     -999.0,9,     -999.0,9
33RR20220430,        P02,      92,          1,          9,          9,2,20220531,       1941,    29.9999,  -175.6366,       5286,     9.4,2,  21.5418,2,  35.1756,2,-999.0000,9,    211.2,2,  -999.0,9, -999.00,9, -999.00,9, -999.00,9, -999.00,9,-999.000,9,-999.000,9,-999.0000,9,  -999.0,9,  -999.0,9,-999.0000,9,  -999.00,9, -999.00,9,  -999.0,9, -999.00,9, -999.00,9,     -999.0,9, 20220531,     2006,  29.9999,-175.6367,    21.5444,2,     -999.0,9,     -999.0,9,     -999.0,9,     -999.0,9,     0.0134,1,     0.0096,1,     -999.0,1,     -999.0,9,     -999.0,1
33RR20220430,        P02,      92,          1,         14,         14,2,20220531,       1941,    29.9999,  -175.6366,       5286,     9.7,2,  21.5340,2,  35.1748,2,-999.0000,9,    211.6,2,  -999.0,9, -999.00,9, -999.00,9, -999.00,9, -999.00,9,-999.000,9,-999.000,9,-999.0000,9,  -999.0,9,  -999.0,9,-999.0000,9,  -999.00,9, -999.00,9,  -999.0,9, -999.00,9, -999.00,9,     -999.0,9, 20220531,     2008,  29.9999,-175.6367,     -999.0,9,     -999.0,9,     -999.0,9,     -999.0,1,     -999.0,9,     0.0134,1,     0.0097,1,     -999.0,9,     -999.0,9,     -999.0,9
33RR20220430,        P02,      92,          1,          8,          8,2,20220531,       1941,    29.9999,  -175.6366,       5286,    44.4,2,  19.8246,2,  35.0079,2,-999.0000,9,    221.4,2,  -999.0,9, -999.00,9, -999.00,9, -999.00,9, -999.00,9,-999.000,9,-999.000,9,-999.0000,9,  -999.0,9,  -999.0,9,-999.0000,9,  -999.00,9, -999.00,9,  -999.0,9, -999.00,9, -999.00,9,     -999.0,9, 20220531,     2004,  29.9999,-175.6367,    19.8400,2,     -999.0,9,     -999.0,9,     -999.0,9,     -999.0,9,     0.0147,1,     0.0097,1,     -999.0,1,     -999.0,9,     -999.0,1
33RR20220430,        P02,      92,          1,          7,          7,2,20220531,       1941,    29.9999,  -175.6366,       5286,    78.7,2,  18.8652,2,  34.9016,2,-999.0000,9,    223.9,2,  -999.0,9, -999.00,9, -999.00,9, -999.00,9, -999.00,9,-999.000,9,-999.000,9,-999.0000,9,  -999.0,9,  -999.0,9,-999.0000,9,  -999.00,9, -999.00,9,  -999.0,9, -999.00,9, -999.00,9,     -999.0,9, 20220531,     2002,  29.9999,-175.6366,    18.8645,2,     -999.0,9,     -999.0,9,     -999.0,9,     -999.0,9,     0.0191,1,     0.0097,1,     -999.0,9,     -999.0,9,     -999.0,1
33RR20220430,        P02,      92,          1,          6,          6,2,20220531,       1941,    29.9999,  -175.6366,       5286,   104.7,2,  18.0013,2,  34.8199,2,-999.0000,9,    213.5,2,  -999.0,9, -999.00,9, -999.00,9, -999.00,9, -999.00,9,-999.000,9,-999.000,9,-999.0000,9,  -999.0,9,  -999.0,9,-999.0000,9,  -999.00,9, -999.00,9,  -999.0,9, -999.00,9, -999.00,9,     -999.0,9, 20220531,     2001,  29.9999,-175.6366,     -999.0,9,     -999.0,9,     -999.0,9,     -999.0,9,     -999.0,9,     0.0370,1,     0.0097,1,     -999.0,1,     -999.0,9,     -999.0,1
33RR20220430,        P02,      92,          1,          5,          5,2,20220531,       1941,    29.9999,  -175.6366,       5286,   104.7,2,  17.9980,2,  34.8191,2,-999.0000,9,    213.7,2,  -999.0,9, -999.00,9, -999.00,9, -999.00,9, -999.00,9,-999.000,9,-999.000,9,-999.0000,9,  -999.0,9,  -999.0,9,-999.0000,9,  -999.00,9, -999.00,9,  -999.0,9, -999.00,9, -999.00,9,     -999.0,9, 20220531,     2000,  29.9999,-175.6366,    18.0081,2,     -999.0,9,     -999.0,9,     -999.0,9,     -999.0,9,     0.0341,1,     0.0097,1,     -999.0,9,     -999.0,1,     -999.0,9
33RR20220430,        P02,      92,          1,          4,          4,2,20220531,       1941,    29.9999,  -175.6366,       5286,   154.6,2,  16.8689,2,  34.6976,2,-999.0000,9,    211.5,2,  -999.0,9, -999.00,9, -999.00,9, -999.00,9, -999.00,9,-999.000,9,-999.000,9,-999.0000,9,  -999.0,9,  -999.0,9,-999.0000,9,  -999.00,9, -999.00,9,  -999.0,9, -999.00,9, -999.00,9,     -999.0,9, 20220531,     1958,  29.9999,-175.6366,    16.8648,2,     -999.0,9,     -999.0,9,     -999.0,9,     -999.0,9,     0.0162,1,     0.0096,1,     -999.0,9,     -999.0,9,     -999.0,1
33RR20220430,        P02,      92,          1,          3,          3,2,20220531,       1941,    29.9999,  -175.6366,       5286,   204.6,2,  15.6961,2,  34.5771,2,-999.0000,9,    202.6,2,  -999.0,9, -999.00,9, -999.00,9, -999.00,9, -999.00,9,-999.000,9,-999.000,9,-999.0000,9,  -999.0,9,  -999.0,9,-999.0000,9,  -999.00,9, -999.00,9,  -999.0,9, -999.00,9, -999.00,9,     -999.0,9, 20220531,     1957,  29.9999,-175.6366,    15.6957,2,     -999.0,9,     -999.0,9,     -999.0,9,     -999.0,9,     0.0129,1,     0.0096,1,     -999.0,9,     -999.0,1,     -999.0,1
33RR20220430,        P02,      92,          1,          2,          2,2,20220531,       1941,    29.9999,  -175.6366,       5286,   507.4,2,   8.7880,2,  34.0727,2,-999.0000,9,    173.7,2,  -999.0,9, -999.00,9, -999.00,9, -999.00,9, -999.00,9,-999.000,9,-999.000,9,-999.0000,9,  -999.0,9,  -999.0,9,-999.0000,9,  -999.00,9, -999.00,9,  -999.0,9, -999.00,9, -999.00,9,     -999.0,9, 20220531,     1951,  29.9999,-175.6367,     8.8037,2,     -999.0,9,     -999.0,9,     -999.0,9,     -999.0,9,     0.0122,1,     0.0096,1,     -999.0,9,     -999.0,9,     -999.0,1
33RR20220430,        P02,      92,          1,          1,          1,2,20220531,       1941,    29.9999,  -175.6366,       5286,  1010.2,2,   3.8740,2,  34.3094,2,-999.0000,9,     28.8,2,  -999.0,9, -999.00,9, -999.00,9, -999.00,9, -999.00,9,-999.000,9,-999.000,9,-999.0000,9,  -999.0,9,  -999.0,9,-999.0000,9,  -999.00,9, -999.00,9,  -999.0,9, -999.00,9, -999.00,9,     -999.0,9, 20220531,     1941,  29.9999,-175.6367,     3.8740,2,     -999.0,9,     -999.0,9,     -999.0,9,     -999.0,9,     0.0134,1,     0.0096,1,     -999.0,9,     -999.0,1,     -999.0,1