BOTTLE,20230801CCHSIOCBG
EXPOCODE,SECT_ID,STNNBR,CASTNO,SAMPNO,BTLNBR,BTLNBR_FLAG_W,DATE,TIME,LATITUDE,LONGITUDE,DEPTH,CTDPRS,CTDPRS_FLAG_W,CTDTMP,CTDTMP_FLAG_W,CTDSAL,CTDSAL_FLAG_W,SALNTY,SALNTY_FLAG_W,CTDOXY,CTDOXY_FLAG_W,OXYGEN,OXYGEN_FLAG_W,SILCAT,SILCAT_FLAG_W,NITRAT,NITRAT_FLAG_W,NITRIT,NITRIT_FLAG_W,PHSPHT,PHSPHT_FLAG_W,CFC-11,CFC-11_FLAG_W,CFC-12,CFC-12_FLAG_W,SF6,SF6_FLAG_W,TCARBN,TCARBN_FLAG_W,ALKALI,ALKALI_FLAG_W,PH_TOT,PH_TOT_FLAG_W,PH_TMP,PH_TMP_FLAG_W,DELC13,DELC13_FLAG_W,DELC14,DELC14_FLAG_W,DOC,DOC_FLAG_W,TDN,TDN_FLAG_W,N2O,N2O_FLAG_W,BTL_DATE,BTL_TIME,BTL_LAT,BTL_LON,REFTMP,REFTMP_FLAG_W,POC,POC_FLAG_W,PON,PON_FLAG_W,POP,POP_FLAG_W,PCOD,PCOD_FLAG_W,CTDFLUOR,CTDFLUOR_FLAG_W,CTDXMISS,CTDXMISS_FLAG_W,HPLC,HPLC_FLAG_W,DNA,DNA_FLAG_W,FCM,FCM_FLAG_W
,,,,,,,,,,,METERS,DBAR,,ITS-90,,PSS-78,,PSS-78,,UMOL/KG,,UMOL/KG,,UMOL/KG,,UMOL/KG,,UMOL/KG,,UMOL/KG,,PMOL/KG,,PMOL/KG,,FMOL/KG,,UMOL/KG,,UMOL/KG,,,,DEG C,,/MILLE,,/MILLE,,UMOL/KG,,UMOL/KG,,NMOL/KG,,,,,,ITS-90,,UG/L,,UG/L,,UG/L,,UG/L,,VOLTS,,VOLTS,,,,,,,
33RR20220430,        P02,      90,          1,          3,          3,2,20220531,       0759,    29.9999,  -176.7901,       5402,  4889.0,2,   1.5084,2,  34.6875,2,  34.6879,2,    157.1,2,   156.9,2,  149.35,2,   35.82,2,    0.00,2,    2.46,2,   0.005,2,   0.000,2,   0.0000,2,  2323.1,2,  2416.4,2,   7.5826,2,    25.03,2, -999.00,9,  -999.0,9, -999.00,1, -999.00,1,       21.7,2, 20220531,      812,  29.9999,-176.7901,     1.5085,2,     -999.0,9,     -999.0,9,     -999.0,9,     -999.0,9,     0.0122,1,     4.7067,1,     -999.0,9,     -999.0,9,     -999.0,9
33RR20220430,        P02,      90,          1,          2,          2,2,20220531,       0759,    29.9999,  -176.7901,       5402,  5249.7,2,   1.5339,2,  34.6893,2,  34.6889,2,    161.0,2,   161.8,2,  145.93,2,   35.56,2,    0.00,2,    2.44,2,-999.000,9,-999.000,9,-999.0000,9,  2318.5,2,  2414.0,2,   7.5865,2,    25.03,2, -999.00,9,  -999.0,9, -999.00,9, -999.00,9,     -999.0,9, 20220531,      805,  29.9999,-176.7901,     1.5339,2,     -999.0,9,     -999.0,9,     -999.0,9,     -999.0,9,     0.0122,1,     4.7043,1,     -999.0,9,     -999.0,9,     -999.0,9
33RR20220430,        P02,      90,          1,          1,          1,2,20220531,       0759,    29.9999,  -176.7901,       5402,  5499.4,2,   1.5523,2,  34.6905,2,  34.6901,2,    163.8,2,   163.4,2,  143.39,2,   35.34,2,    0.00,2,    2.42,2,   0.007,2,   0.000,2,   0.0000,2,  2316.5,6,  2411.8,2,   7.5892,2,    25.03,2, -999.00,9,  -999.0,9, -999.00,1, -999.00,1,       21.5,2, 20220531,      759,  29.9999,-176.7901,     1.5525,2,     -999.0,9,     -999.0,9,     -999.0,9,     -999.0,9,     0.0122,1,     4.7032,1,     -999.0,9,     -999.0,9,     -999.0,9