BOTTLE,20230801CCHSIOCBG
EXPOCODE,SECT_ID,STNNBR,CASTNO,SAMPNO,BTLNBR,BTLNBR_FLAG_W,DATE,TIME,LATITUDE,LONGITUDE,DEPTH,CTDPRS,CTDPRS_FLAG_W,CTDTMP,CTDTMP_FLAG_W,CTDSAL,CTDSAL_FLAG_W,SALNTY,SALNTY_FLAG_W,CTDOXY,CTDOXY_FLAG_W,OXYGEN,OXYGEN_FLAG_W,SILCAT,SILCAT_FLAG_W,NITRAT,NITRAT_FLAG_W,NITRIT,NITRIT_FLAG_W,PHSPHT,PHSPHT_FLAG_W,CFC-11,CFC-11_FLAG_W,CFC-12,CFC-12_FLAG_W,SF6,SF6_FLAG_W,TCARBN,TCARBN_FLAG_W,ALKALI,ALKALI_FLAG_W,PH_TOT,PH_TOT_FLAG_W,PH_TMP,PH_TMP_FLAG_W,DELC13,DELC13_FLAG_W,DELC14,DELC14_FLAG_W,DOC,DOC_FLAG_W,TDN,TDN_FLAG_W,N2O,N2O_FLAG_W,BTL_DATE,BTL_TIME,BTL_LAT,BTL_LON,REFTMP,REFTMP_FLAG_W,POC,POC_FLAG_W,PON,PON_FLAG_W,POP,POP_FLAG_W,PCOD,PCOD_FLAG_W,CTDFLUOR,CTDFLUOR_FLAG_W,CTDXMISS,CTDXMISS_FLAG_W,HPLC,HPLC_FLAG_W,DNA,DNA_FLAG_W,FCM,FCM_FLAG_W
,,,,,,,,,,,METERS,DBAR,,ITS-90,,PSS-78,,PSS-78,,UMOL/KG,,UMOL/KG,,UMOL/KG,,UMOL/KG,,UMOL/KG,,UMOL/KG,,PMOL/KG,,PMOL/KG,,FMOL/KG,,UMOL/KG,,UMOL/KG,,,,DEG C,,/MILLE,,/MILLE,,UMOL/KG,,UMOL/KG,,NMOL/KG,,,,,,ITS-90,,UG/L,,UG/L,,UG/L,,UG/L,,VOLTS,,VOLTS,,,,,,,
33RR20220430,        P02,     113,          2,          3,          3,2,20220607,       0423,    30.0007,  -163.5215,       5687,  5263.5,2,   1.5546,2,  34.6876,2,  34.6877,2,    157.4,2,   157.4,2,  149.64,2,   35.69,2,    0.00,2,    2.46,2,-999.000,9,-999.000,9,-999.0000,9,  2323.1,2,  2416.0,2,   7.5860,2,    25.02,2, -999.00,9,  -999.0,9, -999.00,1, -999.00,1,     -999.0,9, 20220607,      434,  30.0007,-163.5215,     1.5547,2,     -999.0,9,     -999.0,9,     -999.0,9,     -999.0,9,     0.0122,1,     4.7043,1,     -999.0,9,     -999.0,9,     -999.0,9
33RR20220430,        P02,     113,          2,          2,          2,2,20220607,       0423,    30.0007,  -163.5215,       5687,  5559.7,2,   1.5814,2,  34.6883,2,  34.6889,2,    159.8,2,   160.0,2,  147.39,2,   35.52,2,    0.00,2,    2.45,2,-999.000,9,-999.000,9,-999.0000,9,  2319.5,2,  2413.2,2,   7.5864,2,    24.98,2, -999.00,9,  -999.0,9, -999.00,1, -999.00,1,     -999.0,9, 20220607,      428,  30.0007,-163.5215,     1.5815,2,     -999.0,9,     -999.0,9,     -999.0,9,     -999.0,9,     0.0122,1,     4.7027,1,     -999.0,9,     -999.0,9,     -999.0,9
33RR20220430,        P02,     113,          2,          1,          1,2,20220607,       0423,    30.0007,  -163.5215,       5687,  5795.7,2,   1.6113,2,  34.6885,2,  34.6895,2,    160.6,2,   160.4,2,  146.81,2,   35.46,2,    0.00,2,    2.45,2,   0.007,2,   0.000,2,   0.0000,2,  2320.7,6,  2413.3,2,   7.5876,2,    24.98,2, -999.00,9,  -999.0,9, -999.00,1, -999.00,1,       22.5,2, 20220607,      423,  30.0007,-163.5215,     1.6114,2,     -999.0,9,     -999.0,9,     -999.0,9,     -999.0,9,     0.0122,1,     4.7009,1,     -999.0,9,     -999.0,9,     -999.0,9