BOTTLE,20230801CCHSIOCBG
EXPOCODE,SECT_ID,STNNBR,CASTNO,SAMPNO,BTLNBR,BTLNBR_FLAG_W,DATE,TIME,LATITUDE,LONGITUDE,DEPTH,CTDPRS,CTDPRS_FLAG_W,CTDTMP,CTDTMP_FLAG_W,CTDSAL,CTDSAL_FLAG_W,SALNTY,SALNTY_FLAG_W,CTDOXY,CTDOXY_FLAG_W,OXYGEN,OXYGEN_FLAG_W,SILCAT,SILCAT_FLAG_W,NITRAT,NITRAT_FLAG_W,NITRIT,NITRIT_FLAG_W,PHSPHT,PHSPHT_FLAG_W,CFC-11,CFC-11_FLAG_W,CFC-12,CFC-12_FLAG_W,SF6,SF6_FLAG_W,TCARBN,TCARBN_FLAG_W,ALKALI,ALKALI_FLAG_W,PH_TOT,PH_TOT_FLAG_W,PH_TMP,PH_TMP_FLAG_W,DELC13,DELC13_FLAG_W,DELC14,DELC14_FLAG_W,DOC,DOC_FLAG_W,TDN,TDN_FLAG_W,N2O,N2O_FLAG_W,BTL_DATE,BTL_TIME,BTL_LAT,BTL_LON,REFTMP,REFTMP_FLAG_W,POC,POC_FLAG_W,PON,PON_FLAG_W,POP,POP_FLAG_W,PCOD,PCOD_FLAG_W,CTDFLUOR,CTDFLUOR_FLAG_W,CTDXMISS,CTDXMISS_FLAG_W,HPLC,HPLC_FLAG_W,DNA,DNA_FLAG_W,FCM,FCM_FLAG_W
,,,,,,,,,,,METERS,DBAR,,ITS-90,,PSS-78,,PSS-78,,UMOL/KG,,UMOL/KG,,UMOL/KG,,UMOL/KG,,UMOL/KG,,UMOL/KG,,PMOL/KG,,PMOL/KG,,FMOL/KG,,UMOL/KG,,UMOL/KG,,,,DEG C,,/MILLE,,/MILLE,,UMOL/KG,,UMOL/KG,,NMOL/KG,,,,,,ITS-90,,UG/L,,UG/L,,UG/L,,UG/L,,VOLTS,,VOLTS,,,,,,,
33RR20220430,        P02,      26,          2,         36,         36,2,20220511,       0412,    29.9999,   145.1959,       5881,     5.4,2,  22.0194,2,  34.6678,3,  34.7107,2,    221.4,2,   220.6,2,    0.68,2,    0.00,2,    0.00,2,    0.00,2,   1.702,2,   1.072,2,   1.7856,2,  1996.3,2,  2279.0,2,   8.0187,2,    25.11,2, -999.00,1,  -999.0,1, -999.00,1, -999.00,1,        6.5,2, 20220511,      630,  29.9999, 145.1959,    22.0172,2,     -999.0,9,     -999.0,9,     -999.0,9,     -999.0,9,     0.0166,1,     4.6286,1,     -999.0,9,     -999.0,9,     -999.0,9
33RR20220430,        P02,      26,          2,         35,         35,2,20220511,       0412,    29.9999,   145.1959,       5881,    19.6,2,  22.0486,2,  34.8236,2,  34.8145,2,    221.4,2,   220.7,2,    0.78,2,    0.00,2,    0.00,2,    0.00,2,   1.615,6,   1.106,6,   1.8953,6,  1998.9,2,  2283.6,2,   8.0194,2,    25.03,2, -999.00,1,  -999.0,1, -999.00,1, -999.00,1,        6.5,6, 20220511,      628,  29.9999, 145.1959,    22.0483,2,     -999.0,9,     -999.0,9,     -999.0,9,     -999.0,9,     0.0171,1,     4.6328,1,     -999.0,9,     -999.0,9,     -999.0,9
33RR20220430,        P02,      26,          2,         34,         34,2,20220511,       0412,    29.9999,   145.1959,       5881,    41.5,2,  20.3541,2,  34.7928,2,  34.7850,2,    229.6,2,   229.3,2,    0.68,2,    0.00,2,    0.00,2,    0.00,2,   1.762,2,   1.210,2,   2.0102,2,  2005.1,2,  2283.0,2,   8.0126,2,    25.01,2, -999.00,1,  -999.0,1, -999.00,1, -999.00,1,        7.2,2, 20220511,      626,  29.9999, 145.1959,    20.3507,2,     -999.0,9,     -999.0,9,     -999.0,9,     -999.0,9,     0.0220,1,     4.6285,1,     -999.0,9,     -999.0,9,     -999.0,9
33RR20220430,        P02,      26,          2,         33,         33,2,20220511,       0412,    29.9999,   145.1959,       5881,    66.6,2,  19.4780,2,  34.8004,2,  34.7927,2,    216.8,2,   217.1,2,    1.27,2,    0.89,2,    0.18,2,    0.03,2,   1.986,2,   1.208,2,   1.9225,2,  2018.8,2,  2281.4,2,   7.9841,2,    25.03,2, -999.00,1,  -999.0,1, -999.00,1, -999.00,1,        8.9,2, 20220511,      625,  30.0000, 145.1960,    19.4765,2,     -999.0,9,     -999.0,9,     -999.0,9,     -999.0,9,     0.0358,1,     4.6339,1,     -999.0,9,     -999.0,9,     -999.0,9
33RR20220430,        P02,      26,          2,         32,         32,2,20220511,       0412,    29.9999,   145.1959,       5881,    92.5,2,  18.7615,2,  34.7915,2,  34.7846,2,    214.7,2,   214.7,2,    1.56,2,    1.68,2,    0.03,2,    0.08,2,   2.037,2,   1.293,2,   1.8755,2,  2023.4,2,  2281.9,2,   7.9718,2,    25.03,2, -999.00,1,  -999.0,1, -999.00,1, -999.00,1,        8.7,2, 20220511,      623,  30.0000, 145.1960,    18.7444,2,     -999.0,9,     -999.0,9,     -999.0,9,     -999.0,9,     0.0188,1,     4.6691,1,     -999.0,9,     -999.0,9,     -999.0,9
33RR20220430,        P02,      26,          2,         31,         31,2,20220511,       0412,    29.9999,   145.1959,       5881,   136.7,2,  18.1643,2,  34.7822,2,  34.7744,2,    212.3,2,   211.9,2,    1.86,2,    2.36,2,    0.01,2,    0.14,2,   2.069,2,   1.347,2,   2.0264,2,  2037.7,2,  2283.0,2,   7.9561,2,    25.02,2, -999.00,1,  -999.0,1, -999.00,1, -999.00,1,        8.9,2, 20220511,      621,  29.9999, 145.1959,    18.1672,2,     -999.0,9,     -999.0,9,     -999.0,9,     -999.0,9,     0.0147,1,     4.6801,1,     -999.0,9,     -999.0,9,     -999.0,9
33RR20220430,        P02,      26,          2,         30,         30,2,20220511,       0412,    29.9999,   145.1959,       5881,   187.8,2,  17.5511,2,  34.7554,2,  34.7480,2,    216.2,2,   216.2,2,    2.15,2,    2.92,2,    0.00,2,    0.17,2,   2.073,2,   1.352,2,   1.9614,2,  2037.0,2,  2280.7,2,   7.9505,2,    25.03,2, -999.00,1,  -999.0,1, -999.00,1, -999.00,1,        8.9,2, 20220511,      619,  29.9999, 145.1959,    17.5513,2,     -999.0,9,     -999.0,9,     -999.0,9,     -999.0,9,     0.0123,1,     4.6864,1,     -999.0,9,     -999.0,9,     -999.0,9
33RR20220430,        P02,      26,          2,         29,         29,2,20220511,       0412,    29.9999,   145.1959,       5881,   236.9,2,  17.2977,2,  34.7531,2,  34.7459,2,    213.7,2,   214.0,2,    2.74,2,    3.58,2,    0.00,2,    0.21,2,   2.090,2,   1.373,2,   2.1163,2,  2038.3,2,  2281.0,2,   7.9427,2,    25.03,2, -999.00,1,  -999.0,1, -999.00,1, -999.00,1,        9.2,2, 20220511,      617,  29.9999, 145.1960,    17.2995,2,     -999.0,9,     -999.0,9,     -999.0,9,     -999.0,9,     0.0122,1,     4.6884,1,     -999.0,9,     -999.0,9,     -999.0,9
33RR20220430,        P02,      26,          2,         28,         28,2,20220511,       0412,    29.9999,   145.1959,       5881,   288.1,2,  16.9130,2,  34.7312,2,  34.7245,2,    206.6,2,   206.4,2,    3.81,2,    4.96,2,    0.00,2,    0.30,2,   2.211,2,   1.443,2,   1.8964,2,  -999.0,9,  -999.0,9,-999.0000,9,  -999.00,9, -999.00,9,  -999.0,9, -999.00,9, -999.00,9,        9.8,2, 20220511,      615,  30.0000, 145.1960,    16.9138,2,     -999.0,9,     -999.0,9,     -999.0,9,     -999.0,9,     0.0122,1,     4.6908,1,     -999.0,9,     -999.0,9,     -999.0,9
33RR20220430,        P02,      26,          2,         27,         27,2,20220511,       0412,    29.9999,   145.1959,       5881,   338.3,2,  16.2139,2,  34.6780,2,  34.6714,2,    198.6,2,   198.7,2,    5.96,2,    6.83,2,    0.00,2,    0.42,2,   2.316,2,   1.378,2,   1.7809,2,  2061.8,2,  2280.0,2,   7.8926,2,    25.01,2, -999.00,1,  -999.0,1, -999.00,1, -999.00,1,       11.3,2, 20220511,      614,  29.9999, 145.1960,    16.2145,2,     -999.0,9,     -999.0,9,     -999.0,9,     -999.0,9,     0.0122,1,     4.6931,1,     -999.0,9,     -999.0,9,     -999.0,9
33RR20220430,        P02,      26,          2,         26,         26,2,20220511,       0412,    29.9999,   145.1959,       5881,   388.0,2,  14.9309,2,  34.5693,2,  34.5620,2,    192.4,2,   193.4,2,    8.69,2,    9.18,2,    0.00,2,    0.60,2,   2.509,2,   1.491,2,   1.6572,2,  -999.0,9,  -999.0,9,-999.0000,9,  -999.00,9, -999.00,9,  -999.0,9, -999.00,9, -999.00,9,       13.3,2, 20220511,      612,  29.9999, 145.1960,    14.9274,2,     -999.0,9,     -999.0,9,     -999.0,9,     -999.0,9,     0.0122,1,     4.6970,1,     -999.0,9,     -999.0,9,     -999.0,9
33RR20220430,        P02,      26,          2,         25,         25,2,20220511,       0412,    29.9999,   145.1959,       5881,   468.9,2,  13.1420,2,  34.4316,2,  34.4255,2,    190.7,2,   191.5,2,   13.68,2,   12.33,2,    0.00,2,    0.81,2,   2.623,2,   1.617,2,   1.5936,2,  2100.7,2,  2271.9,2,   7.8009,2,    25.03,2, -999.00,1,  -999.0,1, -999.00,1, -999.00,1,       15.8,2, 20220511,      609,  29.9999, 145.1960,    13.1413,2,     -999.0,9,     -999.0,9,     -999.0,9,     -999.0,9,     0.0122,1,     4.7002,1,     -999.0,9,     -999.0,9,     -999.0,9
33RR20220430,        P02,      26,          2,         24,         24,2,20220511,       0412,    29.9999,   145.1959,       5881,   570.6,2,  10.2476,2,  34.2232,2,  34.2205,2,    176.8,2,   177.4,2,   26.77,2,   18.47,2,    0.00,2,    1.25,2,   2.611,2,   1.544,2,   1.4792,2,  -999.0,9,  -999.0,9,-999.0000,9,  -999.00,9, -999.00,9,  -999.0,9, -999.00,9, -999.00,9,       21.1,2, 20220511,      607,  30.0000, 145.1960,    10.2452,2,     -999.0,9,     -999.0,9,     -999.0,9,     -999.0,9,     0.0122,1,     4.7027,1,     -999.0,9,     -999.0,9,     -999.0,9
33RR20220430,        P02,      26,          2,         23,         23,2,20220511,       0412,    29.9999,   145.1959,       5881,   672.2,2,   7.3774,2,  34.0876,2,  34.0815,2,    146.6,2,   145.9,2,   51.11,2,   26.76,2,    0.00,2,    1.89,2,   2.268,2,   1.311,2,   1.1428,2,  2203.3,2,  2289.1,2,   7.5684,2,    25.02,2, -999.00,1,  -999.0,1, -999.00,1, -999.00,1,       28.5,2, 20220511,      604,  29.9999, 145.1959,     7.3777,2,     -999.0,9,     -999.0,9,     -999.0,9,     -999.0,9,     0.0129,1,     4.7045,1,     -999.0,9,     -999.0,9,     -999.0,9
33RR20220430,        P02,      26,          2,         22,         22,2,20220511,       0412,    29.9999,   145.1959,       5881,   772.9,2,   5.2225,2,  34.1010,2,  34.1003,2,     92.7,2,    91.9,2,   81.21,2,   35.35,2,    0.00,2,    2.48,2,   1.485,2,   0.890,2,   0.6313,2,  -999.0,9,  -999.0,9,-999.0000,9,  -999.00,9, -999.00,9,  -999.0,9, -999.00,9, -999.00,9,       38.5,2, 20220511,      601,  29.9999, 145.1960,     5.2221,2,     -999.0,9,     -999.0,9,     -999.0,9,     -999.0,9,     0.0134,1,     4.7044,1,     -999.0,9,     -999.0,9,     -999.0,9
33RR20220430,        P02,      26,          2,         21,         21,2,20220511,       0412,    29.9999,   145.1959,       5881,   873.1,2,   4.4679,2,  34.1817,2,  34.1817,2,     62.2,3,    61.4,2,   98.99,2,   39.32,2,    0.00,2,    2.75,2,   0.923,2,   0.540,2,   0.3146,2,  2306.8,2,  2329.1,2,   7.3750,2,    25.03,2, -999.00,1,  -999.0,1, -999.00,1, -999.00,1,       44.0,2, 20220511,      559,  29.9999, 145.1960,     4.4669,2,     -999.0,9,     -999.0,9,     -999.0,9,     -999.0,9,     0.0134,1,     4.7060,1,     -999.0,9,     -999.0,9,     -999.0,9
33RR20220430,        P02,      26,          2,         20,         20,2,20220511,       0412,    29.9999,   145.1959,       5881,   974.3,2,   3.9782,2,  34.2559,2,  34.2540,2,     47.9,2,    48.0,2,  112.28,2,   40.93,2,    0.00,2,    2.89,2,   0.583,2,   0.329,2,   0.3981,2,  -999.0,9,  -999.0,9,-999.0000,9,  -999.00,9, -999.00,9,  -999.0,9, -999.00,9, -999.00,9,       46.9,2, 20220511,      556,  29.9999, 145.1959,     3.9791,2,     -999.0,9,     -999.0,9,     -999.0,9,     -999.0,9,     0.0134,1,     4.7059,1,     -999.0,9,     -999.0,9,     -999.0,9
33RR20220430,        P02,      26,          2,         19,         19,2,20220511,       0412,    29.9999,   145.1959,       5881,  1076.9,2,   3.5559,2,  34.3323,2,  34.3319,2,     40.4,3,    39.7,2,  124.19,2,   42.05,2,    0.00,2,    2.96,2,   0.296,2,   0.172,2,   0.1827,2,  2349.0,2,  2360.4,2,   7.3478,2,    24.95,2, -999.00,1,  -999.0,1, -999.00,1, -999.00,1,       48.6,2, 20220511,      553,  29.9999, 145.1960,     3.5555,2,     -999.0,9,     -999.0,9,     -999.0,9,     -999.0,9,     0.0134,1,     4.7066,1,     -999.0,9,     -999.0,9,     -999.0,9
33RR20220430,        P02,      26,          2,         18,         18,2,20220511,       0412,    29.9999,   145.1959,       5881,  1176.0,2,   3.2532,2,  34.3853,2,  34.3847,2,     39.0,3,    39.7,2,  132.59,2,   42.50,2,    0.00,2,    3.00,2,   0.176,2,   0.103,2,   0.0000,2,  2356.0,2,  2370.4,2,   7.3493,2,    25.06,2, -999.00,9,  -999.0,9, -999.00,1, -999.00,1,       48.2,2, 20220511,      550,  30.0000, 145.1960,     3.2510,2,     -999.0,9,     -999.0,9,     -999.0,9,     -999.0,9,     0.0134,1,     4.7068,1,     -999.0,9,     -999.0,9,     -999.0,9
33RR20220430,        P02,      26,          2,         17,         17,2,20220511,       0412,    29.9999,   145.1959,       5881,  1277.8,2,   2.9876,2,  34.4247,2,  34.4255,2,     37.9,3,    38.3,2,  140.21,2,   42.80,2,    0.00,2,    3.02,2,   0.111,2,   0.066,2,   0.0000,2,  2364.0,6,  2380.0,2,   7.3513,2,    25.05,2, -999.00,1,  -999.0,1, -999.00,1, -999.00,1,       49.1,2, 20220511,      547,  29.9999, 145.1960,     2.9887,2,     -999.0,9,     -999.0,9,     -999.0,9,     -999.0,9,     0.0134,1,     4.7077,1,     -999.0,9,     -999.0,9,     -999.0,9
33RR20220430,        P02,      26,          2,         16,         16,2,20220511,       0412,    29.9999,   145.1959,       5881,  1378.9,2,   2.7848,2,  34.4617,2,  34.4620,2,     41.2,3,    42.1,2,  145.48,2,   42.89,2,    0.00,2,    3.00,2,   0.066,2,   0.035,2,   0.0000,2,  2370.1,2,  2387.5,2,   7.3622,2,    25.06,2, -999.00,1,  -999.0,1, -999.00,1, -999.00,1,       45.7,2, 20220511,      544,  29.9999, 145.1960,     2.7872,2,     -999.0,9,     -999.0,9,     -999.0,9,     -999.0,9,     0.0134,1,     4.7076,1,     -999.0,9,     -999.0,9,     -999.0,9
33RR20220430,        P02,      26,          2,         15,         15,2,20220511,       0412,    29.9999,   145.1959,       5881,  1553.1,2,   2.4806,2,  34.5102,2,  34.5097,2,     50.6,2,    50.2,2,  152.51,2,   42.51,2,    0.00,2,    2.97,2,   0.035,2,   0.016,2,   0.0000,2,  2372.4,2,  2395.4,2,   7.3805,2,    24.97,2, -999.00,9,  -999.0,9, -999.00,1, -999.00,1,       42.7,2, 20220511,      540,  29.9999, 145.1959,     2.4817,2,     -999.0,9,     -999.0,9,     -999.0,9,     -999.0,9,     0.0134,1,     4.7081,1,     -999.0,9,     -999.0,9,     -999.0,9
33RR20220430,        P02,      26,          2,         14,         14,2,20220511,       0412,    29.9999,   145.1959,       5881,  1754.5,2,   2.2147,2,  34.5587,2,  34.5586,2,     69.0,2,    68.5,2,  154.55,2,   41.34,2,    0.00,2,    2.87,2,   0.019,2,   0.007,2,   0.0000,2,  -999.0,9,  -999.0,9,-999.0000,9,  -999.00,9, -999.00,9,  -999.0,9, -999.00,9, -999.00,9,       37.7,2, 20220511,      536,  29.9999, 145.1960,     2.2138,2,     -999.0,9,     -999.0,9,     -999.0,9,     -999.0,9,     0.0134,1,     4.7093,1,     -999.0,9,     -999.0,9,     -999.0,9
33RR20220430,        P02,      26,          2,         13,         13,2,20220511,       0412,    29.9999,   145.1959,       5881,  1959.7,2,   2.0346,2,  34.5893,2,  34.5893,2,     85.4,2,    85.2,2,  154.55,2,   40.30,2,    0.00,2,    2.81,2,   0.011,2,   0.000,2,   0.0000,2,  2358.8,2,  2407.0,2,   7.4662,2,    25.09,2, -999.00,9,  -999.0,9, -999.00,1, -999.00,1,       34.7,2, 20220511,      531,  30.0000, 145.1960,     2.0340,2,     -999.0,9,     -999.0,9,     -999.0,9,     -999.0,9,     0.0134,1,     4.7104,1,     -999.0,9,     -999.0,9,     -999.0,9
33RR20220430,        P02,      26,          2,         12,         12,2,20220511,       0412,    29.9999,   145.1959,       5881,  2191.8,2,   1.8578,2,  34.6169,2,  34.6162,2,    101.0,2,   100.7,2,  154.15,2,   39.27,2,    0.00,2,    2.74,2,-999.000,9,-999.000,9,-999.0000,9,  -999.0,9,  -999.0,9,-999.0000,9,  -999.00,9, -999.00,9,  -999.0,9, -999.00,9, -999.00,9,     -999.0,9, 20220511,      526,  29.9999, 145.1959,     1.8580,2,     -999.0,9,     -999.0,9,     -999.0,9,     -999.0,9,     0.0134,1,     4.7106,1,     -999.0,9,     -999.0,9,     -999.0,9
33RR20220430,        P02,      26,          2,         11,         11,2,20220511,       0412,    29.9999,   145.1959,       5881,  2447.0,2,   1.7552,2,  34.6335,2,  34.6337,2,    111.3,2,   111.7,2,  153.86,2,   38.58,2,    0.00,2,    2.70,2,   0.006,2,   0.000,2,   0.0000,2,  2346.0,2,  2412.8,2,   7.5021,2,    24.94,2, -999.00,9,  -999.0,9, -999.00,1, -999.00,1,       29.5,2, 20220511,      521,  30.0000, 145.1960,     1.7551,2,     -999.0,9,     -999.0,9,     -999.0,9,     -999.0,9,     0.0125,1,     4.7109,1,     -999.0,9,     -999.0,9,     -999.0,9
33RR20220430,        P02,      26,          2,         10,         10,2,20220511,       0412,    29.9999,   145.1959,       5881,  2700.0,2,   1.6720,2,  34.6469,2,  34.6464,2,    120.6,2,   120.9,2,  153.17,2,   38.15,2,    0.00,2,    2.64,2,-999.000,9,-999.000,9,-999.0000,9,  -999.0,9,  -999.0,9,-999.0000,9,  -999.00,9, -999.00,9,  -999.0,9, -999.00,9, -999.00,9,     -999.0,9, 20220511,      516,  30.0000, 145.1960,     1.6719,2,     -999.0,9,     -999.0,9,     -999.0,9,     -999.0,9,     0.0122,1,     4.7112,1,     -999.0,9,     -999.0,9,     -999.0,9
33RR20220430,        P02,      26,          2,          9,          9,2,20220511,       0412,    29.9999,   145.1959,       5881,  2959.1,2,   1.6190,2,  34.6562,2,  34.6547,2,    127.3,2,   127.0,2,  152.59,2,   37.67,2,    0.00,2,    2.61,2,   0.005,2,   0.000,2,   0.0000,2,  2337.7,2,  2414.7,2,   7.5306,2,    25.06,2, -999.00,9,  -999.0,9, -999.00,1, -999.00,1,       26.7,2, 20220511,      511,  30.0000, 145.1960,     1.6188,2,     -999.0,9,     -999.0,9,     -999.0,9,     -999.0,9,     0.0122,1,     4.7106,1,     -999.0,9,     -999.0,9,     -999.0,9
33RR20220430,        P02,      26,          2,          8,          8,2,20220511,       0412,    29.9999,   145.1959,       5881,  3246.2,2,   1.5629,2,  34.6655,2,  34.6645,2,    134.6,2,   135.1,2,  151.71,2,   37.20,2,    0.00,2,    2.56,2,-999.000,9,-999.000,9,-999.0000,9,  -999.0,9,  -999.0,9,-999.0000,9,  -999.00,9, -999.00,9,  -999.0,9, -999.00,9, -999.00,9,     -999.0,9, 20220511,      505,  29.9999, 145.1959,     1.5630,2,     -999.0,9,     -999.0,9,     -999.0,9,     -999.0,9,     0.0122,1,     4.7106,1,     -999.0,9,     -999.0,9,     -999.0,9
33RR20220430,        P02,      26,          2,          7,          7,2,20220511,       0412,    29.9999,   145.1959,       5881,  3622.3,2,   1.5144,2,  34.6740,2,  34.6732,2,    142.7,2,   143.1,2,  150.44,2,   36.74,2,    0.00,2,    2.51,2,   0.004,2,   0.000,2,   0.0000,2,  2326.4,2,  2414.4,2,   7.5570,2,    25.01,2, -999.00,9,  -999.0,9, -999.00,1, -999.00,1,       25.0,2, 20220511,      458,  29.9999, 145.1960,     1.5145,2,     -999.0,9,     -999.0,9,     -999.0,9,     -999.0,9,     0.0122,1,     4.7106,1,     -999.0,9,     -999.0,9,     -999.0,9
33RR20220430,        P02,      26,          2,          6,          6,2,20220511,       0412,    29.9999,   145.1959,       5881,  4031.3,2,   1.4869,2,  34.6811,2,  34.6804,2,    150.1,2,   150.1,2,  148.77,2,   36.37,2,    0.00,2,    2.48,2,-999.000,9,-999.000,9,-999.0000,9,  -999.0,9,  -999.0,9,-999.0000,9,  -999.00,9, -999.00,9,  -999.0,9, -999.00,9, -999.00,9,     -999.0,9, 20220511,      450,  29.9999, 145.1959,     1.4869,2,     -999.0,9,     -999.0,9,     -999.0,9,     -999.0,9,     0.0130,1,     4.7101,1,     -999.0,9,     -999.0,9,     -999.0,9
33RR20220430,        P02,      26,          2,          5,          5,2,20220511,       0412,    29.9999,   145.1959,       5881,  4441.5,2,   1.4904,2,  34.6849,2,  34.6848,2,    154.7,2,   155.0,2,  147.80,2,   35.95,2,    0.00,2,    2.46,2,   0.006,2,   0.000,2,   0.0000,2,  2318.9,2,  2413.9,2,   7.5760,2,    25.01,2, -999.00,9,  -999.0,9, -999.00,1, -999.00,1,       24.0,2, 20220511,      442,  29.9999, 145.1959,     1.4904,2,     -999.0,9,     -999.0,9,     -999.0,9,     -999.0,9,     0.0122,1,     4.7094,1,     -999.0,9,     -999.0,9,     -999.0,9
33RR20220430,        P02,      26,          2,          4,          4,2,20220511,       0412,    29.9999,   145.1959,       5881,  4853.8,2,   1.5045,2,  34.6882,2,  34.6867,2,    159.5,2,   159.3,2,  145.75,2,   35.59,2,    0.00,2,    2.42,2,-999.000,9,-999.000,9,-999.0000,9,  -999.0,9,  -999.0,9,-999.0000,9,  -999.00,9, -999.00,9,  -999.0,9, -999.00,9, -999.00,9,     -999.0,9, 20220511,      434,  30.0000, 145.1960,     1.5043,2,     -999.0,9,     -999.0,9,     -999.0,9,     -999.0,9,     0.0122,1,     4.7094,1,     -999.0,9,     -999.0,9,     -999.0,9