BOTTLE,20230801CCHSIOCBG
EXPOCODE,SECT_ID,STNNBR,CASTNO,SAMPNO,BTLNBR,BTLNBR_FLAG_W,DATE,TIME,LATITUDE,LONGITUDE,DEPTH,CTDPRS,CTDPRS_FLAG_W,CTDTMP,CTDTMP_FLAG_W,CTDSAL,CTDSAL_FLAG_W,SALNTY,SALNTY_FLAG_W,CTDOXY,CTDOXY_FLAG_W,OXYGEN,OXYGEN_FLAG_W,SILCAT,SILCAT_FLAG_W,NITRAT,NITRAT_FLAG_W,NITRIT,NITRIT_FLAG_W,PHSPHT,PHSPHT_FLAG_W,CFC-11,CFC-11_FLAG_W,CFC-12,CFC-12_FLAG_W,SF6,SF6_FLAG_W,TCARBN,TCARBN_FLAG_W,ALKALI,ALKALI_FLAG_W,PH_TOT,PH_TOT_FLAG_W,PH_TMP,PH_TMP_FLAG_W,DELC13,DELC13_FLAG_W,DELC14,DELC14_FLAG_W,DOC,DOC_FLAG_W,TDN,TDN_FLAG_W,N2O,N2O_FLAG_W,BTL_DATE,BTL_TIME,BTL_LAT,BTL_LON,REFTMP,REFTMP_FLAG_W,POC,POC_FLAG_W,PON,PON_FLAG_W,POP,POP_FLAG_W,PCOD,PCOD_FLAG_W,CTDFLUOR,CTDFLUOR_FLAG_W,CTDXMISS,CTDXMISS_FLAG_W,HPLC,HPLC_FLAG_W,DNA,DNA_FLAG_W,FCM,FCM_FLAG_W
,,,,,,,,,,,METERS,DBAR,,ITS-90,,PSS-78,,PSS-78,,UMOL/KG,,UMOL/KG,,UMOL/KG,,UMOL/KG,,UMOL/KG,,UMOL/KG,,PMOL/KG,,PMOL/KG,,FMOL/KG,,UMOL/KG,,UMOL/KG,,,,DEG C,,/MILLE,,/MILLE,,UMOL/KG,,UMOL/KG,,NMOL/KG,,,,,,ITS-90,,UG/L,,UG/L,,UG/L,,UG/L,,VOLTS,,VOLTS,,,,,,,
33RR20220430,        P02,     100,          1,         36,         36,2,20220603,       0505,    30.0002,  -171.0212,       5257,     3.2,2,  23.7641,2,  35.1709,2,  35.1567,2,    221.7,3,   217.3,2,    1.17,2,    0.02,2,    0.00,2,    0.00,2,   1.610,2,   1.053,2,   1.8334,2,  2025.7,2,  2306.1,2,   8.0117,2,    25.02,2, -999.00,9,  -999.0,9, -999.00,1, -999.00,1,        7.3,2, 20220603,      717,  30.0002,-171.0212,    23.7678,2,     -999.0,9,     -999.0,9,     -999.0,9,     -999.0,9,     0.0135,1,     4.6317,1,     -999.0,9,     -999.0,9,     -999.0,9
33RR20220430,        P02,     100,          1,         35,         35,2,20220603,       0505,    30.0002,  -171.0212,       5257,    38.0,2,  20.7607,2,  35.0747,2,  35.0590,2,    230.9,2,   231.4,2,    1.56,2,    0.00,2,    0.00,2,    0.00,2,   1.818,2,   1.190,2,   2.0501,2,  2022.1,2,  2300.8,2,   8.0038,2,    25.00,2, -999.00,9,  -999.0,9, -999.00,1, -999.00,1,        7.9,2, 20220603,      715,  30.0002,-171.0212,    20.7793,2,     -999.0,9,     -999.0,9,     -999.0,9,     -999.0,9,     0.0152,1,     4.6252,1,     -999.0,9,     -999.0,9,     -999.0,9
33RR20220430,        P02,     100,          1,         34,         34,2,20220603,       0505,    30.0002,  -171.0212,       5257,    61.9,2,  19.8252,2,  35.0119,2,  35.0008,2,    227.9,2,   228.3,2,    1.76,2,    0.01,2,    0.00,2,    0.00,2,-999.000,9,-999.000,9,-999.0000,9,  -999.0,9,  -999.0,9,-999.0000,9,  -999.00,9, -999.00,9,  -999.0,9, -999.00,1, -999.00,1,     -999.0,9, 20220603,      713,  30.0002,-171.0212,    19.8269,2,     -999.0,9,     -999.0,9,     -999.0,9,     -999.0,9,     0.0159,1,     4.6432,1,     -999.0,9,     -999.0,9,     -999.0,9
33RR20220430,        P02,     100,          1,         33,         33,2,20220603,       0505,    30.0002,  -171.0212,       5257,    87.6,2,  18.6148,2,  34.8914,2,  34.8798,2,    228.8,2,   229.0,2,    2.25,2,    0.01,2,    0.00,2,    0.01,2,   1.975,6,   1.260,6,   2.1515,6,  2034.7,6,  2290.4,2,   7.9698,2,    25.01,2, -999.00,9,  -999.0,9, -999.00,1, -999.00,1,        8.4,6, 20220603,      711,  30.0002,-171.0212,    18.6232,2,     -999.0,9,     -999.0,9,     -999.0,9,     -999.0,9,     0.0226,1,     4.6434,1,     -999.0,9,     -999.0,9,     -999.0,9
33RR20220430,        P02,     100,          1,         32,         32,2,20220603,       0505,    30.0002,  -171.0212,       5257,   118.4,2,  17.8866,2,  34.8001,3,  34.7783,2,    224.0,2,   223.4,2,    2.73,2,    0.74,2,    0.15,2,    0.09,2,-999.000,9,-999.000,9,-999.0000,9,  -999.0,9,  -999.0,9,-999.0000,9,  -999.00,9, -999.00,9,  -999.0,9, -999.00,1, -999.00,1,     -999.0,9, 20220603,      709,  30.0002,-171.0212,    17.8938,2,     -999.0,9,     -999.0,9,     -999.0,9,     -999.0,9,     0.0475,1,     4.6364,1,     -999.0,9,     -999.0,9,     -999.0,9
33RR20220430,        P02,     100,          1,         31,         31,2,20220603,       0505,    30.0002,  -171.0212,       5257,   166.4,2,  16.1621,2,  34.6282,2,  34.6172,2,    205.3,2,   204.9,2,    4.79,2,    4.77,2,    0.01,2,    0.34,2,   2.243,2,   1.427,2,   2.1161,2,  2068.6,2,  2271.7,2,   7.8794,2,    25.00,2, -999.00,9,  -999.0,9, -999.00,1, -999.00,1,       11.4,2, 20220603,      706,  30.0002,-171.0212,    16.1632,2,     -999.0,9,     -999.0,9,     -999.0,9,     -999.0,9,     0.0183,1,     4.6780,1,     -999.0,9,     -999.0,9,     -999.0,9
33RR20220430,        P02,     100,          1,         30,         30,2,20220603,       0505,    30.0002,  -171.0212,       5257,   218.3,2,  14.6369,2,  34.4946,2,  34.4862,2,    203.0,2,   202.7,2,    7.33,2,    7.64,2,    0.00,2,    0.53,2,-999.000,9,-999.000,9,-999.0000,9,  -999.0,9,  -999.0,9,-999.0000,9,  -999.00,9, -999.00,9,  -999.0,9, -999.00,1, -999.00,1,     -999.0,9, 20220603,      704,  30.0003,-171.0212,    14.6375,2,     -999.0,9,     -999.0,9,     -999.0,9,     -999.0,9,     0.0122,1,     4.6886,1,     -999.0,9,     -999.0,9,     -999.0,9
33RR20220430,        P02,     100,          1,         29,         29,2,20220603,       0505,    30.0002,  -171.0212,       5257,   269.0,2,  13.4384,2,  34.3947,2,  34.3855,2,    208.3,2,   208.0,2,    9.38,2,    9.41,2,    0.00,2,    0.64,2,   2.556,2,   1.580,2,   1.9711,2,  2085.7,2,  2264.2,2,   7.8202,2,    25.01,2, -999.00,9,  -999.0,9, -999.00,1, -999.00,1,       14.2,2, 20220603,      703,  30.0003,-171.0212,    13.4377,2,     -999.0,9,     -999.0,9,     -999.0,9,     -999.0,9,     0.0122,1,     4.6909,1,     -999.0,9,     -999.0,9,     -999.0,9
33RR20220430,        P02,     100,          1,         28,         28,2,20220603,       0505,    30.0002,  -171.0212,       5257,   320.1,2,  12.1761,2,  34.2928,2,  34.2868,2,    208.7,2,   209.1,2,   12.41,2,   11.65,2,    0.00,2,    0.80,2,-999.000,9,-999.000,9,-999.0000,9,  -999.0,9,  -999.0,9,-999.0000,9,  -999.00,9, -999.00,9,  -999.0,9, -999.00,1, -999.00,1,     -999.0,9, 20220603,      700,  30.0002,-171.0212,    12.1523,2,     -999.0,9,     -999.0,9,     -999.0,9,     -999.0,9,     0.0122,1,     4.6934,1,     -999.0,9,     -999.0,9,     -999.0,9
33RR20220430,        P02,     100,          1,         27,         27,2,20220603,       0505,    30.0002,  -171.0212,       5257,   368.1,2,  10.9629,2,  34.2020,2,  34.1971,2,    201.4,2,   201.9,2,   16.90,2,   14.62,2,    0.00,2,    1.02,2,   2.835,2,   1.691,2,   1.8877,2,  2114.6,2,  2259.2,2,   7.7459,2,    25.00,2, -999.00,9,  -999.0,9, -999.00,1, -999.00,1,       18.1,2, 20220603,      659,  30.0002,-171.0212,    10.9644,2,     -999.0,9,     -999.0,9,     -999.0,9,     -999.0,9,     0.0122,1,     4.6945,1,     -999.0,9,     -999.0,9,     -999.0,9
33RR20220430,        P02,     100,          1,         26,         26,2,20220603,       0505,    30.0002,  -171.0212,       5257,   440.7,2,   9.5757,2,  34.1120,2,  34.1081,2,    193.4,2,   193.9,2,   23.65,2,   18.19,2,    0.00,2,    1.26,2,   2.844,2,   1.716,2,   1.8136,2,  -999.0,9,  -999.0,9,-999.0000,9,  -999.00,9, -999.00,9,  -999.0,9, -999.00,1, -999.00,1,       20.4,2, 20220603,      656,  30.0002,-171.0212,     9.5849,2,     -999.0,9,     -999.0,9,     -999.0,9,     -999.0,9,     0.0122,1,     4.6970,1,     -999.0,9,     -999.0,9,     -999.0,9
33RR20220430,        P02,     100,          1,         25,         25,2,20220603,       0505,    30.0002,  -171.0212,       5257,   542.1,2,   7.7465,2,  34.0421,2,  34.0394,2,    149.6,3,   148.1,2,   41.14,2,   26.23,2,    0.00,2,    1.83,2,   2.533,2,   1.504,2,   1.1519,2,  2191.6,2,  2273.9,2,   7.5732,2,    25.01,2, -999.00,9,  -999.0,9, -999.00,1, -999.00,1,       27.7,2, 20220603,      654,  30.0002,-171.0212,     7.7395,2,     -999.0,9,     -999.0,9,     -999.0,9,     -999.0,9,     0.0134,1,     4.6982,1,     -999.0,9,     -999.0,9,     -999.0,9
33RR20220430,        P02,     100,          1,         24,         24,2,20220603,       0505,    30.0002,  -171.0212,       5257,   642.9,2,   6.0969,2,  34.0214,2,  34.0198,2,    106.0,2,   105.6,2,   61.76,2,   33.13,2,    0.00,2,    2.35,2,   1.959,2,   1.169,2,   0.7915,2,  -999.0,9,  -999.0,9,-999.0000,9,  -999.00,9, -999.00,9,  -999.0,9, -999.00,9, -999.00,9,       35.2,2, 20220603,      651,  30.0002,-171.0212,     6.0965,2,     -999.0,9,     -999.0,9,     -999.0,9,     -999.0,9,     0.0131,1,     4.6993,1,     -999.0,9,     -999.0,9,     -999.0,9
33RR20220430,        P02,     100,          1,         23,         23,2,20220603,       0505,    30.0002,  -171.0212,       5257,   743.3,2,   5.1517,2,  34.0714,2,  34.0715,2,     69.4,2,    69.3,2,   80.03,2,   37.86,2,    0.00,2,    2.70,2,   1.266,2,   0.736,2,   0.3011,2,  2284.0,2,  2305.8,2,   7.3840,2,    25.01,2, -999.00,9,  -999.0,9, -999.00,1, -999.00,1,       42.3,2, 20220603,      649,  30.0003,-171.0212,     5.1530,2,     -999.0,9,     -999.0,9,     -999.0,9,     -999.0,9,     0.0134,1,     4.6996,1,     -999.0,9,     -999.0,9,     -999.0,9
33RR20220430,        P02,     100,          1,         22,         22,2,20220603,       0505,    30.0002,  -171.0212,       5257,   844.5,2,   4.4262,2,  34.1766,2,  34.1736,2,     36.0,3,    36.9,2,   98.98,2,   41.58,2,    0.00,2,    2.98,2,   0.524,2,   0.309,2,   0.0339,2,  -999.0,9,  -999.0,9,-999.0000,9,  -999.00,9, -999.00,9,  -999.0,9, -999.00,9, -999.00,9,       52.4,2, 20220603,      646,  30.0002,-171.0212,     4.4320,2,     -999.0,9,     -999.0,9,     -999.0,9,     -999.0,9,     0.0134,1,     4.7001,1,     -999.0,9,     -999.0,9,     -999.0,9
33RR20220430,        P02,     100,          1,         21,         21,2,20220603,       0505,    30.0002,  -171.0212,       5257,   944.3,2,   4.0135,2,  34.2664,2,  34.2666,2,     22.8,3,    23.3,2,  111.97,2,   43.28,2,    0.00,2,    3.11,2,   0.189,2,   0.126,2,   0.0000,2,  2349.1,6,  2346.7,2,   7.3143,2,    25.01,2, -999.00,9,  -999.0,9, -999.00,1, -999.00,1,       57.2,2, 20220603,      643,  30.0002,-171.0212,     4.0094,2,     -999.0,9,     -999.0,9,     -999.0,9,     -999.0,9,     0.0134,1,     4.7007,1,     -999.0,9,     -999.0,9,     -999.0,9
33RR20220430,        P02,     100,          1,         20,         20,2,20220603,       0505,    30.0002,  -171.0212,       5257,  1045.1,2,   3.7530,2,  34.3423,2,  34.3433,2,     22.6,3,    23.0,2,  120.07,2,   43.48,2,    0.00,2,    3.14,2,   0.077,2,   0.045,2,   0.0000,2,  -999.0,9,  -999.0,9,-999.0000,9,  -999.00,9, -999.00,9,  -999.0,9, -999.00,1, -999.00,1,       57.9,2, 20220603,      640,  30.0002,-171.0212,     3.7529,2,     -999.0,9,     -999.0,9,     -999.0,9,     -999.0,9,     0.0134,1,     4.7008,1,     -999.0,9,     -999.0,9,     -999.0,9
33RR20220430,        P02,     100,          1,         19,         19,2,20220603,       0505,    30.0002,  -171.0212,       5257,  1147.0,2,   3.5160,2,  34.4039,2,  34.4057,2,     27.6,2,    27.8,2,  126.41,2,   43.30,2,    0.00,2,    3.14,2,   0.038,2,   0.024,2,   0.0000,2,  2361.5,2,  2368.0,2,   7.3397,2,    25.01,2, -999.00,9,  -999.0,9, -999.00,1, -999.00,1,       56.1,2, 20220603,      638,  30.0002,-171.0212,     3.5133,2,     -999.0,9,     -999.0,9,     -999.0,9,     -999.0,9,     0.0134,1,     4.7010,1,     -999.0,9,     -999.0,9,     -999.0,9
33RR20220430,        P02,     100,          1,         18,         18,2,20220603,       0505,    30.0002,  -171.0212,       5257,  1253.1,2,   3.2900,2,  34.4501,2,  34.4520,2,     33.9,2,    33.8,2,  132.17,2,   43.05,2,    0.00,2,    3.12,2,   0.021,2,   0.010,2,   0.0000,2,  -999.0,9,  -999.0,9,-999.0000,9,  -999.00,9, -999.00,9,  -999.0,9, -999.00,9, -999.00,9,       52.3,2, 20220603,      635,  30.0002,-171.0212,     3.2893,2,     -999.0,9,     -999.0,9,     -999.0,9,     -999.0,9,     0.0134,1,     4.7019,1,     -999.0,9,     -999.0,9,     -999.0,9
33RR20220430,        P02,     100,          1,         17,         17,2,20220603,       0505,    30.0002,  -171.0212,       5257,  1348.9,2,   3.0543,2,  34.4873,2,  34.4881,2,     39.8,2,    39.6,2,  137.54,2,   42.95,2,    0.00,2,    3.08,2,   0.013,2,   0.006,2,   0.0000,2,  2370.3,2,  2386.3,2,   7.3687,2,    25.01,2, -999.00,9,  -999.0,9, -999.00,1, -999.00,1,       48.8,2, 20220603,      631,  30.0002,-171.0212,     3.0563,2,     -999.0,9,     -999.0,9,     -999.0,9,     -999.0,9,     0.0127,1,     4.7019,1,     -999.0,9,     -999.0,9,     -999.0,9
33RR20220430,        P02,     100,          1,         16,         16,2,20220603,       0505,    30.0002,  -171.0212,       5257,  1451.8,2,   2.8183,2,  34.5182,2,  34.5207,2,     46.1,2,    46.1,2,  143.50,2,   42.61,2,    0.00,2,    3.07,2,-999.000,9,-999.000,9,-999.0000,9,  -999.0,9,  -999.0,9,-999.0000,9,  -999.00,9, -999.00,9,  -999.0,9, -999.00,9, -999.00,9,     -999.0,9, 20220603,      628,  30.0002,-171.0212,     2.8180,2,     -999.0,9,     -999.0,9,     -999.0,9,     -999.0,9,     0.0134,1,     4.7019,1,     -999.0,9,     -999.0,9,     -999.0,9
33RR20220430,        P02,     100,          1,         15,         15,2,20220603,       0505,    30.0002,  -171.0212,       5257,  1552.5,2,   2.6180,2,  34.5379,2,  34.5392,2,     50.0,2,    50.0,2,  149.55,2,   42.42,2,    0.00,2,    3.05,2,   0.006,2,   0.000,2,   0.0000,2,  2374.6,2,  2398.6,2,   7.3893,2,    25.00,2, -999.00,9,  -999.0,9, -999.00,1, -999.00,1,       43.8,2, 20220603,      626,  30.0002,-171.0212,     2.6177,2,     -999.0,9,     -999.0,9,     -999.0,9,     -999.0,9,     0.0134,1,     4.7022,1,     -999.0,9,     -999.0,9,     -999.0,9
33RR20220430,        P02,     100,          1,         14,         14,2,20220603,       0505,    30.0002,  -171.0212,       5257,  1685.0,2,   2.4282,2,  34.5597,2,  34.5614,2,     57.1,2,    57.3,2,  153.75,2,   41.93,2,    0.00,2,    3.02,2,-999.000,9,-999.000,9,-999.0000,9,  -999.0,9,  -999.0,9,-999.0000,9,  -999.00,9, -999.00,9,  -999.0,9, -999.00,9, -999.00,9,     -999.0,9, 20220603,      622,  30.0003,-171.0212,     2.4274,2,     -999.0,9,     -999.0,9,     -999.0,9,     -999.0,9,     0.0134,1,     4.7032,1,     -999.0,9,     -999.0,9,     -999.0,9
33RR20220430,        P02,     100,          1,         13,         13,2,20220603,       0505,    30.0002,  -171.0212,       5257,  1886.8,2,   2.1256,2,  34.5912,2,  34.5932,2,     69.7,2,    69.7,2,  160.09,2,   41.41,2,    0.00,2,    2.94,2,   0.003,2,   0.000,2,   0.0000,2,  2372.4,2,  2409.2,2,   7.4280,2,    25.00,2, -999.00,9,  -999.0,9, -999.00,1, -999.00,1,       36.3,2, 20220603,      618,  30.0002,-171.0212,     2.1266,2,     -999.0,9,     -999.0,9,     -999.0,9,     -999.0,9,     0.0134,1,     4.7032,1,     -999.0,9,     -999.0,9,     -999.0,9
33RR20220430,        P02,     100,          1,         12,         12,2,20220603,       0505,    30.0002,  -171.0212,       5257,  2111.2,2,   1.9119,2,  34.6149,2,  34.6160,2,     83.9,2,    83.6,2,  163.32,2,   40.42,2,    0.00,2,    2.87,2,-999.000,9,-999.000,9,-999.0000,9,  -999.0,9,  -999.0,9,-999.0000,9,  -999.00,9, -999.00,9,  -999.0,9, -999.00,9, -999.00,9,     -999.0,9, 20220603,      613,  30.0002,-171.0212,     1.9125,2,     -999.0,9,     -999.0,9,     -999.0,9,     -999.0,9,     0.0126,1,     4.7032,1,     -999.0,9,     -999.0,9,     -999.0,9
33RR20220430,        P02,     100,          1,         11,         11,2,20220603,       0505,    30.0002,  -171.0212,       5257,  2365.2,2,   1.7663,2,  34.6325,2,  34.6341,2,     96.9,2,    96.8,2,  164.00,2,   39.59,2,    0.00,2,    2.80,2,   0.003,2,   0.000,2,   0.0000,2,  2362.3,6,  2417.4,2,   7.4795,2,    24.99,2, -999.00,9,  -999.0,9, -999.00,1, -999.00,1,       30.1,2, 20220603,      607,  30.0002,-171.0212,     1.7660,2,     -999.0,9,     -999.0,9,     -999.0,9,     -999.0,9,     0.0134,1,     4.7044,1,     -999.0,9,     -999.0,9,     -999.0,9
33RR20220430,        P02,     100,          1,         10,         10,2,20220603,       0505,    30.0002,  -171.0212,       5257,  2619.0,2,   1.6529,2,  34.6468,2,  34.6484,2,    110.2,2,   110.2,2,  162.43,2,   38.73,2,    0.00,2,    2.73,2,-999.000,9,-999.000,9,-999.0000,9,  -999.0,9,  -999.0,9,-999.0000,9,  -999.00,9, -999.00,9,  -999.0,9, -999.00,9, -999.00,9,     -999.0,9, 20220603,      602,  30.0002,-171.0212,     1.6526,2,     -999.0,9,     -999.0,9,     -999.0,9,     -999.0,9,     0.0122,1,     4.7052,1,     -999.0,9,     -999.0,9,     -999.0,9
33RR20220430,        P02,     100,          1,          9,          9,2,20220603,       0505,    30.0002,  -171.0212,       5257,  2874.4,2,   1.5841,2,  34.6566,2,  34.6576,2,    120.4,2,   120.7,2,  160.09,2,   38.29,2,    0.00,2,    2.69,2,   0.004,2,   0.000,2,   0.0000,2,  2348.3,2,  2417.3,2,   7.5217,2,    25.01,2, -999.00,9,  -999.0,9, -999.00,1, -999.00,1,       26.9,2, 20220603,      557,  30.0002,-171.0212,     1.5839,2,     -999.0,9,     -999.0,9,     -999.0,9,     -999.0,9,     0.0122,1,     4.7056,1,     -999.0,9,     -999.0,9,     -999.0,9
33RR20220430,        P02,     100,          1,          8,          8,2,20220603,       0505,    30.0002,  -171.0212,       5257,  3145.5,2,   1.5278,2,  34.6653,2,  34.6667,2,    129.5,2,   129.6,2,  158.52,2,   37.63,2,    0.00,2,    2.64,2,-999.000,9,-999.000,9,-999.0000,9,  -999.0,9,  -999.0,9,-999.0000,9,  -999.00,9, -999.00,9,  -999.0,9, -999.00,9, -999.00,9,     -999.0,9, 20220603,      551,  30.0002,-171.0212,     1.5285,2,     -999.0,9,     -999.0,9,     -999.0,9,     -999.0,9,     0.0122,1,     4.7061,1,     -999.0,9,     -999.0,9,     -999.0,9
33RR20220430,        P02,     100,          1,          7,          7,2,20220603,       0505,    30.0002,  -171.0212,       5257,  3455.3,2,   1.4913,2,  34.6723,2,  34.6737,2,    136.5,2,   136.6,2,  157.84,2,   37.19,2,    0.00,2,    2.59,2,   0.007,2,   0.000,2,   0.0000,2,  2336.1,2,  2419.3,2,   7.5503,2,    24.99,2, -999.00,9,  -999.0,9, -999.00,1, -999.00,1,       24.2,2, 20220603,      545,  30.0002,-171.0212,     1.4913,2,     -999.0,9,     -999.0,9,     -999.0,9,     -999.0,9,     0.0131,1,     4.7056,1,     -999.0,9,     -999.0,9,     -999.0,9
33RR20220430,        P02,     100,          1,          6,          6,2,20220603,       0505,    30.0002,  -171.0212,       5257,  3760.3,2,   1.4698,2,  34.6779,2,  34.6787,2,    143.0,2,   143.3,2,  157.06,2,   36.75,2,    0.00,2,    2.56,2,-999.000,9,-999.000,9,-999.0000,9,  -999.0,9,  -999.0,9,-999.0000,9,  -999.00,9, -999.00,9,  -999.0,9, -999.00,9, -999.00,9,     -999.0,9, 20220603,      539,  30.0002,-171.0212,     1.4697,2,     -999.0,9,     -999.0,9,     -999.0,9,     -999.0,9,     0.0122,1,     4.7057,1,     -999.0,9,     -999.0,9,     -999.0,9
33RR20220430,        P02,     100,          1,          5,          5,2,20220603,       0505,    30.0002,  -171.0212,       5257,  4069.8,2,   1.4708,2,  34.6815,2,  34.6822,2,    147.3,2,   147.6,2,  155.69,2,   36.47,2,    0.00,2,    2.53,2,   0.007,2,   0.000,2,   0.0000,2,  2327.5,2,  2418.3,2,   7.5698,2,    25.01,2, -999.00,9,  -999.0,9, -999.00,1, -999.00,1,       22.9,2, 20220603,      533,  30.0002,-171.0212,     1.4707,2,     -999.0,9,     -999.0,9,     -999.0,9,     -999.0,9,     0.0122,1,     4.7057,1,     -999.0,9,     -999.0,9,     -999.0,9
33RR20220430,        P02,     100,          1,          4,          4,2,20220603,       0505,    30.0002,  -171.0212,       5257,  4375.6,2,   1.4847,2,  34.6838,2,  34.6853,2,    150.4,2,   150.6,2,  154.52,2,   36.22,2,    0.00,2,    2.51,2,-999.000,9,-999.000,9,-999.0000,9,  -999.0,9,  -999.0,9,-999.0000,9,  -999.00,9, -999.00,9,  -999.0,9, -999.00,9, -999.00,9,     -999.0,9, 20220603,      527,  30.0002,-171.0212,     1.4847,2,     -999.0,9,     -999.0,9,     -999.0,9,     -999.0,9,     0.0122,1,     4.7058,1,     -999.0,9,     -999.0,9,     -999.0,9