BOTTLE,20230801CCHSIOCBG
EXPOCODE,SECT_ID,STNNBR,CASTNO,SAMPNO,BTLNBR,BTLNBR_FLAG_W,DATE,TIME,LATITUDE,LONGITUDE,DEPTH,CTDPRS,CTDPRS_FLAG_W,CTDTMP,CTDTMP_FLAG_W,CTDSAL,CTDSAL_FLAG_W,SALNTY,SALNTY_FLAG_W,CTDOXY,CTDOXY_FLAG_W,OXYGEN,OXYGEN_FLAG_W,SILCAT,SILCAT_FLAG_W,NITRAT,NITRAT_FLAG_W,NITRIT,NITRIT_FLAG_W,PHSPHT,PHSPHT_FLAG_W,CFC-11,CFC-11_FLAG_W,CFC-12,CFC-12_FLAG_W,SF6,SF6_FLAG_W,TCARBN,TCARBN_FLAG_W,ALKALI,ALKALI_FLAG_W,PH_TOT,PH_TOT_FLAG_W,PH_TMP,PH_TMP_FLAG_W,DELC13,DELC13_FLAG_W,DELC14,DELC14_FLAG_W,DOC,DOC_FLAG_W,TDN,TDN_FLAG_W,N2O,N2O_FLAG_W,BTL_DATE,BTL_TIME,BTL_LAT,BTL_LON,REFTMP,REFTMP_FLAG_W,POC,POC_FLAG_W,PON,PON_FLAG_W,POP,POP_FLAG_W,PCOD,PCOD_FLAG_W,CTDFLUOR,CTDFLUOR_FLAG_W,CTDXMISS,CTDXMISS_FLAG_W,HPLC,HPLC_FLAG_W,DNA,DNA_FLAG_W,FCM,FCM_FLAG_W
,,,,,,,,,,,METERS,DBAR,,ITS-90,,PSS-78,,PSS-78,,UMOL/KG,,UMOL/KG,,UMOL/KG,,UMOL/KG,,UMOL/KG,,UMOL/KG,,PMOL/KG,,PMOL/KG,,FMOL/KG,,UMOL/KG,,UMOL/KG,,,,DEG C,,/MILLE,,/MILLE,,UMOL/KG,,UMOL/KG,,NMOL/KG,,,,,,ITS-90,,UG/L,,UG/L,,UG/L,,UG/L,,VOLTS,,VOLTS,,,,,,,
33RR20220430,        P02,      33,          1,          3,          3,2,20220513,       1419,    30.0005,   149.9078,       6109,  5300.8,2,   1.5324,2,  34.6906,2,  34.6908,2,    165.6,2,   165.7,2,  141.53,2,   35.17,2,    0.00,2,    2.38,2,   0.008,2,   0.000,2,   0.0000,2,  2311.1,2,  2406.9,2,   7.5884,2,    24.99,2, -999.00,9,  -999.0,9, -999.00,9, -999.00,9,       23.0,2, 20220513,     1435,  30.0005, 149.9078,     1.5321,2,     -999.0,9,     -999.0,9,     -999.0,9,     -999.0,9,     0.0122,1,     4.7083,1,     -999.0,9,     -999.0,9,     -999.0,9
33RR20220430,        P02,      33,          1,          2,          2,2,20220513,       1419,    30.0005,   149.9078,       6109,  5714.7,2,   1.5693,2,  34.6921,2,  34.6928,2,    168.5,2,   168.5,2,  139.29,2,   34.86,2,    0.00,2,    2.36,2,-999.000,9,-999.000,9,-999.0000,9,  2307.8,6,  2406.9,2,   7.5929,2,    24.99,2, -999.00,9,  -999.0,9, -999.00,9, -999.00,9,     -999.0,9, 20220513,     1427,  30.0005, 149.9078,     1.5689,2,     -999.0,9,     -999.0,9,     -999.0,9,     -999.0,9,     0.0122,1,     4.7077,1,     -999.0,9,     -999.0,9,     -999.0,9
33RR20220430,        P02,      33,          1,          1,          1,2,20220513,       1419,    30.0005,   149.9078,       6109,  6127.0,2,   1.6108,2,  34.6934,2,  34.6948,2,    171.0,2,   170.9,2,  137.24,2,   34.67,2,    0.00,2,    2.36,2,   0.009,2,   0.000,2,   0.0000,2,  2306.2,2,  2403.6,2,   7.5952,2,    24.98,2, -999.00,9,  -999.0,9, -999.00,9, -999.00,9,       23.2,2, 20220513,     1419,  30.0005, 149.9078,     1.6105,2,     -999.0,9,     -999.0,9,     -999.0,9,     -999.0,9,     0.0122,1,     4.7044,1,     -999.0,9,     -999.0,9,     -999.0,9