BOTTLE,20230801CCHSIOCBG
EXPOCODE,SECT_ID,STNNBR,CASTNO,SAMPNO,BTLNBR,BTLNBR_FLAG_W,DATE,TIME,LATITUDE,LONGITUDE,DEPTH,CTDPRS,CTDPRS_FLAG_W,CTDTMP,CTDTMP_FLAG_W,CTDSAL,CTDSAL_FLAG_W,SALNTY,SALNTY_FLAG_W,CTDOXY,CTDOXY_FLAG_W,OXYGEN,OXYGEN_FLAG_W,SILCAT,SILCAT_FLAG_W,NITRAT,NITRAT_FLAG_W,NITRIT,NITRIT_FLAG_W,PHSPHT,PHSPHT_FLAG_W,CFC-11,CFC-11_FLAG_W,CFC-12,CFC-12_FLAG_W,SF6,SF6_FLAG_W,TCARBN,TCARBN_FLAG_W,ALKALI,ALKALI_FLAG_W,PH_TOT,PH_TOT_FLAG_W,PH_TMP,PH_TMP_FLAG_W,DELC13,DELC13_FLAG_W,DELC14,DELC14_FLAG_W,DOC,DOC_FLAG_W,TDN,TDN_FLAG_W,N2O,N2O_FLAG_W,BTL_DATE,BTL_TIME,BTL_LAT,BTL_LON,REFTMP,REFTMP_FLAG_W,POC,POC_FLAG_W,PON,PON_FLAG_W,POP,POP_FLAG_W,PCOD,PCOD_FLAG_W,CTDFLUOR,CTDFLUOR_FLAG_W,CTDXMISS,CTDXMISS_FLAG_W,HPLC,HPLC_FLAG_W,DNA,DNA_FLAG_W,FCM,FCM_FLAG_W
,,,,,,,,,,,METERS,DBAR,,ITS-90,,PSS-78,,PSS-78,,UMOL/KG,,UMOL/KG,,UMOL/KG,,UMOL/KG,,UMOL/KG,,UMOL/KG,,PMOL/KG,,PMOL/KG,,FMOL/KG,,UMOL/KG,,UMOL/KG,,,,DEG C,,/MILLE,,/MILLE,,UMOL/KG,,UMOL/KG,,NMOL/KG,,,,,,ITS-90,,UG/L,,UG/L,,UG/L,,UG/L,,VOLTS,,VOLTS,,,,,,,
33RR20220430,        P02,      28,          1,         36,         36,2,20220511,       1943,    29.9996,   146.5425,       6205,     9.6,2,  21.2236,2,  34.7138,2,  34.7058,2,    225.2,2,   223.9,2,    0.29,2,    0.01,2,    0.00,2,    0.00,2,   1.827,2,   1.159,2,   1.9495,2,  2005.0,2,  2278.8,2,   8.0090,2,    24.99,2, -999.00,1,  -999.0,1, -999.00,1, -999.00,1,        6.8,2, 20220511,     2203,  29.9996, 146.5425,    21.2230,2,     -999.0,9,     -999.0,9,     -999.0,9,     -999.0,9,     0.0159,1,     4.6282,1,     -999.0,9,     -999.0,9,     -999.0,9
33RR20220430,        P02,      28,          1,         35,         35,2,20220511,       1943,    29.9996,   146.5425,       6205,    37.6,2,  20.6429,2,  34.7448,2,  34.7378,2,    227.7,2,   227.9,2,    0.39,2,    0.00,2,    0.00,2,    0.00,2,   1.880,2,   1.186,2,   1.9681,2,  2005.2,2,  2280.9,2,   8.0098,2,    25.07,2, -999.00,1,  -999.0,1, -999.00,1, -999.00,1,        7.1,2, 20220511,     2201,  29.9996, 146.5425,    20.6402,2,     -999.0,9,     -999.0,9,     -999.0,9,     -999.0,9,     0.0195,1,     4.6283,1,     -999.0,9,     -999.0,9,     -999.0,9
33RR20220430,        P02,      28,          1,         34,         34,2,20220511,       1943,    29.9996,   146.5425,       6205,    62.5,2,  19.4032,2,  34.7199,2,  34.7099,2,    231.0,2,   231.6,2,    0.29,2,    0.00,2,    0.00,2,    0.00,2,   1.979,2,   1.272,2,   2.1186,2,  2010.0,2,  2278.5,2,   8.0006,2,    25.01,2, -999.00,1,  -999.0,1, -999.00,1, -999.00,1,        7.3,2, 20220511,     2200,  29.9996, 146.5425,    19.4034,2,     -999.0,9,     -999.0,9,     -999.0,9,     -999.0,9,     0.0276,1,     4.6206,1,     -999.0,9,     -999.0,9,     -999.0,9
33RR20220430,        P02,      28,          1,         33,         33,2,20220511,       1943,    29.9996,   146.5425,       6205,    87.7,2,  18.4776,2,  34.7965,2,  34.7935,2,    218.9,2,   218.2,2,    1.07,2,    1.50,2,    0.03,2,    0.09,2,   1.986,2,   1.263,2,   1.9084,2,  2028.7,2,  2285.1,2,   7.9717,2,    24.97,2, -999.00,1,  -999.0,1, -999.00,1, -999.00,1,        9.2,2, 20220511,     2158,  29.9996, 146.5425,    18.5041,2,     -999.0,9,     -999.0,9,     -999.0,9,     -999.0,9,     0.0260,1,     4.6597,1,     -999.0,9,     -999.0,9,     -999.0,9
33RR20220430,        P02,      28,          1,         32,         32,2,20220511,       1943,    29.9996,   146.5425,       6205,   118.0,2,  17.9396,2,  34.7683,2,  34.7596,2,    220.2,2,   220.8,2,    1.07,2,    2.03,2,    0.01,2,    0.10,2,   2.042,2,   1.302,2,   2.2021,2,  2030.9,2,  2282.7,2,   7.9656,2,    25.00,2, -999.00,1,  -999.0,1, -999.00,1, -999.00,1,        8.9,2, 20220511,     2156,  29.9996, 146.5425,    17.9394,2,     -999.0,9,     -999.0,9,     -999.0,9,     -999.0,9,     0.0171,1,     4.6778,1,     -999.0,9,     -999.0,9,     -999.0,9
33RR20220430,        P02,      28,          1,         31,         31,2,20220511,       1943,    29.9996,   146.5425,       6205,   167.6,2,  17.5114,2,  34.7552,2,  34.7496,2,    218.8,2,   218.9,2,    1.76,2,    2.85,2,    0.00,2,    0.16,2,   1.978,6,   1.222,6,   1.8847,6,  2035.8,2,  2282.3,2,   7.9535,2,    25.02,2, -999.00,1,  -999.0,1, -999.00,1, -999.00,1,        8.5,6, 20220511,     2154,  29.9996, 146.5425,    17.5137,2,     -999.0,9,     -999.0,9,     -999.0,9,     -999.0,9,     0.0122,1,     4.6861,1,     -999.0,9,     -999.0,9,     -999.0,9
33RR20220430,        P02,      28,          1,         30,         30,2,20220511,       1943,    29.9996,   146.5425,       6205,   218.0,2,  17.1962,2,  34.7471,2,  34.7412,2,    212.0,2,   213.1,2,    2.64,2,    4.02,2,    0.00,2,    0.22,2,   2.097,2,   1.302,2,   2.1122,2,  2045.4,2,  2283.8,2,   7.9380,2,    25.01,2, -999.00,1,  -999.0,1, -999.00,1, -999.00,1,        9.5,2, 20220511,     2152,  29.9996, 146.5425,    17.1955,2,     -999.0,9,     -999.0,9,     -999.0,9,     -999.0,9,     0.0122,1,     4.6878,1,     -999.0,9,     -999.0,9,     -999.0,9
33RR20220430,        P02,      28,          1,         29,         29,2,20220511,       1943,    29.9996,   146.5425,       6205,   273.9,2,  16.8703,2,  34.7319,2,  34.7260,2,    218.8,2,   219.1,2,    3.13,2,    4.00,2,    0.00,2,    0.22,2,   2.100,2,   1.326,2,   2.1367,2,  2042.6,2,  2279.7,2,   7.9402,2,    25.00,2, -999.00,1,  -999.0,1, -999.00,1, -999.00,1,        9.5,2, 20220511,     2150,  29.9996, 146.5425,    16.8732,2,     -999.0,9,     -999.0,9,     -999.0,9,     -999.0,9,     0.0122,1,     4.6892,1,     -999.0,9,     -999.0,9,     -999.0,9
33RR20220430,        P02,      28,          1,         28,         28,2,20220511,       1943,    29.9996,   146.5425,       6205,   324.1,2,  16.2321,2,  34.6782,2,  34.6663,2,    200.0,2,   199.3,2,    5.57,2,    6.99,2,    0.00,2,    0.40,2,   2.222,2,   1.389,2,   1.8477,2,  -999.0,9,  -999.0,9,-999.0000,9,  -999.00,9, -999.00,1,  -999.0,1, -999.00,1, -999.00,1,       11.1,2, 20220511,     2149,  29.9996, 146.5425,    16.2332,2,     -999.0,9,     -999.0,9,     -999.0,9,     -999.0,9,     0.0122,1,     4.6922,1,     -999.0,9,     -999.0,9,     -999.0,9
33RR20220430,        P02,      28,          1,         27,         27,2,20220511,       1943,    29.9996,   146.5425,       6205,   339.3,2,  15.9682,2,  34.6571,2,  34.6529,2,    197.9,2,   198.2,2,    6.15,2,    7.35,2,    0.00,2,    0.44,2,   2.253,2,   1.332,2,   1.7433,2,  2065.0,2,  2280.5,2,   7.8843,2,    24.94,2, -999.00,1,  -999.0,1, -999.00,1, -999.00,1,       11.9,2, 20220511,     2147,  29.9996, 146.5424,    15.9692,2,     -999.0,9,     -999.0,9,     -999.0,9,     -999.0,9,     0.0122,1,     4.6937,1,     -999.0,9,     -999.0,9,     -999.0,9
33RR20220430,        P02,      28,          1,         26,         26,2,20220511,       1943,    29.9996,   146.5425,       6205,   439.8,2,  13.1152,2,  34.4169,2,  34.4133,2,    194.6,2,   195.1,2,   12.31,2,   11.88,2,    0.00,2,    0.75,2,   2.500,2,   1.480,2,   1.6266,2,  -999.0,9,  -999.0,9,-999.0000,9,  -999.00,9, -999.00,1,  -999.0,1, -999.00,1, -999.00,1,       15.0,2, 20220511,     2145,  29.9996, 146.5425,    13.1082,2,     -999.0,9,     -999.0,9,     -999.0,9,     -999.0,9,     0.0122,1,     4.6984,1,     -999.0,9,     -999.0,9,     -999.0,9
33RR20220430,        P02,      28,          1,         25,         25,2,20220511,       1943,    29.9996,   146.5425,       6205,   541.4,2,  10.5231,2,  34.2284,2,  34.2205,2,    186.9,2,   187.3,2,   23.16,2,   17.34,2,    0.00,2,    1.14,2,   2.611,2,   1.553,2,   1.4322,2,  2134.0,2,  2268.8,2,   7.7205,2,    24.99,2, -999.00,1,  -999.0,1, -999.00,1, -999.00,1,       18.6,2, 20220511,     2142,  29.9996, 146.5425,    10.5209,2,     -999.0,9,     -999.0,9,     -999.0,9,     -999.0,9,     0.0122,1,     4.7030,1,     -999.0,9,     -999.0,9,     -999.0,9
33RR20220430,        P02,      28,          1,         24,         24,2,20220511,       1943,    29.9996,   146.5425,       6205,   642.2,2,   7.7360,2,  34.0563,2,  34.0556,2,    160.2,2,   159.8,2,   42.03,2,   24.74,2,    0.00,2,    1.69,2,   2.439,2,   1.401,2,   1.2499,2,  2189.8,2,  2279.8,2,   7.6008,2,    25.00,2, -999.00,1,  -999.0,1, -999.00,1, -999.00,1,       25.1,2, 20220511,     2139,  29.9996, 146.5425,     7.7339,2,     -999.0,9,     -999.0,9,     -999.0,9,     -999.0,9,     0.0123,1,     4.7056,1,     -999.0,9,     -999.0,9,     -999.0,9
33RR20220430,        P02,      28,          1,         23,         23,2,20220511,       1943,    29.9996,   146.5425,       6205,   741.9,2,   5.9863,2,  34.0373,2,  34.0376,2,    118.9,2,   118.8,2,   64.02,2,   31.74,2,    0.00,2,    2.21,2,   1.926,2,   1.152,2,   0.8451,2,  2241.3,2,  2296.4,2,   7.4866,2,    24.95,2, -999.00,1,  -999.0,1, -999.00,1, -999.00,1,       32.9,2, 20220511,     2136,  29.9996, 146.5425,     5.9824,2,     -999.0,9,     -999.0,9,     -999.0,9,     -999.0,9,     0.0127,1,     4.7058,1,     -999.0,9,     -999.0,9,     -999.0,9
33RR20220430,        P02,      28,          1,         22,         22,2,20220511,       1943,    29.9996,   146.5425,       6205,   848.7,2,   4.9317,2,  34.1117,2,  34.1121,2,     79.9,2,    79.3,2,   85.42,2,   37.09,2,    0.00,2,    2.59,2,   1.240,2,   0.725,2,   0.5425,2,  -999.0,9,  -999.0,9,-999.0000,9,  -999.00,9, -999.00,1,  -999.0,1, -999.00,9, -999.00,9,       40.1,2, 20220511,     2133,  29.9996, 146.5425,     4.9351,2,     -999.0,9,     -999.0,9,     -999.0,9,     -999.0,9,     0.0134,1,     4.7060,1,     -999.0,9,     -999.0,9,     -999.0,9
33RR20220430,        P02,      28,          1,         21,         21,2,20220511,       1943,    29.9996,   146.5425,       6205,   948.9,2,   4.1998,2,  34.2161,2,  34.2164,2,     51.9,3,    52.5,2,  104.67,2,   40.36,2,    0.00,2,    2.82,2,   0.660,2,   0.389,2,   0.1733,2,  2325.7,2,  2339.9,2,   7.3586,2,    24.97,2, -999.00,1,  -999.0,1, -999.00,1, -999.00,1,       46.7,2, 20220511,     2130,  29.9996, 146.5425,     4.1993,2,     -999.0,9,     -999.0,9,     -999.0,9,     -999.0,9,     0.0134,1,     4.7067,1,     -999.0,9,     -999.0,9,     -999.0,9
33RR20220430,        P02,      28,          1,         20,         20,2,20220511,       1943,    29.9996,   146.5425,       6205,  1049.9,2,   3.7205,2,  34.2930,2,  34.2954,2,     41.1,2,    40.8,2,  118.93,2,   41.73,2,    0.00,2,    2.92,2,   0.392,2,   0.217,2,   0.0000,2,  -999.0,9,  -999.0,9,-999.0000,9,  -999.00,9, -999.00,1,  -999.0,1, -999.00,9, -999.00,9,       47.3,2, 20220511,     2128,  29.9996, 146.5425,     3.7200,2,     -999.0,9,     -999.0,9,     -999.0,9,     -999.0,9,     0.0134,1,     4.7068,1,     -999.0,9,     -999.0,9,     -999.0,9
33RR20220430,        P02,      28,          1,         19,         19,2,20220511,       1943,    29.9996,   146.5425,       6205,  1151.2,2,   3.2847,2,  34.3667,2,  34.3674,2,     37.0,3,    37.9,2,  131.43,2,   42.65,2,    0.00,2,    2.98,2,   0.209,2,   0.114,2,   0.0000,2,  2361.3,2,  2369.7,2,   7.3426,2,    24.94,2, -999.00,1,  -999.0,1, -999.00,1, -999.00,1,       47.7,2, 20220511,     2125,  29.9996, 146.5425,     3.2838,2,     -999.0,9,     -999.0,9,     -999.0,9,     -999.0,9,     0.0134,1,     4.7066,1,     -999.0,9,     -999.0,9,     -999.0,9
33RR20220430,        P02,      28,          1,         18,         18,2,20220511,       1943,    29.9996,   146.5425,       6205,  1252.7,2,   3.0263,2,  34.4154,2,  34.4157,2,     36.7,3,    37.6,2,  138.66,2,   42.90,2,    0.00,2,    3.00,2,   0.111,2,   0.059,2,   0.0000,2,  2369.4,6,  2379.0,2,   7.3460,2,    24.98,2, -999.00,1,  -999.0,1, -999.00,9, -999.00,9,       47.6,2, 20220511,     2122,  29.9996, 146.5425,     3.0259,2,     -999.0,9,     -999.0,9,     -999.0,9,     -999.0,9,     0.0134,1,     4.7069,1,     -999.0,9,     -999.0,9,     -999.0,9
33RR20220430,        P02,      28,          1,         17,         17,4,20220511,       1943,    29.9996,   146.5425,       6205,  1354.1,3,   2.8442,3,  34.4482,3,  34.4496,3,     37.6,3,    37.8,3,  143.64,3,   42.96,3,    0.00,3,    3.02,3,-999.000,9,-999.000,9,-999.0000,9,  -999.0,9,  -999.0,9,-999.0000,9,  -999.00,9, -999.00,1,  -999.0,1, -999.00,1, -999.00,1,     -999.0,9, 20220511,     2120,  29.9996, 146.5425,     2.8444,3,     -999.0,9,     -999.0,9,     -999.0,9,     -999.0,9,     0.0134,1,     4.7068,1,     -999.0,9,     -999.0,9,     -999.0,9
33RR20220430,        P02,      28,          1,         16,         16,2,20220511,       1943,    29.9996,   146.5425,       6205,  1487.1,2,   2.6329,2,  34.4869,2,  34.4860,2,     43.1,3,    42.4,2,  148.72,2,   42.71,2,    0.00,2,    3.00,2,   0.045,2,   0.026,2,   0.0000,2,  -999.0,9,  -999.0,9,-999.0000,9,  -999.00,9, -999.00,1,  -999.0,1, -999.00,9, -999.00,9,       44.6,2, 20220511,     2116,  29.9996, 146.5425,     2.6341,2,     -999.0,9,     -999.0,9,     -999.0,9,     -999.0,9,     0.0134,1,     4.7073,1,     -999.0,9,     -999.0,9,     -999.0,9
33RR20220430,        P02,      28,          1,         15,         15,2,20220511,       1943,    29.9996,   146.5425,       6205,  1688.2,2,   2.3386,2,  34.5391,2,  34.5392,2,     58.4,3,    59.8,2,  153.59,2,   41.88,2,    0.00,2,    2.93,2,   0.024,2,   0.010,2,   0.0000,2,  2375.3,2,  2403.7,2,   7.3952,2,    25.03,2, -999.00,1,  -999.0,1, -999.00,1, -999.00,1,       40.6,2, 20220511,     2112,  29.9996, 146.5425,     2.3374,2,     -999.0,9,     -999.0,9,     -999.0,9,     -999.0,9,     0.0134,1,     4.7082,1,     -999.0,9,     -999.0,9,     -999.0,9
33RR20220430,        P02,      28,          1,         14,         14,2,20220511,       1943,    29.9996,   146.5425,       6205,  1891.3,2,   2.0668,2,  34.5810,2,  34.5822,2,     75.3,2,    74.8,2,  156.91,2,   41.15,2,    0.00,2,    2.84,2,   0.019,2,   0.005,2,   0.0000,2,  2370.3,2,  2407.9,2,   7.4301,2,    25.00,2, -999.00,1,  -999.0,1, -999.00,9, -999.00,9,       35.6,2, 20220511,     2108,  29.9996, 146.5425,     2.0668,2,     -999.0,9,     -999.0,9,     -999.0,9,     -999.0,9,     0.0134,1,     4.7093,1,     -999.0,9,     -999.0,9,     -999.0,9
33RR20220430,        P02,      28,          1,         13,         13,2,20220511,       1943,    29.9996,   146.5425,       6205,  2114.4,2,   1.9243,2,  34.6066,2,  34.6067,2,     93.2,2,    92.5,2,  154.86,2,   39.87,2,    0.00,2,    2.75,2,   0.015,2,   0.005,2,   0.0000,2,  2359.1,2,  2412.2,2,   7.4657,2,    25.00,2, -999.00,1,  -999.0,1, -999.00,1, -999.00,1,       32.7,2, 20220511,     2103,  29.9996, 146.5425,     1.9247,2,     -999.0,9,     -999.0,9,     -999.0,9,     -999.0,9,     0.0128,1,     4.7099,1,     -999.0,9,     -999.0,9,     -999.0,9
33RR20220430,        P02,      28,          1,         12,         12,2,20220511,       1943,    29.9996,   146.5425,       6205,  2368.5,2,   1.7826,2,  34.6299,2,  34.6303,2,    109.3,2,   109.2,2,  152.71,2,   38.75,2,    0.00,2,    2.67,2,   0.009,2,   0.000,2,   0.0000,2,  -999.0,9,  -999.0,9,-999.0000,9,  -999.00,9, -999.00,9,  -999.0,9, -999.00,9, -999.00,9,       30.3,2, 20220511,     2058,  29.9996, 146.5425,     1.7826,2,     -999.0,9,     -999.0,9,     -999.0,9,     -999.0,9,     0.0127,1,     4.7108,1,     -999.0,9,     -999.0,9,     -999.0,9
33RR20220430,        P02,      28,          1,         11,         11,2,20220511,       1943,    29.9996,   146.5425,       6205,  2572.0,2,   1.6886,2,  34.6444,2,  34.6447,2,    119.5,2,   120.0,2,  151.82,2,   38.18,2,    0.00,2,    2.62,2,   0.009,2,   0.000,2,   0.0000,2,  2344.6,2,  2413.9,2,   7.5161,2,    25.02,2, -999.00,1,  -999.0,1, -999.00,1, -999.00,1,       27.4,2, 20220511,     2053,  29.9996, 146.5425,     1.6888,2,     -999.0,9,     -999.0,9,     -999.0,9,     -999.0,9,     0.0122,1,     4.7114,1,     -999.0,9,     -999.0,9,     -999.0,9
33RR20220430,        P02,      28,          1,         10,         10,2,20220511,       1943,    29.9996,   146.5425,       6205,  2878.2,2,   1.6135,2,  34.6558,2,  34.6559,2,    126.6,2,   126.3,2,  152.31,2,   37.67,2,    0.00,2,    2.57,2,   0.014,2,   0.000,2,   0.0000,2,  -999.0,9,  -999.0,9,-999.0000,9,  -999.00,9, -999.00,9,  -999.0,9, -999.00,9, -999.00,9,       26.2,2, 20220511,     2047,  29.9996, 146.5425,     1.6136,2,     -999.0,9,     -999.0,9,     -999.0,9,     -999.0,9,     0.0122,1,     4.7104,1,     -999.0,9,     -999.0,9,     -999.0,9
33RR20220430,        P02,      28,          1,          9,          9,2,20220511,       1943,    29.9996,   146.5425,       6205,  3147.9,2,   1.5696,2,  34.6638,2,  34.6633,2,    133.7,2,   134.0,2,  151.04,2,   37.09,2,    0.00,2,    2.53,2,   0.009,2,   0.000,2,   0.0000,2,  2336.4,2,  2416.6,2,   7.5407,2,    25.02,2, -999.00,1,  -999.0,1, -999.00,1, -999.00,1,       25.7,2, 20220511,     2042,  29.9996, 146.5425,     1.5698,2,     -999.0,9,     -999.0,9,     -999.0,9,     -999.0,9,     0.0122,1,     4.7106,1,     -999.0,9,     -999.0,9,     -999.0,9
33RR20220430,        P02,      28,          1,          8,          8,2,20220511,       1943,    29.9996,   146.5425,       6205,  3454.2,2,   1.5295,2,  34.6708,2,  34.6706,2,    140.3,2,   139.9,2,  150.06,2,   36.70,2,    0.00,2,    2.50,2,   0.011,2,   0.000,2,   0.0000,2,  -999.0,9,  -999.0,9,-999.0000,9,  -999.00,9, -999.00,9,  -999.0,9, -999.00,9, -999.00,9,       25.0,2, 20220511,     2035,  29.9996, 146.5425,     1.5299,2,     -999.0,9,     -999.0,9,     -999.0,9,     -999.0,9,     0.0131,1,     4.7107,1,     -999.0,9,     -999.0,9,     -999.0,9
33RR20220430,        P02,      28,          1,          7,          7,2,20220511,       1943,    29.9996,   146.5425,       6205,  3798.1,2,   1.5018,2,  34.6772,2,  34.6771,2,    146.7,2,   146.6,2,  148.60,2,   36.22,2,    0.00,2,    2.46,2,   0.009,2,   0.000,2,   0.0000,2,  2330.5,2,  2415.0,2,   7.5628,2,    24.98,2, -999.00,1,  -999.0,1, -999.00,1, -999.00,1,       24.1,2, 20220511,     2029,  29.9996, 146.5425,     1.5017,2,     -999.0,9,     -999.0,9,     -999.0,9,     -999.0,9,     0.0122,1,     4.7105,1,     -999.0,9,     -999.0,9,     -999.0,9
33RR20220430,        P02,      28,          1,          6,          6,2,20220511,       1943,    29.9996,   146.5425,       6205,  4207.6,2,   1.4896,2,  34.6825,2,  34.6828,2,    152.9,2,   153.3,2,  146.94,2,   35.81,2,    0.00,2,    2.44,2,   0.010,2,   0.000,2,   0.0000,2,  -999.0,9,  -999.0,9,-999.0000,9,  -999.00,9, -999.00,9,  -999.0,9, -999.00,9, -999.00,9,       23.4,2, 20220511,     2021,  29.9996, 146.5424,     1.4895,2,     -999.0,9,     -999.0,9,     -999.0,9,     -999.0,9,     0.0122,1,     4.7105,1,     -999.0,9,     -999.0,9,     -999.0,9
33RR20220430,        P02,      28,          1,          5,          5,2,20220511,       1943,    29.9996,   146.5425,       6205,  4618.5,2,   1.4915,2,  34.6866,2,  34.6863,2,    158.4,2,   159.0,2,  145.08,2,   35.55,2,    0.00,2,    2.41,2,   0.009,2,   0.000,2,   0.0000,2,  2319.0,2,  2411.9,2,-999.0000,1,  -999.00,1, -999.00,1,  -999.0,1, -999.00,1, -999.00,1,       22.7,2, 20220511,     2013,  29.9996, 146.5425,     1.4912,2,     -999.0,9,     -999.0,9,     -999.0,9,     -999.0,9,     0.0131,1,     4.7102,1,     -999.0,9,     -999.0,9,     -999.0,9
33RR20220430,        P02,      28,          1,          4,          4,2,20220511,       1943,    29.9996,   146.5425,       6205,  5030.3,2,   1.5140,2,  34.6891,2,  34.6889,2,    162.6,2,   162.4,2,  142.54,2,   35.34,2,    0.00,2,    2.39,2,   0.008,2,   0.000,2,   0.0000,2,  -999.0,9,  -999.0,9,-999.0000,9,  -999.00,9, -999.00,9,  -999.0,9, -999.00,9, -999.00,9,       22.1,2, 20220511,     2004,  29.9996, 146.5424,     1.5138,2,     -999.0,9,     -999.0,9,     -999.0,9,     -999.0,9,     0.0122,1,     4.7102,1,     -999.0,9,     -999.0,9,     -999.0,9