BOTTLE,20230801CCHSIOCBG
EXPOCODE,SECT_ID,STNNBR,CASTNO,SAMPNO,BTLNBR,BTLNBR_FLAG_W,DATE,TIME,LATITUDE,LONGITUDE,DEPTH,CTDPRS,CTDPRS_FLAG_W,CTDTMP,CTDTMP_FLAG_W,CTDSAL,CTDSAL_FLAG_W,SALNTY,SALNTY_FLAG_W,CTDOXY,CTDOXY_FLAG_W,OXYGEN,OXYGEN_FLAG_W,SILCAT,SILCAT_FLAG_W,NITRAT,NITRAT_FLAG_W,NITRIT,NITRIT_FLAG_W,PHSPHT,PHSPHT_FLAG_W,CFC-11,CFC-11_FLAG_W,CFC-12,CFC-12_FLAG_W,SF6,SF6_FLAG_W,TCARBN,TCARBN_FLAG_W,ALKALI,ALKALI_FLAG_W,PH_TOT,PH_TOT_FLAG_W,PH_TMP,PH_TMP_FLAG_W,DELC13,DELC13_FLAG_W,DELC14,DELC14_FLAG_W,DOC,DOC_FLAG_W,TDN,TDN_FLAG_W,N2O,N2O_FLAG_W,BTL_DATE,BTL_TIME,BTL_LAT,BTL_LON,REFTMP,REFTMP_FLAG_W,POC,POC_FLAG_W,PON,PON_FLAG_W,POP,POP_FLAG_W,PCOD,PCOD_FLAG_W,CTDFLUOR,CTDFLUOR_FLAG_W,CTDXMISS,CTDXMISS_FLAG_W,HPLC,HPLC_FLAG_W,DNA,DNA_FLAG_W,FCM,FCM_FLAG_W
,,,,,,,,,,,METERS,DBAR,,ITS-90,,PSS-78,,PSS-78,,UMOL/KG,,UMOL/KG,,UMOL/KG,,UMOL/KG,,UMOL/KG,,UMOL/KG,,PMOL/KG,,PMOL/KG,,FMOL/KG,,UMOL/KG,,UMOL/KG,,,,DEG C,,/MILLE,,/MILLE,,UMOL/KG,,UMOL/KG,,NMOL/KG,,,,,,ITS-90,,UG/L,,UG/L,,UG/L,,UG/L,,VOLTS,,VOLTS,,,,,,,
33RR20220430,        P02,      85,          1,          3,          3,2,20220529,       1957,    29.9998,  -179.6744,       5353,  4991.7,2,   1.4939,2,  34.6897,2,  34.6897,2,    162.5,2,   162.5,2,  145.16,2,   35.38,2,    0.00,2,    2.44,2,-999.000,9,-999.000,9,-999.0000,9,  2315.0,2,  2412.7,2,   7.5877,2,    24.97,2, -999.00,9,  -999.0,9, -999.00,1, -999.00,1,     -999.0,9, 20220529,     2007,  29.9997,-179.6744,     1.4938,2,     -999.0,9,     -999.0,9,     -999.0,9,     -999.0,9,     0.0122,1,     4.7058,1,     -999.0,9,     -999.0,9,     -999.0,9
33RR20220430,        P02,      85,          1,          2,          2,2,20220529,       1957,    29.9998,  -179.6744,       5353,  5298.9,2,   1.5053,2,  34.6921,2,  34.6930,2,    167.4,2,   167.7,2,  141.06,2,   35.07,2,    0.00,2,    2.41,2,-999.000,9,-999.000,9,-999.0000,9,  2311.8,6,  2410.4,2,   7.5929,2,    25.00,2, -999.00,9,  -999.0,9, -999.00,9, -999.00,9,     -999.0,9, 20220529,     2001,  29.9998,-179.6744,     1.5053,2,     -999.0,9,     -999.0,9,     -999.0,9,     -999.0,9,     0.0122,1,     4.7044,1,     -999.0,9,     -999.0,9,     -999.0,9
33RR20220430,        P02,      85,          1,          1,          1,2,20220529,       1957,    29.9998,  -179.6744,       5353,  5448.8,2,   1.5221,2,  34.6924,3,  34.6952,2,    168.0,2,   167.8,2,  140.86,2,   35.07,2,    0.00,2,    2.40,2,   0.009,2,   0.000,2,   0.0000,2,  2308.2,2,  2407.6,2,   7.5935,2,    24.98,2, -999.00,9,  -999.0,9, -999.00,1, -999.00,1,       21.5,2, 20220529,     1957,  29.9998,-179.6744,     1.5221,2,     -999.0,9,     -999.0,9,     -999.0,9,     -999.0,9,     0.0134,1,     4.7032,1,     -999.0,9,     -999.0,9,     -999.0,9
33RR20220430,        P02,      86,          1,         17,         17,2,20220530,       0119,    29.9998,  -179.0966,       5428,     4.3,2,  22.0446,2,  35.1604,2,-999.0000,9,    209.0,2,  -999.0,9, -999.00,9, -999.00,9, -999.00,9, -999.00,9,-999.000,9,-999.000,9,-999.0000,9,  -999.0,9,  -999.0,9,-999.0000,9,  -999.00,9, -999.00,9,  -999.0,9, -999.00,9, -999.00,9,     -999.0,9, 20220530,      148,  29.9998,-179.0966,    22.0451,2,     -999.0,9,     -999.0,9,     -999.0,9,     -999.0,1,     0.0125,1,     4.6310,1,     -999.0,9,     -999.0,9,     -999.0,9
33RR20220430,        P02,      86,          1,         16,         16,2,20220530,       0119,    29.9998,  -179.0966,       5428,     4.4,2,  22.0106,2,  35.1560,2,-999.0000,9,    209.3,2,  -999.0,9, -999.00,9, -999.00,9, -999.00,9, -999.00,9,-999.000,9,-999.000,9,-999.0000,9,  -999.0,9,  -999.0,9,-999.0000,9,  -999.00,9, -999.00,9,  -999.0,9, -999.00,9, -999.00,9,     -999.0,9, 20220530,      148,  29.9998,-179.0966,    22.0214,2,     -999.0,9,     -999.0,9,     -999.0,1,     -999.0,9,     0.0125,1,     4.6335,1,     -999.0,9,     -999.0,9,     -999.0,9
33RR20220430,        P02,      86,          1,         15,         15,2,20220530,       0119,    29.9998,  -179.0966,       5428,     4.4,2,  22.0096,2,  35.1572,2,-999.0000,9,    209.2,2,  -999.0,9, -999.00,9, -999.00,9, -999.00,9, -999.00,9,-999.000,9,-999.000,9,-999.0000,9,  -999.0,9,  -999.0,9,-999.0000,9,  -999.00,9, -999.00,9,  -999.0,9, -999.00,9, -999.00,9,     -999.0,9, 20220530,      148,  29.9998,-179.0966,    21.9940,2,     -999.0,9,     -999.0,9,     -999.0,1,     -999.0,9,     0.0125,1,     4.6323,1,     -999.0,9,     -999.0,9,     -999.0,9
33RR20220430,        P02,      86,          1,         13,         13,2,20220530,       0119,    29.9998,  -179.0966,       5428,     4.4,2,  21.7787,2,  35.1314,2,-999.0000,9,    209.8,2,  -999.0,9, -999.00,9, -999.00,9, -999.00,9, -999.00,9,-999.000,9,-999.000,9,-999.0000,9,  -999.0,9,  -999.0,9,-999.0000,9,  -999.00,9, -999.00,9,  -999.0,9, -999.00,9, -999.00,9,     -999.0,9, 20220530,      147,  29.9998,-179.0966,    21.8041,2,     -999.0,1,     -999.0,1,     -999.0,9,     -999.0,9,     0.0123,1,     4.6304,1,     -999.0,9,     -999.0,9,     -999.0,9
33RR20220430,        P02,      86,          1,          9,          9,2,20220530,       0119,    29.9998,  -179.0966,       5428,     4.4,2,  21.9957,2,  35.1547,2,-999.0000,9,    209.4,2,  -999.0,9, -999.00,9, -999.00,9, -999.00,9, -999.00,9,-999.000,9,-999.000,9,-999.0000,9,  -999.0,9,  -999.0,9,-999.0000,9,  -999.00,9, -999.00,9,  -999.0,9, -999.00,9, -999.00,9,     -999.0,9, 20220530,      145,  29.9998,-179.0966,    22.0709,2,     -999.0,9,     -999.0,9,     -999.0,9,     -999.0,9,     0.0128,1,     4.6333,1,     -999.0,1,     -999.0,9,     -999.0,1
33RR20220430,        P02,      86,          1,         10,         10,2,20220530,       0119,    29.9998,  -179.0966,       5428,     4.4,2,  22.0801,2,  35.1626,2,-999.0000,9,    209.1,2,  -999.0,9, -999.00,9, -999.00,9, -999.00,9, -999.00,9,-999.000,9,-999.000,9,-999.0000,9,  -999.0,9,  -999.0,9,-999.0000,9,  -999.00,9, -999.00,9,  -999.0,9, -999.00,9, -999.00,9,     -999.0,9, 20220530,      146,  29.9998,-179.0966,    22.1048,2,     -999.0,9,     -999.0,9,     -999.0,9,     -999.0,9,     0.0131,1,     4.6365,1,     -999.0,9,     -999.0,1,     -999.0,9
33RR20220430,        P02,      86,          1,         14,         14,2,20220530,       0119,    29.9998,  -179.0966,       5428,     4.6,2,  22.0482,2,  35.1575,2,-999.0000,9,    209.3,2,  -999.0,9, -999.00,9, -999.00,9, -999.00,9, -999.00,9,-999.000,9,-999.000,9,-999.0000,9,  -999.0,9,  -999.0,9,-999.0000,9,  -999.00,9, -999.00,9,  -999.0,9, -999.00,9, -999.00,9,     -999.0,9, 20220530,      147,  29.9998,-179.0966,    22.0729,2,     -999.0,9,     -999.0,9,     -999.0,1,     -999.0,9,     0.0131,1,     4.6345,1,     -999.0,9,     -999.0,9,     -999.0,9
33RR20220430,        P02,      86,          1,         12,         12,2,20220530,       0119,    29.9998,  -179.0966,       5428,     4.6,2,  22.1158,2,  35.1636,2,-999.0000,9,    209.4,2,  -999.0,9, -999.00,9, -999.00,9, -999.00,9, -999.00,9,-999.000,9,-999.000,9,-999.0000,9,  -999.0,9,  -999.0,9,-999.0000,9,  -999.00,9, -999.00,9,  -999.0,9, -999.00,9, -999.00,9,     -999.0,9, 20220530,      146,  29.9998,-179.0966,    21.9552,3,     -999.0,1,     -999.0,1,     -999.0,9,     -999.0,9,     0.0134,1,     4.6337,1,     -999.0,9,     -999.0,9,     -999.0,9
33RR20220430,        P02,      86,          1,         18,         18,2,20220530,       0119,    29.9998,  -179.0966,       5428,     4.7,2,  22.1230,2,  35.1645,2,-999.0000,9,    209.3,2,  -999.0,9, -999.00,9, -999.00,9, -999.00,9, -999.00,9,-999.000,9,-999.000,9,-999.0000,9,  -999.0,9,  -999.0,9,-999.0000,9,  -999.00,9, -999.00,9,  -999.0,9, -999.00,9, -999.00,9,     -999.0,9, 20220530,      149,  29.9998,-179.0966,    22.1509,2,     -999.0,9,     -999.0,9,     -999.0,9,     -999.0,1,     0.0126,1,     4.6337,1,     -999.0,9,     -999.0,9,     -999.0,9
33RR20220430,        P02,      86,          1,         19,         19,2,20220530,       0119,    29.9998,  -179.0966,       5428,     4.8,2,  22.1095,2,  35.1633,2,-999.0000,9,    209.0,2,  -999.0,9, -999.00,9, -999.00,9, -999.00,9, -999.00,9,-999.000,9,-999.000,9,-999.0000,9,  -999.0,9,  -999.0,9,-999.0000,9,  -999.00,9, -999.00,9,  -999.0,9, -999.00,9, -999.00,9,     -999.0,9, 20220530,      149,  29.9998,-179.0966,    22.1293,2,     -999.0,9,     -999.0,9,     -999.0,9,     -999.0,1,     0.0129,1,     4.6345,1,     -999.0,9,     -999.0,9,     -999.0,9
33RR20220430,        P02,      86,          1,         11,         11,2,20220530,       0119,    29.9998,  -179.0966,       5428,     4.9,2,  21.8704,2,  35.1388,2,-999.0000,9,    209.9,2,  -999.0,9, -999.00,9, -999.00,9, -999.00,9, -999.00,9,-999.000,9,-999.000,9,-999.0000,9,  -999.0,9,  -999.0,9,-999.0000,9,  -999.00,9, -999.00,9,  -999.0,9, -999.00,9, -999.00,9,     -999.0,9, 20220530,      146,  29.9998,-179.0965,    21.9387,3,     -999.0,1,     -999.0,1,     -999.0,9,     -999.0,9,     0.0129,1,     4.6357,1,     -999.0,9,     -999.0,9,     -999.0,9
33RR20220430,        P02,      86,          1,          8,          8,2,20220530,       0119,    29.9998,  -179.0966,       5428,    44.5,2,  19.8439,2,  34.9713,2,-999.0000,9,    222.0,2,  -999.0,9, -999.00,9, -999.00,9, -999.00,9, -999.00,9,-999.000,9,-999.000,9,-999.0000,9,  -999.0,9,  -999.0,9,-999.0000,9,  -999.00,9, -999.00,9,  -999.0,9, -999.00,9, -999.00,9,     -999.0,9, 20220530,      143,  29.9998,-179.0966,    19.8428,2,     -999.0,9,     -999.0,9,     -999.0,9,     -999.0,9,     0.0143,1,     4.6336,1,     -999.0,1,     -999.0,9,     -999.0,1
33RR20220430,        P02,      86,          1,          7,          7,2,20220530,       0119,    29.9998,  -179.0966,       5428,    75.9,2,  18.2136,2,  34.8259,2,-999.0000,9,    218.6,2,  -999.0,9, -999.00,9, -999.00,9, -999.00,9, -999.00,9,-999.000,9,-999.000,9,-999.0000,9,  -999.0,9,  -999.0,9,-999.0000,9,  -999.00,9, -999.00,9,  -999.0,9, -999.00,9, -999.00,9,     -999.0,9, 20220530,      140,  29.9998,-179.0966,    18.2112,2,     -999.0,9,     -999.0,9,     -999.0,9,     -999.0,9,     0.0309,1,     4.5975,1,     -999.0,9,     -999.0,9,     -999.0,1
33RR20220430,        P02,      86,          1,          5,          5,2,20220530,       0119,    29.9998,  -179.0966,       5428,   104.6,2,  17.1161,2,  34.6816,2,-999.0000,9,    213.4,2,  -999.0,9, -999.00,9, -999.00,9, -999.00,9, -999.00,9,-999.000,9,-999.000,9,-999.0000,9,  -999.0,9,  -999.0,9,-999.0000,9,  -999.00,9, -999.00,9,  -999.0,9, -999.00,9, -999.00,9,     -999.0,9, 20220530,      138,  29.9998,-179.0966,    17.1128,2,     -999.0,9,     -999.0,9,     -999.0,9,     -999.0,9,     0.0354,1,     4.6291,1,     -999.0,9,     -999.0,1,     -999.0,9
33RR20220430,        P02,      86,          1,          6,          6,2,20220530,       0119,    29.9998,  -179.0966,       5428,   105.0,2,  17.1025,2,  34.6797,2,-999.0000,9,    214.2,2,  -999.0,9, -999.00,9, -999.00,9, -999.00,9, -999.00,9,-999.000,9,-999.000,9,-999.0000,9,  -999.0,9,  -999.0,9,-999.0000,9,  -999.00,9, -999.00,9,  -999.0,9, -999.00,9, -999.00,9,     -999.0,9, 20220530,      139,  29.9998,-179.0966,    17.1126,2,     -999.0,9,     -999.0,9,     -999.0,9,     -999.0,9,     0.0379,1,     4.6279,1,     -999.0,1,     -999.0,9,     -999.0,1
33RR20220430,        P02,      86,          1,          4,          4,2,20220530,       0119,    29.9998,  -179.0966,       5428,   154.6,2,  16.2893,2,  34.6279,2,-999.0000,9,    209.0,2,  -999.0,9, -999.00,9, -999.00,9, -999.00,9, -999.00,9,-999.000,9,-999.000,9,-999.0000,9,  -999.0,9,  -999.0,9,-999.0000,9,  -999.00,9, -999.00,9,  -999.0,9, -999.00,9, -999.00,9,     -999.0,9, 20220530,      136,  29.9998,-179.0966,    16.2895,2,     -999.0,9,     -999.0,9,     -999.0,9,     -999.0,9,     0.0134,1,     4.6814,1,     -999.0,9,     -999.0,9,     -999.0,1
33RR20220430,        P02,      86,          1,          3,          3,2,20220530,       0119,    29.9998,  -179.0966,       5428,   204.0,2,  15.6063,2,  34.5966,2,-999.0000,9,    200.0,2,  -999.0,9, -999.00,9, -999.00,9, -999.00,9, -999.00,9,-999.000,9,-999.000,9,-999.0000,9,  -999.0,9,  -999.0,9,-999.0000,9,  -999.00,9, -999.00,9,  -999.0,9, -999.00,9, -999.00,9,     -999.0,9, 20220530,      134,  29.9998,-179.0966,    15.6036,2,     -999.0,9,     -999.0,9,     -999.0,9,     -999.0,9,     0.0122,1,     4.6849,1,     -999.0,9,     -999.0,1,     -999.0,1
33RR20220430,        P02,      86,          1,          2,          2,2,20220530,       0119,    29.9998,  -179.0966,       5428,   507.2,2,   8.8539,2,  34.0810,2,-999.0000,9,    181.3,2,  -999.0,9, -999.00,9, -999.00,9, -999.00,9, -999.00,9,-999.000,9,-999.000,9,-999.0000,9,  -999.0,9,  -999.0,9,-999.0000,9,  -999.00,9, -999.00,9,  -999.0,9, -999.00,9, -999.00,9,     -999.0,9, 20220530,      128,  29.9998,-179.0966,     8.8695,2,     -999.0,9,     -999.0,9,     -999.0,9,     -999.0,9,     0.0122,1,     4.6965,1,     -999.0,9,     -999.0,9,     -999.0,1
33RR20220430,        P02,      86,          1,          1,          1,2,20220530,       0119,    29.9998,  -179.0966,       5428,  1011.0,2,   3.7189,2,  34.2976,2,-999.0000,9,     27.8,2,  -999.0,9, -999.00,9, -999.00,9, -999.00,9, -999.00,9,-999.000,9,-999.000,9,-999.0000,9,  -999.0,9,  -999.0,9,-999.0000,9,  -999.00,9, -999.00,9,  -999.0,9, -999.00,9, -999.00,9,     -999.0,9, 20220530,      119,  29.9998,-179.0966,     3.7225,2,     -999.0,9,     -999.0,9,     -999.0,9,     -999.0,9,     0.0134,1,     4.7007,1,     -999.0,9,     -999.0,1,     -999.0,1