BOTTLE,20230801CCHSIOCBG
EXPOCODE,SECT_ID,STNNBR,CASTNO,SAMPNO,BTLNBR,BTLNBR_FLAG_W,DATE,TIME,LATITUDE,LONGITUDE,DEPTH,CTDPRS,CTDPRS_FLAG_W,CTDTMP,CTDTMP_FLAG_W,CTDSAL,CTDSAL_FLAG_W,SALNTY,SALNTY_FLAG_W,CTDOXY,CTDOXY_FLAG_W,OXYGEN,OXYGEN_FLAG_W,SILCAT,SILCAT_FLAG_W,NITRAT,NITRAT_FLAG_W,NITRIT,NITRIT_FLAG_W,PHSPHT,PHSPHT_FLAG_W,CFC-11,CFC-11_FLAG_W,CFC-12,CFC-12_FLAG_W,SF6,SF6_FLAG_W,TCARBN,TCARBN_FLAG_W,ALKALI,ALKALI_FLAG_W,PH_TOT,PH_TOT_FLAG_W,PH_TMP,PH_TMP_FLAG_W,DELC13,DELC13_FLAG_W,DELC14,DELC14_FLAG_W,DOC,DOC_FLAG_W,TDN,TDN_FLAG_W,N2O,N2O_FLAG_W,BTL_DATE,BTL_TIME,BTL_LAT,BTL_LON,REFTMP,REFTMP_FLAG_W,POC,POC_FLAG_W,PON,PON_FLAG_W,POP,POP_FLAG_W,PCOD,PCOD_FLAG_W,CTDFLUOR,CTDFLUOR_FLAG_W,CTDXMISS,CTDXMISS_FLAG_W,HPLC,HPLC_FLAG_W,DNA,DNA_FLAG_W,FCM,FCM_FLAG_W
,,,,,,,,,,,METERS,DBAR,,ITS-90,,PSS-78,,PSS-78,,UMOL/KG,,UMOL/KG,,UMOL/KG,,UMOL/KG,,UMOL/KG,,UMOL/KG,,PMOL/KG,,PMOL/KG,,FMOL/KG,,UMOL/KG,,UMOL/KG,,,,DEG C,,/MILLE,,/MILLE,,UMOL/KG,,UMOL/KG,,NMOL/KG,,,,,,ITS-90,,UG/L,,UG/L,,UG/L,,UG/L,,VOLTS,,VOLTS,,,,,,,
33RR20220430,        P02,      81,          1,         36,         36,2,20220528,       1619,    30.0000,   178.0167,       5338,     5.2,2,  21.0610,2,  35.0655,2,  35.0504,2,    224.9,2,   226.1,2,    1.56,2,    0.01,2,    0.00,2,    0.01,2,   1.811,2,   1.193,2,   2.0488,2,  2030.0,6,  2301.7,2,   7.9948,2,    25.00,2, -999.00,9,  -999.0,9, -999.00,9, -999.00,9,        7.6,2, 20220528,     1827,  30.0000, 178.0167,    21.0595,2,     -999.0,9,     -999.0,9,     -999.0,9,     -999.0,9,     0.0134,1,     4.6243,1,     -999.0,9,     -999.0,9,     -999.0,9
33RR20220430,        P02,      81,          1,         35,         35,2,20220528,       1619,    30.0000,   178.0167,       5338,    26.5,2,  20.5742,2,  35.0592,3,  35.0388,2,    230.4,2,   231.2,2,    1.66,2,    0.00,2,    0.00,2,    0.01,2,   1.869,2,   1.241,2,   2.0469,2,  2030.4,2,  2298.9,2,   7.9959,2,    24.98,2, -999.00,9,  -999.0,9, -999.00,9, -999.00,9,        7.8,2, 20220528,     1825,  30.0000, 178.0167,    20.5540,2,     -999.0,9,     -999.0,9,     -999.0,9,     -999.0,9,     0.0153,1,     4.6290,1,     -999.0,9,     -999.0,9,     -999.0,9
33RR20220430,        P02,      81,          1,         34,         34,2,20220528,       1619,    30.0000,   178.0167,       5338,    51.9,2,  19.2772,2,  34.9477,2,  34.9337,2,    237.2,2,   236.1,2,    1.86,2,    0.00,2,    0.00,2,    0.00,2,   1.972,2,   1.268,2,   2.2342,2,  2025.0,2,  2293.7,2,   7.9920,2,    24.99,2, -999.00,9,  -999.0,9, -999.00,9, -999.00,9,        8.2,2, 20220528,     1823,  30.0000, 178.0167,    19.2738,2,     -999.0,9,     -999.0,9,     -999.0,9,     -999.0,9,     0.0171,1,     4.6376,1,     -999.0,9,     -999.0,9,     -999.0,9
33RR20220430,        P02,      81,          1,         33,         33,2,20220528,       1619,    30.0000,   178.0167,       5338,    77.1,2,  17.8724,2,  34.7826,2,  34.7659,2,    232.2,2,   230.3,2,    2.25,2,    0.39,2,    0.10,2,    0.08,2,   2.009,2,   1.366,2,   2.3026,2,  2033.3,2,  2282.7,2,   7.9632,2,    24.98,2, -999.00,9,  -999.0,9, -999.00,9, -999.00,9,        8.8,2, 20220528,     1821,  30.0000, 178.0167,    17.8761,2,     -999.0,9,     -999.0,9,     -999.0,9,     -999.0,9,     0.0416,1,     4.6251,1,     -999.0,9,     -999.0,9,     -999.0,9
33RR20220430,        P02,      81,          1,         32,         32,2,20220528,       1619,    30.0000,   178.0167,       5338,   102.2,2,  17.2056,2,  34.7045,2,  34.6899,2,    224.5,2,   225.1,2,    3.03,2,    1.92,2,    0.24,2,    0.16,2,   2.058,2,   1.375,2,   2.1833,2,  2039.0,2,  2278.1,2,   7.9436,2,    25.00,2, -999.00,9,  -999.0,9, -999.00,9, -999.00,9,       10.0,2, 20220528,     1820,  30.0000, 178.0167,    17.2023,2,     -999.0,9,     -999.0,9,     -999.0,9,     -999.0,9,     0.0262,1,     4.6483,1,     -999.0,9,     -999.0,9,     -999.0,9
33RR20220430,        P02,      81,          1,         31,         31,2,20220528,       1619,    30.0000,   178.0167,       5338,   151.9,2,  16.5077,2,  34.6586,2,  34.6455,2,    216.3,2,   215.2,2,    4.00,2,    4.29,2,    0.02,2,    0.29,2,   2.149,2,   1.389,2,   2.1368,2,  2051.8,2,  2275.8,2,   7.9147,2,    25.00,2, -999.00,9,  -999.0,9, -999.00,9, -999.00,9,        9.9,2, 20220528,     1818,  30.0000, 178.0167,    16.5045,2,     -999.0,9,     -999.0,9,     -999.0,9,     -999.0,9,     0.0168,1,     4.6689,1,     -999.0,9,     -999.0,9,     -999.0,9
33RR20220430,        P02,      81,          1,         30,         30,2,20220528,       1619,    30.0000,   178.0167,       5338,   202.2,2,  16.0052,2,  34.6264,2,  34.6172,2,    214.3,2,   214.1,2,    4.98,2,    5.23,2,    0.00,2,    0.35,2,   2.226,2,   1.417,2,   2.2899,2,  -999.0,9,  -999.0,9,-999.0000,9,  -999.00,9, -999.00,9,  -999.0,9, -999.00,9, -999.00,9,       10.5,2, 20220528,     1816,  30.0000, 178.0167,    16.0069,2,     -999.0,9,     -999.0,9,     -999.0,9,     -999.0,9,     0.0134,1,     4.6762,1,     -999.0,9,     -999.0,9,     -999.0,9
33RR20220430,        P02,      81,          1,         29,         29,2,20220528,       1619,    30.0000,   178.0167,       5338,   252.8,2,  15.1233,2,  34.5704,2,  34.5537,2,    208.6,2,   208.6,2,    8.01,2,    7.64,2,    0.00,2,    0.49,2,   2.253,2,   1.458,2,   2.0101,2,  2071.3,2,  2271.9,2,   7.8709,2,    24.99,2, -999.00,9,  -999.0,9, -999.00,9, -999.00,9,       11.7,2, 20220528,     1814,  30.0000, 178.0167,    15.1222,2,     -999.0,9,     -999.0,9,     -999.0,9,     -999.0,9,     0.0122,1,     4.6807,1,     -999.0,9,     -999.0,9,     -999.0,9
33RR20220430,        P02,      81,          1,         28,         28,2,20220528,       1619,    30.0000,   178.0167,       5338,   303.4,2,  13.6713,2,  34.4592,2,  34.4504,2,    207.1,2,   207.7,2,   10.65,2,    9.78,2,    0.00,2,    0.63,2,   2.380,2,   1.516,2,   2.0588,2,  2084.8,2,  2271.8,2,   7.8328,2,    25.00,2, -999.00,9,  -999.0,9, -999.00,9, -999.00,9,       13.2,2, 20220528,     1812,  30.0000, 178.0167,    13.6729,2,     -999.0,9,     -999.0,9,     -999.0,9,     -999.0,9,     0.0122,1,     4.6845,1,     -999.0,9,     -999.0,9,     -999.0,9
33RR20220430,        P02,      81,          1,         27,         27,2,20220528,       1619,    30.0000,   178.0167,       5338,   353.1,2,  12.6119,2,  34.3756,2,  34.3601,2,    207.9,2,   208.7,2,   13.38,2,   11.70,2,    0.00,2,    0.76,2,   2.497,6,   1.591,6,   2.1160,6,  -999.0,9,  -999.0,9,-999.0000,9,  -999.00,9, -999.00,9,  -999.0,9, -999.00,9, -999.00,9,       14.2,6, 20220528,     1810,  30.0000, 178.0167,    12.6151,2,     -999.0,9,     -999.0,9,     -999.0,9,     -999.0,9,     0.0122,1,     4.6861,1,     -999.0,9,     -999.0,9,     -999.0,9
33RR20220430,        P02,      81,          1,         26,         26,2,20220528,       1619,    30.0000,   178.0167,       5338,   404.2,2,  11.4889,2,  34.2831,2,  34.2748,2,    208.2,2,   208.2,2,   16.71,2,   13.58,2,    0.00,2,    0.91,2,   2.578,2,   1.621,2,   2.0771,2,  2111.1,2,  2267.4,2,   7.7731,2,    24.98,2, -999.00,9,  -999.0,9, -999.00,9, -999.00,9,       15.3,2, 20220528,     1808,  30.0000, 178.0167,    11.4849,2,     -999.0,9,     -999.0,9,     -999.0,9,     -999.0,9,     0.0122,1,     4.6885,1,     -999.0,9,     -999.0,9,     -999.0,9
33RR20220430,        P02,      81,          1,         25,         25,2,20220528,       1619,    30.0000,   178.0167,       5338,   505.3,2,   9.4643,2,  34.1276,2,  34.1213,2,    189.4,2,   189.0,2,   26.67,2,   19.05,2,    0.00,2,    1.29,2,   2.666,2,   1.660,2,   1.7426,2,  2144.2,2,  2266.4,2,   7.6883,2,    24.99,2, -999.00,9,  -999.0,9, -999.00,9, -999.00,9,       19.8,2, 20220528,     1806,  30.0000, 178.0167,     9.4655,2,     -999.0,9,     -999.0,9,     -999.0,9,     -999.0,9,     0.0123,1,     4.6911,1,     -999.0,9,     -999.0,9,     -999.0,9
33RR20220430,        P02,      81,          1,         24,         24,2,20220528,       1619,    30.0000,   178.0167,       5338,   606.0,2,   7.3950,2,  34.0382,2,  34.0313,2,    147.4,3,   143.8,2,   47.78,2,   27.37,2,    0.00,2,    1.89,2,   2.305,2,   1.407,2,   1.2350,2,  2204.1,2,  2285.3,2,   7.5561,2,    25.00,2, -999.00,9,  -999.0,9, -999.00,9, -999.00,9,       27.6,2, 20220528,     1803,  30.0000, 178.0167,     7.3974,2,     -999.0,9,     -999.0,9,     -999.0,9,     -999.0,9,     0.0129,1,     4.6922,1,     -999.0,9,     -999.0,9,     -999.0,9
33RR20220430,        P02,      81,          1,         23,         23,2,20220528,       1619,    30.0000,   178.0167,       5338,   707.5,2,   5.5981,2,  34.0660,2,  34.0639,2,     91.7,2,    92.6,2,   73.58,2,   34.98,2,    0.00,2,    2.44,2,   1.496,2,   0.940,2,   0.7236,2,  2264.2,2,  2308.2,2,   7.4329,2,    24.97,2, -999.00,9,  -999.0,9, -999.00,9, -999.00,9,       37.7,2, 20220528,     1800,  30.0000, 178.0167,     5.6095,2,     -999.0,9,     -999.0,9,     -999.0,9,     -999.0,9,     0.0127,1,     4.6934,1,     -999.0,9,     -999.0,9,     -999.0,9
33RR20220430,        P02,      81,          1,         22,         22,2,20220528,       1619,    30.0000,   178.0167,       5338,   808.1,2,   4.8445,2,  34.1382,2,  34.1368,2,     61.2,2,    61.4,2,   90.67,2,   38.84,2,    0.00,2,    2.73,2,   0.917,2,   0.552,2,   0.3317,2,  -999.0,9,  -999.0,9,-999.0000,9,  -999.00,9, -999.00,9,  -999.0,9, -999.00,9, -999.00,9,       44.7,2, 20220528,     1758,  30.0000, 178.0167,     4.8429,2,     -999.0,9,     -999.0,9,     -999.0,9,     -999.0,9,     0.0134,1,     4.6939,1,     -999.0,9,     -999.0,9,     -999.0,9
33RR20220430,        P02,      81,          1,         21,         21,2,20220528,       1619,    30.0000,   178.0167,       5338,   908.5,2,   4.2081,2,  34.2281,2,  34.2258,2,     41.2,2,    41.1,2,  106.50,2,   41.40,2,    0.00,2,    2.91,2,   0.454,2,   0.272,2,   0.0739,2,  2329.7,2,  2338.1,2,   7.3425,2,    25.08,2, -999.00,9,  -999.0,9, -999.00,9, -999.00,9,       49.8,2, 20220528,     1755,  30.0000, 178.0167,     4.2118,2,     -999.0,9,     -999.0,9,     -999.0,9,     -999.0,9,     0.0134,1,     4.6944,1,     -999.0,9,     -999.0,9,     -999.0,9
33RR20220430,        P02,      81,          1,         20,         20,2,20220528,       1619,    30.0000,   178.0167,       5338,  1010.1,2,   3.8473,2,  34.2935,2,  34.2932,2,     33.1,3,    34.3,2,  116.85,2,   42.49,2,    0.00,2,    3.00,2,   0.246,2,   0.147,2,   0.0000,2,  2347.0,2,  2351.5,2,   7.3331,2,    25.00,2, -999.00,9,  -999.0,9, -999.00,9, -999.00,9,       52.5,2, 20220528,     1752,  30.0000, 178.0167,     3.8449,2,     -999.0,9,     -999.0,9,     -999.0,9,     -999.0,9,     0.0133,1,     4.6947,1,     -999.0,9,     -999.0,9,     -999.0,9
33RR20220430,        P02,      81,          1,         19,         19,2,20220528,       1619,    30.0000,   178.0167,       5338,  1110.3,2,   3.5204,2,  34.3600,2,  34.3594,2,     30.4,2,    30.5,2,  126.90,2,   43.11,2,    0.00,2,    3.05,2,   0.118,2,   0.066,2,   0.0000,2,  2360.1,2,  2365.7,2,   7.3338,2,    24.98,2, -999.00,9,  -999.0,9, -999.00,9, -999.00,9,       53.1,2, 20220528,     1750,  30.0000, 178.0167,     3.5198,2,     -999.0,9,     -999.0,9,     -999.0,9,     -999.0,9,     0.0133,1,     4.6947,1,     -999.0,9,     -999.0,9,     -999.0,9
33RR20220430,        P02,      81,          1,         18,         18,2,20220528,       1619,    30.0000,   178.0167,       5338,  1212.8,2,   3.2459,2,  34.4162,2,  34.4139,2,     32.2,3,    31.7,2,  134.13,2,   43.18,2,    0.00,2,    3.06,2,   0.048,2,   0.032,2,   0.0000,2,  2366.9,2,  2375.5,2,   7.3420,2,    24.98,2, -999.00,9,  -999.0,9, -999.00,9, -999.00,9,       52.6,2, 20220528,     1747,  30.0000, 178.0167,     3.2457,2,     -999.0,9,     -999.0,9,     -999.0,9,     -999.0,9,     0.0133,1,     4.6949,1,     -999.0,9,     -999.0,9,     -999.0,9
33RR20220430,        P02,      81,          1,         17,         17,2,20220528,       1619,    30.0000,   178.0167,       5338,  1314.1,2,   2.9915,2,  34.4611,2,  34.4614,2,     36.4,3,    36.9,2,  140.67,2,   43.07,2,    0.00,2,    3.04,2,   0.024,2,   0.015,2,   0.0000,2,  2370.7,2,  2386.1,2,   7.3545,2,    24.99,2, -999.00,9,  -999.0,9, -999.00,9, -999.00,9,       50.0,2, 20220528,     1744,  30.0000, 178.0167,     2.9933,2,     -999.0,9,     -999.0,9,     -999.0,9,     -999.0,9,     0.0134,1,     4.6957,1,     -999.0,9,     -999.0,9,     -999.0,9
33RR20220430,        P02,      81,          1,         16,         16,2,20220528,       1619,    30.0000,   178.0167,       5338,  1416.8,2,   2.7966,2,  34.4917,2,  34.4907,2,     41.1,3,    40.1,2,  145.45,2,   42.93,2,    0.00,2,    3.02,2,   0.018,2,   0.010,2,   0.0000,2,  -999.0,9,  -999.0,9,-999.0000,9,  -999.00,9, -999.00,9,  -999.0,9, -999.00,9, -999.00,9,       47.8,2, 20220528,     1741,  30.0000, 178.0167,     2.7988,2,     -999.0,9,     -999.0,9,     -999.0,9,     -999.0,9,     0.0133,1,     4.6958,1,     -999.0,9,     -999.0,9,     -999.0,9
33RR20220430,        P02,      81,          1,         15,         15,2,20220528,       1619,    30.0000,   178.0167,       5338,  1617.5,2,   2.4829,2,  34.5371,2,  34.5370,2,     52.4,3,    51.4,2,  153.36,2,   42.29,2,    0.00,2,    2.98,2,-999.000,9,-999.000,9,-999.0000,9,  2374.3,2,  2400.8,2,   7.3881,2,    24.99,2, -999.00,9,  -999.0,9, -999.00,9, -999.00,9,     -999.0,9, 20220528,     1737,  30.0000, 178.0167,     2.4821,2,     -999.0,9,     -999.0,9,     -999.0,9,     -999.0,9,     0.0134,1,     4.6964,1,     -999.0,9,     -999.0,9,     -999.0,9
33RR20220430,        P02,      81,          1,         14,         14,2,20220528,       1619,    30.0000,   178.0167,       5338,  1820.2,2,   2.1934,2,  34.5722,2,  34.5726,2,     63.7,2,    64.3,2,  160.19,2,   41.58,2,    0.00,2,    2.91,2,   0.007,2,   0.000,2,   0.0000,2,  -999.0,9,  -999.0,9,-999.0000,9,  -999.00,9, -999.00,9,  -999.0,9, -999.00,9, -999.00,9,       37.9,2, 20220528,     1732,  30.0000, 178.0167,     2.1922,2,     -999.0,9,     -999.0,9,     -999.0,9,     -999.0,9,     0.0132,1,     4.6970,1,     -999.0,9,     -999.0,9,     -999.0,9
33RR20220430,        P02,      81,          1,         13,         13,2,20220528,       1619,    30.0000,   178.0167,       5338,  2023.5,2,   1.9687,2,  34.6004,2,  34.6009,2,     77.2,2,    77.0,2,  162.63,2,   40.75,2,    0.00,2,    2.85,2,-999.000,9,-999.000,9,-999.0000,9,  2368.0,2,  2413.1,2,   7.4377,2,    25.01,2, -999.00,9,  -999.0,9, -999.00,9, -999.00,9,     -999.0,9, 20220528,     1728,  30.0000, 178.0167,     1.9686,2,     -999.0,9,     -999.0,9,     -999.0,9,     -999.0,9,     0.0134,1,     4.6971,1,     -999.0,9,     -999.0,9,     -999.0,9
33RR20220430,        P02,      81,          1,         12,         12,2,20220528,       1619,    30.0000,   178.0167,       5338,  2277.5,2,   1.8023,2,  34.6226,2,  34.6221,2,     91.1,2,    91.3,2,  164.38,2,   39.82,2,    0.00,2,    2.78,2,   0.005,2,   0.000,2,   0.0000,2,  -999.0,9,  -999.0,9,-999.0000,9,  -999.00,9, -999.00,9,  -999.0,9, -999.00,9, -999.00,9,       30.8,2, 20220528,     1723,  30.0000, 178.0167,     1.8017,2,     -999.0,9,     -999.0,9,     -999.0,9,     -999.0,9,     0.0123,1,     4.6969,1,     -999.0,9,     -999.0,9,     -999.0,9
33RR20220430,        P02,      81,          1,         11,         11,2,20220528,       1619,    30.0000,   178.0167,       5338,  2531.3,2,   1.6783,2,  34.6399,2,  34.6403,2,    105.1,2,   105.5,2,  163.31,2,   38.87,2,    0.00,2,    2.72,2,-999.000,9,-999.000,9,-999.0000,9,  2355.5,2,  2415.3,2,   7.4902,2,    25.02,2, -999.00,9,  -999.0,9, -999.00,9, -999.00,9,     -999.0,9, 20220528,     1718,  30.0000, 178.0167,     1.6792,2,     -999.0,9,     -999.0,9,     -999.0,9,     -999.0,9,     0.0122,1,     4.6983,1,     -999.0,9,     -999.0,9,     -999.0,9
33RR20220430,        P02,      81,          1,         10,         10,2,20220528,       1619,    30.0000,   178.0167,       5338,  2790.4,2,   1.5878,2,  34.6533,2,  34.6531,2,    117.6,2,   117.8,2,  161.94,2,   38.09,2,    0.00,2,    2.66,2,   0.004,2,   0.000,2,   0.0000,2,  -999.0,9,  -999.0,9,-999.0000,9,  -999.00,9, -999.00,9,  -999.0,9, -999.00,9, -999.00,9,       26.0,2, 20220528,     1712,  30.0000, 178.0167,     1.5868,2,     -999.0,9,     -999.0,9,     -999.0,9,     -999.0,9,     0.0134,1,     4.6983,1,     -999.0,9,     -999.0,9,     -999.0,9
33RR20220430,        P02,      81,          1,          9,          9,2,20220528,       1619,    30.0000,   178.0167,       5338,  3045.3,2,   1.5375,2,  34.6622,2,  34.6624,2,    126.7,2,   127.1,2,  159.89,2,   37.50,2,    0.00,2,    2.61,2,-999.000,9,-999.000,9,-999.0000,9,  2342.6,2,  2418.1,2,   7.5286,2,    25.01,2, -999.00,9,  -999.0,9, -999.00,9, -999.00,9,     -999.0,9, 20220528,     1707,  30.0000, 178.0167,     1.5371,2,     -999.0,9,     -999.0,9,     -999.0,9,     -999.0,9,     0.0129,1,     4.6987,1,     -999.0,9,     -999.0,9,     -999.0,9
33RR20220430,        P02,      81,          1,          8,          8,2,20220528,       1619,    30.0000,   178.0167,       5338,  3350.9,2,   1.4956,2,  34.6706,2,  34.6692,2,    136.0,2,   135.8,2,  158.71,2,   36.86,2,    0.00,2,    2.56,2,-999.000,9,-999.000,9,-999.0000,9,  -999.0,9,  -999.0,9,-999.0000,9,  -999.00,9, -999.00,9,  -999.0,9, -999.00,9, -999.00,9,     -999.0,9, 20220528,     1701,  30.0000, 178.0167,     1.4954,2,     -999.0,9,     -999.0,9,     -999.0,9,     -999.0,9,     0.0122,1,     4.6995,1,     -999.0,9,     -999.0,9,     -999.0,9
33RR20220430,        P02,      81,          1,          7,          7,2,20220528,       1619,    30.0000,   178.0167,       5338,  3659.2,2,   1.4715,2,  34.6766,2,  34.6777,2,    142.9,2,   142.8,2,  156.56,2,   36.43,2,    0.00,2,    2.52,2,   0.006,2,   0.000,2,   0.0000,2,  2331.9,2,  2417.7,2,   7.5587,2,    25.02,2, -999.00,9,  -999.0,9, -999.00,9, -999.00,9,       22.7,2, 20220528,     1655,  30.0000, 178.0167,     1.4713,2,     -999.0,9,     -999.0,9,     -999.0,9,     -999.0,9,     0.0122,1,     4.6995,1,     -999.0,9,     -999.0,9,     -999.0,9
33RR20220430,        P02,      81,          1,          6,          6,2,20220528,       1619,    30.0000,   178.0167,       5338,  3965.4,2,   1.4658,2,  34.6810,2,  34.6800,2,    148.0,2,   148.2,2,  155.00,2,   36.12,2,    0.00,2,    2.50,2,-999.000,9,-999.000,9,-999.0000,9,  2325.5,2,  2419.0,2,   7.5672,2,    25.01,2, -999.00,9,  -999.0,9, -999.00,9, -999.00,9,     -999.0,9, 20220528,     1649,  30.0000, 178.0167,     1.4657,2,     -999.0,9,     -999.0,9,     -999.0,9,     -999.0,9,     0.0132,1,     4.6995,1,     -999.0,9,     -999.0,9,     -999.0,9
33RR20220430,        P02,      81,          1,          5,          5,4,20220528,       1619,    30.0000,   178.0167,       5338,  4272.5,3,   1.4712,3,  34.6840,3,  34.6773,3,    151.8,3,   146.1,3,  155.59,3,   36.29,3,    0.00,3,    2.52,3,-999.000,9,-999.000,9,-999.0000,9,  2329.2,3,  2419.7,3,   7.5648,3,    25.01,3, -999.00,9,  -999.0,9, -999.00,9, -999.00,9,     -999.0,9, 20220528,     1643,  30.0000, 178.0167,     1.4712,3,     -999.0,9,     -999.0,9,     -999.0,9,     -999.0,9,     0.0122,1,     4.6996,1,     -999.0,9,     -999.0,9,     -999.0,9
33RR20220430,        P02,      81,          1,          4,          4,2,20220528,       1619,    30.0000,   178.0167,       5338,  4580.9,2,   1.4779,2,  34.6869,2,  34.6849,2,    156.4,2,   156.2,2,  150.70,2,   35.55,2,    0.00,2,    2.46,2,   0.007,2,   0.000,2,   0.0000,2,  -999.0,9,  -999.0,9,-999.0000,9,  -999.00,9, -999.00,9,  -999.0,9, -999.00,9, -999.00,9,       21.6,2, 20220528,     1636,  30.0000, 178.0167,     1.4778,2,     -999.0,9,     -999.0,9,     -999.0,9,     -999.0,9,     0.0122,1,     4.6995,1,     -999.0,9,     -999.0,9,     -999.0,9