BOTTLE,20230801CCHSIOCBG
EXPOCODE,SECT_ID,STNNBR,CASTNO,SAMPNO,BTLNBR,BTLNBR_FLAG_W,DATE,TIME,LATITUDE,LONGITUDE,DEPTH,CTDPRS,CTDPRS_FLAG_W,CTDTMP,CTDTMP_FLAG_W,CTDSAL,CTDSAL_FLAG_W,SALNTY,SALNTY_FLAG_W,CTDOXY,CTDOXY_FLAG_W,OXYGEN,OXYGEN_FLAG_W,SILCAT,SILCAT_FLAG_W,NITRAT,NITRAT_FLAG_W,NITRIT,NITRIT_FLAG_W,PHSPHT,PHSPHT_FLAG_W,CFC-11,CFC-11_FLAG_W,CFC-12,CFC-12_FLAG_W,SF6,SF6_FLAG_W,TCARBN,TCARBN_FLAG_W,ALKALI,ALKALI_FLAG_W,PH_TOT,PH_TOT_FLAG_W,PH_TMP,PH_TMP_FLAG_W,DELC13,DELC13_FLAG_W,DELC14,DELC14_FLAG_W,DOC,DOC_FLAG_W,TDN,TDN_FLAG_W,N2O,N2O_FLAG_W,BTL_DATE,BTL_TIME,BTL_LAT,BTL_LON,REFTMP,REFTMP_FLAG_W,POC,POC_FLAG_W,PON,PON_FLAG_W,POP,POP_FLAG_W,PCOD,PCOD_FLAG_W,CTDFLUOR,CTDFLUOR_FLAG_W,CTDXMISS,CTDXMISS_FLAG_W,HPLC,HPLC_FLAG_W,DNA,DNA_FLAG_W,FCM,FCM_FLAG_W
,,,,,,,,,,,METERS,DBAR,,ITS-90,,PSS-78,,PSS-78,,UMOL/KG,,UMOL/KG,,UMOL/KG,,UMOL/KG,,UMOL/KG,,UMOL/KG,,PMOL/KG,,PMOL/KG,,FMOL/KG,,UMOL/KG,,UMOL/KG,,,,DEG C,,/MILLE,,/MILLE,,UMOL/KG,,UMOL/KG,,NMOL/KG,,,,,,ITS-90,,UG/L,,UG/L,,UG/L,,UG/L,,VOLTS,,VOLTS,,,,,,,
33RR20220430,        P02,      59,          2,          3,          3,2,20220522,       0250,    30.0000,   166.2578,       5904,  5095.4,2,   1.4912,2,  34.6923,2,  34.6932,2,    167.3,2,   167.3,2,  140.08,2,   34.80,2,    0.00,2,    2.40,2,   0.005,2,   0.000,2,   0.0000,2,  2310.2,2,  2406.6,2,   7.5910,2,    25.01,2, -999.00,9,  -999.0,9, -999.00,1, -999.00,1,       20.1,2, 20220522,      310,  30.0000, 166.2579,     1.4913,2,     -999.0,9,     -999.0,9,     -999.0,9,     -999.0,9,     0.0122,1,     4.7092,1,     -999.0,9,     -999.0,9,     -999.0,9
33RR20220430,        P02,      59,          2,          2,          2,2,20220522,       0250,    30.0000,   166.2578,       5904,  5612.0,2,   1.5215,2,  34.6949,2,  34.6952,2,    172.1,2,   172.2,2,  137.44,2,   34.45,2,    0.00,2,    2.37,2,   0.006,2,   0.000,2,   0.0000,2,  2305.3,2,  2401.9,2,   7.5964,2,    25.00,2, -999.00,9,  -999.0,9, -999.00,9, -999.00,9,       19.9,2, 20220522,      301,  30.0000, 166.2579,     1.5216,2,     -999.0,9,     -999.0,9,     -999.0,9,     -999.0,9,     0.0122,1,     4.7071,1,     -999.0,9,     -999.0,9,     -999.0,9
33RR20220430,        P02,      59,          2,          1,          1,2,20220522,       0250,    30.0000,   166.2578,       5904,  6016.5,2,   1.5555,2,  34.6962,3,  34.6983,2,    175.1,2,   175.1,2,  134.61,2,   34.36,2,    0.00,2,    2.35,2,   0.008,2,   0.000,2,   0.0000,2,  2302.9,6,  -999.0,1,   7.5992,2,    24.99,2, -999.00,9,  -999.0,9, -999.00,1, -999.00,1,       20.0,2, 20220522,      250,  30.0000, 166.2579,     1.5552,2,     -999.0,9,     -999.0,9,     -999.0,9,     -999.0,9,     0.0122,1,     4.7055,1,     -999.0,9,     -999.0,9,     -999.0,9