BOTTLE,20230801CCHSIOCBG
EXPOCODE,SECT_ID,STNNBR,CASTNO,SAMPNO,BTLNBR,BTLNBR_FLAG_W,DATE,TIME,LATITUDE,LONGITUDE,DEPTH,CTDPRS,CTDPRS_FLAG_W,CTDTMP,CTDTMP_FLAG_W,CTDSAL,CTDSAL_FLAG_W,SALNTY,SALNTY_FLAG_W,CTDOXY,CTDOXY_FLAG_W,OXYGEN,OXYGEN_FLAG_W,SILCAT,SILCAT_FLAG_W,NITRAT,NITRAT_FLAG_W,NITRIT,NITRIT_FLAG_W,PHSPHT,PHSPHT_FLAG_W,CFC-11,CFC-11_FLAG_W,CFC-12,CFC-12_FLAG_W,SF6,SF6_FLAG_W,TCARBN,TCARBN_FLAG_W,ALKALI,ALKALI_FLAG_W,PH_TOT,PH_TOT_FLAG_W,PH_TMP,PH_TMP_FLAG_W,DELC13,DELC13_FLAG_W,DELC14,DELC14_FLAG_W,DOC,DOC_FLAG_W,TDN,TDN_FLAG_W,N2O,N2O_FLAG_W,BTL_DATE,BTL_TIME,BTL_LAT,BTL_LON,REFTMP,REFTMP_FLAG_W,POC,POC_FLAG_W,PON,PON_FLAG_W,POP,POP_FLAG_W,PCOD,PCOD_FLAG_W,CTDFLUOR,CTDFLUOR_FLAG_W,CTDXMISS,CTDXMISS_FLAG_W,HPLC,HPLC_FLAG_W,DNA,DNA_FLAG_W,FCM,FCM_FLAG_W
,,,,,,,,,,,METERS,DBAR,,ITS-90,,PSS-78,,PSS-78,,UMOL/KG,,UMOL/KG,,UMOL/KG,,UMOL/KG,,UMOL/KG,,UMOL/KG,,PMOL/KG,,PMOL/KG,,FMOL/KG,,UMOL/KG,,UMOL/KG,,,,DEG C,,/MILLE,,/MILLE,,UMOL/KG,,UMOL/KG,,NMOL/KG,,,,,,ITS-90,,UG/L,,UG/L,,UG/L,,UG/L,,VOLTS,,VOLTS,,,,,,,
33RR20220430,        P02,      80,          2,         36,         36,2,20220528,       0943,    29.9996,   177.4402,       5252,     8.7,2,  21.0540,2,  35.0180,2,  35.0020,2,    228.6,2,   227.7,2,    1.66,2,    0.01,2,    0.00,2,    0.00,2,   1.795,2,   1.189,2,   2.1119,2,  2025.1,6,  2299.9,2,   7.9982,2,    25.01,2, -999.00,1,  -999.0,1, -999.00,1, -999.00,1,        7.6,2, 20220528,     1149,  29.9996, 177.4402,    21.0684,2,     -999.0,9,     -999.0,9,     -999.0,9,     -999.0,9,     0.0159,1,     4.6125,1,     -999.0,9,     -999.0,9,     -999.0,9
33RR20220430,        P02,      80,          2,         35,         35,2,20220528,       0943,    29.9996,   177.4402,       5252,    21.6,2,  20.6266,2,  35.0099,3,  34.9852,2,    230.9,2,   231.9,2,    1.76,2,    0.00,2,    0.00,2,    0.00,2,   1.819,2,   1.228,2,   2.2203,2,  2022.5,2,  2311.7,2,   7.9975,2,    25.01,2, -999.00,1,  -999.0,1, -999.00,1, -999.00,1,        7.7,2, 20220528,     1147,  29.9996, 177.4402,    20.6605,2,     -999.0,9,     -999.0,9,     -999.0,9,     -999.0,9,     0.0171,1,     4.6151,1,     -999.0,9,     -999.0,9,     -999.0,9
33RR20220430,        P02,      80,          2,         34,         34,2,20220528,       0943,    29.9996,   177.4402,       5252,    38.6,2,  18.7488,2,  34.7752,2,  34.7577,2,    245.5,2,   246.3,2,    2.15,2,    0.00,2,    0.00,2,    0.01,2,   2.039,2,   1.306,2,   2.2936,2,  2018.8,2,  2283.1,2,   7.9874,2,    24.99,2, -999.00,1,  -999.0,1, -999.00,1, -999.00,1,        8.2,2, 20220528,     1146,  29.9996, 177.4402,    18.7492,2,     -999.0,9,     -999.0,9,     -999.0,9,     -999.0,9,     0.0171,1,     4.6184,1,     -999.0,9,     -999.0,9,     -999.0,9
33RR20220430,        P02,      80,          2,         33,         33,2,20220528,       0943,    29.9996,   177.4402,       5252,    66.5,2,  17.4241,2,  34.6644,2,  34.6502,2,    249.3,2,   249.9,2,    2.54,2,    0.00,2,    0.00,2,    0.03,2,   2.108,2,   1.361,2,   2.2716,2,  2019.3,2,  2276.9,2,   7.9765,2,    25.05,2, -999.00,1,  -999.0,1, -999.00,1, -999.00,1,        8.6,2, 20220528,     1144,  29.9996, 177.4402,    17.4221,2,     -999.0,9,     -999.0,9,     -999.0,9,     -999.0,9,     0.0288,1,     4.6043,1,     -999.0,9,     -999.0,9,     -999.0,9
33RR20220430,        P02,      80,          2,         32,         32,2,20220528,       0943,    29.9996,   177.4402,       5252,    90.8,2,  16.9446,2,  34.6862,2,  34.6694,2,    220.0,2,   219.2,2,    3.22,2,    2.98,2,    0.05,2,    0.21,2,   2.078,2,   1.372,2,   2.1736,2,  -999.0,9,  -999.0,9,-999.0000,9,  -999.00,9, -999.00,1,  -999.0,1, -999.00,1, -999.00,1,        9.5,2, 20220528,     1142,  29.9996, 177.4402,    16.9457,2,     -999.0,9,     -999.0,9,     -999.0,9,     -999.0,9,     0.0337,1,     4.6412,1,     -999.0,9,     -999.0,9,     -999.0,9
33RR20220430,        P02,      80,          2,         31,         31,2,20220528,       0943,    29.9996,   177.4402,       5252,   136.7,2,  16.2754,2,  34.6319,2,  34.6179,2,    226.2,2,   226.3,2,    3.61,2,    3.71,2,    0.00,2,    0.25,2,   2.186,2,   1.419,2,   2.2877,2,  2042.2,2,  2274.2,2,   7.9261,2,    25.03,2, -999.00,1,  -999.0,1, -999.00,1, -999.00,1,        9.6,2, 20220528,     1140,  29.9996, 177.4401,    16.2731,2,     -999.0,9,     -999.0,9,     -999.0,9,     -999.0,9,     0.0152,1,     4.6790,1,     -999.0,9,     -999.0,9,     -999.0,9
33RR20220430,        P02,      80,          2,         30,         30,2,20220528,       0943,    29.9996,   177.4402,       5252,   187.5,2,  15.6874,2,  34.6163,2,  34.6032,2,    211.2,2,   210.1,2,    6.06,2,    6.30,2,    0.00,2,    0.43,2,   2.199,2,   1.423,2,   2.1493,2,  2061.4,2,  2272.7,2,   7.8895,2,    25.02,2, -999.00,1,  -999.0,1, -999.00,1, -999.00,1,       11.0,2, 20220528,     1138,  29.9996, 177.4402,    15.6843,2,     -999.0,9,     -999.0,9,     -999.0,9,     -999.0,9,     0.0122,1,     4.6849,1,     -999.0,9,     -999.0,9,     -999.0,9
33RR20220430,        P02,      80,          2,         29,         29,2,20220528,       0943,    29.9996,   177.4402,       5252,   237.6,2,  14.7183,2,  34.5427,2,  34.5317,2,    208.0,2,   207.1,2,    8.50,2,    8.09,2,    0.00,2,    0.55,2,   2.276,2,   1.476,2,   1.9036,2,  2074.0,2,  2274.1,2,   7.8605,2,    25.03,2, -999.00,1,  -999.0,1, -999.00,1, -999.00,1,       12.1,2, 20220528,     1136,  29.9996, 177.4402,    14.7221,2,     -999.0,9,     -999.0,9,     -999.0,9,     -999.0,9,     0.0122,1,     4.6875,1,     -999.0,9,     -999.0,9,     -999.0,9
33RR20220430,        P02,      80,          2,         28,         28,2,20220528,       0943,    29.9996,   177.4402,       5252,   288.2,2,  13.7493,2,  34.4632,2,  34.4532,2,    208.3,2,   207.8,2,   10.35,2,    9.50,2,    0.00,2,    0.63,2,   2.385,2,   1.532,2,   2.0694,2,  2083.9,2,  2271.4,2,   7.8353,2,    25.00,2, -999.00,1,  -999.0,1, -999.00,1, -999.00,1,       13.1,2, 20220528,     1134,  29.9996, 177.4402,    13.7518,2,     -999.0,9,     -999.0,9,     -999.0,9,     -999.0,9,     0.0122,1,     4.6896,1,     -999.0,9,     -999.0,9,     -999.0,9
33RR20220430,        P02,      80,          2,         27,         27,2,20220528,       0943,    29.9996,   177.4402,       5252,   338.4,2,  13.0000,2,  34.4053,2,  34.3906,2,    208.3,2,   208.3,2,   12.41,2,   10.80,2,    0.00,2,    0.73,2,   2.482,2,   1.591,2,   2.0650,2,  2092.3,2,  2270.1,2,   7.8148,2,    25.03,2, -999.00,1,  -999.0,1, -999.00,1, -999.00,1,       13.8,2, 20220528,     1132,  29.9996, 177.4402,    12.9965,2,     -999.0,9,     -999.0,9,     -999.0,9,     -999.0,9,     0.0122,1,     4.6914,1,     -999.0,9,     -999.0,9,     -999.0,9
33RR20220430,        P02,      80,          2,         26,         26,2,20220528,       0943,    29.9996,   177.4402,       5252,   391.3,2,  12.1156,2,  34.3238,2,  34.3138,2,    207.4,2,   208.0,2,   14.26,2,   12.19,2,    0.00,2,    0.83,2,   2.597,2,   1.619,2,   1.9868,2,  -999.0,9,  -999.0,9,-999.0000,9,  -999.00,9, -999.00,1,  -999.0,1, -999.00,1, -999.00,1,       14.9,2, 20220528,     1130,  29.9996, 177.4402,    12.1154,2,     -999.0,9,     -999.0,9,     -999.0,9,     -999.0,9,     0.0122,1,     4.6931,1,     -999.0,9,     -999.0,9,     -999.0,9
33RR20220430,        P02,      80,          2,         25,         25,2,20220528,       0943,    29.9996,   177.4402,       5252,   470.0,2,  10.3536,2,  34.1949,2,  34.1866,2,    203.8,2,   205.5,2,   21.50,2,   15.72,2,    0.00,2,    1.09,2,   2.672,2,   1.673,2,   1.9103,2,  2124.4,2,  2268.0,2,   7.7368,2,    25.02,2, -999.00,1,  -999.0,1, -999.00,1, -999.00,1,       16.5,2, 20220528,     1128,  29.9996, 177.4402,    10.3592,2,     -999.0,9,     -999.0,9,     -999.0,9,     -999.0,9,     0.0122,1,     4.6951,1,     -999.0,9,     -999.0,9,     -999.0,9
33RR20220430,        P02,      80,          2,         24,         24,2,20220528,       0943,    29.9996,   177.4402,       5252,   571.8,2,   7.5682,2,  34.0204,2,  34.0123,2,    167.3,2,   167.4,2,   41.53,2,   24.25,2,    0.00,2,    1.72,2,   2.549,2,   1.550,2,   1.3870,2,  2183.6,2,  2274.9,2,   7.6007,2,    25.00,2, -999.00,1,  -999.0,1, -999.00,9, -999.00,9,       24.0,2, 20220528,     1125,  29.9996, 177.4402,     7.6120,2,     -999.0,9,     -999.0,9,     -999.0,9,     -999.0,9,     0.0122,1,     4.6979,1,     -999.0,9,     -999.0,9,     -999.0,9
33RR20220430,        P02,      80,          2,         23,         23,2,20220528,       0943,    29.9996,   177.4402,       5252,   672.5,2,   5.9661,2,  34.0085,2,  34.0061,2,    122.3,2,   121.4,2,   63.81,2,   31.38,2,    0.00,2,    2.26,2,   1.991,2,   1.229,2,   0.8042,2,  2237.3,2,  2292.1,2,   7.4828,2,    25.03,2, -999.00,1,  -999.0,1, -999.00,1, -999.00,1,       32.1,2, 20220528,     1122,  29.9996, 177.4402,     5.9697,2,     -999.0,9,     -999.0,9,     -999.0,9,     -999.0,9,     0.0134,1,     4.6981,1,     -999.0,9,     -999.0,9,     -999.0,9
33RR20220430,        P02,      80,          2,         22,         22,2,20220528,       0943,    29.9996,   177.4402,       5252,   773.7,2,   4.9812,2,  34.0768,2,  34.0742,2,     81.6,2,    81.9,2,   84.33,2,   36.47,2,    0.00,2,    2.62,2,   1.332,2,   0.829,2,   0.4188,2,  2283.8,2,  2313.3,2,   7.3999,2,    25.01,2, -999.00,1,  -999.0,1, -999.00,1, -999.00,1,       39.8,2, 20220528,     1120,  29.9996, 177.4402,     4.9777,2,     -999.0,9,     -999.0,9,     -999.0,9,     -999.0,9,     0.0134,1,     4.6990,1,     -999.0,9,     -999.0,9,     -999.0,9
33RR20220430,        P02,      80,          2,         21,         21,2,20220528,       0943,    29.9996,   177.4402,       5252,   874.3,2,   4.2285,2,  34.1893,2,  34.1864,2,     48.3,2,    48.2,2,  104.35,2,   40.29,2,    0.00,2,    2.87,2,   0.670,2,   0.421,2,   0.0789,2,  2324.7,2,  2333.4,2,   7.3466,2,    25.05,2, -999.00,1,  -999.0,1, -999.00,1, -999.00,1,       47.5,2, 20220528,     1117,  29.9996, 177.4402,     4.2296,2,     -999.0,9,     -999.0,9,     -999.0,9,     -999.0,9,     0.0134,1,     4.6990,1,     -999.0,9,     -999.0,9,     -999.0,9
33RR20220430,        P02,      80,          2,         20,         20,2,20220528,       0943,    29.9996,   177.4402,       5252,   974.4,2,   3.8162,2,  34.2664,2,  34.2621,2,     34.8,2,    34.8,2,  116.95,2,   41.86,2,    0.00,2,    3.00,2,   0.363,2,   0.223,2,   0.0000,2,  -999.0,9,  -999.0,9,-999.0000,9,  -999.00,9, -999.00,1,  -999.0,1, -999.00,9, -999.00,9,       51.8,2, 20220528,     1114,  29.9996, 177.4402,     3.8087,2,     -999.0,9,     -999.0,9,     -999.0,9,     -999.0,9,     0.0134,1,     4.6995,1,     -999.0,9,     -999.0,9,     -999.0,9
33RR20220430,        P02,      80,          2,         19,         19,2,20220528,       0943,    29.9996,   177.4402,       5252,  1075.1,2,   3.5122,2,  34.3354,2,  34.3307,2,     27.9,2,    28.1,2,  126.71,2,   42.80,2,    0.00,2,    3.06,2,   0.165,2,   0.101,2,   0.0000,2,  2360.0,2,  2363.0,2,   7.3256,2,    25.03,2, -999.00,1,  -999.0,1, -999.00,1, -999.00,1,       53.4,2, 20220528,     1111,  29.9996, 177.4402,     3.5110,2,     -999.0,9,     -999.0,9,     -999.0,9,     -999.0,9,     0.0134,1,     4.6998,1,     -999.0,9,     -999.0,9,     -999.0,9
33RR20220430,        P02,      80,          2,         18,         18,2,20220528,       0943,    29.9996,   177.4402,       5252,  1176.8,2,   3.2908,2,  34.3956,2,  34.3963,2,     28.7,3,    28.2,2,  132.96,2,   43.08,2,    0.00,2,    3.08,2,   0.078,2,   0.047,2,   0.0000,2,  2365.7,2,  2374.8,2,   7.3345,2,    25.02,2, -999.00,1,  -999.0,1, -999.00,9, -999.00,9,       52.4,2, 20220528,     1109,  29.9996, 177.4402,     3.2899,2,     -999.0,9,     -999.0,9,     -999.0,9,     -999.0,9,     0.0134,1,     4.7009,1,     -999.0,9,     -999.0,9,     -999.0,9
33RR20220430,        P02,      80,          2,         17,         17,2,20220528,       0943,    29.9996,   177.4402,       5252,  1278.3,2,   3.0413,2,  34.4381,2,  34.4357,2,     29.7,3,    30.6,2,  140.18,2,   43.18,2,    0.00,2,    3.08,2,-999.000,5,-999.000,5,-999.0000,5,  2375.5,2,  2383.2,2,   7.3364,2,    25.03,2, -999.00,1,  -999.0,1, -999.00,1, -999.00,1,     -999.0,5, 20220528,     1106,  29.9996, 177.4402,     3.0413,2,     -999.0,9,     -999.0,9,     -999.0,9,     -999.0,9,     0.0134,1,     4.7006,1,     -999.0,9,     -999.0,9,     -999.0,9
33RR20220430,        P02,      80,          2,         16,         16,2,20220528,       0943,    29.9996,   177.4402,       5252,  1379.6,2,   2.8089,2,  34.4766,2,  34.4742,2,     33.5,2,    33.3,2,  147.02,2,   43.09,2,    0.00,2,    3.07,2,   0.024,2,   0.014,2,   0.0000,2,  2379.9,2,  2391.3,2,   7.3490,2,    25.02,2, -999.00,1,  -999.0,1, -999.00,9, -999.00,9,       48.8,2, 20220528,     1103,  29.9996, 177.4402,     2.8100,2,     -999.0,9,     -999.0,9,     -999.0,9,     -999.0,9,     0.0134,1,     4.7007,1,     -999.0,9,     -999.0,9,     -999.0,9
33RR20220430,        P02,      80,          2,         15,         15,2,20220528,       0943,    29.9996,   177.4402,       5252,  1548.7,2,   2.5324,2,  34.5219,2,  34.5231,2,     43.6,3,    44.3,2,  154.34,2,   42.57,2,    0.00,2,    3.03,2,   0.011,2,   0.007,2,   0.0000,2,  2379.2,2,  2400.0,2,   7.3711,2,    24.99,2, -999.00,1,  -999.0,1, -999.00,1, -999.00,1,       44.1,2, 20220528,     1059,  29.9996, 177.4402,     2.5314,2,     -999.0,9,     -999.0,9,     -999.0,9,     -999.0,9,     0.0134,1,     4.7013,1,     -999.0,9,     -999.0,9,     -999.0,9
33RR20220430,        P02,      80,          2,         14,         14,2,20220528,       0943,    29.9996,   177.4402,       5252,  1755.7,2,   2.2200,2,  34.5663,2,  34.5653,2,     58.8,2,    58.3,2,  159.80,2,   41.74,2,    0.00,2,    2.93,2,   0.007,2,   0.000,2,   0.0000,2,  2377.9,2,  2407.6,2,   7.4031,2,    25.05,2, -999.00,9,  -999.0,9, -999.00,1, -999.00,1,       39.2,2, 20220528,     1055,  29.9996, 177.4402,     2.2198,2,     -999.0,9,     -999.0,9,     -999.0,9,     -999.0,9,     0.0134,1,     4.7020,1,     -999.0,9,     -999.0,9,     -999.0,9
33RR20220430,        P02,      80,          2,         13,         13,2,20220528,       0943,    29.9996,   177.4402,       5252,  1958.8,2,   1.9940,2,  34.5949,2,  34.5920,2,     72.1,2,    71.9,2,  164.10,2,   41.00,2,    0.00,2,    2.88,2,   0.005,2,   0.000,2,   0.0000,2,  -999.0,9,  -999.0,9,-999.0000,9,  -999.00,9, -999.00,9,  -999.0,9, -999.00,9, -999.00,9,       34.8,2, 20220528,     1050,  29.9996, 177.4402,     1.9943,2,     -999.0,9,     -999.0,9,     -999.0,9,     -999.0,9,     0.0133,1,     4.7031,1,     -999.0,9,     -999.0,9,     -999.0,9
33RR20220430,        P02,      80,          2,         12,         12,2,20220528,       0943,    29.9996,   177.4402,       5252,  2196.1,2,   1.8162,2,  34.6190,2,  34.6178,2,     87.3,2,    87.2,2,  165.07,2,   39.97,2,    0.00,2,    2.80,2,   0.004,2,   0.000,2,   0.0000,2,  2368.0,2,  2418.8,2,   7.4568,2,    24.97,2, -999.00,1,  -999.0,1, -999.00,1, -999.00,1,       30.9,2, 20220528,     1045,  29.9996, 177.4402,     1.8160,2,     -999.0,9,     -999.0,9,     -999.0,9,     -999.0,9,     0.0125,1,     4.7027,1,     -999.0,9,     -999.0,9,     -999.0,9
33RR20220430,        P02,      80,          2,         11,         11,2,20220528,       0943,    29.9996,   177.4402,       5252,  2449.7,2,   1.6952,2,  34.6371,3,  34.6348,2,    102.2,2,   102.3,2,  164.09,2,   38.94,2,    0.00,2,    2.73,2,   0.004,2,   0.000,2,   0.0000,2,  -999.0,9,  -999.0,9,-999.0000,9,  -999.00,9, -999.00,9,  -999.0,9, -999.00,9, -999.00,9,       28.3,2, 20220528,     1040,  29.9996, 177.4402,     1.6951,2,     -999.0,9,     -999.0,9,     -999.0,9,     -999.0,9,     0.0134,1,     4.7037,1,     -999.0,9,     -999.0,9,     -999.0,9
33RR20220430,        P02,      80,          2,         10,         10,2,20220528,       0943,    29.9996,   177.4402,       5252,  2704.2,2,   1.6074,2,  34.6502,2,  34.6482,2,    114.2,2,   114.1,2,  162.04,2,   38.14,2,    0.00,2,    2.68,2,-999.000,9,-999.000,9,-999.0000,9,  -999.0,9,  -999.0,9,-999.0000,9,  -999.00,9, -999.00,1,  -999.0,1, -999.00,1, -999.00,1,     -999.0,9, 20220528,     1035,  29.9996, 177.4402,     1.6070,2,     -999.0,9,     -999.0,9,     -999.0,9,     -999.0,9,     0.0122,1,     4.7043,1,     -999.0,9,     -999.0,9,     -999.0,9
33RR20220430,        P02,      80,          2,          9,          9,2,20220528,       0943,    29.9996,   177.4402,       5252,  2959.1,2,   1.5423,2,  34.6608,3,  34.6582,2,    124.6,2,   124.6,2,  160.38,2,   37.58,2,    0.00,2,    2.62,2,   0.004,2,   0.000,2,   0.0000,2,  -999.0,9,  -999.0,9,-999.0000,9,  -999.00,9, -999.00,9,  -999.0,9, -999.00,9, -999.00,9,       25.3,2, 20220528,     1029,  29.9996, 177.4402,     1.5421,2,     -999.0,9,     -999.0,9,     -999.0,9,     -999.0,9,     0.0130,1,     4.7044,1,     -999.0,9,     -999.0,9,     -999.0,9
33RR20220430,        P02,      80,          2,          8,          8,2,20220528,       0943,    29.9996,   177.4402,       5252,  3248.9,2,   1.4988,2,  34.6691,2,  34.6671,2,    133.5,2,   133.8,2,  158.23,2,   37.08,2,    0.00,2,    2.56,2,-999.000,9,-999.000,9,-999.0000,9,  2339.8,2,  2419.5,2,   7.5429,2,    25.05,2, -999.00,1,  -999.0,1, -999.00,1, -999.00,1,     -999.0,9, 20220528,     1024,  29.9996, 177.4402,     1.4987,2,     -999.0,9,     -999.0,9,     -999.0,9,     -999.0,9,     0.0122,1,     4.7051,1,     -999.0,9,     -999.0,9,     -999.0,9
33RR20220430,        P02,      80,          2,          7,          7,2,20220528,       0943,    29.9996,   177.4402,       5252,  3556.1,2,   1.4706,2,  34.6758,3,  34.6732,2,    141.2,2,   141.3,2,  156.28,2,   36.60,2,    0.00,2,    2.54,2,   0.005,2,   0.000,2,   0.0000,2,  -999.0,9,  -999.0,9,-999.0000,9,  -999.00,9, -999.00,1,  -999.0,1, -999.00,1, -999.00,1,       23.1,2, 20220528,     1018,  29.9996, 177.4402,     1.4703,2,     -999.0,9,     -999.0,9,     -999.0,9,     -999.0,9,     0.0122,1,     4.7055,1,     -999.0,9,     -999.0,9,     -999.0,9
33RR20220430,        P02,      80,          2,          6,          6,2,20220528,       0943,    29.9996,   177.4402,       5252,  3863.3,2,   1.4632,2,  34.6802,2,  34.6783,2,    146.6,2,   146.5,2,  155.20,2,   36.28,2,    0.00,2,    2.50,2,-999.000,9,-999.000,9,-999.0000,9,  -999.0,9,  -999.0,9,-999.0000,9,  -999.00,9, -999.00,9,  -999.0,9, -999.00,9, -999.00,9,     -999.0,9, 20220528,     1012,  29.9996, 177.4403,     1.4632,2,     -999.0,9,     -999.0,9,     -999.0,9,     -999.0,9,     0.0122,1,     4.7051,1,     -999.0,9,     -999.0,9,     -999.0,9
33RR20220430,        P02,      80,          2,          5,          5,2,20220528,       0943,    29.9996,   177.4402,       5252,  4170.8,2,   1.4647,2,  34.6837,2,  34.6820,2,    151.4,2,   151.8,2,  152.76,2,   35.91,2,    0.00,2,    2.47,2,   0.005,2,   0.000,2,   0.0000,2,  2327.4,2,  2418.1,2,   7.5737,2,    25.05,2, -999.00,1,  -999.0,1, -999.00,1, -999.00,1,       22.2,2, 20220528,     1006,  29.9996, 177.4403,     1.4647,2,     -999.0,9,     -999.0,9,     -999.0,9,     -999.0,9,     0.0122,1,     4.7056,1,     -999.0,9,     -999.0,9,     -999.0,9
33RR20220430,        P02,      80,          2,          4,          4,2,20220528,       0943,    29.9996,   177.4402,       5252,  4478.3,2,   1.4687,2,  34.6868,3,  34.6838,2,    156.4,2,   156.6,2,  150.02,2,   35.50,2,    0.00,2,    2.44,2,-999.000,9,-999.000,9,-999.0000,9,  -999.0,9,  -999.0,9,-999.0000,9,  -999.00,9, -999.00,1,  -999.0,1, -999.00,9, -999.00,9,     -999.0,9, 20220528,     1000,  29.9996, 177.4402,     1.4687,2,     -999.0,9,     -999.0,9,     -999.0,9,     -999.0,9,     0.0121,1,     4.7054,1,     -999.0,9,     -999.0,9,     -999.0,9