BOTTLE,20230801CCHSIOCBG
EXPOCODE,SECT_ID,STNNBR,CASTNO,SAMPNO,BTLNBR,BTLNBR_FLAG_W,DATE,TIME,LATITUDE,LONGITUDE,DEPTH,CTDPRS,CTDPRS_FLAG_W,CTDTMP,CTDTMP_FLAG_W,CTDSAL,CTDSAL_FLAG_W,SALNTY,SALNTY_FLAG_W,CTDOXY,CTDOXY_FLAG_W,OXYGEN,OXYGEN_FLAG_W,SILCAT,SILCAT_FLAG_W,NITRAT,NITRAT_FLAG_W,NITRIT,NITRIT_FLAG_W,PHSPHT,PHSPHT_FLAG_W,CFC-11,CFC-11_FLAG_W,CFC-12,CFC-12_FLAG_W,SF6,SF6_FLAG_W,TCARBN,TCARBN_FLAG_W,ALKALI,ALKALI_FLAG_W,PH_TOT,PH_TOT_FLAG_W,PH_TMP,PH_TMP_FLAG_W,DELC13,DELC13_FLAG_W,DELC14,DELC14_FLAG_W,DOC,DOC_FLAG_W,TDN,TDN_FLAG_W,N2O,N2O_FLAG_W,BTL_DATE,BTL_TIME,BTL_LAT,BTL_LON,REFTMP,REFTMP_FLAG_W,POC,POC_FLAG_W,PON,PON_FLAG_W,POP,POP_FLAG_W,PCOD,PCOD_FLAG_W,CTDFLUOR,CTDFLUOR_FLAG_W,CTDXMISS,CTDXMISS_FLAG_W,HPLC,HPLC_FLAG_W,DNA,DNA_FLAG_W,FCM,FCM_FLAG_W
,,,,,,,,,,,METERS,DBAR,,ITS-90,,PSS-78,,PSS-78,,UMOL/KG,,UMOL/KG,,UMOL/KG,,UMOL/KG,,UMOL/KG,,UMOL/KG,,PMOL/KG,,PMOL/KG,,FMOL/KG,,UMOL/KG,,UMOL/KG,,,,DEG C,,/MILLE,,/MILLE,,UMOL/KG,,UMOL/KG,,NMOL/KG,,,,,,ITS-90,,UG/L,,UG/L,,UG/L,,UG/L,,VOLTS,,VOLTS,,,,,,,
33RR20220430,        P02,      42,          1,         36,         36,2,20220516,       1541,    29.9990,   155.9658,       5792,     3.5,2,  22.3667,2,  34.6119,2,  34.6103,2,    225.9,3,   222.0,2,    0.20,2,    0.00,2,    0.00,2,    0.01,2,   1.833,2,   1.157,2,   1.9336,2,  1996.1,2,  2271.8,2,   8.0082,2,    25.00,2, -999.00,9,  -999.0,9, -999.00,9, -999.00,9,        6.3,2, 20220516,     1755,  29.9990, 155.9658,    22.4763,3,     -999.0,9,     -999.0,9,     -999.0,9,     -999.0,9,     0.0135,1,     4.6441,1,     -999.0,9,     -999.0,9,     -999.0,9
33RR20220430,        P02,      42,          1,         35,         35,2,20220516,       1541,    29.9990,   155.9658,       5792,    25.6,2,  21.1105,2,  34.8509,2,  34.8377,2,    231.2,3,   228.4,2,    0.20,2,    0.00,2,    0.00,2,    0.00,2,   1.922,2,   1.140,2,   2.1529,2,  2012.9,6,  2285.9,2,   8.0065,2,    25.01,2, -999.00,9,  -999.0,9, -999.00,9, -999.00,9,        6.7,2, 20220516,     1754,  29.9990, 155.9658,    21.0833,2,     -999.0,9,     -999.0,9,     -999.0,9,     -999.0,9,     0.0143,1,     4.6522,1,     -999.0,9,     -999.0,9,     -999.0,9
33RR20220430,        P02,      42,          1,         34,         34,2,20220516,       1541,    29.9990,   155.9658,       5792,    50.8,2,  18.8594,2,  34.7746,2,  34.7665,2,    241.2,2,   241.8,2,    0.00,2,    0.00,2,    0.00,2,    0.02,2,   2.074,2,   1.314,2,   2.1530,2,  2011.4,2,  2281.8,2,   7.9976,2,    25.01,2, -999.00,9,  -999.0,9, -999.00,9, -999.00,9,        7.3,2, 20220516,     1752,  29.9990, 155.9658,    18.8515,2,     -999.0,9,     -999.0,9,     -999.0,9,     -999.0,9,     0.0171,1,     4.6423,1,     -999.0,9,     -999.0,9,     -999.0,9
33RR20220430,        P02,      42,          1,         33,         33,2,20220516,       1541,    29.9990,   155.9658,       5792,    76.2,2,  17.9959,2,  34.7389,2,  34.7341,2,    243.4,2,   243.9,2,    0.10,2,    0.00,2,    0.00,2,    0.01,2,   2.121,2,   1.277,2,   2.1628,2,  2017.2,2,  2278.9,2,   7.9848,2,    25.00,2, -999.00,9,  -999.0,9, -999.00,9, -999.00,9,        7.5,2, 20220516,     1750,  29.9990, 155.9658,    17.9886,2,     -999.0,9,     -999.0,9,     -999.0,9,     -999.0,9,     0.0298,1,     4.6239,1,     -999.0,9,     -999.0,9,     -999.0,9
33RR20220430,        P02,      42,          1,         32,         32,2,20220516,       1541,    29.9990,   155.9658,       5792,   101.2,2,  17.4493,2,  34.7287,2,  34.7229,2,    232.9,2,   232.6,2,    0.78,2,    1.22,2,    0.31,2,    0.13,2,   2.127,2,   1.300,2,   2.1280,2,  2030.3,2,  2277.3,2,   7.9620,2,    25.02,2, -999.00,9,  -999.0,9, -999.00,9, -999.00,9,        8.4,2, 20220516,     1748,  29.9990, 155.9657,    17.4512,2,     -999.0,9,     -999.0,9,     -999.0,9,     -999.0,9,     0.0374,1,     4.6446,1,     -999.0,9,     -999.0,9,     -999.0,9
33RR20220430,        P02,      42,          1,         31,         31,2,20220516,       1541,    29.9990,   155.9658,       5792,   151.0,2,  16.6823,2,  34.6977,2,  34.6934,2,    225.6,2,   225.1,2,    1.95,2,    3.46,2,    0.01,2,    0.22,2,   2.192,2,   1.390,2,   2.1474,2,  2039.2,2,  2276.7,2,   7.9370,2,    25.01,2, -999.00,9,  -999.0,9, -999.00,9, -999.00,9,        8.8,2, 20220516,     1746,  29.9990, 155.9658,    16.6798,2,     -999.0,9,     -999.0,9,     -999.0,9,     -999.0,9,     0.0183,1,     4.6784,1,     -999.0,9,     -999.0,9,     -999.0,9
33RR20220430,        P02,      42,          1,         30,         30,2,20220516,       1541,    29.9990,   155.9658,       5792,   200.9,2,  16.4543,2,  34.6920,2,  34.6867,2,    220.4,2,   220.4,2,    2.64,2,    4.33,2,    0.00,2,    0.27,2,   2.202,2,   1.393,2,   2.2013,2,  2045.3,2,  2276.5,2,   7.9298,2,    25.02,2, -999.00,9,  -999.0,9, -999.00,9, -999.00,9,        9.2,2, 20220516,     1745,  29.9990, 155.9658,    16.4545,2,     -999.0,9,     -999.0,9,     -999.0,9,     -999.0,9,     0.0122,1,     4.6849,1,     -999.0,9,     -999.0,9,     -999.0,9
33RR20220430,        P02,      42,          1,         29,         29,2,20220516,       1541,    29.9990,   155.9658,       5792,   251.2,2,  16.1702,2,  34.6719,2,  34.6663,2,    224.0,3,   221.7,2,    3.22,2,    4.55,2,    0.00,2,    0.30,2,   2.226,2,   1.366,2,   2.0933,2,  2047.8,2,  2276.8,2,   7.9233,2,    24.98,2, -999.00,9,  -999.0,9, -999.00,9, -999.00,9,        9.5,2, 20220516,     1743,  29.9990, 155.9657,    16.1675,2,     -999.0,9,     -999.0,9,     -999.0,9,     -999.0,9,     0.0122,1,     4.6862,1,     -999.0,9,     -999.0,9,     -999.0,9
33RR20220430,        P02,      42,          1,         28,         28,2,20220516,       1541,    29.9990,   155.9658,       5792,   301.8,2,  15.6943,2,  34.6485,2,  34.6427,2,    220.8,2,   220.5,2,    4.20,2,    5.45,2,    0.00,2,    0.34,2,   2.302,2,   1.448,2,   2.2129,2,  -999.0,9,  -999.0,9,-999.0000,9,  -999.00,9, -999.00,9,  -999.0,9, -999.00,9, -999.00,9,        9.8,2, 20220516,     1741,  29.9990, 155.9658,    15.6887,2,     -999.0,9,     -999.0,9,     -999.0,9,     -999.0,9,     0.0122,1,     4.6876,1,     -999.0,9,     -999.0,9,     -999.0,9
33RR20220430,        P02,      42,          1,         27,         27,2,20220516,       1541,    29.9990,   155.9658,       5792,   352.4,2,  14.9307,2,  34.5697,2,  34.5663,2,    204.0,2,   204.6,2,    7.33,2,    8.15,2,    0.00,2,    0.53,2,   2.348,2,   1.424,2,   1.9381,2,  2073.1,2,  2275.6,2,   7.8705,2,    25.00,2, -999.00,9,  -999.0,9, -999.00,9, -999.00,9,       12.3,2, 20220516,     1739,  29.9990, 155.9658,    14.9304,2,     -999.0,9,     -999.0,9,     -999.0,9,     -999.0,9,     0.0122,1,     4.6871,1,     -999.0,9,     -999.0,9,     -999.0,9
33RR20220430,        P02,      42,          1,         26,         26,2,20220516,       1541,    29.9990,   155.9658,       5792,   409.4,2,  13.4980,2,  34.4606,2,  34.4571,2,    190.0,2,   189.7,2,   12.80,2,   11.93,2,    0.00,2,    0.79,2,   2.449,2,   1.548,2,   1.6807,2,  -999.0,9,  -999.0,9,-999.0000,9,  -999.00,9, -999.00,9,  -999.0,9, -999.00,9, -999.00,9,       15.4,2, 20220516,     1737,  29.9990, 155.9658,    13.4920,2,     -999.0,9,     -999.0,9,     -999.0,9,     -999.0,9,     0.0122,1,     4.6928,1,     -999.0,9,     -999.0,9,     -999.0,9
33RR20220430,        P02,      42,          1,         25,         25,2,20220516,       1541,    29.9990,   155.9658,       5792,   511.4,2,  10.3801,2,  34.2294,2,  34.2289,2,    183.1,2,   183.7,2,   24.04,2,   17.50,2,    0.00,2,    1.20,2,   2.554,6,   1.548,6,   1.6432,6,  2139.3,2,  2273.1,2,   7.7160,2,    25.00,2, -999.00,9,  -999.0,9, -999.00,9, -999.00,9,       18.7,6, 20220516,     1734,  29.9990, 155.9658,    10.3897,2,     -999.0,9,     -999.0,9,     -999.0,9,     -999.0,9,     0.0122,1,     4.6994,1,     -999.0,9,     -999.0,9,     -999.0,9
33RR20220430,        P02,      42,          1,         24,         24,2,20220516,       1541,    29.9990,   155.9658,       5792,   611.9,2,   7.1118,2,  34.0001,2,  33.9986,2,    164.5,2,   164.3,2,   44.76,2,   25.30,2,    0.00,2,    1.80,2,   2.516,2,   1.550,2,   1.5050,2,  2194.2,2,  2278.0,2,   7.5851,2,    24.99,2, -999.00,9,  -999.0,9, -999.00,9, -999.00,9,       24.8,2, 20220516,     1732,  29.9990, 155.9657,     7.1299,2,     -999.0,9,     -999.0,9,     -999.0,9,     -999.0,9,     0.0130,1,     4.7032,1,     -999.0,9,     -999.0,9,     -999.0,9
33RR20220430,        P02,      42,          1,         23,         23,2,20220516,       1541,    29.9990,   155.9658,       5792,   712.7,2,   5.5771,2,  34.0186,2,  34.0186,2,    113.0,2,   113.2,2,   67.33,2,   32.69,2,    0.00,2,    2.31,2,   1.896,2,   1.173,2,   0.9381,2,  2249.9,2,  2295.6,2,   7.4630,2,    25.02,2, -999.00,9,  -999.0,9, -999.00,9, -999.00,9,       33.4,2, 20220516,     1729,  29.9990, 155.9658,     5.5730,2,     -999.0,9,     -999.0,9,     -999.0,9,     -999.0,9,     0.0131,1,     4.7041,1,     -999.0,9,     -999.0,9,     -999.0,9
33RR20220430,        P02,      42,          1,         22,         22,2,20220516,       1541,    29.9990,   155.9658,       5792,   813.5,2,   4.7557,2,  34.1084,2,  34.1111,2,     75.6,2,    75.0,2,   88.14,2,   37.36,2,    0.00,2,    2.66,2,   1.256,2,   0.796,2,   0.5310,2,  -999.0,9,  -999.0,9,-999.0000,9,  -999.00,9, -999.00,9,  -999.0,9, -999.00,9, -999.00,9,       39.9,2, 20220516,     1726,  29.9990, 155.9658,     4.7536,2,     -999.0,9,     -999.0,9,     -999.0,9,     -999.0,9,     0.0134,1,     4.7041,1,     -999.0,9,     -999.0,9,     -999.0,9
33RR20220430,        P02,      42,          1,         21,         21,2,20220516,       1541,    29.9990,   155.9658,       5792,   914.1,2,   4.1650,2,  34.2026,2,  34.2038,2,     51.6,3,    52.3,2,  104.55,2,   39.99,2,    0.00,2,    2.83,2,   0.744,2,   0.427,2,   0.2972,2,  2326.3,2,  2334.9,2,   7.3535,2,    25.01,2, -999.00,9,  -999.0,9, -999.00,9, -999.00,9,       44.6,2, 20220516,     1724,  29.9990, 155.9658,     4.1644,2,     -999.0,9,     -999.0,9,     -999.0,9,     -999.0,9,     0.0134,1,     4.7043,1,     -999.0,9,     -999.0,9,     -999.0,9
33RR20220430,        P02,      42,          1,         20,         20,2,20220516,       1541,    29.9990,   155.9658,       5792,  1015.1,2,   3.6739,2,  34.2872,2,  34.2870,2,     39.4,2,    39.7,2,  118.81,2,   41.39,2,    0.00,2,    2.94,2,   0.414,2,   0.240,2,   0.1846,2,  -999.0,9,  -999.0,9,-999.0000,9,  -999.00,9, -999.00,9,  -999.0,9, -999.00,9, -999.00,9,       47.2,2, 20220516,     1721,  29.9990, 155.9658,     3.6782,2,     -999.0,9,     -999.0,9,     -999.0,9,     -999.0,9,     0.0134,1,     4.7037,1,     -999.0,9,     -999.0,9,     -999.0,9
33RR20220430,        P02,      42,          1,         19,         19,2,20220516,       1541,    29.9990,   155.9658,       5792,  1116.3,2,   3.3604,2,  34.3423,2,  34.3431,2,     34.9,2,    34.8,2,  128.28,2,   42.05,2,    0.00,2,    3.00,2,   0.243,2,   0.141,2,   0.0000,2,  2361.7,2,  2363.8,2,   7.3353,2,    25.01,2, -999.00,9,  -999.0,9, -999.00,9, -999.00,9,       48.4,2, 20220516,     1718,  29.9990, 155.9658,     3.3592,2,     -999.0,9,     -999.0,9,     -999.0,9,     -999.0,9,     0.0134,1,     4.7043,1,     -999.0,9,     -999.0,9,     -999.0,9
33RR20220430,        P02,      42,          1,         18,         18,2,20220516,       1541,    29.9990,   155.9658,       5792,  1218.1,2,   3.1208,2,  34.3901,2,  34.3894,2,     33.4,2,    33.4,2,  135.50,2,   42.45,2,    0.00,2,    3.02,2,   0.148,2,   0.082,2,   0.0000,2,  2367.0,2,  2373.6,2,   7.3380,2,    25.01,2, -999.00,9,  -999.0,9, -999.00,9, -999.00,9,       47.9,2, 20220516,     1716,  29.9990, 155.9657,     3.1205,2,     -999.0,9,     -999.0,9,     -999.0,9,     -999.0,9,     0.0134,1,     4.7042,1,     -999.0,9,     -999.0,9,     -999.0,9
33RR20220430,        P02,      42,          1,         17,         17,2,20220516,       1541,    29.9990,   155.9658,       5792,  1319.6,2,   2.8226,2,  34.4383,2,  34.4390,2,     34.5,3,    35.0,2,  144.29,2,   42.69,2,    0.00,2,    3.02,2,-999.000,5,-999.000,5,-999.0000,5,  2374.6,2,  2382.2,2,   7.3429,2,    25.00,2, -999.00,9,  -999.0,9, -999.00,9, -999.00,9,     -999.0,5, 20220516,     1713,  29.9990, 155.9657,     2.8217,2,     -999.0,9,     -999.0,9,     -999.0,9,     -999.0,9,     0.0134,1,     4.7056,1,     -999.0,9,     -999.0,9,     -999.0,9
33RR20220430,        P02,      42,          1,         16,         16,2,20220516,       1541,    29.9990,   155.9658,       5792,  1421.0,2,   2.6787,2,  34.4671,2,  34.4679,2,     36.7,3,    36.3,2,  148.59,2,   42.77,2,    0.00,2,    3.03,2,   0.051,2,   0.030,2,   0.0000,2,  -999.0,9,  -999.0,9,-999.0000,9,  -999.00,9, -999.00,9,  -999.0,9, -999.00,9, -999.00,9,       45.9,2, 20220516,     1710,  29.9990, 155.9658,     2.6785,2,     -999.0,9,     -999.0,9,     -999.0,9,     -999.0,9,     0.0134,1,     4.7055,1,     -999.0,9,     -999.0,9,     -999.0,9
33RR20220430,        P02,      42,          1,         15,         15,2,20220516,       1541,    29.9990,   155.9658,       5792,  1622.7,2,   2.3679,2,  34.5245,2,  34.5250,2,     47.4,2,    47.4,2,  155.71,2,   42.37,2,    0.00,2,    2.97,2,   0.020,2,   0.010,2,   0.0000,2,  2383.0,2,  2402.5,2,   7.3748,2,    25.01,2, -999.00,9,  -999.0,9, -999.00,9, -999.00,9,       41.6,2, 20220516,     1706,  29.9990, 155.9658,     2.3676,2,     -999.0,9,     -999.0,9,     -999.0,9,     -999.0,9,     0.0134,1,     4.7066,1,     -999.0,9,     -999.0,9,     -999.0,9
33RR20220430,        P02,      42,          1,         14,         14,2,20220516,       1541,    29.9990,   155.9658,       5792,  1824.5,2,   2.1167,2,  34.5639,2,  34.5645,2,     60.6,2,    60.9,2,  160.98,2,   41.59,2,    0.00,2,    2.89,2,   0.016,2,   0.007,2,   0.0000,2,  -999.0,9,  -999.0,9,-999.0000,9,  -999.00,9, -999.00,9,  -999.0,9, -999.00,9, -999.00,9,       37.9,2, 20220516,     1702,  29.9990, 155.9657,     2.1168,2,     -999.0,9,     -999.0,9,     -999.0,9,     -999.0,9,     0.0134,1,     4.7067,1,     -999.0,9,     -999.0,9,     -999.0,9
33RR20220430,        P02,      42,          1,         13,         13,2,20220516,       1541,    29.9990,   155.9658,       5792,  2028.4,2,   1.9099,2,  34.5968,2,  34.5973,2,     76.5,2,    76.4,2,  162.93,2,   40.67,2,    0.00,2,    2.82,2,   0.009,2,   0.000,2,   0.0000,2,  2373.0,2,  2410.5,2,   7.4322,2,    25.02,2, -999.00,9,  -999.0,9, -999.00,9, -999.00,9,       34.4,2, 20220516,     1657,  29.9990, 155.9657,     1.9100,2,     -999.0,9,     -999.0,9,     -999.0,9,     -999.0,9,     0.0128,1,     4.7064,1,     -999.0,9,     -999.0,9,     -999.0,9
33RR20220430,        P02,      42,          1,         12,         12,2,20220516,       1541,    29.9990,   155.9658,       5792,  2282.2,2,   1.7534,2,  34.6241,2,  34.6244,2,     94.5,2,    94.6,2,  161.66,2,   39.53,2,    0.00,2,    2.74,2,   0.005,2,   0.000,2,   0.0000,2,  -999.0,9,  -999.0,9,-999.0000,9,  -999.00,9, -999.00,9,  -999.0,9, -999.00,9, -999.00,9,       30.7,2, 20220516,     1652,  29.9990, 155.9657,     1.7532,2,     -999.0,9,     -999.0,9,     -999.0,9,     -999.0,9,     0.0131,1,     4.7064,1,     -999.0,9,     -999.0,9,     -999.0,9
33RR20220430,        P02,      42,          1,         11,         11,2,20220516,       1541,    29.9990,   155.9658,       5792,  2534.3,2,   1.6410,2,  34.6431,2,  34.6439,2,    110.1,2,   110.1,2,  159.90,2,   38.50,2,    0.00,2,    2.67,2,   0.005,2,   0.000,2,   0.0000,2,  2352.4,2,  2415.4,2,   7.4975,2,    25.00,2, -999.00,9,  -999.0,9, -999.00,9, -999.00,9,       27.7,2, 20220516,     1647,  29.9990, 155.9658,     1.6408,2,     -999.0,9,     -999.0,9,     -999.0,9,     -999.0,9,     0.0122,1,     4.7079,1,     -999.0,9,     -999.0,9,     -999.0,9
33RR20220430,        P02,      42,          1,         10,         10,2,20220516,       1541,    29.9990,   155.9658,       5792,  2789.0,2,   1.5559,2,  34.6575,2,  34.6580,2,    123.7,2,   123.6,2,  156.97,2,   37.61,2,    0.00,2,    2.59,2,   0.004,2,   0.000,2,   0.0000,2,  -999.0,9,  -999.0,9,-999.0000,9,  -999.00,9, -999.00,9,  -999.0,9, -999.00,9, -999.00,9,       25.7,2, 20220516,     1642,  29.9990, 155.9658,     1.5558,2,     -999.0,9,     -999.0,9,     -999.0,9,     -999.0,9,     0.0122,1,     4.7079,1,     -999.0,9,     -999.0,9,     -999.0,9
33RR20220430,        P02,      42,          1,          9,          9,2,20220516,       1541,    29.9990,   155.9658,       5792,  3043.2,2,   1.5098,2,  34.6657,2,  34.6659,2,    132.0,2,   131.8,2,  155.60,2,   37.06,2,    0.00,2,    2.55,2,   0.004,2,   0.000,2,   0.0000,2,  2340.9,2,  2415.7,2,   7.5379,2,    25.01,2, -999.00,9,  -999.0,9, -999.00,9, -999.00,9,       24.7,2, 20220516,     1636,  29.9990, 155.9658,     1.5099,2,     -999.0,9,     -999.0,9,     -999.0,9,     -999.0,9,     0.0128,1,     4.7075,1,     -999.0,9,     -999.0,9,     -999.0,9
33RR20220430,        P02,      42,          1,          8,          8,2,20220516,       1541,    29.9990,   155.9658,       5792,  3348.8,2,   1.4699,2,  34.6736,2,  34.6739,2,    140.5,2,   140.6,2,  153.45,2,   36.55,2,    0.00,2,    2.50,2,   0.005,2,   0.000,2,   0.0000,2,  -999.0,9,  -999.0,9,-999.0000,9,  -999.00,9, -999.00,9,  -999.0,9, -999.00,9, -999.00,9,       24.1,2, 20220516,     1630,  29.9990, 155.9657,     1.4698,2,     -999.0,9,     -999.0,9,     -999.0,9,     -999.0,9,     0.0122,1,     4.7078,1,     -999.0,9,     -999.0,9,     -999.0,9
33RR20220430,        P02,      42,          1,          7,          7,2,20220516,       1541,    29.9990,   155.9658,       5792,  3656.5,2,   1.4498,2,  34.6793,2,  34.6802,2,    147.2,2,   147.3,2,  151.88,2,   36.17,2,    0.00,2,    2.46,2,   0.005,2,   0.000,2,   0.0000,2,  2329.7,2,  2415.2,2,   7.5651,2,    25.02,2, -999.00,9,  -999.0,9, -999.00,9, -999.00,9,       23.0,2, 20220516,     1624,  29.9990, 155.9658,     1.4499,2,     -999.0,9,     -999.0,9,     -999.0,9,     -999.0,9,     0.0122,1,     4.7080,1,     -999.0,9,     -999.0,9,     -999.0,9
33RR20220430,        P02,      42,          1,          6,          6,2,20220516,       1541,    29.9990,   155.9658,       5792,  3961.1,2,   1.4396,2,  34.6836,2,  34.6840,2,    152.6,2,   153.3,2,  150.52,2,   35.99,2,    0.00,2,    2.43,2,   0.006,2,   0.000,2,   0.0000,2,  -999.0,9,  -999.0,9,-999.0000,9,  -999.00,9, -999.00,9,  -999.0,9, -999.00,9, -999.00,9,       23.0,2, 20220516,     1618,  29.9990, 155.9657,     1.4395,2,     -999.0,9,     -999.0,9,     -999.0,9,     -999.0,9,     0.0122,1,     4.7078,1,     -999.0,9,     -999.0,9,     -999.0,9
33RR20220430,        P02,      42,          1,          5,          5,2,20220516,       1541,    29.9990,   155.9658,       5792,  4372.6,2,   1.4561,2,  34.6866,2,  34.6875,2,    156.7,2,   156.8,2,  149.83,2,   35.67,2,    0.00,2,    2.41,2,   0.007,2,   0.000,2,   0.0000,2,  2321.8,2,  2414.6,2,   7.5801,2,    24.99,2, -999.00,9,  -999.0,9, -999.00,9, -999.00,9,       22.3,2, 20220516,     1611,  29.9990, 155.9658,     1.4560,2,     -999.0,9,     -999.0,9,     -999.0,9,     -999.0,9,     0.0122,1,     4.7066,1,     -999.0,9,     -999.0,9,     -999.0,9
33RR20220430,        P02,      42,          1,          4,          4,2,20220516,       1541,    29.9990,   155.9658,       5792,  4782.6,2,   1.4738,2,  34.6897,2,  34.6891,2,    162.7,2,   162.7,2,  144.36,2,   35.20,2,    0.00,2,    2.38,2,   0.006,2,   0.000,2,   0.0000,2,  2315.8,2,  2409.2,2,   7.5871,2,    25.02,2, -999.00,9,  -999.0,9, -999.00,9, -999.00,9,       21.9,2, 20220516,     1603,  29.9990, 155.9658,     1.4739,2,     -999.0,9,     -999.0,9,     -999.0,9,     -999.0,9,     0.0122,1,     4.7082,1,     -999.0,9,     -999.0,9,     -999.0,9