BOTTLE,20230801CCHSIOCBG
EXPOCODE,SECT_ID,STNNBR,CASTNO,SAMPNO,BTLNBR,BTLNBR_FLAG_W,DATE,TIME,LATITUDE,LONGITUDE,DEPTH,CTDPRS,CTDPRS_FLAG_W,CTDTMP,CTDTMP_FLAG_W,CTDSAL,CTDSAL_FLAG_W,SALNTY,SALNTY_FLAG_W,CTDOXY,CTDOXY_FLAG_W,OXYGEN,OXYGEN_FLAG_W,SILCAT,SILCAT_FLAG_W,NITRAT,NITRAT_FLAG_W,NITRIT,NITRIT_FLAG_W,PHSPHT,PHSPHT_FLAG_W,CFC-11,CFC-11_FLAG_W,CFC-12,CFC-12_FLAG_W,SF6,SF6_FLAG_W,TCARBN,TCARBN_FLAG_W,ALKALI,ALKALI_FLAG_W,PH_TOT,PH_TOT_FLAG_W,PH_TMP,PH_TMP_FLAG_W,DELC13,DELC13_FLAG_W,DELC14,DELC14_FLAG_W,DOC,DOC_FLAG_W,TDN,TDN_FLAG_W,N2O,N2O_FLAG_W,BTL_DATE,BTL_TIME,BTL_LAT,BTL_LON,REFTMP,REFTMP_FLAG_W,POC,POC_FLAG_W,PON,PON_FLAG_W,POP,POP_FLAG_W,PCOD,PCOD_FLAG_W,CTDFLUOR,CTDFLUOR_FLAG_W,CTDXMISS,CTDXMISS_FLAG_W,HPLC,HPLC_FLAG_W,DNA,DNA_FLAG_W,FCM,FCM_FLAG_W
,,,,,,,,,,,METERS,DBAR,,ITS-90,,PSS-78,,PSS-78,,UMOL/KG,,UMOL/KG,,UMOL/KG,,UMOL/KG,,UMOL/KG,,UMOL/KG,,PMOL/KG,,PMOL/KG,,FMOL/KG,,UMOL/KG,,UMOL/KG,,,,DEG C,,/MILLE,,/MILLE,,UMOL/KG,,UMOL/KG,,NMOL/KG,,,,,,ITS-90,,UG/L,,UG/L,,UG/L,,UG/L,,VOLTS,,VOLTS,,,,,,,
33RR20220430,        P02,      61,          1,         36,         36,2,20220522,       1659,    29.9993,   167.4118,       6003,     8.6,2,  23.2527,2,  35.2865,2,  35.2688,2,    216.8,2,   217.9,2,    0.78,2,    0.00,2,    0.00,2,    0.02,2,   1.842,2,   1.107,2,   1.9304,2,  2022.9,2,  2315.3,2,   8.0298,2,    24.79,2, -999.00,9,  -999.0,9, -999.00,1, -999.00,1,        6.0,2, 20220522,     1918,  29.9993, 167.4118,    23.2468,2,     -999.0,9,     -999.0,9,     -999.0,9,     -999.0,9,     0.0135,1,     4.6413,1,     -999.0,9,     -999.0,9,     -999.0,9
33RR20220430,        P02,      61,          1,         35,         35,2,20220522,       1659,    29.9993,   167.4118,       6003,    35.9,2,  20.7188,2,  35.0492,2,  35.0366,2,    228.7,2,   229.0,2,    0.98,2,    0.00,2,    0.00,2,    0.01,2,   2.017,2,   1.199,2,   2.0004,2,  2017.8,6,  2302.2,2,   8.0156,2,    24.99,2, -999.00,9,  -999.0,9, -999.00,1, -999.00,1,        6.7,2, 20220522,     1916,  29.9993, 167.4118,    20.7123,2,     -999.0,9,     -999.0,9,     -999.0,9,     -999.0,9,     0.0159,1,     4.6336,1,     -999.0,9,     -999.0,9,     -999.0,9
33RR20220430,        P02,      61,          1,         34,         34,2,20220522,       1659,    29.9993,   167.4118,       6003,    60.2,2,  19.5470,2,  34.9583,2,  34.9457,2,    227.9,2,   227.9,2,    1.27,2,    0.00,2,    0.00,2,    0.03,2,   2.120,2,   1.253,2,   2.1587,2,  2021.2,2,  2292.8,2,   7.9962,2,    24.98,2, -999.00,9,  -999.0,9, -999.00,1, -999.00,1,        6.8,2, 20220522,     1914,  29.9993, 167.4118,    19.5463,2,     -999.0,9,     -999.0,9,     -999.0,9,     -999.0,9,     0.0184,1,     4.6386,1,     -999.0,9,     -999.0,9,     -999.0,9
33RR20220430,        P02,      61,          1,         33,         33,2,20220522,       1659,    29.9993,   167.4118,       6003,    86.8,2,  18.7236,2,  34.9012,2,  34.8873,2,    221.9,2,   221.4,2,    1.37,2,    0.15,2,    0.05,2,    0.05,2,   2.119,2,   1.271,2,   2.0255,2,  2031.7,2,  2292.5,2,   7.9748,2,    24.97,2, -999.00,9,  -999.0,9, -999.00,1, -999.00,1,        7.3,2, 20220522,     1912,  29.9993, 167.4118,    18.7196,2,     -999.0,9,     -999.0,9,     -999.0,9,     -999.0,9,     0.0432,1,     4.6253,1,     -999.0,9,     -999.0,9,     -999.0,9
33RR20220430,        P02,      61,          1,         32,         32,2,20220522,       1659,    29.9993,   167.4118,       6003,   117.1,2,  17.9481,2,  34.8217,2,  34.8104,2,    224.4,2,   224.1,2,    1.66,2,    1.05,2,    0.09,2,    0.10,2,   2.182,2,   1.306,2,   2.1182,2,  2033.8,2,  2284.1,2,   7.9624,2,    24.99,2, -999.00,9,  -999.0,9, -999.00,1, -999.00,1,        7.5,2, 20220522,     1910,  29.9993, 167.4118,    17.9495,2,     -999.0,9,     -999.0,9,     -999.0,9,     -999.0,9,     0.0197,1,     4.6668,1,     -999.0,9,     -999.0,9,     -999.0,9
33RR20220430,        P02,      61,          1,         31,         31,2,20220522,       1659,    29.9993,   167.4118,       6003,   165.9,2,  17.3611,2,  34.7535,2,  34.7412,2,    221.7,2,   221.1,2,    2.15,2,    2.36,2,    0.00,2,    0.17,2,   2.224,2,   1.331,2,   2.1396,2,  2039.4,2,  2282.0,2,   7.9473,2,    24.99,2, -999.00,9,  -999.0,9, -999.00,1, -999.00,1,        7.8,2, 20220522,     1908,  29.9993, 167.4118,    17.3601,2,     -999.0,9,     -999.0,9,     -999.0,9,     -999.0,9,     0.0139,1,     4.6827,1,     -999.0,9,     -999.0,9,     -999.0,9
33RR20220430,        P02,      61,          1,         30,         30,2,20220522,       1659,    29.9993,   167.4118,       6003,   215.7,2,  16.8198,2,  34.6981,2,  34.6897,2,    221.4,2,   221.6,2,    2.74,2,    3.25,2,    0.00,2,    0.21,2,   2.288,2,   1.361,2,   2.1153,2,  2041.5,2,  2278.0,2,   7.9353,2,    24.99,2, -999.00,9,  -999.0,9, -999.00,1, -999.00,1,        8.2,2, 20220522,     1906,  29.9992, 167.4118,    16.8256,2,     -999.0,9,     -999.0,9,     -999.0,9,     -999.0,9,     0.0122,1,     4.6820,1,     -999.0,9,     -999.0,9,     -999.0,9
33RR20220430,        P02,      61,          1,         29,         29,2,20220522,       1659,    29.9993,   167.4118,       6003,   266.3,2,  16.1525,2,  34.6651,2,  34.6533,2,    206.2,2,   205.6,2,    4.79,2,    5.97,2,    0.00,2,    0.38,2,   2.365,2,   1.420,2,   2.1216,2,  2061.5,2,  2275.9,2,   7.8968,2,    25.01,2, -999.00,9,  -999.0,9, -999.00,1, -999.00,1,        9.7,2, 20220522,     1904,  29.9993, 167.4118,    16.1527,2,     -999.0,9,     -999.0,9,     -999.0,9,     -999.0,9,     0.0122,1,     4.6885,1,     -999.0,9,     -999.0,9,     -999.0,9
33RR20220430,        P02,      61,          1,         28,         28,2,20220522,       1659,    29.9993,   167.4118,       6003,   317.8,2,  14.9607,2,  34.5682,2,  34.5596,2,    201.7,2,   201.2,2,    7.52,2,    8.18,2,    0.00,2,    0.53,2,   2.450,2,   1.491,2,   1.8628,2,  2077.9,2,  2273.4,2,   7.8602,2,    24.90,2, -999.00,9,  -999.0,9, -999.00,1, -999.00,1,       11.1,2, 20220522,     1903,  29.9994, 167.4118,    14.9904,2,     -999.0,9,     -999.0,9,     -999.0,9,     -999.0,9,     0.0122,1,     4.6912,1,     -999.0,9,     -999.0,9,     -999.0,9
33RR20220430,        P02,      61,          1,         27,         27,2,20220522,       1659,    29.9993,   167.4118,       6003,   366.8,2,  13.6304,2,  34.4785,3,  34.4559,2,    210.0,2,   210.6,2,    4.98,2,    5.97,2,    0.00,2,    0.39,2,   2.558,2,   1.479,2,   2.0503,2,  -999.0,9,  -999.0,9,-999.0000,9,  -999.00,9, -999.00,9,  -999.0,9, -999.00,1, -999.00,1,       12.1,2, 20220522,     1901,  29.9993, 167.4118,    13.6210,2,     -999.0,9,     -999.0,9,     -999.0,9,     -999.0,9,     0.0122,1,     4.6865,1,     -999.0,9,     -999.0,9,     -999.0,9
33RR20220430,        P02,      61,          1,         26,         26,2,20220522,       1659,    29.9993,   167.4118,       6003,   439.4,2,  12.0671,2,  34.4012,2,  34.3939,2,    252.4,2,   252.2,2,   10.36,2,    8.10,2,    0.00,2,    0.56,2,   2.830,2,   1.628,2,   2.5874,2,  2079.2,2,  2272.3,2,   7.8547,2,    24.99,2, -999.00,9,  -999.0,9, -999.00,1, -999.00,1,        9.9,2, 20220522,     1858,  29.9993, 167.4118,    12.0661,2,     -999.0,9,     -999.0,9,     -999.0,9,     -999.0,9,     0.0122,1,     4.6907,1,     -999.0,9,     -999.0,9,     -999.0,9
33RR20220430,        P02,      61,          1,         25,         25,2,20220522,       1659,    29.9993,   167.4118,       6003,   539.6,2,  11.3828,2,  34.3345,3,  34.3235,2,    240.5,2,   241.6,2,   13.58,2,   10.25,2,    0.00,2,    0.71,2,   2.887,2,   1.622,2,   2.7186,2,  2092.5,2,  2269.4,2,   7.8204,2,    24.99,2, -999.00,9,  -999.0,9, -999.00,1, -999.00,1,       11.4,2, 20220522,     1856,  29.9993, 167.4118,    11.3650,2,     -999.0,9,     -999.0,9,     -999.0,9,     -999.0,9,     0.0122,1,     4.6931,1,     -999.0,9,     -999.0,9,     -999.0,9
33RR20220430,        P02,      61,          1,         24,         24,2,20220522,       1659,    29.9993,   167.4118,       6003,   642.6,2,   7.9804,2,  34.0218,2,  34.0168,2,    189.7,2,   189.6,2,   35.28,2,   21.60,2,    0.00,2,    1.51,2,   2.918,2,   1.632,2,   1.9717,2,  2167.4,2,  2272.8,2,   7.6444,2,    25.01,2, -999.00,9,  -999.0,9, -999.00,1, -999.00,1,       19.6,2, 20220522,     1853,  29.9993, 167.4118,     7.9746,2,     -999.0,9,     -999.0,9,     -999.0,9,     -999.0,9,     0.0122,1,     4.6973,1,     -999.0,9,     -999.0,9,     -999.0,9
33RR20220430,        P02,      61,          1,         23,         23,2,20220522,       1659,    29.9993,   167.4118,       6003,   744.2,2,   5.6437,2,  34.0281,2,  34.0243,2,    110.2,2,   109.9,2,   68.02,2,   33.08,2,    0.00,2,    2.32,2,   2.019,6,   1.111,6,   0.8135,6,  2251.5,2,  2296.4,2,   7.4608,2,    25.00,2, -999.00,9,  -999.0,9, -999.00,1, -999.00,1,       32.0,6, 20220522,     1850,  29.9993, 167.4118,     5.6777,2,     -999.0,9,     -999.0,9,     -999.0,9,     -999.0,9,     0.0134,1,     4.7009,1,     -999.0,9,     -999.0,9,     -999.0,9
33RR20220430,        P02,      61,          1,         22,         22,2,20220522,       1659,    29.9993,   167.4118,       6003,   843.0,2,   4.6800,2,  34.1083,2,  34.1085,2,     71.5,3,    72.6,2,   90.30,2,   38.00,2,    0.00,2,    2.66,2,   1.312,2,   0.735,2,   0.5044,2,  -999.0,9,  -999.0,9,-999.0000,9,  -999.00,9, -999.00,9,  -999.0,9, -999.00,9, -999.00,9,       38.9,2, 20220522,     1848,  29.9994, 167.4118,     4.6737,2,     -999.0,9,     -999.0,9,     -999.0,9,     -999.0,9,     0.0134,1,     4.7007,1,     -999.0,9,     -999.0,9,     -999.0,9
33RR20220430,        P02,      61,          1,         21,         21,2,20220522,       1659,    29.9993,   167.4118,       6003,   944.4,2,   4.0410,2,  34.2154,2,  34.2144,2,     47.2,2,    47.3,2,  108.66,2,   40.84,2,    0.00,2,    2.85,2,   0.721,2,   0.393,2,   0.3225,2,  2331.6,2,  2338.0,2,   7.3451,2,    24.99,2, -999.00,9,  -999.0,9, -999.00,1, -999.00,1,       44.3,2, 20220522,     1845,  29.9993, 167.4118,     4.0403,2,     -999.0,9,     -999.0,9,     -999.0,9,     -999.0,9,     0.0134,1,     4.7010,1,     -999.0,9,     -999.0,9,     -999.0,9
33RR20220430,        P02,      61,          1,         20,         20,2,20220522,       1659,    29.9993,   167.4118,       6003,  1050.7,2,   3.5713,2,  34.3041,2,  34.3062,2,     34.9,3,    35.8,2,  123.41,2,   42.38,2,    0.00,2,    2.98,2,   0.335,2,   0.188,2,   0.0000,2,  -999.0,9,  -999.0,9,-999.0000,9,  -999.00,9, -999.00,9,  -999.0,9, -999.00,9, -999.00,9,       47.3,2, 20220522,     1842,  29.9993, 167.4118,     3.5702,2,     -999.0,9,     -999.0,9,     -999.0,9,     -999.0,9,     0.0134,1,     4.7022,1,     -999.0,9,     -999.0,9,     -999.0,9
33RR20220430,        P02,      61,          1,         19,         19,2,20220522,       1659,    29.9993,   167.4118,       6003,  1152.1,2,   3.2928,2,  34.3590,2,  34.3590,2,     31.6,3,    31.0,2,  131.13,2,   42.97,2,    0.00,2,    3.03,2,   0.190,2,   0.108,2,   0.0000,2,  2363.6,2,  2368.3,2,   7.3301,2,    24.98,2, -999.00,9,  -999.0,9, -999.00,1, -999.00,1,       47.9,2, 20220522,     1840,  29.9993, 167.4118,     3.2834,2,     -999.0,9,     -999.0,9,     -999.0,9,     -999.0,9,     0.0134,1,     4.7019,1,     -999.0,9,     -999.0,9,     -999.0,9
33RR20220430,        P02,      61,          1,         18,         18,2,20220522,       1659,    29.9993,   167.4118,       6003,  1253.3,2,   3.0041,2,  34.4135,2,  34.4133,2,     31.1,3,    31.5,2,  140.11,2,   43.07,2,    0.00,2,    3.06,2,   0.102,2,   0.053,2,   0.0000,2,  2374.4,2,  2378.3,2,   7.3345,2,    25.02,2, -999.00,9,  -999.0,9, -999.00,9, -999.00,9,       47.5,2, 20220522,     1837,  29.9993, 167.4118,     3.0040,2,     -999.0,9,     -999.0,9,     -999.0,9,     -999.0,9,     0.0134,1,     4.7019,1,     -999.0,9,     -999.0,9,     -999.0,9
33RR20220430,        P02,      61,          1,         17,         17,2,20220522,       1659,    29.9993,   167.4118,       6003,  1354.9,2,   2.7648,2,  34.4619,2,  34.4614,2,     34.0,3,    33.7,2,  146.75,2,   43.45,2,    0.00,2,    3.05,2,   0.049,2,   0.026,2,   0.0000,2,  2379.4,2,  2388.2,2,   7.3440,2,    25.01,2, -999.00,9,  -999.0,9, -999.00,1, -999.00,1,       45.4,2, 20220522,     1834,  29.9993, 167.4118,     2.7688,2,     -999.0,9,     -999.0,9,     -999.0,9,     -999.0,9,     0.0134,1,     4.7023,1,     -999.0,9,     -999.0,9,     -999.0,9
33RR20220430,        P02,      61,          1,         16,         16,2,20220522,       1659,    29.9993,   167.4118,       6003,  1486.6,2,   2.5936,2,  34.5061,2,  34.5058,2,     44.0,3,    43.5,2,  149.97,2,   42.87,2,    0.00,2,    3.00,2,   0.021,2,   0.012,2,   0.0000,2,  -999.0,9,  -999.0,9,-999.0000,9,  -999.00,9, -999.00,9,  -999.0,9, -999.00,9, -999.00,9,       41.6,2, 20220522,     1831,  29.9993, 167.4118,     2.5932,2,     -999.0,9,     -999.0,9,     -999.0,9,     -999.0,9,     0.0134,1,     4.7044,1,     -999.0,9,     -999.0,9,     -999.0,9
33RR20220430,        P02,      61,          1,         15,         15,2,20220522,       1659,    29.9993,   167.4118,       6003,  1688.8,2,   2.2967,2,  34.5528,2,  34.5535,2,     59.5,2,    59.8,2,  155.24,2,   41.99,2,    0.00,2,    2.94,2,   0.011,2,   0.000,2,   0.0000,2,  2373.0,2,  2403.5,2,   7.4011,2,    24.97,2, -999.00,9,  -999.0,9, -999.00,1, -999.00,1,       37.3,2, 20220522,     1826,  29.9993, 167.4118,     2.2964,2,     -999.0,9,     -999.0,9,     -999.0,9,     -999.0,9,     0.0134,1,     4.7055,1,     -999.0,9,     -999.0,9,     -999.0,9
33RR20220430,        P02,      61,          1,         14,         14,2,20220522,       1659,    29.9993,   167.4118,       6003,  1891.7,2,   2.0640,2,  34.5856,2,  34.5863,2,     73.8,2,    74.0,2,  158.16,2,   41.01,2,    0.00,2,    2.85,2,   0.009,2,   0.000,2,   0.0000,2,  -999.0,9,  -999.0,9,-999.0000,9,  -999.00,9, -999.00,9,  -999.0,9, -999.00,9, -999.00,9,       33.2,2, 20220522,     1822,  29.9993, 167.4118,     2.0640,2,     -999.0,9,     -999.0,9,     -999.0,9,     -999.0,9,     0.0134,1,     4.7059,1,     -999.0,9,     -999.0,9,     -999.0,9
33RR20220430,        P02,      61,          1,         13,         13,2,20220522,       1659,    29.9993,   167.4118,       6003,  2116.9,2,   1.8632,2,  34.6154,2,  34.6158,2,     91.6,2,    91.4,2,  158.36,2,   39.86,2,    0.00,2,    2.76,2,   0.005,2,   0.000,2,   0.0000,2,  2360.5,2,  2411.4,2,   7.4645,2,    24.99,2, -999.00,9,  -999.0,9, -999.00,1, -999.00,1,       29.6,2, 20220522,     1817,  29.9993, 167.4118,     1.8630,2,     -999.0,9,     -999.0,9,     -999.0,9,     -999.0,9,     0.0134,1,     4.7069,1,     -999.0,9,     -999.0,9,     -999.0,9
33RR20220430,        P02,      61,          1,         12,         12,2,20220522,       1659,    29.9993,   167.4118,       6003,  2368.7,2,   1.7399,2,  34.6342,2,  34.6343,2,    105.1,2,   104.8,2,  158.06,2,   39.19,2,    0.00,2,    2.71,2,-999.000,9,-999.000,9,-999.0000,9,  -999.0,9,  -999.0,9,-999.0000,9,  -999.00,9, -999.00,9,  -999.0,9, -999.00,9, -999.00,9,     -999.0,9, 20220522,     1812,  29.9994, 167.4118,     1.7397,2,     -999.0,9,     -999.0,9,     -999.0,9,     -999.0,9,     0.0125,1,     4.7060,1,     -999.0,9,     -999.0,9,     -999.0,9
33RR20220430,        P02,      61,          1,         11,         11,2,20220522,       1659,    29.9993,   167.4118,       6003,  2622.8,2,   1.6445,2,  34.6497,2,  34.6498,2,    118.3,2,   118.5,2,  155.81,2,   38.16,2,    0.00,2,    2.64,2,   0.006,2,   0.000,2,   0.0000,2,  2346.0,2,  2415.8,2,   7.5147,2,    24.98,2, -999.00,9,  -999.0,9, -999.00,1, -999.00,1,       25.2,2, 20220522,     1807,  29.9993, 167.4118,     1.6439,2,     -999.0,9,     -999.0,9,     -999.0,9,     -999.0,9,     0.0124,1,     4.7076,1,     -999.0,9,     -999.0,9,     -999.0,9
33RR20220430,        P02,      61,          1,         10,         10,2,20220522,       1659,    29.9993,   167.4118,       6003,  2879.9,2,   1.5929,2,  34.6593,2,  34.6594,2,    127.1,2,   127.0,2,  153.47,2,   37.53,2,    0.00,2,    2.60,2,-999.000,9,-999.000,9,-999.0000,9,  -999.0,9,  -999.0,9,-999.0000,9,  -999.00,9, -999.00,9,  -999.0,9, -999.00,9, -999.00,9,     -999.0,9, 20220522,     1801,  29.9994, 167.4118,     1.5929,2,     -999.0,9,     -999.0,9,     -999.0,9,     -999.0,9,     0.0134,1,     4.7079,1,     -999.0,9,     -999.0,9,     -999.0,9
33RR20220430,        P02,      61,          1,          9,          9,2,20220522,       1659,    29.9993,   167.4118,       6003,  3149.2,2,   1.5494,2,  34.6667,2,  34.6673,2,    133.8,2,   134.2,2,  152.39,2,   37.07,2,    0.00,2,    2.57,2,   0.004,2,   0.000,2,   0.0000,2,  2338.2,2,  2419.1,2,   7.5428,2,    25.00,2, -999.00,9,  -999.0,9, -999.00,1, -999.00,1,       23.8,2, 20220522,     1756,  29.9993, 167.4118,     1.5493,2,     -999.0,9,     -999.0,9,     -999.0,9,     -999.0,9,     0.0122,1,     4.7081,1,     -999.0,9,     -999.0,9,     -999.0,9
33RR20220430,        P02,      61,          1,          8,          8,2,20220522,       1659,    29.9993,   167.4118,       6003,  3454.5,2,   1.5159,2,  34.6728,2,  34.6724,2,    140.1,2,   140.5,2,  151.41,2,   36.84,2,    0.00,2,    2.54,2,-999.000,9,-999.000,9,-999.0000,9,  -999.0,9,  -999.0,9,-999.0000,9,  -999.00,9, -999.00,9,  -999.0,9, -999.00,9, -999.00,9,     -999.0,9, 20220522,     1750,  29.9993, 167.4118,     1.5155,2,     -999.0,9,     -999.0,9,     -999.0,9,     -999.0,9,     0.0122,1,     4.7081,1,     -999.0,9,     -999.0,9,     -999.0,9
33RR20220430,        P02,      61,          1,          7,          7,2,20220522,       1659,    29.9993,   167.4118,       6003,  3799.4,2,   1.4889,2,  34.6789,2,  34.6787,2,    146.9,2,   147.2,2,  149.56,2,   36.08,2,    0.00,2,    2.50,2,   0.006,2,   0.000,2,   0.0000,2,  2329.1,2,  2413.1,2,   7.5639,2,    24.99,2, -999.00,9,  -999.0,9, -999.00,1, -999.00,1,       22.0,2, 20220522,     1743,  29.9993, 167.4118,     1.4886,2,     -999.0,9,     -999.0,9,     -999.0,9,     -999.0,9,     0.0122,1,     4.7084,1,     -999.0,9,     -999.0,9,     -999.0,9
33RR20220430,        P02,      61,          1,          6,          6,2,20220522,       1659,    29.9993,   167.4118,       6003,  4208.3,2,   1.4754,2,  34.6842,2,  34.6834,2,    154.2,2,   154.2,2,  147.21,2,   35.78,2,    0.00,2,    2.47,2,-999.000,9,-999.000,9,-999.0000,9,  -999.0,9,  -999.0,9,-999.0000,9,  -999.00,9, -999.00,9,  -999.0,9, -999.00,1, -999.00,1,     -999.0,9, 20220522,     1735,  29.9993, 167.4119,     1.4753,2,     -999.0,9,     -999.0,9,     -999.0,9,     -999.0,9,     0.0122,1,     4.7081,1,     -999.0,9,     -999.0,9,     -999.0,9
33RR20220430,        P02,      61,          1,          5,          5,2,20220522,       1659,    29.9993,   167.4118,       6003,  4618.1,2,   1.4756,2,  34.6883,2,  34.6883,2,    160.3,2,   160.1,2,  144.57,2,   35.37,2,    0.00,2,    2.43,2,   0.007,2,   0.000,2,   0.0000,2,  2317.6,2,  2409.4,2,   7.5829,2,    24.99,2, -999.00,9,  -999.0,9, -999.00,1, -999.00,1,       20.8,2, 20220522,     1728,  29.9993, 167.4119,     1.4755,2,     -999.0,9,     -999.0,9,     -999.0,9,     -999.0,9,     0.0122,1,     4.7080,1,     -999.0,9,     -999.0,9,     -999.0,9
33RR20220430,        P02,      61,          1,          4,          4,2,20220522,       1659,    29.9993,   167.4118,       6003,  5030.3,2,   1.4827,2,  34.6922,2,  34.6920,2,    167.4,2,   167.8,2,  138.71,2,   34.89,2,    0.00,2,    2.40,2,-999.000,9,-999.000,9,-999.0000,9,  -999.0,9,  -999.0,9,-999.0000,9,  -999.00,9, -999.00,9,  -999.0,9, -999.00,9, -999.00,9,     -999.0,9, 20220522,     1720,  29.9993, 167.4119,     1.4829,2,     -999.0,9,     -999.0,9,     -999.0,9,     -999.0,9,     0.0122,1,     4.7084,1,     -999.0,9,     -999.0,9,     -999.0,9