BOTTLE,20230801CCHSIOCBG
EXPOCODE,SECT_ID,STNNBR,CASTNO,SAMPNO,BTLNBR,BTLNBR_FLAG_W,DATE,TIME,LATITUDE,LONGITUDE,DEPTH,CTDPRS,CTDPRS_FLAG_W,CTDTMP,CTDTMP_FLAG_W,CTDSAL,CTDSAL_FLAG_W,SALNTY,SALNTY_FLAG_W,CTDOXY,CTDOXY_FLAG_W,OXYGEN,OXYGEN_FLAG_W,SILCAT,SILCAT_FLAG_W,NITRAT,NITRAT_FLAG_W,NITRIT,NITRIT_FLAG_W,PHSPHT,PHSPHT_FLAG_W,CFC-11,CFC-11_FLAG_W,CFC-12,CFC-12_FLAG_W,SF6,SF6_FLAG_W,TCARBN,TCARBN_FLAG_W,ALKALI,ALKALI_FLAG_W,PH_TOT,PH_TOT_FLAG_W,PH_TMP,PH_TMP_FLAG_W,DELC13,DELC13_FLAG_W,DELC14,DELC14_FLAG_W,DOC,DOC_FLAG_W,TDN,TDN_FLAG_W,N2O,N2O_FLAG_W,BTL_DATE,BTL_TIME,BTL_LAT,BTL_LON,REFTMP,REFTMP_FLAG_W,POC,POC_FLAG_W,PON,PON_FLAG_W,POP,POP_FLAG_W,PCOD,PCOD_FLAG_W,CTDFLUOR,CTDFLUOR_FLAG_W,CTDXMISS,CTDXMISS_FLAG_W,HPLC,HPLC_FLAG_W,DNA,DNA_FLAG_W,FCM,FCM_FLAG_W
,,,,,,,,,,,METERS,DBAR,,ITS-90,,PSS-78,,PSS-78,,UMOL/KG,,UMOL/KG,,UMOL/KG,,UMOL/KG,,UMOL/KG,,UMOL/KG,,PMOL/KG,,PMOL/KG,,FMOL/KG,,UMOL/KG,,UMOL/KG,,,,DEG C,,/MILLE,,/MILLE,,UMOL/KG,,UMOL/KG,,NMOL/KG,,,,,,ITS-90,,UG/L,,UG/L,,UG/L,,UG/L,,VOLTS,,VOLTS,,,,,,,
33RR20220430,        P02,     117,          1,          3,          3,2,20220608,       0904,    29.9994,  -161.2131,       5725,  5096.3,2,   1.5409,2,  34.6870,2,  34.6889,2,    156.9,2,   157.4,2,  150.41,2,   35.84,2,    0.00,2,    2.45,2,   0.004,2,   0.000,2,   0.0000,2,  2319.9,2,  2416.9,2,   7.5854,2,    25.01,2, -999.00,9,  -999.0,9, -999.00,9, -999.00,9,       22.5,2, 20220608,      919,  29.9994,-161.2131,     1.5411,2,     -999.0,9,     -999.0,9,     -999.0,9,     -999.0,9,     0.0128,1,     4.7053,1,     -999.0,9,     -999.0,9,     -999.0,9
33RR20220430,        P02,     117,          1,          2,          2,2,20220608,       0904,    29.9994,  -161.2131,       5725,  5405.8,2,   1.5734,2,  34.6878,2,  34.6895,2,    158.6,2,   159.1,2,  148.84,2,   35.71,2,    0.00,2,    2.45,2,   0.003,2,   0.000,2,   0.0000,2,  2319.8,2,  2416.2,2,   7.5870,2,    25.00,2, -999.00,9,  -999.0,9, -999.00,9, -999.00,9,       22.5,2, 20220608,      912,  29.9994,-161.2131,     1.5736,2,     -999.0,9,     -999.0,9,     -999.0,9,     -999.0,9,     0.0122,1,     4.7044,1,     -999.0,9,     -999.0,9,     -999.0,9
33RR20220430,        P02,     117,          1,          1,          1,2,20220608,       0904,    29.9994,  -161.2131,       5725,  5831.5,2,   1.6295,2,  34.6876,3,  34.6901,2,    159.4,2,   158.6,2,  148.65,2,   35.68,2,    0.00,2,    2.45,2,   0.005,2,   0.000,2,   0.0000,2,  2319.5,6,  2418.1,2,   7.5869,2,    25.00,2, -999.00,9,  -999.0,9, -999.00,1, -999.00,1,       22.8,2, 20220608,      904,  29.9994,-161.2131,     1.6297,2,     -999.0,9,     -999.0,9,     -999.0,9,     -999.0,9,     0.0115,1,     4.7032,1,     -999.0,9,     -999.0,9,     -999.0,9