BOTTLE,20230801CCHSIOCBG
EXPOCODE,SECT_ID,STNNBR,CASTNO,SAMPNO,BTLNBR,BTLNBR_FLAG_W,DATE,TIME,LATITUDE,LONGITUDE,DEPTH,CTDPRS,CTDPRS_FLAG_W,CTDTMP,CTDTMP_FLAG_W,CTDSAL,CTDSAL_FLAG_W,SALNTY,SALNTY_FLAG_W,CTDOXY,CTDOXY_FLAG_W,OXYGEN,OXYGEN_FLAG_W,SILCAT,SILCAT_FLAG_W,NITRAT,NITRAT_FLAG_W,NITRIT,NITRIT_FLAG_W,PHSPHT,PHSPHT_FLAG_W,CFC-11,CFC-11_FLAG_W,CFC-12,CFC-12_FLAG_W,SF6,SF6_FLAG_W,TCARBN,TCARBN_FLAG_W,ALKALI,ALKALI_FLAG_W,PH_TOT,PH_TOT_FLAG_W,PH_TMP,PH_TMP_FLAG_W,DELC13,DELC13_FLAG_W,DELC14,DELC14_FLAG_W,DOC,DOC_FLAG_W,TDN,TDN_FLAG_W,N2O,N2O_FLAG_W,BTL_DATE,BTL_TIME,BTL_LAT,BTL_LON,REFTMP,REFTMP_FLAG_W,POC,POC_FLAG_W,PON,PON_FLAG_W,POP,POP_FLAG_W,PCOD,PCOD_FLAG_W,CTDFLUOR,CTDFLUOR_FLAG_W,CTDXMISS,CTDXMISS_FLAG_W,HPLC,HPLC_FLAG_W,DNA,DNA_FLAG_W,FCM,FCM_FLAG_W
,,,,,,,,,,,METERS,DBAR,,ITS-90,,PSS-78,,PSS-78,,UMOL/KG,,UMOL/KG,,UMOL/KG,,UMOL/KG,,UMOL/KG,,UMOL/KG,,PMOL/KG,,PMOL/KG,,FMOL/KG,,UMOL/KG,,UMOL/KG,,,,DEG C,,/MILLE,,/MILLE,,UMOL/KG,,UMOL/KG,,NMOL/KG,,,,,,ITS-90,,UG/L,,UG/L,,UG/L,,UG/L,,VOLTS,,VOLTS,,,,,,,
33RR20220430,        P02,      66,          1,          3,          3,2,20220524,       0729,    29.9997,   170.2968,       5568,  5302.8,2,   1.4837,2,  34.6946,3,  34.6893,2,    170.7,2,   170.8,2,  137.54,2,   34.58,2,    0.00,2,    2.37,2,   0.009,2,   0.000,2,   0.0000,2,  2303.9,2,  2403.6,2,   7.5957,2,    24.98,2, -999.00,9,  -999.0,9, -999.00,1, -999.00,1,       19.6,2, 20220524,      738,  29.9997, 170.2968,     1.4838,2,     -999.0,9,     -999.0,9,     -999.0,9,     -999.0,9,     0.0122,1,     4.7064,1,     -999.0,9,     -999.0,9,     -999.0,9
33RR20220430,        P02,      66,          1,          2,          2,2,20220524,       0729,    29.9997,   170.2968,       5568,  5509.1,2,   1.5004,2,  34.6954,2,  34.6934,2,    172.3,2,   172.8,2,  136.37,2,   34.42,2,    0.00,2,    2.37,2,-999.000,9,-999.000,9,-999.0000,9,  2302.9,2,  2402.8,2,   7.5975,2,    24.99,2, -999.00,9,  -999.0,9, -999.00,1, -999.00,1,     -999.0,9, 20220524,      733,  29.9997, 170.2968,     1.5006,2,     -999.0,9,     -999.0,9,     -999.0,9,     -999.0,9,     0.0122,1,     4.7043,1,     -999.0,9,     -999.0,9,     -999.0,9
33RR20220430,        P02,      66,          1,          1,          1,2,20220524,       0729,    29.9997,   170.2968,       5568,  5676.9,2,   1.5135,2,  34.6959,2,  34.6950,2,    173.9,2,   173.8,2,  135.98,2,   34.31,2,    0.00,2,    2.35,2,   0.009,2,   0.000,2,   0.0000,2,  2301.7,6,  2401.7,2,   7.5987,2,    24.99,2, -999.00,9,  -999.0,9, -999.00,1, -999.00,1,       19.8,2, 20220524,      729,  29.9997, 170.2968,     1.5134,2,     -999.0,9,     -999.0,9,     -999.0,9,     -999.0,9,     0.0122,1,     4.7025,1,     -999.0,9,     -999.0,9,     -999.0,9