BOTTLE,20230801CCHSIOCBG
EXPOCODE,SECT_ID,STNNBR,CASTNO,SAMPNO,BTLNBR,BTLNBR_FLAG_W,DATE,TIME,LATITUDE,LONGITUDE,DEPTH,CTDPRS,CTDPRS_FLAG_W,CTDTMP,CTDTMP_FLAG_W,CTDSAL,CTDSAL_FLAG_W,SALNTY,SALNTY_FLAG_W,CTDOXY,CTDOXY_FLAG_W,OXYGEN,OXYGEN_FLAG_W,SILCAT,SILCAT_FLAG_W,NITRAT,NITRAT_FLAG_W,NITRIT,NITRIT_FLAG_W,PHSPHT,PHSPHT_FLAG_W,CFC-11,CFC-11_FLAG_W,CFC-12,CFC-12_FLAG_W,SF6,SF6_FLAG_W,TCARBN,TCARBN_FLAG_W,ALKALI,ALKALI_FLAG_W,PH_TOT,PH_TOT_FLAG_W,PH_TMP,PH_TMP_FLAG_W,DELC13,DELC13_FLAG_W,DELC14,DELC14_FLAG_W,DOC,DOC_FLAG_W,TDN,TDN_FLAG_W,N2O,N2O_FLAG_W,BTL_DATE,BTL_TIME,BTL_LAT,BTL_LON,REFTMP,REFTMP_FLAG_W,POC,POC_FLAG_W,PON,PON_FLAG_W,POP,POP_FLAG_W,PCOD,PCOD_FLAG_W,CTDFLUOR,CTDFLUOR_FLAG_W,CTDXMISS,CTDXMISS_FLAG_W,HPLC,HPLC_FLAG_W,DNA,DNA_FLAG_W,FCM,FCM_FLAG_W
,,,,,,,,,,,METERS,DBAR,,ITS-90,,PSS-78,,PSS-78,,UMOL/KG,,UMOL/KG,,UMOL/KG,,UMOL/KG,,UMOL/KG,,UMOL/KG,,PMOL/KG,,PMOL/KG,,FMOL/KG,,UMOL/KG,,UMOL/KG,,,,DEG C,,/MILLE,,/MILLE,,UMOL/KG,,UMOL/KG,,NMOL/KG,,,,,,ITS-90,,UG/L,,UG/L,,UG/L,,UG/L,,VOLTS,,VOLTS,,,,,,,
33RR20220430,        P02,      93,          1,         36,         36,2,20220601,       0502,    29.9995,  -175.0587,       5337,     3.7,2,  22.2283,2,  35.2166,3,  35.1939,2,    222.1,2,   221.1,2,    1.27,2,    0.00,2,    0.00,2,    0.00,2,   1.688,2,   1.134,2,   1.8883,2,  2027.4,2,  2310.7,2,   8.0140,2,    25.01,2, -999.00,9,  -999.0,9, -999.00,1, -999.00,1,        5.9,2, 20220601,      714,  29.9995,-175.0587,    22.2258,2,     -999.0,9,     -999.0,9,     -999.0,9,     -999.0,9,     0.0134,1,     4.6361,1,     -999.0,9,     -999.0,9,     -999.0,9
33RR20220430,        P02,      93,          1,         35,         35,2,20220601,       0502,    29.9995,  -175.0587,       5337,    26.1,2,  20.8148,2,  35.1327,2,  35.1183,2,    227.9,2,   228.5,2,    1.46,2,    0.00,2,    0.00,2,    0.00,2,   1.767,2,   1.169,2,   2.0164,2,  2030.3,2,  2306.2,2,   8.0032,2,    25.02,2, -999.00,9,  -999.0,9, -999.00,1, -999.00,1,        6.2,2, 20220601,      713,  29.9995,-175.0587,    20.8152,2,     -999.0,9,     -999.0,9,     -999.0,9,     -999.0,9,     0.0147,1,     4.6357,1,     -999.0,9,     -999.0,9,     -999.0,9
33RR20220430,        P02,      93,          1,         34,         34,2,20220601,       0502,    29.9995,  -175.0587,       5337,    52.0,2,  19.3189,2,  34.9277,2,  34.9378,2,    236.0,2,   235.8,2,    1.76,2,    0.00,2,    0.00,2,    0.00,2,   1.880,2,   1.273,2,   1.9857,2,  2031.0,6,  2292.6,2,   7.9882,2,    25.02,2, -999.00,9,  -999.0,9, -999.00,1, -999.00,1,        6.5,2, 20220601,      711,  29.9995,-175.0587,    19.3351,2,     -999.0,9,     -999.0,9,     -999.0,9,     -999.0,9,     0.0166,1,     4.6396,1,     -999.0,9,     -999.0,9,     -999.0,9
33RR20220430,        P02,      93,          1,         33,         33,2,20220601,       0502,    29.9995,  -175.0587,       5337,    76.1,2,  18.3724,2,  34.8444,2,  34.8304,2,    239.2,2,   239.6,2,    1.95,2,    0.00,2,    0.00,2,    0.02,2,   1.989,2,   1.306,2,   2.1322,2,  2029.8,2,  2288.5,2,   7.9790,2,    25.03,2, -999.00,9,  -999.0,9, -999.00,1, -999.00,1,        6.8,2, 20220601,      709,  29.9995,-175.0587,    18.3681,2,     -999.0,9,     -999.0,9,     -999.0,9,     -999.0,9,     0.0215,1,     4.6359,1,     -999.0,9,     -999.0,9,     -999.0,9
33RR20220430,        P02,      93,          1,         32,         32,2,20220601,       0502,    29.9995,  -175.0587,       5337,   101.0,2,  17.4229,2,  34.7141,2,  34.7001,2,    243.4,2,   244.1,2,    2.05,2,    0.00,2,    0.01,2,    0.02,2,   2.053,2,   1.374,2,   2.2081,2,  2030.1,2,  2278.3,2,   7.9662,2,    25.02,2, -999.00,9,  -999.0,9, -999.00,1, -999.00,1,        7.3,2, 20220601,      707,  29.9995,-175.0587,    17.4240,2,     -999.0,9,     -999.0,9,     -999.0,9,     -999.0,9,     0.0337,1,     4.6177,1,     -999.0,9,     -999.0,9,     -999.0,9
33RR20220430,        P02,      93,          1,         31,         31,2,20220601,       0502,    29.9995,  -175.0587,       5337,   151.6,2,  15.8854,2,  34.5897,2,  34.5838,2,    230.5,2,   230.3,2,    4.30,2,    3.42,2,    0.02,2,    0.23,2,   2.167,2,   1.397,2,   2.2050,2,  2048.7,2,  2271.3,2,   7.9183,2,    25.02,2, -999.00,9,  -999.0,9, -999.00,1, -999.00,1,        8.4,2, 20220601,      705,  29.9995,-175.0587,    15.9187,2,     -999.0,9,     -999.0,9,     -999.0,9,     -999.0,9,     0.0184,1,     4.6659,1,     -999.0,9,     -999.0,9,     -999.0,9
33RR20220430,        P02,      93,          1,         30,         30,2,20220601,       0502,    29.9995,  -175.0587,       5337,   202.7,2,  15.2287,2,  34.5466,2,  34.5362,2,    227.2,2,   227.1,2,    5.76,2,    5.09,2,    0.00,2,    0.35,2,   2.221,2,   1.433,2,   2.1170,2,  2057.9,2,  2271.0,2,   7.8971,2,    25.02,2, -999.00,9,  -999.0,9, -999.00,1, -999.00,1,        9.3,2, 20220601,      703,  29.9995,-175.0587,    15.2290,2,     -999.0,9,     -999.0,9,     -999.0,9,     -999.0,9,     0.0122,1,     4.6811,1,     -999.0,9,     -999.0,9,     -999.0,9
33RR20220430,        P02,      93,          1,         29,         29,2,20220601,       0502,    29.9995,  -175.0587,       5337,   252.9,2,  14.3464,2,  34.4930,2,  34.4848,2,    210.7,2,   210.2,2,    8.01,2,    7.94,2,    0.00,2,    0.53,2,   2.358,2,   1.526,2,   1.9849,2,  -999.0,9,  -999.0,9,-999.0000,9,  -999.00,9, -999.00,9,  -999.0,9, -999.00,1, -999.00,1,       11.3,2, 20220601,      702,  29.9995,-175.0587,    14.3682,2,     -999.0,9,     -999.0,9,     -999.0,9,     -999.0,9,     0.0122,1,     4.6857,1,     -999.0,9,     -999.0,9,     -999.0,9
33RR20220430,        P02,      93,          1,         28,         28,2,20220601,       0502,    29.9995,  -175.0587,       5337,   303.8,2,  13.3931,2,  34.4307,2,  34.4161,2,    211.3,2,   211.4,2,   10.94,2,    9.87,2,    0.00,2,    0.67,2,   2.421,2,   1.587,2,   2.0664,2,  2091.0,2,  2267.7,2,   7.8262,2,    25.01,2, -999.00,9,  -999.0,9, -999.00,1, -999.00,1,       12.3,2, 20220601,      700,  29.9995,-175.0587,    13.3943,2,     -999.0,9,     -999.0,9,     -999.0,9,     -999.0,9,     0.0122,1,     4.6887,1,     -999.0,9,     -999.0,9,     -999.0,9
33RR20220430,        P02,      93,          1,         27,         27,2,20220601,       0502,    29.9995,  -175.0587,       5337,   353.8,2,  12.2309,2,  34.3402,2,  34.3313,2,    210.8,2,   211.3,2,   14.07,2,   11.87,2,    0.00,2,    0.80,2,   2.535,2,   1.629,2,   2.0512,2,  -999.0,9,  -999.0,9,-999.0000,9,  -999.00,9, -999.00,9,  -999.0,9, -999.00,1, -999.00,1,       13.1,2, 20220601,      658,  29.9995,-175.0587,    12.2324,2,     -999.0,9,     -999.0,9,     -999.0,9,     -999.0,9,     0.0122,1,     4.6908,1,     -999.0,9,     -999.0,9,     -999.0,9
33RR20220430,        P02,      93,          1,         26,         26,2,20220601,       0502,    29.9995,  -175.0587,       5337,   403.4,2,  10.9082,2,  34.2201,2,  34.2148,2,    204.9,2,   205.9,2,   17.98,2,   14.60,2,    0.00,2,    1.00,2,   2.694,2,   1.692,2,   1.8689,2,  2117.6,2,  2263.8,2,   7.7524,2,    25.01,2, -999.00,9,  -999.0,9, -999.00,1, -999.00,1,       15.1,2, 20220601,      656,  29.9995,-175.0587,    10.9068,2,     -999.0,9,     -999.0,9,     -999.0,9,     -999.0,9,     0.0122,1,     4.6946,1,     -999.0,9,     -999.0,9,     -999.0,9
33RR20220430,        P02,      93,          1,         25,         25,2,20220601,       0502,    29.9995,  -175.0587,       5337,   504.6,2,   8.6781,2,  34.0781,2,  34.0760,2,    174.3,2,   174.2,2,   31.66,2,   21.66,2,    0.00,2,    1.50,2,   2.610,2,   1.669,2,   1.4356,2,  2163.9,2,  2267.0,2,   7.6455,2,    25.00,2, -999.00,9,  -999.0,9, -999.00,1, -999.00,1,       20.8,2, 20220601,      653,  29.9995,-175.0587,     8.6574,2,     -999.0,9,     -999.0,9,     -999.0,9,     -999.0,9,     0.0122,1,     4.6972,1,     -999.0,9,     -999.0,9,     -999.0,9
33RR20220430,        P02,      93,          1,         24,         24,2,20220601,       0502,    29.9995,  -175.0587,       5337,   606.9,2,   6.9057,2,  34.0310,2,  34.0284,2,    129.8,3,   128.0,2,   52.09,2,   29.40,2,    0.00,2,    2.06,2,   2.152,2,   1.311,2,   0.8046,2,  -999.0,9,  -999.0,9,-999.0000,9,  -999.00,9, -999.00,9,  -999.0,9, -999.00,9, -999.00,9,       27.8,2, 20220601,      650,  29.9995,-175.0587,     6.9085,2,     -999.0,9,     -999.0,9,     -999.0,9,     -999.0,9,     0.0128,1,     4.6982,1,     -999.0,9,     -999.0,9,     -999.0,9
33RR20220430,        P02,      93,          1,         23,         23,2,20220601,       0502,    29.9995,  -175.0587,       5337,   706.9,2,   5.4415,2,  34.0710,2,  34.0707,2,     81.6,2,    81.0,2,   75.74,2,   36.07,2,    0.00,2,    2.56,2,   1.367,2,   0.859,2,   0.5403,2,  2275.8,2,  2301.1,2,   7.4126,2,    25.00,2, -999.00,9,  -999.0,9, -999.00,1, -999.00,1,       36.1,2, 20220601,      647,  29.9995,-175.0587,     5.4551,2,     -999.0,9,     -999.0,9,     -999.0,9,     -999.0,9,     0.0128,1,     4.6993,1,     -999.0,9,     -999.0,9,     -999.0,9
33RR20220430,        P02,      93,          1,         22,         22,2,20220601,       0502,    29.9995,  -175.0587,       5337,   810.4,2,   4.6599,2,  34.1417,2,  34.1440,2,     51.7,2,    51.6,2,   93.52,2,   39.80,2,    0.00,2,    2.82,2,   0.785,2,   0.467,2,   0.3511,2,  -999.0,9,  -999.0,9,-999.0000,9,  -999.00,9, -999.00,9,  -999.0,9, -999.00,9, -999.00,9,       41.3,2, 20220601,      645,  29.9995,-175.0587,     4.6603,2,     -999.0,9,     -999.0,9,     -999.0,9,     -999.0,9,     0.0134,1,     4.6996,1,     -999.0,9,     -999.0,9,     -999.0,9
33RR20220430,        P02,      93,          1,         21,         21,2,20220601,       0502,    29.9995,  -175.0587,       5337,   909.7,2,   4.0916,2,  34.2354,2,  34.2366,2,     31.3,3,    31.9,2,  109.15,2,   42.06,2,    0.00,2,    3.00,2,   0.353,2,   0.214,2,   0.2308,2,  2343.3,2,  2340.7,2,   7.3268,2,    25.01,2, -999.00,9,  -999.0,9, -999.00,1, -999.00,1,       44.8,2, 20220601,      642,  29.9995,-175.0587,     4.0908,2,     -999.0,9,     -999.0,9,     -999.0,9,     -999.0,9,     0.0133,1,     4.7004,1,     -999.0,9,     -999.0,9,     -999.0,9
33RR20220430,        P02,      93,          1,         20,         20,2,20220601,       0502,    29.9995,  -175.0587,       5337,  1010.3,2,   3.7563,2,  34.3015,2,  34.3009,2,     24.6,3,    24.9,2,  119.11,2,   42.94,2,    0.00,2,    3.06,2,   0.176,2,   0.111,2,   0.2785,2,  -999.0,9,  -999.0,9,-999.0000,9,  -999.00,9, -999.00,9,  -999.0,9, -999.00,9, -999.00,9,       47.6,2, 20220601,      639,  29.9995,-175.0587,     3.7582,2,     -999.0,9,     -999.0,9,     -999.0,9,     -999.0,9,     0.0134,1,     4.6996,1,     -999.0,9,     -999.0,9,     -999.0,9
33RR20220430,        P02,      93,          1,         19,         19,2,20220601,       0502,    29.9995,  -175.0587,       5337,  1111.2,2,   3.5152,2,  34.3678,2,  34.3686,2,     24.0,2,    24.1,2,  126.92,2,   43.31,2,    0.00,2,    3.10,2,   0.068,2,   0.050,2,   0.0000,2,  2365.0,2,  2365.7,2,   7.3277,2,    25.00,2, -999.00,9,  -999.0,9, -999.00,1, -999.00,1,       48.6,2, 20220601,      636,  29.9995,-175.0587,     3.5130,2,     -999.0,9,     -999.0,9,     -999.0,9,     -999.0,9,     0.0134,1,     4.7007,1,     -999.0,9,     -999.0,9,     -999.0,9
33RR20220430,        P02,      93,          1,         18,         18,2,20220601,       0502,    29.9995,  -175.0587,       5337,  1212.5,2,   3.2753,2,  34.4123,2,  34.4124,2,     24.2,2,    24.3,2,  134.05,2,   43.57,2,    0.00,2,    3.12,2,   0.035,2,   0.022,2,   0.0000,2,  2372.6,2,  2374.7,2,   7.3315,2,    25.00,2, -999.00,9,  -999.0,9, -999.00,1, -999.00,1,       48.4,2, 20220601,      633,  29.9995,-175.0587,     3.2752,2,     -999.0,9,     -999.0,9,     -999.0,9,     -999.0,9,     0.0134,1,     4.7000,1,     -999.0,9,     -999.0,9,     -999.0,9
33RR20220430,        P02,      93,          1,         17,         17,2,20220601,       0502,    29.9995,  -175.0587,       5337,  1315.7,2,   3.0538,2,  34.4569,2,  34.4571,2,     29.8,2,    29.9,2,  140.01,2,   43.45,2,    0.00,2,    3.11,2,   0.020,2,   0.016,2,   0.0000,2,  2376.2,2,  2383.6,2,   7.3458,2,    25.00,2, -999.00,9,  -999.0,9, -999.00,1, -999.00,1,       45.9,2, 20220601,      630,  29.9995,-175.0587,     3.0533,2,     -999.0,9,     -999.0,9,     -999.0,9,     -999.0,9,     0.0134,1,     4.7008,1,     -999.0,9,     -999.0,9,     -999.0,9
33RR20220430,        P02,      93,          1,         16,         16,2,20220601,       0502,    29.9995,  -175.0587,       5337,  1416.7,2,   2.8269,2,  34.4975,2,  34.4977,2,     37.7,2,    37.6,2,  145.08,2,   43.09,2,    0.00,2,    3.07,2,   0.011,6,   0.006,6,   0.0000,6,  2377.5,2,  2391.9,2,   7.3645,2,    25.02,2, -999.00,9,  -999.0,9, -999.00,1, -999.00,1,       42.2,6, 20220601,      627,  29.9995,-175.0587,     2.8285,2,     -999.0,9,     -999.0,9,     -999.0,9,     -999.0,9,     0.0134,1,     4.7010,1,     -999.0,9,     -999.0,9,     -999.0,9
33RR20220430,        P02,      93,          1,         15,         15,2,20220601,       0502,    29.9995,  -175.0587,       5337,  1618.3,2,   2.4651,2,  34.5468,2,  34.5482,2,     50.8,2,    50.9,2,  153.97,2,   42.44,2,    0.00,2,    2.99,2,   0.005,2,   0.000,2,   0.0000,2,  2380.0,2,  2402.1,2,   7.3910,2,    25.01,2, -999.00,9,  -999.0,9, -999.00,1, -999.00,1,       37.2,2, 20220601,      623,  29.9995,-175.0587,     2.4644,2,     -999.0,9,     -999.0,9,     -999.0,9,     -999.0,9,     0.0134,1,     4.7018,1,     -999.0,9,     -999.0,9,     -999.0,9
33RR20220430,        P02,      93,          1,         14,         14,2,20220601,       0502,    29.9995,  -175.0587,       5337,  1824.7,2,   2.1510,2,  34.5848,2,  34.5855,2,     66.4,2,    66.4,2,  160.22,2,   41.45,2,    0.00,2,    2.92,2,   0.007,2,   0.000,2,   0.0000,2,  2375.8,2,  2410.6,2,   7.4212,2,    25.02,2, -999.00,9,  -999.0,9, -999.00,9, -999.00,9,       32.9,2, 20220601,      618,  29.9995,-175.0587,     2.1514,2,     -999.0,9,     -999.0,9,     -999.0,9,     -999.0,9,     0.0133,1,     4.7029,1,     -999.0,9,     -999.0,9,     -999.0,9
33RR20220430,        P02,      93,          1,         13,         13,2,20220601,       0502,    29.9995,  -175.0587,       5337,  2026.7,2,   1.9672,2,  34.6059,2,  34.6067,2,     78.7,2,    78.6,2,  162.75,2,   40.66,2,    0.00,2,    2.86,2,   0.003,2,   0.000,2,   0.0000,2,  2373.6,2,  2413.7,2,   7.4452,2,    24.99,2, -999.00,9,  -999.0,9, -999.00,1, -999.00,1,       30.3,2, 20220601,      613,  29.9995,-175.0587,     1.9682,2,     -999.0,9,     -999.0,9,     -999.0,9,     -999.0,9,     0.0130,1,     4.7032,1,     -999.0,9,     -999.0,9,     -999.0,9
33RR20220430,        P02,      93,          1,         12,         12,2,20220601,       0502,    29.9995,  -175.0587,       5337,  2278.4,2,   1.8046,2,  34.6245,2,  34.6256,2,     90.2,2,    90.0,2,  165.39,2,   39.89,2,    0.00,2,    2.81,2,-999.000,9,-999.000,9,-999.0000,9,  -999.0,9,  -999.0,9,-999.0000,9,  -999.00,9, -999.00,9,  -999.0,9, -999.00,9, -999.00,9,     -999.0,9, 20220601,      608,  29.9995,-175.0587,     1.8057,2,     -999.0,9,     -999.0,9,     -999.0,9,     -999.0,9,     0.0133,1,     4.7028,1,     -999.0,9,     -999.0,9,     -999.0,9
33RR20220430,        P02,      93,          1,         11,         11,2,20220601,       0502,    29.9995,  -175.0587,       5337,  2532.4,2,   1.6873,2,  34.6412,2,  34.6413,2,    104.4,2,   104.3,2,  164.02,2,   38.98,2,    0.00,2,    2.73,2,   0.003,2,   0.000,2,   0.0000,2,  2358.1,2,  2418.1,2,   7.4930,2,    25.02,2, -999.00,9,  -999.0,9, -999.00,1, -999.00,1,       25.5,2, 20220601,      602,  29.9995,-175.0587,     1.6874,2,     -999.0,9,     -999.0,9,     -999.0,9,     -999.0,9,     0.0125,1,     4.7040,1,     -999.0,9,     -999.0,9,     -999.0,9
33RR20220430,        P02,      93,          1,         10,         10,2,20220601,       0502,    29.9995,  -175.0587,       5337,  2789.1,2,   1.5927,2,  34.6535,2,  34.6541,2,    115.5,2,   115.5,2,  163.24,2,   38.20,2,    0.00,2,    2.68,2,-999.000,9,-999.000,9,-999.0000,9,  -999.0,9,  -999.0,9,-999.0000,9,  -999.00,9, -999.00,9,  -999.0,9, -999.00,9, -999.00,9,     -999.0,9, 20220601,      557,  29.9995,-175.0587,     1.5922,2,     -999.0,9,     -999.0,9,     -999.0,9,     -999.0,9,     0.0122,1,     4.7044,1,     -999.0,9,     -999.0,9,     -999.0,9
33RR20220430,        P02,      93,          1,          9,          9,2,20220601,       0502,    29.9995,  -175.0587,       5337,  3044.2,2,   1.5429,2,  34.6617,2,  34.6627,2,    123.9,2,   124.5,2,  161.87,2,   37.61,2,    0.00,2,    2.63,2,   0.003,2,   0.000,2,   0.0000,2,  2347.5,2,  2420.2,2,   7.5281,2,    25.01,2, -999.00,9,  -999.0,9, -999.00,1, -999.00,1,       22.8,2, 20220601,      551,  29.9995,-175.0587,     1.5424,2,     -999.0,9,     -999.0,9,     -999.0,9,     -999.0,9,     0.0122,1,     4.7044,1,     -999.0,9,     -999.0,9,     -999.0,9
33RR20220430,        P02,      93,          1,          8,          8,2,20220601,       0502,    29.9995,  -175.0587,       5337,  3349.2,2,   1.4933,2,  34.6704,2,  34.6716,2,    133.7,2,   134.1,2,  159.23,2,   36.95,2,    0.00,2,    2.58,2,-999.000,9,-999.000,9,-999.0000,9,  -999.0,9,  -999.0,9,-999.0000,9,  -999.00,9, -999.00,9,  -999.0,9, -999.00,9, -999.00,9,     -999.0,9, 20220601,      545,  29.9995,-175.0587,     1.4931,2,     -999.0,9,     -999.0,9,     -999.0,9,     -999.0,9,     0.0125,1,     4.7047,1,     -999.0,9,     -999.0,9,     -999.0,9
33RR20220430,        P02,      93,          1,          7,          7,2,20220601,       0502,    29.9995,  -175.0587,       5337,  3658.5,2,   1.4718,2,  34.6764,2,  34.6779,2,    140.7,2,   140.9,2,  157.66,2,   36.52,2,    0.00,2,    2.53,2,   0.005,2,   0.000,2,   0.0000,2,  2335.8,2,  2417.9,2,   7.5581,2,    25.01,2, -999.00,9,  -999.0,9, -999.00,1, -999.00,1,       20.7,2, 20220601,      539,  29.9995,-175.0587,     1.4716,2,     -999.0,9,     -999.0,9,     -999.0,9,     -999.0,9,     0.0122,1,     4.7051,1,     -999.0,9,     -999.0,9,     -999.0,9
33RR20220430,        P02,      93,          1,          6,          6,2,20220601,       0502,    29.9995,  -175.0587,       5337,  3963.2,2,   1.4648,2,  34.6808,2,  34.6816,2,    146.2,2,   146.7,2,  156.30,2,   36.22,2,    0.00,2,    2.51,2,-999.000,9,-999.000,9,-999.0000,9,  -999.0,9,  -999.0,9,-999.0000,9,  -999.00,9, -999.00,9,  -999.0,9, -999.00,9, -999.00,9,     -999.0,9, 20220601,      533,  29.9995,-175.0587,     1.4645,2,     -999.0,9,     -999.0,9,     -999.0,9,     -999.0,9,     0.0122,1,     4.7047,1,     -999.0,9,     -999.0,9,     -999.0,9
33RR20220430,        P02,      93,          1,          5,          5,2,20220601,       0502,    29.9995,  -175.0587,       5337,  4271.8,2,   1.4779,2,  34.6832,2,  34.6840,2,    149.2,2,   149.2,2,  155.81,2,   36.05,2,    0.00,2,    2.49,2,   0.004,2,   0.000,2,   0.0000,2,  2331.2,2,  2419.0,2,   7.5726,2,    24.97,2, -999.00,9,  -999.0,9, -999.00,1, -999.00,1,       20.0,2, 20220601,      526,  29.9995,-175.0587,     1.4778,2,     -999.0,9,     -999.0,9,     -999.0,9,     -999.0,9,     0.0130,1,     4.7057,1,     -999.0,9,     -999.0,9,     -999.0,9
33RR20220430,        P02,      93,          1,          4,          4,2,20220601,       0502,    29.9995,  -175.0587,       5337,  4579.6,2,   1.4971,2,  34.6851,2,  34.6855,2,    151.6,2,   151.6,2,  155.42,2,   35.96,2,    0.00,2,    2.48,2,-999.000,9,-999.000,9,-999.0000,9,  -999.0,9,  -999.0,9,-999.0000,9,  -999.00,9, -999.00,9,  -999.0,9, -999.00,9, -999.00,9,     -999.0,9, 20220601,      520,  29.9995,-175.0587,     1.4970,2,     -999.0,9,     -999.0,9,     -999.0,9,     -999.0,9,     0.0122,1,     4.7056,1,     -999.0,9,     -999.0,9,     -999.0,9