BOTTLE,20230801CCHSIOCBG
EXPOCODE,SECT_ID,STNNBR,CASTNO,SAMPNO,BTLNBR,BTLNBR_FLAG_W,DATE,TIME,LATITUDE,LONGITUDE,DEPTH,CTDPRS,CTDPRS_FLAG_W,CTDTMP,CTDTMP_FLAG_W,CTDSAL,CTDSAL_FLAG_W,SALNTY,SALNTY_FLAG_W,CTDOXY,CTDOXY_FLAG_W,OXYGEN,OXYGEN_FLAG_W,SILCAT,SILCAT_FLAG_W,NITRAT,NITRAT_FLAG_W,NITRIT,NITRIT_FLAG_W,PHSPHT,PHSPHT_FLAG_W,CFC-11,CFC-11_FLAG_W,CFC-12,CFC-12_FLAG_W,SF6,SF6_FLAG_W,TCARBN,TCARBN_FLAG_W,ALKALI,ALKALI_FLAG_W,PH_TOT,PH_TOT_FLAG_W,PH_TMP,PH_TMP_FLAG_W,DELC13,DELC13_FLAG_W,DELC14,DELC14_FLAG_W,DOC,DOC_FLAG_W,TDN,TDN_FLAG_W,N2O,N2O_FLAG_W,BTL_DATE,BTL_TIME,BTL_LAT,BTL_LON,REFTMP,REFTMP_FLAG_W,POC,POC_FLAG_W,PON,PON_FLAG_W,POP,POP_FLAG_W,PCOD,PCOD_FLAG_W,CTDFLUOR,CTDFLUOR_FLAG_W,CTDXMISS,CTDXMISS_FLAG_W,HPLC,HPLC_FLAG_W,DNA,DNA_FLAG_W,FCM,FCM_FLAG_W
,,,,,,,,,,,METERS,DBAR,,ITS-90,,PSS-78,,PSS-78,,UMOL/KG,,UMOL/KG,,UMOL/KG,,UMOL/KG,,UMOL/KG,,UMOL/KG,,PMOL/KG,,PMOL/KG,,FMOL/KG,,UMOL/KG,,UMOL/KG,,,,DEG C,,/MILLE,,/MILLE,,UMOL/KG,,UMOL/KG,,NMOL/KG,,,,,,ITS-90,,UG/L,,UG/L,,UG/L,,UG/L,,VOLTS,,VOLTS,,,,,,,
33RR20220430,        P02,      36,          1,          3,          3,2,20220514,       1430,    30.0004,   151.9268,       5993,  5353.2,2,   1.5232,2,  34.6921,2,  34.6910,2,    167.1,2,   167.3,2,  139.44,2,   35.02,2,    0.00,2,    2.38,2,   0.006,2,   0.000,2,   0.0000,2,  2309.5,2,  2405.7,2,   7.5903,2,    25.04,2, -999.00,1,  -999.0,1, -999.00,1, -999.00,1,       22.8,2, 20220514,     1444,  30.0004, 151.9268,     1.5232,2,     -999.0,9,     -999.0,9,     -999.0,9,     -999.0,9,     0.0122,1,     4.7089,1,     -999.0,9,     -999.0,9,     -999.0,9
33RR20220430,        P02,      36,          1,          2,          2,2,20220514,       1430,    30.0004,   151.9268,       5993,  5715.3,2,   1.5536,2,  34.6934,2,  34.6940,2,    169.9,2,   170.0,2,  136.70,2,   34.75,2,    0.00,2,    2.36,2,   0.005,2,   0.000,2,   0.0000,2,  2306.7,6,  2404.4,2,   7.5951,2,    25.02,2, -999.00,1,  -999.0,1, -999.00,1, -999.00,1,       22.5,2, 20220514,     1437,  30.0004, 151.9268,     1.5533,2,     -999.0,9,     -999.0,9,     -999.0,9,     -999.0,9,     0.0122,1,     4.7068,1,     -999.0,9,     -999.0,9,     -999.0,9
33RR20220430,        P02,      36,          1,          1,          1,2,20220514,       1430,    30.0004,   151.9268,       5993,  6108.7,2,   1.5958,2,  34.6942,2,  34.6954,2,    171.2,2,   171.3,2,  136.21,2,   34.72,2,    0.00,2,    2.35,2,   0.007,2,   0.000,2,   0.0000,2,  2304.7,2,  2403.8,2,   7.5972,2,    24.99,2, -999.00,1,  -999.0,1, -999.00,1, -999.00,1,       24.0,2, 20220514,     1430,  30.0004, 151.9268,     1.5955,2,     -999.0,9,     -999.0,9,     -999.0,9,     -999.0,9,     0.0122,1,     4.7002,1,     -999.0,9,     -999.0,9,     -999.0,9