BOTTLE,20230801CCHSIOCBG
EXPOCODE,SECT_ID,STNNBR,CASTNO,SAMPNO,BTLNBR,BTLNBR_FLAG_W,DATE,TIME,LATITUDE,LONGITUDE,DEPTH,CTDPRS,CTDPRS_FLAG_W,CTDTMP,CTDTMP_FLAG_W,CTDSAL,CTDSAL_FLAG_W,SALNTY,SALNTY_FLAG_W,CTDOXY,CTDOXY_FLAG_W,OXYGEN,OXYGEN_FLAG_W,SILCAT,SILCAT_FLAG_W,NITRAT,NITRAT_FLAG_W,NITRIT,NITRIT_FLAG_W,PHSPHT,PHSPHT_FLAG_W,CFC-11,CFC-11_FLAG_W,CFC-12,CFC-12_FLAG_W,SF6,SF6_FLAG_W,TCARBN,TCARBN_FLAG_W,ALKALI,ALKALI_FLAG_W,PH_TOT,PH_TOT_FLAG_W,PH_TMP,PH_TMP_FLAG_W,DELC13,DELC13_FLAG_W,DELC14,DELC14_FLAG_W,DOC,DOC_FLAG_W,TDN,TDN_FLAG_W,N2O,N2O_FLAG_W,BTL_DATE,BTL_TIME,BTL_LAT,BTL_LON,REFTMP,REFTMP_FLAG_W,POC,POC_FLAG_W,PON,PON_FLAG_W,POP,POP_FLAG_W,PCOD,PCOD_FLAG_W,CTDFLUOR,CTDFLUOR_FLAG_W,CTDXMISS,CTDXMISS_FLAG_W,HPLC,HPLC_FLAG_W,DNA,DNA_FLAG_W,FCM,FCM_FLAG_W
,,,,,,,,,,,METERS,DBAR,,ITS-90,,PSS-78,,PSS-78,,UMOL/KG,,UMOL/KG,,UMOL/KG,,UMOL/KG,,UMOL/KG,,UMOL/KG,,PMOL/KG,,PMOL/KG,,FMOL/KG,,UMOL/KG,,UMOL/KG,,,,DEG C,,/MILLE,,/MILLE,,UMOL/KG,,UMOL/KG,,NMOL/KG,,,,,,ITS-90,,UG/L,,UG/L,,UG/L,,UG/L,,VOLTS,,VOLTS,,,,,,,
33RR20220430,        P02,      68,          2,          3,          3,2,20220524,       2244,    30.0000,   171.4509,       5392,  4788.7,2,   1.4564,2,  34.6914,2,  34.6899,2,    164.2,2,   164.5,2,  142.25,2,   35.13,2,    0.00,2,    2.41,2,   0.006,2,   0.000,2,   0.0000,2,  2312.5,2,  2410.5,2,   7.5900,2,    25.01,2, -999.00,9,  -999.0,9, -999.00,1, -999.00,1,       21.7,2, 20220524,     2258,  30.0000, 171.4509,     1.4562,2,     -999.0,9,     -999.0,9,     -999.0,9,     -999.0,9,     0.0122,1,     4.7067,1,     -999.0,9,     -999.0,9,     -999.0,9
33RR20220430,        P02,      68,          2,          2,          2,2,20220524,       2244,    30.0000,   171.4509,       5392,  5200.7,2,   1.4742,2,  34.6939,2,  34.6936,2,    169.9,2,   170.2,2,  137.36,2,   34.78,2,    0.00,2,    2.37,2,-999.000,9,-999.000,9,-999.0000,9,  2306.3,2,  2404.7,2,   7.5961,2,    25.01,2, -999.00,9,  -999.0,9, -999.00,1, -999.00,1,     -999.0,9, 20220524,     2250,  29.9999, 171.4509,     1.4742,2,     -999.0,9,     -999.0,9,     -999.0,9,     -999.0,9,     0.0122,1,     4.7059,1,     -999.0,9,     -999.0,9,     -999.0,9
33RR20220430,        P02,      68,          2,          1,          1,2,20220524,       2244,    30.0000,   171.4509,       5392,  5487.9,2,   1.4838,2,  34.6957,2,  34.6950,2,    174.3,2,   174.1,2,  134.33,2,   34.46,2,    0.00,2,    2.36,2,   0.010,2,   0.000,2,   0.0000,2,  2300.0,6,  2399.8,2,   7.5976,2,    25.00,2, -999.00,9,  -999.0,9, -999.00,1, -999.00,1,       21.9,2, 20220524,     2244,  29.9999, 171.4509,     1.4841,2,     -999.0,9,     -999.0,9,     -999.0,9,     -999.0,9,     0.0122,1,     4.7056,1,     -999.0,9,     -999.0,9,     -999.0,9