BOTTLE,20230801CCHSIOCBG
EXPOCODE,SECT_ID,STNNBR,CASTNO,SAMPNO,BTLNBR,BTLNBR_FLAG_W,DATE,TIME,LATITUDE,LONGITUDE,DEPTH,CTDPRS,CTDPRS_FLAG_W,CTDTMP,CTDTMP_FLAG_W,CTDSAL,CTDSAL_FLAG_W,SALNTY,SALNTY_FLAG_W,CTDOXY,CTDOXY_FLAG_W,OXYGEN,OXYGEN_FLAG_W,SILCAT,SILCAT_FLAG_W,NITRAT,NITRAT_FLAG_W,NITRIT,NITRIT_FLAG_W,PHSPHT,PHSPHT_FLAG_W,CFC-11,CFC-11_FLAG_W,CFC-12,CFC-12_FLAG_W,SF6,SF6_FLAG_W,TCARBN,TCARBN_FLAG_W,ALKALI,ALKALI_FLAG_W,PH_TOT,PH_TOT_FLAG_W,PH_TMP,PH_TMP_FLAG_W,DELC13,DELC13_FLAG_W,DELC14,DELC14_FLAG_W,DOC,DOC_FLAG_W,TDN,TDN_FLAG_W,N2O,N2O_FLAG_W,BTL_DATE,BTL_TIME,BTL_LAT,BTL_LON,REFTMP,REFTMP_FLAG_W,POC,POC_FLAG_W,PON,PON_FLAG_W,POP,POP_FLAG_W,PCOD,PCOD_FLAG_W,CTDFLUOR,CTDFLUOR_FLAG_W,CTDXMISS,CTDXMISS_FLAG_W,HPLC,HPLC_FLAG_W,DNA,DNA_FLAG_W,FCM,FCM_FLAG_W
,,,,,,,,,,,METERS,DBAR,,ITS-90,,PSS-78,,PSS-78,,UMOL/KG,,UMOL/KG,,UMOL/KG,,UMOL/KG,,UMOL/KG,,UMOL/KG,,PMOL/KG,,PMOL/KG,,FMOL/KG,,UMOL/KG,,UMOL/KG,,,,DEG C,,/MILLE,,/MILLE,,UMOL/KG,,UMOL/KG,,NMOL/KG,,,,,,ITS-90,,UG/L,,UG/L,,UG/L,,UG/L,,VOLTS,,VOLTS,,,,,,,
33RR20220430,        P02,     103,          1,         36,         36,2,20220604,       0306,    30.0003,  -169.2902,       5476,     3.4,2,  23.9385,2,  35.1599,2,  35.1459,2,    218.5,2,   217.6,2,    1.17,2,    0.03,2,    0.00,2,    0.00,2,   1.574,2,   1.076,2,   1.8353,2,  2024.1,2,  2308.2,2,   8.0147,2,    25.03,2, -999.00,9,  -999.0,9, -999.00,1, -999.00,1,        7.4,2, 20220604,      519,  30.0003,-169.2902,    24.0176,2,     -999.0,9,     -999.0,9,     -999.0,9,     -999.0,9,     0.0134,1,     4.6350,1,     -999.0,9,     -999.0,9,     -999.0,9
33RR20220430,        P02,     103,          1,         35,         35,2,20220604,       0306,    30.0003,  -169.2902,       5476,    38.0,2,  20.6372,2,  35.0467,2,  35.0344,2,    229.6,2,   230.3,2,    1.56,2,    0.01,2,    0.00,2,    0.00,2,   1.774,2,   1.187,2,   1.9856,2,  2027.7,2,  2300.3,2,   7.9949,2,    25.02,2, -999.00,9,  -999.0,9, -999.00,1, -999.00,1,        7.8,2, 20220604,      516,  30.0003,-169.2903,    20.6387,2,     -999.0,9,     -999.0,9,     -999.0,9,     -999.0,9,     0.0147,1,     4.6171,1,     -999.0,9,     -999.0,9,     -999.0,9
33RR20220430,        P02,     103,          1,         34,         34,2,20220604,       0306,    30.0003,  -169.2902,       5476,    66.7,2,  19.7424,2,  35.0201,2,  35.0108,2,    232.5,2,   233.3,2,    1.76,2,    0.02,2,    0.00,2,    0.00,2,   1.825,2,   1.257,2,   2.1922,2,  2029.4,2,  2299.1,2,   7.9909,2,    25.02,2, -999.00,9,  -999.0,9, -999.00,1, -999.00,1,        7.9,2, 20220604,      514,  30.0003,-169.2903,    19.7425,2,     -999.0,9,     -999.0,9,     -999.0,9,     -999.0,9,     0.0171,1,     4.6304,1,     -999.0,9,     -999.0,9,     -999.0,9
33RR20220430,        P02,     103,          1,         33,         33,2,20220604,       0306,    30.0003,  -169.2902,       5476,    87.2,2,  18.9725,2,  34.9321,2,  34.9124,2,    233.7,2,   234.1,2,    1.86,2,    0.00,2,    0.00,2,    0.01,2,   1.922,2,   1.241,2,   2.0726,2,  2031.4,2,  2293.2,2,   7.9799,2,    25.01,2, -999.00,9,  -999.0,9, -999.00,1, -999.00,1,        8.2,2, 20220604,      513,  30.0003,-169.2903,    18.9784,2,     -999.0,9,     -999.0,9,     -999.0,9,     -999.0,9,     0.0200,1,     4.6391,1,     -999.0,9,     -999.0,9,     -999.0,9
33RR20220430,        P02,     103,          1,         32,         32,2,20220604,       0306,    30.0003,  -169.2902,       5476,   118.2,2,  17.8715,2,  34.8001,3,  34.7795,2,    222.2,2,   221.7,2,    2.54,2,    0.91,2,    0.14,2,    0.10,2,   2.034,2,   1.296,2,   2.1934,2,  2043.7,2,  2284.3,2,   7.9449,2,    25.03,2, -999.00,9,  -999.0,9, -999.00,1, -999.00,1,        9.2,2, 20220604,      510,  30.0003,-169.2903,    17.8715,2,     -999.0,9,     -999.0,9,     -999.0,9,     -999.0,9,     0.0299,1,     4.6512,1,     -999.0,9,     -999.0,9,     -999.0,9
33RR20220430,        P02,     103,          1,         31,         31,2,20220604,       0306,    30.0003,  -169.2902,       5476,   167.0,2,  15.9303,2,  34.5922,2,  34.5769,2,    213.1,2,   212.5,2,    4.59,2,    4.63,2,    0.00,2,    0.32,2,   2.224,2,   1.411,2,   2.1691,2,  2059.2,2,  2272.0,2,   7.8878,2,    25.02,2, -999.00,9,  -999.0,9, -999.00,1, -999.00,1,       11.2,2, 20220604,      508,  30.0003,-169.2903,    15.9297,2,     -999.0,9,     -999.0,9,     -999.0,9,     -999.0,9,     0.0144,1,     4.6820,1,     -999.0,9,     -999.0,9,     -999.0,9
33RR20220430,        P02,     103,          1,         30,         30,2,20220604,       0306,    30.0003,  -169.2902,       5476,   217.1,2,  14.5373,2,  34.4874,2,  34.4738,2,    212.0,2,   212.1,2,    7.13,2,    7.16,2,    0.00,2,    0.48,2,   2.354,2,   1.587,2,   2.1610,2,  2073.7,2,  2269.3,2,   7.8546,2,    25.02,2, -999.00,9,  -999.0,9, -999.00,1, -999.00,1,       12.9,2, 20220604,      506,  30.0004,-169.2903,    14.5357,2,     -999.0,9,     -999.0,9,     -999.0,9,     -999.0,9,     0.0122,1,     4.6870,1,     -999.0,9,     -999.0,9,     -999.0,9
33RR20220430,        P02,     103,          1,         29,         29,2,20220604,       0306,    30.0003,  -169.2902,       5476,   267.7,2,  13.5346,2,  34.4163,2,  34.4010,2,    214.0,2,   214.3,2,    9.28,2,    8.86,2,    0.00,2,    0.60,2,   2.463,2,   1.603,2,   2.1713,2,  2083.7,2,  2266.6,2,   7.8316,2,    25.02,2, -999.00,9,  -999.0,9, -999.00,1, -999.00,1,       13.7,2, 20220604,      504,  30.0003,-169.2903,    13.5286,2,     -999.0,9,     -999.0,9,     -999.0,9,     -999.0,9,     0.0122,1,     4.6882,1,     -999.0,9,     -999.0,9,     -999.0,9
33RR20220430,        P02,     103,          1,         28,         28,2,20220604,       0306,    30.0003,  -169.2902,       5476,   317.4,2,  12.2935,2,  34.3128,2,  34.3044,2,    219.9,2,   219.3,2,   11.82,2,   10.55,2,    0.00,2,    0.72,2,   2.578,2,   1.631,2,   2.2142,2,  -999.0,9,  -999.0,9,-999.0000,9,  -999.00,9, -999.00,9,  -999.0,9, -999.00,1, -999.00,1,       14.9,2, 20220604,      502,  30.0004,-169.2903,    12.2760,2,     -999.0,9,     -999.0,9,     -999.0,9,     -999.0,9,     0.0122,1,     4.6898,1,     -999.0,9,     -999.0,9,     -999.0,9
33RR20220430,        P02,     103,          1,         27,         27,2,20220604,       0306,    30.0003,  -169.2902,       5476,   367.4,2,  11.5297,2,  34.2787,2,  34.2715,2,    212.1,2,   213.5,2,   15.54,2,   12.82,2,    0.00,2,    0.89,2,   2.600,2,   1.644,2,   2.0514,2,  2105.1,2,  2267.9,2,   7.7773,2,    25.02,2, -999.00,9,  -999.0,9, -999.00,1, -999.00,1,       15.5,2, 20220604,      500,  30.0004,-169.2903,    11.5323,2,     -999.0,9,     -999.0,9,     -999.0,9,     -999.0,9,     0.0122,1,     4.6910,1,     -999.0,9,     -999.0,9,     -999.0,9
33RR20220430,        P02,     103,          1,         26,         26,2,20220604,       0306,    30.0003,  -169.2902,       5476,   438.6,2,   9.8709,2,  34.1450,2,  34.1377,2,    202.1,2,   203.5,2,   22.67,2,   16.84,2,    0.00,2,    1.16,2,   2.689,2,   1.729,2,   1.9456,2,  -999.0,9,  -999.0,9,-999.0000,9,  -999.00,9, -999.00,9,  -999.0,9, -999.00,1, -999.00,1,       17.8,2, 20220604,      458,  30.0003,-169.2903,     9.8697,2,     -999.0,9,     -999.0,9,     -999.0,9,     -999.0,9,     0.0122,1,     4.6929,1,     -999.0,9,     -999.0,9,     -999.0,9
33RR20220430,        P02,     103,          1,         25,         25,2,20220604,       0306,    30.0003,  -169.2902,       5476,   540.7,2,   7.7013,2,  34.0186,2,  34.0149,2,    163.4,2,   163.1,2,   40.36,2,   24.69,2,    0.00,2,    1.72,2,   2.519,6,   1.634,6,   1.4391,6,  2182.3,2,  2273.0,2,   7.5958,2,    25.01,2, -999.00,9,  -999.0,9, -999.00,1, -999.00,1,       24.0,6, 20220604,      455,  30.0004,-169.2903,     7.7025,2,     -999.0,9,     -999.0,9,     -999.0,9,     -999.0,9,     0.0124,1,     4.6959,1,     -999.0,9,     -999.0,9,     -999.0,9
33RR20220430,        P02,     103,          1,         24,         24,2,20220604,       0306,    30.0003,  -169.2902,       5476,   640.6,2,   5.8331,2,  34.0050,2,  34.0035,2,    110.1,2,   109.1,2,   65.28,2,   32.99,2,    0.00,2,    2.35,2,   1.888,2,   1.205,2,   0.7356,2,  -999.0,9,  -999.0,9,-999.0000,9,  -999.00,9, -999.00,9,  -999.0,9, -999.00,9, -999.00,9,       31.2,2, 20220604,      452,  30.0004,-169.2904,     5.8325,2,     -999.0,9,     -999.0,9,     -999.0,9,     -999.0,9,     0.0129,1,     4.6971,1,     -999.0,9,     -999.0,9,     -999.0,9
33RR20220430,        P02,     103,          1,         23,         23,2,20220604,       0306,    30.0003,  -169.2902,       5476,   743.4,2,   4.8270,2,  34.0864,2,  34.0878,2,     63.4,3,    62.8,2,   87.36,2,   38.63,2,    0.00,2,    2.76,2,   1.011,2,   0.642,2,   0.1924,2,  2299.9,6,  2313.4,2,   7.3678,2,    25.03,2, -999.00,9,  -999.0,9, -999.00,1, -999.00,1,       37.5,2, 20220604,      449,  30.0003,-169.2903,     4.8279,2,     -999.0,9,     -999.0,9,     -999.0,9,     -999.0,9,     0.0134,1,     4.6976,1,     -999.0,9,     -999.0,9,     -999.0,9
33RR20220430,        P02,     103,          1,         22,         22,2,20220604,       0306,    30.0003,  -169.2902,       5476,   843.6,2,   4.2506,2,  34.1895,2,  34.1915,2,     29.5,2,    29.6,2,  104.65,2,   42.27,2,    0.00,2,    3.01,2,   0.371,2,   0.235,2,   0.0312,2,  -999.0,9,  -999.0,9,-999.0000,9,  -999.00,9, -999.00,9,  -999.0,9, -999.00,9, -999.00,9,       42.7,2, 20220604,      447,  30.0003,-169.2903,     4.2499,2,     -999.0,9,     -999.0,9,     -999.0,9,     -999.0,9,     0.0134,1,     4.6995,1,     -999.0,9,     -999.0,9,     -999.0,9
33RR20220430,        P02,     103,          1,         21,         21,2,20220604,       0306,    30.0003,  -169.2902,       5476,   944.2,2,   3.8125,2,  34.2754,2,  34.2734,2,     18.9,3,    19.5,2,  118.13,2,   43.35,2,    0.00,2,    3.10,2,   0.143,2,   0.088,2,   0.0000,2,  2355.5,2,  2349.4,2,   7.3053,2,    25.00,2, -999.00,9,  -999.0,9, -999.00,1, -999.00,1,       44.9,2, 20220604,      444,  30.0003,-169.2903,     3.8119,2,     -999.0,9,     -999.0,9,     -999.0,9,     -999.0,9,     0.0134,1,     4.6997,1,     -999.0,9,     -999.0,9,     -999.0,9
33RR20220430,        P02,     103,          1,         20,         20,2,20220604,       0306,    30.0003,  -169.2902,       5476,  1045.2,2,   3.5566,2,  34.3601,2,  34.3603,2,     19.5,3,    19.8,2,  126.23,2,   43.52,2,    0.00,2,    3.13,2,   0.045,2,   0.028,2,   0.0000,2,  -999.0,9,  -999.0,9,-999.0000,9,  -999.00,9, -999.00,9,  -999.0,9, -999.00,9, -999.00,9,       45.5,2, 20220604,      441,  30.0003,-169.2903,     3.5572,2,     -999.0,9,     -999.0,9,     -999.0,9,     -999.0,9,     0.0133,1,     4.6997,1,     -999.0,9,     -999.0,9,     -999.0,9
33RR20220430,        P02,     103,          1,         19,         19,2,20220604,       0306,    30.0003,  -169.2902,       5476,  1146.0,2,   3.3220,2,  34.4300,2,  34.4292,2,     25.8,3,    26.4,2,  132.67,2,   43.32,2,    0.00,2,    3.12,2,   0.019,2,   0.013,2,   0.0000,2,  2370.7,2,  2374.8,2,   7.3388,2,    25.02,2, -999.00,9,  -999.0,9, -999.00,1, -999.00,1,       43.2,2, 20220604,      439,  30.0003,-169.2903,     3.3220,2,     -999.0,9,     -999.0,9,     -999.0,9,     -999.0,9,     0.0134,1,     4.7001,1,     -999.0,9,     -999.0,9,     -999.0,9
33RR20220430,        P02,     103,          1,         18,         18,2,20220604,       0306,    30.0003,  -169.2902,       5476,  1248.6,2,   3.1595,2,  34.4696,2,  34.4691,2,     34.4,3,    34.8,2,  135.80,2,   43.07,2,    0.00,2,    3.09,2,   0.020,2,   0.010,2,   0.0000,2,  2368.0,2,  2381.4,2,   7.3583,2,    25.01,2, -999.00,9,  -999.0,9, -999.00,9, -999.00,9,       41.4,2, 20220604,      436,  30.0004,-169.2903,     3.1581,2,     -999.0,9,     -999.0,9,     -999.0,9,     -999.0,9,     0.0134,1,     4.7007,1,     -999.0,9,     -999.0,9,     -999.0,9
33RR20220430,        P02,     103,          1,         17,         17,2,20220604,       0306,    30.0003,  -169.2902,       5476,  1348.5,2,   2.9629,2,  34.5039,2,  34.5029,2,     43.6,2,    43.9,2,  139.70,2,   42.51,2,    0.00,2,    3.05,2,   0.010,2,   0.006,2,   0.0000,2,  2370.2,2,  2389.1,2,   7.3782,2,    25.02,2, -999.00,9,  -999.0,9, -999.00,1, -999.00,1,       38.9,2, 20220604,      433,  30.0004,-169.2903,     2.9651,2,     -999.0,9,     -999.0,9,     -999.0,9,     -999.0,9,     0.0134,1,     4.7014,1,     -999.0,9,     -999.0,9,     -999.0,9
33RR20220430,        P02,     103,          1,         16,         16,2,20220604,       0306,    30.0003,  -169.2902,       5476,  1481.9,2,   2.7067,2,  34.5357,2,  34.5353,2,     53.9,2,    53.9,2,  145.17,2,   41.87,2,    0.00,2,    3.01,2,   0.007,2,   0.004,2,   0.0000,2,  2370.0,2,  2396.1,2,   7.3964,2,    25.01,2, -999.00,9,  -999.0,9, -999.00,9, -999.00,9,       36.1,2, 20220604,      430,  30.0003,-169.2903,     2.7050,2,     -999.0,9,     -999.0,9,     -999.0,9,     -999.0,9,     0.0133,1,     4.7020,1,     -999.0,9,     -999.0,9,     -999.0,9
33RR20220430,        P02,     103,          1,         15,         15,2,20220604,       0306,    30.0003,  -169.2902,       5476,  1684.1,2,   2.4046,2,  34.5665,2,  34.5643,2,     64.1,2,    63.8,2,  152.20,2,   41.37,2,    0.00,2,    2.95,2,   0.004,2,   0.000,2,   0.0000,2,  2370.0,2,  2406.4,2,   7.4172,2,    25.03,2, -999.00,9,  -999.0,9, -999.00,1, -999.00,1,       33.7,2, 20220604,      425,  30.0003,-169.2903,     2.4055,2,     -999.0,9,     -999.0,9,     -999.0,9,     -999.0,9,     0.0134,1,     4.7028,1,     -999.0,9,     -999.0,9,     -999.0,9
33RR20220430,        P02,     103,          1,         14,         14,2,20220604,       0306,    30.0003,  -169.2902,       5476,  1888.0,2,   2.1241,2,  34.5913,2,  34.5922,2,     70.1,2,    70.6,2,  160.69,2,   40.92,2,    0.00,2,    2.93,2,   0.006,2,   0.000,2,   0.0000,2,  2374.8,2,  2411.7,2,   7.4531,2,    25.00,2, -999.00,9,  -999.0,9, -999.00,1, -999.00,1,       32.0,2, 20220604,      421,  30.0004,-169.2903,     2.1236,2,     -999.0,9,     -999.0,9,     -999.0,9,     -999.0,9,     0.0134,1,     4.7028,1,     -999.0,9,     -999.0,9,     -999.0,9
33RR20220430,        P02,     103,          1,         13,         13,2,20220604,       0306,    30.0003,  -169.2902,       5476,  2110.3,2,   1.9153,2,  34.6152,2,  34.6152,2,     83.1,2,    82.7,2,  164.40,2,   40.14,2,    0.00,2,    2.86,2,   0.004,2,   0.000,2,   0.0000,2,  2370.5,2,  2416.3,2,   7.4527,2,    25.02,2, -999.00,9,  -999.0,9, -999.00,1, -999.00,1,       29.1,2, 20220604,      416,  30.0003,-169.2904,     1.9160,2,     -999.0,9,     -999.0,9,     -999.0,9,     -999.0,9,     0.0125,1,     4.7028,1,     -999.0,9,     -999.0,9,     -999.0,9
33RR20220430,        P02,     103,          1,         12,         12,2,20220604,       0306,    30.0003,  -169.2902,       5476,  2367.0,2,   1.7476,2,  34.6347,2,  34.6352,2,     97.0,2,    96.6,2,  165.38,2,   39.26,2,    0.00,2,    2.80,2,-999.000,9,-999.000,9,-999.0000,9,  -999.0,9,  -999.0,9,-999.0000,9,  -999.00,9, -999.00,9,  -999.0,9, -999.00,9, -999.00,9,     -999.0,9, 20220604,      411,  30.0004,-169.2903,     1.7471,2,     -999.0,9,     -999.0,9,     -999.0,9,     -999.0,9,     0.0125,1,     4.7032,1,     -999.0,9,     -999.0,9,     -999.0,9
33RR20220430,        P02,     103,          1,         11,         11,2,20220604,       0306,    30.0003,  -169.2902,       5476,  2621.2,2,   1.6403,2,  34.6482,2,  34.6496,2,    108.7,2,   108.9,2,  164.89,2,   38.56,2,    0.00,2,    2.74,2,   0.004,2,   0.000,2,   0.0000,2,  2357.4,2,  2420.3,2,   7.5021,2,    25.00,2, -999.00,9,  -999.0,9, -999.00,1, -999.00,1,       25.7,2, 20220604,      406,  30.0004,-169.2903,     1.6403,2,     -999.0,9,     -999.0,9,     -999.0,9,     -999.0,9,     0.0122,1,     4.7038,1,     -999.0,9,     -999.0,9,     -999.0,9
33RR20220430,        P02,     103,          1,         10,         10,2,20220604,       0306,    30.0003,  -169.2902,       5476,  2875.5,2,   1.5686,2,  34.6585,2,  34.6588,2,    118.4,2,   118.6,2,  164.11,2,   38.25,2,    0.00,2,    2.69,2,-999.000,9,-999.000,9,-999.0000,9,  -999.0,9,  -999.0,9,-999.0000,9,  -999.00,9, -999.00,9,  -999.0,9, -999.00,9, -999.00,9,     -999.0,9, 20220604,      401,  30.0004,-169.2903,     1.5690,2,     -999.0,9,     -999.0,9,     -999.0,9,     -999.0,9,     0.0122,1,     4.7043,1,     -999.0,9,     -999.0,9,     -999.0,9
33RR20220430,        P02,     103,          1,          9,          9,2,20220604,       0306,    30.0003,  -169.2902,       5476,  3145.6,2,   1.5224,2,  34.6657,2,  34.6669,2,    127.1,2,   127.1,2,  161.86,2,   37.61,2,    0.00,2,    2.65,2,   0.004,2,   0.000,2,   0.0000,2,  2344.3,2,  2421.7,2,   7.5351,2,    25.02,2, -999.00,9,  -999.0,9, -999.00,1, -999.00,1,       23.6,2, 20220604,      355,  30.0003,-169.2904,     1.5223,2,     -999.0,9,     -999.0,9,     -999.0,9,     -999.0,9,     0.0129,1,     4.7036,1,     -999.0,9,     -999.0,9,     -999.0,9
33RR20220430,        P02,     103,          1,          8,          8,2,20220604,       0306,    30.0003,  -169.2902,       5476,  3451.1,2,   1.4890,2,  34.6725,2,  34.6730,2,    135.2,2,   135.4,2,  159.61,2,   37.09,2,    0.00,2,    2.60,2,-999.000,9,-999.000,9,-999.0000,9,  -999.0,9,  -999.0,9,-999.0000,9,  -999.00,9, -999.00,9,  -999.0,9, -999.00,9, -999.00,9,     -999.0,9, 20220604,      349,  30.0004,-169.2903,     1.4888,2,     -999.0,9,     -999.0,9,     -999.0,9,     -999.0,9,     0.0129,1,     4.7044,1,     -999.0,9,     -999.0,9,     -999.0,9
33RR20220430,        P02,     103,          1,          7,          7,2,20220604,       0306,    30.0003,  -169.2902,       5476,  3759.8,2,   1.4688,2,  34.6781,2,  34.6781,2,    142.3,2,   142.5,2,  157.36,2,   36.70,2,    0.00,2,    2.56,2,   0.005,2,   0.000,2,   0.0000,2,  2334.3,2,  2420.0,2,   7.5626,2,    25.01,2, -999.00,9,  -999.0,9, -999.00,1, -999.00,1,       22.2,2, 20220604,      343,  30.0003,-169.2903,     1.4686,2,     -999.0,9,     -999.0,9,     -999.0,9,     -999.0,9,     0.0125,1,     4.7053,1,     -999.0,9,     -999.0,9,     -999.0,9
33RR20220430,        P02,     103,          1,          6,          6,2,20220604,       0306,    30.0003,  -169.2902,       5476,  4066.5,2,   1.4660,2,  34.6821,2,  34.6828,2,    147.2,2,   147.7,2,  156.09,2,   36.32,2,    0.00,2,    2.53,2,-999.000,9,-999.000,9,-999.0000,9,  -999.0,9,  -999.0,9,-999.0000,9,  -999.00,9, -999.00,9,  -999.0,9, -999.00,9, -999.00,9,     -999.0,9, 20220604,      337,  30.0004,-169.2903,     1.4661,2,     -999.0,9,     -999.0,9,     -999.0,9,     -999.0,9,     0.0121,1,     4.7051,1,     -999.0,9,     -999.0,9,     -999.0,9
33RR20220430,        P02,     103,          1,          5,          5,2,20220604,       0306,    30.0003,  -169.2902,       5476,  4374.8,2,   1.4796,2,  34.6844,2,  34.6846,2,    150.4,2,   150.7,2,  155.70,2,   36.11,2,    0.00,2,    2.51,2,   0.005,2,   0.000,2,   0.0000,2,  2329.3,2,  2419.9,2,   7.5767,2,    25.00,2, -999.00,9,  -999.0,9, -999.00,1, -999.00,1,       21.6,2, 20220604,      330,  30.0004,-169.2903,     1.4796,2,     -999.0,9,     -999.0,9,     -999.0,9,     -999.0,9,     0.0122,1,     4.7056,1,     -999.0,9,     -999.0,9,     -999.0,9
33RR20220430,        P02,     103,          1,          4,          4,2,20220604,       0306,    30.0003,  -169.2902,       5476,  4719.9,2,   1.5074,2,  34.6859,2,  34.6846,2,    152.4,2,   152.2,2,  155.60,2,   35.92,2,    0.00,2,    2.50,2,-999.000,9,-999.000,9,-999.0000,9,  -999.0,9,  -999.0,9,-999.0000,9,  -999.00,9, -999.00,9,  -999.0,9, -999.00,9, -999.00,9,     -999.0,9, 20220604,      324,  30.0003,-169.2903,     1.5073,2,     -999.0,9,     -999.0,9,     -999.0,9,     -999.0,9,     0.0121,1,     4.7048,1,     -999.0,9,     -999.0,9,     -999.0,9