BOTTLE,20230801CCHSIOCBG
EXPOCODE,SECT_ID,STNNBR,CASTNO,SAMPNO,BTLNBR,BTLNBR_FLAG_W,DATE,TIME,LATITUDE,LONGITUDE,DEPTH,CTDPRS,CTDPRS_FLAG_W,CTDTMP,CTDTMP_FLAG_W,CTDSAL,CTDSAL_FLAG_W,SALNTY,SALNTY_FLAG_W,CTDOXY,CTDOXY_FLAG_W,OXYGEN,OXYGEN_FLAG_W,SILCAT,SILCAT_FLAG_W,NITRAT,NITRAT_FLAG_W,NITRIT,NITRIT_FLAG_W,PHSPHT,PHSPHT_FLAG_W,CFC-11,CFC-11_FLAG_W,CFC-12,CFC-12_FLAG_W,SF6,SF6_FLAG_W,TCARBN,TCARBN_FLAG_W,ALKALI,ALKALI_FLAG_W,PH_TOT,PH_TOT_FLAG_W,PH_TMP,PH_TMP_FLAG_W,DELC13,DELC13_FLAG_W,DELC14,DELC14_FLAG_W,DOC,DOC_FLAG_W,TDN,TDN_FLAG_W,N2O,N2O_FLAG_W,BTL_DATE,BTL_TIME,BTL_LAT,BTL_LON,REFTMP,REFTMP_FLAG_W,POC,POC_FLAG_W,PON,PON_FLAG_W,POP,POP_FLAG_W,PCOD,PCOD_FLAG_W,CTDFLUOR,CTDFLUOR_FLAG_W,CTDXMISS,CTDXMISS_FLAG_W,HPLC,HPLC_FLAG_W,DNA,DNA_FLAG_W,FCM,FCM_FLAG_W
,,,,,,,,,,,METERS,DBAR,,ITS-90,,PSS-78,,PSS-78,,UMOL/KG,,UMOL/KG,,UMOL/KG,,UMOL/KG,,UMOL/KG,,UMOL/KG,,PMOL/KG,,PMOL/KG,,FMOL/KG,,UMOL/KG,,UMOL/KG,,,,DEG C,,/MILLE,,/MILLE,,UMOL/KG,,UMOL/KG,,NMOL/KG,,,,,,ITS-90,,UG/L,,UG/L,,UG/L,,UG/L,,VOLTS,,VOLTS,,,,,,,
33RR20220430,        P02,     107,          2,         36,         36,2,20220605,       0913,    29.9990,  -166.9828,       5520,     4.0,2,  23.9929,2,  35.1510,2,  35.1317,2,    215.7,2,   215.4,2,    1.07,2,    0.02,2,    0.00,2,    0.01,2,   1.530,2,   1.078,2,   1.8822,2,  2024.9,2,  2307.9,2,   8.0173,2,    25.00,2, -999.00,9,  -999.0,9, -999.00,9, -999.00,9,        7.2,2, 20220605,     1125,  29.9990,-166.9828,    23.9911,2,     -999.0,9,     -999.0,9,     -999.0,9,     -999.0,9,     0.0134,1,     4.6367,1,     -999.0,9,     -999.0,9,     -999.0,9
33RR20220430,        P02,     107,          2,         35,         35,2,20220605,       0913,    29.9990,  -166.9828,       5520,    20.6,2,  23.5831,2,  35.1425,2,  35.1278,2,    217.7,2,   217.3,2,    1.17,2,    0.01,2,    0.00,2,    0.00,2,   1.550,2,   1.079,2,   1.8666,2,  2025.6,2,  2307.8,2,   8.0148,2,    24.99,2, -999.00,9,  -999.0,9, -999.00,9, -999.00,9,        7.3,2, 20220605,     1123,  29.9990,-166.9828,    23.5830,2,     -999.0,9,     -999.0,9,     -999.0,9,     -999.0,9,     0.0134,1,     4.6343,1,     -999.0,9,     -999.0,9,     -999.0,9
33RR20220430,        P02,     107,          2,         34,         34,2,20220605,       0913,    29.9990,  -166.9828,       5520,    40.8,2,  21.1585,2,  35.0552,2,  35.0441,2,    231.3,2,   231.0,2,    1.46,2,    0.02,2,    0.00,2,    0.00,2,   1.749,2,   1.197,2,   1.9061,2,  2025.9,2,  2301.9,2,   8.0042,2,    25.00,2, -999.00,9,  -999.0,9, -999.00,9, -999.00,9,        7.8,2, 20220605,     1121,  29.9990,-166.9828,    21.1737,2,     -999.0,9,     -999.0,9,     -999.0,9,     -999.0,9,     0.0147,1,     4.6286,1,     -999.0,9,     -999.0,9,     -999.0,9
33RR20220430,        P02,     107,          2,         33,         33,2,20220605,       0913,    29.9990,  -166.9828,       5520,    66.4,2,  19.4223,2,  34.9578,2,  34.9433,2,    230.8,2,   231.3,2,    1.76,2,    0.01,2,    0.00,2,    0.03,2,   1.844,2,   1.237,2,   2.0583,2,  2031.8,2,  2295.5,2,   7.9847,2,    24.99,2, -999.00,9,  -999.0,9, -999.00,9, -999.00,9,        8.1,2, 20220605,     1119,  29.9990,-166.9828,    19.4280,2,     -999.0,9,     -999.0,9,     -999.0,9,     -999.0,9,     0.0159,1,     4.6406,1,     -999.0,9,     -999.0,9,     -999.0,9
33RR20220430,        P02,     107,          2,         32,         32,2,20220605,       0913,    29.9990,  -166.9828,       5520,    91.8,2,  18.6073,2,  34.8566,2,  34.8424,2,    231.6,2,   232.0,2,    1.95,2,    0.00,2,    0.00,2,    0.04,2,   1.930,2,   1.270,2,   1.9653,2,  2033.2,2,  2286.8,2,   7.9705,2,    24.99,2, -999.00,9,  -999.0,9, -999.00,9, -999.00,9,        8.5,2, 20220605,     1117,  29.9990,-166.9828,    18.6089,2,     -999.0,9,     -999.0,9,     -999.0,9,     -999.0,9,     0.0212,1,     4.6465,1,     -999.0,9,     -999.0,9,     -999.0,9
33RR20220430,        P02,     107,          2,         31,         31,2,20220605,       0913,    29.9990,  -166.9828,       5520,   135.6,2,  17.2765,2,  34.6904,2,  34.6761,2,    226.7,2,   227.1,2,    2.74,2,    0.94,2,    0.14,2,    0.14,2,   2.050,2,   1.341,2,   2.1976,2,  2043.0,2,  2277.2,2,   7.9385,2,    25.00,2, -999.00,9,  -999.0,9, -999.00,9, -999.00,9,        9.3,2, 20220605,     1116,  29.9990,-166.9828,    17.2810,2,     -999.0,9,     -999.0,9,     -999.0,9,     -999.0,9,     0.0288,1,     4.6565,1,     -999.0,9,     -999.0,9,     -999.0,9
33RR20220430,        P02,     107,          2,         30,         30,2,20220605,       0913,    29.9990,  -166.9828,       5520,   186.7,2,  15.7118,2,  34.5674,2,  34.5596,2,    211.9,2,   211.6,2,    4.69,2,    4.86,2,    0.01,2,    0.38,2,   2.190,2,   1.444,2,   2.0384,2,  2067.8,2,  2269.6,2,   7.8816,2,    25.01,2, -999.00,9,  -999.0,9, -999.00,9, -999.00,9,       11.5,2, 20220605,     1114,  29.9990,-166.9828,    15.7173,2,     -999.0,9,     -999.0,9,     -999.0,9,     -999.0,9,     0.0140,1,     4.6820,1,     -999.0,9,     -999.0,9,     -999.0,9
33RR20220430,        P02,     107,          2,         29,         29,2,20220605,       0913,    29.9990,  -166.9828,       5520,   237.7,2,  14.1919,2,  34.4542,2,  34.4412,2,    214.3,2,   214.4,2,    7.33,2,    7.56,2,    0.00,2,    0.56,2,   2.350,2,   1.528,2,   2.1409,2,  2076.5,2,  2266.6,2,   7.8476,2,    25.00,2, -999.00,9,  -999.0,9, -999.00,9, -999.00,9,       13.4,2, 20220605,     1112,  29.9990,-166.9828,    14.1940,2,     -999.0,9,     -999.0,9,     -999.0,9,     -999.0,9,     0.0122,1,     4.6869,1,     -999.0,9,     -999.0,9,     -999.0,9
33RR20220430,        P02,     107,          2,         28,         28,2,20220605,       0913,    29.9990,  -166.9828,       5520,   288.0,2,  13.1515,2,  34.3811,2,  34.3709,2,    216.8,2,   217.5,2,    9.58,2,    9.19,2,    0.00,2,    0.68,2,   2.484,2,   1.585,2,   2.1490,2,  2085.3,2,  2264.0,2,   7.8255,2,    25.00,2, -999.00,9,  -999.0,9, -999.00,9, -999.00,9,       14.3,2, 20220605,     1110,  29.9990,-166.9828,    13.1518,2,     -999.0,9,     -999.0,9,     -999.0,9,     -999.0,9,     0.0122,1,     4.6891,1,     -999.0,9,     -999.0,9,     -999.0,9
33RR20220430,        P02,     107,          2,         27,         27,2,20220605,       0913,    29.9990,  -166.9828,       5520,   338.7,2,  12.3682,2,  34.3258,2,  34.3125,2,    214.9,2,   215.4,2,   12.02,2,   11.02,2,    0.00,2,    0.81,2,   2.564,2,   1.632,2,   2.0025,2,  2094.5,2,  2264.9,2,   7.8008,2,    25.01,2, -999.00,9,  -999.0,9, -999.00,9, -999.00,9,       15.3,2, 20220605,     1108,  29.9990,-166.9828,    12.3690,2,     -999.0,9,     -999.0,9,     -999.0,9,     -999.0,9,     0.0122,1,     4.6917,1,     -999.0,9,     -999.0,9,     -999.0,9
33RR20220430,        P02,     107,          2,         26,         26,2,20220605,       0913,    29.9990,  -166.9828,       5520,   390.0,2,  11.0969,2,  34.2158,2,  34.2052,2,    206.9,2,   207.6,2,   15.63,2,   14.01,2,    0.00,2,    1.02,2,   2.684,2,   1.703,2,   1.8978,2,  -999.0,9,  -999.0,9,-999.0000,9,  -999.00,9, -999.00,9,  -999.0,9, -999.00,9, -999.00,9,       17.2,2, 20220605,     1106,  29.9990,-166.9828,    11.0957,2,     -999.0,9,     -999.0,9,     -999.0,9,     -999.0,9,     0.0122,1,     4.6932,1,     -999.0,9,     -999.0,9,     -999.0,9
33RR20220430,        P02,     107,          2,         25,         25,2,20220605,       0913,    29.9990,  -166.9828,       5520,   471.3,2,   9.3120,2,  34.0901,2,  34.0848,2,    187.5,2,   187.5,2,   25.31,2,   19.37,2,    0.00,2,    1.38,2,   2.749,6,   1.744,6,   1.6199,6,  2144.7,6,  2263.6,2,   7.6764,2,    25.01,2, -999.00,9,  -999.0,9, -999.00,9, -999.00,9,       21.4,6, 20220605,     1103,  29.9990,-166.9829,     9.3136,2,     -999.0,9,     -999.0,9,     -999.0,9,     -999.0,9,     0.0122,1,     4.6959,1,     -999.0,9,     -999.0,9,     -999.0,9
33RR20220430,        P02,     107,          2,         24,         24,2,20220605,       0913,    29.9990,  -166.9828,       5520,   572.3,2,   7.4851,2,  34.0218,2,  34.0207,2,    148.6,2,   148.2,2,   42.12,2,   26.70,2,    0.00,2,    1.90,2,   2.428,2,   1.510,2,   1.1933,2,  -999.0,9,  -999.0,9,-999.0000,9,  -999.00,9, -999.00,9,  -999.0,9, -999.00,9, -999.00,9,       26.3,2, 20220605,     1100,  29.9990,-166.9828,     7.4901,2,     -999.0,9,     -999.0,9,     -999.0,9,     -999.0,9,     0.0122,1,     4.6979,1,     -999.0,9,     -999.0,9,     -999.0,9
33RR20220430,        P02,     107,          2,         23,         23,2,20220605,       0913,    29.9990,  -166.9828,       5520,   672.2,2,   5.7736,2,  34.0373,2,  34.0376,2,     89.5,2,    89.0,2,   68.31,2,   35.28,2,    0.00,2,    2.53,2,   1.592,2,   0.986,2,   0.3095,2,  2264.5,2,  2293.8,2,   7.4250,2,    25.01,2, -999.00,9,  -999.0,9, -999.00,9, -999.00,9,       33.5,2, 20220605,     1057,  29.9990,-166.9829,     5.7651,3,     -999.0,9,     -999.0,9,     -999.0,9,     -999.0,9,     0.0134,1,     4.6991,1,     -999.0,9,     -999.0,9,     -999.0,9
33RR20220430,        P02,     107,          2,         22,         22,2,20220605,       0913,    29.9990,  -166.9828,       5520,   773.9,2,   4.8702,2,  34.1029,2,  34.1044,2,     54.1,2,    53.9,2,   87.46,2,   40.07,2,    0.00,2,    2.86,2,   0.872,2,   0.550,2,   0.1359,2,  -999.0,9,  -999.0,9,-999.0000,9,  -999.00,9, -999.00,9,  -999.0,9, -999.00,9, -999.00,9,       38.8,2, 20220605,     1055,  29.9990,-166.9828,     4.8654,2,     -999.0,9,     -999.0,9,     -999.0,9,     -999.0,9,     0.0134,1,     4.6995,1,     -999.0,9,     -999.0,9,     -999.0,9
33RR20220430,        P02,     107,          2,         21,         21,2,20220605,       0913,    29.9990,  -166.9828,       5520,   879.7,2,   4.2695,2,  34.2019,2,  34.2032,2,     29.0,3,    29.5,2,  103.97,2,   42.58,2,    0.00,2,    3.07,2,   0.365,2,   0.213,2,   0.0000,2,  2335.5,2,  2331.8,2,   7.3153,2,    25.00,2, -999.00,9,  -999.0,9, -999.00,9, -999.00,9,       42.8,2, 20220605,     1052,  29.9990,-166.9828,     4.2707,2,     -999.0,9,     -999.0,9,     -999.0,9,     -999.0,9,     0.0134,1,     4.6996,1,     -999.0,9,     -999.0,9,     -999.0,9
33RR20220430,        P02,     107,          2,         20,         20,2,20220605,       0913,    29.9990,  -166.9828,       5520,   974.9,2,   3.8842,2,  34.2975,2,  34.2982,2,     20.7,3,    21.4,2,  116.28,2,   43.59,2,    0.00,2,    3.17,2,   0.110,2,   0.065,2,   0.0000,2,  -999.0,9,  -999.0,9,-999.0000,9,  -999.00,9, -999.00,9,  -999.0,9, -999.00,9, -999.00,9,       44.7,2, 20220605,     1049,  29.9990,-166.9828,     3.8842,2,     -999.0,9,     -999.0,9,     -999.0,9,     -999.0,9,     0.0134,1,     4.6997,1,     -999.0,9,     -999.0,9,     -999.0,9
33RR20220430,        P02,     107,          2,         19,         19,2,20220605,       0913,    29.9990,  -166.9828,       5520,  1076.2,2,   3.6264,2,  34.3707,2,  34.3707,2,     23.3,2,    23.5,2,  124.09,2,   43.58,2,    0.00,2,    3.18,2,   0.044,2,   0.030,2,   0.0000,2,  2363.7,2,  2363.4,2,   7.3247,2,    25.01,2, -999.00,9,  -999.0,9, -999.00,9, -999.00,9,       44.4,2, 20220605,     1047,  29.9989,-166.9828,     3.6253,2,     -999.0,9,     -999.0,9,     -999.0,9,     -999.0,9,     0.0134,1,     4.7005,1,     -999.0,9,     -999.0,9,     -999.0,9
33RR20220430,        P02,     107,          2,         18,         18,2,20220605,       0913,    29.9990,  -166.9828,       5520,  1177.2,2,   3.4332,2,  34.4280,2,  34.4281,2,     32.0,3,    32.9,2,  128.57,2,   43.30,2,    0.00,2,    3.14,2,   0.028,2,   0.015,2,   0.0000,2,  -999.0,9,  -999.0,9,-999.0000,9,  -999.00,9, -999.00,9,  -999.0,9, -999.00,9, -999.00,9,       42.3,2, 20220605,     1044,  29.9990,-166.9828,     3.4342,2,     -999.0,9,     -999.0,9,     -999.0,9,     -999.0,9,     0.0134,1,     4.7009,1,     -999.0,9,     -999.0,9,     -999.0,9
33RR20220430,        P02,     107,          2,         17,         17,2,20220605,       0913,    29.9990,  -166.9828,       5520,  1278.5,2,   3.1884,2,  34.4743,2,  34.4734,2,     40.1,2,    40.1,2,  133.65,2,   42.95,2,    0.00,2,    3.11,2,   0.017,2,   0.010,2,   0.0000,2,  2366.0,2,  2381.1,2,   7.3674,2,    25.01,2, -999.00,9,  -999.0,9, -999.00,9, -999.00,9,       40.1,2, 20220605,     1041,  29.9990,-166.9828,     3.1905,2,     -999.0,9,     -999.0,9,     -999.0,9,     -999.0,9,     0.0134,1,     4.7017,1,     -999.0,9,     -999.0,9,     -999.0,9
33RR20220430,        P02,     107,          2,         16,         16,2,20220605,       0913,    29.9990,  -166.9828,       5520,  1380.4,2,   2.9761,2,  34.5058,2,  34.5056,2,     48.1,2,    48.2,2,  138.24,2,   42.65,2,    0.00,2,    3.07,2,   0.009,2,   0.003,2,   0.0000,2,  2367.1,2,  2388.1,2,   7.3850,2,    25.02,2, -999.00,9,  -999.0,9, -999.00,9, -999.00,9,       37.9,2, 20220605,     1039,  29.9990,-166.9828,     2.9753,2,     -999.0,9,     -999.0,9,     -999.0,9,     -999.0,9,     0.0134,1,     4.7020,1,     -999.0,9,     -999.0,9,     -999.0,9
33RR20220430,        P02,     107,          2,         15,         15,2,20220605,       0913,    29.9990,  -166.9828,       5520,  1553.1,2,   2.6635,2,  34.5418,2,  34.5427,2,     58.8,2,    58.6,2,  145.17,2,   42.47,2,    0.00,2,    3.01,2,   0.005,2,   0.000,2,   0.0000,2,  2368.4,2,  2397.0,2,   7.4054,2,    25.00,2, -999.00,9,  -999.0,9, -999.00,9, -999.00,9,       35.2,2, 20220605,     1035,  29.9990,-166.9829,     2.6626,2,     -999.0,9,     -999.0,9,     -999.0,9,     -999.0,9,     0.0133,1,     4.7032,1,     -999.0,9,     -999.0,9,     -999.0,9
33RR20220430,        P02,     107,          2,         14,         14,2,20220605,       0913,    29.9990,  -166.9828,       5520,  1754.9,2,   2.3458,2,  34.5713,2,  34.5718,2,     66.8,2,    66.8,2,  153.28,2,   41.91,2,    0.00,2,    2.97,2,   0.006,2,   0.000,2,   0.0000,2,  2369.7,2,  2405.5,2,   7.4196,2,    25.00,2, -999.00,9,  -999.0,9, -999.00,9, -999.00,9,       33.4,2, 20220605,     1031,  29.9990,-166.9828,     2.3473,2,     -999.0,9,     -999.0,9,     -999.0,9,     -999.0,9,     0.0133,1,     4.7032,1,     -999.0,9,     -999.0,9,     -999.0,9
33RR20220430,        P02,     107,          2,         13,         13,2,20220605,       0913,    29.9990,  -166.9828,       5520,  1958.7,2,   2.0927,2,  34.5966,2,  34.5979,2,     75.6,2,    75.3,2,  159.92,2,   41.31,2,    0.00,2,    2.93,2,   0.003,2,   0.000,2,   0.0000,2,  2371.2,2,  2411.2,2,   7.4368,2,    25.00,2, -999.00,9,  -999.0,9, -999.00,9, -999.00,9,       31.3,2, 20220605,     1026,  29.9990,-166.9828,     2.0926,2,     -999.0,9,     -999.0,9,     -999.0,9,     -999.0,9,     0.0134,1,     4.7032,1,     -999.0,9,     -999.0,9,     -999.0,9
33RR20220430,        P02,     107,          2,         12,         12,2,20220605,       0913,    29.9990,  -166.9828,       5520,  2194.7,2,   1.8950,2,  34.6179,2,  34.6174,2,     86.7,2,    86.9,2,  163.82,2,   40.62,2,    0.00,2,    2.87,2,   0.002,2,   0.000,2,   0.0000,2,  -999.0,9,  -999.0,9,-999.0000,9,  -999.00,9, -999.00,9,  -999.0,9, -999.00,9, -999.00,9,       29.3,2, 20220605,     1021,  29.9990,-166.9828,     1.8948,2,     -999.0,9,     -999.0,9,     -999.0,9,     -999.0,9,     0.0127,1,     4.7032,1,     -999.0,9,     -999.0,9,     -999.0,9
33RR20220430,        P02,     107,          2,         11,         11,2,20220605,       0913,    29.9990,  -166.9828,       5520,  2447.0,2,   1.7365,2,  34.6365,2,  34.6350,2,    100.1,2,   100.0,2,  165.09,2,   39.75,2,    0.00,2,    2.79,2,   0.002,2,   0.000,2,   0.0000,2,  2362.9,2,  2419.3,2,   7.4837,2,    25.00,2, -999.00,9,  -999.0,9, -999.00,9, -999.00,9,       27.3,2, 20220605,     1016,  29.9990,-166.9828,     1.7363,2,     -999.0,9,     -999.0,9,     -999.0,9,     -999.0,9,     0.0128,1,     4.7044,1,     -999.0,9,     -999.0,9,     -999.0,9
33RR20220430,        P02,     107,          2,         10,         10,2,20220605,       0913,    29.9990,  -166.9828,       5520,  2701.7,2,   1.6412,2,  34.6487,2,  34.6468,2,    111.3,2,   111.5,2,  163.43,2,   39.02,2,    0.00,2,    2.73,2,-999.000,9,-999.000,9,-999.0000,9,  -999.0,9,  -999.0,9,-999.0000,9,  -999.00,9, -999.00,9,  -999.0,9, -999.00,9, -999.00,9,     -999.0,9, 20220605,     1011,  29.9990,-166.9828,     1.6415,2,     -999.0,9,     -999.0,9,     -999.0,9,     -999.0,9,     0.0122,1,     4.7044,1,     -999.0,9,     -999.0,9,     -999.0,9
33RR20220430,        P02,     107,          2,          9,          9,2,20220605,       0913,    29.9990,  -166.9828,       5520,  2959.5,2,   1.5690,2,  34.6588,2,  34.6582,2,    121.1,2,   120.9,2,  162.55,2,   38.41,2,    0.00,2,    2.68,2,   0.003,2,   0.000,2,   0.0000,2,  2347.5,2,  2420.8,2,   7.5227,2,    25.01,2, -999.00,9,  -999.0,9, -999.00,9, -999.00,9,       24.8,2, 20220605,     1006,  29.9990,-166.9828,     1.5691,2,     -999.0,9,     -999.0,9,     -999.0,9,     -999.0,9,     0.0122,1,     4.7044,1,     -999.0,9,     -999.0,9,     -999.0,9
33RR20220430,        P02,     107,          2,          8,          8,2,20220605,       0913,    29.9990,  -166.9828,       5520,  3247.2,2,   1.5175,2,  34.6672,2,  34.6665,2,    130.0,2,   130.3,2,  160.40,2,   37.78,2,    0.00,2,    2.62,2,-999.000,9,-999.000,9,-999.0000,9,  -999.0,9,  -999.0,9,-999.0000,9,  -999.00,9, -999.00,9,  -999.0,9, -999.00,9, -999.00,9,     -999.0,9, 20220605,     1000,  29.9990,-166.9828,     1.5176,2,     -999.0,9,     -999.0,9,     -999.0,9,     -999.0,9,     0.0122,1,     4.7044,1,     -999.0,9,     -999.0,9,     -999.0,9
33RR20220430,        P02,     107,          2,          7,          7,2,20220605,       0913,    29.9990,  -166.9828,       5520,  3555.6,2,   1.4885,2,  34.6736,2,  34.6749,2,    137.6,2,   137.7,2,  158.83,2,   37.31,2,    0.00,2,    2.57,2,   0.003,2,   0.000,2,   0.0000,2,  2336.7,2,  2419.8,2,   7.5521,2,    24.99,2, -999.00,9,  -999.0,9, -999.00,9, -999.00,9,       23.4,2, 20220605,      954,  29.9989,-166.9828,     1.4887,2,     -999.0,9,     -999.0,9,     -999.0,9,     -999.0,9,     0.0122,1,     4.7048,1,     -999.0,9,     -999.0,9,     -999.0,9
33RR20220430,        P02,     107,          2,          6,          6,2,20220605,       0913,    29.9990,  -166.9828,       5520,  3862.0,2,   1.4694,2,  34.6791,2,  34.6773,2,    144.5,2,   144.5,2,  156.68,2,   37.04,2,    0.00,2,    2.54,2,-999.000,9,-999.000,9,-999.0000,9,  -999.0,9,  -999.0,9,-999.0000,9,  -999.00,9, -999.00,9,  -999.0,9, -999.00,9, -999.00,9,     -999.0,9, 20220605,      948,  29.9990,-166.9828,     1.4693,2,     -999.0,9,     -999.0,9,     -999.0,9,     -999.0,9,     0.0127,1,     4.7053,1,     -999.0,9,     -999.0,9,     -999.0,9
33RR20220430,        P02,     107,          2,          5,          5,2,20220605,       0913,    29.9990,  -166.9828,       5520,  4170.3,2,   1.4730,2,  34.6823,2,  34.6820,2,    148.5,2,   148.9,2,  155.71,2,   36.58,2,    0.00,2,    2.52,2,   0.003,2,   0.000,2,   0.0000,2,  2327.8,2,  2419.5,2,   7.5718,2,    25.01,2, -999.00,9,  -999.0,9, -999.00,9, -999.00,9,       22.1,2, 20220605,      942,  29.9989,-166.9828,     1.4730,2,     -999.0,9,     -999.0,9,     -999.0,9,     -999.0,9,     0.0128,1,     4.7048,1,     -999.0,9,     -999.0,9,     -999.0,9
33RR20220430,        P02,     107,          2,          4,          4,2,20220605,       0913,    29.9990,  -166.9828,       5520,  4556.5,2,   1.4971,2,  34.6844,2,  34.6846,2,    151.3,2,   151.7,2,  155.51,2,   36.43,2,    0.00,2,    2.51,2,-999.000,9,-999.000,9,-999.0000,9,  -999.0,9,  -999.0,9,-999.0000,9,  -999.00,9, -999.00,9,  -999.0,9, -999.00,9, -999.00,9,     -999.0,9, 20220605,      934,  29.9990,-166.9828,     1.4970,2,     -999.0,9,     -999.0,9,     -999.0,9,     -999.0,9,     0.0122,1,     4.7055,1,     -999.0,9,     -999.0,9,     -999.0,9