BOTTLE,20230801CCHSIOCBG
EXPOCODE,SECT_ID,STNNBR,CASTNO,SAMPNO,BTLNBR,BTLNBR_FLAG_W,DATE,TIME,LATITUDE,LONGITUDE,DEPTH,CTDPRS,CTDPRS_FLAG_W,CTDTMP,CTDTMP_FLAG_W,CTDSAL,CTDSAL_FLAG_W,SALNTY,SALNTY_FLAG_W,CTDOXY,CTDOXY_FLAG_W,OXYGEN,OXYGEN_FLAG_W,SILCAT,SILCAT_FLAG_W,NITRAT,NITRAT_FLAG_W,NITRIT,NITRIT_FLAG_W,PHSPHT,PHSPHT_FLAG_W,CFC-11,CFC-11_FLAG_W,CFC-12,CFC-12_FLAG_W,SF6,SF6_FLAG_W,TCARBN,TCARBN_FLAG_W,ALKALI,ALKALI_FLAG_W,PH_TOT,PH_TOT_FLAG_W,PH_TMP,PH_TMP_FLAG_W,DELC13,DELC13_FLAG_W,DELC14,DELC14_FLAG_W,DOC,DOC_FLAG_W,TDN,TDN_FLAG_W,N2O,N2O_FLAG_W,BTL_DATE,BTL_TIME,BTL_LAT,BTL_LON,REFTMP,REFTMP_FLAG_W,POC,POC_FLAG_W,PON,PON_FLAG_W,POP,POP_FLAG_W,PCOD,PCOD_FLAG_W,CTDFLUOR,CTDFLUOR_FLAG_W,CTDXMISS,CTDXMISS_FLAG_W,HPLC,HPLC_FLAG_W,DNA,DNA_FLAG_W,FCM,FCM_FLAG_W
,,,,,,,,,,,METERS,DBAR,,ITS-90,,PSS-78,,PSS-78,,UMOL/KG,,UMOL/KG,,UMOL/KG,,UMOL/KG,,UMOL/KG,,UMOL/KG,,PMOL/KG,,PMOL/KG,,FMOL/KG,,UMOL/KG,,UMOL/KG,,,,DEG C,,/MILLE,,/MILLE,,UMOL/KG,,UMOL/KG,,NMOL/KG,,,,,,ITS-90,,UG/L,,UG/L,,UG/L,,UG/L,,VOLTS,,VOLTS,,,,,,,
33RR20220430,        P02,      56,          2,         36,         36,2,20220521,       0405,    30.0005,   164.5266,       5888,     3.6,2,  22.3482,2,  34.9215,2,  34.9081,2,    228.2,2,   227.0,2,    1.07,2,    0.00,2,    0.00,2,    0.01,2,   1.986,2,   1.196,2,   2.2012,2,  2023.9,2,  2289.9,2,   7.9920,2,    24.95,2, -999.00,9,  -999.0,9, -999.00,1, -999.00,1,        6.3,2, 20220521,      628,  30.0005, 164.5266,    22.3826,2,     -999.0,9,     -999.0,9,     -999.0,9,     -999.0,9,     0.0147,1,     4.6126,1,     -999.0,9,     -999.0,9,     -999.0,9
33RR20220430,        P02,      56,          2,         35,         35,2,20220521,       0405,    30.0005,   164.5266,       5888,    20.6,2,  19.8752,2,  34.8453,2,  34.8387,2,    238.0,2,   236.8,2,    1.27,2,    0.00,2,    0.00,2,    0.02,2,   2.081,2,   1.263,2,   2.1187,2,  2021.9,2,  2285.2,2,   7.9859,2,    24.98,2, -999.00,9,  -999.0,9, -999.00,1, -999.00,1,        6.8,2, 20220521,      626,  30.0005, 164.5266,    19.8749,2,     -999.0,9,     -999.0,9,     -999.0,9,     -999.0,9,     0.0147,1,     4.6185,1,     -999.0,9,     -999.0,9,     -999.0,9
33RR20220430,        P02,      56,          2,         34,         34,2,20220521,       0405,    30.0005,   164.5266,       5888,    40.4,2,  19.1545,2,  34.7790,2,  34.7673,2,    242.6,2,   243.0,2,    1.17,2,    0.00,2,    0.00,2,    0.02,2,   2.209,2,   1.316,2,   2.2737,2,  2016.6,2,  2280.0,2,   7.9855,2,    25.00,2, -999.00,9,  -999.0,9, -999.00,1, -999.00,1,        7.1,2, 20220521,      624,  30.0005, 164.5266,    19.1377,2,     -999.0,9,     -999.0,9,     -999.0,9,     -999.0,9,     0.0165,1,     4.6105,1,     -999.0,9,     -999.0,9,     -999.0,9
33RR20220430,        P02,      56,          2,         33,         33,2,20220521,       0405,    30.0005,   164.5266,       5888,    70.8,2,  17.1949,2,  34.7257,2,  34.7156,2,    237.6,2,   237.2,2,    2.05,2,    1.01,2,    0.11,2,    0.12,2,   2.267,2,   1.363,2,   2.2070,2,  2030.0,2,  2277.6,2,   7.9610,2,    25.02,2, -999.00,9,  -999.0,9, -999.00,1, -999.00,1,        8.1,2, 20220521,      622,  30.0005, 164.5265,    17.1963,2,     -999.0,9,     -999.0,9,     -999.0,9,     -999.0,9,     0.0588,1,     4.5853,1,     -999.0,9,     -999.0,9,     -999.0,9
33RR20220430,        P02,      56,          2,         32,         32,2,20220521,       0405,    30.0005,   164.5266,       5888,    94.8,2,  16.7799,2,  34.7008,2,  34.6920,2,    226.5,2,   225.9,2,    2.54,2,    2.92,2,    0.11,2,    0.22,2,   2.275,2,   1.368,2,   2.2637,2,  2037.9,2,  2274.9,2,   7.9388,2,    25.02,2, -999.00,9,  -999.0,9, -999.00,1, -999.00,1,        8.4,2, 20220521,      620,  30.0005, 164.5265,    16.7789,2,     -999.0,9,     -999.0,9,     -999.0,9,     -999.0,9,     0.0287,1,     4.6614,1,     -999.0,9,     -999.0,9,     -999.0,9
33RR20220430,        P02,      56,          2,         31,         31,2,20220521,       0405,    30.0005,   164.5266,       5888,   137.2,2,  16.2481,2,  34.6643,2,  34.6582,2,    223.8,2,   223.8,2,    3.52,2,    3.99,2,    0.00,2,    0.28,2,   2.279,2,   1.378,2,   2.2864,2,  2044.2,2,  2273.7,2,   7.9247,2,    25.01,2, -999.00,9,  -999.0,9, -999.00,1, -999.00,1,        8.7,2, 20220521,      618,  30.0005, 164.5265,    16.2482,2,     -999.0,9,     -999.0,9,     -999.0,9,     -999.0,9,     0.0134,1,     4.6849,1,     -999.0,9,     -999.0,9,     -999.0,9
33RR20220430,        P02,      56,          2,         30,         30,2,20220521,       0405,    30.0005,   164.5266,       5888,   188.2,2,  15.7005,2,  34.6547,2,  34.6494,2,    231.6,2,   232.1,2,    4.00,2,    4.31,2,    0.00,2,    0.31,2,   2.385,2,   1.413,2,   2.3515,2,  2045.7,2,  2273.1,2,   7.9238,2,    25.02,2, -999.00,9,  -999.0,9, -999.00,1, -999.00,1,        8.7,2, 20220521,      616,  30.0005, 164.5265,    15.6984,2,     -999.0,9,     -999.0,9,     -999.0,9,     -999.0,9,     0.0159,1,     4.6759,1,     -999.0,9,     -999.0,9,     -999.0,9
33RR20220430,        P02,      56,          2,         29,         29,2,20220521,       0405,    30.0005,   164.5266,       5888,   236.8,2,  15.5539,2,  34.6605,2,  34.6549,2,    235.6,2,   236.9,2,    4.10,2,    4.14,2,    0.00,2,    0.30,2,   2.413,2,   1.427,2,   2.2575,2,  2044.3,2,  2274.2,2,   7.9254,2,    25.01,2, -999.00,9,  -999.0,9, -999.00,1, -999.00,1,        8.5,2, 20220521,      614,  30.0005, 164.5265,    15.5515,2,     -999.0,9,     -999.0,9,     -999.0,9,     -999.0,9,     0.0125,1,     4.6837,1,     -999.0,9,     -999.0,9,     -999.0,9
33RR20220430,        P02,      56,          2,         28,         28,2,20220521,       0405,    30.0005,   164.5266,       5888,   289.1,2,  15.2438,2,  34.6255,2,  34.6227,2,    226.8,2,   228.5,2,    5.47,2,    5.32,2,    0.00,2,    0.39,2,   2.412,2,   1.425,2,   2.2486,2,  2054.1,2,  2274.4,2,   7.9085,2,    25.02,2, -999.00,9,  -999.0,9, -999.00,1, -999.00,1,        9.2,2, 20220521,      612,  30.0005, 164.5265,    15.2484,2,     -999.0,9,     -999.0,9,     -999.0,9,     -999.0,9,     0.0122,1,     4.6849,1,     -999.0,9,     -999.0,9,     -999.0,9
33RR20220430,        P02,      56,          2,         27,         27,2,20220521,       0405,    30.0005,   164.5266,       5888,   339.5,2,  14.2205,2,  34.5280,2,  34.5243,2,    211.2,2,   211.6,2,    9.67,2,    8.64,2,    0.00,2,    0.62,2,   2.472,2,   1.466,2,   2.1961,2,  2076.1,2,  2272.6,2,   7.8593,2,    25.01,2, -999.00,9,  -999.0,9, -999.00,1, -999.00,1,       11.3,2, 20220521,      610,  30.0005, 164.5265,    14.2256,2,     -999.0,9,     -999.0,9,     -999.0,9,     -999.0,9,     0.0122,1,     4.6861,1,     -999.0,9,     -999.0,9,     -999.0,9
33RR20220430,        P02,      56,          2,         26,         26,2,20220521,       0405,    30.0005,   164.5266,       5888,   390.0,2,  12.8638,2,  34.4015,2,  34.3970,2,    200.5,2,   201.2,2,   13.77,2,   11.74,2,    0.00,2,    0.84,2,   2.639,2,   1.542,2,   1.9277,2,  2096.1,2,  2269.0,2,   7.8048,2,    25.03,2, -999.00,9,  -999.0,9, -999.00,1, -999.00,1,       13.5,2, 20220521,      608,  30.0005, 164.5265,    12.8644,2,     -999.0,9,     -999.0,9,     -999.0,9,     -999.0,9,     0.0122,1,     4.6923,1,     -999.0,9,     -999.0,9,     -999.0,9
33RR20220430,        P02,      56,          2,         25,         25,2,20220521,       0405,    30.0005,   164.5266,       5888,   470.6,2,  10.5795,2,  34.2138,2,  34.2115,2,    198.4,2,   199.5,2,   20.52,2,   15.71,2,    0.00,2,    1.12,2,   2.924,2,   1.666,2,   1.8946,2,  2123.5,2,  2266.8,2,   7.7384,2,    25.01,2, -999.00,9,  -999.0,9, -999.00,1, -999.00,1,       16.0,2, 20220521,      605,  30.0005, 164.5265,    10.5772,2,     -999.0,9,     -999.0,9,     -999.0,9,     -999.0,9,     0.0122,1,     4.6983,1,     -999.0,9,     -999.0,9,     -999.0,9
33RR20220430,        P02,      56,          2,         24,         24,2,20220521,       0405,    30.0005,   164.5266,       5888,   571.7,2,   8.0088,2,  34.0372,2,  34.0337,2,    175.8,2,   175.8,2,   36.74,2,   22.69,2,    0.00,2,    1.64,2,   2.853,2,   1.596,2,   1.6100,2,  2169.3,2,  2271.4,2,   7.6270,2,    25.02,2, -999.00,9,  -999.0,9, -999.00,1, -999.00,1,       21.5,2, 20220521,      602,  30.0005, 164.5265,     8.0060,2,     -999.0,9,     -999.0,9,     -999.0,9,     -999.0,9,     0.0122,1,     4.7012,1,     -999.0,9,     -999.0,9,     -999.0,9
33RR20220430,        P02,      56,          2,         23,         23,2,20220521,       0405,    30.0005,   164.5266,       5888,   672.7,2,   6.0534,2,  34.0058,2,  34.0045,2,    125.9,3,   124.6,2,   60.87,2,   30.99,2,    0.00,2,    2.24,2,   2.216,2,   1.263,2,   0.9224,2,  2231.9,2,  2288.2,2,   7.4925,2,    25.01,2, -999.00,9,  -999.0,9, -999.00,1, -999.00,1,       30.1,2, 20220521,      559,  30.0005, 164.5265,     6.0545,2,     -999.0,9,     -999.0,9,     -999.0,9,     -999.0,9,     0.0130,1,     4.7031,1,     -999.0,9,     -999.0,9,     -999.0,9
33RR20220430,        P02,      56,          2,         22,         22,2,20220521,       0405,    30.0005,   164.5266,       5888,   773.5,2,   5.0574,2,  34.0643,2,  34.0658,2,     88.2,3,    86.4,2,   80.70,2,   36.11,2,    0.00,2,    2.61,2,   1.610,2,   0.910,2,   0.6468,2,  2276.9,2,  2307.6,2,   7.4094,2,    25.00,2, -999.00,9,  -999.0,9, -999.00,9, -999.00,9,       36.8,2, 20220521,      557,  30.0005, 164.5265,     5.0569,2,     -999.0,9,     -999.0,9,     -999.0,9,     -999.0,9,     0.0126,1,     4.7023,1,     -999.0,9,     -999.0,9,     -999.0,9
33RR20220430,        P02,      56,          2,         21,         21,2,20220521,       0405,    30.0005,   164.5266,       5888,   873.5,2,   4.3072,2,  34.1690,2,  34.1683,2,     55.1,2,    54.9,2,  100.53,2,   39.83,2,    0.00,2,    2.87,2,   0.923,2,   0.519,2,   0.3121,2,  2316.6,2,  2327.4,2,   7.3565,2,    25.01,2, -999.00,9,  -999.0,9, -999.00,1, -999.00,1,       43.0,2, 20220521,      554,  30.0005, 164.5265,     4.3071,2,     -999.0,9,     -999.0,9,     -999.0,9,     -999.0,9,     0.0134,1,     4.7027,1,     -999.0,9,     -999.0,9,     -999.0,9
33RR20220430,        P02,      56,          2,         20,         20,2,20220521,       0405,    30.0005,   164.5266,       5888,   979.3,2,   3.7605,2,  34.2695,2,  34.2725,2,     35.8,2,    36.1,2,  117.62,2,   42.03,2,    0.00,2,    3.04,2,   0.413,2,   0.234,2,   0.1113,2,  2343.7,2,  2348.8,2,   7.3322,2,    25.03,2, -999.00,9,  -999.0,9, -999.00,9, -999.00,9,       47.5,2, 20220521,      551,  30.0005, 164.5265,     3.7608,2,     -999.0,9,     -999.0,9,     -999.0,9,     -999.0,9,     0.0134,1,     4.7032,1,     -999.0,9,     -999.0,9,     -999.0,9
33RR20220430,        P02,      56,          2,         19,         19,2,20220521,       0405,    30.0005,   164.5266,       5888,  1074.6,2,   3.4218,2,  34.3357,2,  34.3352,2,     30.6,2,    30.6,2,  127.97,2,   42.76,2,    0.00,2,    3.09,2,   0.223,2,   0.128,2,   0.0000,2,  2361.0,2,  2362.4,2,   7.3281,2,    25.00,2, -999.00,9,  -999.0,9, -999.00,1, -999.00,1,       48.7,2, 20220521,      548,  30.0005, 164.5265,     3.4213,2,     -999.0,9,     -999.0,9,     -999.0,9,     -999.0,9,     0.0134,1,     4.7035,1,     -999.0,9,     -999.0,9,     -999.0,9
33RR20220430,        P02,      56,          2,         18,         18,2,20220521,       0405,    30.0005,   164.5266,       5888,  1176.1,2,   3.1545,2,  34.3848,2,  34.3839,2,     29.7,2,    29.8,2,  136.07,2,   43.24,2,    0.00,2,    3.12,2,   0.140,2,   0.077,2,   0.0000,2,  -999.0,9,  -999.0,9,-999.0000,9,  -999.00,9, -999.00,9,  -999.0,9, -999.00,9, -999.00,9,       49.0,2, 20220521,      545,  30.0005, 164.5265,     3.1553,2,     -999.0,9,     -999.0,9,     -999.0,9,     -999.0,9,     0.0134,1,     4.7035,1,     -999.0,9,     -999.0,9,     -999.0,9
33RR20220430,        P02,      56,          2,         17,         17,2,20220521,       0405,    30.0005,   164.5266,       5888,  1277.7,2,   2.8486,2,  34.4401,2,  34.4389,2,     30.7,3,    31.4,2,  144.46,2,   43.43,2,    0.00,2,    3.12,2,   0.065,6,   0.039,6,   0.0000,6,  2376.2,2,  2382.0,2,   7.3405,2,    25.02,2, -999.00,9,  -999.0,9, -999.00,1, -999.00,1,       47.6,6, 20220521,      542,  30.0005, 164.5266,     2.8486,2,     -999.0,9,     -999.0,9,     -999.0,9,     -999.0,9,     0.0134,1,     4.7035,1,     -999.0,9,     -999.0,9,     -999.0,9
33RR20220430,        P02,      56,          2,         16,         16,2,20220521,       0405,    30.0005,   164.5266,       5888,  1379.0,2,   2.6527,2,  34.4781,2,  34.4787,2,     35.3,3,    35.7,2,  149.73,2,   43.28,2,    0.00,2,    3.09,2,   0.041,2,   0.024,2,   0.0000,2,  -999.0,9,  -999.0,9,-999.0000,9,  -999.00,9, -999.00,9,  -999.0,9, -999.00,9, -999.00,9,       44.8,2, 20220521,      539,  30.0005, 164.5265,     2.6527,2,     -999.0,9,     -999.0,9,     -999.0,9,     -999.0,9,     0.0134,1,     4.7042,1,     -999.0,9,     -999.0,9,     -999.0,9
33RR20220430,        P02,      56,          2,         15,         15,2,20220521,       0405,    30.0005,   164.5266,       5888,  1552.1,2,   2.4154,2,  34.5297,2,  34.5303,2,     48.9,2,    49.3,2,  154.12,2,   42.58,2,    0.00,2,    3.03,2,   0.015,2,   0.012,2,   0.0000,2,  2377.1,6,  2401.0,2,   7.3800,2,    25.02,2, -999.00,9,  -999.0,9, -999.00,1, -999.00,1,       40.4,2, 20220521,      535,  30.0005, 164.5266,     2.4149,2,     -999.0,9,     -999.0,9,     -999.0,9,     -999.0,9,     0.0130,1,     4.7055,1,     -999.0,9,     -999.0,9,     -999.0,9
33RR20220430,        P02,      56,          2,         14,         14,2,20220521,       0405,    30.0005,   164.5266,       5888,  1754.6,2,   2.1338,2,  34.5661,2,  34.5675,2,     61.3,3,    62.3,2,  159.88,2,   41.81,2,    0.00,2,    2.95,2,   0.011,2,   0.006,2,   0.0000,2,  -999.0,9,  -999.0,9,-999.0000,9,  -999.00,9, -999.00,9,  -999.0,9, -999.00,9, -999.00,9,       36.2,2, 20220521,      531,  30.0005, 164.5266,     2.1340,2,     -999.0,9,     -999.0,9,     -999.0,9,     -999.0,9,     0.0134,1,     4.7058,1,     -999.0,9,     -999.0,9,     -999.0,9
33RR20220430,        P02,      56,          2,         13,         13,2,20220521,       0405,    30.0005,   164.5266,       5888,  1958.6,2,   1.9389,2,  34.5992,2,  34.5991,2,     79.8,2,    80.2,2,  160.56,2,   40.69,2,    0.00,2,    2.86,2,   0.006,2,   0.000,2,   0.0000,2,  -999.0,9,  -999.0,9,-999.0000,9,  -999.00,9, -999.00,9,  -999.0,9, -999.00,1, -999.00,1,       32.0,2, 20220521,      526,  30.0005, 164.5265,     1.9386,2,     -999.0,9,     -999.0,9,     -999.0,9,     -999.0,9,     0.0134,1,     4.7069,1,     -999.0,9,     -999.0,9,     -999.0,9
33RR20220430,        P02,      56,          2,         12,         12,2,20220521,       0405,    30.0005,   164.5266,       5888,  2197.0,2,   1.7930,2,  34.6230,2,  34.6221,2,     97.3,2,    97.0,2,  158.02,2,   39.55,2,    0.00,2,    2.78,2,   0.004,2,   0.000,2,   0.0000,2,  -999.0,9,  -999.0,9,-999.0000,9,  -999.00,9, -999.00,9,  -999.0,9, -999.00,9, -999.00,9,       28.8,2, 20220521,      521,  30.0005, 164.5265,     1.7932,2,     -999.0,9,     -999.0,9,     -999.0,9,     -999.0,9,     0.0134,1,     4.7059,1,     -999.0,9,     -999.0,9,     -999.0,9
33RR20220430,        P02,      56,          2,         11,         11,2,20220521,       0405,    30.0005,   164.5266,       5888,  2447.2,2,   1.6879,2,  34.6411,2,  34.6394,2,    111.9,2,   112.1,2,  155.67,2,   38.55,2,    0.00,2,    2.71,2,   0.005,2,   0.000,2,   0.0000,2,  2348.2,2,  2414.9,2,   7.5038,2,    25.02,2, -999.00,9,  -999.0,9, -999.00,1, -999.00,1,       26.5,2, 20220521,      516,  30.0005, 164.5265,     1.6888,2,     -999.0,9,     -999.0,9,     -999.0,9,     -999.0,9,     0.0122,1,     4.7084,1,     -999.0,9,     -999.0,9,     -999.0,9
33RR20220430,        P02,      56,          2,         10,         10,2,20220521,       0405,    30.0005,   164.5266,       5888,  2700.1,2,   1.6140,2,  34.6526,2,  34.6521,2,    122.1,2,   122.0,2,  154.69,2,   37.89,2,    0.00,2,    2.64,2,   0.005,2,   0.000,2,   0.0000,2,  -999.0,9,  -999.0,9,-999.0000,9,  -999.00,9, -999.00,9,  -999.0,9, -999.00,9, -999.00,9,       24.9,2, 20220521,      510,  30.0005, 164.5266,     1.6143,2,     -999.0,9,     -999.0,9,     -999.0,9,     -999.0,9,     0.0131,1,     4.7085,1,     -999.0,9,     -999.0,9,     -999.0,9
33RR20220430,        P02,      56,          2,          9,          9,2,20220521,       0405,    30.0005,   164.5266,       5888,  2958.1,2,   1.5612,2,  34.6623,2,  34.6620,2,    131.8,2,   131.7,2,  151.67,2,   37.19,2,    0.00,2,    2.60,2,   0.004,2,   0.000,2,   0.0000,2,  -999.0,9,  -999.0,9,-999.0000,9,  -999.00,9, -999.00,9,  -999.0,9, -999.00,1, -999.00,1,       23.7,2, 20220521,      505,  30.0005, 164.5265,     1.5614,2,     -999.0,9,     -999.0,9,     -999.0,9,     -999.0,9,     0.0122,1,     4.7093,1,     -999.0,9,     -999.0,9,     -999.0,9
33RR20220430,        P02,      56,          2,          8,          8,2,20220521,       0405,    30.0005,   164.5266,       5888,  3246.9,2,   1.5272,2,  34.6687,2,  34.6669,2,    138.0,2,   138.0,2,  150.40,2,   36.77,2,    0.00,2,    2.56,2,-999.000,9,-999.000,9,-999.0000,9,  -999.0,9,  -999.0,9,-999.0000,9,  -999.00,9, -999.00,9,  -999.0,9, -999.00,9, -999.00,9,     -999.0,9, 20220521,      459,  30.0005, 164.5265,     1.5271,2,     -999.0,9,     -999.0,9,     -999.0,9,     -999.0,9,     0.0122,1,     4.7093,1,     -999.0,9,     -999.0,9,     -999.0,9
33RR20220430,        P02,      56,          2,          7,          7,2,20220521,       0405,    30.0005,   164.5266,       5888,  3554.6,2,   1.5009,2,  34.6742,2,  34.6732,2,    143.6,2,   143.9,2,  148.25,2,   36.42,2,    0.00,2,    2.52,2,   0.004,2,   0.000,2,   0.0000,2,  2329.0,2,  2415.0,2,   7.5589,2,    25.00,2, -999.00,9,  -999.0,9, -999.00,1, -999.00,1,       22.3,2, 20220521,      452,  30.0005, 164.5265,     1.5008,2,     -999.0,9,     -999.0,9,     -999.0,9,     -999.0,9,     0.0122,1,     4.7096,1,     -999.0,9,     -999.0,9,     -999.0,9
33RR20220430,        P02,      56,          2,          6,          6,2,20220521,       0405,    30.0005,   164.5266,       5888,  3861.2,2,   1.4850,2,  34.6786,2,  34.6777,2,    148.8,2,   148.7,2,  147.85,2,   36.11,2,    0.00,2,    2.50,2,-999.000,9,-999.000,9,-999.0000,9,  -999.0,9,  -999.0,9,-999.0000,9,  -999.00,9, -999.00,9,  -999.0,9, -999.00,9, -999.00,9,     -999.0,9, 20220521,      446,  30.0005, 164.5266,     1.4849,2,     -999.0,9,     -999.0,9,     -999.0,9,     -999.0,9,     0.0122,1,     4.7093,1,     -999.0,9,     -999.0,9,     -999.0,9
33RR20220430,        P02,      56,          2,          5,          5,2,20220521,       0405,    30.0005,   164.5266,       5888,  4274.5,2,   1.4715,2,  34.6839,2,  34.6828,2,    155.7,2,   155.9,2,  145.32,2,   35.65,2,    0.00,2,    2.46,2,   0.007,2,   0.000,2,   0.0000,2,  -999.0,9,  -999.0,9,-999.0000,9,  -999.00,9, -999.00,9,  -999.0,9, -999.00,1, -999.00,1,       21.1,2, 20220521,      438,  30.0005, 164.5265,     1.4713,2,     -999.0,9,     -999.0,9,     -999.0,9,     -999.0,9,     0.0122,1,     4.7092,1,     -999.0,9,     -999.0,9,     -999.0,9
33RR20220430,        P02,      56,          2,          4,          4,2,20220521,       0405,    30.0005,   164.5266,       5888,  4683.9,2,   1.4775,2,  34.6877,2,  34.6867,2,    161.3,2,   161.3,2,  142.19,2,   35.31,2,    0.00,2,    2.42,2,-999.000,9,-999.000,9,-999.0000,9,  2314.5,2,  2408.1,2,   7.5846,2,    25.01,2, -999.00,9,  -999.0,9, -999.00,9, -999.00,9,     -999.0,9, 20220521,      430,  30.0005, 164.5265,     1.4774,2,     -999.0,9,     -999.0,9,     -999.0,9,     -999.0,9,     0.0122,1,     4.7090,1,     -999.0,9,     -999.0,9,     -999.0,9