BOTTLE,20230801CCHSIOCBG
EXPOCODE,SECT_ID,STNNBR,CASTNO,SAMPNO,BTLNBR,BTLNBR_FLAG_W,DATE,TIME,LATITUDE,LONGITUDE,DEPTH,CTDPRS,CTDPRS_FLAG_W,CTDTMP,CTDTMP_FLAG_W,CTDSAL,CTDSAL_FLAG_W,SALNTY,SALNTY_FLAG_W,CTDOXY,CTDOXY_FLAG_W,OXYGEN,OXYGEN_FLAG_W,SILCAT,SILCAT_FLAG_W,NITRAT,NITRAT_FLAG_W,NITRIT,NITRIT_FLAG_W,PHSPHT,PHSPHT_FLAG_W,CFC-11,CFC-11_FLAG_W,CFC-12,CFC-12_FLAG_W,SF6,SF6_FLAG_W,TCARBN,TCARBN_FLAG_W,ALKALI,ALKALI_FLAG_W,PH_TOT,PH_TOT_FLAG_W,PH_TMP,PH_TMP_FLAG_W,DELC13,DELC13_FLAG_W,DELC14,DELC14_FLAG_W,DOC,DOC_FLAG_W,TDN,TDN_FLAG_W,N2O,N2O_FLAG_W,BTL_DATE,BTL_TIME,BTL_LAT,BTL_LON,REFTMP,REFTMP_FLAG_W,POC,POC_FLAG_W,PON,PON_FLAG_W,POP,POP_FLAG_W,PCOD,PCOD_FLAG_W,CTDFLUOR,CTDFLUOR_FLAG_W,CTDXMISS,CTDXMISS_FLAG_W,HPLC,HPLC_FLAG_W,DNA,DNA_FLAG_W,FCM,FCM_FLAG_W
,,,,,,,,,,,METERS,DBAR,,ITS-90,,PSS-78,,PSS-78,,UMOL/KG,,UMOL/KG,,UMOL/KG,,UMOL/KG,,UMOL/KG,,UMOL/KG,,PMOL/KG,,PMOL/KG,,FMOL/KG,,UMOL/KG,,UMOL/KG,,,,DEG C,,/MILLE,,/MILLE,,UMOL/KG,,UMOL/KG,,NMOL/KG,,,,,,ITS-90,,UG/L,,UG/L,,UG/L,,UG/L,,VOLTS,,VOLTS,,,,,,,
33RR20220430,        P02,     113,          2,         36,         36,2,20220607,       0423,    30.0007,  -163.5215,       5687,     3.9,2,  24.5812,2,  35.0499,2,  35.0342,2,    213.1,2,   213.5,2,    0.00,2,    0.03,2,    0.00,2,    0.00,2,   1.522,2,   1.039,2,   2.0053,2,  2016.8,2,  2306.6,2,   8.0176,2,    25.03,2, -999.00,9,  -999.0,9, -999.00,1, -999.00,1,        7.1,2, 20220607,      639,  30.0007,-163.5215,    24.5736,2,     -999.0,9,     -999.0,9,     -999.0,9,     -999.0,9,     0.0134,1,     4.6343,1,     -999.0,9,     -999.0,9,     -999.0,9
33RR20220430,        P02,     113,          2,         35,         35,2,20220607,       0423,    30.0007,  -163.5215,       5687,    20.7,2,  23.3702,2,  35.0412,2,  35.0278,2,    220.2,2,   220.5,2,    0.29,2,    0.02,2,    0.00,2,    0.00,2,   1.610,6,   1.076,6,   2.0266,6,  2017.9,2,  2299.3,2,   8.0157,2,    24.98,2, -999.00,9,  -999.0,9, -999.00,1, -999.00,1,        7.4,6, 20220607,      637,  30.0007,-163.5215,    23.3868,2,     -999.0,9,     -999.0,9,     -999.0,9,     -999.0,9,     0.0134,1,     4.6308,1,     -999.0,9,     -999.0,9,     -999.0,9
33RR20220430,        P02,     113,          2,         34,         34,2,20220607,       0423,    30.0007,  -163.5215,       5687,    41.0,2,  20.8466,2,  35.0908,3,  35.0693,2,    227.8,2,   227.0,2,    0.49,2,    0.01,2,    0.00,2,    0.02,2,   1.772,2,   1.186,2,   2.0244,2,  2027.0,2,  2302.9,2,   8.0019,2,    25.00,2, -999.00,9,  -999.0,9, -999.00,1, -999.00,1,        7.9,2, 20220607,      635,  30.0007,-163.5215,    20.8364,2,     -999.0,9,     -999.0,9,     -999.0,9,     -999.0,9,     0.0147,1,     4.6327,1,     -999.0,9,     -999.0,9,     -999.0,9
33RR20220430,        P02,     113,          2,         33,         33,2,20220607,       0423,    30.0007,  -163.5215,       5687,    66.8,2,  19.8312,2,  35.0115,2,  35.0024,2,    224.5,2,   224.1,2,    0.59,2,    0.01,2,    0.00,2,    0.03,2,   1.812,2,   1.208,2,   2.1531,2,  2033.5,2,  2298.3,2,   7.9851,2,    25.01,2, -999.00,9,  -999.0,9, -999.00,1, -999.00,1,        8.2,2, 20220607,      633,  30.0007,-163.5215,    19.8508,2,     -999.0,9,     -999.0,9,     -999.0,9,     -999.0,9,     0.0183,1,     4.6325,1,     -999.0,9,     -999.0,9,     -999.0,9
33RR20220430,        P02,     113,          2,         32,         32,2,20220607,       0423,    30.0007,  -163.5215,       5687,    92.4,2,  18.4006,2,  34.8165,2,  34.8076,2,    232.9,2,   233.3,2,    0.88,2,    0.00,2,    0.00,2,    0.04,2,   1.945,2,   1.271,2,   2.4019,2,  -999.0,9,  -999.0,9,-999.0000,9,  -999.00,9, -999.00,9,  -999.0,9, -999.00,1, -999.00,1,        8.5,2, 20220607,      632,  30.0007,-163.5215,    18.4033,2,     -999.0,9,     -999.0,9,     -999.0,9,     -999.0,9,     0.0256,1,     4.6368,1,     -999.0,9,     -999.0,9,     -999.0,9
33RR20220430,        P02,     113,          2,         31,         31,2,20220607,       0423,    30.0007,  -163.5215,       5687,   136.9,2,  17.3767,2,  34.7027,2,  34.6954,2,    229.5,2,   229.2,2,    1.47,2,    0.42,2,    0.21,2,    0.11,2,   1.989,2,   1.322,2,   2.2698,2,  2038.9,2,  2278.5,2,   7.9433,2,    25.00,2, -999.00,9,  -999.0,9, -999.00,1, -999.00,1,        9.2,2, 20220607,      629,  30.0007,-163.5215,    17.3736,2,     -999.0,9,     -999.0,9,     -999.0,9,     -999.0,9,     0.0267,1,     4.6609,1,     -999.0,9,     -999.0,9,     -999.0,9
33RR20220430,        P02,     113,          2,         30,         30,2,20220607,       0423,    30.0007,  -163.5215,       5687,   187.9,2,  15.5644,2,  34.5538,2,  34.5415,2,    213.4,2,   212.5,2,    3.61,2,    5.09,2,    0.00,2,    0.40,2,   2.215,2,   1.448,2,   2.2383,2,  -999.0,9,  -999.0,9,-999.0000,9,  -999.00,9, -999.00,9,  -999.0,9, -999.00,1, -999.00,1,       11.9,2, 20220607,      627,  30.0007,-163.5215,    15.5839,2,     -999.0,9,     -999.0,9,     -999.0,9,     -999.0,9,     0.0159,1,     4.6798,1,     -999.0,9,     -999.0,9,     -999.0,9
33RR20220430,        P02,     113,          2,         29,         29,2,20220607,       0423,    30.0007,  -163.5215,       5687,   238.2,2,  13.9786,2,  34.4163,2,  34.4084,2,    216.2,2,   216.1,2,    5.76,2,    7.29,2,    0.00,2,    0.54,2,   2.363,2,   1.540,2,   2.3526,2,  2076.8,6,  2264.2,2,   7.8439,2,    25.00,2, -999.00,9,  -999.0,9, -999.00,1, -999.00,1,       13.6,2, 20220607,      625,  30.0007,-163.5215,    13.9800,2,     -999.0,9,     -999.0,9,     -999.0,9,     -999.0,9,     0.0130,1,     4.6849,1,     -999.0,9,     -999.0,9,     -999.0,9
33RR20220430,        P02,     113,          2,         28,         28,2,20220607,       0423,    30.0007,  -163.5215,       5687,   288.7,2,  12.9716,2,  34.3440,2,  34.3331,2,    217.6,2,   217.8,2,    8.30,2,    9.22,2,    0.00,2,    0.66,2,   2.527,2,   1.595,2,   2.2632,2,  -999.0,9,  -999.0,9,-999.0000,9,  -999.00,9, -999.00,9,  -999.0,9, -999.00,1, -999.00,1,       14.8,2, 20220607,      623,  30.0007,-163.5215,    12.9738,2,     -999.0,9,     -999.0,9,     -999.0,9,     -999.0,9,     0.0122,1,     4.6886,1,     -999.0,9,     -999.0,9,     -999.0,9
33RR20220430,        P02,     113,          2,         27,         27,2,20220607,       0423,    30.0007,  -163.5215,       5687,   337.5,2,  11.7637,2,  34.2633,2,  34.2564,2,    214.9,2,   216.1,2,   12.12,2,   11.87,2,    0.00,2,    0.86,2,   2.614,2,   1.678,2,   2.2214,2,  2101.6,2,  2262.0,2,   7.7863,2,    25.01,2, -999.00,9,  -999.0,9, -999.00,1, -999.00,1,       16.2,2, 20220607,      621,  30.0007,-163.5215,    11.7539,2,     -999.0,9,     -999.0,9,     -999.0,9,     -999.0,9,     0.0122,1,     4.6889,1,     -999.0,9,     -999.0,9,     -999.0,9
33RR20220430,        P02,     113,          2,         26,         26,2,20220607,       0423,    30.0007,  -163.5215,       5687,   389.7,2,  10.5946,2,  34.1758,2,  34.1699,2,    208.2,2,   208.9,2,   16.90,2,   14.76,2,    0.00,2,    1.05,2,   2.713,2,   1.718,2,   1.9793,2,  -999.0,9,  -999.0,9,-999.0000,9,  -999.00,9, -999.00,9,  -999.0,9, -999.00,1, -999.00,1,       18.0,2, 20220607,      620,  30.0007,-163.5215,    10.5923,2,     -999.0,9,     -999.0,9,     -999.0,9,     -999.0,9,     0.0122,1,     4.6922,1,     -999.0,9,     -999.0,9,     -999.0,9
33RR20220430,        P02,     113,          2,         25,         25,2,20220607,       0423,    30.0007,  -163.5215,       5687,   468.6,2,   9.1414,2,  34.0775,2,  34.0742,2,    190.7,2,   191.5,2,   25.60,2,   19.25,2,    0.00,2,    1.36,2,   2.742,2,   1.715,2,   1.7771,2,  2146.6,2,  2262.7,2,   7.6798,2,    25.03,2, -999.00,9,  -999.0,9, -999.00,1, -999.00,1,       21.3,2, 20220607,      617,  30.0007,-163.5216,     9.1404,2,     -999.0,9,     -999.0,9,     -999.0,9,     -999.0,9,     0.0122,1,     4.6945,1,     -999.0,9,     -999.0,9,     -999.0,9
33RR20220430,        P02,     113,          2,         24,         24,2,20220607,       0423,    30.0007,  -163.5215,       5687,   571.6,2,   6.9262,2,  34.0067,2,  34.0049,2,    134.4,2,   134.0,2,   49.06,2,   28.92,2,    0.00,2,    2.05,2,   2.287,2,   1.406,2,   0.9614,2,  2213.6,2,  2279.3,2,   7.5269,2,    25.00,2, -999.00,9,  -999.0,9, -999.00,9, -999.00,9,       30.1,2, 20220607,      614,  30.0007,-163.5215,     6.9247,2,     -999.0,9,     -999.0,9,     -999.0,9,     -999.0,9,     0.0134,1,     4.6957,1,     -999.0,9,     -999.0,9,     -999.0,9
33RR20220430,        P02,     113,          2,         23,         23,2,20220607,       0423,    30.0007,  -163.5215,       5687,   673.3,2,   5.5346,2,  34.0237,2,  34.0245,2,     89.4,3,    88.2,2,   71.53,2,   35.49,2,    0.00,2,    2.55,2,   1.612,2,   0.955,2,   0.3858,2,  2266.4,2,  2294.6,2,   7.4178,2,    25.00,2, -999.00,9,  -999.0,9, -999.00,1, -999.00,1,       37.4,2, 20220607,      612,  30.0007,-163.5215,     5.5329,2,     -999.0,9,     -999.0,9,     -999.0,9,     -999.0,9,     0.0134,1,     4.6970,1,     -999.0,9,     -999.0,9,     -999.0,9
33RR20220430,        P02,     113,          2,         22,         22,2,20220607,       0423,    30.0007,  -163.5215,       5687,   772.5,2,   4.6345,2,  34.1115,2,  34.1121,2,     48.1,2,    48.0,2,   92.93,2,   40.30,2,    0.00,2,    2.89,2,   0.834,2,   0.480,2,   0.1409,2,  2311.5,2,  2317.3,2,   7.3408,2,    25.01,2, -999.00,9,  -999.0,9, -999.00,9, -999.00,9,       45.3,2, 20220607,      609,  30.0007,-163.5215,     4.6358,2,     -999.0,9,     -999.0,9,     -999.0,9,     -999.0,9,     0.0134,1,     4.6972,1,     -999.0,9,     -999.0,9,     -999.0,9
33RR20220430,        P02,     113,          2,         21,         21,2,20220607,       0423,    30.0007,  -163.5215,       5687,   873.6,2,   4.1720,2,  34.2023,2,  34.2026,2,     25.4,3,    25.9,2,  107.58,2,   42.62,2,    0.00,2,    3.08,2,   0.336,2,   0.193,2,   0.0000,2,  2341.4,2,  2335.5,2,   7.3088,2,    25.00,2, -999.00,9,  -999.0,9, -999.00,1, -999.00,1,       51.6,2, 20220607,      606,  30.0007,-163.5215,     4.1697,2,     -999.0,9,     -999.0,9,     -999.0,9,     -999.0,9,     0.0134,1,     4.6974,1,     -999.0,9,     -999.0,9,     -999.0,9
33RR20220430,        P02,     113,          2,         20,         20,2,20220607,       0423,    30.0007,  -163.5215,       5687,   975.9,2,   3.8441,2,  34.2941,2,  34.2974,2,     16.1,3,    16.7,2,  119.59,2,   43.63,2,    0.00,2,    3.17,2,   0.089,2,   0.062,2,   0.0000,2,  -999.0,9,  -999.0,9,-999.0000,9,  -999.00,9, -999.00,9,  -999.0,9, -999.00,9, -999.00,9,       54.9,2, 20220607,      603,  30.0007,-163.5215,     3.8424,2,     -999.0,9,     -999.0,9,     -999.0,9,     -999.0,9,     0.0134,1,     4.6983,1,     -999.0,9,     -999.0,9,     -999.0,9
33RR20220430,        P02,     113,          2,         19,         19,2,20220607,       0423,    30.0007,  -163.5215,       5687,  1075.3,2,   3.5442,2,  34.3834,2,  34.3837,2,     18.9,3,    18.7,2,  128.38,2,   43.77,2,    0.00,2,    3.18,2,   0.026,2,   0.018,2,   0.0000,2,  2366.2,2,  2366.1,2,   7.3182,2,    25.01,2, -999.00,9,  -999.0,9, -999.00,1, -999.00,1,       54.0,2, 20220607,      600,  30.0007,-163.5215,     3.5441,2,     -999.0,9,     -999.0,9,     -999.0,9,     -999.0,9,     0.0134,1,     4.6981,1,     -999.0,9,     -999.0,9,     -999.0,9
33RR20220430,        P02,     113,          2,         18,         18,2,20220607,       0423,    30.0007,  -163.5215,       5687,  1177.0,2,   3.3170,2,  34.4345,2,  34.4361,2,     21.5,3,    22.4,2,  134.92,2,   43.74,2,    0.00,2,    3.18,2,   0.011,2,   0.009,2,   0.0000,2,  2373.9,2,  2377.0,2,   7.3300,2,    24.98,2, -999.00,9,  -999.0,9, -999.00,1, -999.00,1,       52.9,2, 20220607,      558,  30.0007,-163.5215,     3.3165,2,     -999.0,9,     -999.0,9,     -999.0,9,     -999.0,9,     0.0134,1,     4.6983,1,     -999.0,9,     -999.0,9,     -999.0,9
33RR20220430,        P02,     113,          2,         17,         17,2,20220607,       0423,    30.0007,  -163.5215,       5687,  1278.6,2,   3.1616,2,  34.4738,2,  34.4750,2,     32.0,3,    31.5,2,  137.94,2,   43.19,2,    0.00,2,    3.13,2,   0.008,2,   0.005,2,   0.0000,2,  2371.3,2,  2383.0,2,   7.3524,2,    25.00,2, -999.00,9,  -999.0,9, -999.00,1, -999.00,1,       48.8,2, 20220607,      555,  30.0007,-163.5215,     3.1613,2,     -999.0,9,     -999.0,9,     -999.0,9,     -999.0,9,     0.0134,1,     4.6995,1,     -999.0,9,     -999.0,9,     -999.0,9
33RR20220430,        P02,     113,          2,         16,         16,2,20220607,       0423,    30.0007,  -163.5215,       5687,  1382.0,2,   2.9488,2,  34.5082,2,  34.5101,2,     43.4,2,    43.7,2,  141.75,2,   42.54,2,    0.00,2,    3.07,2,   0.006,2,   0.000,2,   0.0000,2,  2369.7,2,  2388.0,2,   7.3778,2,    25.00,2, -999.00,9,  -999.0,9, -999.00,9, -999.00,9,       44.0,2, 20220607,      552,  30.0007,-163.5215,     2.9484,2,     -999.0,9,     -999.0,9,     -999.0,9,     -999.0,9,     0.0134,1,     4.6999,1,     -999.0,9,     -999.0,9,     -999.0,9
33RR20220430,        P02,     113,          2,         15,         15,2,20220607,       0423,    30.0007,  -163.5215,       5687,  1552.5,2,   2.6318,2,  34.5448,2,  34.5466,2,     54.2,3,    55.0,2,  148.87,2,   41.96,2,    0.00,2,    3.01,2,   0.004,2,   0.000,2,   0.0000,2,  2371.1,2,  2398.2,2,   7.4000,2,    25.00,2, -999.00,9,  -999.0,9, -999.00,1, -999.00,1,       39.6,2, 20220607,      548,  30.0007,-163.5215,     2.6315,2,     -999.0,9,     -999.0,9,     -999.0,9,     -999.0,9,     0.0134,1,     4.7002,1,     -999.0,9,     -999.0,9,     -999.0,9
33RR20220430,        P02,     113,          2,         14,         14,2,20220607,       0423,    30.0007,  -163.5215,       5687,  1754.2,2,   2.3377,2,  34.5744,2,  34.5763,2,     67.2,2,    67.4,2,  155.12,2,   41.17,2,    0.00,2,    2.94,2,   0.004,2,   0.000,2,   0.0000,2,  2369.1,2,  2404.9,2,   7.4241,2,    25.00,2, -999.00,9,  -999.0,9, -999.00,9, -999.00,9,       35.8,2, 20220607,      544,  30.0007,-163.5215,     2.3363,2,     -999.0,9,     -999.0,9,     -999.0,9,     -999.0,9,     0.0127,1,     4.7011,1,     -999.0,9,     -999.0,9,     -999.0,9
33RR20220430,        P02,     113,          2,         13,         13,2,20220607,       0423,    30.0007,  -163.5215,       5687,  1959.8,2,   2.1150,2,  34.5974,2,  34.5987,2,     77.0,2,    76.7,2,  159.81,2,   40.69,2,    0.00,2,    2.90,2,   0.003,2,   0.000,2,   0.0000,2,  2369.5,2,  2410.4,2,   7.4410,2,    25.01,2, -999.00,9,  -999.0,9, -999.00,1, -999.00,1,       34.0,2, 20220607,      540,  30.0007,-163.5215,     2.1149,2,     -999.0,9,     -999.0,9,     -999.0,9,     -999.0,9,     0.0131,1,     4.7019,1,     -999.0,9,     -999.0,9,     -999.0,9
33RR20220430,        P02,     113,          2,         12,         12,2,20220607,       0423,    30.0007,  -163.5215,       5687,  2190.4,2,   1.9211,2,  34.6177,2,  34.6193,2,     89.6,2,    89.4,2,  162.25,2,   39.95,2,    0.00,2,    2.83,2,-999.000,9,-999.000,9,-999.0000,9,  -999.0,9,  -999.0,9,-999.0000,9,  -999.00,9, -999.00,9,  -999.0,9, -999.00,9, -999.00,9,     -999.0,9, 20220607,      535,  30.0007,-163.5215,     1.9210,2,     -999.0,9,     -999.0,9,     -999.0,9,     -999.0,9,     0.0131,1,     4.7023,1,     -999.0,9,     -999.0,9,     -999.0,9
33RR20220430,        P02,     113,          2,         11,         11,2,20220607,       0423,    30.0007,  -163.5215,       5687,  2447.3,2,   1.7658,2,  34.6347,2,  34.6358,2,     99.6,2,    99.4,2,  164.69,2,   39.42,2,    0.00,2,    2.78,2,   0.002,2,   0.000,2,   0.0000,2,  2361.6,2,  2418.2,2,   7.4845,2,    25.01,2, -999.00,9,  -999.0,9, -999.00,1, -999.00,1,       29.1,2, 20220607,      529,  30.0007,-163.5215,     1.7656,2,     -999.0,9,     -999.0,9,     -999.0,9,     -999.0,9,     0.0128,1,     4.7032,1,     -999.0,9,     -999.0,9,     -999.0,9
33RR20220430,        P02,     113,          2,         10,         10,2,20220607,       0423,    30.0007,  -163.5215,       5687,  2701.9,2,   1.6636,2,  34.6471,2,  34.6476,2,    108.4,2,   108.3,2,  165.86,2,   38.87,2,    0.00,2,    2.74,2,-999.000,9,-999.000,9,-999.0000,9,  -999.0,9,  -999.0,9,-999.0000,9,  -999.00,9, -999.00,9,  -999.0,9, -999.00,9, -999.00,9,     -999.0,9, 20220607,      524,  30.0007,-163.5215,     1.6635,2,     -999.0,9,     -999.0,9,     -999.0,9,     -999.0,9,     0.0125,1,     4.7032,1,     -999.0,9,     -999.0,9,     -999.0,9
33RR20220430,        P02,     113,          2,          9,          9,2,20220607,       0423,    30.0007,  -163.5215,       5687,  2958.0,2,   1.5905,2,  34.6572,2,  34.6574,2,    117.3,2,   117.3,2,  165.47,2,   38.31,2,    0.00,2,    2.69,2,   0.002,2,   0.000,2,   0.0000,2,  2352.7,2,  2420.4,2,   7.5180,2,    25.00,2, -999.00,9,  -999.0,9, -999.00,1, -999.00,1,       26.3,2, 20220607,      519,  30.0007,-163.5215,     1.5911,2,     -999.0,9,     -999.0,9,     -999.0,9,     -999.0,9,     0.0134,1,     4.7032,1,     -999.0,9,     -999.0,9,     -999.0,9
33RR20220430,        P02,     113,          2,          8,          8,2,20220607,       0423,    30.0007,  -163.5215,       5687,  3247.2,2,   1.5373,2,  34.6655,2,  34.6669,2,    127.1,2,   127.3,2,  162.63,2,   37.66,2,    0.00,2,    2.64,2,-999.000,9,-999.000,9,-999.0000,9,  -999.0,9,  -999.0,9,-999.0000,9,  -999.00,9, -999.00,9,  -999.0,9, -999.00,9, -999.00,9,     -999.0,9, 20220607,      513,  30.0007,-163.5215,     1.5372,2,     -999.0,9,     -999.0,9,     -999.0,9,     -999.0,9,     0.0122,1,     4.7034,1,     -999.0,9,     -999.0,9,     -999.0,9
33RR20220430,        P02,     113,          2,          7,          7,2,20220607,       0423,    30.0007,  -163.5215,       5687,  3621.6,2,   1.5006,2,  34.6737,3,  34.6757,2,    135.9,2,   136.1,2,  161.17,2,   37.19,2,    0.00,2,    2.58,2,   0.003,2,   0.000,2,   0.0000,2,  2340.5,2,  2422.0,2,   7.5520,2,    25.01,2, -999.00,9,  -999.0,9, -999.00,1, -999.00,1,       24.1,2, 20220607,      506,  30.0007,-163.5215,     1.5007,2,     -999.0,9,     -999.0,9,     -999.0,9,     -999.0,9,     0.0122,1,     4.7041,1,     -999.0,9,     -999.0,9,     -999.0,9
33RR20220430,        P02,     113,          2,          6,          6,2,20220607,       0423,    30.0007,  -163.5215,       5687,  4029.1,2,   1.4823,2,  34.6800,2,  34.6808,2,    144.4,2,   144.9,2,  158.04,2,   36.65,2,    0.00,2,    2.54,2,-999.000,9,-999.000,9,-999.0000,9,  -999.0,9,  -999.0,9,-999.0000,9,  -999.00,9, -999.00,9,  -999.0,9, -999.00,9, -999.00,9,     -999.0,9, 20220607,      458,  30.0007,-163.5215,     1.4822,2,     -999.0,9,     -999.0,9,     -999.0,9,     -999.0,9,     0.0122,1,     4.7044,1,     -999.0,9,     -999.0,9,     -999.0,9
33RR20220430,        P02,     113,          2,          5,          5,2,20220607,       0423,    30.0007,  -163.5215,       5687,  4441.8,2,   1.4940,2,  34.6838,2,  34.6840,2,    149.8,2,   150.0,2,  155.60,2,   36.28,2,    0.00,2,    2.50,2,-999.000,9,-999.000,9,-999.0000,9,  2329.1,2,  2422.0,2,   7.5761,2,    25.01,2, -999.00,9,  -999.0,9, -999.00,1, -999.00,1,     -999.0,9, 20220607,      450,  30.0007,-163.5215,     1.4940,2,     -999.0,9,     -999.0,9,     -999.0,9,     -999.0,9,     0.0127,1,     4.7044,1,     -999.0,9,     -999.0,9,     -999.0,9
33RR20220430,        P02,     113,          2,          4,          4,2,20220607,       0423,    30.0007,  -163.5215,       5687,  4855.4,2,   1.5211,2,  34.6857,2,  34.6863,2,    153.4,2,   153.5,2,  154.04,2,   36.01,2,    0.00,2,    2.49,2,   0.005,2,   0.000,2,   0.0000,2,  -999.0,9,  -999.0,9,-999.0000,9,  -999.00,9, -999.00,9,  -999.0,9, -999.00,9, -999.00,9,       22.8,2, 20220607,      442,  30.0007,-163.5215,     1.5212,2,     -999.0,9,     -999.0,9,     -999.0,9,     -999.0,9,     0.0122,1,     4.7044,1,     -999.0,9,     -999.0,9,     -999.0,9