BOTTLE,20230801CCHSIOCBG
EXPOCODE,SECT_ID,STNNBR,CASTNO,SAMPNO,BTLNBR,BTLNBR_FLAG_W,DATE,TIME,LATITUDE,LONGITUDE,DEPTH,CTDPRS,CTDPRS_FLAG_W,CTDTMP,CTDTMP_FLAG_W,CTDSAL,CTDSAL_FLAG_W,SALNTY,SALNTY_FLAG_W,CTDOXY,CTDOXY_FLAG_W,OXYGEN,OXYGEN_FLAG_W,SILCAT,SILCAT_FLAG_W,NITRAT,NITRAT_FLAG_W,NITRIT,NITRIT_FLAG_W,PHSPHT,PHSPHT_FLAG_W,CFC-11,CFC-11_FLAG_W,CFC-12,CFC-12_FLAG_W,SF6,SF6_FLAG_W,TCARBN,TCARBN_FLAG_W,ALKALI,ALKALI_FLAG_W,PH_TOT,PH_TOT_FLAG_W,PH_TMP,PH_TMP_FLAG_W,DELC13,DELC13_FLAG_W,DELC14,DELC14_FLAG_W,DOC,DOC_FLAG_W,TDN,TDN_FLAG_W,N2O,N2O_FLAG_W,BTL_DATE,BTL_TIME,BTL_LAT,BTL_LON,REFTMP,REFTMP_FLAG_W,POC,POC_FLAG_W,PON,PON_FLAG_W,POP,POP_FLAG_W,PCOD,PCOD_FLAG_W,CTDFLUOR,CTDFLUOR_FLAG_W,CTDXMISS,CTDXMISS_FLAG_W,HPLC,HPLC_FLAG_W,DNA,DNA_FLAG_W,FCM,FCM_FLAG_W
,,,,,,,,,,,METERS,DBAR,,ITS-90,,PSS-78,,PSS-78,,UMOL/KG,,UMOL/KG,,UMOL/KG,,UMOL/KG,,UMOL/KG,,UMOL/KG,,PMOL/KG,,PMOL/KG,,FMOL/KG,,UMOL/KG,,UMOL/KG,,,,DEG C,,/MILLE,,/MILLE,,UMOL/KG,,UMOL/KG,,NMOL/KG,,,,,,ITS-90,,UG/L,,UG/L,,UG/L,,UG/L,,VOLTS,,VOLTS,,,,,,,
33RR20220430,        P02,      59,          2,         36,         36,2,20220522,       0250,    30.0000,   166.2578,       5904,     3.5,2,  23.4058,2,  35.1043,3,  35.0799,2,    218.4,2,   218.8,2,    0.98,2,    0.01,2,    0.00,2,    0.00,2,   1.745,2,   1.099,2,   1.9674,2,  2026.9,6,  2301.4,2,   8.0076,2,    24.99,2, -999.00,9,  -999.0,9, -999.00,1, -999.00,1,        6.0,2, 20220522,      512,  30.0000, 166.2578,    23.3874,2,     -999.0,9,     -999.0,9,     -999.0,9,     -999.0,9,     0.0135,1,     4.6282,1,     -999.0,9,     -999.0,9,     -999.0,9
33RR20220430,        P02,      59,          2,         35,         35,2,20220522,       0250,    30.0000,   166.2578,       5904,    20.7,2,  22.7062,2,  35.1495,2,  35.1368,2,    222.2,2,   221.7,2,    0.78,2,    0.00,2,    0.00,2,    0.01,2,   1.737,2,   1.107,2,   1.9191,2,  2021.4,2,  2307.7,2,   8.0218,2,    25.02,2, -999.00,9,  -999.0,9, -999.00,1, -999.00,1,        6.0,2, 20220522,      510,  30.0000, 166.2579,    22.7051,2,     -999.0,9,     -999.0,9,     -999.0,9,     -999.0,9,     0.0135,1,     4.6321,1,     -999.0,9,     -999.0,9,     -999.0,9
33RR20220430,        P02,      59,          2,         34,         34,2,20220522,       0250,    30.0000,   166.2578,       5904,    40.8,2,  20.3964,2,  34.8928,2,  34.8814,2,    235.7,2,   236.0,2,    0.98,2,    0.00,2,    0.00,2,    0.01,2,   1.945,2,   1.229,2,   2.1438,2,  2016.4,2,  2288.7,2,   8.0044,2,    24.99,2, -999.00,9,  -999.0,9, -999.00,1, -999.00,1,        6.6,2, 20220522,      509,  30.0000, 166.2579,    20.4096,2,     -999.0,9,     -999.0,9,     -999.0,9,     -999.0,9,     0.0147,1,     4.6210,1,     -999.0,9,     -999.0,9,     -999.0,9
33RR20220430,        P02,      59,          2,         33,         33,2,20220522,       0250,    30.0000,   166.2578,       5904,    67.7,2,  18.5189,2,  34.8091,2,  34.7958,2,    240.3,2,   241.6,2,    1.27,2,    0.00,2,    0.00,2,    0.02,2,   2.096,2,   1.300,2,   2.1413,2,  2021.5,2,  2283.8,2,   7.9899,2,    24.99,2, -999.00,9,  -999.0,9, -999.00,1, -999.00,1,        7.3,2, 20220522,      507,  30.0000, 166.2579,    18.5164,2,     -999.0,9,     -999.0,9,     -999.0,9,     -999.0,9,     0.0208,1,     4.6127,1,     -999.0,9,     -999.0,9,     -999.0,9
33RR20220430,        P02,      59,          2,         32,         32,2,20220522,       0250,    30.0000,   166.2578,       5904,    92.3,2,  17.7969,2,  34.7844,2,  34.7722,2,    221.4,2,   221.2,2,    1.76,2,    1.05,2,    0.17,2,    0.11,2,   2.101,2,   1.306,2,   2.1681,2,  2039.4,2,  2283.4,2,   7.9566,2,    25.02,2, -999.00,9,  -999.0,9, -999.00,1, -999.00,1,        7.9,2, 20220522,      505,  30.0000, 166.2579,    17.7955,2,     -999.0,9,     -999.0,9,     -999.0,9,     -999.0,9,     0.0489,1,     4.6104,1,     -999.0,9,     -999.0,9,     -999.0,9
33RR20220430,        P02,      59,          2,         31,         31,2,20220522,       0250,    30.0000,   166.2578,       5904,   137.1,2,  17.1702,2,  34.7374,2,  34.7260,2,    215.6,2,   215.3,2,    2.44,2,    3.16,2,    0.01,2,    0.22,2,   2.142,2,   1.333,2,   2.1757,2,  2044.0,2,  2279.2,2,   7.9359,2,    25.01,2, -999.00,9,  -999.0,9, -999.00,1, -999.00,1,        8.2,2, 20220522,      503,  30.0000, 166.2579,    17.1695,2,     -999.0,9,     -999.0,9,     -999.0,9,     -999.0,9,     0.0183,1,     4.6714,1,     -999.0,9,     -999.0,9,     -999.0,9
33RR20220430,        P02,      59,          2,         30,         30,2,20220522,       0250,    30.0000,   166.2578,       5904,   187.1,2,  16.3857,2,  34.6843,2,  34.6737,2,    206.7,2,   206.3,2,    4.20,2,    5.48,2,    0.00,2,    0.38,2,   2.228,2,   1.380,2,   2.0145,2,  2058.5,2,  2276.9,2,   7.9040,2,    25.01,2, -999.00,9,  -999.0,9, -999.00,1, -999.00,1,        9.4,2, 20220522,      501,  30.0000, 166.2579,    16.3851,2,     -999.0,9,     -999.0,9,     -999.0,9,     -999.0,9,     0.0122,1,     4.6853,1,     -999.0,9,     -999.0,9,     -999.0,9
33RR20220430,        P02,      59,          2,         29,         29,2,20220522,       0250,    30.0000,   166.2578,       5904,   237.7,2,  15.4963,2,  34.6128,2,  34.6030,2,    202.5,2,   202.2,2,    6.35,2,    7.26,2,    0.00,2,    0.51,2,   2.325,2,   1.436,2,   1.9258,2,  2069.4,2,  2272.8,2,   7.8759,2,    25.00,2, -999.00,9,  -999.0,9, -999.00,1, -999.00,1,       10.5,2, 20220522,      459,  30.0000, 166.2579,    15.4943,2,     -999.0,9,     -999.0,9,     -999.0,9,     -999.0,9,     0.0122,1,     4.6880,1,     -999.0,9,     -999.0,9,     -999.0,9
33RR20220430,        P02,      59,          2,         28,         28,2,20220522,       0250,    30.0000,   166.2578,       5904,   289.0,2,  14.4836,2,  34.5353,2,  34.5264,2,    202.6,2,   202.3,2,    8.89,2,    8.88,2,    0.00,2,    0.63,2,   2.409,2,   1.469,2,   1.9619,2,  -999.0,9,  -999.0,9,-999.0000,9,  -999.00,9, -999.00,9,  -999.0,9, -999.00,1, -999.00,1,       11.4,2, 20220522,      457,  30.0000, 166.2579,    14.4860,2,     -999.0,9,     -999.0,9,     -999.0,9,     -999.0,9,     0.0122,1,     4.6919,1,     -999.0,9,     -999.0,9,     -999.0,9
33RR20220430,        P02,      59,          2,         27,         27,2,20220522,       0250,    30.0000,   166.2578,       5904,   339.0,2,  13.2774,2,  34.4309,2,  34.4237,2,    200.5,2,   200.4,2,   11.63,2,   10.88,2,    0.00,2,    0.76,2,   2.596,2,   1.541,2,   1.8552,2,  2095.9,2,  2268.6,2,   7.8151,2,    25.00,2, -999.00,9,  -999.0,9, -999.00,1, -999.00,1,       13.0,2, 20220522,      455,  30.0000, 166.2579,    13.2781,2,     -999.0,9,     -999.0,9,     -999.0,9,     -999.0,9,     0.0122,1,     4.6943,1,     -999.0,9,     -999.0,9,     -999.0,9
33RR20220430,        P02,      59,          2,         26,         26,2,20220522,       0250,    30.0000,   166.2578,       5904,   388.2,2,  12.0260,2,  34.3304,2,  34.3237,2,    200.7,2,   202.0,2,   15.05,2,   12.94,2,    0.00,2,    0.91,2,   2.661,2,   1.603,2,   1.8916,2,  -999.0,9,  -999.0,9,-999.0000,9,  -999.00,9, -999.00,9,  -999.0,9, -999.00,1, -999.00,1,       14.3,2, 20220522,      453,  30.0000, 166.2579,    12.0264,2,     -999.0,9,     -999.0,9,     -999.0,9,     -999.0,9,     0.0122,1,     4.6973,1,     -999.0,9,     -999.0,9,     -999.0,9
33RR20220430,        P02,      59,          2,         25,         25,2,20220522,       0250,    30.0000,   166.2578,       5904,   469.1,2,  10.2295,2,  34.1926,2,  34.1866,2,    192.6,2,   193.3,2,   22.48,2,   16.93,2,    0.00,2,    1.20,2,   2.767,2,   1.628,2,   1.6851,2,  2134.9,2,  2267.8,2,   7.7191,2,    25.00,2, -999.00,9,  -999.0,9, -999.00,1, -999.00,1,       17.1,2, 20220522,      451,  30.0000, 166.2579,    10.2278,2,     -999.0,9,     -999.0,9,     -999.0,9,     -999.0,9,     0.0122,1,     4.7008,1,     -999.0,9,     -999.0,9,     -999.0,9
33RR20220430,        P02,      59,          2,         24,         24,2,20220522,       0250,    30.0000,   166.2578,       5904,   570.6,2,   7.6281,2,  34.0399,2,  34.0370,2,    159.7,2,   159.7,2,   42.02,2,   24.86,2,    0.00,2,    1.78,2,   2.559,2,   1.497,2,   1.4045,2,  -999.0,9,  -999.0,9,-999.0000,9,  -999.00,9, -999.00,9,  -999.0,9, -999.00,9, -999.00,9,       23.5,2, 20220522,      448,  30.0000, 166.2579,     7.6310,2,     -999.0,9,     -999.0,9,     -999.0,9,     -999.0,9,     0.0122,1,     4.7018,1,     -999.0,9,     -999.0,9,     -999.0,9
33RR20220430,        P02,      59,          2,         23,         23,2,20220522,       0250,    30.0000,   166.2578,       5904,   673.0,2,   5.9719,2,  34.0297,2,  34.0288,2,    115.8,2,   115.2,2,   64.50,2,   32.00,2,    0.00,2,    2.30,2,   1.983,2,   1.151,2,   0.8925,2,  2243.8,2,  2294.2,2,   7.4779,2,    25.00,2, -999.00,9,  -999.0,9, -999.00,1, -999.00,1,       30.9,2, 20220522,      445,  30.0000, 166.2579,     5.9742,2,     -999.0,9,     -999.0,9,     -999.0,9,     -999.0,9,     0.0122,1,     4.7027,1,     -999.0,9,     -999.0,9,     -999.0,9
33RR20220430,        P02,      59,          2,         22,         22,2,20220522,       0250,    30.0000,   166.2578,       5904,   772.8,2,   4.8207,2,  34.0896,2,  34.0856,2,     78.7,2,    78.8,2,   86.88,2,   37.11,2,    0.00,2,    2.67,2,   1.413,2,   0.815,2,   0.6059,2,  -999.0,9,  -999.0,9,-999.0000,9,  -999.00,9, -999.00,9,  -999.0,9, -999.00,9, -999.00,9,       37.6,2, 20220522,      442,  30.0000, 166.2579,     4.8287,2,     -999.0,9,     -999.0,9,     -999.0,9,     -999.0,9,     0.0134,1,     4.7015,1,     -999.0,9,     -999.0,9,     -999.0,9
33RR20220430,        P02,      59,          2,         21,         21,2,20220522,       0250,    30.0000,   166.2578,       5904,   874.2,2,   4.1586,2,  34.1926,2,  34.1970,2,     50.8,2,    50.6,2,  107.40,2,   40.32,2,    0.00,2,    2.88,2,   0.782,2,   0.449,2,   0.2840,2,  2327.6,2,  2335.0,2,   7.3486,2,    25.01,2, -999.00,9,  -999.0,9, -999.00,1, -999.00,1,       43.0,2, 20220522,      439,  30.0000, 166.2579,     4.1567,2,     -999.0,9,     -999.0,9,     -999.0,9,     -999.0,9,     0.0134,1,     4.7009,1,     -999.0,9,     -999.0,9,     -999.0,9
33RR20220430,        P02,      59,          2,         20,         20,2,20220522,       0250,    30.0000,   166.2578,       5904,   973.7,2,   3.7733,2,  34.2639,2,  34.2644,2,     39.0,3,    39.7,2,  118.53,2,   41.61,2,    0.00,2,    2.99,2,   0.483,2,   0.272,2,   0.0000,2,  -999.0,9,  -999.0,9,-999.0000,9,  -999.00,9, -999.00,9,  -999.0,9, -999.00,9, -999.00,9,       45.1,2, 20220522,      437,  30.0000, 166.2579,     3.7708,2,     -999.0,9,     -999.0,9,     -999.0,9,     -999.0,9,     0.0134,1,     4.7020,1,     -999.0,9,     -999.0,9,     -999.0,9
33RR20220430,        P02,      59,          2,         19,         19,2,20220522,       0250,    30.0000,   166.2578,       5904,  1075.4,2,   3.3948,2,  34.3383,2,  34.3376,2,     29.0,3,    29.3,2,  129.95,2,   42.82,2,    0.00,2,    3.07,2,   0.216,6,   0.122,6,   0.0000,6,  2363.3,2,  2363.9,2,   7.3245,2,    25.00,2, -999.00,9,  -999.0,9, -999.00,1, -999.00,1,       48.2,6, 20220522,      434,  30.0000, 166.2579,     3.3959,2,     -999.0,9,     -999.0,9,     -999.0,9,     -999.0,9,     0.0134,1,     4.7021,1,     -999.0,9,     -999.0,9,     -999.0,9
33RR20220430,        P02,      59,          2,         18,         18,2,20220522,       0250,    30.0000,   166.2578,       5904,  1176.6,2,   3.0990,2,  34.3969,2,  34.3967,2,     27.8,2,    27.9,2,  138.84,2,   43.21,2,    0.00,2,    3.10,2,   0.108,2,   0.059,2,   0.0000,2,  -999.0,9,  -999.0,9,-999.0000,9,  -999.00,9, -999.00,9,  -999.0,9, -999.00,9, -999.00,9,       48.5,2, 20220522,      431,  30.0000, 166.2579,     3.0978,2,     -999.0,9,     -999.0,9,     -999.0,9,     -999.0,9,     0.0134,1,     4.7025,1,     -999.0,9,     -999.0,9,     -999.0,9
33RR20220430,        P02,      59,          2,         17,         17,2,20220522,       0250,    30.0000,   166.2578,       5904,  1278.6,2,   2.8991,2,  34.4355,2,  34.4353,2,     29.7,2,    30.0,2,  144.99,2,   43.21,2,    0.00,2,    3.11,2,   0.070,2,   0.045,2,   0.0000,2,  2378.5,2,  2382.5,2,   7.3372,2,    25.00,2, -999.00,9,  -999.0,9, -999.00,1, -999.00,1,       47.3,2, 20220522,      428,  30.0000, 166.2579,     2.9008,2,     -999.0,9,     -999.0,9,     -999.0,9,     -999.0,9,     0.0134,1,     4.7029,1,     -999.0,9,     -999.0,9,     -999.0,9
33RR20220430,        P02,      59,          2,         16,         16,2,20220522,       0250,    30.0000,   166.2578,       5904,  1379.6,2,   2.6945,2,  34.4637,2,  34.4634,2,     33.0,2,    33.1,2,  151.53,2,   43.10,2,    0.00,2,    3.09,2,   0.057,2,   0.031,2,   0.0000,2,  2382.7,2,  2388.9,2,   7.3421,2,    25.00,2, -999.00,9,  -999.0,9, -999.00,1, -999.00,1,       45.2,2, 20220522,      425,  30.0000, 166.2579,     2.6961,2,     -999.0,9,     -999.0,9,     -999.0,9,     -999.0,9,     0.0134,1,     4.7027,1,     -999.0,9,     -999.0,9,     -999.0,9
33RR20220430,        P02,      59,          2,         15,         15,2,20220522,       0250,    30.0000,   166.2578,       5904,  1552.8,2,   2.4149,2,  34.5189,2,  34.5192,2,     42.5,2,    42.3,2,  157.59,2,   42.74,2,    0.00,2,    3.06,2,   0.024,2,   0.012,2,   0.0000,2,  2384.7,2,  2398.6,2,   7.3653,2,    24.99,2, -999.00,9,  -999.0,9, -999.00,1, -999.00,1,       41.6,2, 20220522,      421,  30.0000, 166.2578,     2.4157,2,     -999.0,9,     -999.0,9,     -999.0,9,     -999.0,9,     0.0129,1,     4.7036,1,     -999.0,9,     -999.0,9,     -999.0,9
33RR20220430,        P02,      59,          2,         14,         14,2,20220522,       0250,    30.0000,   166.2578,       5904,  1754.0,2,   2.1788,2,  34.5607,2,  34.5614,2,     56.5,2,    56.6,2,  162.76,2,   42.00,2,    0.00,2,    3.00,2,   0.011,2,   0.006,2,   0.0000,2,  2382.6,2,  2407.7,2,   7.3939,2,    25.01,2, -999.00,9,  -999.0,9, -999.00,1, -999.00,1,       37.2,2, 20220522,      417,  30.0000, 166.2578,     2.1782,2,     -999.0,9,     -999.0,9,     -999.0,9,     -999.0,9,     0.0131,1,     4.7045,1,     -999.0,9,     -999.0,9,     -999.0,9
33RR20220430,        P02,      59,          2,         13,         13,2,20220522,       0250,    30.0000,   166.2578,       5904,  1957.8,2,   1.9684,2,  34.5929,2,  34.5934,2,     72.8,2,    72.8,2,  164.51,2,   41.18,2,    0.00,2,    2.90,2,   0.007,2,   0.000,2,   0.0000,2,  2375.5,2,  2411.5,2,   7.4276,2,    25.00,2, -999.00,9,  -999.0,9, -999.00,1, -999.00,1,       32.8,2, 20220522,      412,  30.0000, 166.2579,     1.9686,2,     -999.0,9,     -999.0,9,     -999.0,9,     -999.0,9,     0.0134,1,     4.7056,1,     -999.0,9,     -999.0,9,     -999.0,9
33RR20220430,        P02,      59,          2,         12,         12,2,20220522,       0250,    30.0000,   166.2578,       5904,  2192.5,2,   1.7983,2,  34.6231,2,  34.6225,2,     94.9,2,    94.7,2,  161.48,2,   39.77,2,    0.00,2,    2.81,2,   0.005,2,   0.000,2,   0.0000,2,  -999.0,9,  -999.0,9,-999.0000,9,  -999.00,9, -999.00,9,  -999.0,9, -999.00,9, -999.00,9,       28.9,2, 20220522,      407,  30.0000, 166.2578,     1.7993,2,     -999.0,9,     -999.0,9,     -999.0,9,     -999.0,9,     0.0127,1,     4.7065,1,     -999.0,9,     -999.0,9,     -999.0,9
33RR20220430,        P02,      59,          2,         11,         11,2,20220522,       0250,    30.0000,   166.2578,       5904,  2445.5,2,   1.6918,2,  34.6405,2,  34.6409,2,    109.0,2,   109.0,2,  159.62,2,   38.84,2,    0.00,2,    2.73,2,   0.005,2,   0.000,2,   0.0000,2,  2355.0,2,  2415.1,2,   7.4972,2,    25.01,2, -999.00,9,  -999.0,9, -999.00,1, -999.00,1,       26.4,2, 20220522,      402,  30.0000, 166.2578,     1.6909,2,     -999.0,9,     -999.0,9,     -999.0,9,     -999.0,9,     0.0129,1,     4.7068,1,     -999.0,9,     -999.0,9,     -999.0,9
33RR20220430,        P02,      59,          2,         10,         10,2,20220522,       0250,    30.0000,   166.2578,       5904,  2699.7,2,   1.6121,2,  34.6542,2,  34.6551,2,    121.7,2,   122.0,2,  156.79,2,   37.98,2,    0.00,2,    2.66,2,   0.004,2,   0.000,2,   0.0000,2,  -999.0,9,  -999.0,9,-999.0000,9,  -999.00,9, -999.00,9,  -999.0,9, -999.00,9, -999.00,9,       24.4,2, 20220522,      357,  30.0000, 166.2578,     1.6120,2,     -999.0,9,     -999.0,9,     -999.0,9,     -999.0,9,     0.0130,1,     4.7080,1,     -999.0,9,     -999.0,9,     -999.0,9
33RR20220430,        P02,      59,          2,          9,          9,2,20220522,       0250,    30.0000,   166.2578,       5904,  2956.3,2,   1.5628,2,  34.6625,2,  34.6625,2,    129.1,2,   129.3,2,  155.32,2,   37.53,2,    0.00,2,    2.62,2,   0.005,2,   0.000,2,   0.0000,2,  2341.7,2,  2418.0,2,   7.5347,2,    25.00,2, -999.00,9,  -999.0,9, -999.00,1, -999.00,1,       23.7,2, 20220522,      352,  30.0000, 166.2579,     1.5627,2,     -999.0,9,     -999.0,9,     -999.0,9,     -999.0,9,     0.0131,1,     4.7080,1,     -999.0,9,     -999.0,9,     -999.0,9
33RR20220430,        P02,      59,          2,          8,          8,2,20220522,       0250,    30.0000,   166.2578,       5904,  3248.2,2,   1.5207,2,  34.6703,2,  34.6700,2,    137.1,2,   137.3,2,  153.37,2,   36.99,2,    0.00,2,    2.57,2,   0.005,2,   0.000,2,   0.0000,2,  -999.0,9,  -999.0,9,-999.0000,9,  -999.00,9, -999.00,9,  -999.0,9, -999.00,9, -999.00,9,       22.6,2, 20220522,      346,  30.0000, 166.2579,     1.5208,2,     -999.0,9,     -999.0,9,     -999.0,9,     -999.0,9,     0.0122,1,     4.7080,1,     -999.0,9,     -999.0,9,     -999.0,9
33RR20220430,        P02,      59,          2,          7,          7,2,20220522,       0250,    30.0000,   166.2578,       5904,  3554.9,2,   1.4959,2,  34.6758,2,  34.6757,2,    143.0,2,   143.1,2,  151.90,2,   36.59,2,    0.00,2,    2.53,2,   0.005,2,   0.000,2,   0.0000,2,  2331.0,2,  2414.4,2,   7.5587,2,    25.01,2, -999.00,9,  -999.0,9, -999.00,1, -999.00,1,       21.7,2, 20220522,      340,  30.0000, 166.2579,     1.4956,2,     -999.0,9,     -999.0,9,     -999.0,9,     -999.0,9,     0.0122,1,     4.7091,1,     -999.0,9,     -999.0,9,     -999.0,9
33RR20220430,        P02,      59,          2,          6,          6,2,20220522,       0250,    30.0000,   166.2578,       5904,  3860.4,2,   1.4830,2,  34.6800,2,  34.6800,2,    148.2,2,   148.5,2,  150.24,2,   36.19,2,    0.00,2,    2.50,2,   0.008,2,   0.000,2,   0.0000,2,  -999.0,9,  -999.0,9,-999.0000,9,  -999.00,9, -999.00,9,  -999.0,9, -999.00,9, -999.00,9,       21.6,2, 20220522,      333,  30.0000, 166.2579,     1.4829,2,     -999.0,9,     -999.0,9,     -999.0,9,     -999.0,9,     0.0122,1,     4.7086,1,     -999.0,9,     -999.0,9,     -999.0,9
33RR20220430,        P02,      59,          2,          5,          5,2,20220522,       0250,    30.0000,   166.2578,       5904,  4274.0,2,   1.4708,2,  34.6853,2,  34.6857,2,    154.9,2,   154.9,2,  148.29,2,   35.69,2,    0.00,2,    2.47,2,   0.007,2,   0.000,2,   0.0000,2,  2323.9,2,  2412.1,2,   7.5764,2,    25.01,2, -999.00,9,  -999.0,9, -999.00,1, -999.00,1,       21.2,2, 20220522,      326,  30.0000, 166.2579,     1.4708,2,     -999.0,9,     -999.0,9,     -999.0,9,     -999.0,9,     0.0122,1,     4.7079,1,     -999.0,9,     -999.0,9,     -999.0,9
33RR20220430,        P02,      59,          2,          4,          4,2,20220522,       0250,    30.0000,   166.2578,       5904,  4682.5,2,   1.4752,2,  34.6893,2,  34.6891,2,    161.5,2,   161.6,2,  143.99,2,   35.23,2,    0.00,2,    2.44,2,   0.005,2,   0.000,2,   0.0000,2,  2318.5,2,  2409.0,2,   7.5850,2,    25.02,2, -999.00,9,  -999.0,9, -999.00,9, -999.00,9,       20.6,2, 20220522,      318,  30.0000, 166.2579,     1.4752,2,     -999.0,9,     -999.0,9,     -999.0,9,     -999.0,9,     0.0122,1,     4.7089,1,     -999.0,9,     -999.0,9,     -999.0,9