BOTTLE,20230801CCHSIOCBG
EXPOCODE,SECT_ID,STNNBR,CASTNO,SAMPNO,BTLNBR,BTLNBR_FLAG_W,DATE,TIME,LATITUDE,LONGITUDE,DEPTH,CTDPRS,CTDPRS_FLAG_W,CTDTMP,CTDTMP_FLAG_W,CTDSAL,CTDSAL_FLAG_W,SALNTY,SALNTY_FLAG_W,CTDOXY,CTDOXY_FLAG_W,OXYGEN,OXYGEN_FLAG_W,SILCAT,SILCAT_FLAG_W,NITRAT,NITRAT_FLAG_W,NITRIT,NITRIT_FLAG_W,PHSPHT,PHSPHT_FLAG_W,CFC-11,CFC-11_FLAG_W,CFC-12,CFC-12_FLAG_W,SF6,SF6_FLAG_W,TCARBN,TCARBN_FLAG_W,ALKALI,ALKALI_FLAG_W,PH_TOT,PH_TOT_FLAG_W,PH_TMP,PH_TMP_FLAG_W,DELC13,DELC13_FLAG_W,DELC14,DELC14_FLAG_W,DOC,DOC_FLAG_W,TDN,TDN_FLAG_W,N2O,N2O_FLAG_W,BTL_DATE,BTL_TIME,BTL_LAT,BTL_LON,REFTMP,REFTMP_FLAG_W,POC,POC_FLAG_W,PON,PON_FLAG_W,POP,POP_FLAG_W,PCOD,PCOD_FLAG_W,CTDFLUOR,CTDFLUOR_FLAG_W,CTDXMISS,CTDXMISS_FLAG_W,HPLC,HPLC_FLAG_W,DNA,DNA_FLAG_W,FCM,FCM_FLAG_W
,,,,,,,,,,,METERS,DBAR,,ITS-90,,PSS-78,,PSS-78,,UMOL/KG,,UMOL/KG,,UMOL/KG,,UMOL/KG,,UMOL/KG,,UMOL/KG,,PMOL/KG,,PMOL/KG,,FMOL/KG,,UMOL/KG,,UMOL/KG,,,,DEG C,,/MILLE,,/MILLE,,UMOL/KG,,UMOL/KG,,NMOL/KG,,,,,,ITS-90,,UG/L,,UG/L,,UG/L,,UG/L,,VOLTS,,VOLTS,,,,,,,
33RR20220430,        P02,      38,          2,         36,         36,2,20220515,       0708,    29.9999,   153.2732,       5844,     2.7,2,  21.6891,2,  34.6331,2,  34.6211,2,    227.7,2,   226.9,2,    0.98,2,    0.03,2,    0.00,2,    0.00,2,   1.927,2,   1.170,2,   1.8797,2,  2007.1,2,  2273.4,2,   7.9956,2,    24.88,2, -999.00,9,  -999.0,9, -999.00,1, -999.00,1,        6.7,2, 20220515,      927,  29.9999, 153.2732,    21.5667,3,     -999.0,9,     -999.0,9,     -999.0,9,     -999.0,9,     0.0138,1,     4.6174,1,     -999.0,9,     -999.0,9,     -999.0,9
33RR20220430,        P02,      38,          2,         35,         35,2,20220515,       0708,    29.9999,   153.2732,       5844,    21.3,2,  20.5531,2,  34.6578,2,  34.6460,2,    230.6,2,   229.2,2,    1.07,2,    0.01,2,    0.00,2,    0.00,2,   1.949,2,   1.187,2,   1.9514,2,  2007.4,6,  2274.6,2,   7.9949,2,    24.94,2, -999.00,9,  -999.0,9, -999.00,1, -999.00,1,        6.8,2, 20220515,      925,  29.9998, 153.2732,    20.5540,2,     -999.0,9,     -999.0,9,     -999.0,9,     -999.0,9,     0.0147,1,     4.6320,1,     -999.0,9,     -999.0,9,     -999.0,9
33RR20220430,        P02,      38,          2,         34,         34,2,20220515,       0708,    29.9999,   153.2732,       5844,    40.5,2,  19.4404,2,  34.7818,2,  34.7632,2,    236.2,2,   236.0,2,    1.17,2,    0.00,2,    0.00,2,    0.00,2,   2.048,2,   1.268,2,   2.1101,2,  2013.8,2,  2282.4,2,   7.9955,2,    24.98,2, -999.00,9,  -999.0,9, -999.00,1, -999.00,1,        7.2,2, 20220515,      924,  29.9999, 153.2732,    19.4894,2,     -999.0,9,     -999.0,9,     -999.0,9,     -999.0,9,     0.0159,1,     4.6360,1,     -999.0,9,     -999.0,9,     -999.0,9
33RR20220430,        P02,      38,          2,         33,         33,2,20220515,       0708,    29.9999,   153.2732,       5844,    66.2,2,  17.9180,2,  34.7499,2,  34.7437,2,    239.2,2,   240.7,2,    1.37,2,    0.09,2,    0.02,2,    0.03,2,   2.121,2,   1.327,2,   2.0833,2,  2018.3,2,  2281.0,2,   7.9844,2,    24.99,2, -999.00,9,  -999.0,9, -999.00,1, -999.00,1,        8.3,2, 20220515,      922,  29.9998, 153.2732,    17.9165,2,     -999.0,9,     -999.0,9,     -999.0,9,     -999.0,9,     0.0509,1,     4.6046,1,     -999.0,9,     -999.0,9,     -999.0,9
33RR20220430,        P02,      38,          2,         32,         32,2,20220515,       0708,    29.9999,   153.2732,       5844,    90.4,2,  17.5629,2,  34.7390,2,  34.7315,2,    231.4,2,   231.4,2,    1.66,2,    1.05,2,    0.29,2,    0.10,2,   2.160,2,   1.318,2,   2.0538,2,  2028.3,2,  2279.5,2,   7.9662,2,    24.97,2, -999.00,9,  -999.0,9, -999.00,1, -999.00,1,        9.2,2, 20220515,      920,  29.9999, 153.2732,    17.5651,2,     -999.0,9,     -999.0,9,     -999.0,9,     -999.0,9,     0.0428,1,     4.6289,1,     -999.0,9,     -999.0,9,     -999.0,9
33RR20220430,        P02,      38,          2,         31,         31,2,20220515,       0708,    29.9999,   153.2732,       5844,   136.5,2,  16.9109,2,  34.7194,2,  34.7101,2,    217.2,2,   217.3,2,    3.22,2,    3.87,2,    0.02,2,    0.23,2,   2.169,2,   1.341,2,   2.1015,2,  2042.1,2,  2278.3,2,   7.9360,2,    24.99,2, -999.00,9,  -999.0,9, -999.00,1, -999.00,1,        9.3,2, 20220515,      918,  29.9999, 153.2732,    16.9084,2,     -999.0,9,     -999.0,9,     -999.0,9,     -999.0,9,     0.0136,1,     4.6820,1,     -999.0,9,     -999.0,9,     -999.0,9
33RR20220430,        P02,      38,          2,         30,         30,2,20220515,       0708,    29.9999,   153.2732,       5844,   186.8,2,  16.4965,2,  34.6886,2,  34.6820,2,    228.7,2,   229.1,2,    3.32,2,    3.31,2,    0.01,2,    0.21,2,   2.232,2,   1.359,2,   2.1293,2,  -999.0,9,  -999.0,9,-999.0000,9,  -999.00,9, -999.00,9,  -999.0,9, -999.00,1, -999.00,1,        9.1,2, 20220515,      916,  29.9999, 153.2732,    16.4970,2,     -999.0,9,     -999.0,9,     -999.0,9,     -999.0,9,     0.0172,1,     4.6782,1,     -999.0,9,     -999.0,9,     -999.0,9
33RR20220430,        P02,      38,          2,         29,         29,2,20220515,       0708,    29.9999,   153.2732,       5844,   236.8,2,  16.1506,2,  34.6758,2,  34.6692,2,    220.4,2,   220.7,2,    4.40,2,    4.68,2,    0.00,2,    0.29,2,   2.234,2,   1.382,2,   2.1551,2,  2049.0,2,  2277.6,2,   7.9223,2,    24.98,2, -999.00,9,  -999.0,9, -999.00,1, -999.00,1,        9.8,2, 20220515,      914,  29.9998, 153.2732,    16.1491,2,     -999.0,9,     -999.0,9,     -999.0,9,     -999.0,9,     0.0122,1,     4.6848,1,     -999.0,9,     -999.0,9,     -999.0,9
33RR20220430,        P02,      38,          2,         28,         28,2,20220515,       0708,    29.9999,   153.2732,       5844,   288.1,2,  15.7164,2,  34.6505,2,  34.6425,2,    218.7,2,   217.8,2,    5.47,2,    5.64,2,    0.00,2,    0.36,2,   2.282,2,   1.399,2,   2.1127,2,  -999.0,9,  -999.0,9,-999.0000,9,  -999.00,9, -999.00,9,  -999.0,9, -999.00,1, -999.00,1,       10.5,2, 20220515,      912,  29.9998, 153.2732,    15.7178,2,     -999.0,9,     -999.0,9,     -999.0,9,     -999.0,9,     0.0122,1,     4.6878,1,     -999.0,9,     -999.0,9,     -999.0,9
33RR20220430,        P02,      38,          2,         27,         27,2,20220515,       0708,    29.9999,   153.2732,       5844,   338.3,2,  15.5349,2,  34.6600,2,  34.6533,2,    231.0,2,   232.3,2,    4.49,2,    4.46,2,    0.00,2,    0.29,2,   2.306,2,   1.450,2,   2.1905,2,  2046.8,2,  2278.5,2,   7.9235,2,    24.99,2, -999.00,9,  -999.0,9, -999.00,1, -999.00,1,        9.8,2, 20220515,      910,  29.9998, 153.2732,    15.5356,2,     -999.0,9,     -999.0,9,     -999.0,9,     -999.0,9,     0.0122,1,     4.6879,1,     -999.0,9,     -999.0,9,     -999.0,9
33RR20220430,        P02,      38,          2,         26,         26,2,20220515,       0708,    29.9999,   153.2732,       5844,   388.3,2,  14.6043,2,  34.5485,2,  34.5417,2,    198.0,2,   198.3,2,   10.07,2,    9.32,2,    0.00,2,    0.63,2,   2.360,2,   1.449,2,   1.8712,2,  2080.4,2,  2274.8,2,   7.8503,2,    24.99,2, -999.00,9,  -999.0,9, -999.00,1, -999.00,1,       12.8,2, 20220515,      909,  29.9999, 153.2732,    14.6045,2,     -999.0,9,     -999.0,9,     -999.0,9,     -999.0,9,     0.0122,1,     4.6903,1,     -999.0,9,     -999.0,9,     -999.0,9
33RR20220430,        P02,      38,          2,         25,         25,2,20220515,       0708,    29.9999,   153.2732,       5844,   468.9,2,  12.2378,2,  34.3706,2,  34.3653,2,    184.5,2,   184.6,2,   18.77,2,   14.37,2,    0.00,2,    0.97,2,   2.494,2,   1.509,2,   1.7095,2,  2116.5,2,  2274.5,2,   7.7689,2,    25.00,2, -999.00,9,  -999.0,9, -999.00,1, -999.00,1,       17.0,2, 20220515,      906,  29.9998, 153.2732,    12.2365,2,     -999.0,9,     -999.0,9,     -999.0,9,     -999.0,9,     0.0122,1,     4.6970,1,     -999.0,9,     -999.0,9,     -999.0,9
33RR20220430,        P02,      38,          2,         24,         24,2,20220515,       0708,    29.9999,   153.2732,       5844,   570.9,2,   8.8340,2,  34.1230,2,  34.1211,2,    174.3,2,   175.1,2,   35.19,2,   21.04,2,    0.00,2,    1.48,2,   2.579,2,   1.512,2,   1.5040,2,  2163.1,2,  2278.4,2,   7.6579,2,    24.99,2, -999.00,9,  -999.0,9, -999.00,1, -999.00,1,       21.9,2, 20220515,      903,  29.9998, 153.2733,     8.8299,2,     -999.0,9,     -999.0,9,     -999.0,9,     -999.0,9,     0.0122,1,     4.7003,1,     -999.0,9,     -999.0,9,     -999.0,9
33RR20220430,        P02,      38,          2,         23,         23,2,20220515,       0708,    29.9999,   153.2732,       5844,   678.8,2,   5.7489,2,  33.9846,2,  33.9847,2,    130.5,2,   129.8,2,   63.74,2,   30.90,2,    0.00,2,    2.20,2,   2.280,2,   1.300,2,   1.1772,2,  2233.6,2,  2292.1,2,   7.4909,2,    25.01,2, -999.00,9,  -999.0,9, -999.00,1, -999.00,1,       31.2,2, 20220515,      900,  29.9999, 153.2732,     5.7480,2,     -999.0,9,     -999.0,9,     -999.0,9,     -999.0,9,     0.0124,1,     4.7025,1,     -999.0,9,     -999.0,9,     -999.0,9
33RR20220430,        P02,      38,          2,         22,         22,2,20220515,       0708,    29.9999,   153.2732,       5844,   772.5,2,   4.7678,2,  34.1001,2,  34.1003,2,     80.7,2,    80.0,2,   89.05,2,   36.86,2,    0.00,2,    2.62,2,   1.496,2,   0.837,2,   0.6851,2,  2287.1,2,  2315.4,2,   7.3960,2,    24.99,2, -999.00,9,  -999.0,9, -999.00,9, -999.00,9,       39.3,2, 20220515,      858,  29.9998, 153.2732,     4.7673,2,     -999.0,9,     -999.0,9,     -999.0,9,     -999.0,9,     0.0134,1,     4.7030,1,     -999.0,9,     -999.0,9,     -999.0,9
33RR20220430,        P02,      38,          2,         21,         21,2,20220515,       0708,    29.9999,   153.2732,       5844,   874.5,2,   4.2794,2,  34.1875,2,  34.1871,2,     57.3,3,    56.8,2,  103.81,2,   39.42,2,    0.00,2,    2.81,2,   0.976,2,   0.533,2,   0.3754,2,  2316.2,2,  2331.6,2,   7.3612,2,    25.00,2, -999.00,9,  -999.0,9, -999.00,1, -999.00,1,       43.6,2, 20220515,      855,  29.9999, 153.2732,     4.2790,2,     -999.0,9,     -999.0,9,     -999.0,9,     -999.0,9,     0.0134,1,     4.7020,1,     -999.0,9,     -999.0,9,     -999.0,9
33RR20220430,        P02,      38,          2,         20,         20,2,20220515,       0708,    29.9999,   153.2732,       5844,   974.4,2,   3.7711,2,  34.2708,2,  34.2719,2,     39.8,2,    39.9,2,  118.07,2,   41.49,2,    0.00,2,    2.94,2,   0.478,2,   0.256,2,   0.2035,2,  2340.8,2,  2349.9,2,   7.3397,2,    24.99,2, -999.00,9,  -999.0,9, -999.00,9, -999.00,9,       47.7,2, 20220515,      852,  29.9998, 153.2732,     3.7709,2,     -999.0,9,     -999.0,9,     -999.0,9,     -999.0,9,     0.0134,1,     4.7043,1,     -999.0,9,     -999.0,9,     -999.0,9
33RR20220430,        P02,      38,          2,         19,         19,2,20220515,       0708,    29.9999,   153.2732,       5844,  1076.0,2,   3.3928,2,  34.3389,2,  34.3382,2,     34.0,2,    34.2,2,  129.31,2,   42.29,2,    0.00,2,    3.00,2,   0.268,2,   0.145,2,   0.0000,2,  2355.9,6,  2364.2,2,   7.3368,2,    24.99,2, -999.00,9,  -999.0,9, -999.00,1, -999.00,1,       48.9,2, 20220515,      850,  29.9999, 153.2732,     3.3923,2,     -999.0,9,     -999.0,9,     -999.0,9,     -999.0,9,     0.0134,1,     4.7044,1,     -999.0,9,     -999.0,9,     -999.0,9
33RR20220430,        P02,      38,          2,         18,         18,2,20220515,       0708,    29.9999,   153.2732,       5844,  1176.6,2,   3.1145,2,  34.3925,2,  34.3925,2,     32.5,2,    32.6,2,  137.32,2,   42.79,2,    0.00,2,    3.03,2,   0.146,2,   0.079,2,   0.0000,2,  -999.0,9,  -999.0,9,-999.0000,9,  -999.00,9, -999.00,9,  -999.0,9, -999.00,9, -999.00,9,       48.7,2, 20220515,      847,  29.9998, 153.2733,     3.1143,2,     -999.0,9,     -999.0,9,     -999.0,9,     -999.0,9,     0.0134,1,     4.7050,1,     -999.0,9,     -999.0,9,     -999.0,9
33RR20220430,        P02,      38,          2,         17,         17,2,20220515,       0708,    29.9999,   153.2732,       5844,  1277.8,2,   2.8876,2,  34.4316,2,  34.4336,2,     32.9,3,    33.4,2,  143.66,2,   43.02,2,    0.00,2,    3.05,2,   0.090,2,   0.050,2,   0.0000,2,  2373.1,2,  2382.5,2,   7.3409,2,    24.99,2, -999.00,9,  -999.0,9, -999.00,1, -999.00,1,       48.5,2, 20220515,      844,  29.9999, 153.2732,     2.8867,2,     -999.0,9,     -999.0,9,     -999.0,9,     -999.0,9,     0.0134,1,     4.7054,1,     -999.0,9,     -999.0,9,     -999.0,9
33RR20220430,        P02,      38,          2,         16,         16,2,20220515,       0708,    29.9999,   153.2732,       5844,  1380.1,2,   2.6788,2,  34.4677,2,  34.4659,2,     35.4,2,    35.4,2,  149.13,2,   43.07,2,    0.00,2,    3.05,2,   0.058,2,   0.033,2,   0.0000,2,  2375.9,2,  2391.0,2,   7.3482,2,    25.00,2, -999.00,9,  -999.0,9, -999.00,9, -999.00,9,       46.7,2, 20220515,      841,  29.9998, 153.2733,     2.6787,2,     -999.0,9,     -999.0,9,     -999.0,9,     -999.0,9,     0.0134,1,     4.7055,1,     -999.0,9,     -999.0,9,     -999.0,9
33RR20220430,        P02,      38,          2,         15,         15,2,20220515,       0708,    29.9999,   153.2732,       5844,  1553.7,2,   2.4273,2,  34.5122,2,  34.5131,2,     43.2,2,    43.2,2,  156.07,2,   42.79,2,    0.00,2,    3.02,2,   0.028,2,   0.017,2,   0.0000,2,  2380.0,2,  2399.0,2,   7.3661,2,    25.01,2, -999.00,9,  -999.0,9, -999.00,1, -999.00,1,       43.5,2, 20220515,      837,  29.9998, 153.2733,     2.4266,2,     -999.0,9,     -999.0,9,     -999.0,9,     -999.0,9,     0.0134,1,     4.7057,1,     -999.0,9,     -999.0,9,     -999.0,9
33RR20220430,        P02,      38,          2,         14,         14,2,20220515,       0708,    29.9999,   153.2732,       5844,  1756.4,2,   2.1745,2,  34.5584,2,  34.5594,2,     58.4,2,    58.8,2,  160.07,2,   41.96,2,    0.00,2,    2.96,2,   0.013,2,   0.000,2,   0.0000,2,  2380.9,2,  2406.3,2,   7.3989,2,    24.99,2, -999.00,9,  -999.0,9, -999.00,9, -999.00,9,       38.9,2, 20220515,      833,  29.9998, 153.2732,     2.1746,2,     -999.0,9,     -999.0,9,     -999.0,9,     -999.0,9,     0.0134,1,     4.7067,1,     -999.0,9,     -999.0,9,     -999.0,9
33RR20220430,        P02,      38,          2,         13,         13,2,20220515,       0708,    29.9999,   153.2732,       5844,  1957.3,2,   1.9861,2,  34.5916,2,  34.5922,2,     76.0,2,    76.0,2,  160.46,2,   40.87,2,    0.00,2,    2.85,2,   0.006,2,   0.000,2,   0.0000,2,  2372.8,2,  2409.1,2,   7.4323,2,    24.99,2, -999.00,9,  -999.0,9, -999.00,1, -999.00,1,       34.6,2, 20220515,      828,  29.9997, 153.2733,     1.9853,2,     -999.0,9,     -999.0,9,     -999.0,9,     -999.0,9,     0.0134,1,     4.7079,1,     -999.0,9,     -999.0,9,     -999.0,9
33RR20220430,        P02,      38,          2,         12,         12,2,20220515,       0708,    29.9999,   153.2732,       5844,  2192.5,2,   1.8324,2,  34.6189,2,  34.6193,2,     94.8,2,    94.9,2,  158.50,2,   39.70,2,    0.00,2,    2.78,2,   0.005,2,   0.000,2,   0.0000,2,  2362.7,2,  2412.4,2,   7.4705,2,    24.98,2, -999.00,9,  -999.0,9, -999.00,9, -999.00,9,       31.3,2, 20220515,      824,  29.9998, 153.2732,     1.8329,2,     -999.0,9,     -999.0,9,     -999.0,9,     -999.0,9,     0.0131,1,     4.7084,1,     -999.0,9,     -999.0,9,     -999.0,9
33RR20220430,        P02,      38,          2,         11,         11,2,20220515,       0708,    29.9999,   153.2732,       5844,  2446.1,2,   1.7063,2,  34.6387,2,  34.6394,2,    109.6,2,   109.5,2,  157.13,2,   38.71,2,    0.00,2,    2.70,2,   0.004,2,   0.000,2,   0.0000,2,  2353.5,2,  2414.8,2,   7.4988,2,    25.00,2, -999.00,9,  -999.0,9, -999.00,1, -999.00,1,       29.0,2, 20220515,      818,  29.9999, 153.2732,     1.7063,2,     -999.0,9,     -999.0,9,     -999.0,9,     -999.0,9,     0.0134,1,     4.7092,1,     -999.0,9,     -999.0,9,     -999.0,9
33RR20220430,        P02,      38,          2,         10,         10,2,20220515,       0708,    29.9999,   153.2732,       5844,  2700.3,2,   1.6303,2,  34.6525,2,  34.6527,2,    122.8,2,   122.5,2,  153.51,2,   37.85,2,    0.00,2,    2.62,2,-999.000,9,-999.000,9,-999.0000,9,  2344.7,2,  2415.4,2,   7.5226,2,    25.00,2, -999.00,9,  -999.0,9, -999.00,9, -999.00,9,     -999.0,9, 20220515,      813,  30.0000, 153.2734,     1.6304,2,     -999.0,9,     -999.0,9,     -999.0,9,     -999.0,9,     0.0122,1,     4.7102,1,     -999.0,9,     -999.0,9,     -999.0,9
33RR20220430,        P02,      38,          2,          9,          9,2,20220515,       0708,    29.9999,   153.2732,       5844,  2957.6,2,   1.5753,2,  34.6605,2,  34.6600,2,    128.5,2,   128.4,2,  153.51,2,   37.42,2,    0.00,2,    2.59,2,   0.004,2,   0.000,2,   0.0000,2,  2343.8,2,  2416.7,2,   7.5332,2,    24.97,2, -999.00,9,  -999.0,9, -999.00,1, -999.00,1,       25.9,2, 20220515,      808,  30.0001, 153.2733,     1.5751,2,     -999.0,9,     -999.0,9,     -999.0,9,     -999.0,9,     0.0121,1,     4.7093,1,     -999.0,9,     -999.0,9,     -999.0,9
33RR20220430,        P02,      38,          2,          8,          8,2,20220515,       0708,    29.9999,   153.2732,       5844,  3245.2,2,   1.5253,2,  34.6686,2,  34.6686,2,    135.8,2,   136.3,2,  152.73,2,   37.04,2,    0.00,2,    2.55,2,-999.000,9,-999.000,9,-999.0000,9,  2334.9,6,  2415.8,2,   7.5459,2,    24.98,2, -999.00,9,  -999.0,9, -999.00,9, -999.00,9,     -999.0,9, 20220515,      801,  30.0001, 153.2734,     1.5256,2,     -999.0,9,     -999.0,9,     -999.0,9,     -999.0,9,     0.0128,1,     4.7093,1,     -999.0,9,     -999.0,9,     -999.0,9
33RR20220430,        P02,      38,          2,          7,          7,2,20220515,       0708,    29.9999,   153.2732,       5844,  3623.3,2,   1.4903,2,  34.6760,2,  34.6757,2,    143.7,2,   144.3,2,  150.87,2,   36.55,2,    0.00,2,    2.51,2,   0.004,2,   0.000,2,   0.0000,2,  2332.1,2,  2415.5,2,   7.5592,2,    24.99,2, -999.00,9,  -999.0,9, -999.00,1, -999.00,1,       24.1,2, 20220515,      754,  29.9998, 153.2733,     1.4900,2,     -999.0,9,     -999.0,9,     -999.0,9,     -999.0,9,     0.0122,1,     4.7093,1,     -999.0,9,     -999.0,9,     -999.0,9
33RR20220430,        P02,      38,          2,          6,          6,2,20220515,       0708,    29.9999,   153.2732,       5844,  4031.2,2,   1.4689,2,  34.6822,2,  34.6824,2,    151.1,2,   151.1,2,  148.91,2,   36.05,2,    0.00,2,    2.46,2,-999.000,9,-999.000,9,-999.0000,9,  -999.0,9,  -999.0,9,-999.0000,9,  -999.00,9, -999.00,9,  -999.0,9, -999.00,1, -999.00,1,     -999.0,9, 20220515,      746,  29.9996, 153.2732,     1.4688,2,     -999.0,9,     -999.0,9,     -999.0,9,     -999.0,9,     0.0122,1,     4.7092,1,     -999.0,9,     -999.0,9,     -999.0,9
33RR20220430,        P02,      38,          2,          5,          5,2,20220515,       0708,    29.9999,   153.2732,       5844,  4580.4,2,   1.4781,2,  34.6873,2,  34.6875,2,    158.2,2,   158.4,2,  146.57,2,   35.49,2,    0.00,2,    2.42,2,   0.006,2,   0.000,2,   0.0000,2,  2319.7,2,  2412.7,2,   7.5815,2,    24.99,2, -999.00,9,  -999.0,9, -999.00,1, -999.00,1,       23.3,2, 20220515,      736,  29.9996, 153.2732,     1.4779,2,     -999.0,9,     -999.0,9,     -999.0,9,     -999.0,9,     0.0122,1,     4.7082,1,     -999.0,9,     -999.0,9,     -999.0,9
33RR20220430,        P02,      38,          2,          4,          4,2,20220515,       0708,    29.9999,   153.2732,       5844,  4854.1,2,   1.4901,2,  34.6892,2,  34.6905,2,    161.7,2,   161.7,2,  143.93,2,   35.23,2,    0.00,2,    2.40,2,-999.000,9,-999.000,9,-999.0000,9,  2314.3,2,  2409.1,2,   7.5858,2,    24.98,2, -999.00,9,  -999.0,9, -999.00,9, -999.00,9,     -999.0,9, 20220515,      730,  29.9996, 153.2732,     1.4901,2,     -999.0,9,     -999.0,9,     -999.0,9,     -999.0,9,     0.0122,1,     4.7086,1,     -999.0,9,     -999.0,9,     -999.0,9