BOTTLE,20230801CCHSIOCBG
EXPOCODE,SECT_ID,STNNBR,CASTNO,SAMPNO,BTLNBR,BTLNBR_FLAG_W,DATE,TIME,LATITUDE,LONGITUDE,DEPTH,CTDPRS,CTDPRS_FLAG_W,CTDTMP,CTDTMP_FLAG_W,CTDSAL,CTDSAL_FLAG_W,SALNTY,SALNTY_FLAG_W,CTDOXY,CTDOXY_FLAG_W,OXYGEN,OXYGEN_FLAG_W,SILCAT,SILCAT_FLAG_W,NITRAT,NITRAT_FLAG_W,NITRIT,NITRIT_FLAG_W,PHSPHT,PHSPHT_FLAG_W,CFC-11,CFC-11_FLAG_W,CFC-12,CFC-12_FLAG_W,SF6,SF6_FLAG_W,TCARBN,TCARBN_FLAG_W,ALKALI,ALKALI_FLAG_W,PH_TOT,PH_TOT_FLAG_W,PH_TMP,PH_TMP_FLAG_W,DELC13,DELC13_FLAG_W,DELC14,DELC14_FLAG_W,DOC,DOC_FLAG_W,TDN,TDN_FLAG_W,N2O,N2O_FLAG_W,BTL_DATE,BTL_TIME,BTL_LAT,BTL_LON,REFTMP,REFTMP_FLAG_W,POC,POC_FLAG_W,PON,PON_FLAG_W,POP,POP_FLAG_W,PCOD,PCOD_FLAG_W,CTDFLUOR,CTDFLUOR_FLAG_W,CTDXMISS,CTDXMISS_FLAG_W,HPLC,HPLC_FLAG_W,DNA,DNA_FLAG_W,FCM,FCM_FLAG_W
,,,,,,,,,,,METERS,DBAR,,ITS-90,,PSS-78,,PSS-78,,UMOL/KG,,UMOL/KG,,UMOL/KG,,UMOL/KG,,UMOL/KG,,UMOL/KG,,PMOL/KG,,PMOL/KG,,FMOL/KG,,UMOL/KG,,UMOL/KG,,,,DEG C,,/MILLE,,/MILLE,,UMOL/KG,,UMOL/KG,,NMOL/KG,,,,,,ITS-90,,UG/L,,UG/L,,UG/L,,UG/L,,VOLTS,,VOLTS,,,,,,,
33RR20220430,        P02,      73,          1,         25,         25,2,20220526,       0808,    29.9999,   173.7183,       2220,     3.5,2,  22.5983,2,  35.0315,2,  35.0142,2,    223.4,2,   224.2,2,    1.46,2,    0.01,2,    0.00,2,    0.00,2,   1.825,2,   1.186,2,   2.3815,2,  2021.3,6,  2298.7,2,   8.0030,2,    25.03,2, -999.00,9,  -999.0,9, -999.00,9, -999.00,9,        7.5,2, 20220526,      911,  29.9999, 173.7183,    22.6088,2,     -999.0,9,     -999.0,9,     -999.0,9,     -999.0,9,     0.0137,1,     4.6321,1,     -999.0,9,     -999.0,9,     -999.0,9
33RR20220430,        P02,      73,          1,         24,         24,2,20220526,       0808,    29.9999,   173.7183,       2220,    39.8,2,  18.8207,2,  34.8263,2,  34.8294,2,    243.6,2,   242.9,2,    1.86,2,    0.00,2,    0.00,2,    0.00,2,   2.028,2,   1.302,2,   2.2682,2,  2019.4,2,  2286.8,2,   7.9917,2,    25.04,2, -999.00,9,  -999.0,9, -999.00,9, -999.00,9,        8.3,2, 20220526,      909,  29.9999, 173.7183,    18.8061,2,     -999.0,9,     -999.0,9,     -999.0,9,     -999.0,9,     0.0171,1,     4.6243,1,     -999.0,9,     -999.0,9,     -999.0,9
33RR20220430,        P02,      73,          1,         23,         23,2,20220526,       0808,    29.9999,   173.7183,       2220,    64.3,2,  17.8158,2,  34.7994,2,  34.7901,2,    218.5,2,   218.5,2,    2.34,2,    1.79,2,    0.03,2,    0.13,2,-999.000,9,-999.000,9,-999.0000,9,  2035.4,2,  2286.5,2,   7.9514,2,    25.01,2, -999.00,9,  -999.0,9, -999.00,9, -999.00,9,     -999.0,9, 20220526,      907,  29.9999, 173.7183,    17.8185,2,     -999.0,9,     -999.0,9,     -999.0,9,     -999.0,9,     0.0515,1,     4.6100,1,     -999.0,9,     -999.0,9,     -999.0,9
33RR20220430,        P02,      73,          1,         22,         22,2,20220526,       0808,    29.9999,   173.7183,       2220,    89.3,2,  17.1871,2,  34.7283,2,  34.7168,2,    227.0,2,   226.8,2,    2.64,2,    2.07,2,    0.07,2,    0.15,2,   2.098,2,   1.351,2,   2.2131,2,  2036.2,2,  2279.4,2,   7.9477,2,    25.03,2, -999.00,9,  -999.0,9, -999.00,9, -999.00,9,        9.2,2, 20220526,      905,  29.9999, 173.7183,    17.1876,2,     -999.0,9,     -999.0,9,     -999.0,9,     -999.0,9,     0.0211,1,     4.6635,1,     -999.0,9,     -999.0,9,     -999.0,9
33RR20220430,        P02,      73,          1,         21,         21,2,20220526,       0808,    29.9999,   173.7183,       2220,   118.1,2,  16.5891,2,  34.6705,2,  34.6570,2,    223.7,2,   224.0,2,    3.42,2,    3.40,2,    0.02,2,    0.23,2,-999.000,9,-999.000,9,-999.0000,9,  2041.1,2,  2274.3,2,   7.9330,2,    25.00,2, -999.00,9,  -999.0,9, -999.00,9, -999.00,9,     -999.0,9, 20220526,      903,  30.0000, 173.7183,    16.5832,2,     -999.0,9,     -999.0,9,     -999.0,9,     -999.0,9,     0.0134,1,     4.6829,1,     -999.0,9,     -999.0,9,     -999.0,9
33RR20220430,        P02,      73,          1,         20,         20,2,20220526,       0808,    29.9999,   173.7183,       2220,   169.0,2,  16.0847,2,  34.6423,2,  34.6321,2,    227.8,2,   227.7,2,    4.00,2,    3.88,2,    0.00,2,    0.25,2,   2.198,2,   1.402,2,   2.3000,2,  2045.2,2,  2274.7,2,   7.9256,2,    25.02,2, -999.00,9,  -999.0,9, -999.00,9, -999.00,9,        9.7,2, 20220526,      901,  29.9999, 173.7183,    16.0876,2,     -999.0,9,     -999.0,9,     -999.0,9,     -999.0,9,     0.0122,1,     4.6871,1,     -999.0,9,     -999.0,9,     -999.0,9
33RR20220430,        P02,      73,          1,         19,         19,2,20220526,       0808,    29.9999,   173.7183,       2220,   218.3,2,  15.7005,2,  34.6187,2,  34.6077,2,    225.6,2,   225.5,2,    4.98,2,    4.72,2,    0.00,2,    0.32,2,   2.213,2,   1.414,2,   2.2285,2,  2050.3,2,  2278.2,2,   7.9152,2,    25.00,2, -999.00,9,  -999.0,9, -999.00,9, -999.00,9,       10.4,2, 20220526,      859,  29.9999, 173.7183,    15.7020,2,     -999.0,9,     -999.0,9,     -999.0,9,     -999.0,9,     0.0122,1,     4.6881,1,     -999.0,9,     -999.0,9,     -999.0,9
33RR20220430,        P02,      73,          1,         18,         18,2,20220526,       0808,    29.9999,   173.7183,       2220,   268.5,2,  15.0586,2,  34.5759,2,  34.5667,2,    208.7,2,   209.2,2,    7.62,2,    7.30,2,    0.00,2,    0.52,2,   2.257,2,   1.463,2,   2.1142,2,  2067.5,2,  2273.3,2,   7.8757,2,    25.01,2, -999.00,9,  -999.0,9, -999.00,9, -999.00,9,       12.5,2, 20220526,      857,  29.9999, 173.7183,    15.0520,2,     -999.0,9,     -999.0,9,     -999.0,9,     -999.0,9,     0.0122,1,     4.6897,1,     -999.0,9,     -999.0,9,     -999.0,9
33RR20220430,        P02,      73,          1,         17,         17,2,20220526,       0808,    29.9999,   173.7183,       2220,   318.8,2,  14.3351,2,  34.5186,2,  34.5099,2,    205.5,2,   205.0,2,    9.67,2,    8.84,2,    0.00,2,    0.62,2,   2.384,2,   1.501,2,   2.0075,2,  2080.9,2,  2273.8,2,   7.8489,2,    25.01,2, -999.00,9,  -999.0,9, -999.00,9, -999.00,9,       12.8,2, 20220526,      856,  29.9999, 173.7183,    14.3186,2,     -999.0,9,     -999.0,9,     -999.0,9,     -999.0,9,     0.0122,1,     4.6913,1,     -999.0,9,     -999.0,9,     -999.0,9
33RR20220430,        P02,      73,          1,         16,         16,2,20220526,       0808,    29.9999,   173.7183,       2220,   367.3,2,  13.0614,2,  34.4208,2,  34.4133,2,    203.0,2,   202.7,2,   13.38,2,   11.22,2,    0.00,2,    0.80,2,   2.432,2,   1.541,2,   2.0026,2,  2094.0,2,  2270.8,2,   7.8084,2,    24.98,2, -999.00,9,  -999.0,9, -999.00,9, -999.00,9,       14.3,2, 20220526,      854,  29.9999, 173.7183,    13.0678,2,     -999.0,9,     -999.0,9,     -999.0,9,     -999.0,9,     0.0122,1,     4.6934,1,     -999.0,9,     -999.0,9,     -999.0,9
33RR20220430,        P02,      73,          1,         15,         15,2,20220526,       0808,    29.9999,   173.7183,       2220,   441.2,2,  11.0657,2,  34.2599,2,  34.2530,2,    203.9,2,   204.0,2,   19.25,2,   14.53,2,    0.00,2,    1.04,2,   2.621,2,   1.629,2,   2.0708,2,  2114.4,2,  2268.9,2,   7.7576,2,    25.00,2, -999.00,9,  -999.0,9, -999.00,9, -999.00,9,       16.3,2, 20220526,      852,  29.9999, 173.7183,    11.0653,2,     -999.0,9,     -999.0,9,     -999.0,9,     -999.0,9,     0.0122,1,     4.6959,1,     -999.0,9,     -999.0,9,     -999.0,9
33RR20220430,        P02,      73,          1,         14,         14,2,20220526,       0808,    29.9999,   173.7183,       2220,   542.7,2,   8.4891,2,  34.0498,2,  34.0478,2,    197.5,2,   198.6,2,   30.88,2,   19.66,2,    0.00,2,    1.41,2,   2.780,2,   1.709,2,   1.9798,2,  2152.4,2,  2270.3,2,   7.6728,2,    25.01,2, -999.00,9,  -999.0,9, -999.00,9, -999.00,9,       19.5,2, 20220526,      849,  29.9999, 173.7183,     8.4848,2,     -999.0,9,     -999.0,9,     -999.0,9,     -999.0,9,     0.0122,1,     4.6971,1,     -999.0,9,     -999.0,9,     -999.0,9
33RR20220430,        P02,      73,          1,         13,         13,2,20220526,       0808,    29.9999,   173.7183,       2220,   643.1,2,   6.1802,2,  33.9987,2,  33.9937,2,    132.0,2,   131.7,2,   59.22,2,   30.16,2,    0.00,2,    2.14,2,   2.200,2,   1.352,2,   1.0347,2,  2225.1,2,  2287.9,2,   7.5065,2,    25.00,2, -999.00,9,  -999.0,9, -999.00,9, -999.00,9,       31.0,2, 20220526,      847,  29.9999, 173.7183,     6.1809,2,     -999.0,9,     -999.0,9,     -999.0,9,     -999.0,9,     0.0131,1,     4.7005,1,     -999.0,9,     -999.0,9,     -999.0,9
33RR20220430,        P02,      73,          1,         12,         12,2,20220526,       0808,    29.9999,   173.7183,       2220,   743.7,2,   5.0772,2,  34.0435,2,  34.0421,2,     92.9,2,    92.0,2,   79.84,2,   35.66,2,    0.00,2,    2.52,2,   1.625,2,   1.022,2,   0.7646,2,  2271.4,2,  2306.4,2,   7.4140,2,    25.00,2, -999.00,9,  -999.0,9, -999.00,9, -999.00,9,       38.8,2, 20220526,      844,  29.9999, 173.7183,     5.0743,2,     -999.0,9,     -999.0,9,     -999.0,9,     -999.0,9,     0.0134,1,     4.6984,1,     -999.0,9,     -999.0,9,     -999.0,9
33RR20220430,        P02,      73,          1,         11,         11,2,20220526,       0808,    29.9999,   173.7183,       2220,   844.4,2,   4.3520,2,  34.1480,2,  34.1491,2,     58.9,2,    58.7,2,  100.16,2,   39.65,2,    0.00,2,    2.79,2,   0.979,2,   0.616,2,   0.3955,2,  2315.1,2,  2328.7,2,-999.0000,1,  -999.00,1, -999.00,9,  -999.0,9, -999.00,9, -999.00,9,       46.3,2, 20220526,      841,  29.9999, 173.7183,     4.3520,2,     -999.0,9,     -999.0,9,     -999.0,9,     -999.0,9,     0.0134,1,     4.6994,1,     -999.0,9,     -999.0,9,     -999.0,9
33RR20220430,        P02,      73,          1,         10,         10,2,20220526,       0808,    29.9999,   173.7183,       2220,   944.6,2,   3.8518,2,  34.2414,2,  34.2424,2,     39.5,2,    39.6,2,  114.71,2,   41.73,2,    0.00,2,    2.94,2,   0.503,2,   0.315,2,   0.2073,2,  2337.1,2,  2346.6,2,   7.3329,2,    24.99,2, -999.00,9,  -999.0,9, -999.00,9, -999.00,9,       51.5,2, 20220526,      839,  29.9999, 173.7183,     3.8514,2,     -999.0,9,     -999.0,9,     -999.0,9,     -999.0,9,     0.0134,1,     4.7000,1,     -999.0,9,     -999.0,9,     -999.0,9
33RR20220430,        P02,      73,          1,          9,          9,2,20220526,       0808,    29.9999,   173.7183,       2220,  1046.0,2,   3.5045,2,  34.3078,2,  34.3101,2,     31.7,3,    32.3,2,  126.33,2,   42.68,2,    0.00,2,    3.00,2,   0.297,2,   0.180,2,   0.0000,2,  2355.3,2,  2359.5,2,   7.3595,2,    24.99,2, -999.00,9,  -999.0,9, -999.00,9, -999.00,9,       53.7,2, 20220526,      836,  29.9999, 173.7183,     3.5009,2,     -999.0,9,     -999.0,9,     -999.0,9,     -999.0,9,     0.0134,1,     4.7008,1,     -999.0,9,     -999.0,9,     -999.0,9
33RR20220430,        P02,      73,          1,          8,          8,2,20220526,       0808,    29.9999,   173.7183,       2220,  1147.8,2,   3.2621,2,  34.3556,2,  34.3578,2,     29.2,3,    29.9,2,  133.75,2,   43.10,2,    0.00,2,    3.04,2,   0.186,2,   0.110,2,   0.0000,2,  2363.1,6,  2370.6,2,   7.3269,2,    24.99,2, -999.00,9,  -999.0,9, -999.00,9, -999.00,9,       54.0,2, 20220526,      834,  30.0000, 173.7183,     3.2624,2,     -999.0,9,     -999.0,9,     -999.0,9,     -999.0,9,     0.0134,1,     4.7004,1,     -999.0,9,     -999.0,9,     -999.0,9
33RR20220430,        P02,      73,          1,          7,          7,2,20220526,       0808,    29.9999,   173.7183,       2220,  1239.4,2,   3.0212,2,  34.4015,2,  34.4004,2,     28.7,2,    28.8,2,  140.78,2,   43.29,2,    0.00,2,    3.06,2,   0.114,2,   0.066,2,   0.0000,2,  2372.5,2,  2378.1,2,   7.3304,2,    24.98,2, -999.00,9,  -999.0,9, -999.00,9, -999.00,9,       53.6,2, 20220526,      831,  29.9999, 173.7183,     3.0202,2,     -999.0,9,     -999.0,9,     -999.0,9,     -999.0,9,     0.0134,1,     4.7019,1,     -999.0,9,     -999.0,9,     -999.0,9
33RR20220430,        P02,      73,          1,          6,          6,2,20220526,       0808,    29.9999,   173.7183,       2220,  1350.4,2,   2.7879,2,  34.4449,2,  34.4432,2,     30.4,2,    30.7,2,  147.81,2,   43.43,2,    0.00,2,    3.06,2,-999.000,9,-999.000,9,-999.0000,9,  2378.0,2,  2386.9,2,   7.3385,2,    25.00,2, -999.00,9,  -999.0,9, -999.00,9, -999.00,9,     -999.0,9, 20220526,      828,  29.9999, 173.7183,     2.7877,2,     -999.0,9,     -999.0,9,     -999.0,9,     -999.0,9,     0.0134,1,     4.7020,1,     -999.0,9,     -999.0,9,     -999.0,9
33RR20220430,        P02,      73,          1,          5,          5,2,20220526,       0808,    29.9999,   173.7183,       2220,  1482.3,2,   2.5584,2,  34.4914,2,  34.4907,2,     36.0,2,    35.8,2,  153.47,2,   43.27,2,    0.00,2,    3.04,2,   0.031,2,   0.015,2,   0.0000,2,  2382.4,2,  2395.4,2,   7.3511,2,    24.99,2, -999.00,9,  -999.0,9, -999.00,9, -999.00,9,       48.2,2, 20220526,      825,  30.0000, 173.7183,     2.5583,2,     -999.0,9,     -999.0,9,     -999.0,9,     -999.0,9,     0.0134,1,     4.7032,1,     -999.0,9,     -999.0,9,     -999.0,9
33RR20220430,        P02,      73,          1,          4,          4,2,20220526,       0808,    29.9999,   173.7183,       2220,  1684.8,2,   2.3023,2,  34.5450,2,  34.5439,2,     50.5,2,    50.4,2,  159.03,2,   42.61,2,    0.00,2,    2.97,2,-999.000,9,-999.000,9,-999.0000,9,  2380.5,2,  2404.5,2,   7.3840,2,    25.01,2, -999.00,9,  -999.0,9, -999.00,9, -999.00,9,     -999.0,9, 20220526,      820,  29.9999, 173.7183,     2.3017,2,     -999.0,9,     -999.0,9,     -999.0,9,     -999.0,9,     0.0134,1,     4.7056,1,     -999.0,9,     -999.0,9,     -999.0,9
33RR20220430,        P02,      73,          1,          3,          3,2,20220526,       0808,    29.9999,   173.7183,       2220,  1884.7,2,   2.0488,2,  34.5856,2,  34.5849,2,     68.7,2,    68.5,2,  162.06,2,   41.44,2,    0.00,2,    2.87,2,   0.007,2,   0.000,2,   0.0000,2,  2373.9,2,  2411.7,2,   7.4217,2,    25.00,2, -999.00,9,  -999.0,9, -999.00,9, -999.00,9,       37.3,2, 20220526,      816,  30.0000, 173.7183,     2.0489,2,     -999.0,9,     -999.0,9,     -999.0,9,     -999.0,9,     0.0134,1,     4.7069,1,     -999.0,9,     -999.0,9,     -999.0,9
33RR20220430,        P02,      73,          1,          2,          2,2,20220526,       0808,    29.9999,   173.7183,       2220,  2111.2,2,   1.8228,2,  34.6176,2,  34.6178,2,     88.8,2,    88.8,2,  161.96,2,   40.05,2,    0.00,2,    2.77,2,-999.000,9,-999.000,9,-999.0000,9,  2365.6,2,  2415.2,2,   7.4598,2,    25.01,2, -999.00,9,  -999.0,9, -999.00,9, -999.00,9,     -999.0,9, 20220526,      811,  29.9999, 173.7183,     1.8230,2,     -999.0,9,     -999.0,9,     -999.0,9,     -999.0,9,     0.0131,1,     4.7083,1,     -999.0,9,     -999.0,9,     -999.0,9
33RR20220430,        P02,      73,          1,          1,          1,2,20220526,       0808,    29.9999,   173.7183,       2220,  2237.7,2,   1.7217,2,  34.6312,2,  34.6311,2,     98.7,2,    98.8,2,  162.35,2,   39.41,2,    0.00,2,    2.74,2,   0.007,2,   0.000,2,   0.0000,2,  2358.1,6,  2416.6,2,   7.4785,2,    25.00,2, -999.00,9,  -999.0,9, -999.00,9, -999.00,9,       30.5,2, 20220526,      808,  29.9999, 173.7183,     1.7211,2,     -999.0,9,     -999.0,9,     -999.0,9,     -999.0,9,     0.0134,1,     4.7083,1,     -999.0,9,     -999.0,9,     -999.0,9