BOTTLE,20230801CCHSIOCBG
EXPOCODE,SECT_ID,STNNBR,CASTNO,SAMPNO,BTLNBR,BTLNBR_FLAG_W,DATE,TIME,LATITUDE,LONGITUDE,DEPTH,CTDPRS,CTDPRS_FLAG_W,CTDTMP,CTDTMP_FLAG_W,CTDSAL,CTDSAL_FLAG_W,SALNTY,SALNTY_FLAG_W,CTDOXY,CTDOXY_FLAG_W,OXYGEN,OXYGEN_FLAG_W,SILCAT,SILCAT_FLAG_W,NITRAT,NITRAT_FLAG_W,NITRIT,NITRIT_FLAG_W,PHSPHT,PHSPHT_FLAG_W,CFC-11,CFC-11_FLAG_W,CFC-12,CFC-12_FLAG_W,SF6,SF6_FLAG_W,TCARBN,TCARBN_FLAG_W,ALKALI,ALKALI_FLAG_W,PH_TOT,PH_TOT_FLAG_W,PH_TMP,PH_TMP_FLAG_W,DELC13,DELC13_FLAG_W,DELC14,DELC14_FLAG_W,DOC,DOC_FLAG_W,TDN,TDN_FLAG_W,N2O,N2O_FLAG_W,BTL_DATE,BTL_TIME,BTL_LAT,BTL_LON,REFTMP,REFTMP_FLAG_W,POC,POC_FLAG_W,PON,PON_FLAG_W,POP,POP_FLAG_W,PCOD,PCOD_FLAG_W,CTDFLUOR,CTDFLUOR_FLAG_W,CTDXMISS,CTDXMISS_FLAG_W,HPLC,HPLC_FLAG_W,DNA,DNA_FLAG_W,FCM,FCM_FLAG_W
,,,,,,,,,,,METERS,DBAR,,ITS-90,,PSS-78,,PSS-78,,UMOL/KG,,UMOL/KG,,UMOL/KG,,UMOL/KG,,UMOL/KG,,UMOL/KG,,PMOL/KG,,PMOL/KG,,FMOL/KG,,UMOL/KG,,UMOL/KG,,,,DEG C,,/MILLE,,/MILLE,,UMOL/KG,,UMOL/KG,,NMOL/KG,,,,,,ITS-90,,UG/L,,UG/L,,UG/L,,UG/L,,VOLTS,,VOLTS,,,,,,,
33RR20220430,        P02,      45,          1,          3,          3,2,20220517,       1502,    30.0001,   157.9847,       5714,  5198.5,2,   1.4987,2,  34.6918,2,  34.6924,2,    167.7,2,   167.7,2,  139.49,2,   34.79,2,    0.00,2,    2.38,2,   0.006,2,   0.000,2,   0.0000,2,  2306.5,2,  2407.8,2,   7.5928,2,    25.01,2, -999.00,9,  -999.0,9, -999.00,9, -999.00,9,       21.7,2, 20220517,     1515,  30.0001, 157.9847,     1.4988,2,     -999.0,9,     -999.0,9,     -999.0,9,     -999.0,9,     0.0121,1,     4.7083,1,     -999.0,9,     -999.0,9,     -999.0,9
33RR20220430,        P02,      45,          1,          2,          2,2,20220517,       1502,    30.0001,   157.9847,       5714,  5507.5,2,   1.5214,2,  34.6932,2,  34.6940,2,    170.6,2,   170.5,2,  137.54,2,   34.63,2,    0.00,2,    2.36,2,-999.000,9,-999.000,9,-999.0000,9,  2305.0,6,  2404.1,2,   7.5960,2,    25.02,2, -999.00,9,  -999.0,9, -999.00,9, -999.00,9,     -999.0,9, 20220517,     1509,  30.0002, 157.9847,     1.5217,2,     -999.0,9,     -999.0,9,     -999.0,9,     -999.0,9,     0.0122,1,     4.7081,1,     -999.0,9,     -999.0,9,     -999.0,9
33RR20220430,        P02,      45,          1,          1,          1,2,20220517,       1502,    30.0001,   157.9847,       5714,  5820.5,2,   1.5498,2,  34.6940,2,  34.6950,2,    172.4,2,   172.5,2,  136.17,2,   34.50,2,    0.00,2,    2.33,2,   0.008,2,   0.000,2,   0.0000,2,  2305.2,2,  2403.5,2,   7.5978,2,    25.01,2, -999.00,9,  -999.0,9, -999.00,9, -999.00,9,       21.4,2, 20220517,     1502,  30.0002, 157.9847,     1.5500,2,     -999.0,9,     -999.0,9,     -999.0,9,     -999.0,9,     0.0122,1,     4.7019,1,     -999.0,9,     -999.0,9,     -999.0,9