BOTTLE,20230801CCHSIOCBG
EXPOCODE,SECT_ID,STNNBR,CASTNO,SAMPNO,BTLNBR,BTLNBR_FLAG_W,DATE,TIME,LATITUDE,LONGITUDE,DEPTH,CTDPRS,CTDPRS_FLAG_W,CTDTMP,CTDTMP_FLAG_W,CTDSAL,CTDSAL_FLAG_W,SALNTY,SALNTY_FLAG_W,CTDOXY,CTDOXY_FLAG_W,OXYGEN,OXYGEN_FLAG_W,SILCAT,SILCAT_FLAG_W,NITRAT,NITRAT_FLAG_W,NITRIT,NITRIT_FLAG_W,PHSPHT,PHSPHT_FLAG_W,CFC-11,CFC-11_FLAG_W,CFC-12,CFC-12_FLAG_W,SF6,SF6_FLAG_W,TCARBN,TCARBN_FLAG_W,ALKALI,ALKALI_FLAG_W,PH_TOT,PH_TOT_FLAG_W,PH_TMP,PH_TMP_FLAG_W,DELC13,DELC13_FLAG_W,DELC14,DELC14_FLAG_W,DOC,DOC_FLAG_W,TDN,TDN_FLAG_W,N2O,N2O_FLAG_W,BTL_DATE,BTL_TIME,BTL_LAT,BTL_LON,REFTMP,REFTMP_FLAG_W,POC,POC_FLAG_W,PON,PON_FLAG_W,POP,POP_FLAG_W,PCOD,PCOD_FLAG_W,CTDFLUOR,CTDFLUOR_FLAG_W,CTDXMISS,CTDXMISS_FLAG_W,HPLC,HPLC_FLAG_W,DNA,DNA_FLAG_W,FCM,FCM_FLAG_W
,,,,,,,,,,,METERS,DBAR,,ITS-90,,PSS-78,,PSS-78,,UMOL/KG,,UMOL/KG,,UMOL/KG,,UMOL/KG,,UMOL/KG,,UMOL/KG,,PMOL/KG,,PMOL/KG,,FMOL/KG,,UMOL/KG,,UMOL/KG,,,,DEG C,,/MILLE,,/MILLE,,UMOL/KG,,UMOL/KG,,NMOL/KG,,,,,,ITS-90,,UG/L,,UG/L,,UG/L,,UG/L,,VOLTS,,VOLTS,,,,,,,
33RR20220430,        P02,      70,          1,         36,         36,2,20220525,       1143,    30.0003,   172.6047,       5594,     5.0,2,  24.0755,2,  35.4052,2,  35.3884,2,    214.5,2,   213.8,2,    0.78,2,    0.02,2,    0.00,2,    0.00,2,   1.656,2,   1.099,2,   1.9270,2,  2024.6,2,  2324.1,2,   8.0370,2,    24.99,2, -999.00,9,  -999.0,9, -999.00,9, -999.00,9,        7.1,2, 20220525,     1358,  30.0003, 172.6047,    24.0743,2,     -999.0,9,     -999.0,9,     -999.0,9,     -999.0,9,     0.0134,1,     4.6402,1,     -999.0,9,     -999.0,9,     -999.0,9
33RR20220430,        P02,      70,          1,         35,         35,2,20220525,       1143,    30.0003,   172.6047,       5594,    36.0,2,  23.3290,2,  35.3849,2,  35.3671,2,    216.7,2,   217.8,2,    0.78,2,    0.00,2,    0.00,2,    0.00,2,   1.705,2,   1.086,2,   2.0431,2,  2022.7,6,  2323.1,2,   8.0375,2,    25.01,2, -999.00,9,  -999.0,9, -999.00,9, -999.00,9,        7.2,2, 20220525,     1356,  30.0003, 172.6047,    23.3277,2,     -999.0,9,     -999.0,9,     -999.0,9,     -999.0,9,     0.0134,1,     4.6422,1,     -999.0,9,     -999.0,9,     -999.0,9
33RR20220430,        P02,      70,          1,         34,         34,2,20220525,       1143,    30.0003,   172.6047,       5594,    61.1,2,  21.8746,2,  35.2086,2,  35.1896,2,    224.1,2,   224.7,2,    1.07,2,    0.00,2,    0.00,2,    0.00,2,   1.849,2,   1.199,2,   2.0492,2,  2018.0,2,  2310.3,2,   8.0254,2,    25.02,2, -999.00,9,  -999.0,9, -999.00,9, -999.00,9,        7.6,2, 20220525,     1354,  30.0003, 172.6047,    21.8752,2,     -999.0,9,     -999.0,9,     -999.0,9,     -999.0,9,     0.0162,1,     4.6384,1,     -999.0,9,     -999.0,9,     -999.0,9
33RR20220430,        P02,      70,          1,         33,         33,2,20220525,       1143,    30.0003,   172.6047,       5594,    90.0,2,  20.5127,2,  35.0802,2,  35.0652,2,    215.9,2,   215.8,2,    1.37,2,    0.00,2,    0.00,2,    0.01,2,   1.907,2,   1.216,2,   2.1007,2,  2029.2,2,  2302.7,2,   7.9951,2,    25.00,2, -999.00,9,  -999.0,9, -999.00,9, -999.00,9,        8.4,2, 20220525,     1352,  30.0003, 172.6047,    20.5365,2,     -999.0,9,     -999.0,9,     -999.0,9,     -999.0,9,     0.0244,1,     4.6339,1,     -999.0,9,     -999.0,9,     -999.0,9
33RR20220430,        P02,      70,          1,         32,         32,2,20220525,       1143,    30.0003,   172.6047,       5594,   117.3,2,  19.8873,2,  35.0564,3,  35.0254,2,    217.9,2,   217.4,2,    1.46,2,    0.05,2,    0.06,2,    0.03,2,   1.956,2,   1.265,2,   2.1227,2,  2033.5,2,  2300.7,2,   7.9859,2,    25.00,2, -999.00,9,  -999.0,9, -999.00,9, -999.00,9,        8.5,2, 20220525,     1351,  30.0003, 172.6047,    19.8409,2,     -999.0,9,     -999.0,9,     -999.0,9,     -999.0,9,     0.0318,1,     4.6542,1,     -999.0,9,     -999.0,9,     -999.0,9
33RR20220430,        P02,      70,          1,         31,         31,2,20220525,       1143,    30.0003,   172.6047,       5594,   167.1,2,  18.1052,2,  34.8159,2,  34.8068,2,    206.3,2,   206.5,2,    2.64,2,    2.39,2,    0.02,2,    0.19,2,   2.055,2,   1.341,2,   2.0639,2,  2047.2,2,  2287.4,2,   7.9347,2,    25.00,2, -999.00,9,  -999.0,9, -999.00,9, -999.00,9,        9.9,2, 20220525,     1349,  30.0003, 172.6047,    18.1082,2,     -999.0,9,     -999.0,9,     -999.0,9,     -999.0,9,     0.0159,1,     4.6801,1,     -999.0,9,     -999.0,9,     -999.0,9
33RR20220430,        P02,      70,          1,         30,         30,2,20220525,       1143,    30.0003,   172.6047,       5594,   217.3,2,  16.7964,2,  34.7017,2,  34.6869,2,    204.9,2,   204.2,2,    4.10,2,    4.74,2,    0.01,2,    0.33,2,   2.180,2,   1.414,2,   2.1484,2,  2056.2,2,  2279.4,2,   7.9035,2,    25.00,2, -999.00,9,  -999.0,9, -999.00,9, -999.00,9,       10.7,2, 20220525,     1347,  30.0003, 172.6047,    16.7963,2,     -999.0,9,     -999.0,9,     -999.0,9,     -999.0,9,     0.0122,1,     4.6875,1,     -999.0,9,     -999.0,9,     -999.0,9
33RR20220430,        P02,      70,          1,         29,         29,2,20220525,       1143,    30.0003,   172.6047,       5594,   267.7,2,  15.8130,2,  34.6183,2,  34.6091,2,    204.7,2,   204.2,2,    5.47,2,    6.17,2,    0.00,2,    0.44,2,   2.264,2,   1.478,2,   2.0866,2,  2067.8,2,  2275.9,2,   7.8814,2,    24.97,2, -999.00,9,  -999.0,9, -999.00,9, -999.00,9,       11.7,2, 20220525,     1345,  30.0003, 172.6047,    15.8144,2,     -999.0,9,     -999.0,9,     -999.0,9,     -999.0,9,     0.0122,1,     4.6896,1,     -999.0,9,     -999.0,9,     -999.0,9
33RR20220430,        P02,      70,          1,         28,         28,2,20220525,       1143,    30.0003,   172.6047,       5594,   318.1,2,  14.5610,2,  34.5160,2,  34.5042,2,    203.7,2,   203.3,2,    8.01,2,    8.28,2,    0.00,2,    0.60,2,   2.396,2,   1.567,2,   2.0240,2,  2079.5,2,  2270.9,2,   7.8484,2,    25.18,2, -999.00,9,  -999.0,9, -999.00,9, -999.00,9,       13.0,2, 20220525,     1343,  30.0003, 172.6047,    14.5572,2,     -999.0,9,     -999.0,9,     -999.0,9,     -999.0,9,     0.0122,1,     4.6924,1,     -999.0,9,     -999.0,9,     -999.0,9
33RR20220430,        P02,      70,          1,         27,         27,2,20220525,       1143,    30.0003,   172.6047,       5594,   368.5,2,  13.5308,2,  34.4467,2,  34.4361,2,    206.6,2,   206.8,2,   10.94,2,    9.98,2,    0.00,2,    0.70,2,   2.417,2,   1.554,2,   2.1123,2,  2083.4,2,  2269.8,2,   7.8276,2,    24.99,2, -999.00,9,  -999.0,9, -999.00,9, -999.00,9,       13.6,2, 20220525,     1341,  30.0003, 172.6047,    13.5295,2,     -999.0,9,     -999.0,9,     -999.0,9,     -999.0,9,     0.0122,1,     4.6945,1,     -999.0,9,     -999.0,9,     -999.0,9
33RR20220430,        P02,      70,          1,         26,         26,2,20220525,       1143,    30.0003,   172.6047,       5594,   439.6,2,  12.0236,2,  34.3284,2,  34.3205,2,    208.0,2,   209.0,2,   15.04,2,   12.40,2,    0.00,2,    0.89,2,-999.000,9,-999.000,9,-999.0000,9,  -999.0,9,  -999.0,9,-999.0000,9,  -999.00,9, -999.00,9,  -999.0,9, -999.00,9, -999.00,9,     -999.0,9, 20220525,     1339,  30.0003, 172.6047,    12.0244,2,     -999.0,9,     -999.0,9,     -999.0,9,     -999.0,9,     0.0122,1,     4.6961,1,     -999.0,9,     -999.0,9,     -999.0,9
33RR20220430,        P02,      70,          1,         25,         25,2,20220525,       1143,    30.0003,   172.6047,       5594,   540.4,2,   9.6301,2,  34.1401,2,  34.1356,2,    193.1,2,   194.4,2,   25.30,2,   18.03,2,    0.00,2,    1.29,2,   2.672,2,   1.667,2,   1.8975,2,  2137.0,2,  2269.8,2,   7.7021,2,    25.02,2, -999.00,9,  -999.0,9, -999.00,9, -999.00,9,       19.1,2, 20220525,     1336,  30.0003, 172.6047,     9.6453,2,     -999.0,9,     -999.0,9,     -999.0,9,     -999.0,9,     0.0122,1,     4.6994,1,     -999.0,9,     -999.0,9,     -999.0,9
33RR20220430,        P02,      70,          1,         24,         24,2,20220525,       1143,    30.0003,   172.6047,       5594,   641.4,2,   7.2365,2,  34.0286,2,  34.0243,2,    148.9,2,   148.4,2,   47.29,2,   26.87,2,    0.00,2,    1.93,2,   2.331,2,   1.460,2,   1.2507,2,  2202.3,2,  2280.9,2,   7.5617,2,    25.00,2, -999.00,9,  -999.0,9, -999.00,9, -999.00,9,       27.2,2, 20220525,     1334,  30.0003, 172.6047,     7.2333,2,     -999.0,9,     -999.0,9,     -999.0,9,     -999.0,9,     0.0131,1,     4.7005,1,     -999.0,9,     -999.0,9,     -999.0,9
33RR20220430,        P02,      70,          1,         23,         23,2,20220525,       1143,    30.0003,   172.6047,       5594,   742.0,2,   5.6563,2,  34.0194,2,  34.0219,2,    110.1,3,   108.9,2,   69.27,2,   33.27,2,    0.00,2,    2.40,2,   1.810,2,   1.149,2,   0.8953,2,  2250.9,2,  2298.1,2,   7.4558,2,    24.99,2, -999.00,9,  -999.0,9, -999.00,9, -999.00,9,       34.8,2, 20220525,     1331,  30.0003, 172.6047,     5.6524,2,     -999.0,9,     -999.0,9,     -999.0,9,     -999.0,9,     0.0131,1,     4.6996,1,     -999.0,9,     -999.0,9,     -999.0,9
33RR20220430,        P02,      70,          1,         22,         22,2,20220525,       1143,    30.0003,   172.6047,       5594,   843.7,2,   4.6418,2,  34.1253,2,  34.1264,2,     64.0,2,    63.8,2,   92.52,2,   38.77,2,    0.00,2,    2.79,2,-999.000,9,-999.000,9,-999.0000,9,  -999.0,9,  -999.0,9,-999.0000,9,  -999.00,9, -999.00,9,  -999.0,9, -999.00,9, -999.00,9,     -999.0,9, 20220525,     1328,  30.0003, 172.6047,     4.6415,2,     -999.0,9,     -999.0,9,     -999.0,9,     -999.0,9,     0.0134,1,     4.7006,1,     -999.0,9,     -999.0,9,     -999.0,9
33RR20220430,        P02,      70,          1,         21,         21,2,20220525,       1143,    30.0003,   172.6047,       5594,   944.5,2,   4.0678,2,  34.2214,2,  34.2236,2,     40.3,3,    41.1,2,  108.93,2,   41.40,2,    0.00,2,    3.01,2,   0.505,2,   0.306,2,   0.2021,2,  2333.4,2,  2341.8,2,   7.3378,2,    24.98,2, -999.00,9,  -999.0,9, -999.00,9, -999.00,9,       50.4,2, 20220525,     1325,  30.0003, 172.6047,     4.0702,2,     -999.0,9,     -999.0,9,     -999.0,9,     -999.0,9,     0.0134,1,     4.7016,1,     -999.0,9,     -999.0,9,     -999.0,9
33RR20220430,        P02,      70,          1,         20,         20,2,20220525,       1143,    30.0003,   172.6047,       5594,  1045.0,2,   3.6558,2,  34.3049,2,  34.3044,2,     28.9,3,    29.4,2,  121.03,2,   42.79,2,    0.00,2,    3.11,2,-999.000,9,-999.000,9,-999.0000,9,  -999.0,9,  -999.0,9,-999.0000,9,  -999.00,9, -999.00,9,  -999.0,9, -999.00,9, -999.00,9,     -999.0,9, 20220525,     1322,  30.0003, 172.6047,     3.6601,2,     -999.0,9,     -999.0,9,     -999.0,9,     -999.0,9,     0.0134,1,     4.7018,1,     -999.0,9,     -999.0,9,     -999.0,9
33RR20220430,        P02,      70,          1,         19,         19,2,20220525,       1143,    30.0003,   172.6047,       5594,  1146.9,2,   3.3835,2,  34.3561,2,  34.3574,2,     27.3,3,    27.8,2,  129.43,2,   43.16,2,    0.00,2,    3.14,2,   0.144,2,   0.082,2,   0.0000,2,  2364.3,2,  2368.2,2,   7.3254,2,    24.99,2, -999.00,9,  -999.0,9, -999.00,9, -999.00,9,       54.3,2, 20220525,     1319,  30.0003, 172.6047,     3.3831,2,     -999.0,9,     -999.0,9,     -999.0,9,     -999.0,9,     0.0134,1,     4.7008,1,     -999.0,9,     -999.0,9,     -999.0,9
33RR20220430,        P02,      70,          1,         18,         18,2,20220525,       1143,    30.0003,   172.6047,       5594,  1248.3,2,   3.1333,2,  34.4159,2,  34.4169,2,     28.4,2,    28.6,2,  137.24,2,   43.47,2,    0.00,2,    3.14,2,   0.067,2,   0.039,2,   0.0000,2,  2372.8,2,  2378.3,2,   7.3337,2,    24.97,2, -999.00,9,  -999.0,9, -999.00,9, -999.00,9,       52.7,2, 20220525,     1316,  30.0003, 172.6047,     3.1365,2,     -999.0,9,     -999.0,9,     -999.0,9,     -999.0,9,     0.0134,1,     4.7020,1,     -999.0,9,     -999.0,9,     -999.0,9
33RR20220430,        P02,      70,          1,         17,         17,2,20220525,       1143,    30.0003,   172.6047,       5594,  1349.5,2,   2.9080,2,  34.4548,2,  34.4544,2,     32.3,2,    32.3,2,  143.48,2,   43.41,2,    0.00,2,    3.12,2,   0.046,2,   0.025,2,   0.0000,2,  2376.2,2,  2384.2,2,   7.3435,2,    25.00,2, -999.00,9,  -999.0,9, -999.00,9, -999.00,9,       47.9,2, 20220525,     1313,  30.0003, 172.6047,     2.9120,2,     -999.0,9,     -999.0,9,     -999.0,9,     -999.0,9,     0.0134,1,     4.7021,1,     -999.0,9,     -999.0,9,     -999.0,9
33RR20220430,        P02,      70,          1,         16,         16,2,20220525,       1143,    30.0003,   172.6047,       5594,  1481.6,2,   2.6680,2,  34.4984,2,  34.4979,2,     39.7,2,    39.9,2,  148.75,2,   43.05,2,    0.00,2,    3.10,2,-999.000,9,-999.000,9,-999.0000,9,  -999.0,9,  -999.0,9,-999.0000,9,  -999.00,9, -999.00,9,  -999.0,9, -999.00,9, -999.00,9,     -999.0,9, 20220525,     1310,  30.0003, 172.6047,     2.6691,2,     -999.0,9,     -999.0,9,     -999.0,9,     -999.0,9,     0.0134,1,     4.7030,1,     -999.0,9,     -999.0,9,     -999.0,9
33RR20220430,        P02,      70,          1,         15,         15,2,20220525,       1143,    30.0003,   172.6047,       5594,  1682.8,2,   2.3534,2,  34.5509,2,  34.5512,2,     56.4,2,    56.2,2,  155.00,2,   42.23,2,    0.00,2,    3.01,2,   0.012,2,   0.000,2,   0.0000,2,  2378.2,2,  2403.1,2,   7.3968,2,    24.99,2, -999.00,9,  -999.0,9, -999.00,9, -999.00,9,       41.3,2, 20220525,     1306,  30.0003, 172.6047,     2.3537,2,     -999.0,9,     -999.0,9,     -999.0,9,     -999.0,9,     0.0134,1,     4.7042,1,     -999.0,9,     -999.0,9,     -999.0,9
33RR20220430,        P02,      70,          1,         14,         14,2,20220525,       1143,    30.0003,   172.6047,       5594,  1886.2,2,   2.0944,2,  34.5840,2,  34.5849,2,     69.8,2,    70.5,2,  159.59,2,   41.38,2,    0.00,2,    2.94,2,-999.000,9,-999.000,9,-999.0000,9,  -999.0,9,  -999.0,9,-999.0000,9,  -999.00,9, -999.00,9,  -999.0,9, -999.00,9, -999.00,9,     -999.0,9, 20220525,     1301,  30.0003, 172.6047,     2.0955,2,     -999.0,9,     -999.0,9,     -999.0,9,     -999.0,9,     0.0132,1,     4.7043,1,     -999.0,9,     -999.0,9,     -999.0,9
33RR20220430,        P02,      70,          1,         13,         13,2,20220525,       1143,    30.0003,   172.6047,       5594,  2110.8,2,   1.9061,2,  34.6089,2,  34.6101,2,     83.5,2,    83.2,2,  161.83,2,   40.51,2,    0.00,2,    2.87,2,   0.004,2,   0.000,2,   0.0000,2,  2368.2,2,  2413.3,2,   7.4495,2,    25.00,2, -999.00,9,  -999.0,9, -999.00,9, -999.00,9,       33.3,2, 20220525,     1256,  30.0003, 172.6047,     1.9050,2,     -999.0,9,     -999.0,9,     -999.0,9,     -999.0,9,     0.0134,1,     4.7054,1,     -999.0,9,     -999.0,9,     -999.0,9
33RR20220430,        P02,      70,          1,         12,         12,2,20220525,       1143,    30.0003,   172.6047,       5594,  2365.1,2,   1.7529,2,  34.6303,2,  34.6313,2,     98.3,2,    98.1,2,  161.73,2,   39.50,2,    0.00,2,    2.79,2,-999.000,9,-999.000,9,-999.0000,9,  -999.0,9,  -999.0,9,-999.0000,9,  -999.00,9, -999.00,9,  -999.0,9, -999.00,9, -999.00,9,     -999.0,9, 20220525,     1251,  30.0003, 172.6047,     1.7528,2,     -999.0,9,     -999.0,9,     -999.0,9,     -999.0,9,     0.0134,1,     4.7056,1,     -999.0,9,     -999.0,9,     -999.0,9
33RR20220430,        P02,      70,          1,         11,         11,2,20220525,       1143,    30.0003,   172.6047,       5594,  2619.0,2,   1.6566,2,  34.6447,2,  34.6451,2,    110.6,2,   110.5,2,  160.26,2,   38.75,2,    0.00,2,    2.73,2,   0.004,2,   0.000,2,   0.0000,2,  2353.6,2,  2417.1,2,   7.4996,2,    24.98,2, -999.00,9,  -999.0,9, -999.00,9, -999.00,9,       27.9,2, 20220525,     1245,  30.0003, 172.6047,     1.6562,2,     -999.0,9,     -999.0,9,     -999.0,9,     -999.0,9,     0.0129,1,     4.7057,1,     -999.0,9,     -999.0,9,     -999.0,9
33RR20220430,        P02,      70,          1,         10,         10,2,20220525,       1143,    30.0003,   172.6047,       5594,  2875.0,2,   1.5814,2,  34.6556,2,  34.6565,2,    120.0,2,   120.2,2,  160.07,2,   38.26,2,    0.00,2,    2.68,2,-999.000,9,-999.000,9,-999.0000,9,  -999.0,9,  -999.0,9,-999.0000,9,  -999.00,9, -999.00,9,  -999.0,9, -999.00,9, -999.00,9,     -999.0,9, 20220525,     1240,  30.0003, 172.6047,     1.5813,2,     -999.0,9,     -999.0,9,     -999.0,9,     -999.0,9,     0.0131,1,     4.7061,1,     -999.0,9,     -999.0,9,     -999.0,9
33RR20220430,        P02,      70,          1,          9,          9,2,20220525,       1143,    30.0003,   172.6047,       5594,  3145.7,2,   1.5306,2,  34.6650,2,  34.6655,2,    130.0,2,   130.3,2,  156.84,2,   37.60,2,    0.00,2,    2.61,2,   0.005,2,   0.000,2,   0.0000,2,  2342.3,2,  2420.0,2,   7.5364,2,    25.00,2, -999.00,9,  -999.0,9, -999.00,9, -999.00,9,       25.1,2, 20220525,     1234,  30.0003, 172.6047,     1.5301,2,     -999.0,9,     -999.0,9,     -999.0,9,     -999.0,9,     0.0122,1,     4.7068,1,     -999.0,9,     -999.0,9,     -999.0,9
33RR20220430,        P02,      70,          1,          8,          8,2,20220525,       1143,    30.0003,   172.6047,       5594,  3452.7,2,   1.4924,2,  34.6730,2,  34.6734,2,    138.6,2,   139.0,2,  154.89,2,   37.01,2,    0.00,2,    2.56,2,-999.000,9,-999.000,9,-999.0000,9,  -999.0,9,  -999.0,9,-999.0000,9,  -999.00,9, -999.00,9,  -999.0,9, -999.00,9, -999.00,9,     -999.0,9, 20220525,     1228,  30.0003, 172.6047,     1.4921,2,     -999.0,9,     -999.0,9,     -999.0,9,     -999.0,9,     0.0122,1,     4.7068,1,     -999.0,9,     -999.0,9,     -999.0,9
33RR20220430,        P02,      70,          1,          7,          7,2,20220525,       1143,    30.0003,   172.6047,       5594,  3759.7,2,   1.4681,2,  34.6792,2,  34.6785,2,    146.0,2,   146.3,2,  151.96,2,   36.52,2,    0.00,2,    2.54,2,   0.003,2,   0.000,2,   0.0000,2,  2329.1,2,  2416.7,2,   7.5637,2,    25.00,2, -999.00,9,  -999.0,9, -999.00,9, -999.00,9,       23.2,2, 20220525,     1222,  30.0003, 172.6047,     1.4680,2,     -999.0,9,     -999.0,9,     -999.0,9,     -999.0,9,     0.0124,1,     4.7070,1,     -999.0,9,     -999.0,9,     -999.0,9
33RR20220430,        P02,      70,          1,          6,          6,2,20220525,       1143,    30.0003,   172.6047,       5594,  4065.8,2,   1.4627,2,  34.6830,2,  34.6828,2,    150.9,2,   150.7,2,  150.98,2,   36.18,2,    0.00,2,    2.51,2,-999.000,9,-999.000,9,-999.0000,9,  -999.0,9,  -999.0,9,-999.0000,9,  -999.00,9, -999.00,9,  -999.0,9, -999.00,9, -999.00,9,     -999.0,9, 20220525,     1216,  30.0003, 172.6047,     1.4626,2,     -999.0,9,     -999.0,9,     -999.0,9,     -999.0,9,     0.0122,1,     4.7068,1,     -999.0,9,     -999.0,9,     -999.0,9
33RR20220430,        P02,      70,          1,          5,          5,2,20220525,       1143,    30.0003,   172.6047,       5594,  4374.5,2,   1.4632,2,  34.6864,2,  34.6861,2,    155.6,2,   155.6,2,  149.42,2,   35.84,2,    0.00,2,    2.47,2,   0.005,2,   0.000,2,   0.0000,2,  2322.8,2,  2416.2,2,   7.5787,2,    24.99,2, -999.00,9,  -999.0,9, -999.00,9, -999.00,9,       22.2,2, 20220525,     1210,  30.0003, 172.6047,     1.4630,2,     -999.0,9,     -999.0,9,     -999.0,9,     -999.0,9,     0.0122,1,     4.7056,1,     -999.0,9,     -999.0,9,     -999.0,9
33RR20220430,        P02,      70,          1,          4,          4,2,20220525,       1143,    30.0003,   172.6047,       5594,  4681.7,2,   1.4641,2,  34.6896,2,  34.6895,2,    161.6,2,   161.8,2,  144.73,2,   35.37,2,    0.00,2,    2.44,2,   0.006,2,   0.000,2,   0.0000,2,  2316.0,2,  2410.9,2,   7.5858,2,    24.98,2, -999.00,9,  -999.0,9, -999.00,9, -999.00,9,       21.9,2, 20220525,     1203,  30.0003, 172.6047,     1.4641,2,     -999.0,9,     -999.0,9,     -999.0,9,     -999.0,9,     0.0122,1,     4.7069,1,     -999.0,9,     -999.0,9,     -999.0,9