BOTTLE,20230801CCHSIOCBG
EXPOCODE,SECT_ID,STNNBR,CASTNO,SAMPNO,BTLNBR,BTLNBR_FLAG_W,DATE,TIME,LATITUDE,LONGITUDE,DEPTH,CTDPRS,CTDPRS_FLAG_W,CTDTMP,CTDTMP_FLAG_W,CTDSAL,CTDSAL_FLAG_W,SALNTY,SALNTY_FLAG_W,CTDOXY,CTDOXY_FLAG_W,OXYGEN,OXYGEN_FLAG_W,SILCAT,SILCAT_FLAG_W,NITRAT,NITRAT_FLAG_W,NITRIT,NITRIT_FLAG_W,PHSPHT,PHSPHT_FLAG_W,CFC-11,CFC-11_FLAG_W,CFC-12,CFC-12_FLAG_W,SF6,SF6_FLAG_W,TCARBN,TCARBN_FLAG_W,ALKALI,ALKALI_FLAG_W,PH_TOT,PH_TOT_FLAG_W,PH_TMP,PH_TMP_FLAG_W,DELC13,DELC13_FLAG_W,DELC14,DELC14_FLAG_W,DOC,DOC_FLAG_W,TDN,TDN_FLAG_W,N2O,N2O_FLAG_W,BTL_DATE,BTL_TIME,BTL_LAT,BTL_LON,REFTMP,REFTMP_FLAG_W,POC,POC_FLAG_W,PON,PON_FLAG_W,POP,POP_FLAG_W,PCOD,PCOD_FLAG_W,CTDFLUOR,CTDFLUOR_FLAG_W,CTDXMISS,CTDXMISS_FLAG_W,HPLC,HPLC_FLAG_W,DNA,DNA_FLAG_W,FCM,FCM_FLAG_W
,,,,,,,,,,,METERS,DBAR,,ITS-90,,PSS-78,,PSS-78,,UMOL/KG,,UMOL/KG,,UMOL/KG,,UMOL/KG,,UMOL/KG,,UMOL/KG,,PMOL/KG,,PMOL/KG,,FMOL/KG,,UMOL/KG,,UMOL/KG,,,,DEG C,,/MILLE,,/MILLE,,UMOL/KG,,UMOL/KG,,NMOL/KG,,,,,,ITS-90,,UG/L,,UG/L,,UG/L,,UG/L,,VOLTS,,VOLTS,,,,,,,
33RR20220430,        P02,      90,          1,         36,         36,2,20220531,       0759,    29.9999,  -176.7901,       5402,    12.2,2,  23.6050,2,  35.3481,2,  35.3311,2,    213.8,2,   214.0,2,    0.88,2,    0.01,2,    0.01,2,    0.00,2,   1.582,2,   1.073,2,   1.8110,2,  2016.5,2,  2320.6,2,   8.0442,2,    24.99,2, -999.00,9,  -999.0,9, -999.00,1, -999.00,1,        7.0,2, 20220531,     1009,  29.9999,-176.7901,    23.6057,2,     -999.0,9,     -999.0,9,     -999.0,9,     -999.0,9,     0.0147,1,     4.6418,1,     -999.0,9,     -999.0,9,     -999.0,9
33RR20220430,        P02,      90,          1,         35,         35,2,20220531,       0759,    29.9999,  -176.7901,       5402,    27.2,2,  23.5312,2,  35.3442,2,  35.3269,2,    215.3,2,   214.9,2,    0.98,2,    0.00,2,    0.01,2,    0.00,2,   1.562,2,   1.063,2,   1.9120,2,  2018.5,2,  2320.1,2,   8.0425,2,    25.00,2, -999.00,9,  -999.0,9, -999.00,1, -999.00,1,        7.0,2, 20220531,     1007,  29.9998,-176.7901,    23.5315,2,     -999.0,9,     -999.0,9,     -999.0,9,     -999.0,9,     0.0147,1,     4.6386,1,     -999.0,9,     -999.0,9,     -999.0,9
33RR20220430,        P02,      90,          1,         34,         34,2,20220531,       0759,    29.9999,  -176.7901,       5402,    52.4,2,  21.5610,2,  35.1944,2,  35.1849,2,    226.8,2,   226.3,2,    1.37,2,    0.00,2,    0.01,2,    0.00,2,   1.774,2,   1.166,2,   2.0997,2,  2024.9,2,  2310.4,2,   8.0124,2,    24.99,2, -999.00,9,  -999.0,9, -999.00,1, -999.00,1,        7.5,2, 20220531,     1005,  29.9999,-176.7901,    21.5564,2,     -999.0,9,     -999.0,9,     -999.0,9,     -999.0,9,     0.0162,1,     4.6346,1,     -999.0,9,     -999.0,9,     -999.0,9
33RR20220430,        P02,      90,          1,         33,         33,2,20220531,       0759,    29.9999,  -176.7901,       5402,    76.3,2,  19.5484,2,  34.9870,2,  34.9756,2,    233.7,2,   234.5,2,    1.86,2,    0.00,2,    0.00,2,    0.03,2,   1.961,2,   1.268,2,   2.1736,2,  2027.7,2,  2298.2,2,   7.9926,2,    24.99,2, -999.00,9,  -999.0,9, -999.00,1, -999.00,1,        8.1,2, 20220531,     1003,  29.9999,-176.7901,    19.5853,2,     -999.0,9,     -999.0,9,     -999.0,9,     -999.0,9,     0.0189,1,     4.6393,1,     -999.0,9,     -999.0,9,     -999.0,9
33RR20220430,        P02,      90,          1,         32,         32,2,20220531,       0759,    29.9999,  -176.7901,       5402,   102.6,2,  18.7928,2,  34.9000,3,  34.8686,2,    226.3,2,   225.5,2,    2.34,2,    0.27,2,    0.03,2,    0.07,2,   2.017,2,   1.340,2,   2.1799,2,  2037.1,2,  2292.0,2,   7.9670,2,    24.99,2, -999.00,9,  -999.0,9, -999.00,1, -999.00,1,        8.9,2, 20220531,     1001,  29.9998,-176.7901,    18.7675,2,     -999.0,9,     -999.0,9,     -999.0,9,     -999.0,9,     0.0440,1,     4.6036,1,     -999.0,9,     -999.0,9,     -999.0,9
33RR20220430,        P02,      90,          1,         31,         31,2,20220531,       0759,    29.9999,  -176.7901,       5402,   152.6,2,  17.4198,2,  34.7642,2,  34.7494,2,    221.0,2,   221.0,2,    3.13,2,    2.13,2,    0.05,2,    0.18,2,   2.076,2,   1.347,2,   2.0537,2,  2044.2,2,  2282.0,2,   7.9414,2,    24.98,2, -999.00,9,  -999.0,9, -999.00,1, -999.00,1,        9.2,2, 20220531,      959,  29.9998,-176.7901,    17.4083,2,     -999.0,9,     -999.0,9,     -999.0,9,     -999.0,9,     0.0215,1,     4.6710,1,     -999.0,9,     -999.0,9,     -999.0,9
33RR20220430,        P02,      90,          1,         30,         30,2,20220531,       0759,    29.9999,  -176.7901,       5402,   202.8,2,  16.0326,2,  34.6343,2,  34.6144,2,    209.2,2,   208.3,2,    5.47,2,    5.65,2,    0.00,2,    0.41,2,   2.241,2,   1.428,2,   2.1057,2,  2062.4,2,  2274.6,2,   7.8886,2,    24.99,2, -999.00,9,  -999.0,9, -999.00,1, -999.00,1,       11.2,2, 20220531,      958,  29.9998,-176.7901,    16.0395,2,     -999.0,9,     -999.0,9,     -999.0,9,     -999.0,9,     0.0134,1,     4.6853,1,     -999.0,9,     -999.0,9,     -999.0,9
33RR20220430,        P02,      90,          1,         29,         29,2,20220531,       0759,    29.9999,  -176.7901,       5402,   253.2,2,  14.9758,2,  34.5487,2,  34.5384,2,    208.3,2,   208.4,2,    7.33,2,    7.28,2,    0.00,2,    0.52,2,   2.330,2,   1.504,2,   2.0502,2,  2073.2,2,  2272.5,2,   7.8670,2,    24.98,2, -999.00,9,  -999.0,9, -999.00,1, -999.00,1,       12.2,2, 20220531,      956,  29.9998,-176.7901,    14.9746,2,     -999.0,9,     -999.0,9,     -999.0,9,     -999.0,9,     0.0122,1,     4.6875,1,     -999.0,9,     -999.0,9,     -999.0,9
33RR20220430,        P02,      90,          1,         28,         28,2,20220531,       0759,    29.9999,  -176.7901,       5402,   303.3,2,  13.7922,2,  34.4532,2,  34.4406,2,    209.9,2,   210.9,2,    9.67,2,    9.06,2,    0.00,2,    0.64,2,   2.449,2,   1.540,2,   2.2081,2,  2082.0,6,  2268.5,2,   7.8364,2,    24.99,2, -999.00,9,  -999.0,9, -999.00,1, -999.00,1,       13.4,2, 20220531,      954,  29.9998,-176.7901,    13.7888,2,     -999.0,9,     -999.0,9,     -999.0,9,     -999.0,9,     0.0122,1,     4.6897,1,     -999.0,9,     -999.0,9,     -999.0,9
33RR20220430,        P02,      90,          1,         27,         27,2,20220531,       0759,    29.9999,  -176.7901,       5402,   354.4,2,  12.6912,2,  34.3580,2,  34.3547,2,    209.8,2,   210.2,2,   11.82,2,   10.78,2,    0.00,2,    0.76,2,   2.581,2,   1.608,2,   2.0162,2,  -999.0,9,  -999.0,9,-999.0000,9,  -999.00,9, -999.00,9,  -999.0,9, -999.00,1, -999.00,1,       14.4,2, 20220531,      952,  29.9998,-176.7901,    12.7240,2,     -999.0,9,     -999.0,9,     -999.0,9,     -999.0,9,     0.0122,1,     4.6921,1,     -999.0,9,     -999.0,9,     -999.0,9
33RR20220430,        P02,      90,          1,         26,         26,2,20220531,       0759,    29.9999,  -176.7901,       5402,   404.0,2,  11.5815,2,  34.2716,2,  34.2636,2,    208.8,2,   210.2,2,   15.24,2,   13.00,2,    0.00,2,    0.92,2,   2.694,2,   1.687,2,   2.0368,2,  2104.4,2,  2265.7,2,   7.7759,2,    25.00,2, -999.00,9,  -999.0,9, -999.00,1, -999.00,1,       15.8,2, 20220531,      951,  29.9998,-176.7901,    11.5802,2,     -999.0,9,     -999.0,9,     -999.0,9,     -999.0,9,     0.0122,1,     4.6934,1,     -999.0,9,     -999.0,9,     -999.0,9
33RR20220430,        P02,      90,          1,         25,         25,2,20220531,       0759,    29.9999,  -176.7901,       5402,   506.7,2,   9.3761,2,  34.1136,2,  34.1062,2,    183.3,2,   183.1,2,   26.87,2,   19.66,2,    0.00,2,    1.39,2,   2.713,2,   1.652,2,   1.7098,2,  2150.3,2,  2267.4,2,   7.6748,2,    25.00,2, -999.00,9,  -999.0,9, -999.00,1, -999.00,1,       21.3,2, 20220531,      948,  29.9998,-176.7901,     9.3754,2,     -999.0,9,     -999.0,9,     -999.0,9,     -999.0,9,     0.0122,1,     4.6963,1,     -999.0,9,     -999.0,9,     -999.0,9
33RR20220430,        P02,      90,          1,         24,         24,2,20220531,       0759,    29.9999,  -176.7901,       5402,   607.3,2,   7.6406,2,  34.0511,2,  34.0476,2,    146.4,2,   145.7,2,   43.19,2,   26.45,2,    0.00,2,    1.87,2,   2.421,2,   1.436,2,   1.1391,2,  2196.7,2,  2276.4,2,   7.5656,2,    24.99,2, -999.00,9,  -999.0,9, -999.00,9, -999.00,9,       27.8,2, 20220531,      945,  29.9999,-176.7901,     7.6394,2,     -999.0,9,     -999.0,9,     -999.0,9,     -999.0,9,     0.0124,1,     4.6981,1,     -999.0,9,     -999.0,9,     -999.0,9
33RR20220430,        P02,      90,          1,         23,         23,2,20220531,       0759,    29.9999,  -176.7901,       5402,   708.2,2,   5.9816,2,  34.0596,2,  34.0578,2,     98.2,2,    97.7,2,   66.16,2,   33.88,2,    0.00,2,    2.41,2,   1.648,2,   0.990,2,   0.8610,2,  2252.4,2,  2294.8,2,   7.4489,2,    25.02,2, -999.00,9,  -999.0,9, -999.00,1, -999.00,1,       36.5,2, 20220531,      943,  29.9998,-176.7901,     5.9815,2,     -999.0,9,     -999.0,9,     -999.0,9,     -999.0,9,     0.0130,1,     4.6992,1,     -999.0,9,     -999.0,9,     -999.0,9
33RR20220430,        P02,      90,          1,         22,         22,2,20220531,       0759,    29.9999,  -176.7901,       5402,   808.5,2,   5.0292,2,  34.1191,2,  34.1193,2,     65.6,2,    65.1,2,   85.31,2,   38.36,2,    0.00,2,    2.75,2,   1.015,2,   0.607,2,   0.3623,2,  -999.0,9,  -999.0,9,-999.0000,9,  -999.00,9, -999.00,9,  -999.0,9, -999.00,9, -999.00,9,       43.9,2, 20220531,      940,  29.9998,-176.7901,     5.0255,2,     -999.0,9,     -999.0,9,     -999.0,9,     -999.0,9,     0.0134,1,     4.6995,1,     -999.0,9,     -999.0,9,     -999.0,9
33RR20220430,        P02,      90,          1,         21,         21,2,20220531,       0759,    29.9999,  -176.7901,       5402,   908.3,2,   4.2825,2,  34.2199,2,  34.2187,2,     39.2,3,    40.1,2,  103.48,2,   41.50,2,    0.00,2,    2.96,2,   0.469,2,   0.285,2,   0.0903,2,  2328.8,2,  2336.0,2,   7.3369,2,    25.03,2, -999.00,9,  -999.0,9, -999.00,1, -999.00,1,       50.1,2, 20220531,      937,  29.9999,-176.7901,     4.2819,2,     -999.0,9,     -999.0,9,     -999.0,9,     -999.0,9,     0.0134,1,     4.7002,1,     -999.0,9,     -999.0,9,     -999.0,9
33RR20220430,        P02,      90,          1,         20,         20,2,20220531,       0759,    29.9999,  -176.7901,       5402,  1008.8,2,   3.9249,2,  34.2884,2,  34.2878,2,     30.4,3,    31.1,2,  113.83,2,   42.64,2,    0.00,2,    3.06,2,   0.241,2,   0.139,2,   0.0000,2,  2349.5,2,  2349.3,2,   7.3287,2,    25.01,2, -999.00,9,  -999.0,9, -999.00,1, -999.00,1,       54.1,2, 20220531,      935,  29.9998,-176.7901,     3.9248,2,     -999.0,9,     -999.0,9,     -999.0,9,     -999.0,9,     0.0134,1,     4.7006,1,     -999.0,9,     -999.0,9,     -999.0,9
33RR20220430,        P02,      90,          1,         19,         19,2,20220531,       0759,    29.9999,  -176.7901,       5402,  1111.0,2,   3.5063,2,  34.3690,2,  34.3668,2,     26.3,3,    26.7,2,  125.54,2,   43.43,2,    0.00,2,    3.11,2,   0.087,2,   0.048,2,   0.0000,2,  2363.2,2,  2367.1,2,   7.3291,2,    25.04,2, -999.00,9,  -999.0,9, -999.00,1, -999.00,1,       55.4,2, 20220531,      931,  29.9999,-176.7901,     3.5075,2,     -999.0,9,     -999.0,9,     -999.0,9,     -999.0,9,     0.0134,1,     4.7007,1,     -999.0,9,     -999.0,9,     -999.0,9
33RR20220430,        P02,      90,          1,         18,         18,2,20220531,       0759,    29.9999,  -176.7901,       5402,  1211.9,2,   3.2783,2,  34.4113,2,  34.4114,2,     27.1,3,    27.4,2,  132.28,2,   43.62,2,    0.00,2,    3.12,2,   0.049,2,   0.029,2,   0.0000,2,  -999.0,9,  -999.0,9,-999.0000,9,  -999.00,9, -999.00,9,  -999.0,9, -999.00,9, -999.00,9,       55.1,2, 20220531,      928,  29.9999,-176.7901,     3.2812,2,     -999.0,9,     -999.0,9,     -999.0,9,     -999.0,9,     0.0134,1,     4.6999,1,     -999.0,9,     -999.0,9,     -999.0,9
33RR20220430,        P02,      90,          1,         17,         17,2,20220531,       0759,    29.9999,  -176.7901,       5402,  1313.7,2,   3.0296,2,  34.4578,2,  34.4581,2,     31.4,2,    31.2,2,  139.51,2,   43.56,2,    0.00,2,    3.11,2,   0.025,2,   0.000,2,   0.0000,2,  2373.3,2,  2385.9,2,   7.3437,2,    25.02,2, -999.00,9,  -999.0,9, -999.00,1, -999.00,1,       52.3,2, 20220531,      925,  29.9999,-176.7901,     3.0290,2,     -999.0,9,     -999.0,9,     -999.0,9,     -999.0,9,     0.0134,1,     4.7008,1,     -999.0,9,     -999.0,9,     -999.0,9
33RR20220430,        P02,      90,          1,         16,         16,2,20220531,       0759,    29.9999,  -176.7901,       5402,  1415.5,2,   2.7988,2,  34.4953,2,  34.4954,2,     36.6,3,    37.0,2,  145.27,2,   43.38,2,    0.00,2,    3.09,2,   0.012,2,   0.000,2,   0.0000,2,  2376.4,2,  2393.2,2,   7.3582,2,    25.03,2, -999.00,9,  -999.0,9, -999.00,1, -999.00,1,       49.0,2, 20220531,      923,  29.9999,-176.7901,     2.7990,2,     -999.0,9,     -999.0,9,     -999.0,9,     -999.0,9,     0.0134,1,     4.7010,1,     -999.0,9,     -999.0,9,     -999.0,9
33RR20220430,        P02,      90,          1,         15,         15,2,20220531,       0759,    29.9999,  -176.7901,       5402,  1622.5,2,   2.4917,2,  34.5400,2,  34.5404,2,     48.2,2,    48.2,2,  152.59,2,   42.81,2,    0.00,2,    3.03,2,   0.006,2,   0.000,2,   0.0000,2,  2377.2,2,  2403.4,2,   7.3829,2,    25.02,2, -999.00,9,  -999.0,9, -999.00,1, -999.00,1,       43.3,2, 20220531,      918,  29.9999,-176.7901,     2.4915,2,     -999.0,9,     -999.0,9,     -999.0,9,     -999.0,9,     0.0134,1,     4.7012,1,     -999.0,9,     -999.0,9,     -999.0,9
33RR20220430,        P02,      90,          1,         14,         14,2,20220531,       0759,    29.9999,  -176.7901,       5402,  1823.8,2,   2.2059,2,  34.5760,2,  34.5763,2,     61.6,2,    61.0,2,  158.74,2,   42.04,2,    0.00,2,    2.95,2,   0.005,2,   0.000,2,   0.0000,2,  -999.0,9,  -999.0,9,-999.0000,9,  -999.00,9, -999.00,9,  -999.0,9, -999.00,9, -999.00,9,       37.8,2, 20220531,      914,  29.9998,-176.7901,     2.2055,2,     -999.0,9,     -999.0,9,     -999.0,9,     -999.0,9,     0.0134,1,     4.7020,1,     -999.0,9,     -999.0,9,     -999.0,9
33RR20220430,        P02,      90,          1,         13,         13,2,20220531,       0759,    29.9999,  -176.7901,       5402,  2027.9,2,   2.0000,2,  34.5996,2,  34.6001,2,     73.0,2,    72.7,2,  163.03,2,   41.30,2,    0.00,2,    2.90,2,   0.004,6,   0.000,6,   0.0000,6,  2373.1,2,  2414.2,2,   7.4661,2,    25.02,2, -999.00,9,  -999.0,9, -999.00,1, -999.00,1,       34.1,6, 20220531,      909,  29.9999,-176.7901,     1.9998,2,     -999.0,9,     -999.0,9,     -999.0,9,     -999.0,9,     0.0132,1,     4.7029,1,     -999.0,9,     -999.0,9,     -999.0,9
33RR20220430,        P02,      90,          1,         12,         12,2,20220531,       0759,    29.9999,  -176.7901,       5402,  2279.5,2,   1.8181,2,  34.6240,2,  34.6244,2,     91.0,2,    90.8,2,  162.83,2,   40.16,2,    0.00,2,    2.80,2,-999.000,9,-999.000,9,-999.0000,9,  -999.0,9,  -999.0,9,-999.0000,9,  -999.00,9, -999.00,9,  -999.0,9, -999.00,9, -999.00,9,     -999.0,9, 20220531,      904,  29.9999,-176.7901,     1.8178,2,     -999.0,9,     -999.0,9,     -999.0,9,     -999.0,9,     0.0134,1,     4.7039,1,     -999.0,9,     -999.0,9,     -999.0,9
33RR20220430,        P02,      90,          1,         11,         11,2,20220531,       0759,    29.9999,  -176.7901,       5402,  2535.7,2,   1.6883,2,  34.6409,2,  34.6409,2,    104.3,2,   104.7,2,  162.64,2,   39.27,2,    0.00,2,    2.74,2,   0.004,2,   0.000,2,   0.0000,2,  2357.1,2,  2420.0,2,   7.4913,2,    25.01,2, -999.00,9,  -999.0,9, -999.00,1, -999.00,1,       27.7,2, 20220531,      859,  29.9999,-176.7901,     1.6880,2,     -999.0,9,     -999.0,9,     -999.0,9,     -999.0,9,     0.0121,1,     4.7037,1,     -999.0,9,     -999.0,9,     -999.0,9
33RR20220430,        P02,      90,          1,         10,         10,2,20220531,       0759,    29.9999,  -176.7901,       5402,  2788.2,2,   1.6067,2,  34.6520,2,  34.6525,2,    114.3,2,   114.8,2,  161.95,2,   38.63,2,    0.00,2,    2.69,2,-999.000,9,-999.000,9,-999.0000,9,  -999.0,9,  -999.0,9,-999.0000,9,  -999.00,9, -999.00,9,  -999.0,9, -999.00,9, -999.00,9,     -999.0,9, 20220531,      854,  29.9999,-176.7901,     1.6064,2,     -999.0,9,     -999.0,9,     -999.0,9,     -999.0,9,     0.0126,1,     4.7044,1,     -999.0,9,     -999.0,9,     -999.0,9
33RR20220430,        P02,      90,          1,          9,          9,2,20220531,       0759,    29.9999,  -176.7901,       5402,  3045.4,2,   1.5401,2,  34.6625,2,  34.6624,2,    125.9,2,   126.0,2,  159.41,2,   37.92,2,    0.00,2,    2.63,2,   0.004,2,   0.000,2,   0.0000,2,  -999.0,9,  -999.0,9,-999.0000,9,  -999.00,9, -999.00,9,  -999.0,9, -999.00,1, -999.00,1,       24.6,2, 20220531,      849,  29.9999,-176.7901,     1.5405,2,     -999.0,9,     -999.0,9,     -999.0,9,     -999.0,9,     0.0122,1,     4.7056,1,     -999.0,9,     -999.0,9,     -999.0,9
33RR20220430,        P02,      90,          1,          8,          8,2,20220531,       0759,    29.9999,  -176.7901,       5402,  3351.4,2,   1.4947,2,  34.6708,2,  34.6714,2,    135.0,2,   135.3,2,  156.87,2,   37.26,2,    0.00,2,    2.58,2,-999.000,9,-999.000,9,-999.0000,9,  -999.0,9,  -999.0,9,-999.0000,9,  -999.00,9, -999.00,9,  -999.0,9, -999.00,9, -999.00,9,     -999.0,9, 20220531,      842,  29.9999,-176.7901,     1.4944,2,     -999.0,9,     -999.0,9,     -999.0,9,     -999.0,9,     0.0122,1,     4.7059,1,     -999.0,9,     -999.0,9,     -999.0,9
33RR20220430,        P02,      90,          1,          7,          7,2,20220531,       0759,    29.9999,  -176.7901,       5402,  3660.1,2,   1.4680,2,  34.6770,2,  34.6771,2,    142.2,2,   142.0,2,  155.01,2,   36.83,2,    0.00,2,    2.54,2,   0.006,2,   0.000,2,   0.0000,2,  2333.4,2,  2421.1,2,   7.5593,2,    25.03,2, -999.00,9,  -999.0,9, -999.00,1, -999.00,1,       22.7,2, 20220531,      836,  29.9999,-176.7901,     1.4677,2,     -999.0,9,     -999.0,9,     -999.0,9,     -999.0,9,     0.0122,1,     4.7061,1,     -999.0,9,     -999.0,9,     -999.0,9
33RR20220430,        P02,      90,          1,          6,          6,2,20220531,       0759,    29.9999,  -176.7901,       5402,  3965.4,2,   1.4642,2,  34.6810,2,  34.6812,2,    147.2,2,   147.3,2,  153.94,2,   36.51,2,    0.00,2,    2.51,2,-999.000,9,-999.000,9,-999.0000,9,  -999.0,9,  -999.0,9,-999.0000,9,  -999.00,9, -999.00,9,  -999.0,9, -999.00,9, -999.00,9,     -999.0,9, 20220531,      830,  29.9999,-176.7901,     1.4639,2,     -999.0,9,     -999.0,9,     -999.0,9,     -999.0,9,     0.0122,1,     4.7060,1,     -999.0,9,     -999.0,9,     -999.0,9
33RR20220430,        P02,      90,          1,          5,          5,2,20220531,       0759,    29.9999,  -176.7901,       5402,  4273.7,2,   1.4747,2,  34.6836,2,  34.6838,2,    150.5,2,   150.4,2,  153.74,2,   36.28,2,    0.00,2,    2.49,2,   0.005,2,   0.000,2,   0.0000,2,  2326.6,2,  2418.8,2,   7.5740,2,    25.03,2, -999.00,9,  -999.0,9, -999.00,1, -999.00,1,       22.1,2, 20220531,      824,  29.9999,-176.7901,     1.4744,2,     -999.0,9,     -999.0,9,     -999.0,9,     -999.0,9,     0.0122,1,     4.7058,1,     -999.0,9,     -999.0,9,     -999.0,9
33RR20220430,        P02,      90,          1,          4,          4,2,20220531,       0759,    29.9999,  -176.7901,       5402,  4581.1,2,   1.4945,2,  34.6855,2,  34.6851,2,    152.8,2,   152.8,2,  153.55,2,   36.17,2,    0.00,2,    2.49,2,-999.000,9,-999.000,9,-999.0000,9,  -999.0,9,  -999.0,9,-999.0000,9,  -999.00,9, -999.00,9,  -999.0,9, -999.00,9, -999.00,9,     -999.0,9, 20220531,      818,  29.9999,-176.7901,     1.4944,2,     -999.0,9,     -999.0,9,     -999.0,9,     -999.0,9,     0.0130,1,     4.7057,1,     -999.0,9,     -999.0,9,     -999.0,9