BOTTLE,20230801CCHSIOCBG
EXPOCODE,SECT_ID,STNNBR,CASTNO,SAMPNO,BTLNBR,BTLNBR_FLAG_W,DATE,TIME,LATITUDE,LONGITUDE,DEPTH,CTDPRS,CTDPRS_FLAG_W,CTDTMP,CTDTMP_FLAG_W,CTDSAL,CTDSAL_FLAG_W,SALNTY,SALNTY_FLAG_W,CTDOXY,CTDOXY_FLAG_W,OXYGEN,OXYGEN_FLAG_W,SILCAT,SILCAT_FLAG_W,NITRAT,NITRAT_FLAG_W,NITRIT,NITRIT_FLAG_W,PHSPHT,PHSPHT_FLAG_W,CFC-11,CFC-11_FLAG_W,CFC-12,CFC-12_FLAG_W,SF6,SF6_FLAG_W,TCARBN,TCARBN_FLAG_W,ALKALI,ALKALI_FLAG_W,PH_TOT,PH_TOT_FLAG_W,PH_TMP,PH_TMP_FLAG_W,DELC13,DELC13_FLAG_W,DELC14,DELC14_FLAG_W,DOC,DOC_FLAG_W,TDN,TDN_FLAG_W,N2O,N2O_FLAG_W,BTL_DATE,BTL_TIME,BTL_LAT,BTL_LON,REFTMP,REFTMP_FLAG_W,POC,POC_FLAG_W,PON,PON_FLAG_W,POP,POP_FLAG_W,PCOD,PCOD_FLAG_W,CTDFLUOR,CTDFLUOR_FLAG_W,CTDXMISS,CTDXMISS_FLAG_W,HPLC,HPLC_FLAG_W,DNA,DNA_FLAG_W,FCM,FCM_FLAG_W
,,,,,,,,,,,METERS,DBAR,,ITS-90,,PSS-78,,PSS-78,,UMOL/KG,,UMOL/KG,,UMOL/KG,,UMOL/KG,,UMOL/KG,,UMOL/KG,,PMOL/KG,,PMOL/KG,,FMOL/KG,,UMOL/KG,,UMOL/KG,,,,DEG C,,/MILLE,,/MILLE,,UMOL/KG,,UMOL/KG,,NMOL/KG,,,,,,ITS-90,,UG/L,,UG/L,,UG/L,,UG/L,,VOLTS,,VOLTS,,,,,,,
33RR20220430,        P02,      82,          1,         36,         36,2,20220528,       2253,    29.9998,   178.5944,       4913,     3.2,2,  22.2542,2,  35.2513,2,  35.2329,2,    222.0,2,   220.5,2,    1.27,2,    0.01,2,    0.00,2,    0.00,2,   1.665,2,   1.132,2,   1.9114,2,  2026.3,2,  2312.7,2,   8.0183,2,    25.02,2, -999.00,9,  -999.0,9, -999.00,1, -999.00,1,        7.3,2, 20220529,       54,  29.9998, 178.5944,    22.2620,2,     -999.0,9,     -999.0,9,     -999.0,9,     -999.0,9,     0.0122,1,     4.6395,1,     -999.0,9,     -999.0,9,     -999.0,9
33RR20220430,        P02,      82,          1,         35,         35,2,20220528,       2253,    29.9998,   178.5944,       4913,    35.3,2,  21.1572,2,  35.1430,2,  35.1230,2,    228.0,2,   228.5,2,    1.46,2,    0.00,2,    0.00,2,    0.00,2,   1.780,2,   1.184,2,   2.0845,2,  2026.8,2,  2307.5,2,   8.0053,2,    25.01,2, -999.00,9,  -999.0,9, -999.00,1, -999.00,1,        7.6,2, 20220529,       52,  29.9998, 178.5944,    21.1555,2,     -999.0,9,     -999.0,9,     -999.0,9,     -999.0,9,     0.0134,1,     4.6332,1,     -999.0,9,     -999.0,9,     -999.0,9
33RR20220430,        P02,      82,          1,         34,         34,2,20220528,       2253,    29.9998,   178.5944,       4913,    59.0,2,  19.0756,2,  34.9174,2,  34.9258,2,    235.5,2,   234.7,2,    1.86,2,    0.00,2,    0.00,2,    0.01,2,   1.919,2,   1.257,2,   2.1202,2,  2025.4,2,  2293.5,2,   7.9908,2,    25.02,2, -999.00,9,  -999.0,9, -999.00,1, -999.00,1,        8.2,2, 20220529,       50,  29.9998, 178.5944,    19.1230,2,     -999.0,9,     -999.0,9,     -999.0,9,     -999.0,9,     0.0183,1,     4.6312,1,     -999.0,9,     -999.0,9,     -999.0,9
33RR20220430,        P02,      82,          1,         33,         33,2,20220528,       2253,    29.9998,   178.5944,       4913,    86.6,2,  18.1814,2,  34.8065,2,  34.7968,2,    231.2,2,   232.2,2,    2.05,2,    0.00,2,    0.00,2,    0.04,2,   2.013,2,   1.315,2,   2.1264,2,  2028.0,2,  2285.4,2,   7.9725,2,    24.99,2, -999.00,9,  -999.0,9, -999.00,1, -999.00,1,        8.6,2, 20220529,       48,  29.9998, 178.5944,    18.1570,2,     -999.0,9,     -999.0,9,     -999.0,9,     -999.0,9,     0.0346,1,     4.6297,1,     -999.0,9,     -999.0,9,     -999.0,9
33RR20220430,        P02,      82,          1,         32,         32,2,20220528,       2253,    29.9998,   178.5944,       4913,   116.6,2,  17.2953,2,  34.7282,2,  34.7158,2,    224.3,2,   224.4,2,    2.74,2,    1.82,2,    0.03,2,    0.15,2,   2.038,2,   1.345,2,   2.2522,2,  2039.0,2,  2279.3,2,   7.9433,2,    24.99,2, -999.00,9,  -999.0,9, -999.00,1, -999.00,1,        9.3,2, 20220529,       46,  29.9998, 178.5944,    17.2958,2,     -999.0,9,     -999.0,9,     -999.0,9,     -999.0,9,     0.0250,1,     4.6672,1,     -999.0,9,     -999.0,9,     -999.0,9
33RR20220430,        P02,      82,          1,         31,         31,2,20220528,       2253,    29.9998,   178.5944,       4913,   168.0,2,  16.3894,2,  34.6487,2,  34.6374,2,    216.7,2,   215.7,2,    4.30,2,    4.28,2,    0.01,2,    0.30,2,   2.125,2,   1.387,2,   2.3381,2,  2049.2,2,  2274.2,2,   7.9132,2,    25.02,2, -999.00,9,  -999.0,9, -999.00,1, -999.00,1,       10.1,2, 20220529,       44,  29.9998, 178.5944,    16.3938,2,     -999.0,9,     -999.0,9,     -999.0,9,     -999.0,9,     0.0134,1,     4.6832,1,     -999.0,9,     -999.0,9,     -999.0,9
33RR20220430,        P02,      82,          1,         30,         30,2,20220528,       2253,    29.9998,   178.5944,       4913,   217.8,2,  15.5328,2,  34.5959,2,  34.5849,2,    211.6,2,   211.9,2,    6.15,2,    6.04,2,    0.00,2,    0.42,2,   2.221,2,   1.439,2,   2.1398,2,  2061.3,2,  2274.2,2,   7.8872,2,    25.01,2, -999.00,9,  -999.0,9, -999.00,1, -999.00,1,       11.1,2, 20220529,       43,  29.9998, 178.5944,    15.5362,2,     -999.0,9,     -999.0,9,     -999.0,9,     -999.0,9,     0.0122,1,     4.6857,1,     -999.0,9,     -999.0,9,     -999.0,9
33RR20220430,        P02,      82,          1,         29,         29,2,20220528,       2253,    29.9998,   178.5944,       4913,   267.1,2,  14.4346,2,  34.5093,2,  34.4999,2,    208.9,2,   209.4,2,    8.30,2,    7.92,2,    0.00,2,    0.55,2,   2.336,6,   1.502,6,   2.1170,6,  2074.8,2,  2271.2,2,   7.8549,2,    25.02,2, -999.00,9,  -999.0,9, -999.00,1, -999.00,1,       13.0,6, 20220529,       41,  29.9998, 178.5944,    14.4318,2,     -999.0,9,     -999.0,9,     -999.0,9,     -999.0,9,     0.0122,1,     4.6885,1,     -999.0,9,     -999.0,9,     -999.0,9
33RR20220430,        P02,      82,          1,         28,         28,2,20220528,       2253,    29.9998,   178.5944,       4913,   318.2,2,  13.3738,2,  34.4268,2,  34.4124,2,    209.1,2,   209.9,2,   10.85,2,    9.79,2,    0.00,2,    0.67,2,   2.414,2,   1.569,2,   2.0717,2,  -999.0,9,  -999.0,9,-999.0000,9,  -999.00,9, -999.00,9,  -999.0,9, -999.00,1, -999.00,1,       13.5,2, 20220529,       39,  29.9998, 178.5944,    13.3793,2,     -999.0,9,     -999.0,9,     -999.0,9,     -999.0,9,     0.0122,1,     4.6910,1,     -999.0,9,     -999.0,9,     -999.0,9
33RR20220430,        P02,      82,          1,         27,         27,2,20220528,       2253,    29.9998,   178.5944,       4913,   368.7,2,  12.5533,2,  34.3646,2,  34.3568,2,    208.4,2,   209.1,2,   13.09,2,   11.23,2,    0.00,2,    0.77,2,   2.493,2,   1.640,2,   2.0855,2,  2093.9,2,  2269.2,2,   7.8043,2,    25.01,2, -999.00,9,  -999.0,9, -999.00,1, -999.00,1,       14.2,2, 20220529,       37,  29.9998, 178.5944,    12.5616,2,     -999.0,9,     -999.0,9,     -999.0,9,     -999.0,9,     0.0122,1,     4.6922,1,     -999.0,9,     -999.0,9,     -999.0,9
33RR20220430,        P02,      82,          1,         26,         26,2,20220528,       2253,    29.9998,   178.5944,       4913,   419.8,2,  11.4629,2,  34.2748,2,  34.2679,2,    206.0,2,   206.9,2,   16.51,2,   13.40,2,    0.00,2,    0.92,2,   2.593,2,   1.665,2,   1.9915,2,  2108.2,2,  2267.6,2,   7.7712,2,    25.01,2, -999.00,9,  -999.0,9, -999.00,1, -999.00,1,       15.6,2, 20220529,       35,  29.9998, 178.5944,    11.4672,2,     -999.0,9,     -999.0,9,     -999.0,9,     -999.0,9,     0.0122,1,     4.6943,1,     -999.0,9,     -999.0,9,     -999.0,9
33RR20220430,        P02,      82,          1,         25,         25,2,20220528,       2253,    29.9998,   178.5944,       4913,   467.7,2,  10.1955,2,  34.1774,2,  34.1705,2,    197.6,2,   198.9,2,   22.28,2,   16.51,2,    0.00,2,    1.14,2,   2.683,2,   1.700,2,   1.6925,2,  -999.0,9,  -999.0,9,-999.0000,9,  -999.00,9, -999.00,9,  -999.0,9, -999.00,9, -999.00,9,       17.7,2, 20220529,       34,  29.9998, 178.5944,    10.1838,2,     -999.0,9,     -999.0,9,     -999.0,9,     -999.0,9,     0.0122,1,     4.6958,1,     -999.0,9,     -999.0,9,     -999.0,9
33RR20220430,        P02,      82,          1,         24,         24,2,20220528,       2253,    29.9998,   178.5944,       4913,   539.7,2,   8.8380,2,  34.0925,3,  34.0819,2,    179.5,2,   178.9,2,   31.96,2,   21.02,2,    0.00,2,    1.45,2,   2.588,2,   1.636,2,   1.3564,2,  2159.5,2,  2270.9,2,   7.6540,2,    25.02,2, -999.00,9,  -999.0,9, -999.00,1, -999.00,1,       21.4,2, 20220529,       32,  29.9998, 178.5944,     8.8337,2,     -999.0,9,     -999.0,9,     -999.0,9,     -999.0,9,     0.0122,1,     4.6980,1,     -999.0,9,     -999.0,9,     -999.0,9
33RR20220430,        P02,      82,          1,         23,         23,2,20220528,       2253,    29.9998,   178.5944,       4913,   640.9,2,   6.8117,2,  34.0270,2,  34.0227,2,    137.0,2,   136.0,2,   52.87,2,   28.68,2,    0.00,2,    2.01,2,   2.143,2,   1.357,2,   0.9211,2,  2213.2,2,  2285.9,2,   7.5328,2,    25.03,2, -999.00,9,  -999.0,9, -999.00,1, -999.00,1,       28.9,2, 20220529,       29,  29.9998, 178.5944,     6.8108,2,     -999.0,9,     -999.0,9,     -999.0,9,     -999.0,9,     0.0132,1,     4.6985,1,     -999.0,9,     -999.0,9,     -999.0,9
33RR20220430,        P02,      82,          1,         22,         22,2,20220528,       2253,    29.9998,   178.5944,       4913,   744.1,2,   5.6305,2,  34.0576,2,  34.0544,2,     96.2,2,    95.6,2,   71.83,2,   34.52,2,    0.00,2,    2.42,2,   1.578,2,   0.982,2,   0.6732,2,  2260.3,2,  2298.9,2,   7.4402,2,    25.00,2, -999.00,9,  -999.0,9, -999.00,9, -999.00,9,       36.5,2, 20220529,       26,  29.9998, 178.5944,     5.6375,2,     -999.0,9,     -999.0,9,     -999.0,9,     -999.0,9,     0.0134,1,     4.6987,1,     -999.0,9,     -999.0,9,     -999.0,9
33RR20220430,        P02,      82,          1,         21,         21,2,20220528,       2253,    29.9998,   178.5944,       4913,   843.5,2,   4.7221,2,  34.1334,2,  34.1348,2,     61.4,3,    60.7,2,   92.45,2,   39.01,2,    0.00,2,    2.75,2,   0.919,2,   0.581,2,   0.1154,2,  2304.4,2,  2320.6,2,   7.3702,2,    25.02,2, -999.00,9,  -999.0,9, -999.00,1, -999.00,1,       44.2,2, 20220529,       24,  29.9998, 178.5944,     4.7285,2,     -999.0,9,     -999.0,9,     -999.0,9,     -999.0,9,     0.0125,1,     4.6982,1,     -999.0,9,     -999.0,9,     -999.0,9
33RR20220430,        P02,      82,          1,         20,         20,2,20220528,       2253,    29.9998,   178.5944,       4913,   944.8,2,   4.1720,2,  34.2083,2,  34.2077,2,     43.0,2,    43.0,2,  106.71,2,   41.20,2,    0.00,2,    2.89,2,   0.560,2,   0.349,2,   0.0801,2,  -999.0,9,  -999.0,9,-999.0000,9,  -999.00,9, -999.00,9,  -999.0,9, -999.00,9, -999.00,9,       48.2,2, 20220529,       21,  29.9998, 178.5944,     4.1722,2,     -999.0,9,     -999.0,9,     -999.0,9,     -999.0,9,     0.0134,1,     4.6995,1,     -999.0,9,     -999.0,9,     -999.0,9
33RR20220430,        P02,      82,          1,         19,         19,2,20220528,       2253,    29.9998,   178.5944,       4913,  1044.7,2,   3.6760,2,  34.3125,2,  34.3089,2,     27.3,3,    27.9,2,  121.26,2,   42.98,2,    0.00,2,    3.02,2,   0.192,2,   0.117,2,   0.0000,2,  2353.1,2,  2356.0,2,   7.3259,2,    25.00,2, -999.00,9,  -999.0,9, -999.00,1, -999.00,1,       52.2,2, 20220529,       18,  29.9998, 178.5944,     3.6856,2,     -999.0,9,     -999.0,9,     -999.0,9,     -999.0,9,     0.0134,1,     4.7000,1,     -999.0,9,     -999.0,9,     -999.0,9
33RR20220430,        P02,      82,          1,         18,         18,2,20220528,       2253,    29.9998,   178.5944,       4913,  1145.7,2,   3.4293,2,  34.3617,2,  34.3631,2,     26.4,3,    26.8,2,  129.27,2,   43.43,2,    0.00,2,    3.07,2,   0.107,2,   0.063,2,   0.0000,2,  -999.0,9,  -999.0,9,-999.0000,9,  -999.00,9, -999.00,9,  -999.0,9, -999.00,9, -999.00,9,       52.2,2, 20220529,       16,  29.9998, 178.5944,     3.4294,2,     -999.0,9,     -999.0,9,     -999.0,9,     -999.0,9,     0.0134,1,     4.7000,1,     -999.0,9,     -999.0,9,     -999.0,9
33RR20220430,        P02,      82,          1,         17,         17,2,20220528,       2253,    29.9998,   178.5944,       4913,  1247.0,2,   3.0597,2,  34.4175,2,  34.4145,2,     24.4,2,    24.6,2,  140.21,2,   43.93,2,    0.00,2,    3.09,2,   0.059,2,   0.039,2,   0.0000,2,  2375.1,6,  2380.9,2,   7.3265,2,    25.01,2, -999.00,9,  -999.0,9, -999.00,1, -999.00,1,       50.1,2, 20220529,       13,  29.9998, 178.5945,     3.0592,2,     -999.0,9,     -999.0,9,     -999.0,9,     -999.0,9,     0.0134,1,     4.6993,1,     -999.0,9,     -999.0,9,     -999.0,9
33RR20220430,        P02,      82,          1,         16,         16,2,20220528,       2253,    29.9998,   178.5944,       4913,  1349.2,2,   2.8756,2,  34.4531,2,  34.4546,2,     27.5,2,    27.6,2,  145.67,2,   43.86,2,    0.00,2,    3.09,2,   0.035,2,   0.022,2,   0.0000,2,  2377.7,2,  2387.4,2,   7.3349,2,    25.00,2, -999.00,9,  -999.0,9, -999.00,9, -999.00,9,       51.8,2, 20220529,       10,  29.9998, 178.5944,     2.8753,2,     -999.0,9,     -999.0,9,     -999.0,9,     -999.0,9,     0.0134,1,     4.6995,1,     -999.0,9,     -999.0,9,     -999.0,9
33RR20220430,        P02,      82,          1,         15,         15,2,20220528,       2253,    29.9998,   178.5944,       4913,  1451.2,2,   2.6847,2,  34.4877,2,  34.4864,2,     32.8,2,    32.6,2,  150.65,2,   43.73,2,    0.00,2,    3.06,2,   0.022,2,   0.010,2,   0.0000,2,  -999.0,9,  -999.0,9,-999.0000,9,  -999.00,9, -999.00,9,  -999.0,9, -999.00,1, -999.00,1,       48.8,2, 20220529,        7,  29.9998, 178.5944,     2.6863,2,     -999.0,9,     -999.0,9,     -999.0,9,     -999.0,9,     0.0134,1,     4.7000,1,     -999.0,9,     -999.0,9,     -999.0,9
33RR20220430,        P02,      82,          1,         14,         14,2,20220528,       2253,    29.9998,   178.5944,       4913,  1587.0,2,   2.4583,2,  34.5221,2,  34.5227,2,     40.8,2,    41.1,2,  156.22,2,   43.23,2,    0.00,2,    3.02,2,-999.000,9,-999.000,9,-999.0000,9,  2381.8,2,  2400.2,2,   7.3658,2,    25.03,2, -999.00,9,  -999.0,9, -999.00,9, -999.00,9,     -999.0,9, 20220529,        4,  29.9998, 178.5944,     2.4559,2,     -999.0,9,     -999.0,9,     -999.0,9,     -999.0,9,     0.0134,1,     4.7007,1,     -999.0,9,     -999.0,9,     -999.0,9
33RR20220430,        P02,      82,          1,         13,         13,2,20220528,       2253,    29.9998,   178.5944,       4913,  1687.0,2,   2.2881,2,  34.5517,2,  34.5512,2,     50.9,2,    51.4,2,  159.44,2,   42.70,2,    0.00,2,    2.98,2,   0.008,2,   0.000,2,   0.0000,2,  2380.3,2,  2405.8,2,   7.3874,2,    25.04,2, -999.00,9,  -999.0,9, -999.00,1, -999.00,1,       40.9,2, 20220529,        1,  29.9998, 178.5944,     2.2878,2,     -999.0,9,     -999.0,9,     -999.0,9,     -999.0,9,     0.0134,1,     4.7009,1,     -999.0,9,     -999.0,9,     -999.0,9
33RR20220430,        P02,      82,          1,         12,         12,2,20220528,       2253,    29.9998,   178.5944,       4913,  1890.2,2,   2.0754,2,  34.5845,2,  34.5849,2,     66.3,2,    66.8,2,  162.56,2,   41.76,2,    0.00,2,    2.89,2,-999.000,9,-999.000,9,-999.0000,9,  -999.0,9,  -999.0,9,-999.0000,9,  -999.00,9, -999.00,9,  -999.0,9, -999.00,9, -999.00,9,     -999.0,9, 20220528,     2356,  29.9998, 178.5944,     2.0736,2,     -999.0,9,     -999.0,9,     -999.0,9,     -999.0,9,     0.0134,1,     4.7026,1,     -999.0,9,     -999.0,9,     -999.0,9
33RR20220430,        P02,      82,          1,         11,         11,2,20220528,       2253,    29.9998,   178.5944,       4913,  2114.6,2,   1.8717,2,  34.6127,2,  34.6119,2,     83.3,2,    83.9,2,  164.22,2,   40.71,2,    0.00,2,    2.81,2,   0.004,2,   0.000,2,   0.0000,2,  2367.8,2,  2416.4,2,   7.4504,2,    25.01,2, -999.00,9,  -999.0,9, -999.00,1, -999.00,1,       32.0,2, 20220528,     2351,  29.9998, 178.5944,     1.8725,2,     -999.0,9,     -999.0,9,     -999.0,9,     -999.0,9,     0.0134,1,     4.7031,1,     -999.0,9,     -999.0,9,     -999.0,9
33RR20220430,        P02,      82,          1,         10,         10,2,20220528,       2253,    29.9998,   178.5944,       4913,  2368.6,2,   1.7288,2,  34.6324,3,  34.6303,2,     98.5,2,    98.0,2,  163.92,2,   39.77,2,    0.00,2,    2.75,2,-999.000,9,-999.000,9,-999.0000,9,  -999.0,9,  -999.0,9,-999.0000,9,  -999.00,9, -999.00,9,  -999.0,9, -999.00,9, -999.00,9,     -999.0,9, 20220528,     2346,  29.9998, 178.5944,     1.7282,2,     -999.0,9,     -999.0,9,     -999.0,9,     -999.0,9,     0.0134,1,     4.7042,1,     -999.0,9,     -999.0,9,     -999.0,9
33RR20220430,        P02,      82,          1,          9,          9,2,20220528,       2253,    29.9998,   178.5944,       4913,  2622.6,2,   1.6296,2,  34.6470,2,  34.6472,2,    111.3,2,   111.2,2,  162.45,2,   38.90,2,    0.00,2,    2.68,2,   0.005,2,   0.000,2,   0.0000,2,  2351.7,2,  2418.4,2,   7.5029,2,    25.01,2, -999.00,9,  -999.0,9, -999.00,1, -999.00,1,       27.0,2, 20220528,     2340,  29.9998, 178.5944,     1.6293,2,     -999.0,9,     -999.0,9,     -999.0,9,     -999.0,9,     0.0122,1,     4.7044,1,     -999.0,9,     -999.0,9,     -999.0,9
33RR20220430,        P02,      82,          1,          8,          8,2,20220528,       2253,    29.9998,   178.5944,       4913,  2877.8,2,   1.5551,2,  34.6582,2,  34.6570,2,    122.2,2,   122.4,2,  160.60,2,   38.22,2,    0.00,2,    2.62,2,-999.000,9,-999.000,9,-999.0000,9,  -999.0,9,  -999.0,9,-999.0000,9,  -999.00,9, -999.00,9,  -999.0,9, -999.00,9, -999.00,9,     -999.0,9, 20220528,     2335,  29.9998, 178.5944,     1.5549,2,     -999.0,9,     -999.0,9,     -999.0,9,     -999.0,9,     0.0122,1,     4.7040,1,     -999.0,9,     -999.0,9,     -999.0,9
33RR20220430,        P02,      82,          1,          7,          7,2,20220528,       2253,    29.9998,   178.5944,       4913,  3147.2,2,   1.5115,2,  34.6663,2,  34.6671,2,    130.6,2,   130.6,2,  158.64,2,   37.66,2,    0.00,2,    2.57,2,   0.004,2,   0.000,2,   0.0000,2,  2340.1,2,  2418.7,2,   7.5382,2,    25.03,2, -999.00,9,  -999.0,9, -999.00,1, -999.00,1,       24.2,2, 20220528,     2330,  29.9998, 178.5944,     1.5112,2,     -999.0,9,     -999.0,9,     -999.0,9,     -999.0,9,     0.0122,1,     4.7054,1,     -999.0,9,     -999.0,9,     -999.0,9
33RR20220430,        P02,      82,          1,          6,          6,2,20220528,       2253,    29.9998,   178.5944,       4913,  3453.5,2,   1.4746,2,  34.6739,3,  34.6718,2,    139.0,2,   138.5,2,  156.88,2,   37.10,2,    0.00,2,    2.53,2,-999.000,9,-999.000,9,-999.0000,9,  -999.0,9,  -999.0,9,-999.0000,9,  -999.00,9, -999.00,9,  -999.0,9, -999.00,9, -999.00,9,     -999.0,9, 20220528,     2324,  29.9998, 178.5944,     1.4748,2,     -999.0,9,     -999.0,9,     -999.0,9,     -999.0,9,     0.0121,1,     4.7051,1,     -999.0,9,     -999.0,9,     -999.0,9
33RR20220430,        P02,      82,          1,          5,          5,2,20220528,       2253,    29.9998,   178.5944,       4913,  3761.3,2,   1.4614,2,  34.6790,2,  34.6781,2,    144.8,2,   144.7,2,  155.03,2,   36.70,2,    0.00,2,    2.51,2,   0.005,2,   0.000,2,   0.0000,2,  2331.4,2,  2418.3,2,   7.5634,2,    25.03,2, -999.00,9,  -999.0,9, -999.00,1, -999.00,1,       22.4,2, 20220528,     2318,  29.9998, 178.5944,     1.4613,2,     -999.0,9,     -999.0,9,     -999.0,9,     -999.0,9,     0.0128,1,     4.7056,1,     -999.0,9,     -999.0,9,     -999.0,9
33RR20220430,        P02,      82,          1,          4,          4,2,20220528,       2253,    29.9998,   178.5944,       4913,  4068.1,2,   1.4613,2,  34.6827,2,  34.6810,2,    149.3,2,   149.5,2,  153.76,2,   36.39,2,    0.00,2,    2.49,2,-999.000,9,-999.000,9,-999.0000,9,  -999.0,9,  -999.0,9,-999.0000,9,  -999.00,9, -999.00,9,  -999.0,9, -999.00,9, -999.00,9,     -999.0,9, 20220528,     2312,  29.9998, 178.5944,     1.4612,2,     -999.0,9,     -999.0,9,     -999.0,9,     -999.0,9,     0.0123,1,     4.7058,1,     -999.0,9,     -999.0,9,     -999.0,9