BOTTLE,20230801CCHSIOCBG
EXPOCODE,SECT_ID,STNNBR,CASTNO,SAMPNO,BTLNBR,BTLNBR_FLAG_W,DATE,TIME,LATITUDE,LONGITUDE,DEPTH,CTDPRS,CTDPRS_FLAG_W,CTDTMP,CTDTMP_FLAG_W,CTDSAL,CTDSAL_FLAG_W,SALNTY,SALNTY_FLAG_W,CTDOXY,CTDOXY_FLAG_W,OXYGEN,OXYGEN_FLAG_W,SILCAT,SILCAT_FLAG_W,NITRAT,NITRAT_FLAG_W,NITRIT,NITRIT_FLAG_W,PHSPHT,PHSPHT_FLAG_W,CFC-11,CFC-11_FLAG_W,CFC-12,CFC-12_FLAG_W,SF6,SF6_FLAG_W,TCARBN,TCARBN_FLAG_W,ALKALI,ALKALI_FLAG_W,PH_TOT,PH_TOT_FLAG_W,PH_TMP,PH_TMP_FLAG_W,DELC13,DELC13_FLAG_W,DELC14,DELC14_FLAG_W,DOC,DOC_FLAG_W,TDN,TDN_FLAG_W,N2O,N2O_FLAG_W,BTL_DATE,BTL_TIME,BTL_LAT,BTL_LON,REFTMP,REFTMP_FLAG_W,POC,POC_FLAG_W,PON,PON_FLAG_W,POP,POP_FLAG_W,PCOD,PCOD_FLAG_W,CTDFLUOR,CTDFLUOR_FLAG_W,CTDXMISS,CTDXMISS_FLAG_W,HPLC,HPLC_FLAG_W,DNA,DNA_FLAG_W,FCM,FCM_FLAG_W
,,,,,,,,,,,METERS,DBAR,,ITS-90,,PSS-78,,PSS-78,,UMOL/KG,,UMOL/KG,,UMOL/KG,,UMOL/KG,,UMOL/KG,,UMOL/KG,,PMOL/KG,,PMOL/KG,,FMOL/KG,,UMOL/KG,,UMOL/KG,,,,DEG C,,/MILLE,,/MILLE,,UMOL/KG,,UMOL/KG,,NMOL/KG,,,,,,ITS-90,,UG/L,,UG/L,,UG/L,,UG/L,,VOLTS,,VOLTS,,,,,,,
33RR20220430,        P02,      37,          1,         36,         36,2,20220514,       2153,    30.0000,   152.6001,       5921,     4.5,2,  20.8851,2,  34.6271,2,  34.6238,2,    232.4,3,   229.3,2,    0.68,2,    0.03,2,    0.00,2,    0.02,2,   2.015,2,   1.218,2,   2.0162,2,  2010.9,2,  2271.3,2,   7.9903,2,    25.01,2, -999.00,9,  -999.0,9, -999.00,1, -999.00,1,        6.9,2, 20220515,       12,  30.0000, 152.6001,    20.8931,2,     -999.0,9,     -999.0,9,     -999.0,9,     -999.0,9,     0.0135,1,     4.6167,1,     -999.0,9,     -999.0,9,     -999.0,9
33RR20220430,        P02,      37,          1,         35,         35,2,20220514,       2153,    30.0000,   152.6001,       5921,    35.8,2,  19.6467,2,  34.7646,2,  34.7626,2,    233.8,2,   233.7,2,    0.78,2,    0.01,2,    0.00,2,    0.00,2,   2.055,2,   1.265,2,   2.1505,2,  2018.3,2,  2279.8,2,   7.9918,2,    25.00,2, -999.00,9,  -999.0,9, -999.00,1, -999.00,1,        7.1,2, 20220515,       10,  30.0000, 152.6001,    19.6467,2,     -999.0,9,     -999.0,9,     -999.0,9,     -999.0,9,     0.0147,1,     4.6346,1,     -999.0,9,     -999.0,9,     -999.0,9
33RR20220430,        P02,      37,          1,         34,         34,2,20220514,       2153,    30.0000,   152.6001,       5921,    61.1,2,  18.3037,2,  34.7797,2,  34.7699,2,    236.4,2,   236.9,2,    0.88,2,    0.02,2,    0.01,2,    0.01,2,   2.171,2,   1.332,2,   2.0016,2,  2021.4,2,  2282.6,2,   7.9880,2,    25.01,2, -999.00,9,  -999.0,9, -999.00,1, -999.00,1,        7.7,2, 20220515,        8,  30.0000, 152.6001,    18.2968,2,     -999.0,9,     -999.0,9,     -999.0,9,     -999.0,9,     0.0359,1,     4.6158,1,     -999.0,9,     -999.0,9,     -999.0,9
33RR20220430,        P02,      37,          1,         33,         33,2,20220514,       2153,    30.0000,   152.6001,       5921,    86.5,2,  17.7103,2,  34.7470,2,  34.7412,2,    230.6,2,   230.7,2,    1.27,2,    0.99,2,    0.35,2,    0.08,2,   2.191,2,   1.318,2,   2.0940,2,  2028.9,2,  2278.9,2,   7.9697,2,    25.01,2, -999.00,9,  -999.0,9, -999.00,1, -999.00,1,        9.0,2, 20220515,        6,  30.0000, 152.6001,    17.7143,2,     -999.0,9,     -999.0,9,     -999.0,9,     -999.0,9,     0.0454,1,     4.6227,1,     -999.0,9,     -999.0,9,     -999.0,9
33RR20220430,        P02,      37,          1,         32,         32,2,20220514,       2153,    30.0000,   152.6001,       5921,   117.4,2,  17.3128,2,  34.7306,2,  34.7245,2,    222.7,2,   222.2,2,    2.05,2,    2.87,2,    0.01,2,    0.18,2,   2.175,2,   1.343,2,   2.1520,2,  2036.1,2,  2276.8,2,   7.9515,2,    24.99,2, -999.00,9,  -999.0,9, -999.00,1, -999.00,1,        9.1,2, 20220515,        4,  30.0000, 152.6001,    17.3125,2,     -999.0,9,     -999.0,9,     -999.0,9,     -999.0,9,     0.0208,1,     4.6687,1,     -999.0,9,     -999.0,9,     -999.0,9
33RR20220430,        P02,      37,          1,         31,         31,2,20220514,       2153,    30.0000,   152.6001,       5921,   166.7,2,  16.9573,2,  34.7222,2,  34.7164,2,    220.4,2,   220.3,2,    2.64,2,    3.61,2,    0.00,2,    0.22,2,   2.173,2,   1.348,2,   2.1424,2,  2038.0,2,  2279.2,2,   7.9417,2,    24.99,2, -999.00,9,  -999.0,9, -999.00,1, -999.00,1,        9.2,2, 20220515,        2,  30.0000, 152.6001,    16.9584,2,     -999.0,9,     -999.0,9,     -999.0,9,     -999.0,9,     0.0122,1,     4.6844,1,     -999.0,9,     -999.0,9,     -999.0,9
33RR20220430,        P02,      37,          1,         30,         30,2,20220514,       2153,    30.0000,   152.6001,       5921,   216.4,2,  16.6288,2,  34.7035,2,  34.6973,2,    222.5,2,   222.9,2,    3.13,2,    3.85,2,    0.00,2,    0.23,2,   2.194,2,   1.363,2,   2.2234,2,  2039.0,2,  2277.3,2,   7.9371,2,    25.00,2, -999.00,9,  -999.0,9, -999.00,1, -999.00,1,        9.3,2, 20220515,        0,  30.0000, 152.6001,    16.6271,2,     -999.0,9,     -999.0,9,     -999.0,9,     -999.0,9,     0.0130,1,     4.6861,1,     -999.0,9,     -999.0,9,     -999.0,9
33RR20220430,        P02,      37,          1,         29,         29,2,20220514,       2153,    30.0000,   152.6001,       5921,   266.9,2,  16.3361,2,  34.6904,2,  34.6855,2,    217.4,2,   218.4,2,    4.10,2,    4.72,2,    0.00,2,    0.29,2,   2.241,2,   1.374,2,   2.2119,2,  2047.7,2,  2277.4,2,-999.0000,9,    24.99,2, -999.00,9,  -999.0,9, -999.00,1, -999.00,1,        9.9,2, 20220514,     2358,  30.0000, 152.6001,    16.3327,2,     -999.0,9,     -999.0,9,     -999.0,9,     -999.0,9,     0.0122,1,     4.6884,1,     -999.0,9,     -999.0,9,     -999.0,9
33RR20220430,        P02,      37,          1,         28,         28,2,20220514,       2153,    30.0000,   152.6001,       5921,   317.3,2,  15.8293,2,  34.6722,2,  34.6639,2,    220.2,2,   219.6,2,    5.08,2,    5.38,2,    0.00,2,    0.33,2,   2.288,2,   1.397,2,   2.1089,2,  -999.0,9,  -999.0,9,-999.0000,9,  -999.00,9, -999.00,9,  -999.0,9, -999.00,1, -999.00,1,       10.5,2, 20220514,     2356,  30.0000, 152.6001,    15.8270,2,     -999.0,9,     -999.0,9,     -999.0,9,     -999.0,9,     0.0122,1,     4.6889,1,     -999.0,9,     -999.0,9,     -999.0,9
33RR20220430,        P02,      37,          1,         27,         27,2,20220514,       2153,    30.0000,   152.6001,       5921,   374.3,2,  14.4125,2,  34.5326,2,  34.5290,2,    189.8,2,   190.3,2,   11.43,2,   10.33,2,    0.00,2,    0.67,2,   2.362,2,   1.426,2,   1.7410,2,  2088.2,2,  2274.3,2,   7.7803,2,    25.01,2, -999.00,9,  -999.0,9, -999.00,1, -999.00,1,       14.6,2, 20220514,     2354,  30.0000, 152.6001,    14.4154,2,     -999.0,9,     -999.0,9,     -999.0,9,     -999.0,9,     0.0122,1,     4.6910,1,     -999.0,9,     -999.0,9,     -999.0,9
33RR20220430,        P02,      37,          1,         26,         26,2,20220514,       2153,    30.0000,   152.6001,       5921,   445.2,2,  12.6372,2,  34.3987,2,  34.3929,2,    186.2,2,   187.1,2,   16.90,2,   13.54,2,    0.00,2,    0.91,2,   2.500,2,   1.493,2,   1.5946,2,  2111.2,2,  2273.1,2,   7.7818,2,    25.03,2, -999.00,9,  -999.0,9, -999.00,1, -999.00,1,       16.6,2, 20220514,     2352,  30.0000, 152.6001,    12.6383,2,     -999.0,9,     -999.0,9,     -999.0,9,     -999.0,9,     0.0122,1,     4.6955,1,     -999.0,9,     -999.0,9,     -999.0,9
33RR20220430,        P02,      37,          1,         25,         25,2,20220514,       2153,    30.0000,   152.6001,       5921,   545.9,2,   9.6997,2,  34.1814,2,  34.1752,2,    179.7,2,   179.8,2,   30.00,2,   19.04,2,    0.00,2,    1.33,2,   2.632,6,   1.524,6,   1.6374,6,  2152.5,2,  2276.4,2,   7.6879,2,    24.99,2, -999.00,9,  -999.0,9, -999.00,1, -999.00,1,       21.6,6, 20220514,     2349,  30.0000, 152.6001,     9.6991,2,     -999.0,9,     -999.0,9,     -999.0,9,     -999.0,9,     0.0122,1,     4.6986,1,     -999.0,9,     -999.0,9,     -999.0,9
33RR20220430,        P02,      37,          1,         24,         24,2,20220514,       2153,    30.0000,   152.6001,       5921,   647.0,2,   6.7426,2,  34.0091,2,  34.0078,2,    147.0,2,   146.4,2,   51.40,2,   27.39,2,    0.00,2,    1.93,2,   2.465,2,   1.395,2,   1.2352,2,  -999.0,9,  -999.0,9,-999.0000,9,  -999.00,9, -999.00,9,  -999.0,9, -999.00,9, -999.00,9,       30.2,2, 20220514,     2347,  30.0000, 152.6001,     6.7404,2,     -999.0,9,     -999.0,9,     -999.0,9,     -999.0,9,     0.0122,1,     4.7044,1,     -999.0,9,     -999.0,9,     -999.0,9
33RR20220430,        P02,      37,          1,         23,         23,2,20220514,       2153,    30.0000,   152.6001,       5921,   748.0,2,   5.3247,2,  34.0593,2,  34.0578,2,     95.9,2,    96.0,2,   75.54,2,   34.33,2,    0.00,2,    2.42,2,   1.736,2,   0.966,2,   0.7519,2,  2268.5,2,  2302.4,2,   7.4351,2,    24.99,2, -999.00,9,  -999.0,9, -999.00,1, -999.00,1,       37.5,2, 20220514,     2344,  30.0000, 152.6001,     5.3278,2,     -999.0,9,     -999.0,9,     -999.0,9,     -999.0,9,     0.0125,1,     4.7053,1,     -999.0,9,     -999.0,9,     -999.0,9
33RR20220430,        P02,      37,          1,         22,         22,2,20220514,       2153,    30.0000,   152.6001,       5921,   847.8,2,   4.5674,2,  34.1489,2,  34.1503,2,     63.9,2,    63.7,2,   94.78,2,   38.36,2,    0.00,2,    2.73,2,   1.093,2,   0.589,2,   0.3173,2,  -999.0,9,  -999.0,9,-999.0000,9,  -999.00,9, -999.00,9,  -999.0,9, -999.00,9, -999.00,9,       43.0,2, 20220514,     2341,  30.0000, 152.6001,     4.5744,2,     -999.0,9,     -999.0,9,     -999.0,9,     -999.0,9,     0.0134,1,     4.7051,1,     -999.0,9,     -999.0,9,     -999.0,9
33RR20220430,        P02,      37,          1,         21,         21,2,20220514,       2153,    30.0000,   152.6001,       5921,   948.6,2,   3.8895,2,  34.2569,2,  34.2560,2,     41.6,3,    42.2,2,  113.83,2,   41.06,2,    0.00,2,    2.92,2,   0.520,2,   0.278,2,   0.0000,2,  2337.3,2,  2344.3,2,   7.3445,2,    25.00,2, -999.00,9,  -999.0,9, -999.00,1, -999.00,1,       43.4,2, 20220514,     2339,  30.0000, 152.6001,     3.8920,2,     -999.0,9,     -999.0,9,     -999.0,9,     -999.0,9,     0.0134,1,     4.7049,1,     -999.0,9,     -999.0,9,     -999.0,9
33RR20220430,        P02,      37,          1,         20,         20,2,20220514,       2153,    30.0000,   152.6001,       5921,  1049.7,2,   3.5227,2,  34.3162,2,  34.3170,2,     34.7,2,    34.9,2,  125.25,2,   41.63,2,    0.00,2,    2.98,2,   0.335,2,   0.176,2,   0.0000,2,  -999.0,9,  -999.0,9,-999.0000,9,  -999.00,9, -999.00,9,  -999.0,9, -999.00,9, -999.00,9,       49.3,2, 20220514,     2336,  30.0000, 152.6001,     3.5230,2,     -999.0,9,     -999.0,9,     -999.0,9,     -999.0,9,     0.0134,1,     4.7051,1,     -999.0,9,     -999.0,9,     -999.0,9
33RR20220430,        P02,      37,          1,         19,         19,2,20220514,       2153,    30.0000,   152.6001,       5921,  1151.2,2,   3.2750,2,  34.3691,2,  34.3705,2,     32.5,3,    33.2,2,  132.48,2,   42.22,2,    0.00,2,    3.02,2,   0.186,2,   0.103,2,   0.0000,2,  2361.7,2,  2369.3,2,   7.3372,2,    24.99,2, -999.00,9,  -999.0,9, -999.00,1, -999.00,1,       49.8,2, 20220514,     2333,  30.0000, 152.6001,     3.2739,2,     -999.0,9,     -999.0,9,     -999.0,9,     -999.0,9,     0.0134,1,     4.7057,1,     -999.0,9,     -999.0,9,     -999.0,9
33RR20220430,        P02,      37,          1,         18,         18,2,20220514,       2153,    30.0000,   152.6001,       5921,  1253.1,2,   2.9726,2,  34.4243,2,  34.4259,2,     33.5,2,    33.6,2,  141.17,2,   42.51,2,    0.00,2,    3.02,2,   0.095,2,   0.050,2,   0.0000,2,  2372.3,6,  2380.0,2,   7.3432,2,    25.00,2, -999.00,9,  -999.0,9, -999.00,9, -999.00,9,       48.0,2, 20220514,     2330,  30.0000, 152.6001,     2.9730,2,     -999.0,9,     -999.0,9,     -999.0,9,     -999.0,9,     0.0134,1,     4.7056,1,     -999.0,9,     -999.0,9,     -999.0,9
33RR20220430,        P02,      37,          1,         17,         17,2,20220514,       2153,    30.0000,   152.6001,       5921,  1354.4,2,   2.7575,2,  34.4601,2,  34.4599,2,     36.0,2,    36.2,2,  147.22,2,   42.46,2,    0.00,2,    3.02,2,   0.060,2,   0.032,2,   0.0000,2,  2374.5,2,  2386.9,2,   7.3510,2,    25.02,2, -999.00,9,  -999.0,9, -999.00,1, -999.00,1,       47.2,2, 20220514,     2327,  30.0000, 152.6001,     2.7572,2,     -999.0,9,     -999.0,9,     -999.0,9,     -999.0,9,     0.0133,1,     4.7063,1,     -999.0,9,     -999.0,9,     -999.0,9
33RR20220430,        P02,      37,          1,         16,         16,2,20220514,       2153,    30.0000,   152.6001,       5921,  1485.5,2,   2.5294,2,  34.5009,2,  34.5007,2,     43.0,2,    43.2,2,  152.59,2,   42.12,2,    0.00,2,    3.01,2,   0.034,2,   0.016,2,   0.0000,2,  -999.0,9,  -999.0,9,-999.0000,9,  -999.00,9, -999.00,9,  -999.0,9, -999.00,9, -999.00,9,       44.7,2, 20220514,     2324,  30.0000, 152.6001,     2.5295,2,     -999.0,9,     -999.0,9,     -999.0,9,     -999.0,9,     0.0134,1,     4.7070,1,     -999.0,9,     -999.0,9,     -999.0,9
33RR20220430,        P02,      37,          1,         15,         15,2,20220514,       2153,    30.0000,   152.6001,       5921,  1688.3,2,   2.2220,2,  34.5520,2,  34.5521,2,     58.1,2,    57.6,2,  158.83,2,   41.46,2,    0.00,2,    2.94,2,   0.013,2,   0.000,2,   0.0000,2,  2376.5,2,  2404.5,2,   7.3972,2,    25.02,2, -999.00,9,  -999.0,9, -999.00,1, -999.00,1,       39.8,2, 20220514,     2319,  30.0000, 152.6001,     2.2196,2,     -999.0,9,     -999.0,9,     -999.0,9,     -999.0,9,     0.0134,1,     4.7071,1,     -999.0,9,     -999.0,9,     -999.0,9
33RR20220430,        P02,      37,          1,         14,         14,2,20220514,       2153,    30.0000,   152.6001,       5921,  1890.9,2,   2.0182,2,  34.5870,2,  34.5871,2,     74.0,2,    74.2,2,  160.10,2,   40.33,2,    0.00,2,    2.86,2,   0.007,2,   0.000,2,   0.0000,2,  -999.0,9,  -999.0,9,-999.0000,9,  -999.00,9, -999.00,9,  -999.0,9, -999.00,9, -999.00,9,       35.7,2, 20220514,     2315,  30.0000, 152.6001,     2.0194,2,     -999.0,9,     -999.0,9,     -999.0,9,     -999.0,9,     0.0134,1,     4.7081,1,     -999.0,9,     -999.0,9,     -999.0,9
33RR20220430,        P02,      37,          1,         13,         13,2,20220514,       2153,    30.0000,   152.6001,       5921,  2114.3,2,   1.8543,2,  34.6129,2,  34.6130,2,     89.3,2,    88.8,2,  160.58,2,   39.41,2,    0.00,2,    2.79,2,   0.007,2,   0.000,2,   0.0000,2,  2363.4,2,  2411.3,2,   7.4600,2,    25.01,2, -999.00,9,  -999.0,9, -999.00,1, -999.00,1,       32.2,2, 20220514,     2310,  30.0000, 152.6001,     1.8545,2,     -999.0,9,     -999.0,9,     -999.0,9,     -999.0,9,     0.0134,1,     4.7081,1,     -999.0,9,     -999.0,9,     -999.0,9
33RR20220430,        P02,      37,          1,         12,         12,2,20220514,       2153,    30.0000,   152.6001,       5921,  2368.2,2,   1.7205,2,  34.6344,2,  34.6358,2,    105.0,2,   105.0,2,  158.82,2,   38.39,2,    0.00,2,    2.71,2,-999.000,9,-999.000,9,-999.0000,9,  -999.0,9,  -999.0,9,-999.0000,9,  -999.00,9, -999.00,9,  -999.0,9, -999.00,9, -999.00,9,     -999.0,9, 20220514,     2305,  30.0000, 152.6001,     1.7207,2,     -999.0,9,     -999.0,9,     -999.0,9,     -999.0,9,     0.0133,1,     4.7081,1,     -999.0,9,     -999.0,9,     -999.0,9
33RR20220430,        P02,      37,          1,         11,         11,2,20220514,       2153,    30.0000,   152.6001,       5921,  2623.1,2,   1.6451,2,  34.6480,2,  34.6490,2,    117.5,2,   117.8,2,  155.99,2,   37.71,2,    0.00,2,    2.65,2,   0.004,2,   0.000,2,   0.0000,2,  2348.6,2,  2414.7,2,   7.5134,2,    24.97,2, -999.00,9,  -999.0,9, -999.00,1, -999.00,1,       27.9,2, 20220514,     2300,  30.0000, 152.6001,     1.6453,2,     -999.0,9,     -999.0,9,     -999.0,9,     -999.0,9,     0.0122,1,     4.7095,1,     -999.0,9,     -999.0,9,     -999.0,9
33RR20220430,        P02,      37,          1,         10,         10,2,20220514,       2153,    30.0000,   152.6001,       5921,  2877.9,2,   1.5837,2,  34.6584,3,  34.6614,2,    126.8,2,   126.9,2,  154.52,2,   37.18,2,    0.00,2,    2.60,2,-999.000,9,-999.000,9,-999.0000,9,  2343.0,2,  2415.7,2,   7.5295,2,    25.02,2, -999.00,9,  -999.0,9, -999.00,1, -999.00,1,     -999.0,9, 20220514,     2255,  30.0000, 152.6001,     1.5840,2,     -999.0,9,     -999.0,9,     -999.0,9,     -999.0,9,     0.0122,1,     4.7093,1,     -999.0,9,     -999.0,9,     -999.0,9
33RR20220430,        P02,      37,          1,          9,          9,2,20220514,       2153,    30.0000,   152.6001,       5921,  3148.2,2,   1.5310,2,  34.6672,2,  34.6667,2,    135.4,2,   136.6,2,  152.76,2,   36.42,2,    0.00,2,    2.56,2,   0.005,2,   0.000,2,   0.0000,2,  2337.5,2,  2415.7,2,   7.5449,2,    25.02,2, -999.00,9,  -999.0,9, -999.00,1, -999.00,1,       25.0,2, 20220514,     2249,  30.0000, 152.6001,     1.5314,2,     -999.0,9,     -999.0,9,     -999.0,9,     -999.0,9,     0.0131,1,     4.7096,1,     -999.0,9,     -999.0,9,     -999.0,9
33RR20220430,        P02,      37,          1,          8,          8,2,20220514,       2153,    30.0000,   152.6001,       5921,  3454.5,2,   1.4958,2,  34.6739,2,  34.6732,2,    142.4,2,   142.2,2,  151.10,2,   35.98,2,    0.00,2,    2.52,2,-999.000,9,-999.000,9,-999.0000,9,  -999.0,9,  -999.0,9,-999.0000,9,  -999.00,9, -999.00,9,  -999.0,9, -999.00,9, -999.00,9,     -999.0,9, 20220514,     2243,  30.0000, 152.6001,     1.4958,2,     -999.0,9,     -999.0,9,     -999.0,9,     -999.0,9,     0.0122,1,     4.7094,1,     -999.0,9,     -999.0,9,     -999.0,9
33RR20220430,        P02,      37,          1,          7,          7,2,20220514,       2153,    30.0000,   152.6001,       5921,  3762.3,2,   1.4775,2,  34.6789,2,  34.6794,2,    147.9,2,   147.9,2,  149.54,2,   35.80,2,    0.00,2,    2.50,2,   0.006,2,   0.000,2,   0.0000,2,  2326.5,2,  2414.7,2,   7.5659,2,    25.00,2, -999.00,9,  -999.0,9, -999.00,1, -999.00,1,       24.0,2, 20220514,     2237,  30.0000, 152.6001,     1.4774,2,     -999.0,9,     -999.0,9,     -999.0,9,     -999.0,9,     0.0122,1,     4.7096,1,     -999.0,9,     -999.0,9,     -999.0,9
33RR20220430,        P02,      37,          1,          6,          6,2,20220514,       2153,    30.0000,   152.6001,       5921,  4119.8,2,   1.4681,2,  34.6832,2,  34.6836,2,    153.2,2,   153.0,2,  148.37,2,   35.23,2,    0.00,2,    2.48,2,-999.000,9,-999.000,9,-999.0000,9,  -999.0,9,  -999.0,9,-999.0000,9,  -999.00,9, -999.00,9,  -999.0,9, -999.00,9, -999.00,9,     -999.0,9, 20220514,     2230,  30.0000, 152.6001,     1.4679,2,     -999.0,9,     -999.0,9,     -999.0,9,     -999.0,9,     0.0122,1,     4.7091,1,     -999.0,9,     -999.0,9,     -999.0,9
33RR20220430,        P02,      37,          1,          5,          5,2,20220514,       2153,    30.0000,   152.6001,       5921,  4376.8,2,   1.4717,2,  34.6857,2,  34.6855,2,    156.6,2,   156.4,2,  147.10,2,   35.14,2,    0.00,2,    2.46,2,   0.007,2,   0.000,2,   0.0000,2,  2319.8,2,  2412.1,2,   7.5791,2,    25.01,2, -999.00,9,  -999.0,9, -999.00,1, -999.00,1,       23.1,2, 20220514,     2224,  30.0000, 152.6001,     1.4715,2,     -999.0,9,     -999.0,9,     -999.0,9,     -999.0,9,     0.0122,1,     4.7093,1,     -999.0,9,     -999.0,9,     -999.0,9
33RR20220430,        P02,      37,          1,          4,          4,2,20220514,       2153,    30.0000,   152.6001,       5921,  4720.1,2,   1.4859,2,  34.6881,2,  34.6877,2,    160.5,2,   160.3,2,  144.75,2,   34.64,2,    0.00,2,    2.42,2,-999.000,9,-999.000,9,-999.0000,9,  -999.0,9,  -999.0,9,-999.0000,9,  -999.00,9, -999.00,9,  -999.0,9, -999.00,9, -999.00,9,     -999.0,9, 20220514,     2218,  30.0000, 152.6002,     1.4856,2,     -999.0,9,     -999.0,9,     -999.0,9,     -999.0,9,     0.0131,1,     4.7093,1,     -999.0,9,     -999.0,9,     -999.0,9