BOTTLE,20230801CCHSIOCBG
EXPOCODE,SECT_ID,STNNBR,CASTNO,SAMPNO,BTLNBR,BTLNBR_FLAG_W,DATE,TIME,LATITUDE,LONGITUDE,DEPTH,CTDPRS,CTDPRS_FLAG_W,CTDTMP,CTDTMP_FLAG_W,CTDSAL,CTDSAL_FLAG_W,SALNTY,SALNTY_FLAG_W,CTDOXY,CTDOXY_FLAG_W,OXYGEN,OXYGEN_FLAG_W,SILCAT,SILCAT_FLAG_W,NITRAT,NITRAT_FLAG_W,NITRIT,NITRIT_FLAG_W,PHSPHT,PHSPHT_FLAG_W,CFC-11,CFC-11_FLAG_W,CFC-12,CFC-12_FLAG_W,SF6,SF6_FLAG_W,TCARBN,TCARBN_FLAG_W,ALKALI,ALKALI_FLAG_W,PH_TOT,PH_TOT_FLAG_W,PH_TMP,PH_TMP_FLAG_W,DELC13,DELC13_FLAG_W,DELC14,DELC14_FLAG_W,DOC,DOC_FLAG_W,TDN,TDN_FLAG_W,N2O,N2O_FLAG_W,BTL_DATE,BTL_TIME,BTL_LAT,BTL_LON,REFTMP,REFTMP_FLAG_W,POC,POC_FLAG_W,PON,PON_FLAG_W,POP,POP_FLAG_W,PCOD,PCOD_FLAG_W,CTDFLUOR,CTDFLUOR_FLAG_W,CTDXMISS,CTDXMISS_FLAG_W,HPLC,HPLC_FLAG_W,DNA,DNA_FLAG_W,FCM,FCM_FLAG_W
,,,,,,,,,,,METERS,DBAR,,ITS-90,,PSS-78,,PSS-78,,UMOL/KG,,UMOL/KG,,UMOL/KG,,UMOL/KG,,UMOL/KG,,UMOL/KG,,PMOL/KG,,PMOL/KG,,FMOL/KG,,UMOL/KG,,UMOL/KG,,,,DEG C,,/MILLE,,/MILLE,,UMOL/KG,,UMOL/KG,,NMOL/KG,,,,,,ITS-90,,UG/L,,UG/L,,UG/L,,UG/L,,VOLTS,,VOLTS,,,,,,,
33RR20220430,        P02,      35,          2,         36,         36,2,20220514,       0657,    30.0001,   151.2538,       6074,     4.5,2,  20.6105,2,  34.7919,2,  34.7775,2,    228.9,2,   227.3,2,    0.29,2,    0.02,2,    0.00,2,    0.00,2,   1.925,6,   1.213,6,   2.0413,6,  2005.3,2,  2282.6,2,   8.0030,2,    25.01,2, -999.00,9,  -999.0,9, -999.00,1, -999.00,1,        6.7,6, 20220514,      921,  30.0001, 151.2538,    20.6500,3,     -999.0,9,     -999.0,9,     -999.0,9,     -999.0,9,     0.0147,1,     4.6300,1,     -999.0,9,     -999.0,9,     -999.0,9
33RR20220430,        P02,      35,          2,         35,         35,2,20220514,       0657,    30.0001,   151.2538,       6074,    22.0,2,  20.5083,2,  34.7834,2,  34.7760,2,    229.5,2,   228.7,2,    0.59,2,    0.00,2,    0.00,2,    0.00,2,   2.007,2,   1.262,2,   2.0646,2,  2011.4,2,  2281.7,2,   8.0010,2,    25.00,2, -999.00,9,  -999.0,9, -999.00,1, -999.00,1,        6.8,2, 20220514,      919,  30.0001, 151.2539,    20.5083,2,     -999.0,9,     -999.0,9,     -999.0,9,     -999.0,9,     0.0147,1,     4.6307,1,     -999.0,9,     -999.0,9,     -999.0,9
33RR20220430,        P02,      35,          2,         34,         34,2,20220514,       0657,    30.0001,   151.2538,       6074,    40.0,2,  20.1596,2,  34.8050,2,  34.7897,2,    231.8,2,   229.8,2,    0.59,2,    0.00,2,    0.00,2,    0.00,2,   2.007,2,   1.252,2,   2.1616,2,  2012.3,2,  2282.3,2,   8.0017,2,    25.03,2, -999.00,9,  -999.0,9, -999.00,1, -999.00,1,        6.9,2, 20220514,      918,  30.0001, 151.2538,    20.1516,2,     -999.0,9,     -999.0,9,     -999.0,9,     -999.0,9,     0.0159,1,     4.6422,1,     -999.0,9,     -999.0,9,     -999.0,9
33RR20220430,        P02,      35,          2,         33,         33,2,20220514,       0657,    30.0001,   151.2538,       6074,    66.5,2,  18.6444,2,  34.7751,2,  34.7724,2,    235.2,3,   232.3,2,    0.49,2,    0.01,2,    0.00,2,    0.00,2,   2.004,2,   1.268,2,   2.1364,2,  2017.0,2,  2282.8,2,   7.9967,2,    25.03,2, -999.00,9,  -999.0,9, -999.00,1, -999.00,1,        7.4,2, 20220514,      916,  30.0001, 151.2539,    18.6478,2,     -999.0,9,     -999.0,9,     -999.0,9,     -999.0,9,     0.0303,1,     4.6228,1,     -999.0,9,     -999.0,9,     -999.0,9
33RR20220430,        P02,      35,          2,         32,         32,2,20220514,       0657,    30.0001,   151.2538,       6074,    89.4,2,  17.9078,2,  34.7685,2,  34.7616,2,    220.0,2,   220.2,2,    1.46,2,    1.88,2,    0.14,2,    0.00,2,   2.045,2,   1.305,2,   2.3035,2,  2032.6,2,  2281.4,2,   7.9615,2,    25.04,2, -999.00,9,  -999.0,9, -999.00,1, -999.00,1,        9.5,2, 20220514,      914,  30.0001, 151.2539,    17.9060,2,     -999.0,9,     -999.0,9,     -999.0,9,     -999.0,9,     0.0464,1,     4.6273,1,     -999.0,9,     -999.0,9,     -999.0,9
33RR20220430,        P02,      35,          2,         31,         31,2,20220514,       0657,    30.0001,   151.2538,       6074,   136.2,2,  17.3442,2,  34.7456,2,  34.7388,2,    217.2,2,   216.9,2,    2.15,2,    3.25,2,    0.01,2,    0.17,2,   2.134,2,   1.429,2,   2.0385,2,  2038.7,2,  2279.5,2,   7.9457,2,    25.01,2, -999.00,9,  -999.0,9, -999.00,1, -999.00,1,       10.9,2, 20220514,      911,  30.0001, 151.2539,    17.3444,2,     -999.0,9,     -999.0,9,     -999.0,9,     -999.0,9,     0.0161,1,     4.6763,1,     -999.0,9,     -999.0,9,     -999.0,9
33RR20220430,        P02,      35,          2,         30,         30,2,20220514,       0657,    30.0001,   151.2538,       6074,   187.5,2,  16.8889,2,  34.7017,2,  34.6965,2,    227.2,2,   227.6,2,    2.73,2,    3.01,2,    0.01,2,    0.17,2,   2.084,2,   1.433,2,-999.0000,5,  2034.3,2,  2279.2,2,   7.9498,2,    25.01,2, -999.00,9,  -999.0,9, -999.00,1, -999.00,1,        9.5,2, 20220514,      909,  30.0001, 151.2538,    16.8883,2,     -999.0,9,     -999.0,9,     -999.0,9,     -999.0,9,     0.0134,1,     4.6742,1,     -999.0,9,     -999.0,9,     -999.0,9
33RR20220430,        P02,      35,          2,         29,         29,2,20220514,       0657,    30.0001,   151.2538,       6074,   236.2,2,  16.4727,2,  34.6960,2,  34.6908,2,    206.3,2,   206.9,2,    4.39,2,    5.65,2,    0.00,2,    0.32,2,   2.125,2,   1.350,2,   2.1346,2,  2055.6,2,  2278.0,2,   7.9112,2,    25.01,2, -999.00,9,  -999.0,9, -999.00,1, -999.00,1,        9.1,2, 20220514,      907,  30.0001, 151.2538,    16.4726,2,     -999.0,9,     -999.0,9,     -999.0,9,     -999.0,9,     0.0122,1,     4.6880,1,     -999.0,9,     -999.0,9,     -999.0,9
33RR20220430,        P02,      35,          2,         28,         28,2,20220514,       0657,    30.0001,   151.2538,       6074,   286.2,2,  16.0007,2,  34.6876,2,  34.6816,2,    222.0,2,   222.5,2,    4.49,2,    4.88,2,    0.00,2,    0.28,2,   2.207,2,   1.374,2,   2.1660,2,  2051.6,6,  2279.1,2,   7.9230,2,    25.01,2, -999.00,9,  -999.0,9, -999.00,1, -999.00,1,        9.9,2, 20220514,      905,  30.0001, 151.2539,    16.0012,2,     -999.0,9,     -999.0,9,     -999.0,9,     -999.0,9,     0.0122,1,     4.6847,1,     -999.0,9,     -999.0,9,     -999.0,9
33RR20220430,        P02,      35,          2,         27,         27,2,20220514,       0657,    30.0001,   151.2538,       6074,   336.5,2,  15.5063,2,  34.6290,2,  34.6233,2,    200.8,2,   200.7,2,    7.23,2,    7.66,2,    0.00,2,    0.45,2,   2.389,2,   1.509,2,   2.0534,2,  2071.1,2,  2277.0,2,   7.8784,2,    25.02,2, -999.00,9,  -999.0,9, -999.00,1, -999.00,1,       12.7,2, 20220514,      904,  30.0001, 151.2539,    15.4996,2,     -999.0,9,     -999.0,9,     -999.0,9,     -999.0,9,     0.0122,1,     4.6886,1,     -999.0,9,     -999.0,9,     -999.0,9
33RR20220430,        P02,      35,          2,         26,         26,2,20220514,       0657,    30.0001,   151.2538,       6074,   388.1,2,  14.4375,2,  34.5423,2,  34.5358,2,    191.7,2,   191.5,2,   11.43,2,   10.26,2,    0.00,2,    0.65,2,   2.248,2,   1.416,2,   1.6467,2,  -999.0,9,  -999.0,9,-999.0000,9,  -999.00,9, -999.00,9,  -999.0,9, -999.00,1, -999.00,1,       13.9,2, 20220514,      902,  30.0001, 151.2538,    14.4405,2,     -999.0,9,     -999.0,9,     -999.0,9,     -999.0,9,     0.0122,1,     4.6899,1,     -999.0,9,     -999.0,9,     -999.0,9
33RR20220430,        P02,      35,          2,         25,         25,2,20220514,       0657,    30.0001,   151.2538,       6074,   469.0,2,  12.1796,2,  34.3661,2,  34.3627,2,    184.2,2,   184.6,2,   17.97,2,   14.34,2,    0.00,2,    0.95,2,   2.421,2,   1.494,2,   1.5730,2,  2119.6,2,  2274.2,2,   7.7665,2,    25.02,2, -999.00,9,  -999.0,9, -999.00,1, -999.00,1,       16.9,2, 20220514,      859,  30.0001, 151.2539,    12.1692,2,     -999.0,9,     -999.0,9,     -999.0,9,     -999.0,9,     0.0122,1,     4.6981,1,     -999.0,9,     -999.0,9,     -999.0,9
33RR20220430,        P02,      35,          2,         24,         24,2,20220514,       0657,    30.0001,   151.2538,       6074,   569.9,2,   9.2110,2,  34.1348,2,  34.1336,2,    180.5,2,   181.2,2,   29.90,2,   19.53,2,    0.00,2,    1.35,2,   2.575,2,   1.556,2,   1.6181,2,  2156.0,2,  2274.0,2,   7.6778,2,    24.97,2, -999.00,9,  -999.0,9, -999.00,1, -999.00,1,       20.7,2, 20220514,      856,  30.0001, 151.2539,     9.2077,2,     -999.0,9,     -999.0,9,     -999.0,9,     -999.0,9,     0.0122,1,     4.7029,1,     -999.0,9,     -999.0,9,     -999.0,9
33RR20220430,        P02,      35,          2,         23,         23,2,20220514,       0657,    30.0001,   151.2538,       6074,   672.5,2,   6.6275,2,  34.0090,2,  34.0082,2,    143.8,2,   143.1,2,   52.57,2,   27.97,2,    0.00,2,    1.96,2,   2.306,2,   1.415,2,   1.1342,2,  2214.2,2,  2285.4,2,   7.5395,2,    25.04,2, -999.00,9,  -999.0,9, -999.00,1, -999.00,1,       28.4,2, 20220514,      854,  30.0000, 151.2539,     6.6434,2,     -999.0,9,     -999.0,9,     -999.0,9,     -999.0,9,     0.0131,1,     4.7047,1,     -999.0,9,     -999.0,9,     -999.0,9
33RR20220430,        P02,      35,          2,         22,         22,2,20220514,       0657,    30.0001,   151.2538,       6074,   773.2,2,   5.3007,2,  34.0689,2,  34.0705,2,     95.0,2,    94.6,2,   76.99,2,   34.47,2,    0.00,2,    2.45,2,   1.600,2,   0.966,2,   0.6613,2,  -999.0,9,  -999.0,9,-999.0000,9,  -999.00,9, -999.00,9,  -999.0,9, -999.00,9, -999.00,9,       36.4,2, 20220514,      851,  30.0001, 151.2539,     5.2925,2,     -999.0,9,     -999.0,9,     -999.0,9,     -999.0,9,     0.0134,1,     4.7042,1,     -999.0,9,     -999.0,9,     -999.0,9
33RR20220430,        P02,      35,          2,         21,         21,2,20220514,       0657,    30.0001,   151.2538,       6074,   874.4,2,   4.5103,2,  34.1605,2,  34.1593,2,     63.6,2,    63.1,2,   96.13,2,   38.48,2,    0.00,2,    2.74,2,   1.001,2,   0.583,2,   0.4632,2,  2310.8,2,  2325.8,2,   7.3757,2,    24.99,2, -999.00,9,  -999.0,9, -999.00,1, -999.00,1,       42.2,2, 20220514,      848,  30.0001, 151.2539,     4.5197,2,     -999.0,9,     -999.0,9,     -999.0,9,     -999.0,9,     0.0134,1,     4.7054,1,     -999.0,9,     -999.0,9,     -999.0,9
33RR20220430,        P02,      35,          2,         20,         20,2,20220514,       0657,    30.0001,   151.2538,       6074,   973.9,2,   3.9950,2,  34.2394,2,  34.2405,2,     45.4,2,    45.7,2,  110.78,2,   40.49,2,    0.00,2,    2.88,2,   0.579,2,   0.333,2,   0.2433,2,  2332.0,2,  2341.7,2,   7.3488,2,    24.99,2, -999.00,9,  -999.0,9, -999.00,9, -999.00,9,       46.8,2, 20220514,      846,  30.0001, 151.2539,     3.9969,2,     -999.0,9,     -999.0,9,     -999.0,9,     -999.0,9,     0.0134,1,     4.7056,1,     -999.0,9,     -999.0,9,     -999.0,9
33RR20220430,        P02,      35,          2,         19,         19,2,20220514,       0657,    30.0001,   151.2538,       6074,  1076.4,2,   3.6189,2,  34.3048,2,  34.3056,2,     39.2,2,    39.3,2,  121.52,2,   41.63,2,    0.00,2,    2.95,2,   0.379,2,   0.219,2,   0.0000,2,  2348.4,2,  2356.3,2,   7.3414,2,    25.00,2, -999.00,9,  -999.0,9, -999.00,1, -999.00,1,       47.9,2, 20220514,      843,  30.0001, 151.2539,     3.6185,2,     -999.0,9,     -999.0,9,     -999.0,9,     -999.0,9,     0.0134,1,     4.7046,1,     -999.0,9,     -999.0,9,     -999.0,9
33RR20220430,        P02,      35,          2,         18,         18,2,20220514,       0657,    30.0001,   151.2538,       6074,  1176.8,2,   3.2463,2,  34.3739,2,  34.3749,2,     35.1,2,    35.4,2,  132.16,2,   42.40,2,    0.00,2,    3.01,2,   0.183,2,   0.106,2,   0.0000,2,  -999.0,9,  -999.0,9,-999.0000,9,  -999.00,9, -999.00,9,  -999.0,9, -999.00,9, -999.00,9,       48.2,2, 20220514,      840,  30.0001, 151.2539,     3.2460,2,     -999.0,9,     -999.0,9,     -999.0,9,     -999.0,9,     0.0134,1,     4.7056,1,     -999.0,9,     -999.0,9,     -999.0,9
33RR20220430,        P02,      35,          2,         17,         17,2,20220514,       0657,    30.0001,   151.2538,       6074,  1278.9,2,   2.9970,2,  34.4177,2,  34.4188,2,     34.7,2,    34.8,2,  139.29,2,   42.64,2,    0.00,2,    3.04,2,   0.114,2,   0.062,2,   0.0000,2,  2370.7,2,  2379.1,2,   7.3450,2,    25.00,2, -999.00,9,  -999.0,9, -999.00,1, -999.00,1,       48.5,2, 20220514,      836,  30.0001, 151.2539,     2.9973,2,     -999.0,9,     -999.0,9,     -999.0,9,     -999.0,9,     0.0134,1,     4.7056,1,     -999.0,9,     -999.0,9,     -999.0,9
33RR20220430,        P02,      35,          2,         16,         16,2,20220514,       0657,    30.0001,   151.2538,       6074,  1350.3,2,   2.8006,2,  34.4484,2,  34.4493,2,     35.9,2,    36.0,2,  145.15,2,   42.65,2,    0.00,2,    3.04,2,   0.082,2,   0.045,2,   0.0000,2,  -999.0,9,  -999.0,9,-999.0000,9,  -999.00,9, -999.00,9,  -999.0,9, -999.00,9, -999.00,9,       47.4,2, 20220514,      833,  30.0000, 151.2538,     2.7989,2,     -999.0,9,     -999.0,9,     -999.0,9,     -999.0,9,     0.0134,1,     4.7056,1,     -999.0,9,     -999.0,9,     -999.0,9
33RR20220430,        P02,      35,          2,         15,         15,2,20220514,       0657,    30.0001,   151.2538,       6074,  1553.7,2,   2.4355,2,  34.5121,2,  34.5119,2,     45.2,3,    46.0,2,  154.51,2,   42.39,2,    0.00,2,    3.01,2,   0.030,2,   0.015,2,   0.0000,2,  2378.5,2,  2398.1,2,   7.3714,2,    25.00,2, -999.00,9,  -999.0,9, -999.00,1, -999.00,1,       43.4,2, 20220514,      829,  30.0001, 151.2539,     2.4353,2,     -999.0,9,     -999.0,9,     -999.0,9,     -999.0,9,     0.0131,1,     4.7069,1,     -999.0,9,     -999.0,9,     -999.0,9
33RR20220430,        P02,      35,          2,         14,         14,2,20220514,       0657,    30.0001,   151.2538,       6074,  1755.7,2,   2.1621,2,  34.5593,2,  34.5600,2,     60.1,2,    60.1,2,  159.49,2,   41.77,2,    0.00,2,    2.94,2,   0.014,2,   0.007,2,   0.0000,2,  -999.0,9,  -999.0,9,-999.0000,9,  -999.00,9, -999.00,9,  -999.0,9, -999.00,9, -999.00,9,       39.3,2, 20220514,      824,  30.0001, 151.2539,     2.1631,2,     -999.0,9,     -999.0,9,     -999.0,9,     -999.0,9,     0.0134,1,     4.7071,1,     -999.0,9,     -999.0,9,     -999.0,9
33RR20220430,        P02,      35,          2,         13,         13,2,20220514,       0657,    30.0001,   151.2538,       6074,  1962.6,2,   1.9489,2,  34.5957,2,  34.5959,2,     77.8,2,    77.6,2,  160.95,2,   40.65,2,    0.00,2,    2.85,2,   0.007,2,   0.000,2,   0.0000,2,  2369.5,2,  2409.7,2,   7.4392,2,    24.98,2, -999.00,9,  -999.0,9, -999.00,1, -999.00,1,       34.8,2, 20220514,      820,  30.0001, 151.2539,     1.9490,2,     -999.0,9,     -999.0,9,     -999.0,9,     -999.0,9,     0.0125,1,     4.7080,1,     -999.0,9,     -999.0,9,     -999.0,9
33RR20220430,        P02,      35,          2,         12,         12,2,20220514,       0657,    30.0001,   151.2538,       6074,  2193.3,2,   1.8116,2,  34.6213,2,  34.6231,2,     96.8,2,    96.6,2,  158.21,2,   39.24,2,    0.00,2,    2.75,2,   0.004,2,   0.000,2,   0.0000,2,  -999.0,9,  -999.0,9,-999.0000,9,  -999.00,9, -999.00,9,  -999.0,9, -999.00,9, -999.00,9,       31.4,2, 20220514,      815,  30.0001, 151.2539,     1.8116,2,     -999.0,9,     -999.0,9,     -999.0,9,     -999.0,9,     0.0128,1,     4.7090,1,     -999.0,9,     -999.0,9,     -999.0,9
33RR20220430,        P02,      35,          2,         11,         11,2,20220514,       0657,    30.0001,   151.2538,       6074,  2446.1,2,   1.7004,2,  34.6395,2,  34.6394,2,    110.4,2,   110.3,2,  156.16,2,   38.55,2,    0.00,2,    2.70,2,   0.005,2,   0.000,2,   0.0000,2,  2352.6,2,  2415.1,2,   7.5005,2,    24.99,2, -999.00,9,  -999.0,9, -999.00,1, -999.00,1,       29.8,2, 20220514,      809,  30.0001, 151.2539,     1.7011,2,     -999.0,9,     -999.0,9,     -999.0,9,     -999.0,9,     0.0134,1,     4.7096,1,     -999.0,9,     -999.0,9,     -999.0,9
33RR20220430,        P02,      35,          2,         10,         10,2,20220514,       0657,    30.0001,   151.2538,       6074,  2700.6,2,   1.6343,2,  34.6506,2,  34.6502,2,    119.0,2,   118.8,2,  155.67,2,   38.13,2,    0.00,2,    2.65,2,-999.000,9,-999.000,9,-999.0000,9,  -999.0,9,  -999.0,9,-999.0000,9,  -999.00,9, -999.00,9,  -999.0,9, -999.00,9, -999.00,9,     -999.0,9, 20220514,      804,  30.0000, 151.2539,     1.6359,2,     -999.0,9,     -999.0,9,     -999.0,9,     -999.0,9,     0.0125,1,     4.7094,1,     -999.0,9,     -999.0,9,     -999.0,9
33RR20220430,        P02,      35,          2,          9,          9,2,20220514,       0657,    30.0001,   151.2538,       6074,  2956.2,2,   1.5778,2,  34.6596,2,  34.6598,2,    125.9,2,   126.6,2,  154.50,2,   37.48,2,    0.00,2,    2.62,2,   0.004,2,   0.000,2,   0.0000,2,  2342.8,2,  2415.5,2,   7.5297,2,    25.00,2, -999.00,9,  -999.0,9, -999.00,1, -999.00,1,       26.7,2, 20220514,      759,  30.0000, 151.2538,     1.5781,2,     -999.0,9,     -999.0,9,     -999.0,9,     -999.0,9,     0.0122,1,     4.7093,1,     -999.0,9,     -999.0,9,     -999.0,9
33RR20220430,        P02,      35,          2,          8,          8,2,20220514,       0657,    30.0001,   151.2538,       6074,  3247.0,2,   1.5295,2,  34.6688,2,  34.6700,2,    136.3,2,   136.4,2,  151.96,2,   36.87,2,    0.00,2,    2.57,2,-999.000,9,-999.000,9,-999.0000,9,  -999.0,9,  -999.0,9,-999.0000,9,  -999.00,9, -999.00,9,  -999.0,9, -999.00,9, -999.00,9,     -999.0,9, 20220514,      753,  30.0000, 151.2538,     1.5294,2,     -999.0,9,     -999.0,9,     -999.0,9,     -999.0,9,     0.0122,1,     4.7093,1,     -999.0,9,     -999.0,9,     -999.0,9
33RR20220430,        P02,      35,          2,          7,          7,2,20220514,       0657,    30.0001,   151.2538,       6074,  3620.1,2,   1.4953,2,  34.6760,2,  34.6765,2,    144.1,2,   144.1,2,  150.10,2,   36.32,2,    0.00,2,    2.53,2,   0.004,2,   0.000,2,   0.0000,2,  2330.3,6,  2414.9,2,   7.5608,2,    24.99,2, -999.00,9,  -999.0,9, -999.00,1, -999.00,1,       24.8,2, 20220514,      746,  30.0001, 151.2539,     1.4951,2,     -999.0,9,     -999.0,9,     -999.0,9,     -999.0,9,     0.0122,1,     4.7100,1,     -999.0,9,     -999.0,9,     -999.0,9
33RR20220430,        P02,      35,          2,          6,          6,2,20220514,       0657,    30.0001,   151.2538,       6074,  4035.0,2,   1.4724,2,  34.6821,2,  34.6824,2,    150.6,2,   150.9,2,  149.22,2,   35.89,2,    0.00,2,    2.49,2,-999.000,9,-999.000,9,-999.0000,9,  -999.0,9,  -999.0,9,-999.0000,9,  -999.00,9, -999.00,9,  -999.0,9, -999.00,9, -999.00,9,     -999.0,9, 20220514,      738,  30.0000, 151.2539,     1.4724,2,     -999.0,9,     -999.0,9,     -999.0,9,     -999.0,9,     0.0122,1,     4.7090,1,     -999.0,9,     -999.0,9,     -999.0,9
33RR20220430,        P02,      35,          2,          5,          5,2,20220514,       0657,    30.0001,   151.2538,       6074,  4445.2,2,   1.4760,2,  34.6864,2,  34.6863,2,    156.3,2,   156.1,2,  147.27,2,   35.66,2,    0.00,2,    2.46,2,   0.006,2,   0.000,2,   0.0000,2,  2316.9,2,  2413.0,2,   7.5791,2,    24.99,2, -999.00,9,  -999.0,9, -999.00,1, -999.00,1,       24.1,2, 20220514,      730,  30.0001, 151.2539,     1.4758,2,     -999.0,9,     -999.0,9,     -999.0,9,     -999.0,9,     0.0122,1,     4.7086,1,     -999.0,9,     -999.0,9,     -999.0,9
33RR20220430,        P02,      35,          2,          4,          4,2,20220514,       0657,    30.0001,   151.2538,       6074,  4856.5,2,   1.4948,2,  34.6892,2,  34.6897,2,    161.3,2,   161.4,2,  143.75,2,   35.27,2,    0.00,2,    2.42,2,-999.000,9,-999.000,9,-999.0000,9,  -999.0,9,  -999.0,9,-999.0000,9,  -999.00,9, -999.00,9,  -999.0,9, -999.00,9, -999.00,9,     -999.0,9, 20220514,      722,  30.0001, 151.2539,     1.4948,2,     -999.0,9,     -999.0,9,     -999.0,9,     -999.0,9,     0.0122,1,     4.7092,1,     -999.0,9,     -999.0,9,     -999.0,9