BOTTLE,20230801CCHSIOCBG
EXPOCODE,SECT_ID,STNNBR,CASTNO,SAMPNO,BTLNBR,BTLNBR_FLAG_W,DATE,TIME,LATITUDE,LONGITUDE,DEPTH,CTDPRS,CTDPRS_FLAG_W,CTDTMP,CTDTMP_FLAG_W,CTDSAL,CTDSAL_FLAG_W,SALNTY,SALNTY_FLAG_W,CTDOXY,CTDOXY_FLAG_W,OXYGEN,OXYGEN_FLAG_W,SILCAT,SILCAT_FLAG_W,NITRAT,NITRAT_FLAG_W,NITRIT,NITRIT_FLAG_W,PHSPHT,PHSPHT_FLAG_W,CFC-11,CFC-11_FLAG_W,CFC-12,CFC-12_FLAG_W,SF6,SF6_FLAG_W,TCARBN,TCARBN_FLAG_W,ALKALI,ALKALI_FLAG_W,PH_TOT,PH_TOT_FLAG_W,PH_TMP,PH_TMP_FLAG_W,DELC13,DELC13_FLAG_W,DELC14,DELC14_FLAG_W,DOC,DOC_FLAG_W,TDN,TDN_FLAG_W,N2O,N2O_FLAG_W,BTL_DATE,BTL_TIME,BTL_LAT,BTL_LON,REFTMP,REFTMP_FLAG_W,POC,POC_FLAG_W,PON,PON_FLAG_W,POP,POP_FLAG_W,PCOD,PCOD_FLAG_W,CTDFLUOR,CTDFLUOR_FLAG_W,CTDXMISS,CTDXMISS_FLAG_W,HPLC,HPLC_FLAG_W,DNA,DNA_FLAG_W,FCM,FCM_FLAG_W
,,,,,,,,,,,METERS,DBAR,,ITS-90,,PSS-78,,PSS-78,,UMOL/KG,,UMOL/KG,,UMOL/KG,,UMOL/KG,,UMOL/KG,,UMOL/KG,,PMOL/KG,,PMOL/KG,,FMOL/KG,,UMOL/KG,,UMOL/KG,,,,DEG C,,/MILLE,,/MILLE,,UMOL/KG,,UMOL/KG,,NMOL/KG,,,,,,ITS-90,,UG/L,,UG/L,,UG/L,,UG/L,,VOLTS,,VOLTS,,,,,,,
33RR20220430,        P02,     106,          1,         36,         36,2,20220605,       0047,    30.0010,  -167.5585,       5550,     3.0,2,  23.2707,2,  34.7791,2,  34.7604,2,    226.4,3,   222.1,2,    2.15,2,    0.04,2,    0.00,2,    0.01,2,   1.700,2,   1.163,2,   2.1169,2,  2018.9,2,  2281.2,2,   7.9820,2,    25.01,2, -999.00,9,  -999.0,9, -999.00,1, -999.00,1,        7.6,2, 20220605,      300,  30.0010,-167.5585,    23.2940,2,     -999.0,9,     -999.0,9,     -999.0,9,     -999.0,9,     0.0122,1,     4.6186,1,     -999.0,9,     -999.0,9,     -999.0,9
33RR20220430,        P02,     106,          1,         35,         35,2,20220605,       0047,    30.0010,  -167.5585,       5550,    37.7,2,  19.9917,2,  34.8717,2,  34.8625,2,    235.1,2,   235.0,2,    2.05,2,    0.03,2,    0.00,2,    0.01,2,   1.848,6,   1.244,6,   2.0988,6,  2022.8,2,  2288.4,2,   7.9841,2,    25.00,2, -999.00,9,  -999.0,9, -999.00,1, -999.00,1,        8.0,6, 20220605,      257,  30.0011,-167.5585,    19.9947,2,     -999.0,9,     -999.0,9,     -999.0,9,     -999.0,9,     0.0134,1,     4.6176,1,     -999.0,9,     -999.0,9,     -999.0,9
33RR20220430,        P02,     106,          1,         34,         34,2,20220605,       0047,    30.0010,  -167.5585,       5550,    62.5,2,  18.0778,2,  34.7151,2,  34.7105,2,    244.8,2,   244.5,2,    2.54,2,    0.02,2,    0.00,2,    0.04,2,   2.069,2,   1.296,2,   2.2235,2,  2020.5,2,  2278.6,2,   7.9709,2,    25.00,2, -999.00,9,  -999.0,9, -999.00,1, -999.00,1,        8.5,2, 20220605,      256,  30.0011,-167.5585,    18.0958,2,     -999.0,9,     -999.0,9,     -999.0,9,     -999.0,9,     0.0165,1,     4.6236,1,     -999.0,9,     -999.0,9,     -999.0,9
33RR20220430,        P02,     106,          1,         33,         33,2,20220605,       0047,    30.0010,  -167.5585,       5550,    88.3,2,  17.6319,2,  34.7291,3,  34.7019,2,    238.8,2,   239.6,2,    2.64,2,    0.03,2,    0.00,2,    0.06,2,   2.103,2,   1.335,2,   2.2803,2,  2025.7,2,  2279.2,2,   7.9620,2,    25.00,2, -999.00,9,  -999.0,9, -999.00,1, -999.00,1,        8.8,2, 20220605,      254,  30.0011,-167.5585,    17.6109,2,     -999.0,9,     -999.0,9,     -999.0,9,     -999.0,9,     0.0249,1,     4.6251,1,     -999.0,9,     -999.0,9,     -999.0,9
33RR20220430,        P02,     106,          1,         32,         32,2,20220605,       0047,    30.0010,  -167.5585,       5550,   117.8,2,  16.7646,2,  34.6655,3,  34.6411,2,    216.8,2,   217.3,2,    3.81,2,    2.90,2,    0.02,2,    0.24,2,   2.195,2,   1.376,2,   2.1916,2,  2049.5,2,  2274.1,2,   7.9136,2,    25.01,2, -999.00,9,  -999.0,9, -999.00,1, -999.00,1,       10.2,2, 20220605,      252,  30.0011,-167.5585,    16.7604,2,     -999.0,9,     -999.0,9,     -999.0,9,     -999.0,9,     0.0304,1,     4.6585,1,     -999.0,9,     -999.0,9,     -999.0,9
33RR20220430,        P02,     106,          1,         31,         31,2,20220605,       0047,    30.0010,  -167.5585,       5550,   168.6,2,  15.5576,2,  34.5574,2,  34.5419,2,    215.7,2,   214.6,2,    5.28,2,    5.06,2,    0.01,2,    0.39,2,   2.330,2,   1.431,2,   2.2478,2,  2060.1,2,  2268.7,2,   7.8821,2,    24.99,2, -999.00,9,  -999.0,9, -999.00,1, -999.00,1,       11.5,2, 20220605,      250,  30.0010,-167.5585,    15.5571,2,     -999.0,9,     -999.0,9,     -999.0,9,     -999.0,9,     0.0134,1,     4.6826,1,     -999.0,9,     -999.0,9,     -999.0,9
33RR20220430,        P02,     106,          1,         30,         30,2,20220605,       0047,    30.0010,  -167.5585,       5550,   222.8,2,  14.4265,2,  34.4931,2,  34.4834,2,    212.3,2,   211.9,2,    8.01,2,    7.70,2,    0.00,2,    0.57,2,   2.475,2,   1.470,2,   2.0988,2,  2073.5,2,  2268.2,2,   7.8538,2,    25.00,2, -999.00,9,  -999.0,9, -999.00,1, -999.00,1,       13.2,2, 20220605,      248,  30.0010,-167.5586,    14.4311,2,     -999.0,9,     -999.0,9,     -999.0,9,     -999.0,9,     0.0122,1,     4.6873,1,     -999.0,9,     -999.0,9,     -999.0,9
33RR20220430,        P02,     106,          1,         29,         29,2,20220605,       0047,    30.0010,  -167.5585,       5550,   273.8,2,  13.3202,2,  34.3953,2,  34.3906,2,    214.7,2,   214.7,2,    9.48,2,    9.01,2,    0.00,2,    0.65,2,   2.568,2,   1.575,2,   2.2417,2,  2081.6,2,  2263.9,2,   7.8284,2,    25.00,2, -999.00,9,  -999.0,9, -999.00,1, -999.00,1,       14.1,2, 20220605,      246,  30.0011,-167.5586,    13.3386,2,     -999.0,9,     -999.0,9,     -999.0,9,     -999.0,9,     0.0122,1,     4.6903,1,     -999.0,9,     -999.0,9,     -999.0,9
33RR20220430,        P02,     106,          1,         28,         28,2,20220605,       0047,    30.0010,  -167.5585,       5550,   318.3,2,  12.1830,2,  34.3199,2,  34.3095,2,    213.4,2,   213.6,2,   13.09,2,   11.44,2,    0.00,2,    0.81,2,   2.767,2,   1.617,2,   2.0899,2,  -999.0,9,  -999.0,9,-999.0000,9,  -999.00,9, -999.00,9,  -999.0,9, -999.00,1, -999.00,1,       15.3,2, 20220605,      245,  30.0011,-167.5586,    12.1849,2,     -999.0,9,     -999.0,9,     -999.0,9,     -999.0,9,     0.0122,1,     4.6910,1,     -999.0,9,     -999.0,9,     -999.0,9
33RR20220430,        P02,     106,          1,         27,         27,2,20220605,       0047,    30.0010,  -167.5585,       5550,   369.3,2,  11.0516,2,  34.2142,2,  34.2058,2,    209.7,2,   210.0,2,   16.12,2,   13.81,2,    0.00,2,    0.98,2,   2.903,2,   1.671,2,   2.0744,2,  2109.1,6,  2261.5,2,   7.7599,2,    24.99,2, -999.00,9,  -999.0,9, -999.00,1, -999.00,1,       16.9,2, 20220605,      243,  30.0011,-167.5586,    11.0455,2,     -999.0,9,     -999.0,9,     -999.0,9,     -999.0,9,     0.0122,1,     4.6936,1,     -999.0,9,     -999.0,9,     -999.0,9
33RR20220430,        P02,     106,          1,         26,         26,2,20220605,       0047,    30.0010,  -167.5585,       5550,   445.6,2,   9.4334,2,  34.1002,2,  34.0983,2,    198.9,2,   199.4,2,   24.14,2,   17.91,2,    0.00,2,    1.27,2,   2.930,2,   1.672,2,   1.8937,2,  -999.0,9,  -999.0,9,-999.0000,9,  -999.00,9, -999.00,9,  -999.0,9, -999.00,1, -999.00,1,       19.4,2, 20220605,      240,  30.0011,-167.5586,     9.4359,2,     -999.0,9,     -999.0,9,     -999.0,9,     -999.0,9,     0.0122,1,     4.6935,1,     -999.0,9,     -999.0,9,     -999.0,9
33RR20220430,        P02,     106,          1,         25,         25,2,20220605,       0047,    30.0010,  -167.5585,       5550,   541.0,2,   7.4711,2,  34.0076,2,  34.0037,2,    161.2,2,   161.2,2,   41.73,2,   25.23,2,    0.00,2,    1.78,2,   2.593,2,   1.513,2,   1.4997,2,  2185.1,2,  2273.6,2,   7.5884,2,    24.98,2, -999.00,9,  -999.0,9, -999.00,1, -999.00,1,       24.2,2, 20220605,      237,  30.0011,-167.5586,     7.4663,2,     -999.0,9,     -999.0,9,     -999.0,9,     -999.0,9,     0.0122,1,     4.6958,1,     -999.0,9,     -999.0,9,     -999.0,9
33RR20220430,        P02,     106,          1,         24,         24,2,20220605,       0047,    30.0010,  -167.5585,       5550,   647.1,2,   5.6331,2,  34.0042,2,  34.0031,2,    108.0,2,   107.2,2,   67.83,2,   33.50,2,    0.00,2,    2.40,2,   1.935,2,   1.110,2,   0.8539,2,  -999.0,9,  -999.0,9,-999.0000,9,  -999.00,9, -999.00,9,  -999.0,9, -999.00,9, -999.00,9,       31.7,2, 20220605,      235,  30.0011,-167.5586,     5.6251,2,     -999.0,9,     -999.0,9,     -999.0,9,     -999.0,9,     0.0134,1,     4.6971,1,     -999.0,9,     -999.0,9,     -999.0,9
33RR20220430,        P02,     106,          1,         23,         23,2,20220605,       0047,    30.0010,  -167.5585,       5550,   742.4,2,   4.7330,2,  34.0971,2,  34.0934,2,     57.8,2,    57.8,2,   89.32,2,   39.23,2,    0.00,2,    2.81,2,   0.982,2,   0.572,2,   0.1404,2,  2301.8,2,  2313.9,2,   7.3574,2,    24.99,2, -999.00,9,  -999.0,9, -999.00,1, -999.00,1,       38.5,2, 20220605,      232,  30.0011,-167.5586,     4.7294,2,     -999.0,9,     -999.0,9,     -999.0,9,     -999.0,9,     0.0134,1,     4.6989,1,     -999.0,9,     -999.0,9,     -999.0,9
33RR20220430,        P02,     106,          1,         22,         22,2,20220605,       0047,    30.0010,  -167.5585,       5550,   845.1,2,   4.2246,2,  34.1930,2,  34.1913,2,     32.4,2,    32.6,2,  104.76,2,   41.89,2,    0.00,2,    3.02,2,   0.420,2,   0.251,2,   0.0864,2,  -999.0,9,  -999.0,9,-999.0000,9,  -999.00,9, -999.00,9,  -999.0,9, -999.00,9, -999.00,9,       42.6,2, 20220605,      229,  30.0011,-167.5586,     4.2284,2,     -999.0,9,     -999.0,9,     -999.0,9,     -999.0,9,     0.0134,1,     4.6995,1,     -999.0,9,     -999.0,9,     -999.0,9
33RR20220430,        P02,     106,          1,         21,         21,2,20220605,       0047,    30.0010,  -167.5585,       5550,   943.6,2,   3.8511,2,  34.2912,2,  34.2917,2,     20.9,2,    20.8,2,  117.45,2,   43.20,2,    0.00,2,    3.13,2,   0.128,2,   0.076,2,   0.0000,2,  2353.9,2,  2350.1,2,   7.3126,2,    25.01,2, -999.00,9,  -999.0,9, -999.00,1, -999.00,1,       45.0,2, 20220605,      227,  30.0011,-167.5585,     3.8531,2,     -999.0,9,     -999.0,9,     -999.0,9,     -999.0,9,     0.0134,1,     4.6995,1,     -999.0,9,     -999.0,9,     -999.0,9
33RR20220430,        P02,     106,          1,         20,         20,2,20220605,       0047,    30.0010,  -167.5585,       5550,  1046.2,2,   3.5413,2,  34.3652,2,  34.3649,2,     18.4,2,    18.3,2,  126.92,2,   43.66,2,    0.00,2,    3.17,2,   0.039,2,   0.026,2,   0.0000,2,  2364.6,2,  2364.7,2,   7.3158,2,    24.97,2, -999.00,9,  -999.0,9, -999.00,1, -999.00,1,       45.7,2, 20220605,      224,  30.0011,-167.5586,     3.5411,2,     -999.0,9,     -999.0,9,     -999.0,9,     -999.0,9,     0.0134,1,     4.7000,1,     -999.0,9,     -999.0,9,     -999.0,9
33RR20220430,        P02,     106,          1,         19,         19,2,20220605,       0047,    30.0010,  -167.5585,       5550,  1147.1,2,   3.2795,2,  34.4308,2,  34.4267,2,     23.3,2,    23.2,2,  134.05,2,   43.53,2,    0.00,2,    3.16,2,   0.016,2,   0.011,2,   0.0000,2,  -999.0,9,  -999.0,9,-999.0000,9,  -999.00,9, -999.00,9,  -999.0,9, -999.00,1, -999.00,1,       44.6,2, 20220605,      221,  30.0011,-167.5586,     3.2798,2,     -999.0,9,     -999.0,9,     -999.0,9,     -999.0,9,     0.0134,1,     4.7006,1,     -999.0,9,     -999.0,9,     -999.0,9
33RR20220430,        P02,     106,          1,         18,         18,2,20220605,       0047,    30.0010,  -167.5585,       5550,  1248.0,2,   3.1141,2,  34.4716,2,  34.4695,2,     32.3,3,    32.7,2,  137.66,2,   43.16,2,    0.00,2,    3.12,2,-999.000,9,-999.000,9,-999.0000,9,  2371.9,2,  2382.7,2,   7.3522,2,    25.01,2, -999.00,9,  -999.0,9, -999.00,9, -999.00,9,     -999.0,9, 20220605,      218,  30.0011,-167.5585,     3.1130,2,     -999.0,9,     -999.0,9,     -999.0,9,     -999.0,9,     0.0134,1,     4.7007,1,     -999.0,9,     -999.0,9,     -999.0,9
33RR20220430,        P02,     106,          1,         17,         17,2,20220605,       0047,    30.0010,  -167.5585,       5550,  1350.7,2,   2.9106,2,  34.5078,2,  34.5070,2,     42.6,2,    42.5,2,  141.66,2,   42.62,2,    0.00,2,    3.07,2,   0.007,2,   0.005,2,   0.0000,2,  2367.3,2,  2389.3,2,   7.3758,2,    24.98,2, -999.00,9,  -999.0,9, -999.00,1, -999.00,1,       38.7,2, 20220605,      216,  30.0011,-167.5586,     2.9105,2,     -999.0,9,     -999.0,9,     -999.0,9,     -999.0,9,     0.0134,1,     4.7015,1,     -999.0,9,     -999.0,9,     -999.0,9
33RR20220430,        P02,     106,          1,         16,         16,2,20220605,       0047,    30.0010,  -167.5585,       5550,  1481.8,2,   2.6888,2,  34.5372,2,  34.5349,2,     52.4,2,    52.5,2,  145.57,2,   42.13,2,    0.00,2,    3.02,2,-999.000,9,-999.000,9,-999.0000,9,  2367.7,2,  2395.8,2,   7.3955,2,    25.00,2, -999.00,9,  -999.0,9, -999.00,9, -999.00,9,     -999.0,9, 20220605,      212,  30.0011,-167.5586,     2.6899,2,     -999.0,9,     -999.0,9,     -999.0,9,     -999.0,9,     0.0134,1,     4.7021,1,     -999.0,9,     -999.0,9,     -999.0,9
33RR20220430,        P02,     106,          1,         15,         15,2,20220605,       0047,    30.0010,  -167.5585,       5550,  1684.0,2,   2.3675,2,  34.5692,2,  34.5673,2,     64.0,2,    64.0,2,  153.18,2,   41.55,2,    0.00,2,    2.95,2,   0.005,2,   0.000,2,   0.0000,2,  2365.7,2,  2403.3,2,   7.4182,2,    24.99,2, -999.00,9,  -999.0,9, -999.00,1, -999.00,1,       33.5,2, 20220605,      208,  30.0011,-167.5585,     2.3691,2,     -999.0,9,     -999.0,9,     -999.0,9,     -999.0,9,     0.0134,1,     4.7031,1,     -999.0,9,     -999.0,9,     -999.0,9
33RR20220430,        P02,     106,          1,         14,         14,2,20220605,       0047,    30.0010,  -167.5585,       5550,  1887.4,2,   2.1026,2,  34.5948,2,  34.5952,2,     72.7,2,    72.9,2,  160.31,2,   41.00,2,    0.00,2,    2.90,2,-999.000,9,-999.000,9,-999.0000,9,  2368.9,2,  2410.7,2,   7.4338,2,    24.99,2, -999.00,9,  -999.0,9, -999.00,1, -999.00,1,     -999.0,9, 20220605,      204,  30.0011,-167.5585,     2.1023,2,     -999.0,9,     -999.0,9,     -999.0,9,     -999.0,9,     0.0134,1,     4.7032,1,     -999.0,9,     -999.0,9,     -999.0,9
33RR20220430,        P02,     106,          1,         13,         13,2,20220605,       0047,    30.0010,  -167.5585,       5550,  2112.6,2,   1.9110,2,  34.6161,3,  34.6140,2,     83.9,2,    83.9,2,  164.02,2,   40.37,2,    0.00,2,    2.85,2,   0.003,2,   0.000,2,   0.0000,2,  2367.1,2,  2415.1,2,   7.4553,2,    24.99,2, -999.00,9,  -999.0,9, -999.00,1, -999.00,1,       29.1,2, 20220605,      159,  30.0011,-167.5585,     1.9111,2,     -999.0,9,     -999.0,9,     -999.0,9,     -999.0,9,     0.0134,1,     4.7033,1,     -999.0,9,     -999.0,9,     -999.0,9
33RR20220430,        P02,     106,          1,         12,         12,2,20220605,       0047,    30.0010,  -167.5585,       5550,  2364.9,2,   1.7611,2,  34.6336,3,  34.6313,2,     95.8,2,    95.8,2,  165.58,2,   39.60,2,    0.00,2,    2.78,2,-999.000,9,-999.000,9,-999.0000,9,  -999.0,9,  -999.0,9,-999.0000,9,  -999.00,9, -999.00,9,  -999.0,9, -999.00,9, -999.00,9,     -999.0,9, 20220605,      154,  30.0011,-167.5585,     1.7608,2,     -999.0,9,     -999.0,9,     -999.0,9,     -999.0,9,     0.0131,1,     4.7035,1,     -999.0,9,     -999.0,9,     -999.0,9
33RR20220430,        P02,     106,          1,         11,         11,2,20220605,       0047,    30.0010,  -167.5585,       5550,  2624.5,2,   1.6654,2,  34.6460,2,  34.6460,2,    106.3,2,   106.1,2,  165.68,2,   39.33,2,    0.00,2,    2.74,2,   0.004,2,   0.000,2,   0.0000,2,  2356.4,2,  2420.3,2,   7.4973,2,    24.99,2, -999.00,9,  -999.0,9, -999.00,1, -999.00,1,       26.0,2, 20220605,      148,  30.0010,-167.5585,     1.6653,2,     -999.0,9,     -999.0,9,     -999.0,9,     -999.0,9,     0.0122,1,     4.7043,1,     -999.0,9,     -999.0,9,     -999.0,9
33RR20220430,        P02,     106,          1,         10,         10,2,20220605,       0047,    30.0010,  -167.5585,       5550,  2874.7,2,   1.5969,2,  34.6553,3,  34.6533,2,    116.2,2,   116.3,2,  163.72,2,   38.53,2,    0.00,2,    2.68,2,-999.000,9,-999.000,9,-999.0000,9,  -999.0,9,  -999.0,9,-999.0000,9,  -999.00,9, -999.00,9,  -999.0,9, -999.00,9, -999.00,9,     -999.0,9, 20220605,      143,  30.0010,-167.5585,     1.5968,2,     -999.0,9,     -999.0,9,     -999.0,9,     -999.0,9,     0.0134,1,     4.7035,1,     -999.0,9,     -999.0,9,     -999.0,9
33RR20220430,        P02,     106,          1,          9,          9,2,20220605,       0047,    30.0010,  -167.5585,       5550,  3148.9,2,   1.5370,2,  34.6646,3,  34.6616,2,    125.4,2,   125.7,2,  162.55,2,   37.87,2,    0.00,2,    2.63,2,   0.005,2,   0.000,2,   0.0000,2,  2343.6,2,  2420.9,2,   7.5320,2,    24.99,2, -999.00,9,  -999.0,9, -999.00,1, -999.00,1,       23.6,2, 20220605,      138,  30.0010,-167.5585,     1.5368,2,     -999.0,9,     -999.0,9,     -999.0,9,     -999.0,9,     0.0121,1,     4.7044,1,     -999.0,9,     -999.0,9,     -999.0,9
33RR20220430,        P02,     106,          1,          8,          8,2,20220605,       0047,    30.0010,  -167.5585,       5550,  3456.0,2,   1.4915,2,  34.6724,2,  34.6712,2,    135.4,2,   135.6,2,  159.52,2,   37.17,2,    0.00,2,    2.57,2,-999.000,9,-999.000,9,-999.0000,9,  -999.0,9,  -999.0,9,-999.0000,9,  -999.00,9, -999.00,9,  -999.0,9, -999.00,9, -999.00,9,     -999.0,9, 20220605,      131,  30.0010,-167.5585,     1.4915,2,     -999.0,9,     -999.0,9,     -999.0,9,     -999.0,9,     0.0122,1,     4.7048,1,     -999.0,9,     -999.0,9,     -999.0,9
33RR20220430,        P02,     106,          1,          7,          7,2,20220605,       0047,    30.0010,  -167.5585,       5550,  3763.3,2,   1.4727,2,  34.6778,3,  34.6757,2,    141.9,2,   142.3,2,  158.06,2,   36.68,2,    0.00,2,    2.55,2,   0.004,2,   0.000,2,   0.0000,2,  2331.8,2,  2419.4,2,   7.5612,2,    25.01,2, -999.00,9,  -999.0,9, -999.00,1, -999.00,1,       22.2,2, 20220605,      125,  30.0010,-167.5585,     1.4726,2,     -999.0,9,     -999.0,9,     -999.0,9,     -999.0,9,     0.0123,1,     4.7047,1,     -999.0,9,     -999.0,9,     -999.0,9
33RR20220430,        P02,     106,          1,          6,          6,2,20220605,       0047,    30.0010,  -167.5585,       5550,  4070.6,2,   1.4728,2,  34.6814,2,  34.6822,2,    146.7,2,   146.7,2,  156.59,2,   36.40,2,    0.00,2,    2.52,2,-999.000,9,-999.000,9,-999.0000,9,  -999.0,9,  -999.0,9,-999.0000,9,  -999.00,9, -999.00,9,  -999.0,9, -999.00,9, -999.00,9,     -999.0,9, 20220605,      119,  30.0010,-167.5585,     1.4727,2,     -999.0,9,     -999.0,9,     -999.0,9,     -999.0,9,     0.0131,1,     4.7047,1,     -999.0,9,     -999.0,9,     -999.0,9
33RR20220430,        P02,     106,          1,          5,          5,2,20220605,       0047,    30.0010,  -167.5585,       5550,  4378.7,2,   1.4867,2,  34.6838,2,  34.6832,2,    149.5,2,   149.6,2,  156.20,2,   36.17,2,    0.00,2,    2.50,2,   0.004,2,   0.000,2,   0.0000,2,  2328.9,2,  2419.4,2,   7.5736,2,    24.99,2, -999.00,9,  -999.0,9, -999.00,1, -999.00,1,       21.6,2, 20220605,      113,  30.0010,-167.5585,     1.4867,2,     -999.0,9,     -999.0,9,     -999.0,9,     -999.0,9,     0.0122,1,     4.7052,1,     -999.0,9,     -999.0,9,     -999.0,9
33RR20220430,        P02,     106,          1,          4,          4,2,20220605,       0047,    30.0010,  -167.5585,       5550,  4722.7,2,   1.5134,2,  34.6851,2,  34.6859,2,    151.6,2,   151.4,2,  156.00,2,   36.06,2,    0.00,2,    2.49,2,-999.000,9,-999.000,9,-999.0000,9,  -999.0,9,  -999.0,9,-999.0000,9,  -999.00,9, -999.00,9,  -999.0,9, -999.00,9, -999.00,9,     -999.0,9, 20220605,      106,  30.0010,-167.5585,     1.5135,2,     -999.0,9,     -999.0,9,     -999.0,9,     -999.0,9,     0.0122,1,     4.7052,1,     -999.0,9,     -999.0,9,     -999.0,9