BOTTLE,20230801CCHSIOCBG
EXPOCODE,SECT_ID,STNNBR,CASTNO,SAMPNO,BTLNBR,BTLNBR_FLAG_W,DATE,TIME,LATITUDE,LONGITUDE,DEPTH,CTDPRS,CTDPRS_FLAG_W,CTDTMP,CTDTMP_FLAG_W,CTDSAL,CTDSAL_FLAG_W,SALNTY,SALNTY_FLAG_W,CTDOXY,CTDOXY_FLAG_W,OXYGEN,OXYGEN_FLAG_W,SILCAT,SILCAT_FLAG_W,NITRAT,NITRAT_FLAG_W,NITRIT,NITRIT_FLAG_W,PHSPHT,PHSPHT_FLAG_W,CFC-11,CFC-11_FLAG_W,CFC-12,CFC-12_FLAG_W,SF6,SF6_FLAG_W,TCARBN,TCARBN_FLAG_W,ALKALI,ALKALI_FLAG_W,PH_TOT,PH_TOT_FLAG_W,PH_TMP,PH_TMP_FLAG_W,DELC13,DELC13_FLAG_W,DELC14,DELC14_FLAG_W,DOC,DOC_FLAG_W,TDN,TDN_FLAG_W,N2O,N2O_FLAG_W,BTL_DATE,BTL_TIME,BTL_LAT,BTL_LON,REFTMP,REFTMP_FLAG_W,POC,POC_FLAG_W,PON,PON_FLAG_W,POP,POP_FLAG_W,PCOD,PCOD_FLAG_W,CTDFLUOR,CTDFLUOR_FLAG_W,CTDXMISS,CTDXMISS_FLAG_W,HPLC,HPLC_FLAG_W,DNA,DNA_FLAG_W,FCM,FCM_FLAG_W
,,,,,,,,,,,METERS,DBAR,,ITS-90,,PSS-78,,PSS-78,,UMOL/KG,,UMOL/KG,,UMOL/KG,,UMOL/KG,,UMOL/KG,,UMOL/KG,,PMOL/KG,,PMOL/KG,,FMOL/KG,,UMOL/KG,,UMOL/KG,,,,DEG C,,/MILLE,,/MILLE,,UMOL/KG,,UMOL/KG,,NMOL/KG,,,,,,ITS-90,,UG/L,,UG/L,,UG/L,,UG/L,,VOLTS,,VOLTS,,,,,,,
33RR20220430,        P02,      88,          1,         36,         36,2,20220530,       1722,    30.0003,  -177.9442,       5214,     2.8,2,  22.0473,2,  35.2030,2,  35.1872,2,    221.2,2,   220.3,2,    1.17,2,    0.02,2,    0.00,2,    0.00,2,   1.692,2,   1.132,2,   1.9136,2,  2024.3,2,  2310.9,2,   8.0142,2,    25.01,2, -999.00,9,  -999.0,9, -999.00,1, -999.00,1,        7.4,2, 20220530,     1927,  30.0003,-177.9442,    22.0398,2,     -999.0,9,     -999.0,9,     -999.0,9,     -999.0,9,     0.0134,1,     4.6419,1,     -999.0,9,     -999.0,9,     -999.0,9
33RR20220430,        P02,      88,          1,         35,         35,2,20220530,       1722,    30.0003,  -177.9442,       5214,    35.4,2,  20.5012,2,  35.0790,2,  35.0592,2,    231.5,2,   231.4,2,    1.46,2,    0.01,2,    0.00,2,    0.00,2,   1.839,2,   1.237,2,   2.1689,2,  2025.8,6,  2302.4,2,   7.9998,2,    25.01,2, -999.00,9,  -999.0,9, -999.00,1, -999.00,1,        7.7,2, 20220530,     1925,  30.0003,-177.9442,    20.4946,2,     -999.0,9,     -999.0,9,     -999.0,9,     -999.0,9,     0.0149,1,     4.6329,1,     -999.0,9,     -999.0,9,     -999.0,9
33RR20220430,        P02,      88,          1,         34,         34,2,20220530,       1722,    30.0003,  -177.9442,       5214,    60.6,2,  19.0845,2,  34.9049,2,  34.9061,2,    238.1,2,   237.6,2,    1.56,2,    0.01,2,    0.00,2,    0.01,2,   1.945,2,   1.273,2,   2.0911,2,  2022.3,2,  2291.8,2,   7.9910,2,    25.01,2, -999.00,9,  -999.0,9, -999.00,1, -999.00,1,        8.0,2, 20220530,     1924,  30.0003,-177.9442,    19.0802,2,     -999.0,9,     -999.0,9,     -999.0,9,     -999.0,9,     0.0183,1,     4.6303,1,     -999.0,9,     -999.0,9,     -999.0,9
33RR20220430,        P02,      88,          1,         33,         33,2,20220530,       1722,    30.0003,  -177.9442,       5214,    85.7,2,  17.9937,2,  34.7527,3,  34.7300,2,    242.8,2,   244.0,2,    1.76,2,    0.00,2,    0.01,2,    0.03,2,   2.044,2,   1.384,2,   2.2364,2,  2021.8,2,  2282.8,2,   7.9766,2,    25.00,2, -999.00,9,  -999.0,9, -999.00,1, -999.00,1,        8.5,2, 20220530,     1922,  30.0003,-177.9442,    17.9573,2,     -999.0,9,     -999.0,9,     -999.0,9,     -999.0,9,     0.0244,1,     4.6306,1,     -999.0,9,     -999.0,9,     -999.0,9
33RR20220430,        P02,      88,          1,         32,         32,2,20220530,       1722,    30.0003,  -177.9442,       5214,   116.7,2,  16.8960,2,  34.6649,2,  34.6541,2,    229.2,2,   229.7,2,    2.83,2,    2.04,2,    0.21,2,    0.19,2,   2.115,2,   1.412,2,   2.2059,2,  2037.7,2,  2275.5,2,   7.9403,2,    24.99,2, -999.00,9,  -999.0,9, -999.00,1, -999.00,1,        9.2,2, 20220530,     1920,  30.0003,-177.9442,    16.8846,2,     -999.0,9,     -999.0,9,     -999.0,9,     -999.0,9,     0.0269,1,     4.6586,1,     -999.0,9,     -999.0,9,     -999.0,9
33RR20220430,        P02,      88,          1,         31,         31,2,20220530,       1722,    30.0003,  -177.9442,       5214,   166.7,2,  16.2305,2,  34.6448,2,  34.6350,2,    215.4,2,   213.8,2,    4.20,2,    4.79,2,    0.02,2,    0.35,2,   2.166,2,   1.399,2,   2.0632,2,  2052.9,2,  2275.3,2,   7.9061,2,    25.00,2, -999.00,9,  -999.0,9, -999.00,1, -999.00,1,       10.5,2, 20220530,     1918,  30.0003,-177.9442,    16.2447,2,     -999.0,9,     -999.0,9,     -999.0,9,     -999.0,9,     0.0134,1,     4.6824,1,     -999.0,9,     -999.0,9,     -999.0,9
33RR20220430,        P02,      88,          1,         30,         30,2,20220530,       1722,    30.0003,  -177.9442,       5214,   217.5,2,  15.1355,2,  34.5675,2,  34.5596,2,    208.9,2,   208.9,2,    6.94,2,    7.10,2,    0.00,2,    0.50,2,   2.222,2,   1.473,2,   1.8488,2,  2067.0,2,  2272.2,2,   7.8733,2,    24.99,2, -999.00,9,  -999.0,9, -999.00,1, -999.00,1,       11.6,2, 20220530,     1916,  30.0003,-177.9442,    15.1393,2,     -999.0,9,     -999.0,9,     -999.0,9,     -999.0,9,     0.0122,1,     4.6868,1,     -999.0,9,     -999.0,9,     -999.0,9
33RR20220430,        P02,      88,          1,         29,         29,2,20220530,       1722,    30.0003,  -177.9442,       5214,   268.0,2,  14.3388,2,  34.5081,2,  34.4995,2,    208.2,2,   208.4,2,    8.79,2,    8.52,2,    0.00,2,    0.61,2,   2.308,2,   1.541,2,   2.0741,2,  2076.2,2,  2271.8,2,   7.8516,2,    25.01,2, -999.00,9,  -999.0,9, -999.00,1, -999.00,1,       12.6,2, 20220530,     1914,  30.0003,-177.9442,    14.3359,2,     -999.0,9,     -999.0,9,     -999.0,9,     -999.0,9,     0.0122,1,     4.6885,1,     -999.0,9,     -999.0,9,     -999.0,9
33RR20220430,        P02,      88,          1,         28,         28,2,20220530,       1722,    30.0003,  -177.9442,       5214,   318.0,2,  13.1538,2,  34.4005,2,  34.3862,2,    210.0,2,   211.0,2,   10.75,2,   10.14,2,    0.00,2,    0.72,2,   2.494,2,   1.639,2,   2.1328,2,  -999.0,9,  -999.0,9,-999.0000,9,  -999.00,9, -999.00,9,  -999.0,9, -999.00,1, -999.00,1,       13.8,2, 20220530,     1912,  30.0003,-177.9442,    13.1530,2,     -999.0,9,     -999.0,9,     -999.0,9,     -999.0,9,     0.0122,1,     4.6908,1,     -999.0,9,     -999.0,9,     -999.0,9
33RR20220430,        P02,      88,          1,         27,         27,2,20220530,       1722,    30.0003,  -177.9442,       5214,   368.5,2,  12.0797,2,  34.3145,2,  34.3068,2,    209.5,2,   210.7,2,   13.58,2,   12.05,2,    0.00,2,    0.86,2,   2.575,2,   1.699,2,   1.9576,2,  2098.8,2,  2266.2,2,   7.7899,2,    25.02,2, -999.00,9,  -999.0,9, -999.00,1, -999.00,1,       14.8,2, 20220530,     1910,  30.0003,-177.9442,    12.0816,2,     -999.0,9,     -999.0,9,     -999.0,9,     -999.0,9,     0.0122,1,     4.6926,1,     -999.0,9,     -999.0,9,     -999.0,9
33RR20220430,        P02,      88,          1,         26,         26,2,20220530,       1722,    30.0003,  -177.9442,       5214,   439.1,2,  10.6177,2,  34.2029,2,  34.1973,2,    204.4,2,   205.5,2,   19.15,2,   15.27,2,    0.00,2,    1.09,2,   2.684,2,   1.693,2,   1.8642,2,  -999.0,9,  -999.0,9,-999.0000,9,  -999.00,9, -999.00,9,  -999.0,9, -999.00,1, -999.00,1,       16.8,2, 20220530,     1908,  30.0003,-177.9442,    10.6164,2,     -999.0,9,     -999.0,9,     -999.0,9,     -999.0,9,     0.0122,1,     4.6954,1,     -999.0,9,     -999.0,9,     -999.0,9
33RR20220430,        P02,      88,          1,         25,         25,2,20220530,       1722,    30.0003,  -177.9442,       5214,   540.1,2,   8.3722,2,  34.0558,2,  34.0503,2,    180.5,2,   179.3,2,   34.11,2,   21.97,2,    0.00,2,    1.57,2,   2.608,6,   1.616,6,   1.6430,6,  2164.0,2,  2271.7,2,   7.6420,2,    25.00,2, -999.00,9,  -999.0,9, -999.00,1, -999.00,1,       21.7,6, 20220530,     1905,  30.0003,-177.9442,     8.3753,2,     -999.0,9,     -999.0,9,     -999.0,9,     -999.0,9,     0.0122,1,     4.6979,1,     -999.0,9,     -999.0,9,     -999.0,9
33RR20220430,        P02,      88,          1,         24,         24,2,20220530,       1722,    30.0003,  -177.9442,       5214,   641.3,2,   6.1878,2,  34.0229,2,  34.0213,2,    122.4,2,   121.8,2,   60.59,2,   31.22,2,    0.00,2,    2.25,2,   2.014,2,   1.229,2,   0.8759,2,  2232.8,2,  2289.0,2,   7.4929,2,    25.00,2, -999.00,9,  -999.0,9, -999.00,9, -999.00,9,       32.0,2, 20220530,     1903,  30.0003,-177.9442,     6.1974,2,     -999.0,9,     -999.0,9,     -999.0,9,     -999.0,9,     0.0134,1,     4.6986,1,     -999.0,9,     -999.0,9,     -999.0,9
33RR20220430,        P02,      88,          1,         23,         23,2,20220530,       1722,    30.0003,  -177.9442,       5214,   747.2,2,   5.0284,2,  34.0847,2,  34.0846,2,     78.5,2,    78.3,2,   82.78,2,   37.10,2,    0.00,2,    2.68,2,   1.280,2,   0.789,2,   0.4503,2,  2283.6,2,  2311.0,2,   7.3986,2,    24.98,2, -999.00,9,  -999.0,9, -999.00,1, -999.00,1,       40.5,2, 20220530,     1900,  30.0003,-177.9442,     5.0300,2,     -999.0,9,     -999.0,9,     -999.0,9,     -999.0,9,     0.0134,1,     4.6994,1,     -999.0,9,     -999.0,9,     -999.0,9
33RR20220430,        P02,      88,          1,         22,         22,2,20220530,       1722,    30.0003,  -177.9442,       5214,   847.4,2,   4.4159,2,  34.1554,2,  34.1619,2,     51.6,3,    50.0,2,   99.78,2,   40.53,2,    0.00,2,    2.91,2,   0.735,2,   0.443,2,   0.2186,2,  -999.0,9,  -999.0,9,-999.0000,9,  -999.00,9, -999.00,9,  -999.0,9, -999.00,9, -999.00,9,       47.0,2, 20220530,     1857,  30.0003,-177.9442,     4.4154,2,     -999.0,9,     -999.0,9,     -999.0,9,     -999.0,9,     0.0134,1,     4.6994,1,     -999.0,9,     -999.0,9,     -999.0,9
33RR20220430,        P02,      88,          1,         21,         21,2,20220530,       1722,    30.0003,  -177.9442,       5214,   947.5,2,   3.9431,2,  34.2426,2,  34.2421,2,     33.0,3,    33.8,2,  113.16,2,   42.27,2,    0.00,2,    3.05,2,   0.380,2,   0.225,2,   0.0000,2,  2341.1,2,  2346.3,2,   7.3257,2,    25.01,2, -999.00,9,  -999.0,9, -999.00,1, -999.00,1,       52.2,2, 20220530,     1855,  30.0003,-177.9442,     3.9396,2,     -999.0,9,     -999.0,9,     -999.0,9,     -999.0,9,     0.0127,1,     4.6995,1,     -999.0,9,     -999.0,9,     -999.0,9
33RR20220430,        P02,      88,          1,         20,         20,2,20220530,       1722,    30.0003,  -177.9442,       5214,  1048.6,2,   3.6122,2,  34.3170,2,  34.3176,2,     26.0,3,    27.3,2,  123.12,2,   43.20,2,    0.00,2,    3.13,2,   0.174,2,   0.100,2,   0.0000,2,  -999.0,9,  -999.0,9,-999.0000,9,  -999.00,9, -999.00,9,  -999.0,9, -999.00,9, -999.00,9,       54.4,2, 20220530,     1852,  30.0003,-177.9442,     3.6120,2,     -999.0,9,     -999.0,9,     -999.0,9,     -999.0,9,     0.0134,1,     4.7000,1,     -999.0,9,     -999.0,9,     -999.0,9
33RR20220430,        P02,      88,          1,         19,         19,2,20220530,       1722,    30.0003,  -177.9442,       5214,  1150.9,2,   3.3155,2,  34.3918,2,  34.3917,2,     25.6,2,    25.8,2,  132.59,2,   43.61,2,    0.00,2,    3.14,2,   0.069,2,   0.041,2,   0.0000,2,  2368.9,2,  2373.0,2,   7.3274,2,    24.97,2, -999.00,9,  -999.0,9, -999.00,1, -999.00,1,       53.9,2, 20220530,     1849,  30.0003,-177.9442,     3.3158,2,     -999.0,9,     -999.0,9,     -999.0,9,     -999.0,9,     0.0134,1,     4.7006,1,     -999.0,9,     -999.0,9,     -999.0,9
33RR20220430,        P02,      88,          1,         18,         18,2,20220530,       1722,    30.0003,  -177.9442,       5214,  1252.0,2,   3.0880,2,  34.4408,2,  34.4424,2,     29.3,3,    30.2,2,  138.64,2,   43.53,2,    0.00,2,    3.14,2,   0.035,2,   0.017,2,   0.0000,2,  -999.0,9,  -999.0,9,-999.0000,9,  -999.00,9, -999.00,9,  -999.0,9, -999.00,9, -999.00,9,       51.8,2, 20220530,     1846,  30.0003,-177.9442,     3.0878,2,     -999.0,9,     -999.0,9,     -999.0,9,     -999.0,9,     0.0134,1,     4.7005,1,     -999.0,9,     -999.0,9,     -999.0,9
33RR20220430,        P02,      88,          1,         17,         17,2,20220530,       1722,    30.0003,  -177.9442,       5214,  1353.4,2,   2.8662,2,  34.4808,2,  34.4797,2,     34.4,3,    35.4,2,  144.30,2,   43.35,2,    0.00,2,    3.13,2,   0.018,2,   0.000,2,   0.0000,2,  2376.9,2,  2389.1,2,-999.0000,1,  -999.00,1, -999.00,9,  -999.0,9, -999.00,1, -999.00,1,       48.9,2, 20220530,     1843,  30.0003,-177.9442,     2.8683,2,     -999.0,9,     -999.0,9,     -999.0,9,     -999.0,9,     0.0134,1,     4.7008,1,     -999.0,9,     -999.0,9,     -999.0,9
33RR20220430,        P02,      88,          1,         16,         16,2,20220530,       1722,    30.0003,  -177.9442,       5214,  1454.8,2,   2.7234,2,  34.5074,2,  34.5085,2,     40.9,2,    40.7,2,  148.31,2,   43.03,2,    0.00,2,    3.09,2,   0.017,2,   0.000,2,   0.0000,2,  2376.9,2,  2395.2,2,   7.3662,2,    25.01,2, -999.00,9,  -999.0,9, -999.00,1, -999.00,1,       45.0,2, 20220530,     1841,  30.0003,-177.9442,     2.7224,2,     -999.0,9,     -999.0,9,     -999.0,9,     -999.0,9,     0.0133,1,     4.7012,1,     -999.0,9,     -999.0,9,     -999.0,9
33RR20220430,        P02,      88,          1,         15,         15,2,20220530,       1722,    30.0003,  -177.9442,       5214,  1555.5,2,   2.5614,2,  34.5327,2,  34.5333,2,     49.2,3,    48.3,2,  151.23,2,   42.66,2,    0.00,2,    3.05,2,   0.008,2,   0.000,2,   0.0000,2,  2374.6,2,  2399.8,2,   7.3823,2,    25.02,2, -999.00,9,  -999.0,9, -999.00,1, -999.00,1,       42.2,2, 20220530,     1838,  30.0003,-177.9442,     2.5604,2,     -999.0,9,     -999.0,9,     -999.0,9,     -999.0,9,     0.0134,1,     4.7015,1,     -999.0,9,     -999.0,9,     -999.0,9
33RR20220430,        P02,      88,          1,         14,         14,2,20220530,       1722,    30.0003,  -177.9442,       5214,  1687.3,2,   2.3578,2,  34.5597,2,  34.5612,2,     59.3,2,    58.9,2,  155.14,2,   42.03,2,    0.00,2,    3.00,2,-999.000,9,-999.000,9,-999.0000,9,  2375.5,2,  2407.2,2,   7.4045,2,    25.00,2, -999.00,9,  -999.0,9, -999.00,9, -999.00,9,     -999.0,9, 20220530,     1835,  30.0003,-177.9442,     2.3577,2,     -999.0,9,     -999.0,9,     -999.0,9,     -999.0,9,     0.0133,1,     4.7031,1,     -999.0,9,     -999.0,9,     -999.0,9
33RR20220430,        P02,      88,          1,         13,         13,2,20220530,       1722,    30.0003,  -177.9442,       5214,  1889.9,2,   2.0872,2,  34.5904,2,  34.5910,2,     72.0,2,    72.3,2,  160.90,2,   41.28,2,    0.00,2,    2.93,2,   0.004,2,   0.000,2,   0.0000,2,  2371.2,2,  2412.7,2,   7.4298,2,    24.95,2, -999.00,9,  -999.0,9, -999.00,1, -999.00,1,       35.5,2, 20220530,     1830,  30.0003,-177.9442,     2.0878,2,     -999.0,9,     -999.0,9,     -999.0,9,     -999.0,9,     0.0125,1,     4.7041,1,     -999.0,9,     -999.0,9,     -999.0,9
33RR20220430,        P02,      88,          1,         12,         12,2,20220530,       1722,    30.0003,  -177.9442,       5214,  2113.3,2,   1.9145,2,  34.6122,2,  34.6126,2,     83.6,2,    83.1,2,  163.53,2,   40.62,2,    0.00,2,    2.86,2,-999.000,9,-999.000,9,-999.0000,9,  -999.0,9,  -999.0,9,-999.0000,9,  -999.00,9, -999.00,9,  -999.0,9, -999.00,9, -999.00,9,     -999.0,9, 20220530,     1826,  30.0003,-177.9442,     1.9141,2,     -999.0,9,     -999.0,9,     -999.0,9,     -999.0,9,     0.0134,1,     4.7039,1,     -999.0,9,     -999.0,9,     -999.0,9
33RR20220430,        P02,      88,          1,         11,         11,2,20220530,       1722,    30.0003,  -177.9442,       5214,  2366.8,2,   1.7591,2,  34.6314,2,  34.6321,2,     96.9,3,    98.0,2,  164.70,2,   39.75,2,    0.00,2,    2.80,2,   0.004,2,   0.000,2,   0.0000,2,  2361.7,2,  2418.0,2,   7.4746,2,    24.99,2, -999.00,9,  -999.0,9, -999.00,1, -999.00,1,       29.2,2, 20220530,     1820,  30.0003,-177.9442,     1.7593,2,     -999.0,9,     -999.0,9,     -999.0,9,     -999.0,9,     0.0134,1,     4.7043,1,     -999.0,9,     -999.0,9,     -999.0,9
33RR20220430,        P02,      88,          1,         10,         10,2,20220530,       1722,    30.0003,  -177.9442,       5214,  2621.5,2,   1.6490,2,  34.6459,2,  34.6460,2,    109.2,2,   108.6,2,  163.92,2,   38.99,2,    0.00,2,    2.74,2,-999.000,9,-999.000,9,-999.0000,9,  -999.0,9,  -999.0,9,-999.0000,9,  -999.00,9, -999.00,9,  -999.0,9, -999.00,9, -999.00,9,     -999.0,9, 20220530,     1815,  30.0003,-177.9442,     1.6487,2,     -999.0,9,     -999.0,9,     -999.0,9,     -999.0,9,     0.0122,1,     4.7044,1,     -999.0,9,     -999.0,9,     -999.0,9
33RR20220430,        P02,      88,          1,          9,          9,2,20220530,       1722,    30.0003,  -177.9442,       5214,  2877.8,2,   1.5731,2,  34.6568,2,  34.6561,2,    119.6,2,   119.9,2,  163.33,2,   38.30,2,    0.00,2,    2.68,2,   0.004,2,   0.000,2,   0.0000,2,  2348.9,2,  2419.7,2,   7.5185,2,    24.98,2, -999.00,9,  -999.0,9, -999.00,1, -999.00,1,       26.2,2, 20220530,     1810,  30.0003,-177.9442,     1.5730,2,     -999.0,9,     -999.0,9,     -999.0,9,     -999.0,9,     0.0122,1,     4.7045,1,     -999.0,9,     -999.0,9,     -999.0,9
33RR20220430,        P02,      88,          1,          8,          8,2,20220530,       1722,    30.0003,  -177.9442,       5214,  3146.7,2,   1.5109,2,  34.6662,2,  34.6671,2,    129.9,2,   130.0,2,  160.11,2,   37.59,2,    0.00,2,    2.62,2,-999.000,9,-999.000,9,-999.0000,9,  -999.0,9,  -999.0,9,-999.0000,9,  -999.00,9, -999.00,9,  -999.0,9, -999.00,9, -999.00,9,     -999.0,9, 20220530,     1804,  30.0003,-177.9442,     1.5113,2,     -999.0,9,     -999.0,9,     -999.0,9,     -999.0,9,     0.0122,1,     4.7044,1,     -999.0,9,     -999.0,9,     -999.0,9
33RR20220430,        P02,      88,          1,          7,          7,2,20220530,       1722,    30.0003,  -177.9442,       5214,  3453.6,2,   1.4693,2,  34.6743,2,  34.6751,2,    139.1,2,   139.3,2,  158.15,2,   36.98,2,    0.00,2,    2.57,2,   0.003,2,   0.000,2,   0.0000,2,  2336.8,2,  2421.1,2,   7.5528,2,    25.00,2, -999.00,9,  -999.0,9, -999.00,1, -999.00,1,       23.4,2, 20220530,     1758,  30.0003,-177.9442,     1.4688,2,     -999.0,9,     -999.0,9,     -999.0,9,     -999.0,9,     0.0122,1,     4.7045,1,     -999.0,9,     -999.0,9,     -999.0,9
33RR20220430,        P02,      88,          1,          6,          6,2,20220530,       1722,    30.0003,  -177.9442,       5214,  3760.9,2,   1.4596,2,  34.6790,2,  34.6798,2,    144.8,2,   144.6,2,  156.88,2,   36.63,2,    0.00,2,    2.55,2,-999.000,9,-999.000,9,-999.0000,9,  -999.0,9,  -999.0,9,-999.0000,9,  -999.00,9, -999.00,9,  -999.0,9, -999.00,9, -999.00,9,     -999.0,9, 20220530,     1752,  30.0003,-177.9442,     1.4591,2,     -999.0,9,     -999.0,9,     -999.0,9,     -999.0,9,     0.0122,1,     4.7050,1,     -999.0,9,     -999.0,9,     -999.0,9
33RR20220430,        P02,      88,          1,          5,          5,2,20220530,       1722,    30.0003,  -177.9442,       5214,  4067.5,2,   1.4598,2,  34.6828,2,  34.6832,2,    149.2,2,   149.1,2,  156.59,2,   36.34,2,    0.00,2,    2.51,2,-999.000,9,-999.000,9,-999.0000,9,  2329.3,2,  2419.4,2,   7.5714,2,    24.99,2, -999.00,9,  -999.0,9, -999.00,1, -999.00,1,     -999.0,9, 20220530,     1746,  30.0003,-177.9442,     1.4595,2,     -999.0,9,     -999.0,9,     -999.0,9,     -999.0,9,     0.0122,1,     4.7054,1,     -999.0,9,     -999.0,9,     -999.0,9
33RR20220430,        P02,      88,          1,          4,          4,2,20220530,       1722,    30.0003,  -177.9442,       5214,  4375.2,2,   1.4783,2,  34.6847,2,  34.6851,2,    151.6,2,   151.7,2,  155.42,2,   36.16,2,    0.00,2,    2.50,2,   0.005,2,   0.000,2,   0.0000,2,  -999.0,9,  -999.0,9,-999.0000,9,  -999.00,9, -999.00,9,  -999.0,9, -999.00,9, -999.00,9,       22.4,2, 20220530,     1740,  30.0003,-177.9442,     1.4783,2,     -999.0,9,     -999.0,9,     -999.0,9,     -999.0,9,     0.0122,1,     4.7057,1,     -999.0,9,     -999.0,9,     -999.0,9