BOTTLE,20230801CCHSIOCBG
EXPOCODE,SECT_ID,STNNBR,CASTNO,SAMPNO,BTLNBR,BTLNBR_FLAG_W,DATE,TIME,LATITUDE,LONGITUDE,DEPTH,CTDPRS,CTDPRS_FLAG_W,CTDTMP,CTDTMP_FLAG_W,CTDSAL,CTDSAL_FLAG_W,SALNTY,SALNTY_FLAG_W,CTDOXY,CTDOXY_FLAG_W,OXYGEN,OXYGEN_FLAG_W,SILCAT,SILCAT_FLAG_W,NITRAT,NITRAT_FLAG_W,NITRIT,NITRIT_FLAG_W,PHSPHT,PHSPHT_FLAG_W,CFC-11,CFC-11_FLAG_W,CFC-12,CFC-12_FLAG_W,SF6,SF6_FLAG_W,TCARBN,TCARBN_FLAG_W,ALKALI,ALKALI_FLAG_W,PH_TOT,PH_TOT_FLAG_W,PH_TMP,PH_TMP_FLAG_W,DELC13,DELC13_FLAG_W,DELC14,DELC14_FLAG_W,DOC,DOC_FLAG_W,TDN,TDN_FLAG_W,N2O,N2O_FLAG_W,BTL_DATE,BTL_TIME,BTL_LAT,BTL_LON,REFTMP,REFTMP_FLAG_W,POC,POC_FLAG_W,PON,PON_FLAG_W,POP,POP_FLAG_W,PCOD,PCOD_FLAG_W,CTDFLUOR,CTDFLUOR_FLAG_W,CTDXMISS,CTDXMISS_FLAG_W,HPLC,HPLC_FLAG_W,DNA,DNA_FLAG_W,FCM,FCM_FLAG_W
,,,,,,,,,,,METERS,DBAR,,ITS-90,,PSS-78,,PSS-78,,UMOL/KG,,UMOL/KG,,UMOL/KG,,UMOL/KG,,UMOL/KG,,UMOL/KG,,PMOL/KG,,PMOL/KG,,FMOL/KG,,UMOL/KG,,UMOL/KG,,,,DEG C,,/MILLE,,/MILLE,,UMOL/KG,,UMOL/KG,,NMOL/KG,,,,,,ITS-90,,UG/L,,UG/L,,UG/L,,UG/L,,VOLTS,,VOLTS,,,,,,,
33RR20220430,        P02,      23,          2,         36,         36,2,20220510,       0435,    30.0002,   143.1773,       6001,     7.4,2,  22.4297,2,  34.8400,2,  34.8263,2,    219.9,2,   218.7,2,    0.59,2,    0.03,2,    0.00,2,    0.01,2,   1.680,2,   1.034,2,   1.6788,2,  1998.9,2,  2287.2,2,   8.0262,2,    25.01,2, -999.00,1,  -999.0,1, -999.00,1, -999.00,1,        6.4,2, 20220510,      655,  30.0002, 143.1773,    22.4391,2,     -999.0,9,     -999.0,9,     -999.0,9,     -999.0,9,     0.0147,1,     4.6320,1,     -999.0,9,     -999.0,9,     -999.0,9
33RR20220430,        P02,      23,          2,         35,         35,2,20220510,       0435,    30.0002,   143.1773,       6001,    22.5,2,  22.3718,2,  34.8493,2,  34.8412,2,    220.0,2,   219.2,2,    0.68,2,    0.00,2,    0.00,2,   -0.01,2,   1.740,2,   1.111,2,   1.8190,2,  1998.2,6,  2287.6,2,   8.0265,2,    24.97,2, -999.00,1,  -999.0,1, -999.00,1, -999.00,1,        6.4,2, 20220510,      653,  30.0002, 143.1773,    22.3726,2,     -999.0,9,     -999.0,9,     -999.0,9,     -999.0,9,     0.0159,1,     4.6362,1,     -999.0,9,     -999.0,9,     -999.0,9
33RR20220430,        P02,      23,          2,         34,         34,2,20220510,       0435,    30.0002,   143.1773,       6001,    41.5,2,  21.0168,2,  34.8594,2,  34.8509,2,    226.8,2,   226.8,2,    0.78,2,    0.00,2,    0.00,2,   -0.01,2,   1.840,2,   1.214,2,   2.0060,2,  2006.0,2,  2287.7,2,   8.0163,2,    25.00,2, -999.00,1,  -999.0,1, -999.00,1, -999.00,1,        6.8,2, 20220510,      652,  30.0002, 143.1773,    21.0184,2,     -999.0,9,     -999.0,9,     -999.0,9,     -999.0,9,     0.0208,1,     4.6282,1,     -999.0,9,     -999.0,9,     -999.0,9
33RR20220430,        P02,      23,          2,         33,         33,2,20220510,       0435,    30.0002,   143.1773,       6001,    67.3,2,  20.0666,2,  34.8574,2,  34.8495,2,    222.6,2,   223.0,2,    0.88,2,    0.02,2,    0.00,2,    0.00,2,   1.796,2,   1.234,2,   1.9377,2,  2014.4,2,  2287.5,2,   8.0045,2,    24.99,2, -999.00,1,  -999.0,1, -999.00,1, -999.00,1,        7.1,2, 20220510,      650,  30.0002, 143.1773,    20.0666,2,     -999.0,9,     -999.0,9,     -999.0,9,     -999.0,9,     0.0327,1,     4.6312,1,     -999.0,9,     -999.0,9,     -999.0,9
33RR20220430,        P02,      23,          2,         32,         32,2,20220510,       0435,    30.0002,   143.1773,       6001,    92.0,2,  19.4755,2,  34.8463,2,  34.8391,2,    218.7,2,   218.6,2,    0.98,2,    0.54,2,    0.10,2,    0.03,2,   1.939,2,   1.288,2,   1.9853,2,  2017.3,2,  2287.1,2,-999.0000,1,  -999.00,1, -999.00,1,  -999.0,1, -999.00,1, -999.00,1,        7.7,2, 20220510,      648,  30.0002, 143.1773,    19.4775,2,     -999.0,9,     -999.0,9,     -999.0,9,     -999.0,9,     0.0273,1,     4.6535,1,     -999.0,9,     -999.0,9,     -999.0,9
33RR20220430,        P02,      23,          2,         31,         31,2,20220510,       0435,    30.0002,   143.1773,       6001,   137.1,2,  18.2817,2,  34.8033,2,  34.7976,2,    219.2,2,   219.8,2,    1.37,2,    1.46,2,    0.01,2,    0.08,2,   2.045,2,   1.356,2,   1.9319,2,  2026.4,2,  2284.2,2,   7.9724,2,    25.05,2, -999.00,1,  -999.0,1, -999.00,1, -999.00,1,        8.2,2, 20220510,      646,  30.0002, 143.1773,    18.2705,2,     -999.0,9,     -999.0,9,     -999.0,9,     -999.0,9,     0.0147,1,     4.6811,1,     -999.0,9,     -999.0,9,     -999.0,9
33RR20220430,        P02,      23,          2,         30,         30,2,20220510,       0435,    30.0002,   143.1773,       6001,   188.4,2,  17.6956,2,  34.7674,2,  34.7616,2,    217.5,2,   218.1,2,    1.86,2,    2.62,2,    0.00,2,    0.15,2,   2.100,2,   1.404,2,   1.9896,2,  -999.0,9,  -999.0,9,-999.0000,9,  -999.00,9, -999.00,1,  -999.0,1, -999.00,1, -999.00,1,        8.6,2, 20220510,      644,  30.0002, 143.1773,    17.6944,2,     -999.0,9,     -999.0,9,     -999.0,9,     -999.0,9,     0.0125,1,     4.6885,1,     -999.0,9,     -999.0,9,     -999.0,9
33RR20220430,        P02,      23,          2,         29,         29,2,20220510,       0435,    30.0002,   143.1773,       6001,   242.6,2,  17.2737,2,  34.7513,2,  34.7443,2,    209.3,2,   209.8,2,    2.93,2,    4.19,2,    0.00,2,    0.24,2,   2.052,2,   1.316,2,   1.9648,2,  2040.5,2,  2281.2,2,   7.9342,2,    24.95,2, -999.00,1,  -999.0,1, -999.00,1, -999.00,1,        9.2,2, 20220510,      642,  30.0002, 143.1773,    17.2707,2,     -999.0,9,     -999.0,9,     -999.0,9,     -999.0,9,     0.0122,1,     4.6910,1,     -999.0,9,     -999.0,9,     -999.0,9
33RR20220430,        P02,      23,          2,         28,         28,2,20220510,       0435,    30.0002,   143.1773,       6001,   292.0,2,  16.7519,2,  34.7191,2,  34.7138,2,    201.5,2,   201.7,2,    4.20,2,    5.75,2,    0.00,2,    0.33,2,   1.893,2,   1.422,2,   1.9111,2,  -999.0,9,  -999.0,9,-999.0000,9,  -999.00,9, -999.00,1,  -999.0,1, -999.00,1, -999.00,1,       10.4,2, 20220510,      640,  30.0002, 143.1773,    16.7523,2,     -999.0,9,     -999.0,9,     -999.0,9,     -999.0,9,     0.0122,1,     4.6935,1,     -999.0,9,     -999.0,9,     -999.0,9
33RR20220430,        P02,      23,          2,         27,         27,2,20220510,       0435,    30.0002,   143.1773,       6001,   342.6,2,  15.9848,2,  34.6575,2,  34.6513,2,    195.8,2,   195.8,2,    6.25,2,    7.50,2,    0.00,2,    0.47,2,   2.239,6,   1.481,6,   1.7447,6,  2064.2,2,  2278.4,2,   7.8820,2,    25.00,2, -999.00,1,  -999.0,1, -999.00,1, -999.00,1,       11.7,6, 20220510,      638,  30.0002, 143.1773,    15.9824,2,     -999.0,9,     -999.0,9,     -999.0,9,     -999.0,9,     0.0122,1,     4.6956,1,     -999.0,9,     -999.0,9,     -999.0,9
33RR20220430,        P02,      23,          2,         26,         26,2,20220510,       0435,    30.0002,   143.1773,       6001,   393.6,2,  14.7506,2,  34.5595,2,  34.5541,2,    190.2,2,   190.6,2,    9.77,2,    9.88,2,    0.00,2,    0.63,2,   2.313,2,   1.483,2,   1.6577,2,  2083.1,2,  2274.7,2,   7.8430,2,    24.99,2, -999.00,1,  -999.0,1, -999.00,1, -999.00,1,       13.6,2, 20220510,      636,  30.0002, 143.1773,    14.7556,2,     -999.0,9,     -999.0,9,     -999.0,9,     -999.0,9,     0.0122,1,     4.6971,1,     -999.0,9,     -999.0,9,     -999.0,9
33RR20220430,        P02,      23,          2,         25,         25,2,20220510,       0435,    30.0002,   143.1773,       6001,   469.1,2,  12.5930,2,  34.3838,2,  34.3808,2,    190.5,2,   191.2,2,   14.85,2,   13.11,2,    0.00,2,    0.87,2,   2.636,2,   1.615,2,   1.5497,2,  2104.1,2,  2272.5,2,   7.7867,2,    24.99,2, -999.00,1,  -999.0,1, -999.00,1, -999.00,1,       16.4,2, 20220510,      634,  30.0002, 143.1772,    12.5914,2,     -999.0,9,     -999.0,9,     -999.0,9,     -999.0,9,     0.0122,1,     4.7017,1,     -999.0,9,     -999.0,9,     -999.0,9
33RR20220430,        P02,      23,          2,         24,         24,2,20220510,       0435,    30.0002,   143.1773,       6001,   570.4,2,   9.6132,2,  34.1823,2,  34.1779,2,    171.0,2,   171.3,2,   30.88,2,   20.21,2,    0.00,2,    1.39,2,   2.643,2,   1.571,2,   1.2020,2,  2156.8,6,  2275.0,2,   7.6756,2,    25.02,2, -999.00,1,  -999.0,1, -999.00,1, -999.00,1,       22.6,2, 20220510,      631,  30.0002, 143.1773,     9.5909,2,     -999.0,9,     -999.0,9,     -999.0,9,     -999.0,9,     0.0122,1,     4.7043,1,     -999.0,9,     -999.0,9,     -999.0,9
33RR20220430,        P02,      23,          2,         23,         23,2,20220510,       0435,    30.0002,   143.1773,       6001,   678.9,2,   7.0446,2,  34.0581,2,  34.0566,2,    139.0,2,   138.6,2,   52.18,2,   28.16,2,    0.00,2,    1.94,2,   2.097,2,   1.350,2,   0.9826,2,  2209.2,2,  2286.2,2,   7.5499,2,    24.99,2, -999.00,1,  -999.0,1, -999.00,1, -999.00,1,       30.8,2, 20220510,      628,  30.0002, 143.1773,     7.0411,2,     -999.0,9,     -999.0,9,     -999.0,9,     -999.0,9,     0.0129,1,     4.7058,1,     -999.0,9,     -999.0,9,     -999.0,9
33RR20220430,        P02,      23,          2,         22,         22,2,20220510,       0435,    30.0002,   143.1773,       6001,   772.5,2,   5.5540,2,  34.0740,2,  34.0733,2,    100.0,2,    99.4,2,   73.68,2,   34.22,2,    0.00,2,    2.37,2,   1.638,2,   0.969,2,   0.6687,2,  2259.9,2,  2303.2,2,   7.4489,2,    24.97,2, -999.00,1,  -999.0,1, -999.00,1, -999.00,1,       38.2,2, 20220510,      626,  30.0002, 143.1773,     5.5531,2,     -999.0,9,     -999.0,9,     -999.0,9,     -999.0,9,     0.0133,1,     4.7069,1,     -999.0,9,     -999.0,9,     -999.0,9
33RR20220430,        P02,      23,          2,         21,         21,2,20220510,       0435,    30.0002,   143.1773,       6001,   873.5,2,   4.6587,2,  34.1591,2,  34.1601,2,     67.0,3,    66.2,2,   94.10,2,   38.38,2,    0.00,2,    2.70,2,   1.036,2,   0.593,2,   0.4775,2,  2303.3,2,  2325.6,2,   7.3838,2,    24.99,2, -999.00,1,  -999.0,1, -999.00,1, -999.00,1,       44.8,2, 20220510,      623,  30.0002, 143.1773,     4.6582,2,     -999.0,9,     -999.0,9,     -999.0,9,     -999.0,9,     0.0134,1,     4.7065,1,     -999.0,9,     -999.0,9,     -999.0,9
33RR20220430,        P02,      23,          2,         20,         20,2,20220510,       0435,    30.0002,   143.1773,       6001,   974.5,2,   4.1608,2,  34.2363,2,  34.2368,2,     50.1,2,    50.0,2,  107.38,2,   40.47,2,    0.00,2,    2.85,2,   0.612,2,   0.352,2,   0.2890,2,  2325.6,2,  2340.8,2,   7.3599,2,    24.98,2, -999.00,1,  -999.0,1, -999.00,9, -999.00,9,       47.8,2, 20220510,      620,  30.0002, 143.1773,     4.1611,2,     -999.0,9,     -999.0,9,     -999.0,9,     -999.0,9,     0.0134,1,     4.7063,1,     -999.0,9,     -999.0,9,     -999.0,9
33RR20220430,        P02,      23,          2,         19,         19,2,20220510,       0435,    30.0002,   143.1773,       6001,  1075.5,2,   3.7456,2,  34.3031,2,  34.3031,2,     41.9,2,    42.0,2,  118.81,2,   41.52,2,    0.00,2,    2.92,2,   0.388,2,   0.217,2,   0.2619,2,  2342.1,2,  2354.7,2,   7.3497,2,    25.01,2, -999.00,1,  -999.0,1, -999.00,1, -999.00,1,       49.9,2, 20220510,      618,  30.0002, 143.1772,     3.7448,2,     -999.0,9,     -999.0,9,     -999.0,9,     -999.0,9,     0.0134,1,     4.7070,1,     -999.0,9,     -999.0,9,     -999.0,9
33RR20220430,        P02,      23,          2,         18,         18,2,20220510,       0435,    30.0002,   143.1773,       6001,  1177.1,2,   3.3536,2,  34.3672,2,  34.3680,2,     38.6,2,    38.8,2,  129.84,2,   42.24,2,    0.00,2,    2.97,2,   0.221,2,   0.119,2,   0.0000,2,  2357.5,2,  2365.9,2,   7.3490,2,    25.00,2, -999.00,1,  -999.0,1, -999.00,9, -999.00,9,       49.9,2, 20220510,      615,  30.0002, 143.1773,     3.3522,2,     -999.0,9,     -999.0,9,     -999.0,9,     -999.0,9,     0.0134,1,     4.7075,1,     -999.0,9,     -999.0,9,     -999.0,9
33RR20220430,        P02,      23,          2,         17,         17,2,20220510,       0435,    30.0002,   143.1773,       6001,  1283.2,2,   3.0613,2,  34.4197,2,  34.4206,2,     39.4,3,    40.0,2,  137.65,2,   42.50,2,    0.00,2,    2.98,2,   0.122,2,   0.070,2,   0.0000,2,  2363.8,2,  2376.5,2,   7.3556,2,    25.01,2, -999.00,1,  -999.0,1, -999.00,1, -999.00,1,       48.5,2, 20220510,      612,  30.0002, 143.1772,     3.0633,2,     -999.0,9,     -999.0,9,     -999.0,9,     -999.0,9,     0.0134,1,     4.7075,1,     -999.0,9,     -999.0,9,     -999.0,9
33RR20220430,        P02,      23,          2,         16,         16,2,20220510,       0435,    30.0002,   143.1773,       6001,  1384.2,2,   2.8617,2,  34.4496,2,  34.4502,2,     41.4,3,    42.4,2,  143.02,2,   43.00,2,    0.00,2,    2.99,2,   0.088,2,   0.047,2,   0.0000,2,  2368.7,2,  2383.5,2,   7.3610,2,    24.94,2, -999.00,1,  -999.0,1, -999.00,9, -999.00,9,       49.1,2, 20220510,      609,  30.0002, 143.1772,     2.8610,2,     -999.0,9,     -999.0,9,     -999.0,9,     -999.0,9,     0.0134,1,     4.7077,1,     -999.0,9,     -999.0,9,     -999.0,9
33RR20220430,        P02,      23,          2,         15,         15,2,20220510,       0435,    30.0002,   143.1773,       6001,  1556.8,2,   2.4811,2,  34.5094,2,  34.5095,2,     49.3,2,    49.6,2,  152.69,2,   42.59,2,    0.00,2,    2.96,2,   0.038,2,   0.021,2,   0.0000,2,  2374.3,2,  2395.4,2,   7.3795,2,    24.99,2, -999.00,1,  -999.0,1, -999.00,1, -999.00,1,       44.4,2, 20220510,      605,  30.0002, 143.1772,     2.4805,2,     -999.0,9,     -999.0,9,     -999.0,9,     -999.0,9,     0.0134,1,     4.7080,1,     -999.0,9,     -999.0,9,     -999.0,9
33RR20220430,        P02,      23,          2,         14,         14,2,20220510,       0435,    30.0002,   143.1773,       6001,  1753.8,2,   2.2070,2,  34.5558,2,  34.5567,2,     63.9,2,    63.6,2,  157.08,2,   41.70,2,    0.00,2,    2.90,2,   0.017,2,   0.008,2,   0.0000,2,  2369.6,2,  2404.7,2,   7.4092,2,    24.98,2, -999.00,9,  -999.0,9, -999.00,9, -999.00,9,       40.6,2, 20220510,      601,  30.0002, 143.1772,     2.2053,2,     -999.0,9,     -999.0,9,     -999.0,9,     -999.0,9,     0.0134,1,     4.7087,1,     -999.0,9,     -999.0,9,     -999.0,9
33RR20220430,        P02,      23,          2,         13,         13,2,20220510,       0435,    30.0002,   143.1773,       6001,  1957.1,2,   2.0226,2,  34.5860,2,  34.5865,2,     76.4,2,    76.1,2,  158.93,2,   40.87,2,    0.00,2,    2.84,2,   0.009,2,   0.000,2,   0.0000,2,  2367.9,6,  2408.6,2,   7.4556,2,    25.00,2, -999.00,1,  -999.0,1, -999.00,1, -999.00,1,       38.1,2, 20220510,      557,  30.0002, 143.1773,     2.0210,2,     -999.0,9,     -999.0,9,     -999.0,9,     -999.0,9,     0.0133,1,     4.7090,1,     -999.0,9,     -999.0,9,     -999.0,9
33RR20220430,        P02,      23,          2,         12,         12,2,20220510,       0435,    30.0002,   143.1773,       6001,  2192.9,2,   1.8663,2,  34.6128,2,  34.6132,2,     92.6,2,    92.6,2,  158.24,2,   39.85,2,    0.00,2,    2.77,2,   0.006,2,   0.000,2,   0.0000,2,  2357.5,2,  2413.2,2,   7.4671,2,    24.98,2, -999.00,9,  -999.0,9, -999.00,9, -999.00,9,       34.8,2, 20220510,      552,  30.0002, 143.1773,     1.8665,2,     -999.0,9,     -999.0,9,     -999.0,9,     -999.0,9,     0.0134,1,     4.7095,1,     -999.0,9,     -999.0,9,     -999.0,9
33RR20220430,        P02,      23,          2,         11,         11,2,20220510,       0435,    30.0002,   143.1773,       6001,  2445.4,2,   1.7565,2,  34.6316,2,  34.6319,2,    105.4,2,   105.4,2,  157.17,2,   39.10,2,    0.00,2,    2.71,2,   0.006,2,   0.000,2,   0.0000,2,  2353.7,2,  2414.4,2,-999.0000,1,  -999.00,1, -999.00,1,  -999.0,1, -999.00,1, -999.00,1,       32.9,2, 20220510,      546,  30.0002, 143.1773,     1.7563,2,     -999.0,9,     -999.0,9,     -999.0,9,     -999.0,9,     0.0132,1,     4.7101,1,     -999.0,9,     -999.0,9,     -999.0,9
33RR20220430,        P02,      23,          2,         10,         10,2,20220510,       0435,    30.0002,   143.1773,       6001,  2701.2,2,   1.6636,2,  34.6473,2,  34.6474,2,    117.9,2,   117.8,2,  155.41,2,   38.28,2,    0.00,2,    2.65,2,   0.008,2,   0.000,2,   0.0000,2,  2346.6,2,  2415.2,2,   7.4919,2,    25.03,2, -999.00,9,  -999.0,9, -999.00,9, -999.00,9,       30.3,2, 20220510,      541,  30.0002, 143.1773,     1.6636,2,     -999.0,9,     -999.0,9,     -999.0,9,     -999.0,9,     0.0131,1,     4.7106,1,     -999.0,9,     -999.0,9,     -999.0,9
33RR20220430,        P02,      23,          2,          9,          9,2,20220510,       0435,    30.0002,   143.1773,       6001,  2956.3,2,   1.5984,2,  34.6580,2,  34.6584,2,    126.2,2,   126.2,2,  154.33,2,   37.75,2,    0.00,2,    2.61,2,   0.012,2,   0.000,2,   0.0000,2,  2340.2,2,  2414.6,2,-999.0000,1,  -999.00,1, -999.00,1,  -999.0,1, -999.00,1, -999.00,1,       28.5,2, 20220510,      536,  30.0002, 143.1772,     1.5984,2,     -999.0,9,     -999.0,9,     -999.0,9,     -999.0,9,     0.0122,1,     4.7105,1,     -999.0,9,     -999.0,9,     -999.0,9
33RR20220430,        P02,      23,          2,          8,          8,2,20220510,       0435,    30.0002,   143.1773,       6001,  3250.2,2,   1.5479,2,  34.6670,2,  34.6661,2,    134.9,2,   134.8,2,  152.38,2,   37.51,2,    0.00,2,    2.56,2,   0.005,2,   0.000,2,   0.0000,2,  2335.1,2,  2416.7,2,   7.5272,2,    25.00,2, -999.00,9,  -999.0,9, -999.00,9, -999.00,9,       27.9,2, 20220510,      530,  30.0002, 143.1772,     1.5477,2,     -999.0,9,     -999.0,9,     -999.0,9,     -999.0,9,     0.0131,1,     4.7108,1,     -999.0,9,     -999.0,9,     -999.0,9
33RR20220430,        P02,      23,          2,          7,          7,2,20220510,       0435,    30.0002,   143.1773,       6001,  3555.6,2,   1.5130,2,  34.6737,2,  34.6734,2,    141.8,2,   141.4,2,  150.91,2,   36.90,2,    0.00,2,    2.52,2,   0.007,2,   0.000,2,   0.0000,2,  2330.1,2,  2413.5,2,   7.5426,2,    25.10,2, -999.00,1,  -999.0,1, -999.00,1, -999.00,1,       26.7,2, 20220510,      524,  30.0002, 143.1773,     1.5130,2,     -999.0,9,     -999.0,9,     -999.0,9,     -999.0,9,     0.0131,1,     4.7107,1,     -999.0,9,     -999.0,9,     -999.0,9
33RR20220430,        P02,      23,          2,          6,          6,2,20220510,       0435,    30.0002,   143.1773,       6001,  3863.0,2,   1.4948,2,  34.6786,2,  34.6783,2,    147.2,2,   147.1,2,  149.64,2,   36.44,2,    0.00,2,    2.50,2,   0.004,2,   0.000,2,   0.0000,2,  2327.6,2,  2413.5,2,   7.5553,2,    24.93,2, -999.00,9,  -999.0,9, -999.00,9, -999.00,9,       26.1,2, 20220510,      518,  30.0002, 143.1773,     1.4948,2,     -999.0,9,     -999.0,9,     -999.0,9,     -999.0,9,     0.0122,1,     4.7106,1,     -999.0,9,     -999.0,9,     -999.0,9
33RR20220430,        P02,      23,          2,          5,          5,2,20220510,       0435,    30.0002,   143.1773,       6001,  4275.0,2,   1.4893,2,  34.6837,2,  34.6828,2,    153.1,2,   154.6,2,  148.37,2,   36.11,2,    0.00,2,    2.47,2,   0.006,2,   0.000,2,   0.0000,2,  2323.0,2,  2414.7,2,   7.5627,2,    25.06,2, -999.00,1,  -999.0,1, -999.00,1, -999.00,1,       25.7,2, 20220510,      510,  30.0002, 143.1773,     1.4893,2,     -999.0,9,     -999.0,9,     -999.0,9,     -999.0,9,     0.0122,1,     4.7102,1,     -999.0,9,     -999.0,9,     -999.0,9
33RR20220430,        P02,      23,          2,          4,          4,2,20220510,       0435,    30.0002,   143.1773,       6001,  4684.7,2,   1.4974,2,  34.6871,2,  34.6869,2,    158.2,2,   157.9,2,  146.52,2,   35.72,2,    0.00,2,    2.45,2,   0.007,2,   0.000,2,   0.0000,2,  2317.1,2,  2414.4,2,   7.5725,2,    25.01,2, -999.00,1,  -999.0,1, -999.00,9, -999.00,9,       24.8,2, 20220510,      502,  30.0003, 143.1773,     1.4972,2,     -999.0,9,     -999.0,9,     -999.0,9,     -999.0,9,     0.0131,1,     4.7102,1,     -999.0,9,     -999.0,9,     -999.0,9