BOTTLE,20230801CCHSIOCBG
EXPOCODE,SECT_ID,STNNBR,CASTNO,SAMPNO,BTLNBR,BTLNBR_FLAG_W,DATE,TIME,LATITUDE,LONGITUDE,DEPTH,CTDPRS,CTDPRS_FLAG_W,CTDTMP,CTDTMP_FLAG_W,CTDSAL,CTDSAL_FLAG_W,SALNTY,SALNTY_FLAG_W,CTDOXY,CTDOXY_FLAG_W,OXYGEN,OXYGEN_FLAG_W,SILCAT,SILCAT_FLAG_W,NITRAT,NITRAT_FLAG_W,NITRIT,NITRIT_FLAG_W,PHSPHT,PHSPHT_FLAG_W,CFC-11,CFC-11_FLAG_W,CFC-12,CFC-12_FLAG_W,SF6,SF6_FLAG_W,TCARBN,TCARBN_FLAG_W,ALKALI,ALKALI_FLAG_W,PH_TOT,PH_TOT_FLAG_W,PH_TMP,PH_TMP_FLAG_W,DELC13,DELC13_FLAG_W,DELC14,DELC14_FLAG_W,DOC,DOC_FLAG_W,TDN,TDN_FLAG_W,N2O,N2O_FLAG_W,BTL_DATE,BTL_TIME,BTL_LAT,BTL_LON,REFTMP,REFTMP_FLAG_W,POC,POC_FLAG_W,PON,PON_FLAG_W,POP,POP_FLAG_W,PCOD,PCOD_FLAG_W,CTDFLUOR,CTDFLUOR_FLAG_W,CTDXMISS,CTDXMISS_FLAG_W,HPLC,HPLC_FLAG_W,DNA,DNA_FLAG_W,FCM,FCM_FLAG_W
,,,,,,,,,,,METERS,DBAR,,ITS-90,,PSS-78,,PSS-78,,UMOL/KG,,UMOL/KG,,UMOL/KG,,UMOL/KG,,UMOL/KG,,UMOL/KG,,PMOL/KG,,PMOL/KG,,FMOL/KG,,UMOL/KG,,UMOL/KG,,,,DEG C,,/MILLE,,/MILLE,,UMOL/KG,,UMOL/KG,,NMOL/KG,,,,,,ITS-90,,UG/L,,UG/L,,UG/L,,UG/L,,VOLTS,,VOLTS,,,,,,,
33RR20220430,        P02,       9,          4,         36,         36,2,20220506,       0300,    31.6352,   133.7968,       4892,     6.6,2,  23.9012,2,  34.5198,2,  34.5103,2,    212.3,2,   210.9,2,    1.27,2,    0.00,2,    0.00,2,    0.01,2,   1.780,6,   1.111,6,   1.8102,6,  1967.7,2,  2267.5,2,   8.0533,2,    24.85,2, -999.00,1,  -999.0,1, -999.00,1, -999.00,1,        3.7,6, 20220506,      504,  31.6352, 133.7968,     -999.0,9,     -999.0,9,     -999.0,9,     -999.0,9,     -999.0,9,     0.0196,1,     4.6291,1,     -999.0,9,     -999.0,9,     -999.0,9
33RR20220430,        P02,       9,          4,         35,         35,2,20220506,       0300,    31.6352,   133.7968,       4892,    26.7,2,  23.9110,2,  34.5202,2,  34.5105,2,    211.9,2,   210.7,2,    1.17,2,    0.00,2,    0.00,2,    0.00,2,   1.798,2,   1.023,2,   1.8053,2,  1967.2,2,  2265.6,2,   8.0527,2,    24.97,2, -999.00,1,  -999.0,1, -999.00,1, -999.00,1,        3.8,2, 20220506,      502,  31.6352, 133.7966,     -999.0,9,     -999.0,9,     -999.0,9,     -999.0,9,     -999.0,9,     0.0220,1,     4.6298,1,     -999.0,9,     -999.0,9,     -999.0,9
33RR20220430,        P02,       9,          4,         34,         34,2,20220506,       0300,    31.6352,   133.7968,       4892,    50.9,2,  23.5613,2,  34.5164,2,  34.5089,2,    210.4,2,   209.7,2,    1.37,2,    0.03,2,    0.02,2,    0.00,2,   1.796,2,   1.115,2,   2.5105,2,  1970.6,2,  2268.1,2,   8.0475,2,    24.98,2, -999.00,1,  -999.0,1, -999.00,1, -999.00,1,        3.6,2, 20220506,      500,  31.6352, 133.7962,     -999.0,9,     -999.0,9,     -999.0,9,     -999.0,9,     -999.0,9,     0.0365,1,     4.6279,1,     -999.0,9,     -999.0,9,     -999.0,9
33RR20220430,        P02,       9,          4,         33,         33,2,20220506,       0300,    31.6352,   133.7968,       4892,    75.9,2,  21.9847,2,  34.5994,3,  34.5525,2,    197.2,3,   202.6,2,    2.44,2,    1.31,2,    0.26,2,    0.04,2,   1.921,2,   1.577,2,   1.8293,2,  1996.3,2,  2271.8,2,   8.0062,2,    24.99,2, -999.00,1,  -999.0,1, -999.00,1, -999.00,1,        5.4,2, 20220506,      458,  31.6352, 133.7958,    21.9886,2,     -999.0,9,     -999.0,9,     -999.0,9,     -999.0,9,     0.0299,1,     4.6521,1,     -999.0,9,     -999.0,9,     -999.0,9
33RR20220430,        P02,       9,          4,         32,         32,2,20220506,       0300,    31.6352,   133.7968,       4892,   102.8,2,  20.9695,2,  34.7072,2,  34.7003,2,    187.5,2,   186.4,2,    3.81,2,    3.41,2,    0.04,2,    0.14,2,   2.006,2,   1.119,2,   1.7047,2,  2033.0,2,  2280.4,2,   7.9630,2,    24.98,2, -999.00,1,  -999.0,1, -999.00,1, -999.00,1,        6.6,2, 20220506,      456,  31.6352, 133.7954,    20.9651,2,     -999.0,9,     -999.0,9,     -999.0,9,     -999.0,9,     0.0166,1,     4.6730,1,     -999.0,9,     -999.0,9,     -999.0,9
33RR20220430,        P02,       9,          4,         31,         31,2,20220506,       0300,    31.6352,   133.7968,       4892,   152.7,2,  19.4061,2,  34.7348,2,  34.7258,2,    225.9,2,   226.5,2,    1.56,2,    0.11,2,    0.14,2,    0.03,2,   2.145,2,-999.000,5,   2.1413,2,  2005.7,2,  2282.4,2,   8.0050,2,    24.99,2, -999.00,1,  -999.0,1, -999.00,1, -999.00,1,        5.3,2, 20220506,      454,  31.6352, 133.7950,    19.4039,2,     -999.0,9,     -999.0,9,     -999.0,9,     -999.0,9,     0.0153,1,     4.6736,1,     -999.0,9,     -999.0,9,     -999.0,9
33RR20220430,        P02,       9,          4,         30,         30,2,20220506,       0300,    31.6352,   133.7968,       4892,   203.8,2,  18.4974,2,  34.7148,2,  34.7076,2,    213.4,2,   213.4,2,    2.93,2,    2.63,2,    0.02,2,    0.10,2,   2.205,2,   1.154,2,   1.8338,2,  2025.3,2,  2279.2,2,   7.9699,2,    25.00,2, -999.00,1,  -999.0,1, -999.00,1, -999.00,1,     -999.0,5, 20220506,      451,  31.6352, 133.7945,    18.4986,2,     -999.0,9,     -999.0,9,     -999.0,9,     -999.0,9,     0.0147,1,     4.6715,1,     -999.0,9,     -999.0,9,     -999.0,9
33RR20220430,        P02,       9,          4,         29,         29,2,20220506,       0300,    31.6352,   133.7968,       4892,   253.6,2,  17.4518,2,  34.7123,2,  34.7074,2,    193.7,2,   193.7,2,    5.67,2,    5.68,2,    0.00,2,    0.28,2,   2.347,2,   1.326,2,   1.9541,2,  2054.9,2,  2279.4,2,   7.9130,2,    24.99,2, -999.00,1,  -999.0,1, -999.00,1, -999.00,1,        8.0,2, 20220506,      449,  31.6352, 133.7941,    17.4286,2,     -999.0,9,     -999.0,9,     -999.0,9,     -999.0,9,     0.0122,1,     4.6862,1,     -999.0,9,     -999.0,9,     -999.0,9
33RR20220430,        P02,       9,          4,         28,         28,2,20220506,       0300,    31.6352,   133.7968,       4892,   303.6,2,  16.4910,2,  34.6985,2,  34.6912,2,    193.2,2,   192.6,2,    6.06,2,    6.99,2,    0.00,2,    0.36,2,-999.000,9,-999.000,9,-999.0000,9,  -999.0,9,  -999.0,9,-999.0000,9,  -999.00,9, -999.00,1,  -999.0,1, -999.00,9, -999.00,9,     -999.0,9, 20220506,      447,  31.6352, 133.7937,    16.4911,2,     -999.0,9,     -999.0,9,     -999.0,9,     -999.0,9,     0.0122,1,     4.6945,1,     -999.0,9,     -999.0,9,     -999.0,9
33RR20220430,        P02,       9,          4,         27,         27,2,20220506,       0300,    31.6352,   133.7968,       4892,   353.2,2,  15.2039,2,  34.5986,2,  34.5916,2,    187.8,2,   187.2,2,    9.48,2,    9.41,2,    0.00,2,    0.54,2,   2.606,2,   1.666,2,   1.7875,2,  2080.7,2,  2275.6,2,   7.8507,2,    24.99,2, -999.00,1,  -999.0,1, -999.00,1, -999.00,1,       10.7,2, 20220506,      445,  31.6352, 133.7934,    15.2026,2,     -999.0,9,     -999.0,9,     -999.0,9,     -999.0,9,     0.0122,1,     4.6973,1,     -999.0,9,     -999.0,9,     -999.0,9
33RR20220430,        P02,       9,          4,         26,         26,2,20220506,       0300,    31.6352,   133.7968,       4892,   402.3,2,  14.1519,2,  34.5149,2,  34.5089,2,    183.7,2,   183.5,2,   12.51,2,   11.42,2,    0.00,2,    0.68,2,-999.000,9,-999.000,9,-999.0000,9,  -999.0,9,  -999.0,9,-999.0000,9,  -999.00,9, -999.00,1,  -999.0,1, -999.00,9, -999.00,9,     -999.0,9, 20220506,      443,  31.6352, 133.7930,    14.1570,2,     -999.0,9,     -999.0,9,     -999.0,9,     -999.0,9,     0.0122,1,     4.6996,1,     -999.0,9,     -999.0,9,     -999.0,9
33RR20220430,        P02,       9,          4,         25,         25,2,20220506,       0300,    31.6352,   133.7968,       4892,   452.2,2,  12.4516,2,  34.4092,2,  34.4012,2,    167.1,3,   169.4,2,   21.11,2,   15.70,2,    0.00,2,    1.00,2,   2.673,2,   1.655,2,   1.9238,2,  2125.2,2,  2277.3,2,   7.7544,2,    25.00,2, -999.00,1,  -999.0,1, -999.00,1, -999.00,1,       16.0,2, 20220506,      441,  31.6352, 133.7926,    12.4532,2,     -999.0,9,     -999.0,9,     -999.0,9,     -999.0,9,     0.0122,1,     4.6964,1,     -999.0,9,     -999.0,9,     -999.0,9
33RR20220430,        P02,       9,          4,         24,         24,2,20220506,       0300,    31.6352,   133.7968,       4892,   502.7,2,  10.8144,2,  34.2920,2,  34.2876,2,    164.2,2,   163.5,2,   27.56,2,   18.82,2,    0.00,2,    1.23,2,-999.000,9,-999.000,9,-999.0000,9,  -999.0,9,  -999.0,9,-999.0000,9,  -999.00,9, -999.00,1,  -999.0,1, -999.00,9, -999.00,9,     -999.0,9, 20220506,      439,  31.6352, 133.7922,    10.8106,2,     -999.0,9,     -999.0,9,     -999.0,9,     -999.0,9,     0.0122,1,     4.7031,1,     -999.0,9,     -999.0,9,     -999.0,9
33RR20220430,        P02,       9,          4,         23,         23,2,20220506,       0300,    31.6352,   133.7968,       4892,   606.3,2,   8.4337,2,  34.2090,2,  34.2062,2,    130.9,2,   131.2,2,   46.53,2,   26.19,2,    0.00,2,    1.81,2,   2.297,2,   1.200,2,   0.7866,2,  2199.9,2,  2288.1,2,   7.5873,2,    25.01,2, -999.00,1,  -999.0,1, -999.00,1, -999.00,1,       26.0,2, 20220506,      437,  31.6352, 133.7918,     8.4399,2,     -999.0,9,     -999.0,9,     -999.0,9,     -999.0,9,     0.0134,1,     4.7041,1,     -999.0,9,     -999.0,9,     -999.0,9
33RR20220430,        P02,       9,          4,         22,         22,2,20220506,       0300,    31.6352,   133.7968,       4892,   706.8,2,   6.5522,2,  34.2088,2,  34.2071,2,    102.4,2,   102.0,2,   69.89,2,   31.98,2,    0.00,2,    2.26,2,-999.000,9,-999.000,9,-999.0000,9,  -999.0,9,  -999.0,9,-999.0000,9,  -999.00,9, -999.00,1,  -999.0,1, -999.00,9, -999.00,9,     -999.0,9, 20220506,      434,  31.6352, 133.7912,     6.5536,2,     -999.0,9,     -999.0,9,     -999.0,9,     -999.0,9,     0.0129,1,     4.7032,1,     -999.0,9,     -999.0,9,     -999.0,9
33RR20220430,        P02,       9,          4,         21,         21,2,20220506,       0300,    31.6352,   133.7968,       4892,   818.4,2,   5.0178,2,  34.2573,2,  34.2556,2,     74.3,2,    75.0,2,   93.05,2,   37.02,2,    0.00,2,    2.63,2,   1.022,2,   0.532,2,   0.2400,2,  2295.7,2,  2330.7,2,   7.4285,2,    25.04,2, -999.00,1,  -999.0,1, -999.00,1, -999.00,1,       37.5,2, 20220506,      431,  31.6352, 133.7906,     5.0256,2,     -999.0,9,     -999.0,9,     -999.0,9,     -999.0,9,     0.0125,1,     4.7029,1,     -999.0,9,     -999.0,9,     -999.0,9
33RR20220430,        P02,       9,          4,         20,         20,2,20220506,       0300,    31.6352,   133.7968,       4892,   913.6,2,   4.3030,2,  34.3209,2,  34.3203,2,     64.6,2,    65.0,2,  107.61,2,   38.77,2,    0.00,2,    2.76,2,   0.673,2,   0.362,2,   0.2062,2,  2316.6,2,  2348.1,2,   7.4081,2,    24.91,2, -999.00,1,  -999.0,1, -999.00,9, -999.00,9,       39.6,2, 20220506,      428,  31.6352, 133.7901,     4.3049,2,     -999.0,9,     -999.0,9,     -999.0,9,     -999.0,9,     0.0134,1,     4.7040,1,     -999.0,9,     -999.0,9,     -999.0,9
33RR20220430,        P02,       9,          4,         19,         19,2,20220506,       0300,    31.6352,   133.7968,       4892,  1014.2,2,   3.7907,2,  34.3747,2,  34.3737,2,     61.4,2,    61.3,2,  117.97,2,   39.86,2,    0.00,2,    2.85,2,   0.421,2,   0.235,2,   0.1202,2,  2334.6,6,  2361.4,2,   7.4044,2,    25.00,2, -999.00,1,  -999.0,1, -999.00,1, -999.00,1,       40.2,2, 20220506,      425,  31.6352, 133.7896,     3.7904,2,     -999.0,9,     -999.0,9,     -999.0,9,     -999.0,9,     0.0134,1,     4.7066,1,     -999.0,9,     -999.0,9,     -999.0,9
33RR20220430,        P02,       9,          4,         18,         18,2,20220506,       0300,    31.6352,   133.7968,       4892,  1113.4,2,   3.4181,2,  34.4212,2,  34.4208,2,     62.9,2,    63.1,2,  125.39,2,   40.47,2,    0.00,2,    2.85,2,   0.284,2,   0.138,2,   0.0000,2,  2339.8,2,  2372.2,2,   7.4068,2,    24.97,2, -999.00,1,  -999.0,1, -999.00,9, -999.00,9,       39.1,2, 20220506,      423,  31.6352, 133.7890,     3.4183,2,     -999.0,9,     -999.0,9,     -999.0,9,     -999.0,9,     0.0134,1,     4.7056,1,     -999.0,9,     -999.0,9,     -999.0,9
33RR20220430,        P02,       9,          4,         17,         17,2,20220506,       0300,    31.6352,   133.7968,       4892,  1214.2,2,   3.1565,2,  34.4394,2,  34.4398,2,     60.7,3,    63.4,2,  131.55,2,   40.70,2,    0.00,2,    2.90,2,   0.229,2,   0.119,2,   0.0000,2,  2348.2,2,  2376.7,2,   7.4014,2,    25.01,2, -999.00,1,  -999.0,1, -999.00,1, -999.00,1,       39.6,2, 20220506,      420,  31.6352, 133.7885,     3.1559,2,     -999.0,9,     -999.0,9,     -999.0,9,     -999.0,9,     0.0130,1,     4.7081,1,     -999.0,9,     -999.0,9,     -999.0,9
33RR20220430,        P02,       9,          4,         16,         16,2,20220506,       0300,    31.6352,   133.7968,       4892,  1315.2,2,   2.9835,2,  34.4687,2,  34.4677,2,     66.4,2,    66.3,2,  134.08,2,   40.93,2,    0.00,2,    2.88,2,-999.000,9,-999.000,9,-999.0000,9,  -999.0,9,  -999.0,9,-999.0000,9,  -999.00,9, -999.00,1,  -999.0,1, -999.00,9, -999.00,9,     -999.0,9, 20220506,      417,  31.6352, 133.7879,     2.9837,2,     -999.0,9,     -999.0,9,     -999.0,9,     -999.0,9,     0.0127,1,     4.7070,1,     -999.0,9,     -999.0,9,     -999.0,9
33RR20220430,        P02,       9,          4,         15,         15,2,20220506,       0300,    31.6352,   133.7968,       4892,  1419.0,2,   2.7966,2,  34.4920,2,  34.4915,2,     70.2,2,    70.4,2,  137.40,2,   40.45,2,    0.00,2,    2.87,2,   0.138,2,   0.091,2,   0.0000,2,  2351.1,2,  2386.0,2,   7.4216,2,    24.95,2, -999.00,1,  -999.0,1, -999.00,1, -999.00,1,       37.4,2, 20220506,      414,  31.6352, 133.7874,     2.7962,2,     -999.0,9,     -999.0,9,     -999.0,9,     -999.0,9,     0.0134,1,     4.7085,1,     -999.0,9,     -999.0,9,     -999.0,9
33RR20220430,        P02,       9,          4,         14,         14,2,20220506,       0300,    31.6352,   133.7968,       4892,  1521.9,2,   2.6406,2,  34.5126,2,  34.5121,2,     75.1,2,    74.7,2,  140.04,2,   40.28,2,    0.00,2,    2.85,2,-999.000,9,-999.000,9,-999.0000,9,  -999.0,9,  -999.0,9,-999.0000,9,  -999.00,9, -999.00,1,  -999.0,1, -999.00,9, -999.00,9,     -999.0,9, 20220506,      411,  31.6352, 133.7870,     2.6399,2,     -999.0,9,     -999.0,9,     -999.0,9,     -999.0,9,     0.0134,1,     4.7087,1,     -999.0,9,     -999.0,9,     -999.0,9
33RR20220430,        P02,       9,          4,         13,         13,2,20220506,       0300,    31.6352,   133.7968,       4892,  1624.9,2,   2.5060,2,  34.5307,2,  34.5303,2,     79.8,2,    79.9,2,  141.80,2,   40.02,2,    0.00,2,    2.84,2,   0.077,2,   0.043,2,   0.0000,2,  2351.6,2,  2395.5,2,   7.4421,2,    25.00,2, -999.00,1,  -999.0,1, -999.00,1, -999.00,1,       34.2,2, 20220506,      409,  31.6352, 133.7864,     2.5055,2,     -999.0,9,     -999.0,9,     -999.0,9,     -999.0,9,     0.0134,1,     4.7093,1,     -999.0,9,     -999.0,9,     -999.0,9
33RR20220430,        P02,       9,          4,         12,         12,2,20220506,       0300,    31.6352,   133.7968,       4892,  1823.1,2,   2.2648,2,  34.5649,2,  34.5655,2,     91.5,2,    91.0,2,  144.33,2,   39.24,2,    0.00,2,    2.79,2,-999.000,9,-999.000,9,-999.0000,9,  -999.0,9,  -999.0,9,-999.0000,9,  -999.00,9, -999.00,9,  -999.0,9, -999.00,1, -999.00,1,     -999.0,9, 20220506,      404,  31.6352, 133.7856,     2.2642,2,     -999.0,9,     -999.0,9,     -999.0,9,     -999.0,9,     0.0134,1,     4.7084,1,     -999.0,9,     -999.0,9,     -999.0,9
33RR20220430,        P02,       9,          4,         11,         11,2,20220506,       0300,    31.6352,   133.7968,       4892,  2037.4,2,   2.0761,2,  34.5936,2,  34.5928,2,    103.9,2,   103.4,2,  144.82,2,   38.81,2,    0.00,2,    2.73,2,   0.029,2,   0.018,2,   0.0922,2,  2345.7,2,  2405.4,2,   7.4885,2,    24.92,2, -999.00,1,  -999.0,1, -999.00,1, -999.00,1,       29.1,2, 20220506,      400,  31.6352, 133.7846,     2.0761,2,     -999.0,9,     -999.0,9,     -999.0,9,     -999.0,9,     0.0128,1,     4.7056,1,     -999.0,9,     -999.0,9,     -999.0,9
33RR20220430,        P02,       9,          4,         10,         10,2,20220506,       0300,    31.6352,   133.7968,       4892,  2286.2,2,   1.9085,2,  34.6201,3,  34.6176,2,    116.8,2,   116.0,2,  144.33,2,   37.84,2,    0.00,2,    2.68,2,-999.000,9,-999.000,9,-999.0000,9,  -999.0,9,  -999.0,9,-999.0000,9,  -999.00,9, -999.00,9,  -999.0,9, -999.00,1, -999.00,1,     -999.0,9, 20220506,      354,  31.6352, 133.7836,     1.9085,2,     -999.0,9,     -999.0,9,     -999.0,9,     -999.0,9,     0.0134,1,     4.7042,1,     -999.0,9,     -999.0,9,     -999.0,9
33RR20220430,        P02,       9,          4,          9,          9,2,20220506,       0300,    31.6352,   133.7968,       4892,  2534.7,2,   1.7906,2,  34.6368,2,  34.6354,2,    125.5,2,   124.8,2,  144.33,2,   37.50,2,    0.00,2,    2.63,2,   0.014,2,   0.009,2,   0.1346,2,  2335.4,2,  2410.9,2,   7.5288,2,    24.98,2, -999.00,1,  -999.0,1, -999.00,1, -999.00,1,       25.0,2, 20220506,      349,  31.6352, 133.7826,     1.7908,2,     -999.0,9,     -999.0,9,     -999.0,9,     -999.0,9,     0.0125,1,     4.7030,1,     -999.0,9,     -999.0,9,     -999.0,9
33RR20220430,        P02,       9,          4,          8,          8,2,20220506,       0300,    31.6352,   133.7968,       4892,  2794.7,2,   1.6889,2,  34.6521,2,  34.6504,2,    134.3,2,   134.1,2,  143.06,2,   36.85,2,    0.00,2,    2.59,2,-999.000,9,-999.000,9,-999.0000,9,  -999.0,9,  -999.0,9,-999.0000,9,  -999.00,9, -999.00,9,  -999.0,9, -999.00,9, -999.00,9,     -999.0,9, 20220506,      343,  31.6352, 133.7815,     1.6891,2,     -999.0,9,     -999.0,9,     -999.0,9,     -999.0,9,     0.0127,1,     4.7016,1,     -999.0,9,     -999.0,9,     -999.0,9
33RR20220430,        P02,       9,          4,          7,          7,2,20220506,       0300,    31.6352,   133.7968,       4892,  3045.0,2,   1.6154,2,  34.6630,3,  34.6608,2,    140.9,2,   140.6,2,  142.76,2,   36.63,2,    0.00,2,    2.55,2,   0.010,2,   0.009,2,   0.0000,2,  2326.5,2,  2414.0,2,   7.5557,2,    25.01,2, -999.00,1,  -999.0,1, -999.00,1, -999.00,1,       22.5,2, 20220506,      338,  31.6352, 133.7804,     1.6153,2,     -999.0,9,     -999.0,9,     -999.0,9,     -999.0,9,     0.0122,1,     4.7010,1,     -999.0,9,     -999.0,9,     -999.0,9
33RR20220430,        P02,       9,          4,          6,          6,2,20220506,       0300,    31.6352,   133.7968,       4892,  3352.0,2,   1.5484,2,  34.6739,2,  34.6728,2,    148.1,2,   148.7,2,  142.08,2,   36.09,2,    0.00,2,    2.49,2,-999.000,9,-999.000,9,-999.0000,9,  -999.0,9,  -999.0,9,-999.0000,9,  -999.00,9, -999.00,9,  -999.0,9, -999.00,9, -999.00,9,     -999.0,9, 20220506,      332,  31.6352, 133.7792,     1.5485,2,     -999.0,9,     -999.0,9,     -999.0,9,     -999.0,9,     0.0125,1,     4.7017,1,     -999.0,9,     -999.0,9,     -999.0,9
33RR20220430,        P02,       9,          4,          5,          5,2,20220506,       0300,    31.6352,   133.7968,       4892,  3657.9,2,   1.5388,2,  34.6785,2,  34.6775,2,    151.1,2,   152.0,2,  141.78,2,   35.99,2,    0.00,2,    2.47,2,   0.018,2,   0.015,2,   0.0000,2,  2322.3,6,  2414.0,2,   7.5735,2,    24.96,2, -999.00,1,  -999.0,1, -999.00,1, -999.00,1,       21.3,2, 20220506,      326,  31.6352, 133.7780,     1.5390,2,     -999.0,9,     -999.0,9,     -999.0,9,     -999.0,9,     0.0122,1,     4.6995,1,     -999.0,9,     -999.0,9,     -999.0,9
33RR20220430,        P02,       9,          4,          4,          4,2,20220506,       0300,    31.6352,   133.7968,       4892,  3961.3,2,   1.5600,2,  34.6800,2,  34.6787,2,    152.0,2,   152.0,2,  141.59,2,   35.78,2,    0.00,2,    2.48,2,-999.000,9,-999.000,9,-999.0000,9,  -999.0,9,  -999.0,9,-999.0000,9,  -999.00,9, -999.00,9,  -999.0,9, -999.00,9, -999.00,9,     -999.0,9, 20220506,      320,  31.6353, 133.7768,     1.5601,2,     -999.0,9,     -999.0,9,     -999.0,9,     -999.0,9,     0.0122,1,     4.6947,1,     -999.0,9,     -999.0,9,     -999.0,9