BOTTLE,20230801CCHSIOCBG
EXPOCODE,SECT_ID,STNNBR,CASTNO,SAMPNO,BTLNBR,BTLNBR_FLAG_W,DATE,TIME,LATITUDE,LONGITUDE,DEPTH,CTDPRS,CTDPRS_FLAG_W,CTDTMP,CTDTMP_FLAG_W,CTDSAL,CTDSAL_FLAG_W,SALNTY,SALNTY_FLAG_W,CTDOXY,CTDOXY_FLAG_W,OXYGEN,OXYGEN_FLAG_W,SILCAT,SILCAT_FLAG_W,NITRAT,NITRAT_FLAG_W,NITRIT,NITRIT_FLAG_W,PHSPHT,PHSPHT_FLAG_W,CFC-11,CFC-11_FLAG_W,CFC-12,CFC-12_FLAG_W,SF6,SF6_FLAG_W,TCARBN,TCARBN_FLAG_W,ALKALI,ALKALI_FLAG_W,PH_TOT,PH_TOT_FLAG_W,PH_TMP,PH_TMP_FLAG_W,DELC13,DELC13_FLAG_W,DELC14,DELC14_FLAG_W,DOC,DOC_FLAG_W,TDN,TDN_FLAG_W,N2O,N2O_FLAG_W,BTL_DATE,BTL_TIME,BTL_LAT,BTL_LON,REFTMP,REFTMP_FLAG_W,POC,POC_FLAG_W,PON,PON_FLAG_W,POP,POP_FLAG_W,PCOD,PCOD_FLAG_W,CTDFLUOR,CTDFLUOR_FLAG_W,CTDXMISS,CTDXMISS_FLAG_W,HPLC,HPLC_FLAG_W,DNA,DNA_FLAG_W,FCM,FCM_FLAG_W
,,,,,,,,,,,METERS,DBAR,,ITS-90,,PSS-78,,PSS-78,,UMOL/KG,,UMOL/KG,,UMOL/KG,,UMOL/KG,,UMOL/KG,,UMOL/KG,,PMOL/KG,,PMOL/KG,,FMOL/KG,,UMOL/KG,,UMOL/KG,,,,DEG C,,/MILLE,,/MILLE,,UMOL/KG,,UMOL/KG,,NMOL/KG,,,,,,ITS-90,,UG/L,,UG/L,,UG/L,,UG/L,,VOLTS,,VOLTS,,,,,,,
33RR20220430,        P02,      57,          1,          3,          3,2,20220521,       1105,    29.9998,   165.1040,       5851,  5299.8,2,   1.5062,2,  34.6921,2,  34.6918,2,    168.8,2,   169.1,2,  138.15,2,   34.54,2,    0.00,2,    2.38,2,-999.000,9,-999.000,9,-999.0000,9,  2306.7,2,  2403.3,2,   7.5930,2,    25.00,2, -999.00,9,  -999.0,9, -999.00,9, -999.00,9,     -999.0,9, 20220521,     1118,  29.9996, 165.1041,     1.5064,2,     -999.0,9,     -999.0,9,     -999.0,9,     -999.0,9,     0.0122,1,     4.7083,1,     -999.0,9,     -999.0,9,     -999.0,9
33RR20220430,        P02,      57,          1,          2,          2,2,20220521,       1105,    29.9998,   165.1040,       5851,  5715.1,2,   1.5330,2,  34.6941,2,  34.6948,2,    172.7,2,   173.0,2,  136.20,2,   34.26,2,    0.00,2,    2.36,2,   0.006,2,   0.000,2,   0.0000,2,  2303.1,6,  2399.8,2,   7.5974,2,    25.00,2, -999.00,9,  -999.0,9, -999.00,9, -999.00,9,       20.0,2, 20220521,     1110,  29.9996, 165.1041,     1.5333,2,     -999.0,9,     -999.0,9,     -999.0,9,     -999.0,9,     0.0122,1,     4.7069,1,     -999.0,9,     -999.0,9,     -999.0,9
33RR20220430,        P02,      57,          1,          1,          1,2,20220521,       1105,    29.9998,   165.1040,       5851,  5962.0,2,   1.5556,2,  34.6948,2,  34.6963,2,    174.3,2,   174.3,2,  134.34,2,   34.13,2,    0.00,2,    2.35,2,-999.000,5,   0.000,2,   0.0000,2,  2299.5,2,  2400.4,2,   7.5996,2,    25.01,2, -999.00,9,  -999.0,9, -999.00,9, -999.00,9,       19.9,2, 20220521,     1105,  29.9996, 165.1041,     1.5556,2,     -999.0,9,     -999.0,9,     -999.0,9,     -999.0,9,     0.0122,1,     4.7023,1,     -999.0,9,     -999.0,9,     -999.0,9