BOTTLE,20230801CCHSIOCBG
EXPOCODE,SECT_ID,STNNBR,CASTNO,SAMPNO,BTLNBR,BTLNBR_FLAG_W,DATE,TIME,LATITUDE,LONGITUDE,DEPTH,CTDPRS,CTDPRS_FLAG_W,CTDTMP,CTDTMP_FLAG_W,CTDSAL,CTDSAL_FLAG_W,SALNTY,SALNTY_FLAG_W,CTDOXY,CTDOXY_FLAG_W,OXYGEN,OXYGEN_FLAG_W,SILCAT,SILCAT_FLAG_W,NITRAT,NITRAT_FLAG_W,NITRIT,NITRIT_FLAG_W,PHSPHT,PHSPHT_FLAG_W,CFC-11,CFC-11_FLAG_W,CFC-12,CFC-12_FLAG_W,SF6,SF6_FLAG_W,TCARBN,TCARBN_FLAG_W,ALKALI,ALKALI_FLAG_W,PH_TOT,PH_TOT_FLAG_W,PH_TMP,PH_TMP_FLAG_W,DELC13,DELC13_FLAG_W,DELC14,DELC14_FLAG_W,DOC,DOC_FLAG_W,TDN,TDN_FLAG_W,N2O,N2O_FLAG_W,BTL_DATE,BTL_TIME,BTL_LAT,BTL_LON,REFTMP,REFTMP_FLAG_W,POC,POC_FLAG_W,PON,PON_FLAG_W,POP,POP_FLAG_W,PCOD,PCOD_FLAG_W,CTDFLUOR,CTDFLUOR_FLAG_W,CTDXMISS,CTDXMISS_FLAG_W,HPLC,HPLC_FLAG_W,DNA,DNA_FLAG_W,FCM,FCM_FLAG_W
,,,,,,,,,,,METERS,DBAR,,ITS-90,,PSS-78,,PSS-78,,UMOL/KG,,UMOL/KG,,UMOL/KG,,UMOL/KG,,UMOL/KG,,UMOL/KG,,PMOL/KG,,PMOL/KG,,FMOL/KG,,UMOL/KG,,UMOL/KG,,,,DEG C,,/MILLE,,/MILLE,,UMOL/KG,,UMOL/KG,,NMOL/KG,,,,,,ITS-90,,UG/L,,UG/L,,UG/L,,UG/L,,VOLTS,,VOLTS,,,,,,,
33RR20220430,        P02,      91,          1,         36,         36,2,20220531,       1431,    30.0001,  -176.2126,       5285,    16.2,2,  22.6259,2,  35.2863,3,  35.2651,2,    217.7,2,   217.6,2,    1.17,2,    0.03,2,    0.00,2,    0.01,2,   1.694,2,   1.046,2,   1.7794,2,  2019.8,2,  2315.7,2,   8.0288,2,    24.99,2, -999.00,9,  -999.0,9, -999.00,9, -999.00,9,        5.8,2, 20220531,     1633,  30.0001,-176.2126,    22.6233,2,     -999.0,9,     -999.0,9,     -999.0,9,     -999.0,9,     0.0134,1,     4.6466,1,     -999.0,9,     -999.0,9,     -999.0,9
33RR20220430,        P02,      91,          1,         35,         35,2,20220531,       1431,    30.0001,  -176.2126,       5285,    36.7,2,  20.8253,2,  35.1907,2,  35.1786,2,    228.2,2,   228.0,2,    1.56,2,    0.00,2,    0.00,2,    0.00,2,   1.853,2,   1.129,2,   1.9599,2,  2029.8,6,  2310.7,2,   8.0069,2,    24.98,2, -999.00,9,  -999.0,9, -999.00,9, -999.00,9,        6.2,2, 20220531,     1632,  30.0001,-176.2126,    20.8406,2,     -999.0,9,     -999.0,9,     -999.0,9,     -999.0,9,     0.0147,1,     4.6438,1,     -999.0,9,     -999.0,9,     -999.0,9
33RR20220430,        P02,      91,          1,         34,         34,2,20220531,       1431,    30.0001,  -176.2126,       5285,    60.3,2,  18.9538,2,  34.8358,2,  34.8448,2,    236.8,2,   236.7,2,    1.95,2,    0.00,2,    0.00,2,    0.01,2,   2.000,2,   1.214,2,   2.1480,2,  2028.5,2,  2287.0,2,   7.9795,2,    24.98,2, -999.00,9,  -999.0,9, -999.00,9, -999.00,9,        6.5,2, 20220531,     1630,  30.0001,-176.2126,    18.9554,2,     -999.0,9,     -999.0,9,     -999.0,9,     -999.0,9,     0.0162,1,     4.6395,1,     -999.0,9,     -999.0,9,     -999.0,9
33RR20220430,        P02,      91,          1,         33,         33,2,20220531,       1431,    30.0001,  -176.2126,       5285,    86.7,2,  18.5692,2,  34.8149,2,  34.8192,2,    238.2,2,   239.1,2,    1.95,2,    0.01,2,    0.00,2,    0.03,2,   2.009,2,   1.302,2,   2.1258,2,  2029.8,2,  2286.0,2,   7.9777,2,    24.99,2, -999.00,9,  -999.0,9, -999.00,9, -999.00,9,        6.8,2, 20220531,     1629,  30.0001,-176.2126,    18.5623,2,     -999.0,9,     -999.0,9,     -999.0,9,     -999.0,9,     0.0195,1,     4.6434,1,     -999.0,9,     -999.0,9,     -999.0,9
33RR20220430,        P02,      91,          1,         32,         32,2,20220531,       1431,    30.0001,  -176.2126,       5285,   116.6,2,  18.1978,2,  34.8706,2,  34.8585,2,    232.8,2,   232.6,2,    2.15,2,    0.00,2,    0.03,2,    0.05,2,   2.030,2,   1.284,2,   2.3071,2,  2035.0,2,  2289.1,2,   7.9692,2,    24.98,2, -999.00,9,  -999.0,9, -999.00,9, -999.00,9,        6.8,2, 20220531,     1627,  30.0001,-176.2126,    18.1964,2,     -999.0,9,     -999.0,9,     -999.0,9,     -999.0,9,     0.0313,1,     4.6443,1,     -999.0,9,     -999.0,9,     -999.0,9
33RR20220430,        P02,      91,          1,         31,         31,2,20220531,       1431,    30.0001,  -176.2126,       5285,   166.1,2,  16.8974,2,  34.6971,2,  34.6842,2,    220.8,2,   221.0,2,    3.52,2,    2.59,2,    0.03,2,    0.21,2,   2.159,2,   1.288,2,   2.1873,2,  2049.0,2,  2279.0,2,   7.9257,2,    24.98,2, -999.00,9,  -999.0,9, -999.00,9, -999.00,9,        8.2,2, 20220531,     1625,  30.0001,-176.2126,    16.8915,2,     -999.0,9,     -999.0,9,     -999.0,9,     -999.0,9,     0.0183,1,     4.6764,1,     -999.0,9,     -999.0,9,     -999.0,9
33RR20220430,        P02,      91,          1,         30,         30,2,20220531,       1431,    30.0001,  -176.2126,       5285,   216.2,2,  15.6849,2,  34.6033,2,  34.5916,2,    214.1,2,   213.6,2,    5.76,2,    5.70,2,    0.00,2,    0.41,2,   2.291,2,   1.488,2,-999.0000,5,  -999.0,9,  -999.0,9,-999.0000,9,  -999.00,9, -999.00,9,  -999.0,9, -999.00,9, -999.00,9,        9.8,2, 20220531,     1624,  30.0001,-176.2126,    15.6829,2,     -999.0,9,     -999.0,9,     -999.0,9,     -999.0,9,     0.0122,1,     4.6849,1,     -999.0,9,     -999.0,9,     -999.0,9
33RR20220430,        P02,      91,          1,         29,         29,2,20220531,       1431,    30.0001,  -176.2126,       5285,   267.5,2,  14.2631,2,  34.4807,2,  34.4714,2,    211.6,2,   211.4,2,    8.21,2,    7.99,2,    0.00,2,    0.57,2,   2.408,2,   1.456,2,   2.1099,2,  2078.3,2,  2268.2,2,   7.8493,2,    24.98,2, -999.00,9,  -999.0,9, -999.00,9, -999.00,9,       11.5,2, 20220531,     1622,  30.0001,-176.2126,    14.2731,2,     -999.0,9,     -999.0,9,     -999.0,9,     -999.0,9,     0.0122,1,     4.6874,1,     -999.0,9,     -999.0,9,     -999.0,9
33RR20220430,        P02,      91,          1,         28,         28,2,20220531,       1431,    30.0001,  -176.2126,       5285,   318.2,2,  13.1334,2,  34.3951,2,  34.3817,2,    212.7,2,   212.6,2,   10.84,2,    9.96,2,    0.00,2,    0.70,2,   2.528,2,   1.565,2,   2.1343,2,  2087.4,2,  2266.2,2,   7.8200,2,    24.99,2, -999.00,9,  -999.0,9, -999.00,9, -999.00,9,       12.7,2, 20220531,     1620,  30.0001,-176.2126,    13.1410,2,     -999.0,9,     -999.0,9,     -999.0,9,     -999.0,9,     0.0122,1,     4.6902,1,     -999.0,9,     -999.0,9,     -999.0,9
33RR20220430,        P02,      91,          1,         27,         27,2,20220531,       1431,    30.0001,  -176.2126,       5285,   368.2,2,  11.9562,2,  34.2987,2,  34.2870,2,    210.2,2,   210.0,2,   13.97,2,   12.28,2,    0.00,2,    0.85,2,   2.659,2,   1.660,2,   1.9081,2,  2103.3,2,  2266.3,2,   7.7856,2,    24.99,2, -999.00,9,  -999.0,9, -999.00,9, -999.00,9,       13.9,2, 20220531,     1618,  30.0001,-176.2126,    11.9577,2,     -999.0,9,     -999.0,9,     -999.0,9,     -999.0,9,     0.0122,1,     4.6927,1,     -999.0,9,     -999.0,9,     -999.0,9
33RR20220430,        P02,      91,          1,         26,         26,2,20220531,       1431,    30.0001,  -176.2126,       5285,   439.0,2,  10.5561,2,  34.1865,2,  34.1819,2,    200.7,2,   201.9,2,   19.35,2,   15.62,2,    0.00,2,    1.08,2,   2.771,2,   1.611,2,   1.7369,2,  -999.0,9,  -999.0,9,-999.0000,9,  -999.00,9, -999.00,9,  -999.0,9, -999.00,9, -999.00,9,       16.4,2, 20220531,     1616,  30.0001,-176.2126,    10.5460,2,     -999.0,9,     -999.0,9,     -999.0,9,     -999.0,9,     0.0122,1,     4.6950,1,     -999.0,9,     -999.0,9,     -999.0,9
33RR20220430,        P02,      91,          1,         25,         25,2,20220531,       1431,    30.0001,  -176.2126,       5285,   547.2,2,   8.0408,2,  34.0415,2,  34.0399,2,    166.5,2,   166.4,2,   37.14,2,   23.76,2,    0.00,2,    1.66,2,   2.631,2,   1.532,2,   1.3278,2,  -999.0,5,  2271.9,2,   7.6132,2,    24.99,2, -999.00,9,  -999.0,9, -999.00,9, -999.00,9,       22.2,2, 20220531,     1614,  30.0001,-176.2126,     8.0421,2,     -999.0,9,     -999.0,9,     -999.0,9,     -999.0,9,     0.0122,1,     4.6971,1,     -999.0,9,     -999.0,9,     -999.0,9
33RR20220430,        P02,      91,          1,         24,         24,2,20220531,       1431,    30.0001,  -176.2126,       5285,   648.3,2,   6.3876,2,  34.0300,2,  34.0302,2,    116.4,3,   114.2,2,   59.71,2,   31.79,2,    0.00,2,    2.25,2,   1.969,2,   1.196,2,   0.7234,2,  2239.5,2,  2288.9,2,   7.4833,2,    24.99,2, -999.00,9,  -999.0,9, -999.00,9, -999.00,9,       30.1,2, 20220531,     1611,  30.0001,-176.2126,     6.3874,2,     -999.0,9,     -999.0,9,     -999.0,9,     -999.0,9,     0.0134,1,     4.6995,1,     -999.0,9,     -999.0,9,     -999.0,9
33RR20220430,        P02,      91,          1,         23,         23,2,20220531,       1431,    30.0001,  -176.2126,       5285,   748.4,2,   5.2622,2,  34.0951,2,  34.0934,2,     73.4,3,    72.8,2,   80.03,2,   37.26,2,    0.00,2,    2.65,2,   1.212,6,   0.712,6,   0.4633,6,  2286.7,2,  2307.7,2,   7.3957,2,    25.01,2, -999.00,9,  -999.0,9, -999.00,9, -999.00,9,       37.0,6, 20220531,     1608,  30.0001,-176.2125,     5.2692,2,     -999.0,9,     -999.0,9,     -999.0,9,     -999.0,9,     0.0134,1,     4.6995,1,     -999.0,9,     -999.0,9,     -999.0,9
33RR20220430,        P02,      91,          1,         22,         22,2,20220531,       1431,    30.0001,  -176.2126,       5285,   848.3,2,   4.6152,2,  34.1725,2,  34.1740,2,     48.9,3,    49.8,2,   96.05,2,   40.31,2,    0.00,2,    2.86,2,   0.691,2,   0.424,2,   0.3314,2,  -999.0,9,  -999.0,9,-999.0000,9,  -999.00,9, -999.00,9,  -999.0,9, -999.00,9, -999.00,9,       41.6,2, 20220531,     1606,  30.0001,-176.2126,     4.6177,2,     -999.0,9,     -999.0,9,     -999.0,9,     -999.0,9,     0.0134,1,     4.7004,1,     -999.0,9,     -999.0,9,     -999.0,9
33RR20220430,        P02,      91,          1,         21,         21,2,20220531,       1431,    30.0001,  -176.2126,       5285,   949.0,2,   4.1431,2,  34.2545,2,  34.2552,2,     34.9,2,    34.7,2,  108.94,2,   42.03,2,    0.00,2,    2.98,2,   0.347,2,   0.200,2,   0.3026,2,  2338.2,2,  2342.7,2,   7.3350,2,    25.00,2, -999.00,9,  -999.0,9, -999.00,9, -999.00,9,       45.0,2, 20220531,     1603,  30.0001,-176.2126,     4.1459,2,     -999.0,9,     -999.0,9,     -999.0,9,     -999.0,9,     0.0133,1,     4.7001,1,     -999.0,9,     -999.0,9,     -999.0,9
33RR20220430,        P02,      91,          1,         20,         20,2,20220531,       1431,    30.0001,  -176.2126,       5285,  1050.7,2,   3.7583,2,  34.3303,2,  34.3299,2,     28.6,3,    29.4,2,  119.88,2,   42.98,2,    0.00,2,    3.06,2,   0.152,2,   0.086,2,   0.0000,2,  2355.0,2,  2357.1,2,   7.3290,2,    24.99,2, -999.00,9,  -999.0,9, -999.00,9, -999.00,9,       46.5,2, 20220531,     1601,  30.0001,-176.2126,     3.7586,2,     -999.0,9,     -999.0,9,     -999.0,9,     -999.0,9,     0.0134,1,     4.7008,1,     -999.0,9,     -999.0,9,     -999.0,9
33RR20220430,        P02,      91,          1,         19,         19,2,20220531,       1431,    30.0001,  -176.2126,       5285,  1152.4,2,   3.4655,2,  34.3952,2,  34.3959,2,     30.2,3,    30.5,2,  128.28,2,   43.21,2,    0.00,2,    3.07,2,   0.063,2,   0.040,2,   0.0000,2,  2362.2,2,  2373.4,2,   7.3404,2,    25.00,2, -999.00,9,  -999.0,9, -999.00,9, -999.00,9,       45.3,2, 20220531,     1558,  30.0001,-176.2126,     3.4644,2,     -999.0,9,     -999.0,9,     -999.0,9,     -999.0,9,     0.0131,1,     4.7007,1,     -999.0,9,     -999.0,9,     -999.0,9
33RR20220430,        P02,      91,          1,         18,         18,2,20220531,       1431,    30.0001,  -176.2126,       5285,  1253.8,2,   3.1963,2,  34.4434,2,  34.4447,2,     33.3,3,    33.9,2,  135.50,2,   43.27,2,    0.00,2,    3.07,2,   0.028,2,   0.018,2,   0.0000,2,  -999.0,9,  -999.0,9,-999.0000,9,  -999.00,9, -999.00,9,  -999.0,9, -999.00,9, -999.00,9,       44.2,2, 20220531,     1555,  30.0001,-176.2126,     3.1939,2,     -999.0,9,     -999.0,9,     -999.0,9,     -999.0,9,     0.0134,1,     4.7019,1,     -999.0,9,     -999.0,9,     -999.0,9
33RR20220430,        P02,      91,          1,         17,         17,2,20220531,       1431,    30.0001,  -176.2126,       5285,  1354.9,2,   2.9881,2,  34.4816,2,  34.4818,2,     40.4,3,    39.9,2,  140.19,2,   42.97,2,    0.00,2,    3.04,2,-999.000,9,-999.000,9,-999.0000,9,  2370.9,2,  2386.6,2,   7.3653,2,    24.99,2, -999.00,9,  -999.0,9, -999.00,9, -999.00,9,     -999.0,9, 20220531,     1553,  30.0001,-176.2126,     2.9864,2,     -999.0,9,     -999.0,9,     -999.0,9,     -999.0,9,     0.0134,1,     4.7020,1,     -999.0,9,     -999.0,9,     -999.0,9
33RR20220430,        P02,      91,          1,         16,         16,2,20220531,       1431,    30.0001,  -176.2126,       5285,  1456.7,2,   2.7828,2,  34.5122,2,  34.5111,2,     48.1,2,    48.2,2,  144.39,2,   42.63,2,    0.00,2,    3.00,2,   0.012,2,   0.006,2,   0.0000,2,  -999.0,9,  -999.0,9,-999.0000,9,  -999.00,9, -999.00,9,  -999.0,9, -999.00,9, -999.00,9,       38.9,2, 20220531,     1550,  30.0001,-176.2125,     2.7880,2,     -999.0,9,     -999.0,9,     -999.0,9,     -999.0,9,     0.0134,1,     4.7024,1,     -999.0,9,     -999.0,9,     -999.0,9
33RR20220430,        P02,      91,          1,         15,         15,2,20220531,       1431,    30.0001,  -176.2126,       5285,  1557.5,2,   2.5955,2,  34.5360,2,  34.5366,2,     53.7,2,    53.7,2,  148.78,2,   42.41,2,    0.00,2,    2.98,2,-999.000,9,-999.000,9,-999.0000,9,  2371.1,2,  2397.8,2,   7.3935,2,    25.00,2, -999.00,9,  -999.0,9, -999.00,9, -999.00,9,     -999.0,9, 20220531,     1547,  30.0001,-176.2126,     2.5968,2,     -999.0,9,     -999.0,9,     -999.0,9,     -999.0,9,     0.0129,1,     4.7031,1,     -999.0,9,     -999.0,9,     -999.0,9
33RR20220430,        P02,      91,          1,         14,         14,2,20220531,       1431,    30.0001,  -176.2126,       5285,  1688.4,2,   2.3827,2,  34.5609,2,  34.5612,2,     60.0,2,    60.0,2,  154.44,2,   42.08,2,    0.00,2,    2.94,2,   0.006,2,   0.000,2,   0.0000,2,  2372.3,2,  2405.0,2,   7.4058,2,    24.99,2, -999.00,9,  -999.0,9, -999.00,9, -999.00,9,       35.3,2, 20220531,     1544,  30.0001,-176.2126,     2.3835,2,     -999.0,9,     -999.0,9,     -999.0,9,     -999.0,9,     0.0134,1,     4.7029,1,     -999.0,9,     -999.0,9,     -999.0,9
33RR20220430,        P02,      91,          1,         13,         13,2,20220531,       1431,    30.0001,  -176.2126,       5285,  1892.1,2,   2.1248,2,  34.5874,2,  34.5875,2,     69.9,2,    69.4,2,  160.59,2,   41.50,2,    0.00,2,    2.89,2,-999.000,9,-999.000,9,-999.0000,9,  2371.9,2,  2409.6,2,   7.4248,2,    25.02,2, -999.00,9,  -999.0,9, -999.00,9, -999.00,9,     -999.0,9, 20220531,     1540,  30.0001,-176.2126,     2.1247,2,     -999.0,9,     -999.0,9,     -999.0,9,     -999.0,9,     0.0134,1,     4.7027,1,     -999.0,9,     -999.0,9,     -999.0,9
33RR20220430,        P02,      91,          1,         12,         12,2,20220531,       1431,    30.0001,  -176.2126,       5285,  2115.7,2,   1.9240,2,  34.6104,2,  34.6113,2,     81.6,2,    81.1,2,  164.40,2,   40.78,2,    0.00,2,    2.84,2,   0.005,2,   0.000,2,   0.0000,2,  -999.0,9,  -999.0,9,-999.0000,9,  -999.00,9, -999.00,9,  -999.0,9, -999.00,9, -999.00,9,       29.6,2, 20220531,     1535,  30.0001,-176.2126,     1.9238,2,     -999.0,9,     -999.0,9,     -999.0,9,     -999.0,9,     0.0134,1,     4.7033,1,     -999.0,9,     -999.0,9,     -999.0,9
33RR20220430,        P02,      91,          1,         11,         11,2,20220531,       1431,    30.0001,  -176.2126,       5285,  2368.8,2,   1.7599,2,  34.6304,2,  34.6309,2,     95.3,2,    95.2,2,  165.76,2,   39.94,2,    0.00,2,    2.78,2,-999.000,9,-999.000,9,-999.0000,9,  2366.4,2,  2417.6,2,   7.4729,2,    24.95,2, -999.00,9,  -999.0,9, -999.00,9, -999.00,9,     -999.0,9, 20220531,     1530,  30.0001,-176.2126,     1.7602,2,     -999.0,9,     -999.0,9,     -999.0,9,     -999.0,9,     0.0129,1,     4.7034,1,     -999.0,9,     -999.0,9,     -999.0,9
33RR20220430,        P02,      91,          1,         10,         10,2,20220531,       1431,    30.0001,  -176.2126,       5285,  2623.4,2,   1.6544,2,  34.6456,2,  34.6462,2,    109.9,2,   110.1,2,  162.93,2,   38.93,2,    0.00,2,    2.71,2,-999.000,9,-999.000,9,-999.0000,9,  -999.0,9,  -999.0,9,-999.0000,9,  -999.00,9, -999.00,9,  -999.0,9, -999.00,9, -999.00,9,     -999.0,9, 20220531,     1525,  30.0001,-176.2126,     1.6543,2,     -999.0,9,     -999.0,9,     -999.0,9,     -999.0,9,     0.0122,1,     4.7048,1,     -999.0,9,     -999.0,9,     -999.0,9
33RR20220430,        P02,      91,          1,          9,          9,2,20220531,       1431,    30.0001,  -176.2126,       5285,  2878.7,2,   1.5757,2,  34.6569,2,  34.6578,2,    121.1,2,   121.4,2,  161.07,2,   38.20,2,    0.00,2,    2.65,2,   0.004,2,   0.000,2,   0.0000,2,  2347.5,2,  2419.3,2,   7.5210,2,    24.98,2, -999.00,9,  -999.0,9, -999.00,9, -999.00,9,       23.7,2, 20220531,     1520,  30.0001,-176.2126,     1.5756,2,     -999.0,9,     -999.0,9,     -999.0,9,     -999.0,9,     0.0122,1,     4.7051,1,     -999.0,9,     -999.0,9,     -999.0,9
33RR20220430,        P02,      91,          1,          8,          8,2,20220531,       1431,    30.0001,  -176.2126,       5285,  3148.1,2,   1.5154,2,  34.6659,2,  34.6667,2,    129.7,2,   130.1,2,  160.29,2,   37.70,2,    0.00,2,    2.61,2,-999.000,9,-999.000,9,-999.0000,9,  -999.0,9,  -999.0,9,-999.0000,9,  -999.00,9, -999.00,9,  -999.0,9, -999.00,9, -999.00,9,     -999.0,9, 20220531,     1514,  30.0001,-176.2126,     1.5154,2,     -999.0,9,     -999.0,9,     -999.0,9,     -999.0,9,     0.0122,1,     4.7046,1,     -999.0,9,     -999.0,9,     -999.0,9
33RR20220430,        P02,      91,          1,          7,          7,2,20220531,       1431,    30.0001,  -176.2126,       5285,  3454.5,2,   1.4837,2,  34.6727,2,  34.6732,2,    137.3,2,   137.7,2,  159.02,2,   37.20,2,    0.00,2,    2.58,2,-999.000,9,-999.000,9,-999.0000,9,  2336.9,2,  2419.3,2,   7.5509,2,    24.99,2, -999.00,9,  -999.0,9, -999.00,9, -999.00,9,     -999.0,9, 20220531,     1508,  30.0001,-176.2126,     1.4834,2,     -999.0,9,     -999.0,9,     -999.0,9,     -999.0,9,     0.0123,1,     4.7051,1,     -999.0,9,     -999.0,9,     -999.0,9
33RR20220430,        P02,      91,          1,          6,          6,2,20220531,       1431,    30.0001,  -176.2126,       5285,  3762.2,2,   1.4654,2,  34.6783,2,  34.6787,2,    143.7,2,   143.7,2,  157.26,2,   36.78,2,    0.00,2,    2.52,2,   0.005,2,   0.000,2,   0.0000,2,  -999.0,9,  -999.0,9,-999.0000,9,  -999.00,9, -999.00,9,  -999.0,9, -999.00,9, -999.00,9,       21.0,2, 20220531,     1502,  30.0001,-176.2126,     1.4652,2,     -999.0,9,     -999.0,9,     -999.0,9,     -999.0,9,     0.0122,1,     4.7051,1,     -999.0,9,     -999.0,9,     -999.0,9
33RR20220430,        P02,      91,          1,          5,          5,2,20220531,       1431,    30.0001,  -176.2126,       5285,  4069.6,2,   1.4668,2,  34.6819,2,  34.6814,2,    148.1,2,   148.0,2,  156.38,2,   36.50,2,    0.00,2,    2.50,2,-999.000,9,-999.000,9,-999.0000,9,  2329.2,2,  2419.3,2,   7.5679,2,    25.00,2, -999.00,9,  -999.0,9, -999.00,9, -999.00,9,     -999.0,9, 20220531,     1456,  30.0001,-176.2125,     1.4663,2,     -999.0,9,     -999.0,9,     -999.0,9,     -999.0,9,     0.0122,1,     4.7054,1,     -999.0,9,     -999.0,9,     -999.0,9
33RR20220430,        P02,      91,          1,          4,          4,2,20220531,       1431,    30.0001,  -176.2126,       5285,  4377.5,2,   1.4837,2,  34.6840,2,  34.6846,2,    150.5,2,   150.3,2,  156.19,2,   36.28,2,    0.00,2,    2.49,2,-999.000,9,-999.000,9,-999.0000,9,  -999.0,9,  -999.0,9,-999.0000,9,  -999.00,9, -999.00,9,  -999.0,9, -999.00,9, -999.00,9,     -999.0,9, 20220531,     1450,  30.0001,-176.2125,     1.4835,2,     -999.0,9,     -999.0,9,     -999.0,9,     -999.0,9,     0.0122,1,     4.7056,1,     -999.0,9,     -999.0,9,     -999.0,9