BOTTLE,20230801CCHSIOCBG
EXPOCODE,SECT_ID,STNNBR,CASTNO,SAMPNO,BTLNBR,BTLNBR_FLAG_W,DATE,TIME,LATITUDE,LONGITUDE,DEPTH,CTDPRS,CTDPRS_FLAG_W,CTDTMP,CTDTMP_FLAG_W,CTDSAL,CTDSAL_FLAG_W,SALNTY,SALNTY_FLAG_W,CTDOXY,CTDOXY_FLAG_W,OXYGEN,OXYGEN_FLAG_W,SILCAT,SILCAT_FLAG_W,NITRAT,NITRAT_FLAG_W,NITRIT,NITRIT_FLAG_W,PHSPHT,PHSPHT_FLAG_W,CFC-11,CFC-11_FLAG_W,CFC-12,CFC-12_FLAG_W,SF6,SF6_FLAG_W,TCARBN,TCARBN_FLAG_W,ALKALI,ALKALI_FLAG_W,PH_TOT,PH_TOT_FLAG_W,PH_TMP,PH_TMP_FLAG_W,DELC13,DELC13_FLAG_W,DELC14,DELC14_FLAG_W,DOC,DOC_FLAG_W,TDN,TDN_FLAG_W,N2O,N2O_FLAG_W,BTL_DATE,BTL_TIME,BTL_LAT,BTL_LON,REFTMP,REFTMP_FLAG_W,POC,POC_FLAG_W,PON,PON_FLAG_W,POP,POP_FLAG_W,PCOD,PCOD_FLAG_W,CTDFLUOR,CTDFLUOR_FLAG_W,CTDXMISS,CTDXMISS_FLAG_W,HPLC,HPLC_FLAG_W,DNA,DNA_FLAG_W,FCM,FCM_FLAG_W
,,,,,,,,,,,METERS,DBAR,,ITS-90,,PSS-78,,PSS-78,,UMOL/KG,,UMOL/KG,,UMOL/KG,,UMOL/KG,,UMOL/KG,,UMOL/KG,,PMOL/KG,,PMOL/KG,,FMOL/KG,,UMOL/KG,,UMOL/KG,,,,DEG C,,/MILLE,,/MILLE,,UMOL/KG,,UMOL/KG,,NMOL/KG,,,,,,ITS-90,,UG/L,,UG/L,,UG/L,,UG/L,,VOLTS,,VOLTS,,,,,,,
33RR20220430,        P02,     105,          1,         36,         36,2,20220604,       1806,    30.0004,  -168.1350,       5590,     4.1,2,  22.8143,2,  34.7629,2,  34.7500,2,    223.2,2,   223.2,2,    2.05,2,    0.02,2,    0.00,2,    0.00,2,   1.807,2,   1.180,2,   2.0533,2,  2019.8,2,  2281.5,2,   7.9824,2,    24.99,2, -999.00,9,  -999.0,9, -999.00,1, -999.00,1,        7.6,2, 20220604,     2019,  30.0004,-168.1350,    22.8422,2,     -999.0,9,     -999.0,9,     -999.0,9,     -999.0,9,     0.0122,1,     4.6248,1,     -999.0,9,     -999.0,9,     -999.0,9
33RR20220430,        P02,     105,          1,         35,         35,2,20220604,       1806,    30.0004,  -168.1350,       5590,    27.5,2,  20.0379,2,  34.8269,2,  34.8200,2,    234.2,2,   234.3,2,    2.15,2,    0.01,2,    0.00,2,    0.00,2,   1.961,2,   1.280,2,   2.2101,2,  2024.1,6,  2286.0,2,   7.9821,2,    25.01,2, -999.00,9,  -999.0,9, -999.00,1, -999.00,1,        8.0,2, 20220604,     2017,  30.0005,-168.1349,    20.0873,3,     -999.0,9,     -999.0,9,     -999.0,9,     -999.0,9,     0.0135,1,     4.6246,1,     -999.0,9,     -999.0,9,     -999.0,9
33RR20220430,        P02,     105,          1,         34,         34,2,20220604,       1806,    30.0004,  -168.1350,       5590,    51.1,2,  18.1524,2,  34.6877,2,  34.6914,2,    245.0,2,   245.8,2,    2.54,2,    0.01,2,    0.00,2,    0.01,2,   2.126,2,   1.280,2,   2.2606,2,  2021.6,2,  2278.2,2,   7.9724,2,    25.00,2, -999.00,9,  -999.0,9, -999.00,1, -999.00,1,        8.6,2, 20220604,     2016,  30.0005,-168.1349,    18.1696,2,     -999.0,9,     -999.0,9,     -999.0,9,     -999.0,9,     0.0153,1,     4.6257,1,     -999.0,9,     -999.0,9,     -999.0,9
33RR20220430,        P02,     105,          1,         33,         33,2,20220604,       1806,    30.0004,  -168.1350,       5590,    75.6,2,  17.1552,2,  34.6233,3,  34.6741,2,    241.5,3,   246.5,2,    2.64,2,    0.00,2,    0.00,2,    0.03,2,   2.150,6,   1.351,6,   2.3323,6,  2021.7,2,  2276.6,2,   7.9706,2,    25.01,2, -999.00,9,  -999.0,9, -999.00,1, -999.00,1,        8.6,6, 20220604,     2014,  30.0005,-168.1349,    17.1771,3,     -999.0,9,     -999.0,9,     -999.0,9,     -999.0,9,     0.0208,1,     4.6324,1,     -999.0,9,     -999.0,9,     -999.0,9
33RR20220430,        P02,     105,          1,         32,         32,2,20220604,       1806,    30.0004,  -168.1350,       5590,   101.3,2,  16.5650,2,  34.6119,2,  34.6016,2,    224.7,2,   226.9,2,    3.42,2,    1.77,2,    0.07,2,    0.17,2,   2.178,2,   1.405,2,   2.3264,2,  2040.5,2,  2274.4,2,   7.9258,2,    25.00,2, -999.00,9,  -999.0,9, -999.00,1, -999.00,1,        9.6,2, 20220604,     2012,  30.0005,-168.1350,    16.5768,2,     -999.0,9,     -999.0,9,     -999.0,9,     -999.0,9,     0.0297,1,     4.6470,1,     -999.0,9,     -999.0,9,     -999.0,9
33RR20220430,        P02,     105,          1,         31,         31,2,20220604,       1806,    30.0004,  -168.1350,       5590,   151.8,2,  15.4918,2,  34.5383,2,  34.5292,2,    223.6,2,   222.9,2,    5.08,2,    4.51,2,    0.01,2,    0.32,2,   2.299,2,   1.375,2,   2.2983,2,  2050.2,2,  2270.0,2,   7.8954,2,    24.99,2, -999.00,9,  -999.0,9, -999.00,1, -999.00,1,       10.8,2, 20220604,     2010,  30.0004,-168.1350,    15.4998,2,     -999.0,9,     -999.0,9,     -999.0,9,     -999.0,9,     0.0134,1,     4.6804,1,     -999.0,9,     -999.0,9,     -999.0,9
33RR20220430,        P02,     105,          1,         30,         30,2,20220604,       1806,    30.0004,  -168.1350,       5590,   202.5,2,  14.4456,2,  34.4824,2,  34.4775,2,    212.4,2,   211.5,2,    7.33,2,    7.27,2,    0.00,2,    0.51,2,   2.427,2,   1.438,2,   2.2366,2,  -999.0,9,  -999.0,9,-999.0000,9,  -999.00,9, -999.00,9,  -999.0,9, -999.00,1, -999.00,1,       12.8,2, 20220604,     2008,  30.0004,-168.1349,    14.4666,2,     -999.0,9,     -999.0,9,     -999.0,9,     -999.0,9,     0.0122,1,     4.6844,1,     -999.0,9,     -999.0,9,     -999.0,9
33RR20220430,        P02,     105,          1,         29,         29,2,20220604,       1806,    30.0004,  -168.1350,       5590,   251.5,2,  13.1701,2,  34.3816,2,  34.3762,2,    213.0,2,   212.8,2,    9.97,2,    9.43,2,    0.00,2,    0.67,2,   2.568,2,   1.562,2,   2.2428,2,  2086.7,2,  2264.4,2,   7.8215,2,    24.99,2, -999.00,9,  -999.0,9, -999.00,1, -999.00,1,       14.2,2, 20220604,     2007,  30.0005,-168.1350,    13.1636,2,     -999.0,9,     -999.0,9,     -999.0,9,     -999.0,9,     0.0122,1,     4.6874,1,     -999.0,9,     -999.0,9,     -999.0,9
33RR20220430,        P02,     105,          1,         28,         28,2,20220604,       1806,    30.0004,  -168.1350,       5590,   303.8,2,  12.2138,2,  34.3183,2,  34.3138,2,    214.4,2,   214.6,2,   12.60,2,   11.15,2,    0.00,2,    0.77,2,   2.658,2,   1.551,2,   2.1578,2,  -999.0,9,  -999.0,9,-999.0000,9,  -999.00,9, -999.00,9,  -999.0,9, -999.00,1, -999.00,1,       15.1,2, 20220604,     2005,  30.0004,-168.1350,    12.2605,2,     -999.0,9,     -999.0,9,     -999.0,9,     -999.0,9,     0.0122,1,     4.6903,1,     -999.0,9,     -999.0,9,     -999.0,9
33RR20220430,        P02,     105,          1,         27,         27,2,20220604,       1806,    30.0004,  -168.1350,       5590,   352.9,2,  11.1678,2,  34.2408,2,  34.2356,2,    210.7,2,   211.9,2,   16.51,2,   13.48,2,    0.00,2,    0.96,2,   2.713,2,   1.613,2,   2.1424,2,  2107.5,2,  2264.4,2,   7.7657,2,    25.00,2, -999.00,9,  -999.0,9, -999.00,1, -999.00,1,       16.2,2, 20220604,     2003,  30.0005,-168.1349,    11.2261,2,     -999.0,9,     -999.0,9,     -999.0,9,     -999.0,9,     0.0122,1,     4.6923,1,     -999.0,9,     -999.0,9,     -999.0,9
33RR20220430,        P02,     105,          1,         26,         26,2,20220604,       1806,    30.0004,  -168.1350,       5590,   403.8,2,  10.0849,2,  34.1410,2,  34.1362,2,    202.3,2,   202.8,2,   20.52,2,   16.33,2,    0.00,2,    1.14,2,   2.838,2,   1.724,2,   2.0186,2,  2123.0,2,  2261.6,2,   7.7217,2,    24.98,2, -999.00,9,  -999.0,9, -999.00,1, -999.00,1,       18.6,2, 20220604,     2001,  30.0005,-168.1350,    10.0654,2,     -999.0,9,     -999.0,9,     -999.0,9,     -999.0,9,     0.0122,1,     4.6925,1,     -999.0,9,     -999.0,9,     -999.0,9
33RR20220430,        P02,     105,          1,         25,         25,2,20220604,       1806,    30.0004,  -168.1350,       5590,   504.9,2,   8.0231,2,  34.0345,2,  34.0315,2,    163.9,2,   163.6,2,   37.24,2,   24.18,2,    0.00,2,    1.68,2,   2.650,2,   1.599,2,   1.4854,2,  2173.2,2,  2268.2,2,   7.6040,2,    25.02,2, -999.00,9,  -999.0,9, -999.00,1, -999.00,1,       24.1,2, 20220604,     1958,  30.0004,-168.1349,     8.0137,2,     -999.0,9,     -999.0,9,     -999.0,9,     -999.0,9,     0.0131,1,     4.6980,1,     -999.0,9,     -999.0,9,     -999.0,9
33RR20220430,        P02,     105,          1,         24,         24,2,20220604,       1806,    30.0004,  -168.1350,       5590,   604.5,2,   6.1761,2,  34.0048,2,  34.0045,2,    116.4,2,   116.4,2,   59.91,2,   32.00,2,    0.00,2,    2.25,2,   2.070,2,   1.194,2,   0.9032,2,  2233.7,2,  2286.4,2,   7.4789,2,    24.99,2, -999.00,9,  -999.0,9, -999.00,9, -999.00,9,       30.1,2, 20220604,     1955,  30.0005,-168.1349,     6.1793,2,     -999.0,9,     -999.0,9,     -999.0,9,     -999.0,9,     0.0134,1,     4.6984,1,     -999.0,9,     -999.0,9,     -999.0,9
33RR20220430,        P02,     105,          1,         23,         23,2,20220604,       1806,    30.0004,  -168.1350,       5590,   707.4,2,   4.9729,2,  34.0525,2,  34.0496,2,     78.9,2,    79.2,2,   81.21,2,   37.21,2,    0.00,2,    2.64,2,   1.388,2,   0.814,2,   0.4457,2,  -999.0,9,  -999.0,9,-999.0000,9,  -999.00,9, -999.00,9,  -999.0,9, -999.00,1, -999.00,1,       35.1,2, 20220604,     1953,  30.0004,-168.1349,     5.0008,2,     -999.0,9,     -999.0,9,     -999.0,9,     -999.0,9,     0.0129,1,     4.6971,1,     -999.0,9,     -999.0,9,     -999.0,9
33RR20220430,        P02,     105,          1,         22,         22,2,20220604,       1806,    30.0004,  -168.1350,       5590,   812.8,2,   4.3023,2,  34.1520,2,  34.1528,2,     39.5,3,    41.8,2,  101.24,2,   41.45,2,    0.00,2,    2.96,2,   0.604,2,   0.340,2,   0.1533,2,  2324.9,2,  2326.2,2,   7.3268,2,    25.01,2, -999.00,9,  -999.0,9, -999.00,9, -999.00,9,       40.7,2, 20220604,     1950,  30.0004,-168.1350,     4.3018,2,     -999.0,9,     -999.0,9,     -999.0,9,     -999.0,9,     0.0134,1,     4.6989,1,     -999.0,9,     -999.0,9,     -999.0,9
33RR20220430,        P02,     105,          1,         21,         21,2,20220604,       1806,    30.0004,  -168.1350,       5590,   913.8,2,   3.8648,2,  34.2432,2,  34.2438,2,     21.2,3,    21.8,2,  115.99,2,   43.25,2,    0.00,2,    3.10,2,   0.226,2,   0.126,2,   0.1180,2,  -999.0,9,  -999.0,9,-999.0000,9,  -999.00,9, -999.00,9,  -999.0,9, -999.00,1, -999.00,1,       44.3,2, 20220604,     1947,  30.0005,-168.1350,     3.8647,2,     -999.0,9,     -999.0,9,     -999.0,9,     -999.0,9,     0.0134,1,     4.6987,1,     -999.0,9,     -999.0,9,     -999.0,9
33RR20220430,        P02,     105,          1,         20,         20,2,20220604,       1806,    30.0004,  -168.1350,       5590,  1013.3,2,   3.5577,2,  34.3334,2,  34.3337,2,     14.7,3,    15.5,2,  126.73,2,   44.01,2,    0.00,2,    3.18,2,   0.055,2,   0.031,2,   0.0000,2,  2365.1,2,  2359.6,2,   7.2999,2,    25.01,2, -999.00,9,  -999.0,9, -999.00,1, -999.00,1,       46.1,2, 20220604,     1945,  30.0005,-168.1349,     3.5577,2,     -999.0,9,     -999.0,9,     -999.0,9,     -999.0,9,     0.0134,1,     4.6991,1,     -999.0,9,     -999.0,9,     -999.0,9
33RR20220430,        P02,     105,          1,         19,         19,2,20220604,       1806,    30.0004,  -168.1350,       5590,  1115.4,2,   3.3763,2,  34.4076,2,  34.4092,2,     23.4,2,    23.6,2,  131.71,2,   43.75,2,    0.00,2,    3.14,2,   0.025,2,   0.016,2,   0.0000,2,  2370.2,2,  2371.5,2,   7.3263,2,    25.01,2, -999.00,9,  -999.0,9, -999.00,1, -999.00,1,       44.5,2, 20220604,     1942,  30.0005,-168.1350,     3.3756,2,     -999.0,9,     -999.0,9,     -999.0,9,     -999.0,9,     0.0134,1,     4.6995,1,     -999.0,9,     -999.0,9,     -999.0,9
33RR20220430,        P02,     105,          1,         18,         18,2,20220604,       1806,    30.0004,  -168.1350,       5590,  1217.3,2,   3.1959,2,  34.4617,2,  34.4634,2,     33.2,2,    33.2,2,  135.61,2,   43.23,2,    0.00,2,    3.08,2,   0.014,2,   0.008,2,   0.0000,2,  -999.0,9,  -999.0,9,-999.0000,9,  -999.00,9, -999.00,9,  -999.0,9, -999.00,9, -999.00,9,       41.5,2, 20220604,     1939,  30.0005,-168.1350,     3.1956,2,     -999.0,9,     -999.0,9,     -999.0,9,     -999.0,9,     0.0134,1,     4.7007,1,     -999.0,9,     -999.0,9,     -999.0,9
33RR20220430,        P02,     105,          1,         17,         17,2,20220604,       1806,    30.0004,  -168.1350,       5590,  1318.4,2,   3.0223,2,  34.4939,2,  34.4956,2,     41.9,3,    41.2,2,  138.83,2,   42.77,2,    0.00,2,    3.05,2,   0.012,2,   0.007,2,   0.0000,2,  2368.4,2,  2386.4,2,   7.3716,2,    24.99,2, -999.00,9,  -999.0,9, -999.00,1, -999.00,1,     -999.0,5, 20220604,     1936,  30.0005,-168.1349,     3.0209,2,     -999.0,9,     -999.0,9,     -999.0,9,     -999.0,9,     0.0134,1,     4.7013,1,     -999.0,9,     -999.0,9,     -999.0,9
33RR20220430,        P02,     105,          1,         16,         16,2,20220604,       1806,    30.0004,  -168.1350,       5590,  1422.4,2,   2.8577,2,  34.5179,2,  34.5197,2,     49.5,2,    49.5,2,  141.95,2,   42.54,2,    0.00,2,    3.03,2,-999.000,9,-999.000,9,-999.0000,9,  2370.3,2,  2390.9,2,   7.3872,2,    25.00,2, -999.00,9,  -999.0,9, -999.00,9, -999.00,9,     -999.0,9, 20220604,     1933,  30.0004,-168.1350,     2.8588,2,     -999.0,9,     -999.0,9,     -999.0,9,     -999.0,9,     0.0134,1,     4.7020,1,     -999.0,9,     -999.0,9,     -999.0,9
33RR20220430,        P02,     105,          1,         15,         15,2,20220604,       1806,    30.0004,  -168.1350,       5590,  1623.2,2,   2.4966,2,  34.5559,2,  34.5574,2,     60.2,3,    59.5,2,  150.74,2,   41.89,2,    0.00,2,    2.98,2,   0.006,2,   0.000,2,   0.0000,2,  2371.1,2,  2401.5,2,   7.4067,2,    24.99,2, -999.00,9,  -999.0,9, -999.00,1, -999.00,1,       34.4,2, 20220604,     1929,  30.0005,-168.1349,     2.4979,2,     -999.0,9,     -999.0,9,     -999.0,9,     -999.0,9,     0.0134,1,     4.7030,1,     -999.0,9,     -999.0,9,     -999.0,9
33RR20220430,        P02,     105,          1,         14,         14,2,20220604,       1806,    30.0004,  -168.1350,       5590,  1825.1,2,   2.2104,2,  34.5826,2,  34.5844,2,     67.5,2,    67.0,2,  158.75,2,   41.46,2,    0.00,2,    2.93,2,-999.000,9,-999.000,9,-999.0000,9,  2371.8,2,  2415.3,2,   7.4203,2,    24.99,2, -999.00,9,  -999.0,9, -999.00,9, -999.00,9,     -999.0,9, 20220604,     1924,  30.0005,-168.1349,     2.2108,2,     -999.0,9,     -999.0,9,     -999.0,9,     -999.0,9,     0.0134,1,     4.7031,1,     -999.0,9,     -999.0,9,     -999.0,9
33RR20220430,        P02,     105,          1,         13,         13,2,20220604,       1806,    30.0004,  -168.1350,       5590,  2028.1,2,   1.9890,2,  34.6063,2,  34.6073,2,     78.9,2,    79.1,2,  163.14,2,   40.71,2,    0.00,2,    2.87,2,   0.003,2,   0.000,2,   0.0000,2,  2370.6,2,  2416.1,2,   7.4413,2,    24.99,2, -999.00,9,  -999.0,9, -999.00,1, -999.00,1,       30.3,2, 20220604,     1920,  30.0005,-168.1350,     1.9890,2,     -999.0,9,     -999.0,9,     -999.0,9,     -999.0,9,     0.0122,1,     4.7036,1,     -999.0,9,     -999.0,9,     -999.0,9
33RR20220430,        P02,     105,          1,         12,         12,2,20220604,       1806,    30.0004,  -168.1350,       5590,  2282.5,2,   1.7905,2,  34.6289,2,  34.6305,2,     93.6,2,    94.4,2,  165.49,2,   39.82,2,    0.00,2,    2.80,2,-999.000,9,-999.000,9,-999.0000,9,  -999.0,9,  -999.0,9,-999.0000,9,  -999.00,9, -999.00,9,  -999.0,9, -999.00,9, -999.00,9,     -999.0,9, 20220604,     1914,  30.0004,-168.1350,     1.7899,2,     -999.0,9,     -999.0,9,     -999.0,9,     -999.0,9,     0.0122,1,     4.7032,1,     -999.0,9,     -999.0,9,     -999.0,9
33RR20220430,        P02,     105,          1,         11,         11,2,20220604,       1806,    30.0004,  -168.1350,       5590,  2536.6,2,   1.6817,2,  34.6432,2,  34.6443,2,    105.0,2,   105.1,2,  165.78,2,   39.09,2,    0.00,2,    2.75,2,-999.000,9,-999.000,9,-999.0000,9,  2359.3,2,  2423.1,2,   7.4926,2,    25.00,2, -999.00,9,  -999.0,9, -999.00,1, -999.00,1,     -999.0,9, 20220604,     1909,  30.0004,-168.1350,     1.6817,2,     -999.0,9,     -999.0,9,     -999.0,9,     -999.0,9,     0.0131,1,     4.7040,1,     -999.0,9,     -999.0,9,     -999.0,9
33RR20220430,        P02,     105,          1,         10,         10,2,20220604,       1806,    30.0004,  -168.1350,       5590,  2790.3,2,   1.5985,2,  34.6543,2,  34.6553,2,    115.8,2,   115.5,2,  164.21,2,   38.42,2,    0.00,2,    2.70,2,   0.003,2,   0.000,2,   0.0000,2,  -999.0,9,  -999.0,9,-999.0000,9,  -999.00,9, -999.00,9,  -999.0,9, -999.00,9, -999.00,9,       24.9,2, 20220604,     1904,  30.0005,-168.1350,     1.5992,2,     -999.0,9,     -999.0,9,     -999.0,9,     -999.0,9,     0.0134,1,     4.7043,1,     -999.0,9,     -999.0,9,     -999.0,9
33RR20220430,        P02,     105,          1,          9,          9,2,20220604,       1806,    30.0004,  -168.1350,       5590,  3047.2,2,   1.5368,2,  34.6632,2,  34.6645,2,    125.2,2,   125.3,2,  162.45,2,   38.06,2,    0.00,2,    2.63,2,-999.000,9,-999.000,9,-999.0000,9,  2345.6,2,  2420.0,2,   7.5304,2,    25.00,2, -999.00,9,  -999.0,9, -999.00,1, -999.00,1,     -999.0,9, 20220604,     1858,  30.0005,-168.1349,     1.5367,2,     -999.0,9,     -999.0,9,     -999.0,9,     -999.0,9,     0.0128,1,     4.7045,1,     -999.0,9,     -999.0,9,     -999.0,9
33RR20220430,        P02,     105,          1,          8,          8,2,20220604,       1806,    30.0004,  -168.1350,       5590,  3353.7,2,   1.4916,2,  34.6711,2,  34.6722,2,    134.3,2,   133.8,2,  160.40,2,   37.31,2,    0.00,2,    2.60,2,-999.000,9,-999.000,9,-999.0000,9,  -999.0,9,  -999.0,9,-999.0000,9,  -999.00,9, -999.00,9,  -999.0,9, -999.00,9, -999.00,9,     -999.0,9, 20220604,     1852,  30.0005,-168.1350,     1.4916,2,     -999.0,9,     -999.0,9,     -999.0,9,     -999.0,9,     0.0124,1,     4.7049,1,     -999.0,9,     -999.0,9,     -999.0,9
33RR20220430,        P02,     105,          1,          7,          7,2,20220604,       1806,    30.0004,  -168.1350,       5590,  3661.0,2,   1.4692,2,  34.6768,2,  34.6783,2,    141.4,2,   141.6,2,  158.06,2,   36.70,2,    0.00,2,    2.55,2,   0.004,2,   0.000,2,   0.0000,2,  2336.0,2,  2416.0,2,   7.5595,2,    24.99,2, -999.00,9,  -999.0,9, -999.00,1, -999.00,1,       22.5,2, 20220604,     1846,  30.0005,-168.1350,     1.4691,2,     -999.0,9,     -999.0,9,     -999.0,9,     -999.0,9,     0.0125,1,     4.7057,1,     -999.0,9,     -999.0,9,     -999.0,9
33RR20220430,        P02,     105,          1,          6,          6,2,20220604,       1806,    30.0004,  -168.1350,       5590,  3965.2,2,   1.4645,2,  34.6810,2,  34.6828,2,    146.4,2,   146.7,2,  156.69,2,   36.37,2,    0.00,2,    2.54,2,-999.000,9,-999.000,9,-999.0000,9,  -999.0,9,  -999.0,9,-999.0000,9,  -999.00,9, -999.00,9,  -999.0,9, -999.00,9, -999.00,9,     -999.0,9, 20220604,     1840,  30.0005,-168.1350,     1.4645,2,     -999.0,9,     -999.0,9,     -999.0,9,     -999.0,9,     0.0122,1,     4.7048,1,     -999.0,9,     -999.0,9,     -999.0,9
33RR20220430,        P02,     105,          1,          5,          5,2,20220604,       1806,    30.0004,  -168.1350,       5590,  4274.8,2,   1.4743,2,  34.6835,2,  34.6842,2,    149.8,2,   149.8,2,  156.69,2,   36.11,2,    0.00,2,    2.51,2,-999.000,9,-999.000,9,-999.0000,9,  2330.7,2,  2418.3,2,   7.5738,2,    24.99,2, -999.00,9,  -999.0,9, -999.00,1, -999.00,1,     -999.0,9, 20220604,     1834,  30.0005,-168.1351,     1.4744,2,     -999.0,9,     -999.0,9,     -999.0,9,     -999.0,9,     0.0122,1,     4.7047,1,     -999.0,9,     -999.0,9,     -999.0,9
33RR20220430,        P02,     105,          1,          4,          4,2,20220604,       1806,    30.0004,  -168.1350,       5590,  4582.4,2,   1.4959,2,  34.6852,2,  34.6861,2,    151.9,2,   152.0,2,  156.69,2,   36.00,2,    0.00,2,    2.50,2,   0.007,2,   0.000,2,   0.0000,2,  2327.1,2,  2420.5,2,   7.5777,2,    25.00,2, -999.00,9,  -999.0,9, -999.00,9, -999.00,9,       21.8,2, 20220604,     1828,  30.0005,-168.1351,     1.4957,2,     -999.0,9,     -999.0,9,     -999.0,9,     -999.0,9,     0.0122,1,     4.7055,1,     -999.0,9,     -999.0,9,     -999.0,9