BOTTLE,20230801CCHSIOCBG
EXPOCODE,SECT_ID,STNNBR,CASTNO,SAMPNO,BTLNBR,BTLNBR_FLAG_W,DATE,TIME,LATITUDE,LONGITUDE,DEPTH,CTDPRS,CTDPRS_FLAG_W,CTDTMP,CTDTMP_FLAG_W,CTDSAL,CTDSAL_FLAG_W,SALNTY,SALNTY_FLAG_W,CTDOXY,CTDOXY_FLAG_W,OXYGEN,OXYGEN_FLAG_W,SILCAT,SILCAT_FLAG_W,NITRAT,NITRAT_FLAG_W,NITRIT,NITRIT_FLAG_W,PHSPHT,PHSPHT_FLAG_W,CFC-11,CFC-11_FLAG_W,CFC-12,CFC-12_FLAG_W,SF6,SF6_FLAG_W,TCARBN,TCARBN_FLAG_W,ALKALI,ALKALI_FLAG_W,PH_TOT,PH_TOT_FLAG_W,PH_TMP,PH_TMP_FLAG_W,DELC13,DELC13_FLAG_W,DELC14,DELC14_FLAG_W,DOC,DOC_FLAG_W,TDN,TDN_FLAG_W,N2O,N2O_FLAG_W,BTL_DATE,BTL_TIME,BTL_LAT,BTL_LON,REFTMP,REFTMP_FLAG_W,POC,POC_FLAG_W,PON,PON_FLAG_W,POP,POP_FLAG_W,PCOD,PCOD_FLAG_W,CTDFLUOR,CTDFLUOR_FLAG_W,CTDXMISS,CTDXMISS_FLAG_W,HPLC,HPLC_FLAG_W,DNA,DNA_FLAG_W,FCM,FCM_FLAG_W
,,,,,,,,,,,METERS,DBAR,,ITS-90,,PSS-78,,PSS-78,,UMOL/KG,,UMOL/KG,,UMOL/KG,,UMOL/KG,,UMOL/KG,,UMOL/KG,,PMOL/KG,,PMOL/KG,,FMOL/KG,,UMOL/KG,,UMOL/KG,,,,DEG C,,/MILLE,,/MILLE,,UMOL/KG,,UMOL/KG,,NMOL/KG,,,,,,ITS-90,,UG/L,,UG/L,,UG/L,,UG/L,,VOLTS,,VOLTS,,,,,,,
33RR20220430,        P02,      78,          1,         36,         36,2,20220527,       1824,    30.0001,   176.2861,       5211,     3.5,2,  22.3263,2,  35.2809,2,  35.2649,2,    221.1,2,   219.3,2,    0.98,2,    0.02,2,    0.00,2,    0.01,2,   1.812,2,   1.106,2,   2.0188,2,  2022.8,2,  2315.9,2,   8.0257,2,    24.96,2, -999.00,9,  -999.0,9, -999.00,1, -999.00,1,        7.3,2, 20220527,     2029,  30.0001, 176.2861,    22.3281,2,     -999.0,9,     -999.0,9,     -999.0,9,     -999.0,9,     0.0134,1,     4.6349,1,     -999.0,9,     -999.0,9,     -999.0,9
33RR20220430,        P02,      78,          1,         35,         35,2,20220527,       1824,    30.0001,   176.2861,       5211,    26.3,2,  22.0547,2,  35.2839,2,  35.2706,2,    223.3,2,   221.6,2,    1.07,2,    0.01,2,    0.00,2,    0.00,2,   1.817,2,   1.064,2,   2.0552,2,  2027.0,6,  2316.9,2,   8.0257,2,    24.97,2, -999.00,9,  -999.0,9, -999.00,1, -999.00,1,        7.3,2, 20220527,     2027,  30.0002, 176.2860,    22.0641,2,     -999.0,9,     -999.0,9,     -999.0,9,     -999.0,9,     0.0147,1,     4.6346,1,     -999.0,9,     -999.0,9,     -999.0,9
33RR20220430,        P02,      78,          1,         34,         34,2,20220527,       1824,    30.0001,   176.2861,       5211,    50.6,2,  20.5193,2,  35.0638,2,  35.0522,2,    229.3,2,   228.7,2,    1.37,2,    0.00,2,    0.00,2,    0.01,2,   1.999,2,   1.144,2,   2.1333,2,  2024.9,2,  2300.0,2,   8.0048,2,    25.00,2, -999.00,9,  -999.0,9, -999.00,1, -999.00,1,        7.9,2, 20220527,     2025,  30.0002, 176.2861,    20.5071,2,     -999.0,9,     -999.0,9,     -999.0,9,     -999.0,9,     0.0171,1,     4.6351,1,     -999.0,9,     -999.0,9,     -999.0,9
33RR20220430,        P02,      78,          1,         33,         33,2,20220527,       1824,    30.0001,   176.2861,       5211,    75.7,2,  19.2534,2,  34.9565,2,  34.9427,2,    234.4,2,   235.7,2,    1.66,2,    0.00,2,    0.00,2,    0.02,2,   2.099,2,   1.191,2,   2.1860,2,  2025.7,2,  2295.7,2,   7.9923,2,    24.98,2, -999.00,9,  -999.0,9, -999.00,1, -999.00,1,        8.1,2, 20220527,     2024,  30.0002, 176.2861,    19.2422,2,     -999.0,9,     -999.0,9,     -999.0,9,     -999.0,9,     0.0208,1,     4.6400,1,     -999.0,9,     -999.0,9,     -999.0,9
33RR20220430,        P02,      78,          1,         32,         32,2,20220527,       1824,    30.0001,   176.2861,       5211,   100.7,2,  18.4812,2,  34.8776,2,  34.8662,2,    234.6,2,   235.1,2,    1.66,2,    0.00,2,    0.00,2,    0.04,2,   2.119,2,   1.282,2,   2.2261,2,  2028.8,2,  2290.4,2,   7.9842,2,    25.03,2, -999.00,9,  -999.0,9, -999.00,1, -999.00,1,        8.2,2, 20220527,     2022,  30.0002, 176.2861,    18.4765,2,     -999.0,9,     -999.0,9,     -999.0,9,     -999.0,9,     0.0269,1,     4.6425,1,     -999.0,9,     -999.0,9,     -999.0,9
33RR20220430,        P02,      78,          1,         31,         31,2,20220527,       1824,    30.0001,   176.2861,       5211,   150.7,2,  17.0385,2,  34.6830,2,  34.6692,2,    226.3,2,   226.6,2,    2.44,2,    2.19,2,    0.10,2,    0.19,2,   2.234,2,   1.276,2,   2.2817,2,  2038.4,2,  2279.2,2,   7.9432,2,    25.02,2, -999.00,9,  -999.0,9, -999.00,1, -999.00,1,        9.3,2, 20220527,     2020,  30.0002, 176.2861,    17.0361,2,     -999.0,9,     -999.0,9,     -999.0,9,     -999.0,9,     0.0230,1,     4.6628,1,     -999.0,9,     -999.0,9,     -999.0,9
33RR20220430,        P02,      78,          1,         30,         30,2,20220527,       1824,    30.0001,   176.2861,       5211,   201.1,2,  16.4035,2,  34.6432,2,  34.6315,2,    225.6,2,   226.6,2,    3.32,2,    3.52,2,    0.00,2,    0.26,2,   2.246,2,   1.379,2,   2.2883,2,  2042.6,2,  2275.1,2,   7.9318,2,    25.00,2, -999.00,9,  -999.0,9, -999.00,1, -999.00,1,        9.6,2, 20220527,     2018,  30.0002, 176.2861,    16.4020,2,     -999.0,9,     -999.0,9,     -999.0,9,     -999.0,9,     0.0134,1,     4.6808,1,     -999.0,9,     -999.0,9,     -999.0,9
33RR20220430,        P02,      78,          1,         29,         29,2,20220527,       1824,    30.0001,   176.2861,       5211,   251.1,2,  15.9938,2,  34.6315,2,  34.6176,2,    216.7,2,   216.7,2,    5.18,2,    5.28,2,    0.00,2,    0.38,2,   2.294,2,   1.397,2,   2.1702,2,  2053.8,2,  2275.0,2,   7.9072,2,    25.00,2, -999.00,9,  -999.0,9, -999.00,1, -999.00,1,       10.5,2, 20220527,     2017,  30.0002, 176.2861,    15.9914,2,     -999.0,9,     -999.0,9,     -999.0,9,     -999.0,9,     0.0122,1,     4.6834,1,     -999.0,9,     -999.0,9,     -999.0,9
33RR20220430,        P02,      78,          1,         28,         28,2,20220527,       1824,    30.0001,   176.2861,       5211,   302.0,2,  15.0735,2,  34.5709,2,  34.5602,2,    206.0,2,   206.1,2,    7.81,2,    7.73,2,    0.00,2,    0.54,2,   2.390,2,   1.374,2,   2.1480,2,  2071.7,2,  2276.0,2,   7.8689,2,    25.00,2, -999.00,9,  -999.0,9, -999.00,1, -999.00,1,       12.0,2, 20220527,     2015,  30.0002, 176.2861,    15.0721,2,     -999.0,9,     -999.0,9,     -999.0,9,     -999.0,9,     0.0122,1,     4.6849,1,     -999.0,9,     -999.0,9,     -999.0,9
33RR20220430,        P02,      78,          1,         27,         27,2,20220527,       1824,    30.0001,   176.2861,       5211,   352.7,2,  13.8240,2,  34.4736,2,  34.4620,2,    204.7,2,   205.4,2,   10.65,2,    9.68,2,    0.00,2,    0.68,2,   2.545,2,   1.471,2,   2.0154,2,  2084.9,2,  2271.1,2,   7.8348,2,    25.01,2, -999.00,9,  -999.0,9, -999.00,1, -999.00,1,       13.3,2, 20220527,     2013,  30.0002, 176.2861,    13.8249,2,     -999.0,9,     -999.0,9,     -999.0,9,     -999.0,9,     0.0122,1,     4.6883,1,     -999.0,9,     -999.0,9,     -999.0,9
33RR20220430,        P02,      78,          1,         26,         26,2,20220527,       1824,    30.0001,   176.2861,       5211,   403.7,2,  12.4836,2,  34.3535,2,  34.3395,2,    205.2,2,   206.9,2,   13.58,2,   11.78,2,    0.00,2,    0.84,2,   2.730,2,   1.611,2,   2.0252,2,  -999.0,9,  -999.0,9,-999.0000,9,  -999.00,9, -999.00,9,  -999.0,9, -999.00,1, -999.00,1,       14.9,2, 20220527,     2011,  30.0002, 176.2861,    12.4789,2,     -999.0,9,     -999.0,9,     -999.0,9,     -999.0,9,     0.0122,1,     4.6910,1,     -999.0,9,     -999.0,9,     -999.0,9
33RR20220430,        P02,      78,          1,         25,         25,2,20220527,       1824,    30.0001,   176.2861,       5211,   505.0,2,  10.0557,2,  34.1648,2,  34.1573,2,    190.6,2,   191.2,2,   23.16,2,   17.44,2,    0.00,2,    1.25,2,   2.861,6,   1.635,6,   1.7611,6,  2134.3,2,  2266.4,2,   7.7084,2,    25.01,2, -999.00,9,  -999.0,9, -999.00,1, -999.00,1,       19.3,6, 20220527,     2009,  30.0002, 176.2861,    10.0491,2,     -999.0,9,     -999.0,9,     -999.0,9,     -999.0,9,     0.0121,1,     4.6945,1,     -999.0,9,     -999.0,9,     -999.0,9
33RR20220430,        P02,      78,          1,         24,         24,2,20220527,       1824,    30.0001,   176.2861,       5211,   605.4,2,   7.8964,2,  34.0656,2,  34.0611,2,    150.9,2,   149.8,2,   41.24,2,   25.34,2,    0.00,2,    1.83,2,   2.535,2,   1.429,2,   1.2931,2,  2189.8,2,  2275.1,2,   7.5839,2,    25.02,2, -999.00,9,  -999.0,9, -999.00,1, -999.00,1,       26.6,2, 20220527,     2006,  30.0002, 176.2861,     7.8913,2,     -999.0,9,     -999.0,9,     -999.0,9,     -999.0,9,     0.0122,1,     4.6960,1,     -999.0,9,     -999.0,9,     -999.0,9
33RR20220430,        P02,      78,          1,         23,         23,2,20220527,       1824,    30.0001,   176.2861,       5211,   706.4,2,   6.2155,2,  34.0592,2,  34.0556,2,    107.4,3,   105.6,2,   63.03,2,   32.37,2,    0.00,2,    2.35,2,   1.894,2,   1.067,2,   0.8039,2,  2246.6,2,  2295.1,2,   7.4696,2,    24.99,2, -999.00,9,  -999.0,9, -999.00,1, -999.00,1,       34.7,2, 20220527,     2003,  30.0002, 176.2861,     6.2082,2,     -999.0,9,     -999.0,9,     -999.0,9,     -999.0,9,     0.0128,1,     4.6966,1,     -999.0,9,     -999.0,9,     -999.0,9
33RR20220430,        P02,      78,          1,         22,         22,2,20220527,       1824,    30.0001,   176.2861,       5211,   807.3,2,   4.8623,2,  34.0878,2,  34.0864,2,     77.7,3,    76.1,2,   86.19,2,   37.30,2,    0.00,2,    2.69,2,   1.384,2,   0.779,2,   0.6076,2,  -999.0,9,  -999.0,9,-999.0000,9,  -999.00,9, -999.00,9,  -999.0,9, -999.00,9, -999.00,9,       41.2,2, 20220527,     2000,  30.0002, 176.2861,     4.8623,2,     -999.0,9,     -999.0,9,     -999.0,9,     -999.0,9,     0.0122,1,     4.6960,1,     -999.0,9,     -999.0,9,     -999.0,9
33RR20220430,        P02,      78,          1,         21,         21,2,20220527,       1824,    30.0001,   176.2861,       5211,   908.4,2,   4.2171,2,  34.1876,2,  34.1856,2,     49.1,3,    50.2,2,  103.97,2,   40.40,2,    0.00,2,    2.91,2,   0.743,2,   0.414,2,   0.1999,2,  2325.1,2,  2333.2,2,   7.3474,2,    24.98,2, -999.00,9,  -999.0,9, -999.00,1, -999.00,1,       48.4,2, 20220527,     1958,  30.0002, 176.2861,     4.2146,2,     -999.0,9,     -999.0,9,     -999.0,9,     -999.0,9,     0.0134,1,     4.6960,1,     -999.0,9,     -999.0,9,     -999.0,9
33RR20220430,        P02,      78,          1,         20,         20,2,20220527,       1824,    30.0001,   176.2861,       5211,  1008.3,2,   3.7661,2,  34.2640,2,  34.2664,2,     36.0,3,    36.8,2,  118.42,2,   41.95,2,    0.00,2,    3.02,2,   0.409,2,   0.239,2,   0.1133,2,  -999.0,9,  -999.0,9,-999.0000,9,  -999.00,9, -999.00,9,  -999.0,9, -999.00,9, -999.00,9,       51.8,2, 20220527,     1955,  30.0002, 176.2861,     3.7646,2,     -999.0,9,     -999.0,9,     -999.0,9,     -999.0,9,     0.0134,1,     4.6963,1,     -999.0,9,     -999.0,9,     -999.0,9
33RR20220430,        P02,      78,          1,         19,         19,2,20220527,       1824,    30.0001,   176.2861,       5211,  1109.3,2,   3.4395,2,  34.3422,2,  34.3409,2,     27.4,3,    28.5,2,  128.67,2,   42.92,2,    0.00,2,    3.11,2,   0.169,2,   0.095,2,   0.0000,2,  2363.7,2,  2366.6,2,   7.3229,2,    24.99,2, -999.00,9,  -999.0,9, -999.00,1, -999.00,1,       54.4,2, 20220527,     1952,  30.0002, 176.2861,     3.4349,2,     -999.0,9,     -999.0,9,     -999.0,9,     -999.0,9,     0.0134,1,     4.6968,1,     -999.0,9,     -999.0,9,     -999.0,9
33RR20220430,        P02,      78,          1,         18,         18,2,20220527,       1824,    30.0001,   176.2861,       5211,  1211.7,2,   3.2105,2,  34.3982,2,  34.3970,2,     26.8,2,    26.7,2,  135.51,2,   43.33,2,    0.00,2,    3.13,2,   0.075,2,   0.047,2,   0.0000,2,  -999.0,9,  -999.0,9,-999.0000,9,  -999.00,9, -999.00,9,  -999.0,9, -999.00,9, -999.00,9,       53.7,2, 20220527,     1949,  30.0002, 176.2861,     3.2102,2,     -999.0,9,     -999.0,9,     -999.0,9,     -999.0,9,     0.0134,1,     4.6975,1,     -999.0,9,     -999.0,9,     -999.0,9
33RR20220430,        P02,      78,          1,         17,         17,2,20220527,       1824,    30.0001,   176.2861,       5211,  1317.5,2,   2.9852,2,  34.4490,2,  34.4471,2,     31.2,3,    32.0,2,  141.66,2,   43.17,2,    0.00,2,    3.12,2,   0.036,2,   0.018,2,   0.0000,2,  2376.2,2,  2384.1,2,   7.3423,2,    24.99,2, -999.00,9,  -999.0,9, -999.00,1, -999.00,1,       51.7,2, 20220527,     1946,  30.0002, 176.2861,     2.9889,2,     -999.0,9,     -999.0,9,     -999.0,9,     -999.0,9,     0.0134,1,     4.6981,1,     -999.0,9,     -999.0,9,     -999.0,9
33RR20220430,        P02,      78,          1,         16,         16,2,20220527,       1824,    30.0001,   176.2861,       5211,  1418.6,2,   2.7670,2,  34.4850,2,  34.4832,2,     36.7,3,    36.0,2,  146.63,2,   42.95,2,    0.00,2,    3.09,2,-999.000,9,-999.000,9,-999.0000,9,  2378.9,2,  2394.3,2,   7.3553,2,    25.03,2, -999.00,9,  -999.0,9, -999.00,1, -999.00,1,     -999.0,9, 20220527,     1944,  30.0002, 176.2861,     2.7681,2,     -999.0,9,     -999.0,9,     -999.0,9,     -999.0,9,     0.0134,1,     4.6983,1,     -999.0,9,     -999.0,9,     -999.0,9
33RR20220430,        P02,      78,          1,         15,         15,2,20220527,       1824,    30.0001,   176.2861,       5211,  1621.3,2,   2.4090,2,  34.5381,2,  34.5360,2,     49.6,2,    49.5,2,  154.93,2,   42.33,2,    0.00,2,    3.02,2,   0.011,2,   0.000,2,   0.0000,2,  2380.0,2,  2404.0,2,   7.3828,2,    25.02,2, -999.00,9,  -999.0,9, -999.00,1, -999.00,1,       42.1,2, 20220527,     1939,  30.0002, 176.2861,     2.4087,2,     -999.0,9,     -999.0,9,     -999.0,9,     -999.0,9,     0.0128,1,     4.6993,1,     -999.0,9,     -999.0,9,     -999.0,9
33RR20220430,        P02,      78,          1,         14,         14,2,20220527,       1824,    30.0001,   176.2861,       5211,  1823.1,2,   2.1435,2,  34.5748,2,  34.5734,2,     63.4,2,    63.2,2,  160.50,2,   41.58,2,    0.00,2,    2.95,2,-999.000,9,-999.000,9,-999.0000,9,  -999.0,9,  -999.0,9,-999.0000,9,  -999.00,9, -999.00,9,  -999.0,9, -999.00,9, -999.00,9,     -999.0,9, 20220527,     1935,  30.0001, 176.2861,     2.1432,2,     -999.0,9,     -999.0,9,     -999.0,9,     -999.0,9,     0.0134,1,     4.7001,1,     -999.0,9,     -999.0,9,     -999.0,9
33RR20220430,        P02,      78,          1,         13,         13,2,20220527,       1824,    30.0001,   176.2861,       5211,  2026.9,2,   1.9593,2,  34.6010,2,  34.6014,2,     77.4,3,    78.4,2,  162.84,2,   40.65,2,    0.00,2,    2.88,2,   0.006,2,   0.000,2,   0.0000,2,  2371.9,2,  2413.7,2,   7.4388,2,    25.02,2, -999.00,9,  -999.0,9, -999.00,1, -999.00,1,       33.9,2, 20220527,     1931,  30.0002, 176.2861,     1.9588,2,     -999.0,9,     -999.0,9,     -999.0,9,     -999.0,9,     0.0134,1,     4.7005,1,     -999.0,9,     -999.0,9,     -999.0,9
33RR20220430,        P02,      78,          1,         12,         12,2,20220527,       1824,    30.0001,   176.2861,       5211,  2280.4,2,   1.7745,2,  34.6264,2,  34.6260,2,     94.6,2,    94.2,2,  162.25,2,   39.56,2,    0.00,2,    2.77,2,-999.000,9,-999.000,9,-999.0000,9,  -999.0,9,  -999.0,9,-999.0000,9,  -999.00,9, -999.00,9,  -999.0,9, -999.00,9, -999.00,9,     -999.0,9, 20220527,     1925,  30.0002, 176.2861,     1.7746,2,     -999.0,9,     -999.0,9,     -999.0,9,     -999.0,9,     0.0122,1,     4.7009,1,     -999.0,9,     -999.0,9,     -999.0,9
33RR20220430,        P02,      78,          1,         11,         11,2,20220527,       1824,    30.0001,   176.2861,       5211,  2534.7,2,   1.6774,2,  34.6407,2,  34.6401,2,    106.2,2,   106.1,2,  161.86,2,   38.86,2,    0.00,2,    2.73,2,-999.000,9,-999.000,9,-999.0000,9,  2356.8,2,  2418.0,2,   7.4925,2,    24.99,2, -999.00,9,  -999.0,9, -999.00,1, -999.00,1,     -999.0,9, 20220527,     1920,  30.0002, 176.2861,     1.6773,2,     -999.0,9,     -999.0,9,     -999.0,9,     -999.0,9,     0.0122,1,     4.7018,1,     -999.0,9,     -999.0,9,     -999.0,9
33RR20220430,        P02,      78,          1,         10,         10,2,20220527,       1824,    30.0001,   176.2861,       5211,  2789.7,2,   1.5969,2,  34.6535,2,  34.6527,2,    118.6,2,   118.1,2,  160.00,2,   38.08,2,    0.00,2,    2.68,2,   0.006,2,   0.000,2,   0.0000,2,  -999.0,9,  -999.0,9,-999.0000,9,  -999.00,9, -999.00,9,  -999.0,9, -999.00,9, -999.00,9,       26.0,2, 20220527,     1915,  30.0002, 176.2861,     1.5969,2,     -999.0,9,     -999.0,9,     -999.0,9,     -999.0,9,     0.0131,1,     4.7024,1,     -999.0,9,     -999.0,9,     -999.0,9
33RR20220430,        P02,      78,          1,          9,          9,2,20220527,       1824,    30.0001,   176.2861,       5211,  3044.1,2,   1.5306,2,  34.6641,2,  34.6627,2,    129.0,2,   129.5,2,  158.24,2,   37.42,2,    0.00,2,    2.62,2,-999.000,9,-999.000,9,-999.0000,9,  2342.9,2,  2419.4,2,   7.5359,2,    25.00,2, -999.00,9,  -999.0,9, -999.00,1, -999.00,1,     -999.0,9, 20220527,     1910,  30.0002, 176.2861,     1.5306,2,     -999.0,9,     -999.0,9,     -999.0,9,     -999.0,9,     0.0134,1,     4.7030,1,     -999.0,9,     -999.0,9,     -999.0,9
33RR20220430,        P02,      78,          1,          8,          8,2,20220527,       1824,    30.0001,   176.2861,       5211,  3350.6,2,   1.4956,2,  34.6714,3,  34.6690,2,    136.8,2,   137.1,2,  157.07,2,   36.90,2,    0.00,2,    2.57,2,-999.000,9,-999.000,9,-999.0000,9,  -999.0,9,  -999.0,9,-999.0000,9,  -999.00,9, -999.00,9,  -999.0,9, -999.00,9, -999.00,9,     -999.0,9, 20220527,     1904,  30.0002, 176.2861,     1.4956,2,     -999.0,9,     -999.0,9,     -999.0,9,     -999.0,9,     0.0122,1,     4.7028,1,     -999.0,9,     -999.0,9,     -999.0,9
33RR20220430,        P02,      78,          1,          7,          7,2,20220527,       1824,    30.0001,   176.2861,       5211,  3658.7,2,   1.4755,2,  34.6769,3,  34.6747,2,    143.0,2,   143.2,2,  154.62,2,   36.52,2,    0.00,2,    2.55,2,   0.005,2,   0.000,2,   0.0000,2,  2333.7,2,  2419.5,2,   7.5601,2,    24.97,2, -999.00,9,  -999.0,9, -999.00,1, -999.00,1,       23.2,2, 20220527,     1858,  30.0002, 176.2861,     1.4757,2,     -999.0,9,     -999.0,9,     -999.0,9,     -999.0,9,     0.0122,1,     4.7032,1,     -999.0,9,     -999.0,9,     -999.0,9
33RR20220430,        P02,      78,          1,          6,          6,2,20220527,       1824,    30.0001,   176.2861,       5211,  3964.6,2,   1.4639,2,  34.6816,2,  34.6798,2,    148.6,2,   148.8,2,  153.84,2,   36.14,2,    0.00,2,    2.50,2,-999.000,9,-999.000,9,-999.0000,9,  -999.0,9,  -999.0,9,-999.0000,9,  -999.00,9, -999.00,9,  -999.0,9, -999.00,9, -999.00,9,     -999.0,9, 20220527,     1852,  30.0002, 176.2861,     1.4637,2,     -999.0,9,     -999.0,9,     -999.0,9,     -999.0,9,     0.0134,1,     4.7032,1,     -999.0,9,     -999.0,9,     -999.0,9
33RR20220430,        P02,      78,          1,          5,          5,2,20220527,       1824,    30.0001,   176.2861,       5211,  4272.1,2,   1.4665,2,  34.6848,2,  34.6842,2,    153.1,2,   153.5,2,  151.40,2,   35.86,2,    0.00,2,    2.47,2,-999.000,9,-999.000,9,-999.0000,9,  2326.0,2,  -999.0,1,   7.5765,2,    24.99,2, -999.00,9,  -999.0,9, -999.00,1, -999.00,1,     -999.0,9, 20220527,     1846,  30.0002, 176.2861,     1.4664,2,     -999.0,9,     -999.0,9,     -999.0,9,     -999.0,9,     0.0122,1,     4.7032,1,     -999.0,9,     -999.0,9,     -999.0,9
33RR20220430,        P02,      78,          1,          4,          4,2,20220527,       1824,    30.0001,   176.2861,       5211,  4578.8,2,   1.4755,2,  34.6874,2,  34.6865,2,    157.3,2,   156.9,2,  149.05,2,   35.62,2,    0.00,2,    2.45,2,   0.007,2,   0.000,2,   0.0000,2,  2322.3,2,  2417.8,2,   7.5813,2,    25.02,2, -999.00,9,  -999.0,9, -999.00,9, -999.00,9,       21.7,2, 20220527,     1840,  30.0002, 176.2861,     1.4754,2,     -999.0,9,     -999.0,9,     -999.0,9,     -999.0,9,     0.0131,1,     4.7032,1,     -999.0,9,     -999.0,9,     -999.0,9