BOTTLE,20230801CCHSIOCBG
EXPOCODE,SECT_ID,STNNBR,CASTNO,SAMPNO,BTLNBR,BTLNBR_FLAG_W,DATE,TIME,LATITUDE,LONGITUDE,DEPTH,CTDPRS,CTDPRS_FLAG_W,CTDTMP,CTDTMP_FLAG_W,CTDSAL,CTDSAL_FLAG_W,SALNTY,SALNTY_FLAG_W,CTDOXY,CTDOXY_FLAG_W,OXYGEN,OXYGEN_FLAG_W,SILCAT,SILCAT_FLAG_W,NITRAT,NITRAT_FLAG_W,NITRIT,NITRIT_FLAG_W,PHSPHT,PHSPHT_FLAG_W,CFC-11,CFC-11_FLAG_W,CFC-12,CFC-12_FLAG_W,SF6,SF6_FLAG_W,TCARBN,TCARBN_FLAG_W,ALKALI,ALKALI_FLAG_W,PH_TOT,PH_TOT_FLAG_W,PH_TMP,PH_TMP_FLAG_W,DELC13,DELC13_FLAG_W,DELC14,DELC14_FLAG_W,DOC,DOC_FLAG_W,TDN,TDN_FLAG_W,N2O,N2O_FLAG_W,BTL_DATE,BTL_TIME,BTL_LAT,BTL_LON,REFTMP,REFTMP_FLAG_W,POC,POC_FLAG_W,PON,PON_FLAG_W,POP,POP_FLAG_W,PCOD,PCOD_FLAG_W,CTDFLUOR,CTDFLUOR_FLAG_W,CTDXMISS,CTDXMISS_FLAG_W,HPLC,HPLC_FLAG_W,DNA,DNA_FLAG_W,FCM,FCM_FLAG_W
,,,,,,,,,,,METERS,DBAR,,ITS-90,,PSS-78,,PSS-78,,UMOL/KG,,UMOL/KG,,UMOL/KG,,UMOL/KG,,UMOL/KG,,UMOL/KG,,PMOL/KG,,PMOL/KG,,FMOL/KG,,UMOL/KG,,UMOL/KG,,,,DEG C,,/MILLE,,/MILLE,,UMOL/KG,,UMOL/KG,,NMOL/KG,,,,,,ITS-90,,UG/L,,UG/L,,UG/L,,UG/L,,VOLTS,,VOLTS,,,,,,,
33RR20220430,        P02,      89,          2,          3,          3,2,20220531,       0122,    30.0002,  -177.3673,       5354,  4785.8,2,   1.5045,2,  34.6870,2,  34.6871,2,    155.1,2,   154.7,2,  151.79,2,   35.89,2,    0.00,2,    2.49,2,   0.006,2,   0.000,2,   0.0000,2,  2325.5,2,  2419.0,2,   7.5800,2,    25.00,2, -999.00,1,  -999.0,1, -999.00,1, -999.00,1,       21.8,2, 20220531,      136,  30.0002,-177.3673,     1.5048,2,     -999.0,9,     -999.0,9,     -999.0,9,     -999.0,9,     0.0125,1,     4.7061,1,     -999.0,9,     -999.0,9,     -999.0,9
33RR20220430,        P02,      89,          2,          2,          2,2,20220531,       0122,    30.0002,  -177.3673,       5354,  5121.3,2,   1.5212,2,  34.6891,2,  34.6889,2,    159.9,2,   160.3,2,  147.19,2,   35.53,2,    0.00,2,    2.46,2,-999.000,9,-999.000,9,-999.0000,9,  2316.1,2,  2415.5,2,   7.5864,2,    24.99,2, -999.00,1,  -999.0,1, -999.00,1, -999.00,1,     -999.0,9, 20220531,      129,  30.0002,-177.3673,     1.5213,2,     -999.0,9,     -999.0,9,     -999.0,9,     -999.0,9,     0.0121,1,     4.7056,1,     -999.0,9,     -999.0,9,     -999.0,9
33RR20220430,        P02,      89,          2,          1,          1,2,20220531,       0122,    30.0002,  -177.3673,       5354,  5449.8,2,   1.5452,2,  34.6907,2,  34.6901,2,    163.5,2,   163.4,2,  143.39,2,   35.26,2,    0.00,2,    2.43,2,   0.009,2,   0.000,2,   0.0000,2,  2314.5,6,  2412.8,2,   7.5906,2,    25.00,2, -999.00,1,  -999.0,1, -999.00,1, -999.00,1,       21.3,2, 20220531,      122,  30.0003,-177.3673,     1.5453,2,     -999.0,9,     -999.0,9,     -999.0,9,     -999.0,9,     0.0122,1,     4.7032,1,     -999.0,9,     -999.0,9,     -999.0,9