BOTTLE,20230801CCHSIOCBG
EXPOCODE,SECT_ID,STNNBR,CASTNO,SAMPNO,BTLNBR,BTLNBR_FLAG_W,DATE,TIME,LATITUDE,LONGITUDE,DEPTH,CTDPRS,CTDPRS_FLAG_W,CTDTMP,CTDTMP_FLAG_W,CTDSAL,CTDSAL_FLAG_W,SALNTY,SALNTY_FLAG_W,CTDOXY,CTDOXY_FLAG_W,OXYGEN,OXYGEN_FLAG_W,SILCAT,SILCAT_FLAG_W,NITRAT,NITRAT_FLAG_W,NITRIT,NITRIT_FLAG_W,PHSPHT,PHSPHT_FLAG_W,CFC-11,CFC-11_FLAG_W,CFC-12,CFC-12_FLAG_W,SF6,SF6_FLAG_W,TCARBN,TCARBN_FLAG_W,ALKALI,ALKALI_FLAG_W,PH_TOT,PH_TOT_FLAG_W,PH_TMP,PH_TMP_FLAG_W,DELC13,DELC13_FLAG_W,DELC14,DELC14_FLAG_W,DOC,DOC_FLAG_W,TDN,TDN_FLAG_W,N2O,N2O_FLAG_W,BTL_DATE,BTL_TIME,BTL_LAT,BTL_LON,REFTMP,REFTMP_FLAG_W,POC,POC_FLAG_W,PON,PON_FLAG_W,POP,POP_FLAG_W,PCOD,PCOD_FLAG_W,CTDFLUOR,CTDFLUOR_FLAG_W,CTDXMISS,CTDXMISS_FLAG_W,HPLC,HPLC_FLAG_W,DNA,DNA_FLAG_W,FCM,FCM_FLAG_W
,,,,,,,,,,,METERS,DBAR,,ITS-90,,PSS-78,,PSS-78,,UMOL/KG,,UMOL/KG,,UMOL/KG,,UMOL/KG,,UMOL/KG,,UMOL/KG,,PMOL/KG,,PMOL/KG,,FMOL/KG,,UMOL/KG,,UMOL/KG,,,,DEG C,,/MILLE,,/MILLE,,UMOL/KG,,UMOL/KG,,NMOL/KG,,,,,,ITS-90,,UG/L,,UG/L,,UG/L,,UG/L,,VOLTS,,VOLTS,,,,,,,
33RR20220430,        P02,      98,          2,          3,          3,2,20220602,       1549,    30.0000,  -172.1759,       5427,  4785.6,2,   1.5115,2,  34.6862,2,  34.6861,2,    154.4,2,   154.5,2,  153.15,2,   35.84,2,    0.00,2,    2.48,2,   0.006,2,   0.000,2,   0.0000,2,  2323.1,2,  2416.1,2,   7.5798,2,    24.99,2, -999.00,9,  -999.0,9, -999.00,9, -999.00,9,       21.8,2, 20220602,     1603,  30.0000,-172.1759,     1.5114,2,     -999.0,9,     -999.0,9,     -999.0,9,     -999.0,9,     0.0122,1,     4.7057,1,     -999.0,9,     -999.0,9,     -999.0,9
33RR20220430,        P02,      98,          2,          2,          2,2,20220602,       1549,    30.0000,  -172.1759,       5427,  5197.6,2,   1.5371,2,  34.6883,2,  34.6891,2,    159.3,2,   159.7,2,  148.17,2,   35.61,2,    0.00,2,    2.45,2,-999.000,9,-999.000,9,-999.0000,9,  2319.3,6,  2413.6,2,   7.5854,2,    25.00,2, -999.00,9,  -999.0,9, -999.00,9, -999.00,9,     -999.0,9, 20220602,     1555,  30.0000,-172.1758,     1.5370,2,     -999.0,9,     -999.0,9,     -999.0,9,     -999.0,9,     0.0122,1,     4.7051,1,     -999.0,9,     -999.0,9,     -999.0,9
33RR20220430,        P02,      98,          2,          1,          1,2,20220602,       1549,    30.0000,  -172.1759,       5427,  5524.5,2,   1.5596,2,  34.6899,2,  34.6897,2,    163.3,2,   163.2,2,  144.26,2,   35.20,2,    0.00,2,    2.43,2,   0.009,2,   0.000,2,   0.0000,2,  2316.2,2,  2411.4,2,   7.5896,2,    25.01,2, -999.00,9,  -999.0,9, -999.00,9, -999.00,9,       21.9,2, 20220602,     1549,  30.0000,-172.1759,     1.5597,2,     -999.0,9,     -999.0,9,     -999.0,9,     -999.0,9,     0.0122,1,     4.7042,1,     -999.0,9,     -999.0,9,     -999.0,9