BOTTLE,20230801CCHSIOCBG
EXPOCODE,SECT_ID,STNNBR,CASTNO,SAMPNO,BTLNBR,BTLNBR_FLAG_W,DATE,TIME,LATITUDE,LONGITUDE,DEPTH,CTDPRS,CTDPRS_FLAG_W,CTDTMP,CTDTMP_FLAG_W,CTDSAL,CTDSAL_FLAG_W,SALNTY,SALNTY_FLAG_W,CTDOXY,CTDOXY_FLAG_W,OXYGEN,OXYGEN_FLAG_W,SILCAT,SILCAT_FLAG_W,NITRAT,NITRAT_FLAG_W,NITRIT,NITRIT_FLAG_W,PHSPHT,PHSPHT_FLAG_W,CFC-11,CFC-11_FLAG_W,CFC-12,CFC-12_FLAG_W,SF6,SF6_FLAG_W,TCARBN,TCARBN_FLAG_W,ALKALI,ALKALI_FLAG_W,PH_TOT,PH_TOT_FLAG_W,PH_TMP,PH_TMP_FLAG_W,DELC13,DELC13_FLAG_W,DELC14,DELC14_FLAG_W,DOC,DOC_FLAG_W,TDN,TDN_FLAG_W,N2O,N2O_FLAG_W,BTL_DATE,BTL_TIME,BTL_LAT,BTL_LON,REFTMP,REFTMP_FLAG_W,POC,POC_FLAG_W,PON,PON_FLAG_W,POP,POP_FLAG_W,PCOD,PCOD_FLAG_W,CTDFLUOR,CTDFLUOR_FLAG_W,CTDXMISS,CTDXMISS_FLAG_W,HPLC,HPLC_FLAG_W,DNA,DNA_FLAG_W,FCM,FCM_FLAG_W
,,,,,,,,,,,METERS,DBAR,,ITS-90,,PSS-78,,PSS-78,,UMOL/KG,,UMOL/KG,,UMOL/KG,,UMOL/KG,,UMOL/KG,,UMOL/KG,,PMOL/KG,,PMOL/KG,,FMOL/KG,,UMOL/KG,,UMOL/KG,,,,DEG C,,/MILLE,,/MILLE,,UMOL/KG,,UMOL/KG,,NMOL/KG,,,,,,ITS-90,,UG/L,,UG/L,,UG/L,,UG/L,,VOLTS,,VOLTS,,,,,,,
33RR20220430,        P02,     106,          1,          3,          3,2,20220605,       0047,    30.0010,  -167.5585,       5550,  5129.2,2,   1.5482,2,  34.6868,2,  34.6853,2,    154.7,2,   154.8,2,  152.58,2,   35.86,2,    0.00,2,    2.46,2,   0.005,2,   0.000,2,   0.0000,2,  2323.5,2,  2417.6,2,   7.5821,2,    25.00,2, -999.00,9,  -999.0,9, -999.00,1, -999.00,1,       21.6,2, 20220605,       59,  30.0010,-167.5585,     1.5482,2,     -999.0,9,     -999.0,9,     -999.0,9,     -999.0,9,     0.0122,1,     4.7053,1,     -999.0,9,     -999.0,9,     -999.0,9
33RR20220430,        P02,     106,          1,          2,          2,2,20220605,       0047,    30.0010,  -167.5585,       5550,  5405.8,2,   1.5668,2,  34.6882,3,  34.6855,2,    158.2,2,   158.4,2,  148.58,2,   35.58,2,    0.00,2,    2.45,2,-999.000,9,-999.000,9,-999.0000,9,  2321.1,6,  2414.6,2,   7.5858,2,    24.99,2, -999.00,9,  -999.0,9, -999.00,9, -999.00,9,     -999.0,9, 20220605,       53,  30.0010,-167.5585,     1.5671,2,     -999.0,9,     -999.0,9,     -999.0,9,     -999.0,9,     0.0122,1,     4.7044,1,     -999.0,9,     -999.0,9,     -999.0,9
33RR20220430,        P02,     106,          1,          1,          1,2,20220605,       0047,    30.0010,  -167.5585,       5550,  5652.2,2,   1.5881,2,  34.6889,2,  34.6895,2,    160.8,2,   160.8,2,  146.23,2,   35.37,2,    0.00,2,    2.44,2,   0.009,2,   0.000,2,   0.0000,2,  2318.5,2,  2413.1,2,   7.5869,2,    24.98,2, -999.00,9,  -999.0,9, -999.00,1, -999.00,1,       22.3,2, 20220605,       47,  30.0009,-167.5585,     1.5885,2,     -999.0,9,     -999.0,9,     -999.0,9,     -999.0,9,     0.0133,1,     4.7020,1,     -999.0,9,     -999.0,9,     -999.0,9
33RR20220430,        P02,     107,          1,         12,         12,2,20220605,       0608,    29.9990,  -166.9828,       5520,     9.4,2,  24.1421,2,  35.1472,2,-999.0000,9,    207.7,2,  -999.0,9, -999.00,9, -999.00,9, -999.00,9, -999.00,9,-999.000,9,-999.000,9,-999.0000,9,  -999.0,9,  -999.0,9,-999.0000,9,  -999.00,9, -999.00,9,  -999.0,9, -999.00,9, -999.00,9,     -999.0,9, 20220605,      636,  29.9990,-166.9828,    24.1393,2,     -999.0,1,     -999.0,1,     -999.0,9,     -999.0,9,     0.0134,1,     4.6360,1,     -999.0,9,     -999.0,9,     -999.0,9
33RR20220430,        P02,     107,          1,          9,          9,2,20220605,       0608,    29.9990,  -166.9828,       5520,     9.4,2,  24.1344,2,  35.1470,2,-999.0000,9,    208.0,2,  -999.0,9, -999.00,9, -999.00,9, -999.00,9, -999.00,9,-999.000,9,-999.000,9,-999.0000,9,  -999.0,9,  -999.0,9,-999.0000,9,  -999.00,9, -999.00,9,  -999.0,9, -999.00,9, -999.00,9,     -999.0,9, 20220605,      635,  29.9990,-166.9828,    24.1405,2,     -999.0,9,     -999.0,9,     -999.0,9,     -999.0,9,     0.0134,1,     4.6365,1,     -999.0,1,     -999.0,9,     -999.0,1
33RR20220430,        P02,     107,          1,         15,         15,2,20220605,       0608,    29.9990,  -166.9828,       5520,     9.5,2,  24.1392,2,  35.1477,2,-999.0000,9,    207.6,2,  -999.0,9, -999.00,9, -999.00,9, -999.00,9, -999.00,9,-999.000,9,-999.000,9,-999.0000,9,  -999.0,9,  -999.0,9,-999.0000,9,  -999.00,9, -999.00,9,  -999.0,9, -999.00,9, -999.00,9,     -999.0,9, 20220605,      637,  29.9990,-166.9828,    24.1454,2,     -999.0,9,     -999.0,9,     -999.0,1,     -999.0,9,     0.0135,1,     4.6347,1,     -999.0,9,     -999.0,9,     -999.0,9
33RR20220430,        P02,     107,          1,         18,         18,2,20220605,       0608,    29.9990,  -166.9828,       5520,     9.6,2,  24.1351,2,  35.1463,2,-999.0000,9,    208.1,2,  -999.0,9, -999.00,9, -999.00,9, -999.00,9, -999.00,9,-999.000,9,-999.000,9,-999.0000,9,  -999.0,9,  -999.0,9,-999.0000,9,  -999.00,9, -999.00,9,  -999.0,9, -999.00,9, -999.00,9,     -999.0,9, 20220605,      637,  29.9990,-166.9828,    24.1372,2,     -999.0,9,     -999.0,9,     -999.0,9,     -999.0,1,     0.0135,1,     4.6351,1,     -999.0,9,     -999.0,9,     -999.0,9
33RR20220430,        P02,     107,          1,         11,         11,2,20220605,       0608,    29.9990,  -166.9828,       5520,     9.6,2,  24.1433,2,  35.1472,2,-999.0000,9,    207.8,2,  -999.0,9, -999.00,9, -999.00,9, -999.00,9, -999.00,9,-999.000,9,-999.000,9,-999.0000,9,  -999.0,9,  -999.0,9,-999.0000,9,  -999.00,9, -999.00,9,  -999.0,9, -999.00,9, -999.00,9,     -999.0,9, 20220605,      635,  29.9990,-166.9828,    24.1434,2,     -999.0,1,     -999.0,1,     -999.0,9,     -999.0,9,     0.0135,1,     4.6362,1,     -999.0,9,     -999.0,9,     -999.0,9
33RR20220430,        P02,     107,          1,         19,         19,2,20220605,       0608,    29.9990,  -166.9828,       5520,     9.6,2,  24.1393,2,  35.1474,2,-999.0000,9,    208.1,2,  -999.0,9, -999.00,9, -999.00,9, -999.00,9, -999.00,9,-999.000,9,-999.000,9,-999.0000,9,  -999.0,9,  -999.0,9,-999.0000,9,  -999.00,9, -999.00,9,  -999.0,9, -999.00,9, -999.00,9,     -999.0,9, 20220605,      638,  29.9990,-166.9828,     -999.0,9,     -999.0,9,     -999.0,9,     -999.0,9,     -999.0,1,     0.0134,1,     4.6348,1,     -999.0,9,     -999.0,9,     -999.0,9
33RR20220430,        P02,     107,          1,         16,         16,2,20220605,       0608,    29.9990,  -166.9828,       5520,     9.6,2,  24.1454,2,  35.1474,2,-999.0000,9,    207.7,2,  -999.0,9, -999.00,9, -999.00,9, -999.00,9, -999.00,9,-999.000,9,-999.000,9,-999.0000,9,  -999.0,9,  -999.0,9,-999.0000,9,  -999.00,9, -999.00,9,  -999.0,9, -999.00,9, -999.00,9,     -999.0,9, 20220605,      637,  29.9990,-166.9828,    24.1420,2,     -999.0,9,     -999.0,9,     -999.0,1,     -999.0,9,     0.0134,1,     4.6349,1,     -999.0,9,     -999.0,9,     -999.0,9
33RR20220430,        P02,     107,          1,         13,         13,2,20220605,       0608,    29.9990,  -166.9828,       5520,     9.8,2,  24.1407,2,  35.1473,2,-999.0000,9,    208.0,2,  -999.0,9, -999.00,9, -999.00,9, -999.00,9, -999.00,9,-999.000,9,-999.000,9,-999.0000,9,  -999.0,9,  -999.0,9,-999.0000,9,  -999.00,9, -999.00,9,  -999.0,9, -999.00,9, -999.00,9,     -999.0,9, 20220605,      636,  29.9990,-166.9828,    24.1412,2,     -999.0,1,     -999.0,1,     -999.0,9,     -999.0,9,     0.0135,1,     4.6355,1,     -999.0,9,     -999.0,9,     -999.0,9
33RR20220430,        P02,     107,          1,         14,         14,2,20220605,       0608,    29.9990,  -166.9828,       5520,     9.8,2,  24.1393,2,  35.1474,2,-999.0000,9,    208.0,2,  -999.0,9, -999.00,9, -999.00,9, -999.00,9, -999.00,9,-999.000,9,-999.000,9,-999.0000,9,  -999.0,9,  -999.0,9,-999.0000,9,  -999.00,9, -999.00,9,  -999.0,9, -999.00,9, -999.00,9,     -999.0,9, 20220605,      636,  29.9989,-166.9828,    24.1373,2,     -999.0,9,     -999.0,9,     -999.0,1,     -999.0,9,     0.0129,1,     4.6348,1,     -999.0,9,     -999.0,9,     -999.0,9
33RR20220430,        P02,     107,          1,         17,         17,2,20220605,       0608,    29.9990,  -166.9828,       5520,     9.9,2,  24.1352,2,  35.1475,2,-999.0000,9,    208.0,2,  -999.0,9, -999.00,9, -999.00,9, -999.00,9, -999.00,9,-999.000,9,-999.000,9,-999.0000,9,  -999.0,9,  -999.0,9,-999.0000,9,  -999.00,9, -999.00,9,  -999.0,9, -999.00,9, -999.00,9,     -999.0,9, 20220605,      637,  29.9990,-166.9828,     -999.0,9,     -999.0,9,     -999.0,9,     -999.0,9,     -999.0,1,     0.0126,1,     4.6339,1,     -999.0,9,     -999.0,9,     -999.0,9
33RR20220430,        P02,     107,          1,         10,         10,2,20220605,       0608,    29.9990,  -166.9828,       5520,     9.9,2,  24.1459,2,  35.1470,2,-999.0000,9,    207.9,2,  -999.0,9, -999.00,9, -999.00,9, -999.00,9, -999.00,9,-999.000,9,-999.000,9,-999.0000,9,  -999.0,9,  -999.0,9,-999.0000,9,  -999.00,9, -999.00,9,  -999.0,9, -999.00,9, -999.00,9,     -999.0,9, 20220605,      635,  29.9990,-166.9828,    24.1418,2,     -999.0,9,     -999.0,9,     -999.0,9,     -999.0,9,     0.0134,1,     4.6359,1,     -999.0,9,     -999.0,1,     -999.0,9
33RR20220430,        P02,     107,          1,          8,          8,2,20220605,       0608,    29.9990,  -166.9828,       5520,    40.2,2,  20.5249,2,  35.0471,2,-999.0000,9,    221.6,2,  -999.0,9, -999.00,9, -999.00,9, -999.00,9, -999.00,9,-999.000,9,-999.000,9,-999.0000,9,  -999.0,9,  -999.0,9,-999.0000,9,  -999.00,9, -999.00,9,  -999.0,9, -999.00,9, -999.00,9,     -999.0,9, 20220605,      632,  29.9990,-166.9828,    20.5599,2,     -999.0,9,     -999.0,9,     -999.0,9,     -999.0,9,     0.0138,1,     4.6364,1,     -999.0,1,     -999.0,9,     -999.0,1
33RR20220430,        P02,     107,          1,          7,          7,2,20220605,       0608,    29.9990,  -166.9828,       5520,    78.2,2,  19.0892,2,  34.9325,2,-999.0000,9,    223.8,2,  -999.0,9, -999.00,9, -999.00,9, -999.00,9, -999.00,9,-999.000,9,-999.000,9,-999.0000,9,  -999.0,9,  -999.0,9,-999.0000,9,  -999.00,9, -999.00,9,  -999.0,9, -999.00,9, -999.00,9,     -999.0,9, 20220605,      630,  29.9990,-166.9828,    19.0965,2,     -999.0,9,     -999.0,9,     -999.0,9,     -999.0,9,     0.0171,1,     4.6459,1,     -999.0,9,     -999.0,9,     -999.0,1
33RR20220430,        P02,     107,          1,          5,          5,2,20220605,       0608,    29.9990,  -166.9828,       5520,   101.4,2,  18.3060,2,  34.8176,2,-999.0000,9,    223.1,2,  -999.0,9, -999.00,9, -999.00,9, -999.00,9, -999.00,9,-999.000,9,-999.000,9,-999.0000,9,  -999.0,9,  -999.0,9,-999.0000,9,  -999.00,9, -999.00,9,  -999.0,9, -999.00,9, -999.00,9,     -999.0,9, 20220605,      628,  29.9990,-166.9828,    18.2972,2,     -999.0,9,     -999.0,9,     -999.0,9,     -999.0,9,     0.0574,1,     4.6165,1,     -999.0,9,     -999.0,1,     -999.0,9
33RR20220430,        P02,     107,          1,          6,          6,2,20220605,       0608,    29.9990,  -166.9828,       5520,   102.2,2,  18.2928,2,  34.8165,2,-999.0000,9,    223.0,2,  -999.0,9, -999.00,9, -999.00,9, -999.00,9, -999.00,9,-999.000,9,-999.000,9,-999.0000,9,  -999.0,9,  -999.0,9,-999.0000,9,  -999.00,9, -999.00,9,  -999.0,9, -999.00,9, -999.00,9,     -999.0,9, 20220605,      628,  29.9990,-166.9828,    18.2994,2,     -999.0,9,     -999.0,9,     -999.0,9,     -999.0,9,     0.0471,1,     4.6130,1,     -999.0,1,     -999.0,9,     -999.0,1
33RR20220430,        P02,     107,          1,          4,          4,2,20220605,       0608,    29.9990,  -166.9828,       5520,   151.7,2,  16.5164,2,  34.6105,2,-999.0000,9,    210.9,2,  -999.0,9, -999.00,9, -999.00,9, -999.00,9, -999.00,9,-999.000,9,-999.000,9,-999.0000,9,  -999.0,9,  -999.0,9,-999.0000,9,  -999.00,9, -999.00,9,  -999.0,9, -999.00,9, -999.00,9,     -999.0,9, 20220605,      626,  29.9990,-166.9828,    16.5312,2,     -999.0,9,     -999.0,9,     -999.0,9,     -999.0,9,     0.0183,1,     4.6775,1,     -999.0,9,     -999.0,9,     -999.0,1
33RR20220430,        P02,     107,          1,          3,          3,2,20220605,       0608,    29.9990,  -166.9828,       5520,   201.4,2,  14.8303,2,  34.4979,2,-999.0000,9,    203.3,2,  -999.0,9, -999.00,9, -999.00,9, -999.00,9, -999.00,9,-999.000,9,-999.000,9,-999.0000,9,  -999.0,9,  -999.0,9,-999.0000,9,  -999.00,9, -999.00,9,  -999.0,9, -999.00,9, -999.00,9,     -999.0,9, 20220605,      624,  29.9990,-166.9828,    14.8005,2,     -999.0,9,     -999.0,9,     -999.0,9,     -999.0,9,     0.0122,1,     4.6885,1,     -999.0,9,     -999.0,1,     -999.0,1
33RR20220430,        P02,     107,          1,          2,          2,2,20220605,       0608,    29.9990,  -166.9828,       5520,   507.9,2,   8.0938,2,  34.0393,2,-999.0000,9,    156.6,2,  -999.0,9, -999.00,9, -999.00,9, -999.00,9, -999.00,9,-999.000,9,-999.000,9,-999.0000,9,  -999.0,9,  -999.0,9,-999.0000,9,  -999.00,9, -999.00,9,  -999.0,9, -999.00,9, -999.00,9,     -999.0,9, 20220605,      618,  29.9990,-166.9828,     8.0961,2,     -999.0,9,     -999.0,9,     -999.0,9,     -999.0,9,     0.0122,1,     4.6989,1,     -999.0,9,     -999.0,9,     -999.0,1
33RR20220430,        P02,     107,          1,          1,          1,2,20220605,       0608,    29.9990,  -166.9828,       5520,  1010.4,2,   3.6927,2,  34.3516,2,-999.0000,9,     21.6,2,  -999.0,9, -999.00,9, -999.00,9, -999.00,9, -999.00,9,-999.000,9,-999.000,9,-999.0000,9,  -999.0,9,  -999.0,9,-999.0000,9,  -999.00,9, -999.00,9,  -999.0,9, -999.00,9, -999.00,9,     -999.0,9, 20220605,      608,  29.9990,-166.9828,     3.6926,2,     -999.0,9,     -999.0,9,     -999.0,9,     -999.0,9,     0.0134,1,     4.7013,1,     -999.0,9,     -999.0,1,     -999.0,1