BOTTLE,20230801CCHSIOCBG
EXPOCODE,SECT_ID,STNNBR,CASTNO,SAMPNO,BTLNBR,BTLNBR_FLAG_W,DATE,TIME,LATITUDE,LONGITUDE,DEPTH,CTDPRS,CTDPRS_FLAG_W,CTDTMP,CTDTMP_FLAG_W,CTDSAL,CTDSAL_FLAG_W,SALNTY,SALNTY_FLAG_W,CTDOXY,CTDOXY_FLAG_W,OXYGEN,OXYGEN_FLAG_W,SILCAT,SILCAT_FLAG_W,NITRAT,NITRAT_FLAG_W,NITRIT,NITRIT_FLAG_W,PHSPHT,PHSPHT_FLAG_W,CFC-11,CFC-11_FLAG_W,CFC-12,CFC-12_FLAG_W,SF6,SF6_FLAG_W,TCARBN,TCARBN_FLAG_W,ALKALI,ALKALI_FLAG_W,PH_TOT,PH_TOT_FLAG_W,PH_TMP,PH_TMP_FLAG_W,DELC13,DELC13_FLAG_W,DELC14,DELC14_FLAG_W,DOC,DOC_FLAG_W,TDN,TDN_FLAG_W,N2O,N2O_FLAG_W,BTL_DATE,BTL_TIME,BTL_LAT,BTL_LON,REFTMP,REFTMP_FLAG_W,POC,POC_FLAG_W,PON,PON_FLAG_W,POP,POP_FLAG_W,PCOD,PCOD_FLAG_W,CTDFLUOR,CTDFLUOR_FLAG_W,CTDXMISS,CTDXMISS_FLAG_W,HPLC,HPLC_FLAG_W,DNA,DNA_FLAG_W,FCM,FCM_FLAG_W
,,,,,,,,,,,METERS,DBAR,,ITS-90,,PSS-78,,PSS-78,,UMOL/KG,,UMOL/KG,,UMOL/KG,,UMOL/KG,,UMOL/KG,,UMOL/KG,,PMOL/KG,,PMOL/KG,,FMOL/KG,,UMOL/KG,,UMOL/KG,,,,DEG C,,/MILLE,,/MILLE,,UMOL/KG,,UMOL/KG,,NMOL/KG,,,,,,ITS-90,,UG/L,,UG/L,,UG/L,,UG/L,,VOLTS,,VOLTS,,,,,,,
33RR20220430,        P02,      34,          1,         36,         36,2,20220513,       2145,    30.0001,   150.5814,       6105,     4.5,2,  22.7901,2,  34.8999,2,  34.8920,2,    218.3,2,   217.5,2,    0.20,2,    0.01,2,    0.00,2,    0.00,2,   1.676,2,   1.065,2,   1.8152,2,  2002.6,2,  2290.3,2,   8.0276,2,    25.00,2, -999.00,9,  -999.0,9, -999.00,1, -999.00,1,        6.6,2, 20220514,        3,  30.0001, 150.5814,    22.7874,2,     -999.0,9,     -999.0,9,     -999.0,9,     -999.0,9,     0.0122,1,     4.6472,1,     -999.0,9,     -999.0,9,     -999.0,9
33RR20220430,        P02,      34,          1,         35,         35,2,20220513,       2145,    30.0001,   150.5814,       6105,    36.8,2,  21.1337,2,  34.8187,2,  34.8108,2,    227.8,2,   227.6,2,    0.29,2,    0.00,2,    0.00,2,    0.01,2,   1.836,2,   1.152,2,   1.8955,2,  2003.5,6,  2285.2,2,   8.0152,2,    24.99,2, -999.00,9,  -999.0,9, -999.00,1, -999.00,1,        6.7,2, 20220514,        0,  30.0002, 150.5814,    21.0841,2,     -999.0,9,     -999.0,9,     -999.0,9,     -999.0,9,     0.0134,1,     4.6382,1,     -999.0,9,     -999.0,9,     -999.0,9
33RR20220430,        P02,      34,          1,         34,         34,2,20220513,       2145,    30.0001,   150.5814,       6105,    61.4,2,  18.9189,2,  34.7948,2,  34.7891,2,    231.6,2,   231.7,2,    0.39,2,    0.01,2,    0.00,2,    0.01,2,   1.973,2,   1.231,2,   2.0535,2,  2020.4,2,  2285.4,2,   7.9931,2,    24.98,2, -999.00,9,  -999.0,9, -999.00,1, -999.00,1,        7.5,2, 20220513,     2358,  30.0001, 150.5814,    18.9066,2,     -999.0,9,     -999.0,9,     -999.0,9,     -999.0,9,     0.0257,1,     4.6205,1,     -999.0,9,     -999.0,9,     -999.0,9
33RR20220430,        P02,      34,          1,         33,         33,2,20220513,       2145,    30.0001,   150.5814,       6105,    86.8,2,  18.3054,2,  34.7655,2,  34.7579,2,    224.4,2,   224.1,2,    1.07,2,    1.31,2,    0.12,2,    0.10,2,   1.976,2,   1.248,2,   2.1139,2,  2025.3,2,  2282.1,2,   7.9725,2,    24.99,2, -999.00,9,  -999.0,9, -999.00,1, -999.00,1,        9.3,2, 20220513,     2356,  30.0002, 150.5814,    18.3064,2,     -999.0,9,     -999.0,9,     -999.0,9,     -999.0,9,     0.0278,1,     4.6484,1,     -999.0,9,     -999.0,9,     -999.0,9
33RR20220430,        P02,      34,          1,         32,         32,2,20220513,       2145,    30.0001,   150.5814,       6105,   117.3,2,  17.7289,2,  34.7478,2,  34.7429,2,    223.2,2,   222.6,2,    1.56,2,    2.19,2,    0.02,2,    0.16,2,   2.050,2,   1.285,2,   2.1401,2,  2028.3,2,  2281.5,2,   7.9620,2,    25.00,2, -999.00,9,  -999.0,9, -999.00,1, -999.00,1,       10.6,2, 20220513,     2354,  30.0002, 150.5814,    17.7377,2,     -999.0,9,     -999.0,9,     -999.0,9,     -999.0,9,     0.0159,1,     4.6698,1,     -999.0,9,     -999.0,9,     -999.0,9
33RR20220430,        P02,      34,          1,         31,         31,2,20220513,       2145,    30.0001,   150.5814,       6105,   167.3,2,  17.1475,2,  34.7448,2,  34.7376,2,    220.8,2,   220.7,2,    2.25,2,    3.29,2,    0.00,2,    0.22,2,   2.031,2,   1.297,2,   2.0752,2,  2037.2,2,  2281.1,2,   7.9483,2,    25.01,2, -999.00,9,  -999.0,9, -999.00,1, -999.00,1,        9.9,2, 20220513,     2352,  30.0001, 150.5814,    17.1464,2,     -999.0,9,     -999.0,9,     -999.0,9,     -999.0,9,     0.0122,1,     4.6843,1,     -999.0,9,     -999.0,9,     -999.0,9
33RR20220430,        P02,      34,          1,         30,         30,2,20220513,       2145,    30.0001,   150.5814,       6105,   217.2,2,  16.8063,2,  34.7170,2,  34.7117,2,    219.9,2,   219.8,2,    2.64,2,    3.97,2,    0.00,2,    0.26,2,   2.096,2,   1.357,2,   1.9549,2,  2042.4,2,  2281.5,2,   7.9372,2,    25.00,2, -999.00,9,  -999.0,9, -999.00,1, -999.00,1,        9.6,2, 20220513,     2350,  30.0001, 150.5814,    16.8064,2,     -999.0,9,     -999.0,9,     -999.0,9,     -999.0,9,     0.0127,1,     4.6815,1,     -999.0,9,     -999.0,9,     -999.0,9
33RR20220430,        P02,      34,          1,         29,         29,2,20220513,       2145,    30.0001,   150.5814,       6105,   272.2,2,  16.4449,2,  34.6927,2,  34.6867,2,    214.4,2,   213.6,2,    3.81,2,    5.13,2,    0.00,2,    0.32,2,   2.133,2,   1.356,2,   1.9470,2,  2050.4,2,  2279.3,2,   7.9193,2,    24.99,2, -999.00,9,  -999.0,9, -999.00,1, -999.00,1,       10.4,2, 20220513,     2349,  30.0001, 150.5814,    16.4438,2,     -999.0,9,     -999.0,9,     -999.0,9,     -999.0,9,     0.0122,1,     4.6825,1,     -999.0,9,     -999.0,9,     -999.0,9
33RR20220430,        P02,      34,          1,         28,         28,2,20220513,       2145,    30.0001,   150.5814,       6105,   323.2,2,  15.8295,2,  34.6692,2,  34.6657,2,    214.4,2,   215.9,2,    4.98,2,    5.87,2,    0.00,2,    0.38,2,   2.197,2,   1.365,2,   1.9317,2,  -999.0,9,  -999.0,9,-999.0000,9,  -999.00,9, -999.00,9,  -999.0,9, -999.00,1, -999.00,1,       10.8,2, 20220513,     2347,  30.0001, 150.5814,    15.8288,2,     -999.0,9,     -999.0,9,     -999.0,9,     -999.0,9,     0.0122,1,     4.6884,1,     -999.0,9,     -999.0,9,     -999.0,9
33RR20220430,        P02,      34,          1,         27,         27,2,20220513,       2145,    30.0001,   150.5814,       6105,   373.9,2,  14.5190,2,  34.5425,2,  34.5362,2,    189.5,2,   189.1,2,   10.55,2,   10.52,2,    0.00,2,    0.69,2,   2.279,6,   1.441,6,   1.6347,6,  2088.0,2,  2276.7,2,   7.8350,2,    24.99,2, -999.00,9,  -999.0,9, -999.00,1, -999.00,1,       15.4,6, 20220513,     2345,  30.0001, 150.5814,    14.5268,2,     -999.0,9,     -999.0,9,     -999.0,9,     -999.0,9,     0.0122,1,     4.6946,1,     -999.0,9,     -999.0,9,     -999.0,9
33RR20220430,        P02,      34,          1,         26,         26,2,20220513,       2145,    30.0001,   150.5814,       6105,   444.4,2,  12.5125,2,  34.3903,2,  34.3872,2,    182.9,2,   184.7,2,   17.10,2,   13.99,2,    0.00,2,    0.96,2,   2.804,2,   1.487,2,   1.6256,2,  -999.0,9,  -999.0,9,-999.0000,9,  -999.00,9, -999.00,9,  -999.0,9, -999.00,1, -999.00,1,       17.2,2, 20220513,     2343,  30.0001, 150.5814,    12.5121,2,     -999.0,9,     -999.0,9,     -999.0,9,     -999.0,9,     0.0122,1,     4.6977,1,     -999.0,9,     -999.0,9,     -999.0,9
33RR20220430,        P02,      34,          1,         25,         25,2,20220513,       2145,    30.0001,   150.5814,       6105,   545.7,2,   9.6374,2,  34.1766,3,  34.1664,2,    177.7,2,   178.2,2,   29.71,2,   19.54,2,    0.00,2,    1.35,2,   2.922,2,   1.519,2,   1.4529,2,  2153.0,2,  2274.8,2,   7.6843,2,    24.98,2, -999.00,9,  -999.0,9, -999.00,1, -999.00,1,       21.5,2, 20220513,     2340,  30.0001, 150.5814,     9.6372,2,     -999.0,9,     -999.0,9,     -999.0,9,     -999.0,9,     0.0122,1,     4.7007,1,     -999.0,9,     -999.0,9,     -999.0,9
33RR20220430,        P02,      34,          1,         24,         24,2,20220513,       2145,    30.0001,   150.5814,       6105,   646.2,2,   6.3613,2,  33.9941,2,  33.9968,2,    142.5,3,   140.9,2,   56.10,2,   28.86,2,    0.00,2,    2.05,2,   2.481,2,   1.394,2,   1.1291,2,  2220.5,2,  2286.1,2,   7.5278,2,    24.99,2, -999.00,9,  -999.0,9, -999.00,9, -999.00,9,       29.4,2, 20220513,     2337,  30.0002, 150.5814,     6.3612,2,     -999.0,9,     -999.0,9,     -999.0,9,     -999.0,9,     0.0131,1,     4.7042,1,     -999.0,9,     -999.0,9,     -999.0,9
33RR20220430,        P02,      34,          1,         23,         23,2,20220513,       2145,    30.0001,   150.5814,       6105,   746.8,2,   5.2851,2,  34.0645,2,  34.0684,2,     97.4,3,    96.3,2,   77.70,2,   34.91,2,    0.00,2,    2.47,2,   1.639,2,   0.967,2,   0.7216,2,  2268.3,2,  2307.6,2,   7.4335,2,    24.99,2, -999.00,9,  -999.0,9, -999.00,1, -999.00,1,       37.5,2, 20220513,     2335,  30.0001, 150.5814,     5.2869,2,     -999.0,9,     -999.0,9,     -999.0,9,     -999.0,9,     0.0125,1,     4.7043,1,     -999.0,9,     -999.0,9,     -999.0,9
33RR20220430,        P02,      34,          1,         22,         22,2,20220513,       2145,    30.0001,   150.5814,       6105,   847.7,2,   4.5461,2,  34.1589,2,  34.1579,2,     65.1,2,    65.3,2,   96.17,2,   38.56,2,    0.00,2,    2.73,2,   1.034,2,   0.607,2,   0.5174,2,  -999.0,9,  -999.0,9,-999.0000,9,  -999.00,9, -999.00,9,  -999.0,9, -999.00,9, -999.00,9,       42.8,2, 20220513,     2332,  30.0001, 150.5814,     4.5471,2,     -999.0,9,     -999.0,9,     -999.0,9,     -999.0,9,     0.0134,1,     4.7042,1,     -999.0,9,     -999.0,9,     -999.0,9
33RR20220430,        P02,      34,          1,         21,         21,2,20220513,       2145,    30.0001,   150.5814,       6105,   947.4,2,   4.0291,2,  34.2432,2,  34.2426,2,     48.4,2,    48.5,2,  110.72,2,   40.51,2,    0.00,2,    2.85,2,   0.614,2,   0.360,2,   0.0000,2,  2329.9,2,  2342.5,2,   7.3556,2,    24.98,2, -999.00,9,  -999.0,9, -999.00,1, -999.00,1,       45.7,2, 20220513,     2329,  30.0001, 150.5814,     4.0223,2,     -999.0,9,     -999.0,9,     -999.0,9,     -999.0,9,     0.0134,1,     4.7043,1,     -999.0,9,     -999.0,9,     -999.0,9
33RR20220430,        P02,      34,          1,         20,         20,2,20220513,       2145,    30.0001,   150.5814,       6105,  1049.1,2,   3.5639,2,  34.3192,2,  34.3191,2,     39.9,3,    41.1,2,  123.52,2,   41.71,2,    0.00,2,    2.97,2,   0.333,2,   0.188,2,   0.0000,2,  -999.0,9,  -999.0,9,-999.0000,9,  -999.00,9, -999.00,9,  -999.0,9, -999.00,9, -999.00,9,       47.9,2, 20220513,     2327,  30.0002, 150.5814,     3.5632,2,     -999.0,9,     -999.0,9,     -999.0,9,     -999.0,9,     0.0134,1,     4.7043,1,     -999.0,9,     -999.0,9,     -999.0,9
33RR20220430,        P02,      34,          1,         19,         19,2,20220513,       2145,    30.0001,   150.5814,       6105,  1151.0,2,   3.3170,2,  34.3763,3,  34.3378,2,     36.1,3,    40.2,2,  126.25,2,   41.80,2,    0.00,2,    2.97,2,   0.278,2,   0.162,2,   0.0000,2,  2353.2,2,  2361.2,2,   7.3464,2,    24.98,2, -999.00,9,  -999.0,9, -999.00,1, -999.00,1,       47.8,2, 20220513,     2324,  30.0001, 150.5814,     3.3163,2,     -999.0,9,     -999.0,9,     -999.0,9,     -999.0,9,     0.0134,1,     4.7063,1,     -999.0,9,     -999.0,9,     -999.0,9
33RR20220430,        P02,      34,          1,         18,         18,2,20220513,       2145,    30.0001,   150.5814,       6105,  1252.4,2,   3.0562,2,  34.4160,2,  34.4178,2,     35.9,3,    36.4,2,  137.78,2,   42.56,2,    0.00,2,    3.01,2,   0.103,2,   0.055,2,   0.0000,2,  2368.0,6,  2378.0,2,   7.3459,2,    24.99,2, -999.00,9,  -999.0,9, -999.00,9, -999.00,9,       48.4,2, 20220513,     2321,  30.0001, 150.5814,     3.0557,2,     -999.0,9,     -999.0,9,     -999.0,9,     -999.0,9,     0.0134,1,     4.7061,1,     -999.0,9,     -999.0,9,     -999.0,9
33RR20220430,        P02,      34,          1,         17,         17,2,20220513,       2145,    30.0001,   150.5814,       6105,  1353.9,2,   2.8291,2,  34.4620,2,  34.4622,2,     41.4,3,    41.9,2,  143.34,2,   42.67,2,    0.00,2,    3.00,2,   0.054,2,   0.029,2,   0.0000,2,  2370.8,2,  2384.6,2,   7.3625,2,    24.99,2, -999.00,9,  -999.0,9, -999.00,1, -999.00,1,       46.4,2, 20220513,     2319,  30.0001, 150.5814,     2.8298,2,     -999.0,9,     -999.0,9,     -999.0,9,     -999.0,9,     0.0134,1,     4.7067,1,     -999.0,9,     -999.0,9,     -999.0,9
33RR20220430,        P02,      34,          1,         16,         16,2,20220513,       2145,    30.0001,   150.5814,       6105,  1485.9,2,   2.5992,2,  34.4921,2,  34.4924,2,     44.4,2,    44.0,2,  150.08,2,   42.59,2,    0.00,2,    2.99,2,   0.038,2,   0.015,2,   0.0000,2,  -999.0,9,  -999.0,9,-999.0000,9,  -999.00,9, -999.00,9,  -999.0,9, -999.00,9, -999.00,9,       45.3,2, 20220513,     2315,  30.0001, 150.5813,     2.5989,2,     -999.0,9,     -999.0,9,     -999.0,9,     -999.0,9,     0.0134,1,     4.7062,1,     -999.0,9,     -999.0,9,     -999.0,9
33RR20220430,        P02,      34,          1,         15,         15,2,20220513,       2145,    30.0001,   150.5814,       6105,  1687.9,2,   2.2401,2,  34.5437,2,  34.5447,2,     55.2,2,    55.0,2,  159.26,2,   42.03,2,    0.00,2,    2.95,2,   0.018,2,   0.008,2,   0.0000,2,  2377.8,2,  2403.1,2,   7.3903,2,    25.00,2, -999.00,9,  -999.0,9, -999.00,1, -999.00,1,       42.1,2, 20220513,     2311,  30.0001, 150.5814,     2.2384,2,     -999.0,9,     -999.0,9,     -999.0,9,     -999.0,9,     0.0134,1,     4.7066,1,     -999.0,9,     -999.0,9,     -999.0,9
33RR20220430,        P02,      34,          1,         14,         14,2,20220513,       2145,    30.0001,   150.5814,       6105,  1890.7,2,   2.0520,2,  34.5778,2,  34.5781,2,     69.0,2,    69.1,2,  161.11,2,   41.14,2,    0.00,2,    2.88,2,   0.009,2,   0.008,2,   0.0000,2,  -999.0,9,  -999.0,9,-999.0000,9,  -999.00,9, -999.00,9,  -999.0,9, -999.00,9, -999.00,9,       37.2,2, 20220513,     2307,  30.0001, 150.5814,     2.0523,2,     -999.0,9,     -999.0,9,     -999.0,9,     -999.0,9,     0.0134,1,     4.7072,1,     -999.0,9,     -999.0,9,     -999.0,9
33RR20220430,        P02,      34,          1,         13,         13,2,20220513,       2145,    30.0001,   150.5814,       6105,  2115.5,2,   1.8817,2,  34.6076,2,  34.6066,2,     85.9,2,    85.9,2,  161.11,2,   40.21,2,    0.00,2,    2.80,2,   0.005,2,   0.000,2,   0.0000,2,  2365.1,2,  2412.1,2,   7.4511,2,    24.99,2, -999.00,9,  -999.0,9, -999.00,1, -999.00,1,       34.1,2, 20220513,     2302,  30.0002, 150.5814,     1.8821,2,     -999.0,9,     -999.0,9,     -999.0,9,     -999.0,9,     0.0134,1,     4.7081,1,     -999.0,9,     -999.0,9,     -999.0,9
33RR20220430,        P02,      34,          1,         12,         12,2,20220513,       2145,    30.0001,   150.5814,       6105,  2368.2,2,   1.7364,2,  34.6322,2,  34.6327,2,    104.2,2,   103.6,2,  158.76,2,   39.16,2,    0.00,2,    2.70,2,-999.000,5,-999.000,5,-999.0000,5,  2355.5,2,  2414.8,2,   7.4874,2,    25.01,2, -999.00,9,  -999.0,9, -999.00,1, -999.00,1,     -999.0,5, 20220513,     2257,  30.0002, 150.5814,     1.7366,2,     -999.0,9,     -999.0,9,     -999.0,9,     -999.0,9,     0.0125,1,     4.7087,1,     -999.0,9,     -999.0,9,     -999.0,9
33RR20220430,        P02,      34,          1,         11,         11,2,20220513,       2145,    30.0001,   150.5814,       6105,  2621.8,2,   1.6352,2,  34.6495,2,  34.6488,2,    119.4,2,   119.8,2,  155.24,2,   38.04,2,    0.00,2,    2.64,2,   0.005,2,   0.000,2,   0.0000,2,  2345.1,2,  2414.9,2,   7.5162,2,    24.99,2, -999.00,9,  -999.0,9, -999.00,1, -999.00,1,       27.2,2, 20220513,     2252,  30.0001, 150.5814,     1.6359,2,     -999.0,9,     -999.0,9,     -999.0,9,     -999.0,9,     0.0125,1,     4.7095,1,     -999.0,9,     -999.0,9,     -999.0,9
33RR20220430,        P02,      34,          1,         10,         10,2,20220513,       2145,    30.0001,   150.5814,       6105,  2877.6,2,   1.5724,2,  34.6601,2,  34.6604,2,    128.9,2,   128.8,2,  153.19,2,   37.34,2,    0.00,2,    2.59,2,-999.000,9,-999.000,9,-999.0000,9,  -999.0,9,  -999.0,9,-999.0000,9,  -999.00,9, -999.00,9,  -999.0,9, -999.00,9, -999.00,9,     -999.0,9, 20220513,     2246,  30.0001, 150.5814,     1.5725,2,     -999.0,9,     -999.0,9,     -999.0,9,     -999.0,9,     0.0122,1,     4.7104,1,     -999.0,9,     -999.0,9,     -999.0,9
33RR20220430,        P02,      34,          1,          9,          9,2,20220513,       2145,    30.0001,   150.5814,       6105,  3147.5,2,   1.5359,2,  34.6673,2,  34.6669,2,    136.2,2,   136.7,2,  151.33,2,   36.94,2,    0.00,2,    2.54,2,   0.005,2,   0.000,2,   0.0000,2,  2336.0,2,  2415.1,2,   7.5450,2,    24.98,2, -999.00,9,  -999.0,9, -999.00,1, -999.00,1,       25.0,2, 20220513,     2241,  30.0001, 150.5814,     1.5360,2,     -999.0,9,     -999.0,9,     -999.0,9,     -999.0,9,     0.0125,1,     4.7103,1,     -999.0,9,     -999.0,9,     -999.0,9
33RR20220430,        P02,      34,          1,          8,          8,2,20220513,       2145,    30.0001,   150.5814,       6105,  3455.1,2,   1.5037,2,  34.6732,2,  34.6734,2,    141.7,2,   141.7,2,  151.23,2,   36.77,2,    0.00,2,    2.53,2,-999.000,9,-999.000,9,-999.0000,9,  -999.0,9,  -999.0,9,-999.0000,9,  -999.00,9, -999.00,9,  -999.0,9, -999.00,9, -999.00,9,     -999.0,9, 20220513,     2235,  30.0001, 150.5814,     1.5035,2,     -999.0,9,     -999.0,9,     -999.0,9,     -999.0,9,     0.0122,1,     4.7095,1,     -999.0,9,     -999.0,9,     -999.0,9
33RR20220430,        P02,      34,          1,          7,          7,2,20220513,       2145,    30.0001,   150.5814,       6105,  3761.5,2,   1.4819,2,  34.6786,2,  34.6785,2,    147.7,2,   147.9,2,  149.28,2,   36.23,2,    0.00,2,    2.48,2,   0.006,2,   0.000,2,   0.0000,2,  2327.4,2,  2414.0,2,   7.5652,2,    24.99,2, -999.00,9,  -999.0,9, -999.00,1, -999.00,1,       24.1,2, 20220513,     2229,  30.0002, 150.5814,     1.4819,2,     -999.0,9,     -999.0,9,     -999.0,9,     -999.0,9,     0.0122,1,     4.7102,1,     -999.0,9,     -999.0,9,     -999.0,9
33RR20220430,        P02,      34,          1,          6,          6,2,20220513,       2145,    30.0001,   150.5814,       6105,  4171.1,2,   1.4749,2,  34.6835,2,  34.6840,2,    153.9,2,   154.2,2,  147.22,2,   35.73,2,    0.00,2,    2.47,2,-999.000,9,-999.000,9,-999.0000,9,  -999.0,9,  -999.0,9,-999.0000,9,  -999.00,9, -999.00,9,  -999.0,9, -999.00,9, -999.00,9,     -999.0,9, 20220513,     2221,  30.0001, 150.5814,     1.4746,2,     -999.0,9,     -999.0,9,     -999.0,9,     -999.0,9,     0.0122,1,     4.7101,1,     -999.0,9,     -999.0,9,     -999.0,9
33RR20220430,        P02,      34,          1,          5,          5,2,20220513,       2145,    30.0001,   150.5814,       6105,  4377.3,2,   1.4821,2,  34.6849,2,  34.6863,2,    155.8,2,   156.0,2,  146.44,2,   35.87,2,    0.00,2,    2.45,2,   0.007,2,   0.000,2,   0.0000,2,  2322.8,2,  2414.2,2,   7.5773,2,    24.99,2, -999.00,9,  -999.0,9, -999.00,1, -999.00,1,       23.5,2, 20220513,     2217,  30.0001, 150.5814,     1.4819,2,     -999.0,9,     -999.0,9,     -999.0,9,     -999.0,9,     0.0122,1,     4.7092,1,     -999.0,9,     -999.0,9,     -999.0,9
33RR20220430,        P02,      34,          1,          4,          4,2,20220513,       2145,    30.0001,   150.5814,       6105,  4720.4,2,   1.4934,2,  34.6876,2,  34.6879,2,    159.8,2,   159.7,2,  144.39,2,   35.53,2,    0.00,2,    2.42,2,-999.000,9,-999.000,9,-999.0000,9,  -999.0,9,  -999.0,9,-999.0000,9,  -999.00,9, -999.00,9,  -999.0,9, -999.00,9, -999.00,9,     -999.0,9, 20220513,     2210,  30.0001, 150.5814,     1.4932,2,     -999.0,9,     -999.0,9,     -999.0,9,     -999.0,9,     0.0122,1,     4.7095,1,     -999.0,9,     -999.0,9,     -999.0,9