BOTTLE,20230801CCHSIOCBG
EXPOCODE,SECT_ID,STNNBR,CASTNO,SAMPNO,BTLNBR,BTLNBR_FLAG_W,DATE,TIME,LATITUDE,LONGITUDE,DEPTH,CTDPRS,CTDPRS_FLAG_W,CTDTMP,CTDTMP_FLAG_W,CTDSAL,CTDSAL_FLAG_W,SALNTY,SALNTY_FLAG_W,CTDOXY,CTDOXY_FLAG_W,OXYGEN,OXYGEN_FLAG_W,SILCAT,SILCAT_FLAG_W,NITRAT,NITRAT_FLAG_W,NITRIT,NITRIT_FLAG_W,PHSPHT,PHSPHT_FLAG_W,CFC-11,CFC-11_FLAG_W,CFC-12,CFC-12_FLAG_W,SF6,SF6_FLAG_W,TCARBN,TCARBN_FLAG_W,ALKALI,ALKALI_FLAG_W,PH_TOT,PH_TOT_FLAG_W,PH_TMP,PH_TMP_FLAG_W,DELC13,DELC13_FLAG_W,DELC14,DELC14_FLAG_W,DOC,DOC_FLAG_W,TDN,TDN_FLAG_W,N2O,N2O_FLAG_W,BTL_DATE,BTL_TIME,BTL_LAT,BTL_LON,REFTMP,REFTMP_FLAG_W,POC,POC_FLAG_W,PON,PON_FLAG_W,POP,POP_FLAG_W,PCOD,PCOD_FLAG_W,CTDFLUOR,CTDFLUOR_FLAG_W,CTDXMISS,CTDXMISS_FLAG_W,HPLC,HPLC_FLAG_W,DNA,DNA_FLAG_W,FCM,FCM_FLAG_W
,,,,,,,,,,,METERS,DBAR,,ITS-90,,PSS-78,,PSS-78,,UMOL/KG,,UMOL/KG,,UMOL/KG,,UMOL/KG,,UMOL/KG,,UMOL/KG,,PMOL/KG,,PMOL/KG,,FMOL/KG,,UMOL/KG,,UMOL/KG,,,,DEG C,,/MILLE,,/MILLE,,UMOL/KG,,UMOL/KG,,NMOL/KG,,,,,,ITS-90,,UG/L,,UG/L,,UG/L,,UG/L,,VOLTS,,VOLTS,,,,,,,
33RR20220430,        P02,      56,          2,          3,          3,2,20220521,       0405,    30.0005,   164.5266,       5888,  5099.2,2,   1.4916,2,  34.6909,2,  34.6908,2,    166.9,2,   167.2,2,  137.99,2,   34.87,2,    0.00,2,    2.40,2,   0.006,2,   0.000,2,   0.0000,2,  2309.6,2,  2404.0,2,   7.5914,2,    25.01,2, -999.00,9,  -999.0,9, -999.00,1, -999.00,1,       20.5,2, 20220521,      422,  30.0005, 164.5265,     1.4917,2,     -999.0,9,     -999.0,9,     -999.0,9,     -999.0,9,     0.0122,1,     4.7087,1,     -999.0,9,     -999.0,9,     -999.0,9
33RR20220430,        P02,      56,          2,          2,          2,2,20220521,       0405,    30.0005,   164.5266,       5888,  5614.4,2,   1.5226,2,  34.6937,2,  34.6940,2,    171.9,2,   172.1,2,  135.06,2,   34.62,2,    0.00,2,    2.37,2,-999.000,9,-999.000,9,-999.0000,9,  2304.6,6,  2400.5,2,   7.5958,2,    25.02,2, -999.00,9,  -999.0,9, -999.00,1, -999.00,1,     -999.0,9, 20220521,      413,  30.0005, 164.5265,     1.5227,2,     -999.0,9,     -999.0,9,     -999.0,9,     -999.0,9,     0.0122,1,     4.7072,1,     -999.0,9,     -999.0,9,     -999.0,9
33RR20220430,        P02,      56,          2,          1,          1,2,20220521,       0405,    30.0005,   164.5266,       5888,  6000.1,2,   1.5591,2,  34.6949,2,  34.6956,2,    173.9,2,   173.8,2,  133.69,2,   34.41,2,    0.00,2,    2.36,2,   0.009,2,   0.000,2,   0.0000,2,  2301.8,2,  2400.9,2,   7.5998,2,    25.03,2, -999.00,9,  -999.0,9, -999.00,1, -999.00,1,       20.2,2, 20220521,      405,  30.0005, 164.5265,     1.5597,2,     -999.0,9,     -999.0,9,     -999.0,9,     -999.0,9,     0.0122,1,     4.7027,1,     -999.0,9,     -999.0,9,     -999.0,9