BOTTLE,20230801CCHSIOCBG
EXPOCODE,SECT_ID,STNNBR,CASTNO,SAMPNO,BTLNBR,BTLNBR_FLAG_W,DATE,TIME,LATITUDE,LONGITUDE,DEPTH,CTDPRS,CTDPRS_FLAG_W,CTDTMP,CTDTMP_FLAG_W,CTDSAL,CTDSAL_FLAG_W,SALNTY,SALNTY_FLAG_W,CTDOXY,CTDOXY_FLAG_W,OXYGEN,OXYGEN_FLAG_W,SILCAT,SILCAT_FLAG_W,NITRAT,NITRAT_FLAG_W,NITRIT,NITRIT_FLAG_W,PHSPHT,PHSPHT_FLAG_W,CFC-11,CFC-11_FLAG_W,CFC-12,CFC-12_FLAG_W,SF6,SF6_FLAG_W,TCARBN,TCARBN_FLAG_W,ALKALI,ALKALI_FLAG_W,PH_TOT,PH_TOT_FLAG_W,PH_TMP,PH_TMP_FLAG_W,DELC13,DELC13_FLAG_W,DELC14,DELC14_FLAG_W,DOC,DOC_FLAG_W,TDN,TDN_FLAG_W,N2O,N2O_FLAG_W,BTL_DATE,BTL_TIME,BTL_LAT,BTL_LON,REFTMP,REFTMP_FLAG_W,POC,POC_FLAG_W,PON,PON_FLAG_W,POP,POP_FLAG_W,PCOD,PCOD_FLAG_W,CTDFLUOR,CTDFLUOR_FLAG_W,CTDXMISS,CTDXMISS_FLAG_W,HPLC,HPLC_FLAG_W,DNA,DNA_FLAG_W,FCM,FCM_FLAG_W
,,,,,,,,,,,METERS,DBAR,,ITS-90,,PSS-78,,PSS-78,,UMOL/KG,,UMOL/KG,,UMOL/KG,,UMOL/KG,,UMOL/KG,,UMOL/KG,,PMOL/KG,,PMOL/KG,,FMOL/KG,,UMOL/KG,,UMOL/KG,,,,DEG C,,/MILLE,,/MILLE,,UMOL/KG,,UMOL/KG,,NMOL/KG,,,,,,ITS-90,,UG/L,,UG/L,,UG/L,,UG/L,,VOLTS,,VOLTS,,,,,,,
33RR20220430,        P02,      99,          1,          3,          3,2,20220602,       2222,    29.9999,  -171.5979,       5400,  4942.4,2,   1.5158,2,  34.6876,2,  34.6883,2,    156.6,2,   156.8,2,  149.76,2,   35.70,2,    0.00,2,    2.48,2,-999.000,9,-999.000,9,-999.0000,9,  2324.5,2,  2417.1,2,   7.5837,2,    25.00,2, -999.00,9,  -999.0,9, -999.00,1, -999.00,1,     -999.0,9, 20220602,     2239,  29.9999,-171.5978,     1.5157,2,     -999.0,9,     -999.0,9,     -999.0,9,     -999.0,9,     0.0129,1,     4.7054,1,     -999.0,9,     -999.0,9,     -999.0,9
33RR20220430,        P02,      99,          1,          2,          2,2,20220602,       2222,    29.9999,  -171.5979,       5400,  5353.3,2,   1.5448,2,  34.6892,2,  34.6901,2,    161.5,2,   161.4,2,  145.65,2,   35.42,2,    0.00,2,    2.45,2,-999.000,9,-999.000,9,-999.0000,9,  2317.0,2,  2411.5,2,   7.5873,2,    25.00,2, -999.00,9,  -999.0,9, -999.00,9, -999.00,9,     -999.0,9, 20220602,     2230,  29.9999,-171.5978,     1.5448,2,     -999.0,9,     -999.0,9,     -999.0,9,     -999.0,9,     0.0122,1,     4.7044,1,     -999.0,9,     -999.0,9,     -999.0,9
33RR20220430,        P02,      99,          1,          1,          1,2,20220602,       2222,    29.9999,  -171.5979,       5400,  5496.5,2,   1.5581,2,  34.6897,2,  34.6910,2,    162.7,2,   162.5,2,  144.48,2,   35.33,2,    0.00,2,    2.44,2,   0.009,2,   0.000,2,   0.0000,2,  2313.5,6,  2410.6,2,   7.5881,2,    25.01,2, -999.00,9,  -999.0,9, -999.00,1, -999.00,1,       21.9,2, 20220602,     2222,  29.9999,-171.5978,     1.5581,2,     -999.0,9,     -999.0,9,     -999.0,9,     -999.0,9,     0.0122,1,     4.7040,1,     -999.0,9,     -999.0,9,     -999.0,9