BOTTLE,20230801CCHSIOCBG
EXPOCODE,SECT_ID,STNNBR,CASTNO,SAMPNO,BTLNBR,BTLNBR_FLAG_W,DATE,TIME,LATITUDE,LONGITUDE,DEPTH,CTDPRS,CTDPRS_FLAG_W,CTDTMP,CTDTMP_FLAG_W,CTDSAL,CTDSAL_FLAG_W,SALNTY,SALNTY_FLAG_W,CTDOXY,CTDOXY_FLAG_W,OXYGEN,OXYGEN_FLAG_W,SILCAT,SILCAT_FLAG_W,NITRAT,NITRAT_FLAG_W,NITRIT,NITRIT_FLAG_W,PHSPHT,PHSPHT_FLAG_W,CFC-11,CFC-11_FLAG_W,CFC-12,CFC-12_FLAG_W,SF6,SF6_FLAG_W,TCARBN,TCARBN_FLAG_W,ALKALI,ALKALI_FLAG_W,PH_TOT,PH_TOT_FLAG_W,PH_TMP,PH_TMP_FLAG_W,DELC13,DELC13_FLAG_W,DELC14,DELC14_FLAG_W,DOC,DOC_FLAG_W,TDN,TDN_FLAG_W,N2O,N2O_FLAG_W,BTL_DATE,BTL_TIME,BTL_LAT,BTL_LON,REFTMP,REFTMP_FLAG_W,POC,POC_FLAG_W,PON,PON_FLAG_W,POP,POP_FLAG_W,PCOD,PCOD_FLAG_W,CTDFLUOR,CTDFLUOR_FLAG_W,CTDXMISS,CTDXMISS_FLAG_W,HPLC,HPLC_FLAG_W,DNA,DNA_FLAG_W,FCM,FCM_FLAG_W
,,,,,,,,,,,METERS,DBAR,,ITS-90,,PSS-78,,PSS-78,,UMOL/KG,,UMOL/KG,,UMOL/KG,,UMOL/KG,,UMOL/KG,,UMOL/KG,,PMOL/KG,,PMOL/KG,,FMOL/KG,,UMOL/KG,,UMOL/KG,,,,DEG C,,/MILLE,,/MILLE,,UMOL/KG,,UMOL/KG,,NMOL/KG,,,,,,ITS-90,,UG/L,,UG/L,,UG/L,,UG/L,,VOLTS,,VOLTS,,,,,,,
33RR20220430,        P02,     116,          2,         36,         36,2,20220608,       0220,    30.0009,  -161.7914,       5721,     3.0,2,  24.6691,2,  35.0268,2,  35.0118,2,    216.2,2,   214.3,2,    0.00,2,    0.03,2,    0.00,2,    0.00,2,   1.503,2,   1.040,2,   1.8025,2,  2018.7,2,  2299.2,2,   8.0058,2,    24.99,2, -999.00,9,  -999.0,9, -999.00,1, -999.00,1,        7.3,2, 20220608,      436,  30.0009,-161.7914,    24.6704,2,     -999.0,9,     -999.0,9,     -999.0,9,     -999.0,9,     0.0134,1,     4.6173,1,     -999.0,9,     -999.0,9,     -999.0,9
33RR20220430,        P02,     116,          2,         35,         35,2,20220608,       0220,    30.0009,  -161.7914,       5721,    21.5,2,  23.7561,2,  35.0650,2,  35.0592,2,    219.8,2,   220.3,2,    0.20,2,    0.01,2,    0.00,2,    0.00,2,   1.550,2,   1.060,2,   1.9049,2,  2014.0,2,  2301.7,2,   8.0175,2,    25.00,2, -999.00,9,  -999.0,9, -999.00,1, -999.00,1,        7.4,2, 20220608,      433,  30.0009,-161.7914,    23.6209,2,     -999.0,9,     -999.0,9,     -999.0,9,     -999.0,9,     0.0134,1,     4.6285,1,     -999.0,9,     -999.0,9,     -999.0,9
33RR20220430,        P02,     116,          2,         34,         34,2,20220608,       0220,    30.0009,  -161.7914,       5721,    40.8,2,  21.1650,2,  35.1109,3,  34.0037,2,    230.8,2,   230.1,2,    0.39,2,    0.00,2,    0.00,2,    0.00,2,   1.704,2,   1.156,2,   2.0015,2,  2020.0,2,  2305.0,2,   8.0107,2,    25.00,2, -999.00,9,  -999.0,9, -999.00,1, -999.00,1,        7.9,2, 20220608,      432,  30.0009,-161.7914,    21.1684,2,     -999.0,9,     -999.0,9,     -999.0,9,     -999.0,9,     0.0147,1,     4.6259,1,     -999.0,9,     -999.0,9,     -999.0,9
33RR20220430,        P02,     116,          2,         33,         33,2,20220608,       0220,    30.0009,  -161.7914,       5721,    67.9,2,  19.5537,2,  34.9744,2,  34.9624,2,    225.8,2,   226.3,2,    0.88,2,    0.00,2,    0.00,2,    0.03,2,   1.794,2,   1.213,2,   2.0650,2,  2032.3,2,  2295.5,2,   7.9813,2,    25.00,2, -999.00,9,  -999.0,9, -999.00,1, -999.00,1,        8.3,2, 20220608,      430,  30.0009,-161.7914,    19.5606,2,     -999.0,9,     -999.0,9,     -999.0,9,     -999.0,9,     0.0180,1,     4.6340,1,     -999.0,9,     -999.0,9,     -999.0,9
33RR20220430,        P02,     116,          2,         32,         32,2,20220608,       0220,    30.0009,  -161.7914,       5721,    92.7,2,  18.6238,2,  34.8600,2,  34.8416,2,    224.7,2,   226.6,2,    1.17,2,    0.01,2,    0.00,2,    0.05,2,   1.856,2,   1.266,2,   2.0652,2,  2035.6,2,  2287.9,2,   7.9640,2,    25.02,2, -999.00,9,  -999.0,9, -999.00,1, -999.00,1,        8.6,2, 20220608,      428,  30.0009,-161.7914,    18.6233,2,     -999.0,9,     -999.0,9,     -999.0,9,     -999.0,9,     0.0457,1,     4.6131,1,     -999.0,9,     -999.0,9,     -999.0,9
33RR20220430,        P02,     116,          2,         31,         31,2,20220608,       0220,    30.0009,  -161.7914,       5721,   137.7,2,  16.9712,2,  34.6736,2,  34.6653,2,    216.9,2,   216.9,2,    2.34,2,    2.28,2,    0.02,2,    0.20,2,   2.028,2,   1.356,2,   2.1650,2,  2047.0,2,  2276.4,2,   7.9173,2,    25.02,2, -999.00,9,  -999.0,9, -999.00,1, -999.00,1,       10.2,2, 20220608,      426,  30.0009,-161.7913,    16.9589,2,     -999.0,9,     -999.0,9,     -999.0,9,     -999.0,9,     0.0244,1,     4.6661,1,     -999.0,9,     -999.0,9,     -999.0,9
33RR20220430,        P02,     116,          2,         30,         30,2,20220608,       0220,    30.0009,  -161.7914,       5721,   188.6,2,  15.2755,2,  34.5207,2,  34.5127,2,    213.0,2,   213.6,2,    4.49,2,    5.09,2,    0.01,2,    0.38,2,   2.208,2,   1.486,2,   2.2020,2,  2062.9,2,  2267.4,2,   7.8705,2,    25.05,2, -999.00,9,  -999.0,9, -999.00,1, -999.00,1,       12.2,2, 20220608,      424,  30.0009,-161.7914,    15.2811,2,     -999.0,9,     -999.0,9,     -999.0,9,     -999.0,9,     0.0188,1,     4.6772,1,     -999.0,9,     -999.0,9,     -999.0,9
33RR20220430,        P02,     116,          2,         29,         29,2,20220608,       0220,    30.0009,  -161.7914,       5721,   238.2,2,  13.8731,2,  34.4008,2,  34.3906,2,    212.7,2,   212.6,2,    6.64,2,    7.70,2,    0.00,2,    0.55,2,   2.372,2,   1.559,2,   2.1706,2,  2074.2,2,  2262.9,2,   7.8353,2,    25.02,2, -999.00,9,  -999.0,9, -999.00,1, -999.00,1,       14.1,2, 20220608,      422,  30.0009,-161.7914,    13.8657,2,     -999.0,9,     -999.0,9,     -999.0,9,     -999.0,9,     0.0122,1,     4.6874,1,     -999.0,9,     -999.0,9,     -999.0,9
33RR20220430,        P02,     116,          2,         28,         28,2,20220608,       0220,    30.0009,  -161.7914,       5721,   288.7,2,  12.3374,2,  34.2686,2,  34.2613,2,    209.9,2,   211.5,2,   10.16,2,   10.70,2,    0.00,2,    0.75,2,   2.513,2,   1.702,2,   2.1319,2,  2089.7,2,  2257.6,2,   7.7944,2,    25.00,2, -999.00,9,  -999.0,9, -999.00,1, -999.00,1,       15.8,2, 20220608,      420,  30.0009,-161.7914,    12.3368,2,     -999.0,9,     -999.0,9,     -999.0,9,     -999.0,9,     0.0122,1,     4.6913,1,     -999.0,9,     -999.0,9,     -999.0,9
33RR20220430,        P02,     116,          2,         27,         27,2,20220608,       0220,    30.0009,  -161.7914,       5721,   339.1,2,  11.1740,2,  34.1824,2,  34.1779,2,    206.5,2,   207.3,2,   13.48,2,   13.34,2,    0.00,2,    0.92,2,   2.733,2,   1.735,2,   1.9256,2,  2106.6,6,  2256.7,2,   7.7570,2,    25.00,2, -999.00,9,  -999.0,9, -999.00,1, -999.00,1,       17.6,2, 20220608,      418,  30.0009,-161.7914,    11.1756,2,     -999.0,9,     -999.0,9,     -999.0,9,     -999.0,9,     0.0122,1,     4.6934,1,     -999.0,9,     -999.0,9,     -999.0,9
33RR20220430,        P02,     116,          2,         26,         26,2,20220608,       0220,    30.0009,  -161.7914,       5721,   390.0,2,   9.9597,2,  34.1173,2,  34.1132,2,    199.1,2,   200.3,2,   19.84,2,   16.64,2,    0.00,2,    1.14,2,   2.766,2,   1.764,2,   1.8683,2,  2123.4,2,  2260.4,2,   7.7134,2,    25.00,2, -999.00,9,  -999.0,9, -999.00,1, -999.00,1,       20.4,2, 20220608,      416,  30.0009,-161.7914,     9.9617,2,     -999.0,9,     -999.0,9,     -999.0,9,     -999.0,9,     0.0122,1,     4.6956,1,     -999.0,9,     -999.0,9,     -999.0,9
33RR20220430,        P02,     116,          2,         25,         25,2,20220608,       0220,    30.0009,  -161.7914,       5721,   470.1,2,   8.5803,2,  34.0547,2,  34.0531,2,    171.1,2,   170.7,2,   31.07,2,   22.12,2,    0.00,2,    1.54,2,   2.679,2,   1.695,2,   1.4656,2,  2161.8,2,  2266.2,2,   7.6309,2,    25.02,2, -999.00,9,  -999.0,9, -999.00,1, -999.00,1,       25.3,2, 20220608,      414,  30.0009,-161.7913,     8.5796,2,     -999.0,9,     -999.0,9,     -999.0,9,     -999.0,9,     0.0122,1,     4.6960,1,     -999.0,9,     -999.0,9,     -999.0,9
33RR20220430,        P02,     116,          2,         24,         24,2,20220608,       0220,    30.0009,  -161.7914,       5721,   571.9,2,   6.6720,2,  34.0031,2,  34.0033,2,    130.7,3,   129.0,2,   52.47,2,   29.67,2,    0.00,2,    2.11,2,   2.211,2,   1.378,2,   1.0727,2,  2214.7,2,  2280.5,2,   7.5118,2,    25.00,2, -999.00,9,  -999.0,9, -999.00,9, -999.00,9,       31.5,2, 20220608,      411,  30.0009,-161.7914,     6.6713,2,     -999.0,9,     -999.0,9,     -999.0,9,     -999.0,9,     0.0126,1,     4.6977,1,     -999.0,9,     -999.0,9,     -999.0,9
33RR20220430,        P02,     116,          2,         23,         23,2,20220608,       0220,    30.0009,  -161.7914,       5721,   673.1,2,   5.3913,2,  34.0485,2,  34.0517,2,     73.5,3,    72.1,2,   75.34,2,   36.91,2,    0.00,2,    2.64,2,   1.375,2,   0.813,2,   0.2918,2,  2275.8,2,  2298.0,2,   7.3870,2,    25.02,2, -999.00,9,  -999.0,9, -999.00,1, -999.00,1,       41.8,2, 20220608,      408,  30.0009,-161.7914,     5.3948,2,     -999.0,9,     -999.0,9,     -999.0,9,     -999.0,9,     0.0134,1,     4.6982,1,     -999.0,9,     -999.0,9,     -999.0,9
33RR20220430,        P02,     116,          2,         22,         22,2,20220608,       0220,    30.0009,  -161.7914,       5721,   772.5,2,   4.5540,2,  34.1521,2,  34.1538,2,     35.1,3,    36.1,2,   96.63,2,   41.13,2,    0.00,2,    2.96,2,   0.563,2,   0.336,2,   0.1085,2,  2317.9,2,  2320.7,2,   7.3226,2,    25.01,2, -999.00,9,  -999.0,9, -999.00,9, -999.00,9,       51.6,2, 20220608,      405,  30.0009,-161.7914,     4.5540,2,     -999.0,9,     -999.0,9,     -999.0,9,     -999.0,9,     0.0134,1,     4.6991,1,     -999.0,9,     -999.0,9,     -999.0,9
33RR20220430,        P02,     116,          2,         21,         21,2,20220608,       0220,    30.0009,  -161.7914,       5721,   873.2,2,   4.1273,2,  34.2280,2,  34.2301,2,     21.9,2,    22.1,2,  109.62,2,   42.70,2,    0.00,2,    3.08,2,   0.242,2,   0.144,2,   0.0000,2,  2339.7,2,  2337.3,2,   7.3052,2,    25.02,2, -999.00,9,  -999.0,9, -999.00,1, -999.00,1,       56.2,2, 20220608,      403,  30.0009,-161.7914,     4.1275,2,     -999.0,9,     -999.0,9,     -999.0,9,     -999.0,9,     0.0134,1,     4.6993,1,     -999.0,9,     -999.0,9,     -999.0,9
33RR20220430,        P02,     116,          2,         20,         20,2,20220608,       0220,    30.0009,  -161.7914,       5721,   974.1,2,   3.7505,2,  34.3139,2,  34.3197,2,     14.9,3,    15.1,2,  122.31,2,   43.68,2,    0.00,2,    3.16,2,   0.064,2,   0.041,2,   0.0000,2,  2358.5,2,  2354.4,2,   7.3030,2,    25.02,2, -999.00,9,  -999.0,9, -999.00,9, -999.00,9,       59.9,2, 20220608,      400,  30.0009,-161.7913,     3.7514,2,     -999.0,9,     -999.0,9,     -999.0,9,     -999.0,9,     0.0134,1,     4.6992,1,     -999.0,9,     -999.0,9,     -999.0,9
33RR20220430,        P02,     116,          2,         19,         19,2,20220608,       0220,    30.0009,  -161.7914,       5721,  1075.5,2,   3.5270,2,  34.3904,2,  34.3927,2,     19.1,2,    19.0,2,  128.66,2,   43.69,2,    0.00,2,    3.16,2,-999.000,5,-999.000,5,-999.0000,5,  2365.9,6,  2367.4,2,   7.3198,2,    25.00,2, -999.00,9,  -999.0,9, -999.00,1, -999.00,1,     -999.0,5, 20220608,      357,  30.0009,-161.7914,     3.5279,2,     -999.0,9,     -999.0,9,     -999.0,9,     -999.0,9,     0.0134,1,     4.6994,1,     -999.0,9,     -999.0,9,     -999.0,9
33RR20220430,        P02,     116,          2,         18,         18,2,20220608,       0220,    30.0009,  -161.7914,       5721,  1177.4,2,   3.2985,2,  34.4480,2,  34.4504,2,     27.0,2,    27.2,2,  133.34,2,   43.44,2,    0.00,2,    3.13,2,   0.011,2,   0.011,2,   0.0000,2,  2369.6,2,  2377.1,2,   7.3425,2,    25.03,2, -999.00,9,  -999.0,9, -999.00,1, -999.00,1,       53.6,2, 20220608,      355,  30.0010,-161.7914,     3.3006,2,     -999.0,9,     -999.0,9,     -999.0,9,     -999.0,9,     0.0134,1,     4.6995,1,     -999.0,9,     -999.0,9,     -999.0,9
33RR20220430,        P02,     116,          2,         17,         17,2,20220608,       0220,    30.0009,  -161.7914,       5721,  1279.2,2,   3.1069,2,  34.4870,2,  34.4897,2,     36.4,3,    36.9,2,  137.15,2,   43.00,2,    0.00,2,    3.08,2,   0.009,2,   0.005,2,   0.0000,2,  2368.1,2,  2382.7,2,   7.3634,2,    25.01,2, -999.00,9,  -999.0,9, -999.00,1, -999.00,1,       47.9,2, 20220608,      352,  30.0009,-161.7914,     3.1062,2,     -999.0,9,     -999.0,9,     -999.0,9,     -999.0,9,     0.0134,1,     4.7007,1,     -999.0,9,     -999.0,9,     -999.0,9
33RR20220430,        P02,     116,          2,         16,         16,2,20220608,       0220,    30.0009,  -161.7914,       5721,  1380.2,2,   2.9117,2,  34.5150,2,  34.5170,2,     44.4,2,    44.6,2,  141.34,2,   42.96,2,    0.00,2,    3.04,2,   0.010,2,   0.000,2,   0.0000,2,  2366.2,2,  2390.2,2,   7.3812,2,    25.00,2, -999.00,9,  -999.0,9, -999.00,9, -999.00,9,       46.0,2, 20220608,      349,  30.0009,-161.7914,     2.9128,2,     -999.0,9,     -999.0,9,     -999.0,9,     -999.0,9,     0.0133,1,     4.7008,1,     -999.0,9,     -999.0,9,     -999.0,9
33RR20220430,        P02,     116,          2,         15,         15,2,20220608,       0220,    30.0009,  -161.7914,       5721,  1552.6,2,   2.6199,2,  34.5494,2,  34.5514,2,     56.4,2,    56.5,2,  147.79,2,   42.22,2,    0.00,2,    2.98,2,   0.004,2,   0.000,2,   0.0000,2,  2367.4,2,  2396.7,2,   7.4038,2,    24.99,2, -999.00,9,  -999.0,9, -999.00,1, -999.00,1,       40.6,2, 20220608,      345,  30.0009,-161.7913,     2.6229,2,     -999.0,9,     -999.0,9,     -999.0,9,     -999.0,9,     0.0134,1,     4.7019,1,     -999.0,9,     -999.0,9,     -999.0,9
33RR20220430,        P02,     116,          2,         14,         14,2,20220608,       0220,    30.0009,  -161.7914,       5721,  1754.0,2,   2.3172,2,  34.5791,2,  34.5820,2,     68.0,2,    68.3,2,  154.72,2,   41.42,2,    0.00,2,    2.92,2,   0.005,2,   0.000,2,   0.0000,2,  2367.3,2,  2405.8,2,   7.4269,2,    25.01,2, -999.00,9,  -999.0,9, -999.00,9, -999.00,9,       36.7,2, 20220608,      341,  30.0010,-161.7914,     2.3182,2,     -999.0,9,     -999.0,9,     -999.0,9,     -999.0,9,     0.0134,1,     4.7021,1,     -999.0,9,     -999.0,9,     -999.0,9
33RR20220430,        P02,     116,          2,         13,         13,2,20220608,       0220,    30.0009,  -161.7914,       5721,  1956.2,2,   2.0689,2,  34.6028,2,  34.6054,2,     79.6,2,    80.1,2,  159.60,2,   40.72,2,    0.00,2,    2.85,2,   0.003,6,   0.000,6,   0.0000,6,  2365.7,2,  2411.2,2,   7.4475,2,    25.01,2, -999.00,9,  -999.0,9, -999.00,1, -999.00,1,       33.6,6, 20220608,      336,  30.0010,-161.7914,     2.0692,2,     -999.0,9,     -999.0,9,     -999.0,9,     -999.0,9,     0.0134,1,     4.7032,1,     -999.0,9,     -999.0,9,     -999.0,9
33RR20220430,        P02,     116,          2,         12,         12,2,20220608,       0220,    30.0009,  -161.7914,       5721,  2192.2,2,   1.8904,2,  34.6207,3,  34.6238,2,     89.8,2,    89.7,2,  162.72,2,   40.07,2,    0.00,2,    2.79,2,   0.001,2,   0.000,2,   0.0000,2,  2363.9,2,  2415.9,2,   7.6322,2,    25.00,2, -999.00,9,  -999.0,9, -999.00,9, -999.00,9,       31.4,2, 20220608,      332,  30.0009,-161.7914,     1.8883,2,     -999.0,9,     -999.0,9,     -999.0,9,     -999.0,9,     0.0134,1,     4.7034,1,     -999.0,9,     -999.0,9,     -999.0,9
33RR20220430,        P02,     116,          2,         11,         11,2,20220608,       0220,    30.0009,  -161.7914,       5721,  2446.2,2,   1.7444,2,  34.6370,3,  34.6401,2,    100.3,2,   100.3,2,  164.97,2,   39.42,2,    0.00,2,    2.74,2,   0.003,2,   0.000,2,   0.0000,2,  2358.9,6,  2418.5,2,   7.4868,2,    24.99,2, -999.00,9,  -999.0,9, -999.00,1, -999.00,1,       29.1,2, 20220608,      326,  30.0009,-161.7914,     1.7429,2,     -999.0,9,     -999.0,9,     -999.0,9,     -999.0,9,     0.0134,1,     4.7038,1,     -999.0,9,     -999.0,9,     -999.0,9
33RR20220430,        P02,     116,          2,         10,         10,2,20220608,       0220,    30.0009,  -161.7914,       5721,  2700.7,2,   1.6505,2,  34.6486,3,  34.6513,2,    109.9,2,   109.8,2,  164.77,2,   38.79,2,    0.00,2,    2.71,2,-999.000,9,-999.000,9,-999.0000,9,  2354.3,2,  2420.2,2,   7.5033,2,    24.99,2, -999.00,9,  -999.0,9, -999.00,9, -999.00,9,     -999.0,9, 20220608,      321,  30.0009,-161.7914,     1.6503,2,     -999.0,9,     -999.0,9,     -999.0,9,     -999.0,9,     0.0125,1,     4.7044,1,     -999.0,9,     -999.0,9,     -999.0,9
33RR20220430,        P02,     116,          2,          9,          9,2,20220608,       0220,    30.0009,  -161.7914,       5721,  2957.3,2,   1.5782,2,  34.6581,3,  34.6606,2,    119.8,2,   119.7,2,  163.21,2,   38.09,2,    0.00,2,    2.65,2,   0.002,2,   0.000,2,   0.0000,2,  2347.7,2,  2419.9,2,   7.5222,2,    25.00,2, -999.00,9,  -999.0,9, -999.00,1, -999.00,1,       26.2,2, 20220608,      316,  30.0010,-161.7914,     1.5777,2,     -999.0,9,     -999.0,9,     -999.0,9,     -999.0,9,     0.0122,1,     4.7044,1,     -999.0,9,     -999.0,9,     -999.0,9
33RR20220430,        P02,     116,          2,          8,          8,2,20220608,       0220,    30.0009,  -161.7914,       5721,  3251.3,2,   1.5319,2,  34.6665,3,  34.6690,2,    127.1,2,   127.3,2,  163.01,2,   37.59,2,    0.00,2,    2.61,2,-999.000,9,-999.000,9,-999.0000,9,  2343.3,2,  2421.6,2,   7.5361,2,    25.01,2, -999.00,9,  -999.0,9, -999.00,9, -999.00,9,     -999.0,9, 20220608,      310,  30.0010,-161.7914,     1.5316,2,     -999.0,9,     -999.0,9,     -999.0,9,     -999.0,9,     0.0125,1,     4.7049,1,     -999.0,9,     -999.0,9,     -999.0,9
33RR20220430,        P02,     116,          2,          7,          7,2,20220608,       0220,    30.0009,  -161.7914,       5721,  3623.6,2,   1.4950,2,  34.6746,3,  34.6771,2,    136.3,2,   136.3,2,  160.86,2,   37.04,2,    0.00,2,    2.56,2,   0.002,2,   0.000,2,   0.0000,2,  2335.9,2,  2424.0,2,   7.5539,2,    25.04,2, -999.00,9,  -999.0,9, -999.00,1, -999.00,1,       23.9,2, 20220608,      303,  30.0009,-161.7914,     1.4950,2,     -999.0,9,     -999.0,9,     -999.0,9,     -999.0,9,     0.0122,1,     4.7055,1,     -999.0,9,     -999.0,9,     -999.0,9
33RR20220430,        P02,     116,          2,          6,          6,2,20220608,       0220,    30.0009,  -161.7914,       5721,  4030.5,2,   1.4848,2,  34.6801,3,  34.6824,2,    144.1,2,   144.3,2,  157.93,2,   36.50,2,    0.00,2,    2.52,2,-999.000,9,-999.000,9,-999.0000,9,  2329.6,2,  2421.1,2,   7.5660,2,    25.02,2, -999.00,9,  -999.0,9, -999.00,9, -999.00,9,     -999.0,9, 20220608,      255,  30.0009,-161.7914,     1.4850,2,     -999.0,9,     -999.0,9,     -999.0,9,     -999.0,9,     0.0131,1,     4.7056,1,     -999.0,9,     -999.0,9,     -999.0,9
33RR20220430,        P02,     116,          2,          5,          5,2,20220608,       0220,    30.0009,  -161.7914,       5721,  4441.8,2,   1.4944,2,  34.6837,3,  34.6861,2,    150.0,2,   150.0,2,  154.80,2,   36.08,2,    0.00,2,    2.49,2,   0.004,2,   0.000,2,   0.0000,2,  2326.2,2,  2421.8,2,   7.5764,2,    25.00,2, -999.00,9,  -999.0,9, -999.00,1, -999.00,1,       22.6,2, 20220608,      247,  30.0009,-161.7913,     1.4942,2,     -999.0,9,     -999.0,9,     -999.0,9,     -999.0,9,     0.0122,1,     4.7056,1,     -999.0,9,     -999.0,9,     -999.0,9
33RR20220430,        P02,     116,          2,          4,          4,2,20220608,       0220,    30.0009,  -161.7914,       5721,  4854.0,2,   1.5204,2,  34.6860,3,  34.6887,2,    154.2,2,   154.2,2,  151.78,2,   35.78,2,    0.00,2,    2.47,2,-999.000,9,-999.000,9,-999.0000,9,  2324.0,2,  2419.1,2,   7.5826,2,    25.01,2, -999.00,9,  -999.0,9, -999.00,9, -999.00,9,     -999.0,9, 20220608,      240,  30.0009,-161.7914,     1.5204,2,     -999.0,9,     -999.0,9,     -999.0,9,     -999.0,9,     0.0122,1,     4.7057,1,     -999.0,9,     -999.0,9,     -999.0,9