BOTTLE,20230801CCHSIOCBG
EXPOCODE,SECT_ID,STNNBR,CASTNO,SAMPNO,BTLNBR,BTLNBR_FLAG_W,DATE,TIME,LATITUDE,LONGITUDE,DEPTH,CTDPRS,CTDPRS_FLAG_W,CTDTMP,CTDTMP_FLAG_W,CTDSAL,CTDSAL_FLAG_W,SALNTY,SALNTY_FLAG_W,CTDOXY,CTDOXY_FLAG_W,OXYGEN,OXYGEN_FLAG_W,SILCAT,SILCAT_FLAG_W,NITRAT,NITRAT_FLAG_W,NITRIT,NITRIT_FLAG_W,PHSPHT,PHSPHT_FLAG_W,CFC-11,CFC-11_FLAG_W,CFC-12,CFC-12_FLAG_W,SF6,SF6_FLAG_W,TCARBN,TCARBN_FLAG_W,ALKALI,ALKALI_FLAG_W,PH_TOT,PH_TOT_FLAG_W,PH_TMP,PH_TMP_FLAG_W,DELC13,DELC13_FLAG_W,DELC14,DELC14_FLAG_W,DOC,DOC_FLAG_W,TDN,TDN_FLAG_W,N2O,N2O_FLAG_W,BTL_DATE,BTL_TIME,BTL_LAT,BTL_LON,REFTMP,REFTMP_FLAG_W,POC,POC_FLAG_W,PON,PON_FLAG_W,POP,POP_FLAG_W,PCOD,PCOD_FLAG_W,CTDFLUOR,CTDFLUOR_FLAG_W,CTDXMISS,CTDXMISS_FLAG_W,HPLC,HPLC_FLAG_W,DNA,DNA_FLAG_W,FCM,FCM_FLAG_W
,,,,,,,,,,,METERS,DBAR,,ITS-90,,PSS-78,,PSS-78,,UMOL/KG,,UMOL/KG,,UMOL/KG,,UMOL/KG,,UMOL/KG,,UMOL/KG,,PMOL/KG,,PMOL/KG,,FMOL/KG,,UMOL/KG,,UMOL/KG,,,,DEG C,,/MILLE,,/MILLE,,UMOL/KG,,UMOL/KG,,NMOL/KG,,,,,,ITS-90,,UG/L,,UG/L,,UG/L,,UG/L,,VOLTS,,VOLTS,,,,,,,
33RR20220430,        P02,      31,          1,         36,         36,2,20220512,       2034,    29.9999,   148.5609,       6161,     9.4,2,  20.6150,2,  34.7506,2,  34.7425,2,    227.9,2,   226.7,2,    0.49,2,    0.00,2,    0.00,2,    0.00,2,   1.919,2,   1.194,2,   1.8399,2,  2008.0,2,  2281.8,2,   8.0071,2,    25.03,2, -999.00,9,  -999.0,9, -999.00,1, -999.00,1,        6.9,2, 20220512,     2254,  29.9999, 148.5609,    20.6174,2,     -999.0,9,     -999.0,9,     -999.0,9,     -999.0,9,     0.0134,1,     4.6381,1,     -999.0,9,     -999.0,9,     -999.0,9
33RR20220430,        P02,      31,          1,         35,         35,2,20220512,       2034,    29.9999,   148.5609,       6161,    37.8,2,  20.4486,2,  34.7577,2,  34.7502,2,    227.7,2,   227.7,2,    0.68,2,    0.00,2,    0.00,2,    0.00,2,   1.857,2,   1.207,2,   1.8572,2,  2006.6,2,  2281.6,2,   8.0077,2,    25.02,2, -999.00,9,  -999.0,9, -999.00,1, -999.00,1,        6.9,2, 20220512,     2252,  29.9999, 148.5609,    20.4483,2,     -999.0,9,     -999.0,9,     -999.0,9,     -999.0,9,     0.0147,1,     4.6362,1,     -999.0,9,     -999.0,9,     -999.0,9
33RR20220430,        P02,      31,          1,         34,         34,2,20220512,       2034,    29.9999,   148.5609,       6161,    62.2,2,  18.3645,2,  34.7347,2,  34.7203,2,    236.0,2,   236.2,2,    0.59,2,    0.02,2,    0.03,2,    0.03,2,   2.043,2,   1.312,2,   2.0030,2,  2012.0,2,  2280.9,2,   7.9945,2,    25.01,2, -999.00,9,  -999.0,9, -999.00,1, -999.00,1,        8.0,2, 20220512,     2250,  29.9999, 148.5609,    18.3657,2,     -999.0,9,     -999.0,9,     -999.0,9,     -999.0,9,     0.0343,1,     4.6196,1,     -999.0,9,     -999.0,9,     -999.0,9
33RR20220430,        P02,      31,          1,         33,         33,2,20220512,       2034,    29.9999,   148.5609,       6161,    87.5,2,  17.8556,2,  34.7221,2,  34.7162,2,    224.7,2,   226.0,2,    1.66,2,    1.58,2,    0.04,2,    0.13,2,   2.096,2,   1.308,2,   1.9340,2,  2025.0,2,  2280.6,2,   7.9688,2,    25.02,2, -999.00,9,  -999.0,9, -999.00,1, -999.00,1,        8.6,2, 20220512,     2248,  29.9999, 148.5609,    17.8535,2,     -999.0,9,     -999.0,9,     -999.0,9,     -999.0,9,     0.0181,1,     4.6625,1,     -999.0,9,     -999.0,9,     -999.0,9
33RR20220430,        P02,      31,          1,         32,         32,2,20220512,       2034,    29.9999,   148.5609,       6161,   118.2,2,  17.7669,2,  34.7770,2,  34.7706,2,    221.7,2,   222.0,2,    1.66,2,    2.06,2,    0.01,2,    0.15,2,   2.074,2,   1.319,2,   1.9445,2,  2031.4,2,  2283.4,2,   7.9652,2,    25.04,2, -999.00,9,  -999.0,9, -999.00,1, -999.00,1,        8.7,2, 20220512,     2246,  29.9999, 148.5610,    17.7646,2,     -999.0,9,     -999.0,9,     -999.0,9,     -999.0,9,     0.0143,1,     4.6796,1,     -999.0,9,     -999.0,9,     -999.0,9
33RR20220430,        P02,      31,          1,         31,         31,2,20220512,       2034,    29.9999,   148.5609,       6161,   168.6,2,  17.2679,2,  34.7423,2,  34.7364,2,    219.1,2,   218.7,2,    2.44,2,    3.19,2,    0.00,2,    0.21,2,   2.112,2,   1.321,2,   1.8898,2,  2039.2,2,  2280.3,2,   7.9487,2,    25.02,2, -999.00,9,  -999.0,9, -999.00,1, -999.00,1,        9.2,2, 20220512,     2245,  29.9999, 148.5609,    17.2712,2,     -999.0,9,     -999.0,9,     -999.0,9,     -999.0,9,     0.0125,1,     4.6811,1,     -999.0,9,     -999.0,9,     -999.0,9
33RR20220430,        P02,      31,          1,         30,         30,2,20220512,       2034,    29.9999,   148.5609,       6161,   222.3,2,  17.0734,2,  34.7402,2,  34.7339,2,    221.8,2,   222.3,2,    2.64,2,    3.20,2,    0.00,2,    0.22,2,   2.183,2,   1.366,2,   1.9529,2,  2036.8,2,  2281.8,2,   7.9508,2,    25.04,2, -999.00,9,  -999.0,9, -999.00,1, -999.00,1,        9.2,2, 20220512,     2242,  29.9999, 148.5609,    17.0802,2,     -999.0,9,     -999.0,9,     -999.0,9,     -999.0,9,     0.0122,1,     4.6822,1,     -999.0,9,     -999.0,9,     -999.0,9
33RR20220430,        P02,      31,          1,         29,         29,2,20220512,       2034,    29.9999,   148.5609,       6161,   273.5,2,  16.8364,2,  34.7266,2,  34.7193,2,    218.0,2,   218.2,2,    3.13,2,    4.06,2,    0.00,2,    0.28,2,   2.185,2,   1.350,2,   1.9577,2,  2044.6,2,  2280.6,2,   7.9380,2,    25.03,2, -999.00,9,  -999.0,9, -999.00,1, -999.00,1,        9.6,2, 20220512,     2241,  29.9999, 148.5609,    16.8366,2,     -999.0,9,     -999.0,9,     -999.0,9,     -999.0,9,     0.0122,1,     4.6844,1,     -999.0,9,     -999.0,9,     -999.0,9
33RR20220430,        P02,      31,          1,         28,         28,2,20220512,       2034,    29.9999,   148.5609,       6161,   324.4,2,  16.2710,2,  34.6887,2,  34.6828,2,    208.5,2,   208.0,2,    5.28,2,    5.99,2,    0.00,2,    0.39,2,   2.229,2,   1.383,2,   1.7615,2,  -999.0,9,  -999.0,9,-999.0000,9,  -999.00,9, -999.00,9,  -999.0,9, -999.00,1, -999.00,1,       10.7,2, 20220512,     2239,  29.9999, 148.5609,    16.2963,2,     -999.0,9,     -999.0,9,     -999.0,9,     -999.0,9,     0.0122,1,     4.6862,1,     -999.0,9,     -999.0,9,     -999.0,9
33RR20220430,        P02,      31,          1,         27,         27,2,20220512,       2034,    29.9999,   148.5609,       6161,   374.1,2,  15.3136,2,  34.6061,2,  34.6042,2,    190.6,2,   190.7,2,    8.89,2,    8.99,2,    0.00,2,    0.61,2,   2.293,2,   1.413,2,   1.5690,2,  2077.6,2,  2277.8,2,-999.0000,1,  -999.00,1, -999.00,9,  -999.0,9, -999.00,1, -999.00,1,       12.9,2, 20220512,     2237,  29.9999, 148.5609,    15.3138,2,     -999.0,9,     -999.0,9,     -999.0,9,     -999.0,9,     0.0122,1,     4.6899,1,     -999.0,9,     -999.0,9,     -999.0,9
33RR20220430,        P02,      31,          1,         26,         26,2,20220512,       2034,    29.9999,   148.5609,       6161,   444.6,2,  13.3711,2,  34.4499,2,  34.4469,2,    185.2,2,   185.8,2,   15.24,2,   12.50,2,    0.00,2,    0.87,2,   2.382,2,   1.471,2,   1.5007,2,  -999.0,9,  -999.0,9,-999.0000,9,  -999.00,9, -999.00,9,  -999.0,9, -999.00,1, -999.00,1,       16.1,2, 20220512,     2235,  29.9999, 148.5609,    13.3649,2,     -999.0,9,     -999.0,9,     -999.0,9,     -999.0,9,     0.0122,1,     4.6942,1,     -999.0,9,     -999.0,9,     -999.0,9
33RR20220430,        P02,      31,          1,         25,         25,2,20220512,       2034,    29.9999,   148.5609,       6161,   546.2,2,  10.4901,2,  34.2511,2,  34.2460,2,    177.0,2,   176.9,2,   26.78,2,   18.11,2,    0.00,2,    1.27,2,   2.560,2,   1.496,2,   1.3914,2,  2142.2,2,  2275.3,2,-999.0000,1,  -999.00,1, -999.00,9,  -999.0,9, -999.00,1, -999.00,1,       20.1,2, 20220512,     2232,  29.9999, 148.5610,    10.4978,2,     -999.0,9,     -999.0,9,     -999.0,9,     -999.0,9,     0.0122,1,     4.6997,1,     -999.0,9,     -999.0,9,     -999.0,9
33RR20220430,        P02,      31,          1,         24,         24,4,20220512,       2034,    29.9999,   148.5609,       6161,   646.3,3,   7.2307,3,  34.0653,3,  34.2615,3,    148.5,3,   168.9,3,   35.09,3,   19.38,3,    0.00,3,    1.38,3,-999.000,9,-999.000,9,-999.0000,9,  -999.0,9,  -999.0,9,-999.0000,9,  -999.00,9, -999.00,9,  -999.0,9, -999.00,1, -999.00,1,     -999.0,9, 20220512,     2229,  29.9999, 148.5610,     7.2307,3,     -999.0,9,     -999.0,9,     -999.0,9,     -999.0,9,     0.0127,1,     4.7034,1,     -999.0,9,     -999.0,9,     -999.0,9
33RR20220430,        P02,      31,          1,         23,         23,2,20220512,       2034,    29.9999,   148.5609,       6161,   747.1,2,   5.4526,2,  34.0595,2,  34.0578,2,    103.1,2,   102.9,2,   73.99,2,   33.97,2,    0.00,2,    2.43,2,   1.790,2,   1.002,2,   0.7606,2,  2261.0,2,  2303.7,2,   7.4476,2,    25.01,2, -999.00,9,  -999.0,9, -999.00,1, -999.00,1,       35.0,2, 20220512,     2226,  29.9999, 148.5609,     5.4522,2,     -999.0,9,     -999.0,9,     -999.0,9,     -999.0,9,     0.0134,1,     4.7045,1,     -999.0,9,     -999.0,9,     -999.0,9
33RR20220430,        P02,      31,          1,         22,         22,2,20220512,       2034,    29.9999,   148.5609,       6161,   847.8,2,   4.6315,2,  34.1544,2,  34.1538,2,     68.4,2,    68.2,2,   94.41,2,   38.30,2,    0.00,2,    2.73,2,   1.141,2,   0.638,2,   0.4497,2,  -999.0,9,  -999.0,9,-999.0000,9,  -999.00,9, -999.00,9,  -999.0,9, -999.00,9, -999.00,9,       41.4,2, 20220512,     2224,  29.9999, 148.5609,     4.6321,2,     -999.0,9,     -999.0,9,     -999.0,9,     -999.0,9,     0.0134,1,     4.7044,1,     -999.0,9,     -999.0,9,     -999.0,9
33RR20220430,        P02,      31,          1,         21,         21,2,20220512,       2034,    29.9999,   148.5609,       6161,   947.4,2,   4.0228,2,  34.2465,2,  34.2460,2,     49.4,2,    49.5,2,  111.12,2,   40.60,2,    0.00,2,    2.89,2,   0.659,2,   0.358,2,   0.2711,2,  2330.6,2,  2344.2,2,   7.3548,2,    25.04,2, -999.00,9,  -999.0,9, -999.00,1, -999.00,1,       45.7,2, 20220512,     2221,  29.9999, 148.5609,     4.0208,2,     -999.0,9,     -999.0,9,     -999.0,9,     -999.0,9,     0.0134,1,     4.7043,1,     -999.0,9,     -999.0,9,     -999.0,9
33RR20220430,        P02,      31,          1,         20,         20,2,20220512,       2034,    29.9999,   148.5609,       6161,  1049.3,2,   3.6101,2,  34.3212,2,  34.3197,2,     40.5,2,    40.6,2,  122.06,2,   42.19,2,    0.00,2,    2.98,2,   0.339,2,   0.184,2,   0.0000,2,  -999.0,9,  -999.0,9,-999.0000,9,  -999.00,9, -999.00,9,  -999.0,9, -999.00,9, -999.00,9,       47.8,2, 20220512,     2218,  29.9999, 148.5609,     3.6117,2,     -999.0,9,     -999.0,9,     -999.0,9,     -999.0,9,     0.0134,1,     4.7055,1,     -999.0,9,     -999.0,9,     -999.0,9
33RR20220430,        P02,      31,          1,         19,         19,2,20220512,       2034,    29.9999,   148.5609,       6161,  1151.0,2,   3.2827,2,  34.3730,2,  34.3723,2,     38.1,3,    39.0,2,  131.83,2,   42.60,2,    0.00,2,    3.04,2,   0.204,2,   0.110,2,   0.0000,2,  2361.0,2,  2370.1,2,   7.3462,2,    25.04,2, -999.00,9,  -999.0,9, -999.00,1, -999.00,1,       48.4,2, 20220512,     2215,  29.9999, 148.5609,     3.2833,2,     -999.0,9,     -999.0,9,     -999.0,9,     -999.0,9,     0.0134,1,     4.7050,1,     -999.0,9,     -999.0,9,     -999.0,9
33RR20220430,        P02,      31,          1,         18,         18,2,20220512,       2034,    29.9999,   148.5609,       6161,  1251.8,2,   2.9972,2,  34.4144,2,  34.4139,2,     37.6,2,    37.6,2,  139.84,2,   42.81,2,    0.00,2,    3.05,2,   0.140,2,   0.072,2,   0.0000,2,  2369.6,2,  2379.1,2,   7.3465,2,    25.02,2, -999.00,9,  -999.0,9, -999.00,9, -999.00,9,       48.3,2, 20220512,     2213,  29.9999, 148.5609,     2.9976,2,     -999.0,9,     -999.0,9,     -999.0,9,     -999.0,9,     0.0134,1,     4.7052,1,     -999.0,9,     -999.0,9,     -999.0,9
33RR20220430,        P02,      31,          1,         17,         17,2,20220512,       2034,    29.9999,   148.5609,       6161,  1353.5,2,   2.7455,2,  34.4509,2,  34.4496,2,     37.3,3,    37.8,2,  146.96,2,   43.05,2,    0.00,2,    3.06,2,   0.099,2,   0.055,2,   0.0000,2,  2376.9,6,  2387.1,2,   7.3479,2,    25.03,2, -999.00,9,  -999.0,9, -999.00,1, -999.00,1,       48.6,2, 20220512,     2210,  29.9999, 148.5609,     2.7455,2,     -999.0,9,     -999.0,9,     -999.0,9,     -999.0,9,     0.0134,1,     4.7049,1,     -999.0,9,     -999.0,9,     -999.0,9
33RR20220430,        P02,      31,          1,         16,         16,2,20220512,       2034,    29.9999,   148.5609,       6161,  1485.8,2,   2.5508,2,  34.4880,2,  34.4854,2,     42.0,3,    40.9,2,  151.94,2,   42.98,2,    0.00,2,    3.05,2,   0.056,2,   0.031,2,   0.0000,2,  2378.9,2,  2395.4,2,   7.3578,2,    25.04,2, -999.00,9,  -999.0,9, -999.00,9, -999.00,9,       44.8,2, 20220512,     2207,  29.9999, 148.5610,     2.5507,2,     -999.0,9,     -999.0,9,     -999.0,9,     -999.0,9,     0.0134,1,     4.7055,1,     -999.0,9,     -999.0,9,     -999.0,9
33RR20220430,        P02,      31,          1,         15,         15,2,20220512,       2034,    29.9999,   148.5609,       6161,  1688.4,2,   2.2657,2,  34.5393,2,  34.5388,2,     53.2,3,    54.6,2,  158.88,2,   42.67,2,    0.00,2,    2.99,2,   0.023,2,   0.008,2,   0.0000,2,  2381.0,2,  2403.7,2,   7.3838,2,    25.03,2, -999.00,9,  -999.0,9, -999.00,1, -999.00,1,       40.4,2, 20220512,     2202,  29.9999, 148.5609,     2.2661,2,     -999.0,9,     -999.0,9,     -999.0,9,     -999.0,9,     0.0134,1,     4.7067,1,     -999.0,9,     -999.0,9,     -999.0,9
33RR20220430,        P02,      31,          1,         14,         14,2,20220512,       2034,    29.9999,   148.5609,       6161,  1890.2,2,   2.0378,2,  34.5787,2,  34.5781,2,     68.7,2,    68.4,2,  161.70,2,   41.48,2,    0.00,2,    2.93,2,   0.012,2,   0.000,2,   0.0000,2,  -999.0,9,  -999.0,9,-999.0000,9,  -999.00,9, -999.00,9,  -999.0,9, -999.00,9, -999.00,9,       36.5,2, 20220512,     2158,  29.9999, 148.5610,     2.0377,2,     -999.0,9,     -999.0,9,     -999.0,9,     -999.0,9,     0.0134,1,     4.7069,1,     -999.0,9,     -999.0,9,     -999.0,9
33RR20220430,        P02,      31,          1,         13,         13,2,20220512,       2034,    29.9999,   148.5609,       6161,  2115.7,2,   1.8763,2,  34.6084,2,  34.6069,2,     87.1,2,    86.5,2,  160.82,2,   40.32,2,    0.00,2,    2.82,2,   0.009,2,   0.000,2,   0.0000,2,  2364.0,2,  2412.8,2,   7.4533,2,    25.03,2, -999.00,9,  -999.0,9, -999.00,1, -999.00,1,       33.6,2, 20220512,     2153,  29.9999, 148.5609,     1.8787,2,     -999.0,9,     -999.0,9,     -999.0,9,     -999.0,9,     0.0131,1,     4.7079,1,     -999.0,9,     -999.0,9,     -999.0,9
33RR20220430,        P02,      31,          1,         12,         12,2,20220512,       2034,    29.9999,   148.5609,       6161,  2369.0,2,   1.7521,2,  34.6310,2,  34.6309,2,    105.3,2,   105.5,2,  157.20,2,   39.30,2,    0.00,2,    2.73,2,-999.000,9,-999.000,9,-999.0000,9,  -999.0,9,  -999.0,9,-999.0000,9,  -999.00,9, -999.00,9,  -999.0,9, -999.00,9, -999.00,9,     -999.0,9, 20220512,     2148,  29.9999, 148.5609,     1.7521,2,     -999.0,9,     -999.0,9,     -999.0,9,     -999.0,9,     0.0126,1,     4.7087,1,     -999.0,9,     -999.0,9,     -999.0,9
33RR20220430,        P02,      31,          1,         11,         11,2,20220512,       2034,    29.9999,   148.5609,       6161,  2622.3,2,   1.6643,2,  34.6471,2,  34.6464,2,    119.7,2,   120.3,2,  153.59,2,   38.28,2,    0.00,2,    2.67,2,   0.008,2,   0.003,2,   0.0000,2,  2347.0,2,  2414.8,2,   7.5169,2,    25.04,2, -999.00,9,  -999.0,9, -999.00,1, -999.00,1,       27.8,2, 20220512,     2142,  29.9999, 148.5609,     1.6647,2,     -999.0,9,     -999.0,9,     -999.0,9,     -999.0,9,     0.0130,1,     4.7099,1,     -999.0,9,     -999.0,9,     -999.0,9
33RR20220430,        P02,      31,          1,         10,         10,2,20220512,       2034,    29.9999,   148.5609,       6161,  2878.4,2,   1.6040,2,  34.6570,2,  34.6565,2,    127.4,2,   127.0,2,  152.61,2,   37.78,2,    0.00,2,    2.63,2,-999.000,9,-999.000,9,-999.0000,9,  -999.0,9,  -999.0,9,-999.0000,9,  -999.00,9, -999.00,9,  -999.0,9, -999.00,9, -999.00,9,     -999.0,9, 20220512,     2137,  29.9999, 148.5609,     1.6038,2,     -999.0,9,     -999.0,9,     -999.0,9,     -999.0,9,     0.0127,1,     4.7094,1,     -999.0,9,     -999.0,9,     -999.0,9
33RR20220430,        P02,      31,          1,          9,          9,2,20220512,       2034,    29.9999,   148.5609,       6161,  3147.7,2,   1.5574,2,  34.6655,2,  34.6645,2,    135.2,2,   135.2,2,  151.14,2,   37.24,2,    0.00,2,    2.58,2,   0.007,2,   0.002,2,   0.0000,2,  2336.0,2,  2416.8,2,   7.5438,2,    25.03,2, -999.00,9,  -999.0,9, -999.00,1, -999.00,1,       25.8,2, 20220512,     2131,  29.9999, 148.5609,     1.5574,2,     -999.0,9,     -999.0,9,     -999.0,9,     -999.0,9,     0.0131,1,     4.7105,1,     -999.0,9,     -999.0,9,     -999.0,9
33RR20220430,        P02,      31,          1,          8,          8,2,20220512,       2034,    29.9999,   148.5609,       6161,  3452.9,2,   1.5224,2,  34.6721,2,  34.6712,2,    141.1,2,   141.7,2,  149.87,2,   37.06,2,    0.00,2,    2.56,2,-999.000,9,-999.000,9,-999.0000,9,  2331.6,2,  2415.5,2,   7.5542,2,    25.04,2, -999.00,9,  -999.0,9, -999.00,1, -999.00,1,     -999.0,9, 20220512,     2125,  29.9999, 148.5609,     1.5224,2,     -999.0,9,     -999.0,9,     -999.0,9,     -999.0,9,     0.0122,1,     4.7104,1,     -999.0,9,     -999.0,9,     -999.0,9
33RR20220430,        P02,      31,          1,          7,          7,2,20220512,       2034,    29.9999,   148.5609,       6161,  3796.6,2,   1.4978,2,  34.6778,2,  34.6767,2,    147.1,2,   147.2,2,  148.80,2,   36.51,2,    0.00,2,    2.52,2,   0.005,2,   0.000,2,   0.0000,2,  2327.8,2,  2413.8,2,   7.5637,2,    25.04,2, -999.00,9,  -999.0,9, -999.00,1, -999.00,1,       24.7,2, 20220512,     2118,  29.9999, 148.5610,     1.4977,2,     -999.0,9,     -999.0,9,     -999.0,9,     -999.0,9,     0.0122,1,     4.7101,1,     -999.0,9,     -999.0,9,     -999.0,9
33RR20220430,        P02,      31,          1,          6,          6,2,20220512,       2034,    29.9999,   148.5609,       6161,  4207.4,2,   1.4840,2,  34.6830,2,  34.6820,2,    153.6,2,   153.6,2,  147.13,2,   36.02,2,    0.00,2,    2.49,2,-999.000,9,-999.000,9,-999.0000,9,  -999.0,9,  -999.0,9,-999.0000,9,  -999.00,9, -999.00,9,  -999.0,9, -999.00,9, -999.00,9,     -999.0,9, 20220512,     2111,  29.9999, 148.5609,     1.4846,2,     -999.0,9,     -999.0,9,     -999.0,9,     -999.0,9,     0.0122,1,     4.7097,1,     -999.0,9,     -999.0,9,     -999.0,9
33RR20220430,        P02,      31,          1,          5,          5,2,20220512,       2034,    29.9999,   148.5609,       6161,  4616.2,2,   1.4941,2,  34.6865,2,  34.6855,2,    158.1,2,   157.8,2,  146.26,2,   35.73,2,    0.00,2,    2.45,2,   0.006,2,   0.000,2,   0.0000,2,  2320.3,2,  2412.1,2,   7.5801,2,    25.04,2, -999.00,9,  -999.0,9, -999.00,1, -999.00,1,       23.8,2, 20220512,     2103,  29.9999, 148.5610,     1.4939,2,     -999.0,9,     -999.0,9,     -999.0,9,     -999.0,9,     0.0122,1,     4.7093,1,     -999.0,9,     -999.0,9,     -999.0,9
33RR20220430,        P02,      31,          1,          4,          4,2,20220512,       2034,    29.9999,   148.5609,       6161,  5028.8,2,   1.5165,2,  34.6889,2,  34.6879,2,    162.2,2,   162.1,2,  143.23,2,   35.40,2,    0.00,2,    2.43,2,-999.000,9,-999.000,9,-999.0000,9,  -999.0,9,  -999.0,9,-999.0000,9,  -999.00,9, -999.00,9,  -999.0,9, -999.00,9, -999.00,9,     -999.0,9, 20220512,     2055,  29.9999, 148.5609,     1.5161,2,     -999.0,9,     -999.0,9,     -999.0,9,     -999.0,9,     0.0122,1,     4.7092,1,     -999.0,9,     -999.0,9,     -999.0,9