BOTTLE,20230801CCHSIOCBG
EXPOCODE,SECT_ID,STNNBR,CASTNO,SAMPNO,BTLNBR,BTLNBR_FLAG_W,DATE,TIME,LATITUDE,LONGITUDE,DEPTH,CTDPRS,CTDPRS_FLAG_W,CTDTMP,CTDTMP_FLAG_W,CTDSAL,CTDSAL_FLAG_W,SALNTY,SALNTY_FLAG_W,CTDOXY,CTDOXY_FLAG_W,OXYGEN,OXYGEN_FLAG_W,SILCAT,SILCAT_FLAG_W,NITRAT,NITRAT_FLAG_W,NITRIT,NITRIT_FLAG_W,PHSPHT,PHSPHT_FLAG_W,CFC-11,CFC-11_FLAG_W,CFC-12,CFC-12_FLAG_W,SF6,SF6_FLAG_W,TCARBN,TCARBN_FLAG_W,ALKALI,ALKALI_FLAG_W,PH_TOT,PH_TOT_FLAG_W,PH_TMP,PH_TMP_FLAG_W,DELC13,DELC13_FLAG_W,DELC14,DELC14_FLAG_W,DOC,DOC_FLAG_W,TDN,TDN_FLAG_W,N2O,N2O_FLAG_W,BTL_DATE,BTL_TIME,BTL_LAT,BTL_LON,REFTMP,REFTMP_FLAG_W,POC,POC_FLAG_W,PON,PON_FLAG_W,POP,POP_FLAG_W,PCOD,PCOD_FLAG_W,CTDFLUOR,CTDFLUOR_FLAG_W,CTDXMISS,CTDXMISS_FLAG_W,HPLC,HPLC_FLAG_W,DNA,DNA_FLAG_W,FCM,FCM_FLAG_W
,,,,,,,,,,,METERS,DBAR,,ITS-90,,PSS-78,,PSS-78,,UMOL/KG,,UMOL/KG,,UMOL/KG,,UMOL/KG,,UMOL/KG,,UMOL/KG,,PMOL/KG,,PMOL/KG,,FMOL/KG,,UMOL/KG,,UMOL/KG,,,,DEG C,,/MILLE,,/MILLE,,UMOL/KG,,UMOL/KG,,NMOL/KG,,,,,,ITS-90,,UG/L,,UG/L,,UG/L,,UG/L,,VOLTS,,VOLTS,,,,,,,
33RR20220430,        P02,      64,          1,         36,         36,2,20220523,       1558,    29.9992,   169.1427,       5725,    16.2,2,  23.3322,2,  35.3250,2,  35.3120,2,    217.5,2,   217.4,2,    0.49,2,    0.01,2,    0.00,2,    0.00,2,   1.742,2,   1.085,2,   1.9744,2,  2018.6,2,  2317.6,2,   8.0324,2,    25.02,2, -999.00,9,  -999.0,9, -999.00,9, -999.00,9,        5.9,2, 20220523,     1812,  29.9992, 169.1427,    23.3301,2,     -999.0,9,     -999.0,9,     -999.0,9,     -999.0,9,     0.0134,1,     4.6427,1,     -999.0,9,     -999.0,9,     -999.0,9
33RR20220430,        P02,      64,          1,         35,         35,2,20220523,       1558,    29.9992,   169.1427,       5725,    61.3,2,  20.2891,2,  34.9565,2,  34.9459,2,    236.3,2,   236.7,2,    1.17,2,    0.00,2,    0.00,2,    0.00,2,   2.056,2,   1.238,2,   2.0823,2,  2015.8,2,  2293.9,2,   8.0060,2,    25.01,2, -999.00,9,  -999.0,9, -999.00,9, -999.00,9,        6.8,2, 20220523,     1809,  29.9992, 169.1427,    20.2898,2,     -999.0,9,     -999.0,9,     -999.0,9,     -999.0,9,     0.0160,1,     4.6272,1,     -999.0,9,     -999.0,9,     -999.0,9
33RR20220430,        P02,      64,          1,         34,         34,2,20220523,       1558,    29.9992,   169.1427,       5725,    85.9,2,  18.9696,2,  34.8990,2,  34.8884,2,    221.7,2,   222.8,2,    1.46,2,    0.04,2,    0.01,2,    0.03,2,   2.078,2,   1.280,2,   1.9077,2,  2027.6,2,  2291.2,2,   7.9787,2,    25.02,2, -999.00,9,  -999.0,9, -999.00,9, -999.00,9,        7.3,2, 20220523,     1806,  29.9992, 169.1427,    18.9574,2,     -999.0,9,     -999.0,9,     -999.0,9,     -999.0,9,     0.0451,1,     4.6193,1,     -999.0,9,     -999.0,9,     -999.0,9
33RR20220430,        P02,      64,          1,         33,         33,2,20220523,       1558,    29.9992,   169.1427,       5725,   116.1,2,  18.1352,2,  34.8187,2,  34.8078,2,    216.5,2,   216.3,2,    1.86,2,    1.59,2,    0.06,2,    0.12,2,   2.124,2,   1.328,2,   2.1199,2,  2036.8,2,  2283.7,2,-999.0000,1,  -999.00,1, -999.00,9,  -999.0,9, -999.00,9, -999.00,9,        7.7,2, 20220523,     1804,  29.9992, 169.1427,    18.1335,2,     -999.0,9,     -999.0,9,     -999.0,9,     -999.0,9,     0.0282,1,     4.6570,1,     -999.0,9,     -999.0,9,     -999.0,9
33RR20220430,        P02,      64,          1,         32,         32,2,20220523,       1558,    29.9992,   169.1427,       5725,   166.9,2,  17.1526,2,  34.7277,2,  34.7180,2,    217.7,2,   217.4,2,    2.44,2,    3.10,2,    0.00,2,    0.21,2,   2.232,2,   1.357,2,   2.1946,2,  2042.7,2,  2277.2,2,-999.0000,1,  -999.00,1, -999.00,9,  -999.0,9, -999.00,9, -999.00,9,        8.2,2, 20220523,     1803,  29.9992, 169.1427,    17.1549,2,     -999.0,9,     -999.0,9,     -999.0,9,     -999.0,9,     0.0134,1,     4.6838,1,     -999.0,9,     -999.0,9,     -999.0,9
33RR20220430,        P02,      64,          1,         31,         31,2,20220523,       1558,    29.9992,   169.1427,       5725,   217.0,2,  16.3773,2,  34.6674,2,  34.6574,2,    213.7,2,   213.1,2,    3.91,2,    4.80,2,    0.00,2,    0.31,2,   2.297,2,   1.398,2,   2.0754,2,  2052.7,2,  2276.3,2,   7.9121,2,    25.03,2, -999.00,9,  -999.0,9, -999.00,9, -999.00,9,        9.1,2, 20220523,     1801,  29.9992, 169.1427,    16.3748,2,     -999.0,9,     -999.0,9,     -999.0,9,     -999.0,9,     0.0122,1,     4.6875,1,     -999.0,9,     -999.0,9,     -999.0,9
33RR20220430,        P02,      64,          1,         30,         30,2,20220523,       1558,    29.9992,   169.1427,       5725,   267.4,2,  15.3929,2,  34.5985,2,  34.5895,2,    207.0,2,   206.3,2,    6.45,2,    7.05,2,    0.00,2,    0.47,2,   2.436,2,   1.489,2,   2.0336,2,  -999.0,9,  -999.0,9,-999.0000,9,  -999.00,9, -999.00,9,  -999.0,9, -999.00,9, -999.00,9,       10.4,2, 20220523,     1759,  29.9992, 169.1427,    15.3927,2,     -999.0,9,     -999.0,9,     -999.0,9,     -999.0,9,     0.0122,1,     4.6907,1,     -999.0,9,     -999.0,9,     -999.0,9
33RR20220430,        P02,      64,          1,         29,         29,2,20220523,       1558,    29.9992,   169.1427,       5725,   317.9,2,  14.4199,2,  34.5253,2,  34.5131,2,    201.5,2,   201.6,2,    9.28,2,    9.16,2,    0.00,2,    0.62,2,   2.534,2,   1.557,2,   1.8863,2,  2079.3,2,  2271.6,2,   7.8450,2,    25.02,2, -999.00,9,  -999.0,9, -999.00,9, -999.00,9,       11.8,2, 20220523,     1757,  29.9992, 169.1427,    14.4083,2,     -999.0,9,     -999.0,9,     -999.0,9,     -999.0,9,     0.0122,1,     4.6926,1,     -999.0,9,     -999.0,9,     -999.0,9
33RR20220430,        P02,      64,          1,         28,         28,2,20220523,       1558,    29.9992,   169.1427,       5725,   369.0,2,  12.9427,2,  34.4053,2,  34.3982,2,    201.8,2,   201.9,2,   12.70,2,   11.45,2,    0.00,2,    0.77,2,   2.700,2,   1.585,2,   1.9152,2,  2096.0,2,  2269.2,2,   7.8073,2,    25.02,2, -999.00,9,  -999.0,9, -999.00,9, -999.00,9,       13.1,2, 20220523,     1755,  29.9992, 169.1427,    12.9416,2,     -999.0,9,     -999.0,9,     -999.0,9,     -999.0,9,     0.0122,1,     4.6955,1,     -999.0,9,     -999.0,9,     -999.0,9
33RR20220430,        P02,      64,          1,         27,         27,2,20220523,       1558,    29.9992,   169.1427,       5725,   439.8,2,  11.2511,2,  34.2679,2,  34.2625,2,    202.9,2,   203.3,2,   17.69,2,   14.28,2,    0.00,2,    0.97,2,   2.851,6,   1.666,6,   1.8344,6,  2114.5,2,  2268.7,2,   7.7618,2,    25.01,2, -999.00,9,  -999.0,9, -999.00,9, -999.00,9,       14.5,6, 20220523,     1753,  29.9992, 169.1427,    11.2529,2,     -999.0,9,     -999.0,9,     -999.0,9,     -999.0,9,     0.0122,1,     4.6975,1,     -999.0,9,     -999.0,9,     -999.0,9
33RR20220430,        P02,      64,          1,         26,         26,2,20220523,       1558,    29.9992,   169.1427,       5725,   540.4,2,   8.9378,2,  34.0946,2,  34.0929,2,    187.6,2,   188.5,2,   29.32,2,   19.89,2,    0.00,2,    1.36,2,   2.877,2,   1.727,2,   1.7064,2,  2151.7,2,  2269.0,2,   7.6741,2,    25.02,2, -999.00,9,  -999.0,9, -999.00,9, -999.00,9,       19.0,2, 20220523,     1750,  29.9992, 169.1427,     8.9281,2,     -999.0,9,     -999.0,9,     -999.0,9,     -999.0,9,     0.0122,1,     4.7001,1,     -999.0,9,     -999.0,9,     -999.0,9
33RR20220430,        P02,      64,          1,         25,         25,2,20220523,       1558,    29.9992,   169.1427,       5725,   640.8,2,   6.6750,2,  33.9992,2,  33.9965,2,    146.7,2,   146.3,2,   51.70,2,   28.09,2,    0.00,2,    1.96,2,   2.441,2,   1.497,2,   1.2139,2,  2208.5,2,  2281.0,2,   7.5408,2,    25.03,2, -999.00,9,  -999.0,9, -999.00,9, -999.00,9,       26.6,2, 20220523,     1747,  29.9992, 169.1427,     6.6681,2,     -999.0,9,     -999.0,9,     -999.0,9,     -999.0,9,     0.0133,1,     4.7007,1,     -999.0,9,     -999.0,9,     -999.0,9
33RR20220430,        P02,      64,          1,         24,         24,2,20220523,       1558,    29.9992,   169.1427,       5725,   742.4,2,   5.4239,2,  34.0464,2,  34.0474,2,    100.0,3,    97.8,2,   73.59,2,   34.77,2,    0.00,2,    2.43,2,   1.770,2,   1.037,2,   0.7952,2,  2261.2,2,  2299.9,2,   7.4368,2,    25.00,2, -999.00,9,  -999.0,9, -999.00,9, -999.00,9,       34.2,2, 20220523,     1744,  29.9992, 169.1427,     5.4288,2,     -999.0,9,     -999.0,9,     -999.0,9,     -999.0,9,     0.0127,1,     4.7008,1,     -999.0,9,     -999.0,9,     -999.0,9
33RR20220430,        P02,      64,          1,         23,         23,2,20220523,       1558,    29.9992,   169.1427,       5725,   843.3,2,   4.6424,2,  34.1359,2,  34.1360,2,     64.4,2,    64.0,2,   92.64,2,   38.96,2,    0.00,2,    2.74,2,   1.026,2,   0.597,2,   0.2797,2,  2302.3,2,  2321.4,2,   7.3736,2,    25.03,2, -999.00,9,  -999.0,9, -999.00,9, -999.00,9,       38.0,2, 20220523,     1742,  29.9992, 169.1427,     4.6442,2,     -999.0,9,     -999.0,9,     -999.0,9,     -999.0,9,     0.0134,1,     4.7014,1,     -999.0,9,     -999.0,9,     -999.0,9
33RR20220430,        P02,      64,          1,         22,         22,2,20220523,       1558,    29.9992,   169.1427,       5725,   944.6,2,   4.1439,2,  34.2216,2,  34.2238,2,     41.8,2,    42.0,2,  106.99,2,   41.51,2,    0.00,2,    2.92,2,   0.519,2,   0.313,2,   0.1667,2,  -999.0,9,  -999.0,9,-999.0000,9,  -999.00,9, -999.00,9,  -999.0,9, -999.00,9, -999.00,9,       46.3,2, 20220523,     1739,  29.9992, 169.1427,     4.1433,2,     -999.0,9,     -999.0,9,     -999.0,9,     -999.0,9,     0.0134,1,     4.7025,1,     -999.0,9,     -999.0,9,     -999.0,9
33RR20220430,        P02,      64,          1,         21,         21,2,20220523,       1558,    29.9992,   169.1427,       5725,  1045.8,2,   3.7279,2,  34.2980,2,  34.2985,2,     31.5,3,    32.0,2,  119.40,2,   42.81,2,    0.00,2,    3.01,2,   0.254,2,   0.148,2,   0.0000,2,  2351.8,2,  2351.3,2,   7.3287,2,    25.02,2, -999.00,9,  -999.0,9, -999.00,9, -999.00,9,       49.1,2, 20220523,     1736,  29.9992, 169.1427,     3.7274,2,     -999.0,9,     -999.0,9,     -999.0,9,     -999.0,9,     0.0134,1,     4.7026,1,     -999.0,9,     -999.0,9,     -999.0,9
33RR20220430,        P02,      64,          1,         20,         20,2,20220523,       1558,    29.9992,   169.1427,       5725,  1146.6,2,   3.4067,2,  34.3602,2,  34.3607,2,     28.8,3,    28.5,2,  128.18,2,   43.36,2,    0.00,2,    3.05,2,   0.136,2,   0.081,2,   0.0000,2,  -999.0,9,  -999.0,9,-999.0000,9,  -999.00,9, -999.00,9,  -999.0,9, -999.00,9, -999.00,9,       49.9,2, 20220523,     1734,  29.9992, 169.1427,     3.4103,2,     -999.0,9,     -999.0,9,     -999.0,9,     -999.0,9,     0.0134,1,     4.7026,1,     -999.0,9,     -999.0,9,     -999.0,9
33RR20220430,        P02,      64,          1,         19,         19,2,20220523,       1558,    29.9992,   169.1427,       5725,  1248.6,2,   3.1483,2,  34.4143,2,  34.4133,2,     30.1,3,    29.9,2,  135.41,2,   43.58,2,    0.00,2,    3.08,2,   0.066,2,   0.035,2,   0.0000,2,  2369.5,2,  2375.4,2,   7.3367,2,    25.00,2, -999.00,9,  -999.0,9, -999.00,9, -999.00,9,       48.8,2, 20220523,     1731,  29.9992, 169.1427,     3.1510,2,     -999.0,9,     -999.0,9,     -999.0,9,     -999.0,9,     0.0134,1,     4.7023,1,     -999.0,9,     -999.0,9,     -999.0,9
33RR20220430,        P02,      64,          1,         18,         18,2,20220523,       1558,    29.9992,   169.1427,       5725,  1349.9,2,   2.9270,2,  34.4552,2,  34.4561,2,     33.7,2,    33.9,2,  141.85,2,   43.57,2,    0.00,2,    3.07,2,   0.038,2,   0.018,2,   0.0000,2,  2375.9,2,  2384.8,2,   7.3470,2,    25.01,2, -999.00,9,  -999.0,9, -999.00,9, -999.00,9,       46.8,2, 20220523,     1728,  29.9992, 169.1427,     2.9258,2,     -999.0,9,     -999.0,9,     -999.0,9,     -999.0,9,     0.0134,1,     4.7032,1,     -999.0,9,     -999.0,9,     -999.0,9
33RR20220430,        P02,      64,          1,         17,         17,2,20220523,       1558,    29.9992,   169.1427,       5725,  1482.1,2,   2.6667,2,  34.4983,2,  34.4985,2,     40.7,2,    40.5,2,  148.00,2,   43.33,2,    0.00,2,    3.05,2,   0.021,2,   0.014,2,   0.0000,2,  2377.1,6,  2392.7,2,   7.3630,2,    24.98,2, -999.00,9,  -999.0,9, -999.00,9, -999.00,9,       43.7,2, 20220523,     1725,  29.9992, 169.1427,     2.6684,2,     -999.0,9,     -999.0,9,     -999.0,9,     -999.0,9,     0.0134,1,     4.7042,1,     -999.0,9,     -999.0,9,     -999.0,9
33RR20220430,        P02,      64,          1,         16,         16,2,20220523,       1558,    29.9992,   169.1427,       5725,  1631.0,2,   2.4053,2,  34.5356,2,  34.5364,2,     49.8,2,    49.8,2,  154.44,2,   42.88,2,    0.00,2,    3.02,2,   0.018,2,   0.008,2,   0.0000,2,  -999.0,9,  -999.0,9,-999.0000,9,  -999.00,9, -999.00,9,  -999.0,9, -999.00,9, -999.00,9,       40.3,2, 20220523,     1722,  29.9992, 169.1427,     2.4121,2,     -999.0,9,     -999.0,9,     -999.0,9,     -999.0,9,     0.0133,1,     4.7044,1,     -999.0,9,     -999.0,9,     -999.0,9
33RR20220430,        P02,      64,          1,         15,         15,2,20220523,       1558,    29.9992,   169.1427,       5725,  1683.9,2,   2.3201,2,  34.5478,2,  34.5484,2,     53.4,2,    53.9,2,  156.10,2,   42.74,2,    0.00,2,    3.00,2,   0.010,2,   0.000,2,   0.0000,2,  2378.8,2,  2403.8,2,   7.3878,2,    25.00,2, -999.00,9,  -999.0,9, -999.00,9, -999.00,9,       38.3,2, 20220523,     1720,  29.9992, 169.1427,     2.3218,2,     -999.0,9,     -999.0,9,     -999.0,9,     -999.0,9,     0.0134,1,     4.7044,1,     -999.0,9,     -999.0,9,     -999.0,9
33RR20220430,        P02,      64,          1,         14,         14,2,20220523,       1558,    29.9992,   169.1427,       5725,  1886.7,2,   2.0704,2,  34.5850,2,  34.5851,2,     69.8,2,    69.3,2,  158.64,2,   41.64,2,    0.00,2,    2.93,2,   0.007,2,   0.000,2,   0.0000,2,  -999.0,9,  -999.0,9,-999.0000,9,  -999.00,9, -999.00,9,  -999.0,9, -999.00,9, -999.00,9,       33.5,2, 20220523,     1716,  29.9992, 169.1427,     2.0713,2,     -999.0,9,     -999.0,9,     -999.0,9,     -999.0,9,     0.0134,1,     4.7054,1,     -999.0,9,     -999.0,9,     -999.0,9
33RR20220430,        P02,      64,          1,         13,         13,2,20220523,       1558,    29.9992,   169.1427,       5725,  2115.0,2,   1.8800,2,  34.6118,2,  34.6124,2,     87.3,3,    85.9,2,  160.20,2,   40.59,2,    0.00,2,    2.85,2,   0.006,2,   0.000,2,   0.0000,2,  2364.8,2,  2412.7,2,   7.4545,2,    25.00,2, -999.00,9,  -999.0,9, -999.00,9, -999.00,9,       30.2,2, 20220523,     1711,  29.9992, 169.1427,     1.8781,2,     -999.0,9,     -999.0,9,     -999.0,9,     -999.0,9,     0.0134,1,     4.7060,1,     -999.0,9,     -999.0,9,     -999.0,9
33RR20220430,        P02,      64,          1,         12,         12,2,20220523,       1558,    29.9992,   169.1427,       5725,  2370.3,2,   1.7445,2,  34.6313,2,  34.6323,2,    100.8,2,   100.8,2,  159.90,2,   39.80,2,    0.00,2,    2.78,2,   0.006,2,   0.000,2,   0.0000,2,  -999.0,9,  -999.0,9,-999.0000,9,  -999.00,9, -999.00,9,  -999.0,9, -999.00,9, -999.00,9,       27.6,2, 20220523,     1706,  29.9992, 169.1427,     1.7440,2,     -999.0,9,     -999.0,9,     -999.0,9,     -999.0,9,     0.0129,1,     4.7051,1,     -999.0,9,     -999.0,9,     -999.0,9
33RR20220430,        P02,      64,          1,         11,         11,2,20220523,       1558,    29.9992,   169.1427,       5725,  2623.6,2,   1.6344,2,  34.6472,2,  34.6490,2,    113.5,2,   114.1,2,  159.02,2,   38.94,2,    0.00,2,    2.72,2,   0.005,2,   0.000,2,   0.0000,2,  2351.2,2,  2420.0,2,   7.5044,2,    25.00,2, -999.00,9,  -999.0,9, -999.00,9, -999.00,9,       25.5,2, 20220523,     1701,  29.9992, 169.1427,     1.6339,2,     -999.0,9,     -999.0,9,     -999.0,9,     -999.0,9,     0.0122,1,     4.7068,1,     -999.0,9,     -999.0,9,     -999.0,9
33RR20220430,        P02,      64,          1,         10,         10,2,20220523,       1558,    29.9992,   169.1427,       5725,  2879.5,2,   1.5743,2,  34.6578,2,  34.6592,2,    123.8,2,   124.3,2,  156.29,2,   38.32,2,    0.00,2,    2.66,2,-999.000,9,-999.000,9,-999.0000,9,  -999.0,9,  -999.0,9,-999.0000,9,  -999.00,9, -999.00,9,  -999.0,9, -999.00,9, -999.00,9,     -999.0,9, 20220523,     1656,  29.9992, 169.1427,     1.5742,2,     -999.0,9,     -999.0,9,     -999.0,9,     -999.0,9,     0.0122,1,     4.7068,1,     -999.0,9,     -999.0,9,     -999.0,9
33RR20220430,        P02,      64,          1,          9,          9,2,20220523,       1558,    29.9992,   169.1427,       5725,  3148.6,2,   1.5218,2,  34.6663,2,  34.6677,2,    131.7,2,   131.5,2,  155.11,2,   37.79,2,    0.00,2,    2.62,2,   0.007,2,   0.000,2,   0.0000,2,  2337.3,2,  2416.9,2,   7.5380,2,    25.00,2, -999.00,9,  -999.0,9, -999.00,9, -999.00,9,       23.0,2, 20220523,     1650,  29.9992, 169.1427,     1.5218,2,     -999.0,9,     -999.0,9,     -999.0,9,     -999.0,9,     0.0122,1,     4.7065,1,     -999.0,9,     -999.0,9,     -999.0,9
33RR20220430,        P02,      64,          1,          8,          8,2,20220523,       1558,    29.9992,   169.1427,       5725,  3455.6,2,   1.4779,2,  34.6745,2,  34.6749,2,    140.8,2,   140.9,2,  153.06,2,   37.26,2,    0.00,2,    2.57,2,-999.000,9,-999.000,9,-999.0000,9,  -999.0,9,  -999.0,9,-999.0000,9,  -999.00,9, -999.00,9,  -999.0,9, -999.00,9, -999.00,9,     -999.0,9, 20220523,     1644,  29.9992, 169.1427,     1.4777,2,     -999.0,9,     -999.0,9,     -999.0,9,     -999.0,9,     0.0122,1,     4.7067,1,     -999.0,9,     -999.0,9,     -999.0,9
33RR20220430,        P02,      64,          1,          7,          7,2,20220523,       1558,    29.9992,   169.1427,       5725,  3763.1,2,   1.4608,2,  34.6801,3,  34.6822,2,    147.4,2,   147.4,2,  151.11,2,   36.75,2,    0.00,2,    2.53,2,   0.008,2,   0.000,2,   0.0000,2,  2327.6,2,  2414.0,2,   7.5655,2,    25.00,2, -999.00,9,  -999.0,9, -999.00,9, -999.00,9,       21.3,2, 20220523,     1638,  29.9992, 169.1427,     1.4609,2,     -999.0,9,     -999.0,9,     -999.0,9,     -999.0,9,     0.0122,1,     4.7072,1,     -999.0,9,     -999.0,9,     -999.0,9
33RR20220430,        P02,      64,          1,          6,          6,2,20220523,       1558,    29.9992,   169.1427,       5725,  4120.0,2,   1.4593,2,  34.6841,2,  34.6842,2,    152.9,2,   152.9,2,  148.96,2,   36.32,2,    0.00,2,    2.50,2,-999.000,9,-999.000,9,-999.0000,9,  -999.0,9,  -999.0,9,-999.0000,9,  -999.00,9, -999.00,9,  -999.0,9, -999.00,9, -999.00,9,     -999.0,9, 20220523,     1631,  29.9992, 169.1427,     1.4593,2,     -999.0,9,     -999.0,9,     -999.0,9,     -999.0,9,     0.0122,1,     4.7070,1,     -999.0,9,     -999.0,9,     -999.0,9
33RR20220430,        P02,      64,          1,          5,          5,2,20220523,       1558,    29.9992,   169.1427,       5725,  4378.2,2,   1.4629,2,  34.6866,2,  34.6875,2,    156.5,2,   156.5,2,  147.49,2,   36.03,2,    0.00,2,    2.47,2,   0.008,2,   0.000,2,   0.0000,2,  2320.3,2,  2413.2,2,   7.5798,2,    25.02,2, -999.00,9,  -999.0,9, -999.00,9, -999.00,9,       20.7,2, 20220523,     1626,  29.9992, 169.1427,     1.4630,2,     -999.0,9,     -999.0,9,     -999.0,9,     -999.0,9,     0.0127,1,     4.7070,1,     -999.0,9,     -999.0,9,     -999.0,9
33RR20220430,        P02,      64,          1,          4,          4,2,20220523,       1558,    29.9992,   169.1427,       5725,  4787.6,2,   1.4685,2,  34.6906,2,  34.6924,2,    163.5,2,   163.5,2,  141.92,2,   35.42,2,    0.00,2,    2.43,2,-999.000,9,-999.000,9,-999.0000,9,  -999.0,9,  -999.0,9,-999.0000,9,  -999.00,9, -999.00,9,  -999.0,9, -999.00,9, -999.00,9,     -999.0,9, 20220523,     1618,  29.9992, 169.1427,     1.4685,2,     -999.0,9,     -999.0,9,     -999.0,9,     -999.0,9,     0.0122,1,     4.7073,1,     -999.0,9,     -999.0,9,     -999.0,9