BOTTLE,20230801CCHSIOCBG
EXPOCODE,SECT_ID,STNNBR,CASTNO,SAMPNO,BTLNBR,BTLNBR_FLAG_W,DATE,TIME,LATITUDE,LONGITUDE,DEPTH,CTDPRS,CTDPRS_FLAG_W,CTDTMP,CTDTMP_FLAG_W,CTDSAL,CTDSAL_FLAG_W,SALNTY,SALNTY_FLAG_W,CTDOXY,CTDOXY_FLAG_W,OXYGEN,OXYGEN_FLAG_W,SILCAT,SILCAT_FLAG_W,NITRAT,NITRAT_FLAG_W,NITRIT,NITRIT_FLAG_W,PHSPHT,PHSPHT_FLAG_W,CFC-11,CFC-11_FLAG_W,CFC-12,CFC-12_FLAG_W,SF6,SF6_FLAG_W,TCARBN,TCARBN_FLAG_W,ALKALI,ALKALI_FLAG_W,PH_TOT,PH_TOT_FLAG_W,PH_TMP,PH_TMP_FLAG_W,DELC13,DELC13_FLAG_W,DELC14,DELC14_FLAG_W,DOC,DOC_FLAG_W,TDN,TDN_FLAG_W,N2O,N2O_FLAG_W,BTL_DATE,BTL_TIME,BTL_LAT,BTL_LON,REFTMP,REFTMP_FLAG_W,POC,POC_FLAG_W,PON,PON_FLAG_W,POP,POP_FLAG_W,PCOD,PCOD_FLAG_W,CTDFLUOR,CTDFLUOR_FLAG_W,CTDXMISS,CTDXMISS_FLAG_W,HPLC,HPLC_FLAG_W,DNA,DNA_FLAG_W,FCM,FCM_FLAG_W
,,,,,,,,,,,METERS,DBAR,,ITS-90,,PSS-78,,PSS-78,,UMOL/KG,,UMOL/KG,,UMOL/KG,,UMOL/KG,,UMOL/KG,,UMOL/KG,,PMOL/KG,,PMOL/KG,,FMOL/KG,,UMOL/KG,,UMOL/KG,,,,DEG C,,/MILLE,,/MILLE,,UMOL/KG,,UMOL/KG,,NMOL/KG,,,,,,ITS-90,,UG/L,,UG/L,,UG/L,,UG/L,,VOLTS,,VOLTS,,,,,,,
33RR20220430,        P02,      63,          1,          3,          3,2,20220523,       0904,    29.9994,   168.5663,       5861,  5300.7,2,   1.4853,2,  34.6945,2,  34.6946,2,    171.3,2,   171.3,2,  136.62,2,   34.34,2,    0.00,2,    2.39,2,   0.007,2,   0.000,2,   0.0000,2,  2305.1,2,  2402.7,2,   7.5944,2,    25.01,2, -999.00,9,  -999.0,9, -999.00,1, -999.00,1,       19.9,2, 20220523,      917,  29.9994, 168.5662,     1.4854,2,     -999.0,9,     -999.0,9,     -999.0,9,     -999.0,9,     0.0122,1,     4.7076,1,     -999.0,9,     -999.0,9,     -999.0,9
33RR20220430,        P02,      63,          1,          2,          2,2,20220523,       0904,    29.9994,   168.5663,       5861,  5716.9,2,   1.5126,2,  34.6963,2,  34.6963,2,    175.6,2,   176.1,2,  134.08,2,   34.09,2,    0.00,2,    2.36,2,   0.007,2,   0.000,2,   0.0000,2,  2300.9,2,  2398.8,2,   7.5973,2,    25.01,2, -999.00,9,  -999.0,9, -999.00,1, -999.00,1,       19.6,2, 20220523,      909,  29.9994, 168.5662,     1.5128,2,     -999.0,9,     -999.0,9,     -999.0,9,     -999.0,9,     0.0125,1,     4.7057,1,     -999.0,9,     -999.0,9,     -999.0,9
33RR20220430,        P02,      63,          1,          1,          1,2,20220523,       0904,    29.9994,   168.5663,       5861,  5967.9,2,   1.5414,2,  34.6969,2,  34.6975,2,    176.7,2,   176.5,2,  132.81,2,   34.15,2,    0.00,2,    2.35,2,   0.010,2,   0.000,2,   0.0000,2,  2300.7,2,  2397.5,2,   7.5989,2,    25.00,2, -999.00,9,  -999.0,9, -999.00,1, -999.00,1,       19.8,2, 20220523,      904,  29.9995, 168.5662,     1.5415,2,     -999.0,9,     -999.0,9,     -999.0,9,     -999.0,9,     0.0122,1,     4.7021,1,     -999.0,9,     -999.0,9,     -999.0,9