BOTTLE,20230801CCHSIOCBG
EXPOCODE,SECT_ID,STNNBR,CASTNO,SAMPNO,BTLNBR,BTLNBR_FLAG_W,DATE,TIME,LATITUDE,LONGITUDE,DEPTH,CTDPRS,CTDPRS_FLAG_W,CTDTMP,CTDTMP_FLAG_W,CTDSAL,CTDSAL_FLAG_W,SALNTY,SALNTY_FLAG_W,CTDOXY,CTDOXY_FLAG_W,OXYGEN,OXYGEN_FLAG_W,SILCAT,SILCAT_FLAG_W,NITRAT,NITRAT_FLAG_W,NITRIT,NITRIT_FLAG_W,PHSPHT,PHSPHT_FLAG_W,CFC-11,CFC-11_FLAG_W,CFC-12,CFC-12_FLAG_W,SF6,SF6_FLAG_W,TCARBN,TCARBN_FLAG_W,ALKALI,ALKALI_FLAG_W,PH_TOT,PH_TOT_FLAG_W,PH_TMP,PH_TMP_FLAG_W,DELC13,DELC13_FLAG_W,DELC14,DELC14_FLAG_W,DOC,DOC_FLAG_W,TDN,TDN_FLAG_W,N2O,N2O_FLAG_W,BTL_DATE,BTL_TIME,BTL_LAT,BTL_LON,REFTMP,REFTMP_FLAG_W,POC,POC_FLAG_W,PON,PON_FLAG_W,POP,POP_FLAG_W,PCOD,PCOD_FLAG_W,CTDFLUOR,CTDFLUOR_FLAG_W,CTDXMISS,CTDXMISS_FLAG_W,HPLC,HPLC_FLAG_W,DNA,DNA_FLAG_W,FCM,FCM_FLAG_W
,,,,,,,,,,,METERS,DBAR,,ITS-90,,PSS-78,,PSS-78,,UMOL/KG,,UMOL/KG,,UMOL/KG,,UMOL/KG,,UMOL/KG,,UMOL/KG,,PMOL/KG,,PMOL/KG,,FMOL/KG,,UMOL/KG,,UMOL/KG,,,,DEG C,,/MILLE,,/MILLE,,UMOL/KG,,UMOL/KG,,NMOL/KG,,,,,,ITS-90,,UG/L,,UG/L,,UG/L,,UG/L,,VOLTS,,VOLTS,,,,,,,
33RR20220430,        P02,      40,          3,         36,         36,2,20220515,       2303,    29.9994,   154.6193,       5788,     6.6,2,  21.4463,2,  34.5786,2,  34.5791,2,    230.6,3,   226.5,2,    0.98,2,    0.03,2,    0.00,2,    0.01,2,   1.972,2,   1.188,2,   2.0443,2,  2006.5,2,  2271.7,2,   7.9923,2,    24.97,2, -999.00,9,  -999.0,9, -999.00,1, -999.00,1,        6.6,2, 20220516,      118,  29.9994, 154.6193,    21.3844,2,     -999.0,9,     -999.0,9,     -999.0,9,     -999.0,9,     0.0135,1,     4.6323,1,     -999.0,9,     -999.0,9,     -999.0,9
33RR20220430,        P02,      40,          3,         35,         35,2,20220515,       2303,    29.9994,   154.6193,       5788,    36.2,2,  18.8590,2,  34.7485,2,  34.7465,2,    245.8,2,   244.8,2,    1.47,2,    0.03,2,    0.00,2,    0.00,2,   2.111,2,   1.304,2,   2.2281,2,  2013.8,2,  2282.8,2,   7.9956,2,    25.00,2, -999.00,9,  -999.0,9, -999.00,1, -999.00,1,        7.4,2, 20220516,      116,  29.9994, 154.6193,    18.8277,2,     -999.0,9,     -999.0,9,     -999.0,9,     -999.0,9,     0.0146,1,     4.6387,1,     -999.0,9,     -999.0,9,     -999.0,9
33RR20220430,        P02,      40,          3,         34,         34,2,20220515,       2303,    29.9994,   154.6193,       5788,    61.7,2,  17.4358,2,  34.6867,2,  34.6824,2,    245.1,2,   246.8,2,    2.25,2,    0.04,2,    0.02,2,    0.03,2,   2.213,2,   1.382,2,   2.3432,2,  2019.2,2,  2278.4,2,   7.9794,2,    24.99,2, -999.00,9,  -999.0,9, -999.00,1, -999.00,1,        7.9,2, 20220516,      114,  29.9994, 154.6193,    17.4403,2,     -999.0,9,     -999.0,9,     -999.0,9,     -999.0,9,     0.0362,1,     4.6130,1,     -999.0,9,     -999.0,9,     -999.0,9
33RR20220430,        P02,      40,          3,         33,         33,2,20220515,       2303,    29.9994,   154.6193,       5788,    87.0,2,  16.7433,2,  34.6969,2,  34.6920,2,    226.8,2,   226.7,2,    2.83,2,    3.03,2,    0.20,2,    0.20,2,   2.203,2,   1.368,2,   2.2017,2,  2038.4,2,  2277.1,2,   7.9435,2,    25.00,2, -999.00,9,  -999.0,9, -999.00,1, -999.00,1,        9.1,2, 20220516,      112,  29.9994, 154.6193,    16.7427,2,     -999.0,9,     -999.0,9,     -999.0,9,     -999.0,9,     0.0378,1,     4.6488,1,     -999.0,9,     -999.0,9,     -999.0,9
33RR20220430,        P02,      40,          3,         32,         32,2,20220515,       2303,    29.9994,   154.6193,       5788,   116.5,2,  16.5222,2,  34.6947,2,  34.6893,2,    215.8,2,   216.0,2,    3.52,2,    4.63,2,    0.03,2,    0.29,2,   2.188,2,   1.379,2,   1.9585,2,  2044.0,2,  2277.9,2,   7.9245,2,    25.00,2, -999.00,9,  -999.0,9, -999.00,1, -999.00,1,        9.6,2, 20220516,      110,  29.9994, 154.6193,    16.5212,2,     -999.0,9,     -999.0,9,     -999.0,9,     -999.0,9,     0.0184,1,     4.6788,1,     -999.0,9,     -999.0,9,     -999.0,9
33RR20220430,        P02,      40,          3,         31,         31,2,20220515,       2303,    29.9994,   154.6193,       5788,   166.4,2,  16.2001,2,  34.6791,2,  34.6736,2,    218.6,2,   218.8,2,    4.10,2,    4.86,2,    0.01,2,    0.30,2,   2.269,2,   1.375,2,   2.0753,2,  2049.2,2,  2277.7,2,   7.9223,2,    25.02,2, -999.00,9,  -999.0,9, -999.00,1, -999.00,1,       10.0,2, 20220516,      108,  29.9995, 154.6193,    16.2000,2,     -999.0,9,     -999.0,9,     -999.0,9,     -999.0,9,     0.0147,1,     4.6813,1,     -999.0,9,     -999.0,9,     -999.0,9
33RR20220430,        P02,      40,          3,         30,         30,2,20220515,       2303,    29.9994,   154.6193,       5788,   217.1,2,  15.7472,2,  34.6542,2,  34.6490,2,    222.3,2,   223.6,2,    4.69,2,    5.10,2,    0.00,2,    0.33,2,   2.279,2,   1.399,2,   2.1947,2,  2047.6,2,  2277.9,2,   7.9173,2,    25.02,2, -999.00,9,  -999.0,9, -999.00,1, -999.00,1,        9.8,2, 20220516,      106,  29.9995, 154.6193,    15.7461,2,     -999.0,9,     -999.0,9,     -999.0,9,     -999.0,9,     0.0122,1,     4.6852,1,     -999.0,9,     -999.0,9,     -999.0,9
33RR20220430,        P02,      40,          3,         29,         29,2,20220515,       2303,    29.9994,   154.6193,       5788,   267.7,2,  14.9124,2,  34.5736,2,  34.5681,2,    193.1,3,   191.1,2,    9.77,2,    9.56,2,    0.00,2,    0.63,2,   2.329,6,   1.421,6,   1.7476,6,  2081.8,2,  2276.9,2,   7.8497,2,    25.00,2, -999.00,9,  -999.0,9, -999.00,1, -999.00,1,       13.1,6, 20220516,      104,  29.9994, 154.6193,    14.9124,2,     -999.0,9,     -999.0,9,     -999.0,9,     -999.0,9,     0.0122,1,     4.6888,1,     -999.0,9,     -999.0,9,     -999.0,9
33RR20220430,        P02,      40,          3,         28,         28,2,20220515,       2303,    29.9994,   154.6193,       5788,   317.9,2,  13.8230,2,  34.4897,2,  34.4807,2,    186.2,2,   186.0,2,   13.29,2,   11.88,2,    0.00,2,    0.80,2,   2.379,2,   1.389,2,   1.7117,2,  -999.0,9,  -999.0,9,-999.0000,9,  -999.00,9, -999.00,9,  -999.0,9, -999.00,1, -999.00,1,       14.8,2, 20220516,      102,  29.9994, 154.6193,    13.8211,2,     -999.0,9,     -999.0,9,     -999.0,9,     -999.0,9,     0.0122,1,     4.6922,1,     -999.0,9,     -999.0,9,     -999.0,9
33RR20220430,        P02,      40,          3,         27,         27,2,20220515,       2303,    29.9994,   154.6193,       5788,   368.4,2,  12.5494,2,  34.3948,2,  34.3976,2,    185.3,2,   185.5,2,   16.81,2,   13.76,2,    0.00,2,    0.92,2,   2.432,2,   1.428,2,   1.6411,2,  2109.7,2,  2274.4,2,   7.7797,2,    24.99,2, -999.00,9,  -999.0,9, -999.00,1, -999.00,1,       16.3,2, 20220516,      101,  29.9994, 154.6193,    12.5779,2,     -999.0,9,     -999.0,9,     -999.0,9,     -999.0,9,     0.0128,1,     4.6944,1,     -999.0,9,     -999.0,9,     -999.0,9
33RR20220430,        P02,      40,          3,         26,         26,2,20220515,       2303,    29.9994,   154.6193,       5788,   439.3,2,  10.6699,2,  34.2554,2,  34.2505,2,    180.2,2,   181.5,2,   24.33,2,   17.43,2,    0.00,2,    1.19,2,   2.396,2,   1.556,2,   1.6180,2,  2137.0,2,  2274.4,2,   7.7200,2,    25.01,2, -999.00,9,  -999.0,9, -999.00,1, -999.00,1,       19.1,2, 20220516,       58,  29.9994, 154.6193,    10.6679,2,     -999.0,9,     -999.0,9,     -999.0,9,     -999.0,9,     0.0122,1,     4.6983,1,     -999.0,9,     -999.0,9,     -999.0,9
33RR20220430,        P02,      40,          3,         25,         25,2,20220515,       2303,    29.9994,   154.6193,       5788,   540.3,2,   7.5205,2,  34.0243,2,  34.0176,2,    167.3,2,   167.3,2,   42.51,2,   24.63,2,    0.00,2,    1.73,2,   2.635,2,   1.500,2,   1.5322,2,  2186.3,2,  2279.0,2,   7.6002,2,    24.99,2, -999.00,9,  -999.0,9, -999.00,1, -999.00,1,       24.5,2, 20220516,       56,  29.9994, 154.6193,     7.5203,2,     -999.0,9,     -999.0,9,     -999.0,9,     -999.0,9,     0.0122,1,     4.7017,1,     -999.0,9,     -999.0,9,     -999.0,9
33RR20220430,        P02,      40,          3,         24,         24,2,20220515,       2303,    29.9994,   154.6193,       5788,   641.8,2,   5.3876,2,  33.9836,2,  33.9829,2,    123.5,3,   122.4,2,   67.44,2,   32.42,2,    0.00,2,    2.31,2,   2.133,2,   1.212,2,   1.1765,2,  -999.0,9,  -999.0,9,-999.0000,9,  -999.00,9, -999.00,9,  -999.0,9, -999.00,9, -999.00,9,       32.8,2, 20220516,       53,  29.9994, 154.6192,     5.3874,2,     -999.0,9,     -999.0,9,     -999.0,9,     -999.0,9,     0.0129,1,     4.7031,1,     -999.0,9,     -999.0,9,     -999.0,9
33RR20220430,        P02,      40,          3,         23,         23,2,20220515,       2303,    29.9994,   154.6193,       5788,   741.8,2,   4.6652,2,  34.1246,2,  34.1225,2,     73.5,2,    73.7,2,   89.81,2,   37.78,2,    0.00,2,    2.66,2,   1.333,2,   0.776,2,   0.5629,2,  2296.2,2,  2318.4,2,   7.3605,2,    24.99,2, -999.00,9,  -999.0,9, -999.00,1, -999.00,1,       40.5,2, 20220516,       51,  29.9994, 154.6192,     4.6704,2,     -999.0,9,     -999.0,9,     -999.0,9,     -999.0,9,     0.0134,1,     4.7020,1,     -999.0,9,     -999.0,9,     -999.0,9
33RR20220430,        P02,      40,          3,         22,         22,2,20220515,       2303,    29.9994,   154.6193,       5788,   842.4,2,   4.2036,2,  34.2035,2,  34.2042,2,     54.9,2,    55.1,2,  103.68,2,   39.90,2,    0.00,2,    2.81,2,   0.875,2,   0.498,2,   0.3449,2,  -999.0,9,  -999.0,9,-999.0000,9,  -999.00,9, -999.00,9,  -999.0,9, -999.00,9, -999.00,9,       43.9,2, 20220516,       48,  29.9994, 154.6193,     4.2092,2,     -999.0,9,     -999.0,9,     -999.0,9,     -999.0,9,     0.0134,1,     4.7022,1,     -999.0,9,     -999.0,9,     -999.0,9
33RR20220430,        P02,      40,          3,         21,         21,2,20220515,       2303,    29.9994,   154.6193,       5788,   943.2,2,   3.7146,2,  34.2792,2,  34.2789,2,     38.5,2,    38.6,2,  116.67,2,   41.78,2,    0.00,2,    2.94,2,   0.427,2,   0.245,2,   0.0000,2,  2344.2,2,  2351.3,2,   7.3394,2,    25.01,2, -999.00,9,  -999.0,9, -999.00,1, -999.00,1,       47.9,2, 20220516,       46,  29.9994, 154.6193,     3.7170,2,     -999.0,9,     -999.0,9,     -999.0,9,     -999.0,9,     0.0134,1,     4.7042,1,     -999.0,9,     -999.0,9,     -999.0,9
33RR20220430,        P02,      40,          3,         20,         20,2,20220515,       2303,    29.9994,   154.6193,       5788,  1048.8,2,   3.3291,2,  34.3563,2,  34.3560,2,     32.6,3,    33.3,2,  127.90,2,   42.76,2,    0.00,2,    3.01,2,   0.186,2,   0.107,2,   0.0000,2,  2359.6,2,  2366.9,2,   7.3370,2,    24.98,2, -999.00,9,  -999.0,9, -999.00,1, -999.00,1,       48.9,2, 20220516,       43,  29.9995, 154.6193,     3.3274,2,     -999.0,9,     -999.0,9,     -999.0,9,     -999.0,9,     0.0134,1,     4.7056,1,     -999.0,9,     -999.0,9,     -999.0,9
33RR20220430,        P02,      40,          3,         19,         19,2,20220515,       2303,    29.9994,   154.6193,       5788,  1146.4,2,   3.1685,2,  34.3921,2,  34.3912,2,     32.4,2,    32.2,2,  132.59,2,   42.98,2,    0.00,2,    3.04,2,   0.118,2,   0.069,2,   0.0000,2,  2366.2,2,  2374.1,2,   7.3397,2,    25.00,2, -999.00,9,  -999.0,9, -999.00,1, -999.00,1,       49.0,2, 20220516,       40,  29.9994, 154.6193,     3.1684,2,     -999.0,9,     -999.0,9,     -999.0,9,     -999.0,9,     0.0134,1,     4.7050,1,     -999.0,9,     -999.0,9,     -999.0,9
33RR20220430,        P02,      40,          3,         18,         18,2,20220515,       2303,    29.9994,   154.6193,       5788,  1247.1,2,   2.9069,2,  34.4275,2,  34.4283,2,     32.8,2,    32.8,2,  140.79,2,   43.13,2,    0.00,2,    3.05,2,   0.092,2,   0.051,2,   0.0000,2,  2372.9,2,  2381.2,2,   7.3394,2,    25.01,2, -999.00,9,  -999.0,9, -999.00,9, -999.00,9,       48.1,2, 20220516,       37,  29.9994, 154.6192,     2.9060,2,     -999.0,9,     -999.0,9,     -999.0,9,     -999.0,9,     0.0134,1,     4.7051,1,     -999.0,9,     -999.0,9,     -999.0,9
33RR20220430,        P02,      40,          3,         17,         17,2,20220515,       2303,    29.9994,   154.6193,       5788,  1353.8,2,   2.6518,2,  34.4691,2,  34.4708,2,     35.7,2,    35.9,2,  148.21,2,   43.11,2,    0.00,2,    3.03,2,   0.057,2,   0.033,2,   0.0000,2,  2378.6,2,  2390.1,2,   7.3502,2,    25.02,2, -999.00,9,  -999.0,9, -999.00,1, -999.00,1,       46.4,2, 20220516,       35,  29.9995, 154.6193,     2.6522,2,     -999.0,9,     -999.0,9,     -999.0,9,     -999.0,9,     0.0134,1,     4.7055,1,     -999.0,9,     -999.0,9,     -999.0,9
33RR20220430,        P02,      40,          3,         16,         16,2,20220515,       2303,    29.9994,   154.6193,       5788,  1485.3,2,   2.4577,2,  34.5063,2,  34.5076,2,     42.0,2,    42.2,2,  153.00,2,   42.86,2,    0.00,2,    3.00,2,   0.028,2,   0.017,2,   0.0000,2,  -999.0,9,  -999.0,9,-999.0000,9,  -999.00,9, -999.00,9,  -999.0,9, -999.00,9, -999.00,9,       43.7,2, 20220516,       32,  29.9994, 154.6193,     2.4570,2,     -999.0,9,     -999.0,9,     -999.0,9,     -999.0,9,     0.0134,1,     4.7063,1,     -999.0,9,     -999.0,9,     -999.0,9
33RR20220430,        P02,      40,          3,         15,         15,2,20220515,       2303,    29.9994,   154.6193,       5788,  1687.3,2,   2.1849,2,  34.5541,2,  34.5539,2,     56.0,2,    56.2,2,  157.97,2,   42.17,2,    0.00,2,    2.93,2,   0.013,2,   0.007,2,   0.0000,2,  2378.5,2,  2405.6,2,   7.3944,2,    25.02,2, -999.00,9,  -999.0,9, -999.00,1, -999.00,1,       39.2,2, 20220516,       27,  29.9995, 154.6193,     2.1850,2,     -999.0,9,     -999.0,9,     -999.0,9,     -999.0,9,     0.0134,1,     4.7069,1,     -999.0,9,     -999.0,9,     -999.0,9
33RR20220430,        P02,      40,          3,         14,         14,2,20220515,       2303,    29.9994,   154.6193,       5788,  1890.7,2,   1.9824,2,  34.5882,2,  34.5881,2,     71.7,2,    71.5,2,  160.51,2,   41.43,2,    0.00,2,    2.87,2,   0.007,2,   0.000,2,   0.0000,2,  -999.0,9,  -999.0,9,-999.0000,9,  -999.00,9, -999.00,9,  -999.0,9, -999.00,9, -999.00,9,       35.8,2, 20220516,       23,  29.9995, 154.6193,     1.9826,2,     -999.0,9,     -999.0,9,     -999.0,9,     -999.0,9,     0.0134,1,     4.7072,1,     -999.0,9,     -999.0,9,     -999.0,9
33RR20220430,        P02,      40,          3,         13,         13,2,20220515,       2303,    29.9994,   154.6193,       5788,  2114.6,2,   1.8312,2,  34.6133,2,  34.6134,2,     86.9,2,    86.9,2,  160.80,2,   40.39,2,    0.00,2,    2.79,2,   0.005,2,   0.000,2,   0.0000,2,  2365.3,2,  2413.1,2,   7.4547,2,    25.01,2, -999.00,9,  -999.0,9, -999.00,1, -999.00,1,       32.4,2, 20220516,       18,  29.9994, 154.6193,     1.8309,2,     -999.0,9,     -999.0,9,     -999.0,9,     -999.0,9,     0.0134,1,     4.7078,1,     -999.0,9,     -999.0,9,     -999.0,9
33RR20220430,        P02,      40,          3,         12,         12,2,20220515,       2303,    29.9994,   154.6193,       5788,  2367.3,2,   1.6920,2,  34.6364,2,  34.6364,2,    105.3,2,   104.9,2,  158.45,2,   39.15,2,    0.00,2,    2.71,2,-999.000,9,-999.000,9,-999.0000,9,  -999.0,9,  -999.0,9,-999.0000,9,  -999.00,9, -999.00,9,  -999.0,9, -999.00,9, -999.00,9,     -999.0,9, 20220516,       13,  29.9995, 154.6193,     1.6917,2,     -999.0,9,     -999.0,9,     -999.0,9,     -999.0,9,     0.0132,1,     4.7081,1,     -999.0,9,     -999.0,9,     -999.0,9
33RR20220430,        P02,      40,          3,         11,         11,2,20220515,       2303,    29.9994,   154.6193,       5788,  2570.5,2,   1.6238,2,  34.6482,2,  34.6484,2,    115.7,2,   116.2,2,  156.40,2,   38.43,2,    0.00,2,    2.66,2,   0.006,2,   0.000,2,   0.0000,2,  2349.0,2,  2415.3,2,   7.5112,2,    25.01,2, -999.00,9,  -999.0,9, -999.00,1, -999.00,1,       28.0,2, 20220516,        9,  29.9995, 154.6193,     1.6236,2,     -999.0,9,     -999.0,9,     -999.0,9,     -999.0,9,     0.0122,1,     4.7085,1,     -999.0,9,     -999.0,9,     -999.0,9
33RR20220430,        P02,      40,          3,         10,         10,2,20220515,       2303,    29.9994,   154.6193,       5788,  2877.3,2,   1.5512,2,  34.6605,2,  34.6608,2,    127.1,2,   127.1,2,  154.44,2,   37.76,2,    0.00,2,    2.59,2,-999.000,9,-999.000,9,-999.0000,9,  -999.0,9,  -999.0,9,-999.0000,9,  -999.00,9, -999.00,9,  -999.0,9, -999.00,9, -999.00,9,     -999.0,9, 20220516,        3,  29.9995, 154.6193,     1.5511,2,     -999.0,9,     -999.0,9,     -999.0,9,     -999.0,9,     0.0124,1,     4.7083,1,     -999.0,9,     -999.0,9,     -999.0,9
33RR20220430,        P02,      40,          3,          9,          9,2,20220515,       2303,    29.9994,   154.6193,       5788,  3146.4,2,   1.5106,2,  34.6677,2,  34.6669,2,    134.3,2,   134.5,2,  152.68,2,   37.27,2,    0.00,2,    2.55,2,   0.004,2,   0.000,2,   0.0000,2,  2336.5,2,  2416.5,2,   7.5426,2,    25.02,2, -999.00,9,  -999.0,9, -999.00,1, -999.00,1,       25.6,2, 20220515,     2357,  29.9994, 154.6193,     1.5105,2,     -999.0,9,     -999.0,9,     -999.0,9,     -999.0,9,     0.0122,1,     4.7086,1,     -999.0,9,     -999.0,9,     -999.0,9
33RR20220430,        P02,      40,          3,          8,          8,2,20220515,       2303,    29.9994,   154.6193,       5788,  3453.4,2,   1.4751,2,  34.6751,2,  34.6749,2,    142.4,2,   142.3,2,  151.32,2,   36.75,2,    0.00,2,    2.50,2,-999.000,9,-999.000,9,-999.0000,9,  -999.0,9,  -999.0,9,-999.0000,9,  -999.00,9, -999.00,9,  -999.0,9, -999.00,9, -999.00,9,     -999.0,9, 20220515,     2351,  29.9994, 154.6192,     1.4755,2,     -999.0,9,     -999.0,9,     -999.0,9,     -999.0,9,     0.0122,1,     4.7084,1,     -999.0,9,     -999.0,9,     -999.0,9
33RR20220430,        P02,      40,          3,          7,          7,2,20220515,       2303,    29.9994,   154.6193,       5788,  3759.5,2,   1.4571,2,  34.6800,2,  34.6791,2,    148.2,2,   148.3,2,  149.85,2,   36.34,2,    0.00,2,    2.48,2,   0.004,2,   0.000,2,   0.0000,2,  2325.9,2,  2415.8,2,   7.5678,2,    25.00,2, -999.00,9,  -999.0,9, -999.00,1, -999.00,1,       24.2,2, 20220515,     2345,  29.9994, 154.6193,     1.4570,2,     -999.0,9,     -999.0,9,     -999.0,9,     -999.0,9,     0.0122,1,     4.7091,1,     -999.0,9,     -999.0,9,     -999.0,9
33RR20220430,        P02,      40,          3,          6,          6,2,20220515,       2303,    29.9994,   154.6193,       5788,  4065.9,2,   1.4499,2,  34.6840,2,  34.6834,2,    153.0,2,   153.2,2,  148.97,2,   35.95,2,    0.00,2,    2.45,2,-999.000,9,-999.000,9,-999.0000,9,  -999.0,9,  -999.0,9,-999.0000,9,  -999.00,9, -999.00,9,  -999.0,9, -999.00,9, -999.00,9,     -999.0,9, 20220515,     2339,  29.9995, 154.6193,     1.4499,2,     -999.0,9,     -999.0,9,     -999.0,9,     -999.0,9,     0.0122,1,     4.7082,1,     -999.0,9,     -999.0,9,     -999.0,9
33RR20220430,        P02,      40,          3,          5,          5,2,20220515,       2303,    29.9994,   154.6193,       5788,  4512.2,2,   1.4617,2,  34.6879,2,  34.6871,2,    159.4,2,   159.5,2,  145.55,2,   35.49,2,    0.00,2,    2.41,2,   0.005,2,   0.000,2,   0.0000,2,  2319.1,2,  2413.2,2,   7.5833,2,    25.02,2, -999.00,9,  -999.0,9, -999.00,1, -999.00,1,       23.4,2, 20220515,     2331,  29.9994, 154.6193,     1.4617,2,     -999.0,9,     -999.0,9,     -999.0,9,     -999.0,9,     0.0122,1,     4.7090,1,     -999.0,9,     -999.0,9,     -999.0,9
33RR20220430,        P02,      40,          3,          4,          4,2,20220515,       2303,    29.9994,   154.6193,       5788,  4680.6,2,   1.4706,2,  34.6890,2,  34.6885,2,    161.1,2,   161.1,2,  143.89,2,   35.34,2,    0.00,2,    2.40,2,-999.000,9,-999.000,9,-999.0000,9,  2314.6,2,  2411.7,2,   7.5853,2,    25.02,2, -999.00,9,  -999.0,9, -999.00,9, -999.00,9,     -999.0,9, 20220515,     2327,  29.9995, 154.6193,     1.4707,2,     -999.0,9,     -999.0,9,     -999.0,9,     -999.0,9,     0.0122,1,     4.7085,1,     -999.0,9,     -999.0,9,     -999.0,9