BOTTLE,20230801CCHSIOCBG
EXPOCODE,SECT_ID,STNNBR,CASTNO,SAMPNO,BTLNBR,BTLNBR_FLAG_W,DATE,TIME,LATITUDE,LONGITUDE,DEPTH,CTDPRS,CTDPRS_FLAG_W,CTDTMP,CTDTMP_FLAG_W,CTDSAL,CTDSAL_FLAG_W,SALNTY,SALNTY_FLAG_W,CTDOXY,CTDOXY_FLAG_W,OXYGEN,OXYGEN_FLAG_W,SILCAT,SILCAT_FLAG_W,NITRAT,NITRAT_FLAG_W,NITRIT,NITRIT_FLAG_W,PHSPHT,PHSPHT_FLAG_W,CFC-11,CFC-11_FLAG_W,CFC-12,CFC-12_FLAG_W,SF6,SF6_FLAG_W,TCARBN,TCARBN_FLAG_W,ALKALI,ALKALI_FLAG_W,PH_TOT,PH_TOT_FLAG_W,PH_TMP,PH_TMP_FLAG_W,DELC13,DELC13_FLAG_W,DELC14,DELC14_FLAG_W,DOC,DOC_FLAG_W,TDN,TDN_FLAG_W,N2O,N2O_FLAG_W,BTL_DATE,BTL_TIME,BTL_LAT,BTL_LON,REFTMP,REFTMP_FLAG_W,POC,POC_FLAG_W,PON,PON_FLAG_W,POP,POP_FLAG_W,PCOD,PCOD_FLAG_W,CTDFLUOR,CTDFLUOR_FLAG_W,CTDXMISS,CTDXMISS_FLAG_W,HPLC,HPLC_FLAG_W,DNA,DNA_FLAG_W,FCM,FCM_FLAG_W
,,,,,,,,,,,METERS,DBAR,,ITS-90,,PSS-78,,PSS-78,,UMOL/KG,,UMOL/KG,,UMOL/KG,,UMOL/KG,,UMOL/KG,,UMOL/KG,,PMOL/KG,,PMOL/KG,,FMOL/KG,,UMOL/KG,,UMOL/KG,,,,DEG C,,/MILLE,,/MILLE,,UMOL/KG,,UMOL/KG,,NMOL/KG,,,,,,ITS-90,,UG/L,,UG/L,,UG/L,,UG/L,,VOLTS,,VOLTS,,,,,,,
33RR20220430,        P02,      81,          1,          3,          3,2,20220528,       1619,    30.0000,   178.0167,       5338,  4915.6,2,   1.4832,2,  34.6898,2,  34.6895,2,    162.6,2,   162.5,2,  145.43,2,   35.10,2,    0.00,2,    2.43,2,-999.000,9,-999.000,9,-999.0000,9,  -999.0,9,  -999.0,9,-999.0000,9,  -999.00,9, -999.00,9,  -999.0,9, -999.00,9, -999.00,9,     -999.0,9, 20220528,     1630,  30.0000, 178.0167,     1.4829,2,     -999.0,9,     -999.0,9,     -999.0,9,     -999.0,9,     0.0122,1,     4.6988,1,     -999.0,9,     -999.0,9,     -999.0,9
33RR20220430,        P02,      81,          1,          2,          2,2,20220528,       1619,    30.0000,   178.0167,       5338,  5197.0,2,   1.4957,2,  34.6917,2,  34.6906,2,    166.6,2,   166.8,2,  142.40,2,   34.82,2,    0.00,2,    2.42,2,-999.000,9,-999.000,9,-999.0000,9,  2311.0,6,  2408.9,2,   7.5926,2,    25.00,2, -999.00,9,  -999.0,9, -999.00,9, -999.00,9,     -999.0,9, 20220528,     1624,  30.0000, 178.0167,     1.4958,2,     -999.0,9,     -999.0,9,     -999.0,9,     -999.0,9,     0.0122,1,     4.6983,1,     -999.0,9,     -999.0,9,     -999.0,9
33RR20220430,        P02,      81,          1,          1,          1,2,20220528,       1619,    30.0000,   178.0167,       5338,  5432.5,2,   1.5178,2,  34.6925,2,  34.6942,2,    168.1,2,   168.2,2,  139.86,2,   34.68,2,    0.00,2,    2.40,2,   0.010,2,   0.000,2,   0.0000,2,  2308.4,2,  2371.4,2,   7.5945,2,    25.01,2, -999.00,9,  -999.0,9, -999.00,9, -999.00,9,       21.0,2, 20220528,     1619,  30.0000, 178.0167,     1.5178,2,     -999.0,9,     -999.0,9,     -999.0,9,     -999.0,9,     0.0122,1,     4.6969,1,     -999.0,9,     -999.0,9,     -999.0,9