BOTTLE,20230801CCHSIOCBG
EXPOCODE,SECT_ID,STNNBR,CASTNO,SAMPNO,BTLNBR,BTLNBR_FLAG_W,DATE,TIME,LATITUDE,LONGITUDE,DEPTH,CTDPRS,CTDPRS_FLAG_W,CTDTMP,CTDTMP_FLAG_W,CTDSAL,CTDSAL_FLAG_W,SALNTY,SALNTY_FLAG_W,CTDOXY,CTDOXY_FLAG_W,OXYGEN,OXYGEN_FLAG_W,SILCAT,SILCAT_FLAG_W,NITRAT,NITRAT_FLAG_W,NITRIT,NITRIT_FLAG_W,PHSPHT,PHSPHT_FLAG_W,CFC-11,CFC-11_FLAG_W,CFC-12,CFC-12_FLAG_W,SF6,SF6_FLAG_W,TCARBN,TCARBN_FLAG_W,ALKALI,ALKALI_FLAG_W,PH_TOT,PH_TOT_FLAG_W,PH_TMP,PH_TMP_FLAG_W,DELC13,DELC13_FLAG_W,DELC14,DELC14_FLAG_W,DOC,DOC_FLAG_W,TDN,TDN_FLAG_W,N2O,N2O_FLAG_W,BTL_DATE,BTL_TIME,BTL_LAT,BTL_LON,REFTMP,REFTMP_FLAG_W,POC,POC_FLAG_W,PON,PON_FLAG_W,POP,POP_FLAG_W,PCOD,PCOD_FLAG_W,CTDFLUOR,CTDFLUOR_FLAG_W,CTDXMISS,CTDXMISS_FLAG_W,HPLC,HPLC_FLAG_W,DNA,DNA_FLAG_W,FCM,FCM_FLAG_W
,,,,,,,,,,,METERS,DBAR,,ITS-90,,PSS-78,,PSS-78,,UMOL/KG,,UMOL/KG,,UMOL/KG,,UMOL/KG,,UMOL/KG,,UMOL/KG,,PMOL/KG,,PMOL/KG,,FMOL/KG,,UMOL/KG,,UMOL/KG,,,,DEG C,,/MILLE,,/MILLE,,UMOL/KG,,UMOL/KG,,NMOL/KG,,,,,,ITS-90,,UG/L,,UG/L,,UG/L,,UG/L,,VOLTS,,VOLTS,,,,,,,
33RR20220430,        P02,      14,          1,          3,          3,2,20220507,       1526,    30.0001,   136.4470,       4140,  3542.9,2,   1.5182,2,  34.6791,2,  34.6771,2,    152.0,2,   151.7,2,  143.02,2,   35.98,2,    0.00,2,    2.45,2,   0.008,2,-999.000,5,-999.0000,5,  2322.5,6,  2413.8,2,-999.0000,1,  -999.00,1, -999.00,1,  -999.0,1, -999.00,1, -999.00,1,     -999.0,5, 20220507,     1539,  30.0001, 136.4243,     1.5182,2,     -999.0,9,     -999.0,9,     -999.0,9,     -999.0,9,     0.0122,1,     4.7047,1,     -999.0,9,     -999.0,9,     -999.0,9
33RR20220430,        P02,      14,          1,          2,          2,2,20220507,       1526,    30.0001,   136.4470,       4140,  3884.0,2,   1.5330,2,  34.6814,2,  34.6806,2,    153.9,2,   154.3,2,  141.45,2,   36.00,2,    0.00,2,    2.42,2,-999.000,9,-999.000,9,-999.0000,9,  2320.4,2,  2413.0,2,   7.5764,2,    25.01,2, -999.00,1,  -999.0,1, -999.00,1, -999.00,1,     -999.0,9, 20220507,     1532,  30.0001, 136.4225,     1.5330,2,     -999.0,9,     -999.0,9,     -999.0,9,     -999.0,9,     0.0122,1,     4.7014,1,     -999.0,9,     -999.0,9,     -999.0,9
33RR20220430,        P02,      14,          1,          1,          1,2,20220507,       1526,    30.0001,   136.4470,       4140,  4197.5,2,   1.5542,2,  34.6825,2,  34.6816,2,    155.2,2,   155.1,2,  142.04,2,   35.80,2,    0.00,2,    2.45,2,-999.000,5,-999.000,5,-999.0000,5,  2318.4,2,  2414.8,2,   7.5786,2,    25.00,2, -999.00,1,  -999.0,1, -999.00,1, -999.00,1,       23.1,2, 20220507,     1526,  30.0001, 136.4209,     1.5539,2,     -999.0,9,     -999.0,9,     -999.0,9,     -999.0,9,     0.0129,1,     4.6842,1,     -999.0,9,     -999.0,9,     -999.0,9