BOTTLE,20230801CCHSIOCBG
EXPOCODE,SECT_ID,STNNBR,CASTNO,SAMPNO,BTLNBR,BTLNBR_FLAG_W,DATE,TIME,LATITUDE,LONGITUDE,DEPTH,CTDPRS,CTDPRS_FLAG_W,CTDTMP,CTDTMP_FLAG_W,CTDSAL,CTDSAL_FLAG_W,SALNTY,SALNTY_FLAG_W,CTDOXY,CTDOXY_FLAG_W,OXYGEN,OXYGEN_FLAG_W,SILCAT,SILCAT_FLAG_W,NITRAT,NITRAT_FLAG_W,NITRIT,NITRIT_FLAG_W,PHSPHT,PHSPHT_FLAG_W,CFC-11,CFC-11_FLAG_W,CFC-12,CFC-12_FLAG_W,SF6,SF6_FLAG_W,TCARBN,TCARBN_FLAG_W,ALKALI,ALKALI_FLAG_W,PH_TOT,PH_TOT_FLAG_W,PH_TMP,PH_TMP_FLAG_W,DELC13,DELC13_FLAG_W,DELC14,DELC14_FLAG_W,DOC,DOC_FLAG_W,TDN,TDN_FLAG_W,N2O,N2O_FLAG_W,BTL_DATE,BTL_TIME,BTL_LAT,BTL_LON,REFTMP,REFTMP_FLAG_W,POC,POC_FLAG_W,PON,PON_FLAG_W,POP,POP_FLAG_W,PCOD,PCOD_FLAG_W,CTDFLUOR,CTDFLUOR_FLAG_W,CTDXMISS,CTDXMISS_FLAG_W,HPLC,HPLC_FLAG_W,DNA,DNA_FLAG_W,FCM,FCM_FLAG_W
,,,,,,,,,,,METERS,DBAR,,ITS-90,,PSS-78,,PSS-78,,UMOL/KG,,UMOL/KG,,UMOL/KG,,UMOL/KG,,UMOL/KG,,UMOL/KG,,PMOL/KG,,PMOL/KG,,FMOL/KG,,UMOL/KG,,UMOL/KG,,,,DEG C,,/MILLE,,/MILLE,,UMOL/KG,,UMOL/KG,,NMOL/KG,,,,,,ITS-90,,UG/L,,UG/L,,UG/L,,UG/L,,VOLTS,,VOLTS,,,,,,,
33RR20220430,        P02,      48,          1,          3,          3,2,20220518,       1401,    29.9998,   159.9124,       5689,  4993.0,2,   1.5027,2,  34.6892,2,  34.6895,2,    161.6,2,   161.6,2,  143.99,2,   35.17,2,    0.00,2,    2.44,2,   0.006,2,   0.000,2,   0.0000,2,  2314.1,2,  2410.6,2,-999.0000,1,  -999.00,1, -999.00,9,  -999.0,9, -999.00,9, -999.00,9,       21.1,2, 20220518,     1417,  29.9998, 159.9124,     1.5027,2,     -999.0,9,     -999.0,9,     -999.0,9,     -999.0,9,     0.0122,1,     4.7054,1,     -999.0,9,     -999.0,9,     -999.0,9
33RR20220430,        P02,      48,          1,          2,          2,2,20220518,       1401,    29.9998,   159.9124,       5689,  5404.6,2,   1.5062,2,  34.6933,2,  34.6944,2,    169.9,2,   170.0,2,  136.66,2,   34.59,2,    0.00,2,    2.37,2,-999.000,9,-999.000,9,-999.0000,9,  2306.3,2,  2405.1,2,   7.5953,2,    25.01,2, -999.00,9,  -999.0,9, -999.00,9, -999.00,9,     -999.0,9, 20220518,     1409,  29.9998, 159.9124,     1.5062,2,     -999.0,9,     -999.0,9,     -999.0,9,     -999.0,9,     0.0122,1,     4.7056,1,     -999.0,9,     -999.0,9,     -999.0,9
33RR20220430,        P02,      48,          1,          1,          1,2,20220518,       1401,    29.9998,   159.9124,       5689,  5793.9,2,   1.5464,2,  34.6942,2,  34.6940,2,    171.8,2,   171.9,2,  136.47,2,   34.45,2,    0.00,2,    2.37,2,   0.007,2,   0.000,2,   0.0000,2,  2304.9,2,  2404.1,2,   7.5982,2,    25.00,2, -999.00,9,  -999.0,9, -999.00,9, -999.00,9,       20.8,2, 20220518,     1401,  29.9998, 159.9125,     1.5466,2,     -999.0,9,     -999.0,9,     -999.0,9,     -999.0,9,     0.0122,1,     4.7031,1,     -999.0,9,     -999.0,9,     -999.0,9