BOTTLE,20230801CCHSIOCBG
EXPOCODE,SECT_ID,STNNBR,CASTNO,SAMPNO,BTLNBR,BTLNBR_FLAG_W,DATE,TIME,LATITUDE,LONGITUDE,DEPTH,CTDPRS,CTDPRS_FLAG_W,CTDTMP,CTDTMP_FLAG_W,CTDSAL,CTDSAL_FLAG_W,SALNTY,SALNTY_FLAG_W,CTDOXY,CTDOXY_FLAG_W,OXYGEN,OXYGEN_FLAG_W,SILCAT,SILCAT_FLAG_W,NITRAT,NITRAT_FLAG_W,NITRIT,NITRIT_FLAG_W,PHSPHT,PHSPHT_FLAG_W,CFC-11,CFC-11_FLAG_W,CFC-12,CFC-12_FLAG_W,SF6,SF6_FLAG_W,TCARBN,TCARBN_FLAG_W,ALKALI,ALKALI_FLAG_W,PH_TOT,PH_TOT_FLAG_W,PH_TMP,PH_TMP_FLAG_W,DELC13,DELC13_FLAG_W,DELC14,DELC14_FLAG_W,DOC,DOC_FLAG_W,TDN,TDN_FLAG_W,N2O,N2O_FLAG_W,BTL_DATE,BTL_TIME,BTL_LAT,BTL_LON,REFTMP,REFTMP_FLAG_W,POC,POC_FLAG_W,PON,PON_FLAG_W,POP,POP_FLAG_W,PCOD,PCOD_FLAG_W,CTDFLUOR,CTDFLUOR_FLAG_W,CTDXMISS,CTDXMISS_FLAG_W,HPLC,HPLC_FLAG_W,DNA,DNA_FLAG_W,FCM,FCM_FLAG_W
,,,,,,,,,,,METERS,DBAR,,ITS-90,,PSS-78,,PSS-78,,UMOL/KG,,UMOL/KG,,UMOL/KG,,UMOL/KG,,UMOL/KG,,UMOL/KG,,PMOL/KG,,PMOL/KG,,FMOL/KG,,UMOL/KG,,UMOL/KG,,,,DEG C,,/MILLE,,/MILLE,,UMOL/KG,,UMOL/KG,,NMOL/KG,,,,,,ITS-90,,UG/L,,UG/L,,UG/L,,UG/L,,VOLTS,,VOLTS,,,,,,,
33RR20220430,        P02,      17,          1,         36,         36,2,20220508,       1007,    30.0005,   138.3645,       3660,     5.8,2,  21.4370,2,  34.6865,2,-999.0000,9,    225.6,2,  -999.0,9, -999.00,9, -999.00,9, -999.00,9, -999.00,9,-999.000,9,-999.000,9,-999.0000,9,  -999.0,9,  -999.0,9,-999.0000,9,  -999.00,9, -999.00,9,  -999.0,9, -999.00,9, -999.00,9,     -999.0,9,-999.0000,-999.0000,-999.0000,-999.0000,    21.4228,2,     -999.0,9,     -999.0,9,     -999.0,9,     -999.0,1,     0.0147,1,     4.6379,1,     -999.0,9,     -999.0,9,     -999.0,9
33RR20220430,        P02,      17,          1,         29,         29,2,20220508,       1007,    30.0005,   138.3645,       3660,     6.2,2,  21.5400,2,  34.6917,2,-999.0000,9,    225.6,2,  -999.0,9, -999.00,9, -999.00,9, -999.00,9, -999.00,9,-999.000,9,-999.000,9,-999.0000,9,  -999.0,9,  -999.0,9,-999.0000,9,  -999.00,9, -999.00,9,  -999.0,9, -999.00,9, -999.00,9,     -999.0,9, 20220508,     1137,  30.0005, 138.3645,    21.5287,2,     -999.0,1,     -999.0,1,     -999.0,9,     -999.0,9,     0.0156,1,     4.6377,1,     -999.0,9,     -999.0,9,     -999.0,9
33RR20220430,        P02,      17,          1,         28,         28,2,20220508,       1007,    30.0005,   138.3645,       3660,     6.3,2,  21.5478,2,  34.6873,2,-999.0000,9,    224.6,2,  -999.0,9, -999.00,9, -999.00,9, -999.00,9, -999.00,9,-999.000,9,-999.000,9,-999.0000,9,  -999.0,9,  -999.0,9,-999.0000,9,  -999.00,9, -999.00,9,  -999.0,9, -999.00,9, -999.00,9,     -999.0,9, 20220508,     1136,  30.0005, 138.3645,     -999.0,9,     -999.0,9,     -999.0,9,     -999.0,9,     -999.0,9,     0.0147,1,     4.6370,1,     -999.0,9,     -999.0,1,     -999.0,1
33RR20220430,        P02,      17,          1,         32,         32,2,20220508,       1007,    30.0005,   138.3645,       3660,     6.3,2,  21.5203,2,  34.6856,2,-999.0000,9,    225.6,2,  -999.0,9, -999.00,9, -999.00,9, -999.00,9, -999.00,9,-999.000,9,-999.000,9,-999.0000,9,  -999.0,9,  -999.0,9,-999.0000,9,  -999.00,9, -999.00,9,  -999.0,9, -999.00,9, -999.00,9,     -999.0,9, 20220508,     1137,  30.0005, 138.3645,    21.5374,2,     -999.0,9,     -999.0,9,     -999.0,1,     -999.0,9,     0.0147,1,     4.6386,1,     -999.0,9,     -999.0,9,     -999.0,9
33RR20220430,        P02,      17,          1,         27,         27,2,20220508,       1007,    30.0005,   138.3645,       3660,     6.4,2,  21.4733,2,  34.6880,2,  34.6794,2,    225.8,2,   224.2,2,    0.10,2,    0.01,2,    0.00,2,    0.03,2,-999.000,9,-999.000,9,-999.0000,9,  1999.7,2,  2276.6,2,   8.0121,2,    25.00,2, -999.00,9,  -999.0,9, -999.00,1, -999.00,1,     -999.0,9, 20220508,     1136,  30.0005, 138.3644,    21.4931,2,     -999.0,1,     -999.0,1,     -999.0,9,     -999.0,9,     0.0147,1,     4.6341,1,     -999.0,1,     -999.0,9,     -999.0,9
33RR20220430,        P02,      17,          1,         33,         33,2,20220508,       1007,    30.0005,   138.3645,       3660,     6.4,2,  21.5049,2,  34.6872,2,-999.0000,9,    225.2,2,  -999.0,9, -999.00,9, -999.00,9, -999.00,9, -999.00,9,-999.000,9,-999.000,9,-999.0000,9,  -999.0,9,  -999.0,9,-999.0000,9,  -999.00,9, -999.00,9,  -999.0,9, -999.00,9, -999.00,9,     -999.0,9, 20220508,     1138,  30.0005, 138.3644,     -999.0,9,     -999.0,9,     -999.0,9,     -999.0,1,     -999.0,9,     0.0150,1,     4.6378,1,     -999.0,9,     -999.0,9,     -999.0,9
33RR20220430,        P02,      17,          1,         34,         34,2,20220508,       1007,    30.0005,   138.3645,       3660,     6.4,2,  21.3767,2,  34.6829,2,-999.0000,9,    225.9,2,  -999.0,9, -999.00,9, -999.00,9, -999.00,9, -999.00,9,-999.000,9,-999.000,9,-999.0000,9,  -999.0,9,  -999.0,9,-999.0000,9,  -999.00,9, -999.00,9,  -999.0,9, -999.00,9, -999.00,9,     -999.0,9, 20220508,     1138,  30.0005, 138.3644,    21.3937,2,     -999.0,9,     -999.0,9,     -999.0,9,     -999.0,1,     0.0159,1,     4.6349,1,     -999.0,9,     -999.0,9,     -999.0,9
33RR20220430,        P02,      17,          1,         35,         35,2,20220508,       1007,    30.0005,   138.3645,       3660,     6.4,2,  21.4206,2,  34.6859,2,-999.0000,9,    225.8,2,  -999.0,9, -999.00,9, -999.00,9, -999.00,9, -999.00,9,-999.000,9,-999.000,9,-999.0000,9,  -999.0,9,  -999.0,9,-999.0000,9,  -999.00,9, -999.00,9,  -999.0,9, -999.00,9, -999.00,9,     -999.0,9, 20220508,     1138,  30.0005, 138.3645,    21.4261,2,     -999.0,9,     -999.0,9,     -999.0,9,     -999.0,1,     0.0147,1,     4.6340,1,     -999.0,9,     -999.0,9,     -999.0,9
33RR20220430,        P02,      17,          1,         30,         30,2,20220508,       1007,    30.0005,   138.3645,       3660,     6.5,2,  21.5039,2,  34.6881,2,-999.0000,9,    225.5,2,  -999.0,9, -999.00,9, -999.00,9, -999.00,9, -999.00,9,-999.000,9,-999.000,9,-999.0000,9,  -999.0,9,  -999.0,9,-999.0000,9,  -999.00,9, -999.00,9,  -999.0,9, -999.00,9, -999.00,9,     -999.0,9, 20220508,     1137,  30.0005, 138.3645,    21.4736,2,     -999.0,1,     -999.0,1,     -999.0,9,     -999.0,9,     0.0147,1,     4.6379,1,     -999.0,9,     -999.0,9,     -999.0,9
33RR20220430,        P02,      17,          1,         31,         31,2,20220508,       1007,    30.0005,   138.3645,       3660,     6.7,2,  21.4400,2,  34.6855,2,-999.0000,9,    225.7,2,  -999.0,9, -999.00,9, -999.00,9, -999.00,9, -999.00,9,-999.000,9,-999.000,9,-999.0000,9,  -999.0,9,  -999.0,9,-999.0000,9,  -999.00,9, -999.00,9,  -999.0,9, -999.00,9, -999.00,9,     -999.0,9, 20220508,     1137,  30.0005, 138.3645,     -999.0,9,     -999.0,9,     -999.0,9,     -999.0,1,     -999.0,9,     0.0147,1,     4.6371,1,     -999.0,9,     -999.0,9,     -999.0,9
33RR20220430,        P02,      17,          1,         26,         26,2,20220508,       1007,    30.0005,   138.3645,       3660,    20.6,2,  21.2024,2,  34.6818,2,  34.6741,2,    225.4,2,   225.1,2,    0.39,2,    0.00,2,    0.00,2,    0.00,2,-999.000,9,-999.000,9,-999.0000,9,  1996.8,2,  2275.6,2,   8.0111,2,    25.01,2, -999.00,9,  -999.0,9, -999.00,1, -999.00,1,     -999.0,9, 20220508,     1134,  30.0005, 138.3644,    21.2008,2,     -999.0,1,     -999.0,1,     -999.0,9,     -999.0,9,     0.0147,1,     4.6270,1,     -999.0,1,     -999.0,9,     -999.0,1
33RR20220430,        P02,      17,          1,         25,         25,2,20220508,       1007,    30.0005,   138.3645,       3660,    42.7,2,  21.1895,2,  34.6936,2,  34.6903,2,    225.3,2,   225.2,2,    0.39,2,    0.00,2,    0.00,2,    0.00,2,-999.000,9,-999.000,9,-999.0000,9,  1999.3,2,  2277.8,2,   8.0122,2,    25.00,2, -999.00,9,  -999.0,9, -999.00,1, -999.00,1,     -999.0,9, 20220508,     1133,  30.0005, 138.3645,    21.1863,2,     -999.0,1,     -999.0,1,     -999.0,9,     -999.0,9,     0.0159,1,     4.6299,1,     -999.0,1,     -999.0,9,     -999.0,1
33RR20220430,        P02,      17,          1,         24,         24,2,20220508,       1007,    30.0005,   138.3645,       3660,    91.4,2,  18.8311,2,  34.8021,2,  34.7942,2,    219.0,2,   219.0,2,    0.68,2,    1.07,2,    0.13,2,    0.06,2,-999.000,9,-999.000,9,-999.0000,9,  2020.7,2,  2282.9,2,   7.9837,2,    25.01,2, -999.00,9,  -999.0,9, -999.00,1, -999.00,1,     -999.0,9, 20220508,     1130,  30.0005, 138.3644,    18.8299,2,     -999.0,1,     -999.0,1,     -999.0,9,     -999.0,9,     0.0293,1,     4.6525,1,     -999.0,1,     -999.0,9,     -999.0,9
33RR20220430,        P02,      17,          1,         23,         23,2,20220508,       1007,    30.0005,   138.3645,       3660,    91.6,2,  18.8317,2,  34.8020,2,-999.0000,9,    218.9,2,  -999.0,9, -999.00,9, -999.00,9, -999.00,9, -999.00,9,-999.000,9,-999.000,9,-999.0000,9,  -999.0,9,  -999.0,9,-999.0000,9,  -999.00,9, -999.00,9,  -999.0,9, -999.00,9, -999.00,9,     -999.0,9, 20220508,     1129,  30.0005, 138.3645,    18.8305,2,     -999.0,9,     -999.0,9,     -999.0,9,     -999.0,9,     0.0322,1,     4.6518,1,     -999.0,9,     -999.0,1,     -999.0,1
33RR20220430,        P02,      17,          1,         22,         22,2,20220508,       1007,    30.0005,   138.3645,       3660,   141.2,2,  18.1863,2,  34.7727,2,  34.7651,2,    217.0,2,   217.1,2,    0.98,2,    2.02,2,    0.03,2,    0.12,2,-999.000,9,-999.000,9,-999.0000,9,  2029.0,2,  2279.8,2,   7.9675,2,    24.91,2, -999.00,9,  -999.0,9, -999.00,1, -999.00,1,     -999.0,9, 20220508,     1127,  30.0005, 138.3645,    18.1856,2,     -999.0,1,     -999.0,1,     -999.0,9,     -999.0,9,     0.0175,1,     4.6716,1,     -999.0,1,     -999.0,9,     -999.0,1
33RR20220430,        P02,      17,          1,         21,         21,2,20220508,       1007,    30.0005,   138.3645,       3660,   187.8,2,  17.6193,2,  34.7666,2,  34.7592,2,    220.6,2,   221.1,2,    1.37,2,    2.47,2,    0.00,2,    0.14,2,-999.000,9,-999.000,9,-999.0000,9,  2030.8,2,  2282.2,2,   7.9605,2,    25.01,2, -999.00,9,  -999.0,9, -999.00,1, -999.00,1,     -999.0,9, 20220508,     1126,  30.0005, 138.3645,    17.6411,2,     -999.0,9,     -999.0,9,     -999.0,9,     -999.0,9,     0.0147,1,     4.6807,1,     -999.0,1,     -999.0,9,     -999.0,9
33RR20220430,        P02,      17,          1,         20,         20,2,20220508,       1007,    30.0005,   138.3645,       3660,   187.8,2,  17.6184,2,  34.7663,2,-999.0000,9,    220.6,2,  -999.0,9, -999.00,9, -999.00,9, -999.00,9, -999.00,9,-999.000,9,-999.000,9,-999.0000,9,  -999.0,9,  -999.0,9,-999.0000,9,  -999.00,9, -999.00,9,  -999.0,9, -999.00,9, -999.00,9,     -999.0,9, 20220508,     1126,  30.0005, 138.3645,    17.6184,2,     -999.0,1,     -999.0,1,     -999.0,9,     -999.0,9,     0.0139,1,     4.6812,1,     -999.0,9,     -999.0,1,     -999.0,1
33RR20220430,        P02,      17,          1,         19,         19,2,20220508,       1007,    30.0005,   138.3645,       3660,   289.5,2,  17.1138,2,  34.7437,2,  34.7362,2,    216.2,2,   216.3,2,    2.05,2,    3.71,2,    0.00,2,    0.22,2,-999.000,9,-999.000,9,-999.0000,9,  2040.2,2,  2280.6,2,   7.9426,2,    24.99,2, -999.00,9,  -999.0,9, -999.00,1, -999.00,1,     -999.0,9, 20220508,     1123,  30.0005, 138.3645,    17.1122,2,     -999.0,9,     -999.0,9,     -999.0,9,     -999.0,9,     0.0122,1,     4.6889,1,     -999.0,9,     -999.0,9,     -999.0,9
33RR20220430,        P02,      17,          1,         18,         18,2,20220508,       1007,    30.0005,   138.3645,       3660,   388.7,2,  15.6352,2,  34.6307,2,  34.6270,2,    192.2,2,   192.1,2,    6.64,2,    8.38,2,    0.00,2,    0.53,2,-999.000,9,-999.000,9,-999.0000,9,  2071.2,2,  2276.4,2,   7.8690,2,    24.97,2, -999.00,9,  -999.0,9, -999.00,1, -999.00,1,     -999.0,9, 20220508,     1120,  30.0005, 138.3645,    15.6400,2,     -999.0,9,     -999.0,9,     -999.0,9,     -999.0,9,     0.0122,1,     4.6941,1,     -999.0,9,     -999.0,9,     -999.0,9
33RR20220430,        P02,      17,          1,         17,         17,2,20220508,       1007,    30.0005,   138.3645,       3660,   571.2,2,  10.5480,2,  34.2467,2,  34.2413,2,    177.0,2,   176.9,2,   24.82,2,   18.07,2,    0.00,2,    1.25,2,-999.000,9,-999.000,9,-999.0000,9,  2138.0,2,  2273.5,2,   7.7101,2,    25.07,2, -999.00,9,  -999.0,9, -999.00,1, -999.00,1,     -999.0,9, 20220508,     1116,  30.0005, 138.3645,    10.5489,2,     -999.0,9,     -999.0,9,     -999.0,9,     -999.0,9,     0.0130,1,     4.7034,1,     -999.0,9,     -999.0,9,     -999.0,1
33RR20220430,        P02,      17,          1,         16,         16,2,20220508,       1007,    30.0005,   138.3645,       3660,   671.5,2,   8.3576,2,  34.1372,2,  34.1393,2,    153.3,2,   154.0,2,   41.24,2,   23.77,2,    0.00,2,    1.70,2,-999.000,9,-999.000,9,-999.0000,9,  2180.8,2,  2281.0,2,   7.6188,2,    25.00,2, -999.00,9,  -999.0,9, -999.00,1, -999.00,1,     -999.0,9, 20220508,     1114,  30.0005, 138.3645,     8.3563,2,     -999.0,9,     -999.0,9,     -999.0,9,     -999.0,9,     0.0125,1,     4.7057,1,     -999.0,9,     -999.0,9,     -999.0,9
33RR20220430,        P02,      17,          1,         15,         15,2,20220508,       1007,    30.0005,   138.3645,       3660,   773.8,2,   6.3751,2,  34.1205,2,  34.1197,2,    113.4,2,   112.8,2,   66.55,2,   31.44,2,    0.00,2,    2.23,2,-999.000,9,-999.000,9,-999.0000,9,  2237.9,2,  2299.8,2,   7.4993,2,    25.00,2, -999.00,9,  -999.0,9, -999.00,1, -999.00,1,     -999.0,9, 20220508,     1111,  30.0005, 138.3644,     6.3721,2,     -999.0,9,     -999.0,9,     -999.0,9,     -999.0,9,     0.0126,1,     4.7063,1,     -999.0,9,     -999.0,9,     -999.0,9
33RR20220430,        P02,      17,          1,         13,         13,2,20220508,       1007,    30.0005,   138.3645,       3660,   973.8,2,   4.3961,2,  34.2797,2,-999.0000,9,     64.8,2,  -999.0,9, -999.00,9, -999.00,9, -999.00,9, -999.00,9,-999.000,9,-999.000,9,-999.0000,9,  -999.0,9,  -999.0,9,-999.0000,9,  -999.00,9, -999.00,9,  -999.0,9, -999.00,9, -999.00,9,     -999.0,9, 20220508,     1106,  30.0005, 138.3645,     4.3958,2,     -999.0,9,     -999.0,9,     -999.0,9,     -999.0,9,     0.0134,1,     4.7056,1,     -999.0,9,     -999.0,1,     -999.0,1
33RR20220430,        P02,      17,          1,         14,         14,2,20220508,       1007,    30.0005,   138.3645,       3660,   974.1,2,   4.3973,2,  34.2798,2,  34.2801,2,     64.8,2,    64.6,2,  106.31,2,   38.79,2,    0.00,2,    2.78,2,-999.000,9,-999.000,9,-999.0000,9,  2313.0,2,  2342.1,2,   7.4005,2,    24.99,2, -999.00,9,  -999.0,9, -999.00,1, -999.00,1,     -999.0,9, 20220508,     1106,  30.0005, 138.3645,     4.3944,2,     -999.0,9,     -999.0,9,     -999.0,9,     -999.0,9,     0.0134,1,     4.7056,1,     -999.0,9,     -999.0,9,     -999.0,9
33RR20220430,        P02,      17,          1,         12,         12,2,20220508,       1007,    30.0005,   138.3645,       3660,  1179.5,2,   3.4806,2,  34.3942,2,  34.3941,2,     57.8,2,    58.2,2,  126.92,2,   40.47,2,    0.00,2,    2.89,2,-999.000,9,-999.000,9,-999.0000,9,  2339.5,2,  2369.7,2,   7.3933,2,    25.00,2, -999.00,9,  -999.0,9, -999.00,1, -999.00,1,     -999.0,9, 20220508,     1101,  30.0005, 138.3645,     3.4804,2,     -999.0,9,     -999.0,9,     -999.0,9,     -999.0,9,     0.0134,1,     4.7046,1,     -999.0,9,     -999.0,9,     -999.0,9
33RR20220430,        P02,      17,          1,         11,         11,2,20220508,       1007,    30.0005,   138.3645,       3660,  1381.6,2,   2.9678,2,  34.4611,2,  34.4602,2,     61.7,2,    62.0,2,  137.76,2,   40.80,2,    0.00,2,    2.92,2,-999.000,9,-999.000,9,-999.0000,9,  2353.1,2,  2381.2,2,   7.4056,2,    25.00,2, -999.00,9,  -999.0,9, -999.00,1, -999.00,1,     -999.0,9, 20220508,     1057,  30.0005, 138.3645,     2.9696,2,     -999.0,9,     -999.0,9,     -999.0,9,     -999.0,9,     0.0134,1,     4.7056,1,     -999.0,9,     -999.0,9,     -999.0,9
33RR20220430,        P02,      17,          1,         10,         10,2,20220508,       1007,    30.0005,   138.3645,       3660,  1585.5,2,   2.6285,2,  34.5121,2,  34.5138,2,     73.7,2,    74.4,2,  142.54,2,   40.63,2,    0.00,2,    2.87,2,-999.000,9,-999.000,9,-999.0000,9,  2350.4,6,  2391.0,2,   7.4299,2,    25.02,2, -999.00,9,  -999.0,9, -999.00,1, -999.00,1,     -999.0,9, 20220508,     1052,  30.0005, 138.3645,     2.6290,2,     -999.0,9,     -999.0,9,     -999.0,9,     -999.0,9,     0.0134,1,     4.7056,1,     -999.0,9,     -999.0,9,     -999.0,9
33RR20220430,        P02,      17,          1,          9,          9,2,20220508,       1007,    30.0005,   138.3645,       3660,  1785.5,2,   2.3538,2,  34.5469,2,  34.5463,2,     82.2,2,    82.1,2,  147.03,2,   40.23,2,    0.00,2,    2.84,2,-999.000,9,-999.000,9,-999.0000,9,  2352.1,2,  2396.8,2,   7.4443,2,    25.00,2, -999.00,9,  -999.0,9, -999.00,1, -999.00,1,     -999.0,9, 20220508,     1048,  30.0005, 138.3645,     2.3538,2,     -999.0,9,     -999.0,9,     -999.0,9,     -999.0,9,     0.0134,1,     4.7048,1,     -999.0,9,     -999.0,9,     -999.0,9
33RR20220430,        P02,      17,          1,          8,          8,2,20220508,       1007,    30.0005,   138.3645,       3660,  1953.8,2,   2.1319,2,  34.5792,2,  34.5796,2,     94.2,2,    94.1,2,  148.40,2,   39.45,2,    0.00,2,    2.80,2,-999.000,9,-999.000,9,-999.0000,9,  2349.0,2,  2403.1,2,   7.4679,2,    25.03,2, -999.00,9,  -999.0,9, -999.00,1, -999.00,1,     -999.0,9, 20220508,     1044,  30.0005, 138.3645,     2.1312,2,     -999.0,9,     -999.0,9,     -999.0,9,     -999.0,9,     0.0130,1,     4.7057,1,     -999.0,9,     -999.0,9,     -999.0,9
33RR20220430,        P02,      17,          1,          7,          7,2,20220508,       1007,    30.0005,   138.3645,       3660,  2194.3,2,   1.8960,2,  34.6143,2,  34.6156,2,    110.4,2,   109.9,2,  148.98,2,   38.48,2,    0.00,2,    2.72,2,-999.000,9,-999.000,9,-999.0000,9,  2344.1,2,  2407.2,2,   7.4991,2,    25.02,2, -999.00,9,  -999.0,9, -999.00,1, -999.00,1,     -999.0,9, 20220508,     1038,  30.0005, 138.3645,     1.8958,2,     -999.0,9,     -999.0,9,     -999.0,9,     -999.0,9,     0.0131,1,     4.7080,1,     -999.0,9,     -999.0,9,     -999.0,9
33RR20220430,        P02,      17,          1,          6,          6,2,20220508,       1007,    30.0005,   138.3645,       3660,  2449.1,2,   1.7434,2,  34.6385,2,  34.6388,2,    125.0,2,   125.3,2,  147.02,2,   37.50,2,    0.00,2,    2.66,2,-999.000,9,-999.000,9,-999.0000,9,  2336.7,2,  2412.0,2,   7.5270,2,    25.02,2, -999.00,9,  -999.0,9, -999.00,1, -999.00,1,     -999.0,9, 20220508,     1033,  30.0005, 138.3645,     1.7425,2,     -999.0,9,     -999.0,9,     -999.0,9,     -999.0,9,     0.0122,1,     4.7095,1,     -999.0,9,     -999.0,9,     -999.0,9
33RR20220430,        P02,      17,          1,          5,          5,2,20220508,       1007,    30.0005,   138.3645,       3660,  2702.4,2,   1.6392,2,  34.6552,2,  34.6551,2,    135.9,2,   136.2,2,  145.36,2,   37.12,2,    0.00,2,    2.60,2,-999.000,9,-999.000,9,-999.0000,9,  2327.9,2,  2411.3,2,   7.5459,2,    25.01,2, -999.00,9,  -999.0,9, -999.00,1, -999.00,1,     -999.0,9, 20220508,     1028,  30.0005, 138.3645,     1.6403,2,     -999.0,9,     -999.0,9,     -999.0,9,     -999.0,9,     0.0125,1,     4.7099,1,     -999.0,9,     -999.0,9,     -999.0,9
33RR20220430,        P02,      17,          1,          4,          4,2,20220508,       1007,    30.0005,   138.3645,       3660,  2969.6,2,   1.5604,2,  34.6673,2,  34.6669,2,    143.9,2,   144.1,2,  144.09,2,   36.54,2,    0.00,2,    2.55,2,-999.000,9,-999.000,9,-999.0000,9,  2324.6,2,  2411.7,2,   7.5609,2,    25.03,2, -999.00,9,  -999.0,9, -999.00,1, -999.00,1,     -999.0,9, 20220508,     1023,  30.0005, 138.3645,     1.5608,2,     -999.0,9,     -999.0,9,     -999.0,9,     -999.0,9,     0.0122,1,     4.7094,1,     -999.0,9,     -999.0,9,     -999.0,9