BOTTLE,20230801CCHSIOCBG
EXPOCODE,SECT_ID,STNNBR,CASTNO,SAMPNO,BTLNBR,BTLNBR_FLAG_W,DATE,TIME,LATITUDE,LONGITUDE,DEPTH,CTDPRS,CTDPRS_FLAG_W,CTDTMP,CTDTMP_FLAG_W,CTDSAL,CTDSAL_FLAG_W,SALNTY,SALNTY_FLAG_W,CTDOXY,CTDOXY_FLAG_W,OXYGEN,OXYGEN_FLAG_W,SILCAT,SILCAT_FLAG_W,NITRAT,NITRAT_FLAG_W,NITRIT,NITRIT_FLAG_W,PHSPHT,PHSPHT_FLAG_W,CFC-11,CFC-11_FLAG_W,CFC-12,CFC-12_FLAG_W,SF6,SF6_FLAG_W,TCARBN,TCARBN_FLAG_W,ALKALI,ALKALI_FLAG_W,PH_TOT,PH_TOT_FLAG_W,PH_TMP,PH_TMP_FLAG_W,DELC13,DELC13_FLAG_W,DELC14,DELC14_FLAG_W,DOC,DOC_FLAG_W,TDN,TDN_FLAG_W,N2O,N2O_FLAG_W,BTL_DATE,BTL_TIME,BTL_LAT,BTL_LON,REFTMP,REFTMP_FLAG_W,POC,POC_FLAG_W,PON,PON_FLAG_W,POP,POP_FLAG_W,PCOD,PCOD_FLAG_W,CTDFLUOR,CTDFLUOR_FLAG_W,CTDXMISS,CTDXMISS_FLAG_W,HPLC,HPLC_FLAG_W,DNA,DNA_FLAG_W,FCM,FCM_FLAG_W
,,,,,,,,,,,METERS,DBAR,,ITS-90,,PSS-78,,PSS-78,,UMOL/KG,,UMOL/KG,,UMOL/KG,,UMOL/KG,,UMOL/KG,,UMOL/KG,,PMOL/KG,,PMOL/KG,,FMOL/KG,,UMOL/KG,,UMOL/KG,,,,DEG C,,/MILLE,,/MILLE,,UMOL/KG,,UMOL/KG,,NMOL/KG,,,,,,ITS-90,,UG/L,,UG/L,,UG/L,,UG/L,,VOLTS,,VOLTS,,,,,,,
33RR20220430,        P02,      71,          2,          3,          3,2,20220525,       1956,    29.9999,   173.1818,       5247,  4786.1,2,   1.4602,2,  34.6909,2,  34.6912,2,    164.5,2,   164.8,2,  143.58,2,   35.04,2,    0.00,2,    2.39,2,   0.005,2,   0.000,2,   0.0000,2,  2315.0,2,  2410.8,2,   7.5889,2,    24.98,2, -999.00,9,  -999.0,9, -999.00,1, -999.00,1,       22.2,2, 20220525,     2007,  29.9998, 173.1817,     1.4602,2,     -999.0,9,     -999.0,9,     -999.0,9,     -999.0,9,     0.0122,1,     4.7079,1,     -999.0,9,     -999.0,9,     -999.0,9
33RR20220430,        P02,      71,          2,          2,          2,2,20220525,       1956,    29.9999,   173.1818,       5247,  5095.3,2,   1.4713,2,  34.6931,2,  34.6938,2,    169.0,2,   169.3,2,  139.19,2,   34.77,2,    0.00,2,    2.38,2,   0.008,2,   0.000,2,   0.0000,2,  2308.6,6,  2407.5,2,   7.5941,2,    24.98,2, -999.00,9,  -999.0,9, -999.00,9, -999.00,9,       22.1,2, 20220525,     2001,  29.9998, 173.1817,     1.4714,2,     -999.0,9,     -999.0,9,     -999.0,9,     -999.0,9,     0.0122,1,     4.7070,1,     -999.0,9,     -999.0,9,     -999.0,9
33RR20220430,        P02,      71,          2,          1,          1,2,20220525,       1956,    29.9999,   173.1818,       5247,  5337.9,2,   1.4844,2,  34.6945,2,  34.6944,2,    172.0,2,   171.7,2,  137.14,2,   34.56,2,    0.00,2,    2.36,2,   0.012,2,   0.000,2,   0.0000,2,  2306.1,2,  2405.8,2,-999.0000,1,  -999.00,1, -999.00,9,  -999.0,9, -999.00,1, -999.00,1,       21.9,2, 20220525,     1956,  29.9998, 173.1817,     1.4844,2,     -999.0,9,     -999.0,9,     -999.0,9,     -999.0,9,     0.0122,1,     4.7056,1,     -999.0,9,     -999.0,9,     -999.0,9