BOTTLE,20230801CCHSIOCBG
EXPOCODE,SECT_ID,STNNBR,CASTNO,SAMPNO,BTLNBR,BTLNBR_FLAG_W,DATE,TIME,LATITUDE,LONGITUDE,DEPTH,CTDPRS,CTDPRS_FLAG_W,CTDTMP,CTDTMP_FLAG_W,CTDSAL,CTDSAL_FLAG_W,SALNTY,SALNTY_FLAG_W,CTDOXY,CTDOXY_FLAG_W,OXYGEN,OXYGEN_FLAG_W,SILCAT,SILCAT_FLAG_W,NITRAT,NITRAT_FLAG_W,NITRIT,NITRIT_FLAG_W,PHSPHT,PHSPHT_FLAG_W,CFC-11,CFC-11_FLAG_W,CFC-12,CFC-12_FLAG_W,SF6,SF6_FLAG_W,TCARBN,TCARBN_FLAG_W,ALKALI,ALKALI_FLAG_W,PH_TOT,PH_TOT_FLAG_W,PH_TMP,PH_TMP_FLAG_W,DELC13,DELC13_FLAG_W,DELC14,DELC14_FLAG_W,DOC,DOC_FLAG_W,TDN,TDN_FLAG_W,N2O,N2O_FLAG_W,BTL_DATE,BTL_TIME,BTL_LAT,BTL_LON,REFTMP,REFTMP_FLAG_W,POC,POC_FLAG_W,PON,PON_FLAG_W,POP,POP_FLAG_W,PCOD,PCOD_FLAG_W,CTDFLUOR,CTDFLUOR_FLAG_W,CTDXMISS,CTDXMISS_FLAG_W,HPLC,HPLC_FLAG_W,DNA,DNA_FLAG_W,FCM,FCM_FLAG_W
,,,,,,,,,,,METERS,DBAR,,ITS-90,,PSS-78,,PSS-78,,UMOL/KG,,UMOL/KG,,UMOL/KG,,UMOL/KG,,UMOL/KG,,UMOL/KG,,PMOL/KG,,PMOL/KG,,FMOL/KG,,UMOL/KG,,UMOL/KG,,,,DEG C,,/MILLE,,/MILLE,,UMOL/KG,,UMOL/KG,,NMOL/KG,,,,,,ITS-90,,UG/L,,UG/L,,UG/L,,UG/L,,VOLTS,,VOLTS,,,,,,,
33RR20220430,        P02,      52,          1,          3,          3,2,20220519,       2030,    29.9996,   162.2201,       6003,  5440.5,2,   1.5130,2,  34.6932,2,  34.6942,2,    170.8,2,   170.9,2,  138.52,2,   34.91,2,    0.00,2,    2.37,2,-999.000,9,-999.000,9,-999.0000,9,  -999.0,9,  -999.0,9,-999.0000,9,  -999.00,9, -999.00,9,  -999.0,9, -999.00,9, -999.00,9,     -999.0,9, 20220519,     2043,  29.9996, 162.2202,     1.5131,2,     -999.0,9,     -999.0,9,     -999.0,9,     -999.0,9,     0.0122,1,     4.7081,1,     -999.0,9,     -999.0,9,     -999.0,9
33RR20220430,        P02,      52,          1,          2,          2,2,20220519,       2030,    29.9996,   162.2201,       6003,  5786.6,2,   1.5401,2,  34.6945,2,  34.6956,2,    172.9,2,   173.1,2,  137.54,2,   34.79,2,    0.00,2,    2.36,2,-999.000,9,-999.000,9,-999.0000,9,  2304.4,6,  2399.3,2,   7.5983,2,    25.02,2, -999.00,9,  -999.0,9, -999.00,1, -999.00,1,     -999.0,9, 20220519,     2036,  29.9996, 162.2202,     1.5403,2,     -999.0,9,     -999.0,9,     -999.0,9,     -999.0,9,     0.0122,1,     4.7059,1,     -999.0,9,     -999.0,9,     -999.0,9
33RR20220430,        P02,      52,          1,          1,          1,2,20220519,       2030,    29.9996,   162.2201,       6003,  6118.8,2,   1.5788,2,  34.6950,2,  34.6963,2,    174.0,2,   173.9,2,  136.47,2,   34.68,2,    0.00,2,    2.35,2,   0.009,2,   0.000,2,   0.0000,2,  2302.4,2,  2399.3,2,   7.5995,2,    25.00,2, -999.00,9,  -999.0,9, -999.00,1, -999.00,1,       20.4,2, 20220519,     2030,  29.9996, 162.2201,     1.5791,2,     -999.0,9,     -999.0,9,     -999.0,9,     -999.0,9,     0.0122,1,     4.7019,1,     -999.0,9,     -999.0,9,     -999.0,9
33RR20220430,        P02,      53,          1,         33,         33,2,20220520,       0159,    29.9986,   162.7964,       6015,     3.6,2,  22.5581,2,  34.9031,2,-999.0000,9,    213.4,2,  -999.0,9, -999.00,9, -999.00,9, -999.00,9, -999.00,9,-999.000,9,-999.000,9,-999.0000,9,  -999.0,9,  -999.0,9,-999.0000,9,  -999.00,9, -999.00,9,  -999.0,9, -999.00,9, -999.00,9,     -999.0,9, 20220520,      230,  29.9986, 162.7964,     -999.0,9,     -999.0,9,     -999.0,9,     -999.0,9,     -999.0,1,     0.0134,1,     4.6195,1,     -999.0,9,     -999.0,9,     -999.0,9
33RR20220430,        P02,      53,          1,         21,         21,2,20220520,       0159,    29.9986,   162.7964,       6015,     3.7,2,  22.2626,2,  34.9024,2,-999.0000,9,    215.0,2,  -999.0,9, -999.00,9, -999.00,9, -999.00,9, -999.00,9,-999.000,9,-999.000,9,-999.0000,9,  -999.0,9,  -999.0,9,-999.0000,9,  -999.00,9, -999.00,9,  -999.0,9, -999.00,9, -999.00,9,     -999.0,9, 20220520,      227,  29.9986, 162.7964,    21.8862,3,     -999.0,1,     -999.0,1,     -999.0,9,     -999.0,9,     0.0134,1,     4.6161,1,     -999.0,9,     -999.0,9,     -999.0,9
33RR20220430,        P02,      53,          1,         27,         27,2,20220520,       0159,    29.9986,   162.7964,       6015,     3.7,2,  22.6474,2,  34.9053,2,-999.0000,9,    212.8,2,  -999.0,9, -999.00,9, -999.00,9, -999.00,9, -999.00,9,-999.000,9,-999.000,9,-999.0000,9,  -999.0,9,  -999.0,9,-999.0000,9,  -999.00,9, -999.00,9,  -999.0,9, -999.00,9, -999.00,9,     -999.0,9, 20220520,      229,  29.9986, 162.7964,     -999.0,9,     -999.0,9,     -999.0,9,     -999.0,1,     -999.0,9,     0.0133,1,     4.6200,1,     -999.0,9,     -999.0,9,     -999.0,9
33RR20220430,        P02,      53,          1,         23,         23,2,20220520,       0159,    29.9986,   162.7964,       6015,     3.8,2,  22.5332,2,  34.9016,2,-999.0000,9,    213.6,2,  -999.0,9, -999.00,9, -999.00,9, -999.00,9, -999.00,9,-999.000,9,-999.000,9,-999.0000,9,  -999.0,9,  -999.0,9,-999.0000,9,  -999.00,9, -999.00,9,  -999.0,9, -999.00,9, -999.00,9,     -999.0,9, 20220520,      227,  29.9986, 162.7964,     -999.0,9,     -999.0,1,     -999.0,1,     -999.0,9,     -999.0,9,     0.0134,1,     4.6155,1,     -999.0,9,     -999.0,9,     -999.0,9
33RR20220430,        P02,      53,          1,         22,         22,2,20220520,       0159,    29.9986,   162.7964,       6015,     3.8,2,  21.6237,2,  34.9147,2,-999.0000,9,    216.8,2,  -999.0,9, -999.00,9, -999.00,9, -999.00,9, -999.00,9,-999.000,9,-999.000,9,-999.0000,9,  -999.0,9,  -999.0,9,-999.0000,9,  -999.00,9, -999.00,9,  -999.0,9, -999.00,9, -999.00,9,     -999.0,9, 20220520,      227,  29.9986, 162.7964,    18.3852,2,     -999.0,1,     -999.0,1,     -999.0,9,     -999.0,9,     0.0134,1,     4.6105,1,     -999.0,9,     -999.0,9,     -999.0,9
33RR20220430,        P02,      53,          1,         15,         15,2,20220520,       0159,    29.9986,   162.7964,       6015,     3.9,2,  21.4973,2,  34.9017,2,-999.0000,9,    216.8,2,  -999.0,9, -999.00,9, -999.00,9, -999.00,9, -999.00,9,-999.000,9,-999.000,9,-999.0000,9,  -999.0,9,  -999.0,9,-999.0000,9,  -999.00,9, -999.00,9,  -999.0,9, -999.00,9, -999.00,9,     -999.0,9, 20220520,      225,  29.9986, 162.7964,    17.0408,2,     -999.0,9,     -999.0,9,     -999.0,9,     -999.0,9,     0.0135,1,     4.6108,1,     -999.0,1,     -999.0,9,     -999.0,1
33RR20220430,        P02,      53,          1,         19,         19,2,20220520,       0159,    29.9986,   162.7964,       6015,     3.9,2,  22.2248,2,  34.9060,2,-999.0000,9,    214.8,2,  -999.0,9, -999.00,9, -999.00,9, -999.00,9, -999.00,9,-999.000,9,-999.000,9,-999.0000,9,  -999.0,9,  -999.0,9,-999.0000,9,  -999.00,9, -999.00,9,  -999.0,9, -999.00,9, -999.00,9,     -999.0,9, 20220520,      226,  29.9986, 162.7964,    17.3960,2,     -999.0,9,     -999.0,9,     -999.0,9,     -999.0,9,     0.0132,1,     4.6193,1,     -999.0,9,     -999.0,9,     -999.0,9
33RR20220430,        P02,      53,          1,         29,         29,2,20220520,       0159,    29.9986,   162.7964,       6015,     3.9,2,  22.5269,2,  34.9028,2,-999.0000,9,    213.0,2,  -999.0,9, -999.00,9, -999.00,9, -999.00,9, -999.00,9,-999.000,9,-999.000,9,-999.0000,9,  -999.0,9,  -999.0,9,-999.0000,9,  -999.00,9, -999.00,9,  -999.0,9, -999.00,9, -999.00,9,     -999.0,9, 20220520,      229,  29.9986, 162.7964,     -999.0,9,     -999.0,9,     -999.0,9,     -999.0,1,     -999.0,9,     0.0134,1,     4.6193,1,     -999.0,9,     -999.0,9,     -999.0,9
33RR20220430,        P02,      53,          1,         35,         35,2,20220520,       0159,    29.9986,   162.7964,       6015,     4.0,2,  21.8720,2,  34.9109,2,-999.0000,9,    216.0,2,  -999.0,9, -999.00,9, -999.00,9, -999.00,9, -999.00,9,-999.000,9,-999.000,9,-999.0000,9,  -999.0,9,  -999.0,9,-999.0000,9,  -999.00,9, -999.00,9,  -999.0,9, -999.00,9, -999.00,9,     -999.0,9, 20220520,      230,  29.9986, 162.7964,    21.8862,3,     -999.0,9,     -999.0,9,     -999.0,9,     -999.0,1,     0.0136,1,     4.6124,1,     -999.0,9,     -999.0,9,     -999.0,9
33RR20220430,        P02,      53,          1,         25,         25,2,20220520,       0159,    29.9986,   162.7964,       6015,     4.1,2,  22.1200,2,  34.9242,2,-999.0000,9,    214.0,2,  -999.0,9, -999.00,9, -999.00,9, -999.00,9, -999.00,9,-999.000,9,-999.000,9,-999.0000,9,  -999.0,9,  -999.0,9,-999.0000,9,  -999.00,9, -999.00,9,  -999.0,9, -999.00,9, -999.00,9,     -999.0,9, 20220520,      228,  29.9986, 162.7964,    21.5321,2,     -999.0,9,     -999.0,9,     -999.0,1,     -999.0,9,     0.0135,1,     4.6187,1,     -999.0,9,     -999.0,9,     -999.0,9
33RR20220430,        P02,      53,          1,         28,         28,2,20220520,       0159,    29.9986,   162.7964,       6015,     4.1,2,  22.6826,2,  34.9054,2,-999.0000,9,    212.6,2,  -999.0,9, -999.00,9, -999.00,9, -999.00,9, -999.00,9,-999.000,9,-999.000,9,-999.0000,9,  -999.0,9,  -999.0,9,-999.0000,9,  -999.00,9, -999.00,9,  -999.0,9, -999.00,9, -999.00,9,     -999.0,9, 20220520,      229,  29.9986, 162.7964,    21.9547,3,     -999.0,9,     -999.0,9,     -999.0,9,     -999.0,9,     0.0134,1,     4.6213,1,     -999.0,9,     -999.0,9,     -999.0,9
33RR20220430,        P02,      53,          1,         31,         31,2,20220520,       0159,    29.9986,   162.7964,       6015,     4.2,2,  22.4186,2,  34.9042,2,-999.0000,9,    213.0,2,  -999.0,9, -999.00,9, -999.00,9, -999.00,9, -999.00,9,-999.000,9,-999.000,9,-999.0000,9,  -999.0,9,  -999.0,9,-999.0000,9,  -999.00,9, -999.00,9,  -999.0,9, -999.00,9, -999.00,9,     -999.0,9, 20220520,      230,  29.9986, 162.7964,    22.0012,3,     -999.0,9,     -999.0,9,     -999.0,9,     -999.0,1,     0.0135,1,     4.6162,1,     -999.0,9,     -999.0,9,     -999.0,9
33RR20220430,        P02,      53,          1,         17,         17,2,20220520,       0159,    29.9986,   162.7964,       6015,     4.2,2,  21.5642,2,  34.9092,2,-999.0000,9,    216.8,2,  -999.0,9, -999.00,9, -999.00,9, -999.00,9, -999.00,9,-999.000,9,-999.000,9,-999.0000,9,  -999.0,9,  -999.0,9,-999.0000,9,  -999.00,9, -999.00,9,  -999.0,9, -999.00,9, -999.00,9,     -999.0,9, 20220520,      226,  29.9986, 162.7964,    21.9547,3,     -999.0,9,     -999.0,9,     -999.0,9,     -999.0,9,     0.0135,1,     4.6133,1,     -999.0,9,     -999.0,1,     -999.0,9
33RR20220430,        P02,      53,          1,         13,         13,2,20220520,       0159,    29.9986,   162.7964,       6015,    42.0,2,  18.3827,2,  34.7624,2,-999.0000,9,    232.3,2,  -999.0,9, -999.00,9, -999.00,9, -999.00,9, -999.00,9,-999.000,9,-999.000,9,-999.0000,9,  -999.0,9,  -999.0,9,-999.0000,9,  -999.00,9, -999.00,9,  -999.0,9, -999.00,9, -999.00,9,     -999.0,9, 20220520,      223,  29.9986, 162.7964,    18.3852,2,     -999.0,9,     -999.0,9,     -999.0,9,     -999.0,9,     0.0171,1,     4.6044,1,     -999.0,1,     -999.0,9,     -999.0,1
33RR20220430,        P02,      53,          1,         11,         11,2,20220520,       0159,    29.9986,   162.7964,       6015,    76.0,2,  17.3996,2,  34.7394,2,-999.0000,9,    216.2,2,  -999.0,9, -999.00,9, -999.00,9, -999.00,9, -999.00,9,-999.000,9,-999.000,9,-999.0000,9,  -999.0,9,  -999.0,9,-999.0000,9,  -999.00,9, -999.00,9,  -999.0,9, -999.00,9, -999.00,9,     -999.0,9, 20220520,      221,  29.9986, 162.7964,    17.0332,2,     -999.0,9,     -999.0,9,     -999.0,9,     -999.0,9,     0.0430,1,     4.6299,1,     -999.0,9,     -999.0,9,     -999.0,1
33RR20220430,        P02,      53,          1,          7,          7,2,20220520,       0159,    29.9986,   162.7964,       6015,   103.9,2,  17.0345,2,  34.7181,2,-999.0000,9,    213.0,2,  -999.0,9, -999.00,9, -999.00,9, -999.00,9, -999.00,9,-999.000,9,-999.000,9,-999.0000,9,  -999.0,9,  -999.0,9,-999.0000,9,  -999.00,9, -999.00,9,  -999.0,9, -999.00,9, -999.00,9,     -999.0,9, 20220520,      219,  29.9986, 162.7965,    16.6158,2,     -999.0,9,     -999.0,9,     -999.0,9,     -999.0,9,     0.0190,1,     4.6741,1,     -999.0,9,     -999.0,1,     -999.0,9
33RR20220430,        P02,      53,          1,          9,          9,2,20220520,       0159,    29.9986,   162.7964,       6015,   104.4,2,  17.0483,2,  34.7190,2,-999.0000,9,    213.3,2,  -999.0,9, -999.00,9, -999.00,9, -999.00,9, -999.00,9,-999.000,9,-999.000,9,-999.0000,9,  -999.0,9,  -999.0,9,-999.0000,9,  -999.00,9, -999.00,9,  -999.0,9, -999.00,9, -999.00,9,     -999.0,9, 20220520,      219,  29.9986, 162.7964,    17.0408,2,     -999.0,9,     -999.0,9,     -999.0,9,     -999.0,9,     0.0188,1,     4.6736,1,     -999.0,1,     -999.0,9,     -999.0,1
33RR20220430,        P02,      53,          1,          5,          5,2,20220520,       0159,    29.9986,   162.7964,       6015,   154.3,2,  16.6243,2,  34.6917,2,-999.0000,9,    206.0,2,  -999.0,9, -999.00,9, -999.00,9, -999.00,9, -999.00,9,-999.000,9,-999.000,9,-999.0000,9,  -999.0,9,  -999.0,9,-999.0000,9,  -999.00,9, -999.00,9,  -999.0,9, -999.00,9, -999.00,9,     -999.0,9, 20220520,      217,  29.9986, 162.7965,    16.6158,2,     -999.0,9,     -999.0,9,     -999.0,9,     -999.0,9,     0.0133,1,     4.6849,1,     -999.0,9,     -999.0,9,     -999.0,1
33RR20220430,        P02,      53,          1,          3,          3,2,20220520,       0159,    29.9986,   162.7964,       6015,   204.2,2,  16.1572,2,  34.6601,2,-999.0000,9,    198.5,2,  -999.0,9, -999.00,9, -999.00,9, -999.00,9, -999.00,9,-999.000,9,-999.000,9,-999.0000,9,  -999.0,9,  -999.0,9,-999.0000,9,  -999.00,9, -999.00,9,  -999.0,9, -999.00,9, -999.00,9,     -999.0,9, 20220520,      215,  29.9986, 162.7964,    16.1500,2,     -999.0,9,     -999.0,9,     -999.0,9,     -999.0,9,     0.0122,1,     4.6892,1,     -999.0,9,     -999.0,1,     -999.0,1
33RR20220430,        P02,      53,          1,          2,          2,2,20220520,       0159,    29.9986,   162.7964,       6015,   507.1,2,  10.7258,2,  34.2317,2,-999.0000,9,    189.4,2,  -999.0,9, -999.00,9, -999.00,9, -999.00,9, -999.00,9,-999.000,9,-999.000,9,-999.0000,9,  -999.0,9,  -999.0,9,-999.0000,9,  -999.00,9, -999.00,9,  -999.0,9, -999.00,9, -999.00,9,     -999.0,9, 20220520,      209,  29.9986, 162.7965,    10.7361,2,     -999.0,9,     -999.0,9,     -999.0,9,     -999.0,9,     0.0122,1,     4.6931,1,     -999.0,9,     -999.0,9,     -999.0,1
33RR20220430,        P02,      53,          1,          1,          1,2,20220520,       0159,    29.9986,   162.7964,       6015,  1010.2,2,   3.6679,2,  34.2824,2,-999.0000,9,     36.0,2,  -999.0,9, -999.00,9, -999.00,9, -999.00,9, -999.00,9,-999.000,9,-999.000,9,-999.0000,9,  -999.0,9,  -999.0,9,-999.0000,9,  -999.00,9, -999.00,9,  -999.0,9, -999.00,9, -999.00,9,     -999.0,9, 20220520,      159,  29.9986, 162.7965,     3.6675,2,     -999.0,9,     -999.0,9,     -999.0,9,     -999.0,9,     0.0134,1,     4.7029,1,     -999.0,9,     -999.0,1,     -999.0,1