BOTTLE,20230801CCHSIOCBG
EXPOCODE,SECT_ID,STNNBR,CASTNO,SAMPNO,BTLNBR,BTLNBR_FLAG_W,DATE,TIME,LATITUDE,LONGITUDE,DEPTH,CTDPRS,CTDPRS_FLAG_W,CTDTMP,CTDTMP_FLAG_W,CTDSAL,CTDSAL_FLAG_W,SALNTY,SALNTY_FLAG_W,CTDOXY,CTDOXY_FLAG_W,OXYGEN,OXYGEN_FLAG_W,SILCAT,SILCAT_FLAG_W,NITRAT,NITRAT_FLAG_W,NITRIT,NITRIT_FLAG_W,PHSPHT,PHSPHT_FLAG_W,CFC-11,CFC-11_FLAG_W,CFC-12,CFC-12_FLAG_W,SF6,SF6_FLAG_W,TCARBN,TCARBN_FLAG_W,ALKALI,ALKALI_FLAG_W,PH_TOT,PH_TOT_FLAG_W,PH_TMP,PH_TMP_FLAG_W,DELC13,DELC13_FLAG_W,DELC14,DELC14_FLAG_W,DOC,DOC_FLAG_W,TDN,TDN_FLAG_W,N2O,N2O_FLAG_W,BTL_DATE,BTL_TIME,BTL_LAT,BTL_LON,REFTMP,REFTMP_FLAG_W,POC,POC_FLAG_W,PON,PON_FLAG_W,POP,POP_FLAG_W,PCOD,PCOD_FLAG_W,CTDFLUOR,CTDFLUOR_FLAG_W,CTDXMISS,CTDXMISS_FLAG_W,HPLC,HPLC_FLAG_W,DNA,DNA_FLAG_W,FCM,FCM_FLAG_W
,,,,,,,,,,,METERS,DBAR,,ITS-90,,PSS-78,,PSS-78,,UMOL/KG,,UMOL/KG,,UMOL/KG,,UMOL/KG,,UMOL/KG,,UMOL/KG,,PMOL/KG,,PMOL/KG,,FMOL/KG,,UMOL/KG,,UMOL/KG,,,,DEG C,,/MILLE,,/MILLE,,UMOL/KG,,UMOL/KG,,NMOL/KG,,,,,,ITS-90,,UG/L,,UG/L,,UG/L,,UG/L,,VOLTS,,VOLTS,,,,,,,
33RR20220430,        P02,      25,          1,          3,          3,2,20220510,       1906,    29.9993,   144.5238,       5851,  5132.5,2,   1.5188,2,  34.6897,2,  34.6897,2,    162.1,2,   162.4,2,  144.68,2,   35.53,2,    0.00,2,    2.42,2,   0.008,2,   0.000,2,   0.0000,2,  2314.8,2,  2409.4,2,   7.5859,2,    24.95,2, -999.00,9,  -999.0,9, -999.00,1, -999.00,1,       22.8,2, 20220510,     1922,  29.9993, 144.5238,     1.5186,2,     -999.0,9,     -999.0,9,     -999.0,9,     -999.0,9,     0.0122,1,     4.7068,1,     -999.0,9,     -999.0,9,     -999.0,9
33RR20220430,        P02,      25,          1,          2,          2,2,20220510,       1906,    29.9993,   144.5238,       5851,  5553.4,2,   1.5624,2,  34.6908,2,  34.6918,2,    164.5,2,   164.8,2,  142.33,2,   35.56,2,    0.00,2,    2.41,2,-999.000,9,-999.000,9,-999.0000,9,  2315.1,2,  2410.3,2,   7.5888,2,    25.02,2, -999.00,9,  -999.0,9, -999.00,1, -999.00,1,     -999.0,9, 20220510,     1914,  29.9993, 144.5238,     1.5622,2,     -999.0,9,     -999.0,9,     -999.0,9,     -999.0,9,     0.0122,1,     4.7053,1,     -999.0,9,     -999.0,9,     -999.0,9
33RR20220430,        P02,      25,          1,          1,          1,2,20220510,       1906,    29.9993,   144.5238,       5851,  5960.4,2,   1.6054,2,  34.6917,2,  34.6910,2,    166.9,2,   167.0,2,  139.40,2,   35.24,2,    0.00,2,    2.38,2,   0.009,2,   0.000,2,   0.0000,2,  2309.7,6,  2406.7,2,   7.5930,2,    25.00,2, -999.00,9,  -999.0,9, -999.00,1, -999.00,1,       23.1,2, 20220510,     1906,  29.9993, 144.5238,     1.6052,2,     -999.0,9,     -999.0,9,     -999.0,9,     -999.0,9,     0.0122,1,     4.6995,1,     -999.0,9,     -999.0,9,     -999.0,9
33RR20220430,        P02,      26,          1,         14,         14,2,20220511,       0105,    30.0000,   145.1959,       5881,     8.8,2,  21.8576,2,  35.0087,2,-999.0000,9,    211.5,2,  -999.0,9, -999.00,9, -999.00,9, -999.00,9, -999.00,9,-999.000,9,-999.000,9,-999.0000,9,  -999.0,9,  -999.0,9,-999.0000,9,  -999.00,9, -999.00,9,  -999.0,9, -999.00,9, -999.00,9,     -999.0,9, 20220511,      133,  30.0000, 145.1959,    22.0690,2,     -999.0,9,     -999.0,9,     -999.0,1,     -999.0,9,     0.0156,1,     4.6347,1,     -999.0,9,     -999.0,9,     -999.0,9
33RR20220430,        P02,      26,          1,         12,         12,2,20220511,       0105,    30.0000,   145.1959,       5881,     8.8,2,  21.8573,2,  35.0106,2,-999.0000,9,    211.2,2,  -999.0,9, -999.00,9, -999.00,9, -999.00,9, -999.00,9,-999.000,9,-999.000,9,-999.0000,9,  -999.0,9,  -999.0,9,-999.0000,9,  -999.00,9, -999.00,9,  -999.0,9, -999.00,9, -999.00,9,     -999.0,9, 20220511,      132,  30.0000, 145.1960,    22.0688,2,     -999.0,1,     -999.0,1,     -999.0,9,     -999.0,9,     0.0160,1,     4.6367,1,     -999.0,9,     -999.0,9,     -999.0,9
33RR20220430,        P02,      26,          1,         15,         15,2,20220511,       0105,    30.0000,   145.1959,       5881,     8.9,2,  21.8578,2,  35.0094,2,-999.0000,9,    211.1,2,  -999.0,9, -999.00,9, -999.00,9, -999.00,9, -999.00,9,-999.000,9,-999.000,9,-999.0000,9,  -999.0,9,  -999.0,9,-999.0000,9,  -999.00,9, -999.00,9,  -999.0,9, -999.00,9, -999.00,9,     -999.0,9, 20220511,      133,  30.0000, 145.1960,    22.0689,2,     -999.0,9,     -999.0,9,     -999.0,1,     -999.0,9,     0.0155,1,     4.6370,1,     -999.0,9,     -999.0,9,     -999.0,9
33RR20220430,        P02,      26,          1,         20,         20,2,20220511,       0105,    30.0000,   145.1959,       5881,     8.9,2,  21.8566,2,  35.0093,2,-999.0000,9,    211.2,2,  -999.0,9, -999.00,9, -999.00,9, -999.00,9, -999.00,9,-999.000,9,-999.000,9,-999.0000,9,  -999.0,9,  -999.0,9,-999.0000,9,  -999.00,9, -999.00,9,  -999.0,9, -999.00,9, -999.00,9,     -999.0,9, 20220511,      134,  30.0000, 145.1959,     -999.0,9,     -999.0,9,     -999.0,9,     -999.0,9,     -999.0,9,     0.0147,1,     4.6358,1,     -999.0,9,     -999.0,9,     -999.0,9
33RR20220430,        P02,      26,          1,         19,         19,2,20220511,       0105,    30.0000,   145.1959,       5881,     9.0,2,  21.8566,2,  35.0090,2,-999.0000,9,    211.8,2,  -999.0,9, -999.00,9, -999.00,9, -999.00,9, -999.00,9,-999.000,9,-999.000,9,-999.0000,9,  -999.0,9,  -999.0,9,-999.0000,9,  -999.00,9, -999.00,9,  -999.0,9, -999.00,9, -999.00,9,     -999.0,9, 20220511,      134,  30.0000, 145.1959,    22.0680,2,     -999.0,9,     -999.0,9,     -999.0,9,     -999.0,1,     0.0156,1,     4.6346,1,     -999.0,9,     -999.0,9,     -999.0,9
33RR20220430,        P02,      26,          1,         18,         18,2,20220511,       0105,    30.0000,   145.1959,       5881,     9.0,2,  21.8570,2,  35.0087,2,-999.0000,9,    211.7,2,  -999.0,9, -999.00,9, -999.00,9, -999.00,9, -999.00,9,-999.000,9,-999.000,9,-999.0000,9,  -999.0,9,  -999.0,9,-999.0000,9,  -999.00,9, -999.00,9,  -999.0,9, -999.00,9, -999.00,9,     -999.0,9, 20220511,      134,  30.0000, 145.1960,    22.0680,2,     -999.0,9,     -999.0,9,     -999.0,9,     -999.0,1,     0.0155,1,     4.6368,1,     -999.0,9,     -999.0,9,     -999.0,9
33RR20220430,        P02,      26,          1,         13,         13,2,20220511,       0105,    30.0000,   145.1959,       5881,     9.1,2,  21.8575,2,  35.0093,2,-999.0000,9,    211.0,2,  -999.0,9, -999.00,9, -999.00,9, -999.00,9, -999.00,9,-999.000,9,-999.000,9,-999.0000,9,  -999.0,9,  -999.0,9,-999.0000,9,  -999.00,9, -999.00,9,  -999.0,9, -999.00,9, -999.00,9,     -999.0,9, 20220511,      133,  30.0000, 145.1959,     -999.0,9,     -999.0,1,     -999.0,1,     -999.0,9,     -999.0,9,     0.0147,1,     4.6364,1,     -999.0,9,     -999.0,9,     -999.0,9
33RR20220430,        P02,      26,          1,         16,         16,2,20220511,       0105,    30.0000,   145.1959,       5881,     9.1,2,  21.8570,2,  35.0085,2,-999.0000,9,    211.5,2,  -999.0,9, -999.00,9, -999.00,9, -999.00,9, -999.00,9,-999.000,9,-999.000,9,-999.0000,9,  -999.0,9,  -999.0,9,-999.0000,9,  -999.00,9, -999.00,9,  -999.0,9, -999.00,9, -999.00,9,     -999.0,9, 20220511,      133,  30.0000, 145.1960,     -999.0,9,     -999.0,9,     -999.0,9,     -999.0,1,     -999.0,9,     0.0147,1,     4.6359,1,     -999.0,9,     -999.0,9,     -999.0,9
33RR20220430,        P02,      26,          1,         17,         17,2,20220511,       0105,    30.0000,   145.1959,       5881,     9.1,2,  21.8565,2,  35.0091,2,-999.0000,9,    210.7,2,  -999.0,9, -999.00,9, -999.00,9, -999.00,9, -999.00,9,-999.000,9,-999.000,9,-999.0000,9,  -999.0,9,  -999.0,9,-999.0000,9,  -999.00,9, -999.00,9,  -999.0,9, -999.00,9, -999.00,9,     -999.0,9, 20220511,      134,  30.0000, 145.1960,    22.0678,2,     -999.0,9,     -999.0,9,     -999.0,9,     -999.0,1,     0.0155,1,     4.6360,1,     -999.0,9,     -999.0,9,     -999.0,9
33RR20220430,        P02,      26,          1,         10,         10,2,20220511,       0105,    30.0000,   145.1959,       5881,     9.3,2,  21.8549,2,  35.0090,2,-999.0000,9,    211.0,2,  -999.0,9, -999.00,9, -999.00,9, -999.00,9, -999.00,9,-999.000,9,-999.000,9,-999.0000,9,  -999.0,9,  -999.0,9,-999.0000,9,  -999.00,9, -999.00,9,  -999.0,9, -999.00,9, -999.00,9,     -999.0,9, 20220511,      132,  30.0000, 145.1960,    22.0660,2,     -999.0,9,     -999.0,9,     -999.0,9,     -999.0,9,     0.0151,1,     4.6372,1,     -999.0,9,     -999.0,1,     -999.0,9
33RR20220430,        P02,      26,          1,         11,         11,2,20220511,       0105,    30.0000,   145.1959,       5881,     9.3,2,  21.8562,2,  35.0095,2,-999.0000,9,    210.8,2,  -999.0,9, -999.00,9, -999.00,9, -999.00,9, -999.00,9,-999.000,9,-999.000,9,-999.0000,9,  -999.0,9,  -999.0,9,-999.0000,9,  -999.00,9, -999.00,9,  -999.0,9, -999.00,9, -999.00,9,     -999.0,9, 20220511,      132,  30.0000, 145.1960,     -999.0,9,     -999.0,1,     -999.0,1,     -999.0,9,     -999.0,9,     0.0150,1,     4.6372,1,     -999.0,9,     -999.0,9,     -999.0,9
33RR20220430,        P02,      26,          1,          9,          9,2,20220511,       0105,    30.0000,   145.1959,       5881,    43.9,2,  20.5301,2,  34.9482,2,-999.0000,9,    219.2,2,  -999.0,9, -999.00,9, -999.00,9, -999.00,9, -999.00,9,-999.000,9,-999.000,9,-999.0000,9,  -999.0,9,  -999.0,9,-999.0000,9,  -999.00,9, -999.00,9,  -999.0,9, -999.00,9, -999.00,9,     -999.0,9, 20220511,      130,  30.0000, 145.1960,    20.7305,2,     -999.0,9,     -999.0,9,     -999.0,9,     -999.0,9,     0.0208,1,     4.6297,1,     -999.0,1,     -999.0,9,     -999.0,1
33RR20220430,        P02,      26,          1,          8,          8,2,20220511,       0105,    30.0000,   145.1959,       5881,    79.0,2,  19.4598,2,  34.9648,2,-999.0000,9,    209.7,2,  -999.0,9, -999.00,9, -999.00,9, -999.00,9, -999.00,9,-999.000,9,-999.000,9,-999.0000,9,  -999.0,9,  -999.0,9,-999.0000,9,  -999.00,9, -999.00,9,  -999.0,9, -999.00,9, -999.00,9,     -999.0,9, 20220511,      128,  30.0000, 145.1960,    19.6553,2,     -999.0,9,     -999.0,9,     -999.0,9,     -999.0,9,     0.0489,1,     4.6075,1,     -999.0,1,     -999.0,9,     -999.0,1
33RR20220430,        P02,      26,          1,          7,          7,2,20220511,       0105,    30.0000,   145.1959,       5881,   109.1,2,  18.6620,2,  34.9722,2,-999.0000,9,    201.4,2,  -999.0,9, -999.00,9, -999.00,9, -999.00,9, -999.00,9,-999.000,9,-999.000,9,-999.0000,9,  -999.0,9,  -999.0,9,-999.0000,9,  -999.00,9, -999.00,9,  -999.0,9, -999.00,9, -999.00,9,     -999.0,9, 20220511,      125,  30.0000, 145.1960,    18.8516,2,     -999.0,9,     -999.0,9,     -999.0,9,     -999.0,9,     0.0202,1,     4.6678,1,     -999.0,9,     -999.0,9,     -999.0,1
33RR20220430,        P02,      26,          1,          6,          6,2,20220511,       0105,    30.0000,   145.1959,       5881,   109.1,2,  18.6592,2,  34.9723,2,-999.0000,9,    202.4,2,  -999.0,9, -999.00,9, -999.00,9, -999.00,9, -999.00,9,-999.000,9,-999.000,9,-999.0000,9,  -999.0,9,  -999.0,9,-999.0000,9,  -999.00,9, -999.00,9,  -999.0,9, -999.00,9, -999.00,9,     -999.0,9, 20220511,      125,  30.0000, 145.1960,    18.8502,2,     -999.0,9,     -999.0,9,     -999.0,9,     -999.0,9,     0.0210,1,     4.6683,1,     -999.0,1,     -999.0,9,     -999.0,1
33RR20220430,        P02,      26,          1,          5,          5,2,20220511,       0105,    30.0000,   145.1959,       5881,   128.9,2,  18.3393,2,  34.9569,2,-999.0000,9,    205.4,2,  -999.0,9, -999.00,9, -999.00,9, -999.00,9, -999.00,9,-999.000,9,-999.000,9,-999.0000,9,  -999.0,9,  -999.0,9,-999.0000,9,  -999.00,9, -999.00,9,  -999.0,9, -999.00,9, -999.00,9,     -999.0,9, 20220511,      124,  30.0000, 145.1959,    18.5227,2,     -999.0,9,     -999.0,9,     -999.0,9,     -999.0,9,     0.0171,1,     4.6763,1,     -999.0,9,     -999.0,1,     -999.0,9
33RR20220430,        P02,      26,          1,          4,          4,2,20220511,       0105,    30.0000,   145.1959,       5881,   203.2,2,  17.3039,2,  34.9081,2,-999.0000,9,    208.7,2,  -999.0,9, -999.00,9, -999.00,9, -999.00,9, -999.00,9,-999.000,9,-999.000,9,-999.0000,9,  -999.0,9,  -999.0,9,-999.0000,9,  -999.00,9, -999.00,9,  -999.0,9, -999.00,9, -999.00,9,     -999.0,9, 20220511,      121,  30.0000, 145.1959,     -999.0,9,     -999.0,9,     -999.0,9,     -999.0,9,     -999.0,9,     0.0127,1,     4.6884,1,     -999.0,9,     -999.0,9,     -999.0,1
33RR20220430,        P02,      26,          1,          3,          3,2,20220511,       0105,    30.0000,   145.1959,       5881,   204.4,2,  17.2960,2,  34.9076,2,-999.0000,9,    208.2,2,  -999.0,9, -999.00,9, -999.00,9, -999.00,9, -999.00,9,-999.000,9,-999.000,9,-999.0000,9,  -999.0,9,  -999.0,9,-999.0000,9,  -999.00,9, -999.00,9,  -999.0,9, -999.00,9, -999.00,9,     -999.0,9, 20220511,      121,  30.0000, 145.1959,    17.4715,2,     -999.0,9,     -999.0,9,     -999.0,9,     -999.0,9,     0.0122,1,     4.6885,1,     -999.0,9,     -999.0,1,     -999.0,1
33RR20220430,        P02,      26,          1,          2,          2,2,20220511,       0105,    30.0000,   145.1959,       5881,   504.4,2,  11.1875,2,  34.3778,2,-999.0000,9,    182.8,2,  -999.0,9, -999.00,9, -999.00,9, -999.00,9, -999.00,9,-999.000,9,-999.000,9,-999.0000,9,  -999.0,9,  -999.0,9,-999.0000,9,  -999.00,9, -999.00,9,  -999.0,9, -999.00,9, -999.00,9,     -999.0,9, 20220511,      115,  30.0000, 145.1959,    11.2765,2,     -999.0,9,     -999.0,9,     -999.0,9,     -999.0,9,     0.0122,1,     4.7042,1,     -999.0,9,     -999.0,9,     -999.0,1
33RR20220430,        P02,      26,          1,          1,          1,2,20220511,       0105,    30.0000,   145.1959,       5881,  1007.9,2,   3.8914,2,  34.2754,2,-999.0000,9,     44.2,2,  -999.0,9, -999.00,9, -999.00,9, -999.00,9, -999.00,9,-999.000,9,-999.000,9,-999.0000,9,  -999.0,9,  -999.0,9,-999.0000,9,  -999.00,9, -999.00,9,  -999.0,9, -999.00,9, -999.00,9,     -999.0,9, 20220511,      105,  30.0000, 145.1959,     3.8898,2,     -999.0,9,     -999.0,9,     -999.0,9,     -999.0,9,     0.0134,1,     4.7054,1,     -999.0,9,     -999.0,1,     -999.0,1