BOTTLE,20230801CCHSIOCBG
EXPOCODE,SECT_ID,STNNBR,CASTNO,SAMPNO,BTLNBR,BTLNBR_FLAG_W,DATE,TIME,LATITUDE,LONGITUDE,DEPTH,CTDPRS,CTDPRS_FLAG_W,CTDTMP,CTDTMP_FLAG_W,CTDSAL,CTDSAL_FLAG_W,SALNTY,SALNTY_FLAG_W,CTDOXY,CTDOXY_FLAG_W,OXYGEN,OXYGEN_FLAG_W,SILCAT,SILCAT_FLAG_W,NITRAT,NITRAT_FLAG_W,NITRIT,NITRIT_FLAG_W,PHSPHT,PHSPHT_FLAG_W,CFC-11,CFC-11_FLAG_W,CFC-12,CFC-12_FLAG_W,SF6,SF6_FLAG_W,TCARBN,TCARBN_FLAG_W,ALKALI,ALKALI_FLAG_W,PH_TOT,PH_TOT_FLAG_W,PH_TMP,PH_TMP_FLAG_W,DELC13,DELC13_FLAG_W,DELC14,DELC14_FLAG_W,DOC,DOC_FLAG_W,TDN,TDN_FLAG_W,N2O,N2O_FLAG_W,BTL_DATE,BTL_TIME,BTL_LAT,BTL_LON,REFTMP,REFTMP_FLAG_W,POC,POC_FLAG_W,PON,PON_FLAG_W,POP,POP_FLAG_W,PCOD,PCOD_FLAG_W,CTDFLUOR,CTDFLUOR_FLAG_W,CTDXMISS,CTDXMISS_FLAG_W,HPLC,HPLC_FLAG_W,DNA,DNA_FLAG_W,FCM,FCM_FLAG_W
,,,,,,,,,,,METERS,DBAR,,ITS-90,,PSS-78,,PSS-78,,UMOL/KG,,UMOL/KG,,UMOL/KG,,UMOL/KG,,UMOL/KG,,UMOL/KG,,PMOL/KG,,PMOL/KG,,FMOL/KG,,UMOL/KG,,UMOL/KG,,,,DEG C,,/MILLE,,/MILLE,,UMOL/KG,,UMOL/KG,,NMOL/KG,,,,,,ITS-90,,UG/L,,UG/L,,UG/L,,UG/L,,VOLTS,,VOLTS,,,,,,,
33RR20220430,        P02,      80,          2,          3,          3,2,20220528,       0943,    29.9996,   177.4402,       5252,  4786.8,2,   1.4677,2,  34.6902,2,  34.6887,2,    162.7,2,   162.4,2,  144.55,2,   35.02,2,    0.00,2,    2.41,2,   0.008,2,   0.000,2,   0.0000,2,  2316.3,2,  2411.7,2,   7.5876,2,    25.03,2, -999.00,1,  -999.0,1, -999.00,1, -999.00,1,       21.8,2, 20220528,      954,  29.9996, 177.4403,     1.4677,2,     -999.0,9,     -999.0,9,     -999.0,9,     -999.0,9,     0.0122,1,     4.7056,1,     -999.0,9,     -999.0,9,     -999.0,9
33RR20220430,        P02,      80,          2,          2,          2,2,20220528,       0943,    29.9996,   177.4402,       5252,  5095.1,2,   1.4816,2,  34.6923,3,  34.6895,2,    167.1,2,   168.1,2,  141.04,2,   34.67,2,    0.00,2,    2.39,2,-999.000,9,-999.000,9,-999.0000,9,  2311.6,2,  2411.1,2,   7.5922,2,    25.02,2, -999.00,1,  -999.0,1, -999.00,9, -999.00,9,     -999.0,9, 20220528,      948,  29.9996, 177.4403,     1.4816,2,     -999.0,9,     -999.0,9,     -999.0,9,     -999.0,9,     0.0122,1,     4.7046,1,     -999.0,9,     -999.0,9,     -999.0,9
33RR20220430,        P02,      80,          2,          1,          1,2,20220528,       0943,    29.9996,   177.4402,       5252,  5344.1,2,   1.5053,2,  34.6929,3,  34.6905,2,    169.0,2,   168.4,2,  139.77,2,   34.60,2,    0.00,2,    2.38,2,   0.009,2,   0.000,2,   0.0000,2,  2311.3,6,  2408.4,2,   7.5942,2,    25.01,2, -999.00,1,  -999.0,1, -999.00,1, -999.00,1,       21.5,2, 20220528,      943,  29.9996, 177.4403,     1.5050,2,     -999.0,9,     -999.0,9,     -999.0,9,     -999.0,9,     0.0122,1,     4.7033,1,     -999.0,9,     -999.0,9,     -999.0,9