BOTTLE,20230801CCHSIOCBG
EXPOCODE,SECT_ID,STNNBR,CASTNO,SAMPNO,BTLNBR,BTLNBR_FLAG_W,DATE,TIME,LATITUDE,LONGITUDE,DEPTH,CTDPRS,CTDPRS_FLAG_W,CTDTMP,CTDTMP_FLAG_W,CTDSAL,CTDSAL_FLAG_W,SALNTY,SALNTY_FLAG_W,CTDOXY,CTDOXY_FLAG_W,OXYGEN,OXYGEN_FLAG_W,SILCAT,SILCAT_FLAG_W,NITRAT,NITRAT_FLAG_W,NITRIT,NITRIT_FLAG_W,PHSPHT,PHSPHT_FLAG_W,CFC-11,CFC-11_FLAG_W,CFC-12,CFC-12_FLAG_W,SF6,SF6_FLAG_W,TCARBN,TCARBN_FLAG_W,ALKALI,ALKALI_FLAG_W,PH_TOT,PH_TOT_FLAG_W,PH_TMP,PH_TMP_FLAG_W,DELC13,DELC13_FLAG_W,DELC14,DELC14_FLAG_W,DOC,DOC_FLAG_W,TDN,TDN_FLAG_W,N2O,N2O_FLAG_W,BTL_DATE,BTL_TIME,BTL_LAT,BTL_LON,REFTMP,REFTMP_FLAG_W,POC,POC_FLAG_W,PON,PON_FLAG_W,POP,POP_FLAG_W,PCOD,PCOD_FLAG_W,CTDFLUOR,CTDFLUOR_FLAG_W,CTDXMISS,CTDXMISS_FLAG_W,HPLC,HPLC_FLAG_W,DNA,DNA_FLAG_W,FCM,FCM_FLAG_W
,,,,,,,,,,,METERS,DBAR,,ITS-90,,PSS-78,,PSS-78,,UMOL/KG,,UMOL/KG,,UMOL/KG,,UMOL/KG,,UMOL/KG,,UMOL/KG,,PMOL/KG,,PMOL/KG,,FMOL/KG,,UMOL/KG,,UMOL/KG,,,,DEG C,,/MILLE,,/MILLE,,UMOL/KG,,UMOL/KG,,NMOL/KG,,,,,,ITS-90,,UG/L,,UG/L,,UG/L,,UG/L,,VOLTS,,VOLTS,,,,,,,
33RR20220430,        P02,      69,          1,          3,          3,2,20220525,       0515,    29.9999,   172.0274,       5122,  4579.7,2,   1.4624,2,  34.6886,2,  34.6897,2,    159.3,2,   159.2,2,  147.48,2,   35.61,2,    0.00,2,    2.46,2,   0.010,2,   0.000,2,   0.0000,2,  2317.4,2,  2412.9,2,   7.5839,2,    25.02,2, -999.00,9,  -999.0,9, -999.00,1, -999.00,1,       22.0,2, 20220525,      528,  29.9999, 172.0274,     1.4621,2,     -999.0,9,     -999.0,9,     -999.0,9,     -999.0,9,     0.0129,1,     4.7069,1,     -999.0,9,     -999.0,9,     -999.0,9
33RR20220430,        P02,      69,          1,          2,          2,2,20220525,       0515,    29.9999,   172.0274,       5122,  4891.4,2,   1.4627,2,  34.6918,2,  34.6924,2,    165.6,2,   166.1,2,  142.99,2,   35.04,2,    0.00,2,    2.41,2,-999.000,9,-999.000,9,-999.0000,9,  2312.0,2,  2409.1,2,   7.5918,2,    25.00,2, -999.00,9,  -999.0,9, -999.00,1, -999.00,1,     -999.0,9, 20220525,      522,  29.9999, 172.0274,     1.4629,2,     -999.0,9,     -999.0,9,     -999.0,9,     -999.0,9,     0.0122,1,     4.7079,1,     -999.0,9,     -999.0,9,     -999.0,9
33RR20220430,        P02,      69,          1,          1,          1,2,20220525,       0515,    29.9999,   172.0274,       5122,  5209.8,2,   1.4696,2,  34.6946,2,  34.6962,2,    171.2,2,   171.1,2,  137.52,2,   34.58,2,    0.00,2,    2.38,2,   0.009,2,   0.000,2,   0.0000,2,  2306.2,6,  2405.3,2,   7.6000,2,    24.43,2, -999.00,9,  -999.0,9, -999.00,1, -999.00,1,       21.3,2, 20220525,      515,  30.0000, 172.0274,     1.4695,2,     -999.0,9,     -999.0,9,     -999.0,9,     -999.0,9,     0.0122,1,     4.7048,1,     -999.0,9,     -999.0,9,     -999.0,9