BOTTLE,20230801CCHSIOCBG
EXPOCODE,SECT_ID,STNNBR,CASTNO,SAMPNO,BTLNBR,BTLNBR_FLAG_W,DATE,TIME,LATITUDE,LONGITUDE,DEPTH,CTDPRS,CTDPRS_FLAG_W,CTDTMP,CTDTMP_FLAG_W,CTDSAL,CTDSAL_FLAG_W,SALNTY,SALNTY_FLAG_W,CTDOXY,CTDOXY_FLAG_W,OXYGEN,OXYGEN_FLAG_W,SILCAT,SILCAT_FLAG_W,NITRAT,NITRAT_FLAG_W,NITRIT,NITRIT_FLAG_W,PHSPHT,PHSPHT_FLAG_W,CFC-11,CFC-11_FLAG_W,CFC-12,CFC-12_FLAG_W,SF6,SF6_FLAG_W,TCARBN,TCARBN_FLAG_W,ALKALI,ALKALI_FLAG_W,PH_TOT,PH_TOT_FLAG_W,PH_TMP,PH_TMP_FLAG_W,DELC13,DELC13_FLAG_W,DELC14,DELC14_FLAG_W,DOC,DOC_FLAG_W,TDN,TDN_FLAG_W,N2O,N2O_FLAG_W,BTL_DATE,BTL_TIME,BTL_LAT,BTL_LON,REFTMP,REFTMP_FLAG_W,POC,POC_FLAG_W,PON,PON_FLAG_W,POP,POP_FLAG_W,PCOD,PCOD_FLAG_W,CTDFLUOR,CTDFLUOR_FLAG_W,CTDXMISS,CTDXMISS_FLAG_W,HPLC,HPLC_FLAG_W,DNA,DNA_FLAG_W,FCM,FCM_FLAG_W
,,,,,,,,,,,METERS,DBAR,,ITS-90,,PSS-78,,PSS-78,,UMOL/KG,,UMOL/KG,,UMOL/KG,,UMOL/KG,,UMOL/KG,,UMOL/KG,,PMOL/KG,,PMOL/KG,,FMOL/KG,,UMOL/KG,,UMOL/KG,,,,DEG C,,/MILLE,,/MILLE,,UMOL/KG,,UMOL/KG,,NMOL/KG,,,,,,ITS-90,,UG/L,,UG/L,,UG/L,,UG/L,,VOLTS,,VOLTS,,,,,,,
33RR20220430,        P02,      86,          2,         36,         36,2,20220530,       0416,    29.9998,  -179.0966,       5428,     4.3,2,  21.8515,2,  35.1343,3,  35.0852,2,    223.4,2,   223.1,2,    1.37,2,    0.02,2,    0.00,2,    0.01,2,   1.724,2,   1.157,2,   2.0752,2,  2024.2,2,  2304.9,2,   8.0049,2,    25.01,2, -999.00,9,  -999.0,9, -999.00,1, -999.00,1,        7.5,2, 20220530,      630,  29.9998,-179.0966,    21.8152,2,     -999.0,9,     -999.0,9,     -999.0,9,     -999.0,9,     0.0147,1,     4.6269,1,     -999.0,9,     -999.0,9,     -999.0,9
33RR20220430,        P02,      86,          2,         35,         35,2,20220530,       0416,    29.9998,  -179.0966,       5428,    21.5,2,  20.3127,2,  34.9857,2,  34.9685,2,    233.5,2,   231.8,2,    1.56,2,    0.00,2,    0.01,2,    0.00,2,   1.861,2,   1.218,2,   2.1389,2,  2024.7,2,  2296.7,2,   7.9906,2,    24.99,2, -999.00,9,  -999.0,9, -999.00,1, -999.00,1,        7.8,2, 20220530,      628,  29.9998,-179.0966,    20.3210,2,     -999.0,9,     -999.0,9,     -999.0,9,     -999.0,9,     0.0134,1,     4.6302,1,     -999.0,9,     -999.0,9,     -999.0,9
33RR20220430,        P02,      86,          2,         34,         34,2,20220530,       0416,    29.9998,  -179.0966,       5428,    41.6,2,  19.3416,2,  34.8950,2,  34.8879,2,    239.7,2,   239.1,2,    1.56,2,   -0.01,2,    0.01,2,    0.00,2,   1.958,2,   1.270,2,   2.1315,2,  2020.1,2,  2290.9,2,   7.9904,2,    25.02,2, -999.00,9,  -999.0,9, -999.00,1, -999.00,1,        8.0,2, 20220530,      626,  29.9998,-179.0966,    19.3415,2,     -999.0,9,     -999.0,9,     -999.0,9,     -999.0,9,     0.0147,1,     4.6288,1,     -999.0,9,     -999.0,9,     -999.0,9
33RR20220430,        P02,      86,          2,         33,         33,2,20220530,       0416,    29.9998,  -179.0966,       5428,    66.0,2,  18.0999,2,  34.8034,3,  34.7716,2,    234.7,3,   237.5,2,    1.95,2,   -0.01,2,    0.01,2,    0.01,2,   1.988,2,   1.310,2,   2.3251,2,  2025.3,6,  2283.3,2,   7.9751,2,    25.01,2, -999.00,9,  -999.0,9, -999.00,1, -999.00,1,        8.4,2, 20220530,      624,  29.9997,-179.0966,    18.1025,2,     -999.0,9,     -999.0,9,     -999.0,9,     -999.0,9,     0.0286,1,     4.6076,1,     -999.0,9,     -999.0,9,     -999.0,9
33RR20220430,        P02,      86,          2,         32,         32,2,20220530,       0416,    29.9998,  -179.0966,       5428,    92.1,2,  17.2461,2,  34.7013,2,  34.6863,2,    227.0,2,   227.4,2,    2.64,2,    1.74,2,    0.18,2,    0.13,2,   2.070,2,   1.349,2,   2.1707,2,  2034.4,2,  2276.8,2,   7.9479,2,    25.00,2, -999.00,9,  -999.0,9, -999.00,1, -999.00,1,        9.5,2, 20220530,      622,  29.9998,-179.0965,    17.2443,2,     -999.0,9,     -999.0,9,     -999.0,9,     -999.0,9,     0.0432,1,     4.6166,1,     -999.0,9,     -999.0,9,     -999.0,9
33RR20220430,        P02,      86,          2,         31,         31,2,20220530,       0416,    29.9998,  -179.0966,       5428,   137.3,2,  16.4573,2,  34.6419,2,  34.6284,2,    220.6,2,   220.6,2,    3.81,2,    3.87,2,    0.02,2,    0.24,2,   2.135,2,   1.372,2,   2.2388,2,  2044.2,2,  2273.3,2,   7.9218,2,    25.01,2, -999.00,9,  -999.0,9, -999.00,1, -999.00,1,        9.9,2, 20220530,      620,  29.9998,-179.0965,    16.4559,2,     -999.0,9,     -999.0,9,     -999.0,9,     -999.0,9,     0.0159,1,     4.6749,1,     -999.0,9,     -999.0,9,     -999.0,9
33RR20220430,        P02,      86,          2,         30,         30,2,20220530,       0416,    29.9998,  -179.0966,       5428,   187.7,2,  15.9058,2,  34.6158,2,  34.6044,2,    217.2,2,   217.3,2,    4.88,2,    4.97,2,    0.02,2,    0.33,2,   2.195,2,   1.431,2,   2.1936,2,  2052.9,2,  2273.4,2,   7.9031,2,    25.02,2, -999.00,9,  -999.0,9, -999.00,1, -999.00,1,       10.5,2, 20220530,      618,  29.9997,-179.0965,    15.9055,2,     -999.0,9,     -999.0,9,     -999.0,9,     -999.0,9,     0.0122,1,     4.6805,1,     -999.0,9,     -999.0,9,     -999.0,9
33RR20220430,        P02,      86,          2,         29,         29,2,20220530,       0416,    29.9998,  -179.0966,       5428,   237.6,2,  14.9877,2,  34.5572,2,  34.5449,2,    209.5,2,   209.6,2,    7.33,2,    7.38,2,    0.00,2,    0.49,2,   2.303,2,   1.479,2,   2.1227,2,  2068.6,2,  2274.0,2,   7.8689,2,    24.99,2, -999.00,9,  -999.0,9, -999.00,1, -999.00,1,       12.1,2, 20220530,      616,  29.9997,-179.0965,    14.9858,2,     -999.0,9,     -999.0,9,     -999.0,9,     -999.0,9,     0.0122,1,     4.6845,1,     -999.0,9,     -999.0,9,     -999.0,9
33RR20220430,        P02,      86,          2,         28,         28,2,20220530,       0416,    29.9998,  -179.0966,       5428,   287.8,2,  13.9497,2,  34.4777,2,  34.4679,2,    209.1,2,   209.7,2,    9.57,2,    9.01,2,    0.00,2,    0.59,2,   2.366,2,   1.516,2,   2.0527,2,  -999.0,9,  -999.0,9,-999.0000,9,  -999.00,9, -999.00,9,  -999.0,9, -999.00,1, -999.00,1,       12.8,2, 20220530,      614,  29.9997,-179.0966,    13.9417,2,     -999.0,9,     -999.0,9,     -999.0,9,     -999.0,9,     0.0122,1,     4.6881,1,     -999.0,9,     -999.0,9,     -999.0,9
33RR20220430,        P02,      86,          2,         27,         27,2,20220530,       0416,    29.9998,  -179.0966,       5428,   338.9,2,  13.0529,2,  34.4103,2,  34.3974,2,    208.9,2,   210.1,2,   12.31,2,   10.70,2,    0.00,2,    0.69,2,   2.470,6,   1.561,6,   2.1867,6,  2089.6,2,  2268.4,2,   7.8172,2,    25.01,2, -999.00,9,  -999.0,9, -999.00,1, -999.00,1,       13.8,6, 20220530,      612,  29.9997,-179.0966,    13.0516,2,     -999.0,9,     -999.0,9,     -999.0,9,     -999.0,9,     0.0122,1,     4.6889,1,     -999.0,9,     -999.0,9,     -999.0,9
33RR20220430,        P02,      86,          2,         26,         26,2,20220530,       0416,    29.9998,  -179.0966,       5428,   388.9,2,  11.8309,2,  34.3117,2,  34.3027,2,    208.9,2,   210.3,2,   15.44,2,   12.75,2,    0.00,2,    0.86,2,   2.578,2,   1.620,2,   2.1002,2,  -999.0,9,  -999.0,9,-999.0000,9,  -999.00,9, -999.00,9,  -999.0,9, -999.00,1, -999.00,1,       14.9,2, 20220530,      610,  29.9998,-179.0965,    11.8184,2,     -999.0,9,     -999.0,9,     -999.0,9,     -999.0,9,     0.0122,1,     4.6910,1,     -999.0,9,     -999.0,9,     -999.0,9
33RR20220430,        P02,      86,          2,         25,         25,2,20220530,       0416,    29.9998,  -179.0966,       5428,   470.6,2,   9.8837,2,  34.1562,2,  34.1454,2,    199.8,2,   200.2,2,   23.65,2,   17.27,2,    0.00,2,    1.16,2,   2.700,2,   1.673,2,   1.8627,2,  2134.7,2,  2267.3,2,   7.7145,2,    25.03,2, -999.00,9,  -999.0,9, -999.00,1, -999.00,1,       17.6,2, 20220530,      608,  29.9997,-179.0966,     9.8820,2,     -999.0,9,     -999.0,9,     -999.0,9,     -999.0,9,     0.0122,1,     4.6958,1,     -999.0,9,     -999.0,9,     -999.0,9
33RR20220430,        P02,      86,          2,         24,         24,2,20220530,       0416,    29.9998,  -179.0966,       5428,   575.8,2,   7.2802,2,  34.0088,2,  34.0043,2,    161.4,2,   160.4,2,   44.66,2,   25.72,2,    0.00,2,    1.78,2,   2.484,2,   1.525,2,   1.5052,2,  2192.3,2,  2277.5,2,   7.5815,2,    25.00,2, -999.00,9,  -999.0,9, -999.00,9, -999.00,9,       25.1,2, 20220530,      605,  29.9997,-179.0966,     7.2838,2,     -999.0,9,     -999.0,9,     -999.0,9,     -999.0,9,     0.0131,1,     4.6977,1,     -999.0,9,     -999.0,9,     -999.0,9
33RR20220430,        P02,      86,          2,         23,         23,2,20220530,       0416,    29.9998,  -179.0966,       5428,   673.4,2,   5.6736,2,  34.0365,2,  34.0311,2,    106.9,2,   105.9,2,   69.09,2,   33.54,2,    0.00,2,    2.34,2,   1.787,2,   1.111,2,   0.8110,2,  2252.1,2,  2295.9,2,   7.4554,2,    25.02,2, -999.00,9,  -999.0,9, -999.00,1, -999.00,1,       34.7,2, 20220530,      602,  29.9997,-179.0966,     5.6827,2,     -999.0,9,     -999.0,9,     -999.0,9,     -999.0,9,     0.0126,1,     4.6963,1,     -999.0,9,     -999.0,9,     -999.0,9
33RR20220430,        P02,      86,          2,         22,         22,2,20220530,       0416,    29.9998,  -179.0966,       5428,   773.6,2,   4.7621,2,  34.1133,2,  34.1140,2,     67.4,3,    66.2,2,   90.00,2,   38.54,2,    0.00,2,    2.70,2,   1.075,2,   0.661,2,   0.1862,2,  2297.7,2,  2318.4,2,   7.3775,2,    25.04,2, -999.00,9,  -999.0,9, -999.00,1, -999.00,1,       43.3,2, 20220530,      559,  29.9997,-179.0966,     4.7612,2,     -999.0,9,     -999.0,9,     -999.0,9,     -999.0,9,     0.0134,1,     4.6996,1,     -999.0,9,     -999.0,9,     -999.0,9
33RR20220430,        P02,      86,          2,         21,         21,2,20220530,       0416,    29.9998,  -179.0966,       5428,   873.7,2,   4.1643,2,  34.2041,2,  34.2022,2,     41.7,2,    41.9,2,  106.41,2,   41.32,2,    0.00,2,    2.89,2,   0.547,2,   0.343,2,   0.0449,2,  2330.4,2,  2337.8,2,   7.3385,2,    25.00,2, -999.00,9,  -999.0,9, -999.00,1, -999.00,1,       49.6,2, 20220530,      556,  29.9997,-179.0966,     4.1661,2,     -999.0,9,     -999.0,9,     -999.0,9,     -999.0,9,     0.0134,1,     4.6996,1,     -999.0,9,     -999.0,9,     -999.0,9
33RR20220430,        P02,      86,          2,         20,         20,2,20220530,       0416,    29.9998,  -179.0966,       5428,   975.1,2,   3.7220,2,  34.2935,2,  34.2932,2,     28.9,2,    29.0,2,  120.08,2,   42.83,2,    0.00,2,    3.02,2,   0.236,2,   0.154,2,   0.0000,2,  -999.0,9,  -999.0,9,-999.0000,9,  -999.00,9, -999.00,9,  -999.0,9, -999.00,9, -999.00,9,       52.7,2, 20220530,      554,  29.9997,-179.0966,     3.7241,2,     -999.0,9,     -999.0,9,     -999.0,9,     -999.0,9,     0.0134,1,     4.6996,1,     -999.0,9,     -999.0,9,     -999.0,9
33RR20220430,        P02,      86,          2,         19,         19,2,20220530,       0416,    29.9998,  -179.0966,       5428,  1075.4,2,   3.4082,2,  34.3566,2,  34.3556,2,     24.5,2,    24.5,2,  130.14,2,   43.49,2,    0.00,2,    3.07,2,   0.117,2,   0.072,2,   0.0000,2,  2365.5,2,  2365.4,2,   7.3230,2,    25.02,2, -999.00,9,  -999.0,9, -999.00,1, -999.00,1,       55.1,2, 20220530,      551,  29.9998,-179.0965,     3.4093,2,     -999.0,9,     -999.0,9,     -999.0,9,     -999.0,9,     0.0134,1,     4.6997,1,     -999.0,9,     -999.0,9,     -999.0,9
33RR20220430,        P02,      86,          2,         18,         18,2,20220530,       0416,    29.9998,  -179.0966,       5428,  1177.2,2,   3.1824,2,  34.4041,2,  34.4039,2,     24.7,3,    25.3,2,  137.07,2,   43.69,2,    0.00,2,    3.09,2,   0.058,2,   0.037,2,   0.0000,2,  -999.0,9,  -999.0,9,-999.0000,9,  -999.00,9, -999.00,9,  -999.0,9, -999.00,9, -999.00,9,       55.2,2, 20220530,      548,  29.9997,-179.0966,     3.1820,2,     -999.0,9,     -999.0,9,     -999.0,9,     -999.0,9,     0.0134,1,     4.6998,1,     -999.0,9,     -999.0,9,     -999.0,9
33RR20220430,        P02,      86,          2,         17,         17,2,20220530,       0416,    29.9998,  -179.0966,       5428,  1279.1,2,   2.9729,2,  34.4528,2,  34.4504,2,     28.8,2,    29.1,2,  142.83,2,   43.63,2,    0.00,2,    3.09,2,   0.029,2,   0.018,2,   0.0000,2,  2375.8,2,  2384.3,2,   7.3416,2,    25.01,2, -999.00,9,  -999.0,9, -999.00,1, -999.00,1,       51.1,2, 20220530,      545,  29.9997,-179.0965,     2.9729,2,     -999.0,9,     -999.0,9,     -999.0,9,     -999.0,9,     0.0134,1,     4.7002,1,     -999.0,9,     -999.0,9,     -999.0,9
33RR20220430,        P02,      86,          2,         16,         16,2,20220530,       0416,    29.9998,  -179.0966,       5428,  1553.9,2,   2.4955,2,  34.5345,2,  34.5335,2,     46.8,2,    47.1,2,  154.25,2,   42.84,2,    0.00,2,    2.99,2,   0.009,2,   0.000,2,   0.0000,2,  2377.2,2,  2399.1,2,   7.3801,2,    25.00,2, -999.00,9,  -999.0,9, -999.00,9, -999.00,9,       43.7,2, 20220530,      539,  29.9998,-179.0966,     2.4947,2,     -999.0,9,     -999.0,9,     -999.0,9,     -999.0,9,     0.0134,1,     4.7015,1,     -999.0,9,     -999.0,9,     -999.0,9
33RR20220430,        P02,      86,          2,         15,         15,2,20220530,       0416,    29.9998,  -179.0966,       5428,  1654.4,2,   2.3641,2,  34.5545,2,  34.5529,2,     54.3,2,    54.7,2,  157.18,2,   42.41,2,    0.00,2,    2.96,2,   0.006,2,   0.000,2,   0.0000,2,  2374.8,2,  2404.6,2,   7.3954,2,    25.02,2, -999.00,9,  -999.0,9, -999.00,1, -999.00,1,       40.6,2, 20220530,      536,  29.9997,-179.0966,     2.3654,2,     -999.0,9,     -999.0,9,     -999.0,9,     -999.0,9,     0.0134,1,     4.7020,1,     -999.0,9,     -999.0,9,     -999.0,9
33RR20220430,        P02,      86,          2,         14,         14,2,20220530,       0416,    29.9998,  -179.0966,       5428,  1958.3,2,   1.9922,2,  34.6012,2,  34.6007,2,     76.0,2,    76.6,2,  162.65,2,   41.04,2,    0.00,2,    2.85,2,   0.004,2,   0.000,2,   0.0000,2,  2370.1,2,  2413.3,2,   7.4384,2,    25.02,2, -999.00,9,  -999.0,9, -999.00,1, -999.00,1,       33.9,2, 20220530,      530,  29.9997,-179.0965,     1.9920,2,     -999.0,9,     -999.0,9,     -999.0,9,     -999.0,9,     0.0134,1,     4.7032,1,     -999.0,9,     -999.0,9,     -999.0,9
33RR20220430,        P02,      86,          2,         13,         13,2,20220530,       0416,    29.9998,  -179.0966,       5428,  2193.6,2,   1.8325,2,  34.6212,3,  34.6183,2,     89.0,2,    89.2,2,  163.82,2,   40.24,2,    0.00,2,    2.81,2,   0.003,2,   0.000,2,   0.0000,2,  -999.0,9,  -999.0,9,-999.0000,9,  -999.00,9, -999.00,9,  -999.0,9, -999.00,1, -999.00,1,       31.2,2, 20220530,      525,  29.9998,-179.0965,     1.8324,2,     -999.0,9,     -999.0,9,     -999.0,9,     -999.0,9,     0.0134,1,     4.7040,1,     -999.0,9,     -999.0,9,     -999.0,9
33RR20220430,        P02,      86,          2,         12,         12,2,20220530,       0416,    29.9998,  -179.0966,       5428,  2447.3,2,   1.6947,2,  34.6391,3,  34.6370,2,    102.9,2,   102.6,2,  163.72,2,   39.37,2,    0.00,2,    2.74,2,-999.000,9,-999.000,9,-999.0000,9,  -999.0,9,  -999.0,9,-999.0000,9,  -999.00,9, -999.00,9,  -999.0,9, -999.00,9, -999.00,9,     -999.0,9, 20220530,      519,  29.9998,-179.0966,     1.6947,2,     -999.0,9,     -999.0,9,     -999.0,9,     -999.0,9,     0.0122,1,     4.7042,1,     -999.0,9,     -999.0,9,     -999.0,9
33RR20220430,        P02,      86,          2,         11,         11,2,20220530,       0416,    29.9998,  -179.0966,       5428,  2704.4,2,   1.6177,2,  34.6500,2,  34.6480,2,    112.9,2,   113.2,2,  162.64,2,   38.75,2,    0.00,2,    2.70,2,   0.003,2,   0.000,2,   0.0000,2,  2352.8,2,  2420.0,2,   7.5068,2,    25.00,2, -999.00,9,  -999.0,9, -999.00,1, -999.00,1,       26.8,2, 20220530,      514,  29.9998,-179.0965,     1.6181,2,     -999.0,9,     -999.0,9,     -999.0,9,     -999.0,9,     0.0130,1,     4.7044,1,     -999.0,9,     -999.0,9,     -999.0,9
33RR20220430,        P02,      86,          2,         10,         10,2,20220530,       0416,    29.9998,  -179.0966,       5428,  2960.4,2,   1.5483,2,  34.6606,2,  34.6590,2,    123.4,2,   123.5,2,  160.98,2,   38.11,2,    0.00,2,    2.65,2,-999.000,9,-999.000,9,-999.0000,9,  -999.0,9,  -999.0,9,-999.0000,9,  -999.00,9, -999.00,9,  -999.0,9, -999.00,9, -999.00,9,     -999.0,9, 20220530,      508,  29.9997,-179.0966,     1.5483,2,     -999.0,9,     -999.0,9,     -999.0,9,     -999.0,9,     0.0125,1,     4.7047,1,     -999.0,9,     -999.0,9,     -999.0,9
33RR20220430,        P02,      86,          2,          9,          9,2,20220530,       0416,    29.9998,  -179.0966,       5428,  3248.9,2,   1.4978,2,  34.6690,3,  34.6663,2,    132.9,2,   133.0,2,  158.73,2,   37.51,2,    0.00,2,    2.60,2,   0.004,2,   0.000,2,   0.0000,2,  2339.1,2,  2420.3,2,   7.5418,2,    25.01,2, -999.00,9,  -999.0,9, -999.00,1, -999.00,1,       24.0,2, 20220530,      502,  29.9998,-179.0966,     1.4976,2,     -999.0,9,     -999.0,9,     -999.0,9,     -999.0,9,     0.0122,1,     4.7048,1,     -999.0,9,     -999.0,9,     -999.0,9
33RR20220430,        P02,      86,          2,          8,          8,2,20220530,       0416,    29.9998,  -179.0966,       5428,  3557.0,2,   1.4668,2,  34.6760,2,  34.6743,2,    140.9,2,   141.0,2,  156.97,2,   36.99,2,    0.00,2,    2.55,2,-999.000,9,-999.000,9,-999.0000,9,  -999.0,9,  -999.0,9,-999.0000,9,  -999.00,9, -999.00,9,  -999.0,9, -999.00,9, -999.00,9,     -999.0,9, 20220530,      456,  29.9998,-179.0966,     1.4665,2,     -999.0,9,     -999.0,9,     -999.0,9,     -999.0,9,     0.0131,1,     4.7057,1,     -999.0,9,     -999.0,9,     -999.0,9
33RR20220430,        P02,      86,          2,          7,          7,2,20220530,       0416,    29.9998,  -179.0966,       5428,  3862.4,2,   1.4602,2,  34.6804,3,  34.6777,2,    146.1,2,   146.1,2,  155.60,2,   36.69,2,    0.00,2,    2.52,2,   0.006,2,   0.000,2,   0.0000,2,  2328.6,2,  2420.0,2,   7.5655,2,    25.00,2, -999.00,9,  -999.0,9, -999.00,1, -999.00,1,       22.5,2, 20220530,      450,  29.9997,-179.0965,     1.4601,2,     -999.0,9,     -999.0,9,     -999.0,9,     -999.0,9,     0.0122,1,     4.7056,1,     -999.0,9,     -999.0,9,     -999.0,9
33RR20220430,        P02,      86,          2,          6,          6,2,20220530,       0416,    29.9998,  -179.0966,       5428,  4171.0,2,   1.4651,2,  34.6837,3,  34.6802,2,    150.2,2,   150.0,2,  155.02,2,   36.39,2,    0.00,2,    2.50,2,-999.000,9,-999.000,9,-999.0000,9,  -999.0,9,  -999.0,9,-999.0000,9,  -999.00,9, -999.00,9,  -999.0,9, -999.00,9, -999.00,9,     -999.0,9, 20220530,      444,  29.9997,-179.0966,     1.4650,2,     -999.0,9,     -999.0,9,     -999.0,9,     -999.0,9,     0.0122,1,     4.7056,1,     -999.0,9,     -999.0,9,     -999.0,9
33RR20220430,        P02,      86,          2,          5,          5,2,20220530,       0416,    29.9998,  -179.0966,       5428,  4479.2,2,   1.4754,2,  34.6862,3,  34.6826,2,    154.1,2,   154.2,2,  152.48,2,   36.07,2,    0.00,2,    2.47,2,   0.006,2,   0.000,2,   0.0000,2,  2323.7,2,  2417.8,2,   7.5794,2,    25.00,2, -999.00,9,  -999.0,9, -999.00,1, -999.00,1,       21.7,2, 20220530,      437,  29.9997,-179.0966,     1.4755,2,     -999.0,9,     -999.0,9,     -999.0,9,     -999.0,9,     0.0122,1,     4.7057,1,     -999.0,9,     -999.0,9,     -999.0,9
33RR20220430,        P02,      86,          2,          4,          4,2,20220530,       0416,    29.9998,  -179.0966,       5428,  4786.2,2,   1.4881,2,  34.6884,2,  34.6867,2,    158.5,2,   158.8,2,  148.47,2,   35.70,2,    0.00,2,    2.45,2,-999.000,9,-999.000,9,-999.0000,9,  -999.0,9,  -999.0,9,-999.0000,9,  -999.00,9, -999.00,9,  -999.0,9, -999.00,9, -999.00,9,     -999.0,9, 20220530,      431,  29.9998,-179.0965,     1.4879,2,     -999.0,9,     -999.0,9,     -999.0,9,     -999.0,9,     0.0122,1,     4.7058,1,     -999.0,9,     -999.0,9,     -999.0,9