BOTTLE,20230801CCHSIOCBG
EXPOCODE,SECT_ID,STNNBR,CASTNO,SAMPNO,BTLNBR,BTLNBR_FLAG_W,DATE,TIME,LATITUDE,LONGITUDE,DEPTH,CTDPRS,CTDPRS_FLAG_W,CTDTMP,CTDTMP_FLAG_W,CTDSAL,CTDSAL_FLAG_W,SALNTY,SALNTY_FLAG_W,CTDOXY,CTDOXY_FLAG_W,OXYGEN,OXYGEN_FLAG_W,SILCAT,SILCAT_FLAG_W,NITRAT,NITRAT_FLAG_W,NITRIT,NITRIT_FLAG_W,PHSPHT,PHSPHT_FLAG_W,CFC-11,CFC-11_FLAG_W,CFC-12,CFC-12_FLAG_W,SF6,SF6_FLAG_W,TCARBN,TCARBN_FLAG_W,ALKALI,ALKALI_FLAG_W,PH_TOT,PH_TOT_FLAG_W,PH_TMP,PH_TMP_FLAG_W,DELC13,DELC13_FLAG_W,DELC14,DELC14_FLAG_W,DOC,DOC_FLAG_W,TDN,TDN_FLAG_W,N2O,N2O_FLAG_W,BTL_DATE,BTL_TIME,BTL_LAT,BTL_LON,REFTMP,REFTMP_FLAG_W,POC,POC_FLAG_W,PON,PON_FLAG_W,POP,POP_FLAG_W,PCOD,PCOD_FLAG_W,CTDFLUOR,CTDFLUOR_FLAG_W,CTDXMISS,CTDXMISS_FLAG_W,HPLC,HPLC_FLAG_W,DNA,DNA_FLAG_W,FCM,FCM_FLAG_W
,,,,,,,,,,,METERS,DBAR,,ITS-90,,PSS-78,,PSS-78,,UMOL/KG,,UMOL/KG,,UMOL/KG,,UMOL/KG,,UMOL/KG,,UMOL/KG,,PMOL/KG,,PMOL/KG,,FMOL/KG,,UMOL/KG,,UMOL/KG,,,,DEG C,,/MILLE,,/MILLE,,UMOL/KG,,UMOL/KG,,NMOL/KG,,,,,,ITS-90,,UG/L,,UG/L,,UG/L,,UG/L,,VOLTS,,VOLTS,,,,,,,
33RR20220430,        P02,      97,          1,         36,         36,2,20220602,       0737,    29.9995,  -172.7519,       5260,     3.2,2,  22.5272,2,  35.0943,2,  35.0805,2,    222.7,2,   223.0,2,    1.66,2,    0.01,2,    0.00,2,    0.00,2,   1.781,2,   1.211,2,   2.0795,2,  2025.4,3,  2301.9,2,   7.9987,2,    25.01,2, -999.00,9,  -999.0,9, -999.00,1, -999.00,1,        7.3,2, 20220602,      942,  29.9995,-172.7519,    22.4910,2,     -999.0,9,     -999.0,9,     -999.0,9,     -999.0,9,     0.0135,1,     4.6348,1,     -999.0,9,     -999.0,9,     -999.0,9
33RR20220430,        P02,      97,          1,         35,         35,2,20220602,       0737,    29.9995,  -172.7519,       5260,    35.6,2,  21.0201,2,  35.1236,3,  35.0943,2,    228.9,2,   229.6,2,    1.76,2,    0.00,2,    0.00,2,    0.00,2,   1.850,2,   1.191,2,   2.1871,2,  2027.8,3,  2305.6,2,   7.9990,2,    25.01,2, -999.00,9,  -999.0,9, -999.00,1, -999.00,1,        7.5,2, 20220602,      940,  29.9995,-172.7519,    21.0002,2,     -999.0,9,     -999.0,9,     -999.0,9,     -999.0,9,     0.0141,1,     4.6408,1,     -999.0,9,     -999.0,9,     -999.0,9
33RR20220430,        P02,      97,          1,         34,         34,2,20220602,       0737,    29.9995,  -172.7519,       5260,    60.9,2,  18.7350,2,  34.9180,2,  34.9130,2,    232.8,2,   233.0,2,    2.15,2,    0.00,2,    0.00,2,    0.02,2,   1.978,2,   1.273,2,   2.2175,2,  2028.4,3,  2291.3,2,   7.9783,2,    24.99,2, -999.00,9,  -999.0,9, -999.00,1, -999.00,1,        8.2,2, 20220602,      938,  29.9995,-172.7519,    18.7328,2,     -999.0,9,     -999.0,9,     -999.0,9,     -999.0,9,     0.0195,1,     4.6402,1,     -999.0,9,     -999.0,9,     -999.0,9
33RR20220430,        P02,      97,          1,         33,         33,2,20220602,       0737,    29.9995,  -172.7519,       5260,    86.0,2,  18.0778,2,  34.8401,2,  34.8298,2,    228.0,2,   227.7,2,    2.54,2,    0.28,2,    0.05,2,    0.06,2,   2.045,2,   1.355,2,   2.1285,2,  2035.5,3,  2287.5,2,   7.9594,2,    25.00,2, -999.00,9,  -999.0,9, -999.00,1, -999.00,1,        8.8,2, 20220602,      937,  29.9995,-172.7519,    18.0785,2,     -999.0,9,     -999.0,9,     -999.0,9,     -999.0,9,     0.0487,1,     4.6304,1,     -999.0,9,     -999.0,9,     -999.0,9
33RR20220430,        P02,      97,          1,         32,         32,2,20220602,       0737,    29.9995,  -172.7519,       5260,   117.2,2,  17.1785,2,  34.7271,2,  34.7129,2,    219.5,2,   218.6,2,    3.32,2,    2.19,2,    0.10,2,    0.19,2,   2.139,2,   1.347,2,   2.2429,2,  2046.0,3,  2279.6,2,   7.9267,2,    25.02,2, -999.00,9,  -999.0,9, -999.00,1, -999.00,1,        9.5,2, 20220602,      935,  29.9995,-172.7519,    17.1776,2,     -999.0,9,     -999.0,9,     -999.0,9,     -999.0,9,     0.0342,1,     4.6568,1,     -999.0,9,     -999.0,9,     -999.0,9
33RR20220430,        P02,      97,          1,         31,         31,2,20220602,       0737,    29.9995,  -172.7519,       5260,   167.2,2,  15.9704,2,  34.6102,2,  34.5987,2,    213.2,2,   212.6,2,    4.98,2,    4.84,2,    0.02,2,    0.34,2,   2.218,2,   1.398,2,   2.2565,2,  2056.5,3,  2273.5,2,   7.8938,2,    24.99,2, -999.00,9,  -999.0,9, -999.00,1, -999.00,1,       10.7,2, 20220602,      933,  29.9994,-172.7519,    15.9817,2,     -999.0,9,     -999.0,9,     -999.0,9,     -999.0,9,     0.0159,1,     4.6788,1,     -999.0,9,     -999.0,9,     -999.0,9
33RR20220430,        P02,      97,          1,         30,         30,2,20220602,       0737,    29.9995,  -172.7519,       5260,   217.5,2,  14.6225,2,  34.5070,2,  34.4960,2,    210.6,2,   210.1,2,    7.33,2,    7.34,2,    0.00,2,    0.51,2,   2.390,2,   1.530,2,   2.1251,2,  -999.0,9,  -999.0,1,-999.0000,9,  -999.00,9, -999.00,9,  -999.0,9, -999.00,1, -999.00,1,       12.4,2, 20220602,      931,  29.9994,-172.7519,    14.6261,2,     -999.0,9,     -999.0,9,     -999.0,9,     -999.0,9,     0.0122,1,     4.6862,1,     -999.0,9,     -999.0,9,     -999.0,9
33RR20220430,        P02,      97,          1,         29,         29,2,20220602,       0737,    29.9995,  -172.7519,       5260,   267.8,2,  13.5176,2,  34.4180,2,  34.4059,2,    212.4,2,   212.5,2,    9.57,2,    9.09,2,    0.00,2,    0.63,2,   2.504,2,   1.560,2,   2.1341,2,  2080.6,3,  2266.8,2,   7.8293,2,    24.98,2, -999.00,9,  -999.0,9, -999.00,1, -999.00,1,       13.7,2, 20220602,      929,  29.9995,-172.7519,    13.5169,2,     -999.0,9,     -999.0,9,     -999.0,9,     -999.0,9,     0.0122,1,     4.6899,1,     -999.0,9,     -999.0,9,     -999.0,9
33RR20220430,        P02,      97,          1,         28,         28,2,20220602,       0737,    29.9995,  -172.7519,       5260,   318.0,2,  12.5418,2,  34.3423,2,  34.3337,2,    212.5,2,   212.6,2,   11.92,2,   10.85,2,    0.00,2,    0.73,2,   2.578,2,   1.617,2,   2.1666,2,  -999.0,9,  -999.0,9,-999.0000,9,  -999.00,9, -999.00,9,  -999.0,9, -999.00,1, -999.00,1,       14.7,2, 20220602,      928,  29.9995,-172.7519,    12.5462,2,     -999.0,9,     -999.0,9,     -999.0,9,     -999.0,9,     0.0122,1,     4.6920,1,     -999.0,9,     -999.0,9,     -999.0,9
33RR20220430,        P02,      97,          1,         27,         27,2,20220602,       0737,    29.9995,  -172.7519,       5260,   369.0,2,  11.6872,2,  34.2815,2,  34.2736,2,    211.1,2,   211.7,2,   14.85,2,   12.62,2,    0.00,2,    0.86,2,   2.644,2,   1.652,2,   2.0971,2,  2103.3,3,  2265.3,2,   7.7807,2,    24.99,2, -999.00,9,  -999.0,9, -999.00,1, -999.00,1,       15.5,2, 20220602,      926,  29.9995,-172.7519,    11.6886,2,     -999.0,9,     -999.0,9,     -999.0,9,     -999.0,9,     0.0122,1,     4.6926,1,     -999.0,9,     -999.0,9,     -999.0,9
33RR20220430,        P02,      97,          1,         26,         26,2,20220602,       0737,    29.9995,  -172.7519,       5260,   439.5,2,   9.9578,2,  34.1404,2,  34.1364,2,    198.2,2,   199.2,2,   21.89,2,   16.93,2,    0.00,2,    1.15,2,   2.767,2,   1.795,2,   1.8926,2,  -999.0,9,  -999.0,9,-999.0000,9,  -999.00,9, -999.00,9,  -999.0,9, -999.00,1, -999.00,1,       18.8,2, 20220602,      924,  29.9995,-172.7519,     9.9531,2,     -999.0,9,     -999.0,9,     -999.0,9,     -999.0,9,     0.0122,1,     4.6958,1,     -999.0,9,     -999.0,9,     -999.0,9
33RR20220430,        P02,      97,          1,         25,         25,2,20220602,       0737,    29.9995,  -172.7519,       5260,   540.4,2,   7.6373,2,  34.0252,2,  34.0235,2,    156.8,2,   156.9,2,   41.14,2,   25.41,2,    0.00,2,    1.76,2,   2.544,2,   1.541,2,   1.3487,2,  2187.3,3,  2274.4,2,   7.5864,2,    25.02,2, -999.00,9,  -999.0,9, -999.00,1, -999.00,1,       26.0,2, 20220602,      921,  29.9994,-172.7520,     7.6481,2,     -999.0,9,     -999.0,9,     -999.0,9,     -999.0,9,     0.0127,1,     4.6982,1,     -999.0,9,     -999.0,9,     -999.0,9
33RR20220430,        P02,      97,          1,         24,         24,2,20220602,       0737,    29.9995,  -172.7519,       5260,   641.7,2,   6.0712,2,  33.9988,2,  33.9988,2,    119.3,3,   117.2,2,   61.67,2,   32.07,2,    0.00,2,    2.25,2,   2.037,2,   1.244,2,   0.8214,2,  -999.0,9,  -999.0,9,-999.0000,9,  -999.00,9, -999.00,9,  -999.0,9, -999.00,9, -999.00,9,       33.1,2, 20220602,      918,  29.9995,-172.7519,     6.0701,2,     -999.0,9,     -999.0,9,     -999.0,9,     -999.0,9,     0.0134,1,     4.6983,1,     -999.0,9,     -999.0,9,     -999.0,9
33RR20220430,        P02,      97,          1,         23,         23,2,20220602,       0737,    29.9995,  -172.7519,       5260,   742.0,2,   4.8953,2,  34.0647,2,  34.0668,2,     71.8,3,    71.1,2,   84.63,2,   38.02,2,    0.00,2,    2.68,2,   1.248,2,   0.748,2,   0.4183,2,  2288.5,3,  2308.2,2,   7.3800,2,    24.99,2, -999.00,9,  -999.0,9, -999.00,1, -999.00,1,       42.4,2, 20220602,      916,  29.9995,-172.7519,     4.8956,2,     -999.0,9,     -999.0,9,     -999.0,9,     -999.0,9,     0.0134,1,     4.6985,1,     -999.0,9,     -999.0,9,     -999.0,9
33RR20220430,        P02,      97,          1,         22,         22,2,20220602,       0737,    29.9995,  -172.7519,       5260,   844.2,2,   4.3238,2,  34.1627,2,  34.1640,2,     39.6,3,    40.1,2,  101.33,2,   41.44,2,    0.00,2,    2.92,2,   0.593,2,   0.341,2,   0.1294,2,  -999.0,9,  -999.0,9,-999.0000,9,  -999.00,9, -999.00,9,  -999.0,9, -999.00,9, -999.00,9,       50.1,2, 20220602,      913,  29.9995,-172.7519,     4.3204,2,     -999.0,9,     -999.0,9,     -999.0,9,     -999.0,9,     0.0134,1,     4.6995,1,     -999.0,9,     -999.0,9,     -999.0,9
33RR20220430,        P02,      97,          1,         21,         21,2,20220602,       0737,    29.9995,  -172.7519,       5260,   944.8,2,   3.8721,2,  34.2528,2,  34.2540,2,     23.0,3,    23.9,2,  115.79,2,   43.08,2,    0.00,2,    3.06,2,   0.231,2,   0.130,2,   0.0000,2,  2351.7,3,  2346.2,2,   7.3087,2,    25.01,2, -999.00,9,  -999.0,9, -999.00,1, -999.00,1,       55.9,2, 20220602,      910,  29.9994,-172.7519,     3.8702,2,     -999.0,9,     -999.0,9,     -999.0,9,     -999.0,9,     0.0134,1,     4.6995,1,     -999.0,9,     -999.0,9,     -999.0,9
33RR20220430,        P02,      97,          1,         20,         20,2,20220602,       0737,    29.9995,  -172.7519,       5260,  1045.0,2,   3.5447,2,  34.3460,2,  34.3462,2,     19.2,2,    19.2,2,  126.33,2,   43.57,2,    0.00,2,    3.12,2,   0.069,2,   0.043,2,   0.0000,2,  -999.0,9,  -999.0,9,-999.0000,9,  -999.00,9, -999.00,9,  -999.0,9, -999.00,9, -999.00,9,       57.8,2, 20220602,      908,  29.9995,-172.7519,     3.5466,2,     -999.0,9,     -999.0,9,     -999.0,9,     -999.0,9,     0.0134,1,     4.6997,1,     -999.0,9,     -999.0,9,     -999.0,9
33RR20220430,        P02,      97,          1,         19,         19,2,20220602,       0737,    29.9995,  -172.7519,       5260,  1145.8,2,   3.3050,2,  34.4107,2,  34.4118,2,     24.2,3,    24.5,2,  132.87,2,   43.45,2,    0.00,2,    3.11,2,   0.036,2,   0.021,2,   0.0000,2,  2372.7,3,  2372.8,2,   7.3299,2,    25.00,2, -999.00,9,  -999.0,9, -999.00,1, -999.00,1,       54.7,2, 20220602,      905,  29.9994,-172.7519,     3.3045,2,     -999.0,9,     -999.0,9,     -999.0,9,     -999.0,9,     0.0134,1,     4.7007,1,     -999.0,9,     -999.0,9,     -999.0,9
33RR20220430,        P02,      97,          1,         18,         18,2,20220602,       0737,    29.9995,  -172.7519,       5260,  1247.5,2,   3.0761,2,  34.4619,2,  34.4628,2,     32.2,2,    32.3,2,  138.73,2,   43.13,2,    0.00,2,    3.08,2,   0.018,2,   0.012,2,   0.0000,2,  2375.1,3,  2382.1,2,   7.3516,2,    25.00,2, -999.00,9,  -999.0,9, -999.00,9, -999.00,9,       50.4,2, 20220602,      903,  29.9995,-172.7519,     3.0748,2,     -999.0,9,     -999.0,9,     -999.0,9,     -999.0,9,     0.0134,1,     4.7009,1,     -999.0,9,     -999.0,9,     -999.0,9
33RR20220430,        P02,      97,          1,         17,         17,2,20220602,       0737,    29.9995,  -172.7519,       5260,  1349.1,2,   2.8907,2,  34.4943,2,  34.4938,2,     38.4,2,    38.5,2,  143.02,2,   42.86,2,    0.00,2,    3.05,2,   0.011,2,   0.006,2,   0.0000,2,  2374.7,3,  2389.4,2,   7.3621,2,    25.00,2, -999.00,9,  -999.0,9, -999.00,1, -999.00,1,       48.2,2, 20220602,      900,  29.9995,-172.7519,     2.8917,2,     -999.0,9,     -999.0,9,     -999.0,9,     -999.0,9,     0.0134,1,     4.7012,1,     -999.0,9,     -999.0,9,     -999.0,9
33RR20220430,        P02,      97,          1,         16,         16,2,20220602,       0737,    29.9995,  -172.7519,       5260,  1451.5,2,   2.7317,2,  34.5174,2,  34.5193,2,     43.7,2,    43.7,2,  147.42,2,   42.57,2,    0.00,2,    3.03,2,   0.009,2,   0.000,2,   0.0000,2,  2378.1,3,  2394.6,2,   7.3730,2,    25.00,2, -999.00,9,  -999.0,9, -999.00,9, -999.00,9,       45.3,2, 20220602,      857,  29.9995,-172.7519,     2.7379,2,     -999.0,9,     -999.0,9,     -999.0,9,     -999.0,9,     0.0134,1,     4.7016,1,     -999.0,9,     -999.0,9,     -999.0,9
33RR20220430,        P02,      97,          1,         15,         15,2,20220602,       0737,    29.9995,  -172.7519,       5260,  1552.6,2,   2.5490,2,  34.5409,2,  34.5411,2,     50.4,2,    50.3,2,  151.32,2,   42.20,2,    0.00,2,    2.99,2,   0.005,2,   0.000,2,   0.0000,2,  2378.8,3,  2399.9,2,   7.3881,2,    25.01,2, -999.00,9,  -999.0,9, -999.00,1, -999.00,1,       42.8,2, 20220602,      855,  29.9995,-172.7520,     2.5489,2,     -999.0,9,     -999.0,9,     -999.0,9,     -999.0,9,     0.0134,1,     4.7020,1,     -999.0,9,     -999.0,9,     -999.0,9
33RR20220430,        P02,      97,          1,         14,         14,2,20220602,       0737,    29.9995,  -172.7519,       5260,  1683.6,2,   2.3394,2,  34.5658,2,  34.5669,2,     59.7,2,    59.5,2,  156.01,2,   41.61,2,    0.00,2,    2.95,2,-999.000,9,-999.000,9,-999.0000,9,  2375.3,3,  2405.3,2,   7.4079,2,    24.98,2, -999.00,9,  -999.0,9, -999.00,9, -999.00,9,     -999.0,9, 20220602,      851,  29.9995,-172.7519,     2.3389,2,     -999.0,9,     -999.0,9,     -999.0,9,     -999.0,9,     0.0134,1,     4.7030,1,     -999.0,9,     -999.0,9,     -999.0,9
33RR20220430,        P02,      97,          1,         13,         13,2,20220602,       0737,    29.9995,  -172.7519,       5260,  1886.0,2,   2.0963,2,  34.5935,2,  34.5940,2,     74.0,2,    73.7,2,  159.72,2,   40.91,2,    0.00,2,    2.88,2,   0.004,2,   0.000,2,   0.0000,2,  2372.8,3,  2410.6,2,   7.4352,2,    25.00,2, -999.00,9,  -999.0,9, -999.00,1, -999.00,1,       35.2,2, 20220602,      847,  29.9995,-172.7519,     2.0969,2,     -999.0,9,     -999.0,9,     -999.0,9,     -999.0,9,     0.0134,1,     4.7039,1,     -999.0,9,     -999.0,9,     -999.0,9
33RR20220430,        P02,      97,          1,         12,         12,2,20220602,       0737,    29.9995,  -172.7519,       5260,  2109.7,2,   1.9027,2,  34.6156,2,  34.6152,2,     88.0,2,    87.9,2,  161.96,2,   40.02,2,    0.00,2,    2.81,2,-999.000,9,-999.000,9,-999.0000,9,  2368.6,3,  2415.2,2,   7.4616,2,    24.99,2, -999.00,9,  -999.0,9, -999.00,1, -999.00,1,     -999.0,9, 20220602,      842,  29.9995,-172.7519,     1.9026,2,     -999.0,9,     -999.0,9,     -999.0,9,     -999.0,9,     0.0129,1,     4.7044,1,     -999.0,9,     -999.0,9,     -999.0,9
33RR20220430,        P02,      97,          1,         11,         11,2,20220602,       0737,    29.9995,  -172.7519,       5260,  2366.2,2,   1.7525,2,  34.6339,2,  34.6341,2,    100.9,2,   100.6,2,  162.35,2,   39.23,2,    0.00,2,    2.75,2,   0.005,2,   0.000,2,   0.0000,2,  2360.4,3,  2417.0,2,   7.4852,2,    25.00,2, -999.00,9,  -999.0,9, -999.00,1, -999.00,1,       29.1,2, 20220602,      837,  29.9995,-172.7519,     1.7533,2,     -999.0,9,     -999.0,9,     -999.0,9,     -999.0,9,     0.0128,1,     4.7034,1,     -999.0,9,     -999.0,9,     -999.0,9
33RR20220430,        P02,      97,          1,         10,         10,2,20220602,       0737,    29.9995,  -172.7519,       5260,  2619.6,2,   1.6502,2,  34.6470,2,  34.6478,2,    112.2,2,   112.3,2,  161.27,2,   38.46,2,    0.00,2,    2.70,2,-999.000,9,-999.000,9,-999.0000,9,  -999.0,9,  -999.0,9,-999.0000,9,  -999.00,9, -999.00,9,  -999.0,9, -999.00,9, -999.00,9,     -999.0,9, 20220602,      831,  29.9995,-172.7519,     1.6504,2,     -999.0,9,     -999.0,9,     -999.0,9,     -999.0,9,     0.0128,1,     4.7047,1,     -999.0,9,     -999.0,9,     -999.0,9
33RR20220430,        P02,      97,          1,          9,          9,2,20220602,       0737,    29.9995,  -172.7519,       5260,  2875.3,2,   1.5850,2,  34.6565,2,  34.6565,2,    120.6,2,   120.8,2,  160.49,2,   37.94,2,    0.00,2,    2.65,2,   0.004,2,   0.000,2,   0.0000,2,  2347.5,3,  2418.3,2,   7.5212,2,    25.00,2, -999.00,9,  -999.0,9, -999.00,1, -999.00,1,       25.7,2, 20220602,      826,  29.9995,-172.7519,     1.5847,2,     -999.0,9,     -999.0,9,     -999.0,9,     -999.0,9,     0.0129,1,     4.7056,1,     -999.0,9,     -999.0,9,     -999.0,9
33RR20220430,        P02,      97,          1,          8,          8,2,20220602,       0737,    29.9995,  -172.7519,       5260,  3147.8,2,   1.5383,2,  34.6642,2,  34.6649,2,    128.2,2,   128.4,2,  159.32,2,   37.41,2,    0.00,2,    2.61,2,-999.000,9,-999.000,9,-999.0000,9,  -999.0,9,  -999.0,9,-999.0000,9,  -999.00,9, -999.00,9,  -999.0,9, -999.00,9, -999.00,9,     -999.0,9, 20220602,      820,  29.9995,-172.7519,     1.5381,2,     -999.0,9,     -999.0,9,     -999.0,9,     -999.0,9,     0.0122,1,     4.7056,1,     -999.0,9,     -999.0,9,     -999.0,9
33RR20220430,        P02,      97,          1,          7,          7,2,20220602,       0737,    29.9995,  -172.7519,       5260,  3451.3,2,   1.5006,2,  34.6714,2,  34.6734,2,    135.7,2,   136.0,2,  158.05,2,   36.96,2,    0.00,2,    2.58,2,   0.004,2,   0.000,2,   0.0000,2,  2339.1,3,  2418.4,2,   7.5488,2,    25.00,2, -999.00,9,  -999.0,9, -999.00,1, -999.00,1,       23.9,2, 20220602,      814,  29.9995,-172.7519,     1.5004,2,     -999.0,9,     -999.0,9,     -999.0,9,     -999.0,9,     0.0122,1,     4.7059,1,     -999.0,9,     -999.0,9,     -999.0,9
33RR20220430,        P02,      97,          1,          6,          6,2,20220602,       0737,    29.9995,  -172.7519,       5260,  3761.2,2,   1.4812,2,  34.6769,2,  34.6763,2,    142.0,2,   142.2,2,  155.90,2,   36.66,2,    0.00,2,    2.54,2,-999.000,9,-999.000,9,-999.0000,9,  -999.0,9,  -999.0,9,-999.0000,9,  -999.00,9, -999.00,9,  -999.0,9, -999.00,9, -999.00,9,     -999.0,9, 20220602,      808,  29.9995,-172.7519,     1.4812,2,     -999.0,9,     -999.0,9,     -999.0,9,     -999.0,9,     0.0122,1,     4.7063,1,     -999.0,9,     -999.0,9,     -999.0,9
33RR20220430,        P02,      97,          1,          5,          5,2,20220602,       0737,    29.9995,  -172.7519,       5260,  4068.3,2,   1.4751,2,  34.6811,2,  34.6808,2,    146.6,2,   146.8,2,  155.90,2,   36.39,2,    0.00,2,    2.52,2,   0.004,2,   0.000,2,   0.0000,2,  2333.3,3,  2419.0,2,   7.5686,2,    25.01,2, -999.00,9,  -999.0,9, -999.00,1, -999.00,1,       22.4,2, 20220602,      802,  29.9995,-172.7519,     1.4752,2,     -999.0,9,     -999.0,9,     -999.0,9,     -999.0,9,     0.0122,1,     4.7060,1,     -999.0,9,     -999.0,9,     -999.0,9
33RR20220430,        P02,      97,          1,          4,          4,2,20220602,       0737,    29.9995,  -172.7519,       5260,  4377.1,2,   1.4867,2,  34.6836,2,  34.6832,2,    149.5,2,   149.8,2,  155.90,2,   36.14,2,    0.00,2,    2.50,2,-999.000,9,-999.000,9,-999.0000,9,  -999.0,9,  -999.0,9,-999.0000,9,  -999.00,9, -999.00,9,  -999.0,9, -999.00,9, -999.00,9,     -999.0,9, 20220602,      756,  29.9995,-172.7519,     1.4865,2,     -999.0,9,     -999.0,9,     -999.0,9,     -999.0,9,     0.0122,1,     4.7055,1,     -999.0,9,     -999.0,9,     -999.0,9