BOTTLE,20230801CCHSIOCBG
EXPOCODE,SECT_ID,STNNBR,CASTNO,SAMPNO,BTLNBR,BTLNBR_FLAG_W,DATE,TIME,LATITUDE,LONGITUDE,DEPTH,CTDPRS,CTDPRS_FLAG_W,CTDTMP,CTDTMP_FLAG_W,CTDSAL,CTDSAL_FLAG_W,SALNTY,SALNTY_FLAG_W,CTDOXY,CTDOXY_FLAG_W,OXYGEN,OXYGEN_FLAG_W,SILCAT,SILCAT_FLAG_W,NITRAT,NITRAT_FLAG_W,NITRIT,NITRIT_FLAG_W,PHSPHT,PHSPHT_FLAG_W,CFC-11,CFC-11_FLAG_W,CFC-12,CFC-12_FLAG_W,SF6,SF6_FLAG_W,TCARBN,TCARBN_FLAG_W,ALKALI,ALKALI_FLAG_W,PH_TOT,PH_TOT_FLAG_W,PH_TMP,PH_TMP_FLAG_W,DELC13,DELC13_FLAG_W,DELC14,DELC14_FLAG_W,DOC,DOC_FLAG_W,TDN,TDN_FLAG_W,N2O,N2O_FLAG_W,BTL_DATE,BTL_TIME,BTL_LAT,BTL_LON,REFTMP,REFTMP_FLAG_W,POC,POC_FLAG_W,PON,PON_FLAG_W,POP,POP_FLAG_W,PCOD,PCOD_FLAG_W,CTDFLUOR,CTDFLUOR_FLAG_W,CTDXMISS,CTDXMISS_FLAG_W,HPLC,HPLC_FLAG_W,DNA,DNA_FLAG_W,FCM,FCM_FLAG_W
,,,,,,,,,,,METERS,DBAR,,ITS-90,,PSS-78,,PSS-78,,UMOL/KG,,UMOL/KG,,UMOL/KG,,UMOL/KG,,UMOL/KG,,UMOL/KG,,PMOL/KG,,PMOL/KG,,FMOL/KG,,UMOL/KG,,UMOL/KG,,,,DEG C,,/MILLE,,/MILLE,,UMOL/KG,,UMOL/KG,,NMOL/KG,,,,,,ITS-90,,UG/L,,UG/L,,UG/L,,UG/L,,VOLTS,,VOLTS,,,,,,,
33RR20220430,        P02,      51,          1,          3,          3,2,20220519,       1324,    29.9997,   161.6427,       5987,  5301.8,2,   1.5071,2,  34.6925,2,  34.6922,2,    169.6,2,   169.3,2,  137.75,2,   34.77,2,    0.00,2,    2.38,2,   0.006,2,   0.000,2,   0.0000,2,  2307.7,2,  2405.9,2,   7.5935,2,    25.01,2, -999.00,9,  -999.0,9, -999.00,9, -999.00,9,       21.3,2, 20220519,     1340,  29.9997, 161.6427,     1.5072,2,     -999.0,9,     -999.0,9,     -999.0,9,     -999.0,9,     0.0122,1,     4.7086,1,     -999.0,9,     -999.0,9,     -999.0,9
33RR20220430,        P02,      51,          1,          2,          2,2,20220519,       1324,    29.9997,   161.6427,       5987,  5715.1,2,   1.5328,2,  34.6946,2,  34.6948,2,    173.1,2,   173.2,2,  134.92,2,   34.48,2,    0.00,2,    2.36,2,-999.000,9,-999.000,9,-999.0000,9,  2303.9,6,  2404.9,2,   7.5976,2,    25.01,2, -999.00,9,  -999.0,9, -999.00,9, -999.00,9,     -999.0,9, 20220519,     1332,  29.9997, 161.6427,     1.5331,2,     -999.0,9,     -999.0,9,     -999.0,9,     -999.0,9,     0.0122,1,     4.7071,1,     -999.0,9,     -999.0,9,     -999.0,9
33RR20220430,        P02,      51,          1,          1,          1,2,20220519,       1324,    29.9997,   161.6427,       5987,  6103.1,2,   1.5730,2,  34.6954,2,  34.6973,2,    174.9,2,   175.0,2,  133.94,2,   34.58,2,    0.00,2,    2.35,2,   0.008,2,   0.000,2,   0.0000,2,  2300.1,2,  2402.0,2,   7.5994,2,    25.02,2, -999.00,9,  -999.0,9, -999.00,9, -999.00,9,       21.0,2, 20220519,     1324,  29.9997, 161.6427,     1.5732,2,     -999.0,9,     -999.0,9,     -999.0,9,     -999.0,9,     0.0122,1,     4.7044,1,     -999.0,9,     -999.0,9,     -999.0,9