BOTTLE,20230801CCHSIOCBG
EXPOCODE,SECT_ID,STNNBR,CASTNO,SAMPNO,BTLNBR,BTLNBR_FLAG_W,DATE,TIME,LATITUDE,LONGITUDE,DEPTH,CTDPRS,CTDPRS_FLAG_W,CTDTMP,CTDTMP_FLAG_W,CTDSAL,CTDSAL_FLAG_W,SALNTY,SALNTY_FLAG_W,CTDOXY,CTDOXY_FLAG_W,OXYGEN,OXYGEN_FLAG_W,SILCAT,SILCAT_FLAG_W,NITRAT,NITRAT_FLAG_W,NITRIT,NITRIT_FLAG_W,PHSPHT,PHSPHT_FLAG_W,CFC-11,CFC-11_FLAG_W,CFC-12,CFC-12_FLAG_W,SF6,SF6_FLAG_W,TCARBN,TCARBN_FLAG_W,ALKALI,ALKALI_FLAG_W,PH_TOT,PH_TOT_FLAG_W,PH_TMP,PH_TMP_FLAG_W,DELC13,DELC13_FLAG_W,DELC14,DELC14_FLAG_W,DOC,DOC_FLAG_W,TDN,TDN_FLAG_W,N2O,N2O_FLAG_W,BTL_DATE,BTL_TIME,BTL_LAT,BTL_LON,REFTMP,REFTMP_FLAG_W,POC,POC_FLAG_W,PON,PON_FLAG_W,POP,POP_FLAG_W,PCOD,PCOD_FLAG_W,CTDFLUOR,CTDFLUOR_FLAG_W,CTDXMISS,CTDXMISS_FLAG_W,HPLC,HPLC_FLAG_W,DNA,DNA_FLAG_W,FCM,FCM_FLAG_W
,,,,,,,,,,,METERS,DBAR,,ITS-90,,PSS-78,,PSS-78,,UMOL/KG,,UMOL/KG,,UMOL/KG,,UMOL/KG,,UMOL/KG,,UMOL/KG,,PMOL/KG,,PMOL/KG,,FMOL/KG,,UMOL/KG,,UMOL/KG,,,,DEG C,,/MILLE,,/MILLE,,UMOL/KG,,UMOL/KG,,NMOL/KG,,,,,,ITS-90,,UG/L,,UG/L,,UG/L,,UG/L,,VOLTS,,VOLTS,,,,,,,
33RR20220430,        P02,      82,          1,          3,          3,2,20220528,       2253,    29.9998,   178.5944,       4913,  4375.9,2,   1.4694,2,  34.6853,2,  34.6840,2,    153.3,2,   153.4,2,  151.31,2,   36.16,2,    0.00,2,    2.47,2,   0.005,2,   0.000,2,   0.0000,2,  2326.0,2,  2418.2,2,   7.5777,2,    25.02,2, -999.00,9,  -999.0,9, -999.00,1, -999.00,1,       21.9,2, 20220528,     2306,  29.9998, 178.5944,     1.4695,2,     -999.0,9,     -999.0,9,     -999.0,9,     -999.0,9,     0.0122,1,     4.7058,1,     -999.0,9,     -999.0,9,     -999.0,9
33RR20220430,        P02,      82,          1,          2,          2,2,20220528,       2253,    29.9998,   178.5944,       4913,  4709.4,2,   1.4745,2,  34.6885,2,  34.6865,2,    158.9,2,   159.4,2,  147.21,2,   35.70,2,    0.00,2,    2.43,2,-999.000,9,-999.000,9,-999.0000,9,  2319.4,6,  2415.0,2,   7.5848,2,    25.01,2, -999.00,9,  -999.0,9, -999.00,9, -999.00,9,     -999.0,9, 20220528,     2259,  29.9998, 178.5944,     1.4752,2,     -999.0,9,     -999.0,9,     -999.0,9,     -999.0,9,     0.0122,1,     4.7063,1,     -999.0,9,     -999.0,9,     -999.0,9
33RR20220430,        P02,      82,          1,          1,          1,2,20220528,       2253,    29.9998,   178.5944,       4913,  4993.8,2,   1.4750,2,  34.6917,2,  34.6906,2,    164.8,2,   165.1,2,  141.84,2,   34.92,2,    0.00,2,    2.39,2,   0.009,2,   0.000,2,   0.0000,2,  2311.9,2,  2408.0,2,   7.5909,2,    25.05,2, -999.00,9,  -999.0,9, -999.00,1, -999.00,1,       21.1,2, 20220528,     2253,  29.9998, 178.5944,     1.4752,2,     -999.0,9,     -999.0,9,     -999.0,9,     -999.0,9,     0.0130,1,     4.7032,1,     -999.0,9,     -999.0,9,     -999.0,9
33RR20220430,        P02,      83,          1,         17,         17,2,20220529,       0412,    30.0000,   179.1712,       4488,     9.0,2,  21.3499,2,  35.1648,2,-999.0000,9,    212.6,2,  -999.0,9, -999.00,9, -999.00,9, -999.00,9, -999.00,9,-999.000,9,-999.000,9,-999.0000,9,  -999.0,9,  -999.0,9,-999.0000,9,  -999.00,9, -999.00,9,  -999.0,9, -999.00,9, -999.00,9,     -999.0,9, 20220529,      441,  30.0000, 179.1712,    21.3381,2,     -999.0,9,     -999.0,9,     -999.0,1,     -999.0,9,     0.0134,1,     4.6185,1,     -999.0,9,     -999.0,9,     -999.0,9
33RR20220430,        P02,      83,          1,         15,         15,2,20220529,       0412,    30.0000,   179.1712,       4488,     9.2,2,  21.3533,2,  35.1645,2,-999.0000,9,    212.9,2,  -999.0,9, -999.00,9, -999.00,9, -999.00,9, -999.00,9,-999.000,9,-999.000,9,-999.0000,9,  -999.0,9,  -999.0,9,-999.0000,9,  -999.00,9, -999.00,9,  -999.0,9, -999.00,9, -999.00,9,     -999.0,9, 20220529,      440,  30.0000, 179.1712,    21.3432,2,     -999.0,9,     -999.0,9,     -999.0,1,     -999.0,9,     0.0135,1,     4.6199,1,     -999.0,9,     -999.0,9,     -999.0,9
33RR20220430,        P02,      83,          1,         19,         19,2,20220529,       0412,    30.0000,   179.1712,       4488,     9.2,2,  21.3562,2,  35.1652,2,-999.0000,9,    212.6,2,  -999.0,9, -999.00,9, -999.00,9, -999.00,9, -999.00,9,-999.000,9,-999.000,9,-999.0000,9,  -999.0,9,  -999.0,9,-999.0000,9,  -999.00,9, -999.00,9,  -999.0,9, -999.00,9, -999.00,9,     -999.0,9, 20220529,      441,  30.0000, 179.1712,    21.3480,2,     -999.0,9,     -999.0,9,     -999.0,9,     -999.0,1,     0.0134,1,     4.6196,1,     -999.0,9,     -999.0,9,     -999.0,9
33RR20220430,        P02,      83,          1,         13,         13,2,20220529,       0412,    30.0000,   179.1712,       4488,     9.3,2,  21.3649,2,  35.1647,2,-999.0000,9,    212.7,2,  -999.0,9, -999.00,9, -999.00,9, -999.00,9, -999.00,9,-999.000,9,-999.000,9,-999.0000,9,  -999.0,9,  -999.0,9,-999.0000,9,  -999.00,9, -999.00,9,  -999.0,9, -999.00,9, -999.00,9,     -999.0,9, 20220529,      439,  30.0000, 179.1712,    21.3501,2,     -999.0,1,     -999.0,1,     -999.0,9,     -999.0,9,     0.0135,1,     4.6197,1,     -999.0,9,     -999.0,9,     -999.0,9
33RR20220430,        P02,      83,          1,         20,         20,2,20220529,       0412,    30.0000,   179.1712,       4488,     9.3,2,  21.3409,2,  35.1644,2,-999.0000,9,    213.0,2,  -999.0,9, -999.00,9, -999.00,9, -999.00,9, -999.00,9,-999.000,9,-999.000,9,-999.0000,9,  -999.0,9,  -999.0,9,-999.0000,9,  -999.00,9, -999.00,9,  -999.0,9, -999.00,9, -999.00,9,     -999.0,9, 20220529,      442,  30.0000, 179.1712,    21.3378,2,     -999.0,9,     -999.0,9,     -999.0,9,     -999.0,1,     0.0135,1,     4.6147,1,     -999.0,9,     -999.0,9,     -999.0,9
33RR20220430,        P02,      83,          1,         12,         12,2,20220529,       0412,    30.0000,   179.1712,       4488,     9.3,2,  21.3693,2,  35.1649,2,-999.0000,9,    212.6,2,  -999.0,9, -999.00,9, -999.00,9, -999.00,9, -999.00,9,-999.000,9,-999.000,9,-999.0000,9,  -999.0,9,  -999.0,9,-999.0000,9,  -999.00,9, -999.00,9,  -999.0,9, -999.00,9, -999.00,9,     -999.0,9, 20220529,      439,  30.0000, 179.1712,     -999.0,9,     -999.0,1,     -999.0,1,     -999.0,9,     -999.0,9,     0.0134,1,     4.6196,1,     -999.0,9,     -999.0,9,     -999.0,9
33RR20220430,        P02,      83,          1,         11,         11,2,20220529,       0412,    30.0000,   179.1712,       4488,     9.4,2,  21.3332,2,  35.1637,2,-999.0000,9,    213.1,2,  -999.0,9, -999.00,9, -999.00,9, -999.00,9, -999.00,9,-999.000,9,-999.000,9,-999.0000,9,  -999.0,9,  -999.0,9,-999.0000,9,  -999.00,9, -999.00,9,  -999.0,9, -999.00,9, -999.00,9,     -999.0,9, 20220529,      439,  30.0000, 179.1712,    21.3316,2,     -999.0,9,     -999.0,9,     -999.0,9,     -999.0,9,     0.0134,1,     4.6185,1,     -999.0,9,     -999.0,1,     -999.0,9
33RR20220430,        P02,      83,          1,         10,         10,2,20220529,       0412,    30.0000,   179.1712,       4488,     9.4,2,  21.3456,2,  35.1634,2,-999.0000,9,    213.0,2,  -999.0,9, -999.00,9, -999.00,9, -999.00,9, -999.00,9,-999.000,9,-999.000,9,-999.0000,9,  -999.0,9,  -999.0,9,-999.0000,9,  -999.00,9, -999.00,9,  -999.0,9, -999.00,9, -999.00,9,     -999.0,9, 20220529,      438,  30.0000, 179.1712,    21.3343,2,     -999.0,1,     -999.0,1,     -999.0,9,     -999.0,9,     0.0135,1,     4.6193,1,     -999.0,1,     -999.0,9,     -999.0,1
33RR20220430,        P02,      83,          1,         14,         14,2,20220529,       0412,    30.0000,   179.1712,       4488,     9.5,2,  21.3661,2,  35.1651,2,-999.0000,9,    212.7,2,  -999.0,9, -999.00,9, -999.00,9, -999.00,9, -999.00,9,-999.000,9,-999.000,9,-999.0000,9,  -999.0,9,  -999.0,9,-999.0000,9,  -999.00,9, -999.00,9,  -999.0,9, -999.00,9, -999.00,9,     -999.0,9, 20220529,      440,  30.0000, 179.1712,    21.3371,2,     -999.0,1,     -999.0,1,     -999.0,9,     -999.0,9,     0.0135,1,     4.6203,1,     -999.0,9,     -999.0,9,     -999.0,9
33RR20220430,        P02,      83,          1,         18,         18,2,20220529,       0412,    30.0000,   179.1712,       4488,     9.5,2,  21.3382,2,  35.1641,2,-999.0000,9,    212.6,2,  -999.0,9, -999.00,9, -999.00,9, -999.00,9, -999.00,9,-999.000,9,-999.000,9,-999.0000,9,  -999.0,9,  -999.0,9,-999.0000,9,  -999.00,9, -999.00,9,  -999.0,9, -999.00,9, -999.00,9,     -999.0,9, 20220529,      441,  30.0000, 179.1712,    21.3457,2,     -999.0,9,     -999.0,9,     -999.0,9,     -999.0,1,     0.0135,1,     4.6180,1,     -999.0,9,     -999.0,9,     -999.0,9
33RR20220430,        P02,      83,          1,         16,         16,2,20220529,       0412,    30.0000,   179.1712,       4488,     9.5,2,  21.3560,2,  35.1648,2,-999.0000,9,    212.8,2,  -999.0,9, -999.00,9, -999.00,9, -999.00,9, -999.00,9,-999.000,9,-999.000,9,-999.0000,9,  -999.0,9,  -999.0,9,-999.0000,9,  -999.00,9, -999.00,9,  -999.0,9, -999.00,9, -999.00,9,     -999.0,9, 20220529,      440,  30.0000, 179.1712,    21.3472,2,     -999.0,9,     -999.0,9,     -999.0,1,     -999.0,9,     0.0135,1,     4.6199,1,     -999.0,9,     -999.0,9,     -999.0,9
33RR20220430,        P02,      83,          1,          9,          9,2,20220529,       0412,    30.0000,   179.1712,       4488,    44.3,2,  20.2000,2,  35.0808,2,-999.0000,9,    220.6,2,  -999.0,9, -999.00,9, -999.00,9, -999.00,9, -999.00,9,-999.000,9,-999.000,9,-999.0000,9,  -999.0,9,  -999.0,9,-999.0000,9,  -999.00,9, -999.00,9,  -999.0,9, -999.00,9, -999.00,9,     -999.0,9, 20220529,      436,  30.0000, 179.1712,    20.2029,2,     -999.0,1,     -999.0,1,     -999.0,9,     -999.0,9,     0.0171,1,     4.6110,1,     -999.0,1,     -999.0,9,     -999.0,1
33RR20220430,        P02,      83,          1,          8,          8,2,20220529,       0412,    30.0000,   179.1712,       4488,    79.2,2,  19.3256,2,  35.0065,2,-999.0000,9,    217.3,2,  -999.0,9, -999.00,9, -999.00,9, -999.00,9, -999.00,9,-999.000,9,-999.000,9,-999.0000,9,  -999.0,9,  -999.0,9,-999.0000,9,  -999.00,9, -999.00,9,  -999.0,9, -999.00,9, -999.00,9,     -999.0,9, 20220529,      434,  30.0000, 179.1712,    19.3165,2,     -999.0,1,     -999.0,1,     -999.0,9,     -999.0,9,     0.0249,1,     4.6369,1,     -999.0,1,     -999.0,9,     -999.0,1
33RR20220430,        P02,      83,          1,          7,          7,2,20220529,       0412,    30.0000,   179.1712,       4488,   104.6,2,  18.9970,2,  34.9738,2,-999.0000,9,    213.4,2,  -999.0,9, -999.00,9, -999.00,9, -999.00,9, -999.00,9,-999.000,9,-999.000,9,-999.0000,9,  -999.0,9,  -999.0,9,-999.0000,9,  -999.00,9, -999.00,9,  -999.0,9, -999.00,9, -999.00,9,     -999.0,9, 20220529,      432,  30.0000, 179.1712,    18.9885,2,     -999.0,9,     -999.0,9,     -999.0,9,     -999.0,9,     0.0285,1,     4.6553,1,     -999.0,9,     -999.0,1,     -999.0,9
33RR20220430,        P02,      83,          1,          6,          6,2,20220529,       0412,    30.0000,   179.1712,       4488,   104.6,2,  18.9969,2,  34.9740,2,-999.0000,9,    213.1,2,  -999.0,9, -999.00,9, -999.00,9, -999.00,9, -999.00,9,-999.000,9,-999.000,9,-999.0000,9,  -999.0,9,  -999.0,9,-999.0000,9,  -999.00,9, -999.00,9,  -999.0,9, -999.00,9, -999.00,9,     -999.0,9, 20220529,      432,  30.0000, 179.1712,    18.9872,2,     -999.0,1,     -999.0,1,     -999.0,9,     -999.0,9,     0.0262,1,     4.6551,1,     -999.0,1,     -999.0,9,     -999.0,1
33RR20220430,        P02,      83,          1,          5,          5,2,20220529,       0412,    30.0000,   179.1712,       4488,   155.1,2,  17.6880,2,  34.7631,2,-999.0000,9,    208.8,2,  -999.0,9, -999.00,9, -999.00,9, -999.00,9, -999.00,9,-999.000,9,-999.000,9,-999.0000,9,  -999.0,9,  -999.0,9,-999.0000,9,  -999.00,9, -999.00,9,  -999.0,9, -999.00,9, -999.00,9,     -999.0,9, 20220529,      430,  30.0000, 179.1712,    17.7190,2,     -999.0,1,     -999.0,1,     -999.0,9,     -999.0,9,     0.0147,1,     4.6808,1,     -999.0,1,     -999.0,9,     -999.0,1
33RR20220430,        P02,      83,          1,          3,          3,2,20220529,       0412,    30.0000,   179.1712,       4488,   204.7,2,  16.6087,2,  34.6518,2,-999.0000,9,    207.9,2,  -999.0,9, -999.00,9, -999.00,9, -999.00,9, -999.00,9,-999.000,9,-999.000,9,-999.0000,9,  -999.0,9,  -999.0,9,-999.0000,9,  -999.00,9, -999.00,9,  -999.0,9, -999.00,9, -999.00,9,     -999.0,9, 20220529,      427,  30.0000, 179.1712,    16.6009,2,     -999.0,9,     -999.0,9,     -999.0,9,     -999.0,9,     0.0125,1,     4.6850,1,     -999.0,9,     -999.0,1,     -999.0,1
33RR20220430,        P02,      83,          1,          4,          4,2,20220529,       0412,    30.0000,   179.1712,       4488,   205.0,2,  16.6067,2,  34.6523,2,-999.0000,9,    208.0,2,  -999.0,9, -999.00,9, -999.00,9, -999.00,9, -999.00,9,-999.000,9,-999.000,9,-999.0000,9,  -999.0,9,  -999.0,9,-999.0000,9,  -999.00,9, -999.00,9,  -999.0,9, -999.00,9, -999.00,9,     -999.0,9, 20220529,      428,  30.0000, 179.1712,    16.6012,2,     -999.0,1,     -999.0,1,     -999.0,9,     -999.0,9,     0.0125,1,     4.6849,1,     -999.0,1,     -999.0,9,     -999.0,9
33RR20220430,        P02,      83,          1,          2,          2,2,20220529,       0412,    30.0000,   179.1712,       4488,   506.9,2,  10.3895,2,  34.1805,2,-999.0000,9,    188.5,2,  -999.0,9, -999.00,9, -999.00,9, -999.00,9, -999.00,9,-999.000,9,-999.000,9,-999.0000,9,  -999.0,9,  -999.0,9,-999.0000,9,  -999.00,9, -999.00,9,  -999.0,9, -999.00,9, -999.00,9,     -999.0,9, 20220529,      421,  30.0000, 179.1712,    10.3868,2,     -999.0,9,     -999.0,9,     -999.0,9,     -999.0,9,     0.0122,1,     4.6983,1,     -999.0,9,     -999.0,9,     -999.0,1
33RR20220430,        P02,      83,          1,          1,          1,2,20220529,       0412,    30.0000,   179.1712,       4488,  1009.4,2,   3.7668,2,  34.2915,2,-999.0000,9,     28.6,2,  -999.0,9, -999.00,9, -999.00,9, -999.00,9, -999.00,9,-999.000,9,-999.000,9,-999.0000,9,  -999.0,9,  -999.0,9,-999.0000,9,  -999.00,9, -999.00,9,  -999.0,9, -999.00,9, -999.00,9,     -999.0,9, 20220529,      412,  30.0000, 179.1712,     3.7662,2,     -999.0,9,     -999.0,9,     -999.0,9,     -999.0,9,     0.0134,1,     4.7008,1,     -999.0,9,     -999.0,1,     -999.0,1