BOTTLE,20230801CCHSIOCBG
EXPOCODE,SECT_ID,STNNBR,CASTNO,SAMPNO,BTLNBR,BTLNBR_FLAG_W,DATE,TIME,LATITUDE,LONGITUDE,DEPTH,CTDPRS,CTDPRS_FLAG_W,CTDTMP,CTDTMP_FLAG_W,CTDSAL,CTDSAL_FLAG_W,SALNTY,SALNTY_FLAG_W,CTDOXY,CTDOXY_FLAG_W,OXYGEN,OXYGEN_FLAG_W,SILCAT,SILCAT_FLAG_W,NITRAT,NITRAT_FLAG_W,NITRIT,NITRIT_FLAG_W,PHSPHT,PHSPHT_FLAG_W,CFC-11,CFC-11_FLAG_W,CFC-12,CFC-12_FLAG_W,SF6,SF6_FLAG_W,TCARBN,TCARBN_FLAG_W,ALKALI,ALKALI_FLAG_W,PH_TOT,PH_TOT_FLAG_W,PH_TMP,PH_TMP_FLAG_W,DELC13,DELC13_FLAG_W,DELC14,DELC14_FLAG_W,DOC,DOC_FLAG_W,TDN,TDN_FLAG_W,N2O,N2O_FLAG_W,BTL_DATE,BTL_TIME,BTL_LAT,BTL_LON,REFTMP,REFTMP_FLAG_W,POC,POC_FLAG_W,PON,PON_FLAG_W,POP,POP_FLAG_W,PCOD,PCOD_FLAG_W,CTDFLUOR,CTDFLUOR_FLAG_W,CTDXMISS,CTDXMISS_FLAG_W,HPLC,HPLC_FLAG_W,DNA,DNA_FLAG_W,FCM,FCM_FLAG_W
,,,,,,,,,,,METERS,DBAR,,ITS-90,,PSS-78,,PSS-78,,UMOL/KG,,UMOL/KG,,UMOL/KG,,UMOL/KG,,UMOL/KG,,UMOL/KG,,PMOL/KG,,PMOL/KG,,FMOL/KG,,UMOL/KG,,UMOL/KG,,,,DEG C,,/MILLE,,/MILLE,,UMOL/KG,,UMOL/KG,,NMOL/KG,,,,,,ITS-90,,UG/L,,UG/L,,UG/L,,UG/L,,VOLTS,,VOLTS,,,,,,,
33RR20220430,        P02,      20,          1,         30,         30,2,20220509,       0346,    29.9997,   140.5248,       2487,     7.2,2,  20.5606,2,  34.6587,2,-999.0000,9,    228.9,2,  -999.0,9, -999.00,9, -999.00,9, -999.00,9, -999.00,9,-999.000,9,-999.000,9,-999.0000,9,  -999.0,9,  -999.0,9,-999.0000,9,  -999.00,9, -999.00,9,  -999.0,9, -999.00,9, -999.00,9,     -999.0,9, 20220509,      457,  29.9997, 140.5248,    20.5576,2,     -999.0,9,     -999.0,9,     -999.0,1,     -999.0,9,     0.0159,1,     4.6026,1,     -999.0,9,     -999.0,9,     -999.0,9
33RR20220430,        P02,      20,          1,         25,         25,2,20220509,       0346,    29.9997,   140.5248,       2487,     7.6,2,  20.6779,2,  34.6597,2,  34.6531,2,    228.5,2,   228.0,2,    0.68,2,    0.00,2,    0.01,2,    0.02,2,-999.000,9,-999.000,9,-999.0000,9,  1995.8,2,  2273.8,2,   8.0099,2,    24.99,2, -999.00,9,  -999.0,9, -999.00,1, -999.00,1,     -999.0,9, 20220509,      455,  29.9998, 140.5248,    20.6166,2,     -999.0,9,     -999.0,9,     -999.0,9,     -999.0,9,     0.0159,1,     4.5968,1,     -999.0,1,     -999.0,9,     -999.0,9
33RR20220430,        P02,      20,          1,         29,         29,2,20220509,       0346,    29.9997,   140.5248,       2487,     7.7,2,  20.7254,2,  34.6597,2,-999.0000,9,    228.2,2,  -999.0,9, -999.00,9, -999.00,9, -999.00,9, -999.00,9,-999.000,9,-999.000,9,-999.0000,9,  -999.0,9,  -999.0,9,-999.0000,9,  -999.00,9, -999.00,9,  -999.0,9, -999.00,9, -999.00,9,     -999.0,9, 20220509,      457,  29.9997, 140.5248,    20.5952,2,     -999.0,1,     -999.0,1,     -999.0,9,     -999.0,9,     0.0159,1,     4.6062,1,     -999.0,9,     -999.0,9,     -999.0,9
33RR20220430,        P02,      20,          1,         32,         32,2,20220509,       0346,    29.9997,   140.5248,       2487,     7.8,2,  20.5695,2,  34.6586,2,-999.0000,9,    229.0,2,  -999.0,9, -999.00,9, -999.00,9, -999.00,9, -999.00,9,-999.000,9,-999.000,9,-999.0000,9,  -999.0,9,  -999.0,9,-999.0000,9,  -999.00,9, -999.00,9,  -999.0,9, -999.00,9, -999.00,9,     -999.0,9, 20220509,      458,  29.9998, 140.5248,    20.5611,2,     -999.0,9,     -999.0,9,     -999.0,1,     -999.0,9,     0.0159,1,     4.6001,1,     -999.0,9,     -999.0,9,     -999.0,9
33RR20220430,        P02,      20,          1,         34,         34,2,20220509,       0346,    29.9997,   140.5248,       2487,     7.9,2,  20.5858,2,  34.6592,2,-999.0000,9,    229.5,2,  -999.0,9, -999.00,9, -999.00,9, -999.00,9, -999.00,9,-999.000,9,-999.000,9,-999.0000,9,  -999.0,9,  -999.0,9,-999.0000,9,  -999.00,9, -999.00,9,  -999.0,9, -999.00,9, -999.00,9,     -999.0,9, 20220509,      458,  29.9997, 140.5248,    20.5618,2,     -999.0,9,     -999.0,9,     -999.0,9,     -999.0,1,     0.0166,1,     4.6038,1,     -999.0,9,     -999.0,9,     -999.0,9
33RR20220430,        P02,      20,          1,         28,         28,2,20220509,       0346,    29.9997,   140.5248,       2487,     8.0,2,  20.6136,2,  34.6591,2,-999.0000,9,    229.4,2,  -999.0,9, -999.00,9, -999.00,9, -999.00,9, -999.00,9,-999.000,9,-999.000,9,-999.0000,9,  -999.0,9,  -999.0,9,-999.0000,9,  -999.00,9, -999.00,9,  -999.0,9, -999.00,9, -999.00,9,     -999.0,9, 20220509,      456,  29.9997, 140.5247,    20.6732,2,     -999.0,1,     -999.0,1,     -999.0,9,     -999.0,9,     0.0159,1,     4.6079,1,     -999.0,9,     -999.0,9,     -999.0,9
33RR20220430,        P02,      20,          1,         31,         31,2,20220509,       0346,    29.9997,   140.5248,       2487,     8.1,2,  20.6509,2,  34.6583,2,-999.0000,9,    228.3,2,  -999.0,9, -999.00,9, -999.00,9, -999.00,9, -999.00,9,-999.000,9,-999.000,9,-999.0000,9,  -999.0,9,  -999.0,9,-999.0000,9,  -999.00,9, -999.00,9,  -999.0,9, -999.00,9, -999.00,9,     -999.0,9, 20220509,      457,  29.9998, 140.5248,    20.6566,2,     -999.0,9,     -999.0,9,     -999.0,1,     -999.0,9,     0.0159,1,     4.6057,1,     -999.0,9,     -999.0,9,     -999.0,9
33RR20220430,        P02,      20,          1,         27,         27,2,20220509,       0346,    29.9997,   140.5248,       2487,     8.1,2,  20.5605,2,  34.6584,2,-999.0000,9,    228.8,2,  -999.0,9, -999.00,9, -999.00,9, -999.00,9, -999.00,9,-999.000,9,-999.000,9,-999.0000,9,  -999.0,9,  -999.0,9,-999.0000,9,  -999.00,9, -999.00,9,  -999.0,9, -999.00,9, -999.00,9,     -999.0,9, 20220509,      456,  29.9997, 140.5248,    20.5753,2,     -999.0,1,     -999.0,1,     -999.0,9,     -999.0,9,     0.0159,1,     4.6003,1,     -999.0,9,     -999.0,9,     -999.0,9
33RR20220430,        P02,      20,          1,         35,         35,2,20220509,       0346,    29.9997,   140.5248,       2487,     8.1,2,  20.5527,2,  34.6583,2,-999.0000,9,    228.8,2,  -999.0,9, -999.00,9, -999.00,9, -999.00,9, -999.00,9,-999.000,9,-999.000,9,-999.0000,9,  -999.0,9,  -999.0,9,-999.0000,9,  -999.00,9, -999.00,9,  -999.0,9, -999.00,9, -999.00,9,     -999.0,9, 20220509,      459,  29.9997, 140.5248,    20.5553,2,     -999.0,9,     -999.0,9,     -999.0,9,     -999.0,1,     0.0159,1,     4.6013,1,     -999.0,9,     -999.0,9,     -999.0,9
33RR20220430,        P02,      20,          1,         33,         33,2,20220509,       0346,    29.9997,   140.5248,       2487,     8.1,2,  20.6646,2,  34.6599,2,-999.0000,9,    228.7,2,  -999.0,9, -999.00,9, -999.00,9, -999.00,9, -999.00,9,-999.000,9,-999.000,9,-999.0000,9,  -999.0,9,  -999.0,9,-999.0000,9,  -999.00,9, -999.00,9,  -999.0,9, -999.00,9, -999.00,9,     -999.0,9, 20220509,      458,  29.9997, 140.5248,    20.7036,2,     -999.0,9,     -999.0,9,     -999.0,9,     -999.0,1,     0.0164,1,     4.6068,1,     -999.0,9,     -999.0,9,     -999.0,9
33RR20220430,        P02,      20,          1,         26,         26,2,20220509,       0346,    29.9997,   140.5248,       2487,     8.7,2,  20.5587,2,  34.6583,2,-999.0000,9,    228.9,2,  -999.0,9, -999.00,9, -999.00,9, -999.00,9, -999.00,9,-999.000,9,-999.000,9,-999.0000,9,  -999.0,9,  -999.0,9,-999.0000,9,  -999.00,9, -999.00,9,  -999.0,9, -999.00,9, -999.00,9,     -999.0,9, 20220509,      456,  29.9997, 140.5248,    20.5627,2,     -999.0,9,     -999.0,9,     -999.0,9,     -999.0,9,     0.0159,1,     4.5982,1,     -999.0,9,     -999.0,1,     -999.0,1
33RR20220430,        P02,      20,          1,         24,         24,2,20220509,       0346,    29.9997,   140.5248,       2487,    24.8,2,  20.2916,2,  34.6533,2,  34.6464,2,    229.4,2,   229.0,2,    0.49,2,    0.00,2,    0.01,2,    0.00,2,-999.000,9,-999.000,9,-999.0000,9,  1996.8,2,  2273.9,2,   8.0109,2,    25.02,2, -999.00,9,  -999.0,9, -999.00,1, -999.00,1,     -999.0,9, 20220509,      453,  29.9997, 140.5248,    20.2911,2,     -999.0,9,     -999.0,9,     -999.0,9,     -999.0,9,     0.0171,1,     4.6068,1,     -999.0,9,     -999.0,9,     -999.0,1
33RR20220430,        P02,      20,          1,         23,         23,2,20220509,       0346,    29.9997,   140.5248,       2487,    45.2,2,  19.1443,2,  34.7399,2,  34.7304,2,    231.7,2,   231.7,2,    0.59,2,    0.00,2,    0.02,2,    0.01,2,-999.000,9,-999.000,9,-999.0000,9,  2004.8,2,  2279.5,2,   8.0040,2,    24.99,2, -999.00,9,  -999.0,9, -999.00,1, -999.00,1,     -999.0,9, 20220509,      451,  29.9997, 140.5248,    19.1443,2,     -999.0,9,     -999.0,9,     -999.0,9,     -999.0,9,     0.0671,1,     4.5337,1,     -999.0,1,     -999.0,9,     -999.0,1
33RR20220430,        P02,      20,          1,         22,         22,2,20220509,       0346,    29.9997,   140.5248,       2487,    92.0,2,  18.1227,2,  34.7476,2,  34.7425,2,    222.3,2,   221.3,2,    2.05,2,    1.48,2,    0.16,2,    0.11,2,-999.000,9,-999.000,9,-999.0000,9,  2023.3,2,  2279.6,2,   7.9717,2,    25.04,2, -999.00,9,  -999.0,9, -999.00,1, -999.00,1,     -999.0,9, 20220509,      448,  29.9997, 140.5248,    18.1436,2,     -999.0,9,     -999.0,9,     -999.0,9,     -999.0,9,     0.0274,1,     4.6523,1,     -999.0,9,     -999.0,9,     -999.0,9
33RR20220430,        P02,      20,          1,         21,         21,2,20220509,       0346,    29.9997,   140.5248,       2487,    94.0,2,  18.0519,2,  34.7487,2,-999.0000,9,    222.7,2,  -999.0,9, -999.00,9, -999.00,9, -999.00,9, -999.00,9,-999.000,9,-999.000,9,-999.0000,9,  -999.0,9,  -999.0,9,-999.0000,9,  -999.00,9, -999.00,9,  -999.0,9, -999.00,9, -999.00,9,     -999.0,9, 20220509,      448,  29.9997, 140.5247,    18.0552,2,     -999.0,9,     -999.0,9,     -999.0,9,     -999.0,9,     0.0261,1,     4.6454,1,     -999.0,1,     -999.0,1,     -999.0,1
33RR20220430,        P02,      20,          1,         20,         20,2,20220509,       0346,    29.9997,   140.5248,       2487,   138.2,2,  17.6536,2,  34.7559,2,  34.7496,2,    221.8,2,   222.5,2,    2.44,2,    2.19,2,    0.02,2,    0.15,2,-999.000,9,-999.000,9,-999.0000,9,  2025.9,2,  2279.0,2,   7.9634,2,    25.01,2, -999.00,9,  -999.0,9, -999.00,1, -999.00,1,     -999.0,9, 20220509,      446,  29.9997, 140.5247,    17.6540,2,     -999.0,9,     -999.0,9,     -999.0,9,     -999.0,9,     0.0134,1,     4.6745,1,     -999.0,9,     -999.0,9,     -999.0,1
33RR20220430,        P02,      20,          1,         18,         18,2,20220509,       0346,    29.9997,   140.5248,       2487,   186.8,2,  17.4766,2,  34.7621,2,-999.0000,9,    221.7,2,  -999.0,9, -999.00,9, -999.00,9, -999.00,9, -999.00,9,-999.000,9,-999.000,9,-999.0000,9,  -999.0,9,  -999.0,9,-999.0000,9,  -999.00,9, -999.00,9,  -999.0,9, -999.00,9, -999.00,9,     -999.0,9, 20220509,      444,  29.9997, 140.5248,    17.4762,2,     -999.0,9,     -999.0,9,     -999.0,9,     -999.0,9,     0.0131,1,     4.6812,1,     -999.0,9,     -999.0,1,     -999.0,1
33RR20220430,        P02,      20,          1,         19,         19,2,20220509,       0346,    29.9997,   140.5248,       2487,   187.0,2,  17.4759,2,  34.7620,2,  34.7559,2,    221.7,2,   222.2,2,    2.54,2,    2.51,2,    0.00,2,    0.16,2,-999.000,9,-999.000,9,-999.0000,9,  2030.5,2,  2280.0,2,   7.9595,2,    25.01,2, -999.00,9,  -999.0,9, -999.00,1, -999.00,1,     -999.0,9, 20220509,      444,  29.9997, 140.5248,    17.4766,2,     -999.0,9,     -999.0,9,     -999.0,9,     -999.0,9,     0.0127,1,     4.6811,1,     -999.0,9,     -999.0,9,     -999.0,9
33RR20220430,        P02,      20,          1,         17,         17,2,20220509,       0346,    29.9997,   140.5248,       2487,   283.6,2,  17.1181,2,  34.7464,2,  34.7408,2,    223.8,2,   224.6,2,    2.83,2,    2.76,2,    0.00,2,    0.17,2,-999.000,9,-999.000,9,-999.0000,9,  2029.5,2,  2279.1,2,   7.9581,2,    25.01,2, -999.00,9,  -999.0,9, -999.00,1, -999.00,1,     -999.0,9, 20220509,      441,  29.9998, 140.5249,    17.1167,2,     -999.0,9,     -999.0,9,     -999.0,9,     -999.0,9,     0.0122,1,     4.6853,1,     -999.0,9,     -999.0,9,     -999.0,9
33RR20220430,        P02,      20,          1,         16,         16,4,20220509,       0346,    29.9997,   140.5248,       2487,   387.2,3,  15.9433,3,  34.6604,3,-999.0000,9,    201.4,3,  -999.0,9, -999.00,9, -999.00,9, -999.00,9, -999.00,9,-999.000,9,-999.000,9,-999.0000,9,  -999.0,9,  -999.0,9,-999.0000,9,  -999.00,9, -999.00,9,  -999.0,9, -999.00,9, -999.00,9,     -999.0,9, 20220509,      439,  29.9997, 140.5247,    15.9427,3,     -999.0,9,     -999.0,9,     -999.0,9,     -999.0,9,     0.0122,1,     4.6873,1,     -999.0,9,     -999.0,9,     -999.0,9
33RR20220430,        P02,      20,          1,         15,         15,2,20220509,       0346,    29.9997,   140.5248,       2487,   466.4,2,  13.8973,2,  34.4996,2,  34.4952,2,    185.8,2,   185.9,2,   14.46,2,   11.73,2,    0.00,2,    0.77,2,-999.000,9,-999.000,9,-999.0000,9,  2096.3,2,  2274.5,2,   7.8160,2,    25.01,2, -999.00,9,  -999.0,9, -999.00,1, -999.00,1,     -999.0,9, 20220509,      436,  29.9997, 140.5248,    13.8728,2,     -999.0,9,     -999.0,9,     -999.0,9,     -999.0,9,     0.0122,1,     4.6910,1,     -999.0,9,     -999.0,9,     -999.0,9
33RR20220430,        P02,      20,          1,         14,         14,2,20220509,       0346,    29.9997,   140.5248,       2487,   569.6,2,  11.2371,2,  34.3237,2,  34.3229,2,    168.2,2,   168.6,2,   26.58,2,   17.50,2,    0.00,2,    1.22,2,-999.000,9,-999.000,9,-999.0000,9,  2134.7,2,  2276.2,2,   7.7213,2,    24.99,2, -999.00,9,  -999.0,9, -999.00,1, -999.00,1,     -999.0,9, 20220509,      434,  29.9998, 140.5248,    11.2374,2,     -999.0,9,     -999.0,9,     -999.0,9,     -999.0,9,     0.0122,1,     4.6964,1,     -999.0,9,     -999.0,9,     -999.0,1
33RR20220430,        P02,      20,          1,         13,         13,2,20220509,       0346,    29.9997,   140.5248,       2487,   671.2,2,   7.8283,2,  34.1098,2,  34.1095,2,    150.6,2,   150.5,2,   47.10,2,   25.04,2,    0.00,2,    1.80,2,-999.000,9,-999.000,9,-999.0000,9,  2191.8,2,  2283.9,2,   7.5946,2,    25.05,2, -999.00,9,  -999.0,9, -999.00,1, -999.00,1,     -999.0,9, 20220509,      431,  29.9997, 140.5248,     7.8275,2,     -999.0,9,     -999.0,9,     -999.0,9,     -999.0,9,     0.0125,1,     4.7011,1,     -999.0,9,     -999.0,9,     -999.0,9
33RR20220430,        P02,      20,          1,         12,         12,2,20220509,       0346,    29.9997,   140.5248,       2487,   772.3,2,   5.8125,2,  34.0514,2,  34.0511,2,    116.4,2,   116.4,2,   68.70,2,   31.76,2,    0.00,2,    2.29,2,-999.000,9,-999.000,9,-999.0000,9,  2243.7,2,  2297.1,2,   7.4785,2,    24.96,2, -999.00,9,  -999.0,9, -999.00,1, -999.00,1,     -999.0,9, 20220509,      428,  29.9997, 140.5248,     5.8112,2,     -999.0,9,     -999.0,9,     -999.0,9,     -999.0,9,     0.0132,1,     4.7019,1,     -999.0,9,     -999.0,9,     -999.0,9
33RR20220430,        P02,      20,          1,         11,         11,2,20220509,       0346,    29.9997,   140.5248,       2487,   873.0,2,   4.8922,2,  34.1335,2,  34.1328,2,     75.0,2,    74.5,2,   88.44,2,   36.91,2,    0.00,2,    2.65,2,-999.000,9,-999.000,9,-999.0000,9,  2288.3,2,  2317.2,2,   7.3992,2,    25.09,2, -999.00,9,  -999.0,9, -999.00,1, -999.00,1,     -999.0,9, 20220509,      426,  29.9997, 140.5248,     4.8931,2,     -999.0,9,     -999.0,9,     -999.0,9,     -999.0,9,     0.0134,1,     4.7038,1,     -999.0,9,     -999.0,9,     -999.0,9
33RR20220430,        P02,      20,          1,         10,         10,2,20220509,       0346,    29.9997,   140.5248,       2487,   972.9,2,   4.3043,2,  34.2181,2,  34.2187,2,     54.4,2,    54.2,2,  103.68,2,   39.90,2,    0.00,2,    2.82,2,-999.000,9,-999.000,9,-999.0000,9,  2317.7,2,  2334.7,2,   7.3655,2,    25.01,2, -999.00,9,  -999.0,9, -999.00,1, -999.00,1,     -999.0,9, 20220509,      423,  29.9998, 140.5248,     4.3039,2,     -999.0,9,     -999.0,9,     -999.0,9,     -999.0,9,     0.0134,1,     4.7033,1,     -999.0,9,     -999.0,9,     -999.0,9
33RR20220430,        P02,      20,          1,          9,          9,2,20220509,       0346,    29.9997,   140.5248,       2487,   973.0,2,   4.2956,2,  34.2190,2,-999.0000,9,     53.9,2,  -999.0,9, -999.00,9, -999.00,9, -999.00,9, -999.00,9,-999.000,9,-999.000,9,-999.0000,9,  -999.0,9,  -999.0,9,-999.0000,9,  -999.00,9, -999.00,9,  -999.0,9, -999.00,9, -999.00,9,     -999.0,9, 20220509,      423,  29.9997, 140.5248,     4.2987,2,     -999.0,9,     -999.0,9,     -999.0,9,     -999.0,9,     0.0134,1,     4.7036,1,     -999.0,9,     -999.0,1,     -999.0,1
33RR20220430,        P02,      20,          1,          8,          8,2,20220509,       0346,    29.9997,   140.5248,       2487,  1075.9,2,   3.7818,2,  34.3006,2,  34.3019,2,     48.0,2,    48.4,2,  119.11,2,   40.71,2,    0.00,2,    2.89,2,-999.000,9,-999.000,9,-999.0000,9,  2336.8,6,  2352.0,2,   7.3594,2,    24.96,2, -999.00,9,  -999.0,9, -999.00,1, -999.00,1,     -999.0,9, 20220509,      420,  29.9997, 140.5248,     3.7813,2,     -999.0,9,     -999.0,9,     -999.0,9,     -999.0,9,     0.0134,1,     4.7019,1,     -999.0,9,     -999.0,9,     -999.0,9
33RR20220430,        P02,      20,          1,          7,          7,2,20220509,       0346,    29.9997,   140.5248,       2487,  1175.7,2,   3.3874,2,  34.3855,2,  34.3864,2,     51.5,2,    51.4,2,  128.88,2,   40.82,2,    0.00,2,    2.90,2,-999.000,9,-999.000,9,-999.0000,9,  2346.1,2,  2366.9,2,   7.3753,2,    25.01,2, -999.00,9,  -999.0,9, -999.00,1, -999.00,1,     -999.0,9, 20220509,      417,  29.9997, 140.5248,     3.3875,2,     -999.0,9,     -999.0,9,     -999.0,9,     -999.0,9,     0.0134,1,     4.7019,1,     -999.0,9,     -999.0,9,     -999.0,9
33RR20220430,        P02,      20,          1,          6,          6,2,20220509,       0346,    29.9997,   140.5248,       2487,  1380.2,2,   2.8053,2,  34.4509,2,  34.4530,2,     46.3,2,    46.5,2,  144.60,2,   41.88,2,    0.00,2,    2.97,2,-999.000,9,-999.000,9,-999.0000,9,  2363.5,2,  2383.3,2,   7.3680,2,    25.02,2, -999.00,9,  -999.0,9, -999.00,1, -999.00,1,     -999.0,9, 20220509,      413,  29.9997, 140.5248,     2.8064,2,     -999.0,9,     -999.0,9,     -999.0,9,     -999.0,9,     0.0134,1,     4.7030,1,     -999.0,9,     -999.0,9,     -999.0,9
33RR20220430,        P02,      20,          1,          5,          5,2,20220509,       0346,    29.9997,   140.5248,       2487,  1582.4,2,   2.4659,2,  34.5135,2,  34.5135,2,     60.9,2,    60.9,2,  149.77,2,   41.35,2,    0.00,2,    2.92,2,-999.000,9,-999.000,9,-999.0000,9,  2364.6,2,  2393.8,2,   7.3998,2,    24.93,2, -999.00,9,  -999.0,9, -999.00,1, -999.00,1,     -999.0,9, 20220509,      409,  29.9997, 140.5248,     2.4654,2,     -999.0,9,     -999.0,9,     -999.0,9,     -999.0,9,     0.0134,1,     4.7024,1,     -999.0,9,     -999.0,9,     -999.0,9
33RR20220430,        P02,      20,          1,          4,          4,2,20220509,       0346,    29.9997,   140.5248,       2487,  1785.6,2,   2.1353,2,  34.5658,2,  34.5671,2,     75.2,3,    76.4,2,  154.94,2,   40.49,2,    0.00,2,    2.86,2,-999.000,9,-999.000,9,-999.0000,9,  2362.2,2,  2402.8,2,   7.4292,2,    25.03,2, -999.00,9,  -999.0,9, -999.00,1, -999.00,1,     -999.0,9, 20220509,      404,  29.9997, 140.5248,     2.1350,2,     -999.0,9,     -999.0,9,     -999.0,9,     -999.0,9,     0.0134,1,     4.7032,1,     -999.0,9,     -999.0,9,     -999.0,9
33RR20220430,        P02,      20,          1,          3,          3,2,20220509,       0346,    29.9997,   140.5248,       2487,  1957.7,2,   1.9675,2,  34.5924,2,  34.5932,2,     84.1,2,    83.7,2,  157.28,2,   40.01,2,    0.00,2,    2.82,2,-999.000,9,-999.000,9,-999.0000,9,  2362.5,3,  2407.7,2,   7.4831,2,    24.95,2, -999.00,9,  -999.0,9, -999.00,1, -999.00,1,     -999.0,9, 20220509,      400,  29.9997, 140.5248,     1.9674,2,     -999.0,9,     -999.0,9,     -999.0,9,     -999.0,9,     0.0134,1,     4.7023,1,     -999.0,9,     -999.0,9,     -999.0,9