BOTTLE,20230801CCHSIOCBG
EXPOCODE,SECT_ID,STNNBR,CASTNO,SAMPNO,BTLNBR,BTLNBR_FLAG_W,DATE,TIME,LATITUDE,LONGITUDE,DEPTH,CTDPRS,CTDPRS_FLAG_W,CTDTMP,CTDTMP_FLAG_W,CTDSAL,CTDSAL_FLAG_W,SALNTY,SALNTY_FLAG_W,CTDOXY,CTDOXY_FLAG_W,OXYGEN,OXYGEN_FLAG_W,SILCAT,SILCAT_FLAG_W,NITRAT,NITRAT_FLAG_W,NITRIT,NITRIT_FLAG_W,PHSPHT,PHSPHT_FLAG_W,CFC-11,CFC-11_FLAG_W,CFC-12,CFC-12_FLAG_W,SF6,SF6_FLAG_W,TCARBN,TCARBN_FLAG_W,ALKALI,ALKALI_FLAG_W,PH_TOT,PH_TOT_FLAG_W,PH_TMP,PH_TMP_FLAG_W,DELC13,DELC13_FLAG_W,DELC14,DELC14_FLAG_W,DOC,DOC_FLAG_W,TDN,TDN_FLAG_W,N2O,N2O_FLAG_W,BTL_DATE,BTL_TIME,BTL_LAT,BTL_LON,REFTMP,REFTMP_FLAG_W,POC,POC_FLAG_W,PON,PON_FLAG_W,POP,POP_FLAG_W,PCOD,PCOD_FLAG_W,CTDFLUOR,CTDFLUOR_FLAG_W,CTDXMISS,CTDXMISS_FLAG_W,HPLC,HPLC_FLAG_W,DNA,DNA_FLAG_W,FCM,FCM_FLAG_W
,,,,,,,,,,,METERS,DBAR,,ITS-90,,PSS-78,,PSS-78,,UMOL/KG,,UMOL/KG,,UMOL/KG,,UMOL/KG,,UMOL/KG,,UMOL/KG,,PMOL/KG,,PMOL/KG,,FMOL/KG,,UMOL/KG,,UMOL/KG,,,,DEG C,,/MILLE,,/MILLE,,UMOL/KG,,UMOL/KG,,NMOL/KG,,,,,,ITS-90,,UG/L,,UG/L,,UG/L,,UG/L,,VOLTS,,VOLTS,,,,,,,
33RR20220430,        P02,      23,          2,          3,          3,2,20220510,       0435,    30.0002,   143.1773,       6001,  5097.3,2,   1.5282,2,  34.6891,2,  34.6893,2,    161.3,2,   162.8,2,  144.66,2,   35.71,2,    0.00,2,    2.42,2,   0.007,2,   0.000,2,   0.0000,2,  2315.7,2,  2411.5,2,   7.5839,2,    25.02,2, -999.00,1,  -999.0,1, -999.00,1, -999.00,1,       24.6,2, 20220510,      454,  30.0003, 143.1773,     1.5280,2,     -999.0,9,     -999.0,9,     -999.0,9,     -999.0,9,     0.0125,1,     4.7094,1,     -999.0,9,     -999.0,9,     -999.0,9
33RR20220430,        P02,      23,          2,          2,          2,2,20220510,       0435,    30.0002,   143.1773,       6001,  5611.4,2,   1.5745,2,  34.6910,2,  34.6908,2,    165.2,2,   165.2,2,  141.83,2,   35.29,2,    0.00,2,    2.40,2,   0.009,2,   0.000,2,   0.0000,2,  2312.3,2,  2409.3,2,   7.5878,2,    25.01,2, -999.00,1,  -999.0,1, -999.00,9, -999.00,9,       24.4,2, 20220510,      444,  30.0002, 143.1773,     1.5744,2,     -999.0,9,     -999.0,9,     -999.0,9,     -999.0,9,     0.0131,1,     4.7084,1,     -999.0,9,     -999.0,9,     -999.0,9
33RR20220430,        P02,      23,          2,          1,          1,2,20220510,       0435,    30.0002,   143.1773,       6001,  6117.2,2,   1.6255,2,  34.6923,2,  34.6930,2,    168.8,2,   167.7,2,  138.90,2,   35.02,2,    0.00,2,    2.39,2,   0.009,2,-999.000,5,   0.0000,2,  2310.1,6,  2409.8,2,   7.5927,2,    25.01,2, -999.00,1,  -999.0,1, -999.00,1, -999.00,1,       24.1,2, 20220510,      435,  30.0002, 143.1773,     1.6252,2,     -999.0,9,     -999.0,9,     -999.0,9,     -999.0,9,     0.0122,1,     4.7052,1,     -999.0,9,     -999.0,9,     -999.0,9