BOTTLE,20230801CCHSIOCBG
EXPOCODE,SECT_ID,STNNBR,CASTNO,SAMPNO,BTLNBR,BTLNBR_FLAG_W,DATE,TIME,LATITUDE,LONGITUDE,DEPTH,CTDPRS,CTDPRS_FLAG_W,CTDTMP,CTDTMP_FLAG_W,CTDSAL,CTDSAL_FLAG_W,SALNTY,SALNTY_FLAG_W,CTDOXY,CTDOXY_FLAG_W,OXYGEN,OXYGEN_FLAG_W,SILCAT,SILCAT_FLAG_W,NITRAT,NITRAT_FLAG_W,NITRIT,NITRIT_FLAG_W,PHSPHT,PHSPHT_FLAG_W,CFC-11,CFC-11_FLAG_W,CFC-12,CFC-12_FLAG_W,SF6,SF6_FLAG_W,TCARBN,TCARBN_FLAG_W,ALKALI,ALKALI_FLAG_W,PH_TOT,PH_TOT_FLAG_W,PH_TMP,PH_TMP_FLAG_W,DELC13,DELC13_FLAG_W,DELC14,DELC14_FLAG_W,DOC,DOC_FLAG_W,TDN,TDN_FLAG_W,N2O,N2O_FLAG_W,BTL_DATE,BTL_TIME,BTL_LAT,BTL_LON,REFTMP,REFTMP_FLAG_W,POC,POC_FLAG_W,PON,PON_FLAG_W,POP,POP_FLAG_W,PCOD,PCOD_FLAG_W,CTDFLUOR,CTDFLUOR_FLAG_W,CTDXMISS,CTDXMISS_FLAG_W,HPLC,HPLC_FLAG_W,DNA,DNA_FLAG_W,FCM,FCM_FLAG_W
,,,,,,,,,,,METERS,DBAR,,ITS-90,,PSS-78,,PSS-78,,UMOL/KG,,UMOL/KG,,UMOL/KG,,UMOL/KG,,UMOL/KG,,UMOL/KG,,PMOL/KG,,PMOL/KG,,FMOL/KG,,UMOL/KG,,UMOL/KG,,,,DEG C,,/MILLE,,/MILLE,,UMOL/KG,,UMOL/KG,,NMOL/KG,,,,,,ITS-90,,UG/L,,UG/L,,UG/L,,UG/L,,VOLTS,,VOLTS,,,,,,,
33RR20220430,        P02,      86,          2,          3,          3,2,20220530,       0416,    29.9998,  -179.0966,       5428,  5100.4,2,   1.5046,2,  34.6904,2,  34.6885,2,    162.6,2,   162.6,2,  144.76,2,   35.43,2,    0.00,2,    2.42,2,   0.005,2,   0.000,2,   0.0000,2,  2314.5,2,  2412.0,2,   7.5883,2,    25.01,2, -999.00,9,  -999.0,9, -999.00,1, -999.00,1,       21.6,2, 20220530,      425,  29.9997,-179.0966,     1.5047,2,     -999.0,9,     -999.0,9,     -999.0,9,     -999.0,9,     0.0122,1,     4.7049,1,     -999.0,9,     -999.0,9,     -999.0,9
33RR20220430,        P02,      86,          2,          2,          2,2,20220530,       0416,    29.9998,  -179.0966,       5428,  5408.7,2,   1.5254,2,  34.6919,2,  34.6905,2,    166.1,2,   166.5,2,  141.54,2,   35.15,2,    0.00,2,    2.40,2,-999.000,9,-999.000,9,-999.0000,9,  2310.7,2,  2409.8,2,   7.5919,2,    25.00,2, -999.00,9,  -999.0,9, -999.00,9, -999.00,9,     -999.0,9, 20220530,      419,  29.9998,-179.0966,     1.5253,2,     -999.0,9,     -999.0,9,     -999.0,9,     -999.0,9,     0.0122,1,     4.7032,1,     -999.0,9,     -999.0,9,     -999.0,9
33RR20220430,        P02,      86,          2,          1,          1,2,20220530,       0416,    29.9998,  -179.0966,       5428,  5528.6,2,   1.5393,2,  34.6920,2,  34.6920,2,    166.5,2,   166.3,2,  141.44,2,   35.14,2,    0.00,2,    2.41,2,   0.009,2,   0.000,2,   0.0000,2,  2310.1,6,  2408.2,2,   7.5922,2,    25.01,2, -999.00,9,  -999.0,9, -999.00,1, -999.00,1,       21.6,2, 20220530,      416,  29.9997,-179.0966,     1.5395,2,     -999.0,9,     -999.0,9,     -999.0,9,     -999.0,9,     0.0122,1,     4.7032,1,     -999.0,9,     -999.0,9,     -999.0,9