BOTTLE,20230801CCHSIOCBG
EXPOCODE,SECT_ID,STNNBR,CASTNO,SAMPNO,BTLNBR,BTLNBR_FLAG_W,DATE,TIME,LATITUDE,LONGITUDE,DEPTH,CTDPRS,CTDPRS_FLAG_W,CTDTMP,CTDTMP_FLAG_W,CTDSAL,CTDSAL_FLAG_W,SALNTY,SALNTY_FLAG_W,CTDOXY,CTDOXY_FLAG_W,OXYGEN,OXYGEN_FLAG_W,SILCAT,SILCAT_FLAG_W,NITRAT,NITRAT_FLAG_W,NITRIT,NITRIT_FLAG_W,PHSPHT,PHSPHT_FLAG_W,CFC-11,CFC-11_FLAG_W,CFC-12,CFC-12_FLAG_W,SF6,SF6_FLAG_W,TCARBN,TCARBN_FLAG_W,ALKALI,ALKALI_FLAG_W,PH_TOT,PH_TOT_FLAG_W,PH_TMP,PH_TMP_FLAG_W,DELC13,DELC13_FLAG_W,DELC14,DELC14_FLAG_W,DOC,DOC_FLAG_W,TDN,TDN_FLAG_W,N2O,N2O_FLAG_W,BTL_DATE,BTL_TIME,BTL_LAT,BTL_LON,REFTMP,REFTMP_FLAG_W,POC,POC_FLAG_W,PON,PON_FLAG_W,POP,POP_FLAG_W,PCOD,PCOD_FLAG_W,CTDFLUOR,CTDFLUOR_FLAG_W,CTDXMISS,CTDXMISS_FLAG_W,HPLC,HPLC_FLAG_W,DNA,DNA_FLAG_W,FCM,FCM_FLAG_W
,,,,,,,,,,,METERS,DBAR,,ITS-90,,PSS-78,,PSS-78,,UMOL/KG,,UMOL/KG,,UMOL/KG,,UMOL/KG,,UMOL/KG,,UMOL/KG,,PMOL/KG,,PMOL/KG,,FMOL/KG,,UMOL/KG,,UMOL/KG,,,,DEG C,,/MILLE,,/MILLE,,UMOL/KG,,UMOL/KG,,NMOL/KG,,,,,,ITS-90,,UG/L,,UG/L,,UG/L,,UG/L,,VOLTS,,VOLTS,,,,,,,
33RR20220430,        P02,      64,          1,          3,          3,2,20220523,       1558,    29.9992,   169.1427,       5725,  5199.5,2,   1.4751,2,  34.6941,2,  34.6950,2,    170.6,2,   170.9,2,  136.45,2,   34.86,2,    0.00,2,    2.38,2,   0.009,2,   0.000,2,   0.0000,2,  2304.5,2,  2403.2,2,   7.5964,2,    24.99,2, -999.00,9,  -999.0,9, -999.00,9, -999.00,9,       19.9,2, 20220523,     1611,  29.9992, 169.1427,     1.4752,2,     -999.0,9,     -999.0,9,     -999.0,9,     -999.0,9,     0.0122,1,     4.7072,1,     -999.0,9,     -999.0,9,     -999.0,9
33RR20220430,        P02,      64,          1,          2,          2,2,20220523,       1558,    29.9992,   169.1427,       5725,  5560.9,2,   1.4987,2,  34.6959,3,  34.6979,2,    174.3,2,   174.8,2,  133.82,2,   34.48,2,    0.00,2,    2.36,2,   0.007,2,   0.000,2,   0.0000,2,  2302.4,6,  2401.0,2,   7.5986,2,    24.98,2, -999.00,9,  -999.0,9, -999.00,9, -999.00,9,       19.5,2, 20220523,     1604,  29.9992, 169.1427,     1.4990,2,     -999.0,9,     -999.0,9,     -999.0,9,     -999.0,9,     0.0122,1,     4.7062,1,     -999.0,9,     -999.0,9,     -999.0,9
33RR20220430,        P02,      64,          1,          1,          1,2,20220523,       1558,    29.9992,   169.1427,       5725,  5830.9,2,   1.5230,2,  34.6967,2,  34.6977,2,    176.3,2,   175.9,2,  132.35,2,   34.26,2,    0.00,2,    2.35,2,   0.010,2,   0.000,2,   0.0000,2,  2299.8,2,  2398.6,2,   7.6016,2,    25.00,2, -999.00,9,  -999.0,9, -999.00,9, -999.00,9,       19.5,2, 20220523,     1558,  29.9992, 169.1427,     1.5230,2,     -999.0,9,     -999.0,9,     -999.0,9,     -999.0,9,     0.0113,1,     4.7032,1,     -999.0,9,     -999.0,9,     -999.0,9
33RR20220430,        P02,      65,          1,         14,         14,2,20220523,       2125,    30.0003,   169.7190,       5678,     5.7,2,  22.9862,2,  35.1291,2,-999.0000,9,    210.4,2,  -999.0,9, -999.00,9, -999.00,9, -999.00,9, -999.00,9,-999.000,9,-999.000,9,-999.0000,9,  -999.0,9,  -999.0,9,-999.0000,9,  -999.00,9, -999.00,9,  -999.0,9, -999.00,9, -999.00,9,     -999.0,9, 20220523,     2152,  30.0003, 169.7191,    22.9766,2,     -999.0,1,     -999.0,1,     -999.0,9,     -999.0,9,     0.0129,1,     4.6345,1,     -999.0,9,     -999.0,9,     -999.0,9
33RR20220430,        P02,      65,          1,         20,         20,2,20220523,       2125,    30.0003,   169.7190,       5678,     5.7,2,  22.9775,2,  35.1292,2,-999.0000,9,    210.7,2,  -999.0,9, -999.00,9, -999.00,9, -999.00,9, -999.00,9,-999.000,9,-999.000,9,-999.0000,9,  -999.0,9,  -999.0,9,-999.0000,9,  -999.00,9, -999.00,9,  -999.0,9, -999.00,9, -999.00,9,     -999.0,9, 20220523,     2154,  30.0003, 169.7190,    22.9658,2,     -999.0,9,     -999.0,9,     -999.0,9,     -999.0,1,     0.0122,1,     4.6338,1,     -999.0,9,     -999.0,9,     -999.0,9
33RR20220430,        P02,      65,          1,         11,         11,2,20220523,       2125,    30.0003,   169.7190,       5678,     5.8,2,  22.9804,2,  35.1288,2,-999.0000,9,    210.9,2,  -999.0,9, -999.00,9, -999.00,9, -999.00,9, -999.00,9,-999.000,9,-999.000,9,-999.0000,9,  -999.0,9,  -999.0,9,-999.0000,9,  -999.00,9, -999.00,9,  -999.0,9, -999.00,9, -999.00,9,     -999.0,9, 20220523,     2151,  30.0003, 169.7191,     -999.0,9,     -999.0,9,     -999.0,9,     -999.0,9,     -999.0,9,     0.0122,1,     4.6334,1,     -999.0,9,     -999.0,1,     -999.0,9
33RR20220430,        P02,      65,          1,         17,         17,2,20220523,       2125,    30.0003,   169.7190,       5678,     5.8,2,  22.9853,2,  35.1290,2,-999.0000,9,    210.7,2,  -999.0,9, -999.00,9, -999.00,9, -999.00,9, -999.00,9,-999.000,9,-999.000,9,-999.0000,9,  -999.0,9,  -999.0,9,-999.0000,9,  -999.00,9, -999.00,9,  -999.0,9, -999.00,9, -999.00,9,     -999.0,9, 20220523,     2153,  30.0003, 169.7191,     -999.0,9,     -999.0,9,     -999.0,9,     -999.0,1,     -999.0,9,     0.0135,1,     4.6321,1,     -999.0,9,     -999.0,9,     -999.0,9
33RR20220430,        P02,      65,          1,         12,         12,2,20220523,       2125,    30.0003,   169.7190,       5678,     5.9,2,  23.0114,2,  35.1282,2,-999.0000,9,    210.5,2,  -999.0,9, -999.00,9, -999.00,9, -999.00,9, -999.00,9,-999.000,9,-999.000,9,-999.0000,9,  -999.0,9,  -999.0,9,-999.0000,9,  -999.00,9, -999.00,9,  -999.0,9, -999.00,9, -999.00,9,     -999.0,9, 20220523,     2152,  30.0003, 169.7190,    22.9795,2,     -999.0,1,     -999.0,1,     -999.0,9,     -999.0,9,     0.0127,1,     4.6330,1,     -999.0,9,     -999.0,9,     -999.0,9
33RR20220430,        P02,      65,          1,         16,         16,2,20220523,       2125,    30.0003,   169.7190,       5678,     5.9,2,  22.9846,2,  35.1290,2,-999.0000,9,    210.5,2,  -999.0,9, -999.00,9, -999.00,9, -999.00,9, -999.00,9,-999.000,9,-999.000,9,-999.0000,9,  -999.0,9,  -999.0,9,-999.0000,9,  -999.00,9, -999.00,9,  -999.0,9, -999.00,9, -999.00,9,     -999.0,9, 20220523,     2153,  30.0003, 169.7191,    22.9779,2,     -999.0,9,     -999.0,9,     -999.0,1,     -999.0,9,     0.0122,1,     4.6335,1,     -999.0,9,     -999.0,9,     -999.0,9
33RR20220430,        P02,      65,          1,         19,         19,2,20220523,       2125,    30.0003,   169.7190,       5678,     6.1,2,  22.9830,2,  35.1288,2,-999.0000,9,    210.4,2,  -999.0,9, -999.00,9, -999.00,9, -999.00,9, -999.00,9,-999.000,9,-999.000,9,-999.0000,9,  -999.0,9,  -999.0,9,-999.0000,9,  -999.00,9, -999.00,9,  -999.0,9, -999.00,9, -999.00,9,     -999.0,9, 20220523,     2154,  30.0003, 169.7190,     -999.0,9,     -999.0,9,     -999.0,9,     -999.0,9,     -999.0,1,     0.0129,1,     4.6323,1,     -999.0,9,     -999.0,9,     -999.0,9
33RR20220430,        P02,      65,          1,         10,         10,2,20220523,       2125,    30.0003,   169.7190,       5678,     6.1,2,  22.9910,2,  35.1285,2,-999.0000,9,    210.3,2,  -999.0,9, -999.00,9, -999.00,9, -999.00,9, -999.00,9,-999.000,9,-999.000,9,-999.0000,9,  -999.0,9,  -999.0,9,-999.0000,9,  -999.00,9, -999.00,9,  -999.0,9, -999.00,9, -999.00,9,     -999.0,9, 20220523,     2151,  30.0003, 169.7191,    22.9723,2,     -999.0,1,     -999.0,1,     -999.0,9,     -999.0,9,     0.0127,1,     4.6367,1,     -999.0,1,     -999.0,9,     -999.0,1
33RR20220430,        P02,      65,          1,         13,         13,2,20220523,       2125,    30.0003,   169.7190,       5678,     6.1,2,  22.9866,2,  35.1294,2,-999.0000,9,    210.9,2,  -999.0,9, -999.00,9, -999.00,9, -999.00,9, -999.00,9,-999.000,9,-999.000,9,-999.0000,9,  -999.0,9,  -999.0,9,-999.0000,9,  -999.00,9, -999.00,9,  -999.0,9, -999.00,9, -999.00,9,     -999.0,9, 20220523,     2152,  30.0003, 169.7191,    22.9869,2,     -999.0,1,     -999.0,1,     -999.0,9,     -999.0,9,     0.0122,1,     4.6337,1,     -999.0,9,     -999.0,9,     -999.0,9
33RR20220430,        P02,      65,          1,         15,         15,2,20220523,       2125,    30.0003,   169.7190,       5678,     6.2,2,  22.9818,2,  35.1291,2,-999.0000,9,    211.0,2,  -999.0,9, -999.00,9, -999.00,9, -999.00,9, -999.00,9,-999.000,9,-999.000,9,-999.0000,9,  -999.0,9,  -999.0,9,-999.0000,9,  -999.00,9, -999.00,9,  -999.0,9, -999.00,9, -999.00,9,     -999.0,9, 20220523,     2153,  30.0003, 169.7191,    22.9778,2,     -999.0,9,     -999.0,9,     -999.0,1,     -999.0,9,     0.0131,1,     4.6311,1,     -999.0,9,     -999.0,9,     -999.0,9
33RR20220430,        P02,      65,          1,         18,         18,2,20220523,       2125,    30.0003,   169.7190,       5678,     6.4,2,  22.9785,2,  35.1288,2,-999.0000,9,    210.6,2,  -999.0,9, -999.00,9, -999.00,9, -999.00,9, -999.00,9,-999.000,9,-999.000,9,-999.0000,9,  -999.0,9,  -999.0,9,-999.0000,9,  -999.00,9, -999.00,9,  -999.0,9, -999.00,9, -999.00,9,     -999.0,9, 20220523,     2153,  30.0003, 169.7190,    22.9787,2,     -999.0,9,     -999.0,9,     -999.0,9,     -999.0,1,     0.0135,1,     4.6314,1,     -999.0,9,     -999.0,9,     -999.0,9
33RR20220430,        P02,      65,          1,          9,          9,2,20220523,       2125,    30.0003,   169.7190,       5678,    36.1,2,  21.2149,2,  35.0823,2,-999.0000,9,    218.1,2,  -999.0,9, -999.00,9, -999.00,9, -999.00,9, -999.00,9,-999.000,9,-999.000,9,-999.0000,9,  -999.0,9,  -999.0,9,-999.0000,9,  -999.00,9, -999.00,9,  -999.0,9, -999.00,9, -999.00,9,     -999.0,9, 20220523,     2149,  30.0003, 169.7191,    21.2066,2,     -999.0,1,     -999.0,1,     -999.0,9,     -999.0,9,     0.0134,1,     4.6322,1,     -999.0,1,     -999.0,9,     -999.0,1
33RR20220430,        P02,      65,          1,          8,          8,2,20220523,       2125,    30.0003,   169.7190,       5678,    51.0,2,  20.3714,2,  35.0091,2,-999.0000,9,    224.2,2,  -999.0,9, -999.00,9, -999.00,9, -999.00,9, -999.00,9,-999.000,9,-999.000,9,-999.0000,9,  -999.0,9,  -999.0,9,-999.0000,9,  -999.00,9, -999.00,9,  -999.0,9, -999.00,9, -999.00,9,     -999.0,9, 20220523,     2148,  30.0003, 169.7191,    20.3658,2,     -999.0,1,     -999.0,1,     -999.0,9,     -999.0,9,     0.0147,1,     4.6281,1,     -999.0,1,     -999.0,9,     -999.0,1
33RR20220430,        P02,      65,          1,          6,          6,2,20220523,       2125,    30.0003,   169.7190,       5678,    97.0,2,  17.8964,2,  34.8010,2,-999.0000,9,    214.3,2,  -999.0,9, -999.00,9, -999.00,9, -999.00,9, -999.00,9,-999.000,9,-999.000,9,-999.0000,9,  -999.0,9,  -999.0,9,-999.0000,9,  -999.00,9, -999.00,9,  -999.0,9, -999.00,9, -999.00,9,     -999.0,9, 20220523,     2145,  30.0003, 169.7190,    17.8833,2,     -999.0,1,     -999.0,1,     -999.0,9,     -999.0,9,     0.0449,1,     4.6182,1,     -999.0,1,     -999.0,9,     -999.0,1
33RR20220430,        P02,      65,          1,          7,          7,2,20220523,       2125,    30.0003,   169.7190,       5678,    97.2,2,  17.8901,2,  34.8001,2,-999.0000,9,    214.4,2,  -999.0,9, -999.00,9, -999.00,9, -999.00,9, -999.00,9,-999.000,9,-999.000,9,-999.0000,9,  -999.0,9,  -999.0,9,-999.0000,9,  -999.00,9, -999.00,9,  -999.0,9, -999.00,9, -999.00,9,     -999.0,9, 20220523,     2145,  30.0003, 169.7191,     -999.0,9,     -999.0,9,     -999.0,9,     -999.0,9,     -999.0,9,     0.0503,1,     4.6182,1,     -999.0,9,     -999.0,1,     -999.0,9
33RR20220430,        P02,      65,          1,          5,          5,2,20220523,       2125,    30.0003,   169.7190,       5678,   154.0,2,  16.9747,2,  34.6900,2,-999.0000,9,    215.4,2,  -999.0,9, -999.00,9, -999.00,9, -999.00,9, -999.00,9,-999.000,9,-999.000,9,-999.0000,9,  -999.0,9,  -999.0,9,-999.0000,9,  -999.00,9, -999.00,9,  -999.0,9, -999.00,9, -999.00,9,     -999.0,9, 20220523,     2143,  30.0003, 169.7190,    16.9666,2,     -999.0,1,     -999.0,1,     -999.0,9,     -999.0,9,     0.0159,1,     4.6820,1,     -999.0,1,     -999.0,9,     -999.0,1
33RR20220430,        P02,      65,          1,          4,          4,2,20220523,       2125,    30.0003,   169.7190,       5678,   203.7,2,  16.6085,2,  34.6553,2,-999.0000,9,    213.4,2,  -999.0,9, -999.00,9, -999.00,9, -999.00,9, -999.00,9,-999.000,9,-999.000,9,-999.0000,9,  -999.0,9,  -999.0,9,-999.0000,9,  -999.00,9, -999.00,9,  -999.0,9, -999.00,9, -999.00,9,     -999.0,9, 20220523,     2141,  30.0003, 169.7191,     -999.0,9,     -999.0,9,     -999.0,9,     -999.0,9,     -999.0,9,     0.0126,1,     4.6868,1,     -999.0,9,     -999.0,1,     -999.0,9
33RR20220430,        P02,      65,          1,          3,          3,2,20220523,       2125,    30.0003,   169.7190,       5678,   204.3,2,  16.6019,2,  34.6552,2,-999.0000,9,    213.5,2,  -999.0,9, -999.00,9, -999.00,9, -999.00,9, -999.00,9,-999.000,9,-999.000,9,-999.0000,9,  -999.0,9,  -999.0,9,-999.0000,9,  -999.00,9, -999.00,9,  -999.0,9, -999.00,9, -999.00,9,     -999.0,9, 20220523,     2141,  30.0003, 169.7191,    16.6003,2,     -999.0,1,     -999.0,1,     -999.0,9,     -999.0,9,     0.0131,1,     4.6863,1,     -999.0,1,     -999.0,9,     -999.0,1
33RR20220430,        P02,      65,          1,          2,          2,2,20220523,       2125,    30.0003,   169.7190,       5678,   506.3,2,  11.6481,2,  34.2938,2,-999.0000,9,    198.0,2,  -999.0,9, -999.00,9, -999.00,9, -999.00,9, -999.00,9,-999.000,9,-999.000,9,-999.0000,9,  -999.0,9,  -999.0,9,-999.0000,9,  -999.00,9, -999.00,9,  -999.0,9, -999.00,9, -999.00,9,     -999.0,9, 20220523,     2135,  30.0003, 169.7191,    11.6424,2,     -999.0,9,     -999.0,9,     -999.0,9,     -999.0,9,     0.0122,1,     4.6973,1,     -999.0,9,     -999.0,9,     -999.0,1
33RR20220430,        P02,      65,          1,          1,          1,2,20220523,       2125,    30.0003,   169.7190,       5678,  1008.8,2,   3.9023,2,  34.2413,2,-999.0000,9,     37.4,2,  -999.0,9, -999.00,9, -999.00,9, -999.00,9, -999.00,9,-999.000,9,-999.000,9,-999.0000,9,  -999.0,9,  -999.0,9,-999.0000,9,  -999.00,9, -999.00,9,  -999.0,9, -999.00,9, -999.00,9,     -999.0,9, 20220523,     2125,  30.0003, 169.7191,     3.9047,2,     -999.0,9,     -999.0,9,     -999.0,9,     -999.0,9,     0.0134,1,     4.7006,1,     -999.0,9,     -999.0,1,     -999.0,1