BOTTLE,20230801CCHSIOCBG
EXPOCODE,SECT_ID,STNNBR,CASTNO,SAMPNO,BTLNBR,BTLNBR_FLAG_W,DATE,TIME,LATITUDE,LONGITUDE,DEPTH,CTDPRS,CTDPRS_FLAG_W,CTDTMP,CTDTMP_FLAG_W,CTDSAL,CTDSAL_FLAG_W,SALNTY,SALNTY_FLAG_W,CTDOXY,CTDOXY_FLAG_W,OXYGEN,OXYGEN_FLAG_W,SILCAT,SILCAT_FLAG_W,NITRAT,NITRAT_FLAG_W,NITRIT,NITRIT_FLAG_W,PHSPHT,PHSPHT_FLAG_W,CFC-11,CFC-11_FLAG_W,CFC-12,CFC-12_FLAG_W,SF6,SF6_FLAG_W,TCARBN,TCARBN_FLAG_W,ALKALI,ALKALI_FLAG_W,PH_TOT,PH_TOT_FLAG_W,PH_TMP,PH_TMP_FLAG_W,DELC13,DELC13_FLAG_W,DELC14,DELC14_FLAG_W,DOC,DOC_FLAG_W,TDN,TDN_FLAG_W,N2O,N2O_FLAG_W,BTL_DATE,BTL_TIME,BTL_LAT,BTL_LON,REFTMP,REFTMP_FLAG_W,POC,POC_FLAG_W,PON,PON_FLAG_W,POP,POP_FLAG_W,PCOD,PCOD_FLAG_W,CTDFLUOR,CTDFLUOR_FLAG_W,CTDXMISS,CTDXMISS_FLAG_W,HPLC,HPLC_FLAG_W,DNA,DNA_FLAG_W,FCM,FCM_FLAG_W
,,,,,,,,,,,METERS,DBAR,,ITS-90,,PSS-78,,PSS-78,,UMOL/KG,,UMOL/KG,,UMOL/KG,,UMOL/KG,,UMOL/KG,,UMOL/KG,,PMOL/KG,,PMOL/KG,,FMOL/KG,,UMOL/KG,,UMOL/KG,,,,DEG C,,/MILLE,,/MILLE,,UMOL/KG,,UMOL/KG,,NMOL/KG,,,,,,ITS-90,,UG/L,,UG/L,,UG/L,,UG/L,,VOLTS,,VOLTS,,,,,,,
33RR20220430,        P02,      55,          1,          3,          3,2,20220520,       1913,    30.0000,   163.9499,       5956,  5439.7,2,   1.5185,2,  34.6926,2,  34.6932,2,    169.7,2,   170.4,2,  136.95,2,   34.63,2,    0.00,2,    2.38,2,   0.005,2,   0.000,2,   0.0000,2,  2308.2,2,  2402.8,2,   7.5942,2,    25.01,2, -999.00,1,  -999.0,1, -999.00,1, -999.00,1,       20.6,2, 20220520,     1927,  30.0001, 163.9499,     1.5187,2,     -999.0,9,     -999.0,9,     -999.0,9,     -999.0,9,     0.0122,1,     4.7080,1,     -999.0,9,     -999.0,9,     -999.0,9
33RR20220430,        P02,      55,          1,          2,          2,2,20220520,       1913,    30.0000,   163.9499,       5956,  5786.3,2,   1.5428,2,  34.6940,2,  34.6958,2,    172.1,2,   172.8,2,  135.00,2,   34.41,2,    0.00,2,    2.36,2,-999.000,9,-999.000,9,-999.0000,9,  2304.5,2,  2401.7,2,   7.5970,2,    25.02,2, -999.00,1,  -999.0,1, -999.00,9, -999.00,9,     -999.0,9, 20220520,     1920,  30.0000, 163.9499,     1.5429,2,     -999.0,9,     -999.0,9,     -999.0,9,     -999.0,9,     0.0122,1,     4.7069,1,     -999.0,9,     -999.0,9,     -999.0,9
33RR20220430,        P02,      55,          1,          1,          1,2,20220520,       1913,    30.0000,   163.9499,       5956,  6070.6,2,   1.5635,2,  34.6952,2,  34.6967,2,    174.6,2,   175.7,2,  133.24,2,   34.29,2,    0.00,2,    2.34,2,   0.009,2,   0.000,2,   0.0000,2,  2303.2,6,  2358.1,2,   7.6009,2,    25.01,2, -999.00,1,  -999.0,1, -999.00,1, -999.00,1,       20.2,2, 20220520,     1913,  30.0000, 163.9499,     1.5637,2,     -999.0,9,     -999.0,9,     -999.0,9,     -999.0,9,     0.0122,1,     4.7039,1,     -999.0,9,     -999.0,9,     -999.0,9
33RR20220430,        P02,      56,          1,         18,         18,2,20220521,       0051,    30.0005,   164.5265,       5888,     2.3,2,  22.5245,2,  34.9433,2,-999.0000,9,    213.7,2,  -999.0,9, -999.00,9, -999.00,9, -999.00,9, -999.00,9,-999.000,9,-999.000,9,-999.0000,9,  -999.0,9,  -999.0,9,-999.0000,9,  -999.00,9, -999.00,9,  -999.0,9, -999.00,9, -999.00,9,     -999.0,9, 20220521,      122,  30.0005, 164.5266,    22.3855,3,     -999.0,9,     -999.0,9,     -999.0,9,     -999.0,1,     0.0133,1,     4.6201,1,     -999.0,9,     -999.0,9,     -999.0,9
33RR20220430,        P02,      56,          1,         10,         10,2,20220521,       0051,    30.0005,   164.5265,       5888,     2.5,2,  22.7134,2,  34.9444,2,-999.0000,9,    213.0,2,  -999.0,9, -999.00,9, -999.00,9, -999.00,9, -999.00,9,-999.000,9,-999.000,9,-999.0000,9,  -999.0,9,  -999.0,9,-999.0000,9,  -999.00,9, -999.00,9,  -999.0,9, -999.00,9, -999.00,9,     -999.0,9, 20220521,      120,  30.0005, 164.5265,    22.5314,3,     -999.0,9,     -999.0,9,     -999.0,9,     -999.0,9,     0.0134,1,     4.6233,1,     -999.0,9,     -999.0,1,     -999.0,9
33RR20220430,        P02,      56,          1,          9,          9,2,20220521,       0051,    30.0005,   164.5265,       5888,     2.5,2,  22.6632,2,  34.9434,2,-999.0000,9,    213.0,2,  -999.0,9, -999.00,9, -999.00,9, -999.00,9, -999.00,9,-999.000,9,-999.000,9,-999.0000,9,  -999.0,9,  -999.0,9,-999.0000,9,  -999.00,9, -999.00,9,  -999.0,9, -999.00,9, -999.00,9,     -999.0,9, 20220521,      119,  30.0005, 164.5266,    22.9190,2,     -999.0,9,     -999.0,9,     -999.0,9,     -999.0,9,     0.0125,1,     4.6228,1,     -999.0,1,     -999.0,9,     -999.0,1
33RR20220430,        P02,      56,          1,         19,         19,2,20220521,       0051,    30.0005,   164.5265,       5888,     2.6,2,  22.2469,2,  34.9380,2,-999.0000,9,    214.5,2,  -999.0,9, -999.00,9, -999.00,9, -999.00,9, -999.00,9,-999.000,9,-999.000,9,-999.0000,9,  -999.0,9,  -999.0,9,-999.0000,9,  -999.00,9, -999.00,9,  -999.0,9, -999.00,9, -999.00,9,     -999.0,9, 20220521,      123,  30.0005, 164.5265,    22.0738,3,     -999.0,9,     -999.0,9,     -999.0,9,     -999.0,1,     0.0135,1,     4.6193,1,     -999.0,9,     -999.0,9,     -999.0,9
33RR20220430,        P02,      56,          1,         12,         12,2,20220521,       0051,    30.0005,   164.5265,       5888,     2.7,2,  22.6955,2,  34.9421,2,-999.0000,9,    212.6,2,  -999.0,9, -999.00,9, -999.00,9, -999.00,9, -999.00,9,-999.000,9,-999.000,9,-999.0000,9,  -999.0,9,  -999.0,9,-999.0000,9,  -999.00,9, -999.00,9,  -999.0,9, -999.00,9, -999.00,9,     -999.0,9, 20220521,      120,  30.0005, 164.5266,    22.3965,3,     -999.0,1,     -999.0,1,     -999.0,9,     -999.0,9,     0.0134,1,     4.6209,1,     -999.0,9,     -999.0,9,     -999.0,9
33RR20220430,        P02,      56,          1,         14,         14,2,20220521,       0051,    30.0005,   164.5265,       5888,     2.7,2,  22.2832,2,  34.9477,2,-999.0000,9,    214.5,2,  -999.0,9, -999.00,9, -999.00,9, -999.00,9, -999.00,9,-999.000,9,-999.000,9,-999.0000,9,  -999.0,9,  -999.0,9,-999.0000,9,  -999.00,9, -999.00,9,  -999.0,9, -999.00,9, -999.00,9,     -999.0,9, 20220521,      121,  30.0005, 164.5266,    22.2818,2,     -999.0,9,     -999.0,9,     -999.0,1,     -999.0,9,     0.0134,1,     4.6194,1,     -999.0,9,     -999.0,9,     -999.0,9
33RR20220430,        P02,      56,          1,         20,         20,2,20220521,       0051,    30.0005,   164.5265,       5888,     2.8,2,  22.0867,2,  34.9281,2,-999.0000,9,    215.0,2,  -999.0,9, -999.00,9, -999.00,9, -999.00,9, -999.00,9,-999.000,9,-999.000,9,-999.0000,9,  -999.0,9,  -999.0,9,-999.0000,9,  -999.00,9, -999.00,9,  -999.0,9, -999.00,9, -999.00,9,     -999.0,9, 20220521,      123,  30.0005, 164.5265,    22.1973,3,     -999.0,9,     -999.0,9,     -999.0,9,     -999.0,9,     0.0135,1,     4.6179,1,     -999.0,9,     -999.0,9,     -999.0,9
33RR20220430,        P02,      56,          1,         16,         16,2,20220521,       0051,    30.0005,   164.5265,       5888,     2.8,2,  22.6867,2,  34.9392,2,-999.0000,9,    213.4,2,  -999.0,9, -999.00,9, -999.00,9, -999.00,9, -999.00,9,-999.000,9,-999.000,9,-999.0000,9,  -999.0,9,  -999.0,9,-999.0000,9,  -999.00,9, -999.00,9,  -999.0,9, -999.00,9, -999.00,9,     -999.0,9, 20220521,      122,  30.0005, 164.5265,    22.5804,3,     -999.0,9,     -999.0,9,     -999.0,1,     -999.0,9,     0.0132,1,     4.6220,1,     -999.0,9,     -999.0,9,     -999.0,9
33RR20220430,        P02,      56,          1,         13,         13,2,20220521,       0051,    30.0005,   164.5265,       5888,     2.8,2,  22.4712,2,  34.9344,2,-999.0000,9,    213.9,2,  -999.0,9, -999.00,9, -999.00,9, -999.00,9, -999.00,9,-999.000,9,-999.000,9,-999.0000,9,  -999.0,9,  -999.0,9,-999.0000,9,  -999.00,9, -999.00,9,  -999.0,9, -999.00,9, -999.00,9,     -999.0,9, 20220521,      121,  30.0005, 164.5266,    22.4549,2,     -999.0,1,     -999.0,1,     -999.0,9,     -999.0,9,     0.0134,1,     4.6220,1,     -999.0,9,     -999.0,9,     -999.0,9
33RR20220430,        P02,      56,          1,         15,         15,2,20220521,       0051,    30.0005,   164.5265,       5888,     2.9,2,  22.1323,2,  34.9476,2,-999.0000,9,    214.4,2,  -999.0,9, -999.00,9, -999.00,9, -999.00,9, -999.00,9,-999.000,9,-999.000,9,-999.0000,9,  -999.0,9,  -999.0,9,-999.0000,9,  -999.00,9, -999.00,9,  -999.0,9, -999.00,9, -999.00,9,     -999.0,9, 20220521,      121,  30.0005, 164.5265,    22.3259,3,     -999.0,9,     -999.0,9,     -999.0,1,     -999.0,9,     0.0134,1,     4.6217,1,     -999.0,9,     -999.0,9,     -999.0,9
33RR20220430,        P02,      56,          1,         11,         11,2,20220521,       0051,    30.0005,   164.5265,       5888,     2.9,2,  22.6701,2,  34.9424,2,-999.0000,9,    213.3,2,  -999.0,9, -999.00,9, -999.00,9, -999.00,9, -999.00,9,-999.000,9,-999.000,9,-999.0000,9,  -999.0,9,  -999.0,9,-999.0000,9,  -999.00,9, -999.00,9,  -999.0,9, -999.00,9, -999.00,9,     -999.0,9, 20220521,      120,  30.0005, 164.5265,    22.6424,2,     -999.0,1,     -999.0,1,     -999.0,9,     -999.0,9,     0.0134,1,     4.6227,1,     -999.0,9,     -999.0,9,     -999.0,9
33RR20220430,        P02,      56,          1,         17,         17,2,20220521,       0051,    30.0005,   164.5265,       5888,     3.0,2,  22.6269,2,  34.9433,2,-999.0000,9,    213.1,2,  -999.0,9, -999.00,9, -999.00,9, -999.00,9, -999.00,9,-999.000,9,-999.000,9,-999.0000,9,  -999.0,9,  -999.0,9,-999.0000,9,  -999.00,9, -999.00,9,  -999.0,9, -999.00,9, -999.00,9,     -999.0,9, 20220521,      122,  30.0005, 164.5265,    22.6897,3,     -999.0,9,     -999.0,9,     -999.0,9,     -999.0,1,     0.0129,1,     4.6224,1,     -999.0,9,     -999.0,9,     -999.0,9
33RR20220430,        P02,      56,          1,          8,          8,2,20220521,       0051,    30.0005,   164.5265,       5888,    40.8,2,  19.2975,2,  34.7995,2,-999.0000,9,    229.3,2,  -999.0,9, -999.00,9, -999.00,9, -999.00,9, -999.00,9,-999.000,9,-999.000,9,-999.0000,9,  -999.0,9,  -999.0,9,-999.0000,9,  -999.00,9, -999.00,9,  -999.0,9, -999.00,9, -999.00,9,     -999.0,9, 20220521,      117,  30.0005, 164.5265,    19.3239,2,     -999.0,9,     -999.0,9,     -999.0,9,     -999.0,9,     0.0147,1,     4.6226,1,     -999.0,1,     -999.0,9,     -999.0,1
33RR20220430,        P02,      56,          1,          7,          7,2,20220521,       0051,    30.0005,   164.5265,       5888,    75.5,2,  17.3794,2,  34.7203,2,-999.0000,9,    240.2,2,  -999.0,9, -999.00,9, -999.00,9, -999.00,9, -999.00,9,-999.000,9,-999.000,9,-999.0000,9,  -999.0,9,  -999.0,9,-999.0000,9,  -999.00,9, -999.00,9,  -999.0,9, -999.00,9, -999.00,9,     -999.0,9, 20220521,      114,  30.0005, 164.5265,    17.3715,2,     -999.0,9,     -999.0,9,     -999.0,9,     -999.0,9,     0.0457,1,     4.6011,1,     -999.0,9,     -999.0,9,     -999.0,1
33RR20220430,        P02,      56,          1,          6,          6,2,20220521,       0051,    30.0005,   164.5265,       5888,   101.9,2,  16.8178,2,  34.6986,2,-999.0000,9,    219.2,2,  -999.0,9, -999.00,9, -999.00,9, -999.00,9, -999.00,9,-999.000,9,-999.000,9,-999.0000,9,  -999.0,9,  -999.0,9,-999.0000,9,  -999.00,9, -999.00,9,  -999.0,9, -999.00,9, -999.00,9,     -999.0,9, 20220521,      112,  30.0005, 164.5265,    16.8102,2,     -999.0,9,     -999.0,9,     -999.0,9,     -999.0,9,     0.0407,1,     4.6397,1,     -999.0,1,     -999.0,9,     -999.0,1
33RR20220430,        P02,      56,          1,          5,          5,2,20220521,       0051,    30.0005,   164.5265,       5888,   101.9,2,  16.8165,2,  34.6985,2,-999.0000,9,    219.2,2,  -999.0,9, -999.00,9, -999.00,9, -999.00,9, -999.00,9,-999.000,9,-999.000,9,-999.0000,9,  -999.0,9,  -999.0,9,-999.0000,9,  -999.00,9, -999.00,9,  -999.0,9, -999.00,9, -999.00,9,     -999.0,9, 20220521,      112,  30.0005, 164.5265,    16.8086,2,     -999.0,9,     -999.0,9,     -999.0,9,     -999.0,9,     0.0422,1,     4.6389,1,     -999.0,9,     -999.0,1,     -999.0,9
33RR20220430,        P02,      56,          1,          4,          4,2,20220521,       0051,    30.0005,   164.5265,       5888,   151.7,2,  16.1757,2,  34.6542,2,-999.0000,9,    213.7,2,  -999.0,9, -999.00,9, -999.00,9, -999.00,9, -999.00,9,-999.000,9,-999.000,9,-999.0000,9,  -999.0,9,  -999.0,9,-999.0000,9,  -999.00,9, -999.00,9,  -999.0,9, -999.00,9, -999.00,9,     -999.0,9, 20220521,      109,  30.0005, 164.5265,    16.1675,2,     -999.0,9,     -999.0,9,     -999.0,9,     -999.0,9,     0.0134,1,     4.6852,1,     -999.0,9,     -999.0,9,     -999.0,1
33RR20220430,        P02,      56,          1,          3,          3,2,20220521,       0051,    30.0005,   164.5265,       5888,   202.2,2,  15.6345,2,  34.6321,2,-999.0000,9,    217.1,2,  -999.0,9, -999.00,9, -999.00,9, -999.00,9, -999.00,9,-999.000,9,-999.000,9,-999.0000,9,  -999.0,9,  -999.0,9,-999.0000,9,  -999.00,9, -999.00,9,  -999.0,9, -999.00,9, -999.00,9,     -999.0,9, 20220521,      107,  30.0005, 164.5265,    15.6307,2,     -999.0,9,     -999.0,9,     -999.0,9,     -999.0,9,     0.0122,1,     4.6886,1,     -999.0,9,     -999.0,1,     -999.0,1
33RR20220430,        P02,      56,          1,          2,          2,2,20220521,       0051,    30.0005,   164.5265,       5888,   506.7,2,   9.6355,2,  34.1431,2,-999.0000,9,    183.1,2,  -999.0,9, -999.00,9, -999.00,9, -999.00,9, -999.00,9,-999.000,9,-999.000,9,-999.0000,9,  -999.0,9,  -999.0,9,-999.0000,9,  -999.00,9, -999.00,9,  -999.0,9, -999.00,9, -999.00,9,     -999.0,9, 20220521,      101,  30.0005, 164.5265,     9.6329,2,     -999.0,9,     -999.0,9,     -999.0,9,     -999.0,9,     0.0122,1,     4.7010,1,     -999.0,9,     -999.0,9,     -999.0,1
33RR20220430,        P02,      56,          1,          1,          1,2,20220521,       0051,    30.0005,   164.5265,       5888,  1010.0,2,   3.6579,2,  34.2941,2,-999.0000,9,     32.8,2,  -999.0,9, -999.00,9, -999.00,9, -999.00,9, -999.00,9,-999.000,9,-999.000,9,-999.0000,9,  -999.0,9,  -999.0,9,-999.0000,9,  -999.00,9, -999.00,9,  -999.0,9, -999.00,9, -999.00,9,     -999.0,9, 20220521,       51,  30.0005, 164.5266,     3.6592,2,     -999.0,9,     -999.0,9,     -999.0,9,     -999.0,9,     0.0134,1,     4.7039,1,     -999.0,9,     -999.0,1,     -999.0,1