BOTTLE,20230801CCHSIOCBG
EXPOCODE,SECT_ID,STNNBR,CASTNO,SAMPNO,BTLNBR,BTLNBR_FLAG_W,DATE,TIME,LATITUDE,LONGITUDE,DEPTH,CTDPRS,CTDPRS_FLAG_W,CTDTMP,CTDTMP_FLAG_W,CTDSAL,CTDSAL_FLAG_W,SALNTY,SALNTY_FLAG_W,CTDOXY,CTDOXY_FLAG_W,OXYGEN,OXYGEN_FLAG_W,SILCAT,SILCAT_FLAG_W,NITRAT,NITRAT_FLAG_W,NITRIT,NITRIT_FLAG_W,PHSPHT,PHSPHT_FLAG_W,CFC-11,CFC-11_FLAG_W,CFC-12,CFC-12_FLAG_W,SF6,SF6_FLAG_W,TCARBN,TCARBN_FLAG_W,ALKALI,ALKALI_FLAG_W,PH_TOT,PH_TOT_FLAG_W,PH_TMP,PH_TMP_FLAG_W,DELC13,DELC13_FLAG_W,DELC14,DELC14_FLAG_W,DOC,DOC_FLAG_W,TDN,TDN_FLAG_W,N2O,N2O_FLAG_W,BTL_DATE,BTL_TIME,BTL_LAT,BTL_LON,REFTMP,REFTMP_FLAG_W,POC,POC_FLAG_W,PON,PON_FLAG_W,POP,POP_FLAG_W,PCOD,PCOD_FLAG_W,CTDFLUOR,CTDFLUOR_FLAG_W,CTDXMISS,CTDXMISS_FLAG_W,HPLC,HPLC_FLAG_W,DNA,DNA_FLAG_W,FCM,FCM_FLAG_W
,,,,,,,,,,,METERS,DBAR,,ITS-90,,PSS-78,,PSS-78,,UMOL/KG,,UMOL/KG,,UMOL/KG,,UMOL/KG,,UMOL/KG,,UMOL/KG,,PMOL/KG,,PMOL/KG,,FMOL/KG,,UMOL/KG,,UMOL/KG,,,,DEG C,,/MILLE,,/MILLE,,UMOL/KG,,UMOL/KG,,NMOL/KG,,,,,,ITS-90,,UG/L,,UG/L,,UG/L,,UG/L,,VOLTS,,VOLTS,,,,,,,
33RR20220430,        P02,     107,          2,          3,          3,2,20220605,       0913,    29.9990,  -166.9828,       5520,  4890.6,2,   1.5270,2,  34.6857,2,  34.6855,2,    153.1,2,   153.3,2,  154.63,2,   36.30,2,    0.00,2,    2.50,2,   0.005,2,   0.000,2,   0.0000,2,  2329.3,6,  2418.8,2,   7.5798,2,    25.01,2, -999.00,9,  -999.0,9, -999.00,9, -999.00,9,       21.9,2, 20220605,      927,  29.9990,-166.9829,     1.5270,2,     -999.0,9,     -999.0,9,     -999.0,9,     -999.0,9,     0.0122,1,     4.7053,1,     -999.0,9,     -999.0,9,     -999.0,9
33RR20220430,        P02,     107,          2,          2,          2,2,20220605,       0913,    29.9990,  -166.9828,       5520,  5195.7,2,   1.5538,2,  34.6868,2,  34.6871,2,    155.7,2,   155.9,2,  150.82,2,   36.09,2,    0.00,2,    2.48,2,-999.000,9,-999.000,9,-999.0000,9,  2324.1,2,  2417.8,2,   7.5829,2,    25.01,2, -999.00,9,  -999.0,9, -999.00,9, -999.00,9,     -999.0,9, 20220605,      921,  29.9990,-166.9828,     1.5539,2,     -999.0,9,     -999.0,9,     -999.0,9,     -999.0,9,     0.0131,1,     4.7052,1,     -999.0,9,     -999.0,9,     -999.0,9
33RR20220430,        P02,     107,          2,          1,          1,2,20220605,       0913,    29.9990,  -166.9828,       5520,  5623.4,2,   1.5872,2,  34.6886,2,  34.6873,2,    160.7,2,   160.4,2,  146.43,2,   35.65,2,    0.00,2,    2.45,2,   0.006,2,   0.000,2,   0.0000,2,  2321.3,2,  2412.4,2,   7.5875,2,    25.01,2, -999.00,9,  -999.0,9, -999.00,9, -999.00,9,       21.7,2, 20220605,      913,  29.9989,-166.9828,     1.5876,2,     -999.0,9,     -999.0,9,     -999.0,9,     -999.0,9,     0.0130,1,     4.7025,1,     -999.0,9,     -999.0,9,     -999.0,9