BOTTLE,20230801CCHSIOCBG
EXPOCODE,SECT_ID,STNNBR,CASTNO,SAMPNO,BTLNBR,BTLNBR_FLAG_W,DATE,TIME,LATITUDE,LONGITUDE,DEPTH,CTDPRS,CTDPRS_FLAG_W,CTDTMP,CTDTMP_FLAG_W,CTDSAL,CTDSAL_FLAG_W,SALNTY,SALNTY_FLAG_W,CTDOXY,CTDOXY_FLAG_W,OXYGEN,OXYGEN_FLAG_W,SILCAT,SILCAT_FLAG_W,NITRAT,NITRAT_FLAG_W,NITRIT,NITRIT_FLAG_W,PHSPHT,PHSPHT_FLAG_W,CFC-11,CFC-11_FLAG_W,CFC-12,CFC-12_FLAG_W,SF6,SF6_FLAG_W,TCARBN,TCARBN_FLAG_W,ALKALI,ALKALI_FLAG_W,PH_TOT,PH_TOT_FLAG_W,PH_TMP,PH_TMP_FLAG_W,DELC13,DELC13_FLAG_W,DELC14,DELC14_FLAG_W,DOC,DOC_FLAG_W,TDN,TDN_FLAG_W,N2O,N2O_FLAG_W,BTL_DATE,BTL_TIME,BTL_LAT,BTL_LON,REFTMP,REFTMP_FLAG_W,POC,POC_FLAG_W,PON,PON_FLAG_W,POP,POP_FLAG_W,PCOD,PCOD_FLAG_W,CTDFLUOR,CTDFLUOR_FLAG_W,CTDXMISS,CTDXMISS_FLAG_W,HPLC,HPLC_FLAG_W,DNA,DNA_FLAG_W,FCM,FCM_FLAG_W
,,,,,,,,,,,METERS,DBAR,,ITS-90,,PSS-78,,PSS-78,,UMOL/KG,,UMOL/KG,,UMOL/KG,,UMOL/KG,,UMOL/KG,,UMOL/KG,,PMOL/KG,,PMOL/KG,,FMOL/KG,,UMOL/KG,,UMOL/KG,,,,DEG C,,/MILLE,,/MILLE,,UMOL/KG,,UMOL/KG,,NMOL/KG,,,,,,ITS-90,,UG/L,,UG/L,,UG/L,,UG/L,,VOLTS,,VOLTS,,,,,,,
33RR20220430,        P02,      65,          2,         36,         36,2,20220524,       0038,    30.0004,   169.7191,       5678,     2.6,2,  22.9551,2,  35.1146,2,  35.1006,2,    223.6,2,   222.2,2,    1.27,2,    0.00,2,    0.00,2,    0.00,2,   1.797,2,   1.151,2,   1.9783,2,  2028.1,2,  2304.7,2,   8.0025,2,    25.00,2, -999.00,9,  -999.0,9, -999.00,1, -999.00,1,        6.2,2, 20220524,      256,  30.0004, 169.7191,    22.8826,2,     -999.0,9,     -999.0,9,     -999.0,9,     -999.0,9,     0.0122,1,     4.6160,1,     -999.0,9,     -999.0,9,     -999.0,9
33RR20220430,        P02,      65,          2,         35,         35,2,20220524,       0038,    30.0004,   169.7191,       5678,    21.9,2,  21.3256,2,  35.0998,2,  35.0842,2,    229.2,2,   228.8,2,    1.46,2,    0.00,2,    0.00,2,    0.00,2,   1.880,2,   1.194,2,   2.2042,2,  2028.4,2,  2303.1,2,   8.0019,2,    24.99,2, -999.00,9,  -999.0,9, -999.00,1, -999.00,1,        6.5,2, 20220524,      254,  30.0003, 169.7191,    21.3469,2,     -999.0,9,     -999.0,9,     -999.0,9,     -999.0,9,     0.0134,1,     4.6226,1,     -999.0,9,     -999.0,9,     -999.0,9
33RR20220430,        P02,      65,          2,         34,         34,2,20220524,       0038,    30.0004,   169.7191,       5678,    41.0,2,  20.3296,2,  35.0196,2,  35.0028,2,    236.2,2,   236.5,2,    1.47,2,    0.00,2,    0.00,2,    0.00,2,   1.958,2,   1.241,2,   2.0752,2,  2020.8,2,  2299.0,2,   8.0037,2,    25.00,2, -999.00,9,  -999.0,9, -999.00,1, -999.00,1,        6.8,2, 20220524,      253,  30.0003, 169.7190,    20.3121,2,     -999.0,9,     -999.0,9,     -999.0,9,     -999.0,9,     0.0147,1,     4.6216,1,     -999.0,9,     -999.0,9,     -999.0,9
33RR20220430,        P02,      65,          2,         33,         33,2,20220524,       0038,    30.0004,   169.7191,       5678,    65.5,2,  18.6796,2,  34.8998,2,  34.8922,2,    236.0,2,   236.6,2,    1.66,2,    0.00,2,    0.00,2,    0.00,2,   2.034,2,   1.285,2,   2.1229,2,  2022.4,2,  2290.9,2,   7.9556,2,    25.01,2, -999.00,9,  -999.0,9, -999.00,1, -999.00,1,        7.1,2, 20220524,      251,  30.0003, 169.7191,    18.6885,2,     -999.0,9,     -999.0,9,     -999.0,9,     -999.0,9,     0.0183,1,     4.6250,1,     -999.0,9,     -999.0,9,     -999.0,9
33RR20220430,        P02,      65,          2,         32,         32,2,20220524,       0038,    30.0004,   169.7191,       5678,    90.8,2,  18.1556,2,  34.8476,2,  34.8332,2,    231.7,2,   231.7,2,    1.86,2,    0.00,2,    0.02,2,    0.02,2,   2.053,2,   1.317,2,   2.2017,2,  2028.3,2,  2287.3,2,   7.9381,2,    25.01,2, -999.00,9,  -999.0,9, -999.00,1, -999.00,1,        7.3,2, 20220524,      249,  30.0003, 169.7191,    18.1561,2,     -999.0,9,     -999.0,9,     -999.0,9,     -999.0,9,     0.0490,1,     4.5920,1,     -999.0,9,     -999.0,9,     -999.0,9
33RR20220430,        P02,      65,          2,         31,         31,2,20220524,       0038,    30.0004,   169.7191,       5678,   135.2,2,  17.3181,2,  34.7353,2,  34.7252,2,    226.2,2,   225.6,2,    2.34,2,    1.91,2,    0.03,2,    0.12,2,   2.133,2,   1.337,2,   2.2106,2,  2034.8,2,  2279.7,2,   7.9506,2,    25.01,2, -999.00,9,  -999.0,9, -999.00,1, -999.00,1,        7.7,2, 20220524,      247,  30.0003, 169.7191,    17.3183,2,     -999.0,9,     -999.0,9,     -999.0,9,     -999.0,9,     0.0215,1,     4.6690,1,     -999.0,9,     -999.0,9,     -999.0,9
33RR20220430,        P02,      65,          2,         30,         30,2,20220524,       0038,    30.0004,   169.7191,       5678,   186.3,2,  16.7010,2,  34.6573,2,  34.6451,2,    227.6,2,   228.1,2,    2.83,2,    2.78,2,    0.00,2,    0.18,2,   2.211,2,   1.366,2,   2.1513,2,  2034.2,2,  2272.2,2,   7.9425,2,    25.01,2, -999.00,9,  -999.0,9, -999.00,1, -999.00,1,        7.9,2, 20220524,      245,  30.0003, 169.7190,    16.7010,2,     -999.0,9,     -999.0,9,     -999.0,9,     -999.0,9,     0.0122,1,     4.6837,1,     -999.0,9,     -999.0,9,     -999.0,9
33RR20220430,        P02,      65,          2,         29,         29,2,20220524,       0038,    30.0004,   169.7191,       5678,   237.3,2,  16.4553,2,  34.6766,2,  34.6637,2,    228.4,2,   228.4,2,    3.32,2,    3.15,2,    0.00,2,    0.21,2,   2.213,2,   1.391,2,   2.1816,2,  2040.2,2,  2273.7,2,   7.9354,2,    25.00,2, -999.00,9,  -999.0,9, -999.00,1, -999.00,1,        8.3,2, 20220524,      243,  30.0003, 169.7190,    16.4559,2,     -999.0,9,     -999.0,9,     -999.0,9,     -999.0,9,     0.0134,1,     4.6837,1,     -999.0,9,     -999.0,9,     -999.0,9
33RR20220430,        P02,      65,          2,         28,         28,2,20220524,       0038,    30.0004,   169.7191,       5678,   287.4,2,  15.8926,2,  34.6406,2,  34.6295,2,    227.2,2,   227.7,2,    4.40,2,    4.14,2,    0.00,2,    0.26,2,   2.275,2,   1.450,2,   2.2095,2,  -999.0,9,  -999.0,9,-999.0000,9,  -999.00,9, -999.00,9,  -999.0,9, -999.00,1, -999.00,1,        8.6,2, 20220524,      241,  30.0003, 169.7191,    15.8917,2,     -999.0,9,     -999.0,9,     -999.0,9,     -999.0,9,     0.0122,1,     4.6875,1,     -999.0,9,     -999.0,9,     -999.0,9
33RR20220430,        P02,      65,          2,         27,         27,2,20220524,       0038,    30.0004,   169.7191,       5678,   339.7,2,  15.5073,2,  34.6446,2,  34.6319,2,    227.8,2,   228.9,2,    5.57,2,    4.87,2,    0.00,2,    0.31,2,   2.330,2,   1.450,2,   2.3182,2,  2053.0,2,  2275.1,2,   7.9124,2,    25.01,2, -999.00,9,  -999.0,9, -999.00,1, -999.00,1,        8.9,2, 20220524,      239,  30.0003, 169.7190,    15.5041,2,     -999.0,9,     -999.0,9,     -999.0,9,     -999.0,9,     0.0122,1,     4.6864,1,     -999.0,9,     -999.0,9,     -999.0,9
33RR20220430,        P02,      65,          2,         26,         26,2,20220524,       0038,    30.0004,   169.7191,       5678,   387.1,2,  14.3759,2,  34.5183,2,  34.5095,2,    208.9,2,   208.8,2,    9.09,2,    8.30,2,    0.00,2,    0.54,2,   2.380,2,   1.495,2,   2.1105,2,  -999.0,9,  -999.0,9,-999.0000,9,  -999.00,9, -999.00,9,  -999.0,9, -999.00,1, -999.00,1,       11.3,2, 20220524,      238,  30.0003, 169.7190,    14.3765,2,     -999.0,9,     -999.0,9,     -999.0,9,     -999.0,9,     0.0122,1,     4.6910,1,     -999.0,9,     -999.0,9,     -999.0,9
33RR20220430,        P02,      65,          2,         25,         25,2,20220524,       0038,    30.0004,   169.7191,       5678,   468.2,2,  12.2045,2,  34.3440,2,  34.3388,2,    209.2,2,   209.8,2,   14.66,2,   11.89,2,    0.00,2,    0.78,2,   2.587,2,   1.617,2,   2.1274,2,  2099.2,2,  2268.4,2,   7.7973,2,    25.00,2, -999.00,9,  -999.0,9, -999.00,1, -999.00,1,       13.2,2, 20220524,      235,  30.0003, 169.7190,    12.1844,2,     -999.0,9,     -999.0,9,     -999.0,9,     -999.0,9,     0.0122,1,     4.6953,1,     -999.0,9,     -999.0,9,     -999.0,9
33RR20220430,        P02,      65,          2,         24,         24,2,20220524,       0038,    30.0004,   169.7191,       5678,   568.9,2,  10.2266,2,  34.1874,2,  34.1795,2,    203.7,2,   204.1,2,   22.38,2,   15.99,2,    0.00,2,    1.08,2,   2.692,2,   1.677,2,   2.0658,2,  2126.9,2,  2268.5,2,   7.7324,2,    25.00,2, -999.00,9,  -999.0,9, -999.00,1, -999.00,1,       15.7,2, 20220524,      233,  30.0003, 169.7191,    10.2267,2,     -999.0,9,     -999.0,9,     -999.0,9,     -999.0,9,     0.0122,1,     4.6983,1,     -999.0,9,     -999.0,9,     -999.0,9
33RR20220430,        P02,      65,          2,         23,         23,2,20220524,       0038,    30.0004,   169.7191,       5678,   669.8,2,   7.7821,2,  34.0215,2,  34.0157,2,    178.3,2,   178.5,2,   38.51,2,   22.80,2,    0.00,2,    1.58,2,   2.635,6,   1.639,6,   1.7539,6,  2172.5,2,  2272.0,2,   7.6242,2,    25.00,2, -999.00,9,  -999.0,9, -999.00,1, -999.00,1,       21.2,6, 20220524,      230,  30.0003, 169.7190,     7.7852,2,     -999.0,9,     -999.0,9,     -999.0,9,     -999.0,9,     0.0122,1,     4.7000,1,     -999.0,9,     -999.0,9,     -999.0,9
33RR20220430,        P02,      65,          2,         22,         22,2,20220524,       0038,    30.0004,   169.7191,       5678,   771.8,2,   5.8865,2,  34.0226,2,  34.0206,2,    116.7,3,   115.3,2,   65.29,2,   32.00,2,    0.00,2,    2.24,2,   1.893,2,   1.236,2,   0.9450,2,  2244.2,2,  2291.6,2,   7.4763,2,    25.00,2, -999.00,9,  -999.0,9, -999.00,9, -999.00,9,       31.1,2, 20220524,      227,  30.0003, 169.7191,     5.8895,2,     -999.0,9,     -999.0,9,     -999.0,9,     -999.0,9,     0.0134,1,     4.7018,1,     -999.0,9,     -999.0,9,     -999.0,9
33RR20220430,        P02,      65,          2,         21,         21,2,20220524,       0038,    30.0004,   169.7191,       5678,   872.2,2,   4.8348,2,  34.1004,2,  34.0997,2,     74.0,3,    72.7,2,   87.47,2,   37.45,2,    0.00,2,    2.64,2,   1.180,2,   0.774,2,   0.5013,2,  2292.1,2,  2313.0,2,   7.3884,2,    25.01,2, -999.00,9,  -999.0,9, -999.00,1, -999.00,1,       39.1,2, 20220524,      224,  30.0003, 169.7191,     4.8337,2,     -999.0,9,     -999.0,9,     -999.0,9,     -999.0,9,     0.0134,1,     4.7012,1,     -999.0,9,     -999.0,9,     -999.0,9
33RR20220430,        P02,      65,          2,         20,         20,2,20220524,       0038,    30.0004,   169.7191,       5678,   973.3,2,   4.1197,2,  34.2146,2,  34.2122,2,     42.8,2,    42.8,2,  107.79,2,   40.98,2,    0.00,2,    2.88,2,   0.574,2,   0.355,2,   0.0000,2,  2330.7,2,  2337.4,2,   7.3433,2,    25.00,2, -999.00,9,  -999.0,9, -999.00,9, -999.00,9,       45.1,2, 20220524,      221,  30.0003, 169.7191,     4.1189,2,     -999.0,9,     -999.0,9,     -999.0,9,     -999.0,9,     0.0134,1,     4.7018,1,     -999.0,9,     -999.0,9,     -999.0,9
33RR20220430,        P02,      65,          2,         19,         19,2,20220524,       0038,    30.0004,   169.7191,       5678,  1074.1,2,   3.7502,2,  34.2847,2,  34.2848,2,     32.8,3,    32.5,2,  119.32,2,   42.34,2,    0.00,2,    2.95,2,   0.306,2,   0.184,2,   0.0000,2,  2348.9,2,  2352.2,2,   7.3309,2,    24.99,2, -999.00,9,  -999.0,9, -999.00,1, -999.00,1,       46.9,2, 20220524,      218,  30.0003, 169.7191,     3.7503,2,     -999.0,9,     -999.0,9,     -999.0,9,     -999.0,9,     0.0134,1,     4.7010,1,     -999.0,9,     -999.0,9,     -999.0,9
33RR20220430,        P02,      65,          2,         18,         18,2,20220524,       0038,    30.0004,   169.7191,       5678,  1176.4,2,   3.4231,2,  34.3642,2,  34.3619,2,     25.7,2,    25.8,2,  128.79,2,   43.32,2,    0.00,2,    3.06,2,   0.107,2,   0.065,2,   0.0000,2,  -999.0,9,  -999.0,9,-999.0000,9,  -999.00,9, -999.00,9,  -999.0,9, -999.00,9, -999.00,9,       47.8,2, 20220524,      216,  30.0003, 169.7190,     3.4236,2,     -999.0,9,     -999.0,9,     -999.0,9,     -999.0,9,     0.0134,1,     4.7020,1,     -999.0,9,     -999.0,9,     -999.0,9
33RR20220430,        P02,      65,          2,         17,         17,2,20220524,       0038,    30.0004,   169.7191,       5678,  1276.8,2,   3.2102,2,  34.4129,2,  34.4120,2,     29.8,3,    30.6,2,  134.55,2,   43.25,2,    0.00,2,    3.04,2,   0.059,2,   0.032,2,   0.0000,2,  2369.2,2,  2374.3,2,   7.3421,2,    24.99,2, -999.00,9,  -999.0,9, -999.00,1, -999.00,1,       48.0,2, 20220524,      213,  30.0003, 169.7191,     3.2093,2,     -999.0,9,     -999.0,9,     -999.0,9,     -999.0,9,     0.0134,1,     4.7028,1,     -999.0,9,     -999.0,9,     -999.0,9
33RR20220430,        P02,      65,          2,         16,         16,2,20220524,       0038,    30.0004,   169.7191,       5678,  1380.4,2,   2.9105,2,  34.4593,2,  34.4585,2,     32.9,2,    33.0,2,  143.34,2,   43.28,2,    0.00,2,    3.04,2,   0.034,2,   0.017,2,   0.0000,2,  -999.0,9,  -999.0,9,-999.0000,9,  -999.00,9, -999.00,9,  -999.0,9, -999.00,9, -999.00,9,       46.1,2, 20220524,      209,  30.0003, 169.7190,     2.9102,2,     -999.0,9,     -999.0,9,     -999.0,9,     -999.0,9,     0.0134,1,     4.7033,1,     -999.0,9,     -999.0,9,     -999.0,9
33RR20220430,        P02,      65,          2,         15,         15,2,20220524,       0038,    30.0004,   169.7191,       5678,  1553.1,2,   2.5882,2,  34.5107,2,  34.5135,2,     41.9,3,    43.0,2,  151.93,2,   42.82,2,    0.00,2,    2.99,2,   0.017,2,   0.009,2,   0.0000,2,  2378.1,6,  2395.7,2,   7.3711,2,    24.98,2, -999.00,9,  -999.0,9, -999.00,1, -999.00,1,       42.3,2, 20220524,      205,  30.0003, 169.7191,     2.5866,2,     -999.0,9,     -999.0,9,     -999.0,9,     -999.0,9,     0.0134,1,     4.7037,1,     -999.0,9,     -999.0,9,     -999.0,9
33RR20220430,        P02,      65,          2,         14,         14,2,20220524,       0038,    30.0004,   169.7191,       5678,  1753.8,2,   2.2656,2,  34.5540,2,  34.5539,2,     53.4,3,    54.3,2,  158.47,2,   42.23,2,    0.00,2,    2.94,2,   0.010,2,   0.000,2,   0.0000,2,  -999.0,9,  -999.0,9,-999.0000,9,  -999.00,9, -999.00,9,  -999.0,9, -999.00,9, -999.00,9,       37.9,2, 20220524,      200,  30.0003, 169.7190,     2.2658,2,     -999.0,9,     -999.0,9,     -999.0,9,     -999.0,9,     0.0131,1,     4.7043,1,     -999.0,9,     -999.0,9,     -999.0,9
33RR20220430,        P02,      65,          2,         13,         13,2,20220524,       0038,    30.0004,   169.7191,       5678,  1957.0,2,   2.0399,2,  34.5876,2,  34.5867,2,     69.2,2,    68.9,2,  161.99,2,   41.30,2,    0.00,2,    2.86,2,   0.007,2,   0.000,2,   0.0000,2,  2374.1,2,  2409.5,2,   7.4243,2,    24.98,2, -999.00,9,  -999.0,9, -999.00,1, -999.00,1,       34.1,2, 20220524,      156,  30.0003, 169.7191,     2.0393,2,     -999.0,9,     -999.0,9,     -999.0,9,     -999.0,9,     0.0131,1,     4.7051,1,     -999.0,9,     -999.0,9,     -999.0,9
33RR20220430,        P02,      65,          2,         12,         12,2,20220524,       0038,    30.0004,   169.7191,       5678,  2191.2,2,   1.8335,2,  34.6172,2,  34.6166,2,     88.0,2,    88.1,2,  162.67,2,   40.03,2,    0.00,2,    2.77,2,   0.006,2,   0.000,2,   0.0000,2,  -999.0,9,  -999.0,9,-999.0000,9,  -999.00,9, -999.00,9,  -999.0,9, -999.00,9, -999.00,9,       29.8,2, 20220524,      150,  30.0003, 169.7191,     1.8335,2,     -999.0,9,     -999.0,9,     -999.0,9,     -999.0,9,     0.0125,1,     4.7044,1,     -999.0,9,     -999.0,9,     -999.0,9
33RR20220430,        P02,      65,          2,         11,         11,2,20220524,       0038,    30.0004,   169.7191,       5678,  2444.9,2,   1.6949,2,  34.6368,2,  34.6360,2,    102.7,2,   102.5,2,  162.27,2,   39.05,2,    0.00,2,    2.71,2,   0.006,2,   0.000,2,   0.0000,2,  2358.4,2,  2416.3,2,   7.4867,2,    25.00,2, -999.00,9,  -999.0,9, -999.00,1, -999.00,1,       27.2,2, 20220524,      144,  30.0003, 169.7190,     1.6951,2,     -999.0,9,     -999.0,9,     -999.0,9,     -999.0,9,     0.0134,1,     4.7056,1,     -999.0,9,     -999.0,9,     -999.0,9
33RR20220430,        P02,      65,          2,         10,         10,2,20220524,       0038,    30.0004,   169.7191,       5678,  2699.2,2,   1.6065,2,  34.6505,2,  34.6490,2,    114.9,2,   115.1,2,  160.32,2,   38.22,2,    0.00,2,    2.65,2,-999.000,9,-999.000,9,-999.0000,9,  -999.0,9,  -999.0,9,-999.0000,9,  -999.00,9, -999.00,9,  -999.0,9, -999.00,9, -999.00,9,     -999.0,9, 20220524,      139,  30.0003, 169.7190,     1.6064,2,     -999.0,9,     -999.0,9,     -999.0,9,     -999.0,9,     0.0130,1,     4.7062,1,     -999.0,9,     -999.0,9,     -999.0,9
33RR20220430,        P02,      65,          2,          9,          9,2,20220524,       0038,    30.0004,   169.7191,       5678,  2956.3,2,   1.5483,2,  34.6611,2,  34.6608,2,    125.7,2,   125.6,2,  157.48,2,   37.61,2,    0.00,2,    2.61,2,   0.005,2,   0.000,2,   0.0000,2,  2345.4,2,  2417.4,2,   7.5288,2,    25.03,2, -999.00,9,  -999.0,9, -999.00,1, -999.00,1,       24.0,2, 20220524,      133,  30.0003, 169.7191,     1.5481,2,     -999.0,9,     -999.0,9,     -999.0,9,     -999.0,9,     0.0122,1,     4.7064,1,     -999.0,9,     -999.0,9,     -999.0,9
33RR20220430,        P02,      65,          2,          8,          8,2,20220524,       0038,    30.0004,   169.7191,       5678,  3245.3,2,   1.5080,2,  34.6693,2,  34.6673,2,    134.2,2,   134.0,2,  155.63,2,   37.11,2,    0.00,2,    2.57,2,-999.000,9,-999.000,9,-999.0000,9,  -999.0,9,  -999.0,9,-999.0000,9,  -999.00,9, -999.00,9,  -999.0,9, -999.00,9, -999.00,9,     -999.0,9, 20220524,      127,  30.0003, 169.7190,     1.5080,2,     -999.0,9,     -999.0,9,     -999.0,9,     -999.0,9,     0.0122,1,     4.7066,1,     -999.0,9,     -999.0,9,     -999.0,9
33RR20220430,        P02,      65,          2,          7,          7,2,20220524,       0038,    30.0004,   169.7191,       5678,  3554.1,2,   1.4742,2,  34.6761,2,  34.6751,2,    141.6,2,   141.5,2,  154.45,2,   36.83,2,    0.00,2,    2.53,2,   0.006,2,   0.000,2,   0.0000,2,  2331.4,2,  2416.9,2,   7.5797,2,    25.02,2, -999.00,9,  -999.0,9, -999.00,1, -999.00,1,       20.1,2, 20220524,      121,  30.0003, 169.7191,     1.4739,2,     -999.0,9,     -999.0,9,     -999.0,9,     -999.0,9,     0.0131,1,     4.7060,1,     -999.0,9,     -999.0,9,     -999.0,9
33RR20220430,        P02,      65,          2,          6,          6,2,20220524,       0038,    30.0004,   169.7191,       5678,  3858.2,2,   1.4663,2,  34.6804,2,  34.6794,2,    147.3,2,   147.4,2,  152.40,2,   36.38,2,    0.00,2,    2.49,2,-999.000,9,-999.000,9,-999.0000,9,  -999.0,9,  -999.0,9,-999.0000,9,  -999.00,9, -999.00,9,  -999.0,9, -999.00,9, -999.00,9,     -999.0,9, 20220524,      115,  30.0003, 169.7191,     1.4661,2,     -999.0,9,     -999.0,9,     -999.0,9,     -999.0,9,     0.0122,1,     4.7069,1,     -999.0,9,     -999.0,9,     -999.0,9
33RR20220430,        P02,      65,          2,          5,          5,2,20220524,       0038,    30.0004,   169.7191,       5678,  4270.2,2,   1.4616,2,  34.6855,2,  34.6844,2,    153.8,2,   153.8,2,  150.25,2,   35.93,2,    0.00,2,    2.47,2,   0.008,2,   0.000,2,   0.0000,2,  2322.2,2,  2414.6,2,   7.5784,2,    25.00,2, -999.00,9,  -999.0,9, -999.00,1, -999.00,1,       20.7,2, 20220524,      107,  30.0003, 169.7191,     1.4615,2,     -999.0,9,     -999.0,9,     -999.0,9,     -999.0,9,     0.0122,1,     4.7059,1,     -999.0,9,     -999.0,9,     -999.0,9
33RR20220430,        P02,      65,          2,          4,          4,2,20220524,       0038,    30.0004,   169.7191,       5678,  4680.9,2,   1.4679,2,  34.6896,3,  34.6861,2,    160.4,2,   160.5,2,  146.34,2,   35.45,2,    0.00,2,    2.43,2,-999.000,9,-999.000,9,-999.0000,9,  2315.6,2,  2411.3,2,   7.5846,2,    24.99,2, -999.00,9,  -999.0,9, -999.00,1, -999.00,1,     -999.0,9, 20220524,       59,  30.0003, 169.7191,     1.4680,2,     -999.0,9,     -999.0,9,     -999.0,9,     -999.0,9,     0.0122,1,     4.7067,1,     -999.0,9,     -999.0,9,     -999.0,9