BOTTLE,20230725CCHSIOADS
EXPOCODE,SECT_ID,STNNBR,CASTNO,SAMPNO,BTLNBR,BTLNBR_FLAG_W,DATE,TIME,BTL_TIME,LATITUDE,LONGITUDE,DEPTH,CTDPRS,CTDTMP,CTDSAL,CTDSAL_FLAG_W,CTDOXY,CTDOXY_FLAG_W,SALNTY,SALNTY_FLAG_W,OXYGEN,OXYGEN_FLAG_W,SILCAT,SILCAT_FLAG_W,NO2+NO3,NO2+NO3_FLAG_W,NITRIT,NITRIT_FLAG_W,PHSPHT,PHSPHT_FLAG_W,CFC-11,CFC-11_FLAG_W,CFC-12,CFC-12_FLAG_W,TCARBN,TCARBN_FLAG_W,ALKALI,ALKALI_FLAG_W,PH_TOT,PH_TOT_FLAG_W,PH_TMP,CHLORA,CHLORA_FLAG_W,PPHYTN,PPHYTN_FLAG_W,THETA,THETA_FLAG_W,SIG0,SIG0_FLAG_W,REFTMP,REFTMP_FLAG_W
,,,,,,,,,,,,METERS,DBAR,ITS-90,PSS-78,,UMOL/KG,,PSS-78,,UMOL/KG,,UMOL/KG,,UMOL/KG,,UMOL/KG,,UMOL/KG,,PMOL/KG,,PMOL/KG,,UMOL/KG,,UMOL/KG,,,,DEG C,UG/KG,,UG/KG,,ITS-90,,KG/M^3,,ITS-90,
49UP20140609_3,   P10,50,1, 0,BUC,2,20140802,0842,1033,17.1940,149.3365,5350,   0.0,29.9799,34.6340,2,194.5,2,   -999,9,194.23,2,  0.84,2, 0.00,2,0.00,2,0.06,2, -999,9, -999,9,-999.0,9,-999.0,9,-999.0,9,-999,-999,9,-999,9,29.9793,2,21.4589,2,   -999,9
49UP20140609_3,   P10,50,1,36,109,2,20140802,0842,1051,17.1940,149.3365,5350,  10.3,29.9742,34.6335,2,194.5,2,34.6300,2,194.34,2,  0.80,2, 0.00,2,0.00,2,0.06,2, -999,9, -999,9,-999.0,9,-999.0,9,-999.0,9,-999,-999,9,-999,9,29.9716,2,21.4611,2,29.9681,2
49UP20140609_3,   P10,50,1,35,112,2,20140802,0842,1048,17.1940,149.3365,5350,  50.2,28.6789,35.0014,2,209.7,2,35.0040,2,209.33,2,  0.76,2, 0.00,2,0.00,2,0.05,2, -999,9, -999,9,-999.0,9,-999.0,9,-999.0,9,-999,-999,9,-999,9,28.6669,2,22.1761,2,28.6826,2
49UP20140609_3,   P10,50,1,34,83,2,20140802,0842,1046,17.1940,149.3365,5350, 104.4,27.4134,35.1487,2,205.1,2,35.1473,2,204.86,2,  0.69,2, 0.01,2,0.00,2,0.08,2, -999,9, -999,9,-999.0,9,-999.0,9,-999.0,9,-999,-999,9,-999,9,27.3891,2,22.7048,2,27.3982,2
49UP20140609_3,   P10,50,1,33,107,2,20140802,0842,1044,17.1940,149.3365,5350, 150.6,25.1762,35.1165,2,199.2,2,35.1227,2,198.87,6,  0.93,6, 0.19,6,0.18,6,0.06,6, -999,9, -999,9,-999.0,9,-999.0,9,-999.0,9,-999,-999,9,-999,9,25.1433,2,23.3856,2,25.1668,2
49UP20140609_3,   P10,50,1,32,105,2,20140802,0842,1043,17.1940,149.3365,5350, 201.2,21.8498,35.0519,2,189.2,2,35.0561,2,188.43,2,  1.68,2, 1.31,2,0.02,2,0.14,2, -999,9, -999,9,-999.0,9,-999.0,9,-999.0,9,-999,-999,9,-999,9,21.8102,2,24.3103,2,21.8526,2
49UP20140609_3,   P10,50,1,31,515,2,20140802,0842,1041,17.1940,149.3365,5350, 252.0,18.2065,34.8002,2,180.7,2,34.7987,6,180.66,2,  3.99,2, 5.24,2,0.01,2,0.41,2, -999,9, -999,9,-999.0,9,-999.0,9,-999.0,9,-999,-999,9,-999,9,18.1629,2,25.0788,2,18.2044,2
49UP20140609_3,   P10,50,1,30,97,2,20140802,0842,1040,17.1940,149.3365,5350, 282.0,16.5021,34.6543,2,187.5,2,34.6528,2,187.60,2,  5.59,2, 6.98,2,0.00,2,0.51,2, -999,9, -999,9,-999.0,9,-999.0,9,-999.0,9,-999,-999,9,-999,9,16.4565,2,25.3765,2,16.5050,2
49UP20140609_3,   P10,50,1,29,102,2,20140802,0842,1038,17.1940,149.3365,5350, 321.8,14.6041,34.4983,2,184.9,2,34.4979,2,184.56,2,  9.27,2,10.05,2,0.00,2,0.73,2, -999,9, -999,9,-999.0,9,-999.0,9,-999.0,9,-999,-999,9,-999,9,14.5563,2,25.6814,2,14.5814,2
49UP20140609_3,   P10,50,1,28,108,2,20140802,0842,1036,17.1940,149.3365,5350, 372.7,12.2410,34.3283,2,151.1,2,34.3286,2,150.53,2, 17.50,2,16.75,2,0.00,2,1.27,2, -999,9, -999,9,-999.0,9,-999.0,9,-999.0,9,-999,-999,9,-999,9,12.1917,2,26.0308,2,12.2380,2
49UP20140609_3,   P10,50,1,27,998,2,20140802,0842,1035,17.1940,149.3365,5350, 424.3,10.2249,34.2764,2,120.2,2,34.2747,2,119.95,2, 28.65,2,23.56,2,0.00,2,1.76,2, -999,9, -999,9,-999.0,9,-999.0,9,-999.0,9,-999,-999,9,-999,9,10.1748,2,26.3571,2,10.2243,2
49UP20140609_3,   P10,50,1,26,84,2,20140802,0842,1033,17.1940,149.3365,5350, 472.5, 8.3756,34.2071,2,102.9,2,34.2071,2,102.82,2, 41.97,2,28.45,2,0.00,2,2.11,2, -999,9, -999,9,-999.0,9,-999.0,9,-999.0,9,-999,-999,9,-999,9, 8.3262,2,26.6021,2, 8.3727,2
49UP20140609_3,   P10,50,1,25,98,2,20140802,0842,1030,17.1940,149.3365,5350, 574.1, 6.4685,34.2768,2, 68.6,2,34.2775,2, 68.52,2, 65.68,2,35.42,2,0.00,2,2.59,2, -999,9, -999,9,-999.0,9,-999.0,9,-999.0,9,-999,-999,9,-999,9, 6.4162,2,26.9276,2, 6.4687,2
49UP20140609_3,   P10,50,1,24,110,2,20140802,0842,1027,17.1940,149.3365,5350, 674.2, 5.8053,34.3911,2, 62.1,2,34.3908,6, 62.07,2, 76.38,2,37.44,2,0.00,2,2.73,2, -999,9, -999,9,-999.0,9,-999.0,9,-999.0,9,-999,-999,9,-999,9, 5.7467,2,27.1032,2, 5.8059,2
49UP20140609_3,   P10,50,1,23,96,2,20140802,0842,1024,17.1940,149.3365,5350, 775.9, 5.2764,34.4524,2, 65.7,2,34.4518,2, 65.90,2, 84.03,2,38.21,2,0.00,2,2.77,2, -999,9, -999,9,-999.0,9,-999.0,9,-999.0,9,-999,-999,9,-999,9, 5.2114,2,27.2164,2, 5.2759,2
49UP20140609_3,   P10,50,1,22,111,2,20140802,0842,1022,17.1940,149.3365,5350, 877.6, 4.8424,34.4934,2, 68.2,2,34.4935,2, 68.64,2, 90.50,2,38.71,2,0.00,2,2.80,2, -999,9, -999,9,-999.0,9,-999.0,9,-999.0,9,-999,-999,9,-999,9, 4.7711,2,27.2997,2, 4.8422,2
49UP20140609_3,   P10,50,1,21,78,2,20140802,0842,1019,17.1940,149.3365,5350, 978.4, 4.6019,34.5066,2, 70.4,2,34.5073,2, 70.21,6, 95.24,6,39.00,6,0.00,6,2.82,6, -999,9, -999,9,-999.0,9,-999.0,9,-999.0,9,-999,-999,9,-999,9, 4.5236,2,27.3378,2, 4.6018,2
49UP20140609_3,   P10,50,1,20,93,2,20140802,0842,1015,17.1940,149.3365,5350,1140.3, 3.8831,34.5366,2, 78.9,2,34.5367,2, 78.85,2,109.09,2,39.11,2,0.00,2,2.81,2, -999,9, -999,9,-999.0,9,-999.0,9,-999.0,9,-999,-999,9,-999,9, 3.7966,2,27.4384,2, 3.8836,2
49UP20140609_3,   P10,50,1,19,92,2,20140802,0842,1011,17.1940,149.3365,5350,1342.7, 3.2692,34.5632,2, 85.4,2,34.5631,2, 85.33,2,121.06,2,39.21,2,0.00,2,2.81,2, -999,9, -999,9,-999.0,9,-999.0,9,-999.0,9,-999,-999,9,-999,9, 3.1715,2,27.5205,2, 3.2685,2
49UP20140609_3,   P10,50,1,18,101,2,20140802,0842,1006,17.1940,149.3365,5350,1546.3, 2.7868,34.5848,2, 92.9,2,34.5847,2, 92.74,2,129.82,2,39.01,2,0.00,2,2.79,2, -999,9, -999,9,-999.0,9,-999.0,9,-999.0,9,-999,-999,9,-999,9, 2.6776,2,27.5826,2, 2.7873,2
49UP20140609_3,   P10,50,1,17,90,2,20140802,0842,1002,17.1940,149.3365,5350,1748.2, 2.4661,34.5989,2, 98.7,2,34.5991,2, 98.92,2,137.06,2,38.94,2,0.00,2,2.77,2, -999,9, -999,9,-999.0,9,-999.0,9,-999.0,9,-999,-999,9,-999,9, 2.3442,2,27.6223,2, 2.4661,2
49UP20140609_3,   P10,50,1,16,89,2,20140802,0842, 957,17.1940,149.3365,5350,1951.8, 2.1875,34.6182,2,106.6,2,34.6179,2,106.80,2,141.26,2,38.55,2,0.00,2,2.73,2, -999,9, -999,9,-999.0,9,-999.0,9,-999.0,9,-999,-999,9,-999,9, 2.0524,2,27.6616,2, 2.1874,2
49UP20140609_3,   P10,50,1,15,88,2,20140802,0842, 953,17.1940,149.3365,5350,2155.7, 1.9728,34.6343,2,113.3,2,34.6341,6,113.62,2,145.56,2,38.26,2,0.00,2,2.71,2, -999,9, -999,9,-999.0,9,-999.0,9,-999.0,9,-999,-999,9,-999,9, 1.8235,2,27.6925,2, 1.9728,2
49UP20140609_3,   P10,50,1,14,999,2,20140802,0842, 948,17.1940,149.3365,5350,2357.8, 1.8414,34.6448,2,118.7,2,34.6436,2,119.04,6,147.58,6,37.92,6,0.00,6,2.68,6, -999,9, -999,9,-999.0,9,-999.0,9,-999.0,9,-999,-999,9,-999,9, 1.6767,2,27.7120,2, 1.8411,2
49UP20140609_3,   P10,50,1,13,667,2,20140802,0842, 943,17.1940,149.3365,5350,2561.4, 1.7506,34.6534,2,123.7,2,34.6506,4,123.67,2,148.18,2,37.68,2,0.00,2,2.66,2, -999,9, -999,9,-999.0,9,-999.0,9,-999.0,9,-999,-999,9,-999,9, 1.5694,2,27.7269,2, 1.7505,2
49UP20140609_3,   P10,50,1,12,74,2,20140802,0842, 939,17.1940,149.3365,5350,2766.0, 1.6815,34.6598,2,128.2,2,34.6591,2,128.08,2,149.01,2,37.46,2,0.00,2,2.63,2, -999,9, -999,9,-999.0,9,-999.0,9,-999.0,9,-999,-999,9,-999,9, 1.4829,2,27.7384,2, 1.6815,2
49UP20140609_3,   P10,50,1,11,268,2,20140802,0842, 934,17.1940,149.3365,5350,2969.1, 1.6239,34.6657,2,133.0,2,34.6645,2,132.80,2,149.39,2,37.11,2,0.00,2,2.61,2, -999,9, -999,9,-999.0,9,-999.0,9,-999.0,9,-999,-999,9,-999,9, 1.4074,2,27.7486,2, 1.6240,2
49UP20140609_3,   P10,50,1,10,267,2,20140802,0842, 929,17.1940,149.3365,5350,3214.6, 1.5708,34.6709,2,138.0,2,34.6707,2,137.91,2,149.36,2,36.80,2,0.00,2,2.58,2, -999,9, -999,9,-999.0,9,-999.0,9,-999.0,9,-999,-999,9,-999,9, 1.3316,2,27.7582,2, 1.5710,2
49UP20140609_3,   P10,50,1, 8,81,2,20140802,0842, 923,17.1940,149.3365,5350,3469.1, 1.5283,34.6758,2,144.0,2,34.6754,2,143.78,2,147.40,2,36.35,2,0.00,2,2.55,2, -999,9, -999,9,-999.0,9,-999.0,9,-999.0,9,-999,-999,9,-999,9, 1.2646,2,27.7668,2, 1.5282,2
49UP20140609_3,   P10,50,1, 7,516,2,20140802,0842, 913,17.1940,149.3365,5350,3980.3, 1.4719,34.6839,2,155.0,2,34.6838,6,154.96,2,143.51,2,35.63,2,0.00,2,2.49,2, -999,9, -999,9,-999.0,9,-999.0,9,-999.0,9,-999,-999,9,-999,9, 1.1559,2,27.7808,2, 1.4719,2
49UP20140609_3,   P10,50,1, 6,113,2,20140802,0842, 903,17.1940,149.3365,5350,4493.7, 1.4462,34.6904,2,165.7,2,34.6904,2,166.22,6,137.47,6,34.78,6,0.00,6,2.43,6, -999,9, -999,9,-999.0,9,-999.0,9,-999.0,9,-999,-999,9,-999,9, 1.0736,2,27.7916,2, 1.4463,2
49UP20140609_3,   P10,50,1, 4,77,2,20140802,0842, 858,17.1940,149.3365,5350,4750.0, 1.4502,34.6926,2,169.4,2,34.6928,2,169.46,2,135.77,2,34.61,2,0.00,2,2.41,2, -999,9, -999,9,-999.0,9,-999.0,9,-999.0,9,-999,-999,9,-999,9, 1.0475,2,27.7952,2, 1.4502,2
49UP20140609_3,   P10,50,1, 9,94,2,20140802,0842, 858,17.1940,149.3365,5350,4750.3, 1.4503,34.6925,2,169.4,2,34.6916,2,168.55,2,135.98,2,34.69,2,0.00,2,2.42,2, -999,9, -999,9,-999.0,9,-999.0,9,-999.0,9,-999,-999,9,-999,9, 1.0476,2,27.7951,2, 1.4503,2
49UP20140609_3,   P10,50,1, 5,518,2,20140802,0842, 858,17.1940,149.3365,5350,4750.5, 1.4503,34.6925,2,169.4,2,34.6918,2,168.91,2,135.74,2,34.67,2,0.00,2,2.42,2, -999,9, -999,9,-999.0,9,-999.0,9,-999.0,9,-999,-999,9,-999,9, 1.0476,2,27.7951,2, 1.4503,2
49UP20140609_3,   P10,50,1, 3,104,2,20140802,0842, 852,17.1940,149.3365,5350,5007.5, 1.4634,34.6938,2,171.8,2,34.6943,2,172.28,2,134.41,2,34.48,2,0.00,2,2.40,2, -999,9, -999,9,-999.0,9,-999.0,9,-999.0,9,-999,-999,9,-999,9, 1.0295,2,27.7973,2, 1.4633,2
49UP20140609_3,   P10,50,1, 2,75,2,20140802,0842, 847,17.1940,149.3365,5350,5264.2, 1.4857,34.6946,2,173.3,2,34.6946,2,173.76,2,133.07,2,34.27,2,0.00,2,2.39,2, -999,9, -999,9,-999.0,9,-999.0,9,-999.0,9,-999,-999,9,-999,9, 1.0193,2,27.7987,2, 1.4857,2
49UP20140609_3,   P10,50,1, 1,997,2,20140802,0842, 843,17.1940,149.3365,5350,5470.9, 1.5063,34.6951,2,174.2,2,34.6951,2,173.51,2,132.60,2,34.32,2,0.00,2,2.39,2, -999,9, -999,9,-999.0,9,-999.0,9,-999.0,9,-999,-999,9,-999,9, 1.0131,2,27.7995,2, 1.5063,2
49UP20140609_3,   P10,51,1, 0,BUC,2,20140802,1620,1805,16.5022,149.3410,5200,   0.0,29.7735,34.4455,2,194.0,2,34.3968,2,193.73,2,  0.84,2, 0.03,2,0.00,2,0.07,2, -999,9, -999,9,1922.4,2,2260.2,2,8.1279,2,25,0.07,2,0.03,2,29.7728,2,21.3878,2,   -999,9
49UP20140609_3,   P10,51,1,36,109,2,20140802,1620,1846,16.5022,149.3410,5200,  10.9,29.7730,34.4472,2,194.0,2,34.4453,2,193.31,2,  0.87,2, 0.01,2,0.00,2,0.06,2,1.425,2,0.850,2,1931.4,2,2262.1,2,8.1290,2,25,0.06,2,0.02,2,29.7703,2,21.3899,2,29.7738,2
49UP20140609_3,   P10,51,1,35,112,2,20140802,1620,1843,16.5022,149.3410,5200,  52.4,29.0885,34.9064,2,205.7,2,34.8373,4,204.68,2,  0.88,2, 0.03,2,0.00,2,0.06,2,1.578,2,0.900,2,1945.1,2,2286.8,2,8.1282,2,25,0.14,2,0.05,2,29.0758,2,21.9684,2,29.0763,2
49UP20140609_3,   P10,51,1,34,83,2,20140802,1620,1840,16.5022,149.3410,5200, 105.2,27.5050,35.1633,2,203.3,2,35.1538,4,203.67,2,  0.87,2, 0.05,2,0.00,2,0.09,2,1.622,2,0.946,2,1973.8,2,2310.1,2,8.1126,2,25,0.17,2,0.11,2,27.4805,2,22.6863,2,27.5071,2
49UP20140609_3,   P10,51,1,33,107,2,20140802,1620,1838,16.5022,149.3410,5200, 153.1,25.3733,35.1978,2,192.4,2,35.1947,2,192.12,2,  1.04,2, 0.23,2,0.18,2,0.10,2,1.693,2,1.030,2,2004.0,2,2311.0,2,8.0678,2,25,0.09,2,0.22,2,25.3397,2,23.3869,2,25.4103,2
49UP20140609_3,   P10,51,1,32,105,2,20140802,1620,1836,16.5022,149.3410,5200, 204.4,21.5982,35.0494,2,185.1,2,35.0496,2,185.32,2,  1.90,2, 1.64,2,0.01,2,0.17,2,2.009,2,1.214,2,2037.4,2,2300.5,2,7.9951,2,25,0.02,2,0.05,2,21.5583,2,24.3784,2,21.5960,2
49UP20140609_3,   P10,51,1,31,515,2,20140802,1620,1834,16.5022,149.3410,5200, 252.5,18.8976,34.8606,2,181.1,2,34.8611,2,181.10,2,  3.36,2, 4.30,2,0.01,2,0.34,2,2.241,6,1.332,6,2060.7,2,2294.1,2,7.9380,2,25,-999,9,-999,9,18.8527,2,24.9521,2,18.9026,2
49UP20140609_3,   P10,51,1,30,97,2,20140802,1620,1832,16.5022,149.3410,5200, 303.5,15.0559,34.5222,2,172.4,2,34.5198,2,173.32,6,  8.98,6,10.26,6,0.01,6,0.78,6,2.591,2,1.480,2,2094.4,2,2275.4,2,7.8377,2,25,-999,9,-999,9,15.0099,2,25.6014,2,15.0441,2
49UP20140609_3,   P10,51,1,29,102,2,20140802,1620,1830,16.5022,149.3410,5200, 354.8,12.2696,34.3371,2,160.2,2,34.3372,2,160.26,2, 16.86,2,16.05,2,0.00,2,1.19,2,2.647,2,1.456,2,2125.8,2,2269.3,2,7.7503,2,25,-999,9,-999,9,12.2227,2,26.0317,2,12.2679,2
49UP20140609_3,   P10,51,1,28,108,2,20140802,1620,1828,16.5022,149.3410,5200, 404.6,10.7692,34.2705,2,136.5,2,34.2713,2,136.15,2, 24.41,2,20.91,2,0.00,2,1.57,2,2.408,2,1.271,2,2165.0,2,2270.7,2,7.6660,2,25,-999,9,-999,9,10.7199,2,26.2574,2,10.7693,2
49UP20140609_3,   P10,51,1,27,998,2,20140802,1620,1826,16.5022,149.3410,5200, 455.4, 9.3116,34.2654,2,106.7,2,34.2667,2,106.42,2, 35.21,2,26.62,2,0.00,2,1.97,2,1.857,6,0.940,6,2202.8,6,2281.9,6,7.5827,2,25,-999,9,-999,9, 9.2609,2,26.5009,2, 9.3111,2
49UP20140609_3,   P10,51,1,26,84,2,20140802,1620,1824,16.5022,149.3410,5200, 505.8, 8.2521,34.2607,2, 91.0,2,34.2602,2, 90.61,2, 44.71,2,30.05,2,0.00,2,2.22,2,1.415,2,0.710,2,2225.8,2,2288.8,2,7.5286,6,25,-999,9,-999,9, 8.1996,2,26.6633,2, 8.2498,2
49UP20140609_3,   P10,51,1,25,98,2,20140802,1620,1822,16.5022,149.3410,5200, 605.9, 6.5663,34.2906,2, 64.0,2,34.2907,6, 63.88,2, 64.25,2,35.77,2,0.00,2,2.62,2,0.637,2,0.312,2,2270.9,2,2307.3,2,7.4558,2,25,-999,9,-999,9, 6.5105,2,26.9260,2, 6.5678,2
49UP20140609_3,   P10,51,1,24,110,2,20140802,1620,1819,16.5022,149.3410,5200, 705.9, 5.8789,34.3910,2, 60.3,2,34.3918,2, 60.38,2, 74.89,2,37.51,2,0.00,2,2.74,2,0.265,6,0.136,6,2291.9,2,2327.0,2,7.4508,2,25,-999,9,-999,9, 5.8170,2,27.0944,2, 5.8786,2
49UP20140609_3,   P10,51,1,23,96,2,20140802,1620,1809,16.5022,149.3410,5200, 807.8, 5.2686,34.4595,2, 64.2,2,34.4602,2, 64.15,2, 83.85,2,38.64,2,0.00,2,2.79,2,0.113,2,0.066,2,2305.3,2,2341.8,2,7.4583,2,25,-999,9,-999,9, 5.2009,2,27.2233,2, 5.2685,2
49UP20140609_3,   P10,51,1,22,111,2,20140802,1620,1807,16.5022,149.3410,5200, 909.2, 4.8808,34.4892,2, 67.5,2,34.4900,2, 67.36,2, 90.49,2,38.97,2,0.00,2,2.82,2,0.069,2,0.036,2,2315.2,2,2351.7,2,7.4616,2,25,-999,9,-999,9, 4.8065,2,27.2924,2, 4.8806,2
49UP20140609_3,   P10,51,1,21,78,2,20140802,1620,1804,16.5022,149.3410,5200,1010.5, 4.4388,34.5146,2, 71.1,2,34.5152,2, 71.09,2, 98.29,2,39.29,2,0.00,2,2.83,2,0.036,2,0.022,2,2318.9,2,2362.0,2,7.4690,2,25,-999,9,-999,9, 4.3588,2,27.3621,2, 4.4325,2
49UP20140609_3,   P10,51,1,20,93,2,20140802,1620,1759,16.5022,149.3410,5200,1212.1, 3.7587,34.5453,2, 78.3,2,34.5457,2, 78.21,6,111.67,6,39.36,6,0.00,6,2.84,6,0.028,2,0.008,2,2324.9,2,2377.2,2,7.4759,2,25,-999,9,-999,9, 3.6673,2,27.4583,2, 3.7587,2
49UP20140609_3,   P10,51,1,19,92,2,20140802,1620,1750,16.5022,149.3410,5200,1414.9, 3.1407,34.5683,2, 87.5,2,34.5684,2, 87.20,2,123.92,2,39.33,2,0.00,2,2.82,2,0.012,2,0.009,2,2337.1,2,2389.4,2,7.4840,2,25,-999,9,-999,9, 3.0384,2,27.5369,2, 3.1403,2
49UP20140609_3,   P10,51,1,18,101,2,20140802,1620,1745,16.5022,149.3410,5200,1618.1, 2.7661,34.5838,2, 93.3,2,34.5846,2, 93.26,2,131.40,2,38.94,2,0.00,2,2.80,2,0.000,2,0.003,2,2341.4,6,2397.7,6,7.4969,2,25,-999,9,-999,9, 2.6512,2,27.5840,2, 2.7662,2
49UP20140609_3,   P10,51,1,17,90,2,20140802,1620,1740,16.5022,149.3410,5200,1818.9, 2.3938,34.6039,2,100.4,2,34.6039,2,100.06,2,138.52,2,38.96,2,0.00,2,2.77,2,0.002,2,0.001,2,2343.0,2,2404.7,2,7.5011,6,25,-999,9,-999,9, 2.2669,2,27.6327,2, 2.3937,2
49UP20140609_3,   P10,51,1,16,89,2,20140802,1620,1736,16.5022,149.3410,5200,2023.6, 2.1318,34.6201,2,107.1,2,34.6204,6,107.20,2,143.06,2,38.63,2,0.00,2,2.74,2,0.006,2,0.000,2,2348.1,2,2409.9,2,7.5130,2,25,-999,9,-999,9, 1.9914,2,27.6680,2, 2.1320,2
49UP20140609_3,   P10,51,1,15,88,2,20140802,1620,1731,16.5022,149.3410,5200,2227.4, 1.9483,34.6348,2,113.7,2,34.6346,2,113.40,2,146.38,2,38.38,2,0.00,2,2.71,2, -999,9, -999,9,2349.9,2,2414.0,2,7.5243,2,25,-999,9,-999,9, 1.7933,2,27.6952,2, 1.9482,2
49UP20140609_3,   P10,51,1,14,999,2,20140802,1620,1726,16.5022,149.3410,5200,2429.2, 1.8102,34.6478,2,120.5,2,34.6480,2,120.36,2,148.22,2,38.16,2,0.00,2,2.68,2,0.000,2,0.000,2,2346.7,2,2415.2,2,7.5342,2,25,-999,9,-999,9, 1.6398,2,27.7172,2, 1.8104,2
49UP20140609_3,   P10,51,1,13,667,2,20140802,1620,1721,16.5022,149.3410,5200,2632.6, 1.7265,34.6557,2,125.1,2,34.6554,2,124.88,2,148.60,2,37.77,2,0.00,2,2.66,2, -999,9, -999,9,2345.0,2,2417.7,2,7.5433,2,25,-999,9,-999,9, 1.5393,2,27.7310,2, 1.7265,2
49UP20140609_3,   P10,51,1,12,74,2,20140802,1620,1716,16.5022,149.3410,5200,2837.7, 1.6702,34.6612,2,129.1,2,34.6611,2,129.23,2,149.13,2,37.57,2,0.00,2,2.63,2,0.001,2,0.000,2,2339.9,6,2417.4,6,7.5486,2,25,-999,9,-999,9, 1.4651,2,27.7408,2, 1.6703,2
49UP20140609_3,   P10,51,1,11,268,2,20140802,1620,1712,16.5022,149.3410,5200,3040.3, 1.6125,34.6670,2,134.1,2,34.6666,2,133.89,2,149.29,2,37.25,2,0.00,2,2.61,2, -999,9, -999,9,2345.0,3,2418.2,2,7.5567,6,25,-999,9,-999,9, 1.3894,2,27.7509,2, 1.6124,2
49UP20140609_3,   P10,51,1,10,267,2,20140802,1620,1706,16.5022,149.3410,5200,3296.7, 1.5607,34.6727,2,140.1,2,34.6725,2,140.02,6,148.36,6,36.82,6,0.00,6,2.58,6, -999,9, -999,9,2336.0,2,2417.0,2,7.5636,2,25,-999,9,-999,9, 1.3137,2,27.7608,2, 1.5607,2
49UP20140609_3,   P10,51,1, 8,81,2,20140802,1620,1700,16.5022,149.3410,5200,3551.3, 1.5308,34.6767,2,144.7,2,34.6765,6,144.73,2,146.93,2,36.40,2,0.00,2,2.55,2, -999,9, -999,9,2330.1,2,2417.2,2,7.5737,2,25,-999,9,-999,9, 1.2586,2,27.7679,2, 1.5309,2
49UP20140609_3,   P10,51,1, 7,516,2,20140802,1620,1655,16.5022,149.3410,5200,3807.1, 1.4967,34.6810,2,150.7,2,34.6807,2,150.46,2,145.50,2,36.04,2,0.00,2,2.52,2,0.000,2,0.000,2,2322.8,2,2414.5,2,7.5744,3,25,-999,9,-999,9, 1.1987,2,27.7756,2, 1.4967,2
49UP20140609_3,   P10,51,1, 6,113,2,20140802,1620,1649,16.5022,149.3410,5200,4064.1, 1.4658,34.6853,2,157.2,2,34.6851,2,157.24,2,141.85,2,35.41,2,0.00,2,2.48,2, -999,9, -999,9,2324.5,3,2410.1,2,7.5876,2,25,-999,9,-999,9, 1.1408,2,27.7830,2, 1.4658,2
49UP20140609_3,   P10,51,1, 4,77,4,20140802,1620,1637,16.5022,149.3410,5200,4575.7, 1.4546,34.6906,2,166.0,2,   -999,9,-999.0,9,-999.0,9, -999,9,-999,9,-999,9, -999,9, -999,9,-999.0,9,-999.0,9,-999.0,9,-999,-999,9,-999,9, 1.0723,2,27.7919,2, 1.4547,2
49UP20140609_3,   P10,51,1, 9,94,2,20140802,1620,1638,16.5022,149.3410,5200,4576.1, 1.4549,34.6907,2,166.0,2,34.6901,2,165.76,2,137.40,2,34.89,2,0.00,2,2.43,2, -999,9, -999,9,2311.7,2,2404.8,2,7.5960,2,25,-999,9,-999,9, 1.0725,2,27.7919,2, 1.4550,2
49UP20140609_3,   P10,51,1, 5,518,2,20140802,1620,1638,16.5022,149.3410,5200,4576.2, 1.4549,34.6906,2,166.0,2,34.6902,2,165.38,2,137.73,2,34.99,2,0.00,2,2.44,2, -999,9, -999,9,2309.9,2,2405.5,2,7.5970,2,25,-999,9,-999,9, 1.0725,2,27.7919,2, 1.4550,2
49UP20140609_3,   P10,51,1, 3,104,2,20140802,1620,1632,16.5022,149.3410,5200,4833.5, 1.4540,34.6930,2,170.2,2,34.6924,2,169.91,2,135.19,2,34.54,2,0.00,2,2.41,2, -999,9, -999,9,2306.7,2,2402.9,2,7.6043,2,25,-999,9,-999,9, 1.0413,2,27.7959,2, 1.4541,2
49UP20140609_3,   P10,51,1, 2,75,2,20140802,1620,1626,16.5022,149.3410,5200,5090.6, 1.4706,34.6943,2,172.4,2,34.6945,6,172.66,2,133.72,2,34.39,2,0.00,2,2.39,2,0.000,2,0.000,2,2302.4,2,2402.6,2,7.6084,2,25,-999,9,-999,9, 1.0262,2,27.7980,2, 1.4707,2
49UP20140609_3,   P10,51,1, 1,997,2,20140802,1620,1620,16.5022,149.3410,5200,5304.7, 1.4735,34.6957,2,175.4,2,34.6957,2,174.99,6,132.33,6,34.24,6,0.00,6,2.39,6,0.000,2,0.001,2,2307.9,3,2399.8,2,7.6131,2,25,-999,9,-999,9, 1.0026,2,27.8007,2, 1.4735,2