BOTTLE,20230725CCHSIOADS
EXPOCODE,SECT_ID,STNNBR,CASTNO,SAMPNO,BTLNBR,BTLNBR_FLAG_W,DATE,TIME,BTL_TIME,LATITUDE,LONGITUDE,DEPTH,CTDPRS,CTDTMP,CTDSAL,CTDSAL_FLAG_W,CTDOXY,CTDOXY_FLAG_W,SALNTY,SALNTY_FLAG_W,OXYGEN,OXYGEN_FLAG_W,SILCAT,SILCAT_FLAG_W,NO2+NO3,NO2+NO3_FLAG_W,NITRIT,NITRIT_FLAG_W,PHSPHT,PHSPHT_FLAG_W,CFC-11,CFC-11_FLAG_W,CFC-12,CFC-12_FLAG_W,TCARBN,TCARBN_FLAG_W,ALKALI,ALKALI_FLAG_W,PH_TOT,PH_TOT_FLAG_W,PH_TMP,CHLORA,CHLORA_FLAG_W,PPHYTN,PPHYTN_FLAG_W,THETA,THETA_FLAG_W,SIG0,SIG0_FLAG_W,REFTMP,REFTMP_FLAG_W
,,,,,,,,,,,,METERS,DBAR,ITS-90,PSS-78,,UMOL/KG,,PSS-78,,UMOL/KG,,UMOL/KG,,UMOL/KG,,UMOL/KG,,UMOL/KG,,PMOL/KG,,PMOL/KG,,UMOL/KG,,UMOL/KG,,,,DEG C,UG/KG,,UG/KG,,ITS-90,,KG/M^3,,ITS-90,
49UP20140609_3,   P10,56,1, 0,BUC,2,20140804,0526, 727,13.1692,149.3265,5907,   0.0,29.7602,34.3456,2,195.5,2,   -999,9,194.63,2,  0.77,2, 0.00,2,0.00,2,0.07,2, -999,9, -999,9,-999.0,9,-999.0,9,-999.0,9,-999,-999,9,-999,9,29.7596,2,21.3174,2,   -999,9
49UP20140609_3,   P10,56,1,36,109,2,20140804,0526, 751,13.1692,149.3265,5907,  10.2,29.5803,34.3595,2,195.6,2,34.3558,2,195.87,2,  0.86,2, 0.00,2,0.00,2,0.06,2, -999,9, -999,9,-999.0,9,-999.0,9,-999.0,9,-999,-999,9,-999,9,29.5778,2,21.3893,2,29.5790,2
49UP20140609_3,   P10,56,1,35,112,2,20140804,0526, 748,13.1692,149.3265,5907,  50.9,29.1058,34.9710,2,204.7,2,35.0357,4,206.09,2,  0.84,2, 0.00,2,0.00,2,0.07,2, -999,9, -999,9,-999.0,9,-999.0,9,-999.0,9,-999,-999,9,-999,9,29.0934,2,22.0111,2,29.1003,2
49UP20140609_3,   P10,56,1,34,83,2,20140804,0526, 745,13.1692,149.3265,5907, 100.9,27.1561,35.2170,2,202.5,2,35.2184,2,203.43,6,  0.84,6, 0.00,6,0.00,6,0.08,6, -999,9, -999,9,-999.0,9,-999.0,9,-999.0,9,-999,-999,9,-999,9,27.1329,2,22.8387,2,27.1507,2
49UP20140609_3,   P10,56,1,33,107,2,20140804,0526, 743,13.1692,149.3265,5907, 150.5,24.0406,35.2616,2,189.5,2,35.2638,2,187.70,2,  1.14,2, 0.46,2,0.10,2,0.12,2, -999,9, -999,9,-999.0,9,-999.0,9,-999.0,9,-999,-999,9,-999,9,24.0088,2,23.8368,2,24.0411,2
49UP20140609_3,   P10,56,1,32,105,2,20140804,0526, 742,13.1692,149.3265,5907, 201.5,19.3630,34.9198,2,175.5,2,34.9019,4,174.84,2,  3.57,2, 4.67,2,0.01,2,0.43,2, -999,9, -999,9,-999.0,9,-999.0,9,-999.0,9,-999,-999,9,-999,9,19.3266,2,24.8761,2,19.3876,2
49UP20140609_3,   P10,56,1,31,515,2,20140804,0526, 739,13.1692,149.3265,5907, 251.8,15.0835,34.5184,2,169.1,2,34.5128,2,167.89,2,  9.08,2,10.49,2,0.00,2,0.81,2, -999,9, -999,9,-999.0,9,-999.0,9,-999.0,9,-999,-999,9,-999,9,15.0454,2,25.5907,2,15.0810,2
49UP20140609_3,   P10,56,1,30,97,2,20140804,0526, 738,13.1692,149.3265,5907, 282.1,13.7656,34.4242,2,152.6,2,34.4218,2,152.34,2, 13.11,2,13.99,2,0.00,2,1.08,2, -999,9, -999,9,-999.0,9,-999.0,9,-999.0,9,-999,-999,9,-999,9,13.7254,2,25.7992,2,13.7668,2
49UP20140609_3,   P10,56,1,29,102,2,20140804,0526, 736,13.1692,149.3265,5907, 322.0,11.3659,34.3106,2,127.5,2,34.3103,2,126.88,2, 22.31,2,20.59,2,0.00,2,1.56,2, -999,9, -999,9,-999.0,9,-999.0,9,-999.0,9,-999,-999,9,-999,9,11.3254,2,26.1795,2,11.3675,2
49UP20140609_3,   P10,56,1,28,108,2,20140804,0526, 734,13.1692,149.3265,5907, 371.9, 9.4839,34.2568,2,106.4,2,34.2582,2,103.53,2, 33.99,2,26.45,2,0.00,2,1.98,2, -999,9, -999,9,-999.0,9,-999.0,9,-999.0,9,-999,-999,9,-999,9, 9.4421,2,26.4647,2, 9.4713,2
49UP20140609_3,   P10,56,1,27,998,2,20140804,0526, 732,13.1692,149.3265,5907, 423.2, 8.0348,34.2970,2, 76.7,2,34.3114,4, 74.05,2, 46.97,2,32.04,2,0.00,2,2.36,2, -999,9, -999,9,-999.0,9,-999.0,9,-999.0,9,-999,-999,9,-999,9, 7.9916,2,26.7229,2, 8.0356,2
49UP20140609_3,   P10,56,1,26,84,2,20140804,0526, 730,13.1692,149.3265,5907, 473.0, 7.5505,34.3888,2, 65.1,2,34.3909,2, 65.07,2, 52.66,2,34.20,2,0.00,2,2.49,2, -999,9, -999,9,-999.0,9,-999.0,9,-999.0,9,-999,-999,9,-999,9, 7.5037,2,26.8664,2, 7.5504,2
49UP20140609_3,   P10,56,1,25,98,2,20140804,0526, 727,13.1692,149.3265,5907, 573.9, 6.6060,34.4650,2, 64.7,2,34.4655,2, 64.84,2, 62.49,2,36.44,2,0.00,2,2.64,2, -999,9, -999,9,-999.0,9,-999.0,9,-999.0,9,-999,-999,9,-999,9, 6.5530,2,27.0580,2, 6.6077,2
49UP20140609_3,   P10,56,1,24,110,2,20140804,0526, 724,13.1692,149.3265,5907, 675.2, 5.9980,34.4878,2, 66.3,2,34.4878,2, 66.03,6, 70.13,6,37.58,6,0.00,6,2.71,6, -999,9, -999,9,-999.0,9,-999.0,9,-999.0,9,-999,-999,9,-999,9, 5.9382,2,27.1557,2, 5.9978,2
49UP20140609_3,   P10,56,1,23,96,2,20140804,0526, 721,13.1692,149.3265,5907, 775.4, 5.4570,34.5054,2, 66.5,2,34.5060,2, 66.70,2, 78.25,2,38.54,2,0.00,2,2.78,2, -999,9, -999,9,-999.0,9,-999.0,9,-999.0,9,-999,-999,9,-999,9, 5.3910,2,27.2371,2, 5.4596,2
49UP20140609_3,   P10,56,1,22,111,2,20140804,0526, 719,13.1692,149.3265,5907, 876.8, 4.9357,34.5207,2, 67.6,2,34.5217,2, 67.48,2, 87.10,2,39.18,2,0.00,2,2.83,2, -999,9, -999,9,-999.0,9,-999.0,9,-999.0,9,-999,-999,9,-999,9, 4.8638,2,27.3109,2, 4.9359,2
49UP20140609_3,   P10,56,1,21,78,2,20140804,0526, 716,13.1692,149.3265,5907, 978.0, 4.5931,34.5301,2, 69.7,2,34.5314,6, 69.36,2, 93.43,2,39.55,2,0.00,2,2.84,2, -999,9, -999,9,-999.0,9,-999.0,9,-999.0,9,-999,-999,9,-999,9, 4.5147,2,27.3574,2, 4.5940,2
49UP20140609_3,   P10,56,1,20,93,2,20140804,0526, 713,13.1692,149.3265,5907,1140.2, 3.9618,34.5499,2, 75.3,2,34.5500,2, 75.13,2,105.94,2,39.68,2,0.00,2,2.85,2, -999,9, -999,9,-999.0,9,-999.0,9,-999.0,9,-999,-999,9,-999,9, 3.8746,2,27.4410,2, 3.9618,2
49UP20140609_3,   P10,56,1,19,92,2,20140804,0526, 708,13.1692,149.3265,5907,1343.1, 3.3524,34.5706,2, 82.7,2,34.5708,2, 82.71,2,118.74,2,39.62,2,0.00,2,2.84,2, -999,9, -999,9,-999.0,9,-999.0,9,-999.0,9,-999,-999,9,-999,9, 3.2539,2,27.5186,2, 3.3522,2
49UP20140609_3,   P10,56,1,18,101,3,20140804,0526, 704,13.1692,149.3265,5907,1545.0, 2.8749,34.5901,2, 91.1,2,34.5915,4, 91.43,2,127.96,2,39.30,2,0.00,2,2.80,2, -999,9, -999,9,-999.0,9,-999.0,9,-999.0,9,-999,-999,9,-999,9, 2.7648,2,27.5791,2, 2.8748,2
49UP20140609_3,   P10,56,1,17,90,2,20140804,0526, 700,13.1692,149.3265,5907,1747.4, 2.5233,34.6077,2, 99.7,2,34.6089,2, 99.49,2,134.20,2,38.97,2,0.00,2,2.76,2, -999,9, -999,9,-999.0,9,-999.0,9,-999.0,9,-999,-999,9,-999,9, 2.4006,2,27.6247,2, 2.5234,2
49UP20140609_3,   P10,56,1,16,89,3,20140804,0526, 656,13.1692,149.3265,5907,1951.1, 2.2694,34.6219,2,106.7,2,34.6229,2,106.58,2,138.63,2,38.55,2,0.00,2,2.73,2, -999,9, -999,9,-999.0,9,-999.0,9,-999.0,9,-999,-999,9,-999,9, 2.1331,2,27.6581,2, 2.2693,2
49UP20140609_3,   P10,56,1,15,88,2,20140804,0526, 651,13.1692,149.3265,5907,2154.1, 2.0570,34.6330,2,111.6,2,34.6333,2,111.80,2,143.44,2,38.45,2,0.00,2,2.71,2, -999,9, -999,9,-999.0,9,-999.0,9,-999.0,9,-999,-999,9,-999,9, 1.9065,2,27.6850,2, 2.0573,2
49UP20140609_3,   P10,56,1,14,999,2,20140804,0526, 646,13.1692,149.3265,5907,2357.6, 1.9023,34.6453,2,116.9,2,34.6455,6,116.86,2,146.34,2,38.20,2,0.00,2,2.69,2, -999,9, -999,9,-999.0,9,-999.0,9,-999.0,9,-999,-999,9,-999,9, 1.7366,2,27.7079,2, 1.9030,2
49UP20140609_3,   P10,56,1,13,667,2,20140804,0526, 641,13.1692,149.3265,5907,2560.6, 1.7796,34.6544,2,124.1,2,34.6546,2,123.88,2,146.70,2,37.68,2,0.00,2,2.65,2, -999,9, -999,9,-999.0,9,-999.0,9,-999.0,9,-999,-999,9,-999,9, 1.5980,2,27.7256,2, 1.7796,2
49UP20140609_3,   P10,56,1,12,74,2,20140804,0526, 637,13.1692,149.3265,5907,2765.4, 1.7021,34.6610,2,128.6,2,34.6613,2,128.92,2,147.60,2,37.48,2,0.00,2,2.62,2, -999,9, -999,9,-999.0,9,-999.0,9,-999.0,9,-999,-999,9,-999,9, 1.5031,2,27.7379,2, 1.7026,2
49UP20140609_3,   P10,56,1,11,268,2,20140804,0526, 632,13.1692,149.3265,5907,2969.0, 1.6368,34.6665,2,134.6,2,34.6662,2,134.10,2,147.20,2,37.07,2,0.00,2,2.60,2, -999,9, -999,9,-999.0,9,-999.0,9,-999.0,9,-999,-999,9,-999,9, 1.4200,2,27.7484,2, 1.6369,2
49UP20140609_3,   P10,56,1,10,267,2,20140804,0526, 626,13.1692,149.3265,5907,3214.0, 1.5810,34.6716,2,139.8,2,34.6717,2,139.37,2,146.45,2,36.67,2,0.00,2,2.57,2, -999,9, -999,9,-999.0,9,-999.0,9,-999.0,9,-999,-999,9,-999,9, 1.3416,2,27.7580,2, 1.5809,2
49UP20140609_3,   P10,56,1, 8,81,2,20140804,0526, 621,13.1692,149.3265,5907,3468.5, 1.5350,34.6767,2,145.6,2,34.6785,4,145.44,6,145.30,6,36.34,6,0.00,6,2.54,6, -999,9, -999,9,-999.0,9,-999.0,9,-999.0,9,-999,-999,9,-999,9, 1.2713,2,27.7671,2, 1.5350,2
49UP20140609_3,   P10,56,1, 7,516,2,20140804,0526, 610,13.1692,149.3265,5907,3981.1, 1.4896,34.6839,2,155.6,2,34.6838,2,155.46,2,141.62,2,35.63,2,0.00,2,2.48,2, -999,9, -999,9,-999.0,9,-999.0,9,-999.0,9,-999,-999,9,-999,9, 1.1731,2,27.7797,2, 1.4896,2
49UP20140609_3,   P10,56,1, 6,113,2,20140804,0526, 600,13.1692,149.3265,5907,4492.9, 1.4645,34.6901,2,164.9,2,34.6894,2,164.93,2,137.07,2,34.95,2,0.00,2,2.43,2, -999,9, -999,9,-999.0,9,-999.0,9,-999.0,9,-999,-999,9,-999,9, 1.0915,2,27.7902,2, 1.4648,2
49UP20140609_3,   P10,56,1, 4,77,2,20140804,0526, 549,13.1692,149.3265,5907,5007.7, 1.4707,34.6938,2,171.9,2,34.6945,2,171.76,2,133.57,2,34.37,2,0.00,2,2.39,2, -999,9, -999,9,-999.0,9,-999.0,9,-999.0,9,-999,-999,9,-999,9, 1.0365,2,27.7969,2, 1.4707,2
49UP20140609_3,   P10,56,1, 9,94,2,20140804,0526, 550,13.1692,149.3265,5907,5008.5, 1.4711,34.6938,2,171.9,2,34.6939,2,171.73,2,133.83,2,34.48,2,0.00,2,2.39,2, -999,9, -999,9,-999.0,9,-999.0,9,-999.0,9,-999,-999,9,-999,9, 1.0368,2,27.7968,2, 1.4711,2
49UP20140609_3,   P10,56,1, 5,518,2,20140804,0526, 549,13.1692,149.3265,5907,5008.7, 1.4711,34.6938,2,171.9,2,34.6944,2,171.61,2,133.76,2,34.43,2,0.00,2,2.40,2, -999,9, -999,9,-999.0,9,-999.0,9,-999.0,9,-999,-999,9,-999,9, 1.0368,2,27.7968,2, 1.4711,2
49UP20140609_3,   P10,56,1, 3,104,2,20140804,0526, 538,13.1692,149.3265,5907,5522.5, 1.5106,34.6957,2,175.1,2,34.6955,6,174.77,2,132.10,2,34.22,2,0.00,2,2.38,2, -999,9, -999,9,-999.0,9,-999.0,9,-999.0,9,-999,-999,9,-999,9, 1.0107,2,27.8001,2, 1.5107,2
49UP20140609_3,   P10,56,1, 2,75,2,20140804,0526, 533,13.1692,149.3265,5907,5779.7, 1.5390,34.6960,2,175.7,2,34.6965,2,175.97,6,131.51,6,34.10,6,0.00,6,2.37,6, -999,9, -999,9,-999.0,9,-999.0,9,-999.0,9,-999,-999,9,-999,9, 1.0048,2,27.8007,2, 1.5391,2
49UP20140609_3,   P10,56,1, 1,997,2,20140804,0526, 527,13.1692,149.3265,5907,6062.5, 1.5723,34.6961,2,176.3,2,34.6964,6,176.34,2,131.55,2,34.19,2,0.00,2,2.37,2, -999,9, -999,9,-999.0,9,-999.0,9,-999.0,9,-999,-999,9,-999,9, 0.9992,2,27.8012,2, 1.5721,2
49UP20140609_3,   P10,57,1, 0,BUC,2,20140804,1313,1506,12.4922,149.3388,5876,   0.0,29.6176,34.1927,2,195.2,2,34.1965,2,194.39,2,  1.06,2, 0.05,2,0.00,2,0.07,2, -999,9, -999,9,1912.7,2,2246.8,2,8.1259,2,25,0.04,2,0.02,2,29.6170,2,21.2510,2,   -999,9
49UP20140609_3,   P10,57,1,36,109,2,20140804,1313,1534,12.4922,149.3388,5876,  10.4,29.6190,34.1917,2,195.1,2,34.1905,2,194.47,6,  0.99,6, 0.05,6,0.00,6,0.06,6, -999,9, -999,9,1913.4,2,2246.6,2,8.1274,2,25,0.04,2,0.02,2,29.6164,2,21.2504,2,29.6168,2
49UP20140609_3,   P10,57,1,35,112,2,20140804,1313,1530,12.4922,149.3388,5876,  54.6,28.1420,35.1486,2,208.5,2,35.1238,4,207.59,2,  1.03,2, 0.07,2,0.00,2,0.09,2, -999,9, -999,9,1969.8,2,2310.7,2,8.1106,2,25,0.06,2,0.03,2,28.1291,2,22.4641,2,28.1512,2
49UP20140609_3,   P10,57,1,34,83,2,20140804,1313,1529,12.4922,149.3388,5876, 100.4,26.9949,35.2346,2,201.7,2,35.2315,2,201.35,2,  1.14,2, 0.03,2,0.00,2,0.08,2, -999,9, -999,9,1984.1,2,2316.3,2,8.0995,2,25,0.14,2,0.13,2,26.9718,2,22.9035,2,26.9931,2
49UP20140609_3,   P10,57,1,33,107,2,20140804,1313,1527,12.4922,149.3388,5876, 152.6,23.4117,35.2403,2,185.5,2,35.2396,2,185.47,2,  1.52,2, 0.82,2,0.03,2,0.20,2, -999,9, -999,9,2041.0,2,2320.7,2,8.0109,2,25,0.05,2,0.21,2,23.3801,2,24.0056,2,23.4143,2
49UP20140609_3,   P10,57,1,32,105,2,20140804,1313,1525,12.4922,149.3388,5876, 203.2,17.2075,34.7064,2,166.1,2,34.7125,2,165.69,2,  6.12,2, 7.67,2,0.01,2,0.64,2, -999,9, -999,9,2091.3,2,2286.3,2,7.8636,2,25,0.01,2,0.03,2,17.1737,2,25.2475,2,17.2067,2
49UP20140609_3,   P10,57,1,31,515,2,20140804,1313,1523,12.4922,149.3388,5876, 252.5,13.8631,34.4616,2,151.8,2,34.4596,2,151.34,2, 13.61,2,14.24,2,0.01,2,1.08,2, -999,9, -999,9,2124.0,2,2275.3,2,7.7648,2,25,-999,9,-999,9,13.8270,2,25.8071,2,13.8651,2
49UP20140609_3,   P10,57,1,30,97,2,20140804,1313,1521,12.4922,149.3388,5876, 304.6,10.6088,34.3204,2,111.9,2,34.3231,2,110.33,2, 27.19,2,23.81,2,0.00,2,1.79,2, -999,9, -999,9,2183.9,2,2278.0,2,7.6168,2,25,-999,9,-999,9,10.5722,2,26.3224,2,10.6020,2
49UP20140609_3,   P10,57,1,29,102,2,20140804,1313,1519,12.4922,149.3388,5876, 353.2, 9.1930,34.3191,2, 86.2,2,34.3121,2, 86.36,2, 38.15,2,28.87,2,0.00,2,2.15,2, -999,9, -999,9,2219.1,2,2288.3,2,7.5402,2,25,-999,9,-999,9, 9.1541,2,26.5603,2, 9.1908,2
49UP20140609_3,   P10,57,1,28,108,2,20140804,1313,1518,12.4922,149.3388,5876, 403.8, 8.1091,34.3082,2, 76.5,2,34.3086,2, 76.35,2, 47.17,2,31.82,2,0.00,2,2.34,2, -999,9, -999,9,2241.0,2,2296.8,2,7.5044,2,25,-999,9,-999,9, 8.0678,2,26.7204,2, 8.1049,2
49UP20140609_3,   P10,57,1,27,998,2,20140804,1313,1516,12.4922,149.3388,5876, 454.5, 7.6170,34.3418,2, 70.7,2,34.6725,4, 70.78,2, 52.17,2,33.32,2,0.00,2,2.44,2, -999,9, -999,9,2252.5,2,2305.5,2,7.4892,6,25,-999,9,-999,9, 7.5720,2,26.8196,2, 7.6183,2
49UP20140609_3,   P10,57,1,26,84,2,20140804,1313,1514,12.4922,149.3388,5876, 504.7, 7.1176,34.4220,2, 65.5,2,34.4223,2, 65.45,2, 57.50,2,35.18,2,0.00,2,2.56,2, -999,9, -999,9,2265.3,6,2316.9,6,7.4787,2,25,-999,9,-999,9, 7.0693,2,26.9538,2, 7.1172,2
49UP20140609_3,   P10,57,1,25,98,2,20140804,1313,1511,12.4922,149.3388,5876, 606.1, 6.2581,34.4833,2, 67.8,2,34.4827,2, 67.09,2, 66.31,2,37.01,2,0.00,2,2.67,2, -999,9, -999,9,2281.5,2,2330.9,2,7.4782,2,25,-999,9,-999,9, 6.2035,2,27.1183,2, 6.2580,2
49UP20140609_3,   P10,57,1,24,110,2,20140804,1313,1508,12.4922,149.3388,5876, 706.5, 5.6204,34.4995,2, 72.3,2,34.4994,2, 72.32,2, 75.13,2,37.74,2,0.00,2,2.72,2, -999,9, -999,9,2292.2,2,2340.5,2,7.4840,2,25,-999,9,-999,9, 5.5597,2,27.2120,2, 5.6200,2
49UP20140609_3,   P10,57,1,23,96,2,20140804,1313,1506,12.4922,149.3388,5876, 807.4, 5.0392,34.5167,2, 73.3,2,34.5166,2, 73.21,2, 85.08,2,38.55,2,0.00,2,2.78,2, -999,9, -999,9,2303.1,2,2352.7,2,7.4761,2,25,-999,9,-999,9, 4.9728,2,27.2953,2, 5.0404,2
49UP20140609_3,   P10,57,1,22,111,2,20140804,1313,1503,12.4922,149.3388,5876, 908.4, 4.6510,34.5360,2, 68.1,2,34.5368,6, 68.30,2, 91.96,2,39.79,2,0.00,2,2.86,2, -999,9, -999,9,2313.1,2,2359.9,2,7.4638,2,25,-999,9,-999,9, 4.5783,2,27.3551,2, 4.6505,2
49UP20140609_3,   P10,57,1,21,78,2,20140804,1313,1500,12.4922,149.3388,5876,1009.7, 4.2621,34.5432,2, 71.9,2,34.5418,4, 71.67,2,100.33,2,39.78,2,0.00,2,2.86,2, -999,9, -999,9,2323.6,2,2367.6,2,7.4713,2,25,-999,9,-999,9, 4.1835,2,27.4035,2, 4.2606,2
49UP20140609_3,   P10,57,1,20,93,2,20140804,1313,1455,12.4922,149.3388,5876,1211.2, 3.5527,34.5614,2, 82.1,2,34.5615,2, 81.64,2,114.64,2,39.47,2,0.00,2,2.84,2, -999,9, -999,9,2332.6,2,2383.3,2,7.4832,6,25,-999,9,-999,9, 3.4632,2,27.4912,2, 3.5519,2
49UP20140609_3,   P10,57,1,19,92,2,20140804,1313,1450,12.4922,149.3388,5876,1413.0, 2.9963,34.5845,2, 88.7,2,34.5849,2, 88.70,2,125.87,2,39.44,2,0.00,2,2.82,2, -999,9, -999,9,2340.1,6,2394.9,6,7.4895,2,25,-999,9,-999,9, 2.8957,2,27.5629,2, 2.9963,2
49UP20140609_3,   P10,57,1,18,101,2,20140804,1313,1446,12.4922,149.3388,5876,1617.4, 2.6242,34.6036,2, 97.1,2,34.6038,2, 96.75,6,133.11,6,39.18,6,0.00,6,2.79,6, -999,9, -999,9,2343.2,2,2404.3,2,7.5074,2,25,-999,9,-999,9, 2.5110,2,27.6120,2, 2.6240,2
49UP20140609_3,   P10,57,1,17,90,2,20140804,1313,1442,12.4922,149.3388,5876,1818.3, 2.3559,34.6183,2,104.7,2,34.6181,2,104.56,2,137.63,2,38.72,2,0.00,2,2.75,2, -999,9, -999,9,2343.0,2,2408.3,2,7.5113,2,25,-999,9,-999,9, 2.2295,2,27.6474,2, 2.3556,2
49UP20140609_3,   P10,57,1,16,89,2,20140804,1313,1437,12.4922,149.3388,5876,2022.9, 2.1808,34.6284,2,110.1,2,34.6286,2,109.95,2,140.26,2,38.41,2,0.00,2,2.72,2, -999,9, -999,9,2343.7,2,2413.1,2,7.5226,2,25,-999,9,-999,9, 2.0396,2,27.6708,2, 2.1808,2
49UP20140609_3,   P10,57,1,15,88,2,20140804,1313,1433,12.4922,149.3388,5876,2223.5, 2.0257,34.6398,2,116.5,2,34.6397,2,116.36,2,142.58,2,38.16,2,0.00,2,2.69,2, -999,9, -999,9,2344.9,2,2415.1,2,7.5297,2,25,-999,9,-999,9, 1.8697,2,27.6933,2, 2.0258,2
49UP20140609_3,   P10,57,1,14,999,2,20140804,1313,1429,12.4922,149.3388,5876,2426.7, 1.8768,34.6483,2,121.1,2,34.6486,2,121.08,2,145.47,2,37.88,2,0.00,2,2.68,2, -999,9, -999,9,2344.2,2,2416.4,2,7.5369,2,25,-999,9,-999,9, 1.7054,2,27.7127,2, 1.8767,2
49UP20140609_3,   P10,57,1,13,667,2,20140804,1313,1424,12.4922,149.3388,5876,2632.8, 1.7555,34.6566,2,125.8,2,34.6558,6,126.15,2,147.65,2,37.61,2,0.00,2,2.64,2, -999,9, -999,9,2342.5,2,2419.3,2,7.5460,2,25,-999,9,-999,9, 1.5677,2,27.7296,2, 1.7555,2
49UP20140609_3,   P10,57,1,12,74,2,20140804,1313,1420,12.4922,149.3388,5876,2835.7, 1.6756,34.6632,2,131.0,2,34.6625,2,130.99,2,148.16,2,37.39,2,0.00,2,2.62,2, -999,9, -999,9,2340.6,2,2420.8,2,7.5517,2,25,-999,9,-999,9, 1.4706,2,27.7420,2, 1.6757,2
49UP20140609_3,   P10,57,1,11,268,2,20140804,1313,1415,12.4922,149.3388,5876,3039.1, 1.6218,34.6680,2,136.3,2,34.6668,2,136.39,2,147.24,2,37.07,2,0.00,2,2.59,2, -999,9, -999,9,2338.0,2,2420.8,2,7.5636,2,25,-999,9,-999,9, 1.3986,2,27.7511,2, 1.6217,2
49UP20140609_3,   P10,57,1,10,267,2,20140804,1313,1410,12.4922,149.3388,5876,3294.4, 1.5656,34.6734,2,142.0,2,34.6733,2,142.10,2,146.80,2,36.65,2,0.00,2,2.56,2, -999,9, -999,9,2333.9,2,2417.6,2,7.5668,2,25,-999,9,-999,9, 1.3187,2,27.7611,2, 1.5655,2
49UP20140609_3,   P10,57,1, 9,94,2,20140804,1313,1405,12.4922,149.3388,5876,3550.1, 1.5211,34.6783,2,147.4,2,34.6777,2,147.19,2,145.67,2,36.30,2,0.00,2,2.54,2, -999,9, -999,9,2328.8,2,2417.7,2,7.5744,2,25,-999,9,-999,9, 1.2493,2,27.7699,2, 1.5212,2
49UP20140609_3,   P10,57,1, 8,81,2,20140804,1313,1359,12.4922,149.3388,5876,3804.7, 1.4940,34.6822,2,153.2,2,34.6816,2,153.25,2,142.97,2,35.90,2,0.00,2,2.50,2, -999,9, -999,9,2323.5,2,2415.5,2,7.5864,2,25,-999,9,-999,9, 1.1963,2,27.7767,2, 1.4940,2
49UP20140609_3,   P10,57,1, 7,516,2,20140804,1313,1354,12.4922,149.3388,5876,4061.4, 1.4716,34.6859,2,158.5,2,34.6852,2,157.99,6,140.72,6,35.54,6,0.00,6,2.48,6, -999,9, -999,9,2321.9,2,2414.7,2,7.5920,6,25,-999,9,-999,9, 1.1468,2,27.7831,2, 1.4718,2
49UP20140609_3,   P10,57,1, 6,113,2,20140804,1313,1344,12.4922,149.3388,5876,4575.6, 1.4550,34.6912,2,167.3,2,34.6907,6,167.24,2,136.09,2,34.82,2,0.00,2,2.42,2, -999,9, -999,9,2313.0,6,2408.9,6,7.6016,2,25,-999,9,-999,9, 1.0726,2,27.7923,2, 1.4548,2
49UP20140609_3,   P10,57,1, 5,518,2,20140804,1313,1333,12.4922,149.3388,5876,5089.1, 1.4727,34.6945,2,172.9,2,34.6939,2,172.56,2,133.50,2,34.47,2,0.00,2,2.39,2, -999,9, -999,9,2306.4,2,2405.3,2,7.6060,2,25,-999,9,-999,9, 1.0285,2,27.7980,2, 1.4727,2
49UP20140609_3,   P10,57,1, 4,77,2,20140804,1313,1328,12.4922,149.3388,5876,5346.5, 1.4923,34.6954,2,174.7,2,34.6950,2,174.67,6,132.21,6,34.22,6,0.00,6,2.38,6, -999,9, -999,9,2305.8,2,2403.9,2,7.6031,2,25,-999,9,-999,9, 1.0155,2,27.7996,2, 1.4923,2
49UP20140609_3,   P10,57,1, 3,104,3,20140804,1313,1322,12.4922,149.3388,5876,5604.4, 1.5186,34.6960,2,175.5,2,34.6956,2,175.24,2,132.12,2,34.20,2,0.00,2,2.38,2, -999,9, -999,9,2301.8,2,2403.2,2,7.6068,2,25,-999,9,-999,9, 1.0079,2,27.8005,2, 1.5186,2
49UP20140609_3,   P10,57,1, 2,75,2,20140804,1313,1317,12.4922,149.3388,5876,5860.7, 1.5484,34.6962,2,175.9,2,34.6965,6,175.71,2,131.63,2,34.13,2,0.00,2,2.37,2, -999,9, -999,9,2304.8,3,2401.5,2,7.6102,2,25,-999,9,-999,9, 1.0031,2,27.8010,2, 1.5484,2
49UP20140609_3,   P10,57,1, 1,997,2,20140804,1313,1313,12.4922,149.3388,5876,6023.0, 1.5626,34.6964,2,176.8,2,34.6966,2,175.88,2,131.47,2,34.13,2,0.00,2,2.37,2, -999,9, -999,9,2301.2,2,2402.7,2,7.6097,2,25,-999,9,-999,9, 0.9952,2,27.8017,2, 1.5628,2