BOTTLE,20230725CCHSIOADS
EXPOCODE,SECT_ID,STNNBR,CASTNO,SAMPNO,BTLNBR,BTLNBR_FLAG_W,DATE,TIME,BTL_TIME,LATITUDE,LONGITUDE,DEPTH,CTDPRS,CTDTMP,CTDSAL,CTDSAL_FLAG_W,CTDOXY,CTDOXY_FLAG_W,SALNTY,SALNTY_FLAG_W,OXYGEN,OXYGEN_FLAG_W,SILCAT,SILCAT_FLAG_W,NO2+NO3,NO2+NO3_FLAG_W,NITRIT,NITRIT_FLAG_W,PHSPHT,PHSPHT_FLAG_W,CFC-11,CFC-11_FLAG_W,CFC-12,CFC-12_FLAG_W,TCARBN,TCARBN_FLAG_W,ALKALI,ALKALI_FLAG_W,PH_TOT,PH_TOT_FLAG_W,PH_TMP,CHLORA,CHLORA_FLAG_W,PPHYTN,PPHYTN_FLAG_W,THETA,THETA_FLAG_W,SIG0,SIG0_FLAG_W,REFTMP,REFTMP_FLAG_W
,,,,,,,,,,,,METERS,DBAR,ITS-90,PSS-78,,UMOL/KG,,PSS-78,,UMOL/KG,,UMOL/KG,,UMOL/KG,,UMOL/KG,,UMOL/KG,,PMOL/KG,,PMOL/KG,,UMOL/KG,,UMOL/KG,,,,DEG C,UG/KG,,UG/KG,,ITS-90,,KG/M^3,,ITS-90,
49UP20140609_3,   P10,54,1, 0,BUC,2,20140803,1405,1557,14.4907,149.3138,5306,   0.0,29.7559,34.6118,2,195.2,2,   -999,9,194.86,2,  0.78,2, 0.00,2,0.00,2,0.08,2, -999,9, -999,9,-999.0,9,-999.0,9,-999.0,9,-999,-999,9,-999,9,29.7553,2,21.5184,2,   -999,9
49UP20140609_3,   P10,54,1,36,109,2,20140803,1405,1619,14.4907,149.3138,5306,  10.9,29.7634,34.6116,2,195.0,2,34.6085,2,194.57,2,  0.81,2, 0.00,2,0.00,2,0.07,2, -999,9, -999,9,-999.0,9,-999.0,9,-999.0,9,-999,-999,9,-999,9,29.7607,2,21.5165,2,29.7625,2
49UP20140609_3,   P10,54,1,35,112,2,20140803,1405,1616,14.4907,149.3138,5306,  51.5,29.0599,34.9162,2,205.5,2,34.9289,4,205.98,2,  0.87,2, 0.00,2,0.00,2,0.07,2, -999,9, -999,9,-999.0,9,-999.0,9,-999.0,9,-999,-999,9,-999,9,29.0475,2,21.9853,2,29.0599,2
49UP20140609_3,   P10,54,1,34,83,2,20140803,1405,1613,14.4907,149.3138,5306, 103.2,27.2970,35.2311,2,204.2,2,35.2325,2,204.22,2,  0.83,2, 0.00,2,0.00,2,0.08,2, -999,9, -999,9,-999.0,9,-999.0,9,-999.0,9,-999,-999,9,-999,9,27.2731,2,22.8043,2,27.2965,2
49UP20140609_3,   P10,54,1,33,107,2,20140803,1405,1612,14.4907,149.3138,5306, 152.3,24.7893,35.2768,2,194.1,2,35.2755,2,193.62,2,  1.07,2, 0.28,2,0.26,2,0.15,2, -999,9, -999,9,-999.0,9,-999.0,9,-999.0,9,-999,-999,9,-999,9,24.7564,2,23.6244,2,24.7894,2
49UP20140609_3,   P10,54,1,32,105,2,20140803,1405,1610,14.4907,149.3138,5306, 203.6,20.6839,35.0471,2,176.7,2,35.0445,2,177.05,6,  2.49,6, 2.99,6,0.01,6,0.34,6, -999,9, -999,9,-999.0,9,-999.0,9,-999.0,9,-999,-999,9,-999,9,20.6454,2,24.6257,2,20.6819,2
49UP20140609_3,   P10,54,1,31,515,2,20140803,1405,1608,14.4907,149.3138,5306, 252.7,16.5345,34.6575,2,184.3,2,34.6458,4,183.26,2,  6.00,2, 7.35,2,0.01,2,0.55,2, -999,9, -999,9,-999.0,9,-999.0,9,-999.0,9,-999,-999,9,-999,9,16.4937,2,25.3703,2,16.5110,2
49UP20140609_3,   P10,54,1,30,97,2,20140803,1405,1606,14.4907,149.3138,5306, 303.0,13.0874,34.3690,2,155.9,2,34.3637,2,155.58,2, 14.48,2,14.79,2,0.00,2,1.14,2, -999,9, -999,9,-999.0,9,-999.0,9,-999.0,9,-999,-999,9,-999,9,13.0457,2,25.8949,2,13.0906,2
49UP20140609_3,   P10,54,1,29,102,2,20140803,1405,1604,14.4907,149.3138,5306, 353.2,10.7385,34.2686,2,136.8,2,34.2667,2,135.83,2, 24.88,2,21.09,2,0.00,2,1.58,2, -999,9, -999,9,-999.0,9,-999.0,9,-999.0,9,-999,-999,9,-999,9,10.6956,2,26.2602,2,10.7388,2
49UP20140609_3,   P10,54,1,28,108,2,20140803,1405,1602,14.4907,149.3138,5306, 404.2, 8.7781,34.3009,2, 89.0,2,34.3005,2, 88.75,2, 40.50,2,29.37,2,0.00,2,2.17,2, -999,9, -999,9,-999.0,9,-999.0,9,-999.0,9,-999,-999,9,-999,9, 8.7347,2,26.6126,2, 8.7775,2
49UP20140609_3,   P10,54,1,27,998,2,20140803,1405,1600,14.4907,149.3138,5306, 454.5, 8.1188,34.3623,2, 71.2,2,34.3639,2, 71.25,2, 47.24,2,32.43,2,0.00,2,2.38,2, -999,9, -999,9,-999.0,9,-999.0,9,-999.0,9,-999,-999,9,-999,9, 8.0721,2,26.7623,2, 8.1185,2
49UP20140609_3,   P10,54,1,26,84,2,20140803,1405,1558,14.4907,149.3138,5306, 504.3, 7.3731,34.4131,2, 66.2,2,34.4145,2, 66.12,2, 54.52,2,34.62,2,0.00,2,2.52,2, -999,9, -999,9,-999.0,9,-999.0,9,-999.0,9,-999,-999,9,-999,9, 7.3239,2,26.9112,2, 7.3725,2
49UP20140609_3,   P10,54,1,25,98,2,20140803,1405,1556,14.4907,149.3138,5306, 605.5, 6.5744,34.4629,2, 67.4,2,34.4635,2, 67.03,2, 62.71,2,36.18,2,0.00,2,2.63,2, -999,9, -999,9,-999.0,9,-999.0,9,-999.0,9,-999,-999,9,-999,9, 6.5184,2,27.0609,2, 6.5756,2
49UP20140609_3,   P10,54,1,24,110,2,20140803,1405,1553,14.4907,149.3138,5306, 706.3, 6.0180,34.4887,2, 69.6,2,34.4880,2, 69.81,2, 69.36,2,37.19,2,0.00,2,2.69,2, -999,9, -999,9,-999.0,9,-999.0,9,-999.0,9,-999,-999,9,-999,9, 5.9552,2,27.1543,2, 6.0180,2
49UP20140609_3,   P10,54,1,23,96,2,20140803,1405,1550,14.4907,149.3138,5306, 807.5, 5.5630,34.5026,2, 68.9,2,34.5026,2, 68.63,2, 76.46,2,38.11,2,0.00,2,2.75,2, -999,9, -999,9,-999.0,9,-999.0,9,-999.0,9,-999,-999,9,-999,9, 5.4934,2,27.2225,2, 5.5621,2
49UP20140609_3,   P10,54,1,22,111,2,20140803,1405,1547,14.4907,149.3138,5306, 908.1, 5.0824,34.5185,2, 69.4,2,34.5185,2, 69.12,6, 84.30,6,38.93,6,0.00,6,2.81,6, -999,9, -999,9,-999.0,9,-999.0,9,-999.0,9,-999,-999,9,-999,9, 5.0068,2,27.2927,2, 5.0820,2
49UP20140609_3,   P10,54,1,21,78,2,20140803,1405,1544,14.4907,149.3138,5306,1010.4, 4.7347,34.5304,2, 67.7,2,34.5305,2, 67.70,2, 90.90,2,39.53,2,0.00,2,2.86,2, -999,9, -999,9,-999.0,9,-999.0,9,-999.0,9,-999,-999,9,-999,9, 4.6524,2,27.3424,2, 4.7341,2
49UP20140609_3,   P10,54,1,20,93,2,20140803,1405,1539,14.4907,149.3138,5306,1211.8, 4.0432,34.5523,2, 73.0,2,34.5523,2, 72.72,2,104.22,2,39.91,2,0.00,2,2.88,2, -999,9, -999,9,-999.0,9,-999.0,9,-999.0,9,-999,-999,9,-999,9, 3.9491,2,27.4353,2, 4.0429,2
49UP20140609_3,   P10,54,1,19,92,2,20140803,1405,1534,14.4907,149.3138,5306,1414.7, 3.3078,34.5705,2, 84.4,2,34.5708,6, 84.79,2,119.64,2,39.50,2,0.00,2,2.83,2, -999,9, -999,9,-999.0,9,-999.0,9,-999.0,9,-999,-999,9,-999,9, 3.2037,2,27.5233,2, 3.3077,2
49UP20140609_3,   P10,54,1,18,101,2,20140803,1405,1530,14.4907,149.3138,5306,1617.2, 2.8205,34.5847,2, 91.0,2,34.5863,2, 91.31,2,130.11,2,39.28,2,0.00,2,2.80,2, -999,9, -999,9,-999.0,9,-999.0,9,-999.0,9,-999,-999,9,-999,9, 2.7050,2,27.5801,2, 2.8205,2
49UP20140609_3,   P10,54,1,17,90,2,20140803,1405,1525,14.4907,149.3138,5306,1819.9, 2.5565,34.6019,2, 96.8,2,34.6019,2, 96.76,2,135.10,2,39.07,2,0.00,2,2.79,2, -999,9, -999,9,-999.0,9,-999.0,9,-999.0,9,-999,-999,9,-999,9, 2.4273,2,27.6177,2, 2.5564,2
49UP20140609_3,   P10,54,1,16,89,2,20140803,1405,1520,14.4907,149.3138,5306,2024.2, 2.2440,34.6199,2,105.4,2,34.6205,2,105.60,2,140.52,2,38.69,2,0.00,2,2.75,2, -999,9, -999,9,-999.0,9,-999.0,9,-999.0,9,-999,-999,9,-999,9, 2.1019,2,27.6591,2, 2.2443,2
49UP20140609_3,   P10,54,1,15,88,2,20140803,1405,1515,14.4907,149.3138,5306,2226.8, 2.0522,34.6327,2,111.5,2,34.6332,2,111.39,6,144.01,6,38.47,6,0.00,6,2.72,6, -999,9, -999,9,-999.0,9,-999.0,9,-999.0,9,-999,-999,9,-999,9, 1.8955,2,27.6856,2, 2.0521,2
49UP20140609_3,   P10,54,1,14,999,2,20140803,1405,1510,14.4907,149.3138,5306,2430.2, 1.9261,34.6444,2,116.4,2,34.6450,2,116.27,2,146.01,2,38.19,2,0.00,2,2.70,2, -999,9, -999,9,-999.0,9,-999.0,9,-999.0,9,-999,-999,9,-999,9, 1.7536,2,27.7059,2, 1.9260,2
49UP20140609_3,   P10,54,1,13,667,2,20140803,1405,1505,14.4907,149.3138,5306,2631.6, 1.8306,34.6520,2,120.8,2,34.6516,2,120.48,2,147.72,2,37.96,2,0.00,2,2.68,2, -999,9, -999,9,-999.0,9,-999.0,9,-999.0,9,-999,-999,9,-999,9, 1.6415,2,27.7205,2, 1.8305,2
49UP20140609_3,   P10,54,1,12,74,2,20140803,1405,1500,14.4907,149.3138,5306,2835.9, 1.7503,34.6595,2,126.1,2,34.6597,2,126.01,2,148.39,2,37.62,2,0.00,2,2.65,2, -999,9, -999,9,-999.0,9,-999.0,9,-999.0,9,-999,-999,9,-999,9, 1.5438,2,27.7337,2, 1.7504,2
49UP20140609_3,   P10,54,1,11,268,2,20140803,1405,1455,14.4907,149.3138,5306,3040.3, 1.6846,34.6647,2,130.5,2,34.6650,2,130.36,6,148.84,6,37.39,6,0.00,6,2.63,6, -999,9, -999,9,-999.0,9,-999.0,9,-999.0,9,-999,-999,9,-999,9, 1.4599,2,27.7440,2, 1.6847,2
49UP20140609_3,   P10,54,1,10,267,3,20140803,1405,1449,14.4907,149.3138,5306,3294.6, 1.6176,34.6703,2,136.4,2,34.6707,6,136.35,2,148.90,2,36.84,2,0.00,2,2.59,2, -999,9, -999,9,-999.0,9,-999.0,9,-999.0,9,-999,-999,9,-999,9, 1.3694,2,27.7550,2, 1.6176,2
49UP20140609_3,   P10,54,1, 8,81,2,20140803,1405,1444,14.4907,149.3138,5306,3549.3, 1.5601,34.6758,2,142.7,2,34.6754,2,142.61,2,147.68,2,36.55,2,0.00,2,2.56,2, -999,9, -999,9,-999.0,9,-999.0,9,-999.0,9,-999,-999,9,-999,9, 1.2874,2,27.7652,2, 1.5602,2
49UP20140609_3,   P10,54,1, 7,516,2,20140803,1405,1438,14.4907,149.3138,5306,3805.9, 1.5324,34.6795,2,148.0,2,34.6795,2,147.76,2,145.83,2,36.18,2,0.00,2,2.53,2, -999,9, -999,9,-999.0,9,-999.0,9,-999.0,9,-999,-999,9,-999,9, 1.2335,2,27.7719,2, 1.5324,2
49UP20140609_3,   P10,54,1, 6,113,2,20140803,1405,1433,14.4907,149.3138,5306,4061.0, 1.4930,34.6841,2,155.4,2,34.6838,6,155.28,2,142.50,2,35.66,2,0.00,2,2.49,2, -999,9, -999,9,-999.0,9,-999.0,9,-999.0,9,-999,-999,9,-999,9, 1.1676,2,27.7801,2, 1.4929,2
49UP20140609_3,   P10,54,1, 9,94,2,20140803,1405,1423,14.4907,149.3138,5306,4573.8, 1.4607,34.6907,2,166.0,2,34.6907,2,165.86,2,137.48,2,34.93,2,0.00,2,2.43,2, -999,9, -999,9,-999.0,9,-999.0,9,-999.0,9,-999,-999,9,-999,9, 1.0784,2,27.7915,2, 1.4608,2
49UP20140609_3,   P10,54,1, 5,518,2,20140803,1405,1423,14.4907,149.3138,5306,4574.1, 1.4609,34.6906,2,165.9,2,34.6906,2,165.93,2,137.20,2,34.86,2,0.00,2,2.43,2, -999,9, -999,9,-999.0,9,-999.0,9,-999.0,9,-999,-999,9,-999,9, 1.0785,2,27.7915,2, 1.4609,2
49UP20140609_3,   P10,54,1, 4,77,2,20140803,1405,1423,14.4907,149.3138,5306,4574.2, 1.4608,34.6907,2,166.0,2,34.6906,2,165.90,2,137.25,2,34.89,2,0.00,2,2.43,2, -999,9, -999,9,-999.0,9,-999.0,9,-999.0,9,-999,-999,9,-999,9, 1.0784,2,27.7915,2, 1.4609,2
49UP20140609_3,   P10,54,1, 3,104,2,20140803,1405,1417,14.4907,149.3138,5306,4830.8, 1.4600,34.6928,2,169.8,2,34.6932,2,169.75,2,135.24,2,34.68,2,0.00,2,2.41,2, -999,9, -999,9,-999.0,9,-999.0,9,-999.0,9,-999,-999,9,-999,9, 1.0475,2,27.7954,2, 1.4598,2
49UP20140609_3,   P10,54,1, 2,75,2,20140803,1405,1412,14.4907,149.3138,5306,5088.5, 1.4655,34.6948,2,173.2,2,34.6964,4,173.48,2,133.06,2,34.31,2,0.00,2,2.39,2, -999,9, -999,9,-999.0,9,-999.0,9,-999.0,9,-999,-999,9,-999,9, 1.0216,2,27.7987,2, 1.4655,2
49UP20140609_3,   P10,54,1, 1,997,2,20140803,1405,1406,14.4907,149.3138,5306,5395.4, 1.4827,34.6961,2,175.8,2,34.6966,6,175.71,2,132.01,2,34.20,2,0.00,2,2.38,2, -999,9, -999,9,-999.0,9,-999.0,9,-999.0,9,-999,-999,9,-999,9, 1.0000,2,27.8012,2, 1.4827,2
49UP20140609_3,   P10,55,1, 0,BUC,2,20140803,2141,2345,13.8278,149.3097,5942,   0.0,29.6642,34.6560,2,195.0,2,34.6673,2,193.94,2,  0.80,2, 0.00,2,0.00,2,0.08,2, -999,9, -999,9,1943.1,2,2277.8,2,8.1219,2,25,0.06,2,0.03,2,29.6636,2,21.5827,2,   -999,9
49UP20140609_3,   P10,55,1,36,109,2,20140803,2141,   4,13.8278,149.3097,5942,  10.8,29.6016,34.6511,2,194.8,2,34.6508,2,194.10,2,  0.89,2, 0.00,2,0.00,2,0.07,2,1.416,2,0.882,2,1938.9,2,2277.0,2,8.1237,2,25,0.06,2,0.02,2,29.5989,2,21.6009,2,29.6017,2
49UP20140609_3,   P10,55,1,35,112,2,20140803,2141,   0,13.8278,149.3097,5942,  49.3,28.9523,34.9353,2,203.6,2,34.9230,4,202.89,2,  0.93,2, 0.00,2,0.00,2,0.08,2,1.524,2,0.912,2,1956.1,2,2294.6,2,8.1158,2,25,0.08,2,0.05,2,28.9404,2,22.0354,2,28.9080,2
49UP20140609_3,   P10,55,1,34,83,2,20140803,2141,2359,13.8278,149.3097,5942, 100.3,27.1276,35.2088,2,202.7,2,35.2098,2,203.37,2,  0.93,2, 0.00,2,0.00,2,0.10,2,1.615,2,0.975,2,1979.6,2,2312.7,2,8.1033,2,25,0.21,2,0.14,2,27.1045,2,22.8416,2,27.1283,2
49UP20140609_3,   P10,55,1,33,107,2,20140803,2141,2357,13.8278,149.3097,5942, 151.5,24.3604,35.2757,2,190.8,2,35.2795,2,191.20,2,  1.15,2, 0.31,2,0.29,2,0.17,2,1.750,6,1.087,6,2028.2,2,2321.8,2,8.0341,2,25,0.06,2,0.17,2,24.3281,2,23.7524,2,24.3574,2
49UP20140609_3,   P10,55,1,32,105,2,20140803,2141,2355,13.8278,149.3097,5942, 201.6,19.7743,34.9527,2,174.2,2,34.9339,4,174.62,2,  3.34,2, 4.17,2,0.01,2,0.41,2,2.171,2,1.325,2,2069.3,2,2300.3,2,7.9266,2,25,0.01,2,0.05,2,19.7373,2,24.7946,2,19.7809,2
49UP20140609_3,   P10,55,1,31,515,2,20140803,2141,2354,13.8278,149.3097,5942, 252.1,15.3390,34.5427,2,169.2,2,34.5377,2,168.12,2,  8.67,2,10.08,2,0.01,2,0.79,2,2.513,2,1.469,2,2099.8,2,2277.3,2,7.8259,2,25,-999,9,-999,9,15.3003,2,25.5532,2,15.3304,2
49UP20140609_3,   P10,55,1,30,97,2,20140803,2141,2351,13.8278,149.3097,5942, 331.2,10.1494,34.2095,2,158.1,2,34.2154,2,161.07,2, 25.31,2,19.84,2,0.00,2,1.44,2,2.672,6,1.441,6,2148.8,2,2270.1,2,7.6944,2,25,-999,9,-999,9,10.1107,2,26.3158,2,10.1277,2
49UP20140609_3,   P10,55,1,29,102,3,20140803,2141,2350,13.8278,149.3097,5942, 380.8, 9.0670,34.2522,2,100.3,2,34.2534,2,103.81,2, 36.13,2,27.17,2,0.00,2,2.03,2,1.816,2,0.946,2,2203.7,2,2281.0,2,7.5641,2,25,-999,9,-999,9, 9.0255,2,26.5285,2, 9.0756,2
49UP20140609_3,   P10,55,1,28,108,2,20140803,2141,2348,13.8278,149.3097,5942, 432.5, 8.3150,34.3078,2, 70.9,2,34.3086,2, 73.35,6, 44.22,6,31.35,6,0.00,6,2.33,6,1.156,2,0.593,2,2235.9,2,2291.8,2,7.5013,2,25,-999,9,-999,9, 8.2700,2,26.6896,2, 8.3116,2
49UP20140609_3,   P10,55,1,27,998,2,20140803,2141,2346,13.8278,149.3097,5942, 482.2, 7.6053,34.3540,2, 59.9,2,34.3516,2, 60.99,2, 51.21,2,33.94,2,0.00,2,2.51,2,0.733,2,0.375,2,2259.3,2,2301.4,2,7.4706,2,25,-999,9,-999,9, 7.5575,2,26.8313,2, 7.6006,2
49UP20140609_3,   P10,55,1,26,84,2,20140803,2141,2345,13.8278,149.3097,5942, 533.4, 7.0717,34.4101,2, 55.2,2,34.4105,2, 55.50,2, 58.09,2,35.93,2,0.00,2,2.63,2,0.374,6,0.205,6,2269.0,2,2313.1,2,7.4570,2,25,-999,9,-999,9, 7.0208,2,26.9512,2, 7.0721,2
49UP20140609_3,   P10,55,1,25,98,2,20140803,2141,2342,13.8278,149.3097,5942, 633.9, 6.3307,34.4699,2, 56.8,2,34.4708,2, 57.58,2, 66.48,2,37.50,2,0.00,2,2.73,2,0.164,2,0.088,2,2289.0,2,2327.2,2,7.4599,2,25,-999,9,-999,9, 6.2732,2,27.0987,2, 6.3300,2
49UP20140609_3,   P10,55,1,24,110,2,20140803,2141,2340,13.8278,149.3097,5942, 735.0, 5.7669,34.4921,2, 66.6,2,34.4923,2, 66.70,2, 73.25,2,37.77,2,0.00,2,2.73,2,0.125,2,0.065,2,2288.4,2,2337.3,2,7.4728,2,25,-999,9,-999,9, 5.7028,2,27.1886,2, 5.7640,2
49UP20140609_3,   P10,55,1,23,96,2,20140803,2141,2337,13.8278,149.3097,5942, 836.3, 5.2489,34.5075,2, 63.3,2,34.5085,2, 63.51,2, 81.81,2,39.04,2,0.00,2,2.82,2,0.061,2,0.034,2,2303.2,2,2346.2,2,7.4601,2,25,-999,9,-999,9, 5.1786,2,27.2640,2, 5.2534,2
49UP20140609_3,   P10,55,1,22,111,2,20140803,2141,2334,13.8278,149.3097,5942, 938.0, 4.7326,34.5261,2, 63.3,2,34.5277,2, 63.79,2, 91.53,2,39.87,2,0.00,2,2.88,2,0.028,2,0.011,2,2311.7,6,2357.6,6,7.4568,2,25,-999,9,-999,9, 4.6568,2,27.3385,2, 4.7323,2
49UP20140609_3,   P10,55,1,21,78,2,20140803,2141,2331,13.8278,149.3097,5942,1079.5, 4.1647,34.5425,2, 66.9,2,34.5443,2, 67.12,2,102.73,2,40.26,2,0.00,2,2.90,2,0.016,2,0.008,2,2325.1,2,2369.9,2,7.4593,6,25,-999,9,-999,9, 4.0810,2,27.4138,2, 4.1643,2
49UP20140609_3,   P10,55,1,20,93,2,20140803,2141,2326,13.8278,149.3097,5942,1281.7, 3.5686,34.5627,2, 77.6,2,34.5639,6, 77.40,2,114.68,2,39.88,2,0.00,2,2.87,2,0.002,2,0.004,2,2333.1,2,2382.8,2,7.4713,2,25,-999,9,-999,9, 3.4730,2,27.4913,2, 3.5687,2
49UP20140609_3,   P10,55,1,19,92,2,20140803,2141,2321,13.8278,149.3097,5942,1484.3, 2.9979,34.5837,2, 86.8,2,34.5854,4, 86.74,6,126.21,6,39.63,6,0.00,6,2.84,6,0.000,2,0.002,2,2343.0,2,2393.7,2,7.4876,2,25,-999,9,-999,9, 2.8914,2,27.5626,2, 2.9979,2
49UP20140609_3,   P10,55,1,18,101,2,20140803,2141,2316,13.8278,149.3097,5942,1687.1, 2.6028,34.6014,2, 94.9,2,34.6018,2, 95.26,2,133.88,2,39.19,2,0.00,2,2.80,2,0.000,2,0.000,2,2344.0,2,2402.5,2,7.4982,2,25,-999,9,-999,9, 2.4842,2,27.6126,2, 2.6026,2
49UP20140609_3,   P10,55,1,17,90,2,20140803,2141,2312,13.8278,149.3097,5942,1889.5, 2.3314,34.6154,2,103.2,2,34.6155,2,103.38,2,138.81,2,38.76,2,0.00,2,2.76,2,0.001,2,0.003,2,2341.6,2,2406.9,2,7.5075,2,25,-999,9,-999,9, 2.1994,2,27.6475,2, 2.3311,2
49UP20140609_3,   P10,55,1,16,89,3,20140803,2141,2307,13.8278,149.3097,5942,2092.6, 2.1281,34.6291,2,107.5,2,34.6293,2,107.93,2,143.02,2,38.64,2,0.00,2,2.74,2, -999,9, -999,9,2345.4,2,2409.7,2,7.5161,2,25,-999,9,-999,9, 1.9818,2,27.6760,2, 2.1280,2
49UP20140609_3,   P10,55,1,15,88,2,20140803,2141,2302,13.8278,149.3097,5942,2297.8, 1.9754,34.6411,2,112.9,2,34.6414,2,112.79,2,146.03,2,38.48,2,0.00,2,2.71,2, -999,9, -999,9,2345.2,2,2416.0,2,7.5235,2,25,-999,9,-999,9, 1.8137,2,27.6987,2, 1.9753,2
49UP20140609_3,   P10,55,1,14,999,2,20140803,2141,2257,13.8278,149.3097,5942,2500.5, 1.8384,34.6514,2,119.0,2,34.6517,2,119.08,2,148.27,2,38.12,2,0.00,2,2.68,2, -999,9, -999,9,2345.2,6,2418.5,6,7.5343,2,25,-999,9,-999,9, 1.6611,2,27.7185,2, 1.8383,2
49UP20140609_3,   P10,55,1,13,667,2,20140803,2141,2252,13.8278,149.3097,5942,2702.6, 1.7498,34.6588,2,124.2,2,34.6586,2,123.96,2,148.93,2,37.71,2,0.00,2,2.66,2,0.006,2,0.002,2,2342.3,2,2420.4,2,7.5428,6,25,-999,9,-999,9, 1.5558,2,27.7322,2, 1.7497,2
49UP20140609_3,   P10,55,1,12,74,2,20140803,2141,2248,13.8278,149.3097,5942,2907.5, 1.6818,34.6641,2,129.6,2,34.6641,2,129.68,6,149.24,6,37.43,6,0.00,6,2.63,6, -999,9, -999,9,2340.2,2,2419.6,2,7.5522,2,25,-999,9,-999,9, 1.4699,2,27.7428,2, 1.6817,2
49UP20140609_3,   P10,55,1,11,268,2,20140803,2141,2243,13.8278,149.3097,5942,3122.0, 1.6135,34.6698,2,135.3,2,34.6698,6,134.95,2,148.96,2,37.01,2,0.00,2,2.59,2,0.001,2,0.003,2,2335.4,2,2418.7,2,7.5611,2,25,-999,9,-999,9, 1.3824,2,27.7536,2, 1.6135,2
49UP20140609_3,   P10,55,1,10,267,3,20140803,2141,2237,13.8278,149.3097,5942,3376.7, 1.5745,34.6739,2,140.3,2,34.6746,2,140.61,2,147.81,2,36.63,2,0.00,2,2.57,2, -999,9, -999,9,2332.3,2,2417.7,2,7.5695,2,25,-999,9,-999,9, 1.3191,2,27.7614,2, 1.5744,2
49UP20140609_3,   P10,55,1, 9,94,2,20140803,2141,2232,13.8278,149.3097,5942,3631.9, 1.5378,34.6781,2,145.8,2,34.6779,2,145.89,2,146.71,2,36.44,2,0.00,2,2.54,2, -999,9, -999,9,2326.7,2,2416.4,2,7.5745,2,25,-999,9,-999,9, 1.2571,2,27.7691,2, 1.5378,2
49UP20140609_3,   P10,55,1, 8,81,2,20140803,2141,2227,13.8278,149.3097,5942,3888.2, 1.4931,34.6828,2,153.4,2,34.6825,2,153.71,2,143.16,2,35.83,2,0.00,2,2.50,2,0.000,2,0.000,2,2328.4,3,2411.3,2,7.5866,2,25,-999,9,-999,9, 1.1865,2,27.7778,2, 1.4931,2
49UP20140609_3,   P10,55,1, 7,516,2,20140803,2141,2221,13.8278,149.3097,5942,4144.8, 1.4792,34.6858,2,158.2,2,34.6855,2,158.10,2,141.01,2,35.47,2,0.00,2,2.48,2, -999,9, -999,9,2317.0,6,2412.0,6,7.5899,2,25,-999,9,-999,9, 1.1450,2,27.7831,2, 1.4791,2
49UP20140609_3,   P10,55,1, 6,113,2,20140803,2141,2211,13.8278,149.3097,5942,4657.3, 1.4616,34.6915,2,167.5,2,34.6893,4,167.80,2,136.37,2,34.73,2,0.00,2,2.43,2,0.000,2,0.000,2,2307.0,2,2405.6,2,7.6020,6,25,-999,9,-999,9, 1.0695,2,27.7928,2, 1.4617,2
49UP20140609_3,   P10,55,1, 5,518,2,20140803,2141,2201,13.8278,149.3097,5942,5171.1, 1.4819,34.6945,2,172.9,2,34.6942,2,172.82,2,133.58,2,34.44,2,0.00,2,2.40,2, -999,9, -999,9,2303.2,2,2400.9,2,7.6086,2,25,-999,9,-999,9, 1.0273,2,27.7980,2, 1.4819,2
49UP20140609_3,   P10,55,1, 4,77,2,20140803,2141,2155,13.8278,149.3097,5942,5429.4, 1.5065,34.6950,2,173.9,2,34.6950,2,173.98,2,133.01,2,34.39,2,0.00,2,2.39,2,0.002,2,0.003,2,2298.9,3,2400.8,2,7.6074,2,25,-999,9,-999,9, 1.0186,2,27.7990,2, 1.5065,2
49UP20140609_3,   P10,55,1, 3,104,2,20140803,2141,2150,13.8278,149.3097,5942,5686.3, 1.5373,34.6952,2,174.4,2,34.6948,2,174.60,2,132.71,2,34.30,2,0.00,2,2.39,2,0.000,2,0.000,2,2306.5,3,2399.5,2,7.6058,2,25,-999,9,-999,9, 1.0153,2,27.7994,2, 1.5374,2
49UP20140609_3,   P10,55,1, 2,75,2,20140803,2141,2144,13.8278,149.3097,5942,5944.7, 1.5656,34.6956,2,175.1,2,34.6955,6,175.62,6,132.21,6,34.24,6,0.00,6,2.38,6,0.000,2,0.000,2,2306.2,3,2398.3,2,7.6104,2,25,-999,9,-999,9, 1.0085,2,27.8002,2, 1.5656,2
49UP20140609_3,   P10,55,1, 1,997,3,20140803,2141,2141,13.8278,149.3097,5942,6090.9, 1.5777,34.6960,2,176.1,2,34.6958,2,175.88,2,131.93,2,34.25,2,0.00,2,2.38,2,0.009,2,0.009,2,2299.6,2,2398.5,2,7.5983,3,25,-999,9,-999,9, 1.0006,2,27.8010,2, 1.5778,2