BOTTLE,20230725CCHSIOADS
EXPOCODE,SECT_ID,STNNBR,CASTNO,SAMPNO,BTLNBR,BTLNBR_FLAG_W,DATE,TIME,BTL_TIME,LATITUDE,LONGITUDE,DEPTH,CTDPRS,CTDTMP,CTDSAL,CTDSAL_FLAG_W,CTDOXY,CTDOXY_FLAG_W,SALNTY,SALNTY_FLAG_W,OXYGEN,OXYGEN_FLAG_W,SILCAT,SILCAT_FLAG_W,NO2+NO3,NO2+NO3_FLAG_W,NITRIT,NITRIT_FLAG_W,PHSPHT,PHSPHT_FLAG_W,CFC-11,CFC-11_FLAG_W,CFC-12,CFC-12_FLAG_W,TCARBN,TCARBN_FLAG_W,ALKALI,ALKALI_FLAG_W,PH_TOT,PH_TOT_FLAG_W,PH_TMP,CHLORA,CHLORA_FLAG_W,PPHYTN,PPHYTN_FLAG_W,THETA,THETA_FLAG_W,SIG0,SIG0_FLAG_W,REFTMP,REFTMP_FLAG_W
,,,,,,,,,,,,METERS,DBAR,ITS-90,PSS-78,,UMOL/KG,,PSS-78,,UMOL/KG,,UMOL/KG,,UMOL/KG,,UMOL/KG,,UMOL/KG,,PMOL/KG,,PMOL/KG,,UMOL/KG,,UMOL/KG,,,,DEG C,UG/KG,,UG/KG,,ITS-90,,KG/M^3,,ITS-90,
49UP20140609_3,   P10,82,1, 0,BUC,2,20140812,2141,2325, 1.2517,146.4865,4456,   0.0,29.4361,34.1952,2,195.8,2,   -999,9,195.82,2,  1.02,2, 0.00,2,0.00,2,0.07,2, -999,9, -999,9,-999.0,9,-999.0,9,-999.0,9,-999,-999,9,-999,9,29.4354,2,21.3141,2,   -999,9
49UP20140609_3,   P10,82,1,36,109,2,20140812,2141,2340, 1.2517,146.4865,4456,  10.0,29.4532,34.1925,2,195.7,2,34.1905,2,196.19,2,  1.02,2, 0.00,2,0.00,2,0.07,2, -999,9, -999,9,-999.0,9,-999.0,9,-999.0,9,-999,-999,9,-999,9,29.4508,2,21.3069,2,29.4446,2
49UP20140609_3,   P10,82,1,35,112,2,20140812,2141,2339, 1.2517,146.4865,4456,  25.3,29.4013,34.1941,2,195.8,2,34.1918,2,195.91,6,  1.02,6, 0.00,6,0.00,6,0.07,6, -999,9, -999,9,-999.0,9,-999.0,9,-999.0,9,-999,-999,9,-999,9,29.3951,2,21.3268,2,29.4025,2
49UP20140609_3,   P10,82,1,34,83,2,20140812,2141,2338, 1.2517,146.4865,4456,  51.2,29.3831,34.1932,2,195.6,2,34.1926,2,195.66,2,  1.10,2, 0.00,2,0.00,2,0.07,2, -999,9, -999,9,-999.0,9,-999.0,9,-999.0,9,-999,-999,9,-999,9,29.3706,2,21.3344,2,29.3810,2
49UP20140609_3,   P10,82,1,33,107,3,20140812,2141,2337, 1.2517,146.4865,4456,  76.2,28.0138,34.8742,2,174.7,2,34.8542,4,171.34,2,  1.77,2, 2.50,2,0.29,2,0.32,2, -999,9, -999,9,-999.0,9,-999.0,9,-999.0,9,-999,-999,9,-999,9,27.9958,2,22.3014,2,28.0209,2
49UP20140609_3,   P10,82,1,32,105,2,20140812,2141,2333, 1.2517,146.4865,4456, 101.2,27.3627,35.4178,2,150.6,2,35.4178,2,150.73,2,  2.03,2, 6.72,2,0.14,2,0.62,2, -999,9, -999,9,-999.0,9,-999.0,9,-999.0,9,-999,-999,9,-999,9,27.3392,2,22.9236,2,27.3597,2
49UP20140609_3,   P10,82,1,31,515,2,20140812,2141,2332, 1.2517,146.4865,4456, 126.1,25.2565,35.4618,2,137.8,2,35.4484,4,137.91,2,  2.93,2, 8.41,2,0.04,2,0.71,2, -999,9, -999,9,-999.0,9,-999.0,9,-999.0,9,-999,-999,9,-999,9,25.2289,2,23.6204,2,25.2535,2
49UP20140609_3,   P10,82,1,30,97,2,20140812,2141,2331, 1.2517,146.4865,4456, 152.6,24.3211,35.4051,2,134.9,2,35.3892,4,135.26,2,  3.42,2, 8.64,2,0.03,2,0.71,2, -999,9, -999,9,-999.0,9,-999.0,9,-999.0,9,-999,-999,9,-999,9,24.2886,2,23.8622,2,24.3200,2
49UP20140609_3,   P10,82,1,29,102,2,20140812,2141,2328, 1.2517,146.4865,4456, 201.6,18.5642,35.3498,2,141.8,2,35.3456,6,141.75,2,  5.70,2,11.33,2,0.01,2,0.90,2, -999,9, -999,9,-999.0,9,-999.0,9,-999.0,9,-999,-999,9,-999,9,18.5287,2,25.4082,2,18.5625,2
49UP20140609_3,   P10,82,1,28,108,2,20140812,2141,2326, 1.2517,146.4865,4456, 250.3,14.7922,34.8656,2,137.8,2,34.8591,2,137.50,2, 15.54,2,16.27,2,0.00,2,1.21,2, -999,9, -999,9,-999.0,9,-999.0,9,-999.0,9,-999,-999,9,-999,9,14.7547,2,25.9219,2,14.7918,2
49UP20140609_3,   P10,82,1,27,998,2,20140812,2141,2326, 1.2517,146.4865,4456, 250.3,14.7859,34.8636,2,137.8,2,34.8528,4,137.62,2, 15.73,2,16.43,2,0.00,2,1.22,2, -999,9, -999,9,-999.0,9,-999.0,9,-999.0,9,-999,-999,9,-999,9,14.7483,2,25.9217,2,14.7833,2
49UP20140609_3,   P10,82,1,26,84,2,20140812,2141,2323, 1.2517,146.4865,4456, 331.7,10.7824,34.7715,2,127.1,2,34.7692,2,127.97,2, 20.40,2,23.94,2,0.00,2,1.71,2, -999,9, -999,9,-999.0,9,-999.0,9,-999.0,9,-999,-999,9,-999,9,10.7418,2,26.6440,2,10.7826,2
49UP20140609_3,   P10,82,1,25,98,2,20140812,2141,2322, 1.2517,146.4865,4456, 382.6,10.0850,34.7142,2,113.9,2,34.7122,2,114.70,2, 24.35,2,26.56,2,0.00,2,1.87,2, -999,9, -999,9,-999.0,9,-999.0,9,-999.0,9,-999,-999,9,-999,9,10.0401,2,26.7219,2,10.0851,2
49UP20140609_3,   P10,82,1,24,110,2,20140812,2141,2320, 1.2517,146.4865,4456, 433.5, 9.3538,34.6678,2,122.8,2,34.6659,2,123.13,2, 25.52,2,27.18,2,0.00,2,1.92,2, -999,9, -999,9,-999.0,9,-999.0,9,-999.0,9,-999,-999,9,-999,9, 9.3052,2,26.8086,2, 9.3540,2
49UP20140609_3,   P10,82,1,23,96,2,20140812,2141,2318, 1.2517,146.4865,4456, 483.8, 9.0135,34.6491,2, 98.5,2,34.6470,2,100.55,2, 29.82,2,30.11,2,0.00,2,2.11,2, -999,9, -999,9,-999.0,9,-999.0,9,-999.0,9,-999,-999,9,-999,9, 8.9602,2,26.8497,2, 9.0144,2
49UP20140609_3,   P10,82,1,22,111,2,20140812,2141,2316, 1.2517,146.4865,4456, 534.6, 8.2943,34.6003,2,111.9,2,34.6006,2,112.02,2, 32.75,2,30.21,2,0.00,2,2.12,2, -999,9, -999,9,-999.0,9,-999.0,9,-999.0,9,-999,-999,9,-999,9, 8.2382,2,26.9240,2, 8.2943,2
49UP20140609_3,   P10,82,1,21,78,2,20140812,2141,2313, 1.2517,146.4865,4456, 634.8, 6.4260,34.5382,2,107.8,2,34.5360,4,110.09,2, 46.43,2,34.23,2,0.00,2,2.42,2, -999,9, -999,9,-999.0,9,-999.0,9,-999.0,9,-999,-999,9,-999,9, 6.3679,2,27.1402,2, 6.4261,2
49UP20140609_3,   P10,82,1,20,93,2,20140812,2141,2310, 1.2517,146.4865,4456, 735.5, 5.6983,34.5278,2,111.2,2,34.5274,2,111.71,6, 55.87,6,35.22,6,0.00,6,2.49,6, -999,9, -999,9,-999.0,9,-999.0,9,-999.0,9,-999,-999,9,-999,9, 5.6344,2,27.2252,2, 5.6982,2
49UP20140609_3,   P10,82,1,19,92,2,20140812,2141,2307, 1.2517,146.4865,4456, 836.3, 5.0599,34.5352,2,106.0,2,34.5351,2,105.97,2, 69.90,2,36.52,2,0.00,2,2.59,2, -999,9, -999,9,-999.0,9,-999.0,9,-999.0,9,-999,-999,9,-999,9, 4.9908,2,27.3078,2, 5.0597,2
49UP20140609_3,   P10,82,1,18,101,2,20140812,2141,2305, 1.2517,146.4865,4456, 935.8, 4.8072,34.5436,2, 96.4,2,34.5445,2, 96.84,2, 76.47,2,37.62,2,0.00,2,2.68,2, -999,9, -999,9,-999.0,9,-999.0,9,-999.0,9,-999,-999,9,-999,9, 4.7310,2,27.3441,2, 4.8067,2
49UP20140609_3,   P10,82,1,17,90,2,20140812,2141,2301, 1.2517,146.4865,4456,1078.6, 4.1592,34.5575,2,102.7,2,34.5581,2,102.67,2, 89.82,2,37.63,2,0.00,2,2.68,2, -999,9, -999,9,-999.0,9,-999.0,9,-999.0,9,-999,-999,9,-999,9, 4.0756,2,27.4263,2, 4.1592,2
49UP20140609_3,   P10,82,1,16,89,2,20140812,2141,2251, 1.2517,146.4865,4456,1281.2, 3.6090,34.5773,2, 99.3,2,34.5773,2, 99.74,2,103.32,2,38.41,2,0.00,2,2.75,2, -999,9, -999,9,-999.0,9,-999.0,9,-999.0,9,-999,-999,9,-999,9, 3.5131,2,27.4991,2, 3.6090,2
49UP20140609_3,   P10,82,1,15,88,2,20140812,2141,2246, 1.2517,146.4865,4456,1485.6, 3.0999,34.5958,2,104.9,2,34.5956,2,104.70,2,114.66,2,38.32,2,0.00,2,2.73,2, -999,9, -999,9,-999.0,9,-999.0,9,-999.0,9,-999,-999,9,-999,9, 2.9921,2,27.5631,2, 3.0998,2
49UP20140609_3,   P10,82,1,14,999,2,20140812,2141,2241, 1.2517,146.4865,4456,1687.1, 2.6174,34.6163,2,110.7,2,34.6157,2,110.82,2,125.34,2,38.26,2,0.00,2,2.71,2, -999,9, -999,9,-999.0,9,-999.0,9,-999.0,9,-999,-999,9,-999,9, 2.4985,2,27.6232,2, 2.6172,2
49UP20140609_3,   P10,82,1,13,667,2,20140812,2141,2237, 1.2517,146.4865,4456,1889.3, 2.4163,34.6256,2,113.6,2,34.6256,2,113.94,6,130.42,6,38.06,6,0.00,6,2.70,6, -999,9, -999,9,-999.0,9,-999.0,9,-999.0,9,-999,-999,9,-999,9, 2.2831,2,27.6488,2, 2.4162,2
49UP20140609_3,   P10,82,1,12,74,2,20140812,2141,2232, 1.2517,146.4865,4456,2091.3, 2.1585,34.6394,2,119.1,2,34.6373,4,119.09,2,135.46,2,37.94,2,0.00,2,2.67,2, -999,9, -999,9,-999.0,9,-999.0,9,-999.0,9,-999,-999,9,-999,9, 2.0118,2,27.6819,2, 2.1585,2
49UP20140609_3,   P10,82,1,11,268,2,20140812,2141,2228, 1.2517,146.4865,4456,2295.2, 1.9612,34.6491,2,123.8,2,34.6488,2,124.09,2,139.61,2,37.59,2,0.00,2,2.64,2, -999,9, -999,9,-999.0,9,-999.0,9,-999.0,9,-999,-999,9,-999,9, 1.8000,2,27.7061,2, 1.9611,2
49UP20140609_3,   P10,82,1,10,267,2,20140812,2141,2223, 1.2517,146.4865,4456,2498.4, 1.7817,34.6586,2,131.6,2,34.6566,4,131.85,2,141.47,2,37.12,2,0.00,2,2.61,2, -999,9, -999,9,-999.0,9,-999.0,9,-999.0,9,-999,-999,9,-999,9, 1.6056,2,27.7285,2, 1.7816,2
49UP20140609_3,   P10,82,1, 9,518,2,20140812,2141,2219, 1.2517,146.4865,4456,2702.4, 1.7087,34.6634,2,135.7,2,34.6629,2,135.86,2,142.11,2,36.85,2,0.00,2,2.58,2, -999,9, -999,9,-999.0,9,-999.0,9,-999.0,9,-999,-999,9,-999,9, 1.5154,2,27.7389,2, 1.7085,2
49UP20140609_3,   P10,82,1, 8,81,2,20140812,2141,2215, 1.2517,146.4865,4456,2905.4, 1.6474,34.6678,2,139.6,2,34.6668,2,139.75,6,142.36,6,36.62,6,0.00,6,2.56,6, -999,9, -999,9,-999.0,9,-999.0,9,-999.0,9,-999,-999,9,-999,9, 1.4364,2,27.7482,2, 1.6474,2
49UP20140609_3,   P10,82,1, 7,516,2,20140812,2141,2210, 1.2517,146.4865,4456,3120.6, 1.6077,34.6715,2,142.5,2,34.6694,4,142.64,2,142.65,2,36.42,2,0.00,2,2.54,2, -999,9, -999,9,-999.0,9,-999.0,9,-999.0,9,-999,-999,9,-999,9, 1.3769,2,27.7554,2, 1.6077,2
49UP20140609_3,   P10,82,1, 6,113,2,20140812,2141,2205, 1.2517,146.4865,4456,3376.1, 1.5890,34.6745,2,144.8,2,34.6741,6,144.93,2,142.34,2,36.32,2,0.00,2,2.53,2, -999,9, -999,9,-999.0,9,-999.0,9,-999.0,9,-999,-999,9,-999,9, 1.3332,2,27.7609,2, 1.5887,2
49UP20140609_3,   P10,82,1, 5,94,2,20140812,2141,2200, 1.2517,146.4865,4456,3631.4, 1.5689,34.6780,2,147.6,2,34.6773,2,147.77,2,142.25,2,36.19,2,0.00,2,2.52,2, -999,9, -999,9,-999.0,9,-999.0,9,-999.0,9,-999,-999,9,-999,9, 1.2875,2,27.7670,2, 1.5690,2
49UP20140609_3,   P10,82,1, 4,77,2,20140812,2141,2154, 1.2517,146.4865,4456,3886.2, 1.5380,34.6819,2,151.4,2,34.6820,2,151.48,2,141.91,2,35.94,2,0.00,2,2.50,2, -999,9, -999,9,-999.0,9,-999.0,9,-999.0,9,-999,-999,9,-999,9, 1.2304,2,27.7741,2, 1.5380,2
49UP20140609_3,   P10,82,1, 3,104,2,20140812,2141,2149, 1.2517,146.4865,4456,4142.9, 1.5291,34.6846,2,154.0,2,34.6840,2,154.23,2,141.37,2,35.76,2,0.00,2,2.48,2, -999,9, -999,9,-999.0,9,-999.0,9,-999.0,9,-999,-999,9,-999,9, 1.1937,2,27.7788,2, 1.5290,2
49UP20140609_3,   P10,82,1, 2,75,2,20140812,2141,2144, 1.2517,146.4865,4456,4398.8, 1.5422,34.6855,2,155.6,2,34.6834,4,155.88,2,140.59,2,35.63,2,0.00,2,2.47,2, -999,9, -999,9,-999.0,9,-999.0,9,-999.0,9,-999,-999,9,-999,9, 1.1776,2,27.7806,2, 1.5422,2
49UP20140609_3,   P10,82,1, 1,997,2,20140812,2141,2141, 1.2517,146.4865,4456,4519.4, 1.5548,34.6855,2,155.7,2,34.6853,6,155.58,2,140.77,2,35.69,2,0.00,2,2.48,2, -999,9, -999,9,-999.0,9,-999.0,9,-999.0,9,-999,-999,9,-999,9, 1.1759,2,27.7807,2, 1.5548,2
49UP20140609_3,   P10,83,1, 0,BUC,2,20140813,0449, 615, 1.0050,146.4245,4503,   0.0,29.6611,34.2315,2,196.1,2,34.2392,2,195.38,2,  1.17,2, 0.00,2,0.00,2,0.08,2, -999,9, -999,9,1917.2,2,2249.3,2,8.1218,2,25,0.08,2,0.03,2,29.6605,2,21.2654,2,   -999,9
49UP20140609_3,   P10,83,1,36,109,2,20140813,0449, 654, 1.0050,146.4245,4503,  11.0,29.6331,34.2302,2,196.2,2,34.2255,2,196.01,2,  1.10,2, 0.00,2,0.00,2,0.08,2, -999,9, -999,9,1918.1,2,2250.5,2,8.1204,2,25,0.07,2,0.03,2,29.6304,2,21.2746,2,29.6254,2
49UP20140609_3,   P10,83,1,35,112,2,20140813,0449, 653, 1.0050,146.4245,4503,  26.3,29.4471,34.2241,2,196.6,2,34.2217,2,195.79,2,  1.15,2, 0.00,2,0.00,2,0.07,2, -999,9, -999,9,1919.0,2,2249.2,2,8.1231,2,25,0.08,2,0.04,2,29.4406,2,21.3340,2,29.4463,2
49UP20140609_3,   P10,83,1,34,83,2,20140813,0449, 650, 1.0050,146.4245,4503,  51.7,29.3618,34.2272,2,195.8,2,34.2441,4,195.96,2,  1.15,2, 0.00,2,0.00,2,0.08,2, -999,9, -999,9,1920.3,2,2251.3,2,8.1176,2,25,0.18,2,0.09,2,29.3492,2,21.3671,2,29.3602,2
49UP20140609_3,   P10,83,1,33,469,2,20140813,0449, 649, 1.0050,146.4245,4503,  76.0,27.3672,35.0055,2,157.0,2,35.1424,4,156.27,2,  2.19,2, 5.17,2,0.24,2,0.50,2, -999,9, -999,9,2024.4,2,2306.9,2,8.0239,2,25,0.26,2,0.48,2,27.3496,2,22.6098,2,27.3651,2
49UP20140609_3,   P10,83,1,32,105,2,20140813,0449, 647, 1.0050,146.4245,4503, 101.9,24.9908,35.4444,2,137.0,2,35.4248,4,136.73,2,  3.20,2, 8.48,2,0.04,2,0.72,2, -999,9, -999,9,2069.4,2,2323.6,2,7.9598,2,25,0.05,2,0.21,2,24.9686,2,23.6867,2,24.9869,2
49UP20140609_3,   P10,83,1,31,515,2,20140813,0449, 645, 1.0050,146.4245,4503, 128.2,23.1907,35.3999,2,135.6,2,35.3882,4,135.84,2,  3.90,2, 8.79,2,0.02,2,0.72,2, -999,9, -999,9,2077.7,2,2321.7,2,7.9369,6,25,0.03,2,0.11,2,23.1643,2,24.1893,2,23.1980,2
49UP20140609_3,   P10,83,1,30,97,2,20140813,0449, 643, 1.0050,146.4245,4503, 152.6,20.3836,35.4944,2,139.4,2,35.4437,4,140.02,2,  4.42,2,10.09,2,0.01,2,0.82,2, -999,9, -999,9,2107.0,6,2328.1,6,7.8862,2,25,0.00,2,0.02,2,20.3549,2,25.0446,2,20.3844,2
49UP20140609_3,   P10,83,1,29,102,2,20140813,0449, 641, 1.0050,146.4245,4503, 202.9,16.4487,35.1215,2,142.5,2,35.1003,4,141.93,6, 10.12,6,13.78,6,0.01,6,1.05,6, -999,9, -999,9,2125.7,2,2311.0,2,7.8243,2,25,0.00,2,0.02,2,16.4159,2,25.7450,2,16.4478,2
49UP20140609_3,   P10,83,1,28,108,4,20140813,0449, 639, 1.0050,146.4245,4503, 252.9,12.4167,34.8587,2,141.8,2,   -999,9,-999.0,9,-999.0,9, -999,9,-999,9,-999,9, -999,9, -999,9,-999.0,9,-999.0,9,-999.0,9,-999,-999,9,-999,9,12.3830,2,26.4054,2,12.4243,2
49UP20140609_3,   P10,83,1,27,998,2,20140813,0449, 637, 1.0050,146.4245,4503, 282.1,11.5432,34.8312,2,140.9,2,34.8323,6,140.18,2, 16.88,2,21.18,2,0.00,2,1.53,2, -999,9, -999,9,2167.2,2,2304.1,2,7.7195,2,25,-999,9,-999,9,11.5072,2,26.5510,2,11.5423,2
49UP20140609_3,   P10,83,1,26,84,2,20140813,0449, 635, 1.0050,146.4245,4503, 323.2,10.6700,34.7617,2,123.9,2,34.7604,2,123.01,2, 21.24,2,24.58,2,0.00,2,1.75,2, -999,9, -999,9,2185.7,2,2303.7,2,7.6627,2,25,-999,9,-999,9,10.6308,2,26.6561,2,10.6714,2
49UP20140609_3,   P10,83,1,25,98,2,20140813,0449, 634, 1.0050,146.4245,4503, 373.6, 9.5611,34.6819,2,111.9,2,34.6812,2,112.40,2, 26.16,2,27.70,2,0.00,2,1.95,2, -999,9, -999,9,2202.6,2,2302.3,2,7.6321,2,25,-999,9,-999,9, 9.5188,2,26.7845,2, 9.5605,2
49UP20140609_3,   P10,83,1,24,110,2,20140813,0449, 632, 1.0050,146.4245,4503, 423.5, 9.3514,34.6716,2,107.4,2,34.6714,2,107.16,2, 27.25,2,28.63,2,0.00,2,2.01,2, -999,9, -999,9,2206.0,2,2303.2,2,7.6110,2,25,-999,9,-999,9, 9.3039,2,26.8118,2, 9.3508,2
49UP20140609_3,   P10,83,1,23,96,2,20140813,0449, 630, 1.0050,146.4245,4503, 474.1, 8.6866,34.6250,2,109.3,2,34.6243,2,108.95,2, 30.74,2,29.55,2,0.00,2,2.08,2, -999,9, -999,9,2214.5,2,2304.4,2,7.6001,2,25,-999,9,-999,9, 8.6356,2,26.8821,2, 8.6860,2
49UP20140609_3,   P10,83,1,22,111,2,20140813,0449, 627, 1.0050,146.4245,4503, 575.0, 7.1738,34.5519,2,120.4,2,34.5520,2,120.53,6, 38.14,6,31.57,6,0.00,6,2.23,6, -999,9, -999,9,2221.0,2,2306.8,2,7.5855,2,25,-999,9,-999,9, 7.1181,2,27.0494,2, 7.1740,2
49UP20140609_3,   P10,83,1,21,78,2,20140813,0449, 624, 1.0050,146.4245,4503, 675.9, 6.2335,34.5331,2,109.0,2,34.5343,2,109.11,2, 48.55,2,34.64,2,0.00,2,2.45,2, -999,9, -999,9,2245.5,2,2316.8,2,7.5522,2,25,-999,9,-999,9, 6.1724,2,27.1616,2, 6.2361,2
49UP20140609_3,   P10,83,1,20,93,2,20140813,0449, 620, 1.0050,146.4245,4503, 776.2, 5.4179,34.5279,2,112.9,2,34.5278,2,112.51,2, 62.35,2,35.20,2,0.00,2,2.50,2, -999,9, -999,9,2258.4,2,2331.3,2,7.5502,2,25,-999,9,-999,9, 5.3520,2,27.2596,2, 5.4174,2
49UP20140609_3,   P10,83,1,19,92,2,20140813,0449, 617, 1.0050,146.4245,4503, 877.0, 4.9318,34.5377,2,105.3,2,34.5376,2,105.39,2, 72.44,2,36.57,2,0.00,2,2.60,2, -999,9, -999,9,2277.4,2,2341.1,2,7.5330,2,25,-999,9,-999,9, 4.8599,2,27.3248,2, 4.9314,2
49UP20140609_3,   P10,83,1,18,101,2,20140813,0449, 614, 1.0050,146.4245,4503, 977.9, 4.6929,34.5449,2, 99.6,2,34.5454,6, 99.35,2, 78.38,2,37.43,2,0.00,2,2.66,2, -999,9, -999,9,2284.5,2,2346.7,2,7.5229,2,25,-999,9,-999,9, 4.6138,2,27.3582,2, 4.6927,2
49UP20140609_3,   P10,83,1,17,90,2,20140813,0449, 610, 1.0050,146.4245,4503,1139.5, 4.1056,34.5599,2,102.2,2,34.5601,2,101.99,2, 91.45,2,37.68,2,0.00,2,2.68,2, -999,9, -999,9,2300.2,2,2361.4,2,7.5207,6,25,-999,9,-999,9, 4.0171,2,27.4343,2, 4.1052,2
49UP20140609_3,   P10,83,1,16,89,2,20140813,0449, 605, 1.0050,146.4245,4503,1343.1, 3.5234,34.5806,2, 98.3,2,34.5810,2, 98.32,2,105.57,2,38.53,2,0.00,2,2.75,2, -999,9, -999,9,2314.8,6,2374.4,6,7.5128,2,25,-999,9,-999,9, 3.4231,2,27.5105,2, 3.5238,2
49UP20140609_3,   P10,83,1,15,88,2,20140813,0449, 601, 1.0050,146.4245,4503,1545.3, 2.9364,34.6028,2,105.3,2,34.6024,2,105.66,2,118.72,2,38.47,2,0.00,2,2.73,2, -999,9, -999,9,2323.7,2,2389.3,2,7.5181,2,25,-999,9,-999,9, 2.8254,2,27.5838,2, 2.9367,2
49UP20140609_3,   P10,83,1,14,999,2,20140813,0449, 556, 1.0050,146.4245,4503,1747.7, 2.5473,34.6194,2,112.3,2,34.6188,6,112.17,2,126.77,2,38.07,2,0.00,2,2.70,2, -999,9, -999,9,2328.6,2,2399.8,2,7.5321,2,25,-999,9,-999,9, 2.4243,2,27.6321,2, 2.5474,2
49UP20140609_3,   P10,83,1,13,667,2,20140813,0449, 551, 1.0050,146.4245,4503,1952.3, 2.3890,34.6272,2,114.6,2,34.6268,2,114.72,2,130.73,2,37.93,2,0.00,2,2.69,2, -999,9, -999,9,2329.1,2,2401.3,2,7.5341,2,25,-999,9,-999,9, 2.2508,2,27.6527,2, 2.3891,2
49UP20140609_3,   P10,83,1,12,74,2,20140813,0449, 546, 1.0050,146.4245,4503,2154.3, 2.1425,34.6402,2,119.5,2,34.6398,2,119.42,2,136.08,2,37.89,2,0.00,2,2.67,2, -999,9, -999,9,2332.7,2,2407.1,2,7.5393,2,25,-999,9,-999,9, 1.9906,2,27.6841,2, 2.1425,2
49UP20140609_3,   P10,83,1,11,268,4,20140813,0449, 541, 1.0050,146.4245,4503,2358.4, 1.9561,34.6497,2,124.8,2,34.5374,4,105.38,4, 72.48,4,36.65,4,0.00,4,2.61,4, -999,9, -999,9,2275.6,4,2341.2,4,7.5311,4,25,-999,9,-999,9, 1.7894,2,27.7074,2, 1.9560,2
49UP20140609_3,   P10,83,1,10,267,2,20140813,0449, 536, 1.0050,146.4245,4503,2561.3, 1.7753,34.6592,2,132.5,2,34.6596,2,132.92,2,141.36,2,37.00,2,0.00,2,2.60,2, -999,9, -999,9,2335.1,2,2413.0,2,7.5573,2,25,-999,9,-999,9, 1.5936,2,27.7298,2, 1.7752,2
49UP20140609_3,   P10,83,1, 9,518,2,20140813,0449, 532, 1.0050,146.4245,4503,2765.1, 1.7071,34.6640,2,136.2,2,34.6635,6,135.84,2,142.15,2,36.79,2,0.00,2,2.58,2, -999,9, -999,9,2333.1,2,2414.4,2,7.5641,2,25,-999,9,-999,9, 1.5080,2,27.7400,2, 1.7069,2
49UP20140609_3,   P10,83,1, 8,81,2,20140813,0449, 527, 1.0050,146.4245,4503,2968.2, 1.6259,34.6695,2,140.8,2,34.6692,2,140.72,2,142.52,2,36.57,2,0.00,2,2.55,2, -999,9, -999,9,2330.8,2,2415.9,2,7.5753,2,25,-999,9,-999,9, 1.4094,2,27.7515,2, 1.6258,2
49UP20140609_3,   P10,83,1, 7,516,2,20140813,0449, 521, 1.0050,146.4245,4503,3213.0, 1.6014,34.6724,2,143.5,2,34.6719,2,143.33,2,142.48,2,36.31,2,0.00,2,2.54,2, -999,9, -999,9,2331.9,2,2416.9,2,7.5784,2,25,-999,9,-999,9, 1.3616,2,27.7572,2, 1.6012,2
49UP20140609_3,   P10,83,1, 6,113,2,20140813,0449, 515, 1.0050,146.4245,4503,3468.4, 1.5681,34.6767,2,146.6,2,34.6762,2,146.55,2,142.60,2,36.18,2,0.00,2,2.52,2, -999,9, -999,9,2331.3,2,2418.7,2,7.5834,2,25,-999,9,-999,9, 1.3035,2,27.7648,2, 1.5681,2
49UP20140609_3,   P10,83,1, 5,94,2,20140813,0449, 509, 1.0050,146.4245,4503,3723.9, 1.5466,34.6802,2,149.7,2,34.6795,2,149.40,2,142.08,2,36.03,2,0.00,2,2.51,2, -999,9, -999,9,2327.1,2,2419.6,2,7.5923,2,25,-999,9,-999,9, 1.2560,2,27.7709,2, 1.5465,2
49UP20140609_3,   P10,83,1, 4,77,2,20140813,0449, 503, 1.0050,146.4245,4503,3979.6, 1.5353,34.6831,2,152.2,2,34.6832,6,152.17,6,141.75,6,35.79,6,0.00,6,2.49,6, -999,9, -999,9,2327.5,2,2420.1,2,7.5939,2,25,-999,9,-999,9, 1.2176,2,27.7759,2, 1.5352,2
49UP20140609_3,   P10,83,1, 3,104,2,20140813,0449, 458, 1.0050,146.4245,4503,4236.6, 1.5340,34.6848,2,154.6,2,34.6849,2,154.47,2,141.17,2,35.74,2,0.00,2,2.48,2, -999,9, -999,9,2326.1,2,2419.4,2,7.5945,6,25,-999,9,-999,9, 1.1880,2,27.7794,2, 1.5337,2
49UP20140609_3,   P10,83,1, 2,75,2,20140813,0449, 452, 1.0050,146.4245,4503,4493.1, 1.5510,34.6857,2,155.8,2,34.6861,2,155.58,2,140.71,2,35.57,2,0.00,2,2.47,2, -999,9, -999,9,2323.6,6,2418.1,6,7.6000,2,25,-999,9,-999,9, 1.1753,2,27.7809,2, 1.5510,2
49UP20140609_3,   P10,83,1, 1,997,2,20140813,0449, 449, 1.0050,146.4245,4503,4574.6, 1.5585,34.6857,2,156.0,2,34.6855,2,155.86,2,140.81,2,35.66,2,0.00,2,2.48,2, -999,9, -999,9,2324.0,2,2418.8,2,7.6021,2,25,-999,9,-999,9, 1.1731,2,27.7811,2, 1.5584,2