BOTTLE,20230725CCHSIOADS
EXPOCODE,SECT_ID,STNNBR,CASTNO,SAMPNO,BTLNBR,BTLNBR_FLAG_W,DATE,TIME,BTL_TIME,LATITUDE,LONGITUDE,DEPTH,CTDPRS,CTDTMP,CTDSAL,CTDSAL_FLAG_W,CTDOXY,CTDOXY_FLAG_W,SALNTY,SALNTY_FLAG_W,OXYGEN,OXYGEN_FLAG_W,SILCAT,SILCAT_FLAG_W,NO2+NO3,NO2+NO3_FLAG_W,NITRIT,NITRIT_FLAG_W,PHSPHT,PHSPHT_FLAG_W,CFC-11,CFC-11_FLAG_W,CFC-12,CFC-12_FLAG_W,TCARBN,TCARBN_FLAG_W,ALKALI,ALKALI_FLAG_W,PH_TOT,PH_TOT_FLAG_W,PH_TMP,CHLORA,CHLORA_FLAG_W,PPHYTN,PPHYTN_FLAG_W,THETA,THETA_FLAG_W,SIG0,SIG0_FLAG_W,REFTMP,REFTMP_FLAG_W
,,,,,,,,,,,,METERS,DBAR,ITS-90,PSS-78,,UMOL/KG,,PSS-78,,UMOL/KG,,UMOL/KG,,UMOL/KG,,UMOL/KG,,UMOL/KG,,PMOL/KG,,PMOL/KG,,UMOL/KG,,UMOL/KG,,,,DEG C,UG/KG,,UG/KG,,ITS-90,,KG/M^3,,ITS-90,
49UP20140609_4,   P10,101,1, 0,BUC,2,20140829,1622,1730,-0.5063,141.9948,3315,   0.0,29.7657,34.1009,2,196.1,2,34.0998,2,195.49,2,  1.08,2, 0.00,2,0.00,2,0.05,2, -999,9, -999,9,1912.1,2,2245.1,2,8.1207,2,25,0.09,2,0.04,2,29.7651,2,21.1321,2,   -999,9
49UP20140609_4,   P10,101,1,36,109,2,20140829,1622,1750,-0.5063,141.9948,3315,  10.9,29.7660,34.1045,2,196.0,2,34.0991,2,196.23,2,  0.97,2, 0.00,2,0.00,2,0.04,2,1.435,2,0.889,2,1914.7,2,2244.4,2,8.1268,2,25,0.09,2,0.04,2,29.7633,2,21.1354,2,29.7651,2
49UP20140609_4,   P10,101,1,35,112,2,20140829,1622,1749,-0.5063,141.9948,3315,  25.6,29.5966,34.2883,2,197.1,2,34.2471,4,197.28,2,  1.01,2, 0.00,2,0.00,2,0.07,2, -999,9, -999,9,1921.2,2,2253.6,2,8.1191,6,25,0.09,2,0.04,2,29.5903,2,21.3317,2,29.5976,2
49UP20140609_4,   P10,101,1,34,83,2,20140829,1622,1748,-0.5063,141.9948,3315,  51.1,29.4493,34.4543,2,195.7,2,34.4549,2,196.41,2,  1.01,2, 0.00,2,0.00,2,0.12,2,1.440,2,0.897,2,1932.3,6,2265.2,6,8.1165,2,25,0.12,2,0.07,2,29.4368,2,21.5080,2,29.4481,2
49UP20140609_4,   P10,101,1,33,469,2,20140829,1622,1747,-0.5063,141.9948,3315,  75.7,28.1970,34.8695,2,175.4,2,34.8621,2,176.06,6,  1.49,6, 2.00,6,0.31,6,0.29,6, -999,9, -999,9,1984.1,2,2291.2,2,8.0690,2,25,0.39,2,0.52,2,28.1791,2,22.2378,2,28.1919,2
49UP20140609_4,   P10,101,1,32,105,2,20140829,1622,1744,-0.5063,141.9948,3315, 101.2,26.9685,35.2440,2,148.1,2,35.2876,4,149.92,2,  2.26,2, 6.48,2,0.07,2,0.59,2,1.540,6,0.966,6,2041.3,2,2314.8,2,8.0062,2,25,0.12,2,0.33,2,26.9453,2,22.9190,2,26.9628,2
49UP20140609_4,   P10,101,1,31,515,2,20140829,1622,1743,-0.5063,141.9948,3315, 126.8,24.4732,35.5715,2,144.0,2,35.5676,2,144.32,2,  2.17,2, 7.50,3,0.03,2,0.66,2, -999,9, -999,9,2077.0,2,2333.8,2,7.9695,2,25,0.03,2,0.15,2,24.4461,2,23.9408,2,24.5284,2
49UP20140609_4,   P10,101,1,30,97,2,20140829,1622,1742,-0.5063,141.9948,3315, 151.4,20.4237,35.3462,2,142.5,2,35.3485,2,142.53,2,  4.86,2, 9.44,2,0.01,2,0.77,2,1.887,2,1.135,2,2097.0,2,2322.9,2,7.9016,2,25,0.01,2,0.03,2,20.3953,2,24.9208,2,20.4300,2
49UP20140609_4,   P10,101,1,29,102,2,20140829,1622,1740,-0.5063,141.9948,3315, 201.3,17.9139,35.2550,2,144.3,2,35.2564,2,144.19,2,  6.44,2,11.69,2,0.01,2,0.92,2,1.953,6,1.143,6,2117.7,2,2320.9,2,7.8655,2,25,0.00,2,0.03,2,17.8794,2,25.4971,2,17.9133,2
49UP20140609_4,   P10,101,1,28,108,2,20140829,1622,1739,-0.5063,141.9948,3315, 251.5,15.9407,35.2314,2,151.6,2,35.2350,2,151.83,2,  6.15,2,13.08,2,0.01,2,1.01,2,1.964,2,1.125,2,2128.2,2,2321.2,2,7.8393,2,25,-999,9,-999,9,15.9009,2,25.9484,2,15.9352,2
49UP20140609_4,   P10,101,1,27,998,2,20140829,1622,1737,-0.5063,141.9948,3315, 303.4,12.6450,34.9531,2,153.8,2,34.9540,2,153.90,2, 11.03,2,17.96,2,0.00,2,1.32,2,1.797,2,0.991,2,2149.5,2,2308.9,2,7.7652,2,25,-999,9,-999,9,12.6039,2,26.4354,2,12.6468,2
49UP20140609_4,   P10,101,1,26,84,2,20140829,1622,1736,-0.5063,141.9948,3315, 351.7,11.5830,34.8572,2,149.9,2,34.8609,2,149.92,2, 13.90,2,20.19,2,0.00,2,1.46,2,1.657,2,0.901,2,2160.2,2,2306.9,2,7.7367,2,25,-999,9,-999,9,11.5379,2,26.5654,2,11.5870,2
49UP20140609_4,   P10,101,1,25,98,2,20140829,1622,1734,-0.5063,141.9948,3315, 405.3,10.3978,34.7456,2,113.1,2,34.7474,2,113.11,2, 22.43,2,26.09,2,0.00,2,1.85,2,1.184,2,0.647,2,2196.5,2,2304.4,2,7.6455,6,25,-999,9,-999,9,10.3493,2,26.6930,2,10.3996,2
49UP20140609_4,   P10,101,1,24,110,2,20140829,1622,1733,-0.5063,141.9948,3315, 453.4, 9.4138,34.6823,2,112.3,2,34.6842,2,111.59,2, 25.18,2,28.18,2,0.00,2,1.98,2,0.983,2,0.532,2,2206.6,6,2303.5,6,7.6152,2,25,-999,9,-999,9, 9.3626,2,26.8105,2, 9.4185,2
49UP20140609_4,   P10,101,1,23,96,2,20140829,1622,1731,-0.5063,141.9948,3315, 503.9, 8.2853,34.6053,2,136.9,2,34.6073,2,137.89,2, 26.12,2,27.89,2,0.00,2,1.96,2,0.978,6,0.516,6,2197.9,2,2303.3,2,7.6324,2,25,-999,9,-999,9, 8.2326,2,26.9288,2, 8.2864,2
49UP20140609_4,   P10,101,1,21,78,2,20140829,1622,1729,-0.5063,141.9948,3315, 604.6, 6.9442,34.5308,2,143.2,2,34.5311,2,143.93,2, 34.01,2,29.99,2,0.00,2,2.11,2,0.703,2,0.374,2,2211.5,2,2308.6,2,7.6144,2,25,-999,9,-999,9, 6.8866,2,27.0648,2, 6.9451,2
49UP20140609_4,   P10,101,1,22,111,2,20140829,1622,1729,-0.5063,141.9948,3315, 604.8, 6.9394,34.5308,2,142.7,2,34.5322,2,143.59,2, 33.97,2,30.04,2,0.00,2,2.11,2,0.705,2,0.372,2,2210.0,2,2307.9,2,7.6142,2,25,-999,9,-999,9, 6.8818,2,27.0654,2, 6.9414,2
49UP20140609_4,   P10,101,1,20,93,2,20140829,1622,1726,-0.5063,141.9948,3315, 705.4, 6.3748,34.5362,2,112.0,2,34.5373,2,111.80,2, 46.15,2,34.32,2,0.00,2,2.42,2,0.320,2,0.173,2,2245.2,2,2315.9,2,7.5539,2,25,-999,9,-999,9, 6.3101,2,27.1462,2, 6.3742,2
49UP20140609_4,   P10,101,1,19,92,2,20140829,1622,1719,-0.5063,141.9948,3315, 805.6, 5.5828,34.5264,2,113.4,2,34.5265,2,113.13,2, 58.05,2,35.18,2,0.00,2,2.49,2,0.204,2,0.113,2,2257.7,2,2332.2,2,7.5477,2,25,-999,9,-999,9, 5.5132,2,27.2390,2, 5.5824,2
49UP20140609_4,   P10,101,1,18,101,2,20140829,1622,1717,-0.5063,141.9948,3315, 908.6, 4.9661,34.5356,2,105.5,2,34.5367,2,105.55,6, 69.97,6,36.80,6,0.00,6,2.61,6,0.084,2,0.057,2,2275.6,2,2342.7,2,7.5300,2,25,-999,9,-999,9, 4.8912,2,27.3196,2, 4.9651,2
49UP20140609_4,   P10,101,1,17,90,2,20140829,1622,1714,-0.5063,141.9948,3315,1009.3, 4.5485,34.5464,2,101.4,2,34.5459,6,101.81,2, 80.36,2,37.57,2,0.00,2,2.67,2,0.047,2,0.030,2,2288.3,2,2353.4,2,7.5178,6,25,-999,9,-999,9, 4.4678,2,27.3755,2, 4.5476,2
49UP20140609_4,   P10,101,1,16,89,3,20140829,1622,1710,-0.5063,141.9948,3315,1211.5, 3.7547,34.5696,2,103.0,2,34.5694,2,106.03,4, 97.57,2,38.09,2,0.00,2,2.71,2,0.015,2,0.015,2,2305.5,6,2370.8,6,7.5168,2,25,-999,9,-999,9, 3.6633,2,27.4780,2, 3.7545,2
49UP20140609_4,   P10,101,1,14,999,2,20140829,1622,1704,-0.5063,141.9948,3315,1412.0, 3.3096,34.5871,2,105.2,2,34.5876,2,105.33,2,108.26,2,38.24,2,0.00,2,2.72,2,0.005,2,0.010,2,2315.3,2,2382.4,2,7.5186,2,25,-999,9,-999,9, 3.2057,2,27.5364,2, 3.3085,2
49UP20140609_4,   P10,101,1,15,88,2,20140829,1622,1704,-0.5063,141.9948,3315,1413.9, 3.2993,34.5876,2,105.3,2,34.5869,2,105.20,2,108.55,2,38.22,2,0.00,2,2.72,2,0.012,2,0.006,2,2316.1,2,2381.6,2,7.5150,2,25,-999,9,-999,9, 3.1954,2,27.5377,2, 3.3011,2
49UP20140609_4,   P10,101,1,13,667,2,20140829,1622,1700,-0.5063,141.9948,3315,1615.7, 2.8153,34.6073,2,110.9,2,34.6071,2,111.12,2,118.84,2,38.09,2,0.00,2,2.70,2,0.002,2,0.007,2,2324.6,2,2394.1,2,7.5283,2,25,-999,9,-999,9, 2.6999,2,27.5986,2, 2.8148,2
49UP20140609_4,   P10,101,1,11,268,2,20140829,1622,1655,-0.5063,141.9948,3315,1818.0, 2.4773,34.6231,2,114.4,2,34.6225,2,114.40,2,127.98,2,38.05,2,0.00,2,2.69,2, -999,9, -999,9,2332.8,2,2402.5,2,7.5319,2,25,-999,9,-999,9, 2.3493,2,27.6413,2, 2.4773,2
49UP20140609_4,   P10,101,1,10,267,2,20140829,1622,1651,-0.5063,141.9948,3315,2021.6, 2.2800,34.6336,2,118.8,2,34.6333,2,118.69,2,131.77,2,37.82,2,0.00,2,2.67,2,0.000,2,0.003,2,2332.3,2,2407.7,2,7.5405,2,25,-999,9,-999,9, 2.1374,2,27.6672,2, 2.2797,2
49UP20140609_4,   P10,101,1, 9,518,2,20140829,1622,1646,-0.5063,141.9948,3315,2224.4, 2.0334,34.6456,2,123.4,2,34.6454,6,123.25,2,137.54,2,37.61,2,0.00,2,2.65,2, -999,9, -999,9,2334.7,2,2411.7,2,7.5415,2,25,-999,9,-999,9, 1.8771,2,27.6974,2, 2.0338,2
49UP20140609_4,   P10,101,1, 8,81,2,20140829,1622,1642,-0.5063,141.9948,3315,2426.8, 1.8210,34.6563,2,130.6,2,34.6559,2,130.55,6,140.98,6,37.20,6,0.00,6,2.61,6, -999,9, -999,9,2334.7,2,2415.9,2,7.5541,2,25,-999,9,-999,9, 1.6506,2,27.7232,2, 1.8210,2
49UP20140609_4,   P10,101,1, 7,516,2,20140829,1622,1638,-0.5063,141.9948,3315,2631.1, 1.7208,34.6622,2,135.4,2,34.6617,6,135.64,2,141.86,2,36.88,2,0.00,2,2.58,2,0.000,2,0.004,2,2333.8,2,2416.2,2,7.5739,3,25,-999,9,-999,9, 1.5338,2,27.7366,2, 1.7209,2
49UP20140609_4,   P10,101,1, 4,77,2,20140829,1622,1633,-0.5063,141.9948,3315,2834.7, 1.6450,34.6671,2,139.8,2,34.6678,2,139.88,2,142.18,2,36.58,2,0.00,2,2.56,2, -999,9, -999,9,2332.4,2,2418.4,2,7.5692,2,25,-999,9,-999,9, 1.4408,2,27.7473,2, 1.6444,2
49UP20140609_4,   P10,101,1, 5,94,2,20140829,1622,1633,-0.5063,141.9948,3315,2835.1, 1.6464,34.6671,2,139.7,2,34.6665,2,139.87,2,142.32,2,36.58,2,0.00,2,2.55,2, -999,9, -999,9,2333.0,2,2417.9,2,7.5692,2,25,-999,9,-999,9, 1.4421,2,27.7472,2, 1.6455,2
49UP20140609_4,   P10,101,1, 3,104,2,20140829,1622,1629,-0.5063,141.9948,3315,3038.0, 1.6005,34.6709,2,142.7,2,34.6706,2,142.95,2,142.42,2,36.40,2,0.00,2,2.54,2,0.000,2,0.003,2,2331.4,2,2418.7,2,7.5749,2,25,-999,9,-999,9, 1.3779,2,27.7549,2, 1.6003,2
49UP20140609_4,   P10,101,1, 1,997,2,20140829,1622,1623,-0.5063,141.9948,3315,3336.2, 1.5958,34.6731,2,144.2,2,34.6735,2,143.99,2,142.72,2,36.28,2,0.00,2,2.54,2,0.000,2,0.006,2,2330.0,2,2420.3,2,7.5788,2,25,-999,9,-999,9, 1.3439,2,27.7590,2, 1.5957,2
49UP20140609_4,   P10,102,1, 0,BUC,2,20140829,2330,  31,-0.7558,141.9892,3137,   0.0,29.8122,34.1388,2,196.0,2,   -999,9,195.63,2,  1.14,2, 0.02,2,0.00,2,0.06,3, -999,9, -999,9,-999.0,9,-999.0,9,-999.0,9,-999,-999,9,-999,9,29.8116,2,21.1447,2,   -999,9
49UP20140609_4,   P10,102,1,36,109,2,20140829,2330,  50,-0.7558,141.9892,3137,  10.4,29.7435,34.1365,2,196.1,2,34.1332,2,196.44,2,  1.14,2, 0.00,2,0.00,2,0.05,2, -999,9, -999,9,-999.0,9,-999.0,9,-999.0,9,-999,-999,9,-999,9,29.7409,2,21.1669,2,29.7438,2
49UP20140609_4,   P10,102,1,35,112,2,20140829,2330,  49,-0.7558,141.9892,3137,  25.6,29.7432,34.1540,2,196.3,2,34.1586,2,196.59,2,  1.12,2, 0.00,2,0.01,4,0.05,2, -999,9, -999,9,-999.0,9,-999.0,9,-999.0,9,-999,-999,9,-999,9,29.7369,2,21.1815,2,29.7425,2
49UP20140609_4,   P10,102,1,34,83,2,20140829,2330,  49,-0.7558,141.9892,3137,  25.6,29.7440,34.1544,2,196.3,2,34.1568,2,196.49,2,  1.15,2, 0.00,2,0.00,2,0.05,2, -999,9, -999,9,-999.0,9,-999.0,9,-999.0,9,-999,-999,9,-999,9,29.7377,2,21.1814,2,29.7423,2
49UP20140609_4,   P10,102,1,33,469,2,20140829,2330,  46,-0.7558,141.9892,3137,  50.5,29.3908,34.4080,2,195.7,2,34.4077,2,196.35,2,  1.13,2, 0.00,2,0.00,2,0.11,2, -999,9, -999,9,-999.0,9,-999.0,9,-999.0,9,-999,-999,9,-999,9,29.3785,2,21.4929,2,29.3847,2
49UP20140609_4,   P10,102,1,32,105,2,20140829,2330,  44,-0.7558,141.9892,3137,  75.0,27.8503,34.9559,2,170.6,2,34.9196,4,170.81,2,  1.81,2, 2.85,2,0.42,2,0.34,2, -999,9, -999,9,-999.0,9,-999.0,9,-999.0,9,-999,-999,9,-999,9,27.8327,2,22.4161,2,27.8445,2
49UP20140609_4,   P10,102,1,31,515,2,20140829,2330,  43,-0.7558,141.9892,3137, 100.7,27.0080,35.1278,2,149.4,2,35.2046,4,149.81,2,  2.41,2, 6.24,2,0.09,2,0.57,2, -999,9, -999,9,-999.0,9,-999.0,9,-999.0,9,-999,-999,9,-999,9,26.9849,2,22.8189,2,27.0011,2
49UP20140609_4,   P10,102,1,30,97,2,20140829,2330,  42,-0.7558,141.9892,3137, 126.1,23.8548,35.5587,2,143.6,2,35.5636,2,144.00,2,  2.42,2, 7.62,2,0.02,2,0.67,2, -999,9, -999,9,-999.0,9,-999.0,9,-999.0,9,-999,-999,9,-999,9,23.8283,2,24.1153,2,23.8486,2
49UP20140609_4,   P10,102,1,28,108,2,20140829,2330,  40,-0.7558,141.9892,3137, 151.3,19.5913,35.2640,2,141.9,2,35.2773,4,142.08,2,  6.07,2,10.23,2,0.01,2,0.83,2, -999,9, -999,9,-999.0,9,-999.0,9,-999.0,9,-999,-999,9,-999,9,19.5637,2,25.0776,2,19.5893,2
49UP20140609_4,   P10,102,1,27,998,2,20140829,2330,  39,-0.7558,141.9892,3137, 201.7,17.5570,35.3610,2,149.9,2,35.3626,2,150.33,2,  4.66,2,11.20,2,0.01,2,0.89,2, -999,9, -999,9,-999.0,9,-999.0,9,-999.0,9,-999,-999,9,-999,9,17.5229,2,25.6655,2,17.5575,2
49UP20140609_4,   P10,102,1,26,84,2,20140829,2330,  37,-0.7558,141.9892,3137, 251.6,13.7996,35.0599,2,156.7,2,35.0516,4,156.25,2,  8.66,2,15.92,2,0.00,2,1.20,2, -999,9, -999,9,-999.0,9,-999.0,9,-999.0,9,-999,-999,9,-999,9,13.7635,2,26.2830,2,13.8287,2
49UP20140609_4,   P10,102,1,25,98,2,20140829,2330,  35,-0.7558,141.9892,3137, 331.9,11.2598,34.8285,2,142.7,2,34.8276,6,142.09,6, 16.09,6,21.60,6,0.00,6,1.56,6, -999,9, -999,9,-999.0,9,-999.0,9,-999.0,9,-999,-999,9,-999,9,11.2180,2,26.6023,2,11.2598,2
49UP20140609_4,   P10,102,1,24,110,2,20140829,2330,  34,-0.7558,141.9892,3137, 381.8,10.2746,34.7382,2,115.4,2,34.7367,2,114.55,2, 22.75,2,26.23,2,0.00,2,1.87,2, -999,9, -999,9,-999.0,9,-999.0,9,-999.0,9,-999,-999,9,-999,9,10.2292,2,26.7081,2,10.2751,2
49UP20140609_4,   P10,102,1,22,111,2,20140829,2330,  32,-0.7558,141.9892,3137, 432.8, 9.2750,34.6728,2,109.5,2,34.6737,2,109.75,2, 26.29,2,28.63,2,0.00,2,2.02,2, -999,9, -999,9,-999.0,9,-999.0,9,-999.0,9,-999,-999,9,-999,9, 9.2267,2,26.8254,2, 9.2750,2
49UP20140609_4,   P10,102,1,23,96,2,20140829,2330,  32,-0.7558,141.9892,3137, 433.0, 9.2752,34.6729,2,109.5,2,34.6734,2,109.77,2, 26.21,2,28.63,2,0.00,2,2.02,2, -999,9, -999,9,-999.0,9,-999.0,9,-999.0,9,-999,-999,9,-999,9, 9.2268,2,26.8254,2, 9.2748,2
49UP20140609_4,   P10,102,1,21,78,2,20140829,2330,  30,-0.7558,141.9892,3137, 483.2, 8.3718,34.6093,2,139.3,2,34.6089,2,139.37,2, 25.49,2,27.58,2,0.00,2,1.95,2, -999,9, -999,9,-999.0,9,-999.0,9,-999.0,9,-999,-999,9,-999,9, 8.3209,2,26.9184,2, 8.3747,2
49UP20140609_4,   P10,102,1,20,93,2,20140829,2330,  29,-0.7558,141.9892,3137, 533.3, 7.5867,34.5612,2,142.1,2,34.5617,2,142.33,2, 30.00,2,28.78,2,0.00,2,2.04,2, -999,9, -999,9,-999.0,9,-999.0,9,-999.0,9,-999,-999,9,-999,9, 7.5335,2,26.9977,2, 7.5864,2
49UP20140609_4,   P10,102,1,19,92,2,20140829,2330,  26,-0.7558,141.9892,3137, 634.3, 6.6366,34.5374,2,123.3,2,34.5377,2,122.66,2, 41.94,2,32.59,2,0.00,2,2.31,2, -999,9, -999,9,-999.0,9,-999.0,9,-999.0,9,-999,-999,9,-999,9, 6.5775,2,27.1118,2, 6.6364,2
49UP20140609_4,   P10,102,1,18,101,2,20140829,2330,  24,-0.7558,141.9892,3137, 735.8, 6.1696,34.5331,2,107.9,2,34.5333,2,108.77,2, 50.15,2,34.84,2,0.00,2,2.48,2, -999,9, -999,9,-999.0,9,-999.0,9,-999.0,9,-999,-999,9,-999,9, 6.1031,2,27.1706,2, 6.1686,2
49UP20140609_4,   P10,102,1,17,90,2,20140829,2330,  21,-0.7558,141.9892,3137, 835.9, 5.3174,34.5294,2,110.3,2,34.5302,2,110.13,2, 63.19,2,35.87,3,0.00,2,2.56,2, -999,9, -999,9,-999.0,9,-999.0,9,-999.0,9,-999,-999,9,-999,9, 5.2467,2,27.2733,2, 5.3179,2
49UP20140609_4,   P10,102,1,16,89,2,20140829,2330,  19,-0.7558,141.9892,3137, 936.9, 4.9126,34.5368,2,104.8,2,34.5373,2,104.59,2, 71.48,2,36.86,2,0.00,2,2.63,2, -999,9, -999,9,-999.0,9,-999.0,9,-999.0,9,-999,-999,9,-999,9, 4.8355,2,27.3269,2, 4.9146,2
49UP20140609_4,   P10,102,1,15,88,2,20140829,2330,  16,-0.7558,141.9892,3137,1078.4, 4.3561,34.5498,2,105.2,2,34.5491,2,105.03,2, 83.78,2,37.27,2,0.00,2,2.67,2, -999,9, -999,9,-999.0,9,-999.0,9,-999.0,9,-999,-999,9,-999,9, 4.2709,2,27.3995,2, 4.3557,2
49UP20140609_4,   P10,102,1,14,999,2,20140829,2330,  11,-0.7558,141.9892,3137,1280.6, 3.6109,34.5759,2,102.3,2,34.5761,6,102.30,6,102.00,6,38.15,6,0.00,6,2.74,6, -999,9, -999,9,-999.0,9,-999.0,9,-999.0,9,-999,-999,9,-999,9, 3.5150,2,27.4977,2, 3.6119,2
49UP20140609_4,   P10,102,1,13,667,2,20140829,2330,   7,-0.7558,141.9892,3137,1482.6, 3.0087,34.5991,2,108.0,2,34.5992,2,107.92,2,115.27,2,38.10,2,0.00,2,2.73,2, -999,9, -999,9,-999.0,9,-999.0,9,-999.0,9,-999,-999,9,-999,9, 2.9022,2,27.5740,2, 3.0085,2
49UP20140609_4,   P10,102,1,11,268,2,20140829,2330,   2,-0.7558,141.9892,3137,1686.5, 2.6967,34.6128,2,112.1,2,34.6124,2,112.62,2,122.40,2,38.05,2,0.00,2,2.71,2, -999,9, -999,9,-999.0,9,-999.0,9,-999.0,9,-999,-999,9,-999,9, 2.5769,2,27.6137,2, 2.6965,2
49UP20140609_4,   P10,102,1,10,267,2,20140829,2330,2358,-0.7558,141.9892,3137,1888.7, 2.3934,34.6279,2,118.0,2,34.6269,2,117.99,2,128.42,2,37.76,3,0.00,2,2.69,2, -999,9, -999,9,-999.0,9,-999.0,9,-999.0,9,-999,-999,9,-999,9, 2.2605,2,27.6525,2, 2.3933,2
49UP20140609_4,   P10,102,1, 8,81,2,20140829,2330,2354,-0.7558,141.9892,3137,2091.4, 2.1766,34.6391,2,120.1,2,34.6383,2,120.30,2,134.68,2,37.77,2,0.00,2,2.68,2, -999,9, -999,9,-999.0,9,-999.0,9,-999.0,9,-999,-999,9,-999,9, 2.0296,2,27.6802,2, 2.1766,2
49UP20140609_4,   P10,102,1, 7,516,2,20140829,2330,2349,-0.7558,141.9892,3137,2295.0, 2.0188,34.6464,2,124.2,2,34.6463,6,124.36,2,138.14,2,37.49,2,0.00,2,2.66,2, -999,9, -999,9,-999.0,9,-999.0,9,-999.0,9,-999,-999,9,-999,9, 1.8566,2,27.6996,2, 2.0188,2
49UP20140609_4,   P10,102,1, 5,94,2,20140829,2330,2345,-0.7558,141.9892,3137,2498.6, 1.8498,34.6551,2,129.8,2,34.6545,2,129.93,2,140.79,2,37.18,2,0.00,2,2.62,2, -999,9, -999,9,-999.0,9,-999.0,9,-999.0,9,-999,-999,9,-999,9, 1.6724,2,27.7206,2, 1.8497,2
49UP20140609_4,   P10,102,1, 6,113,2,20140829,2330,2345,-0.7558,141.9892,3137,2498.8, 1.8497,34.6552,2,129.8,2,34.6537,2,129.98,2,140.90,2,37.18,2,0.00,2,2.62,2, -999,9, -999,9,-999.0,9,-999.0,9,-999.0,9,-999,-999,9,-999,9, 1.6723,2,27.7207,2, 1.8498,2
49UP20140609_4,   P10,102,1, 4,77,2,20140829,2330,2340,-0.7558,141.9892,3137,2701.8, 1.7124,34.6630,2,136.1,2,34.6632,2,136.25,2,142.05,2,36.78,2,0.00,2,2.58,2, -999,9, -999,9,-999.0,9,-999.0,9,-999.0,9,-999,-999,9,-999,9, 1.5191,2,27.7384,2, 1.7123,2
49UP20140609_4,   P10,102,1, 3,104,2,20140829,2330,2336,-0.7558,141.9892,3137,2904.7, 1.6200,34.6693,2,141.0,2,34.6679,2,141.08,2,142.55,2,36.50,2,0.00,2,2.56,2, -999,9, -999,9,-999.0,9,-999.0,9,-999.0,9,-999,-999,9,-999,9, 1.4097,2,27.7513,2, 1.6199,2
49UP20140609_4,   P10,102,1, 1,997,2,20140829,2330,2330,-0.7558,141.9892,3137,3163.4, 1.5789,34.6730,2,144.2,2,34.6729,6,144.02,6,142.92,6,36.30,6,0.00,6,2.54,6, -999,9, -999,9,-999.0,9,-999.0,9,-999.0,9,-999,-999,9,-999,9, 1.3445,2,27.7589,2, 1.5788,2