BOTTLE,20230725CCHSIOADS
EXPOCODE,SECT_ID,STNNBR,CASTNO,SAMPNO,BTLNBR,BTLNBR_FLAG_W,DATE,TIME,BTL_TIME,LATITUDE,LONGITUDE,DEPTH,CTDPRS,CTDTMP,CTDSAL,CTDSAL_FLAG_W,CTDOXY,CTDOXY_FLAG_W,SALNTY,SALNTY_FLAG_W,OXYGEN,OXYGEN_FLAG_W,SILCAT,SILCAT_FLAG_W,NO2+NO3,NO2+NO3_FLAG_W,NITRIT,NITRIT_FLAG_W,PHSPHT,PHSPHT_FLAG_W,CFC-11,CFC-11_FLAG_W,CFC-12,CFC-12_FLAG_W,TCARBN,TCARBN_FLAG_W,ALKALI,ALKALI_FLAG_W,PH_TOT,PH_TOT_FLAG_W,PH_TMP,CHLORA,CHLORA_FLAG_W,PPHYTN,PPHYTN_FLAG_W,THETA,THETA_FLAG_W,SIG0,SIG0_FLAG_W,REFTMP,REFTMP_FLAG_W
,,,,,,,,,,,,METERS,DBAR,ITS-90,PSS-78,,UMOL/KG,,PSS-78,,UMOL/KG,,UMOL/KG,,UMOL/KG,,UMOL/KG,,UMOL/KG,,PMOL/KG,,PMOL/KG,,UMOL/KG,,UMOL/KG,,,,DEG C,UG/KG,,UG/KG,,ITS-90,,KG/M^3,,ITS-90,
49UP20140609_2,   P10,22,1, 0,BUC,2,20140705,2010,2225,33.4838,149.3315,6106,   0.0,21.4821,34.5017,2,223.4,2,   -999,9,222.82,2,  1.71,2, 0.00,2,0.00,2,0.04,2, -999,9, -999,9,-999.0,9,-999.0,9,-999.0,9,-999,-999,9,-999,9,21.4816,2,23.9830,2,   -999,9
49UP20140609_2,   P10,22,1,36,109,2,20140705,2010,2240,33.4838,149.3315,6106,  10.7,21.4799,34.5009,2,223.3,2,34.5042,2,223.03,2,  1.77,2, 0.00,2,0.00,2,0.02,2, -999,9, -999,9,-999.0,9,-999.0,9,-999.0,9,-999,-999,9,-999,9,21.4778,2,23.9834,2,21.4810,2
49UP20140609_2,   P10,22,1,35,112,2,20140705,2010,2236,33.4838,149.3315,6106,  50.6,19.2465,34.7304,2,231.5,2,34.7324,2,230.86,6,  2.09,6, 0.02,6,0.01,6,0.04,6, -999,9, -999,9,-999.0,9,-999.0,9,-999.0,9,-999,-999,9,-999,9,19.2374,2,24.7544,2,19.2510,2
49UP20140609_2,   P10,22,1,34,83,2,20140705,2010,2235,33.4838,149.3315,6106, 101.4,17.9903,34.7482,2,212.2,2,34.7500,2,212.13,2,  3.44,2, 3.16,2,0.03,2,0.21,2, -999,9, -999,9,-999.0,9,-999.0,9,-999.0,9,-999,-999,9,-999,9,17.9729,2,25.0858,2,17.9896,2
49UP20140609_2,   P10,22,1,33,107,2,20140705,2010,2233,33.4838,149.3315,6106, 151.5,17.3075,34.7446,2,226.1,2,34.7453,2,226.37,2,  2.92,2, 2.54,2,0.01,2,0.18,2, -999,9, -999,9,-999.0,9,-999.0,9,-999.0,9,-999,-999,9,-999,9,17.2822,2,25.2509,2,17.3088,2
49UP20140609_2,   P10,22,1,32,105,2,20140705,2010,2231,33.4838,149.3315,6106, 202.3,17.1389,34.7401,2,227.6,2,34.7395,2,227.21,2,  2.98,2, 2.71,2,0.01,2,0.19,2, -999,9, -999,9,-999.0,9,-999.0,9,-999.0,9,-999,-999,9,-999,9,17.1054,2,25.2897,2,17.1385,2
49UP20140609_2,   P10,22,1,31,515,2,20140705,2010,2230,33.4838,149.3315,6106, 252.6,17.0140,34.7308,2,226.7,2,34.7296,2,225.84,2,  3.28,2, 3.09,2,0.01,2,0.21,2, -999,9, -999,9,-999.0,9,-999.0,9,-999.0,9,-999,-999,9,-999,9,16.9723,2,25.3142,2,17.0133,2
49UP20140609_2,   P10,22,1,30,97,2,20140705,2010,2228,33.4838,149.3315,6106, 283.0,16.8561,34.7187,2,226.3,2,34.7190,2,225.90,2,  3.52,2, 3.37,2,0.01,2,0.24,4, -999,9, -999,9,-999.0,9,-999.0,9,-999.0,9,-999,-999,9,-999,9,16.8096,2,25.3434,2,16.8559,2
49UP20140609_2,   P10,22,1,29,102,2,20140705,2010,2226,33.4838,149.3315,6106, 374.3,16.4001,34.6721,2,210.3,2,34.6687,2,209.43,2,  5.93,2, 5.85,2,0.00,2,0.40,2, -999,9, -999,9,-999.0,9,-999.0,9,-999.0,9,-999,-999,9,-999,9,16.3397,2,25.4173,2,16.3984,2
49UP20140609_2,   P10,22,1,28,108,2,20140705,2010,2223,33.4838,149.3315,6106, 474.3,14.1480,34.5033,2,184.0,2,34.5036,6,182.82,2, 14.78,2,11.93,2,0.00,2,0.83,2, -999,9, -999,9,-999.0,9,-999.0,9,-999.0,9,-999,-999,9,-999,9,14.0786,2,25.7867,2,14.1464,2
49UP20140609_2,   P10,22,1,27,998,2,20140705,2010,2220,33.4838,149.3315,6106, 575.9,11.5067,34.3137,2,182.0,2,34.3019,4,182.98,2, 23.19,2,16.10,2,0.00,2,1.15,2, -999,9, -999,9,-999.0,9,-999.0,9,-999.0,9,-999,-999,9,-999,9,11.4329,2,26.1622,2,11.5164,2
49UP20140609_2,   P10,22,1,26,84,2,20140705,2010,2218,33.4838,149.3315,6106, 678.0, 9.0038,34.1630,2,163.6,2,34.1662,4,162.89,2, 38.45,2,22.06,2,0.00,2,1.59,2, -999,9, -999,9,-999.0,9,-999.0,9,-999.0,9,-999,-999,9,-999,9, 8.9289,2,26.4740,2, 9.0052,2
49UP20140609_2,   P10,22,1,25,98,2,20140705,2010,2215,33.4838,149.3315,6106, 778.5, 6.3700,34.0339,2,141.4,2,34.0350,2,141.16,2, 59.11,2,28.82,2,0.00,2,2.11,2, -999,9, -999,9,-999.0,9,-999.0,9,-999.0,9,-999,-999,9,-999,9, 6.2989,2,26.7511,2, 6.3701,2
49UP20140609_2,   P10,22,1,24,110,2,20140705,2010,2212,33.4838,149.3315,6106, 879.7, 4.9606,34.0593,2,101.7,2,34.0590,2,101.66,2, 80.90,2,34.82,2,0.00,2,2.53,2, -999,9, -999,9,-999.0,9,-999.0,9,-999.0,9,-999,-999,9,-999,9, 4.8889,2,26.9420,2, 4.9610,2
49UP20140609_2,   P10,22,1,23,96,2,20140705,2010,2209,33.4838,149.3315,6106, 980.8, 4.6611,34.2111,2, 70.9,2,34.2111,2, 70.58,2, 98.05,2,37.72,2,0.00,2,2.72,2, -999,9, -999,9,-999.0,9,-999.0,9,-999.0,9,-999,-999,9,-999,9, 4.5825,2,27.0967,2, 4.6629,2
49UP20140609_2,   P10,22,1,22,111,2,20140705,2010,2205,33.4838,149.3315,6106,1142.7, 3.7985,34.2965,2, 50.1,2,34.2968,2, 49.74,6,118.04,6,40.57,6,0.00,6,2.92,6, -999,9, -999,9,-999.0,9,-999.0,9,-999.0,9,-999,-999,9,-999,9, 3.7130,2,27.2556,2, 3.7990,2
49UP20140609_2,   P10,22,1,21,78,2,20140705,2010,2200,33.4838,149.3315,6106,1346.6, 3.1176,34.3940,2, 42.1,2,34.3945,6, 42.39,2,135.96,2,41.98,2,0.00,2,3.01,2, -999,9, -999,9,-999.0,9,-999.0,9,-999.0,9,-999,-999,9,-999,9, 3.0215,2,27.3994,2, 3.1180,2
49UP20140609_2,   P10,22,1,20,93,2,20140705,2010,2155,33.4838,149.3315,6106,1547.6, 2.7326,34.4529,2, 39.4,2,34.4540,2, 39.94,2,147.53,2,42.71,2,0.00,2,3.05,2, -999,9, -999,9,-999.0,9,-999.0,9,-999.0,9,-999,-999,9,-999,9, 2.6243,2,27.4818,2, 2.7325,2
49UP20140609_2,   P10,22,1,19,92,2,20140705,2010,2150,33.4838,149.3315,6106,1751.0, 2.4411,34.5047,2, 45.7,2,34.5054,2, 45.66,2,155.20,2,42.53,2,0.00,2,3.03,2, -999,9, -999,9,-999.0,9,-999.0,9,-999.0,9,-999,-999,9,-999,9, 2.3195,2,27.5490,2, 2.4412,2
49UP20140609_2,   P10,22,1,18,101,2,20140705,2010,2146,33.4838,149.3315,6106,1953.2, 2.2146,34.5480,2, 56.5,2,34.5487,6, 56.46,2,159.08,2,41.97,2,0.00,2,2.98,2, -999,9, -999,9,-999.0,9,-999.0,9,-999.0,9,-999,-999,9,-999,9, 2.0791,2,27.6033,2, 2.2146,2
49UP20140609_2,   P10,22,1,17,90,2,20140705,2010,2141,33.4838,149.3315,6106,2157.3, 2.0615,34.5783,2, 68.7,2,34.5786,2, 68.55,2,160.46,2,41.21,2,0.00,2,2.92,2, -999,9, -999,9,-999.0,9,-999.0,9,-999.0,9,-999,-999,9,-999,9, 1.9109,2,27.6408,2, 2.0615,2
49UP20140609_2,   P10,22,1,16,89,2,20140705,2010,2136,33.4838,149.3315,6106,2361.2, 1.8986,34.6036,2, 79.6,2,34.6043,2, 79.49,2,162.78,2,40.70,2,0.00,2,2.87,2, -999,9, -999,9,-999.0,9,-999.0,9,-999.0,9,-999,-999,9,-999,9, 1.7328,2,27.6748,2, 1.8987,2
49UP20140609_2,   P10,22,1,15,88,3,20140705,2010,2130,33.4838,149.3315,6106,2565.7, 1.7958,34.6215,2, 91.6,2,34.6193,2, 90.69,2,162.10,2,39.94,2,0.00,2,2.82,2, -999,9, -999,9,-999.0,9,-999.0,9,-999.0,9,-999,-999,9,-999,9, 1.6135,2,27.6981,2, 1.7959,2
49UP20140609_2,   P10,22,1,14,999,2,20140705,2010,2125,33.4838,149.3315,6106,2768.8, 1.7158,34.6355,2,102.5,2,34.6359,2,102.59,2,161.09,2,39.21,2,0.00,2,2.76,2, -999,9, -999,9,-999.0,9,-999.0,9,-999.0,9,-999,-999,9,-999,9, 1.5163,2,27.7164,2, 1.7159,2
49UP20140609_2,   P10,22,1,13,667,2,20140705,2010,2120,33.4838,149.3315,6106,2972.4, 1.6417,34.6481,2,113.6,2,34.6494,2,113.67,2,159.12,2,38.50,2,0.00,2,2.70,2, -999,9, -999,9,-999.0,9,-999.0,9,-999.0,9,-999,-999,9,-999,9, 1.4245,2,27.7332,2, 1.6417,2
49UP20140609_2,   P10,22,1,12,74,2,20140705,2010,2114,33.4838,149.3315,6106,3218.3, 1.5927,34.6583,2,124.7,2,34.6591,2,124.83,2,155.60,2,37.77,2,0.00,2,2.64,2, -999,9, -999,9,-999.0,9,-999.0,9,-999.0,9,-999,-999,9,-999,9, 1.3528,2,27.7466,2, 1.5928,2
49UP20140609_2,   P10,22,1,11,268,2,20140705,2010,2108,33.4838,149.3315,6106,3472.9, 1.5493,34.6658,2,131.9,2,34.6637,4,130.52,3,153.99,2,37.36,2,0.00,2,2.62,2, -999,9, -999,9,-999.0,9,-999.0,9,-999.0,9,-999,-999,9,-999,9, 1.2848,2,27.7574,2, 1.5493,2
49UP20140609_2,   P10,22,1,10,267,2,20140705,2010,2102,33.4838,149.3315,6106,3729.6, 1.5137,34.6729,2,139.9,2,34.6733,2,139.68,2,152.78,2,36.78,2,0.00,2,2.57,2, -999,9, -999,9,-999.0,9,-999.0,9,-999.0,9,-999,-999,9,-999,9, 1.2235,2,27.7674,2, 1.5138,2
49UP20140609_2,   P10,22,1, 9,518,2,20140705,2010,2057,33.4838,149.3315,6106,3986.7, 1.5029,34.6774,2,145.6,2,34.6767,2,144.72,2,150.44,2,36.33,2,0.00,2,2.54,2, -999,9, -999,9,-999.0,9,-999.0,9,-999.0,9,-999,-999,9,-999,9, 1.1854,2,27.7735,2, 1.5030,2
49UP20140609_2,   P10,22,1, 8,81,2,20140705,2010,2051,33.4838,149.3315,6106,4242.5, 1.4959,34.6806,2,149.7,2,34.6812,2,149.40,6,149.62,6,36.11,6,0.00,6,2.52,6, -999,9, -999,9,-999.0,9,-999.0,9,-999.0,9,-999,-999,9,-999,9, 1.1504,2,27.7786,2, 1.4959,2
49UP20140609_2,   P10,22,1, 7,516,3,20140705,2010,2045,33.4838,149.3315,6106,4499.1, 1.4982,34.6835,2,153.3,2,34.6840,2,153.06,2,148.53,2,35.85,2,0.00,2,2.50,2, -999,9, -999,9,-999.0,9,-999.0,9,-999.0,9,-999,-999,9,-999,9, 1.1234,2,27.7827,2, 1.4983,2
49UP20140609_2,   P10,22,1, 6,113,2,20140705,2010,2040,33.4838,149.3315,6106,4756.7, 1.5073,34.6857,2,156.4,2,34.6863,2,156.31,2,147.04,2,35.65,2,0.00,2,2.49,2, -999,9, -999,9,-999.0,9,-999.0,9,-999.0,9,-999,-999,9,-999,9, 1.1020,2,27.7859,2, 1.5074,2
49UP20140609_2,   P10,22,1, 5,94,2,20140705,2010,2034,33.4838,149.3315,6106,5013.9, 1.5212,34.6873,2,159.2,2,34.6885,6,159.05,2,145.30,2,35.46,2,0.00,2,2.47,2, -999,9, -999,9,-999.0,9,-999.0,9,-999.0,9,-999,-999,9,-999,9, 1.0845,2,27.7885,2, 1.5212,2
49UP20140609_2,   P10,22,1, 4,77,2,20140705,2010,2029,33.4838,149.3315,6106,5271.5, 1.5395,34.6888,2,161.5,2,34.6900,2,161.66,2,143.47,2,35.29,2,0.00,2,2.46,2, -999,9, -999,9,-999.0,9,-999.0,9,-999.0,9,-999,-999,9,-999,9, 1.0704,2,27.7905,2, 1.5395,2
49UP20140609_2,   P10,22,1, 3,104,3,20140705,2010,2023,33.4838,149.3315,6106,5529.2, 1.5588,34.6901,2,164.0,2,34.6911,2,163.93,6,141.71,6,35.10,6,0.00,6,2.44,6, -999,9, -999,9,-999.0,9,-999.0,9,-999.0,9,-999,-999,9,-999,9, 1.0563,2,27.7926,2, 1.5588,2
49UP20140609_2,   P10,22,1, 2,75,2,20140705,2010,2018,33.4838,149.3315,6106,5787.3, 1.5805,34.6913,2,166.0,2,34.6924,2,166.24,2,139.75,2,34.93,2,0.00,2,2.43,2, -999,9, -999,9,-999.0,9,-999.0,9,-999.0,9,-999,-999,9,-999,9, 1.0437,2,27.7944,2, 1.5806,2
49UP20140609_2,   P10,22,1, 1,997,2,20140705,2010,2011,33.4838,149.3315,6106,6133.2, 1.6162,34.6923,2,167.8,2,34.6929,2,167.82,2,138.44,2,34.82,2,0.00,2,2.42,2, -999,9, -999,9,-999.0,9,-999.0,9,-999.0,9,-999,-999,9,-999,9, 1.0318,2,27.7960,2, 1.6162,2
49UP20140609_2,   P10,23,1, 0,BUC,2,20140706,0320, 519,33.1555,149.3223,6059,   0.0,21.5024,34.4357,2,225.7,2,34.4337,2,224.64,2,  1.80,2, 0.00,2,0.00,2,0.03,2, -999,9, -999,9,1979.4,2,2261.4,2,8.0309,2,25,0.13,2,0.04,2,21.5019,2,23.9272,2,   -999,9
49UP20140609_2,   P10,23,1,36,109,2,20140706,0320, 541,33.1555,149.3223,6059,   9.9,21.3813,34.4384,2,225.6,2,34.4417,2,225.75,2,  1.65,2, 0.00,2,0.00,2,0.02,2, -999,9, -999,9,1980.4,2,2261.2,2,8.0347,2,25,0.14,2,0.04,2,21.3794,2,23.9629,2,21.3943,2
49UP20140609_2,   P10,23,1,35,112,2,20140706,0320, 536,33.1555,149.3223,6059,  50.8,19.0144,34.6809,2,236.9,2,34.6957,4,236.55,2,  1.74,2, 0.00,2,0.00,2,0.03,2, -999,9, -999,9,1998.4,2,2278.7,2,8.0237,2,25,0.24,2,0.15,2,19.0054,2,24.7759,2,19.0026,2
49UP20140609_2,   P10,23,1,34,83,2,20140706,0320, 534,33.1555,149.3223,6059, 100.5,17.4073,34.7550,2,225.6,2,34.7547,2,225.11,2,  2.88,2, 2.44,2,0.03,2,0.18,2, -999,9, -999,9,2021.1,2,2282.7,2,7.9867,2,25,0.22,2,0.14,2,17.3905,2,25.2329,2,17.4065,2
49UP20140609_2,   P10,23,1,33,107,2,20140706,0320, 532,33.1555,149.3223,6059, 151.9,17.2434,34.7476,2,226.1,2,34.7462,2,225.17,6,  3.09,6, 2.72,6,0.02,6,0.20,6, -999,9, -999,9,2022.2,2,2281.7,2,7.9873,2,25,0.04,2,0.04,2,17.2182,2,25.2685,2,17.2432,2
49UP20140609_2,   P10,23,1,32,105,2,20140706,0320, 530,33.1555,149.3223,6059, 202.0,17.0432,34.7371,2,227.3,2,34.7378,2,226.79,2,  3.21,2, 2.89,2,0.01,2,0.21,2, -999,9, -999,9,2022.2,2,2282.1,2,7.9876,2,25,0.00,2,0.02,2,17.0099,2,25.3101,2,17.0431,2
49UP20140609_2,   P10,23,1,31,515,2,20140706,0320, 529,33.1555,149.3223,6059, 251.7,16.9575,34.7344,2,228.0,2,34.7345,2,228.83,2,  3.29,2, 2.95,2,0.01,2,0.21,2, -999,9, -999,9,2020.1,2,2281.2,2,7.9843,2,25,-999,9,-999,9,16.9161,2,25.3303,2,16.9577,2
49UP20140609_2,   P10,23,1,30,97,2,20140706,0320, 527,33.1555,149.3223,6059, 302.9,16.8730,34.7259,2,224.9,2,34.7251,2,224.14,2,  3.77,2, 3.50,2,0.01,2,0.24,2, -999,9, -999,9,2025.7,2,2282.4,2,7.9792,2,25,-999,9,-999,9,16.8232,2,25.3457,2,16.8721,2
49UP20140609_2,   P10,23,1,29,102,2,20140706,0320, 525,33.1555,149.3223,6059, 403.0,16.1060,34.6443,2,202.9,2,34.6432,2,202.21,2,  7.20,2, 6.94,2,0.01,2,0.48,2, -999,9, -999,9,2051.3,2,2279.0,2,7.9248,2,25,-999,9,-999,9,16.0417,2,25.4645,2,16.1077,2
49UP20140609_2,   P10,23,1,28,108,2,20140706,0320, 522,33.1555,149.3223,6059, 504.0,13.8895,34.4870,2,185.0,2,34.4856,2,184.61,2, 15.38,2,12.22,2,0.00,2,0.86,2, -999,9, -999,9,2093.6,2,2278.4,2,7.8421,2,25,-999,9,-999,9,13.8167,2,25.8289,2,13.8885,2
49UP20140609_2,   P10,23,1,27,998,2,20140706,0320, 520,33.1555,149.3223,6059, 605.3,10.3593,34.1473,2,222.3,2,34.1439,2,223.05,2, 41.27,2,23.00,2,0.00,2,1.67,2, -999,9, -999,9,2107.5,2,2270.8,2,7.7994,2,25,-999,9,-999,9,10.2868,2,26.2371,2,10.3591,2
49UP20140609_2,   P10,23,1,26,84,2,20140706,0320, 517,33.1555,149.3223,6059, 705.8, 7.9955,34.0613,2,173.8,2,34.0650,2,171.53,2, 41.26,2,23.01,2,0.00,2,1.68,2, -999,9, -999,9,2175.9,2,2282.3,2,7.6533,2,25,-999,9,-999,9, 7.9228,2,26.5480,2, 7.9992,2
49UP20140609_2,   P10,23,1,25,98,2,20140706,0320, 514,33.1555,149.3223,6059, 806.1, 5.8877,34.0253,2,131.8,2,34.0251,2,131.42,2, 65.47,2,30.62,2,0.00,2,2.25,2, -999,9, -999,9,2235.6,2,2298.8,2,7.5256,6,25,-999,9,-999,9, 5.8169,2,26.8053,2, 5.8829,2
49UP20140609_2,   P10,23,1,24,110,2,20140706,0320, 512,33.1555,149.3223,6059, 908.2, 4.9751,34.0902,2, 95.3,2,34.0917,2, 94.87,2, 83.75,2,35.25,2,0.00,2,2.56,2, -999,9, -999,9,2277.0,6,2314.5,6,7.4480,2,25,-999,9,-999,9, 4.9008,2,26.9652,2, 4.9745,2
49UP20140609_2,   P10,23,1,23,96,2,20140706,0320, 509,33.1555,149.3223,6059,1010.0, 4.4608,34.1978,2, 66.3,2,34.2008,2, 65.59,2,101.16,2,38.42,2,0.00,2,2.78,2, -999,9, -999,9,2310.3,2,2335.5,2,7.4001,2,25,-999,9,-999,9, 4.3813,2,27.1080,2, 4.4607,2
49UP20140609_2,   P10,23,1,22,111,3,20140706,0320, 505,33.1555,149.3223,6059,1211.6, 3.4800,34.3337,2, 44.6,2,34.3348,6, 44.14,2,127.02,2,41.44,2,0.00,2,2.98,2, -999,9, -999,9,2350.6,2,2363.3,2,7.3693,2,25,-999,9,-999,9, 3.3916,2,27.3166,2, 3.4798,2
49UP20140609_2,   P10,23,1,21,78,2,20140706,0320, 501,33.1555,149.3223,6059,1415.0, 2.9739,34.4189,2, 42.7,2,34.4207,2, 43.00,2,140.70,2,42.17,2,0.00,2,3.02,2, -999,9, -999,9,2368.7,2,2380.9,2,7.3687,2,25,-999,9,-999,9, 2.8737,2,27.4326,2, 2.9736,2
49UP20140609_2,   P10,23,1,20,93,2,20140706,0320, 456,33.1555,149.3223,6059,1618.2, 2.5902,34.4782,2, 42.1,2,34.4791,2, 41.27,2,151.77,2,42.72,2,0.00,2,3.05,2, -999,9, -999,9,2381.1,2,2394.6,2,7.3747,2,25,-999,9,-999,9, 2.4778,2,27.5145,2, 2.5900,2
49UP20140609_2,   P10,23,1,19,92,2,20140706,0320, 452,33.1555,149.3223,6059,1820.3, 2.3296,34.5261,2, 50.2,2,34.5266,2, 50.02,6,157.50,6,42.29,6,0.00,6,3.01,6, -999,9, -999,9,2385.8,2,2402.5,2,7.3906,2,25,-999,9,-999,9, 2.2037,2,27.5756,2, 2.3295,2
49UP20140609_2,   P10,23,1,18,101,2,20140706,0320, 447,33.1555,149.3223,6059,2023.6, 2.1368,34.5633,2, 62.1,2,34.5637,2, 61.87,2,160.33,2,41.68,2,0.00,2,2.95,2, -999,9, -999,9,2379.4,2,2410.1,2,7.4150,2,25,-999,9,-999,9, 1.9965,2,27.6221,2, 2.1368,2
49UP20140609_2,   P10,23,1,17,90,2,20140706,0320, 442,33.1555,149.3223,6059,2228.3, 1.9717,34.5937,2, 76.8,2,34.5950,2, 76.55,2,160.96,2,40.83,2,0.00,2,2.89,2, -999,9, -999,9,2374.3,2,2415.0,2,7.4453,2,25,-999,9,-999,9, 1.8164,2,27.6605,2, 1.9718,2
49UP20140609_2,   P10,23,1,16,89,2,20140706,0320, 438,33.1555,149.3223,6059,2431.2, 1.8475,34.6143,2, 88.2,2,34.6152,2, 88.55,2,161.54,2,40.07,2,0.00,2,2.83,2, -999,9, -999,9,2365.5,2,2417.3,2,7.4691,2,25,-999,9,-999,9, 1.6764,2,27.6876,2, 1.8476,2
49UP20140609_2,   P10,23,1,15,88,2,20140706,0320, 433,33.1555,149.3223,6059,2634.8, 1.7454,34.6322,2,102.6,2,34.6318,2,102.13,2,159.24,2,39.11,2,0.00,2,2.76,2, -999,9, -999,9,2359.6,2,2419.1,2,7.4948,6,25,-999,9,-999,9, 1.5578,2,27.7108,2, 1.7456,2
49UP20140609_2,   P10,23,1,14,999,2,20140706,0320, 429,33.1555,149.3223,6059,2839.4, 1.6629,34.6457,2,113.6,2,34.6464,2,114.03,2,157.60,2,38.39,2,0.00,2,2.71,2, -999,9, -999,9,2353.3,6,2419.3,6,7.5168,2,25,-999,9,-999,9, 1.4579,2,27.7289,2, 1.6630,2
49UP20140609_2,   P10,23,1,13,667,2,20140706,0320, 425,33.1555,149.3223,6059,3044.0, 1.6021,34.6556,2,122.3,2,34.6562,6,121.99,2,156.52,2,37.81,2,0.00,2,2.67,2, -999,9, -999,9,2347.9,2,2420.3,2,7.5292,2,25,-999,9,-999,9, 1.3790,2,27.7425,2, 1.6023,2
49UP20140609_2,   P10,23,1,12,74,2,20140706,0320, 419,33.1555,149.3223,6059,3299.0, 1.5527,34.6642,2,131.0,2,34.6651,2,131.41,2,154.61,2,37.26,2,0.00,2,2.62,2, -999,9, -999,9,2344.7,2,2418.8,2,7.5499,2,25,-999,9,-999,9, 1.3056,2,27.7546,2, 1.5528,2
49UP20140609_2,   P10,23,1,11,268,2,20140706,0320, 414,33.1555,149.3223,6059,3555.6, 1.5211,34.6705,2,137.4,2,34.6711,2,137.49,2,153.32,2,36.88,2,0.00,2,2.59,2, -999,9, -999,9,2341.6,2,2420.8,2,7.5573,2,25,-999,9,-999,9, 1.2487,2,27.7637,2, 1.5212,2
49UP20140609_2,   P10,23,1,10,267,2,20140706,0320, 409,33.1555,149.3223,6059,3811.8, 1.5048,34.6751,2,143.2,2,34.6760,2,142.83,6,151.61,6,36.51,6,0.00,6,2.56,6, -999,9, -999,9,2336.2,2,2418.2,2,7.5677,2,25,-999,9,-999,9, 1.2061,2,27.7703,2, 1.5048,2
49UP20140609_2,   P10,23,1, 9,518,2,20140706,0320, 403,33.1555,149.3223,6059,4067.5, 1.4937,34.6790,2,147.8,2,34.6787,2,147.03,2,150.36,2,36.24,2,0.00,2,2.54,2, -999,9, -999,9,2332.1,2,2419.2,2,7.5749,2,25,-999,9,-999,9, 1.1676,2,27.7761,2, 1.4936,2
49UP20140609_2,   P10,23,1, 8,81,2,20140706,0320, 358,33.1555,149.3223,6059,4324.3, 1.4889,34.6825,2,152.5,2,34.6833,6,152.78,2,148.35,2,35.91,2,0.00,2,2.50,2, -999,9, -999,9,2327.3,2,2416.4,2,7.5825,2,25,-999,9,-999,9, 1.1344,2,27.7812,2, 1.4888,2
49UP20140609_2,   P10,23,1, 7,516,2,20140706,0320, 352,33.1555,149.3223,6059,4581.7, 1.4950,34.6848,2,155.1,2,34.6854,2,154.51,2,147.96,2,35.78,2,0.00,2,2.49,2, -999,9, -999,9,2325.4,2,2416.5,2,7.5872,2,25,-999,9,-999,9, 1.1107,2,27.7846,2, 1.4950,2
49UP20140609_2,   P10,23,1, 6,113,2,20140706,0320, 347,33.1555,149.3223,6059,4838.4, 1.5039,34.6870,2,158.5,2,34.6883,2,158.68,2,146.38,2,35.46,2,0.00,2,2.47,2, -999,9, -999,9,2322.0,2,2414.9,2,7.5898,2,25,-999,9,-999,9, 1.0890,2,27.7879,2, 1.5039,2
49UP20140609_2,   P10,23,1, 5,94,2,20140706,0320, 342,33.1555,149.3223,6059,5095.9, 1.5197,34.6886,2,161.2,2,34.6894,2,160.78,2,144.13,2,35.23,2,0.00,2,2.46,2, -999,9, -999,9,2319.2,2,2412.4,2,7.5951,6,25,-999,9,-999,9, 1.0731,2,27.7902,2, 1.5198,2
49UP20140609_2,   P10,23,1, 4,77,2,20140706,0320, 336,33.1555,149.3223,6059,5354.3, 1.5429,34.6896,2,162.7,2,34.6906,2,162.57,2,143.07,2,35.05,2,0.00,2,2.45,2, -999,9, -999,9,2318.5,6,2411.4,6,7.5944,2,25,-999,9,-999,9, 1.0632,2,27.7917,2, 1.5428,2
49UP20140609_2,   P10,23,1, 3,104,2,20140706,0320, 331,33.1555,149.3223,6059,5612.1, 1.5667,34.6906,2,164.4,2,34.6913,2,164.63,6,141.68,6,35.03,6,0.00,6,2.44,6, -999,9, -999,9,2316.5,2,2413.3,2,7.5999,2,25,-999,9,-999,9, 1.0533,2,27.7931,2, 1.5669,2
49UP20140609_2,   P10,23,1, 2,75,2,20140706,0320, 326,33.1555,149.3223,6059,5869.9, 1.5927,34.6914,2,166.0,2,34.6922,6,166.76,2,140.12,2,34.84,2,0.00,2,2.43,2, -999,9, -999,9,2313.4,2,2411.0,2,7.6024,2,25,-999,9,-999,9, 1.0445,2,27.7944,2, 1.5927,2
49UP20140609_2,   P10,23,1, 1,997,2,20140706,0320, 320,33.1555,149.3223,6059,6130.4, 1.6207,34.6922,2,167.3,2,34.6932,2,167.75,2,139.06,2,34.77,2,0.00,2,2.43,2, -999,9, -999,9,2314.6,2,2409.2,2,7.6006,2,25,-999,9,-999,9, 1.0366,2,27.7955,2, 1.6208,2