BOTTLE,20230725CCHSIOADS
EXPOCODE,SECT_ID,STNNBR,CASTNO,SAMPNO,BTLNBR,BTLNBR_FLAG_W,DATE,TIME,BTL_TIME,LATITUDE,LONGITUDE,DEPTH,CTDPRS,CTDTMP,CTDSAL,CTDSAL_FLAG_W,CTDOXY,CTDOXY_FLAG_W,SALNTY,SALNTY_FLAG_W,OXYGEN,OXYGEN_FLAG_W,SILCAT,SILCAT_FLAG_W,NO2+NO3,NO2+NO3_FLAG_W,NITRIT,NITRIT_FLAG_W,PHSPHT,PHSPHT_FLAG_W,CFC-11,CFC-11_FLAG_W,CFC-12,CFC-12_FLAG_W,TCARBN,TCARBN_FLAG_W,ALKALI,ALKALI_FLAG_W,PH_TOT,PH_TOT_FLAG_W,PH_TMP,CHLORA,CHLORA_FLAG_W,PPHYTN,PPHYTN_FLAG_W,THETA,THETA_FLAG_W,SIG0,SIG0_FLAG_W,REFTMP,REFTMP_FLAG_W
,,,,,,,,,,,,METERS,DBAR,ITS-90,PSS-78,,UMOL/KG,,PSS-78,,UMOL/KG,,UMOL/KG,,UMOL/KG,,UMOL/KG,,UMOL/KG,,PMOL/KG,,PMOL/KG,,UMOL/KG,,UMOL/KG,,,,DEG C,UG/KG,,UG/KG,,ITS-90,,KG/M^3,,ITS-90,
49UP20140609_3,   P10,48,1, 0,BUC,2,20140801,1613,1815,18.5283,149.3223,5571,   0.0,30.4377,34.7714,2,193.0,2,   -999,9,192.41,2,  0.90,2, 0.00,2,0.00,2,0.03,2, -999,9, -999,9,-999.0,9,-999.0,9,-999.0,9,-999,-999,9,-999,9,30.4371,2,21.4049,2,   -999,9
49UP20140609_3,   P10,48,1,36,109,2,20140801,1613,1840,18.5283,149.3223,5571,  11.3,30.4429,34.7704,2,193.0,2,34.7686,2,192.14,2,  0.78,2, 0.00,2,0.00,2,0.03,2, -999,9, -999,9,-999.0,9,-999.0,9,-999.0,9,-999,-999,9,-999,9,30.4401,2,21.4032,2,30.4420,2
49UP20140609_3,   P10,48,1,35,112,2,20140801,1613,1837,18.5283,149.3223,5571,  50.7,30.3174,34.7605,2,193.2,2,34.7603,2,194.03,2,  0.82,2, 0.00,2,0.00,2,0.02,2, -999,9, -999,9,-999.0,9,-999.0,9,-999.0,9,-999,-999,9,-999,9,30.3047,2,21.4423,2,30.3155,2
49UP20140609_3,   P10,48,1,34,83,2,20140801,1613,1835,18.5283,149.3223,5571, 100.7,25.8291,35.0906,2,209.1,2,35.0922,2,208.45,2,  0.95,2, 0.00,2,0.00,2,0.03,2, -999,9, -999,9,-999.0,9,-999.0,9,-999.0,9,-999,-999,9,-999,9,25.8067,2,23.1618,2,25.8172,2
49UP20140609_3,   P10,48,1,33,107,2,20140801,1613,1832,18.5283,149.3223,5571, 151.5,22.9942,35.1286,2,204.8,2,35.1311,6,204.03,2,  1.20,2, 0.12,2,0.05,2,0.04,2, -999,9, -999,9,-999.0,9,-999.0,9,-999.0,9,-999,-999,9,-999,9,22.9632,2,24.0417,2,22.9934,2
49UP20140609_3,   P10,48,1,32,105,2,20140801,1613,1829,18.5283,149.3223,5571, 202.1,20.9561,35.0391,2,176.5,2,35.0387,2,175.99,2,  2.31,2, 2.78,2,0.02,2,0.27,2, -999,9, -999,9,-999.0,9,-999.0,9,-999.0,9,-999,-999,9,-999,9,20.9175,2,24.5461,2,20.9515,2
49UP20140609_3,   P10,48,1,31,515,2,20140801,1613,1827,18.5283,149.3223,5571, 254.2,17.9284,34.7717,2,191.5,2,34.7745,2,191.26,6,  3.68,6, 4.68,6,0.01,6,0.34,6, -999,9, -999,9,-999.0,9,-999.0,9,-999.0,9,-999,-999,9,-999,9,17.8849,2,25.1255,2,17.8987,2
49UP20140609_3,   P10,48,1,30,97,2,20140801,1613,1825,18.5283,149.3223,5571, 303.1,15.9401,34.6136,2,200.0,2,34.6137,2,200.06,2,  6.23,2, 7.00,2,0.01,2,0.48,2, -999,9, -999,9,-999.0,9,-999.0,9,-999.0,9,-999,-999,9,-999,9,15.8922,2,25.4749,2,15.9376,2
49UP20140609_3,   P10,48,1,29,102,2,20140801,1613,1823,18.5283,149.3223,5571, 357.0,13.7726,34.4414,2,191.6,2,34.4544,4,191.26,2, 10.54,2,10.65,2,0.00,2,0.75,2, -999,9, -999,9,-999.0,9,-999.0,9,-999.0,9,-999,-999,9,-999,9,13.7215,2,25.8133,2,13.7745,2
49UP20140609_3,   P10,48,1,28,108,2,20140801,1613,1821,18.5283,149.3223,5571, 404.5,12.5212,34.3501,2,188.5,2,34.3508,2,192.59,2, 14.48,2,13.29,2,0.00,2,0.95,2, -999,9, -999,9,-999.0,9,-999.0,9,-999.0,9,-999,-999,9,-999,9,12.4668,2,25.9945,2,12.5260,2
49UP20140609_3,   P10,48,1,27,998,2,20140801,1613,1819,18.5283,149.3223,5571, 454.0,10.7416,34.2360,2,171.4,2,34.2366,2,171.51,2, 21.97,2,17.98,2,0.00,2,1.30,2, -999,9, -999,9,-999.0,9,-999.0,9,-999.0,9,-999,-999,9,-999,9,10.6863,2,26.2365,2,10.7410,2
49UP20140609_3,   P10,48,1,26,84,2,20140801,1613,1817,18.5283,149.3223,5571, 504.5, 9.2992,34.1899,2,137.2,2,34.1906,2,136.79,2, 32.67,2,23.72,2,0.00,2,1.74,2, -999,9, -999,9,-999.0,9,-999.0,9,-999.0,9,-999,-999,9,-999,9, 9.2429,2,26.4448,2, 9.2997,2
49UP20140609_3,   P10,48,1,25,98,2,20140801,1613,1815,18.5283,149.3223,5571, 605.9, 7.0786,34.1752,2, 91.6,2,34.1772,2, 90.66,2, 55.73,2,32.17,2,0.00,2,2.35,2, -999,9, -999,9,-999.0,9,-999.0,9,-999.0,9,-999,-999,9,-999,9, 7.0206,2,26.7662,2, 7.0791,2
49UP20140609_3,   P10,48,1,24,110,2,20140801,1613,1812,18.5283,149.3223,5571, 706.3, 5.6322,34.2633,2, 62.3,2,34.2658,4, 62.71,2, 77.65,2,37.36,2,0.00,2,2.72,2, -999,9, -999,9,-999.0,9,-999.0,9,-999.0,9,-999,-999,9,-999,9, 5.5717,2,27.0236,2, 5.6329,2
49UP20140609_3,   P10,48,1,23,96,2,20140801,1613,1809,18.5283,149.3223,5571, 806.1, 4.9661,34.3476,2, 57.5,2,34.3499,4, 56.96,2, 90.61,2,39.04,2,0.00,2,2.84,2, -999,9, -999,9,-999.0,9,-999.0,9,-999.0,9,-999,-999,9,-999,9, 4.9005,2,27.1694,2, 4.9659,2
49UP20140609_3,   P10,48,1,22,111,2,20140801,1613,1806,18.5283,149.3223,5571, 908.4, 4.5559,34.4299,2, 63.5,2,34.4306,2, 63.04,2, 98.29,2,39.26,2,0.00,2,2.84,2, -999,9, -999,9,-999.0,9,-999.0,9,-999.0,9,-999,-999,9,-999,9, 4.4840,2,27.2812,2, 4.5559,2
49UP20140609_3,   P10,48,1,21,78,3,20140801,1613,1803,18.5283,149.3223,5571,1008.8, 4.0996,34.4793,2, 69.8,2,34.4801,2, 69.39,2,107.13,2,39.40,2,0.00,2,2.84,2, -999,9, -999,9,-999.0,9,-999.0,9,-999.0,9,-999,-999,9,-999,9, 4.0225,2,27.3696,2, 4.0993,2
49UP20140609_3,   P10,48,1,20,93,3,20140801,1613,1758,18.5283,149.3223,5571,1213.9, 3.3269,34.5419,2, 82.2,2,34.5422,6, 81.96,2,121.18,2,39.23,2,0.00,2,2.82,2, -999,9, -999,9,-999.0,9,-999.0,9,-999.0,9,-999,-999,9,-999,9, 3.2393,2,27.4972,2, 3.3266,2
49UP20140609_3,   P10,48,1,19,92,2,20140801,1613,1754,18.5283,149.3223,5571,1413.7, 2.7928,34.5737,2, 90.1,2,34.5745,2, 89.80,6,131.10,6,39.20,6,0.00,6,2.80,6, -999,9, -999,9,-999.0,9,-999.0,9,-999.0,9,-999,-999,9,-999,9, 2.6944,2,27.5722,2, 2.7920,2
49UP20140609_3,   P10,48,1,18,101,2,20140801,1613,1749,18.5283,149.3223,5571,1617.8, 2.4808,34.5939,2, 96.0,2,34.5951,2, 95.93,2,136.69,2,39.06,2,0.00,2,2.78,2, -999,9, -999,9,-999.0,9,-999.0,9,-999.0,9,-999,-999,9,-999,9, 2.3694,2,27.6162,2, 2.4808,2
49UP20140609_3,   P10,48,1,17,90,2,20140801,1613,1744,18.5283,149.3223,5571,1819.1, 2.2369,34.6080,2,100.9,2,34.6090,2,101.06,2,141.71,2,38.87,2,0.00,2,2.77,2, -999,9, -999,9,-999.0,9,-999.0,9,-999.0,9,-999,-999,9,-999,9, 2.1122,2,27.6487,2, 2.2366,2
49UP20140609_3,   P10,48,1,16,89,2,20140801,1613,1739,18.5283,149.3223,5571,2022.4, 2.0263,34.6249,2,107.8,2,34.6251,2,108.82,3,145.13,2,38.63,2,0.00,2,2.73,2, -999,9, -999,9,-999.0,9,-999.0,9,-999.0,9,-999,-999,9,-999,9, 1.8876,2,27.6799,2, 2.0264,2
49UP20140609_3,   P10,48,1,15,88,4,20140801,1613,1735,18.5283,149.3223,5571,2226.9, 1.9029,34.6353,2,113.6,2,34.6294,4,110.18,4,145.05,4,38.39,4,0.00,4,2.72,4, -999,9, -999,9,-999.0,9,-999.0,9,-999.0,9,-999,-999,9,-999,9, 1.7487,2,27.6990,2, 1.9030,2
49UP20140609_3,   P10,48,1,14,999,2,20140801,1613,1730,18.5283,149.3223,5571,2430.1, 1.7933,34.6466,2,119.9,2,34.6469,2,119.65,2,148.16,2,37.95,2,0.00,2,2.67,2, -999,9, -999,9,-999.0,9,-999.0,9,-999.0,9,-999,-999,9,-999,9, 1.6231,2,27.7175,2, 1.7934,2
49UP20140609_3,   P10,48,1,13,667,2,20140801,1613,1725,18.5283,149.3223,5571,2633.9, 1.7228,34.6538,2,124.6,2,34.6539,6,124.91,2,148.46,2,37.68,2,0.00,2,2.66,2, -999,9, -999,9,-999.0,9,-999.0,9,-999.0,9,-999,-999,9,-999,9, 1.5356,2,27.7297,2, 1.7228,2
49UP20140609_3,   P10,48,1,12,74,2,20140801,1613,1720,18.5283,149.3223,5571,2837.2, 1.6624,34.6604,2,128.9,2,34.6610,2,128.74,2,149.11,2,37.49,2,0.00,2,2.63,2, -999,9, -999,9,-999.0,9,-999.0,9,-999.0,9,-999,-999,9,-999,9, 1.4576,2,27.7408,2, 1.6627,2
49UP20140609_3,   P10,48,1,11,268,2,20140801,1613,1715,18.5283,149.3223,5571,3039.8, 1.6048,34.6664,2,134.1,2,34.6673,2,133.91,2,148.92,2,37.11,2,0.00,2,2.60,2, -999,9, -999,9,-999.0,9,-999.0,9,-999.0,9,-999,-999,9,-999,9, 1.3820,2,27.7510,2, 1.6050,2
49UP20140609_3,   P10,48,1,10,267,2,20140801,1613,1709,18.5283,149.3223,5571,3297.1, 1.5623,34.6720,2,139.3,2,34.6728,2,139.34,2,148.46,2,36.73,2,0.00,2,2.58,2, -999,9, -999,9,-999.0,9,-999.0,9,-999.0,9,-999,-999,9,-999,9, 1.3151,2,27.7602,2, 1.5624,2
49UP20140609_3,   P10,48,1, 9,94,2,20140801,1613,1704,18.5283,149.3223,5571,3551.4, 1.5312,34.6762,2,144.0,2,34.6768,2,143.39,2,147.59,2,36.48,2,0.00,2,2.55,2, -999,9, -999,9,-999.0,9,-999.0,9,-999.0,9,-999,-999,9,-999,9, 1.2590,2,27.7675,2, 1.5313,2
49UP20140609_3,   P10,48,1, 8,81,2,20140801,1613,1658,18.5283,149.3223,5571,3808.2, 1.5023,34.6803,2,149.9,2,34.6809,2,149.59,6,145.17,6,36.07,6,0.00,6,2.52,6, -999,9, -999,9,-999.0,9,-999.0,9,-999.0,9,-999,-999,9,-999,9, 1.2040,2,27.7747,2, 1.5023,2
49UP20140609_3,   P10,48,1, 7,516,2,20140801,1613,1652,18.5283,149.3223,5571,4064.0, 1.4730,34.6845,2,155.9,2,34.6853,2,155.49,2,142.60,2,35.45,2,0.00,2,2.49,2, -999,9, -999,9,-999.0,9,-999.0,9,-999.0,9,-999,-999,9,-999,9, 1.1479,2,27.7818,2, 1.4732,2
49UP20140609_3,   P10,48,1, 6,113,2,20140801,1613,1641,18.5283,149.3223,5571,4577.6, 1.4497,34.6909,2,166.5,2,34.6918,6,166.97,2,136.81,2,34.73,2,0.00,2,2.43,2, -999,9, -999,9,-999.0,9,-999.0,9,-999.0,9,-999,-999,9,-999,9, 1.0673,2,27.7924,2, 1.4498,2
49UP20140609_3,   P10,48,1, 5,518,2,20140801,1613,1635,18.5283,149.3223,5571,4834.9, 1.4584,34.6926,2,169.7,2,34.6927,2,169.25,2,135.46,2,34.67,2,0.00,2,2.42,2, -999,9, -999,9,-999.0,9,-999.0,9,-999.0,9,-999,-999,9,-999,9, 1.0454,2,27.7953,2, 1.4584,2
49UP20140609_3,   P10,48,1, 4,77,2,20140801,1613,1629,18.5283,149.3223,5571,5091.4, 1.4745,34.6937,2,171.9,2,34.6952,4,172.18,2,133.93,2,34.45,2,0.00,2,2.41,2, -999,9, -999,9,-999.0,9,-999.0,9,-999.0,9,-999,-999,9,-999,9, 1.0300,2,27.7973,2, 1.4745,2
49UP20140609_3,   P10,48,1, 3,104,2,20140801,1613,1623,18.5283,149.3223,5571,5349.1, 1.4993,34.6945,2,173.1,2,34.6948,2,172.68,2,133.47,2,34.31,2,0.00,2,2.40,2, -999,9, -999,9,-999.0,9,-999.0,9,-999.0,9,-999,-999,9,-999,9, 1.0219,2,27.7984,2, 1.4995,2
49UP20140609_3,   P10,48,1, 2,75,2,20140801,1613,1617,18.5283,149.3223,5571,5607.1, 1.5286,34.6948,2,173.7,2,34.6950,2,174.18,6,132.66,6,34.20,6,0.00,6,2.39,6, -999,9, -999,9,-999.0,9,-999.0,9,-999.0,9,-999,-999,9,-999,9, 1.0172,2,27.7989,2, 1.5286,2
49UP20140609_3,   P10,48,1, 1,997,2,20140801,1613,1614,18.5283,149.3223,5571,5710.2, 1.5405,34.6949,2,173.9,2,34.6950,2,173.65,2,132.73,2,34.19,2,0.00,2,2.39,2, -999,9, -999,9,-999.0,9,-999.0,9,-999.0,9,-999,-999,9,-999,9, 1.0153,2,27.7991,2, 1.5406,2
49UP20140609_3,   P10,49,1, 0,BUC,2,20140802,0021, 225,17.8547,149.3295,5302,   0.0,30.4897,34.7159,2,193.1,2,34.7154,2,193.03,2,  0.75,2, 0.00,2,0.00,2,0.07,2, -999,9, -999,9,1939.1,2,2276.1,2,8.1244,2,25,0.05,2,0.01,2,30.4891,2,21.3455,2,   -999,9
49UP20140609_3,   P10,49,1,36,109,2,20140802,0021, 246,17.8547,149.3295,5302,  10.3,30.1543,34.7067,2,193.5,2,34.7061,2,193.21,6,  0.74,6, 0.00,6,0.00,6,0.05,6, -999,9, -999,9,1939.0,2,2275.9,2,8.1225,2,25,0.05,2,0.02,2,30.1517,2,21.4545,2,30.1538,2
49UP20140609_3,   P10,49,1,35,112,2,20140802,0021, 244,17.8547,149.3295,5302,  50.5,28.9854,34.9705,2,206.9,2,34.9872,4,206.77,2,  0.76,2, 0.00,2,0.00,2,0.07,2, -999,9, -999,9,1957.7,2,2296.3,2,8.1205,2,25,0.06,2,0.02,2,28.9732,2,22.0509,2,28.9814,2
49UP20140609_3,   P10,49,1,34,83,2,20140802,0021, 243,17.8547,149.3295,5302, 100.5,26.9234,35.1595,2,200.2,2,35.1603,2,200.12,2,  0.77,2, 0.00,2,0.00,2,0.07,2, -999,9, -999,9,1982.0,2,2307.6,2,8.1030,2,25,0.13,2,0.14,2,26.9004,2,22.8697,2,26.9203,2
49UP20140609_3,   P10,49,1,33,107,2,20140802,0021, 241,17.8547,149.3295,5302, 151.2,23.6724,35.2181,2,179.5,2,35.2173,2,179.02,2,  1.26,2, 0.85,2,0.03,2,0.17,2, -999,9, -999,9,2032.2,2,2312.5,2,8.0124,2,25,0.05,2,0.17,2,23.6409,2,23.9125,2,23.6835,2
49UP20140609_3,   P10,49,1,32,105,2,20140802,0021, 238,17.8547,149.3295,5302, 201.6,20.6455,35.0173,2,175.0,2,35.0165,6,174.67,2,  2.49,2, 3.18,2,0.01,2,0.32,2, -999,9, -999,9,2062.2,2,2302.1,2,7.9509,2,25,0.01,2,0.05,2,20.6073,2,24.6133,2,20.6407,2
49UP20140609_3,   P10,49,1,31,515,2,20140802,0021, 233,17.8547,149.3295,5302, 250.7,18.0002,34.7800,2,172.3,2,34.7783,2,173.03,2,  4.72,2, 6.20,2,0.01,2,0.51,2, -999,9, -999,9,2078.5,2,2286.5,2,7.8921,2,25,-999,9,-999,9,17.9571,2,25.1141,2,17.9994,2
49UP20140609_3,   P10,49,1,30,97,2,20140802,0021, 230,17.8547,149.3295,5302, 333.0,13.3806,34.3997,2,173.3,2,34.4014,2,174.37,2, 12.33,2,12.69,2,0.00,2,0.94,2, -999,9, -999,9,2104.9,2,2266.9,2,7.7907,2,25,-999,9,-999,9,13.3340,2,25.8605,2,13.3841,2
49UP20140609_3,   P10,49,1,29,102,2,20140802,0021, 228,17.8547,149.3295,5302, 382.8,12.0164,34.3132,2,177.2,2,34.3112,2,177.86,2, 16.73,2,15.04,2,0.00,2,1.09,2, -999,9, -999,9,2115.3,2,2265.9,2,7.7707,2,25,-999,9,-999,9,11.9664,2,26.0620,2,12.0152,2
49UP20140609_3,   P10,49,1,28,108,2,20140802,0021, 226,17.8547,149.3295,5302, 432.5,10.3762,34.2177,2,167.8,2,34.2184,2,168.56,2, 23.93,2,18.88,2,0.00,2,1.37,2, -999,9, -999,9,2140.7,2,2266.9,2,7.7117,2,25,-999,9,-999,9,10.3247,2,26.2855,2,10.3763,2
49UP20140609_3,   P10,49,1,27,998,2,20140802,0021, 225,17.8547,149.3295,5302, 484.2, 8.8026,34.1619,2,137.5,2,34.1640,2,136.24,2, 35.91,2,24.76,2,0.00,2,1.81,2, -999,9, -999,9,2183.6,2,2275.3,2,7.6183,2,25,-999,9,-999,9, 8.7504,2,26.5012,2, 8.8067,2
49UP20140609_3,   P10,49,1,26,84,2,20140802,0021, 222,17.8547,149.3295,5302, 534.7, 8.3496,34.2001,2,106.3,2,34.1989,2,106.52,6, 42.22,6,28.31,6,0.00,6,2.09,6, -999,9, -999,9,2211.9,2,2283.7,2,7.5512,2,25,-999,9,-999,9, 8.2935,2,26.6015,2, 8.3498,2
49UP20140609_3,   P10,49,1,25,98,2,20140802,0021, 219,17.8547,149.3295,5302, 635.6, 6.1779,34.2330,2, 72.0,2,34.2365,4, 71.99,2, 69.22,2,35.53,2,0.00,2,2.60,2, -999,9, -999,9,2272.0,6,2310.7,6,7.4533,2,25,-999,9,-999,9, 6.1212,2,26.9312,2, 6.1806,2
49UP20140609_3,   P10,49,1,24,110,2,20140802,0021, 213,17.8547,149.3295,5302, 737.0, 5.2130,34.3288,2, 60.5,2,34.3277,2, 60.38,2, 85.91,2,38.34,2,0.00,2,2.78,2, -999,9, -999,9,2298.8,2,2331.0,2,7.4316,6,25,-999,9,-999,9, 5.1520,2,27.1255,2, 5.2144,2
49UP20140609_3,   P10,49,1,23,96,2,20140802,0021, 209,17.8547,149.3295,5302, 838.0, 4.7532,34.4060,2, 63.6,2,34.4069,6, 63.92,2, 94.78,2,38.81,2,0.00,2,2.81,2, -999,9, -999,9,2311.4,2,2347.0,2,7.4427,2,25,-999,9,-999,9, 4.6861,2,27.2399,2, 4.7555,2
49UP20140609_3,   P10,49,1,22,111,2,20140802,0021, 206,17.8547,149.3295,5302, 939.3, 4.1687,34.4863,2, 75.6,2,34.4865,2, 75.39,2,105.62,2,38.75,2,0.00,2,2.79,2, -999,9, -999,9,2320.0,2,2364.2,2,7.4694,2,25,-999,9,-999,9, 4.0968,2,27.3674,2, 4.1684,2
49UP20140609_3,   P10,49,1,21,78,2,20140802,0021, 202,17.8547,149.3295,5302,1080.1, 3.6917,34.5258,2, 81.5,2,34.5257,2, 81.67,2,113.82,2,38.89,2,0.00,2,2.79,2, -999,9, -999,9,2327.7,2,2376.0,2,7.4796,2,25,-999,9,-999,9, 3.6119,2,27.4482,2, 3.6916,2
49UP20140609_3,   P10,49,1,20,93,2,20140802,0021, 149,17.8547,149.3295,5302,1281.5, 3.1939,34.5567,2, 86.9,2,34.5563,2, 86.74,2,123.35,2,39.11,2,0.00,2,2.80,2, -999,9, -999,9,2335.5,2,2386.0,2,7.4842,2,25,-999,9,-999,9, 3.1020,2,27.5218,2, 3.1940,2
49UP20140609_3,   P10,49,1,19,92,2,20140802,0021, 144,17.8547,149.3295,5302,1484.2, 2.7829,34.5785,2, 91.9,2,34.5785,2, 91.84,2,130.94,2,39.13,2,0.00,2,2.79,2, -999,9, -999,9,2342.4,6,2394.0,6,7.4885,2,25,-999,9,-999,9, 2.6789,2,27.5774,2, 2.7828,2
49UP20140609_3,   P10,49,1,18,101,2,20140802,0021, 140,17.8547,149.3295,5302,1685.9, 2.4222,34.5921,2, 96.6,2,34.5935,2, 96.84,2,138.38,2,39.10,2,0.00,2,2.78,2, -999,9, -999,9,2347.0,2,2401.1,2,7.4941,6,25,-999,9,-999,9, 2.3060,2,27.6201,2, 2.4216,2
49UP20140609_3,   P10,49,1,17,90,2,20140802,0021, 135,17.8547,149.3295,5302,1888.5, 2.1592,34.6144,2,104.1,2,34.6147,2,104.35,6,142.93,6,38.81,6,0.00,6,2.75,6, -999,9, -999,9,2347.7,2,2405.6,2,7.5069,2,25,-999,9,-999,9, 2.0298,2,27.6604,2, 2.1592,2
49UP20140609_3,   P10,49,1,16,89,3,20140802,0021, 131,17.8547,149.3295,5302,2091.3, 1.9734,34.6297,2,110.3,2,34.6300,2,110.32,2,146.15,2,38.48,2,0.00,2,2.72,2, -999,9, -999,9,2346.7,2,2410.8,2,7.5162,2,25,-999,9,-999,9, 1.8296,2,27.6883,2, 1.9734,2
49UP20140609_3,   P10,49,1,15,88,2,20140802,0021, 127,17.8547,149.3295,5302,2294.8, 1.8479,34.6402,2,116.7,2,34.6402,2,116.76,2,147.55,2,38.12,2,0.00,2,2.69,2, -999,9, -999,9,2345.3,2,2412.7,2,7.5290,2,25,-999,9,-999,9, 1.6887,2,27.7075,2, 1.8479,2
49UP20140609_3,   P10,49,1,14,999,2,20140802,0021, 123,17.8547,149.3295,5302,2499.4, 1.7373,34.6515,2,122.7,2,34.6516,6,122.69,2,149.16,2,37.91,2,0.00,2,2.66,2, -999,9, -999,9,2346.1,2,2413.7,2,7.5372,2,25,-999,9,-999,9, 1.5620,2,27.7260,2, 1.7372,2
49UP20140609_3,   P10,49,1,13,667,2,20140802,0021, 118,17.8547,149.3295,5302,2702.1, 1.6736,34.6583,2,127.2,2,34.6582,2,127.16,2,149.59,2,37.52,2,0.00,2,2.64,2, -999,9, -999,9,2343.5,2,2415.8,2,7.5438,2,25,-999,9,-999,9, 1.4811,2,27.7374,2, 1.6736,2
49UP20140609_3,   P10,49,1,12,74,2,20140802,0021, 113,17.8547,149.3295,5302,2906.8, 1.6229,34.6646,2,131.8,2,34.6642,2,131.77,6,149.78,6,37.29,6,0.00,6,2.62,6, -999,9, -999,9,2341.9,2,2416.5,2,7.5524,2,25,-999,9,-999,9, 1.4123,2,27.7473,2, 1.6230,2
49UP20140609_3,   P10,49,1,11,268,2,20140802,0021, 108,17.8547,149.3295,5302,3121.1, 1.5786,34.6698,2,136.4,2,34.6692,2,136.27,2,149.07,2,36.93,2,0.00,2,2.59,2, -999,9, -999,9,2337.9,2,2417.1,2,7.5607,2,25,-999,9,-999,9, 1.3485,2,27.7561,2, 1.5788,2
49UP20140609_3,   P10,49,1,10,267,2,20140802,0021, 103,17.8547,149.3295,5302,3376.5, 1.5317,34.6749,2,142.3,2,34.6747,2,142.31,2,147.91,2,36.54,2,0.00,2,2.56,2, -999,9, -999,9,2337.3,2,2415.5,2,7.5681,2,25,-999,9,-999,9, 1.2773,2,27.7652,2, 1.5318,2
49UP20140609_3,   P10,49,1, 8,81,2,20140802,0021,  58,17.8547,149.3295,5302,3630.6, 1.5054,34.6787,2,147.4,2,34.6784,2,147.50,2,146.23,2,36.19,2,0.00,2,2.54,2, -999,9, -999,9,2332.7,6,2413.8,6,7.5786,2,25,-999,9,-999,9, 1.2257,2,27.7719,2, 1.5053,2
49UP20140609_3,   P10,49,1, 7,516,2,20140802,0021,  52,17.8547,149.3295,5302,3886.8, 1.4840,34.6823,2,152.7,2,34.6820,2,152.43,2,144.35,2,35.88,2,0.00,2,2.51,2, -999,9, -999,9,2333.2,3,2411.6,2,7.5818,6,25,-999,9,-999,9, 1.1778,2,27.7780,2, 1.4839,2
49UP20140609_3,   P10,49,1, 6,113,2,20140802,0021,  47,17.8547,149.3295,5302,4144.8, 1.4672,34.6855,2,157.7,2,34.6857,6,157.89,2,141.92,2,35.56,2,0.00,2,2.48,2, -999,9, -999,9,2323.9,2,2410.1,2,7.5887,2,25,-999,9,-999,9, 1.1333,2,27.7837,2, 1.4671,2
49UP20140609_3,   P10,49,1, 9,94,2,20140802,0021,  37,17.8547,149.3295,5302,4658.3, 1.4550,34.6912,2,167.2,2,34.6916,2,168.44,4,136.45,2,34.81,2,0.00,2,2.43,2, -999,9, -999,9,2312.0,2,2402.2,2,7.6023,2,25,-999,9,-999,9, 1.0630,2,27.7930,2, 1.4551,2
49UP20140609_3,   P10,49,1, 4,77,2,20140802,0021,  37,17.8547,149.3295,5302,4658.3, 1.4550,34.6912,2,167.1,2,34.6919,2,167.43,2,136.70,2,34.76,2,0.00,2,2.42,2, -999,9, -999,9,2311.5,2,2403.9,2,7.5991,2,25,-999,9,-999,9, 1.0630,2,27.7930,2, 1.4550,2
49UP20140609_3,   P10,49,1, 5,518,2,20140802,0021,  37,17.8547,149.3295,5302,4658.6, 1.4548,34.6913,2,167.1,2,34.6915,2,167.48,2,136.61,2,34.85,2,0.00,2,2.43,2, -999,9, -999,9,2311.7,2,2403.4,2,7.5989,2,25,-999,9,-999,9, 1.0628,2,27.7931,2, 1.4549,2
49UP20140609_3,   P10,49,1, 3,104,2,20140802,0021,  32,17.8547,149.3295,5302,4915.8, 1.4629,34.6930,2,170.3,2,34.6934,2,170.75,2,134.92,2,34.56,2,0.00,2,2.41,2, -999,9, -999,9,2309.2,2,2401.2,2,7.6036,2,25,-999,9,-999,9, 1.0400,2,27.7960,2, 1.4629,2
49UP20140609_3,   P10,49,1, 2,75,2,20140802,0021,  26,17.8547,149.3295,5302,5173.0, 1.4787,34.6943,2,172.5,2,34.6949,2,172.87,2,133.24,2,34.35,2,0.00,2,2.39,2, -999,9, -999,9,2308.0,2,2399.5,2,7.6060,2,25,-999,9,-999,9, 1.0239,2,27.7981,2, 1.4788,2
49UP20140609_3,   P10,49,1, 1,997,2,20140802,0021,  21,17.8547,149.3295,5302,5412.2, 1.5000,34.6950,2,174.0,2,34.6950,2,174.03,2,132.61,2,34.33,2,0.00,2,2.40,2, -999,9, -999,9,2306.1,2,2400.6,2,7.6070,2,25,-999,9,-999,9, 1.0145,2,27.7993,2, 1.5001,2