BOTTLE,20230725CCHSIOADS
EXPOCODE,SECT_ID,STNNBR,CASTNO,SAMPNO,BTLNBR,BTLNBR_FLAG_W,DATE,TIME,BTL_TIME,LATITUDE,LONGITUDE,DEPTH,CTDPRS,CTDTMP,CTDSAL,CTDSAL_FLAG_W,CTDOXY,CTDOXY_FLAG_W,SALNTY,SALNTY_FLAG_W,OXYGEN,OXYGEN_FLAG_W,SILCAT,SILCAT_FLAG_W,NO2+NO3,NO2+NO3_FLAG_W,NITRIT,NITRIT_FLAG_W,PHSPHT,PHSPHT_FLAG_W,CFC-11,CFC-11_FLAG_W,CFC-12,CFC-12_FLAG_W,TCARBN,TCARBN_FLAG_W,ALKALI,ALKALI_FLAG_W,PH_TOT,PH_TOT_FLAG_W,PH_TMP,CHLORA,CHLORA_FLAG_W,PPHYTN,PPHYTN_FLAG_W,THETA,THETA_FLAG_W,SIG0,SIG0_FLAG_W,REFTMP,REFTMP_FLAG_W
,,,,,,,,,,,,METERS,DBAR,ITS-90,PSS-78,,UMOL/KG,,PSS-78,,UMOL/KG,,UMOL/KG,,UMOL/KG,,UMOL/KG,,UMOL/KG,,PMOL/KG,,PMOL/KG,,UMOL/KG,,UMOL/KG,,,,DEG C,UG/KG,,UG/KG,,ITS-90,,KG/M^3,,ITS-90,
49UP20140609_3,   P10,76,1, 0,BUC,2,20140810,1755,1934, 2.7635,146.9368,4400,   0.0,29.5277,34.1019,2,195.7,2,   -999,9,195.31,2,  1.12,2, 0.01,2,0.00,2,0.04,2, -999,9, -999,9,-999.0,9,-999.0,9,-999.0,9,-999,-999,9,-999,9,29.5271,2,21.2133,2,   -999,9
49UP20140609_3,   P10,76,1,36,109,2,20140810,1755,1954, 2.7635,146.9368,4400,  10.6,29.5456,34.1020,2,195.5,2,34.0995,2,195.16,6,  1.06,6, 0.00,6,0.00,6,0.04,6, -999,9, -999,9,-999.0,9,-999.0,9,-999.0,9,-999,-999,9,-999,9,29.5430,2,21.2080,2,29.5440,2
49UP20140609_3,   P10,76,1,35,112,2,20140810,1755,1953, 2.7635,146.9368,4400,  25.8,29.4783,34.1148,2,195.9,2,34.1149,2,195.51,2,  1.04,2, 0.00,2,0.00,2,0.04,2, -999,9, -999,9,-999.0,9,-999.0,9,-999.0,9,-999,-999,9,-999,9,29.4720,2,21.2415,2,29.4771,2
49UP20140609_3,   P10,76,1,34,83,2,20140810,1755,1950, 2.7635,146.9368,4400,  50.7,28.7096,34.1511,2,196.4,2,34.1988,4,195.25,2,  1.27,2, 0.08,2,0.00,2,0.07,2, -999,9, -999,9,-999.0,9,-999.0,9,-999.0,9,-999,-999,9,-999,9,28.6975,2,21.5273,2,28.7089,2
49UP20140609_3,   P10,76,1,33,107,2,20140810,1755,1948, 2.7635,146.9368,4400,  74.4,27.0514,35.1991,2,152.2,2,35.1836,4,151.48,2,  2.44,2, 5.91,2,0.09,2,0.54,2, -999,9, -999,9,-999.0,9,-999.0,9,-999.0,9,-999,-999,9,-999,9,27.0343,2,22.8568,2,27.0500,2
49UP20140609_3,   P10,76,1,32,105,4,20140810,1755,1947, 2.7635,146.9368,4400, 100.8,26.0614,34.9743,2,145.2,2,34.9437,4,132.39,4, 12.60,4,13.64,4,0.02,4,1.02,4, -999,9, -999,9,-999.0,9,-999.0,9,-999.0,9,-999,-999,9,-999,9,26.0389,2,23.0018,2,26.0599,2
49UP20140609_3,   P10,76,1,31,515,2,20140810,1755,1946, 2.7635,146.9368,4400, 125.5,24.1122,35.1142,2,137.1,2,35.1198,2,136.99,2,  4.30,2, 8.00,2,0.02,2,0.65,2, -999,9, -999,9,-999.0,9,-999.0,9,-999.0,9,-999,-999,9,-999,9,24.0857,2,23.7024,2,24.1089,2
49UP20140609_3,   P10,76,1,30,97,2,20140810,1755,1945, 2.7635,146.9368,4400, 150.7,21.4148,35.0275,2,139.7,2,35.0168,4,140.57,2,  7.20,2, 9.24,2,0.02,2,0.74,2, -999,9, -999,9,-999.0,9,-999.0,9,-999.0,9,-999,-999,9,-999,9,21.3855,2,24.4094,2,21.4124,2
49UP20140609_3,   P10,76,1,29,102,2,20140810,1755,1943, 2.7635,146.9368,4400, 202.4,15.6259,34.8011,2,137.9,2,34.8017,2,137.25,2, 14.93,2,15.03,2,0.01,2,1.12,2, -999,9, -999,9,-999.0,9,-999.0,9,-999.0,9,-999,-999,9,-999,9,15.5945,2,25.6865,2,15.6243,2
49UP20140609_3,   P10,76,1,28,108,2,20140810,1755,1941, 2.7635,146.9368,4400, 253.1,11.1920,34.5507,2, 98.6,2,34.5511,2, 94.89,2, 28.90,2,25.52,2,0.00,2,1.86,2, -999,9, -999,9,-999.0,9,-999.0,9,-999.0,9,-999,-999,9,-999,9,11.1605,2,26.3965,2,11.2068,2
49UP20140609_3,   P10,76,1,27,998,2,20140810,1755,1939, 2.7635,146.9368,4400, 334.1, 9.3006,34.6714,2,104.9,2,34.6889,4,106.17,2, 27.19,2,28.81,2,0.00,2,2.03,2, -999,9, -999,9,-999.0,9,-999.0,9,-999.0,9,-999,-999,9,-999,9, 9.2634,2,26.8182,2, 9.3013,2
49UP20140609_3,   P10,76,1,26,84,2,20140810,1755,1937, 2.7635,146.9368,4400, 383.3, 9.1635,34.6616,2,106.6,2,34.6618,2,106.02,2, 27.76,2,29.16,2,0.00,2,2.05,2, -999,9, -999,9,-999.0,9,-999.0,9,-999.0,9,-999,-999,9,-999,9, 9.1212,2,26.8336,2, 9.1631,2
49UP20140609_3,   P10,76,1,25,98,2,20140810,1755,1935, 2.7635,146.9368,4400, 432.6, 8.6813,34.6233,2,121.8,2,34.6234,2,121.51,2, 28.97,2,28.50,2,0.00,2,2.01,2, -999,9, -999,9,-999.0,9,-999.0,9,-999.0,9,-999,-999,9,-999,9, 8.6349,2,26.8809,2, 8.6804,2
49UP20140609_3,   P10,76,1,24,110,2,20140810,1755,1934, 2.7635,146.9368,4400, 484.6, 8.4391,34.6093,2,122.5,2,34.6087,2,122.20,2, 30.27,2,28.95,2,0.00,2,2.04,2, -999,9, -999,9,-999.0,9,-999.0,9,-999.0,9,-999,-999,9,-999,9, 8.3878,2,26.9082,2, 8.4393,2
49UP20140609_3,   P10,76,1,23,96,2,20140810,1755,1932, 2.7635,146.9368,4400, 534.1, 7.9389,34.5820,2,118.9,2,34.5812,2,119.48,6, 33.77,6,30.10,6,0.00,6,2.13,6, -999,9, -999,9,-999.0,9,-999.0,9,-999.0,9,-999,-999,9,-999,9, 7.8842,2,26.9627,2, 7.9388,2
49UP20140609_3,   P10,76,1,22,111,2,20140810,1755,1930, 2.7635,146.9368,4400, 632.6, 7.1233,34.5504,2,103.2,2,34.5500,2,102.92,2, 43.12,2,33.16,2,0.00,2,2.35,2, -999,9, -999,9,-999.0,9,-999.0,9,-999.0,9,-999,-999,9,-999,9, 7.0620,2,27.0560,2, 7.1229,2
49UP20140609_3,   P10,76,1,21,78,2,20140810,1755,1926, 2.7635,146.9368,4400, 736.9, 6.0067,34.5356,2, 83.2,2,34.5361,2, 82.94,2, 61.85,2,36.94,2,0.00,2,2.64,2, -999,9, -999,9,-999.0,9,-999.0,9,-999.0,9,-999,-999,9,-999,9, 5.9410,2,27.1932,2, 6.0063,2
49UP20140609_3,   P10,76,1,20,93,2,20140810,1755,1919, 2.7635,146.9368,4400, 836.5, 5.1104,34.5403,2, 92.4,2,34.5412,2, 92.12,2, 74.28,2,37.35,2,0.00,2,2.67,2, -999,9, -999,9,-999.0,9,-999.0,9,-999.0,9,-999,-999,9,-999,9, 5.0409,2,27.3060,2, 5.1095,2
49UP20140609_3,   P10,76,1,19,92,2,20140810,1755,1915, 2.7635,146.9368,4400, 937.1, 4.6822,34.5474,2, 95.8,2,34.5481,2, 95.54,2, 82.18,2,37.56,2,0.00,2,2.68,2, -999,9, -999,9,-999.0,9,-999.0,9,-999.0,9,-999,-999,9,-999,9, 4.6068,2,27.3609,2, 4.6810,2
49UP20140609_3,   P10,76,1,18,101,2,20140810,1755,1912, 2.7635,146.9368,4400,1080.5, 4.1044,34.5632,2, 95.7,2,34.5636,6, 95.22,2, 94.93,2,38.07,2,0.00,2,2.72,2, -999,9, -999,9,-999.0,9,-999.0,9,-999.0,9,-999,-999,9,-999,9, 4.0210,2,27.4365,2, 4.1043,2
49UP20140609_3,   P10,76,1,17,90,2,20140810,1755,1907, 2.7635,146.9368,4400,1282.0, 3.6557,34.5769,2, 98.3,2,34.5773,2, 97.86,2,104.22,2,38.27,2,0.00,2,2.74,2, -999,9, -999,9,-999.0,9,-999.0,9,-999.0,9,-999,-999,9,-999,9, 3.5593,2,27.4942,2, 3.6555,2
49UP20140609_3,   P10,76,1,16,89,2,20140810,1755,1903, 2.7635,146.9368,4400,1482.5, 3.2468,34.5907,2,100.0,2,34.5907,2, 99.89,2,113.88,2,38.53,2,0.00,2,2.74,2, -999,9, -999,9,-999.0,9,-999.0,9,-999.0,9,-999,-999,9,-999,9, 3.1376,2,27.5457,2, 3.2465,2
49UP20140609_3,   P10,76,1,15,88,2,20140810,1755,1858, 2.7635,146.9368,4400,1686.5, 2.8129,34.6077,2,103.4,2,34.6078,2,102.98,6,123.62,6,38.65,6,0.00,6,2.75,6, -999,9, -999,9,-999.0,9,-999.0,9,-999.0,9,-999,-999,9,-999,9, 2.6915,2,27.5996,2, 2.8127,2
49UP20140609_3,   P10,76,1,14,999,2,20140810,1755,1854, 2.7635,146.9368,4400,1888.9, 2.4267,34.6252,2,109.7,2,34.6261,2,109.17,2,131.96,2,38.46,2,0.00,2,2.72,2, -999,9, -999,9,-999.0,9,-999.0,9,-999.0,9,-999,-999,9,-999,9, 2.2933,2,27.6476,2, 2.4269,2
49UP20140609_3,   P10,76,1,13,667,2,20140810,1755,1850, 2.7635,146.9368,4400,2093.1, 2.1857,34.6375,2,112.9,2,34.6375,2,112.68,2,137.80,2,38.37,2,0.00,2,2.71,2, -999,9, -999,9,-999.0,9,-999.0,9,-999.0,9,-999,-999,9,-999,9, 2.0384,2,27.6782,2, 2.1855,2
49UP20140609_3,   P10,76,1,11,268,2,20140810,1755,1845, 2.7635,146.9368,4400,2296.4, 1.9539,34.6502,2,120.7,2,34.6503,2,120.26,2,141.62,2,37.92,2,0.00,2,2.66,2, -999,9, -999,9,-999.0,9,-999.0,9,-999.0,9,-999,-999,9,-999,9, 1.7927,2,27.7076,2, 1.9543,2
49UP20140609_3,   P10,76,1,12,74,2,20140810,1755,1845, 2.7635,146.9368,4400,2296.5, 1.9534,34.6504,2,120.6,2,34.6503,2,120.23,2,142.02,2,37.92,2,0.00,2,2.66,2, -999,9, -999,9,-999.0,9,-999.0,9,-999.0,9,-999,-999,9,-999,9, 1.7922,2,27.7078,2, 1.9546,2
49UP20140609_3,   P10,76,1,10,267,2,20140810,1755,1840, 2.7635,146.9368,4400,2500.0, 1.8056,34.6581,2,128.8,2,34.6583,6,128.46,2,142.25,2,37.34,2,0.00,2,2.61,2, -999,9, -999,9,-999.0,9,-999.0,9,-999.0,9,-999,-999,9,-999,9, 1.6290,2,27.7263,2, 1.8066,2
49UP20140609_3,   P10,76,1, 9,518,2,20140810,1755,1836, 2.7635,146.9368,4400,2703.0, 1.6894,34.6645,2,136.2,2,34.6646,2,136.32,2,142.35,2,36.84,2,0.00,2,2.57,2, -999,9, -999,9,-999.0,9,-999.0,9,-999.0,9,-999,-999,9,-999,9, 1.4965,2,27.7412,2, 1.6893,2
49UP20140609_3,   P10,76,1, 8,81,2,20140810,1755,1831, 2.7635,146.9368,4400,2907.1, 1.6659,34.6669,2,138.4,2,34.6692,4,138.49,2,142.37,2,36.71,2,0.00,2,2.56,2, -999,9, -999,9,-999.0,9,-999.0,9,-999.0,9,-999,-999,9,-999,9, 1.4543,2,27.7462,2, 1.6653,2
49UP20140609_3,   P10,76,1, 7,516,2,20140810,1755,1826, 2.7635,146.9368,4400,3121.6, 1.6063,34.6716,2,142.5,2,34.6709,2,142.48,2,142.69,2,36.50,2,0.00,2,2.55,2, -999,9, -999,9,-999.0,9,-999.0,9,-999.0,9,-999,-999,9,-999,9, 1.3755,2,27.7556,2, 1.6065,2
49UP20140609_3,   P10,76,1, 6,113,2,20140810,1755,1820, 2.7635,146.9368,4400,3374.9, 1.5843,34.6746,2,145.1,2,34.6748,2,144.97,2,142.48,2,36.26,2,0.00,2,2.53,2, -999,9, -999,9,-999.0,9,-999.0,9,-999.0,9,-999,-999,9,-999,9, 1.3288,2,27.7613,2, 1.5842,2
49UP20140609_3,   P10,76,1, 5,94,2,20140810,1755,1815, 2.7635,146.9368,4400,3632.5, 1.5624,34.6783,2,148.0,2,34.6786,2,148.28,2,142.57,2,36.15,2,0.00,2,2.52,2, -999,9, -999,9,-999.0,9,-999.0,9,-999.0,9,-999,-999,9,-999,9, 1.2810,2,27.7676,2, 1.5622,2
49UP20140609_3,   P10,76,1, 4,77,2,20140810,1755,1809, 2.7635,146.9368,4400,3887.8, 1.5516,34.6808,2,150.4,2,34.6809,2,150.21,6,142.12,6,36.04,6,0.00,6,2.50,6, -999,9, -999,9,-999.0,9,-999.0,9,-999.0,9,-999,-999,9,-999,9, 1.2434,2,27.7723,2, 1.5514,2
49UP20140609_3,   P10,76,1, 3,104,2,20140810,1755,1804, 2.7635,146.9368,4400,4144.2, 1.5383,34.6836,2,153.9,2,34.6840,2,153.83,2,141.24,2,35.78,2,0.00,2,2.48,2, -999,9, -999,9,-999.0,9,-999.0,9,-999.0,9,-999,-999,9,-999,9, 1.2025,2,27.7774,2, 1.5382,2
49UP20140609_3,   P10,76,1, 2,75,2,20140810,1755,1758, 2.7635,146.9368,4400,4400.1, 1.5481,34.6851,2,154.7,2,34.6860,6,155.00,2,141.07,2,35.73,2,0.00,2,2.48,2, -999,9, -999,9,-999.0,9,-999.0,9,-999.0,9,-999,-999,9,-999,9, 1.1831,2,27.7799,2, 1.5480,2
49UP20140609_3,   P10,76,1, 1,997,2,20140810,1755,1756, 2.7635,146.9368,4400,4470.9, 1.5533,34.6852,2,155.2,2,34.6853,2,155.17,2,140.94,2,35.64,2,0.00,2,2.48,2, -999,9, -999,9,-999.0,9,-999.0,9,-999.0,9,-999,-999,9,-999,9, 1.1800,2,27.7802,2, 1.5533,2
49UP20140609_3,   P10,77,1, 0,BUC,2,20140811,0240, 420, 2.5092,146.8855,4410,   0.0,29.6466,34.0764,2,196.1,2,   -999,9,195.25,2,  1.13,2, 0.00,2,0.00,2,0.05,2, -999,9, -999,9,-999.0,9,-999.0,9,-999.0,9,-999,-999,9,-999,9,29.6459,2,21.1540,2,   -999,9
49UP20140609_3,   P10,77,1,36,109,2,20140811,0240, 443, 2.5092,146.8855,4410,  10.6,29.5576,34.0733,2,196.3,2,34.0709,2,195.99,2,  1.09,2, 0.00,2,0.00,2,0.04,2, -999,9, -999,9,-999.0,9,-999.0,9,-999.0,9,-999,-999,9,-999,9,29.5550,2,21.1824,2,29.5580,2
49UP20140609_3,   P10,77,1,35,112,2,20140811,0240, 442, 2.5092,146.8855,4410,  26.4,29.4279,34.0833,2,196.6,2,34.0816,2,196.30,2,  1.10,2, 0.00,2,0.00,2,0.04,2, -999,9, -999,9,-999.0,9,-999.0,9,-999.0,9,-999,-999,9,-999,9,29.4215,2,21.2349,2,29.4275,2
49UP20140609_3,   P10,77,1,34,83,2,20140811,0240, 439, 2.5092,146.8855,4410,  52.7,29.2001,34.1667,2,197.2,2,34.1660,2,197.27,2,  1.06,2, 0.00,2,0.00,2,0.05,2, -999,9, -999,9,-999.0,9,-999.0,9,-999.0,9,-999,-999,9,-999,9,29.1873,2,21.3760,2,29.2052,2
49UP20140609_3,   P10,77,1,33,107,2,20140811,0240, 438, 2.5092,146.8855,4410,  78.6,27.4310,35.1867,2,156.8,2,35.1847,2,156.91,2,  2.17,2, 5.16,2,0.20,2,0.51,2, -999,9, -999,9,-999.0,9,-999.0,9,-999.0,9,-999,-999,9,-999,9,27.4127,2,22.7259,2,27.4299,2
49UP20140609_3,   P10,77,1,32,105,2,20140811,0240, 436, 2.5092,146.8855,4410, 104.7,25.3232,35.0298,2,140.1,2,35.0186,4,140.54,2,  3.34,2, 6.99,2,0.05,2,0.58,2, -999,9, -999,9,-999.0,9,-999.0,9,-999.0,9,-999,-999,9,-999,9,25.3003,2,23.2721,2,25.3192,2
49UP20140609_3,   P10,77,1,31,515,2,20140811,0240, 435, 2.5092,146.8855,4410, 126.2,22.4821,35.0432,2,136.6,2,35.0670,4,136.35,2,  6.03,2, 8.80,2,0.02,2,0.70,2, -999,9, -999,9,-999.0,9,-999.0,9,-999.0,9,-999,-999,9,-999,9,22.4567,2,24.1218,2,22.4808,2
49UP20140609_3,   P10,77,1,30,97,2,20140811,0240, 433, 2.5092,146.8855,4410, 151.4,20.8713,35.0876,2,136.5,2,35.0843,2,136.50,2,  7.43,2,10.04,2,0.02,2,0.80,2, -999,9, -999,9,-999.0,9,-999.0,9,-999.0,9,-999,-999,9,-999,9,20.8424,2,24.6034,2,20.8800,2
49UP20140609_3,   P10,77,1,29,102,2,20140811,0240, 432, 2.5092,146.8855,4410, 202.2,16.8432,34.8913,2,138.7,2,34.8919,2,138.43,2, 12.14,2,13.32,2,0.01,2,1.01,2, -999,9, -999,9,-999.0,9,-999.0,9,-999.0,9,-999,-999,9,-999,9,16.8101,2,25.4758,2,16.8349,2
49UP20140609_3,   P10,77,1,28,108,2,20140811,0240, 429, 2.5092,146.8855,4410, 252.8,13.3763,34.6980,2,132.4,2,34.6913,2,130.89,2, 20.47,2,18.84,2,0.01,2,1.39,2, -999,9, -999,9,-999.0,9,-999.0,9,-999.0,9,-999,-999,9,-999,9,13.3409,2,26.0900,2,13.3843,2
49UP20140609_3,   P10,77,1,27,998,2,20140811,0240, 428, 2.5092,146.8855,4410, 282.6,10.1532,34.5711,2,112.2,2,34.5850,4,114.02,2, 31.56,2,25.94,2,0.00,2,1.86,2, -999,9, -999,9,-999.0,9,-999.0,9,-999.0,9,-999,-999,9,-999,9,10.1201,2,26.5965,2,10.1537,2
49UP20140609_3,   P10,77,1,26,84,2,20140811,0240, 426, 2.5092,146.8855,4410, 322.6, 9.6167,34.6967,2,102.7,2,34.6961,2,102.61,2, 25.86,2,28.62,2,0.00,2,2.01,2, -999,9, -999,9,-999.0,9,-999.0,9,-999.0,9,-999,-999,9,-999,9, 9.5801,2,26.7859,2, 9.6164,2
49UP20140609_3,   P10,77,1,25,98,2,20140811,0240, 424, 2.5092,146.8855,4410, 372.8, 9.2533,34.6637,2,117.9,2,34.6638,2,116.85,6, 26.51,6,27.90,6,0.00,6,1.97,6, -999,9, -999,9,-999.0,9,-999.0,9,-999.0,9,-999,-999,9,-999,9, 9.2119,2,26.8206,2, 9.2530,2
49UP20140609_3,   P10,77,1,24,110,2,20140811,0240, 422, 2.5092,146.8855,4410, 424.2, 8.8374,34.6356,2,117.5,2,34.6360,2,116.88,2, 28.50,2,28.63,2,0.00,2,2.02,2, -999,9, -999,9,-999.0,9,-999.0,9,-999.0,9,-999,-999,9,-999,9, 8.7915,2,26.8659,2, 8.8403,2
49UP20140609_3,   P10,77,1,23,96,2,20140811,0240, 420, 2.5092,146.8855,4410, 474.8, 8.4646,34.6108,2,123.3,2,34.6115,2,123.19,2, 29.80,2,28.77,2,0.00,2,2.03,2, -999,9, -999,9,-999.0,9,-999.0,9,-999.0,9,-999,-999,9,-999,9, 8.4143,2,26.9053,2, 8.4666,2
49UP20140609_3,   P10,77,1,22,111,2,20140811,0240, 417, 2.5092,146.8855,4410, 574.3, 7.3664,34.5585,2,106.1,2,34.5582,2,105.49,2, 40.40,2,32.54,2,0.00,2,2.31,2, -999,9, -999,9,-999.0,9,-999.0,9,-999.0,9,-999,-999,9,-999,9, 7.3099,2,27.0276,2, 7.3650,2
49UP20140609_3,   P10,77,1,21,78,2,20140811,0240, 414, 2.5092,146.8855,4410, 676.2, 6.4797,34.5425,2, 73.3,2,34.5428,2, 73.00,2, 56.34,2,36.99,2,0.00,2,2.65,2, -999,9, -999,9,-999.0,9,-999.0,9,-999.0,9,-999,-999,9,-999,9, 6.4173,2,27.1371,2, 6.4801,2
49UP20140609_3,   P10,77,1,20,93,2,20140811,0240, 407, 2.5092,146.8855,4410, 777.3, 5.4459,34.5362,2, 90.2,2,34.5367,2, 90.00,2, 68.53,2,37.17,2,0.00,2,2.66,2, -999,9, -999,9,-999.0,9,-999.0,9,-999.0,9,-999,-999,9,-999,9, 5.3797,2,27.2628,2, 5.4452,2
49UP20140609_3,   P10,77,1,19,92,2,20140811,0240, 404, 2.5092,146.8855,4410, 878.6, 4.7936,34.5435,2,105.4,2,34.5440,2,105.22,2, 77.66,2,36.47,2,0.00,2,2.61,2, -999,9, -999,9,-999.0,9,-999.0,9,-999.0,9,-999,-999,9,-999,9, 4.7225,2,27.3449,2, 4.7935,2
49UP20140609_3,   P10,77,1,18,101,2,20140811,0240, 401, 2.5092,146.8855,4410, 979.1, 4.4486,34.5536,2, 98.0,2,34.5538,2, 97.73,6, 87.19,6,37.48,6,0.00,6,2.68,6, -999,9, -999,9,-999.0,9,-999.0,9,-999.0,9,-999,-999,9,-999,9, 4.3712,2,27.3917,2, 4.4484,2
49UP20140609_3,   P10,77,1,17,90,2,20140811,0240, 358, 2.5092,146.8855,4410,1140.8, 3.8639,34.5693,2,100.1,2,34.5692,6, 99.71,2, 98.00,2,38.02,2,0.00,2,2.72,2, -999,9, -999,9,-999.0,9,-999.0,9,-999.0,9,-999,-999,9,-999,9, 3.7775,2,27.4664,2, 3.8639,2
49UP20140609_3,   P10,77,1,16,89,2,20140811,0240, 353, 2.5092,146.8855,4410,1342.7, 3.4360,34.5828,2,101.6,2,34.5832,2,101.77,2,106.78,2,38.26,2,0.00,2,2.74,2, -999,9, -999,9,-999.0,9,-999.0,9,-999.0,9,-999,-999,9,-999,9, 3.3366,2,27.5205,2, 3.4361,2
49UP20140609_3,   P10,77,1,15,88,2,20140811,0240, 348, 2.5092,146.8855,4410,1545.6, 2.9921,34.6001,2,102.4,2,34.5999,2,101.95,2,118.83,2,38.40,2,0.00,2,2.75,2, -999,9, -999,9,-999.0,9,-999.0,9,-999.0,9,-999,-999,9,-999,9, 2.8804,2,27.5768,2, 2.9919,2
49UP20140609_3,   P10,77,1,14,999,2,20140811,0240, 348, 2.5092,146.8855,4410,1545.8, 2.9915,34.6003,2,102.4,2,34.5998,2,102.30,2,119.07,2,38.50,2,0.00,2,2.74,2, -999,9, -999,9,-999.0,9,-999.0,9,-999.0,9,-999,-999,9,-999,9, 2.8799,2,27.5769,2, 2.9915,2
49UP20140609_3,   P10,77,1,13,667,2,20140811,0240, 343, 2.5092,146.8855,4410,1747.6, 2.6127,34.6165,2,105.7,2,34.6166,6,105.36,2,127.71,2,38.57,2,0.00,2,2.74,2, -999,9, -999,9,-999.0,9,-999.0,9,-999.0,9,-999,-999,9,-999,9, 2.4888,2,27.6243,2, 2.6123,2
49UP20140609_3,   P10,77,1,12,74,2,20140811,0240, 338, 2.5092,146.8855,4410,1951.1, 2.2548,34.6330,2,114.8,2,34.6327,2,114.45,2,134.95,2,38.14,2,0.00,2,2.69,2, -999,9, -999,9,-999.0,9,-999.0,9,-999.0,9,-999,-999,9,-999,9, 2.1187,2,27.6681,2, 2.2547,2
49UP20140609_3,   P10,77,1,11,268,2,20140811,0240, 334, 2.5092,146.8855,4410,2153.4, 2.0103,34.6471,2,118.5,2,34.6467,2,118.06,6,140.76,6,38.03,6,0.00,6,2.68,6, -999,9, -999,9,-999.0,9,-999.0,9,-999.0,9,-999,-999,9,-999,9, 1.8606,2,27.6999,2, 2.0102,2
49UP20140609_3,   P10,77,1,10,267,2,20140811,0240, 329, 2.5092,146.8855,4410,2357.2, 1.8818,34.6540,2,124.4,2,34.6535,2,123.95,2,141.86,2,37.68,2,0.00,2,2.65,2, -999,9, -999,9,-999.0,9,-999.0,9,-999.0,9,-999,-999,9,-999,9, 1.7165,2,27.7164,2, 1.8815,2
49UP20140609_3,   P10,77,1, 9,518,2,20140811,0240, 324, 2.5092,146.8855,4410,2560.3, 1.7291,34.6617,2,133.5,2,34.6612,2,133.33,2,142.23,2,37.02,2,0.00,2,2.60,2, -999,9, -999,9,-999.0,9,-999.0,9,-999.0,9,-999,-999,9,-999,9, 1.5484,2,27.7352,2, 1.7290,2
49UP20140609_3,   P10,77,1, 8,81,2,20140811,0240, 319, 2.5092,146.8855,4410,2763.3, 1.6510,34.6669,2,138.6,2,34.6656,2,138.68,2,142.09,2,36.66,2,0.00,2,2.57,2, -999,9, -999,9,-999.0,9,-999.0,9,-999.0,9,-999,-999,9,-999,9, 1.4533,2,27.7462,2, 1.6511,2
49UP20140609_3,   P10,77,1, 7,516,2,20140811,0240, 314, 2.5092,146.8855,4410,2969.6, 1.6077,34.6704,2,141.6,2,34.6699,6,141.37,2,142.54,2,36.47,2,0.00,2,2.55,2, -999,9, -999,9,-999.0,9,-999.0,9,-999.0,9,-999,-999,9,-999,9, 1.3915,2,27.7535,2, 1.6076,2
49UP20140609_3,   P10,77,1, 6,113,2,20140811,0240, 308, 2.5092,146.8855,4410,3213.8, 1.5976,34.6726,2,143.4,2,34.6722,2,143.08,2,142.53,2,36.39,2,0.00,2,2.54,2, -999,9, -999,9,-999.0,9,-999.0,9,-999.0,9,-999,-999,9,-999,9, 1.3578,2,27.7577,2, 1.5976,2
49UP20140609_3,   P10,77,1, 5,94,2,20140811,0240, 303, 2.5092,146.8855,4410,3469.1, 1.5808,34.6755,2,145.9,2,34.6755,2,145.48,6,142.36,6,36.23,6,0.00,6,2.53,6, -999,9, -999,9,-999.0,9,-999.0,9,-999.0,9,-999,-999,9,-999,9, 1.3158,2,27.7630,2, 1.5807,2
49UP20140609_3,   P10,77,1, 4,77,2,20140811,0240, 257, 2.5092,146.8855,4410,3724.3, 1.5559,34.6793,2,149.0,2,34.6794,6,148.86,2,142.30,2,36.03,2,0.00,2,2.52,2, -999,9, -999,9,-999.0,9,-999.0,9,-999.0,9,-999,-999,9,-999,9, 1.2651,2,27.7696,2, 1.5559,2
49UP20140609_3,   P10,77,1, 3,104,2,20140811,0240, 251, 2.5092,146.8855,4410,3979.8, 1.5488,34.6817,2,151.3,2,34.6811,2,150.77,3,141.55,2,35.91,2,0.00,2,2.50,2, -999,9, -999,9,-999.0,9,-999.0,9,-999.0,9,-999,-999,9,-999,9, 1.2307,2,27.7739,2, 1.5486,2
49UP20140609_3,   P10,77,1, 2,75,2,20140811,0240, 245, 2.5092,146.8855,4410,4235.8, 1.5433,34.6840,2,154.2,2,34.6844,2,154.38,2,140.89,2,35.71,2,0.00,2,2.49,2, -999,9, -999,9,-999.0,9,-999.0,9,-999.0,9,-999,-999,9,-999,9, 1.1971,2,27.7781,2, 1.5432,2
49UP20140609_3,   P10,77,1, 1,997,2,20140811,0240, 240, 2.5092,146.8855,4410,4481.3, 1.5499,34.6853,2,155.9,2,34.6852,2,155.58,2,140.61,2,35.58,2,0.00,2,2.48,2, -999,9, -999,9,-999.0,9,-999.0,9,-999.0,9,-999,-999,9,-999,9, 1.1755,2,27.7806,2, 1.5498,2