BOTTLE,20230725CCHSIOADS
EXPOCODE,SECT_ID,STNNBR,CASTNO,SAMPNO,BTLNBR,BTLNBR_FLAG_W,DATE,TIME,BTL_TIME,LATITUDE,LONGITUDE,DEPTH,CTDPRS,CTDTMP,CTDSAL,CTDSAL_FLAG_W,CTDOXY,CTDOXY_FLAG_W,SALNTY,SALNTY_FLAG_W,OXYGEN,OXYGEN_FLAG_W,SILCAT,SILCAT_FLAG_W,NO2+NO3,NO2+NO3_FLAG_W,NITRIT,NITRIT_FLAG_W,PHSPHT,PHSPHT_FLAG_W,CFC-11,CFC-11_FLAG_W,CFC-12,CFC-12_FLAG_W,TCARBN,TCARBN_FLAG_W,ALKALI,ALKALI_FLAG_W,PH_TOT,PH_TOT_FLAG_W,PH_TMP,CHLORA,CHLORA_FLAG_W,PPHYTN,PPHYTN_FLAG_W,THETA,THETA_FLAG_W,SIG0,SIG0_FLAG_W,REFTMP,REFTMP_FLAG_W
,,,,,,,,,,,,METERS,DBAR,ITS-90,PSS-78,,UMOL/KG,,PSS-78,,UMOL/KG,,UMOL/KG,,UMOL/KG,,UMOL/KG,,UMOL/KG,,PMOL/KG,,PMOL/KG,,UMOL/KG,,UMOL/KG,,,,DEG C,UG/KG,,UG/KG,,ITS-90,,KG/M^3,,ITS-90,
49UP20140609_3,   P10,86,1, 0,BUC,2,20140814,0201, 331, 0.2435,146.2147,3694,   0.0,29.3285,34.3439,2,195.5,2,   -999,9,195.28,2,  1.17,2, 0.02,2,0.00,2,0.11,2, -999,9, -999,9,-999.0,9,-999.0,9,-999.0,9,-999,-999,9,-999,9,29.3279,2,21.4618,2,   -999,9
49UP20140609_3,   P10,86,1,36,109,2,20140814,0201, 342, 0.2435,146.2147,3694,  11.2,29.3616,34.3797,2,195.4,2,34.3773,2,194.96,2,  1.17,2, 0.00,2,0.00,2,0.10,2, -999,9, -999,9,-999.0,9,-999.0,9,-999.0,9,-999,-999,9,-999,9,29.3589,2,21.4782,2,29.3637,2
49UP20140609_3,   P10,86,1,35,112,2,20140814,0201, 340, 0.2435,146.2147,3694,  26.4,29.3489,34.3800,2,195.2,2,34.3775,2,194.92,2,  1.17,2, 0.02,2,0.00,2,0.10,2, -999,9, -999,9,-999.0,9,-999.0,9,-999.0,9,-999,-999,9,-999,9,29.3425,2,21.4840,2,29.3492,2
49UP20140609_3,   P10,86,1,34,83,2,20140814,0201, 337, 0.2435,146.2147,3694,  52.3,29.3319,34.3822,2,194.6,2,34.4106,4,194.32,2,  1.18,2, 0.00,2,0.00,2,0.11,2, -999,9, -999,9,-999.0,9,-999.0,9,-999.0,9,-999,-999,9,-999,9,29.3191,2,21.4935,2,29.3307,2
49UP20140609_3,   P10,86,1,32,105,2,20140814,0201, 335, 0.2435,146.2147,3694,  76.9,28.2128,35.1216,2,167.7,2,35.0938,4,168.36,6,  1.78,6, 3.32,6,0.48,6,0.40,6, -999,9, -999,9,-999.0,9,-999.0,9,-999.0,9,-999,-999,9,-999,9,28.1945,2,22.4223,2,28.2169,2
49UP20140609_3,   P10,86,1,30,97,2,20140814,0201, 334, 0.2435,146.2147,3694, 101.4,27.9542,35.5430,2,160.6,2,35.5426,2,160.64,2,  2.00,2, 6.34,2,0.13,2,0.61,2, -999,9, -999,9,-999.0,9,-999.0,9,-999.0,9,-999,-999,9,-999,9,27.9303,2,22.8259,2,27.9538,2
49UP20140609_3,   P10,86,1,31,515,2,20140814,0201, 334, 0.2435,146.2147,3694, 101.6,27.9499,35.5435,2,160.6,2,35.5423,2,161.37,2,  1.97,2, 6.30,2,0.14,2,0.61,2, -999,9, -999,9,-999.0,9,-999.0,9,-999.0,9,-999,-999,9,-999,9,27.9259,2,22.8277,2,27.9472,2
49UP20140609_3,   P10,86,1,29,102,2,20140814,0201, 332, 0.2435,146.2147,3694, 127.0,25.3574,35.6024,2,144.4,2,35.5872,4,144.51,2,  2.42,2, 7.61,2,0.04,2,0.67,2, -999,9, -999,9,-999.0,9,-999.0,9,-999.0,9,-999,-999,9,-999,9,25.3295,2,23.6958,2,25.3564,2
49UP20140609_3,   P10,86,1,28,108,2,20140814,0201, 331, 0.2435,146.2147,3694, 151.9,23.0587,35.3852,2,136.8,2,35.4039,4,137.07,2,  3.76,2, 8.55,2,0.02,2,0.71,2, -999,9, -999,9,-999.0,9,-999.0,9,-999.0,9,-999,-999,9,-999,9,23.0276,2,24.2178,2,23.0563,2
49UP20140609_3,   P10,86,1,27,998,2,20140814,0201, 329, 0.2435,146.2147,3694, 203.6,18.0261,35.4095,2,142.8,2,35.4086,2,142.79,2,  4.84,2,11.74,2,0.01,2,0.94,2, -999,9, -999,9,-999.0,9,-999.0,9,-999.0,9,-999,-999,9,-999,9,17.9910,2,25.5880,2,18.0224,2
49UP20140609_3,   P10,86,1,26,84,2,20140814,0201, 327, 0.2435,146.2147,3694, 253.2,15.2347,35.1382,2,147.9,2,35.1359,2,147.83,2,  8.55,2,14.70,2,0.01,2,1.11,2, -999,9, -999,9,-999.0,9,-999.0,9,-999.0,9,-999,-999,9,-999,9,15.1958,2,26.0353,2,15.2334,2
49UP20140609_3,   P10,86,1,25,98,2,20140814,0201, 326, 0.2435,146.2147,3694, 282.9,13.4246,35.0016,2,150.0,2,34.9984,2,149.67,2, 10.93,2,17.12,2,0.00,2,1.26,2, -999,9, -999,9,-999.0,9,-999.0,9,-999.0,9,-999,-999,9,-999,9,13.3847,2,26.3161,2,13.4248,2
49UP20140609_3,   P10,86,1,24,110,2,20140814,0201, 324, 0.2435,146.2147,3694, 323.0,11.9302,34.8750,2,144.4,2,34.8727,2,144.08,2, 14.96,2,20.21,2,0.00,2,1.46,2, -999,9, -999,9,-999.0,9,-999.0,9,-999.0,9,-999,-999,9,-999,9,11.8881,2,26.5134,2,11.9297,2
49UP20140609_3,   P10,86,1,23,96,2,20140814,0201, 322, 0.2435,146.2147,3694, 373.8,10.8349,34.7720,2,123.4,2,34.7717,2,123.04,2, 20.87,2,24.30,2,0.00,2,1.73,2, -999,9, -999,9,-999.0,9,-999.0,9,-999.0,9,-999,-999,9,-999,9,10.7890,2,26.6360,2,10.8348,2
49UP20140609_3,   P10,86,1,22,111,2,20140814,0201, 320, 0.2435,146.2147,3694, 423.8, 9.4118,34.6788,2, 99.9,2,34.6784,2, 99.81,2, 27.37,2,29.39,2,0.00,2,2.06,2, -999,9, -999,9,-999.0,9,-999.0,9,-999.0,9,-999,-999,9,-999,9, 9.3641,2,26.8076,2, 9.4118,2
49UP20140609_3,   P10,86,1,21,78,2,20140814,0201, 318, 0.2435,146.2147,3694, 476.3, 9.1104,34.6564,2, 97.9,2,34.6595,2, 98.00,2, 29.20,2,30.16,2,0.00,2,2.11,2, -999,9, -999,9,-999.0,9,-999.0,9,-999.0,9,-999,-999,9,-999,9, 9.0577,2,26.8398,2, 9.1108,2
49UP20140609_3,   P10,86,1,20,93,2,20140814,0201, 316, 0.2435,146.2147,3694, 575.3, 7.5230,34.5646,2,137.3,2,34.5656,2,135.77,6, 31.94,6,29.66,6,0.00,6,2.09,6, -999,9, -999,9,-999.0,9,-999.0,9,-999.0,9,-999,-999,9,-999,9, 7.4657,2,27.0101,2, 7.5227,2
49UP20140609_3,   P10,86,1,19,92,2,20140814,0201, 312, 0.2435,146.2147,3694, 676.0, 6.3302,34.5369,2,108.5,2,34.5373,6,107.69,2, 47.42,2,34.80,2,0.00,2,2.46,2, -999,9, -999,9,-999.0,9,-999.0,9,-999.0,9,-999,-999,9,-999,9, 6.2685,2,27.1521,2, 6.3303,2
49UP20140609_3,   P10,86,1,18,101,2,20140814,0201, 309, 0.2435,146.2147,3694, 777.4, 5.5005,34.5266,2,113.4,2,34.5269,2,113.32,2, 59.35,2,35.29,2,0.00,2,2.50,2, -999,9, -999,9,-999.0,9,-999.0,9,-999.0,9,-999,-999,9,-999,9, 5.4340,2,27.2487,2, 5.5002,2
49UP20140609_3,   P10,86,1,17,90,2,20140814,0201, 306, 0.2435,146.2147,3694, 878.0, 5.0680,34.5355,2,105.7,2,34.5358,2,105.67,2, 69.96,2,36.44,2,0.00,2,2.59,2, -999,9, -999,9,-999.0,9,-999.0,9,-999.0,9,-999,-999,9,-999,9, 4.9951,2,27.3075,2, 5.0678,2
49UP20140609_3,   P10,86,1,16,89,2,20140814,0201, 303, 0.2435,146.2147,3694, 978.5, 4.5823,34.5472,2,102.9,2,34.5475,2,102.93,2, 80.94,2,37.19,2,0.00,2,2.65,2, -999,9, -999,9,-999.0,9,-999.0,9,-999.0,9,-999,-999,9,-999,9, 4.5040,2,27.3722,2, 4.5821,2
49UP20140609_3,   P10,86,1,15,88,2,20140814,0201, 259, 0.2435,146.2147,3694,1140.4, 4.1380,34.5594,2,101.5,2,34.5592,2,101.38,2, 91.07,2,37.79,2,0.00,2,2.69,2, -999,9, -999,9,-999.0,9,-999.0,9,-999.0,9,-999,-999,9,-999,9, 4.0492,2,27.4305,2, 4.1376,2
49UP20140609_3,   P10,86,1,14,999,2,20140814,0201, 254, 0.2435,146.2147,3694,1343.0, 3.5095,34.5812,2, 98.2,2,34.5816,2, 98.07,2,105.96,2,38.77,2,0.00,2,2.76,2, -999,9, -999,9,-999.0,9,-999.0,9,-999.0,9,-999,-999,9,-999,9, 3.4093,2,27.5123,2, 3.5094,2
49UP20140609_3,   P10,86,1,13,667,2,20140814,0201, 249, 0.2435,146.2147,3694,1545.0, 2.9767,34.6001,2,107.8,2,34.5997,2,107.93,2,116.17,2,38.35,2,0.00,2,2.72,2, -999,9, -999,9,-999.0,9,-999.0,9,-999.0,9,-999,-999,9,-999,9, 2.8653,2,27.5781,2, 2.9766,2
49UP20140609_3,   P10,86,1,12,74,2,20140814,0201, 245, 0.2435,146.2147,3694,1747.1, 2.6159,34.6165,2,111.0,2,34.6167,2,111.45,2,125.55,2,38.27,2,0.00,2,2.71,2, -999,9, -999,9,-999.0,9,-999.0,9,-999.0,9,-999,-999,9,-999,9, 2.4920,2,27.6240,2, 2.6157,2
49UP20140609_3,   P10,86,1,11,268,2,20140814,0201, 244, 0.2435,146.2147,3694,1747.5, 2.6152,34.6165,2,111.0,2,34.6164,2,111.52,2,125.46,2,38.28,2,0.00,2,2.71,2, -999,9, -999,9,-999.0,9,-999.0,9,-999.0,9,-999,-999,9,-999,9, 2.4912,2,27.6240,2, 2.6151,2
49UP20140609_3,   P10,86,1,10,267,2,20140814,0201, 240, 0.2435,146.2147,3694,1948.7, 2.3465,34.6299,2,116.5,2,34.6298,6,117.19,6,130.77,6,38.09,6,0.00,6,2.69,6, -999,9, -999,9,-999.0,9,-999.0,9,-999.0,9,-999,-999,9,-999,9, 2.2092,2,27.6583,2, 2.3464,2
49UP20140609_3,   P10,86,1, 9,518,2,20140814,0201, 236, 0.2435,146.2147,3694,2152.1, 2.1497,34.6404,2,121.4,2,34.6414,2,121.42,2,134.73,2,37.80,2,0.00,2,2.66,2, -999,9, -999,9,-999.0,9,-999.0,9,-999.0,9,-999,-999,9,-999,9, 1.9979,2,27.6838,2, 2.1522,2
49UP20140609_3,   P10,86,1, 8,81,2,20140814,0201, 231, 0.2435,146.2147,3694,2355.7, 1.9261,34.6514,2,125.9,2,34.6513,2,125.85,2,140.03,2,37.52,2,0.00,2,2.64,2, -999,9, -999,9,-999.0,9,-999.0,9,-999.0,9,-999,-999,9,-999,9, 1.7601,2,27.7111,2, 1.9279,2
49UP20140609_3,   P10,86,1, 7,516,2,20140814,0201, 227, 0.2435,146.2147,3694,2558.8, 1.7770,34.6591,2,132.4,2,34.6586,2,132.44,2,141.79,2,37.15,2,0.00,2,2.61,2, -999,9, -999,9,-999.0,9,-999.0,9,-999.0,9,-999,-999,9,-999,9, 1.5955,2,27.7296,2, 1.7768,2
49UP20140609_3,   P10,86,1, 6,113,2,20140814,0201, 222, 0.2435,146.2147,3694,2762.9, 1.6563,34.6667,2,138.5,2,34.6668,2,138.37,2,142.52,2,36.79,2,0.00,2,2.57,2, -999,9, -999,9,-999.0,9,-999.0,9,-999.0,9,-999,-999,9,-999,9, 1.4585,2,27.7457,2, 1.6564,2
49UP20140609_3,   P10,86,1, 5,94,2,20140814,0201, 222, 0.2435,146.2147,3694,2763.2, 1.6564,34.6666,2,138.5,2,34.6665,2,138.36,2,142.62,2,36.77,2,0.00,2,2.57,2, -999,9, -999,9,-999.0,9,-999.0,9,-999.0,9,-999,-999,9,-999,9, 1.4586,2,27.7457,2, 1.6561,2
49UP20140609_3,   P10,86,1, 4,77,2,20140814,0201, 218, 0.2435,146.2147,3694,2967.0, 1.6233,34.6692,2,141.1,2,34.6698,2,141.01,2,142.99,2,36.58,2,0.00,2,2.56,2, -999,9, -999,9,-999.0,9,-999.0,9,-999.0,9,-999,-999,9,-999,9, 1.4070,2,27.7514,2, 1.6230,2
49UP20140609_3,   P10,86,1, 3,104,2,20140814,0201, 213, 0.2435,146.2147,3694,3211.6, 1.5958,34.6726,2,143.5,2,34.6722,6,143.36,2,142.88,2,36.40,2,0.00,2,2.54,2, -999,9, -999,9,-999.0,9,-999.0,9,-999.0,9,-999,-999,9,-999,9, 1.3564,2,27.7578,2, 1.5956,2
49UP20140609_3,   P10,86,1,33,469,2,20140814,0201, 207, 0.2435,146.2147,3694,3467.0, 1.5666,34.6765,2,146.5,2,34.6756,2,146.39,2,142.64,2,36.19,2,0.00,2,2.52,2, -999,9, -999,9,-999.0,9,-999.0,9,-999.0,9,-999,-999,9,-999,9, 1.3021,2,27.7648,2, 1.5664,2
49UP20140609_3,   P10,86,1, 2,75,2,20140814,0201, 207, 0.2435,146.2147,3694,3467.3, 1.5666,34.6764,2,146.5,2,34.6761,2,146.34,2,142.51,2,36.21,2,0.00,2,2.53,2, -999,9, -999,9,-999.0,9,-999.0,9,-999.0,9,-999,-999,9,-999,9, 1.3022,2,27.7647,2, 1.5662,2
49UP20140609_3,   P10,86,1, 1,997,2,20140814,0201, 201, 0.2435,146.2147,3694,3749.4, 1.5542,34.6797,2,149.2,2,34.6795,2,149.04,6,142.42,6,36.13,6,0.00,6,2.52,6, -999,9, -999,9,-999.0,9,-999.0,9,-999.0,9,-999,-999,9,-999,9, 1.2608,2,27.7702,2, 1.5544,2
49UP20140609_3,   P10,87,1, 0,BUC,2,20140814,0822, 932,-0.0120,146.1463,3592,   0.0,29.3232,34.4007,2,195.0,2,34.3996,2,195.16,2,  1.20,2, 0.05,4,0.00,2,0.12,2, -999,9, -999,9,1935.7,2,2261.8,2,8.1154,2,25,0.11,2,0.06,2,29.3226,2,21.5062,2,   -999,9
49UP20140609_3,   P10,87,1,36,109,2,20140814,0822, 953,-0.0120,146.1463,3592,  10.7,29.3231,34.3986,2,194.8,2,34.3974,2,194.80,2,  1.22,2, 0.03,4,0.00,2,0.12,2,1.448,2,0.887,2,1933.4,2,2262.2,2,8.1162,2,25,0.11,2,0.07,2,29.3205,2,21.5053,2,29.3222,2
49UP20140609_3,   P10,87,1,35,112,2,20140814,0822, 952,-0.0120,146.1463,3592,  25.8,29.3713,34.4258,2,194.7,2,34.4235,2,194.81,2,  1.23,2, 0.01,4,0.00,2,0.11,2, -999,9, -999,9,1934.2,2,2263.6,2,8.1170,2,25,0.11,2,0.08,2,29.3651,2,21.5108,2,29.3694,2
49UP20140609_3,   P10,87,1,34,83,2,20140814,0822, 949,-0.0120,146.1463,3592,  50.2,29.1390,34.4677,2,193.0,2,34.4848,4,193.47,2,  1.27,2, 0.05,4,0.00,2,0.13,2,1.471,2,0.903,2,1938.4,2,2268.8,2,8.1095,2,25,0.23,2,0.17,2,29.1268,2,21.6221,2,29.1434,2
49UP20140609_3,   P10,87,1,32,105,2,20140814,0822, 948,-0.0120,146.1463,3592,  74.3,28.2707,34.8937,2,175.4,2,34.9300,4,175.56,2,  1.67,2, 1.79,4,0.33,2,0.31,2, -999,9, -999,9,1991.2,2,2296.5,2,8.0633,2,25,0.27,2,0.42,2,28.2530,2,22.2318,2,28.2634,2
49UP20140609_3,   P10,87,1,31,515,2,20140814,0822, 947,-0.0120,146.1463,3592, 100.7,27.9606,35.3843,2,158.9,2,35.4472,4,161.94,2,  2.02,2, 5.81,4,0.39,2,0.58,2,1.507,2,0.927,2,2044.1,2,2327.1,2,8.0264,2,25,0.17,2,0.38,2,27.9368,2,22.7043,2,27.9597,2
49UP20140609_3,   P10,87,1,30,97,2,20140814,0822, 945,-0.0120,146.1463,3592, 125.6,25.8976,35.6215,2,147.3,2,35.6241,2,147.59,6,  2.19,6, 7.37,4,0.05,6,0.68,6, -999,9, -999,9,2071.3,2,2337.0,2,7.9851,2,25,0.06,2,0.26,2,25.8696,2,23.5430,2,25.8957,2
49UP20140609_3,   P10,87,1,29,102,2,20140814,0822, 944,-0.0120,146.1463,3592, 151.2,22.9550,35.4466,2,137.4,2,35.4565,2,137.81,2,  3.55,2, 8.52,4,0.02,2,0.72,2,1.752,2,1.087,2,2088.4,2,2328.0,2,7.9428,2,25,0.03,2,0.07,2,22.9241,2,24.2943,2,22.9518,2
49UP20140609_3,   P10,87,1,28,108,2,20140814,0822, 942,-0.0120,146.1463,3592, 202.5,17.1599,35.3464,2,143.8,2,35.3466,6,143.93,2,  5.48,2,12.50,4,0.01,2,1.00,2,1.953,2,1.131,2,2127.1,2,2325.8,2,7.8513,2,25,0.00,2,0.03,2,17.1262,2,25.7500,2,17.1595,2
49UP20140609_3,   P10,87,1,27,998,2,20140814,0822, 940,-0.0120,146.1463,3592, 251.1,13.9180,35.0481,2,149.8,2,35.0497,2,150.08,2,  9.83,2,16.31,4,0.01,2,1.22,2,1.858,2,1.040,2,2148.9,2,2312.0,2,7.7913,6,25,-999,9,-999,9,13.8817,2,26.2492,2,13.9162,2
49UP20140609_3,   P10,87,1,26,84,2,20140814,0822, 938,-0.0120,146.1463,3592, 301.1,11.5651,34.8347,2,139.9,2,34.8331,2,139.76,2, 17.07,2,21.24,4,0.00,2,1.54,2,1.571,6,0.855,6,2171.1,6,2305.5,6,7.7184,2,25,-999,9,-999,9,11.5266,2,26.5500,2,11.5645,2
49UP20140609_3,   P10,87,1,25,98,2,20140814,0822, 937,-0.0120,146.1463,3592, 351.8,10.7946,34.7651,2,127.1,2,34.7620,2,125.45,2, 21.27,2,24.17,4,0.00,2,1.73,2,1.335,2,0.718,2,2183.7,2,2305.4,2,7.6782,2,25,-999,9,-999,9,10.7515,2,26.6373,2,10.7958,2
49UP20140609_3,   P10,87,1,24,110,2,20140814,0822, 936,-0.0120,146.1463,3592, 352.0,10.7935,34.7647,2,127.1,2,34.7624,2,126.25,2, 21.16,2,24.02,4,0.00,2,1.73,2,1.335,6,0.721,6,2182.9,2,2304.7,2,7.6767,2,25,-999,9,-999,9,10.7504,2,26.6371,2,10.7939,2
49UP20140609_3,   P10,87,1,23,96,2,20140814,0822, 935,-0.0120,146.1463,3592, 402.5, 9.6109,34.6915,2,100.5,2,34.6927,2,101.53,2, 26.17,2,28.86,4,0.00,2,2.03,2,0.935,2,0.504,2,2210.3,2,2303.2,2,7.6064,2,25,-999,9,-999,9, 9.5650,2,26.7843,2, 9.6118,2
49UP20140609_3,   P10,87,1,22,111,2,20140814,0822, 933,-0.0120,146.1463,3592, 452.4, 8.9210,34.6491,2,111.3,2,34.6479,2,113.60,2, 27.20,2,29.09,4,0.00,2,2.05,2,0.889,2,0.472,2,2209.9,2,2300.5,2,7.6080,2,25,-999,9,-999,9, 8.8716,2,26.8639,2, 8.9211,2
49UP20140609_3,   P10,87,1,21,78,2,20140814,0822, 932,-0.0120,146.1463,3592, 503.9, 8.0534,34.5925,2,130.6,2,34.5909,2,131.23,2, 29.39,2,29.09,4,0.00,2,2.05,2,0.827,6,0.426,6,2205.3,2,2303.6,2,7.6200,2,25,-999,9,-999,9, 8.0015,2,26.9536,2, 8.0529,2
49UP20140609_3,   P10,87,1,20,93,2,20140814,0822, 929,-0.0120,146.1463,3592, 604.4, 6.6971,34.5394,2,120.4,2,34.5408,2,119.95,2, 41.14,2,32.82,4,0.00,2,2.32,2,0.434,2,0.229,2,2236.7,2,2310.2,2,7.5740,2,25,-999,9,-999,9, 6.6406,2,27.1049,2, 6.6962,2
49UP20140609_3,   P10,87,1,19,92,2,20140814,0822, 927,-0.0120,146.1463,3592, 705.0, 5.7030,34.5280,2,112.0,2,34.5289,2,112.20,2, 55.47,2,35.21,4,0.00,2,2.50,2,0.209,2,0.104,2,2255.9,2,2325.6,2,7.5467,2,25,-999,9,-999,9, 5.6419,2,27.2245,2, 5.7027,2
49UP20140609_3,   P10,87,1,18,101,2,20140814,0822, 924,-0.0120,146.1463,3592, 805.7, 5.2691,34.5290,2,110.8,2,34.5300,2,111.07,6, 62.92,6,35.88,4,0.00,6,2.55,6,0.141,2,0.073,2,2260.6,2,2333.8,2,7.5424,2,25,-999,9,-999,9, 5.2014,2,27.2783,2, 5.2687,2
49UP20140609_3,   P10,87,1,17,90,2,20140814,0822, 921,-0.0120,146.1463,3592, 906.8, 4.7842,34.5427,2, 99.1,2,34.5428,2, 99.22,2, 76.29,2,37.58,4,0.00,2,2.67,2,0.063,2,0.028,2,2280.7,2,2355.8,3,7.5185,6,25,-999,9,-999,9, 4.7107,2,27.3456,2, 4.7836,2
49UP20140609_3,   P10,87,1,16,89,2,20140814,0822, 919,-0.0120,146.1463,3592,1008.7, 4.4326,34.5504,2,100.6,2,34.5518,2,101.04,2, 83.52,2,37.59,4,0.00,2,2.69,2,0.038,2,0.019,2,2295.2,6,2354.8,6,7.5226,2,25,-999,9,-999,9, 4.3528,2,27.3912,2, 4.4321,2
49UP20140609_3,   P10,87,1,14,999,2,20140814,0822, 914,-0.0120,146.1463,3592,1210.6, 3.7389,34.5687,2,103.8,2,34.5674,4,104.16,2, 97.06,2,38.13,4,0.00,2,2.72,2,0.013,2,0.003,2,2310.1,3,2371.1,2,7.5224,2,25,-999,9,-999,9, 3.6477,2,27.4789,2, 3.7387,2
49UP20140609_3,   P10,87,1,15,88,2,20140814,0822, 914,-0.0120,146.1463,3592,1210.8, 3.7389,34.5686,2,103.8,2,34.5689,2,103.76,2, 97.11,2,38.14,4,0.00,2,2.72,2,0.015,2,0.002,2,2303.6,2,2370.7,2,7.5197,2,25,-999,9,-999,9, 3.6477,2,27.4788,2, 3.7385,2
49UP20140609_3,   P10,87,1,13,667,2,20140814,0822, 909,-0.0120,146.1463,3592,1413.5, 3.2950,34.5870,2,105.2,2,34.5877,2,105.39,2,108.63,2,38.29,4,0.00,2,2.73,2,0.009,2,0.000,2,2314.9,2,2383.5,2,7.5223,2,25,-999,9,-999,9, 3.1911,2,27.5377,2, 3.2949,2
49UP20140609_3,   P10,87,1,12,74,2,20140814,0822, 904,-0.0120,146.1463,3592,1615.5, 2.7632,34.6085,2,114.9,2,34.6080,2,115.50,2,117.92,2,37.95,4,0.00,2,2.69,2,0.000,2,0.000,2,2319.7,2,2393.6,2,7.5374,3,25,-999,9,-999,9, 2.6485,2,27.6040,2, 2.7631,2
49UP20140609_3,   P10,87,1,11,268,2,20140814,0822, 900,-0.0120,146.1463,3592,1818.1, 2.5432,34.6203,2,113.3,2,34.6201,6,113.57,2,125.86,2,38.11,4,0.00,2,2.70,2, -999,9, -999,9,2327.0,2,2403.6,3,7.5347,2,25,-999,9,-999,9, 2.4143,2,27.6336,2, 2.5431,2
49UP20140609_3,   P10,87,1,10,267,2,20140814,0822, 856,-0.0120,146.1463,3592,2021.0, 2.2476,34.6353,2,117.7,2,34.6349,2,117.71,2,133.47,2,37.97,4,0.00,2,2.68,2, -999,9, -999,9,2343.1,3,2406.1,2,7.5413,2,25,-999,9,-999,9, 2.1055,2,27.6710,2, 2.2476,2
49UP20140609_3,   P10,87,1, 9,518,2,20140814,0822, 851,-0.0120,146.1463,3592,2225.1, 2.0077,34.6469,2,123.8,2,34.6471,2,123.97,6,137.97,6,37.68,4,0.00,6,2.65,6,0.000,2,0.000,2,2336.3,2,2412.7,2,7.5488,2,25,-999,9,-999,9, 1.8518,2,27.7004,2, 2.0077,2
49UP20140609_3,   P10,87,1, 8,81,2,20140814,0822, 847,-0.0120,146.1463,3592,2427.9, 1.8564,34.6548,2,129.0,2,34.6540,2,129.31,2,140.52,2,37.44,4,0.00,2,2.62,2,0.000,2,0.000,2,2333.9,2,2417.2,2,7.5565,2,25,-999,9,-999,9, 1.6853,2,27.7194,2, 1.8563,2
49UP20140609_3,   P10,87,1, 7,516,2,20140814,0822, 842,-0.0120,146.1463,3592,2630.9, 1.7728,34.6595,2,132.9,2,34.6591,2,133.23,2,141.68,2,37.13,4,0.00,2,2.60,2, -999,9, -999,9,2332.7,2,2415.8,2,7.5616,6,25,-999,9,-999,9, 1.5849,2,27.7307,2, 1.7727,2
49UP20140609_3,   P10,87,1, 6,113,2,20140814,0822, 838,-0.0120,146.1463,3592,2834.3, 1.6426,34.6677,2,139.5,2,34.6675,6,139.70,6,142.46,6,36.67,4,0.00,6,2.56,6, -999,9, -999,9,2332.3,2,2417.1,2,7.5709,2,25,-999,9,-999,9, 1.4384,2,27.7479,2, 1.6425,2
49UP20140609_3,   P10,87,1, 5,94,2,20140814,0822, 833,-0.0120,146.1463,3592,3038.9, 1.6093,34.6707,2,142.1,2,34.6708,2,142.03,2,142.57,2,36.60,4,0.00,2,2.55,2,0.000,2,0.000,2,2328.7,6,2419.5,6,7.5735,2,25,-999,9,-999,9, 1.3864,2,27.7541,2, 1.6094,2
49UP20140609_3,   P10,87,1, 4,77,2,20140814,0822, 828,-0.0120,146.1463,3592,3293.4, 1.6006,34.6729,2,143.7,2,34.6728,2,143.66,2,142.54,2,36.45,4,0.00,2,2.54,2,0.000,2,0.000,2,2329.9,2,2420.8,2,7.5794,2,25,-999,9,-999,9, 1.3529,2,27.7582,2, 1.6004,2
49UP20140609_3,   P10,87,1, 3,104,2,20140814,0822, 828,-0.0120,146.1463,3592,3293.5, 1.6006,34.6729,2,143.7,2,34.6728,2,143.80,2,142.75,2,36.46,4,0.00,2,2.54,2, -999,9, -999,9,2331.3,2,2420.3,2,7.5807,2,25,-999,9,-999,9, 1.3529,2,27.7583,2, 1.6004,2
49UP20140609_3,   P10,87,1,33,469,2,20140814,0822, 822,-0.0120,146.1463,3592,3576.1, 1.5573,34.6780,2,148.1,2,34.6782,2,148.83,4,142.14,2,36.05,4,0.00,2,2.52,2, -999,9, -999,9,2327.5,2,2421.7,2,7.5870,2,25,-999,9,-999,9, 1.2819,2,27.7673,2, 1.5555,2
49UP20140609_3,   P10,87,1, 1,997,2,20140814,0822, 822,-0.0120,146.1463,3592,3576.2, 1.5545,34.6782,2,148.2,2,34.6779,6,147.98,2,142.31,2,36.19,4,0.00,2,2.52,2,0.000,2,0.000,2,2326.9,2,2421.5,2,7.5874,2,25,-999,9,-999,9, 1.2792,2,27.7677,2, 1.5545,2