BOTTLE,20230725CCHSIOADS
EXPOCODE,SECT_ID,STNNBR,CASTNO,SAMPNO,BTLNBR,BTLNBR_FLAG_W,DATE,TIME,BTL_TIME,LATITUDE,LONGITUDE,DEPTH,CTDPRS,CTDTMP,CTDSAL,CTDSAL_FLAG_W,CTDOXY,CTDOXY_FLAG_W,SALNTY,SALNTY_FLAG_W,OXYGEN,OXYGEN_FLAG_W,SILCAT,SILCAT_FLAG_W,NO2+NO3,NO2+NO3_FLAG_W,NITRIT,NITRIT_FLAG_W,PHSPHT,PHSPHT_FLAG_W,CFC-11,CFC-11_FLAG_W,CFC-12,CFC-12_FLAG_W,TCARBN,TCARBN_FLAG_W,ALKALI,ALKALI_FLAG_W,PH_TOT,PH_TOT_FLAG_W,PH_TMP,CHLORA,CHLORA_FLAG_W,PPHYTN,PPHYTN_FLAG_W,THETA,THETA_FLAG_W,SIG0,SIG0_FLAG_W,REFTMP,REFTMP_FLAG_W
,,,,,,,,,,,,METERS,DBAR,ITS-90,PSS-78,,UMOL/KG,,PSS-78,,UMOL/KG,,UMOL/KG,,UMOL/KG,,UMOL/KG,,UMOL/KG,,PMOL/KG,,PMOL/KG,,UMOL/KG,,UMOL/KG,,,,DEG C,UG/KG,,UG/KG,,ITS-90,,KG/M^3,,ITS-90,
49UP20140609_2,   P10,32,1, 0,BUC,2,20140708,2334, 138,28.4870,149.3420,6176,   0.0,27.4393,35.0175,2,202.0,2,35.0231,2,202.06,2,  1.29,2, 0.00,2,0.00,2,0.04,2, -999,9, -999,9,1981.8,2,2299.7,2,8.0745,2,25,0.04,2,0.01,2,27.4388,2,22.5901,2,   -999,9
49UP20140609_2,   P10,32,1,36,109,2,20140708,2334, 159,28.4870,149.3420,6176,  12.3,27.3626,35.0134,2,201.6,2,35.0129,2,202.19,2,  1.28,2, 0.00,2,0.00,2,0.03,2, -999,9, -999,9,1986.0,2,2299.8,2,8.0787,2,25,0.04,2,0.02,2,27.3598,2,22.6124,2,27.3632,2
49UP20140609_2,   P10,32,1,35,112,2,20140708,2334, 157,28.4870,149.3420,6176,  52.3,23.9160,34.8752,2,218.6,2,34.8846,2,219.34,2,  1.42,2, 0.00,2,0.00,2,0.03,2, -999,9, -999,9,1983.2,2,2292.7,2,8.0633,2,25,0.08,2,0.03,2,23.9051,2,23.5750,2,23.9307,2
49UP20140609_2,   P10,32,1,34,83,2,20140708,2334, 155,28.4870,149.3420,6176, 100.6,19.7133,34.8441,2,228.2,2,34.8444,2,228.31,2,  1.90,2, 0.00,2,0.00,2,0.03,2, -999,9, -999,9,2004.1,2,2289.0,2,8.0325,2,25,0.22,2,0.20,2,19.6949,2,24.7228,2,19.6970,2
49UP20140609_2,   P10,32,1,33,107,2,20140708,2334, 151,28.4870,149.3420,6176, 152.4,18.2758,34.7719,2,210.3,2,34.7706,2,209.94,6,  2.76,6, 2.54,6,0.04,6,0.19,6, -999,9, -999,9,2027.5,2,2284.1,2,7.9837,6,25,0.07,2,0.23,2,18.2495,2,25.0357,2,18.2772,2
49UP20140609_2,   P10,32,1,32,105,2,20140708,2334, 150,28.4870,149.3420,6176, 207.6,17.3915,34.7219,2,213.1,2,34.7211,2,213.10,2,  3.54,2, 3.67,2,0.01,2,0.27,2, -999,9, -999,9,2028.1,6,2281.1,6,7.9649,2,25,0.01,2,0.03,2,17.3568,2,25.2156,2,17.3912,2
49UP20140609_2,   P10,32,1,31,515,2,20140708,2334, 148,28.4870,149.3420,6176, 254.9,16.9148,34.6988,2,215.4,2,34.6987,2,215.29,2,  4.11,2, 4.34,2,0.01,2,0.30,2, -999,9, -999,9,2031.4,2,2279.3,2,7.9610,2,25,-999,9,-999,9,16.8729,2,25.3131,2,16.9140,2
49UP20140609_2,   P10,32,1,30,97,2,20140708,2334, 146,28.4870,149.3420,6176, 306.0,16.6336,34.6873,2,215.5,2,34.6869,2,215.26,2,  4.67,2, 4.81,2,0.01,2,0.34,2, -999,9, -999,9,2037.0,2,2281.7,2,7.9558,2,25,-999,9,-999,9,16.5838,2,25.3722,2,16.6288,2
49UP20140609_2,   P10,32,1,29,102,2,20140708,2334, 143,28.4870,149.3420,6176, 406.8,14.8081,34.5384,2,191.9,2,34.5376,2,191.81,2, 10.52,2, 9.81,2,0.00,2,0.68,2, -999,9, -999,9,2074.0,2,2276.5,2,7.8727,2,25,-999,9,-999,9,14.7468,2,25.6712,2,14.8075,2
49UP20140609_2,   P10,32,1,28,108,2,20140708,2334, 141,28.4870,149.3420,6176, 505.5,12.5070,34.3814,2,184.1,2,34.3808,2,184.22,2, 17.97,2,14.24,2,0.00,2,1.01,2, -999,9, -999,9,2104.1,2,2276.5,2,7.8019,2,25,-999,9,-999,9,12.4389,2,26.0242,2,12.5067,2
49UP20140609_2,   P10,32,1,27,998,2,20140708,2334, 138,28.4870,149.3420,6176, 605.5, 9.6441,34.1811,2,176.8,2,34.1817,2,176.93,2, 30.36,2,19.63,2,0.00,2,1.42,2, -999,9, -999,9,2146.5,2,2276.4,2,7.7109,2,25,-999,9,-999,9, 9.5746,2,26.3837,2, 9.6484,2
49UP20140609_2,   P10,32,1,26,84,2,20140708,2334, 135,28.4870,149.3420,6176, 708.2, 6.2447,33.9802,2,153.8,2,33.9807,2,153.96,2, 55.70,2,27.93,2,0.00,2,2.06,2, -999,9, -999,9,2210.2,2,2290.6,2,7.5686,2,25,-999,9,-999,9, 6.1810,2,26.7239,2, 6.2424,2
49UP20140609_2,   P10,32,1,25,98,2,20140708,2334, 133,28.4870,149.3420,6176, 810.0, 4.9789,34.0645,2, 96.0,2,34.0626,6, 96.47,2, 80.99,2,35.40,2,0.00,2,2.57,2, -999,9, -999,9,2270.8,2,2310.7,2,7.4469,2,25,-999,9,-999,9, 4.9133,2,26.9435,2, 4.9752,2
49UP20140609_2,   P10,32,1,24,110,2,20140708,2334, 130,28.4870,149.3420,6176, 908.5, 4.3807,34.1663,2, 63.6,2,34.1668,2, 63.75,2, 99.64,2,39.02,2,0.00,2,2.82,2, -999,9, -999,9,2314.2,2,2329.7,2,7.3894,2,25,-999,9,-999,9, 4.3105,2,27.0905,2, 4.3813,2
49UP20140609_2,   P10,32,1,23,96,2,20140708,2334, 127,28.4870,149.3420,6176,1013.9, 3.8832,34.2591,2, 48.2,2,34.2597,2, 48.86,2,114.47,2,40.82,2,0.00,2,2.94,2, -999,9, -999,9,2338.4,2,2348.4,2,7.3619,6,25,-999,9,-999,9, 3.8077,2,27.2163,2, 3.8827,2
49UP20140609_2,   P10,32,1,22,111,2,20140708,2334, 123,28.4870,149.3420,6176,1213.1, 3.1597,34.3878,2, 34.9,2,34.3876,2, 34.99,6,135.39,6,42.80,6,0.00,6,3.08,6, -999,9, -999,9,2365.7,6,2376.1,6,7.3530,2,25,-999,9,-999,9, 3.0741,2,27.3896,2, 3.1597,2
49UP20140609_2,   P10,32,1,21,78,4,20140708,2334, 118,28.4870,149.3420,6176,1418.7, 2.7388,34.4679,2, 37.9,2,   -999,9,-999.0,9,-999.0,9, -999,9,-999,9,-999,9, -999,9, -999,9,-999.0,9,-999.0,9,-999.0,9,-999,-999,9,-999,9, 2.6408,2,27.4923,2, 2.7386,2
49UP20140609_2,   P10,32,1,20,93,2,20140708,2334, 113,28.4870,149.3420,6176,1620.5, 2.4445,34.5243,2, 51.3,2,34.5238,2, 51.59,2,152.23,2,42.34,2,0.00,2,3.01,2, -999,9, -999,9,2375.3,2,2401.6,2,7.3917,2,25,-999,9,-999,9, 2.3335,2,27.5635,2, 2.4441,2
49UP20140609_2,   P10,32,1,19,92,2,20140708,2334, 109,28.4870,149.3420,6176,1822.1, 2.1579,34.5682,2, 66.7,2,34.5678,2, 66.58,2,157.00,2,41.46,2,0.00,2,2.94,2, -999,9, -999,9,2373.0,2,2410.6,2,7.4237,2,25,-999,9,-999,9, 2.0341,2,27.6231,2, 2.1578,2
49UP20140609_2,   P10,32,1,18,101,2,20140708,2334, 104,28.4870,149.3420,6176,2025.8, 1.9745,34.5974,2, 80.6,2,34.5973,2, 80.75,2,158.65,2,40.69,2,0.00,2,2.88,2, -999,9, -999,9,2369.6,2,2414.2,2,7.4503,2,25,-999,9,-999,9, 1.8364,2,27.6619,2, 1.9744,2
49UP20140609_2,   P10,32,1,17,90,2,20140708,2334, 100,28.4870,149.3420,6176,2227.5, 1.8487,34.6199,2, 98.6,2,34.6196,6, 98.67,2,155.37,2,39.47,2,0.00,2,2.79,2, -999,9, -999,9,2360.8,2,2415.8,2,7.4880,2,25,-999,9,-999,9, 1.6954,2,27.6907,2, 1.8485,2
49UP20140609_2,   P10,32,1,16,89,2,20140708,2334,  55,28.4870,149.3420,6176,2430.9, 1.7687,34.6334,2,109.3,2,34.6324,2,109.57,2,153.25,2,38.66,2,0.00,2,2.73,2, -999,9, -999,9,2353.1,2,2417.3,2,7.5034,2,25,-999,9,-999,9, 1.5990,2,27.7087,2, 1.7687,2
49UP20140609_2,   P10,32,1,15,88,2,20140708,2334,  50,28.4870,149.3420,6176,2635.7, 1.6783,34.6469,2,118.9,2,34.6466,2,119.03,2,153.10,2,38.11,2,0.00,2,2.68,2, -999,9, -999,9,2349.7,2,2418.1,2,7.5227,2,25,-999,9,-999,9, 1.4918,2,27.7274,2, 1.6784,2
49UP20140609_2,   P10,32,1,14,999,2,20140708,2334,  46,28.4870,149.3420,6176,2840.5, 1.6199,34.6547,2,123.2,2,34.6542,2,123.82,6,153.86,6,37.88,6,0.00,6,2.67,6, -999,9, -999,9,2348.4,2,2418.2,2,7.5180,3,25,-999,9,-999,9, 1.4157,2,27.7391,2, 1.6198,2
49UP20140609_2,   P10,32,1,13,667,2,20140708,2334,  41,28.4870,149.3420,6176,3044.7, 1.5786,34.6618,2,130.3,2,34.6600,2,129.92,2,151.91,2,37.46,2,0.00,2,2.64,2, -999,9, -999,9,2339.2,2,2420.4,2,7.5431,6,25,-999,9,-999,9, 1.3558,2,27.7491,2, 1.5786,2
49UP20140609_2,   P10,32,1,12,74,2,20140708,2334,  35,28.4870,149.3420,6176,3300.8, 1.5443,34.6677,2,136.3,2,34.6681,2,136.54,2,150.69,2,37.14,2,0.00,2,2.60,2, -999,9, -999,9,2338.7,6,2419.7,6,7.5524,2,25,-999,9,-999,9, 1.2972,2,27.7580,2, 1.5441,2
49UP20140609_2,   P10,32,1,11,268,2,20140708,2334,  30,28.4870,149.3420,6176,3555.8, 1.5220,34.6730,2,141.1,2,34.6722,6,140.82,2,149.77,2,36.78,2,0.00,2,2.58,2, -999,9, -999,9,2334.7,2,2419.0,2,7.5621,2,25,-999,9,-999,9, 1.2496,2,27.7656,2, 1.5222,2
49UP20140609_2,   P10,32,1,10,267,2,20140708,2334,  24,28.4870,149.3420,6176,3810.2, 1.5084,34.6769,2,145.2,2,34.6764,2,145.38,2,148.97,2,36.46,2,0.00,2,2.55,2, -999,9, -999,9,2331.4,2,2417.8,2,7.5703,2,25,-999,9,-999,9, 1.2097,2,27.7715,2, 1.5085,2
49UP20140609_2,   P10,32,1, 9,518,2,20140708,2334,  19,28.4870,149.3420,6176,4067.2, 1.5004,34.6800,2,149.0,2,34.6793,2,148.74,2,148.16,2,36.20,2,0.00,2,2.54,2, -999,9, -999,9,2331.1,2,2417.5,2,7.5724,2,25,-999,9,-999,9, 1.1742,2,27.7765,2, 1.5004,2
49UP20140609_2,   P10,32,1, 8,81,2,20140708,2334,  13,28.4870,149.3420,6176,4322.4, 1.4961,34.6832,2,153.2,2,34.6825,2,153.38,2,146.66,2,35.96,2,0.00,2,2.51,2, -999,9, -999,9,2324.3,2,2416.4,2,7.5803,2,25,-999,9,-999,9, 1.1415,2,27.7812,2, 1.4960,2
49UP20140609_2,   P10,32,1, 7,516,2,20140708,2334,   8,28.4870,149.3420,6176,4580.0, 1.4947,34.6860,2,156.4,2,34.6859,2,156.47,2,146.18,2,35.79,2,0.00,2,2.50,2, -999,9, -999,9,2323.6,2,2417.7,2,7.5877,2,25,-999,9,-999,9, 1.1106,2,27.7856,2, 1.4947,2
49UP20140609_2,   P10,32,1, 6,113,2,20140708,2334,   2,28.4870,149.3420,6176,4839.0, 1.5073,34.6879,2,159.1,2,34.6875,2,159.34,2,144.68,2,35.53,2,0.00,2,2.48,2, -999,9, -999,9,2318.8,2,2414.4,2,7.5895,2,25,-999,9,-999,9, 1.0923,2,27.7884,2, 1.5073,2
49UP20140609_2,   P10,32,1, 5,94,2,20140708,2334,2356,28.4870,149.3420,6176,5095.3, 1.5173,34.6900,2,162.6,2,34.6901,6,162.61,2,141.99,2,35.27,2,0.00,2,2.46,2, -999,9, -999,9,2316.1,2,2411.3,2,7.5933,2,25,-999,9,-999,9, 1.0708,2,27.7915,2, 1.5174,2
49UP20140609_2,   P10,32,1, 4,77,2,20140708,2334,2351,28.4870,149.3420,6176,5354.2, 1.5392,34.6911,2,164.3,2,34.6906,2,164.42,2,140.75,2,35.14,2,0.00,2,2.44,2, -999,9, -999,9,2317.1,2,2411.9,2,7.5954,2,25,-999,9,-999,9, 1.0597,2,27.7931,2, 1.5392,2
49UP20140609_2,   P10,32,1, 3,104,2,20140708,2334,2345,28.4870,149.3420,6176,5611.8, 1.5584,34.6923,2,166.7,2,34.6918,2,166.17,2,139.23,2,34.99,2,0.00,2,2.43,2, -999,9, -999,9,2310.7,2,2411.6,2,7.5967,2,25,-999,9,-999,9, 1.0453,2,27.7951,2, 1.5584,2
49UP20140609_2,   P10,32,1, 2,75,2,20140708,2334,2340,28.4870,149.3420,6176,5870.2, 1.5822,34.6934,2,168.5,2,34.6933,2,169.19,6,137.48,6,34.79,6,0.00,6,2.42,6, -999,9, -999,9,2309.4,2,2409.6,2,7.6022,2,25,-999,9,-999,9, 1.0344,2,27.7967,2, 1.5823,2
49UP20140609_2,   P10,32,1, 1,997,2,20140708,2334,2334,28.4870,149.3420,6176,6131.4, 1.6120,34.6939,2,169.5,2,34.6932,2,169.54,2,136.80,2,34.76,2,0.00,2,2.42,2, -999,9, -999,9,2311.5,2,2409.5,2,7.6018,2,25,-999,9,-999,9, 1.0281,2,27.7975,2, 1.6120,2
49UP20140609_2,   P10,33,1, 0,BUC,2,20140709,0724, 934,27.8228,149.3412,5917,   0.0,27.7742,34.8444,2,200.8,2,   -999,9,200.99,2,  1.33,2, 0.01,2,0.00,2,0.04,2, -999,9, -999,9,-999.0,9,-999.0,9,-999.0,9,-999,-999,9,-999,9,27.7736,2,22.3514,2,   -999,9
49UP20140609_2,   P10,33,1,36,109,2,20140709,0724, 948,27.8228,149.3412,5917,  11.2,27.7798,34.8455,2,200.4,2,34.8475,2,201.29,2,  1.27,2, 0.01,2,0.00,2,0.02,2, -999,9, -999,9,-999.0,9,-999.0,9,-999.0,9,-999,-999,9,-999,9,27.7772,2,22.3510,2,27.7752,2
49UP20140609_2,   P10,33,1,35,112,2,20140709,0724, 946,27.8228,149.3412,5917,  52.1,22.1461,35.0156,2,228.3,2,35.0178,2,228.24,2,  1.36,2, 0.00,2,0.00,2,0.01,2, -999,9, -999,9,-999.0,9,-999.0,9,-999.0,9,-999,-999,9,-999,9,22.1358,2,24.1916,2,22.1418,2
49UP20140609_2,   P10,33,1,34,83,2,20140709,0724, 942,27.8228,149.3412,5917, 101.5,20.7231,34.9377,2,222.7,2,34.9363,2,222.26,2,  1.50,2, 0.00,2,0.00,2,0.02,2, -999,9, -999,9,-999.0,9,-999.0,9,-999.0,9,-999,-999,9,-999,9,20.7039,2,24.5266,2,20.7328,2
49UP20140609_2,   P10,33,1,33,107,2,20140709,0724, 941,27.8228,149.3412,5917, 152.8,18.9355,34.8142,2,215.7,2,34.8137,2,215.34,2,  2.17,2, 1.27,2,0.03,2,0.10,2, -999,9, -999,9,-999.0,9,-999.0,9,-999.0,9,-999,-999,9,-999,9,18.9084,2,24.9024,2,18.9415,2
49UP20140609_2,   P10,33,1,32,105,2,20140709,0724, 939,27.8228,149.3412,5917, 202.0,17.9833,34.7484,2,214.5,2,34.7470,2,214.83,2,  2.89,2, 2.66,2,0.01,2,0.19,2, -999,9, -999,9,-999.0,9,-999.0,9,-999.0,9,-999,-999,9,-999,9,17.9487,2,25.0919,2,17.9820,2
49UP20140609_2,   P10,33,1,31,515,2,20140709,0724, 937,27.8228,149.3412,5917, 252.4,17.3554,34.7353,2,223.1,2,34.7345,6,222.91,2,  3.13,2, 2.79,2,0.01,2,0.20,2, -999,9, -999,9,-999.0,9,-999.0,9,-999.0,9,-999,-999,9,-999,9,17.3131,2,25.2363,2,17.3549,2
49UP20140609_2,   P10,33,1,30,97,2,20140709,0724, 935,27.8228,149.3412,5917, 333.0,16.7480,34.6914,2,213.9,2,34.6885,2,212.40,6,  4.63,6, 4.95,6,0.01,6,0.34,6, -999,9, -999,9,-999.0,9,-999.0,9,-999.0,9,-999,-999,9,-999,9,16.6935,2,25.3497,2,16.7461,2
49UP20140609_2,   P10,33,1,29,102,2,20140709,0724, 932,27.8228,149.3412,5917, 435.7,14.8263,34.5403,2,193.1,2,34.5435,2,193.10,2, 10.17,2, 9.62,2,0.00,2,0.66,2, -999,9, -999,9,-999.0,9,-999.0,9,-999.0,9,-999,-999,9,-999,9,14.7606,2,25.6697,2,14.8241,2
49UP20140609_2,   P10,33,1,28,108,2,20140709,0724, 929,27.8228,149.3412,5917, 535.3,12.3331,34.3558,2,188.1,2,34.3544,2,188.46,2, 17.02,2,14.00,2,0.00,2,0.99,2, -999,9, -999,9,-999.0,9,-999.0,9,-999.0,9,-999,-999,9,-999,9,12.2615,2,26.0387,2,12.3353,2
49UP20140609_2,   P10,33,1,27,998,2,20140709,0724, 927,27.8228,149.3412,5917, 636.0, 8.5271,34.1294,2,160.2,2,34.1290,2,159.57,2, 39.48,2,23.32,2,0.00,2,1.69,2, -999,9, -999,9,-999.0,9,-999.0,9,-999.0,9,-999,-999,9,-999,9, 8.4592,2,26.5209,2, 8.5275,2
49UP20140609_2,   P10,33,1,26,84,2,20140709,0724, 924,27.8228,149.3412,5917, 736.6, 6.2539,34.0674,2,118.9,2,34.0671,2,118.68,2, 62.72,2,31.15,2,0.00,2,2.27,2, -999,9, -999,9,-999.0,9,-999.0,9,-999.0,9,-999,-999,9,-999,9, 6.1874,2,26.7919,2, 6.2541,2
49UP20140609_2,   P10,33,1,25,98,2,20140709,0724, 921,27.8228,149.3412,5917, 839.1, 5.0305,34.1198,2, 81.9,2,34.1206,2, 81.52,6, 84.83,6,36.47,6,0.00,6,2.64,6, -999,9, -999,9,-999.0,9,-999.0,9,-999.0,9,-999,-999,9,-999,9, 4.9619,2,26.9818,2, 5.0314,2
49UP20140609_2,   P10,33,1,24,110,2,20140709,0724, 918,27.8228,149.3412,5917, 939.8, 4.3012,34.2155,2, 55.0,2,34.2158,2, 54.91,2,103.26,2,39.83,2,0.00,2,2.88,2, -999,9, -999,9,-999.0,9,-999.0,9,-999.0,9,-999,-999,9,-999,9, 4.2288,2,27.1383,2, 4.3011,2
49UP20140609_2,   P10,33,1,23,96,2,20140709,0724, 915,27.8228,149.3412,5917,1081.3, 3.6971,34.3255,2, 42.0,2,34.3250,2, 42.54,2,119.69,2,41.58,2,0.00,2,3.00,2, -999,9, -999,9,-999.0,9,-999.0,9,-999.0,9,-999,-999,9,-999,9, 3.6175,2,27.2881,2, 3.6971,2
49UP20140609_2,   P10,33,1,22,111,3,20140709,0724, 910,27.8228,149.3412,5917,1285.3, 3.1114,34.4215,2, 40.6,2,34.4215,2, 40.75,2,135.70,2,42.35,2,0.00,2,3.04,2, -999,9, -999,9,-999.0,9,-999.0,9,-999.0,9,-999,-999,9,-999,9, 3.0203,2,27.4214,2, 3.1112,2
49UP20140609_2,   P10,33,1,21,78,2,20140709,0724, 905,27.8228,149.3412,5917,1486.3, 2.6328,34.4922,2, 45.2,2,34.4869,2, 45.29,2,148.27,2,42.51,2,0.00,2,3.03,2, -999,9, -999,9,-999.0,9,-999.0,9,-999.0,9,-999,-999,9,-999,9, 2.5305,2,27.5212,2, 2.6332,2
49UP20140609_2,   P10,33,1,20,93,2,20140709,0724, 901,27.8228,149.3412,5917,1687.6, 2.3586,34.5366,2, 56.0,2,34.5363,2, 56.02,6,154.06,6,41.97,6,0.00,6,2.99,6, -999,9, -999,9,-999.0,9,-999.0,9,-999.0,9,-999,-999,9,-999,9, 2.2433,2,27.5808,2, 2.3587,2
49UP20140609_2,   P10,33,1,19,92,2,20140709,0724, 856,27.8228,149.3412,5917,1891.6, 2.0814,34.5811,2, 74.7,2,34.5795,6, 74.70,2,156.57,2,40.86,2,0.00,2,2.90,2, -999,9, -999,9,-999.0,9,-999.0,9,-999.0,9,-999,-999,9,-999,9, 1.9530,2,27.6398,2, 2.0814,2
49UP20140609_2,   P10,33,1,18,101,2,20140709,0724, 852,27.8228,149.3412,5917,2094.8, 1.9078,34.6092,2, 92.3,2,34.6092,2, 92.23,2,155.90,2,39.88,2,0.00,2,2.81,2, -999,9, -999,9,-999.0,9,-999.0,9,-999.0,9,-999,-999,9,-999,9, 1.7649,2,27.6768,2, 1.9078,2
49UP20140609_2,   P10,33,1,17,90,2,20140709,0724, 847,27.8228,149.3412,5917,2298.1, 1.7981,34.6266,2,104.3,2,34.6262,2,104.32,2,154.39,2,38.98,2,0.00,2,2.76,2, -999,9, -999,9,-999.0,9,-999.0,9,-999.0,9,-999,-999,9,-999,9, 1.6395,2,27.7002,2, 1.7980,2
49UP20140609_2,   P10,33,1,16,89,2,20140709,0724, 843,27.8228,149.3412,5917,2500.7, 1.7248,34.6386,2,113.1,2,34.6386,2,113.76,2,153.58,2,38.46,2,0.00,2,2.71,2, -999,9, -999,9,-999.0,9,-999.0,9,-999.0,9,-999,-999,9,-999,9, 1.5496,2,27.7165,2, 1.7249,2
49UP20140609_2,   P10,33,1,15,88,4,20140709,0724, 838,27.8228,149.3412,5917,2704.4, 1.6618,34.6482,2,120.0,2,34.6400,4,117.83,4,153.31,4,38.14,4,0.00,4,2.70,4, -999,9, -999,9,-999.0,9,-999.0,9,-999.0,9,-999,-999,9,-999,9, 1.4693,2,27.7301,2, 1.6617,2
49UP20140609_2,   P10,33,1,14,999,2,20140709,0724, 834,27.8228,149.3412,5917,2909.3, 1.6102,34.6568,2,126.7,2,34.6568,6,127.00,2,152.48,2,37.58,2,0.00,2,2.65,2, -999,9, -999,9,-999.0,9,-999.0,9,-999.0,9,-999,-999,9,-999,9, 1.3997,2,27.7420,2, 1.6102,2
49UP20140609_2,   P10,33,1,13,667,2,20140709,0724, 830,27.8228,149.3412,5917,3123.9, 1.5734,34.6628,2,131.7,2,34.6474,4,131.53,2,152.09,2,37.21,2,0.00,2,2.64,2, -999,9, -999,9,-999.0,9,-999.0,9,-999.0,9,-999,-999,9,-999,9, 1.3431,2,27.7509,2, 1.5735,2
49UP20140609_2,   P10,33,1,12,74,2,20140709,0724, 824,27.8228,149.3412,5917,3380.4, 1.5349,34.6694,2,137.6,2,34.6694,2,137.87,2,151.14,2,36.94,2,0.00,2,2.59,2, -999,9, -999,9,-999.0,9,-999.0,9,-999.0,9,-999,-999,9,-999,9, 1.2801,2,27.7606,2, 1.5349,2
49UP20140609_2,   P10,33,1,11,268,2,20140709,0724, 819,27.8228,149.3412,5917,3636.4, 1.5036,34.6753,2,143.4,2,34.6748,2,143.23,2,149.56,2,36.50,2,0.00,2,2.56,2, -999,9, -999,9,-999.0,9,-999.0,9,-999.0,9,-999,-999,9,-999,9, 1.2234,2,27.7693,2, 1.5039,2
49UP20140609_2,   P10,33,1,10,267,2,20140709,0724, 813,27.8228,149.3412,5917,3891.7, 1.4802,34.6800,2,148.8,2,34.6797,2,148.95,2,148.52,2,36.14,2,0.00,2,2.54,2, -999,9, -999,9,-999.0,9,-999.0,9,-999.0,9,-999,-999,9,-999,9, 1.1735,2,27.7765,2, 1.4803,2
49UP20140609_2,   P10,33,1, 9,518,2,20140709,0724, 808,27.8228,149.3412,5917,4148.2, 1.4721,34.6835,2,152.9,2,34.6821,4,152.24,2,147.44,2,35.95,2,0.00,2,2.52,2, -999,9, -999,9,-999.0,9,-999.0,9,-999.0,9,-999,-999,9,-999,9, 1.1378,2,27.7817,2, 1.4721,2
49UP20140609_2,   P10,33,1, 8,81,2,20140709,0724, 802,27.8228,149.3412,5917,4404.1, 1.4729,34.6861,2,156.5,2,34.6856,6,156.52,2,146.15,2,35.65,2,0.00,2,2.49,2, -999,9, -999,9,-999.0,9,-999.0,9,-999.0,9,-999,-999,9,-999,9, 1.1098,2,27.7857,2, 1.4729,2
49UP20140609_2,   P10,33,1, 7,516,4,20140709,0724, 757,27.8228,149.3412,5917,4660.8, 1.4846,34.6879,2,159.2,2,34.6838,4,157.20,4,144.85,4,35.55,4,0.00,4,2.49,4, -999,9, -999,9,-999.0,9,-999.0,9,-999.0,9,-999,-999,9,-999,9, 1.0914,2,27.7885,2, 1.4844,2
49UP20140609_2,   P10,33,1, 6,113,2,20140709,0724, 751,27.8228,149.3412,5917,4918.0, 1.5000,34.6892,2,161.5,2,34.6890,2,161.29,6,143.39,6,35.21,6,0.00,6,2.47,6, -999,9, -999,9,-999.0,9,-999.0,9,-999.0,9,-999,-999,9,-999,9, 1.0757,2,27.7905,2, 1.4999,2
49UP20140609_2,   P10,33,1, 5,94,2,20140709,0724, 745,27.8228,149.3412,5917,5176.2, 1.5174,34.6909,2,164.0,2,34.6906,2,164.06,2,141.72,2,35.12,2,0.00,2,2.45,2, -999,9, -999,9,-999.0,9,-999.0,9,-999.0,9,-999,-999,9,-999,9, 1.0609,2,27.7929,2, 1.5174,2
49UP20140609_2,   P10,33,1, 4,77,2,20140709,0724, 739,27.8228,149.3412,5917,5434.2, 1.5392,34.6921,2,166.3,2,34.6917,2,166.53,2,139.56,2,34.89,2,0.00,2,2.44,2, -999,9, -999,9,-999.0,9,-999.0,9,-999.0,9,-999,-999,9,-999,9, 1.0496,2,27.7946,2, 1.5392,2
49UP20140609_2,   P10,33,1, 3,104,2,20140709,0724, 734,27.8228,149.3412,5917,5691.1, 1.5642,34.6928,2,168.2,2,34.6936,2,168.16,2,137.84,2,34.78,2,0.00,2,2.43,2, -999,9, -999,9,-999.0,9,-999.0,9,-999.0,9,-999,-999,9,-999,9, 1.0406,2,27.7958,2, 1.5640,2
49UP20140609_2,   P10,33,1, 2,75,2,20140709,0724, 728,27.8228,149.3412,5917,5950.4, 1.5872,34.6940,2,170.6,2,34.6935,2,170.83,2,136.09,2,34.59,2,0.00,2,2.41,2, -999,9, -999,9,-999.0,9,-999.0,9,-999.0,9,-999,-999,9,-999,9, 1.0285,2,27.7976,2, 1.5870,2
49UP20140609_2,   P10,33,1, 1,997,2,20140709,0724, 724,27.8228,149.3412,5917,6086.5, 1.6004,34.6946,2,171.6,2,34.6946,2,171.92,2,135.14,2,34.48,2,0.00,2,2.41,2, -999,9, -999,9,-999.0,9,-999.0,9,-999.0,9,-999,-999,9,-999,9, 1.0230,2,27.7984,2, 1.6003,2