BOTTLE,20230725CCHSIOADS
EXPOCODE,SECT_ID,STNNBR,CASTNO,SAMPNO,BTLNBR,BTLNBR_FLAG_W,DATE,TIME,BTL_TIME,LATITUDE,LONGITUDE,DEPTH,CTDPRS,CTDTMP,CTDSAL,CTDSAL_FLAG_W,CTDOXY,CTDOXY_FLAG_W,SALNTY,SALNTY_FLAG_W,OXYGEN,OXYGEN_FLAG_W,SILCAT,SILCAT_FLAG_W,NO2+NO3,NO2+NO3_FLAG_W,NITRIT,NITRIT_FLAG_W,PHSPHT,PHSPHT_FLAG_W,CFC-11,CFC-11_FLAG_W,CFC-12,CFC-12_FLAG_W,TCARBN,TCARBN_FLAG_W,ALKALI,ALKALI_FLAG_W,PH_TOT,PH_TOT_FLAG_W,PH_TMP,CHLORA,CHLORA_FLAG_W,PPHYTN,PPHYTN_FLAG_W,THETA,THETA_FLAG_W,SIG0,SIG0_FLAG_W,REFTMP,REFTMP_FLAG_W
,,,,,,,,,,,,METERS,DBAR,ITS-90,PSS-78,,UMOL/KG,,PSS-78,,UMOL/KG,,UMOL/KG,,UMOL/KG,,UMOL/KG,,UMOL/KG,,PMOL/KG,,PMOL/KG,,UMOL/KG,,UMOL/KG,,,,DEG C,UG/KG,,UG/KG,,ITS-90,,KG/M^3,,ITS-90,
49UP20140609_2,   P10,20,1, 0,BUC,2,20140705,0411, 615,34.0277,149.3290,6132,   0.0,21.3936,34.4912,2,225.6,2,34.4861,2,224.57,2,  1.76,2, 0.00,2,0.00,2,0.04,2, -999,9, -999,9,1986.5,2,2266.2,2,8.0343,2,25,0.14,2,0.05,2,21.3931,2,23.9994,2,   -999,9
49UP20140609_2,   P10,20,1,36,109,2,20140705,0411, 636,34.0277,149.3290,6132,  10.1,21.3912,34.4910,2,225.6,2,34.4913,2,224.98,2,  1.74,2, 0.00,2,0.00,2,0.02,2,2.124,2,1.219,2,1979.3,2,2266.5,2,8.0340,2,25,0.14,2,0.04,2,21.3892,2,24.0002,2,21.3920,2
49UP20140609_2,   P10,20,1,35,112,2,20140705,0411, 631,34.0277,149.3290,6132,  50.8,19.7436,34.7068,2,232.2,2,34.7098,2,231.54,2,  2.10,2, 0.00,2,0.00,2,0.04,2,2.213,2,1.276,2,1997.4,2,2282.6,2,8.0363,2,25,0.27,2,0.16,2,19.7343,2,24.6078,2,19.7425,2
49UP20140609_2,   P10,20,1,34,83,3,20140705,0411, 629,34.0277,149.3290,6132, 100.8,17.9858,34.7418,2,224.7,2,34.7417,2,224.08,2,  2.51,2, 1.72,2,0.17,2,0.14,2,2.325,2,1.353,2,2018.7,2,2283.4,2,7.9992,2,25,0.17,2,0.15,2,17.9686,2,25.0820,2,17.9880,2
49UP20140609_2,   P10,20,1,33,107,2,20140705,0411, 627,34.0277,149.3290,6132, 152.0,17.3413,34.7328,2,224.9,2,34.7339,2,224.03,2,  3.18,2, 2.65,2,0.01,2,0.20,2, -999,9, -999,9,2023.6,2,2283.7,2,7.9870,2,25,0.03,2,0.03,2,17.3160,2,25.2337,2,17.3416,2
49UP20140609_2,   P10,20,1,32,105,2,20140705,0411, 626,34.0277,149.3290,6132, 202.5,17.0982,34.7291,2,223.8,2,34.7296,2,223.12,2,  3.47,2, 3.07,2,0.01,2,0.23,2,2.389,2,1.398,2,2028.0,2,2282.3,2,7.9794,2,25,0.00,2,0.02,2,17.0647,2,25.2909,2,17.0980,2
49UP20140609_2,   P10,20,1,31,515,2,20140705,0411, 624,34.0277,149.3290,6132, 252.7,16.9076,34.7179,2,222.5,2,34.7191,2,221.90,6,  3.90,6, 3.67,6,0.01,6,0.26,6, -999,9, -999,9,2026.3,2,2279.8,2,7.9717,2,25,-999,9,-999,9,16.8661,2,25.3295,2,16.9074,2
49UP20140609_2,   P10,20,1,30,97,2,20140705,0411, 622,34.0277,149.3290,6132, 305.6,16.6847,34.7041,2,219.8,2,34.7042,2,218.92,2,  4.51,2, 4.35,2,0.01,2,0.30,2,2.387,6,1.396,6,2032.7,2,2279.4,2,7.9685,2,25,-999,9,-999,9,16.6349,2,25.3732,2,16.6845,2
49UP20140609_2,   P10,20,1,29,102,2,20140705,0411, 619,34.0277,149.3290,6132, 405.6,15.6173,34.6026,2,197.6,2,34.6043,2,196.12,2,  8.65,2, 8.19,2,0.00,2,0.57,2,2.452,2,1.416,2,2058.2,2,2277.7,2,7.9072,2,25,-999,9,-999,9,15.5540,2,25.5428,2,15.6172,2
49UP20140609_2,   P10,20,1,28,108,2,20140705,0411, 616,34.0277,149.3290,6132, 505.3,13.3895,34.4462,2,187.2,2,34.4475,2,186.84,2, 15.94,2,12.64,2,0.00,2,0.89,2,2.605,2,1.456,2,2094.9,2,2275.4,2,7.8415,2,25,-999,9,-999,9,13.3182,2,25.8997,2,13.3909,2
49UP20140609_2,   P10,20,1,27,998,2,20140705,0411, 613,34.0277,149.3290,6132, 606.4,10.7552,34.2604,2,181.3,2,34.2612,2,181.93,2, 25.47,2,17.43,2,0.00,2,1.24,2,2.725,2,1.488,2,2133.2,2,2276.5,2,7.7453,2,25,-999,9,-999,9,10.6807,2,26.2565,2,10.7540,2
49UP20140609_2,   P10,20,1,26,84,2,20140705,0411, 610,34.0277,149.3290,6132, 708.6, 7.7253,34.0595,2,166.3,2,34.0642,2,166.35,6, 42.73,6,23.88,6,0.00,6,1.75,6,2.722,2,1.430,2,2181.6,2,2282.9,2,7.6383,2,25,-999,9,-999,9, 7.6537,2,26.5859,2, 7.7398,2
49UP20140609_2,   P10,20,1,25,98,2,20140705,0411, 606,34.0277,149.3290,6132, 808.7, 5.7112,33.9854,2,136.7,2,33.9876,2,136.65,2, 63.29,2,30.52,2,0.00,2,2.24,2,2.448,6,1.260,6,2230.9,2,2293.2,2,7.5257,2,25,-999,9,-999,9, 5.6413,2,26.7953,2, 5.7128,2
49UP20140609_2,   P10,20,1,24,110,2,20140705,0411, 604,34.0277,149.3290,6132, 909.9, 4.8614,34.0777,2, 89.9,2,34.0762,2, 90.18,2, 84.14,2,36.05,2,0.00,2,2.61,2,1.683,2,0.846,2,2281.5,2,2311.8,2,7.4312,2,25,-999,9,-999,9, 4.7878,2,26.9680,2, 4.8593,2
49UP20140609_2,   P10,20,1,23,96,2,20140705,0411, 600,34.0277,149.3290,6132,1011.7, 4.3833,34.1888,2, 64.6,2,34.1886,2, 65.18,2,100.85,2,38.56,2,0.00,2,2.79,2,1.053,2,0.527,2,2317.1,2,2332.1,2,7.3952,6,25,-999,9,-999,9, 4.3042,2,27.1091,2, 4.3842,2
49UP20140609_2,   P10,20,1,22,111,2,20140705,0411, 555,34.0277,149.3290,6132,1212.2, 3.5426,34.3352,2, 46.7,2,34.3365,2, 49.43,3,124.82,2,41.11,2,0.00,2,2.96,2,0.386,6,0.191,6,2351.2,6,2362.5,6,7.3746,2,25,-999,9,-999,9, 3.4536,2,27.3118,2, 3.5427,2
49UP20140609_2,   P10,20,1,21,78,2,20140705,0411, 550,34.0277,149.3290,6132,1415.1, 2.9779,34.4160,2, 42.5,2,34.4163,6, 42.57,2,140.04,2,42.04,2,0.00,2,3.02,2,0.179,2,0.085,2,2371.0,2,2380.5,2,7.3655,2,25,-999,9,-999,9, 2.8777,2,27.4300,2, 2.9777,2
49UP20140609_2,   P10,20,1,20,93,2,20140705,0411, 546,34.0277,149.3290,6132,1618.3, 2.6076,34.4747,2, 42.7,2,34.4749,2, 42.31,2,150.79,2,42.53,2,0.00,2,3.04,2,0.076,2,0.032,2,2383.8,2,2392.2,2,7.3746,2,25,-999,9,-999,9, 2.4950,2,27.5102,2, 2.6079,2
49UP20140609_2,   P10,20,1,19,92,2,20140705,0411, 541,34.0277,149.3290,6132,1820.8, 2.3429,34.5235,2, 50.1,2,34.5250,2, 49.71,2,157.39,2,42.17,2,0.00,2,3.02,2,0.040,2,0.014,2,2386.2,2,2402.4,2,7.3895,2,25,-999,9,-999,9, 2.2168,2,27.5725,2, 2.3434,2
49UP20140609_2,   P10,20,1,18,101,2,20140705,0411, 536,34.0277,149.3290,6132,2023.3, 2.1497,34.5600,2, 60.7,2,34.5618,2, 61.10,2,160.33,2,41.69,2,0.00,2,2.96,2,0.028,2,0.005,2,2385.7,2,2407.6,2,7.4152,2,25,-999,9,-999,9, 2.0093,2,27.6184,2, 2.1499,2
49UP20140609_2,   P10,20,1,17,90,2,20140705,0411, 532,34.0277,149.3290,6132,2228.5, 1.9831,34.5891,2, 72.8,2,34.5911,2, 72.97,2,162.37,2,40.99,2,0.00,2,2.91,2,0.000,2,0.000,2,2378.8,2,2412.3,2,7.4377,2,25,-999,9,-999,9, 1.8275,2,27.6559,2, 1.9833,2
49UP20140609_2,   P10,20,1,16,89,2,20140705,0411, 527,34.0277,149.3290,6132,2431.2, 1.8451,34.6139,2, 88.4,2,34.6152,2, 88.71,2,161.18,2,39.98,2,0.00,2,2.83,2,0.000,2,0.000,2,2370.4,2,2416.6,2,7.4656,2,25,-999,9,-999,9, 1.6741,2,27.6875,2, 1.8453,2
49UP20140609_2,   P10,20,1,15,88,2,20140705,0411, 523,34.0277,149.3290,6132,2634.9, 1.7479,34.6311,2,101.2,2,34.6314,2,101.19,6,159.75,6,39.23,6,0.00,6,2.77,6, -999,9, -999,9,2360.1,2,2416.8,2,7.4911,2,25,-999,9,-999,9, 1.5602,2,27.7097,2, 1.7482,2
49UP20140609_2,   P10,20,1,14,999,2,20140705,0411, 518,34.0277,149.3290,6132,2840.0, 1.6610,34.6455,2,113.4,2,34.6457,6,113.55,2,157.93,2,38.37,2,0.00,2,2.71,2, -999,9, -999,9,2355.0,2,2417.1,2,7.5156,2,25,-999,9,-999,9, 1.4560,2,27.7289,2, 1.6613,2
49UP20140609_2,   P10,20,1,13,667,2,20140705,0411, 513,34.0277,149.3290,6132,3043.8, 1.6063,34.6547,2,121.8,2,34.6532,2,123.62,3,156.34,2,37.89,2,0.00,2,2.67,2,0.020,2,0.000,2,2355.2,2,2416.9,2,7.5297,6,25,-999,9,-999,9, 1.3831,2,27.7415,2, 1.6066,2
49UP20140609_2,   P10,20,1,12,74,2,20140705,0411, 508,34.0277,149.3290,6132,3298.7, 1.5656,34.6625,2,129.5,2,34.6638,2,129.54,2,154.83,2,37.45,2,0.00,2,2.63,2, -999,9, -999,9,2345.8,6,2418.4,6,7.5456,2,25,-999,9,-999,9, 1.3182,2,27.7524,2, 1.5657,2
49UP20140609_2,   P10,20,1,11,268,2,20140705,0411, 503,34.0277,149.3290,6132,3554.5, 1.5348,34.6693,2,137.1,2,34.6693,2,136.26,2,152.50,2,36.99,2,0.00,2,2.59,2, -999,9, -999,9,2337.5,2,2417.6,2,7.5528,2,25,-999,9,-999,9, 1.2623,2,27.7617,2, 1.5350,2
49UP20140609_2,   P10,20,1,10,267,2,20140705,0411, 458,34.0277,149.3290,6132,3810.1, 1.5113,34.6743,2,142.6,2,34.6745,2,142.08,2,151.27,2,36.52,2,0.00,2,2.57,2,0.000,2,0.002,2,2340.8,2,2418.7,2,7.5641,2,25,-999,9,-999,9, 1.2126,2,27.7692,2, 1.5115,2
49UP20140609_2,   P10,20,1, 9,518,2,20140705,0411, 453,34.0277,149.3290,6132,4066.5, 1.5001,34.6783,2,147.4,2,34.6696,4,144.80,3,149.57,2,36.31,3,0.00,2,2.55,3, -999,9, -999,9,2335.3,2,2416.2,2,7.5699,2,25,-999,9,-999,9, 1.1739,2,27.7751,2, 1.5003,2
49UP20140609_2,   P10,20,1, 8,81,2,20140705,0411, 449,34.0277,149.3290,6132,4323.1, 1.4954,34.6813,2,151.2,2,34.6821,6,151.32,2,148.56,2,35.89,2,0.00,2,2.52,2, -999,9, -999,9,2333.4,2,2406.0,3,7.5726,3,25,-999,9,-999,9, 1.1408,2,27.7798,2, 1.4955,2
49UP20140609_2,   P10,20,1, 7,516,2,20140705,0411, 444,34.0277,149.3290,6132,4579.8, 1.4964,34.6845,2,155.3,2,34.6830,4,153.64,3,147.16,2,35.77,2,0.00,2,2.50,2,0.000,2,0.000,2,2327.3,2,2414.0,2,7.5883,2,25,-999,9,-999,9, 1.1123,2,27.7843,2, 1.4966,2
49UP20140609_2,   P10,20,1, 6,113,2,20140705,0411, 439,34.0277,149.3290,6132,4836.6, 1.5077,34.6865,2,158.0,2,34.6872,2,157.89,6,145.94,6,35.51,6,0.00,6,2.49,6, -999,9, -999,9,2326.0,2,2415.2,2,7.5911,2,25,-999,9,-999,9, 1.0929,2,27.7872,2, 1.5079,2
49UP20140609_2,   P10,20,1, 5,94,2,20140705,0411, 434,34.0277,149.3290,6132,5094.1, 1.5239,34.6879,2,160.4,2,34.6886,2,160.72,2,144.43,2,35.36,2,0.00,2,2.47,2, -999,9, -999,9,2323.2,2,2414.1,2,7.5941,2,25,-999,9,-999,9, 1.0774,2,27.7893,2, 1.5238,2
49UP20140609_2,   P10,20,1, 4,77,2,20140705,0411, 428,34.0277,149.3290,6132,5353.1, 1.5450,34.6891,2,162.4,2,34.6889,2,162.24,2,143.10,2,35.20,2,0.00,2,2.46,2,0.001,2,0.000,2,2322.9,2,2413.2,2,7.5973,2,25,-999,9,-999,9, 1.0655,2,27.7911,2, 1.5451,2
49UP20140609_2,   P10,20,1, 3,104,2,20140705,0411, 423,34.0277,149.3290,6132,5611.5, 1.5706,34.6900,2,163.7,2,34.6910,2,163.42,2,141.93,2,35.10,2,0.00,2,2.46,2, -999,9, -999,9,2321.5,2,2411.4,2,7.5970,6,25,-999,9,-999,9, 1.0571,2,27.7924,2, 1.5707,2
49UP20140609_2,   P10,20,1, 2,75,2,20140705,0411, 417,34.0277,149.3290,6132,5871.2, 1.5978,34.6907,2,164.6,2,34.6917,2,164.28,2,141.51,2,35.05,2,0.00,2,2.44,2, -999,9, -999,9,2319.9,6,2410.1,6,7.5952,2,25,-999,9,-999,9, 1.0493,2,27.7935,2, 1.5979,2
49UP20140609_2,   P10,20,1, 1,997,2,20140705,0411, 412,34.0277,149.3290,6132,6131.5, 1.6253,34.6914,2,166.1,2,34.6911,6,165.32,2,140.14,2,35.01,2,0.00,2,2.44,2,0.000,2,0.000,2,2318.1,2,2410.8,2,7.5960,2,25,-999,9,-999,9, 1.0408,2,27.7947,2, 1.6252,2
49UP20140609_2,   P10,21,1, 0,BUC,2,20140705,1238,1444,33.7617,149.3437,6097,   0.0,21.4731,34.5353,2,223.6,2,   -999,9,223.15,2,  1.83,2, 0.00,2,0.00,2,0.04,2, -999,9, -999,9,-999.0,9,-999.0,9,-999.0,9,-999,-999,9,-999,9,21.4726,2,24.0111,2,   -999,9
49UP20140609_2,   P10,21,1,36,109,2,20140705,1238,1506,33.7617,149.3437,6097,  10.6,21.4723,34.5350,2,223.5,2,34.5356,2,223.42,2,  1.77,2, 0.00,2,0.00,2,0.03,2, -999,9, -999,9,-999.0,9,-999.0,9,-999.0,9,-999,-999,9,-999,9,21.4702,2,24.0115,2,21.4732,2
49UP20140609_2,   P10,21,1,35,112,2,20140705,1238,1504,33.7617,149.3437,6097,  51.8,20.0599,34.6901,2,231.0,2,34.6922,2,231.06,2,  1.90,2, 0.00,2,0.00,2,0.03,2, -999,9, -999,9,-999.0,9,-999.0,9,-999.0,9,-999,-999,9,-999,9,20.0503,2,24.5121,2,20.0554,2
49UP20140609_2,   P10,21,1,34,83,2,20140705,1238,1503,33.7617,149.3437,6097, 101.1,18.3767,34.7717,2,219.3,2,34.7706,2,218.82,2,  2.62,2, 2.01,2,0.20,2,0.15,2, -999,9, -999,9,-999.0,9,-999.0,9,-999.0,9,-999,-999,9,-999,9,18.3592,2,25.0082,2,18.3774,2
49UP20140609_2,   P10,21,1,33,107,2,20140705,1238,1501,33.7617,149.3437,6097, 151.6,17.5712,34.7445,2,219.7,2,34.7441,2,220.32,2,  3.25,2, 2.83,2,0.02,2,0.21,2, -999,9, -999,9,-999.0,9,-999.0,9,-999.0,9,-999,-999,9,-999,9,17.5457,2,25.1873,2,17.5707,2
49UP20140609_2,   P10,21,1,32,105,2,20140705,1238,1459,33.7617,149.3437,6097, 201.5,17.2492,34.7443,2,226.1,2,34.7440,2,225.66,2,  3.01,2, 2.70,2,0.01,2,0.20,2, -999,9, -999,9,-999.0,9,-999.0,9,-999.0,9,-999,-999,9,-999,9,17.2157,2,25.2666,2,17.2489,2
49UP20140609_2,   P10,21,1,31,515,2,20140705,1238,1454,33.7617,149.3437,6097, 251.7,17.0210,34.7265,2,224.5,2,34.7253,2,224.36,2,  3.50,2, 3.21,2,0.01,2,0.23,2, -999,9, -999,9,-999.0,9,-999.0,9,-999.0,9,-999,-999,9,-999,9,16.9795,2,25.3092,2,17.0209,2
49UP20140609_2,   P10,21,1,30,97,2,20140705,1238,1451,33.7617,149.3437,6097, 332.0,16.7551,34.7103,2,222.7,2,34.7106,2,222.75,2,  4.10,2, 3.88,2,0.01,2,0.27,2, -999,9, -999,9,-999.0,9,-999.0,9,-999.0,9,-999,-999,9,-999,9,16.7008,2,25.3625,2,16.7553,2
49UP20140609_2,   P10,21,1,29,102,2,20140705,1238,1449,33.7617,149.3437,6097, 435.7,15.3215,34.5833,2,195.1,2,34.5840,2,194.29,2,  9.82,2, 8.90,2,0.00,2,0.61,2, -999,9, -999,9,-999.0,9,-999.0,9,-999.0,9,-999,-999,9,-999,9,15.2543,2,25.5947,2,15.3208,2
49UP20140609_2,   P10,21,1,28,108,4,20140705,1238,1446,33.7617,149.3437,6097, 536.3,12.8887,34.4121,2,184.6,2,34.6801,4,149.45,4,149.12,4,36.06,4,0.00,4,2.51,4, -999,9, -999,9,-999.0,9,-999.0,9,-999.0,9,-999,-999,9,-999,9,12.8149,2,25.9742,2,12.8883,2
49UP20140609_2,   P10,21,1,27,998,2,20140705,1238,1443,33.7617,149.3437,6097, 638.0,10.2225,34.2219,2,180.4,2,34.2250,2,180.59,2, 28.00,2,18.23,2,0.00,2,1.31,2, -999,9, -999,9,-999.0,9,-999.0,9,-999.0,9,-999,-999,9,-999,9,10.1465,2,26.3194,2,10.2210,2
49UP20140609_2,   P10,21,1,26,84,2,20140705,1238,1440,33.7617,149.3437,6097, 739.7, 7.3033,34.0355,2,162.3,2,34.0388,2,162.56,2, 45.76,2,25.02,2,0.00,2,1.82,2, -999,9, -999,9,-999.0,9,-999.0,9,-999.0,9,-999,-999,9,-999,9, 7.2307,2,26.6271,2, 7.2997,2
49UP20140609_2,   P10,21,1,25,98,2,20140705,1238,1438,33.7617,149.3437,6097, 841.6, 5.5924,34.0198,2,127.2,2,34.0205,2,127.72,2, 67.93,2,31.42,2,0.00,2,2.30,2, -999,9, -999,9,-999.0,9,-999.0,9,-999.0,9,-999,-999,9,-999,9, 5.5201,2,26.8372,2, 5.5911,2
49UP20140609_2,   P10,21,1,24,110,2,20140705,1238,1434,33.7617,149.3437,6097, 942.4, 4.6560,34.0849,2, 86.8,2,34.0850,6, 87.19,2, 88.27,2,36.42,2,0.00,2,2.65,2, -999,9, -999,9,-999.0,9,-999.0,9,-999.0,9,-999,-999,9,-999,9, 4.5810,2,26.9966,2, 4.6559,2
49UP20140609_2,   P10,21,1,23,96,2,20140705,1238,1430,33.7617,149.3437,6097,1084.7, 4.0610,34.2417,2, 54.8,2,34.2414,2, 54.88,2,110.08,2,39.81,2,0.00,2,2.87,2, -999,9, -999,9,-999.0,9,-999.0,9,-999.0,9,-999,-999,9,-999,9, 3.9782,2,27.1852,2, 4.0617,2
49UP20140609_2,   P10,21,1,22,111,2,20140705,1238,1425,33.7617,149.3437,6097,1286.5, 3.3145,34.3683,2, 44.7,2,34.3687,2, 45.98,3,130.92,2,41.52,2,0.00,2,2.98,2, -999,9, -999,9,-999.0,9,-999.0,9,-999.0,9,-999,-999,9,-999,9, 3.2215,2,27.3604,2, 3.3146,2
49UP20140609_2,   P10,21,1,21,78,2,20140705,1238,1420,33.7617,149.3437,6097,1490.0, 2.8233,34.4387,2, 40.9,2,34.4392,2, 40.84,2,144.61,2,42.38,2,0.00,2,3.04,2, -999,9, -999,9,-999.0,9,-999.0,9,-999.0,9,-999,-999,9,-999,9, 2.7186,2,27.4622,2, 2.8231,2
49UP20140609_2,   P10,21,1,20,93,2,20140705,1238,1415,33.7617,149.3437,6097,1691.8, 2.4920,34.4964,2, 43.9,2,34.4962,2, 44.01,2,153.42,2,42.45,2,0.00,2,3.03,2, -999,9, -999,9,-999.0,9,-999.0,9,-999.0,9,-999,-999,9,-999,9, 2.3747,2,27.5378,2, 2.4922,2
49UP20140609_2,   P10,21,1,19,92,2,20140705,1238,1411,33.7617,149.3437,6097,1896.0, 2.2515,34.5415,2, 53.6,2,34.5421,2, 53.22,2,158.59,2,42.14,2,0.00,2,2.99,2, -999,9, -999,9,-999.0,9,-999.0,9,-999.0,9,-999,-999,9,-999,9, 2.1204,2,27.5947,2, 2.2518,2
49UP20140609_2,   P10,21,1,18,101,2,20140705,1238,1406,33.7617,149.3437,6097,2098.0, 2.0698,34.5771,2, 67.8,2,34.5778,2, 68.22,2,160.28,2,41.27,2,0.00,2,2.92,2, -999,9, -999,9,-999.0,9,-999.0,9,-999.0,9,-999,-999,9,-999,9, 1.9242,2,27.6388,2, 2.0701,2
49UP20140609_2,   P10,21,1,17,90,2,20140705,1238,1401,33.7617,149.3437,6097,2301.6, 1.9130,34.6029,2, 81.2,2,34.6031,2, 81.00,6,161.39,6,40.47,6,0.00,6,2.86,6, -999,9, -999,9,-999.0,9,-999.0,9,-999.0,9,-999,-999,9,-999,9, 1.7522,2,27.6728,2, 1.9131,2
49UP20140609_2,   P10,21,1,16,89,2,20140705,1238,1356,33.7617,149.3437,6097,2504.9, 1.7984,34.6243,2, 97.7,2,34.6247,6, 97.35,2,158.83,2,39.43,2,0.00,2,2.78,2, -999,9, -999,9,-999.0,9,-999.0,9,-999.0,9,-999,-999,9,-999,9, 1.6215,2,27.6997,2, 1.7984,2
49UP20140609_2,   P10,21,1,15,88,2,20140705,1238,1351,33.7617,149.3437,6097,2708.5, 1.7115,34.6377,2,107.0,2,34.6379,2,107.21,2,158.47,2,38.88,2,0.00,2,2.74,2, -999,9, -999,9,-999.0,9,-999.0,9,-999.0,9,-999,-999,9,-999,9, 1.5177,2,27.7181,2, 1.7116,2
49UP20140609_2,   P10,21,1,14,999,2,20140705,1238,1347,33.7617,149.3437,6097,2911.1, 1.6451,34.6488,2,116.4,2,34.6490,2,116.49,2,157.25,2,38.21,2,0.00,2,2.69,2, -999,9, -999,9,-999.0,9,-999.0,9,-999.0,9,-999,-999,9,-999,9, 1.4338,2,27.7331,2, 1.6453,2
49UP20140609_2,   P10,21,1,13,667,2,20140705,1238,1342,33.7617,149.3437,6097,3126.5, 1.5887,34.6582,2,125.1,2,34.6577,2,124.25,6,155.52,6,37.73,6,0.00,6,2.65,6, -999,9, -999,9,-999.0,9,-999.0,9,-999.0,9,-999,-999,9,-999,9, 1.3578,2,27.7461,2, 1.5888,2
49UP20140609_2,   P10,21,1,12,74,2,20140705,1238,1337,33.7617,149.3437,6097,3382.2, 1.5534,34.6658,2,133.7,2,34.6664,6,133.46,2,152.73,2,37.14,2,0.00,2,2.60,2, -999,9, -999,9,-999.0,9,-999.0,9,-999.0,9,-999,-999,9,-999,9, 1.2980,2,27.7564,2, 1.5535,2
49UP20140609_2,   P10,21,1,11,268,2,20140705,1238,1332,33.7617,149.3437,6097,3638.1, 1.5204,34.6719,2,139.6,2,34.6724,2,138.83,2,151.84,2,36.72,2,0.00,2,2.58,2, -999,9, -999,9,-999.0,9,-999.0,9,-999.0,9,-999,-999,9,-999,9, 1.2396,2,27.7654,2, 1.5206,2
49UP20140609_2,   P10,21,1,10,267,2,20140705,1238,1326,33.7617,149.3437,6097,3895.2, 1.5057,34.6758,2,143.4,2,34.6768,2,143.40,2,151.83,2,36.52,2,0.00,2,2.56,2, -999,9, -999,9,-999.0,9,-999.0,9,-999.0,9,-999,-999,9,-999,9, 1.1980,2,27.7714,2, 1.5057,2
49UP20140609_2,   P10,21,1, 9,518,2,20140705,1238,1321,33.7617,149.3437,6097,4149.7, 1.4936,34.6799,2,148.9,2,34.6806,2,148.94,2,149.78,2,36.11,2,0.00,2,2.53,2, -999,9, -999,9,-999.0,9,-999.0,9,-999.0,9,-999,-999,9,-999,9, 1.1585,2,27.7774,2, 1.4936,2
49UP20140609_2,   P10,21,1, 8,81,2,20140705,1238,1316,33.7617,149.3437,6097,4407.8, 1.4940,34.6829,2,152.6,2,34.6838,2,152.98,2,148.49,2,35.85,2,0.00,2,2.51,2, -999,9, -999,9,-999.0,9,-999.0,9,-999.0,9,-999,-999,9,-999,9, 1.1298,2,27.7818,2, 1.4941,2
49UP20140609_2,   P10,21,1, 7,516,2,20140705,1238,1311,33.7617,149.3437,6097,4664.5, 1.5015,34.6851,2,155.7,2,34.6858,2,155.70,2,147.35,2,35.65,2,0.00,2,2.49,2, -999,9, -999,9,-999.0,9,-999.0,9,-999.0,9,-999,-999,9,-999,9, 1.1073,2,27.7851,2, 1.5017,2
49UP20140609_2,   P10,21,1, 6,113,2,20140705,1238,1305,33.7617,149.3437,6097,4922.9, 1.5131,34.6871,2,158.6,2,34.6883,2,158.41,2,145.81,2,35.48,2,0.00,2,2.48,2, -999,9, -999,9,-999.0,9,-999.0,9,-999.0,9,-999,-999,9,-999,9, 1.0878,2,27.7881,2, 1.5133,2
49UP20140609_2,   P10,21,1, 5,94,2,20140705,1238,1300,33.7617,149.3437,6097,5179.5, 1.5307,34.6885,2,160.9,2,34.6892,2,161.06,4,144.09,2,35.26,2,0.00,2,2.46,2, -999,9, -999,9,-999.0,9,-999.0,9,-999.0,9,-999,-999,9,-999,9, 1.0734,2,27.7901,2, 1.5310,2
49UP20140609_2,   P10,21,1, 4,77,2,20140705,1238,1255,33.7617,149.3437,6097,5438.6, 1.5537,34.6894,2,162.7,2,34.6906,6,163.14,2,142.67,2,35.11,2,0.00,2,2.45,2, -999,9, -999,9,-999.0,9,-999.0,9,-999.0,9,-999,-999,9,-999,9, 1.0630,2,27.7916,2, 1.5538,2
49UP20140609_2,   P10,21,1, 3,104,2,20140705,1238,1250,33.7617,149.3437,6097,5696.6, 1.5785,34.6904,2,164.3,2,34.6909,2,163.97,2,141.37,2,35.01,2,0.00,2,2.45,2, -999,9, -999,9,-999.0,9,-999.0,9,-999.0,9,-999,-999,9,-999,9, 1.0536,2,27.7930,2, 1.5786,2
49UP20140609_2,   P10,21,1, 2,75,2,20140705,1238,1243,33.7617,149.3437,6097,5955.6, 1.6045,34.6914,2,165.9,2,34.6921,2,165.84,2,139.93,2,34.87,2,0.00,2,2.43,2, -999,9, -999,9,-999.0,9,-999.0,9,-999.0,9,-999,-999,9,-999,9, 1.0445,2,27.7944,2, 1.6045,2
49UP20140609_2,   P10,21,1, 1,997,2,20140705,1238,1239,33.7617,149.3437,6097,6130.9, 1.6216,34.6920,2,167.1,2,34.6925,2,166.99,6,139.23,6,34.85,6,0.00,6,2.43,6, -999,9, -999,9,-999.0,9,-999.0,9,-999.0,9,-999,-999,9,-999,9, 1.0374,2,27.7954,2, 1.6217,2