BOTTLE,20230725CCHSIOADS
EXPOCODE,SECT_ID,STNNBR,CASTNO,SAMPNO,BTLNBR,BTLNBR_FLAG_W,DATE,TIME,BTL_TIME,LATITUDE,LONGITUDE,DEPTH,CTDPRS,CTDTMP,CTDSAL,CTDSAL_FLAG_W,CTDOXY,CTDOXY_FLAG_W,SALNTY,SALNTY_FLAG_W,OXYGEN,OXYGEN_FLAG_W,SILCAT,SILCAT_FLAG_W,NO2+NO3,NO2+NO3_FLAG_W,NITRIT,NITRIT_FLAG_W,PHSPHT,PHSPHT_FLAG_W,CFC-11,CFC-11_FLAG_W,CFC-12,CFC-12_FLAG_W,TCARBN,TCARBN_FLAG_W,ALKALI,ALKALI_FLAG_W,PH_TOT,PH_TOT_FLAG_W,PH_TMP,CHLORA,CHLORA_FLAG_W,PPHYTN,PPHYTN_FLAG_W,THETA,THETA_FLAG_W,SIG0,SIG0_FLAG_W,REFTMP,REFTMP_FLAG_W
,,,,,,,,,,,,METERS,DBAR,ITS-90,PSS-78,,UMOL/KG,,PSS-78,,UMOL/KG,,UMOL/KG,,UMOL/KG,,UMOL/KG,,UMOL/KG,,PMOL/KG,,PMOL/KG,,UMOL/KG,,UMOL/KG,,,,DEG C,UG/KG,,UG/KG,,ITS-90,,KG/M^3,,ITS-90,
49UP20140609_3,   P10,78,1, 0,BUC,2,20140811,1035,1220, 2.2598,146.7908,4603,   0.0,29.4820,34.1217,2,195.7,2,   -999,9,195.63,2,  1.20,2, 0.00,2,0.00,2,0.06,2, -999,9, -999,9,-999.0,9,-999.0,9,-999.0,9,-999,-999,9,-999,9,29.4814,2,21.2435,2,   -999,9
49UP20140609_3,   P10,78,1,36,109,2,20140811,1035,1241, 2.2598,146.7908,4603,  10.8,29.4807,34.1207,2,195.7,2,34.1189,2,196.26,2,  1.20,2, 0.00,2,0.00,2,0.05,2, -999,9, -999,9,-999.0,9,-999.0,9,-999.0,9,-999,-999,9,-999,9,29.4781,2,21.2439,2,29.4797,2
49UP20140609_3,   P10,78,1,35,112,2,20140811,1035,1240, 2.2598,146.7908,4603,  26.3,29.3475,34.1045,2,196.0,2,34.1036,2,196.55,2,  1.20,2, 0.00,2,0.00,2,0.04,2, -999,9, -999,9,-999.0,9,-999.0,9,-999.0,9,-999,-999,9,-999,9,29.3411,2,21.2778,2,29.3461,2
49UP20140609_3,   P10,78,1,34,83,2,20140811,1035,1239, 2.2598,146.7908,4603,  51.3,28.7400,34.1818,2,197.4,2,34.4436,4,193.91,2,  1.37,2, 0.03,2,0.01,2,0.11,2, -999,9, -999,9,-999.0,9,-999.0,9,-999.0,9,-999,-999,9,-999,9,28.7277,2,21.5403,2,28.7409,2
49UP20140609_3,   P10,78,1,33,107,2,20140811,1035,1237, 2.2598,146.7908,4603,  76.0,27.7368,35.1395,2,163.3,2,35.1285,4,163.41,2,  2.07,2, 4.14,2,0.29,2,0.44,2, -999,9, -999,9,-999.0,9,-999.0,9,-999.0,9,-999,-999,9,-999,9,27.7190,2,22.5912,2,27.7384,2
49UP20140609_3,   P10,78,1,32,105,2,20140811,1035,1236, 2.2598,146.7908,4603, 101.1,25.0755,35.0581,2,139.8,2,35.0647,2,140.32,2,  3.74,2, 7.24,2,0.04,2,0.60,2, -999,9, -999,9,-999.0,9,-999.0,9,-999.0,9,-999,-999,9,-999,9,25.0536,2,23.3689,2,25.0695,2
49UP20140609_3,   P10,78,1,31,515,2,20140811,1035,1235, 2.2598,146.7908,4603, 126.5,23.9075,35.1021,2,137.8,2,35.1024,2,137.69,2,  4.75,2, 7.99,2,0.02,2,0.65,2, -999,9, -999,9,-999.0,9,-999.0,9,-999.0,9,-999,-999,9,-999,9,23.8809,2,23.7539,2,23.9048,2
49UP20140609_3,   P10,78,1,30,97,2,20140811,1035,1233, 2.2598,146.7908,4603, 151.6,21.3164,35.3367,2,136.5,2,35.3227,4,137.26,2,  5.23,2, 9.60,2,0.01,2,0.77,2, -999,9, -999,9,-999.0,9,-999.0,9,-999.0,9,-999,-999,9,-999,9,21.2870,2,24.6717,2,21.3033,2
49UP20140609_3,   P10,78,1,29,102,2,20140811,1035,1232, 2.2598,146.7908,4603, 201.7,17.9209,35.0190,2,139.9,2,35.0174,2,140.21,2,  9.85,6,12.16,6,0.01,6,0.93,6, -999,9, -999,9,-999.0,9,-999.0,9,-999.0,9,-999,-999,9,-999,9,17.8864,2,25.3146,2,17.9208,2
49UP20140609_3,   P10,78,1,28,108,2,20140811,1035,1230, 2.2598,146.7908,4603, 252.5,14.7836,34.8368,2,134.4,2,34.8204,4,137.43,2, 15.83,3,16.40,2,0.00,2,1.22,2, -999,9, -999,9,-999.0,9,-999.0,9,-999.0,9,-999,-999,9,-999,9,14.7458,2,25.9016,2,14.7780,2
49UP20140609_3,   P10,78,1,27,998,2,20140811,1035,1228, 2.2598,146.7908,4603, 302.7,10.1932,34.6625,2,120.1,2,34.6680,2,121.13,2, 27.35,3,25.50,2,0.00,2,1.82,2, -999,9, -999,9,-999.0,9,-999.0,9,-999.0,9,-999,-999,9,-999,9,10.1576,2,26.6614,2,10.1893,2
49UP20140609_3,   P10,78,1,26,84,2,20140811,1035,1223, 2.2598,146.7908,4603, 352.1, 9.6022,34.6939,2,104.7,2,34.6931,2,105.01,2, 25.97,3,28.38,2,0.00,2,2.00,2, -999,9, -999,9,-999.0,9,-999.0,9,-999.0,9,-999,-999,9,-999,9, 9.5622,2,26.7867,2, 9.6055,2
49UP20140609_3,   P10,78,1,25,98,2,20140811,1035,1221, 2.2598,146.7908,4603, 403.1, 9.1735,34.6559,2,118.8,2,34.6549,2,119.37,2, 26.88,3,27.76,2,0.00,2,1.96,2, -999,9, -999,9,-999.0,9,-999.0,9,-999.0,9,-999,-999,9,-999,9, 9.1289,2,26.8280,2, 9.1745,2
49UP20140609_3,   P10,78,1,24,110,2,20140811,1035,1220, 2.2598,146.7908,4603, 454.7, 8.7907,34.6311,2,126.7,2,34.6309,2,127.00,2, 27.24,3,27.83,2,0.00,2,1.96,2, -999,9, -999,9,-999.0,9,-999.0,9,-999.0,9,-999,-999,9,-999,9, 8.7415,2,26.8703,2, 8.7851,2
49UP20140609_3,   P10,78,1,23,96,2,20140811,1035,1218, 2.2598,146.7908,4603, 503.3, 8.2789,34.6002,2,118.1,2,34.5961,4,120.19,2, 32.07,3,29.51,2,0.00,2,2.08,2, -999,9, -999,9,-999.0,9,-999.0,9,-999.0,9,-999,-999,9,-999,9, 8.2262,2,26.9258,2, 8.2741,2
49UP20140609_3,   P10,78,1,22,111,2,20140811,1035,1215, 2.2598,146.7908,4603, 603.5, 6.7892,34.5426,2, 95.1,2,34.5431,2, 94.86,2, 48.54,3,34.45,2,0.00,2,2.46,2, -999,9, -999,9,-999.0,9,-999.0,9,-999.0,9,-999,-999,9,-999,9, 6.7324,2,27.0951,2, 6.7880,2
49UP20140609_3,   P10,78,1,21,78,2,20140811,1035,1211, 2.2598,146.7908,4603, 705.4, 5.8253,34.5348,2, 87.1,2,34.5342,2, 87.10,2, 63.73,3,36.83,2,0.00,2,2.63,2, -999,9, -999,9,-999.0,9,-999.0,9,-999.0,9,-999,-999,9,-999,9, 5.7636,2,27.2148,2, 5.8250,2
49UP20140609_3,   P10,78,1,20,93,2,20140811,1035,1206, 2.2598,146.7908,4603, 806.0, 5.1816,34.5341,2,104.7,2,34.5347,2,104.41,2, 70.17,3,36.22,2,0.00,2,2.58,2, -999,9, -999,9,-999.0,9,-999.0,9,-999.0,9,-999,-999,9,-999,9, 5.1144,2,27.2926,2, 5.1803,2
49UP20140609_3,   P10,78,1,19,92,2,20140811,1035,1203, 2.2598,146.7908,4603, 906.4, 4.8105,34.5392,2,108.5,2,34.5393,2,107.41,2, 74.40,3,36.45,2,0.00,2,2.60,2, -999,9, -999,9,-999.0,9,-999.0,9,-999.0,9,-999,-999,9,-999,9, 4.7369,2,27.3399,2, 4.8142,2
49UP20140609_3,   P10,78,1,18,101,3,20140811,1035,1200, 2.2598,146.7908,4603,1007.6, 4.5708,34.5458,2,105.4,2,34.5468,2,105.33,2, 80.95,3,36.91,2,0.00,2,2.64,2, -999,9, -999,9,-999.0,9,-999.0,9,-999.0,9,-999,-999,9,-999,9, 4.4900,2,27.3726,2, 4.5689,2
49UP20140609_3,   P10,78,1,17,90,2,20140811,1035,1156, 2.2598,146.7908,4603,1210.7, 3.8261,34.5685,2,100.7,2,34.5689,2,100.44,6, 98.02,2,38.17,6,0.00,6,2.73,6, -999,9, -999,9,-999.0,9,-999.0,9,-999.0,9,-999,-999,9,-999,9, 3.7341,2,27.4701,2, 3.8200,2
49UP20140609_3,   P10,78,1,16,89,2,20140811,1035,1147, 2.2598,146.7908,4603,1412.4, 3.4001,34.5843,2,101.7,2,34.5848,6,101.74,2,108.45,2,38.29,2,0.00,2,2.74,2, -999,9, -999,9,-999.0,9,-999.0,9,-999.0,9,-999,-999,9,-999,9, 3.2952,2,27.5257,2, 3.3997,2
49UP20140609_3,   P10,78,1,15,88,3,20140811,1035,1142, 2.2598,146.7908,4603,1614.5, 2.8936,34.6042,2,104.2,2,34.6038,2,104.44,2,121.21,2,38.47,2,0.00,2,2.74,2, -999,9, -999,9,-999.0,9,-999.0,9,-999.0,9,-999,-999,9,-999,9, 2.7773,2,27.5892,2, 2.8942,2
49UP20140609_3,   P10,78,1,14,999,2,20140811,1035,1138, 2.2598,146.7908,4603,1817.9, 2.5616,34.6187,2,108.4,2,34.6188,2,108.29,2,128.94,2,38.42,2,0.00,2,2.72,2, -999,9, -999,9,-999.0,9,-999.0,9,-999.0,9,-999,-999,9,-999,9, 2.4324,2,27.6308,2, 2.5605,2
49UP20140609_3,   P10,78,1,13,667,2,20140811,1035,1134, 2.2598,146.7908,4603,2020.0, 2.2338,34.6346,2,114.8,2,34.6344,2,114.60,2,135.84,2,38.18,2,0.00,2,2.70,2, -999,9, -999,9,-999.0,9,-999.0,9,-999.0,9,-999,-999,9,-999,9, 2.0921,2,27.6716,2, 2.2309,2
49UP20140609_3,   P10,78,1,12,74,2,20140811,1035,1129, 2.2598,146.7908,4603,2223.9, 1.9925,34.6483,2,119.1,2,34.6478,2,119.16,2,141.46,2,38.01,2,0.00,2,2.68,2, -999,9, -999,9,-999.0,9,-999.0,9,-999.0,9,-999,-999,9,-999,9, 1.8370,2,27.7027,2, 1.9913,2
49UP20140609_3,   P10,78,1,11,268,2,20140811,1035,1125, 2.2598,146.7908,4603,2427.1, 1.7811,34.6586,2,130.5,2,34.6569,4,130.36,2,142.24,2,37.16,2,0.00,2,2.61,2, -999,9, -999,9,-999.0,9,-999.0,9,-999.0,9,-999,-999,9,-999,9, 1.6114,2,27.7280,2, 1.7812,2
49UP20140609_3,   P10,78,1,10,267,2,20140811,1035,1120, 2.2598,146.7908,4603,2631.8, 1.7352,34.6615,2,134.3,2,34.6608,2,134.45,2,142.28,2,36.92,2,0.00,2,2.59,2, -999,9, -999,9,-999.0,9,-999.0,9,-999.0,9,-999,-999,9,-999,9, 1.5479,2,27.7350,2, 1.7352,2
49UP20140609_3,   P10,78,1, 9,518,2,20140811,1035,1116, 2.2598,146.7908,4603,2834.1, 1.6422,34.6677,2,139.3,2,34.6669,2,139.33,6,142.85,6,36.63,6,0.00,6,2.57,6, -999,9, -999,9,-999.0,9,-999.0,9,-999.0,9,-999,-999,9,-999,9, 1.4381,2,27.7480,2, 1.6421,2
49UP20140609_3,   P10,78,1, 8,81,2,20140811,1035,1111, 2.2598,146.7908,4603,3039.2, 1.5956,34.6716,2,142.7,2,34.6708,2,142.70,2,142.76,2,36.38,2,0.00,2,2.55,2, -999,9, -999,9,-999.0,9,-999.0,9,-999.0,9,-999,-999,9,-999,9, 1.3730,2,27.7558,2, 1.5956,2
49UP20140609_3,   P10,78,1, 7,516,2,20140811,1035,1106, 2.2598,146.7908,4603,3293.5, 1.5761,34.6746,2,145.2,2,34.6736,2,145.12,2,142.82,2,36.25,2,0.00,2,2.54,2, -999,9, -999,9,-999.0,9,-999.0,9,-999.0,9,-999,-999,9,-999,9, 1.3289,2,27.7613,2, 1.5760,2
49UP20140609_3,   P10,78,1, 6,113,2,20140811,1035,1100, 2.2598,146.7908,4603,3549.1, 1.5553,34.6782,2,147.9,2,34.6773,6,147.85,2,142.68,2,36.07,2,0.00,2,2.52,2, -999,9, -999,9,-999.0,9,-999.0,9,-999.0,9,-999,-999,9,-999,9, 1.2828,2,27.7674,2, 1.5553,2
49UP20140609_3,   P10,78,1, 5,94,2,20140811,1035,1054, 2.2598,146.7908,4603,3805.7, 1.5378,34.6811,2,151.0,2,34.6811,2,150.93,2,142.17,2,35.91,2,0.00,2,2.51,2, -999,9, -999,9,-999.0,9,-999.0,9,-999.0,9,-999,-999,9,-999,9, 1.2388,2,27.7728,2, 1.5377,2
49UP20140609_3,   P10,78,1, 4,77,2,20140811,1035,1048, 2.2598,146.7908,4603,4062.2, 1.5381,34.6829,2,153.2,2,34.6827,2,153.25,2,141.81,2,35.77,2,0.00,2,2.50,2, -999,9, -999,9,-999.0,9,-999.0,9,-999.0,9,-999,-999,9,-999,9, 1.2113,2,27.7762,2, 1.5380,2
49UP20140609_3,   P10,78,1, 3,104,2,20140811,1035,1043, 2.2598,146.7908,4603,4317.6, 1.5408,34.6851,2,154.7,2,34.6852,2,154.92,2,141.51,2,35.68,2,0.00,2,2.49,2, -999,9, -999,9,-999.0,9,-999.0,9,-999.0,9,-999,-999,9,-999,9, 1.1854,2,27.7797,2, 1.5407,2
49UP20140609_3,   P10,78,1, 2,75,3,20140811,1035,1038, 2.2598,146.7908,4603,4573.9, 1.5678,34.6852,2,155.1,2,34.6851,2,155.18,2,141.16,2,35.65,2,0.00,2,2.48,2, -999,9, -999,9,-999.0,9,-999.0,9,-999.0,9,-999,-999,9,-999,9, 1.1822,2,27.7801,2, 1.5678,2
49UP20140609_3,   P10,78,1, 1,997,2,20140811,1035,1035, 2.2598,146.7908,4603,4672.0, 1.5799,34.6852,2,155.1,2,34.6849,6,155.01,6,141.38,6,35.63,6,0.00,6,2.49,6, -999,9, -999,9,-999.0,9,-999.0,9,-999.0,9,-999,-999,9,-999,9, 1.1823,2,27.7801,2, 1.5798,2
49UP20140609_3,   P10,79,1, 0,BUC,2,20140811,1832,2002, 2.0052,146.7078,4434,   0.0,29.4252,34.1489,2,195.8,2,34.1474,2,195.32,2,  1.14,2, 0.00,2,0.00,2,0.07,2, -999,9, -999,9,1915.7,2,2246.0,2,8.1252,2,25,0.08,2,0.04,2,29.4246,2,21.2830,2,   -999,9
49UP20140609_3,   P10,79,1,36,109,2,20140811,1832,2022, 2.0052,146.7078,4434,  10.5,29.4488,34.1508,2,195.8,2,34.1483,2,195.07,2,  1.14,2, 0.00,2,0.00,2,0.06,2,1.446,2,0.896,2,1915.1,2,2246.0,2,8.1213,2,25,0.08,2,0.04,2,29.4463,2,21.2772,2,29.4497,2
49UP20140609_3,   P10,79,1,35,112,2,20140811,1832,2021, 2.0052,146.7078,4434,  25.1,29.4375,34.1498,2,195.7,2,34.1477,2,194.83,2,  1.15,2, 0.00,2,0.00,2,0.06,2, -999,9, -999,9,1917.2,2,2245.5,2,8.1217,2,25,0.08,2,0.04,2,29.4314,2,21.2814,2,29.4365,2
49UP20140609_3,   P10,79,1,34,83,2,20140811,1832,2018, 2.0052,146.7078,4434,  50.7,29.3606,34.1395,2,195.3,2,34.1400,2,195.23,2,  1.19,2, 0.00,2,0.00,2,0.06,2,1.450,2,0.902,2,1916.8,2,2245.1,2,8.1174,2,25,0.10,2,0.05,2,29.3482,2,21.3017,2,29.3586,2
49UP20140609_3,   P10,79,1,33,107,2,20140811,1832,2017, 2.0052,146.7078,4434,  75.0,28.0348,35.0546,2,171.7,2,33.0943,4,171.32,2,  1.86,2, 2.83,2,0.24,2,0.36,2, -999,9, -999,9,2009.2,2,2303.1,2,8.0593,2,25,0.30,2,0.43,2,28.0172,2,22.4301,2,28.0353,2
49UP20140609_3,   P10,79,1,32,105,2,20140811,1832,2016, 2.0052,146.7078,4434, 100.4,26.2231,35.2598,2,145.1,2,35.2658,2,145.30,2,  2.87,2, 7.13,2,0.08,2,0.62,2,1.663,2,1.032,2,2044.8,2,2314.9,2,7.9904,6,25,0.09,2,0.28,2,26.2005,2,23.1667,2,26.2209,2
49UP20140609_3,   P10,79,1,31,515,2,20140811,1832,2015, 2.0052,146.7078,4434, 125.8,24.4321,35.0416,2,139.1,2,35.0424,2,139.03,6,  4.45,6, 7.59,6,0.04,6,0.62,6, -999,9, -999,9,2049.8,2,2301.3,2,7.9641,2,25,0.05,2,0.21,2,24.4053,2,23.5521,2,24.4376,2
49UP20140609_3,   P10,79,1,30,97,2,20140811,1832,2013, 2.0052,146.7078,4434, 151.1,22.5586,35.2018,2,134.5,2,35.1880,4,134.67,2,  5.44,2, 9.08,2,0.02,2,0.73,2,1.759,6,1.079,6,2074.1,6,2310.7,6,7.9290,2,25,0.03,2,0.07,2,22.5282,2,24.2219,2,22.5553,2
49UP20140609_3,   P10,79,1,29,102,2,20140811,1832,2012, 2.0052,146.7078,4434, 202.7,17.9947,35.0345,2,138.9,2,35.0215,4,138.85,2, 10.12,2,12.37,2,0.01,2,0.95,2,1.959,2,1.143,2,2109.3,2,2308.3,2,7.8516,2,25,0.00,2,0.02,2,17.9599,2,25.3084,2,17.9956,2
49UP20140609_3,   P10,79,1,28,108,2,20140811,1832,2010, 2.0052,146.7078,4434, 251.2,12.0386,34.6736,2,128.7,2,34.6818,2,128.22,2, 24.96,2,21.60,2,0.00,2,1.57,2,1.612,2,0.890,2,2166.5,2,2301.1,2,7.7123,2,25,-999,9,-999,9,12.0058,2,26.3344,2,12.0365,2
49UP20140609_3,   P10,79,1,27,998,2,20140811,1832,2008, 2.0052,146.7078,4434, 332.1,10.1097,34.7181,2,113.2,2,34.7157,2,112.06,2, 24.52,2,26.76,2,0.00,2,1.89,2,1.116,2,0.603,2,2197.2,2,2303.5,2,7.6359,2,25,-999,9,-999,9,10.0708,2,26.7197,2,10.1109,2
49UP20140609_3,   P10,79,1,26,84,2,20140811,1832,2007, 2.0052,146.7078,4434, 381.1, 9.4713,34.6749,2,126.0,2,34.6751,2,125.98,2, 25.12,2,26.56,2,0.00,2,1.87,2,1.120,6,0.588,6,2197.2,2,2303.6,2,7.6480,2,25,-999,9,-999,9, 9.4283,2,26.7939,2, 9.4706,2
49UP20140609_3,   P10,79,1,25,98,2,20140811,1832,2005, 2.0052,146.7078,4434, 433.4, 8.9779,34.6442,2,125.4,2,34.6443,2,125.16,2, 26.69,2,27.62,2,0.00,2,1.94,2,1.020,2,0.533,2,2197.6,2,2304.6,2,7.6330,2,25,-999,9,-999,9, 8.9304,2,26.8506,2, 8.9776,2
49UP20140609_3,   P10,79,1,24,110,2,20140811,1832,2004, 2.0052,146.7078,4434, 483.0, 8.5832,34.6171,2,123.9,2,34.6166,2,124.67,2, 29.36,2,28.49,2,0.00,2,2.00,2,0.906,6,0.474,6,2201.9,2,2305.2,2,7.6181,2,25,-999,9,-999,9, 8.5316,2,26.8921,2, 8.5824,2
49UP20140609_3,   P10,79,1,23,96,2,20140811,1832,2002, 2.0052,146.7078,4434, 533.3, 8.3448,34.6031,2,118.6,2,34.6026,2,119.52,2, 31.56,2,29.42,2,0.00,2,2.07,2,0.797,2,0.420,2,2209.3,2,2304.9,2,7.6076,2,25,-999,9,-999,9, 8.2886,2,26.9185,2, 8.3439,2
49UP20140609_3,   P10,79,1,22,111,2,20140811,1832,2000, 2.0052,146.7078,4434, 634.1, 6.9636,34.5468,2,101.9,2,34.5482,2,101.52,6, 44.86,6,33.66,6,0.00,6,2.38,6,0.342,2,0.182,2,2238.5,6,2315.9,6,7.5525,2,25,-999,9,-999,9, 6.9030,2,27.0751,2, 6.9661,2
49UP20140609_3,   P10,79,1,21,78,2,20140811,1832,1957, 2.0052,146.7078,4434, 735.1, 5.9161,34.5317,2, 95.6,2,34.5322,2, 95.00,2, 59.82,2,36.05,2,0.00,2,2.56,2,0.161,2,0.092,2,2261.5,2,2331.3,2,7.5263,6,25,-999,9,-999,9, 5.8511,2,27.2014,2, 5.9148,2
49UP20140609_3,   P10,79,1,20,93,2,20140811,1832,1954, 2.0052,146.7078,4434, 838.2, 4.9655,34.5370,2,105.1,2,34.5380,2,105.72,2, 71.91,2,36.51,2,0.00,2,2.60,2,0.106,2,0.051,2,2270.3,2,2342.5,2,7.5288,2,25,-999,9,-999,9, 4.8969,2,27.3201,2, 4.9655,2
49UP20140609_3,   P10,79,1,19,92,2,20140811,1832,1954, 2.0052,146.7078,4434, 838.8, 4.9650,34.5371,2,105.2,2,34.5372,2,105.27,2, 71.89,2,36.48,2,0.00,2,2.60,2,0.103,2,0.055,2,2274.1,2,2342.1,2,7.5308,2,25,-999,9,-999,9, 4.8963,2,27.3202,2, 4.9651,2
49UP20140609_3,   P10,79,1,18,101,2,20140811,1832,1952, 2.0052,146.7078,4434, 938.4, 4.6381,34.5447,2,100.4,2,34.5457,6,100.85,2, 78.78,2,37.46,2,0.00,2,2.67,2,0.062,2,0.029,2,2286.4,2,2349.2,2,7.5209,2,25,-999,9,-999,9, 4.5628,2,27.3637,2, 4.6376,2
49UP20140609_3,   P10,79,1,17,90,2,20140811,1832,1948, 2.0052,146.7078,4434,1080.8, 4.0504,34.5602,2,103.3,2,34.5613,2,103.61,2, 91.73,2,37.63,2,0.00,2,2.68,2,0.038,2,0.017,2,2298.2,2,2364.7,2,7.5251,2,25,-999,9,-999,9, 3.9675,2,27.4397,2, 4.0506,2
49UP20140609_3,   P10,79,1,16,89,2,20140811,1832,1944, 2.0052,146.7078,4434,1280.7, 3.6291,34.5763,2, 99.6,2,34.5768,2, 99.79,2,102.79,2,38.36,2,0.00,2,2.74,2,0.019,2,0.006,2,2309.8,2,2376.8,2,7.5144,2,25,-999,9,-999,9, 3.5330,2,27.4963,2, 3.6291,2
49UP20140609_3,   P10,79,1,15,88,2,20140811,1832,1939, 2.0052,146.7078,4434,1482.9, 3.1318,34.5939,2,105.5,2,34.5938,6,105.95,2,113.10,2,38.27,2,0.00,2,2.72,2,0.012,2,0.000,2,2315.7,2,2387.7,2,7.5240,2,25,-999,9,-999,9, 3.0239,2,27.5587,2, 3.1318,2
49UP20140609_3,   P10,79,1,14,999,2,20140811,1832,1934, 2.0052,146.7078,4434,1685.8, 2.7428,34.6107,2,108.3,2,34.6107,2,108.96,6,123.21,6,38.32,6,0.00,6,2.71,6,0.008,2,0.006,2,2327.8,2,2398.6,2,7.5234,2,25,-999,9,-999,9, 2.6224,2,27.6081,2, 2.7429,2
49UP20140609_3,   P10,79,1,13,667,2,20140811,1832,1930, 2.0052,146.7078,4434,1889.5, 2.3788,34.6272,2,111.9,2,34.6266,2,112.61,2,132.27,2,38.24,2,0.00,2,2.70,2,0.000,2,0.000,2,2332.8,2,2405.8,2,7.5275,2,25,-999,9,-999,9, 2.2461,2,27.6531,2, 2.3788,2
49UP20140609_3,   P10,79,1,12,74,2,20140811,1832,1926, 2.0052,146.7078,4434,2092.0, 2.1276,34.6397,2,119.1,2,34.6394,2,119.40,2,136.60,2,37.83,2,0.00,2,2.66,2, -999,9, -999,9,2336.6,2,2411.1,2,7.5397,2,25,-999,9,-999,9, 1.9814,2,27.6845,2, 2.1273,2
49UP20140609_3,   P10,79,1,11,268,2,20140811,1832,1921, 2.0052,146.7078,4434,2294.6, 1.9710,34.6485,2,123.1,2,34.6484,2,123.42,2,140.20,2,37.65,2,0.00,2,2.65,2, -999,9, -999,9,2339.1,2,2413.6,2,7.5454,6,25,-999,9,-999,9, 1.8097,2,27.7050,2, 1.9708,2
49UP20140609_3,   P10,79,1,10,267,2,20140811,1832,1917, 2.0052,146.7078,4434,2498.6, 1.7955,34.6581,2,130.2,2,34.6583,6,130.71,2,141.94,2,37.20,2,0.00,2,2.61,2,0.003,2,0.000,2,2341.0,2,2417.5,2,7.5544,2,25,-999,9,-999,9, 1.6192,2,27.7270,2, 1.7954,2
49UP20140609_3,   P10,79,1, 9,518,2,20140811,1832,1912, 2.0052,146.7078,4434,2702.5, 1.7071,34.6636,2,135.3,2,34.6635,2,135.43,2,142.57,2,36.90,2,0.00,2,2.58,2, -999,9, -999,9,2336.4,6,2416.8,6,7.5675,2,25,-999,9,-999,9, 1.5139,2,27.7392,2, 1.7070,2
49UP20140609_3,   P10,79,1, 8,81,2,20140811,1832,1908, 2.0052,146.7078,4434,2906.4, 1.6397,34.6682,2,139.8,2,34.6682,2,140.12,2,142.47,2,36.57,2,0.00,2,2.55,2, -999,9, -999,9,2332.5,2,2417.0,2,7.5714,2,25,-999,9,-999,9, 1.4288,2,27.7491,2, 1.6397,2
49UP20140609_3,   P10,79,1, 7,516,2,20140811,1832,1903, 2.0052,146.7078,4434,3120.2, 1.6104,34.6711,2,142.3,2,34.6710,2,142.54,2,142.78,2,36.46,2,0.00,2,2.54,2, -999,9, -999,9,2326.6,3,2418.6,2,7.5756,2,25,-999,9,-999,9, 1.3796,2,27.7549,2, 1.6105,2
49UP20140609_3,   P10,79,1, 6,113,2,20140811,1832,1858, 2.0052,146.7078,4434,3375.4, 1.5850,34.6745,2,144.9,2,34.6746,2,145.21,6,142.65,6,36.27,6,0.00,6,2.53,6,0.004,2,0.000,2,2337.2,2,2422.9,2,7.5807,2,25,-999,9,-999,9, 1.3295,2,27.7612,2, 1.5849,2
49UP20140609_3,   P10,79,1, 5,94,2,20140811,1832,1852, 2.0052,146.7078,4434,3632.4, 1.5578,34.6786,2,148.2,2,34.6784,2,148.27,2,142.29,2,36.09,2,0.00,2,2.52,2, -999,9, -999,9,2335.3,2,2425.6,2,7.5859,2,25,-999,9,-999,9, 1.2766,2,27.7682,2, 1.5579,2
49UP20140609_3,   P10,79,1, 4,77,2,20140811,1832,1847, 2.0052,146.7078,4434,3887.6, 1.5386,34.6816,2,151.5,2,34.6817,2,151.65,2,141.79,2,35.85,2,0.00,2,2.49,2, -999,9, -999,9,2325.4,3,2423.1,2,7.5935,2,25,-999,9,-999,9, 1.2308,2,27.7738,2, 1.5386,2
49UP20140609_3,   P10,79,1, 3,104,2,20140811,1832,1841, 2.0052,146.7078,4434,4143.7, 1.5235,34.6845,2,154.8,2,34.6847,2,154.98,2,141.01,2,35.63,2,0.00,2,2.48,2,0.005,2,0.000,2,2323.8,3,2423.2,2,7.5954,2,25,-999,9,-999,9, 1.1882,2,27.7791,2, 1.5235,2
49UP20140609_3,   P10,79,1, 2,75,2,20140811,1832,1836, 2.0052,146.7078,4434,4400.4, 1.5490,34.6851,2,154.6,2,34.6836,4,154.69,2,141.16,2,35.68,2,0.00,2,2.47,2, -999,9, -999,9,2322.5,3,2424.6,2,7.6002,2,25,-999,9,-999,9, 1.1840,2,27.7798,2, 1.5489,2
49UP20140609_3,   P10,79,1, 1,997,2,20140811,1832,1833, 2.0052,146.7078,4434,4491.8, 1.5584,34.6852,2,154.8,2,34.6850,2,154.68,2,141.30,2,35.67,2,0.00,2,2.48,2,0.007,2,0.003,2,2330.6,2,2421.6,2,7.5996,2,25,-999,9,-999,9, 1.1826,2,27.7800,2, 1.5584,2