BOTTLE,20230725CCHSIOADS
EXPOCODE,SECT_ID,STNNBR,CASTNO,SAMPNO,BTLNBR,BTLNBR_FLAG_W,DATE,TIME,BTL_TIME,LATITUDE,LONGITUDE,DEPTH,CTDPRS,CTDTMP,CTDSAL,CTDSAL_FLAG_W,CTDOXY,CTDOXY_FLAG_W,SALNTY,SALNTY_FLAG_W,OXYGEN,OXYGEN_FLAG_W,SILCAT,SILCAT_FLAG_W,NO2+NO3,NO2+NO3_FLAG_W,NITRIT,NITRIT_FLAG_W,PHSPHT,PHSPHT_FLAG_W,CFC-11,CFC-11_FLAG_W,CFC-12,CFC-12_FLAG_W,TCARBN,TCARBN_FLAG_W,ALKALI,ALKALI_FLAG_W,PH_TOT,PH_TOT_FLAG_W,PH_TMP,CHLORA,CHLORA_FLAG_W,PPHYTN,PPHYTN_FLAG_W,THETA,THETA_FLAG_W,SIG0,SIG0_FLAG_W,REFTMP,REFTMP_FLAG_W
,,,,,,,,,,,,METERS,DBAR,ITS-90,PSS-78,,UMOL/KG,,PSS-78,,UMOL/KG,,UMOL/KG,,UMOL/KG,,UMOL/KG,,UMOL/KG,,PMOL/KG,,PMOL/KG,,UMOL/KG,,UMOL/KG,,,,DEG C,UG/KG,,UG/KG,,ITS-90,,KG/M^3,,ITS-90,
49UP20140609_4,   P10,111,1, 0,BUC,2,20140901,0255, 340,-2.3390,141.1528,2194,   0.0,29.4404,34.2953,2,195.5,2,34.1428,2,195.34,2,  1.20,2, 0.03,2,0.00,2,0.14,2, -999,9, -999,9,1911.9,2,2244.1,2,8.1267,2,25,0.14,2,0.06,2,29.4398,2,21.3877,2,   -999,9
49UP20140609_4,   P10,111,1,35,112,2,20140901,0255, 400,-2.3390,141.1528,2194,  10.5,29.5543,34.4005,2,195.0,2,34.3981,2,195.69,2,  1.24,2, 0.01,2,0.00,2,0.13,2, -999,9, -999,9,1926.5,2,2262.2,2,8.1255,2,25,0.14,2,0.07,2,29.5517,2,21.4289,2,29.5543,2
49UP20140609_4,   P10,111,1,36,109,2,20140901,0255, 400,-2.3390,141.1528,2194,  10.6,29.5545,34.4005,2,194.9,2,34.3982,2,195.30,2,  1.24,2, 0.03,2,0.00,2,0.12,2, -999,9, -999,9,1926.8,2,2263.3,2,8.1298,2,25,-999,9,-999,9,29.5519,2,21.4288,2,29.5547,2
49UP20140609_4,   P10,111,1,34,83,2,20140901,0255, 359,-2.3390,141.1528,2194,  25.6,29.5324,34.3995,2,194.7,2,34.3989,2,195.77,2,  1.31,2, 0.01,2,0.00,2,0.13,2, -999,9, -999,9,1925.8,2,2263.0,2,8.1276,2,25,0.17,2,0.09,2,29.5261,2,21.4367,2,29.5319,2
49UP20140609_4,   P10,111,1,33,469,2,20140901,0255, 358,-2.3390,141.1528,2194,  51.1,29.2443,34.9110,2,197.1,2,34.8803,4,198.35,2,  0.94,2, 0.03,2,0.00,2,0.19,2, -999,9, -999,9,1955.6,2,2293.4,2,8.1167,6,25,0.34,2,0.22,2,29.2319,2,21.9196,2,29.2244,2
49UP20140609_4,   P10,111,1,32,105,2,20140901,0255, 357,-2.3390,141.1528,2194,  76.2,27.4212,34.7015,2,188.0,2,34.7217,4,187.46,2,  1.18,2, 0.97,2,0.33,2,0.21,2, -999,9, -999,9,1961.1,6,2280.6,6,8.0937,2,25,0.42,2,0.31,2,27.4036,2,22.3636,2,27.4216,2
49UP20140609_4,   P10,111,1,31,515,2,20140901,0255, 354,-2.3390,141.1528,2194, 101.2,26.8994,34.8016,2,185.5,2,34.8579,4,183.14,2,  1.24,2, 1.63,2,0.29,2,0.24,2, -999,9, -999,9,1974.7,2,2287.3,2,8.0770,2,25,0.18,2,0.21,2,26.8763,2,22.6078,2,26.9049,2
49UP20140609_4,   P10,111,1,29,102,2,20140901,0255, 353,-2.3390,141.1528,2194, 125.8,24.7604,35.2607,2,162.3,2,35.2690,2,162.04,2,  1.76,2, 4.62,2,0.06,2,0.44,2, -999,9, -999,9,2032.2,2,2312.7,2,8.0162,2,25,0.06,2,0.13,2,24.7333,2,23.6192,2,24.7590,2
49UP20140609_4,   P10,111,1,28,108,2,20140901,0255, 352,-2.3390,141.1528,2194, 150.8,22.7060,35.4404,2,154.2,2,35.4708,4,153.07,2,  2.18,2, 6.47,2,0.03,2,0.57,2, -999,9, -999,9,2068.5,2,2324.6,2,7.9684,2,25,0.02,2,0.07,2,22.6754,2,24.3610,2,22.7024,2
49UP20140609_4,   P10,111,1,27,998,2,20140901,0255, 350,-2.3390,141.1528,2194, 201.6,19.3968,35.4600,2,151.3,2,35.4592,2,151.72,2,  3.37,2, 9.18,2,0.01,2,0.75,2, -999,9, -999,9,2102.0,2,2327.7,2,7.9091,2,25,0.01,2,0.04,2,19.3602,2,25.2801,2,19.3967,2
49UP20140609_4,   P10,111,1,26,84,2,20140901,0255, 349,-2.3390,141.1528,2194, 251.9,16.2436,35.2528,2,155.2,2,35.2434,4,155.93,6,  5.71,6,12.61,6,0.01,6,0.98,6, -999,9, -999,9,2122.6,2,2318.0,2,7.8487,2,25,-999,9,-999,9,16.2032,2,25.8953,2,16.2401,2
49UP20140609_4,   P10,111,1,25,98,2,20140901,0255, 347,-2.3390,141.1528,2194, 301.8,14.3699,35.1066,2,148.3,2,35.0923,4,148.16,2,  8.72,2,16.09,2,0.00,2,1.22,2, -999,9, -999,9,2143.7,2,2311.9,2,7.7917,2,25,-999,9,-999,9,14.3253,2,26.2005,2,14.3392,2
49UP20140609_4,   P10,111,1,21,78,2,20140901,0255, 346,-2.3390,141.1528,2194, 353.0,11.5714,34.8676,2,164.3,2,34.8639,2,164.46,2, 11.69,2,18.94,2,0.00,2,1.39,2, -999,9, -999,9,2152.0,2,2302.7,2,7.7567,2,25,-999,9,-999,9,11.5262,2,26.5757,2,11.5728,2
49UP20140609_4,   P10,111,1,20,93,2,20140901,0255, 344,-2.3390,141.1528,2194, 404.1,10.7985,34.7979,2,163.9,2,34.7884,4,159.71,2, 14.17,2,21.02,2,0.00,2,1.52,2, -999,9, -999,9,2161.0,2,2300.7,2,7.7275,2,25,-999,9,-999,9,10.7489,2,26.6633,2,10.7935,2
49UP20140609_4,   P10,111,1,19,92,2,20140901,0255, 343,-2.3390,141.1528,2194, 452.9, 9.3917,34.6826,2,146.8,2,34.6828,2,148.97,2, 19.43,2,24.66,2,0.00,2,1.75,2, -999,9, -999,9,2180.7,2,2299.8,2,7.6788,2,25,-999,9,-999,9, 9.3406,2,26.8144,2, 9.3894,2
49UP20140609_4,   P10,111,1,18,101,2,20140901,0255, 341,-2.3390,141.1528,2194, 503.2, 8.1724,34.5940,2,170.6,2,34.5939,2,171.06,2, 20.85,2,24.94,2,0.00,2,1.77,2, -999,9, -999,9,2175.9,2,2298.2,2,7.6866,6,25,-999,9,-999,9, 8.1201,2,26.9369,2, 8.1742,2
49UP20140609_4,   P10,111,1,17,90,2,20140901,0255, 339,-2.3390,141.1528,2194, 605.1, 6.9393,34.5251,2,159.3,2,34.5217,4,161.90,2, 29.72,2,28.44,2,0.00,2,2.01,2, -999,9, -999,9,2197.6,6,2303.1,6,7.6441,2,25,-999,9,-999,9, 6.8816,2,27.0610,2, 6.9348,2
49UP20140609_4,   P10,111,1,16,89,3,20140901,0255, 331,-2.3390,141.1528,2194, 706.4, 6.0444,34.4891,2,161.9,2,34.4898,6,161.92,2, 37.40,2,30.05,2,0.00,2,2.12,2, -999,9, -999,9,2206.0,2,2307.8,2,7.6309,2,25,-999,9,-999,9, 5.9815,2,27.1513,2, 6.0446,2
49UP20140609_4,   P10,111,1,15,88,2,20140901,0255, 328,-2.3390,141.1528,2194, 807.4, 5.4057,34.5106,2,132.6,2,34.5101,2,132.41,6, 54.20,6,33.83,6,0.00,6,2.39,6, -999,9, -999,9,2242.1,2,2324.6,2,7.5779,2,25,-999,9,-999,9, 5.3370,2,27.2477,2, 5.4044,2
49UP20140609_4,   P10,111,1,13,667,2,20140901,0255, 325,-2.3390,141.1528,2194, 908.5, 4.8087,34.5154,2,131.7,2,34.5168,2,132.07,2, 64.44,2,34.59,2,0.00,2,2.45,2, -999,9, -999,9,2256.4,2,2336.1,2,7.5692,2,25,-999,9,-999,9, 4.7349,2,27.3213,2, 4.8047,2
49UP20140609_4,   P10,111,1,14,999,2,20140901,0255, 325,-2.3390,141.1528,2194, 910.9, 4.7917,34.5143,2,134.0,2,34.5153,2,132.46,2, 64.49,2,34.57,2,0.00,2,2.45,2, -999,9, -999,9,2255.2,2,2335.2,2,7.5692,2,25,-999,9,-999,9, 4.7178,2,27.3223,2, 4.7924,2
49UP20140609_4,   P10,111,1,12,74,2,20140901,0255, 323,-2.3390,141.1528,2194,1008.7, 4.5166,34.5404,2,113.1,2,34.5406,2,113.18,2, 77.69,2,36.50,2,0.00,2,2.60,2, -999,9, -999,9,2279.3,2,2349.4,2,7.5393,2,25,-999,9,-999,9, 4.4362,2,27.3741,2, 4.5167,2
49UP20140609_4,   P10,111,1,11,268,2,20140901,0255, 318,-2.3390,141.1528,2194,1211.4, 3.9033,34.5635,2,107.6,2,34.5626,6,107.29,2, 93.55,2,37.51,2,0.00,2,2.68,2, -999,9, -999,9,2299.6,2,2366.3,2,7.5258,2,25,-999,9,-999,9, 3.8105,2,27.4584,2, 3.9028,2
49UP20140609_4,   P10,111,1, 9,518,2,20140901,0255, 313,-2.3390,141.1528,2194,1414.0, 3.2940,34.5881,2,106.2,2,34.5876,2,106.45,2,108.83,2,38.09,2,0.00,2,2.73,2, -999,9, -999,9,2313.9,2,2382.4,2,7.5196,2,25,-999,9,-999,9, 3.1901,2,27.5387,2, 3.2940,2
49UP20140609_4,   P10,111,1,10,267,2,20140901,0255, 314,-2.3390,141.1528,2194,1416.2, 3.2930,34.5882,2,106.2,2,34.5882,2,106.61,2,108.94,2,38.11,2,0.00,2,2.73,2, -999,9, -999,9,2315.4,2,2380.6,2,7.5252,2,25,-999,9,-999,9, 3.1889,2,27.5388,2, 3.2929,2
49UP20140609_4,   P10,111,1, 8,81,2,20140901,0255, 309,-2.3390,141.1528,2194,1616.2, 2.8579,34.6066,2,109.3,2,34.6065,2,109.76,6,119.34,6,38.18,6,0.00,6,2.72,6, -999,9, -999,9,2324.9,2,2393.4,2,7.5218,2,25,-999,9,-999,9, 2.7419,2,27.5943,2, 2.8577,2
49UP20140609_4,   P10,111,1, 7,516,2,20140901,0255, 304,-2.3390,141.1528,2194,1817.4, 2.4650,34.6246,2,114.8,2,34.6240,2,114.61,2,128.22,2,38.03,2,0.00,2,2.70,2, -999,9, -999,9,2333.7,2,2402.6,6,7.5334,2,25,-999,9,-999,9, 2.3372,2,27.6435,2, 2.4649,2
49UP20140609_4,   P10,111,1, 3,104,2,20140901,0255, 300,-2.3390,141.1528,2194,2021.0, 2.3106,34.6323,2,117.6,2,34.6311,6,117.52,2,132.09,2,37.93,2,0.00,2,2.70,2, -999,9, -999,9,2340.1,3,2405.9,2,7.5357,2,25,-999,9,-999,9, 2.1676,2,27.6636,2, 2.3104,2
49UP20140609_4,   P10,111,1, 2,75,2,20140901,0255, 255,-2.3390,141.1528,2194,2242.7, 1.9910,34.6478,2,125.6,2,34.6480,6,125.39,2,137.88,2,37.45,2,0.00,2,2.65,2, -999,9, -999,9,2337.8,2,2413.3,2,7.5504,6,25,-999,9,-999,9, 1.8339,2,27.7025,2, 1.9910,2
49UP20140609_4,   P10,100,1, 0,BUC,2,20140901,1702,1816, 0.0000,141.9968,3394,   0.0,29.3766,33.2770,2,195.3,2,33.1368,2,195.42,2,  0.90,2, 0.00,2,0.00,2,0.05,4, -999,9, -999,9,1857.4,2,2180.9,2,8.1304,2,25,0.11,2,0.05,2,29.3760,2,20.6456,2,   -999,9
49UP20140609_4,   P10,100,1,36,109,2,20140901,1702,1838, 0.0000,141.9968,3394,  10.0,29.7933,33.6941,2,195.0,2,33.7092,4,195.19,2,  0.97,2, 0.00,2,0.00,2,0.05,4, -999,9, -999,9,1887.9,2,2219.0,2,8.1252,2,25,0.10,2,0.05,2,29.7909,2,20.8185,2,29.7956,2
49UP20140609_4,   P10,100,1,35,112,2,20140901,1702,1837, 0.0000,141.9968,3394,  25.7,29.9870,33.8938,2,195.4,2,33.9716,4,196.62,2,  0.93,2, 0.00,2,0.00,2,0.04,4, -999,9, -999,9,1904.3,2,2235.4,2,8.1277,2,25,0.11,2,0.05,2,29.9807,2,20.9037,2,29.9888,2
49UP20140609_4,   P10,100,1,34,83,2,20140901,1702,1836, 0.0000,141.9968,3394,  51.1,29.4631,34.4453,2,196.0,2,34.4404,2,196.84,2,  0.92,2, 0.00,2,0.00,2,0.12,4, -999,9, -999,9,1931.2,2,2263.6,2,8.1179,2,25,0.12,2,0.07,2,29.4506,2,21.4966,2,29.4743,2
49UP20140609_4,   P10,100,1,33,469,2,20140901,1702,1835, 0.0000,141.9968,3394,  76.0,28.2920,34.7011,2,183.0,2,34.7013,2,183.90,2,  1.26,2, 0.63,2,0.18,2,0.20,4, -999,9, -999,9,1963.9,2,2280.9,2,8.0907,2,25,0.30,2,0.36,2,28.2740,2,22.0801,2,28.2925,2
49UP20140609_4,   P10,100,1,32,105,2,20140901,1702,1834, 0.0000,141.9968,3394, 101.0,27.0661,35.1123,2,149.9,2,35.2740,4,150.23,2,  2.18,2, 6.30,2,0.12,2,0.59,4, -999,9, -999,9,2040.8,2,2315.2,2,8.0070,2,25,0.12,2,0.31,2,27.0429,2,22.7887,2,27.0646,2
49UP20140609_4,   P10,100,1,31,515,2,20140901,1702,1832, 0.0000,141.9968,3394, 126.0,25.1442,35.5624,2,144.8,2,35.5449,4,144.49,6,  2.08,6, 7.02,6,0.03,6,0.64,4, -999,9, -999,9,2067.6,2,2331.1,2,7.9793,2,25,0.04,2,0.16,2,25.1167,2,23.7307,2,25.2290,2
49UP20140609_4,   P10,100,1,29,102,2,20140901,1702,1830, 0.0000,141.9968,3394, 151.4,20.3484,35.3419,2,141.6,2,35.3390,2,141.23,2,  4.97,2, 9.62,2,0.01,2,0.80,4, -999,9, -999,9,2098.2,2,2323.4,2,7.9069,2,25,0.01,2,0.02,2,20.3201,2,24.9376,2,20.3520,2
49UP20140609_4,   P10,100,1,28,108,2,20140901,1702,1828, 0.0000,141.9968,3394, 202.1,18.9467,35.3701,2,141.9,2,35.3658,2,142.36,2,  5.08,2,10.90,2,0.01,2,0.88,4, -999,9, -999,9,2111.7,2,2325.6,2,7.8816,2,25,0.00,2,0.02,2,18.9107,2,25.3269,2,18.9484,2
49UP20140609_4,   P10,100,1,27,998,2,20140901,1702,1825, 0.0000,141.9968,3394, 252.4,15.3607,35.1647,2,151.1,2,35.1630,2,151.59,2,  7.37,2,14.08,2,0.01,2,1.09,4, -999,9, -999,9,2131.2,2,2315.9,2,7.8247,2,25,-999,9,-999,9,15.3218,2,26.0277,2,15.3549,2
49UP20140609_4,   P10,100,1,26,84,2,20140901,1702,1820, 0.0000,141.9968,3394, 301.7,12.3949,34.9204,2,150.6,2,34.9074,4,150.33,2, 13.06,2,19.02,2,0.00,2,1.40,4, -999,9, -999,9,2154.8,2,2306.7,2,7.7515,2,25,-999,9,-999,9,12.3546,2,26.4589,2,12.3906,2
49UP20140609_4,   P10,100,1,25,98,2,20140901,1702,1819, 0.0000,141.9968,3394, 351.8,10.6560,34.7708,2,130.7,2,34.7692,2,130.32,2, 19.58,2,23.95,2,0.00,2,1.72,4, -999,9, -999,9,2180.8,2,2304.2,2,7.6811,2,25,-999,9,-999,9,10.6133,2,26.6663,2,10.6569,2
49UP20140609_4,   P10,100,1,24,110,2,20140901,1702,1819, 0.0000,141.9968,3394, 352.0,10.6490,34.7695,2,128.5,2,34.7668,2,129.73,2, 19.69,2,24.05,2,0.00,2,1.73,4, -999,9, -999,9,2182.9,2,2303.3,2,7.6780,2,25,-999,9,-999,9,10.6063,2,26.6665,2,10.6507,2
49UP20140609_4,   P10,100,1,23,96,2,20140901,1702,1817, 0.0000,141.9968,3394, 402.1, 9.5444,34.6895,2,105.0,2,34.6890,2,104.69,2, 25.64,2,28.62,2,0.00,2,2.02,4, -999,9, -999,9,2208.3,2,2303.9,2,7.6110,2,25,-999,9,-999,9, 9.4988,2,26.7937,2, 9.5449,2
49UP20140609_4,   P10,100,1,22,111,2,20140901,1702,1816, 0.0000,141.9968,3394, 453.7, 8.6415,34.6273,2,121.8,2,34.6265,2,121.77,2, 27.42,2,28.51,2,0.00,2,2.02,4, -999,9, -999,9,2205.1,2,2304.9,2,7.6164,2,25,-999,9,-999,9, 8.5929,2,26.8906,2, 8.6415,2
49UP20140609_4,   P10,100,1,20,93,2,20140901,1702,1814, 0.0000,141.9968,3394, 503.1, 8.2351,34.6019,2,131.3,2,34.6008,2,132.04,2, 27.97,2,28.65,2,0.00,2,2.03,4, -999,9, -999,9,2204.1,2,2305.0,2,7.6274,2,25,-999,9,-999,9, 8.1826,2,26.9337,2, 8.2351,2
49UP20140609_4,   P10,100,1,19,92,2,20140901,1702,1812, 0.0000,141.9968,3394, 604.2, 6.5320,34.5286,2,128.8,2,34.5294,2,129.38,6, 41.16,6,32.20,6,0.00,6,2.28,4, -999,9, -999,9,2227.3,2,2313.6,2,7.5868,2,25,-999,9,-999,9, 6.4763,2,27.1184,2, 6.5319,2
49UP20140609_4,   P10,100,1,18,101,2,20140901,1702,1809, 0.0000,141.9968,3394, 705.5, 5.9101,34.5298,2,110.2,2,34.5302,2,109.90,2, 53.01,2,35.20,2,0.00,2,2.50,4, -999,9, -999,9,2250.0,2,2324.3,2,7.5474,2,25,-999,9,-999,9, 5.8479,2,27.2003,2, 5.9100,2
49UP20140609_4,   P10,100,1,17,90,2,20140901,1702,1803, 0.0000,141.9968,3394, 806.5, 5.4132,34.5297,2,106.4,2,34.5301,6,106.43,2, 60.18,2,36.37,2,0.00,2,2.58,4, -999,9, -999,9,2261.2,2,2331.0,2,7.5318,2,25,-999,9,-999,9, 5.3445,2,27.2619,2, 5.4128,2
49UP20140609_4,   P10,100,1,16,89,2,20140901,1702,1800, 0.0000,141.9968,3394, 907.3, 4.9737,34.5351,2,105.6,2,34.5372,4,105.72,2, 69.52,2,36.86,2,0.00,2,2.62,4, -999,9, -999,9,2272.9,6,2340.4,6,7.5288,2,25,-999,9,-999,9, 4.8989,2,27.3183,2, 4.9735,2
49UP20140609_4,   P10,100,1,15,88,2,20140901,1702,1758, 0.0000,141.9968,3394,1008.5, 4.5935,34.5457,2,100.8,2,34.5466,2,101.49,2, 80.19,2,37.47,2,0.00,2,2.68,4, -999,9, -999,9,2284.4,2,2352.3,2,7.5229,2,25,-999,9,-999,9, 4.5125,2,27.3700,2, 4.5977,2
49UP20140609_4,   P10,100,1,14,999,2,20140901,1702,1754, 0.0000,141.9968,3394,1210.2, 3.8717,34.5670,2,101.8,2,34.5673,2,101.51,2, 96.74,2,38.16,2,0.00,2,2.72,4, -999,9, -999,9,2305.3,2,2369.2,2,7.5177,2,25,-999,9,-999,9, 3.7793,2,27.4644,2, 3.8774,2
49UP20140609_4,   P10,100,1,13,667,2,20140901,1702,1745, 0.0000,141.9968,3394,1413.7, 3.2381,34.5897,2,106.1,2,34.5901,6,106.19,2,109.45,2,38.32,2,0.00,2,2.73,4, -999,9, -999,9,2315.4,2,2385.0,2,7.5232,2,25,-999,9,-999,9, 3.1348,2,27.5451,2, 3.2381,2
49UP20140609_4,   P10,100,1,12,74,2,20140901,1702,1741, 0.0000,141.9968,3394,1615.4, 2.7738,34.6092,2,109.9,2,34.6089,2,110.20,2,120.64,2,38.31,2,0.00,2,2.73,4, -999,9, -999,9,2327.9,2,2395.6,2,7.5286,2,25,-999,9,-999,9, 2.6590,2,27.6037,2, 2.7736,2
49UP20140609_4,   P10,100,1,10,267,2,20140901,1702,1736, 0.0000,141.9968,3394,1818.2, 2.4810,34.6234,2,115.8,2,34.6226,2,116.21,2,126.34,2,38.01,2,0.00,2,2.70,4, -999,9, -999,9,2330.7,2,2403.8,2,7.5367,2,25,-999,9,-999,9, 2.3529,2,27.6412,2, 2.4810,2
49UP20140609_4,   P10,100,1,11,268,2,20140901,1702,1737, 0.0000,141.9968,3394,1818.7, 2.4812,34.6234,2,115.8,2,34.6231,2,115.93,2,126.29,2,37.99,2,0.00,2,2.70,4, -999,9, -999,9,2329.5,2,2403.7,2,7.5351,2,25,-999,9,-999,9, 2.3530,2,27.6412,2, 2.4811,2
49UP20140609_4,   P10,100,1, 9,518,2,20140901,1702,1732, 0.0000,141.9968,3394,2021.0, 2.3177,34.6320,2,118.3,2,34.6303,2,118.45,2,130.51,2,37.96,2,0.00,2,2.68,4, -999,9, -999,9,2330.3,3,2407.9,6,7.5380,2,25,-999,9,-999,9, 2.1746,2,27.6628,2, 2.3178,2
49UP20140609_4,   P10,100,1, 8,81,2,20140901,1702,1727, 0.0000,141.9968,3394,2275.2, 2.0452,34.6453,2,123.2,2,34.6459,2,123.28,2,137.36,2,37.66,2,0.00,2,2.66,4, -999,9, -999,9,2336.6,2,2414.1,2,7.5460,6,25,-999,9,-999,9, 1.8843,2,27.6966,2, 2.0450,2
49UP20140609_4,   P10,100,1, 7,516,2,20140901,1702,1721, 0.0000,141.9968,3394,2529.2, 1.7961,34.6578,2,131.7,2,34.6571,6,132.01,2,141.38,2,37.15,2,0.00,2,2.61,4, -999,9, -999,9,2337.5,2,2419.0,2,7.5583,2,25,-999,9,-999,9, 1.6169,2,27.7269,2, 1.7961,2
49UP20140609_4,   P10,100,1, 5,94,2,20140901,1702,1716, 0.0000,141.9968,3394,2783.4, 1.6749,34.6654,2,137.9,2,34.6652,2,138.09,6,142.04,6,36.74,6,0.00,6,2.58,4, -999,9, -999,9,2332.5,2,2418.7,2,7.5664,2,25,-999,9,-999,9, 1.4749,2,27.7435,2, 1.6749,2
49UP20140609_4,   P10,100,1, 4,77,4,20140901,1702,1711, 0.0000,141.9968,3394,3038.2, 1.5944,34.6714,2,142.8,2,34.6312,4,119.62,4,128.58,4,37.90,4,0.00,4,2.68,4, -999,9, -999,9,2329.1,4,2404.5,4,7.5417,4,25,-999,9,-999,9, 1.3718,2,27.7557,2, 1.5943,2
49UP20140609_4,   P10,100,1, 3,104,2,20140901,1702,1705, 0.0000,141.9968,3394,3292.9, 1.5890,34.6734,2,143.7,2,34.6737,6,143.96,2,142.87,2,36.39,2,0.00,2,2.55,4, -999,9, -999,9,2332.7,2,2423.9,2,7.5767,6,25,-999,9,-999,9, 1.3417,2,27.7595,2, 1.5890,2
49UP20140609_4,   P10,100,1, 2,75,2,20140901,1702,1702, 0.0000,141.9968,3394,3408.2, 1.5973,34.6737,2,143.9,2,34.6740,2,144.17,2,142.74,2,36.30,2,0.00,2,2.55,4, -999,9, -999,9,2331.8,2,2423.5,2,7.5798,2,25,-999,9,-999,9, 1.3382,2,27.7599,2, 1.5972,2
49UP20140609_4,   P10,100,1, 1,997,2,20140901,1702,1702, 0.0000,141.9968,3394,3408.8, 1.5974,34.6737,2,143.8,2,34.6739,2,143.71,2,142.86,2,36.33,2,0.00,2,2.55,4, -999,9, -999,9,2334.0,2,2423.9,2,7.5789,2,25,-999,9,-999,9, 1.3382,2,27.7599,2, 1.5973,2