BOTTLE,20230725CCHSIOADS
# Edited Parameter names and units, changed Surface Bucket sample values and flags
# DATA CITATION
#| CCHDO Citation Information
#|
#| Please cite data downloaded from CCHDO as: 
#| [Data providers of the parameter(s) used]. [Year of file access]. [CTD/Bottle] data from cruise [expocode], 
#| [format version used]. Accessed from CCHDO [url of cruise data page]. Access date [date of download].
#| [Applicable CCHDO cruise DOI if provided].
#|
#| For example: 
#| Swift, J. and Becker, S. 2019. CTD data from Cruise 33RR20160321, exchange version. Accessed from CCHDO 
#| https://cchdo.ucsd.edu/cruise/33RR20160321. Access date 2019-08-21. CCHDO cruise DOI: 10.7942/C2008W
#|
#| Information on the scientists who provided the different parameters can be found in the cruise report. 
#| Additionally, for US GO-SHIP cruises, this information is usually in the comments section in the text headers 
#| of the Exchange bottle files.
#|
#| Users are also encouraged to acknowledge the funding program that supported the data collection in their publication. 
#| For US GO-SHIP data this is the NSF/NOAA funded U.S Repeat Hydrography Program.
#|
#| For data citation, please use the data providers listed below. 
#|
#| Kazuhiro Nemoto Email: k-nemoto@met.kishou.go.jp
#| Takahiro Segawa Email: tsegawa@met.kishou.go.jp
#|
EXPOCODE,SECT_ID,STNNBR,CASTNO,SAMPNO,BTLNBR,BTLNBR_FLAG_W,DATE,TIME,BTL_TIME,LATITUDE,LONGITUDE,DEPTH,CTDPRS,CTDTMP,CTDSAL,CTDSAL_FLAG_W,CTDOXY,CTDOXY_FLAG_W,SALNTY,SALNTY_FLAG_W,OXYGEN,OXYGEN_FLAG_W,SILCAT,SILCAT_FLAG_W,NO2+NO3,NO2+NO3_FLAG_W,NITRIT,NITRIT_FLAG_W,PHSPHT,PHSPHT_FLAG_W,CFC-11,CFC-11_FLAG_W,CFC-12,CFC-12_FLAG_W,TCARBN,TCARBN_FLAG_W,ALKALI,ALKALI_FLAG_W,PH_TOT,PH_TOT_FLAG_W,PH_TMP,CHLORA,CHLORA_FLAG_W,PPHYTN,PPHYTN_FLAG_W,THETA,THETA_FLAG_W,SIG0,SIG0_FLAG_W,REFTMP,REFTMP_FLAG_W
,,,,,,,,,,,,METERS,DBAR,ITS-90,PSS-78,,UMOL/KG,,PSS-78,,UMOL/KG,,UMOL/KG,,UMOL/KG,,UMOL/KG,,UMOL/KG,,PMOL/KG,,PMOL/KG,,UMOL/KG,,UMOL/KG,,,,DEG C,UG/KG,,UG/KG,,ITS-90,,KG/M^3,,ITS-90,
49UP20140609_1,   P10,19,1, 0,BUC,2,20140612,0441, 652,34.0023,149.2947,6150,   0.0,21.0615,34.6979,2,226.4,2,34.6365,2,226.33,2,  1.98,2, 0.02,2,0.00,2,0.06,2, -999,9, -999,9,1990.7,2,2279.8,2,8.0379,2,25,0.26,2,0.06,2,21.0610,2,24.2473,2,   -999,9
49UP20140609_1,   P10,19,1,36,109,2,20140612,0441, 716,34.0023,149.2947,6150,  11.1,21.0645,34.6979,2,226.3,2,   -999,9,226.47,2,  1.89,2, 0.01,2,0.00,2,0.04,2,2.121,2,1.203,2,1991.2,2,2280.7,2,8.0390,2,25,0.24,2,0.04,2,21.0623,2,24.2470,2,21.0625,2
49UP20140609_1,   P10,19,1,35,112,2,20140612,0441, 714,34.0023,149.2947,6150,  51.4,19.7553,34.7305,2,232.7,2,   -999,9,232.75,2,  2.06,2, 0.03,2,0.00,2,0.04,2,0.398,4,0.263,4,1995.2,2,2280.8,2,8.0355,2,25,0.28,2,0.13,2,19.7460,2,24.6228,2,19.7514,2
49UP20140609_1,   P10,19,1,34,83,2,20140612,0441, 712,34.0023,149.2947,6150, 101.2,18.4422,34.7699,2,217.5,2,34.7686,2,218.06,2,  2.66,2, 2.12,2,0.04,2,0.15,2,2.220,3,1.311,2,2016.5,2,2283.3,2,8.0020,2,25,0.14,2,0.08,2,18.4246,2,24.9905,2,18.4347,2
49UP20140609_1,   P10,19,1,33,517,2,20140612,0441, 710,34.0023,149.2947,6150, 150.1,17.7984,34.7562,2,220.7,2,   -999,9,220.75,2,  3.04,2, 2.34,2,0.04,2,0.17,2, -999,9, -999,9,2020.7,2,2282.3,2,7.9891,2,25,0.04,2,0.06,2,17.7729,2,25.1410,2,17.7977,2
49UP20140609_1,   P10,19,1,32,105,2,20140612,0441, 708,34.0023,149.2947,6150, 203.2,17.3445,34.7396,2,219.2,2,34.7382,2,219.13,2,  3.60,2, 3.18,2,0.01,2,0.22,2,2.332,2,1.377,2,2024.4,2,2281.8,2,7.9696,2,25,0.01,2,0.03,2,17.3106,2,25.2402,2,17.3459,2
49UP20140609_1,   P10,19,1,31,515,2,20140612,0441, 706,34.0023,149.2947,6150, 253.2,16.9565,34.7163,2,214.7,2,   -999,9,213.46,2,  4.64,2, 4.54,2,0.01,2,0.30,2, -999,9, -999,9,2036.8,2,2280.4,2,7.9587,2,25,-999,9,-999,9,16.9148,2,25.3167,2,16.9585,2
49UP20140609_1,   P10,19,1,30,97,2,20140612,0441, 700,34.0023,149.2947,6150, 301.8,16.7839,34.7106,2,217.3,2,   -999,9,217.29,2,  4.41,2, 4.38,2,0.01,2,0.30,2,2.369,6,1.399,6,2034.9,2,2281.4,2,7.9609,2,25,-999,9,-999,9,16.7345,2,25.3548,2,16.7841,2
49UP20140609_1,   P10,19,1,29,102,2,20140612,0441, 656,34.0023,149.2947,6150, 408.4,15.1560,34.5705,2,187.1,2,34.5720,2,187.30,6, 11.23,6, 9.89,6,0.01,6,0.69,6,2.464,2,1.401,2,2074.9,2,2278.3,2,7.8799,2,25,-999,9,-999,9,15.0935,2,25.6203,2,15.1553,2
49UP20140609_1,   P10,19,1,28,91,2,20140612,0441, 653,34.0023,149.2947,6150, 505.7,12.7948,34.4076,2,185.2,2,   -999,9,184.98,2, 17.64,2,13.85,2,0.01,2,0.98,2,2.649,2,1.480,2,2100.7,2,2274.3,2,7.8132,2,25,-999,9,-999,9,12.7256,2,25.9884,2,12.7804,2
49UP20140609_1,   P10,19,1,27,998,2,20140612,0441, 649,34.0023,149.2947,6150, 607.4,10.1390,34.2218,2,180.2,2,34.2163,2,181.03,2, 28.17,2,18.52,2,0.00,2,1.34,2,2.743,2,1.487,2,2136.7,2,2276.0,2,7.7305,2,25,-999,9,-999,9,10.0671,2,26.3329,2,10.1374,2
49UP20140609_1,   P10,19,1,26,84,2,20140612,0441, 646,34.0023,149.2947,6150, 708.2, 7.0249,34.0231,2,159.7,2,   -999,9,159.72,2, 48.57,2,26.11,2,0.00,2,1.90,2,2.681,2,1.408,2,2197.4,2,2283.7,2,7.6037,2,25,-999,9,-999,9, 6.9570,2,26.6551,2, 7.0272,2
49UP20140609_1,   P10,19,1,25,98,2,20140612,0441, 642,34.0023,149.2947,6150, 809.5, 5.4891,33.9994,2,128.8,2,33.9998,2,129.33,2, 67.90,2,31.71,2,0.00,2,2.33,2,2.316,6,1.190,6,2239.2,2,2294.3,2,7.5068,2,25,-999,9,-999,9, 5.4204,2,26.8329,2, 5.4898,2
49UP20140609_1,   P10,19,1,24,110,2,20140612,0441, 639,34.0023,149.2947,6150, 909.4, 4.7643,34.0979,2, 82.3,2,   -999,9, 82.51,2, 87.83,2,36.84,2,0.00,2,2.68,2,1.479,2,0.742,2,2288.8,6,2317.0,6,7.4197,2,25,-999,9,-999,9, 4.6914,2,26.9948,2, 4.7643,2
49UP20140609_1,   P10,19,1,23,96,2,20140612,0441, 635,34.0023,149.2947,6150,1010.8, 4.1798,34.2067,2, 56.3,2,34.2069,2, 56.01,2,106.40,2,39.87,2,0.00,2,2.88,2,0.828,2,0.412,2,2322.2,2,2340.0,2,7.3815,6,25,-999,9,-999,9, 4.1023,2,27.1445,2, 4.1803,2
49UP20140609_1,   P10,19,1,22,111,2,20140612,0441, 630,34.0023,149.2947,6150,1216.0, 3.4297,34.3400,2, 42.4,2,34.3386,2, 42.30,2,128.03,2,41.92,2,0.00,2,3.01,2,0.306,6,0.154,6,2354.3,2,2364.9,2,7.3668,2,25,-999,9,-999,9, 3.3413,2,27.3264,2, 3.4297,2
49UP20140609_1,   P10,19,1,21,78,2,20140612,0441, 624,34.0023,149.2947,6150,1416.6, 2.9293,34.4221,2, 39.7,2,34.4207,2, 39.57,2,141.98,2,42.57,2,0.00,2,3.06,2,0.122,2,0.052,2,2371.5,2,2385.1,2,7.3654,2,25,-999,9,-999,9, 2.8295,2,27.4392,2, 2.9290,2
49UP20140609_1,   P10,19,1,20,93,2,20140612,0441, 618,34.0023,149.2947,6150,1622.3, 2.5572,34.4849,2, 42.9,2,34.4729,4, 51.93,4,152.25,6,42.65,6,0.00,6,3.06,6,0.093,2,0.042,2,2380.0,2,2395.1,2,7.3747,2,25,-999,9,-999,9, 2.4448,2,27.5227,2, 2.5566,2
49UP20140609_1,   P10,19,1,19,92,2,20140612,0441, 612,34.0023,149.2947,6150,1819.3, 2.3207,34.5313,2, 51.9,2,34.5281,2, 54.11,3,157.07,2,42.23,2,0.00,2,3.02,2,0.036,2,0.006,2,2381.5,2,2401.9,2,7.3928,2,25,-999,9,-999,9, 2.1950,2,27.5806,2, 2.3221,2
49UP20140609_1,   P10,19,1,18,101,2,20140612,0441, 608,34.0023,149.2947,6150,2024.8, 2.1152,34.5689,2, 62.7,2,34.5689,6, 63.88,3,161.32,2,41.87,2,0.00,2,2.97,2,0.006,2,0.000,2,2378.6,2,2411.8,2,7.4177,2,25,-999,9,-999,9, 1.9751,2,27.6283,2, 2.1153,2
49UP20140609_1,   P10,19,1,17,90,2,20140612,0441, 603,34.0023,149.2947,6150,2230.0, 1.9551,34.5965,2, 77.4,2,34.5969,2, 77.45,2,161.23,2,40.78,2,0.00,2,2.90,2,0.000,2,0.000,2,2378.2,2,2412.4,2,7.4438,2,25,-999,9,-999,9, 1.7999,2,27.6640,2, 1.9555,2
49UP20140609_1,   P10,19,1,16,89,2,20140612,0441, 559,34.0023,149.2947,6150,2431.2, 1.8319,34.6184,2, 91.4,2,34.6170,2, 91.82,2,160.30,2,39.97,2,0.00,2,2.83,2,0.001,2,0.000,2,2367.5,2,2416.5,2,7.4729,2,25,-999,9,-999,9, 1.6611,2,27.6920,2, 1.8321,2
49UP20140609_1,   P10,19,1,15,88,2,20140612,0441, 554,34.0023,149.2947,6150,2633.4, 1.7352,34.6343,2,103.1,2,34.6327,2,103.29,2,159.67,2,39.33,2,0.00,2,2.78,2, -999,9, -999,9,2357.4,2,2417.0,2,7.4962,2,25,-999,9,-999,9, 1.5478,2,27.7132,2, 1.7352,2
49UP20140609_1,   P10,19,1,14,999,2,20140612,0441, 548,34.0023,149.2947,6150,2838.7, 1.6618,34.6468,2,113.7,2,34.6467,2,114.13,2,157.89,2,38.63,2,0.00,2,2.72,2, -999,9, -999,9,2370.0,3,2419.1,2,7.5129,2,25,-999,9,-999,9, 1.4569,2,27.7298,2, 1.6619,2
49UP20140609_1,   P10,19,1,13,667,2,20140612,0441, 544,34.0023,149.2947,6150,3043.6, 1.6114,34.6555,2,121.4,2,34.6543,2,121.60,2,156.98,2,38.10,2,0.00,2,2.68,2,0.000,2,0.000,2,2364.0,3,2418.4,6,7.5241,2,25,-999,9,-999,9, 1.3880,2,27.7418,2, 1.6114,2
49UP20140609_1,   P10,19,1,12,74,2,20140612,0441, 539,34.0023,149.2947,6150,3300.6, 1.5606,34.6644,2,129.9,2,34.6642,2,130.16,2,154.76,2,37.47,2,0.00,2,2.64,2, -999,9, -999,9,2342.4,2,2419.6,2,7.5420,6,25,-999,9,-999,9, 1.3132,2,27.7543,2, 1.5610,2
49UP20140609_1,   P10,19,1,11,996,2,20140612,0441, 533,34.0023,149.2947,6150,3554.8, 1.5367,34.6699,2,135.9,2,34.6687,2,134.90,3,153.74,6,37.22,6,0.00,6,2.61,6, -999,9, -999,9,2341.3,2,2418.1,2,7.5510,2,25,-999,9,-999,9, 1.2641,2,27.7621,2, 1.5368,2
49UP20140609_1,   P10,19,1,10,107,2,20140612,0441, 528,34.0023,149.2947,6150,3811.1, 1.5124,34.6753,2,141.8,2,34.6718,4,140.61,3,151.39,2,36.73,2,0.00,2,2.58,2,0.011,2,0.000,2,2336.7,2,2417.3,2,7.5631,2,25,-999,9,-999,9, 1.2136,2,27.7699,2, 1.5124,2
49UP20140609_1,   P10,19,1, 9,108,2,20140612,0441, 523,34.0023,149.2947,6150,4068.1, 1.4999,34.6796,2,146.8,2,34.6755,4,145.71,3,150.53,2,36.44,2,0.00,2,2.56,2, -999,9, -999,9,2328.0,2,2418.0,2,7.5691,2,25,-999,9,-999,9, 1.1736,2,27.7761,2, 1.5002,2
49UP20140609_1,   P10,19,1, 8,81,2,20140612,0441, 519,34.0023,149.2947,6150,4321.3, 1.4979,34.6823,2,150.6,2,34.6837,2,150.93,2,149.58,2,36.12,2,0.00,2,2.53,2, -999,9, -999,9,2328.0,2,2416.7,2,7.5767,2,25,-999,9,-999,9, 1.1434,2,27.7804,2, 1.4978,2
49UP20140609_1,   P10,19,1, 7,106,2,20140612,0441, 513,34.0023,149.2947,6150,4580.3, 1.5018,34.6852,2,153.8,2,34.6827,4,152.79,3,148.60,2,35.97,2,0.00,2,2.52,2,0.059,4,0.007,2,2326.8,2,2418.6,2,7.5808,2,25,-999,9,-999,9, 1.1175,2,27.7845,2, 1.5020,2
49UP20140609_1,   P10,19,1, 6,113,2,20140612,0441, 508,34.0023,149.2947,6150,4838.7, 1.5120,34.6871,2,157.0,2,34.6870,2,157.11,2,146.94,2,35.63,2,0.00,2,2.50,2, -999,9, -999,9,2323.0,2,2415.3,2,7.5880,2,25,-999,9,-999,9, 1.0968,2,27.7874,2, 1.5120,2
49UP20140609_1,   P10,19,1, 5,94,2,20140612,0441, 503,34.0023,149.2947,6150,5095.9, 1.5286,34.6886,2,159.1,2,34.6886,2,159.42,2,145.95,2,35.57,2,0.00,2,2.48,2, -999,9, -999,9,2321.6,6,2415.2,6,7.5902,2,25,-999,9,-999,9, 1.0817,2,27.7897,2, 1.5287,2
49UP20140609_1,   P10,19,1, 4,77,2,20140612,0441, 458,34.0023,149.2947,6150,5353.7, 1.5461,34.6902,2,161.5,2,34.6896,2,161.93,2,144.17,2,35.32,2,0.00,2,2.46,2,0.004,2,0.001,2,2315.6,2,2410.9,2,7.5937,2,25,-999,9,-999,9, 1.0664,2,27.7920,2, 1.5462,2
49UP20140609_1,   P10,19,1, 3,104,2,20140612,0441, 453,34.0023,149.2947,6150,5612.9, 1.5714,34.6910,2,163.1,2,34.6905,2,162.78,2,143.20,2,35.29,2,0.00,2,2.47,2, -999,9, -999,9,2313.1,2,2411.9,2,7.5940,2,25,-999,9,-999,9, 1.0577,2,27.7932,2, 1.5714,2
49UP20140609_1,   P10,19,1, 2,75,2,20140612,0441, 448,34.0023,149.2947,6150,5868.0, 1.5978,34.6918,2,164.4,2,34.6916,2,164.71,6,141.62,6,35.08,6,0.00,6,2.45,6, -999,9, -999,9,2311.3,2,2412.2,2,7.5952,2,25,-999,9,-999,9, 1.0497,2,27.7944,2, 1.5979,2
49UP20140609_1,   P10,19,1, 1,997,2,20140612,0441, 442,34.0023,149.2947,6150,6134.5, 1.6275,34.6925,2,165.9,2,34.6932,6,166.36,2,140.47,2,35.09,2,0.00,2,2.45,2,0.000,2,0.000,2,2314.5,2,2410.4,2,7.5961,2,25,-999,9,-999,9, 1.0426,2,27.7954,2, 1.6277,2