BOTTLE,20230725CCHSIOADS
EXPOCODE,SECT_ID,STNNBR,CASTNO,SAMPNO,BTLNBR,BTLNBR_FLAG_W,DATE,TIME,BTL_TIME,LATITUDE,LONGITUDE,DEPTH,CTDPRS,CTDTMP,CTDSAL,CTDSAL_FLAG_W,CTDOXY,CTDOXY_FLAG_W,SALNTY,SALNTY_FLAG_W,OXYGEN,OXYGEN_FLAG_W,SILCAT,SILCAT_FLAG_W,NO2+NO3,NO2+NO3_FLAG_W,NITRIT,NITRIT_FLAG_W,PHSPHT,PHSPHT_FLAG_W,CFC-11,CFC-11_FLAG_W,CFC-12,CFC-12_FLAG_W,TCARBN,TCARBN_FLAG_W,ALKALI,ALKALI_FLAG_W,PH_TOT,PH_TOT_FLAG_W,PH_TMP,CHLORA,CHLORA_FLAG_W,PPHYTN,PPHYTN_FLAG_W,THETA,THETA_FLAG_W,SIG0,SIG0_FLAG_W,REFTMP,REFTMP_FLAG_W
,,,,,,,,,,,,METERS,DBAR,ITS-90,PSS-78,,UMOL/KG,,PSS-78,,UMOL/KG,,UMOL/KG,,UMOL/KG,,UMOL/KG,,UMOL/KG,,PMOL/KG,,PMOL/KG,,UMOL/KG,,UMOL/KG,,,,DEG C,UG/KG,,UG/KG,,ITS-90,,KG/M^3,,ITS-90,
49UP20140609_2,   P10,44,1, 0,BUC,2,20140712,2137,2355,20.5062,149.3275,4523,   0.0,30.5551,34.9687,2,193.9,2,34.9806,2,193.67,2,  0.79,2, 0.00,2,0.00,2,0.03,2, -999,9, -999,9,1944.7,2,2299.2,2,8.1273,2,25,0.11,2,0.02,2,30.5545,2,21.5123,2,   -999,9
49UP20140609_2,   P10,44,1,36,109,2,20140712,2137,  14,20.5062,149.3275,4523,  11.3,30.5453,34.9642,2,193.8,2,34.9639,2,194.08,2,  0.82,2, 0.00,2,0.00,2,0.03,2,1.460,2,0.871,2,1945.5,2,2298.8,2,8.1283,2,25,0.10,2,0.02,2,30.5424,2,21.5131,2,30.5470,2
49UP20140609_2,   P10,44,1,35,112,2,20140712,2137,  12,20.5062,149.3275,4523,  52.6,28.1917,35.0503,2,210.0,2,35.0530,2,210.05,2,  0.89,2, 0.00,2,0.00,2,0.03,2,1.677,2,0.966,2,1956.8,2,2305.5,2,8.1182,2,25,0.10,2,0.03,2,28.1793,2,22.3737,2,28.1916,2
49UP20140609_2,   P10,44,1,34,83,2,20140712,2137,  11,20.5062,149.3275,4523,  77.3,26.6554,35.0846,2,209.4,2,35.0847,2,208.99,2,  0.95,2, 0.00,2,0.00,2,0.03,2, -999,9, -999,9,1965.3,2,2306.1,2,8.1055,2,25,0.13,2,0.06,2,26.6379,2,22.8967,2,26.6527,2
49UP20140609_2,   P10,44,1,33,107,2,20140712,2137,  10,20.5062,149.3275,4523, 103.2,25.5187,35.0985,2,205.3,2,35.0983,2,205.05,2,  1.06,2, 0.00,2,0.00,2,0.04,2,1.772,2,1.050,2,1977.0,2,2307.0,2,8.0905,2,25,0.19,2,0.13,2,25.4959,2,23.2639,2,25.5175,2
49UP20140609_2,   P10,44,1,32,105,2,20140712,2137,   9,20.5062,149.3275,4523, 125.7,24.1965,35.1042,2,198.3,2,35.1006,6,197.81,2,  1.22,2, 0.00,2,0.02,2,0.05,2, -999,9, -999,9,1998.8,2,2307.1,2,8.0642,6,25,0.21,2,0.37,2,24.1699,2,23.6698,2,24.2053,2
49UP20140609_2,   P10,44,1,31,515,2,20140712,2137,   4,20.5062,149.3275,4523, 154.0,22.8900,35.0765,2,198.0,2,35.0759,2,197.98,2,  1.37,2, 0.41,2,0.10,2,0.06,2, -999,9, -999,9,2005.9,6,2305.1,6,8.0406,2,25,0.08,2,0.25,2,22.8587,2,24.0323,2,22.8873,2
49UP20140609_2,   P10,44,1,30,97,2,20140712,2137,   2,20.5062,149.3275,4523, 205.3,20.9748,34.9881,2,200.9,2,34.9863,2,200.79,2,  1.82,2, 0.82,2,0.02,2,0.09,2,2.065,2,1.222,2,2017.1,2,2299.0,2,8.0142,2,25,0.02,2,0.08,2,20.9355,2,24.5024,2,20.9721,2
49UP20140609_2,   P10,44,1,29,102,2,20140712,2137,   0,20.5062,149.3275,4523, 250.9,18.2346,34.7914,2,193.1,2,34.7880,2,193.67,6,  3.50,6, 4.11,6,0.01,6,0.30,6, -999,9, -999,9,2043.7,2,2286.9,2,7.9488,2,25,-999,9,-999,9,18.1911,2,25.0651,2,18.2483,2
49UP20140609_2,   P10,44,1,28,108,2,20140712,2137,2358,20.5062,149.3275,4523, 300.6,16.4235,34.6539,2,200.7,2,34.6456,2,201.38,2,  5.69,2, 6.39,2,0.00,2,0.45,2,2.476,6,1.442,6,2047.4,2,2281.0,2,7.9211,2,25,-999,9,-999,9,16.3751,2,25.3951,2,16.4199,2
49UP20140609_2,   P10,44,1,27,998,2,20140712,2137,2356,20.5062,149.3275,4523, 401.0,12.7012,34.3585,2,176.5,2,34.3569,2,176.98,2, 14.68,2,13.80,2,0.00,2,1.01,2,2.783,2,1.549,2,2104.8,2,2273.0,2,7.7850,2,25,-999,9,-999,9,12.6468,2,25.9658,2,12.7002,2
49UP20140609_2,   P10,44,1,26,84,2,20140712,2137,2353,20.5062,149.3275,4523, 501.8, 9.3446,34.2081,2,129.5,2,34.2088,2,129.14,2, 32.87,2,24.16,2,0.00,2,1.78,2,2.255,2,1.158,2,2180.8,2,2280.1,2,7.6168,2,25,-999,9,-999,9, 9.2884,2,26.4516,2, 9.3345,2
49UP20140609_2,   P10,44,1,25,98,2,20140712,2137,2350,20.5062,149.3275,4523, 610.3, 7.1148,34.2005,2, 87.0,2,34.1985,2, 87.05,2, 55.23,2,32.14,2,0.00,2,2.36,2,1.287,6,0.637,6,2241.3,2,2298.2,2,7.4970,2,25,-999,9,-999,9, 7.0561,2,26.7812,2, 7.1143,2
49UP20140609_2,   P10,44,1,24,110,2,20140712,2137,2348,20.5062,149.3275,4523, 707.1, 6.0720,34.2682,2, 65.6,2,34.2694,2, 65.59,2, 71.52,2,36.34,2,0.00,2,2.65,2,0.600,2,0.301,2,2277.0,2,2319.6,2,7.4460,2,25,-999,9,-999,9, 6.0091,2,26.9732,2, 6.0719,2
49UP20140609_2,   P10,44,1,23,96,2,20140712,2137,2346,20.5062,149.3275,4523, 807.0, 5.1877,34.3597,2, 60.6,2,34.3609,2, 61.10,2, 86.75,2,38.27,2,0.00,2,2.78,2,0.265,2,0.129,2,2301.7,2,2341.1,2,7.4350,2,25,-999,9,-999,9, 5.1206,2,27.1536,2, 5.1883,2
49UP20140609_2,   P10,44,1,22,111,2,20140712,2137,2258,20.5062,149.3275,4523, 909.5, 4.6001,34.4338,2, 66.8,2,34.4332,2, 66.52,2, 98.30,2,38.88,2,0.00,2,2.81,2,0.141,6,0.069,6,2315.0,2,2356.8,2,7.4484,6,25,-999,9,-999,9, 4.5278,2,27.2795,2, 4.5994,2
49UP20140609_2,   P10,44,1,21,78,2,20140712,2137,2255,20.5062,149.3275,4523,1011.7, 4.0655,34.4709,2, 70.0,2,34.4750,2, 70.52,2,108.62,2,39.24,2,0.00,2,2.83,2,0.095,2,0.039,2,2328.4,6,2369.8,6,7.4508,2,25,-999,9,-999,9, 3.9884,2,27.3664,2, 4.0652,2
49UP20140609_2,   P10,44,1,20,93,2,20140712,2137,2251,20.5062,149.3275,4523,1213.2, 3.3222,34.5188,2, 76.7,2,34.5185,2, 76.65,2,123.00,2,39.55,2,0.00,2,2.84,2,0.036,2,0.014,2,2335.8,2,2386.4,2,7.4597,2,25,-999,9,-999,9, 3.2348,2,27.4792,2, 3.3221,2
49UP20140609_2,   P10,44,1,19,92,2,20140712,2137,2246,20.5062,149.3275,4523,1414.1, 2.9401,34.5503,2, 84.9,2,34.5500,2, 84.79,2,129.68,2,39.34,2,0.00,2,2.81,2,0.027,2,0.011,2,2344.6,2,2395.0,2,7.4748,2,25,-999,9,-999,9, 2.8401,2,27.5406,2, 2.9409,2
49UP20140609_2,   P10,44,1,18,101,2,20140712,2137,2242,20.5062,149.3275,4523,1617.8, 2.5548,34.5857,2, 94.6,2,34.5855,2, 94.60,2,135.83,2,38.97,2,0.00,2,2.78,2,0.013,2,0.009,2,2342.9,2,2404.3,2,7.4903,2,25,-999,9,-999,9, 2.4426,2,27.6035,2, 2.5544,2
49UP20140609_2,   P10,44,1,17,90,2,20140712,2137,2238,20.5062,149.3275,4523,1819.6, 2.3042,34.6023,2,100.7,2,34.6024,2,101.07,6,140.46,6,38.88,6,0.00,6,2.77,6,0.005,2,0.002,2,2344.7,2,2409.7,2,7.4967,2,25,-999,9,-999,9, 2.1785,2,27.6387,2, 2.3043,2
49UP20140609_2,   P10,44,1,16,89,2,20140712,2137,2234,20.5062,149.3275,4523,2022.3, 2.0865,34.6160,2,106.9,2,34.6164,2,107.37,2,144.15,2,38.58,2,0.00,2,2.73,2,0.012,2,0.002,2,2349.1,2,2412.2,2,7.5094,2,25,-999,9,-999,9, 1.9469,2,27.6682,2, 2.0861,2
49UP20140609_2,   P10,44,1,15,88,2,20140712,2137,2229,20.5062,149.3275,4523,2225.6, 1.8974,34.6333,2,114.3,2,34.6321,2,115.09,2,146.69,2,38.19,2,0.00,2,2.70,2,0.003,2,0.000,2,2345.0,2,2415.9,2,7.5195,2,25,-999,9,-999,9, 1.7434,2,27.6978,2, 1.8976,2
49UP20140609_2,   P10,44,1,14,999,2,20140712,2137,2225,20.5062,149.3275,4523,2430.4, 1.8269,34.6414,2,118.7,2,34.6409,6,118.38,2,147.93,2,37.93,2,0.00,2,2.68,2, -999,9, -999,9,2344.7,2,2418.4,2,7.5249,6,25,-999,9,-999,9, 1.6561,2,27.7109,2, 1.8269,2
49UP20140609_2,   P10,44,1,13,667,3,20140712,2137,2220,20.5062,149.3275,4523,2633.0, 1.7445,34.6486,2,123.6,2,34.6481,2,123.39,2,148.26,2,37.59,2,0.00,2,2.65,2,0.009,2,0.000,2,2346.4,6,2419.5,6,7.5338,2,25,-999,9,-999,9, 1.5570,2,27.7240,2, 1.7443,2
49UP20140609_2,   P10,44,1,12,74,2,20140712,2137,2216,20.5062,149.3275,4523,2836.3, 1.6700,34.6578,2,129.2,2,34.6569,2,129.41,6,148.74,6,37.36,6,0.00,6,2.63,6, -999,9, -999,9,2340.1,2,2420.5,2,7.5448,2,25,-999,9,-999,9, 1.4651,2,27.7381,2, 1.6699,2
49UP20140609_2,   P10,44,1,11,268,4,20140712,2137,2212,20.5062,149.3275,4523,3041.9, 1.6428,34.6616,2,132.2,2,34.6302,4,113.55,4,146.70,4,38.23,4,0.00,4,2.71,4, -999,9, -999,9,2347.8,4,2414.2,4,7.5181,4,25,-999,9,-999,9, 1.4189,2,27.7445,2, 1.6429,2
49UP20140609_2,   P10,44,1,10,267,2,20140712,2137,2211,20.5062,149.3275,4523,3041.9, 1.6427,34.6615,2,132.2,2,34.6615,2,132.16,2,148.61,2,37.15,2,0.00,2,2.62,2,0.010,2,0.000,2,2338.4,2,2421.1,2,7.5487,2,25,-999,9,-999,9, 1.4188,2,27.7444,2, 1.6422,2
49UP20140609_2,   P10,44,1, 8,81,2,20140712,2137,2206,20.5062,149.3275,4523,3296.6, 1.6052,34.6674,2,136.7,2,34.6671,2,136.95,2,148.41,2,36.86,2,0.00,2,2.59,2, -999,9, -999,9,2337.8,2,2421.9,2,7.5561,2,25,-999,9,-999,9, 1.3571,2,27.7536,2, 1.6052,2
49UP20140609_2,   P10,44,1, 9,518,2,20140712,2137,2206,20.5062,149.3275,4523,3297.0, 1.6052,34.6675,2,136.7,2,34.6651,4,135.96,3,148.09,2,36.78,2,0.00,2,2.59,2, -999,9, -999,9,2338.4,2,2421.2,2,7.5543,2,25,-999,9,-999,9, 1.3571,2,27.7536,2, 1.6052,2
49UP20140609_2,   P10,44,1, 6,113,2,20140712,2137,2200,20.5062,149.3275,4523,3551.1, 1.5528,34.6734,2,142.6,2,34.6731,2,143.00,2,147.47,2,36.54,2,0.00,2,2.56,2,0.007,2,0.000,2,2331.7,2,2420.4,2,7.5649,2,25,-999,9,-999,9, 1.2801,2,27.7638,2, 1.5528,2
49UP20140609_2,   P10,44,1, 7,516,2,20140712,2137,2200,20.5062,149.3275,4523,3551.2, 1.5529,34.6733,2,142.6,2,34.6723,2,142.21,3,147.41,2,36.61,2,0.00,2,2.56,2, -999,9, -999,9,2333.7,2,2420.6,2,7.5644,2,25,-999,9,-999,9, 1.2803,2,27.7637,2, 1.5529,2
49UP20140609_2,   P10,44,1, 5,94,2,20140712,2137,2155,20.5062,149.3275,4523,3807.8, 1.5189,34.6778,2,147.4,2,34.6771,6,147.89,6,146.58,6,36.24,6,0.00,6,2.54,6, -999,9, -999,9,2328.4,2,2419.3,2,7.5715,2,25,-999,9,-999,9, 1.2202,2,27.7715,2, 1.5189,2
49UP20140609_2,   P10,44,1, 4,77,2,20140712,2137,2149,20.5062,149.3275,4523,4063.1, 1.4983,34.6820,2,152.6,2,34.6816,2,153.09,2,144.46,2,35.80,2,0.00,2,2.51,2,0.000,4,0.000,4,2322.2,2,2416.9,2,7.5809,2,25,-999,9,-999,9, 1.1726,2,27.7781,2, 1.4982,2
49UP20140609_2,   P10,44,1, 3,104,2,20140712,2137,2144,20.5062,149.3275,4523,4319.6, 1.4746,34.6861,2,158.5,2,34.6857,6,158.85,2,142.12,2,35.49,2,0.00,2,2.48,2, -999,9, -999,9,2317.2,2,2415.6,2,7.5852,2,25,-999,9,-999,9, 1.1210,2,27.7850,2, 1.4742,2
49UP20140609_2,   P10,44,1, 1,997,2,20140712,2137,2137,20.5062,149.3275,4523,4593.8, 1.4529,34.6909,2,165.8,2,34.6902,6,166.04,2,138.02,2,34.98,2,0.00,2,2.45,2,0.000,2,0.000,2,2312.7,2,2412.3,2,7.5951,2,25,-999,9,-999,9, 1.0686,2,27.7924,2, 1.4530,2
49UP20140609_3,   P10,45,1, 0,BUC,2,20140731,1821,1958,20.5017,149.3282,4505,   0.0,30.6019,34.8254,2,194.4,2,34.8162,2,193.30,2,  0.91,2, 0.00,2,0.00,2,0.06,2, -999,9, -999,9,1936.9,2,2283.1,2,8.1394,2,25,0.10,2,0.03,2,30.6013,2,21.3888,2,   -999,9
49UP20140609_3,   P10,45,1,36,109,2,20140731,1821,2013,20.5017,149.3282,4505,   9.7,30.6290,34.8257,2,194.3,2,34.8229,2,193.19,2,  0.81,2, 0.00,2,0.00,2,0.06,2,1.408,2,0.858,2,1935.6,2,2284.2,2,8.1347,2,25,0.10,2,0.03,2,30.6266,2,21.3802,2,30.6239,2
49UP20140609_3,   P10,45,1,35,112,2,20140731,1821,2012,20.5017,149.3282,4505,  25.2,30.5503,34.8209,2,195.2,2,34.8193,2,194.00,2,  0.89,2, 0.00,2,0.00,2,0.06,2,1.416,2,0.855,2,1935.9,2,2283.5,2,8.1397,2,25,0.11,2,0.03,2,30.5440,2,21.4052,2,30.5493,2
49UP20140609_3,   P10,45,1,34,83,2,20140731,1821,2009,20.5017,149.3282,4505,  49.6,29.6844,34.9123,2,208.1,2,34.9554,4,208.71,2,  0.82,2, 0.00,2,0.00,2,0.05,2,1.585,2,0.932,2,1949.8,2,2295.7,2,8.1301,2,25,0.15,2,0.05,2,29.6722,2,21.7719,2,29.4337,2
49UP20140609_3,   P10,45,1,33,107,2,20140731,1821,2008,20.5017,149.3282,4505,  74.4,28.3581,35.0442,2,211.2,2,35.0499,2,210.40,2,  0.91,2, 0.00,2,0.00,2,0.09,2,1.633,2,0.961,2,1962.4,2,2299.4,2,8.1195,2,25,0.14,2,0.07,2,28.3404,2,22.3162,2,28.3536,2
49UP20140609_3,   P10,45,1,32,105,2,20140731,1821,2007,20.5017,149.3282,4505, 100.8,26.1342,35.1062,2,206.3,2,35.1067,2,205.41,6,  0.94,6, 0.00,6,0.00,6,0.07,6,1.684,2,1.027,2,1979.3,2,2304.0,2,8.0945,2,25,0.25,2,0.18,2,26.1116,2,23.0786,2,26.1351,2
49UP20140609_3,   P10,45,1,31,515,2,20140731,1821,2005,20.5017,149.3282,4505, 125.4,24.8869,35.1145,2,204.3,2,35.1198,2,202.38,2,  1.13,2, 0.02,2,0.05,2,0.07,2,1.751,2,1.070,2,1991.3,2,2304.8,2,8.0804,2,25,0.17,2,0.30,2,24.8598,2,23.4704,2,24.9259,2
49UP20140609_3,   P10,45,1,30,97,2,20140731,1821,2004,20.5017,149.3282,4505, 150.4,23.7035,35.1000,2,195.8,2,35.1038,2,194.45,2,  1.28,2, 0.36,2,0.13,2,0.09,2,1.816,2,1.125,2,2007.6,2,2303.2,2,8.0477,2,25,0.08,2,0.24,2,23.6721,2,23.8138,2,23.7054,2
49UP20140609_3,   P10,45,1,29,102,2,20140731,1821,2001,20.5017,149.3282,4505, 202.5,21.4013,35.0065,2,189.8,2,35.0084,2,189.38,2,  1.93,2, 1.47,2,0.02,2,0.18,2,1.959,6,1.208,6,2030.7,2,2298.7,2,8.0047,2,25,0.02,2,0.07,2,21.3620,2,24.3999,2,21.3773,2
49UP20140609_3,   P10,45,1,28,108,2,20140731,1821,2000,20.5017,149.3282,4505, 252.3,19.4863,34.8849,2,189.1,2,34.8810,2,188.99,2,  2.84,2, 2.99,2,0.01,2,0.28,2,2.144,2,1.313,2,2043.6,2,2288.0,2,7.9690,2,25,-999,9,-999,9,19.4405,2,24.8201,2,19.4903,2
49UP20140609_3,   P10,45,1,27,998,2,20140731,1821,1958,20.5017,149.3282,4505, 301.3,16.9605,34.6913,2,203.7,2,34.6918,2,203.95,2,  4.45,2, 5.17,2,0.01,2,0.37,2,2.384,2,1.422,2,2045.5,2,2277.3,2,7.9431,2,25,-999,9,-999,9,16.9108,2,25.2984,2,16.9609,2
49UP20140609_3,   P10,45,1,26,84,2,20140731,1821,1956,20.5017,149.3282,4505, 401.6,13.4598,34.4129,2,184.0,2,34.4112,2,183.65,2, 12.35,2,12.06,2,0.00,2,0.88,2,2.746,6,1.554,6,2095.0,2,2266.1,2,7.8176,2,25,-999,9,-999,9,13.4032,2,25.8566,2,13.4476,2
49UP20140609_3,   P10,45,1,25,98,2,20140731,1821,1953,20.5017,149.3282,4505, 503.2,10.1087,34.2204,2,150.1,2,34.2215,2,148.94,2, 27.52,2,21.17,2,0.00,2,1.55,2,2.535,2,1.339,2,2158.3,2,2270.0,2,7.6729,2,25,-999,9,-999,9,10.0496,2,26.3348,2,10.1020,2
49UP20140609_3,   P10,45,1,24,110,2,20140731,1821,1951,20.5017,149.3282,4505, 604.7, 7.9037,34.1859,2,102.8,2,34.1867,6,101.15,2, 46.99,2,29.72,2,0.00,2,2.19,2,1.635,6,0.822,6,2223.4,2,2286.0,2,7.5380,2,25,-999,9,-999,9, 7.8421,2,26.6577,2, 7.9046,2
49UP20140609_3,   P10,45,1,23,96,2,20140731,1821,1948,20.5017,149.3282,4505, 704.5, 6.2608,34.2409,2, 69.0,2,34.2444,4, 69.40,6, 68.14,6,35.56,2,0.00,6,2.61,6,0.738,2,0.368,2,2273.9,2,2310.3,2,7.4570,2,25,-999,9,-999,9, 6.1971,2,26.9276,2, 6.2607,2
49UP20140609_3,   P10,45,1,22,111,2,20140731,1821,1946,20.5017,149.3282,4505, 806.9, 5.0441,34.3171,2, 57.8,2,34.3148,4, 57.99,2, 89.13,2,38.65,2,0.00,2,2.83,2,0.320,2,0.157,2,2307.4,6,2333.6,6,7.4224,2,25,-999,9,-999,9, 4.9780,2,27.1363,2, 5.0074,2
49UP20140609_3,   P10,45,1,21,78,2,20140731,1821,1943,20.5017,149.3282,4505, 907.3, 4.6609,34.4188,2, 62.9,2,34.4192,2, 62.88,2, 96.69,2,39.20,3,0.00,2,2.84,2,0.127,2,0.057,2,2314.7,2,2348.2,2,7.4421,6,25,-999,9,-999,9, 4.5884,2,27.2609,2, 4.6470,2
49UP20140609_3,   P10,45,1,20,93,2,20140731,1821,1941,20.5017,149.3282,4505,1009.1, 3.9998,34.4606,2, 66.6,2,34.4613,2, 66.44,2,109.92,2,39.62,2,0.00,2,2.87,2,0.083,2,0.039,2,2328.7,2,2364.9,2,7.4443,2,25,-999,9,-999,9, 3.9235,2,27.3649,2, 4.0011,2
49UP20140609_3,   P10,45,1,19,92,2,20140731,1821,1936,20.5017,149.3282,4505,1211.3, 3.4365,34.5233,2, 79.3,2,34.5244,6, 78.95,2,120.13,2,39.35,2,0.00,2,2.83,2,0.043,2,0.004,2,2336.7,2,2382.2,2,7.4688,2,25,-999,9,-999,9, 3.3481,2,27.4719,2, 3.4357,2
49UP20140609_3,   P10,45,1,18,101,2,20140731,1821,1932,20.5017,149.3282,4505,1413.1, 2.9052,34.5638,2, 88.5,2,34.5649,2, 88.53,2,129.41,2,39.23,2,0.00,2,2.82,2,0.006,2,0.000,2,2338.9,2,2391.1,2,7.4798,2,25,-999,9,-999,9, 2.8056,2,27.5545,2, 2.9075,2
49UP20140609_3,   P10,45,1,17,90,3,20140731,1821,1927,20.5017,149.3282,4505,1616.9, 2.5662,34.5845,2, 94.5,2,34.5847,2, 95.20,2,135.44,2,39.02,2,0.00,2,2.80,2,0.000,2,0.000,2,2346.8,2,2397.9,2,7.4940,2,25,-999,9,-999,9, 2.4539,2,27.6016,2, 2.5680,2
49UP20140609_3,   P10,45,1,16,89,2,20140731,1821,1923,20.5017,149.3282,4505,1818.7, 2.3605,34.5978,2, 99.3,2,34.5981,2, 99.33,2,139.37,2,39.08,4,0.00,2,2.78,2,0.000,2,0.000,2,2348.3,2,2402.9,2,7.5011,2,25,-999,9,-999,9, 2.2341,2,27.6306,2, 2.3609,2
49UP20140609_3,   P10,45,1,15,88,2,20140731,1821,1919,20.5017,149.3282,4505,2022.7, 2.1672,34.6121,2,104.9,2,34.6118,2,104.79,2,142.55,2,38.74,2,0.00,2,2.76,2,0.000,2,0.000,2,2348.3,2,2409.0,2,7.5081,2,25,-999,9,-999,9, 2.0264,2,27.6588,2, 2.1672,2
49UP20140609_3,   P10,45,1,14,999,2,20140731,1821,1914,20.5017,149.3282,4505,2225.9, 1.9741,34.6269,2,111.4,2,34.6271,2,111.25,2,145.76,2,38.34,2,0.00,2,2.73,2,0.000,2,0.000,2,2347.8,6,2410.6,6,7.5177,2,25,-999,9,-999,9, 1.8188,2,27.6869,2, 1.9744,2
49UP20140609_3,   P10,45,1,13,667,2,20140731,1821,1910,20.5017,149.3282,4505,2428.7, 1.8051,34.6422,2,119.5,2,34.6423,2,119.17,2,147.71,2,37.98,2,0.00,2,2.69,2, -999,9, -999,9,2344.5,2,2413.6,2,7.5302,6,25,-999,9,-999,9, 1.6348,2,27.7131,2, 1.8053,2
49UP20140609_3,   P10,45,1,12,74,2,20140731,1821,1906,20.5017,149.3282,4505,2631.6, 1.7588,34.6480,2,122.9,2,34.6486,2,122.85,6,148.12,6,37.81,6,0.00,6,2.67,6, -999,9, -999,9,2344.8,2,2415.1,2,7.5375,2,25,-999,9,-999,9, 1.5711,2,27.7225,2, 1.7589,2
49UP20140609_3,   P10,45,1,11,268,2,20140731,1821,1902,20.5017,149.3282,4505,2835.8, 1.6870,34.6555,2,128.0,2,34.6550,2,127.62,2,148.51,2,37.58,2,0.00,2,2.65,2, -999,9, -999,9,2342.9,2,2415.9,2,7.5427,2,25,-999,9,-999,9, 1.4818,2,27.7351,2, 1.6873,2
49UP20140609_3,   P10,45,1,10,267,2,20140731,1821,1857,20.5017,149.3282,4505,3040.7, 1.6415,34.6612,2,132.2,2,34.6616,6,132.06,2,148.63,2,37.27,2,0.00,2,2.63,2,0.000,2,0.000,2,2341.1,2,2416.1,2,7.5521,2,25,-999,9,-999,9, 1.4177,2,27.7443,2, 1.6418,2
49UP20140609_3,   P10,45,1, 8,81,2,20140731,1821,1852,20.5017,149.3282,4505,3296.7, 1.5714,34.6691,2,138.9,2,34.6689,2,138.98,2,147.61,2,36.86,2,0.00,2,2.59,2, -999,9, -999,9,2333.8,6,2415.3,6,7.5615,2,25,-999,9,-999,9, 1.3241,2,27.7572,2, 1.5714,2
49UP20140609_3,   P10,45,1, 7,516,2,20140731,1821,1846,20.5017,149.3282,4505,3553.5, 1.5407,34.6734,2,143.2,2,34.6732,2,142.91,2,147.14,2,36.44,2,0.00,2,2.57,2, -999,9, -999,9,2334.6,2,2413.3,2,7.5687,6,25,-999,9,-999,9, 1.2681,2,27.7646,2, 1.5411,2
49UP20140609_3,   P10,45,1, 6,113,2,20140731,1821,1840,20.5017,149.3282,4505,3807.9, 1.5069,34.6786,2,149.0,2,34.6791,2,148.84,2,145.56,2,36.21,3,0.00,2,2.55,2,0.000,2,0.000,2,2330.2,2,2414.8,2,7.5789,2,25,-999,9,-999,9, 1.2085,2,27.7730,2, 1.5071,2
49UP20140609_3,   P10,45,1, 5,518,2,20140731,1821,1834,20.5017,149.3282,4505,4064.7, 1.4702,34.6838,2,155.9,2,34.6843,2,155.95,2,142.77,2,35.57,2,0.00,2,2.50,2, -999,9, -999,9,2322.6,2,2411.7,2,7.5856,2,25,-999,9,-999,9, 1.1451,2,27.7815,2, 1.4705,2
49UP20140609_3,   P10,45,1, 9,94,2,20140731,1821,1834,20.5017,149.3282,4505,4065.2, 1.4706,34.6838,2,155.9,2,34.6840,2,155.93,2,142.72,2,35.58,2,0.00,2,2.50,2, -999,9, -999,9,2324.3,2,2411.1,2,7.5883,2,25,-999,9,-999,9, 1.1454,2,27.7815,2, 1.4707,2
49UP20140609_3,   P10,45,1, 4,77,2,20140731,1821,1834,20.5017,149.3282,4505,4065.2, 1.4701,34.6838,2,155.9,2,34.6831,2,156.34,2,142.64,2,35.61,2,0.00,2,2.51,2, -999,9, -999,9,2318.2,2,2410.0,2,7.5878,2,25,-999,9,-999,9, 1.1449,2,27.7815,2, 1.4703,2
49UP20140609_3,   P10,45,1, 3,104,2,20140731,1821,1828,20.5017,149.3282,4505,4319.8, 1.4556,34.6875,2,161.1,2,34.6880,2,161.59,6,140.21,6,35.24,6,0.00,6,2.49,6,0.004,2,0.003,2,2316.2,2,2409.2,2,7.5933,2,25,-999,9,-999,9, 1.1025,2,27.7873,2, 1.4558,2
49UP20140609_3,   P10,45,1, 2,75,2,20140731,1821,1822,20.5017,149.3282,4505,4595.7, 1.4600,34.6897,2,164.8,2,34.6905,2,165.21,2,137.96,2,34.90,2,0.00,2,2.45,2, -999,9, -999,9,2313.4,2,2406.1,2,7.5976,2,25,-999,9,-999,9, 1.0751,2,27.7910,2, 1.4603,2
49UP20140609_3,   P10,45,1, 1,997,2,20140731,1821,1822,20.5017,149.3282,4505,4595.8, 1.4604,34.6897,2,164.8,2,34.6899,6,164.70,2,138.18,2,34.99,2,0.00,2,2.46,2,0.000,2,0.000,2,2313.2,2,2406.4,2,7.5953,2,25,-999,9,-999,9, 1.0755,2,27.7910,2, 1.4604,2