BOTTLE,20230725CCHSIOADS
EXPOCODE,SECT_ID,STNNBR,CASTNO,SAMPNO,BTLNBR,BTLNBR_FLAG_W,DATE,TIME,BTL_TIME,LATITUDE,LONGITUDE,DEPTH,CTDPRS,CTDTMP,CTDSAL,CTDSAL_FLAG_W,CTDOXY,CTDOXY_FLAG_W,SALNTY,SALNTY_FLAG_W,OXYGEN,OXYGEN_FLAG_W,SILCAT,SILCAT_FLAG_W,NO2+NO3,NO2+NO3_FLAG_W,NITRIT,NITRIT_FLAG_W,PHSPHT,PHSPHT_FLAG_W,CFC-11,CFC-11_FLAG_W,CFC-12,CFC-12_FLAG_W,TCARBN,TCARBN_FLAG_W,ALKALI,ALKALI_FLAG_W,PH_TOT,PH_TOT_FLAG_W,PH_TMP,CHLORA,CHLORA_FLAG_W,PPHYTN,PPHYTN_FLAG_W,THETA,THETA_FLAG_W,SIG0,SIG0_FLAG_W,REFTMP,REFTMP_FLAG_W
,,,,,,,,,,,,METERS,DBAR,ITS-90,PSS-78,,UMOL/KG,,PSS-78,,UMOL/KG,,UMOL/KG,,UMOL/KG,,UMOL/KG,,UMOL/KG,,PMOL/KG,,PMOL/KG,,UMOL/KG,,UMOL/KG,,,,DEG C,UG/KG,,UG/KG,,ITS-90,,KG/M^3,,ITS-90,
49UP20140609_3,   P10,74,1, 0,BUC,2,20140810,0255, 426, 3.5112,147.2398,4583,   0.0,30.0243,34.1710,2,197.7,2,   -999,9,195.88,2,  1.14,2, 0.00,2,0.00,2,0.05,2, -999,9, -999,9,-999.0,9,-999.0,9,-999.0,9,-999,-999,9,-999,9,30.0237,2,21.0967,2,   -999,9
49UP20140609_3,   P10,74,1,36,109,2,20140810,0255, 457, 3.5112,147.2398,4583,  11.5,29.5634,34.1532,2,197.3,2,34.1521,2,197.27,2,  1.12,2, 0.00,2,0.00,2,0.04,2, -999,9, -999,9,-999.0,9,-999.0,9,-999.0,9,-999,-999,9,-999,9,29.5606,2,21.2404,2,29.5591,2
49UP20140609_3,   P10,74,1,35,112,2,20140810,0255, 456, 3.5112,147.2398,4583,  26.4,29.4448,34.1641,2,197.6,2,34.1626,2,197.44,2,  1.17,2, 0.00,2,0.00,2,0.04,2, -999,9, -999,9,-999.0,9,-999.0,9,-999.0,9,-999,-999,9,-999,9,29.4384,2,21.2898,2,29.4449,2
49UP20140609_3,   P10,74,1,34,83,2,20140810,0255, 452, 3.5112,147.2398,4583,  51.0,29.3224,34.1828,2,196.9,2,34.1882,2,197.57,2,  1.13,2, 0.00,2,0.00,2,0.04,2, -999,9, -999,9,-999.0,9,-999.0,9,-999.0,9,-999,-999,9,-999,9,29.3100,2,21.3470,2,29.3199,2
49UP20140609_3,   P10,74,1,33,107,3,20140810,0255, 451, 3.5112,147.2398,4583,  75.9,26.6145,34.8317,2,172.7,2,34.8491,4,171.55,2,  2.60,2, 2.79,2,0.11,2,0.33,2, -999,9, -999,9,-999.0,9,-999.0,9,-999.0,9,-999,-999,9,-999,9,26.5973,2,22.7189,2,26.6157,2
49UP20140609_3,   P10,74,1,32,105,2,20140810,0255, 450, 3.5112,147.2398,4583, 101.7,24.6709,35.0960,2,139.0,2,35.1018,2,139.09,2,  3.95,2, 7.62,2,0.05,2,0.63,2, -999,9, -999,9,-999.0,9,-999.0,9,-999.0,9,-999,-999,9,-999,9,24.6491,2,23.5201,2,24.6718,2
49UP20140609_3,   P10,74,1,31,515,2,20140810,0255, 448, 3.5112,147.2398,4583, 126.2,23.4890,35.0533,2,140.5,2,35.0421,4,141.42,2,  5.13,2, 7.77,2,0.04,2,0.64,2, -999,9, -999,9,-999.0,9,-999.0,9,-999.0,9,-999,-999,9,-999,9,23.4628,2,23.8397,2,23.4889,2
49UP20140609_3,   P10,74,1,30,97,2,20140810,0255, 447, 3.5112,147.2398,4583, 151.6,20.9221,34.9696,2,142.5,2,34.9827,4,142.39,2,  6.68,2, 8.75,2,0.03,2,0.72,2, -999,9, -999,9,-999.0,9,-999.0,9,-999.0,9,-999,-999,9,-999,9,20.8932,2,24.4998,2,20.8708,2
49UP20140609_3,   P10,74,1,29,102,2,20140810,0255, 445, 3.5112,147.2398,4583, 203.0,13.4170,34.5903,2,125.5,2,34.5895,2,121.87,2, 20.58,2,19.21,2,0.01,2,1.42,2, -999,9, -999,9,-999.0,9,-999.0,9,-999.0,9,-999,-999,9,-999,9,13.3886,2,25.9969,2,13.3795,2
49UP20140609_3,   P10,74,1,28,108,2,20140810,0255, 443, 3.5112,147.2398,4583, 252.0,10.0941,34.5338,2, 83.5,2,34.5354,2, 80.69,2, 33.62,2,28.94,2,0.01,2,2.09,2, -999,9, -999,9,-999.0,9,-999.0,9,-999.0,9,-999,-999,9,-999,9,10.0648,2,26.5768,2,10.0939,2
49UP20140609_3,   P10,74,1,27,998,2,20140810,0255, 442, 3.5112,147.2398,4583, 282.2, 9.4545,34.5553,2, 69.7,2,34.5569,2, 69.55,6, 35.91,6,31.38,6,0.00,6,2.25,6, -999,9, -999,9,-999.0,9,-999.0,9,-999.0,9,-999,-999,9,-999,9, 9.4229,2,26.7013,2, 9.4558,2
49UP20140609_3,   P10,74,1,26,84,2,20140810,0255, 440, 3.5112,147.2398,4583, 322.3, 8.8449,34.5914,2, 70.9,2,34.5909,6, 70.82,2, 36.83,2,32.59,2,0.00,2,2.31,2, -999,9, -999,9,-999.0,9,-999.0,9,-999.0,9,-999,-999,9,-999,9, 8.8102,2,26.8284,2, 8.8494,2
49UP20140609_3,   P10,74,1,25,98,2,20140810,0255, 438, 3.5112,147.2398,4583, 373.2, 8.3487,34.5813,2, 97.9,2,34.5811,2, 98.39,2, 36.20,2,31.07,2,0.00,2,2.20,2, -999,9, -999,9,-999.0,9,-999.0,9,-999.0,9,-999,-999,9,-999,9, 8.3097,2,26.8982,2, 8.3487,2
49UP20140609_3,   P10,74,1,24,110,2,20140810,0255, 436, 3.5112,147.2398,4583, 423.9, 7.9550,34.5763,2,115.8,2,34.5742,2,115.62,2, 34.93,2,30.41,2,0.00,2,2.14,2, -999,9, -999,9,-999.0,9,-999.0,9,-999.0,9,-999,-999,9,-999,9, 7.9119,2,26.9542,2, 7.9552,2
49UP20140609_3,   P10,74,1,23,96,2,20140810,0255, 434, 3.5112,147.2398,4583, 473.9, 7.7040,34.5697,2,117.8,2,34.5696,2,117.78,2, 35.32,2,30.79,2,0.00,2,2.17,2, -999,9, -999,9,-999.0,9,-999.0,9,-999.0,9,-999,-999,9,-999,9, 7.6565,2,26.9866,2, 7.7037,2
49UP20140609_3,   P10,74,1,22,111,2,20140810,0255, 432, 3.5112,147.2398,4583, 574.4, 7.1760,34.5502,2, 99.2,2,34.5504,2, 99.67,2, 43.92,2,33.48,2,0.00,2,2.37,2, -999,9, -999,9,-999.0,9,-999.0,9,-999.0,9,-999,-999,9,-999,9, 7.1204,2,27.0477,2, 7.1749,2
49UP20140609_3,   P10,74,1,21,78,2,20140810,0255, 429, 3.5112,147.2398,4583, 675.1, 6.5002,34.5408,2, 81.7,2,34.5410,2, 81.89,2, 54.38,2,36.22,2,0.00,2,2.59,2, -999,9, -999,9,-999.0,9,-999.0,9,-999.0,9,-999,-999,9,-999,9, 6.4378,2,27.1330,2, 6.4987,2
49UP20140609_3,   P10,74,1,20,93,2,20140810,0255, 425, 3.5112,147.2398,4583, 776.6, 5.7164,34.5346,2, 89.4,2,34.5342,2, 89.06,2, 64.28,2,36.91,2,0.00,2,2.63,2, -999,9, -999,9,-999.0,9,-999.0,9,-999.0,9,-999,-999,9,-999,9, 5.6486,2,27.2289,2, 5.7167,2
49UP20140609_3,   P10,74,1,19,92,2,20140810,0255, 422, 3.5112,147.2398,4583, 878.0, 5.0259,34.5419,2, 91.6,2,34.5417,2, 91.74,6, 75.80,6,37.66,6,0.00,6,2.69,6, -999,9, -999,9,-999.0,9,-999.0,9,-999.0,9,-999,-999,9,-999,9, 4.9533,2,27.3175,2, 5.0260,2
49UP20140609_3,   P10,74,1,18,101,2,20140810,0255, 420, 3.5112,147.2398,4583, 978.8, 4.5575,34.5522,2, 89.9,2,34.5534,2, 89.53,2, 86.35,2,38.33,2,0.00,2,2.74,2, -999,9, -999,9,-999.0,9,-999.0,9,-999.0,9,-999,-999,9,-999,9, 4.4793,2,27.3788,2, 4.5575,2
49UP20140609_3,   P10,74,1,17,90,2,20140810,0255, 416, 3.5112,147.2398,4583,1140.1, 4.0090,34.5665,2, 91.0,2,34.5674,2, 90.74,2, 98.16,2,38.67,2,0.00,2,2.77,2, -999,9, -999,9,-999.0,9,-999.0,9,-999.0,9,-999,-999,9,-999,9, 3.9214,2,27.4495,2, 4.0088,2
49UP20140609_3,   P10,74,1,16,89,2,20140810,0255, 411, 3.5112,147.2398,4583,1343.1, 3.4004,34.5851,2, 96.0,2,34.5854,6, 95.67,2,111.10,2,38.82,2,0.00,2,2.77,2, -999,9, -999,9,-999.0,9,-999.0,9,-999.0,9,-999,-999,9,-999,9, 3.3013,2,27.5257,2, 3.4011,2
49UP20140609_3,   P10,74,1,15,88,2,20140810,0255, 406, 3.5112,147.2398,4583,1544.0, 2.9282,34.6024,2,100.5,2,34.6025,2,100.22,2,121.78,2,38.83,2,0.00,2,2.76,2, -999,9, -999,9,-999.0,9,-999.0,9,-999.0,9,-999,-999,9,-999,9, 2.8174,2,27.5842,2, 2.9284,2
49UP20140609_3,   P10,74,1,14,999,2,20140810,0255, 401, 3.5112,147.2398,4583,1747.8, 2.5934,34.6171,2,105.8,2,34.6165,2,105.53,2,128.45,2,38.63,2,0.00,2,2.74,2, -999,9, -999,9,-999.0,9,-999.0,9,-999.0,9,-999,-999,9,-999,9, 2.4697,2,27.6263,2, 2.5938,2
49UP20140609_3,   P10,74,1,13,667,2,20140810,0255, 357, 3.5112,147.2398,4583,1950.7, 2.3644,34.6287,2,109.2,2,34.6290,2,109.08,2,133.83,2,38.62,2,0.00,2,2.73,2, -999,9, -999,9,-999.0,9,-999.0,9,-999.0,9,-999,-999,9,-999,9, 2.2267,2,27.6559,2, 2.3643,2
49UP20140609_3,   P10,74,1,12,74,2,20140810,0255, 352, 3.5112,147.2398,4583,2154.5, 2.1667,34.6389,2,116.9,2,34.6384,2,116.29,2,136.81,2,38.15,2,0.00,2,2.69,2, -999,9, -999,9,-999.0,9,-999.0,9,-999.0,9,-999,-999,9,-999,9, 2.0143,2,27.6813,2, 2.1666,2
49UP20140609_3,   P10,74,1,11,268,2,20140810,0255, 347, 3.5112,147.2398,4583,2357.8, 1.8612,34.6551,2,125.1,2,34.6551,2,124.89,6,142.44,6,37.68,6,0.00,6,2.65,6, -999,9, -999,9,-999.0,9,-999.0,9,-999.0,9,-999,-999,9,-999,9, 1.6962,2,27.7188,2, 1.8611,2
49UP20140609_3,   P10,74,1,10,267,2,20140810,0255, 342, 3.5112,147.2398,4583,2561.7, 1.7609,34.6607,2,130.9,2,34.6603,2,130.68,2,142.97,2,37.35,2,0.00,2,2.62,2, -999,9, -999,9,-999.0,9,-999.0,9,-999.0,9,-999,-999,9,-999,9, 1.5795,2,27.7320,2, 1.7610,2
49UP20140609_3,   P10,74,1, 9,518,2,20140810,0255, 337, 3.5112,147.2398,4583,2764.5, 1.6574,34.6667,2,138.0,2,34.6651,2,138.31,2,142.26,2,36.75,2,0.00,2,2.57,2, -999,9, -999,9,-999.0,9,-999.0,9,-999.0,9,-999,-999,9,-999,9, 1.4594,2,27.7456,2, 1.6573,2
49UP20140609_3,   P10,74,1, 8,81,2,20140810,0255, 333, 3.5112,147.2398,4583,2967.2, 1.6133,34.6702,2,141.4,2,34.6700,2,141.32,2,142.51,2,36.54,2,0.00,2,2.56,2, -999,9, -999,9,-999.0,9,-999.0,9,-999.0,9,-999,-999,9,-999,9, 1.3972,2,27.7529,2, 1.6134,2
49UP20140609_3,   P10,74,1, 7,516,2,20140810,0255, 327, 3.5112,147.2398,4583,3212.9, 1.5879,34.6734,2,144.1,2,34.6727,2,143.83,2,142.48,2,36.39,2,0.00,2,2.54,2, -999,9, -999,9,-999.0,9,-999.0,9,-999.0,9,-999,-999,9,-999,9, 1.3485,2,27.7590,2, 1.5879,2
49UP20140609_3,   P10,74,1, 6,113,2,20140810,0255, 322, 3.5112,147.2398,4583,3467.7, 1.5560,34.6774,2,147.8,2,34.6767,6,147.37,2,142.14,2,36.14,2,0.00,2,2.53,2, -999,9, -999,9,-999.0,9,-999.0,9,-999.0,9,-999,-999,9,-999,9, 1.2918,2,27.7662,2, 1.5558,2
49UP20140609_3,   P10,74,1, 5,94,3,20140810,0255, 316, 3.5112,147.2398,4583,3724.1, 1.5338,34.6807,2,150.9,2,34.6802,2,150.72,2,141.66,2,35.96,2,0.00,2,2.50,2, -999,9, -999,9,-999.0,9,-999.0,9,-999.0,9,-999,-999,9,-999,9, 1.2436,2,27.7722,2, 1.5340,2
49UP20140609_3,   P10,74,1, 4,77,2,20140810,0255, 310, 3.5112,147.2398,4583,3979.7, 1.5287,34.6826,2,153.5,2,34.6829,2,153.30,2,140.81,2,35.80,2,0.00,2,2.49,2, -999,9, -999,9,-999.0,9,-999.0,9,-999.0,9,-999,-999,9,-999,9, 1.2113,2,27.7760,2, 1.5287,2
49UP20140609_3,   P10,74,1, 3,104,2,20140810,0255, 305, 3.5112,147.2398,4583,4236.5, 1.5354,34.6842,2,154.9,2,34.6839,2,154.63,2,140.62,2,35.71,2,0.00,2,2.49,2, -999,9, -999,9,-999.0,9,-999.0,9,-999.0,9,-999,-999,9,-999,9, 1.1894,2,27.7788,2, 1.5354,2
49UP20140609_3,   P10,74,1, 2,75,2,20140810,0255, 259, 3.5112,147.2398,4583,4493.1, 1.5563,34.6851,2,155.4,2,34.6848,2,155.28,6,140.48,6,35.60,6,0.00,6,2.48,6, -999,9, -999,9,-999.0,9,-999.0,9,-999.0,9,-999,-999,9,-999,9, 1.1804,2,27.7801,2, 1.5562,2
49UP20140609_3,   P10,74,1, 1,997,2,20140810,0255, 255, 3.5112,147.2398,4583,4646.9, 1.5737,34.6850,2,155.5,2,34.6845,2,155.30,2,140.56,2,35.71,2,0.00,2,2.48,2, -999,9, -999,9,-999.0,9,-999.0,9,-999.0,9,-999,-999,9,-999,9, 1.1793,2,27.7801,2, 1.5737,2
49UP20140609_3,   P10,75,1, 0,BUC,2,20140810,1026,1200, 3.0155,147.0213,4413,   0.0,29.5908,34.0540,2,195.9,2,34.0548,2,195.79,2,  1.13,2, 0.00,2,0.00,2,0.06,2, -999,9, -999,9,1910.6,2,2240.6,2,8.1217,2,25,0.08,2,0.03,2,29.5902,2,21.1561,2,   -999,9
49UP20140609_3,   P10,75,1,36,109,2,20140810,1026,1221, 3.0155,147.0213,4413,  11.1,29.5824,34.0654,2,196.0,2,34.0635,2,195.63,2,  1.15,2, 0.00,2,0.00,2,0.05,2, -999,9, -999,9,1913.3,2,2242.5,2,8.1230,2,25,0.08,2,0.04,2,29.5797,2,21.1682,2,29.5791,2
49UP20140609_3,   P10,75,1,35,112,2,20140810,1026,1220, 3.0155,147.0213,4413,  25.4,29.4907,34.1264,2,196.6,2,34.1255,2,196.58,2,  1.11,2, 0.00,2,0.00,2,0.05,2, -999,9, -999,9,1917.5,2,2245.7,2,8.1224,2,25,0.09,2,0.04,2,29.4845,2,21.2459,2,29.4769,2
49UP20140609_3,   P10,75,1,34,83,2,20140810,1026,1219, 3.0155,147.0213,4413,  51.2,29.1563,34.1556,2,197.9,2,34.1607,2,197.74,2,  1.11,2, 0.00,2,0.00,2,0.06,2, -999,9, -999,9,1920.1,2,2250.8,3,8.1181,2,25,0.12,2,0.06,2,29.1439,2,21.3822,2,29.1576,2
49UP20140609_3,   P10,75,1,33,107,2,20140810,1026,1217, 3.0155,147.0213,4413,  75.7,27.1127,34.8526,2,159.4,2,35.0679,4,160.15,2,  2.36,2, 4.64,2,0.08,2,0.46,2, -999,9, -999,9,2020.4,2,2304.3,2,8.0311,2,25,0.42,2,0.66,2,27.0952,2,22.5763,2,27.1046,2
49UP20140609_3,   P10,75,1,32,105,2,20140810,1026,1213, 3.0155,147.0213,4413, 100.1,25.8789,35.0681,2,142.9,2,35.0695,2,143.69,2,  3.09,2, 6.74,2,0.06,2,0.58,2, -999,9, -999,9,2038.1,2,2301.1,2,7.9899,2,25,0.14,2,0.37,2,25.8566,2,23.1294,2,25.8739,2
49UP20140609_3,   P10,75,1,31,515,2,20140810,1026,1212, 3.0155,147.0213,4413, 125.5,24.5270,35.1710,2,136.2,2,35.1705,2,136.58,6,  3.98,6, 8.03,6,0.03,6,0.67,6, -999,9, -999,9,2058.9,2,2308.6,2,7.9602,2,25,0.06,2,0.15,2,24.5002,2,23.6216,2,24.5045,2
49UP20140609_3,   P10,75,1,30,97,2,20140810,1026,1211, 3.0155,147.0213,4413, 150.3,21.1104,34.8675,2,146.2,2,34.8666,2,147.34,2,  7.48,2, 8.29,2,0.02,2,0.69,2, -999,9, -999,9,2072.8,2,2296.3,2,7.9164,2,25,0.02,2,0.06,2,21.0816,2,24.3709,2,21.1100,2
49UP20140609_3,   P10,75,1,29,102,2,20140810,1026,1209, 3.0155,147.0213,4413, 200.2,13.7231,34.6653,2,133.8,2,34.6639,6,133.56,2, 20.22,2,17.88,2,0.01,2,1.33,2, -999,9, -999,9,2146.1,2,2295.2,2,7.7574,2,25,0.00,2,0.02,2,13.6947,2,25.9921,2,13.7256,2
49UP20140609_3,   P10,75,1,28,108,2,20140810,1026,1208, 3.0155,147.0213,4413, 250.6,11.9440,34.6075,2,121.8,2,34.5993,2,121.10,2, 26.24,2,22.09,2,0.01,2,1.62,2, -999,9, -999,9,2174.0,2,2295.6,2,7.6927,2,25,-999,9,-999,9,11.9115,2,26.3011,2,11.9528,2
49UP20140609_3,   P10,75,1,27,998,2,20140810,1026,1206, 3.0155,147.0213,4413, 302.0, 9.3489,34.6399,2,122.5,2,34.6538,4,120.76,2, 27.57,2,27.09,2,0.00,2,1.93,2, -999,9, -999,9,2201.0,2,2305.1,2,7.6366,2,25,-999,9,-999,9, 9.3153,2,26.7851,2, 9.3491,2
49UP20140609_3,   P10,75,1,26,84,2,20140810,1026,1205, 3.0155,147.0213,4413, 352.8, 9.0146,34.6465,2,119.3,2,34.6461,2,119.09,2, 27.35,2,28.07,2,0.00,2,1.99,2, -999,9, -999,9,2205.8,2,2304.6,2,7.6238,2,25,-999,9,-999,9, 8.9761,2,26.8452,2, 9.0139,2
49UP20140609_3,   P10,75,1,25,98,2,20140810,1026,1203, 3.0155,147.0213,4413, 402.3, 8.7019,34.6285,2,105.5,2,34.6273,2,106.14,2, 30.56,2,29.98,2,0.00,2,2.11,2, -999,9, -999,9,2219.8,2,2306.3,2,7.5908,2,25,-999,9,-999,9, 8.6588,2,26.8813,2, 8.7017,2
49UP20140609_3,   P10,75,1,24,110,2,20140810,1026,1202, 3.0155,147.0213,4413, 452.5, 8.1738,34.5888,2,119.6,2,34.5885,2,118.05,2, 32.90,2,29.77,2,0.00,2,2.10,2, -999,9, -999,9,2215.4,2,2306.6,2,7.5993,2,25,-999,9,-999,9, 8.1269,2,26.9318,2, 8.1662,2
49UP20140609_3,   P10,75,1,23,96,2,20140810,1026,1200, 3.0155,147.0213,4413, 503.4, 7.6863,34.5673,2,120.4,2,34.5671,2,119.96,2, 35.56,2,30.44,2,0.00,2,2.16,2, -999,9, -999,9,2220.9,2,2308.1,2,7.5968,6,25,-999,9,-999,9, 7.6359,2,26.9877,2, 7.6867,2
49UP20140609_3,   P10,75,1,22,111,2,20140810,1026,1158, 3.0155,147.0213,4413, 603.5, 7.0300,34.5464,2,104.1,2,34.5464,2,103.82,2, 44.06,2,33.18,2,0.00,2,2.36,2, -999,9, -999,9,2241.1,6,2315.3,6,7.5563,2,25,-999,9,-999,9, 6.9721,2,27.0653,2, 7.0297,2
49UP20140609_3,   P10,75,1,21,78,2,20140810,1026,1154, 3.0155,147.0213,4413, 705.2, 6.0617,34.5369,2, 75.8,2,34.5366,2, 76.59,2, 62.44,2,37.25,2,0.00,2,2.68,2, -999,9, -999,9,2277.3,2,2330.4,2,7.4976,2,25,-999,9,-999,9, 5.9987,2,27.1869,2, 6.0617,2
49UP20140609_3,   P10,75,1,20,93,2,20140810,1026,1151, 3.0155,147.0213,4413, 805.9, 5.2082,34.5386,2, 92.2,2,34.5383,2, 91.98,2, 72.21,2,37.21,2,0.00,2,2.67,2, -999,9, -999,9,2283.2,2,2343.2,2,7.5138,2,25,-999,9,-999,9, 5.1409,2,27.2931,2, 5.2077,2
49UP20140609_3,   P10,75,1,19,92,2,20140810,1026,1149, 3.0155,147.0213,4413, 906.6, 4.7392,34.5474,2, 92.4,2,34.5470,2, 92.32,2, 81.73,2,37.68,2,0.00,2,2.70,2, -999,9, -999,9,2294.2,2,2353.7,2,7.5114,2,25,-999,9,-999,9, 4.6660,2,27.3544,2, 4.7386,2
49UP20140609_3,   P10,75,1,18,101,2,20140810,1026,1146, 3.0155,147.0213,4413,1008.8, 4.2753,34.5586,2, 95.3,2,34.5591,2, 95.04,2, 91.42,2,37.85,2,0.00,2,2.72,2, -999,9, -999,9,2304.1,2,2363.7,2,7.5141,2,25,-999,9,-999,9, 4.1967,2,27.4144,2, 4.2752,2
49UP20140609_3,   P10,75,1,17,90,2,20140810,1026,1141, 3.0155,147.0213,4413,1210.2, 3.7048,34.5754,2, 94.8,2,34.5760,2, 94.68,2,104.36,2,38.51,2,0.00,2,2.76,2, -999,9, -999,9,2319.6,2,2378.2,2,7.5101,2,25,-999,9,-999,9, 3.6140,2,27.4876,2, 3.7044,2
49UP20140609_3,   P10,75,1,16,89,2,20140810,1026,1135, 3.0155,147.0213,4413,1413.2, 3.1929,34.5927,2, 97.0,2,34.5928,2, 96.70,2,115.42,2,38.84,2,0.00,2,2.78,2, -999,9, -999,9,2331.1,2,2390.4,2,7.5068,2,25,-999,9,-999,9, 3.0901,2,27.5516,2, 3.1929,2
49UP20140609_3,   P10,75,1,15,88,2,20140810,1026,1131, 3.0155,147.0213,4413,1614.5, 2.9027,34.6038,2,100.9,2,34.6037,6,100.98,6,121.97,6,38.70,6,0.00,6,2.77,6, -999,9, -999,9,2333.6,2,2396.4,2,7.5141,2,25,-999,9,-999,9, 2.7863,2,27.5881,2, 2.9035,2
49UP20140609_3,   P10,75,1,14,999,2,20140810,1026,1126, 3.0155,147.0213,4413,1817.2, 2.4640,34.6227,2,110.3,2,34.6220,2,109.86,2,130.52,2,38.29,2,0.00,2,2.72,2, -999,9, -999,9,2339.5,2,2405.9,2,7.5254,2,25,-999,9,-999,9, 2.3362,2,27.6421,2, 2.4636,2
49UP20140609_3,   P10,75,1,13,667,2,20140810,1026,1121, 3.0155,147.0213,4413,2020.0, 2.1534,34.6394,2,114.1,2,34.6397,2,114.87,2,137.69,2,38.19,2,0.00,2,2.71,2, -999,9, -999,9,2342.6,2,2414.0,2,7.5335,6,25,-999,9,-999,9, 2.0129,2,27.6818,2, 2.1533,2
49UP20140609_3,   P10,75,1,12,74,2,20140810,1026,1116, 3.0155,147.0213,4413,2224.1, 1.9775,34.6490,2,119.5,2,34.6486,2,119.51,2,141.46,2,37.96,2,0.00,2,2.68,2, -999,9, -999,9,2343.4,6,2417.6,6,7.5435,2,25,-999,9,-999,9, 1.8222,2,27.7043,2, 1.9775,2
49UP20140609_3,   P10,75,1,11,268,2,20140810,1026,1112, 3.0155,147.0213,4413,2427.7, 1.8259,34.6569,2,127.3,2,34.6567,2,127.08,2,142.41,2,37.40,2,0.00,2,2.64,2, -999,9, -999,9,2338.7,2,2419.0,2,7.5521,2,25,-999,9,-999,9, 1.6553,2,27.7234,2, 1.8258,2
49UP20140609_3,   P10,75,1,10,267,2,20140810,1026,1107, 3.0155,147.0213,4413,2632.6, 1.7217,34.6627,2,133.6,2,34.6628,2,133.66,6,142.62,6,37.02,6,0.00,6,2.61,6, -999,9, -999,9,2339.5,2,2418.7,2,7.5671,2,25,-999,9,-999,9, 1.5346,2,27.7370,2, 1.7217,2
49UP20140609_3,   P10,75,1, 9,518,2,20140810,1026,1102, 3.0155,147.0213,4413,2833.9, 1.6357,34.6680,2,139.6,2,34.6679,2,139.65,2,142.34,2,36.55,2,0.00,2,2.57,2, -999,9, -999,9,2332.9,2,2419.3,2,7.5717,2,25,-999,9,-999,9, 1.4317,2,27.7487,2, 1.6358,2
49UP20140609_3,   P10,75,1, 8,81,2,20140810,1026,1058, 3.0155,147.0213,4413,3036.6, 1.6056,34.6711,2,142.1,2,34.6708,6,142.11,2,142.52,2,36.37,2,0.00,2,2.55,2, -999,9, -999,9,2331.4,2,2421.0,2,7.5754,2,25,-999,9,-999,9, 1.3829,2,27.7546,2, 1.6056,2
49UP20140609_3,   P10,75,1, 7,516,2,20140810,1026,1052, 3.0155,147.0213,4413,3294.8, 1.5820,34.6742,2,144.7,2,34.6737,2,144.52,2,142.49,2,36.23,2,0.00,2,2.54,2, -999,9, -999,9,2335.1,2,2421.5,2,7.5837,2,25,-999,9,-999,9, 1.3346,2,27.7606,2, 1.5819,2
49UP20140609_3,   P10,75,1, 6,113,2,20140810,1026,1047, 3.0155,147.0213,4413,3549.6, 1.5498,34.6785,2,148.3,2,34.6780,2,148.33,2,142.51,2,36.01,2,0.00,2,2.53,2, -999,9, -999,9,2331.2,2,2423.2,2,7.5905,6,25,-999,9,-999,9, 1.2774,2,27.7681,2, 1.5497,2
49UP20140609_3,   P10,75,1, 5,94,2,20140810,1026,1041, 3.0155,147.0213,4413,3805.1, 1.5333,34.6813,2,151.3,2,34.6813,2,151.25,2,141.85,2,35.97,2,0.00,2,2.51,2, -999,9, -999,9,2329.1,2,2423.0,2,7.5968,2,25,-999,9,-999,9, 1.2345,2,27.7733,2, 1.5331,2
49UP20140609_3,   P10,75,1, 4,77,2,20140810,1026,1036, 3.0155,147.0213,4413,4061.1, 1.5210,34.6842,2,154.3,2,34.6845,2,154.34,6,140.87,6,35.62,6,0.00,6,2.49,6, -999,9, -999,9,2327.6,6,2421.6,6,7.5896,3,25,-999,9,-999,9, 1.1948,2,27.7784,2, 1.5210,2
49UP20140609_3,   P10,75,1, 3,104,2,20140810,1026,1031, 3.0155,147.0213,4413,4317.3, 1.5391,34.6851,2,154.8,2,34.6852,2,154.82,2,141.08,2,35.64,2,0.00,2,2.49,2, -999,9, -999,9,2328.0,2,2423.2,2,7.6009,2,25,-999,9,-999,9, 1.1838,2,27.7799,2, 1.5389,2
49UP20140609_3,   P10,75,1, 2,75,2,20140810,1026,1030, 3.0155,147.0213,4413,4317.6, 1.5390,34.6852,2,154.7,2,34.6851,2,154.61,2,140.97,2,35.65,2,0.00,2,2.49,2, -999,9, -999,9,2325.5,2,2423.0,2,7.5930,3,25,-999,9,-999,9, 1.1837,2,27.7800,2, 1.5390,2
49UP20140609_3,   P10,75,1, 1,997,2,20140810,1026,1027, 3.0155,147.0213,4413,4470.8, 1.5559,34.6851,2,154.9,2,34.6849,6,154.77,2,141.18,2,35.62,2,0.00,2,2.49,2, -999,9, -999,9,2328.9,2,2421.7,2,7.5984,2,25,-999,9,-999,9, 1.1826,2,27.7799,2, 1.5559,2