BOTTLE,20230725CCHSIOADS
EXPOCODE,SECT_ID,STNNBR,CASTNO,SAMPNO,BTLNBR,BTLNBR_FLAG_W,DATE,TIME,BTL_TIME,LATITUDE,LONGITUDE,DEPTH,CTDPRS,CTDTMP,CTDSAL,CTDSAL_FLAG_W,CTDOXY,CTDOXY_FLAG_W,SALNTY,SALNTY_FLAG_W,OXYGEN,OXYGEN_FLAG_W,SILCAT,SILCAT_FLAG_W,NO2+NO3,NO2+NO3_FLAG_W,NITRIT,NITRIT_FLAG_W,PHSPHT,PHSPHT_FLAG_W,CFC-11,CFC-11_FLAG_W,CFC-12,CFC-12_FLAG_W,TCARBN,TCARBN_FLAG_W,ALKALI,ALKALI_FLAG_W,PH_TOT,PH_TOT_FLAG_W,PH_TMP,CHLORA,CHLORA_FLAG_W,PPHYTN,PPHYTN_FLAG_W,THETA,THETA_FLAG_W,SIG0,SIG0_FLAG_W,REFTMP,REFTMP_FLAG_W
,,,,,,,,,,,,METERS,DBAR,ITS-90,PSS-78,,UMOL/KG,,PSS-78,,UMOL/KG,,UMOL/KG,,UMOL/KG,,UMOL/KG,,UMOL/KG,,PMOL/KG,,PMOL/KG,,UMOL/KG,,UMOL/KG,,,,DEG C,UG/KG,,UG/KG,,ITS-90,,KG/M^3,,ITS-90,
49UP20140609_1,   P10, 5,1, 0,BUC,2,20140617,0107, 314,40.9940,144.6962,6183,   0.0,13.1495,32.6421,2,289.7,2,   -999,9,289.26,2,  0.13,2, 0.00,2,0.00,2,0.16,2, -999,9, -999,9,-999.0,9,-999.0,9,-999.0,9,-999,0.49,2,0.17,2,13.1492,2,24.5374,2,   -999,9
49UP20140609_1,   P10, 5,1,36,109,2,20140617,0107, 333,40.9940,144.6962,6183,  11.1,10.1274,32.9840,2,321.1,2,   -999,9,322.98,2,  3.48,2, 1.45,2,0.05,2,0.37,2, -999,9, -999,9,-999.0,9,-999.0,9,-999.0,9,-999,1.11,2,0.30,2,10.1262,2,25.3568,2,10.1459,2
49UP20140609_1,   P10, 5,1,35,112,2,20140617,0107, 329,40.9940,144.6962,6183,  50.6, 5.9305,33.5111,2,277.9,2,   -999,9,279.90,2, 18.81,2,13.67,2,0.13,2,1.09,2, -999,9, -999,9,-999.0,9,-999.0,9,-999.0,9,-999,0.15,2,0.19,2, 5.9264,2,26.3853,2, 5.9309,2
49UP20140609_1,   P10, 5,1,34,83,2,20140617,0107, 327,40.9940,144.6962,6183, 101.7, 3.9003,33.3614,2,280.7,2,33.3571,2,283.59,2, 34.07,2,20.16,2,0.04,2,1.59,2, -999,9, -999,9,-999.0,9,-999.0,9,-999.0,9,-999,0.01,2,0.19,2, 3.8936,2,26.4934,2, 3.8995,2
49UP20140609_1,   P10, 5,1,33,517,3,20140617,0107, 325,40.9940,144.6962,6183, 152.6, 3.1284,33.4094,2,257.9,2,   -999,9,258.10,2, 43.08,2,22.75,2,0.01,2,1.77,2, -999,9, -999,9,-999.0,9,-999.0,9,-999.0,9,-999,0.03,2,0.11,2, 3.1192,2,26.6048,2, 3.1257,2
49UP20140609_1,   P10, 5,1,32,105,2,20140617,0107, 323,40.9940,144.6962,6183, 202.3, 3.1521,33.5423,2,213.3,2,33.5421,2,213.89,2, 55.07,2,27.30,2,0.01,2,2.08,2, -999,9, -999,9,-999.0,9,-999.0,9,-999.0,9,-999,0.03,2,0.09,2, 3.1398,2,26.7090,2, 3.1515,2
49UP20140609_1,   P10, 5,1,31,515,2,20140617,0107, 322,40.9940,144.6962,6183, 253.1, 2.7920,33.6138,2,169.8,2,   -999,9,169.86,6, 69.79,6,32.34,6,0.02,6,2.43,6, -999,9, -999,9,-999.0,9,-999.0,9,-999.0,9,-999,-999,9,-999,9, 2.7771,2,26.7981,2, 2.7937,2
49UP20140609_1,   P10, 5,1,30,97,2,20140617,0107, 319,40.9940,144.6962,6183, 333.8, 2.8668,33.7268,2,122.2,2,   -999,9,122.32,2, 84.89,2,36.84,2,0.01,2,2.72,2, -999,9, -999,9,-999.0,9,-999.0,9,-999.0,9,-999,-999,9,-999,9, 2.8467,2,26.8822,2, 2.8662,2
49UP20140609_1,   P10, 5,1,29,102,2,20140617,0107, 316,40.9940,144.6962,6183, 435.0, 3.5725,33.9848,2, 70.9,2,33.9805,2, 70.56,2,100.41,2,39.92,2,0.01,2,2.89,2, -999,9, -999,9,-999.0,9,-999.0,9,-999.0,9,-999,-999,9,-999,9, 3.5433,2,27.0240,2, 3.5650,2
49UP20140609_1,   P10, 5,1,28,91,3,20140617,0107, 313,40.9940,144.6962,6183, 536.2, 3.1540,34.0597,2, 44.5,2,   -999,9, 44.45,2,117.06,2,42.38,2,0.00,2,3.05,2, -999,9, -999,9,-999.0,9,-999.0,9,-999.0,9,-999,-999,9,-999,9, 3.1193,2,27.1236,2, 3.1534,2
49UP20140609_1,   P10, 5,1,27,998,2,20140617,0107, 311,40.9940,144.6962,6183, 637.2, 3.3666,34.1969,2, 37.9,2,34.1935,2, 37.05,2,123.66,2,42.29,2,0.00,2,3.04,2, -999,9, -999,9,-999.0,9,-999.0,9,-999.0,9,-999,-999,9,-999,9, 3.3237,2,27.2140,2, 3.3664,2
49UP20140609_1,   P10, 5,1,26,84,2,20140617,0107, 308,40.9940,144.6962,6183, 738.0, 3.2532,34.2901,2, 35.7,2,   -999,9, 35.27,2,131.08,2,42.28,2,0.00,2,3.04,2, -999,9, -999,9,-999.0,9,-999.0,9,-999.0,9,-999,-999,9,-999,9, 3.2034,2,27.2997,2, 3.2525,2
49UP20140609_1,   P10, 5,1,25,98,2,20140617,0107, 305,40.9940,144.6962,6183, 840.6, 3.0707,34.3465,2, 35.8,2,34.3455,2, 35.09,2,137.28,2,42.42,2,0.00,2,3.05,2, -999,9, -999,9,-999.0,9,-999.0,9,-999.0,9,-999,-999,9,-999,9, 3.0145,2,27.3621,2, 3.0704,2
49UP20140609_1,   P10, 5,1,24,110,2,20140617,0107, 302,40.9940,144.6962,6183, 940.8, 2.7568,34.3766,2, 34.2,2,   -999,9, 33.51,2,146.62,2,42.91,2,0.00,2,3.07,2, -999,9, -999,9,-999.0,9,-999.0,9,-999.0,9,-999,-999,9,-999,9, 2.6954,2,27.4146,2, 2.7565,2
49UP20140609_1,   P10, 5,1,23,96,2,20140617,0107, 258,40.9940,144.6962,6183,1082.2, 2.6181,34.4285,2, 37.9,2,34.4278,2, 37.32,6,151.22,6,42.69,6,0.00,6,3.06,6, -999,9, -999,9,-999.0,9,-999.0,9,-999.0,9,-999,-999,9,-999,9, 2.5473,2,27.4689,2, 2.6173,2
49UP20140609_1,   P10, 5,1,22,111,3,20140617,0107, 253,40.9940,144.6962,6183,1284.0, 2.4022,34.4762,2, 42.9,2,34.4758,2, 42.50,2,157.34,2,42.46,2,0.00,2,3.04,2, -999,9, -999,9,-999.0,9,-999.0,9,-999.0,9,-999,-999,9,-999,9, 2.3182,2,27.5263,2, 2.4017,2
49UP20140609_1,   P10, 5,1,21,78,2,20140617,0107, 249,40.9940,144.6962,6183,1488.0, 2.2806,34.5284,2, 51.5,2,34.5263,6, 51.79,2,158.33,2,42.17,2,0.00,2,3.00,2, -999,9, -999,9,-999.0,9,-999.0,9,-999.0,9,-999,-999,9,-999,9, 2.1821,2,27.5792,2, 2.2812,2
49UP20140609_1,   P10, 5,1,20,93,2,20140617,0107, 244,40.9940,144.6962,6183,1691.1, 2.1203,34.5626,2, 62.3,2,34.5601,2, 62.14,2,159.82,2,41.62,2,0.00,2,2.95,2, -999,9, -999,9,-999.0,9,-999.0,9,-999.0,9,-999,-999,9,-999,9, 2.0077,2,27.6206,2, 2.1202,2
49UP20140609_1,   P10, 5,1,19,92,3,20140617,0107, 240,40.9940,144.6962,6183,1893.7, 1.9715,34.5892,2, 74.2,2,34.5883,2, 74.57,2,161.19,2,40.87,2,0.00,2,2.89,2, -999,9, -999,9,-999.0,9,-999.0,9,-999.0,9,-999,-999,9,-999,9, 1.8444,2,27.6547,2, 1.9713,2
49UP20140609_1,   P10, 5,1,18,101,2,20140617,0107, 235,40.9940,144.6962,6183,2097.3, 1.8630,34.6088,2, 85.4,2,34.6085,6, 85.79,2,161.16,2,40.10,2,0.00,2,2.84,2, -999,9, -999,9,-999.0,9,-999.0,9,-999.0,9,-999,-999,9,-999,9, 1.7206,2,27.6798,2, 1.8628,2
49UP20140609_1,   P10, 5,1,17,90,3,20140617,0107, 231,40.9940,144.6962,6183,2301.1, 1.7563,34.6271,2, 98.1,2,34.6266,2, 98.33,2,159.97,2,39.43,2,0.00,2,2.78,2, -999,9, -999,9,-999.0,9,-999.0,9,-999.0,9,-999,-999,9,-999,9, 1.5982,2,27.7037,2, 1.7562,2
49UP20140609_1,   P10, 5,1,16,89,2,20140617,0107, 226,40.9940,144.6962,6183,2505.1, 1.6803,34.6402,2,108.2,2,34.6397,2,108.86,2,158.62,2,38.81,2,0.00,2,2.73,2, -999,9, -999,9,-999.0,9,-999.0,9,-999.0,9,-999,-999,9,-999,9, 1.5056,2,27.7210,2, 1.6802,2
49UP20140609_1,   P10, 5,1,15,88,3,20140617,0107, 222,40.9940,144.6962,6183,2708.9, 1.6208,34.6501,2,116.5,2,34.6491,2,116.77,2,157.65,2,38.22,2,0.00,2,2.69,2, -999,9, -999,9,-999.0,9,-999.0,9,-999.0,9,-999,-999,9,-999,9, 1.4288,2,27.7346,2, 1.6207,2
49UP20140609_1,   P10, 5,1,14,999,2,20140617,0107, 218,40.9940,144.6962,6183,2913.3, 1.5727,34.6585,2,124.3,2,34.6580,2,124.83,2,156.11,2,37.73,2,0.00,2,2.65,2, -999,9, -999,9,-999.0,9,-999.0,9,-999.0,9,-999,-999,9,-999,9, 1.3626,2,27.7460,2, 1.5726,2
49UP20140609_1,   P10, 5,1,13,667,3,20140617,0107, 213,40.9940,144.6962,6183,3126.8, 1.5371,34.6650,2,130.8,2,34.6641,2,131.88,3,154.77,2,37.27,2,0.00,2,2.62,2, -999,9, -999,9,-999.0,9,-999.0,9,-999.0,9,-999,-999,9,-999,9, 1.3073,2,27.7551,2, 1.5369,2
49UP20140609_1,   P10, 5,1,12,74,2,20140617,0107, 208,40.9940,144.6962,6183,3384.7, 1.5006,34.6718,2,138.0,2,34.6718,2,138.30,2,153.01,2,36.88,2,0.00,2,2.58,2, -999,9, -999,9,-999.0,9,-999.0,9,-999.0,9,-999,-999,9,-999,9, 1.2462,2,27.7649,2, 1.5005,2
49UP20140609_1,   P10, 5,1,11,996,2,20140617,0107, 202,40.9940,144.6962,6183,3639.1, 1.4819,34.6764,2,143.4,2,34.6774,2,143.34,6,151.94,6,36.54,6,0.00,6,2.55,6, -999,9, -999,9,-999.0,9,-999.0,9,-999.0,9,-999,-999,9,-999,9, 1.2020,2,27.7716,2, 1.4817,2
49UP20140609_1,   P10, 5,1,10,107,2,20140617,0107, 157,40.9940,144.6962,6183,3895.7, 1.4694,34.6805,2,148.2,2,34.6795,2,148.13,2,150.50,2,36.16,2,0.00,2,2.53,2, -999,9, -999,9,-999.0,9,-999.0,9,-999.0,9,-999,-999,9,-999,9, 1.1626,2,27.7777,2, 1.4694,2
49UP20140609_1,   P10, 5,1, 9,108,2,20140617,0107, 151,40.9940,144.6962,6183,4152.9, 1.4693,34.6834,2,151.8,2,34.6836,6,151.83,2,149.42,2,35.91,2,0.00,2,2.51,2, -999,9, -999,9,-999.0,9,-999.0,9,-999.0,9,-999,-999,9,-999,9, 1.1345,2,27.7819,2, 1.4693,2
49UP20140609_1,   P10, 5,1, 8,81,3,20140617,0107, 146,40.9940,144.6962,6183,4409.3, 1.4780,34.6854,2,154.5,2,34.6840,2,154.35,2,148.56,2,35.79,2,0.00,2,2.49,2, -999,9, -999,9,-999.0,9,-999.0,9,-999.0,9,-999,-999,9,-999,9, 1.1141,2,27.7848,2, 1.4778,2
49UP20140609_1,   P10, 5,1, 7,106,3,20140617,0107, 140,40.9940,144.6962,6183,4666.8, 1.4919,34.6871,2,156.9,2,34.6876,2,157.08,2,147.50,2,35.67,2,0.00,2,2.48,2, -999,9, -999,9,-999.0,9,-999.0,9,-999.0,9,-999,-999,9,-999,9, 1.0978,2,27.7874,2, 1.4918,2
49UP20140609_1,   P10, 5,1, 6,113,3,20140617,0107, 135,40.9940,144.6962,6183,4924.6, 1.5114,34.6883,2,158.7,2,34.6874,2,158.67,2,146.58,2,35.48,2,0.00,2,2.47,2, -999,9, -999,9,-999.0,9,-999.0,9,-999.0,9,-999,-999,9,-999,9, 1.0859,2,27.7891,2, 1.5112,2
49UP20140609_1,   P10, 5,1, 5,94,2,20140617,0107, 129,40.9940,144.6962,6183,5181.9, 1.5326,34.6894,2,160.4,2,34.6889,2,160.58,2,145.59,2,35.38,2,0.00,2,2.46,2, -999,9, -999,9,-999.0,9,-999.0,9,-999.0,9,-999,-999,9,-999,9, 1.0749,2,27.7907,2, 1.5326,2
49UP20140609_1,   P10, 5,1, 4,77,2,20140617,0107, 123,40.9940,144.6962,6183,5439.8, 1.5583,34.6903,2,161.5,2,34.6897,2,161.62,2,144.59,2,35.24,2,0.00,2,2.46,2, -999,9, -999,9,-999.0,9,-999.0,9,-999.0,9,-999,-999,9,-999,9, 1.0673,2,27.7920,2, 1.5584,2
49UP20140609_1,   P10, 5,1, 3,104,2,20140617,0107, 118,40.9940,144.6962,6183,5699.3, 1.5866,34.6907,2,162.5,2,34.6904,2,162.34,2,143.81,2,35.21,2,0.00,2,2.45,2, -999,9, -999,9,-999.0,9,-999.0,9,-999.0,9,-999,-999,9,-999,9, 1.0611,2,27.7927,2, 1.5865,2
49UP20140609_1,   P10, 5,1, 2,75,2,20140617,0107, 112,40.9940,144.6962,6183,5956.7, 1.6205,34.6908,2,162.1,2,34.6891,2,162.25,2,144.54,2,35.19,2,0.00,2,2.45,2, -999,9, -999,9,-999.0,9,-999.0,9,-999.0,9,-999,-999,9,-999,9, 1.0598,2,27.7929,2, 1.6205,2
49UP20140609_1,   P10, 5,1, 1,997,2,20140617,0107, 107,40.9940,144.6962,6183,6138.2, 1.6466,34.6908,2,161.4,2,34.6906,6,161.57,6,145.91,6,35.21,6,0.00,6,2.46,6, -999,9, -999,9,-999.0,9,-999.0,9,-999.0,9,-999,-999,9,-999,9, 1.0604,2,27.7928,2, 1.6465,2
49UP20140609_1,   P10, 2,1, 0,BUC,2,20140617,1331,1345,42.0005,143.9752,1114,   0.0,12.2590,32.8623,2,290.9,2,32.8361,2,289.80,2,  2.91,2, 0.03,2,0.01,2,0.26,2, -999,9, -999,9,1978.0,2,2228.5,2,7.9938,2,25,0.81,2,0.22,2,12.2587,2,24.8805,2,   -999,9
49UP20140609_1,   P10, 2,1,36,109,2,20140617,1331,1409,42.0005,143.9752,1114,  10.5,12.0938,32.9268,2,292.8,2,   -999,9,293.26,2,  3.48,2, 0.08,2,0.01,2,0.24,2, -999,9, -999,9,1978.2,2,2234.8,2,8.0026,2,25,0.79,2,0.22,2,12.0924,2,24.9619,2,12.0349,2
49UP20140609_1,   P10, 2,1,35,112,2,20140617,1331,1408,42.0005,143.9752,1114,  25.3,10.1397,33.0889,2,301.6,2,   -999,9,301.17,6,  4.66,6, 2.23,6,0.08,6,0.39,6, -999,9, -999,9,2006.1,2,2240.5,2,7.9618,2,25,1.01,2,0.39,2,10.1369,2,25.4369,2,10.1971,2
49UP20140609_1,   P10, 2,1,34,83,2,20140617,1331,1404,42.0005,143.9752,1114,  51.5, 6.3740,33.1914,2,298.8,2,   -999,9,300.59,2,  9.50,2,10.20,2,0.21,2,0.97,2, -999,9, -999,9,2073.9,2,2243.3,2,7.8146,2,25,1.02,2,0.40,2, 6.3696,2,26.0771,2, 6.4359,2
49UP20140609_1,   P10, 2,1,29,102,2,20140617,1331,1403,42.0005,143.9752,1114,  77.2, 4.8735,33.3346,2,285.4,2,   -999,9,285.29,2, 22.96,2,16.48,2,0.34,2,1.33,2, -999,9, -999,9,2120.6,2,2245.6,2,7.7133,2,25,0.27,2,0.24,2, 4.8678,2,26.3697,2, 4.8726,2
49UP20140609_1,   P10, 2,1,28,91,3,20140617,1331,1402,42.0005,143.9752,1114, 101.4, 4.8175,33.3847,2,285.7,2,33.3841,6,286.61,2, 26.09,2,17.61,2,0.03,2,1.40,2, -999,9, -999,9,2128.9,2,2247.0,2,7.6984,2,25,0.18,2,0.19,2, 4.8100,2,26.4159,2, 4.8164,2
49UP20140609_1,   P10, 2,1,27,998,2,20140617,1331,1400,42.0005,143.9752,1114, 126.5, 3.2658,33.2345,2,296.5,2,   -999,9,295.40,2, 32.64,2,20.28,2,0.23,2,1.63,2, -999,9, -999,9,2135.0,2,2241.5,2,7.6644,2,25,0.13,2,0.21,2, 3.2581,2,26.4527,2, 3.2635,2
49UP20140609_1,   P10, 2,1,26,84,2,20140617,1331,1359,42.0005,143.9752,1114, 152.1, 4.3448,33.4300,2,271.0,2,   -999,9,270.48,2, 33.69,2,19.91,2,0.05,2,1.56,2, -999,9, -999,9,2139.1,2,2251.1,2,7.6693,2,25,0.05,2,0.13,2, 4.3342,2,26.5030,2, 4.3448,2
49UP20140609_1,   P10, 2,1,25,98,2,20140617,1331,1358,42.0005,143.9752,1114, 201.8, 5.0211,33.6763,2,223.3,2,33.6880,4,219.05,2, 43.23,2,22.94,2,0.02,2,1.74,2, -999,9, -999,9,2171.0,2,2267.7,2,7.6199,2,25,0.02,2,0.11,2, 5.0057,2,26.6252,2, 5.0206,2
49UP20140609_1,   P10, 2,1,21,78,2,20140617,1331,1356,42.0005,143.9752,1114, 252.9, 4.5381,33.7221,2,197.7,2,33.7180,2,198.46,2, 51.37,2,25.70,2,0.02,2,1.94,2, -999,9, -999,9,2195.4,2,2272.1,2,7.5686,2,25,-999,9,-999,9, 4.5197,2,26.7153,2, 4.5384,2
49UP20140609_1,   P10, 2,1,20,93,3,20140617,1331,1356,42.0005,143.9752,1114, 252.9, 4.5381,33.7221,2,197.7,2,33.7168,2,198.85,2, 51.22,2,25.67,2,0.02,2,1.94,2, -999,9, -999,9,2192.6,2,2273.3,2,7.5732,2,25,-999,9,-999,9, 4.5197,2,26.7153,2, 4.5384,2
49UP20140609_1,   P10, 2,1,19,92,3,20140617,1331,1354,42.0005,143.9752,1114, 283.0, 4.0522,33.7111,2,182.7,2,   -999,9,182.93,2, 59.53,2,28.76,2,0.02,2,2.16,2, -999,9, -999,9,2216.9,6,2276.8,6,7.5205,2,25,-999,9,-999,9, 4.0326,2,26.7576,2, 4.0474,2
49UP20140609_1,   P10, 2,1,18,101,2,20140617,1331,1352,42.0005,143.9752,1114, 353.2, 2.7759,33.6797,2,140.2,2,   -999,9,139.76,2, 79.23,2,35.29,2,0.01,2,2.63,2, -999,9, -999,9,2268.7,2,2285.9,2,7.3944,6,25,-999,9,-999,9, 2.7549,2,26.8526,2, 2.7747,2
49UP20140609_1,   P10, 2,1,17,90,2,20140617,1331,1351,42.0005,143.9752,1114, 384.2, 2.8517,33.7234,2,126.0,2,33.7274,2,125.06,2, 84.23,2,36.47,2,0.01,2,2.70,2, -999,9, -999,9,2278.6,2,2289.9,2,7.3745,2,25,-999,9,-999,9, 2.8284,2,26.8812,2, 2.8494,2
49UP20140609_1,   P10, 2,1,16,89,3,20140617,1331,1349,42.0005,143.9752,1114, 454.8, 2.9720,33.8613,2, 82.0,2,   -999,9, 82.19,2, 98.44,2,39.70,2,0.01,2,2.90,2, -999,9, -999,9,2313.9,2,2304.5,2,7.3193,2,25,-999,9,-999,9, 2.9437,2,26.9811,2, 2.9749,2
49UP20140609_1,   P10, 2,1,12,74,2,20140617,1331,1348,42.0005,143.9752,1114, 475.3, 2.9486,33.8839,2, 72.2,2,   -999,9, 71.05,2,102.37,2,40.73,2,0.01,2,2.96,2, -999,9, -999,9,2323.4,2,2308.0,2,7.3042,2,25,-999,9,-999,9, 2.9190,2,27.0013,2, 2.9466,2
49UP20140609_1,   P10, 2,1,11,996,2,20140617,1331,1345,42.0005,143.9752,1114, 577.0, 3.1873,34.0411,2, 40.7,2,34.0415,2, 40.17,2,115.61,2,42.63,2,0.00,2,3.07,2, -999,9, -999,9,2346.7,2,2325.5,2,7.2824,2,25,-999,9,-999,9, 3.1497,2,27.1060,2, 3.1872,2
49UP20140609_1,   P10, 2,1, 9,108,2,20140617,1331,1342,42.0005,143.9752,1114, 677.6, 3.1408,34.1327,2, 32.7,2,   -999,9, 32.88,2,124.34,2,42.98,2,0.00,2,3.09,2, -999,9, -999,9,2357.4,2,2338.5,2,7.2880,2,25,-999,9,-999,9, 3.0962,2,27.1840,2, 3.1403,2
49UP20140609_1,   P10, 2,1, 8,81,3,20140617,1331,1340,42.0005,143.9752,1114, 778.6, 3.1536,34.2057,2, 31.8,2,34.2053,2, 31.38,2,129.52,2,42.81,2,0.00,2,3.08,2, -999,9, -999,9,2363.7,2,2348.2,2,7.2996,2,25,-999,9,-999,9, 3.1015,2,27.2418,2, 3.1531,2
49UP20140609_1,   P10, 2,1, 7,106,3,20140617,1331,1337,42.0005,143.9752,1114, 879.6, 2.8945,34.2881,2, 28.2,2,   -999,9, 27.18,6,141.41,6,43.09,6,0.01,6,3.11,6, -999,9, -999,9,2376.5,2,2362.7,2,7.3082,2,25,-999,9,-999,9, 2.8366,2,27.3314,2, 2.8942,2
49UP20140609_1,   P10, 2,1, 3,104,2,20140617,1331,1335,42.0005,143.9752,1114, 981.4, 2.7265,34.3426,2, 30.5,2,34.3436,2, 29.71,2,147.56,2,43.01,2,0.01,2,3.10,2, -999,9, -999,9,2378.2,6,2373.4,6,7.3192,2,25,-999,9,-999,9, 2.6623,2,27.3903,2, 2.7260,2
49UP20140609_1,   P10, 2,1, 2,75,2,20140617,1331,1334,42.0005,143.9752,1114, 981.4, 2.7265,34.3426,2, 30.5,2,34.3427,2, 30.12,2,147.18,2,42.98,2,0.01,2,3.10,2, -999,9, -999,9,2378.7,2,2373.2,2,7.3193,6,25,-999,9,-999,9, 2.6623,2,27.3903,2, 2.7260,2
49UP20140609_1,   P10, 2,1, 1,997,2,20140617,1331,1332,42.0005,143.9752,1114,1094.9, 2.5952,34.3897,2, 32.7,2,34.3847,4, 32.03,2,153.09,2,42.63,2,0.01,2,3.09,2, -999,9, -999,9,2381.9,2,2379.0,2,7.3293,2,25,-999,9,-999,9, 2.5237,2,27.4399,2, 2.6002,2