BOTTLE,20230725CCHSIOADS
EXPOCODE,SECT_ID,STNNBR,CASTNO,SAMPNO,BTLNBR,BTLNBR_FLAG_W,DATE,TIME,BTL_TIME,LATITUDE,LONGITUDE,DEPTH,CTDPRS,CTDTMP,CTDSAL,CTDSAL_FLAG_W,CTDOXY,CTDOXY_FLAG_W,SALNTY,SALNTY_FLAG_W,OXYGEN,OXYGEN_FLAG_W,SILCAT,SILCAT_FLAG_W,NO2+NO3,NO2+NO3_FLAG_W,NITRIT,NITRIT_FLAG_W,PHSPHT,PHSPHT_FLAG_W,CFC-11,CFC-11_FLAG_W,CFC-12,CFC-12_FLAG_W,TCARBN,TCARBN_FLAG_W,ALKALI,ALKALI_FLAG_W,PH_TOT,PH_TOT_FLAG_W,PH_TMP,CHLORA,CHLORA_FLAG_W,PPHYTN,PPHYTN_FLAG_W,THETA,THETA_FLAG_W,SIG0,SIG0_FLAG_W,REFTMP,REFTMP_FLAG_W
,,,,,,,,,,,,METERS,DBAR,ITS-90,PSS-78,,UMOL/KG,,PSS-78,,UMOL/KG,,UMOL/KG,,UMOL/KG,,UMOL/KG,,UMOL/KG,,PMOL/KG,,PMOL/KG,,UMOL/KG,,UMOL/KG,,,,DEG C,UG/KG,,UG/KG,,ITS-90,,KG/M^3,,ITS-90,
49UP20140609_2,   P10,34,1, 0,BUC,2,20140709,1501,1700,27.1428,149.3355,5821,   0.0,27.4844,34.8469,2,201.9,2,34.8513,2,202.14,2,  1.29,2, 0.00,2,0.00,2,0.03,2, -999,9, -999,9,1974.9,2,2288.6,2,8.0786,2,25,0.04,2,0.02,2,27.4837,2,22.4472,2,   -999,9
49UP20140609_2,   P10,34,1,36,109,2,20140709,1501,1718,27.1428,149.3355,5821,  11.1,27.4915,34.8436,2,201.4,2,34.8488,2,202.25,6,  1.31,6, 0.00,6,0.00,6,0.02,6,1.647,2,0.985,3,1973.3,2,2288.3,2,8.0495,2,25,0.04,2,0.02,2,27.4889,2,22.4430,2,27.4913,2
49UP20140609_2,   P10,34,1,35,112,2,20140709,1501,1714,27.1428,149.3355,5821,  51.3,22.1000,34.9882,2,228.9,2,34.9928,2,229.65,2,  1.49,2, 0.00,2,0.00,2,0.01,2,2.060,2,1.202,3,1990.1,2,2298.2,2,8.0702,2,25,0.08,2,0.03,2,22.0898,2,24.1836,2,22.1040,2
49UP20140609_2,   P10,34,1,34,83,2,20140709,1501,1713,27.1428,149.3355,5821, 100.2,19.6465,34.8467,2,221.2,2,34.8440,2,220.80,2,  1.89,2, 0.01,2,0.03,2,0.04,2,2.212,2,1.298,3,2008.6,2,2289.9,2,8.0185,2,25,0.27,2,0.50,2,19.6282,2,24.7422,2,19.6399,2
49UP20140609_2,   P10,34,1,33,107,4,20140709,1501,1711,27.1428,149.3355,5821, 151.5,18.2858,34.7749,2,211.3,2,   -999,9,-999.0,9,-999.0,9, -999,9,-999,9,-999,9, -999,9, -999,9,-999.0,9,-999.0,9,-999.0,9,-999,-999,9,-999,9,18.2595,2,25.0354,2,18.2871,2
49UP20140609_2,   P10,34,1,32,105,2,20140709,1501,1709,27.1428,149.3355,5821, 202.4,17.4551,34.7164,2,215.5,2,34.7159,2,215.15,2,  3.40,2, 3.44,2,0.01,2,0.24,2,2.343,2,1.395,3,2025.0,2,2281.5,2,7.9763,2,25,0.01,2,0.01,2,17.4212,2,25.1959,2,17.4537,2
49UP20140609_2,   P10,34,1,31,515,2,20140709,1501,1708,27.1428,149.3355,5821, 253.4,17.0244,34.6991,2,214.7,2,34.6991,2,214.57,2,  4.02,2, 4.19,2,0.01,2,0.28,2, -999,9, -999,9,2032.2,2,2281.6,2,7.9660,2,25,-999,9,-999,9,16.9826,2,25.2874,2,17.0253,2
49UP20140609_2,   P10,34,1,30,97,2,20140709,1501,1706,27.1428,149.3355,5821, 283.9,16.9015,34.7065,2,219.6,2,34.7049,2,219.51,2,  4.00,2, 3.96,2,0.01,2,0.27,2,2.378,6,1.405,3,2031.7,2,2281.0,2,7.9610,2,25,-999,9,-999,9,16.8548,2,25.3234,2,16.9008,2
49UP20140609_2,   P10,34,1,29,102,2,20140709,1501,1704,27.1428,149.3355,5821, 373.2,15.8792,34.6136,2,199.5,2,34.6110,2,199.58,2,  7.32,2, 7.50,2,0.00,2,0.51,2,2.487,2,1.466,3,2057.5,2,2277.0,2,7.9111,2,25,-999,9,-999,9,15.8203,2,25.4912,2,15.8784,2
49UP20140609_2,   P10,34,1,28,108,2,20140709,1501,1701,27.1428,149.3355,5821, 475.0,13.0799,34.4137,2,188.9,2,34.4148,2,189.10,2, 15.01,2,12.78,2,0.00,2,0.90,2,2.755,2,1.556,3,2094.3,2,2275.5,2,7.8229,2,25,-999,9,-999,9,13.0140,2,25.9358,2,13.0793,2
49UP20140609_2,   P10,34,1,27,998,2,20140709,1501,1658,27.1428,149.3355,5821, 576.0, 9.5199,34.1668,2,178.1,2,34.1673,2,178.57,2, 29.87,2,19.82,2,0.00,2,1.42,2,2.858,6,1.550,3,2146.9,2,2275.4,2,7.7088,2,25,-999,9,-999,9, 9.4545,2,26.3923,2, 9.5214,2
49UP20140609_2,   P10,34,1,26,84,2,20140709,1501,1655,27.1428,149.3355,5821, 677.2, 6.9606,34.0437,2,144.0,2,34.0445,2,143.97,6, 51.09,6,27.63,6,0.00,6,2.00,6,2.459,2,1.270,3,2206.2,2,2287.6,2,7.5776,2,25,-999,9,-999,9, 6.8961,2,26.6796,2, 6.9570,2
49UP20140609_2,   P10,34,1,25,98,2,20140709,1501,1652,27.1428,149.3355,5821, 777.7, 5.3551,34.1091,2, 85.8,2,34.1093,2, 85.24,2, 78.10,2,35.67,2,0.00,2,2.59,2,1.324,2,0.659,3,2273.5,2,2312.2,2,7.4495,2,25,-999,9,-999,9, 5.2900,2,26.9353,2, 5.3559,2
49UP20140609_2,   P10,34,1,24,110,2,20140709,1501,1649,27.1428,149.3355,5821, 878.8, 4.7122,34.1917,2, 60.3,2,34.1907,2, 59.97,2, 93.21,2,38.89,2,0.00,2,2.81,2,0.715,6,0.353,3,2312.4,2,2329.5,2,7.4049,2,25,-999,9,-999,9, 4.6421,2,27.0747,2, 4.7124,2
49UP20140609_2,   P10,34,1,23,96,2,20140709,1501,1646,27.1428,149.3355,5821, 980.5, 4.1122,34.3002,2, 45.8,2,34.3001,2, 45.68,2,108.76,2,40.94,2,0.00,2,2.96,2,0.281,2,0.131,3,2334.3,2,2350.4,2,7.3815,2,25,-999,9,-999,9, 4.0376,2,27.2256,2, 4.1123,2
49UP20140609_2,   P10,34,1,22,111,2,20140709,1501,1642,27.1428,149.3355,5821,1142.0, 3.3521,34.3844,2, 38.9,2,34.3851,2, 38.23,2,129.38,2,42.28,2,0.00,2,3.04,2,0.115,2,0.056,3,2358.2,2,2373.1,2,7.3668,6,25,-999,9,-999,9, 3.2704,2,27.3686,2, 3.3519,2
49UP20140609_2,   P10,34,1,21,78,2,20140709,1501,1637,27.1428,149.3355,5821,1343.5, 2.8495,34.4707,2, 46.3,2,34.4703,6, 46.93,2,141.46,2,42.19,2,0.00,2,3.02,2,0.026,2,0.018,3,2368.9,6,2389.5,6,7.3845,2,25,-999,9,-999,9, 2.7563,2,27.4844,2, 2.8492,2
49UP20140609_2,   P10,34,1,20,93,2,20140709,1501,1632,27.1428,149.3355,5821,1545.1, 2.4390,34.5306,2, 58.2,2,34.5299,2, 58.49,2,149.98,2,41.73,2,0.00,2,2.98,2,0.010,2,0.005,3,2372.6,2,2401.8,2,7.4083,2,25,-999,9,-999,9, 2.3341,2,27.5685,2, 2.4388,2
49UP20140609_2,   P10,34,1,19,92,2,20140709,1501,1628,27.1428,149.3355,5821,1748.3, 2.1795,34.5700,2, 74.4,2,34.5700,2, 74.99,2,153.00,2,40.82,2,0.00,2,2.90,2,0.000,2,0.000,3,2367.6,2,2409.1,2,7.4542,2,25,-999,9,-999,9, 2.0615,2,27.6223,2, 2.1795,2
49UP20140609_2,   P10,34,1,18,101,2,20140709,1501,1623,27.1428,149.3355,5821,1952.8, 1.9907,34.5998,2, 89.9,2,34.6006,2, 90.20,2,153.21,2,39.85,2,0.00,2,2.82,2,0.000,2,0.000,3,2362.8,2,2411.9,2,7.4719,2,25,-999,9,-999,9, 1.8584,2,27.6621,2, 1.9907,2
49UP20140609_2,   P10,34,1,17,90,2,20140709,1501,1619,27.1428,149.3355,5821,2155.7, 1.8500,34.6197,2,103.0,2,34.6203,2,103.23,2,152.61,2,39.00,2,0.00,2,2.76,2,0.000,2,0.000,3,2357.2,2,2414.1,2,7.4958,2,25,-999,9,-999,9, 1.7028,2,27.6900,2, 1.8499,2
49UP20140609_2,   P10,34,1,16,89,2,20140709,1501,1614,27.1428,149.3355,5821,2359.5, 1.7459,34.6351,2,112.5,2,34.6351,2,113.41,2,152.17,2,38.42,2,0.00,2,2.72,2,0.000,2,0.000,3,2350.7,2,2417.8,2,7.5124,2,25,-999,9,-999,9, 1.5829,2,27.7112,2, 1.7459,2
49UP20140609_2,   P10,34,1,15,88,2,20140709,1501,1610,27.1428,149.3355,5821,2563.4, 1.6854,34.6463,2,120.7,2,34.6465,2,121.11,2,151.22,2,37.98,2,0.00,2,2.68,2, -999,9, -999,9,2347.9,2,2418.2,2,7.5293,2,25,-999,9,-999,9, 1.5053,2,27.7260,2, 1.6855,2
49UP20140609_2,   P10,34,1,14,999,2,20140709,1501,1605,27.1428,149.3355,5821,2765.8, 1.6409,34.6528,2,124.9,2,34.6532,2,125.25,2,151.34,2,37.73,2,0.00,2,2.66,2, -999,9, -999,9,2347.2,2,2418.8,2,7.5382,2,25,-999,9,-999,9, 1.4432,2,27.7357,2, 1.6409,2
49UP20140609_2,   P10,34,1,13,667,2,20140709,1501,1600,27.1428,149.3355,5821,2971.2, 1.5956,34.6593,2,129.0,2,34.6596,2,129.86,2,151.58,2,37.48,2,0.00,2,2.64,2,0.000,2,0.000,3,2342.4,2,2417.5,2,7.5420,2,25,-999,9,-999,9, 1.3795,2,27.7454,2, 1.5956,2
49UP20140609_2,   P10,34,1,12,74,2,20140709,1501,1555,27.1428,149.3355,5821,3215.1, 1.5542,34.6663,2,134.9,2,34.6664,2,135.00,6,151.03,6,37.13,6,0.00,6,2.60,6, -999,9, -999,9,2339.0,2,2418.1,2,7.5529,6,25,-999,9,-999,9, 1.3154,2,27.7556,2, 1.5541,2
49UP20140609_2,   P10,34,1,11,268,2,20140709,1501,1550,27.1428,149.3355,5821,3470.2, 1.5244,34.6718,2,140.3,2,34.6710,2,139.54,2,150.41,2,36.86,2,0.00,2,2.58,2, -999,9, -999,9,2338.2,6,2419.4,6,7.5601,2,25,-999,9,-999,9, 1.2608,2,27.7639,2, 1.5243,2
49UP20140609_2,   P10,34,1,10,267,2,20140709,1501,1545,27.1428,149.3355,5821,3725.9, 1.5026,34.6766,2,145.1,2,34.6766,2,145.05,2,148.81,2,36.38,2,0.00,2,2.55,2,0.000,2,0.000,3,2334.5,2,2418.5,2,7.5672,2,25,-999,9,-999,9, 1.2131,2,27.7710,2, 1.5026,2
49UP20140609_2,   P10,34,1, 9,518,2,20140709,1501,1540,27.1428,149.3355,5821,3980.7, 1.4924,34.6801,2,149.2,2,34.6770,4,147.12,4,147.75,2,36.16,2,0.00,2,2.54,2, -999,9, -999,9,2334.7,2,2417.5,2,7.5726,2,25,-999,9,-999,9, 1.1759,2,27.7764,2, 1.4924,2
49UP20140609_2,   P10,34,1, 8,81,2,20140709,1501,1534,27.1428,149.3355,5821,4238.0, 1.4840,34.6834,2,153.2,2,34.6835,2,153.17,2,146.55,2,35.85,2,0.00,2,2.51,2, -999,9, -999,9,2326.0,2,2417.7,2,7.5835,2,25,-999,9,-999,9, 1.1393,2,27.7815,2, 1.4839,2
49UP20140609_2,   P10,34,1, 7,516,2,20140709,1501,1529,27.1428,149.3355,5821,4495.3, 1.4844,34.6860,2,156.7,2,34.6851,2,156.30,2,145.68,2,35.69,2,0.00,2,2.49,2,0.000,2,0.000,3,2324.9,2,2416.0,2,7.5899,2,25,-999,9,-999,9, 1.1105,2,27.7856,2, 1.4843,2
49UP20140609_2,   P10,34,1, 6,113,2,20140709,1501,1524,27.1428,149.3355,5821,4752.5, 1.4905,34.6885,2,160.0,2,34.6878,2,159.99,2,143.97,2,35.41,2,0.00,2,2.47,2, -999,9, -999,9,2321.8,2,2412.7,2,7.5880,2,25,-999,9,-999,9, 1.0863,2,27.7892,2, 1.4906,2
49UP20140609_2,   P10,34,1, 5,94,2,20140709,1501,1519,27.1428,149.3355,5821,5008.9, 1.5101,34.6895,2,161.7,2,34.6896,2,161.84,2,142.95,2,35.28,2,0.00,2,2.46,2, -999,9, -999,9,2320.3,2,2412.8,2,7.5916,2,25,-999,9,-999,9, 1.0744,2,27.7909,2, 1.5100,2
49UP20140609_2,   P10,34,1, 4,77,2,20140709,1501,1514,27.1428,149.3355,5821,5266.3, 1.5280,34.6909,2,163.8,2,34.6911,2,163.83,2,141.59,2,35.13,2,0.00,2,2.45,2,0.000,2,0.000,3,2321.8,2,2411.9,2,7.5957,2,25,-999,9,-999,9, 1.0599,2,27.7930,2, 1.5279,2
49UP20140609_2,   P10,34,1, 3,104,2,20140709,1501,1510,27.1428,149.3355,5821,5524.1, 1.5504,34.6921,2,166.0,2,34.6918,6,165.97,6,139.93,6,35.00,6,0.00,6,2.44,6, -999,9, -999,9,2313.6,2,2411.0,2,7.5990,2,25,-999,9,-999,9, 1.0489,2,27.7947,2, 1.5503,2
49UP20140609_2,   P10,34,1, 2,75,2,20140709,1501,1505,27.1428,149.3355,5821,5782.3, 1.5778,34.6928,2,167.1,2,34.6924,6,167.32,2,138.82,2,34.90,2,0.00,2,2.43,2, -999,9, -999,9,2314.8,2,2408.6,2,7.6023,6,25,-999,9,-999,9, 1.0417,2,27.7957,2, 1.5778,2
49UP20140609_2,   P10,34,1, 1,997,2,20140709,1501,1501,27.1428,149.3355,5821,5960.7, 1.5958,34.6934,2,168.4,2,34.6928,2,168.05,2,137.76,2,34.89,2,0.00,2,2.43,2,0.000,2,0.000,3,2311.1,6,2409.0,6,7.6015,2,25,-999,9,-999,9, 1.0354,2,27.7967,2, 1.5958,2
49UP20140609_2,   P10,35,1, 0,BUC,2,20140709,2221,  12,26.4888,149.3528,5766,   0.0,27.9413,34.8100,2,201.3,2,   -999,9,201.42,2,  1.31,2, 0.00,2,0.00,2,0.03,2, -999,9, -999,9,-999.0,9,-999.0,9,-999.0,9,-999,-999,9,-999,9,27.9407,2,22.2711,2,   -999,9
49UP20140609_2,   P10,35,1,36,109,2,20140709,2221,  36,26.4888,149.3528,5766,  10.6,27.8788,34.8088,2,200.6,2,34.8146,2,201.86,2,  1.11,2, 0.00,2,0.00,2,0.02,2, -999,9, -999,9,-999.0,9,-999.0,9,-999.0,9,-999,-999,9,-999,9,27.8763,2,22.2912,2,27.8821,2
49UP20140609_2,   P10,35,1,35,112,2,20140709,2221,  34,26.4888,149.3528,5766,  52.0,22.7781,35.0565,2,225.8,2,35.0564,2,226.54,2,  1.36,2, 0.00,2,0.00,2,0.01,2, -999,9, -999,9,-999.0,9,-999.0,9,-999.0,9,-999,-999,9,-999,9,22.7676,2,24.0432,2,22.7766,2
49UP20140609_2,   P10,35,1,34,83,2,20140709,2221,  30,26.4888,149.3528,5766, 102.1,20.4289,34.9129,2,220.4,2,34.9107,2,220.76,2,  1.83,2, 0.00,2,0.00,2,0.02,2, -999,9, -999,9,-999.0,9,-999.0,9,-999.0,9,-999,-999,9,-999,9,20.4098,2,24.5866,2,20.4314,2
49UP20140609_2,   P10,35,1,33,107,2,20140709,2221,  29,26.4888,149.3528,5766, 152.8,18.4700,34.7821,2,214.7,2,34.7806,2,214.77,2,  2.31,2, 1.94,2,0.02,2,0.14,2, -999,9, -999,9,-999.0,9,-999.0,9,-999.0,9,-999,-999,9,-999,9,18.4433,2,24.9952,2,18.4678,2
49UP20140609_2,   P10,35,1,32,105,2,20140709,2221,  27,26.4888,149.3528,5766, 203.3,17.4491,34.7275,2,215.4,2,34.7255,2,215.86,6,  3.41,6, 3.32,6,0.01,6,0.23,6, -999,9, -999,9,-999.0,9,-999.0,9,-999.0,9,-999,-999,9,-999,9,17.4150,2,25.2059,2,17.4464,2
49UP20140609_2,   P10,35,1,31,515,2,20140709,2221,  25,26.4888,149.3528,5766, 254.6,16.9854,34.7080,2,218.1,2,34.7076,2,218.82,2,  3.74,2, 3.83,2,0.01,2,0.26,2, -999,9, -999,9,-999.0,9,-999.0,9,-999.0,9,-999,-999,9,-999,9,16.9435,2,25.3035,2,16.9763,2
49UP20140609_2,   P10,35,1,30,97,2,20140709,2221,  24,26.4888,149.3528,5766, 305.1,16.2682,34.6464,2,203.4,2,34.6457,2,203.51,2,  6.09,2, 6.42,2,0.00,2,0.44,2, -999,9, -999,9,-999.0,9,-999.0,9,-999.0,9,-999,-999,9,-999,9,16.2193,2,25.4253,2,16.2668,2
49UP20140609_2,   P10,35,1,29,102,2,20140709,2221,  21,26.4888,149.3528,5766, 404.4,14.5149,34.5189,2,191.9,2,34.5206,2,191.70,2, 11.18,2,10.23,2,0.00,2,0.71,2, -999,9, -999,9,-999.0,9,-999.0,9,-999.0,9,-999,-999,9,-999,9,14.4549,2,25.7190,2,14.5158,2
49UP20140609_2,   P10,35,1,28,108,2,20140709,2221,  19,26.4888,149.3528,5766, 507.8,11.2561,34.2841,2,185.2,2,34.2851,2,185.36,2, 21.13,2,16.03,2,0.00,2,1.14,2, -999,9, -999,9,-999.0,9,-999.0,9,-999.0,9,-999,-999,9,-999,9,11.1922,2,26.1832,2,11.2562,2
49UP20140609_2,   P10,35,1,27,998,2,20140709,2221,  16,26.4888,149.3528,5766, 608.5, 8.2716,34.1063,2,155.5,2,34.1081,2,155.85,2, 39.11,2,24.02,2,0.00,2,1.73,2, -999,9, -999,9,-999.0,9,-999.0,9,-999.0,9,-999,-999,9,-999,9, 8.2079,2,26.5409,2, 8.2739,2
49UP20140609_2,   P10,35,1,26,84,2,20140709,2221,  13,26.4888,149.3528,5766, 707.7, 6.3147,34.0704,2,112.9,2,34.0701,6,112.58,2, 61.45,2,31.58,2,0.00,2,2.29,2, -999,9, -999,9,-999.0,9,-999.0,9,-999.0,9,-999,-999,9,-999,9, 6.2507,2,26.7861,2, 6.3136,2
49UP20140609_2,   P10,35,1,25,98,2,20140709,2221,  10,26.4888,149.3528,5766, 810.0, 5.0365,34.1581,2, 68.2,2,34.1570,2, 68.20,2, 85.73,2,37.63,2,0.00,2,2.73,2, -999,9, -999,9,-999.0,9,-999.0,9,-999.0,9,-999,-999,9,-999,9, 4.9704,2,27.0111,2, 5.0367,2
49UP20140609_2,   P10,35,1,24,110,2,20140709,2221,   8,26.4888,149.3528,5766, 909.6, 4.5271,34.2293,2, 53.4,2,34.2302,2, 53.61,2, 98.02,2,39.61,2,0.00,2,2.87,2, -999,9, -999,9,-999.0,9,-999.0,9,-999.0,9,-999,-999,9,-999,9, 4.4556,2,27.1250,2, 4.5309,2
49UP20140609_2,   P10,35,1,23,96,2,20140709,2221,   5,26.4888,149.3528,5766,1012.1, 3.8529,34.3168,2, 43.3,2,34.3133,2, 43.25,6,115.38,6,41.27,6,0.00,6,2.98,6, -999,9, -999,9,-999.0,9,-999.0,9,-999.0,9,-999,-999,9,-999,9, 3.7777,2,27.2653,2, 3.8531,2
49UP20140609_2,   P10,35,1,22,111,2,20140709,2221,   1,26.4888,149.3528,5766,1213.9, 3.0989,34.4359,2, 43.1,2,34.4357,2, 42.76,2,135.43,2,42.13,2,0.00,2,3.03,2, -999,9, -999,9,-999.0,9,-999.0,9,-999.0,9,-999,-999,9,-999,9, 3.0137,2,27.4335,2, 3.0987,2
49UP20140609_2,   P10,35,1,21,78,2,20140709,2221,2356,26.4888,149.3528,5766,1416.1, 2.6816,34.4965,2, 50.5,2,34.4957,2, 50.75,2,145.51,2,42.04,2,0.00,2,3.00,2, -999,9, -999,9,-999.0,9,-999.0,9,-999.0,9,-999,-999,9,-999,9, 2.5844,2,27.5201,2, 2.6814,2
49UP20140609_2,   P10,35,1,20,93,2,20140709,2221,2352,26.4888,149.3528,5766,1618.6, 2.3500,34.5461,2, 65.4,2,34.5461,2, 65.65,2,151.11,2,41.20,2,0.00,2,2.93,2, -999,9, -999,9,-999.0,9,-999.0,9,-999.0,9,-999,-999,9,-999,9, 2.2404,2,27.5887,2, 2.3501,2
49UP20140609_2,   P10,35,1,19,92,2,20140709,2221,2347,26.4888,149.3528,5766,1820.5, 2.1289,34.5836,2, 86.7,2,34.5835,2, 86.91,2,150.11,2,39.83,2,0.00,2,2.83,2, -999,9, -999,9,-999.0,9,-999.0,9,-999.0,9,-999,-999,9,-999,9, 2.0057,2,27.6376,2, 2.1291,2
49UP20140609_2,   P10,35,1,18,101,2,20140709,2221,2343,26.4888,149.3528,5766,2026.3, 1.9429,34.6088,2, 99.3,2,34.6085,6, 99.25,2,150.86,2,39.20,2,0.00,2,2.77,2, -999,9, -999,9,-999.0,9,-999.0,9,-999.0,9,-999,-999,9,-999,9, 1.8052,2,27.6734,2, 1.9429,2
49UP20140609_2,   P10,35,1,17,90,2,20140709,2221,2338,26.4888,149.3528,5766,2229.9, 1.8294,34.6255,2,108.6,2,34.6289,2,108.80,6,150.88,6,38.60,6,0.00,6,2.72,6, -999,9, -999,9,-999.0,9,-999.0,9,-999.0,9,-999,-999,9,-999,9, 1.6762,2,27.6966,2, 1.8293,2
49UP20140609_2,   P10,35,1,16,89,2,20140709,2221,2334,26.4888,149.3528,5766,2433.4, 1.7508,34.6372,2,115.4,2,34.6372,2,115.74,2,150.89,2,38.19,2,0.00,2,2.69,2, -999,9, -999,9,-999.0,9,-999.0,9,-999.0,9,-999,-999,9,-999,9, 1.5812,2,27.7131,2, 1.7507,2
49UP20140609_2,   P10,35,1,15,88,2,20140709,2221,2329,26.4888,149.3528,5766,2636.3, 1.6726,34.6487,2,122.5,2,34.6477,2,122.56,2,151.16,2,37.81,2,0.00,2,2.66,2, -999,9, -999,9,-999.0,9,-999.0,9,-999.0,9,-999,-999,9,-999,9, 1.4862,2,27.7293,2, 1.6726,2
49UP20140609_2,   P10,35,1,14,999,2,20140709,2221,2325,26.4888,149.3528,5766,2839.4, 1.6304,34.6556,2,127.4,2,34.6555,2,127.65,2,150.87,2,37.45,2,0.00,2,2.63,2, -999,9, -999,9,-999.0,9,-999.0,9,-999.0,9,-999,-999,9,-999,9, 1.4260,2,27.7391,2, 1.6304,2
49UP20140609_2,   P10,35,1,13,667,2,20140709,2221,2320,26.4888,149.3528,5766,3043.9, 1.5988,34.6611,2,131.6,2,34.6609,2,131.81,2,150.67,2,37.23,2,0.00,2,2.61,2, -999,9, -999,9,-999.0,9,-999.0,9,-999.0,9,-999,-999,9,-999,9, 1.3757,2,27.7472,2, 1.5987,2
49UP20140609_2,   P10,35,1,12,74,2,20140709,2221,2315,26.4888,149.3528,5766,3299.1, 1.5590,34.6678,2,137.1,2,34.6678,6,137.21,2,149.85,2,36.94,2,0.00,2,2.59,2, -999,9, -999,9,-999.0,9,-999.0,9,-999.0,9,-999,-999,9,-999,9, 1.3117,2,27.7571,2, 1.5589,2
49UP20140609_2,   P10,35,1,11,268,4,20140709,2221,2310,26.4888,149.3528,5766,3554.3, 1.5229,34.6733,2,142.1,2,   -999,9,-999.0,9,-999.0,9, -999,9,-999,9,-999,9, -999,9, -999,9,-999.0,9,-999.0,9,-999.0,9,-999,-999,9,-999,9, 1.2507,2,27.7657,2, 1.5229,2
49UP20140609_2,   P10,35,1,10,267,2,20140709,2221,2304,26.4888,149.3528,5766,3808.9, 1.5045,34.6774,2,146.6,2,34.6768,2,146.48,2,148.34,2,36.22,2,0.00,2,2.54,2, -999,9, -999,9,-999.0,9,-999.0,9,-999.0,9,-999,-999,9,-999,9, 1.2061,2,27.7722,2, 1.5044,2
49UP20140609_2,   P10,35,1, 9,518,2,20140709,2221,2259,26.4888,149.3528,5766,4066.4, 1.4910,34.6809,2,150.2,2,34.6808,2,150.18,2,148.11,2,36.11,2,0.00,2,2.52,2, -999,9, -999,9,-999.0,9,-999.0,9,-999.0,9,-999,-999,9,-999,9, 1.1652,2,27.7778,2, 1.4909,2
49UP20140609_2,   P10,35,1, 8,81,2,20140709,2221,2254,26.4888,149.3528,5766,4322.3, 1.4823,34.6844,2,154.2,2,34.6842,2,154.62,6,146.94,6,35.78,6,0.00,6,2.50,2, -999,9, -999,9,-999.0,9,-999.0,9,-999.0,9,-999,-999,9,-999,9, 1.1282,2,27.7831,2, 1.4822,2
49UP20140609_2,   P10,35,1, 7,516,2,20140709,2221,2249,26.4888,149.3528,5766,4577.6, 1.4884,34.6868,2,158.0,2,34.6867,2,158.10,2,144.73,2,35.49,2,0.00,2,2.48,2, -999,9, -999,9,-999.0,9,-999.0,9,-999.0,9,-999,-999,9,-999,9, 1.1048,2,27.7867,2, 1.4884,2
49UP20140609_2,   P10,35,1, 6,113,2,20140709,2221,2244,26.4888,149.3528,5766,4835.5, 1.4934,34.6892,2,161.5,2,34.6890,6,161.64,2,142.69,2,35.28,2,0.00,2,2.45,2, -999,9, -999,9,-999.0,9,-999.0,9,-999.0,9,-999,-999,9,-999,9, 1.0792,2,27.7903,2, 1.4932,2
49UP20140609_2,   P10,35,1, 5,94,2,20140709,2221,2239,26.4888,149.3528,5766,5094.6, 1.5141,34.6903,2,162.9,2,34.6901,2,163.02,2,142.10,2,35.08,2,0.00,2,2.44,2, -999,9, -999,9,-999.0,9,-999.0,9,-999.0,9,-999,-999,9,-999,9, 1.0679,2,27.7920,2, 1.5141,2
49UP20140609_2,   P10,35,1, 4,77,2,20140709,2221,2233,26.4888,149.3528,5766,5352.3, 1.5393,34.6910,2,164.5,2,34.6908,2,164.82,2,140.46,2,34.96,2,0.00,2,2.44,2, -999,9, -999,9,-999.0,9,-999.0,9,-999.0,9,-999,-999,9,-999,9, 1.0601,2,27.7930,2, 1.5393,2
49UP20140609_2,   P10,35,1, 3,104,2,20140709,2221,2228,26.4888,149.3528,5766,5610.4, 1.5657,34.6919,2,165.8,2,34.6914,2,165.84,2,139.69,2,34.96,2,0.00,2,2.43,2, -999,9, -999,9,-999.0,9,-999.0,9,-999.0,9,-999,-999,9,-999,9, 1.0526,2,27.7942,2, 1.5657,2
49UP20140609_2,   P10,35,1, 1,997,2,20140709,2221,2221,26.4888,149.3528,5766,5909.7, 1.5944,34.6930,2,168.2,2,34.6924,6,168.29,2,137.76,2,34.77,2,0.00,2,2.42,2, -999,9, -999,9,-999.0,9,-999.0,9,-999.0,9,-999,-999,9,-999,9, 1.0409,2,27.7959,2, 1.5943,2