BOTTLE,20230725CCHSIOADS
EXPOCODE,SECT_ID,STNNBR,CASTNO,SAMPNO,BTLNBR,BTLNBR_FLAG_W,DATE,TIME,BTL_TIME,LATITUDE,LONGITUDE,DEPTH,CTDPRS,CTDTMP,CTDSAL,CTDSAL_FLAG_W,CTDOXY,CTDOXY_FLAG_W,SALNTY,SALNTY_FLAG_W,OXYGEN,OXYGEN_FLAG_W,SILCAT,SILCAT_FLAG_W,NO2+NO3,NO2+NO3_FLAG_W,NITRIT,NITRIT_FLAG_W,PHSPHT,PHSPHT_FLAG_W,CFC-11,CFC-11_FLAG_W,CFC-12,CFC-12_FLAG_W,TCARBN,TCARBN_FLAG_W,ALKALI,ALKALI_FLAG_W,PH_TOT,PH_TOT_FLAG_W,PH_TMP,CHLORA,CHLORA_FLAG_W,PPHYTN,PPHYTN_FLAG_W,THETA,THETA_FLAG_W,SIG0,SIG0_FLAG_W,REFTMP,REFTMP_FLAG_W
,,,,,,,,,,,,METERS,DBAR,ITS-90,PSS-78,,UMOL/KG,,PSS-78,,UMOL/KG,,UMOL/KG,,UMOL/KG,,UMOL/KG,,UMOL/KG,,PMOL/KG,,PMOL/KG,,UMOL/KG,,UMOL/KG,,,,DEG C,UG/KG,,UG/KG,,ITS-90,,KG/M^3,,ITS-90,
49UP20140609_2,   P10,38,1, 0,BUC,2,20140710,2219,  16,24.2472,149.0163,5749,   0.0,29.1936,34.9331,2,196.8,2,34.9363,2,197.05,2,  1.18,2, 0.00,2,0.00,2,0.03,2, -999,9, -999,9,1971.9,2,2290.8,2,8.0780,2,25,0.03,2,0.02,2,29.1930,2,21.9492,2,   -999,9
49UP20140609_2,   P10,38,1,36,109,2,20140710,2219,  34,24.2472,149.0163,5749,  11.9,29.0929,34.9243,2,196.7,2,34.9234,2,198.53,2,  1.24,2, 0.00,2,0.00,2,0.02,2,1.556,2,0.933,2,1972.6,2,2290.9,2,8.0798,2,25,0.03,2,0.01,2,29.0900,2,21.9771,2,29.0926,2
49UP20140609_2,   P10,38,1,35,112,2,20140710,2219,  30,24.2472,149.0163,5749,  51.9,21.1868,34.8222,2,234.2,2,34.8223,2,234.56,2,  1.69,2, 0.00,2,0.00,2,0.02,2,2.177,2,1.256,2,1988.5,2,2284.1,2,8.0428,2,25,0.12,2,0.05,2,21.1769,2,24.3104,2,21.1908,2
49UP20140609_2,   P10,38,1,34,83,2,20140710,2219,  28,24.2472,149.0163,5749, 101.3,18.6034,34.7841,2,224.7,2,34.7826,2,225.50,2,  2.16,2, 0.74,2,0.19,2,0.09,2,2.288,2,1.336,2,2007.0,2,2282.8,2,8.0096,2,25,0.23,2,0.36,2,18.5857,2,24.9610,2,18.6022,2
49UP20140609_2,   P10,38,1,33,107,2,20140710,2219,  26,24.2472,149.0163,5749, 153.4,17.7279,34.7404,2,207.5,2,34.7394,6,207.15,2,  3.40,2, 3.70,2,0.01,2,0.25,2, -999,9, -999,9,2031.1,2,2279.8,2,7.9612,2,25,0.01,2,0.03,2,17.7019,2,25.1462,2,17.7275,2
49UP20140609_2,   P10,38,1,32,105,2,20140710,2219,  25,24.2472,149.0163,5749, 204.3,17.0766,34.7168,2,221.2,2,34.7156,2,221.40,2,  3.58,2, 3.45,2,0.01,2,0.24,2,2.391,2,1.395,2,2025.1,2,2279.6,2,7.9697,2,25,0.01,2,0.02,2,17.0428,2,25.2867,2,17.0760,2
49UP20140609_2,   P10,38,1,31,515,2,20140710,2219,  23,24.2472,149.0163,5749, 253.9,16.6630,34.6888,2,215.3,2,34.6875,2,215.48,6,  4.67,6, 4.81,6,0.01,6,0.33,6, -999,9, -999,9,2033.5,2,2278.5,2,7.9514,2,25,-999,9,-999,9,16.6217,2,25.3645,2,16.6622,2
49UP20140609_2,   P10,38,1,30,97,2,20140710,2219,  22,24.2472,149.0163,5749, 303.8,15.7516,34.6087,2,198.4,2,34.6099,2,198.56,2,  7.67,2, 7.73,2,0.01,2,0.53,2,2.506,6,1.453,6,2054.4,2,2276.0,2,7.9059,2,25,-999,9,-999,9,15.7040,2,25.5138,2,15.7526,2
49UP20140609_2,   P10,38,1,29,102,2,20140710,2219,  19,24.2472,149.0163,5749, 404.7,13.1716,34.4222,2,189.4,2,   -999,5,189.24,2, 14.81,2,12.64,2,0.00,2,0.89,2,2.683,2,1.520,2,2090.2,2,2271.6,2,7.8214,2,25,-999,9,-999,9,13.1154,2,25.9221,2,13.1703,2
49UP20140609_2,   P10,38,1,28,108,2,20140710,2219,  17,24.2472,149.0163,5749, 506.1, 9.7445,34.1987,2,171.4,2,34.1990,2,171.26,2, 30.98,2,20.17,2,0.00,2,1.45,2,2.708,2,1.442,2,2146.9,2,2274.2,2,7.7066,2,25,-999,9,-999,9, 9.6863,2,26.3789,2, 9.7427,2
49UP20140609_2,   P10,38,1,27,998,2,20140710,2219,  14,24.2472,149.0163,5749, 606.1, 6.9760,34.0695,2,138.1,2,34.0699,2,136.84,2, 54.20,2,28.35,2,0.00,2,2.06,2,2.299,6,1.178,6,2210.3,2,2288.7,2,7.5706,2,25,-999,9,-999,9, 6.9185,2,26.6969,2, 6.9759,2
49UP20140609_2,   P10,38,1,26,84,2,20140710,2219,  11,24.2472,149.0163,5749, 707.1, 5.2994,34.1107,2, 88.9,2,34.1119,2, 88.08,2, 80.02,2,35.58,2,0.00,2,2.58,2,1.402,2,0.692,2,2275.8,2,2311.6,2,7.4474,6,25,-999,9,-999,9, 5.2408,2,26.9423,2, 5.2987,2
49UP20140609_2,   P10,38,1,25,98,2,20140710,2219,   9,24.2472,149.0163,5749, 809.0, 4.4356,34.2030,2, 57.7,2,34.2031,2, 57.58,2, 99.57,2,39.52,2,0.00,2,2.85,2,0.704,2,0.359,2,2314.0,6,2332.6,6,7.3895,2,25,-999,9,-999,9, 4.3732,2,27.1129,2, 4.4350,2
49UP20140609_2,   P10,38,1,24,110,2,20140710,2219,   6,24.2472,149.0163,5749, 909.8, 3.9003,34.2960,2, 43.1,2,34.2949,2, 43.02,2,114.31,2,41.43,2,0.00,2,2.98,2,0.319,6,0.161,6,2340.2,2,2351.5,2,7.3663,2,25,-999,9,-999,9, 3.8331,2,27.2431,2, 3.9023,2
49UP20140609_2,   P10,38,1,23,96,2,20140710,2219,   4,24.2472,149.0163,5749,1010.0, 3.6213,34.3606,2, 42.9,2,34.3613,6, 43.83,2,121.84,2,41.88,2,0.00,2,3.01,2,0.169,2,0.089,2,2349.1,2,2362.6,2,7.3702,2,25,-999,9,-999,9, 3.5480,2,27.3229,2, 3.6186,2
49UP20140609_2,   P10,38,1,22,111,2,20140710,2219,2359,24.2472,149.0163,5749,1212.8, 3.0529,34.4598,2, 51.1,2,34.4600,2, 51.03,2,135.20,2,41.81,2,0.00,2,2.99,2,0.052,2,0.037,2,2357.0,2,2383.2,2,7.3933,2,25,-999,9,-999,9, 2.9681,2,27.4568,2, 3.0525,2
49UP20140609_2,   P10,38,1,21,78,2,20140710,2219,2355,24.2472,149.0163,5749,1415.9, 2.5991,34.5220,2, 64.3,2,34.5219,2, 64.92,6,143.79,6,41.21,6,0.00,6,2.94,6,0.035,2,0.017,2,2360.8,2,2394.2,2,7.4214,2,25,-999,9,-999,9, 2.5027,2,27.5474,2, 2.5989,2
49UP20140609_2,   P10,38,1,20,93,2,20140710,2219,2350,24.2472,149.0163,5749,1619.7, 2.2402,34.5690,2, 80.1,2,34.5680,2, 80.28,2,148.77,2,40.36,2,0.00,2,2.87,2,0.015,2,0.018,2,2352.5,3,2404.6,2,7.4525,2,25,-999,9,-999,9, 2.1317,2,27.6159,2, 2.2401,2
49UP20140609_2,   P10,38,1,19,92,2,20140710,2219,2346,24.2472,149.0163,5749,1821.9, 2.0299,34.5985,2, 94.0,2,34.5977,6, 93.85,2,150.10,2,39.65,2,0.00,2,2.82,2,0.009,2,0.013,2,2358.2,2,2408.1,2,7.4782,2,25,-999,9,-999,9, 1.9079,2,27.6572,2, 2.0300,2
49UP20140609_2,   P10,38,1,18,101,2,20140710,2219,2341,24.2472,149.0163,5749,2024.6, 1.8764,34.6204,2,105.6,2,34.6200,2,106.76,2,150.51,2,39.06,2,0.00,2,2.75,2,0.004,2,0.008,2,2352.7,2,2411.2,2,7.4992,2,25,-999,9,-999,9, 1.7398,2,27.6877,2, 1.8767,2
49UP20140609_2,   P10,38,1,17,90,2,20140710,2219,2337,24.2472,149.0163,5749,2227.7, 1.7724,34.6369,2,115.8,2,34.6371,2,116.08,2,150.04,2,38.34,2,0.00,2,2.70,2,0.007,2,0.007,2,2346.2,2,2413.3,2,7.5177,2,25,-999,9,-999,9, 1.6203,2,27.7099,2, 1.7723,2
49UP20140609_2,   P10,38,1,16,89,2,20140710,2219,2332,24.2472,149.0163,5749,2431.1, 1.7063,34.6472,2,121.7,2,34.6477,2,122.44,2,149.81,2,37.94,2,0.00,2,2.68,2,0.001,2,0.006,2,2345.5,2,2414.5,2,7.5299,6,25,-999,9,-999,9, 1.5376,2,27.7243,2, 1.7062,2
49UP20140609_2,   P10,38,1,15,88,2,20140710,2219,2328,24.2472,149.0163,5749,2635.4, 1.6524,34.6553,2,127.2,2,34.6555,2,127.54,2,149.88,2,37.70,2,0.00,2,2.65,2, -999,9, -999,9,2341.9,6,2416.8,6,7.5399,2,25,-999,9,-999,9, 1.4664,2,27.7360,2, 1.6521,2
49UP20140609_2,   P10,38,1,14,999,2,20140710,2219,2323,24.2472,149.0163,5749,2839.2, 1.6091,34.6610,2,131.3,2,34.6613,6,131.96,2,149.70,2,37.37,2,0.00,2,2.63,2, -999,9, -999,9,2338.1,2,2417.0,2,7.5490,2,25,-999,9,-999,9, 1.4052,2,27.7450,2, 1.6091,2
49UP20140609_2,   P10,38,1,13,667,2,20140710,2219,2319,24.2472,149.0163,5749,3042.3, 1.5640,34.6664,2,135.5,2,34.6657,2,135.79,2,149.67,2,37.14,2,0.00,2,2.61,2,0.000,2,0.006,2,2336.0,2,2417.8,2,7.5530,2,25,-999,9,-999,9, 1.3418,2,27.7538,2, 1.5640,2
49UP20140609_2,   P10,38,1,12,74,2,20140710,2219,2313,24.2472,149.0163,5749,3298.5, 1.5270,34.6719,2,140.9,2,34.6719,2,140.84,6,148.93,6,36.85,6,0.00,6,2.58,6, -999,9, -999,9,2332.5,2,2418.3,2,7.5619,2,25,-999,9,-999,9, 1.2805,2,27.7626,2, 1.5269,2
49UP20140609_2,   P10,38,1,11,268,4,20140710,2219,2308,24.2472,149.0163,5749,3553.6, 1.5072,34.6769,2,145.4,2,   -999,9,-999.0,9,-999.0,9, -999,9,-999,9,-999,9, -999,9, -999,9,-999.0,9,-999.0,9,-999.0,9,-999,-999,9,-999,9, 1.2354,2,27.7697,2, 1.5072,2
49UP20140609_2,   P10,38,1,10,267,2,20140710,2219,2303,24.2472,149.0163,5749,3809.5, 1.4892,34.6805,2,150.0,2,34.6801,2,149.96,2,146.34,2,36.20,2,0.00,2,2.53,2,0.004,2,0.004,2,2326.9,2,2416.3,2,7.5732,2,25,-999,9,-999,9, 1.1911,2,27.7757,2, 1.4891,2
49UP20140609_2,   P10,38,1, 9,518,2,20140710,2219,2257,24.2472,149.0163,5749,4064.9, 1.4772,34.6836,2,154.4,2,34.6825,2,153.58,2,144.74,2,35.87,2,0.00,2,2.51,2, -999,9, -999,9,2340.0,3,2414.3,2,7.5795,2,25,-999,9,-999,9, 1.1519,2,27.7809,2, 1.4772,2
49UP20140609_2,   P10,38,1, 8,81,2,20140710,2219,2252,24.2472,149.0163,5749,4321.3, 1.4724,34.6865,2,158.5,2,34.6864,2,159.08,2,142.69,2,35.71,2,0.00,2,2.49,2, -999,9, -999,9,2322.0,2,2412.6,2,7.5860,2,25,-999,9,-999,9, 1.1187,2,27.7855,2, 1.4723,2
49UP20140609_2,   P10,38,1, 7,516,2,20140710,2219,2247,24.2472,149.0163,5749,4577.6, 1.4752,34.6889,2,162.0,2,34.6872,2,161.09,2,141.09,2,35.37,2,0.00,2,2.47,2,0.002,2,0.006,2,2328.2,3,2410.7,2,7.5929,2,25,-999,9,-999,9, 1.0920,2,27.7892,2, 1.4751,2
49UP20140609_2,   P10,38,1, 6,113,2,20140710,2219,2241,24.2472,149.0163,5749,4835.7, 1.4844,34.6907,2,165.1,2,34.6904,2,165.30,2,139.18,2,35.21,2,0.00,2,2.46,2, -999,9, -999,9,2319.1,2,2409.0,2,7.5948,6,25,-999,9,-999,9, 1.0705,2,27.7921,2, 1.4843,2
49UP20140609_2,   P10,38,1, 5,94,2,20140710,2219,2236,24.2472,149.0163,5749,5093.3, 1.4946,34.6926,2,168.2,2,34.6926,2,168.39,6,137.20,6,34.97,6,0.00,6,2.44,6, -999,9, -999,9,2310.7,6,2407.5,6,7.6016,2,25,-999,9,-999,9, 1.0491,2,27.7950,2, 1.4946,2
49UP20140609_2,   P10,38,1, 4,77,2,20140710,2219,2230,24.2472,149.0163,5749,5349.6, 1.5067,34.6943,2,171.2,2,34.6944,2,171.50,2,135.37,2,34.74,2,0.00,2,2.42,2,0.004,2,0.004,2,2302.5,2,2405.0,2,7.6051,2,25,-999,9,-999,9, 1.0289,2,27.7978,2, 1.5065,2
49UP20140609_2,   P10,38,1, 3,104,2,20140710,2219,2225,24.2472,149.0163,5749,5609.7, 1.5158,34.6961,2,174.5,2,34.6959,2,174.44,2,133.52,2,34.51,2,0.00,2,2.41,2, -999,9, -999,9,2303.5,2,2401.0,2,7.6119,2,25,-999,9,-999,9, 1.0045,2,27.8009,2, 1.5157,2
49UP20140609_2,   P10,38,1, 1,997,2,20140710,2219,2219,24.2472,149.0163,5749,5885.6, 1.5374,34.6971,2,176.3,2,34.6968,2,176.70,2,132.28,2,34.36,2,0.00,2,2.39,2,0.004,2,0.006,2,2303.2,2,2401.6,2,7.6117,2,25,-999,9,-999,9, 0.9892,2,27.8027,2, 1.5372,2
49UP20140609_2,   P10,39,1, 0,BUC,2,20140711,0622, 825,23.8395,149.3375,5798,   0.0,29.2657,34.9089,2,196.9,2,   -999,9,197.24,2,  1.19,2, 0.00,2,0.00,2,0.03,2, -999,9, -999,9,-999.0,9,-999.0,9,-999.0,9,-999,-999,9,-999,9,29.2652,2,21.9068,2,   -999,9
49UP20140609_2,   P10,39,1,36,109,2,20140711,0622, 841,23.8395,149.3375,5798,  11.8,29.1467,34.9080,2,196.7,2,34.9102,2,197.58,2,  1.19,2, 0.00,2,0.00,2,0.02,2, -999,9, -999,9,-999.0,9,-999.0,9,-999.0,9,-999,-999,9,-999,9,29.1438,2,21.9468,2,29.1427,2
49UP20140609_2,   P10,39,1,35,112,2,20140711,0622, 838,23.8395,149.3375,5798,  50.3,22.3953,35.0195,2,222.5,2,35.0216,2,223.26,6,  1.45,6, 0.00,6,0.00,6,0.02,6, -999,9, -999,9,-999.0,9,-999.0,9,-999.0,9,-999,-999,9,-999,9,22.3852,2,24.1241,2,22.3767,2
49UP20140609_2,   P10,39,1,34,83,2,20140711,0622, 835,23.8395,149.3375,5798, 102.9,19.5167,34.8466,2,219.5,2,34.8463,2,218.08,2,  1.97,2, 0.16,2,0.03,2,0.05,2, -999,9, -999,9,-999.0,9,-999.0,9,-999.0,9,-999,-999,9,-999,9,19.4980,2,24.7759,2,19.5791,2
49UP20140609_2,   P10,39,1,33,107,2,20140711,0622, 834,23.8395,149.3375,5798, 125.8,18.7774,34.8018,2,209.3,2,34.8000,2,208.66,2,  2.53,2, 2.10,2,0.03,2,0.16,3, -999,9, -999,9,-999.0,9,-999.0,9,-999.0,9,-999,-999,9,-999,9,18.7552,2,24.9318,2,18.7758,2
49UP20140609_2,   P10,39,1,32,105,2,20140711,0622, 832,23.8395,149.3375,5798, 150.3,18.2562,34.7698,2,213.2,2,34.7643,2,213.87,2,  2.75,2, 2.35,2,0.08,2,0.17,2, -999,9, -999,9,-999.0,9,-999.0,9,-999.0,9,-999,-999,9,-999,9,18.2302,2,25.0389,2,18.2405,2
49UP20140609_2,   P10,39,1,31,515,2,20140711,0622, 830,23.8395,149.3375,5798, 199.3,17.2879,34.7129,2,205.2,2,34.7095,2,205.03,2,  3.94,2, 4.76,2,0.01,2,0.32,2, -999,9, -999,9,-999.0,9,-999.0,9,-999.0,9,-999,-999,9,-999,9,17.2546,2,25.2332,2,17.2875,2
49UP20140609_2,   P10,39,1,30,97,2,20140711,0622, 829,23.8395,149.3375,5798, 252.2,16.6911,34.6788,2,206.6,2,34.6777,2,206.37,2,  4.93,2, 5.59,2,0.01,2,0.38,2, -999,9, -999,9,-999.0,9,-999.0,9,-999.0,9,-999,-999,9,-999,9,16.6500,2,25.3502,2,16.6920,2
49UP20140609_2,   P10,39,1,29,102,2,20140711,0622, 826,23.8395,149.3375,5798, 332.7,15.2843,34.5702,2,195.2,2,34.5670,2,194.86,2,  8.87,2, 8.83,2,0.00,2,0.61,2, -999,9, -999,9,-999.0,9,-999.0,9,-999.0,9,-999,-999,9,-999,9,15.2333,2,25.5892,2,15.2849,2
49UP20140609_2,   P10,39,1,28,108,2,20140711,0622, 824,23.8395,149.3375,5798, 432.6,12.1004,34.3454,2,187.7,2,34.3434,2,187.76,2, 18.22,2,14.56,2,0.00,2,1.03,2, -999,9, -999,9,-999.0,9,-999.0,9,-999.0,9,-999,-999,9,-999,9,12.0435,2,26.0724,2,12.1060,2
49UP20140609_2,   P10,39,1,27,998,2,20140711,0622, 821,23.8395,149.3375,5798, 534.3, 9.2570,34.1719,2,166.3,2,34.1710,2,165.69,2, 34.32,2,21.53,2,0.00,2,1.54,2, -999,9, -999,9,-999.0,9,-999.0,9,-999.0,9,-999,-999,9,-999,9, 9.1975,2,26.4380,2, 9.2566,2
49UP20140609_2,   P10,39,1,26,84,2,20140711,0622, 818,23.8395,149.3375,5798, 632.9, 6.6114,34.0697,2,126.8,2,34.0705,2,126.19,6, 58.16,6,29.93,6,0.00,6,2.16,6, -999,9, -999,9,-999.0,9,-999.0,9,-999.0,9,-999,-999,9,-999,9, 6.5530,2,26.7461,2, 6.6104,2
49UP20140609_2,   P10,39,1,25,98,2,20140711,0622, 816,23.8395,149.3375,5798, 735.0, 5.1239,34.1013,2, 86.1,2,34.1033,2, 84.91,2, 81.92,2,36.16,2,0.00,2,2.62,2, -999,9, -999,9,-999.0,9,-999.0,9,-999.0,9,-999,-999,9,-999,9, 5.0639,2,26.9554,2, 5.1242,2
49UP20140609_2,   P10,39,1,24,110,2,20140711,0622, 813,23.8395,149.3375,5798, 836.5, 4.3889,34.2053,2, 55.7,2,34.2065,2, 55.43,2,100.73,2,39.75,2,0.00,2,2.86,2, -999,9, -999,9,-999.0,9,-999.0,9,-999.0,9,-999,-999,9,-999,9, 4.3246,2,27.1199,2, 4.3877,2
49UP20140609_2,   P10,39,1,23,96,3,20140711,0622, 810,23.8395,149.3375,5798, 937.9, 4.0926,34.2935,2, 47.1,2,34.2943,2, 46.54,2,109.70,2,40.90,2,0.00,2,2.94,2, -999,9, -999,9,-999.0,9,-999.0,9,-999.0,9,-999,-999,9,-999,9, 4.0217,2,27.2219,2, 4.0925,2
49UP20140609_2,   P10,39,1,22,111,2,20140711,0622, 807,23.8395,149.3375,5798,1081.4, 3.5030,34.4015,2, 47.5,2,34.4020,2, 47.38,2,123.97,2,41.63,2,0.00,2,2.98,2, -999,9, -999,9,-999.0,9,-999.0,9,-999.0,9,-999,-999,9,-999,9, 3.4248,2,27.3675,2, 3.5029,2
49UP20140609_2,   P10,39,1,21,78,2,20140711,0622, 802,23.8395,149.3375,5798,1283.5, 2.9810,34.4788,2, 56.9,2,34.4783,6, 57.41,2,135.30,2,41.40,2,0.00,2,2.96,2, -999,9, -999,9,-999.0,9,-999.0,9,-999.0,9,-999,-999,9,-999,9, 2.8912,2,27.4789,2, 2.9804,2
49UP20140609_2,   P10,39,1,20,93,3,20140711,0622, 757,23.8395,149.3375,5798,1485.1, 2.5450,34.5288,2, 66.3,2,34.5286,2, 69.57,4,144.32,2,41.17,2,0.00,2,2.92,2, -999,9, -999,9,-999.0,9,-999.0,9,-999.0,9,-999,-999,9,-999,9, 2.4437,2,27.5579,2, 2.5447,2
49UP20140609_2,   P10,39,1,19,92,2,20140711,0622, 753,23.8395,149.3375,5798,1688.8, 2.2276,34.5722,2, 81.9,2,34.5718,2, 81.94,2,148.49,2,40.28,2,0.00,2,2.85,2, -999,9, -999,9,-999.0,9,-999.0,9,-999.0,9,-999,-999,9,-999,9, 2.1137,2,27.6198,2, 2.2279,2
49UP20140609_2,   P10,39,1,18,101,2,20140711,0622, 748,23.8395,149.3375,5798,1891.7, 2.0233,34.6032,2, 99.2,2,34.6037,2, 99.02,2,148.02,2,39.21,2,0.00,2,2.77,2, -999,9, -999,9,-999.0,9,-999.0,9,-999.0,9,-999,-999,9,-999,9, 1.8956,2,27.6620,2, 2.0233,2
49UP20140609_2,   P10,39,1,17,90,2,20140711,0622, 743,23.8395,149.3375,5798,2093.6, 1.8667,34.6243,2,109.5,2,34.6248,2,109.16,2,149.00,2,38.64,2,0.00,2,2.72,2, -999,9, -999,9,-999.0,9,-999.0,9,-999.0,9,-999,-999,9,-999,9, 1.7245,2,27.6920,2, 1.8667,2
49UP20140609_2,   P10,39,1,16,89,2,20140711,0622, 739,23.8395,149.3375,5798,2298.2, 1.7853,34.6373,2,116.2,2,34.6376,2,116.42,2,149.32,2,38.28,2,0.00,2,2.70,2, -999,9, -999,9,-999.0,9,-999.0,9,-999.0,9,-999,-999,9,-999,9, 1.6268,2,27.7098,2, 1.7853,2
49UP20140609_2,   P10,39,1,15,88,2,20140711,0622, 734,23.8395,149.3375,5798,2502.2, 1.6954,34.6479,2,122.1,2,34.6483,2,122.19,6,150.06,6,37.96,6,0.00,6,2.67,6, -999,9, -999,9,-999.0,9,-999.0,9,-999.0,9,-999,-999,9,-999,9, 1.5207,2,27.7261,2, 1.6953,2
49UP20140609_2,   P10,39,1,14,999,2,20140711,0622, 730,23.8395,149.3375,5798,2704.8, 1.6461,34.6575,2,128.3,2,34.6577,2,128.82,2,149.38,2,37.57,2,0.00,2,2.63,2, -999,9, -999,9,-999.0,9,-999.0,9,-999.0,9,-999,-999,9,-999,9, 1.4539,2,27.7386,2, 1.6461,2
49UP20140609_2,   P10,39,1,13,667,2,20140711,0622, 725,23.8395,149.3375,5798,2909.7, 1.5980,34.6637,2,133.1,2,34.6637,2,133.37,2,148.96,2,37.32,2,0.00,2,2.60,2, -999,9, -999,9,-999.0,9,-999.0,9,-999.0,9,-999,-999,9,-999,9, 1.3877,2,27.7484,2, 1.5980,2
49UP20140609_2,   P10,39,1,12,74,2,20140711,0622, 721,23.8395,149.3375,5798,3123.1, 1.5650,34.6684,2,137.1,2,34.6685,2,137.09,2,148.76,2,36.98,2,0.00,2,2.59,2, -999,9, -999,9,-999.0,9,-999.0,9,-999.0,9,-999,-999,9,-999,9, 1.3350,2,27.7559,2, 1.5649,2
49UP20140609_2,   P10,39,1,11,268,2,20140711,0622, 715,23.8395,149.3375,5798,3378.6, 1.5306,34.6732,2,141.8,2,34.6727,2,141.15,2,148.11,2,36.83,2,0.00,2,2.57,2, -999,9, -999,9,-999.0,9,-999.0,9,-999.0,9,-999,-999,9,-999,9, 1.2760,2,27.7639,2, 1.5305,2
49UP20140609_2,   P10,39,1,10,267,2,20140711,0622, 710,23.8395,149.3375,5798,3636.2, 1.5128,34.6768,2,145.6,2,34.6766,2,145.54,2,147.41,2,36.44,2,0.00,2,2.55,2, -999,9, -999,9,-999.0,9,-999.0,9,-999.0,9,-999,-999,9,-999,9, 1.2323,2,27.7699,2, 1.5128,2
49UP20140609_2,   P10,39,1, 9,518,2,20140711,0622, 705,23.8395,149.3375,5798,3890.4, 1.4946,34.6806,2,150.2,2,34.6786,4,149.34,2,146.12,2,36.21,2,0.00,2,2.52,2, -999,9, -999,9,-999.0,9,-999.0,9,-999.0,9,-999,-999,9,-999,9, 1.1877,2,27.7760,2, 1.4945,2
49UP20140609_2,   P10,39,1, 8,81,2,20140711,0622, 659,23.8395,149.3375,5798,4146.6, 1.4847,34.6839,2,154.7,2,34.6838,2,154.52,6,144.04,6,35.79,6,0.00,6,2.49,6, -999,9, -999,9,-999.0,9,-999.0,9,-999.0,9,-999,-999,9,-999,9, 1.1501,2,27.7813,2, 1.4846,2
49UP20140609_2,   P10,39,1, 7,516,2,20140711,0622, 654,23.8395,149.3375,5798,4402.5, 1.4808,34.6863,2,158.6,2,34.6862,6,158.49,2,142.66,2,35.59,2,0.00,2,2.48,2, -999,9, -999,9,-999.0,9,-999.0,9,-999.0,9,-999,-999,9,-999,9, 1.1176,2,27.7854,2, 1.4807,2
49UP20140609_2,   P10,39,1, 6,113,2,20140711,0622, 648,23.8395,149.3375,5798,4660.3, 1.4843,34.6888,2,162.0,2,34.6885,2,162.02,2,140.56,2,35.27,2,0.00,2,2.45,2, -999,9, -999,9,-999.0,9,-999.0,9,-999.0,9,-999,-999,9,-999,9, 1.0912,2,27.7891,2, 1.4843,2
49UP20140609_2,   P10,39,1, 5,94,2,20140711,0622, 643,23.8395,149.3375,5798,4916.9, 1.4918,34.6909,2,165.5,2,34.6910,6,165.20,2,138.72,2,35.08,2,0.00,2,2.44,2, -999,9, -999,9,-999.0,9,-999.0,9,-999.0,9,-999,-999,9,-999,9, 1.0679,2,27.7924,2, 1.4920,2
49UP20140609_2,   P10,39,1, 4,77,2,20140711,0622, 638,23.8395,149.3375,5798,5174.7, 1.5045,34.6928,2,168.3,2,34.6926,2,168.31,2,136.83,2,34.87,2,0.00,2,2.42,2, -999,9, -999,9,-999.0,9,-999.0,9,-999.0,9,-999,-999,9,-999,9, 1.0486,2,27.7953,2, 1.5046,2
49UP20140609_2,   P10,39,1, 3,104,2,20140711,0622, 632,23.8395,149.3375,5798,5432.7, 1.5188,34.6941,2,170.9,2,34.6944,6,171.21,2,134.85,2,34.64,2,0.00,2,2.41,2, -999,9, -999,9,-999.0,9,-999.0,9,-999.0,9,-999,-999,9,-999,9, 1.0301,2,27.7975,2, 1.5185,2
49UP20140609_2,   P10,39,1, 2,75,2,20140711,0622, 627,23.8395,149.3375,5798,5689.4, 1.5320,34.6957,2,173.7,2,34.6964,2,174.44,2,132.99,2,34.43,2,0.00,2,2.39,2, -999,9, -999,9,-999.0,9,-999.0,9,-999.0,9,-999,-999,9,-999,9, 1.0098,2,27.8001,2, 1.5320,2
49UP20140609_2,   P10,39,1, 1,997,2,20140711,0622, 622,23.8395,149.3375,5798,5950.3, 1.5500,34.6969,2,175.9,2,34.6970,2,176.19,2,132.07,2,34.30,2,0.00,2,2.38,2, -999,9, -999,9,-999.0,9,-999.0,9,-999.0,9,-999,-999,9,-999,9, 0.9927,2,27.8023,2, 1.5501,2