BOTTLE,20230725CCHSIOADS
EXPOCODE,SECT_ID,STNNBR,CASTNO,SAMPNO,BTLNBR,BTLNBR_FLAG_W,DATE,TIME,BTL_TIME,LATITUDE,LONGITUDE,DEPTH,CTDPRS,CTDTMP,CTDSAL,CTDSAL_FLAG_W,CTDOXY,CTDOXY_FLAG_W,SALNTY,SALNTY_FLAG_W,OXYGEN,OXYGEN_FLAG_W,SILCAT,SILCAT_FLAG_W,NO2+NO3,NO2+NO3_FLAG_W,NITRIT,NITRIT_FLAG_W,PHSPHT,PHSPHT_FLAG_W,CFC-11,CFC-11_FLAG_W,CFC-12,CFC-12_FLAG_W,TCARBN,TCARBN_FLAG_W,ALKALI,ALKALI_FLAG_W,PH_TOT,PH_TOT_FLAG_W,PH_TMP,CHLORA,CHLORA_FLAG_W,PPHYTN,PPHYTN_FLAG_W,THETA,THETA_FLAG_W,SIG0,SIG0_FLAG_W,REFTMP,REFTMP_FLAG_W
,,,,,,,,,,,,METERS,DBAR,ITS-90,PSS-78,,UMOL/KG,,PSS-78,,UMOL/KG,,UMOL/KG,,UMOL/KG,,UMOL/KG,,UMOL/KG,,PMOL/KG,,PMOL/KG,,UMOL/KG,,UMOL/KG,,,,DEG C,UG/KG,,UG/KG,,ITS-90,,KG/M^3,,ITS-90,
49UP20140609_4,   P10,107,1, 0,BUC,2,20140830,2346,  47,-2.0038,141.9930,3608,   0.0,29.6239,34.4034,2,195.9,2,34.4119,2,195.22,2,  1.02,2, 0.02,2,0.00,2,0.13,2, -999,9, -999,9,1926.3,2,2260.9,2,8.1223,2,25,0.10,2,0.05,2,29.6232,2,21.4069,2,   -999,9
49UP20140609_4,   P10,107,1,36,109,2,20140830,2346, 121,-2.0038,141.9930,3608,  10.5,29.5698,34.4026,2,196.1,2,34.4035,2,195.53,2,  1.01,2, 0.01,2,0.00,2,0.12,2,1.444,2,0.885,2,1926.9,2,2260.9,2,8.1202,2,25,0.12,2,0.06,2,29.5673,2,21.4252,2,29.5700,2
49UP20140609_4,   P10,107,1,35,112,2,20140830,2346, 119,-2.0038,141.9930,3608,  25.9,29.6077,34.4411,2,196.2,2,34.5015,4,196.40,2,  1.01,2, 0.02,2,0.00,2,0.13,2, -999,9, -999,9,1931.6,2,2265.8,2,8.1222,2,25,0.19,2,0.10,2,29.6013,2,21.4426,2,29.6070,2
49UP20140609_4,   P10,107,1,34,83,2,20140830,2346, 116,-2.0038,141.9930,3608,  50.8,29.3851,34.8142,2,197.6,2,34.8051,2,197.88,2,  0.88,2, 0.02,2,0.00,2,0.19,2,1.468,6,0.889,6,1951.0,2,2286.8,2,8.1186,2,25,0.38,2,0.20,2,29.3727,2,21.7996,2,29.3841,2
49UP20140609_4,   P10,107,1,33,469,2,20140830,2346, 115,-2.0038,141.9930,3608,  75.7,27.3068,34.6974,2,189.0,2,34.7104,4,188.34,2,  1.14,2, 0.91,2,0.44,2,0.21,2, -999,9, -999,9,1958.9,2,2278.2,2,8.0928,2,25,0.31,2,0.22,2,27.2893,2,22.3973,2,27.3069,2
49UP20140609_4,   P10,107,1,32,105,2,20140830,2346, 114,-2.0038,141.9930,3608, 101.1,25.7602,35.0455,2,172.9,2,35.1224,4,169.85,2,  1.60,2, 3.57,2,0.09,2,0.38,2,1.627,2,0.994,2,2008.4,2,2302.7,2,8.0342,2,25,0.08,2,0.15,2,25.7378,2,23.1491,2,25.7583,2
49UP20140609_4,   P10,107,1,31,515,2,20140830,2346, 112,-2.0038,141.9930,3608, 126.4,25.3345,35.5496,2,145.6,2,35.5544,2,145.38,2,  2.05,2, 7.02,2,0.03,2,0.63,2, -999,9, -999,9,2063.4,2,2330.7,2,7.9824,2,25,0.03,2,0.16,2,25.3068,2,23.6628,2,25.3325,2
49UP20140609_4,   P10,107,1,30,97,2,20140830,2346, 111,-2.0038,141.9930,3608, 151.8,22.8460,35.5432,2,137.9,2,35.5638,4,139.10,2,  3.01,2, 8.64,2,0.02,2,0.74,2,1.796,2,1.107,2,2091.2,2,2333.5,2,7.9388,6,25,0.02,2,0.05,2,22.8150,2,24.3990,2,22.8429,2
49UP20140609_4,   P10,107,1,29,102,2,20140830,2346, 109,-2.0038,141.9930,3608, 203.1,17.5818,35.3478,2,151.9,2,35.3418,2,152.01,2,  4.69,2,11.27,2,0.01,2,0.89,2,2.004,2,1.159,2,2115.9,6,2320.6,6,7.8716,2,25,0.01,2,0.02,2,17.5474,2,25.6495,2,17.5814,2
49UP20140609_4,   P10,107,1,28,108,2,20140830,2346, 106,-2.0038,141.9930,3608, 252.1,14.6831,35.1339,2,158.5,2,35.1292,2,158.05,2,  7.10,2,14.45,2,0.01,2,1.10,2,1.973,6,1.099,6,2132.5,2,2313.3,2,7.8177,2,25,-999,9,-999,9,14.6453,2,26.1526,2,14.6825,2
49UP20140609_4,   P10,107,1,27,998,2,20140830,2346, 103,-2.0038,141.9930,3608, 331.8,11.3315,34.8418,2,156.1,2,34.8381,2,155.72,2, 13.38,2,20.24,2,0.00,2,1.47,2,1.707,2,0.900,2,2158.5,2,2302.5,2,7.7369,2,25,-999,9,-999,9,11.2896,2,26.5995,2,11.3285,2
49UP20140609_4,   P10,107,1,26,84,2,20140830,2346, 102,-2.0038,141.9930,3608, 382.6,10.2429,34.7531,2,159.7,2,34.7532,2,158.83,2, 15.22,2,21.91,2,0.00,2,1.57,2,1.587,2,0.839,2,2164.6,2,2299.4,2,7.7188,2,25,-999,9,-999,9,10.1975,2,26.7252,2,10.2467,2
49UP20140609_4,   P10,107,1,25,98,2,20140830,2346, 100,-2.0038,141.9930,3608, 433.5, 9.6315,34.6994,2,139.5,2,34.6984,2,140.77,6, 19.73,6,24.97,6,0.00,6,1.77,6,1.326,6,0.689,6,2181.0,2,2299.8,2,7.6716,2,25,-999,9,-999,9, 9.5819,2,26.7877,2, 9.6305,2
49UP20140609_4,   P10,107,1,24,110,2,20140830,2346,  59,-2.0038,141.9930,3608, 483.1, 8.8175,34.6413,2,163.3,2,34.6403,2,163.76,2, 19.38,2,24.46,2,0.00,2,1.73,2,1.404,2,0.723,2,2176.0,2,2298.0,2,7.6865,2,25,-999,9,-999,9, 8.7651,2,26.8746,2, 8.8180,2
49UP20140609_4,   P10,107,1,22,111,2,20140830,2346,  57,-2.0038,141.9930,3608, 532.7, 8.0226,34.5942,2,141.6,2,34.5944,2,141.27,2, 26.89,2,28.28,2,0.00,2,1.99,2,0.925,2,0.476,2,2197.8,2,2301.7,2,7.6267,2,25,-999,9,-999,9, 7.9677,2,26.9599,2, 8.0215,2
49UP20140609_4,   P10,107,1,23,96,2,20140830,2346,  57,-2.0038,141.9930,3608, 532.8, 8.0217,34.5944,2,141.6,2,34.5941,2,141.32,2, 26.92,2,28.30,2,0.00,2,1.99,2,0.969,2,0.495,2,2199.1,2,2301.1,2,7.6343,2,25,-999,9,-999,9, 7.9669,2,26.9603,2, 8.0208,2
49UP20140609_4,   P10,107,1,21,78,2,20140830,2346,  55,-2.0038,141.9930,3608, 633.5, 6.5458,34.5160,2,148.1,2,34.5165,6,148.16,2, 35.77,2,30.52,2,0.00,2,2.15,2,0.632,2,0.328,2,2211.5,2,2306.0,2,7.6169,2,25,-999,9,-999,9, 6.4873,2,27.1069,2, 6.5449,2
49UP20140609_4,   P10,107,1,20,93,2,20140830,2346,  52,-2.0038,141.9930,3608, 735.0, 5.9449,34.5219,2,124.2,2,34.5215,2,124.63,2, 48.91,2,33.85,2,0.00,2,2.39,2,0.332,2,0.172,2,2239.3,2,2318.4,2,7.5697,6,25,-999,9,-999,9, 5.8797,2,27.1900,2, 5.9446,2
49UP20140609_4,   P10,107,1,19,92,2,20140830,2346,  49,-2.0038,141.9930,3608, 836.2, 5.5124,34.5159,2,127.9,2,34.5173,2,127.68,2, 54.35,2,34.00,2,0.00,2,2.42,2,0.270,2,0.146,2,2245.2,6,2324.3,6,7.5701,2,25,-999,9,-999,9, 5.4405,2,27.2395,2, 5.5121,2
49UP20140609_4,   P10,107,1,18,101,2,20140830,2346,  46,-2.0038,141.9930,3608, 939.1, 4.8562,34.5329,2,114.2,2,34.5327,2,113.83,2, 70.34,2,36.13,2,0.00,2,2.56,2,0.122,2,0.070,2,2268.6,2,2340.1,2,7.5454,2,25,-999,9,-999,9, 4.7793,2,27.3301,2, 4.8546,2
49UP20140609_4,   P10,107,1,17,90,2,20140830,2346,  43,-2.0038,141.9930,3608,1077.8, 4.3444,34.5458,2,112.0,2,34.5473,2,111.94,2, 81.89,2,36.77,2,0.00,2,2.62,2,0.067,2,0.044,2,2282.9,2,2352.8,2,7.5392,2,25,-999,9,-999,9, 4.2593,2,27.3975,2, 4.3439,2
49UP20140609_4,   P10,107,1,16,89,3,20140830,2346,  37,-2.0038,141.9930,3608,1283.4, 3.6898,34.5733,2,101.7,2,34.5734,6,101.71,2, 99.88,2,38.20,2,0.00,2,2.73,2,0.018,2,0.010,2,2308.2,2,2372.9,2,7.5158,2,25,-999,9,-999,9, 3.5928,2,27.4880,2, 3.6899,2
49UP20140609_4,   P10,107,1,14,999,2,20140830,2346,  32,-2.0038,141.9930,3608,1483.1, 3.2280,34.5907,2,107.0,2,34.5906,2,107.44,2,110.58,2,38.16,2,0.00,2,2.72,2,0.007,2,0.005,2,2319.7,2,2383.2,2,7.5233,2,25,-999,9,-999,9, 3.1189,2,27.5474,2, 3.2309,2
49UP20140609_4,   P10,107,1,12,74,2,20140830,2346,  28,-2.0038,141.9930,3608,1686.0, 2.6343,34.6164,2,112.1,2,34.6165,2,112.14,2,124.10,2,38.20,2,0.00,2,2.71,2,0.002,2,0.003,2,2331.2,2,2398.5,2,7.5309,2,25,-999,9,-999,9, 2.5153,2,27.6219,2, 2.6343,2
49UP20140609_4,   P10,107,1,13,667,2,20140830,2346,  28,-2.0038,141.9930,3608,1687.8, 2.6329,34.6165,2,112.1,2,34.6166,2,112.14,2,123.69,2,38.13,2,0.00,2,2.71,2,0.004,2,0.005,2,2329.6,2,2397.4,2,7.5304,2,25,-999,9,-999,9, 2.5138,2,27.6221,2, 2.6328,2
49UP20140609_4,   P10,107,1,11,268,2,20140830,2346,  24,-2.0038,141.9930,3608,1889.6, 2.4203,34.6268,2,115.4,2,34.6269,2,115.16,2,129.15,6,38.06,6,0.00,6,2.69,6,0.001,2,0.000,2,2331.4,2,2402.6,2,7.5380,2,25,-999,9,-999,9, 2.2870,2,27.6495,2, 2.4203,2
49UP20140609_4,   P10,107,1,10,267,3,20140830,2346,  19,-2.0038,141.9930,3608,2091.9, 2.2160,34.6369,2,119.4,2,34.6369,6,119.50,2,133.86,2,37.77,2,0.00,2,2.68,2, -999,9, -999,9,2333.7,2,2407.3,2,7.5421,2,25,-999,9,-999,9, 2.0684,2,27.6753,2, 2.2157,2
49UP20140609_4,   P10,107,1, 9,518,2,20140830,2346,  15,-2.0038,141.9930,3608,2295.1, 2.0144,34.6470,2,124.9,2,34.6470,2,124.97,2,137.63,2,37.68,2,0.00,2,2.65,2,0.000,2,0.000,2,2334.7,2,2411.1,2,7.5494,2,25,-999,9,-999,9, 1.8522,2,27.7004,2, 2.0144,2
49UP20140609_4,   P10,107,1, 8,81,2,20140830,2346,  11,-2.0038,141.9930,3608,2498.8, 1.8339,34.6568,2,131.1,2,34.6567,2,131.15,2,140.31,2,37.14,2,0.00,2,2.61,2,0.000,2,0.002,2,2334.5,2,2415.3,2,7.5593,6,25,-999,9,-999,9, 1.6568,2,27.7232,2, 1.8338,2
49UP20140609_4,   P10,107,1, 7,516,2,20140830,2346,   6,-2.0038,141.9930,3608,2702.2, 1.7112,34.6640,2,136.3,2,34.6632,2,136.30,2,141.57,2,36.90,2,0.00,2,2.59,2, -999,9, -999,9,2334.2,6,2417.7,6,7.5701,2,25,-999,9,-999,9, 1.5179,2,27.7392,2, 1.7114,2
49UP20140609_4,   P10,107,1, 6,113,2,20140830,2346,   2,-2.0038,141.9930,3608,2906.6, 1.6350,34.6696,2,139.7,2,34.6697,2,140.15,2,142.36,2,36.55,2,0.00,2,2.56,2, -999,9, -999,9,2336.4,2,2420.7,2,7.5734,2,25,-999,9,-999,9, 1.4242,2,27.7505,2, 1.6348,2
49UP20140609_4,   P10,107,1, 5,94,2,20140830,2346,2358,-2.0038,141.9930,3608,3121.1, 1.6101,34.6722,2,141.7,2,34.6721,2,141.53,2,142.45,2,36.47,2,0.00,2,2.55,2,0.000,2,0.000,2,2337.3,2,2420.5,2,7.5786,2,25,-999,9,-999,9, 1.3792,2,27.7558,2, 1.6101,2
49UP20140609_4,   P10,107,1, 4,77,2,20140830,2346,2352,-2.0038,141.9930,3608,3375.3, 1.5950,34.6742,2,143.8,2,34.6746,6,144.20,6,142.64,6,36.29,2,0.00,6,2.54,6,0.004,2,0.005,2,2333.4,2,2421.3,2,7.5796,2,25,-999,9,-999,9, 1.3392,2,27.7602,2, 1.5948,2
49UP20140609_4,   P10,107,1, 3,104,2,20140830,2346,2347,-2.0038,141.9930,3608,3639.0, 1.5840,34.6763,2,146.0,2,34.6766,2,146.01,2,142.90,2,36.21,2,0.00,2,2.54,2, -999,9, -999,9,2334.7,2,2422.2,2,7.5831,2,25,-999,9,-999,9, 1.3014,2,27.7647,2, 1.5840,2
49UP20140609_4,   P10,107,1, 2,75,2,20140830,2346,2347,-2.0038,141.9930,3608,3639.8, 1.5831,34.6766,2,145.9,2,34.6773,2,145.96,2,142.85,2,36.22,2,0.00,2,2.54,2,0.005,2,0.005,2,2332.2,2,2423.2,2,7.5838,2,25,-999,9,-999,9, 1.3004,2,27.7649,2, 1.5832,2
49UP20140609_4,   P10,109,1, 0,BUC,2,20140831,0957,1138,-2.1690,141.4777,4163,   0.0,29.5514,34.4454,2,196.0,2,   -999,9,195.70,2,  1.01,2, 0.03,2,0.00,2,0.13,2, -999,9, -999,9,-999.0,9,-999.0,9,-999.0,9,-999,-999,9,-999,9,29.5508,2,21.4628,2,   -999,9
49UP20140609_4,   P10,109,1,36,109,2,20140831,0957,1154,-2.1690,141.4777,4163,  10.3,29.5562,34.4451,2,195.8,2,34.4424,2,195.72,2,  1.04,2, 0.00,2,0.00,2,0.13,2, -999,9, -999,9,-999.0,9,-999.0,9,-999.0,9,-999,-999,9,-999,9,29.5537,2,21.4617,2,29.5596,2
49UP20140609_4,   P10,109,1,35,112,2,20140831,0957,1153,-2.1690,141.4777,4163,  25.3,29.5154,34.4416,2,196.2,2,34.4389,2,196.41,2,  1.08,2, 0.01,2,0.00,2,0.13,2, -999,9, -999,9,-999.0,9,-999.0,9,-999.0,9,-999,-999,9,-999,9,29.5093,2,21.4741,2,29.5151,2
49UP20140609_4,   P10,109,1,34,83,2,20140831,0957,1150,-2.1690,141.4777,4163,  50.1,29.5184,34.8474,2,198.2,2,34.8678,4,198.53,6,  0.91,6, 0.02,6,0.00,6,0.20,6, -999,9, -999,9,-999.0,9,-999.0,9,-999.0,9,-999,-999,9,-999,9,29.5061,2,21.7795,2,29.5177,2
49UP20140609_4,   P10,109,1,33,469,2,20140831,0957,1149,-2.1690,141.4777,4163,  74.9,27.5075,34.7071,2,190.2,2,34.7102,2,190.60,2,  1.00,2, 0.60,2,0.33,2,0.18,2, -999,9, -999,9,-999.0,9,-999.0,9,-999.0,9,-999,-999,9,-999,9,27.4901,2,22.3399,2,27.5091,2
49UP20140609_4,   P10,109,1,32,105,2,20140831,0957,1148,-2.1690,141.4777,4163, 100.8,26.6262,34.8661,2,183.6,2,34.9700,4,177.64,2,  1.35,2, 2.49,2,0.24,2,0.30,2, -999,9, -999,9,-999.0,9,-999.0,9,-999.0,9,-999,-999,9,-999,9,26.6033,2,22.7429,2,26.6367,2
49UP20140609_4,   P10,109,1,31,515,2,20140831,0957,1146,-2.1690,141.4777,4163, 125.8,24.9086,35.4641,2,151.6,2,35.4373,4,155.19,2,  1.77,2, 5.51,2,0.04,2,0.50,2, -999,9, -999,9,-999.0,9,-999.0,9,-999.0,9,-999,-999,9,-999,9,24.8813,2,23.7281,2,24.9063,2
49UP20140609_4,   P10,109,1,30,97,2,20140831,0957,1145,-2.1690,141.4777,4163, 150.2,23.4186,35.4549,2,156.1,2,35.5139,4,151.27,2,  2.01,2, 6.47,2,0.03,2,0.57,2, -999,9, -999,9,-999.0,9,-999.0,9,-999.0,9,-999,-999,9,-999,9,23.3875,2,24.1662,2,23.4156,2
49UP20140609_4,   P10,109,1,29,102,2,20140831,0957,1143,-2.1690,141.4777,4163, 201.0,18.1144,35.4012,2,148.8,2,35.3959,2,149.63,2,  4.26,2,10.81,2,0.01,2,0.86,2, -999,9, -999,9,-999.0,9,-999.0,9,-999.0,9,-999,-999,9,-999,9,18.0797,2,25.5596,2,18.1137,2
49UP20140609_4,   P10,109,1,28,108,2,20140831,0957,1141,-2.1690,141.4777,4163, 251.5,15.4439,35.1924,2,156.6,2,35.1947,2,157.33,2,  6.20,2,13.39,2,0.01,2,1.02,2, -999,9, -999,9,-999.0,9,-999.0,9,-999.0,9,-999,-999,9,-999,9,15.4049,2,26.0305,2,15.2996,2
49UP20140609_4,   P10,109,1,27,998,2,20140831,0957,1140,-2.1690,141.4777,4163, 281.6,13.2378,35.0152,2,160.0,2,35.0118,2,160.33,2,  8.74,2,16.40,2,0.00,2,1.21,2, -999,9, -999,9,-999.0,9,-999.0,9,-999.0,9,-999,-999,9,-999,9,13.1984,2,26.3646,2,13.2521,2
49UP20140609_4,   P10,109,1,26,84,2,20140831,0957,1139,-2.1690,141.4777,4163, 322.8,11.4350,34.8548,2,164.2,2,34.8533,2,164.11,2, 11.57,2,19.18,2,0.00,2,1.39,2, -999,9, -999,9,-999.0,9,-999.0,9,-999.0,9,-999,-999,9,-999,9,11.3940,2,26.5903,2,11.4144,2
49UP20140609_4,   P10,109,1,25,98,2,20140831,0957,1137,-2.1690,141.4777,4163, 373.3,10.5007,34.7685,2,147.0,2,34.7734,2,148.56,2, 16.16,2,22.41,2,0.00,2,1.60,2, -999,9, -999,9,-999.0,9,-999.0,9,-999.0,9,-999,-999,9,-999,9,10.4557,2,26.6922,2,10.5099,2
49UP20140609_4,   P10,109,1,24,110,2,20140831,0957,1136,-2.1690,141.4777,4163, 424.9, 9.8132,34.7197,2,166.9,2,34.7222,2,167.10,2, 15.28,2,21.97,2,0.00,2,1.56,2, -999,9, -999,9,-999.0,9,-999.0,9,-999.0,9,-999,-999,9,-999,9, 9.7641,2,26.7731,2, 9.8124,2
49UP20140609_4,   P10,109,1,23,96,2,20140831,0957,1134,-2.1690,141.4777,4163, 475.2, 8.7770,34.6391,2,159.4,2,34.6423,2,159.81,2, 19.81,2,24.85,2,0.00,2,1.74,2, -999,9, -999,9,-999.0,9,-999.0,9,-999.0,9,-999,-999,9,-999,9, 8.7256,2,26.8791,2, 8.7769,2
49UP20140609_4,   P10,109,1,22,111,2,20140831,0957,1131,-2.1690,141.4777,4163, 573.4, 7.3569,34.5604,2,137.5,2,34.5604,2,137.91,2, 31.74,2,29.95,2,0.00,2,2.09,2, -999,9, -999,9,-999.0,9,-999.0,9,-999.0,9,-999,-999,9,-999,9, 7.3006,2,27.0304,2, 7.3563,2
49UP20140609_4,   P10,109,1,21,78,2,20140831,0957,1129,-2.1690,141.4777,4163, 673.9, 6.2849,34.5063,2,149.5,2,34.5068,2,149.03,2, 38.10,2,31.03,2,0.00,2,2.17,2, -999,9, -999,9,-999.0,9,-999.0,9,-999.0,9,-999,-999,9,-999,9, 6.2237,2,27.1339,2, 6.2849,2
49UP20140609_4,   P10,109,1,20,93,2,20140831,0957,1126,-2.1690,141.4777,4163, 779.1, 5.7856,34.5255,2,117.2,2,34.5247,2,117.94,2, 52.69,2,34.72,2,0.00,2,2.44,2, -999,9, -999,9,-999.0,9,-999.0,9,-999.0,9,-999,-999,9,-999,9, 5.7173,2,27.2132,2, 5.7852,2
49UP20140609_4,   P10,109,1,19,92,2,20140831,0957,1123,-2.1690,141.4777,4163, 876.1, 4.9483,34.5121,2,134.4,2,34.5126,6,134.22,2, 61.15,2,34.28,2,0.00,2,2.41,2, -999,9, -999,9,-999.0,9,-999.0,9,-999.0,9,-999,-999,9,-999,9, 4.8764,2,27.3026,2, 4.9479,2
49UP20140609_4,   P10,109,1,18,101,2,20140831,0957,1121,-2.1690,141.4777,4163, 980.2, 4.6682,34.5369,2,113.2,2,34.5381,2,112.77,2, 74.32,2,36.43,2,0.00,2,2.58,2, -999,9, -999,9,-999.0,9,-999.0,9,-999.0,9,-999,-999,9,-999,9, 4.5891,2,27.3546,2, 4.6701,2
49UP20140609_4,   P10,109,1,17,90,2,20140831,0957,1117,-2.1690,141.4777,4163,1139.9, 4.1632,34.5530,2,110.0,2,34.5525,2,110.02,2, 86.74,2,37.14,2,0.00,2,2.63,2, -999,9, -999,9,-999.0,9,-999.0,9,-999.0,9,-999,-999,9,-999,9, 4.0742,2,27.4228,2, 4.1626,2
49UP20140609_4,   P10,109,1,16,89,3,20140831,0957,1108,-2.1690,141.4777,4163,1344.0, 3.4213,34.5830,2,106.1,2,34.5826,6,106.16,6,105.65,6,38.01,6,0.00,6,2.70,6, -999,9, -999,9,-999.0,9,-999.0,9,-999.0,9,-999,-999,9,-999,9, 3.3219,2,27.5220,2, 3.4183,2
49UP20140609_4,   P10,109,1,15,88,2,20140831,0957,1104,-2.1690,141.4777,4163,1546.1, 2.9532,34.6023,2,108.3,2,34.6025,2,108.46,2,116.66,2,38.25,2,0.00,2,2.71,2, -999,9, -999,9,-999.0,9,-999.0,9,-999.0,9,-999,-999,9,-999,9, 2.8420,2,27.5820,2, 2.9530,2
49UP20140609_4,   P10,109,1,14,999,2,20140831,0957,1059,-2.1690,141.4777,4163,1748.0, 2.6018,34.6181,2,112.6,2,34.6178,6,112.53,2,124.85,2,38.16,2,0.00,2,2.70,2, -999,9, -999,9,-999.0,9,-999.0,9,-999.0,9,-999,-999,9,-999,9, 2.4780,2,27.6265,2, 2.6020,2
49UP20140609_4,   P10,109,1,13,667,3,20140831,0957,1054,-2.1690,141.4777,4163,1952.0, 2.3288,34.6315,2,117.0,2,34.6313,2,117.12,2,131.26,2,37.96,2,0.00,2,2.67,2, -999,9, -999,9,-999.0,9,-999.0,9,-999.0,9,-999,-999,9,-999,9, 2.1915,2,27.6610,2, 2.3286,2
49UP20140609_4,   P10,109,1,11,268,2,20140831,0957,1050,-2.1690,141.4777,4163,2154.2, 2.1138,34.6420,2,121.8,2,34.6407,2,121.69,2,135.80,2,37.80,2,0.00,2,2.65,2, -999,9, -999,9,-999.0,9,-999.0,9,-999.0,9,-999,-999,9,-999,9, 1.9624,2,27.6878,2, 2.1136,2
49UP20140609_4,   P10,109,1,12,74,2,20140831,0957,1050,-2.1690,141.4777,4163,2154.7, 2.1130,34.6421,2,121.9,2,34.6417,2,121.81,2,135.82,2,37.70,2,0.00,2,2.65,2, -999,9, -999,9,-999.0,9,-999.0,9,-999.0,9,-999,-999,9,-999,9, 1.9615,2,27.6879,2, 2.1125,2
49UP20140609_4,   P10,109,1,10,267,2,20140831,0957,1045,-2.1690,141.4777,4163,2357.4, 1.9483,34.6505,2,126.9,2,34.6507,2,126.92,2,138.60,2,37.46,2,0.00,2,2.62,2, -999,9, -999,9,-999.0,9,-999.0,9,-999.0,9,-999,-999,9,-999,9, 1.7818,2,27.7087,2, 1.9482,2
49UP20140609_4,   P10,109,1, 9,518,2,20140831,0957,1037,-2.1690,141.4777,4163,2561.0, 1.8090,34.6587,2,132.1,2,34.6583,2,131.86,2,140.76,2,37.14,2,0.00,2,2.60,2, -999,9, -999,9,-999.0,9,-999.0,9,-999.0,9,-999,-999,9,-999,9, 1.6268,2,27.7269,2, 1.8089,2
49UP20140609_4,   P10,109,1, 8,81,2,20140831,0957,1032,-2.1690,141.4777,4163,2764.7, 1.6834,34.6655,2,137.7,2,34.6655,2,137.45,2,142.07,2,36.88,2,0.00,2,2.57,2, -999,9, -999,9,-999.0,9,-999.0,9,-999.0,9,-999,-999,9,-999,9, 1.4849,2,27.7429,2, 1.6833,2
49UP20140609_4,   P10,109,1, 7,516,2,20140831,0957,1027,-2.1690,141.4777,4163,2968.6, 1.6289,34.6702,2,140.6,2,34.6700,2,140.29,2,142.53,2,36.57,2,0.00,2,2.55,2, -999,9, -999,9,-999.0,9,-999.0,9,-999.0,9,-999,-999,9,-999,9, 1.4123,2,27.7518,2, 1.6289,2
49UP20140609_4,   P10,109,1, 6,113,2,20140831,0957,1021,-2.1690,141.4777,4163,3214.2, 1.5881,34.6736,2,143.7,2,34.6739,2,143.58,2,142.73,6,36.45,6,0.00,6,2.54,6, -999,9, -999,9,-999.0,9,-999.0,9,-999.0,9,-999,-999,9,-999,9, 1.3485,2,27.7591,2, 1.5879,2
49UP20140609_4,   P10,109,1, 5,94,2,20140831,0957,1015,-2.1690,141.4777,4163,3468.7, 1.5909,34.6750,2,144.8,2,34.6754,2,144.65,2,142.77,2,36.41,2,0.00,2,2.53,2, -999,9, -999,9,-999.0,9,-999.0,9,-999.0,9,-999,-999,9,-999,9, 1.3258,2,27.7619,2, 1.5909,2
49UP20140609_4,   P10,109,1, 4,77,2,20140831,0957,1009,-2.1690,141.4777,4163,3725.0, 1.5947,34.6763,2,146.1,2,34.6768,2,145.99,2,142.78,2,36.26,2,0.00,2,2.52,2, -999,9, -999,9,-999.0,9,-999.0,9,-999.0,9,-999,-999,9,-999,9, 1.3028,2,27.7645,2, 1.5946,2
49UP20140609_4,   P10,109,1, 3,104,2,20140831,0957,1003,-2.1690,141.4777,4163,3980.5, 1.6174,34.6768,2,146.2,2,34.6767,6,146.21,6,142.81,6,36.29,6,0.00,6,2.52,6, -999,9, -999,9,-999.0,9,-999.0,9,-999.0,9,-999,-999,9,-999,9, 1.2974,2,27.7653,2, 1.6171,2
49UP20140609_4,   P10,109,1, 1,997,2,20140831,0957, 958,-2.1690,141.4777,4163,4210.2, 1.6386,34.6773,2,146.0,2,34.6779,2,146.29,2,142.80,2,36.24,2,0.00,2,2.52,2, -999,9, -999,9,-999.0,9,-999.0,9,-999.0,9,-999,-999,9,-999,9, 1.2925,2,27.7661,2, 1.6386,2
49UP20140609_4,   P10,109,1, 2,75,2,20140831,0957, 958,-2.1690,141.4777,4163,4210.6, 1.6387,34.6773,2,146.1,2,34.6772,2,145.96,2,142.79,2,36.26,2,0.00,2,2.52,2, -999,9, -999,9,-999.0,9,-999.0,9,-999.0,9,-999,-999,9,-999,9, 1.2925,2,27.7661,2, 1.6386,2