BOTTLE,20230725CCHSIOADS
EXPOCODE,SECT_ID,STNNBR,CASTNO,SAMPNO,BTLNBR,BTLNBR_FLAG_W,DATE,TIME,BTL_TIME,LATITUDE,LONGITUDE,DEPTH,CTDPRS,CTDTMP,CTDSAL,CTDSAL_FLAG_W,CTDOXY,CTDOXY_FLAG_W,SALNTY,SALNTY_FLAG_W,OXYGEN,OXYGEN_FLAG_W,SILCAT,SILCAT_FLAG_W,NO2+NO3,NO2+NO3_FLAG_W,NITRIT,NITRIT_FLAG_W,PHSPHT,PHSPHT_FLAG_W,CFC-11,CFC-11_FLAG_W,CFC-12,CFC-12_FLAG_W,TCARBN,TCARBN_FLAG_W,ALKALI,ALKALI_FLAG_W,PH_TOT,PH_TOT_FLAG_W,PH_TMP,CHLORA,CHLORA_FLAG_W,PPHYTN,PPHYTN_FLAG_W,THETA,THETA_FLAG_W,SIG0,SIG0_FLAG_W,REFTMP,REFTMP_FLAG_W
,,,,,,,,,,,,METERS,DBAR,ITS-90,PSS-78,,UMOL/KG,,PSS-78,,UMOL/KG,,UMOL/KG,,UMOL/KG,,UMOL/KG,,UMOL/KG,,PMOL/KG,,PMOL/KG,,UMOL/KG,,UMOL/KG,,,,DEG C,UG/KG,,UG/KG,,ITS-90,,KG/M^3,,ITS-90,
49UP20140609_2,   P10,24,1, 0,BUC,2,20140706,1046,1245,32.8170,149.3305,5948,   0.0,21.5527,34.4743,2,224.4,2,   -999,9,224.25,2,  1.83,2, 0.03,2,0.00,2,0.03,2, -999,9, -999,9,-999.0,9,-999.0,9,-999.0,9,-999,-999,9,-999,9,21.5522,2,23.9428,2,   -999,9
49UP20140609_2,   P10,24,1,36,109,2,20140706,1046,1314,32.8170,149.3305,5948,  11.0,21.3962,34.4849,2,224.6,2,34.4830,2,224.55,2,  1.84,2, 0.03,2,0.00,2,0.02,2, -999,9, -999,9,-999.0,9,-999.0,9,-999.0,9,-999,-999,9,-999,9,21.3941,2,23.9943,2,21.3973,2
49UP20140609_2,   P10,24,1,35,112,2,20140706,1046,1311,32.8170,149.3305,5948,  48.7,19.1518,34.7467,2,227.1,2,34.7453,2,227.12,2,  2.29,2, 0.42,2,0.25,2,0.07,2, -999,9, -999,9,-999.0,9,-999.0,9,-999.0,9,-999,-999,9,-999,9,19.1431,2,24.7910,2,19.1534,2
49UP20140609_2,   P10,24,1,34,83,2,20140706,1046,1308,32.8170,149.3305,5948, 106.4,17.7412,34.7413,2,220.7,2,34.7388,2,221.08,2,  3.07,2, 2.45,2,0.03,2,0.18,2, -999,9, -999,9,-999.0,9,-999.0,9,-999.0,9,-999,-999,9,-999,9,17.7231,2,25.1417,2,17.7407,2
49UP20140609_2,   P10,24,1,33,107,2,20140706,1046,1306,32.8170,149.3305,5948, 152.9,17.2547,34.7409,2,224.5,2,34.7408,4,224.68,2,  3.27,2, 2.88,2,0.01,2,0.21,2, -999,9, -999,9,-999.0,9,-999.0,9,-999.0,9,-999,-999,9,-999,9,17.2293,2,25.2607,2,17.2574,2
49UP20140609_2,   P10,24,1,32,105,2,20140706,1046,1304,32.8170,149.3305,5948, 204.2,17.0533,34.7297,2,225.4,2,34.7293,2,225.43,2,  3.44,2, 3.13,2,0.01,2,0.22,2, -999,9, -999,9,-999.0,9,-999.0,9,-999.0,9,-999,-999,9,-999,9,17.0196,2,25.3021,2,17.0528,2
49UP20140609_2,   P10,24,1,31,515,2,20140706,1046,1302,32.8170,149.3305,5948, 252.9,16.9145,34.7223,2,223.3,2,34.7226,4,223.39,2,  3.82,2, 3.57,2,0.01,2,0.24,2, -999,9, -999,9,-999.0,9,-999.0,9,-999.0,9,-999,-999,9,-999,9,16.8730,2,25.3312,2,16.9150,2
49UP20140609_2,   P10,24,1,30,97,2,20140706,1046,1300,32.8170,149.3305,5948, 334.1,16.7255,34.7106,2,223.5,2,34.7121,2,223.73,6,  4.16,6, 3.91,6,0.01,6,0.27,6, -999,9, -999,9,-999.0,9,-999.0,9,-999.0,9,-999,-999,9,-999,9,16.6709,2,25.3698,2,16.7264,2
49UP20140609_2,   P10,24,1,29,102,2,20140706,1046,1257,32.8170,149.3305,5948, 436.4,15.1140,34.5663,2,189.5,2,34.5664,2,189.13,2, 11.21,2, 9.79,2,0.01,2,0.68,2, -999,9, -999,9,-999.0,9,-999.0,9,-999.0,9,-999,-999,9,-999,9,15.0473,2,25.6272,2,15.1155,2
49UP20140609_2,   P10,24,1,28,108,2,20140706,1046,1254,32.8170,149.3305,5948, 536.9,12.3487,34.3769,2,182.1,2,34.3773,2,182.04,2, 20.04,2,14.78,2,0.00,2,1.05,2, -999,9, -999,9,-999.0,9,-999.0,9,-999.0,9,-999,-999,9,-999,9,12.2768,2,26.0521,2,12.3482,2
49UP20140609_2,   P10,24,1,27,998,2,20140706,1046,1251,32.8170,149.3305,5948, 638.9, 9.1672,34.1361,2,178.9,2,34.1379,2,178.26,2, 34.46,2,20.21,2,0.00,2,1.48,2, -999,9, -999,9,-999.0,9,-999.0,9,-999.0,9,-999,-999,9,-999,9, 9.0961,2,26.4263,2, 9.1667,2
49UP20140609_2,   P10,24,1,26,84,2,20140706,1046,1248,32.8170,149.3305,5948, 738.6, 6.5101,34.0468,2,141.1,2,34.0472,2,-999.0,5, 59.38,2,28.70,2,0.00,2,2.11,2, -999,9, -999,9,-999.0,9,-999.0,9,-999.0,9,-999,-999,9,-999,9, 6.4421,2,26.7427,2, 6.5118,2
49UP20140609_2,   P10,24,1,25,98,2,20140706,1046,1245,32.8170,149.3305,5948, 839.0, 5.0077,34.0668,2,101.1,2,34.0685,6,102.16,4, 81.11,2,34.73,2,0.00,2,2.53,2, -999,9, -999,9,-999.0,9,-999.0,9,-999.0,9,-999,-999,9,-999,9, 4.9393,2,26.9423,2, 5.0078,2
49UP20140609_2,   P10,24,1,24,110,2,20140706,1046,1242,32.8170,149.3305,5948, 941.4, 4.5330,34.1585,2, 72.2,2,34.1587,2, 71.96,6, 96.56,6,37.86,6,0.00,6,2.74,6, -999,9, -999,9,-999.0,9,-999.0,9,-999.0,9,-999,-999,9,-999,9, 4.4588,2,27.0684,2, 4.5330,2
49UP20140609_2,   P10,24,1,23,96,4,20140706,1046,1238,32.8170,149.3305,5948,1083.9, 3.8630,34.2769,2, 50.3,2,   -999,9,-999.0,9,-999.0,9, -999,9,-999,9,-999,9, -999,9, -999,9,-999.0,9,-999.0,9,-999.0,9,-999,-999,9,-999,9, 3.7818,2,27.2331,2, 3.8628,2
49UP20140609_2,   P10,24,1,22,111,2,20140706,1046,1233,32.8170,149.3305,5948,1286.4, 3.1234,34.3831,2, 39.2,2,34.3831,2, 39.06,2,136.19,2,42.22,2,0.00,2,3.04,2, -999,9, -999,9,-999.0,9,-999.0,9,-999.0,9,-999,-999,9,-999,9, 3.0322,2,27.3897,2, 3.1234,2
49UP20140609_2,   P10,24,1,21,78,2,20140706,1046,1229,32.8170,149.3305,5948,1488.3, 2.7466,34.4504,2, 38.7,2,34.4511,2, 38.35,2,147.34,2,42.62,2,0.00,2,3.05,2, -999,9, -999,9,-999.0,9,-999.0,9,-999.0,9,-999,-999,9,-999,9, 2.6429,2,27.4781,2, 2.7464,2
49UP20140609_2,   P10,24,1,20,93,2,20140706,1046,1224,32.8170,149.3305,5948,1691.7, 2.4208,34.5084,2, 46.5,2,34.5085,2, 46.10,2,155.28,2,42.43,2,0.00,2,3.03,2, -999,9, -999,9,-999.0,9,-999.0,9,-999.0,9,-999,-999,9,-999,9, 2.3044,2,27.5532,2, 2.4207,2
49UP20140609_2,   P10,24,1,19,92,2,20140706,1046,1219,32.8170,149.3305,5948,1895.1, 2.1834,34.5540,2, 58.4,2,34.5543,2, 57.87,2,159.44,2,41.87,2,0.00,2,2.98,2, -999,9, -999,9,-999.0,9,-999.0,9,-999.0,9,-999,-999,9,-999,9, 2.0533,2,27.6101,2, 2.1836,2
49UP20140609_2,   P10,24,1,18,101,2,20140706,1046,1215,32.8170,149.3305,5948,2096.6, 1.9961,34.5873,2, 70.9,2,34.5871,2, 70.83,2,162.11,2,41.16,2,0.00,2,2.92,2, -999,9, -999,9,-999.0,9,-999.0,9,-999.0,9,-999,-999,9,-999,9, 1.8517,2,27.6526,2, 1.9960,2
49UP20140609_2,   P10,24,1,17,90,2,20140706,1046,1210,32.8170,149.3305,5948,2300.6, 1.8648,34.6113,2, 87.0,2,34.6114,6, 87.39,2,160.63,2,40.16,2,0.00,2,2.84,2, -999,9, -999,9,-999.0,9,-999.0,9,-999.0,9,-999,-999,9,-999,9, 1.7049,2,27.6830,2, 1.8647,2
49UP20140609_2,   P10,24,1,16,89,3,20140706,1046,1206,32.8170,149.3305,5948,2503.5, 1.7617,34.6286,2, 99.6,2,34.6293,2, 99.43,2,159.47,2,39.32,2,0.00,2,2.78,2, -999,9, -999,9,-999.0,9,-999.0,9,-999.0,9,-999,-999,9,-999,9, 1.5856,2,27.7058,2, 1.7616,2
49UP20140609_2,   P10,24,1,15,88,2,20140706,1046,1201,32.8170,149.3305,5948,2708.1, 1.6745,34.6427,2,110.3,2,34.6426,2,110.24,2,158.06,2,38.67,2,0.00,2,2.73,2, -999,9, -999,9,-999.0,9,-999.0,9,-999.0,9,-999,-999,9,-999,9, 1.4815,2,27.7248,2, 1.6744,2
49UP20140609_2,   P10,24,1,14,999,2,20140706,1046,1157,32.8170,149.3305,5948,2910.6, 1.6177,34.6527,2,119.9,2,34.6533,2,120.08,6,156.25,6,38.03,6,0.00,6,2.68,6, -999,9, -999,9,-999.0,9,-999.0,9,-999.0,9,-999,-999,9,-999,9, 1.4070,2,27.7382,2, 1.6179,2
49UP20140609_2,   P10,24,1,13,667,3,20140706,1046,1152,32.8170,149.3305,5948,3126.7, 1.5648,34.6616,2,128.7,2,34.6627,6,128.52,2,154.35,2,37.45,2,0.00,2,2.64,2, -999,9, -999,9,-999.0,9,-999.0,9,-999.0,9,-999,-999,9,-999,9, 1.3344,2,27.7505,2, 1.5647,2
49UP20140609_2,   P10,24,1,12,74,2,20140706,1046,1147,32.8170,149.3305,5948,3383.8, 1.5310,34.6682,2,135.5,2,34.6701,2,135.51,2,152.99,2,37.00,2,0.00,2,2.60,2, -999,9, -999,9,-999.0,9,-999.0,9,-999.0,9,-999,-999,9,-999,9, 1.2759,2,27.7599,2, 1.5310,2
49UP20140609_2,   P10,24,1,11,268,2,20140706,1046,1141,32.8170,149.3305,5948,3639.2, 1.5036,34.6738,2,141.4,2,34.6743,2,141.15,2,151.65,2,36.67,2,0.00,2,2.57,2, -999,9, -999,9,-999.0,9,-999.0,9,-999.0,9,-999,-999,9,-999,9, 1.2231,2,27.7681,2, 1.5037,2
49UP20140609_2,   P10,24,1,10,267,2,20140706,1046,1135,32.8170,149.3305,5948,3894.8, 1.4918,34.6778,2,146.0,2,34.6786,2,145.96,2,150.25,2,36.32,2,0.00,2,2.55,2, -999,9, -999,9,-999.0,9,-999.0,9,-999.0,9,-999,-999,9,-999,9, 1.1845,2,27.7739,2, 1.4918,2
49UP20140609_2,   P10,24,1, 9,518,2,20140706,1046,1130,32.8170,149.3305,5948,4150.8, 1.4819,34.6816,2,150.8,2,34.6813,2,150.14,2,149.02,2,36.12,2,0.00,2,2.53,2, -999,9, -999,9,-999.0,9,-999.0,9,-999.0,9,-999,-999,9,-999,9, 1.1470,2,27.7796,2, 1.4820,2
49UP20140609_2,   P10,24,1, 8,81,2,20140706,1046,1124,32.8170,149.3305,5948,4408.3, 1.4835,34.6842,2,154.2,2,34.6848,2,154.10,2,147.63,2,35.72,2,0.00,2,2.51,2, -999,9, -999,9,-999.0,9,-999.0,9,-999.0,9,-999,-999,9,-999,9, 1.1196,2,27.7836,2, 1.4834,2
49UP20140609_2,   P10,24,1, 7,516,2,20140706,1046,1119,32.8170,149.3305,5948,4665.1, 1.4911,34.6865,2,157.2,2,34.6872,2,157.15,2,146.72,2,35.58,2,0.00,2,2.49,2, -999,9, -999,9,-999.0,9,-999.0,9,-999.0,9,-999,-999,9,-999,9, 1.0972,2,27.7869,2, 1.4911,2
49UP20140609_2,   P10,24,1, 6,113,2,20140706,1046,1113,32.8170,149.3305,5948,4923.4, 1.5051,34.6882,2,159.9,2,34.6882,2,160.05,2,144.99,2,35.35,2,0.00,2,2.48,2, -999,9, -999,9,-999.0,9,-999.0,9,-999.0,9,-999,-999,9,-999,9, 1.0800,2,27.7895,2, 1.5051,2
49UP20140609_2,   P10,24,1, 5,94,2,20140706,1046,1107,32.8170,149.3305,5948,5180.4, 1.5214,34.6897,2,162.6,2,34.6901,6,162.42,6,143.30,6,35.23,6,0.00,6,2.46,6, -999,9, -999,9,-999.0,9,-999.0,9,-999.0,9,-999,-999,9,-999,9, 1.0643,2,27.7917,2, 1.5214,2
49UP20140609_2,   P10,24,1, 4,77,2,20140706,1046,1102,32.8170,149.3305,5948,5438.6, 1.5444,34.6907,2,164.3,2,34.6909,2,164.35,2,141.76,2,34.98,2,0.00,2,2.44,2, -999,9, -999,9,-999.0,9,-999.0,9,-999.0,9,-999,-999,9,-999,9, 1.0541,2,27.7932,2, 1.5444,2
49UP20140609_2,   P10,24,1, 3,104,2,20140706,1046,1056,32.8170,149.3305,5948,5697.3, 1.5690,34.6916,2,166.0,2,34.6919,2,166.28,2,140.25,2,34.89,2,0.00,2,2.44,2, -999,9, -999,9,-999.0,9,-999.0,9,-999.0,9,-999,-999,9,-999,9, 1.0444,2,27.7946,2, 1.5691,2
49UP20140609_2,   P10,24,1, 2,75,2,20140706,1046,1050,32.8170,149.3305,5948,5952.2, 1.5980,34.6921,2,166.9,2,34.6926,2,167.42,2,139.34,2,34.82,2,0.00,2,2.43,2, -999,9, -999,9,-999.0,9,-999.0,9,-999.0,9,-999,-999,9,-999,9, 1.0387,2,27.7954,2, 1.5980,2
49UP20140609_2,   P10,24,1, 1,997,2,20140706,1046,1047,32.8170,149.3305,5948,6103.6, 1.6135,34.6926,2,167.7,2,34.6927,2,167.44,2,138.89,2,34.84,2,0.00,2,2.43,2, -999,9, -999,9,-999.0,9,-999.0,9,-999.0,9,-999,-999,9,-999,9, 1.0333,2,27.7961,2, 1.6135,2
49UP20140609_2,   P10,25,1, 0,BUC,2,20140706,1754,2010,32.4673,149.3067,5884,   0.0,21.3763,34.4297,2,224.7,2,   -999,9,224.77,2,  1.71,2, 0.01,2,0.00,2,0.02,2, -999,9, -999,9,-999.0,9,-999.0,9,-999.0,9,-999,-999,9,-999,9,21.3758,2,23.9573,2,   -999,9
49UP20140609_2,   P10,25,1,36,109,2,20140706,1754,2035,32.4673,149.3067,5884,  10.6,21.1761,34.4741,2,225.1,2,34.4766,2,225.46,6,  1.67,6, 0.00,6,0.00,6,0.02,6, -999,9, -999,9,-999.0,9,-999.0,9,-999.0,9,-999,-999,9,-999,9,21.1741,2,24.0462,2,21.1726,2
49UP20140609_2,   P10,25,1,35,112,2,20140706,1754,2033,32.4673,149.3067,5884,  51.0,19.8996,34.5960,2,232.0,2,34.5991,2,232.31,2,  1.67,2, 0.00,2,0.00,2,0.02,2, -999,9, -999,9,-999.0,9,-999.0,9,-999.0,9,-999,-999,9,-999,9,19.8903,2,24.4824,2,19.8869,2
49UP20140609_2,   P10,25,1,34,83,2,20140706,1754,2029,32.4673,149.3067,5884, 100.6,17.7158,34.7294,2,225.4,2,34.7289,2,225.29,2,  2.67,2, 1.92,2,0.12,2,0.14,2, -999,9, -999,9,-999.0,9,-999.0,9,-999.0,9,-999,-999,9,-999,9,17.6988,2,25.1386,2,17.7204,2
49UP20140609_2,   P10,25,1,33,107,2,20140706,1754,2027,32.4673,149.3067,5884, 151.9,17.2140,34.7300,2,221.0,2,34.7316,2,220.27,2,  3.60,2, 3.28,2,0.01,2,0.23,2, -999,9, -999,9,-999.0,9,-999.0,9,-999.0,9,-999,-999,9,-999,9,17.1888,2,25.2620,2,17.2151,2
49UP20140609_2,   P10,25,1,32,105,2,20140706,1754,2025,32.4673,149.3067,5884, 201.9,17.0139,34.7247,2,224.7,2,34.7249,2,224.68,2,  3.40,2, 3.16,2,0.01,2,0.22,2, -999,9, -999,9,-999.0,9,-999.0,9,-999.0,9,-999,-999,9,-999,9,16.9806,2,25.3076,2,17.0125,2
49UP20140609_2,   P10,25,1,31,515,2,20140706,1754,2023,32.4673,149.3067,5884, 251.1,16.8692,34.7188,2,222.4,2,34.7184,2,222.67,2,  3.88,2, 3.69,2,0.01,2,0.25,2, -999,9, -999,9,-999.0,9,-999.0,9,-999.0,9,-999,-999,9,-999,9,16.8280,2,25.3391,2,16.8686,2
49UP20140609_2,   P10,25,1,30,97,2,20140706,1754,2021,32.4673,149.3067,5884, 283.4,16.7934,34.7129,2,225.3,2,34.7131,2,226.04,2,  3.80,2, 3.59,2,0.01,2,0.25,2, -999,9, -999,9,-999.0,9,-999.0,9,-999.0,9,-999,-999,9,-999,9,16.7470,2,25.3537,2,16.7930,2
49UP20140609_2,   P10,25,1,29,102,2,20140706,1754,2018,32.4673,149.3067,5884, 373.7,16.0567,34.6376,2,202.6,2,34.6371,6,202.72,2,  7.25,2, 7.00,2,0.00,2,0.47,2, -999,9, -999,9,-999.0,9,-999.0,9,-999.0,9,-999,-999,9,-999,9,15.9973,2,25.4694,2,16.0562,2
49UP20140609_2,   P10,25,1,28,108,2,20140706,1754,2015,32.4673,149.3067,5884, 474.8,13.5037,34.4624,2,179.8,2,34.4662,2,180.08,2, 17.17,2,13.10,2,0.00,2,0.92,2, -999,9, -999,9,-999.0,9,-999.0,9,-999.0,9,-999,-999,9,-999,9,13.4364,2,25.8882,2,13.5146,2
49UP20140609_2,   P10,25,1,27,998,2,20140706,1754,2012,32.4673,149.3067,5884, 576.4, 9.8850,34.1839,2,181.9,2,34.1723,4,187.88,2, 29.17,2,18.01,2,0.00,2,1.31,2, -999,9, -999,9,-999.0,9,-999.0,9,-999.0,9,-999,-999,9,-999,9, 9.8180,2,26.3454,2, 9.8845,2
49UP20140609_2,   P10,25,1,26,84,2,20140706,1754,2008,32.4673,149.3067,5884, 678.0, 7.0284,34.0464,2,152.0,2,34.0670,4,151.73,6, 51.47,6,26.19,6,0.00,6,1.92,6, -999,9, -999,9,-999.0,9,-999.0,9,-999.0,9,-999,-999,9,-999,9, 6.9636,2,26.6725,2, 7.0700,2
49UP20140609_2,   P10,25,1,25,98,2,20140706,1754,2005,32.4673,149.3067,5884, 777.6, 5.2268,34.0316,2,114.7,2,34.0326,2,115.00,2, 74.67,2,33.05,2,0.00,2,2.42,2, -999,9, -999,9,-999.0,9,-999.0,9,-999.0,9,-999,-999,9,-999,9, 5.1625,2,26.8888,2, 5.2260,2
49UP20140609_2,   P10,25,1,24,110,2,20140706,1754,2002,32.4673,149.3067,5884, 879.8, 4.4881,34.1497,2, 69.9,2,34.1511,2, 70.27,2, 96.52,2,38.07,2,0.00,2,2.75,2, -999,9, -999,9,-999.0,9,-999.0,9,-999.0,9,-999,-999,9,-999,9, 4.4195,2,27.0656,2, 4.4857,2
49UP20140609_2,   P10,25,1,23,96,2,20140706,1754,1958,32.4673,149.3067,5884, 980.8, 4.0307,34.2299,2, 51.2,2,34.2299,2, 51.40,2,109.93,2,40.20,2,0.00,2,2.89,2, -999,9, -999,9,-999.0,9,-999.0,9,-999.0,9,-999,-999,9,-999,9, 3.9569,2,27.1780,2, 4.0300,2
49UP20140609_2,   P10,25,1,22,111,2,20140706,1754,1954,32.4673,149.3067,5884,1142.7, 3.4425,34.3333,2, 41.0,2,34.3335,2, 40.97,2,127.13,2,41.72,2,0.00,2,3.00,2, -999,9, -999,9,-999.0,9,-999.0,9,-999.0,9,-999,-999,9,-999,9, 3.3601,2,27.3193,2, 3.4428,2
49UP20140609_2,   P10,25,1,21,78,2,20140706,1754,1948,32.4673,149.3067,5884,1344.5, 2.8681,34.4272,2, 37.9,2,34.4278,2, 38.05,2,143.51,2,42.59,2,0.00,2,3.05,2, -999,9, -999,9,-999.0,9,-999.0,9,-999.0,9,-999,-999,9,-999,9, 2.7747,2,27.4480,2, 2.8681,2
49UP20140609_2,   P10,25,1,20,93,2,20140706,1754,1942,32.4673,149.3067,5884,1548.4, 2.5214,34.4875,2, 42.4,2,34.4887,2, 41.94,2,152.81,2,42.62,2,0.00,2,3.04,2, -999,9, -999,9,-999.0,9,-999.0,9,-999.0,9,-999,-999,9,-999,9, 2.4154,2,27.5272,2, 2.5216,2
49UP20140609_2,   P10,25,1,19,92,2,20140706,1754,1936,32.4673,149.3067,5884,1751.9, 2.2747,34.5341,2, 49.6,2,34.5350,6, 49.36,2,158.86,2,42.39,2,0.00,2,3.01,2, -999,9, -999,9,-999.0,9,-999.0,9,-999.0,9,-999,-999,9,-999,9, 2.1552,2,27.5860,2, 2.2746,2
49UP20140609_2,   P10,25,1,18,101,2,20140706,1754,1930,32.4673,149.3067,5884,1953.7, 2.0846,34.5704,2, 64.5,2,34.5714,2, 64.31,2,160.71,2,41.51,2,0.00,2,2.94,2, -999,9, -999,9,-999.0,9,-999.0,9,-999.0,9,-999,-999,9,-999,9, 1.9510,2,27.6313,2, 2.0848,2
49UP20140609_2,   P10,25,1,17,90,2,20140706,1754,1925,32.4673,149.3067,5884,2157.0, 1.9303,34.5979,2, 76.5,2,34.5977,2, 76.21,2,162.35,2,40.82,2,0.00,2,2.88,2, -999,9, -999,9,-999.0,9,-999.0,9,-999.0,9,-999,-999,9,-999,9, 1.7818,2,27.6665,2, 1.9303,2
49UP20140609_2,   P10,25,1,16,89,2,20140706,1754,1919,32.4673,149.3067,5884,2360.7, 1.8068,34.6196,2, 91.7,2,34.6224,2, 91.84,2,160.79,2,39.83,2,0.00,2,2.81,2, -999,9, -999,9,-999.0,9,-999.0,9,-999.0,9,-999,-999,9,-999,9, 1.6426,2,27.6943,2, 1.8068,2
49UP20140609_2,   P10,25,1,15,88,3,20140706,1754,1914,32.4673,149.3067,5884,2563.9, 1.7075,34.6357,2,103.9,2,34.6369,2,103.97,2,159.68,2,38.99,2,0.00,2,2.76,2, -999,9, -999,9,-999.0,9,-999.0,9,-999.0,9,-999,-999,9,-999,9, 1.5270,2,27.7158,2, 1.7073,2
49UP20140609_2,   P10,25,1,14,999,2,20140706,1754,1909,32.4673,149.3067,5884,2768.4, 1.6532,34.6462,2,113.5,2,34.6471,2,113.78,2,157.64,2,38.41,2,0.00,2,2.70,2, -999,9, -999,9,-999.0,9,-999.0,9,-999.0,9,-999,-999,9,-999,9, 1.4550,2,27.7295,2, 1.6532,2
49UP20140609_2,   P10,25,1,13,667,2,20140706,1754,1903,32.4673,149.3067,5884,2973.8, 1.5996,34.6547,2,120.7,2,34.6550,2,121.01,2,157.02,2,37.88,2,0.00,2,2.67,2, -999,9, -999,9,-999.0,9,-999.0,9,-999.0,9,-999,-999,9,-999,9, 1.3832,2,27.7415,2, 1.5996,2
49UP20140609_2,   P10,25,1,12,74,2,20140706,1754,1857,32.4673,149.3067,5884,3218.6, 1.5427,34.6645,2,130.7,2,34.6655,2,130.94,2,154.56,2,37.30,2,0.00,2,2.62,2, -999,9, -999,9,-999.0,9,-999.0,9,-999.0,9,-999,-999,9,-999,9, 1.3038,2,27.7550,2, 1.5428,2
49UP20140609_2,   P10,25,1,11,268,2,20140706,1754,1850,32.4673,149.3067,5884,3473.6, 1.5156,34.6701,2,136.8,2,34.6706,2,136.48,6,153.15,6,36.93,6,0.00,6,2.59,6, -999,9, -999,9,-999.0,9,-999.0,9,-999.0,9,-999,-999,9,-999,9, 1.2518,2,27.7631,2, 1.5157,2
49UP20140609_2,   P10,25,1,10,267,2,20140706,1754,1845,32.4673,149.3067,5884,3729.5, 1.4989,34.6748,2,142.0,2,34.6764,2,142.19,2,152.03,2,36.52,2,0.00,2,2.56,2, -999,9, -999,9,-999.0,9,-999.0,9,-999.0,9,-999,-999,9,-999,9, 1.2090,2,27.7699,2, 1.4991,2
49UP20140609_2,   P10,25,1, 9,518,2,20140706,1754,1839,32.4673,149.3067,5884,3985.0, 1.4841,34.6792,2,147.8,2,34.6786,2,146.73,2,150.19,2,36.24,2,0.00,2,2.54,2, -999,9, -999,9,-999.0,9,-999.0,9,-999.0,9,-999,-999,9,-999,9, 1.1673,2,27.7763,2, 1.4842,2
49UP20140609_2,   P10,25,1, 8,81,2,20140706,1754,1833,32.4673,149.3067,5884,4243.3, 1.4858,34.6820,2,151.3,2,34.6829,2,151.31,2,148.74,2,35.95,2,0.00,2,2.51,2, -999,9, -999,9,-999.0,9,-999.0,9,-999.0,9,-999,-999,9,-999,9, 1.1405,2,27.7804,2, 1.4860,2
49UP20140609_2,   P10,25,1, 7,516,2,20140706,1754,1827,32.4673,149.3067,5884,4499.4, 1.4925,34.6840,2,154.3,2,34.6843,2,153.56,2,148.26,2,35.84,2,0.00,2,2.50,2, -999,9, -999,9,-999.0,9,-999.0,9,-999.0,9,-999,-999,9,-999,9, 1.1179,2,27.7835,2, 1.4924,2
49UP20140609_2,   P10,25,1, 6,113,2,20140706,1754,1821,32.4673,149.3067,5884,4755.4, 1.5038,34.6862,2,156.7,2,34.6874,6,156.65,2,147.20,2,35.63,2,0.00,2,2.48,2, -999,9, -999,9,-999.0,9,-999.0,9,-999.0,9,-999,-999,9,-999,9, 1.0988,2,27.7866,2, 1.5037,2
49UP20140609_2,   P10,25,1, 5,94,2,20140706,1754,1815,32.4673,149.3067,5884,5013.5, 1.5209,34.6878,2,159.3,2,34.6886,2,159.32,6,145.18,6,35.37,6,0.00,6,2.47,6, -999,9, -999,9,-999.0,9,-999.0,9,-999.0,9,-999,-999,9,-999,9, 1.0843,2,27.7888,2, 1.5210,2
49UP20140609_2,   P10,25,1, 4,77,2,20140706,1754,1810,32.4673,149.3067,5884,5271.3, 1.5407,34.6890,2,161.3,2,34.6904,2,161.13,2,143.78,2,35.25,2,0.00,2,2.46,2, -999,9, -999,9,-999.0,9,-999.0,9,-999.0,9,-999,-999,9,-999,9, 1.0716,2,27.7906,2, 1.5406,2
49UP20140609_2,   P10,25,1, 3,104,2,20140706,1754,1805,32.4673,149.3067,5884,5528.8, 1.5675,34.6898,2,162.4,2,34.6908,6,162.58,2,143.14,2,35.13,2,0.00,2,2.45,2, -999,9, -999,9,-999.0,9,-999.0,9,-999.0,9,-999,-999,9,-999,9, 1.0648,2,27.7917,2, 1.5675,2
49UP20140609_2,   P10,25,1, 2,75,2,20140706,1754,1800,32.4673,149.3067,5884,5787.3, 1.5924,34.6907,2,164.0,2,34.6916,2,164.56,2,141.69,2,35.02,2,0.00,2,2.44,2, -999,9, -999,9,-999.0,9,-999.0,9,-999.0,9,-999,-999,9,-999,9, 1.0552,2,27.7931,2, 1.5924,2
49UP20140609_2,   P10,25,1, 1,997,2,20140706,1754,1754,32.4673,149.3067,5884,6045.4, 1.6068,34.6925,2,167.7,2,34.6952,4,168.09,2,138.42,2,34.79,2,0.00,2,2.42,2, -999,9, -999,9,-999.0,9,-999.0,9,-999.0,9,-999,-999,9,-999,9, 1.0347,2,27.7960,2, 1.6068,2