BOTTLE,20230725CCHSIOADS
EXPOCODE,SECT_ID,STNNBR,CASTNO,SAMPNO,BTLNBR,BTLNBR_FLAG_W,DATE,TIME,BTL_TIME,LATITUDE,LONGITUDE,DEPTH,CTDPRS,CTDTMP,CTDSAL,CTDSAL_FLAG_W,CTDOXY,CTDOXY_FLAG_W,SALNTY,SALNTY_FLAG_W,OXYGEN,OXYGEN_FLAG_W,SILCAT,SILCAT_FLAG_W,NO2+NO3,NO2+NO3_FLAG_W,NITRIT,NITRIT_FLAG_W,PHSPHT,PHSPHT_FLAG_W,CFC-11,CFC-11_FLAG_W,CFC-12,CFC-12_FLAG_W,TCARBN,TCARBN_FLAG_W,ALKALI,ALKALI_FLAG_W,PH_TOT,PH_TOT_FLAG_W,PH_TMP,CHLORA,CHLORA_FLAG_W,PPHYTN,PPHYTN_FLAG_W,THETA,THETA_FLAG_W,SIG0,SIG0_FLAG_W,REFTMP,REFTMP_FLAG_W
,,,,,,,,,,,,METERS,DBAR,ITS-90,PSS-78,,UMOL/KG,,PSS-78,,UMOL/KG,,UMOL/KG,,UMOL/KG,,UMOL/KG,,UMOL/KG,,PMOL/KG,,PMOL/KG,,UMOL/KG,,UMOL/KG,,,,DEG C,UG/KG,,UG/KG,,ITS-90,,KG/M^3,,ITS-90,
49UP20140609_2,   P10,36,1, 0,BUC,2,20140710,0556, 759,25.8185,149.3248,5832,   0.0,29.6878,35.1466,2,195.6,2,35.1579,2,195.82,2,  1.02,2, 0.00,2,0.00,2,0.03,2, -999,9, -999,9,1981.6,2,2309.9,2,8.0960,2,25,0.04,2,0.01,2,29.6872,2,21.9426,2,   -999,9
49UP20140609_2,   P10,36,1,36,109,2,20140710,0556, 817,25.8185,149.3248,5832,  10.6,29.4315,35.1282,2,195.9,2,35.1378,2,196.02,2,  1.05,2, 0.01,2,0.00,2,0.01,2, -999,9, -999,9,1981.2,2,2308.1,2,8.0979,2,25,0.04,2,0.01,2,29.4289,2,22.0163,2,29.4324,2
49UP20140609_2,   P10,36,1,35,112,2,20140710,0556, 813,25.8185,149.3248,5832,  51.6,24.8712,35.1216,2,217.2,2,35.1168,2,217.51,2,  1.11,2, 0.03,2,0.00,2,0.01,2, -999,9, -999,9,1984.7,2,2307.2,2,8.0851,2,25,0.08,2,0.02,2,24.8601,2,23.4757,2,24.8767,2
49UP20140609_2,   P10,36,1,34,83,2,20140710,0556, 812,25.8185,149.3248,5832, 101.8,20.7059,34.9015,2,221.9,2,34.9016,2,221.67,2,  1.62,2, 0.01,2,0.00,2,0.01,2, -999,9, -999,9,2004.6,2,2293.3,2,8.0366,2,25,0.27,2,0.23,2,20.6867,2,24.5037,2,20.7077,2
49UP20140609_2,   P10,36,1,33,107,2,20140710,0556, 810,25.8185,149.3248,5832, 151.6,19.3919,34.8344,2,215.8,2,34.8384,2,212.55,2,  2.16,2, 0.91,2,0.12,2,0.09,2, -999,9, -999,9,2017.5,2,2287.6,2,8.0075,2,25,0.14,2,0.31,2,19.3645,2,24.8011,2,19.3922,2
49UP20140609_2,   P10,36,1,32,105,2,20140710,0556, 808,25.8185,149.3248,5832, 201.1,17.9035,34.7625,2,198.0,2,34.7608,6,197.85,2,  3.45,2, 4.15,2,0.01,2,0.28,2, -999,9, -999,9,2038.5,2,2282.5,2,7.9562,2,25,0.01,2,0.03,2,17.8691,2,25.1223,2,17.9172,2
49UP20140609_2,   P10,36,1,31,515,2,20140710,0556, 806,25.8185,149.3248,5832, 252.4,16.8319,34.6845,2,206.7,2,34.6827,2,206.38,2,  4.60,2, 5.31,2,0.01,2,0.34,2, -999,9, -999,9,2038.1,2,2280.1,2,7.9407,2,25,-999,9,-999,9,16.7906,2,25.3216,2,16.8317,2
49UP20140609_2,   P10,36,1,30,97,2,20140710,0556, 804,25.8185,149.3248,5832, 333.1,14.9082,34.5318,2,194.3,2,34.5322,2,194.16,2,  8.57,2, 8.98,2,0.00,2,0.62,2, -999,9, -999,9,2065.5,2,2275.4,2,7.8775,2,25,-999,9,-999,9,14.8580,2,25.6420,2,14.9073,2
49UP20140609_2,   P10,36,1,29,102,2,20140710,0556, 801,25.8185,149.3248,5832, 433.2,12.2453,34.3415,2,190.0,2,34.3406,2,190.00,6, 15.96,6,13.82,6,0.00,6,0.97,6, -999,9, -999,9,2100.9,2,2272.3,2,7.7992,2,25,-999,9,-999,9,12.1879,2,26.0417,2,12.2402,2
49UP20140609_2,   P10,36,1,28,108,2,20140710,0556, 758,25.8185,149.3248,5832, 534.8, 9.5195,34.1685,2,171.3,2,34.1688,2,170.89,2, 29.50,2,20.43,2,0.00,2,1.46,2, -999,9, -999,9,2148.6,2,2274.0,2,7.6957,2,25,-999,9,-999,9, 9.4589,2,26.3929,2, 9.5195,2
49UP20140609_2,   P10,36,1,27,998,2,20140710,0556, 755,25.8185,149.3248,5832, 635.7, 7.1255,34.0750,2,135.5,2,34.0750,2,135.11,2, 51.03,2,28.07,2,0.00,2,2.03,2, -999,9, -999,9,2206.8,2,2288.5,2,7.5697,2,25,-999,9,-999,9, 7.0644,2,26.6812,2, 7.1247,2
49UP20140609_2,   P10,36,1,26,84,2,20140710,0556, 752,25.8185,149.3248,5832, 737.3, 5.6516,34.0940,2, 94.8,2,34.0946,2, 94.39,2, 72.60,2,34.37,2,0.00,2,2.49,2, -999,9, -999,9,2260.4,2,2306.0,2,7.4702,2,25,-999,9,-999,9, 5.5884,2,26.8876,2, 5.6490,2
49UP20140609_2,   P10,36,1,25,98,2,20140710,0556, 750,25.8185,149.3248,5832, 837.9, 4.6140,34.2041,2, 58.1,2,34.2053,2, 57.59,2, 95.40,2,39.09,2,0.00,2,2.83,2, -999,9, -999,9,2306.7,2,2332.5,2,7.3982,2,25,-999,9,-999,9, 4.5481,2,27.0949,2, 4.6137,2
49UP20140609_2,   P10,36,1,24,110,2,20140710,0556, 747,25.8185,149.3248,5832, 938.6, 4.1225,34.2970,2, 46.2,2,34.2981,2, 45.69,2,108.43,2,40.85,2,0.00,2,2.95,2, -999,9, -999,9,2329.4,2,2349.3,2,7.3784,6,25,-999,9,-999,9, 4.0513,2,27.2216,2, 4.1218,2
49UP20140609_2,   P10,36,1,23,96,2,20140710,0556, 743,25.8185,149.3248,5832,1079.9, 3.5724,34.3986,2, 45.7,2,34.3980,2, 45.47,2,121.99,2,41.52,2,0.00,2,2.99,2, -999,9, -999,9,2348.2,6,2370.0,6,7.3839,2,25,-999,9,-999,9, 3.4938,2,27.3585,2, 3.5713,2
49UP20140609_2,   P10,36,1,22,111,2,20140710,0556, 739,25.8185,149.3248,5832,1283.2, 3.0217,34.4721,2, 52.3,2,34.4706,2, 51.82,2,135.20,2,41.63,2,0.00,2,2.98,2, -999,9, -999,9,2356.1,2,2385.0,2,7.4092,2,25,-999,9,-999,9, 2.9316,2,27.4699,2, 3.0240,2
49UP20140609_2,   P10,36,1,21,78,2,20140710,0556, 734,25.8185,149.3248,5832,1487.0, 2.6188,34.5213,2, 60.9,2,34.5203,6, 60.62,2,144.01,2,41.37,2,0.00,2,2.94,2, -999,9, -999,9,2363.7,2,2396.6,2,7.4161,2,25,-999,9,-999,9, 2.5165,2,27.5457,2, 2.6192,2
49UP20140609_2,   P10,36,1,20,93,2,20140710,0556, 729,25.8185,149.3248,5832,1688.4, 2.2718,34.5642,2, 76.6,2,34.5651,2, 76.31,2,148.99,2,40.54,2,0.00,2,2.87,2, -999,9, -999,9,2360.0,2,2404.5,2,7.4443,2,25,-999,9,-999,9, 2.1574,2,27.6099,2, 2.2718,2
49UP20140609_2,   P10,36,1,19,92,2,20140710,0556, 725,25.8185,149.3248,5832,1891.0, 2.0595,34.5952,2, 93.0,2,34.5951,2, 92.83,6,149.37,6,39.47,6,0.00,6,2.80,6, -999,9, -999,9,2355.9,2,2406.6,2,7.4780,2,25,-999,9,-999,9, 1.9314,2,27.6528,2, 2.0593,2
49UP20140609_2,   P10,36,1,18,101,3,20140710,0556, 720,25.8185,149.3248,5832,2094.9, 1.8843,34.6181,2,104.4,2,34.6192,2,104.79,2,150.45,2,38.82,2,0.00,2,2.74,2, -999,9, -999,9,2351.1,2,2411.4,2,7.4981,2,25,-999,9,-999,9, 1.7417,2,27.6857,2, 1.8840,2
49UP20140609_2,   P10,36,1,17,90,2,20140710,0556, 715,25.8185,149.3248,5832,2298.7, 1.7780,34.6327,2,112.4,2,34.6332,2,112.41,2,151.17,2,38.33,2,0.00,2,2.70,2, -999,9, -999,9,2348.2,2,2414.2,2,7.5145,2,25,-999,9,-999,9, 1.6197,2,27.7066,2, 1.7780,2
49UP20140609_2,   P10,36,1,16,89,2,20140710,0556, 710,25.8185,149.3248,5832,2502.6, 1.7039,34.6431,2,118.7,2,34.6433,2,119.01,2,150.93,2,37.91,2,0.00,2,2.67,2, -999,9, -999,9,2343.4,2,2416.4,2,7.5246,2,25,-999,9,-999,9, 1.5290,2,27.7216,2, 1.7039,2
49UP20140609_2,   P10,36,1,15,88,2,20140710,0556, 706,25.8185,149.3248,5832,2705.0, 1.6244,34.6540,2,125.8,2,34.6545,6,125.85,2,150.86,2,37.53,2,0.00,2,2.64,2, -999,9, -999,9,2338.3,2,2416.8,2,7.5354,2,25,-999,9,-999,9, 1.4327,2,27.7374,2, 1.6243,2
49UP20140609_2,   P10,36,1,14,999,2,20140710,0556, 701,25.8185,149.3248,5832,2908.5, 1.5884,34.6600,2,130.6,2,34.6607,2,130.62,2,150.46,2,37.26,2,0.00,2,2.61,2, -999,9, -999,9,2337.4,2,2416.7,2,7.5462,6,25,-999,9,-999,9, 1.3784,2,27.7461,2, 1.5883,2
49UP20140609_2,   P10,36,1,13,667,2,20140710,0556, 656,25.8185,149.3248,5832,3126.0, 1.5597,34.6655,2,135.0,2,34.6655,2,134.59,2,149.91,2,36.98,2,0.00,2,2.59,2, -999,9, -999,9,2336.0,6,2417.2,6,7.5507,2,25,-999,9,-999,9, 1.3295,2,27.7539,2, 1.5598,2
49UP20140609_2,   P10,36,1,12,74,2,20140710,0556, 651,25.8185,149.3248,5832,3377.8, 1.5197,34.6713,2,140.4,2,34.6716,2,140.33,2,149.70,2,36.66,2,0.00,2,2.57,2, -999,9, -999,9,2333.6,2,2417.0,2,7.5617,2,25,-999,9,-999,9, 1.2655,2,27.7631,2, 1.5195,2
49UP20140609_2,   P10,36,1,11,268,2,20140710,0556, 645,25.8185,149.3248,5832,3634.6, 1.4969,34.6761,2,144.7,2,34.6753,2,144.23,2,149.04,2,36.35,2,0.00,2,2.55,2, -999,9, -999,9,2332.4,2,2416.0,2,7.5635,2,25,-999,9,-999,9, 1.2170,2,27.7703,2, 1.4969,2
49UP20140609_2,   P10,36,1,10,267,2,20140710,0556, 640,25.8185,149.3248,5832,3890.2, 1.4854,34.6797,2,148.9,2,34.6811,2,148.71,6,147.66,6,36.06,6,0.00,6,2.53,6, -999,9, -999,9,2329.4,2,2415.4,2,7.5734,2,25,-999,9,-999,9, 1.1788,2,27.7759,2, 1.4855,2
49UP20140609_2,   P10,36,1, 9,518,2,20140710,0556, 635,25.8185,149.3248,5832,4146.3, 1.4811,34.6827,2,152.3,2,34.6805,4,150.29,4,147.17,2,35.96,2,0.00,2,2.52,2, -999,9, -999,9,2329.2,2,2416.1,2,7.5778,2,25,-999,9,-999,9, 1.1467,2,27.7805,2, 1.4810,2
49UP20140609_2,   P10,36,1, 8,81,2,20140710,0556, 629,25.8185,149.3248,5832,4402.6, 1.4680,34.6866,2,157.4,2,34.6870,2,157.21,2,145.18,2,35.55,2,0.00,2,2.48,2, -999,9, -999,9,2321.8,2,2414.7,2,7.5863,2,25,-999,9,-999,9, 1.1052,2,27.7864,2, 1.4680,2
49UP20140609_2,   P10,36,1, 7,516,2,20140710,0556, 624,25.8185,149.3248,5832,4659.8, 1.4820,34.6882,2,159.6,2,34.6870,2,158.11,3,144.09,2,35.39,2,0.00,2,2.47,2, -999,9, -999,9,2319.5,2,2413.8,2,7.5863,2,25,-999,9,-999,9, 1.0890,2,27.7888,2, 1.4820,2
49UP20140609_2,   P10,36,1, 6,113,2,20140710,0556, 619,25.8185,149.3248,5832,4918.0, 1.5054,34.6891,2,161.2,2,34.6890,2,161.07,2,143.25,2,35.25,2,0.00,2,2.46,2, -999,9, -999,9,2317.2,2,2413.9,2,7.5919,2,25,-999,9,-999,9, 1.0809,2,27.7901,2, 1.5053,2
49UP20140609_2,   P10,36,1, 5,94,2,20140710,0556, 613,25.8185,149.3248,5832,5176.4, 1.5299,34.6897,2,162.1,2,34.6904,2,161.74,2,142.58,2,35.05,2,0.00,2,2.45,2, -999,9, -999,9,2317.5,2,2410.4,2,7.5921,2,25,-999,9,-999,9, 1.0730,2,27.7912,2, 1.5298,2
49UP20140609_2,   P10,36,1, 4,77,2,20140710,0556, 608,25.8185,149.3248,5832,5432.1, 1.5549,34.6906,2,163.5,2,34.6902,2,163.45,2,141.26,2,35.03,2,0.00,2,2.44,2, -999,9, -999,9,2314.8,2,2409.6,2,7.5962,6,25,-999,9,-999,9, 1.0650,2,27.7924,2, 1.5548,2
49UP20140609_2,   P10,36,1, 3,104,3,20140710,0556, 603,25.8185,149.3248,5832,5690.6, 1.5825,34.6913,2,164.7,2,34.6899,2,163.96,2,140.68,2,34.98,2,0.00,2,2.44,2, -999,9, -999,9,2310.0,6,2410.5,6,7.5996,2,25,-999,9,-999,9, 1.0583,2,27.7934,2, 1.5824,2
49UP20140609_2,   P10,36,1, 2,75,2,20140710,0556, 557,25.8185,149.3248,5832,5986.9, 1.5973,34.6937,2,170.0,2,34.6935,6,170.24,6,135.82,6,34.55,6,0.00,6,2.41,6, -999,9, -999,9,2306.4,2,2404.9,2,7.6044,2,25,-999,9,-999,9, 1.0334,2,27.7970,2, 1.5973,2
49UP20140609_2,   P10,37,1, 0,BUC,2,20140710,1337,1541,25.1468,149.3265,5861,   0.0,29.4218,34.9822,2,195.9,2,   -999,9,196.22,2,  1.09,2, 0.00,2,0.00,2,0.02,2, -999,9, -999,9,-999.0,9,-999.0,9,-999.0,9,-999,-999,9,-999,9,29.4211,2,21.9093,2,   -999,9
49UP20140609_2,   P10,37,1,36,109,2,20140710,1337,1555,25.1468,149.3265,5861,  10.7,29.4253,34.9804,2,195.5,2,34.9800,2,196.37,2,  1.12,2, 0.00,2,0.00,2,0.02,2, -999,9, -999,9,-999.0,9,-999.0,9,-999.0,9,-999,-999,9,-999,9,29.4227,2,21.9074,2,29.4241,2
49UP20140609_2,   P10,37,1,35,112,2,20140710,1337,1550,25.1468,149.3265,5861,  50.7,23.0463,35.0033,2,226.5,2,35.0046,2,226.44,2,  1.22,2, 0.00,2,0.00,2,0.01,2, -999,9, -999,9,-999.0,9,-999.0,9,-999.0,9,-999,-999,9,-999,9,23.0359,2,23.9257,2,23.0651,2
49UP20140609_2,   P10,37,1,34,83,2,20140710,1337,1549,25.1468,149.3265,5861,  99.7,19.9852,34.8669,2,219.4,2,34.8650,2,219.81,6,  1.80,6, 0.00,6,0.00,6,0.03,6, -999,9, -999,9,-999.0,9,-999.0,9,-999.0,9,-999,-999,9,-999,9,19.9668,2,24.6690,2,19.9881,2
49UP20140609_2,   P10,37,1,33,107,2,20140710,1337,1548,25.1468,149.3265,5861, 147.1,18.4735,34.7831,2,202.2,2,34.7730,2,203.03,2,  2.90,2, 3.14,2,0.02,2,0.22,2, -999,9, -999,9,-999.0,9,-999.0,9,-999.0,9,-999,-999,9,-999,9,18.4478,2,24.9948,2,18.4688,2
49UP20140609_2,   P10,37,1,32,105,2,20140710,1337,1546,25.1468,149.3265,5861, 201.5,17.2979,34.7158,2,205.0,2,34.7144,2,205.33,2,  3.84,2, 4.56,2,0.01,2,0.30,2, -999,9, -999,9,-999.0,9,-999.0,9,-999.0,9,-999,-999,9,-999,9,17.2643,2,25.2330,2,17.2956,2
49UP20140609_2,   P10,37,1,31,515,2,20140710,1337,1544,25.1468,149.3265,5861, 254.9,16.6245,34.6729,2,205.5,2,34.6739,2,205.81,2,  5.04,2, 5.67,2,0.01,2,0.38,2, -999,9, -999,9,-999.0,9,-999.0,9,-999.0,9,-999,-999,9,-999,9,16.5831,2,25.3613,2,16.6246,2
49UP20140609_2,   P10,37,1,30,97,2,20140710,1337,1543,25.1468,149.3265,5861, 281.2,16.1949,34.6426,2,201.6,2,34.6408,2,201.29,2,  6.36,2, 6.78,2,0.00,2,0.46,2, -999,9, -999,9,-999.0,9,-999.0,9,-999.0,9,-999,-999,9,-999,9,16.1501,2,25.4383,2,16.1949,2
49UP20140609_2,   P10,37,1,29,102,2,20140710,1337,1541,25.1468,149.3265,5861, 373.2,13.9868,34.4839,2,188.9,2,34.4828,2,188.88,2, 12.95,2,11.38,2,0.00,2,0.79,2, -999,9, -999,9,-999.0,9,-999.0,9,-999.0,9,-999,-999,9,-999,9,13.9328,2,25.8023,2,13.9846,2
49UP20140609_2,   P10,37,1,28,108,2,20140710,1337,1538,25.1468,149.3265,5861, 474.1,11.0490,34.2800,2,182.1,2,34.2786,2,182.07,2, 23.63,2,16.85,2,0.00,2,1.20,2, -999,9, -999,9,-999.0,9,-999.0,9,-999.0,9,-999,-999,9,-999,9,10.9901,2,26.2166,2,11.0521,2
49UP20140609_2,   P10,37,1,27,998,2,20140710,1337,1536,25.1468,149.3265,5861, 575.2, 8.4252,34.1138,2,159.7,2,34.1121,2,159.26,2, 38.82,2,23.60,2,0.00,2,1.70,2, -999,9, -999,9,-999.0,9,-999.0,9,-999.0,9,-999,-999,9,-999,9, 8.3645,2,26.5230,2, 8.4137,2
49UP20140609_2,   P10,37,1,26,84,2,20140710,1337,1533,25.1468,149.3265,5861, 675.3, 5.8787,34.0839,2,102.1,2,34.0837,2,101.52,2, 68.79,2,33.32,2,0.00,2,2.42,2, -999,9, -999,9,-999.0,9,-999.0,9,-999.0,9,-999,-999,9,-999,9, 5.8200,2,26.8512,2, 5.8783,2
49UP20140609_2,   P10,37,1,25,98,2,20140710,1337,1531,25.1468,149.3265,5861, 775.6, 4.8674,34.1364,2, 74.1,2,34.1390,2, 73.47,6, 88.09,6,37.46,6,0.00,6,2.71,6, -999,9, -999,9,-999.0,9,-999.0,9,-999.0,9,-999,-999,9,-999,9, 4.8053,2,27.0127,2, 4.8658,2
49UP20140609_2,   P10,37,1,24,110,2,20140710,1337,1528,25.1468,149.3265,5861, 876.8, 4.1623,34.2655,2, 48.2,2,34.2668,2, 47.71,2,107.48,2,40.65,2,0.00,2,2.93,2, -999,9, -999,9,-999.0,9,-999.0,9,-999.0,9,-999,-999,9,-999,9, 4.0960,2,27.1919,2, 4.1619,2
49UP20140609_2,   P10,37,1,23,96,2,20140710,1337,1526,25.1468,149.3265,5861, 977.2, 3.8407,34.3492,2, 45.7,2,34.3501,2, 45.69,2,115.66,2,41.29,2,0.00,2,2.97,2, -999,9, -999,9,-999.0,9,-999.0,9,-999.0,9,-999,-999,9,-999,9, 3.7684,2,27.2920,2, 3.8404,2
49UP20140609_2,   P10,37,1,22,111,2,20140710,1337,1522,25.1468,149.3265,5861,1139.9, 3.2304,34.4321,2, 47.2,2,34.4317,2, 46.91,2,131.25,2,41.84,2,0.00,2,3.00,2, -999,9, -999,9,-999.0,9,-999.0,9,-999.0,9,-999,-999,9,-999,9, 3.1498,2,27.4180,2, 3.2293,2
49UP20140609_2,   P10,37,1,21,78,2,20140710,1337,1517,25.1468,149.3265,5861,1342.6, 2.7383,34.5014,2, 58.4,2,34.5022,2, 58.59,2,141.45,2,41.48,2,0.00,2,2.96,2, -999,9, -999,9,-999.0,9,-999.0,9,-999.0,9,-999,-999,9,-999,9, 2.6463,2,27.5186,2, 2.7387,2
49UP20140609_2,   P10,37,1,20,93,2,20140710,1337,1513,25.1468,149.3265,5861,1544.7, 2.4060,34.5457,2, 69.4,2,34.5457,2, 69.46,2,147.79,2,40.97,2,0.00,2,2.91,2, -999,9, -999,9,-999.0,9,-999.0,9,-999.0,9,-999,-999,9,-999,9, 2.3016,2,27.5833,2, 2.4057,2
49UP20140609_2,   P10,37,1,19,92,2,20140710,1337,1508,25.1468,149.3265,5861,1747.8, 2.1237,34.5812,2, 81.5,2,34.5813,2, 81.70,2,152.02,2,40.30,2,0.00,2,2.86,2, -999,9, -999,9,-999.0,9,-999.0,9,-999.0,9,-999,-999,9,-999,9, 2.0064,2,27.6356,2, 2.1234,2
49UP20140609_2,   P10,37,1,18,101,2,20140710,1337,1504,25.1468,149.3265,5861,1952.7, 1.9378,34.6082,2, 96.4,2,34.6082,2, 96.62,2,152.18,2,39.41,2,0.00,2,2.79,2, -999,9, -999,9,-999.0,9,-999.0,9,-999.0,9,-999,-999,9,-999,9, 1.8064,2,27.6729,2, 1.9377,2
49UP20140609_2,   P10,37,1,17,90,2,20140710,1337,1459,25.1468,149.3265,5861,2154.5, 1.8127,34.6278,2,109.2,2,34.6280,2,109.95,2,150.94,2,38.65,2,0.00,2,2.72,2, -999,9, -999,9,-999.0,9,-999.0,9,-999.0,9,-999,-999,9,-999,9, 1.6662,2,27.6992,2, 1.8127,2
49UP20140609_2,   P10,37,1,16,89,2,20140710,1337,1455,25.1468,149.3265,5861,2357.8, 1.7263,34.6419,2,118.8,2,34.6427,6,119.18,2,150.16,2,38.01,2,0.00,2,2.68,2, -999,9, -999,9,-999.0,9,-999.0,9,-999.0,9,-999,-999,9,-999,9, 1.5637,2,27.7181,2, 1.7261,2
49UP20140609_2,   P10,37,1,15,88,4,20140710,1337,1451,25.1468,149.3265,5861,2564.2, 1.6758,34.6509,2,124.5,2,34.6443,4,120.85,4,149.76,4,37.79,4,0.00,4,2.67,4, -999,9, -999,9,-999.0,9,-999.0,9,-999.0,9,-999,-999,9,-999,9, 1.4958,2,27.7303,2, 1.6757,2
49UP20140609_2,   P10,37,1,14,999,2,20140710,1337,1446,25.1468,149.3265,5861,2766.7, 1.6304,34.6582,2,129.1,2,34.6588,2,129.66,6,149.48,6,37.38,6,0.00,6,2.63,6, -999,9, -999,9,-999.0,9,-999.0,9,-999.0,9,-999,-999,9,-999,9, 1.4329,2,27.7407,2, 1.6300,2
49UP20140609_2,   P10,37,1,13,667,3,20140710,1337,1442,25.1468,149.3265,5861,2970.7, 1.5913,34.6633,2,133.3,2,34.6632,2,133.34,2,149.46,2,37.21,2,0.00,2,2.61,2, -999,9, -999,9,-999.0,9,-999.0,9,-999.0,9,-999,-999,9,-999,9, 1.3754,2,27.7490,2, 1.5913,2
49UP20140609_2,   P10,37,1,12,74,2,20140710,1337,1437,25.1468,149.3265,5861,3216.8, 1.5538,34.6685,2,137.8,2,34.6682,2,137.72,2,148.94,2,36.96,2,0.00,2,2.58,2, -999,9, -999,9,-999.0,9,-999.0,9,-999.0,9,-999,-999,9,-999,9, 1.3149,2,27.7574,2, 1.5537,2
49UP20140609_2,   P10,37,1,11,268,2,20140710,1337,1431,25.1468,149.3265,5861,3472.4, 1.5184,34.6743,2,143.4,2,34.6737,2,142.69,2,148.10,2,36.55,2,0.00,2,2.56,2, -999,9, -999,9,-999.0,9,-999.0,9,-999.0,9,-999,-999,9,-999,9, 1.2546,2,27.7663,2, 1.5183,2
49UP20140609_2,   P10,37,1,10,267,2,20140710,1337,1426,25.1468,149.3265,5861,3729.4, 1.4978,34.6786,2,147.9,2,34.6783,6,147.62,3,146.84,2,36.20,2,0.00,2,2.54,2, -999,9, -999,9,-999.0,9,-999.0,9,-999.0,9,-999,-999,9,-999,9, 1.2079,2,27.7730,2, 1.4978,2
49UP20140609_2,   P10,37,1, 9,518,2,20140710,1337,1420,25.1468,149.3265,5861,3983.6, 1.4876,34.6815,2,151.7,2,34.6807,2,150.78,2,145.87,2,36.01,2,0.00,2,2.52,2, -999,9, -999,9,-999.0,9,-999.0,9,-999.0,9,-999,-999,9,-999,9, 1.1709,2,27.7779,2, 1.4875,2
49UP20140609_2,   P10,37,1, 8,81,2,20140710,1337,1415,25.1468,149.3265,5861,4241.0, 1.4836,34.6844,2,155.6,2,34.6852,2,155.23,2,144.10,2,35.77,2,0.00,2,2.49,2, -999,9, -999,9,-999.0,9,-999.0,9,-999.0,9,-999,-999,9,-999,9, 1.1385,2,27.7825,2, 1.4835,2
49UP20140609_2,   P10,37,1, 7,516,2,20140710,1337,1410,25.1468,149.3265,5861,4497.0, 1.4884,34.6867,2,158.8,2,34.6850,4,157.60,3,142.77,2,35.60,2,0.00,2,2.48,2, -999,9, -999,9,-999.0,9,-999.0,9,-999.0,9,-999,-999,9,-999,9, 1.1142,2,27.7859,2, 1.4882,2
49UP20140609_2,   P10,37,1, 6,113,2,20140710,1337,1404,25.1468,149.3265,5861,4755.7, 1.4971,34.6887,2,161.7,2,34.6882,2,161.91,2,141.08,2,35.31,2,0.00,2,2.46,2, -999,9, -999,9,-999.0,9,-999.0,9,-999.0,9,-999,-999,9,-999,9, 1.0923,2,27.7890,2, 1.4971,2
49UP20140609_2,   P10,37,1, 5,94,2,20140710,1337,1359,25.1468,149.3265,5861,5011.4, 1.5088,34.6903,2,164.6,2,34.6901,2,164.54,6,139.35,6,35.06,6,0.00,6,2.44,6, -999,9, -999,9,-999.0,9,-999.0,9,-999.0,9,-999,-999,9,-999,9, 1.0729,2,27.7916,2, 1.5088,2
49UP20140609_2,   P10,37,1, 4,77,2,20140710,1337,1354,25.1468,149.3265,5861,5269.1, 1.5238,34.6918,2,167.2,2,34.6920,2,167.21,2,137.47,2,34.85,2,0.00,2,2.43,2, -999,9, -999,9,-999.0,9,-999.0,9,-999.0,9,-999,-999,9,-999,9, 1.0555,2,27.7940,2, 1.5237,2
49UP20140609_2,   P10,37,1, 3,104,2,20140710,1337,1348,25.1468,149.3265,5861,5526.7, 1.5403,34.6934,2,169.5,2,34.6928,6,169.49,2,136.32,2,34.72,2,0.00,2,2.42,2, -999,9, -999,9,-999.0,9,-999.0,9,-999.0,9,-999,-999,9,-999,9, 1.0388,2,27.7964,2, 1.5402,2
49UP20140609_2,   P10,37,1, 2,75,2,20140710,1337,1343,25.1468,149.3265,5861,5784.9, 1.5571,34.6949,2,172.1,2,34.6950,2,172.61,2,134.16,2,34.48,2,0.00,2,2.40,2, -999,9, -999,9,-999.0,9,-999.0,9,-999.0,9,-999,-999,9,-999,9, 1.0215,2,27.7987,2, 1.5571,2
49UP20140609_2,   P10,37,1, 1,997,2,20140710,1337,1338,25.1468,149.3265,5861,6010.6, 1.5609,34.6967,2,175.8,2,34.6964,6,176.03,2,132.42,2,34.27,2,0.00,2,2.38,2, -999,9, -999,9,-999.0,9,-999.0,9,-999.0,9,-999,-999,9,-999,9, 0.9952,2,27.8019,2, 1.5607,2