BOTTLE,20230725CCHSIOADS
EXPOCODE,SECT_ID,STNNBR,CASTNO,SAMPNO,BTLNBR,BTLNBR_FLAG_W,DATE,TIME,BTL_TIME,LATITUDE,LONGITUDE,DEPTH,CTDPRS,CTDTMP,CTDSAL,CTDSAL_FLAG_W,CTDOXY,CTDOXY_FLAG_W,SALNTY,SALNTY_FLAG_W,OXYGEN,OXYGEN_FLAG_W,SILCAT,SILCAT_FLAG_W,NO2+NO3,NO2+NO3_FLAG_W,NITRIT,NITRIT_FLAG_W,PHSPHT,PHSPHT_FLAG_W,CFC-11,CFC-11_FLAG_W,CFC-12,CFC-12_FLAG_W,TCARBN,TCARBN_FLAG_W,ALKALI,ALKALI_FLAG_W,PH_TOT,PH_TOT_FLAG_W,PH_TMP,CHLORA,CHLORA_FLAG_W,PPHYTN,PPHYTN_FLAG_W,THETA,THETA_FLAG_W,SIG0,SIG0_FLAG_W,REFTMP,REFTMP_FLAG_W
,,,,,,,,,,,,METERS,DBAR,ITS-90,PSS-78,,UMOL/KG,,PSS-78,,UMOL/KG,,UMOL/KG,,UMOL/KG,,UMOL/KG,,UMOL/KG,,PMOL/KG,,PMOL/KG,,UMOL/KG,,UMOL/KG,,,,DEG C,UG/KG,,UG/KG,,ITS-90,,KG/M^3,,ITS-90,
49UP20140609_2,   P10,26,1, 0,BUC,2,20140707,0131, 325,32.1368,149.2928,5089,   0.0,22.4109,34.5833,2,221.9,2,34.5800,2,220.86,2,  1.68,2, 0.00,2,0.00,2,0.05,2, -999,9, -999,9,1982.7,2,2270.2,2,8.0442,2,25,0.13,2,0.04,2,22.4104,2,23.7858,2,   -999,9
49UP20140609_2,   P10,26,1,36,109,2,20140707,0131, 343,32.1368,149.2928,5089,  10.6,22.0682,34.5738,2,221.7,2,34.5747,2,221.80,2,  1.77,2, 0.00,2,0.00,2,0.01,2, -999,9, -999,9,1979.2,2,2268.3,2,8.0466,2,25,0.14,2,0.05,2,22.0661,2,23.8755,2,22.0685,2
49UP20140609_2,   P10,26,1,35,112,2,20140707,0131, 339,32.1368,149.2928,5089,  49.5,20.5328,34.6867,2,225.7,2,34.6914,2,225.88,2,  2.27,2, 0.00,2,0.02,2,0.04,2, -999,9, -999,9,1989.5,2,2278.6,2,8.0419,2,25,0.45,4,0.42,4,20.5235,2,24.3838,2,20.5313,2
49UP20140609_2,   P10,26,1,34,83,2,20140707,0131, 338,32.1368,149.2928,5089,  79.5,18.6908,34.7560,2,214.8,2,34.7543,2,215.87,2,  2.96,2, 1.96,2,0.15,2,0.15,2, -999,9, -999,9,2012.2,2,2281.6,2,8.0005,2,25,0.20,2,0.25,2,18.6768,2,24.9165,2,18.6919,2
49UP20140609_2,   P10,26,1,33,107,2,20140707,0131, 337,32.1368,149.2928,5089, 102.3,18.0568,34.7391,2,207.7,2,34.7393,2,207.81,2,  3.99,2, 3.55,2,0.02,2,0.24,2, -999,9, -999,9,2026.8,2,2278.8,2,7.9800,2,25,0.03,2,0.05,2,18.0393,2,25.0626,2,18.0503,2
49UP20140609_2,   P10,26,1,32,105,2,20140707,0131, 336,32.1368,149.2928,5089, 125.8,17.7480,34.7433,2,212.5,2,34.7414,2,211.76,2,  3.71,2, 3.39,2,0.02,2,0.23,2, -999,9, -999,9,2023.7,2,2280.1,2,7.9790,2,25,0.02,2,0.04,2,17.7267,2,25.1424,2,17.7338,2
49UP20140609_2,   P10,26,1,31,515,2,20140707,0131, 335,32.1368,149.2928,5089, 151.9,17.4442,34.7405,2,221.1,2,34.7393,2,221.60,2,  3.09,2, 2.73,2,0.02,2,0.19,2, -999,9, -999,9,2021.7,2,2278.9,2,7.9760,2,25,0.03,2,0.04,2,17.4187,2,25.2149,2,17.4437,2
49UP20140609_2,   P10,26,1,30,97,2,20140707,0131, 333,32.1368,149.2928,5089, 199.7,17.0514,34.7198,2,221.1,2,34.7181,2,221.70,6,  3.70,6, 3.51,6,0.01,6,0.24,6, -999,9, -999,9,2025.2,2,2277.9,2,7.9736,2,25,0.00,2,0.02,2,17.0184,2,25.2948,2,17.0482,2
49UP20140609_2,   P10,26,1,29,102,2,20140707,0131, 332,32.1368,149.2928,5089, 251.4,16.7571,34.7094,2,221.2,2,34.7098,2,221.66,2,  4.22,2, 4.01,2,0.01,2,0.28,2, -999,9, -999,9,2027.8,2,2276.1,2,7.9650,2,25,-999,9,-999,9,16.7161,2,25.3583,2,16.7569,2
49UP20140609_2,   P10,26,1,28,108,2,20140707,0131, 330,32.1368,149.2928,5089, 303.5,16.3140,34.6597,2,205.3,2,34.6600,2,205.81,2,  6.26,2, 6.25,2,0.01,2,0.43,2, -999,9, -999,9,2051.5,2,2277.2,2,7.9345,2,25,-999,9,-999,9,16.2653,2,25.4250,2,16.3131,2
49UP20140609_2,   P10,26,1,27,998,2,20140707,0131, 328,32.1368,149.2928,5089, 403.4,13.5403,34.4603,2,184.7,2,34.4618,2,185.03,2, 15.50,2,12.55,2,0.01,2,0.88,2, -999,9, -999,9,2096.2,2,2275.8,2,7.8288,6,25,-999,9,-999,9,13.4831,2,25.8770,2,13.5447,2
49UP20140609_2,   P10,26,1,26,84,2,20140707,0131, 325,32.1368,149.2928,5089, 504.9,10.6132,34.2800,2,167.2,2,34.2776,2,167.11,2, 30.49,2,18.88,2,0.01,2,1.35,2, -999,9, -999,9,2142.4,6,2280.7,6,7.7236,2,25,-999,9,-999,9,10.5519,2,26.2944,2,10.6053,2
49UP20140609_2,   P10,26,1,25,98,2,20140707,0131, 322,32.1368,149.2928,5089, 606.4, 7.5137,34.0785,2,153.0,2,34.0885,2,152.53,2, 49.14,2,25.63,2,0.00,2,1.87,2, -999,9, -999,9,2191.5,2,2286.9,2,7.6177,2,25,-999,9,-999,9, 7.4538,2,26.6294,2, 7.5280,2
49UP20140609_2,   P10,26,1,24,110,2,20140707,0131, 319,32.1368,149.2928,5089, 708.6, 5.4605,33.9934,2,127.2,2,33.9935,2,127.88,2, 67.60,2,31.73,2,0.00,2,2.32,2, -999,9, -999,9,2237.7,2,2293.1,2,7.5032,2,25,-999,9,-999,9, 5.4011,2,26.8305,2, 5.4634,2
49UP20140609_2,   P10,26,1,23,96,2,20140707,0131, 316,32.1368,149.2928,5089, 810.0, 4.6837,34.1098,2, 81.4,2,34.1063,2, 82.85,2, 89.16,2,36.79,2,0.00,2,2.67,2, -999,9, -999,9,2291.7,2,2315.7,2,7.4254,2,25,-999,9,-999,9, 4.6198,2,27.0122,2, 4.6846,2
49UP20140609_2,   P10,26,1,22,111,2,20140707,0131, 313,32.1368,149.2928,5089, 910.4, 4.2090,34.1997,2, 57.8,2,34.1994,2, 58.05,2,105.15,2,39.58,2,0.00,2,2.85,2, -999,9, -999,9,2320.5,2,2335.5,2,7.3820,2,25,-999,9,-999,9, 4.1397,2,27.1350,2, 4.2091,2
49UP20140609_2,   P10,26,1,21,78,2,20140707,0131, 310,32.1368,149.2928,5089,1011.0, 3.7518,34.2809,2, 45.3,2,34.2800,6, 45.49,2,118.17,2,41.10,2,0.00,2,2.95,2, -999,9, -999,9,2343.0,2,2351.7,2,7.3632,2,25,-999,9,-999,9, 3.6775,2,27.2467,2, 3.7520,2
49UP20140609_2,   P10,26,1,20,93,2,20140707,0131, 305,32.1368,149.2928,5089,1214.2, 3.0707,34.3924,2, 38.8,2,34.3897,2, 38.78,2,137.30,2,42.26,2,0.00,2,3.03,2, -999,9, -999,9,2373.7,2,2374.6,2,7.3589,2,25,-999,9,-999,9, 2.9858,2,27.4014,2, 3.0710,2
49UP20140609_2,   P10,26,1,19,92,2,20140707,0131, 300,32.1368,149.2928,5089,1416.7, 2.6935,34.4628,2, 38.4,2,34.4618,2, 38.20,6,148.56,6,42.86,6,0.00,6,3.06,6, -999,9, -999,9,2380.6,2,2386.3,2,7.3632,2,25,-999,9,-999,9, 2.5961,2,27.4921,2, 2.6933,2
49UP20140609_2,   P10,26,1,18,101,2,20140707,0131, 254,32.1368,149.2928,5089,1623.2, 2.3706,34.5175,2, 45.1,2,34.5173,2, 45.32,2,156.90,2,42.64,2,0.00,2,3.03,2, -999,9, -999,9,2387.5,2,2400.4,2,7.3797,2,25,-999,9,-999,9, 2.2603,2,27.5641,2, 2.3707,2
49UP20140609_2,   P10,26,1,17,90,2,20140707,0131, 249,32.1368,149.2928,5089,1825.1, 2.1393,34.5586,2, 57.5,2,34.5578,2, 57.74,2,160.61,2,41.92,2,0.00,2,2.97,2, -999,9, -999,9,2383.4,2,2405.5,2,7.4040,6,25,-999,9,-999,9, 2.0156,2,27.6168,2, 2.1395,2
49UP20140609_2,   P10,26,1,16,89,3,20140707,0131, 244,32.1368,149.2928,5089,2029.0, 1.9665,34.5917,2, 73.7,2,34.5913,2, 74.19,2,161.73,2,40.99,2,0.00,2,2.90,2, -999,9, -999,9,2378.1,6,2411.9,6,7.4354,2,25,-999,9,-999,9, 1.8282,2,27.6580,2, 1.9666,2
49UP20140609_2,   P10,26,1,15,88,2,20140707,0131, 238,32.1368,149.2928,5089,2232.3, 1.8385,34.6149,2, 88.9,2,34.6148,2, 88.86,6,160.73,6,40.05,6,0.00,6,2.82,6, -999,9, -999,9,2373.6,2,2412.7,2,7.4657,2,25,-999,9,-999,9, 1.6850,2,27.6874,2, 1.8387,2
49UP20140609_2,   P10,26,1,14,999,2,20140707,0131, 233,32.1368,149.2928,5089,2434.6, 1.7447,34.6301,2,100.1,2,34.6304,2,100.27,2,159.82,2,39.28,2,0.00,2,2.77,2, -999,9, -999,9,2365.6,2,2414.7,2,7.4890,2,25,-999,9,-999,9, 1.5751,2,27.7078,2, 1.7447,2
49UP20140609_2,   P10,26,1,13,667,2,20140707,0131, 228,32.1368,149.2928,5089,2637.8, 1.6717,34.6424,2,110.1,2,34.6427,6,110.17,2,158.11,2,38.62,2,0.00,2,2.72,2, -999,9, -999,9,2353.7,2,2416.6,2,7.5121,2,25,-999,9,-999,9, 1.4852,2,27.7243,2, 1.6714,2
49UP20140609_2,   P10,26,1,12,74,2,20140707,0131, 223,32.1368,149.2928,5089,2841.2, 1.6029,34.6536,2,119.9,2,34.6535,2,119.80,2,156.78,2,38.03,2,0.00,2,2.67,2, -999,9, -999,9,2349.2,2,2417.4,2,7.5232,2,25,-999,9,-999,9, 1.3990,2,27.7395,2, 1.6030,2
49UP20140609_2,   P10,26,1,11,268,2,20140707,0131, 218,32.1368,149.2928,5089,3047.7, 1.5592,34.6610,2,126.7,2,34.6599,2,125.92,3,155.79,2,37.67,2,0.00,2,2.64,2, -999,9, -999,9,2349.8,2,2417.3,2,7.5387,2,25,-999,9,-999,9, 1.3367,2,27.7498,2, 1.5592,2
49UP20140609_2,   P10,26,1,10,267,2,20140707,0131, 212,32.1368,149.2928,5089,3301.0, 1.5145,34.6691,2,136.0,2,34.6684,6,135.20,2,153.09,2,37.01,2,0.00,2,2.60,2, -999,9, -999,9,2344.3,2,2417.5,2,7.5541,2,25,-999,9,-999,9, 1.2681,2,27.7612,2, 1.5144,2
49UP20140609_2,   P10,26,1, 9,518,2,20140707,0131, 206,32.1368,149.2928,5089,3557.4, 1.4863,34.6752,2,143.0,2,34.6748,2,142.79,2,150.67,2,36.60,2,0.00,2,2.56,2, -999,9, -999,9,2338.9,2,2415.7,2,7.5630,2,25,-999,9,-999,9, 1.2146,2,27.7698,2, 1.4862,2
49UP20140609_2,   P10,26,1, 8,81,2,20140707,0131, 200,32.1368,149.2928,5089,3811.4, 1.4704,34.6794,2,147.9,2,34.6792,2,147.92,2,149.36,2,36.20,2,0.00,2,2.53,2, -999,9, -999,9,2332.3,2,2416.9,2,7.5762,2,25,-999,9,-999,9, 1.1727,2,27.7761,2, 1.4703,2
49UP20140609_2,   P10,26,1, 7,516,2,20140707,0131, 155,32.1368,149.2928,5089,4067.3, 1.4614,34.6828,2,151.7,2,34.6822,2,151.26,2,149.04,2,36.03,2,0.00,2,2.52,2, -999,9, -999,9,2332.3,2,2414.9,2,7.5790,6,25,-999,9,-999,9, 1.1362,2,27.7813,2, 1.4614,2
49UP20140609_2,   P10,26,1, 6,113,2,20140707,0131, 150,32.1368,149.2928,5089,4324.2, 1.4662,34.6851,2,154.5,2,34.6851,2,155.11,6,148.44,6,35.72,6,0.00,6,2.50,6, -999,9, -999,9,2328.3,6,2413.4,6,7.5829,2,25,-999,9,-999,9, 1.1123,2,27.7848,2, 1.4661,2
49UP20140609_2,   P10,26,1, 5,94,2,20140707,0131, 145,32.1368,149.2928,5089,4582.6, 1.4751,34.6873,2,157.9,2,34.6872,2,158.60,2,146.14,2,35.53,2,0.00,2,2.47,2, -999,9, -999,9,2324.4,2,2412.6,2,7.5897,2,25,-999,9,-999,9, 1.0913,2,27.7880,2, 1.4752,2
49UP20140609_2,   P10,26,1, 4,77,2,20140707,0131, 139,32.1368,149.2928,5089,4838.3, 1.4915,34.6886,2,160.1,2,34.6886,2,161.26,2,144.55,2,35.36,2,0.00,2,2.46,2, -999,9, -999,9,2324.3,2,2410.4,2,7.5907,2,25,-999,9,-999,9, 1.0770,2,27.7900,2, 1.4914,2
49UP20140609_2,   P10,26,1, 3,104,2,20140707,0131, 135,32.1368,149.2928,5089,5095.0, 1.5128,34.6895,2,161.8,2,34.6891,2,162.26,2,143.34,2,35.14,2,0.00,2,2.45,2, -999,9, -999,9,2317.6,2,2411.6,2,7.5982,2,25,-999,9,-999,9, 1.0665,2,27.7914,2, 1.5126,2
49UP20140609_2,   P10,26,1, 2,75,2,20140707,0131, 133,32.1368,149.2928,5089,5187.6, 1.5226,34.6898,2,162.3,2,34.6896,6,162.51,2,143.12,2,35.16,2,0.00,2,2.45,2, -999,9, -999,9,2322.0,2,2410.4,2,7.5956,2,25,-999,9,-999,9, 1.0645,2,27.7918,2, 1.5225,2
49UP20140609_2,   P10,27,1, 0,BUC,2,20140707,0856,1058,31.8073,149.3112,5648,   0.0,22.3914,34.2759,2,222.9,2,   -999,9,221.78,2,  1.45,2, 0.00,2,0.00,2,0.02,2, -999,9, -999,9,-999.0,9,-999.0,9,-999.0,9,-999,-999,9,-999,9,22.3908,2,23.5580,2,   -999,9
49UP20140609_2,   P10,27,1,36,109,3,20140707,0856,1120,31.8073,149.3112,5648,  11.6,22.2854,34.2866,2,221.8,2,34.2883,2,222.59,2,  1.33,2, 0.00,2,0.00,2,0.01,2, -999,9, -999,9,-999.0,9,-999.0,9,-999.0,9,-999,-999,9,-999,9,22.2831,2,23.5965,2,22.2847,2
49UP20140609_2,   P10,27,1,35,112,2,20140707,0856,1117,31.8073,149.3112,5648,  50.9,17.9863,34.7124,2,242.8,2,34.7092,2,244.02,2,  2.01,2, 0.06,2,0.02,2,0.05,2, -999,9, -999,9,-999.0,9,-999.0,9,-999.0,9,-999,-999,9,-999,9,17.9776,2,25.0573,2,17.9952,2
49UP20140609_2,   P10,27,1,34,83,2,20140707,0856,1115,31.8073,149.3112,5648, 103.1,16.8379,34.6849,2,223.6,2,34.6827,2,224.08,2,  3.71,2, 3.41,2,0.02,2,0.25,2, -999,9, -999,9,-999.0,9,-999.0,9,-999.0,9,-999,-999,9,-999,9,16.8211,2,25.3147,2,16.8442,2
49UP20140609_2,   P10,27,1,33,107,2,20140707,0856,1114,31.8073,149.3112,5648, 129.4,16.6699,34.6624,2,225.5,2,34.6645,2,225.91,2,  3.80,2, 3.47,2,0.02,2,0.25,2, -999,9, -999,9,-999.0,9,-999.0,9,-999.0,9,-999,-999,9,-999,9,16.6490,2,25.3379,2,16.6716,2
49UP20140609_2,   P10,27,1,32,105,2,20140707,0856,1113,31.8073,149.3112,5648, 152.9,16.6738,34.6829,2,223.4,2,34.6814,2,224.09,2,  4.11,2, 3.82,2,0.01,2,0.26,2, -999,9, -999,9,-999.0,9,-999.0,9,-999.0,9,-999,-999,9,-999,9,16.6489,2,25.3536,2,16.6694,2
49UP20140609_2,   P10,27,1,31,515,2,20140707,0856,1111,31.8073,149.3112,5648, 202.3,16.1210,34.6413,2,210.9,2,34.6449,2,211.24,2,  6.15,2, 6.03,2,0.01,2,0.41,2, -999,9, -999,9,-999.0,9,-999.0,9,-999.0,9,-999,-999,9,-999,9,16.0889,2,25.4513,2,16.1082,2
49UP20140609_2,   P10,27,1,30,97,2,20140707,0856,1110,31.8073,149.3112,5648, 254.4,15.1620,34.5708,2,201.6,2,34.5705,2,201.98,2,  9.38,2, 8.45,2,0.01,2,0.58,2, -999,9, -999,9,-999.0,9,-999.0,9,-999.0,9,-999,-999,9,-999,9,15.1233,2,25.6140,2,15.1626,2
49UP20140609_2,   P10,27,1,29,102,2,20140707,0856,1107,31.8073,149.3112,5648, 334.2,12.9152,34.4036,2,189.3,2,34.4049,6,189.72,2, 16.84,2,13.10,2,0.00,2,0.92,2, -999,9, -999,9,-999.0,9,-999.0,9,-999.0,9,-999,-999,9,-999,9,12.8695,2,25.9568,2,12.9193,2
49UP20140609_2,   P10,27,1,28,108,2,20140707,0856,1104,31.8073,149.3112,5648, 437.8, 9.6040,34.1698,2,180.6,2,34.1698,2,181.23,6, 30.98,6,19.19,6,0.00,6,1.38,6, -999,9, -999,9,-999.0,9,-999.0,9,-999.0,9,-999,-999,9,-999,9, 9.5543,2,26.3782,2, 9.5685,2
49UP20140609_2,   P10,27,1,27,998,2,20140707,0856,1100,31.8073,149.3112,5648, 539.8, 6.5454,33.9859,2,159.9,2,33.9869,2,161.52,2, 50.56,2,26.57,2,0.00,2,1.94,2, -999,9, -999,9,-999.0,9,-999.0,9,-999.0,9,-999,-999,9,-999,9, 6.4963,2,26.6875,2, 6.5443,2
49UP20140609_2,   P10,27,1,26,84,2,20140707,0856,1056,31.8073,149.3112,5648, 641.9, 5.1977,34.0099,2,116.4,2,34.0060,2,118.88,2, 72.02,2,33.00,2,0.00,2,2.41,2, -999,9, -999,9,-999.0,9,-999.0,9,-999.0,9,-999,-999,9,-999,9, 5.1454,2,26.8736,2, 5.1976,2
49UP20140609_2,   P10,27,1,25,98,2,20140707,0856,1052,31.8073,149.3112,5648, 739.1, 4.6776,34.1038,2, 81.9,2,34.0997,2, 83.00,2, 89.12,2,36.90,2,0.00,2,2.66,2, -999,9, -999,9,-999.0,9,-999.0,9,-999.0,9,-999,-999,9,-999,9, 4.6197,2,27.0074,2, 4.6786,2
49UP20140609_2,   P10,27,1,24,110,2,20140707,0856,1048,31.8073,149.3112,5648, 839.7, 4.1839,34.2022,2, 58.2,2,34.1986,2, 58.65,2,105.04,2,39.44,2,0.00,2,2.84,2, -999,9, -999,9,-999.0,9,-999.0,9,-999.0,9,-999,-999,9,-999,9, 4.1206,2,27.1391,2, 4.1840,2
49UP20140609_2,   P10,27,1,23,96,2,20140707,0856,1044,31.8073,149.3112,5648, 940.8, 3.8049,34.2779,2, 48.5,2,34.2727,2, 48.99,2,116.17,2,40.54,2,0.00,2,2.91,2, -999,9, -999,9,-999.0,9,-999.0,9,-999.0,9,-999,-999,9,-999,9, 3.7359,2,27.2385,2, 3.8057,2
49UP20140609_2,   P10,27,1,22,111,2,20140707,0856,1039,31.8073,149.3112,5648,1083.0, 3.3479,34.3483,2, 39.7,2,34.3475,2, 39.50,2,129.60,2,41.98,2,0.00,2,3.00,2, -999,9, -999,9,-999.0,9,-999.0,9,-999.0,9,-999,-999,9,-999,9, 3.2710,2,27.3397,2, 3.3477,2
49UP20140609_2,   P10,27,1,21,78,2,20140707,0856,1033,31.8073,149.3112,5648,1285.0, 2.8502,34.4293,2, 38.5,2,34.4282,2, 38.69,2,143.40,2,42.45,2,0.00,2,3.04,2, -999,9, -999,9,-999.0,9,-999.0,9,-999.0,9,-999,-999,9,-999,9, 2.7617,2,27.4509,2, 2.8507,2
49UP20140609_2,   P10,27,1,20,93,2,20140707,0856,1026,31.8073,149.3112,5648,1487.4, 2.5010,34.4929,2, 40.8,2,34.4921,2, 40.87,2,153.44,2,42.80,2,0.00,2,3.05,2, -999,9, -999,9,-999.0,9,-999.0,9,-999.0,9,-999,-999,9,-999,9, 2.4001,2,27.5329,2, 2.5009,2
49UP20140609_2,   P10,27,1,19,92,2,20140707,0856,1020,31.8073,149.3112,5648,1689.9, 2.2492,34.5428,2, 53.0,2,34.5426,2, 52.86,6,158.40,6,42.20,6,0.00,6,3.00,6, -999,9, -999,9,-999.0,9,-999.0,9,-999.0,9,-999,-999,9,-999,9, 2.1351,2,27.5946,2, 2.2492,2
49UP20140609_2,   P10,27,1,18,101,2,20140707,0856,1014,31.8073,149.3112,5648,1893.3, 2.0532,34.5755,2, 65.3,2,34.5753,2, 65.12,2,161.01,2,41.47,2,0.00,2,2.93,2, -999,9, -999,9,-999.0,9,-999.0,9,-999.0,9,-999,-999,9,-999,9, 1.9250,2,27.6375,2, 2.0534,2
49UP20140609_2,   P10,27,1,17,90,2,20140707,0856,1009,31.8073,149.3112,5648,2095.0, 1.8815,34.6050,2, 81.7,2,34.6051,6, 81.35,2,161.32,2,40.41,2,0.00,2,2.86,2, -999,9, -999,9,-999.0,9,-999.0,9,-999.0,9,-999,-999,9,-999,9, 1.7390,2,27.6755,2, 1.8814,2
49UP20140609_2,   P10,27,1,16,89,3,20140707,0856,1005,31.8073,149.3112,5648,2297.3, 1.7590,34.6257,2, 96.6,2,34.6255,2, 96.46,2,160.24,2,39.50,2,0.00,2,2.78,2, -999,9, -999,9,-999.0,9,-999.0,9,-999.0,9,-999,-999,9,-999,9, 1.6012,2,27.7023,2, 1.7588,2
49UP20140609_2,   P10,27,1,15,88,3,20140707,0856,1000,31.8073,149.3112,5648,2501.9, 1.6608,34.6423,2,110.2,2,34.6419,2,109.60,2,157.98,2,38.66,2,0.00,2,2.72,2, -999,9, -999,9,-999.0,9,-999.0,9,-999.0,9,-999,-999,9,-999,9, 1.4867,2,27.7241,2, 1.6607,2
49UP20140609_2,   P10,27,1,14,999,2,20140707,0856, 955,31.8073,149.3112,5648,2705.2, 1.6078,34.6524,2,119.8,2,34.6521,2,120.00,2,155.61,2,37.99,2,0.00,2,2.67,2, -999,9, -999,9,-999.0,9,-999.0,9,-999.0,9,-999,-999,9,-999,9, 1.4163,2,27.7373,2, 1.6078,2
49UP20140609_2,   P10,27,1,13,667,2,20140707,0856, 951,31.8073,149.3112,5648,2910.0, 1.5642,34.6594,2,125.8,2,34.6589,6,125.95,2,154.93,2,37.56,2,0.00,2,2.64,2, -999,9, -999,9,-999.0,9,-999.0,9,-999.0,9,-999,-999,9,-999,9, 1.3546,2,27.7473,2, 1.5642,2
49UP20140609_2,   P10,27,1,12,74,3,20140707,0856, 947,31.8073,149.3112,5648,3122.4, 1.5250,34.6661,2,132.7,2,34.6649,2,132.21,2,153.43,2,37.15,2,0.00,2,2.61,2, -999,9, -999,9,-999.0,9,-999.0,9,-999.0,9,-999,-999,9,-999,9, 1.2959,2,27.7568,2, 1.5249,2
49UP20140609_2,   P10,27,1,11,268,2,20140707,0856, 942,31.8073,149.3112,5648,3380.6, 1.4919,34.6725,2,139.6,2,34.6706,4,138.76,2,151.90,2,36.79,2,0.00,2,2.57,2, -999,9, -999,9,-999.0,9,-999.0,9,-999.0,9,-999,-999,9,-999,9, 1.2381,2,27.7660,2, 1.4919,2
49UP20140609_2,   P10,27,1,10,267,2,20140707,0856, 937,31.8073,149.3112,5648,3633.9, 1.4761,34.6770,2,145.0,2,34.6744,4,144.14,2,149.87,2,36.43,2,0.00,2,2.55,2, -999,9, -999,9,-999.0,9,-999.0,9,-999.0,9,-999,-999,9,-999,9, 1.1968,2,27.7724,2, 1.4761,2
49UP20140609_2,   P10,27,1, 9,518,2,20140707,0856, 932,31.8073,149.3112,5648,3892.6, 1.4638,34.6809,2,149.9,2,34.6797,2,148.58,3,148.53,6,36.07,6,0.00,6,2.52,6, -999,9, -999,9,-999.0,9,-999.0,9,-999.0,9,-999,-999,9,-999,9, 1.1576,2,27.7783,2, 1.4639,2
49UP20140609_2,   P10,27,1, 8,81,2,20140707,0856, 927,31.8073,149.3112,5648,4148.4, 1.4596,34.6840,2,153.3,2,34.6839,2,153.38,2,147.87,2,35.81,2,0.00,2,2.50,2, -999,9, -999,9,-999.0,9,-999.0,9,-999.0,9,-999,-999,9,-999,9, 1.1255,2,27.7829,2, 1.4595,2
49UP20140609_2,   P10,27,1, 7,516,2,20140707,0856, 923,31.8073,149.3112,5648,4404.3, 1.4607,34.6866,2,157.2,2,34.6859,2,157.15,2,145.84,2,35.45,2,0.00,2,2.48,2, -999,9, -999,9,-999.0,9,-999.0,9,-999.0,9,-999,-999,9,-999,9, 1.0979,2,27.7870,2, 1.4606,2
49UP20140609_2,   P10,27,1, 6,113,3,20140707,0856, 918,31.8073,149.3112,5648,4662.6, 1.4759,34.6882,2,159.5,2,34.6874,2,159.38,2,144.74,2,35.40,2,0.00,2,2.46,2, -999,9, -999,9,-999.0,9,-999.0,9,-999.0,9,-999,-999,9,-999,9, 1.0828,2,27.7893,2, 1.4759,2
49UP20140609_2,   P10,27,1, 5,94,2,20140707,0856, 913,31.8073,149.3112,5648,4918.9, 1.4914,34.6897,2,162.0,2,34.6903,6,162.06,2,143.23,2,35.18,2,0.00,2,2.45,2, -999,9, -999,9,-999.0,9,-999.0,9,-999.0,9,-999,-999,9,-999,9, 1.0672,2,27.7915,2, 1.4914,2
49UP20140609_2,   P10,27,1, 4,77,2,20140707,0856, 908,31.8073,149.3112,5648,5177.4, 1.5083,34.6912,2,164.7,2,34.6912,2,164.88,2,140.87,2,34.92,2,0.00,2,2.43,2, -999,9, -999,9,-999.0,9,-999.0,9,-999.0,9,-999,-999,9,-999,9, 1.0520,2,27.7937,2, 1.5082,2
49UP20140609_2,   P10,27,1, 3,104,2,20140707,0856, 904,31.8073,149.3112,5648,5429.6, 1.5316,34.6919,2,166.5,2,34.6920,2,166.42,2,139.46,2,34.85,2,0.00,2,2.43,2, -999,9, -999,9,-999.0,9,-999.0,9,-999.0,9,-999,-999,9,-999,9, 1.0428,2,27.7949,2, 1.5315,2
49UP20140609_2,   P10,27,1, 2,75,2,20140707,0856, 859,31.8073,149.3112,5648,5692.7, 1.5594,34.6929,2,167.7,2,34.6931,2,168.34,2,137.88,2,34.71,2,0.00,2,2.41,2, -999,9, -999,9,-999.0,9,-999.0,9,-999.0,9,-999,-999,9,-999,9, 1.0358,2,27.7962,2, 1.5594,2
49UP20140609_2,   P10,27,1, 1,997,2,20140707,0856, 856,31.8073,149.3112,5648,5770.6, 1.5698,34.6929,2,167.7,2,34.6922,2,167.21,6,138.17,6,34.85,6,0.00,6,2.42,6, -999,9, -999,9,-999.0,9,-999.0,9,-999.0,9,-999,-999,9,-999,9, 1.0356,2,27.7962,2, 1.5699,2