BOTTLE,20230725CCHSIOADS
EXPOCODE,SECT_ID,STNNBR,CASTNO,SAMPNO,BTLNBR,BTLNBR_FLAG_W,DATE,TIME,BTL_TIME,LATITUDE,LONGITUDE,DEPTH,CTDPRS,CTDTMP,CTDSAL,CTDSAL_FLAG_W,CTDOXY,CTDOXY_FLAG_W,SALNTY,SALNTY_FLAG_W,OXYGEN,OXYGEN_FLAG_W,SILCAT,SILCAT_FLAG_W,NO2+NO3,NO2+NO3_FLAG_W,NITRIT,NITRIT_FLAG_W,PHSPHT,PHSPHT_FLAG_W,CFC-11,CFC-11_FLAG_W,CFC-12,CFC-12_FLAG_W,TCARBN,TCARBN_FLAG_W,ALKALI,ALKALI_FLAG_W,PH_TOT,PH_TOT_FLAG_W,PH_TMP,CHLORA,CHLORA_FLAG_W,PPHYTN,PPHYTN_FLAG_W,THETA,THETA_FLAG_W,SIG0,SIG0_FLAG_W,REFTMP,REFTMP_FLAG_W
,,,,,,,,,,,,METERS,DBAR,ITS-90,PSS-78,,UMOL/KG,,PSS-78,,UMOL/KG,,UMOL/KG,,UMOL/KG,,UMOL/KG,,UMOL/KG,,PMOL/KG,,PMOL/KG,,UMOL/KG,,UMOL/KG,,,,DEG C,UG/KG,,UG/KG,,ITS-90,,KG/M^3,,ITS-90,
49UP20140609_1,   P10,17,1, 0,BUC,2,20140613,1026,1229,35.0157,148.7023,6024,   0.0,21.1920,34.6795,2,225.0,2,   -999,9,224.60,2,  1.60,2, 0.00,2,0.00,2,0.02,2, -999,9, -999,9,-999.0,9,-999.0,9,-999.0,9,-999,0.15,2,0.06,2,21.1915,2,24.1978,2,   -999,9
49UP20140609_1,   P10,17,1,36,109,2,20140613,1026,1304,35.0157,148.7023,6024,  10.3,21.1919,34.6794,2,224.7,2,   -999,9,224.47,2,  1.73,2, 0.03,2,0.00,2,0.02,2, -999,9, -999,9,-999.0,9,-999.0,9,-999.0,9,-999,0.14,2,0.06,2,21.1899,2,24.1981,2,21.1909,2
49UP20140609_1,   P10,17,1,35,112,2,20140613,1026,1302,35.0157,148.7023,6024,  50.2,19.1430,34.7585,2,232.6,2,   -999,9,232.12,2,  1.64,2, 0.05,2,0.00,2,0.03,2, -999,9, -999,9,-999.0,9,-999.0,9,-999.0,9,-999,0.26,2,0.15,2,19.1340,2,24.8023,2,19.1456,2
49UP20140609_1,   P10,17,1,34,83,2,20140613,1026,1300,35.0157,148.7023,6024, 102.0,18.4867,34.7753,2,218.7,2,34.7423,4,218.76,2,  2.60,2, 1.92,2,0.03,2,0.14,2, -999,9, -999,9,-999.0,9,-999.0,9,-999.0,9,-999,0.10,2,0.07,2,18.4689,2,24.9835,2,18.4690,2
49UP20140609_1,   P10,17,1,33,517,2,20140613,1026,1258,35.0157,148.7023,6024, 151.1,18.0036,34.7631,2,217.3,2,   -999,9,216.54,2,  3.14,2, 2.63,2,0.02,2,0.18,2, -999,9, -999,9,-999.0,9,-999.0,9,-999.0,9,-999,0.02,2,0.04,2,17.9777,2,25.0961,2,18.0039,2
49UP20140609_1,   P10,17,1,32,105,2,20140613,1026,1253,35.0157,148.7023,6024, 199.2,17.6266,34.7516,2,218.8,2,34.7505,2,218.30,6,  3.29,6, 2.88,6,0.02,6,0.20,6, -999,9, -999,9,-999.0,9,-999.0,9,-999.0,9,-999,0.01,2,0.04,2,17.5929,2,25.1813,2,17.6225,2
49UP20140609_1,   P10,17,1,31,515,2,20140613,1026,1251,35.0157,148.7023,6024, 256.7,17.1835,34.7340,2,221.1,2,   -999,9,220.53,2,  3.75,2, 3.43,2,0.02,2,0.24,2, -999,9, -999,9,-999.0,9,-999.0,9,-999.0,9,-999,-999,9,-999,9,17.1408,2,25.2766,2,17.1825,2
49UP20140609_1,   P10,17,1,30,97,2,20140613,1026,1249,35.0157,148.7023,6024, 334.8,16.8325,34.7245,2,224.1,2,   -999,9,224.31,2,  3.92,2, 3.70,2,0.01,2,0.25,2, -999,9, -999,9,-999.0,9,-999.0,9,-999.0,9,-999,-999,9,-999,9,16.7775,2,25.3554,2,16.8322,2
49UP20140609_1,   P10,17,1,29,102,2,20140613,1026,1245,35.0157,148.7023,6024, 433.9,14.4642,34.5280,2,184.3,2,34.5330,2,183.78,2, 13.54,2,11.26,2,0.01,2,0.78,2, -999,9, -999,9,-999.0,9,-999.0,9,-999.0,9,-999,-999,9,-999,9,14.3998,2,25.7377,2,14.4904,2
49UP20140609_1,   P10,17,1,28,91,2,20140613,1026,1242,35.0157,148.7023,6024, 534.5,11.0783,34.2957,2,172.1,2,   -999,9,171.61,2, 27.34,2,17.86,2,0.01,2,1.26,2, -999,9, -999,9,-999.0,9,-999.0,9,-999.0,9,-999,-999,9,-999,9,11.0116,2,26.2250,2,11.0586,2
49UP20140609_1,   P10,17,1,27,998,2,20140613,1026,1238,35.0157,148.7023,6024, 639.0, 8.4195,34.2025,2,141.3,2,34.2110,2,140.84,2, 47.69,2,25.05,2,0.00,2,1.81,2, -999,9, -999,9,-999.0,9,-999.0,9,-999.0,9,-999,-999,9,-999,9, 8.3518,2,26.5946,2, 8.4155,2
49UP20140609_1,   P10,17,1,26,84,2,20140613,1026,1233,35.0157,148.7023,6024, 738.2, 6.6030,34.1767,2,114.1,2,   -999,9,114.15,2, 67.92,2,30.84,2,0.00,2,2.23,2, -999,9, -999,9,-999.0,9,-999.0,9,-999.0,9,-999,-999,9,-999,9, 6.5343,2,26.8330,2, 6.6013,2
49UP20140609_1,   P10,17,1,25,98,2,20140613,1026,1229,35.0157,148.7023,6024, 840.3, 4.2375,34.0052,2, 91.8,2,33.9824,4, 93.51,2, 88.51,2,37.03,2,0.00,2,2.70,2, -999,9, -999,9,-999.0,9,-999.0,9,-999.0,9,-999,-999,9,-999,9, 4.1741,2,26.9768,2, 4.2411,2
49UP20140609_1,   P10,17,1,24,110,2,20140613,1026,1225,35.0157,148.7023,6024, 940.2, 4.1730,34.1785,2, 60.4,2,   -999,9, 61.15,2,104.28,2,39.45,2,0.00,2,2.85,2, -999,9, -999,9,-999.0,9,-999.0,9,-999.0,9,-999,-999,9,-999,9, 4.1016,2,27.1221,2, 4.1731,2
49UP20140609_1,   P10,17,1,23,96,2,20140613,1026,1219,35.0157,148.7023,6024,1082.4, 3.6638,34.3071,2, 46.0,2,34.3058,2, 45.64,2,121.12,6,41.15,6,0.00,6,2.96,6, -999,9, -999,9,-999.0,9,-999.0,9,-999.0,9,-999,-999,9,-999,9, 3.5844,2,27.2768,2, 3.6635,2
49UP20140609_1,   P10,17,1,22,111,3,20140613,1026,1212,35.0157,148.7023,6024,1283.4, 3.0482,34.4087,2, 43.1,2,34.4072,2, 42.65,2,138.04,2,42.08,2,0.00,2,3.02,2, -999,9, -999,9,-999.0,9,-999.0,9,-999.0,9,-999,-999,9,-999,9, 2.9580,2,27.4169,2, 3.0483,2
49UP20140609_1,   P10,17,1,21,78,2,20140613,1026,1205,35.0157,148.7023,6024,1486.2, 2.7039,34.4670,2, 45.5,2,34.4656,2, 45.01,2,147.06,2,42.26,2,0.00,2,3.02,2, -999,9, -999,9,-999.0,9,-999.0,9,-999.0,9,-999,-999,9,-999,9, 2.6009,2,27.4950,2, 2.7035,2
49UP20140609_1,   P10,17,1,20,93,2,20140613,1026,1159,35.0157,148.7023,6024,1690.7, 2.3910,34.5168,2, 49.7,2,34.5149,2, 49.22,2,155.38,2,42.39,2,0.00,2,3.02,2, -999,9, -999,9,-999.0,9,-999.0,9,-999.0,9,-999,-999,9,-999,9, 2.2751,2,27.5623,2, 2.3917,2
49UP20140609_1,   P10,17,1,19,92,2,20140613,1026,1153,35.0157,148.7023,6024,1893.6, 2.1954,34.5529,2, 59.5,2,34.5518,2, 59.10,2,158.59,2,41.81,2,0.00,2,2.97,2, -999,9, -999,9,-999.0,9,-999.0,9,-999.0,9,-999,-999,9,-999,9, 2.0652,2,27.6083,2, 2.1957,2
49UP20140609_1,   P10,17,1,18,101,2,20140613,1026,1147,35.0157,148.7023,6024,2094.3, 2.0081,34.5859,2, 71.8,2,34.5861,2, 71.53,2,161.56,2,41.14,2,0.00,2,2.91,2, -999,9, -999,9,-999.0,9,-999.0,9,-999.0,9,-999,-999,9,-999,9, 1.8637,2,27.6506,2, 2.0077,2
49UP20140609_1,   P10,17,1,17,90,2,20140613,1026,1142,35.0157,148.7023,6024,2300.0, 1.8887,34.6088,2, 85.9,2,34.6090,2, 85.38,2,160.11,2,40.36,2,0.00,2,2.85,2, -999,9, -999,9,-999.0,9,-999.0,9,-999.0,9,-999,-999,9,-999,9, 1.7285,2,27.6793,2, 1.8887,2
49UP20140609_1,   P10,17,1,16,89,2,20140613,1026,1137,35.0157,148.7023,6024,2503.4, 1.7741,34.6283,2, 99.5,2,34.6279,6, 99.50,2,159.06,2,39.45,2,0.00,2,2.78,2, -999,9, -999,9,-999.0,9,-999.0,9,-999.0,9,-999,-999,9,-999,9, 1.5978,2,27.7047,2, 1.7744,2
49UP20140609_1,   P10,17,1,15,88,2,20140613,1026,1133,35.0157,148.7023,6024,2709.1, 1.6966,34.6401,2,107.7,2,34.6400,2,107.64,6,158.90,6,38.97,6,0.00,6,2.75,6, -999,9, -999,9,-999.0,9,-999.0,9,-999.0,9,-999,-999,9,-999,9, 1.5030,2,27.7211,2, 1.6966,2
49UP20140609_1,   P10,17,1,14,999,2,20140613,1026,1129,35.0157,148.7023,6024,2911.4, 1.6296,34.6512,2,117.5,2,34.6517,6,117.51,2,157.39,2,38.29,2,0.00,2,2.69,2, -999,9, -999,9,-999.0,9,-999.0,9,-999.0,9,-999,-999,9,-999,9, 1.4186,2,27.7362,2, 1.6296,2
49UP20140609_1,   P10,17,1,13,667,2,20140613,1026,1125,35.0157,148.7023,6024,3124.9, 1.5864,34.6592,2,124.8,2,34.6603,2,125.01,2,156.11,2,37.80,2,0.00,2,2.66,2, -999,9, -999,9,-999.0,9,-999.0,9,-999.0,9,-999,-999,9,-999,9, 1.3558,2,27.7470,2, 1.5865,2
49UP20140609_1,   P10,17,1,12,74,2,20140613,1026,1120,35.0157,148.7023,6024,3382.5, 1.5349,34.6681,2,134.0,2,34.6695,2,133.96,2,153.79,2,37.17,2,0.00,2,2.61,2, -999,9, -999,9,-999.0,9,-999.0,9,-999.0,9,-999,-999,9,-999,9, 1.2799,2,27.7595,2, 1.5350,2
49UP20140609_1,   P10,17,1,11,996,2,20140613,1026,1115,35.0157,148.7023,6024,3637.2, 1.5138,34.6731,2,139.3,2,34.6723,2,138.10,3,152.98,2,36.91,2,0.00,2,2.59,2, -999,9, -999,9,-999.0,9,-999.0,9,-999.0,9,-999,-999,9,-999,9, 1.2332,2,27.7668,2, 1.5139,2
49UP20140609_1,   P10,17,1,10,107,2,20140613,1026,1110,35.0157,148.7023,6024,3895.8, 1.4938,34.6780,2,145.0,2,34.6750,4,143.56,3,151.27,2,36.54,2,0.00,2,2.56,2, -999,9, -999,9,-999.0,9,-999.0,9,-999.0,9,-999,-999,9,-999,9, 1.1864,2,27.7739,2, 1.4943,2
49UP20140609_1,   P10,17,1, 9,108,2,20140613,1026,1106,35.0157,148.7023,6024,4148.8, 1.4852,34.6818,2,149.6,2,34.6803,2,148.35,3,149.98,2,36.23,2,0.00,2,2.53,2, -999,9, -999,9,-999.0,9,-999.0,9,-999.0,9,-999,-999,9,-999,9, 1.1504,2,27.7795,2, 1.4854,2
49UP20140609_1,   P10,17,1, 8,81,2,20140613,1026,1100,35.0157,148.7023,6024,4405.6, 1.4867,34.6843,2,153.2,2,34.6836,2,153.29,2,148.59,2,35.86,2,0.00,2,2.51,2, -999,9, -999,9,-999.0,9,-999.0,9,-999.0,9,-999,-999,9,-999,9, 1.1230,2,27.7834,2, 1.4867,2
49UP20140609_1,   P10,17,1, 7,106,3,20140613,1026,1056,35.0157,148.7023,6024,4661.9, 1.4957,34.6866,2,156.0,2,34.6839,4,154.31,3,147.96,2,35.79,2,0.00,2,2.50,2, -999,9, -999,9,-999.0,9,-999.0,9,-999.0,9,-999,-999,9,-999,9, 1.1020,2,27.7866,2, 1.4960,2
49UP20140609_1,   P10,17,1, 6,113,2,20140613,1026,1051,35.0157,148.7023,6024,4922.5, 1.5108,34.6881,2,158.7,2,34.6881,2,158.47,2,145.63,2,35.53,2,0.00,2,2.47,2, -999,9, -999,9,-999.0,9,-999.0,9,-999.0,9,-999,-999,9,-999,9, 1.0856,2,27.7889,2, 1.5108,2
49UP20140609_1,   P10,17,1, 5,94,2,20140613,1026,1046,35.0157,148.7023,6024,5179.8, 1.5283,34.6896,2,161.0,2,34.6898,2,159.84,3,144.69,6,35.42,6,0.00,6,2.47,6, -999,9, -999,9,-999.0,9,-999.0,9,-999.0,9,-999,-999,9,-999,9, 1.0710,2,27.7912,2, 1.5283,2
49UP20140609_1,   P10,17,1, 4,77,2,20140613,1026,1041,35.0157,148.7023,6024,5433.2, 1.5478,34.6910,2,163.2,2,34.6918,2,163.35,2,142.49,2,35.21,2,0.00,2,2.45,2, -999,9, -999,9,-999.0,9,-999.0,9,-999.0,9,-999,-999,9,-999,9, 1.0580,2,27.7932,2, 1.5481,2
49UP20140609_1,   P10,17,1, 3,104,2,20140613,1026,1036,35.0157,148.7023,6024,5691.9, 1.5727,34.6918,2,164.8,2,34.6921,2,164.50,2,141.40,2,35.12,2,0.00,2,2.45,2, -999,9, -999,9,-999.0,9,-999.0,9,-999.0,9,-999,-999,9,-999,9, 1.0487,2,27.7945,2, 1.5729,2
49UP20140609_1,   P10,17,1, 2,75,2,20140613,1026,1030,35.0157,148.7023,6024,5951.4, 1.6011,34.6923,2,166.0,2,34.6923,2,166.16,2,140.13,2,34.97,2,0.00,2,2.43,2, -999,9, -999,9,-999.0,9,-999.0,9,-999.0,9,-999,-999,9,-999,9, 1.0418,2,27.7953,2, 1.6010,2
49UP20140609_1,   P10,17,1, 1,997,2,20140613,1026,1026,35.0157,148.7023,6024,6131.2, 1.6247,34.6927,2,166.2,2,34.6922,6,166.11,2,140.23,2,35.06,2,0.00,2,2.44,2, -999,9, -999,9,-999.0,9,-999.0,9,-999.0,9,-999,-999,9,-999,9, 1.0403,2,27.7957,2, 1.6249,2
49UP20140609_1,   P10,15,1, 0,BUC,2,20140614,0015, 150,36.0315,148.1635,5745,   0.0,22.4229,34.6473,2,219.9,2,34.6499,2,219.65,2,  1.86,2, 0.00,2,0.00,2,0.05,2, -999,9, -999,9,1978.8,2,2279.3,2,8.0601,2,25,0.26,2,0.11,2,22.4225,2,23.8310,2,   -999,9
49UP20140609_1,   P10,15,1,36,109,2,20140614,0015, 241,36.0315,148.1635,5745,  10.5,22.4200,34.6461,2,219.7,2,   -999,9,220.04,2,  1.76,2, 0.00,2,0.00,2,0.03,2, -999,9, -999,9,1975.2,2,2278.7,2,8.0611,2,25,0.23,2,0.09,2,22.4179,2,23.8313,2,22.4194,2
49UP20140609_1,   P10,15,1,35,112,2,20140614,0015, 240,36.0315,148.1635,5745,  51.0,19.6487,34.5195,2,233.8,2,   -999,9,229.81,6,  2.02,6, 0.19,6,0.04,6,0.09,6, -999,9, -999,9,1992.0,2,2280.2,2,8.0383,2,25,0.62,2,0.29,2,19.6395,2,24.4895,2,19.4914,2
49UP20140609_1,   P10,15,1,34,83,2,20140614,0015, 235,36.0315,148.1635,5745, 103.0,17.1200,34.5925,2,191.5,2,34.5881,2,191.39,2,  8.99,2, 7.13,2,0.03,2,0.50,2, -999,9, -999,9,2048.0,2,2280.0,2,7.9282,2,25,0.03,2,0.07,2,17.1030,2,25.1770,2,17.1246,2
49UP20140609_1,   P10,15,1,33,517,2,20140614,0015, 233,36.0315,148.1635,5745, 153.7,16.5553,34.6759,2,204.2,2,   -999,9,207.32,2,  5.89,2, 5.60,2,0.02,2,0.38,2, -999,9, -999,9,2040.0,2,2280.4,2,7.9417,2,25,0.00,2,0.04,2,16.5305,2,25.3759,2,16.5542,2
49UP20140609_1,   P10,15,1,32,105,2,20140614,0015, 231,36.0315,148.1635,5745, 203.0,14.4362,34.5260,2,178.2,2,34.5260,2,178.00,2, 16.00,2,11.90,2,0.01,2,0.82,2, -999,9, -999,9,2087.9,2,2280.8,2,7.8490,2,25,0.00,2,0.03,2,14.4063,2,25.7348,2,14.4356,2
49UP20140609_1,   P10,15,1,31,515,2,20140614,0015, 228,36.0315,148.1635,5745, 252.6,13.0103,34.4292,2,180.5,2,   -999,9,180.31,2, 19.44,2,13.97,2,0.01,2,0.98,2, -999,9, -999,9,2103.0,2,2278.9,2,7.8136,2,25,-999,9,-999,9,12.9756,2,25.9556,2,13.0070,2
49UP20140609_1,   P10,15,1,30,97,2,20140614,0015, 226,36.0315,148.1635,5745, 285.2,12.0211,34.3821,2,167.2,2,   -999,9,167.88,2, 25.47,2,16.63,2,0.01,2,1.17,2, -999,9, -999,9,2125.6,2,2280.9,2,7.7713,2,25,-999,9,-999,9,11.9840,2,26.1122,2,12.0019,2
49UP20140609_1,   P10,15,1,29,102,2,20140614,0015, 220,36.0315,148.1635,5745, 387.2, 8.2827,34.0425,2,181.8,2,34.0751,4,177.47,2, 37.51,2,21.43,2,0.01,2,1.55,2, -999,9, -999,9,2164.0,2,2279.6,2,7.6762,2,25,-999,9,-999,9, 8.2428,2,26.4856,2, 8.2669,2
49UP20140609_1,   P10,15,1,28,91,2,20140614,0015, 215,36.0315,148.1635,5745, 475.7, 6.1827,33.9863,2,152.4,2,   -999,9,153.10,2, 56.68,2,28.16,2,0.00,2,2.05,2, -999,9, -999,9,2209.6,2,2289.7,2,7.5640,2,25,-999,9,-999,9, 6.1410,2,26.7338,2, 6.1807,2
49UP20140609_1,   P10,15,1,27,998,2,20140614,0015, 209,36.0315,148.1635,5745, 580.0, 5.3260,34.1421,2, 95.6,2,34.1471,2, 95.40,2, 81.83,2,34.60,2,0.00,2,2.50,2, -999,9, -999,9,2266.7,2,2315.4,2,7.4725,2,25,-999,9,-999,9, 5.2783,2,26.9628,2, 5.3286,2
49UP20140609_1,   P10,15,1,26,84,2,20140614,0015, 203,36.0315,148.1635,5745, 676.9, 4.5597,34.1774,2, 71.6,2,   -999,9, 71.88,6, 97.04,6,38.00,6,0.00,6,2.73,6, -999,9, -999,9,2305.4,2,2327.4,2,7.4086,2,25,-999,9,-999,9, 4.5076,2,27.0781,2, 4.5616,2
49UP20140609_1,   P10,15,1,25,98,2,20140614,0015, 157,36.0315,148.1635,5745, 779.7, 4.0117,34.2546,2, 55.2,2,34.2573,2, 55.43,2,110.54,2,39.87,2,0.00,2,2.86,2, -999,9, -999,9,2333.3,2,2344.7,2,7.3867,2,25,-999,9,-999,9, 3.9543,2,27.1979,2, 4.0109,2
49UP20140609_1,   P10,15,1,24,110,2,20140614,0015, 153,36.0315,148.1635,5745, 879.0, 3.6507,34.3144,2, 48.6,2,   -999,9, 48.93,2,120.79,2,40.96,2,0.00,2,2.93,2, -999,9, -999,9,2343.1,2,2358.6,2,7.3755,2,25,-999,9,-999,9, 3.5876,2,27.2822,2, 3.6486,2
49UP20140609_1,   P10,15,1,23,96,2,20140614,0015, 147,36.0315,148.1635,5745, 981.0, 3.2890,34.3707,2, 45.5,2,34.3690,2, 45.88,2,129.91,2,41.54,2,0.00,2,2.97,2, -999,9, -999,9,2355.6,2,2371.0,2,7.3737,2,25,-999,9,-999,9, 3.2206,2,27.3623,2, 3.2896,2
49UP20140609_1,   P10,15,1,22,111,2,20140614,0015, 140,36.0315,148.1635,5745,1141.5, 2.9613,34.4364,2, 51.0,2,34.4382,2, 51.09,2,138.25,2,41.46,2,0.00,2,2.97,2, -999,9, -999,9,2363.3,2,2381.5,2,7.3907,3,25,-999,9,-999,9, 2.8830,2,27.4458,2, 2.9634,2
49UP20140609_1,   P10,15,1,21,78,2,20140614,0015, 133,36.0315,148.1635,5745,1344.8, 2.5824,34.4800,2, 44.4,2,34.4791,2, 43.87,2,150.38,2,42.59,2,0.00,2,3.03,2, -999,9, -999,9,2380.9,6,2393.6,6,7.3783,2,25,-999,9,-999,9, 2.4919,2,27.5148,2, 2.5838,2
49UP20140609_1,   P10,15,1,20,93,4,20140614,0015, 127,36.0315,148.1635,5745,1545.3, 2.3318,34.5215,2, 49.5,2,   -999,9,-999.0,9,-999.0,9, -999,9,-999,9,-999,9, -999,9, -999,9,-999.0,9,-999.0,9,-999.0,9,-999,-999,9,-999,9, 2.2283,2,27.5700,2, 2.3320,2
49UP20140609_1,   P10,15,1,19,92,2,20140614,0015, 122,36.0315,148.1635,5745,1747.8, 2.1018,34.5650,2, 62.9,2,34.5617,2, 61.93,2,160.68,2,41.75,2,0.00,2,2.95,2, -999,9, -999,9,2381.5,2,2407.3,2,7.4134,2,25,-999,9,-999,9, 1.9848,2,27.6244,2, 2.1034,2
49UP20140609_1,   P10,15,1,18,101,2,20140614,0015, 117,36.0315,148.1635,5745,1950.9, 1.9544,34.5921,2, 74.9,2,34.5924,2, 74.57,2,161.77,2,41.03,2,0.00,2,2.89,2, -999,9, -999,9,2374.6,2,2412.4,2,7.4393,2,25,-999,9,-999,9, 1.8229,2,27.6587,2, 1.9544,2
49UP20140609_1,   P10,15,1,17,90,2,20140614,0015, 113,36.0315,148.1635,5745,2156.4, 1.8377,34.6124,2, 87.1,2,34.6126,2, 86.64,6,161.63,6,40.28,6,0.00,6,2.84,6, -999,9, -999,9,2372.7,2,2414.8,2,7.4615,2,25,-999,9,-999,9, 1.6907,2,27.6850,2, 1.8388,2
49UP20140609_1,   P10,15,1,16,89,3,20140614,0015, 110,36.0315,148.1635,5745,2360.4, 1.7262,34.6319,2,101.2,2,34.6321,2,101.10,2,160.22,2,39.47,2,0.00,2,2.77,2, -999,9, -999,9,2355.6,2,2419.3,2,7.4891,2,25,-999,9,-999,9, 1.5635,2,27.7101,2, 1.7269,2
49UP20140609_1,   P10,15,1,15,88,2,20140614,0015, 107,36.0315,148.1635,5745,2560.6, 1.6588,34.6433,2,110.7,2,34.6435,2,110.79,2,158.52,2,38.81,2,0.00,2,2.72,2, -999,9, -999,9,2354.7,2,2417.9,2,7.5084,2,25,-999,9,-999,9, 1.4795,2,27.7254,2, 1.6591,2
49UP20140609_1,   P10,15,1,14,999,2,20140614,0015, 103,36.0315,148.1635,5745,2766.1, 1.5977,34.6534,2,119.9,2,34.6536,6,119.77,2,156.87,2,38.11,2,0.00,2,2.67,2, -999,9, -999,9,2352.3,2,2417.9,2,7.5239,2,25,-999,9,-999,9, 1.4008,2,27.7392,2, 1.5979,2
49UP20140609_1,   P10,15,1,13,667,3,20140614,0015, 100,36.0315,148.1635,5745,2971.8, 1.5549,34.6615,2,128.1,2,34.6570,4,126.12,3,154.15,3,37.68,2,0.00,2,2.64,2, -999,9, -999,9,2343.6,2,2418.4,2,7.5372,6,25,-999,9,-999,9, 1.3396,2,27.7501,2, 1.5549,2
49UP20140609_1,   P10,15,1,12,74,2,20140614,0015,  57,36.0315,148.1635,5745,3214.8, 1.5098,34.6689,2,135.4,2,34.6700,2,135.00,2,153.55,2,37.09,2,0.00,2,2.60,2, -999,9, -999,9,2339.1,2,2419.7,6,7.5530,2,25,-999,9,-999,9, 1.2721,2,27.7608,2, 1.5099,2
49UP20140609_1,   P10,15,1,11,996,2,20140614,0015,  53,36.0315,148.1635,5745,3473.4, 1.4851,34.6741,2,141.1,2,34.6718,2,139.27,3,152.12,2,36.93,3,0.00,2,2.58,2, -999,9, -999,9,2335.1,2,2417.4,2,7.5595,2,25,-999,9,-999,9, 1.2221,2,27.7684,2, 1.4850,2
49UP20140609_1,   P10,15,1,10,107,2,20140614,0015,  49,36.0315,148.1635,5745,3726.6, 1.4686,34.6786,2,146.5,2,34.6758,4,144.76,3,150.30,3,36.51,2,0.00,2,2.55,2, -999,9, -999,9,2330.0,2,2415.6,2,7.5667,2,25,-999,9,-999,9, 1.1799,2,27.7750,2, 1.4686,2
49UP20140609_1,   P10,15,1, 9,108,2,20140614,0015,  46,36.0315,148.1635,5745,3984.1, 1.4647,34.6817,2,150.0,2,34.6758,4,146.68,4,149.79,2,36.21,2,0.00,2,2.53,2, -999,9, -999,9,2329.1,2,2416.3,2,7.5684,2,25,-999,9,-999,9, 1.1485,2,27.7796,2, 1.4647,2
49UP20140609_1,   P10,15,1, 8,81,2,20140614,0015,  42,36.0315,148.1635,5745,4242.6, 1.4650,34.6846,2,153.6,2,34.6853,2,153.66,6,148.69,6,35.90,6,0.00,6,2.50,6, -999,9, -999,9,2323.6,2,2418.0,2,7.5796,2,25,-999,9,-999,9, 1.1203,2,27.7839,2, 1.4651,2
49UP20140609_1,   P10,15,1, 7,106,2,20140614,0015,  38,36.0315,148.1635,5745,4496.4, 1.4726,34.6866,2,156.5,2,34.6872,6,156.09,2,147.61,2,35.73,2,0.00,2,2.49,2, -999,9, -999,9,2327.8,2,2418.7,2,7.5858,2,25,-999,9,-999,9, 1.0989,2,27.7869,2, 1.4727,2
49UP20140609_1,   P10,15,1, 6,113,2,20140614,0015,  34,36.0315,148.1635,5745,4756.1, 1.4863,34.6885,2,159.2,2,34.6878,2,159.30,2,145.98,2,35.45,2,0.00,2,2.47,2, -999,9, -999,9,2323.7,2,2415.5,2,7.5922,2,25,-999,9,-999,9, 1.0818,2,27.7895,2, 1.4864,2
49UP20140609_1,   P10,15,1, 5,94,2,20140614,0015,  30,36.0315,148.1635,5745,5014.7, 1.5038,34.6898,2,161.6,2,34.6882,2,160.98,2,144.24,2,35.31,2,0.00,2,2.46,2, -999,9, -999,9,2318.6,2,2414.4,2,7.5931,2,25,-999,9,-999,9, 1.0676,2,27.7916,2, 1.5038,2
49UP20140609_1,   P10,15,1, 4,77,2,20140614,0015,  26,36.0315,148.1635,5745,5271.2, 1.5272,34.6908,2,163.2,2,34.6908,2,163.27,2,142.37,2,35.20,2,0.00,2,2.45,2, -999,9, -999,9,2316.6,2,2412.5,2,7.5949,6,25,-999,9,-999,9, 1.0585,2,27.7929,2, 1.5272,2
49UP20140609_1,   P10,15,1, 3,104,4,20140614,0015,  22,36.0315,148.1635,5745,5525.2, 1.5512,34.6917,2,164.9,2,34.6883,4,162.26,4,141.75,4,35.19,4,0.00,4,2.45,4, -999,9, -999,9,2314.5,4,2412.9,4,7.5906,4,25,-999,9,-999,9, 1.0495,2,27.7943,2, 1.5512,2
49UP20140609_1,   P10,15,1, 2,75,2,20140614,0015,  18,36.0315,148.1635,5745,5785.1, 1.5780,34.6923,2,166.1,2,34.6929,2,166.36,2,140.15,2,35.02,2,0.00,2,2.43,2, -999,9, -999,9,2317.4,2,2411.4,2,7.5978,2,25,-999,9,-999,9, 1.0415,2,27.7953,2, 1.5780,2
49UP20140609_1,   P10,15,1, 1,997,2,20140614,0015,  16,36.0315,148.1635,5745,5891.0, 1.5926,34.6923,2,166.1,2,34.6926,2,166.10,2,140.34,2,35.03,2,0.00,2,2.43,2, -999,9, -999,9,2318.1,2,2412.1,2,7.5972,2,25,-999,9,-999,9, 1.0416,2,27.7954,2, 1.5926,2