BOTTLE,20230725CCHSIOADS
EXPOCODE,SECT_ID,STNNBR,CASTNO,SAMPNO,BTLNBR,BTLNBR_FLAG_W,DATE,TIME,BTL_TIME,LATITUDE,LONGITUDE,DEPTH,CTDPRS,CTDTMP,CTDSAL,CTDSAL_FLAG_W,CTDOXY,CTDOXY_FLAG_W,SALNTY,SALNTY_FLAG_W,OXYGEN,OXYGEN_FLAG_W,SILCAT,SILCAT_FLAG_W,NO2+NO3,NO2+NO3_FLAG_W,NITRIT,NITRIT_FLAG_W,PHSPHT,PHSPHT_FLAG_W,CFC-11,CFC-11_FLAG_W,CFC-12,CFC-12_FLAG_W,TCARBN,TCARBN_FLAG_W,ALKALI,ALKALI_FLAG_W,PH_TOT,PH_TOT_FLAG_W,PH_TMP,CHLORA,CHLORA_FLAG_W,PPHYTN,PPHYTN_FLAG_W,THETA,THETA_FLAG_W,SIG0,SIG0_FLAG_W,REFTMP,REFTMP_FLAG_W
,,,,,,,,,,,,METERS,DBAR,ITS-90,PSS-78,,UMOL/KG,,PSS-78,,UMOL/KG,,UMOL/KG,,UMOL/KG,,UMOL/KG,,UMOL/KG,,PMOL/KG,,PMOL/KG,,UMOL/KG,,UMOL/KG,,,,DEG C,UG/KG,,UG/KG,,ITS-90,,KG/M^3,,ITS-90,
49UP20140609_4,   P10,88,1, 0,BUC,2,20140826,0618, 723, 0.0083,146.1310,3625,   0.0,30.2949,34.1418,2,196.0,2,34.1587,2,194.75,2,  1.13,2, 0.02,2,0.00,2,0.07,4, -999,9, -999,9,1918.5,2,2243.9,2,8.1256,2,25,0.06,2,0.02,2,30.2943,2,20.9824,2,   -999,9
49UP20140609_4,   P10,88,1,35,112,2,20140826,0618, 805, 0.0083,146.1310,3625,  11.1,29.8265,34.1278,2,196.5,2,34.1448,4,196.57,2,  1.13,2, 0.01,2,0.00,2,0.08,4,1.443,2,0.891,2,1920.0,2,2245.1,2,8.1199,2,25,0.06,2,0.03,2,29.8238,2,21.1323,2,29.8244,2
49UP20140609_4,   P10,88,1,34,83,2,20140826,0618, 804, 0.0083,146.1310,3625,  26.6,29.4496,34.4249,2,197.1,2,34.3914,4,196.80,2,  1.13,2, 0.01,2,0.00,2,0.13,4, -999,9, -999,9,1935.9,2,2259.9,2,8.1135,2,25,0.07,2,0.05,2,29.4431,2,21.4838,2,29.4543,2
49UP20140609_4,   P10,88,1,33,469,2,20140826,0618, 801, 0.0083,146.1310,3625,  51.0,29.4851,34.7615,2,197.8,2,34.7673,2,197.75,2,  1.00,2, 0.03,2,0.00,2,0.23,4,1.451,2,0.887,2,1953.7,2,2284.7,2,8.1140,2,25,0.16,2,0.10,2,29.4726,2,21.7263,2,29.4853,2
49UP20140609_4,   P10,88,1,32,105,2,20140826,0618, 800, 0.0083,146.1310,3625,  77.0,29.1981,34.9801,2,194.5,2,35.0253,4,193.33,2,  1.09,2, 0.87,2,0.13,2,0.31,4, -999,9, -999,9,1973.1,2,2303.4,2,8.1043,2,25,0.38,2,0.30,2,29.1794,2,21.9890,2,29.1958,2
49UP20140609_4,   P10,88,1,31,515,2,20140826,0618, 758, 0.0083,146.1310,3625, 101.8,28.7431,35.3858,2,172.7,2,35.4070,4,173.17,2,  1.71,2, 4.18,2,0.82,2,0.53,4,1.481,2,0.926,2,2026.0,2,2325.5,2,8.0471,2,25,0.26,2,0.52,2,28.7186,2,22.4477,2,28.7414,2
49UP20140609_4,   P10,88,1,29,102,2,20140826,0618, 757, 0.0083,146.1310,3625, 127.1,26.2266,35.6125,2,149.6,2,35.6119,2,146.06,2,  2.28,2, 7.76,2,0.07,2,0.73,4, -999,9, -999,9,2075.7,2,2336.4,2,7.9747,2,25,0.05,2,0.30,2,26.1980,2,23.4335,2,26.2162,2
49UP20140609_4,   P10,88,1,30,97,2,20140826,0618, 757, 0.0083,146.1310,3625, 127.5,26.0988,35.6198,2,147.4,2,35.6117,2,147.63,2,  2.09,2, 7.49,2,0.08,2,0.71,4, -999,9, -999,9,2070.2,2,2334.4,2,7.9820,2,25,-999,9,-999,9,26.0702,2,23.4791,2,26.0934,2
49UP20140609_4,   P10,88,1,28,108,2,20140826,0618, 755, 0.0083,146.1310,3625, 154.0,22.4535,35.4622,2,137.5,2,35.4690,2,137.80,2,  3.70,2, 8.92,2,0.02,2,0.77,4,1.777,2,1.098,2,2093.2,2,2327.1,2,7.9302,2,25,0.03,2,0.07,2,22.4226,2,24.4496,2,22.4513,2
49UP20140609_4,   P10,88,1,27,998,2,20140826,0618, 753, 0.0083,146.1310,3625, 204.2,17.2520,35.3492,2,143.7,2,35.3537,6,143.28,2,  5.33,2,12.46,2,0.01,2,1.01,4,1.966,2,1.144,2,2131.8,2,2323.7,2,7.8467,2,25,0.00,2,0.02,2,17.2178,2,25.7302,2,17.2516,2
49UP20140609_4,   P10,88,1,26,84,2,20140826,0618, 751, 0.0083,146.1310,3625, 252.4,13.7940,35.0372,2,151.1,2,35.0386,2,151.01,6,  9.91,6,16.45,6,0.01,6,1.24,4,1.873,6,1.041,6,2148.3,2,2310.5,2,7.7886,2,25,-999,9,-999,9,13.7578,2,26.2666,2,13.7938,2
49UP20140609_4,   P10,88,1,25,98,2,20140826,0618, 749, 0.0083,146.1310,3625, 303.5,11.5314,34.8308,2,140.0,2,34.8301,2,139.69,2, 17.20,2,21.44,2,0.00,2,1.56,4,1.565,2,0.851,2,2173.9,2,2304.3,2,7.7158,2,25,-999,9,-999,9,11.4927,2,26.5533,2,11.5310,2
49UP20140609_4,   P10,88,1,24,110,3,20140826,0618, 747, 0.0083,146.1310,3625, 353.3,10.3385,34.7377,2,107.7,2,34.7383,2,107.56,2, 23.61,2,26.80,2,0.00,2,1.92,4,1.123,6,0.606,6,2202.1,2,2301.7,2,7.6307,2,25,-999,9,-999,9,10.2964,2,26.6960,2,10.3381,2
49UP20140609_4,   P10,88,1,23,96,2,20140826,0618, 745, 0.0083,146.1310,3625, 404.0, 9.7013,34.7037,2,113.7,2,34.7031,2,113.43,2, 23.76,2,27.56,2,0.00,2,1.97,4,1.069,2,0.571,2,2205.2,2,2301.1,2,7.6233,2,25,-999,9,-999,9, 9.6550,2,26.7789,2, 9.6984,2
49UP20140609_4,   P10,88,1,22,111,2,20140826,0618, 743, 0.0083,146.1310,3625, 454.9, 8.8244,34.6342,2, 98.6,2,34.6337,2, 98.76,2, 31.43,2,30.62,2,0.00,2,2.17,4,0.733,2,0.395,2,2225.5,6,2303.7,6,7.5806,2,25,-999,9,-999,9, 8.7751,2,26.8675,2, 8.8205,2
49UP20140609_4,   P10,88,1,21,78,2,20140826,0618, 741, 0.0083,146.1310,3625, 504.9, 7.9120,34.5846,2,135.2,2,34.5850,6,135.02,2, 29.29,2,29.09,2,0.00,2,2.06,4,0.857,6,0.448,6,2210.5,2,2304.3,2,7.6196,6,25,-999,9,-999,9, 7.8605,2,26.9683,2, 7.9109,2
49UP20140609_4,   P10,88,1,20,93,2,20140826,0618, 738, 0.0083,146.1310,3625, 605.8, 6.7358,34.5392,2,124.0,2,34.5394,2,124.13,2, 40.23,2,32.37,2,0.00,2,2.30,4,0.474,2,0.260,2,2233.4,2,2312.5,2,7.5781,2,25,-999,9,-999,9, 6.6790,2,27.0996,2, 6.7362,2
49UP20140609_4,   P10,88,1,18,101,2,20140826,0618, 731, 0.0083,146.1310,3625, 706.3, 5.9207,34.5276,2,116.3,2,34.5281,2,116.06,2, 51.92,2,34.52,2,0.00,2,2.47,4,0.276,2,0.150,2,2250.3,2,2323.4,2,7.5536,2,25,-999,9,-999,9, 5.8584,2,27.1973,2, 5.9214,2
49UP20140609_4,   P10,88,1,19,92,2,20140826,0618, 731, 0.0083,146.1310,3625, 706.5, 5.9124,34.5278,2,116.0,2,34.5277,2,116.17,2, 51.94,2,34.57,2,0.00,2,2.47,4,0.271,2,0.154,2,2251.2,2,2323.3,2,7.5549,2,25,-999,9,-999,9, 5.8501,2,27.1984,2, 5.9126,2
49UP20140609_4,   P10,88,1,17,90,2,20140826,0618, 727, 0.0083,146.1310,3625, 807.1, 5.4476,34.5272,2,114.5,2,34.5271,2,114.41,2, 60.54,2,35.36,2,0.00,2,2.53,4,0.201,2,0.115,2,2261.7,6,2331.3,6,7.5468,2,25,-999,9,-999,9, 5.3787,2,27.2558,2, 5.4478,2
49UP20140609_4,   P10,88,1,16,89,3,20140826,0618, 724, 0.0083,146.1310,3625, 908.9, 4.9295,34.5374,2,103.1,2,34.5376,2,102.96,2, 71.43,2,37.18,2,0.00,2,2.66,4,0.088,2,0.051,2,2278.7,2,2343.1,2,7.5233,6,25,-999,9,-999,9, 4.8548,2,27.3252,2, 4.9292,2
49UP20140609_4,   P10,88,1,15,88,2,20140826,0618, 721, 0.0083,146.1310,3625,1008.7, 4.5609,34.5484,2, 99.8,2,34.5484,2,100.29,2, 81.91,2,37.66,2,0.00,2,2.72,4,0.057,2,0.029,2,2293.2,2,2352.2,2,7.5178,2,25,-999,9,-999,9, 4.4801,2,27.3757,2, 4.5608,2
49UP20140609_4,   P10,88,1,14,999,2,20140826,0618, 717, 0.0083,146.1310,3625,1210.2, 3.7758,34.5652,2,108.4,2,34.5651,2,108.38,6, 94.11,6,37.79,6,0.00,6,2.72,4,0.033,2,0.014,2,2302.9,2,2366.7,2,7.5234,2,25,-999,9,-999,9, 3.6843,2,27.4724,2, 3.7759,2
49UP20140609_4,   P10,88,1,13,667,2,20140826,0618, 707, 0.0083,146.1310,3625,1413.0, 3.2879,34.5894,2,100.0,2,34.5889,6,100.16,2,111.07,2,38.86,2,0.00,2,2.79,4,0.018,2,0.000,2,2325.0,2,2381.9,2,7.5095,2,25,-999,9,-999,9, 3.1842,2,27.5402,2, 3.2881,2
49UP20140609_4,   P10,88,1,12,74,2,20140826,0618, 702, 0.0083,146.1310,3625,1616.2, 2.7946,34.6093,2,106.8,2,34.6086,2,106.79,2,121.63,2,38.62,2,0.00,2,2.77,4,0.016,2,0.000,2,2330.8,2,2395.4,2,7.5185,2,25,-999,9,-999,9, 2.6794,2,27.6020,2, 2.7948,2
49UP20140609_4,   P10,88,1,11,268,2,20140826,0618, 657, 0.0083,146.1310,3625,1818.7, 2.4621,34.6243,2,113.8,2,34.6231,2,113.81,2,128.63,2,38.28,2,0.00,2,2.73,4,0.012,2,0.003,2,2334.3,2,2401.8,2,7.5301,2,25,-999,9,-999,9, 2.3342,2,27.6435,2, 2.4621,2
49UP20140609_4,   P10,88,1,10,267,2,20140826,0618, 653, 0.0083,146.1310,3625,2021.4, 2.2368,34.6357,2,119.8,2,34.6352,2,119.74,2,132.47,2,37.88,2,0.00,2,2.70,4,0.025,2,0.011,2,2339.3,2,2407.5,2,7.5375,2,25,-999,9,-999,9, 2.0950,2,27.6723,2, 2.2372,2
49UP20140609_4,   P10,88,1, 8,81,2,20140826,0618, 649, 0.0083,146.1310,3625,2224.7, 1.9843,34.6479,2,124.9,2,34.6468,2,124.65,2,138.48,2,37.65,2,0.00,2,2.68,4, -999,9, -999,9,2342.5,2,2413.2,2,7.5440,2,25,-999,9,-999,9, 1.8289,2,27.7029,2, 1.9845,2
49UP20140609_4,   P10,88,1, 9,518,2,20140826,0618, 649, 0.0083,146.1310,3625,2225.1, 1.9844,34.6480,2,124.9,2,34.6471,2,124.58,2,138.40,2,37.64,2,0.00,2,2.67,4, -999,9, -999,9,2341.8,2,2412.2,2,7.5423,2,25,-999,9,-999,9, 1.8290,2,27.7030,2, 1.9845,2
49UP20140609_4,   P10,88,1, 7,516,2,20140826,0618, 644, 0.0083,146.1310,3625,2427.9, 1.8111,34.6570,2,131.1,2,34.6560,2,131.07,2,141.12,2,37.23,2,0.00,2,2.64,4, -999,9, -999,9,2339.9,2,2415.1,2,7.5559,2,25,-999,9,-999,9, 1.6408,2,27.7245,2, 1.8111,2
49UP20140609_4,   P10,88,1, 6,113,2,20140826,0618, 640, 0.0083,146.1310,3625,2631.1, 1.7618,34.6602,2,133.9,2,34.6599,2,133.83,2,141.46,2,37.06,2,0.00,2,2.63,4,0.025,2,0.015,2,2340.6,2,2416.4,2,7.5601,2,25,-999,9,-999,9, 1.5741,2,27.7320,2, 1.7618,2
49UP20140609_4,   P10,88,1, 5,94,2,20140826,0618, 636, 0.0083,146.1310,3625,2835.5, 1.6679,34.6661,2,138.8,2,34.6655,2,138.67,2,142.25,2,36.77,2,0.00,2,2.61,4,0.022,2,0.002,2,2337.1,2,2417.2,2,7.5667,6,25,-999,9,-999,9, 1.4631,2,27.7449,2, 1.6679,2
49UP20140609_4,   P10,88,1, 4,77,2,20140826,0618, 632, 0.0083,146.1310,3625,3038.8, 1.6183,34.6700,2,142.2,2,34.6699,2,142.12,2,142.75,2,36.49,2,0.00,2,2.59,4, -999,9, -999,9,2335.7,6,2419.2,6,7.5701,2,25,-999,9,-999,9, 1.3952,2,27.7529,2, 1.6185,2
49UP20140609_4,   P10,88,1, 3,104,2,20140826,0618, 626, 0.0083,146.1310,3625,3294.2, 1.6006,34.6727,2,144.2,2,34.6721,2,143.94,6,142.47,6,36.39,6,0.00,6,2.57,4,0.012,2,0.005,2,2336.7,2,2419.4,2,7.5746,2,25,-999,9,-999,9, 1.3528,2,27.7581,2, 1.6006,2
49UP20140609_4,   P10,88,1, 2,75,2,20140826,0618, 621, 0.0083,146.1310,3625,3549.4, 1.5640,34.6772,2,147.7,2,34.6772,6,147.65,2,142.09,2,36.14,2,0.00,2,2.56,4,0.029,2,0.013,2,2335.7,2,2422.3,2,7.5844,2,25,-999,9,-999,9, 1.2912,2,27.7661,2, 1.5643,2
49UP20140609_4,   P10,88,1, 1,997,2,20140826,0618, 618, 0.0083,146.1310,3625,3657.1, 1.5522,34.6788,2,149.3,2,34.6777,2,148.82,2,142.22,2,36.12,2,0.00,2,2.55,4, -999,9, -999,9,2336.1,2,2421.8,2,7.5874,2,25,-999,9,-999,9, 1.2685,2,27.7689,2, 1.5525,2
49UP20140609_4,   P10,89,1, 0,BUC,2,20140826,1433,1625,-0.2488,146.0483,4722,   0.0,29.8358,34.0918,2,196.3,2,   -999,9,196.06,2,  1.14,2, 0.04,2,0.00,2,0.07,2, -999,9, -999,9,-999.0,9,-999.0,9,-999.0,9,-999,-999,9,-999,9,29.8352,2,21.1015,2,   -999,9
49UP20140609_4,   P10,89,1,36,109,2,20140826,1433,1641,-0.2488,146.0483,4722,  11.0,29.7536,34.1132,2,196.7,2,34.1226,4,196.72,2,  1.07,2, 0.01,2,0.00,2,0.08,2, -999,9, -999,9,-999.0,9,-999.0,9,-999.0,9,-999,-999,9,-999,9,29.7509,2,21.1461,2,29.7517,2
49UP20140609_4,   P10,89,1,35,112,2,20140826,1433,1640,-0.2488,146.0483,4722,  25.2,29.4777,34.3856,2,197.1,2,34.3882,2,196.83,2,  1.07,2, 0.01,2,0.00,2,0.11,2, -999,9, -999,9,-999.0,9,-999.0,9,-999.0,9,-999,-999,9,-999,9,29.4716,2,21.4447,2,29.4782,2
49UP20140609_4,   P10,89,1,34,83,2,20140826,1433,1635,-0.2488,146.0483,4722,  49.9,29.4622,34.7568,2,197.0,2,34.7681,4,198.43,6,  0.90,6, 0.03,6,0.01,6,0.19,6, -999,9, -999,9,-999.0,9,-999.0,9,-999.0,9,-999,-999,9,-999,9,29.4500,2,21.7305,2,29.4607,2
49UP20140609_4,   P10,89,1,33,469,2,20140826,1433,1634,-0.2488,146.0483,4722,  75.8,28.8586,35.3796,2,177.7,2,35.3913,4,178.15,2,  1.56,2, 3.80,2,0.82,2,0.48,2, -999,9, -999,9,-999.0,9,-999.0,9,-999.0,9,-999,-999,9,-999,9,28.8404,2,22.4025,2,28.8578,2
49UP20140609_4,   P10,89,1,32,105,2,20140826,1433,1633,-0.2488,146.0483,4722, 100.9,28.0864,35.5395,2,163.4,2,35.5574,4,159.80,2,  1.96,2, 6.83,2,0.32,2,0.66,2, -999,9, -999,9,-999.0,9,-999.0,9,-999.0,9,-999,-999,9,-999,9,28.0625,2,22.7799,2,28.1000,2
49UP20140609_4,   P10,89,1,31,515,2,20140826,1433,1632,-0.2488,146.0483,4722, 125.7,25.8865,35.6233,2,142.8,2,35.6094,4,142.67,2,  2.53,2, 8.43,2,0.08,2,0.75,2, -999,9, -999,9,-999.0,9,-999.0,9,-999.0,9,-999,-999,9,-999,9,25.8585,2,23.5478,2,25.8842,2
49UP20140609_4,   P10,89,1,30,97,2,20140826,1433,1631,-0.2488,146.0483,4722, 151.5,22.4311,35.4650,2,137.2,2,35.4528,4,138.01,2,  3.89,2, 9.01,2,0.02,2,0.76,2, -999,9, -999,9,-999.0,9,-999.0,9,-999.0,9,-999,-999,9,-999,9,22.4006,2,24.4580,2,22.4275,2
49UP20140609_4,   P10,89,1,29,102,2,20140826,1433,1629,-0.2488,146.0483,4722, 201.9,16.2737,35.2694,2,144.6,2,35.2429,4,146.11,2,  6.53,2,13.91,2,0.01,2,1.08,2, -999,9, -999,9,-999.0,9,-999.0,9,-999.0,9,-999,-999,9,-999,9,16.2413,2,25.8993,2,16.2707,2
49UP20140609_4,   P10,89,1,28,108,2,20140826,1433,1627,-0.2488,146.0483,4722, 251.7,13.8065,35.0552,2,151.7,2,35.0452,4,152.24,2,  9.34,2,16.53,2,0.01,2,1.24,2, -999,9, -999,9,-999.0,9,-999.0,9,-999.0,9,-999,-999,9,-999,9,13.7704,2,26.2779,2,13.8050,2
49UP20140609_4,   P10,89,1,27,998,2,20140826,1433,1625,-0.2488,146.0483,4722, 332.3,10.8577,34.7728,2,126.9,2,34.7746,2,126.94,2, 20.31,2,23.89,2,0.00,2,1.71,2, -999,9, -999,9,-999.0,9,-999.0,9,-999.0,9,-999,-999,9,-999,9,10.8169,2,26.6316,2,10.8566,2
49UP20140609_4,   P10,89,1,26,84,2,20140826,1433,1623,-0.2488,146.0483,4722, 382.8, 9.8921,34.7165,2,118.1,2,34.7117,2,114.60,2, 23.04,2,27.17,2,0.00,2,1.92,2, -999,9, -999,9,-999.0,9,-999.0,9,-999.0,9,-999,-999,9,-999,9, 9.8477,2,26.7565,2, 9.8909,2
49UP20140609_4,   P10,89,1,25,98,2,20140826,1433,1622,-0.2488,146.0483,4722, 433.4, 8.9899,34.6461,2, 99.6,2,34.6445,2,100.43,2, 30.15,2,30.23,2,0.00,2,2.12,2, -999,9, -999,9,-999.0,9,-999.0,9,-999.0,9,-999,-999,9,-999,9, 8.9424,2,26.8502,2, 8.9887,2
49UP20140609_4,   P10,89,1,24,110,2,20140826,1433,1620,-0.2488,146.0483,4722, 483.5, 8.2924,34.6059,2,117.2,2,34.6059,2,117.05,2, 30.64,2,29.90,2,0.00,2,2.10,2, -999,9, -999,9,-999.0,9,-999.0,9,-999.0,9,-999,-999,9,-999,9, 8.2418,2,26.9279,2, 8.2915,2
49UP20140609_4,   P10,89,1,23,96,2,20140826,1433,1618,-0.2488,146.0483,4722, 534.4, 7.5389,34.5660,2,141.1,2,34.5667,2,141.38,6, 29.83,6,29.15,6,0.00,6,2.05,6, -999,9, -999,9,-999.0,9,-999.0,9,-999.0,9,-999,-999,9,-999,9, 7.4859,2,27.0083,2, 7.5399,2
49UP20140609_4,   P10,89,1,22,111,2,20140826,1433,1616,-0.2488,146.0483,4722, 635.5, 6.5892,34.5426,2,109.6,2,34.5424,6,108.49,2, 44.18,2,34.25,2,0.00,2,2.41,2, -999,9, -999,9,-999.0,9,-999.0,9,-999.0,9,-999,-999,9,-999,9, 6.5302,2,27.1223,2, 6.5933,2
49UP20140609_4,   P10,89,1,21,78,2,20140826,1433,1613,-0.2488,146.0483,4722, 736.3, 5.7156,34.5280,2,111.0,2,34.5274,2,111.51,2, 55.92,2,35.31,2,0.00,2,2.50,2, -999,9, -999,9,-999.0,9,-999.0,9,-999.0,9,-999,-999,9,-999,9, 5.6516,2,27.2233,2, 5.7155,2
49UP20140609_4,   P10,89,1,20,93,2,20140826,1433,1610,-0.2488,146.0483,4722, 836.9, 5.3008,34.5292,2,111.1,2,34.5293,2,111.42,2, 63.60,2,35.77,2,0.00,2,2.53,2, -999,9, -999,9,-999.0,9,-999.0,9,-999.0,9,-999,-999,9,-999,9, 5.2301,2,27.2751,2, 5.3004,2
49UP20140609_4,   P10,89,1,19,92,2,20140826,1433,1608,-0.2488,146.0483,4722, 937.7, 4.8882,34.5388,2,103.1,2,34.5404,2,103.09,2, 73.38,2,37.05,2,0.00,2,2.63,2, -999,9, -999,9,-999.0,9,-999.0,9,-999.0,9,-999,-999,9,-999,9, 4.8113,2,27.3312,2, 4.8878,2
49UP20140609_4,   P10,89,1,18,101,2,20140826,1433,1605,-0.2488,146.0483,4722,1079.3, 4.3533,34.5473,2,106.6,2,34.5485,2,106.69,2, 81.72,2,37.27,2,0.00,2,2.66,2, -999,9, -999,9,-999.0,9,-999.0,9,-999.0,9,-999,-999,9,-999,9, 4.2680,2,27.3978,2, 4.3533,2
49UP20140609_4,   P10,89,1,17,90,2,20140826,1433,1600,-0.2488,146.0483,4722,1280.9, 3.6328,34.5695,2,109.7,2,34.5693,2,109.80,2, 96.69,2,37.81,2,0.00,2,2.68,2, -999,9, -999,9,-999.0,9,-999.0,9,-999.0,9,-999,-999,9,-999,9, 3.5366,2,27.4905,2, 3.6327,2
49UP20140609_4,   P10,89,1,16,89,3,20140826,1433,1545,-0.2488,146.0483,4722,1482.9, 2.9906,34.5997,2,107.4,2,34.6002,2,107.52,2,115.58,2,38.20,2,0.00,2,2.72,2, -999,9, -999,9,-999.0,9,-999.0,9,-999.0,9,-999,-999,9,-999,9, 2.8842,2,27.5761,2, 2.9907,2
49UP20140609_4,   P10,89,1,15,88,2,20140826,1433,1540,-0.2488,146.0483,4722,1686.0, 2.6476,34.6144,2,115.9,2,34.6145,2,116.15,2,121.01,6,37.89,6,0.00,6,2.69,6, -999,9, -999,9,-999.0,9,-999.0,9,-999.0,9,-999,-999,9,-999,9, 2.5284,2,27.6191,2, 2.6477,2
49UP20140609_4,   P10,89,1,14,999,2,20140826,1433,1536,-0.2488,146.0483,4722,1888.6, 2.3851,34.6280,2,118.5,2,34.6278,6,118.33,2,127.97,2,37.82,2,0.00,2,2.67,2, -999,9, -999,9,-999.0,9,-999.0,9,-999.0,9,-999,-999,9,-999,9, 2.2524,2,27.6533,2, 2.3852,2
49UP20140609_4,   P10,89,1,13,667,2,20140826,1433,1531,-0.2488,146.0483,4722,2091.8, 2.1575,34.6400,2,121.7,2,34.6394,2,121.84,2,133.85,2,37.73,2,0.00,2,2.66,2, -999,9, -999,9,-999.0,9,-999.0,9,-999.0,9,-999,-999,9,-999,9, 2.0108,2,27.6824,2, 2.1575,2
49UP20140609_4,   P10,89,1,12,74,3,20140826,1433,1527,-0.2488,146.0483,4722,2295.3, 1.9458,34.6502,2,125.8,2,34.6499,2,126.00,2,138.97,2,37.45,2,0.00,2,2.63,2, -999,9, -999,9,-999.0,9,-999.0,9,-999.0,9,-999,-999,9,-999,9, 1.7848,2,27.7082,2, 1.9458,2
49UP20140609_4,   P10,89,1,11,268,2,20140826,1433,1522,-0.2488,146.0483,4722,2498.3, 1.7995,34.6580,2,132.0,2,34.6574,2,132.04,2,140.76,2,37.03,2,0.00,2,2.60,2, -999,9, -999,9,-999.0,9,-999.0,9,-999.0,9,-999,-999,9,-999,9, 1.6231,2,27.7266,2, 1.7995,2
49UP20140609_4,   P10,89,1,10,267,3,20140826,1433,1518,-0.2488,146.0483,4722,2702.4, 1.7228,34.6627,2,135.5,2,34.6637,2,135.59,2,141.77,2,36.86,2,0.00,2,2.59,2, -999,9, -999,9,-999.0,9,-999.0,9,-999.0,9,-999,-999,9,-999,9, 1.5293,2,27.7374,2, 1.7228,2
49UP20140609_4,   P10,89,1, 9,518,2,20140826,1433,1513,-0.2488,146.0483,4722,2905.3, 1.6606,34.6671,2,139.4,2,34.6670,2,139.47,2,142.19,2,36.65,2,0.00,2,2.57,2, -999,9, -999,9,-999.0,9,-999.0,9,-999.0,9,-999,-999,9,-999,9, 1.4494,2,27.7467,2, 1.6607,2
49UP20140609_4,   P10,89,1, 8,81,2,20140826,1433,1508,-0.2488,146.0483,4722,3119.7, 1.6342,34.6696,2,141.7,2,34.6705,2,141.84,2,142.09,2,36.45,2,0.00,2,2.56,2, -999,9, -999,9,-999.0,9,-999.0,9,-999.0,9,-999,-999,9,-999,9, 1.4029,2,27.7521,2, 1.6344,2
49UP20140609_4,   P10,89,1, 7,516,2,20140826,1433,1503,-0.2488,146.0483,4722,3375.6, 1.5887,34.6742,2,145.2,2,34.6732,2,145.13,4,142.50,2,36.24,2,0.00,2,2.54,2, -999,9, -999,9,-999.0,9,-999.0,9,-999.0,9,-999,-999,9,-999,9, 1.3330,2,27.7607,2, 1.5888,2
49UP20140609_4,   P10,89,1, 6,113,2,20140826,1433,1457,-0.2488,146.0483,4722,3630.8, 1.5545,34.6787,2,148.9,2,34.6777,2,148.93,2,141.86,2,36.05,2,0.00,2,2.52,2, -999,9, -999,9,-999.0,9,-999.0,9,-999.0,9,-999,-999,9,-999,9, 1.2735,2,27.7685,2, 1.5547,2
49UP20140609_4,   P10,89,1, 5,94,2,20140826,1433,1452,-0.2488,146.0483,4722,3887.2, 1.5347,34.6819,2,151.8,2,34.6819,2,151.74,2,141.60,2,35.84,2,0.00,2,2.52,2, -999,9, -999,9,-999.0,9,-999.0,9,-999.0,9,-999,-999,9,-999,9, 1.2271,2,27.7743,2, 1.5348,2
49UP20140609_4,   P10,89,1, 4,77,2,20140826,1433,1447,-0.2488,146.0483,4722,4143.1, 1.5273,34.6843,2,154.6,2,34.6850,2,154.85,2,140.82,2,35.69,2,0.00,2,2.50,2, -999,9, -999,9,-999.0,9,-999.0,9,-999.0,9,-999,-999,9,-999,9, 1.1919,2,27.7787,2, 1.5274,2
49UP20140609_4,   P10,89,1, 3,104,2,20140826,1433,1441,-0.2488,146.0483,4722,4399.2, 1.5406,34.6854,2,155.9,2,34.6848,2,156.25,2,140.76,2,35.66,2,0.00,2,2.50,2, -999,9, -999,9,-999.0,9,-999.0,9,-999.0,9,-999,-999,9,-999,9, 1.1759,2,27.7806,2, 1.5406,2
49UP20140609_4,   P10,89,1, 2,75,3,20140826,1433,1436,-0.2488,146.0483,4722,4656.0, 1.5619,34.6859,2,156.7,2,34.6859,2,156.75,2,140.09,2,35.52,2,0.00,2,2.50,2, -999,9, -999,9,-999.0,9,-999.0,9,-999.0,9,-999,-999,9,-999,9, 1.1668,2,27.7817,2, 1.5620,2
49UP20140609_4,   P10,89,1, 1,997,2,20140826,1433,1433,-0.2488,146.0483,4722,4798.4, 1.5728,34.6863,2,157.3,2,34.6858,6,157.55,6,140.31,6,35.65,6,0.00,6,2.49,6, -999,9, -999,9,-999.0,9,-999.0,9,-999.0,9,-999,-999,9,-999,9, 1.1604,2,27.7825,2, 1.5729,2