BOTTLE,20230725CCHSIOADS
EXPOCODE,SECT_ID,STNNBR,CASTNO,SAMPNO,BTLNBR,BTLNBR_FLAG_W,DATE,TIME,BTL_TIME,LATITUDE,LONGITUDE,DEPTH,CTDPRS,CTDTMP,CTDSAL,CTDSAL_FLAG_W,CTDOXY,CTDOXY_FLAG_W,SALNTY,SALNTY_FLAG_W,OXYGEN,OXYGEN_FLAG_W,SILCAT,SILCAT_FLAG_W,NO2+NO3,NO2+NO3_FLAG_W,NITRIT,NITRIT_FLAG_W,PHSPHT,PHSPHT_FLAG_W,CFC-11,CFC-11_FLAG_W,CFC-12,CFC-12_FLAG_W,TCARBN,TCARBN_FLAG_W,ALKALI,ALKALI_FLAG_W,PH_TOT,PH_TOT_FLAG_W,PH_TMP,CHLORA,CHLORA_FLAG_W,PPHYTN,PPHYTN_FLAG_W,THETA,THETA_FLAG_W,SIG0,SIG0_FLAG_W,REFTMP,REFTMP_FLAG_W
,,,,,,,,,,,,METERS,DBAR,ITS-90,PSS-78,,UMOL/KG,,PSS-78,,UMOL/KG,,UMOL/KG,,UMOL/KG,,UMOL/KG,,UMOL/KG,,PMOL/KG,,PMOL/KG,,UMOL/KG,,UMOL/KG,,,,DEG C,UG/KG,,UG/KG,,ITS-90,,KG/M^3,,ITS-90,
49UP20140609_3,   P10,60,1, 0,BUC,2,20140805,1142,1345,10.5003,149.3263,5675,   0.0,29.3670,34.2436,2,196.8,2,   -999,9,196.20,2,  1.06,2, 0.00,2,0.00,2,0.09,2, -999,9, -999,9,-999.0,9,-999.0,9,-999.0,9,-999,-999,9,-999,9,29.3664,2,21.3736,2,   -999,9
49UP20140609_3,   P10,60,1,36,109,2,20140805,1142,1403,10.5003,149.3263,5675,  10.4,29.3091,34.2409,2,196.9,2,34.2409,2,196.39,2,  1.11,2, 0.00,2,0.00,2,0.08,2, -999,9, -999,9,-999.0,9,-999.0,9,-999.0,9,-999,-999,9,-999,9,29.3065,2,21.3917,2,29.2943,2
49UP20140609_3,   P10,60,1,35,112,2,20140805,1142,1359,10.5003,149.3263,5675,  50.4,29.0321,34.4348,2,200.3,2,34.6624,4,203.01,2,  1.06,2, 0.00,2,0.00,2,0.10,2, -999,9, -999,9,-999.0,9,-999.0,9,-999.0,9,-999,-999,9,-999,9,29.0199,2,21.6331,2,29.0306,2
49UP20140609_3,   P10,60,1,34,83,2,20140805,1142,1357,10.5003,149.3263,5675, 100.2,26.2072,35.1454,2,204.4,2,35.1641,4,202.66,2,  1.13,2, 0.00,2,0.00,2,0.13,2, -999,9, -999,9,-999.0,9,-999.0,9,-999.0,9,-999,-999,9,-999,9,26.1847,2,23.0853,2,26.2839,2
49UP20140609_3,   P10,60,1,33,107,2,20140805,1142,1355,10.5003,149.3263,5675, 151.4,20.4644,34.9822,2,169.0,2,34.9880,2,171.59,2,  3.33,2, 3.68,2,0.06,2,0.41,2, -999,9, -999,9,-999.0,9,-999.0,9,-999.0,9,-999,-999,9,-999,9,20.4359,2,24.6324,2,20.4742,2
49UP20140609_3,   P10,60,1,32,105,2,20140805,1142,1352,10.5003,149.3263,5675, 201.9,14.8036,34.5391,2,142.9,2,34.5274,4,142.85,2, 12.44,2,13.81,2,0.01,2,1.07,2, -999,9, -999,9,-999.0,9,-999.0,9,-999.0,9,-999,-999,9,-999,9,14.7734,2,25.6660,2,14.8362,2
49UP20140609_3,   P10,60,1,31,515,2,20140805,1142,1350,10.5003,149.3263,5675, 252.4,11.4041,34.3564,2,114.6,2,34.3574,6,112.41,2, 23.86,2,22.16,2,0.00,2,1.68,2, -999,9, -999,9,-999.0,9,-999.0,9,-999.0,9,-999,-999,9,-999,9,11.3724,2,26.2065,2,11.4046,2
49UP20140609_3,   P10,60,1,30,97,2,20140805,1142,1349,10.5003,149.3263,5675, 301.9, 9.3829,34.4020,2, 74.1,2,34.3959,2, 74.18,2, 37.07,2,29.80,2,0.00,2,2.20,2, -999,9, -999,9,-999.0,9,-999.0,9,-999.0,9,-999,-999,9,-999,9, 9.3493,2,26.5935,2, 9.3976,2
49UP20140609_3,   P10,60,1,29,102,2,20140805,1142,1347,10.5003,149.3263,5675, 353.1, 8.7058,34.4572,2, 63.8,2,34.4627,2, 63.87,2, 41.84,2,32.35,2,0.00,2,2.36,2, -999,9, -999,9,-999.0,9,-999.0,9,-999.0,9,-999,-999,9,-999,9, 8.6681,2,26.7455,2, 8.7049,2
49UP20140609_3,   P10,60,1,28,108,2,20140805,1142,1345,10.5003,149.3263,5675, 402.7, 8.0508,34.4874,2, 65.1,2,34.4894,2, 66.66,2, 46.50,2,33.73,2,0.00,2,2.45,2, -999,9, -999,9,-999.0,9,-999.0,9,-999.0,9,-999,-999,9,-999,9, 8.0097,2,26.8698,2, 8.0497,2
49UP20140609_3,   P10,60,1,27,998,2,20140805,1142,1343,10.5003,149.3263,5675, 453.0, 7.5902,34.4926,2, 72.0,2,34.4935,2, 72.60,2, 49.59,2,34.11,2,0.00,2,2.46,2, -999,9, -999,9,-999.0,9,-999.0,9,-999.0,9,-999,-999,9,-999,9, 7.5453,2,26.9420,2, 7.5905,2
49UP20140609_3,   P10,60,1,26,84,2,20140805,1142,1341,10.5003,149.3263,5675, 502.9, 7.1085,34.5005,2, 81.0,2,34.4999,2, 81.07,2, 52.47,6,34.33,6,0.00,6,2.47,6, -999,9, -999,9,-999.0,9,-999.0,9,-999.0,9,-999,-999,9,-999,9, 7.0603,2,27.0169,2, 7.1093,2
49UP20140609_3,   P10,60,1,25,98,2,20140805,1142,1339,10.5003,149.3263,5675, 605.0, 6.4412,34.5093,2, 82.1,2,34.5093,6, 82.06,2, 59.96,2,35.58,2,0.00,2,2.56,2, -999,9, -999,9,-999.0,9,-999.0,9,-999.0,9,-999,-999,9,-999,9, 6.3859,2,27.1150,2, 6.4405,2
49UP20140609_3,   P10,60,1,24,110,2,20140805,1142,1336,10.5003,149.3263,5675, 705.5, 5.9914,34.5241,2, 78.1,2,34.5246,2, 77.90,2, 66.77,2,36.81,2,0.00,2,2.65,2, -999,9, -999,9,-999.0,9,-999.0,9,-999.0,9,-999,-999,9,-999,9, 5.9287,2,27.1856,2, 5.9910,2
49UP20140609_3,   P10,60,1,23,96,2,20140805,1142,1332,10.5003,149.3263,5675, 806.8, 5.4577,34.5332,2, 77.3,2,34.5335,2, 77.27,2, 75.22,2,37.73,2,0.00,2,2.71,2, -999,9, -999,9,-999.0,9,-999.0,9,-999.0,9,-999,-999,9,-999,9, 5.3888,2,27.2593,2, 5.4577,2
49UP20140609_3,   P10,60,1,22,111,2,20140805,1142,1329,10.5003,149.3263,5675, 908.2, 4.8966,34.5370,2, 77.0,2,34.5374,2, 76.72,2, 85.61,2,38.46,2,0.00,2,2.77,2, -999,9, -999,9,-999.0,9,-999.0,9,-999.0,9,-999,-999,9,-999,9, 4.8222,2,27.3285,2, 4.8961,2
49UP20140609_3,   P10,60,1,21,78,2,20140805,1142,1326,10.5003,149.3263,5675,1009.4, 4.4167,34.5473,2, 73.7,2,34.5483,2, 74.65,2, 95.42,2,39.25,2,0.00,2,2.83,2, -999,9, -999,9,-999.0,9,-999.0,9,-999.0,9,-999,-999,9,-999,9, 4.3370,2,27.3904,2, 4.4186,2
49UP20140609_3,   P10,60,1,20,93,2,20140805,1142,1322,10.5003,149.3263,5675,1211.5, 3.5897,34.5708,2, 84.5,2,34.5722,2, 84.37,2,111.78,2,39.22,2,0.00,2,2.81,2, -999,9, -999,9,-999.0,9,-999.0,9,-999.0,9,-999,-999,9,-999,9, 3.4998,2,27.4952,2, 3.5893,2
49UP20140609_3,   P10,60,1,19,92,2,20140805,1142,1317,10.5003,149.3263,5675,1413.7, 3.0426,34.5878,2, 88.6,2,34.5873,2, 88.57,2,123.63,2,39.34,2,0.00,2,2.81,2, -999,9, -999,9,-999.0,9,-999.0,9,-999.0,9,-999,-999,9,-999,9, 2.9414,2,27.5614,2, 3.0427,2
49UP20140609_3,   P10,60,1,18,101,2,20140805,1142,1312,10.5003,149.3263,5675,1616.4, 2.6479,34.6088,2,100.3,2,34.6089,2,100.40,2,130.49,2,38.77,2,0.00,2,2.77,2, -999,9, -999,9,-999.0,9,-999.0,9,-999.0,9,-999,-999,9,-999,9, 2.5345,2,27.6142,2, 2.6477,2
49UP20140609_3,   P10,60,1,17,90,2,20140805,1142,1307,10.5003,149.3263,5675,1819.3, 2.3596,34.6230,2,106.3,2,34.6230,2,106.35,6,136.07,6,38.50,6,0.00,6,2.73,6, -999,9, -999,9,-999.0,9,-999.0,9,-999.0,9,-999,-999,9,-999,9, 2.2331,2,27.6508,2, 2.3599,2
49UP20140609_3,   P10,60,1,16,89,2,20140805,1142,1302,10.5003,149.3263,5675,2023.1, 2.1638,34.6348,2,111.1,2,34.6350,6,111.43,2,140.10,2,38.36,2,0.00,2,2.72,2, -999,9, -999,9,-999.0,9,-999.0,9,-999.0,9,-999,-999,9,-999,9, 2.0229,2,27.6773,2, 2.1634,2
49UP20140609_3,   P10,60,1,15,88,3,20140805,1142,1257,10.5003,149.3263,5675,2224.3, 2.0119,34.6442,2,115.9,2,34.6444,2,115.63,2,142.81,2,38.13,2,0.00,2,2.69,2, -999,9, -999,9,-999.0,9,-999.0,9,-999.0,9,-999,-999,9,-999,9, 1.8561,2,27.6979,2, 2.0115,2
49UP20140609_3,   P10,60,1,14,999,2,20140805,1142,1253,10.5003,149.3263,5675,2428.1, 1.9160,34.6520,2,118.8,2,34.6522,2,118.87,2,144.96,2,38.03,2,0.00,2,2.68,2, -999,9, -999,9,-999.0,9,-999.0,9,-999.0,9,-999,-999,9,-999,9, 1.7438,2,27.7128,2, 1.9160,2
49UP20140609_3,   P10,60,1,13,667,3,20140805,1142,1248,10.5003,149.3263,5675,2631.1, 1.8119,34.6584,2,124.3,2,34.6584,2,124.26,2,145.81,2,37.63,2,0.00,2,2.65,2, -999,9, -999,9,-999.0,9,-999.0,9,-999.0,9,-999,-999,9,-999,9, 1.6231,2,27.7270,2, 1.8117,2
49UP20140609_3,   P10,60,1,12,74,2,20140805,1142,1243,10.5003,149.3263,5675,2834.9, 1.7016,34.6637,2,131.3,2,34.6633,2,131.41,6,146.48,6,37.18,6,0.00,6,2.61,6, -999,9, -999,9,-999.0,9,-999.0,9,-999.0,9,-999,-999,9,-999,9, 1.4962,2,27.7406,2, 1.7017,2
49UP20140609_3,   P10,60,1,11,268,2,20140805,1142,1239,10.5003,149.3263,5675,3038.0, 1.6386,34.6673,2,136.3,2,34.6668,2,136.25,2,145.92,2,36.82,2,0.00,2,2.58,2, -999,9, -999,9,-999.0,9,-999.0,9,-999.0,9,-999,-999,9,-999,9, 1.4152,2,27.7493,2, 1.6389,2
49UP20140609_3,   P10,60,1,10,267,2,20140805,1142,1233,10.5003,149.3263,5675,3293.6, 1.5733,34.6729,2,142.3,2,34.6729,2,142.20,2,145.33,2,36.44,2,0.00,2,2.55,2, -999,9, -999,9,-999.0,9,-999.0,9,-999.0,9,-999,-999,9,-999,9, 1.3262,2,27.7601,2, 1.5729,2
49UP20140609_3,   P10,60,1, 8,81,2,20140805,1142,1228,10.5003,149.3263,5675,3548.3, 1.5207,34.6782,2,148.2,2,34.6774,2,148.12,2,144.25,2,36.05,2,0.00,2,2.52,2, -999,9, -999,9,-999.0,9,-999.0,9,-999.0,9,-999,-999,9,-999,9, 1.2491,2,27.7698,2, 1.5214,2
49UP20140609_3,   P10,60,1, 7,516,2,20140805,1142,1218,10.5003,149.3263,5675,4063.1, 1.4722,34.6859,2,158.7,2,34.6848,2,158.26,2,140.22,2,35.37,2,0.00,2,2.47,2, -999,9, -999,9,-999.0,9,-999.0,9,-999.0,9,-999,-999,9,-999,9, 1.1472,2,27.7830,2, 1.4722,2
49UP20140609_3,   P10,60,1, 6,113,2,20140805,1142,1208,10.5003,149.3263,5675,4576.4, 1.4547,34.6912,2,167.3,2,34.6912,2,167.27,2,135.95,2,34.74,2,0.00,2,2.42,2, -999,9, -999,9,-999.0,9,-999.0,9,-999.0,9,-999,-999,9,-999,9, 1.0723,2,27.7924,2, 1.4547,2
49UP20140609_3,   P10,60,1, 4,77,2,20140805,1142,1157,10.5003,149.3263,5675,5088.4, 1.4652,34.6950,2,173.5,2,34.6942,2,173.53,2,132.85,2,34.23,2,0.00,2,2.38,2, -999,9, -999,9,-999.0,9,-999.0,9,-999.0,9,-999,-999,9,-999,9, 1.0213,2,27.7989,2, 1.4652,2
49UP20140609_3,   P10,60,1, 5,518,2,20140805,1142,1157,10.5003,149.3263,5675,5088.8, 1.4658,34.6950,2,173.5,2,34.6951,2,173.51,2,132.94,2,34.31,2,0.00,2,2.39,2, -999,9, -999,9,-999.0,9,-999.0,9,-999.0,9,-999,-999,9,-999,9, 1.0218,2,27.7988,2, 1.4658,2
49UP20140609_3,   P10,60,1, 9,94,2,20140805,1142,1157,10.5003,149.3263,5675,5089.4, 1.4659,34.6951,2,173.5,2,34.6945,2,173.57,2,132.72,2,34.29,2,0.00,2,2.39,2, -999,9, -999,9,-999.0,9,-999.0,9,-999.0,9,-999,-999,9,-999,9, 1.0219,2,27.7989,2, 1.4660,2
49UP20140609_3,   P10,60,1, 3,104,2,20140805,1142,1152,10.5003,149.3263,5675,5346.8, 1.4884,34.6958,2,174.8,2,34.6961,6,174.89,2,132.28,2,34.23,2,0.00,2,2.38,2, -999,9, -999,9,-999.0,9,-999.0,9,-999.0,9,-999,-999,9,-999,9, 1.0117,2,27.8002,2, 1.4885,2
49UP20140609_3,   P10,60,1, 2,75,2,20140805,1142,1146,10.5003,149.3263,5675,5603.0, 1.5161,34.6959,2,175.5,2,34.6964,2,175.89,2,131.54,2,34.10,2,0.00,2,2.37,2, -999,9, -999,9,-999.0,9,-999.0,9,-999.0,9,-999,-999,9,-999,9, 1.0057,2,27.8006,2, 1.5160,2
49UP20140609_3,   P10,60,1, 1,997,2,20140805,1142,1142,10.5003,149.3263,5675,5803.2, 1.5293,34.6967,2,176.8,2,34.6967,2,177.04,6,131.49,6,34.08,6,0.00,6,2.37,6, -999,9, -999,9,-999.0,9,-999.0,9,-999.0,9,-999,-999,9,-999,9, 0.9923,2,27.8021,2, 1.5293,2
49UP20140609_3,   P10,61,1, 0,BUC,2,20140805,1838,2030,10.0120,149.3222,5516,   0.0,29.3983,34.2046,2,196.1,2,34.1872,2,195.30,2,  0.70,2, 0.00,2,0.00,2,0.09,2, -999,9, -999,9,1913.0,2,2245.1,2,8.1228,2,25,0.06,2,0.02,2,29.3977,2,21.3339,2,   -999,9
49UP20140609_3,   P10,61,1,36,109,2,20140805,1838,2049,10.0120,149.3222,5516,   9.7,29.4422,34.2597,2,196.2,2,34.2645,2,195.79,2,  0.76,2, 0.00,2,0.00,2,0.07,2, -999,9, -999,9,1918.3,2,2251.4,2,8.1235,2,25,0.05,2,0.02,2,29.4398,2,21.3610,2,29.4400,2
49UP20140609_3,   P10,61,1,35,112,2,20140805,1838,2045,10.0120,149.3222,5516,  50.2,28.3363,34.6959,2,204.7,2,34.7120,4,204.81,6,  0.78,6, 0.00,6,0.00,6,0.12,6, -999,9, -999,9,1948.3,2,2283.2,2,8.1117,2,25,0.05,2,0.02,2,28.3244,2,22.0597,2,28.3349,2
49UP20140609_3,   P10,61,1,34,83,2,20140805,1838,2044,10.0120,149.3222,5516, 100.9,26.4211,35.2866,2,204.6,2,35.2921,2,204.98,2,  0.73,2, 0.00,2,0.00,2,0.08,2, -999,9, -999,9,1987.8,2,2319.5,2,8.1005,2,25,0.12,2,0.07,2,26.3983,2,23.1246,2,26.4165,2
49UP20140609_3,   P10,61,1,33,107,2,20140805,1838,2042,10.0120,149.3222,5516, 151.3,21.6592,35.0674,2,175.6,2,35.0566,4,175.30,2,  2.33,2, 2.41,2,0.18,2,0.35,2, -999,9, -999,9,2064.2,2,2308.4,2,7.9569,2,25,0.10,2,0.31,2,21.6296,2,24.3723,2,21.6615,2
49UP20140609_3,   P10,61,1,32,105,2,20140805,1838,2040,10.0120,149.3222,5516, 204.6,14.3330,34.5203,2,131.3,2,34.5231,2,130.48,2, 13.73,2,15.50,2,0.01,2,1.21,2, -999,9, -999,9,2134.3,2,2279.1,2,7.7457,2,25,0.02,2,0.07,2,14.3031,2,25.7524,2,14.3196,2
49UP20140609_3,   P10,61,1,31,515,2,20140805,1838,2039,10.0120,149.3222,5516, 252.6,11.2350,34.4043,2, 94.7,2,34.4058,2, 94.78,2, 25.17,2,24.30,2,0.00,2,1.83,2, -999,9, -999,9,2188.7,2,2280.4,2,7.6099,2,25,-999,9,-999,9,11.2035,2,26.2747,2,11.2348,2
49UP20140609_3,   P10,61,1,30,97,2,20140805,1838,2037,10.0120,149.3222,5516, 332.0, 8.9136,34.5210,2, 67.0,2,34.5194,2, 66.98,2, 39.66,2,32.23,2,0.00,2,2.33,2, -999,9, -999,9,2239.4,2,2302.2,2,7.5228,2,25,-999,9,-999,9, 8.8777,2,26.7625,2, 8.9084,2
49UP20140609_3,   P10,61,1,29,102,2,20140805,1838,2035,10.0120,149.3222,5516, 382.1, 8.1381,34.4955,2, 74.6,2,34.4961,2, 74.51,2, 44.60,2,32.84,2,0.00,2,2.37,2, -999,9, -999,9,2243.6,2,2307.1,2,7.5220,2,25,-999,9,-999,9, 8.0988,2,26.8628,2, 8.1373,2
49UP20140609_3,   P10,61,1,28,108,2,20140805,1838,2034,10.0120,149.3222,5516, 432.8, 7.6352,34.4942,2, 78.5,2,34.4947,2, 79.15,2, 47.99,2,33.52,2,0.00,2,2.41,2, -999,9, -999,9,2247.5,2,2310.5,2,7.5206,2,25,-999,9,-999,9, 7.5922,2,26.9365,2, 7.6353,2
49UP20140609_3,   P10,61,1,27,998,2,20140805,1838,2032,10.0120,149.3222,5516, 483.1, 7.1518,34.4983,2, 84.1,2,34.4989,2, 83.64,2, 51.49,2,33.95,2,0.00,2,2.44,2, -999,9, -999,9,2253.3,2,2315.2,2,7.5202,2,25,-999,9,-999,9, 7.1054,2,27.0089,2, 7.1513,2
49UP20140609_3,   P10,61,1,26,84,2,20140805,1838,2030,10.0120,149.3222,5516, 534.0, 6.8148,34.5061,2, 86.2,2,34.5064,6, 86.06,2, 54.37,2,34.52,2,0.00,2,2.48,2, -999,9, -999,9,2253.5,2,2319.1,2,7.5210,2,25,-999,9,-999,9, 6.7647,2,27.0619,2, 6.8143,2
49UP20140609_3,   P10,61,1,25,98,2,20140805,1838,2028,10.0120,149.3222,5516, 634.8, 6.2211,34.5177,2, 83.4,2,34.5176,2, 83.23,6, 61.93,6,35.95,6,0.00,6,2.58,6, -999,9, -999,9,2269.9,2,2327.6,2,7.5076,2,25,-999,9,-999,9, 6.1639,2,27.1505,2, 6.2208,2
49UP20140609_3,   P10,61,1,24,110,2,20140805,1838,2024,10.0120,149.3222,5516, 736.3, 5.6933,34.5246,2, 77.8,2,34.5242,2, 77.81,2, 70.95,2,37.29,2,0.00,2,2.68,2, -999,9, -999,9,2283.0,2,2337.0,2,7.4938,2,25,-999,9,-999,9, 5.6294,2,27.2233,2, 5.6931,2
49UP20140609_3,   P10,61,1,23,96,2,20140805,1838,2022,10.0120,149.3222,5516, 836.3, 5.1994,34.5308,2, 75.8,2,34.5329,4, 75.89,2, 79.33,2,38.14,2,0.00,2,2.74,2, -999,9, -999,9,2294.0,2,2346.6,2,7.4883,2,25,-999,9,-999,9, 5.1294,2,27.2882,2, 5.2005,2
49UP20140609_3,   P10,61,1,22,111,3,20140805,1838,2019,10.0120,149.3222,5516, 937.5, 4.7139,34.5402,2, 76.6,2,34.5409,2, 76.60,2, 88.61,2,38.72,2,0.00,2,2.78,2, -999,9, -999,9,2307.3,2,2356.9,2,7.4837,6,25,-999,9,-999,9, 4.6382,2,27.3518,2, 4.7133,2
49UP20140609_3,   P10,61,1,21,78,2,20140805,1838,2016,10.0120,149.3222,5516,1078.8, 4.0807,34.5565,2, 79.5,2,34.5569,2, 79.31,2,101.28,2,39.23,2,0.00,2,2.82,2, -999,9, -999,9,2318.0,6,2369.3,6,7.4817,2,25,-999,9,-999,9, 3.9977,2,27.4336,2, 4.0813,2
49UP20140609_3,   P10,61,1,20,93,2,20140805,1838,2011,10.0120,149.3222,5516,1281.9, 3.3244,34.5809,2, 89.9,2,34.5810,2, 89.98,2,116.12,2,39.04,2,0.00,2,2.79,2, -999,9, -999,9,2330.7,2,2385.1,2,7.4960,2,25,-999,9,-999,9, 3.2312,2,27.5290,2, 3.3242,2
49UP20140609_3,   P10,61,1,19,92,2,20140805,1838,2007,10.0120,149.3222,5516,1483.4, 2.9067,34.5958,2, 94.9,2,34.5957,2, 95.13,6,125.04,6,39.03,6,0.00,6,2.78,6, -999,9, -999,9,2337.0,2,2396.2,2,7.5025,2,25,-999,9,-999,9, 2.8012,2,27.5804,2, 2.9071,2
49UP20140609_3,   P10,61,1,18,101,2,20140805,1838,2002,10.0120,149.3222,5516,1687.6, 2.5456,34.6137,2,102.6,2,34.6144,2,102.87,2,131.74,2,38.72,2,0.00,2,2.75,2, -999,9, -999,9,2340.6,2,2402.4,2,7.5143,2,25,-999,9,-999,9, 2.4276,2,27.6272,2, 2.5455,2
49UP20140609_3,   P10,61,1,17,90,2,20140805,1838,1958,10.0120,149.3222,5516,1888.9, 2.2902,34.6274,2,108.0,2,34.6289,6,108.31,2,137.01,2,38.52,2,0.00,2,2.73,2, -999,9, -999,9,2341.6,2,2409.7,2,7.5213,2,25,-999,9,-999,9, 2.1588,2,27.6604,2, 2.2897,2
49UP20140609_3,   P10,61,1,16,89,3,20140805,1838,1953,10.0120,149.3222,5516,2092.1, 2.1133,34.6385,2,112.5,2,34.6389,2,112.55,2,139.95,2,38.28,2,0.00,2,2.70,2, -999,9, -999,9,2344.0,2,2413.1,2,7.5280,2,25,-999,9,-999,9, 1.9673,2,27.6846,2, 2.1133,2
49UP20140609_3,   P10,61,1,15,88,2,20140805,1838,1949,10.0120,149.3222,5516,2296.1, 1.9715,34.6472,2,116.7,2,34.6474,2,116.95,2,143.15,2,38.11,2,0.00,2,2.69,2, -999,9, -999,9,2344.8,2,2417.0,2,7.5361,2,25,-999,9,-999,9, 1.8100,2,27.7038,2, 1.9715,2
49UP20140609_3,   P10,61,1,14,999,2,20140805,1838,1945,10.0120,149.3222,5516,2499.2, 1.8492,34.6541,2,122.9,2,34.6555,4,123.32,2,144.32,2,37.75,2,0.00,2,2.66,2, -999,9, -999,9,2341.2,2,2415.8,2,7.5431,2,25,-999,9,-999,9, 1.6718,2,27.7199,2, 1.8490,2
49UP20140609_3,   P10,61,1,13,667,2,20140805,1838,1940,10.0120,149.3222,5516,2702.8, 1.7669,34.6608,2,127.3,2,34.6606,2,127.19,2,145.33,2,37.49,2,0.00,2,2.63,2, -999,9, -999,9,2341.6,2,2418.8,2,7.5505,2,25,-999,9,-999,9, 1.5725,2,27.7326,2, 1.7668,2
49UP20140609_3,   P10,61,1,12,74,2,20140805,1838,1936,10.0120,149.3222,5516,2906.7, 1.6979,34.6648,2,131.9,2,34.6644,2,132.08,2,145.87,2,37.21,2,0.00,2,2.61,2, -999,9, -999,9,2341.0,2,2418.6,2,7.5554,6,25,-999,9,-999,9, 1.4857,2,27.7422,2, 1.6978,2
49UP20140609_3,   P10,61,1,11,268,2,20140805,1838,1931,10.0120,149.3222,5516,3120.4, 1.6303,34.6696,2,137.0,2,34.6693,2,136.62,2,145.73,2,36.84,2,0.00,2,2.58,2, -999,9, -999,9,2336.2,6,2417.6,6,7.5608,2,25,-999,9,-999,9, 1.3990,2,27.7523,2, 1.6302,2
49UP20140609_3,   P10,61,1,10,267,2,20140805,1838,1926,10.0120,149.3222,5516,3375.2, 1.5657,34.6756,2,143.4,2,34.6762,6,143.46,2,144.36,2,36.31,2,0.00,2,2.54,2, -999,9, -999,9,2332.9,2,2416.1,2,7.5747,2,25,-999,9,-999,9, 1.3107,2,27.7634,2, 1.5657,2
49UP20140609_3,   P10,61,1, 8,81,2,20140805,1838,1920,10.0120,149.3222,5516,3630.6, 1.5266,34.6795,2,148.9,2,34.6790,2,148.82,6,143.21,6,36.09,6,0.00,6,2.52,6, -999,9, -999,9,2329.8,2,2415.6,2,7.5802,2,25,-999,9,-999,9, 1.2463,2,27.7711,2, 1.5266,2
49UP20140609_3,   P10,61,1, 7,516,3,20140805,1838,1915,10.0120,149.3222,5516,3887.7, 1.5079,34.6827,2,153.6,2,34.6817,2,153.34,2,141.41,2,35.70,2,0.00,2,2.49,2, -999,9, -999,9,2325.8,2,2413.9,2,7.5964,3,25,-999,9,-999,9, 1.2010,2,27.7768,2, 1.5080,2
49UP20140609_3,   P10,61,1, 6,113,2,20140805,1838,1910,10.0120,149.3222,5516,4143.7, 1.4772,34.6868,2,159.9,2,34.6881,2,159.67,2,138.39,2,35.32,2,0.00,2,2.46,2, -999,9, -999,9,2319.0,2,2409.6,2,7.5956,2,25,-999,9,-999,9, 1.1431,2,27.7840,2, 1.4770,2
49UP20140609_3,   P10,61,1, 5,518,3,20140805,1838,1900,10.0120,149.3222,5516,4655.8, 1.4543,34.6921,2,168.4,2,34.6923,2,168.25,2,134.83,2,34.67,2,0.00,2,2.41,2, -999,9, -999,9,2310.9,2,2404.0,2,7.6025,2,25,-999,9,-999,9, 1.0626,2,27.7937,2, 1.4544,2
49UP20140609_3,   P10,61,1, 4,77,2,20140805,1838,1859,10.0120,149.3222,5516,4656.4, 1.4543,34.6920,2,168.4,2,34.6915,2,168.65,2,134.92,2,34.74,2,0.00,2,2.41,2, -999,9, -999,9,2309.8,2,2405.0,2,7.5999,2,25,-999,9,-999,9, 1.0625,2,27.7937,2, 1.4543,2
49UP20140609_3,   P10,61,1, 9,94,2,20140805,1838,1900,10.0120,149.3222,5516,4656.5, 1.4544,34.6920,2,168.4,2,34.6917,2,168.73,2,134.90,2,34.72,2,0.00,2,2.41,2, -999,9, -999,9,2311.6,2,2405.4,2,7.6025,2,25,-999,9,-999,9, 1.0627,2,27.7937,2, 1.4543,2
49UP20140609_3,   P10,61,1, 3,104,2,20140805,1838,1850,10.0120,149.3222,5516,5170.1, 1.4731,34.6951,2,173.8,2,34.6950,6,174.01,2,132.09,2,34.31,2,0.00,2,2.38,2, -999,9, -999,9,2303.6,2,2400.9,2,7.6079,2,25,-999,9,-999,9, 1.0188,2,27.7991,2, 1.4729,2
49UP20140609_3,   P10,61,1, 2,75,2,20140805,1838,1844,10.0120,149.3222,5516,5429.8, 1.4952,34.6960,2,175.1,2,34.6961,2,175.33,2,131.30,2,34.14,2,0.00,2,2.37,2, -999,9, -999,9,2302.5,2,2400.9,2,7.6120,6,25,-999,9,-999,9, 1.0077,2,27.8005,2, 1.4952,2
49UP20140609_3,   P10,61,1, 1,997,2,20140805,1838,1839,10.0120,149.3222,5516,5637.4, 1.5169,34.6963,2,176.0,2,34.6961,2,176.07,2,131.01,2,34.15,2,0.00,2,2.38,2, -999,9, -999,9,2302.6,6,2401.0,6,7.6117,2,25,-999,9,-999,9, 1.0020,2,27.8012,2, 1.5169,2