BOTTLE,20230725CCHSIOADS
EXPOCODE,SECT_ID,STNNBR,CASTNO,SAMPNO,BTLNBR,BTLNBR_FLAG_W,DATE,TIME,BTL_TIME,LATITUDE,LONGITUDE,DEPTH,CTDPRS,CTDTMP,CTDSAL,CTDSAL_FLAG_W,CTDOXY,CTDOXY_FLAG_W,SALNTY,SALNTY_FLAG_W,OXYGEN,OXYGEN_FLAG_W,SILCAT,SILCAT_FLAG_W,NO2+NO3,NO2+NO3_FLAG_W,NITRIT,NITRIT_FLAG_W,PHSPHT,PHSPHT_FLAG_W,CFC-11,CFC-11_FLAG_W,CFC-12,CFC-12_FLAG_W,TCARBN,TCARBN_FLAG_W,ALKALI,ALKALI_FLAG_W,PH_TOT,PH_TOT_FLAG_W,PH_TMP,CHLORA,CHLORA_FLAG_W,PPHYTN,PPHYTN_FLAG_W,THETA,THETA_FLAG_W,SIG0,SIG0_FLAG_W,REFTMP,REFTMP_FLAG_W
,,,,,,,,,,,,METERS,DBAR,ITS-90,PSS-78,,UMOL/KG,,PSS-78,,UMOL/KG,,UMOL/KG,,UMOL/KG,,UMOL/KG,,UMOL/KG,,PMOL/KG,,PMOL/KG,,UMOL/KG,,UMOL/KG,,,,DEG C,UG/KG,,UG/KG,,ITS-90,,KG/M^3,,ITS-90,
49UP20140609_3,   P10,46,1, 0,BUC,2,20140801,0124, 245,19.8315,149.3075,3972,   0.0,30.9295,34.9351,2,193.7,2,   -999,9,193.26,2,  0.82,2, 0.02,2,0.00,2,0.04,2, -999,9, -999,9,-999.0,9,-999.0,9,-999.0,9,-999,-999,9,-999,9,30.9289,2,21.3573,2,   -999,9
49UP20140609_3,   P10,46,1,36,109,2,20140801,0124, 309,19.8315,149.3075,3972,  10.8,30.5847,34.9504,2,194.3,2,34.9484,2,193.51,2,  0.84,2, 0.00,2,0.00,2,0.03,2, -999,9, -999,9,-999.0,9,-999.0,9,-999.0,9,-999,-999,9,-999,9,30.5820,2,21.4891,2,30.5539,2
49UP20140609_3,   P10,46,1,35,112,2,20140801,0124, 308,19.8315,149.3075,3972,  25.9,30.3899,34.9577,2,194.8,2,34.9601,6,194.68,2,  0.73,2, 0.00,2,0.00,2,0.03,2, -999,9, -999,9,-999.0,9,-999.0,9,-999.0,9,-999,-999,9,-999,9,30.3834,2,21.5630,2,30.3909,2
49UP20140609_3,   P10,46,1,34,83,2,20140801,0124, 304,19.8315,149.3075,3972,  51.4,28.0956,35.0510,2,212.0,2,35.0526,2,211.67,2,  0.85,2, 0.00,2,0.00,2,0.03,2, -999,9, -999,9,-999.0,9,-999.0,9,-999.0,9,-999,-999,9,-999,9,28.0835,2,22.4057,2,28.0986,2
49UP20140609_3,   P10,46,1,33,107,2,20140801,0124, 303,19.8315,149.3075,3972,  75.6,26.2760,35.0964,2,207.7,2,35.0976,2,207.26,2,  0.89,2, 0.00,2,0.00,2,0.04,2, -999,9, -999,9,-999.0,9,-999.0,9,-999.0,9,-999,-999,9,-999,9,26.2590,2,23.0250,2,26.2736,2
49UP20140609_3,   P10,46,1,32,105,2,20140801,0124, 301,19.8315,149.3075,3972, 105.0,24.7807,35.1269,2,199.2,2,35.1262,2,199.76,2,  1.13,2, 0.05,2,0.05,2,0.06,2, -999,9, -999,9,-999.0,9,-999.0,9,-999.0,9,-999,-999,9,-999,9,24.7581,2,23.5105,2,24.7792,2
49UP20140609_3,   P10,46,1,31,515,2,20140801,0124, 300,19.8315,149.3075,3972, 126.9,23.5135,35.1425,2,198.3,2,35.1425,2,197.19,2,  1.14,2, 0.31,2,0.19,2,0.06,2, -999,9, -999,9,-999.0,9,-999.0,9,-999.0,9,-999,-999,9,-999,9,23.4871,2,23.9002,2,23.5230,2
49UP20140609_3,   P10,46,1,30,97,2,20140801,0124, 258,19.8315,149.3075,3972, 152.9,22.6423,35.0946,2,199.8,2,35.0958,2,199.51,2,  1.25,2, 0.48,2,0.05,2,0.07,2, -999,9, -999,9,-999.0,9,-999.0,9,-999.0,9,-999,-999,9,-999,9,22.6114,2,24.1168,2,22.6432,2
49UP20140609_3,   P10,46,1,29,102,2,20140801,0124, 257,19.8315,149.3075,3972, 205.7,19.9539,34.9141,2,192.6,2,34.9180,2,193.20,2,  2.30,2, 2.11,2,0.01,2,0.18,2, -999,9, -999,9,-999.0,9,-999.0,9,-999.0,9,-999,-999,9,-999,9,19.9159,2,24.7184,2,19.9538,2
49UP20140609_3,   P10,46,1,28,108,2,20140801,0124, 255,19.8315,149.3075,3972, 253.9,18.3961,34.8035,2,192.6,2,34.8118,2,192.58,2,  3.24,2, 3.88,2,0.01,2,0.29,2, -999,9, -999,9,-999.0,9,-999.0,9,-999.0,9,-999,-999,9,-999,9,18.3519,2,25.0344,2,18.3960,2
49UP20140609_3,   P10,46,1,27,998,2,20140801,0124, 252,19.8315,149.3075,3972, 332.8,15.3990,34.5690,2,195.5,2,34.5701,2,195.73,2,  7.37,2, 8.09,2,0.00,2,0.57,2, -999,9, -999,9,-999.0,9,-999.0,9,-999.0,9,-999,-999,9,-999,9,15.3477,2,25.5629,2,15.3972,2
49UP20140609_3,   P10,46,1,26,84,2,20140801,0124, 251,19.8315,149.3075,3972, 384.2,13.7762,34.4441,2,191.6,2,34.4469,2,192.19,6, 11.22,6,10.93,6,0.00,6,0.77,6, -999,9, -999,9,-999.0,9,-999.0,9,-999.0,9,-999,-999,9,-999,9,13.7212,2,25.8155,2,13.7769,2
49UP20140609_3,   P10,46,1,25,98,2,20140801,0124, 249,19.8315,149.3075,3972, 434.2,11.8007,34.2988,2,173.8,2,34.2924,4,174.35,2, 17.69,2,15.72,2,0.00,2,1.15,2, -999,9, -999,9,-999.0,9,-999.0,9,-999.0,9,-999,-999,9,-999,9,11.7445,2,26.0926,2,11.8032,2
49UP20140609_3,   P10,46,1,24,110,2,20140801,0124, 247,19.8315,149.3075,3972, 483.3, 9.8558,34.2072,2,147.0,2,34.2086,2,147.14,2, 28.55,2,21.69,2,0.00,2,1.59,2, -999,9, -999,9,-999.0,9,-999.0,9,-999.0,9,-999,-999,9,-999,9, 9.8000,2,26.3666,2, 9.8541,2
49UP20140609_3,   P10,46,1,23,96,2,20140801,0124, 245,19.8315,149.3075,3972, 534.9, 8.7796,34.1813,2,126.5,2,34.1826,2,126.90,2, 37.16,2,25.52,2,0.00,2,1.88,2, -999,9, -999,9,-999.0,9,-999.0,9,-999.0,9,-999,-999,9,-999,9, 8.7219,2,26.5209,2, 8.7816,2
49UP20140609_3,   P10,46,1,22,111,2,20140801,0124, 242,19.8315,149.3075,3972, 635.2, 6.9843,34.1836,2, 89.3,2,34.1836,2, 88.96,2, 56.97,2,32.39,3,0.00,2,2.37,2, -999,9, -999,9,-999.0,9,-999.0,9,-999.0,9,-999,-999,9,-999,9, 6.9238,2,26.7861,2, 6.9817,2
49UP20140609_3,   P10,46,1,21,78,2,20140801,0124, 240,19.8315,149.3075,3972, 736.4, 5.8104,34.2898,2, 63.3,2,34.2905,2, 63.33,2, 75.68,2,36.94,3,0.00,2,2.70,2, -999,9, -999,9,-999.0,9,-999.0,9,-999.0,9,-999,-999,9,-999,9, 5.7462,2,27.0232,2, 5.8141,2
49UP20140609_3,   P10,46,1,20,93,2,20140801,0124, 237,19.8315,149.3075,3972, 836.4, 5.2049,34.3666,2, 61.7,2,34.3669,2, 61.77,2, 86.75,2,38.37,2,0.00,2,2.78,2, -999,9, -999,9,-999.0,9,-999.0,9,-999.0,9,-999,-999,9,-999,9, 5.1351,2,27.1574,2, 5.2055,2
49UP20140609_3,   P10,46,1,19,92,2,20140801,0124, 233,19.8315,149.3075,3972, 938.4, 4.6197,34.4294,2, 65.3,2,34.4296,2, 64.74,2, 97.42,2,38.89,2,0.00,2,2.82,2, -999,9, -999,9,-999.0,9,-999.0,9,-999.0,9,-999,-999,9,-999,9, 4.5448,2,27.2741,2, 4.6193,2
49UP20140609_3,   P10,46,1,18,101,2,20140801,0124, 230,19.8315,149.3075,3972,1078.5, 4.0131,34.4929,2, 74.4,2,34.4934,6, 74.64,6,108.90,6,39.14,6,0.00,6,2.81,6, -999,9, -999,9,-999.0,9,-999.0,9,-999.0,9,-999,-999,9,-999,9, 3.9308,2,27.3899,2, 4.0131,2
49UP20140609_3,   P10,46,1,16,89,2,20140801,0124, 225,19.8315,149.3075,3972,1283.0, 3.2789,34.5395,2, 82.0,2,34.5399,2, 82.15,2,122.90,2,39.33,3,0.00,2,2.82,2, -999,9, -999,9,-999.0,9,-999.0,9,-999.0,9,-999,-999,9,-999,9, 3.1861,2,27.5002,2, 3.2791,2
49UP20140609_3,   P10,46,1,17,90,2,20140801,0124, 225,19.8315,149.3075,3972,1284.8, 3.2775,34.5397,2, 81.9,2,34.5395,2, 81.73,2,122.84,2,39.20,2,0.00,2,2.82,2, -999,9, -999,9,-999.0,9,-999.0,9,-999.0,9,-999,-999,9,-999,9, 3.1845,2,27.5006,2, 3.2775,2
49UP20140609_3,   P10,46,1,15,88,2,20140801,0124, 220,19.8315,149.3075,3972,1483.5, 2.9272,34.5648,2, 88.3,2,34.5650,2, 88.42,2,129.27,2,39.18,2,0.00,2,2.81,2, -999,9, -999,9,-999.0,9,-999.0,9,-999.0,9,-999,-999,9,-999,9, 2.8215,2,27.5538,2, 2.9270,2
49UP20140609_3,   P10,46,1,14,999,2,20140801,0124, 215,19.8315,149.3075,3972,1688.0, 2.4836,34.5840,2, 95.0,2,34.5850,2, 94.71,2,137.75,2,39.11,2,0.00,2,2.79,2, -999,9, -999,9,-999.0,9,-999.0,9,-999.0,9,-999,-999,9,-999,9, 2.3665,2,27.6085,2, 2.4840,2
49UP20140609_3,   P10,46,1,13,667,2,20140801,0124, 211,19.8315,149.3075,3972,1890.6, 2.2263,34.6059,2,102.0,2,34.6061,2,103.14,3,142.04,2,38.82,2,0.00,2,2.76,2, -999,9, -999,9,-999.0,9,-999.0,9,-999.0,9,-999,-999,9,-999,9, 2.0957,2,27.6483,2, 2.2263,2
49UP20140609_3,   P10,46,1,12,74,2,20140801,0124, 206,19.8315,149.3075,3972,2092.6, 2.0180,34.6245,2,109.2,2,34.6244,2,109.70,2,145.31,2,38.52,2,0.00,2,2.73,2, -999,9, -999,9,-999.0,9,-999.0,9,-999.0,9,-999,-999,9,-999,9, 1.8735,2,27.6808,2, 2.0181,2
49UP20140609_3,   P10,46,1,11,268,2,20140801,0124, 202,19.8315,149.3075,3972,2295.1, 1.8645,34.6393,2,115.8,2,34.6389,6,115.65,2,147.91,2,38.10,2,0.00,2,2.70,2, -999,9, -999,9,-999.0,9,-999.0,9,-999.0,9,-999,-999,9,-999,9, 1.7050,2,27.7055,2, 1.8648,2
49UP20140609_3,   P10,46,1,10,267,2,20140801,0124, 157,19.8315,149.3075,3972,2499.5, 1.7416,34.6506,2,122.9,2,34.6513,2,122.78,2,148.76,2,37.88,2,0.00,2,2.66,2, -999,9, -999,9,-999.0,9,-999.0,9,-999.0,9,-999,-999,9,-999,9, 1.5662,2,27.7249,2, 1.7422,2
49UP20140609_3,   P10,46,1, 8,81,2,20140801,0124, 152,19.8315,149.3075,3972,2704.7, 1.6960,34.6546,2,126.6,2,34.6557,2,127.15,2,149.05,2,37.50,2,0.00,2,2.64,2, -999,9, -999,9,-999.0,9,-999.0,9,-999.0,9,-999,-999,9,-999,9, 1.5028,2,27.7327,2, 1.6959,2
49UP20140609_3,   P10,46,1, 7,516,2,20140801,0124, 148,19.8315,149.3075,3972,2907.7, 1.6556,34.6591,2,130.4,2,34.6595,2,129.88,2,148.70,2,37.23,2,0.00,2,2.62,2, -999,9, -999,9,-999.0,9,-999.0,9,-999.0,9,-999,-999,9,-999,9, 1.4443,2,27.7406,2, 1.6556,2
49UP20140609_3,   P10,46,1, 6,113,2,20140801,0124, 143,19.8315,149.3075,3972,3121.6, 1.6272,34.6630,2,133.6,2,34.6625,2,133.38,6,148.71,6,37.04,6,0.00,6,2.60,6, -999,9, -999,9,-999.0,9,-999.0,9,-999.0,9,-999,-999,9,-999,9, 1.3959,2,27.7472,2, 1.6272,2
49UP20140609_3,   P10,46,1, 4,77,2,20140801,0124, 137,19.8315,149.3075,3972,3376.8, 1.5673,34.6710,2,140.2,2,34.6712,2,140.13,2,147.97,2,36.58,2,0.00,2,2.58,2, -999,9, -999,9,-999.0,9,-999.0,9,-999.0,9,-999,-999,9,-999,9, 1.3121,2,27.7596,2, 1.5673,2
49UP20140609_3,   P10,46,1, 9,94,2,20140801,0124, 138,19.8315,149.3075,3972,3377.7, 1.5672,34.6711,2,140.2,2,34.6707,2,139.84,2,147.61,2,36.82,2,0.00,2,2.57,2, -999,9, -999,9,-999.0,9,-999.0,9,-999.0,9,-999,-999,9,-999,9, 1.3119,2,27.7597,2, 1.5673,2
49UP20140609_3,   P10,46,1, 5,518,2,20140801,0124, 137,19.8315,149.3075,3972,3377.8, 1.5674,34.6710,2,140.2,2,34.6719,2,139.49,2,147.72,2,36.81,2,0.00,2,2.57,2, -999,9, -999,9,-999.0,9,-999.0,9,-999.0,9,-999,-999,9,-999,9, 1.3121,2,27.7596,2, 1.5676,2
49UP20140609_3,   P10,46,1, 3,104,2,20140801,0124, 132,19.8315,149.3075,3972,3632.4, 1.5326,34.6760,2,145.3,2,34.6759,2,144.74,2,146.88,2,36.47,2,0.00,2,2.55,2, -999,9, -999,9,-999.0,9,-999.0,9,-999.0,9,-999,-999,9,-999,9, 1.2520,2,27.7679,2, 1.5328,2
49UP20140609_3,   P10,46,1, 2,75,2,20140801,0124, 126,19.8315,149.3075,3972,3888.3, 1.5216,34.6787,2,149.1,2,34.6790,6,148.83,2,145.43,2,36.03,2,0.00,2,2.53,2, -999,9, -999,9,-999.0,9,-999.0,9,-999.0,9,-999,-999,9,-999,9, 1.2142,2,27.7727,2, 1.5218,2
49UP20140609_3,   P10,46,1, 1,997,2,20140801,0124, 124,19.8315,149.3075,3972,3946.5, 1.5181,34.6795,2,150.1,2,34.6801,2,149.74,2,145.02,2,35.99,2,0.00,2,2.53,2, -999,9, -999,9,-999.0,9,-999.0,9,-999.0,9,-999,-999,9,-999,9, 1.2046,2,27.7740,2, 1.5183,2
49UP20140609_3,   P10,47,1, 0,BUC,2,20140801,0825,1016,19.1738,149.3220,5523,   0.0,30.4941,34.8220,2,193.2,2,34.8229,2,192.35,2,  0.64,2, 0.00,2,0.00,2,0.04,2, -999,9, -999,9,1937.3,2,2284.0,2,8.1310,2,25,0.07,2,0.02,2,30.4935,2,21.4234,2,   -999,9
49UP20140609_3,   P10,47,1,36,109,2,20140801,0825,1035,19.1738,149.3220,5523,   9.6,30.4266,34.8317,2,193.3,2,34.8299,2,192.46,2,  0.66,2, 0.00,2,0.00,2,0.03,2, -999,9, -999,9,1939.7,2,2284.6,2,8.1311,2,25,0.05,2,0.02,2,30.4242,2,21.4546,2,30.4234,2
49UP20140609_3,   P10,47,1,35,112,2,20140801,0825,1030,19.1738,149.3220,5523,  50.4,28.3498,35.1473,2,210.8,2,35.1497,2,210.95,6,  0.67,6, 0.00,6,0.00,6,0.02,6, -999,9, -999,9,1963.6,2,2305.0,2,8.1195,2,25,0.06,2,0.02,2,28.3378,2,22.3945,2,28.3578,2
49UP20140609_3,   P10,47,1,34,83,2,20140801,0825,1029,19.1738,149.3220,5523, 100.9,24.5256,35.1608,2,211.6,2,35.1615,6,198.07,4,  0.88,2, 0.04,2,0.00,2,0.03,2, -999,9, -999,9,1991.5,2,2307.5,2,8.0807,2,25,0.15,2,0.09,2,24.5041,2,23.6127,2,24.5244,2
49UP20140609_3,   P10,47,1,33,107,2,20140801,0825,1027,19.1738,149.3220,5523, 150.2,22.6912,35.1084,2,198.1,2,35.1073,2,198.02,2,  1.24,2, 0.24,2,0.08,2,0.07,2, -999,9, -999,9,2012.6,2,2303.6,2,8.0392,2,25,0.17,2,0.31,2,22.6608,2,24.1131,2,22.6851,2
49UP20140609_3,   P10,47,1,32,105,2,20140801,0825,1026,19.1738,149.3220,5523, 203.0,19.8523,34.9095,2,192.8,2,34.9067,2,193.24,2,  2.15,2, 2.14,2,0.02,2,0.18,2, -999,9, -999,9,2033.2,2,2289.6,2,7.9774,2,25,0.04,2,0.14,2,19.8149,2,24.7413,2,19.8529,2
49UP20140609_3,   P10,47,1,31,515,2,20140801,0825,1024,19.1738,149.3220,5523, 251.3,17.6886,34.7553,2,191.3,2,34.7563,2,191.13,2,  3.83,2, 5.02,2,0.01,2,0.36,2, -999,9, -999,9,2050.8,2,2281.7,2,7.9329,2,25,-999,9,-999,9,17.6460,2,25.1712,2,17.6913,2
49UP20140609_3,   P10,47,1,30,97,2,20140801,0825,1023,19.1738,149.3220,5523, 281.9,16.8619,34.6874,2,196.7,2,34.6887,2,196.75,2,  4.56,2, 5.79,2,0.01,2,0.41,2, -999,9, -999,9,2049.5,2,2276.9,2,7.9270,2,25,-999,9,-999,9,16.8156,2,25.3179,2,16.8637,2
49UP20140609_3,   P10,47,1,29,102,2,20140801,0825,1021,19.1738,149.3220,5523, 321.5,15.8747,34.6066,2,198.4,2,34.6074,2,198.77,2,  6.29,2, 7.16,2,0.00,2,0.50,2, -999,9, -999,9,2055.3,2,2273.5,2,7.9044,2,25,-999,9,-999,9,15.8241,2,25.4849,2,15.8738,2
49UP20140609_3,   P10,47,1,28,108,2,20140801,0825,1020,19.1738,149.3220,5523, 375.8,14.0547,34.4599,2,191.1,2,34.4682,4,191.62,2,  9.90,2,10.23,2,0.00,2,0.74,2, -999,9, -999,9,2080.9,2,2271.8,2,7.8493,2,25,-999,9,-999,9,14.0002,2,25.7696,2,14.0481,2
49UP20140609_3,   P10,47,1,27,998,2,20140801,0825,1018,19.1738,149.3220,5523, 424.7,11.7341,34.2906,2,182.5,2,34.2947,2,183.31,2, 17.00,2,14.96,2,0.00,2,1.08,2, -999,9, -999,9,2110.7,2,2268.6,2,7.7700,2,25,-999,9,-999,9,11.6794,2,26.0985,2,11.7356,2
49UP20140609_3,   P10,47,1,26,84,2,20140801,0825,1016,19.1738,149.3220,5523, 473.5, 9.8672,34.1843,2,169.6,2,34.1848,2,169.79,2, 26.65,2,19.78,2,0.00,2,1.42,2, -999,9, -999,9,2145.9,2,2267.3,2,7.7012,2,25,-999,9,-999,9, 9.8125,2,26.3466,2, 9.8691,2
49UP20140609_3,   P10,47,1,25,98,2,20140801,0825,1014,19.1738,149.3220,5523, 577.9, 7.2043,34.1317,2,104.5,2,34.1309,2,105.64,2, 51.51,2,30.37,2,0.00,2,2.21,2, -999,9, -999,9,2222.3,2,2287.6,2,7.5241,2,25,-999,9,-999,9, 7.1486,2,26.7142,2, 7.2052,2
49UP20140609_3,   P10,47,1,24,110,2,20140801,0825,1011,19.1738,149.3220,5523, 676.4, 5.7953,34.2458,2, 62.5,2,34.2462,2, 62.50,2, 74.54,2,36.98,2,0.00,2,2.70,2, -999,9, -999,9,2282.9,6,2312.5,6,7.4363,2,25,-999,9,-999,9, 5.7367,2,26.9895,2, 5.7945,2
49UP20140609_3,   P10,47,1,23,96,2,20140801,0825,1008,19.1738,149.3220,5523, 775.9, 5.1147,34.3271,2, 55.2,2,34.3277,2, 54.82,2, 87.17,2,38.85,2,0.00,2,2.83,2, -999,9, -999,9,2304.3,2,2328.8,2,7.4213,6,25,-999,9,-999,9, 5.0509,2,27.1359,2, 5.1152,2
49UP20140609_3,   P10,47,1,22,111,2,20140801,0825,1006,19.1738,149.3220,5523, 877.6, 4.5096,34.4176,2, 59.7,2,34.4184,2, 59.47,6, 99.23,6,39.63,6,0.00,6,2.86,6, -999,9, -999,9,2318.4,2,2352.7,2,7.4340,2,25,-999,9,-999,9, 4.4407,2,27.2761,2, 4.5094,2
49UP20140609_3,   P10,47,1,21,78,2,20140801,0825,1003,19.1738,149.3220,5523, 979.5, 4.1161,34.4688,2, 67.7,2,34.4692,2, 67.75,2,106.49,2,39.52,2,0.00,2,2.85,2, -999,9, -999,9,2318.8,2,2363.3,2,7.4493,2,25,-999,9,-999,9, 4.0413,2,27.3593,2, 4.1159,2
49UP20140609_3,   P10,47,1,20,93,2,20140801,0825, 959,19.1738,149.3220,5523,1141.2, 3.5596,34.5231,2, 78.4,2,34.5226,2, 78.24,2,116.79,2,39.19,2,0.00,2,2.82,2, -999,9, -999,9,2331.9,2,2377.1,2,7.4683,2,25,-999,9,-999,9, 3.4758,2,27.4595,2, 3.5602,2
49UP20140609_3,   P10,47,1,19,92,2,20140801,0825, 955,19.1738,149.3220,5523,1342.8, 3.0335,34.5559,2, 85.5,2,34.5564,6, 85.29,2,126.80,2,39.22,2,0.00,2,2.82,2, -999,9, -999,9,2339.3,2,2388.0,2,7.4788,2,25,-999,9,-999,9, 2.9383,2,27.5362,2, 3.0336,2
49UP20140609_3,   P10,47,1,18,101,2,20140801,0825, 951,19.1738,149.3220,5523,1544.9, 2.5918,34.5801,2, 92.4,2,34.5802,2, 92.63,2,135.13,2,39.12,2,0.00,2,2.79,2, -999,9, -999,9,2343.0,6,2397.5,6,7.4886,2,25,-999,9,-999,9, 2.4850,2,27.5954,2, 2.5922,2
49UP20140609_3,   P10,47,1,17,90,2,20140801,0825, 946,19.1738,149.3220,5523,1747.1, 2.3151,34.5963,2, 98.6,2,34.5966,2, 98.42,2,140.21,2,38.81,3,0.00,2,2.77,2, -999,9, -999,9,2347.9,2,2402.7,2,7.4961,6,25,-999,9,-999,9, 2.1953,2,27.6325,2, 2.3152,2
49UP20140609_3,   P10,47,1,16,89,2,20140801,0825, 942,19.1738,149.3220,5523,1951.1, 2.1031,34.6141,2,105.5,2,34.6148,2,105.57,2,143.47,2,38.55,2,0.00,2,2.74,2, -999,9, -999,9,2344.0,2,2406.9,2,7.5084,2,25,-999,9,-999,9, 1.9693,2,27.6650,2, 2.1031,2
49UP20140609_3,   P10,47,1,15,88,3,20140801,0825, 938,19.1738,149.3220,5523,2153.8, 1.9579,34.6326,2,111.1,2,34.6312,4,110.51,6,145.82,6,38.40,6,0.00,6,2.72,6, -999,9, -999,9,2345.6,2,2410.9,2,7.5183,2,25,-999,9,-999,9, 1.8091,2,27.6922,2, 1.9580,2
49UP20140609_3,   P10,47,1,14,999,2,20140801,0825, 933,19.1738,149.3220,5523,2357.8, 1.8141,34.6440,2,117.9,2,34.6444,2,118.07,2,148.03,2,38.02,2,0.00,2,2.68,2, -999,9, -999,9,2345.2,2,2414.5,2,7.5297,2,25,-999,9,-999,9, 1.6500,2,27.7134,2, 1.8143,2
49UP20140609_3,   P10,47,1,13,667,2,20140801,0825, 929,19.1738,149.3220,5523,2561.5, 1.7533,34.6508,2,121.9,2,34.6504,2,121.58,2,148.69,2,37.79,2,0.00,2,2.66,2, -999,9, -999,9,2348.2,3,2414.1,2,7.5366,2,25,-999,9,-999,9, 1.5721,2,27.7247,2, 1.7534,2
49UP20140609_3,   P10,47,1,12,74,2,20140801,0825, 925,19.1738,149.3220,5523,2765.2, 1.6932,34.6573,2,126.6,2,34.6574,6,126.77,2,149.24,2,37.63,2,0.00,2,2.64,2, -999,9, -999,9,2342.3,2,2415.9,2,7.5357,3,25,-999,9,-999,9, 1.4944,2,27.7356,2, 1.6935,2
49UP20140609_3,   P10,47,1,11,268,2,20140801,0825, 920,19.1738,149.3220,5523,2967.7, 1.6441,34.6626,2,131.0,2,34.6626,2,131.16,2,149.35,2,37.28,2,0.00,2,2.62,2, -999,9, -999,9,2337.1,2,2417.5,2,7.5564,2,25,-999,9,-999,9, 1.4273,2,27.7447,2, 1.6441,2
49UP20140609_3,   P10,47,1,10,267,2,20140801,0825, 915,19.1738,149.3220,5523,3213.4, 1.5859,34.6691,2,136.6,2,34.6691,6,136.47,2,148.82,2,36.81,2,0.00,2,2.59,2, -999,9, -999,9,2341.2,3,2417.6,2,7.5601,2,25,-999,9,-999,9, 1.3465,2,27.7557,2, 1.5860,2
49UP20140609_3,   P10,47,1, 9,94,2,20140801,0825, 910,19.1738,149.3220,5523,3469.7, 1.5509,34.6741,2,141.8,2,34.6733,2,141.14,2,147.26,2,36.51,2,0.00,2,2.56,2, -999,9, -999,9,2331.9,2,2416.3,2,7.5710,2,25,-999,9,-999,9, 1.2866,2,27.7639,2, 1.5510,2
49UP20140609_3,   P10,47,1, 8,81,2,20140801,0825, 905,19.1738,149.3220,5523,3724.0, 1.5101,34.6789,2,147.7,2,34.6787,2,147.67,2,146.00,2,36.19,2,0.00,2,2.53,2, -999,9, -999,9,2325.1,2,2414.3,2,7.5749,2,25,-999,9,-999,9, 1.2205,2,27.7724,2, 1.5102,2
49UP20140609_3,   P10,47,1, 7,516,2,20140801,0825, 859,19.1738,149.3220,5523,3980.1, 1.4999,34.6817,2,151.8,2,34.6813,2,151.27,2,144.31,2,35.93,2,0.00,2,2.51,2, -999,9, -999,9,2322.8,2,2410.6,6,7.5803,2,25,-999,9,-999,9, 1.1832,2,27.7772,2, 1.5000,2
49UP20140609_3,   P10,47,1, 6,113,2,20140801,0825, 850,19.1738,149.3220,5523,4493.5, 1.4770,34.6879,2,161.6,2,34.6879,2,161.55,2,139.68,2,35.10,2,0.00,2,2.46,2, -999,9, -999,9,2322.4,3,2406.7,2,7.5945,6,25,-999,9,-999,9, 1.1035,2,27.7876,2, 1.4773,2
49UP20140609_3,   P10,47,1, 5,518,3,20140801,0825, 844,19.1738,149.3220,5523,4749.7, 1.4809,34.6900,2,165.1,2,34.6900,2,165.15,2,137.65,2,34.99,2,0.00,2,2.44,2, -999,9, -999,9,2310.5,2,2406.9,2,7.5980,2,25,-999,9,-999,9, 1.0773,2,27.7910,2, 1.4810,2
49UP20140609_3,   P10,47,1, 4,77,2,20140801,0825, 839,19.1738,149.3220,5523,5009.0, 1.4898,34.6916,2,168.2,2,34.6917,2,168.40,2,135.74,2,34.75,2,0.00,2,2.42,2, -999,9, -999,9,2313.0,3,2403.5,2,7.6027,2,25,-999,9,-999,9, 1.0548,2,27.7939,2, 1.4900,2
49UP20140609_3,   P10,47,1, 3,104,2,20140801,0825, 834,19.1738,149.3220,5523,5265.1, 1.4940,34.6938,2,171.9,2,34.6948,2,172.20,6,133.73,6,34.40,6,0.00,6,2.41,6, -999,9, -999,9,2304.4,2,2400.5,2,7.6070,2,25,-999,9,-999,9, 1.0273,2,27.7975,2, 1.4942,2
49UP20140609_3,   P10,47,1, 2,75,2,20140801,0825, 828,19.1738,149.3220,5523,5522.3, 1.5095,34.6951,2,174.4,2,34.6963,2,174.59,2,132.13,2,34.17,2,0.00,2,2.39,2, -999,9, -999,9,2307.6,3,2396.8,2,7.6048,2,25,-999,9,-999,9, 1.0097,2,27.7997,2, 1.5096,2
49UP20140609_3,   P10,47,1, 1,997,2,20140801,0825, 825,19.1738,149.3220,5523,5652.1, 1.5222,34.6953,2,174.9,2,34.6960,2,175.01,2,132.43,2,34.25,2,0.00,2,2.39,2, -999,9, -999,9,2307.0,3,2398.0,2,7.6047,2,25,-999,9,-999,9, 1.0052,2,27.8001,2, 1.5224,2