BOTTLE,20230725CCHSIOADS
EXPOCODE,SECT_ID,STNNBR,CASTNO,SAMPNO,BTLNBR,BTLNBR_FLAG_W,DATE,TIME,BTL_TIME,LATITUDE,LONGITUDE,DEPTH,CTDPRS,CTDTMP,CTDSAL,CTDSAL_FLAG_W,CTDOXY,CTDOXY_FLAG_W,SALNTY,SALNTY_FLAG_W,OXYGEN,OXYGEN_FLAG_W,SILCAT,SILCAT_FLAG_W,NO2+NO3,NO2+NO3_FLAG_W,NITRIT,NITRIT_FLAG_W,PHSPHT,PHSPHT_FLAG_W,CFC-11,CFC-11_FLAG_W,CFC-12,CFC-12_FLAG_W,TCARBN,TCARBN_FLAG_W,ALKALI,ALKALI_FLAG_W,PH_TOT,PH_TOT_FLAG_W,PH_TMP,CHLORA,CHLORA_FLAG_W,PPHYTN,PPHYTN_FLAG_W,THETA,THETA_FLAG_W,SIG0,SIG0_FLAG_W,REFTMP,REFTMP_FLAG_W
,,,,,,,,,,,,METERS,DBAR,ITS-90,PSS-78,,UMOL/KG,,PSS-78,,UMOL/KG,,UMOL/KG,,UMOL/KG,,UMOL/KG,,UMOL/KG,,PMOL/KG,,PMOL/KG,,UMOL/KG,,UMOL/KG,,,,DEG C,UG/KG,,UG/KG,,ITS-90,,KG/M^3,,ITS-90,
49UP20140609_4,   P10,92,1, 0,BUC,2,20140827,1132,1221,-0.9985,145.8397,2101,   0.0,29.9194,34.2555,2,194.7,2,34.2564,2,194.57,2,  1.15,2, 0.00,2,0.00,2,0.09,2, -999,9, -999,9,1924.2,2,2254.4,2,8.1174,2,25,0.07,2,0.03,2,29.9188,2,21.1958,2,   -999,9
49UP20140609_4,   P10,92,1,36,109,2,20140827,1132,1244,-0.9985,145.8397,2101,  10.2,29.8740,34.2498,2,194.9,2,34.2476,2,195.00,6,  1.10,6, 0.00,6,0.00,6,0.09,6,1.460,2,0.880,2,1924.0,2,2251.7,2,8.1146,2,25,0.06,2,0.03,2,29.8715,2,21.2076,2,29.8872,2
49UP20140609_4,   P10,92,1,35,112,2,20140827,1132,1243,-0.9985,145.8397,2101,  25.3,29.7087,34.2579,2,195.1,2,34.2858,4,195.84,2,  1.09,2, 0.00,2,0.00,2,0.09,2, -999,9, -999,9,1925.8,2,2257.0,2,8.1181,2,25,0.06,2,0.03,2,29.7025,2,21.2710,2,29.7077,2
49UP20140609_4,   P10,92,1,34,83,2,20140827,1132,1240,-0.9985,145.8397,2101,  51.5,29.4567,34.7436,2,197.0,2,34.7415,2,197.98,2,  0.84,2, 0.00,2,0.00,2,0.18,2,1.444,2,0.880,2,1943.4,2,2285.6,2,8.1305,2,25,0.13,2,0.09,2,29.4441,2,21.7226,2,29.4548,2
49UP20140609_4,   P10,92,1,33,469,2,20140827,1132,1238,-0.9985,145.8397,2101,  78.4,28.6454,35.1969,2,177.7,2,35.1803,4,178.87,2,  1.44,2, 2.92,2,0.38,2,0.40,2, -999,9, -999,9,1999.7,2,2313.2,2,8.0922,2,25,0.37,2,0.43,2,28.6266,2,22.3363,2,28.6520,2
49UP20140609_4,   P10,92,1,32,105,2,20140827,1132,1237,-0.9985,145.8397,2101, 100.8,28.0220,35.5351,2,158.5,2,35.5466,4,158.29,2,  1.96,2, 6.59,2,0.14,2,0.64,2,1.497,2,0.934,2,2047.5,2,2333.0,2,8.0159,2,25,0.19,2,0.52,2,27.9982,2,22.7977,2,28.0101,2
49UP20140609_4,   P10,92,1,31,515,2,20140827,1132,1235,-0.9985,145.8397,2101, 125.0,25.3480,35.6308,2,146.5,2,35.6430,4,146.24,2,  1.97,2, 7.20,2,0.04,2,0.66,2, -999,9, -999,9,2074.9,2,2339.0,2,7.9801,2,25,0.06,2,0.32,2,25.3206,2,23.7199,2,25.3444,2
49UP20140609_4,   P10,92,1,27,998,2,20140827,1132,1234,-0.9985,145.8397,2101, 150.8,22.3217,35.4840,2,137.9,2,35.4912,2,138.32,2,  3.67,2, 8.91,2,0.03,2,0.75,2,1.805,6,1.091,6,2094.8,2,2331.0,2,7.9299,2,25,0.03,2,0.07,2,22.2916,2,24.5034,2,22.3093,2
49UP20140609_4,   P10,92,1,26,84,2,20140827,1132,1232,-0.9985,145.8397,2101, 202.3,19.0668,35.4558,2,141.4,2,35.4575,2,142.00,2,  4.28,2,10.75,2,0.01,2,0.88,2,1.932,2,1.125,2,2117.8,2,2330.2,2,7.8818,6,25,0.00,2,0.02,2,19.0305,2,25.3618,2,19.0669,2
49UP20140609_4,   P10,92,1,25,98,2,20140827,1132,1230,-0.9985,145.8397,2101, 252.0,14.6603,35.1348,2,149.5,2,35.1345,2,149.89,2,  7.80,2,15.19,2,0.01,2,1.16,2,1.910,2,1.066,2,2143.4,6,2316.7,6,7.8018,2,25,-999,9,-999,9,14.6226,2,26.1583,2,14.6599,2
49UP20140609_4,   P10,92,1,24,110,2,20140827,1132,1228,-0.9985,145.8397,2101, 332.0,11.2270,34.8099,2,137.1,2,34.8126,2,137.71,2, 17.43,2,22.07,2,0.00,2,1.60,2,1.531,6,0.815,6,2175.2,2,2305.5,2,7.7046,2,25,-999,9,-999,9,11.1853,2,26.5937,2,11.2267,2
49UP20140609_4,   P10,92,1,22,111,2,20140827,1132,1226,-0.9985,145.8397,2101, 382.2,10.1392,34.7362,2,122.7,2,34.7353,2,123.05,2, 20.99,2,25.62,2,0.00,2,1.82,2,1.243,2,0.652,2,2192.9,2,2303.0,2,7.6531,2,25,-999,9,-999,9,10.0942,2,26.7298,2,10.1392,2
49UP20140609_4,   P10,92,1,23,96,2,20140827,1132,1226,-0.9985,145.8397,2101, 382.6,10.1365,34.7362,2,122.9,2,34.7361,2,123.12,2, 20.95,2,25.57,2,0.00,2,1.82,2,1.253,2,0.658,2,2193.2,2,2303.0,2,7.6541,2,25,-999,9,-999,9,10.0914,2,26.7303,2,10.1376,2
49UP20140609_4,   P10,92,1,18,101,2,20140827,1132,1225,-0.9985,145.8397,2101, 432.6, 9.0401,34.6588,2,110.0,2,34.6597,2,110.09,6, 26.67,6,29.05,6,0.00,6,2.05,6,0.898,2,0.475,2,2213.8,2,2304.0,2,7.6062,2,25,-999,9,-999,9, 8.9926,2,26.8521,2, 9.0398,2
49UP20140609_4,   P10,92,1,17,90,2,20140827,1132,1223,-0.9985,145.8397,2101, 483.5, 8.4917,34.6224,2,127.9,2,34.6225,6,128.65,2, 26.32,2,28.38,2,0.00,2,2.01,2,0.940,6,0.485,6,2204.9,2,2301.8,2,7.6233,2,25,-999,9,-999,9, 8.4404,2,26.9104,2, 8.4914,2
49UP20140609_4,   P10,92,1,16,89,2,20140827,1132,1221,-0.9985,145.8397,2101, 533.7, 7.7327,34.5864,2,115.8,2,34.5873,2,116.14,2, 31.73,2,31.28,2,0.00,2,2.20,2,0.629,2,0.337,2,2220.6,2,2306.0,2,7.5835,2,25,-999,9,-999,9, 7.6789,2,26.9964,2, 7.7321,2
49UP20140609_4,   P10,92,1,14,999,2,20140827,1132,1219,-0.9985,145.8397,2101, 634.1, 6.6640,34.5405,2,117.1,2,34.5410,2,118.24,2, 41.16,2,33.06,2,0.00,2,2.34,2,0.423,2,0.225,2,2233.9,2,2313.4,2,7.5679,2,25,-999,9,-999,9, 6.6048,2,27.1106,2, 6.6643,2
49UP20140609_4,   P10,92,1,15,88,2,20140827,1132,1219,-0.9985,145.8397,2101, 634.6, 6.6624,34.5406,2,116.7,2,34.5401,2,117.82,2, 41.24,2,32.96,2,0.00,2,2.34,2,0.423,2,0.223,2,2242.7,2,2313.0,2,7.5687,2,25,-999,9,-999,9, 6.6032,2,27.1109,2, 6.6626,2
49UP20140609_4,   P10,92,1,13,667,2,20140827,1132,1216,-0.9985,145.8397,2101, 735.9, 5.7667,34.5293,2,110.6,2,34.5298,2,110.68,2, 54.07,2,35.11,2,0.00,2,2.50,2,0.211,2,0.111,2,2255.7,2,2325.5,2,7.5427,2,25,-999,9,-999,9, 5.7025,2,27.2180,2, 5.7654,2
49UP20140609_4,   P10,92,1,12,74,2,20140827,1132,1212,-0.9985,145.8397,2101, 837.3, 5.1668,34.5310,2,109.2,2,34.5313,2,109.53,2, 64.62,2,36.02,2,0.00,2,2.57,2,0.118,2,0.065,2,2268.5,2,2337.1,2,7.5365,2,25,-999,9,-999,9, 5.0969,2,27.2922,2, 5.1669,2
49UP20140609_4,   P10,92,1,11,268,2,20140827,1132,1210,-0.9985,145.8397,2101, 938.6, 4.8406,34.5391,2,103.0,2,34.5404,2,102.62,2, 73.14,2,37.04,2,0.00,2,2.65,2,0.071,2,0.040,2,2279.5,2,2344.7,2,7.5236,6,25,-999,9,-999,9, 4.7639,2,27.3368,2, 4.8404,2
49UP20140609_4,   P10,92,1,10,267,2,20140827,1132,1206,-0.9985,145.8397,2101,1080.5, 4.2286,34.5497,2,106.9,2,34.5502,2,107.30,2, 83.24,2,37.35,2,0.00,2,2.67,2,0.036,2,0.023,2,2290.8,6,2356.6,6,7.5254,2,25,-999,9,-999,9, 4.1442,2,27.4129,2, 4.2286,2
49UP20140609_4,   P10,92,1, 9,518,2,20140827,1132,1201,-0.9985,145.8397,2101,1282.9, 3.6861,34.5710,2,105.0,2,34.5708,6,105.02,2, 97.83,2,37.77,4,0.00,2,2.71,2,0.010,2,0.013,2,2309.3,2,2372.3,2,7.5219,2,25,-999,9,-999,9, 3.5893,2,27.4865,2, 3.6864,2
49UP20140609_4,   P10,92,1, 8,81,2,20140827,1132,1155,-0.9985,145.8397,2101,1484.0, 3.0396,34.5966,2,110.9,2,34.5958,2,110.98,6,112.17,6,37.92,6,0.00,6,2.70,6,0.012,2,0.004,2,2321.3,2,2387.1,2,7.5240,2,25,-999,9,-999,9, 2.9326,2,27.5692,2, 3.0398,2
49UP20140609_4,   P10,92,1, 6,113,2,20140827,1132,1151,-0.9985,145.8397,2101,1686.8, 2.7004,34.6115,2,116.0,2,34.6121,6,115.65,2,119.17,2,37.74,2,0.00,2,2.68,2,0.000,2,0.000,2,2325.5,2,2394.8,2,7.5335,2,25,-999,9,-999,9, 2.5805,2,27.6123,2, 2.7005,2
49UP20140609_4,   P10,92,1, 4,77,2,20140827,1132,1142,-0.9985,145.8397,2101,1889.3, 2.4461,34.6251,2,116.6,2,34.6261,2,116.72,2,127.12,2,37.82,2,0.00,2,2.69,2,0.000,2,0.000,2,2331.1,2,2402.9,2,7.5381,2,25,-999,9,-999,9, 2.3125,2,27.6460,2, 2.4460,2
49UP20140609_4,   P10,92,1, 5,94,2,20140827,1132,1142,-0.9985,145.8397,2101,1889.4, 2.4450,34.6252,2,116.6,2,34.6247,2,116.39,2,127.07,2,37.80,2,0.00,2,2.68,2,0.001,2,0.001,2,2331.4,2,2403.7,2,7.5335,2,25,-999,9,-999,9, 2.3114,2,27.6461,2, 2.4450,2
49UP20140609_4,   P10,92,1, 3,104,2,20140827,1132,1137,-0.9985,145.8397,2101,2091.5, 2.1767,34.6386,2,120.8,2,34.6389,2,120.95,2,133.54,2,37.59,2,0.00,2,2.67,2,0.000,2,0.000,2,2336.8,2,2410.1,2,7.5408,6,25,-999,9,-999,9, 2.0297,2,27.6798,2, 2.1766,2
49UP20140609_4,   P10,92,1, 1,997,2,20140827,1132,1132,-0.9985,145.8397,2101,2312.9, 1.9373,34.6506,2,127.5,2,34.6504,2,127.17,2,138.39,2,37.32,2,0.00,2,2.63,2,0.001,2,0.000,2,2338.4,6,2414.6,6,7.5501,2,25,-999,9,-999,9, 1.7749,2,27.7092,2, 1.9382,2
49UP20140609_4,   P10,93,1, 0,BUC,2,20140827,1822,2000,-0.4975,145.4795,4190,   0.0,29.7579,34.1902,2,195.9,2,   -999,9,194.94,2,  1.13,2, 0.00,2,0.00,2,0.08,2, -999,9, -999,9,-999.0,9,-999.0,9,-999.0,9,-999,-999,9,-999,9,29.7573,2,21.2016,2,   -999,9
49UP20140609_4,   P10,93,1,36,109,2,20140827,1822,2025,-0.4975,145.4795,4190,  10.7,29.7933,34.1872,2,195.7,2,34.1836,2,195.67,2,  1.11,2, 0.00,2,0.00,2,0.08,2, -999,9, -999,9,-999.0,9,-999.0,9,-999.0,9,-999,-999,9,-999,9,29.7907,2,21.1881,2,29.7940,2
49UP20140609_4,   P10,93,1,35,112,2,20140827,1822,2025,-0.4975,145.4795,4190,  10.7,29.7821,34.1868,2,195.8,2,34.1835,2,195.75,2,  1.07,2, 0.00,2,0.00,2,0.07,2, -999,9, -999,9,-999.0,9,-999.0,9,-999.0,9,-999,-999,9,-999,9,29.7794,2,21.1916,2,29.7869,2
49UP20140609_4,   P10,93,1,34,83,2,20140827,1822,2024,-0.4975,145.4795,4190,  26.7,29.6422,34.3094,2,196.6,2,34.3120,2,196.77,2,  1.09,2, 0.00,2,0.00,2,0.09,2, -999,9, -999,9,-999.0,9,-999.0,9,-999.0,9,-999,-999,9,-999,9,29.6356,2,21.3322,2,29.6438,2
49UP20140609_4,   P10,93,1,33,469,2,20140827,1822,2020,-0.4975,145.4795,4190,  51.1,29.4994,34.7713,2,197.5,2,34.7833,4,197.93,2,  0.98,2, 0.00,2,0.00,2,0.18,2, -999,9, -999,9,-999.0,9,-999.0,9,-999.0,9,-999,-999,9,-999,9,29.4869,2,21.7289,2,29.4990,2
49UP20140609_4,   P10,93,1,32,105,2,20140827,1822,2019,-0.4975,145.4795,4190,  77.8,28.9409,35.3252,2,179.8,2,35.3199,2,180.59,2,  1.47,2, 3.05,2,0.65,2,0.42,2, -999,9, -999,9,-999.0,9,-999.0,9,-999.0,9,-999,-999,9,-999,9,28.9221,2,22.3343,2,28.9404,2
49UP20140609_4,   P10,93,1,31,515,2,20140827,1822,2017,-0.4975,145.4795,4190, 100.8,28.4653,35.4651,2,167.6,2,35.4863,4,167.74,6,  1.78,6, 5.21,6,0.67,6,0.56,6, -999,9, -999,9,-999.0,9,-999.0,9,-999.0,9,-999,-999,9,-999,9,28.4413,2,22.5993,2,28.4635,2
49UP20140609_4,   P10,93,1,30,97,2,20140827,1822,2016,-0.4975,145.4795,4190, 126.6,26.8024,35.6167,2,150.3,2,35.6184,2,151.11,2,  1.96,2, 7.40,2,0.09,2,0.68,2, -999,9, -999,9,-999.0,9,-999.0,9,-999.0,9,-999,-999,9,-999,9,26.7734,2,23.2547,2,26.8032,2
49UP20140609_4,   P10,93,1,29,102,2,20140827,1822,2014,-0.4975,145.4795,4190, 152.1,22.8595,35.5138,2,138.2,2,35.4768,4,138.00,2,  3.64,2, 8.81,2,0.02,2,0.75,2, -999,9, -999,9,-999.0,9,-999.0,9,-999.0,9,-999,-999,9,-999,9,22.8285,2,24.3728,2,22.8705,2
49UP20140609_4,   P10,93,1,28,108,2,20140827,1822,2012,-0.4975,145.4795,4190, 202.8,16.8614,35.3176,2,142.0,2,35.3125,2,142.31,2,  5.91,2,13.28,2,0.01,2,1.05,2, -999,9, -999,9,-999.0,9,-999.0,9,-999.0,9,-999,-999,9,-999,9,16.8280,2,25.7989,2,16.8598,2
49UP20140609_4,   P10,93,1,27,998,2,20140827,1822,2010,-0.4975,145.4795,4190, 252.7,13.8624,35.0626,2,150.1,2,35.0495,4,150.41,2,  9.38,2,16.62,2,0.01,2,1.25,2, -999,9, -999,9,-999.0,9,-999.0,9,-999.0,9,-999,-999,9,-999,9,13.8261,2,26.2720,2,13.8613,2
49UP20140609_4,   P10,93,1,26,84,2,20140827,1822,2008,-0.4975,145.4795,4190, 283.6,12.0984,34.8945,2,145.6,2,34.8815,4,144.98,2, 14.62,2,20.08,2,0.00,2,1.47,2, -999,9, -999,9,-999.0,9,-999.0,9,-999.0,9,-999,-999,9,-999,9,12.0611,2,26.4955,2,12.0985,2
49UP20140609_4,   P10,93,1,25,98,2,20140827,1822,2007,-0.4975,145.4795,4190, 322.8,11.2535,34.8065,2,135.7,2,34.8068,2,135.41,2, 18.29,2,22.31,2,0.00,2,1.61,2, -999,9, -999,9,-999.0,9,-999.0,9,-999.0,9,-999,-999,9,-999,9,11.2130,2,26.5861,2,11.2530,2
49UP20140609_4,   P10,93,1,24,110,2,20140827,1822,2004,-0.4975,145.4795,4190, 375.8,10.2962,34.7408,2,113.6,2,34.7461,2,115.86,2, 22.10,2,25.96,2,0.00,2,1.85,2, -999,9, -999,9,-999.0,9,-999.0,9,-999.0,9,-999,-999,9,-999,9,10.2515,2,26.7063,2,10.2990,2
49UP20140609_4,   P10,93,1,23,96,2,20140827,1822,2003,-0.4975,145.4795,4190, 424.2, 9.3725,34.6810,2, 99.7,2,34.6812,2, 98.98,2, 26.94,2,29.61,2,0.00,2,2.08,2, -999,9, -999,9,-999.0,9,-999.0,9,-999.0,9,-999,-999,9,-999,9, 9.3249,2,26.8157,2, 9.3722,2
49UP20140609_4,   P10,93,1,22,111,2,20140827,1822,2001,-0.4975,145.4795,4190, 474.2, 8.6367,34.6300,2,119.8,2,34.6299,2,120.70,2, 27.36,2,28.92,2,0.00,2,2.04,2, -999,9, -999,9,-999.0,9,-999.0,9,-999.0,9,-999,-999,9,-999,9, 8.5859,2,26.8938,2, 8.6362,2
49UP20140609_4,   P10,93,1,21,78,2,20140827,1822,1958,-0.4975,145.4795,4190, 574.5, 6.8779,34.5424,2,132.0,2,34.5431,2,132.25,2, 37.55,2,31.33,2,0.00,2,2.21,2, -999,9, -999,9,-999.0,9,-999.0,9,-999.0,9,-999,-999,9,-999,9, 6.8236,2,27.0825,2, 6.8776,2
49UP20140609_4,   P10,93,1,20,93,2,20140827,1822,1955,-0.4975,145.4795,4190, 677.4, 6.1556,34.5339,2,109.0,2,34.5348,2,109.16,2, 49.31,2,34.83,2,0.00,2,2.47,2, -999,9, -999,9,-999.0,9,-999.0,9,-999.0,9,-999,-999,9,-999,9, 6.0947,2,27.1723,2, 6.1560,2
49UP20140609_4,   P10,93,1,19,92,2,20140827,1822,1944,-0.4975,145.4795,4190, 776.3, 5.3345,34.5283,2,111.9,2,34.5286,6,111.94,2, 61.97,2,35.79,2,0.00,2,2.54,2, -999,9, -999,9,-999.0,9,-999.0,9,-999.0,9,-999,-999,9,-999,9, 5.2690,2,27.2698,2, 5.3343,2
49UP20140609_4,   P10,93,1,18,101,2,20140827,1822,1941,-0.4975,145.4795,4190, 879.8, 4.9269,34.5364,2,103.5,2,34.5378,2,103.62,2, 70.81,2,37.07,2,0.00,2,2.64,2, -999,9, -999,9,-999.0,9,-999.0,9,-999.0,9,-999,-999,9,-999,9, 4.8548,2,27.3244,2, 4.9267,2
49UP20140609_4,   P10,93,1,17,90,2,20140827,1822,1938,-0.4975,145.4795,4190, 978.7, 4.6545,34.5424,2,103.2,2,34.5424,2,103.36,2, 77.01,2,37.35,2,0.00,2,2.67,2, -999,9, -999,9,-999.0,9,-999.0,9,-999.0,9,-999,-999,9,-999,9, 4.5757,2,27.3605,2, 4.6544,2
49UP20140609_4,   P10,93,1,16,89,2,20140827,1822,1934,-0.4975,145.4795,4190,1140.2, 4.0141,34.5626,2,101.9,2,34.5618,2,102.30,2, 93.27,2,37.91,2,0.00,2,2.71,2, -999,9, -999,9,-999.0,9,-999.0,9,-999.0,9,-999,-999,9,-999,9, 3.9264,2,27.4458,2, 4.0138,2
49UP20140609_4,   P10,93,1,15,88,2,20140827,1822,1929,-0.4975,145.4795,4190,1342.5, 3.4510,34.5827,2, 99.7,2,34.5825,2, 99.44,2,106.83,2,38.61,2,0.00,2,2.76,2, -999,9, -999,9,-999.0,9,-999.0,9,-999.0,9,-999,-999,9,-999,9, 3.3514,2,27.5190,2, 3.4508,2
49UP20140609_4,   P10,93,1,14,999,2,20140827,1822,1925,-0.4975,145.4795,4190,1545.3, 2.9412,34.6007,2,111.3,2,34.6007,2,111.20,2,114.66,2,38.05,2,0.00,2,2.71,2, -999,9, -999,9,-999.0,9,-999.0,9,-999.0,9,-999,-999,9,-999,9, 2.8302,2,27.5817,2, 2.9412,2
49UP20140609_4,   P10,93,1,13,667,2,20140827,1822,1920,-0.4975,145.4795,4190,1747.5, 2.6216,34.6157,2,116.3,2,34.6159,2,116.38,2,121.98,2,37.86,2,0.00,2,2.69,2, -999,9, -999,9,-999.0,9,-999.0,9,-999.0,9,-999,-999,9,-999,9, 2.4976,2,27.6228,2, 2.6217,2
49UP20140609_4,   P10,93,1,12,74,2,20140827,1822,1915,-0.4975,145.4795,4190,1950.5, 2.3459,34.6301,2,116.8,2,34.6287,2,116.80,2,130.48,2,38.00,2,0.00,2,2.69,2, -999,9, -999,9,-999.0,9,-999.0,9,-999.0,9,-999,-999,9,-999,9, 2.2085,2,27.6585,2, 2.3460,2
49UP20140609_4,   P10,93,1,11,268,2,20140827,1822,1910,-0.4975,145.4795,4190,2154.0, 2.0570,34.6446,2,123.6,2,34.6424,2,123.25,2,136.67,2,37.62,2,0.00,2,2.66,2, -999,9, -999,9,-999.0,9,-999.0,9,-999.0,9,-999,-999,9,-999,9, 1.9065,2,27.6943,2, 2.0572,2
49UP20140609_4,   P10,93,1,10,267,2,20140827,1822,1906,-0.4975,145.4795,4190,2357.1, 1.9642,34.6496,2,125.7,2,34.6492,2,125.67,2,138.90,2,37.54,2,0.00,2,2.65,2, -999,9, -999,9,-999.0,9,-999.0,9,-999.0,9,-999,-999,9,-999,9, 1.7975,2,27.7067,2, 1.9642,2
49UP20140609_4,   P10,93,1, 9,518,2,20140827,1822,1901,-0.4975,145.4795,4190,2561.5, 1.7771,34.6590,2,133.0,2,34.6587,2,132.73,2,141.45,2,37.07,2,0.00,2,2.61,2, -999,9, -999,9,-999.0,9,-999.0,9,-999.0,9,-999,-999,9,-999,9, 1.5954,2,27.7295,2, 1.7770,2
49UP20140609_4,   P10,93,1, 8,81,2,20140827,1822,1856,-0.4975,145.4795,4190,2765.3, 1.6955,34.6643,2,137.3,2,34.6644,2,137.35,6,141.89,6,36.74,6,0.00,6,2.58,6, -999,9, -999,9,-999.0,9,-999.0,9,-999.0,9,-999,-999,9,-999,9, 1.4966,2,27.7410,2, 1.6954,2
49UP20140609_4,   P10,93,1, 7,516,2,20140827,1822,1851,-0.4975,145.4795,4190,2967.4, 1.6297,34.6690,2,141.1,2,34.6680,6,141.01,2,142.48,2,36.52,2,0.00,2,2.56,2, -999,9, -999,9,-999.0,9,-999.0,9,-999.0,9,-999,-999,9,-999,9, 1.4132,2,27.7508,2, 1.6298,2
49UP20140609_4,   P10,93,1, 6,113,2,20140827,1822,1845,-0.4975,145.4795,4190,3211.8, 1.5854,34.6732,2,144.3,2,34.6732,2,144.18,2,142.38,2,36.23,2,0.00,2,2.54,2, -999,9, -999,9,-999.0,9,-999.0,9,-999.0,9,-999,-999,9,-999,9, 1.3462,2,27.7589,2, 1.5854,2
49UP20140609_4,   P10,93,1, 5,94,2,20140827,1822,1840,-0.4975,145.4795,4190,3466.1, 1.5600,34.6768,2,147.2,2,34.6767,2,147.24,2,142.37,2,36.10,2,0.00,2,2.53,2, -999,9, -999,9,-999.0,9,-999.0,9,-999.0,9,-999,-999,9,-999,9, 1.2959,2,27.7654,2, 1.5602,2
49UP20140609_4,   P10,93,1, 4,77,2,20140827,1822,1834,-0.4975,145.4795,4190,3723.3, 1.5347,34.6806,2,150.5,2,34.6802,2,150.47,2,141.48,2,35.91,2,0.00,2,2.51,2, -999,9, -999,9,-999.0,9,-999.0,9,-999.0,9,-999,-999,9,-999,9, 1.2445,2,27.7721,2, 1.5349,2
49UP20140609_4,   P10,93,1, 3,104,2,20140827,1822,1829,-0.4975,145.4795,4190,3977.8, 1.5347,34.6825,2,152.4,2,34.6819,6,152.22,6,141.77,6,35.83,6,0.00,6,2.50,6, -999,9, -999,9,-999.0,9,-999.0,9,-999.0,9,-999,-999,9,-999,9, 1.2173,2,27.7754,2, 1.5347,2
49UP20140609_4,   P10,93,1, 2,75,2,20140827,1822,1823,-0.4975,145.4795,4190,4278.7, 1.5304,34.6850,2,155.4,2,34.6857,2,155.41,2,140.53,2,35.55,2,0.00,2,2.48,2, -999,9, -999,9,-999.0,9,-999.0,9,-999.0,9,-999,-999,9,-999,9, 1.1797,2,27.7801,2, 1.5305,2
49UP20140609_4,   P10,93,1, 1,997,2,20140827,1822,1823,-0.4975,145.4795,4190,4278.8, 1.5306,34.6849,2,155.4,2,34.6843,2,155.48,2,140.71,2,35.64,2,0.00,2,2.48,2, -999,9, -999,9,-999.0,9,-999.0,9,-999.0,9,-999,-999,9,-999,9, 1.1799,2,27.7800,2, 1.5306,2