BOTTLE,20230725CCHSIOADS
EXPOCODE,SECT_ID,STNNBR,CASTNO,SAMPNO,BTLNBR,BTLNBR_FLAG_W,DATE,TIME,BTL_TIME,LATITUDE,LONGITUDE,DEPTH,CTDPRS,CTDTMP,CTDSAL,CTDSAL_FLAG_W,CTDOXY,CTDOXY_FLAG_W,SALNTY,SALNTY_FLAG_W,OXYGEN,OXYGEN_FLAG_W,SILCAT,SILCAT_FLAG_W,NO2+NO3,NO2+NO3_FLAG_W,NITRIT,NITRIT_FLAG_W,PHSPHT,PHSPHT_FLAG_W,CFC-11,CFC-11_FLAG_W,CFC-12,CFC-12_FLAG_W,TCARBN,TCARBN_FLAG_W,ALKALI,ALKALI_FLAG_W,PH_TOT,PH_TOT_FLAG_W,PH_TMP,CHLORA,CHLORA_FLAG_W,PPHYTN,PPHYTN_FLAG_W,THETA,THETA_FLAG_W,SIG0,SIG0_FLAG_W,REFTMP,REFTMP_FLAG_W
,,,,,,,,,,,,METERS,DBAR,ITS-90,PSS-78,,UMOL/KG,,PSS-78,,UMOL/KG,,UMOL/KG,,UMOL/KG,,UMOL/KG,,UMOL/KG,,PMOL/KG,,PMOL/KG,,UMOL/KG,,UMOL/KG,,,,DEG C,UG/KG,,UG/KG,,ITS-90,,KG/M^3,,ITS-90,
49UP20140609_2,   P10,40,1, 0,BUC,2,20140711,1356,1555,23.1695,149.3350,5754,   0.0,29.6799,35.0378,2,195.1,2,   -999,9,195.07,2,  1.00,2, 0.04,2,0.00,2,0.04,2, -999,9, -999,9,-999.0,9,-999.0,9,-999.0,9,-999,-999,9,-999,9,29.6792,2,21.8637,2,   -999,9
49UP20140609_2,   P10,40,1,36,109,2,20140711,1356,1608,23.1695,149.3350,5754,  10.2,29.6875,35.0336,2,194.4,2,35.0359,2,195.54,2,  1.05,2, 0.00,2,0.00,2,0.02,2, -999,9, -999,9,-999.0,9,-999.0,9,-999.0,9,-999,-999,9,-999,9,29.6849,2,21.8587,2,29.6860,2
49UP20140609_2,   P10,40,1,35,112,2,20140711,1356,1604,23.1695,149.3350,5754,  50.6,23.2042,35.0483,2,225.4,2,35.0513,2,225.76,2,  1.26,2, 0.01,2,0.00,2,0.02,2, -999,9, -999,9,-999.0,9,-999.0,9,-999.0,9,-999,-999,9,-999,9,23.1938,2,23.9142,2,23.2112,2
49UP20140609_2,   P10,40,1,34,83,2,20140711,1356,1602,23.1695,149.3350,5754,  98.7,21.3484,34.9789,2,220.9,2,34.9793,2,220.76,2,  1.46,2, 0.00,2,0.00,2,0.02,2, -999,9, -999,9,-999.0,9,-999.0,9,-999.0,9,-999,-999,9,-999,9,21.3293,2,24.3878,2,21.3537,2
49UP20140609_2,   P10,40,1,33,107,2,20140711,1356,1601,23.1695,149.3350,5754, 149.0,19.1261,34.8223,2,208.9,2,34.8153,2,209.12,6,  2.37,6, 1.74,6,0.05,6,0.14,6, -999,9, -999,9,-999.0,9,-999.0,9,-999.0,9,-999,-999,9,-999,9,19.0994,2,24.8599,2,19.0748,2
49UP20140609_2,   P10,40,1,32,105,2,20140711,1356,1559,23.1695,149.3350,5754, 200.6,17.7550,34.7473,2,219.2,2,34.7455,2,219.32,2,  2.93,2, 2.63,2,0.01,2,0.19,2, -999,9, -999,9,-999.0,9,-999.0,9,-999.0,9,-999,-999,9,-999,9,17.7209,2,25.1469,2,17.7519,2
49UP20140609_2,   P10,40,1,31,515,2,20140711,1356,1558,23.1695,149.3350,5754, 253.3,16.9911,34.7176,2,221.3,2,34.7162,2,220.95,2,  3.82,2, 3.71,2,0.01,2,0.25,2, -999,9, -999,9,-999.0,9,-999.0,9,-999.0,9,-999,-999,9,-999,9,16.9493,2,25.3095,2,16.9899,2
49UP20140609_2,   P10,40,1,30,97,2,20140711,1356,1557,23.1695,149.3350,5754, 281.1,16.7765,34.7024,2,221.3,2,34.7014,2,220.87,2,  4.06,2, 4.09,2,0.01,2,0.29,2, -999,9, -999,9,-999.0,9,-999.0,9,-999.0,9,-999,-999,9,-999,9,16.7306,2,25.3494,2,16.7737,2
49UP20140609_2,   P10,40,1,29,102,2,20140711,1356,1554,23.1695,149.3350,5754, 372.4,14.8821,34.5419,2,192.8,2,34.5384,2,192.56,2, 10.07,2, 9.65,2,0.00,2,0.67,2, -999,9, -999,9,-999.0,9,-999.0,9,-999.0,9,-999,-999,9,-999,9,14.8259,2,25.6567,2,14.8811,2
49UP20140609_2,   P10,40,1,28,108,2,20140711,1356,1552,23.1695,149.3350,5754, 473.9,11.6476,34.3129,2,183.7,2,34.3098,2,183.88,2, 20.54,2,15.77,2,0.00,2,1.12,2, -999,9, -999,9,-999.0,9,-999.0,9,-999.0,9,-999,-999,9,-999,9,11.5867,2,26.1331,2,11.6438,2
49UP20140609_2,   P10,40,1,27,998,2,20140711,1356,1549,23.1695,149.3350,5754, 574.5, 8.6331,34.1294,2,161.8,2,34.1490,2,161.08,2, 38.19,2,23.12,2,0.00,2,1.67,2, -999,9, -999,9,-999.0,9,-999.0,9,-999.0,9,-999,-999,9,-999,9, 8.5716,2,26.5035,2, 8.6302,2
49UP20140609_2,   P10,40,1,26,84,2,20140711,1356,1547,23.1695,149.3350,5754, 674.7, 6.1923,34.0637,2,118.5,2,34.0647,2,118.69,2, 63.43,2,31.38,2,0.00,2,2.28,2, -999,9, -999,9,-999.0,9,-999.0,9,-999.0,9,-999,-999,9,-999,9, 6.1320,2,26.7960,2, 6.1909,2
49UP20140609_2,   P10,40,1,25,98,2,20140711,1356,1544,23.1695,149.3350,5754, 776.1, 4.7916,34.1578,2, 68.0,2,34.1635,2, 67.62,2, 91.09,2,38.10,2,0.00,2,2.76,2, -999,9, -999,9,-999.0,9,-999.0,9,-999.0,9,-999,-999,9,-999,9, 4.7299,2,27.0380,2, 4.7915,2
49UP20140609_2,   P10,40,1,24,110,2,20140711,1356,1542,23.1695,149.3350,5754, 877.0, 4.2127,34.2850,2, 48.0,2,34.2869,2, 47.83,2,106.21,2,40.65,2,0.00,2,2.93,2, -999,9, -999,9,-999.0,9,-999.0,9,-999.0,9,-999,-999,9,-999,9, 4.1460,2,27.2022,2, 4.2092,2
49UP20140609_2,   P10,40,1,23,96,2,20140711,1356,1539,23.1695,149.3350,5754, 977.4, 3.8074,34.3652,2, 47.1,2,34.3647,2, 47.03,6,116.10,6,41.26,6,0.00,6,2.97,6, -999,9, -999,9,-999.0,9,-999.0,9,-999.0,9,-999,-999,9,-999,9, 3.7353,2,27.3081,2, 3.8089,2
49UP20140609_2,   P10,40,1,22,111,2,20140711,1356,1536,23.1695,149.3350,5754,1139.4, 3.3510,34.4720,2, 61.3,2,34.4723,2, 61.35,2,125.37,2,40.74,2,0.00,2,2.93,2, -999,9, -999,9,-999.0,9,-999.0,9,-999.0,9,-999,-999,9,-999,9, 3.2693,2,27.4386,2, 3.3508,2
49UP20140609_2,   P10,40,1,21,78,2,20140711,1356,1531,23.1695,149.3350,5754,1341.7, 2.8366,34.5136,2, 69.8,2,34.5136,2, 69.50,2,135.58,2,40.64,2,0.00,2,2.90,2, -999,9, -999,9,-999.0,9,-999.0,9,-999.0,9,-999,-999,9,-999,9, 2.7436,2,27.5198,2, 2.8387,2
49UP20140609_2,   P10,40,1,20,93,2,20140711,1356,1527,23.1695,149.3350,5754,1545.8, 2.4660,34.5583,2, 84.5,2,34.5582,2, 84.40,2,141.14,2,39.77,2,0.00,2,2.84,2, -999,9, -999,9,-999.0,9,-999.0,9,-999.0,9,-999,-999,9,-999,9, 2.3607,2,27.5885,2, 2.4655,2
49UP20140609_2,   P10,40,1,19,92,2,20140711,1356,1523,23.1695,149.3350,5754,1747.1, 2.1635,34.5903,2, 95.4,2,34.5897,2, 95.09,2,145.24,2,39.25,2,0.00,2,2.79,2, -999,9, -999,9,-999.0,9,-999.0,9,-999.0,9,-999,-999,9,-999,9, 2.0457,2,27.6398,2, 2.1624,2
49UP20140609_2,   P10,40,1,18,101,2,20140711,1356,1518,23.1695,149.3350,5754,1950.8, 1.9794,34.6124,2,104.3,2,34.6125,2,104.41,2,147.64,2,38.85,2,0.00,2,2.75,2, -999,9, -999,9,-999.0,9,-999.0,9,-999.0,9,-999,-999,9,-999,9, 1.8475,2,27.6730,2, 1.9794,2
49UP20140609_2,   P10,40,1,17,90,2,20140711,1356,1514,23.1695,149.3350,5754,2154.0, 1.8602,34.6277,2,111.1,2,34.6276,6,111.19,2,148.80,2,38.53,2,0.00,2,2.72,2, -999,9, -999,9,-999.0,9,-999.0,9,-999.0,9,-999,-999,9,-999,9, 1.7130,2,27.6956,2, 1.8606,2
49UP20140609_2,   P10,40,1,16,89,2,20140711,1356,1510,23.1695,149.3350,5754,2357.9, 1.7774,34.6386,2,117.0,2,34.6389,2,116.90,2,149.46,2,38.19,2,0.00,2,2.69,2, -999,9, -999,9,-999.0,9,-999.0,9,-999.0,9,-999,-999,9,-999,9, 1.6139,2,27.7118,2, 1.7776,2
49UP20140609_2,   P10,40,1,15,88,2,20140711,1356,1505,23.1695,149.3350,5754,2560.8, 1.7094,34.6471,2,121.7,2,34.6471,2,121.96,2,150.22,2,37.92,2,0.00,2,2.67,2, -999,9, -999,9,-999.0,9,-999.0,9,-999.0,9,-999,-999,9,-999,9, 1.5291,2,27.7248,2, 1.7092,2
49UP20140609_2,   P10,40,1,14,999,2,20140711,1356,1501,23.1695,149.3350,5754,2764.8, 1.6409,34.6569,2,128.6,2,34.6570,6,128.54,2,149.33,2,37.45,2,0.00,2,2.63,2, -999,9, -999,9,-999.0,9,-999.0,9,-999.0,9,-999,-999,9,-999,9, 1.4433,2,27.7389,2, 1.6411,2
49UP20140609_2,   P10,40,1,13,667,3,20140711,1356,1457,23.1695,149.3350,5754,2969.4, 1.5935,34.6627,2,132.8,2,34.6622,2,132.53,2,149.49,2,37.14,2,0.00,2,2.61,2, -999,9, -999,9,-999.0,9,-999.0,9,-999.0,9,-999,-999,9,-999,9, 1.3776,2,27.7483,2, 1.5938,2
49UP20140609_2,   P10,40,1,12,74,2,20140711,1356,1452,23.1695,149.3350,5754,3216.6, 1.5584,34.6686,2,138.1,2,34.6691,2,137.89,2,148.77,2,37.05,2,0.00,2,2.59,2, -999,9, -999,9,-999.0,9,-999.0,9,-999.0,9,-999,-999,9,-999,9, 1.3193,2,27.7572,2, 1.5582,2
49UP20140609_2,   P10,40,1,11,268,2,20140711,1356,1446,23.1695,149.3350,5754,3470.5, 1.5357,34.6737,2,142.6,2,34.6736,6,142.66,6,147.89,2,36.59,2,0.00,2,2.56,2, -999,9, -999,9,-999.0,9,-999.0,9,-999.0,9,-999,-999,9,-999,9, 1.2718,2,27.7646,2, 1.5358,2
49UP20140609_2,   P10,40,1,10,267,3,20140711,1356,1441,23.1695,149.3350,5754,3728.4, 1.5158,34.6774,2,146.8,2,34.6778,2,146.54,2,146.84,6,36.32,6,0.00,6,2.54,6, -999,9, -999,9,-999.0,9,-999.0,9,-999.0,9,-999,-999,9,-999,9, 1.2256,2,27.7708,2, 1.5159,2
49UP20140609_2,   P10,40,1, 9,518,2,20140711,1356,1436,23.1695,149.3350,5754,3984.2, 1.4958,34.6810,2,151.3,2,34.6796,4,150.15,3,145.34,2,36.01,2,0.00,2,2.52,2, -999,9, -999,9,-999.0,9,-999.0,9,-999.0,9,-999,-999,9,-999,9, 1.1788,2,27.7770,2, 1.4957,2
49UP20140609_2,   P10,40,1, 8,81,2,20140711,1356,1431,23.1695,149.3350,5754,4239.5, 1.4861,34.6844,2,155.7,2,34.6839,2,155.26,2,143.71,2,35.75,2,0.00,2,2.49,2, -999,9, -999,9,-999.0,9,-999.0,9,-999.0,9,-999,-999,9,-999,9, 1.1412,2,27.7823,2, 1.4862,2
49UP20140609_2,   P10,40,1, 7,516,2,20140711,1356,1425,23.1695,149.3350,5754,4495.9, 1.4797,34.6873,2,160.0,2,34.6858,4,158.76,3,141.89,2,35.46,2,0.00,2,2.47,2, -999,9, -999,9,-999.0,9,-999.0,9,-999.0,9,-999,-999,9,-999,9, 1.1058,2,27.7870,2, 1.4795,2
49UP20140609_2,   P10,40,1, 6,113,2,20140711,1356,1420,23.1695,149.3350,5754,4753.4, 1.4894,34.6893,2,163.0,2,34.6890,2,162.80,2,140.17,2,35.24,2,0.00,2,2.45,2, -999,9, -999,9,-999.0,9,-999.0,9,-999.0,9,-999,-999,9,-999,9, 1.0851,2,27.7900,2, 1.4894,2
49UP20140609_2,   P10,40,1, 5,94,2,20140711,1356,1415,23.1695,149.3350,5754,5011.7, 1.4988,34.6912,2,166.1,2,34.6964,4,165.96,2,138.33,2,34.97,2,0.00,2,2.43,2, -999,9, -999,9,-999.0,9,-999.0,9,-999.0,9,-999,-999,9,-999,9, 1.0632,2,27.7930,2, 1.4988,2
49UP20140609_2,   P10,40,1, 4,77,2,20140711,1356,1410,23.1695,149.3350,5754,5268.0, 1.5112,34.6930,2,169.1,2,34.6908,4,169.07,2,136.18,2,34.72,2,0.00,2,2.42,2, -999,9, -999,9,-999.0,9,-999.0,9,-999.0,9,-999,-999,9,-999,9, 1.0435,2,27.7957,2, 1.5112,2
49UP20140609_2,   P10,40,1, 3,104,3,20140711,1356,1404,23.1695,149.3350,5754,5526.2, 1.5241,34.6947,2,172.0,2,34.6921,4,171.98,6,134.36,6,34.50,6,0.00,6,2.41,6, -999,9, -999,9,-999.0,9,-999.0,9,-999.0,9,-999,-999,9,-999,9, 1.0232,2,27.7985,2, 1.5241,2
49UP20140609_2,   P10,40,1, 2,75,2,20140711,1356,1359,23.1695,149.3350,5754,5785.2, 1.5334,34.6963,2,175.3,2,34.6942,4,175.56,2,132.16,2,34.30,2,0.00,2,2.38,2, -999,9, -999,9,-999.0,9,-999.0,9,-999.0,9,-999,-999,9,-999,9, 0.9987,2,27.8014,2, 1.5335,2
49UP20140609_2,   P10,40,1, 1,997,2,20140711,1356,1356,23.1695,149.3350,5754,5896.9, 1.5389,34.6969,2,176.4,2,34.6963,2,176.17,2,131.90,2,34.17,2,0.00,2,2.39,2, -999,9, -999,9,-999.0,9,-999.0,9,-999.0,9,-999,-999,9,-999,9, 0.9892,2,27.8025,2, 1.5389,2
49UP20140609_2,   P10,41,1, 0,BUC,2,20140711,2136,2324,22.4908,149.3080,5665,   0.0,30.2192,35.1209,2,193.2,2,35.1148,2,193.67,2,  0.95,2, 0.00,2,0.00,2,0.04,2, -999,9, -999,9,1968.2,2,2305.9,2,8.1109,2,25,0.07,2,0.02,2,30.2186,2,21.7420,2,   -999,9
49UP20140609_2,   P10,41,1,36,109,2,20140711,2136,2348,22.4908,149.3080,5665,  11.1,30.1582,35.1181,2,193.1,2,35.1353,2,196.07,2,  0.95,2, 0.00,2,0.00,2,0.02,2,1.505,2,0.901,2,1965.5,2,2305.3,2,8.1091,2,25,0.07,2,0.02,2,30.1554,2,21.7615,2,30.1516,2
49UP20140609_2,   P10,41,1,35,112,2,20140711,2136,2346,22.4908,149.3080,5665,  51.8,24.2972,35.0979,2,221.5,2,35.0986,2,222.03,2,  1.19,2, 0.00,2,0.00,2,0.02,2,1.941,2,1.104,2,1976.3,2,2303.6,2,8.0808,2,25,0.09,2,0.03,2,24.2862,2,23.6304,2,24.2800,2
49UP20140609_2,   P10,41,1,34,83,2,20140711,2136,2345,22.4908,149.3080,5665, 102.2,21.3930,35.0056,2,211.2,2,35.0049,2,211.15,2,  1.59,2, 0.00,2,0.01,2,0.04,2,2.035,2,1.202,2,2002.9,2,2298.9,2,8.0388,2,25,0.24,2,0.57,2,21.3732,2,24.3961,2,21.3926,2
49UP20140609_2,   P10,41,1,33,107,2,20140711,2136,2344,22.4908,149.3080,5665, 127.0,20.4438,34.9305,2,210.0,2,34.9273,6,209.93,2,  1.81,2, 0.45,2,0.14,2,0.06,2, -999,9, -999,9,2008.3,2,2291.4,2,8.0189,2,25,0.18,2,0.54,2,20.4200,2,24.5973,2,20.4450,2
49UP20140609_2,   P10,41,1,32,105,2,20140711,2136,2340,22.4908,149.3080,5665, 151.1,19.5484,34.8558,2,219.0,2,34.8569,2,218.53,2,  1.96,2, 0.43,2,0.15,2,0.06,2, -999,9, -999,9,2009.0,2,2287.5,2,8.0134,2,25,0.09,2,0.30,2,19.5209,2,24.7770,2,19.5504,2
49UP20140609_2,   P10,41,1,31,515,2,20140711,2136,2339,22.4908,149.3080,5665, 205.0,18.0843,34.7564,2,206.0,2,34.7538,2,205.82,2,  3.05,2, 3.20,2,0.02,2,0.24,2,2.278,2,1.351,2,2028.8,2,2281.4,2,7.9665,2,25,0.04,2,0.11,2,18.0490,2,25.0734,2,18.0831,2
49UP20140609_2,   P10,41,1,30,97,2,20140711,2136,2337,22.4908,149.3080,5665, 255.1,16.7453,34.6805,2,205.1,2,34.6834,2,205.00,2,  4.63,2, 5.42,2,0.01,2,0.37,2, -999,9, -999,9,2040.8,2,2278.1,2,7.9348,2,25,-999,9,-999,9,16.7037,2,25.3390,2,16.7475,2
49UP20140609_2,   P10,41,1,29,102,2,20140711,2136,2335,22.4908,149.3080,5665, 306.3,15.8101,34.6048,2,198.0,2,34.6051,2,197.69,6,  6.65,6, 7.34,6,0.00,6,0.52,6,2.533,6,1.472,6,2055.2,2,2275.4,2,7.9046,2,25,-999,9,-999,9,15.7620,2,25.4976,2,15.8095,2
49UP20140609_2,   P10,41,1,28,108,2,20140711,2136,2332,22.4908,149.3080,5665, 406.1,12.9288,34.3842,2,190.6,2,34.3845,2,190.49,2, 13.65,2,12.52,2,0.00,2,0.89,2,2.813,2,1.573,2,2095.3,2,2268.2,2,7.8171,6,25,-999,9,-999,9,12.8730,2,25.9411,2,12.9261,2
49UP20140609_2,   P10,41,1,27,998,2,20140711,2136,2329,22.4908,149.3080,5665, 507.0, 9.3414,34.1675,2,163.9,2,34.1677,2,163.64,2, 31.48,2,21.38,2,0.00,2,1.54,2,2.706,2,1.410,2,2152.3,6,2273.9,6,7.6804,2,25,-999,9,-999,9, 9.2847,2,26.4205,2, 9.3416,2
49UP20140609_2,   P10,41,1,26,84,2,20140711,2136,2326,22.4908,149.3080,5665, 607.1, 6.9751,34.0949,2,119.5,2,34.0949,2,119.21,2, 53.71,2,29.74,2,0.00,2,2.16,2,1.975,6,0.977,6,2217.7,2,2289.2,2,7.5417,2,25,-999,9,-999,9, 6.9175,2,26.7171,2, 6.9772,2
49UP20140609_2,   P10,41,1,25,98,2,20140711,2136,2323,22.4908,149.3080,5665, 708.9, 5.3131,34.1519,2, 74.3,2,34.1497,2, 73.80,2, 80.78,2,36.69,2,0.00,2,2.66,2,0.994,2,0.488,2,2281.4,2,2315.5,2,7.4346,2,25,-999,9,-999,9, 5.2542,2,26.9733,2, 5.3122,2
49UP20140609_2,   P10,41,1,24,110,2,20140711,2136,2320,22.4908,149.3080,5665, 809.5, 4.5330,34.2835,2, 50.6,2,34.2825,2, 51.03,2, 98.94,2,40.04,2,0.00,2,2.90,2,0.310,2,0.167,2,2321.0,2,2338.7,2,7.3924,2,25,-999,9,-999,9, 4.4698,2,27.1664,2, 4.5331,2
49UP20140609_2,   P10,41,1,23,96,2,20140711,2136,2317,22.4908,149.3080,5665, 910.2, 4.2154,34.3694,2, 49.4,2,34.3662,2, 49.77,2,105.86,2,40.62,2,0.00,2,2.94,2,0.137,6,0.079,6,2326.9,2,2354.0,2,7.4021,2,25,-999,9,-999,9, 4.1459,2,27.2694,2, 4.2155,2
49UP20140609_2,   P10,41,1,22,111,3,20140711,2136,2314,22.4908,149.3080,5665,1012.2, 3.9178,34.4351,2, 56.3,2,34.4340,2, 56.22,2,112.39,2,40.58,2,0.00,2,2.93,2,0.066,2,0.038,2,2332.8,2,2366.1,2,7.4198,2,25,-999,9,-999,9, 3.8419,2,27.3530,2, 3.9177,2
49UP20140609_2,   P10,41,1,21,78,2,20140711,2136,2309,22.4908,149.3080,5665,1216.8, 3.2982,34.5101,2, 70.7,2,34.5076,2, 70.26,2,124.74,2,40.24,2,0.00,2,2.89,2,0.031,2,0.014,2,2339.3,2,2382.1,2,7.4476,2,25,-999,9,-999,9, 3.2108,2,27.4745,2, 3.2970,2
49UP20140609_2,   P10,41,1,20,93,2,20140711,2136,2304,22.4908,149.3080,5665,1417.6, 2.8361,34.5499,2, 83.3,2,34.5485,2, 83.46,2,132.44,2,39.71,2,0.00,2,2.84,2,0.023,2,0.014,2,2356.3,3,2393.4,2,7.4696,2,25,-999,9,-999,9, 2.7369,2,27.5494,2, 2.8360,2
49UP20140609_2,   P10,41,1,19,92,2,20140711,2136,2259,22.4908,149.3080,5665,1618.5, 2.4638,34.5750,2, 91.0,2,34.5739,2, 91.04,6,139.60,6,39.45,6,0.00,6,2.81,6,0.015,2,0.007,2,2352.6,2,2399.4,2,7.4815,2,25,-999,9,-999,9, 2.3526,2,27.6025,2, 2.4637,2
49UP20140609_2,   P10,41,1,18,101,2,20140711,2136,2255,22.4908,149.3080,5665,1822.5, 2.2590,34.5991,2,100.0,2,34.5990,2,100.10,2,141.82,2,39.03,2,0.00,2,2.77,2,0.006,2,0.002,2,2345.9,2,2406.0,2,7.4970,2,25,-999,9,-999,9, 2.1337,2,27.6398,2, 2.2591,2
49UP20140609_2,   P10,41,1,17,90,2,20140711,2136,2250,22.4908,149.3080,5665,2023.9, 2.0512,34.6075,2,102.2,2,34.6068,2,102.14,2,146.98,2,39.06,2,0.00,2,2.76,2,0.010,2,0.000,2,2350.8,6,2410.3,2,7.4974,3,25,-999,9,-999,9, 1.9121,2,27.6641,2, 2.0512,2
49UP20140609_2,   P10,41,1,16,89,2,20140711,2136,2246,22.4908,149.3080,5665,2225.8, 1.9067,34.6245,2,110.2,2,34.6236,2,110.28,2,148.26,2,38.51,2,0.00,2,2.73,2,0.014,2,0.004,2,2345.6,2,2412.6,2,7.5119,2,25,-999,9,-999,9, 1.7525,2,27.6900,2, 1.9065,2
49UP20140609_2,   P10,41,1,15,88,2,20140711,2136,2242,22.4908,149.3080,5665,2429.3, 1.7987,34.6377,2,116.7,2,34.6376,6,116.98,2,149.46,2,38.24,2,0.00,2,2.70,2, -999,9, -999,9,2347.7,2,2414.0,2,7.5235,2,25,-999,9,-999,9, 1.6286,2,27.7100,2, 1.7986,2
49UP20140609_2,   P10,41,1,14,999,2,20140711,2136,2238,22.4908,149.3080,5665,2632.2, 1.7179,34.6478,2,122.6,2,34.6479,2,123.02,2,150.05,2,37.86,2,0.00,2,2.67,2, -999,9, -999,9,2344.6,2,2417.1,2,7.5337,2,25,-999,9,-999,9, 1.5310,2,27.7253,2, 1.7178,2
49UP20140609_2,   P10,41,1,13,667,2,20140711,2136,2234,22.4908,149.3080,5665,2835.0, 1.6593,34.6554,2,127.5,2,34.6552,2,127.65,6,149.73,6,37.51,6,0.00,6,2.65,6,0.003,2,0.000,2,2341.7,2,2416.7,2,7.5422,2,25,-999,9,-999,9, 1.4548,2,27.7369,2, 1.6594,2
49UP20140609_2,   P10,41,1,12,74,2,20140711,2136,2230,22.4908,149.3080,5665,3040.5, 1.6114,34.6625,2,132.8,2,34.6624,2,133.35,2,149.69,2,37.21,2,0.00,2,2.62,2, -999,9, -999,9,2340.0,2,2418.2,2,7.5516,2,25,-999,9,-999,9, 1.3884,2,27.7474,2, 1.6114,2
49UP20140609_2,   P10,41,1,11,268,2,20140711,2136,2226,22.4908,149.3080,5665,3294.7, 1.5660,34.6688,2,138.3,2,34.6675,2,137.82,6,148.77,2,36.90,2,0.00,2,2.59,2, -999,9, -999,9,2334.9,2,2419.3,2,7.5595,2,25,-999,9,-999,9, 1.3190,2,27.7573,2, 1.5660,2
49UP20140609_2,   P10,41,1,10,267,2,20140711,2136,2221,22.4908,149.3080,5665,3550.9, 1.5355,34.6738,2,143.3,2,34.6735,2,143.45,2,148.09,2,36.61,2,0.00,2,2.57,2,0.010,2,0.003,2,2327.3,2,2418.0,2,7.5659,2,25,-999,9,-999,9, 1.2633,2,27.7653,2, 1.5354,2
49UP20140609_2,   P10,41,1, 9,518,2,20140711,2136,2216,22.4908,149.3080,5665,3807.2, 1.5068,34.6787,2,148.3,2,34.6773,4,147.82,6,146.78,2,36.25,2,0.00,2,2.54,2, -999,9, -999,9,2326.5,2,2417.5,2,7.5724,2,25,-999,9,-999,9, 1.2084,2,27.7730,2, 1.5068,2
49UP20140609_2,   P10,41,1, 8,81,2,20140711,2136,2211,22.4908,149.3080,5665,4063.9, 1.4844,34.6829,2,153.5,2,34.6821,2,153.70,2,145.00,2,35.81,2,0.00,2,2.51,2, -999,9, -999,9,2324.4,2,2417.0,2,7.5785,6,25,-999,9,-999,9, 1.1590,2,27.7798,2, 1.4844,2
49UP20140609_2,   P10,41,1, 7,516,2,20140711,2136,2206,22.4908,149.3080,5665,4319.5, 1.4745,34.6860,2,158.0,2,34.6852,2,157.81,6,143.24,2,35.53,2,0.00,2,2.49,2,0.014,2,0.004,2,2320.6,6,2414.3,6,7.5884,2,25,-999,9,-999,9, 1.1209,2,27.7849,2, 1.4743,2
49UP20140609_2,   P10,41,1, 6,113,2,20140711,2136,2201,22.4908,149.3080,5665,4575.8, 1.4757,34.6886,2,161.7,2,34.6880,6,162.11,2,141.19,2,35.29,2,0.00,2,2.46,2, -999,9, -999,9,2318.9,2,2409.6,2,7.5909,2,25,-999,9,-999,9, 1.0927,2,27.7889,2, 1.4757,2
49UP20140609_2,   P10,41,1, 5,94,2,20140711,2136,2157,22.4908,149.3080,5665,4832.9, 1.4881,34.6903,2,164.4,2,34.6900,2,164.47,2,139.75,6,35.15,6,0.00,6,2.45,6, -999,9, -999,9,2311.1,2,2409.5,2,7.5946,2,25,-999,9,-999,9, 1.0744,2,27.7915,2, 1.4881,2
49UP20140609_2,   P10,41,1, 4,77,2,20140711,2136,2152,22.4908,149.3080,5665,5090.5, 1.4981,34.6923,2,167.6,2,34.6915,2,167.66,2,137.50,2,34.78,2,0.00,2,2.43,2,0.020,2,0.010,2,2306.3,2,2409.1,2,7.5998,2,25,-999,9,-999,9, 1.0529,2,27.7946,2, 1.4981,2
49UP20140609_2,   P10,41,1, 3,104,2,20140711,2136,2146,22.4908,149.3080,5665,5349.9, 1.5107,34.6938,2,170.6,2,34.6934,2,170.60,2,135.86,2,34.71,2,0.00,2,2.42,2, -999,9, -999,9,2306.2,2,2407.8,2,7.6029,2,25,-999,9,-999,9, 1.0328,2,27.7971,2, 1.5108,2
49UP20140609_2,   P10,41,1, 2,75,2,20140711,2136,2141,22.4908,149.3080,5665,5608.8, 1.5250,34.6955,2,173.3,2,34.6949,6,173.95,2,134.06,2,34.49,2,0.00,2,2.40,2, -999,9, -999,9,2300.7,2,2403.9,2,7.6025,2,25,-999,9,-999,9, 1.0135,2,27.7998,2, 1.5250,2
49UP20140609_2,   P10,41,1, 1,997,2,20140711,2136,2137,22.4908,149.3080,5665,5800.9, 1.5317,34.6968,2,175.7,2,34.6957,2,175.78,2,132.81,2,34.29,2,0.00,2,2.39,2,0.019,2,0.008,2,2300.5,2,2402.5,2,7.6067,2,25,-999,9,-999,9, 0.9950,2,27.8020,2, 1.5317,2