BOTTLE,20230725CCHSIOADS
EXPOCODE,SECT_ID,STNNBR,CASTNO,SAMPNO,BTLNBR,BTLNBR_FLAG_W,DATE,TIME,BTL_TIME,LATITUDE,LONGITUDE,DEPTH,CTDPRS,CTDTMP,CTDSAL,CTDSAL_FLAG_W,CTDOXY,CTDOXY_FLAG_W,SALNTY,SALNTY_FLAG_W,OXYGEN,OXYGEN_FLAG_W,SILCAT,SILCAT_FLAG_W,NO2+NO3,NO2+NO3_FLAG_W,NITRIT,NITRIT_FLAG_W,PHSPHT,PHSPHT_FLAG_W,CFC-11,CFC-11_FLAG_W,CFC-12,CFC-12_FLAG_W,TCARBN,TCARBN_FLAG_W,ALKALI,ALKALI_FLAG_W,PH_TOT,PH_TOT_FLAG_W,PH_TMP,CHLORA,CHLORA_FLAG_W,PPHYTN,PPHYTN_FLAG_W,THETA,THETA_FLAG_W,SIG0,SIG0_FLAG_W,REFTMP,REFTMP_FLAG_W
,,,,,,,,,,,,METERS,DBAR,ITS-90,PSS-78,,UMOL/KG,,PSS-78,,UMOL/KG,,UMOL/KG,,UMOL/KG,,UMOL/KG,,UMOL/KG,,PMOL/KG,,PMOL/KG,,UMOL/KG,,UMOL/KG,,,,DEG C,UG/KG,,UG/KG,,ITS-90,,KG/M^3,,ITS-90,
49UP20140609_1,   P10,13,1, 0,BUC,2,20140614,1441,1640,36.9835,147.4995,5594,   0.0,20.6345,34.4717,2,231.2,2,   -999,9,230.53,2,  1.63,2, 0.00,2,0.00,2,0.06,2, -999,9, -999,9,-999.0,9,-999.0,9,-999.0,9,-999,0.43,2,0.11,2,20.6340,2,24.1904,2,   -999,9
49UP20140609_1,   P10,13,1,36,109,2,20140614,1441,1701,36.9835,147.4995,5594,  12.1,20.5841,34.4820,2,231.4,2,   -999,9,230.80,2,  1.78,2, 0.00,2,0.00,2,0.06,2, -999,9, -999,9,-999.0,9,-999.0,9,-999.0,9,-999,0.42,2,0.11,2,20.5818,2,24.2123,2,20.5836,2
49UP20140609_1,   P10,13,1,35,112,2,20140614,1441,1659,36.9835,147.4995,5594,  26.4,19.4986,34.5456,2,234.1,2,   -999,9,235.04,2,  2.80,2, 0.00,2,0.00,2,0.07,2, -999,9, -999,9,-999.0,9,-999.0,9,-999.0,9,-999,0.45,2,0.18,2,19.4939,2,24.5472,2,19.4813,2
49UP20140609_1,   P10,13,1,34,83,2,20140614,1441,1655,36.9835,147.4995,5594,  51.9,15.4642,34.4492,2,230.5,2,   -999,9,239.05,2,  8.09,2, 4.42,2,0.50,2,0.42,2, -999,9, -999,9,-999.0,9,-999.0,9,-999.0,9,-999,0.58,2,0.38,2,15.4563,2,25.4465,2,15.4701,2
49UP20140609_1,   P10,13,1,33,517,3,20140614,1441,1654,36.9835,147.4995,5594, 101.0,12.1260,34.2525,2,215.2,2,34.2679,4,213.47,2, 16.41,2,11.81,2,0.05,2,0.88,2, -999,9, -999,9,-999.0,9,-999.0,9,-999.0,9,-999,0.06,2,0.08,2,12.1129,2,25.9870,2,12.1467,2
49UP20140609_1,   P10,13,1,32,105,2,20140614,1441,1652,36.9835,147.4995,5594, 151.6, 9.3850,34.0214,2,254.9,2,   -999,9,256.39,2, 17.66,2,12.14,2,0.02,2,0.93,2, -999,9, -999,9,-999.0,9,-999.0,9,-999.0,9,-999,0.01,2,0.07,2, 9.3683,2,26.2926,2, 9.3936,2
49UP20140609_1,   P10,13,1,31,515,2,20140614,1441,1650,36.9835,147.4995,5594, 201.8, 8.1081,33.8904,2,236.0,2,33.8850,2,236.97,2, 25.69,2,16.16,2,0.02,2,1.23,2, -999,9, -999,9,-999.0,9,-999.0,9,-999.0,9,-999,0.01,2,0.06,2, 8.0879,2,26.3894,2, 8.0633,2
49UP20140609_1,   P10,13,1,30,97,2,20140614,1441,1648,36.9835,147.4995,5594, 250.6, 7.4407,33.9688,2,187.1,2,   -999,9,188.15,2, 39.31,2,21.70,2,0.02,2,1.62,2, -999,9, -999,9,-999.0,9,-999.0,9,-999.0,9,-999,-999,9,-999,9, 7.4167,2,26.5484,2, 7.4354,2
49UP20140609_1,   P10,13,1,29,102,2,20140614,1441,1646,36.9835,147.4995,5594, 304.4, 7.3537,34.1292,2,138.6,2,   -999,9,139.15,6, 54.24,6,27.07,6,0.02,6,1.99,6, -999,9, -999,9,-999.0,9,-999.0,9,-999.0,9,-999,-999,9,-999,9, 7.3246,2,26.6877,2, 7.3525,2
49UP20140609_1,   P10,13,1,28,91,2,20140614,1441,1643,36.9835,147.4995,5594, 404.3, 5.5209,34.0998,2,105.5,2,34.1010,2,105.92,2, 75.61,2,33.29,2,0.02,2,2.43,2, -999,9, -999,9,-999.0,9,-999.0,9,-999.0,9,-999,-999,9,-999,9, 5.4876,2,26.9044,2, 5.5050,2
49UP20140609_1,   P10,13,1,27,998,2,20140614,1441,1640,36.9835,147.4995,5594, 506.0, 4.8771,34.1675,2, 80.0,2,   -999,9, 80.09,2, 90.73,2,36.53,2,0.00,2,2.65,2, -999,9, -999,9,-999.0,9,-999.0,9,-999.0,9,-999,-999,9,-999,9, 4.8375,2,27.0337,2, 4.8634,2
49UP20140609_1,   P10,13,1,26,84,2,20140614,1441,1637,36.9835,147.4995,5594, 606.8, 4.3361,34.2183,2, 63.3,2,34.2166,2, 63.27,2,103.18,2,38.71,2,0.00,2,2.81,2, -999,9, -999,9,-999.0,9,-999.0,9,-999.0,9,-999,-999,9,-999,9, 4.2907,2,27.1339,2, 4.3306,2
49UP20140609_1,   P10,13,1,25,98,2,20140614,1441,1635,36.9835,147.4995,5594, 706.3, 3.8248,34.2801,2, 50.7,2,   -999,9, 50.41,2,116.44,2,40.46,2,0.00,2,2.92,2, -999,9, -999,9,-999.0,9,-999.0,9,-999.0,9,-999,-999,9,-999,9, 3.7742,2,27.2364,2, 3.8269,2
49UP20140609_1,   P10,13,1,24,110,2,20140614,1441,1632,36.9835,147.4995,5594, 808.9, 3.4516,34.3379,2, 45.6,2,34.3377,2, 45.45,2,128.58,2,41.47,2,0.00,2,2.98,2, -999,9, -999,9,-999.0,9,-999.0,9,-999.0,9,-999,-999,9,-999,9, 3.3952,2,27.3197,2, 3.4520,2
49UP20140609_1,   P10,13,1,23,96,2,20140614,1441,1629,36.9835,147.4995,5594, 908.8, 3.1959,34.3834,2, 44.4,2,   -999,9, 44.22,2,133.52,2,41.69,2,0.00,2,3.00,2, -999,9, -999,9,-999.0,9,-999.0,9,-999.0,9,-999,-999,9,-999,9, 3.1337,2,27.3806,2, 3.1978,2
49UP20140609_1,   P10,13,1,22,111,2,20140614,1441,1626,36.9835,147.4995,5594,1011.8, 2.9801,34.4146,2, 43.2,2,34.4158,2, 43.17,2,139.53,2,42.07,2,0.00,2,3.03,2, -999,9, -999,9,-999.0,9,-999.0,9,-999.0,9,-999,-999,9,-999,9, 2.9116,2,27.4258,2, 2.9783,2
49UP20140609_1,   P10,13,1,21,78,2,20140614,1441,1621,36.9835,147.4995,5594,1215.4, 2.5920,34.4750,2, 44.6,2,34.4755,2, 44.04,6,150.39,6,42.36,6,0.00,6,3.04,6, -999,9, -999,9,-999.0,9,-999.0,9,-999.0,9,-999,-999,9,-999,9, 2.5114,2,27.5091,2, 2.5914,2
49UP20140609_1,   P10,13,1,20,93,2,20140614,1441,1616,36.9835,147.4995,5594,1417.5, 2.3399,34.5183,2, 49.4,2,34.5183,6, 49.37,2,156.81,2,42.23,2,0.00,2,3.01,2, -999,9, -999,9,-999.0,9,-999.0,9,-999.0,9,-999,-999,9,-999,9, 2.2463,2,27.5659,2, 2.3394,2
49UP20140609_1,   P10,13,1,19,92,2,20140614,1441,1612,36.9835,147.4995,5594,1618.8, 2.1593,34.5530,2, 58.4,2,34.5533,2, 57.92,2,160.06,2,41.87,2,0.00,2,2.98,2, -999,9, -999,9,-999.0,9,-999.0,9,-999.0,9,-999,-999,9,-999,9, 2.0519,2,27.6094,2, 2.1593,2
49UP20140609_1,   P10,13,1,18,101,2,20140614,1441,1607,36.9835,147.4995,5594,1822.2, 1.9953,34.5841,2, 71.3,2,34.5839,2, 71.41,2,161.28,2,41.10,2,0.00,2,2.91,2, -999,9, -999,9,-999.0,9,-999.0,9,-999.0,9,-999,-999,9,-999,9, 1.8737,2,27.6484,2, 1.9952,2
49UP20140609_1,   P10,13,1,17,90,2,20140614,1441,1602,36.9835,147.4995,5594,2027.7, 1.8615,34.6075,2, 83.7,2,34.6086,2, 83.49,2,161.78,2,40.46,2,0.00,2,2.85,2, -999,9, -999,9,-999.0,9,-999.0,9,-999.0,9,-999,-999,9,-999,9, 1.7250,2,27.6785,2, 1.8613,2
49UP20140609_1,   P10,13,1,16,89,3,20140614,1441,1558,36.9835,147.4995,5594,2229.8, 1.7590,34.6254,2, 96.6,2,34.6269,6, 96.94,2,160.49,2,39.60,2,0.00,2,2.79,2, -999,9, -999,9,-999.0,9,-999.0,9,-999.0,9,-999,-999,9,-999,9, 1.6070,2,27.7017,2, 1.7589,2
49UP20140609_1,   P10,13,1,15,88,2,20140614,1441,1553,36.9835,147.4995,5594,2432.6, 1.6840,34.6384,2,106.9,2,34.6389,2,106.89,2,159.21,2,38.92,2,0.00,2,2.74,2, -999,9, -999,9,-999.0,9,-999.0,9,-999.0,9,-999,-999,9,-999,9, 1.5156,2,27.7189,2, 1.6839,2
49UP20140609_1,   P10,13,1,14,999,2,20140614,1441,1548,36.9835,147.4995,5594,2636.4, 1.6244,34.6486,2,115.2,2,34.6494,2,115.33,2,157.81,2,38.42,2,0.00,2,2.71,2, -999,9, -999,9,-999.0,9,-999.0,9,-999.0,9,-999,-999,9,-999,9, 1.4389,2,27.7326,2, 1.6246,2
49UP20140609_1,   P10,13,1,13,667,2,20140614,1441,1544,36.9835,147.4995,5594,2839.9, 1.5694,34.6577,2,123.5,2,34.6592,2,123.55,2,156.53,2,37.94,2,0.00,2,2.66,2, -999,9, -999,9,-999.0,9,-999.0,9,-999.0,9,-999,-999,9,-999,9, 1.3663,2,27.7451,2, 1.5695,2
49UP20140609_1,   P10,13,1,12,74,3,20140614,1441,1539,36.9835,147.4995,5594,3045.4, 1.5271,34.6648,2,130.5,2,34.6661,2,130.17,2,155.29,2,37.47,2,0.00,2,2.63,2, -999,9, -999,9,-999.0,9,-999.0,9,-999.0,9,-999,-999,9,-999,9, 1.3054,2,27.7551,2, 1.5273,2
49UP20140609_1,   P10,13,1,11,996,4,20140614,1441,1534,36.9835,147.4995,5594,3301.4, 1.4994,34.6709,2,137.0,2,34.6557,4,121.13,4,157.12,4,38.10,4,0.00,4,2.68,4, -999,9, -999,9,-999.0,9,-999.0,9,-999.0,9,-999,-999,9,-999,9, 1.2534,2,27.7636,2, 1.4993,2
49UP20140609_1,   P10,13,1,10,107,2,20140614,1441,1528,36.9835,147.4995,5594,3556.1, 1.4682,34.6768,2,143.9,2,34.6768,2,143.37,2,151.88,2,36.60,2,0.00,2,2.56,2, -999,9, -999,9,-999.0,9,-999.0,9,-999.0,9,-999,-999,9,-999,9, 1.1972,2,27.7723,2, 1.4681,2
49UP20140609_1,   P10,13,1, 9,108,2,20140614,1441,1522,36.9835,147.4995,5594,3813.6, 1.4604,34.6804,2,148.3,2,34.6809,2,147.45,2,150.72,2,36.36,2,0.00,2,2.54,2, -999,9, -999,9,-999.0,9,-999.0,9,-999.0,9,-999,-999,9,-999,9, 1.1626,2,27.7776,2, 1.4604,2
49UP20140609_1,   P10,13,1, 8,81,2,20140614,1441,1517,36.9835,147.4995,5594,4068.8, 1.4585,34.6832,2,151.8,2,34.6841,2,151.58,2,149.79,2,36.12,2,0.00,2,2.52,2, -999,9, -999,9,-999.0,9,-999.0,9,-999.0,9,-999,-999,9,-999,9, 1.1333,2,27.7818,2, 1.4584,2
49UP20140609_1,   P10,13,1, 7,106,3,20140614,1441,1511,36.9835,147.4995,5594,4326.6, 1.4604,34.6860,2,155.4,2,34.6867,2,155.11,2,148.59,2,35.81,2,0.00,2,2.50,2, -999,9, -999,9,-999.0,9,-999.0,9,-999.0,9,-999,-999,9,-999,9, 1.1064,2,27.7859,2, 1.4603,2
49UP20140609_1,   P10,13,1, 6,113,3,20140614,1441,1506,36.9835,147.4995,5594,4584.7, 1.4721,34.6880,2,158.0,2,34.6892,2,157.93,2,147.33,2,35.62,2,0.00,2,2.48,2, -999,9, -999,9,-999.0,9,-999.0,9,-999.0,9,-999,-999,9,-999,9, 1.0882,2,27.7887,2, 1.4722,2
49UP20140609_1,   P10,13,1, 5,94,2,20140614,1441,1500,36.9835,147.4995,5594,4841.3, 1.4909,34.6893,2,159.5,2,34.6889,2,158.88,6,147.44,6,35.60,6,0.00,6,2.48,6, -999,9, -999,9,-999.0,9,-999.0,9,-999.0,9,-999,-999,9,-999,9, 1.0761,2,27.7906,2, 1.4909,2
49UP20140609_1,   P10,13,1, 4,77,2,20140614,1441,1455,36.9835,147.4995,5594,5098.2, 1.5134,34.6901,2,161.5,2,34.6865,4,161.30,2,145.09,2,35.44,2,0.00,2,2.47,2, -999,9, -999,9,-999.0,9,-999.0,9,-999.0,9,-999,-999,9,-999,9, 1.0667,2,27.7918,2, 1.5134,2
49UP20140609_1,   P10,13,1, 3,104,2,20140614,1441,1449,36.9835,147.4995,5594,5355.6, 1.5388,34.6909,2,162.7,2,34.6909,6,162.39,2,143.94,2,35.29,2,0.00,2,2.46,2, -999,9, -999,9,-999.0,9,-999.0,9,-999.0,9,-999,-999,9,-999,9, 1.0591,2,27.7930,2, 1.5388,2
49UP20140609_1,   P10,13,1, 2,75,2,20140614,1441,1444,36.9835,147.4995,5594,5615.4, 1.5675,34.6913,2,163.6,2,34.6906,2,163.55,2,143.04,2,35.23,2,0.00,2,2.45,2, -999,9, -999,9,-999.0,9,-999.0,9,-999.0,9,-999,-999,9,-999,9, 1.0536,2,27.7937,2, 1.5675,2
49UP20140609_1,   P10,13,1, 1,997,2,20140614,1441,1441,36.9835,147.4995,5594,5715.7, 1.5805,34.6912,2,163.7,2,34.6917,2,163.54,2,143.00,2,35.28,2,0.00,2,2.46,2, -999,9, -999,9,-999.0,9,-999.0,9,-999.0,9,-999,-999,9,-999,9, 1.0531,2,27.7937,2, 1.5804,2
49UP20140609_1,   P10,11,1, 0,BUC,2,20140615,0425, 610,37.9895,146.8247,5339,   0.0,20.4057,34.4595,2,236.3,2,34.4578,2,235.86,2,  0.35,2, 0.00,2,0.00,2,0.07,2, -999,9, -999,9,1982.1,2,2275.7,2,8.0490,2,25,0.73,2,0.12,2,20.4051,2,24.2423,2,   -999,9
49UP20140609_1,   P10,11,1,36,109,2,20140615,0425, 643,37.9895,146.8247,5339,  10.6,18.6898,34.3235,2,246.0,2,   -999,9,247.58,2,  3.70,2, 0.00,2,0.00,2,0.07,2,2.374,2,1.406,2,1994.9,2,2274.4,2,8.0217,2,25,0.61,2,0.25,2,18.6879,2,24.5830,2,18.6698,2
49UP20140609_1,   P10,11,1,35,112,2,20140615,0425, 642,37.9895,146.8247,5339,  25.4,15.6142,34.4283,2,260.6,2,   -999,9,257.07,2,  6.44,2, 2.40,2,0.17,2,0.26,2, -999,9, -999,9,2024.0,2,2281.3,2,7.9725,2,25,0.82,2,0.60,2,15.6103,2,25.3960,2,15.6697,2
49UP20140609_1,   P10,11,1,34,83,2,20140615,0425, 639,37.9895,146.8247,5339,  51.3,13.8332,34.2860,2,248.1,2,   -999,9,248.35,2,  8.31,2, 5.26,2,0.40,2,0.49,2,2.837,2,1.657,2,2045.0,2,2274.5,2,7.9235,2,25,0.25,2,0.27,2,13.8259,2,25.6716,2,13.8327,2
49UP20140609_1,   P10,11,1,33,517,3,20140615,0425, 637,37.9895,146.8247,5339,  76.8,12.6808,34.1774,2,247.2,2,   -999,9,247.35,2, 10.02,2, 6.82,2,0.46,2,0.58,2, -999,9, -999,9,2056.9,2,2270.0,2,7.8987,2,25,0.14,2,0.19,2,12.6705,2,25.8208,2,12.6779,2
49UP20140609_1,   P10,11,1,32,105,2,20140615,0425, 636,37.9895,146.8247,5339, 102.2,11.3569,34.1223,2,236.3,2,34.1248,2,236.89,6, 14.19,6,10.52,6,0.04,6,0.80,6,3.040,2,1.753,2,2079.7,2,2269.3,2,7.8459,2,25,0.07,2,0.10,2,11.3442,2,26.0296,2,11.3499,2
49UP20140609_1,   P10,11,1,31,515,2,20140615,0425, 634,37.9895,146.8247,5339, 152.7, 8.9792,33.9640,2,238.8,2,   -999,9,238.44,2, 21.61,2,14.22,2,0.02,2,1.06,2, -999,9, -999,9,2107.2,2,2263.5,2,7.7755,2,25,0.01,2,0.05,2, 8.9629,2,26.3128,2, 8.9914,2
49UP20140609_1,   P10,11,1,30,97,2,20140615,0425, 631,37.9895,146.8247,5339, 202.2, 8.3253,33.9698,2,204.2,2,33.9633,2,205.25,2, 32.47,2,18.86,2,0.03,2,1.39,2,3.026,6,1.701,6,2139.4,2,2273.4,2,7.7091,2,25,0.01,2,0.04,2, 8.3047,2,26.4191,2, 8.3309,2
49UP20140609_1,   P10,11,1,29,102,2,20140615,0425, 629,37.9895,146.8247,5339, 254.1, 7.3482,33.9498,2,186.7,2,   -999,9,186.55,2, 40.68,2,22.42,2,0.02,2,1.65,2, -999,9, -999,9,2166.6,2,2276.4,2,7.6529,2,25,-999,9,-999,9, 7.3240,2,26.5466,2, 7.3487,2
49UP20140609_1,   P10,11,1,28,91,2,20140615,0425, 627,37.9895,146.8247,5339, 335.9, 4.7826,33.7876,2,174.0,2,   -999,9,176.88,2, 57.44,2,28.45,2,0.02,2,2.12,2,3.184,2,1.740,2,2210.8,2,2279.6,2,7.5418,2,25,-999,9,-999,9, 4.7572,2,26.7413,2, 4.7828,2
49UP20140609_1,   P10,11,1,27,998,2,20140615,0425, 623,37.9895,146.8247,5339, 435.6, 4.4857,33.9402,2,117.6,2,33.9447,2,116.90,2, 77.10,2,34.34,2,0.01,2,2.51,2, -999,9, -999,9,2268.7,2,2299.0,2,7.4461,2,25,-999,9,-999,9, 4.4534,2,26.8956,2, 4.4851,2
49UP20140609_1,   P10,11,1,26,84,2,20140615,0425, 620,37.9895,146.8247,5339, 536.3, 3.8567,34.0052,2, 80.0,2,   -999,9, 79.74,6, 95.45,6,38.53,6,0.00,6,2.79,6,1.853,2,0.949,2,2303.8,2,2315.3,2,7.3701,3,25,-999,9,-999,9, 3.8190,2,27.0131,2, 3.8394,2
49UP20140609_1,   P10,11,1,25,98,2,20140615,0425, 617,37.9895,146.8247,5339, 636.9, 4.1521,34.1880,2, 60.3,2,34.1879,2, 64.19,2,104.67,2,39.36,2,0.00,2,2.83,2,1.023,2,0.504,2,2316.0,2,2336.3,2,7.3778,2,25,-999,9,-999,9, 4.1052,2,27.1293,2, 4.1538,2
49UP20140609_1,   P10,11,1,24,110,2,20140615,0425, 614,37.9895,146.8247,5339, 737.1, 3.9012,34.2763,2, 52.0,2,   -999,9, 51.55,2,114.66,2,40.30,2,0.00,2,2.90,2,0.577,2,0.292,2,2331.7,2,2349.0,2,7.3744,6,25,-999,9,-999,9, 3.8477,2,27.2260,2, 3.9010,2
49UP20140609_1,   P10,11,1,23,96,3,20140615,0425, 611,37.9895,146.8247,5339, 838.6, 3.4951,34.3257,2, 44.6,2,34.3277,6, 48.60,2,125.45,2,41.41,2,0.00,2,2.97,2,0.387,2,0.199,2,2347.4,6,2361.9,6,7.3636,2,25,-999,9,-999,9, 3.4363,2,27.3060,2, 3.4955,2
49UP20140609_1,   P10,11,1,22,111,2,20140615,0425, 608,37.9895,146.8247,5339, 940.3, 3.2210,34.3703,2, 41.9,2,   -999,9, 42.62,2,132.69,2,41.94,2,0.00,2,3.00,2,0.254,6,0.133,6,2359.8,2,2369.0,2,7.3598,2,25,-999,9,-999,9, 3.1562,2,27.3680,2, 3.2211,2
49UP20140609_1,   P10,11,1,21,78,2,20140615,0425, 604,37.9895,146.8247,5339,1083.1, 2.9112,34.4210,2, 40.7,2,34.4221,2, 42.93,2,141.49,2,42.40,2,0.00,2,3.03,2,0.136,2,0.079,2,2370.5,2,2383.8,2,7.3651,2,25,-999,9,-999,9, 2.8378,2,27.4375,2, 2.9111,2
49UP20140609_1,   P10,11,1,20,93,2,20140615,0425, 559,37.9895,146.8247,5339,1285.1, 2.5600,34.4768,2, 42.2,2,34.4768,2, 42.22,2,151.21,2,42.57,2,0.00,2,3.04,2,0.055,2,0.046,2,2378.0,2,2392.8,2,7.3700,2,25,-999,9,-999,9, 2.4744,2,27.5137,2, 2.5598,2
49UP20140609_1,   P10,11,1,19,92,2,20140615,0425, 555,37.9895,146.8247,5339,1487.7, 2.3089,34.5246,2, 49.8,2,34.5244,2, 49.75,2,157.45,2,42.28,2,0.00,2,3.01,2,0.026,2,0.018,2,2377.2,2,2403.0,2,7.3880,2,25,-999,9,-999,9, 2.2102,2,27.5739,2, 2.3088,2
49UP20140609_1,   P10,11,1,18,101,2,20140615,0425, 550,37.9895,146.8247,5339,1690.5, 2.1394,34.5589,2, 60.9,2,34.5587,2, 60.74,2,159.68,2,41.77,2,0.00,2,2.96,2,0.006,4,0.010,2,2370.3,2,2408.5,2,7.4074,2,25,-999,9,-999,9, 2.0266,2,27.6161,2, 2.1396,2
49UP20140609_1,   P10,11,1,17,90,2,20140615,0425, 545,37.9895,146.8247,5339,1893.0, 1.9902,34.5856,2, 71.7,2,34.5864,2, 71.43,2,161.37,2,41.17,2,0.00,2,2.91,2,0.000,2,0.008,2,2374.6,2,2411.9,2,7.4295,2,25,-999,9,-999,9, 1.8629,2,27.6504,2, 1.9901,2
49UP20140609_1,   P10,11,1,16,89,2,20140615,0425, 541,37.9895,146.8247,5339,2098.1, 1.8563,34.6099,2, 86.6,2,34.6108,6, 86.96,2,160.35,2,40.16,2,0.00,2,2.83,2,0.000,2,0.009,2,2364.8,2,2417.6,2,7.4620,2,25,-999,9,-999,9, 1.7139,2,27.6813,2, 1.8562,2
49UP20140609_1,   P10,11,1,15,88,2,20140615,0425, 536,37.9895,146.8247,5339,2300.6, 1.7576,34.6262,2, 96.7,2,34.6272,2, 98.88,3,160.20,2,39.54,2,0.00,2,2.79,2,0.000,2,0.009,2,2360.4,2,2416.5,2,7.4824,6,25,-999,9,-999,9, 1.5995,2,27.7029,2, 1.7574,2
49UP20140609_1,   P10,11,1,14,999,2,20140615,0425, 531,37.9895,146.8247,5339,2505.2, 1.6695,34.6409,2,108.0,2,34.6414,2,108.09,2,158.92,2,38.86,2,0.00,2,2.73,2,0.000,4,0.012,2,2354.5,6,2417.7,6,7.5022,2,25,-999,9,-999,9, 1.4949,2,27.7223,2, 1.6692,2
49UP20140609_1,   P10,11,1,13,667,3,20140615,0425, 526,37.9895,146.8247,5339,2709.7, 1.6132,34.6504,2,115.7,2,34.6510,2,115.99,2,158.28,2,38.38,2,0.00,2,2.69,2, -999,9, -999,9,2349.7,2,2418.4,2,7.5151,2,25,-999,9,-999,9, 1.4213,2,27.7353,2, 1.6133,2
49UP20140609_1,   P10,11,1,12,74,2,20140615,0425, 522,37.9895,146.8247,5339,2912.7, 1.5677,34.6584,2,123.1,2,34.6590,2,123.02,6,156.81,6,37.92,6,0.00,6,2.66,6, -999,9, -999,9,2345.2,2,2418.4,2,7.5289,2,25,-999,9,-999,9, 1.3578,2,27.7462,2, 1.5677,2
49UP20140609_1,   P10,11,1,11,996,2,20140615,0425, 517,37.9895,146.8247,5339,3127.5, 1.5252,34.6657,2,131.0,2,34.6667,2,130.43,2,155.26,2,37.36,2,0.00,2,2.62,2, -999,9, -999,9,2342.1,2,2418.8,2,7.5432,2,25,-999,9,-999,9, 1.2957,2,27.7565,2, 1.5253,2
49UP20140609_1,   P10,11,1,10,107,2,20140615,0425, 511,37.9895,146.8247,5339,3383.7, 1.4962,34.6718,2,137.4,2,34.6720,2,136.32,3,153.84,2,36.93,2,0.00,2,2.59,2,0.000,4,0.017,2,-999.0,9,-999.0,9,-999.0,9,-999,-999,9,-999,9, 1.2420,2,27.7651,2, 1.4963,2
49UP20140609_1,   P10,11,1, 9,108,2,20140615,0425, 506,37.9895,146.8247,5339,3640.4, 1.4685,34.6775,2,144.2,2,34.6784,2,143.65,2,151.79,2,36.52,2,0.00,2,2.55,2, -999,9, -999,9,2329.6,2,2417.7,2,7.5659,2,25,-999,9,-999,9, 1.1887,2,27.7734,2, 1.4685,2
49UP20140609_1,   P10,11,1, 8,81,3,20140615,0425, 500,37.9895,146.8247,5339,3896.3, 1.4624,34.6810,2,148.4,2,34.6815,2,148.38,6,150.46,6,36.11,6,0.00,6,2.52,6,0.000,4,0.009,2,-999.0,9,-999.0,9,-999.0,9,-999,-999,9,-999,9, 1.1557,2,27.7785,2, 1.4624,2
49UP20140609_1,   P10,11,1, 7,106,3,20140615,0425, 455,37.9895,146.8247,5339,4151.6, 1.4566,34.6844,2,152.8,2,34.6856,2,152.44,2,149.22,2,35.94,2,0.00,2,2.50,2, -999,9, -999,9,2322.8,2,2417.8,2,7.5793,6,25,-999,9,-999,9, 1.1223,2,27.7835,2, 1.4566,2
49UP20140609_1,   P10,11,1, 6,113,2,20140615,0425, 449,37.9895,146.8247,5339,4408.5, 1.4629,34.6865,2,156.2,2,34.6873,2,155.96,2,147.93,2,35.69,2,0.00,2,2.49,2,0.000,4,0.007,2,-999.0,9,-999.0,9,-999.0,9,-999,-999,9,-999,9, 1.0996,2,27.7867,2, 1.4629,2
49UP20140609_1,   P10,11,1, 5,94,2,20140615,0425, 443,37.9895,146.8247,5339,4665.3, 1.4754,34.6885,2,158.5,2,34.6894,2,158.33,2,147.31,2,35.55,2,0.00,2,2.48,2, -999,9, -999,9,2324.4,6,2415.1,6,7.5870,2,25,-999,9,-999,9, 1.0820,2,27.7895,2, 1.4754,2
49UP20140609_1,   P10,11,1, 4,77,2,20140615,0425, 437,37.9895,146.8247,5339,4922.8, 1.4955,34.6895,2,160.2,2,34.6908,2,160.06,2,146.16,2,35.37,2,0.00,2,2.46,2,0.000,4,0.007,2,-999.0,9,-999.0,9,-999.0,9,-999,-999,9,-999,9, 1.0708,2,27.7911,2, 1.4953,2
49UP20140609_1,   P10,11,1, 3,104,3,20140615,0425, 431,37.9895,146.8247,5339,5181.9, 1.5181,34.6908,2,161.6,2,34.6912,2,161.56,2,144.94,2,35.24,2,0.00,2,2.45,2, -999,9, -999,9,2320.1,2,2413.8,2,7.5920,2,25,-999,9,-999,9, 1.0609,2,27.7928,2, 1.5180,2
49UP20140609_1,   P10,11,1, 2,75,2,20140615,0425, 426,37.9895,146.8247,5339,5445.5, 1.5426,34.6915,2,163.6,2,34.6923,2,163.61,2,142.75,2,35.17,2,0.00,2,2.44,2, -999,9, -999,9,-999.0,9,-999.0,9,-999.0,9,-999,-999,9,-999,9, 1.0514,2,27.7940,2, 1.5425,2
49UP20140609_1,   P10,11,1, 1,997,2,20140615,0425, 425,37.9895,146.8247,5339,5445.6, 1.5423,34.6917,2,163.6,2,34.6924,6,163.52,2,142.91,2,35.18,2,0.00,2,2.45,2,0.000,4,0.019,2,2315.9,2,2412.5,2,7.5933,2,25,-999,9,-999,9, 1.0511,2,27.7942,2, 1.5424,2