BOTTLE,20230725CCHSIOADS
EXPOCODE,SECT_ID,STNNBR,CASTNO,SAMPNO,BTLNBR,BTLNBR_FLAG_W,DATE,TIME,BTL_TIME,LATITUDE,LONGITUDE,DEPTH,CTDPRS,CTDTMP,CTDSAL,CTDSAL_FLAG_W,CTDOXY,CTDOXY_FLAG_W,SALNTY,SALNTY_FLAG_W,OXYGEN,OXYGEN_FLAG_W,SILCAT,SILCAT_FLAG_W,NO2+NO3,NO2+NO3_FLAG_W,NITRIT,NITRIT_FLAG_W,PHSPHT,PHSPHT_FLAG_W,CFC-11,CFC-11_FLAG_W,CFC-12,CFC-12_FLAG_W,TCARBN,TCARBN_FLAG_W,ALKALI,ALKALI_FLAG_W,PH_TOT,PH_TOT_FLAG_W,PH_TMP,CHLORA,CHLORA_FLAG_W,PPHYTN,PPHYTN_FLAG_W,THETA,THETA_FLAG_W,SIG0,SIG0_FLAG_W,REFTMP,REFTMP_FLAG_W
,,,,,,,,,,,,METERS,DBAR,ITS-90,PSS-78,,UMOL/KG,,PSS-78,,UMOL/KG,,UMOL/KG,,UMOL/KG,,UMOL/KG,,UMOL/KG,,PMOL/KG,,PMOL/KG,,UMOL/KG,,UMOL/KG,,,,DEG C,UG/KG,,UG/KG,,ITS-90,,KG/M^3,,ITS-90,
49UP20140609_3,   P10,68,1, 0,BUC,2,20140808,0156, 300, 6.5152,148.4883,3338,   0.0,29.4648,33.9366,2,196.7,2,33.9399,2,196.76,2,  1.01,2, 0.01,2,0.00,2,0.04,2, -999,9, -999,9,1899.6,2,2230.3,2,8.1283,2,25,0.10,2,0.03,2,29.4642,2,21.1105,2,   -999,9
49UP20140609_3,   P10,68,1,36,109,2,20140808,0156, 330, 6.5152,148.4883,3338,  10.4,29.4657,33.9365,2,196.6,2,33.9352,2,197.09,2,  0.90,2, 0.00,2,0.00,2,0.03,2, -999,9, -999,9,1898.7,2,2230.2,2,8.1309,2,25,-999,9,-999,9,29.4632,2,21.1108,2,29.4654,2
49UP20140609_3,   P10,68,1,35,112,2,20140808,0156, 330, 6.5152,148.4883,3338,  10.4,29.4734,33.9367,2,196.5,2,33.9349,2,196.94,2,  1.02,2, 0.01,2,0.00,2,0.03,2, -999,9, -999,9,1899.1,2,2230.3,2,8.1302,2,25,0.10,2,0.03,2,29.4708,2,21.1084,2,29.4712,2
49UP20140609_3,   P10,68,1,34,83,2,20140808,0156, 329, 6.5152,148.4883,3338,  25.7,29.4675,33.9363,2,196.3,2,33.9348,2,196.62,2,  1.02,2, 0.00,2,0.00,2,0.03,2, -999,9, -999,9,1898.3,2,2229.2,2,8.1332,2,25,0.10,2,0.03,2,29.4612,2,21.1113,2,29.4664,2
49UP20140609_3,   P10,68,1,33,107,2,20140808,0156, 328, 6.5152,148.4883,3338,  52.2,29.1368,34.1639,2,197.9,2,34.0923,4,197.61,2,  1.02,2, 0.01,2,0.00,2,0.06,2, -999,9, -999,9,1910.6,2,2240.7,2,8.1254,2,25,0.16,4,0.07,4,29.1242,2,21.3950,2,29.1378,2
49UP20140609_3,   P10,68,1,32,105,2,20140808,0156, 327, 6.5152,148.4883,3338,  76.6,26.4639,34.8292,2,181.4,2,34.8261,2,181.75,2,  2.00,2, 0.95,2,0.11,2,0.21,2, -999,9, -999,9,1994.4,2,2290.1,2,8.0519,2,25,0.37,2,0.52,2,26.4466,2,22.7646,2,26.4688,2
49UP20140609_3,   P10,68,1,31,515,2,20140808,0156, 325, 6.5152,148.4883,3338, 103.3,23.2160,34.9356,2,156.2,2,34.9359,2,156.89,2,  3.96,2, 4.93,2,0.09,2,0.46,2, -999,9, -999,9,2044.6,2,2298.0,2,7.9702,2,25,0.16,2,0.39,2,23.1948,2,23.8285,2,23.2372,2
49UP20140609_3,   P10,68,1,30,97,2,20140808,0156, 323, 6.5152,148.4883,3338, 128.5,18.2942,34.7601,2,137.2,2,34.7748,4,136.53,2,  9.60,2,11.13,2,0.03,2,0.87,2, -999,9, -999,9,2100.7,2,2292.0,2,7.8506,2,25,0.05,2,0.21,2,18.2720,2,25.0210,2,18.3115,2
49UP20140609_3,   P10,68,1,29,102,2,20140808,0156, 320, 6.5152,148.4883,3338, 152.9,15.4972,34.6275,2,122.1,2,34.6328,2,122.78,2, 13.53,2,15.38,2,0.01,2,1.17,2, -999,9, -999,9,2135.9,2,2286.9,2,7.7608,6,25,0.03,2,0.13,2,15.4736,2,25.5800,2,15.5105,2
49UP20140609_3,   P10,68,1,28,108,4,20140808,0156, 318, 6.5152,148.4883,3338, 204.3,11.8722,34.5397,2, 83.2,2,   -999,9,-999.0,9,-999.0,9, -999,9,-999,9,-999,9, -999,9, -999,9,-999.0,9,-999.0,9,-999.0,9,-999,-999,9,-999,9,11.8459,2,26.2608,2,11.8899,2
49UP20140609_3,   P10,68,1,27,998,2,20140808,0156, 316, 6.5152,148.4883,3338, 253.4, 9.7944,34.5706,2, 61.7,2,34.5693,2, 61.80,6, 33.78,6,31.23,6,0.00,6,2.24,6, -999,9, -999,9,2235.2,2,2301.3,2,7.5349,2,25,-999,9,-999,9, 9.7654,2,26.6564,2, 9.7989,2
49UP20140609_3,   P10,68,1,26,84,2,20140808,0156, 314, 6.5152,148.4883,3338, 285.1, 9.3828,34.5940,2, 59.3,2,34.5934,2, 59.23,2, 35.26,2,32.51,2,0.00,2,2.31,2, -999,9, -999,9,2241.2,6,2304.9,6,7.5189,2,25,-999,9,-999,9, 9.3510,2,26.7433,2, 9.3826,2
49UP20140609_3,   P10,68,1,24,110,2,20140808,0156, 312, 6.5152,148.4883,3338, 325.2, 9.0169,34.5851,2, 64.2,2,34.5829,2, 64.24,3, 37.14,2,32.85,2,0.00,2,2.33,2, -999,9, -999,9,2241.3,2,2305.2,2,7.5217,2,25,-999,9,-999,9, 8.9814,2,26.7962,2, 9.0164,2
49UP20140609_3,   P10,68,1,25,98,2,20140808,0156, 312, 6.5152,148.4883,3338, 326.3, 9.0224,34.5878,2, 64.0,2,34.5835,2, 64.05,2, 37.01,2,32.81,2,0.00,2,2.33,2, -999,9, -999,9,2242.1,2,2305.2,2,7.5232,2,25,-999,9,-999,9, 8.9868,2,26.7975,2, 9.0219,2
49UP20140609_3,   P10,68,1,23,96,2,20140808,0156, 310, 6.5152,148.4883,3338, 373.7, 8.5996,34.6044,2, 74.0,2,34.6041,2, 73.90,2, 36.38,2,32.97,2,0.00,2,2.32,2, -999,9, -999,9,2242.1,2,2308.1,2,7.5315,2,25,-999,9,-999,9, 8.5599,2,26.8778,2, 8.5994,2
49UP20140609_3,   P10,68,1,22,111,2,20140808,0156, 308, 6.5152,148.4883,3338, 425.8, 8.1369,34.5825,2,111.9,2,34.5825,2,111.29,2, 34.83,2,30.32,2,0.00,2,2.14,2, -999,9, -999,9,2222.0,2,2309.0,2,7.5923,2,25,-999,9,-999,9, 8.0930,2,26.9320,2, 8.1363,2
49UP20140609_3,   P10,68,1,21,78,2,20140808,0156, 306, 6.5152,148.4883,3338, 477.1, 7.7724,34.5669,2, 84.2,2,34.5673,2, 84.43,2, 41.61,2,33.40,2,0.00,2,2.37,2, -999,9, -999,9,2243.3,2,2311.3,2,7.5384,2,25,-999,9,-999,9, 7.7243,2,26.9745,2, 7.7726,2
49UP20140609_3,   P10,68,1,20,93,2,20140808,0156, 303, 6.5152,148.4883,3338, 576.1, 7.1069,34.5387,2, 84.3,2,34.5386,6, 84.55,2, 49.73,2,34.55,2,0.00,2,2.46,2, -999,9, -999,9,2253.9,2,2320.6,2,7.5229,2,25,-999,9,-999,9, 7.0514,2,27.0483,2, 7.1068,2
49UP20140609_3,   P10,68,1,19,92,2,20140808,0156, 300, 6.5152,148.4883,3338, 675.8, 6.5755,34.5353,2, 77.4,2,34.5349,2, 77.33,2, 57.82,2,36.09,2,0.00,2,2.58,2, -999,9, -999,9,2266.8,2,2327.4,2,7.5045,2,25,-999,9,-999,9, 6.5126,2,27.1188,2, 6.5753,2
49UP20140609_3,   P10,68,1,18,101,2,20140808,0156, 257, 6.5152,148.4883,3338, 775.8, 5.7165,34.5352,2, 79.0,2,34.5351,2, 79.02,2, 69.60,2,37.36,2,0.00,2,2.67,2, -999,9, -999,9,2284.4,2,2341.0,2,7.4966,2,25,-999,9,-999,9, 5.6489,2,27.2293,2, 5.7164,2
49UP20140609_3,   P10,68,1,17,90,2,20140808,0156, 255, 6.5152,148.4883,3338, 877.4, 5.0677,34.5420,2, 83.7,2,34.5423,2, 83.55,2, 79.97,2,37.90,2,0.00,2,2.71,2, -999,9, -999,9,2295.3,2,2349.8,2,7.4998,6,25,-999,9,-999,9, 4.9949,2,27.3127,2, 5.0676,2
49UP20140609_3,   P10,68,1,16,89,2,20140808,0156, 252, 6.5152,148.4883,3338, 977.7, 4.4425,34.5555,2, 82.6,2,34.5548,2, 82.68,2, 91.95,2,38.73,2,0.00,2,2.77,2, -999,9, -999,9,2309.6,6,2364.0,6,7.4940,2,25,-999,9,-999,9, 4.3652,2,27.3939,2, 4.4424,2
49UP20140609_3,   P10,68,1,15,88,2,20140808,0156, 249, 6.5152,148.4883,3338,1136.8, 4.0372,34.5667,2, 86.1,2,34.5668,2, 86.06,2,100.66,2,38.85,2,0.00,2,2.78,2, -999,9, -999,9,2316.6,2,2373.1,2,7.4959,2,25,-999,9,-999,9, 3.9496,2,27.4467,2, 4.0375,2
49UP20140609_3,   P10,68,1,14,999,2,20140808,0156, 249, 6.5152,148.4883,3338,1138.5, 4.0318,34.5669,2, 86.2,2,34.5660,2, 86.18,2,100.60,2,38.86,2,0.00,2,2.78,2, -999,9, -999,9,2316.7,2,2375.4,2,7.4961,2,25,-999,9,-999,9, 3.9441,2,27.4474,2, 4.0322,2
49UP20140609_3,   P10,68,1,13,667,2,20140808,0156, 243, 6.5152,148.4883,3338,1340.4, 3.4276,34.5837,2, 90.9,2,34.5836,2, 90.88,6,112.60,6,39.03,6,0.00,6,2.78,6, -999,9, -999,9,2325.3,2,2383.4,2,7.5000,2,25,-999,9,-999,9, 3.3285,2,27.5220,2, 3.4277,2
49UP20140609_3,   P10,68,1,12,74,2,20140808,0156, 239, 6.5152,148.4883,3338,1542.5, 3.0494,34.5978,2, 96.6,2,34.5976,2, 96.72,2,120.55,2,38.98,2,0.00,2,2.77,2, -999,9, -999,9,2333.0,2,2394.2,2,7.5065,2,25,-999,9,-999,9, 2.9374,2,27.5697,2, 3.0495,2
49UP20140609_3,   P10,68,1,11,268,2,20140808,0156, 235, 6.5152,148.4883,3338,1745.5, 2.5701,34.6170,2,104.0,2,34.6162,2,103.97,2,130.36,2,38.73,2,0.00,2,2.75,2, -999,9, -999,9,2340.1,2,2404.3,2,7.5175,2,25,-999,9,-999,9, 2.4469,2,27.6282,2, 2.5699,2
49UP20140609_3,   P10,68,1,10,267,2,20140808,0156, 230, 6.5152,148.4883,3338,1953.4, 2.2115,34.6351,2,112.2,2,34.6346,6,112.08,2,137.14,2,38.40,2,0.00,2,2.71,2, -999,9, -999,9,2341.8,2,2411.5,2,7.5311,2,25,-999,9,-999,9, 2.0758,2,27.6733,2, 2.2107,2
49UP20140609_3,   P10,68,1, 8,81,2,20140808,0156, 224, 6.5152,148.4883,3338,2153.6, 2.0613,34.6434,2,117.7,2,34.6432,2,117.81,2,139.32,2,38.08,2,0.00,2,2.68,2, -999,9, -999,9,2342.4,2,2413.5,2,7.5341,2,25,-999,9,-999,9, 1.9107,2,27.6930,2, 2.0613,2
49UP20140609_3,   P10,68,1, 7,516,2,20140808,0156, 219, 6.5152,148.4883,3338,2357.7, 1.9196,34.6516,2,122.9,2,34.6513,2,123.06,2,141.49,2,37.82,2,0.00,2,2.65,2, -999,9, -999,9,2341.5,2,2417.2,2,7.5447,6,25,-999,9,-999,9, 1.7535,2,27.7117,2, 1.9196,2
49UP20140609_3,   P10,68,1, 6,113,2,20140808,0156, 214, 6.5152,148.4883,3338,2557.7, 1.8307,34.6567,2,125.5,2,34.6561,2,125.78,2,143.62,2,37.65,2,0.00,2,2.64,2, -999,9, -999,9,2341.5,6,2419.3,6,7.5488,2,25,-999,9,-999,9, 1.6484,2,27.7237,2, 1.8307,2
49UP20140609_3,   P10,68,1, 3,104,2,20140808,0156, 210, 6.5152,148.4883,3338,2762.8, 1.7581,34.6620,2,132.7,2,34.6624,6,132.80,2,142.02,2,37.21,2,0.00,2,2.60,2, -999,9, -999,9,2334.9,2,2419.2,2,7.5582,2,25,-999,9,-999,9, 1.5582,2,27.7347,2, 1.7581,2
49UP20140609_3,   P10,68,1, 2,75,2,20140808,0156, 206, 6.5152,148.4883,3338,2965.4, 1.6977,34.6661,2,136.8,2,34.6658,2,136.87,6,141.90,6,36.81,6,0.00,6,2.58,6, -999,9, -999,9,2334.4,2,2420.8,2,7.5677,2,25,-999,9,-999,9, 1.4799,2,27.7437,2, 1.6981,2
49UP20140609_3,   P10,68,1, 1,997,2,20140808,0156, 200, 6.5152,148.4883,3338,3213.0, 1.6066,34.6727,2,143.4,2,34.6727,6,143.35,2,141.47,2,36.44,2,0.00,2,2.54,2, -999,9, -999,9,2331.7,2,2420.4,2,7.5788,2,25,-999,9,-999,9, 1.3668,2,27.7571,2, 1.6065,2
49UP20140609_3,   P10,68,1, 4,77,2,20140808,0156, 156, 6.5152,148.4883,3338,3346.7, 1.6055,34.6734,2,144.3,2,34.6736,2,144.25,2,141.76,2,36.38,2,0.00,2,2.53,2, -999,9, -999,9,2331.0,2,2421.3,2,7.5801,2,25,-999,9,-999,9, 1.3524,2,27.7587,2, 1.6054,2
49UP20140609_3,   P10,68,1, 5,94,2,20140808,0156, 156, 6.5152,148.4883,3338,3347.0, 1.6060,34.6735,2,144.4,2,34.6738,2,144.40,2,141.80,2,36.37,2,0.00,2,2.54,2, -999,9, -999,9,2331.4,2,2420.6,2,7.5793,2,25,-999,9,-999,9, 1.3528,2,27.7587,2, 1.6058,2
49UP20140609_3,   P10,68,1, 9,518,2,20140808,0156, 157, 6.5152,148.4883,3338,3348.6, 1.6074,34.6733,2,144.3,2,34.6727,2,144.25,2,141.68,2,36.41,2,0.00,2,2.54,2, -999,9, -999,9,2330.4,2,2421.9,2,7.5792,2,25,-999,9,-999,9, 1.3540,2,27.7585,2, 1.6073,2
49UP20140609_3,   P10,69,1, 0,BUC,2,20140808,0905,1026, 6.0088,148.2757,4095,   0.0,29.2313,33.8204,2,197.5,2,33.8276,2,197.61,2,  1.00,2, 0.00,2,0.00,2,0.04,2, -999,9, -999,9,1893.2,2,2220.9,2,8.1331,2,25,0.09,2,0.03,2,29.2307,2,21.1017,2,   -999,9
49UP20140609_3,   P10,69,1,36,109,2,20140808,0905,1057, 6.0088,148.2757,4095,  10.7,29.2643,33.8204,2,197.4,2,33.8185,2,197.25,6,  0.97,6, 0.00,6,0.00,6,0.03,6,1.475,2,0.910,2,1888.7,2,2220.3,2,8.1349,2,25,0.08,2,0.03,2,29.2617,2,21.0913,2,29.2594,2
49UP20140609_3,   P10,69,1,35,112,2,20140808,0905,1056, 6.0088,148.2757,4095,  25.7,29.2397,33.8190,2,197.2,2,33.8178,2,197.26,2,  0.98,2, 0.00,2,0.00,2,0.03,2, -999,9, -999,9,1888.8,2,2220.6,2,8.1280,2,25,0.08,2,0.03,2,29.2334,2,21.0997,2,29.2387,2
49UP20140609_3,   P10,69,1,34,83,2,20140808,0905,1053, 6.0088,148.2757,4095,  50.1,28.9232,34.1184,2,197.5,2,34.1789,4,198.37,2,  0.97,2, 0.00,2,0.00,2,0.06,2,1.512,2,0.920,2,1918.1,2,2243.3,2,8.1230,2,25,0.14,2,0.06,2,28.9111,2,21.4319,2,28.9196,2
49UP20140609_3,   P10,69,1,33,107,2,20140808,0905,1052, 6.0088,148.2757,4095,  75.4,25.5955,34.8944,2,183.8,2,34.8944,2,184.31,2,  2.06,2, 0.07,2,0.01,2,0.18,2, -999,9, -999,9,2003.6,2,2293.0,2,8.0384,2,25,0.22,2,0.36,2,25.5788,2,23.0842,2,25.5915,2
49UP20140609_3,   P10,69,1,32,105,2,20140808,0905,1050, 6.0088,148.2757,4095, 100.0,22.1838,34.9048,2,151.2,2,34.9037,2,151.13,2,  5.06,2, 6.18,2,0.06,2,0.57,2,1.878,2,1.143,2,2061.5,2,2292.6,2,7.9425,2,25,0.16,2,0.34,2,22.1639,2,24.0994,2,22.1741,2
49UP20140609_3,   P10,69,1,31,515,2,20140808,0905,1049, 6.0088,148.2757,4095, 126.0,18.7176,34.7775,2,134.8,2,34.7781,2,135.14,2,  9.34,2,11.14,2,0.03,2,0.88,2,1.984,6,1.172,6,2096.0,2,2288.4,2,7.8511,2,25,0.06,2,0.20,2,18.6955,2,24.9283,2,18.7230,2
49UP20140609_3,   P10,69,1,30,97,3,20140808,0905,1047, 6.0088,148.2757,4095, 151.2,14.6903,34.6101,2,112.1,2,34.6121,2,114.00,2, 17.44,2,18.29,2,0.01,2,1.36,2,1.827,2,1.038,2,2144.9,2,2285.8,2,7.7304,6,25,0.02,2,0.05,2,14.6678,2,25.7436,2,14.6880,2
49UP20140609_3,   P10,69,1,29,102,2,20140808,0905,1046, 6.0088,148.2757,4095, 202.6,11.8336,34.5397,2, 81.9,2,34.5398,2, 82.66,2, 25.96,2,25.51,2,0.00,2,1.87,2,1.412,2,0.779,2,2197.7,2,2286.2,2,7.6160,2,25,0.00,2,0.03,2,11.8075,2,26.2680,2,11.8364,2
49UP20140609_3,   P10,69,1,28,108,2,20140808,0905,1044, 6.0088,148.2757,4095, 251.8, 9.9209,34.5907,2, 59.2,2,34.5903,2, 58.94,2, 33.28,2,31.45,2,0.00,2,2.25,2,0.768,6,0.418,6,2233.7,6,2297.4,2,7.5360,2,25,-999,9,-999,9, 9.8919,2,26.6507,2, 9.9206,2
49UP20140609_3,   P10,69,1,27,998,2,20140808,0905,1042, 6.0088,148.2757,4095, 305.9, 9.0014,34.6022,2, 66.5,2,34.6012,2, 65.83,2, 35.94,2,32.70,2,0.00,2,2.32,2,0.544,2,0.299,2,2238.7,2,2301.3,2,7.5259,2,25,-999,9,-999,9, 8.9682,2,26.8117,2, 8.9981,2
49UP20140609_3,   P10,69,1,26,84,2,20140808,0905,1040, 6.0088,148.2757,4095, 354.6, 8.5671,34.5944,2, 75.6,2,34.5937,2, 76.22,2, 37.29,2,32.81,2,0.00,2,2.32,2,0.501,2,0.275,2,2237.1,2,2305.1,2,7.5396,2,25,-999,9,-999,9, 8.5296,2,26.8746,2, 8.5676,2
49UP20140609_3,   P10,69,1,25,98,2,20140808,0905,1038, 6.0088,148.2757,4095, 403.9, 8.0876,34.5786,2, 91.6,2,34.5792,2, 91.87,2, 38.09,2,32.23,2,0.00,2,2.27,2,0.533,6,0.288,6,2229.6,2,2305.8,2,7.5542,2,25,-999,9,-999,9, 8.0461,2,26.9360,2, 8.0883,2
49UP20140609_3,   P10,69,1,24,110,2,20140808,0905,1036, 6.0088,148.2757,4095, 453.9, 7.8185,34.5714,2,107.6,2,34.5710,2,108.21,6, 36.99,6,31.36,6,0.00,6,2.21,6,0.586,2,0.323,2,2223.8,2,2305.7,2,7.5771,2,25,-999,9,-999,9, 7.7727,2,26.9709,2, 7.8183,2
49UP20140609_3,   P10,69,1,23,96,2,20140808,0905,1035, 6.0088,148.2757,4095, 504.9, 7.5561,34.5568,2,102.3,2,34.5580,6,103.01,2, 40.36,2,32.17,2,0.00,2,2.28,2,0.507,2,0.270,2,2229.0,2,2309.1,2,7.5664,2,25,-999,9,-999,9, 7.5059,2,26.9982,2, 7.5559,2
49UP20140609_3,   P10,69,1,22,111,2,20140808,0905,1032, 6.0088,148.2757,4095, 605.6, 6.7428,34.5382,2, 89.1,2,34.5387,2, 89.06,2, 51.56,2,34.91,2,0.00,2,2.49,2,0.259,2,0.140,2,2254.4,2,2320.1,2,7.5265,2,25,-999,9,-999,9, 6.6860,2,27.0979,2, 6.7426,2
49UP20140609_3,   P10,69,1,21,78,2,20140808,0905,1029, 6.0088,148.2757,4095, 706.1, 6.2522,34.5333,2, 86.0,2,34.5337,2, 86.69,2, 58.60,2,36.08,2,0.00,2,2.57,2,0.163,2,0.090,2,2262.7,2,2325.2,2,7.5200,2,25,-999,9,-999,9, 6.1881,2,27.1598,2, 6.2519,2
49UP20140609_3,   P10,69,1,20,93,2,20140808,0905,1026, 6.0088,148.2757,4095, 806.4, 5.7265,34.5329,2, 88.9,2,34.5333,2, 89.40,2, 65.66,2,36.64,2,0.00,2,2.61,2,0.128,2,0.071,2,2272.3,2,2331.4,2,7.5131,6,25,-999,9,-999,9, 5.6559,2,27.2266,2, 5.7262,2
49UP20140609_3,   P10,69,1,19,92,2,20140808,0905,1024, 6.0088,148.2757,4095, 907.1, 5.1149,34.5406,2, 85.5,2,34.5405,2, 85.49,2, 78.95,2,37.68,2,0.00,2,2.69,2,0.065,2,0.038,2,2290.9,2,2346.2,2,7.5034,2,25,-999,9,-999,9, 5.0391,2,27.3065,2, 5.1145,2
49UP20140609_3,   P10,69,1,18,101,2,20140808,0905,1021, 6.0088,148.2757,4095,1007.3, 4.4585,34.5552,2, 82.1,2,34.5555,6, 82.13,2, 92.44,2,38.82,2,0.00,2,2.78,2,0.021,2,0.013,2,2306.7,6,2360.4,6,7.4890,2,25,-999,9,-999,9, 4.3786,2,27.3922,2, 4.4583,2
49UP20140609_3,   P10,69,1,17,90,2,20140808,0905,1006, 6.0088,148.2757,4095,1208.2, 3.7889,34.5726,2, 87.4,2,34.5732,2, 87.32,2,105.55,2,39.04,2,0.00,2,2.79,2,0.005,2,0.003,2,2317.3,2,2373.5,2,7.4970,2,25,-999,9,-999,9, 3.6974,2,27.4771,2, 3.7880,2
49UP20140609_3,   P10,69,1,16,89,2,20140808,0905,1002, 6.0088,148.2757,4095,1411.0, 3.1605,34.5929,2, 92.8,2,34.5927,2, 92.92,6,118.65,6,39.18,6,0.00,6,2.79,6,0.005,2,0.007,2,2331.4,2,2389.1,2,7.4979,2,25,-999,9,-999,9, 3.0583,2,27.5548,2, 3.1602,2
49UP20140609_3,   P10,69,1,15,88,2,20140808,0905, 958, 6.0088,148.2757,4095,1615.1, 2.7309,34.6103,2,101.4,2,34.6093,4,102.01,2,127.29,2,38.77,2,0.00,2,2.75,2,0.000,2,0.001,2,2333.5,2,2398.1,2,7.5151,2,25,-999,9,-999,9, 2.6166,2,27.6083,2, 2.7308,2
49UP20140609_3,   P10,69,1,14,999,2,20140808,0905, 954, 6.0088,148.2757,4095,1818.3, 2.4713,34.6226,2,105.9,2,34.6226,2,108.38,3,132.48,2,38.63,2,0.00,2,2.73,2, -999,9, -999,9,2337.4,2,2405.4,2,7.5210,2,25,-999,9,-999,9, 2.3434,2,27.6414,2, 2.4715,2
49UP20140609_3,   P10,69,1,13,667,2,20140808,0905, 949, 6.0088,148.2757,4095,2022.1, 2.2183,34.6348,2,110.9,2,34.6343,2,110.78,2,138.12,2,38.45,2,0.00,2,2.71,2,0.000,2,0.000,2,2338.5,2,2409.2,2,7.5270,2,25,-999,9,-999,9, 2.0766,2,27.6730,2, 2.2182,2
49UP20140609_3,   P10,69,1,12,74,2,20140808,0905, 945, 6.0088,148.2757,4095,2224.8, 2.0019,34.6468,2,117.5,2,34.6473,6,117.92,2,141.93,2,38.13,2,0.00,2,2.68,2, -999,9, -999,9,2341.9,2,2415.2,2,7.5398,2,25,-999,9,-999,9, 1.8461,2,27.7007,2, 2.0011,2
49UP20140609_3,   P10,69,1,11,268,2,20140808,0905, 941, 6.0088,148.2757,4095,2428.3, 1.8450,34.6555,2,124.4,2,34.6559,2,124.66,2,143.86,2,37.67,2,0.00,2,2.64,2,0.000,2,0.000,2,2341.5,2,2418.9,2,7.5461,2,25,-999,9,-999,9, 1.6740,2,27.7209,2, 1.8449,2
49UP20140609_3,   P10,69,1,10,267,2,20140808,0905, 937, 6.0088,148.2757,4095,2631.3, 1.7380,34.6622,2,132.3,2,34.6627,2,132.41,2,142.92,2,37.20,2,0.00,2,2.60,2, -999,9, -999,9,2341.1,2,2418.2,2,7.5587,6,25,-999,9,-999,9, 1.5507,2,27.7354,2, 1.7379,2
49UP20140609_3,   P10,69,1, 8,81,2,20140808,0905, 932, 6.0088,148.2757,4095,2835.7, 1.6724,34.6669,2,137.5,2,34.6660,2,137.50,2,142.60,2,36.80,2,0.00,2,2.57,2, -999,9, -999,9,2332.4,2,2417.0,6,7.5686,2,25,-999,9,-999,9, 1.4675,2,27.7452,2, 1.6725,2
49UP20140609_3,   P10,69,1, 7,516,2,20140808,0905, 928, 6.0088,148.2757,4095,3039.9, 1.6160,34.6713,2,142.0,2,34.6698,2,142.38,2,142.27,2,36.47,2,0.00,2,2.55,2,0.000,2,0.000,2,2330.6,2,2419.3,2,7.5755,2,25,-999,9,-999,9, 1.3928,2,27.7541,2, 1.6159,2
49UP20140609_3,   P10,69,1, 6,113,2,20140808,0905, 923, 6.0088,148.2757,4095,3293.5, 1.5507,34.6767,2,147.1,2,34.6758,2,147.36,6,142.04,2,36.21,6,0.00,6,2.52,6, -999,9, -999,9,2328.0,2,2421.7,2,7.5868,2,25,-999,9,-999,9, 1.3042,2,27.7648,2, 1.5508,2
49UP20140609_3,   P10,69,1, 9,518,2,20140808,0905, 918, 6.0088,148.2757,4095,3549.3, 1.5335,34.6795,2,149.8,2,34.6790,2,149.94,2,141.67,2,35.97,2,0.00,2,2.50,2, -999,9, -999,9,2328.8,2,2417.7,3,7.5900,2,25,-999,9,-999,9, 1.2615,2,27.7700,2, 1.5335,2
49UP20140609_3,   P10,69,1, 4,77,2,20140808,0905, 917, 6.0088,148.2757,4095,3549.4, 1.5335,34.6796,2,149.8,2,34.6796,2,150.03,2,141.72,2,36.04,2,0.00,2,2.51,2, -999,9, -999,9,2326.9,2,2420.8,2,7.5880,2,25,-999,9,-999,9, 1.2615,2,27.7701,2, 1.5336,2
49UP20140609_3,   P10,69,1, 5,94,2,20140808,0905, 918, 6.0088,148.2757,4095,3549.9, 1.5336,34.6795,2,149.8,2,34.6797,2,149.87,2,141.71,2,35.97,2,0.00,2,2.51,2, -999,9, -999,9,2334.6,3,2420.7,2,7.5909,2,25,-999,9,-999,9, 1.2615,2,27.7700,2, 1.5336,2
49UP20140609_3,   P10,69,1, 3,104,2,20140808,0905, 912, 6.0088,148.2757,4095,3803.9, 1.5298,34.6812,2,151.9,2,34.6807,6,152.52,2,141.37,2,35.85,2,0.00,2,2.50,2,0.000,2,0.000,2,2327.4,2,2420.0,2,7.5925,2,25,-999,9,-999,9, 1.2312,2,27.7735,2, 1.5298,2
49UP20140609_3,   P10,69,1, 2,75,2,20140808,0905, 907, 6.0088,148.2757,4095,4062.8, 1.5405,34.6823,2,153.3,2,34.6826,2,153.71,2,140.93,2,35.75,2,0.00,2,2.49,2, -999,9, -999,9,2325.8,2,2418.4,2,7.5938,2,25,-999,9,-999,9, 1.2136,2,27.7756,2, 1.5404,2
49UP20140609_3,   P10,69,1, 1,997,2,20140808,0905, 905, 6.0088,148.2757,4095,4138.5, 1.5438,34.6827,2,153.6,2,34.6827,2,153.57,2,141.16,2,35.77,2,0.00,2,2.50,2,0.000,2,0.000,2,2329.4,2,2418.4,2,7.5923,2,25,-999,9,-999,9, 1.2084,2,27.7762,2, 1.5436,2