BOTTLE,20230725CCHSIOADS
EXPOCODE,SECT_ID,STNNBR,CASTNO,SAMPNO,BTLNBR,BTLNBR_FLAG_W,DATE,TIME,BTL_TIME,LATITUDE,LONGITUDE,DEPTH,CTDPRS,CTDTMP,CTDSAL,CTDSAL_FLAG_W,CTDOXY,CTDOXY_FLAG_W,SALNTY,SALNTY_FLAG_W,OXYGEN,OXYGEN_FLAG_W,SILCAT,SILCAT_FLAG_W,NO2+NO3,NO2+NO3_FLAG_W,NITRIT,NITRIT_FLAG_W,PHSPHT,PHSPHT_FLAG_W,CFC-11,CFC-11_FLAG_W,CFC-12,CFC-12_FLAG_W,TCARBN,TCARBN_FLAG_W,ALKALI,ALKALI_FLAG_W,PH_TOT,PH_TOT_FLAG_W,PH_TMP,CHLORA,CHLORA_FLAG_W,PPHYTN,PPHYTN_FLAG_W,THETA,THETA_FLAG_W,SIG0,SIG0_FLAG_W,REFTMP,REFTMP_FLAG_W
,,,,,,,,,,,,METERS,DBAR,ITS-90,PSS-78,,UMOL/KG,,PSS-78,,UMOL/KG,,UMOL/KG,,UMOL/KG,,UMOL/KG,,UMOL/KG,,PMOL/KG,,PMOL/KG,,UMOL/KG,,UMOL/KG,,,,DEG C,UG/KG,,UG/KG,,ITS-90,,KG/M^3,,ITS-90,
49UP20140609_1,   P10, 9,1, 0,BUC,2,20140615,1802,1950,39.0145,146.1112,5273,   0.0,19.7475,34.4435,2,234.8,2,   -999,9,233.44,2,  3.49,2, 0.00,2,0.00,2,0.08,2, -999,9, -999,9,-999.0,9,-999.0,9,-999.0,9,-999,0.65,4,0.23,4,19.7470,2,24.4035,2,   -999,9
49UP20140609_1,   P10, 9,1,36,109,2,20140615,1802,2019,39.0145,146.1112,5273,  10.2,19.7133,34.4424,2,234.6,2,   -999,9,234.75,6,  2.97,6, 0.00,6,0.00,6,0.08,6, -999,9, -999,9,-999.0,9,-999.0,9,-999.0,9,-999,0.49,2,0.20,2,19.7115,2,24.4119,2,19.7179,2
49UP20140609_1,   P10, 9,1,35,112,2,20140615,1802,2018,39.0145,146.1112,5273,  25.1,17.2656,34.5810,2,209.0,2,   -999,9,218.16,2,  6.80,2, 4.17,2,0.17,2,0.35,2, -999,9, -999,9,-999.0,9,-999.0,9,-999.0,9,-999,0.54,2,0.29,2,17.2615,2,25.1304,2,17.2499,2
49UP20140609_1,   P10, 9,1,34,83,2,20140615,1802,2015,39.0145,146.1112,5273,  49.4,15.3403,34.4936,2,229.4,2,   -999,9,229.19,2,  7.78,2, 5.63,2,0.78,2,0.45,2, -999,9, -999,9,-999.0,9,-999.0,9,-999.0,9,-999,0.18,2,0.21,2,15.3327,2,25.5082,2,15.3382,2
49UP20140609_1,   P10, 9,1,33,517,2,20140615,1802,2014,39.0145,146.1112,5273,  79.3,12.9720,34.3742,2,198.0,2,   -999,9,197.06,2, 15.83,2,11.86,2,0.03,2,0.84,2, -999,9, -999,9,-999.0,9,-999.0,9,-999.0,9,-999,0.03,2,0.09,2,12.9613,2,25.9158,2,12.9749,2
49UP20140609_1,   P10, 9,1,32,105,2,20140615,1802,2013,39.0145,146.1112,5273, 101.1,11.2022,34.2192,2,207.6,2,34.2281,2,207.43,2, 20.03,2,13.92,2,0.03,2,1.01,2, -999,9, -999,9,-999.0,9,-999.0,9,-999.0,9,-999,0.02,2,0.05,2,11.1898,2,26.1332,2,11.1713,2
49UP20140609_1,   P10, 9,1,31,515,2,20140615,1802,2011,39.0145,146.1112,5273, 152.0, 8.1626,33.8566,2,245.7,2,   -999,9,245.53,2, 22.84,2,14.99,2,0.01,2,1.13,2, -999,9, -999,9,-999.0,9,-999.0,9,-999.0,9,-999,0.01,2,0.06,2, 8.1473,2,26.3539,2, 8.1621,2
49UP20140609_1,   P10, 9,1,30,97,2,20140615,1802,2009,39.0145,146.1112,5273, 202.1, 7.4774,33.9386,2,200.7,2,33.9463,2,198.74,2, 34.75,2,19.65,2,0.02,2,1.46,2, -999,9, -999,9,-999.0,9,-999.0,9,-999.0,9,-999,0.01,2,0.07,2, 7.4581,2,26.5188,2, 7.4769,2
49UP20140609_1,   P10, 9,1,29,102,2,20140615,1802,2007,39.0145,146.1112,5273, 253.4, 6.6687,33.9593,2,175.6,2,   -999,9,174.94,2, 46.60,2,24.41,2,0.02,2,1.79,2, -999,9, -999,9,-999.0,9,-999.0,9,-999.0,9,-999,-999,9,-999,9, 6.6460,2,26.6467,2, 6.6689,2
49UP20140609_1,   P10, 9,1,28,91,2,20140615,1802,2006,39.0145,146.1112,5273, 285.6, 5.4295,33.8694,2,167.0,2,   -999,9,166.40,2, 55.87,2,28.13,2,0.01,2,2.08,2, -999,9, -999,9,-999.0,9,-999.0,9,-999.0,9,-999,-999,9,-999,9, 5.4065,2,26.7317,2, 5.4241,2
49UP20140609_1,   P10, 9,1,27,998,2,20140615,1802,2003,39.0145,146.1112,5273, 384.8, 4.1474,33.8379,2,141.8,2,33.8396,2,140.25,2, 72.02,2,32.68,2,0.01,2,2.42,2, -999,9, -999,9,-999.0,9,-999.0,9,-999.0,9,-999,-999,9,-999,9, 4.1201,2,26.8494,2, 4.1451,2
49UP20140609_1,   P10, 9,1,26,84,2,20140615,1802,2000,39.0145,146.1112,5273, 477.3, 4.4805,34.0553,2, 88.4,2,   -999,9, 87.96,2, 88.17,2,36.67,2,0.00,2,2.67,2, -999,9, -999,9,-999.0,9,-999.0,9,-999.0,9,-999,-999,9,-999,9, 4.4448,2,26.9879,2, 4.5022,2
49UP20140609_1,   P10, 9,1,25,98,2,20140615,1802,1957,39.0145,146.1112,5273, 579.1, 4.2427,34.1597,2, 64.0,2,34.1596,2, 63.72,2,101.36,2,39.00,2,0.00,2,2.81,2, -999,9, -999,9,-999.0,9,-999.0,9,-999.0,9,-999,-999,9,-999,9, 4.2000,2,27.0969,2, 4.2421,2
49UP20140609_1,   P10, 9,1,24,110,2,20140615,1802,1954,39.0145,146.1112,5273, 677.9, 3.8079,34.2421,2, 50.2,2,   -999,9, 49.81,2,115.38,2,40.63,2,0.00,2,2.93,2, -999,9, -999,9,-999.0,9,-999.0,9,-999.0,9,-999,-999,9,-999,9, 3.7596,2,27.2076,2, 3.8074,2
49UP20140609_1,   P10, 9,1,23,96,2,20140615,1802,1951,39.0145,146.1112,5273, 779.6, 3.5281,34.3096,2, 45.0,2,34.3091,2, 44.75,2,124.12,2,41.33,2,0.00,2,2.98,2, -999,9, -999,9,-999.0,9,-999.0,9,-999.0,9,-999,-999,9,-999,9, 3.4736,2,27.2895,2, 3.5277,2
49UP20140609_1,   P10, 9,1,22,111,3,20140615,1802,1948,39.0145,146.1112,5273, 880.1, 3.0620,34.3474,2, 36.2,2,   -999,9, 35.95,2,137.21,2,42.47,2,0.00,2,3.06,2, -999,9, -999,9,-999.0,9,-999.0,9,-999.0,9,-999,-999,9,-999,9, 3.0028,2,27.3638,2, 3.0618,2
49UP20140609_1,   P10, 9,1,21,78,2,20140615,1802,1945,39.0145,146.1112,5273, 982.6, 2.9153,34.3873,2, 36.9,2,34.3864,2, 36.37,2,142.01,2,42.50,2,0.00,2,3.06,2, -999,9, -999,9,-999.0,9,-999.0,9,-999.0,9,-999,-999,9,-999,9, 2.8495,2,27.4096,2, 2.9156,2
49UP20140609_1,   P10, 9,1,20,93,2,20140615,1802,1941,39.0145,146.1112,5273,1142.9, 2.7052,34.4502,2, 40.3,2,34.4493,2, 39.80,2,147.61,2,42.50,2,0.00,2,3.05,2, -999,9, -999,9,-999.0,9,-999.0,9,-999.0,9,-999,-999,9,-999,9, 2.6291,2,27.4792,2, 2.7051,2
49UP20140609_1,   P10, 9,1,19,92,2,20140615,1802,1937,39.0145,146.1112,5273,1345.3, 2.3928,34.5028,2, 45.6,2,34.5031,2, 45.19,2,156.03,2,42.55,2,0.00,2,3.04,2, -999,9, -999,9,-999.0,9,-999.0,9,-999.0,9,-999,-999,9,-999,9, 2.3042,2,27.5488,2, 2.3927,2
49UP20140609_1,   P10, 9,1,18,101,2,20140615,1802,1932,39.0145,146.1112,5273,1550.1, 2.2138,34.5395,2, 53.5,2,34.5400,2, 53.26,6,159.53,6,42.09,6,0.00,6,3.01,6, -999,9, -999,9,-999.0,9,-999.0,9,-999.0,9,-999,-999,9,-999,9, 2.1112,2,27.5938,2, 2.2137,2
49UP20140609_1,   P10, 9,1,17,90,2,20140615,1802,1927,39.0145,146.1112,5273,1752.1, 2.0464,34.5728,2, 64.9,2,34.5730,2, 64.76,2,161.61,2,41.45,2,0.00,2,2.95,2, -999,9, -999,9,-999.0,9,-999.0,9,-999.0,9,-999,-999,9,-999,9, 1.9298,2,27.6349,2, 2.0464,2
49UP20140609_1,   P10, 9,1,16,89,3,20140615,1802,1923,39.0145,146.1112,5273,1955.6, 1.9134,34.5975,2, 77.3,2,34.5974,2, 77.14,2,162.19,2,40.70,2,0.00,2,2.90,2, -999,9, -999,9,-999.0,9,-999.0,9,-999.0,9,-999,-999,9,-999,9, 1.7821,2,27.6661,2, 1.9133,2
49UP20140609_1,   P10, 9,1,15,88,2,20140615,1802,1918,39.0145,146.1112,5273,2157.9, 1.8072,34.6163,2, 88.5,2,34.6152,2, 88.44,2,161.70,2,40.05,2,0.00,2,2.84,2, -999,9, -999,9,-999.0,9,-999.0,9,-999.0,9,-999,-999,9,-999,9, 1.6606,2,27.6904,2, 1.8072,2
49UP20140609_1,   P10, 9,1,14,999,2,20140615,1802,1914,39.0145,146.1112,5273,2361.1, 1.7024,34.6342,2,101.8,2,34.6350,2,102.41,2,160.26,6,39.20,6,0.00,6,2.78,6, -999,9, -999,9,-999.0,9,-999.0,9,-999.0,9,-999,-999,9,-999,9, 1.5400,2,27.7137,2, 1.7024,2
49UP20140609_1,   P10, 9,1,13,667,2,20140615,1802,1910,39.0145,146.1112,5273,2565.7, 1.6338,34.6459,2,111.5,2,34.6465,6,111.65,2,159.21,2,38.58,2,0.00,2,2.72,2, -999,9, -999,9,-999.0,9,-999.0,9,-999.0,9,-999,-999,9,-999,9, 1.4545,2,27.7293,2, 1.6337,2
49UP20140609_1,   P10, 9,1,12,74,2,20140615,1802,1905,39.0145,146.1112,5273,2770.3, 1.5826,34.6549,2,119.8,2,34.6548,2,119.81,2,157.50,2,38.07,2,0.00,2,2.69,2, -999,9, -999,9,-999.0,9,-999.0,9,-999.0,9,-999,-999,9,-999,9, 1.3857,2,27.7414,2, 1.5827,2
49UP20140609_1,   P10, 9,1,11,996,2,20140615,1802,1901,39.0145,146.1112,5273,2973.9, 1.5469,34.6615,2,126.5,2,34.6615,2,126.02,2,156.08,2,37.56,2,0.00,2,2.65,2, -999,9, -999,9,-999.0,9,-999.0,9,-999.0,9,-999,-999,9,-999,9, 1.3317,2,27.7506,2, 1.5468,2
49UP20140609_1,   P10, 9,1,10,107,2,20140615,1802,1856,39.0145,146.1112,5273,3217.4, 1.5117,34.6682,2,133.5,2,34.6680,6,133.56,2,154.47,2,37.09,2,0.00,2,2.61,2, -999,9, -999,9,-999.0,9,-999.0,9,-999.0,9,-999,-999,9,-999,9, 1.2737,2,27.7601,2, 1.5116,2
49UP20140609_1,   P10, 9,1, 9,108,3,20140615,1802,1850,39.0145,146.1112,5273,3474.2, 1.4792,34.6745,2,140.3,2,34.6730,2,139.71,2,153.23,2,36.62,2,0.00,2,2.58,2, -999,9, -999,9,-999.0,9,-999.0,9,-999.0,9,-999,-999,9,-999,9, 1.2163,2,27.7691,2, 1.4792,2
49UP20140609_1,   P10, 9,1, 8,81,2,20140615,1802,1843,39.0145,146.1112,5273,3731.5, 1.4579,34.6795,2,146.4,2,34.6791,2,146.25,2,151.52,2,36.30,2,0.00,2,2.54,2, -999,9, -999,9,-999.0,9,-999.0,9,-999.0,9,-999,-999,9,-999,9, 1.1689,2,27.7764,2, 1.4578,2
49UP20140609_1,   P10, 9,1, 7,106,3,20140615,1802,1837,39.0145,146.1112,5273,3986.8, 1.4511,34.6830,2,150.8,2,34.6828,2,150.51,2,150.67,2,36.08,2,0.00,2,2.53,2, -999,9, -999,9,-999.0,9,-999.0,9,-999.0,9,-999,-999,9,-999,9, 1.1351,2,27.7815,2, 1.4510,2
49UP20140609_1,   P10, 9,1, 6,113,2,20140615,1802,1831,39.0145,146.1112,5273,4245.3, 1.4529,34.6858,2,154.3,2,34.6860,2,154.08,2,149.80,2,35.74,2,0.00,2,2.50,2, -999,9, -999,9,-999.0,9,-999.0,9,-999.0,9,-999,-999,9,-999,9, 1.1083,2,27.7856,2, 1.4530,2
49UP20140609_1,   P10, 9,1, 5,94,2,20140615,1802,1825,39.0145,146.1112,5273,4503.7, 1.4649,34.6876,2,156.9,2,34.6881,2,156.95,2,148.60,2,35.56,2,0.00,2,2.49,2, -999,9, -999,9,-999.0,9,-999.0,9,-999.0,9,-999,-999,9,-999,9, 1.0906,2,27.7883,2, 1.4648,2
49UP20140609_1,   P10, 9,1, 4,77,2,20140615,1802,1818,39.0145,146.1112,5273,4760.0, 1.4839,34.6889,2,158.4,2,34.6892,6,158.76,2,148.02,2,35.47,2,0.00,2,2.48,2, -999,9, -999,9,-999.0,9,-999.0,9,-999.0,9,-999,-999,9,-999,9, 1.0790,2,27.7901,2, 1.4839,2
49UP20140609_1,   P10, 9,1, 3,104,2,20140615,1802,1812,39.0145,146.1112,5273,5016.0, 1.5083,34.6897,2,159.2,2,34.6901,2,159.49,2,148.57,3,35.34,2,0.00,2,2.48,2, -999,9, -999,9,-999.0,9,-999.0,9,-999.0,9,-999,-999,9,-999,9, 1.0719,2,27.7912,2, 1.5082,2
49UP20140609_1,   P10, 9,1, 2,75,2,20140615,1802,1806,39.0145,146.1112,5273,5274.4, 1.5294,34.6908,2,161.3,2,34.6904,2,164.76,4,145.54,2,35.21,2,0.00,2,2.46,2, -999,9, -999,9,-999.0,9,-999.0,9,-999.0,9,-999,-999,9,-999,9, 1.0603,2,27.7929,2, 1.5294,2
49UP20140609_1,   P10, 9,1, 1,997,2,20140615,1802,1802,39.0145,146.1112,5273,5379.3, 1.5388,34.6913,2,161.8,2,34.6902,2,161.87,6,145.04,6,35.10,6,0.00,6,2.46,6, -999,9, -999,9,-999.0,9,-999.0,9,-999.0,9,-999,-999,9,-999,9, 1.0562,2,27.7935,2, 1.5387,2
49UP20140609_1,   P10, 6,1, 0,BUC,2,20140616,1455,1710,40.5382,145.0570,5899,   0.0,13.0253,32.6175,2,288.5,2,32.5820,2,286.88,2,  0.74,2, 0.00,2,0.00,2,0.18,2, -999,9, -999,9,1974.0,2,2219.6,2,8.0000,2,25,0.46,2,0.09,2,13.0250,2,24.5428,2,   -999,9
49UP20140609_1,   P10, 6,1,36,109,2,20140616,1455,1727,40.5382,145.0570,5899,  11.0,12.4313,32.5971,2,303.5,2,   -999,9,332.11,2,  0.72,2, 0.00,2,0.00,2,0.21,2,4.280,3,2.305,3,1975.1,2,2222.4,2,7.9995,2,25,0.49,2,0.18,2,12.4299,2,24.6423,2,12.4402,2
49UP20140609_1,   P10, 6,1,35,112,2,20140616,1455,1723,40.5382,145.0570,5899,  51.2, 6.5627,33.5269,2,280.1,2,   -999,9,282.65,2, 14.21,2,11.55,2,0.25,2,0.94,2,4.374,2,2.383,2,2091.9,2,2247.7,2,7.7903,2,25,0.61,2,0.37,2, 6.5582,2,26.3173,2, 6.5719,2
49UP20140609_1,   P10, 6,1,34,83,2,20140616,1455,1721,40.5382,145.0570,5899, 101.1, 3.8641,33.3452,2,285.4,2,33.3528,2,286.45,2, 33.83,2,20.08,2,0.03,2,1.58,2,4.760,2,2.570,2,2136.3,2,2247.7,2,7.6671,2,25,0.06,2,0.13,2, 3.8574,2,26.4841,2, 3.8571,2
49UP20140609_1,   P10, 6,1,33,517,3,20140616,1455,1719,40.5382,145.0570,5899, 155.4, 3.3886,33.4771,2,244.4,2,   -999,9,246.30,6, 44.76,6,23.46,6,0.01,6,1.81,6, -999,9, -999,9,2170.7,2,2257.5,2,7.5965,2,25,0.04,2,0.20,2, 3.3789,2,26.6351,2, 3.3989,2
49UP20140609_1,   P10, 6,1,32,105,2,20140616,1455,1717,40.5382,145.0570,5899, 203.2, 3.2678,33.5930,2,194.4,2,33.5862,2,195.02,2, 60.54,2,29.28,2,0.02,2,2.21,2,3.858,6,2.088,6,2215.4,2,2269.6,2,7.5050,2,25,0.03,2,0.11,2, 3.2552,2,26.7389,2, 3.2636,2
49UP20140609_1,   P10, 6,1,31,515,2,20140616,1455,1715,40.5382,145.0570,5899, 253.8, 2.6134,33.6150,2,156.1,2,   -999,9,155.00,2, 76.32,2,34.35,2,0.01,2,2.57,2, -999,9, -999,9,2258.4,2,2280.1,2,7.4098,2,25,-999,9,-999,9, 2.5988,2,26.8142,2, 2.6120,2
49UP20140609_1,   P10, 6,1,30,97,2,20140616,1455,1713,40.5382,145.0570,5899, 307.5, 3.0610,33.7492,2,124.4,2,   -999,9,125.04,2, 82.83,2,36.22,2,0.01,2,2.66,2,3.001,2,1.594,2,2281.5,2,2289.3,2,7.3802,6,25,-999,9,-999,9, 3.0421,2,26.8828,2, 3.0608,2
49UP20140609_1,   P10, 6,1,29,102,3,20140616,1455,1710,40.5382,145.0570,5899, 405.3, 3.1391,33.9073,2, 70.7,2,33.9058,2, 72.46,2,101.45,2,40.61,2,0.01,2,2.93,2,2.130,6,1.088,6,2318.3,2,2309.2,2,7.3122,2,25,-999,9,-999,9, 3.1134,2,27.0025,2, 3.1375,2
49UP20140609_1,   P10, 6,1,28,91,3,20140616,1455,1707,40.5382,145.0570,5899, 505.3, 3.1586,34.0646,2, 42.8,2,   -999,9, 45.67,2,117.32,2,42.40,2,0.00,2,3.05,2,1.342,2,0.698,2,2341.6,6,2329.3,6,7.2894,2,25,-999,9,-999,9, 3.1260,2,27.1269,2, 3.1581,2
49UP20140609_1,   P10, 6,1,27,998,2,20140616,1455,1705,40.5382,145.0570,5899, 606.6, 3.0731,34.1751,2, 33.8,2,34.1754,2, 33.32,2,128.61,2,42.89,2,0.00,2,3.08,2,0.926,2,0.465,2,2364.3,2,2345.6,2,7.2955,2,25,-999,9,-999,9, 3.0338,2,27.2235,2, 3.0730,2
49UP20140609_1,   P10, 6,1,26,84,2,20140616,1455,1702,40.5382,145.0570,5899, 706.8, 3.2836,34.3075,2, 38.3,2,   -999,9, 52.09,2,131.03,2,42.13,2,0.00,2,3.02,2,0.466,2,0.249,2,2356.5,2,2360.2,2,7.3404,2,25,-999,9,-999,9, 3.2359,2,27.3105,2, 3.2903,2
49UP20140609_1,   P10, 6,1,25,98,2,20140616,1455,1659,40.5382,145.0570,5899, 808.8, 2.9004,34.3394,2, 32.3,2,34.3386,2, 31.53,2,142.00,2,42.93,2,0.00,2,3.08,2,0.357,6,0.195,6,2378.2,2,2369.9,2,7.3243,2,25,-999,9,-999,9, 2.8475,2,27.3715,2, 2.9015,2
49UP20140609_1,   P10, 6,1,24,110,3,20140616,1455,1656,40.5382,145.0570,5899, 910.3, 2.8047,34.3798,2, 34.9,2,   -999,9, 36.10,2,145.18,2,42.68,2,0.00,2,3.06,2,0.266,2,0.146,2,2374.5,2,2377.9,2,7.3373,2,25,-999,9,-999,9, 2.7452,2,27.4128,2, 2.8044,2
49UP20140609_1,   P10, 6,1,23,96,2,20140616,1455,1653,40.5382,145.0570,5899,1011.5, 2.6407,34.4094,2, 36.5,2,34.4116,2, 36.07,2,150.05,2,42.70,2,0.00,2,3.06,2,0.208,2,0.118,2,2379.9,2,2381.5,2,7.3468,2,25,-999,9,-999,9, 2.5750,2,27.4513,2, 2.6411,2
49UP20140609_1,   P10, 6,1,22,111,3,20140616,1455,1649,40.5382,145.0570,5899,1214.5, 2.5003,34.4845,2, 43.9,2,34.4842,6, 43.56,2,153.38,2,42.45,2,0.00,2,3.03,2,0.058,2,0.038,2,2382.2,2,2393.4,2,7.3707,2,25,-999,9,-999,9, 2.4206,2,27.5244,2, 2.5000,2
49UP20140609_1,   P10, 6,1,21,78,2,20140616,1455,1644,40.5382,145.0570,5899,1416.6, 2.2819,34.5246,2, 50.3,2,34.5245,2, 49.95,2,159.00,2,42.26,2,0.00,2,3.00,2,0.017,4,0.022,2,2379.0,2,2401.7,2,7.3888,6,25,-999,9,-999,9, 2.1890,2,27.5757,2, 2.2817,2
49UP20140609_1,   P10, 6,1,20,93,2,20140616,1455,1639,40.5382,145.0570,5899,1619.3, 2.1161,34.5607,2, 61.2,2,34.5587,2, 61.22,2,160.53,2,41.70,2,0.00,2,2.96,2,0.007,4,0.009,2,2377.8,6,2406.2,6,7.4114,2,25,-999,9,-999,9, 2.0092,2,27.6190,2, 2.1159,2
49UP20140609_1,   P10, 6,1,19,92,2,20140616,1455,1634,40.5382,145.0570,5899,1823.5, 1.9883,34.5855,2, 72.3,2,34.5848,2, 72.29,6,161.34,6,41.01,6,0.00,6,2.90,6,0.000,4,0.003,2,2372.3,2,2411.1,2,7.4309,2,25,-999,9,-999,9, 1.8667,2,27.6500,2, 1.9881,2
49UP20140609_1,   P10, 6,1,18,101,2,20140616,1455,1629,40.5382,145.0570,5899,2026.9, 1.8636,34.6079,2, 85.2,2,34.6062,2, 85.39,2,160.78,2,40.20,2,0.00,2,2.84,2,0.000,4,0.000,2,2366.8,2,2412.0,2,7.4594,2,25,-999,9,-999,9, 1.7271,2,27.6787,2, 1.8635,2
49UP20140609_1,   P10, 6,1,17,90,2,20140616,1455,1624,40.5382,145.0570,5899,2229.8, 1.7781,34.6231,2, 95.2,2,34.6245,2, 97.42,3,160.21,2,39.64,2,0.00,2,2.79,2,0.000,2,0.002,2,2358.2,2,2414.7,2,7.4782,2,25,-999,9,-999,9, 1.6258,2,27.6984,2, 1.7779,2
49UP20140609_1,   P10, 6,1,16,89,3,20140616,1455,1619,40.5382,145.0570,5899,2433.9, 1.6935,34.6374,2,105.9,2,34.6348,2,106.65,2,158.98,2,38.98,2,0.00,2,2.74,2,0.000,2,0.000,2,2351.9,2,2414.7,2,7.4980,2,25,-999,9,-999,9, 1.5249,2,27.7174,2, 1.6935,2
49UP20140609_1,   P10, 6,1,15,88,3,20140616,1455,1614,40.5382,145.0570,5899,2637.4, 1.6358,34.6473,2,114.0,2,34.6449,2,118.18,4,157.90,2,38.45,2,0.00,2,2.70,2, -999,9, -999,9,2346.2,2,2416.3,2,7.5141,2,25,-999,9,-999,9, 1.4500,2,27.7307,2, 1.6357,2
49UP20140609_1,   P10, 6,1,14,999,2,20140616,1455,1610,40.5382,145.0570,5899,2841.6, 1.5864,34.6559,2,121.9,2,34.6561,2,122.60,2,156.36,2,37.91,2,0.00,2,2.66,2, -999,9, -999,9,2344.8,2,2415.3,2,7.5298,2,25,-999,9,-999,9, 1.3828,2,27.7425,2, 1.5864,2
49UP20140609_1,   P10, 6,1,13,667,3,20140616,1455,1601,40.5382,145.0570,5899,3046.6, 1.5591,34.6613,2,127.0,2,34.6609,2,127.31,6,155.72,6,37.68,6,0.00,6,2.64,6,0.001,2,0.001,2,2343.1,2,2415.0,2,7.5362,2,25,-999,9,-999,9, 1.3366,2,27.7501,2, 1.5590,2
49UP20140609_1,   P10, 6,1,12,74,2,20140616,1455,1556,40.5382,145.0570,5899,3302.4, 1.5251,34.6682,2,134.1,2,34.6680,2,134.20,2,154.10,2,37.16,2,0.00,2,2.60,2, -999,9, -999,9,2334.7,2,2417.0,2,7.5479,6,25,-999,9,-999,9, 1.2784,2,27.7597,2, 1.5251,2
49UP20140609_1,   P10, 6,1,11,996,2,20140616,1455,1550,40.5382,145.0570,5899,3558.4, 1.5047,34.6731,2,139.6,2,34.6733,2,139.35,2,152.78,2,36.79,2,0.00,2,2.58,2,0.000,4,0.000,4,2332.8,6,2418.2,6,7.5577,2,25,-999,9,-999,9, 1.2325,2,27.7669,2, 1.5047,2
49UP20140609_1,   P10, 6,1,10,107,2,20140616,1455,1544,40.5382,145.0570,5899,3812.4, 1.4959,34.6769,2,143.8,2,34.6768,2,143.75,2,151.83,2,36.47,2,0.00,2,2.55,2, -999,9, -999,9,2331.2,2,2418.6,2,7.5629,2,25,-999,9,-999,9, 1.1974,2,27.7724,2, 1.4958,2
49UP20140609_1,   P10, 6,1, 9,108,2,20140616,1455,1538,40.5382,145.0570,5899,4070.0, 1.4815,34.6810,2,148.6,2,34.6799,2,148.68,2,151.17,2,36.23,2,0.00,2,2.52,2, -999,9, -999,9,2328.8,2,2414.2,2,7.5703,2,25,-999,9,-999,9, 1.1555,2,27.7785,2, 1.4815,2
49UP20140609_1,   P10, 6,1, 8,81,2,20140616,1455,1532,40.5382,145.0570,5899,4327.1, 1.4824,34.6839,2,152.6,2,34.6825,2,152.65,2,149.43,2,35.92,2,0.00,2,2.50,2,0.000,2,0.000,2,2323.7,2,2414.1,2,7.5791,2,25,-999,9,-999,9, 1.1277,2,27.7828,2, 1.4823,2
49UP20140609_1,   P10, 6,1, 7,106,3,20140616,1455,1527,40.5382,145.0570,5899,4585.0, 1.4926,34.6860,2,155.1,2,34.6850,2,154.75,6,148.87,6,35.78,6,0.00,6,2.49,6, -999,9, -999,9,2320.8,2,2413.5,2,7.5826,2,25,-999,9,-999,9, 1.1080,2,27.7858,2, 1.4926,2
49UP20140609_1,   P10, 6,1, 6,113,3,20140616,1455,1521,40.5382,145.0570,5899,4842.4, 1.5084,34.6875,2,157.1,2,34.6872,6,156.95,2,148.49,2,35.59,2,0.00,2,2.49,2,0.000,4,0.001,2,2320.6,2,2411.6,2,7.5860,2,25,-999,9,-999,9, 1.0929,2,27.7880,2, 1.5084,2
49UP20140609_1,   P10, 6,1, 5,94,2,20140616,1455,1515,40.5382,145.0570,5899,5100.1, 1.5275,34.6889,2,159.1,2,34.6879,2,158.98,2,147.06,2,35.59,2,0.00,2,2.47,2, -999,9, -999,9,2321.4,2,2413.6,2,7.5893,2,25,-999,9,-999,9, 1.0801,2,27.7900,2, 1.5277,2
49UP20140609_1,   P10, 6,1, 4,77,2,20140616,1455,1509,40.5382,145.0570,5899,5358.1, 1.5491,34.6900,2,160.9,2,34.6892,2,160.76,2,145.78,2,35.34,2,0.00,2,2.46,2, -999,9, -999,9,2313.7,2,2413.1,2,7.5890,2,25,-999,9,-999,9, 1.0688,2,27.7916,2, 1.5491,2
49UP20140609_1,   P10, 6,1, 3,104,2,20140616,1455,1504,40.5382,145.0570,5899,5617.0, 1.5730,34.6910,2,162.6,2,34.6890,2,162.59,2,144.14,2,35.19,2,0.00,2,2.45,2, -999,9, -999,9,2316.3,2,2411.5,2,7.5916,2,25,-999,9,-999,9, 1.0587,2,27.7931,2, 1.5730,2
49UP20140609_1,   P10, 6,1, 2,75,2,20140616,1455,1458,40.5382,145.0570,5899,5875.0, 1.6034,34.6914,2,163.1,2,   -999,5,163.16,2,143.60,2,35.04,2,0.01,2,2.45,2,0.001,2,0.002,4,2310.9,2,2410.6,2,7.5944,2,25,-999,9,-999,9, 1.0541,2,27.7937,2, 1.6034,2
49UP20140609_1,   P10, 6,1, 1,997,2,20140616,1455,1455,40.5382,145.0570,5899,5979.2, 1.6171,34.6915,2,163.1,2,34.6923,2,163.40,2,143.70,2,35.06,2,0.01,2,2.45,2,0.000,2,0.000,2,2316.7,2,2411.3,2,7.5945,2,25,-999,9,-999,9, 1.0535,2,27.7939,2, 1.6170,2