BOTTLE,20230725CCHSIOADS
EXPOCODE,SECT_ID,STNNBR,CASTNO,SAMPNO,BTLNBR,BTLNBR_FLAG_W,DATE,TIME,BTL_TIME,LATITUDE,LONGITUDE,DEPTH,CTDPRS,CTDTMP,CTDSAL,CTDSAL_FLAG_W,CTDOXY,CTDOXY_FLAG_W,SALNTY,SALNTY_FLAG_W,OXYGEN,OXYGEN_FLAG_W,SILCAT,SILCAT_FLAG_W,NO2+NO3,NO2+NO3_FLAG_W,NITRIT,NITRIT_FLAG_W,PHSPHT,PHSPHT_FLAG_W,CFC-11,CFC-11_FLAG_W,CFC-12,CFC-12_FLAG_W,TCARBN,TCARBN_FLAG_W,ALKALI,ALKALI_FLAG_W,PH_TOT,PH_TOT_FLAG_W,PH_TMP,CHLORA,CHLORA_FLAG_W,PPHYTN,PPHYTN_FLAG_W,THETA,THETA_FLAG_W,SIG0,SIG0_FLAG_W,REFTMP,REFTMP_FLAG_W
,,,,,,,,,,,,METERS,DBAR,ITS-90,PSS-78,,UMOL/KG,,PSS-78,,UMOL/KG,,UMOL/KG,,UMOL/KG,,UMOL/KG,,UMOL/KG,,PMOL/KG,,PMOL/KG,,UMOL/KG,,UMOL/KG,,,,DEG C,UG/KG,,UG/KG,,ITS-90,,KG/M^3,,ITS-90,
49UP20140609_3,   P10,62,1, 0,BUC,2,20140806,0557, 735, 9.5103,149.3320,4844,   0.0,30.0421,33.9087,2,195.8,2,33.9035,2,195.24,2,  0.89,2, 0.00,2,0.00,2,0.08,2, -999,9, -999,9,1899.5,2,2225.5,2,8.1278,2,25,0.03,2,0.01,2,30.0414,2,20.8941,2,   -999,9
49UP20140609_3,   P10,62,1,36,109,2,20140806,0557, 802, 9.5103,149.3320,4844,  10.6,29.5174,33.9015,2,196.8,2,33.9004,2,196.43,2,  0.89,2, 0.00,2,0.00,2,0.07,2,1.446,2,0.881,2,1898.3,2,2227.6,2,8.1279,2,25,0.04,2,0.01,2,29.5148,2,21.0672,2,29.5098,2
49UP20140609_3,   P10,62,1,35,112,2,20140806,0557, 758, 9.5103,149.3320,4844,  50.0,28.4701,34.6762,2,205.2,2,34.6624,4,204.91,2,  0.93,2, 0.00,2,0.00,2,0.11,2,1.605,2,0.956,2,1944.6,2,2277.7,2,8.1147,2,25,0.05,2,0.02,2,28.4582,2,22.0008,2,28.4683,2
49UP20140609_3,   P10,62,1,34,83,2,20140806,0557, 756, 9.5103,149.3320,4844, 101.1,24.1557,35.1369,2,196.0,2,35.1462,2,196.01,2,  1.35,2, 0.00,2,0.00,2,0.18,2,1.814,6,1.120,6,2026.6,2,2315.2,2,8.0304,2,25,0.14,2,0.21,2,24.1343,2,23.7051,2,24.1436,2
49UP20140609_3,   P10,62,1,33,107,2,20140806,0557, 755, 9.5103,149.3320,4844, 150.6,18.2807,34.7863,2,152.0,2,34.7704,4,152.23,2,  7.17,2, 8.81,2,0.03,2,0.74,2,2.180,2,1.301,2,2096.1,2,2293.0,2,7.8513,2,25,0.07,2,0.26,2,18.2546,2,25.0454,2,18.2696,2
49UP20140609_3,   P10,62,1,32,105,2,20140806,0557, 753, 9.5103,149.3320,4844, 202.0,12.9508,34.4911,2,105.2,2,34.4923,2,104.94,2, 19.48,2,20.70,2,0.00,2,1.56,2,1.931,2,1.077,2,2162.7,2,2279.8,2,7.6665,2,25,0.01,2,0.04,2,12.9232,2,26.0140,2,12.9502,2
49UP20140609_3,   P10,62,1,31,515,2,20140806,0557, 751, 9.5103,149.3320,4844, 252.2,10.6254,34.4352,2, 78.8,2,34.4364,2, 78.05,2, 29.39,2,27.33,2,0.00,2,2.03,2,1.443,2,0.766,2,2206.0,2,2286.7,2,7.5661,2,25,-999,9,-999,9,10.5951,2,26.4078,2,10.6267,2
49UP20140609_3,   P10,62,1,30,97,2,20140806,0557, 749, 9.5103,149.3320,4844, 281.1, 9.8032,34.4663,2, 67.2,2,34.4674,2, 66.93,6, 34.40,6,30.11,6,0.00,6,2.20,6,1.060,2,0.559,2,2231.4,2,2292.4,2,7.5332,2,25,-999,9,-999,9, 9.7710,2,26.5739,2, 9.8039,2
49UP20140609_3,   P10,62,1,29,102,3,20140806,0557, 747, 9.5103,149.3320,4844, 322.0, 8.9440,34.4738,2, 62.7,2,34.4742,2, 62.37,2, 39.90,2,32.16,2,0.00,2,2.34,2,0.776,2,0.400,2,2238.5,2,2298.5,2,7.5080,2,25,-999,9,-999,9, 8.9091,2,26.7205,2, 8.9365,2
49UP20140609_3,   P10,62,1,28,108,2,20140806,0557, 745, 9.5103,149.3320,4844, 373.0, 8.3445,34.5235,2, 70.3,2,34.5220,2, 70.56,2, 43.21,2,33.23,2,0.00,2,2.38,2,0.543,6,0.289,6,2246.6,2,2306.1,2,7.5212,2,25,-999,9,-999,9, 8.3056,2,26.8535,2, 8.3435,2
49UP20140609_3,   P10,62,1,27,998,2,20140806,0557, 744, 9.5103,149.3320,4844, 423.1, 7.7509,34.5040,2, 78.9,2,34.5040,6, 79.09,2, 47.16,2,33.49,2,0.00,2,2.39,2,0.507,2,0.265,2,2246.0,2,2310.8,2,7.5196,2,25,-999,9,-999,9, 7.7086,2,26.9273,2, 7.7562,2
49UP20140609_3,   P10,62,1,26,84,2,20140806,0557, 742, 9.5103,149.3320,4844, 474.5, 7.3788,34.5022,2, 84.5,2,34.5023,2, 84.92,2, 49.61,2,33.74,2,0.00,2,2.41,2,0.452,2,0.239,2,2249.4,2,2312.5,2,7.5268,2,25,-999,9,-999,9, 7.3325,2,26.9800,2, 7.3788,2
49UP20140609_3,   P10,62,1,25,98,2,20140806,0557, 739, 9.5103,149.3320,4844, 574.7, 6.7191,34.5104,2, 86.8,2,34.5113,2, 86.25,2, 55.79,2,34.89,2,0.00,2,2.50,2,0.308,2,0.163,2,2256.1,2,2321.4,2,7.5205,2,25,-999,9,-999,9, 6.6654,2,27.0787,2, 6.7186,2
49UP20140609_3,   P10,62,1,24,110,2,20140806,0557, 733, 9.5103,149.3320,4844, 676.1, 6.2624,34.5260,2, 76.8,2,34.5257,2, 76.77,2, 62.85,2,36.64,2,0.00,2,2.63,2,0.153,6,0.085,6,2270.4,2,2328.9,2,7.5004,2,25,-999,9,-999,9, 6.2011,2,27.1523,2, 6.2625,2
49UP20140609_3,   P10,62,1,23,96,2,20140806,0557, 731, 9.5103,149.3320,4844, 777.1, 5.5566,34.5277,2, 79.9,2,34.5279,2, 79.58,2, 73.37,2,37.41,2,0.00,2,2.68,2,0.101,2,0.059,2,2282.8,2,2339.6,2,7.4973,6,25,-999,9,-999,9, 5.4897,2,27.2428,2, 5.5567,2
49UP20140609_3,   P10,62,1,22,111,2,20140806,0557, 728, 9.5103,149.3320,4844, 876.6, 5.0225,34.5349,2, 79.1,2,34.5361,2, 78.92,2, 83.14,2,38.25,2,0.00,2,2.74,2,0.063,2,0.037,2,2298.6,6,2350.6,6,7.4890,2,25,-999,9,-999,9, 4.9500,2,27.3123,2, 5.0237,2
49UP20140609_3,   P10,62,1,21,78,2,20140806,0557, 726, 9.5103,149.3320,4844, 977.9, 4.5647,34.5437,2, 77.8,2,34.5446,2, 77.84,6, 92.35,6,38.95,6,0.00,6,2.79,6,0.037,2,0.022,2,2310.6,2,2359.9,2,7.4818,2,25,-999,9,-999,9, 4.4866,2,27.3713,2, 4.5633,2
49UP20140609_3,   P10,62,1,20,93,2,20140806,0557, 722, 9.5103,149.3320,4844,1138.9, 3.9030,34.5650,2, 86.8,2,34.5656,2, 86.87,2,104.48,2,38.87,2,0.00,2,2.78,2,0.030,2,0.009,2,2316.7,2,2374.4,2,7.4940,2,25,-999,9,-999,9, 3.8164,2,27.4590,2, 3.9024,2
49UP20140609_3,   P10,62,1,19,92,2,20140806,0557, 718, 9.5103,149.3320,4844,1340.0, 3.2420,34.5844,2, 93.0,2,34.5847,2, 93.39,2,118.49,2,39.01,2,0.00,2,2.78,2,0.010,2,0.002,2,2326.5,2,2387.5,2,7.4999,2,25,-999,9,-999,9, 3.1448,2,27.5399,2, 3.2420,2
49UP20140609_3,   P10,62,1,18,101,2,20140806,0557, 713, 9.5103,149.3320,4844,1543.0, 2.8244,34.6022,2, 98.8,2,34.6026,2, 98.91,2,126.57,2,38.92,2,0.00,2,2.76,2,0.011,2,0.000,2,2338.8,2,2397.2,2,7.5098,2,25,-999,9,-999,9, 2.7150,2,27.5932,2, 2.8247,2
49UP20140609_3,   P10,62,1,17,90,2,20140806,0557, 709, 9.5103,149.3320,4844,1748.4, 2.4984,34.6168,2,103.7,2,34.6171,6,103.84,2,133.20,2,38.80,2,0.00,2,2.75,2,0.007,2,0.001,2,2341.2,2,2402.8,2,7.5150,2,25,-999,9,-999,9, 2.3760,2,27.6340,2, 2.4999,2
49UP20140609_3,   P10,62,1,16,89,2,20140806,0557, 705, 9.5103,149.3320,4844,1950.6, 2.2900,34.6288,2,108.0,2,34.6284,2,108.24,2,137.13,2,38.56,2,0.00,2,2.73,2, -999,9, -999,9,2342.2,2,2407.0,2,7.5213,2,25,-999,9,-999,9, 2.1534,2,27.6620,2, 2.2899,2
49UP20140609_3,   P10,62,1,15,88,2,20140806,0557, 700, 9.5103,149.3320,4844,2153.2, 2.1141,34.6394,2,112.3,2,34.6395,2,112.18,6,140.91,6,38.39,6,0.00,6,2.71,6, -999,9, -999,9,2343.0,2,2411.5,2,7.5267,2,25,-999,9,-999,9, 1.9627,2,27.6857,2, 2.1140,2
49UP20140609_3,   P10,62,1,14,999,2,20140806,0557, 656, 9.5103,149.3320,4844,2357.8, 1.9746,34.6479,2,117.0,2,34.6481,2,117.16,2,143.60,2,38.15,2,0.00,2,2.68,2,0.007,2,0.001,2,2344.7,2,2416.1,2,7.5359,2,25,-999,9,-999,9, 1.8076,2,27.7046,2, 1.9746,2
49UP20140609_3,   P10,62,1,13,667,2,20140806,0557, 651, 9.5103,149.3320,4844,2561.1, 1.8335,34.6556,2,123.8,2,34.6557,2,123.62,2,145.38,2,37.75,2,0.00,2,2.65,2, -999,9, -999,9,2345.3,2,2415.7,2,7.5457,6,25,-999,9,-999,9, 1.6508,2,27.7226,2, 1.8335,2
49UP20140609_3,   P10,62,1,12,74,3,20140806,0557, 646, 9.5103,149.3320,4844,2764.9, 1.7371,34.6610,2,129.9,2,34.6615,2,129.75,2,145.76,2,37.35,2,0.00,2,2.61,2,0.007,2,0.000,2,2338.6,6,2415.9,6,7.5531,2,25,-999,9,-999,9, 1.5375,2,27.7354,2, 1.7369,2
49UP20140609_3,   P10,62,1,11,268,2,20140806,0557, 641, 9.5103,149.3320,4844,2969.5, 1.6580,34.6659,2,134.6,2,34.6661,6,134.48,2,146.59,2,37.14,2,0.00,2,2.59,2, -999,9, -999,9,2334.5,2,2416.6,2,7.5566,2,25,-999,9,-999,9, 1.4407,2,27.7464,2, 1.6575,2
49UP20140609_3,   P10,62,1,10,267,2,20140806,0557, 636, 9.5103,149.3320,4844,3213.8, 1.5895,34.6714,2,140.5,2,34.6716,2,140.50,2,145.56,2,36.64,2,0.00,2,2.56,2,0.000,2,0.000,2,2333.2,2,2413.3,2,7.5638,2,25,-999,9,-999,9, 1.3500,2,27.7573,2, 1.5895,2
49UP20140609_3,   P10,62,1, 8,81,2,20140806,0557, 630, 9.5103,149.3320,4844,3468.8, 1.5372,34.6764,2,146.3,2,34.6762,2,146.47,2,144.67,2,36.27,2,0.00,2,2.53,2, -999,9, -999,9,2325.3,2,2414.4,2,7.5747,2,25,-999,9,-999,9, 1.2734,2,27.7667,2, 1.5370,2
49UP20140609_3,   P10,62,1, 7,516,2,20140806,0557, 625, 9.5103,149.3320,4844,3724.3, 1.4932,34.6813,2,152.5,2,34.6814,2,152.47,2,142.57,2,35.80,2,0.00,2,2.50,2,0.005,2,0.004,2,2322.8,2,2412.4,2,7.5814,2,25,-999,9,-999,9, 1.2040,2,27.7755,2, 1.4930,2
49UP20140609_3,   P10,62,1, 6,113,2,20140806,0557, 619, 9.5103,149.3320,4844,3979.5, 1.4662,34.6854,2,158.2,2,34.6847,2,158.48,2,140.34,2,35.46,2,0.00,2,2.47,2, -999,9, -999,9,2322.1,2,2410.5,2,7.5920,6,25,-999,9,-999,9, 1.1505,2,27.7824,2, 1.4665,2
49UP20140609_3,   P10,62,1, 4,77,2,20140806,0557, 613, 9.5103,149.3320,4844,4237.0, 1.4478,34.6887,2,163.2,2,34.6888,2,163.28,2,138.18,2,35.14,2,0.00,2,2.44,2, -999,9, -999,9,2312.4,2,2407.8,2,7.5891,2,25,-999,9,-999,9, 1.1043,2,27.7882,2, 1.4479,2
49UP20140609_3,   P10,62,1, 9,518,2,20140806,0557, 614, 9.5103,149.3320,4844,4237.3, 1.4483,34.6886,2,163.1,2,34.6885,2,162.88,2,138.39,2,35.11,2,0.00,2,2.44,2, -999,9, -999,9,2310.9,2,2406.5,2,7.5895,2,25,-999,9,-999,9, 1.1047,2,27.7881,2, 1.4482,2
49UP20140609_3,   P10,62,1, 5,94,2,20140806,0557, 613, 9.5103,149.3320,4844,4237.7, 1.4479,34.6887,2,163.2,2,34.6885,2,162.98,2,138.04,2,35.09,2,0.00,2,2.44,2, -999,9, -999,9,2318.1,3,2407.4,2,7.5953,2,25,-999,9,-999,9, 1.1043,2,27.7882,2, 1.4480,2
49UP20140609_3,   P10,62,1, 3,104,2,20140806,0557, 607, 9.5103,149.3320,4844,4493.8, 1.4437,34.6913,2,167.2,2,34.6912,2,167.75,6,135.95,6,34.78,6,0.00,6,2.42,6, -999,9, -999,9,2307.6,2,2407.3,2,7.6021,2,25,-999,9,-999,9, 1.0712,2,27.7926,2, 1.4437,2
49UP20140609_3,   P10,62,1, 2,75,2,20140806,0557, 602, 9.5103,149.3320,4844,4751.0, 1.4418,34.6936,2,171.0,2,34.6933,2,171.57,2,134.22,2,34.49,2,0.00,2,2.39,2,0.005,2,0.002,2,2302.9,6,2403.4,6,7.6062,2,25,-999,9,-999,9, 1.0393,2,27.7965,2, 1.4418,2
49UP20140609_3,   P10,62,1, 1,997,2,20140806,0557, 558, 9.5103,149.3320,4844,4918.4, 1.4492,34.6945,2,172.6,2,34.6943,6,172.90,2,133.61,2,34.42,2,0.00,2,2.39,2,0.014,2,0.001,2,2305.0,2,2402.0,2,7.6064,2,25,-999,9,-999,9, 1.0265,2,27.7981,2, 1.4493,2
49UP20140609_3,   P10,63,1, 0,BUC,2,20140806,1256,1430, 8.8517,149.3485,3696,   0.0,29.5424,34.0131,2,196.1,2,   -999,9,195.50,2,  0.95,2, 0.00,2,0.00,2,0.07,2, -999,9, -999,9,-999.0,9,-999.0,9,-999.0,9,-999,-999,9,-999,9,29.5418,2,21.1417,2,   -999,9
49UP20140609_3,   P10,63,1,36,109,2,20140806,1256,1440, 8.8517,149.3485,3696,  11.1,29.4207,34.0148,2,196.2,2,34.0160,2,196.31,2,  0.99,2, 0.00,2,0.00,2,0.06,2, -999,9, -999,9,-999.0,9,-999.0,9,-999.0,9,-999,-999,9,-999,9,29.4180,2,21.1847,2,29.4177,2
49UP20140609_3,   P10,63,1,35,112,2,20140806,1256,1439, 8.8517,149.3485,3696,  25.5,29.2600,34.0720,2,197.2,2,34.0758,2,197.14,2,  0.95,2, 0.00,2,0.00,2,0.07,2, -999,9, -999,9,-999.0,9,-999.0,9,-999.0,9,-999,-999,9,-999,9,29.2538,2,21.2827,2,29.2490,2
49UP20140609_3,   P10,63,1,34,83,2,20140806,1256,1437, 8.8517,149.3485,3696,  50.5,28.0628,34.7233,2,203.0,2,34.7482,4,203.07,2,  1.09,2, 0.00,2,0.00,2,0.11,2, -999,9, -999,9,-999.0,9,-999.0,9,-999.0,9,-999,-999,9,-999,9,28.0509,2,22.1699,2,28.0620,2
49UP20140609_3,   P10,63,1,33,107,2,20140806,1256,1436, 8.8517,149.3485,3696,  76.2,26.3478,34.9810,2,197.4,2,34.9753,2,197.43,6,  1.37,6, 0.04,6,0.00,6,0.15,6, -999,9, -999,9,-999.0,9,-999.0,9,-999.0,9,-999,-999,9,-999,9,26.3307,2,22.9155,2,26.3754,2
49UP20140609_3,   P10,63,1,32,105,2,20140806,1256,1434, 8.8517,149.3485,3696, 100.9,23.6742,35.0252,2,179.1,2,35.0287,2,178.62,2,  2.53,2, 1.61,2,0.15,2,0.30,2, -999,9, -999,9,-999.0,9,-999.0,9,-999.0,9,-999,-999,9,-999,9,23.6532,2,23.7627,2,23.7244,2
49UP20140609_3,   P10,63,1,31,515,2,20140806,1256,1433, 8.8517,149.3485,3696, 124.6,20.5082,34.8951,2,153.0,2,34.8937,2,152.95,2,  5.27,2, 6.66,2,0.10,2,0.59,2, -999,9, -999,9,-999.0,9,-999.0,9,-999.0,9,-999,-999,9,-999,9,20.4847,2,24.5530,2,20.5106,2
49UP20140609_3,   P10,63,1,30,97,2,20140806,1256,1432, 8.8517,149.3485,3696, 151.0,18.1208,34.7588,2,144.2,2,34.7392,4,142.81,2,  8.30,2,10.45,2,0.02,2,0.84,2, -999,9, -999,9,-999.0,9,-999.0,9,-999.0,9,-999,-999,9,-999,9,18.0948,2,25.0639,2,18.1153,2
49UP20140609_3,   P10,63,1,28,108,2,20140806,1256,1431, 8.8517,149.3485,3696, 201.0,13.1262,34.5057,2,106.2,2,34.5060,2,105.79,2, 19.61,2,20.52,2,0.00,2,1.54,2, -999,9, -999,9,-999.0,9,-999.0,9,-999.0,9,-999,-999,9,-999,9,13.0985,2,25.9901,2,13.1193,2
49UP20140609_3,   P10,63,1,29,102,2,20140806,1256,1431, 8.8517,149.3485,3696, 202.5,13.0889,34.5059,2,106.0,2,34.5065,2,105.60,2, 19.46,2,20.52,2,0.01,2,1.53,2, -999,9, -999,9,-999.0,9,-999.0,9,-999.0,9,-999,-999,9,-999,9,13.0610,2,25.9978,2,13.0955,2
49UP20140609_3,   P10,63,1,27,998,2,20140806,1256,1429, 8.8517,149.3485,3696, 251.4,11.1409,34.5035,2, 74.8,2,34.5037,2, 73.96,2, 28.01,2,27.27,2,0.00,2,2.00,2, -999,9, -999,9,-999.0,9,-999.0,9,-999.0,9,-999,-999,9,-999,9,11.1098,2,26.3690,2,11.1399,2
49UP20140609_3,   P10,63,1,26,84,2,20140806,1256,1428, 8.8517,149.3485,3696, 302.3, 9.6389,34.5241,2, 64.0,2,34.5263,2, 64.04,2, 35.27,2,31.21,2,0.00,2,2.25,2, -999,9, -999,9,-999.0,9,-999.0,9,-999.0,9,-999,-999,9,-999,9, 9.6047,2,26.6469,2, 9.6380,2
49UP20140609_3,   P10,63,1,25,98,2,20140806,1256,1426, 8.8517,149.3485,3696, 352.0, 8.6758,34.5513,2, 65.3,2,34.5504,2, 65.27,2, 40.29,2,33.18,2,0.00,2,2.36,2, -999,9, -999,9,-999.0,9,-999.0,9,-999.0,9,-999,-999,9,-999,9, 8.6383,2,26.8240,2, 8.6749,2
49UP20140609_3,   P10,63,1,24,110,2,20140806,1256,1424, 8.8517,149.3485,3696, 403.7, 8.0069,34.5580,2, 66.7,2,34.5574,2, 67.03,2, 43.98,2,34.35,2,0.00,2,2.44,2, -999,9, -999,9,-999.0,9,-999.0,9,-999.0,9,-999,-999,9,-999,9, 7.9657,2,26.9318,2, 8.0067,2
49UP20140609_3,   P10,63,1,23,96,2,20140806,1256,1423, 8.8517,149.3485,3696, 454.5, 7.5698,34.5496,2, 66.7,2,34.5495,2, 66.77,2, 47.73,2,35.23,2,0.00,2,2.51,2, -999,9, -999,9,-999.0,9,-999.0,9,-999.0,9,-999,-999,9,-999,9, 7.5248,2,26.9899,2, 7.5705,2
49UP20140609_3,   P10,63,1,22,111,3,20140806,1256,1421, 8.8517,149.3485,3696, 504.6, 7.0955,34.5385,2, 69.1,2,34.5386,2, 69.29,2, 52.37,2,35.82,2,0.00,2,2.56,2, -999,9, -999,9,-999.0,9,-999.0,9,-999.0,9,-999,-999,9,-999,9, 7.0472,2,27.0487,2, 7.0954,2
49UP20140609_3,   P10,63,1,21,78,2,20140806,1256,1418, 8.8517,149.3485,3696, 603.9, 6.5448,34.5277,2, 76.8,2,34.5275,2, 76.57,2, 58.64,2,36.10,2,0.00,2,2.58,2, -999,9, -999,9,-999.0,9,-999.0,9,-999.0,9,-999,-999,9,-999,9, 6.4891,2,27.1159,2, 6.5439,2
49UP20140609_3,   P10,63,1,20,93,2,20140806,1256,1416, 8.8517,149.3485,3696, 705.1, 6.0558,34.5291,2, 77.3,2,34.5285,2, 77.32,2, 65.65,2,36.87,2,0.00,2,2.63,2, -999,9, -999,9,-999.0,9,-999.0,9,-999.0,9,-999,-999,9,-999,9, 5.9928,2,27.1814,2, 6.0555,2
49UP20140609_3,   P10,63,1,19,92,2,20140806,1256,1413, 8.8517,149.3485,3696, 806.5, 5.4725,34.5350,2, 77.8,2,34.5356,6, 78.20,2, 74.65,2,37.72,2,0.00,2,2.70,2, -999,9, -999,9,-999.0,9,-999.0,9,-999.0,9,-999,-999,9,-999,9, 5.4035,2,27.2590,2, 5.4722,2
49UP20140609_3,   P10,63,1,18,101,2,20140806,1256,1410, 8.8517,149.3485,3696, 907.4, 4.9025,34.5378,2, 81.3,2,34.5369,2, 81.23,6, 85.03,3,38.19,6,0.00,6,2.73,6, -999,9, -999,9,-999.0,9,-999.0,9,-999.0,9,-999,-999,9,-999,9, 4.8282,2,27.3285,2, 4.9022,2
49UP20140609_3,   P10,63,1,17,90,2,20140806,1256,1408, 8.8517,149.3485,3696,1008.9, 4.5901,34.5470,2, 82.0,2,34.5472,2, 82.29,2, 91.05,3,38.50,2,0.00,2,2.75,2, -999,9, -999,9,-999.0,9,-999.0,9,-999.0,9,-999,-999,9,-999,9, 4.5091,2,27.3715,2, 4.5905,2
49UP20140609_3,   P10,63,1,16,89,3,20140806,1256,1403, 8.8517,149.3485,3696,1211.5, 3.6158,34.5743,2, 89.8,2,34.5748,2, 90.01,2,109.62,2,38.83,2,0.00,2,2.77,2, -999,9, -999,9,-999.0,9,-999.0,9,-999.0,9,-999,-999,9,-999,9, 3.5256,2,27.4955,2, 3.6156,2
49UP20140609_3,   P10,63,1,15,88,2,20140806,1256,1353, 8.8517,149.3485,3696,1413.9, 3.1082,34.5892,2, 94.9,2,34.5888,2, 94.93,2,120.21,2,38.97,2,0.00,2,2.77,2, -999,9, -999,9,-999.0,9,-999.0,9,-999.0,9,-999,-999,9,-999,9, 3.0063,2,27.5566,2, 3.1082,2
49UP20140609_3,   P10,63,1,14,999,2,20140806,1256,1348, 8.8517,149.3485,3696,1617.2, 2.6138,34.6115,2,103.3,2,34.6115,6,103.46,2,130.04,2,38.76,2,0.00,2,2.74,2, -999,9, -999,9,-999.0,9,-999.0,9,-999.0,9,-999,-999,9,-999,9, 2.5008,2,27.6192,2, 2.6138,2
49UP20140609_3,   P10,63,1,13,667,2,20140806,1256,1343, 8.8517,149.3485,3696,1819.0, 2.3925,34.6230,2,106.2,2,34.6226,2,106.17,2,135.02,2,38.74,2,0.00,2,2.74,2, -999,9, -999,9,-999.0,9,-999.0,9,-999.0,9,-999,-999,9,-999,9, 2.2656,2,27.6482,2, 2.3927,2
49UP20140609_3,   P10,63,1,11,268,2,20140806,1256,1338, 8.8517,149.3485,3696,2022.1, 2.1671,34.6352,2,111.3,2,34.6349,2,111.52,2,139.44,2,38.41,2,0.00,2,2.71,2, -999,9, -999,9,-999.0,9,-999.0,9,-999.0,9,-999,-999,9,-999,9, 2.0262,2,27.6773,2, 2.1671,2
49UP20140609_3,   P10,63,1,12,74,2,20140806,1256,1338, 8.8517,149.3485,3696,2023.0, 2.1664,34.6353,2,111.3,2,34.6349,2,111.13,2,139.28,2,38.42,2,0.00,2,2.71,2, -999,9, -999,9,-999.0,9,-999.0,9,-999.0,9,-999,-999,9,-999,9, 2.0254,2,27.6775,2, 2.1662,2
49UP20140609_3,   P10,63,1,10,267,2,20140806,1256,1333, 8.8517,149.3485,3696,2225.7, 1.9896,34.6454,2,117.3,2,34.6454,2,117.08,6,142.25,6,38.16,6,0.00,6,2.69,6, -999,9, -999,9,-999.0,9,-999.0,9,-999.0,9,-999,-999,9,-999,9, 1.8339,2,27.7006,2, 1.9895,2
49UP20140609_3,   P10,63,1, 8,81,2,20140806,1256,1328, 8.8517,149.3485,3696,2427.7, 1.8747,34.6526,2,122.1,2,34.6525,2,122.33,2,144.17,2,37.91,2,0.00,2,2.65,2, -999,9, -999,9,-999.0,9,-999.0,9,-999.0,9,-999,-999,9,-999,9, 1.7033,2,27.7163,2, 1.8746,2
49UP20140609_3,   P10,63,1, 7,516,2,20140806,1256,1323, 8.8517,149.3485,3696,2631.4, 1.7446,34.6598,2,128.6,2,34.6588,6,128.62,2,145.29,2,37.45,2,0.00,2,2.62,2, -999,9, -999,9,-999.0,9,-999.0,9,-999.0,9,-999,-999,9,-999,9, 1.5572,2,27.7330,2, 1.7444,2
49UP20140609_3,   P10,63,1, 6,113,2,20140806,1256,1318, 8.8517,149.3485,3696,2836.2, 1.6647,34.6652,2,134.0,2,34.6638,2,134.02,2,145.92,2,37.13,2,0.00,2,2.59,2, -999,9, -999,9,-999.0,9,-999.0,9,-999.0,9,-999,-999,9,-999,9, 1.4599,2,27.7444,2, 1.6649,2
49UP20140609_3,   P10,63,1, 3,104,2,20140806,1256,1313, 8.8517,149.3485,3696,3039.5, 1.6041,34.6694,2,138.5,2,34.6693,2,138.56,2,145.45,2,36.86,2,0.00,2,2.56,2, -999,9, -999,9,-999.0,9,-999.0,9,-999.0,9,-999,-999,9,-999,9, 1.3813,2,27.7534,2, 1.6042,2
49UP20140609_3,   P10,63,1, 2,75,2,20140806,1256,1308, 8.8517,149.3485,3696,3293.2, 1.5624,34.6735,2,142.9,2,34.6735,2,143.18,2,144.91,2,36.56,2,0.00,2,2.54,2, -999,9, -999,9,-999.0,9,-999.0,9,-999.0,9,-999,-999,9,-999,9, 1.3157,2,27.7614,2, 1.5624,2
49UP20140609_3,   P10,63,1, 1,997,2,20140806,1256,1302, 8.8517,149.3485,3696,3548.5, 1.5171,34.6783,2,148.7,2,34.6788,6,148.90,2,143.65,2,36.15,2,0.00,2,2.51,2, -999,9, -999,9,-999.0,9,-999.0,9,-999.0,9,-999,-999,9,-999,9, 1.2455,2,27.7702,2, 1.5171,2
49UP20140609_3,   P10,63,1, 9,518,2,20140806,1256,1257, 8.8517,149.3485,3696,3803.3, 1.5201,34.6800,2,151.1,2,34.6794,2,151.13,2,142.52,2,35.98,2,0.00,2,2.50,2, -999,9, -999,9,-999.0,9,-999.0,9,-999.0,9,-999,-999,9,-999,9, 1.2219,2,27.7732,2, 1.5201,2
49UP20140609_3,   P10,63,1, 4,77,2,20140806,1256,1257, 8.8517,149.3485,3696,3804.2, 1.5198,34.6800,2,151.1,2,34.6803,2,151.28,2,142.52,2,36.00,2,0.00,2,2.49,2, -999,9, -999,9,-999.0,9,-999.0,9,-999.0,9,-999,-999,9,-999,9, 1.2214,2,27.7732,2, 1.5197,2
49UP20140609_3,   P10,63,1, 5,94,2,20140806,1256,1257, 8.8517,149.3485,3696,3804.5, 1.5201,34.6799,2,151.1,2,34.6796,2,150.93,2,142.76,2,36.09,2,0.00,2,2.49,2, -999,9, -999,9,-999.0,9,-999.0,9,-999.0,9,-999,-999,9,-999,9, 1.2217,2,27.7731,2, 1.5200,2