BOTTLE,20230725CCHSIOADS
EXPOCODE,SECT_ID,STNNBR,CASTNO,SAMPNO,BTLNBR,BTLNBR_FLAG_W,DATE,TIME,BTL_TIME,LATITUDE,LONGITUDE,DEPTH,CTDPRS,CTDTMP,CTDSAL,CTDSAL_FLAG_W,CTDOXY,CTDOXY_FLAG_W,SALNTY,SALNTY_FLAG_W,OXYGEN,OXYGEN_FLAG_W,SILCAT,SILCAT_FLAG_W,NO2+NO3,NO2+NO3_FLAG_W,NITRIT,NITRIT_FLAG_W,PHSPHT,PHSPHT_FLAG_W,CFC-11,CFC-11_FLAG_W,CFC-12,CFC-12_FLAG_W,TCARBN,TCARBN_FLAG_W,ALKALI,ALKALI_FLAG_W,PH_TOT,PH_TOT_FLAG_W,PH_TMP,CHLORA,CHLORA_FLAG_W,PPHYTN,PPHYTN_FLAG_W,THETA,THETA_FLAG_W,SIG0,SIG0_FLAG_W,REFTMP,REFTMP_FLAG_W
,,,,,,,,,,,,METERS,DBAR,ITS-90,PSS-78,,UMOL/KG,,PSS-78,,UMOL/KG,,UMOL/KG,,UMOL/KG,,UMOL/KG,,UMOL/KG,,PMOL/KG,,PMOL/KG,,UMOL/KG,,UMOL/KG,,,,DEG C,UG/KG,,UG/KG,,ITS-90,,KG/M^3,,ITS-90,
49UP20140609_4,   P10,103,1, 0,BUC,2,20140830,0620, 720,-1.0042,141.9983,3037,   0.0,29.9672,34.0539,2,195.8,2,34.0185,2,195.35,2,  1.06,2, 0.00,2,0.00,2,0.05,2, -999,9, -999,9,1908.8,2,2237.3,2,8.1227,2,25,0.11,2,0.04,2,29.9665,2,21.0284,2,   -999,9
49UP20140609_4,   P10,103,1,36,109,2,20140830,0620, 746,-1.0042,141.9983,3037,  11.4,29.8649,34.1617,2,196.3,2,34.1495,4,196.34,2,  1.06,2, 0.00,2,0.00,2,0.05,2, -999,9, -999,9,1915.6,2,2246.7,2,8.1228,2,25,0.10,2,0.04,2,29.8621,2,21.1448,2,29.8610,2
49UP20140609_4,   P10,103,1,35,112,2,20140830,0620, 744,-1.0042,141.9983,3037,  26.4,29.7529,34.1942,2,197.0,2,34.2160,4,197.22,2,  1.07,2, 0.00,2,0.00,2,0.07,2, -999,9, -999,9,1917.4,2,2250.4,2,8.1030,3,25,0.10,2,0.06,2,29.7464,2,21.2084,2,29.7521,2
49UP20140609_4,   P10,103,1,34,83,2,20140830,0620, 741,-1.0042,141.9983,3037,  51.0,29.3814,34.4886,2,196.8,2,34.4997,4,197.40,2,  1.03,2, 0.00,2,0.00,2,0.14,2, -999,9, -999,9,1931.4,2,2265.1,2,8.1254,2,25,0.15,2,0.09,2,29.3689,2,21.5566,2,29.3852,2
49UP20140609_4,   P10,103,1,33,469,2,20140830,0620, 740,-1.0042,141.9983,3037,  75.4,28.1813,34.8962,2,185.3,2,34.9084,4,183.46,2,  1.33,2, 1.14,2,0.15,2,0.26,2, -999,9, -999,9,1980.1,2,2293.9,2,8.0815,2,25,0.43,2,0.49,2,28.1634,2,22.2631,2,28.1784,2
49UP20140609_4,   P10,103,1,32,105,2,20140830,0620, 738,-1.0042,141.9983,3037, 100.5,27.2043,35.3406,2,150.0,2,35.3571,4,150.96,2,  2.14,2, 6.50,2,0.07,2,0.60,2, -999,9, -999,9,2044.3,2,2318.7,2,8.0071,6,25,0.12,2,0.38,2,27.1811,2,22.9163,2,27.2020,2
49UP20140609_4,   P10,103,1,31,515,2,20140830,0620, 737,-1.0042,141.9983,3037, 126.7,25.1727,35.5872,2,144.3,2,35.5864,2,144.45,2,  2.14,2, 7.48,2,0.03,2,0.66,2, -999,9, -999,9,2073.6,6,2334.4,6,7.9762,2,25,0.03,2,0.18,2,25.1450,2,23.7408,2,25.1726,2
49UP20140609_4,   P10,103,1,30,97,2,20140830,0620, 735,-1.0042,141.9983,3037, 151.3,21.1102,35.5520,2,141.2,2,35.5523,2,140.92,2,  3.08,2, 9.10,2,0.01,2,0.76,2, -999,9, -999,9,2100.9,2,2333.7,2,7.9189,2,25,0.01,2,0.04,2,21.0811,2,24.8921,2,21.1085,2
49UP20140609_4,   P10,103,1,28,108,2,20140830,0620, 733,-1.0042,141.9983,3037, 202.1,18.5981,35.4297,2,142.1,2,35.4309,2,141.91,6,  4.48,6,11.21,6,0.01,6,0.90,6, -999,9, -999,9,2119.3,2,2327.4,2,7.8772,2,25,0.00,2,0.02,2,18.5624,2,25.4608,2,18.5991,2
49UP20140609_4,   P10,103,1,26,84,2,20140830,0620, 731,-1.0042,141.9983,3037, 252.1,16.6162,35.2891,2,147.4,2,35.2899,2,147.84,2,  5.73,2,12.80,2,0.01,2,0.99,2, -999,9, -999,9,2128.3,2,2320.7,2,7.8446,2,25,-999,9,-999,9,16.5751,2,25.8366,2,16.6169,2
49UP20140609_4,   P10,103,1,27,998,2,20140830,0620, 731,-1.0042,141.9983,3037, 252.4,16.6199,35.2898,2,147.4,2,35.2897,2,147.47,2,  5.79,2,12.79,2,0.01,2,1.00,2, -999,9, -999,9,2128.4,2,2320.3,2,7.8427,2,25,-999,9,-999,9,16.5788,2,25.8363,2,16.6180,2
49UP20140609_4,   P10,103,1,25,98,2,20140830,0620, 730,-1.0042,141.9983,3037, 282.3,13.1092,34.9929,2,151.7,2,34.9901,2,152.29,2, 10.46,2,17.54,2,0.00,2,1.29,2, -999,9, -999,9,2149.4,2,2307.4,2,7.7735,2,25,-999,9,-999,9,13.0701,2,26.3733,2,13.1091,2
49UP20140609_4,   P10,103,1,24,110,2,20140830,0620, 728,-1.0042,141.9983,3037, 322.7,11.3229,34.8323,2,146.4,2,34.8317,2,145.61,2, 15.37,2,21.23,2,0.00,2,1.53,2, -999,9, -999,9,2167.0,2,2303.4,2,7.7223,2,25,-999,9,-999,9,11.2822,2,26.5934,2,11.3194,2
49UP20140609_4,   P10,103,1,23,96,2,20140830,0620, 726,-1.0042,141.9983,3037, 373.2,10.3277,34.7437,2,117.6,2,34.7444,2,117.44,2, 21.97,2,25.93,2,0.00,2,1.83,2, -999,9, -999,9,2193.9,2,2302.7,2,7.6513,2,25,-999,9,-999,9,10.2833,2,26.7030,2,10.3267,2
49UP20140609_4,   P10,103,1,22,111,2,20140830,0620, 724,-1.0042,141.9983,3037, 424.1, 9.4906,34.6883,2,121.7,2,34.6885,2,120.66,2, 23.50,2,27.32,2,0.00,2,1.91,2, -999,9, -999,9,2198.6,2,2301.4,2,7.6332,2,25,-999,9,-999,9, 9.4426,2,26.8021,2, 9.4898,2
49UP20140609_4,   P10,103,1,21,78,2,20140830,0620, 722,-1.0042,141.9983,3037, 475.0, 8.5982,34.6239,2,143.5,2,34.6255,2,144.05,2, 23.11,2,26.76,2,0.00,2,1.87,2, -999,9, -999,9,2191.5,2,2300.6,2,7.6469,2,25,-999,9,-999,9, 8.5475,2,26.8950,2, 8.5992,2
49UP20140609_4,   P10,103,1,20,93,2,20140830,0620, 719,-1.0042,141.9983,3037, 575.0, 7.3215,34.5453,2,154.3,2,34.5463,6,154.46,2, 28.41,2,28.41,2,0.00,2,1.98,2, -999,9, -999,9,2198.1,2,2302.2,2,7.6389,2,25,-999,9,-999,9, 7.2652,2,27.0235,2, 7.3209,2
49UP20140609_4,   P10,103,1,19,92,2,20140830,0620, 716,-1.0042,141.9983,3037, 675.6, 6.4197,34.5305,2,127.2,2,34.5312,2,127.05,6, 42.72,6,32.78,6,0.00,6,2.30,6, -999,9, -999,9,2232.5,2,2314.1,2,7.5823,2,25,-999,9,-999,9, 6.3577,2,27.1354,2, 6.4195,2
49UP20140609_4,   P10,103,1,18,101,2,20140830,0620, 713,-1.0042,141.9983,3037, 776.0, 5.7648,34.5276,2,111.7,2,34.5287,2,111.77,2, 54.99,2,35.19,2,0.00,2,2.49,2, -999,9, -999,9,2255.8,2,2326.5,2,7.5474,2,25,-999,9,-999,9, 5.6969,2,27.2173,2, 5.7651,2
49UP20140609_4,   P10,103,1,17,90,2,20140830,0620, 713,-1.0042,141.9983,3037, 776.1, 5.7633,34.5275,2,111.7,2,34.5276,2,111.61,2, 55.06,2,35.22,2,0.00,2,2.49,2, -999,9, -999,9,2255.0,2,2325.5,2,7.5457,2,25,-999,9,-999,9, 5.6954,2,27.2175,2, 5.7636,2
49UP20140609_4,   P10,103,1,16,89,3,20140830,0620, 710,-1.0042,141.9983,3037, 876.5, 5.0238,34.5359,2,104.7,2,34.5365,2,104.47,2, 70.28,2,36.77,2,0.00,2,2.61,2, -999,9, -999,9,2275.4,2,2341.1,2,7.5298,2,25,-999,9,-999,9, 4.9513,2,27.3129,2, 5.0234,2
49UP20140609_4,   P10,103,1,15,88,2,20140830,0620, 708,-1.0042,141.9983,3037, 977.7, 4.7791,34.5399,2,103.9,2,34.5403,2,103.91,2, 74.44,2,37.22,2,0.00,2,2.64,2, -999,9, -999,9,2278.7,2,2345.2,2,7.5251,6,25,-999,9,-999,9, 4.6994,2,27.3447,2, 4.7804,2
49UP20140609_4,   P10,103,1,14,999,2,20140830,0620, 704,-1.0042,141.9983,3037,1139.0, 4.0590,34.5591,2,104.7,2,34.5593,2,104.46,2, 90.45,2,37.71,2,0.00,2,2.68,2, -999,9, -999,9,2298.2,6,2362.2,6,7.5238,2,25,-999,9,-999,9, 3.9710,2,27.4384,2, 4.0591,2
49UP20140609_4,   P10,103,1,13,667,2,20140830,0620, 659,-1.0042,141.9983,3037,1341.2, 3.4235,34.5817,2,104.8,2,34.5821,6,104.92,2,105.29,2,38.35,2,0.00,2,2.73,2, -999,9, -999,9,2313.7,2,2378.0,2,7.5192,2,25,-999,9,-999,9, 3.3244,2,27.5208,2, 3.4231,2
49UP20140609_4,   P10,103,1,11,268,2,20140830,0620, 655,-1.0042,141.9983,3037,1543.3, 2.9212,34.6034,2,108.2,2,34.6030,2,107.81,6,118.00,6,38.36,6,0.00,6,2.72,6, -999,9, -999,9,2325.9,2,2389.8,2,7.5224,2,25,-999,9,-999,9, 2.8106,2,27.5856,2, 2.9192,2
49UP20140609_4,   P10,103,1,10,267,2,20140830,0620, 650,-1.0042,141.9983,3037,1746.6, 2.5733,34.6185,2,115.1,2,34.6187,2,114.92,2,124.01,2,38.06,2,0.00,2,2.69,2, -999,9, -999,9,2328.8,2,2398.0,2,7.5337,2,25,-999,9,-999,9, 2.4500,2,27.6291,2, 2.5739,2
49UP20140609_4,   P10,103,1, 9,518,2,20140830,0620, 650,-1.0042,141.9983,3037,1747.0, 2.5764,34.6183,2,115.1,2,34.6179,2,115.09,2,123.87,2,38.10,2,0.00,2,2.69,2, -999,9, -999,9,2330.5,2,2397.4,2,7.5316,2,25,-999,9,-999,9, 2.4530,2,27.6287,2, 2.5777,2
49UP20140609_4,   P10,103,1, 8,81,2,20140830,0620, 646,-1.0042,141.9983,3037,1949.6, 2.3726,34.6292,2,117.7,2,34.6289,6,117.80,2,129.30,2,37.93,2,0.00,2,2.68,2, -999,9, -999,9,2333.3,2,2404.1,2,7.5377,2,25,-999,9,-999,9, 2.2349,2,27.6556,2, 2.3724,2
49UP20140609_4,   P10,103,1, 7,516,2,20140830,0620, 640,-1.0042,141.9983,3037,2153.6, 2.1404,34.6408,2,120.8,2,34.6414,2,120.89,2,135.70,2,37.88,2,0.00,2,2.67,2, -999,9, -999,9,2339.4,2,2409.2,2,7.5431,2,25,-999,9,-999,9, 1.9886,2,27.6848,2, 2.1401,2
49UP20140609_4,   P10,103,1, 5,94,2,20140830,0620, 635,-1.0042,141.9983,3037,2356.0, 1.9876,34.6483,2,125.6,2,34.6480,2,125.35,2,138.51,2,37.57,2,0.00,2,2.64,2, -999,9, -999,9,2334.9,2,2411.6,2,7.5484,6,25,-999,9,-999,9, 1.8205,2,27.7039,2, 1.9885,2
49UP20140609_4,   P10,103,1, 4,77,2,20140830,0620, 631,-1.0042,141.9983,3037,2559.9, 1.8047,34.6579,2,132.1,2,34.6588,2,131.84,2,140.98,2,37.15,2,0.00,2,2.60,2, -999,9, -999,9,2335.9,6,2415.0,6,7.5574,2,25,-999,9,-999,9, 1.6226,2,27.7266,2, 1.8046,2
49UP20140609_4,   P10,103,1, 3,104,2,20140830,0620, 627,-1.0042,141.9983,3037,2763.7, 1.7093,34.6640,2,136.6,2,34.6634,6,136.55,2,142.15,2,36.87,2,0.00,2,2.58,2, -999,9, -999,9,2336.1,2,2416.8,2,7.5643,2,25,-999,9,-999,9, 1.5104,2,27.7397,2, 1.7094,2
49UP20140609_4,   P10,103,1, 2,75,2,20140830,0620, 622,-1.0042,141.9983,3037,2967.1, 1.6095,34.6703,2,141.8,2,34.6713,2,141.62,2,142.12,2,36.47,2,0.00,2,2.54,2, -999,9, -999,9,2332.0,2,2417.0,2,7.5742,2,25,-999,9,-999,9, 1.3935,2,27.7533,2, 1.6095,2
49UP20140609_4,   P10,103,1, 1,997,2,20140830,0620, 620,-1.0042,141.9983,3037,3054.0, 1.5941,34.6715,2,143.0,2,34.6711,2,142.43,2,142.77,2,36.49,2,0.00,2,2.54,2, -999,9, -999,9,2332.8,2,2419.2,2,7.5753,2,25,-999,9,-999,9, 1.3701,2,27.7559,2, 1.5940,2
49UP20140609_4,   P10,105,1, 0,BUC,2,20140830,1520,1640,-1.4993,142.0055,3510,   0.0,29.7247,34.1707,2,195.0,2,   -999,9,194.78,2,  1.12,2, 0.02,2,0.00,2,0.08,2, -999,9, -999,9,-999.0,9,-999.0,9,-999.0,9,-999,-999,9,-999,9,29.7240,2,21.1983,2,   -999,9
49UP20140609_4,   P10,105,1,36,109,2,20140830,1520,1653,-1.4993,142.0055,3510,  10.7,29.7523,34.1794,2,194.9,2,34.1738,2,195.19,2,  1.13,2, 0.00,2,0.00,2,0.07,2, -999,9, -999,9,-999.0,9,-999.0,9,-999.0,9,-999,-999,9,-999,9,29.7497,2,21.1961,2,29.7517,2
49UP20140609_4,   P10,105,1,35,112,2,20140830,1520,1652,-1.4993,142.0055,3510,  25.5,29.7770,34.2834,2,195.1,2,34.2886,2,195.51,2,  1.11,2, 0.02,2,0.00,2,0.10,2, -999,9, -999,9,-999.0,9,-999.0,9,-999.0,9,-999,-999,9,-999,9,29.7707,2,21.2670,2,29.7687,2
49UP20140609_4,   P10,105,1,34,83,2,20140830,1520,1651,-1.4993,142.0055,3510,  51.0,29.5700,34.5789,2,197.1,2,34.7022,4,196.66,2,  1.00,2, 0.09,2,0.01,2,0.17,2, -999,9, -999,9,-999.0,9,-999.0,9,-999.0,9,-999,-999,9,-999,9,29.5575,2,21.5607,2,29.5665,2
49UP20140609_4,   P10,105,1,33,469,2,20140830,1520,1650,-1.4993,142.0055,3510,  76.3,28.5657,35.3028,2,170.7,2,35.2936,2,169.05,2,  1.67,2, 4.09,2,0.44,2,0.47,2, -999,9, -999,9,-999.0,9,-999.0,9,-999.0,9,-999,-999,9,-999,9,28.5474,2,22.4421,2,28.5648,2
49UP20140609_4,   P10,105,1,32,105,2,20140830,1520,1647,-1.4993,142.0055,3510, 100.9,27.6481,35.4443,2,151.6,2,35.4897,4,149.85,6,  2.13,6, 7.04,6,0.11,6,0.65,6, -999,9, -999,9,-999.0,9,-999.0,9,-999.0,9,-999,-999,9,-999,9,27.6245,2,22.8512,2,27.6408,2
49UP20140609_4,   P10,105,1,31,515,2,20140830,1520,1646,-1.4993,142.0055,3510, 126.4,24.9422,35.5615,2,144.6,2,35.5709,2,144.28,2,  2.29,2, 7.49,2,0.03,2,0.66,2, -999,9, -999,9,-999.0,9,-999.0,9,-999.0,9,-999,-999,9,-999,9,24.9147,2,23.7916,2,24.9494,2
49UP20140609_4,   P10,105,1,28,108,2,20140830,1520,1645,-1.4993,142.0055,3510, 151.5,22.3377,35.5929,2,141.6,2,35.5953,2,141.85,2,  2.68,2, 8.44,2,0.02,2,0.72,2, -999,9, -999,9,-999.0,9,-999.0,9,-999.0,9,-999,-999,9,-999,9,22.3073,2,24.5817,2,22.3336,2
49UP20140609_4,   P10,105,1,29,102,2,20140830,1520,1645,-1.4993,142.0055,3510, 151.6,22.3337,35.5943,2,141.6,2,35.5938,2,142.10,2,  2.68,2, 8.45,2,0.02,2,0.72,2, -999,9, -999,9,-999.0,9,-999.0,9,-999.0,9,-999,-999,9,-999,9,22.3033,2,24.5839,2,22.3319,2
49UP20140609_4,   P10,105,1,27,998,2,20140830,1520,1643,-1.4993,142.0055,3510, 201.8,17.8741,35.3892,2,143.4,2,35.3850,2,144.06,2,  5.08,2,11.93,2,0.01,2,0.95,2, -999,9, -999,9,-999.0,9,-999.0,9,-999.0,9,-999,-999,9,-999,9,17.8396,2,25.6097,2,17.8821,2
49UP20140609_4,   P10,105,1,26,84,2,20140830,1520,1641,-1.4993,142.0055,3510, 252.3,14.4475,35.1093,2,150.2,2,35.0758,4,149.56,2,  9.22,2,16.24,2,0.01,2,1.22,2, -999,9, -999,9,-999.0,9,-999.0,9,-999.0,9,-999,-999,9,-999,9,14.4102,2,26.1844,2,14.4614,2
49UP20140609_4,   P10,105,1,25,98,2,20140830,1520,1639,-1.4993,142.0055,3510, 301.7,11.2436,34.8147,2,136.6,2,34.8119,2,134.99,2, 17.88,2,22.41,2,0.00,2,1.61,2, -999,9, -999,9,-999.0,9,-999.0,9,-999.0,9,-999,-999,9,-999,9,11.2057,2,26.5938,2,11.2467,2
49UP20140609_4,   P10,105,1,24,110,2,20140830,1520,1638,-1.4993,142.0055,3510, 352.1,10.4210,34.7520,2,121.7,2,34.7505,2,121.21,2, 21.04,2,25.39,2,0.00,2,1.80,2, -999,9, -999,9,-999.0,9,-999.0,9,-999.0,9,-999,-999,9,-999,9,10.3789,2,26.6928,2,10.4183,2
49UP20140609_4,   P10,105,1,23,96,2,20140830,1520,1636,-1.4993,142.0055,3510, 403.1, 9.8317,34.7145,2,139.6,2,34.7088,2,137.87,2, 19.88,2,25.00,2,0.00,2,1.76,2, -999,9, -999,9,-999.0,9,-999.0,9,-999.0,9,-999,-999,9,-999,9, 9.7851,2,26.7655,2, 9.8340,2
49UP20140609_4,   P10,105,1,22,111,2,20140830,1520,1635,-1.4993,142.0055,3510, 453.1, 9.2081,34.6681,2,135.8,2,34.6677,2,139.82,2, 21.35,2,25.95,2,0.00,2,1.83,2, -999,9, -999,9,-999.0,9,-999.0,9,-999.0,9,-999,-999,9,-999,9, 9.1577,2,26.8329,2, 9.2083,2
49UP20140609_4,   P10,105,1,21,78,2,20140830,1520,1633,-1.4993,142.0055,3510, 503.6, 8.2856,34.6004,2,158.9,2,34.5993,2,158.99,2, 22.10,2,26.00,2,0.00,2,1.83,2, -999,9, -999,9,-999.0,9,-999.0,9,-999.0,9,-999,-999,9,-999,9, 8.2329,2,26.9249,2, 8.2850,2
49UP20140609_4,   P10,105,1,20,93,2,20140830,1520,1630,-1.4993,142.0055,3510, 604.0, 6.7469,34.5343,2,134.1,2,34.5346,2,134.79,2, 37.37,2,31.40,2,0.00,2,2.20,2, -999,9, -999,9,-999.0,9,-999.0,9,-999.0,9,-999,-999,9,-999,9, 6.6903,2,27.0942,2, 6.7468,2
49UP20140609_4,   P10,105,1,19,92,2,20140830,1520,1628,-1.4993,142.0055,3510, 705.7, 6.1291,34.5314,2,111.9,2,34.5317,2,112.52,2, 49.46,2,34.64,2,0.00,2,2.44,2, -999,9, -999,9,-999.0,9,-999.0,9,-999.0,9,-999,-999,9,-999,9, 6.0657,2,27.1740,2, 6.1279,2
49UP20140609_4,   P10,105,1,18,101,2,20140830,1520,1621,-1.4993,142.0055,3510, 806.5, 5.2413,34.5293,2,113.1,2,34.5301,2,112.31,2, 63.57,2,35.81,2,0.00,2,2.53,2, -999,9, -999,9,-999.0,9,-999.0,9,-999.0,9,-999,-999,9,-999,9, 5.1737,2,27.2818,2, 5.2443,2
49UP20140609_4,   P10,105,1,17,90,2,20140830,1520,1618,-1.4993,142.0055,3510, 907.0, 4.8668,34.5391,2,103.3,2,34.5398,2,103.25,2, 73.43,2,37.10,2,0.00,2,2.64,2, -999,9, -999,9,-999.0,9,-999.0,9,-999.0,9,-999,-999,9,-999,9, 4.7927,2,27.3335,2, 4.8666,2
49UP20140609_4,   P10,105,1,16,89,2,20140830,1520,1615,-1.4993,142.0055,3510,1007.9, 4.5796,34.5431,2,106.5,2,34.5420,6,110.79,6, 78.33,6,36.66,6,0.00,6,2.61,6, -999,9, -999,9,-999.0,9,-999.0,9,-999.0,9,-999,-999,9,-999,9, 4.4987,2,27.3695,2, 4.5805,2
49UP20140609_4,   P10,105,1,14,999,2,20140830,1520,1611,-1.4993,142.0055,3510,1210.2, 3.8780,34.5664,2,101.6,2,34.5672,2,101.39,2, 95.91,2,38.08,2,0.00,2,2.72,2, -999,9, -999,9,-999.0,9,-999.0,9,-999.0,9,-999,-999,9,-999,9, 3.7856,2,27.4632,2, 3.8780,2
49UP20140609_4,   P10,105,1,15,88,2,20140830,1520,1611,-1.4993,142.0055,3510,1210.6, 3.8784,34.5665,2,101.6,2,34.5653,2,101.74,2, 96.10,2,38.13,2,0.00,2,2.72,2, -999,9, -999,9,-999.0,9,-999.0,9,-999.0,9,-999,-999,9,-999,9, 3.7859,2,27.4633,2, 3.8782,2
49UP20140609_4,   P10,105,1,13,667,2,20140830,1520,1606,-1.4993,142.0055,3510,1412.8, 3.4637,34.5817,2,102.9,2,34.5820,2,103.04,2,105.72,2,38.37,2,0.00,2,2.74,2, -999,9, -999,9,-999.0,9,-999.0,9,-999.0,9,-999,-999,9,-999,9, 3.3581,2,27.5176,2, 3.4636,2
49UP20140609_4,   P10,105,1,12,74,2,20140830,1520,1602,-1.4993,142.0055,3510,1615.5, 2.7173,34.6126,2,110.7,2,34.6118,2,110.86,2,122.46,2,38.22,2,0.00,2,2.71,2, -999,9, -999,9,-999.0,9,-999.0,9,-999.0,9,-999,-999,9,-999,9, 2.6031,2,27.6112,2, 2.7174,2
49UP20140609_4,   P10,105,1,11,268,2,20140830,1520,1558,-1.4993,142.0055,3510,1817.7, 2.4728,34.6242,2,114.8,2,34.6230,2,114.62,2,127.99,2,38.01,2,0.00,2,2.70,2, -999,9, -999,9,-999.0,9,-999.0,9,-999.0,9,-999,-999,9,-999,9, 2.3448,2,27.6426,2, 2.4727,2
49UP20140609_4,   P10,105,1,10,267,2,20140830,1520,1553,-1.4993,142.0055,3510,2021.5, 2.2768,34.6341,2,118.0,2,34.6334,2,117.99,2,132.75,2,37.85,2,0.00,2,2.68,2, -999,9, -999,9,-999.0,9,-999.0,9,-999.0,9,-999,-999,9,-999,9, 2.1343,2,27.6678,2, 2.2767,2
49UP20140609_4,   P10,105,1, 9,518,2,20140830,1520,1548,-1.4993,142.0055,3510,2224.6, 2.1248,34.6415,2,121.4,2,34.6403,6,121.41,2,136.33,2,37.74,2,0.00,2,2.66,2, -999,9, -999,9,-999.0,9,-999.0,9,-999.0,9,-999,-999,9,-999,9, 1.9670,2,27.6870,2, 2.1255,2
49UP20140609_4,   P10,105,1, 8,81,2,20140830,1520,1544,-1.4993,142.0055,3510,2427.7, 1.8582,34.6551,2,130.1,2,34.6536,2,129.90,2,140.48,2,37.24,2,0.00,2,2.62,2, -999,9, -999,9,-999.0,9,-999.0,9,-999.0,9,-999,-999,9,-999,9, 1.6870,2,27.7195,2, 1.8583,2
49UP20140609_4,   P10,105,1, 7,516,2,20140830,1520,1540,-1.4993,142.0055,3510,2631.0, 1.7491,34.6617,2,134.7,2,34.6610,2,134.53,6,141.51,6,36.93,6,0.00,6,2.60,6, -999,9, -999,9,-999.0,9,-999.0,9,-999.0,9,-999,-999,9,-999,9, 1.5616,2,27.7342,2, 1.7490,2
49UP20140609_4,   P10,105,1, 5,94,2,20140830,1520,1535,-1.4993,142.0055,3510,2834.6, 1.6644,34.6667,2,138.8,2,34.6661,2,138.76,3,142.31,2,36.73,2,0.00,2,2.57,2, -999,9, -999,9,-999.0,9,-999.0,9,-999.0,9,-999,-999,9,-999,9, 1.4597,2,27.7456,2, 1.6643,2
49UP20140609_4,   P10,105,1, 4,77,2,20140830,1520,1531,-1.4993,142.0055,3510,3038.6, 1.6095,34.6708,2,142.2,2,34.6704,2,142.11,2,142.65,2,36.48,2,0.00,2,2.55,2, -999,9, -999,9,-999.0,9,-999.0,9,-999.0,9,-999,-999,9,-999,9, 1.3866,2,27.7541,2, 1.6087,2
49UP20140609_4,   P10,105,1, 3,104,2,20140830,1520,1525,-1.4993,142.0055,3510,3293.6, 1.5854,34.6737,2,144.6,2,34.6733,6,144.47,2,143.06,2,36.37,2,0.00,2,2.54,2, -999,9, -999,9,-999.0,9,-999.0,9,-999.0,9,-999,-999,9,-999,9, 1.3380,2,27.7600,2, 1.5853,2
49UP20140609_4,   P10,105,1, 2,75,2,20140830,1520,1520,-1.4993,142.0055,3510,3540.9, 1.5684,34.6767,2,146.7,2,34.6777,2,146.40,2,142.82,2,36.19,2,0.00,2,2.52,2, -999,9, -999,9,-999.0,9,-999.0,9,-999.0,9,-999,-999,9,-999,9, 1.2963,2,27.7653,2, 1.5683,2
49UP20140609_4,   P10,105,1, 1,997,2,20140830,1520,1520,-1.4993,142.0055,3510,3541.2, 1.5685,34.6767,2,146.7,2,34.6771,2,146.25,2,142.96,2,36.24,2,0.00,2,2.53,2, -999,9, -999,9,-999.0,9,-999.0,9,-999.0,9,-999,-999,9,-999,9, 1.2965,2,27.7653,2, 1.5683,2