BOTTLE,20230725CCHSIOADS
EXPOCODE,SECT_ID,STNNBR,CASTNO,SAMPNO,BTLNBR,BTLNBR_FLAG_W,DATE,TIME,BTL_TIME,LATITUDE,LONGITUDE,DEPTH,CTDPRS,CTDTMP,CTDSAL,CTDSAL_FLAG_W,CTDOXY,CTDOXY_FLAG_W,SALNTY,SALNTY_FLAG_W,OXYGEN,OXYGEN_FLAG_W,SILCAT,SILCAT_FLAG_W,NO2+NO3,NO2+NO3_FLAG_W,NITRIT,NITRIT_FLAG_W,PHSPHT,PHSPHT_FLAG_W,CFC-11,CFC-11_FLAG_W,CFC-12,CFC-12_FLAG_W,TCARBN,TCARBN_FLAG_W,ALKALI,ALKALI_FLAG_W,PH_TOT,PH_TOT_FLAG_W,PH_TMP,CHLORA,CHLORA_FLAG_W,PPHYTN,PPHYTN_FLAG_W,THETA,THETA_FLAG_W,SIG0,SIG0_FLAG_W,REFTMP,REFTMP_FLAG_W
,,,,,,,,,,,,METERS,DBAR,ITS-90,PSS-78,,UMOL/KG,,PSS-78,,UMOL/KG,,UMOL/KG,,UMOL/KG,,UMOL/KG,,UMOL/KG,,PMOL/KG,,PMOL/KG,,UMOL/KG,,UMOL/KG,,,,DEG C,UG/KG,,UG/KG,,ITS-90,,KG/M^3,,ITS-90,
49UP20140609_4,   P10,98,1, 0,BUC,2,20140829,0318, 422,-0.4968,142.9858,3065,   0.0,29.9930,34.1773,2,195.5,2,34.1682,2,195.28,2,  1.07,2, 0.00,2,0.00,2,0.08,2, -999,9, -999,9,1918.2,2,2246.2,2,8.1235,2,25,0.09,2,0.03,2,29.9924,2,21.1121,2,   -999,9
49UP20140609_4,   P10,98,1,36,109,2,20140829,0318, 440,-0.4968,142.9858,3065,  10.4,30.0169,34.1772,2,195.4,2,34.1718,2,196.03,2,  1.12,2, 0.00,2,0.00,2,0.06,2, -999,9, -999,9,1918.0,2,2247.0,2,8.1226,2,25,0.08,2,0.03,2,30.0144,2,21.1046,2,30.0106,2
49UP20140609_4,   P10,98,1,35,112,2,20140829,0318, 439,-0.4968,142.9858,3065,  25.6,29.7979,34.1733,2,196.2,2,34.1840,4,196.94,2,  1.04,2, 0.00,2,0.00,2,0.07,2, -999,9, -999,9,1917.0,2,2247.5,2,8.1234,2,25,0.09,2,0.03,2,29.7916,2,21.1774,2,29.7961,2
49UP20140609_4,   P10,98,1,34,83,2,20140829,0318, 438,-0.4968,142.9858,3065,  51.1,29.3588,34.4052,2,196.7,2,34.4237,4,196.78,2,  1.00,2, 0.00,2,0.00,2,0.14,2, -999,9, -999,9,1928.1,2,2261.7,2,8.1216,2,25,0.14,2,0.07,2,29.3463,2,21.5016,2,29.3578,2
49UP20140609_4,   P10,98,1,33,469,2,20140829,0318, 437,-0.4968,142.9858,3065,  75.8,28.2650,34.8790,2,176.8,2,34.8818,2,177.02,2,  1.57,2, 1.77,2,0.25,2,0.29,2, -999,9, -999,9,1986.2,2,2290.6,2,8.0692,2,25,0.38,2,0.59,2,28.2470,2,22.2227,2,28.2622,2
49UP20140609_4,   P10,98,1,32,105,2,20140829,0318, 434,-0.4968,142.9858,3065, 100.5,27.1764,35.1150,2,152.0,2,35.1875,4,153.48,2,  2.23,2, 5.75,2,0.18,2,0.55,2, -999,9, -999,9,2031.6,2,2308.0,2,8.0140,2,25,0.16,2,0.46,2,27.1532,2,22.7553,2,27.1771,2
49UP20140609_4,   P10,98,1,31,515,2,20140829,0318, 433,-0.4968,142.9858,3065, 124.8,25.9538,35.5716,2,146.5,2,35.5726,2,147.56,2,  1.97,2, 6.95,2,0.04,2,0.64,2, -999,9, -999,9,2063.8,2,2332.9,2,7.9886,2,25,0.06,2,0.25,2,25.9260,2,23.4878,2,25.9513,2
49UP20140609_4,   P10,98,1,30,97,2,20140829,0318, 432,-0.4968,142.9858,3065, 150.6,20.9090,35.5346,2,139.0,2,35.5388,2,139.46,2,  3.39,2, 9.50,2,0.01,2,0.81,2, -999,9, -999,9,2104.5,2,2333.5,2,7.9122,2,25,0.01,2,0.04,2,20.8802,2,24.9336,2,20.9063,2
49UP20140609_4,   P10,98,1,29,102,2,20140829,0318, 430,-0.4968,142.9858,3065, 200.8,19.1061,35.4428,2,142.7,2,35.4425,2,143.01,2,  4.36,2,10.62,2,0.01,2,0.88,2, -999,9, -999,9,2114.3,2,2328.2,2,7.8909,6,25,0.00,2,0.03,2,19.0701,2,25.3418,2,19.1056,2
49UP20140609_4,   P10,98,1,28,108,2,20140829,0318, 429,-0.4968,142.9858,3065, 251.4,13.1064,34.9987,2,156.7,2,35.0000,2,157.24,2,  9.41,2,16.82,2,0.01,2,1.26,2, -999,9, -999,9,2146.1,6,2309.1,6,7.7838,2,25,-999,9,-999,9,13.0716,2,26.3775,2,13.1064,2
49UP20140609_4,   P10,98,1,27,998,2,20140829,0318, 427,-0.4968,142.9858,3065, 332.0,10.7052,34.7691,2,124.1,2,34.7695,2,123.80,2, 20.45,2,24.44,2,0.00,2,1.76,2, -999,9, -999,9,2187.8,2,2304.8,2,7.6713,2,25,-999,9,-999,9,10.6648,2,26.6558,2,10.7044,2
49UP20140609_4,   P10,98,1,26,84,2,20140829,0318, 427,-0.4968,142.9858,3065, 332.1,10.6999,34.7689,2,124.0,2,34.7681,2,123.48,2, 20.47,2,24.47,2,0.00,2,1.76,2, -999,9, -999,9,2186.1,2,2303.4,2,7.6706,2,25,-999,9,-999,9,10.6596,2,26.6566,2,10.6995,2
49UP20140609_4,   P10,98,1,25,98,2,20140829,0318, 425,-0.4968,142.9858,3065, 381.9, 9.7481,34.7019,2,102.4,2,34.6971,2,101.21,2, 25.73,2,28.60,2,0.00,2,2.03,2, -999,9, -999,9,2211.0,2,2304.0,2,7.6053,2,25,-999,9,-999,9, 9.7042,2,26.7692,2, 9.7464,2
49UP20140609_4,   P10,98,1,24,110,2,20140829,0318, 424,-0.4968,142.9858,3065, 433.0, 8.6222,34.6284,2,114.2,2,34.6281,2,115.20,2, 28.66,2,29.38,2,0.00,2,2.07,2, -999,9, -999,9,2213.5,2,2305.3,2,7.6056,2,25,-999,9,-999,9, 8.5759,2,26.8941,2, 8.6208,2
49UP20140609_4,   P10,98,1,23,96,2,20140829,0318, 422,-0.4968,142.9858,3065, 483.3, 7.8501,34.5796,2,134.7,2,34.5800,2,136.94,6, 29.35,6,28.77,6,0.00,6,2.04,6, -999,9, -999,9,2205.8,2,2304.7,2,7.6233,2,25,-999,9,-999,9, 7.8011,2,26.9732,2, 7.8508,2
49UP20140609_4,   P10,98,1,22,111,2,20140829,0318, 421,-0.4968,142.9858,3065, 533.4, 7.1012,34.5407,2,135.0,2,34.5426,6,129.96,2, 36.46,2,30.83,2,0.00,2,2.19,2, -999,9, -999,9,2220.4,2,2310.1,2,7.5976,2,25,-999,9,-999,9, 7.0500,2,27.0500,2, 7.1007,2
49UP20140609_4,   P10,98,1,21,78,2,20140829,0318, 418,-0.4968,142.9858,3065, 634.7, 6.5968,34.5379,2,119.1,2,34.5386,2,118.08,2, 42.40,2,33.10,2,0.00,2,2.35,2, -999,9, -999,9,2234.4,2,2314.8,2,7.5694,2,25,-999,9,-999,9, 6.5378,2,27.1175,2, 6.5974,2
49UP20140609_4,   P10,98,1,20,93,2,20140829,0318, 412,-0.4968,142.9858,3065, 736.1, 5.8125,34.5290,2,110.8,2,34.5301,2,110.45,2, 53.96,2,35.20,2,0.00,2,2.51,2, -999,9, -999,9,2255.4,2,2325.0,2,7.5471,2,25,-999,9,-999,9, 5.7480,2,27.2121,2, 5.8123,2
49UP20140609_4,   P10,98,1,19,92,2,20140829,0318, 409,-0.4968,142.9858,3065, 836.7, 5.1174,34.5328,2,107.3,2,34.5330,2,107.14,2, 66.29,2,36.43,2,0.00,2,2.60,2, -999,9, -999,9,2270.3,2,2338.4,2,7.5326,2,25,-999,9,-999,9, 5.0479,2,27.2993,2, 5.1170,2
49UP20140609_4,   P10,98,1,18,101,2,20140829,0318, 407,-0.4968,142.9858,3065, 937.1, 4.7468,34.5423,2,100.8,2,34.5430,2,100.59,2, 76.33,2,37.30,2,0.00,2,2.67,2, -999,9, -999,9,2284.2,2,2346.4,2,7.5206,2,25,-999,9,-999,9, 4.6709,2,27.3498,2, 4.7465,2
49UP20140609_4,   P10,98,1,17,90,2,20140829,0318, 404,-0.4968,142.9858,3065,1076.5, 4.3407,34.5500,2,105.1,2,34.5505,2,105.13,2, 83.70,2,37.31,2,0.00,2,2.67,2, -999,9, -999,9,2291.2,2,2356.5,2,7.5261,6,25,-999,9,-999,9, 4.2557,2,27.4013,2, 4.3399,2
49UP20140609_4,   P10,98,1,16,89,2,20140829,0318, 359,-0.4968,142.9858,3065,1279.5, 3.5926,34.5755,2,103.2,2,34.5750,2,103.14,2,101.19,2,38.17,2,0.00,2,2.74,2, -999,9, -999,9,2310.3,6,2373.9,6,7.5184,2,25,-999,9,-999,9, 3.4969,2,27.4992,2, 3.5923,2
49UP20140609_4,   P10,98,1,15,88,2,20140829,0318, 355,-0.4968,142.9858,3065,1484.1, 3.0951,34.5917,2,114.1,2,34.5921,2,114.07,6,109.07,6,37.71,6,0.00,6,2.69,6, -999,9, -999,9,2313.2,2,2383.8,2,7.5293,2,25,-999,9,-999,9, 2.9874,2,27.5603,2, 3.0952,2
49UP20140609_4,   P10,98,1,14,999,2,20140829,0318, 350,-0.4968,142.9858,3065,1686.6, 2.7747,34.6092,2,110.9,2,34.6086,6,111.38,2,120.48,2,38.10,2,0.00,2,2.72,2, -999,9, -999,9,2327.7,2,2397.1,2,7.5256,2,25,-999,9,-999,9, 2.6538,2,27.6041,2, 2.7747,2
49UP20140609_4,   P10,98,1,12,74,2,20140829,0318, 345,-0.4968,142.9858,3065,1889.5, 2.4176,34.6266,2,116.6,2,34.6264,2,116.34,2,128.36,2,37.88,2,0.00,2,2.70,2, -999,9, -999,9,2333.3,2,2402.3,2,7.5337,2,25,-999,9,-999,9, 2.2843,2,27.6495,2, 2.4178,2
49UP20140609_4,   P10,98,1,13,667,2,20140829,0318, 345,-0.4968,142.9858,3065,1889.9, 2.4146,34.6267,2,116.6,2,34.6269,2,116.39,2,128.14,2,37.86,2,0.00,2,2.70,2, -999,9, -999,9,2334.3,2,2403.2,2,7.5349,2,25,-999,9,-999,9, 2.2813,2,27.6499,2, 2.4138,2
49UP20140609_4,   P10,98,1,11,268,2,20140829,0318, 340,-0.4968,142.9858,3065,2092.5, 2.1394,34.6404,2,120.3,2,34.6401,2,120.22,2,135.16,2,37.68,2,0.00,2,2.67,2, -999,9, -999,9,2337.1,2,2410.5,2,7.5406,2,25,-999,9,-999,9, 1.9930,2,27.6841,2, 2.1398,2
49UP20140609_4,   P10,98,1,10,267,2,20140829,0318, 336,-0.4968,142.9858,3065,2294.2, 1.9391,34.6501,2,126.3,2,34.6511,2,126.52,2,138.91,2,37.35,2,0.00,2,2.64,2, -999,9, -999,9,2337.3,2,2413.5,2,7.5493,2,25,-999,9,-999,9, 1.7783,2,27.7086,2, 1.9391,2
49UP20140609_4,   P10,98,1, 9,518,2,20140829,0318, 331,-0.4968,142.9858,3065,2498.3, 1.7880,34.6579,2,132.0,2,34.6579,6,132.12,2,141.35,2,36.99,2,0.00,2,2.61,2, -999,9, -999,9,2334.1,6,2415.0,6,7.5581,2,25,-999,9,-999,9, 1.6118,2,27.7274,2, 1.7879,2
49UP20140609_4,   P10,98,1, 8,81,2,20140829,0318, 327,-0.4968,142.9858,3065,2702.1, 1.7279,34.6621,2,135.2,2,34.6619,2,135.35,2,141.85,2,36.80,2,0.00,2,2.59,2, -999,9, -999,9,2335.6,2,2416.7,2,7.5629,6,25,-999,9,-999,9, 1.5343,2,27.7365,2, 1.7278,2
49UP20140609_4,   P10,98,1, 7,516,2,20140829,0318, 322,-0.4968,142.9858,3065,2906.1, 1.6352,34.6682,2,140.4,2,34.6683,6,140.69,6,142.22,6,36.48,6,0.00,6,2.57,6, -999,9, -999,9,2332.2,2,2418.5,2,7.5679,2,25,-999,9,-999,9, 1.4245,2,27.7494,2, 1.6351,2
49UP20140609_4,   P10,98,1, 3,104,2,20140829,0318, 319,-0.4968,142.9858,3065,3062.8, 1.5803,34.6723,2,143.4,2,34.6724,2,143.35,2,142.55,2,36.30,2,0.00,2,2.55,2, -999,9, -999,9,2334.4,2,2420.3,2,7.5755,2,25,-999,9,-999,9, 1.3557,2,27.7576,2, 1.5803,2
49UP20140609_4,   P10,98,1, 2,75,3,20140829,0318, 318,-0.4968,142.9858,3065,3063.4, 1.5803,34.6723,2,143.4,2,34.6735,2,144.05,2,142.56,2,36.27,2,0.00,2,2.55,2, -999,9, -999,9,2332.9,2,2419.4,2,7.5791,2,25,-999,9,-999,9, 1.3557,2,27.7576,2, 1.5803,2
49UP20140609_4,   P10,99,1, 0,BUC,2,20140829,0950,1055,-0.5127,142.4872,3145,   0.0,29.9010,34.1360,2,195.6,2,   -999,9,195.91,2,  1.03,2, 0.01,2,0.00,2,0.05,2, -999,9, -999,9,-999.0,9,-999.0,9,-999.0,9,-999,-999,9,-999,9,29.9004,2,21.1125,2,   -999,9
49UP20140609_4,   P10,99,1,36,109,2,20140829,0950,1117,-0.5127,142.4872,3145,  10.1,29.9119,34.1415,2,196.0,2,34.1594,4,196.61,2,  1.08,2, 0.00,2,0.00,2,0.04,2, -999,9, -999,9,-999.0,9,-999.0,9,-999.0,9,-999,-999,9,-999,9,29.9094,2,21.1135,2,29.9089,2
49UP20140609_4,   P10,99,1,35,112,2,20140829,0950,1116,-0.5127,142.4872,3145,  25.1,29.6016,34.3671,2,197.0,2,34.3718,2,197.37,2,  0.99,2, 0.00,2,0.00,2,0.09,2, -999,9, -999,9,-999.0,9,-999.0,9,-999.0,9,-999,-999,9,-999,9,29.5954,2,21.3890,2,29.6051,2
49UP20140609_4,   P10,99,1,34,83,2,20140829,0950,1113,-0.5127,142.4872,3145,  49.8,29.3213,34.4510,2,196.0,2,34.5623,4,195.75,2,  1.04,2, 0.03,2,0.01,2,0.14,2, -999,9, -999,9,-999.0,9,-999.0,9,-999.0,9,-999,-999,9,-999,9,29.3092,2,21.5484,2,29.3148,2
49UP20140609_4,   P10,99,1,32,105,2,20140829,0950,1111,-0.5127,142.4872,3145,  75.7,28.0480,34.8455,2,174.1,2,34.8697,4,173.08,2,  1.66,2, 2.46,2,0.35,2,0.31,2, -999,9, -999,9,-999.0,9,-999.0,9,-999.0,9,-999,-999,9,-999,9,28.0301,2,22.2686,2,28.0478,2
49UP20140609_4,   P10,99,1,30,97,2,20140829,0950,1110,-0.5127,142.4872,3145, 101.3,27.2588,35.3746,2,150.2,2,35.3970,4,151.25,2,  2.14,2, 6.66,2,0.08,2,0.61,2, -999,9, -999,9,-999.0,9,-999.0,9,-999.0,9,-999,-999,9,-999,9,27.2354,2,22.9245,2,27.2570,2
49UP20140609_4,   P10,99,1,31,515,2,20140829,0950,1110,-0.5127,142.4872,3145, 101.4,27.2627,35.3784,2,150.0,2,35.3934,4,151.05,2,  2.12,2, 6.67,2,0.08,2,0.61,2, -999,9, -999,9,-999.0,9,-999.0,9,-999.0,9,-999,-999,9,-999,9,27.2393,2,22.9261,2,27.2580,2
49UP20140609_4,   P10,99,1,29,102,2,20140829,0950,1109,-0.5127,142.4872,3145, 125.8,23.5939,35.4178,2,140.9,2,35.4519,4,140.79,2,  3.11,2, 7.87,2,0.03,2,0.67,2, -999,9, -999,9,-999.0,9,-999.0,9,-999.0,9,-999,-999,9,-999,9,23.5677,2,24.0853,2,23.7532,2
49UP20140609_4,   P10,99,1,28,108,2,20140829,0950,1107,-0.5127,142.4872,3145, 150.7,20.7334,35.4892,2,143.6,2,35.4905,2,143.82,6,  3.40,6, 9.06,6,0.02,6,0.75,6, -999,9, -999,9,-999.0,9,-999.0,9,-999.0,9,-999,-999,9,-999,9,20.7048,2,24.9465,2,20.7398,2
49UP20140609_4,   P10,99,1,27,998,2,20140829,0950,1105,-0.5127,142.4872,3145, 201.6,18.1075,35.3379,2,145.8,2,35.3282,4,146.14,2,  5.67,2,11.35,2,0.01,2,0.90,2, -999,9, -999,9,-999.0,9,-999.0,9,-999.0,9,-999,-999,9,-999,9,18.0727,2,25.5129,2,18.1032,2
49UP20140609_4,   P10,99,1,26,84,2,20140829,0950,1104,-0.5127,142.4872,3145, 252.6,13.9021,35.0648,2,150.7,2,35.0631,2,152.14,2,  8.97,2,16.18,2,0.01,2,1.21,2, -999,9, -999,9,-999.0,9,-999.0,9,-999.0,9,-999,-999,9,-999,9,13.8656,2,26.2655,2,13.9130,2
49UP20140609_4,   P10,99,1,25,98,2,20140829,0950,1102,-0.5127,142.4872,3145, 281.7,12.2731,34.9249,2,156.6,2,34.9251,2,156.14,2, 11.34,2,18.39,2,0.01,2,1.34,2, -999,9, -999,9,-999.0,9,-999.0,9,-999.0,9,-999,-999,9,-999,9,12.2357,2,26.4854,2,12.2737,2
49UP20140609_4,   P10,99,1,24,110,2,20140829,0950,1101,-0.5127,142.4872,3145, 321.9,11.6455,34.8598,2,146.0,2,34.8579,2,145.13,2, 15.01,2,20.69,2,0.01,2,1.49,2, -999,9, -999,9,-999.0,9,-999.0,9,-999.0,9,-999,-999,9,-999,9,11.6042,2,26.5551,2,11.6479,2
49UP20140609_4,   P10,99,1,23,96,2,20140829,0950,1100,-0.5127,142.4872,3145, 372.1,10.5323,34.7557,2,118.1,2,34.7527,2,117.66,2, 21.77,2,25.51,2,0.00,2,1.81,2, -999,9, -999,9,-999.0,9,-999.0,9,-999.0,9,-999,-999,9,-999,9,10.4875,2,26.6767,2,10.5319,2
49UP20140609_4,   P10,99,1,22,111,2,20140829,0950,1058,-0.5127,142.4872,3145, 422.6, 9.4534,34.6838,2,101.6,2,34.6814,2,100.45,2, 27.01,2,29.32,2,0.00,2,2.06,2, -999,9, -999,9,-999.0,9,-999.0,9,-999.0,9,-999,-999,9,-999,9, 9.4056,2,26.8046,2, 9.4537,2
49UP20140609_4,   P10,99,1,21,78,2,20140829,0950,1056,-0.5127,142.4872,3145, 472.1, 8.4887,34.6195,2,129.3,2,34.6206,2,129.73,2, 26.61,2,28.33,2,0.00,2,1.99,2, -999,9, -999,9,-999.0,9,-999.0,9,-999.0,9,-999,-999,9,-999,9, 8.4387,2,26.9084,2, 8.4880,2
49UP20140609_4,   P10,99,1,20,93,2,20140829,0950,1054,-0.5127,142.4872,3145, 573.3, 6.8714,34.5270,2,148.0,2,34.5273,2,146.81,2, 33.73,2,29.86,2,0.00,2,2.10,2, -999,9, -999,9,-999.0,9,-999.0,9,-999.0,9,-999,-999,9,-999,9, 6.8173,2,27.0713,2, 6.8704,2
49UP20140609_4,   P10,99,1,19,92,2,20140829,0950,1051,-0.5127,142.4872,3145, 674.8, 6.1882,34.5350,2,109.7,2,34.5348,2,110.12,2, 48.73,2,34.79,2,0.00,2,2.45,2, -999,9, -999,9,-999.0,9,-999.0,9,-999.0,9,-999,-999,9,-999,9, 6.1274,2,27.1689,2, 6.1871,2
49UP20140609_4,   P10,99,1,18,101,2,20140829,0950,1049,-0.5127,142.4872,3145, 775.7, 5.5926,34.5295,2,111.1,2,34.5307,2,110.81,2, 58.03,2,35.50,2,0.00,2,2.51,2, -999,9, -999,9,-999.0,9,-999.0,9,-999.0,9,-999,-999,9,-999,9, 5.5257,2,27.2398,2, 5.5931,2
49UP20140609_4,   P10,99,1,17,90,2,20140829,0950,1046,-0.5127,142.4872,3145, 877.8, 5.0055,34.5351,2,105.5,2,34.5355,2,105.87,2, 69.33,2,36.81,2,0.00,2,2.61,2, -999,9, -999,9,-999.0,9,-999.0,9,-999.0,9,-999,-999,9,-999,9, 4.9331,2,27.3144,2, 5.0051,2
49UP20140609_4,   P10,99,1,16,89,2,20140829,0950,1043,-0.5127,142.4872,3145, 978.7, 4.6472,34.5434,2,102.3,2,34.5459,4,100.71,2, 78.80,2,37.54,2,0.00,2,2.67,2, -999,9, -999,9,-999.0,9,-999.0,9,-999.0,9,-999,-999,9,-999,9, 4.5684,2,27.3621,2, 4.6501,2
49UP20140609_4,   P10,99,1,15,88,2,20140829,0950,1043,-0.5127,142.4872,3145, 978.7, 4.6509,34.5422,2,102.2,2,34.5454,4,100.14,2, 79.14,2,37.59,2,0.00,2,2.67,2, -999,9, -999,9,-999.0,9,-999.0,9,-999.0,9,-999,-999,9,-999,9, 4.5721,2,27.3607,2, 4.6470,2
49UP20140609_4,   P10,99,1,14,999,2,20140829,0950,1039,-0.5127,142.4872,3145,1139.6, 4.0763,34.5584,2,104.9,2,34.5597,6,105.56,2, 90.00,2,37.62,2,0.00,2,2.68,2, -999,9, -999,9,-999.0,9,-999.0,9,-999.0,9,-999,-999,9,-999,9, 3.9881,2,27.4361,2, 4.0769,2
49UP20140609_4,   P10,99,1,13,667,2,20140829,0950,1034,-0.5127,142.4872,3145,1342.5, 3.4388,34.5823,2,102.6,2,34.5824,2,102.49,2,105.95,2,38.36,2,0.00,2,2.74,2, -999,9, -999,9,-999.0,9,-999.0,9,-999.0,9,-999,-999,9,-999,9, 3.3394,2,27.5198,2, 3.4387,2
49UP20140609_4,   P10,99,1,12,74,2,20140829,0950,1029,-0.5127,142.4872,3145,1545.3, 3.0213,34.5988,2,108.7,2,34.5983,2,108.60,2,114.90,2,38.22,2,0.00,2,2.71,2, -999,9, -999,9,-999.0,9,-999.0,9,-999.0,9,-999,-999,9,-999,9, 2.9094,2,27.5731,2, 3.0212,2
49UP20140609_4,   P10,99,1,11,268,2,20140829,0950,1025,-0.5127,142.4872,3145,1748.2, 2.7612,34.6102,2,110.6,2,34.6096,2,110.78,2,121.48,2,38.24,2,0.00,2,2.71,2, -999,9, -999,9,-999.0,9,-999.0,9,-999.0,9,-999,-999,9,-999,9, 2.6353,2,27.6065,2, 2.7610,2
49UP20140609_4,   P10,99,1,10,267,2,20140829,0950,1019,-0.5127,142.4872,3145,1952.2, 2.3850,34.6284,2,117.2,2,34.6281,6,117.46,6,129.24,6,37.92,6,0.00,6,2.68,6, -999,9, -999,9,-999.0,9,-999.0,9,-999.0,9,-999,-999,9,-999,9, 2.2469,2,27.6540,2, 2.3851,2
49UP20140609_4,   P10,99,1, 7,516,2,20140829,0950,1014,-0.5127,142.4872,3145,2150.6, 2.1360,34.6410,2,121.2,2,34.6408,2,121.23,2,135.31,2,37.74,2,0.00,2,2.66,2, -999,9, -999,9,-999.0,9,-999.0,9,-999.0,9,-999,-999,9,-999,9, 1.9845,2,27.6853,2, 2.1359,2
49UP20140609_4,   P10,99,1, 8,81,2,20140829,0950,1014,-0.5127,142.4872,3145,2150.7, 2.1365,34.6410,2,121.2,2,34.6407,2,121.33,2,135.50,2,37.78,2,0.00,2,2.66,2, -999,9, -999,9,-999.0,9,-999.0,9,-999.0,9,-999,-999,9,-999,9, 1.9850,2,27.6852,2, 2.1364,2
49UP20140609_4,   P10,99,1, 6,113,4,20140829,0950,1009,-0.5127,142.4872,3145,2357.2, 1.8863,34.6529,2,128.2,2,34.6495,4,125.62,4,138.43,4,37.45,4,0.00,4,2.63,4, -999,9, -999,9,-999.0,9,-999.0,9,-999.0,9,-999,-999,9,-999,9, 1.7209,2,27.7152,2, 1.8858,2
49UP20140609_4,   P10,99,1, 5,94,2,20140829,0950,1004,-0.5127,142.4872,3145,2560.8, 1.7532,34.6603,2,133.9,2,34.6605,2,133.80,2,141.66,2,36.95,2,0.00,2,2.59,2, -999,9, -999,9,-999.0,9,-999.0,9,-999.0,9,-999,-999,9,-999,9, 1.5721,2,27.7323,2, 1.7531,2
49UP20140609_4,   P10,99,1, 4,77,2,20140829,0950,1000,-0.5127,142.4872,3145,2764.3, 1.6987,34.6640,2,136.9,2,34.6653,2,137.18,6,141.93,6,36.71,6,0.00,6,2.57,6, -999,9, -999,9,-999.0,9,-999.0,9,-999.0,9,-999,-999,9,-999,9, 1.4999,2,27.7406,2, 1.6987,2
49UP20140609_4,   P10,99,1, 3,104,2,20140829,0950, 955,-0.5127,142.4872,3145,2967.6, 1.6192,34.6694,2,141.5,2,34.6701,2,141.62,2,142.29,2,36.43,2,0.00,2,2.55,2, -999,9, -999,9,-999.0,9,-999.0,9,-999.0,9,-999,-999,9,-999,9, 1.4029,2,27.7519,2, 1.6192,2
49UP20140609_4,   P10,99,1, 2,75,2,20140829,0950, 950,-0.5127,142.4872,3145,3147.3, 1.5864,34.6724,2,143.6,2,34.6730,2,143.76,2,142.73,2,36.32,2,0.00,2,2.53,2, -999,9, -999,9,-999.0,9,-999.0,9,-999.0,9,-999,-999,9,-999,9, 1.3535,2,27.7578,2, 1.5864,2