BOTTLE,20230725CCHSIOADS
EXPOCODE,SECT_ID,STNNBR,CASTNO,SAMPNO,BTLNBR,BTLNBR_FLAG_W,DATE,TIME,BTL_TIME,LATITUDE,LONGITUDE,DEPTH,CTDPRS,CTDTMP,CTDSAL,CTDSAL_FLAG_W,CTDOXY,CTDOXY_FLAG_W,SALNTY,SALNTY_FLAG_W,OXYGEN,OXYGEN_FLAG_W,SILCAT,SILCAT_FLAG_W,NO2+NO3,NO2+NO3_FLAG_W,NITRIT,NITRIT_FLAG_W,PHSPHT,PHSPHT_FLAG_W,CFC-11,CFC-11_FLAG_W,CFC-12,CFC-12_FLAG_W,TCARBN,TCARBN_FLAG_W,ALKALI,ALKALI_FLAG_W,PH_TOT,PH_TOT_FLAG_W,PH_TMP,CHLORA,CHLORA_FLAG_W,PPHYTN,PPHYTN_FLAG_W,THETA,THETA_FLAG_W,SIG0,SIG0_FLAG_W,REFTMP,REFTMP_FLAG_W
,,,,,,,,,,,,METERS,DBAR,ITS-90,PSS-78,,UMOL/KG,,PSS-78,,UMOL/KG,,UMOL/KG,,UMOL/KG,,UMOL/KG,,UMOL/KG,,PMOL/KG,,PMOL/KG,,UMOL/KG,,UMOL/KG,,,,DEG C,UG/KG,,UG/KG,,ITS-90,,KG/M^3,,ITS-90,
49UP20140609_4,   P10,90,1, 0,BUC,2,20140826,2225,2338,-0.5003,145.9868,2992,   0.0,29.8091,34.1707,2,196.0,2,   -999,9,195.67,2,  1.16,2, 0.04,2,0.00,2,0.08,2, -999,9, -999,9,-999.0,9,-999.0,9,-999.0,9,-999,-999,9,-999,9,29.8085,2,21.1697,2,   -999,9
49UP20140609_4,   P10,90,1,35,112,2,20140826,2225,2355,-0.5003,145.9868,2992,   9.9,29.7602,34.1692,2,196.1,2,34.1681,2,196.17,2,  1.16,2, 0.01,2,0.00,2,0.07,2, -999,9, -999,9,-999.0,9,-999.0,9,-999.0,9,-999,-999,9,-999,9,29.7578,2,21.1858,2,29.7603,2
49UP20140609_4,   P10,90,1,34,83,2,20140826,2225,2354,-0.5003,145.9868,2992,  25.7,29.6143,34.2618,2,196.9,2,34.2776,4,196.79,2,  1.16,2, 0.01,2,0.00,2,0.09,2, -999,9, -999,9,-999.0,9,-999.0,9,-999.0,9,-999,-999,9,-999,9,29.6080,2,21.3059,2,29.6163,2
49UP20140609_4,   P10,90,1,33,469,2,20140826,2225,2351,-0.5003,145.9868,2992,  50.8,29.4650,34.7622,2,197.1,2,34.8326,4,196.43,2,  1.10,2, 0.25,2,0.04,2,0.21,2, -999,9, -999,9,-999.0,9,-999.0,9,-999.0,9,-999,-999,9,-999,9,29.4526,2,21.7336,2,29.4617,2
49UP20140609_4,   P10,90,1,32,105,2,20140826,2225,2351,-0.5003,145.9868,2992,  50.8,29.4632,34.7622,2,197.3,2,34.8197,4,196.67,2,  1.08,2, 0.23,2,0.03,2,0.21,2, -999,9, -999,9,-999.0,9,-999.0,9,-999.0,9,-999,-999,9,-999,9,29.4508,2,21.7342,2,29.4622,2
49UP20140609_4,   P10,90,1,31,515,2,20140826,2225,2350,-0.5003,145.9868,2992,  75.8,28.6521,35.5015,2,174.5,2,35.5027,2,174.50,2,  1.83,2, 4.94,2,0.98,2,0.55,2, -999,9, -999,9,-999.0,9,-999.0,9,-999.0,9,-999,-999,9,-999,9,28.6339,2,22.5628,2,28.6453,2
49UP20140609_4,   P10,90,1,30,97,2,20140826,2225,2349,-0.5003,145.9868,2992, 100.3,27.3104,35.5876,2,153.4,2,35.6017,4,152.89,2,  2.18,2, 7.52,2,0.14,2,0.70,2, -999,9, -999,9,-999.0,9,-999.0,9,-999.0,9,-999,-999,9,-999,9,27.2872,2,23.0682,2,27.3084,2
49UP20140609_4,   P10,90,1,29,102,2,20140826,2225,2348,-0.5003,145.9868,2992, 126.2,22.5143,35.4467,2,137.7,2,35.4524,2,137.51,2,  3.82,2, 8.85,2,0.02,2,0.75,2, -999,9, -999,9,-999.0,9,-999.0,9,-999.0,9,-999,-999,9,-999,9,22.4889,2,24.4190,2,22.5123,2
49UP20140609_4,   P10,90,1,28,108,2,20140826,2225,2346,-0.5003,145.9868,2992, 151.2,21.6278,35.3574,2,136.7,2,35.4036,4,137.36,2,  4.48,2, 9.38,2,0.01,2,0.78,2, -999,9, -999,9,-999.0,9,-999.0,9,-999.0,9,-999,-999,9,-999,9,21.5982,2,24.6016,2,21.6203,2
49UP20140609_4,   P10,90,1,26,84,2,20140826,2225,2345,-0.5003,145.9868,2992, 202.5,17.1471,35.3369,2,143.5,2,35.3273,4,143.97,2,  5.64,2,12.80,2,0.01,2,1.01,2, -999,9, -999,9,-999.0,9,-999.0,9,-999.0,9,-999,-999,9,-999,9,17.1134,2,25.7458,2,17.1457,2
49UP20140609_4,   P10,90,1,25,98,2,20140826,2225,2343,-0.5003,145.9868,2992, 252.7,13.7746,35.0562,2,151.8,2,35.0548,2,152.07,2,  8.95,2,16.46,2,0.01,2,1.23,3, -999,9, -999,9,-999.0,9,-999.0,9,-999.0,9,-999,-999,9,-999,9,13.7384,2,26.2854,2,13.7737,2
49UP20140609_4,   P10,90,1,23,96,2,20140826,2225,2342,-0.5003,145.9868,2992, 281.9,12.2771,34.9145,2,146.9,2,34.9092,2,146.72,2, 13.53,2,19.44,2,0.00,2,1.42,2, -999,9, -999,9,-999.0,9,-999.0,9,-999.0,9,-999,-999,9,-999,9,12.2396,2,26.4766,2,12.2725,2
49UP20140609_4,   P10,90,1,22,111,2,20140826,2225,2340,-0.5003,145.9868,2992, 321.9,11.1606,34.7965,2,133.4,2,34.7974,2,133.37,2, 19.02,2,22.71,2,0.00,2,1.64,2, -999,9, -999,9,-999.0,9,-999.0,9,-999.0,9,-999,-999,9,-999,9,11.1204,2,26.5952,2,11.1600,2
49UP20140609_4,   P10,90,1,21,78,2,20140826,2225,2339,-0.5003,145.9868,2992, 372.5,10.2555,34.7389,2,110.4,2,34.7399,2,110.94,6, 22.68,6,26.67,6,0.00,6,1.89,6, -999,9, -999,9,-999.0,9,-999.0,9,-999.0,9,-999,-999,9,-999,9,10.2114,2,26.7118,2,10.2545,2
49UP20140609_4,   P10,90,1,20,93,2,20140826,2225,2337,-0.5003,145.9868,2992, 423.3, 9.2297,34.6700,2, 98.8,2,34.6701,6, 98.58,2, 27.90,2,29.96,2,0.00,2,2.10,2, -999,9, -999,9,-999.0,9,-999.0,9,-999.0,9,-999,-999,9,-999,9, 9.1826,2,26.8303,2, 9.2291,2
49UP20140609_4,   P10,90,1,18,101,2,20140826,2225,2335,-0.5003,145.9868,2992, 473.6, 8.6151,34.6288,2,119.3,2,34.6301,2,119.53,2, 27.70,2,29.16,2,0.00,2,2.05,2, -999,9, -999,9,-999.0,9,-999.0,9,-999.0,9,-999,-999,9,-999,9, 8.5644,2,26.8962,2, 8.6147,2
49UP20140609_4,   P10,90,1,19,92,2,20140826,2225,2336,-0.5003,145.9868,2992, 473.9, 8.6159,34.6290,2,119.3,2,34.6293,2,119.42,2, 27.72,2,29.11,2,0.00,2,2.05,2, -999,9, -999,9,-999.0,9,-999.0,9,-999.0,9,-999,-999,9,-999,9, 8.5652,2,26.8963,2, 8.6152,2
49UP20140609_4,   P10,90,1,17,90,2,20140826,2225,2333,-0.5003,145.9868,2992, 574.7, 6.9272,34.5389,2,137.2,2,34.5405,2,137.47,2, 35.14,2,30.76,2,0.00,2,2.16,2, -999,9, -999,9,-999.0,9,-999.0,9,-999.0,9,-999,-999,9,-999,9, 6.8726,2,27.0731,2, 6.9270,2
49UP20140609_4,   P10,90,1,16,89,3,20140826,2225,2330,-0.5003,145.9868,2992, 675.8, 6.2781,34.5371,2,103.9,2,34.5379,2,104.18,2, 49.24,2,35.15,2,0.00,2,2.49,2, -999,9, -999,9,-999.0,9,-999.0,9,-999.0,9,-999,-999,9,-999,9, 6.2167,2,27.1590,2, 6.2776,2
49UP20140609_4,   P10,90,1,15,88,2,20140826,2225,2327,-0.5003,145.9868,2992, 775.5, 5.5939,34.5261,2,113.4,2,34.5268,2,113.28,2, 57.92,2,35.30,2,0.00,2,2.50,2, -999,9, -999,9,-999.0,9,-999.0,9,-999.0,9,-999,-999,9,-999,9, 5.5270,2,27.2370,2, 5.5933,2
49UP20140609_4,   P10,90,1,14,999,2,20140826,2225,2324,-0.5003,145.9868,2992, 877.2, 5.1025,34.5345,2,104.2,2,34.5353,2,104.06,2, 68.58,2,36.75,2,0.00,2,2.62,2, -999,9, -999,9,-999.0,9,-999.0,9,-999.0,9,-999,-999,9,-999,9, 5.0294,2,27.3028,2, 5.1023,2
49UP20140609_4,   P10,90,1,13,667,2,20140826,2225,2322,-0.5003,145.9868,2992, 978.8, 4.7571,34.5402,2,102.7,2,34.5410,2,102.49,6, 74.76,6,37.34,6,0.00,6,2.66,6, -999,9, -999,9,-999.0,9,-999.0,9,-999.0,9,-999,-999,9,-999,9, 4.6775,2,27.3474,2, 4.7570,2
49UP20140609_4,   P10,90,1,12,74,2,20140826,2225,2318,-0.5003,145.9868,2992,1139.6, 4.1483,34.5585,2,102.4,2,34.5584,6,102.28,2, 90.32,2,37.80,2,0.00,2,2.70,2, -999,9, -999,9,-999.0,9,-999.0,9,-999.0,9,-999,-999,9,-999,9, 4.0595,2,27.4288,2, 4.1484,2
49UP20140609_4,   P10,90,1,11,268,2,20140826,2225,2313,-0.5003,145.9868,2992,1342.3, 3.4834,34.5820,2, 98.9,2,34.5814,2, 99.08,2,106.50,2,38.74,2,0.00,2,2.77,2, -999,9, -999,9,-999.0,9,-999.0,9,-999.0,9,-999,-999,9,-999,9, 3.3835,2,27.5153,2, 3.4834,2
49UP20140609_4,   P10,90,1, 9,518,2,20140826,2225,2308,-0.5003,145.9868,2992,1544.3, 2.9719,34.5998,2,109.5,2,34.5995,2,109.48,2,115.21,2,38.22,2,0.00,2,2.71,2, -999,9, -999,9,-999.0,9,-999.0,9,-999.0,9,-999,-999,9,-999,9, 2.8606,2,27.5783,2, 2.9723,2
49UP20140609_4,   P10,90,1,10,267,2,20140826,2225,2308,-0.5003,145.9868,2992,1544.5, 2.9724,34.5999,2,109.5,2,34.5994,2,109.69,2,115.11,2,38.24,2,0.00,2,2.72,2, -999,9, -999,9,-999.0,9,-999.0,9,-999.0,9,-999,-999,9,-999,9, 2.8611,2,27.5783,2, 2.9727,2
49UP20140609_4,   P10,90,1, 8,81,2,20140826,2225,2303,-0.5003,145.9868,2992,1747.6, 2.5619,34.6194,2,113.2,2,34.6193,2,113.29,2,125.31,2,38.16,2,0.00,2,2.70,2, -999,9, -999,9,-999.0,9,-999.0,9,-999.0,9,-999,-999,9,-999,9, 2.4387,2,27.6308,2, 2.5621,2
49UP20140609_4,   P10,90,1, 7,516,3,20140826,2225,2253,-0.5003,145.9868,2992,1951.7, 2.3166,34.6315,2,117.2,2,34.6316,2,117.24,2,131.26,2,38.06,2,0.00,2,2.68,2, -999,9, -999,9,-999.0,9,-999.0,9,-999.0,9,-999,-999,9,-999,9, 2.1795,2,27.6620,2, 2.3166,2
49UP20140609_4,   P10,90,1, 6,113,3,20140826,2225,2248,-0.5003,145.9868,2992,2154.6, 2.0189,34.6463,2,124.2,2,34.6474,6,124.26,2,137.57,2,37.65,2,0.00,2,2.65,2, -999,9, -999,9,-999.0,9,-999.0,9,-999.0,9,-999,-999,9,-999,9, 1.8689,2,27.6986,2, 2.0189,2
49UP20140609_4,   P10,90,1, 5,94,3,20140826,2225,2243,-0.5003,145.9868,2992,2357.8, 1.9843,34.6484,2,125.1,2,34.6485,2,125.04,2,138.82,2,37.60,2,0.00,2,2.64,2, -999,9, -999,9,-999.0,9,-999.0,9,-999.0,9,-999,-999,9,-999,9, 1.8172,2,27.7043,2, 1.9844,2
49UP20140609_4,   P10,90,1, 4,77,2,20140826,2225,2238,-0.5003,145.9868,2992,2560.4, 1.7953,34.6583,2,132.4,2,34.6588,6,132.12,6,141.01,6,37.14,6,0.00,6,2.61,6, -999,9, -999,9,-999.0,9,-999.0,9,-999.0,9,-999,-999,9,-999,9, 1.6133,2,27.7277,2, 1.7953,2
49UP20140609_4,   P10,90,1, 3,104,2,20140826,2225,2233,-0.5003,145.9868,2992,2763.5, 1.6906,34.6646,2,137.5,2,34.6650,2,137.33,2,141.81,2,36.80,2,0.00,2,2.57,2, -999,9, -999,9,-999.0,9,-999.0,9,-999.0,9,-999,-999,9,-999,9, 1.4921,2,27.7416,2, 1.6907,2
49UP20140609_4,   P10,90,1, 2,75,2,20140826,2225,2229,-0.5003,145.9868,2992,2968.4, 1.6074,34.6702,2,142.3,2,34.6715,2,142.36,2,142.51,2,36.45,2,0.00,2,2.55,2, -999,9, -999,9,-999.0,9,-999.0,9,-999.0,9,-999,-999,9,-999,9, 1.3913,2,27.7534,2, 1.6076,2
49UP20140609_4,   P10,90,1, 1,997,2,20140826,2225,2226,-0.5003,145.9868,2992,3011.0, 1.6050,34.6707,2,142.6,2,34.6703,2,142.60,2,142.51,2,36.42,2,0.00,2,2.55,2, -999,9, -999,9,-999.0,9,-999.0,9,-999.0,9,-999,-999,9,-999,9, 1.3849,2,27.7542,2, 1.6053,2
49UP20140609_4,   P10,91,1, 0,BUC,2,20140827,0526, 620,-0.7493,145.9217,2433,   0.0,30.0760,34.2267,2,195.3,2,   -999,9,195.46,2,  1.18,2, 0.02,2,0.00,2,0.09,2, -999,9, -999,9,-999.0,9,-999.0,9,-999.0,9,-999,-999,9,-999,9,30.0754,2,21.1208,2,   -999,9
49UP20140609_4,   P10,91,1,35,112,2,20140827,0526, 631,-0.7493,145.9217,2433,  10.4,29.7379,34.2144,2,195.9,2,34.2246,4,196.80,2,  1.10,2, 0.00,2,0.00,2,0.08,2, -999,9, -999,9,-999.0,9,-999.0,9,-999.0,9,-999,-999,9,-999,9,29.7354,2,21.2272,2,29.7369,2
49UP20140609_4,   P10,91,1,34,83,2,20140827,0526, 630,-0.7493,145.9217,2433,  25.2,29.6017,34.5279,2,197.5,2,34.5724,4,198.74,2,  1.06,2, 0.00,2,0.00,2,0.14,2, -999,9, -999,9,-999.0,9,-999.0,9,-999.0,9,-999,-999,9,-999,9,29.5955,2,21.5097,2,29.6016,2
49UP20140609_4,   P10,91,1,33,469,2,20140827,0526, 629,-0.7493,145.9217,2433,  50.4,29.0495,34.9953,2,188.7,2,35.0211,4,187.85,2,  1.17,2, 1.44,2,0.32,2,0.30,2, -999,9, -999,9,-999.0,9,-999.0,9,-999.0,9,-999,-999,9,-999,9,29.0373,2,22.0480,2,29.0454,2
49UP20140609_4,   P10,91,1,32,105,2,20140827,0526, 628,-0.7493,145.9217,2433,  76.4,28.6173,35.5271,2,174.9,2,35.5244,2,173.58,2,  1.81,2, 5.29,2,0.99,2,0.56,2, -999,9, -999,9,-999.0,9,-999.0,9,-999.0,9,-999,-999,9,-999,9,28.5990,2,22.5936,2,28.6214,2
49UP20140609_4,   P10,91,1,31,515,2,20140827,0526, 625,-0.7493,145.9217,2433, 100.9,27.3297,35.5632,2,153.3,2,35.5641,2,152.43,2,  1.97,2, 7.01,2,0.07,2,0.65,2, -999,9, -999,9,-999.0,9,-999.0,9,-999.0,9,-999,-999,9,-999,9,27.3063,2,23.0437,2,27.3257,2
49UP20140609_4,   P10,91,1,30,97,2,20140827,0526, 624,-0.7493,145.9217,2433, 125.7,26.1780,35.6077,2,145.5,2,35.6156,2,146.85,2,  2.03,2, 7.51,2,0.07,2,0.68,2, -999,9, -999,9,-999.0,9,-999.0,9,-999.0,9,-999,-999,9,-999,9,26.1498,2,23.4450,2,26.1769,2
49UP20140609_4,   P10,91,1,29,102,2,20140827,0526, 623,-0.7493,145.9217,2433, 150.3,23.3482,35.5017,2,137.5,2,35.4789,4,138.04,2,  3.59,2, 8.76,2,0.03,2,0.74,2, -999,9, -999,9,-999.0,9,-999.0,9,-999.0,9,-999,-999,9,-999,9,23.3171,2,24.2222,2,23.3497,2
49UP20140609_4,   P10,91,1,28,108,2,20140827,0526, 622,-0.7493,145.9217,2433, 201.4,19.4714,35.4650,2,139.9,2,35.4288,4,141.74,6,  4.57,6,11.28,6,0.01,6,0.91,6, -999,9, -999,9,-999.0,9,-999.0,9,-999.0,9,-999,-999,9,-999,9,19.4347,2,25.2646,2,19.4727,2
49UP20140609_4,   P10,91,1,27,998,2,20140827,0526, 620,-0.7493,145.9217,2433, 251.8,13.8604,35.0640,2,152.9,2,35.0433,4,152.98,2,  8.96,2,16.55,2,0.01,2,1.23,3, -999,9, -999,9,-999.0,9,-999.0,9,-999.0,9,-999,-999,9,-999,9,13.8241,2,26.2735,2,13.8672,2
49UP20140609_4,   P10,91,1,26,84,2,20140827,0526, 620,-0.7493,145.9217,2433, 251.8,13.8595,35.0634,2,152.9,2,35.0381,4,152.91,2,  9.12,2,16.66,2,0.01,2,1.24,2, -999,9, -999,9,-999.0,9,-999.0,9,-999.0,9,-999,-999,9,-999,9,13.8233,2,26.2732,2,13.8721,2
49UP20140609_4,   P10,91,1,25,98,2,20140827,0526, 619,-0.7493,145.9217,2433, 302.4,11.6713,34.8474,2,141.4,2,34.8479,6,141.09,2, 16.31,2,20.93,2,0.01,2,1.51,2, -999,9, -999,9,-999.0,9,-999.0,9,-999.0,9,-999,-999,9,-999,9,11.6325,2,26.5402,2,11.6706,2
49UP20140609_4,   P10,91,1,21,78,2,20140827,0526, 617,-0.7493,145.9217,2433, 352.2,11.1662,34.7970,2,134.0,2,34.7983,2,133.88,2, 18.82,2,22.66,2,0.00,2,1.62,2, -999,9, -999,9,-999.0,9,-999.0,9,-999.0,9,-999,-999,9,-999,9,11.1221,2,26.5952,2,11.1657,2
49UP20140609_4,   P10,91,1,20,93,2,20140827,0526, 616,-0.7493,145.9217,2433, 403.1,10.0775,34.7307,2,112.8,2,34.7321,2,113.55,2, 22.31,2,26.78,2,0.00,2,1.88,2, -999,9, -999,9,-999.0,9,-999.0,9,-999.0,9,-999,-999,9,-999,9,10.0302,2,26.7365,2,10.0783,2
49UP20140609_4,   P10,91,1,18,101,2,20140827,0526, 612,-0.7493,145.9217,2433, 504.1, 8.4640,34.6179,2,133.2,2,34.6188,2,132.38,2, 26.16,2,28.22,2,0.00,2,1.97,2, -999,9, -999,9,-999.0,9,-999.0,9,-999.0,9,-999,-999,9,-999,9, 8.4105,2,26.9115,2, 8.4642,2
49UP20140609_4,   P10,91,1,17,90,2,20140827,0526, 610,-0.7493,145.9217,2433, 607.6, 6.6967,34.5393,2,121.1,2,34.5400,2,120.75,2, 40.81,2,32.78,2,0.00,2,2.30,2, -999,9, -999,9,-999.0,9,-999.0,9,-999.0,9,-999,-999,9,-999,9, 6.6399,2,27.1050,2, 6.6967,2
49UP20140609_4,   P10,91,1,16,89,2,20140827,0526, 608,-0.7493,145.9217,2433, 706.3, 5.9159,34.5304,2,110.0,2,34.5315,2,110.09,6, 52.57,6,35.20,6,0.00,6,2.48,6, -999,9, -999,9,-999.0,9,-999.0,9,-999.0,9,-999,-999,9,-999,9, 5.8536,2,27.2001,2, 5.9157,2
49UP20140609_4,   P10,91,1,15,88,2,20140827,0526, 605,-0.7493,145.9217,2433, 806.6, 5.3945,34.5271,2,112.6,2,34.5278,6,112.75,2, 60.75,2,35.64,2,0.00,2,2.52,2, -999,9, -999,9,-999.0,9,-999.0,9,-999.0,9,-999,-999,9,-999,9, 5.3259,2,27.2621,2, 5.3943,2
49UP20140609_4,   P10,91,1,14,999,2,20140827,0526, 603,-0.7493,145.9217,2433, 907.0, 4.9113,34.5379,2,102.5,2,34.5374,2,102.43,2, 71.97,2,37.24,2,0.00,2,2.64,2, -999,9, -999,9,-999.0,9,-999.0,9,-999.0,9,-999,-999,9,-999,9, 4.8369,2,27.3276,2, 4.9116,2
49UP20140609_4,   P10,91,1,13,667,2,20140827,0526, 603,-0.7493,145.9217,2433, 907.0, 4.9119,34.5379,2,102.5,2,34.5382,2,102.42,2, 72.07,2,37.18,2,0.00,2,2.63,2, -999,9, -999,9,-999.0,9,-999.0,9,-999.0,9,-999,-999,9,-999,9, 4.8375,2,27.3276,2, 4.9118,2
49UP20140609_4,   P10,91,1,12,74,2,20140827,0526, 600,-0.7493,145.9217,2433,1008.1, 4.5855,34.5458,2,100.8,2,34.5457,2,100.75,2, 79.78,2,37.45,2,0.00,2,2.67,2, -999,9, -999,9,-999.0,9,-999.0,9,-999.0,9,-999,-999,9,-999,9, 4.5046,2,27.3710,2, 4.5854,2
49UP20140609_4,   P10,91,1,10,267,3,20140827,0526, 556,-0.7493,145.9217,2433,1210.4, 3.8285,34.5628,2,107.7,2,34.5632,2,107.65,2, 92.96,2,37.67,2,0.00,2,2.68,2, -999,9, -999,9,-999.0,9,-999.0,9,-999.0,9,-999,-999,9,-999,9, 3.7365,2,27.4653,2, 3.8289,2
49UP20140609_4,   P10,91,1,11,268,2,20140827,0526, 556,-0.7493,145.9217,2433,1210.5, 3.8289,34.5630,2,107.7,2,34.5650,4,107.68,2, 93.00,2,37.77,2,0.00,2,2.68,2, -999,9, -999,9,-999.0,9,-999.0,9,-999.0,9,-999,-999,9,-999,9, 3.7369,2,27.4654,2, 3.8291,2
49UP20140609_4,   P10,91,1, 9,518,2,20140827,0526, 551,-0.7493,145.9217,2433,1413.6, 3.2762,34.5846,2,110.1,2,34.5852,2,109.89,2,106.47,2,38.06,2,0.00,2,2.70,2, -999,9, -999,9,-999.0,9,-999.0,9,-999.0,9,-999,-999,9,-999,9, 3.1725,2,27.5375,2, 3.2765,2
49UP20140609_4,   P10,91,1, 8,81,2,20140827,0526, 547,-0.7493,145.9217,2433,1617.6, 2.8419,34.6046,2,115.2,2,34.6040,2,115.06,2,115.82,2,37.83,2,0.00,2,2.68,2, -999,9, -999,9,-999.0,9,-999.0,9,-999.0,9,-999,-999,9,-999,9, 2.7260,2,27.5941,2, 2.8420,2
49UP20140609_4,   P10,91,1, 7,516,2,20140827,0526, 542,-0.7493,145.9217,2433,1818.3, 2.4957,34.6222,2,117.0,2,34.6218,2,117.30,2,125.48,2,37.86,2,0.00,2,2.67,2, -999,9, -999,9,-999.0,9,-999.0,9,-999.0,9,-999,-999,9,-999,9, 2.3674,2,27.6390,2, 2.4960,2
49UP20140609_4,   P10,91,1, 3,104,2,20140827,0526, 536,-0.7493,145.9217,2433,2021.1, 2.2523,34.6348,2,119.7,2,34.6344,6,119.67,6,132.17,6,37.81,6,0.00,6,2.67,6, -999,9, -999,9,-999.0,9,-999.0,9,-999.0,9,-999,-999,9,-999,9, 2.1102,2,27.6703,2, 2.2524,2
49UP20140609_4,   P10,91,1, 2,75,2,20140827,0526, 532,-0.7493,145.9217,2433,2224.7, 2.0124,34.6467,2,125.1,2,34.6479,2,125.10,2,136.97,2,37.53,2,0.00,2,2.63,2, -999,9, -999,9,-999.0,9,-999.0,9,-999.0,9,-999,-999,9,-999,9, 1.8565,2,27.6999,2, 2.0125,2
49UP20140609_4,   P10,91,1, 1,997,2,20140827,0526, 527,-0.7493,145.9217,2433,2434.5, 1.8757,34.6539,2,129.5,2,34.6539,6,129.12,2,139.96,2,37.15,2,0.00,2,2.61,2, -999,9, -999,9,-999.0,9,-999.0,9,-999.0,9,-999,-999,9,-999,9, 1.7036,2,27.7173,2, 1.8764,2