BOTTLE,20230725CCHSIOADS
EXPOCODE,SECT_ID,STNNBR,CASTNO,SAMPNO,BTLNBR,BTLNBR_FLAG_W,DATE,TIME,BTL_TIME,LATITUDE,LONGITUDE,DEPTH,CTDPRS,CTDTMP,CTDSAL,CTDSAL_FLAG_W,CTDOXY,CTDOXY_FLAG_W,SALNTY,SALNTY_FLAG_W,OXYGEN,OXYGEN_FLAG_W,SILCAT,SILCAT_FLAG_W,NO2+NO3,NO2+NO3_FLAG_W,NITRIT,NITRIT_FLAG_W,PHSPHT,PHSPHT_FLAG_W,CFC-11,CFC-11_FLAG_W,CFC-12,CFC-12_FLAG_W,TCARBN,TCARBN_FLAG_W,ALKALI,ALKALI_FLAG_W,PH_TOT,PH_TOT_FLAG_W,PH_TMP,CHLORA,CHLORA_FLAG_W,PPHYTN,PPHYTN_FLAG_W,THETA,THETA_FLAG_W,SIG0,SIG0_FLAG_W,REFTMP,REFTMP_FLAG_W
,,,,,,,,,,,,METERS,DBAR,ITS-90,PSS-78,,UMOL/KG,,PSS-78,,UMOL/KG,,UMOL/KG,,UMOL/KG,,UMOL/KG,,UMOL/KG,,PMOL/KG,,PMOL/KG,,UMOL/KG,,UMOL/KG,,,,DEG C,UG/KG,,UG/KG,,ITS-90,,KG/M^3,,ITS-90,
49UP20140609_3,   P10,52,1, 0,BUC,2,20140802,2346, 122,15.8203,149.3307,4640,   0.0,29.7539,34.1450,2,194.8,2,   -999,9,193.91,2,  0.88,2, 0.00,2,0.00,2,0.07,2, -999,9, -999,9,-999.0,9,-999.0,9,-999.0,9,-999,-999,9,-999,9,29.7532,2,21.1692,2,   -999,9
49UP20140609_3,   P10,52,1,36,109,2,20140802,2346, 140,15.8203,149.3307,4640,   9.9,29.7711,34.1691,2,194.6,2,34.1657,2,194.13,2,  0.88,2, 0.00,2,0.00,2,0.05,2, -999,9, -999,9,-999.0,9,-999.0,9,-999.0,9,-999,-999,9,-999,9,29.7687,2,21.1820,2,29.7707,2
49UP20140609_3,   P10,52,1,35,112,2,20140802,2346, 136,15.8203,149.3307,4640,  49.9,29.7189,34.5251,2,198.2,2,34.5047,4,198.77,2,  0.92,2, 0.00,2,0.00,2,0.06,2, -999,9, -999,9,-999.0,9,-999.0,9,-999.0,9,-999,-999,9,-999,9,29.7066,2,21.4699,2,29.7294,2
49UP20140609_3,   P10,52,1,34,83,2,20140802,2346, 134,15.8203,149.3307,4640,  99.9,27.8104,35.1008,2,206.0,2,35.1026,2,205.73,2,  0.75,2, 0.00,2,0.00,2,0.11,2, -999,9, -999,9,-999.0,9,-999.0,9,-999.0,9,-999,-999,9,-999,9,27.7870,2,22.5399,2,27.8063,2
49UP20140609_3,   P10,52,1,33,107,2,20140802,2346, 133,15.8203,149.3307,4640, 125.4,27.0102,35.1478,2,202.6,2,35.1547,2,202.29,6,  0.93,6, 0.00,6,0.00,6,0.12,6, -999,9, -999,9,-999.0,9,-999.0,9,-999.0,9,-999,-999,9,-999,9,26.9814,2,22.8350,2,27.0086,2
49UP20140609_3,   P10,52,1,32,105,2,20140802,2346, 132,15.8203,149.3307,4640, 150.0,25.7897,35.2376,2,194.1,2,35.2391,2,193.97,2,  0.89,2, 0.03,2,0.05,2,0.10,2, -999,9, -999,9,-999.0,9,-999.0,9,-999.0,9,-999,-999,9,-999,9,25.7564,2,23.2884,2,25.8159,2
49UP20140609_3,   P10,52,1,31,515,2,20140802,2346, 131,15.8203,149.3307,4640, 201.2,21.4527,35.0833,2,173.6,2,35.0584,4,175.52,2,  2.23,2, 2.63,2,0.01,2,0.27,2, -999,9, -999,9,-999.0,9,-999.0,9,-999.0,9,-999,-999,9,-999,9,21.4135,2,24.4441,2,21.4297,2
49UP20140609_3,   P10,52,1,30,97,2,20140802,2346, 129,15.8203,149.3307,4640, 251.7,16.7972,34.6668,2,167.9,2,34.6600,6,168.64,2,  6.46,2, 8.13,2,0.01,2,0.66,2, -999,9, -999,9,-999.0,9,-999.0,9,-999.0,9,-999,-999,9,-999,9,16.7560,2,25.3161,2,16.7960,2
49UP20140609_3,   P10,52,1,29,102,2,20140802,2346, 127,15.8203,149.3307,4640, 332.1,11.6412,34.2949,2,139.6,2,34.2963,2,139.39,2, 20.10,2,18.81,2,0.00,2,1.42,2, -999,9, -999,9,-999.0,9,-999.0,9,-999.0,9,-999,-999,9,-999,9,11.5988,2,26.1168,2,11.6395,2
49UP20140609_3,   P10,52,1,28,108,2,20140802,2346, 126,15.8203,149.3307,4640, 382.8, 9.8940,34.2756,2,107.5,2,34.2757,2,105.23,2, 32.62,2,25.83,2,0.00,2,1.93,2, -999,9, -999,9,-999.0,9,-999.0,9,-999.0,9,-999,-999,9,-999,9, 9.8498,2,26.4117,2, 9.9024,2
49UP20140609_3,   P10,52,1,27,998,2,20140802,2346, 124,15.8203,149.3307,4640, 432.9, 8.5999,34.3060,2, 89.6,2,34.3108,2, 88.96,2, 42.45,2,29.60,2,0.00,2,2.18,2, -999,9, -999,9,-999.0,9,-999.0,9,-999.0,9,-999,-999,9,-999,9, 8.5539,2,26.6447,2, 8.6002,2
49UP20140609_3,   P10,52,1,26,84,2,20140802,2346, 123,15.8203,149.3307,4640, 482.8, 8.1078,34.3283,2, 80.3,2,34.3310,6, 79.66,2, 47.67,2,31.54,2,0.00,2,2.31,2, -999,9, -999,9,-999.0,9,-999.0,9,-999.0,9,-999,-999,9,-999,9, 8.0581,2,26.7376,2, 8.1080,2
49UP20140609_3,   P10,52,1,25,98,2,20140802,2346, 121,15.8203,149.3307,4640, 533.6, 7.0968,34.3068,2, 70.6,2,34.3137,4, 70.46,2, 58.43,2,34.18,2,0.00,2,2.51,2, -999,9, -999,9,-999.0,9,-999.0,9,-999.0,9,-999,-999,9,-999,9, 7.0458,2,26.8664,2, 7.1020,2
49UP20140609_3,   P10,52,1,24,110,2,20140802,2346, 119,15.8203,149.3307,4640, 633.8, 6.1167,34.3907,2, 62.7,2,34.3942,4, 62.66,2, 70.92,2,36.98,2,0.00,2,2.69,2, -999,9, -999,9,-999.0,9,-999.0,9,-999.0,9,-999,-999,9,-999,9, 6.0603,2,27.0635,2, 6.1163,2
49UP20140609_3,   P10,52,1,23,96,2,20140802,2346, 116,15.8203,149.3307,4640, 735.4, 5.6031,34.4408,2, 63.7,2,34.4497,4, 63.89,6, 78.23,6,37.92,6,0.00,6,2.76,6, -999,9, -999,9,-999.0,9,-999.0,9,-999.0,9,-999,-999,9,-999,9, 5.5399,2,27.1679,2, 5.6042,2
49UP20140609_3,   P10,52,1,22,111,2,20140802,2346, 114,15.8203,149.3307,4640, 837.2, 5.0789,34.4912,2, 68.2,2,34.4925,2, 68.02,2, 86.01,2,38.63,2,0.00,2,2.79,2, -999,9, -999,9,-999.0,9,-999.0,9,-999.0,9,-999,-999,9,-999,9, 5.0097,2,27.2707,2, 5.0808,2
49UP20140609_3,   P10,52,1,21,78,2,20140802,2346, 111,15.8203,149.3307,4640, 936.4, 4.7291,34.5072,2, 69.6,2,34.5084,2, 69.33,2, 92.10,2,38.96,2,0.00,2,2.81,2, -999,9, -999,9,-999.0,9,-999.0,9,-999.0,9,-999,-999,9,-999,9, 4.6535,2,27.3239,2, 4.7296,2
49UP20140609_3,   P10,52,1,20,93,2,20140802,2346, 108,15.8203,149.3307,4640,1079.7, 4.1165,34.5309,2, 73.6,2,34.5325,2, 73.84,2,104.00,2,39.37,2,0.00,2,2.84,2, -999,9, -999,9,-999.0,9,-999.0,9,-999.0,9,-999,-999,9,-999,9, 4.0332,2,27.4096,2, 4.1161,2
49UP20140609_3,   P10,52,1,19,92,2,20140802,2346, 103,15.8203,149.3307,4640,1281.5, 3.5298,34.5581,2, 81.6,2,34.5595,2, 81.39,2,115.33,2,39.36,2,0.00,2,2.82,2, -999,9, -999,9,-999.0,9,-999.0,9,-999.0,9,-999,-999,9,-999,9, 3.4346,2,27.4914,2, 3.5278,2
49UP20140609_3,   P10,52,1,18,101,2,20140802,2346,  59,15.8203,149.3307,4640,1483.0, 3.0713,34.5737,2, 88.1,2,34.5719,4, 88.09,2,124.65,2,39.21,2,0.00,2,2.80,2, -999,9, -999,9,-999.0,9,-999.0,9,-999.0,9,-999,-999,9,-999,9, 2.9640,2,27.5480,2, 3.0726,2
49UP20140609_3,   P10,52,1,17,90,2,20140802,2346,  54,15.8203,149.3307,4640,1685.5, 2.6952,34.5898,2, 94.8,2,34.5900,6, 94.61,2,131.95,2,39.03,2,0.00,2,2.78,2, -999,9, -999,9,-999.0,9,-999.0,9,-999.0,9,-999,-999,9,-999,9, 2.5755,2,27.5955,2, 2.6949,2
49UP20140609_3,   P10,52,1,16,89,2,20140802,2346,  50,15.8203,149.3307,4640,1889.7, 2.4111,34.6083,2,101.8,2,34.6088,2,101.87,2,136.70,2,38.68,2,0.00,2,2.76,2, -999,9, -999,9,-999.0,9,-999.0,9,-999.0,9,-999,-999,9,-999,9, 2.2780,2,27.6354,2, 2.4108,2
49UP20140609_3,   P10,52,1,15,88,2,20140802,2346,  46,15.8203,149.3307,4640,2092.0, 2.1620,34.6227,2,108.7,2,34.6234,2,108.47,2,141.13,2,38.49,2,0.00,2,2.73,2, -999,9, -999,9,-999.0,9,-999.0,9,-999.0,9,-999,-999,9,-999,9, 2.0153,2,27.6682,2, 2.1625,2
49UP20140609_3,   P10,52,1,14,999,2,20140802,2346,  41,15.8203,149.3307,4640,2296.1, 1.9845,34.6348,2,113.9,2,34.6360,4,114.33,2,144.42,2,38.19,2,0.00,2,2.69,2, -999,9, -999,9,-999.0,9,-999.0,9,-999.0,9,-999,-999,9,-999,9, 1.8229,2,27.6929,2, 1.9843,2
49UP20140609_3,   P10,52,1,13,667,2,20140802,2346,  36,15.8203,149.3307,4640,2498.8, 1.8292,34.6478,2,120.6,2,34.6478,2,120.67,2,146.44,2,37.82,2,0.00,2,2.66,2, -999,9, -999,9,-999.0,9,-999.0,9,-999.0,9,-999,-999,9,-999,9, 1.6522,2,27.7163,2, 1.8291,2
49UP20140609_3,   P10,52,1,12,74,2,20140802,2346,  32,15.8203,149.3307,4640,2702.4, 1.7414,34.6557,2,125.6,2,34.6557,2,125.67,6,147.97,6,37.59,6,0.00,6,2.64,6, -999,9, -999,9,-999.0,9,-999.0,9,-999.0,9,-999,-999,9,-999,9, 1.5475,2,27.7304,2, 1.7413,2
49UP20140609_3,   P10,52,1,11,268,2,20140802,2346,  27,15.8203,149.3307,4640,2906.9, 1.6785,34.6620,2,130.3,2,34.6620,2,130.52,2,148.20,2,37.31,2,0.00,2,2.62,2, -999,9, -999,9,-999.0,9,-999.0,9,-999.0,9,-999,-999,9,-999,9, 1.4667,2,27.7413,2, 1.6786,2
49UP20140609_3,   P10,52,1,10,267,2,20140802,2346,  22,15.8203,149.3307,4640,3121.6, 1.6045,34.6691,2,136.0,2,34.6700,2,136.50,2,148.13,2,36.99,2,0.00,2,2.60,2, -999,9, -999,9,-999.0,9,-999.0,9,-999.0,9,-999,-999,9,-999,9, 1.3737,2,27.7537,2, 1.6046,2
49UP20140609_3,   P10,52,1, 8,81,2,20140802,2346,  17,15.8203,149.3307,4640,3377.4, 1.5660,34.6735,2,140.7,2,34.6731,2,140.53,2,147.57,2,36.69,2,0.00,2,2.56,2, -999,9, -999,9,-999.0,9,-999.0,9,-999.0,9,-999,-999,9,-999,9, 1.3107,2,27.7617,2, 1.5661,2
49UP20140609_3,   P10,52,1, 7,516,2,20140802,2346,  11,15.8203,149.3307,4640,3631.1, 1.5242,34.6779,2,146.2,2,34.6783,2,146.83,2,146.13,2,36.28,2,0.00,2,2.53,2, -999,9, -999,9,-999.0,9,-999.0,9,-999.0,9,-999,-999,9,-999,9, 1.2439,2,27.7699,2, 1.5243,2
49UP20140609_3,   P10,52,1, 6,113,2,20140802,2346,   6,15.8203,149.3307,4640,3887.3, 1.4989,34.6817,2,151.5,2,34.6818,2,151.34,2,144.03,2,35.89,2,0.00,2,2.51,2, -999,9, -999,9,-999.0,9,-999.0,9,-999.0,9,-999,-999,9,-999,9, 1.1922,2,27.7765,2, 1.4989,2
49UP20140609_3,   P10,52,1, 4,77,2,20140802,2346,   0,15.8203,149.3307,4640,4143.5, 1.4715,34.6856,2,157.6,2,34.6861,2,158.07,2,141.28,2,35.49,2,0.00,2,2.47,2, -999,9, -999,9,-999.0,9,-999.0,9,-999.0,9,-999,-999,9,-999,9, 1.1377,2,27.7835,2, 1.4715,2
49UP20140609_3,   P10,52,1, 9,94,2,20140802,2346,   0,15.8203,149.3307,4640,4143.8, 1.4717,34.6855,2,157.6,2,34.6858,2,157.74,2,141.59,2,35.43,2,0.00,2,2.47,2, -999,9, -999,9,-999.0,9,-999.0,9,-999.0,9,-999,-999,9,-999,9, 1.1378,2,27.7833,2, 1.4716,2
49UP20140609_3,   P10,52,1, 5,518,2,20140802,2346,   0,15.8203,149.3307,4640,4144.3, 1.4715,34.6856,2,157.6,2,34.6863,2,158.00,2,141.28,2,35.46,2,0.00,2,2.47,2, -999,9, -999,9,-999.0,9,-999.0,9,-999.0,9,-999,-999,9,-999,9, 1.1375,2,27.7835,2, 1.4715,2
49UP20140609_3,   P10,52,1, 3,104,2,20140802,2346,2354,15.8203,149.3307,4640,4401.6, 1.4551,34.6893,2,163.4,2,34.6899,6,163.85,2,138.42,2,35.14,2,0.00,2,2.44,2, -999,9, -999,9,-999.0,9,-999.0,9,-999.0,9,-999,-999,9,-999,9, 1.0928,2,27.7895,2, 1.4552,2
49UP20140609_3,   P10,52,1, 2,75,2,20140802,2346,2349,15.8203,149.3307,4640,4656.3, 1.4505,34.6918,2,167.9,2,34.6920,2,168.48,2,135.86,6,34.78,6,0.00,6,2.42,6, -999,9, -999,9,-999.0,9,-999.0,9,-999.0,9,-999,-999,9,-999,9, 1.0589,2,27.7938,2, 1.4506,2
49UP20140609_3,   P10,52,1, 1,997,2,20140802,2346,2346,15.8203,149.3307,4640,4721.2, 1.4514,34.6922,2,168.7,2,34.6923,2,168.64,2,135.35,2,34.69,2,0.00,2,2.41,2, -999,9, -999,9,-999.0,9,-999.0,9,-999.0,9,-999,-999,9,-999,9, 1.0521,2,27.7945,2, 1.4514,2
49UP20140609_3,   P10,53,1, 0,BUC,2,20140803,0651, 848,15.1610,149.3208,5626,   0.0,29.8380,34.5591,2,195.2,2,34.5204,2,194.41,2,  0.70,2, 0.00,2,0.00,2,0.05,2, -999,9, -999,9,1926.4,2,2267.1,2,8.1283,2,25,0.08,2,0.03,2,29.8374,2,21.4510,2,   -999,9
49UP20140609_3,   P10,53,1,36,109,2,20140803,0651, 905,15.1610,149.3208,5626,  10.6,29.9400,34.6216,2,195.0,2,34.6191,2,193.93,2,  0.89,2, 0.00,2,0.00,2,0.05,2, -999,9, -999,9,1928.6,2,2273.3,2,8.1265,2,25,0.08,2,0.03,2,29.9374,2,21.4639,2,29.9404,2
49UP20140609_3,   P10,53,1,35,112,2,20140803,0651, 901,15.1610,149.3208,5626,  49.9,29.7919,34.6502,2,195.8,2,34.6494,2,195.36,6,  0.87,6, 0.00,6,0.00,6,0.05,6, -999,9, -999,9,1932.7,2,2274.5,2,8.1278,2,25,0.12,2,0.06,2,29.7796,2,21.5390,2,29.7967,2
49UP20140609_3,   P10,53,1,34,83,2,20140803,0651, 900,15.1610,149.3208,5626, 100.2,27.9994,35.1202,2,206.8,2,35.1268,2,206.66,2,  0.77,2, 0.00,2,0.00,2,0.09,2, -999,9, -999,9,1965.8,2,2307.6,2,8.1100,2,25,0.18,2,0.09,2,27.9757,2,22.4930,2,27.9941,2
49UP20140609_3,   P10,53,1,33,107,2,20140803,0651, 858,15.1610,149.3208,5626, 154.8,25.6186,35.2555,2,197.4,2,35.2560,2,197.52,2,  1.03,2, 0.00,2,0.02,2,0.11,2, -999,9, -999,9,2002.4,2,2319.3,2,8.0741,2,25,0.11,2,0.30,2,25.5844,2,23.3551,2,25.5926,2
49UP20140609_3,   P10,53,1,32,105,2,20140803,0651, 856,15.1610,149.3208,5626, 201.5,20.6079,35.0233,2,171.4,2,35.0275,2,172.18,2,  2.61,2, 3.44,2,0.01,2,0.36,2, -999,9, -999,9,2067.1,2,2307.3,2,7.9422,2,25,0.02,2,0.05,2,20.5699,2,24.6279,2,20.5987,2
49UP20140609_3,   P10,53,1,31,515,2,20140803,0651, 855,15.1610,149.3208,5626, 252.1,17.2344,34.6999,2,164.0,2,34.6863,4,164.00,2,  6.31,2, 8.00,2,0.01,2,0.66,2, -999,9, -999,9,2091.6,2,2285.1,2,7.8582,2,25,-999,9,-999,9,17.1924,2,25.2380,2,17.2494,2
49UP20140609_3,   P10,53,1,30,97,2,20140803,0651, 854,15.1610,149.3208,5626, 281.8,14.3560,34.4558,2,156.7,2,34.4422,4,156.28,2, 11.60,2,12.74,2,0.00,2,1.00,2, -999,9, -999,9,2112.5,2,2273.1,2,7.7803,2,25,-999,9,-999,9,14.3146,2,25.7001,2,14.3427,2
49UP20140609_3,   P10,53,1,29,102,2,20140803,0651, 852,15.1610,149.3208,5626, 324.0,12.1520,34.3279,2,157.4,2,34.3304,2,157.82,2, 16.96,2,16.08,2,0.00,2,1.21,2, -999,9, -999,9,2127.3,6,2268.9,6,7.7405,2,25,-999,9,-999,9,12.1094,2,26.0462,2,12.1438,2
49UP20140609_3,   P10,53,1,28,108,2,20140803,0651, 851,15.1610,149.3208,5626, 372.1,10.0774,34.2575,2,118.5,2,34.2586,6,119.11,2, 28.44,2,23.44,2,0.00,2,1.77,2, -999,9, -999,9,2179.7,2,2275.2,2,7.6192,6,25,-999,9,-999,9,10.0341,2,26.3663,2,10.0761,2
49UP20140609_3,   P10,53,1,27,998,2,20140803,0651, 849,15.1610,149.3208,5626, 420.3, 8.6953,34.2774,2, 85.0,2,34.2785,6, 84.53,4, 40.26,2,29.40,2,0.00,2,2.20,2, -999,9, -999,9,2221.5,2,2287.0,2,7.5278,2,25,-999,9,-999,9, 8.6504,2,26.6073,2, 8.6944,2
49UP20140609_3,   P10,53,1,26,84,2,20140803,0651, 847,15.1610,149.3208,5626, 473.7, 7.9847,34.3261,2, 63.8,2,34.3257,2, 63.87,2, 47.86,2,32.78,2,0.00,2,2.44,2, -999,9, -999,9,2248.9,2,2297.7,2,7.4777,2,25,-999,9,-999,9, 7.9364,2,26.7540,2, 7.9843,2
49UP20140609_3,   P10,53,1,25,98,2,20140803,0651, 845,15.1610,149.3208,5626, 574.8, 6.9076,34.4065,2, 59.4,2,34.4063,2, 59.45,2, 59.96,2,35.80,2,0.00,2,2.62,2, -999,9, -999,9,2271.4,2,2316.3,2,7.4627,2,25,-999,9,-999,9, 6.8532,2,26.9714,2, 6.9075,2
49UP20140609_3,   P10,53,1,24,110,2,20140803,0651, 841,15.1610,149.3208,5626, 674.6, 6.2240,34.4748,2, 57.7,2,34.4748,2, 58.24,2, 67.82,2,37.62,2,0.00,2,2.74,2, -999,9, -999,9,2286.7,2,2328.7,2,7.4626,2,25,-999,9,-999,9, 6.1631,2,27.1168,2, 6.2236,2
49UP20140609_3,   P10,53,1,23,96,2,20140803,0651, 838,15.1610,149.3208,5626, 775.8, 5.6821,34.4938,2, 54.0,2,34.4941,2, 53.82,2, 75.69,2,39.06,2,0.00,2,2.84,2, -999,9, -999,9,2299.1,2,2339.3,2,7.4463,2,25,-999,9,-999,9, 5.6147,2,27.2007,2, 5.6819,2
49UP20140609_3,   P10,53,1,22,111,2,20140803,0651, 836,15.1610,149.3208,5626, 875.9, 5.1843,34.5087,2, 59.6,2,34.5085,2, 59.44,2, 83.69,2,39.49,2,0.00,2,2.85,2, -999,9, -999,9,2308.1,2,2349.1,2,7.4517,2,25,-999,9,-999,9, 5.1109,2,27.2728,2, 5.1839,2
49UP20140609_3,   P10,53,1,21,78,2,20140803,0651, 833,15.1610,149.3208,5626, 978.5, 4.6831,34.5145,2, 75.0,2,34.5143,2, 74.68,2, 92.47,2,38.58,2,0.00,2,2.78,2, -999,9, -999,9,2309.0,2,2358.5,2,7.4760,2,25,-999,9,-999,9, 4.6041,2,27.3351,2, 4.6827,2
49UP20140609_3,   P10,53,1,20,93,2,20140803,0651, 830,15.1610,149.3208,5626,1138.7, 4.0623,34.5496,2, 73.8,2,34.5514,2, 73.43,2,103.94,2,39.74,2,0.00,2,2.86,2, -999,9, -999,9,2325.0,2,2371.3,2,7.4699,2,25,-999,9,-999,9, 3.9743,2,27.4305,2, 4.0617,2
49UP20140609_3,   P10,53,1,19,92,2,20140803,0651, 826,15.1610,149.3208,5626,1341.7, 3.5071,34.5681,2, 79.9,2,34.5686,2, 80.19,2,115.35,2,39.71,2,0.00,2,2.85,2, -999,9, -999,9,2331.2,2,2382.5,2,7.4780,2,25,-999,9,-999,9, 3.4070,2,27.5020,2, 3.5069,2
49UP20140609_3,   P10,53,1,18,101,2,20140803,0651, 821,15.1610,149.3208,5626,1544.7, 2.9967,34.5830,2, 89.0,2,34.5829,6, 89.19,2,125.96,2,39.32,2,0.00,2,2.81,2, -999,9, -999,9,2338.4,2,2393.6,2,7.4927,2,25,-999,9,-999,9, 2.8852,2,27.5627,2, 2.9963,2
49UP20140609_3,   P10,53,1,17,90,2,20140803,0651, 817,15.1610,149.3208,5626,1747.0, 2.6276,34.5980,2, 96.0,2,34.5973,2, 95.96,6,133.23,6,39.01,6,0.00,6,2.78,6, -999,9, -999,9,2342.3,2,2401.8,2,7.5004,2,25,-999,9,-999,9, 2.5036,2,27.6082,2, 2.6273,2
49UP20140609_3,   P10,53,1,16,89,2,20140803,0651, 813,15.1610,149.3208,5626,1948.9, 2.3366,34.6138,2,102.9,2,34.6150,2,103.47,2,138.39,2,38.71,2,0.00,2,2.75,2, -999,9, -999,9,2343.1,2,2405.3,2,7.5127,2,25,-999,9,-999,9, 2.1995,2,27.6462,2, 2.3374,2
49UP20140609_3,   P10,53,1,15,88,2,20140803,0651, 808,15.1610,149.3208,5626,2153.3, 2.1250,34.6278,2,110.0,2,34.6280,2,110.26,2,142.39,2,38.39,2,0.00,2,2.72,2, -999,9, -999,9,2344.6,6,2411.9,6,7.5161,2,25,-999,9,-999,9, 1.9735,2,27.6755,2, 2.1254,2
49UP20140609_3,   P10,53,1,14,999,2,20140803,0651, 804,15.1610,149.3208,5626,2356.7, 1.9782,34.6382,2,115.5,2,34.6383,2,115.72,2,144.35,2,38.14,2,0.00,2,2.69,2, -999,9, -999,9,2346.2,2,2414.9,2,7.5296,6,25,-999,9,-999,9, 1.8113,2,27.6965,2, 1.9780,2
49UP20140609_3,   P10,53,1,13,667,2,20140803,0651, 800,15.1610,149.3208,5626,2560.5, 1.8423,34.6483,2,120.5,2,34.6482,2,120.61,2,146.68,2,37.73,2,0.00,2,2.66,2, -999,9, -999,9,2345.2,2,2417.3,2,7.5393,2,25,-999,9,-999,9, 1.6595,2,27.7161,2, 1.8422,2
49UP20140609_3,   P10,53,1,12,74,2,20140803,0651, 755,15.1610,149.3208,5626,2764.0, 1.7536,34.6570,2,125.5,2,34.6572,2,125.52,2,148.06,2,37.55,2,0.00,2,2.64,2, -999,9, -999,9,2338.4,2,2418.2,2,7.5464,2,25,-999,9,-999,9, 1.5537,2,27.7310,2, 1.7535,2
49UP20140609_3,   P10,53,1,11,268,2,20140803,0651, 751,15.1610,149.3208,5626,2969.5, 1.6634,34.6642,2,131.4,2,34.6638,2,131.38,2,148.57,2,37.18,2,0.00,2,2.61,2, -999,9, -999,9,2337.0,2,2418.8,2,7.5536,2,25,-999,9,-999,9, 1.4460,2,27.7446,2, 1.6633,2
49UP20140609_3,   P10,53,1,10,267,2,20140803,0651, 745,15.1610,149.3208,5626,3213.8, 1.5872,34.6709,2,137.9,2,34.6712,6,137.76,2,147.84,2,36.71,2,0.00,2,2.57,2, -999,9, -999,9,2335.9,2,2419.2,2,7.5633,2,25,-999,9,-999,9, 1.3477,2,27.7570,2, 1.5876,2
49UP20140609_3,   P10,53,1, 9,94,2,20140803,0651, 740,15.1610,149.3208,5626,3469.0, 1.5565,34.6746,2,142.0,2,34.6742,2,142.23,2,147.26,2,36.48,2,0.00,2,2.55,2, -999,9, -999,9,2332.9,2,2419.3,2,7.5709,2,25,-999,9,-999,9, 1.2922,2,27.7639,2, 1.5563,2
49UP20140609_3,   P10,53,1, 8,81,2,20140803,0651, 734,15.1610,149.3208,5626,3723.0, 1.5081,34.6800,2,149.0,2,34.6796,2,148.99,2,145.30,2,36.06,2,0.00,2,2.52,2, -999,9, -999,9,2327.6,2,2417.7,2,7.5802,2,25,-999,9,-999,9, 1.2186,2,27.7734,2, 1.5082,2
49UP20140609_3,   P10,53,1, 7,516,2,20140803,0651, 729,15.1610,149.3208,5626,3980.8, 1.4836,34.6834,2,154.2,2,34.6830,2,153.93,2,143.35,2,35.64,2,0.00,2,2.49,2, -999,9, -999,9,2322.9,2,2414.8,2,7.5585,3,25,-999,9,-999,9, 1.1673,2,27.7797,2, 1.4838,2
49UP20140609_3,   P10,53,1, 6,113,2,20140803,0651, 718,15.1610,149.3208,5626,4492.4, 1.4488,34.6908,2,166.1,2,34.6906,2,166.67,6,136.92,6,34.75,6,0.00,6,2.42,6, -999,9, -999,9,2309.4,2,2407.5,2,7.6025,2,25,-999,9,-999,9, 1.0763,2,27.7918,2, 1.4490,2
49UP20140609_3,   P10,53,1, 5,518,3,20140803,0651, 713,15.1610,149.3208,5626,4748.5, 1.4518,34.6927,2,169.7,2,34.6923,2,169.57,2,135.20,2,34.60,2,0.00,2,2.41,2, -999,9, -999,9,2306.3,2,2404.8,2,7.6028,2,25,-999,9,-999,9, 1.0493,2,27.7951,2, 1.4516,2
49UP20140609_3,   P10,53,1, 4,77,3,20140803,0651, 708,15.1610,149.3208,5626,5006.4, 1.4704,34.6934,2,171.3,2,34.6939,2,171.87,2,134.19,2,34.45,2,0.00,2,2.40,2, -999,9, -999,9,2305.1,2,2405.0,2,7.6037,2,25,-999,9,-999,9, 1.0364,2,27.7966,2, 1.4704,2
49UP20140609_3,   P10,53,1, 3,104,2,20140803,0651, 702,15.1610,149.3208,5626,5264.8, 1.4908,34.6946,2,173.0,2,34.6952,2,172.98,2,133.39,2,34.33,2,0.00,2,2.39,2, -999,9, -999,9,2303.4,6,2403.6,6,7.6025,2,25,-999,9,-999,9, 1.0242,2,27.7983,2, 1.4909,2
49UP20140609_3,   P10,53,1, 2,75,2,20140803,0651, 657,15.1610,149.3208,5626,5521.9, 1.5126,34.6951,2,174.3,2,34.6960,2,174.55,2,132.29,2,34.14,2,0.00,2,2.38,2, -999,9, -999,9,2302.5,2,2403.1,2,7.6081,6,25,-999,9,-999,9, 1.0127,2,27.7995,2, 1.5127,2
49UP20140609_3,   P10,53,1, 1,997,2,20140803,0651, 651,15.1610,149.3208,5626,5758.5, 1.5340,34.6958,2,175.5,2,34.6968,2,174.74,6,132.02,6,34.09,6,0.00,6,2.37,6, -999,9, -999,9,2301.3,2,2402.8,2,7.6099,2,25,-999,9,-999,9, 1.0027,2,27.8007,2, 1.5340,2