BOTTLE,20230725CCHSIOADS
EXPOCODE,SECT_ID,STNNBR,CASTNO,SAMPNO,BTLNBR,BTLNBR_FLAG_W,DATE,TIME,BTL_TIME,LATITUDE,LONGITUDE,DEPTH,CTDPRS,CTDTMP,CTDSAL,CTDSAL_FLAG_W,CTDOXY,CTDOXY_FLAG_W,SALNTY,SALNTY_FLAG_W,OXYGEN,OXYGEN_FLAG_W,SILCAT,SILCAT_FLAG_W,NO2+NO3,NO2+NO3_FLAG_W,NITRIT,NITRIT_FLAG_W,PHSPHT,PHSPHT_FLAG_W,CFC-11,CFC-11_FLAG_W,CFC-12,CFC-12_FLAG_W,TCARBN,TCARBN_FLAG_W,ALKALI,ALKALI_FLAG_W,PH_TOT,PH_TOT_FLAG_W,PH_TMP,CHLORA,CHLORA_FLAG_W,PPHYTN,PPHYTN_FLAG_W,THETA,THETA_FLAG_W,SIG0,SIG0_FLAG_W,REFTMP,REFTMP_FLAG_W
,,,,,,,,,,,,METERS,DBAR,ITS-90,PSS-78,,UMOL/KG,,PSS-78,,UMOL/KG,,UMOL/KG,,UMOL/KG,,UMOL/KG,,UMOL/KG,,PMOL/KG,,PMOL/KG,,UMOL/KG,,UMOL/KG,,,,DEG C,UG/KG,,UG/KG,,ITS-90,,KG/M^3,,ITS-90,
49UP20140609_3,   P10,70,1, 0,BUC,2,20140808,1615,1732, 5.5172,148.0808,3268,   0.0,29.3143,33.8821,2,196.4,2,   -999,9,196.22,2,  1.16,2, 0.01,2,0.00,2,0.04,2, -999,9, -999,9,-999.0,9,-999.0,9,-999.0,9,-999,-999,9,-999,9,29.3138,2,21.1201,2,   -999,9
49UP20140609_3,   P10,70,1,36,109,2,20140808,1615,1758, 5.5172,148.0808,3268,  11.4,29.3212,33.8820,2,196.2,2,33.8799,2,196.58,2,  1.12,2, 0.01,2,0.00,2,0.03,2, -999,9, -999,9,-999.0,9,-999.0,9,-999.0,9,-999,-999,9,-999,9,29.3185,2,21.1185,2,29.3200,2
49UP20140609_3,   P10,70,1,35,112,2,20140808,1615,1757, 5.5172,148.0808,3268,  26.2,29.3127,33.8817,2,196.1,2,33.8824,2,196.13,2,  1.17,2, 0.01,2,0.00,2,0.03,2, -999,9, -999,9,-999.0,9,-999.0,9,-999.0,9,-999,-999,9,-999,9,29.3063,2,21.1223,2,29.3119,2
49UP20140609_3,   P10,70,1,34,83,2,20140808,1615,1754, 5.5172,148.0808,3268,  52.2,28.9225,34.0422,2,196.6,2,34.0353,2,197.18,2,  1.21,2, 0.00,2,0.00,2,0.05,2, -999,9, -999,9,-999.0,9,-999.0,9,-999.0,9,-999,-999,9,-999,9,28.9099,2,21.3751,2,28.9208,2
49UP20140609_3,   P10,70,1,33,107,2,20140808,1615,1753, 5.5172,148.0808,3268,  75.7,27.7191,34.5525,2,192.5,2,34.5620,2,193.17,2,  1.47,2, 0.01,2,0.00,2,0.11,2, -999,9, -999,9,-999.0,9,-999.0,9,-999.0,9,-999,-999,9,-999,9,27.7014,2,22.1553,2,27.7153,2
49UP20140609_3,   P10,70,1,32,105,2,20140808,1615,1753, 5.5172,148.0808,3268,  75.8,27.7078,34.5535,2,192.2,2,34.5689,4,192.87,2,  1.44,2, 0.00,2,0.00,2,0.11,2, -999,9, -999,9,-999.0,9,-999.0,9,-999.0,9,-999,-999,9,-999,9,27.6901,2,22.1596,2,27.7018,2
49UP20140609_3,   P10,70,1,31,515,2,20140808,1615,1752, 5.5172,148.0808,3268, 101.3,23.3148,34.9124,2,161.7,2,34.9109,2,160.32,6,  4.08,6, 3.72,6,0.12,6,0.44,6, -999,9, -999,9,-999.0,9,-999.0,9,-999.0,9,-999,-999,9,-999,9,23.2939,2,23.7821,2,23.3461,2
49UP20140609_3,   P10,70,1,30,97,2,20140808,1615,1751, 5.5172,148.0808,3268, 127.7,19.7403,34.8408,2,143.0,2,34.8410,2,142.81,2,  7.91,2, 9.28,2,0.03,2,0.76,2, -999,9, -999,9,-999.0,9,-999.0,9,-999.0,9,-999,-999,9,-999,9,19.7170,2,24.7145,2,19.7416,2
49UP20140609_3,   P10,70,1,29,102,2,20140808,1615,1749, 5.5172,148.0808,3268, 152.1,15.7037,34.6485,2,121.7,2,34.6461,2,120.84,2, 15.59,2,16.31,2,0.01,2,1.23,2, -999,9, -999,9,-999.0,9,-999.0,9,-999.0,9,-999,-999,9,-999,9,15.6801,2,25.5498,2,15.6974,2
49UP20140609_3,   P10,70,1,28,108,2,20140808,1615,1748, 5.5172,148.0808,3268, 202.2,10.8165,34.5626,2, 61.2,2,34.5619,2, 61.15,2, 30.03,2,29.44,2,0.01,2,2.15,2, -999,9, -999,9,-999.0,9,-999.0,9,-999.0,9,-999,-999,9,-999,9,10.7919,2,26.4722,2,10.8186,2
49UP20140609_3,   P10,70,1,27,998,2,20140808,1615,1746, 5.5172,148.0808,3268, 252.6, 9.7391,34.6049,2, 53.3,2,34.6039,2, 53.20,2, 33.80,2,32.36,2,0.00,2,2.33,2, -999,9, -999,9,-999.0,9,-999.0,9,-999.0,9,-999,-999,9,-999,9, 9.7104,2,26.6923,2, 9.7412,2
49UP20140609_3,   P10,70,1,26,84,2,20140808,1615,1743, 5.5172,148.0808,3268, 335.3, 8.7849,34.6057,2, 69.3,2,34.6054,2, 69.79,2, 36.38,2,32.96,2,0.00,2,2.35,2, -999,9, -999,9,-999.0,9,-999.0,9,-999.0,9,-999,-999,9,-999,9, 8.7489,2,26.8493,2, 8.7848,2
49UP20140609_3,   P10,70,1,25,98,2,20140808,1615,1741, 5.5172,148.0808,3268, 384.6, 8.4129,34.5960,2, 84.6,2,34.5959,2, 84.36,2, 36.61,2,32.33,2,0.00,2,2.29,2, -999,9, -999,9,-999.0,9,-999.0,9,-999.0,9,-999,-999,9,-999,9, 8.3725,2,26.9002,2, 8.4128,2
49UP20140609_3,   P10,70,1,24,110,2,20140808,1615,1739, 5.5172,148.0808,3268, 434.0, 8.1123,34.5870,2, 96.3,2,34.5866,2, 96.12,2, 36.43,2,31.88,2,0.00,2,2.26,2, -999,9, -999,9,-999.0,9,-999.0,9,-999.0,9,-999,-999,9,-999,9, 8.0676,2,26.9394,2, 8.1108,2
49UP20140609_3,   P10,70,1,23,96,2,20140808,1615,1737, 5.5172,148.0808,3268, 484.2, 7.7968,34.5767,2, 98.5,2,34.5761,2, 98.28,2, 38.14,2,32.38,2,0.00,2,2.30,2, -999,9, -999,9,-999.0,9,-999.0,9,-999.0,9,-999,-999,9,-999,9, 7.7479,2,26.9787,2, 7.7969,2
49UP20140609_3,   P10,70,1,22,111,2,20140808,1615,1736, 5.5172,148.0808,3268, 534.9, 7.5074,34.5688,2, 85.6,2,34.5682,2, 85.37,2, 42.16,2,34.09,2,0.00,2,2.43,2, -999,9, -999,9,-999.0,9,-999.0,9,-999.0,9,-999,-999,9,-999,9, 7.4544,2,27.0150,2, 7.5070,2
49UP20140609_3,   P10,70,1,21,78,2,20140808,1615,1733, 5.5172,148.0808,3268, 632.2, 6.9251,34.5504,2, 72.3,2,34.5497,2, 73.13,2, 51.24,2,36.37,2,0.00,2,2.61,2, -999,9, -999,9,-999.0,9,-999.0,9,-999.0,9,-999,-999,9,-999,9, 6.8648,2,27.0832,2, 6.9242,2
49UP20140609_3,   P10,70,1,20,93,2,20140808,1615,1733, 5.5172,148.0808,3268, 633.1, 6.9197,34.5497,2, 72.7,2,34.5495,2, 73.05,2, 51.20,2,36.29,2,0.00,2,2.61,2, -999,9, -999,9,-999.0,9,-999.0,9,-999.0,9,-999,-999,9,-999,9, 6.8594,2,27.0834,2, 6.9197,2
49UP20140609_3,   P10,70,1,19,92,2,20140808,1615,1730, 5.5172,148.0808,3268, 734.6, 6.0911,34.5329,2, 80.7,2,34.5330,2, 80.50,2, 63.45,2,36.67,2,0.00,2,2.64,2, -999,9, -999,9,-999.0,9,-999.0,9,-999.0,9,-999,-999,9,-999,9, 6.0252,2,27.1803,2, 6.0901,2
49UP20140609_3,   P10,70,1,18,101,2,20140808,1615,1726, 5.5172,148.0808,3268, 841.2, 5.4083,34.5385,2, 77.9,2,34.5385,2, 77.89,6, 74.60,6,38.01,6,0.00,6,2.73,6, -999,9, -999,9,-999.0,9,-999.0,9,-999.0,9,-999,-999,9,-999,9, 5.3365,2,27.2698,2, 5.4084,2
49UP20140609_3,   P10,70,1,17,90,3,20140808,1615,1722, 5.5172,148.0808,3268, 937.9, 4.8154,34.5471,2, 80.9,2,34.5474,6, 80.83,2, 85.03,2,38.46,2,0.00,2,2.76,2, -999,9, -999,9,-999.0,9,-999.0,9,-999.0,9,-999,-999,9,-999,9, 4.7389,2,27.3460,2, 4.8152,2
49UP20140609_3,   P10,70,1,16,89,2,20140808,1615,1719, 5.5172,148.0808,3268,1075.9, 4.1911,34.5611,2, 82.9,2,34.5613,2, 83.13,2, 97.29,2,39.04,2,0.00,2,2.81,2, -999,9, -999,9,-999.0,9,-999.0,9,-999.0,9,-999,-999,9,-999,9, 4.1074,2,27.4259,2, 4.1909,2
49UP20140609_3,   P10,70,1,15,88,2,20140808,1615,1708, 5.5172,148.0808,3268,1284.0, 3.5292,34.5803,2, 90.4,2,34.5798,2, 90.02,2,110.68,2,39.08,2,0.00,2,2.80,2, -999,9, -999,9,-999.0,9,-999.0,9,-999.0,9,-999,-999,9,-999,9, 3.4338,2,27.5092,2, 3.5292,2
49UP20140609_3,   P10,70,1,14,999,2,20140808,1615,1702, 5.5172,148.0808,3268,1485.1, 3.0365,34.5978,2, 96.6,2,34.5980,6, 96.52,2,120.49,2,38.99,2,0.00,2,2.79,2, -999,9, -999,9,-999.0,9,-999.0,9,-999.0,9,-999,-999,9,-999,9, 2.9295,2,27.5704,2, 3.0363,2
49UP20140609_3,   P10,70,1,13,667,2,20140808,1615,1657, 5.5172,148.0808,3268,1690.0, 2.6881,34.6126,2,101.7,2,34.6124,2,102.03,2,127.49,2,38.83,2,0.00,2,2.77,2, -999,9, -999,9,-999.0,9,-999.0,9,-999.0,9,-999,-999,9,-999,9, 2.5680,2,27.6143,2, 2.6880,2
49UP20140609_3,   P10,70,1,12,74,2,20140808,1615,1651, 5.5172,148.0808,3268,1892.8, 2.4491,34.6233,2,106.0,2,34.6232,2,101.91,4,133.29,2,38.74,2,0.00,2,2.75,2, -999,9, -999,9,-999.0,9,-999.0,9,-999.0,9,-999,-999,9,-999,9, 2.3151,2,27.6443,2, 2.4493,2
49UP20140609_3,   P10,70,1,11,268,2,20140808,1615,1646, 5.5172,148.0808,3268,2093.1, 2.1852,34.6369,2,112.0,2,34.6368,2,112.00,2,138.68,2,38.45,2,0.00,2,2.72,2, -999,9, -999,9,-999.0,9,-999.0,9,-999.0,9,-999,-999,9,-999,9, 2.0379,2,27.6778,2, 2.1852,2
49UP20140609_3,   P10,70,1,10,267,2,20140808,1615,1641, 5.5172,148.0808,3268,2297.6, 1.9771,34.6483,2,119.2,2,34.6473,2,119.38,6,141.92,6,38.04,6,0.00,6,2.68,6, -999,9, -999,9,-999.0,9,-999.0,9,-999.0,9,-999,-999,9,-999,9, 1.8154,2,27.7043,2, 1.9770,2
49UP20140609_3,   P10,70,1, 8,81,2,20140808,1615,1635, 5.5172,148.0808,3268,2500.8, 1.8564,34.6556,2,126.0,2,34.6554,6,125.74,2,142.66,2,37.63,2,0.00,2,2.64,2, -999,9, -999,9,-999.0,9,-999.0,9,-999.0,9,-999,-999,9,-999,9, 1.6787,2,27.7205,2, 1.8567,2
49UP20140609_3,   P10,70,1, 7,516,2,20140808,1615,1630, 5.5172,148.0808,3268,2704.5, 1.7237,34.6634,2,134.4,2,34.6629,2,134.28,2,142.56,2,37.07,2,0.00,2,2.60,2, -999,9, -999,9,-999.0,9,-999.0,9,-999.0,9,-999,-999,9,-999,9, 1.5299,2,27.7378,2, 1.7237,2
49UP20140609_3,   P10,70,1, 6,113,2,20140808,1615,1624, 5.5172,148.0808,3268,2905.9, 1.6446,34.6688,2,139.6,2,34.6681,2,139.46,2,142.43,2,36.68,2,0.00,2,2.57,2, -999,9, -999,9,-999.0,9,-999.0,9,-999.0,9,-999,-999,9,-999,9, 1.4337,2,27.7492,2, 1.6446,2
49UP20140609_3,   P10,70,1, 5,94,2,20140808,1615,1619, 5.5172,148.0808,3268,3119.7, 1.6017,34.6723,2,143.1,2,34.6724,2,142.96,2,142.42,2,36.47,2,0.00,2,2.55,2, -999,9, -999,9,-999.0,9,-999.0,9,-999.0,9,-999,-999,9,-999,9, 1.3711,2,27.7565,2, 1.6015,2
49UP20140609_3,   P10,70,1, 4,77,2,20140808,1615,1618, 5.5172,148.0808,3268,3120.7, 1.6017,34.6722,2,143.1,2,34.6722,2,143.06,2,142.23,2,36.45,2,0.00,2,2.55,2, -999,9, -999,9,-999.0,9,-999.0,9,-999.0,9,-999,-999,9,-999,9, 1.3710,2,27.7564,2, 1.6016,2
49UP20140609_3,   P10,70,1, 2,75,2,20140808,1615,1615, 5.5172,148.0808,3268,3255.0, 1.5756,34.6746,2,145.3,2,34.6741,2,145.32,2,142.16,2,36.29,2,0.00,2,2.54,2, -999,9, -999,9,-999.0,9,-999.0,9,-999.0,9,-999,-999,9,-999,9, 1.3324,2,27.7611,2, 1.5755,2
49UP20140609_3,   P10,70,1, 1,997,2,20140808,1615,1615, 5.5172,148.0808,3268,3256.2, 1.5758,34.6747,2,145.4,2,34.6744,2,145.48,2,142.27,2,36.29,2,0.00,2,2.54,2, -999,9, -999,9,-999.0,9,-999.0,9,-999.0,9,-999,-999,9,-999,9, 1.3323,2,27.7612,2, 1.5758,2
49UP20140609_3,   P10,71,1, 0,BUC,2,20140809,0502, 625, 4.9965,147.8515,4174,   0.0,29.3717,33.9657,2,197.0,2,33.9688,2,197.22,2,  1.06,2, 0.00,2,0.00,2,0.04,2, -999,9, -999,9,1902.3,2,2233.2,2,8.1276,2,25,0.11,2,0.04,2,29.3711,2,21.1636,2,   -999,9
49UP20140609_3,   P10,71,1,36,109,2,20140809,0502, 659, 4.9965,147.8515,4174,  10.6,29.3533,33.9682,2,196.9,2,33.9664,2,196.31,2,  1.04,2, 0.00,2,0.00,2,0.03,2, -999,9, -999,9,1902.6,2,2230.0,2,8.1264,2,25,0.10,2,0.04,2,29.3507,2,21.1723,2,29.3536,2
49UP20140609_3,   P10,71,1,35,112,2,20140809,0502, 658, 4.9965,147.8515,4174,  25.8,29.3647,33.9771,2,196.6,2,33.9785,2,196.49,2,  0.96,2, 0.00,2,0.00,2,0.03,2, -999,9, -999,9,1903.6,2,2231.8,2,8.1294,2,25,0.12,2,0.04,2,29.3585,2,21.1764,2,29.3649,2
49UP20140609_3,   P10,71,1,34,83,2,20140809,0502, 655, 4.9965,147.8515,4174,  51.8,29.2510,34.0190,2,196.3,2,34.0235,2,197.29,2,  1.00,2, 0.00,2,0.00,2,0.04,2, -999,9, -999,9,1905.7,2,2233.3,2,8.1266,6,25,0.14,2,0.06,2,29.2384,2,21.2481,2,29.2462,2
49UP20140609_3,   P10,71,1,33,107,2,20140809,0502, 654, 4.9965,147.8515,4174,  75.0,27.2630,34.6817,2,191.4,2,34.6960,4,192.02,2,  1.50,2, 0.00,2,0.00,2,0.13,2, -999,9, -999,9,1971.9,2,2280.5,2,8.0816,2,25,0.25,2,0.21,2,27.2456,2,22.3994,2,27.2528,2
49UP20140609_3,   P10,71,1,32,105,2,20140809,0502, 652, 4.9965,147.8515,4174, 101.5,21.9247,34.8680,2,150.8,2,34.8683,2,150.48,2,  5.27,2, 6.08,2,0.09,2,0.57,2, -999,9, -999,9,2063.9,6,2293.5,6,7.9356,2,25,0.13,2,0.36,2,21.9047,2,24.1441,2,21.9218,2
49UP20140609_3,   P10,71,1,31,515,2,20140809,0502, 651, 4.9965,147.8515,4174, 126.4,18.9699,34.8213,2,137.0,2,34.8225,2,136.99,2,  8.89,2,10.72,2,0.03,2,0.85,2, -999,9, -999,9,2096.6,2,2292.3,2,7.8598,2,25,0.05,2,0.18,2,18.9475,2,24.8979,2,18.9690,2
49UP20140609_3,   P10,71,1,30,97,2,20140809,0502, 649, 4.9965,147.8515,4174, 152.0,16.1862,34.6779,2,128.2,2,34.6654,4,126.07,2, 14.09,2,15.14,2,0.01,2,1.14,2, -999,9, -999,9,2129.4,2,2287.9,2,7.7791,2,25,0.02,2,0.07,2,16.1620,2,25.4627,2,16.1774,2
49UP20140609_3,   P10,71,1,29,102,2,20140809,0502, 647, 4.9965,147.8515,4174, 202.6,10.8956,34.5278,2, 76.9,2,34.5380,2, 72.93,2, 30.49,2,28.43,2,0.00,2,2.06,2, -999,9, -999,9,2216.6,2,2291.5,2,7.5749,2,25,0.00,2,0.03,2,10.8709,2,26.4310,2,10.8960,2
49UP20140609_3,   P10,71,1,28,108,2,20140809,0502, 645, 4.9965,147.8515,4174, 252.1, 9.4847,34.5762,2, 76.2,2,34.5782,2, 75.55,2, 35.15,2,30.74,2,0.00,2,2.20,2, -999,9, -999,9,2228.8,2,2303.4,2,7.5541,2,25,-999,9,-999,9, 9.4565,2,26.7121,2, 9.4797,2
49UP20140609_3,   P10,71,1,27,998,2,20140809,0502, 643, 4.9965,147.8515,4174, 282.9, 8.9543,34.5823,2, 94.8,2,34.5823,2, 94.69,6, 35.58,6,30.11,6,0.00,6,2.15,6, -999,9, -999,9,2221.8,2,2305.4,2,7.5791,2,25,-999,9,-999,9, 8.9237,2,26.8033,2, 8.9541,2
49UP20140609_3,   P10,71,1,26,84,2,20140809,0502, 641, 4.9965,147.8515,4174, 323.1, 8.6987,34.6068,2, 73.0,2,34.6065,2, 72.79,2, 36.20,2,32.85,2,0.00,2,2.32,2, -999,9, -999,9,2236.5,2,2304.4,2,7.5330,2,25,-999,9,-999,9, 8.6642,2,26.8634,2, 8.6983,2
49UP20140609_3,   P10,71,1,25,98,2,20140809,0502, 639, 4.9965,147.8515,4174, 374.1, 8.3330,34.5960,2, 74.6,2,34.5957,2, 73.86,2, 38.06,2,33.41,2,0.00,2,2.37,2, -999,9, -999,9,2244.3,2,2307.6,2,7.5304,2,25,-999,9,-999,9, 8.2940,2,26.9121,2, 8.3338,2
49UP20140609_3,   P10,71,1,24,110,2,20140809,0502, 637, 4.9965,147.8515,4174, 423.0, 8.0600,34.5852,2, 87.7,2,34.5850,2, 88.47,2, 38.12,2,32.80,2,0.00,2,2.32,2, -999,9, -999,9,2238.9,2,2307.6,2,7.5467,6,25,-999,9,-999,9, 8.0167,2,26.9456,2, 8.0604,2
49UP20140609_3,   P10,71,1,23,96,2,20140809,0502, 635, 4.9965,147.8515,4174, 473.8, 7.6783,34.5683,2, 94.1,2,34.5687,2, 94.14,2, 40.12,2,32.88,2,0.00,2,2.33,2, -999,9, -999,9,2238.1,2,2311.2,2,7.5474,2,25,-999,9,-999,9, 7.6309,2,26.9892,2, 7.6796,2
49UP20140609_3,   P10,71,1,22,111,2,20140809,0502, 632, 4.9965,147.8515,4174, 575.5, 7.1686,34.5516,2, 91.2,2,34.5518,2, 90.82,2, 45.61,2,34.09,2,0.00,2,2.43,2, -999,9, -999,9,2246.2,6,2316.0,6,7.5391,2,25,-999,9,-999,9, 7.1129,2,27.0499,2, 7.1681,2
49UP20140609_3,   P10,71,1,21,78,2,20140809,0502, 629, 4.9965,147.8515,4174, 675.1, 6.6909,34.5424,2, 76.9,2,34.5419,2, 76.94,2, 54.24,2,36.20,2,0.00,2,2.59,2, -999,9, -999,9,2265.3,2,2320.5,2,7.5024,2,25,-999,9,-999,9, 6.6275,2,27.1091,2, 6.6911,2
49UP20140609_3,   P10,71,1,20,93,2,20140809,0502, 627, 4.9965,147.8515,4174, 776.8, 5.8950,34.5346,2, 77.1,2,34.5344,2, 77.82,2, 67.52,2,37.35,2,0.00,2,2.68,2, -999,9, -999,9,2282.0,2,2333.9,2,7.4967,2,25,-999,9,-999,9, 5.8262,2,27.2068,2, 5.9012,2
49UP20140609_3,   P10,71,1,19,92,2,20140809,0502, 623, 4.9965,147.8515,4174, 877.0, 5.2423,34.5389,2, 85.6,2,34.5394,2, 85.79,2, 76.32,2,37.54,2,0.00,2,2.69,2, -999,9, -999,9,2289.5,2,2345.6,2,7.5055,2,25,-999,9,-999,9, 5.1683,2,27.2900,2, 5.2432,2
49UP20140609_3,   P10,71,1,18,101,3,20140809,0502, 621, 4.9965,147.8515,4174, 977.9, 4.6893,34.5493,2, 84.9,2,34.5491,2, 84.67,2, 87.31,2,38.26,2,0.00,2,2.74,2, -999,9, -999,9,2301.2,2,2357.9,2,7.4999,2,25,-999,9,-999,9, 4.6102,2,27.3621,2, 4.6891,2
49UP20140609_3,   P10,71,1,17,90,2,20140809,0502, 616, 4.9965,147.8515,4174,1140.3, 3.9660,34.5671,2, 88.4,2,34.5678,2, 88.03,2,101.66,2,38.75,2,0.00,2,2.78,2, -999,9, -999,9,2316.6,2,2373.4,2,7.5007,2,25,-999,9,-999,9, 3.8787,2,27.4543,2, 3.9657,2
49UP20140609_3,   P10,71,1,16,89,2,20140809,0502, 611, 4.9965,147.8515,4174,1343.5, 3.3218,34.5873,2, 94.1,2,34.5877,2, 94.09,6,114.40,6,38.93,6,0.00,6,2.78,6, -999,9, -999,9,2324.8,2,2387.4,2,7.5017,2,25,-999,9,-999,9, 3.2235,2,27.5349,2, 3.3219,2
49UP20140609_3,   P10,71,1,15,88,2,20140809,0502, 606, 4.9965,147.8515,4174,1546.9, 2.9028,34.6037,2,100.8,2,34.6035,2,100.39,2,121.99,2,38.77,2,0.00,2,2.76,2, -999,9, -999,9,2333.1,2,2394.8,2,7.5147,2,25,-999,9,-999,9, 2.7921,2,27.5875,2, 2.9029,2
49UP20140609_3,   P10,71,1,14,999,2,20140809,0502, 601, 4.9965,147.8515,4174,1748.5, 2.6307,34.6151,2,102.6,2,34.6149,2,103.29,2,128.94,2,38.82,2,0.00,2,2.75,2, -999,9, -999,9,2336.6,2,2402.9,2,7.5164,6,25,-999,9,-999,9, 2.5065,2,27.6216,2, 2.6305,2
49UP20140609_3,   P10,71,1,13,667,2,20140809,0502, 555, 4.9965,147.8515,4174,1950.4, 2.3606,34.6282,2,108.2,2,34.6282,6,107.98,2,134.72,2,38.55,2,0.00,2,2.73,2, -999,9, -999,9,2341.8,2,2408.5,2,7.5235,2,25,-999,9,-999,9, 2.2230,2,27.6558,2, 2.3607,2
49UP20140609_3,   P10,71,1,12,74,2,20140809,0502, 551, 4.9965,147.8515,4174,2153.6, 2.1124,34.6411,2,114.8,2,34.6398,4,113.97,2,139.72,2,38.29,2,0.00,2,2.70,2, -999,9, -999,9,2344.1,6,2414.1,6,7.5337,2,25,-999,9,-999,9, 1.9610,2,27.6872,2, 2.1124,2
49UP20140609_3,   P10,71,1,11,268,2,20140809,0502, 546, 4.9965,147.8515,4174,2357.2, 1.9261,34.6519,2,122.1,2,34.6516,2,121.79,6,141.91,6,37.84,6,0.00,6,2.66,6, -999,9, -999,9,2344.4,2,2417.9,2,7.5439,2,25,-999,9,-999,9, 1.7600,2,27.7114,2, 1.9258,2
49UP20140609_3,   P10,71,1,10,267,2,20140809,0502, 541, 4.9965,147.8515,4174,2561.4, 1.8057,34.6583,2,128.1,2,34.6578,2,127.78,2,143.27,2,37.44,2,0.00,2,2.63,2, -999,9, -999,9,2340.5,2,2419.3,2,7.5542,2,25,-999,9,-999,9, 1.6235,2,27.7269,2, 1.8053,2
49UP20140609_3,   P10,71,1, 8,81,2,20140809,0502, 537, 4.9965,147.8515,4174,2764.0, 1.7124,34.6642,2,134.3,2,34.6636,2,134.59,2,143.02,2,37.07,2,0.00,2,2.59,2, -999,9, -999,9,2338.4,2,2421.8,2,7.5639,2,25,-999,9,-999,9, 1.5133,2,27.7397,2, 1.7126,2
49UP20140609_3,   P10,71,1, 7,516,2,20140809,0502, 532, 4.9965,147.8515,4174,2968.8, 1.6246,34.6701,2,140.6,2,34.6702,2,140.43,2,142.40,2,36.57,2,0.00,2,2.55,2, -999,9, -999,9,2332.7,2,2419.9,2,7.5688,2,25,-999,9,-999,9, 1.4080,2,27.7521,2, 1.6245,2
49UP20140609_3,   P10,71,1, 6,113,3,20140809,0502, 526, 4.9965,147.8515,4174,3213.3, 1.5726,34.6748,2,145.2,2,34.6747,2,144.72,2,142.00,2,36.27,2,0.00,2,2.53,2, -999,9, -999,9,2333.0,2,2421.0,2,7.5792,2,25,-999,9,-999,9, 1.3335,2,27.7612,2, 1.5724,2
49UP20140609_3,   P10,71,1, 3,104,2,20140809,0502, 520, 4.9965,147.8515,4174,3468.6, 1.5274,34.6795,2,149.4,2,34.6798,6,149.44,2,141.94,2,36.07,2,0.00,2,2.51,2, -999,9, -999,9,2332.9,2,2423.5,2,7.5872,2,25,-999,9,-999,9, 1.2638,2,27.7699,2, 1.5274,2
49UP20140609_3,   P10,71,1, 5,94,3,20140809,0502, 514, 4.9965,147.8515,4174,3724.5, 1.5371,34.6808,2,150.5,2,34.6809,2,150.53,2,141.76,2,35.95,2,0.00,2,2.51,2, -999,9, -999,9,2333.0,2,2424.3,2,7.5911,2,25,-999,9,-999,9, 1.2467,2,27.7721,2, 1.5371,2
49UP20140609_3,   P10,71,1, 4,77,2,20140809,0502, 514, 4.9965,147.8515,4174,3725.1, 1.5370,34.6807,2,150.5,2,34.6809,2,150.13,2,141.66,2,35.95,2,0.00,2,2.50,2, -999,9, -999,9,2330.9,2,2423.1,2,7.5965,2,25,-999,9,-999,9, 1.2465,2,27.7720,2, 1.5369,2
49UP20140609_3,   P10,71,1, 9,518,2,20140809,0502, 515, 4.9965,147.8515,4174,3725.5, 1.5372,34.6807,2,150.6,2,34.6805,2,150.38,2,141.85,2,36.01,2,0.00,2,2.51,2, -999,9, -999,9,2331.8,2,2423.4,2,7.5903,2,25,-999,9,-999,9, 1.2467,2,27.7720,2, 1.5372,2
49UP20140609_3,   P10,71,1, 2,75,2,20140809,0502, 508, 4.9965,147.8515,4174,3980.2, 1.5507,34.6818,2,151.4,2,34.6822,2,151.38,6,141.38,6,35.88,6,0.00,6,2.50,6, -999,9, -999,9,2331.5,2,2422.3,2,7.5865,3,25,-999,9,-999,9, 1.2326,2,27.7738,2, 1.5506,2
49UP20140609_3,   P10,71,1, 1,997,2,20140809,0502, 502, 4.9965,147.8515,4174,4238.5, 1.5629,34.6829,2,152.4,2,34.6830,6,152.11,2,141.34,2,35.87,2,0.00,2,2.50,2, -999,9, -999,9,2333.3,2,2423.6,2,7.5991,2,25,-999,9,-999,9, 1.2159,2,27.7759,2, 1.5631,2