BOTTLE,20230725CCHSIOADS
EXPOCODE,SECT_ID,STNNBR,CASTNO,SAMPNO,BTLNBR,BTLNBR_FLAG_W,DATE,TIME,BTL_TIME,LATITUDE,LONGITUDE,DEPTH,CTDPRS,CTDTMP,CTDSAL,CTDSAL_FLAG_W,CTDOXY,CTDOXY_FLAG_W,SALNTY,SALNTY_FLAG_W,OXYGEN,OXYGEN_FLAG_W,SILCAT,SILCAT_FLAG_W,NO2+NO3,NO2+NO3_FLAG_W,NITRIT,NITRIT_FLAG_W,PHSPHT,PHSPHT_FLAG_W,CFC-11,CFC-11_FLAG_W,CFC-12,CFC-12_FLAG_W,TCARBN,TCARBN_FLAG_W,ALKALI,ALKALI_FLAG_W,PH_TOT,PH_TOT_FLAG_W,PH_TMP,CHLORA,CHLORA_FLAG_W,PPHYTN,PPHYTN_FLAG_W,THETA,THETA_FLAG_W,SIG0,SIG0_FLAG_W,REFTMP,REFTMP_FLAG_W
,,,,,,,,,,,,METERS,DBAR,ITS-90,PSS-78,,UMOL/KG,,PSS-78,,UMOL/KG,,UMOL/KG,,UMOL/KG,,UMOL/KG,,UMOL/KG,,PMOL/KG,,PMOL/KG,,UMOL/KG,,UMOL/KG,,,,DEG C,UG/KG,,UG/KG,,ITS-90,,KG/M^3,,ITS-90,
49UP20140609_3,   P10,80,1, 0,BUC,2,20140812,0714, 846, 1.7548,146.6390,4447,   0.0,29.5331,33.9445,2,196.3,2,   -999,9,195.73,2,  1.16,2, 0.00,2,0.00,2,0.08,2, -999,9, -999,9,-999.0,9,-999.0,9,-999.0,9,-999,-999,9,-999,9,29.5324,2,21.0935,2,   -999,9
49UP20140609_3,   P10,80,1,36,109,2,20140812,0714, 905, 1.7548,146.6390,4447,  10.6,29.6088,34.1082,2,195.9,2,34.1101,2,195.09,2,  1.11,2, 0.00,2,0.00,2,0.07,2, -999,9, -999,9,-999.0,9,-999.0,9,-999.0,9,-999,-999,9,-999,9,29.6062,2,21.1913,2,29.6067,2
49UP20140609_3,   P10,80,1,35,112,2,20140812,0714, 904, 1.7548,146.6390,4447,  24.7,29.4625,34.1679,2,196.2,2,34.1658,2,195.61,2,  1.13,2, 0.00,2,0.00,2,0.07,2, -999,9, -999,9,-999.0,9,-999.0,9,-999.0,9,-999,-999,9,-999,9,29.4565,2,21.2866,2,29.4613,2
49UP20140609_3,   P10,80,1,34,83,2,20140812,0714, 901, 1.7548,146.6390,4447,  49.4,29.4121,34.1635,2,195.8,2,34.1624,2,195.99,6,  1.16,6, 0.00,6,0.00,6,0.07,6, -999,9, -999,9,-999.0,9,-999.0,9,-999.0,9,-999,-999,9,-999,9,29.4001,2,21.3022,2,29.4104,2
49UP20140609_3,   P10,80,1,33,107,2,20140812,0714, 900, 1.7548,146.6390,4447,  74.5,28.2202,34.6476,2,187.0,2,34.7083,4,185.80,2,  1.73,2, 1.01,2,0.09,2,0.21,2, -999,9, -999,9,-999.0,9,-999.0,9,-999.0,9,-999,-999,9,-999,9,28.2026,2,22.0634,2,28.2195,2
49UP20140609_3,   P10,80,1,32,105,2,20140812,0714, 859, 1.7548,146.6390,4447,  99.7,26.6975,34.9933,2,150.1,2,35.0532,4,151.03,2,  2.57,2, 5.88,2,0.14,2,0.52,2, -999,9, -999,9,-999.0,9,-999.0,9,-999.0,9,-999,-999,9,-999,9,26.6748,2,22.8162,2,26.6953,2
49UP20140609_3,   P10,80,1,31,515,2,20140812,0714, 857, 1.7548,146.6390,4447, 126.2,24.7658,35.1995,2,138.6,2,35.1773,4,138.11,2,  4.21,2, 8.05,2,0.04,2,0.66,2, -999,9, -999,9,-999.0,9,-999.0,9,-999.0,9,-999,-999,9,-999,9,24.7386,2,23.5713,2,24.7590,2
49UP20140609_3,   P10,80,1,30,97,2,20140812,0714, 856, 1.7548,146.6390,4447, 152.1,22.2317,35.1789,2,136.9,2,35.1687,4,137.45,2,  5.46,2, 8.81,2,0.02,2,0.71,2, -999,9, -999,9,-999.0,9,-999.0,9,-999.0,9,-999,-999,9,-999,9,22.2014,2,24.2972,2,22.2152,2
49UP20140609_3,   P10,80,1,29,102,2,20140812,0714, 854, 1.7548,146.6390,4447, 201.4,17.0162,34.9162,2,138.8,2,34.9037,4,138.68,2, 12.10,2,13.34,2,0.01,2,1.01,2, -999,9, -999,9,-999.0,9,-999.0,9,-999.0,9,-999,-999,9,-999,9,16.9829,2,25.4540,2,17.0186,2
49UP20140609_3,   P10,80,1,28,108,2,20140812,0714, 852, 1.7548,146.6390,4447, 251.3,11.8513,34.6578,2,128.1,2,34.6652,2,128.19,2, 24.68,2,21.64,2,0.00,2,1.57,2, -999,9, -999,9,-999.0,9,-999.0,9,-999.0,9,-999,-999,9,-999,9,11.8188,2,26.3577,2,11.8507,2
49UP20140609_3,   P10,80,1,27,998,2,20140812,0714, 851, 1.7548,146.6390,4447, 281.8,11.2133,34.7970,2,136.0,2,34.7987,2,136.02,2, 18.79,2,22.27,2,0.00,2,1.60,2, -999,9, -999,9,-999.0,9,-999.0,9,-999.0,9,-999,-999,9,-999,9,11.1781,2,26.5851,2,11.2133,2
49UP20140609_3,   P10,80,1,26,84,2,20140812,0714, 849, 1.7548,146.6390,4447, 322.3,10.4197,34.7395,2,120.1,2,34.7383,2,119.29,2, 22.72,2,25.42,2,0.00,2,1.81,2, -999,9, -999,9,-999.0,9,-999.0,9,-999.0,9,-999,-999,9,-999,9,10.3812,2,26.6827,2,10.4193,2
49UP20140609_3,   P10,80,1,25,98,2,20140812,0714, 847, 1.7548,146.6390,4447, 372.0, 9.6262,34.6807,2,116.4,2,34.6809,2,116.87,2, 26.05,2,27.10,2,0.00,2,1.92,2, -999,9, -999,9,-999.0,9,-999.0,9,-999.0,9,-999,-999,9,-999,9, 9.5839,2,26.7727,2, 9.6175,2
49UP20140609_3,   P10,80,1,24,110,2,20140812,0714, 846, 1.7548,146.6390,4447, 423.4, 9.2105,34.6597,2,128.0,2,34.6606,2,127.49,6, 25.34,6,26.91,6,0.00,6,1.90,6, -999,9, -999,9,-999.0,9,-999.0,9,-999.0,9,-999,-999,9,-999,9, 9.1635,2,26.8253,2, 9.2087,2
49UP20140609_3,   P10,80,1,23,96,2,20140812,0714, 844, 1.7548,146.6390,4447, 473.3, 9.0461,34.6489,2,113.9,2,34.6492,2,114.23,2, 27.87,2,28.58,2,0.00,2,2.01,2, -999,9, -999,9,-999.0,9,-999.0,9,-999.0,9,-999,-999,9,-999,9, 8.9939,2,26.8442,2, 9.0454,2
49UP20140609_3,   P10,80,1,22,111,2,20140812,0714, 841, 1.7548,146.6390,4447, 574.8, 7.3826,34.5603,2,108.4,2,34.5611,2,108.69,2, 39.09,2,32.28,2,0.00,2,2.28,2, -999,9, -999,9,-999.0,9,-999.0,9,-999.0,9,-999,-999,9,-999,9, 7.3260,2,27.0267,2, 7.3837,2
49UP20140609_3,   P10,80,1,21,78,2,20140812,0714, 838, 1.7548,146.6390,4447, 675.3, 6.1896,34.5288,2,117.8,2,34.5291,2,117.99,2, 48.30,2,33.86,2,0.00,2,2.39,2, -999,9, -999,9,-999.0,9,-999.0,9,-999.0,9,-999,-999,9,-999,9, 6.1287,2,27.1639,2, 6.1896,2
49UP20140609_3,   P10,80,1,20,93,2,20140812,0714, 834, 1.7548,146.6390,4447, 777.3, 5.1455,34.5321,2,110.7,2,34.5318,2,110.85,2, 67.56,2,35.84,2,0.00,2,2.55,2, -999,9, -999,9,-999.0,9,-999.0,9,-999.0,9,-999,-999,9,-999,9, 5.0811,2,27.2949,2, 5.1453,2
49UP20140609_3,   P10,80,1,19,92,2,20140812,0714, 832, 1.7548,146.6390,4447, 878.4, 4.7492,34.5428,2, 99.1,2,34.5429,2, 99.52,2, 76.58,2,37.51,2,0.00,2,2.67,2, -999,9, -999,9,-999.0,9,-999.0,9,-999.0,9,-999,-999,9,-999,9, 4.6784,2,27.3493,2, 4.7489,2
49UP20140609_3,   P10,80,1,18,101,2,20140812,0714, 829, 1.7548,146.6390,4447, 978.6, 4.5163,34.5475,2,104.9,2,34.5482,6,105.14,2, 81.68,2,37.05,2,0.00,2,2.64,2, -999,9, -999,9,-999.0,9,-999.0,9,-999.0,9,-999,-999,9,-999,9, 4.4385,2,27.3796,2, 4.5160,2
49UP20140609_3,   P10,80,1,17,90,2,20140812,0714, 825, 1.7548,146.6390,4447,1139.5, 3.9125,34.5656,2,101.6,2,34.5662,2,101.81,2, 95.52,2,38.05,2,0.00,2,2.72,2, -999,9, -999,9,-999.0,9,-999.0,9,-999.0,9,-999,-999,9,-999,9, 3.8258,2,27.4585,2, 3.9124,2
49UP20140609_3,   P10,80,1,16,89,3,20140812,0714, 820, 1.7548,146.6390,4447,1341.3, 3.4678,34.5820,2,101.5,2,34.5829,2,101.73,2,106.49,2,38.41,2,0.00,2,2.74,2, -999,9, -999,9,-999.0,9,-999.0,9,-999.0,9,-999,-999,9,-999,9, 3.3682,2,27.5169,2, 3.4677,2
49UP20140609_3,   P10,80,1,15,88,2,20140812,0714, 816, 1.7548,146.6390,4447,1543.2, 2.9398,34.6019,2,106.9,2,34.6016,2,107.01,2,117.65,2,38.39,2,0.00,2,2.73,2, -999,9, -999,9,-999.0,9,-999.0,9,-999.0,9,-999,-999,9,-999,9, 2.8290,2,27.5828,2, 2.9393,2
49UP20140609_3,   P10,80,1,14,999,2,20140812,0714, 812, 1.7548,146.6390,4447,1747.0, 2.6781,34.6136,2,109.6,2,34.6137,2,109.47,2,124.26,2,38.33,2,0.00,2,2.72,2, -999,9, -999,9,-999.0,9,-999.0,9,-999.0,9,-999,-999,9,-999,9, 2.5534,2,27.6164,2, 2.6781,2
49UP20140609_3,   P10,80,1,13,667,2,20140812,0714, 807, 1.7548,146.6390,4447,1948.8, 2.4314,34.6247,2,113.4,2,34.6255,6,113.62,2,130.36,2,38.09,2,0.00,2,2.70,2, -999,9, -999,9,-999.0,9,-999.0,9,-999.0,9,-999,-999,9,-999,9, 2.2929,2,27.6473,2, 2.4314,2
49UP20140609_3,   P10,80,1,12,74,2,20140812,0714, 803, 1.7548,146.6390,4447,2152.6, 2.1631,34.6389,2,119.1,2,34.6396,2,119.15,2,135.27,2,37.90,2,0.00,2,2.67,2, -999,9, -999,9,-999.0,9,-999.0,9,-999.0,9,-999,-999,9,-999,9, 2.0110,2,27.6815,2, 2.1631,2
49UP20140609_3,   P10,80,1,11,268,2,20140812,0714, 759, 1.7548,146.6390,4447,2354.6, 1.9727,34.6489,2,122.9,2,34.6489,2,123.13,2,140.13,2,37.80,2,0.00,2,2.66,2, -999,9, -999,9,-999.0,9,-999.0,9,-999.0,9,-999,-999,9,-999,9, 1.8060,2,27.7055,2, 1.9728,2
49UP20140609_3,   P10,80,1,10,267,2,20140812,0714, 755, 1.7548,146.6390,4447,2558.8, 1.7716,34.6595,2,131.9,2,34.6599,2,132.16,6,141.86,6,37.15,6,0.00,6,2.60,6, -999,9, -999,9,-999.0,9,-999.0,9,-999.0,9,-999,-999,9,-999,9, 1.5902,2,27.7303,2, 1.7719,2
49UP20140609_3,   P10,80,1, 9,518,2,20140812,0714, 751, 1.7548,146.6390,4447,2762.4, 1.7116,34.6635,2,135.7,2,34.6637,6,135.74,2,142.25,2,36.95,2,0.00,2,2.58,2, -999,9, -999,9,-999.0,9,-999.0,9,-999.0,9,-999,-999,9,-999,9, 1.5128,2,27.7392,2, 1.7116,2
49UP20140609_3,   P10,80,1, 8,81,2,20140812,0714, 746, 1.7548,146.6390,4447,2966.0, 1.6457,34.6682,2,139.9,2,34.6678,2,140.01,2,142.67,2,36.69,2,0.00,2,2.56,2, -999,9, -999,9,-999.0,9,-999.0,9,-999.0,9,-999,-999,9,-999,9, 1.4290,2,27.7490,2, 1.6456,2
49UP20140609_3,   P10,80,1, 7,516,2,20140812,0714, 746, 1.7548,146.6390,4447,2966.2, 1.6458,34.6680,2,139.9,2,34.6683,2,139.93,2,142.58,2,36.66,2,0.00,2,2.56,2, -999,9, -999,9,-999.0,9,-999.0,9,-999.0,9,-999,-999,9,-999,9, 1.4290,2,27.7489,2, 1.6457,2
49UP20140609_3,   P10,80,1, 6,113,2,20140812,0714, 741, 1.7548,146.6390,4447,3212.9, 1.6176,34.6713,2,142.5,2,34.6719,6,142.59,2,142.73,2,36.50,2,0.00,2,2.55,2, -999,9, -999,9,-999.0,9,-999.0,9,-999.0,9,-999,-999,9,-999,9, 1.3775,2,27.7552,2, 1.6176,2
49UP20140609_3,   P10,80,1, 5,94,2,20140812,0714, 736, 1.7548,146.6390,4447,3467.4, 1.5842,34.6752,2,145.7,2,34.6740,2,145.05,2,141.97,2,36.23,2,0.00,2,2.53,2, -999,9, -999,9,-999.0,9,-999.0,9,-999.0,9,-999,-999,9,-999,9, 1.3193,2,27.7625,2, 1.5841,2
49UP20140609_3,   P10,80,1, 4,77,2,20140812,0714, 730, 1.7548,146.6390,4447,3722.5, 1.5550,34.6792,2,149.2,2,34.6802,2,149.28,2,141.90,2,36.14,2,0.00,2,2.52,2, -999,9, -999,9,-999.0,9,-999.0,9,-999.0,9,-999,-999,9,-999,9, 1.2644,2,27.7696,2, 1.5550,2
49UP20140609_3,   P10,80,1, 3,104,2,20140812,0714, 725, 1.7548,146.6390,4447,3977.8, 1.5401,34.6821,2,152.1,2,34.6827,2,152.16,2,141.93,2,35.95,2,0.00,2,2.51,2, -999,9, -999,9,-999.0,9,-999.0,9,-999.0,9,-999,-999,9,-999,9, 1.2225,2,27.7748,2, 1.5401,2
49UP20140609_3,   P10,80,1, 2,75,2,20140812,0714, 720, 1.7548,146.6390,4447,4235.2, 1.5323,34.6847,2,154.9,2,34.6855,2,154.95,6,140.83,6,35.72,6,0.00,6,2.49,6, -999,9, -999,9,-999.0,9,-999.0,9,-999.0,9,-999,-999,9,-999,9, 1.1864,2,27.7793,2, 1.5321,2
49UP20140609_3,   P10,80,1, 1,997,2,20140812,0714, 714, 1.7548,146.6390,4447,4498.7, 1.5547,34.6852,2,155.5,2,34.6864,2,155.47,2,141.12,2,35.73,2,0.00,2,2.48,2, -999,9, -999,9,-999.0,9,-999.0,9,-999.0,9,-999,-999,9,-999,9, 1.1782,2,27.7803,2, 1.5545,2
49UP20140609_3,   P10,81,1, 0,BUC,2,20140812,1429,1605, 1.5095,146.5710,4445,   0.0,29.4746,34.1766,2,195.8,2,   -999,9,195.20,2,  1.14,2, 0.00,2,0.00,2,0.07,2, -999,9, -999,9,-999.0,9,-999.0,9,-999.0,9,-999,-999,9,-999,9,29.4740,2,21.2872,2,   -999,9
49UP20140609_3,   P10,81,1,36,109,2,20140812,1429,1629, 1.5095,146.5710,4445,  10.9,29.4763,34.1763,2,195.7,2,34.1752,2,195.65,2,  1.09,2, 0.00,2,0.00,2,0.08,2, -999,9, -999,9,-999.0,9,-999.0,9,-999.0,9,-999,-999,9,-999,9,29.4737,2,21.2871,2,29.4745,2
49UP20140609_3,   P10,81,1,35,112,2,20140812,1429,1627, 1.5095,146.5710,4445,  26.1,29.4543,34.1880,2,196.0,2,34.1854,2,195.65,2,  1.09,2, 0.00,2,0.00,2,0.07,2, -999,9, -999,9,-999.0,9,-999.0,9,-999.0,9,-999,-999,9,-999,9,29.4479,2,21.3045,2,29.4534,2
49UP20140609_3,   P10,81,1,34,83,2,20140812,1429,1624, 1.5095,146.5710,4445,  52.0,29.3064,34.1752,2,195.3,2,34.1933,4,195.72,2,  1.17,2, 0.00,2,0.00,2,0.07,2, -999,9, -999,9,-999.0,9,-999.0,9,-999.0,9,-999,-999,9,-999,9,29.2938,2,21.3467,2,29.3046,2
49UP20140609_3,   P10,81,1,33,107,2,20140812,1429,1623, 1.5095,146.5710,4445,  79.3,26.8809,34.9664,2,152.8,2,34.9477,4,153.70,2,  2.44,2, 5.09,2,0.25,2,0.47,2, -999,9, -999,9,-999.0,9,-999.0,9,-999.0,9,-999,-999,9,-999,9,26.8627,2,22.7362,2,26.8791,2
49UP20140609_3,   P10,81,1,32,105,2,20140812,1429,1622, 1.5095,146.5710,4445, 101.6,26.4531,35.5133,2,143.9,2,35.5040,4,142.81,2,  2.57,2, 8.02,2,0.05,2,0.70,2, -999,9, -999,9,-999.0,9,-999.0,9,-999.0,9,-999,-999,9,-999,9,26.4301,2,23.2856,2,26.4449,2
49UP20140609_3,   P10,81,1,31,515,2,20140812,1429,1620, 1.5095,146.5710,4445, 126.1,23.7094,35.4226,2,135.7,2,35.4211,2,136.08,2,  3.46,2, 8.50,2,0.02,2,0.71,2, -999,9, -999,9,-999.0,9,-999.0,9,-999.0,9,-999,-999,9,-999,9,23.6830,2,24.0550,2,23.6974,2
49UP20140609_3,   P10,81,1,30,97,2,20140812,1429,1619, 1.5095,146.5710,4445, 152.5,20.0164,35.1787,2,137.5,2,35.2275,4,137.81,2,  6.59,2,10.46,2,0.01,2,0.83,2, -999,9, -999,9,-999.0,9,-999.0,9,-999.0,9,-999,-999,9,-999,9,19.9881,2,24.9012,2,20.0165,2
49UP20140609_3,   P10,81,1,29,102,2,20140812,1429,1617, 1.5095,146.5710,4445, 202.0,15.7072,34.8625,2,137.6,2,34.8803,4,137.61,2, 13.73,2,14.92,2,0.00,2,1.12,2, -999,9, -999,9,-999.0,9,-999.0,9,-999.0,9,-999,-999,9,-999,9,15.6756,2,25.7156,2,15.7065,2
49UP20140609_3,   P10,81,1,28,108,2,20140812,1429,1614, 1.5095,146.5710,4445, 251.7,12.1819,34.8097,2,139.1,2,34.8077,2,138.90,2, 18.86,2,20.32,2,0.00,2,1.48,2, -999,9, -999,9,-999.0,9,-999.0,9,-999.0,9,-999,-999,9,-999,9,12.1487,2,26.4128,2,12.1803,2
49UP20140609_3,   P10,81,1,27,998,2,20140812,1429,1612, 1.5095,146.5710,4445, 302.6,10.7397,34.7715,2,124.3,2,34.7691,2,124.36,6, 20.59,6,24.34,6,0.00,6,1.74,6, -999,9, -999,9,-999.0,9,-999.0,9,-999.0,9,-999,-999,9,-999,9,10.7029,2,26.6509,2,10.7411,2
49UP20140609_3,   P10,81,1,26,84,2,20140812,1429,1611, 1.5095,146.5710,4445, 353.3, 9.9903,34.7083,2,111.9,2,34.7067,6,112.45,2, 24.92,2,26.88,2,0.00,2,1.91,2, -999,9, -999,9,-999.0,9,-999.0,9,-999.0,9,-999,-999,9,-999,9, 9.9491,2,26.7328,2, 9.9903,2
49UP20140609_3,   P10,81,1,25,98,2,20140812,1429,1609, 1.5095,146.5710,4445, 405.0, 9.3628,34.6671,2,120.1,2,34.6665,2,120.86,2, 26.08,2,27.23,2,0.00,2,1.94,2, -999,9, -999,9,-999.0,9,-999.0,9,-999.0,9,-999,-999,9,-999,9, 9.3174,2,26.8060,2, 9.3642,2
49UP20140609_3,   P10,81,1,24,110,2,20140812,1429,1607, 1.5095,146.5710,4445, 454.1, 8.9337,34.6432,2,106.3,2,34.6408,2,107.91,2, 29.34,2,29.45,2,0.00,2,2.07,2, -999,9, -999,9,-999.0,9,-999.0,9,-999.0,9,-999,-999,9,-999,9, 8.8841,2,26.8572,2, 8.9345,2
49UP20140609_3,   P10,81,1,23,96,2,20140812,1429,1605, 1.5095,146.5710,4445, 504.5, 8.4835,34.6128,2,112.7,2,34.6103,2,114.68,2, 31.36,2,29.69,2,0.00,2,2.09,2, -999,9, -999,9,-999.0,9,-999.0,9,-999.0,9,-999,-999,9,-999,9, 8.4299,2,26.9045,2, 8.4837,2
49UP20140609_3,   P10,81,1,22,111,2,20140812,1429,1602, 1.5095,146.5710,4445, 605.5, 6.6543,34.5361,2,111.6,2,34.5362,2,111.87,2, 45.57,2,33.37,2,0.00,2,2.36,2, -999,9, -999,9,-999.0,9,-999.0,9,-999.0,9,-999,-999,9,-999,9, 6.5979,2,27.1080,2, 6.6557,2
49UP20140609_3,   P10,81,1,21,78,2,20140812,1429,1559, 1.5095,146.5710,4445, 706.4, 5.8322,34.5283,2,111.4,2,34.5273,2,112.52,2, 54.01,2,34.94,2,0.00,2,2.48,2, -999,9, -999,9,-999.0,9,-999.0,9,-999.0,9,-999,-999,9,-999,9, 5.7703,2,27.2088,2, 5.8302,2
49UP20140609_3,   P10,81,1,20,93,2,20140812,1429,1556, 1.5095,146.5710,4445, 806.9, 5.0545,34.5343,2,107.7,2,34.5337,2,107.58,2, 69.85,2,36.19,2,0.00,2,2.58,2, -999,9, -999,9,-999.0,9,-999.0,9,-999.0,9,-999,-999,9,-999,9, 4.9880,2,27.3075,2, 5.0542,2
49UP20140609_3,   P10,81,1,19,92,2,20140812,1429,1553, 1.5095,146.5710,4445, 911.5, 4.7891,34.5421,2, 99.2,2,34.5421,2, 99.15,6, 75.82,6,37.53,6,0.00,6,2.68,6, -999,9, -999,9,-999.0,9,-999.0,9,-999.0,9,-999,-999,9,-999,9, 4.7152,2,27.3447,2, 4.7890,2
49UP20140609_3,   P10,81,1,18,101,2,20140812,1429,1549, 1.5095,146.5710,4445,1007.9, 4.4545,34.5500,2,103.1,2,34.5509,2,103.45,2, 83.93,2,37.24,2,0.00,2,2.66,2, -999,9, -999,9,-999.0,9,-999.0,9,-999.0,9,-999,-999,9,-999,9, 4.3746,2,27.3885,2, 4.4539,2
49UP20140609_3,   P10,81,1,17,90,2,20140812,1429,1544, 1.5095,146.5710,4445,1209.0, 3.8306,34.5697,2, 99.0,2,34.5707,6, 99.01,6, 98.91,6,38.31,6,0.00,6,2.75,6, -999,9, -999,9,-999.0,9,-999.0,9,-999.0,9,-999,-999,9,-999,9, 3.7387,2,27.4706,2, 3.8303,2
49UP20140609_3,   P10,81,1,16,89,2,20140812,1429,1540, 1.5095,146.5710,4445,1413.7, 3.1512,34.5935,2,104.1,2,34.5947,2,104.98,3,113.48,2,38.40,2,0.00,2,2.74,2, -999,9, -999,9,-999.0,9,-999.0,9,-999.0,9,-999,-999,9,-999,9, 3.0489,2,27.5561,2, 3.1511,2
49UP20140609_3,   P10,81,1,15,88,2,20140812,1429,1540, 1.5095,146.5710,4445,1414.1, 3.1512,34.5935,2,104.1,2,34.5936,2,103.83,2,113.75,2,38.34,2,0.00,2,2.74,2, -999,9, -999,9,-999.0,9,-999.0,9,-999.0,9,-999,-999,9,-999,9, 3.0487,2,27.5561,2, 3.1510,2
49UP20140609_3,   P10,81,1,14,999,2,20140812,1429,1535, 1.5095,146.5710,4445,1615.8, 2.7725,34.6094,2,107.9,2,34.6128,4,108.27,2,122.14,2,38.35,2,0.00,2,2.73,2, -999,9, -999,9,-999.0,9,-999.0,9,-999.0,9,-999,-999,9,-999,9, 2.6576,2,27.6040,2, 2.7726,2
49UP20140609_3,   P10,81,1,13,667,2,20140812,1429,1530, 1.5095,146.5710,4445,1819.7, 2.4657,34.6229,2,112.8,2,34.6225,2,112.63,2,129.36,2,38.09,2,0.00,2,2.70,2, -999,9, -999,9,-999.0,9,-999.0,9,-999.0,9,-999,-999,9,-999,9, 2.3377,2,27.6421,2, 2.4656,2
49UP20140609_3,   P10,81,1,12,74,2,20140812,1429,1526, 1.5095,146.5710,4445,2023.3, 2.2519,34.6340,2,116.7,2,34.6336,2,116.45,2,134.07,2,37.97,2,0.00,2,2.69,2, -999,9, -999,9,-999.0,9,-999.0,9,-999.0,9,-999,-999,9,-999,9, 2.1096,2,27.6697,2, 2.2518,2
49UP20140609_3,   P10,81,1,11,268,2,20140812,1429,1521, 1.5095,146.5710,4445,2225.3, 2.1145,34.6412,2,119.7,2,34.6409,2,119.27,2,137.32,2,37.88,2,0.00,2,2.68,2, -999,9, -999,9,-999.0,9,-999.0,9,-999.0,9,-999,-999,9,-999,9, 1.9568,2,27.6876,2, 2.1145,2
49UP20140609_3,   P10,81,1,10,267,2,20140812,1429,1516, 1.5095,146.5710,4445,2428.6, 1.8439,34.6555,2,127.8,2,34.6554,2,127.27,2,141.98,2,37.37,2,0.00,2,2.63,2, -999,9, -999,9,-999.0,9,-999.0,9,-999.0,9,-999,-999,9,-999,9, 1.6729,2,27.7209,2, 1.8439,2
49UP20140609_3,   P10,81,1, 9,518,2,20140812,1429,1511, 1.5095,146.5710,4445,2633.8, 1.7298,34.6616,2,134.7,2,34.6614,2,134.71,2,141.97,2,36.91,2,0.00,2,2.59,2, -999,9, -999,9,-999.0,9,-999.0,9,-999.0,9,-999,-999,9,-999,9, 1.5424,2,27.7355,2, 1.7297,2
49UP20140609_3,   P10,81,1, 8,81,2,20140812,1429,1506, 1.5095,146.5710,4445,2833.4, 1.6835,34.6653,2,137.6,2,34.6646,2,137.48,2,142.51,2,36.79,2,0.00,2,2.58,2, -999,9, -999,9,-999.0,9,-999.0,9,-999.0,9,-999,-999,9,-999,9, 1.4786,2,27.7431,2, 1.6830,2
49UP20140609_3,   P10,81,1, 7,516,2,20140812,1429,1502, 1.5095,146.5710,4445,3038.3, 1.6358,34.6691,2,140.8,2,34.6690,2,140.47,2,142.72,2,36.54,2,0.00,2,2.56,2, -999,9, -999,9,-999.0,9,-999.0,9,-999.0,9,-999,-999,9,-999,9, 1.4123,2,27.7510,2, 1.6358,2
49UP20140609_3,   P10,81,1, 6,113,2,20140812,1429,1456, 1.5095,146.5710,4445,3294.3, 1.6010,34.6729,2,143.8,2,34.6729,2,143.72,2,142.82,2,36.33,2,0.00,2,2.54,2, -999,9, -999,9,-999.0,9,-999.0,9,-999.0,9,-999,-999,9,-999,9, 1.3532,2,27.7582,2, 1.6010,2
49UP20140609_3,   P10,81,1, 5,94,2,20140812,1429,1451, 1.5095,146.5710,4445,3549.7, 1.5703,34.6770,2,147.0,2,34.6773,2,146.93,6,142.67,6,36.17,6,0.00,6,2.52,6, -999,9, -999,9,-999.0,9,-999.0,9,-999.0,9,-999,-999,9,-999,9, 1.2973,2,27.7655,2, 1.5702,2
49UP20140609_3,   P10,81,1, 4,77,2,20140812,1429,1445, 1.5095,146.5710,4445,3805.9, 1.5412,34.6808,2,150.8,2,34.6810,2,150.65,2,142.14,2,35.96,2,0.00,2,2.50,2, -999,9, -999,9,-999.0,9,-999.0,9,-999.0,9,-999,-999,9,-999,9, 1.2421,2,27.7724,2, 1.5413,2
49UP20140609_3,   P10,81,1, 3,104,2,20140812,1429,1440, 1.5095,146.5710,4445,4061.0, 1.5298,34.6835,2,153.6,2,34.6838,2,153.20,2,141.73,2,35.78,2,0.00,2,2.50,2, -999,9, -999,9,-999.0,9,-999.0,9,-999.0,9,-999,-999,9,-999,9, 1.2034,2,27.7772,2, 1.5297,2
49UP20140609_3,   P10,81,1, 2,75,2,20140812,1429,1434, 1.5095,146.5710,4445,4315.8, 1.5374,34.6850,2,155.2,2,34.6857,2,154.85,2,140.98,2,35.63,2,0.00,2,2.48,2, -999,9, -999,9,-999.0,9,-999.0,9,-999.0,9,-999,-999,9,-999,9, 1.1824,2,27.7799,2, 1.5374,2
49UP20140609_3,   P10,81,1, 1,997,2,20140812,1429,1430, 1.5095,146.5710,4445,4518.1, 1.5551,34.6853,2,155.7,2,34.6859,6,155.28,2,141.01,2,35.63,2,0.00,2,2.48,2, -999,9, -999,9,-999.0,9,-999.0,9,-999.0,9,-999,-999,9,-999,9, 1.1764,2,27.7806,2, 1.5552,2