BOTTLE,20230725CCHSIOADS
EXPOCODE,SECT_ID,STNNBR,CASTNO,SAMPNO,BTLNBR,BTLNBR_FLAG_W,DATE,TIME,BTL_TIME,LATITUDE,LONGITUDE,DEPTH,CTDPRS,CTDTMP,CTDSAL,CTDSAL_FLAG_W,CTDOXY,CTDOXY_FLAG_W,SALNTY,SALNTY_FLAG_W,OXYGEN,OXYGEN_FLAG_W,SILCAT,SILCAT_FLAG_W,NO2+NO3,NO2+NO3_FLAG_W,NITRIT,NITRIT_FLAG_W,PHSPHT,PHSPHT_FLAG_W,CFC-11,CFC-11_FLAG_W,CFC-12,CFC-12_FLAG_W,TCARBN,TCARBN_FLAG_W,ALKALI,ALKALI_FLAG_W,PH_TOT,PH_TOT_FLAG_W,PH_TMP,CHLORA,CHLORA_FLAG_W,PPHYTN,PPHYTN_FLAG_W,THETA,THETA_FLAG_W,SIG0,SIG0_FLAG_W,REFTMP,REFTMP_FLAG_W
,,,,,,,,,,,,METERS,DBAR,ITS-90,PSS-78,,UMOL/KG,,PSS-78,,UMOL/KG,,UMOL/KG,,UMOL/KG,,UMOL/KG,,UMOL/KG,,PMOL/KG,,PMOL/KG,,UMOL/KG,,UMOL/KG,,,,DEG C,UG/KG,,UG/KG,,ITS-90,,KG/M^3,,ITS-90,
49UP20140609_3,   P10,84,1, 0,BUC,2,20140813,1237,1420, 0.7480,146.3568,4483,   0.0,29.4410,34.2599,2,196.3,2,   -999,9,195.79,2,  1.06,2, 0.00,2,0.00,2,0.08,2, -999,9, -999,9,-999.0,9,-999.0,9,-999.0,9,-999,-999,9,-999,9,29.4404,2,21.3610,2,   -999,9
49UP20140609_3,   P10,84,1,36,109,2,20140813,1237,1429, 0.7480,146.3568,4483,  10.3,29.4659,34.2587,2,196.2,2,34.2554,2,195.96,2,  1.02,2, 0.00,2,0.00,2,0.08,2, -999,9, -999,9,-999.0,9,-999.0,9,-999.0,9,-999,-999,9,-999,9,29.4634,2,21.3523,2,29.4655,2
49UP20140609_3,   P10,84,1,35,112,2,20140813,1237,1428, 0.7480,146.3568,4483,  25.0,29.4418,34.2570,2,196.2,2,34.2545,2,196.03,2,  1.00,2, 0.00,2,0.00,2,0.07,2, -999,9, -999,9,-999.0,9,-999.0,9,-999.0,9,-999,-999,9,-999,9,29.4357,2,21.3603,2,29.4408,2
49UP20140609_3,   P10,84,1,34,83,2,20140813,1237,1427, 0.7480,146.3568,4483,  50.6,29.3825,34.2536,2,196.1,2,34.2507,2,196.13,2,  1.07,2, 0.00,2,0.00,2,0.08,2, -999,9, -999,9,-999.0,9,-999.0,9,-999.0,9,-999,-999,9,-999,9,29.3702,2,21.3798,2,29.3805,2
49UP20140609_3,   P10,84,1,32,105,2,20140813,1237,1425, 0.7480,146.3568,4483,  75.4,28.4860,34.9199,2,181.7,2,34.9486,4,177.84,2,  1.40,2, 1.52,2,0.22,2,0.29,2, -999,9, -999,9,-999.0,9,-999.0,9,-999.0,9,-999,-999,9,-999,9,28.4680,2,22.1807,2,28.5035,2
49UP20140609_3,   P10,84,1,31,515,2,20140813,1237,1422, 0.7480,146.3568,4483, 100.4,27.6355,35.5438,2,158.5,2,35.5569,4,157.98,6,  1.95,6, 6.88,6,0.10,6,0.64,6, -999,9, -999,9,-999.0,9,-999.0,9,-999.0,9,-999,-999,9,-999,9,27.6120,2,22.9301,2,27.6383,2
49UP20140609_3,   P10,84,1,30,97,2,20140813,1237,1421, 0.7480,146.3568,4483, 126.3,24.1607,35.3805,2,135.7,2,35.3904,2,135.40,2,  3.52,2, 8.51,2,0.02,2,0.71,2, -999,9, -999,9,-999.0,9,-999.0,9,-999.0,9,-999,-999,9,-999,9,24.1339,2,23.8897,2,24.1648,2
49UP20140609_3,   P10,84,1,29,102,2,20140813,1237,1420, 0.7480,146.3568,4483, 153.7,23.0163,35.4846,2,137.4,2,35.4779,2,137.55,2,  3.35,2, 8.62,2,0.02,2,0.72,2, -999,9, -999,9,-999.0,9,-999.0,9,-999.0,9,-999,-999,9,-999,9,22.9848,2,24.3056,2,23.0017,2
49UP20140609_3,   P10,84,1,28,108,2,20140813,1237,1418, 0.7480,146.3568,4483, 201.6,17.7774,35.3359,2,143.2,2,35.3361,2,143.10,2,  5.73,2,11.89,2,0.01,2,0.94,2, -999,9, -999,9,-999.0,9,-999.0,9,-999.0,9,-999,-999,9,-999,9,17.7430,2,25.5926,2,17.7763,2
49UP20140609_3,   P10,84,1,27,998,2,20140813,1237,1416, 0.7480,146.3568,4483, 250.9,14.1819,34.8855,2,139.8,2,34.8804,2,139.18,2, 15.67,2,17.25,2,0.00,2,1.28,2, -999,9, -999,9,-999.0,9,-999.0,9,-999.0,9,-999,-999,9,-999,9,14.1453,2,26.0679,2,14.1853,2
49UP20140609_3,   P10,84,1,26,84,2,20140813,1237,1415, 0.7480,146.3568,4483, 301.1,11.7282,34.8502,2,141.9,2,34.8479,2,141.41,2, 16.18,2,20.77,2,0.00,2,1.50,2, -999,9, -999,9,-999.0,9,-999.0,9,-999.0,9,-999,-999,9,-999,9,11.6894,2,26.5317,2,11.7276,2
49UP20140609_3,   P10,84,1,25,98,2,20140813,1237,1413, 0.7480,146.3568,4483, 352.2,10.6094,34.7570,2,120.3,2,34.7509,2,119.70,2, 21.89,2,25.05,2,0.00,2,1.78,2, -999,9, -999,9,-999.0,9,-999.0,9,-999.0,9,-999,-999,9,-999,9,10.5668,2,26.6638,2,10.6085,2
49UP20140609_3,   P10,84,1,24,110,2,20140813,1237,1412, 0.7480,146.3568,4483, 402.8, 9.4694,34.6763,2,112.4,2,34.6752,2,113.52,2, 26.19,2,27.77,2,0.00,2,1.95,2, -999,9, -999,9,-999.0,9,-999.0,9,-999.0,9,-999,-999,9,-999,9, 9.4239,2,26.7958,2, 9.4703,2
49UP20140609_3,   P10,84,1,23,96,2,20140813,1237,1410, 0.7480,146.3568,4483, 453.4, 9.0363,34.6485,2,107.2,2,34.6470,2,106.88,2, 29.03,2,29.31,2,0.00,2,2.06,2, -999,9, -999,9,-999.0,9,-999.0,9,-999.0,9,-999,-999,9,-999,9, 8.9865,2,26.8451,2, 9.0372,2
49UP20140609_3,   P10,84,1,22,111,2,20140813,1237,1408, 0.7480,146.3568,4483, 503.4, 8.5515,34.6224,2,105.6,2,34.6220,2,105.40,2, 31.08,2,30.45,2,0.00,2,2.13,2, -999,9, -999,9,-999.0,9,-999.0,9,-999.0,9,-999,-999,9,-999,9, 8.4978,2,26.9015,2, 8.5506,2
49UP20140609_3,   P10,84,1,21,78,2,20140813,1237,1406, 0.7480,146.3568,4483, 604.1, 6.6811,34.5355,2,124.0,2,34.5361,2,121.99,2, 41.62,2,32.54,2,0.00,2,2.29,2, -999,9, -999,9,-999.0,9,-999.0,9,-999.0,9,-999,-999,9,-999,9, 6.6247,2,27.1040,2, 6.6803,2
49UP20140609_3,   P10,84,1,20,93,2,20140813,1237,1403, 0.7480,146.3568,4483, 704.6, 5.7085,34.5282,2,111.8,2,34.5276,2,111.61,2, 55.40,2,35.28,2,0.00,2,2.49,2, -999,9, -999,9,-999.0,9,-999.0,9,-999.0,9,-999,-999,9,-999,9, 5.6474,2,27.2240,2, 5.7083,2
49UP20140609_3,   P10,84,1,19,92,2,20140813,1237,1400, 0.7480,146.3568,4483, 805.3, 5.1805,34.5327,2,107.1,2,34.5329,2,106.94,6, 67.18,6,36.30,6,0.00,6,2.57,6, -999,9, -999,9,-999.0,9,-999.0,9,-999.0,9,-999,-999,9,-999,9, 5.1134,2,27.2916,2, 5.1799,2
49UP20140609_3,   P10,84,1,18,101,2,20140813,1237,1358, 0.7480,146.3568,4483, 906.4, 4.8254,34.5411,2,101.5,2,34.5417,2,101.39,2, 75.17,2,37.18,2,0.00,2,2.65,2, -999,9, -999,9,-999.0,9,-999.0,9,-999.0,9,-999,-999,9,-999,9, 4.7517,2,27.3398,2, 4.8250,2
49UP20140609_3,   P10,84,1,17,90,2,20140813,1237,1355, 0.7480,146.3568,4483,1008.0, 4.4665,34.5508,2,100.6,2,34.5527,2,100.97,2, 84.11,2,37.44,2,0.00,2,2.67,2, -999,9, -999,9,-999.0,9,-999.0,9,-999.0,9,-999,-999,9,-999,9, 4.3865,2,27.3878,2, 4.4663,2
49UP20140609_3,   P10,84,1,16,89,3,20140813,1237,1350, 0.7480,146.3568,4483,1209.0, 3.7862,34.5692,2,102.7,2,34.5705,2,102.60,2, 98.15,2,38.12,2,0.00,2,2.72,2, -999,9, -999,9,-999.0,9,-999.0,9,-999.0,9,-999,-999,9,-999,9, 3.6946,2,27.4746,2, 3.7884,2
49UP20140609_3,   P10,84,1,15,88,2,20140813,1237,1346, 0.7480,146.3568,4483,1411.6, 3.2387,34.5891,2,106.0,2,34.5893,6,106.08,6,110.30,6,38.21,6,0.00,6,2.72,6, -999,9, -999,9,-999.0,9,-999.0,9,-999.0,9,-999,-999,9,-999,9, 3.1355,2,27.5445,2, 3.2386,2
49UP20140609_3,   P10,84,1,14,999,2,20140813,1237,1342, 0.7480,146.3568,4483,1615.0, 2.7811,34.6090,2,107.1,2,34.6086,2,107.36,2,122.67,2,38.40,2,0.00,2,2.72,2, -999,9, -999,9,-999.0,9,-999.0,9,-999.0,9,-999,-999,9,-999,9, 2.6661,2,27.6029,2, 2.7810,2
49UP20140609_3,   P10,84,1,13,667,2,20140813,1237,1337, 0.7480,146.3568,4483,1817.7, 2.4866,34.6226,2,117.1,2,34.6228,2,117.10,2,125.61,2,37.93,2,0.00,2,2.68,2, -999,9, -999,9,-999.0,9,-999.0,9,-999.0,9,-999,-999,9,-999,9, 2.3585,2,27.6401,2, 2.4867,2
49UP20140609_3,   P10,84,1,12,74,2,20140813,1237,1333, 0.7480,146.3568,4483,2020.8, 2.2306,34.6358,2,117.6,2,34.6356,2,117.74,2,134.06,2,38.07,2,0.00,2,2.68,2, -999,9, -999,9,-999.0,9,-999.0,9,-999.0,9,-999,-999,9,-999,9, 2.0889,2,27.6728,2, 2.2307,2
49UP20140609_3,   P10,84,1,11,268,2,20140813,1237,1328, 0.7480,146.3568,4483,2223.3, 2.0711,34.6438,2,121.7,2,34.6436,2,121.71,2,137.61,2,37.82,2,0.00,2,2.66,2, -999,9, -999,9,-999.0,9,-999.0,9,-999.0,9,-999,-999,9,-999,9, 1.9143,2,27.6931,2, 2.0709,2
49UP20140609_3,   P10,84,1,10,267,2,20140813,1237,1324, 0.7480,146.3568,4483,2427.6, 1.8542,34.6548,2,128.7,2,34.6540,6,128.75,2,141.11,2,37.34,2,0.00,2,2.62,2, -999,9, -999,9,-999.0,9,-999.0,9,-999.0,9,-999,-999,9,-999,9, 1.6831,2,27.7196,2, 1.8541,2
49UP20140609_3,   P10,84,1, 9,518,2,20140813,1237,1319, 0.7480,146.3568,4483,2630.2, 1.7593,34.6604,2,133.4,2,34.6600,2,133.55,2,141.84,2,37.05,2,0.00,2,2.59,2, -999,9, -999,9,-999.0,9,-999.0,9,-999.0,9,-999,-999,9,-999,9, 1.5717,2,27.7324,2, 1.7593,2
49UP20140609_3,   P10,84,1, 8,81,2,20140813,1237,1315, 0.7480,146.3568,4483,2833.3, 1.6795,34.6660,2,137.8,2,34.6649,2,137.54,2,142.47,2,36.84,2,0.00,2,2.57,2, -999,9, -999,9,-999.0,9,-999.0,9,-999.0,9,-999,-999,9,-999,9, 1.4746,2,27.7440,2, 1.6795,2
49UP20140609_3,   P10,84,1, 7,516,2,20140813,1237,1311, 0.7480,146.3568,4483,3038.2, 1.6332,34.6694,2,141.0,2,34.6685,2,140.82,2,142.83,2,36.65,2,0.00,2,2.55,2, -999,9, -999,9,-999.0,9,-999.0,9,-999.0,9,-999,-999,9,-999,9, 1.4098,2,27.7514,2, 1.6334,2
49UP20140609_3,   P10,84,1, 6,113,2,20140813,1237,1305, 0.7480,146.3568,4483,3292.8, 1.5963,34.6733,2,144.2,2,34.6733,2,144.00,6,142.77,6,36.38,6,0.00,6,2.54,6, -999,9, -999,9,-999.0,9,-999.0,9,-999.0,9,-999,-999,9,-999,9, 1.3488,2,27.7589,2, 1.5963,2
49UP20140609_3,   P10,84,1, 5,94,2,20140813,1237,1300, 0.7480,146.3568,4483,3549.5, 1.5666,34.6773,2,147.2,2,34.6773,6,146.84,2,142.30,2,36.05,3,0.00,2,2.52,2, -999,9, -999,9,-999.0,9,-999.0,9,-999.0,9,-999,-999,9,-999,9, 1.2937,2,27.7660,2, 1.5664,2
49UP20140609_3,   P10,84,1, 4,77,2,20140813,1237,1254, 0.7480,146.3568,4483,3805.0, 1.5449,34.6809,2,150.4,2,34.6801,2,150.15,2,142.26,2,36.00,2,0.00,2,2.51,2, -999,9, -999,9,-999.0,9,-999.0,9,-999.0,9,-999,-999,9,-999,9, 1.2458,2,27.7722,2, 1.5449,2
49UP20140609_3,   P10,84,1, 3,104,2,20140813,1237,1249, 0.7480,146.3568,4483,4060.6, 1.5288,34.6836,2,153.6,2,34.6845,2,153.51,2,141.28,2,35.78,2,0.00,2,2.49,2, -999,9, -999,9,-999.0,9,-999.0,9,-999.0,9,-999,-999,9,-999,9, 1.2025,2,27.7774,2, 1.5287,2
49UP20140609_3,   P10,84,1, 2,75,2,20140813,1237,1244, 0.7480,146.3568,4483,4316.7, 1.5393,34.6851,2,155.1,2,34.6870,4,154.75,2,140.92,2,35.58,2,0.00,2,2.48,2, -999,9, -999,9,-999.0,9,-999.0,9,-999.0,9,-999,-999,9,-999,9, 1.1841,2,27.7798,2, 1.5392,2
49UP20140609_3,   P10,84,1,33,469,2,20140813,1237,1244, 0.7480,146.3568,4483,4316.8, 1.5393,34.6851,2,155.1,2,34.6843,2,154.90,2,140.66,2,35.69,2,0.00,2,2.48,2, -999,9, -999,9,-999.0,9,-999.0,9,-999.0,9,-999,-999,9,-999,9, 1.1841,2,27.7799,2, 1.5393,2
49UP20140609_3,   P10,84,1, 1,997,2,20140813,1237,1237, 0.7480,146.3568,4483,4546.6, 1.5544,34.6857,2,156.2,2,34.6857,2,155.97,2,140.62,2,35.59,2,0.00,2,2.48,2, -999,9, -999,9,-999.0,9,-999.0,9,-999.0,9,-999,-999,9,-999,9, 1.1723,2,27.7811,2, 1.5543,2
49UP20140609_3,   P10,85,1, 0,BUC,2,20140813,1929,2102, 0.5030,146.2692,4129,   0.0,29.3838,34.3176,2,195.6,2,   -999,9,195.25,2,  1.11,2, 0.00,2,0.00,2,0.09,2, -999,9, -999,9,-999.0,9,-999.0,9,-999.0,9,-999,-999,9,-999,9,29.3832,2,21.4235,2,   -999,9
49UP20140609_3,   P10,85,1,36,109,2,20140813,1929,2111, 0.5030,146.2692,4129,  10.7,29.4044,34.3186,2,195.5,2,34.3151,2,195.50,6,  1.14,6, 0.00,6,0.00,6,0.09,6, -999,9, -999,9,-999.0,9,-999.0,9,-999.0,9,-999,-999,9,-999,9,29.4019,2,21.4180,2,29.4039,2
49UP20140609_3,   P10,85,1,35,112,2,20140813,1929,2110, 0.5030,146.2692,4129,  25.5,29.4097,34.3195,2,195.3,2,34.3189,2,195.16,2,  1.15,2, 0.00,2,0.00,2,0.09,2, -999,9, -999,9,-999.0,9,-999.0,9,-999.0,9,-999,-999,9,-999,9,29.4035,2,21.4181,2,29.4094,2
49UP20140609_3,   P10,85,1,34,83,2,20140813,1929,2107, 0.5030,146.2692,4129,  50.4,29.4030,34.3361,2,194.1,2,34.3390,2,194.71,2,  1.16,2, 0.00,2,0.00,2,0.10,2, -999,9, -999,9,-999.0,9,-999.0,9,-999.0,9,-999,-999,9,-999,9,29.3907,2,21.4349,2,29.4024,2
49UP20140609_3,   P10,85,1,32,105,2,20140813,1929,2106, 0.5030,146.2692,4129,  75.6,27.9091,34.9178,2,167.7,2,35.0101,4,167.77,2,  1.80,2, 3.23,2,0.43,2,0.38,2, -999,9, -999,9,-999.0,9,-999.0,9,-999.0,9,-999,-999,9,-999,9,27.8914,2,22.3682,2,27.9073,2
49UP20140609_3,   P10,85,1,31,515,2,20140813,1929,2105, 0.5030,146.2692,4129, 100.3,26.2543,35.5629,2,145.7,2,35.5707,2,150.74,2,  2.14,2, 7.24,2,0.05,2,0.65,2, -999,9, -999,9,-999.0,9,-999.0,9,-999.0,9,-999,-999,9,-999,9,26.2318,2,23.3855,2,26.2217,2
49UP20140609_3,   P10,85,1,30,97,2,20140813,1929,2104, 0.5030,146.2692,4129, 126.1,23.8011,35.3647,2,136.3,2,35.3765,4,136.44,2,  3.77,2, 8.46,2,0.02,2,0.70,2, -999,9, -999,9,-999.0,9,-999.0,9,-999.0,9,-999,-999,9,-999,9,23.7747,2,23.9842,2,23.8029,2
49UP20140609_3,   P10,85,1,29,102,2,20140813,1929,2103, 0.5030,146.2692,4129, 151.9,22.2299,35.5016,2,138.3,2,35.4844,4,138.89,2,  3.77,2, 8.96,2,0.02,2,0.74,2, -999,9, -999,9,-999.0,9,-999.0,9,-999.0,9,-999,-999,9,-999,9,22.1996,2,24.5428,2,22.2366,2
49UP20140609_3,   P10,85,1,28,108,2,20140813,1929,2102, 0.5030,146.2692,4129, 201.3,17.2532,35.3199,2,144.1,2,35.3064,4,144.61,2,  6.06,2,12.45,2,0.01,2,0.97,2, -999,9, -999,9,-999.0,9,-999.0,9,-999.0,9,-999,-999,9,-999,9,17.2195,2,25.7073,2,17.2542,2
49UP20140609_3,   P10,85,1,27,998,2,20140813,1929,2100, 0.5030,146.2692,4129, 252.3,14.4936,35.0101,2,143.9,2,34.9924,4,143.32,2, 12.60,2,16.32,2,0.00,2,1.21,2, -999,9, -999,9,-999.0,9,-999.0,9,-999.0,9,-999,-999,9,-999,9,14.4562,2,26.0979,2,14.4925,2
49UP20140609_3,   P10,85,1,26,84,2,20140813,1929,2058, 0.5030,146.2692,4129, 332.4,11.1087,34.7973,2,133.6,2,34.7895,6,130.65,2, 19.48,2,23.16,2,0.00,2,1.66,2, -999,9, -999,9,-999.0,9,-999.0,9,-999.0,9,-999,-999,9,-999,9,11.0673,2,26.6055,2,11.1161,2
49UP20140609_3,   P10,85,1,25,98,2,20140813,1929,2057, 0.5030,146.2692,4129, 382.5, 9.8606,34.7013,2,103.8,2,34.6990,2,103.47,2, 26.21,2,28.13,2,0.00,2,1.98,2, -999,9, -999,9,-999.0,9,-999.0,9,-999.0,9,-999,-999,9,-999,9, 9.8164,2,26.7499,2, 9.8596,2
49UP20140609_3,   P10,85,1,24,110,2,20140813,1929,2055, 0.5030,146.2692,4129, 433.8, 9.0504,34.6496,2, 97.1,2,34.6480,2, 98.33,6, 30.16,6,30.25,6,0.00,6,2.12,6, -999,9, -999,9,-999.0,9,-999.0,9,-999.0,9,-999,-999,9,-999,9, 9.0027,2,26.8433,2, 9.0407,2
49UP20140609_3,   P10,85,1,23,96,2,20140813,1929,2054, 0.5030,146.2692,4129, 484.1, 8.5055,34.6215,2,114.9,2,34.6194,2,114.08,2, 29.76,2,29.85,2,0.00,2,2.09,2, -999,9, -999,9,-999.0,9,-999.0,9,-999.0,9,-999,-999,9,-999,9, 8.4540,2,26.9076,2, 8.5054,2
49UP20140609_3,   P10,85,1,21,78,2,20140813,1929,2052, 0.5030,146.2692,4129, 533.9, 7.7100,34.5742,2,127.8,2,34.5703,4,128.21,2, 32.91,2,30.07,2,0.00,2,2.11,2, -999,9, -999,9,-999.0,9,-999.0,9,-999.0,9,-999,-999,9,-999,9, 7.6563,2,26.9901,2, 7.7119,2
49UP20140609_3,   P10,85,1,22,111,2,20140813,1929,2052, 0.5030,146.2692,4129, 534.2, 7.7012,34.5743,2,127.8,2,34.5711,4,128.92,2, 32.87,2,30.07,2,0.00,2,2.11,2, -999,9, -999,9,-999.0,9,-999.0,9,-999.0,9,-999,-999,9,-999,9, 7.6475,2,26.9915,2, 7.7003,2
49UP20140609_3,   P10,85,1,20,93,2,20140813,1929,2050, 0.5030,146.2692,4129, 633.9, 6.5325,34.5387,2,112.1,2,34.5396,2,111.20,2, 44.79,2,34.09,2,0.00,2,2.40,2, -999,9, -999,9,-999.0,9,-999.0,9,-999.0,9,-999,-999,9,-999,9, 6.4739,2,27.1267,2, 6.5327,2
49UP20140609_3,   P10,85,1,19,92,2,20140813,1929,2047, 0.5030,146.2692,4129, 735.4, 5.6138,34.5267,2,113.1,2,34.5274,2,112.93,2, 57.00,2,35.26,2,0.00,2,2.49,2, -999,9, -999,9,-999.0,9,-999.0,9,-999.0,9,-999,-999,9,-999,9, 5.5505,2,27.2346,2, 5.6136,2
49UP20140609_3,   P10,85,1,18,101,2,20140813,1929,2044, 0.5030,146.2692,4129, 836.7, 5.1143,34.5346,2,104.5,2,34.5349,2,104.81,2, 68.32,2,36.69,2,0.00,2,2.60,2, -999,9, -999,9,-999.0,9,-999.0,9,-999.0,9,-999,-999,9,-999,9, 5.0448,2,27.3010,2, 5.1138,2
49UP20140609_3,   P10,85,1,17,90,2,20140813,1929,2042, 0.5030,146.2692,4129, 938.6, 4.8502,34.5404,2,102.9,2,34.5403,2,103.00,6, 74.59,6,37.05,6,0.00,6,2.63,6, -999,9, -999,9,-999.0,9,-999.0,9,-999.0,9,-999,-999,9,-999,9, 4.7734,2,27.3367,2, 4.8506,2
49UP20140609_3,   P10,85,1,16,89,2,20140813,1929,2038, 0.5030,146.2692,4129,1079.1, 4.2693,34.5552,2,102.0,2,34.5556,2,102.24,2, 87.87,2,37.57,2,0.00,2,2.68,2, -999,9, -999,9,-999.0,9,-999.0,9,-999.0,9,-999,-999,9,-999,9, 4.1847,2,27.4130,2, 4.2692,2
49UP20140609_3,   P10,85,1,15,88,2,20140813,1929,2034, 0.5030,146.2692,4129,1280.3, 3.6382,34.5765,2, 97.8,2,34.5772,6, 97.82,2,102.80,2,38.68,2,0.00,2,2.75,2, -999,9, -999,9,-999.0,9,-999.0,9,-999.0,9,-999,-999,9,-999,9, 3.5420,2,27.4956,2, 3.6388,2
49UP20140609_3,   P10,85,1,14,999,2,20140813,1929,2027, 0.5030,146.2692,4129,1482.7, 3.1262,34.5941,2,106.8,2,34.5941,2,106.90,2,111.99,2,38.21,2,0.00,2,2.71,2, -999,9, -999,9,-999.0,9,-999.0,9,-999.0,9,-999,-999,9,-999,9, 3.0184,2,27.5593,2, 3.1276,2
49UP20140609_3,   P10,85,1,13,667,2,20140813,1929,2022, 0.5030,146.2692,4129,1686.0, 2.6706,34.6138,2,110.1,2,34.6143,2,109.98,2,124.21,2,38.31,2,0.00,2,2.71,2, -999,9, -999,9,-999.0,9,-999.0,9,-999.0,9,-999,-999,9,-999,9, 2.5511,2,27.6167,2, 2.6716,2
49UP20140609_3,   P10,85,1,11,268,2,20140813,1929,2018, 0.5030,146.2692,4129,1889.3, 2.3604,34.6286,2,115.9,2,34.6279,2,115.66,2,130.56,2,38.04,2,0.00,2,2.68,2, -999,9, -999,9,-999.0,9,-999.0,9,-999.0,9,-999,-999,9,-999,9, 2.2280,2,27.6557,2, 2.3603,2
49UP20140609_3,   P10,85,1,12,74,2,20140813,1929,2018, 0.5030,146.2692,4129,1889.5, 2.3604,34.6286,2,115.9,2,34.6284,2,115.81,2,130.51,2,38.06,2,0.00,2,2.68,2, -999,9, -999,9,-999.0,9,-999.0,9,-999.0,9,-999,-999,9,-999,9, 2.2280,2,27.6558,2, 2.3602,2
49UP20140609_3,   P10,85,1,10,267,2,20140813,1929,2013, 0.5030,146.2692,4129,2093.7, 2.1912,34.6382,2,118.9,2,34.6377,2,119.12,2,134.49,2,38.00,2,0.00,2,2.67,2, -999,9, -999,9,-999.0,9,-999.0,9,-999.0,9,-999,-999,9,-999,9, 2.0438,2,27.6784,2, 2.1906,2
49UP20140609_3,   P10,85,1, 9,518,3,20140813,1929,2009, 0.5030,146.2692,4129,2295.2, 2.0031,34.6473,2,124.2,2,34.6471,2,123.99,2,138.17,2,37.74,2,0.00,2,2.64,2, -999,9, -999,9,-999.0,9,-999.0,9,-999.0,9,-999,-999,9,-999,9, 1.8411,2,27.7016,2, 2.0030,2
49UP20140609_3,   P10,85,1, 8,81,2,20140813,1929,2005, 0.5030,146.2692,4129,2498.9, 1.8022,34.6577,2,131.3,2,34.6570,2,131.27,6,141.23,6,37.17,6,0.00,6,2.61,6, -999,9, -999,9,-999.0,9,-999.0,9,-999.0,9,-999,-999,9,-999,9, 1.6256,2,27.7263,2, 1.8020,2
49UP20140609_3,   P10,85,1, 7,516,2,20140813,1929,2000, 0.5030,146.2692,4129,2702.0, 1.7136,34.6632,2,135.8,2,34.6635,6,135.87,2,141.85,2,36.91,2,0.00,2,2.58,2, -999,9, -999,9,-999.0,9,-999.0,9,-999.0,9,-999,-999,9,-999,9, 1.5203,2,27.7384,2, 1.7136,2
49UP20140609_3,   P10,85,1, 6,113,2,20140813,1929,1956, 0.5030,146.2692,4129,2906.4, 1.6256,34.6690,2,140.6,2,34.6689,2,140.52,2,142.62,2,36.68,2,0.00,2,2.55,2, -999,9, -999,9,-999.0,9,-999.0,9,-999.0,9,-999,-999,9,-999,9, 1.4150,2,27.7507,2, 1.6255,2
49UP20140609_3,   P10,85,1, 5,94,2,20140813,1929,1951, 0.5030,146.2692,4129,3120.2, 1.6060,34.6715,2,142.6,2,34.6716,2,142.44,2,142.58,2,36.51,2,0.00,2,2.54,2, -999,9, -999,9,-999.0,9,-999.0,9,-999.0,9,-999,-999,9,-999,9, 1.3753,2,27.7555,2, 1.6059,2
49UP20140609_3,   P10,85,1, 4,77,2,20140813,1929,1946, 0.5030,146.2692,4129,3375.5, 1.5780,34.6752,2,145.3,2,34.6751,2,145.30,2,142.64,2,36.34,2,0.00,2,2.53,2, -999,9, -999,9,-999.0,9,-999.0,9,-999.0,9,-999,-999,9,-999,9, 1.3226,2,27.7622,2, 1.5779,2
49UP20140609_3,   P10,85,1, 3,104,2,20140813,1929,1941, 0.5030,146.2692,4129,3630.7, 1.5500,34.6792,2,148.6,2,34.6791,2,148.52,2,142.38,2,36.15,2,0.00,2,2.51,2, -999,9, -999,9,-999.0,9,-999.0,9,-999.0,9,-999,-999,9,-999,9, 1.2691,2,27.7692,2, 1.5499,2
49UP20140609_3,   P10,85,1,33,469,2,20140813,1929,1935, 0.5030,146.2692,4129,3886.4, 1.5338,34.6823,2,151.6,2,34.6820,2,151.64,2,141.94,2,35.98,2,0.00,2,2.50,2, -999,9, -999,9,-999.0,9,-999.0,9,-999.0,9,-999,-999,9,-999,9, 1.2263,2,27.7747,2, 1.5337,2
49UP20140609_3,   P10,85,1, 2,75,2,20140813,1929,1935, 0.5030,146.2692,4129,3886.5, 1.5337,34.6823,2,151.6,2,34.6825,2,151.49,2,141.71,2,35.94,2,0.00,2,2.50,2, -999,9, -999,9,-999.0,9,-999.0,9,-999.0,9,-999,-999,9,-999,9, 1.2262,2,27.7747,2, 1.5337,2
49UP20140609_3,   P10,85,1, 1,997,2,20140813,1929,1929, 0.5030,146.2692,4129,4155.3, 1.5304,34.6844,2,154.0,2,34.6841,6,154.02,2,141.37,2,35.79,2,0.00,2,2.49,2, -999,9, -999,9,-999.0,9,-999.0,9,-999.0,9,-999,-999,9,-999,9, 1.1936,2,27.7787,2, 1.5304,2