BOTTLE,20230725CCHSIOADS
EXPOCODE,SECT_ID,STNNBR,CASTNO,SAMPNO,BTLNBR,BTLNBR_FLAG_W,DATE,TIME,BTL_TIME,LATITUDE,LONGITUDE,DEPTH,CTDPRS,CTDTMP,CTDSAL,CTDSAL_FLAG_W,CTDOXY,CTDOXY_FLAG_W,SALNTY,SALNTY_FLAG_W,OXYGEN,OXYGEN_FLAG_W,SILCAT,SILCAT_FLAG_W,NO2+NO3,NO2+NO3_FLAG_W,NITRIT,NITRIT_FLAG_W,PHSPHT,PHSPHT_FLAG_W,CFC-11,CFC-11_FLAG_W,CFC-12,CFC-12_FLAG_W,TCARBN,TCARBN_FLAG_W,ALKALI,ALKALI_FLAG_W,PH_TOT,PH_TOT_FLAG_W,PH_TMP,CHLORA,CHLORA_FLAG_W,PPHYTN,PPHYTN_FLAG_W,THETA,THETA_FLAG_W,SIG0,SIG0_FLAG_W,REFTMP,REFTMP_FLAG_W
,,,,,,,,,,,,METERS,DBAR,ITS-90,PSS-78,,UMOL/KG,,PSS-78,,UMOL/KG,,UMOL/KG,,UMOL/KG,,UMOL/KG,,UMOL/KG,,PMOL/KG,,PMOL/KG,,UMOL/KG,,UMOL/KG,,,,DEG C,UG/KG,,UG/KG,,ITS-90,,KG/M^3,,ITS-90,
49UP20140609_3,   P10,64,1, 0,BUC,2,20140806,2040,2148, 8.5227,149.3545,3636,   0.0,29.4587,33.9298,2,195.3,2,33.9538,2,195.26,2,  0.96,2, 0.00,2,0.00,2,0.08,2, -999,9, -999,9,1899.8,2,2217.1,2,8.1133,2,25,0.05,2,0.02,2,29.4580,2,21.1075,2,   -999,9
49UP20140609_3,   P10,64,1,36,109,2,20140806,2040,2212, 8.5227,149.3545,3636,  10.2,29.5071,33.9777,2,195.2,2,33.9739,6,195.59,2,  0.97,2, 0.00,2,0.00,2,0.07,2, -999,9, -999,9,1902.8,2,2220.0,2,8.1174,2,25,0.05,2,0.02,2,29.5046,2,21.1277,2,29.5069,2
49UP20140609_3,   P10,64,1,35,112,2,20140806,2040,2211, 8.5227,149.3545,3636,  25.5,29.2847,34.1011,2,197.0,2,34.1137,4,197.31,6,  0.96,6, 0.00,6,0.00,6,0.07,6, -999,9, -999,9,1911.6,2,2233.1,2,8.1216,2,25,0.05,2,0.02,2,29.2785,2,21.2963,2,29.2838,2
49UP20140609_3,   P10,64,1,34,83,2,20140806,2040,2208, 8.5227,149.3545,3636,  50.5,28.3927,34.6278,2,201.9,2,34.6375,2,202.23,2,  1.10,2, 0.00,2,0.00,2,0.10,2, -999,9, -999,9,1949.7,2,2274.1,2,8.1094,2,25,0.08,2,0.04,2,28.3807,2,21.9900,2,28.3977,2
49UP20140609_3,   P10,64,1,33,107,2,20140806,2040,2207, 8.5227,149.3545,3636,  75.3,27.6828,34.8127,2,202.4,2,34.8265,4,203.21,2,  1.01,2, 0.00,2,0.00,2,0.12,2, -999,9, -999,9,1964.4,2,2287.9,2,8.1058,2,25,0.09,2,0.05,2,27.6653,2,22.3627,2,27.6822,2
49UP20140609_3,   P10,64,1,32,105,2,20140806,2040,2206, 8.5227,149.3545,3636,  99.6,25.5593,35.0265,2,193.5,2,35.0300,2,194.27,2,  1.50,2, 0.02,2,0.00,2,0.17,2, -999,9, -999,9,2006.1,2,2305.5,2,8.0540,2,25,0.18,2,0.22,2,25.5373,2,23.1967,2,25.5533,2
49UP20140609_3,   P10,64,1,31,515,2,20140806,2040,2205, 8.5227,149.3545,3636, 124.9,22.4799,35.0195,2,171.9,2,35.0179,2,171.87,2,  3.01,2, 2.79,2,0.26,2,0.37,2, -999,9, -999,9,2055.2,2,2305.1,2,7.9699,2,25,0.17,2,0.37,2,22.4548,2,24.1044,2,22.4849,2
49UP20140609_3,   P10,64,1,30,97,2,20140806,2040,2203, 8.5227,149.3545,3636, 149.8,18.1317,34.7638,2,146.2,2,34.7592,2,145.71,2,  7.82,2, 9.84,2,0.02,2,0.80,2, -999,9, -999,9,2101.7,2,2289.9,2,7.8498,2,25,0.05,2,0.21,2,18.1059,2,25.0650,2,18.1263,2
49UP20140609_3,   P10,64,1,29,102,2,20140806,2040,2201, 8.5227,149.3545,3636, 203.2,12.2386,34.4958,2, 93.2,2,34.4967,2, 93.09,2, 22.89,2,23.26,2,0.01,2,1.72,2, -999,9, -999,9,2183.9,2,2281.7,2,7.6353,2,25,-999,9,-999,9,12.2118,2,26.1570,2,12.2379,2
49UP20140609_3,   P10,64,1,28,108,2,20140806,2040,2201, 8.5227,149.3545,3636, 203.4,12.2370,34.4954,2, 93.2,2,34.4963,2, 93.12,2, 22.95,2,23.31,2,0.01,2,1.73,2, -999,9, -999,9,2183.7,2,2283.4,2,7.6294,2,25,0.01,2,0.03,2,12.2102,2,26.1569,2,12.2359,2
49UP20140609_3,   P10,64,1,27,998,2,20140806,2040,2200, 8.5227,149.3545,3636, 251.5,10.5760,34.5265,2, 64.5,2,34.5267,2, 64.23,2, 30.54,2,29.31,2,0.00,2,2.13,2, -999,9, -999,9,2221.5,6,2289.9,6,7.5465,2,25,-999,9,-999,9,10.5459,2,26.4877,2,10.5746,2
49UP20140609_3,   P10,64,1,26,84,2,20140806,2040,2158, 8.5227,149.3545,3636, 332.6, 9.2697,34.5529,2, 63.1,2,34.5526,2, 63.23,2, 37.10,2,32.20,2,0.00,2,2.30,2, -999,9, -999,9,2238.1,2,2299.6,2,7.5213,6,25,-999,9,-999,9, 9.2329,2,26.7305,2, 9.2694,2
49UP20140609_3,   P10,64,1,25,98,2,20140806,2040,2156, 8.5227,149.3545,3636, 382.7, 8.8227,34.5606,2, 63.4,2,34.5597,2, 63.98,2, 39.29,2,33.13,2,0.00,2,2.36,2, -999,9, -999,9,2244.4,2,2304.0,2,7.5164,2,25,-999,9,-999,9, 8.7814,2,26.8088,2, 8.8231,2
49UP20140609_3,   P10,64,1,24,110,2,20140806,2040,2154, 8.5227,149.3545,3636, 433.2, 8.2369,34.5496,2, 68.6,2,34.5496,2, 68.75,2, 42.85,2,33.73,2,0.00,2,2.40,2, -999,9, -999,9,2249.2,2,2307.3,2,7.5161,2,25,-999,9,-999,9, 8.1919,2,26.8912,2, 8.2368,2
49UP20140609_3,   P10,64,1,23,96,2,20140806,2040,2152, 8.5227,149.3545,3636, 484.2, 7.7285,34.5468,2, 70.8,2,34.5464,2, 70.87,2, 46.46,2,34.60,2,0.00,2,2.46,2, -999,9, -999,9,2252.4,2,2312.2,2,7.5126,2,25,-999,9,-999,9, 7.6799,2,26.9651,2, 7.7284,2
49UP20140609_3,   P10,64,1,22,111,2,20140806,2040,2151, 8.5227,149.3545,3636, 533.9, 7.3663,34.5392,2, 72.4,2,34.5407,2, 72.50,2, 49.54,2,35.14,2,0.00,2,2.50,2, -999,9, -999,9,2257.5,2,2316.3,2,7.5048,2,25,-999,9,-999,9, 7.3140,2,27.0118,2, 7.3705,2
49UP20140609_3,   P10,64,1,21,78,2,20140806,2040,2148, 8.5227,149.3545,3636, 635.5, 6.3613,34.5286,2, 73.0,2,34.5290,2, 73.20,2, 61.27,2,36.82,2,0.00,2,2.63,2, -999,9, -999,9,2276.4,2,2322.3,2,7.4943,2,25,-999,9,-999,9, 6.3034,2,27.1411,2, 6.3612,2
49UP20140609_3,   P10,64,1,20,93,2,20140806,2040,2145, 8.5227,149.3545,3636, 736.7, 5.6557,34.5321,2, 77.5,2,34.5324,2, 77.45,6, 71.66,6,37.50,6,0.00,6,2.68,6, -999,9, -999,9,2286.0,2,2339.8,3,7.4983,2,25,-999,9,-999,9, 5.5920,2,27.2338,2, 5.6553,2
49UP20140609_3,   P10,64,1,18,101,3,20140806,2040,2143, 8.5227,149.3545,3636, 835.7, 5.2213,34.5346,2, 80.3,2,34.5368,4, 80.17,2, 78.93,2,37.86,2,0.00,2,2.70,2, -999,9, -999,9,2293.2,2,2347.2,2,7.4948,2,25,-999,9,-999,9, 5.1512,2,27.2886,2, 5.2207,2
49UP20140609_3,   P10,64,1,19,92,2,20140806,2040,2143, 8.5227,149.3545,3636, 836.3, 5.2212,34.5348,2, 80.3,2,34.5349,2, 80.05,2, 78.89,2,37.82,2,0.00,2,2.70,2, -999,9, -999,9,2294.4,2,2346.6,2,7.4957,2,25,-999,9,-999,9, 5.1510,2,27.2888,2, 5.2209,2
49UP20140609_3,   P10,64,1,17,90,2,20140806,2040,2140, 8.5227,149.3545,3636, 938.2, 4.7201,34.5483,2, 80.3,2,34.5482,2, 80.14,2, 87.79,2,38.64,2,0.00,2,2.76,2, -999,9, -999,9,2306.3,6,2356.9,6,7.4911,2,25,-999,9,-999,9, 4.6443,2,27.3575,2, 4.7197,2
49UP20140609_3,   P10,64,1,16,89,3,20140806,2040,2137, 8.5227,149.3545,3636,1079.4, 4.2739,34.5574,2, 84.5,2,34.5578,2, 84.71,2, 96.69,2,38.65,2,0.00,2,2.76,2, -999,9, -999,9,2310.9,2,2365.4,2,7.4957,6,25,-999,9,-999,9, 4.1892,2,27.4142,2, 4.2737,2
49UP20140609_3,   P10,64,1,15,88,3,20140806,2040,2132, 8.5227,149.3545,3636,1282.1, 3.5821,34.5773,2, 90.8,2,34.5774,6, 91.02,2,110.39,2,38.85,2,0.00,2,2.77,2, -999,9, -999,9,2323.4,2,2381.1,2,7.4994,2,25,-999,9,-999,9, 3.4864,2,27.5016,2, 3.5819,2
49UP20140609_3,   P10,64,1,14,999,2,20140806,2040,2128, 8.5227,149.3545,3636,1484.4, 2.9600,34.5957,2, 95.9,2,34.5957,2, 96.28,2,123.53,2,38.97,2,0.00,2,2.76,2, -999,9, -999,9,2335.2,2,2393.5,2,7.5054,2,25,-999,9,-999,9, 2.8539,2,27.5757,2, 2.9599,2
49UP20140609_3,   P10,64,1,13,667,2,20140806,2040,2123, 8.5227,149.3545,3636,1686.8, 2.5305,34.6157,2,103.9,2,34.6154,2,104.31,6,131.48,6,38.71,6,0.00,6,2.74,6, -999,9, -999,9,2337.9,2,2401.4,2,7.5162,2,25,-999,9,-999,9, 2.4128,2,27.6301,2, 2.5305,2
49UP20140609_3,   P10,64,1,12,74,2,20140806,2040,2118, 8.5227,149.3545,3636,1889.9, 2.2738,34.6293,2,109.3,2,34.6284,2,109.23,2,137.27,2,38.57,2,0.00,2,2.72,2, -999,9, -999,9,2341.8,2,2409.8,2,7.5267,2,25,-999,9,-999,9, 2.1426,2,27.6633,2, 2.2736,2
49UP20140609_3,   P10,64,1,11,268,2,20140806,2040,2118, 8.5227,149.3545,3636,1890.6, 2.2737,34.6293,2,109.2,2,34.6281,2,109.05,2,137.01,2,38.54,2,0.00,2,2.72,2, -999,9, -999,9,2343.0,2,2409.0,2,7.5248,2,25,-999,9,-999,9, 2.1424,2,27.6633,2, 2.2736,2
49UP20140609_3,   P10,64,1,10,267,3,20140806,2040,2113, 8.5227,149.3545,3636,2093.2, 2.0939,34.6403,2,112.9,2,34.6402,2,113.02,2,140.78,2,38.41,2,0.00,2,2.70,2, -999,9, -999,9,2344.5,2,2412.1,2,7.5292,2,25,-999,9,-999,9, 1.9481,2,27.6876,2, 2.0939,2
49UP20140609_3,   P10,64,1, 8,81,2,20140806,2040,2109, 8.5227,149.3545,3636,2296.1, 1.9269,34.6487,2,119.9,2,34.6480,2,119.77,2,143.21,2,38.04,2,0.00,2,2.66,2, -999,9, -999,9,2342.5,2,2414.4,2,7.5393,6,25,-999,9,-999,9, 1.7661,2,27.7084,2, 1.9269,2
49UP20140609_3,   P10,64,1, 7,516,2,20140806,2040,2104, 8.5227,149.3545,3636,2499.1, 1.8333,34.6543,2,124.8,2,34.6545,2,124.75,2,144.33,2,37.74,2,0.00,2,2.64,2, -999,9, -999,9,2342.9,6,2416.4,6,7.5453,2,25,-999,9,-999,9, 1.6562,2,27.7212,2, 1.8333,2
49UP20140609_3,   P10,64,1, 6,113,2,20140806,2040,2100, 8.5227,149.3545,3636,2704.3, 1.7156,34.6614,2,130.9,2,34.6613,2,131.14,2,145.17,2,37.30,2,0.00,2,2.60,2, -999,9, -999,9,2339.5,2,2416.7,2,7.5574,2,25,-999,9,-999,9, 1.5220,2,27.7369,2, 1.7157,2
49UP20140609_3,   P10,64,1, 3,104,2,20140806,2040,2055, 8.5227,149.3545,3636,2907.5, 1.6716,34.6650,2,134.2,2,34.6653,6,134.43,2,145.41,2,37.10,2,0.00,2,2.59,2, -999,9, -999,9,2339.3,2,2417.9,2,7.5575,2,25,-999,9,-999,9, 1.4599,2,27.7442,2, 1.6715,2
49UP20140609_3,   P10,64,1, 2,75,2,20140806,2040,2050, 8.5227,149.3545,3636,3120.5, 1.6262,34.6687,2,137.9,2,34.6690,2,138.10,6,145.26,6,36.83,6,0.00,6,2.57,6, -999,9, -999,9,2335.1,2,2416.8,2,7.5656,2,25,-999,9,-999,9, 1.3950,2,27.7519,2, 1.6261,2
49UP20140609_3,   P10,64,1, 1,997,2,20140806,2040,2045, 8.5227,149.3545,3636,3375.4, 1.5483,34.6750,2,144.8,2,34.6756,6,144.79,2,144.21,2,36.39,2,0.00,2,2.53,2, -999,9, -999,9,2332.0,2,2416.8,2,7.5770,2,25,-999,9,-999,9, 1.2936,2,27.7641,2, 1.5476,2
49UP20140609_3,   P10,64,1, 4,77,2,20140806,2040,2040, 8.5227,149.3545,3636,3578.8, 1.5246,34.6780,2,148.3,2,34.6777,2,148.35,2,143.54,2,36.16,2,0.00,2,2.51,2, -999,9, -999,9,2328.7,2,2414.5,2,7.5821,2,25,-999,9,-999,9, 1.2497,2,27.7696,2, 1.5247,2
49UP20140609_3,   P10,64,1, 5,94,2,20140806,2040,2041, 8.5227,149.3545,3636,3579.0, 1.5263,34.6779,2,148.4,2,34.6778,2,148.28,2,143.38,2,36.16,2,0.00,2,2.51,2, -999,9, -999,9,2329.2,2,2414.2,2,7.5765,2,25,-999,9,-999,9, 1.2514,2,27.7694,2, 1.5261,2
49UP20140609_3,   P10,64,1, 9,518,2,20140806,2040,2041, 8.5227,149.3545,3636,3579.0, 1.5251,34.6779,2,148.4,2,34.6771,2,148.13,2,143.59,2,36.15,2,0.00,2,2.51,2, -999,9, -999,9,2326.0,3,2412.8,2,7.5746,2,25,-999,9,-999,9, 1.2502,2,27.7695,2, 1.5240,2
49UP20140609_3,   P10,65,1, 0,BUC,2,20140807,0435, 543, 8.0307,149.2438,3218,   0.0,29.7340,33.9828,2,195.6,2,   -999,9,195.50,2,  1.07,2, 0.00,2,0.00,2,0.07,2, -999,9, -999,9,-999.0,9,-999.0,9,-999.0,9,-999,-999,9,-999,9,29.7333,2,21.0543,2,   -999,9
49UP20140609_3,   P10,65,1,36,109,2,20140807,0435, 611, 8.0307,149.2438,3218,  10.6,29.7206,33.9808,2,195.5,2,33.9787,2,195.24,2,  0.98,2, 0.00,2,0.00,2,0.07,2, -999,9, -999,9,-999.0,9,-999.0,9,-999.0,9,-999,-999,9,-999,9,29.7179,2,21.0580,2,29.7233,2
49UP20140609_3,   P10,65,1,35,112,2,20140807,0435, 610, 8.0307,149.2438,3218,  26.7,29.3696,34.0557,2,196.7,2,34.0531,2,196.37,2,  1.02,2, 0.00,2,0.00,2,0.07,2, -999,9, -999,9,-999.0,9,-999.0,9,-999.0,9,-999,-999,9,-999,9,29.3631,2,21.2338,2,29.3688,2
49UP20140609_3,   P10,65,1,33,107,2,20140807,0435, 607, 8.0307,149.2438,3218,  50.9,29.2106,34.1026,2,197.3,2,34.1104,2,197.79,2,  1.03,2, 0.00,2,0.00,2,0.08,2, -999,9, -999,9,-999.0,9,-999.0,9,-999.0,9,-999,-999,9,-999,9,29.1982,2,21.3242,2,29.2071,2
49UP20140609_3,   P10,65,1,34,83,2,20140807,0435, 607, 8.0307,149.2438,3218,  51.3,29.2111,34.1071,2,197.4,2,34.0943,4,197.53,2,  1.05,2, 0.00,2,0.00,2,0.08,2, -999,9, -999,9,-999.0,9,-999.0,9,-999.0,9,-999,-999,9,-999,9,29.1986,2,21.3275,2,29.2088,2
49UP20140609_3,   P10,65,1,32,105,2,20140807,0435, 606, 8.0307,149.2438,3218,  76.7,27.5703,34.8988,2,205.1,2,34.8914,2,205.51,2,  1.09,2, 0.00,2,0.00,2,0.12,2, -999,9, -999,9,-999.0,9,-999.0,9,-999.0,9,-999,-999,9,-999,9,27.5525,2,22.4640,2,27.5687,2
49UP20140609_3,   P10,65,1,31,515,2,20140807,0435, 604, 8.0307,149.2438,3218, 100.4,24.0113,35.0781,2,188.3,2,35.0712,6,188.17,2,  1.98,2, 0.41,2,0.04,2,0.22,2, -999,9, -999,9,-999.0,9,-999.0,9,-999.0,9,-999,-999,9,-999,9,23.9902,2,23.7034,2,24.0107,2
49UP20140609_3,   P10,65,1,30,97,2,20140807,0435, 602, 8.0307,149.2438,3218, 126.9,19.4773,34.8535,2,154.1,2,34.8487,2,153.48,2,  5.88,2, 7.44,2,0.04,2,0.65,2, -999,9, -999,9,-999.0,9,-999.0,9,-999.0,9,-999,-999,9,-999,9,19.4543,2,24.7925,2,19.4780,2
49UP20140609_3,   P10,65,1,29,102,2,20140807,0435, 601, 8.0307,149.2438,3218, 152.8,16.9817,34.6918,2,133.7,2,34.6880,2,133.23,2, 10.18,2,12.49,2,0.02,2,0.98,2, -999,9, -999,9,-999.0,9,-999.0,9,-999.0,9,-999,-999,9,-999,9,16.9566,2,25.2880,2,16.9797,2
49UP20140609_3,   P10,65,1,28,108,2,20140807,0435, 558, 8.0307,149.2438,3218, 202.3,12.1615,34.5265,2, 85.7,2,34.5280,2, 85.45,6, 24.29,6,24.45,6,0.01,6,1.81,6, -999,9, -999,9,-999.0,9,-999.0,9,-999.0,9,-999,-999,9,-999,9,12.1350,2,26.1955,2,12.1613,2
49UP20140609_3,   P10,65,1,27,998,2,20140807,0435, 556, 8.0307,149.2438,3218, 253.1,10.1272,34.5379,2, 63.8,2,34.5382,2, 63.58,2, 32.85,2,30.28,2,0.00,2,2.19,2, -999,9, -999,9,-999.0,9,-999.0,9,-999.0,9,-999,-999,9,-999,9,10.0977,2,26.5744,2,10.1281,2
49UP20140609_3,   P10,65,1,26,84,2,20140807,0435, 554, 8.0307,149.2438,3218, 283.9, 9.3051,34.5361,2, 64.1,2,34.5341,2, 64.10,2, 37.22,2,31.89,2,0.00,2,2.29,2, -999,9, -999,9,-999.0,9,-999.0,9,-999.0,9,-999,-999,9,-999,9, 9.2736,2,26.7107,2, 9.3051,2
49UP20140609_3,   P10,65,1,25,98,2,20140807,0435, 552, 8.0307,149.2438,3218, 322.6, 8.8976,34.5685,2, 61.6,2,34.5685,2, 61.02,2, 38.53,2,33.12,2,0.00,2,2.36,2, -999,9, -999,9,-999.0,9,-999.0,9,-999.0,9,-999,-999,9,-999,9, 8.8627,2,26.8021,2, 8.8926,2
49UP20140609_3,   P10,65,1,24,110,2,20140807,0435, 550, 8.0307,149.2438,3218, 374.5, 8.2515,34.5473,2, 69.1,2,34.5477,2, 68.57,2, 43.12,2,33.63,2,0.00,2,2.40,2, -999,9, -999,9,-999.0,9,-999.0,9,-999.0,9,-999,-999,9,-999,9, 8.2127,2,26.8863,2, 8.2512,2
49UP20140609_3,   P10,65,1,23,96,2,20140807,0435, 548, 8.0307,149.2438,3218, 424.5, 7.9033,34.5499,2, 69.9,2,34.5492,2, 69.81,2, 45.75,2,34.33,2,0.00,2,2.44,2, -999,9, -999,9,-999.0,9,-999.0,9,-999.0,9,-999,-999,9,-999,9, 7.8603,2,26.9411,2, 7.9049,2
49UP20140609_3,   P10,65,1,21,78,2,20140807,0435, 546, 8.0307,149.2438,3218, 476.0, 7.5129,34.5427,2, 71.9,2,34.5424,2, 71.89,2, 48.56,2,34.81,2,0.00,2,2.48,2, -999,9, -999,9,-999.0,9,-999.0,9,-999.0,9,-999,-999,9,-999,9, 7.4659,2,26.9929,2, 7.5127,2
49UP20140609_3,   P10,65,1,22,111,2,20140807,0435, 546, 8.0307,149.2438,3218, 477.5, 7.5125,34.5428,2, 71.9,2,34.5421,2, 71.58,2, 48.61,2,34.85,2,0.00,2,2.49,2, -999,9, -999,9,-999.0,9,-999.0,9,-999.0,9,-999,-999,9,-999,9, 7.4653,2,26.9930,2, 7.5124,2
49UP20140609_3,   P10,65,1,20,93,2,20140807,0435, 543, 8.0307,149.2438,3218, 576.4, 6.9565,34.5394,2, 66.9,2,34.5398,2, 66.88,2, 53.89,2,36.30,2,0.00,2,2.59,2, -999,9, -999,9,-999.0,9,-999.0,9,-999.0,9,-999,-999,9,-999,9, 6.9016,2,27.0695,2, 6.9580,2
49UP20140609_3,   P10,65,1,19,92,2,20140807,0435, 540, 8.0307,149.2438,3218, 677.7, 6.2837,34.5333,2, 68.1,2,34.5316,4, 68.56,2, 62.91,2,37.41,2,0.00,2,2.68,2, -999,9, -999,9,-999.0,9,-999.0,9,-999.0,9,-999,-999,9,-999,9, 6.2221,2,27.1554,2, 6.2835,2
49UP20140609_3,   P10,65,1,18,101,2,20140807,0435, 537, 8.0307,149.2438,3218, 777.3, 5.6330,34.5368,2, 71.0,2,34.5360,2, 71.24,2, 72.16,2,38.24,2,0.00,2,2.74,2, -999,9, -999,9,-999.0,9,-999.0,9,-999.0,9,-999,-999,9,-999,9, 5.5657,2,27.2408,2, 5.6330,2
49UP20140609_3,   P10,65,1,17,90,2,20140807,0435, 534, 8.0307,149.2438,3218, 878.9, 4.9400,34.5429,2, 79.9,2,34.5431,2, 79.69,2, 84.13,2,38.30,2,0.00,2,2.74,2, -999,9, -999,9,-999.0,9,-999.0,9,-999.0,9,-999,-999,9,-999,9, 4.8679,2,27.3280,2, 4.9402,2
49UP20140609_3,   P10,65,1,16,89,3,20140807,0435, 531, 8.0307,149.2438,3218, 980.9, 4.4931,34.5518,2, 82.7,2,34.5518,2, 82.62,2, 92.27,2,38.63,2,0.00,2,2.76,2, -999,9, -999,9,-999.0,9,-999.0,9,-999.0,9,-999,-999,9,-999,9, 4.4153,2,27.3855,2, 4.4929,2
49UP20140609_3,   P10,65,1,15,88,2,20140807,0435, 526, 8.0307,149.2438,3218,1142.3, 3.9003,34.5656,2, 87.3,2,34.5654,6, 87.14,6,104.15,6,38.83,6,0.00,6,2.77,6, -999,9, -999,9,-999.0,9,-999.0,9,-999.0,9,-999,-999,9,-999,9, 3.8134,2,27.4598,2, 3.9002,2
49UP20140609_3,   P10,65,1,13,667,2,20140807,0435, 520, 8.0307,149.2438,3218,1345.5, 3.3963,34.5833,2, 92.8,2,34.5828,2, 92.41,2,114.44,2,38.89,2,0.00,2,2.77,2, -999,9, -999,9,-999.0,9,-999.0,9,-999.0,9,-999,-999,9,-999,9, 3.2970,2,27.5247,2, 3.3962,2
49UP20140609_3,   P10,65,1,14,999,2,20140807,0435, 520, 8.0307,149.2438,3218,1345.6, 3.3931,34.5835,2, 92.9,2,34.5827,2, 93.12,2,114.20,2,38.87,2,0.00,2,2.76,2, -999,9, -999,9,-999.0,9,-999.0,9,-999.0,9,-999,-999,9,-999,9, 3.2939,2,27.5251,2, 3.3933,2
49UP20140609_3,   P10,65,1,12,74,2,20140807,0435, 514, 8.0307,149.2438,3218,1546.5, 2.9613,34.5984,2, 98.2,2,34.5981,2, 97.87,2,123.16,2,38.82,2,0.00,2,2.75,2, -999,9, -999,9,-999.0,9,-999.0,9,-999.0,9,-999,-999,9,-999,9, 2.8500,2,27.5782,2, 2.9612,2
49UP20140609_3,   P10,65,1,11,268,2,20140807,0435, 509, 8.0307,149.2438,3218,1749.4, 2.5609,34.6151,2,104.7,2,34.6143,6,104.71,2,131.36,2,38.69,2,0.00,2,2.73,2, -999,9, -999,9,-999.0,9,-999.0,9,-999.0,9,-999,-999,9,-999,9, 2.4375,2,27.6275,2, 2.5608,2
49UP20140609_3,   P10,65,1,10,267,2,20140807,0435, 505, 8.0307,149.2438,3218,1950.7, 2.2803,34.6281,2,109.7,2,34.6274,2,109.56,2,136.97,2,38.50,2,0.00,2,2.71,2, -999,9, -999,9,-999.0,9,-999.0,9,-999.0,9,-999,-999,9,-999,9, 2.1438,2,27.6622,2, 2.2803,2
49UP20140609_3,   P10,65,1, 8,81,2,20140807,0435, 500, 8.0307,149.2438,3218,2153.7, 2.0875,34.6403,2,114.3,2,34.6397,2,114.15,6,141.01,6,38.32,6,0.00,6,2.70,6, -999,9, -999,9,-999.0,9,-999.0,9,-999.0,9,-999,-999,9,-999,9, 1.9365,2,27.6885,2, 2.0875,2
49UP20140609_3,   P10,65,1, 7,516,2,20140807,0435, 455, 8.0307,149.2438,3218,2357.5, 1.9303,34.6498,2,120.1,2,34.6495,2,120.33,2,143.37,2,37.98,2,0.00,2,2.67,2, -999,9, -999,9,-999.0,9,-999.0,9,-999.0,9,-999,-999,9,-999,9, 1.7641,2,27.7095,2, 1.9304,2
49UP20140609_3,   P10,65,1, 6,113,2,20140807,0435, 451, 8.0307,149.2438,3218,2561.1, 1.8016,34.6571,2,125.8,2,34.6568,2,125.97,2,145.08,2,37.67,2,0.00,2,2.64,2, -999,9, -999,9,-999.0,9,-999.0,9,-999.0,9,-999,-999,9,-999,9, 1.6195,2,27.7262,2, 1.8015,2
49UP20140609_3,   P10,65,1, 3,104,2,20140807,0435, 446, 8.0307,149.2438,3218,2763.1, 1.7027,34.6624,2,131.9,2,34.6623,2,131.70,2,145.61,2,37.27,2,0.00,2,2.60,2, -999,9, -999,9,-999.0,9,-999.0,9,-999.0,9,-999,-999,9,-999,9, 1.5040,2,27.7390,2, 1.7027,2
49UP20140609_3,   P10,65,1, 2,75,2,20140807,0435, 442, 8.0307,149.2438,3218,2968.8, 1.6292,34.6675,2,136.7,2,34.6676,6,136.47,2,145.56,2,36.87,2,0.00,2,2.57,2, -999,9, -999,9,-999.0,9,-999.0,9,-999.0,9,-999,-999,9,-999,9, 1.4126,2,27.7496,2, 1.6292,2
49UP20140609_3,   P10,65,1, 9,518,2,20140807,0435, 436, 8.0307,149.2438,3218,3222.0, 1.5978,34.6707,2,140.2,2,34.6710,2,140.16,2,145.63,2,36.70,2,0.00,2,2.56,2, -999,9, -999,9,-999.0,9,-999.0,9,-999.0,9,-999,-999,9,-999,9, 1.3573,2,27.7562,2, 1.5976,2
49UP20140609_3,   P10,65,1, 5,94,2,20140807,0435, 436, 8.0307,149.2438,3218,3223.3, 1.5976,34.6708,2,140.3,2,34.6701,2,139.89,2,145.26,2,36.68,2,0.00,2,2.56,2, -999,9, -999,9,-999.0,9,-999.0,9,-999.0,9,-999,-999,9,-999,9, 1.3569,2,27.7563,2, 1.5976,2
49UP20140609_3,   P10,65,1, 4,77,2,20140807,0435, 436, 8.0307,149.2438,3218,3223.7, 1.5972,34.6707,2,140.3,2,34.6709,2,140.16,2,145.60,2,36.72,2,0.00,2,2.56,2, -999,9, -999,9,-999.0,9,-999.0,9,-999.0,9,-999,-999,9,-999,9, 1.3566,2,27.7563,2, 1.5972,2