BOTTLE,20230725CCHSIOADS
EXPOCODE,SECT_ID,STNNBR,CASTNO,SAMPNO,BTLNBR,BTLNBR_FLAG_W,DATE,TIME,BTL_TIME,LATITUDE,LONGITUDE,DEPTH,CTDPRS,CTDTMP,CTDSAL,CTDSAL_FLAG_W,CTDOXY,CTDOXY_FLAG_W,SALNTY,SALNTY_FLAG_W,OXYGEN,OXYGEN_FLAG_W,SILCAT,SILCAT_FLAG_W,NO2+NO3,NO2+NO3_FLAG_W,NITRIT,NITRIT_FLAG_W,PHSPHT,PHSPHT_FLAG_W,CFC-11,CFC-11_FLAG_W,CFC-12,CFC-12_FLAG_W,TCARBN,TCARBN_FLAG_W,ALKALI,ALKALI_FLAG_W,PH_TOT,PH_TOT_FLAG_W,PH_TMP,CHLORA,CHLORA_FLAG_W,PPHYTN,PPHYTN_FLAG_W,THETA,THETA_FLAG_W,SIG0,SIG0_FLAG_W,REFTMP,REFTMP_FLAG_W
,,,,,,,,,,,,METERS,DBAR,ITS-90,PSS-78,,UMOL/KG,,PSS-78,,UMOL/KG,,UMOL/KG,,UMOL/KG,,UMOL/KG,,UMOL/KG,,PMOL/KG,,PMOL/KG,,UMOL/KG,,UMOL/KG,,,,DEG C,UG/KG,,UG/KG,,ITS-90,,KG/M^3,,ITS-90,
49UP20140609_1,   P10, 1,1, 0,BUC,2,20140617,2019,2026,42.2505,143.7365,487,   0.0,11.1214,32.6587,2,300.4,2,   -999,9,300.04,2,  2.29,2, 0.90,2,0.04,2,0.35,2, -999,9, -999,9,-999.0,9,-999.0,9,-999.0,9,-999,1.17,2,0.48,2,11.1211,2,24.9313,2,   -999,9
49UP20140609_1,   P10, 1,1,33,517,3,20140617,2019,2042,42.2505,143.7365,487,  11.0, 9.7151,32.4898,2,352.4,2,   -999,9,369.00,2,  0.43,2, 0.20,4,0.01,2,0.30,2, -999,9, -999,9,-999.0,9,-999.0,9,-999.0,9,-999,1.21,2,0.76,2, 9.7139,2,25.0394,2, 9.7647,2
49UP20140609_1,   P10, 1,1,32,105,2,20140617,2019,2041,42.2505,143.7365,487,  26.1, 6.5750,32.4930,2,378.7,2,   -999,9,375.96,2,  1.36,2, 2.34,3,0.05,2,0.49,2, -999,9, -999,9,-999.0,9,-999.0,9,-999.0,9,-999,2.97,2,1.74,2, 6.5728,2,25.5003,2, 6.5692,2
49UP20140609_1,   P10, 1,1,31,515,2,20140617,2019,2038,42.2505,143.7365,487,  51.4, 3.7915,33.0361,2,317.1,2,33.0539,4,317.08,2, 23.96,2,16.57,2,0.25,2,1.48,2, -999,9, -999,9,-999.0,9,-999.0,9,-999.0,9,-999,-999,9,-999,9, 3.7882,2,26.2449,2, 3.7932,2
49UP20140609_1,   P10, 1,1,30,97,3,20140617,2019,2038,42.2505,143.7365,487,  51.4, 3.7915,33.0361,2,317.1,2,33.0525,4,316.68,2, 23.98,2,16.57,2,0.25,2,1.48,2, -999,9, -999,9,-999.0,9,-999.0,9,-999.0,9,-999,0.43,2,0.33,2, 3.7882,2,26.2449,2, 3.7932,2
49UP20140609_1,   P10, 1,1,29,102,2,20140617,2019,2036,42.2505,143.7365,487,  75.6, 1.7758,33.0447,2,303.9,2,   -999,9,304.65,6, 36.36,6,21.05,6,0.17,6,1.76,6, -999,9, -999,9,-999.0,9,-999.0,9,-999.0,9,-999,0.11,2,0.21,2, 1.7722,2,26.4219,2, 1.7758,2
49UP20140609_1,   P10, 1,1,28,91,3,20140617,2019,2035,42.2505,143.7365,487, 101.3, 2.4368,33.1627,2,298.5,2,33.1583,2,297.46,2, 38.35,2,21.89,2,0.14,2,1.78,2, -999,9, -999,9,-999.0,9,-999.0,9,-999.0,9,-999,0.09,2,0.24,2, 2.4314,2,26.4663,2, 2.4549,2
49UP20140609_1,   P10, 1,1,21,78,2,20140617,2019,2034,42.2505,143.7365,487, 126.0, 2.2809,33.1983,2,290.7,2,   -999,9,291.53,2, 40.60,2,22.62,2,0.06,2,1.80,2, -999,9, -999,9,-999.0,9,-999.0,9,-999.0,9,-999,0.06,2,0.16,2, 2.2743,2,26.5073,2, 2.2834,2
49UP20140609_1,   P10, 1,1,20,93,3,20140617,2019,2033,42.2505,143.7365,487, 151.7, 2.0139,33.2161,2,279.6,2,   -999,9,280.41,2, 43.88,2,23.62,2,0.04,2,1.87,2, -999,9, -999,9,-999.0,9,-999.0,9,-999.0,9,-999,0.04,2,0.13,2, 2.0062,2,26.5421,2, 2.0124,2
49UP20140609_1,   P10, 1,1,19,92,2,20140617,2019,2031,42.2505,143.7365,487, 202.6, 2.9588,33.4119,2,241.4,2,33.4061,6,243.99,2, 50.04,2,25.86,2,0.04,2,2.00,2, -999,9, -999,9,-999.0,9,-999.0,9,-999.0,9,-999,0.03,2,0.13,2, 2.9468,2,26.6221,2, 2.9569,2
49UP20140609_1,   P10, 1,1,17,90,2,20140617,2019,2029,42.2505,143.7365,487, 252.5, 2.6448,33.4707,2,216.6,2,   -999,9,217.46,2, 57.53,2,28.37,2,0.03,2,2.18,2, -999,9, -999,9,-999.0,9,-999.0,9,-999.0,9,-999,-999,9,-999,9, 2.6304,2,26.6961,2, 2.6405,2
49UP20140609_1,   P10, 1,1,16,89,2,20140617,2019,2028,42.2505,143.7365,487, 303.7, 2.8024,33.5390,2,192.8,2,   -999,9,191.85,2, 64.61,2,30.74,2,0.03,2,2.34,2, -999,9, -999,9,-999.0,9,-999.0,9,-999.0,9,-999,-999,9,-999,9, 2.7845,2,26.7377,2, 2.8031,2
49UP20140609_1,   P10, 1,1, 9,108,3,20140617,2019,2026,42.2505,143.7365,487, 357.6, 2.5723,33.5680,2,174.5,2,   -999,9,174.63,2, 70.82,2,32.76,2,0.03,2,2.48,2, -999,9, -999,9,-999.0,9,-999.0,9,-999.0,9,-999,-999,9,-999,9, 2.5517,2,26.7805,2, 2.5723,2
49UP20140609_1,   P10, 1,1, 8,81,2,20140617,2019,2023,42.2505,143.7365,487, 403.6, 2.7435,33.6444,2,149.1,2,33.6468,2,148.31,2, 77.70,2,34.88,2,0.01,2,2.60,2, -999,9, -999,9,-999.0,9,-999.0,9,-999.0,9,-999,-999,9,-999,9, 2.7194,2,26.8275,2, 2.7426,2
49UP20140609_1,   P10, 1,1, 7,106,3,20140617,2019,2022,42.2505,143.7365,487, 454.7, 2.4551,33.6419,2,138.1,2,   -999,9,137.90,6, 82.79,6,36.13,6,0.03,6,2.70,6, -999,9, -999,9,-999.0,9,-999.0,9,-999.0,9,-999,-999,9,-999,9, 2.4288,2,26.8498,2, 2.4545,2
49UP20140609_1,   P10, 1,1, 2,75,2,20140617,2019,2020,42.2505,143.7365,487, 469.0, 2.4831,33.6672,2,128.8,2,33.6660,2,128.95,2, 85.52,2,36.72,2,0.03,2,2.75,2, -999,9, -999,9,-999.0,9,-999.0,9,-999.0,9,-999,-999,9,-999,9, 2.4559,2,26.8677,2, 2.4819,2
49UP20140609_1,   P10, 1,1, 1,997,2,20140617,2019,2020,42.2505,143.7365,487, 469.0, 2.4831,33.6672,2,128.8,2,33.6685,2,128.01,2, 85.54,2,36.74,2,0.03,2,2.74,2, -999,9, -999,9,-999.0,9,-999.0,9,-999.0,9,-999,-999,9,-999,9, 2.4559,2,26.8677,2, 2.4819,2
49UP20140609_1,   P10, 7,1, 0,BUC,2,20140619,0621, 807,40.0278,145.4280,5303,   0.0,14.8064,32.7925,2,287.0,2,32.8173,2,269.92,2,  1.60,2, 0.05,2,0.00,2,0.13,2, -999,9, -999,9,1971.9,2,2228.3,2,8.0056,2,25,0.29,2,0.13,2,14.8060,2,24.3122,2,   -999,9
49UP20140609_1,   P10, 7,1,36,109,2,20140619,0621, 833,40.0278,145.4280,5303,  10.9,12.9241,32.7424,2,301.2,2,   -999,9,312.44,2,  1.50,2, 0.06,2,0.00,2,0.16,2, -999,9, -999,9,1970.0,2,2229.1,2,8.0161,2,25,0.23,2,0.10,2,12.9226,2,24.6596,2,12.9218,2
49UP20140609_1,   P10, 7,1,35,112,2,20140619,0621, 832,40.0278,145.4280,5303,  25.1, 6.2267,32.7006,2,394.9,2,   -999,9,389.85,2,  1.15,2, 0.85,2,0.03,2,0.33,2, -999,9, -999,9,1981.3,2,2231.0,2,7.9989,2,25,0.86,2,0.30,2, 6.2247,2,25.7081,2, 6.4803,2
49UP20140609_1,   P10, 7,1,34,83,2,20140619,0621, 829,40.0278,145.4280,5303,  50.7, 8.3094,33.6848,2,245.5,2,   -999,9,243.32,2, 15.86,2,12.52,2,0.34,2,1.00,2, -999,9, -999,9,2093.9,2,2257.9,2,7.7983,2,25,0.46,2,0.36,2, 8.3043,2,26.1957,2, 8.3076,2
49UP20140609_1,   P10, 7,1,33,517,3,20140619,0621, 827,40.0278,145.4280,5303, 100.8, 4.0165,33.3172,2,285.9,2,33.3151,2,285.84,2, 28.01,2,18.70,2,0.15,2,1.49,2, -999,9, -999,9,2128.5,2,2246.4,2,7.6829,2,25,0.07,2,0.19,2, 4.0098,2,26.4466,2, 4.0185,2
49UP20140609_1,   P10, 7,1,32,105,4,20140619,0621, 825,40.0278,145.4280,5303, 151.8, 7.4232,33.9843,2,183.9,2,   -999,9, 62.78,4,100.02,4,37.26,4,0.01,4,2.70,4, -999,9, -999,9,2349.4,4,2375.2,4,7.4092,4,25,0.01,4,0.06,4, 7.4088,2,26.5617,2, 7.4220,2
49UP20140609_1,   P10, 7,1,31,515,3,20140619,0621, 823,40.0278,145.4280,5303, 202.5, 5.2937,33.7520,2,205.3,2,33.7692,4,203.97,2, 45.81,2,23.94,2,0.02,2,1.80,2, -999,9, -999,9,2181.3,2,2273.2,2,7.6066,6,25,0.02,2,0.13,2, 5.2778,2,26.6539,2, 5.2939,2
49UP20140609_1,   P10, 7,1,30,97,3,20140619,0621, 822,40.0278,145.4280,5303, 252.9, 5.6008,33.9096,2,158.8,2,   -999,9,158.15,2, 57.88,2,28.49,2,0.02,2,2.11,2, -999,9, -999,9,2213.6,6,2285.2,6,7.5478,2,25,-999,9,-999,9, 5.5801,2,26.7427,2, 5.6013,2
49UP20140609_1,   P10, 7,1,29,102,2,20140619,0621, 820,40.0278,145.4280,5303, 302.7, 5.1545,33.9673,2,132.8,2,   -999,9,132.35,2, 68.76,2,31.66,2,0.01,2,2.33,2, -999,9, -999,9,2239.2,2,2295.7,2,7.4971,2,25,-999,9,-999,9, 5.1307,2,26.8415,2, 5.1562,2
49UP20140609_1,   P10, 7,1,28,91,3,20140619,0621, 817,40.0278,145.4280,5303, 404.0, 4.3774,34.0311,2, 91.3,2,34.0209,4, 90.40,2, 88.38,2,36.75,2,0.01,2,2.68,2, -999,9, -999,9,2284.7,2,2310.7,2,7.4035,2,25,-999,9,-999,9, 4.3478,2,26.9791,2, 4.3763,2
49UP20140609_1,   P10, 7,1,27,998,2,20140619,0621, 814,40.0278,145.4280,5303, 504.9, 3.9568,34.1066,2, 62.6,2,   -999,9, 60.33,2,104.13,2,39.89,2,0.01,2,2.89,2, -999,9, -999,9,2320.7,2,2325.8,2,7.3507,2,25,-999,9,-999,9, 3.9210,2,27.0836,2, 3.9555,2
49UP20140609_1,   P10, 7,1,26,84,2,20140619,0621, 812,40.0278,145.4280,5303, 605.8, 3.7710,34.2104,2, 48.8,2,34.2116,2, 48.77,2,113.99,2,40.71,2,0.00,2,2.94,2, -999,9, -999,9,2338.0,2,2340.6,2,7.3510,2,25,-999,9,-999,9, 3.7283,2,27.1855,2, 3.7716,2
49UP20140609_1,   P10, 7,1,25,98,2,20140619,0621, 809,40.0278,145.4280,5303, 707.5, 3.7300,34.3095,2, 50.9,2,   -999,9, 50.49,2,119.17,2,40.58,2,0.00,2,2.92,2, -999,9, -999,9,2340.1,2,2354.6,2,7.3747,2,25,-999,9,-999,9, 3.6798,2,27.2692,2, 3.7285,2
49UP20140609_1,   P10, 7,1,24,110,2,20140619,0621, 807,40.0278,145.4280,5303, 808.5, 3.3241,34.3436,2, 41.8,2,34.3466,2, 41.14,2,129.46,2,41.77,2,0.00,2,3.00,2, -999,9, -999,9,2355.0,2,2364.8,2,7.3515,2,25,-999,9,-999,9, 3.2686,2,27.3362,2, 3.3238,2
49UP20140609_1,   P10, 7,1,23,96,2,20140619,0621, 804,40.0278,145.4280,5303, 910.1, 3.0465,34.3760,2, 39.4,2,   -999,9, 38.89,2,136.64,2,42.04,2,0.00,2,3.02,2, -999,9, -999,9,2362.1,2,2374.7,2,7.3540,6,25,-999,9,-999,9, 2.9852,2,27.3883,2, 3.0457,2
49UP20140609_1,   P10, 7,1,22,111,2,20140619,0621, 801,40.0278,145.4280,5303,1010.8, 2.7659,34.3941,2, 36.4,2,34.3946,2, 35.75,2,145.41,2,42.48,2,0.00,2,3.06,2, -999,9, -999,9,2374.4,6,2378.4,6,7.3409,2,25,-999,9,-999,9, 2.6992,2,27.4282,2, 2.7654,2
49UP20140609_1,   P10, 7,1,21,78,2,20140619,0621, 757,40.0278,145.4280,5303,1213.4, 2.5511,34.4519,2, 38.9,2,34.4552,4, 38.81,2,152.13,2,42.59,2,0.00,2,3.06,2, -999,9, -999,9,2380.0,2,2389.0,2,7.3550,2,25,-999,9,-999,9, 2.4710,2,27.4941,2, 2.5507,2
49UP20140609_1,   P10, 7,1,20,93,2,20140619,0621, 752,40.0278,145.4280,5303,1415.9, 2.3090,34.5214,2, 49.8,2,34.5212,2, 49.69,2,156.75,2,42.08,2,0.00,2,3.01,2, -999,9, -999,9,2380.6,2,2400.4,2,7.3854,2,25,-999,9,-999,9, 2.2159,2,27.5709,2, 2.3087,2
49UP20140609_1,   P10, 7,1,19,92,3,20140619,0621, 748,40.0278,145.4280,5303,1619.0, 2.1542,34.5539,2, 58.9,2,34.5522,2, 59.09,2,158.74,2,41.62,2,0.00,2,2.96,2, -999,9, -999,9,2376.4,2,2407.6,2,7.4022,2,25,-999,9,-999,9, 2.0469,2,27.6105,2, 2.1541,2
49UP20140609_1,   P10, 7,1,18,101,2,20140619,0621, 743,40.0278,145.4280,5303,1821.5, 2.0185,34.5777,2, 67.4,2,34.5781,6, 67.48,6,161.14,6,41.23,6,0.00,6,2.93,6, -999,9, -999,9,2376.8,2,2410.0,2,7.4242,2,25,-999,9,-999,9, 1.8967,2,27.6415,2, 2.0184,2
49UP20140609_1,   P10, 7,1,17,90,2,20140619,0621, 738,40.0278,145.4280,5303,2026.3, 1.8898,34.6015,2, 79.5,2,34.6027,2, 79.65,2,161.37,2,40.51,2,0.00,2,2.87,2, -999,9, -999,9,2365.5,2,2411.3,2,7.4456,2,25,-999,9,-999,9, 1.7529,2,27.6716,2, 1.8897,2
49UP20140609_1,   P10, 7,1,16,89,3,20140619,0621, 734,40.0278,145.4280,5303,2229.4, 1.7827,34.6206,2, 91.6,2,34.6177,2, 92.19,2,160.51,2,39.68,2,0.00,2,2.81,2, -999,9, -999,9,2362.7,2,2416.0,2,7.4713,2,25,-999,9,-999,9, 1.6303,2,27.6961,2, 1.7826,2
49UP20140609_1,   P10, 7,1,15,88,2,20140619,0621, 729,40.0278,145.4280,5303,2433.1, 1.6915,34.6362,2,103.3,2,34.6361,2,103.96,2,159.82,2,39.14,2,0.00,2,2.76,2, -999,9, -999,9,2356.2,2,2416.3,2,7.4921,2,25,-999,9,-999,9, 1.5229,2,27.7165,2, 1.6914,2
49UP20140609_1,   P10, 7,1,14,999,2,20140619,0621, 724,40.0278,145.4280,5303,2637.4, 1.6185,34.6485,2,113.7,2,34.6489,2,114.54,2,158.17,2,38.36,2,0.00,2,2.71,2, -999,9, -999,9,2352.5,2,2416.4,2,7.5076,6,25,-999,9,-999,9, 1.4330,2,27.7329,2, 1.6183,2
49UP20140609_1,   P10, 7,1,13,667,2,20140619,0621, 719,40.0278,145.4280,5303,2842.3, 1.5728,34.6568,2,121.6,2,34.6581,2,122.23,2,156.52,2,37.84,2,0.00,2,2.67,2, -999,9, -999,9,2349.0,6,2417.6,6,7.5228,2,25,-999,9,-999,9, 1.3694,2,27.7441,2, 1.5727,2
49UP20140609_1,   P10, 7,1,12,74,2,20140619,0621, 715,40.0278,145.4280,5303,3046.2, 1.5348,34.6635,2,128.5,2,34.6651,6,128.88,6,155.03,6,37.42,6,0.00,6,2.63,6, -999,9, -999,9,2345.2,2,2418.0,2,7.5382,2,25,-999,9,-999,9, 1.3129,2,27.7535,2, 1.5348,2
49UP20140609_1,   P10, 7,1,11,996,2,20140619,0621, 709,40.0278,145.4280,5303,3302.9, 1.4984,34.6705,2,136.0,2,34.6719,2,136.30,2,153.26,2,36.91,2,0.00,2,2.59,2, -999,9, -999,9,2336.8,2,2418.3,2,7.5478,2,25,-999,9,-999,9, 1.2522,2,27.7634,2, 1.4985,2
49UP20140609_1,   P10, 7,1,10,107,3,20140619,0621, 702,40.0278,145.4280,5303,3557.6, 1.4754,34.6756,2,142.1,2,34.6733,2,141.98,2,151.65,2,36.50,2,0.00,2,2.56,2, -999,9, -999,9,2332.4,2,2417.6,2,7.5590,2,25,-999,9,-999,9, 1.2040,2,27.7709,2, 1.4753,2
49UP20140609_1,   P10, 7,1, 9,108,2,20140619,0621, 657,40.0278,145.4280,5303,3813.9, 1.4607,34.6800,2,147.4,2,34.6783,6,147.77,2,150.00,2,36.11,2,0.00,2,2.54,2, -999,9, -999,9,-999.0,9,-999.0,9,-999.0,9,-999,-999,9,-999,9, 1.1629,2,27.7772,2, 1.4607,2
49UP20140609_1,   P10, 7,1, 8,81,2,20140619,0621, 651,40.0278,145.4280,5303,4070.0, 1.4552,34.6833,2,151.7,2,34.6845,2,152.15,2,149.11,2,35.88,2,0.00,2,2.52,2, -999,9, -999,9,2325.3,2,2415.1,2,7.5780,2,25,-999,9,-999,9, 1.1299,2,27.7822,2, 1.4552,2
49UP20140609_1,   P10, 7,1, 6,113,3,20140619,0621, 645,40.0278,145.4280,5303,4326.9, 1.4588,34.6859,2,155.0,2,34.6876,2,155.02,2,148.34,2,35.67,2,0.00,2,2.49,2, -999,9, -999,9,-999.0,9,-999.0,9,-999.0,9,-999,-999,9,-999,9, 1.1049,2,27.7859,2, 1.4588,2
49UP20140609_1,   P10, 7,1, 5,94,2,20140619,0621, 640,40.0278,145.4280,5303,4583.7, 1.4725,34.6875,2,157.2,2,34.6885,2,157.39,6,147.70,6,35.48,6,0.00,6,2.48,6, -999,9, -999,9,2321.2,2,2414.9,2,7.5758,2,25,-999,9,-999,9, 1.0887,2,27.7883,2, 1.4724,2
49UP20140609_1,   P10, 7,1, 4,77,2,20140619,0621, 634,40.0278,145.4280,5303,4842.2, 1.4922,34.6888,2,158.4,2,34.6908,2,158.92,2,147.67,3,35.33,2,0.00,2,2.47,2, -999,9, -999,9,-999.0,9,-999.0,9,-999.0,9,-999,-999,9,-999,9, 1.0773,2,27.7901,2, 1.4922,2
49UP20140609_1,   P10, 7,1, 3,104,2,20140619,0621, 628,40.0278,145.4280,5303,5098.4, 1.5134,34.6899,2,160.5,2,   -999,5,161.01,2,145.37,2,35.19,2,0.00,2,2.46,2, -999,9, -999,9,2319.8,2,2412.3,2,7.5883,2,25,-999,9,-999,9, 1.0667,2,27.7917,2, 1.5134,2
49UP20140609_1,   P10, 7,1, 2,75,2,20140619,0621, 623,40.0278,145.4280,5303,5357.5, 1.5384,34.6909,2,161.3,2,   -999,5,161.60,2,144.83,2,35.14,2,0.00,2,2.46,2, -999,9, -999,9,-999.0,9,-999.0,9,-999.0,9,-999,-999,9,-999,9, 1.0585,2,27.7931,2, 1.5383,2
49UP20140609_1,   P10, 7,1, 1,997,2,20140619,0621, 621,40.0278,145.4280,5303,5401.9, 1.5439,34.6909,2,160.9,2,   -999,5,161.26,2,145.46,2,35.07,2,0.01,2,2.46,2, -999,9, -999,9,2320.5,2,2412.1,2,7.5912,2,25,-999,9,-999,9, 1.0583,2,27.7931,2, 1.5438,2