BOTTLE,20230725CCHSIOADS
EXPOCODE,SECT_ID,STNNBR,CASTNO,SAMPNO,BTLNBR,BTLNBR_FLAG_W,DATE,TIME,BTL_TIME,LATITUDE,LONGITUDE,DEPTH,CTDPRS,CTDTMP,CTDSAL,CTDSAL_FLAG_W,CTDOXY,CTDOXY_FLAG_W,SALNTY,SALNTY_FLAG_W,OXYGEN,OXYGEN_FLAG_W,SILCAT,SILCAT_FLAG_W,NO2+NO3,NO2+NO3_FLAG_W,NITRIT,NITRIT_FLAG_W,PHSPHT,PHSPHT_FLAG_W,CFC-11,CFC-11_FLAG_W,CFC-12,CFC-12_FLAG_W,TCARBN,TCARBN_FLAG_W,ALKALI,ALKALI_FLAG_W,PH_TOT,PH_TOT_FLAG_W,PH_TMP,CHLORA,CHLORA_FLAG_W,PPHYTN,PPHYTN_FLAG_W,THETA,THETA_FLAG_W,SIG0,SIG0_FLAG_W,REFTMP,REFTMP_FLAG_W
,,,,,,,,,,,,METERS,DBAR,ITS-90,PSS-78,,UMOL/KG,,PSS-78,,UMOL/KG,,UMOL/KG,,UMOL/KG,,UMOL/KG,,UMOL/KG,,PMOL/KG,,PMOL/KG,,UMOL/KG,,UMOL/KG,,,,DEG C,UG/KG,,UG/KG,,ITS-90,,KG/M^3,,ITS-90,
49UP20140609_4,   P10,94,1, 0,BUC,2,20140828,0043, 224,-0.5020,144.9797,4465,   0.0,29.9324,34.1844,2,196.1,2,34.1835,2,196.51,2,  1.15,2, 0.00,2,0.00,2,0.08,2, -999,9, -999,9,1921.7,2,2245.4,2,8.1176,2,25,0.07,2,0.03,2,29.9318,2,21.1381,2,   -999,9
49UP20140609_4,   P10,94,1,36,109,2,20140828,0043, 246,-0.5020,144.9797,4465,  10.3,29.8763,34.1878,2,195.9,2,34.1845,2,195.75,2,  1.11,2, 0.00,2,0.00,2,0.07,2, -999,9, -999,9,1921.3,2,2246.0,2,8.1209,2,25,0.08,2,0.03,2,29.8737,2,21.1603,2,29.8778,2
49UP20140609_4,   P10,94,1,35,112,2,20140828,0043, 245,-0.5020,144.9797,4465,  25.5,29.8046,34.2433,2,196.6,2,34.2498,2,196.48,2,  1.07,2, 0.00,2,0.00,2,0.08,2, -999,9, -999,9,1923.8,2,2248.2,2,8.1201,2,25,0.08,2,0.03,2,29.7983,2,21.2276,2,29.8046,2
49UP20140609_4,   P10,94,1,34,83,2,20140828,0043, 241,-0.5020,144.9797,4465,  50.4,29.4936,34.6268,2,197.0,2,34.6296,6,197.24,2,  1.07,2, 0.00,2,0.00,2,0.14,2, -999,9, -999,9,1946.7,2,2274.4,2,8.1135,2,25,0.13,2,0.07,2,29.4813,2,21.6224,2,29.4914,2
49UP20140609_4,   P10,94,1,33,469,2,20140828,0043, 240,-0.5020,144.9797,4465,  75.2,28.9520,35.2654,2,182.2,2,35.2659,2,181.49,2,  1.38,2, 2.55,2,0.45,2,0.38,2, -999,9, -999,9,2005.5,2,2315.6,2,8.0738,2,25,0.44,2,0.52,2,28.9338,2,22.2855,2,28.9508,2
49UP20140609_4,   P10,94,1,32,105,2,20140828,0043, 238,-0.5020,144.9797,4465, 101.2,28.0471,35.4666,2,162.5,2,35.4704,2,162.96,2,  1.82,2, 5.54,2,0.29,2,0.57,2, -999,9, -999,9,2038.9,2,2328.2,2,8.0285,6,25,0.23,2,0.53,2,28.0232,2,22.7380,2,28.0445,2
49UP20140609_4,   P10,94,1,31,515,2,20140828,0043, 237,-0.5020,144.9797,4465, 125.7,26.7333,35.6277,2,147.4,2,35.6469,4,147.28,2,  2.10,2, 7.95,2,0.10,2,0.72,2, -999,9, -999,9,2072.4,6,2339.6,6,7.9868,2,25,0.08,2,0.36,2,26.7046,2,23.2849,2,26.7278,2
49UP20140609_4,   P10,94,1,30,97,2,20140828,0043, 235,-0.5020,144.9797,4465, 151.4,23.1130,35.5399,2,138.7,2,35.5337,2,138.65,2,  3.14,2, 8.55,2,0.02,2,0.73,2, -999,9, -999,9,2092.5,2,2332.1,2,7.9439,2,25,0.03,2,0.10,2,23.0819,2,24.3195,2,23.1101,2
49UP20140609_4,   P10,94,1,29,102,2,20140828,0043, 233,-0.5020,144.9797,4465, 205.5,17.3037,35.3548,2,143.0,2,35.3578,2,142.60,2,  5.37,2,12.53,2,0.01,2,1.00,2, -999,9, -999,9,2130.2,2,2325.2,2,7.8537,2,25,0.00,2,0.03,2,17.2693,2,25.7221,2,17.3019,2
49UP20140609_4,   P10,94,1,28,108,2,20140828,0043, 231,-0.5020,144.9797,4465, 254.9,13.6960,35.0478,2,152.3,2,35.0497,2,152.73,2,  9.11,2,16.37,2,0.01,2,1.22,2, -999,9, -999,9,2146.4,2,2311.0,2,7.7912,2,25,-999,9,-999,9,13.6596,2,26.2952,2,13.6759,2
49UP20140609_4,   P10,94,1,27,998,2,20140828,0043, 230,-0.5020,144.9797,4465, 302.3,11.5535,34.8348,2,139.7,2,34.8314,2,138.76,6, 17.08,6,21.51,6,0.00,6,1.55,6, -999,9, -999,9,2172.5,2,2304.0,2,7.7151,2,25,-999,9,-999,9,11.5149,2,26.5523,2,11.5532,2
49UP20140609_4,   P10,94,1,26,84,2,20140828,0043, 228,-0.5020,144.9797,4465, 352.5,10.5137,34.7463,2,117.4,2,34.7478,2,117.43,2, 22.20,2,25.42,2,0.00,2,1.81,2, -999,9, -999,9,2195.9,2,2304.2,2,7.6548,2,25,-999,9,-999,9,10.4713,2,26.6722,2,10.5128,2
49UP20140609_4,   P10,94,1,25,98,2,20140828,0043, 227,-0.5020,144.9797,4465, 403.2, 9.4655,34.6873,2,119.3,2,34.6867,2,117.93,2, 23.93,2,27.54,2,0.00,2,1.94,2, -999,9, -999,9,2204.4,2,2302.9,2,7.6302,2,25,-999,9,-999,9, 9.4200,2,26.8051,2, 9.4652,2
49UP20140609_4,   P10,94,1,24,110,2,20140828,0043, 225,-0.5020,144.9797,4465, 452.9, 8.7007,34.6344,2,115.2,2,34.6349,2,116.33,2, 27.76,2,29.19,2,0.00,2,2.05,2, -999,9, -999,9,2212.0,2,2303.6,2,7.6063,2,25,-999,9,-999,9, 8.6520,2,26.8870,2, 8.7004,2
49UP20140609_4,   P10,94,1,23,96,2,20140828,0043, 223,-0.5020,144.9797,4465, 506.7, 8.1767,34.5982,2,134.0,2,34.6000,2,133.58,2, 27.65,2,28.64,2,0.00,2,2.01,2, -999,9, -999,9,2205.4,2,2300.8,2,7.6250,2,25,-999,9,-999,9, 8.1240,2,26.9397,2, 8.1770,2
49UP20140609_4,   P10,94,1,22,111,2,20140828,0043, 221,-0.5020,144.9797,4465, 605.3, 6.9853,34.5416,2,137.7,2,34.5410,2,137.47,2, 35.04,2,30.62,2,0.00,2,2.16,2, -999,9, -999,9,2217.2,2,2308.3,2,7.6060,2,25,-999,9,-999,9, 6.9274,2,27.0677,2, 6.9888,2
49UP20140609_4,   P10,94,1,21,78,2,20140828,0043, 218,-0.5020,144.9797,4465, 705.9, 6.2207,34.5351,2,107.9,2,34.5355,2,108.08,2, 48.16,2,35.03,2,0.00,2,2.47,2, -999,9, -999,9,2249.4,2,2319.4,2,7.5475,2,25,-999,9,-999,9, 6.1568,2,27.1652,2, 6.2207,2
49UP20140609_4,   P10,94,1,20,93,2,20140828,0043, 214,-0.5020,144.9797,4465, 809.3, 5.4344,34.5271,2,112.6,2,34.5271,2,112.81,2, 59.87,2,35.46,2,0.00,2,2.51,2, -999,9, -999,9,2261.0,2,2330.6,2,7.5421,2,25,-999,9,-999,9, 5.3654,2,27.2574,2, 5.4344,2
49UP20140609_4,   P10,94,1,19,92,2,20140828,0043, 212,-0.5020,144.9797,4465, 910.6, 5.0806,34.5354,2,102.8,2,34.5358,2,102.87,2, 69.06,2,36.76,2,0.00,2,2.62,2, -999,9, -999,9,2277.4,2,2338.8,2,7.5275,2,25,-999,9,-999,9, 5.0047,2,27.3063,2, 5.0808,2
49UP20140609_4,   P10,94,1,18,101,2,20140828,0043, 209,-0.5020,144.9797,4465,1009.2, 4.5380,34.5469,2,101.1,2,34.5475,2,101.15,2, 80.44,2,37.56,2,0.00,2,2.67,2, -999,9, -999,9,2289.5,2,2351.7,2,7.5200,2,25,-999,9,-999,9, 4.4573,2,27.3770,2, 4.5379,2
49UP20140609_4,   P10,94,1,17,90,2,20140828,0043, 204,-0.5020,144.9797,4465,1213.5, 3.7874,34.5658,2,105.4,2,34.5670,2,105.61,2, 94.70,2,37.84,2,0.00,2,2.70,2, -999,9, -999,9,2302.0,2,2368.1,2,7.5226,6,25,-999,9,-999,9, 3.6955,2,27.4718,2, 3.7874,2
49UP20140609_4,   P10,94,1,16,89,2,20140828,0043, 152,-0.5020,144.9797,4465,1413.4, 3.2572,34.5855,2,110.7,2,34.5866,2,110.62,2,106.30,2,37.89,2,0.00,2,2.68,2, -999,9, -999,9,2314.8,6,2380.6,6,7.5272,2,25,-999,9,-999,9, 3.1537,2,27.5400,2, 3.2570,2
49UP20140609_4,   P10,94,1,15,88,2,20140828,0043, 148,-0.5020,144.9797,4465,1615.2, 2.9107,34.6011,2,114.0,2,34.6010,6,110.48,3,115.17,2,38.13,2,0.00,2,2.70,2, -999,9, -999,9,2323.2,2,2389.6,2,7.5231,2,25,-999,9,-999,9, 2.7942,2,27.5853,2, 2.9105,2
49UP20140609_4,   P10,94,1,14,999,2,20140828,0043, 144,-0.5020,144.9797,4465,1817.9, 2.5691,34.6184,2,116.6,2,34.6193,2,116.50,6,123.10,6,37.85,6,0.00,6,2.67,6, -999,9, -999,9,2329.4,2,2398.1,2,7.5353,2,25,-999,9,-999,9, 2.4399,2,27.6299,2, 2.5692,2
49UP20140609_4,   P10,94,1,13,667,2,20140828,0043, 137,-0.5020,144.9797,4465,2021.2, 2.2761,34.6337,2,119.2,2,34.6335,2,118.97,2,131.34,2,37.84,2,0.00,2,2.67,2, -999,9, -999,9,2334.5,2,2407.2,2,7.5403,2,25,-999,9,-999,9, 2.1336,2,27.6675,2, 2.2761,2
49UP20140609_4,   P10,94,1,12,74,2,20140828,0043, 132,-0.5020,144.9797,4465,2222.5, 2.0246,34.6461,2,124.0,2,34.6457,2,124.14,2,137.52,2,37.57,2,0.00,2,2.64,2, -999,9, -999,9,2337.6,2,2412.3,2,7.5467,2,25,-999,9,-999,9, 1.8687,2,27.6984,2, 2.0246,2
49UP20140609_4,   P10,94,1,11,268,2,20140828,0043, 128,-0.5020,144.9797,4465,2427.0, 1.9234,34.6517,2,127.4,2,34.6514,2,127.63,2,139.09,2,37.41,2,0.00,2,2.62,2, -999,9, -999,9,2337.0,2,2414.1,2,7.5518,2,25,-999,9,-999,9, 1.7511,2,27.7119,2, 1.9234,2
49UP20140609_4,   P10,94,1, 9,518,2,20140828,0043, 123,-0.5020,144.9797,4465,2630.5, 1.7311,34.6616,2,135.1,2,34.6617,2,135.01,2,141.60,2,36.89,2,0.00,2,2.58,2, -999,9, -999,9,2337.5,2,2414.8,2,7.5624,2,25,-999,9,-999,9, 1.5440,2,27.7354,2, 1.7312,2
49UP20140609_4,   P10,94,1,10,267,2,20140828,0043, 123,-0.5020,144.9797,4465,2631.1, 1.7311,34.6616,2,135.0,2,34.6614,2,134.97,2,141.55,2,36.93,2,0.00,2,2.58,2, -999,9, -999,9,2336.6,2,2415.9,2,7.5597,2,25,-999,9,-999,9, 1.5440,2,27.7354,2, 1.7312,2
49UP20140609_4,   P10,94,1, 8,81,2,20140828,0043, 119,-0.5020,144.9797,4465,2835.4, 1.6486,34.6670,2,139.5,2,34.6671,6,139.50,2,142.21,2,36.66,2,0.00,2,2.56,2, -999,9, -999,9,2337.7,2,2417.9,2,7.5684,2,25,-999,9,-999,9, 1.4442,2,27.7470,2, 1.6486,2
49UP20140609_4,   P10,94,1, 7,516,2,20140828,0043, 115,-0.5020,144.9797,4465,3039.2, 1.6221,34.6697,2,141.7,2,34.6701,2,141.80,6,142.48,6,36.50,6,0.00,6,2.55,6, -999,9, -999,9,2333.7,2,2418.0,2,7.5741,2,25,-999,9,-999,9, 1.3989,2,27.7524,2, 1.6222,2
49UP20140609_4,   P10,94,1, 6,113,3,20140828,0043, 109,-0.5020,144.9797,4465,3293.9, 1.6008,34.6726,2,144.0,2,34.6730,2,143.97,2,142.51,2,36.35,2,0.00,2,2.54,2, -999,9, -999,9,2335.7,2,2420.6,2,7.5806,2,25,-999,9,-999,9, 1.3531,2,27.7580,2, 1.6009,2
49UP20140609_4,   P10,94,1, 5,94,2,20140828,0043, 104,-0.5020,144.9797,4465,3548.7, 1.5538,34.6780,2,148.0,2,34.6790,2,147.97,2,142.02,2,36.04,2,0.00,2,2.52,2, -999,9, -999,9,2331.7,2,2422.5,2,7.5830,6,25,-999,9,-999,9, 1.2813,2,27.7674,2, 1.5540,2
49UP20140609_4,   P10,94,1, 4,77,2,20140828,0043,  58,-0.5020,144.9797,4465,3804.6, 1.5331,34.6813,2,151.0,2,34.6813,2,151.38,2,141.80,2,35.94,2,0.00,2,2.50,2, -999,9, -999,9,2330.4,6,2422.6,6,7.5936,2,25,-999,9,-999,9, 1.2344,2,27.7733,2, 1.5332,2
49UP20140609_4,   P10,94,1, 3,104,2,20140828,0043,  53,-0.5020,144.9797,4465,4060.2, 1.5219,34.6839,2,154.0,2,34.6844,2,153.88,2,140.87,2,35.63,2,0.00,2,2.49,2, -999,9, -999,9,2327.5,2,2420.5,2,7.5923,2,25,-999,9,-999,9, 1.1958,2,27.7781,2, 1.5220,2
49UP20140609_4,   P10,94,1, 2,75,2,20140828,0043,  48,-0.5020,144.9797,4465,4316.7, 1.5354,34.6850,2,155.3,2,34.6865,4,155.45,6,140.90,6,35.64,6,0.00,6,2.48,6, -999,9, -999,9,2327.5,2,2420.6,2,7.5963,2,25,-999,9,-999,9, 1.1803,2,27.7800,2, 1.5356,2
49UP20140609_4,   P10,94,1, 1,997,2,20140828,0043,  43,-0.5020,144.9797,4465,4525.6, 1.5509,34.6855,2,155.9,2,34.6860,6,156.05,2,140.45,2,35.49,2,0.00,2,2.48,2, -999,9, -999,9,2328.6,2,2419.9,2,7.6006,2,25,-999,9,-999,9, 1.1714,2,27.7811,2, 1.5509,2
49UP20140609_4,   P10,95,1, 0,BUC,2,20140828,0731, 915,-0.5062,144.4808,4170,   0.0,30.5385,34.2488,2,194.4,2,   -999,9,194.74,2,  1.09,2, 0.01,2,0.00,2,0.09,2, -999,9, -999,9,-999.0,9,-999.0,9,-999.0,9,-999,-999,9,-999,9,30.5379,2,20.9788,2,   -999,9
49UP20140609_4,   P10,95,1,36,109,2,20140828,0731, 934,-0.5062,144.4808,4170,  10.8,29.9132,34.2169,2,196.1,2,34.2144,2,195.63,2,  1.09,2, 0.00,2,0.00,2,0.08,2, -999,9, -999,9,-999.0,9,-999.0,9,-999.0,9,-999,-999,9,-999,9,29.9106,2,21.1696,2,29.9119,2
49UP20140609_4,   P10,95,1,35,112,2,20140828,0731, 932,-0.5062,144.4808,4170,  26.5,29.8381,34.2457,2,196.6,2,34.2599,4,196.52,2,  1.04,2, 0.00,2,0.00,2,0.09,2, -999,9, -999,9,-999.0,9,-999.0,9,-999.0,9,-999,-999,9,-999,9,29.8315,2,21.2181,2,29.8369,2
49UP20140609_4,   P10,95,1,34,83,2,20140828,0731, 929,-0.5062,144.4808,4170,  51.5,29.4469,34.4515,2,196.2,2,34.4634,4,196.35,2,  1.05,2, 0.00,2,0.00,2,0.13,2, -999,9, -999,9,-999.0,9,-999.0,9,-999.0,9,-999,-999,9,-999,9,29.4343,2,21.5067,2,29.4449,2
49UP20140609_4,   P10,95,1,33,469,2,20140828,0731, 927,-0.5062,144.4808,4170,  77.1,28.8271,35.1903,2,182.0,2,35.2098,4,180.64,2,  1.40,2, 2.32,2,0.31,2,0.36,2, -999,9, -999,9,-999.0,9,-999.0,9,-999.0,9,-999,-999,9,-999,9,28.8086,2,22.2708,2,28.8261,2
49UP20140609_4,   P10,95,1,32,105,2,20140828,0731, 926,-0.5062,144.4808,4170, 101.4,27.7691,35.4057,2,157.6,2,35.4112,2,157.83,2,  1.89,2, 5.96,2,0.16,2,0.58,2, -999,9, -999,9,-999.0,9,-999.0,9,-999.0,9,-999,-999,9,-999,9,27.7453,2,22.7829,2,27.7674,2
49UP20140609_4,   P10,95,1,31,515,2,20140828,0731, 925,-0.5062,144.4808,4170, 126.4,26.7412,35.5180,2,149.1,2,35.5298,4,148.50,2,  1.93,2, 6.91,2,0.06,2,0.63,2, -999,9, -999,9,-999.0,9,-999.0,9,-999.0,9,-999,-999,9,-999,9,26.7123,2,23.1997,2,26.7364,2
49UP20140609_4,   P10,95,1,30,97,2,20140828,0731, 923,-0.5062,144.4808,4170, 151.9,23.3415,35.6112,2,140.2,2,35.5940,4,140.18,2,  2.68,2, 8.20,2,0.02,2,0.71,2, -999,9, -999,9,-999.0,9,-999.0,9,-999.0,9,-999,-999,9,-999,9,23.3101,2,24.3072,2,23.3386,2
49UP20140609_4,   P10,95,1,29,102,2,20140828,0731, 921,-0.5062,144.4808,4170, 201.8,17.6294,35.3763,2,143.4,2,35.3690,2,143.87,2,  5.12,2,12.18,2,0.01,2,0.97,2, -999,9, -999,9,-999.0,9,-999.0,9,-999.0,9,-999,-999,9,-999,9,17.5951,2,25.6597,2,17.6243,2
49UP20140609_4,   P10,95,1,28,108,2,20140828,0731, 920,-0.5062,144.4808,4170, 253.0,13.8775,35.0644,2,151.7,2,35.0518,4,152.92,2,  9.15,2,16.29,2,0.01,2,1.21,2, -999,9, -999,9,-999.0,9,-999.0,9,-999.0,9,-999,-999,9,-999,9,13.8411,2,26.2702,2,13.8775,2
49UP20140609_4,   P10,95,1,27,998,2,20140828,0731, 917,-0.5062,144.4808,4170, 333.3,10.6121,34.7531,2,119.8,2,34.7514,2,117.84,2, 22.26,2,25.36,2,0.00,2,1.80,2, -999,9, -999,9,-999.0,9,-999.0,9,-999.0,9,-999,-999,9,-999,9,10.5718,2,26.6598,2,10.6108,2
49UP20140609_4,   P10,95,1,26,84,2,20140828,0731, 915,-0.5062,144.4808,4170, 383.7, 9.5041,34.6896,2,117.2,2,34.6876,2,114.73,2, 24.37,2,27.92,2,0.00,2,1.96,2, -999,9, -999,9,-999.0,9,-999.0,9,-999.0,9,-999,-999,9,-999,9, 9.4607,2,26.8001,2, 9.5036,2
49UP20140609_4,   P10,95,1,25,98,2,20140828,0731, 913,-0.5062,144.4808,4170, 433.7, 8.7113,34.6357,2,118.1,2,34.6333,2,119.38,2, 27.33,2,29.14,2,0.00,2,2.03,2, -999,9, -999,9,-999.0,9,-999.0,9,-999.0,9,-999,-999,9,-999,9, 8.6647,2,26.8860,2, 8.7113,2
49UP20140609_4,   P10,95,1,24,110,2,20140828,0731, 911,-0.5062,144.4808,4170, 484.7, 8.1866,34.5988,2,135.4,2,34.5973,2,135.59,2, 27.58,2,28.45,2,0.00,2,2.00,2, -999,9, -999,9,-999.0,9,-999.0,9,-999.0,9,-999,-999,9,-999,9, 8.1363,2,26.9383,2, 8.1865,2
49UP20140609_4,   P10,95,1,23,96,2,20140828,0731, 909,-0.5062,144.4808,4170, 534.4, 7.5662,34.5668,2,142.3,2,34.5666,6,142.35,6, 29.62,6,29.02,6,0.00,6,2.04,6, -999,9, -999,9,-999.0,9,-999.0,9,-999.0,9,-999,-999,9,-999,9, 7.5130,2,27.0051,2, 7.5658,2
49UP20140609_4,   P10,95,1,22,111,2,20140828,0731, 906,-0.5062,144.4808,4170, 635.6, 6.4455,34.5374,2,113.0,2,34.5377,2,113.11,2, 44.99,2,34.13,2,0.00,2,2.40,2, -999,9, -999,9,-999.0,9,-999.0,9,-999.0,9,-999,-999,9,-999,9, 6.3872,2,27.1370,2, 6.4450,2
49UP20140609_4,   P10,95,1,20,93,2,20140828,0731, 903,-0.5062,144.4808,4170, 736.4, 5.5310,34.5299,2,105.4,2,34.5307,2,105.55,2, 58.35,2,36.34,2,0.00,2,2.57,2, -999,9, -999,9,-999.0,9,-999.0,9,-999.0,9,-999,-999,9,-999,9, 5.4680,2,27.2472,2, 5.5307,2
49UP20140609_4,   P10,95,1,21,78,2,20140828,0731, 903,-0.5062,144.4808,4170, 736.7, 5.5309,34.5300,2,105.4,2,34.5297,2,105.55,2, 58.38,2,36.39,2,0.00,2,2.57,2, -999,9, -999,9,-999.0,9,-999.0,9,-999.0,9,-999,-999,9,-999,9, 5.4679,2,27.2473,2, 5.5306,2
49UP20140609_4,   P10,95,1,19,92,2,20140828,0731, 900,-0.5062,144.4808,4170, 837.4, 5.0911,34.5344,2,104.9,2,34.5354,2,104.92,2, 68.69,2,36.70,2,0.00,2,2.61,2, -999,9, -999,9,-999.0,9,-999.0,9,-999.0,9,-999,-999,9,-999,9, 5.0217,2,27.3036,2, 5.0910,2
49UP20140609_4,   P10,95,1,18,101,2,20140828,0731, 857,-0.5062,144.4808,4170, 939.0, 4.7732,34.5399,2,103.7,2,34.5411,2,103.68,2, 74.58,2,37.18,2,0.00,2,2.64,2, -999,9, -999,9,-999.0,9,-999.0,9,-999.0,9,-999,-999,9,-999,9, 4.6970,2,27.3450,2, 4.7730,2
49UP20140609_4,   P10,95,1,17,90,2,20140828,0731, 853,-0.5062,144.4808,4170,1080.4, 4.2372,34.5504,2,106.7,2,34.5505,2,106.63,2, 84.71,2,37.50,2,0.00,2,2.66,2, -999,9, -999,9,-999.0,9,-999.0,9,-999.0,9,-999,-999,9,-999,9, 4.1527,2,27.4126,2, 4.2370,2
49UP20140609_4,   P10,95,1,16,89,2,20140828,0731, 848,-0.5062,144.4808,4170,1281.7, 3.5336,34.5796,2,100.2,2,34.5804,2, 99.99,2,105.07,2,38.51,2,0.00,2,2.74,2, -999,9, -999,9,-999.0,9,-999.0,9,-999.0,9,-999,-999,9,-999,9, 3.4383,2,27.5082,2, 3.5335,2
49UP20140609_4,   P10,95,1,15,88,2,20140828,0731, 837,-0.5062,144.4808,4170,1483.8, 3.0318,34.5949,2,113.0,2,34.5949,2,112.75,2,111.93,2,37.97,2,0.00,2,2.69,2, -999,9, -999,9,-999.0,9,-999.0,9,-999.0,9,-999,-999,9,-999,9, 2.9249,2,27.5686,2, 3.0314,2
49UP20140609_4,   P10,95,1,13,667,2,20140828,0731, 832,-0.5062,144.4808,4170,1686.9, 2.6790,34.6124,2,115.3,2,34.6132,2,115.35,2,120.91,2,37.99,2,0.00,2,2.69,2, -999,9, -999,9,-999.0,9,-999.0,9,-999.0,9,-999,-999,9,-999,9, 2.5593,2,27.6149,2, 2.6788,2
49UP20140609_4,   P10,95,1,14,999,2,20140828,0731, 832,-0.5062,144.4808,4170,1687.2, 2.6764,34.6125,2,115.4,2,34.6128,2,115.66,2,120.72,2,37.90,2,0.00,2,2.69,2, -999,9, -999,9,-999.0,9,-999.0,9,-999.0,9,-999,-999,9,-999,9, 2.5568,2,27.6152,2, 2.6764,2
49UP20140609_4,   P10,95,1,12,74,2,20140828,0731, 827,-0.5062,144.4808,4170,1890.0, 2.4847,34.6233,2,115.9,2,34.6225,2,115.72,2,127.06,2,38.05,2,0.00,2,2.69,2, -999,9, -999,9,-999.0,9,-999.0,9,-999.0,9,-999,-999,9,-999,9, 2.3504,2,27.6414,2, 2.4848,2
49UP20140609_4,   P10,95,1,11,268,2,20140828,0731, 823,-0.5062,144.4808,4170,2092.9, 2.1950,34.6378,2,119.1,2,34.6378,2,118.79,2,134.83,2,37.93,2,0.00,2,2.67,2, -999,9, -999,9,-999.0,9,-999.0,9,-999.0,9,-999,-999,9,-999,9, 2.0476,2,27.6777,2, 2.1950,2
49UP20140609_4,   P10,95,1,10,267,2,20140828,0731, 818,-0.5062,144.4808,4170,2296.1, 1.9593,34.6494,2,125.5,2,34.6505,2,125.17,6,139.02,6,37.51,6,0.00,6,2.64,6, -999,9, -999,9,-999.0,9,-999.0,9,-999.0,9,-999,-999,9,-999,9, 1.7980,2,27.7065,2, 1.9592,2
49UP20140609_4,   P10,95,1, 9,518,2,20140828,0731, 813,-0.5062,144.4808,4170,2499.0, 1.8149,34.6568,2,131.1,2,34.6565,6,131.05,2,141.23,2,37.16,2,0.00,2,2.60,2, -999,9, -999,9,-999.0,9,-999.0,9,-999.0,9,-999,-999,9,-999,9, 1.6382,2,27.7246,2, 1.8150,2
49UP20140609_4,   P10,95,1, 8,81,2,20140828,0731, 808,-0.5062,144.4808,4170,2704.3, 1.6815,34.6646,2,137.4,2,34.6642,2,137.52,2,142.52,2,36.83,2,0.00,2,2.58,2, -999,9, -999,9,-999.0,9,-999.0,9,-999.0,9,-999,-999,9,-999,9, 1.4886,2,27.7419,2, 1.6812,2
49UP20140609_4,   P10,95,1, 7,516,2,20140828,0731, 803,-0.5062,144.4808,4170,2907.0, 1.6606,34.6669,2,139.3,2,34.6655,2,139.17,2,142.54,2,36.67,2,0.00,2,2.56,2, -999,9, -999,9,-999.0,9,-999.0,9,-999.0,9,-999,-999,9,-999,9, 1.4492,2,27.7465,2, 1.6605,2
49UP20140609_4,   P10,95,1, 6,113,2,20140828,0731, 758,-0.5062,144.4808,4170,3120.9, 1.6132,34.6706,2,142.6,2,34.6709,2,142.96,2,142.67,2,36.44,2,0.00,2,2.54,2, -999,9, -999,9,-999.0,9,-999.0,9,-999.0,9,-999,-999,9,-999,9, 1.3822,2,27.7543,2, 1.6132,2
49UP20140609_4,   P10,95,1, 5,94,3,20140828,0731, 752,-0.5062,144.4808,4170,3376.5, 1.5893,34.6739,2,145.0,2,34.6738,2,144.80,2,142.63,2,36.26,2,0.00,2,2.53,2, -999,9, -999,9,-999.0,9,-999.0,9,-999.0,9,-999,-999,9,-999,9, 1.3336,2,27.7604,2, 1.5893,2
49UP20140609_4,   P10,95,1, 4,77,2,20140828,0731, 746,-0.5062,144.4808,4170,3631.9, 1.5444,34.6791,2,149.0,2,34.6802,2,148.94,2,142.58,2,36.04,2,0.00,2,2.51,2, -999,9, -999,9,-999.0,9,-999.0,9,-999.0,9,-999,-999,9,-999,9, 1.2635,2,27.7696,2, 1.5444,2
49UP20140609_4,   P10,95,1, 3,104,2,20140828,0731, 740,-0.5062,144.4808,4170,3887.2, 1.5254,34.6823,2,152.2,2,34.6833,2,152.10,6,142.17,6,35.89,6,0.00,6,2.50,6, -999,9, -999,9,-999.0,9,-999.0,9,-999.0,9,-999,-999,9,-999,9, 1.2180,2,27.7753,2, 1.5254,2
49UP20140609_4,   P10,95,1, 2,75,2,20140828,0731, 734,-0.5062,144.4808,4170,4143.5, 1.5237,34.6843,2,154.4,2,34.6850,6,154.54,2,141.27,2,35.66,2,0.00,2,2.48,2, -999,9, -999,9,-999.0,9,-999.0,9,-999.0,9,-999,-999,9,-999,9, 1.1884,2,27.7789,2, 1.5236,2
49UP20140609_4,   P10,95,1, 1,997,2,20140828,0731, 732,-0.5062,144.4808,4170,4221.7, 1.5307,34.6846,2,154.6,2,34.6845,2,154.41,2,141.33,2,35.74,2,0.00,2,2.48,2, -999,9, -999,9,-999.0,9,-999.0,9,-999.0,9,-999,-999,9,-999,9, 1.1864,2,27.7793,2, 1.5307,2