BOTTLE,20230725CCHSIOADS
EXPOCODE,SECT_ID,STNNBR,CASTNO,SAMPNO,BTLNBR,BTLNBR_FLAG_W,DATE,TIME,BTL_TIME,LATITUDE,LONGITUDE,DEPTH,CTDPRS,CTDTMP,CTDSAL,CTDSAL_FLAG_W,CTDOXY,CTDOXY_FLAG_W,SALNTY,SALNTY_FLAG_W,OXYGEN,OXYGEN_FLAG_W,SILCAT,SILCAT_FLAG_W,NO2+NO3,NO2+NO3_FLAG_W,NITRIT,NITRIT_FLAG_W,PHSPHT,PHSPHT_FLAG_W,CFC-11,CFC-11_FLAG_W,CFC-12,CFC-12_FLAG_W,TCARBN,TCARBN_FLAG_W,ALKALI,ALKALI_FLAG_W,PH_TOT,PH_TOT_FLAG_W,PH_TMP,CHLORA,CHLORA_FLAG_W,PPHYTN,PPHYTN_FLAG_W,THETA,THETA_FLAG_W,SIG0,SIG0_FLAG_W,REFTMP,REFTMP_FLAG_W
,,,,,,,,,,,,METERS,DBAR,ITS-90,PSS-78,,UMOL/KG,,PSS-78,,UMOL/KG,,UMOL/KG,,UMOL/KG,,UMOL/KG,,UMOL/KG,,PMOL/KG,,PMOL/KG,,UMOL/KG,,UMOL/KG,,,,DEG C,UG/KG,,UG/KG,,ITS-90,,KG/M^3,,ITS-90,
49UP20140609_3,   P10,58,1, 0,BUC,2,20140804,2040,2237,11.8247,149.3400,5771,   0.0,29.4437,34.5649,2,195.7,2,   -999,9,195.17,2,  0.78,2, 0.00,2,0.00,2,0.07,2, -999,9, -999,9,-999.0,9,-999.0,9,-999.0,9,-999,-999,9,-999,9,29.4431,2,21.5888,2,   -999,9
49UP20140609_3,   P10,58,1,36,109,2,20140804,2040,2253,11.8247,149.3400,5771,   9.9,29.4618,34.5654,2,195.8,2,34.5654,2,195.89,2,  0.70,2, 0.00,2,0.00,2,0.06,2, -999,9, -999,9,-999.0,9,-999.0,9,-999.0,9,-999,-999,9,-999,9,29.4594,2,21.5837,2,29.4590,2
49UP20140609_3,   P10,58,1,35,112,2,20140804,2040,2250,11.8247,149.3400,5771,  50.0,28.1256,35.0766,2,207.3,2,35.0758,2,207.52,2,  0.77,2, 0.00,2,0.00,2,0.09,2, -999,9, -999,9,-999.0,9,-999.0,9,-999.0,9,-999,-999,9,-999,9,28.1137,2,22.4150,2,28.1242,2
49UP20140609_3,   P10,58,1,34,83,2,20140804,2040,2249,11.8247,149.3400,5771, 103.2,26.5051,35.1933,2,201.7,2,35.1911,2,202.27,2,  0.98,2, 0.00,2,0.00,2,0.11,2, -999,9, -999,9,-999.0,9,-999.0,9,-999.0,9,-999,-999,9,-999,9,26.4817,2,23.0280,2,26.4988,2
49UP20140609_3,   P10,58,1,33,107,2,20140804,2040,2247,11.8247,149.3400,5771, 152.0,22.7058,35.1991,2,183.5,2,35.2077,2,183.31,2,  1.51,2, 1.02,2,0.02,2,0.22,2, -999,9, -999,9,-999.0,9,-999.0,9,-999.0,9,-999,-999,9,-999,9,22.6750,2,24.1780,2,22.7385,2
49UP20140609_3,   P10,58,1,32,105,2,20140804,2040,2245,11.8247,149.3400,5771, 200.8,18.3508,34.8035,2,163.7,2,34.8040,2,164.23,2,  4.98,2, 6.63,2,0.01,2,0.57,2, -999,9, -999,9,-999.0,9,-999.0,9,-999.0,9,-999,-999,9,-999,9,18.3159,2,25.0433,2,18.3401,2
49UP20140609_3,   P10,58,1,31,515,2,20140804,2040,2243,11.8247,149.3400,5771, 251.9,13.9847,34.4726,2,146.3,2,34.4514,4,148.34,2, 13.72,2,14.57,2,0.00,2,1.11,2, -999,9, -999,9,-999.0,9,-999.0,9,-999.0,9,-999,-999,9,-999,9,13.9484,2,25.7903,2,13.9756,2
49UP20140609_3,   P10,58,1,30,97,2,20140804,2040,2241,11.8247,149.3400,5771, 331.7,10.0222,34.3176,2,101.8,2,34.3206,2,100.54,6, 31.04,6,25.83,6,0.00,6,1.93,6, -999,9, -999,9,-999.0,9,-999.0,9,-999.0,9,-999,-999,9,-999,9, 9.9837,2,26.4218,2,10.0220,2
49UP20140609_3,   P10,58,1,29,102,3,20140804,2040,2239,11.8247,149.3400,5771, 386.2, 8.9193,34.3463,2, 83.6,2,34.3479,2, 83.79,2, 39.08,2,29.53,2,0.00,2,2.17,2, -999,9, -999,9,-999.0,9,-999.0,9,-999.0,9,-999,-999,9,-999,9, 8.8774,2,26.6257,2, 8.9184,2
49UP20140609_3,   P10,58,1,28,108,2,20140804,2040,2238,11.8247,149.3400,5771, 434.0, 7.9220,34.3586,2, 72.5,2,34.3588,2, 72.92,2, 48.87,2,32.53,2,0.00,2,2.39,2, -999,9, -999,9,-999.0,9,-999.0,9,-999.0,9,-999,-999,9,-999,9, 7.8781,2,26.7881,2, 7.9224,2
49UP20140609_3,   P10,58,1,27,998,2,20140804,2040,2236,11.8247,149.3400,5771, 483.5, 7.2907,34.4264,2, 65.8,2,34.4241,2, 67.04,2, 54.92,2,34.56,2,0.00,2,2.52,2, -999,9, -999,9,-999.0,9,-999.0,9,-999.0,9,-999,-999,9,-999,9, 7.2438,2,26.9329,2, 7.2939,2
49UP20140609_3,   P10,58,1,26,84,2,20140804,2040,2235,11.8247,149.3400,5771, 533.2, 6.8390,34.4523,2, 70.5,2,34.4549,2, 70.40,2, 59.12,2,35.44,2,0.00,2,2.57,2, -999,9, -999,9,-999.0,9,-999.0,9,-999.0,9,-999,-999,9,-999,9, 6.7889,2,27.0163,2, 6.8381,2
49UP20140609_3,   P10,58,1,25,98,2,20140804,2040,2232,11.8247,149.3400,5771, 635.4, 6.0682,34.4850,2, 75.7,2,34.4850,2, 75.90,2, 67.34,2,36.47,2,0.00,2,2.64,2, -999,9, -999,9,-999.0,9,-999.0,9,-999.0,9,-999,-999,9,-999,9, 6.0118,2,27.1442,2, 6.0679,2
49UP20140609_3,   P10,58,1,24,110,2,20140804,2040,2230,11.8247,149.3400,5771, 734.8, 5.5999,34.5060,2, 74.4,2,34.5058,2, 74.72,2, 74.46,2,37.52,2,0.00,2,2.71,2, -999,9, -999,9,-999.0,9,-999.0,9,-999.0,9,-999,-999,9,-999,9, 5.5367,2,27.2200,2, 5.5993,2
49UP20140609_3,   P10,58,1,23,96,2,20140804,2040,2227,11.8247,149.3400,5771, 836.7, 5.1377,34.5226,2, 69.2,2,34.5231,6, 69.57,6, 82.29,6,38.75,6,0.00,6,2.80,6, -999,9, -999,9,-999.0,9,-999.0,9,-999.0,9,-999,-999,9,-999,9, 5.0680,2,27.2889,2, 5.1363,2
49UP20140609_3,   P10,58,1,22,111,2,20140804,2040,2225,11.8247,149.3400,5771, 938.6, 4.7119,34.5358,2, 70.0,2,34.5354,2, 70.09,2, 90.05,2,39.31,2,0.00,2,2.84,2, -999,9, -999,9,-999.0,9,-999.0,9,-999.0,9,-999,-999,9,-999,9, 4.6361,2,27.3485,2, 4.7116,2
49UP20140609_3,   P10,58,1,21,78,2,20140804,2040,2221,11.8247,149.3400,5771,1079.2, 4.0907,34.5506,2, 72.8,2,34.5515,2, 73.12,2,102.66,2,39.70,2,0.00,2,2.87,2, -999,9, -999,9,-999.0,9,-999.0,9,-999.0,9,-999,-999,9,-999,9, 4.0076,2,27.4279,2, 4.0905,2
49UP20140609_3,   P10,58,1,20,93,2,20140804,2040,2217,11.8247,149.3400,5771,1282.0, 3.3347,34.5759,2, 85.7,2,34.5763,2, 85.82,2,117.54,2,39.25,2,0.00,2,2.82,2, -999,9, -999,9,-999.0,9,-999.0,9,-999.0,9,-999,-999,9,-999,9, 3.2413,2,27.5241,2, 3.3341,2
49UP20140609_3,   P10,58,1,19,92,2,20140804,2040,2212,11.8247,149.3400,5771,1484.4, 2.8463,34.5983,2, 96.5,2,34.5979,2, 96.68,2,126.60,2,38.87,2,0.00,2,2.78,2, -999,9, -999,9,-999.0,9,-999.0,9,-999.0,9,-999,-999,9,-999,9, 2.7414,2,27.5877,2, 2.8463,2
49UP20140609_3,   P10,58,1,18,101,2,20140804,2040,2208,11.8247,149.3400,5771,1687.9, 2.4971,34.6161,2,103.7,2,34.6165,2,103.98,2,132.92,2,38.59,2,0.00,2,2.75,2, -999,9, -999,9,-999.0,9,-999.0,9,-999.0,9,-999,-999,9,-999,9, 2.3797,2,27.6331,2, 2.4970,2
49UP20140609_3,   P10,58,1,17,90,2,20140804,2040,2204,11.8247,149.3400,5771,1889.8, 2.2749,34.6284,2,109.6,2,34.6293,2,110.16,2,136.50,2,38.27,2,0.00,2,2.72,2, -999,9, -999,9,-999.0,9,-999.0,9,-999.0,9,-999,-999,9,-999,9, 2.1436,2,27.6625,2, 2.2747,2
49UP20140609_3,   P10,58,1,16,89,2,20140804,2040,2159,11.8247,149.3400,5771,2091.6, 2.1014,34.6378,2,114.3,2,34.6379,2,114.63,2,140.33,2,38.10,2,0.00,2,2.70,2, -999,9, -999,9,-999.0,9,-999.0,9,-999.0,9,-999,-999,9,-999,9, 1.9556,2,27.6850,2, 2.1013,2
49UP20140609_3,   P10,58,1,15,88,2,20140804,2040,2155,11.8247,149.3400,5771,2295.4, 1.9833,34.6453,2,118.1,2,34.6451,2,118.47,2,142.39,2,37.94,2,0.00,2,2.68,2, -999,9, -999,9,-999.0,9,-999.0,9,-999.0,9,-999,-999,9,-999,9, 1.8217,2,27.7014,2, 1.9831,2
49UP20140609_3,   P10,58,1,14,999,2,20140804,2040,2150,11.8247,149.3400,5771,2499.7, 1.8507,34.6532,2,123.7,2,34.6537,6,124.05,6,144.20,6,37.57,6,0.00,6,2.65,6, -999,9, -999,9,-999.0,9,-999.0,9,-999.0,9,-999,-999,9,-999,9, 1.6732,2,27.7191,2, 1.8505,2
49UP20140609_3,   P10,58,1,13,667,3,20140804,2040,2146,11.8247,149.3400,5771,2703.5, 1.7417,34.6591,2,128.8,2,34.6589,2,129.06,2,145.13,2,37.27,2,0.00,2,2.62,2, -999,9, -999,9,-999.0,9,-999.0,9,-999.0,9,-999,-999,9,-999,9, 1.5477,2,27.7331,2, 1.7416,2
49UP20140609_3,   P10,58,1,12,74,2,20140804,2040,2142,11.8247,149.3400,5771,2907.1, 1.6777,34.6641,2,132.7,2,34.6641,2,132.83,2,146.24,2,37.00,2,0.00,2,2.60,2, -999,9, -999,9,-999.0,9,-999.0,9,-999.0,9,-999,-999,9,-999,9, 1.4660,2,27.7431,2, 1.6777,2
49UP20140609_3,   P10,58,1,11,268,2,20140804,2040,2137,11.8247,149.3400,5771,3120.8, 1.6125,34.6693,2,137.9,2,34.6696,2,138.14,2,145.94,2,36.73,2,0.00,2,2.57,2, -999,9, -999,9,-999.0,9,-999.0,9,-999.0,9,-999,-999,9,-999,9, 1.3815,2,27.7533,2, 1.6124,2
49UP20140609_3,   P10,58,1,10,267,2,20140804,2040,2131,11.8247,149.3400,5771,3376.4, 1.5621,34.6745,2,143.1,2,34.6746,2,143.12,2,145.60,2,36.42,2,0.00,2,2.55,2, -999,9, -999,9,-999.0,9,-999.0,9,-999.0,9,-999,-999,9,-999,9, 1.3070,2,27.7628,2, 1.5620,2
49UP20140609_3,   P10,58,1, 8,81,2,20140804,2040,2126,11.8247,149.3400,5771,3631.1, 1.5158,34.6794,2,149.4,2,34.6794,2,149.42,2,143.74,2,36.00,2,0.00,2,2.52,2, -999,9, -999,9,-999.0,9,-999.0,9,-999.0,9,-999,-999,9,-999,9, 1.2358,2,27.7717,2, 1.5159,2
49UP20140609_3,   P10,58,1, 7,516,2,20140804,2040,2116,11.8247,149.3400,5771,4144.8, 1.4684,34.6868,2,159.9,2,34.6865,6,160.47,2,139.48,2,35.34,2,0.00,2,2.46,2, -999,9, -999,9,-999.0,9,-999.0,9,-999.0,9,-999,-999,9,-999,9, 1.1346,2,27.7846,2, 1.4683,2
49UP20140609_3,   P10,58,1, 6,113,2,20140804,2040,2106,11.8247,149.3400,5771,4657.8, 1.4552,34.6920,2,168.5,2,34.6927,2,168.70,6,135.02,6,34.61,6,0.00,6,2.41,6, -999,9, -999,9,-999.0,9,-999.0,9,-999.0,9,-999,-999,9,-999,9, 1.0633,2,27.7936,2, 1.4552,2
49UP20140609_3,   P10,58,1, 9,94,2,20140804,2040,2056,11.8247,149.3400,5771,5170.9, 1.4787,34.6949,2,173.4,2,34.6948,2,173.55,2,132.70,2,34.33,2,0.00,2,2.39,2, -999,9, -999,9,-999.0,9,-999.0,9,-999.0,9,-999,-999,9,-999,9, 1.0242,2,27.7986,2, 1.4788,2
49UP20140609_3,   P10,58,1, 4,77,2,20140804,2040,2056,11.8247,149.3400,5771,5171.0, 1.4787,34.6949,2,173.4,2,34.6948,2,173.69,2,132.74,2,34.31,2,0.00,2,2.38,2, -999,9, -999,9,-999.0,9,-999.0,9,-999.0,9,-999,-999,9,-999,9, 1.0242,2,27.7985,2, 1.4789,2
49UP20140609_3,   P10,58,1, 5,518,2,20140804,2040,2056,11.8247,149.3400,5771,5171.6, 1.4788,34.6948,2,173.4,2,34.6957,2,173.72,2,132.84,2,34.32,2,0.00,2,2.39,2, -999,9, -999,9,-999.0,9,-999.0,9,-999.0,9,-999,-999,9,-999,9, 1.0242,2,27.7985,2, 1.4788,2
49UP20140609_3,   P10,58,1, 3,104,2,20140804,2040,2051,11.8247,149.3400,5771,5429.0, 1.4995,34.6956,2,174.8,2,34.6957,6,175.15,2,131.93,2,34.15,2,0.00,2,2.38,2, -999,9, -999,9,-999.0,9,-999.0,9,-999.0,9,-999,-999,9,-999,9, 1.0119,2,27.8000,2, 1.4995,2
49UP20140609_3,   P10,58,1, 2,75,2,20140804,2040,2045,11.8247,149.3400,5771,5686.0, 1.5266,34.6960,2,175.6,2,34.6958,2,175.83,2,131.79,2,34.16,2,0.00,2,2.37,2, -999,9, -999,9,-999.0,9,-999.0,9,-999.0,9,-999,-999,9,-999,9, 1.0050,2,27.8007,2, 1.5266,2
49UP20140609_3,   P10,58,1, 1,997,2,20140804,2040,2040,11.8247,149.3400,5771,5910.3, 1.5541,34.6960,2,176.0,2,34.6958,2,175.98,2,131.52,2,34.13,2,0.00,2,2.37,2, -999,9, -999,9,-999.0,9,-999.0,9,-999.0,9,-999,-999,9,-999,9, 1.0021,2,27.8009,2, 1.5540,2
49UP20140609_3,   P10,59,1, 0,BUC,2,20140805,0402, 557,11.1533,149.3410,5767,   0.0,29.8232,34.1939,2,195.9,2,34.1957,2,195.38,2,  1.03,2, 0.00,2,0.00,2,0.08,2, -999,9, -999,9,1911.0,2,2246.0,2,8.1260,2,25,0.03,2,0.02,2,29.8226,2,21.1823,2,   -999,9
49UP20140609_3,   P10,59,1,36,109,2,20140805,0402, 640,11.1533,149.3410,5767,  11.2,29.4600,34.1819,2,196.4,2,34.1868,2,195.62,2,  0.94,2, 0.00,2,0.00,2,0.06,2,1.198,3,0.678,3,1911.0,2,2245.1,2,8.1255,2,25,0.03,2,0.01,2,29.4572,2,21.2968,2,29.4592,2
49UP20140609_3,   P10,59,1,35,112,2,20140805,0402, 636,11.1533,149.3410,5767,  50.8,29.2304,34.2443,2,197.2,2,34.2994,4,198.98,2,  0.99,2, 0.00,2,0.00,2,0.07,2,1.400,3,0.806,3,1918.7,2,2251.3,2,8.1213,2,25,0.04,2,0.02,2,29.2181,2,21.4239,2,29.2305,2
49UP20140609_3,   P10,59,1,34,83,2,20140805,0402, 634,11.1533,149.3410,5767, 102.5,25.6544,35.2122,2,200.1,2,35.2144,2,200.17,2,  1.18,2, 0.00,2,0.00,2,0.12,2,1.693,2,0.996,2,2007.7,2,2318.2,2,8.0641,2,25,0.13,2,0.19,2,25.6317,2,23.3078,2,25.6537,2
49UP20140609_3,   P10,59,1,33,107,2,20140805,0402, 632,11.1533,149.3410,5767, 152.8,21.7391,35.0937,2,177.1,2,35.0874,2,176.94,6,  2.45,6, 2.06,6,0.08,6,0.33,6,1.954,2,1.154,2,2061.4,2,2311.9,2,7.9620,2,25,0.07,2,0.28,2,21.7091,2,24.3702,2,21.7464,2
49UP20140609_3,   P10,59,1,32,105,2,20140805,0402, 630,11.1533,149.3410,5767, 203.6,16.1092,34.6295,2,150.3,2,34.6298,2,150.32,2,  9.30,2,10.95,2,0.01,2,0.88,2,2.115,2,1.166,2,2107.8,2,2282.6,2,7.8146,2,25,0.02,2,0.07,2,16.0769,2,25.4450,2,16.1292,2
49UP20140609_3,   P10,59,1,31,515,2,20140805,0402, 627,11.1533,149.3410,5767, 253.1,12.2572,34.3706,2,134.6,2,34.3647,2,135.28,2, 19.35,2,18.36,2,0.00,2,1.40,2,2.243,2,1.192,2,2143.3,2,2274.5,2,7.7003,2,25,-999,9,-999,9,12.2239,2,26.0574,2,12.2595,2
49UP20140609_3,   P10,59,1,30,97,2,20140805,0402, 626,11.1533,149.3410,5767, 282.6,11.0996,34.3249,2,119.3,2,34.3371,4,115.64,2, 24.63,2,22.35,2,0.00,2,1.69,2,1.993,2,1.028,2,2170.9,2,2276.2,2,7.6377,2,25,-999,9,-999,9,11.0647,2,26.2381,2,11.1000,2
49UP20140609_3,   P10,59,1,29,102,2,20140805,0402, 624,11.1533,149.3410,5767, 323.4,10.1699,34.4451,2, 76.4,2,34.4374,2, 76.68,2, 31.99,2,28.18,2,0.00,2,2.09,2,1.287,6,0.656,6,-999.0,5,-999.0,5,7.5536,6,25,-999,9,-999,9,10.1320,2,26.4961,2,10.1689,2
49UP20140609_3,   P10,59,1,28,108,2,20140805,0402, 622,11.1533,149.3410,5767, 372.2, 8.4856,34.3853,2, 70.3,2,34.3957,4, 68.60,2, 43.97,2,32.01,2,0.00,2,2.36,2,0.850,2,0.424,2,2240.9,6,2298.9,6,7.5040,2,25,-999,9,-999,9, 8.4465,2,26.7234,2, 8.4829,2
49UP20140609_3,   P10,59,1,27,998,2,20140805,0402, 621,11.1533,149.3410,5767, 423.8, 7.8831,34.4804,2, 64.0,2,34.4811,2, 64.13,2, 48.49,2,34.19,2,0.00,2,2.48,2,0.446,6,0.216,6,2254.1,2,2309.3,2,7.4969,2,25,-999,9,-999,9, 7.8403,2,26.8894,2, 7.8907,2
49UP20140609_3,   P10,59,1,26,84,2,20140805,0402, 619,11.1533,149.3410,5767, 478.5, 7.3269,34.4912,2, 71.4,2,34.4913,2, 71.79,2, 52.02,2,34.65,2,0.00,2,2.50,2,0.363,2,0.183,2,2254.9,2,2315.0,2,7.5012,2,25,-999,9,-999,9, 7.2804,2,26.9788,2, 7.3253,2
49UP20140609_3,   P10,59,1,25,98,2,20140805,0402, 616,11.1533,149.3410,5767, 576.2, 6.5787,34.5041,2, 77.2,2,34.5041,2, 77.27,2, 58.92,2,35.62,2,0.00,2,2.57,2,0.241,6,0.115,6,2265.5,2,2323.7,2,7.5014,2,25,-999,9,-999,9, 6.5255,2,27.0925,2, 6.5791,2
49UP20140609_3,   P10,59,1,24,110,2,20140805,0402, 613,11.1533,149.3410,5767, 676.2, 5.8869,34.5127,2, 76.9,2,34.5121,2, 76.96,2, 68.85,2,36.95,2,0.00,2,2.66,2,0.146,2,0.061,2,2277.4,2,2334.3,2,7.4929,2,25,-999,9,-999,9, 5.8276,2,27.1893,2, 5.8865,2
49UP20140609_3,   P10,59,1,23,96,2,20140805,0402, 558,11.1533,149.3410,5767, 777.2, 5.4068,34.5267,2, 79.6,2,34.5261,2, 79.66,2, 76.09,2,37.49,2,0.00,2,2.70,2,0.089,2,0.038,2,2286.3,2,2343.8,2,7.4952,2,25,-999,9,-999,9, 5.3408,2,27.2599,2, 5.4066,2
49UP20140609_3,   P10,59,1,22,111,2,20140805,0402, 556,11.1533,149.3410,5767, 878.9, 4.9388,34.5329,2, 71.3,2,34.5328,2, 70.96,2, 85.45,2,38.95,2,0.00,2,2.81,2,0.024,2,0.009,2,2303.2,2,2352.4,2,7.4748,6,25,-999,9,-999,9, 4.8667,2,27.3202,2, 4.9397,2
49UP20140609_3,   P10,59,1,21,78,2,20140805,0402, 553,11.1533,149.3410,5767, 979.8, 4.4459,34.5464,2, 79.9,2,34.5463,2, 79.64,2, 93.90,2,38.68,2,0.00,2,2.79,2,0.034,2,0.010,2,2311.6,6,2362.5,6,7.4854,2,25,-999,9,-999,9, 4.3685,2,27.3863,2, 4.4454,2
49UP20140609_3,   P10,59,1,20,93,2,20140805,0402, 549,11.1533,149.3410,5767,1140.7, 3.8119,34.5597,2, 77.6,2,34.5599,2, 77.41,6,108.49,6,39.59,6,0.00,6,2.85,6,0.012,2,0.001,2,2326.7,2,2376.9,2,7.4746,2,25,-999,9,-999,9, 3.7260,2,27.4639,2, 3.8114,2
49UP20140609_3,   P10,59,1,19,92,2,20140805,0402, 544,11.1533,149.3410,5767,1343.9, 3.1558,34.5869,2, 90.8,2,34.5854,4, 92.19,2,120.39,2,39.08,2,0.00,2,2.80,2,0.004,2,0.000,2,2329.7,2,2390.4,2,7.4943,2,25,-999,9,-999,9, 3.0592,2,27.5499,2, 3.1559,2
49UP20140609_3,   P10,59,1,18,101,2,20140805,0402, 539,11.1533,149.3410,5767,1546.0, 2.7354,34.6043,2, 99.0,2,34.6048,2, 99.03,2,128.46,2,38.80,2,0.00,2,2.77,2,0.000,2,0.000,2,2338.9,2,2397.9,2,7.5024,2,25,-999,9,-999,9, 2.6267,2,27.6026,2, 2.7351,2
49UP20140609_3,   P10,59,1,17,90,2,20140805,0402, 535,11.1533,149.3410,5767,1748.1, 2.4172,34.6185,2,104.5,2,34.6190,2,104.78,2,135.17,2,38.54,2,0.00,2,2.75,2, -999,9, -999,9,2336.7,2,2404.8,2,7.5141,2,25,-999,9,-999,9, 2.2959,2,27.6420,2, 2.4172,2
49UP20140609_3,   P10,59,1,16,89,2,20140805,0402, 530,11.1533,149.3410,5767,1951.0, 2.1947,34.6301,2,109.9,2,34.6298,2,110.41,2,139.31,2,38.31,2,0.00,2,2.73,2, -999,9, -999,9,2340.4,2,2410.7,2,7.5251,2,25,-999,9,-999,9, 2.0594,2,27.6706,2, 2.1948,2
49UP20140609_3,   P10,59,1,15,88,3,20140805,0402, 526,11.1533,149.3410,5767,2154.9, 2.0548,34.6400,2,114.7,2,34.6402,6,115.45,2,141.87,2,38.07,2,0.00,2,2.70,2,0.000,3,0.000,3,2342.1,2,2413.6,2,7.5317,2,25,-999,9,-999,9, 1.9043,2,27.6908,2, 2.0546,2
49UP20140609_3,   P10,59,1,14,999,2,20140805,0402, 521,11.1533,149.3410,5767,2358.5, 1.9230,34.6480,2,120.1,2,34.6479,2,120.37,2,143.65,2,37.83,2,0.00,2,2.67,2, -999,9, -999,9,2341.2,2,2415.7,2,7.5362,2,25,-999,9,-999,9, 1.7569,2,27.7086,2, 1.9228,2
49UP20140609_3,   P10,59,1,13,667,2,20140805,0402, 516,11.1533,149.3410,5767,2561.2, 1.8400,34.6548,2,123.4,2,34.6551,2,123.15,2,145.05,2,37.65,2,0.00,2,2.66,2, -999,9, -999,9,2339.1,2,2416.9,2,7.5412,2,25,-999,9,-999,9, 1.6572,2,27.7216,2, 1.8397,2
49UP20140609_3,   P10,59,1,12,74,3,20140805,0402, 511,11.1533,149.3410,5767,2765.2, 1.7354,34.6613,2,129.3,2,34.6608,2,129.17,2,145.95,2,37.24,2,0.00,2,2.63,2, -999,9, -999,9,2336.4,2,2417.3,2,7.5491,2,25,-999,9,-999,9, 1.5358,2,27.7357,2, 1.7355,2
49UP20140609_3,   P10,59,1,11,268,2,20140805,0402, 507,11.1533,149.3410,5767,2969.2, 1.6594,34.6662,2,134.4,2,34.6667,2,134.12,2,146.20,2,36.87,2,0.00,2,2.60,2,0.000,2,0.000,2,2333.5,2,2415.6,2,7.5599,6,25,-999,9,-999,9, 1.4421,2,27.7465,2, 1.6593,2
49UP20140609_3,   P10,59,1,10,267,2,20140805,0402, 501,11.1533,149.3410,5767,3213.2, 1.5944,34.6709,2,139.8,2,34.6711,2,139.69,6,146.05,6,36.55,6,0.00,6,2.57,6, -999,9, -999,9,2332.1,2,2417.6,2,7.5680,2,25,-999,9,-999,9, 1.3549,2,27.7565,2, 1.5944,2
49UP20140609_3,   P10,59,1, 9,94,2,20140805,0402, 455,11.1533,149.3410,5767,3469.6, 1.5340,34.6768,2,146.5,2,34.6765,2,146.40,2,144.58,2,36.11,2,0.00,2,2.53,2, -999,9, -999,9,2328.1,2,2414.7,2,7.5675,3,25,-999,9,-999,9, 1.2701,2,27.7672,2, 1.5340,2
49UP20140609_3,   P10,59,1, 8,81,2,20140805,0402, 449,11.1533,149.3410,5767,3724.2, 1.4989,34.6812,2,152.0,2,34.6811,6,151.92,2,142.85,2,35.76,2,0.00,2,2.50,2, -999,9, -999,9,2319.4,6,2413.1,6,7.5818,2,25,-999,9,-999,9, 1.2096,2,27.7749,2, 1.4990,2
49UP20140609_3,   P10,59,1, 7,516,2,20140805,0402, 444,11.1533,149.3410,5767,3981.2, 1.4730,34.6851,2,157.5,2,34.6852,2,157.34,2,140.49,2,35.35,2,0.00,2,2.47,2, -999,9, -999,9,2315.6,2,2410.3,2,7.5898,2,25,-999,9,-999,9, 1.1569,2,27.7817,2, 1.4729,2
49UP20140609_3,   P10,59,1, 6,113,2,20140805,0402, 433,11.1533,149.3410,5767,4494.9, 1.4436,34.6915,2,167.5,2,34.6914,2,168.23,2,135.87,2,34.72,2,0.00,2,2.42,2,0.000,2,0.000,2,2306.2,2,2405.5,2,7.5974,2,25,-999,9,-999,9, 1.0709,2,27.7927,2, 1.4434,2
49UP20140609_3,   P10,59,1, 5,518,2,20140805,0402, 423,11.1533,149.3410,5767,5008.0, 1.4600,34.6946,2,173.1,2,34.6946,2,172.82,6,133.13,6,34.27,6,0.00,6,2.39,6, -999,9, -999,9,2303.1,2,2399.7,2,7.6091,2,25,-999,9,-999,9, 1.0262,2,27.7982,2, 1.4600,2
49UP20140609_3,   P10,59,1, 4,77,3,20140805,0402, 417,11.1533,149.3410,5767,5263.9, 1.4806,34.6956,2,174.6,2,34.6957,2,174.54,2,132.23,2,34.13,2,0.00,2,2.38,2,0.001,2,0.003,2,2299.6,2,2398.2,2,7.6116,2,25,-999,9,-999,9, 1.0145,2,27.7997,2, 1.4807,2
49UP20140609_3,   P10,59,1, 3,104,2,20140805,0402, 411,11.1533,149.3410,5767,5522.9, 1.5090,34.6960,2,175.2,2,34.6962,6,175.45,2,131.97,2,34.11,2,0.00,2,2.37,2,0.000,2,0.000,2,2298.2,2,2399.9,2,7.6072,2,25,-999,9,-999,9, 1.0091,2,27.8004,2, 1.5089,2
49UP20140609_3,   P10,59,1, 2,75,2,20140805,0402, 406,11.1533,149.3410,5767,5778.9, 1.5376,34.6962,2,175.8,2,34.6960,2,175.56,2,131.66,2,34.03,2,0.00,2,2.37,2,0.000,2,0.000,2,2303.3,3,2398.2,2,7.6119,2,25,-999,9,-999,9, 1.0035,2,27.8010,2, 1.5376,2
49UP20140609_3,   P10,59,1, 1,997,2,20140805,0402, 402,11.1533,149.3410,5767,5903.7, 1.5481,34.6965,2,176.5,2,34.6970,6,176.47,2,131.43,2,34.10,2,0.00,2,2.37,2,0.000,6,0.000,6,2298.8,2,2400.1,2,7.6100,2,25,-999,9,-999,9, 0.9971,2,27.8017,2, 1.5481,2