BOTTLE,20230725CCHSIOADS
EXPOCODE,SECT_ID,STNNBR,CASTNO,SAMPNO,BTLNBR,BTLNBR_FLAG_W,DATE,TIME,BTL_TIME,LATITUDE,LONGITUDE,DEPTH,CTDPRS,CTDTMP,CTDSAL,CTDSAL_FLAG_W,CTDOXY,CTDOXY_FLAG_W,SALNTY,SALNTY_FLAG_W,OXYGEN,OXYGEN_FLAG_W,SILCAT,SILCAT_FLAG_W,NO2+NO3,NO2+NO3_FLAG_W,NITRIT,NITRIT_FLAG_W,PHSPHT,PHSPHT_FLAG_W,CFC-11,CFC-11_FLAG_W,CFC-12,CFC-12_FLAG_W,TCARBN,TCARBN_FLAG_W,ALKALI,ALKALI_FLAG_W,PH_TOT,PH_TOT_FLAG_W,PH_TMP,CHLORA,CHLORA_FLAG_W,PPHYTN,PPHYTN_FLAG_W,THETA,THETA_FLAG_W,SIG0,SIG0_FLAG_W,REFTMP,REFTMP_FLAG_W
,,,,,,,,,,,,METERS,DBAR,ITS-90,PSS-78,,UMOL/KG,,PSS-78,,UMOL/KG,,UMOL/KG,,UMOL/KG,,UMOL/KG,,UMOL/KG,,PMOL/KG,,PMOL/KG,,UMOL/KG,,UMOL/KG,,,,DEG C,UG/KG,,UG/KG,,ITS-90,,KG/M^3,,ITS-90,
49UP20140609_3,   P10,72,1, 0,BUC,2,20140809,1154,1330, 4.4978,147.6492,3694,   0.0,29.2512,33.9583,2,196.5,2,   -999,9,196.92,2,  1.15,2, 0.01,2,0.00,2,0.04,2, -999,9, -999,9,-999.0,9,-999.0,9,-999.0,9,-999,-999,9,-999,9,29.2507,2,21.1985,2,   -999,9
49UP20140609_3,   P10,72,1,36,109,2,20140809,1154,1347, 4.4978,147.6492,3694,  10.2,29.2731,33.9603,2,196.4,2,33.9582,2,196.58,2,  1.08,2, 0.00,2,0.00,2,0.04,2, -999,9, -999,9,-999.0,9,-999.0,9,-999.0,9,-999,-999,9,-999,9,29.2706,2,21.1932,2,29.2716,2
49UP20140609_3,   P10,72,1,35,112,2,20140809,1154,1347, 4.4978,147.6492,3694,  25.7,29.2858,33.9769,2,196.1,2,33.9773,2,196.42,2,  1.10,2, 0.00,2,0.00,2,0.04,2, -999,9, -999,9,-999.0,9,-999.0,9,-999.0,9,-999,-999,9,-999,9,29.2795,2,21.2027,2,29.2838,2
49UP20140609_3,   P10,72,1,34,83,2,20140809,1154,1345, 4.4978,147.6492,3694,  50.7,29.0534,34.0647,2,197.1,2,34.0852,4,197.82,2,  1.17,2, 0.00,2,0.00,2,0.06,2, -999,9, -999,9,-999.0,9,-999.0,9,-999.0,9,-999,-999,9,-999,9,29.0412,2,21.3483,2,29.0596,2
49UP20140609_3,   P10,72,1,33,107,3,20140809,1154,1344, 4.4978,147.6492,3694,  76.5,27.6018,34.5536,2,192.1,2,34.5478,2,192.57,2,  1.52,2, 0.00,2,0.00,2,0.11,2, -999,9, -999,9,-999.0,9,-999.0,9,-999.0,9,-999,-999,9,-999,9,27.5840,2,22.1941,2,27.6164,2
49UP20140609_3,   P10,72,1,32,105,2,20140809,1154,1341, 4.4978,147.6492,3694, 100.4,24.6693,34.8798,2,170.1,2,34.8877,2,168.90,2,  2.99,2, 1.77,2,0.18,2,0.32,2, -999,9, -999,9,-999.0,9,-999.0,9,-999.0,9,-999,-999,9,-999,9,24.6478,2,23.3570,2,24.6990,2
49UP20140609_3,   P10,72,1,31,515,2,20140809,1154,1340, 4.4978,147.6492,3694, 125.6,20.9916,34.8522,2,145.7,2,34.8342,4,143.77,6,  7.06,6, 8.36,6,0.07,6,0.70,6, -999,9, -999,9,-999.0,9,-999.0,9,-999.0,9,-999,-999,9,-999,9,20.9676,2,24.3902,2,20.9813,2
49UP20140609_3,   P10,72,1,30,97,2,20140809,1154,1338, 4.4978,147.6492,3694, 151.0,16.2972,34.6672,2,135.5,2,34.6655,6,134.86,2, 13.00,2,13.87,2,0.01,2,1.06,2, -999,9, -999,9,-999.0,9,-999.0,9,-999.0,9,-999,-999,9,-999,9,16.2731,2,25.4289,2,16.3165,2
49UP20140609_3,   P10,72,1,29,102,2,20140809,1154,1336, 4.4978,147.6492,3694, 200.3,10.9876,34.5315,2, 83.6,2,34.5316,2, 82.80,2, 29.40,2,26.90,2,0.00,2,1.95,2, -999,9, -999,9,-999.0,9,-999.0,9,-999.0,9,-999,-999,9,-999,9,10.9631,2,26.4174,2,10.9913,2
49UP20140609_3,   P10,72,1,28,108,2,20140809,1154,1334, 4.4978,147.6492,3694, 251.3, 9.4162,34.5779,2, 70.8,2,34.5789,2, 70.35,2, 35.39,2,31.47,2,0.00,2,2.25,2, -999,9, -999,9,-999.0,9,-999.0,9,-999.0,9,-999,-999,9,-999,9, 9.3882,2,26.7247,2, 9.4177,2
49UP20140609_3,   P10,72,1,27,998,2,20140809,1154,1332, 4.4978,147.6492,3694, 302.7, 8.7064,34.6027,2, 71.1,2,34.6025,2, 71.28,2, 36.73,2,32.97,2,0.00,2,2.33,2, -999,9, -999,9,-999.0,9,-999.0,9,-999.0,9,-999,-999,9,-999,9, 8.6742,2,26.8586,2, 8.7072,2
49UP20140609_3,   P10,72,1,26,84,2,20140809,1154,1330, 4.4978,147.6492,3694, 353.4, 8.2750,34.5929,2, 82.1,2,34.5918,2, 81.90,2, 37.50,2,32.85,2,0.00,2,2.33,2, -999,9, -999,9,-999.0,9,-999.0,9,-999.0,9,-999,-999,9,-999,9, 8.2383,2,26.9182,2, 8.2756,2
49UP20140609_3,   P10,72,1,25,98,2,20140809,1154,1328, 4.4978,147.6492,3694, 404.0, 7.8737,34.5793,2, 82.4,2,34.5788,2, 83.25,2, 40.02,2,33.62,2,0.00,2,2.39,2, -999,9, -999,9,-999.0,9,-999.0,9,-999.0,9,-999,-999,9,-999,9, 7.8329,2,26.9683,2, 7.8736,2
49UP20140609_3,   P10,72,1,24,110,2,20140809,1154,1326, 4.4978,147.6492,3694, 453.1, 7.5571,34.5654,2, 86.1,2,34.5646,2, 85.94,2, 42.64,2,33.91,2,0.00,2,2.41,2, -999,9, -999,9,-999.0,9,-999.0,9,-999.0,9,-999,-999,9,-999,9, 7.5123,2,27.0041,2, 7.5568,2
49UP20140609_3,   P10,72,1,23,96,2,20140809,1154,1325, 4.4978,147.6492,3694, 504.9, 7.2009,34.5537,2, 95.6,2,34.5533,2, 95.56,2, 44.06,2,33.66,2,0.00,2,2.40,2, -999,9, -999,9,-999.0,9,-999.0,9,-999.0,9,-999,-999,9,-999,9, 7.1522,2,27.0460,2, 7.2005,2
49UP20140609_3,   P10,72,1,22,111,2,20140809,1154,1322, 4.4978,147.6492,3694, 604.1, 6.7623,34.5372,2, 89.5,2,34.5363,2, 89.93,6, 51.89,6,34.89,6,0.00,6,2.49,6, -999,9, -999,9,-999.0,9,-999.0,9,-999.0,9,-999,-999,9,-999,9, 6.7055,2,27.0945,2, 6.7595,2
49UP20140609_3,   P10,72,1,21,78,2,20140809,1154,1319, 4.4978,147.6492,3694, 705.0, 6.0878,34.5319,2, 87.5,2,34.5312,2, 87.32,2, 61.27,2,36.24,2,0.00,2,2.59,2, -999,9, -999,9,-999.0,9,-999.0,9,-999.0,9,-999,-999,9,-999,9, 6.0247,2,27.1796,2, 6.0926,2
49UP20140609_3,   P10,72,1,20,93,2,20140809,1154,1307, 4.4978,147.6492,3694, 806.1, 5.4908,34.5369,2, 88.4,2,34.5360,2, 88.02,2, 67.33,2,37.41,2,0.00,2,2.67,2, -999,9, -999,9,-999.0,9,-999.0,9,-999.0,9,-999,-999,9,-999,9, 5.4217,2,27.2583,2, 5.4905,2
49UP20140609_3,   P10,72,1,19,92,2,20140809,1154,1304, 4.4978,147.6492,3694, 906.7, 5.1350,34.5404,2, 90.3,2,34.5404,2, 90.15,2, 74.16,2,37.71,2,0.00,2,2.69,2, -999,9, -999,9,-999.0,9,-999.0,9,-999.0,9,-999,-999,9,-999,9, 5.0591,2,27.3040,2, 5.1348,2
49UP20140609_3,   P10,72,1,18,101,3,20140809,1154,1301, 4.4978,147.6492,3694,1008.3, 4.6487,34.5499,2, 93.3,2,34.5501,2, 93.26,2, 85.45,2,37.76,2,0.00,2,2.71,2, -999,9, -999,9,-999.0,9,-999.0,9,-999.0,9,-999,-999,9,-999,9, 4.5673,2,27.3674,2, 4.6485,2
49UP20140609_3,   P10,72,1,17,90,2,20140809,1154,1257, 4.4978,147.6492,3694,1210.3, 3.7337,34.5746,2, 88.8,2,34.5747,2, 88.07,2,106.95,2,39.02,2,0.00,2,2.80,2, -999,9, -999,9,-999.0,9,-999.0,9,-999.0,9,-999,-999,9,-999,9, 3.6425,2,27.4841,2, 3.7331,2
49UP20140609_3,   P10,72,1,16,89,2,20140809,1154,1256, 4.4978,147.6492,3694,1210.8, 3.7315,34.5746,2, 88.8,2,34.5752,2, 88.74,2,106.69,2,38.97,2,0.00,2,2.79,2, -999,9, -999,9,-999.0,9,-999.0,9,-999.0,9,-999,-999,9,-999,9, 3.6404,2,27.4843,2, 3.7329,2
49UP20140609_3,   P10,72,1,15,88,2,20140809,1154,1249, 4.4978,147.6492,3694,1413.1, 3.2272,34.5908,2, 97.8,2,34.5900,6, 97.74,2,115.51,2,38.78,2,0.00,2,2.77,2, -999,9, -999,9,-999.0,9,-999.0,9,-999.0,9,-999,-999,9,-999,9, 3.1241,2,27.5470,2, 3.2272,2
49UP20140609_3,   P10,72,1,14,999,2,20140809,1154,1244, 4.4978,147.6492,3694,1615.7, 2.8148,34.6070,2,100.1,2,34.6054,4, 99.94,2,125.28,2,38.93,2,0.00,2,2.76,2, -999,9, -999,9,-999.0,9,-999.0,9,-999.0,9,-999,-999,9,-999,9, 2.6995,2,27.5983,2, 2.8149,2
49UP20140609_3,   P10,72,1,13,667,2,20140809,1154,1239, 4.4978,147.6492,3694,1818.6, 2.5785,34.6178,2,105.6,2,34.6152,4,105.38,2,129.54,2,38.68,2,0.00,2,2.74,2, -999,9, -999,9,-999.0,9,-999.0,9,-999.0,9,-999,-999,9,-999,9, 2.4490,2,27.6286,2, 2.5784,2
49UP20140609_3,   P10,72,1,12,74,2,20140809,1154,1233, 4.4978,147.6492,3694,2021.0, 2.2822,34.6326,2,110.2,2,34.6313,2,110.08,2,136.66,2,38.58,2,0.00,2,2.72,2, -999,9, -999,9,-999.0,9,-999.0,9,-999.0,9,-999,-999,9,-999,9, 2.1397,2,27.6661,2, 2.2820,2
49UP20140609_3,   P10,72,1,11,268,2,20140809,1154,1228, 4.4978,147.6492,3694,2224.5, 2.0265,34.6457,2,117.7,2,34.6453,2,117.49,2,140.99,2,38.08,2,0.00,2,2.68,2, -999,9, -999,9,-999.0,9,-999.0,9,-999.0,9,-999,-999,9,-999,9, 1.8704,2,27.6980,2, 2.0265,2
49UP20140609_3,   P10,72,1,10,267,2,20140809,1154,1223, 4.4978,147.6492,3694,2427.6, 1.7936,34.6585,2,128.0,2,34.6572,6,127.82,2,143.44,2,37.48,2,0.00,2,2.63,2, -999,9, -999,9,-999.0,9,-999.0,9,-999.0,9,-999,-999,9,-999,9, 1.6236,2,27.7270,2, 1.7937,2
49UP20140609_3,   P10,72,1, 7,516,2,20140809,1154,1219, 4.4978,147.6492,3694,2630.2, 1.6905,34.6645,2,135.4,2,34.6641,2,135.39,2,142.70,2,36.98,2,0.00,2,2.59,2, -999,9, -999,9,-999.0,9,-999.0,9,-999.0,9,-999,-999,9,-999,9, 1.5043,2,27.7406,2, 1.6905,2
49UP20140609_3,   P10,72,1, 8,81,2,20140809,1154,1219, 4.4978,147.6492,3694,2631.4, 1.6908,34.6645,2,135.4,2,34.6631,2,135.13,2,142.95,2,37.00,2,0.00,2,2.59,2, -999,9, -999,9,-999.0,9,-999.0,9,-999.0,9,-999,-999,9,-999,9, 1.5044,2,27.7406,2, 1.6907,2
49UP20140609_3,   P10,72,1, 6,113,2,20140809,1154,1214, 4.4978,147.6492,3694,2834.5, 1.6366,34.6687,2,139.3,2,34.6686,2,139.40,2,142.85,2,36.64,2,0.00,2,2.56,2, -999,9, -999,9,-999.0,9,-999.0,9,-999.0,9,-999,-999,9,-999,9, 1.4325,2,27.7492,2, 1.6364,2
49UP20140609_3,   P10,72,1, 4,77,2,20140809,1154,1209, 4.4978,147.6492,3694,3038.3, 1.5979,34.6720,2,142.6,2,34.6703,2,142.51,2,142.42,2,36.43,2,0.00,2,2.54,2, -999,9, -999,9,-999.0,9,-999.0,9,-999.0,9,-999,-999,9,-999,9, 1.3753,2,27.7560,2, 1.5978,2
49UP20140609_3,   P10,72,1, 5,94,2,20140809,1154,1210, 4.4978,147.6492,3694,3039.4, 1.5966,34.6720,2,142.7,2,34.6715,2,142.50,2,142.46,2,36.48,2,0.00,2,2.55,2, -999,9, -999,9,-999.0,9,-999.0,9,-999.0,9,-999,-999,9,-999,9, 1.3739,2,27.7561,2, 1.5969,2
49UP20140609_3,   P10,72,1, 3,104,2,20140809,1154,1204, 4.4978,147.6492,3694,3292.9, 1.5641,34.6759,2,146.1,2,34.6757,2,146.27,2,142.55,2,36.30,2,0.00,2,2.53,2, -999,9, -999,9,-999.0,9,-999.0,9,-999.0,9,-999,-999,9,-999,9, 1.3173,2,27.7632,2, 1.5640,2
49UP20140609_3,   P10,72,1, 2,75,2,20140809,1154,1159, 4.4978,147.6492,3694,3548.7, 1.5343,34.6797,2,149.5,2,34.6801,6,149.51,2,141.97,2,35.98,2,0.00,2,2.51,2, -999,9, -999,9,-999.0,9,-999.0,9,-999.0,9,-999,-999,9,-999,9, 1.2623,2,27.7701,2, 1.5342,2
49UP20140609_3,   P10,72,1, 1,997,2,20140809,1154,1154, 4.4978,147.6492,3694,3737.9, 1.5270,34.6812,2,151.3,2,34.6811,2,151.27,6,141.70,6,35.88,6,0.00,6,2.50,6, -999,9, -999,9,-999.0,9,-999.0,9,-999.0,9,-999,-999,9,-999,9, 1.2354,2,27.7732,2, 1.5268,2
49UP20140609_3,   P10,73,1, 0,BUC,2,20140809,1920,2050, 4.0082,147.4442,4101,   0.0,29.4418,34.1066,2,196.1,2,34.0988,2,195.88,2,  1.05,2, 0.00,2,0.00,2,0.05,2, -999,9, -999,9,1904.0,2,2237.5,2,8.1330,2,25,0.08,2,0.02,2,29.4412,2,21.2457,2,   -999,9
49UP20140609_3,   P10,73,1,36,109,2,20140809,1920,2109, 4.0082,147.4442,4101,  11.3,29.4510,34.1071,2,196.0,2,34.1054,2,195.73,2,  1.05,2, 0.00,2,0.00,2,0.03,2,1.443,2,0.884,2,1903.5,2,2240.6,2,8.1285,2,25,0.08,2,0.02,2,29.4483,2,21.2437,2,29.4495,2
49UP20140609_3,   P10,73,1,35,112,2,20140809,1920,2108, 4.0082,147.4442,4101,  25.3,29.5112,34.1427,2,195.6,2,34.1431,2,195.53,2,  1.03,2, 0.00,2,0.00,2,0.03,2, -999,9, -999,9,1906.5,2,2242.9,2,8.1326,2,25,0.08,2,0.03,2,29.5050,2,21.2513,2,29.5092,2
49UP20140609_3,   P10,73,1,34,83,2,20140809,1920,2104, 4.0082,147.4442,4101,  50.4,29.4163,34.1853,2,195.6,2,34.1858,2,196.28,2,  1.05,6, 0.00,6,0.00,6,0.04,6,1.443,2,0.889,2,1912.6,2,2246.2,2,8.1339,2,25,0.11,2,0.04,2,29.4040,2,21.3173,2,29.4126,2
49UP20140609_3,   P10,73,1,33,107,2,20140809,1920,2103, 4.0082,147.4442,4101,  73.2,27.1875,34.6250,2,191.6,2,34.6238,2,192.27,2,  1.95,2, 0.00,2,0.00,2,0.12,2, -999,9, -999,9,1966.2,2,2277.0,2,8.0800,2,25,0.22,2,0.16,2,27.1706,2,22.3808,2,27.2049,2
49UP20140609_3,   P10,73,1,32,105,2,20140809,1920,2102, 4.0082,147.4442,4101, 100.7,25.0630,35.0407,2,158.0,2,35.0448,2,158.29,2,  3.11,2, 4.43,2,0.21,2,0.45,2,1.683,6,1.030,6,2031.9,2,2300.9,2,8.0021,2,25,0.36,2,0.63,2,25.0411,2,23.3595,2,25.0604,2
49UP20140609_3,   P10,73,1,31,515,2,20140809,1920,2101, 4.0082,147.4442,4101, 126.0,23.1767,35.0912,2,137.7,2,35.0932,2,138.46,2,  5.32,2, 8.29,2,0.08,2,0.67,2, -999,9, -999,9,2064.2,2,2302.4,2,7.9455,2,25,0.13,2,0.31,2,23.1508,2,23.9592,2,23.1753,2
49UP20140609_3,   P10,73,1,30,97,2,20140809,1920,2100, 4.0082,147.4442,4101, 150.6,19.3373,34.8061,2,139.8,2,34.7936,4,139.52,2,  8.89,2,10.30,2,0.04,2,0.83,2,1.976,2,1.174,2,2095.8,2,2290.4,2,7.8609,2,25,0.05,2,0.18,2,19.3102,2,24.7935,2,19.2687,2
49UP20140609_3,   P10,73,1,29,102,2,20140809,1920,2059, 4.0082,147.4442,4101, 201.7,12.3543,34.5472,2, 91.2,2,34.5443,2, 91.47,2, 25.25,2,24.21,2,0.01,2,1.78,2,1.476,6,0.809,6,2189.7,2,2288.9,2,7.6350,2,25,0.00,2,0.03,2,12.3276,2,26.1745,2,12.3530,2
49UP20140609_3,   P10,73,1,28,108,2,20140809,1920,2057, 4.0082,147.4442,4101, 254.3, 9.7123,34.5659,2, 65.6,2,34.5628,2, 66.04,2, 34.41,2,30.97,2,0.00,2,2.23,2,0.798,2,0.434,2,2229.1,2,2300.9,2,7.5389,2,25,-999,9,-999,9, 9.6834,2,26.6664,2, 9.7114,2
49UP20140609_3,   P10,73,1,27,998,2,20140809,1920,2055, 4.0082,147.4442,4101, 332.7, 8.6518,34.5963,2, 76.3,2,34.5944,2, 80.91,2, 36.67,2,32.11,2,0.00,2,2.28,2,0.571,6,0.310,6,2234.2,2,2306.4,2,7.5437,2,25,-999,9,-999,9, 8.6164,2,26.8626,2, 8.6559,2
49UP20140609_3,   P10,73,1,25,98,2,20140809,1920,2053, 4.0082,147.4442,4101, 383.0, 8.1448,34.5885,2, 81.7,2,34.5883,2, 81.83,2, 38.35,2,33.03,2,0.00,2,2.34,2,0.432,2,0.238,2,2244.7,2,2308.9,2,7.5399,2,25,-999,9,-999,9, 8.1054,2,26.9348,2, 8.1449,2
49UP20140609_3,   P10,73,1,26,84,2,20140809,1920,2053, 4.0082,147.4442,4101, 384.1, 8.1381,34.5885,2, 81.5,2,34.5885,2, 82.06,2, 38.30,2,33.05,2,0.00,2,2.34,2,0.432,2,0.248,2,2244.5,2,2306.6,2,7.5403,2,25,-999,9,-999,9, 8.0986,2,26.9358,2, 8.1384,2
49UP20140609_3,   P10,73,1,24,110,2,20140809,1920,2051, 4.0082,147.4442,4101, 435.7, 7.8199,34.5784,2, 77.0,2,34.5784,2, 77.27,2, 41.18,2,34.06,2,0.00,2,2.41,2,0.329,2,0.187,2,2246.3,2,2309.2,2,7.5262,2,25,-999,9,-999,9, 7.7759,2,26.9759,2, 7.8192,2
49UP20140609_3,   P10,73,1,23,96,2,20140809,1920,2050, 4.0082,147.4442,4101, 482.6, 7.4329,34.5646,2, 73.9,2,34.5642,2, 73.81,2, 45.40,2,35.15,2,0.00,2,2.50,2,0.240,2,0.142,2,2250.8,2,2312.7,2,7.5115,6,25,-999,9,-999,9, 7.3855,2,27.0216,2, 7.4328,2
49UP20140609_3,   P10,73,1,22,111,2,20140809,1920,2048, 4.0082,147.4442,4101, 534.2, 7.0895,34.5518,2, 79.6,2,34.5517,2, 79.04,2, 48.65,2,35.19,2,0.00,2,2.51,2,0.221,2,0.133,2,2259.3,6,2317.5,6,7.5160,2,25,-999,9,-999,9, 7.0382,2,27.0604,2, 7.0891,2
49UP20140609_3,   P10,73,1,21,78,2,20140809,1920,2046, 4.0082,147.4442,4101, 634.1, 6.3017,34.5387,2, 78.3,2,34.5386,6, 78.46,2, 58.24,2,36.77,2,0.00,2,2.63,2,0.132,2,0.075,2,2267.0,2,2326.7,2,7.5018,2,25,-999,9,-999,9, 6.2443,2,27.1568,2, 6.3013,2
49UP20140609_3,   P10,73,1,20,93,2,20140809,1920,2033, 4.0082,147.4442,4101, 736.2, 5.7387,34.5359,2, 88.3,2,34.5358,2, 88.02,2, 62.79,2,37.10,2,0.00,2,2.64,2,0.110,2,0.062,2,2270.2,2,2330.5,2,7.5112,2,25,-999,9,-999,9, 5.6745,2,27.2267,2, 5.7384,2
49UP20140609_3,   P10,73,1,19,92,2,20140809,1920,2031, 4.0082,147.4442,4101, 836.4, 5.2351,34.5388,2, 88.6,2,34.5390,2, 88.46,2, 73.40,2,37.42,2,0.00,2,2.67,2,0.066,2,0.045,2,2280.8,2,2343.4,2,7.5105,2,25,-999,9,-999,9, 5.1648,2,27.2904,2, 5.2351,2
49UP20140609_3,   P10,73,1,18,101,2,20140809,1920,2028, 4.0082,147.4442,4101, 936.8, 4.8391,34.5457,2, 91.0,2,34.5458,2, 90.69,2, 80.65,2,37.69,2,0.00,2,2.69,2,0.051,2,0.031,2,2290.6,2,2350.0,2,7.5088,2,25,-999,9,-999,9, 4.7626,2,27.3422,2, 4.8384,2
49UP20140609_3,   P10,73,1,17,90,2,20140809,1920,2028, 4.0082,147.4442,4101, 937.0, 4.8403,34.5456,2, 91.0,2,34.5459,2, 90.65,2, 80.74,2,37.68,2,0.00,2,2.69,2,0.054,2,0.031,2,2287.5,2,2349.5,2,7.5073,2,25,-999,9,-999,9, 4.7638,2,27.3420,2, 4.8387,2
49UP20140609_3,   P10,73,1,16,89,2,20140809,1920,2025, 4.0082,147.4442,4101,1079.9, 4.1478,34.5628,2, 92.9,2,34.5627,2, 92.54,2, 95.13,2,38.17,2,0.00,2,2.73,2,0.023,2,0.020,2,2305.1,2,2369.6,3,7.5100,2,25,-999,9,-999,9, 4.0642,2,27.4317,2, 4.1477,2
49UP20140609_3,   P10,73,1,15,88,2,20140809,1920,2020, 4.0082,147.4442,4101,1281.5, 3.5287,34.5809,2, 96.5,2,34.5809,2, 96.51,6,108.11,6,38.53,6,0.00,6,2.75,6,0.009,2,0.010,2,2316.8,2,2380.0,2,7.5099,2,25,-999,9,-999,9, 3.4335,2,27.5097,2, 3.5283,2
49UP20140609_3,   P10,73,1,14,999,2,20140809,1920,2015, 4.0082,147.4442,4101,1484.6, 3.0444,34.5978,2, 99.2,2,34.5976,2, 99.01,2,119.11,2,38.72,2,0.00,2,2.76,2,0.002,2,0.004,2,2331.3,2,2391.1,2,7.5133,2,25,-999,9,-999,9, 2.9373,2,27.5698,2, 3.0448,2
49UP20140609_3,   P10,73,1,13,667,2,20140809,1920,2011, 4.0082,147.4442,4101,1686.3, 2.7224,34.6116,2,105.0,2,34.6116,2,104.72,2,125.39,2,38.46,2,0.00,2,2.74,2,0.000,2,0.002,2,2331.6,2,2397.2,2,7.5209,2,25,-999,9,-999,9, 2.6022,2,27.6105,2, 2.7223,2
49UP20140609_3,   P10,73,1,12,74,2,20140809,1920,2006, 4.0082,147.4442,4101,1889.3, 2.4055,34.6260,2,109.9,2,34.6256,6,109.58,2,132.71,2,38.35,2,0.00,2,2.71,2, -999,9, -999,9,2336.7,2,2405.9,2,7.5282,6,25,-999,9,-999,9, 2.2724,2,27.6500,2, 2.4054,2
49UP20140609_3,   P10,73,1,11,268,2,20140809,1920,2002, 4.0082,147.4442,4101,2092.2, 2.1849,34.6378,2,112.9,2,34.6372,2,112.87,2,138.18,2,38.29,2,0.00,2,2.71,2, -999,9, -999,9,2340.9,6,2411.2,6,7.5287,2,25,-999,9,-999,9, 2.0377,2,27.6785,2, 2.1848,2
49UP20140609_3,   P10,73,1,10,267,2,20140809,1920,1958, 4.0082,147.4442,4101,2293.5, 2.0177,34.6467,2,118.7,2,34.6466,2,118.78,2,141.04,2,37.98,2,0.00,2,2.67,2, -999,9, -999,9,2339.3,2,2414.1,2,7.5389,2,25,-999,9,-999,9, 1.8557,2,27.7000,2, 2.0179,2
49UP20140609_3,   P10,73,1, 9,518,2,20140809,1920,1954, 4.0082,147.4442,4101,2496.9, 1.8239,34.6573,2,127.4,2,34.6572,2,127.50,2,142.84,2,37.41,2,0.00,2,2.62,2,0.000,2,0.002,2,2339.8,2,2415.8,2,7.5497,2,25,-999,9,-999,9, 1.6472,2,27.7243,2, 1.8239,2
49UP20140609_3,   P10,73,1, 8,81,2,20140809,1920,1954, 4.0082,147.4442,4101,2498.0, 1.8232,34.6574,2,127.5,2,34.6570,2,127.50,2,142.92,2,37.42,2,0.00,2,2.63,2,0.000,2,0.000,2,2337.4,2,2415.5,2,7.5528,2,25,-999,9,-999,9, 1.6463,2,27.7244,2, 1.8232,2
49UP20140609_3,   P10,73,1, 7,516,2,20140809,1920,1950, 4.0082,147.4442,4101,2700.8, 1.6996,34.6642,2,135.2,2,34.6642,2,135.78,2,143.01,2,36.87,2,0.00,2,2.58,2, -999,9, -999,9,2334.8,2,2416.3,2,7.5611,2,25,-999,9,-999,9, 1.5067,2,27.7402,2, 1.6997,2
49UP20140609_3,   P10,73,1, 6,113,2,20140809,1920,1946, 4.0082,147.4442,4101,2905.1, 1.6392,34.6686,2,139.8,2,34.6686,6,139.89,6,142.56,6,36.58,6,0.00,6,2.55,6, -999,9, -999,9,2331.4,2,2415.7,2,7.5737,2,25,-999,9,-999,9, 1.4284,2,27.7494,2, 1.6392,2
49UP20140609_3,   P10,73,1, 5,94,2,20140809,1920,1941, 4.0082,147.4442,4101,3120.0, 1.5917,34.6728,2,143.5,2,34.6728,6,143.65,2,142.48,2,36.34,2,0.00,2,2.53,2,0.000,2,0.002,2,2328.7,2,2417.8,2,7.5646,3,25,-999,9,-999,9, 1.3614,2,27.7576,2, 1.5916,2
49UP20140609_3,   P10,73,1, 4,77,2,20140809,1920,1936, 4.0082,147.4442,4101,3375.7, 1.5504,34.6770,2,147.1,2,34.6773,2,147.25,2,142.45,2,36.08,2,0.00,2,2.51,2,0.000,2,0.000,2,2331.7,2,2418.6,2,7.5873,2,25,-999,9,-999,9, 1.2956,2,27.7656,2, 1.5503,2
49UP20140609_3,   P10,73,1, 3,104,2,20140809,1920,1931, 4.0082,147.4442,4101,3631.4, 1.5407,34.6796,2,149.4,2,34.6804,2,150.22,2,141.93,2,35.96,2,0.00,2,2.50,2, -999,9, -999,9,2325.4,2,2418.4,2,7.6031,3,25,-999,9,-999,9, 1.2599,2,27.7702,2, 1.5405,2
49UP20140609_3,   P10,73,1, 2,75,2,20140809,1920,1926, 4.0082,147.4442,4101,3887.5, 1.5317,34.6820,2,152.2,2,34.6818,2,152.07,2,141.60,2,35.74,2,0.00,2,2.49,2, -999,9, -999,9,2323.1,2,2418.9,2,7.5965,2,25,-999,9,-999,9, 1.2241,2,27.7746,2, 1.5317,2
49UP20140609_3,   P10,73,1, 1,997,2,20140809,1920,1920, 4.0082,147.4442,4101,4147.8, 1.5274,34.6843,2,154.5,2,34.6843,2,154.41,2,140.86,2,35.57,2,0.00,2,2.48,2,0.005,3,0.000,3,2322.1,6,2419.5,6,7.5989,2,25,-999,9,-999,9, 1.1915,2,27.7787,2, 1.5272,2