BOTTLE,20230725CCHSIOADS
EXPOCODE,SECT_ID,STNNBR,CASTNO,SAMPNO,BTLNBR,BTLNBR_FLAG_W,DATE,TIME,BTL_TIME,LATITUDE,LONGITUDE,DEPTH,CTDPRS,CTDTMP,CTDSAL,CTDSAL_FLAG_W,CTDOXY,CTDOXY_FLAG_W,SALNTY,SALNTY_FLAG_W,OXYGEN,OXYGEN_FLAG_W,SILCAT,SILCAT_FLAG_W,NO2+NO3,NO2+NO3_FLAG_W,NITRIT,NITRIT_FLAG_W,PHSPHT,PHSPHT_FLAG_W,CFC-11,CFC-11_FLAG_W,CFC-12,CFC-12_FLAG_W,TCARBN,TCARBN_FLAG_W,ALKALI,ALKALI_FLAG_W,PH_TOT,PH_TOT_FLAG_W,PH_TMP,CHLORA,CHLORA_FLAG_W,PPHYTN,PPHYTN_FLAG_W,THETA,THETA_FLAG_W,SIG0,SIG0_FLAG_W,REFTMP,REFTMP_FLAG_W
,,,,,,,,,,,,METERS,DBAR,ITS-90,PSS-78,,UMOL/KG,,PSS-78,,UMOL/KG,,UMOL/KG,,UMOL/KG,,UMOL/KG,,UMOL/KG,,PMOL/KG,,PMOL/KG,,UMOL/KG,,UMOL/KG,,,,DEG C,UG/KG,,UG/KG,,ITS-90,,KG/M^3,,ITS-90,
49UP20140609_2,   P10,28,1, 0,BUC,2,20140707,1609,1811,31.1563,149.3398,5997,   0.0,22.9731,34.0095,2,219.5,2,34.0080,2,219.81,2,  1.27,2, 0.00,2,0.00,2,0.03,2, -999,9, -999,9,1961.9,2,2235.0,2,8.0267,2,25,0.11,2,0.03,2,22.9726,2,23.1904,2,   -999,9
49UP20140609_2,   P10,28,1,36,109,2,20140707,1609,1835,31.1563,149.3398,5997,  10.8,22.5897,34.0077,2,220.3,2,34.0133,2,220.39,2,  1.47,2, 0.00,2,0.00,2,0.02,2, -999,9, -999,9,1961.9,2,2233.3,2,8.0274,2,25,0.10,2,0.04,2,22.5875,2,23.2988,2,22.5923,2
49UP20140609_2,   P10,28,1,35,112,2,20140707,1609,1831,31.1563,149.3398,5997,  51.2,16.9977,34.5702,2,249.3,2,34.5702,2,249.55,2,  1.60,2, 0.00,2,0.00,2,0.05,2, -999,9, -999,9,1994.5,2,2270.7,2,8.0194,2,25,0.18,2,0.12,2,16.9893,2,25.1869,2,17.0095,2
49UP20140609_2,   P10,28,1,34,83,2,20140707,1609,1829,31.1563,149.3398,5997, 101.6,16.2425,34.6329,2,217.4,2,34.6323,2,217.51,6,  5.99,6, 5.33,6,0.02,6,0.37,6, -999,9, -999,9,2037.1,2,2275.6,2,7.9488,2,25,0.10,2,0.06,2,16.2264,2,25.4133,2,16.2423,2
49UP20140609_2,   P10,28,1,33,107,2,20140707,1609,1827,31.1563,149.3398,5997, 149.6,15.1567,34.5587,2,197.9,2,34.5549,2,198.76,2, 10.62,2, 9.16,2,0.02,2,0.63,2, -999,9, -999,9,2072.6,2,2275.6,2,7.8905,2,25,0.01,2,0.02,2,15.1340,2,25.6022,2,15.1475,2
49UP20140609_2,   P10,28,1,32,105,2,20140707,1609,1826,31.1563,149.3398,5997, 202.5,13.6110,34.4474,2,186.7,2,34.4434,2,188.15,2, 15.65,2,12.51,2,0.02,2,0.87,2, -999,9, -999,9,2096.4,2,2275.0,2,7.8330,2,25,0.00,2,0.03,2,13.5824,2,25.8467,2,13.6110,2
49UP20140609_2,   P10,28,1,31,515,2,20140707,1609,1824,31.1563,149.3398,5997, 252.7,12.0122,34.3325,2,185.1,2,34.3282,2,185.39,2, 20.57,2,15.03,2,0.00,2,1.06,2, -999,9, -999,9,2115.0,2,2274.1,2,7.7906,2,25,-999,9,-999,9,11.9793,2,26.0745,2,12.0088,2
49UP20140609_2,   P10,28,1,30,97,2,20140707,1609,1822,31.1563,149.3398,5997, 282.2,11.3324,34.2846,2,183.9,2,34.2923,2,183.74,2, 22.90,2,15.98,2,0.00,2,1.13,2, -999,9, -999,9,2123.7,2,2275.1,2,7.7777,2,25,-999,9,-999,9,11.2971,2,26.1645,2,11.3724,2
49UP20140609_2,   P10,28,1,29,102,2,20140707,1609,1820,31.1563,149.3398,5997, 373.3, 8.9687,34.1238,2,177.4,2,34.1233,2,179.30,2, 33.75,2,20.55,2,0.01,2,1.49,2, -999,9, -999,9,2158.3,2,2276.9,2,7.6923,6,25,-999,9,-999,9, 8.9283,2,26.4434,2, 8.9633,2
49UP20140609_2,   P10,28,1,28,108,2,20140707,1609,1817,31.1563,149.3398,5997, 473.7, 6.5142,33.9870,2,157.6,2,33.9926,2,158.52,2, 51.99,2,26.92,2,0.00,2,1.98,2, -999,9, -999,9,2203.6,6,2285.3,6,7.5864,2,25,-999,9,-999,9, 6.4714,2,26.6917,2, 6.5078,2
49UP20140609_2,   P10,28,1,27,998,2,20140707,1609,1815,31.1563,149.3398,5997, 574.9, 5.1286,34.0183,2,112.3,2,34.0197,2,112.77,2, 74.99,2,33.70,2,0.00,2,2.46,2, -999,9, -999,9,2258.6,2,2303.9,2,7.4716,2,25,-999,9,-999,9, 5.0824,2,26.8875,2, 5.1285,2
49UP20140609_2,   P10,28,1,26,84,2,20140707,1609,1812,31.1563,149.3398,5997, 675.2, 4.5809,34.1165,2, 76.6,2,34.1175,2, 76.58,2, 92.37,2,37.63,2,0.00,2,2.72,2, -999,9, -999,9,2298.0,2,2320.7,2,7.4098,2,25,-999,9,-999,9, 4.5288,2,27.0274,2, 4.5808,2
49UP20140609_2,   P10,28,1,25,98,2,20140707,1609,1810,31.1563,149.3398,5997, 777.4, 4.2138,34.1989,2, 59.0,2,34.1993,2, 59.08,2,104.75,2,39.39,2,0.00,2,2.85,2, -999,9, -999,9,2317.2,2,2336.9,2,7.3856,2,25,-999,9,-999,9, 4.1554,2,27.1327,2, 4.2139,2
49UP20140609_2,   P10,28,1,24,110,2,20140707,1609,1807,31.1563,149.3398,5997, 877.4, 3.7941,34.2725,2, 47.3,2,34.2742,2, 47.13,6,117.08,6,40.63,6,0.00,6,2.94,6, -999,9, -999,9,2335.2,2,2348.8,2,7.3665,2,25,-999,9,-999,9, 3.7303,2,27.2348,2, 3.7929,2
49UP20140609_2,   P10,28,1,23,96,2,20140707,1609,1805,31.1563,149.3398,5997, 978.9, 3.4359,34.3329,2, 41.0,2,34.3337,2, 40.94,2,127.02,2,41.64,2,0.00,2,3.00,2, -999,9, -999,9,2350.4,2,2363.3,2,7.3621,2,25,-999,9,-999,9, 3.3666,2,27.3184,2, 3.4357,2
49UP20140609_2,   P10,28,1,22,111,2,20140707,1609,1801,31.1563,149.3398,5997,1143.2, 3.0355,34.3997,2, 37.3,2,34.4000,6, 36.89,2,138.60,2,42.52,2,0.00,2,3.05,2, -999,9, -999,9,2369.9,2,2378.6,2,7.3564,2,25,-999,9,-999,9, 2.9565,2,27.4098,2, 3.0356,2
49UP20140609_2,   P10,28,1,21,78,2,20140707,1609,1756,31.1563,149.3398,5997,1343.9, 2.6200,34.4713,2, 40.0,2,34.4709,2, 39.75,2,150.03,2,42.58,2,0.00,2,3.05,2, -999,9, -999,9,2379.3,2,2391.5,2,7.3661,2,25,-999,9,-999,9, 2.5292,2,27.5046,2, 2.6199,2
49UP20140609_2,   P10,28,1,20,93,2,20140707,1609,1751,31.1563,149.3398,5997,1548.5, 2.3537,34.5203,2, 47.6,2,34.5196,6, 47.24,2,156.26,2,42.41,2,0.00,2,3.02,2, -999,9, -999,9,2382.9,2,2399.8,2,7.3829,2,25,-999,9,-999,9, 2.2497,2,27.5672,2, 2.3535,2
49UP20140609_2,   P10,28,1,19,92,2,20140707,1609,1746,31.1563,149.3398,5997,1750.5, 2.1204,34.5635,2, 61.3,2,34.5640,2, 61.00,2,160.21,2,41.60,2,0.00,2,2.96,2, -999,9, -999,9,2382.0,2,2407.6,2,7.4151,2,25,-999,9,-999,9, 2.0030,2,27.6217,2, 2.1203,2
49UP20140609_2,   P10,28,1,18,101,2,20140707,1609,1742,31.1563,149.3398,5997,1954.6, 1.9387,34.5954,2, 77.0,2,34.5951,2, 77.09,2,160.91,2,40.67,2,0.00,2,2.88,2, -999,9, -999,9,2370.2,2,2411.6,2,7.4456,2,25,-999,9,-999,9, 1.8071,2,27.6625,2, 1.9387,2
49UP20140609_2,   P10,28,1,17,90,2,20140707,1609,1737,31.1563,149.3398,5997,2157.2, 1.8017,34.6189,2, 92.3,2,34.6206,2, 92.23,2,160.02,2,39.78,2,0.00,2,2.81,2, -999,9, -999,9,2362.0,2,2414.7,2,7.4748,6,25,-999,9,-999,9, 1.6552,2,27.6929,2, 1.8015,2
49UP20140609_2,   P10,28,1,16,89,3,20140707,1609,1732,31.1563,149.3398,5997,2359.8, 1.7129,34.6337,2,103.1,2,34.6336,2,103.22,2,158.99,2,38.95,2,0.00,2,2.76,2, -999,9, -999,9,2356.4,6,2416.8,6,7.4923,2,25,-999,9,-999,9, 1.5504,2,27.7125,2, 1.7130,2
49UP20140609_2,   P10,28,1,15,88,2,20140707,1609,1728,31.1563,149.3398,5997,2563.8, 1.6366,34.6463,2,113.7,2,34.6476,2,114.28,6,157.44,6,38.39,6,0.00,6,2.71,6, -999,9, -999,9,2353.7,2,2416.0,2,7.5153,2,25,-999,9,-999,9, 1.4575,2,27.7294,2, 1.6366,2
49UP20140609_2,   P10,28,1,14,999,2,20140707,1609,1723,31.1563,149.3398,5997,2767.7, 1.5981,34.6544,2,121.5,2,34.6552,2,121.71,2,155.42,2,37.83,2,0.00,2,2.67,2, -999,9, -999,9,2351.7,2,2416.3,2,7.5278,2,25,-999,9,-999,9, 1.4011,2,27.7400,2, 1.5980,2
49UP20140609_2,   P10,28,1,13,667,4,20140707,1609,1719,31.1563,149.3398,5997,2972.1, 1.5610,34.6610,2,128.2,2,34.5643,4, 61.79,4,160.14,4,41.64,4,0.00,4,2.96,4, -999,9, -999,9,2378.8,4,2406.8,4,7.4190,4,25,-999,9,-999,9, 1.3456,2,27.7492,2, 1.5610,2
49UP20140609_2,   P10,28,1,12,74,2,20140707,1609,1713,31.1563,149.3398,5997,3217.2, 1.5276,34.6671,2,134.0,2,34.6681,2,134.01,2,153.03,2,37.10,2,0.00,2,2.60,2, -999,9, -999,9,2354.3,3,2417.7,2,7.5485,2,25,-999,9,-999,9, 1.2892,2,27.7581,2, 1.5276,2
49UP20140609_2,   P10,28,1,11,268,2,20140707,1609,1708,31.1563,149.3398,5997,3472.2, 1.5065,34.6720,2,139.2,2,34.6712,2,138.58,2,151.95,2,36.78,2,0.00,2,2.58,2, -999,9, -999,9,2336.0,2,2417.0,2,7.5580,2,25,-999,9,-999,9, 1.2431,2,27.7653,2, 1.5065,2
49UP20140609_2,   P10,28,1,10,267,2,20140707,1609,1702,31.1563,149.3398,5997,3728.7, 1.4885,34.6769,2,145.0,2,34.6778,2,144.95,2,150.10,2,36.40,2,0.00,2,2.55,2, -999,9, -999,9,2337.0,2,2415.5,2,7.5720,2,25,-999,9,-999,9, 1.1990,2,27.7722,2, 1.4885,2
49UP20140609_2,   P10,28,1, 9,518,2,20140707,1609,1657,31.1563,149.3398,5997,3983.7, 1.4755,34.6807,2,149.6,2,34.6753,4,147.94,3,148.61,2,36.09,2,0.00,2,2.53,2, -999,9, -999,9,2330.1,2,2414.9,2,7.5758,6,25,-999,9,-999,9, 1.1591,2,27.7781,2, 1.4755,2
49UP20140609_2,   P10,28,1, 8,81,2,20140707,1609,1651,31.1563,149.3398,5997,4241.8, 1.4719,34.6838,2,153.2,2,34.6845,2,153.37,2,147.99,2,35.84,2,0.00,2,2.51,2, -999,9, -999,9,2325.4,6,2414.7,6,7.5842,2,25,-999,9,-999,9, 1.1271,2,27.7827,2, 1.4719,2
49UP20140609_2,   P10,28,1, 7,516,2,20140707,1609,1646,31.1563,149.3398,5997,4499.3, 1.4816,34.6857,2,155.7,2,34.6866,2,156.87,3,147.40,3,35.60,2,0.00,2,2.49,2, -999,9, -999,9,2322.1,2,2414.0,2,7.5811,3,25,-999,9,-999,9, 1.1073,2,27.7856,2, 1.4815,2
49UP20140609_2,   P10,28,1, 6,113,2,20140707,1609,1640,31.1563,149.3398,5997,4755.5, 1.4929,34.6880,2,159.7,2,34.6882,2,159.45,2,144.23,2,35.33,2,0.00,2,2.47,2, -999,9, -999,9,2321.7,2,2412.3,2,7.5907,2,25,-999,9,-999,9, 1.0882,2,27.7887,2, 1.4930,2
49UP20140609_2,   P10,28,1, 5,94,2,20140707,1609,1634,31.1563,149.3398,5997,5012.8, 1.5078,34.6896,2,162.3,2,34.6900,2,162.11,2,142.31,2,35.06,2,0.00,2,2.46,2, -999,9, -999,9,2320.1,2,2411.5,2,7.5950,2,25,-999,9,-999,9, 1.0718,2,27.7911,2, 1.5079,2
49UP20140609_2,   P10,28,1, 4,77,2,20140707,1609,1629,31.1563,149.3398,5997,5269.2, 1.5305,34.6904,2,163.9,2,34.6906,2,163.77,6,141.34,6,35.03,6,0.00,6,2.45,6, -999,9, -999,9,2318.0,2,2410.2,2,7.5964,2,25,-999,9,-999,9, 1.0620,2,27.7924,2, 1.5304,2
49UP20140609_2,   P10,28,1, 3,104,2,20140707,1609,1624,31.1563,149.3398,5997,5527.3, 1.5512,34.6917,2,166.1,2,34.6916,2,166.23,2,139.82,2,34.92,2,0.00,2,2.43,2, -999,9, -999,9,2311.9,2,2407.3,2,7.5995,2,25,-999,9,-999,9, 1.0493,2,27.7944,2, 1.5513,2
49UP20140609_2,   P10,28,1, 2,75,2,20140707,1609,1618,31.1563,149.3398,5997,5785.5, 1.5779,34.6925,2,167.5,2,34.6925,6,167.60,2,138.47,2,34.67,2,0.00,2,2.42,2, -999,9, -999,9,2312.2,2,2408.2,2,7.6021,2,25,-999,9,-999,9, 1.0414,2,27.7955,2, 1.5779,2
49UP20140609_2,   P10,28,1, 1,997,2,20140707,1609,1609,31.1563,149.3398,5997,6127.8, 1.6147,34.6934,2,169.2,2,34.6936,2,169.02,2,137.09,2,34.63,2,0.00,2,2.42,2, -999,9, -999,9,2312.6,2,2407.3,2,7.6033,2,25,-999,9,-999,9, 1.0311,2,27.7969,2, 1.6147,2
49UP20140609_2,   P10,29,1, 0,BUC,2,20140707,2359, 203,30.5012,149.3770,6096,   0.0,22.6189,34.2137,2,221.1,2,   -999,9,221.36,2,  1.60,2, 0.00,2,0.00,2,0.02,2, -999,9, -999,9,-999.0,9,-999.0,9,-999.0,9,-999,-999,9,-999,9,22.6185,2,23.4463,2,   -999,9
49UP20140609_2,   P10,29,1,36,109,2,20140707,2359, 231,30.5012,149.3770,6096,  11.2,22.2699,34.2550,2,222.1,2,34.2556,2,222.73,2,  1.60,2, 0.00,2,0.00,2,0.01,2, -999,9, -999,9,-999.0,9,-999.0,9,-999.0,9,-999,-999,9,-999,9,22.2677,2,23.5768,2,22.2716,2
49UP20140609_2,   P10,29,1,35,112,2,20140707,2359, 226,30.5012,149.3770,6096,  49.2,18.5349,34.6957,2,247.0,2,34.6866,2,245.81,2,  1.49,2, 0.00,2,0.00,2,0.03,2, -999,9, -999,9,-999.0,9,-999.0,9,-999.0,9,-999,-999,9,-999,9,18.5263,2,24.9083,2,18.5594,2
49UP20140609_2,   P10,29,1,34,83,2,20140707,2359, 225,30.5012,149.3770,6096, 102.7,16.9543,34.6727,2,228.1,2,34.6710,2,228.45,2,  3.11,2, 2.32,2,0.24,2,0.28,4, -999,9, -999,9,-999.0,9,-999.0,9,-999.0,9,-999,-999,9,-999,9,16.9375,2,25.2779,2,16.9539,2
49UP20140609_2,   P10,29,1,33,107,2,20140707,2359, 223,30.5012,149.3770,6096, 153.0,16.6371,34.6488,2,227.2,2,34.6481,2,227.60,2,  3.79,2, 3.30,2,0.02,2,0.24,2, -999,9, -999,9,-999.0,9,-999.0,9,-999.0,9,-999,-999,9,-999,9,16.6123,2,25.3360,2,16.6367,2
49UP20140609_2,   P10,29,1,32,105,2,20140707,2359, 221,30.5012,149.3770,6096, 202.2,16.5060,34.6562,2,222.4,2,34.6553,2,223.49,2,  4.89,2, 4.27,2,0.02,2,0.30,2, -999,9, -999,9,-999.0,9,-999.0,9,-999.0,9,-999,-999,9,-999,9,16.4734,2,25.3740,2,16.5064,2
49UP20140609_2,   P10,29,1,31,515,2,20140707,2359, 219,30.5012,149.3770,6096, 253.8,15.9164,34.6309,2,204.9,2,34.6297,2,205.99,6,  7.27,6, 6.93,6,0.01,6,0.47,6, -999,9, -999,9,-999.0,9,-999.0,9,-999.0,9,-999,-999,9,-999,9,15.8764,2,25.4918,2,15.9164,2
49UP20140609_2,   P10,29,1,30,97,2,20140707,2359, 217,30.5012,149.3770,6096, 305.0,15.0428,34.5508,2,200.4,2,34.5645,2,200.55,2,  9.85,2, 8.80,2,0.01,2,0.61,2, -999,9, -999,9,-999.0,9,-999.0,9,-999.0,9,-999,-999,9,-999,9,14.9965,2,25.6264,2,15.0348,2
49UP20140609_2,   P10,29,1,29,102,2,20140707,2359, 214,30.5012,149.3770,6096, 406.3,11.9838,34.3284,2,190.1,2,34.3310,2,190.50,2, 19.65,2,14.35,2,0.01,2,1.02,2, -999,9, -999,9,-999.0,9,-999.0,9,-999.0,9,-999,-999,9,-999,9,11.9307,2,26.0806,2,11.9776,2
49UP20140609_2,   P10,29,1,28,108,2,20140707,2359, 211,30.5012,149.3770,6096, 509.5, 9.2282,34.1500,2,177.3,2,34.1505,2,177.81,2, 33.48,2,20.23,2,0.00,2,1.46,2, -999,9, -999,9,-999.0,9,-999.0,9,-999.0,9,-999,-999,9,-999,9, 9.1716,2,26.4251,2, 9.2260,2
49UP20140609_2,   P10,29,1,27,998,2,20140707,2359, 208,30.5012,149.3770,6096, 607.8, 6.5143,33.9927,2,156.7,2,33.9938,2,157.62,2, 52.46,2,27.13,2,0.00,2,1.99,2, -999,9, -999,9,-999.0,9,-999.0,9,-999.0,9,-999,-999,9,-999,9, 6.4589,2,26.6978,2, 6.5110,2
49UP20140609_2,   P10,29,1,26,84,2,20140707,2359, 205,30.5012,149.3770,6096, 706.8, 5.2557,34.0351,2,115.1,2,34.0368,2,115.24,2, 74.31,2,33.12,2,0.00,2,2.42,2, -999,9, -999,9,-999.0,9,-999.0,9,-999.0,9,-999,-999,9,-999,9, 5.1974,2,26.8875,2, 5.2561,2
49UP20140609_2,   P10,29,1,25,98,2,20140707,2359, 202,30.5012,149.3770,6096, 809.8, 4.4436,34.1593,2, 67.9,2,34.1575,2, 68.72,2, 97.72,2,38.35,2,0.00,2,2.77,2, -999,9, -999,9,-999.0,9,-999.0,9,-999.0,9,-999,-999,9,-999,9, 4.3811,2,27.0774,2, 4.4445,2
49UP20140609_2,   P10,29,1,24,110,2,20140707,2359, 159,30.5012,149.3770,6096, 910.2, 3.9157,34.2511,2, 48.7,2,34.2487,6, 49.24,2,113.24,2,40.65,2,0.00,2,2.93,2, -999,9, -999,9,-999.0,9,-999.0,9,-999.0,9,-999,-999,9,-999,9, 3.8484,2,27.2059,2, 3.9158,2
49UP20140609_2,   P10,29,1,23,96,2,20140707,2359, 156,30.5012,149.3770,6096,1012.6, 3.5657,34.3100,2, 41.7,2,34.3085,2, 42.37,6,123.31,6,41.45,6,0.00,6,2.99,6, -999,9, -999,9,-999.0,9,-999.0,9,-999.0,9,-999,-999,9,-999,9, 3.4927,2,27.2880,2, 3.5651,2
49UP20140609_2,   P10,29,1,22,111,2,20140707,2359, 150,30.5012,149.3770,6096,1211.6, 2.9932,34.4147,2, 42.2,2,34.4145,2, 42.61,2,139.44,2,42.04,2,0.00,2,3.02,2, -999,9, -999,9,-999.0,9,-999.0,9,-999.0,9,-999,-999,9,-999,9, 2.9092,2,27.4261,2, 2.9933,2
49UP20140609_2,   P10,29,1,21,78,2,20140707,2359, 145,30.5012,149.3770,6096,1419.3, 2.5704,34.4815,2, 42.0,2,34.4804,2, 42.55,2,151.38,2,42.57,2,0.00,2,3.05,2, -999,9, -999,9,-999.0,9,-999.0,9,-999.0,9,-999,-999,9,-999,9, 2.4741,2,27.5175,2, 2.5701,2
49UP20140609_2,   P10,29,1,20,93,2,20140707,2359, 139,30.5012,149.3770,6096,1621.6, 2.3142,34.5324,2, 51.7,2,34.5306,2, 52.15,2,156.74,2,42.24,2,0.00,2,3.01,2, -999,9, -999,9,-999.0,9,-999.0,9,-999.0,9,-999,-999,9,-999,9, 2.2047,2,27.5806,2, 2.3143,2
49UP20140609_2,   P10,29,1,19,92,2,20140707,2359, 134,30.5012,149.3770,6096,1824.3, 2.1144,34.5659,2, 63.1,2,34.5644,2, 63.22,2,160.16,2,41.60,2,0.00,2,2.95,2, -999,9, -999,9,-999.0,9,-999.0,9,-999.0,9,-999,-999,9,-999,9, 1.9910,2,27.6246,2, 2.1144,2
49UP20140609_2,   P10,29,1,18,101,2,20140707,2359, 128,30.5012,149.3770,6096,2029.0, 1.9160,34.6008,2, 80.0,2,34.6003,2, 80.29,2,161.24,2,40.56,2,0.00,2,2.87,2, -999,9, -999,9,-999.0,9,-999.0,9,-999.0,9,-999,-999,9,-999,9, 1.7785,2,27.6691,2, 1.9158,2
49UP20140609_2,   P10,29,1,17,90,2,20140707,2359, 123,30.5012,149.3770,6096,2233.1, 1.7892,34.6225,2, 95.0,2,34.6226,2, 95.11,2,159.76,2,39.55,2,0.00,2,2.80,2, -999,9, -999,9,-999.0,9,-999.0,9,-999.0,9,-999,-999,9,-999,9, 1.6364,2,27.6972,2, 1.7892,2
49UP20140609_2,   P10,29,1,16,89,2,20140707,2359, 117,30.5012,149.3770,6096,2433.2, 1.7209,34.6353,2,106.0,2,34.6340,6,106.37,2,157.96,2,38.96,2,0.00,2,2.75,2, -999,9, -999,9,-999.0,9,-999.0,9,-999.0,9,-999,-999,9,-999,9, 1.5518,2,27.7137,2, 1.7208,2
49UP20140609_2,   P10,29,1,15,88,2,20140707,2359, 113,30.5012,149.3770,6096,2636.6, 1.6621,34.6456,2,114.9,2,34.6456,2,115.19,2,156.23,2,38.36,2,0.00,2,2.70,2, -999,9, -999,9,-999.0,9,-999.0,9,-999.0,9,-999,-999,9,-999,9, 1.4759,2,27.7275,2, 1.6621,2
49UP20140609_2,   P10,29,1,14,999,2,20140707,2359, 108,30.5012,149.3770,6096,2840.9, 1.6009,34.6550,2,122.2,2,34.6547,2,122.72,2,155.44,2,37.85,2,0.00,2,2.67,2, -999,9, -999,9,-999.0,9,-999.0,9,-999.0,9,-999,-999,9,-999,9, 1.3970,2,27.7407,2, 1.6007,2
49UP20140609_2,   P10,29,1,13,667,2,20140707,2359, 103,30.5012,149.3770,6096,3048.9, 1.5615,34.6618,2,128.7,2,34.6606,2,128.65,6,154.13,6,37.44,6,0.00,6,2.63,6, -999,9, -999,9,-999.0,9,-999.0,9,-999.0,9,-999,-999,9,-999,9, 1.3387,2,27.7504,2, 1.5614,2
49UP20140609_2,   P10,29,1,12,74,2,20140707,2359,  56,30.5012,149.3770,6096,3302.2, 1.5277,34.6683,2,135.0,2,34.6683,2,135.26,2,153.09,2,37.10,2,0.00,2,2.60,2, -999,9, -999,9,-999.0,9,-999.0,9,-999.0,9,-999,-999,9,-999,9, 1.2809,2,27.7596,2, 1.5278,2
49UP20140609_2,   P10,29,1,11,268,4,20140707,2359,  51,30.5012,149.3770,6096,3555.1, 1.5068,34.6735,2,140.7,2,   -999,9,-999.0,9,-999.0,9, -999,9,-999,9,-999,9, -999,9, -999,9,-999.0,9,-999.0,9,-999.0,9,-999,-999,9,-999,9, 1.2349,2,27.7670,2, 1.5069,2
49UP20140609_2,   P10,29,1,10,267,2,20140707,2359,  46,30.5012,149.3770,6096,3809.6, 1.4841,34.6783,2,146.5,2,34.6784,6,146.91,2,149.83,2,36.27,2,0.00,2,2.54,2, -999,9, -999,9,-999.0,9,-999.0,9,-999.0,9,-999,-999,9,-999,9, 1.1861,2,27.7742,2, 1.4841,2
49UP20140609_2,   P10,29,1, 9,518,2,20140707,2359,  41,30.5012,149.3770,6096,4065.5, 1.4794,34.6813,2,150.1,2,34.6795,4,149.43,2,149.39,2,36.14,2,0.00,2,2.53,2, -999,9, -999,9,-999.0,9,-999.0,9,-999.0,9,-999,-999,9,-999,9, 1.1540,2,27.7789,2, 1.4794,2
49UP20140609_2,   P10,29,1, 8,81,2,20140707,2359,  36,30.5012,149.3770,6096,4323.6, 1.4808,34.6841,2,153.8,2,34.6842,2,153.84,2,147.67,2,35.83,2,0.00,2,2.50,2, -999,9, -999,9,-999.0,9,-999.0,9,-999.0,9,-999,-999,9,-999,9, 1.1266,2,27.7830,2, 1.4808,2
49UP20140609_2,   P10,29,1, 7,516,2,20140707,2359,  31,30.5012,149.3770,6096,4581.9, 1.4863,34.6866,2,157.2,2,34.6867,2,157.73,6,146.46,6,35.60,6,0.00,6,2.49,6, -999,9, -999,9,-999.0,9,-999.0,9,-999.0,9,-999,-999,9,-999,9, 1.1023,2,27.7866,2, 1.4862,2
49UP20140609_2,   P10,29,1, 6,113,2,20140707,2359,  25,30.5012,149.3770,6096,4839.9, 1.4983,34.6883,2,159.7,2,34.6883,2,160.24,2,145.12,2,35.38,2,0.00,2,2.47,2, -999,9, -999,9,-999.0,9,-999.0,9,-999.0,9,-999,-999,9,-999,9, 1.0834,2,27.7893,2, 1.4983,2
49UP20140609_2,   P10,29,1, 5,94,4,20140707,2359,  20,30.5012,149.3770,6096,5094.5, 1.5143,34.6899,2,162.4,2,34.6870,4,158.76,4,145.56,4,35.50,4,0.00,4,2.48,4, -999,9, -999,9,-999.0,9,-999.0,9,-999.0,9,-999,-999,9,-999,9, 1.0680,2,27.7916,2, 1.5142,2
49UP20140609_2,   P10,29,1, 4,77,2,20140707,2359,  15,30.5012,149.3770,6096,5352.9, 1.5349,34.6910,2,164.3,2,34.6906,2,164.63,2,141.66,2,35.11,2,0.00,2,2.45,2, -999,9, -999,9,-999.0,9,-999.0,9,-999.0,9,-999,-999,9,-999,9, 1.0558,2,27.7933,2, 1.5349,2
49UP20140609_2,   P10,29,1, 3,104,2,20140707,2359,  10,30.5012,149.3770,6096,5608.2, 1.5579,34.6920,2,166.2,2,34.6910,2,165.33,2,140.53,2,34.98,2,0.00,2,2.44,2, -999,9, -999,9,-999.0,9,-999.0,9,-999.0,9,-999,-999,9,-999,9, 1.0453,2,27.7948,2, 1.5579,2
49UP20140609_2,   P10,29,1, 2,75,2,20140707,2359,   6,30.5012,149.3770,6096,5864.4, 1.5827,34.6928,2,167.5,2,34.6925,2,167.89,2,139.03,2,34.78,2,0.00,2,2.43,2, -999,9, -999,9,-999.0,9,-999.0,9,-999.0,9,-999,-999,9,-999,9, 1.0357,2,27.7961,2, 1.5827,2
49UP20140609_2,   P10,29,1, 1,997,2,20140707,2359,2359,30.5012,149.3770,6096,6132.8, 1.6103,34.6938,2,169.0,2,34.6933,6,168.99,2,138.03,2,34.77,2,0.00,2,2.42,2, -999,9, -999,9,-999.0,9,-999.0,9,-999.0,9,-999,-999,9,-999,9, 1.0263,2,27.7975,2, 1.6103,2