BOTTLE,20230725CCHSIOADS
EXPOCODE,SECT_ID,STNNBR,CASTNO,SAMPNO,BTLNBR,BTLNBR_FLAG_W,DATE,TIME,BTL_TIME,LATITUDE,LONGITUDE,DEPTH,CTDPRS,CTDTMP,CTDSAL,CTDSAL_FLAG_W,CTDOXY,CTDOXY_FLAG_W,SALNTY,SALNTY_FLAG_W,OXYGEN,OXYGEN_FLAG_W,SILCAT,SILCAT_FLAG_W,NO2+NO3,NO2+NO3_FLAG_W,NITRIT,NITRIT_FLAG_W,PHSPHT,PHSPHT_FLAG_W,CFC-11,CFC-11_FLAG_W,CFC-12,CFC-12_FLAG_W,TCARBN,TCARBN_FLAG_W,ALKALI,ALKALI_FLAG_W,PH_TOT,PH_TOT_FLAG_W,PH_TMP,CHLORA,CHLORA_FLAG_W,PPHYTN,PPHYTN_FLAG_W,THETA,THETA_FLAG_W,SIG0,SIG0_FLAG_W,REFTMP,REFTMP_FLAG_W
,,,,,,,,,,,,METERS,DBAR,ITS-90,PSS-78,,UMOL/KG,,PSS-78,,UMOL/KG,,UMOL/KG,,UMOL/KG,,UMOL/KG,,UMOL/KG,,PMOL/KG,,PMOL/KG,,UMOL/KG,,UMOL/KG,,,,DEG C,UG/KG,,UG/KG,,ITS-90,,KG/M^3,,ITS-90,
49UP20140609_3,   P10,66,1, 0,BUC,2,20140807,1221,1238, 7.5123,148.9427,1226,   0.0,29.5798,33.9933,2,195.0,2,33.9923,2,195.69,2,  0.97,2, 0.00,2,0.00,2,0.07,2, -999,9, -999,9,1905.2,2,2231.3,2,8.1264,2,25,0.05,2,0.02,2,29.5792,2,21.1143,2,   -999,9
49UP20140609_3,   P10,66,1,35,112,2,20140807,1221,1309, 7.5123,148.9427,1226,  10.1,29.5875,33.9938,2,194.7,2,33.9917,2,195.36,2,  0.91,2, 0.00,2,0.00,2,0.07,2,1.426,2,0.879,2,1899.7,2,2231.1,2,8.1281,2,25,0.05,2,0.01,2,29.5850,2,21.1127,2,29.5883,2
49UP20140609_3,   P10,66,1,34,83,2,20140807,1221,1308, 7.5123,148.9427,1226,  25.7,29.5821,33.9917,2,194.6,2,33.9898,2,195.33,2,  0.96,2, 0.00,2,0.00,2,0.07,2,1.436,2,0.878,2,1899.7,2,2230.1,2,8.1227,2,25,0.05,2,0.02,2,29.5758,2,21.1142,2,29.5806,2
49UP20140609_3,   P10,66,1,30,97,2,20140807,1221,1306, 7.5123,148.9427,1226,  51.0,29.2469,34.0935,2,196.0,2,34.1130,4,197.05,2,  1.01,2, 0.00,2,0.00,2,0.08,2,1.483,2,0.895,2,1910.6,2,2238.4,2,8.1228,2,25,0.06,2,0.03,2,29.2345,2,21.3053,2,29.2452,2
49UP20140609_3,   P10,66,1,29,102,2,20140807,1221,1305, 7.5123,148.9427,1226,  76.0,27.0607,34.8809,2,197.6,2,34.9109,4,198.18,2,  1.34,2, 0.00,2,0.00,2,0.14,2,1.680,2,1.003,2,1983.4,2,2298.3,2,8.0807,2,25,0.14,2,0.09,2,27.0433,2,22.6142,2,27.0572,2
49UP20140609_3,   P10,66,1,28,108,2,20140807,1221,1301, 7.5123,148.9427,1226, 101.4,23.5726,35.0065,2,178.8,2,35.0075,2,178.99,2,  2.69,2, 1.91,2,0.10,2,0.31,2,1.842,2,1.127,2,2034.6,2,2302.1,2,8.0043,2,25,0.27,2,0.37,2,23.5515,2,23.7783,2,23.5917,2
49UP20140609_3,   P10,66,1,27,998,2,20140807,1221,1300, 7.5123,148.9427,1226, 126.4,20.6414,34.8928,2,154.3,2,34.8942,2,155.07,2,  5.43,2, 6.44,2,0.12,2,0.59,2,2.011,2,1.215,2,2076.6,2,2296.5,2,7.9148,6,25,0.15,2,0.34,2,20.6175,2,24.5157,2,20.6419,2
49UP20140609_3,   P10,66,1,25,98,2,20140807,1221,1258, 7.5123,148.9427,1226, 151.1,18.2972,34.7671,2,139.7,2,34.7786,4,140.75,2,  8.16,2,10.11,2,0.03,2,0.82,2,2.051,2,1.204,2,2098.8,2,2291.0,2,7.8318,2,25,0.08,2,0.26,2,18.2710,2,25.0266,2,18.3144,2
49UP20140609_3,   P10,66,1,26,84,2,20140807,1221,1258, 7.5123,148.9427,1226, 151.3,18.2962,34.7667,2,139.0,2,34.7778,4,140.72,2,  8.18,2,10.14,2,0.03,2,0.83,2,2.061,6,1.216,6,2096.1,2,2290.5,2,7.8509,2,25,-999,9,-999,9,18.2699,2,25.0266,2,18.2941,2
49UP20140609_3,   P10,66,1,21,78,2,20140807,1221,1256, 7.5123,148.9427,1226, 201.7,12.9521,34.5577,2, 92.7,2,34.5573,2, 92.26,2, 22.35,2,22.70,2,0.00,2,1.68,2,1.614,6,0.889,6,2179.7,6,2285.9,6,7.6516,2,25,0.01,2,0.03,2,12.9245,2,26.0653,2,12.9501,2
49UP20140609_3,   P10,66,1,20,93,2,20140807,1221,1253, 7.5123,148.9427,1226, 252.4,10.5017,34.5401,2, 64.1,2,34.5405,2, 64.37,2, 30.91,2,29.45,2,0.00,2,2.13,2,1.051,2,0.556,2,2219.6,2,2293.7,2,7.5509,2,25,-999,9,-999,9,10.4716,2,26.5113,2,10.5042,2
49UP20140609_3,   P10,66,1,19,92,2,20140807,1221,1251, 7.5123,148.9427,1226, 304.6, 9.6776,34.5714,2, 61.3,2,34.5704,6, 61.45,2, 34.58,2,31.59,2,0.00,2,2.26,2,0.741,2,0.397,2,2230.2,2,2296.3,2,7.5314,2,25,-999,9,-999,9, 9.6430,2,26.6775,2, 9.6759,2
49UP20140609_3,   P10,66,1,18,101,2,20140807,1221,1248, 7.5123,148.9427,1226, 353.7, 8.9863,34.5899,2, 59.7,2,34.5899,2, 60.23,2, 37.34,6,33.20,6,0.00,6,2.36,6,0.501,6,0.267,6,2242.3,2,2303.1,2,7.5181,2,25,-999,9,-999,9, 8.9478,2,26.8054,2, 8.9862,2
49UP20140609_3,   P10,66,1,17,90,2,20140807,1221,1246, 7.5123,148.9427,1226, 403.7, 8.5224,34.5783,2, 64.1,2,34.5782,2, 64.20,2, 39.99,2,33.73,2,0.00,2,2.39,2,0.431,2,0.229,2,2244.8,2,2305.4,2,7.5134,2,25,-999,9,-999,9, 8.4797,2,26.8697,2, 8.5222,2
49UP20140609_3,   P10,66,1,16,89,2,20140807,1221,1243, 7.5123,148.9427,1226, 454.8, 8.1509,34.5647,2, 64.8,2,34.5641,2, 65.32,2, 42.92,2,34.35,2,0.00,2,2.44,2,0.367,2,0.188,2,2254.6,2,2307.7,2,7.5086,2,25,-999,9,-999,9, 8.1039,2,26.9164,2, 8.1508,2
49UP20140609_3,   P10,66,1,12,74,2,20140807,1221,1241, 7.5123,148.9427,1226, 503.7, 7.8624,34.5562,2, 67.3,2,34.5564,2, 67.38,2, 45.23,2,34.65,2,0.00,2,2.46,2,0.333,2,0.169,2,2257.4,2,2310.5,2,7.5073,6,25,-999,9,-999,9, 7.8113,2,26.9533,2, 7.8622,2
49UP20140609_3,   P10,66,1,11,268,2,20140807,1221,1238, 7.5123,148.9427,1226, 604.9, 6.9458,34.5423,2, 70.0,2,34.5426,2, 70.47,2, 53.96,2,36.06,2,0.00,2,2.58,2,0.197,2,0.094,2,2266.6,6,2316.4,6,7.4954,2,25,-999,9,-999,9, 6.8881,2,27.0736,2, 6.9450,2
49UP20140609_3,   P10,66,1, 9,518,2,20140807,1221,1235, 7.5123,148.9427,1226, 705.9, 6.0094,34.5350,2, 70.0,2,34.5359,2, 70.13,2, 66.80,2,37.73,2,0.00,2,2.70,2,0.109,2,0.041,2,2279.2,2,2332.3,2,7.4868,2,25,-999,9,-999,9, 5.9466,2,27.1920,2, 6.0088,2
49UP20140609_3,   P10,66,1,10,267,2,20140807,1221,1235, 7.5123,148.9427,1226, 706.4, 6.0105,34.5351,2, 70.0,2,34.5355,2, 70.11,2, 66.82,2,37.71,2,0.00,2,2.70,2,0.108,2,0.043,2,2279.5,2,2332.2,2,7.4874,2,25,-999,9,-999,9, 5.9477,2,27.1919,2, 6.0118,2
49UP20140609_3,   P10,66,1, 8,81,2,20140807,1221,1232, 7.5123,148.9427,1226, 807.5, 5.4050,34.5402,2, 74.8,2,34.5401,2, 74.77,2, 76.28,2,38.22,2,0.00,2,2.73,2,0.071,2,0.026,2,2288.7,2,2341.6,2,7.4876,2,25,-999,9,-999,9, 5.3363,2,27.2712,2, 5.4040,2
49UP20140609_3,   P10,66,1, 7,516,2,20140807,1221,1229, 7.5123,148.9427,1226, 906.7, 4.8089,34.5486,2, 78.9,2,34.5492,2, 78.95,6, 86.01,6,38.62,6,0.00,6,2.77,6,0.053,2,0.013,2,2298.6,2,2352.1,2,7.4908,2,25,-999,9,-999,9, 4.7352,2,27.3476,2, 4.8088,2
49UP20140609_3,   P10,66,1, 3,104,2,20140807,1221,1226, 7.5123,148.9427,1226,1007.5, 4.4646,34.5547,2, 80.8,2,34.5559,2, 80.65,2, 92.14,2,38.95,2,0.00,2,2.78,2,0.037,2,0.000,2,2311.0,6,2359.3,6,7.4868,2,25,-999,9,-999,9, 4.3846,2,27.3911,2, 4.4648,2
49UP20140609_3,   P10,66,1, 2,75,2,20140807,1221,1221, 7.5123,148.9427,1226,1231.3, 3.4411,34.5831,2, 90.0,2,34.5840,6, 89.89,2,112.76,2,39.06,2,0.00,2,2.79,2,0.015,2,0.000,2,2325.1,2,2378.7,2,7.4982,6,25,-999,9,-999,9, 3.3509,2,27.5194,2, 3.4407,2
49UP20140609_3,   P10,67,1, 0,BUC,2,20140807,1923,2025, 7.0093,148.7123,3313,   0.0,29.6023,33.9126,2,195.9,2,   -999,9,195.21,2,  0.83,2, 0.00,2,0.00,2,0.08,2, -999,9, -999,9,-999.0,9,-999.0,9,-999.0,9,-999,-999,9,-999,9,29.6018,2,21.0462,2,   -999,9
49UP20140609_3,   P10,67,1,35,112,2,20140807,1923,2044, 7.0093,148.7123,3313,   9.9,29.6106,33.9121,2,195.8,2,33.9105,2,195.82,2,  0.73,2, 0.00,2,0.00,2,0.06,2, -999,9, -999,9,-999.0,9,-999.0,9,-999.0,9,-999,-999,9,-999,9,29.6081,2,21.0436,2,29.6097,2
49UP20140609_3,   P10,67,1,34,83,2,20140807,1923,2043, 7.0093,148.7123,3313,  25.5,29.6102,33.9116,2,195.7,2,33.9100,2,195.08,2,  0.85,2, 0.00,2,0.00,2,0.07,2, -999,9, -999,9,-999.0,9,-999.0,9,-999.0,9,-999,-999,9,-999,9,29.6040,2,21.0447,2,29.6084,2
49UP20140609_3,   P10,67,1,33,107,2,20140807,1923,2040, 7.0093,148.7123,3313,  50.2,29.2853,33.9478,2,196.1,2,33.9624,4,196.47,2,  0.83,2, 0.00,2,0.00,2,0.07,2, -999,9, -999,9,-999.0,9,-999.0,9,-999.0,9,-999,-999,9,-999,9,29.2731,2,21.1831,2,29.2823,2
49UP20140609_3,   P10,67,1,32,105,2,20140807,1923,2038, 7.0093,148.7123,3313,  76.3,26.5728,34.8229,2,188.1,2,34.8285,2,187.68,6,  1.54,6, 0.00,6,0.01,6,0.16,6, -999,9, -999,9,-999.0,9,-999.0,9,-999.0,9,-999,-999,9,-999,9,26.5555,2,22.7255,2,26.5808,2
49UP20140609_3,   P10,67,1,31,515,2,20140807,1923,2037, 7.0093,148.7123,3313, 101.1,24.3043,34.9101,2,167.4,2,34.9136,2,169.13,2,  2.71,2, 1.92,2,0.12,2,0.32,2, -999,9, -999,9,-999.0,9,-999.0,9,-999.0,9,-999,-999,9,-999,9,24.2829,2,23.4892,2,24.3063,2
49UP20140609_3,   P10,67,1,30,97,2,20140807,1923,2036, 7.0093,148.7123,3313, 126.3,20.3916,34.8638,2,149.1,2,34.8680,2,149.26,2,  5.96,2, 7.40,2,0.12,2,0.65,2, -999,9, -999,9,-999.0,9,-999.0,9,-999.0,9,-999,-999,9,-999,9,20.3680,2,24.5603,2,20.3951,2
49UP20140609_3,   P10,67,1,29,102,2,20140807,1923,2035, 7.0093,148.7123,3313, 149.7,15.7248,34.6369,2,120.1,2,34.6505,4,122.16,2, 13.07,2,15.10,2,0.02,2,1.16,2, -999,9, -999,9,-999.0,9,-999.0,9,-999.0,9,-999,-999,9,-999,9,15.7015,2,25.5360,2,15.7327,2
49UP20140609_3,   P10,67,1,27,998,2,20140807,1923,2033, 7.0093,148.7123,3313, 201.7,11.8250,34.5327,2, 80.5,2,34.5345,2, 80.35,2, 25.41,2,25.49,2,0.00,2,1.87,2, -999,9, -999,9,-999.0,9,-999.0,9,-999.0,9,-999,-999,9,-999,9,11.7991,2,26.2642,2,11.8269,2
49UP20140609_3,   P10,67,1,28,108,2,20140807,1923,2033, 7.0093,148.7123,3313, 202.5,11.7847,34.5340,2, 80.1,2,34.5337,2, 80.51,2, 25.44,2,25.48,2,0.00,2,1.88,2, -999,9, -999,9,-999.0,9,-999.0,9,-999.0,9,-999,-999,9,-999,9,11.7587,2,26.2728,2,11.7847,2
49UP20140609_3,   P10,67,1,26,84,2,20140807,1923,2031, 7.0093,148.7123,3313, 252.1, 9.8935,34.5709,2, 60.8,2,34.5726,2, 60.48,2, 33.49,2,31.26,2,0.00,2,2.24,2, -999,9, -999,9,-999.0,9,-999.0,9,-999.0,9,-999,-999,9,-999,9, 9.8646,2,26.6399,2, 9.8944,2
49UP20140609_3,   P10,67,1,25,98,2,20140807,1923,2029, 7.0093,148.7123,3313, 332.9, 8.8368,34.5834,2, 67.0,2,34.5808,2, 66.44,2, 37.64,2,32.81,2,0.00,2,2.33,2, -999,9, -999,9,-999.0,9,-999.0,9,-999.0,9,-999,-999,9,-999,9, 8.8010,2,26.8235,2, 8.8406,2
49UP20140609_3,   P10,67,1,24,110,2,20140807,1923,2027, 7.0093,148.7123,3313, 383.2, 8.5473,34.5745,2, 70.6,2,34.5737,2, 70.04,2, 39.26,2,33.12,2,0.00,2,2.34,2, -999,9, -999,9,-999.0,9,-999.0,9,-999.0,9,-999,-999,9,-999,9, 8.5067,2,26.8626,2, 8.5476,2
49UP20140609_3,   P10,67,1,23,96,2,20140807,1923,2026, 7.0093,148.7123,3313, 434.2, 8.1346,34.5656,2, 69.6,2,34.5657,2, 69.46,2, 42.58,2,33.97,2,0.00,2,2.41,2, -999,9, -999,9,-999.0,9,-999.0,9,-999.0,9,-999,-999,9,-999,9, 8.0898,2,26.9192,2, 8.1338,2
49UP20140609_3,   P10,67,1,22,111,2,20140807,1923,2024, 7.0093,148.7123,3313, 483.4, 7.7144,34.5560,2, 71.3,2,34.5557,2, 70.93,2, 46.12,2,34.57,2,0.00,2,2.46,2, -999,9, -999,9,-999.0,9,-999.0,9,-999.0,9,-999,-999,9,-999,9, 7.6659,2,26.9744,2, 7.7147,2
49UP20140609_3,   P10,67,1,21,78,2,20140807,1923,2023, 7.0093,148.7123,3313, 534.5, 7.3256,34.5498,2, 70.1,2,34.5498,2, 70.08,6, 50.14,6,35.37,6,0.00,6,2.51,6, -999,9, -999,9,-999.0,9,-999.0,9,-999.0,9,-999,-999,9,-999,9, 7.2734,2,27.0259,2, 7.3257,2
49UP20140609_3,   P10,67,1,20,93,2,20140807,1923,2020, 7.0093,148.7123,3313, 634.7, 6.5104,34.5361,2, 74.7,2,34.5362,2, 74.65,2, 58.50,2,36.49,2,0.00,2,2.61,2, -999,9, -999,9,-999.0,9,-999.0,9,-999.0,9,-999,-999,9,-999,9, 6.4518,2,27.1275,2, 6.5105,2
49UP20140609_3,   P10,67,1,19,92,2,20140807,1923,2018, 7.0093,148.7123,3313, 734.9, 5.7744,34.5357,2, 74.4,2,34.5359,6, 74.40,2, 69.20,2,37.73,2,0.00,2,2.69,2, -999,9, -999,9,-999.0,9,-999.0,9,-999.0,9,-999,-999,9,-999,9, 5.7102,2,27.2222,2, 5.7743,2
49UP20140609_3,   P10,67,1,18,101,3,20140807,1923,2015, 7.0093,148.7123,3313, 834.4, 5.2859,34.5401,2, 78.3,2,34.5404,2, 78.66,2, 76.85,2,37.98,2,0.00,2,2.71,2, -999,9, -999,9,-999.0,9,-999.0,9,-999.0,9,-999,-999,9,-999,9, 5.2155,2,27.2854,2, 5.2854,2
49UP20140609_3,   P10,67,1,17,90,2,20140807,1923,2013, 7.0093,148.7123,3313, 936.3, 4.7627,34.5490,2, 80.5,2,34.5502,2, 80.52,2, 86.45,2,38.51,2,0.00,2,2.75,2, -999,9, -999,9,-999.0,9,-999.0,9,-999.0,9,-999,-999,9,-999,9, 4.6867,2,27.3534,2, 4.7623,2
49UP20140609_3,   P10,67,1,15,88,2,20140807,1923,2010, 7.0093,148.7123,3313,1078.0, 4.1899,34.5615,2, 83.4,2,34.5614,2, 83.36,2, 97.23,2,39.01,2,0.00,2,2.78,2, -999,9, -999,9,-999.0,9,-999.0,9,-999.0,9,-999,-999,9,-999,9, 4.1060,2,27.4263,2, 4.1897,2
49UP20140609_3,   P10,67,1,16,89,2,20140807,1923,2010, 7.0093,148.7123,3313,1078.3, 4.1904,34.5616,2, 83.4,2,34.5618,2, 83.34,2, 97.08,2,38.96,2,0.00,2,2.78,2, -999,9, -999,9,-999.0,9,-999.0,9,-999.0,9,-999,-999,9,-999,9, 4.1065,2,27.4263,2, 4.1902,2
49UP20140609_3,   P10,67,1,14,999,2,20140807,1923,2006, 7.0093,148.7123,3313,1281.5, 3.4985,34.5815,2, 89.2,2,34.5811,2, 89.31,2,111.52,2,39.17,2,0.00,2,2.79,2, -999,9, -999,9,-999.0,9,-999.0,9,-999.0,9,-999,-999,9,-999,9, 3.4036,2,27.5130,2, 3.4991,2
49UP20140609_3,   P10,67,1,13,667,2,20140807,1923,2001, 7.0093,148.7123,3313,1483.3, 3.0402,34.5973,2, 95.3,2,34.5972,2, 95.74,2,120.77,2,39.13,2,0.00,2,2.78,2, -999,9, -999,9,-999.0,9,-999.0,9,-999.0,9,-999,-999,9,-999,9, 2.9332,2,27.5697,2, 3.0401,2
49UP20140609_3,   P10,67,1,12,74,2,20140807,1923,1957, 7.0093,148.7123,3313,1685.1, 2.5922,34.6163,2,103.3,2,34.6159,2,103.44,2,129.82,2,38.77,2,0.00,2,2.75,2, -999,9, -999,9,-999.0,9,-999.0,9,-999.0,9,-999,-999,9,-999,9, 2.4738,2,27.6253,2, 2.5927,2
49UP20140609_3,   P10,67,1,11,268,2,20140807,1923,1953, 7.0093,148.7123,3313,1889.9, 2.3813,34.6267,2,107.8,2,34.6265,6,107.89,2,134.32,2,38.62,2,0.00,2,2.72,2, -999,9, -999,9,-999.0,9,-999.0,9,-999.0,9,-999,-999,9,-999,9, 2.2485,2,27.6525,2, 2.3813,2
49UP20140609_3,   P10,67,1,10,267,3,20140807,1923,1948, 7.0093,148.7123,3313,2092.0, 2.1494,34.6384,2,113.2,2,34.6382,2,113.17,2,138.91,2,38.28,2,0.00,2,2.70,2, -999,9, -999,9,-999.0,9,-999.0,9,-999.0,9,-999,-999,9,-999,9, 2.0028,2,27.6818,2, 2.1494,2
49UP20140609_3,   P10,67,1, 8,81,2,20140807,1923,1944, 7.0093,148.7123,3313,2296.2, 1.9790,34.6483,2,120.8,2,34.6482,2,120.99,2,140.78,2,37.84,2,0.00,2,2.66,2, -999,9, -999,9,-999.0,9,-999.0,9,-999.0,9,-999,-999,9,-999,9, 1.8174,2,27.7042,2, 1.9789,2
49UP20140609_3,   P10,67,1, 7,516,2,20140807,1923,1944, 7.0093,148.7123,3313,2296.2, 1.9789,34.6483,2,120.8,2,34.6476,2,120.90,2,140.90,2,37.83,2,0.00,2,2.66,2, -999,9, -999,9,-999.0,9,-999.0,9,-999.0,9,-999,-999,9,-999,9, 1.8173,2,27.7042,2, 1.9790,2
49UP20140609_3,   P10,67,1, 6,113,2,20140807,1923,1940, 7.0093,148.7123,3313,2498.0, 1.8668,34.6548,2,125.8,2,34.6551,2,126.45,2,141.90,2,37.50,2,0.00,2,2.63,2, -999,9, -999,9,-999.0,9,-999.0,9,-999.0,9,-999,-999,9,-999,9, 1.6892,2,27.7191,2, 1.8667,2
49UP20140609_3,   P10,67,1, 3,104,2,20140807,1923,1935, 7.0093,148.7123,3313,2702.5, 1.7589,34.6614,2,132.2,2,34.6620,2,132.32,2,142.05,2,37.07,2,0.00,2,2.59,2, -999,9, -999,9,-999.0,9,-999.0,9,-999.0,9,-999,-999,9,-999,9, 1.5646,2,27.7337,2, 1.7588,2
49UP20140609_3,   P10,67,1, 2,75,2,20140807,1923,1931, 7.0093,148.7123,3313,2905.4, 1.7115,34.6651,2,135.7,2,34.6656,6,135.91,2,142.24,2,36.84,2,0.00,2,2.58,2, -999,9, -999,9,-999.0,9,-999.0,9,-999.0,9,-999,-999,9,-999,9, 1.4992,2,27.7415,2, 1.7116,2
49UP20140609_3,   P10,67,1, 1,997,2,20140807,1923,1927, 7.0093,148.7123,3313,3119.1, 1.6419,34.6702,2,140.9,2,34.6702,2,141.00,6,142.25,6,36.60,6,0.00,6,2.56,6, -999,9, -999,9,-999.0,9,-999.0,9,-999.0,9,-999,-999,9,-999,9, 1.4104,2,27.7520,2, 1.6419,2
49UP20140609_3,   P10,67,1, 4,77,2,20140807,1923,1923, 7.0093,148.7123,3313,3242.3, 1.6309,34.6715,2,142.2,2,34.6716,2,142.33,2,141.92,2,36.45,2,0.00,2,2.54,2, -999,9, -999,9,-999.0,9,-999.0,9,-999.0,9,-999,-999,9,-999,9, 1.3876,2,27.7547,2, 1.6309,2
49UP20140609_3,   P10,67,1, 9,518,2,20140807,1923,1924, 7.0093,148.7123,3313,3242.8, 1.6299,34.6716,2,142.3,2,34.6713,2,142.46,2,142.13,2,36.52,2,0.00,2,2.54,2, -999,9, -999,9,-999.0,9,-999.0,9,-999.0,9,-999,-999,9,-999,9, 1.3866,2,27.7548,2, 1.6301,2
49UP20140609_3,   P10,67,1, 5,94,2,20140807,1923,1924, 7.0093,148.7123,3313,3242.9, 1.6305,34.6716,2,142.3,2,34.6716,2,142.34,2,142.16,2,36.50,2,0.00,2,2.54,2, -999,9, -999,9,-999.0,9,-999.0,9,-999.0,9,-999,-999,9,-999,9, 1.3871,2,27.7548,2, 1.6307,2