BOTTLE,20230725CCHSIOADS
EXPOCODE,SECT_ID,STNNBR,CASTNO,SAMPNO,BTLNBR,BTLNBR_FLAG_W,DATE,TIME,BTL_TIME,LATITUDE,LONGITUDE,DEPTH,CTDPRS,CTDTMP,CTDSAL,CTDSAL_FLAG_W,CTDOXY,CTDOXY_FLAG_W,SALNTY,SALNTY_FLAG_W,OXYGEN,OXYGEN_FLAG_W,SILCAT,SILCAT_FLAG_W,NO2+NO3,NO2+NO3_FLAG_W,NITRIT,NITRIT_FLAG_W,PHSPHT,PHSPHT_FLAG_W,CFC-11,CFC-11_FLAG_W,CFC-12,CFC-12_FLAG_W,TCARBN,TCARBN_FLAG_W,ALKALI,ALKALI_FLAG_W,PH_TOT,PH_TOT_FLAG_W,PH_TMP,CHLORA,CHLORA_FLAG_W,PPHYTN,PPHYTN_FLAG_W,THETA,THETA_FLAG_W,SIG0,SIG0_FLAG_W,REFTMP,REFTMP_FLAG_W
,,,,,,,,,,,,METERS,DBAR,ITS-90,PSS-78,,UMOL/KG,,PSS-78,,UMOL/KG,,UMOL/KG,,UMOL/KG,,UMOL/KG,,UMOL/KG,,PMOL/KG,,PMOL/KG,,UMOL/KG,,UMOL/KG,,,,DEG C,UG/KG,,UG/KG,,ITS-90,,KG/M^3,,ITS-90,
49UP20140609_4,   P10,96,1, 0,BUC,2,20140828,1407,1525,-0.5112,143.9773,3516,   0.0,29.9030,34.1804,2,195.1,2,34.1762,2,195.12,2,  1.12,2, 0.01,2,0.00,2,0.08,2, -999,9, -999,9,1915.8,2,2248.0,2,8.1225,2,25,0.06,2,0.02,2,29.9024,2,21.1451,2,   -999,9
49UP20140609_4,   P10,96,1,36,109,2,20140828,1407,1546,-0.5112,143.9773,3516,  10.3,29.8268,34.2275,2,196.0,2,34.2452,4,196.36,2,  1.08,2, 0.00,2,0.00,2,0.07,2, -999,9, -999,9,1920.7,2,2252.9,2,8.1220,2,25,0.06,2,0.03,2,29.8242,2,21.2070,2,29.7659,2
49UP20140609_4,   P10,96,1,35,112,2,20140828,1407,1545,-0.5112,143.9773,3516,  25.3,29.5023,34.4736,2,196.6,2,34.4934,4,196.73,6,  1.09,6, 0.02,6,0.00,6,0.12,6, -999,9, -999,9,1936.5,2,2267.6,2,8.1147,2,25,0.10,2,0.05,2,29.4961,2,21.5025,2,29.4581,2
49UP20140609_4,   P10,96,1,34,83,2,20140828,1407,1544,-0.5112,143.9773,3516,  50.7,29.0723,35.0551,2,190.1,2,35.0589,2,190.15,2,  1.21,2, 0.74,2,0.10,2,0.27,3, -999,9, -999,9,1982.5,2,2302.9,2,8.0916,2,25,0.34,2,0.28,2,29.0600,2,22.0854,2,29.0696,2
49UP20140609_4,   P10,96,1,33,469,2,20140828,1407,1543,-0.5112,143.9773,3516,  76.1,28.1902,35.1183,2,168.6,2,35.1019,4,166.81,2,  1.78,2, 3.59,2,0.36,2,0.42,2, -999,9, -999,9,2012.9,2,2302.8,2,8.0448,2,25,0.34,2,0.56,2,28.1721,2,22.4272,2,28.1915,2
49UP20140609_4,   P10,96,1,32,105,2,20140828,1407,1539,-0.5112,143.9773,3516, 100.7,28.0582,35.4017,2,159.8,2,35.4393,4,159.38,2,  2.05,2, 5.88,2,0.34,2,0.60,2, -999,9, -999,9,2041.4,2,2325.4,2,8.0242,2,25,0.22,2,0.52,2,28.0345,2,22.6855,2,28.0553,2
49UP20140609_4,   P10,96,1,31,515,2,20140828,1407,1539,-0.5112,143.9773,3516, 125.7,26.0291,35.5757,2,147.1,2,35.5796,2,147.61,2,  2.00,2, 7.03,2,0.04,2,0.64,2, -999,9, -999,9,2067.1,2,2333.7,2,7.9883,2,25,0.07,2,0.25,2,26.0010,2,23.4674,2,26.0196,2
49UP20140609_4,   P10,96,1,30,97,2,20140828,1407,1537,-0.5112,143.9773,3516, 151.1,21.9711,35.4834,2,137.0,2,35.4997,4,138.13,2,  3.79,2, 9.24,2,0.02,2,0.78,2, -999,9, -999,9,2098.0,2,2331.5,2,7.9204,2,25,0.02,2,0.05,2,21.9412,2,24.6017,2,21.9643,2
49UP20140609_4,   P10,96,1,28,108,2,20140828,1407,1535,-0.5112,143.9773,3516, 201.6,17.8098,35.3956,2,142.6,2,35.3927,2,143.19,2,  4.97,2,11.93,2,0.01,2,0.96,2, -999,9, -999,9,2129.0,2,2328.4,2,7.8594,2,25,0.00,2,0.03,2,17.7753,2,25.6304,2,17.8058,2
49UP20140609_4,   P10,96,1,29,102,2,20140828,1407,1536,-0.5112,143.9773,3516, 201.9,17.8073,35.3963,2,142.7,2,35.3941,2,143.09,2,  4.96,2,11.87,2,0.01,2,0.96,2, -999,9, -999,9,2128.2,2,2328.1,2,7.8600,2,25,-999,9,-999,9,17.7728,2,25.6316,2,17.8047,2
49UP20140609_4,   P10,96,1,27,998,2,20140828,1407,1534,-0.5112,143.9773,3516, 251.7,14.2031,35.0903,2,154.1,2,35.0706,4,155.22,2,  8.33,2,15.75,2,0.01,2,1.19,2, -999,9, -999,9,2142.7,2,2312.6,2,7.7991,2,25,-999,9,-999,9,14.1663,2,26.2217,2,14.1870,2
49UP20140609_4,   P10,96,1,26,84,2,20140828,1407,1533,-0.5112,143.9773,3516, 281.8,11.8234,34.8768,2,148.4,2,34.8723,2,148.09,2, 14.20,2,20.11,2,0.00,2,1.47,2, -999,9, -999,9,2163.0,2,2306.2,2,7.7352,6,25,-999,9,-999,9,11.7869,2,26.5339,2,11.8221,2
49UP20140609_4,   P10,96,1,25,98,2,20140828,1407,1531,-0.5112,143.9773,3516, 321.8,11.1901,34.8025,2,133.4,2,34.8002,2,132.66,2, 18.82,2,22.78,2,0.00,2,1.64,2, -999,9, -999,9,2179.0,6,2304.7,6,7.6950,2,25,-999,9,-999,9,11.1499,2,26.5945,2,11.1890,2
49UP20140609_4,   P10,96,1,24,110,2,20140828,1407,1530,-0.5112,143.9773,3516, 372.0, 9.9341,34.7179,2,108.8,2,34.7160,2,107.13,2, 24.07,2,27.64,2,0.00,2,1.96,2, -999,9, -999,9,2207.1,2,2303.7,2,7.6176,2,25,-999,9,-999,9, 9.8909,2,26.7503,2, 9.9325,2
49UP20140609_4,   P10,96,1,23,96,2,20140828,1407,1528,-0.5112,143.9773,3516, 424.1, 8.9444,34.6502,2,116.8,2,34.6518,2,116.30,2, 26.46,2,28.62,2,0.00,2,2.01,2, -999,9, -999,9,2210.1,2,2303.9,2,7.6136,2,25,-999,9,-999,9, 8.8981,2,26.8605,2, 8.9414,2
49UP20140609_4,   P10,96,1,22,111,2,20140828,1407,1526,-0.5112,143.9773,3516, 472.2, 8.4062,34.6116,2,114.6,2,34.6117,2,117.64,2, 30.22,2,29.58,2,0.00,2,2.09,2, -999,9, -999,9,2215.4,2,2305.6,2,7.5997,2,25,-999,9,-999,9, 8.3564,2,26.9148,2, 8.4052,2
49UP20140609_4,   P10,96,1,21,78,2,20140828,1407,1524,-0.5112,143.9773,3516, 573.4, 7.4310,34.5661,2,129.8,2,34.5663,2,129.98,2, 32.53,2,30.53,2,0.00,2,2.15,2, -999,9, -999,9,2215.8,2,2308.3,2,7.6018,6,25,-999,9,-999,9, 7.3743,2,27.0244,2, 7.4299,2
49UP20140609_4,   P10,96,1,20,93,2,20140828,1407,1521,-0.5112,143.9773,3516, 675.1, 6.1563,34.5350,2,108.7,2,34.5359,2,109.12,2, 49.03,2,34.86,2,0.00,2,2.47,2, -999,9, -999,9,2248.8,6,2320.9,6,7.5457,2,25,-999,9,-999,9, 6.0956,2,27.1730,2, 6.1554,2
49UP20140609_4,   P10,96,1,19,92,2,20140828,1407,1513,-0.5112,143.9773,3516, 776.5, 5.5126,34.5302,2,108.1,2,34.5309,6,107.94,6, 58.84,6,35.89,6,0.00,6,2.55,6, -999,9, -999,9,2261.6,2,2330.9,2,7.5337,2,25,-999,9,-999,9, 5.4461,2,27.2500,2, 5.5123,2
49UP20140609_4,   P10,96,1,18,101,2,20140828,1407,1511,-0.5112,143.9773,3516, 877.4, 5.0191,34.5369,2,101.4,2,34.5402,4,101.48,2, 70.32,2,37.02,2,0.00,2,2.64,2, -999,9, -999,9,2275.7,2,2342.5,2,7.5229,2,25,-999,9,-999,9, 4.9466,2,27.3142,2, 5.0188,2
49UP20140609_4,   P10,96,1,17,90,2,20140828,1407,1508,-0.5112,143.9773,3516, 979.8, 4.5827,34.5464,2,100.2,2,34.5458,2,100.21,2, 80.21,2,37.58,2,0.00,2,2.68,2, -999,9, -999,9,2288.0,2,2350.7,2,7.5168,2,25,-999,9,-999,9, 4.5043,2,27.3715,2, 4.5828,2
49UP20140609_4,   P10,96,1,15,88,2,20140828,1407,1505,-0.5112,143.9773,3516,1138.5, 4.1416,34.5553,2,105.2,2,34.5553,2,104.97,2, 88.16,2,37.52,2,0.00,2,2.67,2, -999,9, -999,9,2296.6,2,2360.0,2,7.5270,3,25,-999,9,-999,9, 4.0529,2,27.4269,2, 4.1415,2
49UP20140609_4,   P10,96,1,16,89,2,20140828,1407,1505,-0.5112,143.9773,3516,1140.9, 4.1378,34.5553,2,105.5,2,34.5550,2,105.29,2, 88.00,2,37.48,2,0.00,2,2.67,2, -999,9, -999,9,2296.2,2,2360.9,2,7.5190,2,25,-999,9,-999,9, 4.0489,2,27.4273,2, 4.1377,2
49UP20140609_4,   P10,96,1,14,999,2,20140828,1407,1500,-0.5112,143.9773,3516,1342.3, 3.3526,34.5858,2,103.0,2,34.5864,6,103.30,2,108.54,2,38.23,2,0.00,2,2.73,2, -999,9, -999,9,2318.5,2,2383.8,2,7.5151,2,25,-999,9,-999,9, 3.2541,2,27.5307,2, 3.3525,2
49UP20140609_4,   P10,96,1,13,667,2,20140828,1407,1456,-0.5112,143.9773,3516,1545.5, 2.8659,34.6051,2,108.4,2,34.6042,2,108.27,2,119.09,2,38.29,2,0.00,2,2.72,2, -999,9, -999,9,2326.0,2,2391.7,2,7.5227,2,25,-999,9,-999,9, 2.7557,2,27.5919,2, 2.8660,2
49UP20140609_4,   P10,96,1,12,74,2,20140828,1407,1451,-0.5112,143.9773,3516,1748.6, 2.6184,34.6163,2,113.0,2,34.6167,2,112.99,2,123.94,2,38.08,2,0.00,2,2.70,2, -999,9, -999,9,2330.9,2,2399.3,2,7.5293,6,25,-999,9,-999,9, 2.4943,2,27.6236,2, 2.6184,2
49UP20140609_4,   P10,96,1,11,268,2,20140828,1407,1446,-0.5112,143.9773,3516,1951.5, 2.3037,34.6320,2,117.8,2,34.6311,2,117.75,2,131.33,2,37.90,2,0.00,2,2.68,2, -999,9, -999,9,2335.3,6,2406.1,6,7.5336,2,25,-999,9,-999,9, 2.1668,2,27.6635,2, 2.3037,2
49UP20140609_4,   P10,96,1,10,267,2,20140828,1407,1441,-0.5112,143.9773,3516,2154.1, 2.1580,34.6400,2,120.6,2,34.6396,2,120.91,2,134.91,2,37.79,2,0.00,2,2.66,2, -999,9, -999,9,2337.4,2,2410.3,2,7.5394,2,25,-999,9,-999,9, 2.0059,2,27.6828,2, 2.1580,2
49UP20140609_4,   P10,96,1, 8,81,2,20140828,1407,1436,-0.5112,143.9773,3516,2357.4, 1.9014,34.6523,2,127.3,2,34.6512,2,127.67,2,139.88,2,37.42,2,0.00,2,2.63,2, -999,9, -999,9,2339.9,2,2414.4,2,7.5514,2,25,-999,9,-999,9, 1.7358,2,27.7136,2, 1.9013,2
49UP20140609_4,   P10,96,1, 9,518,2,20140828,1407,1436,-0.5112,143.9773,3516,2358.4, 1.9007,34.6524,2,127.4,2,34.6535,2,127.53,2,140.09,2,37.44,2,0.00,2,2.63,2, -999,9, -999,9,2337.8,2,2415.1,2,7.5503,2,25,-999,9,-999,9, 1.7349,2,27.7138,2, 1.9008,2
49UP20140609_4,   P10,96,1, 7,516,3,20140828,1407,1431,-0.5112,143.9773,3516,2562.5, 1.7708,34.6591,2,133.1,2,34.6576,2,133.18,6,141.55,6,37.09,6,0.00,6,2.60,6, -999,9, -999,9,2334.9,2,2415.6,2,7.5593,2,25,-999,9,-999,9, 1.5892,2,27.7301,2, 1.7707,2
49UP20140609_4,   P10,96,1, 6,113,2,20140828,1407,1426,-0.5112,143.9773,3516,2765.3, 1.6822,34.6650,2,137.5,2,34.6650,2,137.41,2,142.17,2,36.76,2,0.00,2,2.58,2, -999,9, -999,9,2336.9,2,2417.6,2,7.5647,2,25,-999,9,-999,9, 1.4836,2,27.7425,2, 1.6821,2
49UP20140609_4,   P10,96,1, 5,94,2,20140828,1407,1421,-0.5112,143.9773,3516,2969.3, 1.6488,34.6679,2,140.1,2,34.6690,2,140.09,2,141.99,2,36.56,2,0.00,2,2.56,2, -999,9, -999,9,2333.8,2,2417.0,2,7.5705,2,25,-999,9,-999,9, 1.4317,2,27.7486,2, 1.6489,2
49UP20140609_4,   P10,96,1, 4,77,2,20140828,1407,1415,-0.5112,143.9773,3516,3213.6, 1.6080,34.6715,2,143.2,2,34.6715,2,143.09,2,142.70,2,36.40,2,0.00,2,2.54,2, -999,9, -999,9,2332.4,2,2419.5,2,7.5808,2,25,-999,9,-999,9, 1.3681,2,27.7561,2, 1.6079,2
49UP20140609_4,   P10,96,1, 3,104,2,20140828,1407,1409,-0.5112,143.9773,3516,3468.2, 1.5597,34.6768,2,146.8,2,34.6768,2,146.98,2,142.91,2,36.13,2,0.00,2,2.52,2, -999,9, -999,9,2333.8,2,2421.4,2,7.5792,2,25,-999,9,-999,9, 1.2953,2,27.7654,2, 1.5598,2
49UP20140609_4,   P10,96,1, 2,75,2,20140828,1407,1407,-0.5112,143.9773,3516,3547.9, 1.5549,34.6776,2,147.6,2,34.6784,6,147.65,2,142.14,2,36.06,2,0.00,2,2.52,2, -999,9, -999,9,2333.7,2,2422.5,2,7.5896,2,25,-999,9,-999,9, 1.2825,2,27.7670,2, 1.5548,2
49UP20140609_4,   P10,97,1, 0,BUC,2,20140828,2038,2144,-0.5040,143.4920,2995,   0.0,29.9514,34.1821,2,195.3,2,   -999,9,194.78,2,  1.09,2, 0.02,2,0.00,2,0.06,2, -999,9, -999,9,-999.0,9,-999.0,9,-999.0,9,-999,-999,9,-999,9,29.9508,2,21.1299,2,   -999,9
49UP20140609_4,   P10,97,1,33,469,2,20140828,2038,2205,-0.5040,143.4920,2995,  11.5,29.9565,34.1819,2,195.1,2,34.1822,2,195.84,2,  1.09,2, 0.00,2,0.00,2,0.05,2, -999,9, -999,9,-999.0,9,-999.0,9,-999.0,9,-999,-999,9,-999,9,29.9537,2,21.1287,2,29.9533,2
49UP20140609_4,   P10,97,1,32,105,2,20140828,2038,2204,-0.5040,143.4920,2995,  26.1,29.6865,34.3214,2,196.6,2,34.3392,4,196.67,2,  1.07,2, 0.00,2,0.00,2,0.09,2, -999,9, -999,9,-999.0,9,-999.0,9,-999.0,9,-999,-999,9,-999,9,29.6800,2,21.3262,2,29.6854,2
49UP20140609_4,   P10,97,1,31,515,2,20140828,2038,2200,-0.5040,143.4920,2995,  51.4,29.3228,34.5574,2,196.0,2,34.7211,4,195.58,2,  1.00,2, 0.05,2,0.01,2,0.17,2, -999,9, -999,9,-999.0,9,-999.0,9,-999.0,9,-999,-999,9,-999,9,29.3103,2,21.6279,2,29.3212,2
49UP20140609_4,   P10,97,1,30,97,2,20140828,2038,2159,-0.5040,143.4920,2995,  76.2,28.2527,34.9591,2,175.3,2,34.9587,2,175.90,2,  1.57,2, 2.03,2,0.27,2,0.31,2, -999,9, -999,9,-999.0,9,-999.0,9,-999.0,9,-999,-999,9,-999,9,28.2347,2,22.2870,2,28.2524,2
49UP20140609_4,   P10,97,1,29,102,2,20140828,2038,2159,-0.5040,143.4920,2995,  76.3,28.2520,34.9588,2,175.2,2,34.9584,2,175.39,2,  1.57,2, 2.08,2,0.27,2,0.32,2, -999,9, -999,9,-999.0,9,-999.0,9,-999.0,9,-999,-999,9,-999,9,28.2339,2,22.2870,2,28.2529,2
49UP20140609_4,   P10,97,1,28,108,2,20140828,2038,2157,-0.5040,143.4920,2995, 101.5,27.5560,35.2966,2,153.7,2,35.3010,2,154.47,2,  2.05,2, 5.92,2,0.12,2,0.57,2, -999,9, -999,9,-999.0,9,-999.0,9,-999.0,9,-999,-999,9,-999,9,27.5324,2,22.7699,2,27.5521,2
49UP20140609_4,   P10,97,1,27,998,2,20140828,2038,2155,-0.5040,143.4920,2995, 126.5,24.5220,35.5819,2,146.9,2,35.5492,4,143.08,6,  2.49,6, 7.45,6,0.03,6,0.66,6, -999,9, -999,9,-999.0,9,-999.0,9,-999.0,9,-999,-999,9,-999,9,24.4948,2,23.9341,2,24.5144,2
49UP20140609_4,   P10,97,1,26,84,2,20140828,2038,2154,-0.5040,143.4920,2995, 151.9,21.0994,35.5010,2,138.2,2,35.5063,2,138.29,2,  3.75,2, 9.60,2,0.01,2,0.80,2, -999,9, -999,9,-999.0,9,-999.0,9,-999.0,9,-999,-999,9,-999,9,21.0702,2,24.8562,2,21.0970,2
49UP20140609_4,   P10,97,1,25,98,2,20140828,2038,2152,-0.5040,143.4920,2995, 202.3,18.6413,35.4183,2,142.9,2,35.4164,2,143.22,2,  4.61,2,11.24,2,0.01,2,0.90,2, -999,9, -999,9,-999.0,9,-999.0,9,-999.0,9,-999,-999,9,-999,9,18.6056,2,25.4412,2,18.6378,2
49UP20140609_4,   P10,97,1,24,110,2,20140828,2038,2150,-0.5040,143.4920,2995, 252.6,13.6685,35.0529,2,157.7,2,35.0488,2,157.99,2,  8.40,2,15.92,2,0.01,2,1.20,2, -999,9, -999,9,-999.0,9,-999.0,9,-999.0,9,-999,-999,9,-999,9,13.6325,2,26.3048,2,13.6667,2
49UP20140609_4,   P10,97,1,23,96,2,20140828,2038,2148,-0.5040,143.4920,2995, 302.7,11.7150,34.8686,2,148.5,2,34.8668,2,147.47,2, 14.21,2,20.33,2,0.00,2,1.48,2, -999,9, -999,9,-999.0,9,-999.0,9,-999.0,9,-999,-999,9,-999,9,11.6760,2,26.5485,2,11.7155,2
49UP20140609_4,   P10,97,1,22,111,2,20140828,2038,2146,-0.5040,143.4920,2995, 353.1,10.8693,34.7788,2,125.6,2,34.7788,2,124.87,2, 20.24,2,24.14,2,0.00,2,1.73,2, -999,9, -999,9,-999.0,9,-999.0,9,-999.0,9,-999,-999,9,-999,9,10.8259,2,26.6346,2,10.8693,2
49UP20140609_4,   P10,97,1,21,78,2,20140828,2038,2144,-0.5040,143.4920,2995, 403.6, 9.9729,34.7194,2,103.1,2,34.7196,2,103.08,2, 24.40,2,28.02,2,0.00,2,1.98,2, -999,9, -999,9,-999.0,9,-999.0,9,-999.0,9,-999,-999,9,-999,9, 9.9259,2,26.7454,2, 9.9729,2
49UP20140609_4,   P10,97,1,20,93,2,20140828,2038,2143,-0.5040,143.4920,2995, 453.4, 9.1456,34.6625,2,106.9,2,34.6625,2,106.02,2, 27.38,2,29.35,2,0.00,2,2.06,2, -999,9, -999,9,-999.0,9,-999.0,9,-999.0,9,-999,-999,9,-999,9, 9.0954,2,26.8385,2, 9.1452,2
49UP20140609_4,   P10,97,1,18,101,2,20140828,2038,2140,-0.5040,143.4920,2995, 504.4, 8.0747,34.5925,2,145.6,2,34.5932,2,145.18,2, 25.86,2,27.77,2,0.00,2,1.95,2, -999,9, -999,9,-999.0,9,-999.0,9,-999.0,9,-999,-999,9,-999,9, 8.0226,2,26.9504,2, 8.0780,2
49UP20140609_4,   P10,97,1,19,92,2,20140828,2038,2141,-0.5040,143.4920,2995, 504.5, 8.0744,34.5925,2,145.5,2,34.5931,2,144.96,2, 25.86,2,27.79,2,0.00,2,1.95,2, -999,9, -999,9,-999.0,9,-999.0,9,-999.0,9,-999,-999,9,-999,9, 8.0223,2,26.9505,2, 8.0758,2
49UP20140609_4,   P10,97,1,17,90,2,20140828,2038,2138,-0.5040,143.4920,2995, 605.3, 6.8768,34.5369,2,134.6,2,34.5370,6,134.60,6, 37.16,6,31.06,6,0.00,6,2.19,6, -999,9, -999,9,-999.0,9,-999.0,9,-999.0,9,-999,-999,9,-999,9, 6.8194,2,27.0788,2, 6.8767,2
49UP20140609_4,   P10,97,1,16,89,3,20140828,2038,2135,-0.5040,143.4920,2995, 705.6, 6.1471,34.5354,2,109.6,2,34.5362,2,109.45,2, 49.44,2,34.99,2,0.00,2,2.47,2, -999,9, -999,9,-999.0,9,-999.0,9,-999.0,9,-999,-999,9,-999,9, 6.0836,2,27.1748,2, 6.1472,2
49UP20140609_4,   P10,97,1,15,88,2,20140828,2038,2132,-0.5040,143.4920,2995, 806.1, 5.1219,34.5323,2,108.9,2,34.5319,2,108.60,2, 66.47,2,36.38,2,0.00,2,2.58,2, -999,9, -999,9,-999.0,9,-999.0,9,-999.0,9,-999,-999,9,-999,9, 5.0551,2,27.2981,2, 5.1215,2
49UP20140609_4,   P10,97,1,14,999,2,20140828,2038,2129,-0.5040,143.4920,2995, 907.5, 4.9747,34.5384,2, 99.8,2,34.5392,2, 99.50,2, 71.73,2,37.36,2,0.00,2,2.67,2, -999,9, -999,9,-999.0,9,-999.0,9,-999.0,9,-999,-999,9,-999,9, 4.8998,2,27.3208,2, 4.9744,2
49UP20140609_4,   P10,97,1,13,667,2,20140828,2038,2126,-0.5040,143.4920,2995,1008.9, 4.5081,34.5486,2, 99.3,2,34.5495,2,100.37,6, 81.71,6,37.74,6,0.00,6,2.69,6, -999,9, -999,9,-999.0,9,-999.0,9,-999.0,9,-999,-999,9,-999,9, 4.4277,2,27.3816,2, 4.5078,2
49UP20140609_4,   P10,97,1,12,74,2,20140828,2038,2121,-0.5040,143.4920,2995,1210.9, 3.8340,34.5661,2,104.3,2,34.5666,6,103.88,2, 95.52,2,37.99,2,0.00,2,2.72,2, -999,9, -999,9,-999.0,9,-999.0,9,-999.0,9,-999,-999,9,-999,9, 3.7419,2,27.4674,2, 3.8337,2
49UP20140609_4,   P10,97,1,11,268,4,20140828,2038,2116,-0.5040,143.4920,2995,1413.5, 3.3093,34.5868,2,105.2,2,34.5664,4,103.81,4, 95.38,4,38.03,4,0.00,4,2.71,4, -999,9, -999,9,-999.0,9,-999.0,9,-999.0,9,-999,-999,9,-999,9, 3.2052,2,27.5362,2, 3.3093,2
49UP20140609_4,   P10,97,1,10,267,2,20140828,2038,2112,-0.5040,143.4920,2995,1616.1, 2.8569,34.6054,2,109.2,2,34.6063,2,109.17,2,118.82,2,38.25,2,0.00,2,2.72,2, -999,9, -999,9,-999.0,9,-999.0,9,-999.0,9,-999,-999,9,-999,9, 2.7410,2,27.5934,2, 2.8567,2
49UP20140609_4,   P10,97,1, 9,518,2,20140828,2038,2107,-0.5040,143.4920,2995,1818.4, 2.5435,34.6201,2,115.1,2,34.6206,2,114.97,2,125.07,2,38.02,2,0.00,2,2.69,2, -999,9, -999,9,-999.0,9,-999.0,9,-999.0,9,-999,-999,9,-999,9, 2.4146,2,27.6334,2, 2.5433,2
49UP20140609_4,   P10,97,1, 8,81,2,20140828,2038,2102,-0.5040,143.4920,2995,2021.6, 2.2749,34.6337,2,119.2,2,34.6334,2,119.33,2,131.53,2,37.90,2,0.00,2,2.68,2, -999,9, -999,9,-999.0,9,-999.0,9,-999.0,9,-999,-999,9,-999,9, 2.1325,2,27.6676,2, 2.2749,2
49UP20140609_4,   P10,97,1, 7,516,2,20140828,2038,2058,-0.5040,143.4920,2995,2225.2, 2.0523,34.6446,2,123.4,2,34.6450,2,123.58,2,136.86,2,37.67,2,0.00,2,2.65,2, -999,9, -999,9,-999.0,9,-999.0,9,-999.0,9,-999,-999,9,-999,9, 1.8957,2,27.6952,2, 2.0527,2
49UP20140609_4,   P10,97,1, 6,113,2,20140828,2038,2053,-0.5040,143.4920,2995,2428.5, 1.8256,34.6559,2,130.4,2,34.6569,2,130.32,2,140.75,2,37.19,2,0.00,2,2.61,2, -999,9, -999,9,-999.0,9,-999.0,9,-999.0,9,-999,-999,9,-999,9, 1.6549,2,27.7226,2, 1.8255,2
49UP20140609_4,   P10,97,1, 5,94,2,20140828,2038,2048,-0.5040,143.4920,2995,2631.8, 1.7600,34.6598,2,133.7,2,34.6606,2,133.37,2,141.20,2,36.96,2,0.00,2,2.59,2, -999,9, -999,9,-999.0,9,-999.0,9,-999.0,9,-999,-999,9,-999,9, 1.5723,2,27.7319,2, 1.7600,2
49UP20140609_4,   P10,97,1, 4,77,2,20140828,2038,2043,-0.5040,143.4920,2995,2835.2, 1.6621,34.6662,2,139.0,2,34.6675,2,138.76,2,142.09,2,36.69,2,0.00,2,2.57,2, -999,9, -999,9,-999.0,9,-999.0,9,-999.0,9,-999,-999,9,-999,9, 1.4575,2,27.7454,2, 1.6621,2
49UP20140609_4,   P10,97,1, 3,104,2,20140828,2038,2043,-0.5040,143.4920,2995,2835.2, 1.6620,34.6662,2,139.0,2,34.6666,2,138.76,2,142.19,2,36.68,2,0.00,2,2.57,2, -999,9, -999,9,-999.0,9,-999.0,9,-999.0,9,-999,-999,9,-999,9, 1.4573,2,27.7454,2, 1.6619,2
49UP20140609_4,   P10,97,1, 2,75,2,20140828,2038,2039,-0.5040,143.4920,2995,3006.9, 1.6022,34.6705,2,142.6,2,34.6716,2,142.21,2,142.46,2,36.49,2,0.00,2,2.55,2, -999,9, -999,9,-999.0,9,-999.0,9,-999.0,9,-999,-999,9,-999,9, 1.3825,2,27.7542,2, 1.6021,2