BOTTLE,20230725CCHSIOADS
EXPOCODE,SECT_ID,STNNBR,CASTNO,SAMPNO,BTLNBR,BTLNBR_FLAG_W,DATE,TIME,BTL_TIME,LATITUDE,LONGITUDE,DEPTH,CTDPRS,CTDTMP,CTDSAL,CTDSAL_FLAG_W,CTDOXY,CTDOXY_FLAG_W,SALNTY,SALNTY_FLAG_W,OXYGEN,OXYGEN_FLAG_W,SILCAT,SILCAT_FLAG_W,NO2+NO3,NO2+NO3_FLAG_W,NITRIT,NITRIT_FLAG_W,PHSPHT,PHSPHT_FLAG_W,CFC-11,CFC-11_FLAG_W,CFC-12,CFC-12_FLAG_W,TCARBN,TCARBN_FLAG_W,ALKALI,ALKALI_FLAG_W,PH_TOT,PH_TOT_FLAG_W,PH_TMP,CHLORA,CHLORA_FLAG_W,PPHYTN,PPHYTN_FLAG_W,THETA,THETA_FLAG_W,SIG0,SIG0_FLAG_W,REFTMP,REFTMP_FLAG_W
,,,,,,,,,,,,METERS,DBAR,ITS-90,PSS-78,,UMOL/KG,,PSS-78,,UMOL/KG,,UMOL/KG,,UMOL/KG,,UMOL/KG,,UMOL/KG,,PMOL/KG,,PMOL/KG,,UMOL/KG,,UMOL/KG,,,,DEG C,UG/KG,,UG/KG,,ITS-90,,KG/M^3,,ITS-90,
49UP20140609_2,   P10,30,1, 0,BUC,2,20140708,0724, 931,30.0045,149.2530,6120,   0.0,22.6660,34.3809,2,221.9,2,34.3795,2,221.96,2,  1.65,2, 0.00,2,0.00,2,0.02,2, -999,9, -999,9,1972.9,2,2256.2,2,8.0342,2,25,0.13,2,0.04,2,22.6655,2,23.5598,2,   -999,9
49UP20140609_2,   P10,30,1,36,109,2,20140708,0724, 953,30.0045,149.2530,6120,  11.3,22.5547,34.3953,2,222.4,2,34.4023,2,222.42,2,  1.59,2, 0.01,2,0.00,2,0.03,2,2.079,2,1.171,2,1970.9,2,2257.3,2,8.0344,2,25,0.13,2,0.03,2,22.5525,2,23.6029,2,22.5557,2
49UP20140609_2,   P10,30,1,35,112,2,20140708,0724, 952,30.0045,149.2530,6120,  51.7,19.9335,34.6901,2,232.9,2,34.6883,2,232.76,6,  1.80,6, 0.00,6,0.00,6,0.03,6,2.225,2,1.269,2,1988.7,2,2279.0,2,8.0331,2,25,0.20,2,0.11,2,19.9240,2,24.5454,2,19.9312,2
49UP20140609_2,   P10,30,1,34,83,2,20140708,0724, 948,30.0045,149.2530,6120, 100.4,17.5948,34.7436,2,221.0,2,34.7428,2,220.97,2,  2.84,2, 2.66,2,0.05,2,0.20,2,2.360,2,1.361,2,2020.6,2,2280.0,2,7.9937,2,25,0.19,2,0.20,2,17.5779,2,25.1788,2,17.5981,2
49UP20140609_2,   P10,30,1,33,107,2,20140708,0724, 946,30.0045,149.2530,6120, 151.2,17.1806,34.7417,2,225.5,2,34.7407,2,225.30,2,  2.87,2, 2.82,2,0.02,2,0.20,2, -999,9, -999,9,2023.0,2,2281.8,2,7.9639,2,25,0.02,2,0.03,2,17.1556,2,25.2790,2,17.1806,2
49UP20140609_2,   P10,30,1,32,105,2,20140708,0724, 944,30.0045,149.2530,6120, 202.7,17.0194,34.7360,2,226.5,2,34.7349,2,226.41,2,  3.05,2, 2.99,2,0.01,2,0.22,2,2.378,2,1.380,2,2022.5,2,2281.0,2,7.9833,2,25,0.00,2,0.03,2,16.9860,2,25.3149,2,17.0201,2
49UP20140609_2,   P10,30,1,31,515,2,20140708,0724, 942,30.0045,149.2530,6120, 253.5,16.9293,34.7333,2,227.0,2,34.7335,2,227.31,2,  3.06,2, 3.03,2,0.01,2,0.21,2, -999,9, -999,9,2021.2,2,2280.6,2,7.9824,6,25,-999,9,-999,9,16.8876,2,25.3362,2,16.9299,2
49UP20140609_2,   P10,30,1,30,97,2,20140708,0724, 940,30.0045,149.2530,6120, 333.7,16.4983,34.6792,2,214.4,2,34.6800,2,214.33,2,  5.03,2, 5.10,2,0.01,2,0.35,2,2.416,2,1.410,2,2037.6,6,2280.2,6,7.9481,2,25,-999,9,-999,9,16.4443,2,25.3985,2,16.4986,2
49UP20140609_2,   P10,30,1,29,102,2,20140708,0724, 937,30.0045,149.2530,6120, 434.0,14.5370,34.5268,2,195.0,2,34.5283,6,196.25,2, 11.34,2,10.00,2,0.00,2,0.70,2,2.544,6,1.454,6,2076.8,2,2273.4,2,7.8735,2,25,-999,9,-999,9,14.4724,2,25.7213,2,14.5392,2
49UP20140609_2,   P10,30,1,28,108,2,20140708,0724, 935,30.0045,149.2530,6120, 535.2,11.3125,34.2985,2,185.1,2,34.3081,2,184.92,2, 22.71,2,16.06,2,0.00,2,1.15,2,2.723,2,1.489,2,2120.1,2,2275.6,2,7.7695,2,25,-999,9,-999,9,11.2449,2,26.1848,2,11.3139,2
49UP20140609_2,   P10,30,1,27,998,2,20140708,0724, 931,30.0045,149.2530,6120, 637.1, 7.8257,34.0582,2,169.9,2,34.0565,2,170.55,2, 41.27,2,23.06,2,0.00,2,1.68,2,2.766,2,1.470,2,2176.0,2,2280.6,2,7.6500,2,25,-999,9,-999,9, 7.7611,2,26.5692,2, 7.8247,2
49UP20140609_2,   P10,30,1,26,84,2,20140708,0724, 927,30.0045,149.2530,6120, 737.9, 5.3669,34.0193,2,122.1,2,34.0194,2,122.04,2, 71.20,2,32.28,2,0.00,2,2.36,2,2.191,6,1.114,6,2250.0,2,2302.7,2,7.4932,2,25,-999,9,-999,9, 5.3054,2,26.8623,2, 5.3672,2
49UP20140609_2,   P10,30,1,25,98,2,20140708,0724, 923,30.0045,149.2530,6120, 837.6, 4.3192,34.0538,2, 85.1,2,34.0517,2, 85.94,2, 90.49,2,37.06,2,0.00,2,2.69,2,1.734,2,0.877,2,2292.3,2,2315.3,2,7.4049,2,25,-999,9,-999,9, 4.2554,2,27.0069,2, 4.3176,2
49UP20140609_2,   P10,30,1,24,110,2,20140708,0724, 920,30.0045,149.2530,6120, 942.3, 4.1751,34.2163,2, 55.5,2,34.2165,2, 55.57,2,105.83,2,39.71,2,0.00,2,2.86,2,0.795,2,0.394,2,2322.1,2,2339.8,2,7.3809,2,25,-999,9,-999,9, 4.1034,2,27.1520,2, 4.1741,2
49UP20140609_2,   P10,30,1,23,96,2,20140708,0724, 916,30.0045,149.2530,6120,1081.4, 3.6062,34.3156,2, 39.6,2,34.3156,2, 39.99,2,122.02,2,41.70,2,0.00,2,3.00,2,0.313,6,0.152,6,2349.2,2,2359.6,2,7.3602,2,25,-999,9,-999,9, 3.5273,2,27.2891,2, 3.6058,2
49UP20140609_2,   P10,30,1,22,111,2,20140708,0724, 911,30.0045,149.2530,6120,1284.1, 3.0397,34.4317,2, 39.6,2,34.4293,2, 39.26,2,137.87,2,42.47,2,0.00,2,3.04,2,0.071,2,0.033,2,2371.2,2,2381.2,2,7.3683,2,25,-999,9,-999,9, 2.9494,2,27.4360,2, 3.0379,2
49UP20140609_2,   P10,30,1,21,78,2,20140708,0724, 906,30.0045,149.2530,6120,1486.1, 2.6251,34.5027,2, 52.1,2,34.4656,4, 45.95,3,141.84,3,42.08,2,0.00,2,3.01,2,0.049,2,0.019,2,2370.1,2,2388.3,2,7.3821,2,25,-999,9,-999,9, 2.5229,2,27.5303,2, 2.6250,2
49UP20140609_2,   P10,30,1,20,93,2,20140708,0724, 901,30.0045,149.2530,6120,1690.7, 2.3280,34.5464,2, 63.3,2,34.5457,6, 63.40,2,151.75,2,41.31,2,0.00,2,2.94,2,0.006,2,0.000,2,2370.4,6,2402.9,6,7.4194,2,25,-999,9,-999,9, 2.2127,2,27.5912,2, 2.3282,2
49UP20140609_2,   P10,30,1,19,92,2,20140708,0724, 856,30.0045,149.2530,6120,1893.1, 2.0722,34.5832,2, 76.6,2,34.5822,2, 76.64,6,155.57,6,40.62,6,0.00,6,2.88,6,0.000,2,0.000,2,2364.3,2,2408.5,2,7.4495,2,25,-999,9,-999,9, 1.9438,2,27.6421,2, 2.0723,2
49UP20140609_2,   P10,30,1,18,101,2,20140708,0724, 851,30.0045,149.2530,6120,2093.7, 1.9150,34.6080,2, 90.7,2,34.6061,2, 91.84,3,155.88,2,39.70,2,0.00,2,2.81,2,0.002,2,0.000,2,2361.5,2,2413.9,2,7.4724,2,25,-999,9,-999,9, 1.7721,2,27.6753,2, 1.9149,2
49UP20140609_2,   P10,30,1,17,90,2,20140708,0724, 846,30.0045,149.2530,6120,2299.2, 1.7866,34.6283,2,105.6,2,34.6277,2,105.90,2,153.65,2,38.81,2,0.00,2,2.74,2,0.000,2,0.000,2,2357.4,2,2414.7,2,7.4989,2,25,-999,9,-999,9, 1.6281,2,27.7024,2, 1.7864,2
49UP20140609_2,   P10,30,1,16,89,2,20140708,0724, 842,30.0045,149.2530,6120,2500.3, 1.7078,34.6409,2,115.3,2,34.6407,2,117.70,3,152.37,2,38.20,2,0.00,2,2.69,2,0.000,2,0.000,2,2349.8,2,2417.2,2,7.5182,2,25,-999,9,-999,9, 1.5330,2,27.7196,2, 1.7077,2
49UP20140609_2,   P10,30,1,15,88,2,20140708,0724, 836,30.0045,149.2530,6120,2704.5, 1.6431,34.6511,2,122.4,2,34.6511,2,122.39,2,152.16,2,37.80,2,0.00,2,2.66,2, -999,9, -999,9,2342.2,2,2418.2,2,7.5296,2,25,-999,9,-999,9, 1.4510,2,27.7337,2, 1.6430,2
49UP20140609_2,   P10,30,1,14,999,2,20140708,0724, 831,30.0045,149.2530,6120,2912.0, 1.6091,34.6572,2,127.0,2,34.6560,2,127.36,2,151.64,2,37.47,2,0.00,2,2.63,2, -999,9, -999,9,2338.4,2,2418.0,2,7.5381,2,25,-999,9,-999,9, 1.3984,2,27.7424,2, 1.6089,2
49UP20140609_2,   P10,30,1,13,667,2,20140708,0724, 827,30.0045,149.2530,6120,3123.7, 1.5742,34.6632,2,132.3,2,34.6634,2,132.40,2,151.03,2,37.17,2,0.00,2,2.61,2,0.009,2,0.000,2,2337.7,2,2417.4,2,7.5476,2,25,-999,9,-999,9, 1.3439,2,27.7511,2, 1.5741,2
49UP20140609_2,   P10,30,1,12,74,2,20140708,0724, 822,30.0045,149.2530,6120,3378.2, 1.5453,34.6687,2,137.4,2,34.6670,4,136.90,2,149.91,2,36.83,2,0.00,2,2.58,2, -999,9, -999,9,2335.5,2,2417.1,2,7.5557,2,25,-999,9,-999,9, 1.2904,2,27.7593,2, 1.5451,2
49UP20140609_2,   P10,30,1,11,268,2,20140708,0724, 817,30.0045,149.2530,6120,3636.0, 1.5162,34.6742,2,142.7,2,34.6726,2,142.50,2,149.07,2,36.47,2,0.00,2,2.55,2, -999,9, -999,9,2332.3,2,2416.9,2,7.5654,6,25,-999,9,-999,9, 1.2357,2,27.7676,2, 1.5165,2
49UP20140609_2,   P10,30,1,10,267,3,20140708,0724, 812,30.0045,149.2530,6120,3891.7, 1.5036,34.6780,2,146.7,2,34.6778,2,146.54,2,148.31,2,36.18,2,0.00,2,2.54,2,0.003,2,0.000,2,2331.4,6,2415.6,6,7.5688,2,25,-999,9,-999,9, 1.1964,2,27.7733,2, 1.5037,2
49UP20140609_2,   P10,30,1, 9,518,2,20140708,0724, 807,30.0045,149.2530,6120,4145.9, 1.4959,34.6813,2,150.7,2,34.6794,4,149.68,3,147.27,6,36.03,6,0.00,6,2.52,6, -999,9, -999,9,2327.4,2,2415.2,2,7.5785,2,25,-999,9,-999,9, 1.1611,2,27.7784,2, 1.4959,2
49UP20140609_2,   P10,30,1, 8,81,2,20140708,0724, 801,30.0045,149.2530,6120,4402.9, 1.4909,34.6843,2,154.6,2,34.6845,2,154.60,2,146.26,2,35.72,2,0.00,2,2.49,2, -999,9, -999,9,2325.9,2,2415.3,2,7.5705,3,25,-999,9,-999,9, 1.1274,2,27.7831,2, 1.4908,2
49UP20140609_2,   P10,30,1, 7,516,2,20140708,0724, 756,30.0045,149.2530,6120,4661.2, 1.4947,34.6868,2,157.8,2,34.6869,2,157.66,2,145.01,2,35.44,2,0.00,2,2.48,2,0.000,2,0.000,2,2322.6,2,2414.2,2,7.5863,2,25,-999,9,-999,9, 1.1011,2,27.7869,2, 1.4946,2
49UP20140609_2,   P10,30,1, 6,113,2,20140708,0724, 751,30.0045,149.2530,6120,4918.9, 1.5083,34.6889,2,160.4,2,34.6885,6,160.42,2,143.52,2,35.29,2,0.00,2,2.46,2, -999,9, -999,9,2320.4,2,2411.9,2,7.5889,2,25,-999,9,-999,9, 1.0836,2,27.7898,2, 1.5084,2
49UP20140609_2,   P10,30,1, 5,94,2,20140708,0724, 745,30.0045,149.2530,6120,5176.2, 1.5233,34.6907,2,163.0,2,34.6902,2,163.02,2,142.07,2,35.09,2,0.00,2,2.45,2, -999,9, -999,9,2318.6,2,2412.3,2,7.5928,2,25,-999,9,-999,9, 1.0666,2,27.7923,2, 1.5235,2
49UP20140609_2,   P10,30,1, 4,77,2,20140708,0724, 740,30.0045,149.2530,6120,5434.3, 1.5476,34.6915,2,164.6,2,34.6916,2,164.50,2,140.80,2,35.00,2,0.00,2,2.44,2,0.000,2,0.000,2,2313.9,2,2410.9,2,7.5966,2,25,-999,9,-999,9, 1.0577,2,27.7936,2, 1.5478,2
49UP20140609_2,   P10,30,1, 3,104,2,20140708,0724, 735,30.0045,149.2530,6120,5691.0, 1.5719,34.6926,2,166.0,2,34.6912,2,165.82,2,139.39,2,34.86,2,0.00,2,2.43,2, -999,9, -999,9,2312.4,2,2410.3,2,7.5986,2,25,-999,9,-999,9, 1.0481,2,27.7951,2, 1.5721,2
49UP20140609_2,   P10,30,1, 2,75,2,20140708,0724, 729,30.0045,149.2530,6120,5952.1, 1.5988,34.6932,2,167.8,2,34.6913,2,167.95,2,137.91,2,34.71,2,0.00,2,2.42,2, -999,9, -999,9,2311.6,2,2408.5,2,7.5966,2,25,-999,9,-999,9, 1.0395,2,27.7962,2, 1.5989,2
49UP20140609_2,   P10,30,1, 1,997,2,20140708,0724, 724,30.0045,149.2530,6120,6130.4, 1.6192,34.6937,2,168.6,2,34.6925,2,168.07,6,137.53,6,34.78,6,0.00,6,2.42,6,0.007,2,0.000,2,2310.9,2,2406.3,2,7.6008,2,25,-999,9,-999,9, 1.0351,2,27.7969,2, 1.6195,2
49UP20140609_2,   P10,31,1, 0,BUC,2,20140708,1605,1808,29.1457,149.3447,5996,   0.0,23.6760,34.1675,2,216.8,2,   -999,9,216.92,2,  1.56,2, 0.01,2,0.00,2,0.01,2, -999,9, -999,9,-999.0,9,-999.0,9,-999.0,9,-999,-999,9,-999,9,23.6755,2,23.1066,2,   -999,9
49UP20140609_2,   P10,31,1,36,109,2,20140708,1605,1827,29.1457,149.3447,5996,  11.1,23.6529,34.1668,2,216.7,2,34.1695,2,217.06,2,  1.49,2, 0.00,2,0.00,2,0.01,2, -999,9, -999,9,-999.0,9,-999.0,9,-999.0,9,-999,-999,9,-999,9,23.6506,2,23.1133,2,23.6488,2
49UP20140609_2,   P10,31,1,35,112,2,20140708,1605,1825,29.1457,149.3447,5996,  51.4,19.7180,34.6994,2,234.1,2,34.6961,2,234.30,2,  1.92,2, 0.00,2,0.00,2,0.02,2, -999,9, -999,9,-999.0,9,-999.0,9,-999.0,9,-999,-999,9,-999,9,19.7086,2,24.6088,2,19.7206,2
49UP20140609_2,   P10,31,1,34,83,2,20140708,1605,1821,29.1457,149.3447,5996, 100.0,17.6894,34.7390,2,225.2,2,34.7384,2,224.85,2,  2.74,2, 1.95,2,0.11,2,0.14,2, -999,9, -999,9,-999.0,9,-999.0,9,-999.0,9,-999,-999,9,-999,9,17.6725,2,25.1523,2,17.6895,2
49UP20140609_2,   P10,31,1,33,107,2,20140708,1605,1820,29.1457,149.3447,5996, 150.9,17.2549,34.7377,2,222.9,2,34.7367,2,222.25,2,  3.10,2, 2.99,2,0.02,2,0.20,2, -999,9, -999,9,-999.0,9,-999.0,9,-999.0,9,-999,-999,9,-999,9,17.2298,2,25.2582,2,17.2546,2
49UP20140609_2,   P10,31,1,32,105,2,20140708,1605,1818,29.1457,149.3447,5996, 202.2,16.9988,34.7256,2,221.9,2,34.7247,2,221.88,2,  3.51,2, 3.57,2,0.01,2,0.24,2, -999,9, -999,9,-999.0,9,-999.0,9,-999.0,9,-999,-999,9,-999,9,16.9655,2,25.3118,2,16.9992,2
49UP20140609_2,   P10,31,1,31,515,2,20140708,1605,1816,29.1457,149.3447,5996, 252.4,16.8862,34.7226,2,222.6,2,34.7210,2,222.81,2,  3.77,2, 3.66,2,0.01,2,0.24,2, -999,9, -999,9,-999.0,9,-999.0,9,-999.0,9,-999,-999,9,-999,9,16.8448,2,25.3380,2,16.8857,2
49UP20140609_2,   P10,31,1,30,97,2,20140708,1605,1815,29.1457,149.3447,5996, 283.4,16.7257,34.6992,2,224.3,2,34.6981,2,224.16,2,  3.82,2, 3.78,2,0.01,2,0.25,2, -999,9, -999,9,-999.0,9,-999.0,9,-999.0,9,-999,-999,9,-999,9,16.6794,2,25.3590,2,16.7260,2
49UP20140609_2,   P10,31,1,29,102,2,20140708,1605,1812,29.1457,149.3447,5996, 373.0,15.6058,34.6065,2,197.4,2,34.6068,2,197.93,2,  8.68,2, 8.16,2,0.00,2,0.55,2, -999,9, -999,9,-999.0,9,-999.0,9,-999.0,9,-999,-999,9,-999,9,15.5477,2,25.5472,2,15.6065,2
49UP20140609_2,   P10,31,1,28,108,2,20140708,1605,1810,29.1457,149.3447,5996, 474.1,13.9552,34.4860,2,195.7,2,34.4867,2,195.62,2, 13.43,2,11.06,2,0.00,2,0.76,2, -999,9, -999,9,-999.0,9,-999.0,9,-999.0,9,-999,-999,9,-999,9,13.8865,2,25.8135,2,13.9553,2
49UP20140609_2,   P10,31,1,27,998,2,20140708,1605,1807,29.1457,149.3447,5996, 574.9,10.5956,34.2460,2,171.9,2,34.2339,2,173.83,6, 29.97,6,18.47,6,0.00,6,1.33,6, -999,9, -999,9,-999.0,9,-999.0,9,-999.0,9,-999,-999,9,-999,9,10.5258,2,26.2725,2,10.5836,2
49UP20140609_2,   P10,31,1,26,84,2,20140708,1605,1804,29.1457,149.3447,5996, 676.2, 7.4475,34.0366,2,166.0,2,34.0386,2,166.01,2, 44.57,2,24.39,2,0.00,2,1.78,2, -999,9, -999,9,-999.0,9,-999.0,9,-999.0,9,-999,-999,9,-999,9, 7.3808,2,26.6068,2, 7.4476,2
49UP20140609_2,   P10,31,1,25,98,2,20140708,1605,1802,29.1457,149.3447,5996, 776.9, 5.7342,34.0313,2,124.4,2,34.0334,2,123.74,2, 67.48,2,31.62,2,0.00,2,2.31,2, -999,9, -999,9,-999.0,9,-999.0,9,-999.0,9,-999,-999,9,-999,9, 5.6670,2,26.8284,2, 5.7347,2
49UP20140609_2,   P10,31,1,24,110,2,20140708,1605,1759,29.1457,149.3447,5996, 878.4, 4.6594,34.1168,2, 77.6,2,34.1171,2, 77.19,2, 91.10,2,37.43,2,0.00,2,2.71,2, -999,9, -999,9,-999.0,9,-999.0,9,-999.0,9,-999,-999,9,-999,9, 4.5898,2,27.0210,2, 4.6591,2
49UP20140609_2,   P10,31,1,23,96,2,20140708,1605,1756,29.1457,149.3447,5996, 978.7, 4.0976,34.2206,2, 53.2,2,34.2204,2, 53.40,2,108.27,2,40.07,2,0.00,2,2.89,2, -999,9, -999,9,-999.0,9,-999.0,9,-999.0,9,-999,-999,9,-999,9, 4.0235,2,27.1638,2, 4.0974,2
49UP20140609_2,   P10,31,1,22,111,2,20140708,1605,1752,29.1457,149.3447,5996,1142.6, 3.4051,34.3396,2, 38.7,2,34.3388,2, 38.45,2,128.37,2,42.00,2,0.00,2,3.02,2, -999,9, -999,9,-999.0,9,-999.0,9,-999.0,9,-999,-999,9,-999,9, 3.3230,2,27.3279,2, 3.4059,2
49UP20140609_2,   P10,31,1,21,78,2,20140708,1605,1747,29.1457,149.3447,5996,1344.8, 2.8833,34.4339,2, 35.8,2,34.4337,6, 35.69,2,143.25,2,42.85,2,0.00,2,3.07,2, -999,9, -999,9,-999.0,9,-999.0,9,-999.0,9,-999,-999,9,-999,9, 2.7897,2,27.4521,2, 2.8833,2
49UP20140609_2,   P10,31,1,20,93,2,20140708,1605,1742,29.1457,149.3447,5996,1547.5, 2.5129,34.4976,2, 43.2,2,34.4970,2, 43.40,2,152.94,2,42.65,2,0.00,2,3.05,2, -999,9, -999,9,-999.0,9,-999.0,9,-999.0,9,-999,-999,9,-999,9, 2.4071,2,27.5360,2, 2.5138,2
49UP20140609_2,   P10,31,1,19,92,2,20140708,1605,1738,29.1457,149.3447,5996,1750.4, 2.2386,34.5476,2, 56.3,2,34.5475,2, 56.30,2,158.16,2,42.09,2,0.00,2,2.99,2, -999,9, -999,9,-999.0,9,-999.0,9,-999.0,9,-999,-999,9,-999,9, 2.1197,2,27.5997,2, 2.2389,2
49UP20140609_2,   P10,31,1,18,101,2,20140708,1605,1733,29.1457,149.3447,5996,1953.6, 2.0224,34.5815,2, 68.5,2,34.5818,2, 68.63,2,161.93,2,41.34,2,0.00,2,2.93,2, -999,9, -999,9,-999.0,9,-999.0,9,-999.0,9,-999,-999,9,-999,9, 1.8896,2,27.6450,2, 2.0223,2
49UP20140609_2,   P10,31,1,17,90,2,20140708,1605,1728,29.1457,149.3447,5996,2156.9, 1.8735,34.6102,2, 86.1,2,34.6107,2, 86.15,2,160.50,2,40.25,2,0.00,2,2.84,2, -999,9, -999,9,-999.0,9,-999.0,9,-999.0,9,-999,-999,9,-999,9, 1.7259,2,27.6806,2, 1.8736,2
49UP20140609_2,   P10,31,1,16,89,2,20140708,1605,1724,29.1457,149.3447,5996,2359.9, 1.7564,34.6311,2,102.8,2,34.6313,2,103.13,6,157.57,6,39.16,6,0.00,6,2.76,6, -999,9, -999,9,-999.0,9,-999.0,9,-999.0,9,-999,-999,9,-999,9, 1.5932,2,27.7073,2, 1.7563,2
49UP20140609_2,   P10,31,1,15,88,2,20140708,1605,1719,29.1457,149.3447,5996,2563.8, 1.6848,34.6426,2,111.5,2,34.6426,2,111.63,2,156.84,2,38.66,2,0.00,2,2.72,2, -999,9, -999,9,-999.0,9,-999.0,9,-999.0,9,-999,-999,9,-999,9, 1.5047,2,27.7230,2, 1.6847,2
49UP20140609_2,   P10,31,1,14,999,2,20140708,1605,1714,29.1457,149.3447,5996,2768.0, 1.6257,34.6524,2,120.3,2,34.6527,2,120.60,2,155.02,2,37.97,2,0.00,2,2.68,2, -999,9, -999,9,-999.0,9,-999.0,9,-999.0,9,-999,-999,9,-999,9, 1.4281,2,27.7364,2, 1.6257,2
49UP20140609_2,   P10,31,1,13,667,2,20140708,1605,1710,29.1457,149.3447,5996,2970.9, 1.5735,34.6615,2,130.5,2,34.6613,6,130.80,2,151.85,2,37.38,2,0.00,2,2.63,2, -999,9, -999,9,-999.0,9,-999.0,9,-999.0,9,-999,-999,9,-999,9, 1.3579,2,27.7488,2, 1.5736,2
49UP20140609_2,   P10,31,1,12,74,3,20140708,1605,1705,29.1457,149.3447,5996,3216.2, 1.5324,34.6681,2,136.7,2,34.6684,2,137.22,2,150.76,2,36.97,2,0.00,2,2.58,3, -999,9, -999,9,-999.0,9,-999.0,9,-999.0,9,-999,-999,9,-999,9, 1.2940,2,27.7585,2, 1.5325,2
49UP20140609_2,   P10,31,1,11,268,2,20140708,1605,1659,29.1457,149.3447,5996,3471.0, 1.5113,34.6727,2,141.3,2,34.6711,4,140.77,2,150.09,2,36.65,2,0.00,2,2.57,2, -999,9, -999,9,-999.0,9,-999.0,9,-999.0,9,-999,-999,9,-999,9, 1.2479,2,27.7655,2, 1.5111,2
49UP20140609_2,   P10,31,1,10,267,2,20140708,1605,1654,29.1457,149.3447,5996,3726.6, 1.5000,34.6764,2,145.0,2,34.6754,2,144.97,6,148.99,6,36.37,6,0.00,6,2.55,6, -999,9, -999,9,-999.0,9,-999.0,9,-999.0,9,-999,-999,9,-999,9, 1.2104,2,27.7711,2, 1.5000,2
49UP20140609_2,   P10,31,1, 9,518,2,20140708,1605,1648,29.1457,149.3447,5996,3983.0, 1.4888,34.6802,2,149.5,2,34.6781,4,148.27,3,148.04,2,36.15,2,0.00,2,2.53,2, -999,9, -999,9,-999.0,9,-999.0,9,-999.0,9,-999,-999,9,-999,9, 1.1721,2,27.7768,2, 1.4888,2
49UP20140609_2,   P10,31,1, 8,81,2,20140708,1605,1643,29.1457,149.3447,5996,4240.2, 1.4844,34.6833,2,153.5,2,34.6831,6,153.21,2,146.21,2,35.69,3,0.00,2,2.51,2, -999,9, -999,9,-999.0,9,-999.0,9,-999.0,9,-999,-999,9,-999,9, 1.1394,2,27.7815,2, 1.4843,2
49UP20140609_2,   P10,31,1, 7,516,2,20140708,1605,1637,29.1457,149.3447,5996,4495.4, 1.4843,34.6860,2,157.1,2,34.6855,2,156.39,2,145.38,2,35.61,2,0.00,2,2.49,2, -999,9, -999,9,-999.0,9,-999.0,9,-999.0,9,-999,-999,9,-999,9, 1.1104,2,27.7856,2, 1.4841,2
49UP20140609_2,   P10,31,1, 6,113,2,20140708,1605,1632,29.1457,149.3447,5996,4753.2, 1.4948,34.6879,2,159.7,2,34.6878,2,159.70,2,143.80,2,35.34,2,0.00,2,2.47,2, -999,9, -999,9,-999.0,9,-999.0,9,-999.0,9,-999,-999,9,-999,9, 1.0904,2,27.7885,2, 1.4946,2
49UP20140609_2,   P10,31,1, 5,94,2,20140708,1605,1627,29.1457,149.3447,5996,5009.6, 1.5103,34.6896,2,162.4,2,34.6890,2,162.61,2,142.30,2,35.27,2,0.00,2,2.45,2, -999,9, -999,9,-999.0,9,-999.0,9,-999.0,9,-999,-999,9,-999,9, 1.0746,2,27.7909,2, 1.5104,2
49UP20140609_2,   P10,31,1, 4,77,2,20140708,1605,1622,29.1457,149.3447,5996,5267.4, 1.5296,34.6908,2,164.1,2,34.6908,2,164.21,6,141.08,6,35.04,6,0.00,6,2.44,6, -999,9, -999,9,-999.0,9,-999.0,9,-999.0,9,-999,-999,9,-999,9, 1.0613,2,27.7928,2, 1.5296,2
49UP20140609_2,   P10,31,1, 3,104,2,20140708,1605,1617,29.1457,149.3447,5996,5526.0, 1.5483,34.6922,2,166.6,2,34.6915,2,166.71,2,139.27,2,34.81,2,0.00,2,2.43,2, -999,9, -999,9,-999.0,9,-999.0,9,-999.0,9,-999,-999,9,-999,9, 1.0466,2,27.7949,2, 1.5483,2
49UP20140609_2,   P10,31,1, 2,75,2,20140708,1605,1612,29.1457,149.3447,5996,5783.1, 1.5713,34.6932,2,168.7,2,34.6926,2,169.12,2,137.22,2,34.67,2,0.00,2,2.42,2, -999,9, -999,9,-999.0,9,-999.0,9,-999.0,9,-999,-999,9,-999,9, 1.0354,2,27.7964,2, 1.5712,2
49UP20140609_2,   P10,31,1, 1,997,2,20140708,1605,1606,29.1457,149.3447,5996,6125.2, 1.6104,34.6939,2,169.8,2,34.6933,6,170.07,2,136.60,2,34.65,2,0.00,2,2.41,2, -999,9, -999,9,-999.0,9,-999.0,9,-999.0,9,-999,-999,9,-999,9, 1.0274,2,27.7976,2, 1.6105,2