BOTTLE,20230725CCHSIOADS
EXPOCODE,SECT_ID,STNNBR,CASTNO,SAMPNO,BTLNBR,BTLNBR_FLAG_W,DATE,TIME,BTL_TIME,LATITUDE,LONGITUDE,DEPTH,CTDPRS,CTDTMP,CTDSAL,CTDSAL_FLAG_W,CTDOXY,CTDOXY_FLAG_W,SALNTY,SALNTY_FLAG_W,OXYGEN,OXYGEN_FLAG_W,SILCAT,SILCAT_FLAG_W,NO2+NO3,NO2+NO3_FLAG_W,NITRIT,NITRIT_FLAG_W,PHSPHT,PHSPHT_FLAG_W,CFC-11,CFC-11_FLAG_W,CFC-12,CFC-12_FLAG_W,TCARBN,TCARBN_FLAG_W,ALKALI,ALKALI_FLAG_W,PH_TOT,PH_TOT_FLAG_W,PH_TMP,CHLORA,CHLORA_FLAG_W,PPHYTN,PPHYTN_FLAG_W,THETA,THETA_FLAG_W,SIG0,SIG0_FLAG_W,REFTMP,REFTMP_FLAG_W
,,,,,,,,,,,,METERS,DBAR,ITS-90,PSS-78,,UMOL/KG,,PSS-78,,UMOL/KG,,UMOL/KG,,UMOL/KG,,UMOL/KG,,UMOL/KG,,PMOL/KG,,PMOL/KG,,UMOL/KG,,UMOL/KG,,,,DEG C,UG/KG,,UG/KG,,ITS-90,,KG/M^3,,ITS-90,
49UP20140609_2,   P10,42,1, 0,BUC,2,20140712,0603, 805,21.8207,149.2953,5570,   0.0,30.2161,35.1435,2,193.3,2,   -999,9,193.02,2,  1.01,2, 0.00,2,0.00,2,0.05,2, -999,9, -999,9,-999.0,9,-999.0,9,-999.0,9,-999,-999,9,-999,9,30.2154,2,21.7600,2,   -999,9
49UP20140609_2,   P10,42,1,36,109,2,20140712,0603, 823,21.8207,149.2953,5570,  10.7,30.1746,35.1468,2,193.0,2,35.1483,2,193.82,6,  0.96,6, 0.00,6,0.00,6,0.02,6, -999,9, -999,9,-999.0,9,-999.0,9,-999.0,9,-999,-999,9,-999,9,30.1720,2,21.7774,2,30.1739,2
49UP20140609_2,   P10,42,1,35,112,2,20140712,0603, 822,21.8207,149.2953,5570,  51.8,25.6501,35.1240,2,217.9,2,35.1240,2,218.20,2,  1.05,2, 0.00,2,0.00,2,0.02,2, -999,9, -999,9,-999.0,9,-999.0,9,-999.0,9,-999,-999,9,-999,9,25.6386,2,23.2391,2,25.6679,2
49UP20140609_2,   P10,42,1,34,83,2,20140712,0603, 818,21.8207,149.2953,5570, 101.4,22.0197,35.0078,2,216.4,2,35.0050,2,215.86,2,  1.40,2, 0.00,2,0.00,2,0.03,2, -999,9, -999,9,-999.0,9,-999.0,9,-999.0,9,-999,-999,9,-999,9,21.9997,2,24.2239,2,22.0198,2
49UP20140609_2,   P10,42,1,33,107,2,20140712,0603, 816,21.8207,149.2953,5570, 151.1,19.9363,34.9151,2,192.0,2,34.9111,2,190.85,2,  2.42,2, 2.25,2,0.03,2,0.19,2, -999,9, -999,9,-999.0,9,-999.0,9,-999.0,9,-999,-999,9,-999,9,19.9084,2,24.7210,2,19.9354,2
49UP20140609_2,   P10,42,1,32,105,2,20140712,0603, 814,21.8207,149.2953,5570, 202.0,17.6540,34.7380,2,202.7,2,34.7366,2,202.00,2,  3.58,2, 4.22,2,0.01,2,0.29,2, -999,9, -999,9,-999.0,9,-999.0,9,-999.0,9,-999,-999,9,-999,9,17.6198,2,25.1643,2,17.6526,2
49UP20140609_2,   P10,42,1,31,515,2,20140712,0603, 813,21.8207,149.2953,5570, 251.8,16.4246,34.6547,2,200.8,2,34.6510,2,199.87,2,  5.45,2, 6.33,2,0.00,2,0.43,2, -999,9, -999,9,-999.0,9,-999.0,9,-999.0,9,-999,-999,9,-999,9,16.3840,2,25.3937,2,16.4245,2
49UP20140609_2,   P10,42,1,30,97,2,20140712,0603, 810,21.8207,149.2953,5570, 332.9,14.2983,34.4929,2,193.3,2,34.4895,2,192.69,2, 10.86,2,10.36,2,0.00,2,0.72,2, -999,9, -999,9,-999.0,9,-999.0,9,-999.0,9,-999,-999,9,-999,9,14.2495,2,25.7426,2,14.2974,2
49UP20140609_2,   P10,42,1,29,102,2,20140712,0603, 807,21.8207,149.2953,5570, 435.7,11.2132,34.2751,2,186.0,2,34.2752,2,185.80,2, 20.16,2,16.05,2,0.00,2,1.13,2, -999,9, -999,9,-999.0,9,-999.0,9,-999.0,9,-999,-999,9,-999,9,11.1587,2,26.1823,2,11.2116,2
49UP20140609_2,   P10,42,1,28,108,2,20140712,0603, 804,21.8207,149.2953,5570, 534.9, 8.2608,34.1073,2,154.6,2,34.1075,2,154.31,2, 38.97,2,24.27,2,0.00,2,1.75,2, -999,9, -999,9,-999.0,9,-999.0,9,-999.0,9,-999,-999,9,-999,9, 8.2052,2,26.5421,2, 8.2607,2
49UP20140609_2,   P10,42,1,27,998,2,20140712,0603, 801,21.8207,149.2953,5570, 636.2, 6.3924,34.0777,2,111.8,2,34.0785,2,110.39,2, 61.23,2,31.77,2,0.00,2,2.31,2, -999,9, -999,9,-999.0,9,-999.0,9,-999.0,9,-999,-999,9,-999,9, 6.3347,2,26.7810,2, 6.3924,2
49UP20140609_2,   P10,42,1,26,84,2,20140712,0603, 758,21.8207,149.2953,5570, 738.3, 5.1157,34.1807,2, 64.5,2,34.1797,2, 64.29,2, 84.85,2,37.86,2,0.00,2,2.75,2, -999,9, -999,9,-999.0,9,-999.0,9,-999.0,9,-999,-999,9,-999,9, 5.0553,2,27.0193,2, 5.1190,2
49UP20140609_2,   P10,42,1,25,98,2,20140712,0603, 755,21.8207,149.2953,5570, 838.3, 4.3265,34.2867,2, 49.1,2,34.2862,2, 49.44,2,103.89,2,40.45,2,0.00,2,2.93,2, -999,9, -999,9,-999.0,9,-999.0,9,-999.0,9,-999,-999,9,-999,9, 4.2623,2,27.1913,2, 4.3264,2
49UP20140609_2,   P10,42,1,24,110,2,20140712,0603, 752,21.8207,149.2953,5570, 939.0, 3.7836,34.3743,2, 48.1,2,34.3750,2, 48.04,6,116.74,6,41.21,6,0.00,6,2.97,6, -999,9, -999,9,-999.0,9,-999.0,9,-999.0,9,-999,-999,9,-999,9, 3.7148,2,27.3174,2, 3.7836,2
49UP20140609_2,   P10,42,1,23,96,2,20140712,0603, 748,21.8207,149.2953,5570,1080.7, 3.4859,34.4495,2, 56.8,2,34.4490,6, 56.69,2,122.43,2,40.91,2,0.00,2,2.94,2, -999,9, -999,9,-999.0,9,-999.0,9,-999.0,9,-999,-999,9,-999,9, 3.4079,2,27.4074,2, 3.4856,2
49UP20140609_2,   P10,42,1,22,111,2,20140712,0603, 743,21.8207,149.2953,5570,1284.1, 3.0330,34.5129,2, 70.2,2,34.5127,2, 69.97,2,130.78,2,40.39,2,0.00,2,2.89,2, -999,9, -999,9,-999.0,9,-999.0,9,-999.0,9,-999,-999,9,-999,9, 2.9426,2,27.5015,2, 3.0330,2
49UP20140609_2,   P10,42,1,21,78,2,20140712,0603, 738,21.8207,149.2953,5570,1485.7, 2.7064,34.5558,2, 84.0,2,34.5563,2, 83.83,2,135.21,2,39.76,2,0.00,2,2.83,2, -999,9, -999,9,-999.0,9,-999.0,9,-999.0,9,-999,-999,9,-999,9, 2.6031,2,27.5659,2, 2.7063,2
49UP20140609_2,   P10,42,1,20,93,2,20140712,0603, 733,21.8207,149.2953,5570,1687.6, 2.3966,34.5748,2, 90.7,2,34.5747,2, 90.51,2,141.23,2,39.46,2,0.00,2,2.81,2, -999,9, -999,9,-999.0,9,-999.0,9,-999.0,9,-999,-999,9,-999,9, 2.2806,2,27.6084,2, 2.3965,2
49UP20140609_2,   P10,42,1,19,92,2,20140712,0603, 728,21.8207,149.2953,5570,1891.2, 2.1437,34.6017,2,101.2,2,34.6026,2,101.52,2,144.32,2,39.02,2,0.00,2,2.76,2, -999,9, -999,9,-999.0,9,-999.0,9,-999.0,9,-999,-999,9,-999,9, 2.0143,2,27.6515,2, 2.1437,2
49UP20140609_2,   P10,42,1,18,101,2,20140712,0603, 724,21.8207,149.2953,5570,2092.5, 1.9994,34.6199,2,108.7,2,34.6201,6,108.60,2,145.83,2,38.60,2,0.00,2,2.73,2, -999,9, -999,9,-999.0,9,-999.0,9,-999.0,9,-999,-999,9,-999,9, 1.8552,2,27.6784,2, 1.9993,2
49UP20140609_2,   P10,42,1,17,90,2,20140712,0603, 719,21.8207,149.2953,5570,2296.9, 1.8652,34.6297,2,112.9,2,34.6316,2,112.44,2,148.41,2,38.42,2,0.00,2,2.71,2, -999,9, -999,9,-999.0,9,-999.0,9,-999.0,9,-999,-999,9,-999,9, 1.7055,2,27.6978,2, 1.8651,2
49UP20140609_2,   P10,42,1,16,89,2,20140712,0603, 714,21.8207,149.2953,5570,2500.6, 1.7710,34.6418,2,119.6,2,34.6425,2,119.52,2,148.77,2,38.03,2,0.00,2,2.68,2, -999,9, -999,9,-999.0,9,-999.0,9,-999.0,9,-999,-999,9,-999,9, 1.5949,2,27.7158,2, 1.7708,2
49UP20140609_2,   P10,42,1,15,88,2,20140712,0603, 709,21.8207,149.2953,5570,2705.1, 1.7186,34.6496,2,124.3,2,34.6496,2,124.38,2,148.99,2,37.75,2,0.00,2,2.65,2, -999,9, -999,9,-999.0,9,-999.0,9,-999.0,9,-999,-999,9,-999,9, 1.5249,2,27.7271,2, 1.7185,2
49UP20140609_2,   P10,42,1,14,999,2,20140712,0603, 704,21.8207,149.2953,5570,2909.3, 1.6564,34.6575,2,129.7,2,34.6570,2,129.68,2,148.77,2,37.42,2,0.00,2,2.62,2, -999,9, -999,9,-999.0,9,-999.0,9,-999.0,9,-999,-999,9,-999,9, 1.4449,2,27.7393,2, 1.6564,2
49UP20140609_2,   P10,42,1,13,667,2,20140712,0603, 659,21.8207,149.2953,5570,3121.4, 1.6062,34.6635,2,134.2,2,34.6640,2,133.88,2,148.80,2,37.15,2,0.00,2,2.61,2, -999,9, -999,9,-999.0,9,-999.0,9,-999.0,9,-999,-999,9,-999,9, 1.3754,2,27.7491,2, 1.6062,2
49UP20140609_2,   P10,42,1,12,74,2,20140712,0603, 652,21.8207,149.2953,5570,3378.8, 1.5546,34.6708,2,140.6,2,34.6707,2,140.01,2,147.80,2,36.76,2,0.00,2,2.57,2, -999,9, -999,9,-999.0,9,-999.0,9,-999.0,9,-999,-999,9,-999,9, 1.2995,2,27.7604,2, 1.5546,2
49UP20140609_2,   P10,42,1,11,268,2,20140712,0603, 647,21.8207,149.2953,5570,3633.1, 1.5249,34.6755,2,145.3,2,34.6743,6,144.70,6,146.95,6,36.48,6,0.00,6,2.55,6, -999,9, -999,9,-999.0,9,-999.0,9,-999.0,9,-999,-999,9,-999,9, 1.2444,2,27.7680,2, 1.5249,2
49UP20140609_2,   P10,42,1, 9,518,2,20140712,0603, 642,21.8207,149.2953,5570,3889.0, 1.5008,34.6799,2,150.4,2,34.6781,4,149.22,3,145.35,2,36.20,2,0.00,2,2.53,2, -999,9, -999,9,-999.0,9,-999.0,9,-999.0,9,-999,-999,9,-999,9, 1.1939,2,27.7750,2, 1.5007,2
49UP20140609_2,   P10,42,1,10,267,2,20140712,0603, 642,21.8207,149.2953,5570,3889.7, 1.5008,34.6800,2,150.5,2,34.6790,2,149.95,2,145.11,2,36.20,2,0.00,2,2.53,2, -999,9, -999,9,-999.0,9,-999.0,9,-999.0,9,-999,-999,9,-999,9, 1.1939,2,27.7750,2, 1.5009,2
49UP20140609_2,   P10,42,1, 8,81,2,20140712,0603, 637,21.8207,149.2953,5570,4144.5, 1.4853,34.6835,2,155.1,2,34.6834,6,154.98,2,143.65,2,35.78,2,0.00,2,2.49,2, -999,9, -999,9,-999.0,9,-999.0,9,-999.0,9,-999,-999,9,-999,9, 1.1510,2,27.7808,2, 1.4852,2
49UP20140609_2,   P10,42,1, 7,516,2,20140712,0603, 631,21.8207,149.2953,5570,4401.1, 1.4763,34.6868,2,159.6,2,34.6852,4,159.20,6,141.82,2,35.50,2,0.00,2,2.48,2, -999,9, -999,9,-999.0,9,-999.0,9,-999.0,9,-999,-999,9,-999,9, 1.1134,2,27.7861,2, 1.4762,2
49UP20140609_2,   P10,42,1, 6,113,2,20140712,0603, 626,21.8207,149.2953,5570,4659.8, 1.4794,34.6892,2,162.9,2,34.6890,2,162.69,2,140.30,2,35.31,2,0.00,2,2.46,2, -999,9, -999,9,-999.0,9,-999.0,9,-999.0,9,-999,-999,9,-999,9, 1.0865,2,27.7898,2, 1.4795,2
49UP20140609_2,   P10,42,1, 5,94,2,20140712,0603, 621,21.8207,149.2953,5570,4915.4, 1.4881,34.6912,2,166.0,2,34.6910,2,166.00,2,138.06,2,35.05,2,0.00,2,2.44,2, -999,9, -999,9,-999.0,9,-999.0,9,-999.0,9,-999,-999,9,-999,9, 1.0645,2,27.7929,2, 1.4881,2
49UP20140609_2,   P10,42,1, 4,77,2,20140712,0603, 615,21.8207,149.2953,5570,5173.1, 1.5065,34.6926,2,168.4,2,34.6925,2,168.32,2,136.63,2,34.80,2,0.00,2,2.42,2, -999,9, -999,9,-999.0,9,-999.0,9,-999.0,9,-999,-999,9,-999,9, 1.0507,2,27.7949,2, 1.5064,2
49UP20140609_2,   P10,42,1, 3,104,2,20140712,0603, 610,21.8207,149.2953,5570,5431.2, 1.5233,34.6936,2,170.4,2,34.6934,2,170.34,6,135.51,6,34.70,6,0.00,6,2.42,6, -999,9, -999,9,-999.0,9,-999.0,9,-999.0,9,-999,-999,9,-999,9, 1.0346,2,27.7969,2, 1.5233,2
49UP20140609_2,   P10,42,1, 2,75,2,20140712,0603, 604,21.8207,149.2953,5570,5710.5, 1.5272,34.6962,2,174.8,2,34.6966,6,175.10,2,132.89,2,34.41,2,0.00,2,2.39,2, -999,9, -999,9,-999.0,9,-999.0,9,-999.0,9,-999,-999,9,-999,9, 1.0025,2,27.8011,2, 1.5272,2
49UP20140609_2,   P10,43,1, 0,BUC,2,20140712,1356,1544,21.1803,149.3752,5406,   0.0,30.7852,34.7811,2,190.9,2,34.7874,2,191.26,2,  0.96,2, 0.01,2,0.00,2,0.04,2, -999,9, -999,9,1937.4,2,2285.2,2,8.1294,2,25,0.07,2,0.02,2,30.7846,2,21.2921,2,   -999,9
49UP20140609_2,   P10,43,1,36,109,2,20140712,1356,1611,21.1803,149.3752,5406,  10.3,30.7764,34.7874,2,190.6,2,34.7828,2,191.45,2,  0.96,2, 0.00,2,0.00,2,0.02,2, -999,9, -999,9,1939.9,2,2283.6,2,8.1271,2,25,0.07,2,0.02,2,30.7738,2,21.3005,2,30.7767,2
49UP20140609_2,   P10,43,1,35,112,2,20140712,1356,1607,21.1803,149.3752,5406,  50.5,25.5850,35.0292,2,217.7,2,35.0306,2,218.57,2,  1.17,2, 0.01,2,0.00,2,0.02,2, -999,9, -999,9,1974.1,2,2299.3,2,8.0922,2,25,0.08,2,0.02,2,25.5739,2,23.1875,2,25.5859,2
49UP20140609_2,   P10,43,1,34,83,2,20140712,1356,1605,21.1803,149.3752,5406, 100.0,22.4538,35.0091,2,222.2,2,35.0087,2,221.78,2,  1.38,2, 0.00,2,0.00,2,0.02,2, -999,9, -999,9,1987.2,2,2300.4,2,8.0662,2,25,0.15,2,0.07,2,22.4337,2,24.1025,2,22.4630,2
49UP20140609_2,   P10,43,1,33,107,2,20140712,1356,1603,21.1803,149.3752,5406, 150.9,20.4143,34.9090,2,212.0,2,34.9076,2,211.02,2,  1.90,2, 0.07,2,0.03,2,0.06,2, -999,9, -999,9,2009.9,2,2293.0,2,8.0172,2,25,0.18,2,0.35,2,20.3860,2,24.5900,2,20.4129,2
49UP20140609_2,   P10,43,1,32,105,2,20140712,1356,1602,21.1803,149.3752,5406, 201.7,18.3889,34.7801,2,203.7,2,34.7791,2,204.00,2,  2.97,2, 3.04,2,0.02,2,0.22,2, -999,9, -999,9,2025.7,2,2284.4,2,7.9757,2,25,0.04,2,0.13,2,18.3538,2,25.0160,2,18.4020,2
49UP20140609_2,   P10,43,1,31,515,2,20140712,1356,1600,21.1803,149.3752,5406, 251.8,17.3093,34.7159,2,205.1,2,34.7136,2,205.18,6,  4.08,6, 4.71,6,0.01,6,0.32,6, -999,9, -999,9,2036.2,2,2280.6,2,7.9547,2,25,-999,9,-999,9,17.2672,2,25.2325,2,17.3056,2
49UP20140609_2,   P10,43,1,30,97,2,20140712,1356,1559,21.1803,149.3752,5406, 281.4,16.6095,34.6713,2,203.7,2,34.6706,2,203.72,2,  5.31,2, 5.91,2,0.01,2,0.40,2, -999,9, -999,9,2046.0,2,2278.6,2,7.9381,6,25,-999,9,-999,9,16.5638,2,25.3646,2,16.6076,2
49UP20140609_2,   P10,43,1,29,102,2,20140712,1356,1556,21.1803,149.3752,5406, 373.1,13.7615,34.4491,2,189.4,2,34.4458,2,189.41,2, 12.18,2,11.45,2,0.00,2,0.81,2, -999,9, -999,9,2084.0,6,2272.8,6,7.8378,2,25,-999,9,-999,9,13.7081,2,25.8220,2,13.7572,2
49UP20140609_2,   P10,43,1,28,108,2,20140712,1356,1554,21.1803,149.3752,5406, 474.8, 9.9136,34.1987,2,170.9,2,34.1979,2,170.36,2, 27.92,2,19.85,2,0.00,2,1.43,2, -999,9, -999,9,2143.9,2,2273.5,2,7.7049,2,25,-999,9,-999,9, 9.8586,2,26.3501,2, 9.9137,2
49UP20140609_2,   P10,43,1,27,998,2,20140712,1356,1551,21.1803,149.3752,5406, 575.9, 7.4542,34.1212,2,117.7,2,34.1197,2,115.83,2, 49.73,2,29.41,2,0.00,2,2.13,2, -999,9, -999,9,2214.0,2,2288.4,2,7.5476,2,25,-999,9,-999,9, 7.3976,2,26.6710,2, 7.4520,2
49UP20140609_2,   P10,43,1,26,84,2,20140712,1356,1548,21.1803,149.3752,5406, 675.3, 5.9707,34.2052,2, 74.3,2,34.2052,2, 73.61,2, 71.89,2,35.73,2,0.00,2,2.60,2, -999,9, -999,9,2272.5,2,2315.8,2,7.4511,2,25,-999,9,-999,9, 5.9113,2,26.9358,2, 5.9683,2
49UP20140609_2,   P10,43,1,25,98,2,20140712,1356,1545,21.1803,149.3752,5406, 776.6, 4.9869,34.2539,2, 51.7,2,34.2526,2, 51.26,2, 89.18,2,39.43,2,0.00,2,2.86,2, -999,9, -999,9,2306.0,2,2332.9,2,7.3998,2,25,-999,9,-999,9, 4.9238,2,27.0925,2, 4.9876,2
49UP20140609_2,   P10,43,1,24,110,2,20140712,1356,1542,21.1803,149.3752,5406, 878.7, 4.4516,34.3701,2, 54.8,2,34.3692,2, 54.70,2,100.92,2,39.94,2,0.00,2,2.89,2, -999,9, -999,9,2329.7,2,2351.6,2,7.4135,2,25,-999,9,-999,9, 4.3831,2,27.2446,2, 4.4511,2
49UP20140609_2,   P10,43,1,23,96,2,20140712,1356,1539,21.1803,149.3752,5406, 981.0, 3.9596,34.4440,2, 62.4,2,34.4427,2, 61.99,2,110.93,2,39.99,2,0.00,2,2.89,2, -999,9, -999,9,2327.8,2,2365.9,2,7.4319,2,25,-999,9,-999,9, 3.8859,2,27.3556,2, 3.9595,2
49UP20140609_2,   P10,43,1,22,111,2,20140712,1356,1535,21.1803,149.3752,5406,1140.3, 3.5885,34.4924,2, 70.0,2,34.4917,2, 69.40,2,118.34,2,39.95,2,0.00,2,2.87,2, -999,9, -999,9,2333.8,2,2377.4,2,7.4479,2,25,-999,9,-999,9, 3.5047,2,27.4322,2, 3.5883,2
49UP20140609_2,   P10,43,1,21,78,2,20140712,1356,1530,21.1803,149.3752,5406,1342.6, 3.0069,34.5351,2, 79.9,2,34.5349,2, 79.41,2,129.61,2,39.72,2,0.00,2,2.85,2, -999,9, -999,9,2339.6,2,2390.9,2,7.4609,2,25,-999,9,-999,9, 2.9120,2,27.5220,2, 3.0069,2
49UP20140609_2,   P10,43,1,20,93,2,20140712,1356,1525,21.1803,149.3752,5406,1547.2, 2.6177,34.5684,2, 89.9,2,34.5675,2, 89.87,2,135.88,2,39.54,2,0.00,2,2.81,2, -999,9, -999,9,2339.8,2,2400.8,2,7.4808,6,25,-999,9,-999,9, 2.5104,2,27.5839,2, 2.6180,2
49UP20140609_2,   P10,43,1,19,92,2,20140712,1356,1519,21.1803,149.3752,5406,1751.1, 2.3144,34.5877,2, 95.6,2,34.5874,2, 95.51,6,141.64,6,39.26,6,0.00,6,2.80,6, -999,9, -999,9,2348.1,6,2405.6,6,7.4869,2,25,-999,9,-999,9, 2.1943,2,27.6258,2, 2.3145,2
49UP20140609_2,   P10,43,1,18,101,2,20140712,1356,1514,21.1803,149.3752,5406,1952.2, 2.0612,34.6116,2,105.5,2,34.6106,2,105.43,2,145.00,2,38.72,2,0.00,2,2.74,2, -999,9, -999,9,2345.4,2,2410.7,2,7.5076,2,25,-999,9,-999,9, 1.9280,2,27.6662,2, 2.0612,2
49UP20140609_2,   P10,43,1,17,90,2,20140712,1356,1509,21.1803,149.3752,5406,2154.9, 1.9367,34.6287,2,112.3,2,34.6279,2,112.21,2,146.42,2,38.39,2,0.00,2,2.72,2, -999,9, -999,9,2346.0,2,2415.5,2,7.5183,2,25,-999,9,-999,9, 1.7882,2,27.6907,2, 1.9366,2
49UP20140609_2,   P10,43,1,16,89,3,20140712,1356,1504,21.1803,149.3752,5406,2357.7, 1.8232,34.6398,2,118.0,2,34.6399,6,118.33,2,147.66,2,38.16,2,0.00,2,2.69,2, -999,9, -999,9,2342.0,2,2416.7,2,7.5274,2,25,-999,9,-999,9, 1.6589,2,27.7094,2, 1.8231,2
49UP20140609_2,   P10,43,1,15,88,2,20140712,1356,1500,21.1803,149.3752,5406,2562.8, 1.7531,34.6477,2,122.5,2,34.6473,2,122.30,2,148.67,2,37.80,2,0.00,2,2.67,2, -999,9, -999,9,2342.0,2,2417.8,2,7.5341,2,25,-999,9,-999,9, 1.5718,2,27.7222,2, 1.7529,2
49UP20140609_2,   P10,43,1,14,999,2,20140712,1356,1454,21.1803,149.3752,5406,2765.8, 1.7022,34.6526,2,126.0,2,34.6520,2,125.83,6,148.86,6,37.71,6,0.00,6,2.65,6, -999,9, -999,9,2341.6,2,2418.0,2,7.5397,2,25,-999,9,-999,9, 1.5033,2,27.7311,2, 1.7023,2
49UP20140609_2,   P10,43,1,13,667,2,20140712,1356,1450,21.1803,149.3752,5406,2972.5, 1.6294,34.6609,2,131.9,2,34.6597,6,132.09,2,148.97,2,37.35,2,0.00,2,2.62,2, -999,9, -999,9,2338.6,2,2419.5,2,7.5511,2,25,-999,9,-999,9, 1.4124,2,27.7444,2, 1.6294,2
49UP20140609_2,   P10,43,1,11,268,2,20140712,1356,1444,21.1803,149.3752,5406,3215.7, 1.5929,34.6659,2,136.0,2,34.6657,2,135.73,2,148.94,2,37.08,2,0.00,2,2.60,2, -999,9, -999,9,2333.9,2,2419.6,2,7.5574,2,25,-999,9,-999,9, 1.3531,2,27.7526,2, 1.5929,2
49UP20140609_2,   P10,43,1,12,74,2,20140712,1356,1444,21.1803,149.3752,5406,3215.9, 1.5931,34.6659,2,135.8,2,34.6657,2,135.70,2,148.87,2,36.94,2,0.00,2,2.60,2, -999,9, -999,9,2335.2,2,2421.2,2,7.5548,2,25,-999,9,-999,9, 1.3533,2,27.7526,2, 1.5931,2
49UP20140609_2,   P10,43,1, 9,518,3,20140712,1356,1438,21.1803,149.3752,5406,3473.5, 1.5552,34.6715,2,141.0,2,34.6713,2,140.30,2,148.15,2,36.76,2,0.00,2,2.58,2, -999,9, -999,9,2333.9,2,2420.1,2,7.5649,2,25,-999,9,-999,9, 1.2904,2,27.7616,2, 1.5552,2
49UP20140609_2,   P10,43,1,10,267,2,20140712,1356,1438,21.1803,149.3752,5406,3474.0, 1.5554,34.6715,2,141.0,2,34.6703,2,140.47,2,147.74,2,36.76,2,0.00,2,2.58,2, -999,9, -999,9,2338.5,2,2419.4,2,7.5597,2,25,-999,9,-999,9, 1.2906,2,27.7616,2, 1.5553,2
49UP20140609_2,   P10,43,1, 8,81,2,20140712,1356,1432,21.1803,149.3752,5406,3728.6, 1.5035,34.6783,2,148.1,2,34.6778,2,147.49,2,146.55,2,36.24,2,0.00,2,2.54,2, -999,9, -999,9,2328.0,2,2417.9,2,7.5745,2,25,-999,9,-999,9, 1.2136,2,27.7724,2, 1.5035,2
49UP20140609_2,   P10,43,1, 7,516,2,20140712,1356,1427,21.1803,149.3752,5406,3983.4, 1.4925,34.6815,2,152.1,2,34.6800,4,151.26,2,144.98,2,36.13,2,0.00,2,2.52,2, -999,9, -999,9,2322.9,2,2417.7,2,7.5804,2,25,-999,9,-999,9, 1.1756,2,27.7776,2, 1.4925,2
49UP20140609_2,   P10,43,1, 6,113,2,20140712,1356,1421,21.1803,149.3752,5406,4239.0, 1.4838,34.6847,2,156.3,2,34.6842,6,155.95,2,143.39,2,35.73,2,0.00,2,2.50,2, -999,9, -999,9,2317.6,2,2416.4,2,7.5870,6,25,-999,9,-999,9, 1.1390,2,27.7826,2, 1.4837,2
49UP20140609_2,   P10,43,1, 5,94,3,20140712,1356,1416,21.1803,149.3752,5406,4496.2, 1.4781,34.6877,2,161.0,2,34.6874,2,160.77,2,140.59,2,35.40,2,0.00,2,2.47,2, -999,9, -999,9,2316.0,6,2412.3,6,7.5906,2,25,-999,9,-999,9, 1.1043,2,27.7874,2, 1.4781,2
49UP20140609_2,   P10,43,1, 4,77,2,20140712,1356,1411,21.1803,149.3752,5406,4752.5, 1.4876,34.6895,2,163.6,2,34.6894,2,163.29,6,139.46,6,35.25,6,0.00,6,2.46,6, -999,9, -999,9,2315.0,2,2413.3,2,7.5929,2,25,-999,9,-999,9, 1.0835,2,27.7903,2, 1.4876,2
49UP20140609_2,   P10,43,1, 3,104,2,20140712,1356,1405,21.1803,149.3752,5406,5009.6, 1.4982,34.6914,2,166.5,2,34.6909,2,166.37,2,137.61,2,35.00,2,0.00,2,2.45,2, -999,9, -999,9,2311.8,2,2411.1,2,7.6003,2,25,-999,9,-999,9, 1.0628,2,27.7932,2, 1.4981,2
49UP20140609_2,   P10,43,1, 2,75,2,20140712,1356,1400,21.1803,149.3752,5406,5267.3, 1.5180,34.6924,2,168.4,2,34.6921,6,168.41,2,136.26,2,34.80,2,0.00,2,2.43,2, -999,9, -999,9,2310.2,2,2408.9,2,7.6018,2,25,-999,9,-999,9, 1.0502,2,27.7948,2, 1.5178,2
49UP20140609_2,   P10,43,1, 1,997,3,20140712,1356,1356,21.1803,149.3752,5406,5483.9, 1.5356,34.6933,2,169.7,2,34.6925,2,169.68,2,135.87,2,34.70,2,0.00,2,2.42,2, -999,9, -999,9,2309.6,2,2407.3,2,7.6025,2,25,-999,9,-999,9, 1.0397,2,27.7962,2, 1.5355,2