BOTTLE,20140930PRINUNIVRMK
EXPOCODE,SECT_ID,STNNBR,CASTNO,BTLNBR,BTLNBR_FLAG_W,DATE,TIME,LATITUDE,LONGITUDE,DEPTH,CTDPRS,CTDTMP,CTDSAL,CTDSAL_FLAG_W,SALNTY,SALNTY_FLAG_W,CTDOXY,CTDOXY_FLAG_W,OXYGEN,OXYGEN_FLAG_W,SILCAT,SILCAT_FLAG_W,NITRAT,NITRAT_FLAG_W,PHSPHT,PHSPHT_FLAG_W,ALKALI,ALKALI_FLAG_W,PH_SWS,PH_SWS_FLAG_W,PH_TMP
,,,,,,,,,,METERS,DBAR,ITS-90,PSS-78,,PSS-78,,UMOL/KG,,UMOL/KG,,UMOL/KG,,UMOL/KG,,UMOL/KG,,UMOL/KG,,,,DEG C
  06MM20060523, OVIDE,   102,  1,      3,2,20060619,1242, 59.1660, -40.2370, 2927,   2958.3,   1.6760,  34.9080,2,  34.9060,2,    301.4,2,    302.7,2,     8.07,2,    14.41,2,     0.86,2,   -999.0,9,   7.7290,2,    25.00
  06MM20060523, OVIDE,   102,  1,      4,2,20060619,1242, 59.1660, -40.2370, 2927,   2896.9,   1.9220,  34.9060,2,  34.9060,2,    302.6,2,    300.8,2,     7.83,2,    14.51,2,     0.87,2,   -999.0,9,   7.7290,2,    25.00
  06MM20060523, OVIDE,   102,  1,      5,2,20060619,1242, 59.1660, -40.2370, 2927,   2847.1,   2.1390,  34.9020,2,  34.9010,2,    297.2,2,    297.9,2,     8.38,2,    14.41,2,     0.89,2,   -999.0,9,   7.7280,2,    25.00
  06MM20060523, OVIDE,   102,  1,      6,2,20060619,1242, 59.1660, -40.2370, 2927,   2744.7,   2.4250,  34.9160,2,  34.9160,2,    286.8,2,    285.9,2,    11.92,2,    16.66,2,     0.99,2,   -999.0,9,   7.7290,2,    25.00
  06MM20060523, OVIDE,   102,  1,      7,2,20060619,1242, 59.1660, -40.2370, 2927,   2496.0,   2.8170,  34.9340,2,  34.9300,2,    279.7,2,    279.0,2,    12.95,2,    17.27,2,  -999.00,9,   -999.0,9,   7.7270,2,    25.00
  06MM20060523, OVIDE,   102,  1,      8,2,20060619,1242, 59.1660, -40.2370, 2927,   2246.2,   2.9760,  34.9320,2,  34.9320,2,    279.9,2,    279.2,2,    12.28,2,    17.27,2,     1.03,2,   -999.0,9,   7.7300,2,    25.00
  06MM20060523, OVIDE,   102,  1,      9,2,20060619,1242, 59.1660, -40.2370, 2927,   1992.9,   3.1230,  34.9260,2,  34.9250,2,    281.4,2,    279.6,2,    11.45,2,    17.52,2,     1.05,2,   -999.0,9,   7.7260,2,    25.00
  06MM20060523, OVIDE,   102,  1,     10,2,20060619,1242, 59.1660, -40.2370, 2927,   1743.3,   3.2300,  34.9160,2,  34.9150,2,    282.8,2,    281.6,2,    10.86,2,    17.58,2,     1.06,2,   -999.0,9,   7.7260,2,    25.00
  06MM20060523, OVIDE,   102,  1,     11,2,20060619,1242, 59.1660, -40.2370, 2927,   1497.2,   3.3640,  34.9080,2,  34.9110,2,    281.2,2,    280.6,2,    10.70,2,    17.83,2,     1.06,2,   -999.0,9,   7.7210,2,    25.00
  06MM20060523, OVIDE,   102,  1,     12,2,20060619,1242, 59.1660, -40.2370, 2927,   1295.4,   3.5170,  34.9110,2,  34.9100,2,    279.6,2,    278.5,2,    10.07,2,    17.83,2,     1.07,2,   -999.0,9,   7.7160,2,    25.00
  06MM20060523, OVIDE,   102,  1,     13,2,20060619,1242, 59.1660, -40.2370, 2927,   1146.9,   3.5380,  34.8990,2,  34.8980,2,    282.6,2,    281.4,2,     9.33,2,    17.58,2,     1.05,2,   -999.0,9,   7.7170,2,    25.00
  06MM20060523, OVIDE,   102,  1,     15,2,20060619,1242, 59.1660, -40.2370, 2927,    996.2,   3.5240,  34.8800,2,  34.8780,2,    287.6,2,    284.7,2,     9.60,2,    17.58,2,     1.05,2,   -999.0,9,   7.7140,2,    25.00
  06MM20060523, OVIDE,   102,  1,     16,2,20060619,1242, 59.1660, -40.2370, 2927,    894.7,   3.5690,  34.8790,2,  34.8760,2,    285.3,2,    282.2,2,     9.29,2,    18.50,2,     1.04,2,   -999.0,9,   7.7190,2,    25.00
  06MM20060523, OVIDE,   102,  1,     17,2,20060619,1242, 59.1660, -40.2370, 2927,    796.3,   3.6620,  34.8820,2,  34.8790,2,    285.0,2,    288.9,2,     9.29,2,    17.42,2,     1.05,2,   -999.0,9,   7.7200,2,    25.00
  06MM20060523, OVIDE,   102,  1,     18,2,20060619,1242, 59.1660, -40.2370, 2927,    695.5,   3.8160,  34.8960,2,  34.8960,2,    285.2,2,    287.4,2,     9.37,2,    17.37,2,     1.06,2,   -999.0,9,   7.7170,2,    25.00
  06MM20060523, OVIDE,   102,  1,     19,2,20060619,1242, 59.1660, -40.2370, 2927,    595.2,   3.9660,  34.9040,2,  34.9020,2,    281.2,2,    282.9,2,     9.33,2,    17.73,2,     1.06,2,   -999.0,9,   7.7180,2,    25.00
  06MM20060523, OVIDE,   102,  1,     20,2,20060619,1242, 59.1660, -40.2370, 2927,    495.3,   4.2290,  34.9210,2,  34.9220,2,    277.8,2,    279.8,2,     9.21,2,    17.68,2,     1.06,2,   -999.0,9,   7.7200,2,    25.00
  06MM20060523, OVIDE,   102,  1,     21,2,20060619,1242, 59.1660, -40.2370, 2927,    375.3,   4.4440,  34.9260,2,  34.9250,2,    288.4,2,    284.7,2,     8.78,2,    17.52,2,     1.04,2,   -999.0,9,   7.7260,2,    25.00
  06MM20060523, OVIDE,   102,  1,     22,2,20060619,1242, 59.1660, -40.2370, 2927,    268.0,   4.7610,  34.9470,2,  34.9470,2,    281.8,2,    283.7,2,     8.70,2,    17.22,2,     1.03,2,   -999.0,9,   7.7320,2,    25.00
  06MM20060523, OVIDE,   102,  1,     23,2,20060619,1242, 59.1660, -40.2370, 2927,    193.5,   4.9310,  34.9300,2,  34.9290,2,    291.2,2,    287.0,2,     8.34,2,    16.96,2,     1.01,2,   -999.0,9,   7.7360,2,    25.00
  06MM20060523, OVIDE,   102,  1,     24,2,20060619,1242, 59.1660, -40.2370, 2927,    145.9,   5.0970,  34.9350,2,  34.9350,2,    287.9,2,    290.0,2,     8.14,2,    16.71,2,     1.01,2,   -999.0,9,   7.7400,2,    25.00
  06MM20060523, OVIDE,   102,  1,     25,2,20060619,1242, 59.1660, -40.2370, 2927,     96.4,   5.3590,  34.9540,2,  34.9510,2,    281.6,2,    283.7,2,     8.18,2,    16.96,2,     1.03,2,   -999.0,9,   7.7400,2,    25.00
  06MM20060523, OVIDE,   102,  1,     26,2,20060619,1242, 59.1660, -40.2370, 2927,     46.9,   7.0330,  34.9220,2,  34.9240,2,    300.3,2,   -999.0,3,     5.63,2,    11.24,2,     0.72,2,   -999.0,9,-999.0000,9,    25.00
  06MM20060523, OVIDE,   102,  1,     27,2,20060619,1242, 59.1660, -40.2370, 2927,      5.5,   7.3760,  34.9040,2,  34.9050,2,    285.0,2,   -999.0,3,     5.12,2,     9.76,2,     0.65,2,   -999.0,9,-999.0000,9,    25.00
  06MM20060523, OVIDE,   103,  1,      3,2,20060619,1636, 59.2920, -40.6580, 2743,   2767.3,   1.6120,  34.9070,2,  34.9050,2,    303.7,2,    301.6,2,     8.11,2,    14.46,2,     0.88,2,   -999.0,9,   7.7250,2,    25.00
  06MM20060523, OVIDE,   103,  1,      4,2,20060619,1636, 59.2920, -40.6580, 2743,   2704.2,   1.8670,  34.9070,2,  34.9070,2,    301.3,2,    301.7,2,     7.95,2,    14.41,2,     0.88,2,   -999.0,9,   7.7290,2,    25.00
  06MM20060523, OVIDE,   103,  1,      5,2,20060619,1636, 59.2920, -40.6580, 2743,   2667.7,   2.0370,  34.9060,2,  34.9050,2,    293.5,2,    298.5,2,     8.66,2,    14.81,2,     0.91,2,   -999.0,9,   7.7290,2,    25.00
  06MM20060523, OVIDE,   103,  1,      6,2,20060619,1636, 59.2920, -40.6580, 2743,   2495.4,   2.4570,  34.9190,2,  34.9160,2,    285.2,2,    284.4,2,    12.36,2,    16.52,2,     1.01,2,   -999.0,9,   7.7280,2,    25.00
  06MM20060523, OVIDE,   103,  1,      7,2,20060619,1636, 59.2920, -40.6580, 2743,   2245.2,   2.8430,  34.9370,2,  34.9340,2,    279.4,2,    278.5,2,    13.10,2,    17.32,2,     1.06,2,   -999.0,9,   7.7300,2,    25.00
  06MM20060523, OVIDE,   103,  1,      8,2,20060619,1636, 59.2920, -40.6580, 2743,   1995.5,   3.0180,  34.9280,2,  34.9270,2,    281.2,2,    279.8,2,    12.04,2,    17.42,2,     1.05,2,   -999.0,9,   7.7290,2,    25.00
  06MM20060523, OVIDE,   103,  1,      9,2,20060619,1636, 59.2920, -40.6580, 2743,   1794.4,   3.1710,  34.9270,2,  34.9260,2,    281.5,2,    280.6,2,    11.37,2,    17.57,2,     1.07,2,   -999.0,9,   7.7290,2,    25.00
  06MM20060523, OVIDE,   103,  1,     10,2,20060619,1636, 59.2920, -40.6580, 2743,   1595.2,   3.2960,  34.9220,2,  34.9290,3,    281.9,2,    280.9,2,    11.02,2,    17.62,2,     1.08,2,   -999.0,9,   7.7260,2,    25.00
  06MM20060523, OVIDE,   103,  1,     11,2,20060619,1636, 59.2920, -40.6580, 2743,   1395.0,   3.3760,  34.9120,2,  34.9090,2,    279.8,2,    281.0,2,    10.78,2,    17.77,2,     1.10,2,   -999.0,9,   7.7240,2,    25.00
  06MM20060523, OVIDE,   103,  1,     12,2,20060619,1636, 59.2920, -40.6580, 2743,   1196.8,   3.5330,  34.9110,2,  34.9100,2,    279.6,2,    277.8,2,    10.55,2,    17.72,2,     1.08,2,   -999.0,9,   7.7210,2,    25.00
  06MM20060523, OVIDE,   103,  1,     13,2,20060619,1636, 59.2920, -40.6580, 2743,    995.9,   3.4970,  34.8810,2,  34.8790,2,    286.7,2,    285.9,2,     9.76,2,    17.52,2,     1.06,2,   -999.0,9,   7.7200,2,    25.00
  06MM20060523, OVIDE,   103,  1,     14,2,20060619,1636, 59.2920, -40.6580, 2743,    896.3,   3.5220,  34.8750,2,  34.8750,2,    290.4,2,    289.0,2,     9.40,2,    17.37,2,     1.06,2,   -999.0,9,   7.7180,2,    25.00
  06MM20060523, OVIDE,   103,  1,     15,2,20060619,1636, 59.2920, -40.6580, 2743,    796.7,   3.5690,  34.8740,2,  34.8720,2,    292.8,2,    291.4,2,     9.17,2,    17.02,2,     1.05,2,   -999.0,9,   7.7220,2,    25.00
  06MM20060523, OVIDE,   103,  1,     16,2,20060619,1636, 59.2920, -40.6580, 2743,    795.6,   3.5720,  34.8740,2,  34.8750,2,    292.8,2,    291.6,2,     9.17,2,    16.52,2,     1.06,2,   -999.0,9,   7.7230,2,    25.00
  06MM20060523, OVIDE,   103,  1,     17,2,20060619,1636, 59.2920, -40.6580, 2743,    695.3,   3.6920,  34.8820,2,  34.8800,2,    287.0,2,    288.0,2,     9.33,2,    17.32,2,     1.06,2,   -999.0,9,   7.7200,2,    25.00
  06MM20060523, OVIDE,   103,  1,     18,2,20060619,1636, 59.2920, -40.6580, 2743,    595.7,   3.8810,  34.8950,2,  34.8920,2,    285.0,2,    284.3,2,     9.37,2,    17.52,2,     1.08,2,   -999.0,9,   7.7200,2,    25.00
  06MM20060523, OVIDE,   103,  1,     19,2,20060619,1636, 59.2920, -40.6580, 2743,    496.2,   4.1010,  34.9080,2,  34.9050,2,    284.2,2,    285.8,2,     9.09,2,    17.37,2,     1.06,2,   -999.0,9,   7.7240,2,    25.00
  06MM20060523, OVIDE,   103,  1,     20,2,20060619,1636, 59.2920, -40.6580, 2743,    396.3,   4.3800,  34.9270,2,  34.9260,2,    285.9,2,    285.1,2,     9.01,2,    17.32,2,     1.05,2,   -999.0,9,   7.7280,2,    25.00
  06MM20060523, OVIDE,   103,  1,     21,2,20060619,1636, 59.2920, -40.6580, 2743,    294.8,   4.7430,  34.9550,2,  34.9540,2,    295.2,2,    292.6,2,     8.26,2,    16.06,2,     1.03,2,   -999.0,9,   7.7400,2,    25.00
  06MM20060523, OVIDE,   103,  1,     22,2,20060619,1636, 59.2920, -40.6580, 2743,    196.8,   4.7360,  34.9180,2,  34.9190,2,    289.8,2,    291.0,2,     8.38,2,    16.57,2,     1.05,2,   -999.0,9,   7.7340,2,    25.00
  06MM20060523, OVIDE,   103,  1,     23,2,20060619,1636, 59.2920, -40.6580, 2743,    146.4,   4.9300,  34.9220,2,  34.9180,2,    292.3,2,    289.6,2,     8.34,2,    16.22,2,     1.03,2,   -999.0,9,   7.7370,2,    25.00
  06MM20060523, OVIDE,   103,  1,     24,2,20060619,1636, 59.2920, -40.6580, 2743,     96.2,   5.1560,  34.9320,2,  34.9320,2,    292.0,2,    292.5,2,     7.99,2,    16.22,2,     1.01,2,   -999.0,9,   7.7450,2,    25.00
  06MM20060523, OVIDE,   103,  1,     25,2,20060619,1636, 59.2920, -40.6580, 2743,     46.6,   6.4670,  34.8940,2,  34.8950,2,    298.1,2,    301.4,2,     5.23,2,     8.61,2,     0.64,2,   -999.0,9,   7.8490,2,    25.00
  06MM20060523, OVIDE,   103,  1,     26,2,20060619,1636, 59.2920, -40.6580, 2743,     11.0,   6.6220,  34.8890,2,  34.8900,2,    298.7,2,    303.1,2,     5.23,2,     8.61,2,     0.64,2,   -999.0,9,   7.8480,2,    25.00
  06MM20060523, OVIDE,   104,  1,      3,2,20060619,2054, 59.3790, -40.9350, 2586,   2609.1,   1.5300,  34.9050,2,  34.9070,2,    302.3,2,    302.1,2,     8.34,2,    13.92,2,     0.91,2,   2300.5,2,   7.7250,2,    25.00
  06MM20060523, OVIDE,   104,  1,      4,2,20060619,2054, 59.3790, -40.9350, 2586,   2608.6,   1.5290,  34.9060,2,  34.9050,2,    302.3,2,    301.6,2,     8.38,2,    14.56,2,     0.89,2,   2301.1,2,   7.7250,2,    25.00
  06MM20060523, OVIDE,   104,  1,      5,2,20060619,2054, 59.3790, -40.9350, 2586,   2557.6,   1.6480,  34.9070,2,  34.9080,2,    302.4,2,    302.2,2,     8.11,2,    14.42,2,     0.88,2,   -999.0,9,   7.7240,2,    25.00
  06MM20060523, OVIDE,   104,  1,      6,2,20060619,2054, 59.3790, -40.9350, 2586,   2509.2,   1.7600,  34.9060,2,  34.9080,2,    300.7,2,    301.9,2,     7.95,2,    14.46,2,     0.90,2,   2298.9,2,   7.7270,2,    25.00
  06MM20060523, OVIDE,   104,  1,      7,2,20060619,2054, 59.3790, -40.9350, 2586,   2405.5,   2.1510,  34.9020,2,  34.9030,2,    292.9,2,    293.6,2,     9.48,2,    15.26,2,     0.94,2,   -999.0,9,   7.7260,2,    25.00
  06MM20060523, OVIDE,   104,  1,      8,2,20060619,2054, 59.3790, -40.9350, 2586,   2244.4,   2.5900,  34.9110,2,  34.9090,2,    289.1,2,    288.5,2,    10.31,2,    15.90,2,     0.98,2,   2299.9,2,   7.7280,2,    25.00
  06MM20060523, OVIDE,   104,  1,      9,2,20060619,2054, 59.3790, -40.9350, 2586,   1995.9,   3.0470,  34.9240,2,  34.9230,2,    281.2,2,    281.1,2,    11.25,2,    16.94,2,     1.03,2,   2302.2,2,   7.7290,2,    25.00
  06MM20060523, OVIDE,   104,  1,     10,2,20060619,2054, 59.3790, -40.9350, 2586,   1796.1,   3.1830,  34.9160,2,  34.9170,2,    283.2,2,    282.5,2,    10.62,2,    16.55,2,     1.05,2,   2300.5,2,   7.7270,2,    25.00
  06MM20060523, OVIDE,   104,  1,     11,2,20060619,2054, 59.3790, -40.9350, 2586,   1597.3,   3.3540,  34.9140,2,  34.9160,2,    281.5,2,    281.9,2,     9.96,2,    16.94,2,     1.04,2,   2302.0,2,   7.7270,2,    25.00
  06MM20060523, OVIDE,   104,  1,     12,2,20060619,2054, 59.3790, -40.9350, 2586,   1355.3,   3.5730,  34.9170,2,  34.9200,2,    276.6,2,    277.2,2,    10.31,2,    17.54,2,     1.07,2,   2299.6,2,   7.7260,2,    25.00
  06MM20060523, OVIDE,   104,  1,     13,2,20060619,2054, 59.3790, -40.9350, 2586,   1196.4,   3.5960,  34.9040,2,  34.9070,2,    280.0,2,    279.0,2,    10.11,2,    17.64,2,     1.07,2,   2299.8,2,   7.7230,2,    25.00
  06MM20060523, OVIDE,   104,  1,     15,2,20060619,2054, 59.3790, -40.9350, 2586,    895.3,   3.7320,  34.8920,2,  34.8930,2,    280.4,2,    291.1,3,     9.52,2,    17.39,2,     1.07,2,   2298.5,2,   7.7190,2,    25.00
  06MM20060523, OVIDE,   104,  1,     16,2,20060619,2054, 59.3790, -40.9350, 2586,    796.6,   3.8670,  34.8990,2,  34.8990,2,    277.0,2,    281.4,2,     9.52,2,    17.44,2,     1.08,2,   2298.2,2,   7.7170,2,    25.00
  06MM20060523, OVIDE,   104,  1,     17,2,20060619,2054, 59.3790, -40.9350, 2586,    694.4,   4.1730,  34.9210,2,  34.9220,2,    277.9,2,    276.6,2,     9.40,2,    17.49,2,     1.07,2,   -999.0,9,   7.7190,2,    25.00
  06MM20060523, OVIDE,   104,  1,     18,2,20060619,2054, 59.3790, -40.9350, 2586,    595.8,   4.3770,  34.9280,2,  34.9310,2,    280.0,2,    279.8,2,     9.13,2,    17.24,2,     0.99,2,   2301.7,2,   7.7230,2,    25.00
  06MM20060523, OVIDE,   104,  1,     19,2,20060619,2054, 59.3790, -40.9350, 2586,    496.2,   4.6420,  34.9440,2,  34.9440,2,    287.1,2,    283.8,2,     8.38,2,    16.55,2,     1.01,2,   2301.3,2,   7.7360,2,    25.00
  06MM20060523, OVIDE,   104,  1,     20,2,20060619,2054, 59.3790, -40.9350, 2586,    395.5,   4.9630,  34.9780,2,  34.9790,2,    292.3,2,    290.0,2,     8.03,2,    16.10,2,     1.01,2,   2302.6,2,   7.7440,2,    25.00
  06MM20060523, OVIDE,   104,  1,     21,2,20060619,2054, 59.3790, -40.9350, 2586,    296.7,   5.1450,  35.0000,2,  35.0010,2,    291.0,2,    292.4,2,     7.83,2,    16.05,2,     0.99,2,   -999.0,9,   7.7490,2,    25.00
  06MM20060523, OVIDE,   104,  1,     22,2,20060619,2054, 59.3790, -40.9350, 2586,    195.9,   5.1190,  34.9870,2,  34.9880,2,    289.8,2,    291.3,2,     7.71,2,    15.90,2,     0.99,2,   2303.5,2,   7.7470,2,    25.00
  06MM20060523, OVIDE,   104,  1,     23,2,20060619,2054, 59.3790, -40.9350, 2586,    146.6,   5.0740,  34.9710,2,  34.9720,2,    288.7,2,    288.3,2,     7.67,2,    15.80,2,     0.98,2,   -999.0,9,   7.7470,2,    25.00
  06MM20060523, OVIDE,   104,  1,     24,2,20060619,2054, 59.3790, -40.9350, 2586,     97.3,   5.0350,  34.9430,2,  34.9490,2,    283.7,2,    286.7,2,     7.52,2,    15.50,2,     1.03,2,   2301.6,2,   7.7380,2,    25.00
  06MM20060523, OVIDE,   104,  1,     25,2,20060619,2054, 59.3790, -40.9350, 2586,     47.1,   6.3600,  34.9160,2,  34.9160,2,    298.3,2,    300.2,2,     5.12,2,     8.72,2,     0.66,2,   -999.0,9,   7.8450,2,    25.00
  06MM20060523, OVIDE,   104,  1,     26,2,20060619,2054, 59.3790, -40.9350, 2586,     13.6,   6.4340,  34.9110,2,  34.9130,2,    293.8,2,    303.5,3,     4.92,2,     7.98,2,     0.63,2,   2308.5,2,   7.8520,2,    25.00