BOTTLE,20140930PRINUNIVRMK
# 8/28/06 Initialized README file 
# Data from Maribel I. Garcia-Ibanez 8/13/14 
# SHIP cruise: M.S. Merian 
# EXPOCODE: 06MM20060523 (alternate code for this ship is 06M2) 
# Region: N.Atlantic; OVIDE line for 2006; A25 
# DATES: 5/23/06 - 6/16/06  
# 112 stations  
# Ch. Sci. Lherminier 
# Hydro: Who - H. Mercier; Status - final 
# 	Notes:  
# 	See Gourcuff et al., 2011; Mercier et al., 2013; 
#	Cast fabricated 
# Nuts/O2: Who - P. Morin; Status - final 
# 	Notes: nitrate is NITRAT+NITRIT 
# 	See Maze et al., 2012. 
# TA: Who - F. Perez; Status - final 
# 	Notes:  
# 	Automatic potentiometric titrator (Perez et al., 2000) 
# 	See Perez et al. 2008, 2013; Zunino et al., 2104 
# pH: Who - F. Perez; Status - final 
# 	Notes:  
# 	All measurements at 25C 
# 	Reported on seawater pH scale 
# 	Spectrophotometric measurements via Clayton and Byrne (1993) 
# 	See Vazquez-Rodriguez et al., 2012 
# Other:  
# References: 
# Clayton, T.D. and R.H. Byrne, Spectrophotometric seawater pH measurements: total hydrogen ion concentration scale concentration scale calibration of m-cresol purple and at-sea results. D.S.R. I, 40, 10, 2115-2129, doi: 10.1016/0967-0637(93)90048-8, 1993. 
# Gourcuff, C., Lherminier P., H. Mercier and P.Y. Le Traon, Altimetry combined with hydrography for ocean transport estimation. Journal of Atmospheric and Oceanic Technology 28 (10), 1324-1337, doi: 10.1175/2011JTECHO818.1, 2011. 
# Maze, G., H. Mercier, V. Thierry, L. Memery, P. Morin and F.F. Perez, Mass, nutrients and oxygen budgets for the North Eastern Atlantic Ocean, Biogeosci, 9, 4323-4360, 2012.  
# Mercier, H., P. Lherminier, A. Sarafanov, F. Gaillard, N. Daniault, D. Desbruyeres, A. Falina, B. Ferron, C. Gourcuff, T. Huck and V. Thierry, Variability of the meridional overturning circulation at the Greenland-Portugal OVIDE section from 1993 to 2010, Progress in Oceanography, doi: 10.1016/j.pocean.2013.11.001, 2013. 
# Perez F.F., A.F. Rios, T. Rellan and M. Alvarez, Improvements in a fast potentiometric seawater alkalinity determination. Ciencias Marinas, 26(3), 463-478, doi: 10.7773/cm.v26i3.592, 2000. 
# Perez, F.F., M. Vazquez-Rodriguez, E. Louarn, X.A. Padin, H. Mercier and A.F. Rios, Temporal variability of the anthropogenic CO2 storage in the Irminger Sea. Biogeosci, 4, 1-11, , doi: 10.5194/bg-5-1669-2008, 2008. 
# Perez F.F., H. Mercier, M. Vazquez-Rodriguez, P. Lherminier, A. Velo, P.C. Pardo, G. Roson and A.F. Rios, Atlantic Ocean CO2 uptake reduced by weakening of the meridional overturning circulation, Nature Geoscience, 6, 146-152, doi: 10.1038/NGEO1680, 2013. 
# Thierry, V., E.de Boisseson and H. Mercier, Interannual variability of the Subpolar Mode Water properties over the Reykjanes Ridge during 1990-2006. J. Geophys. Res., 113, C04016, doi: 10.1029/2007JC004443, 2008. 
# Vazquez-Rodriguez, M., F.F. Perez, A. Velo, A.F. Rios and H. Mercier, Observed acidification trends in North Atlantic water masses, Biogeosci, 9, 5217-5230, doi: 10.5194/bg-9-5217-2012, 2012. 
# Zunino, P., M.I. Garcia-Ibanez, P. Lherminier, H. Mercier, A.F. Rios and F.F. Perez, Variability of the transport of anthropogenic CO2 at the Greenland-Portugal OVIDE section: controlling mechanisms, Biogeosci, 11(8), 2375-2389, doi: 10.5194/bg-11-2375-2014, 2014. 
EXPOCODE,SECT_ID,STNNBR,CASTNO,BTLNBR,BTLNBR_FLAG_W,DATE,TIME,LATITUDE,LONGITUDE,DEPTH,CTDPRS,CTDTMP,CTDSAL,CTDSAL_FLAG_W,SALNTY,SALNTY_FLAG_W,CTDOXY,CTDOXY_FLAG_W,OXYGEN,OXYGEN_FLAG_W,SILCAT,SILCAT_FLAG_W,NITRAT,NITRAT_FLAG_W,PHSPHT,PHSPHT_FLAG_W,ALKALI,ALKALI_FLAG_W,PH_SWS,PH_SWS_FLAG_W,PH_TMP
,,,,,,,,,,METERS,DBAR,ITS-90,PSS-78,,PSS-78,,UMOL/KG,,UMOL/KG,,UMOL/KG,,UMOL/KG,,UMOL/KG,,UMOL/KG,,,,DEG C
  06MM20060523, OVIDE,     2,  1,      3,2,20060525,0539, 40.3330,  -9.4590,  154,    137.1,  13.2960,  35.9620,2,  35.9650,2,    206.8,2,    210.0,2,     4.67,2,     8.28,2,     0.48,2,   2360.0,2,   7.8420,2,    25.00
  06MM20060523, OVIDE,     2,  1,      4,2,20060525,0539, 40.3330,  -9.4590,  154,     97.5,  13.2610,  35.9280,2,  35.9150,3,    225.6,2,    224.8,2,     2.74,2,     7.52,2,     0.37,2,   2352.8,2,   7.8740,2,    25.00
  06MM20060523, OVIDE,     2,  1,      5,2,20060525,0539, 40.3330,  -9.4590,  154,     45.2,  13.7340,  35.9140,2,  35.9150,2,    254.5,2,    238.6,3,     1.48,2,     4.88,2,     0.25,2,   2356.0,2,   7.9050,2,    25.00
  06MM20060523, OVIDE,     2,  1,      6,2,20060525,0539, 40.3330,  -9.4590,  154,      2.2,  17.7560,  35.6640,2,  35.6660,2,    234.7,2,    248.8,3,     0.15,2,     0.00,2,     0.01,2,   2355.9,2,   8.0600,2,    25.00
  06MM20060523, OVIDE,     3,  1,      3,2,20060525,1017, 40.3330,  -9.6430,  430,    417.7,  11.7680,  35.7940,2,  35.7950,2,    195.5,2,    193.4,2,     6.00,2,    14.12,2,     0.72,2,   2354.1,2,   7.7980,2,    25.00
  06MM20060523, OVIDE,     3,  1,      4,2,20060525,1017, 40.3330,  -9.6430,  430,    395.6,  11.8180,  35.7800,2,  35.7800,2,    201.8,2,    195.6,2,     5.74,2,    13.70,2,     0.70,2,   -999.0,9,   7.7990,2,    25.00
  06MM20060523, OVIDE,     3,  1,      5,2,20060525,1017, 40.3330,  -9.6430,  430,    295.4,  12.4630,  35.7840,2,  35.7850,2,    216.8,2,    217.1,2,     3.75,2,    10.42,2,     0.52,2,   2346.3,2,   7.8350,3,    25.00
  06MM20060523, OVIDE,     3,  1,      6,2,20060525,1017, 40.3330,  -9.6430,  430,    197.4,  12.9240,  35.8640,2,  35.8610,2,    230.0,2,    230.4,2,     2.96,2,     8.21,2,     0.42,2,   2350.2,2,   7.8620,2,    25.00
  06MM20060523, OVIDE,     3,  1,      7,2,20060525,1017, 40.3330,  -9.6430,  430,    147.6,  13.0560,  35.8890,2,  35.8960,3,    229.5,2,    230.9,2,     2.85,2,     7.85,2,     0.37,2,   -999.0,9,   7.8660,2,    25.00
  06MM20060523, OVIDE,     3,  1,      8,2,20060525,1017, 40.3330,  -9.6430,  430,     96.7,  13.3140,  35.9330,2,  35.9320,2,    230.0,2,    233.3,2,     2.55,2,     7.18,2,     0.34,2,   2354.6,2,   7.8730,2,    25.00
  06MM20060523, OVIDE,     3,  1,      9,2,20060525,1017, 40.3330,  -9.6430,  430,     46.5,  14.2690,  35.9250,2,  35.9150,3,    256.0,2,    250.2,2,     1.24,2,     2.10,2,     0.11,2,   -999.0,9,   7.8750,2,    25.00
  06MM20060523, OVIDE,     3,  1,     10,2,20060525,1017, 40.3330,  -9.6430,  430,      7.4,  17.4610,  35.7140,2,  35.6970,3,    238.8,2,    250.5,3,     0.45,2,     0.00,2,     0.01,2,   2352.7,2,   7.9370,2,    25.00
  06MM20060523, OVIDE,     4,  1,      3,2,20060525,1217, 40.3340,  -9.7640,  805,    784.8,  11.6240,  36.1050,2,  36.1050,2,    180.6,2,    183.1,2,     7.80,2,    15.73,2,     0.77,2,   2381.6,2,   7.8000,2,    25.00
  06MM20060523, OVIDE,     4,  1,      4,2,20060525,1217, 40.3340,  -9.7640,  805,    695.8,  11.7190,  36.0770,2,  36.0770,2,    182.0,2,    183.5,2,     7.54,2,    15.52,2,     0.75,2,   -999.0,9,   7.8000,2,    25.00
  06MM20060523, OVIDE,     4,  1,      5,2,20060525,1217, 40.3340,  -9.7640,  805,    595.7,  11.7140,  35.9760,2,  35.9720,2,    182.5,2,    183.9,2,     7.43,2,    15.68,2,     0.76,2,   2367.2,2,   7.8020,2,    25.00
  06MM20060523, OVIDE,     4,  1,      6,2,20060525,1217, 40.3340,  -9.7640,  805,    496.5,  11.6220,  35.7660,2,  35.7670,2,    191.8,2,    190.1,2,     6.15,2,    15.41,2,     0.75,2,   2349.8,2,   7.7910,2,    25.00
  06MM20060523, OVIDE,     4,  1,      7,2,20060525,1217, 40.3340,  -9.7640,  805,    425.4,  11.6360,  35.6670,2,  35.6640,2,    202.5,2,    202.9,2,     5.21,2,    14.23,2,     0.67,2,   -999.0,9,   7.7990,2,    25.00
  06MM20060523, OVIDE,     4,  1,      8,2,20060525,1217, 40.3340,  -9.7640,  805,    296.0,  12.4080,  35.7640,2,  35.7660,2,    224.7,2,    228.1,2,     3.38,2,     9.91,2,     0.45,2,   2345.6,2,   7.8450,2,    25.00
  06MM20060523, OVIDE,     4,  1,      9,2,20060525,1217, 40.3340,  -9.7640,  805,    195.6,  13.0800,  35.8890,2,  35.8870,2,    225.9,2,    230.6,2,     2.93,2,     8.51,2,     0.38,2,   2351.0,2,   7.8640,2,    25.00
  06MM20060523, OVIDE,     4,  1,     10,2,20060525,1217, 40.3340,  -9.7640,  805,    144.3,  13.4390,  35.9590,2,  35.9570,2,    225.6,2,    233.2,2,     2.48,2,     7.44,2,     0.33,2,   -999.0,9,   7.8850,2,    25.00
  06MM20060523, OVIDE,     4,  1,     11,2,20060525,1217, 40.3340,  -9.7640,  805,     96.9,  13.7690,  36.0170,2,  36.0160,2,    227.8,2,    234.2,2,     2.33,2,     6.68,2,     0.30,2,   2358.1,2,   7.8910,2,    25.00
  06MM20060523, OVIDE,     4,  1,     12,2,20060525,1217, 40.3340,  -9.7640,  805,     45.5,  14.2210,  35.9610,2,  35.9640,2,    253.0,2,    248.0,2,     1.58,2,     3.45,2,     0.16,2,   -999.0,9,   7.9250,2,    25.00
  06MM20060523, OVIDE,     4,  1,     13,2,20060525,1217, 40.3340,  -9.7640,  805,      6.8,  17.4430,  35.8600,2,  35.8610,2,    238.3,2,    249.5,3,     0.68,2,     0.00,2,     0.03,2,   2359.1,2,   8.0160,2,    25.00
  06MM20060523, OVIDE,     5,  1,     18,2,20060525,1536, 40.3330,  -9.7830,  969,    958.9,  11.4100,  36.1570,2,  36.1600,2,    180.8,2,    181.5,2,     8.32,2,    16.27,2,     0.76,2,   2383.7,2,   7.7990,2,    25.00
  06MM20060523, OVIDE,     5,  1,     19,2,20060525,1536, 40.3330,  -9.7830,  969,    894.9,  11.4790,  36.1400,2,  36.1410,2,    180.7,2,    182.0,2,     8.36,2,    16.16,2,     0.76,2,   -999.0,9,   7.8000,2,    25.00
  06MM20060523, OVIDE,     5,  1,     20,2,20060525,1536, 40.3330,  -9.7830,  969,    794.6,  11.6610,  36.1190,2,  36.1190,2,    181.2,2,    182.8,2,     7.91,2,    15.68,2,     0.74,2,   2380.3,2,   7.8020,2,    25.00
  06MM20060523, OVIDE,     5,  1,     21,2,20060525,1536, 40.3330,  -9.7830,  969,    692.7,  11.7460,  36.0640,2,  36.0660,2,    182.8,2,    183.6,2,     7.65,2,    15.62,2,     0.74,2,   2375.9,2,   7.8030,2,    25.00
  06MM20060523, OVIDE,     5,  1,     22,2,20060525,1536, 40.3330,  -9.7830,  969,    594.9,  11.6590,  35.9260,2,  35.9310,2,    182.9,2,    183.6,2,     7.43,2,    16.22,2,     0.75,2,   2364.0,2,   7.7940,2,    25.00
  06MM20060523, OVIDE,     5,  1,     23,2,20060525,1536, 40.3330,  -9.7830,  969,    495.3,  11.6110,  35.7690,2,  35.7790,3,    186.7,2,    189.0,2,     6.68,2,    15.79,2,     0.75,2,   -999.0,9,   7.7870,2,    25.00
  06MM20060523, OVIDE,     5,  1,     24,2,20060525,1536, 40.3330,  -9.7830,  969,    435.0,  11.5800,  35.6670,2,  35.6710,2,    201.6,2,    196.0,2,     5.93,2,    15.20,2,     0.71,2,   2343.8,2,   7.7930,2,    25.00
  06MM20060523, OVIDE,     5,  1,     25,2,20060525,1536, 40.3330,  -9.7830,  969,    296.0,  12.3940,  35.7640,2,  35.7600,2,    224.7,2,    226.1,2,     3.60,2,    10.24,2,     0.45,2,   -999.0,9,   7.8420,2,    25.00
  06MM20060523, OVIDE,     5,  1,     26,2,20060525,1536, 40.3330,  -9.7830,  969,    195.2,  12.9620,  35.8420,2,  35.8480,3,    225.5,2,    226.2,2,     3.15,2,     9.32,2,     0.41,2,   -999.0,9,   7.8610,2,    25.00
  06MM20060523, OVIDE,     5,  1,     27,2,20060525,1536, 40.3330,  -9.7830,  969,    146.0,  13.2550,  35.9220,2,  35.9190,2,    226.4,2,    235.9,3,     2.85,2,     7.65,2,     0.33,2,   -999.0,9,   7.8780,2,    25.00
  06MM20060523, OVIDE,     5,  1,     28,2,20060525,1536, 40.3330,  -9.7830,  969,     95.5,  13.7420,  36.0170,2,  36.0120,2,    231.9,2,    234.2,2,     2.62,2,     6.73,2,     0.30,2,   2359.4,2,   7.8870,2,    25.00
  06MM20060523, OVIDE,     5,  1,     29,2,20060525,1536, 40.3330,  -9.7830,  969,     73.2,  13.9980,  36.0070,2,  36.0090,2,    237.2,2,    239.7,2,     2.25,2,     5.55,2,     0.23,2,   -999.0,9,   7.8990,2,    25.00
  06MM20060523, OVIDE,     5,  1,     30,2,20060525,1536, 40.3330,  -9.7830,  969,      2.2,  17.5250,  35.8170,2,  35.8170,2,    234.0,2,    249.2,3,     0.79,2,     0.00,2,     0.01,2,   2357.5,2,   8.0200,2,    25.00
  06MM20060523, OVIDE,     6,  1,      3,2,20060525,1746, 40.3330,  -9.8020, 1384,   1379.5,   9.8430,  36.0630,2,  36.0680,2,    192.5,2,    193.8,2,    10.48,2,    17.10,2,     0.82,2,   2385.4,2,   7.7900,2,    25.00
  06MM20060523, OVIDE,     6,  1,      4,2,20060525,1746, 40.3330,  -9.8020, 1384,   1195.5,  10.8310,  36.2370,2,  36.1890,3,    184.0,2,    184.4,2,  -999.00,9,    16.50,2,     0.78,2,   2396.9,2,   7.8020,2,    25.00
  06MM20060523, OVIDE,     6,  1,      5,2,20060525,1746, 40.3330,  -9.8020, 1384,    982.4,  11.3020,  36.1880,2,  36.1890,2,    181.1,2,    181.6,2,     8.72,2,    16.23,2,     0.77,2,   2389.8,2,   7.8020,2,    25.00
  06MM20060523, OVIDE,     6,  1,      6,2,20060525,1746, 40.3330,  -9.8020, 1384,    894.5,  11.4500,  36.1530,2,  36.1650,3,    181.4,2,    182.1,2,     8.37,2,    16.07,2,     0.76,2,   -999.0,9,   7.8020,2,    25.00
  06MM20060523, OVIDE,     6,  1,      7,2,20060525,1746, 40.3330,  -9.8020, 1384,    793.9,  11.6780,  36.1190,2,  36.1180,2,    182.9,2,    182.8,2,     7.95,2,    15.69,2,     0.73,2,   -999.0,9,   7.8070,2,    25.00
  06MM20060523, OVIDE,     6,  1,      8,2,20060525,1746, 40.3330,  -9.8020, 1384,    693.1,  11.7310,  36.0770,2,  36.0750,2,    182.5,2,    188.1,2,     7.69,2,    15.58,2,     0.73,2,   -999.0,9,   7.8070,2,    25.00
  06MM20060523, OVIDE,     6,  1,      9,2,20060525,1746, 40.3330,  -9.8020, 1384,    592.8,  11.6710,  35.9500,2,  35.9430,3,    182.2,2,    183.1,2,     7.38,2,    15.96,2,     0.76,2,   -999.0,9,   7.7960,2,    25.00
  06MM20060523, OVIDE,     6,  1,     10,2,20060525,1746, 40.3330,  -9.8020, 1384,    494.6,  11.6630,  35.7570,2,  35.7620,2,    188.4,2,    187.3,2,     6.66,2,    15.91,2,     0.76,2,   -999.0,9,   7.7950,2,    25.00
  06MM20060523, OVIDE,     6,  1,     11,2,20060525,1746, 40.3330,  -9.8020, 1384,    409.5,  11.6770,  35.6670,2,  35.6670,2,    206.7,2,    205.0,2,     5.20,2,    13.84,2,     0.64,2,   -999.0,9,   7.8030,2,    25.00
  06MM20060523, OVIDE,     6,  1,     12,2,20060525,1746, 40.3330,  -9.8020, 1384,    294.3,  12.5990,  35.8010,2,  35.7980,2,    228.1,2,    231.0,2,     2.94,2,     9.15,2,     0.42,2,   -999.0,9,   7.8490,2,    25.00
  06MM20060523, OVIDE,     6,  1,     13,2,20060525,1746, 40.3330,  -9.8020, 1384,    193.9,  13.3430,  35.9410,2,  35.9410,2,    228.6,2,    232.6,2,     2.45,2,     7.63,2,     0.36,2,   -999.0,9,   7.8800,2,    25.00
  06MM20060523, OVIDE,     6,  1,     15,2,20060525,1746, 40.3330,  -9.8020, 1384,    146.0,  13.5900,  35.9870,2,  35.9910,2,    227.1,2,    233.1,2,     2.60,2,     7.19,2,     0.31,2,   -999.0,9,   7.8830,2,    25.00
  06MM20060523, OVIDE,     6,  1,     16,2,20060525,1746, 40.3330,  -9.8020, 1384,     95.3,  13.7100,  35.9950,2,  35.9980,2,    233.9,2,    234.0,2,     2.18,2,     6.76,2,     0.30,2,   -999.0,9,   7.8880,2,    25.00
  06MM20060523, OVIDE,     6,  1,     17,2,20060525,1746, 40.3330,  -9.8020, 1384,     50.9,  14.3250,  36.0120,2,  36.0130,2,    260.9,2,    246.5,3,     1.95,2,     4.03,2,     0.19,2,   -999.0,9,   7.9240,2,    25.00
  06MM20060523, OVIDE,     6,  1,     18,2,20060525,1746, 40.3330,  -9.8020, 1384,      6.9,  17.4710,  35.8330,2,  35.8340,2,    241.0,2,    238.9,2,     0.73,2,     0.00,2,     0.05,2,   -999.0,9,   8.0160,2,    25.00
  06MM20060523, OVIDE,     7,  1,      3,2,20060525,2037, 40.3330,  -9.8760, 2368,   2384.4,   3.3860,  35.0130,2,  35.0160,2,    248.1,2,    248.6,2,    29.97,2,    21.53,2,     1.12,2,   2333.4,2,   7.7400,2,    25.00
  06MM20060523, OVIDE,     7,  1,      4,2,20060525,2037, 40.3330,  -9.8760, 2368,   2246.3,   3.7520,  35.0540,2,  35.0510,2,    248.2,2,    248.6,2,    27.18,2,    20.68,2,     1.08,2,   2328.8,2,   7.7430,2,    25.00
  06MM20060523, OVIDE,     7,  1,      5,2,20060525,2037, 40.3330,  -9.8760, 2368,   1991.1,   4.3080,  35.1210,2,  35.1270,2,    246.4,2,    246.1,2,    23.12,2,    19.94,2,     1.02,2,   2328.9,2,   7.7390,2,    25.00
  06MM20060523, OVIDE,     7,  1,      6,2,20060525,2037, 40.3330,  -9.8760, 2368,   1815.5,   4.9480,  35.2050,2,  35.2030,2,    243.5,2,    243.4,2,    14.81,2,    19.41,2,     0.98,2,   2330.1,2,   7.7440,2,    25.00
  06MM20060523, OVIDE,     7,  1,      7,2,20060525,2037, 40.3330,  -9.8760, 2368,   1596.1,   7.4230,  35.6370,2,  35.6330,2,    216.7,2,    216.3,2,    12.66,2,    18.45,2,     0.91,2,   2358.9,2,   7.7620,2,    25.00
  06MM20060523, OVIDE,     7,  1,      8,2,20060525,2037, 40.3330,  -9.8760, 2368,   1395.4,   9.1150,  35.9360,2,  35.9400,2,    198.7,2,    199.2,2,    10.71,2,    17.60,2,     0.84,2,   2379.0,2,   7.7800,2,    25.00
  06MM20060523, OVIDE,     7,  1,      9,2,20060525,2037, 40.3330,  -9.8760, 2368,   1196.8,  11.0200,  36.2800,2,  36.2790,2,    184.0,2,    182.9,2,     9.06,2,    16.42,2,     0.77,2,   2400.7,2,   7.8010,2,    25.00
  06MM20060523, OVIDE,     7,  1,     10,2,20060525,2037, 40.3330,  -9.8760, 2368,    995.6,  11.2350,  36.1840,2,  36.1840,2,    182.5,2,    180.9,2,     8.72,2,    16.64,2,     0.76,2,   2390.7,2,   7.8030,2,    25.00
  06MM20060523, OVIDE,     7,  1,     11,2,20060525,2037, 40.3330,  -9.8760, 2368,    895.3,  11.3250,  36.1340,2,  36.1320,2,    182.0,2,    181.2,2,     8.45,2,    16.53,2,     0.76,2,   2384.6,2,   7.7980,2,    25.00
  06MM20060523, OVIDE,     7,  1,     12,2,20060525,2037, 40.3330,  -9.8760, 2368,    796.2,  11.5830,  36.1260,2,  36.1250,2,    183.3,2,    182.0,2,     7.92,2,    16.00,2,     0.72,2,   2384.2,2,   7.8040,2,    25.00
  06MM20060523, OVIDE,     7,  1,     13,2,20060525,2037, 40.3330,  -9.8760, 2368,    696.6,  11.7700,  36.0600,2,  36.0600,2,    185.7,2,    183.8,2,     7.42,2,    15.79,2,     0.74,2,   2376.9,2,   7.8020,2,    25.00
  06MM20060523, OVIDE,     7,  1,     14,2,20060525,2037, 40.3330,  -9.8760, 2368,    596.3,  11.6780,  35.9460,2,  35.9400,2,    183.0,2,    184.5,2,     7.34,2,    16.16,2,     0.75,2,   -999.0,9,   7.7980,2,    25.00
  06MM20060523, OVIDE,     7,  1,     15,2,20060525,2037, 40.3330,  -9.8760, 2368,    498.2,  11.5470,  35.7790,2,  35.7750,2,    187.3,2,    185.4,2,     6.88,2,    16.54,2,     0.76,2,   2352.0,2,   7.7920,2,    25.00
  06MM20060523, OVIDE,     7,  1,     16,2,20060525,2037, 40.3330,  -9.8760, 2368,    395.4,  11.7420,  35.6800,2,  35.6790,2,    200.1,2,    195.9,2,     5.66,2,    15.16,2,     0.68,2,   2343.0,2,   7.7980,2,    25.00
  06MM20060523, OVIDE,     7,  1,     17,2,20060525,2037, 40.3330,  -9.8760, 2368,    295.3,  12.1920,  35.7170,2,  35.7170,2,    211.2,2,    209.8,2,     4.44,2,    12.78,2,     0.56,2,   -999.0,9,   7.8210,2,    25.00
  06MM20060523, OVIDE,     7,  1,     18,2,20060525,2037, 40.3330,  -9.8760, 2368,    196.2,  12.9670,  35.8640,2,  35.8580,2,    225.3,2,    226.2,2,     3.29,2,     9.43,2,     0.39,2,   2350.0,2,   7.8590,2,    25.00
  06MM20060523, OVIDE,     7,  1,     19,2,20060525,2037, 40.3330,  -9.8760, 2368,    145.9,  13.2630,  35.9230,2,  35.9180,2,    230.4,2,    230.6,2,     2.91,2,     8.16,2,     0.34,2,   -999.0,9,   7.8710,2,    25.00
  06MM20060523, OVIDE,     7,  1,     20,2,20060525,2037, 40.3330,  -9.8760, 2368,     96.2,  13.6010,  35.9780,2,  35.9760,2,    232.2,2,    233.2,2,     2.49,2,     7.05,2,     0.29,2,   2358.4,2,   7.8840,2,    25.00
  06MM20060523, OVIDE,     7,  1,     21,2,20060525,2037, 40.3330,  -9.8760, 2368,     46.7,  14.2900,  35.9300,2,  35.9390,3,    257.4,2,    251.1,2,     1.45,2,     2.76,2,     0.11,2,   -999.0,9,   7.9240,2,    25.00
  06MM20060523, OVIDE,     7,  1,     22,2,20060525,2037, 40.3330,  -9.8760, 2368,      8.7,  17.4420,  35.9670,2,  35.9670,2,    226.7,2,    248.0,3,     0.99,2,     0.00,2,     0.01,2,   2363.2,2,   8.0000,2,    25.00