BOTTLE,20140930PRINUNIVRMK
EXPOCODE,SECT_ID,STNNBR,CASTNO,BTLNBR,BTLNBR_FLAG_W,DATE,TIME,LATITUDE,LONGITUDE,DEPTH,CTDPRS,CTDTMP,CTDSAL,CTDSAL_FLAG_W,SALNTY,SALNTY_FLAG_W,CTDOXY,CTDOXY_FLAG_W,OXYGEN,OXYGEN_FLAG_W,SILCAT,SILCAT_FLAG_W,NITRAT,NITRAT_FLAG_W,PHSPHT,PHSPHT_FLAG_W,ALKALI,ALKALI_FLAG_W,PH_SWS,PH_SWS_FLAG_W,PH_TMP
,,,,,,,,,,METERS,DBAR,ITS-90,PSS-78,,PSS-78,,UMOL/KG,,UMOL/KG,,UMOL/KG,,UMOL/KG,,UMOL/KG,,UMOL/KG,,,,DEG C
  06MM20060523, OVIDE,    30,  1,      3,2,20060601,1554, 44.3680, -17.8170, 4904,   4981.8,   2.6390,  34.9140,2,  34.9120,2,    240.6,2,    241.7,2,    46.20,2,    21.98,2,     1.36,2,   2354.1,2,   7.7320,2,    25.00
  06MM20060523, OVIDE,    30,  1,      4,2,20060601,1554, 44.3680, -17.8170, 4904,   3997.4,   2.5670,  34.9190,2,  34.9180,2,    242.9,2,    242.2,2,    44.62,2,    20.46,3,     1.32,2,   2349.1,2,   7.7310,2,    25.00
  06MM20060523, OVIDE,    30,  1,      5,2,20060601,1554, 44.3680, -17.8170, 4904,   3746.1,   2.5840,  34.9230,2,  34.9250,2,    243.7,2,    243.7,2,    42.32,2,    21.51,2,     1.30,2,   2346.3,2,   7.7310,2,    25.00
  06MM20060523, OVIDE,    30,  1,      6,2,20060601,1554, 44.3680, -17.8170, 4904,   3493.5,   2.6400,  34.9290,2,  34.9290,2,    245.8,2,    246.3,2,    39.58,2,    21.25,2,     1.29,2,   2342.7,2,   7.7330,2,    25.00
  06MM20060523, OVIDE,    30,  1,      7,2,20060601,1554, 44.3680, -17.8170, 4904,   3244.3,   2.7440,  34.9400,2,  34.9400,2,    248.4,2,    249.9,2,    35.70,2,    20.25,2,     1.20,2,   2337.6,2,   7.7340,2,    25.00
  06MM20060523, OVIDE,    30,  1,      8,2,20060601,1554, 44.3680, -17.8170, 4904,   2996.0,   2.8910,  34.9540,2,  34.9510,2,    251.5,2,    252.1,2,    31.66,2,    20.04,2,     1.19,2,   2332.1,2,   7.7350,2,    25.00
  06MM20060523, OVIDE,    30,  1,      9,2,20060601,1554, 44.3680, -17.8170, 4904,   2743.9,   3.0410,  34.9560,2,  34.9550,2,    258.0,2,    258.4,2,    22.18,2,    18.99,2,     1.11,2,   2324.8,2,   7.7410,2,    25.00
  06MM20060523, OVIDE,    30,  1,     10,2,20060601,1554, 44.3680, -17.8170, 4904,   2497.8,   3.2120,  34.9470,2,  34.9470,2,    265.6,2,    267.7,2,    16.86,2,    17.89,2,     1.05,2,   2314.2,2,   7.7360,2,    25.00
  06MM20060523, OVIDE,    30,  1,     11,2,20060601,1554, 44.3680, -17.8170, 4904,   2244.0,   3.2730,  34.9190,2,  34.9180,2,    275.4,2,    275.9,2,    12.91,2,    17.63,2,     1.00,2,   2311.3,2,   7.7300,2,    25.00
  06MM20060523, OVIDE,    30,  1,     12,2,20060601,1554, 44.3680, -17.8170, 4904,   1994.7,   3.4440,  34.9140,2,  34.9120,2,    273.0,2,    278.6,3,    11.73,2,    17.63,2,     0.97,2,   2308.5,2,   7.7280,2,    25.00
  06MM20060523, OVIDE,    30,  1,     13,2,20060601,1554, 44.3680, -17.8170, 4904,   1795.8,   3.7390,  34.9400,2,  34.9400,2,    266.5,2,    270.0,2,    11.44,2,    17.89,2,     1.01,2,   2304.1,2,   7.7260,2,    25.00
  06MM20060523, OVIDE,    30,  1,     14,2,20060601,1554, 44.3680, -17.8170, 4904,   1594.8,   4.3440,  35.0090,2,  35.0100,2,    260.4,2,    259.3,2,    11.19,2,    18.15,2,     1.04,2,   2309.7,2,   7.7220,2,    25.00
  06MM20060523, OVIDE,    30,  1,     15,2,20060601,1554, 44.3680, -17.8170, 4904,   1394.0,   5.1700,  35.1050,2,  35.1090,2,    241.1,2,    244.1,2,    10.89,2,    18.20,2,     1.06,2,   2318.9,2,   7.7220,2,    25.00
  06MM20060523, OVIDE,    30,  1,     17,2,20060601,1554, 44.3680, -17.8170, 4904,   1193.4,   7.5500,  35.4900,2,  35.4870,2,    210.7,2,    213.8,2,    10.49,2,    18.04,2,     1.00,2,   2341.6,2,   7.7460,2,    25.00
  06MM20060523, OVIDE,    30,  1,     18,2,20060601,1554, 44.3680, -17.8170, 4904,    995.2,   8.7260,  35.5870,2,  35.5800,3,    194.8,2,    195.6,2,     9.95,2,    17.67,2,     0.98,2,   2348.2,2,   7.7490,2,    25.00
  06MM20060523, OVIDE,    30,  1,     19,2,20060601,1554, 44.3680, -17.8170, 4904,    892.5,   9.7550,  35.7000,2,  35.6980,2,    185.9,2,    186.3,2,     9.36,2,    17.41,2,     0.95,2,   2352.9,2,   7.7620,2,    25.00
  06MM20060523, OVIDE,    30,  1,     20,2,20060601,1554, 44.3680, -17.8170, 4904,    796.7,   9.0720,  35.4090,2,  35.4060,2,    185.2,2,    189.8,2,     9.66,2,    18.83,2,     1.04,2,   2332.9,2,   7.7360,2,    25.00
  06MM20060523, OVIDE,    30,  1,     21,2,20060601,1554, 44.3680, -17.8170, 4904,    696.1,   9.6200,  35.3740,2,  35.3730,2,    190.0,2,    190.4,2,     8.77,2,    17.99,2,     0.97,2,   2327.8,2,   7.7430,2,    25.00
  06MM20060523, OVIDE,    30,  1,     22,2,20060601,1554, 44.3680, -17.8170, 4904,    596.0,  10.5480,  35.4500,2,  35.4480,2,    196.6,2,    202.7,2,     6.75,2,    15.89,2,     0.82,2,   2330.4,2,   7.7750,2,    25.00
  06MM20060523, OVIDE,    30,  1,     23,2,20060601,1554, 44.3680, -17.8170, 4904,    495.4,  11.2310,  35.5360,2,  35.5330,2,    216.2,2,    219.6,2,     4.93,2,    13.16,2,     0.65,2,   2334.2,2,   7.8090,2,    25.00
  06MM20060523, OVIDE,    30,  1,     24,2,20060601,1554, 44.3680, -17.8170, 4904,    395.9,  11.7800,  35.6190,2,  35.6190,2,    227.8,2,    228.2,2,     3.74,2,    11.12,2,     0.56,2,   2337.9,2,   7.8330,2,    25.00
  06MM20060523, OVIDE,    30,  1,     25,2,20060601,1554, 44.3680, -17.8170, 4904,    296.2,  12.2740,  35.6840,2,  35.6810,2,    234.7,2,    236.1,2,     3.15,2,     9.39,2,     0.48,2,   -999.0,9,   7.8560,2,    25.00
  06MM20060523, OVIDE,    30,  1,     26,2,20060601,1554, 44.3680, -17.8170, 4904,    195.3,  12.7050,  35.7490,2,  35.7480,2,    243.2,2,    242.0,2,     2.56,2,     7.55,2,     0.41,2,   2345.9,2,   7.8780,2,    25.00
  06MM20060523, OVIDE,    30,  1,     27,2,20060601,1554, 44.3680, -17.8170, 4904,    148.1,  12.9210,  35.7810,2,  35.7830,2,    245.1,2,    246.7,2,     2.17,2,     6.87,2,     0.33,2,   -999.0,9,   7.8890,2,    25.00
  06MM20060523, OVIDE,    30,  1,     28,2,20060601,1554, 44.3680, -17.8170, 4904,     98.6,  13.3220,  35.7850,2,  35.7840,2,    251.2,2,    251.2,2,     1.38,2,     5.45,2,     0.30,2,   2349.5,2,   7.9050,2,    25.00
  06MM20060523, OVIDE,    30,  1,     29,2,20060601,1554, 44.3680, -17.8170, 4904,     48.2,  13.8710,  35.7760,2,  35.7760,2,    257.7,2,    259.1,2,     0.79,2,     3.25,2,     0.17,2,   -999.0,9,   7.9330,2,    25.00
  06MM20060523, OVIDE,    30,  1,     30,2,20060601,1554, 44.3680, -17.8170, 4904,     12.3,  14.8620,  35.8040,2,  35.8030,2,    256.1,2,    261.1,2,     0.98,2,     2.52,2,     0.12,2,   2352.2,2,   7.9510,2,    25.00
  06MM20060523, OVIDE,    31,  1,      3,2,20060601,2159, 44.6750, -18.2130, 4818,   4894.1,   2.6400,  34.9120,2,  34.9150,2,    241.5,2,    241.3,2,    48.50,2,    22.88,2,     1.30,2,   -999.0,9,   7.7360,2,    25.00
  06MM20060523, OVIDE,    31,  1,      4,2,20060601,2159, 44.6750, -18.2130, 4818,   4497.4,   2.5930,  34.9130,2,  34.9150,2,    242.8,2,    242.1,2,    48.36,2,    22.93,2,     1.29,2,   -999.0,9,   7.7300,2,    25.00
  06MM20060523, OVIDE,    31,  1,      5,2,20060601,2159, 44.6750, -18.2130, 4818,   3994.3,   2.5740,  34.9160,2,  34.9200,2,    243.8,2,    242.8,2,    46.61,2,    22.46,2,     1.27,2,   -999.0,9,   7.7300,2,    25.00
  06MM20060523, OVIDE,    31,  1,      6,2,20060601,2159, 44.6750, -18.2130, 4818,   3746.0,   2.5980,  34.9200,2,  34.9230,2,    244.5,2,    244.3,2,    45.01,2,    22.25,2,     1.26,2,   -999.0,9,   7.7310,2,    25.00
  06MM20060523, OVIDE,    31,  1,      7,2,20060601,2159, 44.6750, -18.2130, 4818,   3497.5,   2.6480,  34.9280,2,  34.9310,2,    247.9,2,    247.1,2,    41.80,2,    21.72,2,     1.23,2,   -999.0,9,   7.7340,2,    25.00
  06MM20060523, OVIDE,    31,  1,      8,2,20060601,2159, 44.6750, -18.2130, 4818,   3247.1,   2.7600,  34.9380,2,  34.9410,2,    250.8,2,    250.8,2,    37.58,2,    20.93,2,     1.18,2,   -999.0,9,   7.7300,2,    25.00
  06MM20060523, OVIDE,    31,  1,      9,2,20060601,2159, 44.6750, -18.2130, 4818,   2996.2,   2.9270,  34.9490,2,  34.9520,2,    255.7,2,    255.4,2,    31.17,2,    20.04,2,     1.12,2,   -999.0,9,   7.7320,2,    25.00
  06MM20060523, OVIDE,    31,  1,     10,2,20060601,2159, 44.6750, -18.2130, 4818,   2796.1,   3.0650,  34.9530,2,  34.9560,2,    260.7,2,    259.9,2,    21.19,2,    19.31,2,     1.07,2,   -999.0,9,   7.7360,2,    25.00
  06MM20060523, OVIDE,    31,  1,     11,2,20060601,2159, 44.6750, -18.2130, 4818,   2497.0,   3.2270,  34.9350,2,  34.9390,2,    270.9,2,    270.1,2,    15.18,2,    18.15,2,     0.99,2,   -999.0,9,   7.7320,2,    25.00
  06MM20060523, OVIDE,    31,  1,     12,2,20060601,2159, 44.6750, -18.2130, 4818,   2144.1,   3.3250,  34.9030,2,  34.9060,2,    279.8,2,    278.5,2,    11.83,2,    17.94,2,     0.98,2,   -999.0,9,   7.7270,2,    25.00
  06MM20060523, OVIDE,    31,  1,     13,2,20060601,2159, 44.6750, -18.2130, 4818,   1995.5,   3.4350,  34.9040,2,  34.9090,2,    277.4,2,    277.0,2,    11.19,2,    18.05,2,     0.98,2,   -999.0,9,   7.7250,2,    25.00
  06MM20060523, OVIDE,    31,  1,     14,2,20060601,2159, 44.6750, -18.2130, 4818,   1743.7,   3.8000,  34.9410,2,  34.9420,2,    268.9,2,    269.6,2,    11.14,2,    18.21,2,     0.99,2,   -999.0,9,   7.7200,2,    25.00
  06MM20060523, OVIDE,    31,  1,     15,2,20060601,2159, 44.6750, -18.2130, 4818,   1498.0,   4.5330,  35.0250,2,  35.0310,2,    255.9,2,    255.5,2,    10.89,2,    18.57,2,     1.00,2,   -999.0,9,   7.7190,2,    25.00
  06MM20060523, OVIDE,    31,  1,     16,2,20060601,2159, 44.6750, -18.2130, 4818,   1497.5,   4.5410,  35.0280,2,  35.0300,2,    255.9,2,    255.2,2,    10.89,2,    18.57,2,     1.00,2,   -999.0,9,   7.7190,2,    25.00
  06MM20060523, OVIDE,    31,  1,     17,2,20060601,2159, 44.6750, -18.2130, 4818,   1194.4,   7.7070,  35.5300,2,  35.5310,2,    212.3,2,    210.0,2,    10.44,2,    18.14,2,     0.96,2,   -999.0,9,   7.7470,2,    25.00
  06MM20060523, OVIDE,    31,  1,     18,2,20060601,2159, 44.6750, -18.2130, 4818,    964.8,   9.0650,  35.6220,2,  35.6140,3,    192.0,2,    192.5,2,     9.70,2,    18.35,2,     0.94,2,   -999.0,9,   7.7500,2,    25.00
  06MM20060523, OVIDE,    31,  1,     19,2,20060601,2159, 44.6750, -18.2130, 4818,    894.6,   9.4890,  35.6340,2,  35.6540,3,    189.5,2,    189.6,2,     9.26,2,    18.25,2,     0.94,2,   -999.0,9,   7.7530,2,    25.00
  06MM20060523, OVIDE,    31,  1,     20,2,20060601,2159, 44.6750, -18.2130, 4818,    796.5,   9.5640,  35.5130,2,  35.5080,2,    188.8,2,    186.5,2,     9.11,2,    18.51,2,     0.96,2,   -999.0,9,   7.7440,2,    25.00
  06MM20060523, OVIDE,    31,  1,     21,2,20060601,2159, 44.6750, -18.2130, 4818,    694.5,  10.1920,  35.4990,2,  35.4980,2,    192.5,2,    190.6,2,     7.93,2,    17.62,2,     0.89,2,   -999.0,9,   7.7530,2,    25.00
  06MM20060523, OVIDE,    31,  1,     22,2,20060601,2159, 44.6750, -18.2130, 4818,    596.0,  10.6590,  35.4950,2,  35.4950,2,    204.9,2,    203.2,2,     6.50,2,    15.89,2,     0.80,2,   -999.0,9,   7.7700,2,    25.00
  06MM20060523, OVIDE,    31,  1,     23,2,20060601,2159, 44.6750, -18.2130, 4818,    495.0,  11.0850,  35.5150,2,  35.5160,2,    218.4,2,    215.9,2,     5.22,2,    14.06,2,     0.69,2,   -999.0,9,   7.7950,2,    25.00
  06MM20060523, OVIDE,    31,  1,     24,2,20060601,2159, 44.6750, -18.2130, 4818,    395.9,  11.6790,  35.5910,2,  35.5910,2,    228.0,2,    225.0,2,     4.14,2,    12.06,2,     0.59,2,   -999.0,9,   7.8150,2,    25.00
  06MM20060523, OVIDE,    31,  1,     25,2,20060601,2159, 44.6750, -18.2130, 4818,    294.9,  12.2270,  35.6630,2,  35.6590,2,    228.9,2,    225.5,2,     3.64,2,    10.91,2,     0.53,2,   -999.0,9,   7.8410,2,    25.00
  06MM20060523, OVIDE,    31,  1,     26,2,20060601,2159, 44.6750, -18.2130, 4818,    195.8,  12.8250,  35.7590,2,  35.7610,2,    241.2,2,    244.1,2,     2.46,2,     7.60,2,     0.35,2,   -999.0,9,   7.8850,2,    25.00
  06MM20060523, OVIDE,    31,  1,     27,2,20060601,2159, 44.6750, -18.2130, 4818,    146.9,  12.9910,  35.7760,2,  35.7770,2,    246.0,2,    245.1,2,     2.36,2,     7.34,2,     0.35,2,   -999.0,9,   7.8860,2,    25.00
  06MM20060523, OVIDE,    31,  1,     28,2,20060601,2159, 44.6750, -18.2130, 4818,     97.6,  13.2530,  35.8090,2,  35.8100,2,    243.5,2,    246.3,2,     2.22,2,     6.82,2,     0.34,2,   -999.0,9,   7.8930,2,    25.00
  06MM20060523, OVIDE,    31,  1,     29,2,20060601,2159, 44.6750, -18.2130, 4818,     46.1,  13.9120,  35.7610,2,  35.7620,2,    263.1,2,    258.9,2,     0.69,2,     2.99,2,     0.17,2,   -999.0,9,   7.9340,2,    25.00
  06MM20060523, OVIDE,    31,  1,     30,2,20060601,2159, 44.6750, -18.2130, 4818,      4.9,  14.7670,  35.8040,2,  35.8050,2,    253.8,2,    260.7,3,     0.69,2,     2.15,2,     0.12,2,   -999.0,9,   7.9470,2,    25.00
  06MM20060523, OVIDE,    32,  1,      3,2,20060601,0352, 45.0510, -18.5060, 4563,   4631.3,   2.6030,  34.9120,2,  34.9150,2,    242.2,2,    241.4,2,    48.07,2,    22.59,2,     1.29,2,   2354.3,2,   7.7300,2,    25.00
  06MM20060523, OVIDE,    32,  1,      4,2,20060601,0352, 45.0510, -18.5060, 4563,   3994.5,   2.5670,  34.9160,2,  34.9190,2,    243.7,2,    242.3,2,    46.61,2,    22.65,2,     1.29,2,   2352.3,2,   7.7300,2,    25.00
  06MM20060523, OVIDE,    32,  1,      5,2,20060601,0352, 45.0510, -18.5060, 4563,   3747.0,   2.5830,  34.9200,2,  34.9240,2,    244.6,2,    243.8,2,    44.57,2,    22.49,2,     1.25,2,   2350.3,2,   7.7300,2,    25.00
  06MM20060523, OVIDE,    32,  1,      6,2,20060601,0352, 45.0510, -18.5060, 4563,   3496.0,   2.6350,  34.9270,2,  34.9310,2,    247.2,2,    247.0,2,    41.66,2,    21.85,2,     1.23,2,   2345.7,2,   7.7310,2,    25.00
  06MM20060523, OVIDE,    32,  1,      7,2,20060601,0352, 45.0510, -18.5060, 4563,   3245.0,   2.7450,  34.9380,2,  34.9400,2,    251.2,2,    250.7,2,    37.00,2,    21.22,2,     1.18,2,   2337.3,2,   7.7320,2,    25.00
  06MM20060523, OVIDE,    32,  1,      8,2,20060601,0352, 45.0510, -18.5060, 4563,   2994.8,   2.8900,  34.9470,2,  34.9510,2,    255.4,2,    254.6,2,    31.75,2,    20.37,2,     1.12,2,   2332.4,2,   7.7330,2,    25.00
  06MM20060523, OVIDE,    32,  1,      9,2,20060601,0352, 45.0510, -18.5060, 4563,   2743.9,   3.0510,  34.9490,2,  34.9500,2,    263.4,2,    262.3,2,    20.12,2,    19.20,2,     1.07,2,   2323.0,2,   7.7300,2,    25.00
  06MM20060523, OVIDE,    32,  1,     10,2,20060601,0352, 45.0510, -18.5060, 4563,   2496.8,   3.2200,  34.9420,2,  34.9440,2,    271.1,2,    267.6,2,    16.61,2,    18.19,2,     1.01,2,   2315.5,2,   7.7330,2,    25.00
  06MM20060523, OVIDE,    32,  1,     11,2,20060601,0352, 45.0510, -18.5060, 4563,   2244.4,   3.3300,  34.9230,2,  34.9250,2,    275.4,2,    274.5,2,    13.36,2,    18.09,2,     0.96,2,   2310.2,2,   7.7270,2,    25.00
  06MM20060523, OVIDE,    32,  1,     12,2,20060601,0352, 45.0510, -18.5060, 4563,   1993.4,   3.5430,  34.9200,2,  34.9220,2,    273.7,2,    274.0,2,    11.91,2,    18.40,2,     0.96,2,   2308.4,2,   7.7250,2,    25.00
  06MM20060523, OVIDE,    32,  1,     13,2,20060601,0352, 45.0510, -18.5060, 4563,   1794.8,   3.7400,  34.9270,2,  34.9290,2,    271.1,2,    271.0,2,    11.21,2,    18.35,2,     0.96,2,   2309.1,2,   7.7220,2,    25.00
  06MM20060523, OVIDE,    32,  1,     14,2,20060601,0352, 45.0510, -18.5060, 4563,   1595.5,   4.0570,  34.9550,2,  34.9560,2,    261.1,2,    265.2,2,    10.86,2,    18.62,2,     0.98,2,   2310.3,2,   7.7180,2,    25.00
  06MM20060523, OVIDE,    32,  1,     15,2,20060601,0352, 45.0510, -18.5060, 4563,   1394.3,   5.1280,  35.0970,2,  35.1030,2,    246.4,2,    245.1,2,    10.91,2,    18.77,2,     0.98,2,   2319.5,2,   7.7190,2,    25.00
  06MM20060523, OVIDE,    32,  1,     16,2,20060601,0352, 45.0510, -18.5060, 4563,   1192.6,   6.5620,  35.2740,2,  35.2860,3,    223.8,2,    221.9,2,    10.81,2,    19.09,2,     0.99,2,   2331.7,2,   7.7230,2,    25.00
  06MM20060523, OVIDE,    32,  1,     17,2,20060601,0352, 45.0510, -18.5060, 4563,   1192.4,   6.6200,  35.2840,2,  35.2760,3,    223.7,2,    222.3,2,    10.86,2,    19.09,2,     1.00,2,   -999.0,9,   7.7290,2,    25.00
  06MM20060523, OVIDE,    32,  1,     18,2,20060601,0352, 45.0510, -18.5060, 4563,    994.5,   8.5040,  35.5160,2,  35.5160,2,    192.4,2,    196.6,2,    10.15,2,    18.98,2,     0.98,2,   2345.9,2,   7.7430,2,    25.00
  06MM20060523, OVIDE,    32,  1,     19,2,20060601,0352, 45.0510, -18.5060, 4563,    894.2,   9.5790,  35.6390,2,  35.6420,2,    189.1,2,    187.4,2,     9.50,2,    18.55,2,     0.94,2,   -999.0,9,   7.7560,2,    25.00
  06MM20060523, OVIDE,    32,  1,     20,2,20060601,0352, 45.0510, -18.5060, 4563,    795.9,   9.4790,  35.4680,2,  35.4650,2,    187.7,2,    187.9,2,     9.30,2,    18.45,2,     0.97,2,   2338.4,2,   7.7460,2,    25.00
  06MM20060523, OVIDE,    32,  1,     21,2,20060601,0352, 45.0510, -18.5060, 4563,    694.4,  10.2380,  35.4780,2,  35.4760,2,    194.5,2,    192.3,2,     7.85,2,    17.55,2,     0.86,2,   2334.9,2,   7.7570,2,    25.00
  06MM20060523, OVIDE,    32,  1,     22,2,20060601,0352, 45.0510, -18.5060, 4563,    594.1,  10.7980,  35.4960,2,  35.4940,2,    210.9,2,    204.1,3,     6.30,2,    15.22,2,     0.77,2,   -999.0,9,   7.7820,2,    25.00
  06MM20060523, OVIDE,    32,  1,     23,2,20060601,0352, 45.0510, -18.5060, 4563,    492.8,  11.5310,  35.5970,2,  35.5950,2,    228.7,2,    225.9,2,     4.00,2,    12.19,2,     0.58,2,   2337.2,2,   7.8200,2,    25.00
  06MM20060523, OVIDE,    32,  1,     24,2,20060601,0352, 45.0510, -18.5060, 4563,    393.7,  11.9390,  35.6470,2,  35.6470,2,    229.6,2,    228.3,2,     3.50,2,    11.03,2,     0.54,2,   2341.0,2,   7.8320,2,    25.00
  06MM20060523, OVIDE,    32,  1,     25,2,20060601,0352, 45.0510, -18.5060, 4563,    294.8,  12.3940,  35.7060,2,  35.7060,2,    232.1,2,    228.3,2,     3.25,2,    10.18,2,     0.47,2,   -999.0,9,   7.8480,2,    25.00
  06MM20060523, OVIDE,    32,  1,     26,2,20060601,0352, 45.0510, -18.5060, 4563,    195.5,  12.9210,  35.7880,2,  35.7890,2,    240.6,2,    241.6,2,     2.40,2,     7.26,2,     0.34,2,   2349.8,2,   7.8860,2,    25.00
  06MM20060523, OVIDE,    32,  1,     27,2,20060601,0352, 45.0510, -18.5060, 4563,    146.8,  13.0880,  35.8010,2,  35.7990,2,    244.9,2,    242.2,2,     2.15,2,     7.10,2,     0.34,2,   -999.0,9,   7.8880,2,    25.00
  06MM20060523, OVIDE,    32,  1,     28,2,20060601,0352, 45.0510, -18.5060, 4563,     98.3,  13.3510,  35.8310,2,  35.8330,2,    248.9,2,    247.0,2,     1.80,2,     5.99,2,     0.27,2,   2351.7,2,   7.8970,2,    25.00
  06MM20060523, OVIDE,    32,  1,     29,2,20060601,0352, 45.0510, -18.5060, 4563,     48.1,  14.1810,  35.8280,2,  35.8310,2,    251.7,2,    253.4,2,     0.55,2,     2.81,2,     0.16,2,   -999.0,9,   7.9280,2,    25.00
  06MM20060523, OVIDE,    32,  1,     30,2,20060601,0352, 45.0510, -18.5060, 4563,     11.6,  14.8850,  35.8400,2,  35.8400,2,    259.6,2,    262.8,2,     0.50,2,     1.38,2,  -999.00,9,   2357.3,2,   7.9570,2,    25.00