BOTTLE,20140930PRINUNIVRMK
EXPOCODE,SECT_ID,STNNBR,CASTNO,BTLNBR,BTLNBR_FLAG_W,DATE,TIME,LATITUDE,LONGITUDE,DEPTH,CTDPRS,CTDTMP,CTDSAL,CTDSAL_FLAG_W,SALNTY,SALNTY_FLAG_W,CTDOXY,CTDOXY_FLAG_W,OXYGEN,OXYGEN_FLAG_W,SILCAT,SILCAT_FLAG_W,NITRAT,NITRAT_FLAG_W,PHSPHT,PHSPHT_FLAG_W,ALKALI,ALKALI_FLAG_W,PH_SWS,PH_SWS_FLAG_W,PH_TMP
,,,,,,,,,,METERS,DBAR,ITS-90,PSS-78,,PSS-78,,UMOL/KG,,UMOL/KG,,UMOL/KG,,UMOL/KG,,UMOL/KG,,UMOL/KG,,,,DEG C
  06MM20060523, OVIDE,    45,  1,      3,2,20060605,1117, 49.9070, -22.3140, 4006,   4063.9,   2.6220,  34.9220,2,  34.9220,2,    244.8,2,    245.1,2,    41.00,2,    22.66,2,     1.29,2,   -999.0,9,   7.7290,2,    25.00
  06MM20060523, OVIDE,    45,  1,      4,2,20060605,1117, 49.9070, -22.3140, 4006,   3798.4,   2.6520,  34.9270,2,  34.9270,2,    248.6,2,    248.6,2,    38.10,2,    22.01,2,     1.24,2,   -999.0,9,   7.7280,2,    25.00
  06MM20060523, OVIDE,    45,  1,      5,2,20060605,1117, 49.9070, -22.3140, 4006,   3497.2,   2.7850,  34.9430,2,  34.9440,2,    258.8,2,    259.3,2,    28.67,2,    20.00,2,     1.12,2,   -999.0,9,   7.7240,2,    25.00
  06MM20060523, OVIDE,    45,  1,      6,2,20060605,1117, 49.9070, -22.3140, 4006,   3246.5,   2.8710,  34.9460,2,  34.9470,2,    261.6,2,    262.5,2,    25.28,2,    19.52,2,     1.10,2,   -999.0,9,   7.7280,2,    25.00
  06MM20060523, OVIDE,    45,  1,      7,2,20060605,1117, 49.9070, -22.3140, 4006,   2996.2,   2.9980,  34.9430,2,  34.9450,2,    271.7,2,    270.4,2,    18.68,2,    18.32,2,     1.03,2,   -999.0,9,   7.7300,2,    25.00
  06MM20060523, OVIDE,    45,  1,      8,2,20060605,1117, 49.9070, -22.3140, 4006,   2738.9,   3.0950,  34.9280,2,  34.9280,2,    276.6,2,    276.2,2,    14.48,2,    18.27,2,     0.98,2,   -999.0,9,   7.7270,2,    25.00
  06MM20060523, OVIDE,    45,  1,      9,2,20060605,1117, 49.9070, -22.3140, 4006,   2497.5,   3.1750,  34.9130,2,  34.9150,2,    279.9,2,    279.4,2,    12.98,2,    17.89,2,     1.00,2,   -999.0,9,   7.7250,2,    25.00
  06MM20060523, OVIDE,    45,  1,     10,2,20060605,1117, 49.9070, -22.3140, 4006,   2497.7,   3.1750,  34.9140,2,  34.9170,2,    279.9,2,    279.2,2,    12.63,2,    17.89,2,     0.98,2,   -999.0,9,   7.7280,2,    25.00
  06MM20060523, OVIDE,    45,  1,     11,2,20060605,1117, 49.9070, -22.3140, 4006,   2245.0,   3.2630,  34.9020,2,-999.0000,3,    280.8,2,    280.6,2,    11.92,2,    18.00,2,     0.96,2,   -999.0,9,   7.7220,2,    25.00
  06MM20060523, OVIDE,    45,  1,     12,2,20060605,1117, 49.9070, -22.3140, 4006,   1995.4,   3.3950,  34.9000,2,  34.9020,2,    276.8,2,    279.0,2,    11.66,2,    18.22,2,     1.01,2,   -999.0,9,   7.7230,2,    25.00
  06MM20060523, OVIDE,    45,  1,     13,2,20060605,1117, 49.9070, -22.3140, 4006,   1795.2,   3.5540,  34.9050,2,  34.9050,2,    277.7,2,    276.8,2,    12.94,2,    18.32,2,     1.01,2,   -999.0,9,   7.7180,2,    25.00
  06MM20060523, OVIDE,    45,  1,     14,2,20060605,1117, 49.9070, -22.3140, 4006,   1595.1,   3.6680,  34.9010,2,  34.9010,2,    276.9,2,    277.2,2,    10.78,2,    18.27,2,     1.01,2,   -999.0,9,   7.7150,2,    25.00
  06MM20060523, OVIDE,    45,  1,     15,2,20060605,1117, 49.9070, -22.3140, 4006,   1324.7,   4.0650,  34.9340,2,  34.9330,2,    268.9,2,    267.4,2,    10.86,2,    18.60,2,     1.02,2,   -999.0,9,   7.7110,2,    25.00
  06MM20060523, OVIDE,    45,  1,     16,2,20060605,1117, 49.9070, -22.3140, 4006,   1244.3,   4.0180,  34.9090,2,-999.0000,3,    273.3,2,    272.0,2,    10.33,2,    18.43,2,     1.01,2,   -999.0,9,   7.7120,2,    25.00
  06MM20060523, OVIDE,    45,  1,     17,2,20060605,1117, 49.9070, -22.3140, 4006,   1100.1,   4.4180,  34.9360,2,  34.9360,2,    263.3,2,    261.6,2,    10.60,2,    18.87,2,     1.03,2,   -999.0,9,   7.7070,2,    25.00
  06MM20060523, OVIDE,    45,  1,     18,2,20060605,1117, 49.9070, -22.3140, 4006,    895.0,   6.0810,  35.1040,2,  35.1120,3,    225.5,2,    225.0,2,    11.74,2,    19.84,2,     1.05,2,   -999.0,9,   7.7090,2,    25.00
  06MM20060523, OVIDE,    45,  1,     19,2,20060605,1117, 49.9070, -22.3140, 4006,    815.8,   6.6690,  35.1360,2,  35.1370,2,    208.1,2,    215.0,3,    11.39,2,    20.16,2,     1.09,2,   -999.0,9,   7.7130,2,    25.00
  06MM20060523, OVIDE,    45,  1,     20,2,20060605,1117, 49.9070, -22.3140, 4006,    643.8,   8.4890,  35.1890,2,  35.1900,2,    190.4,2,    192.1,2,    10.77,2,    20.38,2,     1.12,2,   -999.0,9,   7.7170,2,    25.00
  06MM20060523, OVIDE,    45,  1,     21,2,20060605,1117, 49.9070, -22.3140, 4006,    595.0,   9.0130,  35.2140,2,  35.2160,2,    196.0,2,    193.6,2,    10.29,2,    19.78,2,     1.09,2,   -999.0,9,   7.7310,2,    25.00
  06MM20060523, OVIDE,    45,  1,     22,2,20060605,1117, 49.9070, -22.3140, 4006,    495.9,  10.2120,  35.3600,2,  35.3590,2,    206.1,2,    207.4,2,     7.59,2,    16.69,2,     1.05,2,   -999.0,9,   7.7710,2,    25.00
  06MM20060523, OVIDE,    45,  1,     23,2,20060605,1117, 49.9070, -22.3140, 4006,    355.5,  11.0980,  35.4210,2,  35.4220,2,    244.0,2,    245.9,2,     4.81,2,    11.44,2,     0.88,2,   -999.0,9,   7.8360,2,    25.00
  06MM20060523, OVIDE,    45,  1,     24,2,20060605,1117, 49.9070, -22.3140, 4006,    263.7,  11.6680,  35.5270,2,  35.5290,2,    243.4,2,    252.5,3,     3.66,2,     9.76,2,     0.59,2,   -999.0,9,   7.8570,2,    25.00
  06MM20060523, OVIDE,    45,  1,     25,2,20060605,1117, 49.9070, -22.3140, 4006,    197.7,  11.7250,  35.5340,2,  35.5330,2,    256.1,2,    253.5,2,     3.84,2,     9.59,2,     0.48,2,   -999.0,9,   7.8590,2,    25.00
  06MM20060523, OVIDE,    45,  1,     26,2,20060605,1117, 49.9070, -22.3140, 4006,    146.9,  11.7940,  35.5370,2,  35.5390,2,    254.3,2,    254.9,2,     2.91,2,     9.32,2,     0.48,2,   -999.0,9,   7.8660,2,    25.00
  06MM20060523, OVIDE,    45,  1,     27,2,20060605,1117, 49.9070, -22.3140, 4006,     96.5,  12.1040,  35.5700,2,  35.5680,2,    257.3,2,    255.5,2,     2.03,2,     7.70,2,     0.45,2,   -999.0,9,   7.8780,2,    25.00
  06MM20060523, OVIDE,    45,  1,     28,2,20060605,1117, 49.9070, -22.3140, 4006,     45.8,  12.3920,  35.5510,2,  35.5520,2,    263.6,2,    263.5,2,     0.88,2,     5.80,2,     0.33,2,   -999.0,9,   7.8990,2,    25.00
  06MM20060523, OVIDE,    45,  1,     29,2,20060605,1117, 49.9070, -22.3140, 4006,      6.9,  13.4410,  35.4930,2,  35.5000,3,    256.2,2,    267.6,3,     0.80,2,     4.55,2,     0.27,2,   -999.0,9,   7.9170,2,    25.00
  06MM20060523, OVIDE,    46,  1,      3,2,20060605,1721, 50.2790, -22.6060, 4132,   4191.6,   2.5710,  34.9150,2,  34.9130,2,    242.9,2,    242.4,2,    46.25,2,    22.84,2,     1.36,2,   2351.4,2,   7.7270,2,    25.00
  06MM20060523, OVIDE,    46,  1,      4,2,20060605,1721, 50.2790, -22.6060, 4132,   3747.1,   2.6600,  34.9280,2,  34.9280,2,    248.6,2,    249.1,2,    39.37,2,    21.48,2,     1.29,2,   2340.6,2,   7.7270,2,    25.00
  06MM20060523, OVIDE,    46,  1,      5,2,20060605,1721, 50.2790, -22.6060, 4132,   3497.3,   2.7650,  34.9410,2,  34.9390,2,    256.7,2,    257.7,2,    31.98,2,    20.23,2,     1.19,2,   2330.4,2,   7.7240,2,    25.00
  06MM20060523, OVIDE,    46,  1,      6,2,20060605,1721, 50.2790, -22.6060, 4132,   3246.8,   2.8860,  34.9470,2,  34.9430,2,    265.3,2,    265.1,2,    25.22,2,    18.48,2,     1.09,2,   2319.6,2,   7.7270,2,    25.00
  06MM20060523, OVIDE,    46,  1,      7,2,20060605,1721, 50.2790, -22.6060, 4132,   2996.8,   3.0070,  34.9410,2,  34.9390,2,    272.3,2,    273.4,2,    16.01,2,    17.56,2,     1.02,2,   2310.5,2,   7.7260,2,    25.00
  06MM20060523, OVIDE,    46,  1,      8,2,20060605,1721, 50.2790, -22.6060, 4132,   2746.3,   3.0800,  34.9290,2,-999.0000,3,    275.4,2,    275.8,2,    14.42,2,    17.45,2,     1.03,2,   2306.3,2,   7.7260,2,    25.00
  06MM20060523, OVIDE,    46,  1,      9,2,20060605,1721, 50.2790, -22.6060, 4132,   2497.2,   3.1590,  34.9130,2,  34.9120,2,    279.0,2,    279.2,2,    12.95,2,    17.45,2,     1.02,2,   2304.0,2,   7.7260,2,    25.00
  06MM20060523, OVIDE,    46,  1,     10,2,20060605,1721, 50.2790, -22.6060, 4132,   2245.3,   3.2420,  34.9000,2,  34.9000,2,    280.6,2,    280.9,2,    12.07,2,    17.72,2,     1.05,2,   2302.3,2,   7.7250,2,    25.00
  06MM20060523, OVIDE,    46,  1,     11,2,20060605,1721, 50.2790, -22.6060, 4132,   2244.1,   3.2420,  34.9000,2,  34.9000,2,    280.5,2,    280.7,2,    12.07,2,    17.45,2,     1.03,2,   2302.6,2,   7.7270,2,    25.00
  06MM20060523, OVIDE,    46,  1,     12,2,20060605,1721, 50.2790, -22.6060, 4132,   1995.6,   3.3530,  34.9000,2,  34.8990,2,    280.1,2,    279.7,2,    11.62,2,    17.77,2,     1.03,2,   2300.6,2,   7.7210,2,    25.00
  06MM20060523, OVIDE,    46,  1,     13,2,20060605,1721, 50.2790, -22.6060, 4132,   1794.5,   3.4990,  34.9020,2,  34.9030,2,    275.2,2,    277.4,2,    11.53,2,    17.94,2,     1.03,2,   2300.1,2,   7.7210,2,    25.00
  06MM20060523, OVIDE,    46,  1,     14,2,20060605,1721, 50.2790, -22.6060, 4132,   1594.5,   3.6050,  34.9020,2,  34.9010,2,    276.9,2,    277.1,2,    10.87,2,    17.66,2,     1.03,2,   2302.5,2,   7.7180,2,    25.00
  06MM20060523, OVIDE,    46,  1,     15,2,20060605,1721, 50.2790, -22.6060, 4132,   1393.6,   3.6910,  34.8930,2,  34.8930,2,    276.7,2,    279.2,2,    10.25,2,    17.50,2,     1.04,2,   2300.8,2,   7.7140,2,    25.00
  06MM20060523, OVIDE,    46,  1,     16,2,20060605,1721, 50.2790, -22.6060, 4132,   1194.9,   3.9420,  34.9090,2,  34.9080,2,    272.2,2,    273.7,2,    10.29,2,    17.88,2,     1.02,2,   2302.4,2,   7.7130,2,    25.00
  06MM20060523, OVIDE,    46,  1,     18,2,20060605,1721, 50.2790, -22.6060, 4132,    994.4,   4.5240,  34.9560,2,  34.9540,2,    253.6,2,    258.0,2,    10.74,2,    18.48,2,     1.06,2,   2306.7,2,   7.7070,2,    25.00
  06MM20060523, OVIDE,    46,  1,     19,2,20060605,1721, 50.2790, -22.6060, 4132,    796.6,   6.0950,  35.1230,2,  35.1240,2,    225.5,2,    225.4,2,    11.22,2,    19.41,2,     1.09,2,   2317.7,2,   7.7090,2,    25.00
  06MM20060523, OVIDE,    46,  1,     20,2,20060605,1721, 50.2790, -22.6060, 4132,    694.6,   6.7030,  35.0970,2,  35.0880,3,    211.1,2,    213.6,2,    11.18,2,    20.01,2,     1.16,2,   2315.2,2,   7.7040,2,    25.00
  06MM20060523, OVIDE,    46,  1,     21,2,20060605,1721, 50.2790, -22.6060, 4132,    594.1,   7.1110,  35.0140,2,-999.0000,3,    194.1,2,    202.6,3,    11.36,2,    20.61,2,     1.20,2,   -999.0,9,   7.6970,2,    25.00
  06MM20060523, OVIDE,    46,  1,     22,2,20060605,1721, 50.2790, -22.6060, 4132,    544.6,   7.4870,  34.9740,2,  34.9750,2,    203.7,2,    199.7,2,    11.00,2,    20.39,2,     1.14,2,   2305.9,2,   7.6990,2,    25.00
  06MM20060523, OVIDE,    46,  1,     23,2,20060605,1721, 50.2790, -22.6060, 4132,    496.0,   9.0800,  35.2030,2,  35.1790,3,    194.9,2,    192.4,2,     9.89,2,    19.35,2,     1.09,2,   2317.7,2,   7.7270,2,    25.00
  06MM20060523, OVIDE,    46,  1,     24,2,20060605,1721, 50.2790, -22.6060, 4132,    397.4,  10.3740,  35.3440,2,  35.3460,2,    212.4,2,    204.6,3,     7.45,2,    16.40,2,     0.87,2,   2326.1,2,   7.7720,2,    25.00
  06MM20060523, OVIDE,    46,  1,     25,2,20060605,1721, 50.2790, -22.6060, 4132,    296.3,  11.2720,  35.4380,2,  35.4380,2,    255.2,2,    243.5,3,     4.74,2,    11.12,2,     0.57,2,   -999.0,9,   7.8370,2,    25.00
  06MM20060523, OVIDE,    46,  1,     26,2,20060605,1721, 50.2790, -22.6060, 4132,    196.6,  11.5830,  35.4880,2,  35.4910,2,    256.8,2,    253.0,2,     3.55,2,     9.65,2,     0.53,2,   2333.1,2,   7.8570,2,    25.00
  06MM20060523, OVIDE,    46,  1,     27,2,20060605,1721, 50.2790, -22.6060, 4132,     97.2,  11.7720,  35.4950,2,  35.5050,3,    248.3,2,    256.0,3,     2.31,2,     8.34,2,     0.47,2,   2337.1,2,   7.8690,2,    25.00
  06MM20060523, OVIDE,    46,  1,     28,2,20060605,1721, 50.2790, -22.6060, 4132,     46.6,  12.4700,  35.4940,2,  35.4920,2,    270.4,2,    268.7,2,     0.66,2,     5.56,2,     0.35,2,   -999.0,9,   7.9010,2,    25.00
  06MM20060523, OVIDE,    46,  1,     29,2,20060605,1721, 50.2790, -22.6060, 4132,     12.2,  13.2760,  35.4820,2,  35.4850,2,    270.4,2,    271.4,2,     0.71,2,     3.98,2,     0.22,2,   -999.0,9,   7.9230,2,    25.00
  06MM20060523, OVIDE,    47,  1,      3,2,20060605,2328, 50.6420, -22.9000, 3722,   3771.7,   2.6060,  34.9240,2,  34.9250,2,    246.5,2,    246.1,2,    41.21,2,    22.27,2,     1.40,2,   -999.0,9,   7.7300,2,    25.00
  06MM20060523, OVIDE,    47,  1,      4,2,20060605,2328, 50.6420, -22.9000, 3722,   3497.4,   2.7610,  34.9390,2,  34.9420,2,    258.2,2,    257.6,2,    40.83,2,    19.79,2,     1.26,2,   -999.0,9,   7.7270,2,    25.00
  06MM20060523, OVIDE,    47,  1,      5,2,20060605,2328, 50.6420, -22.9000, 3722,   3242.9,   2.8440,  34.9440,2,  34.9490,2,    264.6,2,    263.8,2,    29.83,2,    19.09,2,     1.15,2,   -999.0,9,   7.7250,2,    25.00
  06MM20060523, OVIDE,    47,  1,      6,2,20060605,2328, 50.6420, -22.9000, 3722,   2997.5,   2.9480,  34.9440,2,  34.9460,2,    272.4,2,    272.0,2,    17.26,2,    18.12,2,     1.15,2,   -999.0,9,   7.7260,2,    25.00
  06MM20060523, OVIDE,    47,  1,      7,2,20060605,2328, 50.6420, -22.9000, 3722,   2746.1,   3.0380,  34.9330,2,  34.9350,2,    276.4,2,    275.2,2,    14.82,2,    17.63,2,     1.12,2,   -999.0,9,   7.7300,2,    25.00
  06MM20060523, OVIDE,    47,  1,      8,2,20060605,2328, 50.6420, -22.9000, 3722,   2496.9,   3.0990,  34.9180,2,  34.9220,2,    278.4,2,    281.4,2,    13.66,2,    17.90,2,     1.10,2,   -999.0,9,   7.7280,2,    25.00
  06MM20060523, OVIDE,    47,  1,      9,2,20060605,2328, 50.6420, -22.9000, 3722,   2093.6,   3.2490,  34.8990,2,  34.9010,2,    282.0,2,    277.0,3,    11.71,2,    17.90,2,     1.10,2,   -999.0,9,   7.7240,2,    25.00
  06MM20060523, OVIDE,    47,  1,     10,2,20060605,2328, 50.6420, -22.9000, 3722,   2095.1,   3.2500,  34.8990,2,  34.9000,2,    282.0,2,    280.6,2,    11.67,2,    17.68,2,     1.12,2,   -999.0,9,   7.7270,2,    25.00
  06MM20060523, OVIDE,    47,  1,     11,2,20060605,2328, 50.6420, -22.9000, 3722,   1794.7,   3.4310,  34.9010,2,  34.9040,2,    278.2,2,    278.9,2,    11.27,2,    18.12,2,     1.12,2,   -999.0,9,   7.7200,2,    25.00
  06MM20060523, OVIDE,    47,  1,     12,2,20060605,2328, 50.6420, -22.9000, 3722,   1596.4,   3.5550,  34.9010,2,  34.9040,2,    278.2,2,    277.8,2,    10.91,2,    18.06,2,     1.12,2,   -999.0,9,   7.7220,2,    25.00
  06MM20060523, OVIDE,    47,  1,     13,2,20060605,2328, 50.6420, -22.9000, 3722,   1397.1,   3.6390,  34.8930,2,  34.8960,2,    281.1,2,    278.8,2,    10.20,2,    17.68,2,     1.12,2,   -999.0,9,   7.7170,2,    25.00
  06MM20060523, OVIDE,    47,  1,     14,2,20060605,2328, 50.6420, -22.9000, 3722,   1316.7,   3.6770,  34.8920,2,  34.8970,2,    279.8,2,    278.3,2,    10.20,2,    17.95,2,     1.10,2,   -999.0,9,   7.7160,2,    25.00
  06MM20060523, OVIDE,    47,  1,     15,2,20060605,2328, 50.6420, -22.9000, 3722,    995.6,   4.0640,  34.9160,2,  34.9160,2,    271.9,2,    269.3,2,    10.20,2,    18.33,2,     1.09,2,   -999.0,9,   7.7100,2,    25.00
  06MM20060523, OVIDE,    47,  1,     16,2,20060605,2328, 50.6420, -22.9000, 3722,    894.8,   4.2890,  34.9260,2,  34.9290,2,    266.1,2,    263.4,2,    10.38,2,    18.55,2,     1.04,2,   -999.0,9,   7.7060,2,    25.00
  06MM20060523, OVIDE,    47,  1,     17,2,20060605,2328, 50.6420, -22.9000, 3722,    797.1,   4.5430,  34.9310,2,  34.9340,2,    255.9,2,    258.2,2,    10.42,2,    18.71,2,     1.18,2,   -999.0,9,   7.7060,2,    25.00
  06MM20060523, OVIDE,    47,  1,     18,2,20060605,2328, 50.6420, -22.9000, 3722,    695.4,   5.1310,  34.9680,2,  34.9750,3,    244.2,2,    241.1,2,    10.78,2,    19.30,2,     1.15,2,   -999.0,9,   7.7040,2,    25.00
  06MM20060523, OVIDE,    47,  1,     19,2,20060605,2328, 50.6420, -22.9000, 3722,    637.5,   5.8860,  35.0450,2,  35.0430,2,    225.3,2,    228.2,2,    10.96,2,    19.79,2,     1.31,2,   -999.0,9,   7.7030,2,    25.00
  06MM20060523, OVIDE,    47,  1,     20,2,20060605,2328, 50.6420, -22.9000, 3722,    466.7,   7.0330,  34.9750,2,  34.9790,2,    198.2,2,    202.5,2,    11.09,2,    20.81,2,     1.26,2,   -999.0,9,   7.6930,2,    25.00
  06MM20060523, OVIDE,    47,  1,     21,2,20060605,2328, 50.6420, -22.9000, 3722,    366.4,   8.8360,  35.0990,2,  35.1020,2,    197.3,2,    198.1,2,     9.14,2,    18.98,2,     1.14,2,   -999.0,9,   7.7270,2,    25.00
  06MM20060523, OVIDE,    47,  1,     22,2,20060605,2328, 50.6420, -22.9000, 3722,    298.8,   9.7440,  35.1910,2,  35.1880,2,    251.7,2,    235.7,3,     6.03,2,    13.85,2,     0.81,2,   -999.0,9,   7.7900,2,    25.00
  06MM20060523, OVIDE,    47,  1,     23,2,20060605,2328, 50.6420, -22.9000, 3722,    206.4,  10.4480,  35.2880,2,  35.2870,2,    269.4,2,    261.2,3,     3.55,2,    10.56,2,     0.63,2,   -999.0,9,   7.8390,2,    25.00
  06MM20060523, OVIDE,    47,  1,     24,2,20060605,2328, 50.6420, -22.9000, 3722,    147.6,  10.6710,  35.3170,2,  35.3170,2,    265.2,2,    263.8,2,     2.31,2,     9.59,2,     0.55,2,   -999.0,9,   7.8430,2,    25.00
  06MM20060523, OVIDE,    47,  1,     25,2,20060605,2328, 50.6420, -22.9000, 3722,     97.2,  11.2400,  35.4170,2,  35.4050,3,    244.4,2,    254.7,3,     2.84,2,     9.65,2,     0.57,2,   -999.0,9,   7.8470,2,    25.00
  06MM20060523, OVIDE,    47,  1,     26,2,20060605,2328, 50.6420, -22.9000, 3722,     45.8,  11.8970,  35.3470,2,  35.3330,3,    271.6,2,    273.2,2,     0.53,2,     5.71,2,     0.36,2,   -999.0,9,   7.8990,2,    25.00
  06MM20060523, OVIDE,    47,  1,     27,2,20060605,2328, 50.6420, -22.9000, 3722,      6.2,  13.1020,  35.3120,2,  35.3240,3,    269.2,2,    272.0,2,     0.49,2,     3.88,2,     0.24,2,   -999.0,9,   7.9250,2,    25.00