BOTTLE,20140930PRINUNIVRMK
EXPOCODE,SECT_ID,STNNBR,CASTNO,BTLNBR,BTLNBR_FLAG_W,DATE,TIME,LATITUDE,LONGITUDE,DEPTH,CTDPRS,CTDTMP,CTDSAL,CTDSAL_FLAG_W,SALNTY,SALNTY_FLAG_W,CTDOXY,CTDOXY_FLAG_W,OXYGEN,OXYGEN_FLAG_W,SILCAT,SILCAT_FLAG_W,NITRAT,NITRAT_FLAG_W,PHSPHT,PHSPHT_FLAG_W,ALKALI,ALKALI_FLAG_W,PH_SWS,PH_SWS_FLAG_W,PH_TMP
,,,,,,,,,,METERS,DBAR,ITS-90,PSS-78,,PSS-78,,UMOL/KG,,UMOL/KG,,UMOL/KG,,UMOL/KG,,UMOL/KG,,UMOL/KG,,,,DEG C
  06MM20060523, OVIDE,   111,  1,      3,2,20060622,1343, 59.7940, -42.2660, 1127,   1123.5,   4.0300,  34.9220,2,  34.9350,3,    281.8,2,    280.1,2,     9.09,2,    16.34,2,     1.05,2,   -999.0,9,   7.7290,2,    25.00
  06MM20060523, OVIDE,   111,  1,      4,2,20060622,1343, 59.7940, -42.2660, 1127,   1094.8,   4.0730,  34.9230,2,  34.9220,2,    279.4,2,    280.5,2,     8.93,2,    16.39,2,     1.06,2,   -999.0,9,   7.7350,2,    25.00
  06MM20060523, OVIDE,   111,  1,      5,2,20060622,1343, 59.7940, -42.2660, 1127,   1045.2,   4.2960,  34.9290,2,  34.9270,2,    278.4,2,    279.4,2,     8.77,2,    16.54,2,     1.05,2,   -999.0,9,   7.7310,2,    25.00
  06MM20060523, OVIDE,   111,  1,      6,2,20060622,1343, 59.7940, -42.2660, 1127,    994.5,   4.3730,  34.9310,2,  34.9340,2,    278.0,2,    278.7,2,     8.81,2,    16.44,2,     1.03,2,   -999.0,9,   7.7320,2,    25.00
  06MM20060523, OVIDE,   111,  1,      7,2,20060622,1343, 59.7940, -42.2660, 1127,    896.1,   4.5140,  34.9360,2,  34.9400,2,    278.6,2,    280.1,2,     8.57,2,    16.10,2,     1.05,2,   -999.0,9,   7.7270,2,    25.00
  06MM20060523, OVIDE,   111,  1,      8,2,20060622,1343, 59.7940, -42.2660, 1127,    796.6,   4.7330,  34.9470,2,  34.9530,2,    280.9,2,    281.3,2,     8.30,2,    16.20,2,     1.03,2,   -999.0,9,   7.7380,2,    25.00
  06MM20060523, OVIDE,   111,  1,      9,2,20060622,1343, 59.7940, -42.2660, 1127,    797.6,   4.7420,  34.9480,2,  34.9470,2,    280.9,2,    281.7,2,     8.30,2,    16.10,2,     1.03,2,   -999.0,9,   7.7400,2,    25.00
  06MM20060523, OVIDE,   111,  1,     10,2,20060622,1343, 59.7940, -42.2660, 1127,    695.5,   5.0470,  34.9700,2,  34.9720,2,    286.1,2,    285.9,2,     7.90,2,    15.77,2,     1.00,2,   -999.0,9,   7.7470,2,    25.00
  06MM20060523, OVIDE,   111,  1,     11,2,20060622,1343, 59.7940, -42.2660, 1127,    596.4,   4.9460,  34.9430,2,  34.9440,2,    286.6,2,    286.3,2,     7.66,2,    15.34,2,     1.00,2,   -999.0,9,   7.7470,2,    25.00
  06MM20060523, OVIDE,   111,  1,     12,2,20060622,1343, 59.7940, -42.2660, 1127,    497.4,   4.9130,  34.9250,2,  34.9260,2,    290.0,2,    287.4,2,     7.43,2,    15.10,2,     0.98,2,   -999.0,9,   7.7470,2,    25.00
  06MM20060523, OVIDE,   111,  1,     13,2,20060622,1343, 59.7940, -42.2660, 1127,    393.6,   4.7440,  34.8860,2,  34.8900,2,    289.8,2,    291.3,2,     7.11,2,    14.81,2,     0.96,2,   -999.0,9,   7.7510,2,    25.00
  06MM20060523, OVIDE,   111,  1,     14,2,20060622,1343, 59.7940, -42.2660, 1127,    294.7,   5.4250,  34.9820,2,  34.9850,2,    283.4,2,    286.1,2,     7.35,2,    15.29,2,     1.00,2,   -999.0,9,   7.7510,2,    25.00
  06MM20060523, OVIDE,   111,  1,     15,2,20060622,1343, 59.7940, -42.2660, 1127,    195.5,   5.4140,  34.9560,2,  34.9540,2,    285.5,2,    289.2,2,     6.88,2,    14.47,2,     0.95,2,   -999.0,9,   7.7550,2,    25.00
  06MM20060523, OVIDE,   111,  1,     16,2,20060622,1343, 59.7940, -42.2660, 1127,    146.3,   5.8160,  35.0050,2,  35.0070,2,    278.9,2,    288.9,3,     6.72,2,    14.76,2,     0.97,2,   -999.0,9,   7.7560,2,    25.00
  06MM20060523, OVIDE,   111,  1,     18,2,20060622,1343, 59.7940, -42.2660, 1127,     96.0,   5.7880,  34.9530,2,  34.9620,3,    287.0,2,    292.0,2,     5.45,2,    13.41,2,     0.90,2,   -999.0,9,   7.7690,2,    25.00
  06MM20060523, OVIDE,   111,  1,     19,2,20060622,1343, 59.7940, -42.2660, 1127,     46.3,   5.5150,  34.8510,2,  34.8710,3,    299.2,2,    298.9,2,     4.54,2,    11.49,2,     0.82,2,   -999.0,9,   7.7830,2,    25.00
  06MM20060523, OVIDE,   111,  1,     20,2,20060622,1343, 59.7940, -42.2660, 1127,      5.0,   4.7730,  33.7040,2,  33.7760,3,    343.8,2,    339.6,2,     1.90,2,     2.50,2,     0.31,2,   -999.0,9,   7.9450,2,    25.00
  06MM20060523, OVIDE,   112,  1,      3,2,20060622,1556, 59.7700, -42.1930, 1593,   1594.9,   3.0830,  34.9070,2,  34.9080,2,    287.4,2,    287.2,2,     9.72,2,    15.87,2,     1.00,2,   -999.0,9,   7.7210,2,    25.00
  06MM20060523, OVIDE,   112,  1,      4,2,20060622,1556, 59.7700, -42.1930, 1593,   1544.8,   3.1820,  34.9090,2,-999.0000,3,    287.2,2,   -999.0,3,     9.72,2,    15.92,2,     1.02,2,   -999.0,9,-999.0000,9,    25.00
  06MM20060523, OVIDE,   112,  1,      5,2,20060622,1556, 59.7700, -42.1930, 1593,   1494.9,   3.2340,  34.9100,2,-999.0000,3,    285.6,2,   -999.0,3,     9.60,2,    16.30,2,     1.02,2,   -999.0,9,-999.0000,9,    25.00
  06MM20060523, OVIDE,   112,  1,      6,2,20060622,1556, 59.7700, -42.1930, 1593,   1395.5,   3.3640,  34.9140,2,  34.9140,2,    282.7,2,    283.8,2,     9.84,2,    16.20,2,     1.03,2,   -999.0,9,   7.7260,2,    25.00
  06MM20060523, OVIDE,   112,  1,      7,2,20060622,1556, 59.7700, -42.1930, 1593,   1194.7,   3.6610,  34.9140,2,  34.9160,2,    282.5,2,    280.8,2,     9.52,2,    16.30,2,     1.03,2,   -999.0,9,   7.7250,2,    25.00
  06MM20060523, OVIDE,   112,  1,      8,2,20060622,1556, 59.7700, -42.1930, 1593,    995.1,   3.9700,  34.9170,2,  34.9190,2,    280.8,2,    280.2,2,     9.28,2,    16.63,2,     1.05,2,   -999.0,9,   7.7250,2,    25.00
  06MM20060523, OVIDE,   112,  1,      9,2,20060622,1556, 59.7700, -42.1930, 1593,    894.8,   4.0810,  34.9220,2,-999.0000,3,    280.1,2,   -999.0,3,     9.20,2,    16.49,2,     1.05,2,   -999.0,9,-999.0000,9,    25.00
  06MM20060523, OVIDE,   112,  1,     10,2,20060622,1556, 59.7700, -42.1930, 1593,    795.0,   4.4020,  34.9360,2,  34.9390,2,    278.3,2,    275.8,2,     9.20,2,    16.77,2,     1.06,2,   -999.0,9,   7.7190,2,    25.00
  06MM20060523, OVIDE,   112,  1,     11,2,20060622,1556, 59.7700, -42.1930, 1593,    695.1,   4.6650,  34.9480,2,-999.0000,3,    283.6,2,   -999.0,3,     8.65,2,    16.06,2,     1.05,2,   -999.0,9,-999.0000,9,    25.00
  06MM20060523, OVIDE,   112,  1,     12,2,20060622,1556, 59.7700, -42.1930, 1593,    595.6,   5.0360,  34.9860,2,  34.9990,3,    288.6,2,    287.6,2,     8.17,2,    15.68,2,     1.02,2,   -999.0,9,   7.7430,2,    25.00
  06MM20060523, OVIDE,   112,  1,     13,2,20060622,1556, 59.7700, -42.1930, 1593,    495.0,   5.2370,  35.0060,2,  35.0230,3,    286.2,2,    290.2,2,     7.93,2,    15.87,2,     1.02,2,   -999.0,9,   7.7480,2,    25.00
  06MM20060523, OVIDE,   112,  1,     14,2,20060622,1556, 59.7700, -42.1930, 1593,    395.5,   5.2490,  34.9980,2,  35.0340,3,    290.1,2,    287.9,2,     7.85,2,    15.68,2,     1.02,2,   -999.0,9,   7.7490,2,    25.00
  06MM20060523, OVIDE,   112,  1,     15,2,20060622,1556, 59.7700, -42.1930, 1593,    295.0,   5.4980,  35.0220,2,  35.0450,3,    285.7,2,    285.8,2,     7.85,2,    15.73,2,     1.02,2,   -999.0,9,   7.7500,2,    25.00
  06MM20060523, OVIDE,   112,  1,     16,2,20060622,1556, 59.7700, -42.1930, 1593,    196.1,   5.7280,  35.0320,2,  35.0020,3,    287.2,2,   -999.0,3,     7.62,2,    15.44,2,     0.98,2,   -999.0,9,-999.0000,9,    25.00
  06MM20060523, OVIDE,   112,  1,     18,2,20060622,1556, 59.7700, -42.1930, 1593,    138.6,   5.9370,  35.0450,2,  35.0100,3,    285.6,2,    283.7,2,     7.38,2,    15.30,2,     0.98,2,   -999.0,9,   7.7580,2,    25.00
  06MM20060523, OVIDE,   112,  1,     19,2,20060622,1556, 59.7700, -42.1930, 1593,     95.9,   5.8610,  35.0080,2,  35.0000,3,    287.6,2,    286.6,2,     6.70,2,    14.12,2,     0.94,2,   -999.0,9,   7.7630,2,    25.00
  06MM20060523, OVIDE,   112,  1,     20,2,20060622,1556, 59.7700, -42.1930, 1593,     46.4,   6.4490,  35.0000,2,-999.0000,3,    328.6,2,    294.0,3,     4.64,2,    10.37,2,     0.78,2,   -999.0,9,   7.8150,2,    25.00
  06MM20060523, OVIDE,   112,  1,     21,2,20060622,1556, 59.7700, -42.1930, 1593,      5.7,   5.7710,  34.1650,2,  34.2010,3,    339.6,2,    341.5,2,     2.22,2,     1.99,2,     0.31,2,   -999.0,9,   7.9640,2,    25.00
  06MM20060523, OVIDE,   113,  1,      3,2,20060622,1834, 59.7000, -42.0000, 1801,   1804.3,   2.3340,  34.8960,2,  34.8980,2,    295.8,2,    296.2,2,     8.61,2,    14.83,2,     0.93,2,   -999.0,9,-999.0000,9,    25.00
  06MM20060523, OVIDE,   113,  1,      4,2,20060622,1834, 59.7000, -42.0000, 1801,   1755.0,   2.5240,  34.8990,2,-999.0000,3,    293.7,2,   -999.0,3,     9.13,2,    15.07,2,     0.96,2,   -999.0,9,-999.0000,9,    25.00
  06MM20060523, OVIDE,   113,  1,      5,2,20060622,1834, 59.7000, -42.0000, 1801,   1705.4,   2.6740,  34.9010,2,-999.0000,3,    290.3,2,   -999.0,3,     9.44,2,    15.12,2,     0.98,2,   -999.0,9,-999.0000,9,    25.00
  06MM20060523, OVIDE,   113,  1,      6,2,20060622,1834, 59.7000, -42.0000, 1801,   1605.6,   2.8220,  34.9020,2,-999.0000,3,    287.6,2,   -999.0,3,     9.60,2,    15.55,2,     0.98,2,   -999.0,9,-999.0000,9,    25.00
  06MM20060523, OVIDE,   113,  1,      7,2,20060622,1834, 59.7000, -42.0000, 1801,   1395.6,   3.1290,  34.9100,2,  34.9100,2,    285.4,2,    285.3,2,     9.88,2,    16.07,2,     1.02,2,   -999.0,9,-999.0000,9,    25.00
  06MM20060523, OVIDE,   113,  1,      8,2,20060622,1834, 59.7000, -42.0000, 1801,   1195.8,   3.4280,  34.9190,2,-999.0000,3,    282.0,2,   -999.0,3,     9.72,2,    16.03,2,     1.03,2,   -999.0,9,-999.0000,9,    25.00
  06MM20060523, OVIDE,   113,  1,      9,2,20060622,1834, 59.7000, -42.0000, 1801,    995.4,   3.6450,  34.9180,2,  34.9170,2,    279.6,2,    281.2,2,     9.44,2,    16.36,2,     1.04,2,   -999.0,9,-999.0000,9,    25.00
  06MM20060523, OVIDE,   113,  1,     10,2,20060622,1834, 59.7000, -42.0000, 1801,    895.0,   3.6730,  34.9040,2,  34.9050,2,    282.0,2,    280.4,2,     9.64,2,    16.50,2,     1.06,2,   -999.0,9,-999.0000,9,    25.00
  06MM20060523, OVIDE,   113,  1,     11,2,20060622,1834, 59.7000, -42.0000, 1801,    795.8,   3.8400,  34.9110,2,  34.9110,2,    280.2,2,    279.9,2,     9.32,2,    16.41,2,     1.03,2,   -999.0,9,-999.0000,9,    25.00
  06MM20060523, OVIDE,   113,  1,     12,2,20060622,1834, 59.7000, -42.0000, 1801,    696.4,   4.0370,  34.9190,2,  34.9200,2,    280.0,2,    278.4,2,     9.17,2,    16.60,2,     1.03,2,   -999.0,9,-999.0000,9,    25.00
  06MM20060523, OVIDE,   113,  1,     13,2,20060622,1834, 59.7000, -42.0000, 1801,    596.0,   4.3020,  34.9290,2,  34.9330,2,    276.7,2,    278.0,2,     8.93,2,    16.70,2,     1.03,2,   -999.0,9,-999.0000,9,    25.00
  06MM20060523, OVIDE,   113,  1,     14,2,20060622,1834, 59.7000, -42.0000, 1801,    495.7,   4.5910,  34.9430,2,  34.9440,2,    288.3,2,    278.5,2,     8.69,2,    16.17,2,     1.04,2,   -999.0,9,-999.0000,9,    25.00
  06MM20060523, OVIDE,   113,  1,     15,2,20060622,1834, 59.7000, -42.0000, 1801,    396.0,   4.9630,  34.9760,2,  34.9780,2,    289.8,2,    288.8,2,     8.02,2,    16.17,2,     1.02,2,   -999.0,9,-999.0000,9,    25.00
  06MM20060523, OVIDE,   113,  1,     16,2,20060622,1834, 59.7000, -42.0000, 1801,    295.0,   5.1670,  34.9990,2,  35.0000,2,    289.4,2,    290.0,2,     7.78,2,    15.88,2,     1.00,2,   -999.0,9,-999.0000,9,    25.00
  06MM20060523, OVIDE,   113,  1,     17,2,20060622,1834, 59.7000, -42.0000, 1801,    195.7,   5.3740,  35.0020,2,  34.9960,3,    291.2,2,    286.1,2,     7.58,2,    15.88,2,     0.98,2,   -999.0,9,-999.0000,9,    25.00
  06MM20060523, OVIDE,   113,  1,     18,2,20060622,1834, 59.7000, -42.0000, 1801,    146.1,   5.6990,  35.0310,2,  35.0300,2,    280.4,2,    283.8,2,     7.51,2,    15.50,2,     0.98,2,   -999.0,9,-999.0000,9,    25.00
  06MM20060523, OVIDE,   113,  1,     19,2,20060622,1834, 59.7000, -42.0000, 1801,     96.9,   5.9460,  35.0460,2,  35.0460,2,    289.5,2,    283.5,2,     7.15,2,    15.26,2,     0.98,2,   -999.0,9,-999.0000,9,    25.00
  06MM20060523, OVIDE,   113,  1,     20,2,20060622,1834, 59.7000, -42.0000, 1801,     46.2,   6.6150,  34.8770,2,  34.8890,3,    305.7,2,    304.1,2,     3.16,2,     6.74,2,     0.60,2,   -999.0,9,-999.0000,9,    25.00
  06MM20060523, OVIDE,   113,  1,     21,2,20060622,1834, 59.7000, -42.0000, 1801,     12.3,   6.7140,  34.8440,2,  34.8450,2,    309.2,2,    309.3,2,     2.57,2,     5.45,2,     0.50,2,   -999.0,9,-999.0000,9,    25.00
  06MM20060523, OVIDE,   114,  1,      3,2,20060622,2113, 59.6530, -41.7920, 1882,   1890.3,   2.2050,  34.8950,2,  34.8960,2,    298.9,2,    279.9,3,     8.33,2,    15.30,2,     0.91,2,   -999.0,9,   7.7290,2,    25.00
  06MM20060523, OVIDE,   114,  1,      4,2,20060622,2113, 59.6530, -41.7920, 1882,   1839.3,   2.3130,  34.8950,2,-999.0000,3,    298.9,2,   -999.0,3,     8.69,2,    15.35,2,     0.93,2,   -999.0,9,-999.0000,9,    25.00
  06MM20060523, OVIDE,   114,  1,      5,2,20060622,2113, 59.6530, -41.7920, 1882,   1789.0,   2.3610,  34.8960,2,-999.0000,3,    298.4,2,   -999.0,3,     8.73,2,    15.20,2,     0.93,2,   -999.0,9,-999.0000,9,    25.00
  06MM20060523, OVIDE,   114,  1,      6,2,20060622,2113, 59.6530, -41.7920, 1882,   1690.4,   2.4950,  34.8980,2,  34.8990,2,    296.7,2,    294.8,2,     9.09,2,    15.64,2,     0.94,2,   2300.9,2,   7.7300,2,    25.00
  06MM20060523, OVIDE,   114,  1,      7,2,20060622,2113, 59.6530, -41.7920, 1882,   1595.8,   2.6200,  34.9020,2,-999.0000,3,    295.3,2,   -999.0,3,     9.36,2,    15.79,2,     0.96,2,   -999.0,9,-999.0000,9,    25.00
  06MM20060523, OVIDE,   114,  1,      8,2,20060622,2113, 59.6530, -41.7920, 1882,   1395.7,   2.9980,  34.9130,2,  34.9130,2,    288.5,2,    285.9,2,    10.31,2,    16.08,2,     1.01,2,   2300.6,2,   7.7290,2,    25.00
  06MM20060523, OVIDE,   114,  1,      9,2,20060622,2113, 59.6530, -41.7920, 1882,   1195.8,   3.2900,  34.9110,2,  34.9150,2,    284.9,2,    285.2,2,     9.68,2,    16.72,2,     1.02,2,   2301.5,2,   7.7270,2,    25.00
  06MM20060523, OVIDE,   114,  1,     10,2,20060622,2113, 59.6530, -41.7920, 1882,    995.6,   3.5250,  34.9190,2,  34.9200,2,    282.4,2,    281.2,2,     9.68,2,    16.67,2,     1.03,2,   2304.6,2,   7.7280,2,    25.00
  06MM20060523, OVIDE,   114,  1,     11,2,20060622,2113, 59.6530, -41.7920, 1882,    896.1,   3.6400,  34.9140,2,-999.0000,3,    281.6,2,   -999.0,3,     9.76,2,    17.16,2,     1.05,2,   -999.0,9,-999.0000,9,    25.00
  06MM20060523, OVIDE,   114,  1,     12,2,20060622,2113, 59.6530, -41.7920, 1882,    795.5,   3.6910,  34.9050,2,  34.9080,2,    282.1,2,    281.0,2,     9.56,2,    16.97,2,     1.04,2,   2299.7,2,   7.7270,2,    25.00
  06MM20060523, OVIDE,   114,  1,     13,2,20060622,2113, 59.6530, -41.7920, 1882,    695.8,   3.8750,  34.9130,2,  34.9150,2,    280.8,2,    279.9,2,     9.24,2,    16.97,2,     1.04,2,   -999.0,9,   7.7220,2,    25.00
  06MM20060523, OVIDE,   114,  1,     14,2,20060622,2113, 59.6530, -41.7920, 1882,    595.7,   4.1150,  34.9220,2,  34.9220,2,    278.9,2,    277.8,2,     9.24,2,    16.97,2,     1.06,2,   -999.0,9,   7.7240,2,    25.00
  06MM20060523, OVIDE,   114,  1,     15,2,20060622,2113, 59.6530, -41.7920, 1882,    496.7,   4.3380,  34.9200,2,  34.9200,2,    283.9,2,    281.4,2,     8.49,2,    16.33,2,     0.99,2,   2301.0,2,   7.7340,2,    25.00
  06MM20060523, OVIDE,   114,  1,     16,2,20060622,2113, 59.6530, -41.7920, 1882,    396.3,   4.7020,  34.9420,2,  34.9440,2,    299.8,2,    284.5,3,     8.09,2,    16.18,2,     0.98,2,   2306.0,2,   7.7390,2,    25.00
  06MM20060523, OVIDE,   114,  1,     18,2,20060622,2113, 59.6530, -41.7920, 1882,    296.1,   5.1030,  34.9860,2,  34.9890,2,    292.5,2,    289.7,2,     7.85,2,    16.33,2,     0.98,2,   -999.0,9,   7.7490,2,    25.00
  06MM20060523, OVIDE,   114,  1,     19,2,20060622,2113, 59.6530, -41.7920, 1882,    196.6,   5.1330,  34.9650,2,  34.9730,3,    292.4,2,    286.6,2,     7.54,2,    15.40,2,     0.96,2,   2305.7,2,   7.7490,2,    25.00
  06MM20060523, OVIDE,   114,  1,     20,2,20060622,2113, 59.6530, -41.7920, 1882,    146.2,   5.4050,  34.9930,2,  34.9930,2,    279.6,2,    286.6,2,     7.38,2,    15.69,2,     0.96,2,   -999.0,9,   7.7520,2,    25.00
  06MM20060523, OVIDE,   114,  1,     21,2,20060622,2113, 59.6530, -41.7920, 1882,     97.0,   5.6470,  35.0000,2,  35.0010,2,    292.6,2,    285.9,2,     6.94,2,    15.45,2,     0.96,2,   2306.1,2,   7.7550,2,    25.00
  06MM20060523, OVIDE,   114,  1,     22,2,20060622,2113, 59.6530, -41.7920, 1882,     46.1,   6.1350,  34.9170,2,  34.9310,3,    304.1,2,    296.7,2,     4.44,2,    10.20,2,     0.77,2,   -999.0,9,   7.8150,2,    25.00
  06MM20060523, OVIDE,   114,  1,     23,2,20060622,2113, 59.6530, -41.7920, 1882,     12.6,   6.9700,  34.8180,2,  34.8220,2,    308.7,2,    308.7,2,     2.78,2,     5.40,2,     0.48,2,   2305.1,2,   7.8930,2,    25.00