BOTTLE,20140930PRINUNIVRMK
EXPOCODE,SECT_ID,STNNBR,CASTNO,BTLNBR,BTLNBR_FLAG_W,DATE,TIME,LATITUDE,LONGITUDE,DEPTH,CTDPRS,CTDTMP,CTDSAL,CTDSAL_FLAG_W,SALNTY,SALNTY_FLAG_W,CTDOXY,CTDOXY_FLAG_W,OXYGEN,OXYGEN_FLAG_W,SILCAT,SILCAT_FLAG_W,NITRAT,NITRAT_FLAG_W,PHSPHT,PHSPHT_FLAG_W,ALKALI,ALKALI_FLAG_W,PH_SWS,PH_SWS_FLAG_W,PH_TMP
,,,,,,,,,,METERS,DBAR,ITS-90,PSS-78,,PSS-78,,UMOL/KG,,UMOL/KG,,UMOL/KG,,UMOL/KG,,UMOL/KG,,UMOL/KG,,,,DEG C
  06MM20060523, OVIDE,    92,  1,      3,2,20060615,0327, 59.7250, -40.2510, 2658,   2681.1,   1.6030,  34.9060,2,  34.9020,2,    300.6,2,    300.9,2,     8.26,2,    13.89,2,     0.82,2,   -999.0,9,   7.7210,2,    25.00
  06MM20060523, OVIDE,    92,  1,      4,2,20060615,0327, 59.7250, -40.2510, 2658,   2628.2,   1.6460,  34.9000,2,  34.9040,2,    298.9,2,    300.7,2,     8.26,2,    14.25,2,     0.81,2,   -999.0,9,   7.7250,2,    25.00
  06MM20060523, OVIDE,    92,  1,      5,2,20060615,0327, 59.7250, -40.2510, 2658,   2579.6,   1.9740,  34.9040,2,  34.9010,2,    295.8,2,    294.9,2,     9.14,2,    14.80,2,     0.87,2,   -999.0,9,   7.7270,2,    25.00
  06MM20060523, OVIDE,    92,  1,      6,2,20060615,0327, 59.7250, -40.2510, 2658,   2495.6,   2.3290,  34.9080,2,  34.9060,2,    290.1,2,    291.3,2,    10.34,2,    15.34,2,     0.91,2,   -999.0,9,   7.7250,2,    25.00
  06MM20060523, OVIDE,    92,  1,      7,2,20060615,0327, 59.7250, -40.2510, 2658,   2245.4,   2.9120,  34.9290,2,  34.9270,2,    280.4,2,    281.0,2,    12.00,2,    16.84,2,     0.96,2,   -999.0,9,   7.7280,2,    25.00
  06MM20060523, OVIDE,    92,  1,      8,2,20060615,0327, 59.7250, -40.2510, 2658,   1995.4,   3.1090,  34.9190,2,  34.9190,2,    283.3,2,    282.5,2,    10.53,2,    16.52,2,     0.94,2,   -999.0,9,   7.7270,2,    25.00
  06MM20060523, OVIDE,    92,  1,      9,2,20060615,0327, 59.7250, -40.2510, 2658,   1795.4,   3.2530,  34.9180,2,  34.9170,2,    281.7,2,    281.1,2,    10.65,2,    17.02,2,     1.02,2,   -999.0,9,   7.7260,2,    25.00
  06MM20060523, OVIDE,    92,  1,     10,2,20060615,0327, 59.7250, -40.2510, 2658,   1795.1,   3.2560,  34.9180,2,  34.9160,2,    281.7,2,    282.2,2,    10.65,2,    17.02,2,     1.00,2,   -999.0,9,   7.7250,2,    25.00
  06MM20060523, OVIDE,    92,  1,     11,2,20060615,0327, 59.7250, -40.2510, 2658,   1594.8,   3.3450,  34.9130,2,  34.9190,3,    281.6,2,    283.4,2,    10.61,2,    16.80,2,     0.98,2,   -999.0,9,   7.7230,2,    25.00
  06MM20060523, OVIDE,    92,  1,     12,2,20060615,0327, 59.7250, -40.2510, 2658,   1394.7,   3.4880,  34.9170,2,  34.9150,2,    278.7,2,    279.5,2,    10.45,2,    17.39,2,     1.00,2,   -999.0,9,   7.7220,2,    25.00
  06MM20060523, OVIDE,    92,  1,     13,2,20060615,0327, 59.7250, -40.2510, 2658,   1195.3,   3.5540,  34.9010,2,  34.8990,2,    280.7,2,    280.9,2,    10.07,2,    17.16,2,     1.01,2,   -999.0,9,   7.7220,2,    25.00
  06MM20060523, OVIDE,    92,  1,     14,2,20060615,0327, 59.7250, -40.2510, 2658,    994.3,   3.5400,  34.8770,2,  34.8770,2,    289.4,2,    289.6,2,     9.22,2,    16.93,2,     0.98,2,   -999.0,9,   7.7200,2,    25.00
  06MM20060523, OVIDE,    92,  1,     15,2,20060615,0327, 59.7250, -40.2510, 2658,    894.7,   3.6080,  34.8810,2,  34.8780,2,    287.7,2,    289.1,2,     9.06,2,    16.84,2,     0.98,2,   -999.0,9,   7.7200,2,    25.00
  06MM20060523, OVIDE,    92,  1,     17,2,20060615,0327, 59.7250, -40.2510, 2658,    695.1,   3.8390,  34.8980,2,  34.8950,2,    280.6,2,    283.2,2,     9.18,2,    16.98,2,     0.99,2,   -999.0,9,   7.7200,2,    25.00
  06MM20060523, OVIDE,    92,  1,     18,2,20060615,0327, 59.7250, -40.2510, 2658,    594.7,   4.0370,  34.9110,2,  34.9160,2,    279.7,2,    281.9,2,     8.83,2,    16.70,2,     0.98,2,   -999.0,9,   7.7180,2,    25.00
  06MM20060523, OVIDE,    92,  1,     19,2,20060615,0327, 59.7250, -40.2510, 2658,    495.0,   4.2870,  34.9250,2,  34.9210,2,    282.0,2,    280.0,2,     9.06,2,    17.20,2,     0.96,2,   -999.0,9,   7.7210,2,    25.00
  06MM20060523, OVIDE,    92,  1,     20,2,20060615,0327, 59.7250, -40.2510, 2658,    394.9,   4.5940,  34.9430,2,  34.9400,2,    290.1,2,    287.3,2,     8.37,2,    16.57,2,     0.97,2,   -999.0,9,   7.7340,2,    25.00
  06MM20060523, OVIDE,    92,  1,     21,2,20060615,0327, 59.7250, -40.2510, 2658,    295.2,   4.8290,  34.9640,2,  34.9600,2,    296.3,2,    295.5,2,     7.95,2,    15.98,2,     0.97,2,   -999.0,9,   7.7430,2,    25.00
  06MM20060523, OVIDE,    92,  1,     22,2,20060615,0327, 59.7250, -40.2510, 2658,    195.5,   5.0780,  34.9870,2,  34.9850,2,    299.1,2,    291.4,3,     7.64,2,    15.61,2,     0.94,2,   -999.0,9,   7.7490,2,    25.00
  06MM20060523, OVIDE,    92,  1,     23,2,20060615,0327, 59.7250, -40.2510, 2658,    145.3,   4.9260,  34.9510,2,  34.9490,2,    290.3,2,    290.9,2,     7.83,2,    15.93,2,     0.94,2,   -999.0,9,   7.7410,2,    25.00
  06MM20060523, OVIDE,    92,  1,     24,2,20060615,0327, 59.7250, -40.2510, 2658,     95.0,   4.7760,  34.8960,2,-999.0000,3,    292.3,2,    295.8,2,     7.72,2,    15.66,2,     0.97,2,   -999.0,9,   7.7410,2,    25.00
  06MM20060523, OVIDE,    92,  1,     25,2,20060615,0327, 59.7250, -40.2510, 2658,     46.3,   6.4940,  34.8800,2,  34.8790,2,    301.2,2,    302.9,2,     4.98,2,     8.90,2,     0.63,2,   -999.0,9,   7.8330,2,    25.00
  06MM20060523, OVIDE,    92,  1,     26,2,20060615,0327, 59.7250, -40.2510, 2658,      5.7,   6.5200,  34.8790,2,  34.8750,2,    297.3,2,    306.0,3,     4.63,2,     7.76,2,     0.58,2,   -999.0,9,   7.8480,2,    25.00
  06MM20060523, OVIDE,    93,  1,      3,2,20060615,0657, 59.7400, -40.5980, 2560,   2580.8,   1.8210,  34.9010,2,  34.9020,2,    301.6,2,    303.2,2,     7.51,2,    13.58,2,     0.78,2,   -999.0,9,   7.7300,2,    25.00
  06MM20060523, OVIDE,    93,  1,      4,2,20060615,0657, 59.7400, -40.5980, 2560,   2531.3,   1.9380,  34.9020,2,  34.9020,2,    301.9,2,    301.3,2,     7.59,2,    13.90,2,     0.78,2,   -999.0,9,   7.7320,2,    25.00
  06MM20060523, OVIDE,    93,  1,      5,2,20060615,0657, 59.7400, -40.5980, 2560,   2480.0,   2.0500,  34.9020,2,  34.9010,2,    301.0,2,    300.3,2,     7.82,2,    14.03,2,     0.77,2,   -999.0,9,   7.7290,2,    25.00
  06MM20060523, OVIDE,    93,  1,      6,2,20060615,0657, 59.7400, -40.5980, 2560,   2245.8,   2.7280,  34.9260,2,  34.9270,2,    280.8,2,    280.8,2,    12.16,2,    16.06,2,     0.91,2,   -999.0,9,   7.7270,2,    25.00
  06MM20060523, OVIDE,    93,  1,      7,2,20060615,0657, 59.7400, -40.5980, 2560,   1996.5,   2.9970,  34.9330,2,  34.9320,2,    280.2,2,    278.8,2,    12.12,2,    16.37,2,     0.90,2,   -999.0,9,   7.7290,2,    25.00
  06MM20060523, OVIDE,    93,  1,      8,2,20060615,0657, 59.7400, -40.5980, 2560,   1795.4,   3.1340,  34.9270,2,  34.9280,2,    281.1,2,    279.9,2,    11.31,2,    16.55,2,     0.95,2,   -999.0,9,   7.7280,2,    25.00
  06MM20060523, OVIDE,    93,  1,      9,2,20060615,0657, 59.7400, -40.5980, 2560,   1595.6,   3.2070,  34.9160,2,  34.9150,2,    282.5,2,    281.4,2,    10.84,2,    16.68,2,     0.95,2,   -999.0,9,   7.7240,2,    25.00
  06MM20060523, OVIDE,    93,  1,     10,2,20060615,0657, 59.7400, -40.5980, 2560,   1395.6,   3.3360,  34.9110,2,  34.9130,2,    281.7,2,    280.1,2,    10.53,2,    16.95,2,     0.91,2,   -999.0,9,   7.7220,2,    25.00
  06MM20060523, OVIDE,    93,  1,     11,2,20060615,0657, 59.7400, -40.5980, 2560,   1196.3,   3.5500,  34.9210,2,  34.9210,2,    278.3,2,    276.5,2,    10.46,2,    17.09,2,     0.91,2,   -999.0,9,   7.7190,2,    25.00
  06MM20060523, OVIDE,    93,  1,     12,2,20060615,0657, 59.7400, -40.5980, 2560,   1195.3,   3.5520,  34.9210,2,  34.9210,2,    278.3,2,    276.7,2,    10.42,2,    17.09,2,     0.95,2,   -999.0,9,   7.7220,2,    25.00
  06MM20060523, OVIDE,    93,  1,     13,2,20060615,0657, 59.7400, -40.5980, 2560,    995.3,   3.6130,  34.9040,2,  34.9030,2,    282.6,2,    280.3,2,     9.76,2,    16.86,2,     0.91,2,   -999.0,9,   7.7230,2,    25.00
  06MM20060523, OVIDE,    93,  1,     14,2,20060615,0657, 59.7400, -40.5980, 2560,    894.4,   3.5590,  34.8860,2,  34.8830,2,    285.8,2,    284.5,2,     9.57,2,    16.82,2,     0.90,2,   -999.0,9,   7.7240,2,    25.00
  06MM20060523, OVIDE,    93,  1,     15,2,20060615,0657, 59.7400, -40.5980, 2560,    798.4,   3.6400,  34.8860,2,  34.8870,2,    286.7,2,    285.0,2,     9.37,2,    16.91,2,     0.93,2,   -999.0,9,   7.7200,2,    25.00
  06MM20060523, OVIDE,    93,  1,     16,2,20060615,0657, 59.7400, -40.5980, 2560,    694.9,   3.7570,  34.8940,2,  34.8930,2,    283.1,2,    283.1,2,     9.33,2,    16.91,2,     0.89,2,   -999.0,9,   7.7180,2,    25.00
  06MM20060523, OVIDE,    93,  1,     17,2,20060615,0657, 59.7400, -40.5980, 2560,    596.2,   3.9630,  34.9090,2,  34.9080,2,    281.1,2,    278.8,2,     9.41,2,    16.86,2,     0.91,2,   -999.0,9,   7.7160,2,    25.00
  06MM20060523, OVIDE,    93,  1,     18,2,20060615,0657, 59.7400, -40.5980, 2560,    495.8,   4.2000,  34.9230,2,  34.9200,2,    279.3,2,    277.8,2,     9.33,2,    17.00,2,     0.90,2,   -999.0,9,   7.7170,2,    25.00
  06MM20060523, OVIDE,    93,  1,     19,2,20060615,0657, 59.7400, -40.5980, 2560,    395.8,   4.5060,  34.9370,2,  34.9330,2,    286.2,2,    283.1,2,     8.71,2,    16.50,2,     0.88,2,   -999.0,9,   7.7290,2,    25.00
  06MM20060523, OVIDE,    93,  1,     20,2,20060615,0657, 59.7400, -40.5980, 2560,    295.4,   4.7380,  34.9530,2,  34.9530,2,    293.5,2,    291.4,2,     8.17,2,    16.06,2,     0.88,2,   -999.0,9,   7.7360,2,    25.00
  06MM20060523, OVIDE,    93,  1,     21,2,20060615,0657, 59.7400, -40.5980, 2560,    196.8,   4.8520,  34.9600,2,  34.9630,2,    296.2,2,    294.3,2,     8.02,2,    15.74,2,     0.89,2,   -999.0,9,   7.7430,2,    25.00
  06MM20060523, OVIDE,    93,  1,     22,2,20060615,0657, 59.7400, -40.5980, 2560,    146.2,   4.8490,  34.9420,2,  34.9430,2,    291.2,2,    295.1,2,     7.98,2,    15.74,2,     0.88,2,   -999.0,9,   7.7390,2,    25.00
  06MM20060523, OVIDE,    93,  1,     23,2,20060615,0657, 59.7400, -40.5980, 2560,     96.3,   4.9410,  34.9360,2,  34.9390,2,    289.2,2,    289.7,2,     7.86,2,    15.60,2,     0.87,2,   -999.0,9,   7.7360,2,    25.00
  06MM20060523, OVIDE,    93,  1,     24,2,20060615,0657, 59.7400, -40.5980, 2560,     46.0,   6.5560,  34.8750,2,  34.8920,3,    301.9,2,    295.9,3,     6.35,2,    11.65,2,     0.70,2,   -999.0,9,   7.7820,2,    25.00
  06MM20060523, OVIDE,    93,  1,     25,2,20060615,0657, 59.7400, -40.5980, 2560,     12.3,   6.7000,  34.8660,2,  34.8670,2,    294.3,2,    303.6,3,     4.92,2,     7.65,2,     0.52,2,   -999.0,9,   7.8510,2,    25.00
  06MM20060523, OVIDE,    94,  1,      3,2,20060616,1033, 59.7550, -40.9500, 2251,   2266.3,   2.2350,  34.8950,2,  34.8950,2,    297.1,2,    299.2,2,     8.10,2,    10.81,3,     0.76,2,   2299.2,2,   7.7280,2,    25.00
  06MM20060523, OVIDE,    94,  1,      4,2,20060616,1033, 59.7550, -40.9500, 2251,   2215.2,   2.3210,  34.8990,2,  34.8990,2,    296.0,2,    297.7,2,     8.52,2,    14.62,2,     0.80,2,   -999.0,9,   7.7310,2,    25.00
  06MM20060523, OVIDE,    94,  1,      5,2,20060616,1033, 59.7550, -40.9500, 2251,   2166.4,   2.3660,  34.8980,2,  34.8990,2,    293.6,2,    296.0,2,     8.68,2,    14.75,2,     0.83,2,   2299.8,2,   7.7300,2,    25.00
  06MM20060523, OVIDE,    94,  1,      6,2,20060616,1033, 59.7550, -40.9500, 2251,   2066.0,   2.7180,  34.9220,2,  34.9210,2,    282.0,2,    283.2,2,    11.73,2,    16.26,2,     0.87,2,   -999.0,9,   7.7270,2,    25.00
  06MM20060523, OVIDE,    94,  1,      7,2,20060616,1033, 59.7550, -40.9500, 2251,   1995.6,   2.8090,  34.9240,2,  34.9220,2,    280.8,2,    281.5,2,    11.65,2,    16.17,2,     0.86,2,   2302.5,2,   7.7280,2,    25.00
  06MM20060523, OVIDE,    94,  1,      8,2,20060616,1033, 59.7550, -40.9500, 2251,   1796.8,   3.0080,  34.9200,2,  34.9210,2,    282.9,2,    281.9,2,    10.92,2,    16.17,2,     0.91,2,   2304.0,2,   7.7270,2,    25.00
  06MM20060523, OVIDE,    94,  1,      9,2,20060616,1033, 59.7550, -40.9500, 2251,   1595.2,   3.2010,  34.9160,2,  34.9170,2,    281.2,2,    281.5,2,    10.61,2,    16.82,2,     0.93,2,   2303.4,2,   7.7250,2,    25.00
  06MM20060523, OVIDE,    94,  1,     10,2,20060616,1033, 59.7550, -40.9500, 2251,   1395.2,   3.3460,  34.9150,2,  34.9130,2,    278.7,2,    280.0,2,    10.45,2,    16.95,2,     0.90,2,   2304.4,2,   7.7240,2,    25.00
  06MM20060523, OVIDE,    94,  1,     11,2,20060616,1033, 59.7550, -40.9500, 2251,   1244.0,   3.5170,  34.9230,2,  34.9210,2,    276.2,2,    278.1,2,    10.38,2,    17.18,2,     0.91,2,   -999.0,9,   7.7220,2,    25.00
  06MM20060523, OVIDE,    94,  1,     12,2,20060616,1033, 59.7550, -40.9500, 2251,   1115.6,   3.5930,  34.9170,2,  34.9150,2,    276.2,2,    277.2,2,    10.14,2,    17.18,2,     0.90,2,   2302.1,2,   7.7190,2,    25.00
  06MM20060523, OVIDE,    94,  1,     13,2,20060616,1033, 59.7550, -40.9500, 2251,    996.5,   3.5560,  34.8960,2,  34.8930,2,    280.8,2,    281.9,2,     9.76,2,    17.14,2,     0.92,2,   2301.4,2,   7.7190,2,    25.00
  06MM20060523, OVIDE,    94,  1,     14,2,20060616,1033, 59.7550, -40.9500, 2251,    995.2,   3.5550,  34.8960,2,  34.8960,2,    280.9,2,    282.7,2,     9.80,2,    17.14,2,     0.90,2,   -999.0,9,   7.7190,2,    25.00
  06MM20060523, OVIDE,    94,  1,     15,2,20060616,1033, 59.7550, -40.9500, 2251,    796.0,   3.6380,  34.8850,2,  34.8830,2,    283.5,2,    285.4,2,     9.26,2,    16.82,2,     0.93,2,   2297.7,2,   7.7190,2,    25.00
  06MM20060523, OVIDE,    94,  1,     16,2,20060616,1033, 59.7550, -40.9500, 2251,    664.4,   3.7580,  34.8880,2,  34.8890,2,    286.1,2,    285.1,2,     9.14,2,    17.09,2,     0.83,2,   -999.0,9,   7.7170,2,    25.00
  06MM20060523, OVIDE,    94,  1,     17,2,20060616,1033, 59.7550, -40.9500, 2251,    594.7,   3.8970,  34.8960,2,  34.8940,2,    282.4,2,    282.7,2,     9.14,2,    17.04,2,     0.90,2,   2299.9,2,   7.7150,2,    25.00
  06MM20060523, OVIDE,    94,  1,     18,2,20060616,1033, 59.7550, -40.9500, 2251,    496.3,   4.1360,  34.9130,2,-999.0000,3,    275.8,2,    283.3,3,     8.87,2,    16.91,2,     0.91,2,   2301.0,2,   7.7200,2,    25.00
  06MM20060523, OVIDE,    94,  1,     19,2,20060616,1033, 59.7550, -40.9500, 2251,    396.0,   4.4350,  34.9330,2,  34.9320,2,    282.7,2,    280.6,2,     8.80,2,    16.91,2,     0.93,2,   2304.2,2,   7.7230,2,    25.00
  06MM20060523, OVIDE,    94,  1,     20,2,20060616,1033, 59.7550, -40.9500, 2251,    295.9,   4.6860,  34.9500,2,  34.9480,2,    289.2,2,    291.7,2,     8.18,2,    16.36,2,     0.86,2,   -999.0,9,   7.7360,2,    25.00
  06MM20060523, OVIDE,    94,  1,     21,2,20060616,1033, 59.7550, -40.9500, 2251,    194.7,   4.5510,  34.9090,2,  34.9090,2,    289.1,2,    290.2,2,     8.33,2,    16.49,2,     0.88,2,   2300.6,2,   7.7290,2,    25.00
  06MM20060523, OVIDE,    94,  1,     22,2,20060616,1033, 59.7550, -40.9500, 2251,    146.0,   4.6310,  34.9040,2,  34.9020,2,    292.5,2,    295.6,2,     8.02,2,    16.13,2,     0.88,2,   -999.0,9,   7.7340,2,    25.00
  06MM20060523, OVIDE,    94,  1,     23,2,20060616,1033, 59.7550, -40.9500, 2251,     95.3,   4.7570,  34.9040,2,  34.9010,2,    292.1,2,    293.2,2,     7.98,2,    16.08,2,     0.88,2,   2299.0,2,   7.7350,2,    25.00
  06MM20060523, OVIDE,    94,  1,     24,2,20060616,1033, 59.7550, -40.9500, 2251,     46.4,   6.2080,  34.9030,2,  34.8970,3,    284.1,2,    297.7,3,     6.13,2,    11.68,2,     0.70,2,   -999.0,9,   7.7910,2,    25.00
  06MM20060523, OVIDE,    94,  1,     25,2,20060616,1033, 59.7550, -40.9500, 2251,      7.9,   6.7460,  34.8830,2,  34.8800,2,    299.1,2,    301.8,2,     5.28,2,     9.44,2,     0.59,2,   2305.2,2,   7.8230,2,    25.00