BOTTLE,20140930PRINUNIVRMK
EXPOCODE,SECT_ID,STNNBR,CASTNO,BTLNBR,BTLNBR_FLAG_W,DATE,TIME,LATITUDE,LONGITUDE,DEPTH,CTDPRS,CTDTMP,CTDSAL,CTDSAL_FLAG_W,SALNTY,SALNTY_FLAG_W,CTDOXY,CTDOXY_FLAG_W,OXYGEN,OXYGEN_FLAG_W,SILCAT,SILCAT_FLAG_W,NITRAT,NITRAT_FLAG_W,PHSPHT,PHSPHT_FLAG_W,ALKALI,ALKALI_FLAG_W,PH_SWS,PH_SWS_FLAG_W,PH_TMP
,,,,,,,,,,METERS,DBAR,ITS-90,PSS-78,,PSS-78,,UMOL/KG,,UMOL/KG,,UMOL/KG,,UMOL/KG,,UMOL/KG,,UMOL/KG,,,,DEG C
  06MM20060523, OVIDE,    18,  1,      3,2,20060528,0051, 40.7860, -13.0980, 5339,   5432.0,   2.5670,  34.8990,2,  34.9000,2,    246.4,2,    245.6,2,    45.86,2,    23.36,2,     1.32,2,   2351.3,2,   7.7310,2,    25.00
  06MM20060523, OVIDE,    18,  1,      4,2,20060528,0051, 40.7860, -13.0980, 5339,   5000.2,   2.5200,  34.9000,2,  34.9010,2,    246.7,2,    244.8,2,    45.67,2,    23.36,2,     1.36,2,   2349.4,2,   7.7310,2,    25.00
  06MM20060523, OVIDE,    18,  1,      5,2,20060528,0051, 40.7860, -13.0980, 5339,   4495.7,   2.4890,  34.9040,2,  34.9060,2,    245.5,2,    245.8,2,    44.91,2,    23.15,2,     1.34,2,   2349.5,2,   7.7290,2,    25.00
  06MM20060523, OVIDE,    18,  1,      6,2,20060528,0051, 40.7860, -13.0980, 5339,   3996.8,   2.5220,  34.9140,2,  34.9130,2,    244.6,2,    245.0,2,    43.38,2,    22.94,2,     1.31,2,   2347.0,2,   7.7300,2,    25.00
  06MM20060523, OVIDE,    18,  1,      7,2,20060528,0051, 40.7860, -13.0980, 5339,   3743.8,   2.5580,  34.9190,2,  34.9200,2,    245.3,2,    247.6,2,    41.58,2,    22.68,2,     1.31,2,   2346.1,2,   7.7320,2,    25.00
  06MM20060523, OVIDE,    18,  1,      8,2,20060528,0051, 40.7860, -13.0980, 5339,   3744.9,   2.5580,  34.9200,2,  34.9210,2,    245.3,2,    245.7,2,    42.24,2,    22.74,2,     1.30,2,   2345.8,2,   7.7310,2,    25.00
  06MM20060523, OVIDE,    18,  1,      9,2,20060528,0051, 40.7860, -13.0980, 5339,   3493.9,   2.6250,  34.9280,2,  34.9280,2,    246.9,2,    246.1,2,    39.39,2,    22.27,2,     1.28,2,   2340.6,2,   7.7310,2,    25.00
  06MM20060523, OVIDE,    18,  1,     10,2,20060528,0051, 40.7860, -13.0980, 5339,   3244.4,   2.7060,  34.9370,2,  34.9370,2,    247.3,2,    247.5,2,    36.53,2,    21.90,2,     1.23,2,   2337.4,2,   7.7350,2,    25.00
  06MM20060523, OVIDE,    18,  1,     11,2,20060528,0051, 40.7860, -13.0980, 5339,   2994.9,   2.8210,  34.9490,2,  34.9510,2,    250.3,2,    250.0,2,    34.63,2,    21.85,2,     1.20,2,   2334.4,2,   7.7320,2,    25.00
  06MM20060523, OVIDE,    18,  1,     12,2,20060528,0051, 40.7860, -13.0980, 5339,   2593.5,   3.1310,  34.9750,2,  34.9740,2,    254.0,2,    253.0,2,    28.54,2,    20.71,2,     1.10,2,   2329.5,2,   7.7350,2,    25.00
  06MM20060523, OVIDE,    18,  1,     13,2,20060528,0051, 40.7860, -13.0980, 5339,   2244.9,   3.6440,  35.0180,2,  35.0190,2,    256.6,2,    255.5,2,    19.43,2,    19.72,2,     1.07,2,   2325.4,2,   7.7380,2,    25.00
  06MM20060523, OVIDE,    18,  1,     14,2,20060528,0051, 40.7860, -13.0980, 5339,   2092.7,   3.6540,  34.9890,2,  34.9890,2,    265.2,2,    261.9,2,    16.56,2,    19.05,2,     1.03,2,   2318.7,2,   7.7310,2,    25.00
  06MM20060523, OVIDE,    18,  1,     15,2,20060528,0051, 40.7860, -13.0980, 5339,   1843.5,   4.3550,  35.0780,2,  35.0780,2,    257.3,2,    255.7,2,    14.37,2,    19.05,2,     1.02,2,   2321.2,2,   7.7310,2,    25.00
  06MM20060523, OVIDE,    18,  1,     16,2,20060528,0051, 40.7860, -13.0980, 5339,   1594.9,   5.7340,  35.2840,2,  35.2820,2,    234.7,2,    238.5,2,    12.71,2,    18.63,2,     0.98,2,   2331.6,2,   7.7360,2,    25.00
  06MM20060523, OVIDE,    18,  1,     17,2,20060528,0051, 40.7860, -13.0980, 5339,   1344.3,   8.2520,  35.6890,2,  35.6810,3,    207.3,2,    207.6,2,    11.17,2,    18.05,2,     0.95,2,   2358.5,2,   7.7560,2,    25.00
  06MM20060523, OVIDE,    18,  1,     18,2,20060528,0051, 40.7860, -13.0980, 5339,   1092.5,  10.0090,  35.9220,2,  35.9230,2,    186.8,2,    186.2,2,     9.71,2,    17.53,2,     0.89,2,   2375.4,2,   7.7720,2,    25.00
  06MM20060523, OVIDE,    18,  1,     19,2,20060528,0051, 40.7860, -13.0980, 5339,    974.9,  10.6050,  35.9560,2,  35.9540,2,    182.3,2,    182.6,2,     9.31,2,    17.22,2,     0.88,2,   2376.1,2,   7.7770,2,    25.00
  06MM20060523, OVIDE,    18,  1,     20,2,20060528,0051, 40.7860, -13.0980, 5339,    893.8,  10.6900,  35.9100,2,  35.9180,3,    182.6,2,    183.2,2,     9.06,2,    17.12,2,     0.86,2,   2372.0,2,   7.7760,2,    25.00
  06MM20060523, OVIDE,    18,  1,     21,2,20060528,0051, 40.7860, -13.0980, 5339,    893.8,  10.7170,  35.9200,2,  35.9200,2,    182.6,2,    183.3,2,     9.02,2,    17.12,2,     0.84,2,   2371.5,2,   7.7760,2,    25.00
  06MM20060523, OVIDE,    18,  1,     22,2,20060528,0051, 40.7860, -13.0980, 5339,    573.1,  11.1930,  35.6210,2,  35.6220,2,    200.0,2,    196.0,2,     6.40,2,    15.67,2,     0.76,2,   2342.2,2,   7.7800,2,    25.00
  06MM20060523, OVIDE,    18,  1,     23,2,20060528,0051, 40.7860, -13.0980, 5339,    494.9,  11.2020,  35.5620,2,  35.5620,2,    212.8,2,    209.5,2,     5.71,2,    14.32,2,     0.68,2,   -999.0,9,   7.7940,2,    25.00
  06MM20060523, OVIDE,    18,  1,     24,2,20060528,0051, 40.7860, -13.0980, 5339,    395.3,  11.6940,  35.6220,2,  35.6230,2,    224.8,2,    224.4,2,     3.97,2,    11.78,2,     0.55,2,   2336.5,2,   7.8160,2,    25.00
  06MM20060523, OVIDE,    18,  1,     25,2,20060528,0051, 40.7860, -13.0980, 5339,    294.2,  12.2670,  35.7170,2,  35.7120,2,    235.0,2,    235.6,2,     3.32,2,     9.13,2,     0.40,2,   -999.0,9,   7.8460,2,    25.00
  06MM20060523, OVIDE,    18,  1,     26,2,20060528,0051, 40.7860, -13.0980, 5339,    182.5,  12.6880,  35.7670,2,  35.7680,2,    248.5,2,    246.1,2,     2.59,2,     7.06,2,     0.34,2,   2348.3,2,   7.8810,2,    25.00
  06MM20060523, OVIDE,    18,  1,     27,2,20060528,0051, 40.7860, -13.0980, 5339,    145.4,  12.8270,  35.7780,2,  35.7780,2,    246.3,2,    246.1,2,     2.83,2,     6.74,2,     0.33,2,   -999.0,9,   7.8810,2,    25.00
  06MM20060523, OVIDE,    18,  1,     28,2,20060528,0051, 40.7860, -13.0980, 5339,     94.8,  13.1280,  35.7990,2,  35.8630,3,    252.4,2,    250.7,2,     1.42,2,     5.50,2,     0.26,2,   2349.0,2,   7.8920,2,    25.00
  06MM20060523, OVIDE,    18,  1,     29,2,20060528,0051, 40.7860, -13.0980, 5339,     94.4,  13.1520,  35.8030,2,  35.8040,2,    252.4,2,    251.1,2,     1.30,2,     5.19,2,     0.25,2,   -999.0,9,   7.8920,2,    25.00
  06MM20060523, OVIDE,    18,  1,     30,2,20060528,0051, 40.7860, -13.0980, 5339,      9.1,  17.0950,  36.0900,2,  36.0920,3,    242.8,2,    248.9,2,     1.21,2,     0.05,2,     0.02,2,   2368.7,2,   7.9870,2,    25.00
  06MM20060523, OVIDE,    19,  1,      3,2,20060529,0712, 41.0840, -13.4910, 5349,   5440.9,   2.5720,  34.8990,2,  34.9000,2,    243.1,2,    245.5,2,    45.86,2,    23.00,2,     1.33,2,   -999.0,9,   7.7310,2,    25.00
  06MM20060523, OVIDE,    19,  1,      4,2,20060529,0712, 41.0840, -13.4910, 5349,   4897.3,   2.5120,  34.9020,2,  34.9000,2,    245.8,2,    244.7,2,    45.29,2,    22.80,2,     1.32,2,   -999.0,9,   7.7330,2,    25.00
  06MM20060523, OVIDE,    19,  1,      5,2,20060529,0712, 41.0840, -13.4910, 5349,   4196.9,   2.5060,  34.9090,2,  34.9130,2,    244.4,2,    244.6,2,    44.25,2,    22.26,2,     1.30,2,   -999.0,9,   7.7310,2,    25.00
  06MM20060523, OVIDE,    19,  1,      6,2,20060529,0712, 41.0840, -13.4910, 5349,   3497.3,   2.6240,  34.9280,2,  34.9300,2,    245.6,2,    245.9,2,    39.06,2,    21.87,2,     1.25,2,   -999.0,9,   7.7320,2,    25.00
  06MM20060523, OVIDE,    19,  1,      7,2,20060529,0712, 41.0840, -13.4910, 5349,   3247.0,   2.7110,  34.9370,2,  34.9400,2,    246.6,2,    247.4,2,    37.08,2,    21.28,2,     1.23,2,   -999.0,9,   7.7350,2,    25.00
  06MM20060523, OVIDE,    19,  1,      8,2,20060529,0712, 41.0840, -13.4910, 5349,   2995.8,   2.8180,  34.9480,2,  34.9510,2,    249.1,2,    249.4,2,    34.34,2,    21.09,2,     1.19,2,   -999.0,9,   7.7320,2,    25.00
  06MM20060523, OVIDE,    19,  1,      9,2,20060529,0712, 41.0840, -13.4910, 5349,   2994.6,   2.8170,  34.8710,3,  34.9530,3,    249.2,2,    249.3,2,    33.97,2,    21.14,2,     1.20,2,   -999.0,9,   7.7330,2,    25.00
  06MM20060523, OVIDE,    19,  1,     10,2,20060529,0712, 41.0840, -13.4910, 5349,   2746.5,   2.9730,  34.9610,2,  34.9650,2,    250.7,2,    251.6,2,    31.14,2,    20.69,2,     1.16,2,   -999.0,9,   7.7370,2,    25.00
  06MM20060523, OVIDE,    19,  1,     11,2,20060529,0712, 41.0840, -13.4910, 5349,   2494.5,   3.2160,  34.9790,2,  34.9790,2,    255.2,2,    254.6,2,    26.80,2,    19.32,2,     1.09,2,   -999.0,9,   7.7330,2,    25.00
  06MM20060523, OVIDE,    19,  1,     12,2,20060529,0712, 41.0840, -13.4910, 5349,   2244.5,   3.4410,  34.9800,2,  34.9820,2,    259.4,2,    259.3,2,    21.80,2,    18.83,2,     1.02,2,   -999.0,9,   7.7320,2,    25.00
  06MM20060523, OVIDE,    19,  1,     13,2,20060529,0712, 41.0840, -13.4910, 5349,   1988.0,   3.9060,  35.0240,2,  35.0240,2,    262.8,2,    260.1,2,    18.82,2,    18.54,2,     1.00,2,   -999.0,9,   7.7340,2,    25.00
  06MM20060523, OVIDE,    19,  1,     14,2,20060529,0712, 41.0840, -13.4910, 5349,   1793.9,   4.3160,  35.0640,2,  35.0680,2,    258.8,2,    256.9,2,    14.96,2,    18.54,2,     1.00,2,   -999.0,9,   7.7330,2,    25.00
  06MM20060523, OVIDE,    19,  1,     15,2,20060529,0712, 41.0840, -13.4910, 5349,   1595.9,   5.4380,  35.2290,2,  35.2350,2,    236.4,2,    240.4,2,    13.15,2,    18.39,2,     0.98,2,   -999.0,9,   7.7370,2,    25.00
  06MM20060523, OVIDE,    19,  1,     16,2,20060529,0712, 41.0840, -13.4910, 5349,   1346.5,   8.2460,  35.6920,2,  35.7010,3,    206.5,2,    205.1,2,    12.45,2,    17.74,2,     0.91,2,   -999.0,9,   7.7590,2,    25.00
  06MM20060523, OVIDE,    19,  1,     17,2,20060529,0712, 41.0840, -13.4910, 5349,   1155.1,   9.6110,  35.8560,2,  35.8570,2,    189.5,2,    190.4,2,    11.14,2,    17.69,2,     0.91,2,   -999.0,9,   7.7700,2,    25.00
  06MM20060523, OVIDE,    19,  1,     18,2,20060529,0712, 41.0840, -13.4910, 5349,   1054.6,   9.6750,  35.7740,2,  35.7760,2,    184.6,2,    187.8,2,    10.22,2,    17.55,2,     0.88,2,   -999.0,9,   7.7620,2,    25.00
  06MM20060523, OVIDE,    19,  1,     19,2,20060529,0712, 41.0840, -13.4910, 5349,    897.7,  10.4880,  35.8070,2,  35.8140,3,    181.6,2,    183.6,2,    10.59,2,    16.96,2,     0.86,2,   -999.0,9,   7.7720,2,    25.00
  06MM20060523, OVIDE,    19,  1,     20,2,20060529,0712, 41.0840, -13.4910, 5349,    794.3,  10.7180,  35.7470,2,  35.7490,2,    184.1,2,    185.0,2,     8.73,2,    16.76,2,     0.83,2,   -999.0,9,   7.7700,2,    25.00
  06MM20060523, OVIDE,    19,  1,     21,2,20060529,0712, 41.0840, -13.4910, 5349,    695.4,  10.8190,  35.6300,2,  35.6460,3,    187.8,2,    189.7,2,     8.55,2,    16.42,2,     0.83,2,   -999.0,9,   7.7690,2,    25.00
  06MM20060523, OVIDE,    19,  1,     22,2,20060529,0712, 41.0840, -13.4910, 5349,    597.5,  10.9500,  35.5480,2,  35.5490,2,    201.3,2,    207.8,2,     7.48,2,    14.70,2,     0.72,2,   -999.0,9,   7.7850,2,    25.00
  06MM20060523, OVIDE,    19,  1,     23,2,20060529,0712, 41.0840, -13.4910, 5349,    493.9,  11.3690,  35.5860,2,  35.5870,2,    222.3,2,    221.3,2,     5.67,2,    12.60,2,     0.61,2,   -999.0,9,   7.8100,2,    25.00
  06MM20060523, OVIDE,    19,  1,     24,2,20060529,0712, 41.0840, -13.4910, 5349,    393.9,  11.7690,  35.6370,2,  35.6390,2,    233.9,2,    227.1,2,     4.78,2,    11.08,2,     0.53,2,   -999.0,9,   7.8240,2,    25.00
  06MM20060523, OVIDE,    19,  1,     25,2,20060529,0712, 41.0840, -13.4910, 5349,    298.1,  12.2520,  35.7180,2,  35.7170,2,    235.0,2,    236.0,2,     2.97,2,     9.16,2,     0.43,2,   -999.0,9,   7.8500,2,    25.00
  06MM20060523, OVIDE,    19,  1,     26,2,20060529,0712, 41.0840, -13.4910, 5349,    197.4,  12.5430,  35.7490,2,  35.7530,2,    245.3,2,    244.7,2,     3.25,2,     7.60,2,     0.36,2,   -999.0,9,   7.8770,2,    25.00
  06MM20060523, OVIDE,    19,  1,     27,2,20060529,0712, 41.0840, -13.4910, 5349,    144.8,  12.7360,  35.7680,2,  35.7680,2,    247.5,2,    247.8,2,     1.95,2,     6.96,2,     0.31,2,   -999.0,9,   7.8800,2,    25.00
  06MM20060523, OVIDE,    19,  1,     28,2,20060529,0712, 41.0840, -13.4910, 5349,     95.6,  13.0460,  35.7790,2,  35.7780,2,    257.2,2,    253.0,2,     0.93,2,     5.15,2,     0.27,2,   -999.0,9,   7.8980,2,    25.00
  06MM20060523, OVIDE,    19,  1,     29,2,20060529,0712, 41.0840, -13.4910, 5349,     46.5,  14.4350,  35.8190,2,  35.8150,2,    257.9,2,    266.5,3,     0.65,2,     1.37,2,     0.10,2,   -999.0,9,   7.9460,2,    25.00
  06MM20060523, OVIDE,    19,  1,     30,2,20060529,0712, 41.0840, -13.4910, 5349,      5.4,  16.5680,  35.8830,2,  35.8830,2,    241.5,2,    251.5,3,     0.84,2,     0.10,2,     0.06,2,   2355.7,2,   7.9750,2,    25.00
  06MM20060523, OVIDE,    20,  1,      3,2,20060529,2258, 41.3820, -13.8880, 5347,   5439.1,   2.5720,  34.9010,2,  34.9000,2,    244.1,2,    244.8,2,    48.67,2,    22.67,2,     1.33,2,   2355.3,2,   7.7350,2,    25.00
  06MM20060523, OVIDE,    20,  1,      4,2,20060529,2258, 41.3820, -13.8880, 5347,   4998.8,   2.5230,  34.9010,2,  34.9000,2,    243.8,2,    245.8,2,    48.55,2,    22.77,2,     1.33,2,   2353.2,2,   7.7350,2,    25.00
  06MM20060523, OVIDE,    20,  1,      5,2,20060529,2258, 41.3820, -13.8880, 5347,   4496.6,   2.4950,  34.9060,2,  34.9060,2,    243.7,2,    244.9,2,    47.44,2,    22.23,2,     1.30,2,   2349.3,2,   7.7310,2,    25.00
  06MM20060523, OVIDE,    20,  1,      6,2,20060529,2258, 41.3820, -13.8880, 5347,   3994.5,   2.5350,  34.9160,2,  34.9120,2,    244.1,2,    245.0,2,    44.98,2,    22.33,2,     1.31,2,   2347.0,2,   7.7340,2,    25.00
  06MM20060523, OVIDE,    20,  1,      7,2,20060529,2258, 41.3820, -13.8880, 5347,   3499.5,   2.6430,  34.9300,2,  34.9270,2,    244.9,2,    247.3,2,    41.28,2,    21.34,2,     1.25,2,   2343.6,2,   7.7350,2,    25.00
  06MM20060523, OVIDE,    20,  1,      8,2,20060529,2258, 41.3820, -13.8880, 5347,   2997.2,   2.8700,  34.9530,2,  34.9510,2,    248.4,2,    250.1,2,    35.24,2,    20.85,2,     1.16,2,   2336.1,2,   7.7360,2,    25.00
  06MM20060523, OVIDE,    20,  1,      9,2,20060529,2258, 41.3820, -13.8880, 5347,   2745.8,   3.0620,  34.9710,2,  34.9700,2,    249.8,2,    251.1,2,    32.28,2,    20.31,2,     1.17,2,   2332.5,2,   7.7360,2,    25.00
  06MM20060523, OVIDE,    20,  1,     10,2,20060529,2258, 41.3820, -13.8880, 5347,   2496.1,   3.3000,  34.9900,2,  34.9900,2,    253.6,2,    253.6,2,    28.58,2,    19.76,2,     1.14,2,   2328.2,2,   7.7390,2,    25.00
  06MM20060523, OVIDE,    20,  1,     11,2,20060529,2258, 41.3820, -13.8880, 5347,   2496.9,   3.3010,  34.9890,2,  34.9900,2,    253.5,2,    253.9,2,    28.09,2,    18.98,2,     1.11,2,   2326.9,2,   7.7370,2,    25.00
  06MM20060523, OVIDE,    20,  1,     12,2,20060529,2258, 41.3820, -13.8880, 5347,   2238.6,   3.5810,  35.0060,2,  35.0050,2,    256.2,2,    256.9,2,    19.06,2,    18.73,2,     1.08,2,   2319.0,2,   7.7340,2,    25.00
  06MM20060523, OVIDE,    20,  1,     13,2,20060529,2258, 41.3820, -13.8880, 5347,   1995.7,   3.9770,  35.0370,2,  35.0400,2,    256.4,2,    258.8,2,    15.43,2,    18.53,2,     1.02,2,   2317.3,2,   7.7370,2,    25.00
  06MM20060523, OVIDE,    20,  1,     14,2,20060529,2258, 41.3820, -13.8880, 5347,   1795.9,   4.5890,  35.1140,2,  35.1110,2,    249.7,2,    251.6,2,    13.38,2,    18.33,2,     1.00,2,   2320.6,2,   7.7340,2,    25.00
  06MM20060523, OVIDE,    20,  1,     15,2,20060529,2258, 41.3820, -13.8880, 5347,   1595.8,   5.8670,  35.3110,2,  35.3090,2,    231.7,2,    235.2,2,    12.59,2,    18.23,2,     0.97,2,   2333.7,2,   7.7390,2,    25.00
  06MM20060523, OVIDE,    20,  1,     16,2,20060529,2258, 41.3820, -13.8880, 5347,   1394.4,   7.6900,  35.5990,2,  35.5960,2,    210.8,2,    213.4,2,    11.67,2,    17.88,2,     0.94,2,   2354.1,2,   7.7520,2,    25.00
  06MM20060523, OVIDE,    20,  1,     17,2,20060529,2258, 41.3820, -13.8880, 5347,   1195.9,   9.8540,  35.9630,2,  35.9600,2,    188.0,2,    190.7,2,    10.04,2,    17.19,2,     0.87,2,   2378.7,2,   7.7760,2,    25.00
  06MM20060523, OVIDE,    20,  1,     18,2,20060529,2258, 41.3820, -13.8880, 5347,    995.5,  10.4070,  35.9320,2,  35.9310,2,    183.7,2,    184.2,2,     8.84,2,    16.84,2,     0.85,2,   2374.9,2,   7.7750,2,    25.00
  06MM20060523, OVIDE,    20,  1,     19,2,20060529,2258, 41.3820, -13.8880, 5347,    871.4,  10.7120,  35.8840,2,  35.8880,2,    183.1,2,    183.5,2,     8.75,2,    16.65,2,     0.86,2,   2368.7,2,   7.7760,2,    25.00
  06MM20060523, OVIDE,    20,  1,     20,2,20060529,2258, 41.3820, -13.8880, 5347,    795.3,  10.9330,  35.8420,2,  35.8410,2,    184.8,2,    184.6,2,     8.34,2,    16.35,2,     0.84,2,   2362.2,2,   7.7750,2,    25.00
  06MM20060523, OVIDE,    20,  1,     21,2,20060529,2258, 41.3820, -13.8880, 5347,    672.7,  10.9120,  35.6600,2,  35.6570,2,    196.2,2,    190.4,3,     7.50,2,    16.21,2,     0.82,2,   2346.1,2,   7.7710,2,    25.00
  06MM20060523, OVIDE,    20,  1,     22,2,20060529,2258, 41.3820, -13.8880, 5347,    594.3,  10.8590,  35.5520,2,  35.5470,2,    207.6,2,    204.1,2,     6.63,2,    15.12,2,     0.77,2,   2335.7,2,   7.7790,2,    25.00
  06MM20060523, OVIDE,    20,  1,     23,2,20060529,2258, 41.3820, -13.8880, 5347,    497.4,  11.3920,  35.5840,2,  35.5820,2,    221.5,2,    224.0,2,     5.00,2,    12.32,2,     0.61,2,   -999.0,9,   7.8090,2,    25.00
  06MM20060523, OVIDE,    20,  1,     24,2,20060529,2258, 41.3820, -13.8880, 5347,    395.7,  11.8420,  35.6490,2,  35.6510,2,    231.7,2,    233.6,2,     3.71,2,    10.20,2,     0.50,2,   2341.3,2,   7.8360,2,    25.00
  06MM20060523, OVIDE,    20,  1,     25,2,20060529,2258, 41.3820, -13.8880, 5347,    295.6,  12.3120,  35.7260,2,  35.7260,2,    241.0,2,    240.5,2,     3.08,2,     8.47,2,     0.41,2,   -999.0,9,   7.8580,2,    25.00
  06MM20060523, OVIDE,    20,  1,     26,2,20060529,2258, 41.3820, -13.8880, 5347,    196.4,  12.5510,  35.7450,2,  35.7490,2,    251.1,2,    248.2,2,     2.75,2,     7.39,2,     0.36,2,   2346.6,2,   7.8810,2,    25.00
  06MM20060523, OVIDE,    20,  1,     27,2,20060529,2258, 41.3820, -13.8880, 5347,    146.1,  12.8620,  35.7740,2,  35.7790,2,    251.1,2,    249.2,2,     2.00,2,     6.30,2,     0.31,2,   -999.0,9,   7.8880,2,    25.00
  06MM20060523, OVIDE,    20,  1,     28,2,20060529,2258, 41.3820, -13.8880, 5347,     95.9,  13.2620,  35.8100,2,  35.8110,2,    253.0,2,    251.4,2,     1.58,2,     4.97,2,     0.24,2,   2350.3,2,   7.8970,2,    25.00
  06MM20060523, OVIDE,    20,  1,     29,2,20060529,2258, 41.3820, -13.8880, 5347,     48.0,  14.5350,  35.8840,2,  35.8840,2,    256.7,2,    257.3,2,     1.33,2,     1.97,2,     0.00,2,   -999.0,9,   7.9410,2,    25.00
  06MM20060523, OVIDE,    20,  1,     30,2,20060529,2258, 41.3820, -13.8880, 5347,      6.1,  16.0020,  35.8820,2,  35.8810,2,    245.4,2,    254.5,3,     1.71,2,     0.10,2,     0.05,2,   -999.0,9,   7.9680,2,    25.00