BOTTLE,20140930PRINUNIVRMK
EXPOCODE,SECT_ID,STNNBR,CASTNO,BTLNBR,BTLNBR_FLAG_W,DATE,TIME,LATITUDE,LONGITUDE,DEPTH,CTDPRS,CTDTMP,CTDSAL,CTDSAL_FLAG_W,SALNTY,SALNTY_FLAG_W,CTDOXY,CTDOXY_FLAG_W,OXYGEN,OXYGEN_FLAG_W,SILCAT,SILCAT_FLAG_W,NITRAT,NITRAT_FLAG_W,PHSPHT,PHSPHT_FLAG_W,ALKALI,ALKALI_FLAG_W,PH_SWS,PH_SWS_FLAG_W,PH_TMP
,,,,,,,,,,METERS,DBAR,ITS-90,PSS-78,,PSS-78,,UMOL/KG,,UMOL/KG,,UMOL/KG,,UMOL/KG,,UMOL/KG,,UMOL/KG,,,,DEG C
  06MM20060523, OVIDE,    24,  1,      3,2,20060530,0102, 42.5810, -15.4580, 5051,   5138.1,   2.5360,  34.9020,2,  34.9000,2,    244.8,2,    244.9,2,    49.44,2,    22.93,2,     1.32,2,   2354.0,2,   7.7320,2,    25.00
  06MM20060523, OVIDE,    24,  1,      4,2,20060530,0102, 42.5810, -15.4580, 5051,   4498.6,   2.4970,  34.9070,2,  34.9060,2,    245.4,2,    245.8,2,    48.67,2,    22.59,2,     1.29,2,   2350.6,2,   7.7320,2,    25.00
  06MM20060523, OVIDE,    24,  1,      5,2,20060530,0102, 42.5810, -15.4580, 5051,   3997.2,   2.5180,  34.9140,2,  34.9220,3,    246.0,2,    244.6,2,    46.35,2,    22.30,2,     1.29,2,   2350.2,2,   7.7320,2,    25.00
  06MM20060523, OVIDE,    24,  1,      6,2,20060530,0102, 42.5810, -15.4580, 5051,   3998.2,   2.5180,  34.9150,2,  34.9150,2,    246.0,2,    245.0,2,    46.99,2,    22.59,2,     1.29,2,   2352.0,2,   7.7320,2,    25.00
  06MM20060523, OVIDE,    24,  1,      7,2,20060530,0102, 42.5810, -15.4580, 5051,   3499.8,   2.6120,  34.9270,2,  34.9280,2,    246.1,2,    246.3,2,    43.64,2,    21.96,2,     1.25,2,   2345.7,2,   7.7330,2,    25.00
  06MM20060523, OVIDE,    24,  1,      8,2,20060530,0102, 42.5810, -15.4580, 5051,   3247.1,   2.7030,  34.9390,2,  34.9390,2,    248.0,2,    247.5,2,    40.68,2,    21.57,2,     1.24,2,   2344.2,2,   7.7310,2,    25.00
  06MM20060523, OVIDE,    24,  1,      9,2,20060530,0102, 42.5810, -15.4580, 5051,   2999.0,   2.8570,  34.9520,2,  34.9510,2,    250.8,2,    250.1,2,    37.08,2,    20.88,2,     1.20,2,   2337.0,2,   7.7350,2,    25.00
  06MM20060523, OVIDE,    24,  1,     10,2,20060530,0102, 42.5810, -15.4580, 5051,   2746.0,   3.0590,  34.9680,2,  34.9680,2,    252.4,2,    252.3,2,    32.96,2,    20.30,2,     1.14,2,   2333.3,2,   7.7380,2,    25.00
  06MM20060523, OVIDE,    24,  1,     11,2,20060530,0102, 42.5810, -15.4580, 5051,   2497.5,   3.2640,  34.9770,2,  34.9790,2,    257.6,2,    255.8,2,    28.32,2,    19.61,2,     0.96,3,   2326.7,2,   7.7310,2,    25.00
  06MM20060523, OVIDE,    24,  1,     12,2,20060530,0102, 42.5810, -15.4580, 5051,   2246.9,   3.5240,  34.9840,2,  34.9830,2,    263.0,2,    261.0,2,    17.69,2,    18.93,2,     1.05,2,   2318.7,2,   7.7350,2,    25.00
  06MM20060523, OVIDE,    24,  1,     13,2,20060530,0102, 42.5810, -15.4580, 5051,   2076.8,   3.5570,  34.9560,2,  34.9630,2,    273.7,2,    269.3,2,    13.72,2,    18.15,2,     1.01,2,   2310.2,2,   7.7310,2,    25.00
  06MM20060523, OVIDE,    24,  1,     14,2,20060530,0102, 42.5810, -15.4580, 5051,   1750.2,   4.4810,  35.0670,2,  35.0690,2,    258.5,2,    257.6,2,    11.94,2,    18.34,2,     1.00,2,   2315.5,2,   7.7300,2,    25.00
  06MM20060523, OVIDE,    24,  1,     15,2,20060530,0102, 42.5810, -15.4580, 5051,   1597.6,   5.1180,  35.1570,2,  35.1550,2,    249.6,2,    247.3,2,    11.63,2,    18.34,2,     0.98,2,   2323.0,2,   7.7290,2,    25.00
  06MM20060523, OVIDE,    24,  1,     16,2,20060530,0102, 42.5810, -15.4580, 5051,   1398.0,   6.7530,  35.4060,2,  35.4140,3,    226.9,2,    223.0,2,    11.10,2,    18.29,2,     0.96,2,   2338.1,2,   7.7390,2,    25.00
  06MM20060523, OVIDE,    24,  1,     17,2,20060530,0102, 42.5810, -15.4580, 5051,   1196.7,   8.7140,  35.7080,2,  35.7060,2,    201.0,2,    199.8,2,    10.41,2,    17.90,2,     0.93,2,   2357.8,2,   7.7590,2,    25.00
  06MM20060523, OVIDE,    24,  1,     18,2,20060530,0102, 42.5810, -15.4580, 5051,   1036.8,   9.5150,  35.7530,2,  35.7560,2,    190.6,2,    189.6,2,     9.80,2,    17.75,2,     0.91,2,   2359.8,2,   7.7600,2,    25.00
  06MM20060523, OVIDE,    24,  1,     19,2,20060530,0102, 42.5810, -15.4580, 5051,    899.0,  10.0750,  35.6960,2,  35.6990,2,    186.8,2,    185.7,2,     9.10,2,    17.75,2,     0.91,2,   2354.2,2,   7.7630,2,    25.00
  06MM20060523, OVIDE,    24,  1,     20,2,20060530,0102, 42.5810, -15.4580, 5051,    800.9,  10.4080,  35.6290,2,  35.6480,3,    188.1,2,    187.0,2,     8.36,2,    17.36,2,     0.87,2,   2347.2,2,   7.7650,2,    25.00
  06MM20060523, OVIDE,    24,  1,     21,2,20060530,0102, 42.5810, -15.4580, 5051,    695.9,  10.8110,  35.5900,2,  35.5910,2,    187.9,2,    187.3,2,     7.62,2,    17.12,2,     0.87,2,   2338.5,2,   7.7670,2,    25.00
  06MM20060523, OVIDE,    24,  1,     22,2,20060530,0102, 42.5810, -15.4580, 5051,    627.3,  10.8690,  35.5390,2,  35.5370,2,    200.6,2,    194.7,3,     6.97,2,    16.39,2,     0.81,2,   -999.0,9,   7.7720,2,    25.00
  06MM20060523, OVIDE,    24,  1,     23,2,20060530,0102, 42.5810, -15.4580, 5051,    497.8,  11.4910,  35.5770,2,  35.5760,2,    216.0,2,    215.1,2,     4.96,2,    13.31,2,     0.64,2,   2333.6,2,   7.8050,2,    25.00
  06MM20060523, OVIDE,    24,  1,     24,2,20060530,0102, 42.5810, -15.4580, 5051,    391.9,  12.0390,  35.6470,2,  35.6470,2,    221.7,2,    222.4,2,     4.01,2,    11.56,2,     0.56,2,   2338.3,2,   7.8290,2,    25.00
  06MM20060523, OVIDE,    24,  1,     25,2,20060530,0102, 42.5810, -15.4580, 5051,    295.4,  12.8210,  35.7560,2,  35.7630,3,    230.5,2,    226.9,2,     3.22,2,     9.26,2,     0.44,2,   -999.0,9,   7.8560,2,    25.00
  06MM20060523, OVIDE,    24,  1,     26,2,20060530,0102, 42.5810, -15.4580, 5051,    294.8,  12.8690,  35.7640,2,  35.7630,2,    230.5,2,    227.2,2,     3.18,2,     9.26,2,     0.45,2,   2345.7,2,   7.8610,2,    25.00
  06MM20060523, OVIDE,    24,  1,     27,2,20060530,0102, 42.5810, -15.4580, 5051,    146.1,  13.7270,  35.9080,2,  35.9070,2,    238.2,2,    237.6,2,     2.26,2,     6.39,2,     0.30,2,   -999.0,9,   7.8990,2,    25.00
  06MM20060523, OVIDE,    24,  1,     28,2,20060530,0102, 42.5810, -15.4580, 5051,     95.7,  14.4060,  36.0100,2,  36.0050,2,    244.5,2,    241.6,2,     1.74,2,     4.58,2,     0.22,2,   2359.2,2,   7.9140,2,    25.00
  06MM20060523, OVIDE,    24,  1,     29,2,20060530,0102, 42.5810, -15.4580, 5051,     39.8,  13.3830,  37.6020,3,  35.9630,3,    256.2,2,    257.0,2,     0.61,2,     0.98,2,     0.08,2,   -999.0,9,   7.9570,2,    25.00
  06MM20060523, OVIDE,    24,  1,     30,2,20060530,0102, 42.5810, -15.4580, 5051,      4.8,  15.9080,  35.9890,2,  35.9910,2,    252.4,2,    255.0,2,     0.35,2,     0.00,2,     0.02,2,   2363.2,2,   7.9700,2,    25.00
  06MM20060523, OVIDE,    25,  1,      3,2,20060531,1059, 42.8810, -15.8500, 4205,   4263.5,   2.4840,  34.9080,2,  34.9080,2,    243.5,2,    244.3,2,    46.86,2,    22.87,2,     1.34,2,   -999.0,9,   7.7340,2,    25.00
  06MM20060523, OVIDE,    25,  1,      4,2,20060531,1059, 42.8810, -15.8500, 4205,   3997.5,   2.5060,  34.9130,2,  34.9110,2,    245.4,2,    244.4,2,    45.70,2,    22.67,2,     1.34,2,   -999.0,9,   7.7390,2,    25.00
  06MM20060523, OVIDE,    25,  1,      5,2,20060531,1059, 42.8810, -15.8500, 4205,   3748.0,   2.5530,  34.9200,2,  34.9230,2,    246.0,2,    245.0,2,    43.77,2,    22.28,2,     1.31,2,   -999.0,9,   7.7380,2,    25.00
  06MM20060523, OVIDE,    25,  1,      6,2,20060531,1059, 42.8810, -15.8500, 4205,   3496.2,   2.6190,  34.9280,2,  34.9280,2,    246.2,2,    246.4,2,    41.71,2,    21.88,2,     1.27,2,   -999.0,9,   7.7380,2,    25.00
  06MM20060523, OVIDE,    25,  1,      7,2,20060531,1059, 42.8810, -15.8500, 4205,   3242.1,   2.7110,  34.9400,2,  34.9390,2,    247.3,2,    248.7,2,    38.88,2,    21.49,2,     1.23,2,   -999.0,9,   7.7360,2,    25.00
  06MM20060523, OVIDE,    25,  1,      8,2,20060531,1059, 42.8810, -15.8500, 4205,   3239.4,   2.7100,  34.9390,2,  34.9390,2,    247.3,2,    247.2,2,    39.40,2,    21.39,2,     1.25,2,   -999.0,9,   7.7360,2,    25.00
  06MM20060523, OVIDE,    25,  1,      9,2,20060531,1059, 42.8810, -15.8500, 4205,   2998.7,   2.8350,  34.9500,2,  34.9480,2,    250.9,2,    252.2,2,    34.12,2,    20.40,2,     1.20,2,   -999.0,9,   7.7350,2,    25.00
  06MM20060523, OVIDE,    25,  1,     10,2,20060531,1059, 42.8810, -15.8500, 4205,   2745.3,   3.0120,  34.9590,2,  34.9610,2,    256.8,2,    256.5,2,    28.84,2,    19.71,2,     1.12,2,   -999.0,9,   7.7380,2,    25.00
  06MM20060523, OVIDE,    25,  1,     11,2,20060531,1059, 42.8810, -15.8500, 4205,   2497.0,   3.3190,  34.9810,2,  34.9800,2,    258.2,2,    258.8,2,    19.95,2,    19.12,2,     1.10,2,   -999.0,9,   7.7370,2,    25.00
  06MM20060523, OVIDE,    25,  1,     12,2,20060531,1059, 42.8810, -15.8500, 4205,   2242.6,   3.5290,  34.9860,2,  34.9850,2,    263.8,2,    262.4,2,    16.42,2,    18.68,2,     1.03,2,   -999.0,9,   7.7360,2,    25.00
  06MM20060523, OVIDE,    25,  1,     13,2,20060531,1059, 42.8810, -15.8500, 4205,   2015.8,   3.6540,  34.9700,2,  34.9740,2,    272.9,2,    270.8,2,    12.72,2,    18.19,2,     1.01,2,   -999.0,9,   7.7330,2,    25.00
  06MM20060523, OVIDE,    25,  1,     14,2,20060531,1059, 42.8810, -15.8500, 4205,   1794.3,   3.9550,  34.9910,2,  34.9940,2,    266.3,2,    266.3,2,    12.02,2,    18.28,2,     1.01,2,   -999.0,9,   7.7280,2,    25.00
  06MM20060523, OVIDE,    25,  1,     15,2,20060531,1059, 42.8810, -15.8500, 4205,   1595.4,   4.8270,  35.1240,2,  35.1250,2,    251.5,2,    250.9,2,    11.85,2,    18.38,2,     0.98,2,   -999.0,9,   7.7350,2,    25.00
  06MM20060523, OVIDE,    25,  1,     16,2,20060531,1059, 42.8810, -15.8500, 4205,   1393.9,   5.8260,  35.2550,2,  35.2550,2,    233.9,2,    236.5,2,    11.32,2,    18.43,2,     1.01,2,   -999.0,9,   7.7320,2,    25.00
  06MM20060523, OVIDE,    25,  1,     17,2,20060531,1059, 42.8810, -15.8500, 4205,   1195.6,   8.0060,  35.6030,2,  35.6060,2,    205.6,2,    208.3,2,    10.71,2,    18.03,2,     0.97,2,   -999.0,9,   7.7520,2,    25.00
  06MM20060523, OVIDE,    25,  1,     18,2,20060531,1059, 42.8810, -15.8500, 4205,    995.0,   9.0900,  35.6480,2,  35.6490,2,    193.8,2,    192.9,2,     9.93,2,    18.13,2,     0.97,2,   -999.0,9,   7.7510,2,    25.00
  06MM20060523, OVIDE,    25,  1,     19,2,20060531,1059, 42.8810, -15.8500, 4205,    878.6,  10.3240,  35.7770,2,  35.7790,2,    186.3,2,    184.7,2,     8.80,2,    17.34,2,     0.91,2,   -999.0,9,   7.7660,2,    25.00
  06MM20060523, OVIDE,    25,  1,     20,2,20060531,1059, 42.8810, -15.8500, 4205,    797.2,  10.1040,  35.6320,2,  35.6310,2,    185.6,2,    185.4,2,     8.88,2,    17.83,2,     0.94,2,   -999.0,9,   7.7530,2,    25.00
  06MM20060523, OVIDE,    25,  1,     21,2,20060531,1059, 42.8810, -15.8500, 4205,    695.3,  10.5270,  35.5760,2,  35.5780,2,    185.3,2,    186.9,2,     8.06,2,    17.49,2,     0.90,2,   -999.0,9,   7.7570,2,    25.00
  06MM20060523, OVIDE,    25,  1,     22,2,20060531,1059, 42.8810, -15.8500, 4205,    591.3,  10.8470,  35.5230,2,  35.5220,2,    204.3,2,    202.9,2,     6.44,2,    15.52,2,     0.80,2,   -999.0,9,   7.7760,2,    25.00
  06MM20060523, OVIDE,    25,  1,     23,2,20060531,1059, 42.8810, -15.8500, 4205,    493.4,  11.3780,  35.5740,2,  35.5720,2,    221.9,2,    220.9,2,     4.57,2,    12.86,2,     0.64,2,   -999.0,9,   7.8100,2,    25.00
  06MM20060523, OVIDE,    25,  1,     24,2,20060531,1059, 42.8810, -15.8500, 4205,    396.3,  11.7870,  35.6270,2,  35.6260,2,    229.8,2,    228.0,2,     3.74,2,    11.23,2,     0.56,2,   -999.0,9,   7.8270,2,    25.00
  06MM20060523, OVIDE,    25,  1,     25,2,20060531,1059, 42.8810, -15.8500, 4205,    295.7,  12.5320,  35.7440,2,  35.7420,2,    234.5,2,    237.4,2,     2.83,2,     8.52,2,     0.42,2,   -999.0,9,   7.8640,2,    25.00
  06MM20060523, OVIDE,    25,  1,     26,2,20060531,1059, 42.8810, -15.8500, 4205,    195.7,  12.9120,  35.7870,2,  35.7890,2,    245.4,2,    244.6,2,     2.40,2,     7.09,2,     0.34,2,   -999.0,9,   7.8870,2,    25.00
  06MM20060523, OVIDE,    25,  1,     27,2,20060531,1059, 42.8810, -15.8500, 4205,    148.7,  13.0410,  35.7970,2,  35.7960,2,    245.9,2,    246.7,2,     2.18,2,     6.45,2,     0.33,2,   -999.0,9,   7.8900,2,    25.00
  06MM20060523, OVIDE,    25,  1,     28,2,20060531,1059, 42.8810, -15.8500, 4205,     96.3,  13.8250,  35.9380,2,  35.9350,2,    239.5,2,    237.7,2,     2.13,2,     6.01,2,     0.28,2,   -999.0,9,   7.9000,2,    25.00
  06MM20060523, OVIDE,    25,  1,     29,2,20060531,1059, 42.8810, -15.8500, 4205,     48.2,  15.9620,  36.0150,2,  36.0120,2,    252.2,2,    253.8,2,     0.35,2,     0.00,2,     0.03,2,   -999.0,9,   7.9690,2,    25.00
  06MM20060523, OVIDE,    25,  1,     30,2,20060531,1059, 42.8810, -15.8500, 4205,     11.8,  15.9820,  36.0160,2,  36.0160,2,    248.8,2,    253.7,2,     0.44,2,     0.10,2,     0.03,2,   -999.0,9,   7.9740,2,    25.00
  06MM20060523, OVIDE,    26,  1,      3,2,20060531,1653, 43.1790, -16.2460, 5129,   5218.2,   2.5530,  34.9050,2,  34.9010,2,    243.7,2,    243.7,2,    48.92,2,    22.66,2,     1.35,2,   2354.0,2,   7.7350,2,    25.00
  06MM20060523, OVIDE,    26,  1,      4,2,20060531,1653, 43.1790, -16.2460, 5129,   4495.8,   2.5050,  34.9110,2,  34.9050,2,    243.4,2,    243.5,2,    48.28,2,    22.66,2,     1.36,2,   2352.3,2,   7.7330,2,    25.00
  06MM20060523, OVIDE,    26,  1,      5,2,20060531,1653, 43.1790, -16.2460, 5129,   3996.4,   2.5360,  34.9180,2,  34.9160,2,    243.2,2,    243.2,2,    45.96,2,    22.26,2,     1.31,2,   2348.3,2,   7.7310,2,    25.00
  06MM20060523, OVIDE,    26,  1,      6,2,20060531,1653, 43.1790, -16.2460, 5129,   3744.1,   2.5760,  34.9240,2,  34.9220,2,    243.8,2,    243.9,2,    44.42,2,    22.07,2,     1.32,2,   -999.0,9,   7.7320,2,    25.00
  06MM20060523, OVIDE,    26,  1,      7,2,20060531,1653, 43.1790, -16.2460, 5129,   3496.9,   2.6280,  34.9320,2,  34.9310,2,    244.9,2,    245.6,2,    41.97,2,    21.58,2,     1.27,2,   2344.7,2,   7.7330,2,    25.00
  06MM20060523, OVIDE,    26,  1,      9,2,20060531,1653, 43.1790, -16.2460, 5129,   2996.6,   2.8710,  34.9540,2,  34.9520,2,    250.9,2,    250.4,2,    34.76,2,    20.40,2,     1.20,2,   2335.5,2,   7.7350,2,    25.00
  06MM20060523, OVIDE,    26,  1,     10,2,20060531,1653, 43.1790, -16.2460, 5129,   2745.3,   3.0650,  34.9680,2,  34.9650,2,    253.1,2,    253.5,2,    30.64,2,    19.96,2,     1.16,2,   2327.7,2,   7.7370,2,    25.00
  06MM20060523, OVIDE,    26,  1,     11,2,20060531,1653, 43.1790, -16.2460, 5129,   2498.4,   3.2600,  34.9760,2,  34.9720,2,    256.6,2,    257.0,2,    26.13,2,    18.93,2,     1.08,2,   2324.0,2,   7.7330,2,    25.00
  06MM20060523, OVIDE,    26,  1,     12,2,20060531,1653, 43.1790, -16.2460, 5129,   2243.0,   3.4720,  34.9720,2,  34.9680,2,    263.5,2,    263.6,2,    16.28,2,    17.80,2,     1.03,2,   2313.8,2,   7.7330,2,    25.00
  06MM20060523, OVIDE,    26,  1,     13,2,20060531,1653, 43.1790, -16.2460, 5129,   1994.9,   3.5470,  34.9420,2,  34.9390,2,    272.5,2,    271.2,2,    12.87,2,    18.24,2,     1.01,2,   2307.0,2,   7.7290,2,    25.00
  06MM20060523, OVIDE,    26,  1,     14,2,20060531,1653, 43.1790, -16.2460, 5129,   1795.4,   3.8800,  34.9720,2,  34.9690,2,    268.5,2,    265.8,2,    12.09,2,    18.00,2,     1.02,2,   2307.1,2,   7.7250,2,    25.00
  06MM20060523, OVIDE,    26,  1,     15,2,20060531,1653, 43.1790, -16.2460, 5129,   1597.7,   4.8770,  35.1180,2,  35.1180,2,    252.9,2,    248.0,2,    12.26,2,    18.53,2,     1.02,2,   2319.1,2,   7.7290,2,    25.00
  06MM20060523, OVIDE,    26,  1,     16,2,20060531,1653, 43.1790, -16.2460, 5129,   1394.9,   6.2860,  35.3260,2,  35.3240,2,    229.6,2,    227.8,2,    11.53,2,    18.14,2,     1.01,2,   2334.0,2,   7.7350,2,    25.00
  06MM20060523, OVIDE,    26,  1,     17,2,20060531,1653, 43.1790, -16.2460, 5129,   1193.8,   8.8660,  35.7570,2,  35.7500,2,    202.5,2,    199.6,2,    10.23,2,    17.79,2,     0.94,2,   2362.6,2,   7.7650,2,    25.00
  06MM20060523, OVIDE,    26,  1,     18,2,20060531,1653, 43.1790, -16.2460, 5129,    997.0,   9.8920,  35.8440,2,  35.8540,3,    185.8,2,    186.4,2,     9.36,2,    16.96,2,     0.91,2,   2366.7,2,   7.7720,2,    25.00
  06MM20060523, OVIDE,    26,  1,     19,2,20060531,1653, 43.1790, -16.2460, 5129,    896.9,  10.0310,  35.7760,2,  35.7760,2,    184.6,2,    185.8,2,     9.15,2,    16.81,2,     0.91,2,   2360.4,2,   7.7640,2,    25.00
  06MM20060523, OVIDE,    26,  1,     20,2,20060531,1653, 43.1790, -16.2460, 5129,    798.9,   9.8310,  35.6240,2,  35.6210,2,    184.2,2,    186.0,2,     9.06,2,    17.99,2,     0.98,2,   2349.1,2,   7.7540,2,    25.00
  06MM20060523, OVIDE,    26,  1,     21,2,20060531,1653, 43.1790, -16.2460, 5129,    696.4,  10.3490,  35.5980,2,  35.5960,2,    187.0,2,    187.1,2,     7.86,2,    17.06,2,     0.91,2,   2343.2,2,   7.7620,2,    25.00
  06MM20060523, OVIDE,    26,  1,     22,2,20060531,1653, 43.1790, -16.2460, 5129,    597.4,  10.6190,  35.5330,2,  35.5340,2,    198.3,2,    194.3,2,     6.91,2,    16.42,2,     0.86,2,   -999.0,9,   7.7720,2,    25.00
  06MM20060523, OVIDE,    26,  1,     23,2,20060531,1653, 43.1790, -16.2460, 5129,    497.3,  11.0690,  35.5330,2,  35.5290,2,    219.4,2,    214.4,2,     5.22,2,    13.97,2,     0.72,2,   2334.7,2,   7.7980,2,    25.00
  06MM20060523, OVIDE,    26,  1,     24,2,20060531,1653, 43.1790, -16.2460, 5129,    396.4,  11.5270,  35.5910,2,  35.5900,2,    226.9,2,    225.4,2,     4.01,2,    11.86,2,     0.61,2,   2336.6,2,   7.8210,2,    25.00
  06MM20060523, OVIDE,    26,  1,     25,2,20060531,1653, 43.1790, -16.2460, 5129,    297.2,  11.8940,  35.6330,2,  35.6320,2,    229.9,2,    226.4,2,     3.62,2,     9.31,2,     0.55,2,   -999.0,9,   7.8280,2,    25.00
  06MM20060523, OVIDE,    26,  1,     26,2,20060531,1653, 43.1790, -16.2460, 5129,    197.0,  12.6260,  35.7440,2,  35.7370,3,    247.6,2,    237.2,3,     2.85,2,     8.53,2,     0.43,2,   2345.7,2,   7.8700,2,    25.00
  06MM20060523, OVIDE,    26,  1,     27,2,20060531,1653, 43.1790, -16.2460, 5129,    146.3,  12.8220,  35.7710,2,  35.7690,2,    248.5,2,    244.6,2,     2.50,2,     7.55,2,     0.37,2,   -999.0,9,   7.8810,2,    25.00
  06MM20060523, OVIDE,    26,  1,     28,2,20060531,1653, 43.1790, -16.2460, 5129,     98.3,  12.9740,  35.7800,2,  35.7780,2,    244.5,2,    248.9,2,     2.07,2,     6.86,2,     0.34,2,   2347.8,2,   7.8830,2,    25.00
  06MM20060523, OVIDE,    26,  1,     29,2,20060531,1653, 43.1790, -16.2460, 5129,     46.5,  14.8610,  35.8310,2,  35.8240,3,    254.4,2,    258.2,2,     0.34,2,     2.01,2,     0.12,2,   -999.0,9,   7.9430,2,    25.00
  06MM20060523, OVIDE,    26,  1,     30,2,20060531,1653, 43.1790, -16.2460, 5129,     15.2,  15.3450,  35.8560,2,  35.8550,2,    254.3,2,    256.2,2,     0.69,2,     1.27,2,     0.09,2,   2355.7,2,   7.9560,2,    25.00