BOTTLE,20140930PRINUNIVRMK
EXPOCODE,SECT_ID,STNNBR,CASTNO,BTLNBR,BTLNBR_FLAG_W,DATE,TIME,LATITUDE,LONGITUDE,DEPTH,CTDPRS,CTDTMP,CTDSAL,CTDSAL_FLAG_W,SALNTY,SALNTY_FLAG_W,CTDOXY,CTDOXY_FLAG_W,OXYGEN,OXYGEN_FLAG_W,SILCAT,SILCAT_FLAG_W,NITRAT,NITRAT_FLAG_W,PHSPHT,PHSPHT_FLAG_W,ALKALI,ALKALI_FLAG_W,PH_SWS,PH_SWS_FLAG_W,PH_TMP
,,,,,,,,,,METERS,DBAR,ITS-90,PSS-78,,PSS-78,,UMOL/KG,,UMOL/KG,,UMOL/KG,,UMOL/KG,,UMOL/KG,,UMOL/KG,,,,DEG C
  06MM20060523, OVIDE,    36,  1,      3,2,20060602,0324, 46.5430, -19.6740, 4546,   4614.0,   2.5660,  34.9120,2,  34.9120,2,    241.8,2,    242.0,2,    46.77,2,    22.72,2,     1.34,2,   -999.0,9,   7.7300,2,    25.00
  06MM20060523, OVIDE,    36,  1,      4,2,20060602,0324, 46.5430, -19.6740, 4546,   3995.5,   2.5740,  34.9190,2,  34.9190,2,    244.2,2,    243.5,2,    45.90,2,    22.27,2,     1.30,2,   2352.7,2,   7.7310,2,    25.00
  06MM20060523, OVIDE,    36,  1,      5,2,20060602,0324, 46.5430, -19.6740, 4546,   3744.7,   2.6080,  34.9250,2,  34.9300,2,    246.3,2,    245.7,2,    43.73,2,    21.65,2,     1.27,2,   2349.0,2,   7.7310,2,    25.00
  06MM20060523, OVIDE,    36,  1,      6,2,20060602,0324, 46.5430, -19.6740, 4546,   3495.6,   2.6890,  34.9320,2,  34.9330,2,    249.2,2,    249.5,2,    39.38,2,    20.81,2,     1.22,2,   2341.1,2,   7.7270,2,    25.00
  06MM20060523, OVIDE,    36,  1,      7,2,20060602,0324, 46.5430, -19.6740, 4546,   3244.9,   2.8100,  34.9430,2,  34.9440,2,    253.8,2,    253.2,2,    33.88,2,    20.25,2,     1.20,2,   2335.5,2,   7.7310,2,    25.00
  06MM20060523, OVIDE,    36,  1,      8,2,20060602,0324, 46.5430, -19.6740, 4546,   2994.7,   2.9390,  34.9490,2,  34.9500,2,    259.8,2,    258.8,2,    23.36,2,    19.40,2,     1.14,2,   2325.5,2,   7.7310,2,    25.00
  06MM20060523, OVIDE,    36,  1,      9,2,20060602,0324, 46.5430, -19.6740, 4546,   2743.7,   3.0890,  34.9440,2,  34.9430,2,    267.9,2,    266.9,2,    17.90,2,    18.45,2,     1.05,2,   2318.1,2,   7.7300,2,    25.00
  06MM20060523, OVIDE,    36,  1,     10,2,20060602,0324, 46.5430, -19.6740, 4546,   2496.3,   3.1890,  34.9250,2,  34.9250,2,    276.7,2,    275.1,2,    13.86,2,    17.78,2,     1.03,2,   2308.1,2,   7.7290,2,    25.00
  06MM20060523, OVIDE,    36,  1,     11,2,20060602,0324, 46.5430, -19.6740, 4546,   2244.5,   3.2630,  34.9050,2,  34.9050,2,    279.7,2,    280.4,2,    11.93,2,    17.50,2,     0.96,2,   2306.1,2,   7.7300,2,    25.00
  06MM20060523, OVIDE,    36,  1,     12,2,20060602,0324, 46.5430, -19.6740, 4546,   1995.0,   3.4370,  34.9030,2,  34.9040,2,    279.7,2,    277.8,2,    11.38,2,    17.78,2,     0.96,2,   2303.0,2,   7.7200,2,    25.00
  06MM20060523, OVIDE,    36,  1,     13,2,20060602,0324, 46.5430, -19.6740, 4546,   1793.9,   3.6400,  34.9140,2,  34.9170,2,    276.7,2,    283.4,3,    10.97,2,    17.78,2,     1.02,2,   2305.4,2,   7.7200,2,    25.00
  06MM20060523, OVIDE,    36,  1,     14,2,20060602,0324, 46.5430, -19.6740, 4546,   1594.3,   3.9550,  34.9440,2,  34.9440,2,    266.9,2,    266.9,2,    10.77,2,    18.23,2,     1.02,2,   2305.8,2,   7.7170,2,    25.00
  06MM20060523, OVIDE,    36,  1,     15,2,20060602,0324, 46.5430, -19.6740, 4546,   1393.5,   4.5530,  35.0080,2,  35.0050,2,    254.4,2,    255.7,2,    10.72,2,    18.56,2,     1.05,2,   2309.1,2,   7.7140,2,    25.00
  06MM20060523, OVIDE,    36,  1,     16,2,20060602,0324, 46.5430, -19.6740, 4546,   1193.9,   5.6010,  35.1210,2,  35.1220,2,    232.9,2,    235.8,2,    10.82,2,    18.67,2,     1.05,2,   2318.3,2,   7.7150,2,    25.00
  06MM20060523, OVIDE,    36,  1,     17,2,20060602,0324, 46.5430, -19.6740, 4546,    994.9,   7.3990,  35.3160,2,  35.3100,2,    210.9,2,    207.7,2,    10.62,2,    19.29,2,     1.06,2,   2330.8,2,   7.7250,2,    25.00
  06MM20060523, OVIDE,    36,  1,     18,2,20060602,0324, 46.5430, -19.6740, 4546,    894.7,   7.6390,  35.2280,2,  35.2230,2,    201.5,2,    200.6,2,    10.72,2,    19.68,2,     1.08,2,   2325.7,2,   7.7160,2,    25.00
  06MM20060523, OVIDE,    36,  1,     19,2,20060602,0324, 46.5430, -19.6740, 4546,    796.4,   9.2470,  35.4110,2,  35.3980,3,    188.8,2,    189.0,2,     9.50,2,    19.06,2,     1.02,2,   -999.0,9,   7.7360,2,    25.00
  06MM20060523, OVIDE,    36,  1,     20,2,20060602,0324, 46.5430, -19.6740, 4546,    796.6,   9.2220,  35.3970,2,  35.4000,2,    189.0,2,    188.7,2,     9.50,2,    18.89,2,     1.02,2,   2334.0,2,   7.7370,2,    25.00
  06MM20060523, OVIDE,    36,  1,     21,2,20060602,0324, 46.5430, -19.6740, 4546,    594.4,  10.5580,  35.4480,2,  35.4470,2,    211.1,2,    204.7,3,     6.67,2,    15.70,2,     0.81,2,   2331.1,2,   7.7750,2,    25.00
  06MM20060523, OVIDE,    36,  1,     22,2,20060602,0324, 46.5430, -19.6740, 4546,    493.0,  11.0190,  35.4840,2,  35.4810,2,    224.5,2,    211.3,3,     5.81,2,    14.69,2,     0.76,2,   -999.0,9,   7.7920,2,    25.00
  06MM20060523, OVIDE,    36,  1,     23,2,20060602,0324, 46.5430, -19.6740, 4546,    395.6,  11.3880,  35.5120,2,  35.5170,2,    236.8,2,    213.0,3,     5.26,2,    13.74,2,     0.72,2,   2334.9,2,   7.8050,2,    25.00
  06MM20060523, OVIDE,    36,  1,     24,2,20060602,0324, 46.5430, -19.6740, 4546,    394.9,  11.4500,  35.5230,2,  35.5170,3,    238.1,2,    213.3,3,     5.26,2,    13.74,2,     0.71,2,   2335.4,2,   7.8040,2,    25.00
  06MM20060523, OVIDE,    36,  1,     25,2,20060602,0324, 46.5430, -19.6740, 4546,    294.7,  12.2880,  35.6690,2,  35.6710,2,    230.4,2,    249.0,3,     2.88,2,     8.58,2,     0.43,2,   2342.9,2,   7.8650,2,    25.00
  06MM20060523, OVIDE,    36,  1,     26,2,20060602,0324, 46.5430, -19.6740, 4546,    195.3,  12.6910,  35.7100,2,  35.7120,2,    246.9,2,    244.5,2,     2.83,2,     8.24,2,     0.38,2,   -999.0,9,   7.8770,2,    25.00
  06MM20060523, OVIDE,    36,  1,     27,2,20060602,0324, 46.5430, -19.6740, 4546,     95.3,  13.3420,  35.8150,2,  35.8130,2,    247.0,2,    247.1,2,     2.22,2,     6.67,2,     0.32,2,   2351.1,2,   7.8970,2,    25.00
  06MM20060523, OVIDE,    36,  1,     28,2,20060602,0324, 46.5430, -19.6740, 4546,     46.5,  13.8230,  35.7790,2,  35.7810,2,    257.4,2,    254.5,2,     0.76,2,     3.70,2,     0.21,2,   -999.0,9,   7.9290,2,    25.00
  06MM20060523, OVIDE,    36,  1,     29,2,20060602,0324, 46.5430, -19.6740, 4546,     12.0,  14.7090,  35.7880,2,  35.7890,2,    257.7,2,    265.2,3,     0.30,2,     1.51,2,     0.10,2,   2352.9,2,   7.9570,2,    25.00
  06MM20060523, OVIDE,    37,  1,      3,2,20060603,0909, 46.9160, -19.9700, 4500,   4567.6,   2.5680,  34.9110,2,  34.9100,2,    241.4,2,    241.5,2,    46.88,2,    23.24,2,     1.28,2,   -999.0,9,   7.7320,2,    25.00
  06MM20060523, OVIDE,    37,  1,      4,2,20060603,0909, 46.9160, -19.9700, 4500,   4196.0,   2.5560,  34.9140,2,  34.9150,2,    242.5,2,    242.1,2,    46.12,2,    22.68,2,     1.25,2,   -999.0,9,   7.7320,2,    25.00
  06MM20060523, OVIDE,    37,  1,      5,2,20060603,0909, 46.9160, -19.9700, 4500,   3798.5,   2.5720,  34.9210,2,  34.9240,2,    243.2,2,    244.3,2,    43.06,2,    22.56,2,     1.25,2,   -999.0,9,   7.7310,2,    25.00
  06MM20060523, OVIDE,    37,  1,      6,2,20060603,0909, 46.9160, -19.9700, 4500,   3497.1,   2.6670,  34.9310,2,  34.9310,2,    247.8,2,    248.0,2,    38.73,2,    22.06,2,     1.20,2,   -999.0,9,   7.7310,2,    25.00
  06MM20060523, OVIDE,    37,  1,      7,2,20060603,0909, 46.9160, -19.9700, 4500,   3246.5,   2.7720,  34.9410,2,  34.9410,2,    252.1,2,    253.0,2,    33.89,2,    20.08,2,     1.06,3,   -999.0,9,   7.7310,2,    25.00
  06MM20060523, OVIDE,    37,  1,      8,2,20060603,0909, 46.9160, -19.9700, 4500,   2995.6,   2.8990,  34.9490,2,  34.9480,2,    256.1,2,    257.5,2,    29.30,2,    19.97,2,     1.08,2,   -999.0,9,   7.7310,2,    25.00
  06MM20060523, OVIDE,    37,  1,      9,2,20060603,0909, 46.9160, -19.9700, 4500,   2736.5,   3.0640,  34.9490,2,  34.9480,2,    261.4,2,    262.2,2,    20.67,2,    19.01,2,     1.02,2,   -999.0,9,   7.7300,2,    25.00
  06MM20060523, OVIDE,    37,  1,     10,2,20060603,0909, 46.9160, -19.9700, 4500,   2497.0,   3.1850,  34.9370,2,  34.9380,2,    270.0,2,    270.2,2,    15.97,2,    17.88,2,     0.96,2,   -999.0,9,   7.7330,2,    25.00
  06MM20060523, OVIDE,    37,  1,     11,2,20060603,0909, 46.9160, -19.9700, 4500,   2146.9,   3.3500,  34.9140,2,  34.9120,2,    278.3,2,    277.0,2,    12.51,2,    18.33,2,     0.96,2,   -999.0,9,   7.7250,2,    25.00
  06MM20060523, OVIDE,    37,  1,     12,2,20060603,0909, 46.9160, -19.9700, 4500,   1995.1,   3.4700,  34.9120,2,  34.9130,2,    275.9,2,    278.3,2,    11.84,2,    18.28,2,     0.97,2,   -999.0,9,   7.7230,2,    25.00
  06MM20060523, OVIDE,    37,  1,     13,2,20060603,0909, 46.9160, -19.9700, 4500,   1794.5,   3.7590,  34.9320,2,  34.9320,2,    269.8,2,    271.2,2,    11.44,2,    18.61,2,     0.98,2,   -999.0,9,   7.7200,2,    25.00
  06MM20060523, OVIDE,    37,  1,     14,2,20060603,0909, 46.9160, -19.9700, 4500,   1595.7,   4.0830,  34.9580,2,  34.9580,2,    265.2,2,    264.3,2,    11.13,2,    18.73,2,     0.98,2,   -999.0,9,   7.7160,2,    25.00
  06MM20060523, OVIDE,    37,  1,     15,2,20060603,0909, 46.9160, -19.9700, 4500,   1395.6,   4.7790,  35.0340,2,  35.0340,2,    251.3,2,    250.2,2,    11.22,2,    19.12,2,     1.01,2,   -999.0,9,   7.7140,2,    25.00
  06MM20060523, OVIDE,    37,  1,     16,2,20060603,0909, 46.9160, -19.9700, 4500,   1195.7,   5.9880,  35.1720,2,  35.1670,2,    230.2,2,    229.9,2,    11.09,2,    19.06,2,     0.94,3,   -999.0,9,   7.7160,2,    25.00
  06MM20060523, OVIDE,    37,  1,     18,2,20060603,0909, 46.9160, -19.9700, 4500,    861.7,   9.0450,  35.4360,2,  35.4370,2,    193.0,2,    191.0,2,     9.84,2,    19.17,2,     0.95,2,   -999.0,9,   7.7400,2,    25.00
  06MM20060523, OVIDE,    37,  1,     19,2,20060603,0909, 46.9160, -19.9700, 4500,    777.4,   9.4750,  35.4020,2,  35.4030,2,    190.9,2,    192.0,2,     9.22,2,    18.83,2,     0.91,2,   -999.0,9,   7.7410,2,    25.00
  06MM20060523, OVIDE,    37,  1,     20,2,20060603,0909, 46.9160, -19.9700, 4500,    674.8,   9.9880,  35.3830,2,  35.3820,2,    197.8,2,    200.0,2,     7.94,2,    17.71,2,     0.84,2,   -999.0,9,   7.7580,2,    25.00
  06MM20060523, OVIDE,    37,  1,     21,2,20060603,0909, 46.9160, -19.9700, 4500,    596.1,  10.8550,  35.5010,2,  35.4980,2,    225.2,2,    226.6,2,     5.32,2,    13.70,2,     0.67,2,   -999.0,9,   7.8030,2,    25.00
  06MM20060523, OVIDE,    37,  1,     22,2,20060603,0909, 46.9160, -19.9700, 4500,    496.6,  11.3120,  35.5410,2,  35.5390,2,    232.8,2,    232.9,2,     4.70,2,    12.07,2,     0.56,2,   -999.0,9,   7.8230,2,    25.00
  06MM20060523, OVIDE,    37,  1,     23,2,20060603,0909, 46.9160, -19.9700, 4500,    397.9,  11.7000,  35.5880,2,  35.5850,2,    222.7,2,    236.5,3,     3.99,2,    10.94,2,     0.52,2,   -999.0,9,   7.8380,2,    25.00
  06MM20060523, OVIDE,    37,  1,     24,2,20060603,0909, 46.9160, -19.9700, 4500,    295.6,  12.1220,  35.6310,2,  35.6300,2,    223.6,2,    241.2,3,     3.55,2,     9.81,2,     0.47,2,   -999.0,9,   7.8550,2,    25.00
  06MM20060523, OVIDE,    37,  1,     25,2,20060603,0909, 46.9160, -19.9700, 4500,    196.2,  12.6300,  35.7200,2,  35.7190,2,    247.2,2,    247.3,2,     2.97,2,     8.06,2,     0.39,2,   -999.0,9,   7.8760,2,    25.00
  06MM20060523, OVIDE,    37,  1,     26,2,20060603,0909, 46.9160, -19.9700, 4500,    196.1,  12.6310,  35.7200,2,  35.7210,2,    247.2,2,    247.2,2,     2.93,2,     7.89,2,     0.35,2,   -999.0,9,   7.8800,2,    25.00
  06MM20060523, OVIDE,    37,  1,     27,2,20060603,0909, 46.9160, -19.9700, 4500,     97.7,  13.2290,  35.7660,2,  35.7600,3,    250.8,2,    252.1,2,     2.00,2,     5.98,2,     0.29,2,   -999.0,9,   7.9030,2,    25.00
  06MM20060523, OVIDE,    37,  1,     28,2,20060603,0909, 46.9160, -19.9700, 4500,     47.2,  13.6500,  35.7480,2,  35.7500,2,    256.0,2,    264.5,3,     0.80,2,     3.95,2,     0.20,2,   -999.0,9,   7.9260,2,    25.00
  06MM20060523, OVIDE,    37,  1,     29,2,20060603,0909, 46.9160, -19.9700, 4500,      5.9,  14.1620,  35.7280,2,  35.7290,2,    262.5,2,    265.6,2,     0.75,2,     2.99,2,     0.15,2,   -999.0,9,   7.9350,2,    25.00
  06MM20060523, OVIDE,    38,  1,      3,2,20060603,1759, 47.2930, -20.2610, 4516,   4587.2,   2.5580,  34.9100,2,  34.9090,2,    241.5,2,    241.8,2,    47.39,2,    23.46,2,  -999.00,9,   2356.0,2,   7.7310,2,    25.00
  06MM20060523, OVIDE,    38,  1,      4,2,20060603,1759, 47.2930, -20.2610, 4516,   4197.1,   2.5550,  34.9150,2,  34.9150,2,    242.7,2,    241.7,2,    45.86,2,    23.34,2,     1.39,2,   2352.1,2,   7.7320,2,    25.00
  06MM20060523, OVIDE,    38,  1,      5,2,20060603,1759, 47.2930, -20.2610, 4516,   3898.6,   2.5570,  34.9180,2,  34.9210,2,    242.2,2,    242.8,2,    44.20,2,    22.22,2,     1.36,2,   2350.6,2,   7.7310,2,    25.00
  06MM20060523, OVIDE,    38,  1,      6,2,20060603,1759, 47.2930, -20.2610, 4516,   3497.3,   2.6590,  34.9310,2,  34.9310,2,    247.6,2,    247.9,2,    38.58,2,    22.16,2,     1.28,2,   2341.5,2,   7.7300,2,    25.00
  06MM20060523, OVIDE,    38,  1,      7,2,20060603,1759, 47.2930, -20.2610, 4516,   3247.5,   2.7710,  34.9400,2,  34.9410,2,    251.6,2,    253.0,2,    33.85,2,    20.87,2,     1.16,2,   2332.1,2,   7.7320,2,    25.00
  06MM20060523, OVIDE,    38,  1,      8,2,20060603,1759, 47.2930, -20.2610, 4516,   2997.2,   2.9260,  34.9490,2,  34.9500,2,    256.8,2,    257.8,2,    27.59,2,    20.22,2,     1.16,2,   2325.8,2,   7.7320,2,    25.00
  06MM20060523, OVIDE,    38,  1,      9,2,20060603,1759, 47.2930, -20.2610, 4516,   2746.3,   3.0730,  34.9470,2,  34.9480,2,    265.4,2,    263.8,2,    19.92,2,    19.64,2,     1.13,2,   2318.6,2,   7.7310,2,    25.00
  06MM20060523, OVIDE,    38,  1,     10,2,20060603,1759, 47.2930, -20.2610, 4516,   2498.1,   3.1970,  34.9330,2,  34.9330,2,    271.9,2,    271.5,2,    15.56,2,    18.81,2,     1.07,2,   2310.9,2,   7.7330,2,    25.00
  06MM20060523, OVIDE,    38,  1,     11,2,20060603,1759, 47.2930, -20.2610, 4516,   2346.0,   3.2620,  34.9220,2,  34.9210,2,    278.5,2,    275.1,2,    13.67,2,    18.34,2,     1.04,2,   2307.0,2,   7.7280,2,    25.00
  06MM20060523, OVIDE,    38,  1,     12,2,20060603,1759, 47.2930, -20.2610, 4516,   2147.0,   3.3680,  34.9110,2,  34.9100,2,    277.9,2,    276.9,2,    12.41,2,    18.46,2,     1.01,2,   2306.5,2,   7.7260,2,    25.00
  06MM20060523, OVIDE,    38,  1,     13,2,20060603,1759, 47.2930, -20.2610, 4516,   1796.7,   3.8130,  34.9380,2,  34.9380,2,    268.2,2,    269.0,2,    11.42,2,    18.87,2,     1.04,2,   2306.7,2,   7.7220,2,    25.00
  06MM20060523, OVIDE,    38,  1,     14,2,20060603,1759, 47.2930, -20.2610, 4516,   1596.3,   4.3180,  34.9870,2,  34.9880,2,    259.0,2,    266.3,2,    11.29,2,    19.16,2,     1.06,2,   2312.7,2,   7.7190,2,    25.00
  06MM20060523, OVIDE,    38,  1,     15,2,20060603,1759, 47.2930, -20.2610, 4516,   1396.5,   5.2990,  35.1010,2,  35.1040,2,    242.4,2,    240.7,2,    11.29,2,    19.28,2,     1.07,2,   2317.6,2,   7.7170,2,    25.00
  06MM20060523, OVIDE,    38,  1,     16,2,20060603,1759, 47.2930, -20.2610, 4516,   1117.4,   7.6620,  35.3930,2,  35.3970,2,    202.6,2,    206.0,2,    10.74,2,    19.39,2,     1.06,2,   2336.6,2,   7.7330,2,    25.00
  06MM20060523, OVIDE,    38,  1,     17,2,20060603,1759, 47.2930, -20.2610, 4516,    996.0,   8.1500,  35.3400,2,  35.3390,2,    194.8,2,    197.3,2,    10.56,2,    20.28,2,     1.06,2,   2333.6,2,   7.7220,2,    25.00
  06MM20060523, OVIDE,    38,  1,     18,2,20060603,1759, 47.2930, -20.2610, 4516,    895.8,   9.1940,  35.4210,2,  35.4210,2,    193.1,2,    193.2,2,     9.66,2,    19.28,2,     1.03,2,   2335.7,2,   7.7420,2,    25.00
  06MM20060523, OVIDE,    38,  1,     19,2,20060603,1759, 47.2930, -20.2610, 4516,    797.1,   9.7640,  35.3960,2,  35.3930,2,    204.1,2,    200.1,2,     8.27,2,    18.10,2,     0.97,2,   2331.4,2,   7.7540,2,    25.00
  06MM20060523, OVIDE,    38,  1,     20,2,20060603,1759, 47.2930, -20.2610, 4516,    696.6,  10.4920,  35.4440,2,  35.4450,2,    224.4,2,    216.1,2,     6.52,2,    15.63,2,     0.82,2,   2331.8,2,   7.7840,2,    25.00
  06MM20060523, OVIDE,    38,  1,     21,2,20060603,1759, 47.2930, -20.2610, 4516,    596.3,  11.0950,  35.5160,2,  35.5160,2,    237.3,2,    228.5,2,     4.86,2,    12.81,2,     0.68,2,   -999.0,9,   7.8090,2,    25.00
  06MM20060523, OVIDE,    38,  1,     22,2,20060603,1759, 47.2930, -20.2610, 4516,    496.7,  11.5840,  35.5740,2,  35.5690,2,    243.9,2,    247.1,2,     3.42,2,     9.81,2,     0.56,2,   2339.3,2,   7.8470,2,    25.00
  06MM20060523, OVIDE,    38,  1,     23,2,20060603,1759, 47.2930, -20.2610, 4516,    396.9,  11.9210,  35.6240,2,  35.6210,2,    250.6,2,    252.1,2,     3.19,2,     8.87,2,     0.50,2,   2342.9,2,   7.8620,2,    25.00
  06MM20060523, OVIDE,    38,  1,     24,2,20060603,1759, 47.2930, -20.2610, 4516,    296.2,  12.0390,  35.6220,2,  35.6230,2,    241.3,2,    245.0,2,     3.15,2,     8.87,2,     0.50,2,   -999.0,9,   7.8580,2,    25.00
  06MM20060523, OVIDE,    38,  1,     25,2,20060603,1759, 47.2930, -20.2610, 4516,    196.1,  12.5850,  35.7100,2,  35.7090,2,    242.3,2,    249.7,2,     2.34,2,     7.76,2,     0.40,2,   2347.3,2,   7.8750,2,    25.00
  06MM20060523, OVIDE,    38,  1,     26,2,20060603,1759, 47.2930, -20.2610, 4516,     96.8,  12.4010,  35.5880,2,  35.6140,3,    248.1,2,    252.9,2,     1.62,2,     7.05,2,     0.40,2,   2342.3,2,   7.8890,2,    25.00
  06MM20060523, OVIDE,    38,  1,     27,2,20060603,1759, 47.2930, -20.2610, 4516,     96.9,  12.3980,  35.5850,2,  35.6080,3,    248.1,2,    253.3,2,     1.57,2,     7.05,2,     0.39,2,   -999.0,9,   7.8840,2,    25.00
  06MM20060523, OVIDE,    38,  1,     28,2,20060603,1759, 47.2930, -20.2610, 4516,     46.7,  13.2420,  35.7270,2,  35.7210,3,    262.4,2,    255.6,2,     1.21,2,     5.76,2,     0.32,2,   -999.0,9,   7.9050,2,    25.00
  06MM20060523, OVIDE,    38,  1,     29,2,20060603,1759, 47.2930, -20.2610, 4516,     14.1,  14.2950,  35.7700,2,  35.7770,3,    255.3,2,    264.9,2,     0.58,2,     3.17,2,     0.16,2,   2352.4,2,   7.9320,2,    25.00