BOTTLE,20140930PRINUNIVRMK
EXPOCODE,SECT_ID,STNNBR,CASTNO,BTLNBR,BTLNBR_FLAG_W,DATE,TIME,LATITUDE,LONGITUDE,DEPTH,CTDPRS,CTDTMP,CTDSAL,CTDSAL_FLAG_W,SALNTY,SALNTY_FLAG_W,CTDOXY,CTDOXY_FLAG_W,OXYGEN,OXYGEN_FLAG_W,SILCAT,SILCAT_FLAG_W,NITRAT,NITRAT_FLAG_W,PHSPHT,PHSPHT_FLAG_W,ALKALI,ALKALI_FLAG_W,PH_SWS,PH_SWS_FLAG_W,PH_TMP
,,,,,,,,,,METERS,DBAR,ITS-90,PSS-78,,PSS-78,,UMOL/KG,,UMOL/KG,,UMOL/KG,,UMOL/KG,,UMOL/KG,,UMOL/KG,,,,DEG C
  06MM20060523, OVIDE,   120,  1,      3,2,20060626,2047, 61.6680, -15.5000, 2306,   2320.1,   3.0050,  34.9870,2,  34.9860,2,    276.0,2,    276.6,2,    12.25,2,    16.60,2,  -999.00,9,   -999.0,9,   7.7210,2,    25.00
  06MM20060523, OVIDE,   120,  1,      4,2,20060626,2047, 61.6680, -15.5000, 2306,   2268.2,   3.1030,  34.9810,2,-999.0000,3,    277.6,2,   -999.0,3,    12.29,2,    17.17,2,  -999.00,9,   -999.0,9,-999.0000,9,    25.00
  06MM20060523, OVIDE,   120,  1,      5,2,20060626,2047, 61.6680, -15.5000, 2306,   2214.3,   3.1820,  34.9670,2,  34.9700,2,    278.2,2,    276.3,2,    12.21,2,    17.27,2,  -999.00,9,   -999.0,9,   7.7250,2,    25.00
  06MM20060523, OVIDE,   120,  1,      6,2,20060626,2047, 61.6680, -15.5000, 2306,   2120.8,   3.3250,  34.9480,2,-999.0000,3,    278.7,2,   -999.0,3,    11.43,2,    17.42,2,  -999.00,9,   -999.0,9,-999.0000,9,    25.00
  06MM20060523, OVIDE,   120,  1,      7,2,20060626,2047, 61.6680, -15.5000, 2306,   1998.1,   3.3620,  34.9250,2,  34.9240,2,    279.1,2,    280.2,2,    11.19,2,    17.93,2,  -999.00,9,   -999.0,9,   7.7250,2,    25.00
  06MM20060523, OVIDE,   120,  1,      8,2,20060626,2047, 61.6680, -15.5000, 2306,   1796.7,   3.5080,  34.9120,2,  34.9140,2,    276.6,2,    277.5,2,    11.23,2,    18.09,2,  -999.00,9,   -999.0,9,   7.7200,2,    25.00
  06MM20060523, OVIDE,   120,  1,      9,2,20060626,2047, 61.6680, -15.5000, 2306,   1594.1,   3.8190,  34.9380,2,-999.0000,3,    273.6,2,   -999.0,3,    10.74,2,    18.14,2,  -999.00,9,   -999.0,9,-999.0000,9,    25.00
  06MM20060523, OVIDE,   120,  1,     10,2,20060626,2047, 61.6680, -15.5000, 2306,   1392.6,   4.0530,  34.9410,2,  34.9390,2,    267.6,2,    267.1,2,    10.90,2,    18.65,2,  -999.00,9,   -999.0,9,   7.7130,2,    25.00
  06MM20060523, OVIDE,   120,  1,     11,2,20060626,2047, 61.6680, -15.5000, 2306,   1196.5,   4.7620,  34.9980,2,  34.9980,2,    251.7,2,    252.6,2,    11.11,2,    19.36,2,  -999.00,9,   -999.0,9,   7.7090,2,    25.00
  06MM20060523, OVIDE,   120,  1,     12,2,20060626,2047, 61.6680, -15.5000, 2306,    995.8,   5.9460,  35.1000,2,  35.1010,2,    223.9,2,    230.6,2,    11.15,2,    19.41,2,  -999.00,9,   -999.0,9,   7.7100,2,    25.00
  06MM20060523, OVIDE,   120,  1,     13,2,20060626,2047, 61.6680, -15.5000, 2306,    895.8,   6.6520,  35.1490,2,  35.1480,2,    218.0,2,    229.4,3,    10.78,2,    19.31,2,  -999.00,9,   -999.0,9,   7.7170,2,    25.00
  06MM20060523, OVIDE,   120,  1,     14,2,20060626,2047, 61.6680, -15.5000, 2306,    796.2,   7.3880,  35.1890,2,-999.0000,3,    221.5,2,   -999.0,3,     9.39,2,    18.14,2,  -999.00,9,   -999.0,9,-999.0000,9,    25.00
  06MM20060523, OVIDE,   120,  1,     15,2,20060626,2047, 61.6680, -15.5000, 2306,    697.1,   7.7080,  35.1890,2,  35.1880,2,    225.9,2,    272.9,3,     9.10,2,    18.29,2,  -999.00,9,   -999.0,9,   7.7400,2,    25.00
  06MM20060523, OVIDE,   120,  1,     16,2,20060626,2047, 61.6680, -15.5000, 2306,    595.3,   8.1940,  35.2240,2,-999.0000,3,    242.8,2,   -999.0,3,     7.80,2,    16.50,2,  -999.00,9,   -999.0,9,-999.0000,9,    25.00
  06MM20060523, OVIDE,   120,  1,     18,2,20060626,2047, 61.6680, -15.5000, 2306,    496.4,   8.4030,  35.2270,2,  35.2370,3,    231.5,2,    242.2,2,     7.55,2,    16.14,2,  -999.00,9,   -999.0,9,   7.7650,2,    25.00
  06MM20060523, OVIDE,   120,  1,     19,2,20060626,2047, 61.6680, -15.5000, 2306,    396.6,   8.7010,  35.2480,2,  35.2470,2,    251.5,2,    253.9,2,     6.65,2,    14.92,2,  -999.00,9,   -999.0,9,   7.7850,2,    25.00
  06MM20060523, OVIDE,   120,  1,     20,2,20060626,2047, 61.6680, -15.5000, 2306,    295.5,   9.0010,  35.2580,2,-999.0000,3,    255.1,2,   -999.0,3,     6.04,2,    14.05,2,  -999.00,9,   -999.0,9,-999.0000,9,    25.00
  06MM20060523, OVIDE,   120,  1,     21,2,20060626,2047, 61.6680, -15.5000, 2306,    196.3,   9.1960,  35.2590,2,  35.2590,2,    258.7,2,    255.7,2,     5.76,2,    13.89,2,  -999.00,9,   -999.0,9,   7.7980,2,    25.00
  06MM20060523, OVIDE,   120,  1,     22,2,20060626,2047, 61.6680, -15.5000, 2306,    147.1,   9.3570,  35.2590,2,-999.0000,3,    260.6,2,   -999.0,3,     4.74,2,    12.72,2,  -999.00,9,   -999.0,9,-999.0000,9,    25.00
  06MM20060523, OVIDE,   120,  1,     23,2,20060626,2047, 61.6680, -15.5000, 2306,     96.6,   9.6310,  35.2800,2,  35.2800,2,    264.2,2,    265.4,2,     3.92,2,    11.19,2,  -999.00,9,   -999.0,9,   7.8780,2,    25.00
  06MM20060523, OVIDE,   120,  1,     24,2,20060626,2047, 61.6680, -15.5000, 2306,     48.9,  10.3960,  35.2490,2,-999.0000,3,    273.1,2,   -999.0,3,     1.84,2,     6.28,2,  -999.00,9,   -999.0,9,-999.0000,9,    25.00
  06MM20060523, OVIDE,   120,  1,     25,2,20060626,2047, 61.6680, -15.5000, 2306,     12.5,  11.3310,  35.2690,2,  35.2710,2,    282.7,2,    284.3,2,     1.39,2,     3.93,2,  -999.00,9,   -999.0,9,   7.9150,2,    25.00