BOTTLE,20140930PRINUNIVRMK
EXPOCODE,SECT_ID,STNNBR,CASTNO,BTLNBR,BTLNBR_FLAG_W,DATE,TIME,LATITUDE,LONGITUDE,DEPTH,CTDPRS,CTDTMP,CTDSAL,CTDSAL_FLAG_W,SALNTY,SALNTY_FLAG_W,CTDOXY,CTDOXY_FLAG_W,OXYGEN,OXYGEN_FLAG_W,SILCAT,SILCAT_FLAG_W,NITRAT,NITRAT_FLAG_W,PHSPHT,PHSPHT_FLAG_W,ALKALI,ALKALI_FLAG_W,PH_SWS,PH_SWS_FLAG_W,PH_TMP
,,,,,,,,,,METERS,DBAR,ITS-90,PSS-78,,PSS-78,,UMOL/KG,,UMOL/KG,,UMOL/KG,,UMOL/KG,,UMOL/KG,,UMOL/KG,,,,DEG C
  06MM20060523, OVIDE,    99,  1,      3,2,20060616,0922, 59.7710, -41.3000, 2041,   2054.1,   2.3160,  34.8940,2,  34.8950,2,    299.8,2,    298.9,2,     8.45,2,    14.45,2,     0.89,2,   -999.0,9,-999.0000,9,    25.00
  06MM20060523, OVIDE,    99,  1,      4,2,20060616,0922, 59.7710, -41.3000, 2041,   1999.8,   2.3110,  34.8950,2,  34.8930,2,    300.3,2,    298.5,2,     8.37,2,    14.59,2,     0.89,2,   -999.0,9,-999.0000,9,    25.00
  06MM20060523, OVIDE,    99,  1,      5,2,20060616,0922, 59.7710, -41.3000, 2041,   1950.9,   2.3290,  34.8930,2,  34.8940,2,    299.9,2,    298.4,2,     8.37,2,    14.55,2,     0.89,2,   -999.0,9,-999.0000,9,    25.00
  06MM20060523, OVIDE,    99,  1,      6,2,20060616,0922, 59.7710, -41.3000, 2041,   1854.1,   2.4910,  34.8980,2,  34.8940,2,    296.6,2,    294.9,2,     8.89,2,    14.82,2,     0.93,2,   -999.0,9,-999.0000,9,    25.00
  06MM20060523, OVIDE,    99,  1,      7,2,20060616,0922, 59.7710, -41.3000, 2041,   1595.9,   3.0000,  34.9110,2,  34.9090,2,    288.9,2,    286.6,2,     9.92,2,    15.85,2,     0.98,2,   -999.0,9,-999.0000,9,    25.00
  06MM20060523, OVIDE,    99,  1,      8,2,20060616,0922, 59.7710, -41.3000, 2041,   1395.8,   3.2890,  34.9140,2,  34.9140,2,    286.1,2,    282.8,2,    10.08,2,    15.99,2,     1.01,2,   -999.0,9,-999.0000,9,    25.00
  06MM20060523, OVIDE,    99,  1,      9,2,20060616,0922, 59.7710, -41.3000, 2041,   1396.1,   3.2940,  34.9140,2,  34.9140,2,    286.1,2,    283.1,2,    10.16,2,    16.50,2,     1.02,2,   -999.0,9,-999.0000,9,    25.00
  06MM20060523, OVIDE,    99,  1,     10,2,20060616,0922, 59.7710, -41.3000, 2041,   1196.6,   3.5620,  34.9280,2,  34.9280,2,    281.4,2,    277.5,2,    10.20,2,    16.82,2,     1.04,2,   -999.0,9,-999.0000,9,    25.00
  06MM20060523, OVIDE,    99,  1,     11,2,20060616,0922, 59.7710, -41.3000, 2041,    995.9,   3.6560,  34.9160,2,  34.9150,2,    285.1,2,    279.2,2,     9.76,2,    16.82,2,     1.04,2,   -999.0,9,-999.0000,9,    25.00
  06MM20060523, OVIDE,    99,  1,     12,2,20060616,0922, 59.7710, -41.3000, 2041,    896.7,   3.6320,  34.8940,2,  34.8950,2,    285.3,2,    282.4,2,     9.56,2,    16.92,2,     1.02,2,   -999.0,9,-999.0000,9,    25.00
  06MM20060523, OVIDE,    99,  1,     13,2,20060616,0922, 59.7710, -41.3000, 2041,    795.7,   3.7610,  34.8990,2,  34.8960,2,    282.4,2,   -999.0,3,     9.48,2,    16.73,2,     1.04,2,   -999.0,9,-999.0000,9,    25.00
  06MM20060523, OVIDE,    99,  1,     14,2,20060616,0922, 59.7710, -41.3000, 2041,    694.7,   3.9400,  34.9100,2,  34.9080,2,    279.1,2,    278.1,2,     9.52,2,    17.19,2,     1.06,2,   -999.0,9,-999.0000,9,    25.00
  06MM20060523, OVIDE,    99,  1,     15,2,20060616,0922, 59.7710, -41.3000, 2041,    596.3,   4.1740,  34.9180,2,  34.9170,2,    280.1,2,    278.9,2,     9.28,2,    17.10,2,     1.05,2,   -999.0,9,-999.0000,9,    25.00
  06MM20060523, OVIDE,    99,  1,     16,2,20060616,0922, 59.7710, -41.3000, 2041,    495.4,   4.4000,  34.9310,2,  34.9300,2,    282.8,2,    280.4,2,     8.96,2,    16.96,2,     1.04,2,   -999.0,9,-999.0000,9,    25.00
  06MM20060523, OVIDE,    99,  1,     17,2,20060616,0922, 59.7710, -41.3000, 2041,    395.2,   4.6360,  34.9440,2,  34.9410,2,    287.8,2,    286.8,2,     8.33,2,    16.17,2,     0.98,2,   -999.0,9,-999.0000,9,    25.00
  06MM20060523, OVIDE,    99,  1,     18,2,20060616,0922, 59.7710, -41.3000, 2041,    294.8,   4.9800,  34.9800,2,  34.9770,2,    296.5,2,    295.1,2,     8.01,2,    16.03,2,     0.98,2,   -999.0,9,-999.0000,9,    25.00
  06MM20060523, OVIDE,    99,  1,     19,2,20060616,0922, 59.7710, -41.3000, 2041,    194.2,   4.7490,  34.9160,2,  34.9230,3,    292.9,2,    292.1,2,     8.13,2,    15.75,2,     1.01,2,   -999.0,9,-999.0000,9,    25.00
  06MM20060523, OVIDE,    99,  1,     20,2,20060616,0922, 59.7710, -41.3000, 2041,    146.5,   4.7620,  34.9000,2,  34.8980,2,    289.7,2,    295.3,2,     8.01,2,    16.08,2,     1.02,2,   -999.0,9,-999.0000,9,    25.00
  06MM20060523, OVIDE,    99,  1,     21,2,20060616,0922, 59.7710, -41.3000, 2041,     95.6,   5.0430,  34.9100,2,  34.9080,2,    290.1,2,    286.7,2,     7.89,2,    16.08,2,     1.02,2,   -999.0,9,-999.0000,9,    25.00
  06MM20060523, OVIDE,    99,  1,     22,2,20060616,0922, 59.7710, -41.3000, 2041,     76.8,   6.1360,  34.8850,2,  34.8970,3,    293.8,2,    298.4,2,     5.63,2,    10.13,2,     0.75,2,   -999.0,9,-999.0000,9,    25.00
  06MM20060523, OVIDE,    99,  1,     23,2,20060616,0922, 59.7710, -41.3000, 2041,     54.6,   6.5450,  34.8850,2,  34.8870,2,    304.9,2,    304.5,2,     4.36,2,     6.78,2,     0.57,2,   -999.0,9,-999.0000,9,    25.00
  06MM20060523, OVIDE,    99,  1,     24,2,20060616,0922, 59.7710, -41.3000, 2041,     36.5,   6.5710,  34.8820,2,  34.8770,2,    309.7,2,    306.1,2,     4.17,2,     6.04,2,     0.53,2,   -999.0,9,-999.0000,9,    25.00
  06MM20060523, OVIDE,    99,  1,     25,2,20060616,0922, 59.7710, -41.3000, 2041,     17.6,   6.6140,  34.8610,2,  34.8590,2,    306.7,2,    309.4,2,     3.73,2,     5.62,2,     0.51,2,   -999.0,9,-999.0000,9,    25.00
  06MM20060523, OVIDE,    99,  1,     26,2,20060616,0922, 59.7710, -41.3000, 2041,     12.5,   6.6150,  34.8580,2,  34.8560,2,    304.5,2,    309.3,2,     3.69,2,     5.48,2,     0.50,2,   -999.0,9,-999.0000,9,    25.00
  06MM20060523, OVIDE,   100,  1,      3,2,20060617,2307, 59.6540, -41.7970, 1875,   1888.4,   2.6340,  34.9050,2,  34.9040,2,    292.1,2,    292.3,2,  -999.00,9,  -999.00,9,  -999.00,9,   -999.0,9,-999.0000,9,    25.00
  06MM20060523, OVIDE,   100,  1,      4,2,20060617,2307, 59.6540, -41.7970, 1875,   1839.6,   2.6400,  34.9060,2,  34.9050,2,    291.8,2,    291.7,2,  -999.00,9,  -999.00,9,  -999.00,9,   -999.0,9,-999.0000,9,    25.00
  06MM20060523, OVIDE,   100,  1,      5,2,20060617,2307, 59.6540, -41.7970, 1875,   1787.1,   2.7080,  34.9050,2,  34.9030,2,    291.7,2,    291.0,2,  -999.00,9,  -999.00,9,  -999.00,9,   -999.0,9,-999.0000,9,    25.00
  06MM20060523, OVIDE,   100,  1,      6,2,20060617,2307, 59.6540, -41.7970, 1875,   1687.0,   2.8890,  34.9090,2,  34.9070,2,    288.4,2,    288.4,2,  -999.00,9,  -999.00,9,  -999.00,9,   -999.0,9,-999.0000,9,    25.00
  06MM20060523, OVIDE,   100,  1,      7,2,20060617,2307, 59.6540, -41.7970, 1875,   1594.7,   3.0730,  34.9180,2,  34.9180,2,    282.5,2,    283.4,2,  -999.00,9,  -999.00,9,  -999.00,9,   -999.0,9,-999.0000,9,    25.00
  06MM20060523, OVIDE,   100,  1,      8,2,20060617,2307, 59.6540, -41.7970, 1875,   1395.3,   3.2470,  34.9140,2,  34.9140,2,    283.0,2,    282.8,2,  -999.00,9,  -999.00,9,  -999.00,9,   -999.0,9,-999.0000,9,    25.00
  06MM20060523, OVIDE,   100,  1,      9,2,20060617,2307, 59.6540, -41.7970, 1875,   1195.6,   3.4570,  34.9150,2,  34.9150,2,    283.6,2,    283.1,2,  -999.00,9,  -999.00,9,  -999.00,9,   -999.0,9,-999.0000,9,    25.00
  06MM20060523, OVIDE,   100,  1,     10,2,20060617,2307, 59.6540, -41.7970, 1875,    994.5,   3.6390,  34.9180,2,  34.9160,2,    280.1,2,    280.5,2,  -999.00,9,  -999.00,9,  -999.00,9,   -999.0,9,-999.0000,9,    25.00
  06MM20060523, OVIDE,   100,  1,     11,2,20060617,2307, 59.6540, -41.7970, 1875,    994.7,   3.6400,  34.9170,2,  34.9160,2,    280.1,2,    279.8,2,  -999.00,9,  -999.00,9,  -999.00,9,   -999.0,9,-999.0000,9,    25.00
  06MM20060523, OVIDE,   100,  1,     12,2,20060617,2307, 59.6540, -41.7970, 1875,    896.2,   3.7120,  34.9110,2,  34.9090,2,    281.2,2,    281.1,2,  -999.00,9,  -999.00,9,  -999.00,9,   -999.0,9,-999.0000,9,    25.00
  06MM20060523, OVIDE,   100,  1,     13,2,20060617,2307, 59.6540, -41.7970, 1875,    796.6,   3.8910,  34.9170,2,  34.9160,2,    280.2,2,    280.4,2,  -999.00,9,  -999.00,9,  -999.00,9,   -999.0,9,-999.0000,9,    25.00
  06MM20060523, OVIDE,   100,  1,     14,2,20060617,2307, 59.6540, -41.7970, 1875,    695.2,   4.0610,  34.9220,2,  34.9220,2,    278.0,2,    278.0,2,  -999.00,9,  -999.00,9,  -999.00,9,   -999.0,9,-999.0000,9,    25.00
  06MM20060523, OVIDE,   100,  1,     15,2,20060617,2307, 59.6540, -41.7970, 1875,    595.1,   4.2740,  34.9270,2,  34.9250,2,    277.8,2,    278.8,2,  -999.00,9,  -999.00,9,  -999.00,9,   -999.0,9,-999.0000,9,    25.00
  06MM20060523, OVIDE,   100,  1,     16,2,20060617,2307, 59.6540, -41.7970, 1875,    496.0,   4.5740,  34.9390,2,  34.9360,2,    281.6,2,    281.2,2,  -999.00,9,  -999.00,9,  -999.00,9,   -999.0,9,-999.0000,9,    25.00
  06MM20060523, OVIDE,   100,  1,     17,2,20060617,2307, 59.6540, -41.7970, 1875,    396.1,   4.9370,  34.9700,2,  34.9680,2,    285.8,2,    285.4,2,  -999.00,9,  -999.00,9,  -999.00,9,   -999.0,9,-999.0000,9,    25.00
  06MM20060523, OVIDE,   100,  1,     18,2,20060617,2307, 59.6540, -41.7970, 1875,    295.8,   5.1030,  34.9790,2,  34.9780,2,    288.4,2,    286.5,2,  -999.00,9,  -999.00,9,  -999.00,9,   -999.0,9,-999.0000,9,    25.00
  06MM20060523, OVIDE,   100,  1,     19,2,20060617,2307, 59.6540, -41.7970, 1875,    192.8,   5.4040,  35.0000,2,  34.9920,3,    285.2,2,    286.9,2,  -999.00,9,  -999.00,9,  -999.00,9,   -999.0,9,-999.0000,9,    25.00
  06MM20060523, OVIDE,   100,  1,     20,2,20060617,2307, 59.6540, -41.7970, 1875,    135.3,   5.6750,  35.0070,2,  35.0060,2,    284.9,2,    286.4,2,  -999.00,9,  -999.00,9,  -999.00,9,   -999.0,9,-999.0000,9,    25.00
  06MM20060523, OVIDE,   100,  1,     21,2,20060617,2307, 59.6540, -41.7970, 1875,     96.5,   5.7150,  34.9890,2,  34.9900,2,    289.5,2,    288.3,2,  -999.00,9,  -999.00,9,  -999.00,9,   -999.0,9,-999.0000,9,    25.00
  06MM20060523, OVIDE,   100,  1,     22,2,20060617,2307, 59.6540, -41.7970, 1875,     43.9,   6.2690,  34.8310,2,  34.8420,3,    311.6,2,    311.3,2,  -999.00,9,  -999.00,9,  -999.00,9,   -999.0,9,-999.0000,9,    25.00
  06MM20060523, OVIDE,   100,  1,     23,2,20060617,2307, 59.6540, -41.7970, 1875,      5.8,   4.7400,  33.9840,2,  34.2040,3,    318.5,2,    326.7,3,  -999.00,9,  -999.00,9,  -999.00,9,   -999.0,9,-999.0000,9,    25.00
  06MM20060523, OVIDE,   101,  1,      3,2,20060617,0807, 59.0250, -39.8160, 3034,   3068.2,   1.4830,  34.9070,2,  34.9050,2,    302.6,2,    302.3,2,     8.37,2,    14.46,2,     0.90,2,   2298.6,2,   7.7230,2,    25.00
  06MM20060523, OVIDE,   101,  1,      4,2,20060617,0807, 59.0250, -39.8160, 3034,   3015.3,   1.4860,  34.9060,2,  34.9040,2,    301.6,2,    301.9,2,     8.33,2,    14.36,2,     0.88,2,   -999.0,9,   7.7230,2,    25.00
  06MM20060523, OVIDE,   101,  1,      5,2,20060617,0807, 59.0250, -39.8160, 3034,   2966.3,   1.7740,  34.9020,2,  34.9010,2,    299.2,2,    286.5,3,     8.49,2,    14.56,2,     0.91,2,   2299.0,2,   7.7240,2,    25.00
  06MM20060523, OVIDE,   101,  1,      6,2,20060617,0807, 59.0250, -39.8160, 3034,   2866.4,   2.2660,  34.9070,2,  34.9040,2,    294.0,2,    293.9,2,     9.40,2,    15.12,2,     0.92,2,   -999.0,9,   7.7280,2,    25.00
  06MM20060523, OVIDE,   101,  1,      7,2,20060617,0807, 59.0250, -39.8160, 3034,   2745.8,   2.6140,  34.9220,2,  34.9180,2,    284.4,2,    283.2,2,    12.38,2,    16.55,2,     1.01,2,   2303.1,2,   7.7280,2,    25.00
  06MM20060523, OVIDE,   101,  1,      8,2,20060617,0807, 59.0250, -39.8160, 3034,   2496.4,   2.9070,  34.9300,2,  34.9280,2,    279.1,2,    279.6,2,    12.62,2,    17.01,2,     1.04,2,   2303.3,2,   7.7290,2,    25.00
  06MM20060523, OVIDE,   101,  1,      9,2,20060617,0807, 59.0250, -39.8160, 3034,   2244.8,   3.0480,  34.9270,2,  34.9240,2,    278.9,2,    279.9,2,    11.90,2,    17.12,2,     1.07,2,   2301.1,2,   7.7290,2,    25.00
  06MM20060523, OVIDE,   101,  1,     10,2,20060617,0807, 59.0250, -39.8160, 3034,   1994.6,   3.1860,  34.9260,2,  34.9250,2,    279.1,2,    281.0,2,    11.35,2,    17.17,2,     1.06,2,   2299.5,2,   7.7270,2,    25.00
  06MM20060523, OVIDE,   101,  1,     11,2,20060617,0807, 59.0250, -39.8160, 3034,   1794.5,   3.2450,  34.9100,2,  34.9140,2,    280.9,2,    282.0,2,    10.79,2,    17.27,2,     1.07,2,   2300.5,2,   7.7260,2,    25.00
  06MM20060523, OVIDE,   101,  1,     12,2,20060617,0807, 59.0250, -39.8160, 3034,   1596.9,   3.3440,  34.9060,2,  34.9070,2,    278.7,2,    280.9,2,    10.79,2,    17.32,2,     1.08,2,   2300.2,2,   7.7250,2,    25.00
  06MM20060523, OVIDE,   101,  1,     13,2,20060617,0807, 59.0250, -39.8160, 3034,   1595.9,   3.3440,  34.9070,2,  34.9050,2,    278.6,2,    281.4,2,    10.79,2,    17.37,2,     1.08,2,   2300.3,2,   7.7240,2,    25.00
  06MM20060523, OVIDE,   101,  1,     14,2,20060617,0807, 59.0250, -39.8160, 3034,   1395.6,   3.4960,  34.9110,2,  34.9100,2,    276.9,2,    278.7,2,    10.55,2,    17.47,2,     1.09,2,   2300.2,2,   7.7220,2,    25.00
  06MM20060523, OVIDE,   101,  1,     15,2,20060617,0807, 59.0250, -39.8160, 3034,   1195.2,   3.5290,  34.8910,2,  34.8900,2,    282.3,2,    282.7,2,    10.08,2,    17.27,2,     1.09,2,   2297.4,2,   7.7190,2,    25.00
  06MM20060523, OVIDE,   101,  1,     16,2,20060617,0807, 59.0250, -39.8160, 3034,    994.8,   3.5280,  34.8770,2,  34.8730,2,    288.2,2,    289.3,2,     9.48,2,    16.91,2,     1.07,2,   2298.2,2,   7.7200,2,    25.00
  06MM20060523, OVIDE,   101,  1,     17,2,20060617,0807, 59.0250, -39.8160, 3034,    895.5,   3.5410,  34.8710,2,  34.8670,2,    290.9,2,    291.8,2,     9.16,2,    16.81,2,     1.07,2,   -999.0,9,   7.7200,2,    25.00
  06MM20060523, OVIDE,   101,  1,     18,2,20060617,0807, 59.0250, -39.8160, 3034,    796.6,   3.6310,  34.8780,2,  34.8770,2,    289.5,2,    290.6,2,     9.28,2,    16.50,2,     1.07,2,   2297.1,2,   7.7210,2,    25.00
  06MM20060523, OVIDE,   101,  1,     19,2,20060617,0807, 59.0250, -39.8160, 3034,    695.0,   3.8030,  34.8950,2,  34.8930,2,    281.8,2,    283.6,2,     9.52,2,    17.12,2,     1.09,2,   -999.0,9,   7.7180,2,    25.00
  06MM20060523, OVIDE,   101,  1,     20,2,20060617,0807, 59.0250, -39.8160, 3034,    596.0,   3.9460,  34.9030,2,  34.9020,2,    281.0,2,    279.0,2,     9.48,2,    17.12,2,     1.08,2,   2298.7,2,   7.7190,2,    25.00
  06MM20060523, OVIDE,   101,  1,     21,2,20060617,0807, 59.0250, -39.8160, 3034,    496.3,   4.0930,  34.9090,2,  34.9070,2,    284.4,2,    284.1,2,     9.12,2,    16.86,2,     1.08,2,   2302.0,2,   7.7240,2,    25.00
  06MM20060523, OVIDE,   101,  1,     22,2,20060617,0807, 59.0250, -39.8160, 3034,    396.6,   4.2490,  34.9120,2,  34.9080,2,    285.6,2,    287.3,2,     8.93,2,    16.71,2,     1.07,2,   2302.9,2,   7.7250,2,    25.00
  06MM20060523, OVIDE,   101,  1,     23,2,20060617,0807, 59.0250, -39.8160, 3034,    296.4,   4.4690,  34.9230,2,  34.9210,2,    285.9,2,    285.8,2,     8.81,2,    16.76,2,     1.07,2,   -999.0,9,   7.7270,2,    25.00
  06MM20060523, OVIDE,   101,  1,     24,2,20060617,0807, 59.0250, -39.8160, 3034,    196.2,   4.5760,  34.9040,2,  34.9000,2,    293.3,2,    292.7,2,     8.41,2,    16.04,2,     1.03,2,   2300.3,2,   7.7320,2,    25.00
  06MM20060523, OVIDE,   101,  1,     25,2,20060617,0807, 59.0250, -39.8160, 3034,    146.6,   4.4610,  34.8700,2,  34.8670,2,    289.2,2,    297.8,3,     7.97,2,    15.74,2,     1.03,2,   -999.0,9,   7.7300,2,    25.00
  06MM20060523, OVIDE,   101,  1,     26,2,20060617,0807, 59.0250, -39.8160, 3034,     96.8,   4.4940,  34.8470,2,  34.8490,2,    288.9,2,    297.3,3,     7.62,2,    15.23,2,     1.01,2,   2299.6,2,   7.7280,2,    25.00
  06MM20060523, OVIDE,   101,  1,     27,2,20060617,0807, 59.0250, -39.8160, 3034,     46.7,   7.3470,  34.9200,2,  34.9180,2,    290.2,2,    299.2,3,     5.00,2,     9.81,2,     0.66,2,   -999.0,9,   7.8230,2,    25.00
  06MM20060523, OVIDE,   101,  1,     28,2,20060617,0807, 59.0250, -39.8160, 3034,     13.6,   7.3540,  34.9180,2,  34.9200,2,    282.5,2,    299.4,3,     4.92,2,     9.50,2,     0.67,2,   2306.7,2,   7.8270,2,    25.00