BOTTLE,20140930PRINUNIVRMK
EXPOCODE,SECT_ID,STNNBR,CASTNO,BTLNBR,BTLNBR_FLAG_W,DATE,TIME,LATITUDE,LONGITUDE,DEPTH,CTDPRS,CTDTMP,CTDSAL,CTDSAL_FLAG_W,SALNTY,SALNTY_FLAG_W,CTDOXY,CTDOXY_FLAG_W,OXYGEN,OXYGEN_FLAG_W,SILCAT,SILCAT_FLAG_W,NITRAT,NITRAT_FLAG_W,PHSPHT,PHSPHT_FLAG_W,ALKALI,ALKALI_FLAG_W,PH_SWS,PH_SWS_FLAG_W,PH_TMP
,,,,,,,,,,METERS,DBAR,ITS-90,PSS-78,,PSS-78,,UMOL/KG,,UMOL/KG,,UMOL/KG,,UMOL/KG,,UMOL/KG,,UMOL/KG,,,,DEG C
  06MM20060523, OVIDE,    57,  1,      3,2,20060608,1346, 54.0150, -25.5360, 3068,   3100.5,   2.7170,  34.9440,2,  34.9410,2,    259.5,2,    259.1,2,    30.88,2,    18.85,2,     1.16,2,   2326.4,2,   7.7270,2,    25.00
  06MM20060523, OVIDE,    57,  1,      4,2,20060608,1346, 54.0150, -25.5360, 3068,   2995.4,   2.7440,  34.9460,2,  34.9440,2,    259.4,2,    262.3,2,    19.83,2,    17.79,2,     1.03,2,   2322.1,2,   7.7290,2,    25.00
  06MM20060523, OVIDE,    57,  1,      5,2,20060608,1346, 54.0150, -25.5360, 3068,   2746.0,   2.9030,  34.9450,2,  34.9440,2,    267.1,2,    267.6,2,    20.14,2,    17.93,2,     1.06,2,   -999.0,9,   7.7280,2,    25.00
  06MM20060523, OVIDE,    57,  1,      6,2,20060608,1346, 54.0150, -25.5360, 3068,   2747.4,   2.9040,  34.9460,2,  34.9440,2,    267.0,2,    267.5,2,    19.92,2,    17.79,2,     1.04,2,   2315.8,2,   7.7290,2,    25.00
  06MM20060523, OVIDE,    57,  1,      7,2,20060608,1346, 54.0150, -25.5360, 3068,   2496.2,   3.0930,  34.9300,2,  34.9280,2,    275.9,2,    277.0,2,    14.09,2,    17.06,2,     0.95,2,   2304.8,2,   7.7250,2,    25.00
  06MM20060523, OVIDE,    57,  1,      8,2,20060608,1346, 54.0150, -25.5360, 3068,   2246.0,   3.2000,  34.9150,2,  34.9120,2,    278.7,2,    279.4,2,    12.76,2,    17.15,2,     1.01,2,   2302.7,2,   7.7260,2,    25.00
  06MM20060523, OVIDE,    57,  1,      9,2,20060608,1346, 54.0150, -25.5360, 3068,   2093.4,   3.2440,  34.9060,2,  34.9050,2,    280.6,2,    280.5,2,    12.06,2,    17.11,2,     0.98,2,   2303.9,2,   7.7270,2,    25.00
  06MM20060523, OVIDE,    57,  1,     10,2,20060608,1346, 54.0150, -25.5360, 3068,   1796.0,   3.3870,  34.9010,2,  34.9020,2,    277.3,2,    279.6,2,    11.52,2,    17.43,2,     0.97,2,   2303.5,2,   7.7220,2,    25.00
  06MM20060523, OVIDE,    57,  1,     11,2,20060608,1346, 54.0150, -25.5360, 3068,   1597.3,   3.5090,  34.9040,2,  34.9030,2,    277.5,2,    278.2,2,    11.35,2,    17.34,2,     0.96,2,   2303.3,2,   7.7210,2,    25.00
  06MM20060523, OVIDE,    57,  1,     12,2,20060608,1346, 54.0150, -25.5360, 3068,   1315.7,   3.6700,  34.9000,2,  34.8980,2,    279.8,2,    280.5,2,    11.04,2,    17.29,2,     0.98,2,   2302.2,2,   7.7180,2,    25.00
  06MM20060523, OVIDE,    57,  1,     13,2,20060608,1346, 54.0150, -25.5360, 3068,   1195.7,   3.7870,  34.9080,2,  34.9070,2,    273.6,2,    275.1,2,    10.69,2,    17.48,2,     1.01,2,   2304.3,2,   7.7160,2,    25.00
  06MM20060523, OVIDE,    57,  1,     14,2,20060608,1346, 54.0150, -25.5360, 3068,   1075.6,   3.8960,  34.9120,2,  34.9090,2,    274.5,2,    273.9,2,    10.51,2,    17.48,2,     1.04,2,   2304.2,2,   7.7140,2,    25.00
  06MM20060523, OVIDE,    57,  1,     15,2,20060608,1346, 54.0150, -25.5360, 3068,    895.7,   4.3820,  34.9590,2,  34.9560,2,    263.7,2,    262.0,2,    10.73,2,    17.75,2,     1.04,2,   -999.0,9,   7.7110,2,    25.00
  06MM20060523, OVIDE,    57,  1,     16,2,20060608,1346, 54.0150, -25.5360, 3068,    796.3,   4.4400,  34.9460,2,  34.9420,2,    259.2,2,    260.1,2,    10.64,2,    17.75,2,     1.04,2,   2307.1,2,   7.7080,2,    25.00
  06MM20060523, OVIDE,    57,  1,     17,2,20060608,1346, 54.0150, -25.5360, 3068,    695.0,   4.7380,  34.9480,2,  34.9400,3,    255.9,2,    254.2,2,    10.69,2,    18.16,2,     1.04,2,   -999.0,9,   7.7030,2,    25.00
  06MM20060523, OVIDE,    57,  1,     18,2,20060608,1346, 54.0150, -25.5360, 3068,    595.6,   5.2000,  34.9650,2,  34.9600,2,    238.2,2,    240.7,2,    11.04,2,    18.71,2,     1.08,2,   2310.4,2,   7.6990,2,    25.00
  06MM20060523, OVIDE,    57,  1,     19,2,20060608,1346, 54.0150, -25.5360, 3068,    496.0,   6.5670,  35.0850,2,  35.0860,2,    216.1,2,    218.3,2,    11.13,2,    19.12,2,     1.08,2,   2317.5,2,   7.7060,2,    25.00
  06MM20060523, OVIDE,    57,  1,     20,2,20060608,1346, 54.0150, -25.5360, 3068,    398.1,   7.5100,  35.0900,2,  35.0870,2,    210.7,2,    211.8,2,    10.42,2,    18.84,2,     1.07,2,   2317.5,2,   7.7140,2,    25.00
  06MM20060523, OVIDE,    57,  1,     21,2,20060608,1346, 54.0150, -25.5360, 3068,    315.5,   8.3310,  35.0780,2,  35.0810,2,    213.4,2,    207.9,2,     9.49,2,    18.16,2,     1.04,2,   -999.0,9,   7.7260,2,    25.00
  06MM20060523, OVIDE,    57,  1,     22,2,20060608,1346, 54.0150, -25.5360, 3068,    227.0,   9.7450,  35.2420,2,  35.2380,2,    264.7,2,    262.4,2,     4.90,2,    11.34,2,     0.61,2,   2322.6,2,   7.8200,2,    25.00
  06MM20060523, OVIDE,    57,  1,     23,2,20060608,1346, 54.0150, -25.5360, 3068,    147.3,   9.8820,  35.2600,2,  35.2590,2,    259.3,2,    265.2,2,     4.33,2,    11.16,2,     0.64,2,   -999.0,9,   7.8230,2,    25.00
  06MM20060523, OVIDE,    57,  1,     24,2,20060608,1346, 54.0150, -25.5360, 3068,     97.3,   9.7660,  35.1460,2,  35.1520,2,    241.9,2,    244.1,2,     5.12,2,    12.67,2,     0.74,2,   2320.1,2,   7.8060,2,    25.00
  06MM20060523, OVIDE,    57,  1,     25,2,20060608,1346, 54.0150, -25.5360, 3068,     46.8,  10.8520,  35.2470,2,  35.2490,2,    273.4,2,    262.1,3,     1.68,2,     8.41,2,     0.51,2,   -999.0,9,   7.8620,2,    25.00
  06MM20060523, OVIDE,    57,  1,     26,2,20060608,1346, 54.0150, -25.5360, 3068,      7.9,  11.8610,  35.1940,2,  35.2020,3,    278.0,2,    282.3,2,     0.71,2,     3.75,2,     0.31,2,   2325.3,2,   7.9180,2,    25.00
  06MM20060523, OVIDE,    58,  1,      3,2,20060608,1843, 54.3870, -25.8270, 3052,   3082.5,   2.6870,  34.9430,2,  34.9400,2,    259.3,2,   -999.0,3,    19.43,2,    17.62,2,     1.12,2,   -999.0,9,   7.7260,2,    25.00
  06MM20060523, OVIDE,    58,  1,      4,2,20060608,1843, 54.3870, -25.8270, 3052,   2744.9,   2.8770,  34.9510,2,  34.9480,2,    269.6,2,   -999.0,3,    15.30,2,    17.04,2,     1.06,2,   -999.0,9,   7.7230,2,    25.00
  06MM20060523, OVIDE,    58,  1,      5,2,20060608,1843, 54.3870, -25.8270, 3052,   2496.4,   2.9970,  34.9420,2,  34.9390,2,    274.0,2,    274.0,2,    13.71,2,    17.04,2,     1.08,2,   -999.0,9,   7.7280,2,    25.00
  06MM20060523, OVIDE,    58,  1,      6,2,20060608,1843, 54.3870, -25.8270, 3052,   2246.2,   3.1170,  34.9250,2,  34.9220,2,    277.9,2,    277.1,2,    12.20,2,    17.09,2,     0.99,2,   -999.0,9,   7.7290,2,    25.00
  06MM20060523, OVIDE,    58,  1,      7,2,20060608,1843, 54.3870, -25.8270, 3052,   1995.9,   3.2950,  34.9040,2,  34.9030,2,    280.4,2,    279.2,2,    12.20,2,    17.28,2,     1.06,2,   -999.0,9,   7.7290,2,    25.00
  06MM20060523, OVIDE,    58,  1,      8,2,20060608,1843, 54.3870, -25.8270, 3052,   1997.7,   3.2950,  34.9050,2,  34.9030,2,    280.6,2,    276.5,2,    11.53,2,    17.43,2,     1.08,2,   -999.0,9,   7.7270,2,    25.00
  06MM20060523, OVIDE,    58,  1,      9,2,20060608,1843, 54.3870, -25.8270, 3052,   1796.9,   3.3850,  34.9020,2,  34.9000,2,    279.0,2,    279.1,2,    11.27,2,    17.62,2,     1.00,2,   -999.0,9,   7.7240,2,    25.00
  06MM20060523, OVIDE,    58,  1,     10,2,20060608,1843, 54.3870, -25.8270, 3052,   1595.6,   3.5170,  34.9060,2,  34.9040,2,    278.3,2,    277.3,2,    11.09,2,    17.82,2,     1.02,2,   -999.0,9,   7.7220,2,    25.00
  06MM20060523, OVIDE,    58,  1,     11,2,20060608,1843, 54.3870, -25.8270, 3052,   1396.1,   3.6730,  34.9110,2,  34.9080,2,    277.6,2,    274.7,2,    10.74,2,    17.67,2,     1.05,2,   -999.0,9,   7.7180,2,    25.00
  06MM20060523, OVIDE,    58,  1,     12,2,20060608,1843, 54.3870, -25.8270, 3052,   1195.8,   3.7890,  34.9070,2,  34.9050,2,    276.3,2,    274.1,2,    11.27,2,    18.11,2,     1.02,2,   -999.0,9,   7.7180,2,    25.00
  06MM20060523, OVIDE,    58,  1,     13,2,20060608,1843, 54.3870, -25.8270, 3052,    995.4,   4.0990,  34.9300,2,  34.9260,2,    267.3,2,    267.0,2,    11.49,2,    18.36,2,     1.00,2,   -999.0,9,   7.7130,2,    25.00
  06MM20060523, OVIDE,    58,  1,     14,2,20060608,1843, 54.3870, -25.8270, 3052,    894.9,   4.5320,  34.9720,2,  34.9710,2,    258.8,2,    256.1,2,    11.44,2,    18.55,2,     1.06,2,   -999.0,9,   7.7060,2,    25.00
  06MM20060523, OVIDE,    58,  1,     15,2,20060608,1843, 54.3870, -25.8270, 3052,    797.4,   4.9310,  35.0060,2,  35.0040,2,    247.9,2,    247.3,2,    10.87,2,    18.65,2,     1.09,2,   -999.0,9,   7.7090,2,    25.00
  06MM20060523, OVIDE,    58,  1,     16,2,20060608,1843, 54.3870, -25.8270, 3052,    696.1,   5.0430,  34.9730,2,  34.9730,2,    244.5,2,    244.9,2,    10.96,2,    17.72,2,     1.09,2,   -999.0,9,   7.7040,2,    25.00
  06MM20060523, OVIDE,    58,  1,     17,2,20060608,1843, 54.3870, -25.8270, 3052,    595.6,   5.6100,  34.9820,2,  34.9830,2,    232.2,2,    233.2,2,    11.09,2,    18.31,2,     1.12,2,   -999.0,9,   7.6990,2,    25.00
  06MM20060523, OVIDE,    58,  1,     18,2,20060608,1843, 54.3870, -25.8270, 3052,    495.7,   6.7640,  35.0640,2,  35.0630,2,    215.2,2,    215.4,2,    11.00,2,    18.60,2,     1.17,2,   -999.0,9,   7.7050,2,    25.00
  06MM20060523, OVIDE,    58,  1,     19,2,20060608,1843, 54.3870, -25.8270, 3052,    396.3,   7.5530,  35.0740,2,  35.0710,2,    206.8,2,    207.5,2,    10.56,2,    18.55,2,     1.16,2,   -999.0,9,   7.7120,2,    25.00
  06MM20060523, OVIDE,    58,  1,     20,2,20060608,1843, 54.3870, -25.8270, 3052,    348.1,   7.9420,  35.0610,2,  35.0610,2,    198.9,2,    199.4,2,    10.56,2,    18.75,2,     1.15,2,   -999.0,9,   7.7100,2,    25.00
  06MM20060523, OVIDE,    58,  1,     21,2,20060608,1843, 54.3870, -25.8270, 3052,    296.4,   8.6090,  35.1060,2,  35.1020,2,    227.1,2,    197.1,3,     9.85,2,    18.16,2,     1.12,2,   -999.0,9,   7.7240,2,    25.00
  06MM20060523, OVIDE,    58,  1,     22,2,20060608,1843, 54.3870, -25.8270, 3052,    195.1,   9.1140,  35.0480,2,  35.0410,3,    238.0,2,    238.8,2,     6.39,2,    12.88,2,     0.81,2,   -999.0,9,   7.7590,2,    25.00
  06MM20060523, OVIDE,    58,  1,     23,2,20060608,1843, 54.3870, -25.8270, 3052,    145.9,   9.6520,  35.1250,2,  35.1170,3,    263.4,2,    244.9,3,     5.10,2,    11.80,2,     0.71,2,   -999.0,9,   7.8040,2,    25.00
  06MM20060523, OVIDE,    58,  1,     24,2,20060608,1843, 54.3870, -25.8270, 3052,     96.2,  10.1790,  35.1990,2,  35.2010,2,    257.9,2,    255.8,2,     3.15,2,     9.64,2,     0.62,2,   -999.0,9,   7.8310,2,    25.00
  06MM20060523, OVIDE,    58,  1,     25,2,20060608,1843, 54.3870, -25.8270, 3052,     47.2,  10.8980,  35.2260,2,  35.2170,3,    278.9,2,    270.8,3,     0.62,2,     5.04,2,     0.44,2,   -999.0,9,   7.8790,2,    25.00
  06MM20060523, OVIDE,    58,  1,     26,2,20060608,1843, 54.3870, -25.8270, 3052,     16.3,  11.9230,  35.2420,2,  35.2410,2,    277.2,2,    280.8,2,     0.53,2,     3.04,2,     0.29,2,   -999.0,9,   7.9230,2,    25.00
  06MM20060523, OVIDE,    59,  1,      3,2,20060608,0152, 54.7620, -26.1220, 3611,   3660.2,   2.7680,  34.9490,2,  34.9500,2,    259.3,2,    260.7,2,    36.33,2,    19.82,2,     1.11,2,   2330.5,2,   7.7210,2,    25.00
  06MM20060523, OVIDE,    59,  1,      4,2,20060608,0152, 54.7620, -26.1220, 3611,   3659.5,   2.7680,  34.9500,2,-999.0000,3,    259.3,2,    259.2,2,  -999.00,9,  -999.00,9,  -999.00,9,   -999.0,9,   7.7220,2,    25.00
  06MM20060523, OVIDE,    59,  1,      5,2,20060608,0152, 54.7620, -26.1220, 3611,   3496.2,   2.7910,  34.9510,2,  34.9500,2,    264.8,2,    262.2,2,    36.33,2,    18.97,2,     1.11,2,   2324.7,2,   7.7200,2,    25.00
  06MM20060523, OVIDE,    59,  1,      6,2,20060608,0152, 54.7620, -26.1220, 3611,   3246.6,   2.8320,  34.9520,2,  34.9510,2,    267.6,2,    266.5,2,    30.27,2,    18.12,2,     1.04,2,   2320.2,2,   7.7240,2,    25.00
  06MM20060523, OVIDE,    59,  1,      7,2,20060608,0152, 54.7620, -26.1220, 3611,   2997.1,   2.9430,  34.9520,2,  34.9510,2,    271.7,2,    271.8,2,    16.38,2,    17.87,2,     1.04,2,   2310.8,2,   7.7230,2,    25.00
  06MM20060523, OVIDE,    59,  1,      8,2,20060608,0152, 54.7620, -26.1220, 3611,   2746.9,   3.0330,  34.9420,2,  34.9410,2,    275.3,2,    275.1,2,    14.48,2,    17.82,2,     0.97,2,   2309.8,2,   7.7250,2,    25.00
  06MM20060523, OVIDE,    59,  1,      9,2,20060608,0152, 54.7620, -26.1220, 3611,   2496.4,   3.1160,  34.9270,2,  34.9260,2,    279.3,2,    277.4,2,    13.13,2,    17.88,2,     0.98,2,   2304.8,2,   7.7270,2,    25.00
  06MM20060523, OVIDE,    59,  1,     10,2,20060608,0152, 54.7620, -26.1220, 3611,   2496.8,   3.1160,  34.9270,2,  34.9260,2,    279.2,2,    277.7,2,    13.01,2,    17.48,2,     1.04,2,   -999.0,9,   7.7260,2,    25.00
  06MM20060523, OVIDE,    59,  1,     11,2,20060608,0152, 54.7620, -26.1220, 3611,   2248.9,   3.1760,  34.9100,2,  34.9090,2,    281.7,2,    280.7,2,    12.06,2,    17.82,2,     0.97,2,   2302.4,2,   7.7280,2,    25.00
  06MM20060523, OVIDE,    59,  1,     12,2,20060608,0152, 54.7620, -26.1220, 3611,   1996.6,   3.2760,  34.9000,2,  34.9010,2,    282.2,2,    281.2,2,    11.39,2,    18.02,2,     1.00,2,   2301.5,2,   7.7240,2,    25.00
  06MM20060523, OVIDE,    59,  1,     13,2,20060608,0152, 54.7620, -26.1220, 3611,   1798.0,   3.3840,  34.9000,2,-999.0000,3,    279.9,2,    279.6,2,    11.27,2,    18.22,2,     1.02,2,   2300.1,2,   7.7210,2,    25.00
  06MM20060523, OVIDE,    59,  1,     14,2,20060608,0152, 54.7620, -26.1220, 3611,   1597.7,   3.5350,  34.9020,2,  34.9030,2,    278.4,2,    285.1,2,    10.91,2,    18.17,2,     1.02,2,   2300.1,2,   7.7200,2,    25.00
  06MM20060523, OVIDE,    59,  1,     15,2,20060608,0152, 54.7620, -26.1220, 3611,   1305.7,   3.6510,  34.8930,2,  34.8930,2,    281.4,2,    279.9,2,    10.24,2,    18.02,2,     0.97,2,   2300.3,2,   7.7140,2,    25.00
  06MM20060523, OVIDE,    59,  1,     16,2,20060608,0152, 54.7620, -26.1220, 3611,   1196.3,   3.7670,  34.9040,2,  34.9040,2,    276.8,2,    276.6,2,    10.24,2,    17.98,2,     0.98,2,   2301.3,2,   7.7120,2,    25.00
  06MM20060523, OVIDE,    59,  1,     17,2,20060608,0152, 54.7620, -26.1220, 3611,    997.2,   3.9810,  34.9120,2,  34.9110,2,    272.2,2,    273.0,2,    10.16,2,    18.22,2,     1.04,2,   2302.2,2,   7.7090,2,    25.00
  06MM20060523, OVIDE,    59,  1,     18,2,20060608,0152, 54.7620, -26.1220, 3611,    896.1,   4.1860,  34.9220,2,  34.9210,2,    266.6,2,    266.5,2,    10.28,2,    18.32,2,     1.04,2,   -999.0,9,   7.7060,2,    25.00
  06MM20060523, OVIDE,    59,  1,     19,2,20060608,0152, 54.7620, -26.1220, 3611,    798.2,   4.5240,  34.9450,2,  34.9440,2,    258.8,2,    258.1,2,    10.51,2,    18.72,2,     1.04,2,   2305.9,2,   7.7030,2,    25.00
  06MM20060523, OVIDE,    59,  1,     20,2,20060608,0152, 54.7620, -26.1220, 3611,    695.7,   5.1470,  34.9890,2,  34.9920,2,    240.8,2,    243.4,2,    10.83,2,    19.42,2,     1.11,2,   -999.0,9,   7.7000,2,    25.00
  06MM20060523, OVIDE,    59,  1,     21,2,20060608,0152, 54.7620, -26.1220, 3611,    594.2,   6.0200,  35.0650,2,  35.0630,2,    224.4,2,    227.4,2,    11.03,2,    19.22,2,     1.11,2,   2313.2,2,   7.7000,2,    25.00
  06MM20060523, OVIDE,    59,  1,     22,2,20060608,0152, 54.7620, -26.1220, 3611,    465.5,   7.4240,  35.1610,2,  35.1600,2,    208.2,2,    213.3,2,    10.43,2,    19.22,2,     1.06,2,   2319.0,2,   7.7170,2,    25.00
  06MM20060523, OVIDE,    59,  1,     23,2,20060608,0152, 54.7620, -26.1220, 3611,    345.0,   7.5360,  34.9510,2,  34.9590,3,    214.8,2,    211.7,2,     9.80,2,    18.72,2,     1.08,2,   2305.9,2,   7.7120,2,    25.00
  06MM20060523, OVIDE,    59,  1,     24,2,20060608,0152, 54.7620, -26.1220, 3611,    265.6,   8.1690,  34.9550,2,  34.9460,3,    251.1,2,    237.2,3,     7.70,2,    15.83,2,     0.91,2,   2304.4,2,   7.7490,2,    25.00
  06MM20060523, OVIDE,    59,  1,     25,2,20060608,0152, 54.7620, -26.1220, 3611,    195.6,   9.4460,  35.1110,2,  35.1080,2,    266.3,2,    264.2,2,     3.89,2,    10.85,2,     0.64,2,   -999.0,9,   7.8180,2,    25.00
  06MM20060523, OVIDE,    59,  1,     26,2,20060608,0152, 54.7620, -26.1220, 3611,    146.1,   9.8920,  35.1890,2,  35.1870,2,    261.3,2,    263.9,2,     3.73,2,    10.35,2,     0.60,2,   -999.0,9,   7.8280,2,    25.00
  06MM20060523, OVIDE,    59,  1,     27,2,20060608,0152, 54.7620, -26.1220, 3611,     96.2,  10.1840,  35.2230,2,  35.2360,3,    264.6,2,    265.0,2,     3.01,2,     9.76,2,     0.57,2,   2320.4,2,   7.8360,2,    25.00
  06MM20060523, OVIDE,    59,  1,     28,2,20060608,0152, 54.7620, -26.1220, 3611,     46.6,  11.1050,  35.2730,2,  35.2760,2,    280.8,2,    279.8,2,     0.83,2,     5.72,2,     0.39,2,   -999.0,9,   7.8910,2,    25.00
  06MM20060523, OVIDE,    59,  1,     29,2,20060608,0152, 54.7620, -26.1220, 3611,      7.0,  11.3880,  35.1550,2,  35.1560,2,    270.4,2,    279.7,3,     0.99,2,     4.13,2,     0.28,2,   2320.3,2,   7.9110,2,    25.00