BOTTLE,20140930PRINUNIVRMK
EXPOCODE,SECT_ID,STNNBR,CASTNO,BTLNBR,BTLNBR_FLAG_W,DATE,TIME,LATITUDE,LONGITUDE,DEPTH,CTDPRS,CTDTMP,CTDSAL,CTDSAL_FLAG_W,SALNTY,SALNTY_FLAG_W,CTDOXY,CTDOXY_FLAG_W,OXYGEN,OXYGEN_FLAG_W,SILCAT,SILCAT_FLAG_W,NITRAT,NITRAT_FLAG_W,PHSPHT,PHSPHT_FLAG_W,ALKALI,ALKALI_FLAG_W,PH_SWS,PH_SWS_FLAG_W,PH_TMP
,,,,,,,,,,METERS,DBAR,ITS-90,PSS-78,,PSS-78,,UMOL/KG,,UMOL/KG,,UMOL/KG,,UMOL/KG,,UMOL/KG,,UMOL/KG,,,,DEG C
  06MM20060523, OVIDE,    21,  1,      3,2,20060529,0510, 41.6830, -14.2770, 5342,   5432.7,   2.5710,  34.9000,2,  34.8980,2,    245.8,2,    243.8,2,    48.06,2,    22.80,2,     1.36,2,   -999.0,9,   7.7340,2,    25.00
  06MM20060523, OVIDE,    21,  1,      4,2,20060529,0510, 41.6830, -14.2770, 5342,   4499.9,   2.4950,  34.9050,2,  34.9020,2,    245.3,2,    243.9,2,    47.07,2,    22.80,2,     1.34,2,   -999.0,9,   7.7260,2,    25.00
  06MM20060523, OVIDE,    21,  1,      5,2,20060529,0510, 41.6830, -14.2770, 5342,   3996.1,   2.5230,  34.9140,2,  34.9160,2,    245.0,2,    244.2,2,    45.10,2,    22.31,2,     1.31,2,   -999.0,9,   7.7320,2,    25.00
  06MM20060523, OVIDE,    21,  1,      6,2,20060529,0510, 41.6830, -14.2770, 5342,   3744.2,   2.5750,  34.9230,2,  34.9210,2,    245.4,2,    244.6,2,    43.50,2,    22.11,2,     1.29,2,   -999.0,9,   7.7340,2,    25.00
  06MM20060523, OVIDE,    21,  1,      7,2,20060529,0510, 41.6830, -14.2770, 5342,   3499.8,   2.6320,  34.9300,2,  34.9290,2,    245.6,2,    245.6,2,    41.40,2,    21.71,2,     1.27,2,   -999.0,9,   7.7330,2,    25.00
  06MM20060523, OVIDE,    21,  1,      8,2,20060529,0510, 41.6830, -14.2770, 5342,   3245.0,   2.7310,  34.9400,2,  34.9400,2,    248.0,2,    247.1,2,    38.44,2,    21.41,2,     1.25,2,   -999.0,9,   7.7370,2,    25.00
  06MM20060523, OVIDE,    21,  1,      9,2,20060529,0510, 41.6830, -14.2770, 5342,   2997.1,   2.8640,  34.9540,2,  34.9520,2,    250.2,2,    248.9,2,    35.24,2,    20.81,2,     1.21,2,   -999.0,9,   7.7340,2,    25.00
  06MM20060523, OVIDE,    21,  1,     10,2,20060529,0510, 41.6830, -14.2770, 5342,   2746.7,   3.0420,  34.9700,2,  34.9690,2,    251.0,2,    250.0,2,    32.04,2,    20.36,2,     1.17,2,   -999.0,9,   7.7420,2,    25.00
  06MM20060523, OVIDE,    21,  1,     11,2,20060529,0510, 41.6830, -14.2770, 5342,   2499.9,   3.3140,  34.9930,2,  34.9930,2,    252.8,2,    251.7,2,    27.85,2,    19.82,2,     1.14,2,   -999.0,9,   7.7360,2,    25.00
  06MM20060523, OVIDE,    21,  1,     12,2,20060529,0510, 41.6830, -14.2770, 5342,   2498.9,   3.3140,  34.9930,2,  34.9900,2,    252.9,2,    252.0,2,    27.35,2,    19.82,2,     1.15,2,   -999.0,9,   7.7370,2,    25.00
  06MM20060523, OVIDE,    21,  1,     13,2,20060529,0510, 41.6830, -14.2770, 5342,   1996.4,   3.9980,  35.0350,2,  35.0390,2,    260.1,2,    257.8,2,    14.87,2,    18.32,2,     1.03,2,   -999.0,9,   7.7320,2,    25.00
  06MM20060523, OVIDE,    21,  1,     14,2,20060529,0510, 41.6830, -14.2770, 5342,   1796.5,   4.4930,  35.0920,2,  35.0930,2,    252.7,2,    253.2,2,    13.29,2,    18.42,2,     1.01,2,   -999.0,9,   7.7350,2,    25.00
  06MM20060523, OVIDE,    21,  1,     15,2,20060529,0510, 41.6830, -14.2770, 5342,   1593.9,   5.7020,  35.2780,2,  35.2790,2,    240.9,2,    236.8,2,    12.66,2,    18.32,2,     1.00,2,   -999.0,9,   7.7390,2,    25.00
  06MM20060523, OVIDE,    21,  1,     16,2,20060529,0510, 41.6830, -14.2770, 5342,   1396.2,   7.4500,  35.5600,2,  35.5610,2,    216.9,2,    215.3,2,    11.46,2,    18.07,2,     0.94,2,   -999.0,9,   7.7520,2,    25.00
  06MM20060523, OVIDE,    21,  1,     17,2,20060529,0510, 41.6830, -14.2770, 5342,   1196.4,   9.3430,  35.8520,2,  35.8380,3,    194.9,2,    195.0,2,    10.50,2,    17.71,2,     0.90,2,   -999.0,9,   7.7690,2,    25.00
  06MM20060523, OVIDE,    21,  1,     18,2,20060529,0510, 41.6830, -14.2770, 5342,   1057.2,  10.3850,  36.0020,2,  36.0020,2,    185.7,2,    184.8,2,     9.79,2,    16.72,2,     0.87,2,   -999.0,9,   7.7810,2,    25.00
  06MM20060523, OVIDE,    21,  1,     19,2,20060529,0510, 41.6830, -14.2770, 5342,    996.6,  10.3780,  35.9430,2,  35.9410,2,    186.5,2,    184.2,2,     9.46,2,    16.87,2,     0.88,2,   -999.0,9,   7.7760,2,    25.00
  06MM20060523, OVIDE,    21,  1,     20,2,20060529,0510, 41.6830, -14.2770, 5342,    923.4,  10.3550,  35.8480,2,  35.8500,2,    183.9,2,    184.0,2,     9.46,2,    17.12,2,     0.90,2,   -999.0,9,   7.7750,2,    25.00
  06MM20060523, OVIDE,    21,  1,     21,2,20060529,0510, 41.6830, -14.2770, 5342,    796.2,  10.4600,  35.7100,2,  35.7090,2,    186.4,2,    185.1,2,     8.80,2,    17.22,2,     0.91,2,   -999.0,9,   7.7670,2,    25.00
  06MM20060523, OVIDE,    21,  1,     22,2,20060529,0510, 41.6830, -14.2770, 5342,    650.7,  10.4890,  35.5210,2,  35.5220,2,    199.2,2,    197.8,2,     7.47,2,    16.22,2,     0.86,2,   -999.0,9,   7.7690,2,    25.00
  06MM20060523, OVIDE,    21,  1,     23,2,20060529,0510, 41.6830, -14.2770, 5342,    498.2,  11.3040,  35.5710,2,  35.5730,2,    229.4,2,    226.9,2,     4.77,2,    12.09,2,     0.62,2,   -999.0,9,   7.8160,2,    25.00
  06MM20060523, OVIDE,    21,  1,     24,2,20060529,0510, 41.6830, -14.2770, 5342,    396.9,  11.6970,  35.6270,2,  35.6270,2,    229.9,2,    230.7,2,     4.23,2,    10.90,2,     0.54,2,   -999.0,9,   7.8250,2,    25.00
  06MM20060523, OVIDE,    21,  1,     25,2,20060529,0510, 41.6830, -14.2770, 5342,    296.8,  12.1590,  35.6980,2,  35.6950,2,    239.6,2,    239.5,2,     3.36,2,     8.66,2,     0.43,2,   -999.0,9,   7.8490,2,    25.00
  06MM20060523, OVIDE,    21,  1,     26,2,20060529,0510, 41.6830, -14.2770, 5342,    197.9,  12.4980,  35.7450,2,  35.7470,2,    243.8,2,    244.8,2,     3.11,2,     7.56,2,     0.39,2,   -999.0,9,   7.8790,2,    25.00
  06MM20060523, OVIDE,    21,  1,     27,2,20060529,0510, 41.6830, -14.2770, 5342,    148.2,  12.5690,  35.7450,2,  35.7430,2,    249.2,2,    250.4,2,     2.95,2,     7.22,2,     0.35,2,   -999.0,9,   7.8800,2,    25.00
  06MM20060523, OVIDE,    21,  1,     28,2,20060529,0510, 41.6830, -14.2770, 5342,     98.1,  12.7880,  35.7430,2,  35.7430,2,    252.6,2,    253.0,2,     1.99,2,     6.27,2,     0.32,2,   -999.0,9,   7.8870,2,    25.00
  06MM20060523, OVIDE,    21,  1,     29,2,20060529,0510, 41.6830, -14.2770, 5342,     48.6,  14.3200,  35.8070,2,  35.8080,2,    259.7,2,    261.4,2,     1.33,2,     1.84,2,     0.13,2,   -999.0,9,   7.9310,2,    25.00
  06MM20060523, OVIDE,    21,  1,     30,2,20060529,0510, 41.6830, -14.2770, 5342,     12.5,  15.4360,  35.8010,2,  35.8000,2,    240.0,2,    254.6,3,     1.45,2,     1.14,2,     0.11,2,   -999.0,9,   7.9510,2,    25.00
  06MM20060523, OVIDE,    22,  1,      3,2,20060530,1216, 41.9820, -14.6720, 5332,   5425.9,   2.5710,  34.9010,2,  34.8960,2,    244.2,2,    245.5,2,    47.93,2,    22.72,2,     1.36,2,   2354.4,2,   7.7310,2,    25.00
  06MM20060523, OVIDE,    22,  1,      4,2,20060530,1216, 41.9820, -14.6720, 5332,   4997.4,   2.5210,  34.9020,2,  34.9000,2,    244.8,2,    244.2,2,    47.93,2,    23.02,2,     1.35,2,   2354.4,2,   7.7360,2,    25.00
  06MM20060523, OVIDE,    22,  1,      5,2,20060530,1216, 41.9820, -14.6720, 5332,   4496.5,   2.4960,  34.9070,2,  34.9070,2,    244.6,2,    245.0,2,    46.58,2,    22.82,2,     1.35,2,   2349.5,2,   7.7340,2,    25.00
  06MM20060523, OVIDE,    22,  1,      6,2,20060530,1216, 41.9820, -14.6720, 5332,   3996.3,   2.5350,  34.9170,2,  34.9130,2,    244.5,2,    245.8,2,    44.60,2,    22.42,2,     1.33,2,   2349.8,2,   7.7320,2,    25.00
  06MM20060523, OVIDE,    22,  1,      7,2,20060530,1216, 41.9820, -14.6720, 5332,   3501.8,   2.6170,  34.9280,2,  34.9260,2,    245.4,2,    246.7,2,    41.52,2,    21.97,2,     1.30,2,   2346.1,2,   7.7340,2,    25.00
  06MM20060523, OVIDE,    22,  1,      8,2,20060530,1216, 41.9820, -14.6720, 5332,   3245.1,   2.7120,  34.9400,2,  34.9360,2,    247.0,2,    247.7,2,    38.69,2,    21.77,2,     1.26,2,   2342.3,2,   7.7340,2,    25.00
  06MM20060523, OVIDE,    22,  1,      9,2,20060530,1216, 41.9820, -14.6720, 5332,   2995.2,   2.8270,  34.9510,2,  34.9470,2,    249.5,2,    249.9,2,    35.98,2,    20.92,2,     1.24,2,   2339.1,2,   7.7340,2,    25.00
  06MM20060523, OVIDE,    22,  1,     10,2,20060530,1216, 41.9820, -14.6720, 5332,   2743.8,   3.0050,  34.9670,2,  34.9660,2,    250.3,2,    251.9,2,    31.54,2,    20.67,2,     1.20,2,   2332.0,2,   7.7400,2,    25.00
  06MM20060523, OVIDE,    22,  1,     11,2,20060530,1216, 41.9820, -14.6720, 5332,   2495.1,   3.2470,  34.9820,2,  34.9800,2,    252.9,2,    253.8,2,    27.35,2,    20.07,2,     1.17,2,   2327.7,2,   7.7400,2,    25.00
  06MM20060523, OVIDE,    22,  1,     12,2,20060530,1216, 41.9820, -14.6720, 5332,   2245.5,   3.5000,  34.9960,2,  34.9950,2,    256.4,2,    256.9,2,    22.67,2,    19.37,2,     1.08,2,   2321.9,2,   7.7370,2,    25.00
  06MM20060523, OVIDE,    22,  1,     13,2,20060530,1216, 41.9820, -14.6720, 5332,   2246.8,   3.4990,  34.9960,2,  34.9960,2,    256.4,2,    257.1,2,    19.69,2,    19.37,2,     1.10,2,   2321.1,2,   7.7390,2,    25.00
  06MM20060523, OVIDE,    22,  1,     14,2,20060530,1216, 41.9820, -14.6720, 5332,   1992.8,   3.7420,  34.9990,2,  34.9980,2,    260.6,2,    263.5,2,    15.68,2,    18.77,2,     1.07,2,   2313.0,2,   7.7330,2,    25.00
  06MM20060523, OVIDE,    22,  1,     15,2,20060530,1216, 41.9820, -14.6720, 5332,   1744.9,   4.9000,  35.1790,2,  35.1800,2,    244.6,2,    247.5,2,    14.07,2,    18.66,2,     1.05,2,   2329.1,2,   7.7360,2,    25.00
  06MM20060523, OVIDE,    22,  1,     16,2,20060530,1216, 41.9820, -14.6720, 5332,   1742.3,   4.9240,  35.1830,2,  35.1810,2,    244.6,2,    245.3,2,    13.94,2,    18.61,2,     1.04,2,   2326.5,2,   7.7370,2,    25.00
  06MM20060523, OVIDE,    22,  1,     17,2,20060530,1216, 41.9820, -14.6720, 5332,   1243.6,   9.4160,  35.8700,2,  35.8740,2,    195.9,2,    195.1,2,    10.19,2,    17.30,2,     0.90,2,   2370.2,2,   7.7710,2,    25.00
  06MM20060523, OVIDE,    22,  1,     18,2,20060530,1216, 41.9820, -14.6720, 5332,    995.0,  10.0940,  35.8230,2,  35.8190,2,    185.6,2,    186.9,2,     9.49,2,    17.55,2,     0.90,2,   2362.3,2,   7.7690,2,    25.00
  06MM20060523, OVIDE,    22,  1,     19,2,20060530,1216, 41.9820, -14.6720, 5332,    895.4,  10.3590,  35.7840,2,  35.7840,2,    183.6,2,    185.7,2,     9.06,2,    17.40,2,     0.90,2,   2360.2,2,   7.7660,2,    25.00
  06MM20060523, OVIDE,    22,  1,     20,2,20060530,1216, 41.9820, -14.6720, 5332,    796.5,  10.5720,  35.6870,2,  35.6860,2,    186.9,2,    188.3,2,     8.27,2,    17.16,2,     0.89,2,   2348.8,2,   7.7700,2,    25.00
  06MM20060523, OVIDE,    22,  1,     21,2,20060530,1216, 41.9820, -14.6720, 5332,    694.5,  10.5820,  35.5700,2,  35.5690,2,    192.4,2,    194.6,2,     7.66,2,    16.66,2,     0.86,2,   2342.2,2,   7.7710,2,    25.00
  06MM20060523, OVIDE,    22,  1,     22,2,20060530,1216, 41.9820, -14.6720, 5332,    595.6,  10.9640,  35.5510,2,  35.5480,2,    204.7,2,    208.2,2,     6.18,2,    14.91,2,     0.75,2,   -999.0,9,   7.7900,2,    25.00
  06MM20060523, OVIDE,    22,  1,     23,2,20060530,1216, 41.9820, -14.6720, 5332,    495.5,  11.4560,  35.5960,2,  35.5930,2,    219.0,2,    223.0,2,     4.53,2,    12.30,2,     0.62,2,   2340.1,2,   7.8160,2,    25.00
  06MM20060523, OVIDE,    22,  1,     24,2,20060530,1216, 41.9820, -14.6720, 5332,    395.2,  11.8080,  35.6440,2,  35.6410,2,    226.8,2,    228.8,2,     3.88,2,    11.05,2,     0.55,2,   2340.3,2,   7.8260,2,    25.00
  06MM20060523, OVIDE,    22,  1,     25,2,20060530,1216, 41.9820, -14.6720, 5332,    294.6,  12.2690,  35.7160,2,  35.7120,2,    234.6,2,    238.5,2,     3.27,2,     9.10,2,     0.43,2,   -999.0,9,   7.8510,2,    25.00
  06MM20060523, OVIDE,    22,  1,     26,2,20060530,1216, 41.9820, -14.6720, 5332,    195.6,  12.5330,  35.7470,2,  35.7430,2,    239.9,2,    236.9,2,     3.09,2,     8.60,2,     0.43,2,   2347.0,2,   7.8650,2,    25.00
  06MM20060523, OVIDE,    22,  1,     27,2,20060530,1216, 41.9820, -14.6720, 5332,    145.4,  12.7500,  35.7790,2,  35.7790,2,    242.5,2,    241.3,2,     2.66,2,     7.55,2,     0.36,2,   -999.0,9,   7.8760,2,    25.00
  06MM20060523, OVIDE,    22,  1,     28,2,20060530,1216, 41.9820, -14.6720, 5332,     98.2,  13.1290,  35.8040,2,  35.7990,2,    247.2,2,    248.6,2,     1.57,2,     5.80,2,     0.28,2,   2350.7,2,   7.8940,2,    25.00
  06MM20060523, OVIDE,    22,  1,     29,2,20060530,1216, 41.9820, -14.6720, 5332,     44.7,  14.4430,  35.8040,2,  35.8070,2,    257.7,2,    258.7,2,     0.78,2,     1.60,2,     0.11,2,   -999.0,9,   7.9400,2,    25.00
  06MM20060523, OVIDE,    22,  1,     30,2,20060530,1216, 41.9820, -14.6720, 5332,      6.9,  15.3980,  35.8210,2,  35.8200,2,    254.0,2,    254.6,2,     0.70,2,     1.00,2,     0.08,2,   2354.4,2,   7.9500,2,    25.00
  06MM20060523, OVIDE,    23,  1,      3,2,20060530,1830, 42.2800, -15.0660, 5307,   5403.0,   2.5720,  34.9010,2,  34.9010,2,    244.0,2,    244.3,2,    48.80,2,    22.12,2,     1.36,2,   -999.0,9,   7.7320,2,    25.00
  06MM20060523, OVIDE,    23,  1,      4,2,20060530,1830, 42.2800, -15.0660, 5307,   5397.2,   2.5710,  34.9010,2,  34.9000,2,    244.1,2,    243.7,2,    49.31,2,    22.57,2,     1.36,2,   -999.0,9,   7.7330,2,    25.00
  06MM20060523, OVIDE,    23,  1,      5,2,20060530,1830, 42.2800, -15.0660, 5307,   4701.1,   2.5040,  34.9050,2,  34.9030,2,    245.3,2,    243.7,2,    48.41,2,    21.92,2,     1.35,2,   -999.0,9,   7.7350,2,    25.00
  06MM20060523, OVIDE,    23,  1,      6,2,20060530,1830, 42.2800, -15.0660, 5307,   3994.6,   2.5340,  34.9160,2,  34.9150,2,    245.0,2,    244.1,2,    46.09,2,    21.72,2,     1.29,2,   -999.0,9,   7.7350,2,    25.00
  06MM20060523, OVIDE,    23,  1,      7,2,20060530,1830, 42.2800, -15.0660, 5307,   3499.1,   2.6330,  34.9300,2,  34.9290,2,    244.6,2,    245.8,2,    41.71,2,    20.67,2,     1.29,2,   -999.0,9,   7.7340,2,    25.00
  06MM20060523, OVIDE,    23,  1,      8,2,20060530,1830, 42.2800, -15.0660, 5307,   3246.4,   2.7330,  34.9410,2,  34.9410,2,    246.0,2,    246.6,2,    39.14,2,    21.17,2,     1.27,2,   -999.0,9,   7.7370,2,    25.00
  06MM20060523, OVIDE,    23,  1,      9,2,20060530,1830, 42.2800, -15.0660, 5307,   2996.3,   2.8650,  34.9530,2,  34.9530,2,    249.6,2,    249.0,2,    35.79,2,    19.72,2,     1.22,2,   -999.0,9,   7.7340,2,    25.00
  06MM20060523, OVIDE,    23,  1,     10,2,20060530,1830, 42.2800, -15.0660, 5307,   2744.0,   3.0540,  34.9680,2,  34.9680,2,    252.3,2,    251.4,2,    31.28,2,    19.12,2,     1.18,2,   -999.0,9,   7.7380,2,    25.00
  06MM20060523, OVIDE,    23,  1,     11,2,20060530,1830, 42.2800, -15.0660, 5307,   2497.6,   3.2980,  34.9850,2,  34.9860,2,    255.2,2,    253.7,2,    26.78,2,    16.92,3,     1.14,2,   -999.0,9,   7.7370,2,    25.00
  06MM20060523, OVIDE,    23,  1,     12,2,20060530,1830, 42.2800, -15.0660, 5307,   2242.0,   3.5560,  34.9950,2,  34.9940,2,    258.7,2,    257.6,2,    18.21,2,    18.97,2,     1.08,2,   -999.0,9,   7.7360,2,    25.00
  06MM20060523, OVIDE,    23,  1,     13,2,20060530,1830, 42.2800, -15.0660, 5307,   1994.7,   3.8230,  34.9950,2,  34.9990,2,    263.2,2,    262.8,2,    13.85,2,    17.96,2,     1.04,2,   -999.0,9,   7.7330,2,    25.00
  06MM20060523, OVIDE,    23,  1,     14,2,20060530,1830, 42.2800, -15.0660, 5307,   1795.9,   4.2710,  35.0450,2,  35.0470,2,    254.1,2,    258.2,2,    12.63,2,    18.22,2,     1.03,2,   -999.0,9,   7.7280,2,    25.00
  06MM20060523, OVIDE,    23,  1,     15,2,20060530,1830, 42.2800, -15.0660, 5307,   1595.1,   5.0280,  35.1400,2,  35.1440,2,    235.8,2,    245.5,3,    12.15,2,    18.56,2,     1.01,2,   -999.0,9,   7.7290,2,    25.00
  06MM20060523, OVIDE,    23,  1,     16,2,20060530,1830, 42.2800, -15.0660, 5307,   1395.4,   7.2910,  35.4940,2,  35.4950,2,    205.4,2,    216.8,3,    11.15,2,    18.36,2,     0.98,2,   -999.0,9,   7.7480,2,    25.00
  06MM20060523, OVIDE,    23,  1,     17,2,20060530,1830, 42.2800, -15.0660, 5307,   1257.2,   9.9540,  36.0310,2,  36.0300,2,    188.6,2,    191.1,2,     9.93,2,    16.70,2,     0.84,2,   -999.0,9,   7.7890,2,    25.00
  06MM20060523, OVIDE,    23,  1,     18,2,20060530,1830, 42.2800, -15.0660, 5307,   1074.4,  10.6360,  36.0450,2,  36.0450,2,    183.3,2,    183.4,2,     9.05,2,    16.60,2,     0.83,2,   -999.0,9,   7.7870,2,    25.00
  06MM20060523, OVIDE,    23,  1,     19,2,20060530,1830, 42.2800, -15.0660, 5307,    964.9,  10.6670,  35.9340,2,  35.9360,2,    182.8,2,    182.9,2,     8.88,2,    16.50,2,     0.87,2,   -999.0,9,   7.7790,2,    25.00
  06MM20060523, OVIDE,    23,  1,     20,2,20060530,1830, 42.2800, -15.0660, 5307,    876.9,  10.1460,  35.6810,2,  35.6800,2,    185.6,2,    184.5,2,     8.97,2,    17.81,2,     0.95,2,   -999.0,9,   7.7600,2,    25.00
  06MM20060523, OVIDE,    23,  1,     21,2,20060530,1830, 42.2800, -15.0660, 5307,    698.1,  10.5720,  35.5400,2,  35.5370,2,    189.2,2,    189.0,2,     7.58,2,    17.21,2,     0.88,2,   -999.0,9,   7.7650,2,    25.00
  06MM20060523, OVIDE,    23,  1,     22,2,20060530,1830, 42.2800, -15.0660, 5307,    597.9,  11.2470,  35.5640,2,  35.5640,2,    207.7,2,    204.5,2,     5.66,2,    14.66,2,     0.78,2,   -999.0,9,   7.7930,2,    25.00
  06MM20060523, OVIDE,    23,  1,     23,2,20060530,1830, 42.2800, -15.0660, 5307,    496.5,  12.0060,  35.6780,2,  35.6770,2,    220.4,2,    233.0,3,     3.22,2,     9.90,2,     0.50,2,   -999.0,9,   7.8430,2,    25.00
  06MM20060523, OVIDE,    23,  1,     24,2,20060530,1830, 42.2800, -15.0660, 5307,    396.8,  12.5290,  35.7630,2,  35.7630,2,    241.4,2,    243.2,2,     2.44,2,     7.70,2,     0.38,2,   -999.0,9,   7.8700,2,    25.00
  06MM20060523, OVIDE,    23,  1,     25,2,20060530,1830, 42.2800, -15.0660, 5307,    296.7,  12.9500,  35.7970,2,  35.7890,3,    244.6,2,    244.7,2,     2.05,2,     6.75,2,     0.33,2,   -999.0,9,   7.8810,2,    25.00
  06MM20060523, OVIDE,    23,  1,     26,2,20060530,1830, 42.2800, -15.0660, 5307,    196.2,  13.7350,  35.9200,2,  35.9180,2,    234.3,2,    236.3,2,     2.09,2,     6.15,2,     0.30,2,   -999.0,9,   7.9010,2,    25.00
  06MM20060523, OVIDE,    23,  1,     27,2,20060530,1830, 42.2800, -15.0660, 5307,    146.1,  14.2820,  36.0240,2,  36.0190,2,    230.0,2,    237.2,3,     1.83,2,     5.10,2,     0.24,2,   -999.0,9,   7.9140,2,    25.00
  06MM20060523, OVIDE,    23,  1,     28,2,20060530,1830, 42.2800, -15.0660, 5307,     97.3,  14.5160,  36.0270,2,  36.0260,2,    236.4,2,    243.4,3,     1.61,2,     3.90,2,     0.19,2,   -999.0,9,   7.9210,2,    25.00
  06MM20060523, OVIDE,    23,  1,     29,2,20060530,1830, 42.2800, -15.0660, 5307,     46.1,  15.7910,  35.9940,2,  35.9980,2,    246.4,2,    253.3,3,     0.35,2,     0.10,2,     0.06,2,   -999.0,9,   7.9610,2,    25.00
  06MM20060523, OVIDE,    23,  1,     30,2,20060530,1830, 42.2800, -15.0660, 5307,     14.6,  15.8830,  35.9870,2,  35.9890,2,    248.8,2,    253.2,2,     0.61,2,     0.00,2,     0.04,2,   -999.0,9,   7.9690,2,    25.00