BOTTLE,20140930PRINUNIVRMK
EXPOCODE,SECT_ID,STNNBR,CASTNO,BTLNBR,BTLNBR_FLAG_W,DATE,TIME,LATITUDE,LONGITUDE,DEPTH,CTDPRS,CTDTMP,CTDSAL,CTDSAL_FLAG_W,SALNTY,SALNTY_FLAG_W,CTDOXY,CTDOXY_FLAG_W,OXYGEN,OXYGEN_FLAG_W,SILCAT,SILCAT_FLAG_W,NITRAT,NITRAT_FLAG_W,PHSPHT,PHSPHT_FLAG_W,ALKALI,ALKALI_FLAG_W,PH_SWS,PH_SWS_FLAG_W,PH_TMP
,,,,,,,,,,METERS,DBAR,ITS-90,PSS-78,,PSS-78,,UMOL/KG,,UMOL/KG,,UMOL/KG,,UMOL/KG,,UMOL/KG,,UMOL/KG,,,,DEG C
  06MM20060523, OVIDE,    42,  1,      3,2,20060604,1733, 48.7870, -21.4340, 4094,   4151.0,   2.5580,  34.9150,2,  34.9150,2,    241.1,2,    241.8,2,    44.90,2,    22.75,2,     1.39,2,   2348.9,2,   7.7300,2,    25.00
  06MM20060523, OVIDE,    42,  1,      4,2,20060604,1733, 48.7870, -21.4340, 4094,   3745.5,   2.5560,  34.9180,2,  34.9180,2,    242.8,2,    243.3,2,    43.26,2,    22.28,2,     1.32,2,   2344.7,2,   7.7300,2,    25.00
  06MM20060523, OVIDE,    42,  1,      5,2,20060604,1733, 48.7870, -21.4340, 4094,   3745.6,   2.5560,  34.9180,2,  34.9210,2,    242.8,2,    243.2,2,    42.76,2,    22.44,2,     1.36,2,   2342.5,2,   7.7290,2,    25.00
  06MM20060523, OVIDE,    42,  1,      6,2,20060604,1733, 48.7870, -21.4340, 4094,   3494.9,   2.6390,  34.9280,2,  34.9290,2,    246.7,2,    247.6,2,    38.48,2,    21.59,2,     1.33,2,   2340.2,2,   7.7290,2,    25.00
  06MM20060523, OVIDE,    42,  1,      7,2,20060604,1733, 48.7870, -21.4340, 4094,   3245.9,   2.7570,  34.9390,2,  34.9410,2,    255.4,2,    256.2,2,    30.94,2,    20.00,2,     1.22,2,   2337.0,2,   7.7310,2,    25.00
  06MM20060523, OVIDE,    42,  1,      8,2,20060604,1733, 48.7870, -21.4340, 4094,   2997.3,   2.8910,  34.9450,2,  34.9460,2,    260.7,2,    261.8,2,    25.53,2,    19.30,2,     1.16,2,   2327.8,2,   7.7300,2,    25.00
  06MM20060523, OVIDE,    42,  1,      9,2,20060604,1733, 48.7870, -21.4340, 4094,   2745.0,   3.0470,  34.9400,2,  34.9400,2,    268.7,2,    268.6,2,    17.51,2,    18.46,2,     1.08,2,   2319.9,2,   7.7300,2,    25.00
  06MM20060523, OVIDE,    42,  1,     10,2,20060604,1733, 48.7870, -21.4340, 4094,   2496.6,   3.1560,  34.9240,2,  34.9220,2,    274.8,2,    274.7,2,    14.16,2,    17.82,2,     1.03,2,   2311.1,2,   7.7320,2,    25.00
  06MM20060523, OVIDE,    42,  1,     11,2,20060604,1733, 48.7870, -21.4340, 4094,   2245.6,   3.2410,  34.9050,2,  34.9030,2,    276.9,2,    279.4,2,    12.29,2,    17.98,2,     1.07,2,   2308.3,2,   7.7290,2,    25.00
  06MM20060523, OVIDE,    42,  1,     12,2,20060604,1733, 48.7870, -21.4340, 4094,   2077.6,   3.3400,  34.9010,2,  34.9030,2,    280.1,2,    278.8,2,    11.98,2,    17.98,2,     1.07,2,   2307.1,2,   7.7250,2,    25.00
  06MM20060523, OVIDE,    42,  1,     13,2,20060604,1733, 48.7870, -21.4340, 4094,   1996.3,   3.3840,  34.9030,2,  34.9060,2,    278.5,2,    277.5,2,    11.81,2,    18.14,2,     1.06,2,   2307.3,2,   7.7270,2,    25.00
  06MM20060523, OVIDE,    42,  1,     14,2,20060604,1733, 48.7870, -21.4340, 4094,   1795.1,   3.6400,  34.9190,2,  34.9180,2,    273.0,2,    273.2,2,    11.59,2,    18.30,2,     1.03,2,   2306.5,2,   7.7220,2,    25.00
  06MM20060523, OVIDE,    42,  1,     15,2,20060604,1733, 48.7870, -21.4340, 4094,   1597.1,   3.8540,  34.9270,2,  34.9270,2,    269.7,2,    270.7,2,    11.02,2,    18.30,2,     1.06,2,   2308.4,2,   7.7170,2,    25.00
  06MM20060523, OVIDE,    42,  1,     16,2,20060604,1733, 48.7870, -21.4340, 4094,   1396.1,   4.4530,  35.0020,2,  35.0010,2,    257.3,2,    256.8,2,    11.20,2,    18.56,2,     1.10,2,   2313.7,2,   7.7190,2,    25.00
  06MM20060523, OVIDE,    42,  1,     17,2,20060604,1733, 48.7870, -21.4340, 4094,   1196.2,   5.3820,  35.1040,2,  35.1040,2,    239.0,2,    240.2,2,    11.24,2,    18.88,2,     1.01,2,   2320.5,2,   7.7200,2,    25.00
  06MM20060523, OVIDE,    42,  1,     18,2,20060604,1733, 48.7870, -21.4340, 4094,    995.5,   6.9300,  35.2790,2,  35.2760,2,    208.5,2,    214.1,2,    11.06,2,    19.09,2,     1.06,2,   2333.2,2,   7.7250,2,    25.00
  06MM20060523, OVIDE,    42,  1,     19,2,20060604,1733, 48.7870, -21.4340, 4094,    896.4,   7.7460,  35.3290,2,  35.3310,2,    201.2,2,    197.7,2,    10.80,2,    19.51,2,     1.11,2,   2337.2,2,   7.7270,2,    25.00
  06MM20060523, OVIDE,    42,  1,     20,2,20060604,1733, 48.7870, -21.4340, 4094,    797.3,   8.5550,  35.3790,2,  35.3800,2,    192.9,2,    194.4,2,    10.36,2,    19.30,2,     1.06,2,   2337.3,2,   7.7340,2,    25.00
  06MM20060523, OVIDE,    42,  1,     21,2,20060604,1733, 48.7870, -21.4340, 4094,    695.9,   8.8670,  35.2770,2,  35.2790,2,    186.9,2,    187.4,2,    10.32,2,    19.99,2,     1.08,2,   2326.6,2,   7.7280,2,    25.00
  06MM20060523, OVIDE,    42,  1,     22,2,20060604,1733, 48.7870, -21.4340, 4094,    596.0,  10.1980,  35.3910,2,  35.3790,3,    202.9,2,    197.1,2,     8.01,2,    17.55,2,     0.94,2,   -999.0,9,   7.7610,2,    25.00
  06MM20060523, OVIDE,    42,  1,     23,2,20060604,1733, 48.7870, -21.4340, 4094,    496.6,  11.2690,  35.5230,2,  35.5220,2,    218.1,2,    219.2,2,     5.27,2,    13.52,2,     0.71,2,   2335.5,2,   7.8110,2,    25.00
  06MM20060523, OVIDE,    42,  1,     24,2,20060604,1733, 48.7870, -21.4340, 4094,    394.0,  11.9460,  35.6070,2,  35.6070,2,    231.6,2,    228.4,2,     4.22,2,    11.56,2,     0.60,2,   2339.6,2,   7.8400,2,    25.00
  06MM20060523, OVIDE,    42,  1,     25,2,20060604,1733, 48.7870, -21.4340, 4094,    297.0,  12.6710,  35.7310,2,  35.7310,2,    247.7,2,    248.2,2,     3.00,2,     7.90,2,     0.39,2,   -999.0,9,   7.8810,2,    25.00
  06MM20060523, OVIDE,    42,  1,     26,2,20060604,1733, 48.7870, -21.4340, 4094,    195.3,  12.7220,  35.7220,2,  35.7220,2,    246.5,2,    246.0,2,     3.05,2,     8.06,2,     0.39,2,   2344.0,2,   7.8860,2,    25.00
  06MM20060523, OVIDE,    42,  1,     27,2,20060604,1733, 48.7870, -21.4340, 4094,     96.7,  13.2910,  35.7520,2,  35.7540,2,    250.7,2,    254.1,2,     1.74,2,     5.51,2,     0.31,2,   2347.6,2,   7.9100,2,    25.00
  06MM20060523, OVIDE,    42,  1,     28,2,20060604,1733, 48.7870, -21.4340, 4094,     47.0,  13.7050,  35.7870,2,  35.7960,3,    257.8,2,    254.1,2,     1.57,2,     5.30,2,     0.27,2,   -999.0,9,   7.9170,2,    25.00
  06MM20060523, OVIDE,    42,  1,     29,2,20060604,1733, 48.7870, -21.4340, 4094,     13.7,  14.5870,  35.7910,2,  35.7930,2,    255.2,2,    266.6,3,     1.09,2,     3.07,2,     0.18,2,   2351.1,2,   7.9440,2,    25.00
  06MM20060523, OVIDE,    43,  1,      3,2,20060604,2318, 49.1580, -21.7270, 4345,   4411.9,   2.5750,  34.9120,2,  34.9140,2,    241.4,2,    241.3,2,    45.52,2,    22.21,2,     1.35,2,   -999.0,9,   7.7300,2,    25.00
  06MM20060523, OVIDE,    43,  1,      4,2,20060604,2318, 49.1580, -21.7270, 4345,   3996.5,   2.5840,  34.9170,2,  34.9190,2,    243.1,2,    243.4,2,    43.14,2,    22.01,2,     1.38,2,   -999.0,9,   7.7280,2,    25.00
  06MM20060523, OVIDE,    43,  1,      5,2,20060604,2318, 49.1580, -21.7270, 4345,   3747.0,   2.6150,  34.9230,2,  34.9260,2,    246.4,2,    246.2,2,    40.37,2,    21.55,2,     1.34,2,   -999.0,9,   7.7240,2,    25.00
  06MM20060523, OVIDE,    43,  1,      6,2,20060604,2318, 49.1580, -21.7270, 4345,   3496.3,   2.6820,  34.9320,2,  34.9340,2,    251.1,2,    250.8,2,    36.22,2,    20.74,2,     1.28,2,   -999.0,9,   7.7260,2,    25.00
  06MM20060523, OVIDE,    43,  1,      7,2,20060604,2318, 49.1580, -21.7270, 4345,   3247.0,   2.7810,  34.9410,2,  34.9440,2,    256.2,2,    257.7,2,    30.18,2,    19.52,2,     1.18,2,   -999.0,9,   7.7230,2,    25.00
  06MM20060523, OVIDE,    43,  1,      8,2,20060604,2318, 49.1580, -21.7270, 4345,   3246.6,   2.7820,  34.9410,2,  34.9440,2,    256.2,2,    257.5,2,    29.80,2,    19.52,2,     1.21,2,   -999.0,9,   7.7220,2,    25.00
  06MM20060523, OVIDE,    43,  1,      9,2,20060604,2318, 49.1580, -21.7270, 4345,   2996.0,   2.9020,  34.9460,2,  34.9470,2,    266.2,2,    265.7,2,    20.98,2,    18.30,2,     1.04,2,   -999.0,9,   7.7220,2,    25.00
  06MM20060523, OVIDE,    43,  1,     10,2,20060604,2318, 49.1580, -21.7270, 4345,   2746.4,   3.0170,  34.9390,2,  34.9420,2,    271.3,2,    272.1,2,    16.64,2,    17.59,2,     1.07,2,   -999.0,9,   7.7270,2,    25.00
  06MM20060523, OVIDE,    43,  1,     11,2,20060604,2318, 49.1580, -21.7270, 4345,   2496.2,   3.0990,  34.9210,2,  34.9230,2,    276.4,2,    276.7,2,    14.00,2,    17.28,2,     1.05,2,   -999.0,9,   7.7260,2,    25.00
  06MM20060523, OVIDE,    43,  1,     12,2,20060604,2318, 49.1580, -21.7270, 4345,   2196.9,   3.2080,  34.9080,2,  34.9100,2,    280.0,2,    281.0,2,    13.04,2,    17.59,2,     1.05,2,   -999.0,9,   7.7260,2,    25.00
  06MM20060523, OVIDE,    43,  1,     13,2,20060604,2318, 49.1580, -21.7270, 4345,   1993.3,   3.2870,  34.8990,2,  34.9010,2,    279.8,2,    280.0,2,    12.08,2,    17.54,2,     1.04,2,   -999.0,9,   7.7200,2,    25.00
  06MM20060523, OVIDE,    43,  1,     14,2,20060604,2318, 49.1580, -21.7270, 4345,   1795.4,   3.4030,  34.9010,2,  34.9030,2,    278.5,2,    278.0,2,    11.86,2,    17.69,2,     1.05,2,   -999.0,9,   7.7200,2,    25.00
  06MM20060523, OVIDE,    43,  1,     15,2,20060604,2318, 49.1580, -21.7270, 4345,   1565.0,   3.6400,  34.9130,2,  34.9160,2,    272.5,2,    273.5,2,    11.58,2,    17.84,2,     1.07,2,   -999.0,9,   7.7120,2,    25.00
  06MM20060523, OVIDE,    43,  1,     16,2,20060604,2318, 49.1580, -21.7270, 4345,   1498.3,   3.6610,  34.9090,2,  34.9110,2,    275.6,2,    273.9,2,    11.31,2,    17.79,2,     1.05,2,   -999.0,9,   7.7120,2,    25.00
  06MM20060523, OVIDE,    43,  1,     17,2,20060604,2318, 49.1580, -21.7270, 4345,   1195.8,   4.2950,  34.9700,2,  34.9700,2,    260.2,2,    260.4,2,    11.26,2,    18.25,2,     1.11,2,   -999.0,9,   7.7140,2,    25.00
  06MM20060523, OVIDE,    43,  1,     18,2,20060604,2318, 49.1580, -21.7270, 4345,    994.7,   5.2170,  35.0770,2,  35.0770,2,    244.8,2,    241.7,2,    11.35,2,    18.40,2,     1.11,2,   -999.0,9,   7.7130,2,    25.00
  06MM20060523, OVIDE,    43,  1,     19,2,20060604,2318, 49.1580, -21.7270, 4345,    894.5,   5.8360,  35.1430,2,  35.1450,2,    231.5,2,    230.6,2,    11.44,2,    18.75,2,     1.11,2,   -999.0,9,   7.7150,2,    25.00
  06MM20060523, OVIDE,    43,  1,     20,2,20060604,2318, 49.1580, -21.7270, 4345,    795.1,   6.1010,  35.1390,2,  35.1430,2,    224.4,2,    225.7,2,    11.31,2,    18.80,2,     1.15,2,   -999.0,9,   7.7120,2,    25.00
  06MM20060523, OVIDE,    43,  1,     21,2,20060604,2318, 49.1580, -21.7270, 4345,    664.6,   7.0240,  35.1920,2,  35.1970,2,    211.2,2,    210.3,2,    11.22,2,    19.21,2,     1.14,2,   -999.0,9,   7.7120,2,    25.00
  06MM20060523, OVIDE,    43,  1,     22,2,20060604,2318, 49.1580, -21.7270, 4345,    605.7,   6.4670,  35.0110,2,  35.0080,2,    214.9,2,    215.6,2,    11.22,2,    19.42,2,     1.16,2,   -999.0,9,   7.6980,2,    25.00
  06MM20060523, OVIDE,    43,  1,     23,2,20060604,2318, 49.1580, -21.7270, 4345,    449.5,   8.0020,  35.0510,2,  35.0440,3,    191.2,2,    195.1,2,    10.76,2,    19.72,2,     1.20,2,   -999.0,9,   7.7060,2,    25.00
  06MM20060523, OVIDE,    43,  1,     24,2,20060604,2318, 49.1580, -21.7270, 4345,    295.7,  10.0680,  35.2220,2,  35.2210,2,    241.6,2,    246.1,2,     5.56,2,    12.30,2,     0.71,2,   -999.0,9,   7.8110,2,    25.00
  06MM20060523, OVIDE,    43,  1,     25,2,20060604,2318, 49.1580, -21.7270, 4345,    194.4,  10.5980,  35.3130,2,  35.3120,2,    260.0,2,    257.7,2,     4.65,2,    10.62,2,     0.62,2,   -999.0,9,   7.8340,2,    25.00
  06MM20060523, OVIDE,    43,  1,     26,2,20060604,2318, 49.1580, -21.7270, 4345,    147.2,  10.9500,  35.3830,2,  35.3650,3,    258.9,2,    254.2,2,     4.38,2,    10.52,2,     0.57,2,   -999.0,9,   7.8360,2,    25.00
  06MM20060523, OVIDE,    43,  1,     27,2,20060604,2318, 49.1580, -21.7270, 4345,     95.7,  11.5300,  35.4000,2,  35.4030,2,    260.4,2,    260.5,2,     1.64,2,     6.91,2,     0.47,2,   -999.0,9,   7.8730,2,    25.00
  06MM20060523, OVIDE,    43,  1,     28,2,20060604,2318, 49.1580, -21.7270, 4345,     46.1,  12.0550,  35.4140,2,  35.4090,2,    259.1,2,    265.3,2,     0.87,2,     5.39,2,     0.38,2,   -999.0,9,   7.8920,2,    25.00
  06MM20060523, OVIDE,    43,  1,     29,2,20060604,2318, 49.1580, -21.7270, 4345,      5.6,  13.5950,  35.4470,2,  35.4520,2,    251.0,2,    266.4,3,     1.00,2,     5.28,2,     0.32,2,   -999.0,9,   7.9050,2,    25.00
  06MM20060523, OVIDE,    44,  1,      3,2,20060604,0512, 49.5320, -22.0200, 4231,   4288.7,   2.5830,  34.9150,2,  34.9140,2,    242.4,2,    242.4,2,    44.02,2,    22.51,2,     1.40,2,   2353.0,2,   7.7280,2,    25.00
  06MM20060523, OVIDE,    44,  1,      4,2,20060604,0512, 49.5320, -22.0200, 4231,   3744.8,   2.5930,  34.9210,2,-999.0000,3,    245.8,2,    245.1,2,    41.00,2,    21.69,2,     1.30,2,   2345.9,2,   7.7300,2,    25.00
  06MM20060523, OVIDE,    44,  1,      5,2,20060604,0512, 49.5320, -22.0200, 4231,   3495.7,   2.6770,  34.9320,2,  34.9330,2,    250.4,2,    250.9,2,    35.09,2,    20.86,2,     1.25,2,   2337.4,2,   7.7290,2,    25.00
  06MM20060523, OVIDE,    44,  1,      6,2,20060604,0512, 49.5320, -22.0200, 4231,   3245.0,   2.7930,  34.9410,2,-999.0000,3,    257.7,2,    257.7,2,    28.80,2,    19.78,2,     1.17,2,   2328.2,2,   7.7280,2,    25.00
  06MM20060523, OVIDE,    44,  1,      7,2,20060604,0512, 49.5320, -22.0200, 4231,   2994.6,   2.9370,  34.9450,2,  34.9470,2,    266.0,2,    264.9,2,    21.16,2,    19.62,2,     1.04,2,   2319.9,2,   7.7280,2,    25.00
  06MM20060523, OVIDE,    44,  1,      8,2,20060604,0512, 49.5320, -22.0200, 4231,   2995.4,   2.9370,  34.9460,2,  34.9460,2,    266.0,2,    264.9,2,    21.16,2,    19.57,2,     1.11,2,   2317.9,2,   7.7290,2,    25.00
  06MM20060523, OVIDE,    44,  1,      9,2,20060604,0512, 49.5320, -22.0200, 4231,   2744.1,   3.0420,  34.9330,2,  34.9350,2,    275.2,2,    274.3,2,    15.05,2,    17.40,2,     1.03,2,   2309.9,2,   7.7270,2,    25.00
  06MM20060523, OVIDE,    44,  1,     10,2,20060604,0512, 49.5320, -22.0200, 4231,   2496.6,   3.1190,  34.9180,2,  34.9190,2,    278.5,2,    277.5,2,    13.50,2,    17.35,2,     1.01,2,   2305.1,2,   7.7270,2,    25.00
  06MM20060523, OVIDE,    44,  1,     11,2,20060604,0512, 49.5320, -22.0200, 4231,   2244.0,   3.1950,  34.9030,2,  34.9060,2,    281.3,2,    280.1,2,    12.45,2,    17.56,2,     1.04,2,   2303.3,2,   7.7230,2,    25.00
  06MM20060523, OVIDE,    44,  1,     12,2,20060604,0512, 49.5320, -22.0200, 4231,   1993.7,   3.2980,  34.8980,2,  34.8970,2,    279.9,2,    280.1,2,    11.86,2,    17.87,2,     1.01,2,   2302.3,2,   7.7220,2,    25.00
  06MM20060523, OVIDE,    44,  1,     13,2,20060604,0512, 49.5320, -22.0200, 4231,   1795.3,   3.4690,  34.9050,2,  34.9080,2,    277.5,2,    276.6,2,    11.77,2,    17.97,2,     1.06,2,   2301.9,2,   7.7210,2,    25.00
  06MM20060523, OVIDE,    44,  1,     14,2,20060604,0512, 49.5320, -22.0200, 4231,   1594.5,   3.7280,  34.9250,2,  34.9260,2,    272.3,2,    278.5,2,    11.67,2,    18.18,2,     1.04,2,   2304.6,2,   7.7210,2,    25.00
  06MM20060523, OVIDE,    44,  1,     15,2,20060604,0512, 49.5320, -22.0200, 4231,   1393.5,   4.0660,  34.9560,2,  34.9560,2,    264.7,2,    264.8,2,    11.45,2,    18.28,2,     1.06,2,   2306.2,2,   7.7120,2,    25.00
  06MM20060523, OVIDE,    44,  1,     16,2,20060604,0512, 49.5320, -22.0200, 4231,   1194.6,   4.7540,  35.0280,2,  35.0310,2,    252.5,2,    250.6,2,    11.58,2,    18.69,2,     1.06,2,   2312.4,2,   7.7140,2,    25.00
  06MM20060523, OVIDE,    44,  1,     17,2,20060604,0512, 49.5320, -22.0200, 4231,    994.9,   5.5950,  35.1090,2,  35.1140,2,    235.4,2,    235.6,2,    11.31,2,    19.00,2,     1.10,2,   2318.2,2,   7.7150,2,    25.00
  06MM20060523, OVIDE,    44,  1,     18,2,20060604,0512, 49.5320, -22.0200, 4231,    894.3,   6.5160,  35.2130,2,  35.2150,2,    220.8,2,    221.2,2,    11.31,2,    19.10,2,     1.11,2,   2323.8,2,   7.7190,2,    25.00
  06MM20060523, OVIDE,    44,  1,     19,2,20060604,0512, 49.5320, -22.0200, 4231,    796.3,   7.5660,  35.3450,2,  35.3430,2,    209.7,2,    205.9,2,    11.08,2,    19.10,2,     1.08,2,   2334.2,2,   7.7250,2,    25.00
  06MM20060523, OVIDE,    44,  1,     20,2,20060604,0512, 49.5320, -22.0200, 4231,    695.5,   7.2110,  35.1320,2,  35.1350,2,    204.0,2,    206.4,2,    11.12,2,    19.72,2,     1.16,2,   2318.6,2,   7.7080,2,    25.00
  06MM20060523, OVIDE,    44,  1,     21,2,20060604,0512, 49.5320, -22.0200, 4231,    595.9,   8.0000,  35.1600,2,  35.1600,2,    191.1,2,    195.9,2,    10.94,2,    19.98,2,     1.17,2,   2319.5,2,   7.7090,2,    25.00
  06MM20060523, OVIDE,    44,  1,     22,2,20060604,0512, 49.5320, -22.0200, 4231,    495.8,   9.3170,  35.2630,2,  35.2670,2,    198.5,2,    195.7,2,     9.30,2,    18.48,2,     1.03,2,   2321.6,2,   7.7390,2,    25.00
  06MM20060523, OVIDE,    44,  1,     23,2,20060604,0512, 49.5320, -22.0200, 4231,    396.5,  10.5860,  35.4100,2,  35.4190,3,    210.6,2,    205.1,2,     7.11,2,    15.69,2,     0.79,2,   2328.5,2,   7.7780,2,    25.00
  06MM20060523, OVIDE,    44,  1,     24,2,20060604,0512, 49.5320, -22.0200, 4231,    296.3,  10.8410,  35.3830,2,  35.3810,2,    249.4,2,    244.3,2,     4.92,2,    10.74,2,     0.64,2,   -999.0,9,   7.8270,2,    25.00
  06MM20060523, OVIDE,    44,  1,     25,2,20060604,0512, 49.5320, -22.0200, 4231,    196.5,  11.5370,  35.5000,2,  35.5030,2,    246.8,2,    252.7,2,     3.51,2,     9.76,2,     0.51,2,   2333.1,2,   7.8520,2,    25.00
  06MM20060523, OVIDE,    44,  1,     26,2,20060604,0512, 49.5320, -22.0200, 4231,    147.5,  11.7240,  35.5330,2,  35.5340,2,    249.8,2,    252.6,2,  -999.00,9,     9.50,2,     0.50,2,   -999.0,9,   7.8610,2,    25.00
  06MM20060523, OVIDE,    44,  1,     27,2,20060604,0512, 49.5320, -22.0200, 4231,     97.5,  11.8220,  35.5260,2,  35.5440,3,    253.0,2,    251.4,2,     3.28,2,     9.19,2,     0.48,2,   2336.8,2,   7.8630,2,    25.00
  06MM20060523, OVIDE,    44,  1,     28,2,20060604,0512, 49.5320, -22.0200, 4231,     46.2,  12.3440,  35.5370,2,  35.5280,3,    258.7,2,    261.9,2,     1.23,2,     6.09,2,     0.35,2,   -999.0,9,   7.8940,2,    25.00
  06MM20060523, OVIDE,    44,  1,     29,2,20060604,0512, 49.5320, -22.0200, 4231,     11.0,  13.6650,  35.5240,2,  35.5270,2,    257.1,2,    266.6,3,     1.05,2,     4.96,2,     0.29,2,   2338.5,2,   7.9120,2,    25.00