BOTTLE,20140930PRINUNIVRMK
EXPOCODE,SECT_ID,STNNBR,CASTNO,BTLNBR,BTLNBR_FLAG_W,DATE,TIME,LATITUDE,LONGITUDE,DEPTH,CTDPRS,CTDTMP,CTDSAL,CTDSAL_FLAG_W,SALNTY,SALNTY_FLAG_W,CTDOXY,CTDOXY_FLAG_W,OXYGEN,OXYGEN_FLAG_W,SILCAT,SILCAT_FLAG_W,NITRAT,NITRAT_FLAG_W,PHSPHT,PHSPHT_FLAG_W,ALKALI,ALKALI_FLAG_W,PH_SWS,PH_SWS_FLAG_W,PH_TMP
,,,,,,,,,,METERS,DBAR,ITS-90,PSS-78,,PSS-78,,UMOL/KG,,UMOL/KG,,UMOL/KG,,UMOL/KG,,UMOL/KG,,UMOL/KG,,,,DEG C
  06MM20060523, OVIDE,    12,  1,      3,2,20060526,1921, 40.3350, -10.9050, 4852,   4931.7,   2.5080,  34.9000,2,  34.9020,2,    242.5,2,    243.5,2,    49.02,2,    23.90,2,     1.33,2,   2350.1,2,   7.7330,2,    25.00
  06MM20060523, OVIDE,    12,  1,      4,2,20060526,1921, 40.3350, -10.9050, 4852,   4196.3,   2.4690,  34.9050,2,  34.9070,2,    245.5,2,    244.1,2,    47.66,2,    23.80,2,     1.33,2,   2344.5,2,   7.7340,2,    25.00
  06MM20060523, OVIDE,    12,  1,      5,2,20060526,1921, 40.3350, -10.9050, 4852,   3746.1,   2.5170,  34.9160,2,  34.9210,2,    244.0,2,    243.8,2,    45.49,2,    23.41,2,     1.33,2,   2344.7,2,   7.7340,2,    25.00
  06MM20060523, OVIDE,    12,  1,      6,2,20060526,1921, 40.3350, -10.9050, 4852,   3746.9,   2.5180,  34.9160,2,  34.9160,2,    244.0,2,    244.1,2,    45.72,2,    23.46,2,     1.31,2,   2345.3,2,   7.7330,2,    25.00
  06MM20060523, OVIDE,    12,  1,      7,2,20060526,1921, 40.3350, -10.9050, 4852,   3497.2,   2.5740,  34.9230,2,  34.9240,2,    245.6,2,    244.7,2,    43.44,2,    23.14,2,     1.29,2,   2344.6,2,   7.7340,2,    25.00
  06MM20060523, OVIDE,    12,  1,      8,2,20060526,1921, 40.3350, -10.9050, 4852,   3245.1,   2.6730,  34.9340,2,  34.9390,2,    246.3,2,    246.2,2,    40.70,2,    22.75,2,     1.27,2,   2342.3,2,   7.7340,2,    25.00
  06MM20060523, OVIDE,    12,  1,      9,2,20060526,1921, 40.3350, -10.9050, 4852,   2997.0,   2.7980,  34.9470,2,  34.9490,2,    248.0,2,    247.6,2,    37.96,2,    22.26,2,     1.24,2,   2340.1,2,   7.7340,2,    25.00
  06MM20060523, OVIDE,    12,  1,     10,2,20060526,1921, 40.3350, -10.9050, 4852,   2737.3,   3.0630,  34.9750,2,  34.9770,2,    248.8,2,    247.6,2,    34.43,2,    21.87,2,     1.22,2,   2331.4,2,   7.7390,2,    25.00
  06MM20060523, OVIDE,    12,  1,     11,2,20060526,1921, 40.3350, -10.9050, 4852,   2496.7,   3.3610,  35.0060,2,  35.0090,2,    250.2,2,    247.8,2,    30.78,2,    21.33,2,     1.17,2,   2328.1,2,   7.7380,2,    25.00
  06MM20060523, OVIDE,    12,  1,     12,2,20060526,1921, 40.3350, -10.9050, 4852,   2246.7,   3.7410,  35.0440,2,  35.0460,2,    251.0,2,    249.9,2,    26.10,2,    20.50,2,     1.11,2,   2324.8,2,   7.7400,2,    25.00
  06MM20060523, OVIDE,    12,  1,     13,2,20060526,1921, 40.3350, -10.9050, 4852,   1994.8,   4.3790,  35.1180,2,  35.1200,2,    250.0,2,    248.2,2,    16.84,2,    19.84,2,     1.06,2,   2325.9,2,   7.7410,2,    25.00
  06MM20060523, OVIDE,    12,  1,     14,2,20060526,1921, 40.3350, -10.9050, 4852,   1794.2,   5.0390,  35.2060,2,  35.2040,2,    248.3,2,    242.7,2,    14.40,2,    19.40,2,     1.03,2,   2327.4,2,   7.7410,2,    25.00
  06MM20060523, OVIDE,    12,  1,     15,2,20060526,1921, 40.3350, -10.9050, 4852,   1595.7,   6.3640,  35.4280,2,  35.4560,3,    228.3,2,    225.3,2,    13.02,2,    19.07,2,     0.98,2,   2340.5,2,   7.7520,2,    25.00
  06MM20060523, OVIDE,    12,  1,     16,2,20060526,1921, 40.3350, -10.9050, 4852,   1395.7,   8.7800,  35.8340,2,  35.8330,2,    204.8,2,    201.8,2,    11.29,2,    18.82,2,     0.90,2,   2367.2,2,   7.7720,2,    25.00
  06MM20060523, OVIDE,    12,  1,     17,2,20060526,1921, 40.3350, -10.9050, 4852,   1145.6,  10.6580,  36.1240,2,  36.1300,2,    186.4,2,    184.4,2,     9.63,2,    17.79,2,     0.82,2,   2388.6,2,   7.7940,2,    25.00
  06MM20060523, OVIDE,    12,  1,     18,2,20060526,1921, 40.3350, -10.9050, 4852,    995.1,  11.0310,  36.1160,2,  36.1090,3,    184.0,2,    181.5,2,     9.12,2,    17.68,2,     0.82,2,   2386.6,2,   7.7930,2,    25.00
  06MM20060523, OVIDE,    12,  1,     19,2,20060526,1921, 40.3350, -10.9050, 4852,    915.8,  11.2410,  36.1030,2,  36.1080,2,    181.8,2,    180.7,2,     8.77,2,    17.39,2,     0.80,2,   2382.8,2,   7.7940,2,    25.00
  06MM20060523, OVIDE,    12,  1,     20,2,20060526,1921, 40.3350, -10.9050, 4852,    795.2,  11.3460,  36.0280,2,  36.0270,2,    183.5,2,    181.5,2,     8.34,2,    17.22,2,     0.79,2,   2377.2,2,   7.7930,2,    25.00
  06MM20060523, OVIDE,    12,  1,     21,2,20060526,1921, 40.3350, -10.9050, 4852,    695.7,  11.5790,  35.9880,2,  35.9930,2,    181.5,2,    182.4,2,     7.75,2,    16.88,2,     0.78,2,   2372.1,2,   7.7940,2,    25.00
  06MM20060523, OVIDE,    12,  1,     22,2,20060526,1921, 40.3350, -10.9050, 4852,    596.4,  11.6220,  35.8820,2,  35.8880,3,    184.0,2,    183.3,2,     7.39,2,    17.00,2,     0.79,2,   2360.7,2,   7.7930,2,    25.00
  06MM20060523, OVIDE,    12,  1,     23,2,20060526,1921, 40.3350, -10.9050, 4852,    497.0,  11.3500,  35.7060,2,  35.7070,2,    192.6,2,    188.7,2,     6.84,2,    17.23,2,     0.79,2,   -999.0,9,   7.7830,2,    25.00
  06MM20060523, OVIDE,    12,  1,     24,2,20060526,1921, 40.3350, -10.9050, 4852,    396.0,  11.6550,  35.6590,2,  35.6570,2,    207.1,2,    204.5,2,     5.35,2,    14.94,2,     0.68,2,   2343.1,2,   7.8050,2,    25.00
  06MM20060523, OVIDE,    12,  1,     25,2,20060526,1921, 40.3350, -10.9050, 4852,    294.8,  12.1410,  35.7100,2,  35.7100,2,    221.2,2,    215.7,2,     4.17,2,    12.49,2,     0.56,2,   -999.0,9,   7.8240,2,    25.00
  06MM20060523, OVIDE,    12,  1,     26,2,20060526,1921, 40.3350, -10.9050, 4852,    195.2,  12.7300,  35.8190,2,  35.8200,2,    234.7,2,    229.3,2,     3.22,2,     9.64,2,     0.42,2,   2347.1,2,   7.8550,2,    25.00
  06MM20060523, OVIDE,    12,  1,     27,2,20060526,1921, 40.3350, -10.9050, 4852,    147.8,  13.0030,  35.8680,2,  35.8650,2,    234.7,2,    231.1,2,     2.95,2,     8.90,2,     0.39,2,   -999.0,9,   7.8680,2,    25.00
  06MM20060523, OVIDE,    12,  1,     28,2,20060526,1921, 40.3350, -10.9050, 4852,     97.5,  13.4560,  35.9440,2,  35.9370,3,    228.4,2,    234.1,2,     2.60,2,     7.58,2,     0.32,2,   2355.7,2,   7.8790,2,    25.00
  06MM20060523, OVIDE,    12,  1,     29,2,20060526,1921, 40.3350, -10.9050, 4852,     48.8,  14.8220,  35.9300,2,  35.9330,2,    254.1,2,    259.2,2,     1.18,2,     0.28,2,     0.02,2,   -999.0,9,   7.9590,2,    25.00
  06MM20060523, OVIDE,    12,  1,     30,2,20060526,1921, 40.3350, -10.9050, 4852,     14.0,  16.9940,  35.9090,2,  35.9100,2,    242.7,2,    249.2,2,     0.94,2,     0.00,2,     0.01,2,   2359.6,2,   7.9870,2,    25.00
  06MM20060523, OVIDE,    13,  1,      3,2,20060526,1844, 40.3320, -10.9040, 4850,   4929.2,   2.5080,  34.9010,2,  34.9000,2,    244.4,2,    244.9,2,    47.13,2,    23.36,2,     1.34,2,   -999.0,9,   7.7340,2,    25.00
  06MM20060523, OVIDE,    13,  1,      4,2,20060526,1844, 40.3320, -10.9040, 4850,   4498.5,   2.4720,  34.9010,2,  34.9020,2,    246.7,2,    245.6,2,    47.69,2,    23.26,2,     1.33,2,   -999.0,9,   7.7350,2,    25.00
  06MM20060523, OVIDE,    13,  1,      5,2,20060526,1844, 40.3320, -10.9040, 4850,   3997.7,   2.4870,  34.9110,2,  34.9120,2,    244.8,2,    244.9,2,    45.91,2,    23.05,2,     1.32,2,   -999.0,9,   7.7340,2,    25.00
  06MM20060523, OVIDE,    13,  1,      6,2,20060526,1844, 40.3320, -10.9040, 4850,   3745.8,   2.5230,  34.9160,2,  34.9180,2,    245.7,2,    245.1,2,    44.80,2,    22.89,2,     1.30,2,   -999.0,9,   7.7340,2,    25.00
  06MM20060523, OVIDE,    13,  1,      7,2,20060526,1844, 40.3320, -10.9040, 4850,   3498.9,   2.5830,  34.9250,2,  34.9250,2,    245.5,2,    246.2,2,    42.81,2,    22.42,2,     1.28,2,   -999.0,9,   7.7350,2,    25.00
  06MM20060523, OVIDE,    13,  1,      8,2,20060526,1844, 40.3320, -10.9040, 4850,   3498.4,   2.5830,  34.9250,2,  34.9250,2,    245.6,2,    246.7,2,    43.47,2,    22.58,2,     1.31,2,   -999.0,9,   7.7340,2,    25.00
  06MM20060523, OVIDE,    13,  1,      9,2,20060526,1844, 40.3320, -10.9040, 4850,   2996.6,   2.8230,  34.9490,2,  34.9510,2,    248.2,2,    248.7,2,    37.48,2,    21.75,2,     1.23,2,   -999.0,9,   7.7370,2,    25.00
  06MM20060523, OVIDE,    13,  1,     10,2,20060526,1844, 40.3320, -10.9040, 4850,   2746.4,   3.0380,  34.9730,2,  34.9740,2,    248.9,2,    248.1,2,    34.27,2,    21.39,2,     1.21,2,   -999.0,9,   7.7390,2,    25.00
  06MM20060523, OVIDE,    13,  1,     11,2,20060526,1844, 40.3320, -10.9040, 4850,   2497.3,   3.3640,  35.0070,2,  35.0080,2,    249.6,2,    249.5,2,    30.16,2,    20.81,2,     1.18,2,   -999.0,9,   7.7420,2,    25.00
  06MM20060523, OVIDE,    13,  1,     12,2,20060526,1844, 40.3320, -10.9040, 4850,   2247.4,   3.7490,  35.0450,2,  35.0460,2,    252.6,2,    250.3,2,    25.73,2,    19.98,2,     1.11,2,   -999.0,9,   7.7400,2,    25.00
  06MM20060523, OVIDE,    13,  1,     13,2,20060526,1844, 40.3320, -10.9040, 4850,   1996.2,   4.3160,  35.1080,2,-999.0000,3,    248.7,2,    249.9,2,    24.84,2,    19.98,2,     1.11,2,   -999.0,9,   7.7410,2,    25.00
  06MM20060523, OVIDE,    13,  1,     14,2,20060526,1844, 40.3320, -10.9040, 4850,   1795.8,   4.9210,  35.1800,2,  35.1870,2,    245.5,2,    245.8,2,    14.29,2,    19.00,2,     1.03,2,   -999.0,9,   7.7410,2,    25.00
  06MM20060523, OVIDE,    13,  1,     15,2,20060526,1844, 40.3320, -10.9040, 4850,   1596.9,   6.6290,  35.4730,2,  35.4720,2,    226.1,2,    224.8,2,    13.06,2,    18.68,2,     0.98,2,   -999.0,9,   7.7530,2,    25.00
  06MM20060523, OVIDE,    13,  1,     16,2,20060526,1844, 40.3320, -10.9040, 4850,   1325.9,   9.0870,  35.8690,2,  35.8640,2,    200.0,2,    199.7,2,    10.52,2,    17.64,2,     0.89,2,   -999.0,9,   7.7750,2,    25.00
  06MM20060523, OVIDE,    13,  1,     17,2,20060526,1844, 40.3320, -10.9040, 4850,   1144.7,  10.5730,  36.1100,2,  36.1100,2,    183.9,2,    185.6,2,     9.10,2,    16.80,2,     0.83,2,   -999.0,9,   7.7910,2,    25.00
  06MM20060523, OVIDE,    13,  1,     18,2,20060526,1844, 40.3320, -10.9040, 4850,    996.4,  10.8220,  36.0750,2,  36.0750,2,    182.1,2,    183.9,2,     9.33,2,    16.80,2,     0.83,2,   -999.0,9,   7.7920,2,    25.00
  06MM20060523, OVIDE,    13,  1,     19,2,20060526,1844, 40.3320, -10.9040, 4850,    895.6,  11.0460,  36.0620,2,  36.0610,2,    182.6,2,    182.0,2,     8.91,2,    16.60,2,     0.82,2,   -999.0,9,   7.7920,2,    25.00
  06MM20060523, OVIDE,    13,  1,     20,2,20060526,1844, 40.3320, -10.9040, 4850,    796.7,  11.3020,  36.0370,2,  36.0360,2,    180.3,2,    182.0,2,     8.48,2,    16.29,2,     0.79,2,   -999.0,9,   7.7940,2,    25.00
  06MM20060523, OVIDE,    13,  1,     21,2,20060526,1844, 40.3320, -10.9040, 4850,    696.4,  11.6920,  36.0380,2,  36.0400,2,    178.7,2,    182.9,2,     7.52,2,    15.72,2,     0.76,2,   -999.0,9,   7.7960,2,    25.00
  06MM20060523, OVIDE,    13,  1,     22,2,20060526,1844, 40.3320, -10.9040, 4850,    596.7,  11.6180,  35.9090,2,  35.9120,2,    185.9,2,    183.3,2,     7.64,2,    15.98,2,     0.77,2,   -999.0,9,   7.7880,2,    25.00
  06MM20060523, OVIDE,    13,  1,     23,2,20060526,1844, 40.3320, -10.9040, 4850,    496.9,  11.4130,  35.7130,2,  35.7150,2,    192.4,2,    189.0,2,     6.87,2,    15.98,2,     0.80,2,   -999.0,9,   7.7820,2,    25.00
  06MM20060523, OVIDE,    13,  1,     24,2,20060526,1844, 40.3320, -10.9040, 4850,    397.0,  11.6120,  35.6540,2,  35.6540,2,    210.7,2,    204.7,2,     5.03,2,    14.11,2,     0.68,2,   -999.0,9,   7.8030,2,    25.00
  06MM20060523, OVIDE,    13,  1,     25,2,20060526,1844, 40.3320, -10.9040, 4850,    296.9,  12.0470,  35.6980,2,  35.6970,2,    218.3,2,    216.6,2,     4.38,2,    11.83,2,     0.56,2,   -999.0,9,   7.8210,2,    25.00
  06MM20060523, OVIDE,    13,  1,     26,2,20060526,1844, 40.3320, -10.9040, 4850,    196.4,  12.5960,  35.7930,2,  35.7970,2,    222.1,2,    228.2,2,     3.46,2,     9.60,2,     0.43,2,   -999.0,9,   7.8520,2,    25.00
  06MM20060523, OVIDE,    13,  1,     27,2,20060526,1844, 40.3320, -10.9040, 4850,    146.8,  13.0300,  35.8860,2,  35.8860,2,    230.1,2,    233.1,2,     3.11,2,     8.20,2,     0.38,2,   -999.0,9,   7.8650,2,    25.00
  06MM20060523, OVIDE,    13,  1,     28,2,20060526,1844, 40.3320, -10.9040, 4850,     97.2,  13.3350,  35.9320,2,  35.9300,2,    234.8,2,    234.0,2,     2.80,2,     7.42,2,     0.34,2,   -999.0,9,   7.8740,2,    25.00
  06MM20060523, OVIDE,    13,  1,     29,2,20060526,1844, 40.3320, -10.9040, 4850,     45.6,  14.6550,  35.9210,2,  35.9180,2,    277.2,2,    255.9,3,     1.19,2,     1.35,2,     0.09,2,   -999.0,9,   7.9400,2,    25.00
  06MM20060523, OVIDE,    13,  1,     30,2,20060526,1844, 40.3320, -10.9040, 4850,     13.5,  17.1640,  35.9010,2,  35.9110,3,    244.3,2,    250.3,2,     0.00,2,     0.10,2,     0.02,2,   -999.0,9,   7.9890,2,    25.00
  06MM20060523, OVIDE,    14,  1,      3,2,20060527,0014, 40.3330, -11.3410, 5100,   5187.9,   2.5350,  34.9000,2,  34.9000,2,    244.9,2,    245.0,2,    48.13,2,    22.77,2,     1.36,2,   2352.7,2,   7.7340,2,    25.00
  06MM20060523, OVIDE,    14,  1,      4,2,20060527,0014, 40.3330, -11.3410, 5100,   4496.6,   2.4780,  34.9040,2,  34.9030,2,    245.9,2,    245.3,2,    47.35,2,    22.66,2,     1.35,2,   2351.7,2,   7.7340,2,    25.00
  06MM20060523, OVIDE,    14,  1,      5,2,20060527,0014, 40.3330, -11.3410, 5100,   3996.8,   2.5120,  34.9120,2,  34.9140,2,    245.2,2,    245.3,2,    45.69,2,    22.61,2,     1.34,2,   2348.1,2,   7.7310,2,    25.00
  06MM20060523, OVIDE,    14,  1,      6,2,20060527,0014, 40.3330, -11.3410, 5100,   3746.0,   2.5510,  34.9190,2,  34.9180,2,    245.7,2,    245.6,2,    42.81,2,    22.34,2,     1.32,2,   2344.6,2,   7.7330,2,    25.00
  06MM20060523, OVIDE,    14,  1,      7,2,20060527,0014, 40.3330, -11.3410, 5100,   3496.5,   2.6220,  34.9280,2,  34.9280,2,    246.4,2,    247.2,2,    41.70,2,    21.90,2,     1.28,2,   2346.8,2,   7.7350,2,    25.00
  06MM20060523, OVIDE,    14,  1,      8,2,20060527,0014, 40.3330, -11.3410, 5100,   3245.5,   2.7090,  34.9380,2,  34.9380,2,    247.5,2,    248.4,2,    38.81,2,    21.58,2,     1.26,2,   2340.4,2,   7.7340,2,    25.00
  06MM20060523, OVIDE,    14,  1,      9,2,20060527,0014, 40.3330, -11.3410, 5100,   2996.2,   2.8360,  34.9500,2,  34.9510,2,    249.6,2,    249.0,2,    35.93,2,    21.25,2,     1.24,2,   2336.2,2,   7.7350,2,    25.00
  06MM20060523, OVIDE,    14,  1,     10,2,20060527,0014, 40.3330, -11.3410, 5100,   2996.7,   2.8360,  34.9510,2,  34.9520,2,    249.6,2,    249.4,2,    36.26,2,    21.14,2,     1.24,2,   2338.2,2,   7.7380,2,    25.00
  06MM20060523, OVIDE,    14,  1,     11,2,20060527,0014, 40.3330, -11.3410, 5100,   2494.5,   3.2870,  34.9970,2,  34.9980,2,    250.7,2,    250.8,2,    29.50,2,    20.38,2,     1.16,2,   2331.3,2,   7.7380,2,    25.00
  06MM20060523, OVIDE,    14,  1,     12,2,20060527,0014, 40.3330, -11.3410, 5100,   2248.7,   3.6560,  35.0290,2,  35.0270,2,    253.9,2,    252.3,2,    24.40,2,    19.73,2,     1.10,2,   2324.8,2,   7.7390,2,    25.00
  06MM20060523, OVIDE,    14,  1,     13,2,20060527,0014, 40.3330, -11.3410, 5100,   1995.1,   4.2070,  35.0870,2,  35.0870,2,    253.6,2,    253.3,2,    16.52,2,    18.97,2,     1.04,2,   2322.9,2,   7.7380,2,    25.00
  06MM20060523, OVIDE,    14,  1,     14,2,20060527,0014, 40.3330, -11.3410, 5100,   1795.9,   5.1040,  35.2130,2,  35.2010,3,    245.4,2,    245.0,2,    14.29,2,    18.65,2,     1.03,2,   2326.8,2,   7.7400,2,    25.00
  06MM20060523, OVIDE,    14,  1,     15,2,20060527,0014, 40.3330, -11.3410, 5100,   1595.7,   7.2280,  35.5890,2,  35.5900,2,    217.5,2,    219.0,2,    13.06,2,    18.21,2,     0.97,2,   2353.5,2,   7.7600,2,    25.00
  06MM20060523, OVIDE,    14,  1,     16,2,20060527,0014, 40.3330, -11.3410, 5100,   1395.0,   9.4560,  35.9590,2,  35.9400,3,    198.8,2,    198.4,2,    10.98,2,    17.12,2,     0.88,2,   2375.2,2,   7.7780,2,    25.00
  06MM20060523, OVIDE,    14,  1,     17,2,20060527,0014, 40.3330, -11.3410, 5100,   1254.4,  10.5240,  36.1400,2,  36.1400,2,    186.3,2,    187.5,2,    10.10,2,    16.47,2,     0.83,2,   2389.8,2,   7.7900,2,    25.00
  06MM20060523, OVIDE,    14,  1,     18,2,20060527,0014, 40.3330, -11.3410, 5100,    993.8,  11.2560,  36.1480,2,  36.1480,2,    182.2,2,    181.9,2,     9.21,2,    16.09,2,     0.80,2,   2387.9,2,   7.7940,2,    25.00
  06MM20060523, OVIDE,    14,  1,     19,2,20060527,0014, 40.3330, -11.3410, 5100,    868.8,  11.3260,  36.0690,2,  36.0690,2,    180.7,2,    181.5,2,     8.91,2,    16.14,2,     0.82,2,   2380.7,2,   7.7920,2,    25.00
  06MM20060523, OVIDE,    14,  1,     20,2,20060527,0014, 40.3330, -11.3410, 5100,    795.7,  11.6030,  36.0720,2,  36.0740,2,    182.9,2,    182.2,2,     8.41,2,    15.66,2,     0.79,2,   2379.4,2,   7.7970,2,    25.00
  06MM20060523, OVIDE,    14,  1,     21,2,20060527,0014, 40.3330, -11.3410, 5100,    695.5,  11.5660,  35.9330,2,  35.9400,3,    181.3,2,    183.5,2,     8.06,2,    15.87,2,     0.78,2,   2366.4,2,   7.7900,2,    25.00
  06MM20060523, OVIDE,    14,  1,     22,2,20060527,0014, 40.3330, -11.3410, 5100,    593.2,  11.3970,  35.7760,2,-999.0000,3,    187.7,2,    185.7,2,     7.68,2,    16.09,2,     0.80,2,   2353.6,2,   7.7850,2,    25.00
  06MM20060523, OVIDE,    14,  1,     23,2,20060527,0014, 40.3330, -11.3410, 5100,    497.1,  11.4260,  35.6830,2,  35.6930,3,    198.4,2,    191.3,3,  -999.00,3,    15.66,2,     0.78,2,   -999.0,9,   7.7840,2,    25.00
  06MM20060523, OVIDE,    14,  1,     24,2,20060527,0014, 40.3330, -11.3410, 5100,    397.2,  11.7620,  35.6540,2,  35.6530,2,    216.2,2,    214.5,2,     5.03,2,    12.68,2,     0.60,2,   2339.9,2,   7.8180,2,    25.00
  06MM20060523, OVIDE,    14,  1,     25,2,20060527,0014, 40.3330, -11.3410, 5100,    296.3,  12.3480,  35.7460,2,  35.7440,2,    229.6,2,    229.0,2,     3.30,2,     9.64,2,     0.44,2,   -999.0,9,   7.8390,2,    25.00
  06MM20060523, OVIDE,    14,  1,     26,2,20060527,0014, 40.3330, -11.3410, 5100,    196.3,  12.9880,  35.8790,2,  35.8770,2,    235.6,2,    235.1,2,     2.76,2,     7.75,2,     0.38,2,   2352.2,2,   7.8670,2,    25.00
  06MM20060523, OVIDE,    14,  1,     27,2,20060527,0014, 40.3330, -11.3410, 5100,    148.3,  13.0720,  35.8680,2,  35.8730,2,    231.6,2,    236.2,2,     2.53,2,     7.37,2,     0.35,2,   -999.0,9,   7.8730,2,    25.00
  06MM20060523, OVIDE,    14,  1,     28,2,20060527,0014, 40.3330, -11.3410, 5100,     97.2,  13.5380,  35.8890,2,  35.8890,2,    242.5,2,    240.9,2,     1.84,2,     5.69,2,     0.26,2,   2352.2,2,   7.8920,2,    25.00
  06MM20060523, OVIDE,    14,  1,     29,2,20060527,0014, 40.3330, -11.3410, 5100,     45.9,  14.8790,  35.9170,2,  35.9040,3,    265.3,2,    260.7,2,     1.08,2,     0.54,2,     0.04,2,   -999.0,9,   7.9510,2,    25.00
  06MM20060523, OVIDE,    14,  1,     30,2,20060527,0014, 40.3330, -11.3410, 5100,     12.3,  16.9430,  35.8830,2,  35.8840,2,    242.9,2,    248.6,2,     0.92,2,     0.00,2,     0.02,2,   2357.3,2,   7.9740,2,    25.00