BOTTLE,20140930PRINUNIVRMK
EXPOCODE,SECT_ID,STNNBR,CASTNO,BTLNBR,BTLNBR_FLAG_W,DATE,TIME,LATITUDE,LONGITUDE,DEPTH,CTDPRS,CTDTMP,CTDSAL,CTDSAL_FLAG_W,SALNTY,SALNTY_FLAG_W,CTDOXY,CTDOXY_FLAG_W,OXYGEN,OXYGEN_FLAG_W,SILCAT,SILCAT_FLAG_W,NITRAT,NITRAT_FLAG_W,PHSPHT,PHSPHT_FLAG_W,ALKALI,ALKALI_FLAG_W,PH_SWS,PH_SWS_FLAG_W,PH_TMP
,,,,,,,,,,METERS,DBAR,ITS-90,PSS-78,,PSS-78,,UMOL/KG,,UMOL/KG,,UMOL/KG,,UMOL/KG,,UMOL/KG,,UMOL/KG,,,,DEG C
  06MM20060523, OVIDE,    51,  1,      3,2,20060606,0330, 52.1450, -24.0700, 3909,   3961.7,   2.7220,  34.9350,2,  34.9330,2,    254.4,2,    254.3,2,    36.31,2,    20.64,2,     1.14,2,   -999.0,9,   7.7260,2,    25.00
  06MM20060523, OVIDE,    51,  1,      4,2,20060606,0330, 52.1450, -24.0700, 3909,   3748.0,   2.7560,  34.9410,2,  34.9400,2,    259.1,2,    258.5,2,    32.32,2,    19.72,2,     1.16,2,   -999.0,9,   7.7260,2,    25.00
  06MM20060523, OVIDE,    51,  1,      5,2,20060606,0330, 52.1450, -24.0700, 3909,   3497.4,   2.8220,  34.9500,2,  34.9500,2,    263.7,2,    264.9,2,    26.01,2,    18.86,2,     1.08,2,   -999.0,9,   7.7250,2,    25.00
  06MM20060523, OVIDE,    51,  1,      6,2,20060606,0330, 52.1450, -24.0700, 3909,   3246.0,   2.8940,  34.9510,2,  34.9510,2,    268.1,2,    269.4,2,    19.25,2,    18.20,2,     1.05,2,   -999.0,9,   7.7260,2,    25.00
  06MM20060523, OVIDE,    51,  1,      7,2,20060606,0330, 52.1450, -24.0700, 3909,   2996.7,   2.9780,  34.9450,2,  34.9450,2,    274.3,2,    273.1,2,    16.22,2,    17.54,2,     1.03,2,   -999.0,9,   7.7270,2,    25.00
  06MM20060523, OVIDE,    51,  1,      8,2,20060606,0330, 52.1450, -24.0700, 3909,   2746.1,   3.0500,  34.9360,2,  34.9370,2,    277.6,2,    276.5,2,    14.79,2,    17.48,2,     1.04,2,   -999.0,9,   7.7290,2,    25.00
  06MM20060523, OVIDE,    51,  1,      9,2,20060606,0330, 52.1450, -24.0700, 3909,   2498.2,   3.1370,  34.9180,2,  34.9200,2,    281.0,2,    279.3,2,    13.01,2,    17.23,2,     0.97,2,   -999.0,9,   7.7270,2,    25.00
  06MM20060523, OVIDE,    51,  1,     10,2,20060606,0330, 52.1450, -24.0700, 3909,   2245.2,   3.1990,  34.9060,2,  34.9080,2,    280.5,2,    281.7,2,    11.99,2,    17.33,2,     1.02,2,   -999.0,9,   7.7260,2,    25.00
  06MM20060523, OVIDE,    51,  1,     11,2,20060606,0330, 52.1450, -24.0700, 3909,   1996.9,   3.3290,  34.8990,2,  34.9010,2,    279.9,2,    280.8,2,    11.50,2,    17.33,2,     1.00,2,   -999.0,9,   7.7240,2,    25.00
  06MM20060523, OVIDE,    51,  1,     12,2,20060606,0330, 52.1450, -24.0700, 3909,   1794.0,   3.4560,  34.9020,2,  34.9020,2,    278.2,2,    280.1,2,    11.32,2,    17.54,2,     1.04,2,   -999.0,9,   7.7240,2,    25.00
  06MM20060523, OVIDE,    51,  1,     13,2,20060606,0330, 52.1450, -24.0700, 3909,   1598.5,   3.5900,  34.9020,2,  34.9030,2,    278.3,2,    278.2,2,    10.87,2,    17.48,2,     1.03,2,   -999.0,9,   7.7210,2,    25.00
  06MM20060523, OVIDE,    51,  1,     14,2,20060606,0330, 52.1450, -24.0700, 3909,   1396.2,   3.6870,  34.8970,2,  34.8990,2,    277.4,2,    279.1,2,    10.83,2,    17.54,2,     1.04,2,   -999.0,9,   7.7170,2,    25.00
  06MM20060523, OVIDE,    51,  1,     15,2,20060606,0330, 52.1450, -24.0700, 3909,   1196.6,   3.8450,  34.9050,2,  34.9030,2,    277.9,2,    275.5,2,    10.25,2,    17.59,2,     1.04,2,   -999.0,9,   7.7160,2,    25.00
  06MM20060523, OVIDE,    51,  1,     16,2,20060606,0330, 52.1450, -24.0700, 3909,   1196.2,   3.8460,  34.9050,2,  34.9050,2,    277.9,2,    275.7,2,    10.20,2,    17.54,2,     1.02,2,   -999.0,9,   7.7160,2,    25.00
  06MM20060523, OVIDE,    51,  1,     17,2,20060606,0330, 52.1450, -24.0700, 3909,    997.0,   4.1620,  34.9220,2,  34.9200,2,    267.9,2,    268.2,2,    10.34,2,    17.54,2,     1.05,2,   -999.0,9,   7.7140,2,    25.00
  06MM20060523, OVIDE,    51,  1,     18,2,20060606,0330, 52.1450, -24.0700, 3909,    896.7,   4.4530,  34.9340,2,  34.9310,2,    262.0,2,    261.7,2,    10.38,2,    18.14,2,     1.04,2,   -999.0,9,   7.7080,2,    25.00
  06MM20060523, OVIDE,    51,  1,     19,2,20060606,0330, 52.1450, -24.0700, 3909,    798.8,   4.8030,  34.9490,2,  34.9490,2,    249.8,2,    253.1,2,    10.60,2,    18.45,2,     1.05,2,   -999.0,9,   7.7060,2,    25.00
  06MM20060523, OVIDE,    51,  1,     20,2,20060606,0330, 52.1450, -24.0700, 3909,    697.8,   5.4340,  34.9650,2,  34.9610,2,    240.6,2,    237.4,2,    10.92,2,    18.91,2,     1.14,2,   -999.0,9,   7.7000,2,    25.00
  06MM20060523, OVIDE,    51,  1,     21,2,20060606,0330, 52.1450, -24.0700, 3909,    597.3,   6.4970,  35.0370,2,  35.0320,2,    217.9,2,    216.1,2,    11.14,2,    19.42,2,     1.15,2,   -999.0,9,   7.7020,2,    25.00
  06MM20060523, OVIDE,    51,  1,     22,2,20060606,0330, 52.1450, -24.0700, 3909,    496.3,   7.1930,  34.9940,2,  35.0000,2,    200.9,2,    202.9,2,    11.10,2,    20.08,2,     1.14,2,   -999.0,9,   7.6980,2,    25.00
  06MM20060523, OVIDE,    51,  1,     23,2,20060606,0330, 52.1450, -24.0700, 3909,    407.7,   8.6440,  35.0820,2,  35.0800,2,    190.0,2,    191.1,2,    10.38,2,    19.41,2,     1.11,2,   -999.0,9,   7.7160,2,    25.00
  06MM20060523, OVIDE,    51,  1,     24,2,20060606,0330, 52.1450, -24.0700, 3909,    297.5,   9.9150,  35.2030,2,  35.1810,3,    229.7,2,    213.2,3,     7.66,2,    15.65,2,     0.91,2,   -999.0,9,   7.7700,2,    25.00
  06MM20060523, OVIDE,    51,  1,     25,2,20060606,0330, 52.1450, -24.0700, 3909,    196.5,  11.3450,  35.4250,2,  35.4190,2,    253.4,2,    252.1,2,     4.14,2,    10.47,2,     0.58,2,   -999.0,9,   7.8520,2,    25.00
  06MM20060523, OVIDE,    51,  1,     26,2,20060606,0330, 52.1450, -24.0700, 3909,    148.2,  11.6210,  35.4790,2,  35.4820,2,    250.1,2,    255.5,2,     3.83,2,     9.96,2,     0.55,2,   -999.0,9,   7.8590,2,    25.00
  06MM20060523, OVIDE,    51,  1,     27,2,20060606,0330, 52.1450, -24.0700, 3909,     99.1,  11.8100,  35.4920,2,  35.4930,2,    261.5,2,    257.5,2,     2.98,2,     8.18,2,     0.47,2,   -999.0,9,   7.8760,2,    25.00
  06MM20060523, OVIDE,    51,  1,     28,2,20060606,0330, 52.1450, -24.0700, 3909,     57.6,  12.1040,  35.4700,2,  35.4730,2,    266.7,2,    266.5,2,     0.85,2,     5.94,2,     0.36,2,   -999.0,9,   7.9030,2,    25.00
  06MM20060523, OVIDE,    51,  1,     29,2,20060606,0330, 52.1450, -24.0700, 3909,     11.1,  12.4100,  35.4030,2,  35.4100,3,    269.5,2,    272.9,2,     0.76,2,     5.03,2,     0.32,2,   -999.0,9,   7.9200,2,    25.00
  06MM20060523, OVIDE,    52,  1,      3,2,20060607,0911, 52.5220, -24.3630, 3600,   3646.4,   2.6690,  34.9350,2,  34.9330,2,    252.4,2,    253.2,2,    36.56,2,    21.15,2,     1.20,2,   -999.0,9,   7.7250,2,    25.00
  06MM20060523, OVIDE,    52,  1,      4,2,20060607,0911, 52.5220, -24.3630, 3600,   3497.8,   2.7540,  34.9460,2,  34.9450,2,    261.4,2,    259.9,2,    29.61,2,    19.52,2,     1.11,2,   -999.0,9,   7.7250,2,    25.00
  06MM20060523, OVIDE,    52,  1,      5,2,20060607,0911, 52.5220, -24.3630, 3600,   3245.3,   2.8210,  34.9530,2,  34.9510,2,    265.7,2,    265.5,2,    24.72,2,    18.64,2,     1.03,2,   -999.0,9,   7.7280,2,    25.00
  06MM20060523, OVIDE,    52,  1,      6,2,20060607,0911, 52.5220, -24.3630, 3600,   2996.4,   2.9100,  34.9510,2,  34.9490,2,    268.3,2,    269.8,2,    18.19,2,    18.05,2,     0.98,2,   -999.0,9,   7.7270,2,    25.00
  06MM20060523, OVIDE,    52,  1,      7,2,20060607,0911, 52.5220, -24.3630, 3600,   2746.2,   3.0210,  34.9390,2,  34.9380,2,    274.7,2,    274.8,2,    14.64,2,    17.34,2,     0.98,2,   -999.0,9,   7.7260,2,    25.00
  06MM20060523, OVIDE,    52,  1,      8,2,20060607,0911, 52.5220, -24.3630, 3600,   2499.1,   3.1210,  34.9230,2,  34.9220,2,    278.1,2,    278.0,2,    12.55,2,    17.50,2,     0.98,2,   -999.0,9,   7.7300,2,    25.00
  06MM20060523, OVIDE,    52,  1,      9,2,20060607,0911, 52.5220, -24.3630, 3600,   2246.1,   3.1930,  34.9090,2,  34.9070,2,    280.9,2,    280.2,2,    11.80,2,    17.72,2,     0.98,2,   -999.0,9,   7.7270,2,    25.00
  06MM20060523, OVIDE,    52,  1,     10,2,20060607,0911, 52.5220, -24.3630, 3600,   1995.7,   3.3130,  34.9020,2,  34.9000,2,    281.1,2,    280.6,2,    11.53,2,    17.66,2,     1.00,2,   -999.0,9,   7.7240,2,    25.00
  06MM20060523, OVIDE,    52,  1,     11,2,20060607,0911, 52.5220, -24.3630, 3600,   1797.2,   3.4690,  34.9060,2,  34.9060,2,    278.5,2,    277.7,2,    12.51,2,    17.72,2,     1.00,2,   -999.0,9,   7.7200,2,    25.00
  06MM20060523, OVIDE,    52,  1,     12,2,20060607,0911, 52.5220, -24.3630, 3600,   1595.7,   3.5950,  34.9040,2,  34.9020,2,    275.5,2,    277.0,2,    12.11,2,    17.72,2,     0.96,2,   -999.0,9,   7.7190,2,    25.00
  06MM20060523, OVIDE,    52,  1,     13,2,20060607,0911, 52.5220, -24.3630, 3600,   1395.9,   3.6200,  34.8900,2,  34.8890,2,    281.0,2,    280.6,2,    10.11,2,    17.61,2,     0.96,2,   -999.0,9,   7.7170,2,    25.00
  06MM20060523, OVIDE,    52,  1,     14,2,20060607,0911, 52.5220, -24.3630, 3600,   1196.0,   3.8520,  34.8990,2,  34.8960,2,    275.1,2,    277.1,2,    10.29,2,    18.16,2,     0.98,2,   -999.0,9,   7.7120,2,    25.00
  06MM20060523, OVIDE,    52,  1,     15,2,20060607,0911, 52.5220, -24.3630, 3600,    995.6,   4.1590,  34.9170,2,  34.9120,2,    266.9,2,    269.8,2,    10.07,2,    18.21,2,     1.02,2,   -999.0,9,   7.7100,2,    25.00
  06MM20060523, OVIDE,    52,  1,     16,2,20060607,0911, 52.5220, -24.3630, 3600,    894.8,   4.5830,  34.9490,2,  34.9460,2,    261.6,2,    257.4,2,    10.65,2,    18.32,2,     1.00,2,   -999.0,9,   7.7080,2,    25.00
  06MM20060523, OVIDE,    52,  1,     17,2,20060607,0911, 52.5220, -24.3630, 3600,    753.4,   5.4840,  34.9970,2,  34.9960,2,    235.9,2,    235.0,2,    10.96,2,    19.35,2,     1.03,2,   -999.0,9,   7.7040,2,    25.00
  06MM20060523, OVIDE,    52,  1,     18,2,20060607,0911, 52.5220, -24.3630, 3600,    753.8,   5.4900,  34.9990,2,  34.9970,2,    235.8,2,    234.8,2,    11.09,2,    19.57,2,     1.09,2,   -999.0,9,   7.7030,2,    25.00
  06MM20060523, OVIDE,    52,  1,     19,2,20060607,0911, 52.5220, -24.3630, 3600,    695.9,   5.8950,  35.0000,2,  35.0020,2,    228.2,2,    225.4,2,    11.18,2,    20.01,2,     1.07,2,   -999.0,9,   7.7010,2,    25.00
  06MM20060523, OVIDE,    52,  1,     20,2,20060607,0911, 52.5220, -24.3630, 3600,    595.8,   7.0460,  35.0980,2,  35.0930,2,    202.3,2,    205.5,2,    11.27,2,    20.11,2,     1.06,2,   -999.0,9,   7.7070,2,    25.00
  06MM20060523, OVIDE,    52,  1,     21,2,20060607,0911, 52.5220, -24.3630, 3600,    497.3,   8.6840,  35.1990,2,  35.1960,2,    188.5,2,    191.1,2,    10.38,2,    20.17,2,     1.02,2,   -999.0,9,   7.7220,2,    25.00
  06MM20060523, OVIDE,    52,  1,     22,2,20060607,0911, 52.5220, -24.3630, 3600,    396.4,  10.0920,  35.3200,2,  35.3130,3,    201.2,2,    199.5,2,     8.12,2,    17.39,2,     0.91,2,   -999.0,9,   7.7600,2,    25.00
  06MM20060523, OVIDE,    52,  1,     23,2,20060607,0911, 52.5220, -24.3630, 3600,    296.2,  10.8460,  35.3690,2,  35.3680,2,    241.0,2,    231.4,3,     5.59,2,    13.30,2,     0.64,2,   -999.0,9,   7.8170,2,    25.00
  06MM20060523, OVIDE,    52,  1,     24,2,20060607,0911, 52.5220, -24.3630, 3600,    197.0,  11.5980,  35.4950,2,  35.4960,2,    256.3,2,    256.1,2,     2.93,2,     9.59,2,     0.50,2,   -999.0,9,   7.8630,2,    25.00
  06MM20060523, OVIDE,    52,  1,     25,2,20060607,0911, 52.5220, -24.3630, 3600,    147.2,  11.6480,  35.4980,2,  35.4970,2,    250.1,2,    255.1,2,     2.93,2,     9.70,2,     0.49,2,   -999.0,9,   7.8630,2,    25.00
  06MM20060523, OVIDE,    52,  1,     26,2,20060607,0911, 52.5220, -24.3630, 3600,     96.3,  11.7860,  35.5020,2,  35.5000,2,    264.4,2,    258.5,2,     2.04,2,     7.96,2,     0.44,2,   -999.0,9,   7.8790,2,    25.00
  06MM20060523, OVIDE,    52,  1,     27,2,20060607,0911, 52.5220, -24.3630, 3600,     46.5,  11.8620,  35.3970,2,  35.3960,2,    272.5,2,    272.7,2,     0.53,2,     5.40,2,     0.31,2,   -999.0,9,   7.9120,2,    25.00
  06MM20060523, OVIDE,    52,  1,     28,2,20060607,0911, 52.5220, -24.3630, 3600,      6.6,  12.5690,  35.4220,2,  35.4200,2,    271.5,2,    274.3,2,     0.58,2,     5.01,2,     0.28,2,   -999.0,9,   7.9220,2,    25.00
  06MM20060523, OVIDE,    53,  1,      3,2,20060607,1723, 52.8930, -24.6550, 3628,   3672.7,   2.6580,  34.9300,2,  34.9300,2,    250.8,2,    250.0,2,    37.17,2,    20.94,2,  -999.00,3,   2337.8,2,   7.7270,2,    25.00
  06MM20060523, OVIDE,    53,  1,      4,2,20060607,1723, 52.8930, -24.6550, 3628,   3496.1,   2.7420,  34.9410,2,  34.9420,2,    256.8,2,    258.1,2,    30.14,2,    19.62,2,     1.25,2,   2328.5,2,   7.7280,2,    25.00
  06MM20060523, OVIDE,    53,  1,      5,2,20060607,1723, 52.8930, -24.6550, 3628,   3242.6,   2.8340,  34.9500,2,  34.9490,2,    265.4,2,    265.3,2,    21.29,2,    18.41,2,     1.14,2,   2318.1,2,   7.7230,2,    25.00
  06MM20060523, OVIDE,    53,  1,      6,2,20060607,1723, 52.8930, -24.6550, 3628,   2994.6,   2.9260,  34.9450,2,  34.9450,2,    268.3,2,    267.5,2,    19.70,2,    18.20,2,     1.09,2,   -999.0,9,   7.7250,2,    25.00
  06MM20060523, OVIDE,    53,  1,      7,2,20060607,1723, 52.8930, -24.6550, 3628,   2744.7,   3.0380,  34.9330,2,  34.9320,2,    276.1,2,    276.1,2,    12.60,2,    17.36,2,     1.07,2,   2307.4,2,   7.7260,2,    25.00
  06MM20060523, OVIDE,    53,  1,      8,2,20060607,1723, 52.8930, -24.6550, 3628,   2496.6,   3.1330,  34.9210,2,  34.9200,2,    279.0,2,    279.1,2,    12.60,2,    17.36,2,     1.02,2,   2302.4,2,   7.7250,2,    25.00
  06MM20060523, OVIDE,    53,  1,      9,2,20060607,1723, 52.8930, -24.6550, 3628,   2244.7,   3.2010,  34.9060,2,  34.9050,2,    280.7,2,    280.7,2,    12.07,2,    17.30,2,     1.05,2,   2300.2,2,   7.7250,2,    25.00
  06MM20060523, OVIDE,    53,  1,     10,2,20060607,1723, 52.8930, -24.6550, 3628,   1995.0,   3.2970,  34.8990,2,  34.9000,2,    280.5,2,    280.5,2,    11.53,2,    17.51,2,     1.03,2,   2300.4,2,   7.7220,2,    25.00
  06MM20060523, OVIDE,    53,  1,     11,2,20060607,1723, 52.8930, -24.6550, 3628,   1795.1,   3.4510,  34.9030,2,  34.9040,2,    278.7,2,    278.8,2,    11.31,2,    17.78,2,     1.00,2,   2300.4,2,   7.7250,2,    25.00
  06MM20060523, OVIDE,    53,  1,     12,2,20060607,1723, 52.8930, -24.6550, 3628,   1594.9,   3.5560,  34.9010,2,  34.9020,2,    278.4,2,    280.0,2,    10.91,2,    17.62,2,     1.03,2,   2300.9,2,   7.7190,2,    25.00
  06MM20060523, OVIDE,    53,  1,     13,2,20060607,1723, 52.8930, -24.6550, 3628,   1394.6,   3.6230,  34.8900,2,  34.8900,2,    281.6,2,    280.5,2,    10.29,2,    17.73,2,     0.99,2,   2300.7,2,   7.7180,2,    25.00
  06MM20060523, OVIDE,    53,  1,     14,2,20060607,1723, 52.8930, -24.6550, 3628,   1194.7,   3.8090,  34.8990,2,  34.8970,2,    278.9,2,    277.6,2,    10.11,2,    17.51,2,     0.96,2,   2300.0,2,   7.7150,2,    25.00
  06MM20060523, OVIDE,    53,  1,     15,2,20060607,1723, 52.8930, -24.6550, 3628,    994.6,   4.0630,  34.9080,2,  34.9070,2,    271.2,2,    272.3,2,     9.98,2,    17.94,2,     1.02,2,   2301.9,2,   7.7110,2,    25.00
  06MM20060523, OVIDE,    53,  1,     16,2,20060607,1723, 52.8930, -24.6550, 3628,    894.7,   4.5290,  34.9600,2,  34.9550,2,    257.4,2,    259.4,2,    10.47,2,    18.52,2,     1.05,2,   -999.0,9,   7.7120,2,    25.00
  06MM20060523, OVIDE,    53,  1,     17,2,20060607,1723, 52.8930, -24.6550, 3628,    795.8,   5.1300,  35.0120,2,  35.0100,2,    249.9,2,    244.6,2,    10.91,2,    18.94,2,     1.03,2,   2307.4,2,   7.7130,2,    25.00
  06MM20060523, OVIDE,    53,  1,     18,2,20060607,1723, 52.8930, -24.6550, 3628,    694.4,   5.0560,  34.9290,2,  34.9280,2,    244.9,2,    243.6,2,    10.78,2,    19.25,2,     1.10,2,   -999.0,9,   7.6980,2,    25.00
  06MM20060523, OVIDE,    53,  1,     19,2,20060607,1723, 52.8930, -24.6550, 3628,    593.8,   6.4470,  35.0540,2,  35.0460,3,    211.8,2,    217.0,2,    11.27,2,    19.83,2,     1.10,2,   2311.8,2,   7.7020,2,    25.00
  06MM20060523, OVIDE,    53,  1,     20,2,20060607,1723, 52.8930, -24.6550, 3628,    594.7,   6.4460,  35.0530,2,  35.0520,2,    212.0,2,    216.5,2,    11.22,2,    19.89,2,     1.18,2,   2311.4,2,   7.7010,2,    25.00
  06MM20060523, OVIDE,    53,  1,     21,2,20060607,1723, 52.8930, -24.6550, 3628,    494.6,   7.8580,  35.1720,2,  35.1750,2,    198.2,2,    197.0,2,    10.91,2,    20.15,2,     1.18,2,   2319.1,2,   7.7150,2,    25.00
  06MM20060523, OVIDE,    53,  1,     22,2,20060607,1723, 52.8930, -24.6550, 3628,    395.6,   7.6620,  34.9410,2,  34.9430,2,    195.0,2,    212.7,3,     9.85,2,    18.78,2,     1.15,2,   2305.7,2,   7.7190,2,    25.00
  06MM20060523, OVIDE,    53,  1,     23,2,20060607,1723, 52.8930, -24.6550, 3628,    294.8,  10.3000,  35.3040,2,  35.3010,2,    220.9,2,    209.3,2,     7.27,2,    16.03,2,     1.09,2,   -999.0,9,   7.7790,2,    25.00
  06MM20060523, OVIDE,    53,  1,     24,2,20060607,1723, 52.8930, -24.6550, 3628,    195.5,  10.9670,  35.3640,2,  35.3630,2,    251.8,2,    255.1,2,     3.02,2,    10.34,2,     0.89,2,   2328.5,2,   7.8500,2,    25.00
  06MM20060523, OVIDE,    53,  1,     25,2,20060607,1723, 52.8930, -24.6550, 3628,    145.6,  11.4590,  35.4580,2,  35.4570,2,    251.2,2,    252.6,2,     3.90,2,    10.39,2,     0.59,2,   -999.0,9,   7.8540,2,    25.00
  06MM20060523, OVIDE,    53,  1,     26,2,20060607,1723, 52.8930, -24.6550, 3628,     96.1,  11.7380,  35.5040,2,  35.5060,2,    249.0,2,    253.7,2,     3.02,2,     9.33,2,     0.51,2,   2333.6,2,   7.8640,2,    25.00
  06MM20060523, OVIDE,    53,  1,     27,2,20060607,1723, 52.8930, -24.6550, 3628,     46.1,  12.0950,  35.4910,2,  35.4970,3,    260.0,2,    266.8,2,     0.75,2,     6.28,2,     0.51,2,   -999.0,9,   7.8990,2,    25.00
  06MM20060523, OVIDE,    53,  1,     28,2,20060607,1723, 52.8930, -24.6550, 3628,     12.3,  12.8080,  35.3980,2,  35.4000,2,    282.2,2,    275.8,2,     0.49,2,     4.64,2,     0.37,2,   2331.7,2,   7.9290,2,    25.00