BOTTLE,20140930PRINUNIVRMK
EXPOCODE,SECT_ID,STNNBR,CASTNO,BTLNBR,BTLNBR_FLAG_W,DATE,TIME,LATITUDE,LONGITUDE,DEPTH,CTDPRS,CTDTMP,CTDSAL,CTDSAL_FLAG_W,SALNTY,SALNTY_FLAG_W,CTDOXY,CTDOXY_FLAG_W,OXYGEN,OXYGEN_FLAG_W,SILCAT,SILCAT_FLAG_W,NITRAT,NITRAT_FLAG_W,PHSPHT,PHSPHT_FLAG_W,ALKALI,ALKALI_FLAG_W,PH_SWS,PH_SWS_FLAG_W,PH_TMP
,,,,,,,,,,METERS,DBAR,ITS-90,PSS-78,,PSS-78,,UMOL/KG,,UMOL/KG,,UMOL/KG,,UMOL/KG,,UMOL/KG,,UMOL/KG,,,,DEG C
  06MM20060523, OVIDE,    95,  1,      3,2,20060616,1354, 59.7700, -41.3010, 2043,   2055.0,   2.3180,  34.8920,2,  34.8950,2,    298.9,2,    299.0,2,     8.20,2,    13.92,2,     0.75,2,   -999.0,9,   7.7330,2,    25.00
  06MM20060523, OVIDE,    95,  1,      4,2,20060616,1354, 59.7700, -41.3010, 2043,   1995.9,   2.3570,  34.8930,2,  34.8910,2,    297.6,2,    298.7,2,     8.24,2,    12.70,2,     0.80,2,   -999.0,9,   7.7330,2,    25.00
  06MM20060523, OVIDE,    95,  1,      5,2,20060616,1354, 59.7700, -41.3010, 2043,   1946.3,   2.4160,  34.8930,2,  34.8940,2,    297.7,2,    298.3,2,     8.32,2,    14.32,2,     0.81,2,   -999.0,9,   7.7310,2,    25.00
  06MM20060523, OVIDE,    95,  1,      6,2,20060616,1354, 59.7700, -41.3010, 2043,   1847.9,   2.5460,  34.8950,2,  34.8960,2,    295.9,2,    305.9,3,     8.75,2,    14.59,2,     0.84,2,   -999.0,9,   7.7300,2,    25.00
  06MM20060523, OVIDE,    95,  1,      7,2,20060616,1354, 59.7700, -41.3010, 2043,   1594.4,   2.9880,  34.9100,2,  34.9110,2,    286.2,2,    286.0,2,     9.95,2,    15.72,2,     0.88,2,   -999.0,9,   7.7280,2,    25.00
  06MM20060523, OVIDE,    95,  1,      8,2,20060616,1354, 59.7700, -41.3010, 2043,   1497.2,   3.1310,  34.9120,2,  34.9120,2,    286.2,2,    284.7,2,     9.99,2,    15.90,2,     0.92,2,   -999.0,9,   7.7290,2,    25.00
  06MM20060523, OVIDE,    95,  1,      9,2,20060616,1354, 59.7700, -41.3010, 2043,   1395.8,   3.3070,  34.9140,2,  34.9160,2,    283.5,2,    282.6,2,     9.99,2,    15.99,2,     0.88,2,   -999.0,9,   7.7230,2,    25.00
  06MM20060523, OVIDE,    95,  1,     10,2,20060616,1354, 59.7700, -41.3010, 2043,   1147.0,   3.5920,  34.9260,2,  34.9250,2,    276.5,2,    278.0,2,    10.11,2,    16.76,2,     0.96,2,   -999.0,9,   7.7220,2,    25.00
  06MM20060523, OVIDE,    95,  1,     11,2,20060616,1354, 59.7700, -41.3010, 2043,    995.6,   3.6440,  34.9130,2,  34.9130,2,    280.1,2,    280.0,2,     9.41,2,    16.13,2,     0.93,2,   -999.0,9,   7.7230,2,    25.00
  06MM20060523, OVIDE,    95,  1,     12,2,20060616,1354, 59.7700, -41.3010, 2043,    895.9,   3.7370,  34.9070,2,  34.9070,2,    280.3,2,    283.0,2,     9.33,2,    16.18,2,     0.90,2,   -999.0,9,   7.7210,2,    25.00
  06MM20060523, OVIDE,    95,  1,     13,2,20060616,1354, 59.7700, -41.3010, 2043,    797.1,   3.8590,  34.9030,2,  34.9040,2,    281.0,2,    282.7,2,     9.29,2,    16.76,2,     0.94,2,   -999.0,9,   7.7180,2,    25.00
  06MM20060523, OVIDE,    95,  1,     14,2,20060616,1354, 59.7700, -41.3010, 2043,    695.4,   4.0590,  34.9160,2,-999.0000,3,    278.0,2,    281.1,2,  -999.00,9,  -999.00,9,  -999.00,9,   -999.0,9,   7.7150,2,    25.00
  06MM20060523, OVIDE,    95,  1,     15,2,20060616,1354, 59.7700, -41.3010, 2043,    595.6,   4.2840,  34.9280,2,  34.9250,2,    277.5,2,    278.3,2,     8.98,2,    16.58,2,     0.94,2,   -999.0,9,   7.7220,2,    25.00
  06MM20060523, OVIDE,    95,  1,     16,2,20060616,1354, 59.7700, -41.3010, 2043,    595.4,   4.2910,  34.9280,2,  34.9270,2,    277.6,2,    277.3,2,     8.98,2,    16.54,2,     0.91,2,   -999.0,9,   7.7220,2,    25.00
  06MM20060523, OVIDE,    95,  1,     17,2,20060616,1354, 59.7700, -41.3010, 2043,    496.4,   4.5050,  34.9340,2,  34.9330,2,    285.1,2,    283.6,2,     8.75,2,    16.63,2,     0.93,2,   -999.0,9,   7.7240,2,    25.00
  06MM20060523, OVIDE,    95,  1,     18,2,20060616,1354, 59.7700, -41.3010, 2043,    393.9,   4.7610,  34.9570,2,  34.9550,2,    289.4,2,    288.7,2,     8.16,2,    15.99,2,     0.91,2,   -999.0,9,   7.7370,2,    25.00
  06MM20060523, OVIDE,    95,  1,     19,2,20060616,1354, 59.7700, -41.3010, 2043,    296.6,   5.0470,  34.9890,2,  34.9880,2,    293.7,2,    293.4,2,     7.82,2,    15.63,2,     0.90,2,   -999.0,9,   7.7470,2,    25.00
  06MM20060523, OVIDE,    95,  1,     20,2,20060616,1354, 59.7700, -41.3010, 2043,    195.7,   5.0980,  34.9890,2,  34.9860,2,    300.2,2,    292.7,3,     7.74,2,    15.41,2,     0.84,2,   -999.0,9,   7.7480,2,    25.00
  06MM20060523, OVIDE,    95,  1,     21,2,20060616,1354, 59.7700, -41.3010, 2043,    147.2,   4.6950,  34.9060,2,  34.9060,2,    292.5,2,    294.7,2,     8.13,2,    14.91,2,     0.88,2,   -999.0,9,   7.7360,2,    25.00
  06MM20060523, OVIDE,    95,  1,     22,2,20060616,1354, 59.7700, -41.3010, 2043,     96.3,   4.9120,  34.9140,2,  34.9140,2,    293.2,2,    294.0,2,     7.89,2,    15.50,2,     0.90,2,   -999.0,9,   7.7380,2,    25.00
  06MM20060523, OVIDE,    95,  1,     23,2,20060616,1354, 59.7700, -41.3010, 2043,     46.7,   6.0150,  34.8550,2,  34.9090,3,    318.4,2,    297.3,3,     6.42,2,    11.57,2,     0.75,2,   -999.0,9,   7.7900,2,    25.00
  06MM20060523, OVIDE,    95,  1,     24,2,20060616,1354, 59.7700, -41.3010, 2043,      8.1,   6.5360,  34.7890,2,  34.7830,3,    322.2,2,    318.5,2,     2.88,2,     4.97,2,     0.44,2,   -999.0,9,   7.9040,2,    25.00
  06MM20060523, OVIDE,    96,  1,      3,2,20060616,1645, 59.7870, -41.6490, 1874,   1880.6,   2.6790,  34.9050,2,  34.9040,2,    290.9,2,    290.9,2,     9.45,2,    14.75,2,     0.84,2,   -999.0,9,   7.7310,2,    25.00
  06MM20060523, OVIDE,    96,  1,      4,2,20060616,1645, 59.7870, -41.6490, 1874,   1880.9,   2.6790,  34.9050,2,  34.9050,2,    290.9,2,    291.7,2,     9.49,2,    14.52,2,     0.85,2,   -999.0,9,   7.7310,2,    25.00
  06MM20060523, OVIDE,    96,  1,      5,2,20060616,1645, 59.7870, -41.6490, 1874,   1831.8,   2.6750,  34.9040,2,  34.9050,2,    290.9,2,    292.1,2,     9.53,2,    15.21,2,     0.89,2,   -999.0,9,   7.7310,2,    25.00
  06MM20060523, OVIDE,    96,  1,      6,2,20060616,1645, 59.7870, -41.6490, 1874,   1781.5,   2.7220,  34.9060,2,  34.9060,2,    288.4,2,    291.2,2,     9.68,2,    15.30,2,     0.89,2,   -999.0,9,   7.7300,2,    25.00
  06MM20060523, OVIDE,    96,  1,      7,2,20060616,1645, 59.7870, -41.6490, 1874,   1694.5,   2.8950,  34.9100,2,  34.9080,2,    286.2,2,    287.8,2,    10.30,2,    15.80,2,     0.89,2,   -999.0,9,   7.7300,2,    25.00
  06MM20060523, OVIDE,    96,  1,      8,2,20060616,1645, 59.7870, -41.6490, 1874,   1595.4,   3.0470,  34.9150,2,  34.9140,2,    283.8,2,    285.5,2,    10.34,2,    16.07,2,     0.87,2,   -999.0,9,   7.7280,2,    25.00
  06MM20060523, OVIDE,    96,  1,      9,2,20060616,1645, 59.7870, -41.6490, 1874,   1496.0,   3.1200,  34.9140,2,  34.9150,2,    284.1,2,    284.7,2,    10.38,2,    16.25,2,     0.92,2,   -999.0,9,   7.7280,2,    25.00
  06MM20060523, OVIDE,    96,  1,     10,2,20060616,1645, 59.7870, -41.6490, 1874,   1394.5,   3.2060,  34.9120,2,  34.9120,2,    283.9,2,    284.5,2,    10.15,2,    16.34,2,     0.94,2,   -999.0,9,   7.7270,2,    25.00
  06MM20060523, OVIDE,    96,  1,     11,2,20060616,1645, 59.7870, -41.6490, 1874,   1194.6,   3.4640,  34.9210,2,  34.9230,2,    280.1,2,    280.9,2,    10.03,2,    16.52,2,     0.94,2,   -999.0,9,   7.7240,2,    25.00
  06MM20060523, OVIDE,    96,  1,     12,2,20060616,1645, 59.7870, -41.6490, 1874,    994.6,   3.6020,  34.9110,2,  34.9110,2,    282.3,2,    284.2,2,     9.33,2,    16.07,2,     0.94,2,   -999.0,9,   7.7270,2,    25.00
  06MM20060523, OVIDE,    96,  1,     13,2,20060616,1645, 59.7870, -41.6490, 1874,    894.5,   3.6710,  34.9100,2,  34.9090,2,    280.4,2,    281.3,2,     9.56,2,    16.61,2,     0.94,2,   -999.0,9,   7.7220,2,    25.00
  06MM20060523, OVIDE,    96,  1,     14,2,20060616,1645, 59.7870, -41.6490, 1874,    796.3,   3.8160,  34.9150,2,  34.9140,2,    280.3,2,    281.2,2,     9.22,2,    16.16,2,     0.91,2,   -999.0,9,   7.7260,2,    25.00
  06MM20060523, OVIDE,    96,  1,     15,2,20060616,1645, 59.7870, -41.6490, 1874,    694.9,   3.9890,  34.9160,2,  34.9150,2,    281.6,2,    280.1,2,     8.95,2,    15.66,2,     0.93,2,   -999.0,9,   7.7260,2,    25.00
  06MM20060523, OVIDE,    96,  1,     16,2,20060616,1645, 59.7870, -41.6490, 1874,    595.8,   4.2630,  34.9280,2,  34.9270,2,    282.2,2,    279.2,2,     8.79,2,    16.16,2,     0.88,2,   -999.0,9,   7.7280,2,    25.00
  06MM20060523, OVIDE,    96,  1,     17,2,20060616,1645, 59.7870, -41.6490, 1874,    496.3,   4.5200,  34.9350,2,  34.9330,2,    281.1,2,    282.3,2,     8.48,2,    15.89,2,     0.92,2,   -999.0,9,   7.7320,2,    25.00
  06MM20060523, OVIDE,    96,  1,     18,2,20060616,1645, 59.7870, -41.6490, 1874,    396.6,   4.9700,  34.9800,2,  34.9730,3,    295.9,2,    291.1,2,     7.94,2,    15.66,2,     0.91,2,   -999.0,9,   7.7450,2,    25.00
  06MM20060523, OVIDE,    96,  1,     19,2,20060616,1645, 59.7870, -41.6490, 1874,    296.1,   5.1180,  34.9870,2,  34.9870,2,    287.1,2,    291.9,2,     7.67,2,    15.43,2,     0.91,2,   -999.0,9,   7.7500,2,    25.00
  06MM20060523, OVIDE,    96,  1,     20,2,20060616,1645, 59.7870, -41.6490, 1874,    195.7,   5.3760,  34.9900,2,  34.9880,2,    291.0,2,    286.3,2,     7.36,2,    14.80,2,     0.87,2,   -999.0,9,   7.7510,2,    25.00
  06MM20060523, OVIDE,    96,  1,     21,2,20060616,1645, 59.7870, -41.6490, 1874,    145.8,   5.6890,  35.0110,2,  35.0080,2,    288.2,2,    288.1,2,     7.01,2,    14.84,2,     0.88,2,   -999.0,9,   7.7570,2,    25.00
  06MM20060523, OVIDE,    96,  1,     22,2,20060616,1645, 59.7870, -41.6490, 1874,     96.4,   6.0080,  35.0310,2,  35.0310,2,    295.0,2,    287.3,3,     6.47,2,    14.16,2,     0.83,2,   -999.0,9,   7.7670,2,    25.00
  06MM20060523, OVIDE,    96,  1,     23,2,20060616,1645, 59.7870, -41.6490, 1874,     46.5,   6.1970,  34.8090,2,  34.8260,3,    329.6,2,    315.4,3,     2.94,2,     6.31,2,     0.53,2,   -999.0,9,   7.8810,2,    25.00
  06MM20060523, OVIDE,    96,  1,     24,2,20060616,1645, 59.7870, -41.6490, 1874,     10.5,   6.2910,  34.7460,2,  34.7440,2,    321.0,2,    324.8,2,     2.52,2,     4.22,2,     0.40,2,   -999.0,9,   7.9240,2,    25.00
  06MM20060523, OVIDE,    97,  1,      3,2,20060616,2012, 59.8660, -41.9440, 1732,   1738.6,   2.8910,  34.9080,2,  34.9110,2,    285.2,2,    287.5,2,     9.88,2,    15.93,2,     0.94,2,   2300.9,2,   7.7310,2,    25.00
  06MM20060523, OVIDE,    97,  1,      4,2,20060616,2012, 59.8660, -41.9440, 1732,   1689.3,   2.9990,  34.9070,2,  34.9150,3,    285.6,2,    284.4,2,    10.15,2,    15.65,2,     0.94,2,   -999.0,9,   7.7300,2,    25.00
  06MM20060523, OVIDE,    97,  1,      5,2,20060616,2012, 59.8660, -41.9440, 1732,   1639.4,   3.0510,  34.9080,2,  34.9110,2,    286.1,2,    284.5,2,     9.95,2,    15.97,2,     0.95,2,   2300.0,2,   7.7270,2,    25.00
  06MM20060523, OVIDE,    97,  1,      6,2,20060616,2012, 59.8660, -41.9440, 1732,   1639.4,   3.0510,  34.9080,2,  34.9140,2,    286.1,2,    285.1,2,    10.03,2,    16.02,2,     0.95,2,   2298.5,2,   7.7290,2,    25.00
  06MM20060523, OVIDE,    97,  1,      7,2,20060616,2012, 59.8660, -41.9440, 1732,   1538.5,   3.1050,  34.9070,2,  34.9100,2,    286.3,2,    285.0,2,     9.84,2,    16.02,2,     0.94,2,   -999.0,9,   7.7290,2,    25.00
  06MM20060523, OVIDE,    97,  1,      8,2,20060616,2012, 59.8660, -41.9440, 1732,   1395.9,   3.2150,  34.9040,2,  34.9070,2,    285.2,2,    284.9,2,     9.49,2,    16.07,2,     0.94,2,   2300.5,2,   7.7290,2,    25.00
  06MM20060523, OVIDE,    97,  1,      9,2,20060616,2012, 59.8660, -41.9440, 1732,   1196.0,   3.4910,  34.9110,2,  34.9150,2,    279.3,2,    282.0,2,     9.29,2,    16.16,2,     0.95,2,   2300.2,2,   7.7280,2,    25.00
  06MM20060523, OVIDE,    97,  1,     10,2,20060616,2012, 59.8660, -41.9440, 1732,    995.6,   3.7440,  34.9100,2,  34.9140,2,    279.4,2,    280.6,2,     9.14,2,    16.39,2,     0.96,2,   2301.2,2,   7.7270,2,    25.00
  06MM20060523, OVIDE,    97,  1,     11,2,20060616,2012, 59.8660, -41.9440, 1732,    896.0,   3.8550,  34.9110,2,  34.9160,2,    279.6,2,    280.2,2,     8.98,2,    16.30,2,     0.96,2,   -999.0,9,   7.7280,2,    25.00
  06MM20060523, OVIDE,    97,  1,     12,2,20060616,2012, 59.8660, -41.9440, 1732,    796.9,   3.9870,  34.9140,2,  34.9160,2,    278.0,2,    278.6,2,     9.06,2,    16.57,2,     0.98,2,   2301.5,2,   7.7250,2,    25.00
  06MM20060523, OVIDE,    97,  1,     13,2,20060616,2012, 59.8660, -41.9440, 1732,    696.4,   4.2920,  34.9270,2,  34.9280,2,    277.6,2,    277.4,2,     8.79,2,    16.39,2,     0.96,2,   -999.0,9,   7.7290,2,    25.00
  06MM20060523, OVIDE,    97,  1,     14,2,20060616,2012, 59.8660, -41.9440, 1732,    595.3,   4.5140,  34.9320,2,  34.9500,3,    278.4,2,    286.0,3,     8.44,2,    16.20,2,     0.95,2,   2303.0,2,   7.7330,2,    25.00
  06MM20060523, OVIDE,    97,  1,     15,2,20060616,2012, 59.8660, -41.9440, 1732,    496.4,   4.7590,  34.9490,2,  34.9850,3,    284.4,2,    282.4,2,     8.09,2,    15.88,2,     0.93,2,   2305.0,2,   7.7400,2,    25.00
  06MM20060523, OVIDE,    97,  1,     16,2,20060616,2012, 59.8660, -41.9440, 1732,    396.4,   5.0840,  34.9850,2,-999.0000,3,    289.6,2,    288.4,2,     7.78,2,    15.84,2,     0.94,2,   2307.0,2,   7.7470,2,    25.00
  06MM20060523, OVIDE,    97,  1,     18,2,20060616,2012, 59.8660, -41.9440, 1732,    295.9,   5.2160,  34.9920,2,  34.9930,2,    289.5,2,    289.1,2,     7.51,2,    15.47,2,     0.91,2,   -999.0,9,   7.7520,2,    25.00
  06MM20060523, OVIDE,    97,  1,     19,2,20060616,2012, 59.8660, -41.9440, 1732,    196.8,   5.5500,  35.0130,2,  35.0120,2,    280.0,2,    285.8,2,     7.59,2,    15.47,2,     0.91,2,   2306.0,2,   7.7560,2,    25.00
  06MM20060523, OVIDE,    97,  1,     20,2,20060616,2012, 59.8660, -41.9440, 1732,    146.2,   5.7880,  35.0180,2,  35.0240,2,    274.9,2,    285.5,3,     7.12,2,    15.01,2,     0.89,2,   -999.0,9,   7.7620,2,    25.00
  06MM20060523, OVIDE,    97,  1,     21,2,20060616,2012, 59.8660, -41.9440, 1732,     96.6,   5.8730,  34.9750,2,  34.9770,2,    283.9,2,    293.2,3,     5.81,2,    12.70,2,     0.80,2,   2306.0,2,   7.7860,2,    25.00
  06MM20060523, OVIDE,    97,  1,     22,2,20060616,2012, 59.8660, -41.9440, 1732,     46.2,   6.5720,  34.8400,2,  34.8470,3,    312.2,2,    318.2,2,     2.48,2,     4.83,2,     0.44,2,   -999.0,9,   7.9180,2,    25.00
  06MM20060523, OVIDE,    97,  1,     23,2,20060616,2012, 59.8660, -41.9440, 1732,     12.0,   5.9290,  34.5810,2,  34.6220,3,    326.9,2,    329.8,2,     2.28,2,     3.82,2,     0.39,2,   2294.0,2,   7.9390,2,    25.00
  06MM20060523, OVIDE,    98,  1,      3,2,20060616,0623, 59.7870, -41.6450, 1876,   1881.3,   2.3590,  34.8920,2,  34.8940,2,    296.7,2,    297.7,2,     8.38,2,    14.82,2,     0.89,2,   -999.0,9,-999.0000,9,    25.00
  06MM20060523, OVIDE,    98,  1,      4,2,20060616,0623, 59.7870, -41.6450, 1876,   1832.5,   2.3900,  34.8850,2,  34.8940,3,    296.3,2,    296.6,2,     8.54,2,    14.64,2,     0.89,2,   -999.0,9,-999.0000,9,    25.00
  06MM20060523, OVIDE,    98,  1,      5,2,20060616,0623, 59.7870, -41.6450, 1876,   1781.6,   2.5350,  34.8940,2,  34.8980,2,    293.6,2,    294.6,2,     8.89,2,    14.82,2,     0.92,2,   -999.0,9,-999.0000,9,    25.00
  06MM20060523, OVIDE,    98,  1,      6,2,20060616,0623, 59.7870, -41.6450, 1876,   1595.0,   2.9000,  34.9030,2,  34.9030,2,    289.2,2,    289.2,2,     9.40,2,    15.43,2,     0.97,2,   -999.0,9,-999.0000,9,    25.00
  06MM20060523, OVIDE,    98,  1,      7,2,20060616,0623, 59.7870, -41.6450, 1876,   1595.6,   2.8970,  34.9040,2,  34.9040,2,    289.3,2,    289.3,2,     9.44,2,    15.43,2,     0.96,2,   -999.0,9,-999.0000,9,    25.00
  06MM20060523, OVIDE,    98,  1,      8,2,20060616,0623, 59.7870, -41.6450, 1876,   1395.2,   3.1850,  34.9090,2,  34.9120,2,    282.7,2,    284.1,2,     9.92,2,    16.13,2,     1.01,2,   -999.0,9,-999.0000,9,    25.00
  06MM20060523, OVIDE,    98,  1,      9,2,20060616,0623, 59.7870, -41.6450, 1876,   1195.9,   3.4050,  34.9130,2,  34.9160,2,    280.4,2,    282.4,2,     9.64,2,    16.17,2,     1.01,2,   -999.0,9,-999.0000,9,    25.00
  06MM20060523, OVIDE,    98,  1,     10,2,20060616,0623, 59.7870, -41.6450, 1876,    995.4,   3.6220,  34.9120,2,  34.9160,2,    279.6,2,    281.7,2,     9.25,2,    16.08,2,     1.00,2,   -999.0,9,-999.0000,9,    25.00
  06MM20060523, OVIDE,    98,  1,     11,2,20060616,0623, 59.7870, -41.6450, 1876,    896.1,   3.7230,  34.9130,2,  34.9140,2,    279.7,2,    281.3,2,     9.25,2,    16.13,2,     1.01,2,   -999.0,9,-999.0000,9,    25.00
  06MM20060523, OVIDE,    98,  1,     12,2,20060616,0623, 59.7870, -41.6450, 1876,    796.3,   3.8640,  34.9140,2,  34.9140,2,    278.8,2,    280.6,2,     9.13,2,    15.99,2,     1.01,2,   -999.0,9,-999.0000,9,    25.00
  06MM20060523, OVIDE,    98,  1,     13,2,20060616,0623, 59.7870, -41.6450, 1876,    696.4,   4.0760,  34.9210,2,  34.9200,2,    277.5,2,    279.4,2,     9.09,2,    15.94,2,     1.00,2,   -999.0,9,-999.0000,9,    25.00
  06MM20060523, OVIDE,    98,  1,     14,2,20060616,0623, 59.7870, -41.6450, 1876,    596.4,   4.3540,  34.9320,2,  34.9300,2,    277.5,2,    278.4,2,     8.78,2,    16.26,2,     0.98,2,   -999.0,9,-999.0000,9,    25.00
  06MM20060523, OVIDE,    98,  1,     15,2,20060616,0623, 59.7870, -41.6450, 1876,    496.2,   4.6630,  34.9430,2,  34.9470,2,    281.9,2,    281.1,2,     8.42,2,    15.99,2,     0.97,2,   -999.0,9,-999.0000,9,    25.00
  06MM20060523, OVIDE,    98,  1,     16,2,20060616,0623, 59.7870, -41.6450, 1876,    395.9,   5.0380,  34.9880,2,  34.9860,2,    286.6,2,    289.8,2,     7.99,2,    15.61,2,     0.97,2,   -999.0,9,-999.0000,9,    25.00
  06MM20060523, OVIDE,    98,  1,     17,2,20060616,0623, 59.7870, -41.6450, 1876,    295.8,   5.1130,  34.9860,2,  34.9850,2,    294.5,2,    291.6,2,     7.87,2,    15.57,2,     0.97,2,   -999.0,9,-999.0000,9,    25.00
  06MM20060523, OVIDE,    98,  1,     18,2,20060616,0623, 59.7870, -41.6450, 1876,    196.0,   5.4470,  34.9980,2,  35.0030,2,    285.2,2,    285.9,2,     7.56,2,    15.10,2,     0.95,2,   -999.0,9,-999.0000,9,    25.00
  06MM20060523, OVIDE,    98,  1,     19,2,20060616,0623, 59.7870, -41.6450, 1876,    146.2,   5.6410,  35.0150,2,  35.0150,2,    289.2,2,    284.6,2,     7.24,2,    14.87,2,     0.93,2,   -999.0,9,-999.0000,9,    25.00
  06MM20060523, OVIDE,    98,  1,     20,2,20060616,0623, 59.7870, -41.6450, 1876,     96.8,   5.7920,  35.0060,2,  35.0110,2,    288.2,2,    288.4,2,     6.65,2,    14.08,2,     0.89,2,   -999.0,9,-999.0000,9,    25.00
  06MM20060523, OVIDE,    98,  1,     21,2,20060616,0623, 59.7870, -41.6450, 1876,     46.0,   6.4590,  34.9050,2,  34.9060,2,    306.4,2,    311.6,2,     3.07,2,     6.51,2,     0.55,2,   -999.0,9,-999.0000,9,    25.00
  06MM20060523, OVIDE,    98,  1,     22,2,20060616,0623, 59.7870, -41.6450, 1876,     12.1,   5.8760,  34.5280,2,  34.5490,3,    302.0,2,    317.9,3,     2.52,2,     4.28,2,     0.43,2,   -999.0,9,-999.0000,9,    25.00