BOTTLE,20140930PRINUNIVRMK
EXPOCODE,SECT_ID,STNNBR,CASTNO,BTLNBR,BTLNBR_FLAG_W,DATE,TIME,LATITUDE,LONGITUDE,DEPTH,CTDPRS,CTDTMP,CTDSAL,CTDSAL_FLAG_W,SALNTY,SALNTY_FLAG_W,CTDOXY,CTDOXY_FLAG_W,OXYGEN,OXYGEN_FLAG_W,SILCAT,SILCAT_FLAG_W,NITRAT,NITRAT_FLAG_W,PHSPHT,PHSPHT_FLAG_W,ALKALI,ALKALI_FLAG_W,PH_SWS,PH_SWS_FLAG_W,PH_TMP
,,,,,,,,,,METERS,DBAR,ITS-90,PSS-78,,PSS-78,,UMOL/KG,,UMOL/KG,,UMOL/KG,,UMOL/KG,,UMOL/KG,,UMOL/KG,,,,DEG C
  06MM20060523, OVIDE,   115,  1,      3,2,20060622,0023, 59.5610, -41.4860, 2131,   2145.6,   2.1590,  34.8970,2,  34.8930,2,    299.8,2,    299.4,2,     8.13,2,    15.32,2,     0.86,2,   -999.0,9,   7.7340,2,    25.00
  06MM20060523, OVIDE,   115,  1,      4,2,20060622,0023, 59.5610, -41.4860, 2131,   1996.4,   2.2730,  34.8950,2,  34.8950,2,    297.6,2,    298.3,2,     8.33,2,    14.82,2,     0.86,2,   -999.0,9,   7.7280,2,    25.00
  06MM20060523, OVIDE,   115,  1,      5,2,20060622,0023, 59.5610, -41.4860, 2131,   1885.2,   2.4870,  34.9010,2,  34.9020,2,    293.6,2,    293.7,2,     9.28,2,    15.88,2,     0.90,2,   -999.0,9,   7.7300,2,    25.00
  06MM20060523, OVIDE,   115,  1,      6,2,20060622,0023, 59.5610, -41.4860, 2131,   1594.7,   2.9470,  34.9050,2,  34.9050,2,    288.4,2,    288.3,2,     9.48,2,    16.43,2,     0.94,2,   -999.0,9,   7.7260,2,    25.00
  06MM20060523, OVIDE,   115,  1,      7,2,20060622,0023, 59.5610, -41.4860, 2131,   1395.4,   3.2420,  34.9140,2,  34.9110,2,    284.6,2,    283.3,2,     9.88,2,    17.09,2,     0.98,2,   -999.0,9,   7.7240,2,    25.00
  06MM20060523, OVIDE,   115,  1,      8,2,20060622,0023, 59.5610, -41.4860, 2131,   1195.1,   3.4740,  34.9190,2,  34.9220,2,    280.7,2,    281.2,2,     9.72,2,    17.29,2,     0.99,2,   -999.0,9,   7.7210,2,    25.00
  06MM20060523, OVIDE,   115,  1,      9,2,20060622,0023, 59.5610, -41.4860, 2131,    995.0,   3.6230,  34.9140,2,  34.9140,2,    277.8,2,    279.8,2,     9.76,2,    17.65,2,     1.01,2,   -999.0,9,   7.7170,2,    25.00
  06MM20060523, OVIDE,   115,  1,     10,2,20060622,0023, 59.5610, -41.4860, 2131,    897.7,   3.6500,  34.9060,2,  34.9070,2,    280.6,2,    280.4,2,     9.68,2,    17.80,2,     1.02,2,   -999.0,9,   7.7130,2,    25.00
  06MM20060523, OVIDE,   115,  1,     11,2,20060622,0023, 59.5610, -41.4860, 2131,    796.4,   3.7590,  34.9080,2,  34.9070,2,    282.2,2,    280.5,2,     9.40,2,    17.75,2,     1.00,2,   -999.0,9,   7.7170,2,    25.00
  06MM20060523, OVIDE,   115,  1,     12,2,20060622,0023, 59.5610, -41.4860, 2131,    694.8,   3.9280,  34.9140,2,  34.9130,2,    278.6,2,    278.9,2,     9.20,2,    17.65,2,     0.99,2,   -999.0,9,   7.7170,2,    25.00
  06MM20060523, OVIDE,   115,  1,     13,2,20060622,0023, 59.5610, -41.4860, 2131,    594.3,   4.1570,  34.9210,2,  34.9200,2,    278.4,2,    280.2,2,     8.81,2,    16.94,2,     0.97,2,   -999.0,9,   7.7220,2,    25.00
  06MM20060523, OVIDE,   115,  1,     14,2,20060622,0023, 59.5610, -41.4860, 2131,    493.1,   4.4010,  34.9340,2,  34.9320,2,    279.1,2,    278.4,2,     8.81,2,    16.99,2,     0.98,2,   -999.0,9,   7.7220,2,    25.00
  06MM20060523, OVIDE,   115,  1,     15,2,20060622,0023, 59.5610, -41.4860, 2131,    394.4,   4.6440,  34.9460,2,  34.9460,2,    285.0,2,    283.0,2,     8.37,2,    17.50,2,     0.96,2,   -999.0,9,   7.7300,2,    25.00
  06MM20060523, OVIDE,   115,  1,     16,2,20060622,0023, 59.5610, -41.4860, 2131,    244.9,   5.0650,  34.9890,2,  34.9880,2,    293.4,2,    292.3,2,     7.85,2,    17.09,2,     0.95,2,   -999.0,9,   7.7470,2,    25.00
  06MM20060523, OVIDE,   115,  1,     17,2,20060622,0023, 59.5610, -41.4860, 2131,    194.6,   5.1010,  34.9850,2,-999.0000,3,    289.3,2,    290.3,2,     7.78,2,    16.89,2,     0.95,2,   -999.0,9,   7.7430,2,    25.00
  06MM20060523, OVIDE,   115,  1,     18,2,20060622,0023, 59.5610, -41.4860, 2131,    145.7,   4.9090,  34.9310,2,  34.9370,3,    288.5,2,    289.8,2,     7.86,2,    16.84,2,     0.96,2,   -999.0,9,   7.7340,2,    25.00
  06MM20060523, OVIDE,   115,  1,     19,2,20060622,0023, 59.5610, -41.4860, 2131,     96.5,   4.9770,  34.9150,2,  34.9160,2,    288.3,2,    291.6,2,     8.01,2,    17.19,2,     0.98,2,   -999.0,9,   7.7310,2,    25.00
  06MM20060523, OVIDE,   115,  1,     20,2,20060622,0023, 59.5610, -41.4860, 2131,     45.6,   6.4720,  34.8390,2,  34.8520,3,    304.5,2,    301.2,2,     4.60,2,     7.94,2,     0.61,2,   -999.0,9,   7.8470,2,    25.00
  06MM20060523, OVIDE,   115,  1,     21,2,20060622,0023, 59.5610, -41.4860, 2131,      4.5,   5.6990,  34.2160,2,  34.2220,3,    307.0,2,    319.2,3,     3.02,2,     5.01,2,     0.39,2,   -999.0,9,   7.9020,2,    25.00
  06MM20060523, OVIDE,   116,  1,      3,2,20060622,0247, 63.0010, -16.8320, 1423,   1421.0,   4.2620,  35.0680,2,  35.0660,2,    276.0,2,    277.8,2,     8.41,2,    16.06,2,     0.93,2,   -999.0,9,   7.7350,2,    25.00
  06MM20060523, OVIDE,   116,  1,      4,2,20060622,0247, 63.0010, -16.8320, 1423,   1195.1,   4.6830,  35.0640,2,  35.0630,2,    282.3,2,    283.2,2,     7.51,2,    15.04,2,     0.87,2,   -999.0,9,   7.7450,2,    25.00
  06MM20060523, OVIDE,   116,  1,      5,2,20060622,0247, 63.0010, -16.8320, 1423,    994.9,   5.6930,  35.1200,2,  35.1190,2,    273.6,2,    274.5,2,     7.51,2,    15.55,2,     0.87,2,   -999.0,9,   7.7540,2,    25.00
  06MM20060523, OVIDE,   116,  1,      6,2,20060622,0247, 63.0010, -16.8320, 1423,    894.0,   6.5190,  35.1490,2,  35.1500,2,    263.9,2,    266.2,2,     7.59,2,    15.80,2,     0.91,2,   -999.0,9,   7.7570,2,    25.00
  06MM20060523, OVIDE,   116,  1,      7,2,20060622,0247, 63.0010, -16.8320, 1423,    767.7,   7.4860,  35.2030,2,  35.2020,2,    242.3,2,    242.9,2,     8.65,2,    17.63,2,     0.96,2,   -999.0,9,-999.0000,9,    25.00
  06MM20060523, OVIDE,   116,  1,      8,2,20060622,0247, 63.0010, -16.8320, 1423,    690.4,   7.9120,  35.2260,2,  35.2270,2,    257.9,2,    258.3,2,     7.27,2,    15.96,2,     0.89,2,   -999.0,9,   7.7710,2,    25.00
  06MM20060523, OVIDE,   116,  1,      9,2,20060622,0247, 63.0010, -16.8320, 1423,    590.7,   8.1460,  35.2390,2,  35.2380,2,    257.6,2,    263.1,2,     6.74,2,    15.04,2,     0.86,2,   -999.0,9,   7.7730,2,    25.00
  06MM20060523, OVIDE,   116,  1,     10,2,20060622,0247, 63.0010, -16.8320, 1423,    495.7,   8.3710,  35.2520,2,  35.2520,2,    258.1,2,    255.7,2,     6.90,2,    15.24,2,     0.85,2,   -999.0,9,   7.7790,2,    25.00
  06MM20060523, OVIDE,   116,  1,     11,2,20060622,0247, 63.0010, -16.8320, 1423,    324.7,   8.7760,  35.2710,2,  35.2710,2,    269.9,2,    270.1,2,     5.55,2,    13.52,2,     0.77,2,   -999.0,9,   7.7890,2,    25.00
  06MM20060523, OVIDE,   116,  1,     12,2,20060622,0247, 63.0010, -16.8320, 1423,    187.2,   8.9590,  35.2690,2,  35.2670,2,    269.5,2,    259.5,2,     5.92,2,    13.82,2,     0.80,2,   -999.0,9,   7.7960,2,    25.00
  06MM20060523, OVIDE,   116,  1,     13,2,20060622,0247, 63.0010, -16.8320, 1423,    144.8,   9.0850,  35.2670,2,  35.2680,2,    252.6,2,    262.6,2,     5.14,2,    13.21,2,     0.75,2,   -999.0,9,   7.8050,2,    25.00
  06MM20060523, OVIDE,   116,  1,     14,2,20060622,0247, 63.0010, -16.8320, 1423,     96.1,   9.2950,  35.2670,2,  35.2660,2,    253.9,2,    259.0,2,     5.14,2,    12.96,2,     0.74,2,   -999.0,9,   7.8050,2,    25.00
  06MM20060523, OVIDE,   116,  1,     15,2,20060622,0247, 63.0010, -16.8320, 1423,     47.1,   9.6550,  35.2940,2,  35.2920,2,    260.7,2,    261.7,2,     4.45,2,    11.84,2,     0.66,2,   -999.0,9,   7.8160,2,    25.00
  06MM20060523, OVIDE,   116,  1,     16,2,20060622,0247, 63.0010, -16.8320, 1423,      3.7,  10.8190,  35.2420,2,  35.2410,2,    285.5,2,    291.8,2,     1.80,2,     4.62,2,     0.28,2,   -999.0,9,   7.9090,2,    25.00
  06MM20060523, OVIDE,   117,  1,      3,2,20060623,0624, 62.6710, -16.5020, 1891,   1896.2,   2.4130,  34.9930,2,  34.9910,2,    281.3,2,    283.4,2,    10.74,2,    16.40,2,     0.93,2,   -999.0,9,   7.7180,2,    25.00
  06MM20060523, OVIDE,   117,  1,      4,2,20060623,0624, 62.6710, -16.5020, 1891,   1695.8,   3.2490,  35.0120,2,  35.0120,2,    278.0,2,    279.4,2,     9.43,2,    16.66,2,     0.93,2,   -999.0,9,   7.7250,2,    25.00
  06MM20060523, OVIDE,   117,  1,      5,2,20060623,0624, 62.6710, -16.5020, 1891,   1395.2,   5.1400,  35.1040,2,  35.1030,2,    272.1,2,    271.7,2,     8.16,2,    16.04,2,     0.87,2,   -999.0,9,   7.7440,2,    25.00
  06MM20060523, OVIDE,   117,  1,      6,2,20060623,0624, 62.6710, -16.5020, 1891,   1195.0,   5.6240,  35.0930,2,  35.0930,2,    257.0,2,    254.4,2,     9.59,2,    18.06,2,     1.00,2,   -999.0,9,   7.7320,2,    25.00
  06MM20060523, OVIDE,   117,  1,      7,2,20060623,0624, 62.6710, -16.5020, 1891,    995.0,   7.0280,  35.1680,2,  35.1660,2,    230.0,2,    228.0,2,    10.17,2,    19.62,2,     1.08,2,   -999.0,9,   7.7310,2,    25.00
  06MM20060523, OVIDE,   117,  1,      8,2,20060623,0624, 62.6710, -16.5020, 1891,    795.8,   7.9350,  35.2290,2,  35.2260,2,    271.1,2,    264.8,2,     6.85,2,    15.57,2,     0.86,2,   -999.0,9,   7.7800,2,    25.00
  06MM20060523, OVIDE,   117,  1,      9,2,20060623,0624, 62.6710, -16.5020, 1891,    695.1,   8.1680,  35.2390,2,  35.2390,2,    269.0,2,    264.1,2,     6.64,2,    15.67,2,     0.84,2,   -999.0,9,   7.7840,2,    25.00
  06MM20060523, OVIDE,   117,  1,     10,2,20060623,0624, 62.6710, -16.5020, 1891,    595.2,   8.5130,  35.2730,2,  35.2740,2,    264.7,2,    269.5,2,     5.90,2,    14.22,2,     0.78,2,   -999.0,9,   7.7830,2,    25.00
  06MM20060523, OVIDE,   117,  1,     11,2,20060623,0624, 62.6710, -16.5020, 1891,    495.6,   8.6550,  35.2790,2,  35.2810,2,    267.4,2,    268.5,2,     5.49,2,    14.12,2,     0.78,2,   -999.0,9,   7.8030,2,    25.00
  06MM20060523, OVIDE,   117,  1,     12,2,20060623,0624, 62.6710, -16.5020, 1891,    295.6,   8.7880,  35.2660,2,  35.2640,2,    264.8,2,    262.3,2,     6.03,2,    14.43,2,     0.81,2,   -999.0,9,   7.7980,2,    25.00
  06MM20060523, OVIDE,   117,  1,     13,2,20060623,0624, 62.6710, -16.5020, 1891,    195.1,   9.2150,  35.3200,2,  35.3210,2,    269.9,2,    268.0,2,     4.59,2,    13.02,2,     0.70,2,   -999.0,9,   7.8160,2,    25.00
  06MM20060523, OVIDE,   117,  1,     14,2,20060623,0624, 62.6710, -16.5020, 1891,     96.2,   9.2570,  35.2860,2,  35.2830,2,    260.7,2,    270.4,2,     3.44,2,    11.26,2,     0.68,2,   -999.0,9,   7.8300,2,    25.00
  06MM20060523, OVIDE,   117,  1,     15,2,20060623,0624, 62.6710, -16.5020, 1891,     46.4,  10.2710,  35.2380,2,  35.2530,3,    272.4,2,    279.1,2,     1.93,2,     7.01,2,     0.45,2,   -999.0,9,   7.8780,2,    25.00
  06MM20060523, OVIDE,   117,  1,     16,2,20060623,0624, 62.6710, -16.5020, 1891,      4.3,  10.7770,  35.2270,2,  35.2260,2,    290.6,2,    293.4,2,     1.64,2,     4.36,2,     0.27,2,   -999.0,9,   7.9110,2,    25.00
  06MM20060523, OVIDE,   118,  1,      3,2,20060626,1215, 62.3310, -16.1720, 2112,   2125.8,   2.4230,  34.9950,2,  34.9950,2,    282.8,2,    284.2,2,     9.96,2,    16.62,2,     0.87,2,   -999.0,9,   7.7200,2,    25.00
  06MM20060523, OVIDE,   118,  1,      4,2,20060626,1215, 62.3310, -16.1720, 2112,   1995.7,   3.2540,  34.9780,2,  34.9760,2,    276.7,2,    277.2,2,    11.56,2,    17.35,2,     1.00,2,   -999.0,9,   7.7260,2,    25.00
  06MM20060523, OVIDE,   118,  1,      5,2,20060626,1215, 62.3310, -16.1720, 2112,   1894.8,   3.3660,  34.9510,2,  34.9510,2,    279.1,2,    278.5,2,    11.19,2,    17.76,2,     1.02,2,   -999.0,9,   7.7270,2,    25.00
  06MM20060523, OVIDE,   118,  1,      6,2,20060626,1215, 62.3310, -16.1720, 2112,   1693.8,   3.4540,  34.9160,2,  34.9180,2,    275.7,2,    278.3,2,    11.23,2,    18.43,2,     1.06,2,   -999.0,9,   7.7230,2,    25.00
  06MM20060523, OVIDE,   118,  1,      7,2,20060626,1215, 62.3310, -16.1720, 2112,   1293.4,   3.9910,  34.9370,2,  34.9340,2,    265.2,2,    266.7,2,    11.19,2,    19.00,2,     1.09,2,   -999.0,9,   7.7140,2,    25.00
  06MM20060523, OVIDE,   118,  1,      8,2,20060626,1215, 62.3310, -16.1720, 2112,    994.4,   5.1070,  35.0290,2,  35.0310,2,    239.4,2,    244.0,2,    11.23,2,    19.62,2,     1.13,2,   -999.0,9,   7.7090,2,    25.00
  06MM20060523, OVIDE,   118,  1,      9,2,20060626,1215, 62.3310, -16.1720, 2112,    795.8,   6.2900,  35.1280,2,  35.1280,2,    223.7,2,    227.3,2,    11.02,2,    19.62,2,     1.13,2,   -999.0,9,   7.7140,2,    25.00
  06MM20060523, OVIDE,   118,  1,     10,2,20060626,1215, 62.3310, -16.1720, 2112,    645.8,   7.1610,  35.1630,2,  35.1640,2,    220.8,2,    223.6,2,    10.12,2,    19.20,2,     1.09,2,   -999.0,9,   7.7190,2,    25.00
  06MM20060523, OVIDE,   118,  1,     11,2,20060626,1215, 62.3310, -16.1720, 2112,    496.0,   7.9220,  35.2230,2,  35.2220,2,    242.5,2,    240.1,2,     8.37,2,    17.19,2,     0.97,2,   -999.0,9,   7.7550,2,    25.00
  06MM20060523, OVIDE,   118,  1,     12,2,20060626,1215, 62.3310, -16.1720, 2112,    395.9,   8.0510,  35.1840,2,  35.1880,2,    218.8,2,    222.2,2,     9.14,2,    18.58,2,     1.04,2,   -999.0,9,   7.7400,2,    25.00
  06MM20060523, OVIDE,   118,  1,     13,2,20060626,1215, 62.3310, -16.1720, 2112,    296.6,   8.3650,  35.1870,2,  35.1880,2,    263.1,2,    222.9,3,     8.74,2,    17.86,2,     1.01,2,   -999.0,9,   7.7400,2,    25.00
  06MM20060523, OVIDE,   118,  1,     14,2,20060626,1215, 62.3310, -16.1720, 2112,    196.0,   8.7690,  35.2280,2,  35.2360,3,    263.7,2,    241.6,3,     7.10,2,    15.59,2,     0.77,2,   -999.0,9,   7.7670,2,    25.00
  06MM20060523, OVIDE,   118,  1,     15,2,20060626,1215, 62.3310, -16.1720, 2112,    120.8,   9.2310,  35.2710,2,  35.2720,2,    274.5,2,    277.3,2,     2.69,2,     9.86,2,     0.62,2,   -999.0,9,   7.8290,2,    25.00
  06MM20060523, OVIDE,   118,  1,     16,2,20060626,1215, 62.3310, -16.1720, 2112,      5.4,  11.2830,  35.2560,2,  35.2580,2,    289.7,2,    288.0,2,     0.94,2,     3.41,2,     0.24,2,   -999.0,9,   7.9160,2,    25.00
  06MM20060523, OVIDE,   119,  1,      3,2,20060626,1641, 62.0070, -15.8370, 2237,   2252.0,   2.2310,  34.9910,2,  34.9890,2,    285.8,2,    286.7,2,     9.39,2,    16.46,2,     0.93,2,   -999.0,9,   7.7160,2,    25.00
  06MM20060523, OVIDE,   119,  1,      4,2,20060626,1641, 62.0070, -15.8370, 2237,   2201.4,   2.8570,  34.9910,2,-999.0000,3,    280.6,2,   -999.0,3,    11.11,2,    17.43,2,     0.98,2,   -999.0,9,-999.0000,9,    25.00
  06MM20060523, OVIDE,   119,  1,      5,2,20060626,1641, 62.0070, -15.8370, 2237,   2150.8,   3.2000,  34.9810,2,  34.9820,2,    278.7,2,    277.0,2,    11.64,2,    18.07,2,     1.00,2,   -999.0,9,   7.7250,2,    25.00
  06MM20060523, OVIDE,   119,  1,      6,2,20060626,1641, 62.0070, -15.8370, 2237,   2047.1,   3.3560,  34.9660,2,  34.9650,2,    279.1,2,    277.4,2,    11.07,2,    18.07,2,     1.02,2,   -999.0,9,   7.7240,2,    25.00
  06MM20060523, OVIDE,   119,  1,      7,2,20060626,1641, 62.0070, -15.8370, 2237,   1896.3,   3.3490,  34.9230,2,-999.0000,3,    281.7,2,   -999.0,3,    11.24,2,    18.82,2,     1.05,2,   -999.0,9,-999.0000,9,    25.00
  06MM20060523, OVIDE,   119,  1,      8,2,20060626,1641, 62.0070, -15.8370, 2237,   1796.8,   3.4350,  34.9170,2,  34.9150,2,    280.9,2,    280.1,2,    11.15,2,    19.09,2,     1.04,2,   -999.0,9,   7.7210,2,    25.00
  06MM20060523, OVIDE,   119,  1,      9,2,20060626,1641, 62.0070, -15.8370, 2237,   1596.3,   3.6440,  34.9190,2,  34.9170,2,    276.6,2,    274.3,2,    11.15,2,    19.30,2,     1.08,2,   -999.0,9,   7.7180,2,    25.00
  06MM20060523, OVIDE,   119,  1,     10,2,20060626,1641, 62.0070, -15.8370, 2237,   1394.9,   3.8880,  34.9280,2,  34.9260,2,    272.1,2,    270.4,2,    10.99,2,    19.52,2,     1.08,2,   -999.0,9,   7.7140,2,    25.00
  06MM20060523, OVIDE,   119,  1,     11,2,20060626,1641, 62.0070, -15.8370, 2237,   1195.5,   4.4490,  34.9710,2,  34.9700,2,    259.8,2,    257.1,2,    11.07,2,    20.11,2,     1.11,2,   -999.0,9,   7.7100,2,    25.00
  06MM20060523, OVIDE,   119,  1,     12,2,20060626,1641, 62.0070, -15.8370, 2237,    995.4,   5.5790,  35.0730,2,  35.0730,2,    236.2,2,    235.3,2,    11.23,2,    20.43,2,     1.15,2,   -999.0,9,   7.7080,2,    25.00
  06MM20060523, OVIDE,   119,  1,     13,2,20060626,1641, 62.0070, -15.8370, 2237,    895.2,   6.2650,  35.1250,2,-999.0000,3,    224.1,2,   -999.0,3,    11.03,2,    20.48,2,     1.14,2,   -999.0,9,-999.0000,9,    25.00
  06MM20060523, OVIDE,   119,  1,     14,2,20060626,1641, 62.0070, -15.8370, 2237,    795.6,   6.9690,  35.1630,2,  35.1630,2,    225.1,2,    222.2,2,    10.54,2,    20.43,2,     1.12,2,   -999.0,9,   7.7220,2,    25.00
  06MM20060523, OVIDE,   119,  1,     15,2,20060626,1641, 62.0070, -15.8370, 2237,    695.8,   7.5810,  35.1870,2,-999.0000,3,    231.9,2,   -999.0,3,     9.51,2,    19.25,2,     1.06,2,   -999.0,9,-999.0000,9,    25.00
  06MM20060523, OVIDE,   119,  1,     16,2,20060626,1641, 62.0070, -15.8370, 2237,    595.4,   8.0720,  35.2060,2,  35.2070,2,    243.6,2,    243.7,2,     7.91,2,    17.37,2,     0.96,2,   -999.0,9,   7.7600,2,    25.00
  06MM20060523, OVIDE,   119,  1,     17,2,20060626,1641, 62.0070, -15.8370, 2237,    495.8,   8.5990,  35.2600,2,-999.0000,3,    259.6,2,   -999.0,3,     6.72,2,    15.71,2,     0.87,2,   -999.0,9,-999.0000,9,    25.00
  06MM20060523, OVIDE,   119,  1,     18,2,20060626,1641, 62.0070, -15.8370, 2237,    396.4,   8.7460,  35.2480,2,  35.2540,3,    254.7,2,    255.1,2,     6.40,2,    15.12,2,     0.84,2,   -999.0,9,   7.7880,2,    25.00
  06MM20060523, OVIDE,   119,  1,     19,2,20060626,1641, 62.0070, -15.8370, 2237,    296.2,   9.0840,  35.2800,2,-999.0000,3,    261.3,2,   -999.0,3,     5.41,2,    13.99,2,     0.77,2,   -999.0,9,-999.0000,9,    25.00
  06MM20060523, OVIDE,   119,  1,     20,2,20060626,1641, 62.0070, -15.8370, 2237,    196.5,   9.2750,  35.2700,2,  35.2690,2,    255.5,2,    267.9,3,     5.29,2,    13.62,2,     0.77,2,   -999.0,9,   7.8060,2,    25.00
  06MM20060523, OVIDE,   119,  1,     21,2,20060626,1641, 62.0070, -15.8370, 2237,    146.4,   9.4500,  35.2690,2,-999.0000,3,    251.7,2,   -999.0,3,     5.16,2,    13.29,2,     0.76,2,   -999.0,9,-999.0000,9,    25.00
  06MM20060523, OVIDE,   119,  1,     22,2,20060626,1641, 62.0070, -15.8370, 2237,     96.3,   9.6690,  35.2860,2,  35.2870,2,    255.4,2,    260.5,2,     4.30,2,    12.28,2,     0.71,2,   -999.0,9,   7.8190,2,    25.00
  06MM20060523, OVIDE,   119,  1,     23,2,20060626,1641, 62.0070, -15.8370, 2237,     46.5,  10.4120,  35.2660,2,-999.0000,3,    269.8,2,   -999.0,3,     1.80,2,     6.59,2,     0.46,2,   -999.0,9,-999.0000,9,    25.00
  06MM20060523, OVIDE,   119,  1,     24,2,20060626,1641, 62.0070, -15.8370, 2237,     10.2,  11.2330,  35.2780,2,  35.2780,2,    283.4,2,    286.0,2,     1.19,2,     4.24,2,     0.29,2,   -999.0,9,   7.9150,2,    25.00