BOTTLE,20140930PRINUNIVRMK
EXPOCODE,SECT_ID,STNNBR,CASTNO,BTLNBR,BTLNBR_FLAG_W,DATE,TIME,LATITUDE,LONGITUDE,DEPTH,CTDPRS,CTDTMP,CTDSAL,CTDSAL_FLAG_W,SALNTY,SALNTY_FLAG_W,CTDOXY,CTDOXY_FLAG_W,OXYGEN,OXYGEN_FLAG_W,SILCAT,SILCAT_FLAG_W,NITRAT,NITRAT_FLAG_W,PHSPHT,PHSPHT_FLAG_W,ALKALI,ALKALI_FLAG_W,PH_SWS,PH_SWS_FLAG_W,PH_TMP
,,,,,,,,,,METERS,DBAR,ITS-90,PSS-78,,PSS-78,,UMOL/KG,,UMOL/KG,,UMOL/KG,,UMOL/KG,,UMOL/KG,,UMOL/KG,,,,DEG C
  06MM20060523, OVIDE,    83,  1,      3,2,20060613,1906, 59.2990, -35.7620, 3105,   3141.2,   2.1470,  34.9050,2,  34.9040,2,    291.5,2,    292.8,2,    10.10,2,    15.10,2,     0.85,2,   2300.2,2,   7.7330,2,    25.00
  06MM20060523, OVIDE,    83,  1,      4,2,20060613,1906, 59.2990, -35.7620, 3105,   3092.3,   2.4130,  34.9110,2,  34.9110,2,    288.0,2,    287.4,2,    11.49,2,    15.67,2,     0.91,2,   -999.0,9,   7.7300,2,    25.00
  06MM20060523, OVIDE,    83,  1,      5,2,20060613,1906, 59.2990, -35.7620, 3105,   3038.6,   2.5910,  34.9170,2,  34.9170,2,    283.4,2,    284.6,2,    12.00,2,    15.53,2,     0.93,2,   2302.8,2,   7.7280,2,    25.00
  06MM20060523, OVIDE,    83,  1,      6,2,20060613,1906, 59.2990, -35.7620, 3105,   3040.2,   2.5940,  34.9170,2,  34.9160,2,    283.4,2,    284.8,2,    12.00,2,    15.96,2,     0.91,2,   -999.0,9,   7.7270,2,    25.00
  06MM20060523, OVIDE,    83,  1,      7,2,20060613,1906, 59.2990, -35.7620, 3105,   2938.6,   2.6590,  34.9220,2,  34.9210,2,    284.1,2,    282.6,2,    12.39,2,    16.34,2,     0.93,2,   2302.3,2,   7.7290,2,    25.00
  06MM20060523, OVIDE,    83,  1,      8,2,20060613,1906, 59.2990, -35.7620, 3105,   2744.9,   2.7770,  34.9260,2,  34.9260,2,    281.2,2,    280.2,2,    12.74,2,    16.58,2,     0.91,2,   2307.2,2,   7.7300,2,    25.00
  06MM20060523, OVIDE,    83,  1,      9,2,20060613,1906, 59.2990, -35.7620, 3105,   2498.6,   2.9990,  34.9330,2,  34.9350,2,    279.0,2,    278.1,2,    12.61,2,    16.87,2,     0.97,2,   2305.3,2,   7.7280,2,    25.00
  06MM20060523, OVIDE,    83,  1,     10,2,20060613,1906, 59.2990, -35.7620, 3105,   2245.5,   3.1630,  34.9430,2,  34.9480,2,    277.5,2,    277.4,2,    11.92,2,    16.82,2,     0.97,2,   2302.9,2,   7.7280,2,    25.00
  06MM20060523, OVIDE,    83,  1,     11,2,20060613,1906, 59.2990, -35.7620, 3105,   1996.2,   3.2900,  34.9410,2,-999.0000,3,    278.9,2,    278.4,2,    11.23,2,    16.87,2,     0.97,2,   2302.4,2,   7.7270,2,    25.00
  06MM20060523, OVIDE,    83,  1,     12,2,20060613,1906, 59.2990, -35.7620, 3105,   1793.9,   3.3070,  34.9270,2,  34.9280,2,    279.5,2,    278.9,2,    11.05,2,    17.11,2,     0.98,2,   2301.0,2,   7.7270,2,    25.00
  06MM20060523, OVIDE,    83,  1,     13,2,20060613,1906, 59.2990, -35.7620, 3105,   1593.7,   3.5480,  34.9480,2,  34.9490,2,    276.6,2,    276.4,2,    10.71,2,    17.11,2,     0.98,2,   2300.8,2,   7.7230,2,    25.00
  06MM20060523, OVIDE,    83,  1,     14,2,20060613,1906, 59.2990, -35.7620, 3105,   1395.8,   3.5880,  34.9280,2,  34.9260,2,    276.3,2,    275.9,2,    10.67,2,    17.40,2,     0.97,2,   2300.1,2,   7.7210,2,    25.00
  06MM20060523, OVIDE,    83,  1,     15,2,20060613,1906, 59.2990, -35.7620, 3105,   1194.2,   3.6870,  34.9140,2,  34.9150,2,    277.1,2,    277.0,2,    10.28,2,    17.45,2,     1.01,2,   2299.2,2,   7.7180,2,    25.00
  06MM20060523, OVIDE,    83,  1,     16,2,20060613,1906, 59.2990, -35.7620, 3105,    994.2,   3.7120,  34.8920,2,  34.8900,2,    283.2,2,    283.2,2,     9.63,2,    17.16,2,     0.94,2,   2297.8,2,   7.7170,2,    25.00
  06MM20060523, OVIDE,    83,  1,     17,2,20060613,1906, 59.2990, -35.7620, 3105,    895.3,   3.8310,  34.9000,2,  34.8940,3,    283.8,2,    281.8,2,     9.59,2,    17.31,2,     0.94,2,   -999.0,9,   7.7160,2,    25.00
  06MM20060523, OVIDE,    83,  1,     18,2,20060613,1906, 59.2990, -35.7620, 3105,    795.4,   4.0060,  34.9040,2,  34.9040,2,    281.2,2,    280.0,2,     9.50,2,    17.36,2,     0.97,2,   2299.9,2,   7.7150,2,    25.00
  06MM20060523, OVIDE,    83,  1,     19,2,20060613,1906, 59.2990, -35.7620, 3105,    696.3,   4.3550,  34.9360,2,  34.9360,2,    273.1,2,    272.5,2,     9.72,2,    17.60,2,     0.98,2,   -999.0,9,   7.7170,2,    25.00
  06MM20060523, OVIDE,    83,  1,     20,2,20060613,1906, 59.2990, -35.7620, 3105,    594.8,   4.6680,  34.9500,2,  34.9490,2,    267.8,2,    270.2,2,     9.54,2,    17.60,2,     1.01,2,   2303.5,2,   7.7190,2,    25.00
  06MM20060523, OVIDE,    83,  1,     21,2,20060613,1906, 59.2990, -35.7620, 3105,    496.2,   5.0740,  34.9690,2,  34.9680,2,    261.9,2,    264.5,2,     9.50,2,    17.59,2,     0.98,2,   2303.4,2,   7.7220,2,    25.00
  06MM20060523, OVIDE,    83,  1,     22,2,20060613,1906, 59.2990, -35.7620, 3105,    397.0,   5.2590,  34.9550,2,  34.9580,2,    290.1,2,    269.7,3,     8.98,2,    17.16,2,     0.97,2,   2302.4,2,   7.7250,2,    25.00
  06MM20060523, OVIDE,    83,  1,     23,2,20060613,1906, 59.2990, -35.7620, 3105,    294.8,   5.7490,  34.9740,2,  34.9700,2,    281.4,2,    275.2,3,     8.25,2,    16.44,2,     0.94,2,   -999.0,9,   7.7400,2,    25.00
  06MM20060523, OVIDE,    83,  1,     24,2,20060613,1906, 59.2990, -35.7620, 3105,    198.5,   6.4860,  35.0280,2,  35.0270,2,    267.4,2,    260.4,3,     8.29,2,    16.63,2,     0.95,2,   2306.8,2,   7.7370,2,    25.00
  06MM20060523, OVIDE,    83,  1,     25,2,20060613,1906, 59.2990, -35.7620, 3105,    147.3,   6.2270,  34.9480,2,  34.9500,2,    284.3,2,    287.7,2,     6.56,2,    14.61,2,     0.82,2,   -999.0,9,   7.7600,2,    25.00
  06MM20060523, OVIDE,    83,  1,     26,2,20060613,1906, 59.2990, -35.7620, 3105,     98.1,   6.8200,  34.9860,2,  34.9890,2,    284.3,2,    281.0,2,     6.30,2,    14.23,2,     0.84,2,   2306.0,2,   7.7670,2,    25.00
  06MM20060523, OVIDE,    83,  1,     27,2,20060613,1906, 59.2990, -35.7620, 3105,     47.5,   7.5400,  35.0040,2,  35.0040,2,    285.0,2,    290.4,3,     4.97,2,    11.44,2,     0.70,2,   -999.0,9,   7.7990,2,    25.00
  06MM20060523, OVIDE,    83,  1,     28,2,20060613,1906, 59.2990, -35.7620, 3105,     21.6,   8.1290,  34.9600,2,  34.9590,2,    300.8,2,    300.9,2,     4.10,2,     9.28,2,     0.60,2,   2305.6,2,   7.8330,2,    25.00
  06MM20060523, OVIDE,    84,  1,      3,2,20060613,0029, 59.3640, -36.3950, 3097,   3130.4,   1.9050,  34.9030,2,  34.9050,2,    296.8,2,    296.6,2,     9.50,2,    14.50,2,     0.80,2,   -999.0,9,   7.7260,2,    25.00
  06MM20060523, OVIDE,    84,  1,      4,2,20060613,0029, 59.3640, -36.3950, 3097,   3086.2,   2.1640,  34.9060,2,  34.9050,2,    292.4,2,    291.8,2,    10.41,2,    15.06,2,     0.85,2,   -999.0,9,   7.7230,2,    25.00
  06MM20060523, OVIDE,    84,  1,      5,2,20060613,0029, 59.3640, -36.3950, 3097,   3034.3,   2.5190,  34.9150,2,  34.9160,2,    285.7,2,    285.1,2,    11.92,2,    15.78,2,     0.90,2,   -999.0,9,   7.7290,2,    25.00
  06MM20060523, OVIDE,    84,  1,      6,2,20060613,0029, 59.3640, -36.3950, 3097,   2996.5,   2.6180,  34.9200,2,  34.9210,2,    284.0,2,    282.8,2,    12.26,2,    16.06,2,     0.92,2,   -999.0,9,   7.7280,2,    25.00
  06MM20060523, OVIDE,    84,  1,      7,2,20060613,0029, 59.3640, -36.3950, 3097,   2745.9,   2.8940,  34.9320,2,  34.9340,2,    279.8,2,    278.7,2,    12.95,2,    16.49,2,     0.95,2,   -999.0,9,   7.7280,2,    25.00
  06MM20060523, OVIDE,    84,  1,      8,2,20060613,0029, 59.3640, -36.3950, 3097,   2748.6,   2.8960,  34.9310,2,  34.9300,2,    279.9,2,    278.7,2,    12.95,2,    16.49,2,     0.94,2,   -999.0,9,   7.7270,2,    25.00
  06MM20060523, OVIDE,    84,  1,      9,2,20060613,0029, 59.3640, -36.3950, 3097,   2496.2,   3.0440,  34.9350,2,  34.9370,2,    279.3,2,    278.0,2,    12.44,2,    16.68,2,     0.92,2,   -999.0,9,   7.7310,2,    25.00
  06MM20060523, OVIDE,    84,  1,     10,2,20060613,0029, 59.3640, -36.3950, 3097,   2245.3,   3.2160,  34.9430,2,  34.9440,2,    279.5,2,    277.6,2,    11.70,2,    16.63,2,     0.94,2,   -999.0,9,   7.7280,2,    25.00
  06MM20060523, OVIDE,    84,  1,     11,2,20060613,0029, 59.3640, -36.3950, 3097,   1993.9,   3.2430,  34.9240,2,  34.9270,2,    280.3,2,    279.8,2,    11.27,2,    16.77,2,     0.97,2,   -999.0,9,   7.7260,2,    25.00
  06MM20060523, OVIDE,    84,  1,     12,2,20060613,0029, 59.3640, -36.3950, 3097,   1793.3,   3.5160,  34.9550,2,  34.9550,2,    278.1,2,    277.0,2,    10.80,2,    16.63,2,     0.95,2,   -999.0,9,   7.7230,2,    25.00
  06MM20060523, OVIDE,    84,  1,     13,2,20060613,0029, 59.3640, -36.3950, 3097,   1594.9,   3.5990,  34.9460,2,  34.9490,2,    278.9,2,    275.8,2,    10.75,2,    16.86,2,     0.96,2,   -999.0,9,   7.7230,2,    25.00
  06MM20060523, OVIDE,    84,  1,     14,2,20060613,0029, 59.3640, -36.3950, 3097,   1395.4,   3.6540,  34.9310,2,  34.9310,2,    277.9,2,    275.2,2,    10.67,2,    17.20,2,     0.97,2,   -999.0,9,   7.7240,2,    25.00
  06MM20060523, OVIDE,    84,  1,     15,2,20060613,0029, 59.3640, -36.3950, 3097,   1195.6,   3.6290,  34.8940,2,  34.8950,2,    280.0,2,    281.2,2,     9.98,2,    17.06,2,     0.97,2,   -999.0,9,   7.7180,2,    25.00
  06MM20060523, OVIDE,    84,  1,     16,2,20060613,0029, 59.3640, -36.3950, 3097,    994.4,   3.9990,  34.9280,2,  34.9270,2,    271.7,2,    271.5,2,    10.32,2,    17.48,2,     1.00,2,   -999.0,9,   7.7160,2,    25.00
  06MM20060523, OVIDE,    84,  1,     17,2,20060613,0029, 59.3640, -36.3950, 3097,    894.9,   4.2160,  34.9400,2,  34.9420,2,    266.1,2,    266.1,2,    10.45,2,    17.67,2,     1.02,2,   -999.0,9,   7.7110,2,    25.00
  06MM20060523, OVIDE,    84,  1,     18,2,20060613,0029, 59.3640, -36.3950, 3097,    794.8,   4.4670,  34.9570,2,  34.9540,2,    263.3,2,    264.6,2,    10.19,2,    17.62,2,     1.00,2,   -999.0,9,   7.7130,2,    25.00
  06MM20060523, OVIDE,    84,  1,     19,2,20060613,0029, 59.3640, -36.3950, 3097,    695.0,   4.5340,  34.9400,2,  34.9380,2,    276.4,2,    277.7,2,     9.24,2,    16.96,2,     0.97,2,   -999.0,9,   7.7240,2,    25.00
  06MM20060523, OVIDE,    84,  1,     20,2,20060613,0029, 59.3640, -36.3950, 3097,    596.7,   4.7570,  34.9470,2,  34.9460,2,    277.4,2,    277.1,2,     9.11,2,    16.86,2,     0.97,2,   -999.0,9,   7.7250,2,    25.00
  06MM20060523, OVIDE,    84,  1,     21,2,20060613,0029, 59.3640, -36.3950, 3097,    496.1,   5.2170,  34.9790,2,  34.9800,2,    279.8,2,    271.9,3,     8.98,2,    16.77,2,     0.96,2,   -999.0,9,   7.7320,2,    25.00
  06MM20060523, OVIDE,    84,  1,     22,2,20060613,0029, 59.3640, -36.3950, 3097,    394.9,   5.4620,  34.9700,2,  34.9700,2,    279.7,2,    281.7,2,     8.16,2,    15.92,2,     0.92,2,   -999.0,9,   7.7420,2,    25.00
  06MM20060523, OVIDE,    84,  1,     23,2,20060613,0029, 59.3640, -36.3950, 3097,    294.3,   6.1110,  35.0230,2,  35.0220,2,    278.5,2,    276.5,2,     7.90,2,    15.63,2,     0.90,2,   -999.0,9,   7.7500,2,    25.00
  06MM20060523, OVIDE,    84,  1,     24,2,20060613,0029, 59.3640, -36.3950, 3097,    196.5,   6.4970,  35.0480,2,  35.0500,2,    284.2,2,    282.0,2,     7.17,2,    14.83,2,     0.85,2,   -999.0,9,   7.7640,2,    25.00
  06MM20060523, OVIDE,    84,  1,     25,2,20060613,0029, 59.3640, -36.3950, 3097,    146.7,   6.6170,  35.0530,2,  35.0530,2,    279.8,2,    282.0,2,     6.82,2,    14.64,2,     0.84,2,   -999.0,9,   7.7680,2,    25.00
  06MM20060523, OVIDE,    84,  1,     26,2,20060613,0029, 59.3640, -36.3950, 3097,     96.9,   7.0190,  35.0570,2,  35.0600,2,    268.7,2,    267.6,2,     7.00,2,    14.97,2,     0.85,2,   -999.0,9,   7.7630,2,    25.00
  06MM20060523, OVIDE,    84,  1,     27,2,20060613,0029, 59.3640, -36.3950, 3097,     47.7,   7.6590,  35.0570,2,  35.0600,2,    293.7,2,    283.0,3,     5.31,2,    11.98,2,     0.72,2,   -999.0,9,   7.7950,2,    25.00
  06MM20060523, OVIDE,    84,  1,     28,2,20060613,0029, 59.3640, -36.3950, 3097,     13.7,   8.2720,  35.0040,2,  35.0070,2,    297.3,2,    297.4,2,     4.19,2,     9.05,2,     0.56,2,   -999.0,9,   7.8380,2,    25.00
  06MM20060523, OVIDE,    85,  1,      3,2,20060614,0535, 59.4290, -37.0290, 3118,   3152.6,   2.2340,  34.9060,2,  34.9080,2,    290.9,2,    290.9,2,    10.70,2,    15.42,2,     0.87,2,   2302.7,2,   7.7280,2,    25.00
  06MM20060523, OVIDE,    85,  1,      4,2,20060614,0535, 59.4290, -37.0290, 3118,   2995.9,   2.6040,  34.9200,2,  34.9200,2,    284.8,2,    282.7,2,    12.58,2,    16.23,2,     0.90,2,   2308.0,2,   7.7280,2,    25.00
  06MM20060523, OVIDE,    85,  1,      5,2,20060614,0535, 59.4290, -37.0290, 3118,   2745.6,   2.9040,  34.9350,2,  34.9330,2,    280.7,2,    278.3,2,    13.01,2,    16.76,2,     0.93,2,   2304.7,2,   7.7310,2,    25.00
  06MM20060523, OVIDE,    85,  1,      6,2,20060614,0535, 59.4290, -37.0290, 3118,   2495.9,   3.0420,  34.9350,2,  34.9350,2,    279.3,2,    278.0,2,    12.41,2,    16.76,2,     0.94,2,   2304.2,2,   7.7290,2,    25.00
  06MM20060523, OVIDE,    85,  1,      7,2,20060614,0535, 59.4290, -37.0290, 3118,   2245.3,   3.1910,  34.9370,2,  34.9370,2,    278.2,2,    278.3,2,    11.64,2,    16.80,2,     0.94,2,   2303.0,2,   7.7260,2,    25.00
  06MM20060523, OVIDE,    85,  1,      8,2,20060614,0535, 59.4290, -37.0290, 3118,   1995.5,   3.2970,  34.9330,2,  34.9330,2,    280.3,2,    279.2,2,    11.04,2,    16.95,2,     0.93,2,   2301.4,2,   7.7260,2,    25.00
  06MM20060523, OVIDE,    85,  1,      9,2,20060614,0535, 59.4290, -37.0290, 3118,   1796.4,   3.3420,  34.9170,2,  34.9180,2,    280.7,2,    280.3,2,    10.87,2,    17.00,2,     0.97,2,   2301.5,2,   7.7250,2,    25.00
  06MM20060523, OVIDE,    85,  1,     10,2,20060614,0535, 59.4290, -37.0290, 3118,   1795.8,   3.3410,  34.9180,2,  34.9190,2,    280.7,2,    279.7,2,    10.83,2,    17.14,2,     0.98,2,   2302.1,2,   7.7250,2,    25.00
  06MM20060523, OVIDE,    85,  1,     11,2,20060614,0535, 59.4290, -37.0290, 3118,   1596.2,   3.4920,  34.9200,2,  34.9230,2,    278.0,2,    277.7,2,    10.70,2,    17.28,2,     0.95,2,   2304.0,2,   7.7240,2,    25.00
  06MM20060523, OVIDE,    85,  1,     12,2,20060614,0535, 59.4290, -37.0290, 3118,   1394.9,   3.6230,  34.9180,2,  34.9210,2,    279.0,2,    276.4,2,    10.53,2,    17.28,2,     0.97,2,   2301.9,2,   7.7190,2,    25.00
  06MM20060523, OVIDE,    85,  1,     13,2,20060614,0535, 59.4290, -37.0290, 3118,   1195.7,   3.6290,  34.8910,2,  34.8940,2,    283.3,2,    283.2,2,     9.85,2,    17.19,2,     0.93,2,   2299.3,2,   7.7200,2,    25.00
  06MM20060523, OVIDE,    85,  1,     14,2,20060614,0535, 59.4290, -37.0290, 3118,    995.9,   3.7430,  34.8880,2,  34.8890,2,    285.0,2,    284.5,2,     9.33,2,    17.04,2,     0.91,2,   2298.2,2,   7.7180,2,    25.00
  06MM20060523, OVIDE,    85,  1,     15,2,20060614,0535, 59.4290, -37.0290, 3118,    895.6,   3.9180,  34.9000,2,  34.9000,2,    280.4,2,    281.4,2,     9.37,2,    17.14,2,     0.99,2,   -999.0,9,   7.7170,2,    25.00
  06MM20060523, OVIDE,    85,  1,     16,2,20060614,0535, 59.4290, -37.0290, 3118,    795.8,   4.1930,  34.9180,2,  34.9150,2,    280.8,2,    278.8,2,     9.42,2,    17.33,2,     0.97,2,   2300.5,2,   7.7180,2,    25.00
  06MM20060523, OVIDE,    85,  1,     17,2,20060614,0535, 59.4290, -37.0290, 3118,    696.0,   4.3630,  34.9180,2,  34.9160,2,    287.4,2,    285.1,2,     8.82,2,    16.80,2,     0.94,2,   -999.0,9,   7.7250,2,    25.00
  06MM20060523, OVIDE,    85,  1,     18,2,20060614,0535, 59.4290, -37.0290, 3118,    595.2,   4.6140,  34.9230,2,  34.9230,2,    282.3,2,    283.3,2,     8.69,2,    16.76,2,     0.91,2,   2303.0,2,   7.7270,2,    25.00
  06MM20060523, OVIDE,    85,  1,     19,2,20060614,0535, 59.4290, -37.0290, 3118,    496.0,   5.4650,  35.0130,2,  35.0070,3,    254.1,2,    252.3,2,     9.93,2,    17.80,2,     0.98,2,   2309.0,2,   7.7180,2,    25.00
  06MM20060523, OVIDE,    85,  1,     20,2,20060614,0535, 59.4290, -37.0290, 3118,    395.7,   5.5660,  34.9670,2,  34.9680,2,    284.0,2,    280.8,2,     7.96,2,    16.04,2,     0.85,2,   2303.2,2,   7.7440,2,    25.00
  06MM20060523, OVIDE,    85,  1,     21,2,20060614,0535, 59.4290, -37.0290, 3118,    296.1,   6.0730,  35.0040,2,  35.0020,2,    283.3,2,    281.6,2,     7.49,2,    15.61,2,     0.85,2,   -999.0,9,   7.7540,2,    25.00
  06MM20060523, OVIDE,    85,  1,     22,2,20060614,0535, 59.4290, -37.0290, 3118,    195.8,   6.4400,  35.0020,2,  35.0010,2,    286.1,2,    287.3,2,     6.16,2,    14.42,2,     0.80,2,   2306.8,2,   7.7710,2,    25.00
  06MM20060523, OVIDE,    85,  1,     23,2,20060614,0535, 59.4290, -37.0290, 3118,    146.5,   6.6280,  34.9950,2,  34.9960,2,    278.2,2,    275.6,2,     6.76,2,    15.04,2,     0.82,2,   -999.0,9,   7.7600,2,    25.00
  06MM20060523, OVIDE,    85,  1,     24,2,20060614,0535, 59.4290, -37.0290, 3118,     96.5,   7.2120,  35.0300,2,  35.0310,2,    276.1,2,    274.1,2,     5.95,2,    14.14,2,     0.78,2,   2311.9,2,   7.7740,2,    25.00
  06MM20060523, OVIDE,    85,  1,     25,2,20060614,0535, 59.4290, -37.0290, 3118,     45.9,   8.1610,  35.0140,2,  35.0210,3,    288.1,2,    287.4,2,     3.85,2,    10.28,2,     0.58,2,   -999.0,9,   7.8160,2,    25.00
  06MM20060523, OVIDE,    85,  1,     26,2,20060614,0535, 59.4290, -37.0290, 3118,     23.4,   8.2640,  34.9990,2,  35.0010,2,    292.7,2,    293.3,2,     3.81,2,     9.33,2,     0.55,2,   2301.8,2,   7.8300,2,    25.00