BOTTLE,20140930PRINUNIVRMK
EXPOCODE,SECT_ID,STNNBR,CASTNO,BTLNBR,BTLNBR_FLAG_W,DATE,TIME,LATITUDE,LONGITUDE,DEPTH,CTDPRS,CTDTMP,CTDSAL,CTDSAL_FLAG_W,SALNTY,SALNTY_FLAG_W,CTDOXY,CTDOXY_FLAG_W,OXYGEN,OXYGEN_FLAG_W,SILCAT,SILCAT_FLAG_W,NITRAT,NITRAT_FLAG_W,PHSPHT,PHSPHT_FLAG_W,ALKALI,ALKALI_FLAG_W,PH_SWS,PH_SWS_FLAG_W,PH_TMP
,,,,,,,,,,METERS,DBAR,ITS-90,PSS-78,,PSS-78,,UMOL/KG,,UMOL/KG,,UMOL/KG,,UMOL/KG,,UMOL/KG,,UMOL/KG,,,,DEG C
  06MM20060523, OVIDE,    89,  1,      3,2,20060615,1434, 59.6250, -38.9590, 2927,   2959.1,   1.5000,  34.9030,2,  34.9050,2,    302.6,2,    302.3,2,     8.26,2,    14.06,2,     0.80,2,   -999.0,9,-999.0000,9,    25.00
  06MM20060523, OVIDE,    89,  1,      4,2,20060615,1434, 59.6250, -38.9590, 2927,   2958.5,   1.5000,  34.9040,2,  34.9030,2,    302.6,2,    302.0,2,     8.34,2,    14.06,2,     0.81,2,   -999.0,9,-999.0000,9,    25.00
  06MM20060523, OVIDE,    89,  1,      5,2,20060615,1434, 59.6250, -38.9590, 2927,   2894.1,   1.6410,  34.9050,2,  34.9030,2,    301.2,2,    302.1,2,     8.07,2,    14.06,2,     0.81,2,   -999.0,9,-999.0000,9,    25.00
  06MM20060523, OVIDE,    89,  1,      6,2,20060615,1434, 59.6250, -38.9590, 2927,   2846.8,   1.9190,  34.9050,2,  34.9050,2,    300.2,2,    300.2,2,     8.14,2,    13.43,2,     0.84,2,   -999.0,9,-999.0000,9,    25.00
  06MM20060523, OVIDE,    89,  1,      7,2,20060615,1434, 59.6250, -38.9590, 2927,   2746.2,   2.2990,  34.9020,2,  34.9030,2,    297.0,2,    294.8,2,     9.34,2,    14.93,2,     0.84,2,   -999.0,9,-999.0000,9,    25.00
  06MM20060523, OVIDE,    89,  1,      8,2,20060615,1434, 59.6250, -38.9590, 2927,   2497.5,   2.7750,  34.9260,2,  34.9250,2,    281.3,2,    281.7,2,    12.37,2,    16.42,2,     0.95,2,   -999.0,9,-999.0000,9,    25.00
  06MM20060523, OVIDE,    89,  1,      9,2,20060615,1434, 59.6250, -38.9590, 2927,   2240.7,   3.0420,  34.9270,2,  34.9280,2,    280.1,2,    280.5,2,    11.87,2,    16.76,2,     0.98,2,   -999.0,9,-999.0000,9,    25.00
  06MM20060523, OVIDE,    89,  1,     10,2,20060615,1434, 59.6250, -38.9590, 2927,   1994.0,   3.1960,  34.9200,2,  34.9210,2,    281.1,2,    280.7,2,    11.18,2,    16.93,2,     0.98,2,   -999.0,9,-999.0000,9,    25.00
  06MM20060523, OVIDE,    89,  1,     11,2,20060615,1434, 59.6250, -38.9590, 2927,   1798.6,   3.2870,  34.9130,2,  34.9150,2,    282.2,2,    281.0,2,    10.84,2,    17.05,2,     0.98,2,   -999.0,9,-999.0000,9,    25.00
  06MM20060523, OVIDE,    89,  1,     12,2,20060615,1434, 59.6250, -38.9590, 2927,   1595.1,   3.4330,  34.9160,2,  34.9180,2,    279.5,2,    278.8,2,    10.68,2,    17.16,2,     0.95,2,   -999.0,9,-999.0000,9,    25.00
  06MM20060523, OVIDE,    89,  1,     13,2,20060615,1434, 59.6250, -38.9590, 2927,   1396.3,   3.5850,  34.9170,2,  34.9160,2,    278.2,2,    277.2,2,    10.53,2,    17.34,2,     0.98,2,   -999.0,9,-999.0000,9,    25.00
  06MM20060523, OVIDE,    89,  1,     14,2,20060615,1434, 59.6250, -38.9590, 2927,   1194.6,   3.5390,  34.8850,2,  34.8840,2,    285.4,2,    291.6,2,     9.84,2,    16.93,2,     0.99,2,   -999.0,9,-999.0000,9,    25.00
  06MM20060523, OVIDE,    89,  1,     15,2,20060615,1434, 59.6250, -38.9590, 2927,    995.4,   3.5960,  34.8780,2,  34.8800,2,    287.3,2,    288.4,2,     9.38,2,    16.76,2,     0.98,2,   -999.0,9,-999.0000,9,    25.00
  06MM20060523, OVIDE,    89,  1,     16,2,20060615,1434, 59.6250, -38.9590, 2927,    895.5,   3.6400,  34.8760,2,  34.8760,2,    290.8,2,    290.1,2,     9.14,2,    16.71,2,     0.99,2,   -999.0,9,-999.0000,9,    25.00
  06MM20060523, OVIDE,    89,  1,     17,2,20060615,1434, 59.6250, -38.9590, 2927,    795.8,   3.7640,  34.8830,2,  34.8850,2,    287.7,2,    286.9,2,     9.22,2,    17.05,2,     0.96,2,   -999.0,9,-999.0000,9,    25.00
  06MM20060523, OVIDE,    89,  1,     18,2,20060615,1434, 59.6250, -38.9590, 2927,    695.5,   3.9330,  34.8950,2,  34.8920,2,    283.1,2,    284.1,2,     9.26,2,    16.70,2,     0.99,2,   -999.0,9,-999.0000,9,    25.00
  06MM20060523, OVIDE,    89,  1,     19,2,20060615,1434, 59.6250, -38.9590, 2927,    595.5,   4.1030,  34.9030,2,  34.9020,2,    291.0,2,    287.1,2,     8.91,2,    16.53,2,     0.93,2,   -999.0,9,-999.0000,9,    25.00
  06MM20060523, OVIDE,    89,  1,     20,2,20060615,1434, 59.6250, -38.9590, 2927,    494.8,   4.4050,  34.9250,2,  34.9250,2,    281.6,2,    284.8,2,     8.84,2,    16.59,2,     0.87,2,   -999.0,9,-999.0000,9,    25.00
  06MM20060523, OVIDE,    89,  1,     21,2,20060615,1434, 59.6250, -38.9590, 2927,    394.8,   4.5670,  34.9270,2,  34.9290,2,    292.3,2,    291.5,2,     8.45,2,    16.07,2,     0.89,2,   -999.0,9,-999.0000,9,    25.00
  06MM20060523, OVIDE,    89,  1,     22,2,20060615,1434, 59.6250, -38.9590, 2927,    296.4,   4.6450,  34.9140,2,  34.9150,2,    298.4,2,    294.8,2,     8.26,2,    15.84,2,     0.89,2,   -999.0,9,-999.0000,9,    25.00
  06MM20060523, OVIDE,    89,  1,     23,2,20060615,1434, 59.6250, -38.9590, 2927,    196.2,   5.0700,  34.9280,2,  34.9270,2,    293.0,2,    292.8,2,     7.84,2,    15.50,2,     0.92,2,   -999.0,9,-999.0000,9,    25.00
  06MM20060523, OVIDE,    89,  1,     24,2,20060615,1434, 59.6250, -38.9590, 2927,    146.2,   5.1300,  34.9100,2,  34.9130,2,    294.5,2,    295.3,2,     7.84,2,    15.27,2,     0.90,2,   -999.0,9,-999.0000,9,    25.00
  06MM20060523, OVIDE,    89,  1,     25,2,20060615,1434, 59.6250, -38.9590, 2927,     97.4,   5.4380,  34.9350,2,  34.9300,2,    294.5,2,    293.7,2,     7.76,2,    15.16,2,     0.91,2,   -999.0,9,-999.0000,9,    25.00
  06MM20060523, OVIDE,    89,  1,     26,2,20060615,1434, 59.6250, -38.9590, 2927,     46.5,   7.2690,  34.9460,2,  34.9470,2,    293.3,2,    301.1,3,     5.53,2,    10.10,2,     0.64,2,   -999.0,9,-999.0000,9,    25.00
  06MM20060523, OVIDE,    89,  1,     27,2,20060615,1434, 59.6250, -38.9590, 2927,     10.5,   7.2810,  34.9460,2,  34.9470,2,    297.3,2,    301.5,2,     5.57,2,    10.05,2,     0.81,2,   -999.0,9,-999.0000,9,    25.00
  06MM20060523, OVIDE,    90,  1,      3,2,20060615,1914, 59.6580, -39.3860, 2844,   2872.5,   1.5690,  34.9080,2,  34.9050,2,    302.8,2,    301.8,2,     8.08,2,    13.63,2,     0.78,2,   -999.0,9,   7.7240,2,    25.00
  06MM20060523, OVIDE,    90,  1,      4,2,20060615,1914, 59.6580, -39.3860, 2844,   2822.7,   1.5680,  34.9070,2,  34.9040,2,    301.0,2,    303.0,2,     8.16,2,    14.15,2,     0.81,2,   -999.0,9,   7.7250,2,    25.00
  06MM20060523, OVIDE,    90,  1,      5,2,20060615,1914, 59.6580, -39.3860, 2844,   2772.6,   1.8950,  34.9060,2,  34.9010,2,    296.6,2,    298.4,2,     8.43,2,    14.44,2,     0.83,2,   -999.0,9,   7.7250,2,    25.00
  06MM20060523, OVIDE,    90,  1,      6,2,20060615,1914, 59.6580, -39.3860, 2844,   2773.7,   1.9050,  34.9030,2,  34.9040,2,    296.7,2,    298.2,2,     8.35,2,    14.38,2,     0.85,2,   -999.0,9,   7.7250,2,    25.00
  06MM20060523, OVIDE,    90,  1,      7,2,20060615,1914, 59.6580, -39.3860, 2844,   2672.0,   2.3040,  34.9060,2,  34.9030,2,    291.3,2,    291.9,2,     9.76,2,    15.01,2,     0.86,2,   -999.0,9,   7.7260,2,    25.00
  06MM20060523, OVIDE,    90,  1,      8,2,20060615,1914, 59.6580, -39.3860, 2844,   2497.4,   2.7110,  34.9190,2,  34.9170,2,    285.0,2,    283.8,2,    11.40,2,    15.48,2,     0.95,2,   -999.0,9,   7.7280,2,    25.00
  06MM20060523, OVIDE,    90,  1,      9,2,20060615,1914, 59.6580, -39.3860, 2844,   2244.6,   2.9230,  34.9100,2,  34.9080,2,    284.7,2,    287.0,2,     9.91,2,    15.82,2,     0.92,2,   -999.0,9,   7.7310,2,    25.00
  06MM20060523, OVIDE,    90,  1,     10,2,20060615,1914, 59.6580, -39.3860, 2844,   1996.4,   3.1590,  34.9190,2,  34.9180,2,    281.5,2,    281.3,2,    10.89,2,    16.86,2,     1.00,2,   -999.0,9,   7.7280,2,    25.00
  06MM20060523, OVIDE,    90,  1,     11,2,20060615,1914, 59.6580, -39.3860, 2844,   1797.6,   3.2700,  34.9140,2,  34.9140,2,    282.1,2,    281.3,2,    10.93,2,    17.15,2,     0.97,2,   -999.0,9,   7.7250,2,    25.00
  06MM20060523, OVIDE,    90,  1,     12,2,20060615,1914, 59.6580, -39.3860, 2844,   1595.2,   3.3990,  34.9150,2,  34.9140,2,    280.4,2,    279.7,2,    10.77,2,    17.21,2,     1.00,2,   -999.0,9,   7.7240,2,    25.00
  06MM20060523, OVIDE,    90,  1,     13,2,20060615,1914, 59.6580, -39.3860, 2844,   1395.5,   3.5220,  34.9140,2,  34.9120,2,    277.8,2,    277.7,2,    10.54,2,    17.32,2,     1.01,2,   -999.0,9,   7.7210,2,    25.00
  06MM20060523, OVIDE,    90,  1,     14,2,20060615,1914, 59.6580, -39.3860, 2844,   1196.4,   3.5380,  34.8910,2,  34.8900,2,    282.3,2,    282.1,2,     9.91,2,    17.21,2,     0.95,2,   -999.0,9,   7.7200,2,    25.00
  06MM20060523, OVIDE,    90,  1,     15,2,20060615,1914, 59.6580, -39.3860, 2844,    994.8,   3.5440,  34.8730,2,  34.8720,2,    290.7,2,    289.7,2,     9.21,2,    16.98,2,     0.98,2,   -999.0,9,   7.7200,2,    25.00
  06MM20060523, OVIDE,    90,  1,     16,2,20060615,1914, 59.6580, -39.3860, 2844,    896.5,   3.5820,  34.8730,2,  34.8700,2,    292.8,2,    290.9,2,     9.17,2,    16.92,2,     0.98,2,   -999.0,9,   7.7200,2,    25.00
  06MM20060523, OVIDE,    90,  1,     18,2,20060615,1914, 59.6580, -39.3860, 2844,    796.5,   3.7040,  34.8810,2,  34.8970,3,    286.7,2,    288.0,2,     8.55,2,    16.17,2,     0.94,2,   -999.0,9,   7.7310,2,    25.00
  06MM20060523, OVIDE,    90,  1,     19,2,20060615,1914, 59.6580, -39.3860, 2844,    695.9,   3.9960,  34.9070,2,  34.9020,2,    282.0,2,    280.0,2,     9.49,2,    17.21,2,     1.01,2,   -999.0,9,   7.7250,3,    25.00
  06MM20060523, OVIDE,    90,  1,     20,2,20060615,1914, 59.6580, -39.3860, 2844,    595.9,   4.1370,  34.9110,2,  34.9100,2,    284.9,2,    283.9,2,     9.13,2,    16.98,2,     0.98,2,   -999.0,9,   7.7220,2,    25.00
  06MM20060523, OVIDE,    90,  1,     21,2,20060615,1914, 59.6580, -39.3860, 2844,    496.5,   4.2800,  34.9150,2,  34.9100,2,    281.1,2,    287.8,2,     8.67,2,    16.63,2,     0.98,2,   -999.0,9,   7.7270,2,    25.00
  06MM20060523, OVIDE,    90,  1,     22,2,20060615,1914, 59.6580, -39.3860, 2844,    396.3,   4.4840,  34.9260,2,  34.9240,2,    287.2,2,    289.6,2,     8.51,2,    16.40,2,     0.94,2,   -999.0,9,   7.7310,2,    25.00
  06MM20060523, OVIDE,    90,  1,     23,2,20060615,1914, 59.6580, -39.3860, 2844,    295.6,   4.6540,  34.9220,2,  34.9200,2,    292.4,2,    289.3,2,     8.43,2,    16.28,2,     0.97,2,   -999.0,9,   7.7350,2,    25.00
  06MM20060523, OVIDE,    90,  1,     24,2,20060615,1914, 59.6580, -39.3860, 2844,    196.3,   5.0030,  34.9330,2,  34.9320,2,    298.2,2,    287.3,3,     8.28,2,    16.11,2,     0.98,2,   -999.0,9,   7.7370,2,    25.00
  06MM20060523, OVIDE,    90,  1,     25,2,20060615,1914, 59.6580, -39.3860, 2844,    146.3,   5.1280,  34.9310,2,  34.9300,2,    291.6,2,    293.2,2,     7.88,2,    15.53,2,     0.93,2,   -999.0,9,   7.7440,2,    25.00
  06MM20060523, OVIDE,    90,  1,     26,2,20060615,1914, 59.6580, -39.3860, 2844,     96.8,   5.4120,  34.9520,2,  34.9480,2,    285.9,2,    288.7,2,     7.85,2,    15.59,2,     0.93,2,   -999.0,9,   7.7450,2,    25.00
  06MM20060523, OVIDE,    90,  1,     27,2,20060615,1914, 59.6580, -39.3860, 2844,     45.7,   7.2130,  34.9410,2,  34.9370,2,    288.3,2,    300.3,3,     5.46,2,     9.93,2,     0.64,2,   -999.0,9,   7.8210,2,    25.00
  06MM20060523, OVIDE,    90,  1,     28,2,20060615,1914, 59.6580, -39.3860, 2844,     13.5,   7.2210,  34.9380,2,  34.9340,2,    297.2,2,    300.7,2,     5.39,2,     9.64,2,     0.64,2,   -999.0,9,   7.8220,2,    25.00
  06MM20060523, OVIDE,    91,  1,      3,2,20060615,2333, 59.6920, -39.8170, 2762,   2788.4,   1.6370,  34.9070,2,  34.9070,2,    303.7,2,    303.2,2,     7.74,2,    13.76,2,     0.79,2,   2299.4,2,   7.7270,2,    25.00
  06MM20060523, OVIDE,    91,  1,      4,2,20060615,2333, 59.6920, -39.8170, 2762,   2741.9,   1.6440,  34.9070,2,  34.9070,2,    302.5,2,    303.3,2,     7.62,2,    13.72,2,     0.82,2,   -999.0,9,   7.7270,2,    25.00
  06MM20060523, OVIDE,    91,  1,      5,2,20060615,2333, 59.6920, -39.8170, 2762,   2695.9,   1.9210,  34.9060,2,  34.9030,2,    298.6,2,    298.6,2,     8.79,2,    12.91,2,     0.81,2,   2299.7,2,   7.7260,2,    25.00
  06MM20060523, OVIDE,    91,  1,      6,2,20060615,2333, 59.6920, -39.8170, 2762,   2597.7,   2.2850,  34.9030,2,  34.9040,2,    292.6,2,    291.1,2,     9.76,2,    14.53,2,     0.83,2,   2304.9,2,   7.7270,2,    25.00
  06MM20060523, OVIDE,    91,  1,      7,2,20060615,2333, 59.6920, -39.8170, 2762,   2495.7,   2.5260,  34.9030,2,  34.9020,2,    296.1,2,    294.0,2,     8.94,2,    14.53,2,     0.86,2,   2303.7,2,   7.7300,2,    25.00
  06MM20060523, OVIDE,    91,  1,      8,2,20060615,2333, 59.6920, -39.8170, 2762,   2496.2,   2.5330,  34.9030,2,  34.9010,2,    296.1,2,    293.9,2,     8.98,2,    14.71,2,     0.86,2,   -999.0,9,   7.7300,2,    25.00
  06MM20060523, OVIDE,    91,  1,      9,2,20060615,2333, 59.6920, -39.8170, 2762,   2245.4,   3.0130,  34.9300,2,  34.9300,2,    280.0,2,    279.2,2,    11.86,2,    16.46,2,     0.98,2,   2305.4,2,   7.7290,2,    25.00
  06MM20060523, OVIDE,    91,  1,     10,2,20060615,2333, 59.6920, -39.8170, 2762,   1995.0,   3.1620,  34.9220,2,  34.9210,2,    281.7,2,    280.6,2,    10.96,2,    16.55,2,     0.97,2,   2304.2,2,   7.7270,2,    25.00
  06MM20060523, OVIDE,    91,  1,     11,2,20060615,2333, 59.6920, -39.8170, 2762,   1794.6,   3.2680,  34.9130,2,-999.0000,3,    282.6,2,    280.8,2,    10.69,2,    16.73,2,     0.98,2,   2300.8,2,   7.7230,2,    25.00
  06MM20060523, OVIDE,    91,  1,     12,2,20060615,2333, 59.6920, -39.8170, 2762,   1596.0,   3.3510,  34.9100,2,  34.9120,2,    281.2,2,    280.2,2,    10.58,2,    16.86,2,     1.01,2,   2300.4,2,   7.7250,2,    25.00
  06MM20060523, OVIDE,    91,  1,     13,2,20060615,2333, 59.6920, -39.8170, 2762,   1396.1,   3.5040,  34.9110,2,  34.9080,2,    277.3,2,    278.0,2,    10.38,2,    16.91,2,     1.01,2,   2301.0,2,   7.7210,2,    25.00
  06MM20060523, OVIDE,    91,  1,     14,2,20060615,2333, 59.6920, -39.8170, 2762,   1195.3,   3.5360,  34.8940,2,-999.0000,3,    282.1,2,    282.2,2,     9.88,2,    16.86,2,     1.01,2,   2302.5,2,   7.7200,2,    25.00
  06MM20060523, OVIDE,    91,  1,     15,2,20060615,2333, 59.6920, -39.8170, 2762,    995.5,   3.5410,  34.8760,2,  34.8740,2,    288.7,2,    287.8,2,     9.33,2,    16.73,2,     0.99,2,   2301.7,2,   7.7190,2,    25.00
  06MM20060523, OVIDE,    91,  1,     16,2,20060615,2333, 59.6920, -39.8170, 2762,    895.0,   3.5760,  34.8760,2,  34.8740,2,    288.8,2,    289.6,2,     9.14,2,    16.46,2,     0.98,2,   -999.0,9,   7.7200,2,    25.00
  06MM20060523, OVIDE,    91,  1,     17,2,20060615,2333, 59.6920, -39.8170, 2762,    796.2,   3.6750,  34.8790,2,  34.8800,2,    285.5,2,    289.2,2,     8.98,2,    16.42,2,     1.01,2,   2298.4,2,   7.7200,2,    25.00
  06MM20060523, OVIDE,    91,  1,     18,2,20060615,2333, 59.6920, -39.8170, 2762,    695.9,   3.8600,  34.8970,2,  34.8940,2,    282.9,2,    282.3,2,     9.25,2,    16.91,2,     1.00,2,   -999.0,9,   7.7160,2,    25.00
  06MM20060523, OVIDE,    91,  1,     19,2,20060615,2333, 59.6920, -39.8170, 2762,    595.9,   3.9980,  34.9020,2,-999.0000,3,    276.9,2,    283.3,3,     9.02,2,    16.68,2,     1.01,2,   2301.0,2,   7.7220,2,    25.00
  06MM20060523, OVIDE,    91,  1,     20,2,20060615,2333, 59.6920, -39.8170, 2762,    495.7,   4.2460,  34.9190,2,  34.9170,2,    282.1,2,    282.9,2,     8.86,2,    16.55,2,     1.04,2,   -999.0,9,   7.7230,2,    25.00
  06MM20060523, OVIDE,    91,  1,     21,2,20060615,2333, 59.6920, -39.8170, 2762,    395.1,   4.4500,  34.9270,2,  34.9260,2,    288.9,2,    286.3,2,     8.52,2,    16.19,2,     0.98,2,   2300.4,2,   7.7290,2,    25.00
  06MM20060523, OVIDE,    91,  1,     22,2,20060615,2333, 59.6920, -39.8170, 2762,    296.7,   4.5750,  34.9250,2,  34.9220,2,    287.4,2,    290.2,2,     8.24,2,    15.78,2,     0.98,2,   -999.0,9,   7.7330,2,    25.00
  06MM20060523, OVIDE,    91,  1,     23,2,20060615,2333, 59.6920, -39.8170, 2762,    226.0,   4.6980,  34.9170,2,  34.9160,2,    291.3,2,    290.0,2,     8.32,2,    15.70,2,     0.97,2,   2299.9,2,   7.7350,2,    25.00
  06MM20060523, OVIDE,    91,  1,     24,2,20060615,2333, 59.6920, -39.8170, 2762,    147.0,   4.9580,  34.9190,2,  34.9180,2,    283.2,2,    296.3,3,     7.74,2,    15.07,2,     0.94,2,   -999.0,9,   7.7440,2,    25.00
  06MM20060523, OVIDE,    91,  1,     25,2,20060615,2333, 59.6920, -39.8170, 2762,     95.8,   5.1250,  34.9240,2,  34.9220,2,    292.4,2,    294.1,2,     7.66,2,    15.02,2,     0.95,2,   2301.2,2,   7.7450,2,    25.00
  06MM20060523, OVIDE,    91,  1,     26,2,20060615,2333, 59.6920, -39.8170, 2762,     45.9,   7.1350,  34.9380,2,  34.9370,2,    289.0,2,    311.9,3,     5.44,2,     9.98,2,     0.66,2,   -999.0,9,   7.8180,2,    25.00
  06MM20060523, OVIDE,    91,  1,     27,2,20060615,2333, 59.6920, -39.8170, 2762,      9.1,   7.1540,  34.9360,2,  34.9390,2,    298.4,2,    300.0,2,     5.52,2,     9.67,2,     0.65,2,   2304.6,2,   7.8190,2,    25.00