BOTTLE,20140930PRINUNIVRMK
EXPOCODE,SECT_ID,STNNBR,CASTNO,BTLNBR,BTLNBR_FLAG_W,DATE,TIME,LATITUDE,LONGITUDE,DEPTH,CTDPRS,CTDTMP,CTDSAL,CTDSAL_FLAG_W,SALNTY,SALNTY_FLAG_W,CTDOXY,CTDOXY_FLAG_W,OXYGEN,OXYGEN_FLAG_W,SILCAT,SILCAT_FLAG_W,NITRAT,NITRAT_FLAG_W,PHSPHT,PHSPHT_FLAG_W,ALKALI,ALKALI_FLAG_W,PH_SWS,PH_SWS_FLAG_W,PH_TMP
,,,,,,,,,,METERS,DBAR,ITS-90,PSS-78,,PSS-78,,UMOL/KG,,UMOL/KG,,UMOL/KG,,UMOL/KG,,UMOL/KG,,UMOL/KG,,,,DEG C
  06MM20060523, OVIDE,   105,  1,      3,2,20060619,0052, 59.4670, -41.2350, 2365,   2383.4,   1.9190,  34.9010,2,  34.9040,2,    303.1,2,    302.1,2,     7.57,2,    13.72,2,     0.82,2,   -999.0,9,-999.0000,9,    25.00
  06MM20060523, OVIDE,   105,  1,      4,2,20060619,0052, 59.4670, -41.2350, 2365,   2344.5,   1.9460,  34.9010,2,  34.9020,2,    300.9,2,    301.4,2,     7.65,2,    13.91,2,     0.84,2,   -999.0,9,-999.0000,9,    25.00
  06MM20060523, OVIDE,   105,  1,      5,2,20060619,0052, 59.4670, -41.2350, 2365,   2296.4,   2.1490,  34.9000,2,  34.9000,2,    300.4,2,    299.7,2,     7.97,2,    14.06,2,     0.85,2,   -999.0,9,-999.0000,9,    25.00
  06MM20060523, OVIDE,   105,  1,      6,2,20060619,0052, 59.4670, -41.2350, 2365,   2196.7,   2.3050,  34.9010,2,  34.9030,2,    293.0,2,    295.9,2,     9.16,2,    14.49,2,     0.88,2,   -999.0,9,-999.0000,9,    25.00
  06MM20060523, OVIDE,   105,  1,      7,2,20060619,0052, 59.4670, -41.2350, 2365,   1994.5,   2.7980,  34.9200,2,  34.9200,2,    286.3,2,    284.5,2,    11.07,2,    15.90,2,     0.95,2,   -999.0,9,-999.0000,9,    25.00
  06MM20060523, OVIDE,   105,  1,      8,2,20060619,0052, 59.4670, -41.2350, 2365,   1794.5,   3.0530,  34.9170,2,  34.9170,2,    282.9,2,    283.2,2,    10.36,2,    16.14,2,     0.96,2,   -999.0,9,-999.0000,9,    25.00
  06MM20060523, OVIDE,   105,  1,      9,2,20060619,0052, 59.4670, -41.2350, 2365,   1595.8,   3.2260,  34.9110,2,  34.9130,2,    284.8,2,    283.9,2,     9.64,2,    15.99,2,     0.96,2,   -999.0,9,-999.0000,9,    25.00
  06MM20060523, OVIDE,   105,  1,     10,2,20060619,0052, 59.4670, -41.2350, 2365,   1396.1,   3.4530,  34.9170,2,  34.9180,2,    278.5,2,    278.2,2,    10.52,2,    17.10,2,     1.03,2,   -999.0,9,-999.0000,9,    25.00
  06MM20060523, OVIDE,   105,  1,     11,2,20060619,0052, 59.4670, -41.2350, 2365,   1194.8,   3.6180,  34.9190,2,  34.9210,2,    276.2,2,    276.9,2,    10.00,2,    16.81,2,     1.01,2,   -999.0,9,-999.0000,9,    25.00
  06MM20060523, OVIDE,   105,  1,     12,2,20060619,0052, 59.4670, -41.2350, 2365,    994.9,   3.6800,  34.9030,2,  34.9050,2,    280.7,2,    284.2,2,     9.48,2,    16.76,2,     1.00,2,   -999.0,9,-999.0000,9,    25.00
  06MM20060523, OVIDE,   105,  1,     13,2,20060619,0052, 59.4670, -41.2350, 2365,    875.2,   3.7820,  34.9050,2,  34.9010,2,    282.6,2,    280.2,2,     9.40,2,    16.67,2,     1.00,2,   -999.0,9,-999.0000,9,    25.00
  06MM20060523, OVIDE,   105,  1,     14,2,20060619,0052, 59.4670, -41.2350, 2365,    796.5,   3.8880,  34.9090,2,  34.9070,2,    279.1,2,    279.2,2,     9.24,2,    16.72,2,     1.01,2,   -999.0,9,-999.0000,9,    25.00
  06MM20060523, OVIDE,   105,  1,     15,2,20060619,0052, 59.4670, -41.2350, 2365,    695.9,   4.1060,  34.9200,2,  34.9190,2,    277.4,2,    277.2,2,     9.08,2,    16.43,2,     1.00,2,   -999.0,9,-999.0000,9,    25.00
  06MM20060523, OVIDE,   105,  1,     16,2,20060619,0052, 59.4670, -41.2350, 2365,    596.1,   4.3510,  34.9310,2,  34.9300,2,    278.0,2,    276.9,2,     8.72,2,    16.33,2,     0.98,2,   -999.0,9,-999.0000,9,    25.00
  06MM20060523, OVIDE,   105,  1,     17,2,20060619,0052, 59.4670, -41.2350, 2365,    495.6,   4.6360,  34.9440,2,  34.9440,2,    282.2,2,    281.4,2,     8.24,2,    16.23,2,     0.97,2,   -999.0,9,-999.0000,9,    25.00
  06MM20060523, OVIDE,   105,  1,     18,2,20060619,0052, 59.4670, -41.2350, 2365,    416.8,   4.9510,  34.9790,2,  34.9790,2,    291.5,2,    291.5,2,     7.85,2,    15.70,2,     0.95,2,   -999.0,9,-999.0000,9,    25.00
  06MM20060523, OVIDE,   105,  1,     19,2,20060619,0052, 59.4670, -41.2350, 2365,    296.7,   5.1540,  35.0040,2,  35.0050,2,    291.2,2,    291.2,2,     7.65,2,    15.65,2,     0.93,2,   -999.0,9,-999.0000,9,    25.00
  06MM20060523, OVIDE,   105,  1,     20,2,20060619,0052, 59.4670, -41.2350, 2365,    197.5,   4.9900,  34.9690,2,  34.9690,2,    285.8,2,    286.2,2,     7.65,2,    15.36,2,     0.91,2,   -999.0,9,-999.0000,9,    25.00
  06MM20060523, OVIDE,   105,  1,     21,2,20060619,0052, 59.4670, -41.2350, 2365,    147.3,   5.2180,  34.9860,2,  34.9850,2,    284.8,2,    286.6,2,     7.49,2,    15.65,2,     0.93,2,   -999.0,9,-999.0000,9,    25.00
  06MM20060523, OVIDE,   105,  1,     22,2,20060619,0052, 59.4670, -41.2350, 2365,     95.9,   5.3580,  34.9730,2,  34.9740,2,    284.4,2,    285.8,2,     7.01,2,    14.93,2,     0.90,2,   -999.0,9,-999.0000,9,    25.00
  06MM20060523, OVIDE,   105,  1,     23,2,20060619,0052, 59.4670, -41.2350, 2365,     44.1,   6.1450,  34.8990,2,  34.8970,2,    302.1,2,    299.3,2,     4.30,2,     8.89,2,     0.64,2,   -999.0,9,-999.0000,9,    25.00
  06MM20060523, OVIDE,   105,  1,     24,2,20060619,0052, 59.4670, -41.2350, 2365,      5.9,   4.7350,  34.0620,2,  34.0640,2,    305.6,2,    314.1,3,     3.15,2,     5.66,2,     0.41,2,   -999.0,9,-999.0000,9,    25.00
  06MM20060523, OVIDE,   106,  1,      3,2,20060619,1927, 59.7460, -42.0570, 1758,   1763.9,   3.0360,  34.9070,2,  34.9060,2,    287.9,2,    287.7,2,     9.52,2,    16.36,2,     1.02,2,   -999.0,9,   7.7240,2,    25.00
  06MM20060523, OVIDE,   106,  1,      4,2,20060619,1927, 59.7460, -42.0570, 1758,   1713.3,   3.0890,  34.9080,2,  34.9060,2,    287.0,2,    287.0,2,     9.60,2,    16.17,2,     1.05,2,   -999.0,9,   7.7310,2,    25.00
  06MM20060523, OVIDE,   106,  1,      5,2,20060619,1927, 59.7460, -42.0570, 1758,   1663.9,   3.1090,  34.9070,2,  34.9080,2,    286.5,2,    287.2,2,     9.52,2,    16.22,2,     1.05,2,   -999.0,9,   7.7280,2,    25.00
  06MM20060523, OVIDE,   106,  1,      6,2,20060619,1927, 59.7460, -42.0570, 1758,   1664.8,   3.1090,  34.9080,2,  34.9080,2,    286.5,2,    286.0,2,     9.60,2,    16.17,2,     1.05,2,   -999.0,9,   7.7280,2,    25.00
  06MM20060523, OVIDE,   106,  1,      7,2,20060619,1927, 59.7460, -42.0570, 1758,   1562.5,   3.1700,  34.9080,2,  34.9090,2,    286.0,2,    286.7,2,     9.41,2,    16.36,2,     1.04,2,   -999.0,9,   7.7280,2,    25.00
  06MM20060523, OVIDE,   106,  1,      8,2,20060619,1927, 59.7460, -42.0570, 1758,   1395.8,   3.3840,  34.9150,2,  34.9160,2,    283.4,2,    283.1,2,     9.68,2,    16.71,2,     1.07,2,   -999.0,9,   7.7250,2,    25.00
  06MM20060523, OVIDE,   106,  1,      9,2,20060619,1927, 59.7460, -42.0570, 1758,   1194.6,   3.5320,  34.9140,2,  34.9150,2,    283.4,2,    282.5,2,     9.52,2,    16.81,2,     1.08,2,   -999.0,9,   7.7270,2,    25.00
  06MM20060523, OVIDE,   106,  1,     10,2,20060619,1927, 59.7460, -42.0570, 1758,    995.7,   3.6910,  34.9150,2,  34.9170,2,    281.5,2,    281.7,2,     9.33,2,    16.86,2,     1.10,2,   -999.0,9,   7.7240,2,    25.00
  06MM20060523, OVIDE,   106,  1,     11,2,20060619,1927, 59.7460, -42.0570, 1758,    896.0,   3.8400,  34.9170,2,  34.9160,2,    280.6,2,    281.7,2,     9.13,2,    16.81,2,     1.09,2,   -999.0,9,   7.7240,2,    25.00
  06MM20060523, OVIDE,   106,  1,     12,2,20060619,1927, 59.7460, -42.0570, 1758,    796.1,   3.9180,  34.9200,2,  34.9190,2,    281.6,2,    281.8,2,     9.13,2,    16.95,2,     1.10,2,   -999.0,9,   7.7260,2,    25.00
  06MM20060523, OVIDE,   106,  1,     13,2,20060619,1927, 59.7460, -42.0570, 1758,    695.6,   4.2900,  34.9300,2,  34.9280,2,    280.6,2,    280.4,2,     8.74,2,    16.71,2,     1.08,2,   -999.0,9,   7.7260,2,    25.00
  06MM20060523, OVIDE,   106,  1,     15,2,20060619,1927, 59.7460, -42.0570, 1758,    496.2,   4.8940,  34.9660,2,  34.9630,2,    292.0,2,    285.5,3,     8.04,2,    16.26,2,     1.07,2,   -999.0,9,   7.7400,2,    25.00
  06MM20060523, OVIDE,   106,  1,     16,2,20060619,1927, 59.7460, -42.0570, 1758,    396.7,   5.2130,  34.9980,2,  34.9980,2,    290.7,2,    288.4,2,     7.73,2,    16.12,2,     1.05,2,   -999.0,9,   7.7440,2,    25.00
  06MM20060523, OVIDE,   106,  1,     17,2,20060619,1927, 59.7460, -42.0570, 1758,    296.5,   5.4310,  35.0150,2,  35.0130,2,    286.3,2,    288.5,2,     7.65,2,    16.21,2,     1.05,2,   -999.0,9,   7.7490,2,    25.00
  06MM20060523, OVIDE,   106,  1,     18,2,20060619,1927, 59.7460, -42.0570, 1758,    196.1,   5.8660,  35.0430,2,  35.0440,2,    284.5,2,    283.3,2,     7.38,2,    15.77,2,     1.04,2,   -999.0,9,   7.7560,2,    25.00
  06MM20060523, OVIDE,   106,  1,     19,2,20060619,1927, 59.7460, -42.0570, 1758,    146.0,   6.0840,  35.0640,2,  35.0610,2,    284.5,2,    285.1,2,     7.14,2,    15.62,2,     1.03,2,   -999.0,9,   7.7630,2,    25.00
  06MM20060523, OVIDE,   106,  1,     20,2,20060619,1927, 59.7460, -42.0570, 1758,     97.2,   6.0180,  35.0320,2,  35.0300,2,    286.2,2,    287.0,2,     6.52,2,    14.98,2,     1.00,2,   -999.0,9,   7.7650,2,    25.00
  06MM20060523, OVIDE,   106,  1,     21,2,20060619,1927, 59.7460, -42.0570, 1758,     47.2,   5.2600,  34.7750,2,  34.7790,2,    307.1,2,    307.8,2,     3.59,2,    10.06,2,     0.79,2,   -999.0,9,   7.8050,2,    25.00
  06MM20060523, OVIDE,   106,  1,     22,2,20060619,1927, 59.7460, -42.0570, 1758,     11.9,   3.8490,  33.3280,2,  33.3330,2,    356.8,2,    352.2,2,     1.21,2,     1.58,2,     0.25,2,   -999.0,9,   7.9470,2,    25.00
  06MM20060523, OVIDE,   107,  1,      3,2,20060620,0130, 59.8220, -42.3350,  377,    364.2,   4.8690,  34.8760,2,  34.8760,2,    293.3,2,    291.8,2,     6.93,2,    14.96,2,     0.85,2,   -999.0,9,   7.7570,2,    25.00
  06MM20060523, OVIDE,   107,  1,      4,2,20060620,0130, 59.8220, -42.3350,  377,    328.9,   4.8870,  34.8770,2,  34.8740,2,    289.3,2,    292.5,2,     6.81,2,    14.76,2,     0.83,2,   -999.0,9,   7.7550,2,    25.00
  06MM20060523, OVIDE,   107,  1,      5,2,20060620,0130, 59.8220, -42.3350,  377,    295.1,   4.3830,  34.7830,2,  34.7850,2,    298.5,2,    296.5,2,     6.49,2,    14.22,2,     0.82,2,   -999.0,9,   7.7550,2,    25.00
  06MM20060523, OVIDE,   107,  1,      6,2,20060620,0130, 59.8220, -42.3350,  377,    246.0,   4.1860,  34.7500,2,  34.7520,2,    297.1,2,    298.4,2,     6.41,2,    13.77,2,     0.81,2,   -999.0,9,   7.7560,2,    25.00
  06MM20060523, OVIDE,   107,  1,      7,2,20060620,0130, 59.8220, -42.3350,  377,    245.6,   4.1840,  34.7500,2,  34.7500,2,    297.1,2,    298.4,2,     6.37,2,    13.92,2,     0.81,2,   -999.0,9,   7.7570,2,    25.00
  06MM20060523, OVIDE,   107,  1,      8,2,20060620,0130, 59.8220, -42.3350,  377,    193.9,   5.5220,  34.9330,2,  34.9320,2,    295.2,2,    293.0,2,     6.02,2,    13.77,2,     0.82,2,   -999.0,9,   7.7780,2,    25.00
  06MM20060523, OVIDE,   107,  1,      9,2,20060620,0130, 59.8220, -42.3350,  377,    147.3,   5.2040,  34.8510,2,  34.8030,3,    301.3,2,    298.8,2,     5.54,2,    13.03,2,     0.78,2,   -999.0,9,   7.7720,2,    25.00
  06MM20060523, OVIDE,   107,  1,     10,2,20060620,0130, 59.8220, -42.3350,  377,     97.1,   3.8310,  34.6400,2,  34.6440,2,    305.4,2,    305.9,2,     5.30,2,    12.09,2,     0.74,2,   -999.0,9,   7.7700,2,    25.00
  06MM20060523, OVIDE,   107,  1,     11,2,20060620,0130, 59.8220, -42.3350,  377,     66.6,   4.7950,  34.7100,2,  34.7070,2,    311.7,2,    307.7,2,     4.18,2,    10.30,2,     0.68,2,   -999.0,9,   7.8040,2,    25.00
  06MM20060523, OVIDE,   107,  1,     12,2,20060620,0130, 59.8220, -42.3350,  377,     45.8,   3.5850,  34.4450,2,  34.3890,3,    320.3,2,    322.5,2,     3.86,2,     8.57,2,     0.60,2,   -999.0,9,   7.8090,2,    25.00
  06MM20060523, OVIDE,   107,  1,     13,2,20060620,0130, 59.8220, -42.3350,  377,      5.8,   1.7160,  33.3770,2,  33.3370,3,    346.9,2,   -999.0,3,     2.39,2,     4.32,2,  -999.00,9,   -999.0,9,-999.0000,9,    25.00
  06MM20060523, OVIDE,   108,  1,      3,2,20060621,0253, 59.9050, -42.3980,  233,    218.0,   3.5600,  34.6220,2,  34.6230,2,    310.4,2,    304.9,2,     5.86,2,    12.95,2,     0.73,2,   -999.0,9,   7.7560,2,    25.00
  06MM20060523, OVIDE,   108,  1,      4,2,20060621,0253, 59.9050, -42.3980,  233,    195.7,   3.5610,  34.6240,2,  34.6250,2,    305.8,2,    304.8,2,     5.82,2,    12.95,2,     0.73,2,   -999.0,9,   7.7570,2,    25.00
  06MM20060523, OVIDE,   108,  1,      5,2,20060621,0253, 59.9050, -42.3980,  233,    156.4,   3.2880,  34.5710,2,  34.5750,2,    299.7,2,    305.8,2,     5.78,2,    12.66,2,     0.72,2,   -999.0,9,   7.7550,2,    25.00
  06MM20060523, OVIDE,   108,  1,      6,2,20060621,0253, 59.9050, -42.3980,  233,    137.0,   3.1080,  34.5380,2,  34.5400,2,    301.9,2,    308.1,2,     5.62,2,    12.47,2,     0.72,2,   -999.0,9,   7.7580,2,    25.00
  06MM20060523, OVIDE,   108,  1,      7,2,20060621,0253, 59.9050, -42.3980,  233,    126.4,   3.0650,  34.5290,2,  34.5290,2,    304.7,2,    308.6,2,     5.54,2,    12.28,2,     0.72,2,   -999.0,9,   7.7620,2,    25.00
  06MM20060523, OVIDE,   108,  1,      8,2,20060621,0253, 59.9050, -42.3980,  233,     93.0,   4.8750,  34.6910,2,  34.6510,3,    315.1,2,    312.5,2,     4.02,2,     9.71,2,     0.62,2,   -999.0,9,   7.8050,2,    25.00
  06MM20060523, OVIDE,   108,  1,      9,2,20060621,0253, 59.9050, -42.3980,  233,     75.5,   4.0830,  34.5130,2,  34.5180,2,    324.4,2,    318.0,2,     3.67,2,     8.70,2,     0.58,2,   -999.0,9,   7.7860,2,    25.00
  06MM20060523, OVIDE,   108,  1,     10,2,20060621,0253, 59.9050, -42.3980,  233,     44.8,  -0.7990,  33.6890,2,  33.8130,3,    348.5,2,    340.5,2,     3.83,2,     7.50,2,     0.51,2,   -999.0,9,   7.7640,2,    25.00
  06MM20060523, OVIDE,   108,  1,     11,2,20060621,0253, 59.9050, -42.3980,  233,     16.0,   1.6620,  33.0710,2,  33.1170,3,    339.9,2,    352.5,2,     1.95,2,     3.14,2,     0.31,2,   -999.0,9,   7.8800,2,    25.00
  06MM20060523, OVIDE,   108,  1,     12,2,20060621,0253, 59.9050, -42.3980,  233,      5.1,   1.8110,  33.0680,2,  33.0680,2,    337.1,2,    349.3,2,     1.72,2,     2.76,2,     0.30,2,   -999.0,9,   7.9070,2,    25.00
  06MM20060523, OVIDE,   109,  1,      3,2,20060621,0913, 59.8090, -42.3020,  828,    820.5,   4.4540,  34.9320,2,  34.9300,2,    281.6,2,    282.5,2,     8.36,2,    15.67,2,     1.00,2,   -999.0,9,   7.7370,2,    25.00
  06MM20060523, OVIDE,   109,  1,      4,2,20060621,0913, 59.8090, -42.3020,  828,    796.2,   4.4590,  34.9310,2,  34.9300,2,    282.2,2,    282.1,2,     8.36,2,    15.72,2,     1.00,2,   -999.0,9,   7.7360,2,    25.00
  06MM20060523, OVIDE,   109,  1,      5,2,20060621,0913, 59.8090, -42.3020,  828,    770.2,   4.4820,  34.9330,2,  34.9310,2,    282.8,2,    283.3,2,     8.36,2,    15.67,2,     1.00,2,   -999.0,9,   7.7380,2,    25.00
  06MM20060523, OVIDE,   109,  1,      6,2,20060621,0913, 59.8090, -42.3020,  828,    745.5,   4.5190,  34.9320,2,  34.9340,2,    283.6,2,    282.8,2,     8.32,2,    15.48,2,     0.98,2,   -999.0,9,   7.7400,2,    25.00
  06MM20060523, OVIDE,   109,  1,      7,2,20060621,0913, 59.8090, -42.3020,  828,    720.6,   4.5790,  34.9330,2,  34.9310,2,    284.0,2,    283.2,2,     8.20,2,    15.62,2,     0.98,2,   -999.0,9,   7.7390,2,    25.00
  06MM20060523, OVIDE,   109,  1,      8,2,20060621,0913, 59.8090, -42.3020,  828,    669.5,   4.5810,  34.9320,2,  34.9320,2,    282.7,2,    283.5,2,     8.16,2,    15.53,2,     1.00,2,   -999.0,9,   7.7400,2,    25.00
  06MM20060523, OVIDE,   109,  1,      9,2,20060621,0913, 59.8090, -42.3020,  828,    595.9,   5.1710,  34.9500,2,  34.9500,2,    285.1,2,    302.3,3,     7.32,2,    14.90,2,     0.93,2,   -999.0,9,   7.7540,2,    25.00
  06MM20060523, OVIDE,   109,  1,     10,2,20060621,0913, 59.8090, -42.3020,  828,    496.3,   5.0800,  34.9100,2,  34.9090,2,    290.0,2,    290.6,2,     6.88,2,    14.42,2,     0.90,2,   -999.0,9,   7.7560,2,    25.00
  06MM20060523, OVIDE,   109,  1,     11,2,20060621,0913, 59.8090, -42.3020,  828,    396.7,   5.1520,  34.9170,2,  34.9170,2,    291.3,2,    290.6,2,     6.80,2,    14.33,2,     0.89,2,   -999.0,9,   7.7610,2,    25.00
  06MM20060523, OVIDE,   109,  1,     12,2,20060621,0913, 59.8090, -42.3020,  828,    296.3,   5.2350,  34.9260,2,  34.9260,2,    292.5,2,    290.4,2,     6.80,2,    14.42,2,     0.91,2,   -999.0,9,   7.7610,2,    25.00
  06MM20060523, OVIDE,   109,  1,     13,2,20060621,0913, 59.8090, -42.3020,  828,    196.2,   5.0710,  34.8890,2,  34.8880,2,    291.1,2,    292.3,2,     6.52,2,    14.18,2,     0.89,2,   -999.0,9,   7.7630,2,    25.00
  06MM20060523, OVIDE,   109,  1,     14,2,20060621,0913, 59.8090, -42.3020,  828,     97.0,   4.6750,  34.7820,2,  34.7780,2,    293.4,2,    307.1,3,     5.48,2,    12.40,2,     0.82,2,   -999.0,9,   7.7730,2,    25.00
  06MM20060523, OVIDE,   109,  1,     15,2,20060621,0913, 59.8090, -42.3020,  828,     46.7,   5.5200,  34.8520,2,  34.8640,3,    299.7,2,    300.0,2,     4.48,2,    11.49,2,     0.79,2,   -999.0,9,   7.7950,2,    25.00
  06MM20060523, OVIDE,   109,  1,     16,2,20060621,0913, 59.8090, -42.3020,  828,     14.6,   3.0010,  33.4700,2,  33.5480,3,    339.9,2,    339.7,2,     2.00,2,     3.66,2,     0.36,2,   -999.0,9,   7.9090,2,    25.00
  06MM20060523, OVIDE,   110,  1,      3,2,20060622,1121, 59.8170, -42.3180,  508,    495.8,   5.0360,  34.9190,2,  34.9200,2,    287.8,2,    288.8,2,     7.15,2,    14.78,2,     0.91,2,   -999.0,9,   7.7560,2,    25.00
  06MM20060523, OVIDE,   110,  1,      4,2,20060622,1121, 59.8170, -42.3180,  508,    396.2,   5.2170,  34.9270,2,  34.9280,2,    288.0,2,    289.5,2,     6.84,2,    14.64,2,     0.89,2,   -999.0,9,   7.7590,2,    25.00
  06MM20060523, OVIDE,   110,  1,      5,2,20060622,1121, 59.8170, -42.3180,  508,    296.0,   5.2420,  34.9290,2,  34.9280,2,    295.3,2,    289.6,2,     6.80,2,    14.64,2,     0.88,2,   -999.0,9,   7.7580,2,    25.00
  06MM20060523, OVIDE,   110,  1,      6,2,20060622,1121, 59.8170, -42.3180,  508,    196.0,   5.1500,  34.9060,2,  34.9050,2,    292.7,2,    291.3,2,     6.60,2,    14.30,2,     0.87,2,   -999.0,9,   7.7610,2,    25.00
  06MM20060523, OVIDE,   110,  1,      7,2,20060622,1121, 59.8170, -42.3180,  508,    146.8,   4.9210,  34.8560,2,  34.8630,3,    288.4,2,    293.8,2,     6.36,2,    13.87,2,     0.87,2,   -999.0,9,   7.7580,2,    25.00
  06MM20060523, OVIDE,   110,  1,      8,2,20060622,1121, 59.8170, -42.3180,  508,     96.3,   5.7070,  34.9450,2,  34.9450,2,    301.4,2,    293.1,2,     5.45,2,    13.16,2,     0.85,2,   -999.0,9,   7.7750,2,    25.00
  06MM20060523, OVIDE,   110,  1,      9,2,20060622,1121, 59.8170, -42.3180,  508,     46.8,   4.6880,  34.7010,2,  34.7240,3,    305.4,2,    305.4,2,     4.39,2,    10.67,2,     0.76,2,   -999.0,9,   7.7930,2,    25.00
  06MM20060523, OVIDE,   110,  1,     10,2,20060622,1121, 59.8170, -42.3180,  508,      4.7,   3.6140,  33.3470,2,  33.4190,3,    339.9,2,    340.1,2,     1.90,2,     2.78,2,     0.30,2,   -999.0,9,   7.9300,2,    25.00