BOTTLE,20140930PRINUNIVRMK
EXPOCODE,SECT_ID,STNNBR,CASTNO,BTLNBR,BTLNBR_FLAG_W,DATE,TIME,LATITUDE,LONGITUDE,DEPTH,CTDPRS,CTDTMP,CTDSAL,CTDSAL_FLAG_W,SALNTY,SALNTY_FLAG_W,CTDOXY,CTDOXY_FLAG_W,OXYGEN,OXYGEN_FLAG_W,SILCAT,SILCAT_FLAG_W,NITRAT,NITRAT_FLAG_W,PHSPHT,PHSPHT_FLAG_W,ALKALI,ALKALI_FLAG_W,PH_SWS,PH_SWS_FLAG_W,PH_TMP
,,,,,,,,,,METERS,DBAR,ITS-90,PSS-78,,PSS-78,,UMOL/KG,,UMOL/KG,,UMOL/KG,,UMOL/KG,,UMOL/KG,,UMOL/KG,,,,DEG C
  06MM20060523, OVIDE,    39,  1,      3,2,20060603,2337, 47.6650, -20.5560, 4354,   4421.6,   2.5450,  34.9090,2,  34.9120,2,    242.5,2,    242.8,2,    47.77,2,    22.77,2,     1.34,2,   -999.0,9,   7.7250,2,    25.00
  06MM20060523, OVIDE,    39,  1,      4,2,20060603,2337, 47.6650, -20.5560, 4354,   3996.8,   2.5490,  34.9170,2,  34.9170,2,    244.7,2,    243.9,2,    45.97,2,    22.48,2,     1.34,2,   -999.0,9,   7.7230,2,    25.00
  06MM20060523, OVIDE,    39,  1,      5,2,20060603,2337, 47.6650, -20.5560, 4354,   3497.2,   2.6940,  34.9360,2,  34.9370,2,    250.5,2,    250.3,2,    37.88,2,    20.97,2,     1.22,2,   -999.0,9,   7.7270,2,    25.00
  06MM20060523, OVIDE,    39,  1,      6,2,20060603,2337, 47.6650, -20.5560, 4354,   3245.0,   2.7970,  34.9430,2,  34.9440,2,    254.3,2,    254.9,2,    33.38,2,    19.69,2,     1.19,2,   -999.0,9,   7.7280,2,    25.00
  06MM20060523, OVIDE,    39,  1,      7,2,20060603,2337, 47.6650, -20.5560, 4354,   2995.9,   2.9440,  34.9530,2,  34.9510,2,    258.0,2,    258.9,2,    28.76,2,    19.11,2,     1.13,2,   -999.0,9,   7.7290,2,    25.00
  06MM20060523, OVIDE,    39,  1,      8,2,20060603,2337, 47.6650, -20.5560, 4354,   2746.4,   3.0930,  34.9470,2,  34.9480,2,    266.1,2,    266.4,2,    19.24,2,    18.12,2,     1.06,2,   -999.0,9,   7.7280,2,    25.00
  06MM20060523, OVIDE,    39,  1,      9,2,20060603,2337, 47.6650, -20.5560, 4354,   2497.0,   3.1910,  34.9310,2,  34.9290,2,    275.1,2,    273.4,2,    15.19,2,    17.66,2,     1.02,2,   -999.0,9,   7.7250,2,    25.00
  06MM20060523, OVIDE,    39,  1,     10,2,20060603,2337, 47.6650, -20.5560, 4354,   2245.2,   3.3310,  34.9190,2,  34.9180,2,    276.1,2,    276.6,2,    13.21,2,    17.60,2,     1.04,2,   -999.0,9,   7.7290,2,    25.00
  06MM20060523, OVIDE,    39,  1,     11,2,20060603,2337, 47.6650, -20.5560, 4354,   1993.1,   3.4980,  34.9140,2,  34.9120,2,    275.7,2,    276.6,2,    11.88,2,    17.77,2,     1.01,2,   -999.0,9,   7.7210,2,    25.00
  06MM20060523, OVIDE,    39,  1,     12,2,20060603,2337, 47.6650, -20.5560, 4354,   1793.4,   3.7340,  34.9300,2,  34.9260,2,    273.6,2,    272.4,2,    11.65,2,    17.83,2,     1.02,2,   -999.0,9,   7.7180,2,    25.00
  06MM20060523, OVIDE,    39,  1,     13,2,20060603,2337, 47.6650, -20.5560, 4354,   1595.4,   4.1530,  34.9690,2,  34.9700,2,    264.4,2,    263.2,2,    11.28,2,    18.12,2,     1.04,2,   -999.0,9,   7.7160,2,    25.00
  06MM20060523, OVIDE,    39,  1,     14,2,20060603,2337, 47.6650, -20.5560, 4354,   1415.0,   4.5260,  34.9990,2,  34.9920,3,    258.0,2,    257.7,2,    11.14,2,    18.12,2,     1.04,2,   -999.0,9,   7.7130,2,    25.00
  06MM20060523, OVIDE,    39,  1,     15,2,20060603,2337, 47.6650, -20.5560, 4354,   1104.0,   7.1240,  35.3370,2,  35.3310,2,    211.7,2,    214.3,2,    11.18,2,    18.58,2,     1.04,2,   -999.0,9,   7.7270,2,    25.00
  06MM20060523, OVIDE,    39,  1,     16,2,20060603,2337, 47.6650, -20.5560, 4354,    995.6,   7.1460,  35.2150,2,  35.2170,2,    209.4,2,    210.7,2,    11.00,2,    18.99,2,     1.05,2,   -999.0,9,   7.7110,2,    25.00
  06MM20060523, OVIDE,    39,  1,     18,2,20060603,2337, 47.6650, -20.5560, 4354,    776.3,   9.3460,  35.3310,2,  35.3400,3,    187.5,2,    189.6,2,  -999.00,9,  -999.00,9,  -999.00,9,   -999.0,9,   7.7330,2,    25.00
  06MM20060523, OVIDE,    39,  1,     19,2,20060603,2337, 47.6650, -20.5560, 4354,    695.3,  10.0340,  35.3720,2,  35.3750,2,    199.6,2,    195.4,2,     9.62,2,    18.35,2,     1.01,2,   -999.0,9,   7.7520,2,    25.00
  06MM20060523, OVIDE,    39,  1,     20,2,20060603,2337, 47.6650, -20.5560, 4354,    595.3,  10.9560,  35.4990,2,  35.4960,2,    225.1,2,    224.9,2,     8.37,2,    17.30,2,     0.93,2,   -999.0,9,   7.8030,2,    25.00
  06MM20060523, OVIDE,    39,  1,     21,2,20060603,2337, 47.6650, -20.5560, 4354,    494.8,  11.5160,  35.5730,2,  35.5720,2,    237.7,2,    237.5,2,     5.43,2,    13.12,2,     0.70,2,   -999.0,9,   7.8310,2,    25.00
  06MM20060523, OVIDE,    39,  1,     22,2,20060603,2337, 47.6650, -20.5560, 4354,    396.5,  11.8390,  35.6160,2,  35.6180,2,    245.5,2,    246.6,2,     4.05,2,    10.80,2,     0.58,2,   -999.0,9,   7.8520,2,    25.00
  06MM20060523, OVIDE,    39,  1,     23,2,20060603,2337, 47.6650, -20.5560, 4354,    294.9,  12.0250,  35.6210,2,  35.6200,2,    250.5,2,    222.4,3,     3.40,2,     9.23,2,     0.49,2,   -999.0,9,   7.8310,2,    25.00
  06MM20060523, OVIDE,    39,  1,     24,2,20060603,2337, 47.6650, -20.5560, 4354,    193.6,  12.4420,  35.6760,2,  35.6780,2,    257.7,2,    258.4,2,     4.32,2,    11.50,2,     0.60,2,   -999.0,9,   7.8830,2,    25.00
  06MM20060523, OVIDE,    39,  1,     25,2,20060603,2337, 47.6650, -20.5560, 4354,    146.8,  12.7200,  35.6950,2,  35.6960,2,    257.2,2,    256.9,2,     1.56,2,     6.44,2,     0.37,2,   -999.0,9,   7.8850,2,    25.00
  06MM20060523, OVIDE,    39,  1,     26,2,20060603,2337, 47.6650, -20.5560, 4354,     96.2,  13.0580,  35.6820,2,  35.6840,2,    263.7,2,    259.7,2,     1.70,2,     6.21,2,     0.34,2,   -999.0,9,   7.9100,2,    25.00
  06MM20060523, OVIDE,    39,  1,     27,2,20060603,2337, 47.6650, -20.5560, 4354,     47.0,  13.6830,  35.7060,2,  35.7010,2,    263.0,2,    265.0,2,     1.10,2,     4.76,2,     0.29,2,   -999.0,9,   7.9200,2,    25.00
  06MM20060523, OVIDE,    39,  1,     28,2,20060603,2337, 47.6650, -20.5560, 4354,     46.8,  13.7740,  35.7200,2,  35.7120,2,    263.0,2,    264.5,2,     0.87,2,     3.95,2,     0.22,2,   -999.0,9,   7.9210,2,    25.00
  06MM20060523, OVIDE,    39,  1,     29,2,20060603,2337, 47.6650, -20.5560, 4354,      4.7,  14.5430,  35.7620,2,  35.7650,2,    262.7,2,    266.2,2,     0.92,2,     3.77,2,     0.22,2,   -999.0,9,   7.9420,2,    25.00
  06MM20060523, OVIDE,    39,  1,     30,2,20060603,2337, 47.6650, -20.5560, 4354,      4.6,  14.5420,  35.7620,2,-999.0000,3,    262.7,2,    266.2,2,     0.74,2,     2.21,2,     0.14,2,   -999.0,9,   7.9470,2,    25.00
  06MM20060523, OVIDE,    40,  1,      3,2,20060603,0508, 48.0390, -20.8510, 4456,   4525.9,   2.5570,  34.9090,2,  34.9100,2,   -999.0,3,    240.5,2,    47.64,2,    21.96,2,     1.35,2,   2354.8,2,   7.7290,2,    25.00
  06MM20060523, OVIDE,    40,  1,      4,2,20060603,0508, 48.0390, -20.8510, 4456,   4526.3,   2.5570,  34.9090,2,  34.9100,2,   -999.0,3,    241.1,2,    47.77,2,    21.85,2,     1.35,2,   2355.4,2,   7.7300,2,    25.00
  06MM20060523, OVIDE,    40,  1,      5,2,20060603,0508, 48.0390, -20.8510, 4456,   4197.4,   2.5530,  34.9140,2,  34.9150,2,    242.6,2,    241.8,2,    45.97,2,    21.69,2,     1.35,2,   2353.6,2,   7.7280,2,    25.00
  06MM20060523, OVIDE,    40,  1,      6,2,20060603,0508, 48.0390, -20.8510, 4456,   3697.2,   2.6200,  34.9250,2,  34.9250,2,    245.7,2,    245.8,2,    41.22,2,    20.68,2,     1.28,2,   2346.2,2,   7.7310,2,    25.00
  06MM20060523, OVIDE,    40,  1,      7,2,20060603,0508, 48.0390, -20.8510, 4456,   3397.5,   2.7230,  34.9360,2,  34.9380,2,    252.2,2,    252.3,2,    34.67,2,    19.89,2,     1.16,2,   2337.5,2,   7.7280,2,    25.00
  06MM20060523, OVIDE,    40,  1,      8,2,20060603,0508, 48.0390, -20.8510, 4456,   3096.4,   2.8540,  34.9450,2,  34.9450,2,   -999.0,3,    259.4,2,  -999.00,9,    18.58,2,     1.10,2,   2326.5,2,   7.7290,2,    25.00
  06MM20060523, OVIDE,    40,  1,      9,2,20060603,0508, 48.0390, -20.8510, 4456,   2896.9,   2.9680,  34.9440,2,  34.9450,2,    265.4,2,    264.4,2,    20.84,2,    18.95,2,     1.06,2,   2319.5,2,   7.7290,2,    25.00
  06MM20060523, OVIDE,    40,  1,     10,2,20060603,0508, 48.0390, -20.8510, 4456,   2696.9,   3.0890,  34.9360,2,  34.9370,2,    270.3,2,    270.4,2,    16.78,2,    18.58,2,     1.01,2,   2310.8,2,   7.7280,2,    25.00
  06MM20060523, OVIDE,    40,  1,     11,2,20060603,0508, 48.0390, -20.8510, 4456,   2397.1,   3.2230,  34.9180,2,  34.9200,2,    276.1,2,    275.9,2,    13.82,2,    18.45,2,     1.00,2,   2306.2,2,   7.7280,2,    25.00
  06MM20060523, OVIDE,    40,  1,     12,2,20060603,0508, 48.0390, -20.8510, 4456,   2120.6,   3.3730,  34.9050,2,  34.9070,2,    279.5,2,    278.1,2,    12.18,2,    19.08,2,     1.00,2,   2301.2,2,   7.7210,2,    25.00
  06MM20060523, OVIDE,    40,  1,     13,2,20060603,0508, 48.0390, -20.8510, 4456,   1946.6,   3.5240,  34.9110,2,  34.9140,2,    274.4,2,    275.2,2,    11.81,2,    18.64,2,     1.02,2,   2303.9,2,   7.7220,2,    25.00
  06MM20060523, OVIDE,    40,  1,     14,2,20060603,0508, 48.0390, -20.8510, 4456,   1796.5,   3.7180,  34.9250,2,  34.9250,2,    272.2,2,    271.4,2,    11.72,2,    20.14,2,     1.00,2,   2303.2,2,   7.7180,2,    25.00
  06MM20060523, OVIDE,    40,  1,     15,2,20060603,0508, 48.0390, -20.8510, 4456,   1596.1,   4.1030,  34.9610,2,  34.9640,2,    263.6,2,    263.9,2,    11.40,2,    20.20,2,     1.03,2,   2307.0,2,   7.7160,2,    25.00
  06MM20060523, OVIDE,    40,  1,     16,2,20060603,0508, 48.0390, -20.8510, 4456,   1396.1,   4.7900,  35.0370,2,  35.0470,3,    247.7,2,    250.0,2,    11.26,2,    20.70,2,     1.01,2,   2311.7,2,   7.7150,2,    25.00
  06MM20060523, OVIDE,    40,  1,     18,2,20060603,0508, 48.0390, -20.8510, 4456,    976.0,   8.1740,  35.3960,2,  35.3970,2,    201.1,2,    198.8,2,    10.71,2,    20.64,2,     1.04,2,   2334.7,2,   7.7310,2,    25.00
  06MM20060523, OVIDE,    40,  1,     19,2,20060603,0508, 48.0390, -20.8510, 4456,    896.2,   8.5260,  35.3840,2,  35.3830,2,    195.5,2,    195.6,2,    10.39,2,    21.08,3,     1.06,2,   2333.0,2,   7.7310,2,    25.00
  06MM20060523, OVIDE,    40,  1,     20,2,20060603,0508, 48.0390, -20.8510, 4456,    796.3,   9.5250,  35.4360,2,  35.4320,2,    192.1,2,    191.5,2,     9.39,2,    20.39,2,     0.98,2,   2333.4,2,   7.7450,2,    25.00
  06MM20060523, OVIDE,    40,  1,     21,2,20060603,0508, 48.0390, -20.8510, 4456,    695.9,  10.2090,  35.4250,2,  35.4280,2,    201.0,2,    198.4,2,     7.89,2,    15.07,2,     0.89,2,   2328.1,2,   7.7590,2,    25.00
  06MM20060523, OVIDE,    40,  1,     22,2,20060603,0508, 48.0390, -20.8510, 4456,    596.8,  10.9510,  35.5020,2,  35.5010,2,    220.4,2,    226.0,2,     5.38,2,    13.63,2,     0.70,2,   -999.0,9,   7.8050,2,    25.00
  06MM20060523, OVIDE,    40,  1,     23,2,20060603,0508, 48.0390, -20.8510, 4456,    496.2,  11.4610,  35.5740,2,  35.5800,2,    240.9,2,    241.9,2,     3.87,2,    10.07,2,     0.55,2,   2334.2,2,   7.8400,2,    25.00
  06MM20060523, OVIDE,    40,  1,     24,2,20060603,0508, 48.0390, -20.8510, 4456,    396.5,  11.7600,  35.6080,2,  35.6060,2,    247.0,2,    246.6,2,     3.46,2,     9.57,2,     0.50,2,   2336.6,2,   7.8510,2,    25.00
  06MM20060523, OVIDE,    40,  1,     25,2,20060603,0508, 48.0390, -20.8510, 4456,    295.8,  12.1290,  35.6600,2,  35.6620,2,    251.1,2,    249.1,2,     3.24,2,     8.94,2,     0.45,2,   -999.0,9,   7.8600,2,    25.00
  06MM20060523, OVIDE,    40,  1,     26,2,20060603,0508, 48.0390, -20.8510, 4456,    196.7,  12.2300,  35.6680,2,  35.6830,3,    250.5,2,    250.9,2,     3.05,2,     8.19,2,     0.43,2,   2340.6,2,   7.8750,2,    25.00
  06MM20060523, OVIDE,    40,  1,     27,2,20060603,0508, 48.0390, -20.8510, 4456,     96.7,  12.8000,  35.6890,2,  35.6860,2,    260.3,2,    256.4,2,     1.64,2,     6.13,2,     0.32,2,   2341.8,2,   7.8950,2,    25.00
  06MM20060523, OVIDE,    40,  1,     28,2,20060603,0508, 48.0390, -20.8510, 4456,     44.7,  13.0300,  35.6810,2,  35.6840,2,    266.3,2,   -999.0,3,     1.14,2,     5.13,2,     0.28,2,   -999.0,9,   7.9070,2,    25.00
  06MM20060523, OVIDE,    40,  1,     29,2,20060603,0508, 48.0390, -20.8510, 4456,      9.5,  14.3670,  35.7530,2,  35.7550,2,    257.8,2,    264.5,2,     0.73,2,     2.44,2,     0.16,2,   2346.6,2,   7.9390,2,    25.00
  06MM20060523, OVIDE,    41,  1,      3,2,20060604,1158, 48.4120, -21.1410, 4336,   4402.4,   2.5530,  34.9130,2,  34.9110,2,    242.0,2,    241.9,2,    46.78,2,    23.40,2,     1.36,2,   -999.0,9,   7.7320,2,    25.00
  06MM20060523, OVIDE,    41,  1,      4,2,20060604,1158, 48.4120, -21.1410, 4336,   3994.7,   2.5830,  34.9190,2,  34.9180,2,    245.0,2,    244.2,2,    44.27,2,    22.77,2,     1.34,2,   -999.0,9,   7.7310,2,    25.00
  06MM20060523, OVIDE,    41,  1,      5,2,20060604,1158, 48.4120, -21.1410, 4336,   3746.8,   2.6330,  34.9260,2,  34.9280,2,    247.6,2,    246.9,2,    40.75,2,    21.93,2,     1.31,2,   -999.0,9,   7.7310,2,    25.00
  06MM20060523, OVIDE,    41,  1,      6,2,20060604,1158, 48.4120, -21.1410, 4336,   3745.3,   2.6340,  34.9270,2,  34.9250,2,    247.7,2,    246.7,2,    41.12,2,    21.30,2,     1.23,2,   -999.0,9,   7.7310,2,    25.00
  06MM20060523, OVIDE,    41,  1,      7,2,20060604,1158, 48.4120, -21.1410, 4336,   3494.3,   2.7280,  34.9360,2,  34.9370,2,    252.2,2,    251.9,2,    35.84,2,    20.20,2,     1.06,2,   -999.0,9,   7.7320,2,    25.00
  06MM20060523, OVIDE,    41,  1,      8,2,20060604,1158, 48.4120, -21.1410, 4336,   3245.4,   2.8330,  34.9430,2,  34.9440,2,    256.6,2,    256.1,2,    31.69,2,    20.04,2,     1.07,2,   -999.0,9,   7.7310,2,    25.00
  06MM20060523, OVIDE,    41,  1,      9,2,20060604,1158, 48.4120, -21.1410, 4336,   2996.8,   2.9650,  34.9460,2,  34.9460,2,    263.2,2,    262.6,2,    25.40,2,    18.94,2,     1.06,2,   -999.0,9,   7.7310,2,    25.00
  06MM20060523, OVIDE,    41,  1,     10,2,20060604,1158, 48.4120, -21.1410, 4336,   2742.9,   3.1220,  34.9430,2,  34.9440,2,    269.8,2,    268.3,2,    17.86,2,    18.78,2,     1.06,2,   -999.0,9,   7.7320,2,    25.00
  06MM20060523, OVIDE,    41,  1,     11,2,20060604,1158, 48.4120, -21.1410, 4336,   2497.7,   3.1900,  34.9200,2,  34.9200,2,    275.2,2,    276.7,2,    13.74,2,    17.10,2,     1.02,2,   -999.0,9,   7.7310,2,    25.00
  06MM20060523, OVIDE,    41,  1,     12,2,20060604,1158, 48.4120, -21.1410, 4336,   2175.5,   3.3430,  34.9050,2,  34.9040,2,    280.4,2,    279.4,2,    12.09,2,    18.05,2,     1.03,2,   -999.0,9,   7.7250,2,    25.00
  06MM20060523, OVIDE,    41,  1,     13,2,20060604,1158, 48.4120, -21.1410, 4336,   1996.1,   3.4600,  34.9070,2,  34.9070,2,    277.5,2,    277.4,2,    11.59,2,    17.42,2,     0.98,2,   -999.0,9,   7.7250,2,    25.00
  06MM20060523, OVIDE,    41,  1,     14,2,20060604,1158, 48.4120, -21.1410, 4336,   1794.9,   3.6970,  34.9240,2,  34.9240,2,    272.8,2,    272.6,2,    11.37,2,    17.79,2,     1.03,2,   -999.0,9,   7.7190,2,    25.00
  06MM20060523, OVIDE,    41,  1,     15,2,20060604,1158, 48.4120, -21.1410, 4336,   1593.1,   4.0870,  34.9620,2,  34.9620,2,    264.4,2,    264.1,2,    11.19,2,    18.26,2,     1.04,2,   -999.0,9,   7.7170,2,    25.00
  06MM20060523, OVIDE,    41,  1,     16,2,20060604,1158, 48.4120, -21.1410, 4336,   1395.5,   4.8600,  35.0480,2,  35.0530,2,    251.4,2,    249.9,2,    11.19,2,    18.57,2,     1.04,2,   -999.0,9,   7.7160,2,    25.00
  06MM20060523, OVIDE,    41,  1,     17,2,20060604,1158, 48.4120, -21.1410, 4336,   1195.3,   5.9040,  35.1560,2,  35.1550,2,    230.6,2,    230.1,2,    11.19,2,    18.99,2,     1.09,2,   -999.0,9,   7.7180,2,    25.00
  06MM20060523, OVIDE,    41,  1,     18,2,20060604,1158, 48.4120, -21.1410, 4336,   1036.6,   7.2570,  35.2960,2,  35.2970,2,    210.6,2,    209.8,2,    10.92,2,    18.36,2,     1.04,2,   -999.0,9,   7.7260,2,    25.00
  06MM20060523, OVIDE,    41,  1,     19,2,20060604,1158, 48.4120, -21.1410, 4336,    854.7,   8.8990,  35.4160,2,  35.4070,3,    190.6,2,    191.8,2,    10.16,2,    19.35,2,     1.05,2,   -999.0,9,   7.7350,2,    25.00
  06MM20060523, OVIDE,    41,  1,     20,2,20060604,1158, 48.4120, -21.1410, 4336,    747.2,   9.6590,  35.3740,2,  35.3780,2,    192.2,2,    191.5,2,     8.99,2,    18.57,2,     1.03,2,   -999.0,9,   7.7460,2,    25.00
  06MM20060523, OVIDE,    41,  1,     21,2,20060604,1158, 48.4120, -21.1410, 4336,    595.2,  10.8700,  35.4770,2,  35.4690,3,    207.0,2,    211.3,2,     6.18,2,    15.21,2,     0.79,2,   -999.0,9,   7.7870,2,    25.00
  06MM20060523, OVIDE,    41,  1,     22,2,20060604,1158, 48.4120, -21.1410, 4336,    475.0,  11.5640,  35.5670,2,  35.5670,2,    234.8,2,    230.2,2,     4.34,2,    11.70,2,     0.61,2,   -999.0,9,   7.8270,2,    25.00
  06MM20060523, OVIDE,    41,  1,     23,2,20060604,1158, 48.4120, -21.1410, 4336,    397.9,  11.8940,  35.6080,2,  35.6050,2,    229.0,2,    234.5,2,     3.85,2,    10.07,2,     0.53,2,   -999.0,9,   7.8410,2,    25.00
  06MM20060523, OVIDE,    41,  1,     24,2,20060604,1158, 48.4120, -21.1410, 4336,    275.7,  12.5900,  35.7120,2,  35.7090,2,    245.9,2,    245.6,2,     2.95,2,     7.76,2,     0.42,2,   -999.0,9,   7.8720,2,    25.00
  06MM20060523, OVIDE,    41,  1,     25,2,20060604,1158, 48.4120, -21.1410, 4336,    196.8,  12.6780,  35.7160,2,  35.7180,2,    251.1,2,    248.9,2,     2.91,2,     7.55,2,     0.41,2,   -999.0,9,   7.8750,2,    25.00
  06MM20060523, OVIDE,    41,  1,     26,2,20060604,1158, 48.4120, -21.1410, 4336,    146.9,  12.8120,  35.7300,2,  35.7250,3,    248.3,2,    249.8,2,     2.82,2,     7.45,2,     0.39,2,   -999.0,9,   7.8850,2,    25.00
  06MM20060523, OVIDE,    41,  1,     27,2,20060604,1158, 48.4120, -21.1410, 4336,     97.9,  13.1340,  35.7690,2,  35.7710,2,    246.4,2,    248.1,2,     2.60,2,     7.24,2,     0.37,2,   -999.0,9,   7.8910,2,    25.00
  06MM20060523, OVIDE,    41,  1,     28,2,20060604,1158, 48.4120, -21.1410, 4336,     46.9,  13.5500,  35.7640,2,  35.7650,2,    260.7,2,    258.9,2,     0.76,2,     2.88,2,     0.17,2,   -999.0,9,   7.9160,2,    25.00
  06MM20060523, OVIDE,    41,  1,     29,2,20060604,1158, 48.4120, -21.1410, 4336,      6.0,  14.3420,  35.7360,2,  35.7410,2,    262.0,2,    267.9,2,  -999.00,9,  -999.00,9,  -999.00,9,   -999.0,9,   7.9380,2,    25.00