BOTTLE,20140930PRINUNIVRMK
EXPOCODE,SECT_ID,STNNBR,CASTNO,BTLNBR,BTLNBR_FLAG_W,DATE,TIME,LATITUDE,LONGITUDE,DEPTH,CTDPRS,CTDTMP,CTDSAL,CTDSAL_FLAG_W,SALNTY,SALNTY_FLAG_W,CTDOXY,CTDOXY_FLAG_W,OXYGEN,OXYGEN_FLAG_W,SILCAT,SILCAT_FLAG_W,NITRAT,NITRAT_FLAG_W,PHSPHT,PHSPHT_FLAG_W,ALKALI,ALKALI_FLAG_W,PH_SWS,PH_SWS_FLAG_W,PH_TMP
,,,,,,,,,,METERS,DBAR,ITS-90,PSS-78,,PSS-78,,UMOL/KG,,UMOL/KG,,UMOL/KG,,UMOL/KG,,UMOL/KG,,UMOL/KG,,,,DEG C
  06MM20060523, OVIDE,     8,  1,      3,2,20060526,0021, 40.3330,  -9.9430, 3397,   3434.9,   2.5890,  34.9270,2,  34.9250,2,    245.0,2,    245.4,2,    43.68,2,    21.71,2,     1.26,2,   -999.0,9,   7.7340,2,    25.00
  06MM20060523, OVIDE,     8,  1,      4,2,20060526,0021, 40.3330,  -9.9430, 3397,   3245.1,   2.6430,  34.9340,2,  34.9340,2,    245.8,2,    245.6,2,    42.75,2,    21.41,2,     1.26,2,   -999.0,9,   7.7350,2,    25.00
  06MM20060523, OVIDE,     8,  1,      5,2,20060526,0021, 40.3330,  -9.9430, 3397,   2993.3,   2.8220,  34.9530,2,  34.9510,2,    246.7,2,    246.3,2,    39.27,2,    20.91,2,     1.22,2,   -999.0,9,   7.7350,2,    25.00
  06MM20060523, OVIDE,     8,  1,      6,2,20060526,0021, 40.3330,  -9.9430, 3397,   2744.0,   3.0220,  34.9740,2,  34.9720,2,    246.9,2,    247.9,2,    35.55,2,    20.31,2,     1.15,2,   -999.0,9,   7.7380,2,    25.00
  06MM20060523, OVIDE,     8,  1,      7,2,20060526,0021, 40.3330,  -9.9430, 3397,   2496.2,   3.3090,  35.0030,2,  35.0050,2,    248.7,2,    248.7,2,    31.13,2,    19.86,2,     1.06,2,   -999.0,9,   7.7370,2,    25.00
  06MM20060523, OVIDE,     8,  1,      8,2,20060526,0021, 40.3330,  -9.9430, 3397,   2247.2,   3.7340,  35.0500,2,  35.0510,2,    248.9,2,    248.0,2,    26.25,2,    19.22,2,     1.07,2,   -999.0,9,   7.7390,2,    25.00
  06MM20060523, OVIDE,     8,  1,      9,2,20060526,0021, 40.3330,  -9.9430, 3397,   1994.8,   4.3550,  35.1220,2,  35.1210,2,    248.6,2,    247.8,2,    16.79,2,    18.52,2,     1.01,2,   -999.0,9,   7.7410,2,    25.00
  06MM20060523, OVIDE,     8,  1,     10,2,20060526,0021, 40.3330,  -9.9430, 3397,   1796.3,   5.5640,  35.3140,2,  35.3130,2,    235.6,2,    235.7,2,    14.63,2,    18.07,2,     0.97,2,   -999.0,9,   7.7500,2,    25.00
  06MM20060523, OVIDE,     8,  1,     11,2,20060526,0021, 40.3330,  -9.9430, 3397,   1595.5,   6.9590,  35.5420,2,  35.5510,3,    223.8,2,    220.3,2,    12.55,2,    17.47,2,     0.93,2,   -999.0,9,   7.7620,2,    25.00
  06MM20060523, OVIDE,     8,  1,     12,2,20060526,0021, 40.3330,  -9.9430, 3397,   1394.3,   9.3600,  35.9730,2,  35.9780,2,    197.0,2,    196.7,2,    10.47,2,    16.42,2,     0.84,2,   -999.0,9,   7.7850,2,    25.00
  06MM20060523, OVIDE,     8,  1,     13,2,20060526,0021, 40.3330,  -9.9430, 3397,   1217.3,  11.1060,  36.3010,2,  36.3000,2,    184.1,2,    184.6,2,     9.03,2,    15.17,2,     0.74,2,   -999.0,9,   7.8060,2,    25.00
  06MM20060523, OVIDE,     8,  1,     14,2,20060526,0021, 40.3330,  -9.9430, 3397,    994.6,  11.2580,  36.1930,2,  36.1890,2,    182.5,2,    181.8,2,     8.84,2,    15.47,2,     0.79,2,   -999.0,9,   7.7990,2,    25.00
  06MM20060523, OVIDE,     8,  1,     15,2,20060526,0021, 40.3330,  -9.9430, 3397,    894.4,  11.3320,  36.1270,2,  36.1230,2,    181.0,2,    181.7,2,     8.54,2,    15.52,2,     0.77,2,   -999.0,9,   7.7970,2,    25.00
  06MM20060523, OVIDE,     8,  1,     16,2,20060526,0021, 40.3330,  -9.9430, 3397,    796.1,  11.4980,  36.0800,2,  36.0810,2,    182.6,2,    181.4,2,     8.16,2,    15.32,2,     0.76,2,   -999.0,9,   7.7980,2,    25.00
  06MM20060523, OVIDE,     8,  1,     17,2,20060526,0021, 40.3330,  -9.9430, 3397,    694.5,  11.7980,  36.0270,2,  36.0310,2,    184.4,2,    184.2,2,     7.37,2,    14.73,2,     0.74,2,   -999.0,9,   7.8030,2,    25.00
  06MM20060523, OVIDE,     8,  1,     18,2,20060526,0021, 40.3330,  -9.9430, 3397,    595.4,  11.6540,  35.8610,2,  35.8870,3,    185.5,2,    185.2,2,     7.22,2,    15.22,2,     0.76,2,   -999.0,9,   7.7930,2,    25.00
  06MM20060523, OVIDE,     8,  1,     19,2,20060526,0021, 40.3330,  -9.9430, 3397,    497.3,  11.4650,  35.6500,2,  35.6530,2,    197.0,2,    196.8,2,     5.97,2,    14.58,2,     0.71,2,   -999.0,9,   7.7900,2,    25.00
  06MM20060523, OVIDE,     8,  1,     20,2,20060526,0021, 40.3330,  -9.9430, 3397,    396.5,  12.0410,  35.7040,2,  35.7040,2,    214.7,2,    214.3,2,     4.35,2,    11.59,2,     0.56,2,   -999.0,9,   7.8190,2,    25.00
  06MM20060523, OVIDE,     8,  1,     21,2,20060526,0021, 40.3330,  -9.9430, 3397,    296.0,  12.7680,  35.8400,2,  35.8400,2,    230.8,2,    232.6,2,     3.18,2,     8.26,2,     0.39,2,   -999.0,9,   7.8540,2,    25.00
  06MM20060523, OVIDE,     8,  1,     22,2,20060526,0021, 40.3330,  -9.9430, 3397,    199.6,  13.1520,  35.9140,2,  35.9080,3,    236.0,2,   -999.0,3,     3.02,2,     7.31,2,     0.33,2,   -999.0,9,   7.8720,2,    25.00
  06MM20060523, OVIDE,     8,  1,     23,2,20060526,0021, 40.3330,  -9.9430, 3397,    147.5,  13.2730,  35.9340,2,  35.9270,3,    229.9,2,   -999.0,3,     2.87,2,     7.16,2,     0.38,2,   -999.0,9,   7.8730,2,    25.00
  06MM20060523, OVIDE,     8,  1,     24,2,20060526,0021, 40.3330,  -9.9430, 3397,     97.5,  13.5550,  35.9710,2,  35.9600,3,    233.7,2,    231.9,2,     2.72,2,     6.72,2,     0.30,2,   -999.0,9,   7.9020,2,    25.00
  06MM20060523, OVIDE,     8,  1,     25,2,20060526,0021, 40.3330,  -9.9430, 3397,     49.5,  14.6880,  35.9000,2,  35.9050,2,    262.8,2,    259.9,2,     1.47,2,     0.65,2,     0.05,2,   -999.0,9,   7.9560,2,    25.00
  06MM20060523, OVIDE,     8,  1,     26,2,20060526,0021, 40.3330,  -9.9430, 3397,      4.6,  17.2360,  35.9370,2,  35.9410,2,    232.2,2,    248.9,3,     1.28,2,     0.00,2,     0.01,2,   -999.0,9,   8.0030,2,    25.00
  06MM20060523, OVIDE,    10,  1,      3,2,20060526,0939, 40.3340, -10.3000, 3901,   3948.9,   2.4620,  34.9080,2,  34.9090,2,    242.7,2,    242.7,2,    46.87,2,    23.32,2,     1.31,2,   2353.0,2,   7.7340,2,    25.00
  06MM20060523, OVIDE,    10,  1,      4,2,20060526,0939, 40.3340, -10.3000, 3901,   3746.3,   2.4910,  34.9140,2,  34.9140,2,    242.2,2,    243.9,2,    45.62,2,    22.99,2,     1.28,2,   2350.9,2,   7.7330,2,    25.00
  06MM20060523, OVIDE,    10,  1,      5,2,20060526,0939, 40.3340, -10.3000, 3901,   3497.5,   2.5540,  34.9220,2,  34.9310,3,    243.4,2,    244.1,2,    43.69,2,    22.73,2,     1.26,2,   2343.4,2,   7.7340,2,    25.00
  06MM20060523, OVIDE,    10,  1,      6,2,20060526,0939, 40.3340, -10.3000, 3901,   3246.6,   2.6720,  34.9360,2,  34.9370,2,    244.2,2,    245.0,2,    41.53,2,    22.30,2,     1.24,2,   2345.5,2,   7.7350,2,    25.00
  06MM20060523, OVIDE,    10,  1,      7,2,20060526,0939, 40.3340, -10.3000, 3901,   2996.5,   2.8310,  34.9540,2,  34.9550,2,    245.0,2,    245.8,2,    38.47,2,    21.98,2,     1.22,2,   2341.1,2,   7.7370,2,    25.00
  06MM20060523, OVIDE,    10,  1,      8,2,20060526,0939, 40.3340, -10.3000, 3901,   2746.6,   3.0450,  34.9770,2,  34.9780,2,    246.2,2,    246.3,2,    35.18,2,    21.50,2,     1.18,2,   2335.2,2,   7.7370,2,    25.00
  06MM20060523, OVIDE,    10,  1,      9,2,20060526,0939, 40.3340, -10.3000, 3901,   2496.0,   3.3190,  35.0030,2,  35.0060,2,    248.0,2,    248.1,2,    30.41,2,    20.80,2,     1.13,2,   2332.2,2,   7.7380,2,    25.00
  06MM20060523, OVIDE,    10,  1,     10,2,20060526,0939, 40.3340, -10.3000, 3901,   2244.2,   3.7960,  35.0560,2,  35.0580,2,    247.8,2,    248.7,2,    24.74,2,    20.10,2,     1.08,2,   2327.7,2,   7.7420,2,    25.00
  06MM20060523, OVIDE,    10,  1,     11,2,20060526,0939, 40.3340, -10.3000, 3901,   1994.2,   4.5500,  35.1540,2,  35.1610,3,    242.3,2,    244.3,2,    16.45,2,    19.57,2,     1.02,2,   2321.9,2,   7.7440,2,    25.00
  06MM20060523, OVIDE,    10,  1,     12,2,20060526,0939, 40.3340, -10.3000, 3901,   1796.5,   5.2150,  35.2460,2,  35.2440,2,    240.8,2,    239.8,2,    14.52,2,    19.40,2,     0.98,2,   2324.5,2,   7.7440,2,    25.00
  06MM20060523, OVIDE,    10,  1,     13,2,20060526,0939, 40.3340, -10.3000, 3901,   1598.5,   7.1350,  35.5780,2,  35.5820,2,    216.9,2,    219.6,2,    12.78,2,    18.75,2,     0.91,2,   2348.7,2,   7.7650,2,    25.00
  06MM20060523, OVIDE,    10,  1,     14,2,20060526,0939, 40.3340, -10.3000, 3901,   1393.8,   9.2840,  35.9710,2,  35.9730,2,    196.6,2,    196.8,2,    10.81,2,    17.72,2,     0.84,2,   2377.2,2,   7.7820,2,    25.00
  06MM20060523, OVIDE,    10,  1,     15,2,20060526,0939, 40.3340, -10.3000, 3901,   1218.2,  10.9430,  36.2680,2,  36.2680,2,    180.8,2,    183.7,2,     9.45,2,    16.68,2,     0.77,2,   2397.5,2,   7.7940,2,    25.00
  06MM20060523, OVIDE,    10,  1,     16,2,20060526,0939, 40.3340, -10.3000, 3901,    994.7,  11.3630,  36.2090,2,  36.2080,2,    176.3,2,    180.4,2,     8.80,2,    16.41,2,     0.76,2,   2392.4,2,   7.7990,2,    25.00
  06MM20060523, OVIDE,    10,  1,     17,2,20060526,0939, 40.3340, -10.3000, 3901,    895.2,  11.3030,  36.1200,2,  36.1200,2,    176.8,2,    180.0,2,     8.77,2,    16.68,2,     0.79,2,   2383.1,2,   7.7970,2,    25.00
  06MM20060523, OVIDE,    10,  1,     18,2,20060526,0939, 40.3340, -10.3000, 3901,    795.8,  11.5250,  36.0870,2,  36.0900,2,    178.5,2,    180.5,2,     8.39,2,    16.36,2,     0.76,2,   2381.6,2,   7.7990,2,    25.00
  06MM20060523, OVIDE,    10,  1,     19,2,20060526,0939, 40.3340, -10.3000, 3901,    695.3,  11.6850,  36.0180,2,  36.0280,3,    179.7,2,    182.2,2,     7.79,2,    16.09,2,     0.75,2,   2374.5,2,   7.7970,2,    25.00
  06MM20060523, OVIDE,    10,  1,     20,2,20060526,0939, 40.3340, -10.3000, 3901,    595.5,  11.6070,  35.8550,2,  35.8620,3,    182.8,2,    184.4,2,     7.33,2,    16.25,2,     0.76,2,   -999.0,9,   7.7920,2,    25.00
  06MM20060523, OVIDE,    10,  1,     21,2,20060526,0939, 40.3340, -10.3000, 3901,    526.1,  11.5840,  35.7280,2,  35.7290,2,    184.8,2,    188.1,2,     6.77,2,    16.26,2,     0.75,2,   2348.0,2,   7.7860,2,    25.00
  06MM20060523, OVIDE,    10,  1,     22,2,20060526,0939, 40.3340, -10.3000, 3901,    424.8,  11.9740,  35.6840,2,  35.6840,2,    202.5,2,    208.8,2,     4.84,2,    13.22,2,     0.60,2,   -999.0,9,   7.8110,2,    25.00
  06MM20060523, OVIDE,    10,  1,     23,2,20060526,0939, 40.3340, -10.3000, 3901,    293.6,  13.0360,  35.8790,2,  35.8800,2,    235.6,2,    229.3,2,     3.25,2,     8.72,2,     0.38,2,   2354.9,2,   7.8640,2,    25.00
  06MM20060523, OVIDE,    10,  1,     24,2,20060526,0939, 40.3340, -10.3000, 3901,    196.5,  13.6210,  36.0050,2,  36.0070,2,    233.5,2,    234.9,2,     2.80,2,     6.99,2,     0.30,2,   2361.0,2,   7.8930,2,    25.00
  06MM20060523, OVIDE,    10,  1,     25,2,20060526,0939, 40.3340, -10.3000, 3901,    146.0,  13.7400,  36.0230,2,  36.0230,2,    230.7,2,    233.3,2,     2.80,2,     6.93,2,     0.30,2,   -999.0,9,   7.8900,2,    25.00
  06MM20060523, OVIDE,    10,  1,     26,2,20060526,0939, 40.3340, -10.3000, 3901,     96.4,  13.9480,  36.0450,2,  36.0450,2,    229.3,2,    231.3,2,     2.72,2,     6.61,2,     0.28,2,   2362.3,2,   7.8970,2,    25.00
  06MM20060523, OVIDE,    10,  1,     27,2,20060526,0939, 40.3340, -10.3000, 3901,     46.9,  14.8200,  36.0450,2,  36.0480,2,    238.9,2,    252.1,3,     2.04,2,     1.73,2,     0.08,2,   -999.0,9,   7.9510,2,    25.00
  06MM20060523, OVIDE,    10,  1,     28,2,20060526,0939, 40.3340, -10.3000, 3901,      3.2,  16.9200,  35.8890,2,  35.8910,2,    244.7,2,    248.5,2,     1.32,2,     0.00,2,     0.01,2,   2358.8,2,   7.9840,2,    25.00
  06MM20060523, OVIDE,    11,  1,      3,2,20060526,1437, 40.3350, -10.5750, 4360,   4419.9,   2.4630,  34.9030,2,  34.9010,2,    244.6,2,    243.4,2,    47.89,2,    23.51,2,     1.28,2,   -999.0,9,   7.7330,2,    25.00
  06MM20060523, OVIDE,    11,  1,      4,2,20060526,1437, 40.3350, -10.5750, 4360,   4418.7,   2.4630,  34.9020,2,  34.9000,2,    244.5,2,    243.6,2,    46.98,2,    23.40,2,     1.29,2,   -999.0,9,   7.7350,2,    25.00
  06MM20060523, OVIDE,    11,  1,      5,2,20060526,1437, 40.3350, -10.5750, 4360,   3996.0,   2.4650,  34.9080,2,  34.9080,2,    244.3,2,    244.3,2,    46.53,2,    23.35,2,     1.29,2,   -999.0,9,   7.7310,2,    25.00
  06MM20060523, OVIDE,    11,  1,      6,2,20060526,1437, 40.3350, -10.5750, 4360,   3746.6,   2.5160,  34.9150,2,  34.9140,2,    243.0,2,    243.9,2,    45.28,2,    23.08,2,     1.26,2,   -999.0,9,   7.7340,2,    25.00
  06MM20060523, OVIDE,    11,  1,      7,2,20060526,1437, 40.3350, -10.5750, 4360,   3496.6,   2.5840,  34.9250,2,  34.9220,2,    245.0,2,    245.1,2,    43.01,2,    22.64,2,     1.22,2,   -999.0,9,   7.7370,2,    25.00
  06MM20060523, OVIDE,    11,  1,      8,2,20060526,1437, 40.3350, -10.5750, 4360,   3245.2,   2.6930,  34.9370,2,  34.9340,2,    245.5,2,    246.4,2,    40.06,2,    22.27,2,     1.22,2,   -999.0,9,   7.7340,2,    25.00
  06MM20060523, OVIDE,    11,  1,      9,2,20060526,1437, 40.3350, -10.5750, 4360,   2995.7,   2.8360,  34.9500,2,  34.9510,2,    246.9,2,    248.6,2,    36.65,2,    21.78,2,     1.19,2,   -999.0,9,   7.7350,2,    25.00
  06MM20060523, OVIDE,    11,  1,     10,2,20060526,1437, 40.3350, -10.5750, 4360,   2747.0,   3.0730,  34.9770,2,  34.9780,2,    247.2,2,    247.9,2,    33.13,2,    21.57,2,     1.16,2,   -999.0,9,   7.7390,2,    25.00
  06MM20060523, OVIDE,    11,  1,     11,2,20060526,1437, 40.3350, -10.5750, 4360,   2496.5,   3.3850,  35.0140,2,  35.0130,2,    247.4,2,    247.1,2,    29.50,2,    21.08,2,     1.12,2,   -999.0,9,   7.7410,2,    25.00
  06MM20060523, OVIDE,    11,  1,     12,2,20060526,1437, 40.3350, -10.5750, 4360,   2245.2,   3.8250,  35.0660,2,  35.0620,2,    246.9,2,    246.4,2,    24.40,2,    20.43,2,     1.09,2,   -999.0,9,   7.7390,2,    25.00
  06MM20060523, OVIDE,    11,  1,     13,2,20060526,1437, 40.3350, -10.5750, 4360,   1996.1,   4.2390,  35.1030,2,  35.1050,2,    248.6,2,    248.8,2,    17.28,2,    19.68,2,     1.02,2,   -999.0,9,   7.7430,2,    25.00
  06MM20060523, OVIDE,    11,  1,     14,2,20060526,1437, 40.3350, -10.5750, 4360,   1797.9,   4.8460,  35.1690,2,  35.1710,2,    245.9,2,    246.4,2,    14.14,2,    19.19,2,     0.99,2,   -999.0,9,   7.7400,2,    25.00
  06MM20060523, OVIDE,    11,  1,     15,2,20060526,1437, 40.3350, -10.5750, 4360,   1595.5,   6.3180,  35.4140,2,  35.4200,2,    226.0,2,    227.9,2,    12.44,2,    18.81,2,     0.94,2,   -999.0,9,   7.7510,2,    25.00
  06MM20060523, OVIDE,    11,  1,     16,2,20060526,1437, 40.3350, -10.5750, 4360,   1396.2,   8.8500,  35.8770,2,  35.8800,2,    199.9,2,    201.4,2,    11.00,2,    18.71,2,     0.87,2,   -999.0,9,   7.7770,2,    25.00
  06MM20060523, OVIDE,    11,  1,     17,2,20060526,1437, 40.3350, -10.5750, 4360,   1196.3,  10.3410,  36.1030,2,  36.1040,2,    188.2,2,    188.1,2,     9.56,2,    17.86,2,     0.87,2,   -999.0,9,   7.7930,2,    25.00
  06MM20060523, OVIDE,    11,  1,     18,2,20060526,1437, 40.3350, -10.5750, 4360,   1093.3,  10.9460,  36.1860,2,  36.1880,2,    180.5,2,    182.8,2,     8.96,2,    17.46,2,     0.83,2,   -999.0,9,   7.7990,2,    25.00
  06MM20060523, OVIDE,    11,  1,     19,2,20060526,1437, 40.3350, -10.5750, 4360,    993.5,  11.1570,  36.1710,2,  36.1720,2,    180.7,2,    181.5,2,     8.69,2,    17.46,2,     0.77,2,   -999.0,9,   7.7980,2,    25.00
  06MM20060523, OVIDE,    11,  1,     20,2,20060526,1437, 40.3350, -10.5750, 4360,    794.1,  11.5760,  36.0880,2,  36.0830,2,    180.9,2,    181.5,2,     7.86,2,    16.89,2,     0.74,2,   -999.0,9,   7.8000,2,    25.00
  06MM20060523, OVIDE,    11,  1,     21,2,20060526,1437, 40.3350, -10.5750, 4360,    695.1,  11.6720,  36.0050,2,  36.0080,2,    180.0,2,    183.2,2,     7.48,2,    16.89,2,     0.76,2,   -999.0,9,   7.7970,2,    25.00
  06MM20060523, OVIDE,    11,  1,     22,2,20060526,1437, 40.3350, -10.5750, 4360,    594.9,  11.5270,  35.8680,2,  35.8710,2,    185.0,2,    183.8,2,     7.18,2,    17.12,2,     0.74,2,   -999.0,9,   7.7890,2,    25.00
  06MM20060523, OVIDE,    11,  1,     23,2,20060526,1437, 40.3350, -10.5750, 4360,    496.0,  11.4800,  35.7290,2,  35.7320,2,    189.5,2,    187.2,2,     6.73,2,    17.07,2,     0.77,2,   -999.0,9,   7.7860,2,    25.00
  06MM20060523, OVIDE,    11,  1,     24,2,20060526,1437, 40.3350, -10.5750, 4360,    394.5,  11.7210,  35.6640,2,  35.6650,2,    204.0,2,    201.0,2,     5.37,2,    15.31,2,     0.77,2,   -999.0,9,   7.8060,2,    25.00
  06MM20060523, OVIDE,    11,  1,     25,2,20060526,1437, 40.3350, -10.5750, 4360,    254.7,  12.7100,  35.8210,2,  35.8200,2,    237.9,2,    234.1,2,     3.10,2,     9.07,2,     0.68,2,   -999.0,9,   7.8580,2,    25.00
  06MM20060523, OVIDE,    11,  1,     26,2,20060526,1437, 40.3350, -10.5750, 4360,    195.0,  13.1320,  35.9030,2,  35.9050,2,    230.9,2,    234.0,2,     2.91,2,     8.39,2,     0.38,2,   -999.0,9,   7.8720,2,    25.00
  06MM20060523, OVIDE,    11,  1,     27,2,20060526,1437, 40.3350, -10.5750, 4360,    144.2,  13.3260,  35.9350,2,  35.9340,2,    236.0,2,    232.9,2,     3.33,2,     8.05,2,     0.36,2,   -999.0,9,   7.8780,2,    25.00
  06MM20060523, OVIDE,    11,  1,     28,2,20060526,1437, 40.3350, -10.5750, 4360,     95.9,  13.6880,  35.9980,2,  36.0000,2,    232.5,2,    232.7,2,     2.53,2,     7.26,2,     0.37,2,   -999.0,9,   7.8860,2,    25.00
  06MM20060523, OVIDE,    11,  1,     29,2,20060526,1437, 40.3350, -10.5750, 4360,     45.4,  14.7600,  35.9950,2,  35.9950,2,    267.3,2,    254.8,3,     1.59,2,     1.70,2,     0.34,2,   -999.0,9,   7.9390,2,    25.00
  06MM20060523, OVIDE,    11,  1,     30,2,20060526,1437, 40.3350, -10.5750, 4360,     11.7,  17.3110,  35.9630,2,  35.9640,2,    249.1,2,    253.1,2,     1.13,2,     0.00,2,     0.08,2,   -999.0,9,   8.0040,2,    25.00