BOTTLE,20140930PRINUNIVRMK
EXPOCODE,SECT_ID,STNNBR,CASTNO,BTLNBR,BTLNBR_FLAG_W,DATE,TIME,LATITUDE,LONGITUDE,DEPTH,CTDPRS,CTDTMP,CTDSAL,CTDSAL_FLAG_W,SALNTY,SALNTY_FLAG_W,CTDOXY,CTDOXY_FLAG_W,OXYGEN,OXYGEN_FLAG_W,SILCAT,SILCAT_FLAG_W,NITRAT,NITRAT_FLAG_W,PHSPHT,PHSPHT_FLAG_W,ALKALI,ALKALI_FLAG_W,PH_SWS,PH_SWS_FLAG_W,PH_TMP
,,,,,,,,,,METERS,DBAR,ITS-90,PSS-78,,PSS-78,,UMOL/KG,,UMOL/KG,,UMOL/KG,,UMOL/KG,,UMOL/KG,,UMOL/KG,,,,DEG C
  06MM20060523, OVIDE,    15,  1,      3,2,20060528,0546, 40.3330, -11.7790, 5219,   5307.6,   2.5480,  34.9000,2,  34.8970,2,    247.1,2,    246.8,2,    47.80,2,    23.67,2,     1.32,2,   -999.0,9,   7.7310,2,    25.00
  06MM20060523, OVIDE,    15,  1,      4,2,20060528,0546, 40.3330, -11.7790, 5219,   4898.1,   2.5010,  34.9010,2,  34.8990,2,    248.2,2,    245.1,2,    47.58,2,    23.62,2,     1.30,2,   -999.0,9,   7.7320,2,    25.00
  06MM20060523, OVIDE,    15,  1,      5,2,20060528,0546, 40.3330, -11.7790, 5219,   4497.9,   2.4770,  34.9030,2,  34.9040,2,    246.2,2,    244.7,2,    47.13,2,    23.41,2,     1.30,2,   -999.0,9,   7.7300,2,    25.00
  06MM20060523, OVIDE,    15,  1,      6,2,20060528,0546, 40.3330, -11.7790, 5219,   3996.5,   2.5050,  34.9120,2,  34.9110,2,    244.4,2,    244.7,2,    44.91,2,    23.36,2,     1.29,2,   -999.0,9,   7.7300,2,    25.00
  06MM20060523, OVIDE,    15,  1,      7,2,20060528,0546, 40.3330, -11.7790, 5219,   3497.1,   2.6120,  34.9270,2,  34.9260,2,    245.2,2,    245.9,2,    41.25,2,    22.58,2,     1.25,2,   -999.0,9,   7.7320,2,    25.00
  06MM20060523, OVIDE,    15,  1,      8,2,20060528,0546, 40.3330, -11.7790, 5219,   3245.1,   2.7020,  34.9370,2,  34.9360,2,    247.8,2,    247.4,2,    38.37,2,    22.11,2,     1.21,2,   -999.0,9,   7.7330,2,    25.00
  06MM20060523, OVIDE,    15,  1,      9,2,20060528,0546, 40.3330, -11.7790, 5219,   2996.6,   2.8300,  34.9500,2,  34.9510,2,    250.2,2,    249.1,2,    35.15,2,    21.70,2,     1.21,2,   -999.0,9,   7.7360,2,    25.00
  06MM20060523, OVIDE,    15,  1,     10,2,20060528,0546, 40.3330, -11.7790, 5219,   2745.2,   3.0240,  34.9670,2,  34.9670,2,    253.5,2,    251.1,2,    31.05,2,    21.28,2,     1.15,2,   -999.0,9,   7.7360,2,    25.00
  06MM20060523, OVIDE,    15,  1,     11,2,20060528,0546, 40.3330, -11.7790, 5219,   2495.8,   3.3050,  34.9900,2,  34.9910,2,    254.4,2,    253.7,2,    26.39,2,    20.19,2,     1.10,2,   -999.0,9,   7.7360,2,    25.00
  06MM20060523, OVIDE,    15,  1,     12,2,20060528,0546, 40.3330, -11.7790, 5219,   2496.6,   3.3080,  34.9900,2,  34.9910,2,    254.5,2,    253.1,2,    25.50,2,    20.35,2,     1.09,2,   -999.0,9,   7.7360,2,    25.00
  06MM20060523, OVIDE,    15,  1,     13,2,20060528,0546, 40.3330, -11.7790, 5219,   1996.5,   4.2740,  35.0810,2,  35.0810,2,    258.0,2,    254.5,2,    14.79,2,    19.00,2,     0.98,2,   -999.0,9,   7.7370,2,    25.00
  06MM20060523, OVIDE,    15,  1,     14,2,20060528,0546, 40.3330, -11.7790, 5219,   1795.8,   5.1310,  35.2050,2,  35.2100,2,    244.3,2,    243.8,2,    13.19,2,    18.79,2,     0.97,2,   -999.0,9,   7.7410,2,    25.00
  06MM20060523, OVIDE,    15,  1,     15,2,20060528,0546, 40.3330, -11.7790, 5219,   1596.4,   8.6460,  35.8570,2,  35.8660,3,    205.0,2,    202.2,2,    11.66,2,    17.74,2,     0.87,2,   -999.0,9,   7.7760,2,    25.00
  06MM20060523, OVIDE,    15,  1,     16,2,20060528,0546, 40.3330, -11.7790, 5219,   1495.8,   9.9970,  36.1110,2,  36.1110,2,    193.3,2,    190.9,2,    10.59,2,    16.91,2,     0.80,2,   -999.0,9,   7.7870,2,    25.00
  06MM20060523, OVIDE,    15,  1,     17,2,20060528,0546, 40.3330, -11.7790, 5219,   1349.3,  11.0790,  36.2780,2,  36.2800,2,    185.3,2,    183.7,2,     9.41,2,    16.18,2,     0.76,2,   2401.0,2,   7.7990,2,    25.00
  06MM20060523, OVIDE,    15,  1,     18,2,20060528,0546, 40.3330, -11.7790, 5219,   1197.1,  11.3260,  36.2520,2,  36.2850,3,    181.4,2,    182.8,2,     8.99,2,    15.97,2,     0.76,2,   -999.0,9,   7.7980,2,    25.00
  06MM20060523, OVIDE,    15,  1,     19,2,20060528,0546, 40.3330, -11.7790, 5219,    994.5,  11.7260,  36.2350,2,  36.2730,3,    180.7,2,    183.8,2,     8.15,2,    15.30,2,     0.72,2,   -999.0,9,   7.8070,2,    25.00
  06MM20060523, OVIDE,    15,  1,     20,2,20060528,0546, 40.3330, -11.7790, 5219,    796.2,  11.9590,  36.1920,2,  36.1940,2,    184.0,2,    184.3,2,     7.62,2,    14.73,2,     0.69,2,   -999.0,9,   7.8070,2,    25.00
  06MM20060523, OVIDE,    15,  1,     21,2,20060528,0546, 40.3330, -11.7790, 5219,    695.8,  11.9670,  36.1420,2,  36.1420,2,    182.1,2,   -999.0,3,     7.54,2,    14.73,2,     0.70,2,   -999.0,9,   7.8140,2,    25.00
  06MM20060523, OVIDE,    15,  1,     22,2,20060528,0546, 40.3330, -11.7790, 5219,    541.4,  11.8110,  35.9440,2,  35.9510,3,    180.6,2,   -999.0,3,     7.28,2,    15.46,2,     0.73,2,   -999.0,9,   7.7960,2,    25.00
  06MM20060523, OVIDE,    15,  1,     23,2,20060528,0546, 40.3330, -11.7790, 5219,    496.9,  11.4540,  35.7550,2,  35.7580,2,    186.1,2,    185.2,2,     7.16,2,    16.29,2,     0.77,2,   -999.0,9,   7.7840,2,    25.00
  06MM20060523, OVIDE,    15,  1,     24,2,20060528,0546, 40.3330, -11.7790, 5219,    435.5,  11.5260,  35.6790,2,  35.6810,2,    199.4,2,    191.9,2,     6.36,2,    15.56,2,     0.73,2,   -999.0,9,   7.7910,2,    25.00
  06MM20060523, OVIDE,    15,  1,     25,2,20060528,0546, 40.3330, -11.7790, 5219,    296.7,  12.3130,  35.7310,2,  35.7230,3,    220.1,2,    217.2,2,     4.00,2,    11.21,2,     0.51,2,   -999.0,9,   7.8280,2,    25.00
  06MM20060523, OVIDE,    15,  1,     26,2,20060528,0546, 40.3330, -11.7790, 5219,    197.9,  13.3310,  35.9290,2,  35.9220,3,    231.3,2,    230.2,2,     2.86,2,     7.52,2,     0.36,2,   -999.0,9,   7.8770,2,    25.00
  06MM20060523, OVIDE,    15,  1,     27,2,20060528,0546, 40.3330, -11.7790, 5219,    146.6,  13.6260,  35.9890,2,  35.9860,2,    226.1,2,    230.6,2,     2.74,2,     7.05,2,     0.35,2,   -999.0,9,   7.8810,2,    25.00
  06MM20060523, OVIDE,    15,  1,     28,2,20060528,0546, 40.3330, -11.7790, 5219,     95.2,  14.0940,  36.0610,2,  36.0560,2,    231.3,2,    230.5,2,     2.44,2,     6.12,2,     0.27,2,   -999.0,9,   7.8920,2,    25.00
  06MM20060523, OVIDE,    15,  1,     29,2,20060528,0546, 40.3330, -11.7790, 5219,     46.7,  14.2390,  35.9880,2,  36.0490,3,    266.4,2,    240.1,3,     2.06,2,     4.20,2,     0.19,2,   -999.0,9,   7.9110,2,    25.00
  06MM20060523, OVIDE,    15,  1,     30,2,20060528,0546, 40.3330, -11.7790, 5219,     14.3,  16.6720,  36.0070,2,  36.0070,2,    239.3,2,    255.1,3,     2.36,2,     0.10,2,     0.02,2,   -999.0,9,   7.9720,2,    25.00
  06MM20060523, OVIDE,    16,  1,      3,2,20060528,1203, 40.3330, -12.2200, 5262,   5352.9,   2.5540,  34.8990,2,  34.8990,2,    245.9,2,    247.4,2,    48.46,2,    23.88,2,     1.26,2,   2351.9,2,   7.7350,2,    25.00
  06MM20060523, OVIDE,    16,  1,      4,2,20060528,1203, 40.3330, -12.2200, 5262,   5000.0,   2.5140,  34.9010,2,  34.8980,2,    246.6,2,    246.1,2,    48.68,2,    23.93,2,     1.36,2,   2351.3,2,   7.7340,2,    25.00
  06MM20060523, OVIDE,    16,  1,      5,2,20060528,1203, 40.3330, -12.2200, 5262,   4496.5,   2.4800,  34.9040,2,  34.9070,2,    244.5,2,    245.7,2,    47.90,2,    23.62,2,     1.33,2,   2352.3,2,   7.7320,2,    25.00
  06MM20060523, OVIDE,    16,  1,      6,2,20060528,1203, 40.3330, -12.2200, 5262,   3997.2,   2.5160,  34.9130,2,  34.9110,2,    243.5,2,    245.6,2,    45.56,2,    23.36,2,     1.32,2,   2348.4,2,   7.7330,2,    25.00
  06MM20060523, OVIDE,    16,  1,      7,2,20060528,1203, 40.3330, -12.2200, 5262,   3497.5,   2.6250,  34.9280,2,  34.9280,2,    244.5,2,    246.7,2,    41.78,2,    22.63,2,     1.26,2,   2345.2,2,   7.7340,2,    25.00
  06MM20060523, OVIDE,    16,  1,      8,2,20060528,1203, 40.3330, -12.2200, 5262,   3245.7,   2.7110,  34.9380,2,  34.9370,2,    246.8,2,    247.6,2,    39.66,2,    22.27,2,     1.24,2,   2342.6,2,   7.7330,2,    25.00
  06MM20060523, OVIDE,    16,  1,      9,2,20060528,1203, 40.3330, -12.2200, 5262,   2994.3,   2.8320,  34.9490,2,  34.9490,2,    248.5,2,    249.3,2,    36.20,2,    21.96,2,     1.23,2,   2336.7,2,   7.7340,2,    25.00
  06MM20060523, OVIDE,    16,  1,     10,2,20060528,1203, 40.3330, -12.2200, 5262,   2744.6,   3.0080,  34.9650,2,  34.9650,2,    250.9,2,    250.7,2,    33.20,2,    21.49,2,     1.17,2,   2332.3,2,   7.7390,2,    25.00
  06MM20060523, OVIDE,    16,  1,     11,2,20060528,1203, 40.3330, -12.2200, 5262,   2496.5,   3.2680,  34.9900,2,  34.9890,2,    251.6,2,    251.5,2,    30.08,2,    21.28,2,     1.16,2,   2329.2,2,   7.7350,2,    25.00
  06MM20060523, OVIDE,    16,  1,     12,2,20060528,1203, 40.3330, -12.2200, 5262,   2246.2,   3.6190,  35.0210,2,  35.0250,2,    252.8,2,    254.0,2,    25.40,2,    20.30,2,     1.12,2,   2324.2,2,   7.7360,2,    25.00
  06MM20060523, OVIDE,    16,  1,     13,2,20060528,1203, 40.3330, -12.2200, 5262,   1996.1,   4.6650,  35.1780,2,  35.1790,2,    241.8,2,    244.0,2,    17.07,2,    19.93,2,     1.06,2,   2330.5,2,   7.7440,2,    25.00
  06MM20060523, OVIDE,    16,  1,     14,2,20060528,1203, 40.3330, -12.2200, 5262,   1995.5,   4.6750,  35.1790,2,  35.1800,2,    241.8,2,    242.6,2,    17.10,2,    19.83,2,     1.07,2,   2331.5,2,   7.7430,2,    25.00
  06MM20060523, OVIDE,    16,  1,     15,2,20060528,1203, 40.3330, -12.2200, 5262,   1695.2,   6.4760,  35.4670,2,  35.4660,2,    225.0,2,    225.3,2,    13.86,2,    19.04,2,     0.96,2,   2346.8,2,   7.7530,2,    25.00
  06MM20060523, OVIDE,    16,  1,     16,2,20060528,1203, 40.3330, -12.2200, 5262,   1396.2,   9.6520,  36.0240,2,  36.0220,2,    193.6,2,    195.3,2,    10.84,2,    17.43,2,     0.88,2,   2383.2,2,   7.7800,2,    25.00
  06MM20060523, OVIDE,    16,  1,     17,2,20060528,1203, 40.3330, -12.2200, 5262,   1218.5,  11.0880,  36.2760,2,  36.2450,3,    181.5,2,    183.3,2,     9.52,2,    16.39,2,     0.79,2,   2395.8,2,   7.7980,2,    25.00
  06MM20060523, OVIDE,    16,  1,     18,2,20060528,1203, 40.3330, -12.2200, 5262,    994.9,  11.2740,  36.1600,2,  36.1600,2,    179.5,2,    180.9,2,     8.96,2,    16.60,2,     0.79,2,   2389.3,2,   7.7930,2,    25.00
  06MM20060523, OVIDE,    16,  1,     19,2,20060528,1203, 40.3330, -12.2200, 5262,    897.3,  11.3530,  36.1040,2,  36.1030,2,    179.9,2,    180.7,2,     8.96,2,    16.54,2,     0.81,2,   2380.6,2,   7.7920,2,    25.00
  06MM20060523, OVIDE,    16,  1,     20,2,20060528,1203, 40.3330, -12.2200, 5262,    817.0,  11.5280,  36.0860,2,  36.0850,2,    177.6,2,    181.8,2,     8.62,2,    16.18,2,     0.79,2,   2379.8,2,   7.7960,2,    25.00
  06MM20060523, OVIDE,    16,  1,     21,2,20060528,1203, 40.3330, -12.2200, 5262,    697.4,  11.6620,  36.0080,2,  36.0070,2,    180.7,2,    183.2,2,     8.06,2,    15.98,2,     0.81,2,   2371.2,2,   7.7930,2,    25.00
  06MM20060523, OVIDE,    16,  1,     22,2,20060528,1203, 40.3330, -12.2200, 5262,    596.9,  11.4350,  35.8040,2,  35.8160,3,    184.8,2,    185.0,2,     7.72,2,    16.50,2,     0.81,2,   2356.1,2,   7.7840,2,    25.00
  06MM20060523, OVIDE,    16,  1,     23,2,20060528,1203, 40.3330, -12.2200, 5262,    477.0,  11.4440,  35.6650,2,  35.6630,2,    198.8,2,    194.4,2,     6.63,2,    15.88,2,     0.78,2,   -999.0,9,   7.7850,2,    25.00
  06MM20060523, OVIDE,    16,  1,     24,2,20060528,1203, 40.3330, -12.2200, 5262,    398.6,  11.7740,  35.6590,2,  35.6580,2,    210.5,2,    209.7,2,     5.31,2,    13.49,2,     0.67,2,   2339.1,2,   7.8110,2,    25.00
  06MM20060523, OVIDE,    16,  1,     25,2,20060528,1203, 40.3330, -12.2200, 5262,    297.3,  12.5060,  35.7770,2,  35.7820,2,    232.6,2,    227.5,2,     3.77,2,     9.80,2,     0.44,2,   -999.0,9,   7.8450,2,    25.00
  06MM20060523, OVIDE,    16,  1,     26,2,20060528,1203, 40.3330, -12.2200, 5262,    196.7,  13.1630,  35.9040,2,  35.9060,2,    230.3,2,    232.5,2,     3.46,2,     8.09,2,     0.37,2,   2353.8,2,   7.8740,2,    25.00
  06MM20060523, OVIDE,    16,  1,     27,2,20060528,1203, 40.3330, -12.2200, 5262,    145.7,  13.5830,  35.9840,2,  35.9810,2,    233.1,2,    233.0,2,     3.54,2,     7.36,2,     0.30,2,   -999.0,9,   7.8820,2,    25.00
  06MM20060523, OVIDE,    16,  1,     28,2,20060528,1203, 40.3330, -12.2200, 5262,     96.4,  13.9250,  36.0150,2,  36.0140,2,    237.2,2,    234.2,2,     2.79,2,     6.12,2,  -999.00,9,   2358.4,2,   7.8930,2,    25.00
  06MM20060523, OVIDE,    16,  1,     29,2,20060528,1203, 40.3330, -12.2200, 5262,     45.6,  15.0850,  35.9930,2,  35.9920,2,    269.1,2,    262.5,2,     1.96,2,     0.00,2,     0.03,2,   -999.0,9,   7.9580,2,    25.00
  06MM20060523, OVIDE,    16,  1,     30,2,20060528,1203, 40.3330, -12.2200, 5262,      7.1,  17.2740,  35.9780,2,-999.0000,3,    246.7,2,    253.0,2,     2.18,2,     0.00,2,     0.05,2,   2363.2,2,   7.9880,2,    25.00
  06MM20060523, OVIDE,    17,  1,      3,2,20060528,1805, 40.5510, -12.6460, 5306,   5398.2,   2.5600,  34.9000,2,  34.8990,2,    244.5,2,    245.1,2,    47.12,2,    23.36,2,     1.34,2,   -999.0,9,   7.7320,2,    25.00
  06MM20060523, OVIDE,    17,  1,      4,2,20060528,1805, 40.5510, -12.6460, 5306,   4497.1,   2.4800,  34.9030,2,  34.9010,2,    245.1,2,    244.3,2,    46.79,2,    23.31,2,     1.32,2,   -999.0,9,   7.7310,2,    25.00
  06MM20060523, OVIDE,    17,  1,      5,2,20060528,1805, 40.5510, -12.6460, 5306,   4498.6,   2.4800,  34.9040,2,  34.9030,2,    245.1,2,    244.4,2,    44.90,2,    23.15,2,     1.33,2,   -999.0,9,   7.7310,2,    25.00
  06MM20060523, OVIDE,    17,  1,      6,2,20060528,1805, 40.5510, -12.6460, 5306,   3994.5,   2.5190,  34.9130,2,  34.9120,2,    243.3,2,    244.5,2,    41.33,2,    22.89,2,     1.25,2,   -999.0,9,   7.7320,2,    25.00
  06MM20060523, OVIDE,    17,  1,      7,2,20060528,1805, 40.5510, -12.6460, 5306,   3498.4,   2.6130,  34.9270,2,  34.9280,2,    244.2,2,    245.9,2,    38.77,2,    22.22,2,     1.25,2,   -999.0,9,   7.7340,2,    25.00
  06MM20060523, OVIDE,    17,  1,      8,2,20060528,1805, 40.5510, -12.6460, 5306,   3247.4,   2.6850,  34.9360,2,  34.9360,2,    246.4,2,    247.2,2,    35.76,2,    21.96,2,     1.23,2,   -999.0,9,   7.7340,2,    25.00
  06MM20060523, OVIDE,    17,  1,      9,2,20060528,1805, 40.5510, -12.6460, 5306,   2995.1,   2.8000,  34.9470,2,-999.0000,3,    248.3,2,    248.3,2,    31.64,2,    21.49,2,     1.15,2,   -999.0,9,   7.7350,2,    25.00
  06MM20060523, OVIDE,    17,  1,     10,2,20060528,1805, 40.5510, -12.6460, 5306,   2747.0,   2.9690,  34.9630,2,-999.0000,3,    251.5,2,    250.7,2,    27.52,2,    20.76,2,     1.13,2,   -999.0,9,   7.7360,2,    25.00
  06MM20060523, OVIDE,    17,  1,     11,2,20060528,1805, 40.5510, -12.6460, 5306,   2496.5,   3.2160,  34.9830,2,  34.9830,2,    254.0,2,    252.6,2,    23.39,2,    20.04,2,     1.09,2,   -999.0,9,   7.7360,2,    25.00
  06MM20060523, OVIDE,    17,  1,     12,2,20060528,1805, 40.5510, -12.6460, 5306,   2248.7,   3.5090,  35.0050,2,  35.0070,2,    257.1,2,    255.0,2,    18.27,2,    19.57,2,     1.06,2,   -999.0,9,   7.7380,2,    25.00
  06MM20060523, OVIDE,    17,  1,     13,2,20060528,1805, 40.5510, -12.6460, 5306,   1996.6,   3.9070,  35.0340,2,  35.0370,2,    258.9,2,    257.0,2,    16.28,2,    18.94,2,     1.03,2,   -999.0,9,   7.7370,2,    25.00
  06MM20060523, OVIDE,    17,  1,     14,2,20060528,1805, 40.5510, -12.6460, 5306,   1796.2,   4.4270,  35.0940,2,  35.0990,2,    254.1,2,    253.4,2,    14.01,2,    18.58,2,     0.98,2,   -999.0,9,   7.7370,2,    25.00
  06MM20060523, OVIDE,    17,  1,     15,2,20060528,1805, 40.5510, -12.6460, 5306,   1596.0,   5.4340,  35.2490,2,  35.2500,2,    235.5,2,    240.1,2,    13.16,2,    18.48,2,     0.96,2,   -999.0,9,   7.7390,2,    25.00
  06MM20060523, OVIDE,    17,  1,     16,2,20060528,1805, 40.5510, -12.6460, 5306,   1396.0,   7.4530,  35.5800,2,  35.5870,2,    214.2,2,    215.7,2,    12.06,2,    18.06,2,     0.93,2,   -999.0,9,   7.7560,2,    25.00
  06MM20060523, OVIDE,    17,  1,     18,2,20060528,1805, 40.5510, -12.6460, 5306,   1295.8,   8.5520,  35.7680,2,  35.7650,2,    203.1,2,    204.0,2,    11.09,2,    17.43,2,     0.83,2,   -999.0,9,   7.7640,2,    25.00
  06MM20060523, OVIDE,    17,  1,     19,2,20060528,1805, 40.5510, -12.6460, 5306,   1134.2,  10.5110,  36.1100,2,  36.1130,2,    186.1,2,    185.3,2,     9.55,2,    16.54,2,     0.83,2,   -999.0,9,   7.7850,2,    25.00
  06MM20060523, OVIDE,    17,  1,     20,2,20060528,1805, 40.5510, -12.6460, 5306,    943.3,  11.1820,  36.1210,2,  36.1230,2,    179.7,2,    180.7,2,     8.90,2,    16.28,2,     0.80,2,   -999.0,9,   7.7900,2,    25.00
  06MM20060523, OVIDE,    17,  1,     21,2,20060528,1805, 40.5510, -12.6460, 5306,    797.1,  11.4600,  36.0560,2,  36.0560,2,    181.2,2,    181.1,2,     8.21,2,    15.77,2,     0.80,2,   -999.0,9,   7.7910,2,    25.00
  06MM20060523, OVIDE,    17,  1,     22,2,20060528,1805, 40.5510, -12.6460, 5306,    696.2,  11.5190,  35.9430,2,  35.9460,2,    182.5,2,    182.2,2,     7.61,2,    15.61,2,     0.79,2,   -999.0,9,   7.7900,2,    25.00
  06MM20060523, OVIDE,    17,  1,     23,2,20060528,1805, 40.5510, -12.6460, 5306,    596.4,  11.0140,  35.6840,2,  35.6790,2,    183.9,2,    187.1,2,     7.32,2,    16.39,2,     0.83,2,   -999.0,9,   7.7730,2,    25.00
  06MM20060523, OVIDE,    17,  1,     24,2,20060528,1805, 40.5510, -12.6460, 5306,    447.0,  11.5860,  35.6190,2,  35.6190,2,    202.5,2,    221.4,3,     4.37,2,    12.04,2,     0.58,2,   -999.0,9,   7.8150,2,    25.00
  06MM20060523, OVIDE,    17,  1,     25,2,20060528,1805, 40.5510, -12.6460, 5306,    296.8,  12.5910,  35.7820,2,  35.7770,2,    227.4,2,    219.7,2,     3.48,2,     9.96,2,     0.48,2,   -999.0,9,   7.8390,2,    25.00
  06MM20060523, OVIDE,    17,  1,     26,2,20060528,1805, 40.5510, -12.6460, 5306,    196.6,  13.2590,  35.9050,2,  35.9050,2,    224.9,2,    231.0,2,     2.75,2,     7.37,2,  -999.00,3,   -999.0,9,   7.8740,2,    25.00
  06MM20060523, OVIDE,    17,  1,     27,2,20060528,1805, 40.5510, -12.6460, 5306,    148.0,  13.6510,  35.9730,2,  35.9730,2,    226.9,2,    228.4,2,     2.59,2,     7.05,2,     0.34,2,   -999.0,9,   7.8800,2,    25.00
  06MM20060523, OVIDE,    17,  1,     28,2,20060528,1805, 40.5510, -12.6460, 5306,     95.6,  14.1770,  36.0360,2,-999.0000,3,    231.4,2,    234.7,2,     2.10,2,     5.08,2,     0.24,2,   -999.0,9,   7.9010,2,    25.00
  06MM20060523, OVIDE,    17,  1,     29,2,20060528,1805, 40.5510, -12.6460, 5306,     45.9,  15.2510,  36.1000,2,-999.0000,3,    253.3,2,    250.8,2,     1.05,2,     0.62,2,     0.06,2,   -999.0,9,   7.9470,2,    25.00
  06MM20060523, OVIDE,    17,  1,     30,2,20060528,1805, 40.5510, -12.6460, 5306,     13.0,  17.3820,  36.1200,2,  36.1210,2,    244.0,2,    247.8,2,     1.30,2,     0.00,2,     0.01,2,   -999.0,9,   7.9870,2,    25.00