BOTTLE,20140930PRINUNIVRMK
EXPOCODE,SECT_ID,STNNBR,CASTNO,BTLNBR,BTLNBR_FLAG_W,DATE,TIME,LATITUDE,LONGITUDE,DEPTH,CTDPRS,CTDTMP,CTDSAL,CTDSAL_FLAG_W,SALNTY,SALNTY_FLAG_W,CTDOXY,CTDOXY_FLAG_W,OXYGEN,OXYGEN_FLAG_W,SILCAT,SILCAT_FLAG_W,NITRAT,NITRAT_FLAG_W,PHSPHT,PHSPHT_FLAG_W,ALKALI,ALKALI_FLAG_W,PH_SWS,PH_SWS_FLAG_W,PH_TMP
,,,,,,,,,,METERS,DBAR,ITS-90,PSS-78,,PSS-78,,UMOL/KG,,UMOL/KG,,UMOL/KG,,UMOL/KG,,UMOL/KG,,UMOL/KG,,,,DEG C
  06MM20060523, OVIDE,    86,  1,      3,2,20060614,1052, 59.4920, -37.6800, 3116,   3151.5,   1.9030,  34.9000,2,  34.9030,2,    297.3,2,    296.5,2,     9.41,2,    14.81,2,     0.83,2,   -999.0,9,   7.7240,2,    25.00
  06MM20060523, OVIDE,    86,  1,      4,2,20060614,1052, 59.4920, -37.6800, 3116,   3100.4,   2.0450,  34.9020,2,  34.9030,2,    292.8,2,    293.5,2,    10.15,2,    15.10,2,     0.81,2,   -999.0,9,   7.7260,2,    25.00
  06MM20060523, OVIDE,    86,  1,      5,2,20060614,1052, 59.4920, -37.6800, 3116,   3050.8,   2.2040,  34.9050,2,  34.9070,2,    291.5,2,    289.7,2,    11.18,2,    15.54,2,     0.87,2,   -999.0,9,   7.7270,2,    25.00
  06MM20060523, OVIDE,    86,  1,      6,2,20060614,1052, 59.4920, -37.6800, 3116,   2951.8,   2.3920,  34.9120,2,  34.9150,2,    286.8,2,    285.4,2,    12.25,2,    16.02,2,     0.88,2,   -999.0,9,   7.7250,2,    25.00
  06MM20060523, OVIDE,    86,  1,      7,2,20060614,1052, 59.4920, -37.6800, 3116,   2740.6,   2.7420,  34.9300,2,  34.9330,2,    280.3,2,    278.8,2,    13.50,2,    16.70,2,     0.92,2,   -999.0,9,   7.7300,2,    25.00
  06MM20060523, OVIDE,    86,  1,      8,2,20060614,1052, 59.4920, -37.6800, 3116,   2498.3,   2.9160,  34.9280,2,  34.9320,2,    280.5,2,    278.8,2,    12.77,2,    16.90,2,     0.92,2,   -999.0,9,   7.7310,2,    25.00
  06MM20060523, OVIDE,    86,  1,      9,2,20060614,1052, 59.4920, -37.6800, 3116,   2245.9,   3.1000,  34.9330,2,  34.9370,2,    280.4,2,    278.7,2,    12.08,2,    16.94,2,     0.93,2,   -999.0,9,   7.7290,2,    25.00
  06MM20060523, OVIDE,    86,  1,     10,2,20060614,1052, 59.4920, -37.6800, 3116,   1992.9,   3.2010,  34.9210,2,  34.9230,2,    281.3,2,    279.8,2,    11.35,2,    17.04,2,     0.90,2,   -999.0,9,   7.7280,2,    25.00
  06MM20060523, OVIDE,    86,  1,     11,2,20060614,1052, 59.4920, -37.6800, 3116,   1797.2,   3.2150,  34.9010,2,  34.9060,2,    284.7,2,    293.2,3,    10.88,2,    17.24,2,     0.92,2,   -999.0,9,   7.7270,2,    25.00
  06MM20060523, OVIDE,    86,  1,     12,2,20060614,1052, 59.4920, -37.6800, 3116,   1795.6,   3.2150,  34.9020,2,  34.9020,2,    284.7,2,    281.9,2,    10.92,2,    17.24,2,     0.91,2,   -999.0,9,   7.7270,2,    25.00
  06MM20060523, OVIDE,    86,  1,     13,2,20060614,1052, 59.4920, -37.6800, 3116,   1595.3,   3.3280,  34.9010,2,  34.9030,2,    281.9,2,    280.7,2,    10.70,2,    17.38,2,     0.95,2,   -999.0,9,   7.7250,2,    25.00
  06MM20060523, OVIDE,    86,  1,     14,2,20060614,1052, 59.4920, -37.6800, 3116,   1394.5,   3.5090,  34.9070,2,  34.9120,2,    278.6,2,    277.9,2,    10.49,2,    17.28,2,     0.97,2,   -999.0,9,   7.7230,2,    25.00
  06MM20060523, OVIDE,    86,  1,     15,2,20060614,1052, 59.4920, -37.6800, 3116,   1195.7,   3.5200,  34.8820,2,  34.8830,2,    284.9,2,    283.9,2,     9.80,2,    17.19,2,     0.95,2,   -999.0,9,   7.7200,2,    25.00
  06MM20060523, OVIDE,    86,  1,     16,2,20060614,1052, 59.4920, -37.6800, 3116,    995.6,   3.5080,  34.8650,2,  34.8680,2,    294.9,2,    291.6,2,     9.11,2,    16.85,2,     0.95,2,   -999.0,9,   7.7210,2,    25.00
  06MM20060523, OVIDE,    86,  1,     17,2,20060614,1052, 59.4920, -37.6800, 3116,    896.7,   3.5480,  34.8640,2,  34.8670,2,    294.4,2,    293.2,2,     8.90,2,    16.75,2,     0.88,2,   -999.0,9,   7.7220,2,    25.00
  06MM20060523, OVIDE,    86,  1,     18,2,20060614,1052, 59.4920, -37.6800, 3116,    798.7,   3.6090,  34.8670,2,  34.8710,2,    294.6,2,    292.0,2,     8.90,2,    16.80,2,     0.90,2,   -999.0,9,   7.7210,2,    25.00
  06MM20060523, OVIDE,    86,  1,     19,2,20060614,1052, 59.4920, -37.6800, 3116,    696.4,   3.7550,  34.8780,2,  34.8830,2,    289.8,2,    287.9,2,     8.98,2,    16.90,2,     0.92,2,   -999.0,9,   7.7210,2,    25.00
  06MM20060523, OVIDE,    86,  1,     20,2,20060614,1052, 59.4920, -37.6800, 3116,    594.5,   4.0370,  34.9020,2,  34.9020,2,    282.9,2,    280.2,2,     9.33,2,    17.28,2,     0.97,2,   -999.0,9,   7.7160,2,    25.00
  06MM20060523, OVIDE,    86,  1,     21,2,20060614,1052, 59.4920, -37.6800, 3116,    496.1,   4.1440,  34.9030,2,  34.9040,2,    292.5,2,    288.8,2,     8.68,2,    16.75,2,     0.92,2,   -999.0,9,   7.7230,2,    25.00
  06MM20060523, OVIDE,    86,  1,     22,2,20060614,1052, 59.4920, -37.6800, 3116,    396.5,   4.6520,  34.9510,2,  34.9540,2,    266.3,2,    271.0,2,     9.54,2,    17.58,2,     0.97,2,   -999.0,9,   7.7180,2,    25.00
  06MM20060523, OVIDE,    86,  1,     23,2,20060614,1052, 59.4920, -37.6800, 3116,    296.1,   4.9070,  34.9560,2,  34.9600,2,    275.4,2,    261.5,3,     9.76,2,    17.87,2,     1.00,2,   -999.0,9,   7.7160,2,    25.00
  06MM20060523, OVIDE,    86,  1,     24,2,20060614,1052, 59.4920, -37.6800, 3116,    195.9,   4.7570,  34.8760,2,  34.8760,2,    294.8,2,    296.5,2,     7.74,2,    15.73,2,     0.84,2,   -999.0,9,   7.7370,2,    25.00
  06MM20060523, OVIDE,    86,  1,     25,2,20060614,1052, 59.4920, -37.6800, 3116,    148.5,   5.0040,  34.9000,2,  34.9000,2,    292.7,2,    291.0,2,     7.78,2,    15.73,2,     0.89,2,   -999.0,9,   7.7390,2,    25.00
  06MM20060523, OVIDE,    86,  1,     26,2,20060614,1052, 59.4920, -37.6800, 3116,     96.2,   5.4930,  34.9210,2,  34.9230,2,    284.0,2,    288.1,2,     7.48,2,    15.39,2,     0.83,2,   -999.0,9,   7.7460,2,    25.00
  06MM20060523, OVIDE,    86,  1,     27,2,20060614,1052, 59.4920, -37.6800, 3116,     47.9,   5.9760,  34.8960,2,  34.8990,2,    292.2,2,    293.7,2,     6.49,2,    13.30,2,     0.80,2,   -999.0,9,   7.7680,2,    25.00
  06MM20060523, OVIDE,    86,  1,     28,2,20060614,1052, 59.4920, -37.6800, 3116,     10.8,   7.1700,  34.8010,2,  34.8050,2,    304.8,2,    306.1,2,     4.08,2,     7.62,2,     0.51,2,   -999.0,9,   7.8530,2,    25.00
  06MM20060523, OVIDE,    87,  1,      3,2,20060614,1556, 59.5360, -38.1040, 3081,   3111.1,   1.5350,  34.9020,2,  34.9060,2,    302.5,2,    302.2,2,     8.38,2,    14.11,2,     0.79,2,   -999.0,9,   7.7240,2,    25.00
  06MM20060523, OVIDE,    87,  1,      4,2,20060614,1556, 59.5360, -38.1040, 3081,   3061.7,   1.6560,  34.9030,2,-999.0000,3,    301.8,2,    301.0,2,     8.46,2,    14.20,2,     0.79,2,   -999.0,9,   7.7280,2,    25.00
  06MM20060523, OVIDE,    87,  1,      5,2,20060614,1556, 59.5360, -38.1040, 3081,   3011.1,   2.0320,  34.9000,2,  34.9000,2,    297.2,2,    296.3,2,     9.11,2,    14.74,2,     0.79,2,   -999.0,9,   7.7270,2,    25.00
  06MM20060523, OVIDE,    87,  1,      6,2,20060614,1556, 59.5360, -38.1040, 3081,   2745.1,   2.7450,  34.9260,2,  34.9280,2,    280.9,2,    280.9,2,    12.95,2,    16.52,2,     0.89,2,   -999.0,9,   7.7310,2,    25.00
  06MM20060523, OVIDE,    87,  1,      7,2,20060614,1556, 59.5360, -38.1040, 3081,   2492.6,   2.9440,  34.9290,2,  34.9380,3,    280.1,2,    279.4,2,    12.61,2,    16.86,2,     0.92,2,   -999.0,9,   7.7310,2,    25.00
  06MM20060523, OVIDE,    87,  1,      8,2,20060614,1556, 59.5360, -38.1040, 3081,   2234.0,   3.0830,  34.9280,2,  34.9270,2,    279.5,2,    279.4,2,    11.88,2,    16.91,2,     0.94,2,   -999.0,9,   7.7310,2,    25.00
  06MM20060523, OVIDE,    87,  1,      9,2,20060614,1556, 59.5360, -38.1040, 3081,   1995.8,   3.1860,  34.9220,2,  34.9220,2,    282.2,2,    281.2,2,    11.31,2,    16.96,2,     0.88,2,   -999.0,9,   7.7290,2,    25.00
  06MM20060523, OVIDE,    87,  1,     10,2,20060614,1556, 59.5360, -38.1040, 3081,   1795.3,   3.2690,  34.9140,2,-999.0000,3,    281.0,2,    282.2,2,    10.97,2,    16.96,2,     0.85,2,   -999.0,9,   7.7290,2,    25.00
  06MM20060523, OVIDE,    87,  1,     11,2,20060614,1556, 59.5360, -38.1040, 3081,   1595.0,   3.3560,  34.9110,2,  34.9110,2,    278.8,2,    280.1,2,    10.84,2,    17.20,2,     0.88,2,   -999.0,9,   7.7250,2,    25.00
  06MM20060523, OVIDE,    87,  1,     12,2,20060614,1556, 59.5360, -38.1040, 3081,   1396.6,   3.5140,  34.9110,2,  34.9120,2,    277.4,2,    279.7,2,    10.62,2,    17.05,2,     0.93,2,   -999.0,9,   7.7190,2,    25.00
  06MM20060523, OVIDE,    87,  1,     13,2,20060614,1556, 59.5360, -38.1040, 3081,   1195.1,   3.6130,  34.9030,2,  34.9040,2,    277.3,2,    279.7,2,    10.19,2,    17.30,2,     0.94,2,   -999.0,9,   7.7220,2,    25.00
  06MM20060523, OVIDE,    87,  1,     14,2,20060614,1556, 59.5360, -38.1040, 3081,   1192.6,   3.6160,  34.9020,2,  34.9040,2,    277.6,2,    280.2,2,    10.19,2,    17.30,2,     0.91,2,   -999.0,9,   7.7210,2,    25.00
  06MM20060523, OVIDE,    87,  1,     15,2,20060614,1556, 59.5360, -38.1040, 3081,    993.5,   3.5650,  34.8760,2,  34.8770,2,    289.3,2,    288.9,2,     9.46,2,    16.86,2,     0.91,2,   -999.0,9,   7.7210,2,    25.00
  06MM20060523, OVIDE,    87,  1,     16,2,20060614,1556, 59.5360, -38.1040, 3081,    894.1,   3.6960,  34.8880,2,  34.8890,2,    288.4,2,    284.7,2,     9.54,2,    17.05,2,     0.92,2,   -999.0,9,   7.7200,2,    25.00
  06MM20060523, OVIDE,    87,  1,     17,2,20060614,1556, 59.5360, -38.1040, 3081,    795.7,   3.7930,  34.8940,2,  34.8930,2,    284.9,2,    283.3,2,     9.50,2,    17.05,2,     0.88,2,   -999.0,9,   7.7190,2,    25.00
  06MM20060523, OVIDE,    87,  1,     18,2,20060614,1556, 59.5360, -38.1040, 3081,    694.7,   4.0790,  34.9220,2,  34.9240,2,    278.8,2,    274.1,2,     9.93,2,    17.49,2,     0.96,2,   -999.0,9,   7.7170,2,    25.00
  06MM20060523, OVIDE,    87,  1,     19,2,20060614,1556, 59.5360, -38.1040, 3081,    593.9,   4.0910,  34.9020,2,  34.9020,2,    284.7,2,    289.2,2,     8.94,2,    16.72,2,     0.92,2,   -999.0,9,   7.7250,2,    25.00
  06MM20060523, OVIDE,    87,  1,     20,2,20060614,1556, 59.5360, -38.1040, 3081,    495.1,   4.3460,  34.9200,2,  34.9180,2,    285.5,2,    283.3,2,     8.98,2,    16.86,2,     0.89,2,   -999.0,9,   7.7260,2,    25.00
  06MM20060523, OVIDE,    87,  1,     21,2,20060614,1556, 59.5360, -38.1040, 3081,    398.2,   4.6230,  34.9380,2,  34.9350,2,    278.5,2,    277.5,2,     9.28,2,    17.20,2,     0.95,2,   -999.0,9,   7.7240,2,    25.00
  06MM20060523, OVIDE,    87,  1,     22,2,20060614,1556, 59.5360, -38.1040, 3081,    296.3,   4.7030,  34.9050,2,  34.9050,2,    290.3,2,    289.6,2,     8.38,2,    16.04,2,     0.85,2,   -999.0,9,   7.7330,2,    25.00
  06MM20060523, OVIDE,    87,  1,     23,2,20060614,1556, 59.5360, -38.1040, 3081,    196.4,   4.8530,  34.8890,2,  34.8910,2,    285.1,2,    294.4,3,     7.82,2,    15.70,2,     0.86,2,   -999.0,9,   7.7380,2,    25.00
  06MM20060523, OVIDE,    87,  1,     24,2,20060614,1556, 59.5360, -38.1040, 3081,    146.8,   5.3850,  34.9340,2,  34.9320,2,    291.6,2,    288.0,2,     7.77,2,    15.80,2,     0.86,2,   -999.0,9,   7.7440,2,    25.00
  06MM20060523, OVIDE,    87,  1,     25,2,20060614,1556, 59.5360, -38.1040, 3081,     95.9,   5.7880,  34.9500,2,  34.9490,2,    285.9,2,    285.3,2,     7.51,2,    15.41,2,     0.85,2,   -999.0,9,   7.7490,2,    25.00
  06MM20060523, OVIDE,    87,  1,     26,2,20060614,1556, 59.5360, -38.1040, 3081,     50.3,   7.0630,  34.9070,2,  34.9130,3,    299.6,2,    302.6,2,     5.05,2,     9.61,2,     0.59,2,   -999.0,9,   7.8270,2,    25.00
  06MM20060523, OVIDE,    87,  1,     27,2,20060614,1556, 59.5360, -38.1040, 3081,     18.0,   7.5890,  34.9290,2,  34.9280,2,    303.7,2,    303.5,2,     4.75,2,     9.23,2,     0.56,2,   -999.0,9,   7.8340,2,    25.00
  06MM20060523, OVIDE,    88,  1,      3,2,20060614,0943, 59.5800, -38.5290, 3006,   3039.2,   1.4630,  34.9040,2,  34.9050,2,    300.9,2,    302.6,2,     8.40,2,    13.92,2,     0.84,2,   2299.2,2,   7.7230,2,    25.00
  06MM20060523, OVIDE,    88,  1,      4,2,20060614,0943, 59.5800, -38.5290, 3006,   2988.5,   1.7250,  34.9070,2,  34.9070,2,    301.8,2,    301.9,2,     8.06,2,    13.92,2,     0.89,2,   -999.0,9,   7.7270,2,    25.00
  06MM20060523, OVIDE,    88,  1,      5,2,20060614,0943, 59.5800, -38.5290, 3006,   2938.7,   1.9540,  34.8990,2,  34.9010,2,    294.5,2,    298.2,2,     8.83,2,    14.42,2,     0.89,2,   2302.3,2,   7.7250,2,    25.00
  06MM20060523, OVIDE,    88,  1,      6,2,20060614,0943, 59.5800, -38.5290, 3006,   2839.1,   2.1340,  34.8990,2,  34.9000,2,    291.6,2,    292.5,2,    10.34,2,    15.03,2,     0.89,2,   2303.5,2,   7.7250,2,    25.00
  06MM20060523, OVIDE,    88,  1,      7,2,20060614,0943, 59.5800, -38.5290, 3006,   2498.0,   2.8880,  34.9330,2,  34.9320,2,    277.8,2,    278.9,2,    13.17,2,    16.63,2,     1.00,2,   2305.5,2,   7.7290,2,    25.00
  06MM20060523, OVIDE,    88,  1,      8,2,20060614,0943, 59.5800, -38.5290, 3006,   2248.0,   3.0180,  34.9270,2,  34.9290,2,    278.8,2,    279.4,2,    12.28,2,    16.74,2,     1.01,2,   2304.0,2,   7.7290,2,    25.00
  06MM20060523, OVIDE,    88,  1,      9,2,20060614,0943, 59.5800, -38.5290, 3006,   1996.5,   3.1900,  34.9300,2,  34.9290,2,    279.2,2,    279.5,2,    11.54,2,    16.86,2,     1.03,2,   2303.8,2,   7.7260,2,    25.00
  06MM20060523, OVIDE,    88,  1,     10,2,20060614,0943, 59.5800, -38.5290, 3006,   1796.4,   3.2220,  34.9130,2,  34.9150,2,    281.3,2,    281.5,2,    11.11,2,    16.97,2,     1.01,2,   2302.1,2,   7.7270,2,    25.00
  06MM20060523, OVIDE,    88,  1,     11,2,20060614,0943, 59.5800, -38.5290, 3006,   1596.3,   3.3390,  34.9090,2,  34.9090,2,    278.2,2,    280.7,2,    10.96,2,    17.08,2,     1.01,2,   2302.1,2,   7.7200,2,    25.00
  06MM20060523, OVIDE,    88,  1,     12,2,20060614,0943, 59.5800, -38.5290, 3006,   1396.1,   3.5340,  34.9150,2,  34.9150,2,    274.1,2,    277.0,2,    10.77,2,    17.19,2,     1.03,2,   2299.9,2,   7.7210,2,    25.00
  06MM20060523, OVIDE,    88,  1,     13,2,20060614,0943, 59.5800, -38.5290, 3006,   1095.7,   3.5750,  34.8840,2,  34.8840,2,    284.9,2,    284.0,2,     9.91,2,    17.13,2,     1.01,2,   2297.8,2,   7.7180,2,    25.00
  06MM20060523, OVIDE,    88,  1,     14,2,20060614,0943, 59.5800, -38.5290, 3006,    995.4,   3.6710,  34.8900,2,  34.8900,2,    283.8,2,    283.8,2,     9.80,2,    17.02,2,     1.04,2,   2299.3,2,   7.7160,2,    25.00
  06MM20060523, OVIDE,    88,  1,     15,2,20060614,0943, 59.5800, -38.5290, 3006,    896.4,   3.7190,  34.8890,2,  34.8810,3,    282.1,2,    284.8,2,     9.57,2,    16.91,2,     1.02,2,   -999.0,9,   7.7190,2,    25.00
  06MM20060523, OVIDE,    88,  1,     16,2,20060614,0943, 59.5800, -38.5290, 3006,    896.0,   3.7240,  34.8860,2,  34.8880,2,    282.1,2,    284.5,2,     9.53,2,    17.02,2,     1.04,2,   -999.0,9,   7.7180,2,    25.00
  06MM20060523, OVIDE,    88,  1,     17,2,20060614,0943, 59.5800, -38.5290, 3006,    797.5,   3.8010,  34.8900,2,  34.8910,2,    285.1,2,    284.3,2,     9.41,2,    16.97,2,     1.03,2,   2298.1,2,   7.7180,2,    25.00
  06MM20060523, OVIDE,    88,  1,     18,2,20060614,0943, 59.5800, -38.5290, 3006,    695.7,   4.0190,  34.9040,2,  34.9020,2,    280.6,2,    281.2,2,     9.45,2,    17.13,2,     1.07,2,   -999.0,9,   7.7160,2,    25.00
  06MM20060523, OVIDE,    88,  1,     19,2,20060614,0943, 59.5800, -38.5290, 3006,    596.4,   4.2350,  34.9160,2,  34.9140,2,    278.9,2,    285.1,2,     9.02,2,    16.75,2,     1.04,2,   2301.3,2,   7.7240,2,    25.00
  06MM20060523, OVIDE,    88,  1,     20,2,20060614,0943, 59.5800, -38.5290, 3006,    495.2,   4.5510,  34.9350,2,  34.9350,2,    264.3,2,    280.8,3,     9.06,2,    16.86,2,     1.02,2,   2304.3,2,   7.7210,2,    25.00
  06MM20060523, OVIDE,    88,  1,     21,2,20060614,0943, 59.5800, -38.5290, 3006,    405.8,   4.7510,  34.9330,2,  34.9370,2,    256.3,2,    272.2,3,     9.33,2,    17.08,2,     1.10,2,   2305.9,2,   7.7190,2,    25.00
  06MM20060523, OVIDE,    88,  1,     22,2,20060614,0943, 59.5800, -38.5290, 3006,    296.3,   5.2260,  34.9420,2,  34.9420,2,    293.3,2,    290.1,2,     8.06,2,    15.75,2,     0.96,2,   -999.0,9,   7.7390,2,    25.00
  06MM20060523, OVIDE,    88,  1,     23,2,20060614,0943, 59.5800, -38.5290, 3006,    194.4,   5.5820,  34.9430,2,  34.9440,2,    281.5,2,    286.4,2,     7.78,2,    15.47,2,     0.96,2,   2304.0,2,   7.7480,2,    25.00
  06MM20060523, OVIDE,    88,  1,     24,2,20060614,0943, 59.5800, -38.5290, 3006,    147.2,   5.9420,  34.9710,2,  34.9690,2,    280.0,2,    280.5,2,     7.59,2,    15.47,2,     0.96,2,   -999.0,9,   7.7500,2,    25.00
  06MM20060523, OVIDE,    88,  1,     25,2,20060614,0943, 59.5800, -38.5290, 3006,     96.0,   6.2120,  34.9610,2,  34.9690,3,    278.8,2,    286.1,3,     6.66,2,    14.47,2,     0.88,2,   2304.6,2,   7.7610,2,    25.00
  06MM20060523, OVIDE,    88,  1,     26,2,20060614,0943, 59.5800, -38.5290, 3006,     45.4,   7.4090,  34.9230,2,  34.9270,2,    298.0,2,    299.0,2,     4.96,2,    10.15,2,     0.63,2,   -999.0,9,   7.8190,2,    25.00
  06MM20060523, OVIDE,    88,  1,     27,2,20060614,0943, 59.5800, -38.5290, 3006,      8.3,   7.4440,  34.9240,2,  34.9230,2,    300.5,2,    300.1,2,     4.96,2,     9.65,2,     0.62,2,   2304.2,2,   7.8230,2,    25.00