BOTTLE,20140930PRINUNIVRMK
EXPOCODE,SECT_ID,STNNBR,CASTNO,BTLNBR,BTLNBR_FLAG_W,DATE,TIME,LATITUDE,LONGITUDE,DEPTH,CTDPRS,CTDTMP,CTDSAL,CTDSAL_FLAG_W,SALNTY,SALNTY_FLAG_W,CTDOXY,CTDOXY_FLAG_W,OXYGEN,OXYGEN_FLAG_W,SILCAT,SILCAT_FLAG_W,NITRAT,NITRAT_FLAG_W,PHSPHT,PHSPHT_FLAG_W,ALKALI,ALKALI_FLAG_W,PH_SWS,PH_SWS_FLAG_W,PH_TMP
,,,,,,,,,,METERS,DBAR,ITS-90,PSS-78,,PSS-78,,UMOL/KG,,UMOL/KG,,UMOL/KG,,UMOL/KG,,UMOL/KG,,UMOL/KG,,,,DEG C
  06MM20060523, OVIDE,    48,  1,      3,2,20060605,0531, 51.0270, -23.1940, 3932,   3984.8,   2.6170,  34.9210,2,  34.9220,2,    245.2,2,    245.1,2,    42.73,2,    22.26,2,     1.36,2,   2351.6,2,   7.7270,2,    25.00
  06MM20060523, OVIDE,    48,  1,      4,2,20060605,0531, 51.0270, -23.1940, 3932,   3748.9,   2.6720,  34.9280,2,  34.9200,3,    250.5,2,    250.5,2,    38.81,2,    21.09,2,  -999.00,9,   2340.8,2,   7.7280,2,    25.00
  06MM20060523, OVIDE,    48,  1,      5,2,20060605,0531, 51.0270, -23.1940, 3932,   3499.2,   2.7430,  34.9390,2,  34.9410,2,    257.2,2,    257.3,2,    32.36,2,    19.82,2,     1.23,2,   2329.2,2,   7.7280,2,    25.00
  06MM20060523, OVIDE,    48,  1,      6,2,20060605,0531, 51.0270, -23.1940, 3932,   3242.8,   2.8080,  34.9450,2,  34.9460,2,    262.9,2,    263.0,2,    26.80,2,    19.11,2,  -999.00,9,   2327.0,2,   7.7280,2,    25.00
  06MM20060523, OVIDE,    48,  1,      7,2,20060605,0531, 51.0270, -23.1940, 3932,   2997.7,   2.8970,  34.9460,2,  34.9490,2,    269.5,2,    268.4,2,    18.63,2,    18.09,2,     1.08,2,   2317.7,2,   7.7290,2,    25.00
  06MM20060523, OVIDE,    48,  1,      8,2,20060605,0531, 51.0270, -23.1940, 3932,   2745.2,   2.9850,  34.9390,2,  34.9400,2,    274.1,2,    273.0,2,    15.57,2,    17.69,2,     1.04,2,   2312.0,2,   7.7280,2,    25.00
  06MM20060523, OVIDE,    48,  1,      9,2,20060605,0531, 51.0270, -23.1940, 3932,   2492.8,   3.0810,  34.9260,2,  34.9290,2,    275.8,2,    276.3,2,    13.66,2,    17.79,2,     1.04,2,   2309.3,2,   7.7280,2,    25.00
  06MM20060523, OVIDE,    48,  1,     10,2,20060605,0531, 51.0270, -23.1940, 3932,   2246.6,   3.1540,  34.9080,2,  34.9120,2,    279.8,2,    279.7,2,    12.33,2,    17.59,2,     1.01,2,   2305.7,2,   7.7290,2,    25.00
  06MM20060523, OVIDE,    48,  1,     11,2,20060605,0531, 51.0270, -23.1940, 3932,   2247.3,   3.1540,  34.9090,2,  34.9120,2,    279.8,2,    279.6,2,    12.38,2,    17.54,2,     1.07,2,   2305.3,2,   7.7260,2,    25.00
  06MM20060523, OVIDE,    48,  1,     12,2,20060605,0531, 51.0270, -23.1940, 3932,   1998.1,   3.2510,  34.8990,2,  34.9020,2,    281.2,2,    281.1,2,    11.58,2,    17.69,2,     1.01,2,   2303.8,2,   7.7240,2,    25.00
  06MM20060523, OVIDE,    48,  1,     13,2,20060605,0531, 51.0270, -23.1940, 3932,   1796.9,   3.3720,  34.9000,2,  34.9030,2,    279.6,2,    279.4,2,    11.18,2,    17.84,2,     1.05,2,   2302.9,2,   7.7230,2,    25.00
  06MM20060523, OVIDE,    48,  1,     14,2,20060605,0531, 51.0270, -23.1940, 3932,   1597.8,   3.4990,  34.9040,2,  34.9030,2,    276.7,2,    277.0,2,    11.04,2,    17.89,2,     1.05,2,   2301.2,2,   7.7210,2,    25.00
  06MM20060523, OVIDE,    48,  1,     15,2,20060605,0531, 51.0270, -23.1940, 3932,   1397.2,   3.6120,  34.9020,2,  34.9070,2,    276.7,2,    276.5,2,    10.74,2,    18.10,2,     1.05,2,   2301.2,2,   7.7170,2,    25.00
  06MM20060523, OVIDE,    48,  1,     16,2,20060605,0531, 51.0270, -23.1940, 3932,   1196.9,   3.7950,  34.9140,2,  34.9140,2,    273.5,2,    273.1,2,    10.51,2,    18.20,2,     1.04,2,   2301.2,2,   7.7150,2,    25.00
  06MM20060523, OVIDE,    48,  1,     17,2,20060605,0531, 51.0270, -23.1940, 3932,    996.5,   4.0000,  34.9210,2,  34.9210,2,    270.6,2,    269.7,2,    10.34,2,    18.30,2,  -999.00,9,   2301.0,2,   7.7120,2,    25.00
  06MM20060523, OVIDE,    48,  1,     18,2,20060605,0531, 51.0270, -23.1940, 3932,    898.5,   4.1750,  34.9310,2,  34.9320,2,    263.9,2,    265.1,2,    10.38,2,    18.50,2,     1.02,2,   -999.0,9,   7.7100,2,    25.00
  06MM20060523, OVIDE,    48,  1,     19,2,20060605,0531, 51.0270, -23.1940, 3932,    798.1,   4.4990,  34.9610,2,  34.9670,2,    257.4,2,    257.2,2,    10.56,2,    18.50,2,     1.07,2,   2304.8,2,   7.7090,2,    25.00
  06MM20060523, OVIDE,    48,  1,     20,2,20060605,0531, 51.0270, -23.1940, 3932,    695.6,   5.1460,  35.0250,2,  35.0260,2,    243.8,2,    243.7,2,    10.78,2,    18.91,2,  -999.00,9,   2307.7,2,   7.7080,2,    25.00
  06MM20060523, OVIDE,    48,  1,     21,2,20060605,0531, 51.0270, -23.1940, 3932,    596.3,   5.2920,  34.9890,2,  34.9930,2,    239.3,2,    239.7,2,    10.82,2,    19.57,2,     1.20,2,   -999.0,9,   7.7030,2,    25.00
  06MM20060523, OVIDE,    48,  1,     22,2,20060605,0531, 51.0270, -23.1940, 3932,    496.3,   5.8320,  34.9910,2,  34.9940,2,    226.0,2,    227.7,2,    10.87,2,    19.67,2,     1.15,2,   2304.1,2,   7.6990,2,    25.00
  06MM20060523, OVIDE,    48,  1,     23,2,20060605,0531, 51.0270, -23.1940, 3932,    396.5,   6.6470,  34.9720,2,  34.9730,2,    219.2,2,    213.0,3,    10.82,2,    20.23,2,     1.16,2,   2304.6,2,   7.6960,2,    25.00
  06MM20060523, OVIDE,    48,  1,     24,2,20060605,0531, 51.0270, -23.1940, 3932,    296.6,   7.5660,  34.9810,2,  34.9800,2,    202.8,2,    200.9,2,    10.29,2,    20.18,2,     1.11,2,   2305.5,2,   7.7040,2,    25.00
  06MM20060523, OVIDE,    48,  1,     25,2,20060605,0531, 51.0270, -23.1940, 3932,    261.2,   7.9600,  34.9850,2,  34.9840,2,    199.2,2,    203.4,2,     9.58,2,    19.21,2,     1.12,2,   -999.0,9,   7.7100,2,    25.00
  06MM20060523, OVIDE,    48,  1,     26,2,20060605,0531, 51.0270, -23.1940, 3932,    195.6,   9.1100,  35.0370,2,  35.0340,2,    255.2,2,    255.5,2,     5.32,2,    12.71,2,     0.70,2,   2309.4,2,   7.7980,2,    25.00
  06MM20060523, OVIDE,    48,  1,     27,2,20060605,0531, 51.0270, -23.1940, 3932,     96.0,   9.8370,  35.1000,2,  35.1040,2,    270.0,2,    267.5,2,     3.06,2,     9.55,2,     0.59,2,   2313.9,2,   7.8330,2,    25.00
  06MM20060523, OVIDE,    48,  1,     28,2,20060605,0531, 51.0270, -23.1940, 3932,     47.6,  10.8760,  35.0890,2,  35.0900,2,    269.3,2,    270.4,2,     0.98,2,     3.71,2,     0.29,2,   -999.0,9,   7.8950,2,    25.00
  06MM20060523, OVIDE,    48,  1,     29,2,20060605,0531, 51.0270, -23.1940, 3932,     13.0,  12.5220,  35.0390,2,  35.0440,3,    285.6,2,    289.7,2,     0.80,2,     0.56,2,     0.10,2,   2310.7,2,   7.9560,2,    25.00
  06MM20060523, OVIDE,    49,  1,      3,2,20060606,1623, 51.4010, -23.4840, 3266,   3300.4,   2.6760,  34.9340,2,  34.9350,2,    254.2,2,    254.4,2,    34.96,2,    20.32,2,     1.23,2,   -999.0,9,   7.7270,2,    25.00
  06MM20060523, OVIDE,    49,  1,      4,2,20060606,1623, 51.4010, -23.4840, 3266,   2994.9,   2.7860,  34.9450,2,  34.9440,2,    263.1,2,    262.8,2,    27.54,2,    18.88,2,     1.16,2,   -999.0,9,   7.7250,2,    25.00
  06MM20060523, OVIDE,    49,  1,      5,2,20060606,1623, 51.4010, -23.4840, 3266,   2744.5,   2.8830,  34.9460,2,  34.9460,2,    269.0,2,    269.0,2,    19.52,2,    18.02,2,     1.08,2,   -999.0,9,   7.7280,2,    25.00
  06MM20060523, OVIDE,    49,  1,      6,2,20060606,1623, 51.4010, -23.4840, 3266,   2496.3,   3.0360,  34.9340,2,  34.9350,2,    275.7,2,    275.0,2,    16.53,2,    17.33,2,     1.00,2,   -999.0,9,   7.7240,2,    25.00
  06MM20060523, OVIDE,    49,  1,      7,2,20060606,1623, 51.4010, -23.4840, 3266,   2244.2,   3.1140,  34.9150,2,  34.9160,2,    277.7,2,    278.7,2,    12.97,2,    17.28,2,     1.04,2,   -999.0,9,   7.7240,2,    25.00
  06MM20060523, OVIDE,    49,  1,      8,2,20060606,1623, 51.4010, -23.4840, 3266,   1995.8,   3.1970,  34.9010,2,  34.9020,2,    280.3,2,    281.0,2,    13.89,2,    17.44,2,     1.01,2,   -999.0,9,   7.7210,2,    25.00
  06MM20060523, OVIDE,    49,  1,      9,2,20060606,1623, 51.4010, -23.4840, 3266,   1794.4,   3.2870,  34.8970,2,  34.8970,2,    279.7,2,    280.8,2,    11.74,2,    17.60,2,     1.01,2,   -999.0,9,   7.7180,2,    25.00
  06MM20060523, OVIDE,    49,  1,     10,2,20060606,1623, 51.4010, -23.4840, 3266,   1595.0,   3.4310,  34.9010,2,  34.9020,2,    279.9,2,    278.4,2,    11.87,2,    17.70,2,     1.03,2,   -999.0,9,   7.7190,2,    25.00
  06MM20060523, OVIDE,    49,  1,     11,2,20060606,1623, 51.4010, -23.4840, 3266,   1396.5,   3.5610,  34.9040,2,  34.9060,2,    277.4,2,    276.0,2,    11.08,2,    17.81,2,     1.04,2,   -999.0,9,   7.7190,2,    25.00
  06MM20060523, OVIDE,    49,  1,     12,2,20060606,1623, 51.4010, -23.4840, 3266,   1396.6,   3.5610,  34.9040,2,  34.9050,2,    277.4,2,    276.4,2,    11.69,2,    17.76,2,     1.04,2,   -999.0,9,   7.7180,2,    25.00
  06MM20060523, OVIDE,    49,  1,     13,2,20060606,1623, 51.4010, -23.4840, 3266,   1195.8,   3.7510,  34.9170,2,  34.9170,2,    272.8,2,    272.3,2,    11.08,2,    17.97,2,     1.04,2,   -999.0,9,   7.7160,2,    25.00
  06MM20060523, OVIDE,    49,  1,     14,2,20060606,1623, 51.4010, -23.4840, 3266,    996.8,   4.0750,  34.9400,2,  34.9390,2,    270.7,2,    273.7,2,    13.80,2,    18.08,2,     1.05,2,   -999.0,9,   7.7130,2,    25.00
  06MM20060523, OVIDE,    49,  1,     15,2,20060606,1623, 51.4010, -23.4840, 3266,    896.2,   4.1240,  34.9310,2,  34.9290,2,    266.5,2,    267.0,2,  -999.00,9,  -999.00,9,  -999.00,9,   -999.0,9,   7.7110,2,    25.00
  06MM20060523, OVIDE,    49,  1,     16,2,20060606,1623, 51.4010, -23.4840, 3266,    797.8,   4.2510,  34.9300,2,  34.9320,2,    267.3,2,    265.2,2,  -999.00,9,  -999.00,9,  -999.00,9,   -999.0,9,   7.7100,2,    25.00
  06MM20060523, OVIDE,    49,  1,     17,2,20060606,1623, 51.4010, -23.4840, 3266,    694.9,   4.7290,  34.9710,2,  34.9700,2,    252.2,2,    253.1,2,  -999.00,9,  -999.00,9,  -999.00,9,   -999.0,9,   7.7070,2,    25.00
  06MM20060523, OVIDE,    49,  1,     18,2,20060606,1623, 51.4010, -23.4840, 3266,    594.8,   5.0220,  34.9740,2,  34.9750,2,    244.8,2,    245.0,2,  -999.00,9,  -999.00,9,  -999.00,9,   -999.0,9,   7.7010,2,    25.00
  06MM20060523, OVIDE,    49,  1,     19,2,20060606,1623, 51.4010, -23.4840, 3266,    494.8,   5.6790,  34.9830,2,  34.9860,2,    229.1,2,    229.9,2,    11.12,2,    19.84,2,     1.03,2,   -999.0,9,   7.6980,2,    25.00
  06MM20060523, OVIDE,    49,  1,     20,2,20060606,1623, 51.4010, -23.4840, 3266,    395.1,   6.3000,  34.9470,2,  34.9470,2,    221.1,2,    219.9,2,    10.90,2,    20.21,2,     1.20,2,   -999.0,9,   7.7060,2,    25.00
  06MM20060523, OVIDE,    49,  1,     21,2,20060606,1623, 51.4010, -23.4840, 3266,    294.8,   7.4920,  34.9980,2,  34.9930,2,    200.6,2,    201.7,2,    10.90,2,    20.37,2,     1.20,2,   -999.0,9,   7.6980,2,    25.00
  06MM20060523, OVIDE,    49,  1,     22,2,20060606,1623, 51.4010, -23.4840, 3266,    255.9,   7.9290,  35.0200,2,  35.0110,3,    199.0,2,    197.7,2,    11.78,2,    20.10,2,     1.16,2,   -999.0,9,   7.7050,2,    25.00
  06MM20060523, OVIDE,    49,  1,     23,2,20060606,1623, 51.4010, -23.4840, 3266,    195.5,   9.0880,  35.0630,2,  35.0620,2,    253.0,2,    232.1,3,     7.43,2,    14.82,2,     0.85,2,   -999.0,9,   7.7720,2,    25.00
  06MM20060523, OVIDE,    49,  1,     24,2,20060606,1623, 51.4010, -23.4840, 3266,     95.3,  10.2460,  35.2120,2,  35.2080,2,    262.3,2,    263.3,2,     4.31,2,    10.61,2,     0.58,2,   -999.0,9,   7.8390,2,    25.00
  06MM20060523, OVIDE,    49,  1,     25,2,20060606,1623, 51.4010, -23.4840, 3266,     45.6,  10.7270,  35.1700,2,  35.1770,3,    275.8,2,    269.3,2,     1.27,2,     6.29,2,     0.47,2,   -999.0,9,   7.8770,2,    25.00
  06MM20060523, OVIDE,    49,  1,     26,2,20060606,1623, 51.4010, -23.4840, 3266,     11.7,  12.6050,  35.0270,2,  35.0320,2,    288.1,2,    294.1,2,     0.97,2,     0.36,2,     0.06,2,   -999.0,9,   7.9810,2,    25.00
  06MM20060523, OVIDE,    50,  1,      3,2,20060606,2137, 51.7730, -23.7780, 3857,   3911.0,   2.6300,  34.9220,2,  34.9240,2,    247.2,2,    247.7,2,    42.19,2,    21.80,2,     1.32,2,   2343.1,2,   7.7310,2,    25.00
  06MM20060523, OVIDE,    50,  1,      4,2,20060606,2137, 51.7730, -23.7780, 3857,   3747.6,   2.6860,  34.9300,2,  34.9310,2,    252.6,2,    251.8,2,    37.79,2,    20.80,2,     1.28,2,   -999.0,9,   7.7290,2,    25.00
  06MM20060523, OVIDE,    50,  1,      5,2,20060606,2137, 51.7730, -23.7780, 3857,   3499.1,   2.7320,  34.9360,2,  34.9390,2,    255.7,2,    255.9,2,    33.65,2,    19.96,2,     1.08,3,   2331.2,2,   7.7270,2,    25.00
  06MM20060523, OVIDE,    50,  1,      6,2,20060606,2137, 51.7730, -23.7780, 3857,   3246.9,   2.8270,  34.9440,2,  34.9460,2,    263.4,2,    263.2,2,    26.53,2,    18.85,2,     1.15,2,   -999.0,9,   7.7290,2,    25.00
  06MM20060523, OVIDE,    50,  1,      7,2,20060606,2137, 51.7730, -23.7780, 3857,   2996.9,   2.9000,  34.9440,2,  34.9470,2,    267.1,2,    268.0,2,    19.30,2,    18.13,2,     1.12,2,   2315.1,2,   7.7280,2,    25.00
  06MM20060523, OVIDE,    50,  1,      8,2,20060606,2137, 51.7730, -23.7780, 3857,   2747.5,   2.9970,  34.9380,2,  34.9410,2,    272.3,2,    271.1,2,    16.65,2,    17.85,2,     1.11,2,   -999.0,9,   7.7300,2,    25.00
  06MM20060523, OVIDE,    50,  1,      9,2,20060606,2137, 51.7730, -23.7780, 3857,   2496.9,   3.0790,  34.9240,2,  34.9290,2,    275.1,2,    275.6,2,    14.13,2,    17.35,2,     1.01,2,   2305.9,2,   7.7290,2,    25.00
  06MM20060523, OVIDE,    50,  1,     10,2,20060606,2137, 51.7730, -23.7780, 3857,   2246.7,   3.1670,  34.9070,2,  34.9140,2,    278.2,2,    279.5,2,    12.63,2,    17.63,2,     1.07,2,   -999.0,9,   7.7280,2,    25.00
  06MM20060523, OVIDE,    50,  1,     11,2,20060606,2137, 51.7730, -23.7780, 3857,   1996.7,   3.2470,  34.8960,2,  34.9010,2,    280.9,2,    280.7,2,    11.57,2,    17.74,2,     1.05,2,   2302.1,2,   7.7250,2,    25.00
  06MM20060523, OVIDE,    50,  1,     12,2,20060606,2137, 51.7730, -23.7780, 3857,   1795.1,   3.3540,  34.8960,2,  34.9000,2,    280.7,2,    279.6,2,    11.30,2,    17.85,2,     1.11,2,   -999.0,9,   7.7240,2,    25.00
  06MM20060523, OVIDE,    50,  1,     13,2,20060606,2137, 51.7730, -23.7780, 3857,   1594.9,   3.5010,  34.9020,2,  34.9030,2,    277.0,2,    277.1,2,    11.08,2,    17.96,2,     1.05,2,   2301.2,2,   7.7200,2,    25.00
  06MM20060523, OVIDE,    50,  1,     14,2,20060606,2137, 51.7730, -23.7780, 3857,   1595.6,   3.5070,  34.9000,2,  34.9040,2,    277.0,2,    277.4,2,    11.00,2,    17.91,2,     1.10,2,   2300.0,2,   7.7190,2,    25.00
  06MM20060523, OVIDE,    50,  1,     15,2,20060606,2137, 51.7730, -23.7780, 3857,   1395.4,   3.6250,  34.8980,2,  34.9020,2,    278.3,2,    277.1,2,    10.60,2,    18.07,2,     1.11,2,   2301.3,2,   7.7190,2,    25.00
  06MM20060523, OVIDE,    50,  1,     16,2,20060606,2137, 51.7730, -23.7780, 3857,   1196.4,   3.8230,  34.9130,2,  34.9150,2,    272.9,2,    272.5,2,    10.51,2,    18.02,2,     1.05,2,   -999.0,9,   7.7170,2,    25.00
  06MM20060523, OVIDE,    50,  1,     17,2,20060606,2137, 51.7730, -23.7780, 3857,    995.1,   4.1080,  34.9290,2,  34.9310,2,    267.9,2,    266.9,2,    10.38,2,    18.13,2,     1.12,2,   2302.8,2,   7.7130,2,    25.00
  06MM20060523, OVIDE,    50,  1,     18,2,20060606,2137, 51.7730, -23.7780, 3857,    895.9,   4.7580,  35.0130,2,  35.0110,2,    252.4,2,    252.4,2,    10.77,2,    18.74,2,     1.14,2,   -999.0,9,   7.7150,2,    25.00
  06MM20060523, OVIDE,    50,  1,     19,2,20060606,2137, 51.7730, -23.7780, 3857,    798.1,   4.9290,  35.0080,2,  35.0090,2,    245.9,2,    248.4,2,    10.69,2,    18.79,2,     1.07,2,   2307.0,2,   7.7110,2,    25.00
  06MM20060523, OVIDE,    50,  1,     20,2,20060606,2137, 51.7730, -23.7780, 3857,    695.8,   5.1840,  34.9920,2,  34.9940,2,    245.5,2,    242.7,2,    10.69,2,    19.13,2,     1.15,2,   -999.0,9,   7.7060,2,    25.00
  06MM20060523, OVIDE,    50,  1,     21,2,20060606,2137, 51.7730, -23.7780, 3857,    595.1,   5.6990,  35.0100,2,  35.0100,2,    226.4,2,    231.2,2,    10.82,2,    19.52,2,     1.22,2,   2307.3,2,   7.7030,2,    25.00
  06MM20060523, OVIDE,    50,  1,     22,2,20060606,2137, 51.7730, -23.7780, 3857,    447.2,   6.7660,  34.9710,2,  34.9720,2,    207.5,2,    210.0,2,    10.82,2,    20.30,2,     1.23,2,   -999.0,9,   7.6950,2,    25.00
  06MM20060523, OVIDE,    50,  1,     23,2,20060606,2137, 51.7730, -23.7780, 3857,    354.9,   8.1140,  35.0570,2,  35.0560,2,    196.0,2,    192.3,2,    10.42,2,    20.29,2,     1.15,2,   2308.7,2,   7.7080,2,    25.00
  06MM20060523, OVIDE,    50,  1,     24,2,20060606,2137, 51.7730, -23.7780, 3857,    293.6,   9.0000,  35.0830,2,  35.0800,2,    208.4,2,    206.3,2,     8.57,2,    17.74,2,     1.04,2,   -999.0,9,   7.7410,2,    25.00
  06MM20060523, OVIDE,    50,  1,     25,2,20060606,2137, 51.7730, -23.7780, 3857,    197.3,  10.2630,  35.2430,2,  35.2400,2,    257.3,2,    254.8,2,     4.15,2,    11.23,2,     0.72,2,   2318.4,2,   7.8310,2,    25.00
  06MM20060523, OVIDE,    50,  1,     26,2,20060606,2137, 51.7730, -23.7780, 3857,    145.7,  10.4940,  35.2750,2,  35.2730,2,    250.8,2,    258.2,2,     3.44,2,    10.34,2,     0.52,2,   -999.0,9,   7.8410,2,    25.00
  06MM20060523, OVIDE,    50,  1,     27,2,20060606,2137, 51.7730, -23.7780, 3857,     96.4,  11.0940,  35.3650,2,  35.3560,3,    262.3,2,    254.7,2,     3.44,2,    10.12,2,     0.57,2,   2324.7,2,   7.8500,2,    25.00
  06MM20060523, OVIDE,    50,  1,     28,2,20060606,2137, 51.7730, -23.7780, 3857,     48.8,  11.2190,  35.2940,2,  35.2920,2,    267.8,2,    266.5,2,     0.88,2,     6.56,2,     0.50,2,   -999.0,9,   7.8820,2,    25.00
  06MM20060523, OVIDE,    50,  1,     29,2,20060606,2137, 51.7730, -23.7780, 3857,      6.4,  12.5450,  35.2060,2,  35.2110,2,    271.2,2,    276.1,2,     0.71,2,     3.61,2,     0.33,2,   2323.9,2,   7.9250,2,    25.00