BOTTLE,20140930PRINUNIVRMK
EXPOCODE,SECT_ID,STNNBR,CASTNO,BTLNBR,BTLNBR_FLAG_W,DATE,TIME,LATITUDE,LONGITUDE,DEPTH,CTDPRS,CTDTMP,CTDSAL,CTDSAL_FLAG_W,SALNTY,SALNTY_FLAG_W,CTDOXY,CTDOXY_FLAG_W,OXYGEN,OXYGEN_FLAG_W,SILCAT,SILCAT_FLAG_W,NITRAT,NITRAT_FLAG_W,PHSPHT,PHSPHT_FLAG_W,ALKALI,ALKALI_FLAG_W,PH_SWS,PH_SWS_FLAG_W,PH_TMP
,,,,,,,,,,METERS,DBAR,ITS-90,PSS-78,,PSS-78,,UMOL/KG,,UMOL/KG,,UMOL/KG,,UMOL/KG,,UMOL/KG,,UMOL/KG,,,,DEG C
  06MM20060523, OVIDE,    69,  1,      3,2,20060610,0241, 57.3750, -28.1730, 2618,   2641.3,   2.7880,  34.9810,2,  34.9790,2,    271.7,2,    271.6,2,    16.25,2,    16.93,2,     1.08,2,   -999.0,9,   7.7190,2,    25.00
  06MM20060523, OVIDE,    69,  1,      4,2,20060610,0241, 57.3750, -28.1730, 2618,   2641.4,   2.7880,  34.9810,2,  34.9790,2,    271.7,2,    273.1,2,    16.29,2,    16.93,2,     1.05,2,   -999.0,9,   7.7170,2,    25.00
  06MM20060523, OVIDE,    69,  1,      5,2,20060610,0241, 57.3750, -28.1730, 2618,   2597.7,   2.7940,  34.9790,2,  34.9790,2,    272.5,2,    272.6,2,    16.25,2,    17.12,2,     1.03,2,   -999.0,9,   7.7170,2,    25.00
  06MM20060523, OVIDE,    69,  1,      6,2,20060610,0241, 57.3750, -28.1730, 2618,   2545.9,   2.8160,  34.9800,2,  34.9780,2,    272.1,2,    272.9,2,    15.86,2,    17.03,2,     1.03,2,   -999.0,9,   7.7200,2,    25.00
  06MM20060523, OVIDE,    69,  1,      7,2,20060610,0241, 57.3750, -28.1730, 2618,   2495.1,   2.8230,  34.9760,2,  34.9750,2,    271.5,2,    272.6,2,    16.42,2,    17.17,2,     1.11,2,   -999.0,9,   7.7200,2,    25.00
  06MM20060523, OVIDE,    69,  1,      8,2,20060610,0241, 57.3750, -28.1730, 2618,   2244.3,   3.1590,  34.9790,2,  34.9790,2,    275.8,2,    277.0,2,    12.28,2,    16.65,2,     1.00,2,   -999.0,9,   7.7250,2,    25.00
  06MM20060523, OVIDE,    69,  1,      9,2,20060610,0241, 57.3750, -28.1730, 2618,   1995.3,   3.2990,  34.9260,2,  34.9260,2,    279.3,2,    280.7,2,    11.59,2,    17.32,2,     1.06,2,   -999.0,9,   7.7260,2,    25.00
  06MM20060523, OVIDE,    69,  1,     10,2,20060610,0241, 57.3750, -28.1730, 2618,   1795.7,   3.3920,  34.9110,2,  34.9110,2,    278.7,2,    279.4,2,    11.24,2,    17.60,2,     1.08,2,   -999.0,9,   7.7220,2,    25.00
  06MM20060523, OVIDE,    69,  1,     11,2,20060610,0241, 57.3750, -28.1730, 2618,   1595.9,   3.5560,  34.9120,2,  34.9110,2,    276.0,2,    276.8,2,    11.28,2,    17.65,2,     1.11,2,   -999.0,9,   7.7190,2,    25.00
  06MM20060523, OVIDE,    69,  1,     12,2,20060610,0241, 57.3750, -28.1730, 2618,   1394.5,   3.7070,  34.9100,2,  34.9090,2,    276.3,2,    274.9,2,    10.94,2,    17.89,2,     1.11,2,   -999.0,9,   7.7170,2,    25.00
  06MM20060523, OVIDE,    69,  1,     13,2,20060610,0241, 57.3750, -28.1730, 2618,   1193.9,   3.9300,  34.9150,2,  34.9120,2,    271.5,2,    271.1,2,    10.63,2,    17.94,2,     1.10,2,   -999.0,9,   7.7100,2,    25.00
  06MM20060523, OVIDE,    69,  1,     14,2,20060610,0241, 57.3750, -28.1730, 2618,    995.2,   4.5110,  34.9600,2,  34.9610,2,    256.1,2,    255.4,2,    11.07,2,    18.56,2,     1.13,2,   -999.0,9,   7.7030,2,    25.00
  06MM20060523, OVIDE,    69,  1,     15,2,20060610,0241, 57.3750, -28.1730, 2618,    893.8,   4.9420,  34.9870,2,  34.9870,2,    245.0,2,    246.0,2,    11.06,2,    18.85,2,     1.16,2,   -999.0,9,   7.7000,2,    25.00
  06MM20060523, OVIDE,    69,  1,     16,2,20060610,0241, 57.3750, -28.1730, 2618,    795.8,   5.4430,  35.0180,2,  35.0170,2,    236.2,2,    237.8,2,    11.20,2,    19.13,2,     1.23,2,   -999.0,9,   7.7010,2,    25.00
  06MM20060523, OVIDE,    69,  1,     17,2,20060610,0241, 57.3750, -28.1730, 2618,    725.1,   5.9870,  35.0510,2,  35.0480,2,    230.5,2,    231.9,2,    10.93,2,    18.99,2,     1.23,2,   -999.0,9,   7.7030,2,    25.00
  06MM20060523, OVIDE,    69,  1,     18,2,20060610,0241, 57.3750, -28.1730, 2618,    635.2,   6.7290,  35.0810,2,  35.0820,2,    229.8,2,    232.1,2,    10.32,2,    18.42,2,     1.16,2,   -999.0,9,   7.7150,2,    25.00
  06MM20060523, OVIDE,    69,  1,     19,2,20060610,0241, 57.3750, -28.1730, 2618,    494.5,   7.7540,  35.1760,2,  35.1730,2,    262.1,2,    261.4,2,     7.32,2,    15.16,2,     0.91,2,   -999.0,9,   7.7690,2,    25.00
  06MM20060523, OVIDE,    69,  1,     20,2,20060610,0241, 57.3750, -28.1730, 2618,    393.9,   8.0310,  35.1700,2,  35.1640,3,    262.6,2,    261.3,2,     6.62,2,    14.68,2,     0.94,2,   -999.0,9,   7.7770,2,    25.00
  06MM20060523, OVIDE,    69,  1,     21,2,20060610,0241, 57.3750, -28.1730, 2618,    294.9,   8.3570,  35.1560,2,  35.1550,2,    252.7,2,    260.9,3,     5.92,2,    13.97,2,     0.75,2,   -999.0,9,   7.7840,2,    25.00
  06MM20060523, OVIDE,    69,  1,     22,2,20060610,0241, 57.3750, -28.1730, 2618,    244.3,   8.4430,  35.1270,2,  35.1250,2,    246.0,2,    249.9,2,     6.80,2,    14.64,2,     0.88,2,   -999.0,9,   7.7710,2,    25.00
  06MM20060523, OVIDE,    69,  1,     23,2,20060610,0241, 57.3750, -28.1730, 2618,    146.1,   8.7540,  35.1160,2,  35.1170,2,    274.9,2,    264.3,3,     4.92,2,    12.44,2,     0.77,2,   -999.0,9,   7.7970,2,    25.00
  06MM20060523, OVIDE,    69,  1,     24,2,20060610,0241, 57.3750, -28.1730, 2618,     95.5,   8.8450,  35.1060,2,  35.1160,3,    267.4,2,    265.5,2,     4.44,2,    11.67,2,     0.75,2,   -999.0,9,   7.8050,2,    25.00
  06MM20060523, OVIDE,    69,  1,     25,2,20060610,0241, 57.3750, -28.1730, 2618,     46.2,   9.5990,  35.0950,2,  35.1100,3,    281.4,2,    279.5,2,     1.74,2,     7.99,2,     0.44,2,   -999.0,9,   7.8450,2,    25.00
  06MM20060523, OVIDE,    69,  1,     26,2,20060610,0241, 57.3750, -28.1730, 2618,      5.9,  10.0910,  35.0750,2,  35.0770,2,    287.0,2,    290.6,2,     1.04,2,     5.79,2,     0.38,2,   -999.0,9,   7.8780,2,    25.00
  06MM20060523, OVIDE,    70,  1,      3,2,20060610,0814, 57.6740, -28.7250, 2462,   2481.4,   2.8910,  34.9890,2,  34.9790,3,    272.8,2,    274.8,2,    13.50,2,    16.58,2,     0.91,2,   2307.0,2,   7.7210,2,    25.00
  06MM20060523, OVIDE,    70,  1,      4,2,20060610,0814, 57.6740, -28.7250, 2462,   2481.5,   2.8910,  34.9890,2,  35.0000,3,    272.8,2,    274.9,2,    13.59,2,    16.54,2,     0.90,2,   2306.3,2,   7.7180,2,    25.00
  06MM20060523, OVIDE,    70,  1,      5,2,20060610,0814, 57.6740, -28.7250, 2462,   2432.1,   2.8970,  34.9900,2,  34.9900,2,    273.9,2,    275.1,2,    13.29,2,    16.54,2,     0.97,2,   2307.1,2,   7.7200,2,    25.00
  06MM20060523, OVIDE,    70,  1,      6,2,20060610,0814, 57.6740, -28.7250, 2462,   2379.6,   2.9170,  34.9900,2,  34.9910,2,    274.5,2,    275.5,2,    12.98,2,    16.54,2,     0.97,2,   2310.9,2,   7.7200,2,    25.00
  06MM20060523, OVIDE,    70,  1,      7,2,20060610,0814, 57.6740, -28.7250, 2462,   2282.0,   2.9870,  34.9880,2,  34.9890,2,    274.5,2,    275.3,2,    12.68,2,    16.54,2,     0.95,2,   2308.4,2,   7.7210,2,    25.00
  06MM20060523, OVIDE,    70,  1,      8,2,20060610,0814, 57.6740, -28.7250, 2462,   1995.6,   3.3060,  34.9620,2,  34.9600,2,    276.4,2,    277.0,2,    11.54,2,    16.87,2,     0.91,2,   2304.2,2,   7.7250,2,    25.00
  06MM20060523, OVIDE,    70,  1,      9,2,20060610,0814, 57.6740, -28.7250, 2462,   1797.2,   3.5090,  34.9430,2,  34.9420,2,    277.4,2,    277.8,2,    10.85,2,    17.11,2,     1.00,2,   2302.7,2,   7.7240,2,    25.00
  06MM20060523, OVIDE,    70,  1,     10,2,20060610,0814, 57.6740, -28.7250, 2462,   1577.2,   3.6080,  34.9080,2,  34.9080,2,    275.3,2,    275.5,2,    11.07,2,    17.88,2,     1.06,2,   2300.3,2,   7.7180,2,    25.00
  06MM20060523, OVIDE,    70,  1,     11,2,20060610,0814, 57.6740, -28.7250, 2462,   1396.4,   3.7930,  34.9120,2,  34.9120,2,    273.3,2,    273.4,2,    10.80,2,    17.98,2,     0.91,2,   2301.6,2,   7.7170,2,    25.00
  06MM20060523, OVIDE,    70,  1,     12,2,20060610,0814, 57.6740, -28.7250, 2462,   1195.2,   3.9990,  34.9170,2,  34.9170,2,    266.2,2,    268.6,2,    10.59,2,    18.17,2,     1.01,2,   2299.7,2,   7.7120,2,    25.00
  06MM20060523, OVIDE,    70,  1,     13,2,20060610,0814, 57.6740, -28.7250, 2462,    995.2,   4.8030,  34.9840,2,  34.9880,2,    246.8,2,    248.1,2,    11.02,2,    18.80,2,     1.06,2,   2306.1,2,   7.7070,2,    25.00
  06MM20060523, OVIDE,    70,  1,     14,2,20060610,0814, 57.6740, -28.7250, 2462,    896.1,   5.4020,  35.0340,2,  35.0340,2,    232.6,2,    237.2,2,    11.24,2,    19.23,2,     1.09,2,   -999.0,9,   7.7060,2,    25.00
  06MM20060523, OVIDE,    70,  1,     15,2,20060610,0814, 57.6740, -28.7250, 2462,    796.6,   6.0820,  35.0630,2,  35.0600,2,    229.2,2,    228.3,2,    11.02,2,    19.27,2,     0.95,2,   2310.7,2,   7.7090,2,    25.00
  06MM20060523, OVIDE,    70,  1,     16,2,20060610,0814, 57.6740, -28.7250, 2462,    695.0,   6.9750,  35.0980,2,  35.0990,2,    226.8,2,    228.2,2,    10.11,2,    18.51,2,     1.04,2,   2311.6,2,   7.7230,2,    25.00
  06MM20060523, OVIDE,    70,  1,     17,2,20060610,0814, 57.6740, -28.7250, 2462,    596.3,   7.7730,  35.1660,2,  35.1660,2,    261.7,2,    256.8,2,     7.40,2,    15.48,2,     0.85,2,   2315.0,2,   7.7670,2,    25.00
  06MM20060523, OVIDE,    70,  1,     18,2,20060610,0814, 57.6740, -28.7250, 2462,    516.9,   7.7600,  35.1140,2,  35.1280,3,    257.2,2,    258.5,2,     6.97,2,    15.00,2,     0.86,2,   2311.6,2,   7.7720,2,    25.00
  06MM20060523, OVIDE,    70,  1,     19,2,20060610,0814, 57.6740, -28.7250, 2462,    446.8,   7.6390,  35.0610,2,  35.0590,2,    270.8,2,    274.5,2,     6.36,2,    13.94,2,     0.76,2,   2310.2,2,   7.7810,2,    25.00
  06MM20060523, OVIDE,    70,  1,     20,2,20060610,0814, 57.6740, -28.7250, 2462,    294.2,   8.6410,  35.1440,2,  35.1440,2,    265.1,2,    265.7,2,     5.75,2,    13.07,2,     0.76,2,   -999.0,9,   7.7980,2,    25.00
  06MM20060523, OVIDE,    70,  1,     21,2,20060610,0814, 57.6740, -28.7250, 2462,    197.6,   8.8240,  35.1610,2,  35.1630,2,    270.7,2,    269.7,2,     5.27,2,    12.35,2,     0.73,2,   2315.6,2,   7.8070,2,    25.00
  06MM20060523, OVIDE,    70,  1,     22,2,20060610,0814, 57.6740, -28.7250, 2462,    147.2,   8.7990,  35.1450,2,  35.1470,2,    268.6,2,    267.1,2,     4.75,2,    12.30,2,     0.72,2,   -999.0,9,   7.8040,2,    25.00
  06MM20060523, OVIDE,    70,  1,     23,2,20060610,0814, 57.6740, -28.7250, 2462,     97.6,   9.0080,  35.1420,2,  35.1430,2,    261.9,2,    263.9,2,     4.22,2,    11.87,2,     0.72,2,   2316.0,2,   7.8090,2,    25.00
  06MM20060523, OVIDE,    70,  1,     24,2,20060610,0814, 57.6740, -28.7250, 2462,     47.2,  10.0610,  35.1500,2,  35.1500,2,    281.3,2,    284.7,2,     0.87,2,     6.44,2,     0.39,2,   -999.0,9,   7.8810,2,    25.00
  06MM20060523, OVIDE,    70,  1,     25,2,20060610,0814, 57.6740, -28.7250, 2462,     14.6,  10.1130,  35.1400,2,  35.1460,3,    279.7,2,    286.8,3,     0.83,2,     6.20,2,     0.39,2,   2315.8,2,   7.8870,2,    25.00
  06MM20060523, OVIDE,    71,  1,      3,2,20060611,1456, 57.9700, -29.2770, 2137,   2151.2,   2.9970,  34.9820,2,  34.9860,2,    275.0,2,    276.0,2,    12.86,2,    16.37,2,     0.85,2,   -999.0,9,   7.7210,2,    25.00
  06MM20060523, OVIDE,    71,  1,      4,2,20060611,1456, 57.9700, -29.2770, 2137,   2095.9,   3.0600,  34.9800,2,  34.9820,2,    275.7,2,    276.8,2,    12.56,2,    16.37,2,     0.88,2,   -999.0,9,   7.7240,2,    25.00
  06MM20060523, OVIDE,    71,  1,      5,2,20060611,1456, 57.9700, -29.2770, 2137,   2044.9,   3.1530,  34.9710,2,  34.9730,2,    276.0,2,    277.8,2,    12.34,2,    16.42,2,     0.92,2,   -999.0,9,   7.7250,2,    25.00
  06MM20060523, OVIDE,    71,  1,      6,2,20060611,1456, 57.9700, -29.2770, 2137,   2044.7,   3.1530,  34.9710,2,  34.9740,2,    276.0,2,    276.7,2,    12.34,2,    16.42,2,     0.91,2,   -999.0,9,   7.7250,2,    25.00
  06MM20060523, OVIDE,    71,  1,      7,2,20060611,1456, 57.9700, -29.2770, 2137,   1995.0,   3.2340,  34.9650,2,  34.9670,2,    277.0,2,    277.7,2,    11.95,2,    16.56,2,     1.00,2,   -999.0,9,   7.7250,2,    25.00
  06MM20060523, OVIDE,    71,  1,      8,2,20060611,1456, 57.9700, -29.2770, 2137,   1796.9,   3.3280,  34.9150,2,  34.9160,2,    280.3,2,    280.1,2,    11.42,2,    17.17,2,     1.00,2,   -999.0,9,   7.7220,2,    25.00
  06MM20060523, OVIDE,    71,  1,      9,2,20060611,1456, 57.9700, -29.2770, 2137,   1596.9,   3.4500,  34.9060,2,  34.9070,2,    277.4,2,    278.3,2,    11.38,2,    17.45,2,     1.00,2,   -999.0,9,   7.7220,2,    25.00
  06MM20060523, OVIDE,    71,  1,     10,2,20060611,1456, 57.9700, -29.2770, 2137,   1394.3,   3.6380,  34.9050,2,  34.9070,2,    275.1,2,    275.6,2,    11.12,2,    17.55,2,     1.03,2,   -999.0,9,   7.7160,2,    25.00
  06MM20060523, OVIDE,    71,  1,     11,2,20060611,1456, 57.9700, -29.2770, 2137,   1193.6,   3.8530,  34.9130,2,  34.9150,2,    272.6,2,    272.2,2,    10.90,2,    17.74,2,     1.03,2,   -999.0,9,   7.7140,2,    25.00
  06MM20060523, OVIDE,    71,  1,     12,2,20060611,1456, 57.9700, -29.2770, 2137,    994.6,   4.1920,  34.9260,2,  34.9250,2,    264.6,2,    264.2,2,    10.81,2,    18.06,2,     1.07,2,   -999.0,9,   7.7080,2,    25.00
  06MM20060523, OVIDE,    71,  1,     13,2,20060611,1456, 57.9700, -29.2770, 2137,    895.2,   4.5390,  34.9530,2,  34.9550,2,    254.8,2,    255.1,2,    10.98,2,    18.39,2,     1.06,2,   -999.0,9,   7.7050,2,    25.00
  06MM20060523, OVIDE,    71,  1,     14,2,20060611,1456, 57.9700, -29.2770, 2137,    794.8,   5.0330,  34.9930,2,  34.9880,2,    242.1,2,    245.1,2,    11.12,2,    18.72,2,     0.98,2,   -999.0,9,   7.7030,2,    25.00
  06MM20060523, OVIDE,    71,  1,     15,2,20060611,1456, 57.9700, -29.2770, 2137,    695.0,   5.7490,  35.0250,2,  35.0250,2,    228.6,2,    232.7,2,    11.16,2,    18.95,2,     1.09,2,   -999.0,9,   7.7030,2,    25.00
  06MM20060523, OVIDE,    71,  1,     16,2,20060611,1456, 57.9700, -29.2770, 2137,    595.7,   6.7170,  35.0970,2,  35.0970,2,    243.6,2,    243.1,2,     9.80,2,    17.17,2,     0.92,2,   -999.0,9,   7.7320,2,    25.00
  06MM20060523, OVIDE,    71,  1,     17,2,20060611,1456, 57.9700, -29.2770, 2137,    494.3,   7.1140,  35.0750,2,  35.0850,3,    226.2,2,    236.7,3,     9.41,2,    17.50,2,     1.01,2,   -999.0,9,   7.7320,2,    25.00
  06MM20060523, OVIDE,    71,  1,     18,2,20060611,1456, 57.9700, -29.2770, 2137,    394.2,   7.9980,  35.1580,2,  35.1560,2,    257.6,2,    254.7,2,     7.13,2,    14.96,2,     0.85,2,   -999.0,9,   7.7710,2,    25.00
  06MM20060523, OVIDE,    71,  1,     19,2,20060611,1456, 57.9700, -29.2770, 2137,    294.7,   8.3020,  35.1540,2,  35.1520,2,    261.8,2,    262.6,2,     5.95,2,    13.84,2,     0.78,2,   -999.0,9,   7.7860,2,    25.00
  06MM20060523, OVIDE,    71,  1,     20,2,20060611,1456, 57.9700, -29.2770, 2137,    195.9,   8.6580,  35.1370,2,  35.1360,2,    264.8,2,    257.6,3,     6.08,2,    13.51,2,     0.82,2,   -999.0,9,   7.7880,2,    25.00
  06MM20060523, OVIDE,    71,  1,     21,2,20060611,1456, 57.9700, -29.2770, 2137,    145.5,   8.7980,  35.1300,2,  35.1300,2,    261.8,2,    265.0,2,     4.81,2,    12.34,2,     0.76,2,   -999.0,9,   7.8010,2,    25.00
  06MM20060523, OVIDE,    71,  1,     22,2,20060611,1456, 57.9700, -29.2770, 2137,     96.0,   9.1150,  35.1500,2,  35.1520,2,    264.7,2,    263.4,2,     4.11,2,    11.54,2,     0.71,2,   -999.0,9,   7.8090,2,    25.00
  06MM20060523, OVIDE,    71,  1,     23,2,20060611,1456, 57.9700, -29.2770, 2137,     45.7,  10.0090,  35.1240,2,  35.1360,3,    286.7,2,    280.9,3,     1.01,2,     6.76,2,     0.47,2,   -999.0,9,   7.8710,2,    25.00
  06MM20060523, OVIDE,    71,  1,     24,2,20060611,1456, 57.9700, -29.2770, 2137,      7.1,  10.0610,  35.1050,2,  35.1050,2,    278.6,2,    287.4,3,     0.96,2,     5.77,2,     0.31,2,   -999.0,9,   7.8840,2,    25.00