BOTTLE,20140930PRINUNIVRMK
EXPOCODE,SECT_ID,STNNBR,CASTNO,BTLNBR,BTLNBR_FLAG_W,DATE,TIME,LATITUDE,LONGITUDE,DEPTH,CTDPRS,CTDTMP,CTDSAL,CTDSAL_FLAG_W,SALNTY,SALNTY_FLAG_W,CTDOXY,CTDOXY_FLAG_W,OXYGEN,OXYGEN_FLAG_W,SILCAT,SILCAT_FLAG_W,NITRAT,NITRAT_FLAG_W,PHSPHT,PHSPHT_FLAG_W,ALKALI,ALKALI_FLAG_W,PH_SWS,PH_SWS_FLAG_W,PH_TMP
,,,,,,,,,,METERS,DBAR,ITS-90,PSS-78,,PSS-78,,UMOL/KG,,UMOL/KG,,UMOL/KG,,UMOL/KG,,UMOL/KG,,UMOL/KG,,,,DEG C
  06MM20060523, OVIDE,    72,  1,      3,2,20060611,1959, 58.2070, -29.7230, 2225,   2239.4,   3.0120,  34.9870,2,  34.9880,2,    276.6,2,    275.4,2,    12.63,2,    16.50,2,     1.03,2,   2306.9,2,   7.7230,2,    25.00
  06MM20060523, OVIDE,    72,  1,      4,2,20060611,1959, 58.2070, -29.7230, 2225,   2192.5,   3.0660,  34.9840,2,  34.9850,2,    276.5,2,    275.6,2,    12.28,2,    16.45,2,     1.03,2,   2306.7,2,   7.7220,2,    25.00
  06MM20060523, OVIDE,    72,  1,      5,2,20060611,1959, 58.2070, -29.7230, 2225,   2138.6,   3.1290,  34.9850,2,  34.9860,2,    276.5,2,    276.0,2,    11.85,2,    16.41,2,     1.06,2,   -999.0,9,   7.7250,2,    25.00
  06MM20060523, OVIDE,    72,  1,      6,2,20060611,1959, 58.2070, -29.7230, 2225,   2039.1,   3.2330,  34.9800,2,  34.9820,2,    276.4,2,    276.0,2,    11.37,2,    16.41,2,     1.05,2,   2306.9,2,   7.7260,2,    25.00
  06MM20060523, OVIDE,    72,  1,      7,2,20060611,1959, 58.2070, -29.7230, 2225,   1795.6,   3.3570,  34.9240,2,  34.9250,2,    280.5,2,    279.7,2,    11.28,2,    17.22,2,     1.09,2,   -999.0,9,   7.7270,2,    25.00
  06MM20060523, OVIDE,    72,  1,      8,2,20060611,1959, 58.2070, -29.7230, 2225,   1795.7,   3.3560,  34.9240,2,  34.9250,2,    280.5,2,    279.3,2,    11.28,2,    16.98,2,     1.01,2,   2304.8,2,   7.7280,2,    25.00
  06MM20060523, OVIDE,    72,  1,      9,2,20060611,1959, 58.2070, -29.7230, 2225,   1597.9,   3.4720,  34.9100,2,  34.9120,2,    277.7,2,    277.5,2,    11.24,2,    17.70,2,     1.12,2,   2301.7,2,   7.7230,2,    25.00
  06MM20060523, OVIDE,    72,  1,     10,2,20060611,1959, 58.2070, -29.7230, 2225,   1396.4,   3.6440,  34.9100,2,  34.9120,2,    275.7,2,    273.9,2,    11.11,2,    17.89,2,     1.05,2,   2300.1,2,   7.7200,2,    25.00
  06MM20060523, OVIDE,    72,  1,     11,2,20060611,1959, 58.2070, -29.7230, 2225,   1196.1,   3.8220,  34.9130,2,  34.9140,2,    273.4,2,    271.8,2,    10.76,2,    17.84,2,     1.06,2,   2299.0,2,   7.7160,2,    25.00
  06MM20060523, OVIDE,    72,  1,     12,2,20060611,1959, 58.2070, -29.7230, 2225,    996.0,   4.1670,  34.9300,2,  34.9350,2,    264.6,2,    263.3,2,    10.85,2,    18.27,2,     1.09,2,   2302.0,2,   7.7070,2,    25.00
  06MM20060523, OVIDE,    72,  1,     13,2,20060611,1959, 58.2070, -29.7230, 2225,    895.3,   4.4700,  34.9510,2,  34.9520,2,    256.5,2,    256.5,2,    10.89,2,    18.56,2,     1.15,2,   -999.0,9,   7.7080,2,    25.00
  06MM20060523, OVIDE,    72,  1,     14,2,20060611,1959, 58.2070, -29.7230, 2225,    797.0,   4.8850,  34.9810,2,  34.9850,2,    244.6,2,    246.2,2,    11.02,2,    18.75,2,     1.21,2,   2306.0,2,   7.7060,2,    25.00
  06MM20060523, OVIDE,    72,  1,     15,2,20060611,1959, 58.2070, -29.7230, 2225,    695.9,   5.6520,  35.0360,2,  35.0390,2,    232.9,2,    232.6,2,    11.06,2,    18.94,2,     1.08,2,   -999.0,9,   7.7050,2,    25.00
  06MM20060523, OVIDE,    72,  1,     16,2,20060611,1959, 58.2070, -29.7230, 2225,    595.9,   6.1650,  35.0590,2,  35.0550,2,    228.6,2,    228.8,2,    10.85,2,    19.13,2,     1.17,2,   2308.9,2,   7.7100,2,    25.00
  06MM20060523, OVIDE,    72,  1,     17,2,20060611,1959, 58.2070, -29.7230, 2225,    536.9,   6.4660,  35.0310,2,  35.0330,2,    225.1,2,    226.5,2,    10.46,2,    18.89,2,     1.15,2,   2307.7,2,   7.7100,2,    25.00
  06MM20060523, OVIDE,    72,  1,     18,2,20060611,1959, 58.2070, -29.7230, 2225,    396.6,   7.5620,  35.1090,2,  35.1120,2,    255.6,2,    255.8,2,     7.28,2,    15.59,2,     0.97,2,   2310.9,2,   7.7640,2,    25.00
  06MM20060523, OVIDE,    72,  1,     19,2,20060611,1959, 58.2070, -29.7230, 2225,    335.9,   7.7950,  35.0940,2,  35.0950,2,    224.1,2,    224.9,2,     9.02,2,    17.70,2,     0.98,2,   -999.0,9,   7.7350,2,    25.00
  06MM20060523, OVIDE,    72,  1,     20,2,20060611,1959, 58.2070, -29.7230, 2225,    196.6,   8.7040,  35.1230,2,  35.1280,2,    259.6,2,    258.0,2,     5.66,2,    13.34,2,     0.82,2,   2312.5,2,   7.7920,2,    25.00
  06MM20060523, OVIDE,    72,  1,     21,2,20060611,1959, 58.2070, -29.7230, 2225,    147.7,   8.6030,  35.0770,2,  35.0740,2,    268.6,2,    268.0,2,     4.31,2,    12.20,2,     0.80,2,   -999.0,9,   7.8010,2,    25.00
  06MM20060523, OVIDE,    72,  1,     22,2,20060611,1959, 58.2070, -29.7230, 2225,     95.4,   8.8690,  35.0920,2,  35.0900,2,    265.7,2,    266.3,2,     3.83,2,    11.48,2,     0.78,2,   2311.8,2,   7.8020,2,    25.00
  06MM20060523, OVIDE,    72,  1,     23,2,20060611,1959, 58.2070, -29.7230, 2225,     46.7,  10.0200,  35.0610,2,  35.0640,2,    285.8,2,    284.4,2,     0.74,2,     5.79,2,     0.43,2,   -999.0,9,   7.8770,2,    25.00
  06MM20060523, OVIDE,    72,  1,     24,2,20060611,1959, 58.2070, -29.7230, 2225,     13.2,  10.0450,  35.0560,2,  35.0570,2,    281.5,2,    285.6,2,     0.74,2,     5.50,2,     0.37,2,   2309.7,2,   7.8810,2,    25.00
  06MM20060523, OVIDE,    73,  1,      3,2,20060611,0026, 58.4090, -30.1020, 2183,   2197.6,   3.3210,  34.9870,2,  34.9890,2,    277.9,2,    276.9,2,    10.98,2,    16.49,2,     0.95,2,   -999.0,9,   7.7220,2,    25.00
  06MM20060523, OVIDE,    73,  1,      4,2,20060611,0026, 58.4090, -30.1020, 2183,   2144.8,   3.3440,  34.9870,2,  34.9890,2,    276.9,2,    276.6,2,    10.89,2,    16.54,2,     0.98,2,   -999.0,9,   7.7210,2,    25.00
  06MM20060523, OVIDE,    73,  1,      5,2,20060611,0026, 58.4090, -30.1020, 2183,   2093.8,   3.4580,  34.9880,2,  34.9900,2,    277.5,2,    276.5,2,    10.54,2,    16.49,2,     0.97,2,   -999.0,9,   7.7220,2,    25.00
  06MM20060523, OVIDE,    73,  1,      6,2,20060611,0026, 58.4090, -30.1020, 2183,   1995.3,   3.5500,  34.9890,2,  34.9900,2,    276.8,2,    275.8,2,    10.32,2,    16.54,2,     1.00,2,   -999.0,9,   7.7210,2,    25.00
  06MM20060523, OVIDE,    73,  1,      7,2,20060611,0026, 58.4090, -30.1020, 2183,   1795.9,   3.6010,  34.9880,2,  34.9890,2,    276.5,2,    275.7,2,    10.24,2,    16.44,2,     1.00,2,   -999.0,9,   7.7190,2,    25.00
  06MM20060523, OVIDE,    73,  1,      8,2,20060611,0026, 58.4090, -30.1020, 2183,   1597.0,   3.6750,  34.9880,2,  34.9890,2,    275.9,2,    275.2,2,    10.19,2,    16.63,2,     0.95,2,   -999.0,9,   7.7250,2,    25.00
  06MM20060523, OVIDE,    73,  1,      9,2,20060611,0026, 58.4090, -30.1020, 2183,   1396.5,   3.7980,  34.9860,2,  34.9850,2,    274.9,2,    274.2,2,    10.19,2,    16.39,2,     1.03,2,   -999.0,9,   7.7220,2,    25.00
  06MM20060523, OVIDE,    73,  1,     10,2,20060611,0026, 58.4090, -30.1020, 2183,   1396.4,   3.7990,  34.9860,2,  34.9850,2,    274.9,2,    273.7,2,    10.19,2,    16.82,2,     0.95,2,   -999.0,9,   7.7250,2,    25.00
  06MM20060523, OVIDE,    73,  1,     11,2,20060611,0026, 58.4090, -30.1020, 2183,   1195.5,   4.0830,  34.9840,2,  34.9840,2,    271.1,2,    269.4,2,    10.24,2,    17.16,2,     1.00,2,   -999.0,9,   7.7230,2,    25.00
  06MM20060523, OVIDE,    73,  1,     12,2,20060611,0026, 58.4090, -30.1020, 2183,    997.1,   4.6600,  34.9920,2,  34.9890,2,    257.7,2,    256.7,2,    10.72,2,    18.27,2,     1.14,2,   -999.0,9,   7.7140,2,    25.00
  06MM20060523, OVIDE,    73,  1,     13,2,20060611,0026, 58.4090, -30.1020, 2183,    895.9,   5.2050,  35.0370,2,  35.0370,2,    248.1,2,    253.7,3,    10.72,2,    18.46,2,     1.06,2,   -999.0,9,   7.7160,2,    25.00
  06MM20060523, OVIDE,    73,  1,     14,2,20060611,0026, 58.4090, -30.1020, 2183,    797.7,   5.7680,  35.0650,2,  35.0660,2,    236.7,2,    236.8,2,    10.89,2,    18.89,2,     1.12,2,   -999.0,9,   7.7130,2,    25.00
  06MM20060523, OVIDE,    73,  1,     15,2,20060611,0026, 58.4090, -30.1020, 2183,    736.6,   5.9890,  35.0510,2,  35.0540,2,    232.1,2,    231.7,2,    10.80,2,    19.04,2,     1.17,2,   -999.0,9,   7.7100,2,    25.00
  06MM20060523, OVIDE,    73,  1,     16,2,20060611,0026, 58.4090, -30.1020, 2183,    596.5,   6.9880,  35.0890,2,  35.0940,2,    244.3,2,    244.4,2,     8.89,2,    17.40,2,     1.04,2,   -999.0,9,   7.7370,2,    25.00
  06MM20060523, OVIDE,    73,  1,     17,2,20060611,0026, 58.4090, -30.1020, 2183,    496.0,   7.5980,  35.1450,2,  35.1430,2,    269.9,2,    261.5,3,     7.23,2,    15.43,2,     0.92,2,   -999.0,9,   7.7690,2,    25.00
  06MM20060523, OVIDE,    73,  1,     18,2,20060611,0026, 58.4090, -30.1020, 2183,    446.3,   7.6710,  35.1430,2,  35.1400,2,    271.5,2,    271.4,2,     6.71,2,    14.80,2,     0.90,2,   -999.0,9,   7.7790,2,    25.00
  06MM20060523, OVIDE,    73,  1,     19,2,20060611,0026, 58.4090, -30.1020, 2183,    295.6,   7.6730,  35.0840,2,  35.0840,2,    276.5,2,    273.9,2,     5.49,2,    13.84,2,     0.84,2,   -999.0,9,   7.7860,2,    25.00
  06MM20060523, OVIDE,    73,  1,     20,2,20060611,0026, 58.4090, -30.1020, 2183,    196.1,   8.1760,  35.1280,2,  35.1290,2,    268.8,2,    267.9,2,     5.49,2,    13.65,2,     0.81,2,   -999.0,9,   7.7920,2,    25.00
  06MM20060523, OVIDE,    73,  1,     21,2,20060611,0026, 58.4090, -30.1020, 2183,    145.8,   8.2420,  35.1090,2,  35.1050,2,    267.0,2,    269.1,2,     5.05,2,    13.17,2,     0.79,2,   -999.0,9,   7.7970,2,    25.00
  06MM20060523, OVIDE,    73,  1,     22,2,20060611,0026, 58.4090, -30.1020, 2183,     95.6,   8.5880,  35.1280,2,  35.1290,2,    274.3,2,    264.8,3,     4.97,2,    12.83,2,     0.81,2,   -999.0,9,   7.7990,2,    25.00
  06MM20060523, OVIDE,    73,  1,     24,2,20060611,0026, 58.4090, -30.1020, 2183,     45.9,   9.2260,  35.1470,2,  35.1480,2,    276.8,2,    286.2,3,     2.44,2,     9.13,2,     0.54,2,   -999.0,9,   7.8390,2,    25.00
  06MM20060523, OVIDE,    73,  1,     25,2,20060611,0026, 58.4090, -30.1020, 2183,      4.9,   9.3310,  35.0130,2,  35.0120,2,    288.3,2,    290.0,2,     2.00,2,     7.60,2,     0.45,2,   -999.0,9,   7.8500,2,    25.00
  06MM20060523, OVIDE,    74,  1,      3,2,20060611,0405, 58.5490, -30.3660, 1620,   1619.7,   3.7890,  34.9760,2,  34.9750,2,    273.9,2,    274.4,2,    10.27,2,    16.61,2,     1.00,2,   2304.3,2,   7.7260,2,    25.00
  06MM20060523, OVIDE,    74,  1,      4,2,20060611,0405, 58.5490, -30.3660, 1620,   1569.9,   3.7910,  34.9760,2,  34.9760,2,    272.2,2,    274.3,2,    10.27,2,    16.61,2,     1.00,2,   2304.3,2,   7.7270,2,    25.00
  06MM20060523, OVIDE,    74,  1,      5,2,20060611,0405, 58.5490, -30.3660, 1620,   1519.3,   3.8080,  34.9750,2,  34.9750,2,    272.5,2,    274.0,2,    10.27,2,    16.61,2,     1.00,2,   -999.0,9,   7.7260,2,    25.00
  06MM20060523, OVIDE,    74,  1,      6,2,20060611,0405, 58.5490, -30.3660, 1620,   1396.0,   3.8290,  34.9760,2,  34.9750,2,    273.8,2,    273.6,2,    10.27,2,    16.66,2,     0.97,2,   2303.4,2,   7.7250,2,    25.00
  06MM20060523, OVIDE,    74,  1,      7,2,20060611,0405, 58.5490, -30.3660, 1620,   1195.6,   4.1180,  34.9670,2,  34.9690,2,    267.4,2,    269.5,2,    10.36,2,    17.22,2,     1.07,2,   2305.7,2,   7.7190,2,    25.00
  06MM20060523, OVIDE,    74,  1,      8,2,20060611,0405, 58.5490, -30.3660, 1620,    993.2,   4.6870,  34.9940,2,  34.9970,2,    256.5,2,    255.9,2,    10.49,2,    17.73,2,     1.10,2,   2308.1,2,   7.7150,2,    25.00
  06MM20060523, OVIDE,    74,  1,      9,2,20060611,0405, 58.5490, -30.3660, 1620,    896.1,   5.2730,  35.0470,2,  35.0490,2,    247.9,2,    247.6,2,    10.40,2,    17.92,2,     1.01,2,   2309.6,2,   7.7190,2,    25.00
  06MM20060523, OVIDE,    74,  1,     10,2,20060611,0405, 58.5490, -30.3660, 1620,    794.9,   5.8510,  35.0800,2,  35.0830,2,    235.7,2,    236.7,2,    10.62,2,    18.39,2,     1.09,2,   2310.5,2,   7.7160,2,    25.00
  06MM20060523, OVIDE,    74,  1,     11,2,20060611,0405, 58.5490, -30.3660, 1620,    694.7,   6.1570,  35.0470,2,  35.0470,2,    233.0,2,    238.0,3,    10.10,2,    18.25,2,     1.04,2,   2309.2,2,   7.7160,2,    25.00
  06MM20060523, OVIDE,    74,  1,     12,2,20060611,0405, 58.5490, -30.3660, 1620,    594.3,   7.0000,  35.1050,2,  35.1030,2,    247.3,2,    243.7,2,     8.94,2,    17.22,2,     1.01,2,   2311.5,2,   7.7380,2,    25.00
  06MM20060523, OVIDE,    74,  1,     13,2,20060611,0405, 58.5490, -30.3660, 1620,    494.1,   7.5110,  35.1370,2,  35.1350,2,    260.2,2,    256.7,2,     7.56,2,    15.62,2,     0.94,2,   2313.1,2,   7.7640,2,    25.00
  06MM20060523, OVIDE,    74,  1,     14,2,20060611,0405, 58.5490, -30.3660, 1620,    394.9,   7.7410,  35.1450,2,  35.1460,2,    266.3,2,    264.9,2,     6.58,2,    14.64,2,     0.88,2,   2314.0,2,   7.7780,2,    25.00
  06MM20060523, OVIDE,    74,  1,     15,2,20060611,0405, 58.5490, -30.3660, 1620,    295.3,   7.8400,  35.1230,2,  35.1210,2,    265.7,2,    269.5,2,     5.76,2,    13.93,2,     0.78,2,   -999.0,9,   7.7870,2,    25.00
  06MM20060523, OVIDE,    74,  1,     16,2,20060611,0405, 58.5490, -30.3660, 1620,    195.9,   8.3090,  35.1590,2,  35.1620,2,    270.5,2,    269.0,2,     5.42,2,    13.37,2,     0.76,2,   2314.3,2,   7.7960,2,    25.00
  06MM20060523, OVIDE,    74,  1,     17,2,20060611,0405, 58.5490, -30.3660, 1620,    144.6,   8.3810,  35.1500,2,  35.1490,2,    265.7,2,    264.2,2,     5.37,2,    13.42,2,     0.78,2,   -999.0,9,   7.7910,2,    25.00
  06MM20060523, OVIDE,    74,  1,     18,2,20060611,0405, 58.5490, -30.3660, 1620,     94.6,   8.5950,  35.1480,2,  35.1490,2,    259.8,2,    264.8,2,     4.90,2,    12.81,2,     0.78,2,   2314.0,2,   7.8010,2,    25.00
  06MM20060523, OVIDE,    74,  1,     19,2,20060611,0405, 58.5490, -30.3660, 1620,     45.9,   9.2550,  35.1870,2,  35.1880,2,    274.9,2,    279.2,2,     2.36,2,     9.19,2,     0.58,2,   -999.0,9,   7.8400,2,    25.00
  06MM20060523, OVIDE,    74,  1,     20,2,20060611,0405, 58.5490, -30.3660, 1620,      4.7,   9.2300,  34.9910,2,  34.9910,2,    289.3,2,    291.6,2,     2.06,2,     7.32,2,     0.42,2,   2303.6,2,   7.8510,2,    25.00
  06MM20060523, OVIDE,    75,  1,      3,2,20060612,0823, 58.7260, -30.6950, 1450,   1450.4,   3.8990,  34.9810,2,  34.9820,2,    272.6,2,    272.0,2,    10.32,2,    16.85,2,     0.98,2,   -999.0,9,   7.7260,2,    25.00
  06MM20060523, OVIDE,    75,  1,      4,2,20060612,0823, 58.7260, -30.6950, 1450,   1399.5,   3.8960,  34.9810,2,  34.9830,2,    271.1,2,    271.7,2,    10.32,2,    16.90,2,     0.90,2,   -999.0,9,   7.7270,2,    25.00
  06MM20060523, OVIDE,    75,  1,      5,2,20060612,0823, 58.7260, -30.6950, 1450,   1348.3,   3.9230,  34.9810,2,  34.9830,2,    270.3,2,    271.2,2,    10.32,2,    16.95,2,     0.95,2,   -999.0,9,   7.7260,2,    25.00
  06MM20060523, OVIDE,    75,  1,      6,2,20060612,0823, 58.7260, -30.6950, 1450,   1251.8,   3.9840,  34.9800,2,  34.9810,2,    270.2,2,    270.1,2,    10.32,2,    17.04,2,     0.92,2,   -999.0,9,   7.7250,2,    25.00
  06MM20060523, OVIDE,    75,  1,      7,2,20060612,0823, 58.7260, -30.6950, 1450,   1147.7,   4.2010,  34.9740,2,  34.9820,3,    264.7,2,    266.7,2,    10.36,2,    17.42,2,     0.92,2,   -999.0,9,   7.7200,2,    25.00
  06MM20060523, OVIDE,    75,  1,      8,2,20060612,0823, 58.7260, -30.6950, 1450,    995.9,   4.8570,  35.0090,2,  35.0100,2,    252.3,2,    252.4,2,    10.53,2,    18.14,2,     1.00,2,   -999.0,9,   7.7150,2,    25.00
  06MM20060523, OVIDE,    75,  1,      9,2,20060612,0823, 58.7260, -30.6950, 1450,    897.5,   5.2580,  35.0320,2,  35.0320,2,    246.8,2,    244.8,2,    10.66,2,    18.52,2,     0.97,2,   -999.0,9,   7.7190,2,    25.00
  06MM20060523, OVIDE,    75,  1,     10,2,20060612,0823, 58.7260, -30.6950, 1450,    798.1,   5.8250,  35.0460,2,  35.0460,2,    235.2,2,    235.4,2,    10.66,2,    18.66,2,     0.97,2,   -999.0,9,   7.7160,2,    25.00
  06MM20060523, OVIDE,    75,  1,     11,2,20060612,0823, 58.7260, -30.6950, 1450,    693.9,   6.3830,  35.0670,2,  34.9800,3,    233.5,2,    271.5,3,    10.40,2,    16.99,2,     0.95,2,   -999.0,9,   7.7160,2,    25.00
  06MM20060523, OVIDE,    75,  1,     12,2,20060612,0823, 58.7260, -30.6950, 1450,    693.1,   6.3900,  35.0660,2,  35.0670,2,    233.5,2,    234.0,2,    10.14,2,    18.56,2,     1.01,2,   -999.0,9,   7.7390,2,    25.00
  06MM20060523, OVIDE,    75,  1,     13,2,20060612,0823, 58.7260, -30.6950, 1450,    593.9,   7.3380,  35.1540,2,  35.1550,2,    250.0,2,    245.4,2,     8.47,2,    16.71,2,     1.00,2,   -999.0,9,   7.7640,2,    25.00
  06MM20060523, OVIDE,    75,  1,     14,2,20060612,0823, 58.7260, -30.6950, 1450,    496.1,   7.7160,  35.1820,2,  35.1820,2,    271.1,2,    279.9,3,     6.32,2,    14.23,2,     0.82,2,   -999.0,9,   7.7780,2,    25.00
  06MM20060523, OVIDE,    75,  1,     15,2,20060612,0823, 58.7260, -30.6950, 1450,    397.1,   7.8510,  35.1820,2,  35.1820,2,    271.7,2,    269.8,2,     6.28,2,    14.37,2,     0.76,2,   -999.0,9,   7.7870,2,    25.00
  06MM20060523, OVIDE,    75,  1,     16,2,20060612,0823, 58.7260, -30.6950, 1450,    294.1,   8.0240,  35.1710,2,  35.1690,2,    264.4,2,    264.0,2,     6.15,2,    14.37,2,     0.82,2,   -999.0,9,   7.7960,2,    25.00
  06MM20060523, OVIDE,    75,  1,     17,2,20060612,0823, 58.7260, -30.6950, 1450,    196.1,   8.2760,  35.1560,2,  35.1560,2,    269.3,2,    266.3,2,     5.50,2,    13.61,2,     0.81,2,   -999.0,9,   7.7910,2,    25.00
  06MM20060523, OVIDE,    75,  1,     18,2,20060612,0823, 58.7260, -30.6950, 1450,    146.8,   8.3730,  35.1520,2,  35.1530,2,    261.8,2,    263.7,2,     5.42,2,    13.71,2,     0.75,2,   -999.0,9,   7.8010,2,    25.00
  06MM20060523, OVIDE,    75,  1,     19,2,20060612,0823, 58.7260, -30.6950, 1450,     96.7,   8.6190,  35.1380,2,  35.1400,2,    268.7,2,    268.1,2,     4.47,2,    12.52,2,     0.73,2,   -999.0,9,   7.8110,3,    25.00
  06MM20060523, OVIDE,    75,  1,     20,2,20060612,0823, 58.7260, -30.6950, 1450,     46.7,   9.5510,  35.1550,2,  35.1610,3,    286.3,2,    284.6,2,     1.98,2,     8.19,2,     0.47,2,   -999.0,9,   7.8500,2,    25.00
  06MM20060523, OVIDE,    75,  1,     21,2,20060612,0823, 58.7260, -30.6950, 1450,      9.5,   9.3230,  35.0090,2,  35.0090,2,    286.8,2,    290.3,2,     1.81,2,     7.28,2,     0.44,2,   -999.0,9,   7.7830,2,    25.00