BOTTLE,20140930PRINUNIVRMK
EXPOCODE,SECT_ID,STNNBR,CASTNO,BTLNBR,BTLNBR_FLAG_W,DATE,TIME,LATITUDE,LONGITUDE,DEPTH,CTDPRS,CTDTMP,CTDSAL,CTDSAL_FLAG_W,SALNTY,SALNTY_FLAG_W,CTDOXY,CTDOXY_FLAG_W,OXYGEN,OXYGEN_FLAG_W,SILCAT,SILCAT_FLAG_W,NITRAT,NITRAT_FLAG_W,PHSPHT,PHSPHT_FLAG_W,ALKALI,ALKALI_FLAG_W,PH_SWS,PH_SWS_FLAG_W,PH_TMP
,,,,,,,,,,METERS,DBAR,ITS-90,PSS-78,,PSS-78,,UMOL/KG,,UMOL/KG,,UMOL/KG,,UMOL/KG,,UMOL/KG,,UMOL/KG,,,,DEG C
  06MM20060523, OVIDE,    80,  1,      3,2,20060612,0442, 59.1030, -33.8310, 2286,   2299.3,   3.1350,  34.9400,2,  34.9440,2,    278.9,2,    277.9,2,    12.31,2,    16.84,2,     0.95,2,   -999.0,9,   7.7280,2,    25.00
  06MM20060523, OVIDE,    80,  1,      4,2,20060612,0442, 59.1030, -33.8310, 2286,   2248.2,   3.1490,  34.9390,2,  34.9410,2,    278.7,2,    278.0,2,    12.18,2,    16.84,2,     0.87,2,   -999.0,9,   7.7270,2,    25.00
  06MM20060523, OVIDE,    80,  1,      5,2,20060612,0442, 59.1030, -33.8310, 2286,   2198.6,   3.1650,  34.9410,2,  34.9420,2,    278.0,2,    278.4,2,    12.05,2,    16.89,2,     0.93,2,   -999.0,9,   7.7240,2,    25.00
  06MM20060523, OVIDE,    80,  1,      6,2,20060612,0442, 59.1030, -33.8310, 2286,   1995.5,   3.3040,  34.9420,2,  34.9420,2,    279.4,2,    278.8,2,    11.40,2,    16.93,2,     0.94,2,   -999.0,9,   7.7240,2,    25.00
  06MM20060523, OVIDE,    80,  1,      7,2,20060612,0442, 59.1030, -33.8310, 2286,   1794.9,   3.4700,  34.9450,2,  34.9460,2,    279.9,2,    277.4,2,    10.88,2,    16.89,2,     0.95,2,   -999.0,9,   7.7250,2,    25.00
  06MM20060523, OVIDE,    80,  1,      8,2,20060612,0442, 59.1030, -33.8310, 2286,   1794.6,   3.4730,  34.9450,2,  34.9460,2,    279.9,2,    277.7,2,    10.92,2,    16.98,2,     0.97,2,   -999.0,9,   7.7250,2,    25.00
  06MM20060523, OVIDE,    80,  1,      9,2,20060612,0442, 59.1030, -33.8310, 2286,   1594.7,   3.5870,  34.9400,2,  34.9380,2,    278.0,2,    276.6,2,    10.58,2,    17.13,2,     0.94,2,   -999.0,9,   7.7230,2,    25.00
  06MM20060523, OVIDE,    80,  1,     10,2,20060612,0442, 59.1030, -33.8310, 2286,   1391.9,   3.6350,  34.9230,2,  34.9260,2,    277.1,2,    276.0,2,    10.67,2,    17.32,2,     0.98,2,   -999.0,9,   7.7210,2,    25.00
  06MM20060523, OVIDE,    80,  1,     11,2,20060612,0442, 59.1030, -33.8310, 2286,   1192.8,   3.6290,  34.8920,2,  34.8990,3,    282.0,2,    281.5,2,     9.85,2,    17.22,2,     0.94,2,   -999.0,9,   7.7200,2,    25.00
  06MM20060523, OVIDE,    80,  1,     12,2,20060612,0442, 59.1030, -33.8310, 2286,    993.6,   3.9960,  34.9110,2,  34.9120,2,    280.1,2,    278.1,2,     9.67,2,    17.41,2,     0.98,2,   -999.0,9,   7.7160,2,    25.00
  06MM20060523, OVIDE,    80,  1,     13,2,20060612,0442, 59.1030, -33.8310, 2286,    893.2,   4.1160,  34.9130,2,  34.9140,2,    278.3,2,    278.7,2,     9.50,2,    17.32,2,     0.97,2,   -999.0,9,   7.7180,2,    25.00
  06MM20060523, OVIDE,    80,  1,     14,2,20060612,0442, 59.1030, -33.8310, 2286,    796.9,   4.4590,  34.9370,2,  34.9370,2,    276.2,2,    274.2,2,     9.50,2,    17.36,2,     0.94,2,   -999.0,9,   7.7180,2,    25.00
  06MM20060523, OVIDE,    80,  1,     15,2,20060612,0442, 59.1030, -33.8310, 2286,    691.3,   5.3200,  35.0230,2,  35.0240,2,    247.6,2,    248.4,2,    10.36,2,    18.27,2,     0.94,2,   -999.0,9,   7.7140,2,    25.00
  06MM20060523, OVIDE,    80,  1,     16,2,20060612,0442, 59.1030, -33.8310, 2286,    594.0,   5.6480,  34.9960,2,  34.9970,2,    262.8,2,    260.9,2,     9.07,2,    17.32,2,     0.91,2,   -999.0,9,   7.7350,2,    25.00
  06MM20060523, OVIDE,    80,  1,     17,2,20060612,0442, 59.1030, -33.8310, 2286,    495.2,   6.0550,  35.0130,2,  35.0110,2,    258.0,2,    264.6,3,     8.55,2,    16.84,2,     0.94,2,   -999.0,9,   7.7360,2,    25.00
  06MM20060523, OVIDE,    80,  1,     18,2,20060612,0442, 59.1030, -33.8310, 2286,    397.0,   6.8300,  35.0650,2,  35.0610,2,    258.6,2,    250.8,3,     8.46,2,    16.45,2,     0.95,2,   -999.0,9,   7.7410,2,    25.00
  06MM20060523, OVIDE,    80,  1,     19,2,20060612,0442, 59.1030, -33.8310, 2286,    293.7,   7.6080,  35.1340,2,  35.1320,2,    269.0,2,    268.1,2,     6.61,2,    14.54,2,     0.84,2,   -999.0,9,   7.7770,2,    25.00
  06MM20060523, OVIDE,    80,  1,     20,2,20060612,0442, 59.1030, -33.8310, 2286,    196.5,   7.5720,  35.0830,2,  35.0830,2,    278.0,2,    276.7,2,     5.57,2,    13.63,2,     0.77,2,   -999.0,9,   7.7850,2,    25.00
  06MM20060523, OVIDE,    80,  1,     21,2,20060612,0442, 59.1030, -33.8310, 2286,    145.9,   7.6440,  35.0780,2,  35.0720,2,    278.0,2,    276.5,2,     5.18,2,    13.49,2,     0.65,2,   -999.0,9,   7.7880,2,    25.00
  06MM20060523, OVIDE,    80,  1,     22,2,20060612,0442, 59.1030, -33.8310, 2286,     94.6,   8.0210,  35.1120,2,  35.1110,2,    280.2,2,    271.3,3,     5.18,2,    13.30,2,     0.74,2,   -999.0,9,   7.7890,2,    25.00
  06MM20060523, OVIDE,    80,  1,     23,2,20060612,0442, 59.1030, -33.8310, 2286,     46.2,   8.7810,  35.0600,2,  35.0650,2,    291.1,2,    288.8,2,     2.55,2,     8.80,2,     0.52,2,   -999.0,9,   7.8340,2,    25.00
  06MM20060523, OVIDE,    80,  1,     24,2,20060612,0442, 59.1030, -33.8310, 2286,     12.6,   9.0120,  35.0410,2,  35.0400,2,    291.9,2,    292.9,2,     2.24,2,     7.70,2,     0.41,2,   -999.0,9,   7.8420,2,    25.00
  06MM20060523, OVIDE,    81,  1,      3,2,20060613,0921, 59.1660, -34.4790, 2548,   2569.1,   3.0530,  34.9400,2,  34.9930,3,    278.6,2,    277.8,2,    12.65,2,    17.20,2,     0.98,2,   2304.8,2,   7.7350,2,    25.00
  06MM20060523, OVIDE,    81,  1,      4,2,20060613,0921, 59.1660, -34.4790, 2548,   2520.2,   3.0560,  34.9410,2,  34.9390,2,    278.1,2,    277.7,2,    12.70,2,    17.05,2,     0.93,2,   2304.5,2,   7.7310,2,    25.00
  06MM20060523, OVIDE,    81,  1,      5,2,20060613,0921, 59.1660, -34.4790, 2548,   2463.7,   3.0520,  34.9390,2,  34.9390,2,    279.9,2,    277.6,2,    12.61,2,    17.00,2,     0.96,2,   -999.0,9,   7.7310,2,    25.00
  06MM20060523, OVIDE,    81,  1,      6,2,20060613,0921, 59.1660, -34.4790, 2548,   2368.0,   3.0960,  34.9420,2,  34.9390,2,    278.4,2,    277.9,2,    12.39,2,    17.05,2,     0.94,2,   2304.8,2,   7.7280,2,    25.00
  06MM20060523, OVIDE,    81,  1,      7,2,20060613,0921, 59.1660, -34.4790, 2548,   2196.4,   3.2370,  34.9510,2,  34.9340,3,    277.4,2,    277.0,2,    11.74,2,    17.00,2,     0.93,2,   2304.2,2,   7.7270,2,    25.00
  06MM20060523, OVIDE,    81,  1,      8,2,20060613,0921, 59.1660, -34.4790, 2548,   1993.1,   3.3110,  34.9440,2,  34.9500,2,    279.1,2,    277.8,2,    11.31,2,    17.05,2,     0.94,2,   2305.7,2,   7.7280,2,    25.00
  06MM20060523, OVIDE,    81,  1,      9,2,20060613,0921, 59.1660, -34.4790, 2548,   1798.4,   3.3770,  34.9360,2,  34.9430,2,    278.2,2,    278.3,2,    11.10,2,    17.30,2,     0.94,2,   2303.8,2,   7.7270,2,    25.00
  06MM20060523, OVIDE,    81,  1,     10,2,20060613,0921, 59.1660, -34.4790, 2548,   1794.7,   3.3780,  34.9360,2,  34.9340,2,    278.3,2,    278.8,2,    11.05,2,    17.30,2,     0.93,2,   2302.7,2,   7.7260,2,    25.00
  06MM20060523, OVIDE,    81,  1,     11,2,20060613,0921, 59.1660, -34.4790, 2548,   1592.2,   3.5680,  34.9460,2,  34.9340,3,    276.7,2,    276.8,2,    10.75,2,    17.30,2,     0.88,2,   2303.2,2,   7.7260,2,    25.00
  06MM20060523, OVIDE,    81,  1,     12,2,20060613,0921, 59.1660, -34.4790, 2548,   1397.6,   3.6290,  34.9230,2,  34.9220,2,    275.9,2,    277.9,2,    10.54,2,    17.63,2,     0.90,2,   2301.6,2,   7.7210,2,    25.00
  06MM20060523, OVIDE,    81,  1,     13,2,20060613,0921, 59.1660, -34.4790, 2548,   1094.9,   3.6150,  34.8750,2,  34.8750,2,    290.3,2,    288.3,2,     9.50,2,    17.20,2,     0.90,2,   -999.0,9,   7.7220,2,    25.00
  06MM20060523, OVIDE,    81,  1,     14,2,20060613,0921, 59.1660, -34.4790, 2548,    995.8,   3.7480,  34.8880,2,  34.8870,2,    285.3,2,    284.7,2,     9.37,2,    17.25,2,     0.90,2,   2299.1,2,   7.7180,2,    25.00
  06MM20060523, OVIDE,    81,  1,     15,2,20060613,0921, 59.1660, -34.4790, 2548,    896.4,   3.9030,  34.8980,2,  34.8940,2,    282.4,2,    282.6,2,     9.41,2,    17.44,2,     0.95,2,   -999.0,9,   7.7180,2,    25.00
  06MM20060523, OVIDE,    81,  1,     16,2,20060613,0921, 59.1660, -34.4790, 2548,    795.1,   4.1920,  34.9190,2,  34.9170,2,    278.5,2,    277.4,2,     9.54,2,    17.63,2,     0.97,2,   2300.4,2,   7.7180,2,    25.00
  06MM20060523, OVIDE,    81,  1,     17,2,20060613,0921, 59.1660, -34.4790, 2548,    696.2,   4.5110,  34.9400,2,  34.9380,2,    272.2,2,    274.0,2,     9.46,2,    17.63,2,     0.97,2,   -999.0,9,   7.7200,2,    25.00
  06MM20060523, OVIDE,    81,  1,     18,2,20060613,0921, 59.1660, -34.4790, 2548,    598.1,   4.9850,  34.9760,2,  34.9820,2,    260.2,2,    257.6,2,     9.97,2,    18.16,2,     0.88,2,   2303.9,2,   7.7140,2,    25.00
  06MM20060523, OVIDE,    81,  1,     19,2,20060613,0921, 59.1660, -34.4790, 2548,    495.9,   5.3240,  34.9730,2,  34.9720,2,    269.6,2,    266.2,2,     9.07,2,    17.49,2,     1.03,2,   -999.0,9,   7.7240,2,    25.00
  06MM20060523, OVIDE,    81,  1,     20,2,20060613,0921, 59.1660, -34.4790, 2548,    398.1,   5.6000,  34.9610,2,  34.9580,2,    282.9,2,    282.8,2,     7.86,2,    16.14,2,     0.85,2,   2301.6,2,   7.7420,2,    25.00
  06MM20060523, OVIDE,    81,  1,     21,2,20060613,0921, 59.1660, -34.4790, 2548,    254.6,   6.4900,  35.0310,2,  35.0290,2,    256.3,2,    260.5,2,     8.12,2,    16.62,2,     0.91,2,   -999.0,9,   7.7370,2,    25.00
  06MM20060523, OVIDE,    81,  1,     22,2,20060613,0921, 59.1660, -34.4790, 2548,    195.6,   6.5510,  35.0000,2,  34.9950,2,    277.9,2,    279.2,2,     6.74,2,    14.98,2,     0.87,2,   2303.4,2,   7.7630,2,    25.00
  06MM20060523, OVIDE,    81,  1,     23,2,20060613,0921, 59.1660, -34.4790, 2548,    145.4,   6.8800,  35.0180,2,  35.0160,2,    276.7,2,    274.5,2,     6.52,2,    14.88,2,     0.75,2,   -999.0,9,   7.7640,2,    25.00
  06MM20060523, OVIDE,    81,  1,     24,2,20060613,0921, 59.1660, -34.4790, 2548,     96.0,   6.7990,  34.9520,2,  34.9630,3,    279.7,2,    283.4,2,     5.83,2,    13.91,2,     0.80,2,   2302.8,2,   7.7720,2,    25.00
  06MM20060523, OVIDE,    81,  1,     25,2,20060613,0921, 59.1660, -34.4790, 2548,     45.8,   7.8740,  34.9780,2,  34.9780,2,    297.9,2,    291.2,3,     4.32,2,    10.58,2,     0.67,2,   -999.0,9,   7.8150,2,    25.00
  06MM20060523, OVIDE,    81,  1,     26,2,20060613,0921, 59.1660, -34.4790, 2548,     19.1,   8.2150,  34.9620,2,  34.9620,2,    298.0,2,    297.5,2,     3.58,2,     9.13,2,     0.54,2,   2301.8,2,   7.8370,2,    25.00
  06MM20060523, OVIDE,    82,  1,      3,2,20060613,1412, 59.2310, -35.1210, 2988,   3016.5,   2.2020,  34.9030,2,  34.9060,2,    290.8,2,    291.7,2,    10.19,2,    15.22,2,     0.87,2,   -999.0,9,   7.7270,2,    25.00
  06MM20060523, OVIDE,    82,  1,      4,2,20060613,1412, 59.2310, -35.1210, 2988,   3018.5,   2.2020,  34.9040,2,  34.9060,2,    291.0,2,    291.0,2,    10.23,2,    15.22,2,     0.84,2,   -999.0,9,   7.7260,2,    25.00
  06MM20060523, OVIDE,    82,  1,      5,2,20060613,1412, 59.2310, -35.1210, 2988,   2982.7,   2.2160,  34.9050,2,  34.9080,2,    289.3,2,    290.7,2,    10.41,2,    15.36,2,     0.91,2,   -999.0,9,   7.7280,2,    25.00
  06MM20060523, OVIDE,    82,  1,      6,2,20060613,1412, 59.2310, -35.1210, 2988,   2894.7,   2.3660,  34.9080,2,  34.9110,2,    287.9,2,    288.2,2,    11.01,2,    15.46,2,     0.87,2,   -999.0,9,   7.7280,2,    25.00
  06MM20060523, OVIDE,    82,  1,      7,2,20060613,1412, 59.2310, -35.1210, 2988,   2792.4,   2.6680,  34.9210,2,  34.9220,2,    281.3,2,    282.1,2,    12.26,2,    16.33,2,     0.86,2,   -999.0,9,   7.7280,2,    25.00
  06MM20060523, OVIDE,    82,  1,      8,2,20060613,1412, 59.2310, -35.1210, 2988,   2498.4,   2.9870,  34.9370,2,  34.9370,2,    277.9,2,    279.3,2,    12.61,2,    16.91,2,     0.90,2,   -999.0,9,   7.7280,2,    25.00
  06MM20060523, OVIDE,    82,  1,      9,2,20060613,1412, 59.2310, -35.1210, 2988,   2246.1,   3.1270,  34.9360,2,  34.9380,2,    276.5,2,    278.4,2,    11.96,2,    16.91,2,     0.88,2,   -999.0,9,   7.7270,2,    25.00
  06MM20060523, OVIDE,    82,  1,     10,2,20060613,1412, 59.2310, -35.1210, 2988,   1993.9,   3.3110,  34.9450,2,  34.9460,2,    276.1,2,    278.3,2,    11.18,2,    16.91,2,     0.91,2,   -999.0,9,   7.7270,2,    25.00
  06MM20060523, OVIDE,    82,  1,     11,2,20060613,1412, 59.2310, -35.1210, 2988,   1991.5,   3.3140,  34.9460,2,  34.9480,2,    276.2,2,    278.2,2,    11.14,2,    16.91,2,     0.88,2,   -999.0,9,   7.7270,2,    25.00
  06MM20060523, OVIDE,    82,  1,     12,2,20060613,1412, 59.2310, -35.1210, 2988,   1793.3,   3.3790,  34.9380,2,  34.9420,2,    277.8,2,    280.0,2,    10.84,2,    17.00,2,     0.96,2,   -999.0,9,   7.7260,2,    25.00
  06MM20060523, OVIDE,    82,  1,     13,2,20060613,1412, 59.2310, -35.1210, 2988,   1594.9,   3.3790,  34.9160,2,  34.9170,2,    279.7,2,    280.5,2,    10.75,2,    16.86,2,     0.98,2,   -999.0,9,   7.7240,2,    25.00
  06MM20060523, OVIDE,    82,  1,     14,2,20060613,1412, 59.2310, -35.1210, 2988,   1396.5,   3.6060,  34.9340,2,  34.9340,2,    274.4,2,    282.7,3,    10.62,2,    17.30,2,     0.88,2,   -999.0,9,   7.7220,2,    25.00
  06MM20060523, OVIDE,    82,  1,     15,2,20060613,1412, 59.2310, -35.1210, 2988,   1195.5,   3.6340,  34.9110,2,  34.9120,2,    277.7,2,    278.4,2,     9.41,2,    17.39,2,     0.95,2,   -999.0,9,   7.7200,2,    25.00
  06MM20060523, OVIDE,    82,  1,     16,2,20060613,1412, 59.2310, -35.1210, 2988,    994.6,   3.5910,  34.8770,2,  34.8780,2,    288.7,2,    288.2,2,     9.33,2,    17.01,2,     0.92,2,   -999.0,9,   7.7200,2,    25.00
  06MM20060523, OVIDE,    82,  1,     17,2,20060613,1412, 59.2310, -35.1210, 2988,    995.3,   3.5900,  34.8770,2,  34.8790,2,    288.7,2,    288.7,2,     9.33,2,    17.20,2,     0.91,2,   -999.0,9,   7.7200,2,    25.00
  06MM20060523, OVIDE,    82,  1,     18,2,20060613,1412, 59.2310, -35.1210, 2988,    894.7,   3.7540,  34.8930,2,  34.8910,2,    283.5,2,    284.6,2,     9.37,2,    17.15,2,     0.95,2,   -999.0,9,   7.7200,2,    25.00
  06MM20060523, OVIDE,    82,  1,     19,2,20060613,1412, 59.2310, -35.1210, 2988,    800.6,   3.8620,  34.8960,2,  34.8970,2,    280.4,2,    282.3,2,     9.37,2,    17.30,2,     0.95,2,   -999.0,9,   7.7180,2,    25.00
  06MM20060523, OVIDE,    82,  1,     20,2,20060613,1412, 59.2310, -35.1210, 2988,    697.2,   4.1100,  34.9160,2,  34.9160,2,    274.2,2,    277.8,2,     9.54,2,    16.96,2,     0.98,2,   -999.0,9,   7.7160,2,    25.00
  06MM20060523, OVIDE,    82,  1,     21,2,20060613,1412, 59.2310, -35.1210, 2988,    596.4,   4.2320,  34.9100,2,  34.9080,2,    288.7,2,    289.3,2,     8.64,2,    16.81,2,     0.98,2,   -999.0,9,   7.7270,2,    25.00
  06MM20060523, OVIDE,    82,  1,     22,2,20060613,1412, 59.2310, -35.1210, 2988,    492.9,   4.5990,  34.9380,2,  34.9360,2,    274.4,2,    278.3,2,     8.98,2,    17.15,2,     0.92,2,   -999.0,9,   7.7230,2,    25.00
  06MM20060523, OVIDE,    82,  1,     23,2,20060613,1412, 59.2310, -35.1210, 2988,    399.7,   5.0750,  34.9710,2,  34.9720,2,    269.6,2,    267.7,2,     9.20,2,    17.49,2,     0.94,2,   -999.0,9,   7.7230,2,    25.00
  06MM20060523, OVIDE,    82,  1,     24,2,20060613,1412, 59.2310, -35.1210, 2988,    325.8,   5.1710,  34.9450,2,  34.9460,2,    290.0,2,    289.1,2,     7.94,2,    16.14,2,     0.94,2,   -999.0,9,   7.7420,2,    25.00
  06MM20060523, OVIDE,    82,  1,     25,2,20060613,1412, 59.2310, -35.1210, 2988,    194.3,   5.6520,  34.9600,2,  34.9620,2,    280.0,2,    281.1,2,     7.82,2,    16.04,2,     0.84,2,   -999.0,9,   7.7440,2,    25.00
  06MM20060523, OVIDE,    82,  1,     26,2,20060613,1412, 59.2310, -35.1210, 2988,    145.1,   5.9240,  34.9760,2,  34.9730,2,    274.2,2,    282.7,3,     7.34,2,    15.56,2,     0.88,2,   -999.0,9,   7.7510,2,    25.00
  06MM20060523, OVIDE,    82,  1,     27,2,20060613,1412, 59.2310, -35.1210, 2988,     99.3,   6.3560,  34.9960,2,  34.9970,2,    280.9,2,    277.3,2,     7.00,2,    15.31,2,     0.91,2,   -999.0,9,   7.7550,2,    25.00
  06MM20060523, OVIDE,    82,  1,     28,2,20060613,1412, 59.2310, -35.1210, 2988,     47.2,   7.6950,  34.9760,2,  34.9930,3,    294.6,2,    296.6,2,     4.79,2,    10.92,2,     0.60,2,   -999.0,9,   7.8130,2,    25.00
  06MM20060523, OVIDE,    82,  1,     29,2,20060613,1412, 59.2310, -35.1210, 2988,     16.2,   7.9880,  34.9530,2,  34.9570,2,    299.2,2,    300.7,2,     4.10,2,     9.42,2,     0.52,2,   -999.0,9,   7.8360,2,    25.00
  06MM20060523, OVIDE,    82,  1,     30,2,20060613,1412, 59.2310, -35.1210, 2988,     15.9,   7.9870,  34.9550,2,  34.9530,2,    299.2,2,    301.1,2,     4.10,2,     9.32,2,     0.57,2,   -999.0,9,   7.8360,2,    25.00