BOTTLE,20140930PRINUNIVRMK
EXPOCODE,SECT_ID,STNNBR,CASTNO,BTLNBR,BTLNBR_FLAG_W,DATE,TIME,LATITUDE,LONGITUDE,DEPTH,CTDPRS,CTDTMP,CTDSAL,CTDSAL_FLAG_W,SALNTY,SALNTY_FLAG_W,CTDOXY,CTDOXY_FLAG_W,OXYGEN,OXYGEN_FLAG_W,SILCAT,SILCAT_FLAG_W,NITRAT,NITRAT_FLAG_W,PHSPHT,PHSPHT_FLAG_W,ALKALI,ALKALI_FLAG_W,PH_SWS,PH_SWS_FLAG_W,PH_TMP
,,,,,,,,,,METERS,DBAR,ITS-90,PSS-78,,PSS-78,,UMOL/KG,,UMOL/KG,,UMOL/KG,,UMOL/KG,,UMOL/KG,,UMOL/KG,,,,DEG C
  06MM20060523, OVIDE,    27,  1,      3,2,20060531,2303, 43.4790, -16.6400, 4179,   4234.3,   2.5050,  34.9110,2,  34.9090,2,    243.4,2,    243.0,2,    46.64,2,    22.54,2,     1.34,2,   -999.0,9,   7.7340,2,    25.00
  06MM20060523, OVIDE,    27,  1,      4,2,20060531,2303, 43.4790, -16.6400, 4179,   3989.2,   2.5450,  34.9160,2,  34.9150,2,    243.2,2,    243.4,2,    45.35,2,    22.45,2,     1.32,2,   -999.0,9,   7.7320,2,    25.00
  06MM20060523, OVIDE,    27,  1,      5,2,20060531,2303, 43.4790, -16.6400, 4179,   3745.8,   2.5570,  34.9200,2,  34.9210,2,    243.0,2,    243.3,2,    44.20,2,    22.10,2,     1.29,2,   -999.0,9,   7.7290,2,    25.00
  06MM20060523, OVIDE,    27,  1,      6,2,20060531,2303, 43.4790, -16.6400, 4179,   3498.0,   2.5710,  34.9240,2,  34.9210,2,    244.0,2,    244.3,2,    43.05,2,    21.96,2,     1.29,2,   -999.0,9,   7.7290,2,    25.00
  06MM20060523, OVIDE,    27,  1,      7,2,20060531,2303, 43.4790, -16.6400, 4179,   3246.5,   2.6280,  34.9320,2,  34.9290,2,    247.4,2,    246.4,2,    40.18,2,    21.13,2,     1.23,2,   -999.0,9,   7.7310,2,    25.00
  06MM20060523, OVIDE,    27,  1,      8,2,20060531,2303, 43.4790, -16.6400, 4179,   2994.2,   2.7530,  34.9430,2,  34.9420,2,    251.2,2,    249.8,2,    36.45,2,    20.79,2,     1.21,2,   -999.0,9,   7.7320,2,    25.00
  06MM20060523, OVIDE,    27,  1,      9,2,20060531,2303, 43.4790, -16.6400, 4179,   2744.9,   2.9430,  34.9560,2,  34.9540,2,    253.8,2,    253.8,2,    30.71,2,    20.00,2,     1.16,2,   -999.0,9,   7.7330,2,    25.00
  06MM20060523, OVIDE,    27,  1,     10,2,20060531,2303, 43.4790, -16.6400, 4179,   2497.2,   3.1590,  34.9640,2,  34.9670,2,    257.3,2,    257.9,2,    21.42,2,    19.18,2,     1.10,2,   -999.0,9,   7.7360,2,    25.00
  06MM20060523, OVIDE,    27,  1,     11,2,20060531,2303, 43.4790, -16.6400, 4179,   2490.8,   3.1530,  34.9630,2,  34.9620,2,    257.5,2,    258.9,2,    20.98,2,    19.13,2,     1.10,2,   -999.0,9,   7.7330,2,    25.00
  06MM20060523, OVIDE,    27,  1,     12,2,20060531,2303, 43.4790, -16.6400, 4179,   2294.1,   3.2860,  34.9470,2,  34.9490,2,    267.3,2,    268.9,2,    16.25,2,    18.20,2,     1.04,2,   -999.0,9,   7.7300,2,    25.00
  06MM20060523, OVIDE,    27,  1,     13,2,20060531,2303, 43.4790, -16.6400, 4179,   2094.2,   3.4080,  34.9430,2,  34.9410,2,    270.9,2,    271.7,2,    14.20,2,    18.10,2,     1.02,2,   -999.0,9,   7.7320,2,    25.00
  06MM20060523, OVIDE,    27,  1,     14,2,20060531,2303, 43.4790, -16.6400, 4179,   1793.3,   4.0040,  34.9950,2,  34.9940,2,    262.9,2,    263.0,2,    12.39,2,    18.25,2,     1.02,2,   -999.0,9,   7.7260,2,    25.00
  06MM20060523, OVIDE,    27,  1,     15,2,20060531,2303, 43.4790, -16.6400, 4179,   1593.6,   4.9910,  35.1430,2,  35.1450,2,    242.9,2,    247.2,2,    12.10,2,    18.49,2,     1.02,2,   -999.0,9,   7.7300,2,    25.00
  06MM20060523, OVIDE,    27,  1,     16,2,20060531,2303, 43.4790, -16.6400, 4179,   1395.1,   6.6670,  35.4130,2,  35.4150,2,    225.2,2,    224.6,2,    11.17,2,    18.05,2,     1.01,2,   -999.0,9,   7.7440,2,    25.00
  06MM20060523, OVIDE,    27,  1,     17,2,20060531,2303, 43.4790, -16.6400, 4179,   1196.3,   8.5500,  35.7070,2,  35.7060,2,    201.3,2,    203.2,2,    10.34,2,    17.51,2,     0.94,2,   -999.0,9,   7.7600,2,    25.00
  06MM20060523, OVIDE,    27,  1,     18,2,20060531,2303, 43.4790, -16.6400, 4179,   1004.8,   9.6140,  35.8310,2,  35.8270,2,    188.4,2,    190.5,2,     9.61,2,    17.36,2,     0.93,2,   -999.0,9,   7.7680,2,    25.00
  06MM20060523, OVIDE,    27,  1,     19,2,20060531,2303, 43.4790, -16.6400, 4179,    895.7,   9.7430,  35.7560,2,  35.7560,2,    186.7,2,    188.7,2,     9.46,2,    17.51,2,     0.94,2,   -999.0,9,   7.7640,2,    25.00
  06MM20060523, OVIDE,    27,  1,     20,2,20060531,2303, 43.4790, -16.6400, 4179,    797.3,  10.0660,  35.7110,2,  35.7130,2,    182.6,2,    186.1,2,     8.97,2,    17.46,2,     0.94,2,   -999.0,9,   7.7650,2,    25.00
  06MM20060523, OVIDE,    27,  1,     21,2,20060531,2303, 43.4790, -16.6400, 4179,    695.5,  10.2100,  35.6180,2,  35.6170,2,    185.4,2,    186.6,2,     8.44,2,    16.09,2,     0.93,2,   -999.0,9,   7.7590,2,    25.00
  06MM20060523, OVIDE,    27,  1,     22,2,20060531,2303, 43.4790, -16.6400, 4179,    556.6,  10.7340,  35.5540,2,  35.5530,2,    197.5,2,    195.8,2,     6.83,2,    14.63,2,     0.83,2,   -999.0,9,   7.7720,2,    25.00
  06MM20060523, OVIDE,    27,  1,     23,2,20060531,2303, 43.4790, -16.6400, 4179,    491.5,  11.0180,  35.5570,2,  35.5540,2,    205.4,2,    205.7,2,     5.85,2,    12.29,2,     0.75,2,   -999.0,9,   7.7860,2,    25.00
  06MM20060523, OVIDE,    27,  1,     24,2,20060531,2303, 43.4790, -16.6400, 4179,    396.7,  11.4620,  35.5960,2,  35.5920,2,    218.0,2,    221.8,2,     4.24,2,    10.83,2,     0.63,2,   -999.0,9,   7.8170,2,    25.00
  06MM20060523, OVIDE,    27,  1,     25,2,20060531,2303, 43.4790, -16.6400, 4179,    297.4,  11.9540,  35.6570,2,  35.6540,2,    224.2,2,    226.1,2,     3.61,2,     9.22,2,     0.54,2,   -999.0,9,   7.8300,2,    25.00
  06MM20060523, OVIDE,    27,  1,     26,2,20060531,2303, 43.4790, -16.6400, 4179,    195.7,  12.6740,  35.7660,2,  35.7640,2,    236.1,2,    235.5,2,     2.73,2,     6.92,2,     0.40,2,   -999.0,9,   7.8680,2,    25.00
  06MM20060523, OVIDE,    27,  1,     27,2,20060531,2303, 43.4790, -16.6400, 4179,    148.0,  12.9860,  35.8060,2,  35.8100,2,    241.1,2,    240.2,2,     2.39,2,     5.17,2,     0.34,2,   -999.0,9,   7.8840,2,    25.00
  06MM20060523, OVIDE,    27,  1,     28,2,20060531,2303, 43.4790, -16.6400, 4179,     96.7,  13.4440,  35.8350,2,  35.8330,2,    241.7,2,    246.7,2,     1.27,2,     0.39,2,     0.25,2,   -999.0,9,   7.8970,2,    25.00
  06MM20060523, OVIDE,    27,  1,     29,2,20060531,2303, 43.4790, -16.6400, 4179,     47.6,  15.1640,  35.8980,2,  35.8980,2,    257.9,2,    254.5,2,     0.58,2,     0.24,2,     0.05,2,   -999.0,9,   7.9590,2,    25.00
  06MM20060523, OVIDE,    27,  1,     30,2,20060531,2303, 43.4790, -16.6400, 4179,      7.6,  15.3400,  35.9120,2,  35.9110,2,    252.9,2,    255.2,2,     0.78,2,     0.00,2,     0.05,2,   -999.0,9,   7.9690,2,    25.00
  06MM20060523, OVIDE,    28,  1,      3,2,20060531,0451, 43.7790, -17.0330, 4011,   4064.4,   2.5930,  34.9190,2,  34.9180,2,    242.7,2,    242.1,2,    44.49,2,    22.25,2,     1.32,2,   2350.7,2,   7.7310,2,    25.00
  06MM20060523, OVIDE,    28,  1,      4,2,20060531,0451, 43.7790, -17.0330, 4011,   3995.4,   2.5860,  34.9210,2,  34.9170,2,    242.4,2,    241.9,2,    44.63,2,    22.35,2,     1.32,2,   2350.0,2,   7.7330,2,    25.00
  06MM20060523, OVIDE,    28,  1,      5,2,20060531,0451, 43.7790, -17.0330, 4011,   3997.7,   2.5860,  34.9210,2,  34.9210,2,    242.4,2,    242.1,2,    44.49,2,    22.30,2,     1.32,2,   2349.8,2,   7.7310,2,    25.00
  06MM20060523, OVIDE,    28,  1,      6,2,20060531,0451, 43.7790, -17.0330, 4011,   3745.4,   2.5980,  34.9230,2,  34.9220,2,    243.0,2,    243.8,2,    43.05,2,    21.96,2,     1.30,2,   2346.7,2,   7.7310,2,    25.00
  06MM20060523, OVIDE,    28,  1,      7,2,20060531,0451, 43.7790, -17.0330, 4011,   3496.4,   2.6220,  34.9280,2,  34.9280,2,    244.9,2,    245.2,2,    41.33,2,    21.66,2,     1.27,2,   2345.4,2,   7.7330,2,    25.00
  06MM20060523, OVIDE,    28,  1,      8,2,20060531,0451, 43.7790, -17.0330, 4011,   3245.9,   2.6950,  34.9380,2,  34.9370,2,    248.8,2,    248.3,2,    36.74,2,    20.98,2,     1.23,2,   2340.9,2,   7.7320,2,    25.00
  06MM20060523, OVIDE,    28,  1,      9,2,20060531,0451, 43.7790, -17.0330, 4011,   2995.1,   2.8310,  34.9470,2,  34.9480,2,    252.3,2,    252.3,2,  -999.00,9,    20.30,2,     1.19,2,   2333.1,2,   7.7340,2,    25.00
  06MM20060523, OVIDE,    28,  1,     10,2,20060531,0451, 43.7790, -17.0330, 4011,   2743.9,   2.9970,  34.9560,2,  34.9550,2,    257.8,2,    257.3,2,    23.23,2,    19.42,2,     1.12,2,   2325.1,2,   7.7370,2,    25.00
  06MM20060523, OVIDE,    28,  1,     11,2,20060531,0451, 43.7790, -17.0330, 4011,   2495.8,   3.1600,  34.9540,2,  34.9540,2,    263.3,2,    262.9,2,    19.23,2,    18.64,2,     1.08,2,   2318.1,2,   7.7310,2,    25.00
  06MM20060523, OVIDE,    28,  1,     12,2,20060531,0451, 43.7790, -17.0330, 4011,   2497.1,   3.1600,  34.9540,2,  34.9550,2,    263.3,2,    262.8,2,    19.23,2,    18.64,2,     1.08,2,   2317.5,2,   7.7340,2,    25.00
  06MM20060523, OVIDE,    28,  1,     13,2,20060531,0451, 43.7790, -17.0330, 4011,   1993.7,   3.6150,  34.9530,2,  34.9600,2,    273.0,2,    268.9,2,    12.93,2,    17.81,2,     1.02,2,   2309.3,2,   7.7270,2,    25.00
  06MM20060523, OVIDE,    28,  1,     14,2,20060531,0451, 43.7790, -17.0330, 4011,   1797.4,   4.1190,  35.0180,2,  35.0170,2,    261.9,2,    260.1,2,    12.88,2,    17.61,2,     1.02,2,   2312.9,2,   7.7270,2,    25.00
  06MM20060523, OVIDE,    28,  1,     15,2,20060531,0451, 43.7790, -17.0330, 4011,   1596.6,   4.7890,  35.1120,2,  35.1140,2,    248.5,2,    249.0,2,    12.00,2,    18.30,2,     1.01,2,   2318.5,2,   7.7290,2,    25.00
  06MM20060523, OVIDE,    28,  1,     16,2,20060531,0451, 43.7790, -17.0330, 4011,   1396.5,   6.6780,  35.4230,2,  35.4200,2,    223.6,2,    224.5,2,    11.32,2,    17.80,2,     1.00,2,   2340.6,2,   7.7440,2,    25.00
  06MM20060523, OVIDE,    28,  1,     17,2,20060531,0451, 43.7790, -17.0330, 4011,   1129.4,   8.9410,  35.7370,2,  35.7330,2,    198.2,2,    196.6,2,     9.95,2,    17.41,2,     0.96,2,   2361.0,2,   7.7590,2,    25.00
  06MM20060523, OVIDE,    28,  1,     18,2,20060531,0451, 43.7790, -17.0330, 4011,    996.3,   9.2410,  35.7010,2,  35.6980,2,    190.4,2,    191.1,2,     9.56,2,    17.56,2,     0.93,2,   2356.3,2,   7.7570,2,    25.00
  06MM20060523, OVIDE,    28,  1,     19,2,20060531,0451, 43.7790, -17.0330, 4011,    897.0,   9.7430,  35.7190,2,  35.7170,2,    186.6,2,    186.7,2,     9.17,2,    17.31,2,     0.93,2,   2357.6,2,   7.7590,2,    25.00
  06MM20060523, OVIDE,    28,  1,     20,2,20060531,0451, 43.7790, -17.0330, 4011,    798.4,  10.1360,  35.6940,2,  35.6930,2,    185.5,2,    185.0,2,     8.63,2,    17.22,2,     0.93,2,   2352.4,2,   7.7620,2,    25.00
  06MM20060523, OVIDE,    28,  1,     21,2,20060531,0451, 43.7790, -17.0330, 4011,    696.8,  10.4600,  35.6280,2,  35.6270,2,    184.9,2,    187.0,2,     7.90,2,    17.07,2,     0.90,2,   2346.6,2,   7.7630,2,    25.00
  06MM20060523, OVIDE,    28,  1,     22,2,20060531,0451, 43.7790, -17.0330, 4011,    594.6,  10.7100,  35.5660,2,  35.5620,2,    192.5,2,    193.6,2,     6.83,2,    16.10,2,     0.83,2,   -999.0,9,   7.7700,2,    25.00
  06MM20060523, OVIDE,    28,  1,     23,2,20060531,0451, 43.7790, -17.0330, 4011,    496.3,  11.0570,  35.5470,2,  35.5450,2,    212.1,2,    207.7,2,     5.46,2,    14.34,2,     0.75,2,   2336.8,2,   7.7880,2,    25.00
  06MM20060523, OVIDE,    28,  1,     24,2,20060531,0451, 43.7790, -17.0330, 4011,    397.1,  11.4750,  35.5940,2,  35.5920,2,    223.5,2,    221.2,2,     4.10,2,    12.29,2,     0.62,2,   2336.4,2,   7.8120,2,    25.00
  06MM20060523, OVIDE,    28,  1,     25,2,20060531,0451, 43.7790, -17.0330, 4011,    295.1,  11.9900,  35.6630,2,  35.6570,3,    228.0,2,    225.3,2,     3.32,2,    10.63,2,     0.52,2,   -999.0,9,   7.8300,2,    25.00
  06MM20060523, OVIDE,    28,  1,     26,2,20060531,0451, 43.7790, -17.0330, 4011,    196.1,  12.5950,  35.7430,2,  35.7280,3,    234.4,2,    228.7,3,     2.93,2,     9.26,2,     0.47,2,   2343.5,2,   7.8560,2,    25.00
  06MM20060523, OVIDE,    28,  1,     27,2,20060531,0451, 43.7790, -17.0330, 4011,    147.2,  13.1420,  35.8160,2,  35.8100,2,    241.4,2,    241.3,2,     1.80,2,     6.44,2,     0.33,2,   -999.0,9,   7.8870,2,    25.00
  06MM20060523, OVIDE,    28,  1,     28,2,20060531,0451, 43.7790, -17.0330, 4011,     96.1,  13.4700,  35.8400,2,  35.8380,2,    249.1,2,    245.9,2,     1.17,2,     5.32,2,     0.28,2,   2350.6,2,   7.8960,2,    25.00
  06MM20060523, OVIDE,    28,  1,     29,2,20060531,0451, 43.7790, -17.0330, 4011,     46.8,  14.4250,  35.8940,2,  35.8950,2,    249.1,2,    247.3,2,     0.73,2,     2.63,2,     0.17,2,   -999.0,9,   7.9260,2,    25.00
  06MM20060523, OVIDE,    28,  1,     30,2,20060531,0451, 43.7790, -17.0330, 4011,     11.9,  15.2730,  35.9090,2,  35.9110,2,    248.4,2,    254.1,3,     0.39,2,     0.34,2,     0.06,2,   2359.2,2,   7.9640,2,    25.00
  06MM20060523, OVIDE,    29,  1,      3,2,20060601,1023, 44.0770, -17.4270, 3789,   3839.6,   2.5470,  34.9180,2,  34.9170,2,    242.8,2,    242.9,2,    44.20,2,    21.52,2,     1.33,2,   -999.0,9,   7.7300,2,    25.00
  06MM20060523, OVIDE,    29,  1,      4,2,20060601,1023, 44.0770, -17.4270, 3789,   3744.4,   2.6010,  34.9240,2,  34.9240,2,    244.4,2,    244.4,2,    42.19,2,    21.72,2,     1.30,2,   -999.0,9,   7.7320,2,    25.00
  06MM20060523, OVIDE,    29,  1,      5,2,20060601,1023, 44.0770, -17.4270, 3789,   3497.3,   2.6470,  34.9300,2,  34.9330,2,    245.8,2,    246.3,2,    39.61,2,    21.52,2,     1.25,2,   -999.0,9,   7.7330,2,    25.00
  06MM20060523, OVIDE,    29,  1,      6,2,20060601,1023, 44.0770, -17.4270, 3789,   3246.0,   2.7370,  34.9400,2,  34.9400,2,    248.8,2,    249.4,2,    35.88,2,    21.02,2,     1.23,2,   -999.0,9,   7.7340,2,    25.00
  06MM20060523, OVIDE,    29,  1,      7,2,20060601,1023, 44.0770, -17.4270, 3789,   2997.3,   2.8720,  34.9510,2,  34.9510,2,    252.2,2,    252.9,2,    31.57,2,    20.37,2,     1.18,2,   -999.0,9,   7.7360,2,    25.00
  06MM20060523, OVIDE,    29,  1,      8,2,20060601,1023, 44.0770, -17.4270, 3789,   2745.4,   3.0550,  34.9580,2,  34.9580,2,    257.5,2,    257.6,2,    22.64,2,    19.52,2,     1.13,2,   -999.0,9,   7.7350,2,    25.00
  06MM20060523, OVIDE,    29,  1,      9,2,20060601,1023, 44.0770, -17.4270, 3789,   2497.4,   3.2300,  34.9530,2,  34.9540,2,    264.2,2,    264.0,2,    18.05,2,    18.77,2,     1.08,2,   -999.0,9,   7.7320,2,    25.00
  06MM20060523, OVIDE,    29,  1,     10,2,20060601,1023, 44.0770, -17.4270, 3789,   2195.5,   3.3270,  34.9220,2,  34.9230,2,    274.1,2,    274.9,2,    13.27,2,    18.02,2,     1.03,2,   -999.0,9,   7.7300,2,    25.00
  06MM20060523, OVIDE,    29,  1,     11,2,20060601,1023, 44.0770, -17.4270, 3789,   1995.6,   3.4650,  34.9120,2,  34.9130,2,    277.1,2,    276.3,2,    11.71,2,    18.12,2,     1.01,2,   -999.0,9,   7.7210,2,    25.00
  06MM20060523, OVIDE,    29,  1,     12,2,20060601,1023, 44.0770, -17.4270, 3789,   1792.8,   3.8480,  34.9520,2,  34.9530,2,    268.7,2,    267.7,2,    11.71,2,    18.62,2,     1.02,2,   -999.0,9,   7.7210,2,    25.00
  06MM20060523, OVIDE,    29,  1,     13,2,20060601,1023, 44.0770, -17.4270, 3789,   1595.5,   4.4550,  35.0240,2,  35.0280,2,    259.4,2,    256.4,2,    11.42,2,    18.47,2,     1.02,2,   -999.0,9,   7.7230,2,    25.00
  06MM20060523, OVIDE,    29,  1,     14,2,20060601,1023, 44.0770, -17.4270, 3789,   1595.8,   4.4600,  35.0250,2,  35.0280,2,    259.4,2,    256.8,2,    11.42,2,    18.52,2,     1.04,2,   -999.0,9,   7.7210,2,    25.00
  06MM20060523, OVIDE,    29,  1,     15,2,20060601,1023, 44.0770, -17.4270, 3789,   1394.6,   5.7420,  35.2140,2,  35.2290,3,    235.9,2,    234.4,2,    11.22,2,    17.76,2,     1.02,2,   -999.0,9,   7.7290,2,    25.00
  06MM20060523, OVIDE,    29,  1,     16,2,20060601,1023, 44.0770, -17.4270, 3789,   1194.6,   8.6010,  35.7120,2,  35.7160,2,    200.8,2,    200.4,2,    10.34,2,    17.81,2,     0.93,2,   -999.0,9,   7.7600,2,    25.00
  06MM20060523, OVIDE,    29,  1,     17,2,20060601,1023, 44.0770, -17.4270, 3789,   1044.9,  10.0330,  35.9140,2,  35.9080,2,    186.2,2,    186.4,2,     9.46,2,    16.75,2,     0.92,2,   -999.0,9,   7.7750,2,    25.00
  06MM20060523, OVIDE,    29,  1,     18,2,20060601,1023, 44.0770, -17.4270, 3789,    894.6,  10.7590,  35.9360,2,  35.9330,2,    182.0,2,    182.2,2,     8.58,2,    16.35,2,     0.88,2,   -999.0,9,   7.7820,2,    25.00
  06MM20060523, OVIDE,    29,  1,     19,2,20060601,1023, 44.0770, -17.4270, 3789,    797.6,  10.2650,  35.7120,2,  35.7100,2,    184.8,2,    184.3,2,     8.73,2,    17.66,2,     0.93,2,   -999.0,9,   7.7650,2,    25.00
  06MM20060523, OVIDE,    29,  1,     20,2,20060601,1023, 44.0770, -17.4270, 3789,    693.6,  10.2850,  35.5740,2,  35.5750,2,    188.7,2,    186.9,2,     8.29,2,    17.66,2,     0.93,2,   -999.0,9,   7.7580,2,    25.00
  06MM20060523, OVIDE,    29,  1,     21,2,20060601,1023, 44.0770, -17.4270, 3789,    624.8,  10.5620,  35.5200,2,  35.5200,2,    195.8,2,    195.6,2,     7.22,2,    16.61,2,     0.87,2,   -999.0,9,   7.7640,2,    25.00
  06MM20060523, OVIDE,    29,  1,     22,2,20060601,1023, 44.0770, -17.4270, 3789,    495.1,  11.3810,  35.5810,2,  35.5800,2,    218.4,2,    218.1,2,     4.68,2,    12.80,2,     0.65,2,   -999.0,9,   7.8070,2,    25.00
  06MM20060523, OVIDE,    29,  1,     23,2,20060601,1023, 44.0770, -17.4270, 3789,    396.7,  11.6500,  35.6040,2,  35.6050,2,    222.0,2,    220.3,2,     4.19,2,    12.06,2,     0.61,2,   -999.0,9,   7.8130,2,    25.00
  06MM20060523, OVIDE,    29,  1,     24,2,20060601,1023, 44.0770, -17.4270, 3789,    295.0,  12.5290,  35.7640,2,  35.7620,2,    233.9,2,    241.1,3,     2.54,2,     7.60,2,     0.38,2,   -999.0,9,   7.8650,2,    25.00
  06MM20060523, OVIDE,    29,  1,     25,2,20060601,1023, 44.0770, -17.4270, 3789,    196.7,  12.9120,  35.7910,2,  35.7870,2,    236.6,2,    239.3,2,     2.44,2,     7.70,2,     0.36,2,   -999.0,9,   7.8710,2,    25.00
  06MM20060523, OVIDE,    29,  1,     26,2,20060601,1023, 44.0770, -17.4270, 3789,    146.4,  13.3210,  35.8430,2,  35.8410,2,    238.2,2,    238.7,2,     2.05,2,     6.45,2,     0.32,2,   -999.0,9,   7.8940,2,    25.00
  06MM20060523, OVIDE,    29,  1,     27,2,20060601,1023, 44.0770, -17.4270, 3789,     96.6,  13.9450,  35.9240,2,  35.9240,2,    239.3,2,    240.5,2,     1.66,2,     5.15,2,     0.26,2,   -999.0,9,   7.9060,2,    25.00
  06MM20060523, OVIDE,    29,  1,     28,2,20060601,1023, 44.0770, -17.4270, 3789,     46.3,  14.7050,  35.9090,2,  35.9120,2,    252.9,2,    258.6,2,     1.02,2,     1.90,2,     0.11,2,   -999.0,9,   7.9440,2,    25.00
  06MM20060523, OVIDE,    29,  1,     29,2,20060601,1023, 44.0770, -17.4270, 3789,      5.6,  15.6300,  35.9500,2,  35.9520,2,    250.7,2,    254.1,2,     0.44,2,     0.05,2,     0.03,2,   -999.0,9,   7.9530,2,    25.00