BOTTLE,20140930PRINUNIVRMK
EXPOCODE,SECT_ID,STNNBR,CASTNO,BTLNBR,BTLNBR_FLAG_W,DATE,TIME,LATITUDE,LONGITUDE,DEPTH,CTDPRS,CTDTMP,CTDSAL,CTDSAL_FLAG_W,SALNTY,SALNTY_FLAG_W,CTDOXY,CTDOXY_FLAG_W,OXYGEN,OXYGEN_FLAG_W,SILCAT,SILCAT_FLAG_W,NITRAT,NITRAT_FLAG_W,PHSPHT,PHSPHT_FLAG_W,ALKALI,ALKALI_FLAG_W,PH_SWS,PH_SWS_FLAG_W,PH_TMP
,,,,,,,,,,METERS,DBAR,ITS-90,PSS-78,,PSS-78,,UMOL/KG,,UMOL/KG,,UMOL/KG,,UMOL/KG,,UMOL/KG,,UMOL/KG,,,,DEG C
  06MM20060523, OVIDE,    63,  1,      3,2,20060609,0210, 56.0690, -27.1450, 2811,   2840.7,   2.7830,  34.9770,2,  34.9770,2,    270.2,2,    268.6,2,  -999.00,9,    17.92,2,     1.03,2,   -999.0,9,   7.7180,2,    25.00
  06MM20060523, OVIDE,    63,  1,      4,2,20060609,0210, 56.0690, -27.1450, 2811,   2797.3,   2.7770,  34.9740,2,  34.9730,2,    269.8,2,    268.9,2,    18.75,2,    17.92,2,     1.04,2,   -999.0,9,   7.7140,2,    25.00
  06MM20060523, OVIDE,    63,  1,      5,2,20060609,0210, 56.0690, -27.1450, 2811,   2744.6,   2.7830,  34.9730,2,  34.9720,2,    270.0,2,    271.9,2,    18.57,2,    18.02,2,     1.08,2,   -999.0,9,   7.7180,2,    25.00
  06MM20060523, OVIDE,    63,  1,      6,2,20060609,0210, 56.0690, -27.1450, 2811,   2595.5,   2.9280,  34.9860,2,  34.9850,2,    276.4,2,    276.1,2,    13.94,2,    17.03,2,     0.98,2,   -999.0,9,   7.7220,2,    25.00
  06MM20060523, OVIDE,    63,  1,      7,2,20060609,0210, 56.0690, -27.1450, 2811,   2495.5,   2.9400,  34.9720,2,  34.9720,2,    274.8,2,    275.3,2,    15.29,2,    17.43,2,     0.98,2,   -999.0,9,   7.7210,2,    25.00
  06MM20060523, OVIDE,    63,  1,      8,2,20060609,0210, 56.0690, -27.1450, 2811,   2245.1,   3.1240,  34.9550,2,  34.9550,2,    277.5,2,    277.1,2,    13.49,2,    17.48,2,     1.01,2,   -999.0,9,   7.7260,2,    25.00
  06MM20060523, OVIDE,    63,  1,      9,2,20060609,0210, 56.0690, -27.1450, 2811,   1895.9,   3.2500,  34.9110,2,  34.9110,2,    282.0,2,    281.1,2,    12.01,2,    17.77,2,     1.01,2,   -999.0,9,   7.7210,2,    25.00
  06MM20060523, OVIDE,    63,  1,     10,2,20060609,0210, 56.0690, -27.1450, 2811,   1595.4,   3.4230,  34.9060,2,  34.9070,2,    279.0,2,    279.0,2,    11.51,2,    17.63,2,     1.07,2,   -999.0,9,   7.7180,2,    25.00
  06MM20060523, OVIDE,    63,  1,     11,2,20060609,0210, 56.0690, -27.1450, 2811,   1394.9,   3.5520,  34.9060,2,  34.9060,2,    277.9,2,    277.1,2,  -999.00,9,  -999.00,9,  -999.00,9,   -999.0,9,   7.7170,2,    25.00
  06MM20060523, OVIDE,    63,  1,     12,2,20060609,0210, 56.0690, -27.1450, 2811,   1195.8,   3.6590,  34.8990,2,  34.9010,2,    278.8,2,    277.2,2,  -999.00,9,  -999.00,9,  -999.00,9,   -999.0,9,   7.7060,2,    25.00
  06MM20060523, OVIDE,    63,  1,     13,2,20060609,0210, 56.0690, -27.1450, 2811,    996.9,   3.8990,  34.9150,2,  34.9140,2,    272.6,2,    271.1,2,  -999.00,9,  -999.00,9,  -999.00,9,   -999.0,9,   7.7150,2,    25.00
  06MM20060523, OVIDE,    63,  1,     14,2,20060609,0210, 56.0690, -27.1450, 2811,    883.0,   4.0670,  34.9230,2,  34.9220,2,    270.0,2,    268.6,2,  -999.00,9,  -999.00,9,  -999.00,9,   -999.0,9,   7.7080,2,    25.00
  06MM20060523, OVIDE,    63,  1,     15,2,20060609,0210, 56.0690, -27.1450, 2811,    799.8,   4.2480,  34.9390,2,  34.9380,2,    263.4,2,    262.7,2,  -999.00,9,  -999.00,9,  -999.00,9,   -999.0,9,   7.6860,2,    25.00
  06MM20060523, OVIDE,    63,  1,     16,2,20060609,0210, 56.0690, -27.1450, 2811,    694.0,   4.6650,  34.9720,2,  34.9700,2,    252.1,2,    254.2,2,  -999.00,9,  -999.00,9,  -999.00,9,   -999.0,9,   7.7050,2,    25.00
  06MM20060523, OVIDE,    63,  1,     17,2,20060609,0210, 56.0690, -27.1450, 2811,    595.3,   4.9510,  34.9700,2,  34.9680,2,    249.2,2,    247.1,2,  -999.00,9,  -999.00,9,  -999.00,9,   -999.0,9,   7.6900,2,    25.00
  06MM20060523, OVIDE,    63,  1,     18,2,20060609,0210, 56.0690, -27.1450, 2811,    495.0,   5.3550,  34.9510,2,  34.9510,2,    238.6,2,    237.1,2,  -999.00,9,  -999.00,9,  -999.00,9,   -999.0,9,   7.6950,2,    25.00
  06MM20060523, OVIDE,    63,  1,     19,2,20060609,0210, 56.0690, -27.1450, 2811,    396.1,   6.2720,  35.0050,2,  35.0030,2,    223.9,2,    224.1,2,  -999.00,9,  -999.00,9,  -999.00,9,   -999.0,9,   7.6940,2,    25.00
  06MM20060523, OVIDE,    63,  1,     20,2,20060609,0210, 56.0690, -27.1450, 2811,    254.6,   7.4020,  34.9880,2,  34.9860,2,    217.8,2,    217.3,2,  -999.00,9,  -999.00,9,  -999.00,9,   -999.0,9,   7.7170,2,    25.00
  06MM20060523, OVIDE,    63,  1,     21,2,20060609,0210, 56.0690, -27.1450, 2811,    172.0,   7.9510,  34.9270,2,  34.9230,2,    263.1,2,    258.5,2,  -999.00,9,  -999.00,9,  -999.00,9,   -999.0,9,   7.7750,2,    25.00
  06MM20060523, OVIDE,    63,  1,     22,2,20060609,0210, 56.0690, -27.1450, 2811,    147.3,   8.5950,  35.0080,2,  35.0020,3,    272.8,2,    269.7,2,  -999.00,9,  -999.00,9,  -999.00,9,   -999.0,9,   7.8060,2,    25.00
  06MM20060523, OVIDE,    63,  1,     23,2,20060609,0210, 56.0690, -27.1450, 2811,     97.6,   8.6760,  34.9710,2,  34.9740,2,    276.6,2,    277.3,2,  -999.00,9,  -999.00,9,  -999.00,9,   -999.0,9,   7.8130,2,    25.00
  06MM20060523, OVIDE,    63,  1,     24,2,20060609,0210, 56.0690, -27.1450, 2811,     46.1,  10.0360,  35.0070,2,  35.0250,3,    290.5,2,    282.8,3,  -999.00,9,  -999.00,9,  -999.00,9,   -999.0,9,   7.8660,2,    25.00
  06MM20060523, OVIDE,    63,  1,     25,2,20060609,0210, 56.0690, -27.1450, 2811,      6.6,  10.3930,  34.9810,2,  34.9750,3,    283.3,2,    293.2,3,  -999.00,9,  -999.00,9,  -999.00,9,   -999.0,9,   7.8890,2,    25.00
  06MM20060523, OVIDE,    64,  1,      3,2,20060609,0534, 56.2540, -27.2890, 2742,   2768.3,   2.8040,  34.9830,2,  34.9850,2,    273.7,2,    272.6,2,    15.69,2,    17.78,2,     0.94,2,   2314.6,2,   7.7180,2,    25.00
  06MM20060523, OVIDE,    64,  1,      4,2,20060609,0534, 56.2540, -27.2890, 2742,   2694.2,   2.8110,  34.9790,2,  34.9800,2,    274.4,2,    272.1,2,    16.00,2,    17.39,2,     1.00,2,   2314.6,2,   7.7170,2,    25.00
  06MM20060523, OVIDE,    64,  1,      5,2,20060609,0534, 56.2540, -27.2890, 2742,   2595.2,   2.8450,  34.9760,2,  34.9770,2,    273.2,2,    272.7,2,    15.91,2,    17.44,2,     1.00,2,   2311.3,2,   7.7210,2,    25.00
  06MM20060523, OVIDE,    64,  1,      6,2,20060609,0534, 56.2540, -27.2890, 2742,   2497.1,   2.9090,  34.9740,2,  34.9760,2,    274.7,2,    272.4,2,    15.16,2,    17.49,2,     1.01,2,   2307.0,2,   7.7240,2,    25.00
  06MM20060523, OVIDE,    64,  1,      7,2,20060609,0534, 56.2540, -27.2890, 2742,   2244.8,   3.1330,  34.9560,2,  34.9580,2,    276.9,2,    275.7,2,    12.84,2,    17.14,2,     0.95,2,   2305.4,2,   7.7280,2,    25.00
  06MM20060523, OVIDE,    64,  1,      8,2,20060609,0534, 56.2540, -27.2890, 2742,   1995.4,   3.2230,  34.9240,2,  34.9250,2,    281.4,2,    279.4,2,    11.74,2,    17.54,2,     0.98,2,   2301.5,2,   7.7250,2,    25.00
  06MM20060523, OVIDE,    64,  1,      9,2,20060609,0534, 56.2540, -27.2890, 2742,   1794.4,   3.2840,  34.9030,2,  34.9040,2,    281.8,2,    280.5,2,    11.43,2,    17.83,2,     1.04,2,   2296.9,2,   7.7220,2,    25.00
  06MM20060523, OVIDE,    64,  1,     10,2,20060609,0534, 56.2540, -27.2890, 2742,   1495.2,   3.4920,  34.9060,2,  34.9080,2,    278.8,2,    276.8,2,    11.17,2,    18.13,2,     1.02,2,   2299.8,2,   7.7190,2,    25.00
  06MM20060523, OVIDE,    64,  1,     11,2,20060609,0534, 56.2540, -27.2890, 2742,   1394.2,   3.5640,  34.9050,2,  34.9080,2,    279.3,2,    276.0,2,    11.03,2,    18.18,2,     1.04,2,   2300.0,2,   7.7150,2,    25.00
  06MM20060523, OVIDE,    64,  1,     12,2,20060609,0534, 56.2540, -27.2890, 2742,   1195.0,   3.6560,  34.8970,2,  34.9070,3,    279.4,2,    276.9,2,    10.55,2,    18.03,2,     0.98,2,   2297.6,2,   7.7090,2,    25.00
  06MM20060523, OVIDE,    64,  1,     13,2,20060609,0534, 56.2540, -27.2890, 2742,    995.3,   3.8710,  34.9070,2,  34.9080,2,    275.9,2,    271.8,2,    10.51,2,    18.77,2,     1.03,2,   2297.5,2,   7.7050,2,    25.00
  06MM20060523, OVIDE,    64,  1,     14,2,20060609,0534, 56.2540, -27.2890, 2742,    894.9,   4.0500,  34.9200,2,  34.9200,2,    270.1,2,    266.9,2,    10.64,2,    18.53,2,     1.08,2,   -999.0,9,   7.6960,2,    25.00
  06MM20060523, OVIDE,    64,  1,     15,2,20060609,0534, 56.2540, -27.2890, 2742,    795.7,   4.2740,  34.9320,2,  34.9320,2,    263.2,2,    260.5,2,    10.68,2,    18.82,2,     1.02,2,   2298.5,2,   7.6930,2,    25.00
  06MM20060523, OVIDE,    64,  1,     16,2,20060609,0534, 56.2540, -27.2890, 2742,    694.4,   4.5850,  34.9490,2,  34.9500,2,    254.9,2,    252.0,2,    10.81,2,    19.17,2,     1.07,2,   -999.0,9,   7.6930,2,    25.00
  06MM20060523, OVIDE,    64,  1,     17,2,20060609,0534, 56.2540, -27.2890, 2742,    690.9,   4.6240,  34.9530,2,  34.9520,2,    254.4,2,    252.1,2,    10.90,2,    19.07,2,     1.07,2,   -999.0,9,   7.6930,2,    25.00
  06MM20060523, OVIDE,    64,  1,     18,2,20060609,0534, 56.2540, -27.2890, 2742,    594.3,   5.0160,  34.9660,2,  34.9670,2,    245.5,2,    243.0,2,    10.99,2,    19.32,2,     1.11,2,   2299.0,2,   7.6970,2,    25.00
  06MM20060523, OVIDE,    64,  1,     19,2,20060609,0534, 56.2540, -27.2890, 2742,    494.2,   5.6640,  34.9800,2,  34.9830,2,    233.9,2,    232.8,2,    10.90,2,    19.72,2,     1.14,2,   2301.6,2,   7.6960,2,    25.00
  06MM20060523, OVIDE,    64,  1,     20,2,20060609,0534, 56.2540, -27.2890, 2742,    396.3,   6.2910,  34.9760,2,  34.9760,2,    227.9,2,    225.6,2,    10.64,2,    19.72,2,     1.15,2,   2304.4,2,   7.7000,2,    25.00
  06MM20060523, OVIDE,    64,  1,     21,2,20060609,0534, 56.2540, -27.2890, 2742,    327.3,   6.9800,  34.9920,2,  34.9910,2,    220.9,2,    219.4,2,     9.80,2,    19.47,2,     1.08,2,   -999.0,9,   7.7090,2,    25.00
  06MM20060523, OVIDE,    64,  1,     22,2,20060609,0534, 56.2540, -27.2890, 2742,    294.6,   7.2410,  34.9660,2,  34.9700,2,    229.1,2,    224.9,2,     9.23,2,    18.43,2,     1.03,2,   2302.4,2,   7.7180,2,    25.00
  06MM20060523, OVIDE,    64,  1,     23,2,20060609,0534, 56.2540, -27.2890, 2742,    195.0,   7.9200,  34.9460,2,  34.9470,2,    270.2,2,    263.3,3,     5.72,2,    13.32,2,     0.78,2,   -999.0,9,   7.7790,2,    25.00
  06MM20060523, OVIDE,    64,  1,     24,2,20060609,0534, 56.2540, -27.2890, 2742,    145.6,   8.0350,  34.9330,2,  34.9330,2,    277.6,2,    281.8,2,     3.52,2,    10.35,2,     0.65,2,   2301.4,2,   7.8070,2,    25.00
  06MM20060523, OVIDE,    64,  1,     26,2,20060609,0534, 56.2540, -27.2890, 2742,     45.6,   9.2620,  34.9500,2,  34.9590,3,    282.1,2,    284.8,2,     1.54,2,     7.13,2,     0.48,2,   -999.0,9,   7.8420,2,    25.00
  06MM20060523, OVIDE,    64,  1,     27,2,20060609,0534, 56.2540, -27.2890, 2742,     10.4,   9.9930,  34.9480,2,  34.9520,2,    292.1,2,    296.8,2,     0.88,2,     4.90,2,     0.32,2,   2299.7,2,   7.8850,2,    25.00
  06MM20060523, OVIDE,    65,  1,      3,2,20060610,0935, 56.4410, -27.4350, 2724,   2752.2,   2.7950,  34.9820,2,  34.9810,2,    270.4,2,    270.8,2,    16.37,2,    17.98,2,     1.00,2,   -999.0,9,   7.7170,2,    25.00
  06MM20060523, OVIDE,    65,  1,      4,2,20060610,0935, 56.4410, -27.4350, 2724,   2497.7,   2.9020,  34.9710,2,  34.9710,2,    270.8,2,    272.1,2,    15.40,2,    17.77,2,     1.00,2,   -999.0,9,   7.7240,2,    25.00
  06MM20060523, OVIDE,    65,  1,      5,2,20060610,0935, 56.4410, -27.4350, 2724,   2246.6,   3.1120,  34.9510,2,  34.9500,2,    273.6,2,    275.7,2,    12.95,2,    18.03,2,     1.01,2,   -999.0,9,   7.7280,2,    25.00
  06MM20060523, OVIDE,    65,  1,      6,2,20060610,0935, 56.4410, -27.4350, 2724,   1996.2,   3.2090,  34.9220,2,  34.9210,2,    278.5,2,    279.6,2,    11.82,2,    18.28,2,     0.95,2,   -999.0,9,   7.7260,2,    25.00
  06MM20060523, OVIDE,    65,  1,      7,2,20060610,0935, 56.4410, -27.4350, 2724,   1795.9,   3.2820,  34.9070,2,  34.9060,2,    280.3,2,    280.8,2,    11.33,2,    18.34,2,     0.99,2,   -999.0,9,   7.7280,2,    25.00
  06MM20060523, OVIDE,    65,  1,      8,2,20060610,0935, 56.4410, -27.4350, 2724,   1596.7,   3.3970,  34.9040,2,  34.9030,2,    277.9,2,    278.8,2,    11.25,2,    18.49,2,     1.03,2,   -999.0,9,   7.7200,2,    25.00
  06MM20060523, OVIDE,    65,  1,      9,2,20060610,0935, 56.4410, -27.4350, 2724,   1396.0,   3.5480,  34.9070,2,  34.9060,2,    276.3,2,    276.0,2,    11.07,2,    18.95,2,     1.06,2,   -999.0,9,   7.7120,2,    25.00
  06MM20060523, OVIDE,    65,  1,     10,2,20060610,0935, 56.4410, -27.4350, 2724,   1197.1,   3.6680,  34.9030,2,  34.9040,2,    275.1,2,    276.2,2,    10.72,2,    18.75,2,     1.00,2,   -999.0,9,   7.7080,2,    25.00
  06MM20060523, OVIDE,    65,  1,     11,2,20060610,0935, 56.4410, -27.4350, 2724,    995.8,   3.8610,  34.9120,2,  34.9110,2,    271.1,2,    272.4,2,    10.59,2,    18.70,2,     1.04,2,   -999.0,9,   7.7040,2,    25.00
  06MM20060523, OVIDE,    65,  1,     12,2,20060610,0935, 56.4410, -27.4350, 2724,    795.7,   4.2560,  34.9370,2,  34.9360,2,    259.3,2,    263.0,2,    10.63,2,    18.59,2,     1.07,2,   -999.0,9,   7.6960,2,    25.00
  06MM20060523, OVIDE,    65,  1,     13,2,20060610,0935, 56.4410, -27.4350, 2724,    696.1,   4.5860,  34.9590,2,  34.9580,2,    252.1,2,    253.6,2,  -999.00,9,  -999.00,9,  -999.00,9,   -999.0,9,   7.6950,2,    25.00
  06MM20060523, OVIDE,    65,  1,     14,2,20060610,0935, 56.4410, -27.4350, 2724,    595.7,   4.9880,  34.9740,2,  34.9720,2,    242.0,2,    244.6,2,  -999.00,9,  -999.00,9,  -999.00,9,   -999.0,9,   7.6950,2,    25.00
  06MM20060523, OVIDE,    65,  1,     15,2,20060610,0935, 56.4410, -27.4350, 2724,    496.8,   5.5930,  34.9910,2,  34.9880,2,    233.0,2,    232.7,2,  -999.00,9,  -999.00,9,  -999.00,9,   -999.0,9,   7.6930,2,    25.00
  06MM20060523, OVIDE,    65,  1,     16,2,20060610,0935, 56.4410, -27.4350, 2724,    396.0,   6.2320,  34.9760,2,  34.9790,2,    223.9,2,    224.4,2,  -999.00,9,  -999.00,9,  -999.00,9,   -999.0,9,   7.6970,2,    25.00
  06MM20060523, OVIDE,    65,  1,     17,2,20060610,0935, 56.4410, -27.4350, 2724,    295.7,   7.1180,  34.9700,2,  34.9700,2,    218.6,2,    225.2,2,  -999.00,9,  -999.00,9,  -999.00,9,   -999.0,9,   7.7140,2,    25.00
  06MM20060523, OVIDE,    65,  1,     18,2,20060610,0935, 56.4410, -27.4350, 2724,    196.1,   7.9150,  34.9870,2,  34.9870,2,    275.0,2,    270.2,2,  -999.00,9,  -999.00,9,  -999.00,9,   -999.0,9,   7.7760,2,    25.00
  06MM20060523, OVIDE,    65,  1,     19,2,20060610,0935, 56.4410, -27.4350, 2724,    196.2,   7.9050,  34.9850,2,  34.9830,2,    275.0,2,    271.0,2,  -999.00,9,  -999.00,9,  -999.00,9,   -999.0,9,   7.7760,2,    25.00
  06MM20060523, OVIDE,    65,  1,     20,2,20060610,0935, 56.4410, -27.4350, 2724,    146.6,   7.9080,  34.9450,2,  34.9390,3,    269.2,2,    265.4,2,  -999.00,9,  -999.00,9,  -999.00,9,   -999.0,9,   7.8020,2,    25.00
  06MM20060523, OVIDE,    65,  1,     21,2,20060610,0935, 56.4410, -27.4350, 2724,     96.8,   8.9680,  35.0780,2,  35.0690,3,    276.4,2,    264.2,3,  -999.00,9,  -999.00,9,  -999.00,9,   -999.0,9,   7.8160,2,    25.00
  06MM20060523, OVIDE,    65,  1,     22,2,20060610,0935, 56.4410, -27.4350, 2724,     46.7,   9.7420,  34.9370,2,  34.9380,2,    291.2,2,    289.1,2,  -999.00,9,  -999.00,9,  -999.00,9,   -999.0,9,   7.8450,2,    25.00
  06MM20060523, OVIDE,    65,  1,     23,2,20060610,0935, 56.4410, -27.4350, 2724,     12.0,   9.7650,  34.9280,2,  34.9260,2,    287.5,2,    295.2,3,  -999.00,9,  -999.00,9,  -999.00,9,   -999.0,9,   7.8790,2,    25.00