BOTTLE,20140930PRINUNIVRMK
EXPOCODE,SECT_ID,STNNBR,CASTNO,BTLNBR,BTLNBR_FLAG_W,DATE,TIME,LATITUDE,LONGITUDE,DEPTH,CTDPRS,CTDTMP,CTDSAL,CTDSAL_FLAG_W,SALNTY,SALNTY_FLAG_W,CTDOXY,CTDOXY_FLAG_W,OXYGEN,OXYGEN_FLAG_W,SILCAT,SILCAT_FLAG_W,NITRAT,NITRAT_FLAG_W,PHSPHT,PHSPHT_FLAG_W,ALKALI,ALKALI_FLAG_W,PH_SWS,PH_SWS_FLAG_W,PH_TMP
,,,,,,,,,,METERS,DBAR,ITS-90,PSS-78,,PSS-78,,UMOL/KG,,UMOL/KG,,UMOL/KG,,UMOL/KG,,UMOL/KG,,UMOL/KG,,,,DEG C
  06MM20060523, OVIDE,    33,  1,      3,2,20060602,0949, 45.4220, -18.7980, 4572,   4645.0,   2.6010,  34.9140,2,  34.9120,2,    241.2,2,    241.6,2,    47.63,2,    22.81,2,     1.32,2,   -999.0,9,   7.7270,2,    25.00
  06MM20060523, OVIDE,    33,  1,      4,2,20060602,0949, 45.4220, -18.7980, 4572,   4196.2,   2.5760,  34.9160,2,  34.9160,2,    242.9,2,    242.1,2,    46.46,2,    22.44,2,     1.29,2,   -999.0,9,   7.7290,2,    25.00
  06MM20060523, OVIDE,    33,  1,      5,2,20060602,0949, 45.4220, -18.7980, 4572,   3795.5,   2.5950,  34.9220,2,  34.9230,2,    243.7,2,    244.0,2,    43.70,2,    21.90,2,     1.26,2,   -999.0,9,   7.7270,2,    25.00
  06MM20060523, OVIDE,    33,  1,      6,2,20060602,0949, 45.4220, -18.7980, 4572,   3497.0,   2.6750,  34.9300,2,  34.9320,2,    246.8,2,    247.8,2,    39.76,2,    20.79,2,     1.22,2,   -999.0,9,   7.7300,2,    25.00
  06MM20060523, OVIDE,    33,  1,      7,2,20060602,0949, 45.4220, -18.7980, 4572,   3239.1,   2.7630,  34.9390,2,  34.9400,2,    250.0,2,    251.4,2,    35.68,2,    20.79,2,     1.15,2,   -999.0,9,   7.7330,2,    25.00
  06MM20060523, OVIDE,    33,  1,      8,2,20060602,0949, 45.4220, -18.7980, 4572,   2997.3,   2.8930,  34.9500,2,  34.9500,2,    254.2,2,    254.9,2,    31.32,2,    20.42,2,     0.98,3,   -999.0,9,   7.7310,2,    25.00
  06MM20060523, OVIDE,    33,  1,      9,2,20060602,0949, 45.4220, -18.7980, 4572,   2747.7,   3.0550,  34.9530,2,  34.9530,2,    260.0,2,    260.1,2,    21.28,2,    19.46,2,     1.06,2,   -999.0,9,   7.7310,2,    25.00
  06MM20060523, OVIDE,    33,  1,     10,2,20060602,0949, 45.4220, -18.7980, 4572,   2498.3,   3.2150,  34.9430,2,  34.9420,2,    269.2,2,    268.0,2,    16.28,2,    17.93,2,     1.01,2,   -999.0,9,   7.7290,2,    25.00
  06MM20060523, OVIDE,    33,  1,     11,2,20060602,0949, 45.4220, -18.7980, 4572,   2245.9,   3.2970,  34.9190,2,  34.9290,3,    275.1,2,    275.7,2,    12.85,2,    17.66,2,     0.98,2,   -999.0,9,   7.7270,2,    25.00
  06MM20060523, OVIDE,    33,  1,     12,2,20060602,0949, 45.4220, -18.7980, 4572,   1995.0,   3.4890,  34.9170,2,  34.9180,2,    274.6,2,    275.4,2,    11.77,2,    18.35,2,     0.80,3,   -999.0,9,   7.7240,2,    25.00
  06MM20060523, OVIDE,    33,  1,     13,2,20060602,0949, 45.4220, -18.7980, 4572,   1795.3,   3.7290,  34.9330,2,  34.9340,2,    270.3,2,    270.3,2,    11.28,2,    18.14,2,     0.99,2,   -999.0,9,   7.7210,2,    25.00
  06MM20060523, OVIDE,    33,  1,     14,2,20060602,0949, 45.4220, -18.7980, 4572,   1594.6,   4.2510,  34.9940,2,  34.9950,2,    259.5,2,    267.2,3,    11.08,2,    18.35,2,     1.00,2,   -999.0,9,   7.7180,2,    25.00
  06MM20060523, OVIDE,    33,  1,     15,2,20060602,0949, 45.4220, -18.7980, 4572,   1394.5,   4.9710,  35.0700,2,  35.0720,2,    245.7,2,    247.0,2,    10.94,2,    18.98,2,     1.01,2,   -999.0,9,   7.7180,2,    25.00
  06MM20060523, OVIDE,    33,  1,     16,2,20060602,0949, 45.4220, -18.7980, 4572,   1246.1,   6.4670,  35.3090,2,  35.3070,2,    226.5,2,    225.0,2,    10.74,2,    18.98,2,     1.00,2,   -999.0,9,   7.7290,2,    25.00
  06MM20060523, OVIDE,    33,  1,     17,2,20060602,0949, 45.4220, -18.7980, 4572,   1146.3,   8.0320,  35.5670,2,  35.5840,3,    208.3,2,    212.1,2,     8.38,3,    16.12,2,     0.80,2,   -999.0,9,   7.7700,2,    25.00
  06MM20060523, OVIDE,    33,  1,     18,2,20060602,0949, 45.4220, -18.7980, 4572,   1016.2,   8.3170,  35.4980,2,  35.4930,2,    199.3,2,    198.9,2,    10.20,2,    19.03,2,     0.98,2,   -999.0,9,   7.7370,2,    25.00
  06MM20060523, OVIDE,    33,  1,     19,2,20060602,0949, 45.4220, -18.7980, 4572,   1016.5,   8.3180,  35.4980,2,  35.4950,2,    199.5,2,    198.7,2,    10.15,2,    18.66,2,     0.99,2,   -999.0,9,   7.7400,2,    25.00
  06MM20060523, OVIDE,    33,  1,     20,2,20060602,0949, 45.4220, -18.7980, 4572,    846.3,   9.1650,  35.4890,2,  35.4800,3,    189.1,2,    189.5,2,     9.61,2,    18.98,2,     0.98,2,   -999.0,9,   7.7410,2,    25.00
  06MM20060523, OVIDE,    33,  1,     21,2,20060602,0949, 45.4220, -18.7980, 4572,    706.3,   9.7340,  35.3680,2,  35.3670,2,    194.1,2,    191.6,2,     8.63,2,    18.66,2,     0.96,2,   -999.0,9,   7.7460,2,    25.00
  06MM20060523, OVIDE,    33,  1,     22,2,20060602,0949, 45.4220, -18.7980, 4572,    595.1,  10.6840,  35.4670,2,  35.4700,2,    203.9,2,    206.0,2,     6.42,2,    15.85,2,     0.79,2,   -999.0,9,   7.7800,2,    25.00
  06MM20060523, OVIDE,    33,  1,     23,2,20060602,0949, 45.4220, -18.7980, 4572,    496.1,  11.3740,  35.5560,2,  35.5530,2,    219.2,2,    220.3,2,     4.76,2,    13.15,2,     0.62,2,   -999.0,9,   7.8100,2,    25.00
  06MM20060523, OVIDE,    33,  1,     24,2,20060602,0949, 45.4220, -18.7980, 4572,    396.0,  11.7510,  35.5960,2,  35.5960,2,    227.8,2,    224.3,2,     4.26,2,    12.09,2,     0.61,2,   -999.0,9,   7.8260,2,    25.00
  06MM20060523, OVIDE,    33,  1,     25,2,20060602,0949, 45.4220, -18.7980, 4572,    295.4,  12.2300,  35.6610,2,  35.6600,2,    244.2,2,    230.6,3,     3.53,2,    10.60,2,     0.50,2,   -999.0,9,   7.8470,2,    25.00
  06MM20060523, OVIDE,    33,  1,     26,2,20060602,0949, 45.4220, -18.7980, 4572,    196.4,  12.8910,  35.7600,2,  35.7590,2,    244.0,2,    247.5,2,     2.55,2,     7.32,2,     0.36,2,   -999.0,9,   7.8870,2,    25.00
  06MM20060523, OVIDE,    33,  1,     27,2,20060602,0949, 45.4220, -18.7980, 4572,    146.4,  12.8970,  35.7470,2,  35.7480,2,    246.7,2,    248.6,2,     2.70,2,     7.58,2,     0.38,2,   -999.0,9,   7.8870,2,    25.00
  06MM20060523, OVIDE,    33,  1,     28,2,20060602,0949, 45.4220, -18.7980, 4572,     96.3,  13.2010,  35.8060,2,  35.8060,2,    241.1,2,    246.9,2,     2.25,2,     6.89,2,     0.33,2,   -999.0,9,   7.8910,2,    25.00
  06MM20060523, OVIDE,    33,  1,     29,2,20060602,0949, 45.4220, -18.7980, 4572,     48.6,  13.8440,  35.7750,2,  35.7770,2,    262.2,2,    258.2,2,     1.47,2,     3.60,2,     0.19,2,   -999.0,9,   7.9270,2,    25.00
  06MM20060523, OVIDE,    33,  1,     30,2,20060602,0949, 45.4220, -18.7980, 4572,      7.2,  14.6910,  35.8080,2,  35.8110,2,    247.1,2,    263.6,3,     0.69,2,     2.12,2,     0.10,2,   -999.0,9,   7.9580,2,    25.00
  06MM20060523, OVIDE,    34,  1,      3,2,20060602,1543, 45.7950, -19.0910, 4522,   4587.9,   2.6020,  34.9150,2,  34.9110,2,    240.9,2,    241.4,2,    46.48,2,    23.19,2,     1.31,2,   2354.5,2,   7.7310,2,    25.00
  06MM20060523, OVIDE,    34,  1,      4,2,20060602,1543, 45.7950, -19.0910, 4522,   3999.0,   2.5850,  34.9180,2,  34.9190,2,    242.1,2,    243.4,2,    44.45,2,    22.92,2,     1.29,2,   2353.7,2,   7.7320,2,    25.00
  06MM20060523, OVIDE,    34,  1,      5,2,20060602,1543, 45.7950, -19.0910, 4522,   3747.1,   2.6160,  34.9230,2,  34.9230,2,    244.4,2,    245.3,2,    42.13,2,    21.93,2,     1.27,2,   2345.0,2,   7.7280,2,    25.00
  06MM20060523, OVIDE,    34,  1,      6,2,20060602,1543, 45.7950, -19.0910, 4522,   3497.5,   2.7100,  34.9330,2,  34.9340,2,    249.0,2,    250.3,2,    37.50,2,    21.60,2,     1.22,2,   2339.2,2,   7.7310,2,    25.00
  06MM20060523, OVIDE,    34,  1,      7,2,20060602,1543, 45.7950, -19.0910, 4522,   3247.6,   2.8200,  34.9420,2,  34.9440,2,    251.3,2,    253.9,2,    34.02,2,    20.28,2,     1.15,2,   2333.7,2,   7.7310,2,    25.00
  06MM20060523, OVIDE,    34,  1,      8,2,20060602,1543, 45.7950, -19.0910, 4522,   2998.9,   2.9580,  34.9510,2,  34.9490,2,    254.4,2,    255.1,2,    31.13,2,    20.23,2,     1.15,2,   2330.7,2,   7.7300,2,    25.00
  06MM20060523, OVIDE,    34,  1,      9,2,20060602,1543, 45.7950, -19.0910, 4522,   2748.0,   3.0820,  34.9410,2,  34.9400,2,    267.9,2,    268.5,2,    17.51,2,    18.59,2,     0.97,2,   2314.4,2,   7.7290,2,    25.00
  06MM20060523, OVIDE,    34,  1,     10,2,20060602,1543, 45.7950, -19.0910, 4522,   2500.5,   3.1750,  34.9200,2,  34.9200,2,    275.4,2,    275.5,2,    13.83,2,    17.93,2,     0.98,2,   2309.5,2,   7.7300,2,    25.00
  06MM20060523, OVIDE,    34,  1,     11,2,20060602,1543, 45.7950, -19.0910, 4522,   2245.6,   3.2770,  34.9020,2,  34.8990,2,    278.1,2,    279.4,2,    12.31,2,    18.37,2,     0.98,2,   2304.4,2,   7.7240,2,    25.00
  06MM20060523, OVIDE,    34,  1,     12,2,20060602,1543, 45.7950, -19.0910, 4522,   1995.8,   3.4620,  34.9040,2,  34.9030,2,    277.0,2,    277.1,2,    11.82,2,    18.20,2,     0.98,2,   2304.8,2,   7.7230,2,    25.00
  06MM20060523, OVIDE,    34,  1,     13,2,20060602,1543, 45.7950, -19.0910, 4522,   1798.0,   3.6700,  34.9160,2,  34.9180,2,    272.8,2,    273.5,2,    11.38,2,    18.53,2,     0.96,2,   2305.6,2,   7.7210,2,    25.00
  06MM20060523, OVIDE,    34,  1,     14,2,20060602,1543, 45.7950, -19.0910, 4522,   1595.6,   3.9180,  34.9270,2,  34.9270,2,    267.1,2,    269.9,2,    10.94,2,    18.64,2,     0.98,2,   2306.4,2,   7.7150,2,    25.00
  06MM20060523, OVIDE,    34,  1,     15,2,20060602,1543, 45.7950, -19.0910, 4522,   1396.7,   4.7100,  35.0240,2,  35.0280,2,    244.3,2,    251.9,3,    10.98,2,    19.24,2,     1.02,2,   2314.6,2,   7.7150,2,    25.00
  06MM20060523, OVIDE,    34,  1,     16,2,20060602,1543, 45.7950, -19.0910, 4522,   1197.2,   6.1020,  35.1790,2,  35.1790,2,    226.2,2,    228.2,2,    11.08,2,    19.62,2,     1.04,2,   2323.6,2,   7.7190,2,    25.00
  06MM20060523, OVIDE,    34,  1,     17,2,20060602,1543, 45.7950, -19.0910, 4522,    995.9,   7.9280,  35.3460,2,  35.3450,2,    197.0,2,    199.9,2,    10.59,2,    19.95,2,     1.02,2,   2333.8,2,   7.7290,2,    25.00
  06MM20060523, OVIDE,    34,  1,     18,2,20060602,1543, 45.7950, -19.0910, 4522,    897.6,   8.7270,  35.3680,2,  35.3660,2,    189.4,2,    192.6,2,    10.10,2,    19.84,2,     0.95,2,   2333.8,2,   7.7300,2,    25.00
  06MM20060523, OVIDE,    34,  1,     19,2,20060602,1543, 45.7950, -19.0910, 4522,    846.9,   8.9410,  35.3330,2,  35.3250,3,    189.3,2,    189.3,2,     9.85,2,    20.17,2,     1.04,2,   2330.0,2,   7.7290,2,    25.00
  06MM20060523, OVIDE,    34,  1,     20,2,20060602,1543, 45.7950, -19.0910, 4522,    697.2,  10.2830,  35.4070,2,  35.4050,2,    201.5,2,    197.7,2,     7.65,2,    17.54,2,     0.88,2,   2329.3,2,   7.7630,2,    25.00
  06MM20060523, OVIDE,    34,  1,     21,2,20060602,1543, 45.7950, -19.0910, 4522,    696.4,  10.2720,  35.4070,2,  35.4040,2,    201.7,2,    198.5,2,     7.50,2,    17.54,2,     0.88,2,   2331.6,2,   7.7630,2,    25.00
  06MM20060523, OVIDE,    34,  1,     22,2,20060602,1543, 45.7950, -19.0910, 4522,    596.8,  11.2720,  35.5380,2,  35.5330,2,    226.4,2,    228.3,2,     4.61,2,    13.04,2,     0.62,2,   -999.0,9,   7.8160,2,    25.00
  06MM20060523, OVIDE,    34,  1,     23,2,20060602,1543, 45.7950, -19.0910, 4522,    497.8,  11.6920,  35.5880,2,  35.5850,2,    238.7,2,    241.7,2,     3.63,2,    10.90,2,     0.52,2,   2337.8,2,   7.8440,2,    25.00
  06MM20060523, OVIDE,    34,  1,     24,2,20060602,1543, 45.7950, -19.0910, 4522,    395.5,  12.0930,  35.6350,2,  35.6350,2,    240.6,2,    239.0,2,     3.43,2,    10.41,2,     0.47,2,   2343.6,2,   7.8510,2,    25.00
  06MM20060523, OVIDE,    34,  1,     25,2,20060602,1543, 45.7950, -19.0910, 4522,    295.8,  12.5680,  35.7130,2,  35.7150,2,    242.8,2,    247.1,2,     2.84,2,     7.56,2,     0.40,2,   2345.5,2,   7.8750,2,    25.00
  06MM20060523, OVIDE,    34,  1,     26,2,20060602,1543, 45.7950, -19.0910, 4522,    199.2,  12.7050,  35.7360,2,  35.7360,2,    246.5,2,    246.1,2,     2.74,2,     7.84,2,     0.38,2,   -999.0,9,   7.8800,2,    25.00
  06MM20060523, OVIDE,    34,  1,     27,2,20060602,1543, 45.7950, -19.0910, 4522,     95.4,  13.3720,  35.7440,2,  35.7480,2,    252.4,2,    253.0,2,     1.62,2,     5.37,2,     0.28,2,   2350.7,2,   7.9030,2,    25.00
  06MM20060523, OVIDE,    34,  1,     28,2,20060602,1543, 45.7950, -19.0910, 4522,     44.7,  13.7470,  35.7400,2,  35.7380,2,    261.8,2,    263.4,2,     0.93,2,     3.62,2,     0.19,2,   -999.0,9,   7.9310,2,    25.00
  06MM20060523, OVIDE,    34,  1,     29,2,20060602,1543, 45.7950, -19.0910, 4522,     12.1,  14.6260,  35.7690,2,  35.7710,2,    247.9,2,    265.8,3,     0.54,2,     2.79,2,     0.13,2,   -999.0,9,   7.9470,2,    25.00
  06MM20060523, OVIDE,    35,  1,      3,2,20060602,2130, 46.1720, -19.3880, 4611,   4684.8,   2.6170,  34.9150,2,  34.9150,2,    241.5,2,    241.3,2,    46.62,2,    22.64,2,     1.31,2,   -999.0,9,   7.7290,2,    25.00
  06MM20060523, OVIDE,    35,  1,      4,2,20060602,2130, 46.1720, -19.3880, 4611,   4298.8,   2.5850,  34.9160,2,  34.9160,2,    242.2,2,    242.4,2,    46.33,2,    22.86,2,     1.33,2,   -999.0,9,   7.7300,2,    25.00
  06MM20060523, OVIDE,    35,  1,      5,2,20060602,2130, 46.1720, -19.3880, 4611,   3895.5,   2.5980,  34.9220,2,  34.9250,2,    244.8,2,    244.4,2,    43.44,2,    21.98,2,     1.25,2,   -999.0,9,   7.7280,2,    25.00
  06MM20060523, OVIDE,    35,  1,      6,2,20060602,2130, 46.1720, -19.3880, 4611,   3495.9,   2.7110,  34.9350,2,  34.9360,2,    251.9,2,    251.5,2,    36.92,2,    20.67,2,     1.17,2,   -999.0,9,   7.7300,2,    25.00
  06MM20060523, OVIDE,    35,  1,      7,2,20060602,2130, 46.1720, -19.3880, 4611,   3210.2,   2.8530,  34.9470,2,  34.9480,2,    253.3,2,    253.5,2,    33.01,2,    20.34,2,     1.14,2,   -999.0,9,   7.7310,2,    25.00
  06MM20060523, OVIDE,    35,  1,      8,2,20060602,2130, 46.1720, -19.3880, 4611,   2996.7,   3.0080,  34.9520,2,  34.9530,2,    258.6,2,    258.4,2,    23.06,2,    19.79,2,     1.11,2,   -999.0,9,   7.7300,2,    25.00
  06MM20060523, OVIDE,    35,  1,      9,2,20060602,2130, 46.1720, -19.3880, 4611,   2745.5,   3.1520,  34.9450,2,  34.9460,2,    267.7,2,    267.1,2,    17.04,2,    18.53,2,     1.03,2,   -999.0,9,   7.7310,2,    25.00
  06MM20060523, OVIDE,    35,  1,     10,2,20060602,2130, 46.1720, -19.3880, 4611,   2497.8,   3.2000,  34.9210,2,  34.9240,2,    276.5,2,    275.8,2,    13.35,2,    17.82,2,     1.00,2,   -999.0,9,   7.7310,2,    25.00
  06MM20060523, OVIDE,    35,  1,     11,2,20060602,2130, 46.1720, -19.3880, 4611,   2242.7,   3.3010,  34.9020,2,  34.9040,2,    280.7,2,    279.6,2,    11.53,2,    17.76,2,     0.97,2,   -999.0,9,   7.7250,2,    25.00
  06MM20060523, OVIDE,    35,  1,     12,2,20060602,2130, 46.1720, -19.3880, 4611,   1996.0,   3.4720,  34.9050,2,  34.9070,2,    277.2,2,    277.2,2,    11.02,2,    17.98,2,     0.97,2,   -999.0,9,   7.7230,2,    25.00
  06MM20060523, OVIDE,    35,  1,     13,2,20060602,2130, 46.1720, -19.3880, 4611,   1795.0,   3.6730,  34.9140,2,  34.9160,2,    274.6,2,    273.4,2,    10.72,2,    17.87,2,     0.97,2,   -999.0,9,   7.7200,2,    25.00
  06MM20060523, OVIDE,    35,  1,     14,2,20060602,2130, 46.1720, -19.3880, 4611,   1596.5,   3.9570,  34.9350,2,  34.9340,2,    267.9,2,    267.8,2,    10.52,2,    18.64,2,     1.01,2,   -999.0,9,   7.7170,2,    25.00
  06MM20060523, OVIDE,    35,  1,     15,2,20060602,2130, 46.1720, -19.3880, 4611,   1394.3,   4.4110,  34.9760,2,  34.9780,2,    258.8,2,    258.4,2,    10.36,2,    18.42,2,     1.01,2,   -999.0,9,   7.7150,2,    25.00
  06MM20060523, OVIDE,    35,  1,     16,2,20060602,2130, 46.1720, -19.3880, 4611,   1195.6,   5.4900,  35.0970,2,  35.0980,2,    235.5,2,    237.3,2,    10.62,2,    19.08,2,     1.04,2,   -999.0,9,   7.7150,2,    25.00
  06MM20060523, OVIDE,    35,  1,     17,2,20060602,2130, 46.1720, -19.3880, 4611,   1043.1,   7.9760,  35.4510,2,  35.4340,3,    202.9,2,    203.1,2,    10.21,2,    19.24,2,     1.01,2,   -999.0,9,   7.7350,2,    25.00
  06MM20060523, OVIDE,    35,  1,     18,2,20060602,2130, 46.1720, -19.3880, 4611,    895.0,   8.7970,  35.4230,2,  35.4240,2,    192.3,2,    192.5,2,     9.81,2,    19.07,2,     1.02,2,   -999.0,9,   7.7340,2,    25.00
  06MM20060523, OVIDE,    35,  1,     19,2,20060602,2130, 46.1720, -19.3880, 4611,    798.6,   9.3350,  35.3910,2,  35.3910,2,    188.1,2,    190.8,2,     9.10,2,    18.96,2,     1.00,2,   -999.0,9,   7.7410,2,    25.00
  06MM20060523, OVIDE,    35,  1,     20,2,20060602,2130, 46.1720, -19.3880, 4611,    697.2,  10.2100,  35.4180,2,  35.4220,2,    198.6,2,    195.4,2,     7.58,2,    17.43,2,     0.90,2,   -999.0,9,   7.7600,2,    25.00
  06MM20060523, OVIDE,    35,  1,     21,2,20060602,2130, 46.1720, -19.3880, 4611,    495.8,  11.7000,  35.6090,2,  35.6080,2,    224.3,2,    229.5,2,     3.74,2,    11.40,2,     0.56,2,   -999.0,9,   7.8270,2,    25.00
  06MM20060523, OVIDE,    35,  1,     22,2,20060602,2130, 46.1720, -19.3880, 4611,    399.3,  12.1030,  35.6590,2,  35.6610,2,    241.4,2,    231.6,3,     3.34,2,    10.41,2,     0.52,2,   -999.0,9,   7.8440,2,    25.00
  06MM20060523, OVIDE,    35,  1,     23,2,20060602,2130, 46.1720, -19.3880, 4611,    398.1,  12.1240,  35.6650,2,  35.6670,2,    241.8,2,    231.2,3,     3.34,2,    10.63,2,     0.52,2,   -999.0,9,   7.8450,2,    25.00
  06MM20060523, OVIDE,    35,  1,     24,2,20060602,2130, 46.1720, -19.3880, 4611,    296.1,  12.5780,  35.7210,2,  35.7210,2,    250.2,2,    245.8,2,     2.68,2,     8.16,2,     0.41,2,   -999.0,9,   7.8710,2,    25.00
  06MM20060523, OVIDE,    35,  1,     25,2,20060602,2130, 46.1720, -19.3880, 4611,    197.1,  12.8560,  35.7590,2,  35.7590,2,    245.5,2,    245.2,2,     2.48,2,     7.62,2,     0.38,2,   -999.0,9,   7.8800,2,    25.00
  06MM20060523, OVIDE,    35,  1,     26,2,20060602,2130, 46.1720, -19.3880, 4611,    145.8,  12.9450,  35.7560,2,  35.7570,2,    249.2,2,    247.9,2,     2.48,2,     7.45,2,     0.36,2,   -999.0,9,   7.8930,2,    25.00
  06MM20060523, OVIDE,    35,  1,     27,2,20060602,2130, 46.1720, -19.3880, 4611,     96.4,  13.2410,  35.7530,2,  35.7580,2,    251.7,2,    251.6,2,     1.57,2,     5.53,2,     0.28,2,   -999.0,9,   7.9070,2,    25.00
  06MM20060523, OVIDE,    35,  1,     28,2,20060602,2130, 46.1720, -19.3880, 4611,     42.5,  14.2920,  35.7500,2,  35.7540,2,    268.0,2,    269.2,2,     0.25,2,     2.30,2,     0.13,2,   -999.0,9,   7.9500,2,    25.00
  06MM20060523, OVIDE,    35,  1,     29,2,20060602,2130, 46.1720, -19.3880, 4611,     10.9,  14.4910,  35.7480,2,  35.7510,2,    267.0,2,    268.8,2,     0.30,2,     1.92,2,     0.11,2,   -999.0,9,   7.9510,2,    25.00
  06MM20060523, OVIDE,    35,  1,     30,2,20060602,2130, 46.1720, -19.3880, 4611,      4.7,  14.4900,  35.7480,2,-999.0000,3,    267.1,2,    269.3,2,  -999.00,9,  -999.00,9,  -999.00,9,   -999.0,9,   7.9510,2,    25.00