BOTTLE,20140930PRINUNIVRMK
EXPOCODE,SECT_ID,STNNBR,CASTNO,BTLNBR,BTLNBR_FLAG_W,DATE,TIME,LATITUDE,LONGITUDE,DEPTH,CTDPRS,CTDTMP,CTDSAL,CTDSAL_FLAG_W,SALNTY,SALNTY_FLAG_W,CTDOXY,CTDOXY_FLAG_W,OXYGEN,OXYGEN_FLAG_W,SILCAT,SILCAT_FLAG_W,NITRAT,NITRAT_FLAG_W,PHSPHT,PHSPHT_FLAG_W,ALKALI,ALKALI_FLAG_W,PH_SWS,PH_SWS_FLAG_W,PH_TMP
,,,,,,,,,,METERS,DBAR,ITS-90,PSS-78,,PSS-78,,UMOL/KG,,UMOL/KG,,UMOL/KG,,UMOL/KG,,UMOL/KG,,UMOL/KG,,,,DEG C
  06MM20060523, OVIDE,    54,  1,      3,2,20060607,2327, 53.2690, -24.9490, 3527,   3572.9,   2.6310,  34.9300,2,  34.9300,2,    249.1,2,    249.8,2,    39.72,2,    21.22,2,     1.33,2,   -999.0,9,   7.7300,2,    25.00
  06MM20060523, OVIDE,    54,  1,      4,2,20060607,2327, 53.2690, -24.9490, 3527,   3497.5,   2.6920,  34.9400,2,  34.9380,2,    256.0,2,    254.5,2,    34.74,2,    20.26,2,     1.20,2,   -999.0,9,   7.7280,2,    25.00
  06MM20060523, OVIDE,    54,  1,      5,2,20060607,2327, 53.2690, -24.9490, 3527,   3245.6,   2.7960,  34.9510,2,  34.9510,2,    263.3,2,    264.5,2,    25.80,2,    18.88,2,     1.13,2,   -999.0,9,   7.7290,2,    25.00
  06MM20060523, OVIDE,    54,  1,      6,2,20060607,2327, 53.2690, -24.9490, 3527,   2995.7,   2.8710,  34.9510,2,  34.9510,2,    268.7,2,    268.2,2,    18.94,2,    18.03,2,     1.11,2,   -999.0,9,   7.7300,2,    25.00
  06MM20060523, OVIDE,    54,  1,      7,2,20060607,2327, 53.2690, -24.9490, 3527,   2746.8,   2.9830,  34.9450,2,  34.9430,2,    274.1,2,    274.2,2,    14.86,2,    17.82,2,     1.08,2,   -999.0,9,   7.7320,2,    25.00
  06MM20060523, OVIDE,    54,  1,      8,2,20060607,2327, 53.2690, -24.9490, 3527,   2495.8,   3.0820,  34.9270,2,  34.9270,2,    277.0,2,    276.8,2,    13.40,2,    17.02,2,     1.01,2,   -999.0,9,   7.7310,2,    25.00
  06MM20060523, OVIDE,    54,  1,      9,2,20060607,2327, 53.2690, -24.9490, 3527,   2244.6,   3.1700,  34.9110,2,  34.9090,2,    280.6,2,    280.0,2,    12.20,2,    16.97,2,     1.07,2,   -999.0,9,   7.7290,2,    25.00
  06MM20060523, OVIDE,    54,  1,     10,2,20060607,2327, 53.2690, -24.9490, 3527,   1995.2,   3.2650,  34.9030,2,  34.9020,2,    278.2,2,    280.7,2,    11.44,2,    18.03,2,     1.07,2,   -999.0,9,   7.7280,2,    25.00
  06MM20060523, OVIDE,    54,  1,     11,2,20060607,2327, 53.2690, -24.9490, 3527,   1815.1,   3.4070,  34.9040,2,  34.9030,2,    281.4,2,    279.0,2,    11.18,2,    18.30,2,     1.06,2,   -999.0,9,   7.7250,2,    25.00
  06MM20060523, OVIDE,    54,  1,     12,2,20060607,2327, 53.2690, -24.9490, 3527,   1595.7,   3.5500,  34.9030,2,  34.9010,2,    277.7,2,    277.9,2,    10.87,2,    17.82,2,     1.07,2,   -999.0,9,   7.7220,2,    25.00
  06MM20060523, OVIDE,    54,  1,     13,2,20060607,2327, 53.2690, -24.9490, 3527,   1394.7,   3.5990,  34.8940,2,  34.8940,2,    279.6,2,    281.2,2,    10.25,2,    17.87,2,     1.10,2,   -999.0,9,   7.7190,2,    25.00
  06MM20060523, OVIDE,    54,  1,     14,2,20060607,2327, 53.2690, -24.9490, 3527,   1285.1,   3.6500,  34.8910,2,  34.8900,2,    285.5,2,    287.6,2,    10.29,2,    17.56,2,     1.08,2,   -999.0,9,   7.7170,2,    25.00
  06MM20060523, OVIDE,    54,  1,     15,2,20060607,2327, 53.2690, -24.9490, 3527,   1095.9,   3.8270,  34.9010,2,  34.8970,2,    282.0,2,    277.6,2,     9.98,2,    17.93,2,     1.11,2,   -999.0,9,   7.7160,2,    25.00
  06MM20060523, OVIDE,    54,  1,     16,2,20060607,2327, 53.2690, -24.9490, 3527,    895.4,   4.1180,  34.9140,2,  34.9110,2,    273.1,2,    270.2,2,     9.94,2,    17.98,2,     1.13,2,   -999.0,9,   7.7130,2,    25.00
  06MM20060523, OVIDE,    54,  1,     17,2,20060607,2327, 53.2690, -24.9490, 3527,    796.8,   4.3290,  34.9220,2,  34.9200,2,    262.4,2,    263.6,2,    10.11,2,    18.35,2,     1.10,2,   -999.0,9,   7.7080,2,    25.00
  06MM20060523, OVIDE,    54,  1,     18,2,20060607,2327, 53.2690, -24.9490, 3527,    694.5,   4.6000,  34.9270,2,  34.9250,2,    256.2,2,    256.0,2,    10.29,2,    18.67,2,     1.18,2,   -999.0,9,   7.7040,2,    25.00
  06MM20060523, OVIDE,    54,  1,     19,2,20060607,2327, 53.2690, -24.9490, 3527,    625.5,   5.0900,  34.9500,2,  34.9470,2,    238.1,2,    242.9,2,    10.65,2,    19.09,2,     1.17,2,   -999.0,9,   7.6990,2,    25.00
  06MM20060523, OVIDE,    54,  1,     20,2,20060607,2327, 53.2690, -24.9490, 3527,    495.2,   5.6750,  34.9150,2,  34.9130,2,    228.0,2,    229.9,2,    10.74,2,    19.62,2,     1.21,2,   -999.0,9,   7.6930,2,    25.00
  06MM20060523, OVIDE,    54,  1,     21,2,20060607,2327, 53.2690, -24.9490, 3527,    396.9,   6.5860,  34.8870,2,  34.8850,2,    218.3,2,    218.9,2,    10.34,2,    19.57,2,     1.24,2,   -999.0,9,   7.6980,2,    25.00
  06MM20060523, OVIDE,    54,  1,     22,2,20060607,2327, 53.2690, -24.9490, 3527,    395.6,   6.6060,  34.8860,2,  34.8850,2,    218.7,2,    218.8,2,    10.38,2,    19.52,2,     1.16,2,   -999.0,9,   7.7010,2,    25.00
  06MM20060523, OVIDE,    54,  1,     23,2,20060607,2327, 53.2690, -24.9490, 3527,    299.4,   7.8570,  34.9610,2,  34.9490,3,    216.8,2,    208.9,2,     9.80,2,    19.41,2,     1.17,2,   -999.0,9,   7.7170,2,    25.00
  06MM20060523, OVIDE,    54,  1,     24,2,20060607,2327, 53.2690, -24.9490, 3527,    195.0,   9.2310,  35.0690,2,  35.0600,3,    238.2,2,    242.7,2,     6.08,2,    14.05,2,     0.85,2,   -999.0,9,   7.7880,2,    25.00
  06MM20060523, OVIDE,    54,  1,     25,2,20060607,2327, 53.2690, -24.9490, 3527,    145.9,  10.0810,  35.1810,2,  35.1780,2,    247.9,2,    245.7,2,     4.70,2,    12.51,2,     0.72,2,   -999.0,9,   7.8160,2,    25.00
  06MM20060523, OVIDE,    54,  1,     26,2,20060607,2327, 53.2690, -24.9490, 3527,     96.7,  10.7090,  35.2270,2,  35.2190,3,    252.5,2,    254.3,2,     3.46,2,     9.54,2,     0.58,2,   -999.0,9,   7.8490,2,    25.00
  06MM20060523, OVIDE,    54,  1,     27,2,20060607,2327, 53.2690, -24.9490, 3527,     46.1,  11.6440,  35.2160,2,  35.2290,3,    274.0,2,    271.2,2,     1.82,2,     5.73,2,     0.40,2,   -999.0,9,   7.8940,2,    25.00
  06MM20060523, OVIDE,    54,  1,     28,2,20060607,2327, 53.2690, -24.9490, 3527,      6.9,  12.2230,  35.1190,2,  35.1210,2,    279.9,2,    280.7,2,     0.80,2,     4.08,2,     0.25,2,   -999.0,9,   7.9180,2,    25.00
  06MM20060523, OVIDE,    55,  1,      3,2,20060607,0519, 53.6390, -25.2390, 3590,   3634.1,   2.6870,  34.9370,2,  34.9360,2,    253.7,2,    253.1,2,    35.51,2,    20.88,2,     1.18,2,   2339.8,2,   7.7260,2,    25.00
  06MM20060523, OVIDE,    55,  1,      4,2,20060607,0519, 53.6390, -25.2390, 3590,   3244.7,   2.8170,  34.9540,2,  34.9530,2,    264.5,2,    266.3,2,    20.84,2,    19.12,2,     1.05,2,   2322.2,2,   7.7280,2,    25.00
  06MM20060523, OVIDE,    55,  1,      5,2,20060607,0519, 53.6390, -25.2390, 3590,   2993.9,   2.9130,  34.9530,2,  34.9510,2,    271.4,2,    271.5,2,    16.92,2,    17.59,2,     1.00,2,   2317.2,2,   7.7280,2,    25.00
  06MM20060523, OVIDE,    55,  1,      6,2,20060607,0519, 53.6390, -25.2390, 3590,   2745.5,   3.0060,  34.9420,2,  34.9420,2,    275.5,2,    274.7,2,    14.55,2,    17.70,2,     0.92,2,   2310.6,2,   7.7280,2,    25.00
  06MM20060523, OVIDE,    55,  1,      7,2,20060607,0519, 53.6390, -25.2390, 3590,   2497.0,   3.0780,  34.9270,2,  34.9270,2,    278.7,2,    277.4,2,    13.14,2,    17.70,2,     1.01,2,   2307.6,2,   7.7290,2,    25.00
  06MM20060523, OVIDE,    55,  1,      8,2,20060607,0519, 53.6390, -25.2390, 3590,   2243.3,   3.1820,  34.9120,2,  34.9110,2,    281.6,2,    279.9,2,    11.91,2,    17.14,2,     1.01,2,   -999.0,9,   7.7280,2,    25.00
  06MM20060523, OVIDE,    55,  1,      9,2,20060607,0519, 53.6390, -25.2390, 3590,   1994.4,   3.2820,  34.9010,2,  34.9010,2,    278.5,2,    280.8,2,    11.34,2,    17.93,2,     1.00,2,   2303.0,2,   7.7260,2,    25.00
  06MM20060523, OVIDE,    55,  1,     10,2,20060607,0519, 53.6390, -25.2390, 3590,   1795.7,   3.4040,  34.9040,2,  34.9040,2,    279.8,2,    279.2,2,    11.17,2,    17.87,2,     1.00,2,   2302.7,2,   7.7240,2,    25.00
  06MM20060523, OVIDE,    55,  1,     11,2,20060607,0519, 53.6390, -25.2390, 3590,   1595.6,   3.5310,  34.9060,2,  34.9090,2,    275.5,2,    276.8,2,    10.99,2,    17.87,2,     1.04,2,   2304.4,2,   7.7200,2,    25.00
  06MM20060523, OVIDE,    55,  1,     12,2,20060607,0519, 53.6390, -25.2390, 3590,   1396.0,   3.5980,  34.8960,2,  34.8950,2,    277.8,2,    278.9,2,    10.59,2,    17.82,2,     1.00,2,   2305.5,2,   7.7200,2,    25.00
  06MM20060523, OVIDE,    55,  1,     13,2,20060607,0519, 53.6390, -25.2390, 3590,   1194.3,   3.6710,  34.8930,2,  34.8900,2,    278.1,2,    279.8,2,    10.02,2,    18.10,2,     0.97,2,   2305.2,2,   7.7180,2,    25.00
  06MM20060523, OVIDE,    55,  1,     14,2,20060607,0519, 53.6390, -25.2390, 3590,    995.9,   3.8900,  34.9030,2,  34.9030,2,    276.6,2,    275.6,2,     9.94,2,    18.04,2,     1.02,2,   2301.1,2,   7.7160,2,    25.00
  06MM20060523, OVIDE,    55,  1,     15,2,20060607,0519, 53.6390, -25.2390, 3590,    894.6,   4.0840,  34.9140,2,  34.9110,2,    272.3,2,    270.9,2,    10.02,2,    18.50,2,     1.04,2,   -999.0,9,   7.7130,2,    25.00
  06MM20060523, OVIDE,    55,  1,     16,2,20060607,0519, 53.6390, -25.2390, 3590,    796.4,   4.3370,  34.9240,2,  34.9230,2,    263.9,2,    263.5,2,    10.24,2,    18.89,2,     1.04,2,   2302.9,2,   7.7120,2,    25.00
  06MM20060523, OVIDE,    55,  1,     17,2,20060607,0519, 53.6390, -25.2390, 3590,    695.7,   4.8160,  34.9680,2,  34.9650,2,    251.2,2,    251.1,2,    10.51,2,    19.40,2,     1.04,2,   -999.0,9,   7.7070,2,    25.00
  06MM20060523, OVIDE,    55,  1,     18,2,20060607,0519, 53.6390, -25.2390, 3590,    595.1,   5.4430,  35.0080,2,  35.0050,2,    240.5,2,    237.0,2,    10.81,2,    19.52,2,     1.11,2,   2310.7,2,   7.7050,2,    25.00
  06MM20060523, OVIDE,    55,  1,     19,2,20060607,0519, 53.6390, -25.2390, 3590,    494.1,   5.6120,  34.9400,2,  34.9380,2,    231.8,2,    230.3,2,    10.90,2,    20.20,2,     1.14,2,   2306.5,2,   7.6940,2,    25.00
  06MM20060523, OVIDE,    55,  1,     20,2,20060607,0519, 53.6390, -25.2390, 3590,    396.1,   6.3490,  34.8980,2,  34.8950,2,    221.2,2,    220.1,2,    10.51,2,    20.54,2,     1.16,2,   2301.5,2,   7.6960,2,    25.00
  06MM20060523, OVIDE,    55,  1,     21,2,20060607,0519, 53.6390, -25.2390, 3590,    346.9,   7.0600,  34.9290,2,  34.9250,2,    201.5,2,    203.6,2,    10.95,2,    21.05,2,     1.16,2,   -999.0,9,   7.6960,2,    25.00
  06MM20060523, OVIDE,    55,  1,     22,2,20060607,0519, 53.6390, -25.2390, 3590,    194.6,   8.6090,  34.9780,2,  34.9770,2,    237.5,2,    242.6,2,     6.68,2,    15.09,2,     0.80,2,   2309.8,2,   7.7700,2,    25.00
  06MM20060523, OVIDE,    55,  1,     23,2,20060607,0519, 53.6390, -25.2390, 3590,    194.2,   8.6330,  34.9820,2,  34.9810,2,    237.2,2,    242.4,2,     6.68,2,    15.09,2,     0.84,2,   -999.0,9,   7.7690,2,    25.00
  06MM20060523, OVIDE,    55,  1,     24,2,20060607,0519, 53.6390, -25.2390, 3590,    146.1,   9.1530,  35.0340,2,  35.0370,2,    245.2,2,    248.9,2,     5.32,2,    13.33,2,     0.72,2,   -999.0,9,   7.7950,2,    25.00
  06MM20060523, OVIDE,    55,  1,     25,2,20060607,0519, 53.6390, -25.2390, 3590,     95.8,   9.7330,  35.0540,2,  35.0520,2,    267.1,2,    261.3,2,     3.47,2,     9.70,2,     0.55,2,   2313.4,2,   7.8360,2,    25.00
  06MM20060523, OVIDE,    55,  1,     26,2,20060607,0519, 53.6390, -25.2390, 3590,     45.5,  10.4040,  34.9940,2,  34.9910,2,    288.1,2,    278.0,2,     2.02,2,     5.79,2,     0.40,2,   -999.0,9,   7.8760,2,    25.00
  06MM20060523, OVIDE,    55,  1,     27,2,20060607,0519, 53.6390, -25.2390, 3590,     12.9,  11.7260,  34.8500,2,  34.8500,2,    279.6,2,    286.4,2,     1.50,2,     3.40,2,     0.23,2,   -999.0,9,   7.9130,2,    25.00
  06MM20060523, OVIDE,    56,  1,      3,2,20060608,0946, 53.8280, -25.3860, 2768,   2793.6,   2.9030,  34.9500,2,  34.9480,2,    269.8,2,    270.4,2,    17.71,2,    18.76,2,     1.01,2,   -999.0,9,   7.7320,2,    25.00
  06MM20060523, OVIDE,    56,  1,      4,2,20060608,0946, 53.8280, -25.3860, 2768,   2794.0,   2.9030,  34.9510,2,  34.9490,2,    269.8,2,    269.2,2,    17.66,2,    19.16,2,     1.04,2,   -999.0,9,   7.7290,2,    25.00
  06MM20060523, OVIDE,    56,  1,      5,2,20060608,0946, 53.8280, -25.3860, 2768,   2498.3,   3.0650,  34.9320,2,  34.9310,2,    276.4,2,    275.9,2,    13.91,2,    18.30,2,     0.98,2,   -999.0,9,   7.7290,2,    25.00
  06MM20060523, OVIDE,    56,  1,      6,2,20060608,0946, 53.8280, -25.3860, 2768,   2246.0,   3.1580,  34.9140,2,  34.9120,2,    280.1,2,    279.8,2,    12.23,2,    18.30,2,     0.98,2,   -999.0,9,   7.7290,2,    25.00
  06MM20060523, OVIDE,    56,  1,      7,2,20060608,0946, 53.8280, -25.3860, 2768,   1996.2,   3.2510,  34.9010,2,  34.8990,2,    280.9,2,    280.8,2,    11.61,2,    18.56,2,     1.04,2,   -999.0,9,   7.7260,2,    25.00
  06MM20060523, OVIDE,    56,  1,      8,2,20060608,0946, 53.8280, -25.3860, 2768,   1796.8,   3.3450,  34.9010,2,  34.9010,2,    277.0,2,    280.0,2,    11.39,2,    18.90,2,     1.01,2,   -999.0,9,   7.7250,2,    25.00
  06MM20060523, OVIDE,    56,  1,      9,2,20060608,0946, 53.8280, -25.3860, 2768,   1596.7,   3.4730,  34.9040,2,  34.9030,2,    279.0,2,    277.6,2,    11.17,2,    19.03,2,     1.00,2,   -999.0,9,   7.7220,2,    25.00
  06MM20060523, OVIDE,    56,  1,     10,2,20060608,0946, 53.8280, -25.3860, 2768,   1397.3,   3.5920,  34.9010,2,  34.9010,2,    280.5,2,    278.1,2,    10.64,2,    18.76,2,     1.00,2,   -999.0,9,   7.7190,2,    25.00
  06MM20060523, OVIDE,    56,  1,     11,2,20060608,0946, 53.8280, -25.3860, 2768,   1196.2,   3.6830,  34.8950,2,  34.8930,2,    281.3,2,    280.3,2,    10.20,2,    18.96,2,     0.98,2,   -999.0,9,   7.7160,2,    25.00
  06MM20060523, OVIDE,    56,  1,     12,2,20060608,0946, 53.8280, -25.3860, 2768,    995.8,   3.8630,  34.9010,2,  34.9000,2,    276.7,2,    280.0,2,     9.94,2,    18.56,2,     1.00,2,   -999.0,9,   7.7140,2,    25.00
  06MM20060523, OVIDE,    56,  1,     13,2,20060608,0946, 53.8280, -25.3860, 2768,    895.9,   4.0130,  34.9080,2,  34.9080,2,    272.0,2,    272.2,2,    10.07,2,    18.96,2,     0.98,2,   -999.0,9,   7.7120,2,    25.00
  06MM20060523, OVIDE,    56,  1,     14,2,20060608,0946, 53.8280, -25.3860, 2768,    797.5,   4.1920,  34.9140,2,  34.9120,2,    267.3,2,    267.6,2,    10.11,2,    19.63,2,     1.02,2,   -999.0,9,   7.7090,2,    25.00
  06MM20060523, OVIDE,    56,  1,     15,2,20060608,0946, 53.8280, -25.3860, 2768,    696.0,   4.4950,  34.9260,2,  34.9240,2,    260.5,2,    258.8,2,    10.29,2,    19.30,2,     1.02,2,   -999.0,9,   7.7070,2,    25.00
  06MM20060523, OVIDE,    56,  1,     16,2,20060608,0946, 53.8280, -25.3860, 2768,    596.7,   4.8140,  34.9290,2,  34.9270,2,    249.1,2,    250.6,2,    10.51,2,    19.90,2,     1.09,2,   -999.0,9,   7.7000,2,    25.00
  06MM20060523, OVIDE,    56,  1,     17,2,20060608,0946, 53.8280, -25.3860, 2768,    496.1,   5.2900,  34.9130,2,  34.9110,2,    238.8,2,    237.9,2,    10.64,2,    20.29,2,     1.05,2,   -999.0,9,   7.6930,2,    25.00
  06MM20060523, OVIDE,    56,  1,     18,2,20060608,0946, 53.8280, -25.3860, 2768,    356.2,   6.7700,  34.9360,2,  34.9340,2,    208.6,2,    207.9,2,    11.13,2,    21.69,2,     1.18,2,   -999.0,9,   7.6910,2,    25.00
  06MM20060523, OVIDE,    56,  1,     19,2,20060608,0946, 53.8280, -25.3860, 2768,    256.8,   7.2500,  34.8680,2,  34.8690,2,    238.4,2,    235.8,2,     8.65,2,    18.10,2,     0.98,2,   -999.0,9,   7.7320,2,    25.00
  06MM20060523, OVIDE,    56,  1,     20,2,20060608,0946, 53.8280, -25.3860, 2768,    195.7,   8.0430,  34.9100,2,  34.9120,2,    243.0,2,    242.8,2,     7.37,2,    16.04,2,     0.86,2,   -999.0,9,   7.7600,2,    25.00
  06MM20060523, OVIDE,    56,  1,     21,2,20060608,0946, 53.8280, -25.3860, 2768,    147.7,   8.5020,  34.9340,2,  34.9280,3,    250.7,2,    261.9,2,     4.90,2,    12.98,2,     0.70,2,   -999.0,9,   7.7920,2,    25.00
  06MM20060523, OVIDE,    56,  1,     22,2,20060608,0946, 53.8280, -25.3860, 2768,     96.1,   9.3370,  34.9990,2,  34.9930,2,    273.7,2,    266.3,2,     3.44,2,     9.58,2,     0.60,2,   -999.0,9,   7.8330,2,    25.00
  06MM20060523, OVIDE,    56,  1,     23,2,20060608,0946, 53.8280, -25.3860, 2768,     47.0,  10.3080,  34.9980,2,  35.0050,3,    285.9,2,    278.4,2,     2.03,2,     5.46,2,     0.40,2,   -999.0,9,   7.8730,2,    25.00
  06MM20060523, OVIDE,    56,  1,     24,2,20060608,0946, 53.8280, -25.3860, 2768,     13.9,  11.7790,  34.9050,2,  34.9100,2,    281.2,2,    287.4,2,     1.59,2,     3.06,2,     0.23,2,   -999.0,9,   7.9200,2,    25.00
  06MM20060523, OVIDE,    56,  1,     25,2,20060608,0946, 53.8280, -25.3860, 2768,     13.5,  11.7750,  34.8990,2,  34.9090,3,    281.2,2,    286.9,2,     1.59,2,     2.53,2,     0.23,2,   -999.0,9,   7.9170,2,    25.00