BOTTLE,20140930PRINUNIVRMK
EXPOCODE,SECT_ID,STNNBR,CASTNO,BTLNBR,BTLNBR_FLAG_W,DATE,TIME,LATITUDE,LONGITUDE,DEPTH,CTDPRS,CTDTMP,CTDSAL,CTDSAL_FLAG_W,SALNTY,SALNTY_FLAG_W,CTDOXY,CTDOXY_FLAG_W,OXYGEN,OXYGEN_FLAG_W,SILCAT,SILCAT_FLAG_W,NITRAT,NITRAT_FLAG_W,PHSPHT,PHSPHT_FLAG_W,ALKALI,ALKALI_FLAG_W,PH_SWS,PH_SWS_FLAG_W,PH_TMP
,,,,,,,,,,METERS,DBAR,ITS-90,PSS-78,,PSS-78,,UMOL/KG,,UMOL/KG,,UMOL/KG,,UMOL/KG,,UMOL/KG,,UMOL/KG,,,,DEG C
  06MM20060523, OVIDE,    60,  1,      3,2,20060609,0720, 55.1500, -26.4100, 3380,   3422.5,   2.7650,  34.9550,2,  34.9910,3,    261.9,2,    261.4,2,  -999.00,9,    19.61,2,     1.09,2,   -999.0,9,   7.7220,2,    25.00
  06MM20060523, OVIDE,    60,  1,      4,2,20060609,0720, 55.1500, -26.4100, 3380,   3248.5,   2.7920,  34.9540,2,  34.9510,2,    265.0,2,    263.6,2,    31.22,2,    19.08,2,     1.08,2,   -999.0,9,   7.7280,2,    25.00
  06MM20060523, OVIDE,    60,  1,      5,2,20060609,0720, 55.1500, -26.4100, 3380,   2996.8,   2.8290,  34.9510,2,  34.9490,2,    267.9,2,    264.6,2,    29.80,2,    19.03,2,     1.07,2,   -999.0,9,   7.7240,2,    25.00
  06MM20060523, OVIDE,    60,  1,      6,2,20060609,0720, 55.1500, -26.4100, 3380,   2746.4,   2.9350,  34.9480,2,  34.9470,2,    273.2,2,    270.5,2,    17.07,2,    18.26,2,     1.02,2,   -999.0,9,   7.7250,2,    25.00
  06MM20060523, OVIDE,    60,  1,      7,2,20060609,0720, 55.1500, -26.4100, 3380,   2496.2,   3.0380,  34.9350,2,  34.9340,2,    276.4,2,    274.1,2,    14.70,2,    18.02,2,     1.00,2,   -999.0,9,   7.7260,2,    25.00
  06MM20060523, OVIDE,    60,  1,      8,2,20060609,0720, 55.1500, -26.4100, 3380,   2246.8,   3.1360,  34.9170,2,  34.9150,2,    280.3,2,    279.1,2,    12.41,2,    17.83,2,     0.99,2,   -999.0,9,   7.7260,2,    25.00
  06MM20060523, OVIDE,    60,  1,      9,2,20060609,0720, 55.1500, -26.4100, 3380,   1995.1,   3.2340,  34.9040,2,  34.9020,2,    281.4,2,    280.7,2,    11.50,2,    17.97,2,     1.02,2,   -999.0,9,   7.7240,2,    25.00
  06MM20060523, OVIDE,    60,  1,     10,2,20060609,0720, 55.1500, -26.4100, 3380,   1795.4,   3.3230,  34.9010,2,  34.9010,2,    281.5,2,    280.3,2,    11.34,2,    18.12,2,     0.99,2,   -999.0,9,   7.7230,2,    25.00
  06MM20060523, OVIDE,    60,  1,     11,2,20060609,0720, 55.1500, -26.4100, 3380,   1795.3,   3.3230,  34.9010,2,  34.9000,2,    281.5,2,    280.0,2,    11.46,2,    18.07,2,     1.05,2,   -999.0,9,   7.7220,2,    25.00
  06MM20060523, OVIDE,    60,  1,     12,2,20060609,0720, 55.1500, -26.4100, 3380,   1595.0,   3.4810,  34.9050,2,  34.9020,2,    277.0,2,    279.0,2,    11.74,2,    18.21,2,     0.98,2,   -999.0,9,   7.7140,2,    25.00
  06MM20060523, OVIDE,    60,  1,     13,2,20060609,0720, 55.1500, -26.4100, 3380,   1396.1,   3.6120,  34.9020,2,  34.9000,2,    278.3,2,    277.7,2,    10.59,2,    18.12,2,     0.98,2,   -999.0,9,   7.7120,2,    25.00
  06MM20060523, OVIDE,    60,  1,     14,2,20060609,0720, 55.1500, -26.4100, 3380,   1195.5,   3.7130,  34.8970,2,  34.8940,2,    278.4,2,    278.0,2,    10.23,2,    18.07,2,     1.00,2,   -999.0,9,   7.7140,2,    25.00
  06MM20060523, OVIDE,    60,  1,     15,2,20060609,0720, 55.1500, -26.4100, 3380,    996.2,   3.9220,  34.9100,2,  34.9060,2,    276.1,2,    273.0,2,    10.15,2,    18.16,2,     1.00,2,   -999.0,9,   7.7110,2,    25.00
  06MM20060523, OVIDE,    60,  1,     16,2,20060609,0720, 55.1500, -26.4100, 3380,    896.6,   4.1240,  34.9240,2,  34.9220,2,    267.2,2,    267.8,2,    10.23,2,    18.41,2,     1.02,2,   -999.0,9,   7.7090,2,    25.00
  06MM20060523, OVIDE,    60,  1,     17,2,20060609,0720, 55.1500, -26.4100, 3380,    797.3,   4.4490,  34.9520,2,  34.9490,2,    262.4,2,    258.7,2,    10.51,2,    18.84,2,     1.05,2,   -999.0,9,   7.7130,2,    25.00
  06MM20060523, OVIDE,    60,  1,     18,2,20060609,0720, 55.1500, -26.4100, 3380,    696.3,   4.6980,  34.9550,2,  34.9520,2,    252.5,2,    252.5,2,    10.63,2,    18.99,2,     1.07,2,   -999.0,9,   7.7040,2,    25.00
  06MM20060523, OVIDE,    60,  1,     19,2,20060609,0720, 55.1500, -26.4100, 3380,    596.4,   5.1570,  34.9660,2,  34.9670,2,    248.2,2,    241.7,2,    10.82,2,    19.37,2,     1.10,2,   -999.0,9,   7.6880,2,    25.00
  06MM20060523, OVIDE,    60,  1,     20,2,20060609,0720, 55.1500, -26.4100, 3380,    496.7,   5.9620,  34.9900,2,  34.9860,2,    224.2,2,    224.8,2,    11.02,2,    19.95,2,     1.10,2,   -999.0,9,   7.6970,2,    25.00
  06MM20060523, OVIDE,    60,  1,     21,2,20060609,0720, 55.1500, -26.4100, 3380,    396.3,   6.5050,  34.9320,2,  34.9300,2,    208.9,2,    210.0,2,    11.30,2,    20.68,2,     1.19,2,   -999.0,9,   7.6900,2,    25.00
  06MM20060523, OVIDE,    60,  1,     22,2,20060609,0720, 55.1500, -26.4100, 3380,    357.5,   7.1460,  34.9890,2,  34.9870,2,    201.9,2,    202.6,2,    10.98,2,    20.68,2,     1.16,2,   -999.0,9,   7.6950,2,    25.00
  06MM20060523, OVIDE,    60,  1,     23,2,20060609,0720, 55.1500, -26.4100, 3380,    296.7,   7.5260,  34.9200,2,  34.9190,2,    225.4,2,    216.1,3,     9.72,2,    18.60,2,     1.10,2,   -999.0,9,   7.7110,3,    25.00
  06MM20060523, OVIDE,    60,  1,     24,2,20060609,0720, 55.1500, -26.4100, 3380,    196.9,   9.2600,  35.1000,2,  35.0930,3,    255.1,2,    239.9,3,     6.08,2,    14.01,2,     0.78,2,   -999.0,9,   7.7840,2,    25.00
  06MM20060523, OVIDE,    60,  1,     25,2,20060609,0720, 55.1500, -26.4100, 3380,    148.1,  10.0700,  35.2150,2,  35.1990,3,    260.0,2,    266.6,2,     2.45,2,     9.47,2,     0.57,2,   -999.0,9,   7.8380,2,    25.00
  06MM20060523, OVIDE,    60,  1,     26,2,20060609,0720, 55.1500, -26.4100, 3380,     97.5,  10.4010,  35.2310,2,  35.2300,2,    256.5,2,    256.1,2,     3.24,2,     9.90,2,     0.60,2,   -999.0,9,   7.8390,2,    25.00
  06MM20060523, OVIDE,    60,  1,     27,2,20060609,0720, 55.1500, -26.4100, 3380,     47.0,  11.5630,  35.3020,2,  35.3040,2,    270.0,2,    268.2,2,     0.87,2,     5.26,2,     0.36,2,   -999.0,9,   7.8960,2,    25.00
  06MM20060523, OVIDE,    60,  1,     28,2,20060609,0720, 55.1500, -26.4100, 3380,     13.5,  11.7330,  35.1860,2,  35.1850,2,    274.0,2,    281.3,3,     1.03,2,     3.43,2,     0.23,2,   -999.0,9,   7.9240,2,    25.00
  06MM20060523, OVIDE,    61,  1,      3,2,20060609,1424, 55.5060, -26.7070, 3235,   3275.6,   2.7340,  34.9550,2,  34.9530,2,    259.1,2,    261.4,2,    30.78,2,    19.14,2,     1.08,2,   2322.6,2,   7.7200,2,    25.00
  06MM20060523, OVIDE,    61,  1,      4,2,20060609,1424, 55.5060, -26.7070, 3235,   3194.5,   2.7410,  34.9570,2,  34.9550,2,    262.8,2,    264.4,2,    32.03,2,    19.52,2,     1.06,2,   2321.2,2,   7.7240,2,    25.00
  06MM20060523, OVIDE,    61,  1,      5,2,20060609,1424, 55.5060, -26.7070, 3235,   2995.4,   2.7940,  34.9560,2,  34.9550,2,    266.2,2,    267.8,2,    20.66,2,    18.20,2,     1.06,2,   2316.5,2,   7.7210,2,    25.00
  06MM20060523, OVIDE,    61,  1,      6,2,20060609,1424, 55.5060, -26.7070, 3235,   2746.3,   2.9330,  34.9590,2,  34.9560,2,    271.3,2,    271.7,2,    16.52,2,    17.45,2,     0.97,2,   2308.4,2,   7.7230,2,    25.00
  06MM20060523, OVIDE,    61,  1,      7,2,20060609,1424, 55.5060, -26.7070, 3235,   2393.1,   3.0870,  34.9330,2,  34.9300,2,    276.7,2,    278.7,2,    13.16,2,    17.22,2,     0.95,2,   2305.3,2,   7.7210,2,    25.00
  06MM20060523, OVIDE,    61,  1,      8,2,20060609,1424, 55.5060, -26.7070, 3235,   2097.0,   3.1720,  34.9110,2,  34.9090,2,    279.8,2,    281.1,2,    12.14,2,    17.50,2,     1.00,2,   2303.3,2,   7.7260,2,    25.00
  06MM20060523, OVIDE,    61,  1,      9,2,20060609,1424, 55.5060, -26.7070, 3235,   1897.9,   3.2580,  34.9010,2,  34.8990,2,    280.4,2,    282.7,2,    11.70,2,    17.83,2,     1.00,2,   2302.2,2,   7.7230,2,    25.00
  06MM20060523, OVIDE,    61,  1,     10,2,20060609,1424, 55.5060, -26.7070, 3235,   1595.2,   3.4520,  34.9060,2,  34.9030,2,    277.8,2,    278.6,2,    11.39,2,    17.88,2,     0.97,2,   2305.5,2,   7.7200,2,    25.00
  06MM20060523, OVIDE,    61,  1,     11,2,20060609,1424, 55.5060, -26.7070, 3235,   1442.1,   3.5550,  34.9060,2,  34.9050,2,    274.8,2,    278.1,2,    11.17,2,    17.83,2,     1.00,2,   2304.9,2,   7.7170,2,    25.00
  06MM20060523, OVIDE,    61,  1,     12,2,20060609,1424, 55.5060, -26.7070, 3235,   1233.5,   3.6150,  34.8940,2,  34.8910,2,    279.8,2,    280.9,2,    10.47,2,    17.50,2,     0.96,2,   2306.0,2,   7.7140,2,    25.00
  06MM20060523, OVIDE,    61,  1,     13,2,20060609,1424, 55.5060, -26.7070, 3235,   1232.5,   3.6150,  34.8940,2,  34.8940,2,    279.7,2,    279.8,2,    10.51,2,    17.55,2,     1.01,2,   -999.0,9,   7.7150,2,    25.00
  06MM20060523, OVIDE,    61,  1,     14,2,20060609,1424, 55.5060, -26.7070, 3235,   1114.4,   3.6880,  34.8930,2,  34.8910,2,    276.2,2,    281.1,2,    10.33,2,    17.55,2,     1.01,2,   2304.8,2,   7.7130,2,    25.00
  06MM20060523, OVIDE,    61,  1,     15,2,20060609,1424, 55.5060, -26.7070, 3235,    894.8,   4.1430,  34.9350,2,  34.9320,2,    263.9,2,    266.0,2,    10.77,2,    18.81,2,     1.02,2,   -999.0,9,   7.7090,2,    25.00
  06MM20060523, OVIDE,    61,  1,     16,2,20060609,1424, 55.5060, -26.7070, 3235,    794.8,   4.4370,  34.9590,2,  34.9550,2,    260.9,2,    259.8,2,    10.77,2,    19.10,2,     1.08,2,   2308.5,2,   7.7070,2,    25.00
  06MM20060523, OVIDE,    61,  1,     18,2,20060609,1424, 55.5060, -26.7070, 3235,    687.7,   4.7740,  34.9840,2,  34.9810,2,    247.1,2,    250.8,2,    10.86,2,    18.86,2,     1.01,2,   -999.0,9,   7.7050,2,    25.00
  06MM20060523, OVIDE,    61,  1,     19,2,20060609,1424, 55.5060, -26.7070, 3235,    495.1,   5.3380,  34.9490,2,  34.9500,2,    233.0,2,    238.5,2,    10.95,2,    19.24,2,     1.13,2,   2307.1,2,   7.6950,2,    25.00
  06MM20060523, OVIDE,    61,  1,     20,2,20060609,1424, 55.5060, -26.7070, 3235,    393.8,   5.8250,  34.9090,2,  34.9070,2,    225.7,2,    231.1,2,    10.73,2,    19.33,2,     1.12,2,   2304.0,2,   7.6920,2,    25.00
  06MM20060523, OVIDE,    61,  1,     21,2,20060609,1424, 55.5060, -26.7070, 3235,    344.4,   6.1840,  34.9060,2,  34.9020,2,    218.7,2,    227.6,3,    10.64,2,    19.38,2,     1.12,2,   2304.0,2,   7.6940,2,    25.00
  06MM20060523, OVIDE,    61,  1,     22,2,20060609,1424, 55.5060, -26.7070, 3235,    245.2,   7.2990,  34.8780,2,  34.8750,2,    240.8,2,    237.3,2,     8.83,2,    17.08,2,     1.00,2,   -999.0,9,   7.7260,2,    25.00
  06MM20060523, OVIDE,    61,  1,     23,2,20060609,1424, 55.5060, -26.7070, 3235,    204.1,   7.8510,  34.9060,2,  34.9050,2,    241.2,2,    234.6,3,     8.57,2,    16.47,2,     0.98,2,   2303.6,2,   7.7410,2,    25.00
  06MM20060523, OVIDE,    61,  1,     24,2,20060609,1424, 55.5060, -26.7070, 3235,    146.4,   8.6090,  34.9530,2,  34.9520,2,    259.9,2,    252.4,3,     6.14,2,    13.51,2,     0.77,2,   -999.0,9,   7.7780,2,    25.00
  06MM20060523, OVIDE,    61,  1,     25,2,20060609,1424, 55.5060, -26.7070, 3235,     95.1,   9.1950,  34.9890,2,  34.9980,3,    272.6,2,    273.6,2,     3.22,2,     9.15,2,     0.57,2,   2308.0,2,   7.8320,2,    25.00
  06MM20060523, OVIDE,    61,  1,     26,2,20060609,1424, 55.5060, -26.7070, 3235,     45.1,  10.9860,  35.1350,2,  35.1350,2,    285.1,2,    273.2,3,     2.47,2,     6.00,2,     0.44,2,   -999.0,9,   7.8710,2,    25.00
  06MM20060523, OVIDE,    61,  1,     27,2,20060609,1424, 55.5060, -26.7070, 3235,      5.8,  11.3250,  35.0350,2,  35.0350,2,    279.3,2,    285.9,2,     1.06,2,     4.08,2,     0.26,2,   2312.6,2,   7.9060,2,    25.00
  06MM20060523, OVIDE,    62,  1,      3,2,20060609,2206, 55.8830, -26.9980, 2883,   2913.0,   2.7850,  34.9810,2,  34.9800,2,    268.7,2,    270.0,2,    17.24,2,    17.93,2,     0.98,2,   -999.0,9,   7.7180,2,    25.00
  06MM20060523, OVIDE,    62,  1,      4,2,20060609,2206, 55.8830, -26.9980, 2883,   2747.6,   2.8130,  34.9720,2,  34.9700,2,    269.8,2,    270.2,2,    17.91,2,    17.88,2,     1.02,2,   -999.0,9,   7.7210,2,    25.00
  06MM20060523, OVIDE,    62,  1,      5,2,20060609,2206, 55.8830, -26.9980, 2883,   2496.3,   2.9620,  34.9620,2,  34.9630,2,    271.7,2,    272.2,2,    15.77,2,    17.83,2,     1.05,2,   -999.0,9,   7.7300,2,    25.00
  06MM20060523, OVIDE,    62,  1,      6,2,20060609,2206, 55.8830, -26.9980, 2883,   2246.1,   3.0830,  34.9330,2,  34.9320,2,    275.6,2,    277.0,2,    13.50,2,    17.78,2,     1.00,2,   -999.0,9,   7.7340,2,    25.00
  06MM20060523, OVIDE,    62,  1,      7,2,20060609,2206, 55.8830, -26.9980, 2883,   1996.4,   3.1760,  34.9130,2,  34.9120,2,    279.8,2,    279.0,2,    12.43,2,    17.88,2,     0.98,2,   -999.0,9,   7.7350,2,    25.00
  06MM20060523, OVIDE,    62,  1,      8,2,20060609,2206, 55.8830, -26.9980, 2883,   1796.6,   3.2940,  34.9090,2,  34.9090,2,    280.2,2,    280.4,2,    11.45,2,    18.03,2,     1.05,2,   -999.0,9,   7.7270,2,    25.00
  06MM20060523, OVIDE,    62,  1,      9,2,20060609,2206, 55.8830, -26.9980, 2883,   1596.2,   3.4200,  34.9060,2,  34.9060,2,    275.2,2,    278.1,2,    11.32,2,    17.93,2,     1.05,2,   -999.0,9,   7.7290,2,    25.00
  06MM20060523, OVIDE,    62,  1,     10,2,20060609,2206, 55.8830, -26.9980, 2883,   1396.0,   3.5760,  34.9070,2,  34.9090,2,    276.9,2,    276.1,2,    11.05,2,    18.43,2,     1.05,2,   -999.0,9,   7.7270,2,    25.00
  06MM20060523, OVIDE,    62,  1,     11,2,20060609,2206, 55.8830, -26.9980, 2883,   1197.0,   3.6750,  34.8990,2,  34.9010,2,    274.9,2,    276.6,2,    10.61,2,    18.33,2,     1.05,2,   -999.0,9,   7.7220,2,    25.00
  06MM20060523, OVIDE,    62,  1,     12,2,20060609,2206, 55.8830, -26.9980, 2883,    996.5,   3.8990,  34.9120,2,  34.9110,2,    270.4,2,    271.9,2,    10.52,2,    18.38,2,     1.08,2,   -999.0,9,   7.7200,2,    25.00
  06MM20060523, OVIDE,    62,  1,     13,2,20060609,2206, 55.8830, -26.9980, 2883,    896.8,   4.0710,  34.9220,2,  34.9200,2,    267.2,2,    267.2,2,    10.56,2,    18.68,2,     1.08,2,   -999.0,9,   7.7160,2,    25.00
  06MM20060523, OVIDE,    62,  1,     14,2,20060609,2206, 55.8830, -26.9980, 2883,    796.8,   4.4740,  34.9640,2,  34.9620,2,    257.0,2,    257.1,2,    10.96,2,    18.92,2,     1.07,2,   -999.0,9,   7.7130,2,    25.00
  06MM20060523, OVIDE,    62,  1,     15,2,20060609,2206, 55.8830, -26.9980, 2883,    797.4,   4.4760,  34.9640,2,  34.9620,2,    257.0,2,    257.0,2,    10.96,2,    18.82,2,     1.07,2,   -999.0,9,   7.7120,2,    25.00
  06MM20060523, OVIDE,    62,  1,     16,2,20060609,2206, 55.8830, -26.9980, 2883,    715.8,   4.6610,  34.9660,2,  34.9650,2,    249.9,2,    252.4,2,    10.87,2,    19.07,2,     1.09,2,   -999.0,9,   7.7090,2,    25.00
  06MM20060523, OVIDE,    62,  1,     17,2,20060609,2206, 55.8830, -26.9980, 2883,    596.2,   5.3180,  35.0160,2,  35.0150,2,    237.6,2,    238.0,2,    11.18,2,    19.72,2,     1.13,2,   -999.0,9,   7.7060,2,    25.00
  06MM20060523, OVIDE,    62,  1,     18,2,20060609,2206, 55.8830, -26.9980, 2883,    495.2,   5.8030,  35.0110,2,  35.0070,2,    229.6,2,    229.3,2,    11.01,2,    19.86,2,     1.12,2,   -999.0,9,   7.7030,2,    25.00
  06MM20060523, OVIDE,    62,  1,     19,2,20060609,2206, 55.8830, -26.9980, 2883,    356.0,   6.6810,  34.9990,2,  34.9970,2,    225.0,2,    226.5,2,    10.16,2,    19.22,2,     1.13,2,   -999.0,9,   7.7110,2,    25.00
  06MM20060523, OVIDE,    62,  1,     20,2,20060609,2206, 55.8830, -26.9980, 2883,    295.3,   7.1580,  34.9750,2,  34.9700,2,    228.9,2,    222.7,2,     9.58,2,    18.73,2,     1.10,2,   -999.0,9,   7.7160,2,    25.00
  06MM20060523, OVIDE,    62,  1,     21,2,20060609,2206, 55.8830, -26.9980, 2883,    197.5,   8.2780,  34.9870,2,  34.9860,2,    263.5,2,    261.4,2,     5.30,2,    12.98,2,     0.78,2,   -999.0,9,   7.7880,2,    25.00
  06MM20060523, OVIDE,    62,  1,     22,2,20060609,2206, 55.8830, -26.9980, 2883,    145.3,   9.0230,  35.0820,2,  35.0700,3,    268.4,2,    267.1,2,     4.37,2,    11.74,2,     0.73,2,   -999.0,9,   7.8130,2,    25.00
  06MM20060523, OVIDE,    62,  1,     23,2,20060609,2206, 55.8830, -26.9980, 2883,     97.8,   8.9860,  35.0400,2,  35.0390,2,    276.1,2,    273.6,2,     3.25,2,    10.30,2,     0.62,2,   -999.0,9,   7.8230,2,    25.00
  06MM20060523, OVIDE,    62,  1,     24,2,20060609,2206, 55.8830, -26.9980, 2883,     48.4,   9.6950,  35.0270,2,  35.0280,2,    284.7,2,    283.0,2,     1.07,2,     6.74,2,     0.54,2,   -999.0,9,   7.8580,2,    25.00
  06MM20060523, OVIDE,    62,  1,     25,2,20060609,2206, 55.8830, -26.9980, 2883,      5.9,  10.5560,  34.9820,2,  34.9680,3,    284.9,2,    292.9,3,     0.67,2,     4.80,2,     0.35,2,   -999.0,9,   7.8970,2,    25.00