BOTTLE,20140930PRINUNIVRMK
EXPOCODE,SECT_ID,STNNBR,CASTNO,BTLNBR,BTLNBR_FLAG_W,DATE,TIME,LATITUDE,LONGITUDE,DEPTH,CTDPRS,CTDTMP,CTDSAL,CTDSAL_FLAG_W,SALNTY,SALNTY_FLAG_W,CTDOXY,CTDOXY_FLAG_W,OXYGEN,OXYGEN_FLAG_W,SILCAT,SILCAT_FLAG_W,NITRAT,NITRAT_FLAG_W,PHSPHT,PHSPHT_FLAG_W,ALKALI,ALKALI_FLAG_W,PH_SWS,PH_SWS_FLAG_W,PH_TMP
,,,,,,,,,,METERS,DBAR,ITS-90,PSS-78,,PSS-78,,UMOL/KG,,UMOL/KG,,UMOL/KG,,UMOL/KG,,UMOL/KG,,UMOL/KG,,,,DEG C
  06MM20060523, OVIDE,    76,  1,      3,2,20060612,1215, 58.8430, -31.2670, 1354,   1353.8,   3.9250,  34.9840,2,  34.9850,2,    272.1,2,    271.2,2,    10.32,2,    16.87,2,     0.91,2,   -999.0,9,   7.7250,2,    25.00
  06MM20060523, OVIDE,    76,  1,      4,2,20060612,1215, 58.8430, -31.2670, 1354,   1298.6,   3.9300,  34.9850,2,  34.9870,2,    272.1,2,    271.5,2,    10.32,2,    16.97,2,     0.95,2,   -999.0,9,   7.7270,2,    25.00
  06MM20060523, OVIDE,    76,  1,      5,2,20060612,1215, 58.8430, -31.2670, 1354,   1244.1,   3.9380,  34.9830,2,  34.9860,2,    271.3,2,    271.0,2,    10.23,2,    17.02,2,     1.01,2,   -999.0,9,   7.7250,2,    25.00
  06MM20060523, OVIDE,    76,  1,      6,2,20060612,1215, 58.8430, -31.2670, 1354,   1194.4,   3.9480,  34.9820,2,  34.9840,2,    271.6,2,    271.0,2,    10.23,2,    16.97,2,     0.97,2,   -999.0,9,   7.7200,2,    25.00
  06MM20060523, OVIDE,    76,  1,      7,2,20060612,1215, 58.8430, -31.2670, 1354,   1146.4,   3.9720,  34.9810,2,  34.9830,2,    270.1,2,    270.7,2,    10.28,2,    17.07,2,     0.94,2,   -999.0,9,   7.7240,2,    25.00
  06MM20060523, OVIDE,    76,  1,      8,2,20060612,1215, 58.8430, -31.2670, 1354,    995.5,   4.3570,  34.9740,2,  34.9760,2,    263.7,2,    262.5,2,    10.54,2,    17.88,2,     0.98,2,   -999.0,9,   7.7180,2,    25.00
  06MM20060523, OVIDE,    76,  1,      9,2,20060612,1215, 58.8430, -31.2670, 1354,    896.1,   4.8280,  35.0090,2,  35.0060,2,    255.3,2,    255.0,2,    10.45,2,    18.17,2,     0.98,2,   -999.0,9,   7.7180,2,    25.00
  06MM20060523, OVIDE,    76,  1,     10,2,20060612,1215, 58.8430, -31.2670, 1354,    794.9,   5.3670,  35.0310,2,  35.0340,2,    239.4,2,    241.5,2,    10.75,2,    18.80,2,     1.14,2,   -999.0,9,   7.7170,2,    25.00
  06MM20060523, OVIDE,    76,  1,     11,2,20060612,1215, 58.8430, -31.2670, 1354,    695.0,   6.2570,  35.1060,2,  35.1080,2,    232.5,2,    233.2,2,    10.36,2,    18.55,2,     1.05,2,   -999.0,9,   7.7200,2,    25.00
  06MM20060523, OVIDE,    76,  1,     12,2,20060612,1215, 58.8430, -31.2670, 1354,    625.5,   6.6010,  35.1100,2,  35.1100,2,    230.5,2,    230.3,2,    10.23,2,    18.55,2,     0.95,2,   -999.0,9,   7.7230,2,    25.00
  06MM20060523, OVIDE,    76,  1,     13,2,20060612,1215, 58.8430, -31.2670, 1354,    494.9,   7.6220,  35.1720,2,  35.1770,2,    250.7,2,    263.3,3,     6.99,2,    15.24,2,     0.81,2,   -999.0,9,   7.7760,2,    25.00
  06MM20060523, OVIDE,    76,  1,     14,2,20060612,1215, 58.8430, -31.2670, 1354,    495.0,   7.6610,  35.1770,2,  35.1770,2,    250.7,2,    263.3,3,     6.99,2,    15.19,2,     0.80,2,   -999.0,9,   7.7740,2,    25.00
  06MM20060523, OVIDE,    76,  1,     15,2,20060612,1215, 58.8430, -31.2670, 1354,    398.2,   7.7930,  35.1690,2,  35.1710,2,    262.6,2,    266.6,2,     6.48,2,    14.76,2,     0.89,2,   -999.0,9,   7.7800,2,    25.00
  06MM20060523, OVIDE,    76,  1,     16,2,20060612,1215, 58.8430, -31.2670, 1354,    295.3,   8.1420,  35.1820,2,  35.1820,2,    267.8,2,    264.7,2,     6.17,2,    14.32,2,     0.81,2,   -999.0,9,   7.7870,2,    25.00
  06MM20060523, OVIDE,    76,  1,     18,2,20060612,1215, 58.8430, -31.2670, 1354,    145.8,   8.4470,  35.1600,2,  35.1640,2,    261.1,2,    264.1,2,     5.18,2,    13.55,2,     0.80,2,   -999.0,9,   7.7960,2,    25.00
  06MM20060523, OVIDE,    76,  1,     19,2,20060612,1215, 58.8430, -31.2670, 1354,     96.4,   8.6810,  35.1520,2,  35.1570,2,    271.2,2,    269.4,2,     4.23,2,    11.97,2,     0.66,2,   -999.0,9,   7.8110,2,    25.00
  06MM20060523, OVIDE,    76,  1,     20,2,20060612,1215, 58.8430, -31.2670, 1354,     46.6,   9.5510,  35.1400,2,  35.1420,2,    286.4,2,    284.9,2,     1.73,2,     8.03,2,     0.51,2,   -999.0,9,   7.8590,2,    25.00
  06MM20060523, OVIDE,    76,  1,     21,2,20060612,1215, 58.8430, -31.2670, 1354,      7.0,   9.5570,  35.1400,2,  35.1410,2,    285.0,2,    286.2,2,     1.73,2,     7.93,2,     0.52,2,   -999.0,9,   7.8630,2,    25.00
  06MM20060523, OVIDE,    77,  1,      3,2,20060612,1627, 58.9100, -31.9100, 1687,   1689.8,   3.8320,  34.9770,2,  34.9760,2,    273.2,2,    273.5,2,    10.75,2,    16.97,2,     1.00,2,   2304.8,2,   7.7240,2,    25.00
  06MM20060523, OVIDE,    77,  1,      4,2,20060612,1627, 58.9100, -31.9100, 1687,   1637.6,   3.8310,  34.9740,2,  34.9730,2,    273.6,2,    273.6,2,    10.66,2,    16.97,2,     1.00,2,   2306.1,2,   7.7240,2,    25.00
  06MM20060523, OVIDE,    77,  1,      5,2,20060612,1627, 58.9100, -31.9100, 1687,   1587.7,   3.8360,  34.9730,2,  34.9730,2,    272.9,2,    273.1,2,    10.66,2,    17.07,2,     1.19,2,   2307.2,2,   7.7280,2,    25.00
  06MM20060523, OVIDE,    77,  1,      6,2,20060612,1627, 58.9100, -31.9100, 1687,   1496.1,   3.8610,  34.9720,2,  34.9720,2,    273.9,2,    271.9,2,    10.58,2,    17.11,2,     0.95,2,   2305.2,2,   7.7230,2,    25.00
  06MM20060523, OVIDE,    77,  1,      7,2,20060612,1627, 58.9100, -31.9100, 1687,   1393.3,   3.8800,  34.9730,2,  34.9740,2,    273.1,2,    275.2,2,    10.53,2,    17.11,2,     1.02,2,   2303.6,2,   7.7230,2,    25.00
  06MM20060523, OVIDE,    77,  1,      8,2,20060612,1627, 58.9100, -31.9100, 1687,   1195.6,   3.9070,  34.9710,2,  34.9700,2,    272.4,2,    271.5,2,    10.53,2,    17.16,2,     1.00,2,   2303.9,2,   7.7220,2,    25.00
  06MM20060523, OVIDE,    77,  1,      9,2,20060612,1627, 58.9100, -31.9100, 1687,    994.7,   4.0600,  34.9570,2,  34.9570,2,    267.0,2,    267.9,2,    10.58,2,    17.74,2,     1.01,2,   2305.1,2,   7.7190,2,    25.00
  06MM20060523, OVIDE,    77,  1,     10,2,20060612,1627, 58.9100, -31.9100, 1687,    894.5,   4.2880,  34.9650,2,  34.9650,2,    262.9,2,    263.9,2,    10.58,2,    17.93,2,     1.05,2,   -999.0,9,   7.7170,2,    25.00
  06MM20060523, OVIDE,    77,  1,     11,2,20060612,1627, 58.9100, -31.9100, 1687,    796.6,   4.7830,  35.0030,2,  35.0070,2,    257.7,2,    255.7,2,    10.40,2,    18.08,2,     1.06,2,   2308.2,2,   7.7170,2,    25.00
  06MM20060523, OVIDE,    77,  1,     12,2,20060612,1627, 58.9100, -31.9100, 1687,    695.6,   5.1180,  35.0100,2,  35.0100,2,    250.3,2,    250.3,2,    10.40,2,    18.46,2,     0.98,2,   -999.0,9,   7.7140,2,    25.00
  06MM20060523, OVIDE,    77,  1,     13,2,20060612,1627, 58.9100, -31.9100, 1687,    594.7,   5.7100,  35.0350,2,  35.0370,2,    244.3,2,    243.1,2,    10.27,2,    18.56,2,     1.05,2,   2308.1,2,   7.7130,2,    25.00
  06MM20060523, OVIDE,    77,  1,     14,2,20060612,1627, 58.9100, -31.9100, 1687,    494.9,   6.1160,  35.0270,2,  35.0210,2,    261.1,2,    261.0,2,     8.77,2,    17.11,2,     1.02,2,   2311.4,2,   7.7360,2,    25.00
  06MM20060523, OVIDE,    77,  1,     15,2,20060612,1627, 58.9100, -31.9100, 1687,    495.4,   6.1110,  35.0240,2,  35.0200,2,    261.1,2,    261.8,2,     8.73,2,    17.02,2,     0.98,2,   2308.7,2,   7.7360,2,    25.00
  06MM20060523, OVIDE,    77,  1,     16,2,20060612,1627, 58.9100, -31.9100, 1687,    395.1,   6.7490,  35.0710,2,  35.0720,2,    245.4,2,    247.4,2,     8.81,2,    17.30,2,     1.03,2,   2308.4,2,   7.7390,2,    25.00
  06MM20060523, OVIDE,    77,  1,     18,2,20060612,1627, 58.9100, -31.9100, 1687,    267.1,   6.9950,  35.0160,2,  35.0080,3,    273.2,2,    273.1,2,     6.75,2,    14.90,2,     0.87,2,   2302.4,2,   7.7660,2,    25.00
  06MM20060523, OVIDE,    77,  1,     19,2,20060612,1627, 58.9100, -31.9100, 1687,    144.9,   7.3920,  35.0210,2,  35.0150,2,    277.4,2,    275.3,2,     5.54,2,    13.99,2,     0.77,2,   -999.0,9,   7.7800,2,    25.00
  06MM20060523, OVIDE,    77,  1,     20,2,20060612,1627, 58.9100, -31.9100, 1687,     95.9,   7.7200,  35.0380,2,  35.0360,2,    273.7,2,    274.4,2,     4.99,2,    13.27,2,     0.71,2,   2306.3,2,   7.7880,2,    25.00
  06MM20060523, OVIDE,    77,  1,     21,2,20060612,1627, 58.9100, -31.9100, 1687,     45.1,   9.0390,  35.0520,2,  35.0690,3,    290.5,2,    287.9,2,     2.11,2,     8.70,2,     0.49,2,   -999.0,9,   7.8460,2,    25.00
  06MM20060523, OVIDE,    77,  1,     22,2,20060612,1627, 58.9100, -31.9100, 1687,      7.1,   9.2060,  35.0290,2,  35.0270,2,    291.1,2,    292.9,2,     1.98,2,     7.79,2,     0.47,2,   2301.2,2,   7.8560,2,    25.00
  06MM20060523, OVIDE,    77,  1,     23,2,20060612,1627, 58.9100, -31.9100, 1687,      6.7,   9.2060,  35.0290,2,  35.0270,2,    291.1,2,    292.6,2,     2.02,2,     7.93,2,     0.47,2,   -999.0,9,   7.8560,2,    25.00
  06MM20060523, OVIDE,    78,  1,      3,2,20060612,2013, 58.9720, -32.5490, 1833,   1840.0,   3.5290,  34.9540,2,  34.9530,2,    273.9,2,    277.0,2,    11.18,2,    17.07,2,     0.88,2,   -999.0,9,   7.7270,2,    25.00
  06MM20060523, OVIDE,    78,  1,      4,2,20060612,2013, 58.9720, -32.5490, 1833,   1840.1,   3.5280,  34.9550,2,  34.9520,2,    273.9,2,    275.8,2,    11.14,2,    17.02,2,     0.89,2,   -999.0,9,   7.7270,2,    25.00
  06MM20060523, OVIDE,    78,  1,      5,2,20060612,2013, 58.9720, -32.5490, 1833,   1790.7,   3.5540,  34.9560,2,  34.9550,2,    274.9,2,    275.9,2,    11.05,2,    16.92,2,     0.92,2,   -999.0,9,   7.7250,2,    25.00
  06MM20060523, OVIDE,    78,  1,      6,2,20060612,2013, 58.9720, -32.5490, 1833,   1741.1,   3.5830,  34.9560,2,  34.9550,2,    275.4,2,    275.7,2,    10.97,2,    17.02,2,     0.92,2,   -999.0,9,   7.7260,2,    25.00
  06MM20060523, OVIDE,    78,  1,      7,2,20060612,2013, 58.9720, -32.5490, 1833,   1640.8,   3.6710,  34.9610,2,  34.9610,2,    273.6,2,    274.5,2,    10.75,2,    17.07,2,     0.93,2,   -999.0,9,   7.7260,2,    25.00
  06MM20060523, OVIDE,    78,  1,      8,2,20060612,2013, 58.9720, -32.5490, 1833,   1396.2,   3.7170,  34.9660,2,  34.9640,2,    272.8,2,    274.2,2,    10.71,2,    17.11,2,     0.89,2,   -999.0,9,   7.7240,2,    25.00
  06MM20060523, OVIDE,    78,  1,      9,2,20060612,2013, 58.9720, -32.5490, 1833,   1194.7,   3.8690,  34.9790,2,  34.9770,2,    270.5,2,    271.8,2,    10.54,2,    17.11,2,     0.95,2,   -999.0,9,   7.7250,2,    25.00
  06MM20060523, OVIDE,    78,  1,     10,2,20060612,2013, 58.9720, -32.5490, 1833,    995.4,   4.0570,  34.9630,2,  34.9570,2,    268.7,2,    268.6,2,    10.62,2,    17.69,2,     0.93,2,   -999.0,9,   7.7190,2,    25.00
  06MM20060523, OVIDE,    78,  1,     11,2,20060612,2013, 58.9720, -32.5490, 1833,    895.7,   4.2380,  34.9550,2,  34.9540,2,    264.9,2,    265.0,2,    10.45,2,    18.03,2,     0.95,2,   -999.0,9,   7.7160,2,    25.00
  06MM20060523, OVIDE,    78,  1,     12,2,20060612,2013, 58.9720, -32.5490, 1833,    797.2,   4.5240,  34.9600,2,  34.9580,2,    266.1,2,    264.3,2,    10.10,2,    17.98,2,     0.98,2,   -999.0,9,   7.7160,2,    25.00
  06MM20060523, OVIDE,    78,  1,     13,2,20060612,2013, 58.9720, -32.5490, 1833,    696.5,   4.8540,  34.9810,2,  34.9800,2,    258.8,2,    258.2,2,    10.10,2,    18.17,2,     1.01,2,   -999.0,9,   7.7170,2,    25.00
  06MM20060523, OVIDE,    78,  1,     14,2,20060612,2013, 58.9720, -32.5490, 1833,    596.0,   5.4210,  35.0020,2,  34.9970,2,    252.9,2,    253.0,2,     9.93,2,    18.17,2,     0.96,2,   -999.0,9,   7.7170,2,    25.00
  06MM20060523, OVIDE,    78,  1,     15,2,20060612,2013, 58.9720, -32.5490, 1833,    516.7,   5.5540,  34.9700,2,  34.9690,2,    271.2,2,    273.3,2,     8.55,2,    16.82,2,     0.93,2,   -999.0,9,   7.7340,2,    25.00
  06MM20060523, OVIDE,    78,  1,     16,2,20060612,2013, 58.9720, -32.5490, 1833,    366.5,   6.3050,  35.0060,2,  35.0040,2,    278.1,2,    275.3,2,     7.56,2,    15.82,2,     0.88,2,   -999.0,9,   7.7550,2,    25.00
  06MM20060523, OVIDE,    78,  1,     17,2,20060612,2013, 58.9720, -32.5490, 1833,    294.9,   6.8760,  35.0500,2,  35.0350,3,    251.5,2,    265.9,3,     7.51,2,    15.86,2,     0.82,2,   -999.0,9,   7.7570,2,    25.00
  06MM20060523, OVIDE,    78,  1,     18,2,20060612,2013, 58.9720, -32.5490, 1833,    195.5,   7.3050,  35.0550,2,  35.0630,3,    263.3,2,    263.0,2,     7.17,2,    15.43,2,     0.81,2,   -999.0,9,   7.7630,2,    25.00
  06MM20060523, OVIDE,    78,  1,     19,2,20060612,2013, 58.9720, -32.5490, 1833,    145.4,   7.1340,  34.9970,2,  34.9980,2,    271.5,2,    279.2,3,     5.87,2,    14.08,2,     0.73,2,   -999.0,9,   7.7760,2,    25.00
  06MM20060523, OVIDE,    78,  1,     20,2,20060612,2013, 58.9720, -32.5490, 1833,     97.0,   7.5110,  35.0400,2,  35.0390,2,    281.2,2,    272.8,3,     5.61,2,    14.04,2,     0.74,2,   -999.0,9,   7.7760,2,    25.00
  06MM20060523, OVIDE,    78,  1,     21,2,20060612,2013, 58.9720, -32.5490, 1833,     46.9,   8.0330,  35.0130,2,  35.0140,2,    286.2,2,    283.3,2,     4.02,2,    11.10,2,     0.63,2,   -999.0,9,   7.8070,2,    25.00
  06MM20060523, OVIDE,    78,  1,     22,2,20060612,2013, 58.9720, -32.5490, 1833,     14.7,   9.1710,  34.9730,2,  34.9690,2,    282.4,2,    294.3,3,     2.20,2,     7.64,2,     0.38,2,   -999.0,9,   7.8550,2,    25.00
  06MM20060523, OVIDE,    79,  1,      3,2,20060612,0009, 59.0390, -33.1930, 2285,   2301.7,   3.1500,  34.9390,2,  34.9410,2,    278.2,2,    277.4,2,    12.32,2,    16.84,2,     0.86,2,   2308.1,2,   7.7290,2,    25.00
  06MM20060523, OVIDE,    79,  1,      4,2,20060612,0009, 59.0390, -33.1930, 2285,   2234.7,   3.1650,  34.9400,2,  34.9420,2,    278.0,2,    277.7,2,    12.23,2,    16.89,2,     0.93,2,   2304.9,2,   7.7300,2,    25.00
  06MM20060523, OVIDE,    79,  1,      5,2,20060612,0009, 59.0390, -33.1930, 2285,   2189.0,   3.1890,  34.9390,2,  34.9410,2,    277.1,2,    277.3,2,    12.23,2,    16.74,2,     0.86,2,   -999.0,9,   7.7270,2,    25.00
  06MM20060523, OVIDE,    79,  1,      6,2,20060612,0009, 59.0390, -33.1930, 2285,   2191.0,   3.1890,  34.9400,2,  34.9430,2,    277.1,2,    277.0,2,    12.23,2,    16.79,2,     0.98,2,   -999.0,9,   7.7280,2,    25.00
  06MM20060523, OVIDE,    79,  1,      7,2,20060612,0009, 59.0390, -33.1930, 2285,   2096.2,   3.2430,  34.9420,2,  34.9430,2,    277.0,2,    277.0,2,    11.93,2,    16.74,2,     0.93,2,   2307.3,2,   7.7260,2,    25.00
  06MM20060523, OVIDE,    79,  1,      8,2,20060612,0009, 59.0390, -33.1930, 2285,   1894.9,   3.4040,  34.9470,2,  34.9470,2,    276.6,2,    277.0,2,    11.19,2,    16.93,2,     0.91,2,   2306.3,2,   7.7250,2,    25.00
  06MM20060523, OVIDE,    79,  1,      9,2,20060612,0009, 59.0390, -33.1930, 2285,   1694.2,   3.5350,  34.9510,2,  34.9520,2,    275.9,2,    276.6,2,    10.93,2,    17.03,2,     0.94,2,   2303.8,2,   7.7240,2,    25.00
  06MM20060523, OVIDE,    79,  1,     10,2,20060612,0009, 59.0390, -33.1930, 2285,   1497.9,   3.6730,  34.9530,2,  34.9540,2,    275.7,2,    274.7,2,    10.58,2,    17.03,2,     0.97,2,   2305.1,2,   7.7180,2,    25.00
  06MM20060523, OVIDE,    79,  1,     11,2,20060612,0009, 59.0390, -33.1930, 2285,   1395.1,   3.8470,  34.9730,2,  34.9750,2,    272.9,2,    272.2,2,    10.45,2,    16.98,2,     0.91,2,   2306.5,2,   7.7250,2,    25.00
  06MM20060523, OVIDE,    79,  1,     12,2,20060612,0009, 59.0390, -33.1930, 2285,   1157.4,   3.7180,  34.9100,2,  34.9110,2,    278.7,2,    277.7,2,    10.19,2,    17.32,2,     0.98,2,   2300.1,2,   7.7200,2,    25.00
  06MM20060523, OVIDE,    79,  1,     13,2,20060612,0009, 59.0390, -33.1930, 2285,    994.4,   3.9800,  34.9240,2,  34.9250,2,    273.5,2,    273.2,2,    10.11,2,    17.41,2,     0.98,2,   2301.8,2,   7.7170,2,    25.00
  06MM20060523, OVIDE,    79,  1,     14,2,20060612,0009, 59.0390, -33.1930, 2285,    895.8,   4.3770,  34.9530,2,  34.9540,2,    264.5,2,    263.4,2,    10.41,2,    17.89,2,     1.00,2,   2304.1,2,   7.7150,2,    25.00
  06MM20060523, OVIDE,    79,  1,     15,2,20060612,0009, 59.0390, -33.1930, 2285,    797.0,   4.8580,  34.9890,2,  34.9900,2,    256.7,2,    254.4,2,    10.41,2,    18.03,2,     1.00,2,   2305.4,2,   7.7130,2,    25.00
  06MM20060523, OVIDE,    79,  1,     16,2,20060612,0009, 59.0390, -33.1930, 2285,    691.9,   5.1440,  34.9850,2,  34.9850,2,    260.2,2,    258.9,2,     9.89,2,    17.84,2,     1.02,2,   -999.0,9,   7.7200,2,    25.00
  06MM20060523, OVIDE,    79,  1,     20,2,20060612,0009, 59.0390, -33.1930, 2285,    496.5,   6.0290,  34.9990,2,  35.0020,2,    263.1,2,    265.6,2,     8.50,2,    16.60,2,     0.90,2,   2307.9,2,   7.7390,2,    25.00
  06MM20060523, OVIDE,    79,  1,     21,2,20060612,0009, 59.0390, -33.1930, 2285,    395.6,   6.8330,  35.0660,2,  35.0660,2,    240.1,2,    235.8,2,     9.54,2,    17.89,2,     1.04,2,   2309.2,2,   7.7320,2,    25.00
  06MM20060523, OVIDE,    79,  1,     22,2,20060612,0009, 59.0390, -33.1930, 2285,    246.0,   7.3780,  35.0610,2,  35.0630,2,    269.9,2,    270.0,2,     6.29,2,    14.35,2,     0.80,2,   -999.0,9,   7.7740,2,    25.00
  06MM20060523, OVIDE,    79,  1,     23,2,20060612,0009, 59.0390, -33.1930, 2285,    195.8,   7.5530,  35.0670,2,  35.0690,2,    278.3,2,    271.1,3,     5.94,2,    14.02,2,     0.76,2,   2309.1,2,   7.7780,2,    25.00
  06MM20060523, OVIDE,    79,  1,     24,2,20060612,0009, 59.0390, -33.1930, 2285,    146.2,   7.8400,  35.0920,2,  35.0920,2,    271.9,2,    269.1,2,     5.64,2,    13.73,2,     0.76,2,   -999.0,9,   7.7850,2,    25.00
  06MM20060523, OVIDE,    79,  1,     25,2,20060612,0009, 59.0390, -33.1930, 2285,     95.5,   8.0280,  35.0950,2,  35.0980,2,    270.8,2,    275.9,2,     5.42,2,    13.30,2,     0.75,2,   2310.6,2,   7.7890,2,    25.00
  06MM20060523, OVIDE,    79,  1,     26,2,20060612,0009, 59.0390, -33.1930, 2285,     43.8,   8.4830,  35.0480,2,  35.0480,2,    284.0,2,    282.2,2,     3.30,2,     9.81,2,     0.63,2,   -999.0,9,   7.8170,2,    25.00
  06MM20060523, OVIDE,    79,  1,     27,2,20060612,0009, 59.0390, -33.1930, 2285,      5.9,   9.1150,  35.0570,2,  35.0560,2,    291.8,2,    293.6,2,     2.21,2,     7.46,2,     0.46,2,   -999.0,9,   7.8550,2,    25.00