BOTTLE,20140930PRINUNIVRMK
EXPOCODE,SECT_ID,STNNBR,CASTNO,BTLNBR,BTLNBR_FLAG_W,DATE,TIME,LATITUDE,LONGITUDE,DEPTH,CTDPRS,CTDTMP,CTDSAL,CTDSAL_FLAG_W,SALNTY,SALNTY_FLAG_W,CTDOXY,CTDOXY_FLAG_W,OXYGEN,OXYGEN_FLAG_W,SILCAT,SILCAT_FLAG_W,NITRAT,NITRAT_FLAG_W,PHSPHT,PHSPHT_FLAG_W,ALKALI,ALKALI_FLAG_W,PH_SWS,PH_SWS_FLAG_W,PH_TMP
,,,,,,,,,,METERS,DBAR,ITS-90,PSS-78,,PSS-78,,UMOL/KG,,UMOL/KG,,UMOL/KG,,UMOL/KG,,UMOL/KG,,UMOL/KG,,,,DEG C
  06MM20060523, OVIDE,    66,  1,      3,2,20060610,1332, 56.6300, -27.5790, 2716,   2744.7,   2.7900,  34.9800,2,  34.9800,2,    269.7,2,    270.5,2,    17.00,2,    18.08,2,     1.00,2,   -999.0,9,   7.7200,2,    25.00
  06MM20060523, OVIDE,    66,  1,      4,2,20060610,1332, 56.6300, -27.5790, 2716,   2695.4,   2.7970,  34.9780,2,  34.9780,2,    268.6,2,    271.1,2,    16.48,2,    17.83,2,     0.93,2,   -999.0,9,   7.7190,2,    25.00
  06MM20060523, OVIDE,    66,  1,      5,2,20060610,1332, 56.6300, -27.5790, 2716,   2645.5,   2.8320,  34.9770,2,  34.9760,2,    270.5,2,    272.1,2,    15.87,2,    17.73,2,     0.98,2,   -999.0,9,   7.7210,2,    25.00
  06MM20060523, OVIDE,    66,  1,      6,2,20060610,1332, 56.6300, -27.5790, 2716,   2497.2,   2.9070,  34.9710,2,  34.9690,2,    271.7,2,    271.8,2,    15.44,2,    17.73,2,     0.96,2,   -999.0,9,   7.7250,2,    25.00
  06MM20060523, OVIDE,    66,  1,      7,2,20060610,1332, 56.6300, -27.5790, 2716,   2244.0,   3.1070,  34.9500,2,  34.9490,2,    274.3,2,    276.0,2,    12.80,2,    17.68,2,     0.96,2,   -999.0,9,   7.7290,2,    25.00
  06MM20060523, OVIDE,    66,  1,      8,2,20060610,1332, 56.6300, -27.5790, 2716,   1994.7,   3.1940,  34.9190,2,  34.9190,2,    278.8,2,    279.7,2,    11.80,2,    17.93,2,     0.94,2,   -999.0,9,   7.7320,2,    25.00
  06MM20060523, OVIDE,    66,  1,      9,2,20060610,1332, 56.6300, -27.5790, 2716,   1795.0,   3.2910,  34.9080,2,  34.9090,2,    280.2,2,    281.0,2,    11.28,2,    18.08,2,     0.97,2,   -999.0,9,   7.7280,2,    25.00
  06MM20060523, OVIDE,    66,  1,     10,2,20060610,1332, 56.6300, -27.5790, 2716,   1594.8,   3.3960,  34.9020,2,  34.9030,2,    278.8,2,    278.8,2,    11.10,2,    18.18,2,     0.98,2,   -999.0,9,   7.7220,2,    25.00
  06MM20060523, OVIDE,    66,  1,     11,2,20060610,1332, 56.6300, -27.5790, 2716,   1394.4,   3.5510,  34.9060,2,  34.9070,2,    276.8,2,    276.4,2,    11.02,2,    18.13,2,     1.01,2,   -999.0,9,   7.7200,2,    25.00
  06MM20060523, OVIDE,    66,  1,     12,2,20060610,1332, 56.6300, -27.5790, 2716,   1197.0,   3.6440,  34.9000,2,  34.8990,2,    277.4,2,    279.2,2,    10.50,2,    19.52,2,     1.00,2,   -999.0,9,   7.7170,2,    25.00
  06MM20060523, OVIDE,    66,  1,     13,2,20060610,1332, 56.6300, -27.5790, 2716,    994.7,   3.8490,  34.9040,2,  34.9020,2,    273.0,2,    273.3,2,    10.24,2,    19.47,2,     0.96,2,   -999.0,9,   7.7130,2,    25.00
  06MM20060523, OVIDE,    66,  1,     14,2,20060610,1332, 56.6300, -27.5790, 2716,    895.1,   3.9850,  34.9130,2,  34.9100,2,    267.9,2,    276.3,3,    10.37,2,    18.38,2,     1.00,2,   -999.0,9,   7.7100,2,    25.00
  06MM20060523, OVIDE,    66,  1,     15,2,20060610,1332, 56.6300, -27.5790, 2716,    796.1,   4.1900,  34.9270,2,  34.9270,2,    262.7,2,    263.0,2,    10.50,2,    19.07,2,     1.03,2,   -999.0,9,   7.7090,2,    25.00
  06MM20060523, OVIDE,    66,  1,     16,2,20060610,1332, 56.6300, -27.5790, 2716,    696.7,   4.5350,  34.9520,2,  34.9520,2,    254.1,2,    254.0,2,    10.71,2,    20.01,2,     1.03,2,   -999.0,9,   7.7070,2,    25.00
  06MM20060523, OVIDE,    66,  1,     17,2,20060610,1332, 56.6300, -27.5790, 2716,    595.8,   4.9410,  34.9670,2,  34.9660,2,    243.7,2,    245.9,2,    10.84,2,    20.61,2,     1.11,2,   -999.0,9,   7.7030,2,    25.00
  06MM20060523, OVIDE,    66,  1,     18,2,20060610,1332, 56.6300, -27.5790, 2716,    495.7,   5.5700,  34.9880,2,  34.9870,2,    233.1,2,    233.8,2,    10.84,2,    20.06,2,  -999.00,9,   -999.0,9,   7.7000,2,    25.00
  06MM20060523, OVIDE,    66,  1,     19,2,20060610,1332, 56.6300, -27.5790, 2716,    396.3,   6.2160,  34.9840,2,  34.9830,2,    224.4,2,    228.1,2,    10.41,2,    19.62,2,     1.08,2,   -999.0,9,   7.7050,2,    25.00
  06MM20060523, OVIDE,    66,  1,     20,2,20060610,1332, 56.6300, -27.5790, 2716,    309.6,   7.3570,  35.0640,2,  35.0640,2,    213.8,2,    212.1,2,    10.32,2,    21.79,2,     1.08,2,   -999.0,9,   7.7130,2,    25.00
  06MM20060523, OVIDE,    66,  1,     21,2,20060610,1332, 56.6300, -27.5790, 2716,    309.0,   7.3630,  35.0650,2,  35.0630,2,    214.3,2,    211.8,2,    10.28,2,    19.42,2,     1.04,2,   -999.0,9,   7.7140,2,    25.00
  06MM20060523, OVIDE,    66,  1,     22,2,20060610,1332, 56.6300, -27.5790, 2716,    195.8,   7.9090,  34.9790,2,  34.9780,2,    256.3,2,    262.7,2,     5.64,2,    13.77,2,     1.07,2,   -999.0,9,   7.7820,2,    25.00
  06MM20060523, OVIDE,    66,  1,     23,2,20060610,1332, 56.6300, -27.5790, 2716,    147.5,   7.9670,  34.9520,2,  34.9500,2,    271.1,2,    281.3,3,     3.82,2,    11.39,2,     0.76,2,   -999.0,9,   7.8060,2,    25.00
  06MM20060523, OVIDE,    66,  1,     24,2,20060610,1332, 56.6300, -27.5790, 2716,     97.8,   8.3400,  34.9680,2,  34.9640,2,    274.0,2,    276.3,2,     4.03,2,    11.39,2,     0.68,2,   -999.0,9,   7.8020,2,    25.00
  06MM20060523, OVIDE,    66,  1,     25,2,20060610,1332, 56.6300, -27.5790, 2716,     45.9,   9.7130,  34.9580,2,  34.9610,2,    287.4,2,    287.6,2,     1.00,2,     6.24,2,     0.42,2,   -999.0,9,   7.8590,2,    25.00
  06MM20060523, OVIDE,    66,  1,     26,2,20060610,1332, 56.6300, -27.5790, 2716,      5.8,  10.0170,  34.9400,2,  34.9400,2,    290.1,2,    296.3,3,     0.69,2,     5.05,2,     0.33,2,   -999.0,9,   7.8830,2,    25.00
  06MM20060523, OVIDE,    67,  1,      3,2,20060610,1716, 56.8160, -27.7300, 2812,   2839.4,   2.8180,  34.9820,2,  34.9820,2,    273.2,2,    272.7,2,    16.06,2,    16.77,2,     0.90,2,   -999.0,9,   7.7140,2,    25.00
  06MM20060523, OVIDE,    67,  1,      4,2,20060610,1716, 56.8160, -27.7300, 2812,   2793.8,   2.8200,  34.9840,2,  34.9820,2,    273.4,2,    273.2,2,    15.42,2,    16.72,2,     1.03,2,   -999.0,9,   7.7150,2,    25.00
  06MM20060523, OVIDE,    67,  1,      5,2,20060610,1716, 56.8160, -27.7300, 2812,   2693.7,   2.8410,  34.9820,2,  34.9790,2,    273.8,2,    273.9,2,    15.24,2,    16.77,2,     0.98,2,   -999.0,9,   7.7160,2,    25.00
  06MM20060523, OVIDE,    67,  1,      6,2,20060610,1716, 56.8160, -27.7300, 2812,   2496.0,   2.9870,  34.9820,2,  34.9800,2,    273.8,2,    275.2,2,    13.34,2,    16.53,2,     0.96,2,   -999.0,9,   7.7180,2,    25.00
  06MM20060523, OVIDE,    67,  1,      7,2,20060610,1716, 56.8160, -27.7300, 2812,   2244.7,   3.2180,  34.9690,2,  34.9650,2,    276.9,2,    276.9,2,    11.83,2,    16.58,2,     1.00,2,   -999.0,9,   7.7220,2,    25.00
  06MM20060523, OVIDE,    67,  1,      8,2,20060610,1716, 56.8160, -27.7300, 2812,   1994.8,   3.2910,  34.9330,2,  34.9300,2,    281.2,2,    279.7,2,    11.40,2,    17.05,2,     0.97,2,   -999.0,9,   7.7250,2,    25.00
  06MM20060523, OVIDE,    67,  1,      9,2,20060610,1716, 56.8160, -27.7300, 2812,   1795.2,   3.3440,  34.9140,2,  34.9120,2,    282.2,2,    280.5,2,    11.23,2,    17.29,2,     1.04,2,   -999.0,9,   7.7240,2,    25.00
  06MM20060523, OVIDE,    67,  1,     10,2,20060610,1716, 56.8160, -27.7300, 2812,   1592.2,   3.4630,  34.9090,2,  34.9070,2,    277.6,2,    278.9,2,    11.27,2,    17.53,2,     1.07,2,   -999.0,9,   7.7210,2,    25.00
  06MM20060523, OVIDE,    67,  1,     11,2,20060610,1716, 56.8160, -27.7300, 2812,   1393.6,   3.5730,  34.9070,2,  34.9060,2,    276.5,2,    276.8,2,    11.23,2,    17.62,2,     1.04,2,   -999.0,9,   7.7150,2,    25.00
  06MM20060523, OVIDE,    67,  1,     12,2,20060610,1716, 56.8160, -27.7300, 2812,   1195.8,   3.6750,  34.9010,2,  34.8980,2,    274.7,2,    277.0,2,    10.84,2,    17.53,2,     1.08,2,   -999.0,9,   7.7130,2,    25.00
  06MM20060523, OVIDE,    67,  1,     13,2,20060610,1716, 56.8160, -27.7300, 2812,    994.5,   3.9120,  34.9160,2,  34.9140,2,    269.9,2,    270.3,2,    10.88,2,    17.91,2,     0.95,2,   -999.0,9,   7.7090,2,    25.00
  06MM20060523, OVIDE,    67,  1,     14,2,20060610,1716, 56.8160, -27.7300, 2812,    894.7,   4.0500,  34.9220,2,  34.9180,2,    266.5,2,    266.5,2,    10.67,2,    17.95,2,     1.10,2,   -999.0,9,   7.7050,2,    25.00
  06MM20060523, OVIDE,    67,  1,     15,2,20060610,1716, 56.8160, -27.7300, 2812,    795.3,   4.2480,  34.9340,2,  34.9310,2,    262.3,2,    260.4,2,    10.62,2,    18.05,2,     1.04,2,   -999.0,9,   7.7050,2,    25.00
  06MM20060523, OVIDE,    67,  1,     16,2,20060610,1716, 56.8160, -27.7300, 2812,    694.4,   4.6840,  34.9670,2,  34.9640,2,    251.7,2,    250.8,2,    11.01,2,    18.29,2,     1.10,2,   -999.0,9,   7.7010,2,    25.00
  06MM20060523, OVIDE,    67,  1,     17,2,20060610,1716, 56.8160, -27.7300, 2812,    594.4,   5.0200,  34.9620,2,  34.9580,2,    242.5,2,    243.2,2,  -999.00,9,  -999.00,9,  -999.00,9,   -999.0,9,   7.6990,2,    25.00
  06MM20060523, OVIDE,    67,  1,     18,2,20060610,1716, 56.8160, -27.7300, 2812,    495.1,   5.5210,  34.9810,2,  34.9800,2,    234.2,2,    234.3,2,  -999.00,9,  -999.00,9,  -999.00,9,   -999.0,9,   7.6970,2,    25.00
  06MM20060523, OVIDE,    67,  1,     19,2,20060610,1716, 56.8160, -27.7300, 2812,    395.3,   6.3340,  35.0120,2,  35.0070,2,    230.9,2,    227.9,2,  -999.00,9,  -999.00,9,  -999.00,9,   -999.0,9,   7.7040,2,    25.00
  06MM20060523, OVIDE,    67,  1,     20,2,20060610,1716, 56.8160, -27.7300, 2812,    295.4,   6.9600,  34.9680,2,  34.9660,2,    229.0,2,    228.2,2,  -999.00,9,  -999.00,9,  -999.00,9,   -999.0,9,   7.7150,2,    25.00
  06MM20060523, OVIDE,    67,  1,     21,2,20060610,1716, 56.8160, -27.7300, 2812,    195.1,   8.0140,  34.9880,2,  34.9950,3,    277.9,2,    254.3,3,  -999.00,9,  -999.00,9,  -999.00,9,   -999.0,9,   7.7860,2,    25.00
  06MM20060523, OVIDE,    67,  1,     22,2,20060610,1716, 56.8160, -27.7300, 2812,    145.3,   7.9560,  34.9350,2,  34.9330,2,    272.4,2,    275.7,2,  -999.00,9,  -999.00,9,  -999.00,9,   -999.0,9,   7.8040,2,    25.00
  06MM20060523, OVIDE,    67,  1,     23,2,20060610,1716, 56.8160, -27.7300, 2812,    145.3,   7.9530,  34.9360,2,  34.9320,2,    272.4,2,    276.2,2,  -999.00,9,  -999.00,9,  -999.00,9,   -999.0,9,   7.8040,2,    25.00
  06MM20060523, OVIDE,    67,  1,     24,2,20060610,1716, 56.8160, -27.7300, 2812,     95.1,   8.1820,  34.9250,2,  34.9240,2,    282.4,2,    283.1,2,  -999.00,9,  -999.00,9,  -999.00,9,   -999.0,9,   7.8060,2,    25.00
  06MM20060523, OVIDE,    67,  1,     25,2,20060610,1716, 56.8160, -27.7300, 2812,     46.1,   8.7530,  34.9540,2,  34.9460,3,    287.0,2,    284.7,2,  -999.00,9,  -999.00,9,  -999.00,9,   -999.0,9,   7.8530,2,    25.00
  06MM20060523, OVIDE,    67,  1,     26,2,20060610,1716, 56.8160, -27.7300, 2812,     11.7,  10.6490,  35.0680,2,  35.0690,2,    287.6,2,    286.6,2,  -999.00,9,  -999.00,9,  -999.00,9,   -999.0,9,   7.8840,2,    25.00
  06MM20060523, OVIDE,    68,  1,      3,2,20060610,2114, 57.0050, -27.8810, 2752,   2781.8,   2.8120,  34.9800,2,  34.9820,2,    269.5,2,    271.0,2,    16.80,2,    17.05,2,     0.97,2,   2310.2,2,   7.7190,2,    25.00
  06MM20060523, OVIDE,    68,  1,      4,2,20060610,2114, 57.0050, -27.8810, 2752,   2497.6,   2.9510,  34.9760,2,  34.9770,2,    273.3,2,    273.7,2,    14.35,2,    16.86,2,     1.02,2,   2306.6,2,   7.7240,2,    25.00
  06MM20060523, OVIDE,    68,  1,      5,2,20060610,2114, 57.0050, -27.8810, 2752,   2247.2,   3.1590,  34.9490,2,  34.9500,2,    275.7,2,    276.3,2,    12.69,2,    16.96,2,     0.97,2,   2302.0,2,   7.7280,2,    25.00
  06MM20060523, OVIDE,    68,  1,      6,2,20060610,2114, 57.0050, -27.8810, 2752,   1994.7,   3.2220,  34.9170,2,  34.9200,2,    277.9,2,    279.6,2,    11.86,2,    17.20,2,     1.03,2,   2297.7,2,   7.7280,2,    25.00
  06MM20060523, OVIDE,    68,  1,      7,2,20060610,2114, 57.0050, -27.8810, 2752,   1797.0,   3.2990,  34.9040,2,  34.9050,2,    279.4,2,    277.7,2,    11.51,2,    17.39,2,     1.10,2,   2299.3,2,   7.7270,2,    25.00
  06MM20060523, OVIDE,    68,  1,      8,2,20060610,2114, 57.0050, -27.8810, 2752,   1596.7,   3.4520,  34.9040,2,  34.9080,2,    276.2,2,    277.7,2,    11.42,2,    17.67,2,     1.00,2,   2298.5,2,   7.7220,2,    25.00
  06MM20060523, OVIDE,    68,  1,      9,2,20060610,2114, 57.0050, -27.8810, 2752,   1395.3,   3.5800,  34.9050,2,  34.9050,2,    276.3,2,    276.5,2,    11.16,2,    17.67,2,     1.06,2,   2297.2,2,   7.7210,2,    25.00
  06MM20060523, OVIDE,    68,  1,     10,2,20060610,2114, 57.0050, -27.8810, 2752,   1195.1,   3.7030,  34.9030,2,  34.9040,2,    274.7,2,    276.3,2,    10.72,2,    17.67,2,     1.04,2,   2301.0,2,   7.7190,2,    25.00
  06MM20060523, OVIDE,    68,  1,     11,2,20060610,2114, 57.0050, -27.8810, 2752,    994.3,   3.9170,  34.9110,2,  34.9100,2,    270.6,2,    272.1,2,    10.63,2,    17.91,2,     1.04,2,   2300.5,2,   7.7150,2,    25.00
  06MM20060523, OVIDE,    68,  1,     12,2,20060610,2114, 57.0050, -27.8810, 2752,    896.1,   4.1050,  34.9220,2,  34.9230,2,    264.1,2,    266.2,2,    10.72,2,    18.05,2,     1.08,2,   -999.0,9,   7.7110,2,    25.00
  06MM20060523, OVIDE,    68,  1,     13,2,20060610,2114, 57.0050, -27.8810, 2752,    796.9,   4.3940,  34.9410,2,  34.9390,2,    259.1,2,    261.6,2,    10.72,2,    18.33,2,     1.10,2,   2302.3,2,   7.7110,2,    25.00
  06MM20060523, OVIDE,    68,  1,     14,2,20060610,2114, 57.0050, -27.8810, 2752,    695.9,   4.8300,  34.9690,2,  34.9680,2,    247.3,2,    248.2,2,    11.07,2,    18.76,2,     1.17,2,   2305.1,2,   7.7050,2,    25.00
  06MM20060523, OVIDE,    68,  1,     15,2,20060610,2114, 57.0050, -27.8810, 2752,    596.1,   5.2820,  34.9830,2,  34.9840,2,    238.0,2,    238.9,2,    11.16,2,    19.09,2,     1.08,2,   -999.0,9,   7.7040,2,    25.00
  06MM20060523, OVIDE,    68,  1,     16,2,20060610,2114, 57.0050, -27.8810, 2752,    496.0,   5.8910,  34.9760,2,  34.9760,2,    229.3,2,    231.5,2,    10.81,2,    19.28,2,     1.16,2,   2305.1,2,   7.7030,2,    25.00
  06MM20060523, OVIDE,    68,  1,     17,2,20060610,2114, 57.0050, -27.8810, 2752,    396.4,   6.6590,  35.0020,2,  35.0010,2,    225.7,2,    227.6,2,    10.28,2,    18.71,2,     1.18,2,   2307.2,2,   7.7130,2,    25.00
  06MM20060523, OVIDE,    68,  1,     18,2,20060610,2114, 57.0050, -27.8810, 2752,    336.2,   7.0860,  34.9830,2,  34.9830,2,    215.5,2,    217.1,2,    10.33,2,    18.95,2,     1.13,2,   -999.0,9,   7.7090,2,    25.00
  06MM20060523, OVIDE,    68,  1,     19,2,20060610,2114, 57.0050, -27.8810, 2752,    196.1,   8.6680,  35.1100,2,  35.1130,2,    264.2,2,    262.5,2,     5.29,2,    12.74,2,     0.81,2,   2310.6,2,   7.7990,2,    25.00
  06MM20060523, OVIDE,    68,  1,     20,2,20060610,2114, 57.0050, -27.8810, 2752,    146.7,   8.8290,  35.1240,2,  35.1250,2,    261.5,2,    266.0,2,     4.42,2,    12.08,2,     0.80,2,   -999.0,9,   7.8070,2,    25.00
  06MM20060523, OVIDE,    68,  1,     21,2,20060610,2114, 57.0050, -27.8810, 2752,     96.2,   9.3300,  35.1640,2,  35.1610,2,    269.6,2,    264.2,3,     4.03,2,    10.99,2,     0.65,2,   2317.0,2,   7.8170,2,    25.00
  06MM20060523, OVIDE,    68,  1,     22,2,20060610,2114, 57.0050, -27.8810, 2752,     47.3,   9.7300,  35.1210,2,  35.1230,2,    280.9,2,    278.2,2,     1.31,2,     7.25,2,     0.54,2,   -999.0,9,   7.8560,2,    25.00
  06MM20060523, OVIDE,    68,  1,     23,2,20060610,2114, 57.0050, -27.8810, 2752,     13.0,  10.3940,  35.0500,2,  35.0530,2,    285.1,2,    288.1,2,     0.83,2,     5.12,2,     0.34,2,   -999.0,9,   7.8900,2,    25.00