BOTTLE,20020809WHPSIObren
EXPOCODE,SECT_ID,STNNBR,CASTNO,SAMPNO,BTLNBR,BTLNBR_FLAG_W,DATE,TIME,LATITUDE,LONGITUDE,DEPTH,CTDPRS,CTDTMP,CTDSAL,CTDSAL_FLAG_W,SALNTY,SALNTY_FLAG_W,CTDOXY,CTDOXY_FLAG_W,OXYGEN,OXYGEN_FLAG_W,SILCAT,SILCAT_FLAG_W,NO2+NO3,NO2+NO3_FLAG_W,PHSPHT,PHSPHT_FLAG_W,CTDRAW,REVTMP,REVPRS,THETA
,,,,,,,,,,,,DBAR,ITS-90,PSS-78,,PSS-78,,UMOL/KG,,UMOL/KG,,UMOL/KG,,UMOL/KG,,UMOL/KG,,,DEG C,DBAR,ITS-90
     31HX026_1,  PRS2,     2, 11,     23,     23,2,19910510,0412, 22.7533,-157.9733, 4750,      6.2,  24.1253,  34.9141,2,  34.9128,2,    252.9,1,   -999.0,9,  -999.00,9,  -999.00,9,  -999.00,9,      6,-999.000,  -999.0, 24.1240
     31HX026_1,  PRS2,     2, 11,     22,     22,2,19910510,0412, 22.7533,-157.9733, 4750,     15.8,  24.1010,  34.9152,2,  34.9112,2,    252.4,1,   -999.0,9,  -999.00,9,  -999.00,9,  -999.00,9,     16,-999.000,  -999.0, 24.0977
     31HX026_1,  PRS2,     2, 11,     21,     21,2,19910510,0412, 22.7533,-157.9733, 4750,     25.3,  23.9387,  34.9244,2,  34.9207,2,    260.8,1,   -999.0,9,  -999.00,9,  -999.00,9,  -999.00,9,     25,-999.000,  -999.0, 23.9333
     31HX026_1,  PRS2,     2, 11,     20,     20,2,19910510,0412, 22.7533,-157.9733, 4750,     75.0,  21.7442,  35.2783,2,  35.2765,2,    227.8,1,   -999.0,9,  -999.00,9,  -999.00,9,  -999.00,9,     74,-999.000,  -999.0, 21.7295
     31HX026_1,  PRS2,     2, 11,     19,     19,9,19910510,0412, 22.7533,-157.9733, 4750,     96.1,  21.0478,  35.2794,2,  35.2823,2,    216.5,1,   -999.0,9,  -999.00,9,  -999.00,9,  -999.00,9,     96,-999.000,  -999.0, 21.0293
     31HX026_1,  PRS2,     2, 11,     18,     18,2,19910510,0412, 22.7533,-157.9733, 4750,    105.7,  20.9481,  35.2865,2,  35.2733,3,    221.5,1,   -999.0,9,  -999.00,9,  -999.00,9,  -999.00,9,    104,-999.000,  -999.0, 20.9279
     31HX026_1,  PRS2,     2, 11,     17,     17,2,19910510,0412, 22.7533,-157.9733, 4750,    115.5,  20.7803,  35.2842,2,  35.2826,2,    228.8,1,   -999.0,9,  -999.00,9,  -999.00,9,  -999.00,9,    132,-999.000,  -999.0, 20.7584
     31HX026_1,  PRS2,     2, 11,     16,     16,2,19910510,0412, 22.7533,-157.9733, 4750,    125.5,  20.5267,  35.2865,2,  35.2848,2,    224.1,1,   -999.0,9,  -999.00,9,  -999.00,9,  -999.00,9,    123,-999.000,  -999.0, 20.5030
     31HX026_1,  PRS2,     2, 11,     15,     15,2,19910510,0412, 22.7533,-157.9733, 4750,    135.3,  20.3714,  35.2782,2,  35.2771,2,    222.7,1,   -999.0,9,  -999.00,9,  -999.00,9,  -999.00,9,    135,-999.000,  -999.0, 20.3460
     31HX026_1,  PRS2,     2, 11,     14,     14,2,19910510,0412, 22.7533,-157.9733, 4750,    145.7,  20.1537,  35.2658,2,  35.2602,2,    221.8,1,   -999.0,9,  -999.00,9,  -999.00,9,  -999.00,9,    145,-999.000,  -999.0, 20.1266
     31HX026_1,  PRS2,     2, 11,     13,     13,2,19910510,0412, 22.7533,-157.9733, 4750,    150.7,  19.9174,  35.2421,2,  35.2624,2,    221.3,1,   -999.0,9,  -999.00,9,  -999.00,9,  -999.00,9,    150,-999.000,  -999.0, 19.8896
     31HX026_1,  PRS2,     2, 11,     12,     12,2,19910510,0412, 22.7533,-157.9733, 4750,    156.5,  19.6706,  35.2215,2,  35.2251,2,    218.3,1,   -999.0,9,  -999.00,9,  -999.00,9,  -999.00,9,    156,-999.000,  -999.0, 19.6420
     31HX026_1,  PRS2,     2, 11,     11,     11,2,19910510,0412, 22.7533,-157.9733, 4750,    161.6,  19.5222,  35.2082,2,  35.2077,2,    216.9,1,   -999.0,9,  -999.00,9,  -999.00,9,  -999.00,9,    160,-999.000,  -999.0, 19.4928
     31HX026_1,  PRS2,     2, 11,     10,     10,2,19910510,0412, 22.7533,-157.9733, 4750,    167.6,  19.3798,  35.1986,2,  35.2000,2,    217.5,1,   -999.0,9,  -999.00,9,  -999.00,9,  -999.00,9,    166,-999.000,  -999.0, 19.3495
     31HX026_1,  PRS2,     2, 11,      9,      9,2,19910510,0412, 22.7533,-157.9733, 4750,    172.5,  19.1445,  35.1785,2,  35.1823,2,    219.3,1,   -999.0,9,  -999.00,9,  -999.00,9,  -999.00,9,    171,-999.000,  -999.0, 19.1136
     31HX026_1,  PRS2,     2, 11,      8,      8,2,19910510,0412, 22.7533,-157.9733, 4750,    179.6,  19.0614,  35.1734,2,  35.1748,2,    219.0,1,   -999.0,9,  -999.00,9,  -999.00,9,  -999.00,9,    176,-999.000,  -999.0, 19.0293
     31HX026_1,  PRS2,     2, 11,      7,      7,2,19910510,0412, 22.7533,-157.9733, 4750,    185.7,  18.8140,  35.1335,2,  35.1566,2,    218.3,1,   -999.0,9,  -999.00,9,  -999.00,9,  -999.00,9,    181,-999.000,  -999.0, 18.7811
     31HX026_1,  PRS2,     2, 11,      6,      6,2,19910510,0412, 22.7533,-157.9733, 4750,    190.8,  18.5738,  35.1034,2,  35.1036,2,    215.0,1,   -999.0,9,  -999.00,9,  -999.00,9,  -999.00,9,    186,-999.000,  -999.0, 18.5403
     31HX026_1,  PRS2,     2, 11,      5,     26,2,19910510,0412, 22.7533,-157.9733, 4750,   1034.5,   3.9710,  34.4930,2,-999.0000,5,     45.1,1,   -999.0,9,  -999.00,9,  -999.00,9,  -999.00,9,   1027,-999.000,  -999.0,  3.8927
     31HX026_1,  PRS2,     2, 11,      3,      3,2,19910510,0412, 22.7533,-157.9733, 4750,   1034.5,   3.9679,  34.4926,2,-999.0000,5,     44.8,1,   -999.0,9,  -999.00,9,  -999.00,9,  -999.00,9,   1024,-999.000,  -999.0,  3.8896
     31HX026_1,  PRS2,     2, 11,      1,      1,2,19910510,0412, 22.7533,-157.9733, 4750,   1034.7,   3.9790,  34.4922,2,  34.4922,2,     44.9,1,   -999.0,9,  -999.00,9,  -999.00,9,  -999.00,9,   1025,-999.000,  -999.0,  3.9006
     31HX026_1,  PRS2,     2, 11,      2,      2,2,19910510,0412, 22.7533,-157.9733, 4750,   1034.8,   3.9715,  34.4922,2,-999.0000,5,     44.8,1,   -999.0,9,  -999.00,9,  -999.00,9,  -999.00,9,   1028,-999.000,  -999.0,  3.8932
     31HX026_1,  PRS2,     2, 11,      4,     25,2,19910510,0412, 22.7533,-157.9733, 4750,   1034.9,   3.9641,  34.4923,2,-999.0000,5,     44.8,1,   -999.0,9,  -999.00,9,  -999.00,9,  -999.00,9,   1025,-999.000,  -999.0,  3.8858
     31HX026_1,  PRS2,     2, 12,     22,     22,2,19910510,1056, 22.8283,-157.4567, 4750,     10.6,  24.0087,  34.9138,2,-999.0000,5,    264.7,1,   -999.0,9,  -999.00,9,  -999.00,9,  -999.00,9,      7,-999.000,  -999.0, 24.0065
     31HX026_1,  PRS2,     2, 12,     21,     21,2,19910510,1056, 22.8283,-157.4567, 4750,     10.6,  24.0104,  34.9135,2,-999.0000,5,    261.5,1,   -999.0,9,  -999.00,9,  -999.00,9,  -999.00,9,      8,-999.000,  -999.0, 24.0082
     31HX026_1,  PRS2,     2, 12,     20,     20,2,19910510,1056, 22.8283,-157.4567, 4750,     10.6,  24.0098,  34.9135,2,-999.0000,5,    258.4,1,   -999.0,9,  -999.00,9,  -999.00,9,  -999.00,9,      8,-999.000,  -999.0, 24.0076
     31HX026_1,  PRS2,     2, 12,     19,     19,2,19910510,1056, 22.8283,-157.4567, 4750,     10.6,  24.0105,  34.9134,2,-999.0000,5,    256.9,1,   -999.0,9,  -999.00,9,  -999.00,9,  -999.00,9,      8,-999.000,  -999.0, 24.0083
     31HX026_1,  PRS2,     2, 12,     18,     18,2,19910510,1056, 22.8283,-157.4567, 4750,     10.6,  24.0088,  34.9134,2,-999.0000,5,    258.7,1,   -999.0,9,  -999.00,9,  -999.00,9,  -999.00,9,      8,-999.000,  -999.0, 24.0066
     31HX026_1,  PRS2,     2, 12,     17,     17,2,19910510,1056, 22.8283,-157.4567, 4750,     10.6,  24.0108,  34.9129,2,-999.0000,5,    263.4,1,   -999.0,9,  -999.00,9,  -999.00,9,  -999.00,9,      8,-999.000,  -999.0, 24.0086
     31HX026_1,  PRS2,     2, 12,     16,     16,2,19910510,1056, 22.8283,-157.4567, 4750,     10.6,  24.0099,  34.9126,2,  34.9162,2,    267.5,1,   -999.0,9,  -999.00,9,  -999.00,9,  -999.00,9,      6,-999.000,  -999.0, 24.0077
     31HX026_1,  PRS2,     2, 12,     23,     23,2,19910510,1056, 22.8283,-157.4567, 4750,     10.7,  24.0092,  34.9139,2,-999.0000,5,    266.2,1,   -999.0,9,  -999.00,9,  -999.00,9,  -999.00,9,      9,-999.000,  -999.0, 24.0069
     31HX026_1,  PRS2,     2, 12,     15,     15,2,19910510,1056, 22.8283,-157.4567, 4750,    506.6,   6.9587,  34.0411,2,  34.0338,2,    132.4,1,   -999.0,9,  -999.00,9,  -999.00,9,  -999.00,9,    498,-999.000,  -999.0,  6.9111
     31HX026_1,  PRS2,     2, 12,     10,     10,2,19910510,1056, 22.8283,-157.4567, 4750,   1033.1,   3.9105,  34.4913,2,-999.0000,5,     42.5,1,   -999.0,9,  -999.00,9,  -999.00,9,  -999.00,9,   1021,-999.000,  -999.0,  3.8328
     31HX026_1,  PRS2,     2, 12,     12,     12,2,19910510,1056, 22.8283,-157.4567, 4750,   1033.2,   3.9110,  34.4913,2,-999.0000,5,     42.4,1,   -999.0,9,  -999.00,9,  -999.00,9,  -999.00,9,   1020,-999.000,  -999.0,  3.8333
     31HX026_1,  PRS2,     2, 12,     11,     11,2,19910510,1056, 22.8283,-157.4567, 4750,   1033.2,   3.9107,  34.4912,2,-999.0000,5,     42.5,1,   -999.0,9,  -999.00,9,  -999.00,9,  -999.00,9,   1022,-999.000,  -999.0,  3.8330
     31HX026_1,  PRS2,     2, 12,     13,     13,2,19910510,1056, 22.8283,-157.4567, 4750,   1033.3,   3.9114,  34.4911,2,-999.0000,5,     42.1,1,   -999.0,9,  -999.00,9,  -999.00,9,  -999.00,9,   1021,-999.000,  -999.0,  3.8337
     31HX026_1,  PRS2,     2, 12,      9,      9,2,19910510,1056, 22.8283,-157.4567, 4750,   1033.3,   3.9107,  34.4913,2,-999.0000,5,     42.6,1,   -999.0,9,  -999.00,9,  -999.00,9,  -999.00,9,   1022,-999.000,  -999.0,  3.8330
     31HX026_1,  PRS2,     2, 12,      8,      8,2,19910510,1056, 22.8283,-157.4567, 4750,   1033.3,   3.9109,  34.4912,2,-999.0000,5,     42.5,1,   -999.0,9,  -999.00,9,  -999.00,9,  -999.00,9,   1023,-999.000,  -999.0,  3.8332
     31HX026_1,  PRS2,     2, 12,      3,      3,2,19910510,1056, 22.8283,-157.4567, 4750,   1033.3,   3.9109,  34.4911,2,-999.0000,5,     42.5,1,   -999.0,9,  -999.00,9,  -999.00,9,  -999.00,9,   1021,-999.000,  -999.0,  3.8332
     31HX026_1,  PRS2,     2, 12,     14,     14,2,19910510,1056, 22.8283,-157.4567, 4750,   1033.4,   3.9113,  34.4913,2,-999.0000,5,     42.1,1,   -999.0,9,  -999.00,9,  -999.00,9,  -999.00,9,   1021,-999.000,  -999.0,  3.8335
     31HX026_1,  PRS2,     2, 12,      4,     25,2,19910510,1056, 22.8283,-157.4567, 4750,   1033.4,   3.9103,  34.4910,2,-999.0000,5,     42.6,1,   -999.0,9,  -999.00,9,  -999.00,9,  -999.00,9,   1021,-999.000,  -999.0,  3.8325
     31HX026_1,  PRS2,     2, 12,      6,      6,2,19910510,1056, 22.8283,-157.4567, 4750,   1033.5,   3.9103,  34.4911,2,-999.0000,5,     42.7,1,   -999.0,9,  -999.00,9,  -999.00,9,  -999.00,9,   1022,-999.000,  -999.0,  3.8326
     31HX026_1,  PRS2,     2, 12,      2,      2,2,19910510,1056, 22.8283,-157.4567, 4750,   1033.6,   3.9109,  34.4910,2,-999.0000,5,     42.4,1,   -999.0,9,  -999.00,9,  -999.00,9,  -999.00,9,   1023,-999.000,  -999.0,  3.8332
     31HX026_1,  PRS2,     2, 12,      1,      1,2,19910510,1056, 22.8283,-157.4567, 4750,   1033.6,   3.9114,  34.4909,2,  34.4897,2,     42.5,1,   -999.0,9,  -999.00,9,  -999.00,9,  -999.00,9,   1022,-999.000,  -999.0,  3.8336
     31HX026_1,  PRS2,     2, 12,      7,      7,2,19910510,1056, 22.8283,-157.4567, 4750,   1033.7,   3.9105,  34.4912,2,-999.0000,5,     42.6,1,   -999.0,9,  -999.00,9,  -999.00,9,  -999.00,9,   1023,-999.000,  -999.0,  3.8327
     31HX026_1,  PRS2,     2, 12,      5,     26,2,19910510,1056, 22.8283,-157.4567, 4750,   1033.7,   3.9108,  34.4911,2,-999.0000,5,     42.8,1,   -999.0,9,  -999.00,9,  -999.00,9,  -999.00,9,   1022,-999.000,  -999.0,  3.8330