BOTTLE,20020809WHPSIObren
EXPOCODE,SECT_ID,STNNBR,CASTNO,SAMPNO,BTLNBR,BTLNBR_FLAG_W,DATE,TIME,LATITUDE,LONGITUDE,DEPTH,CTDPRS,CTDTMP,CTDSAL,CTDSAL_FLAG_W,SALNTY,SALNTY_FLAG_W,CTDOXY,CTDOXY_FLAG_W,OXYGEN,OXYGEN_FLAG_W,SILCAT,SILCAT_FLAG_W,NO2+NO3,NO2+NO3_FLAG_W,PHSPHT,PHSPHT_FLAG_W,CTDRAW,REVTMP,REVPRS,THETA
,,,,,,,,,,,,DBAR,ITS-90,PSS-78,,PSS-78,,UMOL/KG,,UMOL/KG,,UMOL/KG,,UMOL/KG,,UMOL/KG,,,DEG C,DBAR,ITS-90
     31HX026_1,  PRS2,     2,  4,     21,     21,2,19910508,1009, 22.7467,-157.9917, 4750,      9.6,  23.9283,  34.8966,2,  34.8969,2,    256.6,2,    212.9,2,  -999.00,5,  -999.00,5,  -999.00,5,      7,-999.000,  -999.0, 23.9263
     31HX026_1,  PRS2,     2,  4,     23,     23,4,19910508,1009, 22.7467,-157.9917, 4750,     10.6,  23.9195,  34.8967,2,-999.0000,5,    256.1,2,   -999.0,5,  -999.00,5,  -999.00,5,  -999.00,5,      8,-999.000,  -999.0, 23.9173
     31HX026_1,  PRS2,     2,  4,     22,     22,2,19910508,1009, 22.7467,-157.9917, 4750,     10.6,  23.9195,  34.8967,2,  34.8976,2,    256.1,2,    212.8,2,  -999.00,5,  -999.00,5,  -999.00,5,      8,-999.000,  -999.0, 23.9173
     31HX026_1,  PRS2,     2,  4,     20,     20,2,19910508,1009, 22.7467,-157.9917, 4750,     18.3,  23.9362,  34.8970,2,  34.8976,2,    256.7,2,    213.0,2,     1.47,2,     0.03,2,     0.10,2,     17,-999.000,  -999.0, 23.9323
     31HX026_1,  PRS2,     2,  4,     18,     18,2,19910508,1009, 22.7467,-157.9917, 4750,     26.4,  23.9317,  34.8971,2,  34.8978,2,    256.0,2,    213.5,2,     1.29,2,     0.03,2,     0.10,2,     23,-999.000,  -999.0, 23.9261
     31HX026_1,  PRS2,     2,  4,     19,     19,2,19910508,1009, 22.7467,-157.9917, 4750,     27.5,  23.9321,  34.8959,2,  34.8967,2,    256.5,2,    212.7,2,  -999.00,5,  -999.00,5,  -999.00,5,     25,-999.000,  -999.0, 23.9263
     31HX026_1,  PRS2,     2,  4,     17,     17,2,19910508,1009, 22.7467,-157.9917, 4750,     36.7,  23.3244,  35.1393,2,  35.0455,3,    245.7,3,    215.8,2,     1.29,2,     0.00,2,     0.09,2,     33,-999.000,  -999.0, 23.3169
     31HX026_1,  PRS2,     2,  4,     16,     16,2,19910508,1009, 22.7467,-157.9917, 4750,     46.0,  22.5326,  35.2448,2,  35.2322,2,    236.7,2,    222.4,2,     1.29,2,     0.00,2,     0.06,2,     43,-999.000,  -999.0, 22.5233
     31HX026_1,  PRS2,     2,  4,     15,     15,2,19910508,1009, 22.7467,-157.9917, 4750,     64.3,  22.3387,  35.3070,2,  35.3076,2,    233.5,2,    222.4,2,     1.29,2,     0.00,2,     0.04,2,     59,-999.000,  -999.0, 22.3258
     31HX026_1,  PRS2,     2,  4,     14,     14,2,19910508,1009, 22.7467,-157.9917, 4750,     78.0,  22.0541,  35.3032,2,  35.3041,2,    235.0,2,    223.2,2,     1.47,2,     0.00,2,     0.04,2,     75,-999.000,  -999.0, 22.0387
     31HX026_1,  PRS2,     2,  4,     13,     13,2,19910508,1009, 22.7467,-157.9917, 4750,     86.9,  21.6899,  35.2825,2,  35.2845,2,    231.9,2,    224.7,2,     1.47,2,     0.00,2,     0.04,2,     84,-999.000,  -999.0, 21.6729
     31HX026_1,  PRS2,     2,  4,     12,     12,4,19910508,1009, 22.7467,-157.9917, 4750,     98.0,  21.1564,  35.2760,2,  35.2749,2,    225.9,2,    224.6,2,     1.67,2,     0.00,2,     0.06,2,     96,-999.000,  -999.0, 21.1375
     31HX026_1,  PRS2,     2,  4,     11,     11,2,19910508,1009, 22.7467,-157.9917, 4750,    104.6,  20.8405,  35.2846,2,  35.2859,2,    225.5,2,    223.7,2,     1.67,2,     0.00,2,     0.06,2,     94,-999.000,  -999.0, 20.8206
     31HX026_1,  PRS2,     2,  4,     10,     10,2,19910508,1009, 22.7467,-157.9917, 4750,    114.8,  20.5867,  35.2991,2,  35.2999,2,    223.1,2,    222.7,2,     1.67,2,     0.00,2,     0.06,2,    111,-999.000,  -999.0, 20.5650
     31HX026_1,  PRS2,     2,  4,      9,      9,2,19910508,1009, 22.7467,-157.9917, 4750,    126.3,  20.2794,  35.2724,2,  35.2726,2,    219.9,2,    221.4,2,     1.85,2,     0.00,2,     0.07,2,    122,-999.000,  -999.0, 20.2558
     31HX026_1,  PRS2,     2,  4,      8,      8,2,19910508,1009, 22.7467,-157.9917, 4750,    140.5,  20.0683,  35.2544,2,  35.2537,2,    220.4,2,    220.4,2,     1.85,2,     0.00,2,     0.07,2,    135,-999.000,  -999.0, 20.0423
     31HX026_1,  PRS2,     2,  4,      7,      7,2,19910508,1009, 22.7467,-157.9917, 4750,    157.2,  19.4748,  35.2084,2,  35.2136,2,    219.1,2,    219.7,2,  -999.00,5,  -999.00,5,  -999.00,5,    152,-999.000,  -999.0, 19.4463
     31HX026_1,  PRS2,     2,  4,      6,      6,2,19910508,1009, 22.7467,-157.9917, 4750,    165.4,  19.1463,  35.1815,2,  35.1862,2,    217.2,2,    220.0,2,     2.22,2,     0.44,2,     0.10,2,    159,-999.000,  -999.0, 19.1166
     31HX026_1,  PRS2,     2,  4,      5,     26,2,19910508,1009, 22.7467,-157.9917, 4750,    176.3,  18.9318,  35.1565,2,  35.1569,2,    218.2,2,    219.3,2,  -999.00,5,  -999.00,5,  -999.00,5,    171,-999.000,  -999.0, 18.9004
     31HX026_1,  PRS2,     2,  4,      4,     25,2,19910508,1009, 22.7467,-157.9917, 4750,    188.5,  18.3840,  35.0473,2,  35.0548,2,    213.1,2,    206.3,2,     2.87,2,     2.02,2,     0.21,2,    183,-999.000,  -999.0, 18.3511
     31HX026_1,  PRS2,     2,  4,      3,      3,4,19910508,1009, 22.7467,-157.9917, 4750,    204.9,  17.5535,  34.9196,2,-999.0000,5,    195.0,2,   -999.0,5,  -999.00,5,  -999.00,5,  -999.00,5,    196,-999.000,  -999.0, 17.5190
     31HX026_1,  PRS2,     2,  4,      2,      2,3,19910508,1009, 22.7467,-157.9917, 4750,    539.4,   6.5664,  34.0457,2,  34.0469,2,    106.5,2,   -999.0,5,  -999.00,5,  -999.00,5,  -999.00,5,    530,-999.000,  -999.0,  6.5172
     31HX026_1,  PRS2,     2,  4,      1,      1,2,19910508,1009, 22.7467,-157.9917, 4750,   1027.3,   3.9355,  34.4931,2,  34.4953,2,     44.7,2,   -999.0,5,  -999.00,5,  -999.00,5,  -999.00,5,   1013,-999.000,  -999.0,  3.8581
     31HX026_1,  PRS2,     2,  5,     16,     16,2,19910508,1733, 22.7500,-158.0117, 4750,      5.8,  23.9197,  34.8940,2,  34.8946,2,    215.6,1,   -999.0,9,  -999.00,9,  -999.00,9,  -999.00,9,      3,-999.000,  -999.0, 23.9185
     31HX026_1,  PRS2,     2,  5,     15,     15,2,19910508,1733, 22.7500,-158.0117, 4750,     27.5,  23.9159,  34.8932,2,  34.8936,2,    217.3,1,   -999.0,9,  -999.00,9,  -999.00,9,  -999.00,9,     27,-999.000,  -999.0, 23.9102
     31HX026_1,  PRS2,     2,  5,     14,     14,2,19910508,1733, 22.7500,-158.0117, 4750,     41.5,  23.7660,  34.9730,2,  34.9794,2,    243.9,1,   -999.0,9,  -999.00,9,  -999.00,9,  -999.00,9,     39,-999.000,  -999.0, 23.7574
     31HX026_1,  PRS2,     2,  5,     13,     13,2,19910508,1733, 22.7500,-158.0117, 4750,     46.0,  23.0910,  35.2142,2,  35.1937,3,    244.8,1,   -999.0,9,  -999.00,9,  -999.00,9,  -999.00,9,     44,-999.000,  -999.0, 23.0815
     31HX026_1,  PRS2,     2,  5,     12,     12,2,19910508,1733, 22.7500,-158.0117, 4750,     54.2,  22.6346,  35.2785,2,  35.2800,2,    238.2,1,   -999.0,9,  -999.00,9,  -999.00,9,  -999.00,9,     54,-999.000,  -999.0, 22.6236
     31HX026_1,  PRS2,     2,  5,     11,     11,2,19910508,1733, 22.7500,-158.0117, 4750,     79.0,  21.3499,  35.2723,2,  35.2731,2,    229.8,1,   -999.0,9,  -999.00,9,  -999.00,9,  -999.00,9,     75,-999.000,  -999.0, 21.3346
     31HX026_1,  PRS2,     2,  5,     10,     10,2,19910508,1733, 22.7500,-158.0117, 4750,    105.2,  20.7177,  35.2859,2,  35.2864,2,    226.0,1,   -999.0,9,  -999.00,9,  -999.00,9,  -999.00,9,    101,-999.000,  -999.0, 20.6978
     31HX026_1,  PRS2,     2,  5,      9,      9,2,19910508,1733, 22.7500,-158.0117, 4750,    120.0,  20.3391,  35.2745,2,  35.2713,2,    222.9,1,   -999.0,9,  -999.00,9,  -999.00,9,  -999.00,9,    115,-999.000,  -999.0, 20.3167
     31HX026_1,  PRS2,     2,  5,      8,      8,2,19910508,1733, 22.7500,-158.0117, 4750,    129.9,  19.8991,  35.2379,2,  35.2485,2,    215.3,1,   -999.0,9,  -999.00,9,  -999.00,9,  -999.00,9,    126,-999.000,  -999.0, 19.8751
     31HX026_1,  PRS2,     2,  5,      7,      7,2,19910508,1733, 22.7500,-158.0117, 4750,    156.7,  19.0438,  35.1728,2,  35.1720,2,    218.3,1,   -999.0,9,  -999.00,9,  -999.00,9,  -999.00,9,    151,-999.000,  -999.0, 19.0158
     31HX026_1,  PRS2,     2,  5,      6,      6,2,19910508,1733, 22.7500,-158.0117, 4750,    182.4,  17.2151,  34.8859,2,-999.0000,5,    193.4,1,   -999.0,9,  -999.00,9,  -999.00,9,  -999.00,9,    174,-999.000,  -999.0, 17.1847
     31HX026_1,  PRS2,     2,  5,      5,     26,2,19910508,1733, 22.7500,-158.0117, 4750,    182.4,  17.2151,  34.8859,2,  34.8980,2,    193.4,1,   -999.0,9,  -999.00,9,  -999.00,9,  -999.00,9,    174,-999.000,  -999.0, 17.1847
     31HX026_1,  PRS2,     2,  5,      4,     25,2,19910508,1733, 22.7500,-158.0117, 4750,    260.1,  13.6621,  34.4329,2,-999.0000,5,    195.9,1,   -999.0,9,  -999.00,9,  -999.00,9,  -999.00,9,    253,-999.000,  -999.0, 13.6252
     31HX026_1,  PRS2,     2,  5,      3,      3,2,19910508,1733, 22.7500,-158.0117, 4750,    512.0,   6.7728,  34.0438,2,-999.0000,5,    114.2,1,   -999.0,9,  -999.00,9,  -999.00,9,  -999.00,9,    502,-999.000,  -999.0,  6.7254
     31HX026_1,  PRS2,     2,  5,      1,      1,2,19910508,1733, 22.7500,-158.0117, 4750,    762.1,   4.7450,  34.3118,2,  34.3133,2,     30.4,1,   -999.0,9,  -999.00,9,  -999.00,9,  -999.00,9,    750,-999.000,  -999.0,  4.6846
     31HX026_1,  PRS2,     2,  5,      2,      2,2,19910508,1733, 22.7500,-158.0117, 4750,    762.5,   4.7449,  34.3118,2,-999.0000,5,     30.4,1,   -999.0,9,  -999.00,9,  -999.00,9,  -999.00,9,    752,-999.000,  -999.0,  4.6844
     31HX026_1,  PRS2,     2,  6,     13,     13,2,19910509,0709, 22.7583,-157.9883, 4750,    115.0,  20.5203,  35.2899,2,  35.2714,4,    224.1,1,   -999.0,9,  -999.00,9,  -999.00,9,  -999.00,9,    109,-999.000,  -999.0, 20.4987
     31HX026_1,  PRS2,     2,  6,     12,     12,2,19910509,0709, 22.7583,-157.9883, 4750,    125.3,  20.2881,  35.2702,2,  35.2603,2,    221.5,1,   -999.0,9,  -999.00,9,  -999.00,9,  -999.00,9,    122,-999.000,  -999.0, 20.2647
     31HX026_1,  PRS2,     2,  6,     11,     11,4,19910509,0709, 22.7583,-157.9883, 4750,    125.3,  20.2881,  35.2702,2,-999.0000,5,    221.5,1,   -999.0,9,  -999.00,9,  -999.00,9,  -999.00,9,    122,-999.000,  -999.0, 20.2647
     31HX026_1,  PRS2,     2,  6,     10,     10,2,19910509,0709, 22.7583,-157.9883, 4750,    130.0,  20.1927,  35.2617,2,-999.0000,5,    223.7,1,   -999.0,9,  -999.00,9,  -999.00,9,  -999.00,9,    125,-999.000,  -999.0, 20.1685
     31HX026_1,  PRS2,     2,  6,      9,      9,2,19910509,0709, 22.7583,-157.9883, 4750,    135.4,  19.9290,  35.2414,2,-999.0000,5,    222.2,1,   -999.0,9,  -999.00,9,  -999.00,9,  -999.00,9,    128,-999.000,  -999.0, 19.9041
     31HX026_1,  PRS2,     2,  6,      8,      8,2,19910509,0709, 22.7583,-157.9883, 4750,    140.2,  19.7132,  35.2243,2,-999.0000,5,    218.6,1,   -999.0,9,  -999.00,9,  -999.00,9,  -999.00,9,    136,-999.000,  -999.0, 19.6875
     31HX026_1,  PRS2,     2,  6,      7,      7,2,19910509,0709, 22.7583,-157.9883, 4750,    145.4,  19.4575,  35.2034,2,-999.0000,5,    221.6,1,   -999.0,9,  -999.00,9,  -999.00,9,  -999.00,9,    140,-999.000,  -999.0, 19.4312
     31HX026_1,  PRS2,     2,  6,      6,      6,2,19910509,0709, 22.7583,-157.9883, 4750,    153.3,  19.2693,  35.1822,2,-999.0000,5,    220.5,1,   -999.0,9,  -999.00,9,  -999.00,9,  -999.00,9,    147,-999.000,  -999.0, 19.2417
     31HX026_1,  PRS2,     2,  6,      5,     26,2,19910509,0709, 22.7583,-157.9883, 4750,    158.0,  19.0758,  35.1655,2,-999.0000,5,    220.7,1,   -999.0,9,  -999.00,9,  -999.00,9,  -999.00,9,    150,-999.000,  -999.0, 19.0475
     31HX026_1,  PRS2,     2,  6,      4,     25,2,19910509,0709, 22.7583,-157.9883, 4750,    165.1,  19.0158,  35.1668,2,-999.0000,5,    221.4,1,   -999.0,9,  -999.00,9,  -999.00,9,  -999.00,9,    158,-999.000,  -999.0, 18.9864
     31HX026_1,  PRS2,     2,  6,      3,      3,2,19910509,0709, 22.7583,-157.9883, 4750,    169.6,  18.9939,  35.1694,2,-999.0000,5,    223.6,1,   -999.0,9,  -999.00,9,  -999.00,9,  -999.00,9,    160,-999.000,  -999.0, 18.9636
     31HX026_1,  PRS2,     2,  6,      2,      2,2,19910509,0709, 22.7583,-157.9883, 4750,    508.3,   7.0638,  34.0530,2,  34.0521,2,    124.8,1,   -999.0,9,  -999.00,9,  -999.00,9,  -999.00,9,    497,-999.000,  -999.0,  7.0156
     31HX026_1,  PRS2,     2,  6,      1,      1,2,19910509,0709, 22.7583,-157.9883, 4750,   1027.1,   3.9525,  34.4890,2,  34.4890,2,     44.8,1,   -999.0,9,  -999.00,9,  -999.00,9,  -999.00,9,   1017,-999.000,  -999.0,  3.8750
     31HX026_1,  PRS2,     2,  7,     23,     23,2,19910509,1055, 22.7467,-158.0033, 4750,     10.5,  23.9551,  34.9275,2,-999.0000,5,    237.9,1,   -999.0,9,  -999.00,9,  -999.00,9,  -999.00,9,      8,-999.000,  -999.0, 23.9529
     31HX026_1,  PRS2,     2,  7,     22,     22,2,19910509,1055, 22.7467,-158.0033, 4750,     25.4,  23.9575,  34.9273,2,  34.9256,2,    239.0,1,   -999.0,9,  -999.00,9,  -999.00,9,  -999.00,9,     23,-999.000,  -999.0, 23.9521
     31HX026_1,  PRS2,     2,  7,     21,     21,2,19910509,1055, 22.7467,-158.0033, 4750,     47.7,  23.6677,  34.9917,2,  34.9255,3,    234.0,1,   -999.0,9,  -999.00,9,  -999.00,9,  -999.00,9,     45,-999.000,  -999.0, 23.6578
     31HX026_1,  PRS2,     2,  7,     20,     20,2,19910509,1055, 22.7467,-158.0033, 4750,     80.5,  22.1376,  35.2503,2,  35.9678,4,    236.2,1,   -999.0,9,  -999.00,9,  -999.00,9,  -999.00,9,     78,-999.000,  -999.0, 22.1216
     31HX026_1,  PRS2,     2,  7,     19,     19,2,19910509,1055, 22.7467,-158.0033, 4750,    104.5,  21.4459,  35.2855,2,  35.2463,4,    231.0,1,   -999.0,9,  -999.00,9,  -999.00,9,  -999.00,9,    100,-999.000,  -999.0, 21.4256
     31HX026_1,  PRS2,     2,  7,     18,     18,2,19910509,1055, 22.7467,-158.0033, 4750,    113.5,  21.0094,  35.2778,2,  35.2562,4,    225.8,1,   -999.0,9,  -999.00,9,  -999.00,9,  -999.00,9,    111,-999.000,  -999.0, 20.9877
     31HX026_1,  PRS2,     2,  7,     17,     17,2,19910509,1055, 22.7467,-158.0033, 4750,    114.5,  20.9794,  35.2801,2,  35.2762,2,    225.8,1,   -999.0,9,  -999.00,9,  -999.00,9,  -999.00,9,    111,-999.000,  -999.0, 20.9575
     31HX026_1,  PRS2,     2,  7,     16,     16,2,19910509,1055, 22.7467,-158.0033, 4750,    125.7,  20.7395,  35.2872,2,  35.2789,2,    224.3,1,   -999.0,9,  -999.00,9,  -999.00,9,  -999.00,9,    122,-999.000,  -999.0, 20.7157
     31HX026_1,  PRS2,     2,  7,     15,     15,2,19910509,1055, 22.7467,-158.0033, 4750,    132.2,  20.5761,  35.2965,2,  35.2855,2,    223.3,1,   -999.0,9,  -999.00,9,  -999.00,9,  -999.00,9,    129,-999.000,  -999.0, 20.5511
     31HX026_1,  PRS2,     2,  7,     14,     14,2,19910509,1055, 22.7467,-158.0033, 4750,    134.9,  20.5078,  35.2942,2,  35.2936,2,    221.6,1,   -999.0,9,  -999.00,9,  -999.00,9,  -999.00,9,    132,-999.000,  -999.0, 20.4824
     31HX026_1,  PRS2,     2,  7,     13,     13,2,19910509,1055, 22.7467,-158.0033, 4750,    138.9,  20.3141,  35.2791,2,  35.2941,2,    219.6,1,   -999.0,9,  -999.00,9,  -999.00,9,  -999.00,9,    136,-999.000,  -999.0, 20.2881
     31HX026_1,  PRS2,     2,  7,     11,     11,2,19910509,1055, 22.7467,-158.0033, 4750,    140.3,  20.2699,  35.2753,2,  35.2735,2,    219.1,1,   -999.0,9,  -999.00,9,  -999.00,9,  -999.00,9,    138,-999.000,  -999.0, 20.2437
     31HX026_1,  PRS2,     2,  7,     10,     10,2,19910509,1055, 22.7467,-158.0033, 4750,    140.3,  20.2718,  35.2747,2,  35.2757,2,    218.9,1,   -999.0,9,  -999.00,9,  -999.00,9,  -999.00,9,    136,-999.000,  -999.0, 20.2456
     31HX026_1,  PRS2,     2,  7,     12,     12,2,19910509,1055, 22.7467,-158.0033, 4750,    140.6,  20.2614,  35.2744,2,  35.2771,2,    219.3,1,   -999.0,9,  -999.00,9,  -999.00,9,  -999.00,9,    137,-999.000,  -999.0, 20.2352
     31HX026_1,  PRS2,     2,  7,      9,      9,4,19910509,1055, 22.7467,-158.0033, 4750,    140.8,  20.2598,  35.2753,2,-999.0000,5,    218.9,1,   -999.0,9,  -999.00,9,  -999.00,9,  -999.00,9,    138,-999.000,  -999.0, 20.2335
     31HX026_1,  PRS2,     2,  7,      8,      8,2,19910509,1055, 22.7467,-158.0033, 4750,    143.0,  20.2421,  35.2723,2,  35.2721,2,    218.8,1,   -999.0,9,  -999.00,9,  -999.00,9,  -999.00,9,    138,-999.000,  -999.0, 20.2154
     31HX026_1,  PRS2,     2,  7,      7,      7,2,19910509,1055, 22.7467,-158.0033, 4750,    152.2,  20.1689,  35.2675,2,  35.2659,2,    219.0,1,   -999.0,9,  -999.00,9,  -999.00,9,  -999.00,9,    148,-999.000,  -999.0, 20.1406
     31HX026_1,  PRS2,     2,  7,      6,      6,2,19910509,1055, 22.7467,-158.0033, 4750,    157.5,  20.0100,  35.2489,2,  35.2504,2,    217.0,1,   -999.0,9,  -999.00,9,  -999.00,9,  -999.00,9,    152,-999.000,  -999.0, 19.9808
     31HX026_1,  PRS2,     2,  7,      5,     26,2,19910509,1055, 22.7467,-158.0033, 4750,    162.3,  19.8471,  35.2356,2,  35.2397,2,    217.1,1,   -999.0,9,  -999.00,9,  -999.00,9,  -999.00,9,    157,-999.000,  -999.0, 19.8172
     31HX026_1,  PRS2,     2,  7,      4,     25,2,19910509,1055, 22.7467,-158.0033, 4750,    170.1,  19.4110,  35.2032,2,  35.2014,2,    217.2,1,   -999.0,9,  -999.00,9,  -999.00,9,  -999.00,9,    165,-999.000,  -999.0, 19.3801
     31HX026_1,  PRS2,     2,  7,      3,      3,2,19910509,1055, 22.7467,-158.0033, 4750,    179.9,  19.0709,  35.1745,2,  35.1757,2,    216.3,1,   -999.0,9,  -999.00,9,  -999.00,9,  -999.00,9,    172,-999.000,  -999.0, 19.0387
     31HX026_1,  PRS2,     2,  7,      2,      2,2,19910509,1055, 22.7467,-158.0033, 4750,    504.8,   7.0467,  34.0454,2,  34.0417,2,    128.3,1,   -999.0,9,  -999.00,9,  -999.00,9,  -999.00,9,    497,-999.000,  -999.0,  6.9989
     31HX026_1,  PRS2,     2,  7,      1,      1,2,19910509,1055, 22.7467,-158.0033, 4750,   1027.8,   3.9471,  34.4947,2,  35.4949,4,     44.5,1,   -999.0,9,  -999.00,9,  -999.00,9,  -999.00,9,   1018,-999.000,  -999.0,  3.8696