BOTTLE,20020809WHPSIObren
#code : jjward hyd_to_exchange.pl 
#original files copied from HTML directory: 20020809
#original HYD file: /whpo/11/HOTS/BOTTLE/hot26/hot26.sea   Fri Aug  9 09:51:30 2002
#original SUM file: /whpo/11/HOTS/BOTTLE/hot26/hot26.sum   Fri Aug  9 13:30:35 2002
EXPOCODE,SECT_ID,STNNBR,CASTNO,SAMPNO,BTLNBR,BTLNBR_FLAG_W,DATE,TIME,LATITUDE,LONGITUDE,DEPTH,CTDPRS,CTDTMP,CTDSAL,CTDSAL_FLAG_W,SALNTY,SALNTY_FLAG_W,CTDOXY,CTDOXY_FLAG_W,OXYGEN,OXYGEN_FLAG_W,SILCAT,SILCAT_FLAG_W,NO2+NO3,NO2+NO3_FLAG_W,PHSPHT,PHSPHT_FLAG_W,CTDRAW,REVTMP,REVPRS,THETA
,,,,,,,,,,,,DBAR,ITS-90,PSS-78,,PSS-78,,UMOL/KG,,UMOL/KG,,UMOL/KG,,UMOL/KG,,UMOL/KG,,,DEG C,DBAR,ITS-90
     31HX026_1,  PRS2,     1,  1,     20,     20,2,19910505,0011, 21.3333,-158.2717, 1400,      7.0,  24.7655,  34.7148,2,  34.7206,2,    212.2,2,    210.8,2,     1.10,2,     0.00,2,     0.11,2,      5,-999.000,  -999.0, 24.7640
     31HX026_1,  PRS2,     1,  1,     19,     19,2,19910505,0011, 21.3333,-158.2717, 1400,     27.5,  24.5955,  34.6995,2,  34.7047,2,    213.7,2,    211.4,2,     1.10,2,     0.00,2,     0.11,2,     27,-999.000,  -999.0, 24.5896
     31HX026_1,  PRS2,     1,  1,     18,     18,2,19910505,0011, 21.3333,-158.2717, 1400,     48.4,  24.5314,  34.7867,2,  34.7938,2,    215.3,2,    212.2,2,     1.10,2,     0.00,2,     0.11,2,     46,-999.000,  -999.0, 24.5210
     31HX026_1,  PRS2,     1,  1,     17,     17,2,19910505,0011, 21.3333,-158.2717, 1400,     63.3,  24.2991,  34.8863,2,  34.9146,3,    215.0,3,    214.2,2,     0.74,2,     0.03,2,     0.10,2,     66,-999.000,  -999.0, 24.2857
     31HX026_1,  PRS2,     1,  1,     16,     16,2,19910505,0011, 21.3333,-158.2717, 1400,     79.3,  23.6182,  35.0224,2,  35.0298,2,    213.6,2,    216.7,2,     0.56,2,     0.03,2,     0.09,2,     76,-999.000,  -999.0, 23.6017
     31HX026_1,  PRS2,     1,  1,     15,     15,2,19910505,0011, 21.3333,-158.2717, 1400,     98.0,  23.0606,  35.0834,2,  35.1028,3,    213.9,3,    217.2,2,     0.46,2,     0.00,2,     0.07,2,     94,-999.000,  -999.0, 23.0406
     31HX026_1,  PRS2,     1,  1,     14,     14,2,19910505,0011, 21.3333,-158.2717, 1400,    109.1,  22.2066,  35.1777,2,  35.1849,2,    212.4,2,    213.9,2,     0.74,2,     0.00,2,     0.09,2,    106,-999.000,  -999.0, 22.1849
     31HX026_1,  PRS2,     1,  1,     13,     13,2,19910505,0011, 21.3333,-158.2717, 1400,    120.0,  21.8875,  35.2012,2,  35.2131,2,    211.0,2,    213.8,2,     0.74,2,     0.00,2,     0.09,2,    116,-999.000,  -999.0, 21.8639
     31HX026_1,  PRS2,     1,  1,     12,     12,2,19910505,0011, 21.3333,-158.2717, 1400,    132.0,  21.5128,  35.1961,2,  35.2037,2,    208.6,2,    210.2,2,     0.74,2,     0.03,2,     0.10,2,    127,-999.000,  -999.0, 21.4870
     31HX026_1,  PRS2,     1,  1,     11,     11,2,19910505,0011, 21.3333,-158.2717, 1400,    156.6,  19.8465,  35.0889,2,  35.1069,2,    194.0,2,    191.6,2,     1.29,2,     1.80,2,     0.23,2,    151,-999.000,  -999.0, 19.8177
     31HX026_1,  PRS2,     1,  1,     10,     10,2,19910505,0011, 21.3333,-158.2717, 1400,    183.6,  18.6883,  34.9953,2,  34.9999,2,    189.3,2,    189.2,2,     2.13,2,     3.27,2,     0.31,2,    178,-999.000,  -999.0, 18.6559
     31HX026_1,  PRS2,     1,  1,      9,      9,2,19910505,0011, 21.3333,-158.2717, 1400,    208.6,  17.1140,  34.7908,2,  34.8100,2,    184.9,2,    184.7,2,     3.52,2,     5.18,2,     0.46,2,    203,-999.000,  -999.0, 17.0794
     31HX026_1,  PRS2,     1,  1,      8,      8,2,19910505,0011, 21.3333,-158.2717, 1400,    233.3,  15.1519,  34.5440,2,  34.5596,2,    179.3,2,    179.1,2,     6.10,2,     7.96,2,     0.65,2,    225,-999.000,  -999.0, 15.1164
     31HX026_1,  PRS2,     1,  1,      7,      7,2,19910505,0011, 21.3333,-158.2717, 1400,    261.2,  12.9359,  34.3243,2,  34.3288,2,    178.9,2,    178.1,2,    10.45,2,    11.81,2,     0.92,2,    253,-999.000,  -999.0, 12.9002
     31HX026_1,  PRS2,     1,  1,      6,      6,2,19910505,0011, 21.3333,-158.2717, 1400,    311.0,  11.5971,  34.2420,2,  34.2443,2,    182.1,2,    182.0,2,    14.42,2,    14.18,2,     1.07,2,    303,-999.000,  -999.0, 11.5575
     31HX026_1,  PRS2,     1,  1,      5,     26,2,19910505,0011, 21.3333,-158.2717, 1400,    411.5,   8.4531,  34.1322,2,  34.1327,2,    136.2,2,    129.1,2,    35.32,2,    25.53,2,     1.84,2,    401,-999.000,  -999.0,  8.4100
     31HX026_1,  PRS2,     1,  1,      4,     25,2,19910505,0011, 21.3333,-158.2717, 1400,    512.1,   6.5179,  34.1163,2,  34.1143,2,     80.5,2,     81.4,2,    57.86,2,    33.41,2,     2.42,2,    502,-999.000,  -999.0,  6.4714
     31HX026_1,  PRS2,     1,  1,      3,      3,2,19910505,0011, 21.3333,-158.2717, 1400,    615.1,   5.4103,  34.1732,2,  34.1745,2,     46.7,2,   -999.0,5,    77.28,2,    38.84,2,     2.79,2,    604,-999.000,  -999.0,  5.3592
     31HX026_1,  PRS2,     1,  1,      2,      2,2,19910505,0011, 21.3333,-158.2717, 1400,    764.6,   4.7780,  34.3347,2,  34.3347,2,     29.0,2,     33.7,2,    93.53,2,    41.18,2,     2.99,2,    753,-999.000,  -999.0,  4.7171
     31HX026_1,  PRS2,     1,  1,      1,      1,2,19910505,0011, 21.3333,-158.2717, 1400,   1033.5,   3.9962,  34.5154,2,  34.5087,2,     48.1,2,     44.7,2,   109.61,2,    42.17,2,     3.04,2,   1022,-999.000,  -999.0,  3.9178
     31HX026_1,  PRS2,     2,  1,     23,     23,2,19910507,1725, 22.7500,-158.0017, 4750,   1007.9,   3.9794,  34.4863,2,  34.4865,2,     44.2,2,     44.0,2,   111.08,3,    41.67,3,     3.03,3,   1001,-999.000,  -999.0,  3.9033
     31HX026_1,  PRS2,     2,  1,     22,     22,2,19910507,1725, 22.7500,-158.0017, 4750,   1101.3,   3.6908,  34.5131,2,  34.5131,2,     50.7,2,     48.4,2,   116.99,3,    41.79,3,     3.03,3,   1096,-999.000,  -999.0,  3.6092
     31HX026_1,  PRS2,     2,  1,     21,     21,2,19910507,1725, 22.7500,-158.0017, 4750,   1208.7,   3.4143,  34.5315,2,  34.5317,2,     55.6,2,     54.2,2,   122.54,2,    41.54,2,     3.00,2,   1206,-999.000,  -999.0,  3.3263
     31HX026_1,  PRS2,     2,  1,     20,     20,2,19910507,1725, 22.7500,-158.0017, 4750,   1402.8,   3.0339,  34.5583,2,  34.5602,2,     63.0,2,     60.9,2,   129.92,2,    41.41,2,     2.97,2,   1397,-999.000,  -999.0,  2.9337
     31HX026_1,  PRS2,     2,  1,     19,     19,2,19910507,1725, 22.7500,-158.0017, 4750,   1501.8,   2.8593,  34.5720,2,  34.5722,2,     69.0,2,     65.7,2,   133.63,2,    41.30,2,     2.96,2,   1495,-999.000,  -999.0,  2.7530
     31HX026_1,  PRS2,     2,  1,     18,     18,2,19910507,1725, 22.7500,-158.0017, 4750,   1706.2,   2.5185,  34.5952,2,  34.5960,2,     79.0,2,     75.9,2,   141.01,2,    40.80,2,     2.90,2,   1701,-999.000,  -999.0,  2.3994
     31HX026_1,  PRS2,     2,  1,     17,     17,2,19910507,1725, 22.7500,-158.0017, 4750,   1804.2,   2.3491,  34.6024,2,  34.6034,2,     81.9,2,     80.0,2,   146.19,2,    40.55,2,     2.89,2,   1800,-999.000,  -999.0,  2.2241
     31HX026_1,  PRS2,     2,  1,     16,     16,2,19910507,1725, 22.7500,-158.0017, 4750,   2004.2,   2.1242,  34.6151,2,  34.6166,2,     86.8,2,     85.4,2,   152.85,2,    40.38,2,     2.88,2,   1999,-999.000,  -999.0,  1.9855
     31HX026_1,  PRS2,     2,  1,     15,     15,2,19910507,1725, 22.7500,-158.0017, 4750,   2203.3,   1.9016,  34.6301,2,  34.6292,2,     90.6,2,     92.6,2,   158.57,2,    39.94,2,     2.83,2,   2200,-999.000,  -999.0,  1.7494
     31HX026_1,  PRS2,     2,  1,     14,     14,2,19910507,1725, 22.7500,-158.0017, 4750,   2401.7,   1.7703,  34.6420,2,  34.6409,2,     97.8,2,    100.5,2,   160.41,2,    39.56,2,     2.79,2,   2398,-999.000,  -999.0,  1.6030
     31HX026_1,  PRS2,     2,  1,     13,     13,3,19910507,1725, 22.7500,-158.0017, 4750,   2602.8,   1.6478,  34.6542,2,  34.6557,2,    108.5,2,    110.6,2,   160.97,2,    38.70,2,     2.75,2,   2599,-999.000,  -999.0,  1.4648
     31HX026_1,  PRS2,     2,  1,     12,     12,2,19910507,1725, 22.7500,-158.0017, 4750,   2806.4,   1.5740,  34.6631,2,  34.6633,2,    115.4,2,    119.7,2,   160.41,2,    38.09,2,     2.70,2,   2802,-999.000,  -999.0,  1.3738
     31HX026_1,  PRS2,     2,  1,     11,     11,2,19910507,1725, 22.7500,-158.0017, 4750,   3006.0,   1.5374,  34.6695,2,  34.6703,2,    120.9,2,    125.6,2,   159.31,2,    37.84,2,     2.66,2,   3002,-999.000,  -999.0,  1.3192
     31HX026_1,  PRS2,     2,  1,     10,     10,2,19910507,1725, 22.7500,-158.0017, 4750,   3202.5,   1.4938,  34.6750,2,  34.6759,2,    128.1,2,    133.2,2,   157.26,2,    37.35,2,     2.62,2,   3197,-999.000,  -999.0,  1.2576
     31HX026_1,  PRS2,     2,  1,      9,      9,2,19910507,1725, 22.7500,-158.0017, 4750,   3403.2,   1.4693,  34.6786,2,  34.6796,2,    135.1,2,    138.3,2,   155.42,2,    37.10,2,     2.60,2,   3433,-999.000,  -999.0,  1.2137
     31HX026_1,  PRS2,     2,  1,      8,      8,2,19910507,1725, 22.7500,-158.0017, 4750,   3602.5,   1.4567,  34.6817,2,  34.6814,2,    140.3,2,    142.5,2,   154.86,2,    36.73,2,     2.57,2,   3599,-999.000,  -999.0,  1.1812
     31HX026_1,  PRS2,     2,  1,      7,      7,2,19910507,1725, 22.7500,-158.0017, 4750,   3803.9,   1.4524,  34.6840,2,  34.6834,2,    143.8,2,    145.5,2,   152.10,2,    36.60,2,     2.58,2,   3799,-999.000,  -999.0,  1.1559
     31HX026_1,  PRS2,     2,  1,      6,      6,2,19910507,1725, 22.7500,-158.0017, 4750,   4000.6,   1.4550,  34.6858,2,  34.6870,2,    140.2,2,    148.3,2,   150.80,2,    36.36,2,     2.54,2,   3995,-999.000,  -999.0,  1.1373
     31HX026_1,  PRS2,     2,  1,      5,     26,2,19910507,1725, 22.7500,-158.0017, 4750,   4200.7,   1.4636,  34.6871,2,  34.6862,2,    142.3,2,    150.3,2,   149.32,2,    36.24,2,     2.51,2,   4196,-999.000,  -999.0,  1.1236
     31HX026_1,  PRS2,     2,  1,      4,     25,2,19910507,1725, 22.7500,-158.0017, 4750,   4402.6,   1.4783,  34.6879,2,  34.6864,2,    142.8,2,    152.0,2,   148.95,2,    36.11,2,     2.50,2,   4399,-999.000,  -999.0,  1.1151
     31HX026_1,  PRS2,     2,  1,      3,      3,2,19910507,1725, 22.7500,-158.0017, 4750,   4500.2,   1.4861,  34.6885,2,  34.6868,2,    155.0,2,    152.4,2,   148.39,2,    35.99,2,     2.50,2,   4497,-999.000,  -999.0,  1.1116
     31HX026_1,  PRS2,     2,  1,      2,      2,2,19910507,1725, 22.7500,-158.0017, 4750,   4602.4,   1.4942,  34.6889,2,  34.6875,2,    157.1,2,    152.6,2,   148.39,2,    35.99,2,     2.48,2,   4599,-999.000,  -999.0,  1.1076
     31HX026_1,  PRS2,     2,  1,      1,      1,2,19910507,1725, 22.7500,-158.0017, 4750,   4706.5,   1.4948,  34.6898,2,  34.6881,2,    159.9,2,    156.4,2,   147.47,2,    35.87,2,     2.48,2,   4703,-999.000,  -999.0,  1.0958
     31HX026_1,  PRS2,     2,  2,     23,     23,4,19910508,0005, 22.7517,-157.9867, 4750,     37.5,  22.7370,  35.3044,2,-999.0000,5,    245.2,2,   -999.0,5,  -999.00,5,  -999.00,5,  -999.00,5,     35,-999.000,  -999.0, 22.7294
     31HX026_1,  PRS2,     2,  2,     22,     22,2,19910508,0005, 22.7517,-157.9867, 4750,     37.5,  22.7370,  35.3044,2,  35.2999,2,    245.2,2,    220.5,2,     1.10,2,     0.00,2,     0.06,2,     35,-999.000,  -999.0, 22.7294
     31HX026_1,  PRS2,     2,  2,     21,     21,3,19910508,0005, 22.7517,-157.9867, 4750,     49.2,  22.1825,  35.3036,2,  35.3106,2,    238.7,2,    222.5,2,     1.10,2,     0.00,2,     0.06,2,     47,-999.000,  -999.0, 22.1727
     31HX026_1,  PRS2,     2,  2,     20,     20,2,19910508,0005, 22.7517,-157.9867, 4750,     61.3,  21.9299,  35.2961,2,  35.2992,2,    233.5,2,    223.3,2,     1.10,2,     0.00,2,     0.04,2,     58,-999.000,  -999.0, 21.9178
     31HX026_1,  PRS2,     2,  2,     19,     19,2,19910508,0005, 22.7517,-157.9867, 4750,     99.9,  20.7050,  35.2808,2,  35.2830,2,    227.1,2,    224.7,2,     1.47,2,     0.00,2,     0.06,2,     94,-999.000,  -999.0, 20.6861
     31HX026_1,  PRS2,     2,  2,     18,     18,2,19910508,0005, 22.7517,-157.9867, 4750,    148.0,  19.7221,  35.2294,2,  35.2314,2,    217.7,2,    221.6,2,     1.57,2,     0.14,2,     0.08,2,    145,-999.000,  -999.0, 19.6950
     31HX026_1,  PRS2,     2,  2,     17,     17,2,19910508,0005, 22.7517,-157.9867, 4750,    207.6,  17.2172,  34.8800,2,  34.8712,2,    193.7,2,    200.3,2,     3.52,2,     3.55,2,     0.30,2,    202,-999.000,  -999.0, 17.1826
     31HX026_1,  PRS2,     2,  2,     16,     16,2,19910508,0005, 22.7517,-157.9867, 4750,    230.6,  15.9178,  34.7081,2,  34.6954,2,    197.4,2,    203.4,2,     4.81,2,     4.81,2,     0.40,2,    226,-999.000,  -999.0, 15.8815
     31HX026_1,  PRS2,     2,  2,     15,     15,2,19910508,0005, 22.7517,-157.9867, 4750,    328.4,  11.3621,  34.2313,2,  34.2286,2,    203.1,2,    208.5,2,    12.39,2,    12.31,2,     0.89,2,    322,-999.000,  -999.0, 11.3208
     31HX026_1,  PRS2,     2,  2,     14,     14,3,19910508,0005, 22.7517,-157.9867, 4750,    371.8,  10.4239,  34.1681,2,  34.2169,4,    198.4,3,     38.0,4,    82.45,4,    39.58,4,     2.90,4,    363,-999.000,  -999.0, 10.3797
     31HX026_1,  PRS2,     2,  2,     13,     13,2,19910508,0005, 22.7517,-157.9867, 4750,    410.5,   9.4227,  34.1198,2,  34.1211,2,    191.3,2,    191.1,2,    21.81,2,    18.37,2,     1.31,2,    402,-999.000,  -999.0,  9.3768
     31HX026_1,  PRS2,     2,  2,     12,     12,2,19910508,0005, 22.7517,-157.9867, 4750,    431.4,   8.7600,  34.0889,2,  34.0908,2,    177.2,2,    178.5,2,    26.99,2,    20.84,2,     1.48,2,    424,-999.000,  -999.0,  8.7138
     31HX026_1,  PRS2,     2,  2,     11,     11,2,19910508,0005, 22.7517,-157.9867, 4750,    518.3,   7.0711,  34.0494,2,  34.0506,2,    127.3,2,    117.7,2,    46.60,2,    29.60,2,     2.12,2,    510,-999.000,  -999.0,  7.0220
     31HX026_1,  PRS2,     2,  2,     10,     10,2,19910508,0005, 22.7517,-157.9867, 4750,    543.5,   6.6089,  34.0469,2,  34.0478,2,    102.5,2,    103.3,2,    52.87,2,    31.81,2,     2.31,2,    536,-999.000,  -999.0,  6.5592
     31HX026_1,  PRS2,     2,  2,      9,      9,2,19910508,0005, 22.7517,-157.9867, 4750,    597.0,   5.8797,  34.0886,2,  34.0876,2,     74.1,2,     68.3,2,    66.74,2,    36.07,2,     2.64,2,    590,-999.000,  -999.0,  5.8280
     31HX026_1,  PRS2,     2,  2,      8,      8,2,19910508,0005, 22.7517,-157.9867, 4750,    633.1,   5.7752,  34.1664,2,  34.1645,2,     45.8,2,     50.4,2,    72.65,2,    37.73,2,     2.78,2,    623,-999.000,  -999.0,  5.7208
     31HX026_1,  PRS2,     2,  2,      7,      7,2,19910508,0005, 22.7517,-157.9867, 4750,    694.0,   5.2375,  34.2211,2,  34.2228,2,     37.8,2,     36.7,2,    83.37,2,    39.70,2,     2.91,2,    684,-999.000,  -999.0,  5.1803
     31HX026_1,  PRS2,     2,  2,      6,      6,2,19910508,0005, 22.7517,-157.9867, 4750,    741.4,   4.8753,  34.2747,2,  34.2735,2,     30.0,2,     24.6,2,    91.14,2,    40.93,2,     3.00,2,    732,-999.000,  -999.0,  4.8159
     31HX026_1,  PRS2,     2,  2,      5,     26,2,19910508,0005, 22.7517,-157.9867, 4750,    771.7,   4.7483,  34.3110,2,  34.3133,2,     30.4,2,     30.5,2,    94.46,2,    41.30,2,     3.03,2,    761,-999.000,  -999.0,  4.6871
     31HX026_1,  PRS2,     2,  2,      4,     25,2,19910508,0005, 22.7517,-157.9867, 4750,    812.2,   4.5986,  34.3613,2,  34.3593,2,     26.6,2,     28.9,2,    98.53,2,    41.92,2,     3.04,2,    802,-999.000,  -999.0,  4.5347
     31HX026_1,  PRS2,     2,  2,      3,      3,2,19910508,0005, 22.7517,-157.9867, 4750,    830.1,   4.5383,  34.3870,2,  34.3877,2,     33.5,2,     32.5,2,   100.00,2,    41.79,2,     3.03,2,    818,-999.000,  -999.0,  4.4733
     31HX026_1,  PRS2,     2,  2,      2,      2,2,19910508,0005, 22.7517,-157.9867, 4750,    892.4,   4.3436,  34.4461,2,  34.4474,2,     36.2,2,     36.2,2,   103.13,2,    41.91,2,     3.04,2,    882,-999.000,  -999.0,  4.2746
     31HX026_1,  PRS2,     2,  2,      1,      1,2,19910508,0005, 22.7517,-157.9867, 4750,    992.1,   4.0095,  34.4792,2,  34.4785,2,     43.1,2,     42.7,2,   110.34,2,    41.95,2,     3.04,2,    980,-999.000,  -999.0,  3.9344
     31HX026_1,  PRS2,     2,  3,     17,     17,2,19910508,0409, 22.7500,-157.9983, 4750,     10.7,  23.9749,  34.9358,2,  34.9388,2,    248.4,2,   -999.0,5,  -999.00,5,  -999.00,5,  -999.00,5,      7,-999.000,  -999.0, 23.9726
     31HX026_1,  PRS2,     2,  3,     16,     16,2,19910508,0409, 22.7500,-157.9983, 4750,    114.1,  20.3742,  35.2797,2,  35.2829,2,    226.7,2,    222.8,2,  -999.00,5,  -999.00,5,  -999.00,5,    111,-999.000,  -999.0, 20.3528
     31HX026_1,  PRS2,     2,  3,     15,     15,2,19910508,0409, 22.7500,-157.9983, 4750,    215.4,  16.6024,  34.8027,2,  34.7947,2,    201.1,2,    202.3,2,     4.25,2,     3.97,2,     0.32,2,    209,-999.000,  -999.0, 16.5674
     31HX026_1,  PRS2,     2,  3,     14,     14,2,19910508,0409, 22.7500,-157.9983, 4750,    232.2,  15.4950,  34.6555,2,  35.2227,4,    203.7,3,    217.6,4,  -999.00,5,  -999.00,5,  -999.00,5,    226,-999.000,  -999.0, 15.4591
     31HX026_1,  PRS2,     2,  3,     13,     13,2,19910508,0409, 22.7500,-157.9983, 4750,    241.5,  15.3263,  34.6307,2,  34.6285,2,    203.7,2,    202.3,2,     5.55,2,     5.62,2,     0.45,2,    234,-999.000,  -999.0, 15.2892
     31HX026_1,  PRS2,     2,  3,     12,     12,2,19910508,0409, 22.7500,-157.9983, 4750,    255.9,  14.5376,  34.5346,2,  34.5345,2,    201.0,2,    205.4,2,     6.48,2,     6.49,2,     0.50,2,    250,-999.000,  -999.0, 14.4997
     31HX026_1,  PRS2,     2,  3,     11,     11,2,19910508,0409, 22.7500,-157.9983, 4750,    281.6,  13.5482,  34.4201,2,  34.4199,2,    205.3,2,    205.3,2,     7.94,2,     8.25,2,     0.63,2,    273,-999.000,  -999.0, 13.5085
     31HX026_1,  PRS2,     2,  3,     10,     10,2,19910508,0409, 22.7500,-157.9983, 4750,    306.8,  11.9748,  34.2880,2,  34.2897,2,    209.9,2,    209.3,2,    11.65,2,    11.46,2,     0.81,2,    299,-999.000,  -999.0, 11.9349
     31HX026_1,  PRS2,     2,  3,      9,      9,2,19910508,0409, 22.7500,-157.9983, 4750,    331.2,  11.2791,  34.2247,2,  34.2277,2,    211.8,2,    208.1,2,    13.12,2,    12.45,2,     0.91,2,    323,-999.000,  -999.0, 11.2377
     31HX026_1,  PRS2,     2,  3,      8,      8,2,19910508,0409, 22.7500,-157.9983, 4750,    361.5,  10.4554,  34.1813,2,  34.1778,2,    208.1,2,    203.2,2,    17.19,2,    14.67,2,     1.05,2,    351,-999.000,  -999.0, 10.4124
     31HX026_1,  PRS2,     2,  3,      7,      7,2,19910508,0409, 22.7500,-157.9983, 4750,    410.6,   8.9741,  34.0987,2,  34.0988,2,    188.8,2,    183.5,2,    25.52,2,    19.85,2,     1.40,2,    401,-999.000,  -999.0,  8.9296
     31HX026_1,  PRS2,     2,  3,      6,      6,2,19910508,0409, 22.7500,-157.9983, 4750,    511.0,   7.0598,  34.0443,2,  34.0443,2,    130.0,2,    121.0,2,    46.77,2,    29.10,2,     2.08,2,    500,-999.000,  -999.0,  7.0114
     31HX026_1,  PRS2,     2,  3,      5,     26,4,19910508,0409, 22.7500,-157.9983, 4750,    612.8,   5.5019,  34.1069,2,-999.0000,5,     55.8,2,   -999.0,5,  -999.00,5,  -999.00,5,  -999.00,5,    603,-999.000,  -999.0,  5.4506
     31HX026_1,  PRS2,     2,  3,      4,     25,2,19910508,0409, 22.7500,-157.9983, 4750,    711.3,   4.9396,  34.2620,2,  34.3564,4,     32.2,3,     41.4,3,    94.83,3,    40.07,3,     2.93,3,    700,-999.000,  -999.0,  4.8824
     31HX026_1,  PRS2,     2,  3,      3,      3,2,19910508,0409, 22.7500,-157.9983, 4750,    812.8,   4.5664,  34.3796,2,  34.3776,2,     28.7,2,     30.8,2,    99.26,2,    41.92,2,     3.03,2,    801,-999.000,  -999.0,  4.5027
     31HX026_1,  PRS2,     2,  3,      2,      2,2,19910508,0409, 22.7500,-157.9983, 4750,    910.2,   4.3134,  34.4526,2,  34.4517,2,     37.1,2,     36.8,2,   111.09,4,    42.04,2,     3.04,2,    899,-999.000,  -999.0,  4.2430
     31HX026_1,  PRS2,     2,  3,      1,      1,2,19910508,0409, 22.7500,-157.9983, 4750,   1029.3,   3.9612,  34.4898,2,  34.4915,2,     44.0,2,     43.4,2,   111.08,2,    42.17,2,     3.04,2,   1019,-999.000,  -999.0,  3.8835