BOTTLE,20020809WHPSIObren
EXPOCODE,SECT_ID,STNNBR,CASTNO,SAMPNO,BTLNBR,BTLNBR_FLAG_W,DATE,TIME,LATITUDE,LONGITUDE,DEPTH,CTDPRS,CTDTMP,CTDSAL,CTDSAL_FLAG_W,SALNTY,SALNTY_FLAG_W,CTDOXY,CTDOXY_FLAG_W,OXYGEN,OXYGEN_FLAG_W,SILCAT,SILCAT_FLAG_W,NO2+NO3,NO2+NO3_FLAG_W,PHSPHT,PHSPHT_FLAG_W,CTDRAW,REVTMP,REVPRS,THETA
,,,,,,,,,,,,DBAR,ITS-90,PSS-78,,PSS-78,,UMOL/KG,,UMOL/KG,,UMOL/KG,,UMOL/KG,,UMOL/KG,,,DEG C,DBAR,ITS-90
     31HX026_1,  PRS2,     2,  8,     20,     20,2,19910509,1604, 22.7450,-158.0033, 4750,     26.9,  23.9190,  34.9216,2,  34.9197,2,    266.9,1,   -999.0,9,  -999.00,9,  -999.00,9,  -999.00,9,     24,-999.000,  -999.0, 23.9134
     31HX026_1,  PRS2,     2,  8,     19,     19,2,19910509,1604, 22.7450,-158.0033, 4750,     53.3,  22.3696,  35.1763,2,  35.1745,2,    234.9,1,   -999.0,9,  -999.00,9,  -999.00,9,  -999.00,9,     50,-999.000,  -999.0, 22.3589
     31HX026_1,  PRS2,     2,  8,     18,     18,2,19910509,1604, 22.7450,-158.0033, 4750,     76.5,  21.5464,  35.2826,2,  35.2794,2,    228.9,1,   -999.0,9,  -999.00,9,  -999.00,9,  -999.00,9,     73,-999.000,  -999.0, 21.5315
     31HX026_1,  PRS2,     2,  8,     17,     17,2,19910509,1604, 22.7450,-158.0033, 4750,    104.3,  20.7062,  35.2861,2,  35.2874,2,    225.1,1,   -999.0,9,  -999.00,9,  -999.00,9,  -999.00,9,    102,-999.000,  -999.0, 20.6864
     31HX026_1,  PRS2,     2,  8,     16,     16,2,19910509,1604, 22.7450,-158.0033, 4750,    114.0,  20.4838,  35.2934,2,  35.2914,2,    222.2,1,   -999.0,9,  -999.00,9,  -999.00,9,  -999.00,9,    110,-999.000,  -999.0, 20.4623
     31HX026_1,  PRS2,     2,  8,     13,     13,2,19910509,1604, 22.7450,-158.0033, 4750,    121.3,  20.2227,  35.2686,2,  35.2426,4,    217.0,1,   -999.0,9,  -999.00,9,  -999.00,9,  -999.00,9,    116,-999.000,  -999.0, 20.2001
     31HX026_1,  PRS2,     2,  8,     15,     15,2,19910509,1604, 22.7450,-158.0033, 4750,    121.6,  20.2319,  35.2703,2,  35.2692,2,    216.7,1,   -999.0,9,  -999.00,9,  -999.00,9,  -999.00,9,    120,-999.000,  -999.0, 20.2093
     31HX026_1,  PRS2,     2,  8,     14,     14,2,19910509,1604, 22.7450,-158.0033, 4750,    121.6,  20.2319,  35.2703,2,  35.2696,2,    216.7,1,   -999.0,9,  -999.00,9,  -999.00,9,  -999.00,9,    120,-999.000,  -999.0, 20.2093
     31HX026_1,  PRS2,     2,  8,     12,     12,2,19910509,1604, 22.7450,-158.0033, 4750,    130.1,  19.9550,  35.2432,2,  35.2276,2,    214.9,1,   -999.0,9,  -999.00,9,  -999.00,9,  -999.00,9,    127,-999.000,  -999.0, 19.9309
     31HX026_1,  PRS2,     2,  8,      9,      9,2,19910509,1604, 22.7450,-158.0033, 4750,    136.7,  19.7570,  35.2278,2,-999.0000,5,    216.1,1,   -999.0,9,  -999.00,9,  -999.00,9,  -999.00,9,    134,-999.000,  -999.0, 19.7319
     31HX026_1,  PRS2,     2,  8,     10,     10,2,19910509,1604, 22.7450,-158.0033, 4750,    136.9,  19.7571,  35.2277,2,  35.2273,2,    215.8,1,   -999.0,9,  -999.00,9,  -999.00,9,  -999.00,9,    131,-999.000,  -999.0, 19.7320
     31HX026_1,  PRS2,     2,  8,      8,      8,2,19910509,1604, 22.7450,-158.0033, 4750,    136.9,  19.7533,  35.2274,2,-999.0000,5,    216.3,1,   -999.0,9,  -999.00,9,  -999.00,9,  -999.00,9,    131,-999.000,  -999.0, 19.7282
     31HX026_1,  PRS2,     2,  8,     11,     11,2,19910509,1604, 22.7450,-158.0033, 4750,    137.1,  19.7581,  35.2278,2,  35.2277,2,    215.6,1,   -999.0,9,  -999.00,9,  -999.00,9,  -999.00,9,    132,-999.000,  -999.0, 19.7329
     31HX026_1,  PRS2,     2,  8,      7,      7,2,19910509,1604, 22.7450,-158.0033, 4750,    184.9,  17.0614,  34.8582,2,  34.8579,2,    188.4,1,   -999.0,9,  -999.00,9,  -999.00,9,  -999.00,9,    176,-999.000,  -999.0, 17.0309
     31HX026_1,  PRS2,     2,  8,      6,      6,2,19910509,1604, 22.7450,-158.0033, 4750,    259.1,  13.8498,  34.4540,2,  34.4698,2,    193.6,1,   -999.0,9,  -999.00,9,  -999.00,9,  -999.00,9,    250,-999.000,  -999.0, 13.8127
     31HX026_1,  PRS2,     2,  8,      5,     26,2,19910509,1604, 22.7450,-158.0033, 4750,    259.1,  13.8498,  34.4540,2,  34.4599,2,    193.6,1,   -999.0,9,  -999.00,9,  -999.00,9,  -999.00,9,    250,-999.000,  -999.0, 13.8127
     31HX026_1,  PRS2,     2,  8,      4,     25,2,19910509,1604, 22.7450,-158.0033, 4750,    510.7,   7.0884,  34.0469,2,  34.0455,2,    122.7,1,   -999.0,9,  -999.00,9,  -999.00,9,  -999.00,9,    500,-999.000,  -999.0,  7.0399
     31HX026_1,  PRS2,     2,  8,      3,      3,2,19910509,1604, 22.7450,-158.0033, 4750,    531.7,   6.6670,  34.0450,2,  34.9177,4,    112.0,1,   -999.0,9,  -999.00,9,  -999.00,9,  -999.00,9,    521,-999.000,  -999.0,  6.6181
     31HX026_1,  PRS2,     2,  8,      2,      2,2,19910509,1604, 22.7450,-158.0033, 4750,    763.0,   4.7914,  34.2968,2,  34.2929,2,     32.2,1,   -999.0,9,  -999.00,9,  -999.00,9,  -999.00,9,    752,-999.000,  -999.0,  4.7306
     31HX026_1,  PRS2,     2,  8,      1,      1,2,19910509,1604, 22.7450,-158.0033, 4750,   1013.2,   4.0413,  34.4853,2,  34.4868,2,     43.1,1,   -999.0,9,  -999.00,9,  -999.00,9,  -999.00,9,   1002,-999.000,  -999.0,  3.9643
     31HX026_1,  PRS2,     2,  9,     23,     23,2,19910509,2014, 22.7533,-158.0000, 4750,      6.7,  24.0057,  34.9200,2,  34.9695,4,    208.1,1,   -999.0,9,  -999.00,9,  -999.00,9,  -999.00,9,      5,-999.000,  -999.0, 24.0043
     31HX026_1,  PRS2,     2,  9,     22,     22,2,19910509,2014, 22.7533,-158.0000, 4750,     21.1,  23.9392,  34.9192,2,  34.9186,2,    244.6,1,   -999.0,9,  -999.00,9,  -999.00,9,  -999.00,9,     19,-999.000,  -999.0, 23.9348
     31HX026_1,  PRS2,     2,  9,     21,     21,2,19910509,2014, 22.7533,-158.0000, 4750,     27.1,  23.9334,  34.9192,2,  34.9184,2,    247.2,1,   -999.0,9,  -999.00,9,  -999.00,9,  -999.00,9,     26,-999.000,  -999.0, 23.9277
     31HX026_1,  PRS2,     2,  9,     20,     20,2,19910509,2014, 22.7533,-158.0000, 4750,     31.7,  23.9288,  34.9198,2,  34.9201,2,    234.3,1,   -999.0,9,  -999.00,9,  -999.00,9,  -999.00,9,     30,-999.000,  -999.0, 23.9221
     31HX026_1,  PRS2,     2,  9,     19,     19,2,19910509,2014, 22.7533,-158.0000, 4750,     36.2,  23.8801,  34.9371,2,-999.0000,5,    243.5,1,   -999.0,9,  -999.00,9,  -999.00,9,  -999.00,9,     35,-999.000,  -999.0, 23.8725
     31HX026_1,  PRS2,     2,  9,     18,     18,2,19910509,2014, 22.7533,-158.0000, 4750,     40.8,  23.3882,  35.0927,2,-999.0000,5,    239.9,1,   -999.0,9,  -999.00,9,  -999.00,9,  -999.00,9,     50,-999.000,  -999.0, 23.3797
     31HX026_1,  PRS2,     2,  9,     17,     17,2,19910509,2014, 22.7533,-158.0000, 4750,     47.8,  23.1646,  35.1269,2,  35.1265,2,    236.2,1,   -999.0,9,  -999.00,9,  -999.00,9,  -999.00,9,     46,-999.000,  -999.0, 23.1548
     31HX026_1,  PRS2,     2,  9,     16,     16,2,19910509,2014, 22.7533,-158.0000, 4750,     52.8,  22.9267,  35.1857,2,  35.1806,2,    235.7,1,   -999.0,9,  -999.00,9,  -999.00,9,  -999.00,9,     50,-999.000,  -999.0, 22.9159
     31HX026_1,  PRS2,     2,  9,     15,     15,2,19910509,2014, 22.7533,-158.0000, 4750,     57.6,  22.7434,  35.2384,2,-999.0000,5,    230.1,1,   -999.0,9,  -999.00,9,  -999.00,9,  -999.00,9,     54,-999.000,  -999.0, 22.7318
     31HX026_1,  PRS2,     2,  9,     14,     14,4,19910509,2014, 22.7533,-158.0000, 4750,     62.0,  22.3615,  35.2586,2,-999.0000,5,    231.8,1,   -999.0,9,  -999.00,9,  -999.00,9,  -999.00,9,     60,-999.000,  -999.0, 22.3491
     31HX026_1,  PRS2,     2,  9,     13,     13,2,19910509,2014, 22.7533,-158.0000, 4750,     73.6,  22.0458,  35.2773,2,-999.0000,5,    228.5,1,   -999.0,9,  -999.00,9,  -999.00,9,  -999.00,9,     71,-999.000,  -999.0, 22.0313
     31HX026_1,  PRS2,     2,  9,     12,     12,2,19910509,2014, 22.7533,-158.0000, 4750,     79.4,  21.7607,  35.2919,2,  35.2904,2,    223.4,1,   -999.0,9,  -999.00,9,  -999.00,9,  -999.00,9,     76,-999.000,  -999.0, 21.7451
     31HX026_1,  PRS2,     2,  9,     11,     11,2,19910509,2014, 22.7533,-158.0000, 4750,     94.5,  21.1818,  35.2734,2,  35.2751,2,    224.4,1,   -999.0,9,  -999.00,9,  -999.00,9,  -999.00,9,     90,-999.000,  -999.0, 21.1636
     31HX026_1,  PRS2,     2,  9,     10,     10,2,19910509,2014, 22.7533,-158.0000, 4750,    104.4,  20.9198,  35.2752,2,  35.2784,2,    223.1,1,   -999.0,9,  -999.00,9,  -999.00,9,  -999.00,9,    100,-999.000,  -999.0, 20.8998
     31HX026_1,  PRS2,     2,  9,      9,      9,2,19910509,2014, 22.7533,-158.0000, 4750,    115.7,  20.6331,  35.2768,2,  35.2811,2,    219.9,1,   -999.0,9,  -999.00,9,  -999.00,9,  -999.00,9,    111,-999.000,  -999.0, 20.6112
     31HX026_1,  PRS2,     2,  9,      8,      8,2,19910509,2014, 22.7533,-158.0000, 4750,    130.8,  20.4425,  35.2700,2,  35.2703,2,    218.8,1,   -999.0,9,  -999.00,9,  -999.00,9,  -999.00,9,    125,-999.000,  -999.0, 20.4179
     31HX026_1,  PRS2,     2,  9,      7,      7,2,19910509,2014, 22.7533,-158.0000, 4750,    157.7,  19.6532,  35.2004,2,  35.2004,2,    219.8,1,   -999.0,9,  -999.00,9,  -999.00,9,  -999.00,9,    152,-999.000,  -999.0, 19.6243
     31HX026_1,  PRS2,     2,  9,      6,      6,2,19910509,2014, 22.7533,-158.0000, 4750,    181.9,  19.0405,  35.1548,2,  35.1517,2,    211.0,1,   -999.0,9,  -999.00,9,  -999.00,9,  -999.00,9,    174,-999.000,  -999.0, 19.0079
     31HX026_1,  PRS2,     2,  9,      5,     26,2,19910509,2014, 22.7533,-158.0000, 4750,    259.7,  14.6453,  34.5476,2,  34.5467,2,    197.0,1,   -999.0,9,  -999.00,9,  -999.00,9,  -999.00,9,    252,-999.000,  -999.0, 14.6067
     31HX026_1,  PRS2,     2,  9,      4,     25,2,19910509,2014, 22.7533,-158.0000, 4750,    509.2,   6.8929,  34.0427,2,  34.0406,2,    113.1,1,   -999.0,9,  -999.00,9,  -999.00,9,  -999.00,9,    500,-999.000,  -999.0,  6.8453
     31HX026_1,  PRS2,     2,  9,      3,      3,2,19910509,2014, 22.7533,-158.0000, 4750,    530.8,   6.4605,  34.0464,2,  34.0487,2,    102.2,1,   -999.0,9,  -999.00,9,  -999.00,9,  -999.00,9,    521,-999.000,  -999.0,  6.4125
     31HX026_1,  PRS2,     2,  9,      2,      2,2,19910509,2014, 22.7533,-158.0000, 4750,    761.9,   4.7201,  34.3195,2,  34.3184,2,     27.7,1,   -999.0,9,  -999.00,9,  -999.00,9,  -999.00,9,    752,-999.000,  -999.0,  4.6598
     31HX026_1,  PRS2,     2,  9,      1,      1,2,19910509,2014, 22.7533,-158.0000, 4750,   1011.6,   4.0219,  34.4827,2,  34.4838,2,     43.4,1,   -999.0,9,  -999.00,9,  -999.00,9,  -999.00,9,   1001,-999.000,  -999.0,  3.9452
     31HX026_1,  PRS2,     2, 10,     23,     23,2,19910510,0057, 22.7567,-157.9917, 4750,      7.2,  24.0756,  34.9295,2,  34.9286,2,    248.9,1,   -999.0,9,  -999.00,9,  -999.00,9,  -999.00,9,     -1,-999.000,  -999.0, 24.0740
     31HX026_1,  PRS2,     2, 10,     20,     20,2,19910510,0057, 22.7567,-157.9917, 4750,     10.9,  24.0344,  34.9277,2,-999.0000,5,    243.6,1,   -999.0,9,  -999.00,9,  -999.00,9,  -999.00,9,     10,-999.000,  -999.0, 24.0321
     31HX026_1,  PRS2,     2, 10,     21,     21,2,19910510,0057, 22.7567,-157.9917, 4750,     11.1,  24.0395,  34.9287,2,-999.0000,5,    243.5,1,   -999.0,9,  -999.00,9,  -999.00,9,  -999.00,9,     10,-999.000,  -999.0, 24.0372
     31HX026_1,  PRS2,     2, 10,     22,     22,2,19910510,0057, 22.7567,-157.9917, 4750,     11.9,  24.0396,  34.9282,2,-999.0000,5,    243.3,1,   -999.0,9,  -999.00,9,  -999.00,9,  -999.00,9,     11,-999.000,  -999.0, 24.0371
     31HX026_1,  PRS2,     2, 10,     19,     19,2,19910510,0057, 22.7567,-157.9917, 4750,     11.9,  24.0380,  34.9282,2,-999.0000,5,    243.7,1,   -999.0,9,  -999.00,9,  -999.00,9,  -999.00,9,     12,-999.000,  -999.0, 24.0355
     31HX026_1,  PRS2,     2, 10,     18,     18,2,19910510,0057, 22.7567,-157.9917, 4750,     12.1,  24.0317,  34.9274,2,-999.0000,5,    243.6,1,   -999.0,9,  -999.00,9,  -999.00,9,  -999.00,9,     11,-999.000,  -999.0, 24.0292
     31HX026_1,  PRS2,     2, 10,     17,     17,2,19910510,0057, 22.7567,-157.9917, 4750,     12.1,  24.0358,  34.9277,2,  34.9270,2,    243.6,1,   -999.0,9,  -999.00,9,  -999.00,9,  -999.00,9,     10,-999.000,  -999.0, 24.0333
     31HX026_1,  PRS2,     2, 10,     16,     16,2,19910510,0057, 22.7567,-157.9917, 4750,     23.2,  23.9343,  34.9259,2,  34.9261,2,    242.2,1,   -999.0,9,  -999.00,9,  -999.00,9,  -999.00,9,     21,-999.000,  -999.0, 23.9295
     31HX026_1,  PRS2,     2, 10,     15,     15,2,19910510,0057, 22.7567,-157.9917, 4750,     27.8,  23.9214,  34.9265,2,  34.9264,2,    254.3,1,   -999.0,9,  -999.00,9,  -999.00,9,  -999.00,9,     25,-999.000,  -999.0, 23.9155
     31HX026_1,  PRS2,     2, 10,     14,     14,2,19910510,0057, 22.7567,-157.9917, 4750,     36.9,  23.9059,  34.9288,2,  34.9308,2,    247.8,1,   -999.0,9,  -999.00,9,  -999.00,9,  -999.00,9,     33,-999.000,  -999.0, 23.8981
     31HX026_1,  PRS2,     2, 10,     13,     13,2,19910510,0057, 22.7567,-157.9917, 4750,     44.1,  22.9558,  35.1208,2,  35.1137,2,    234.4,1,   -999.0,9,  -999.00,9,  -999.00,9,  -999.00,9,     42,-999.000,  -999.0, 22.9468
     31HX026_1,  PRS2,     2, 10,     12,     12,2,19910510,0057, 22.7567,-157.9917, 4750,     63.5,  22.5345,  35.2976,2,  35.3028,2,    232.7,1,   -999.0,9,  -999.00,9,  -999.00,9,  -999.00,9,     62,-999.000,  -999.0, 22.5217
     31HX026_1,  PRS2,     2, 10,     11,     11,2,19910510,0057, 22.7567,-157.9917, 4750,     80.5,  21.9501,  35.2894,2,  35.2905,2,    228.5,1,   -999.0,9,  -999.00,9,  -999.00,9,  -999.00,9,     78,-999.000,  -999.0, 21.9342
     31HX026_1,  PRS2,     2, 10,     10,     10,2,19910510,0057, 22.7567,-157.9917, 4750,    104.5,  21.1105,  35.2844,2,  35.2875,2,    229.7,1,   -999.0,9,  -999.00,9,  -999.00,9,  -999.00,9,     99,-999.000,  -999.0, 21.0904
     31HX026_1,  PRS2,     2, 10,      9,      9,2,19910510,0057, 22.7567,-157.9917, 4750,    112.8,  20.9082,  35.2828,2,  35.2786,2,    228.3,1,   -999.0,9,  -999.00,9,  -999.00,9,  -999.00,9,    109,-999.000,  -999.0, 20.8867
     31HX026_1,  PRS2,     2, 10,      8,      8,2,19910510,0057, 22.7567,-157.9917, 4750,    156.6,  19.7090,  35.2142,2,  35.2246,2,    215.5,1,   -999.0,9,  -999.00,9,  -999.00,9,  -999.00,9,    152,-999.000,  -999.0, 19.6803
     31HX026_1,  PRS2,     2, 10,      7,      7,2,19910510,0057, 22.7567,-157.9917, 4750,    182.6,  18.9842,  35.1486,2,  35.1495,2,    216.1,1,   -999.0,9,  -999.00,9,  -999.00,9,  -999.00,9,    176,-999.000,  -999.0, 18.9516
     31HX026_1,  PRS2,     2, 10,      6,      6,2,19910510,0057, 22.7567,-157.9917, 4750,    256.2,  15.2030,  34.6139,2,  34.6138,2,    197.7,1,   -999.0,9,  -999.00,9,  -999.00,9,  -999.00,9,    249,-999.000,  -999.0, 15.1639
     31HX026_1,  PRS2,     2, 10,      5,     26,2,19910510,0057, 22.7567,-157.9917, 4750,    512.7,   7.1019,  34.0460,2,  34.0457,2,    129.9,1,   -999.0,9,  -999.00,9,  -999.00,9,  -999.00,9,    503,-999.000,  -999.0,  7.0532
     31HX026_1,  PRS2,     2, 10,      4,     25,2,19910510,0057, 22.7567,-157.9917, 4750,    553.0,   6.4179,  34.0485,2,  34.0486,2,     97.3,1,   -999.0,9,  -999.00,9,  -999.00,9,  -999.00,9,    540,-999.000,  -999.0,  6.3680
     31HX026_1,  PRS2,     2, 10,      3,      3,2,19910510,0057, 22.7567,-157.9917, 4750,    553.0,   6.4179,  34.0485,2,  34.0492,2,     97.3,1,   -999.0,9,  -999.00,9,  -999.00,9,  -999.00,9,    540,-999.000,  -999.0,  6.3680
     31HX026_1,  PRS2,     2, 10,      2,      2,2,19910510,0057, 22.7567,-157.9917, 4750,    762.9,   4.7499,  34.3060,2,  34.3059,2,     30.2,1,   -999.0,9,  -999.00,9,  -999.00,9,  -999.00,9,    752,-999.000,  -999.0,  4.6894
     31HX026_1,  PRS2,     2, 10,      1,      1,2,19910510,0057, 22.7567,-157.9917, 4750,   1012.9,   4.0257,  34.4830,2,  34.4831,2,     43.3,1,   -999.0,9,  -999.00,9,  -999.00,9,  -999.00,9,   1001,-999.000,  -999.0,  3.9488