BOTTLE,20140820PRINUNIVRMK
EXPOCODE,SECT_ID,STNNBR,CASTNO,BTLNBR,BTLNBR_FLAG_W,DATE,TIME,LATITUDE,LONGITUDE,DEPTH,CTDPRS,CTDTMP,CTDSAL,CTDSAL_FLAG_W,SALNTY,SALNTY_FLAG_W,CTDOXY,CTDOXY_FLAG_W,OXYGEN,OXYGEN_FLAG_W,SILCAT,SILCAT_FLAG_W,NITRAT,NITRAT_FLAG_W,PHSPHT,PHSPHT_FLAG_W,ALKALI,ALKALI_FLAG_W,PH_SWS,PH_SWS_FLAG_W,PH_TMP,THETA
,,,,,,,,,,METERS,DBAR,ITS-90,PSS-78,,PSS-78,,UMOL/KG,,UMOL/KG,,UMOL/KG,,UMOL/KG,,UMOL/KG,,UMOL/KG,,,,DEG C,DEG C
  35TH20020610, OVIDE,    24,  1,      3,2,20020621,0833, 59.0390, -33.1930, 2311,   2300.6,   3.1040,  34.9350,2,  34.9340,2,    275.9,2,    277.1,2,  -999.00,9,  -999.00,9,     0.96,2,   2305.2,2,   7.7280,2,    25.00,   2.9216
  35TH20020610, OVIDE,    24,  1,      4,2,20020621,0833, 59.0390, -33.1930, 2311,   2301.4,   3.1040,  34.9340,2,-999.0000,9,    275.9,2,   -999.0,9,    12.39,2,    16.96,2,     0.96,2,   -999.0,9,-999.0000,9,  -999.00,   2.9215
  35TH20020610, OVIDE,    24,  1,      5,2,20020621,0833, 59.0390, -33.1930, 2311,   2246.4,   3.1180,  34.9350,2,-999.0000,9,    277.1,2,   -999.0,9,    12.42,2,    16.90,2,     0.96,2,   -999.0,9,-999.0000,9,  -999.00,   2.9406
  35TH20020610, OVIDE,    24,  1,      6,2,20020621,0833, 59.0390, -33.1930, 2311,   2195.4,   3.1270,  34.9340,2,  34.9340,2,    276.9,2,    279.9,2,    12.32,2,    16.59,2,     0.96,2,   2306.6,2,   7.7290,2,    25.00,   2.9543
  35TH20020610, OVIDE,    24,  1,      7,2,20020621,0833, 59.0390, -33.1930, 2311,   2093.3,   3.1750,  34.9360,2,-999.0000,9,    275.9,2,   -999.0,9,    12.24,2,    16.65,2,     0.94,2,   -999.0,9,-999.0000,9,  -999.00,   3.0111
  35TH20020610, OVIDE,    24,  1,      8,2,20020621,0833, 59.0390, -33.1930, 2311,   1999.4,   3.2340,  34.9370,2,  34.9370,2,    277.8,2,    277.8,2,    12.03,2,    16.77,2,     0.95,2,   2304.8,2,   7.7310,2,    25.00,   3.0780
  35TH20020610, OVIDE,    24,  1,      9,2,20020621,0833, 59.0390, -33.1930, 2311,   1794.1,   3.2850,  34.9260,2,  34.9250,2,    279.0,2,    279.8,2,    11.63,2,    16.90,2,     0.96,2,   2304.6,2,   7.7300,2,    25.00,   3.1471
  35TH20020610, OVIDE,    24,  1,     10,2,20020621,0833, 59.0390, -33.1930, 2311,   1596.9,   3.2180,  34.8960,2,  34.9130,3,    283.3,2,    283.0,3,    10.95,2,    16.77,2,     0.93,2,   2302.9,3,-999.0000,9,  -999.00,   3.0985
  35TH20020610, OVIDE,    24,  1,     11,2,20020621,0833, 59.0390, -33.1930, 2311,   1396.6,   3.4240,  34.9140,2,  34.9150,2,    278.9,2,    279.4,2,     9.18,3,    15.98,3,     0.97,2,   2304.0,2,   7.7250,2,    25.00,   3.3194
  35TH20020610, OVIDE,    24,  1,     12,2,20020621,0833, 59.0390, -33.1930, 2311,   1297.0,   3.4920,  34.9160,2,-999.0000,9,    276.2,2,   -999.0,9,    10.66,2,    16.77,2,     0.98,2,   -999.0,9,-999.0000,9,  -999.00,   3.3951
  35TH20020610, OVIDE,    24,  1,     13,2,20020621,0833, 59.0390, -33.1930, 2311,   1195.8,   3.5160,  34.9100,2,  34.9130,2,    275.1,2,    276.5,2,    10.70,2,    17.08,2,     0.98,2,   2303.3,2,   7.7250,2,    25.00,   3.4274
  35TH20020610, OVIDE,    24,  1,     14,2,20020621,0833, 59.0390, -33.1930, 2311,    993.7,   3.4780,  34.8720,2,  34.8750,2,    281.7,2,    282.9,2,    10.59,3,    16.16,3,     0.98,3,   2300.8,2,   7.7200,2,    25.00,   3.4062
  35TH20020610, OVIDE,    24,  1,     15,2,20020621,0833, 59.0390, -33.1930, 2311,    897.2,   3.6920,  34.8930,2,-999.0000,9,    276.9,2,   -999.0,9,     9.98,2,    16.90,2,     0.97,2,   -999.0,9,-999.0000,9,  -999.00,   3.6264
  35TH20020610, OVIDE,    24,  1,     16,2,20020621,0833, 59.0390, -33.1930, 2311,    796.1,   3.7500,  34.8860,2,  34.8880,2,    279.5,2,    281.2,2,    10.08,2,    16.53,2,     0.97,2,   2300.9,2,   7.7210,2,    25.00,   3.6920
  35TH20020610, OVIDE,    24,  1,     17,2,20020621,0833, 59.0390, -33.1930, 2311,    694.9,   3.9930,  34.9040,2,-999.0000,9,    274.8,2,   -999.0,9,     9.87,2,    16.41,2,     0.98,2,   -999.0,9,-999.0000,9,  -999.00,   3.9416
  35TH20020610, OVIDE,    24,  1,     18,2,20020621,0833, 59.0390, -33.1930, 2311,    567.1,   4.4110,  34.9300,2,  34.9320,2,    262.3,2,    266.9,2,     9.94,2,    17.20,2,     0.98,2,   2304.5,2,   7.7180,2,    25.00,   4.3677
  35TH20020610, OVIDE,    24,  1,     19,2,20020621,0833, 59.0390, -33.1930, 2311,    567.3,   4.4110,  34.9300,2,-999.0000,9,    262.3,2,   -999.0,9,    10.12,2,    17.57,2,     0.99,2,   -999.0,9,-999.0000,9,  -999.00,   4.3677
  35TH20020610, OVIDE,    24,  1,     20,2,20020621,0833, 59.0390, -33.1930, 2311,    496.6,   4.4680,  34.9080,2,  34.9070,2,    277.1,2,    278.0,2,    10.05,3,    17.38,2,     0.97,3,   2304.6,2,   7.7270,2,    25.00,   4.4302
  35TH20020610, OVIDE,    24,  1,     21,2,20020621,0833, 59.0390, -33.1930, 2311,    377.2,   5.0770,  34.9480,2,  34.9450,2,    262.1,2,    265.2,2,     9.29,3,    15.43,2,     0.98,2,   2305.8,2,   7.7250,2,    25.00,   5.0468
  35TH20020610, OVIDE,    24,  1,     22,2,20020621,0833, 59.0390, -33.1930, 2311,    297.4,   5.2310,  34.9360,2,-999.0000,9,    277.7,2,   -999.0,9,     9.62,3,    16.16,2,     0.94,3,   -999.0,9,-999.0000,9,  -999.00,   5.2070
  35TH20020610, OVIDE,    24,  1,     23,2,20020621,0833, 59.0390, -33.1930, 2311,    175.7,   5.9390,  34.9880,2,  34.9760,3,    267.5,2,    261.3,3,     9.22,2,    15.61,2,     0.97,2,   2308.3,2,   7.7370,2,    25.00,   5.9240
  35TH20020610, OVIDE,    24,  1,     24,2,20020621,0833, 59.0390, -33.1930, 2311,    147.5,   5.8370,  34.9460,2,-999.0000,9,    274.0,2,   -999.0,9,     7.67,3,    13.91,3,     0.87,3,   -999.0,9,-999.0000,9,  -999.00,   5.8246
  35TH20020610, OVIDE,    24,  1,     25,2,20020621,0833, 59.0390, -33.1930, 2311,     82.8,   6.2990,  34.9800,2,  34.9780,2,    285.4,2,    286.5,2,     7.63,2,    14.39,3,     0.86,2,   2307.1,2,   7.7640,2,    25.00,   6.2918
  35TH20020610, OVIDE,    24,  1,     26,2,20020621,0833, 59.0390, -33.1930, 2311,     48.3,   6.6510,  34.9440,2,-999.0000,9,    307.9,2,   -999.0,9,     4.25,2,    11.41,2,     0.75,2,   -999.0,9,-999.0000,9,  -999.00,   6.6467
  35TH20020610, OVIDE,    24,  1,     27,2,20020621,0833, 59.0390, -33.1930, 2311,      4.4,   8.3600,  34.9540,2,  34.9530,2,    299.0,2,    299.9,2,     0.72,2,     7.76,2,     0.39,2,   2310.9,2,   7.8760,2,    25.00,   8.3595
  35TH20020610, OVIDE,    25,  1,      3,2,20020621,1235, 58.9720, -32.5530, 1894,   1883.7,   3.3890,  34.9380,2,  34.9370,2,    275.5,2,    277.1,2,    10.82,2,    17.20,2,     0.91,2,   -999.0,9,   7.7300,2,    25.00,   3.2414
  35TH20020610, OVIDE,    25,  1,      4,2,20020621,1235, 58.9720, -32.5530, 1894,   1797.2,   3.4670,  34.9390,2,-999.0000,9,    276.4,2,   -999.0,9,    10.55,2,    17.09,2,     0.91,2,   -999.0,9,-999.0000,9,  -999.00,   3.3263
  35TH20020610, OVIDE,    25,  1,      5,2,20020621,1235, 58.9720, -32.5530, 1894,   1747.2,   3.5010,  34.9390,2,  34.9390,2,    277.1,2,    276.7,2,    10.51,2,    17.04,2,     0.91,2,   -999.0,9,   7.7280,2,    25.00,   3.3644
  35TH20020610, OVIDE,    25,  1,      6,2,20020621,1235, 58.9720, -32.5530, 1894,   1696.4,   3.4970,  34.9320,2,-999.0000,9,    276.8,2,   -999.0,9,    10.34,2,    17.20,2,     0.89,2,   -999.0,9,-999.0000,9,  -999.00,   3.3651
  35TH20020610, OVIDE,    25,  1,      7,2,20020621,1235, 58.9720, -32.5530, 1894,   1646.9,   3.6460,  34.9500,2,  34.9500,2,    274.7,2,    274.6,2,    10.34,2,    16.76,2,     0.94,2,   -999.0,9,   7.7260,2,    25.00,   3.5167
  35TH20020610, OVIDE,    25,  1,      8,2,20020621,1235, 58.9720, -32.5530, 1894,   1544.4,   3.6450,  34.9420,2,  34.9410,2,    274.8,2,    274.7,2,    10.24,2,    17.31,2,     0.94,2,   -999.0,9,   7.7250,2,    25.00,   3.5249
  35TH20020610, OVIDE,    25,  1,      9,2,20020621,1235, 58.9720, -32.5530, 1894,   1545.1,   3.6450,  34.9420,2,-999.0000,9,    274.9,2,   -999.0,9,    10.24,2,    17.31,2,     0.94,2,   -999.0,9,-999.0000,9,  -999.00,   3.5249
  35TH20020610, OVIDE,    25,  1,     10,2,20020621,1235, 58.9720, -32.5530, 1894,   1343.6,   3.7100,  34.9340,2,  34.9840,3,    273.1,2,    271.3,2,     8.87,3,    16.43,3,     0.89,3,   -999.0,9,-999.0000,9,  -999.00,   3.6069
  35TH20020610, OVIDE,    25,  1,     11,2,20020621,1235, 58.9720, -32.5530, 1894,   1196.0,   3.7640,  34.9210,2,  34.9200,2,    272.8,2,    274.1,2,     9.90,3,    16.76,2,     0.95,3,   -999.0,9,   7.7210,2,    25.00,   3.6731
  35TH20020610, OVIDE,    25,  1,     12,2,20020621,1235, 58.9720, -32.5530, 1894,    996.4,   4.2210,  34.9470,2,  34.9470,2,    264.4,2,    265.7,2,     9.93,3,    17.09,2,     0.96,3,   -999.0,9,   7.7210,2,    25.00,   4.1432
  35TH20020610, OVIDE,    25,  1,     13,2,20020621,1235, 58.9720, -32.5530, 1894,    894.7,   4.3750,  34.9310,2,-999.0000,9,    271.2,2,   -999.0,9,     9.55,2,    16.98,2,     0.96,2,   -999.0,9,   7.7190,2,    25.00,   4.3048
  35TH20020610, OVIDE,    25,  1,     14,2,20020621,1235, 58.9720, -32.5530, 1894,    847.3,   4.4450,  34.9260,2,-999.0000,9,    271.2,2,   -999.0,9,     9.31,2,    17.31,2,     0.97,2,   -999.0,9,-999.0000,9,  -999.00,   4.3784
  35TH20020610, OVIDE,    25,  1,     15,2,20020621,1235, 58.9720, -32.5530, 1894,    795.2,   5.0440,  34.9940,2,  34.9930,2,    249.6,2,    250.3,2,    10.07,2,    18.30,2,     1.00,2,   -999.0,9,   7.7190,2,    25.00,   4.9780
  35TH20020610, OVIDE,    25,  1,     16,2,20020621,1235, 58.9720, -32.5530, 1894,    694.7,   5.5520,  35.0330,2,-999.0000,9,    245.1,2,   -999.0,9,    10.37,3,    18.80,2,     0.98,3,   -999.0,9,-999.0000,9,  -999.00,   5.4921
  35TH20020610, OVIDE,    25,  1,     17,2,20020621,1235, 58.9720, -32.5530, 1894,    596.1,   5.9120,  35.0180,2,  35.0190,2,    251.3,2,    254.2,2,     9.14,2,    17.75,2,     0.96,2,   -999.0,9,   7.7350,2,    25.00,   5.8594
  35TH20020610, OVIDE,    25,  1,     18,2,20020621,1235, 58.9720, -32.5530, 1894,    497.2,   6.5030,  35.0490,2,-999.0000,9,    254.4,2,   -999.0,9,     8.08,2,    16.70,2,     0.91,2,   -999.0,9,-999.0000,9,  -999.00,   6.4572
  35TH20020610, OVIDE,    25,  1,     19,2,20020621,1235, 58.9720, -32.5530, 1894,    397.7,   7.0290,  35.1000,2,  35.1020,2,    273.2,2,    261.0,3,     7.64,3,    16.21,2,     0.88,3,   -999.0,9,   7.7630,2,    25.00,   6.9910
  35TH20020610, OVIDE,    25,  1,     20,2,20020621,1235, 58.9720, -32.5530, 1894,    297.3,   7.1020,  35.0800,2,-999.0000,9,    272.5,2,   -999.0,9,     6.81,2,    15.44,2,     0.83,2,   -999.0,9,-999.0000,9,  -999.00,   7.0737
  35TH20020610, OVIDE,    25,  1,     21,2,20020621,1235, 58.9720, -32.5530, 1894,    196.7,   7.3660,  35.0760,2,  35.0840,3,    270.3,2,    275.3,2,     6.78,2,    14.88,2,     0.80,2,   -999.0,9,   7.7850,2,    25.00,   7.3470
  35TH20020610, OVIDE,    25,  1,     22,2,20020621,1235, 58.9720, -32.5530, 1894,    146.2,   7.7400,  35.1020,2,  35.1020,2,    266.9,2,    269.7,2,     6.50,2,    14.55,2,     0.79,2,   -999.0,9,   7.7880,2,    25.00,   7.7255
  35TH20020610, OVIDE,    25,  1,     23,2,20020621,1235, 58.9720, -32.5530, 1894,     97.1,   8.0880,  35.1160,2,  35.1150,2,    269.2,2,    266.4,2,     6.40,2,    14.06,2,     0.75,2,   -999.0,9,   7.7940,2,    25.00,   8.0781
  35TH20020610, OVIDE,    25,  1,     24,2,20020621,1235, 58.9720, -32.5530, 1894,     47.2,   8.7180,  35.1850,2,  35.1840,2,    271.6,2,    266.1,2,     5.82,2,    13.40,2,     0.69,2,   -999.0,9,   7.8060,2,    25.00,   8.7130
  35TH20020610, OVIDE,    25,  1,     25,2,20020621,1235, 58.9720, -32.5530, 1894,      7.3,   9.4260,  35.0970,2,  35.0960,2,    289.5,2,    292.5,2,     0.96,2,     7.41,2,     0.42,2,   -999.0,9,   7.8990,2,    25.00,   9.4252
  35TH20020610, OVIDE,    26,  1,      3,2,20020621,1625, 58.9100, -31.9110, 1711,   1699.8,   3.7850,  34.9570,2,  34.9550,2,    269.8,2,    271.5,2,    10.20,2,    17.00,2,     0.96,2,   2304.3,2,   7.7240,2,    25.00,   3.6491
  35TH20020610, OVIDE,    26,  1,      4,2,20020621,1625, 58.9100, -31.9110, 1711,   1701.3,   3.7840,  34.9570,2,  34.9540,2,    269.8,2,    271.8,2,    10.23,2,    16.73,2,     0.95,2,   2304.3,2,   7.7260,2,    25.00,   3.6479
  35TH20020610, OVIDE,    26,  1,      5,2,20020621,1625, 58.9100, -31.9110, 1711,   1646.5,   3.8180,  34.9570,2,-999.0000,9,    271.2,2,   -999.0,9,    10.23,2,    17.21,2,     0.95,2,   -999.0,9,-999.0000,9,  -999.00,   3.6866
  35TH20020610, OVIDE,    26,  1,      6,2,20020621,1625, 58.9100, -31.9110, 1711,   1595.0,   3.8310,  34.9580,2,  34.9580,2,    270.6,2,    272.3,2,    10.20,2,    17.16,2,     0.95,2,   2304.0,2,   7.7250,2,    25.00,   3.7041
  35TH20020610, OVIDE,    26,  1,      7,2,20020621,1625, 58.9100, -31.9110, 1711,   1545.3,   3.8690,  34.9600,2,-999.0000,9,    270.2,2,   -999.0,9,    10.20,2,    17.21,2,     0.95,2,   -999.0,9,-999.0000,9,  -999.00,   3.7462
  35TH20020610, OVIDE,    26,  1,      8,2,20020621,1625, 58.9100, -31.9110, 1711,   1497.0,   3.8980,  34.9630,2,-999.0000,9,    269.9,2,   -999.0,9,    10.13,2,    17.10,2,     0.95,2,   -999.0,9,-999.0000,9,  -999.00,   3.7792
  35TH20020610, OVIDE,    26,  1,      9,2,20020621,1625, 58.9100, -31.9110, 1711,   1396.3,   3.9240,  34.9570,2,  34.9560,2,    268.4,2,    269.5,2,    10.20,2,    17.26,2,     0.95,2,   2304.8,2,   7.7200,2,    25.00,   3.8140
  35TH20020610, OVIDE,    26,  1,     10,2,20020621,1625, 58.9100, -31.9110, 1711,   1397.4,   3.9260,  34.9560,2,  34.9790,3,    268.4,2,    268.4,2,     9.32,3,    16.46,3,     0.92,3,   2305.6,3,-999.0000,9,  -999.00,   3.8159
  35TH20020610, OVIDE,    26,  1,     11,2,20020621,1625, 58.9100, -31.9110, 1711,   1195.2,   4.1750,  34.9590,2,  34.9580,2,    262.1,2,    262.5,2,    10.26,2,    17.69,2,     0.98,2,   2304.7,2,   7.7180,2,    25.00,   4.0803
  35TH20020610, OVIDE,    26,  1,     12,2,20020621,1625, 58.9100, -31.9110, 1711,    995.9,   4.8540,  35.0020,2,  35.0010,2,    249.0,2,    249.9,2,    10.23,2,    18.02,2,     0.99,2,   2307.6,2,   7.7150,2,    25.00,   4.7713
  35TH20020610, OVIDE,    26,  1,     13,2,20020621,1625, 58.9100, -31.9110, 1711,    895.4,   5.3170,  35.0280,2,  35.0280,2,    240.4,2,    240.6,2,    10.26,2,    18.28,2,     0.99,2,   2308.8,2,   7.7140,2,    25.00,   5.2401
  35TH20020610, OVIDE,    26,  1,     14,2,20020621,1625, 58.9100, -31.9110, 1711,    797.2,   5.5900,  34.9940,2,-999.0000,9,    252.6,2,   -999.0,9,     9.18,2,    17.69,2,     0.98,2,   2306.2,2,   7.7240,2,    25.00,   5.5205
  35TH20020610, OVIDE,    26,  1,     15,2,20020621,1625, 58.9100, -31.9110, 1711,    696.7,   5.9610,  34.9990,2,-999.0000,9,    266.7,2,   -999.0,9,     8.10,2,    16.68,2,     0.92,2,   2305.6,2,   7.7470,2,    25.00,   5.8988
  35TH20020610, OVIDE,    26,  1,     16,2,20020621,1625, 58.9100, -31.9110, 1711,    596.6,   6.3720,  35.0120,2,  35.0110,2,    272.7,2,    267.5,2,     7.73,2,    16.30,2,     0.89,2,   2306.2,2,   7.7510,2,    25.00,   6.3173
  35TH20020610, OVIDE,    26,  1,     17,2,20020621,1625, 58.9100, -31.9110, 1711,    496.4,   6.9700,  35.0860,2,-999.0000,9,    275.8,2,   -999.0,9,     6.85,2,    15.28,2,     0.86,2,   2311.4,2,   7.7660,2,    25.00,   6.9225
  35TH20020610, OVIDE,    26,  1,     18,2,20020621,1625, 58.9100, -31.9110, 1711,    397.9,   7.0740,  35.0830,2,-999.0000,9,    274.4,2,   -999.0,9,     6.68,2,    15.23,2,     0.82,2,   -999.0,9,-999.0000,9,  -999.00,   7.0359
  35TH20020610, OVIDE,    26,  1,     19,2,20020621,1625, 58.9100, -31.9110, 1711,    297.0,   7.3100,  35.1060,2,  35.1060,2,    274.8,2,    275.7,2,     6.45,2,    14.80,2,     0.81,2,   2311.6,2,   7.7810,2,    25.00,   7.2812
  35TH20020610, OVIDE,    26,  1,     20,2,20020621,1625, 58.9100, -31.9110, 1711,    196.4,   7.4420,  35.1000,2,  35.0980,2,    271.8,2,    274.0,2,     6.48,2,    14.69,2,     0.80,2,   2312.7,2,   7.7860,2,    25.00,   7.4229
  35TH20020610, OVIDE,    26,  1,     21,2,20020621,1625, 58.9100, -31.9110, 1711,    147.1,   7.5510,  35.0940,2,  35.0940,2,    269.7,2,    273.8,2,     6.48,2,    14.58,2,     0.78,3,   2312.6,2,   7.7860,2,    25.00,   7.5366
  35TH20020610, OVIDE,    26,  1,     22,2,20020621,1625, 58.9100, -31.9110, 1711,     96.5,   7.7060,  35.0770,2,  35.0770,2,    275.6,2,    270.0,2,     6.38,2,    14.37,2,     0.79,2,   2312.2,2,   7.7870,2,    25.00,   7.6965
  35TH20020610, OVIDE,    26,  1,     23,2,20020621,1625, 58.9100, -31.9110, 1711,     47.8,   9.1950,  35.0900,2,  35.0930,2,    294.7,2,    289.4,2,     2.30,2,     9.88,2,     0.59,2,   2311.6,2,   7.8620,2,    25.00,   9.1898
  35TH20020610, OVIDE,    26,  1,     24,2,20020621,1625, 58.9100, -31.9110, 1711,      3.3,   9.4950,  35.0960,2,  35.0950,2,    287.8,2,    293.8,3,     0.74,2,     7.58,2,     0.46,2,   2316.2,2,   7.9030,2,    25.00,   9.4946