BOTTLE,20140820PRINUNIVRMK
EXPOCODE,SECT_ID,STNNBR,CASTNO,BTLNBR,BTLNBR_FLAG_W,DATE,TIME,LATITUDE,LONGITUDE,DEPTH,CTDPRS,CTDTMP,CTDSAL,CTDSAL_FLAG_W,SALNTY,SALNTY_FLAG_W,CTDOXY,CTDOXY_FLAG_W,OXYGEN,OXYGEN_FLAG_W,SILCAT,SILCAT_FLAG_W,NITRAT,NITRAT_FLAG_W,PHSPHT,PHSPHT_FLAG_W,ALKALI,ALKALI_FLAG_W,PH_SWS,PH_SWS_FLAG_W,PH_TMP,THETA
,,,,,,,,,,METERS,DBAR,ITS-90,PSS-78,,PSS-78,,UMOL/KG,,UMOL/KG,,UMOL/KG,,UMOL/KG,,UMOL/KG,,UMOL/KG,,,,DEG C,DEG C
  35TH20020610, OVIDE,    61,  1,      3,2,20020630,0348, 47.2920, -20.2630, 4595,   4584.9,   2.5570,  34.9090,2,  34.9070,2,    240.7,2,    238.2,2,    45.27,2,    23.12,2,     1.35,2,   -999.0,9,   7.7260,2,    25.00,   2.1375
  35TH20020610, OVIDE,    61,  1,      4,2,20020630,0348, 47.2920, -20.2630, 4595,   3997.2,   2.5340,  34.9150,2,  34.9110,2,    241.0,2,    240.9,2,    43.86,2,    22.96,2,     1.35,2,   -999.0,9,   7.7270,2,    25.00,   2.1850
  35TH20020610, OVIDE,    61,  1,      5,2,20020630,0348, 47.2920, -20.2630, 4595,   3747.1,   2.5590,  34.9190,2,  34.9190,2,    242.5,2,    228.1,3,    41.98,2,    22.60,2,     1.33,2,   -999.0,9,   7.7280,2,    25.00,   2.2377
  35TH20020610, OVIDE,    61,  1,      6,2,20020630,0348, 47.2920, -20.2630, 4595,   3746.5,   2.5590,  34.9190,2,  34.9250,2,    242.5,2,    242.8,3,    38.21,2,    21.92,2,     1.30,2,   -999.0,9,   7.7280,3,    25.00,   2.2377
  35TH20020610, OVIDE,    61,  1,      7,2,20020630,0348, 47.2920, -20.2630, 4595,   3497.2,   2.6260,  34.9270,2,  34.9270,2,    246.1,2,    246.2,2,    38.21,2,    21.87,2,     1.29,2,   -999.0,9,-999.0000,9,  -999.00,   2.3306
  35TH20020610, OVIDE,    61,  1,      8,2,20020630,0348, 47.2920, -20.2630, 4595,   3245.8,   2.7320,  34.9380,2,  34.9410,2,    250.7,2,    250.9,2,    32.80,2,    20.87,2,     1.24,2,   -999.0,9,   7.7310,2,    25.00,   2.4612
  35TH20020610, OVIDE,    61,  1,      9,2,20020630,0348, 47.2920, -20.2630, 4595,   2996.4,   2.8510,  34.9480,2,  34.9520,2,    254.7,2,    254.6,2,    28.34,2,    20.20,2,     1.21,2,   -999.0,9,   7.7300,2,    25.00,   2.6037
  35TH20020610, OVIDE,    61,  1,     10,2,20020630,0348, 47.2920, -20.2630, 4595,   2745.4,   3.0120,  34.9530,2,  34.9540,2,    258.9,2,    258.2,2,    24.34,2,    19.57,2,     1.17,2,   -999.0,9,   7.7330,2,    25.00,   2.7872
  35TH20020610, OVIDE,    61,  1,     11,2,20020630,0348, 47.2920, -20.2630, 4595,   2496.0,   3.1550,  34.9380,2,  34.9390,2,    270.5,2,    269.3,2,    16.58,2,    18.26,2,     1.08,2,   -999.0,9,   7.7310,2,    25.00,   2.9526
  35TH20020610, OVIDE,    61,  1,     12,2,20020630,0348, 47.2920, -20.2630, 4595,   2246.6,   3.2190,  34.9080,2,  34.9090,2,    278.7,2,    278.5,2,    12.19,2,    17.74,2,     1.05,2,   -999.0,9,   7.7270,2,    25.00,   3.0400
  35TH20020610, OVIDE,    61,  1,     13,2,20020630,0348, 47.2920, -20.2630, 4595,   1997.0,   3.3120,  34.8980,2,  34.8960,2,    280.8,2,    280.4,2,    11.37,2,    17.95,2,     1.08,2,   -999.0,9,   7.7270,2,    25.00,   3.1552
  35TH20020610, OVIDE,    61,  1,     14,2,20020630,0348, 47.2920, -20.2630, 4595,   1795.5,   3.4410,  34.8990,2,  34.9070,3,    277.2,2,    277.3,2,    11.00,2,    18.06,2,     1.06,2,   -999.0,9,   7.7290,2,    25.00,   3.3009
  35TH20020610, OVIDE,    61,  1,     15,2,20020630,0348, 47.2920, -20.2630, 4595,   1595.8,   3.6920,  34.9190,2,  34.9190,2,    269.9,2,    271.5,2,    11.06,2,    18.11,2,     1.07,2,   -999.0,9,   7.7210,2,    25.00,   3.5668
  35TH20020610, OVIDE,    61,  1,     16,2,20020630,0348, 47.2920, -20.2630, 4595,   1395.3,   4.1780,  34.9630,2,  34.9610,2,    260.7,2,    260.7,2,    10.90,2,    18.42,2,     1.07,2,   -999.0,9,   7.7170,2,    25.00,   4.0654
  35TH20020610, OVIDE,    61,  1,     17,2,20020630,0348, 47.2920, -20.2630, 4595,   1195.5,   5.0370,  35.0520,2,  35.0490,2,    239.4,2,    243.8,2,    11.18,2,    19.10,2,     1.10,2,   -999.0,9,   7.7150,2,    25.00,   4.9343
  35TH20020610, OVIDE,    61,  1,     18,2,20020630,0348, 47.2920, -20.2630, 4595,    996.2,   6.3690,  35.1930,2,  35.1780,3,    215.8,2,    222.7,3,    11.06,2,    19.41,2,     1.12,2,   -999.0,9,   7.7190,2,    25.00,   6.2747
  35TH20020610, OVIDE,    61,  1,     19,2,20020630,0348, 47.2920, -20.2630, 4595,    896.7,   7.4030,  35.3020,2,  35.3010,2,    205.2,2,    207.5,2,    10.80,2,    19.46,2,     1.11,2,   -999.0,9,   7.7270,2,    25.00,   7.3117
  35TH20020610, OVIDE,    61,  1,     20,2,20020630,0348, 47.2920, -20.2630, 4595,    796.6,   8.0050,  35.2840,2,  35.2960,3,    196.2,2,    198.8,2,    10.55,3,    19.67,3,     1.08,3,   -999.0,9,   7.7250,2,    25.00,   7.9209
  35TH20020610, OVIDE,    61,  1,     21,2,20020630,0348, 47.2920, -20.2630, 4595,    697.0,   8.6610,  35.2410,2,  35.2450,2,    189.4,2,    190.0,2,    10.05,3,    19.83,3,     1.11,3,   -999.0,9,   7.7280,2,    25.00,   8.5846
  35TH20020610, OVIDE,    61,  1,     22,2,20020630,0348, 47.2920, -20.2630, 4595,    597.1,   9.8480,  35.3440,2,  35.3350,3,    197.5,2,    197.0,2,     8.26,2,    17.95,2,     1.01,2,   -999.0,9,   7.7550,2,    25.00,   9.7777
  35TH20020610, OVIDE,    61,  1,     23,2,20020630,0348, 47.2920, -20.2630, 4595,    496.6,  10.5220,  35.3800,2,  35.3810,2,    228.6,2,    225.3,2,     6.03,2,    14.45,2,     0.81,2,   -999.0,9,   7.8050,2,    25.00,  10.4614
  35TH20020610, OVIDE,    61,  1,     24,2,20020630,0348, 47.2920, -20.2630, 4595,    396.6,  11.3910,  35.5240,2,  35.5230,2,    247.9,2,    238.4,3,     4.58,2,    11.94,2,     0.67,2,   -999.0,9,   7.8410,2,    25.00,  11.3403
  35TH20020610, OVIDE,    61,  1,     25,2,20020630,0348, 47.2920, -20.2630, 4595,    297.1,  11.8130,  35.5820,2,  35.5850,2,    253.5,2,    255.7,2,     2.17,2,     8.87,2,     0.52,3,   -999.0,9,   7.8760,2,    25.00,  11.7742
  35TH20020610, OVIDE,    61,  1,     26,2,20020630,0348, 47.2920, -20.2630, 4595,    196.3,  12.3620,  35.6860,2,  35.6860,2,    244.1,2,    246.4,2,     3.39,3,     9.60,2,     0.53,2,   -999.0,9,   7.8720,2,    25.00,  12.3357
  35TH20020610, OVIDE,    61,  1,     27,2,20020630,0348, 47.2920, -20.2630, 4595,    147.0,  12.5130,  35.6910,2,  35.6880,2,    249.9,2,    252.0,2,     1.76,2,     9.03,2,     0.47,2,   -999.0,9,   7.8890,2,    25.00,  12.4932
  35TH20020610, OVIDE,    61,  1,     28,2,20020630,0348, 47.2920, -20.2630, 4595,     96.3,  12.9210,  35.7470,2,  35.7450,2,    249.2,2,    248.9,2,     2.07,2,     9.03,2,     0.47,2,   -999.0,9,   7.8960,2,    25.00,  12.9078
  35TH20020610, OVIDE,    61,  1,     29,2,20020630,0348, 47.2920, -20.2630, 4595,     94.9,  12.8970,  35.7390,2,  35.7410,2,    249.4,2,    249.1,2,     2.17,2,     8.91,2,     0.46,2,   -999.0,9,   7.8960,2,    25.00,  12.8840
  35TH20020610, OVIDE,    61,  1,     30,2,20020630,0348, 47.2920, -20.2630, 4595,     46.2,  13.5750,  35.7230,2,  35.7260,2,    260.4,2,    255.6,2,     0.97,2,     4.31,2,     0.36,2,   -999.0,9,   7.9260,2,    25.00,  13.5684
  35TH20020610, OVIDE,    62,  1,      3,2,20020630,0921, 46.9160, -19.9690, 4578,   4568.3,   2.5750,  34.9110,2,  34.9100,2,    239.5,2,    240.6,2,    44.68,2,    22.88,2,     1.38,2,   -999.0,9,-999.0000,9,  -999.00,   2.1569
  35TH20020610, OVIDE,    62,  1,      4,2,20020630,0921, 46.9160, -19.9690, 4578,   4297.9,   2.5480,  34.9110,2,  34.9150,2,    240.5,2,    240.6,2,    44.33,2,    22.77,2,     1.36,2,   -999.0,9,-999.0000,9,  -999.00,   2.1634
  35TH20020610, OVIDE,    62,  1,      5,2,20020630,0921, 46.9160, -19.9690, 4578,   3998.0,   2.5380,  34.9150,2,  34.9130,2,    240.9,2,    241.3,2,    43.50,2,    22.66,2,     1.36,2,   2351.1,2,   7.7300,2,    25.00,   2.1888
  35TH20020610, OVIDE,    62,  1,      6,2,20020630,0921, 46.9160, -19.9690, 4578,   3747.2,   2.5390,  34.9170,2,  34.9160,2,    241.7,2,    242.9,2,    42.45,2,    22.50,2,     1.34,2,   2349.9,2,   7.7320,2,    25.00,   2.2182
  35TH20020610, OVIDE,    62,  1,      7,2,20020630,0921, 46.9160, -19.9690, 4578,   3496.9,   2.5790,  34.9240,2,  34.9220,2,    244.1,2,    244.6,2,    40.09,2,    22.08,2,     1.29,2,   2345.8,2,   7.7320,2,    25.00,   2.2848
  35TH20020610, OVIDE,    62,  1,      8,2,20020630,0921, 46.9160, -19.9690, 4578,   3246.6,   2.6590,  34.9330,2,  34.9360,2,    246.7,2,    248.0,2,    35.74,2,    21.22,2,     1.25,2,   2339.2,2,   7.7320,2,    25.00,   2.3898
  35TH20020610, OVIDE,    62,  1,      9,2,20020630,0921, 46.9160, -19.9690, 4578,   2995.7,   2.7740,  34.9440,2,  34.9490,2,    251.9,2,    251.9,2,    30.92,2,    20.32,2,     1.03,3,   2333.2,2,   7.7340,2,    25.00,   2.5285
  35TH20020610, OVIDE,    62,  1,     10,2,20020630,0921, 46.9160, -19.9690, 4578,   2745.8,   2.9150,  34.9510,2,  34.9520,2,    257.0,2,    257.7,2,    25.75,2,    19.46,2,     1.17,2,   2325.3,2,   7.7340,2,    25.00,   2.6921
  35TH20020610, OVIDE,    62,  1,     11,2,20020630,0921, 46.9160, -19.9690, 4578,   2496.1,   3.0950,  34.9530,2,  34.9500,2,    262.0,2,    262.6,2,    20.58,3,    18.45,2,     1.12,2,   2320.0,2,   7.7310,2,    25.00,   2.8936
  35TH20020610, OVIDE,    62,  1,     12,2,20020630,0921, 46.9160, -19.9690, 4578,   2297.0,   3.2240,  34.9440,2,  34.9430,2,    267.3,2,    267.3,2,    16.06,3,    18.08,2,     1.06,2,   2312.2,2,   7.7330,2,    25.00,   3.0399
  35TH20020610, OVIDE,    62,  1,     13,2,20020630,0921, 46.9160, -19.9690, 4578,   2045.7,   3.4170,  34.9390,2,  34.9400,2,    270.2,2,    269.7,2,    14.18,3,    17.76,2,     1.07,2,   2310.4,2,   7.7320,2,    25.00,   3.2539
  35TH20020610, OVIDE,    62,  1,     14,2,20020630,0921, 46.9160, -19.9690, 4578,   1795.1,   3.8920,  34.9860,2,  34.9900,2,    261.3,2,    262.6,2,    13.64,3,    18.08,2,     1.08,2,   2313.0,2,   7.7330,2,    25.00,   3.7457
  35TH20020610, OVIDE,    62,  1,     15,2,20020630,0921, 46.9160, -19.9690, 4578,   1596.0,   4.4410,  35.0460,2,  35.0470,2,    253.1,2,    254.5,2,    12.68,3,    17.54,3,     1.04,2,   2315.2,2,   7.7320,2,    25.00,   4.3065
  35TH20020610, OVIDE,    62,  1,     16,2,20020630,0921, 46.9160, -19.9690, 4578,   1395.7,   5.0060,  35.1040,2,  35.1030,2,    245.4,2,    245.0,2,    11.36,2,    18.29,2,     1.04,2,   2316.4,2,   7.7270,2,    25.00,   4.8844
  35TH20020610, OVIDE,    62,  1,     17,2,20020630,0921, 46.9160, -19.9690, 4578,   1197.0,   6.2660,  35.2660,2,  35.2640,2,    228.3,2,    226.1,2,    11.06,2,    18.29,2,     1.06,2,   2327.7,2,   7.7310,2,    25.00,   6.1518
  35TH20020610, OVIDE,    62,  1,     18,2,20020630,0921, 46.9160, -19.9690, 4578,    996.3,   7.8450,  35.4560,2,  35.4540,2,    204.7,2,    204.5,2,    10.56,2,    17.91,2,     1.04,2,   2341.2,2,   7.7420,2,    25.00,   7.7395
  35TH20020610, OVIDE,    62,  1,     19,2,20020630,0921, 46.9160, -19.9690, 4578,    895.1,   8.3540,  35.4620,2,  35.4640,2,    196.5,2,    197.6,2,    10.36,2,    17.27,2,     1.00,3,   2341.5,2,   7.7460,2,    25.00,   8.2564
  35TH20020610, OVIDE,    62,  1,     20,2,20020630,0921, 46.9160, -19.9690, 4578,    796.1,   8.6550,  35.4010,2,  35.4050,2,    190.5,2,    193.5,2,    10.13,2,    18.50,2,     1.06,2,   2335.2,2,   7.7370,2,    25.00,   8.5670
  35TH20020610, OVIDE,    62,  1,     21,2,20020630,0921, 46.9160, -19.9690, 4578,    695.6,   8.7570,  35.2850,2,  35.2900,2,    188.1,2,    189.0,2,    10.06,3,    18.61,3,     1.09,3,   2326.6,2,   7.7310,2,    25.00,   8.6802
  35TH20020610, OVIDE,    62,  1,     22,2,20020630,0921, 46.9160, -19.9690, 4578,    596.4,   9.3140,  35.2570,2,  35.2550,2,    191.2,2,    190.9,2,     9.40,3,    18.50,3,     1.06,3,   2321.7,2,   7.7400,2,    25.00,   9.2461
  35TH20020610, OVIDE,    62,  1,     23,2,20020630,0921, 46.9160, -19.9690, 4578,    495.7,  10.4230,  35.3650,2,  35.3730,3,    206.9,2,    205.4,2,     7.28,2,    15.67,2,     0.89,2,   2326.0,2,   7.7830,2,    25.00,  10.3628
  35TH20020610, OVIDE,    62,  1,     24,2,20020630,0921, 46.9160, -19.9690, 4578,    396.3,  11.3320,  35.5050,2,  35.4960,3,    233.6,2,    230.4,2,     5.30,2,    12.37,2,     0.68,2,   2333.6,2,   7.8320,2,    25.00,  11.2815
  35TH20020610, OVIDE,    62,  1,     25,2,20020630,0921, 46.9160, -19.9690, 4578,    296.3,  11.9890,  35.6240,2,  35.6270,2,    239.2,2,    240.5,2,     4.20,2,    10.29,2,     0.55,2,   2339.5,2,   7.8640,2,    25.00,  11.9499
  35TH20020610, OVIDE,    62,  1,     26,2,20020630,0921, 46.9160, -19.9690, 4578,    196.7,  12.5230,  35.7110,2,  35.7080,2,    240.7,2,    241.0,2,     3.84,2,     9.48,2,     0.51,2,   2344.1,2,   7.8750,2,    25.00,  12.4964
  35TH20020610, OVIDE,    62,  1,     27,2,20020630,0921, 46.9160, -19.9690, 4578,    146.5,  12.8250,  35.7580,2,  35.7650,3,    240.8,2,    243.4,2,     3.64,2,     8.45,2,     0.45,2,   2348.0,2,   7.8850,2,    25.00,  12.8049
  35TH20020610, OVIDE,    62,  1,     28,2,20020630,0921, 46.9160, -19.9690, 4578,     95.7,  13.2660,  35.7870,2,  35.7790,3,    239.7,2,    246.4,3,     2.98,2,     7.48,2,     0.38,2,   2349.6,2,   7.9070,2,    25.00,  13.2526
  35TH20020610, OVIDE,    62,  1,     29,2,20020630,0921, 46.9160, -19.9690, 4578,     45.6,  13.9870,  35.7910,2,  35.7930,2,    247.0,2,    251.8,2,     2.12,2,     5.04,2,     0.28,2,   2352.4,2,   7.9310,2,    25.00,  13.9804
  35TH20020610, OVIDE,    62,  1,     30,2,20020630,0921, 46.9160, -19.9690, 4578,      6.2,  15.8360,  35.7450,2,  35.7460,2,    251.2,2,    273.1,3,     0.83,2,     0.33,2,     0.11,2,   2351.1,2,   8.0030,2,    25.00,  15.8350
  35TH20020610, OVIDE,    63,  1,      3,2,20020630,1447, 46.5420, -19.6740, 4626,   4616.1,   2.5810,  34.9120,2,  34.9110,2,    239.8,2,    239.9,2,    45.54,3,    22.56,2,     1.36,2,   -999.0,9,   7.7290,2,    25.00,   2.1568
  35TH20020610, OVIDE,    63,  1,      4,2,20020630,1447, 46.5420, -19.6740, 4626,   4247.6,   2.5590,  34.9120,2,  34.9140,2,    241.6,2,    240.7,2,    44.97,3,    22.45,2,     1.37,2,   -999.0,9,   7.7300,2,    25.00,   2.1800
  35TH20020610, OVIDE,    63,  1,      5,2,20020630,1447, 46.5420, -19.6740, 4626,   3996.0,   2.5550,  34.9160,2,  34.9150,2,    242.2,2,    241.2,2,    43.96,3,    22.45,2,     1.36,2,   -999.0,9,   7.7310,2,    25.00,   2.2055
  35TH20020610, OVIDE,    63,  1,      6,2,20020630,1447, 46.5420, -19.6740, 4626,   3747.2,   2.5840,  34.9210,2,  34.9210,2,    243.9,2,    242.9,2,    42.16,3,    22.13,2,     1.33,2,   -999.0,9,   7.7320,2,    25.00,   2.2620
  35TH20020610, OVIDE,    63,  1,      7,2,20020630,1447, 46.5420, -19.6740, 4626,   3495.2,   2.6530,  34.9300,2,  34.9290,2,    247.7,2,    246.5,2,    38.56,3,    21.28,2,     1.28,2,   -999.0,9,   7.7320,2,    25.00,   2.3572
  35TH20020610, OVIDE,    63,  1,      8,2,20020630,1447, 46.5420, -19.6740, 4626,   3248.0,   2.7770,  34.9420,2,  34.9430,2,    251.6,2,    251.6,2,    32.60,3,    21.28,3,     1.22,2,   -999.0,9,   7.7340,2,    25.00,   2.5049
  35TH20020610, OVIDE,    63,  1,      9,2,20020630,1447, 46.5420, -19.6740, 4626,   2997.3,   2.9160,  34.9510,2,  34.9570,2,    256.0,2,    255.6,2,    27.54,3,    19.46,2,     1.17,2,   -999.0,9,   7.7350,2,    25.00,   2.6672
  35TH20020610, OVIDE,    63,  1,     10,2,20020630,1447, 46.5420, -19.6740, 4626,   2746.6,   3.1170,  34.9530,2,  34.9520,2,    262.1,2,    261.6,2,    20.57,3,    18.88,2,     1.13,2,   -999.0,9,   7.7360,2,    25.00,   2.8900
  35TH20020610, OVIDE,    63,  1,     11,2,20020630,1447, 46.5420, -19.6740, 4626,   2496.3,   3.2030,  34.9250,2,  34.9300,2,    273.6,2,    273.7,2,    13.57,2,    17.76,2,     1.05,2,   -999.0,9,   7.7350,2,    25.00,   2.9997
  35TH20020610, OVIDE,    63,  1,     12,2,20020630,1447, 46.5420, -19.6740, 4626,   2245.7,   3.2170,  34.8980,2,  34.8960,2,    281.0,2,    281.4,2,    11.63,2,    17.97,2,     1.02,2,   -999.0,9,   7.7310,2,    25.00,   3.0381
  35TH20020610, OVIDE,    63,  1,     13,2,20020630,1447, 46.5420, -19.6740, 4626,   2096.1,   3.2680,  34.8910,2,  34.8900,2,    282.5,2,    282.4,2,    11.60,2,    19.68,3,     1.01,3,   -999.0,9,   7.7290,2,    25.00,   3.1026
  35TH20020610, OVIDE,    63,  1,     14,2,20020630,1447, 46.5420, -19.6740, 4626,   1795.6,   3.5780,  34.9140,2,  34.9150,2,    275.3,2,    274.0,2,    11.23,2,    20.42,3,     0.99,3,   -999.0,9,   7.7260,2,    25.00,   3.4360
  35TH20020610, OVIDE,    63,  1,     15,2,20020630,1447, 46.5420, -19.6740, 4626,   1595.6,   3.9760,  34.9600,2,  34.9610,2,    267.9,2,    278.6,3,    11.13,2,    19.46,2,     1.04,2,   -999.0,9,   7.7260,2,    25.00,   3.8473
  35TH20020610, OVIDE,    63,  1,     16,2,20020630,1447, 46.5420, -19.6740, 4626,   1395.2,   4.5940,  35.0240,2,  35.0260,2,    255.5,2,    252.4,2,    11.03,2,    19.04,2,     1.06,2,   -999.0,9,   7.7250,2,    25.00,   4.4769
  35TH20020610, OVIDE,    63,  1,     17,2,20020630,1447, 46.5420, -19.6740, 4626,   1195.2,   5.8870,  35.1810,2,  35.1800,2,    231.1,2,    229.7,2,    10.96,2,    18.55,2,     1.09,2,   -999.0,9,   7.7240,2,    25.00,   5.7765
  35TH20020610, OVIDE,    63,  1,     18,2,20020630,1447, 46.5420, -19.6740, 4626,    995.3,   7.8990,  35.3830,2,  35.3780,2,    207.3,2,    201.9,2,    10.52,3,    18.82,3,     1.08,3,   -999.0,9,   7.7360,2,    25.00,   7.7933
  35TH20020610, OVIDE,    63,  1,     19,2,20020630,1447, 46.5420, -19.6740, 4626,    896.6,   8.4030,  35.3400,2,  35.3450,2,    195.3,2,    192.9,2,    10.29,3,    19.24,3,     1.09,3,   -999.0,9,   7.7320,2,    25.00,   8.3051
  35TH20020610, OVIDE,    63,  1,     20,2,20020630,1447, 46.5420, -19.6740, 4626,    796.2,   9.4940,  35.4280,2,  35.4360,3,    189.9,2,    188.9,2,     9.19,3,    18.50,3,     1.02,3,   -999.0,9,   7.7460,2,    25.00,   9.4012
  35TH20020610, OVIDE,    63,  1,     21,2,20020630,1447, 46.5420, -19.6740, 4626,    694.8,   9.9810,  35.3890,2,  35.3840,2,    196.5,2,    192.0,2,     7.88,3,    17.70,3,     1.01,3,   -999.0,9,   7.7580,2,    25.00,   9.8980
  35TH20020610, OVIDE,    63,  1,     22,2,20020630,1447, 46.5420, -19.6740, 4626,    596.2,  10.7680,  35.4590,2,  35.4570,2,    206.6,2,    204.8,2,     6.41,2,    15.46,2,     0.88,2,   -999.0,9,   7.7860,2,    25.00,  10.6937
  35TH20020610, OVIDE,    63,  1,     23,2,20020630,1447, 46.5420, -19.6740, 4626,    495.6,  11.3680,  35.5180,2,  35.5180,2,    224.4,2,    219.4,2,     5.14,2,    13.06,2,     0.74,2,   -999.0,9,   7.8210,2,    25.00,  11.3044
  35TH20020610, OVIDE,    63,  1,     24,2,20020630,1447, 46.5420, -19.6740, 4626,    395.9,  11.9860,  35.6070,2,  35.6070,2,    225.0,2,    229.8,2,     4.28,2,    11.35,2,     0.61,2,   -999.0,9,   7.8500,2,    25.00,  11.9336
  35TH20020610, OVIDE,    63,  1,     25,2,20020630,1447, 46.5420, -19.6740, 4626,    296.3,  12.5420,  35.6910,2,  35.6920,2,    235.2,2,    234.2,2,     3.51,2,     9.64,2,     0.54,2,   -999.0,9,   7.8650,2,    25.00,  12.5018
  35TH20020610, OVIDE,    63,  1,     26,2,20020630,1447, 46.5420, -19.6740, 4626,    197.3,  13.1720,  35.8050,2,  35.8040,2,    237.3,2,    241.4,2,     3.01,2,     8.05,2,     0.42,2,   -999.0,9,   7.8930,2,    25.00,  13.1444
  35TH20020610, OVIDE,    63,  1,     27,2,20020630,1447, 46.5420, -19.6740, 4626,    146.5,  13.2950,  35.8020,2,  35.8030,2,    237.8,2,    240.8,2,     2.47,2,     6.64,2,     0.36,2,   -999.0,9,   7.8990,2,    25.00,  13.2744
  35TH20020610, OVIDE,    63,  1,     28,2,20020630,1447, 46.5420, -19.6740, 4626,     96.1,  13.8590,  35.8630,2,  35.8640,2,    238.7,2,    241.5,2,     2.50,2,     6.23,2,     0.34,2,   -999.0,9,   7.9160,2,    25.00,  13.8451
  35TH20020610, OVIDE,    63,  1,     29,2,20020630,1447, 46.5420, -19.6740, 4626,     47.6,  14.9070,  35.8660,2,  35.8680,2,    246.5,2,    248.1,2,     1.03,2,     1.90,2,     0.20,2,   -999.0,9,   7.9540,2,    25.00,  14.8998
  35TH20020610, OVIDE,    63,  1,     30,2,20020630,1447, 46.5420, -19.6740, 4626,      4.0,  16.8790,  35.8830,2,  35.8830,2,    249.8,2,    258.3,3,     0.87,2,     0.10,2,     0.04,2,   -999.0,9,   8.0250,2,    25.00,  16.8783