BOTTLE,20140820PRINUNIVRMK
EXPOCODE,SECT_ID,STNNBR,CASTNO,BTLNBR,BTLNBR_FLAG_W,DATE,TIME,LATITUDE,LONGITUDE,DEPTH,CTDPRS,CTDTMP,CTDSAL,CTDSAL_FLAG_W,SALNTY,SALNTY_FLAG_W,CTDOXY,CTDOXY_FLAG_W,OXYGEN,OXYGEN_FLAG_W,SILCAT,SILCAT_FLAG_W,NITRAT,NITRAT_FLAG_W,PHSPHT,PHSPHT_FLAG_W,ALKALI,ALKALI_FLAG_W,PH_SWS,PH_SWS_FLAG_W,PH_TMP,THETA
,,,,,,,,,,METERS,DBAR,ITS-90,PSS-78,,PSS-78,,UMOL/KG,,UMOL/KG,,UMOL/KG,,UMOL/KG,,UMOL/KG,,UMOL/KG,,,,DEG C,DEG C
  35TH20020610, OVIDE,    27,  1,      3,2,20020622,2000, 58.8440, -31.2680, 1512,   1502.0,   4.0300,  34.9820,2,  34.9820,2,    268.5,2,    267.2,2,    10.06,2,    16.48,2,     0.96,2,   -999.0,9,   7.7270,2,    25.00,   3.9092
  35TH20020610, OVIDE,    27,  1,      4,2,20020622,2000, 58.8440, -31.2680, 1512,   1445.3,   4.0290,  34.9830,2,-999.0000,9,    269.6,2,   -999.0,9,    10.13,2,    17.17,3,     0.96,2,   -999.0,9,-999.0000,9,  -999.00,   3.9134
  35TH20020610, OVIDE,    27,  1,      5,2,20020622,2000, 58.8440, -31.2680, 1512,   1395.9,   4.0220,  34.9830,2,  34.9810,2,    268.9,2,    267.1,2,    10.13,2,    16.26,2,     0.96,2,   -999.0,9,   7.7260,2,    25.00,   3.9109
  35TH20020610, OVIDE,    27,  1,      6,2,20020622,2000, 58.8440, -31.2680, 1512,   1346.1,   4.0230,  34.9830,2,  34.9810,2,    268.7,2,    267.0,2,    10.20,2,    16.80,2,     0.96,2,   -999.0,9,   7.7290,2,    25.00,   3.9164
  35TH20020610, OVIDE,    27,  1,      7,2,20020622,2000, 58.8440, -31.2680, 1512,   1296.4,   4.0310,  34.9840,2,  34.9810,2,    268.7,2,    266.9,2,    10.13,2,    16.58,2,     0.98,2,   -999.0,9,   7.7270,2,    25.00,   3.9287
  35TH20020610, OVIDE,    27,  1,      8,2,20020622,2000, 58.8440, -31.2680, 1512,   1195.9,   4.1250,  34.9770,2,  34.9740,2,    265.6,2,    265.7,2,    10.16,2,    17.28,2,     1.00,2,   -999.0,9,   7.7250,2,    25.00,   4.0307
  35TH20020610, OVIDE,    27,  1,      9,2,20020622,2000, 58.8440, -31.2680, 1512,    994.7,   4.5260,  34.9700,2,  34.9690,2,    255.4,2,    256.6,2,    10.30,2,    17.70,2,     1.02,2,   -999.0,9,   7.7180,2,    25.00,   4.4460
  35TH20020610, OVIDE,    27,  1,     10,2,20020622,2000, 58.8440, -31.2680, 1512,    797.4,   5.2320,  34.9600,2,  34.9890,3,    270.7,2,    268.8,3,     8.24,2,    16.10,2,     0.94,2,   -999.0,9,   7.7420,3,    25.00,   5.1647
  35TH20020610, OVIDE,    27,  1,     11,2,20020622,2000, 58.8440, -31.2680, 1512,    596.1,   6.3100,  35.0350,2,  35.0380,2,    259.4,2,    257.9,2,     8.58,2,    16.85,2,     0.96,2,   -999.0,9,   7.7490,2,    25.00,   6.2556
  35TH20020610, OVIDE,    27,  1,     12,2,20020622,2000, 58.8440, -31.2680, 1512,    496.4,   6.7200,  35.0550,2,  35.0560,2,    272.6,2,    271.4,2,     7.50,2,    15.73,2,     0.91,2,   -999.0,9,   7.7690,2,    25.00,   6.6735
  35TH20020610, OVIDE,    27,  1,     13,2,20020622,2000, 58.8440, -31.2680, 1512,    296.7,   7.4110,  35.1130,2,  35.1120,2,    271.5,2,    263.6,3,     7.22,2,    15.46,2,     0.87,2,   -999.0,9,   7.7780,2,    25.00,   7.3820
  35TH20020610, OVIDE,    27,  1,     14,2,20020622,2000, 58.8440, -31.2680, 1512,    148.0,   7.7840,  35.0990,2,  35.0980,2,    272.2,2,    269.5,2,     6.62,2,    14.29,2,     0.79,2,   -999.0,9,   7.7910,2,    25.00,   7.7693
  35TH20020610, OVIDE,    27,  1,     15,2,20020622,2000, 58.8440, -31.2680, 1512,     96.8,   7.8590,  35.0910,2,  35.0910,2,    271.3,2,    268.2,2,     6.68,2,    14.18,2,     0.81,2,   -999.0,9,   7.7920,2,    25.00,   7.8494
  35TH20020610, OVIDE,    27,  1,     16,2,20020622,2000, 58.8440, -31.2680, 1512,     45.8,   8.3580,  35.1230,2,  35.1230,2,    278.3,2,    271.7,3,     5.88,2,    12.80,2,     0.72,2,   -999.0,9,   7.8060,2,    25.00,   8.3533
  35TH20020610, OVIDE,    27,  1,     17,2,20020622,2000, 58.8440, -31.2680, 1512,     96.8,   7.8590,  35.0910,2,-999.0000,9,    271.3,2,   -999.0,9,  -999.00,9,  -999.00,9,  -999.00,9,   -999.0,9,-999.0000,9,  -999.00,   7.8494
  35TH20020610, OVIDE,    27,  1,     18,2,20020622,2000, 58.8440, -31.2680, 1512,      5.2,   9.5280,  35.1140,2,  35.1140,2,    286.4,2,    291.7,2,     1.08,2,     7.82,2,     0.44,2,   -999.0,9,   7.8960,2,    25.00,   9.5274
  35TH20020610, OVIDE,    28,  1,      3,2,20020622,2324, 58.7270, -30.6960, 1464,   1454.1,   3.8880,  34.9810,2,  34.9800,2,    268.8,2,    270.1,2,    10.27,2,    16.51,2,     0.96,2,   2305.7,2,   7.7290,2,    25.00,   3.7731
  35TH20020610, OVIDE,    28,  1,      4,2,20020622,2324, 58.7270, -30.6960, 1464,   1398.1,   3.8990,  34.9800,2,-999.0000,9,    271.5,2,    270.1,2,    10.27,2,    16.62,2,     0.97,2,   2306.1,2,   7.7300,2,    25.00,   3.7890
  35TH20020610, OVIDE,    28,  1,      5,2,20020622,2324, 58.7270, -30.6960, 1464,   1295.9,   3.9280,  34.9820,2,  34.9810,2,    270.1,2,    268.6,2,    10.27,2,    16.78,2,     0.96,2,   2305.3,2,   7.7280,2,    25.00,   3.8268
  35TH20020610, OVIDE,    28,  1,      6,2,20020622,2324, 58.7270, -30.6960, 1464,   1196.9,   4.0290,  34.9820,2,  34.9840,2,    269.4,2,    267.1,2,    10.30,2,    17.23,2,     0.96,2,   2306.0,2,   7.7280,2,    25.00,   3.9355
  35TH20020610, OVIDE,    28,  1,      7,2,20020622,2324, 58.7270, -30.6960, 1464,   1096.7,   4.2780,  34.9930,2,  34.9930,2,    266.7,2,    263.7,2,    10.24,2,    17.34,2,     0.99,2,   2306.4,2,   7.7290,2,    25.00,   4.1910
  35TH20020610, OVIDE,    28,  1,      8,2,20020622,2324, 58.7270, -30.6960, 1464,    996.9,   4.5080,  35.0000,2,  35.0030,2,    261.7,2,    260.1,2,    10.24,2,    17.40,2,     1.00,2,   2307.9,2,   7.7220,2,    25.00,   4.4279
  35TH20020610, OVIDE,    28,  1,      9,2,20020622,2324, 58.7270, -30.6960, 1464,    897.5,   5.0330,  35.0230,2,  35.0230,2,    248.5,2,    249.4,2,    10.41,2,    18.29,2,     1.02,2,   2308.7,2,   7.7180,2,    25.00,   4.9579
  35TH20020610, OVIDE,    28,  1,     10,2,20020622,2324, 58.7270, -30.6960, 1464,    796.4,   5.4390,  35.0330,2,  35.0550,3,    239.7,2,    245.0,2,     9.86,2,    17.84,2,     1.00,2,   -999.0,9,-999.0000,9,  -999.00,   5.3705
  35TH20020610, OVIDE,    28,  1,     11,2,20020622,2324, 58.7270, -30.6960, 1464,    796.8,   5.4450,  35.0340,2,-999.0000,9,    239.8,2,   -999.0,9,    10.71,3,    18.85,3,     1.05,3,   -999.0,9,-999.0000,9,  -999.00,   5.3764
  35TH20020610, OVIDE,    28,  1,     12,2,20020622,2324, 58.7270, -30.6960, 1464,    695.1,   6.2180,  35.0940,2,  35.0960,2,    245.8,2,    241.1,2,     9.76,2,    17.73,2,     1.00,2,   2313.9,2,   7.7320,2,    25.00,   6.1545
  35TH20020610, OVIDE,    28,  1,     13,2,20020622,2324, 58.7270, -30.6960, 1464,    596.1,   6.7830,  35.1200,2,  35.1190,2,    264.0,2,    254.9,3,     8.36,2,    16.67,2,     0.93,2,   2314.2,2,   7.7600,2,    25.00,   6.7264
  35TH20020610, OVIDE,    28,  1,     14,2,20020622,2324, 58.7270, -30.6960, 1464,    496.9,   7.1930,  35.1470,2,  35.1470,2,    277.7,2,    273.4,2,     6.89,2,    15.17,2,     0.86,2,   2315.1,2,   7.7880,2,    25.00,   7.1446
  35TH20020610, OVIDE,    28,  1,     15,2,20020622,2324, 58.7270, -30.6960, 1464,    395.7,   7.3910,  35.1610,2,  35.1630,2,    270.9,2,    275.3,2,     6.65,2,    14.78,2,     0.84,2,   2315.8,2,   7.7900,2,    25.00,   7.3521
  35TH20020610, OVIDE,    28,  1,     16,2,20020622,2324, 58.7270, -30.6960, 1464,    296.0,   7.5090,  35.1560,2,  35.1550,2,    267.7,2,    260.9,3,     7.30,3,    15.61,3,     0.89,3,   2316.0,2,   7.7740,2,    25.00,   7.4799
  35TH20020610, OVIDE,    28,  1,     17,2,20020622,2324, 58.7270, -30.6960, 1464,    197.8,   7.7460,  35.1390,2,  35.1370,2,    273.2,2,    268.3,2,     6.21,2,    14.61,2,     0.80,2,   2317.1,2,   7.7860,2,    25.00,   7.7263
  35TH20020610, OVIDE,    28,  1,     18,2,20020622,2324, 58.7270, -30.6960, 1464,    146.6,   8.0330,  35.1520,2,-999.0000,9,    274.4,2,   -999.0,9,     6.35,2,    14.05,2,     0.78,2,   -999.0,9,-999.0000,9,  -999.00,   8.0181
  35TH20020610, OVIDE,    28,  1,     19,2,20020622,2324, 58.7270, -30.6960, 1464,     96.5,   8.1700,  35.1520,2,  35.1530,2,    271.1,2,   -999.0,9,     6.18,2,    13.60,2,     0.77,2,   2318.6,2,   7.8050,2,    25.00,   8.1601
  35TH20020610, OVIDE,    28,  1,     20,2,20020622,2324, 58.7270, -30.6960, 1464,     48.3,   8.8700,  35.1270,2,-999.0000,9,    287.2,2,   -999.0,9,     3.00,2,    10.46,2,     0.62,2,   -999.0,9,-999.0000,9,  -999.00,   8.8648
  35TH20020610, OVIDE,    28,  1,     21,2,20020622,2324, 58.7270, -30.6960, 1464,      5.9,  10.0390,  35.1300,2,  35.1450,3,    283.1,2,    284.3,2,     1.36,2,     6.64,2,     0.47,2,   2317.2,2,   7.9110,2,    25.00,  10.0383
  35TH20020610, OVIDE,    29,  1,      3,2,20020622,0223, 58.5500, -30.3650, 1716,   1706.1,   3.5820,  34.9610,2,  34.9610,2,    275.0,2,    273.5,2,    10.45,2,    16.56,2,     0.96,2,   -999.0,9,   7.7300,2,    25.00,   3.4481
  35TH20020610, OVIDE,    29,  1,      4,2,20020622,0223, 58.5500, -30.3650, 1716,   1645.6,   3.6190,  34.9620,2,-999.0000,9,    275.5,2,   -999.0,9,    10.48,2,    16.78,2,     0.96,2,   -999.0,9,-999.0000,9,  -999.00,   3.4901
  35TH20020610, OVIDE,    29,  1,      5,2,20020622,0223, 58.5500, -30.3650, 1716,   1594.7,   3.6290,  34.9590,2,  34.9600,2,    275.2,2,    273.3,2,    10.48,2,    16.78,2,     0.96,2,   -999.0,9,   7.7300,2,    25.00,   3.5046
  35TH20020610, OVIDE,    29,  1,      6,2,20020622,0223, 58.5500, -30.3650, 1716,   1542.9,   3.6290,  34.9590,2,-999.0000,9,    275.4,2,   -999.0,9,    10.48,2,    16.67,2,     0.96,2,   -999.0,9,-999.0000,9,  -999.00,   3.5092
  35TH20020610, OVIDE,    29,  1,      7,2,20020622,0223, 58.5500, -30.3650, 1716,   1495.5,   3.6170,  34.9590,2,  34.9580,2,    275.2,2,    273.6,2,    10.45,2,    16.62,2,     0.96,2,   -999.0,9,-999.0000,9,  -999.00,   3.5015
  35TH20020610, OVIDE,    29,  1,      8,2,20020622,0223, 58.5500, -30.3650, 1716,   1445.4,   3.6170,  34.9570,2,-999.0000,9,    274.8,2,   -999.0,9,    10.41,2,    16.78,2,     0.96,2,   -999.0,9,-999.0000,9,  -999.00,   3.5060
  35TH20020610, OVIDE,    29,  1,      9,2,20020622,0223, 58.5500, -30.3650, 1716,   1395.7,   3.7080,  34.9670,2,  34.9710,2,    273.8,2,    271.5,2,    10.34,2,    16.73,2,     0.96,2,   -999.0,9,   7.7300,2,    25.00,   3.6003
  35TH20020610, OVIDE,    29,  1,     10,2,20020622,0223, 58.5500, -30.3650, 1716,   1196.1,   3.9380,  34.9650,2,-999.0000,9,    269.7,2,   -999.0,9,     9.65,3,    16.51,3,     0.95,3,   -999.0,9,-999.0000,9,  -999.00,   3.8454
  35TH20020610, OVIDE,    29,  1,     11,2,20020622,0223, 58.5500, -30.3650, 1716,   1196.3,   3.9470,  34.9630,2,  34.9640,2,    269.7,2,    268.7,2,    10.45,2,    16.95,2,     0.98,2,   -999.0,9,   7.7290,2,    25.00,   3.8543
  35TH20020610, OVIDE,    29,  1,     12,2,20020622,0223, 58.5500, -30.3650, 1716,   1096.5,   4.1850,  34.9730,2,-999.0000,9,    265.6,2,   -999.0,9,    10.41,2,    17.06,2,     0.98,2,   -999.0,9,-999.0000,9,  -999.00,   4.0988
  35TH20020610, OVIDE,    29,  1,     13,2,20020622,0223, 58.5500, -30.3650, 1716,    995.7,   4.8110,  35.0190,2,  35.0190,2,    256.9,2,    255.8,2,    10.07,2,    17.12,2,     0.96,2,   -999.0,9,   7.7290,2,    25.00,   4.7287
  35TH20020610, OVIDE,    29,  1,     14,2,20020622,0223, 58.5500, -30.3650, 1716,    896.2,   5.4020,  35.0570,2,-999.0000,9,    252.1,2,   -999.0,9,     9.79,2,    16.73,2,     0.96,2,   -999.0,9,-999.0000,9,  -999.00,   5.3245
  35TH20020610, OVIDE,    29,  1,     15,2,20020622,0223, 58.5500, -30.3650, 1716,    796.2,   6.1110,  35.0940,2,  35.0950,2,    248.7,2,    245.8,2,     9.65,3,    17.12,2,     1.00,3,   -999.0,9,   7.7420,2,    25.00,   6.0384
  35TH20020610, OVIDE,    29,  1,     16,2,20020622,0223, 58.5500, -30.3650, 1716,    696.8,   6.4800,  35.0910,2,-999.0000,9,    246.8,2,   -999.0,9,     9.24,2,    17.12,2,     0.95,2,   -999.0,9,-999.0000,9,  -999.00,   6.4150
  35TH20020610, OVIDE,    29,  1,     17,2,20020622,0223, 58.5500, -30.3650, 1716,    594.5,   6.9470,  35.1060,2,  35.1070,2,    252.6,2,    247.4,2,     8.79,2,    16.84,2,     0.95,2,   -999.0,9,   7.7520,2,    25.00,   6.8898
  35TH20020610, OVIDE,    29,  1,     18,2,20020622,0223, 58.5500, -30.3650, 1716,    496.8,   7.4700,  35.1670,2,-999.0000,9,    265.8,2,   -999.0,9,     7.31,2,    15.16,2,     0.86,2,   -999.0,9,-999.0000,9,  -999.00,   7.4206
  35TH20020610, OVIDE,    29,  1,     19,2,20020622,0223, 58.5500, -30.3650, 1716,    494.9,   7.4790,  35.1660,2,  35.1680,2,    266.2,2,    264.6,2,     7.24,2,    15.00,2,     0.83,2,   -999.0,9,   7.7800,2,    25.00,   7.4297
  35TH20020610, OVIDE,    29,  1,     20,2,20020622,0223, 58.5500, -30.3650, 1716,    396.2,   7.5590,  35.1520,2,-999.0000,9,    267.5,2,   -999.0,9,     7.14,2,    14.89,2,     0.82,2,   -999.0,9,-999.0000,9,  -999.00,   7.5196
  35TH20020610, OVIDE,    29,  1,     21,2,20020622,0223, 58.5500, -30.3650, 1716,    296.3,   7.7460,  35.1370,2,  35.1420,3,    264.6,2,    261.9,2,     7.21,2,    14.78,2,     0.82,2,   -999.0,9,   7.7840,2,    25.00,   7.7163
  35TH20020610, OVIDE,    29,  1,     22,2,20020622,0223, 58.5500, -30.3650, 1716,    196.9,   8.0870,  35.1540,2,  35.1660,3,    272.2,2,    270.8,2,     6.38,2,    13.44,2,     0.75,2,   -999.0,9,   7.8040,2,    25.00,   8.0669
  35TH20020610, OVIDE,    29,  1,     23,2,20020622,0223, 58.5500, -30.3650, 1716,    147.2,   8.2040,  35.1490,2,  35.1410,3,    270.5,2,    268.0,2,     6.58,3,    13.60,2,     0.75,2,   -999.0,9,   7.7980,2,    25.00,   8.1889
  35TH20020610, OVIDE,    29,  1,     24,2,20020622,0223, 58.5500, -30.3650, 1716,     96.8,   8.4120,  35.1520,2,  35.1520,2,    271.6,2,    268.2,2,     6.34,2,    13.27,2,     0.72,2,   -999.0,9,   7.8000,2,    25.00,   8.4019
  35TH20020610, OVIDE,    29,  1,     25,2,20020622,0223, 58.5500, -30.3650, 1716,     47.3,   8.8160,  35.1590,2,  35.1670,3,    284.0,2,    271.0,3,     5.48,2,    11.71,2,     0.68,2,   -999.0,9,   7.8180,2,    25.00,   8.8110
  35TH20020610, OVIDE,    29,  1,     26,2,20020622,0223, 58.5500, -30.3650, 1716,      4.3,   9.9630,  35.1160,2,  35.1190,2,    280.3,2,    285.5,2,     1.52,2,     6.32,2,     0.42,2,   -999.0,9,   7.9050,2,    25.00,   9.9625
  35TH20020610, OVIDE,    30,  1,      3,2,20020622,0537, 58.4100, -30.1020, 2205,   2194.6,   3.2580,  34.9810,2,  34.9840,2,    276.3,2,    274.2,2,    10.67,2,    16.32,2,     0.94,2,   2309.0,2,   7.7300,2,    25.00,   3.0830
  35TH20020610, OVIDE,    30,  1,      4,2,20020622,0537, 58.4100, -30.1020, 2205,   2188.0,   3.2570,  34.9800,2,-999.0000,9,    276.3,2,   -999.0,9,    10.81,2,    16.32,2,     0.94,2,   2309.3,2,   7.7300,2,    25.00,   3.0827
  35TH20020610, OVIDE,    30,  1,      5,2,20020622,0537, 58.4100, -30.1020, 2205,   2146.2,   3.2580,  34.9800,2,-999.0000,9,    276.4,2,   -999.0,9,    10.77,2,    16.21,2,     0.94,2,   2307.2,2,   7.7310,2,    25.00,   3.0877
  35TH20020610, OVIDE,    30,  1,      6,2,20020622,0537, 58.4100, -30.1020, 2205,   2095.7,   3.2550,  34.9800,2,  34.9800,2,    276.5,2,    277.8,2,    10.74,2,    16.32,2,     0.94,2,   2306.4,2,   7.7320,2,    25.00,   3.0895
  35TH20020610, OVIDE,    30,  1,      7,2,20020622,0537, 58.4100, -30.1020, 2205,   2046.0,   3.2640,  34.9800,2,-999.0000,9,    276.3,2,   -999.0,9,    10.70,2,    16.10,2,     0.96,2,   -999.0,9,-999.0000,9,  -999.00,   3.1030
  35TH20020610, OVIDE,    30,  1,      8,2,20020622,0537, 58.4100, -30.1020, 2205,   1995.6,   3.2660,  34.9800,2,  34.9780,2,    276.9,2,    274.6,2,    10.63,2,    16.26,2,     0.94,2,   2305.8,2,   7.7310,2,    25.00,   3.1097
  35TH20020610, OVIDE,    30,  1,      9,2,20020622,0537, 58.4100, -30.1020, 2205,   1895.8,   3.2960,  34.9790,2,-999.0000,9,    276.4,2,   -999.0,9,    10.56,2,    16.37,2,     0.94,2,   -999.0,9,-999.0000,9,  -999.00,   3.1485
  35TH20020610, OVIDE,    30,  1,     10,2,20020622,0537, 58.4100, -30.1020, 2205,   1795.6,   3.3060,  34.9770,2,  35.0090,3,    276.3,2,    272.1,2,     9.58,3,    15.93,2,     0.92,3,   2305.6,3,-999.0000,9,  -999.00,   3.1675
  35TH20020610, OVIDE,    30,  1,     11,2,20020622,0537, 58.4100, -30.1020, 2205,   1696.1,   3.3630,  34.9750,2,-999.0000,9,    276.4,2,   -999.0,9,    10.39,2,    16.21,2,     0.95,2,   -999.0,9,-999.0000,9,  -999.00,   3.2327
  35TH20020610, OVIDE,    30,  1,     12,2,20020622,0537, 58.4100, -30.1020, 2205,   1596.8,   3.4840,  34.9670,2,  34.9670,2,    276.7,2,    276.0,2,    10.25,2,    16.65,2,     0.96,2,   2305.2,2,   7.7300,2,    25.00,   3.3611
  35TH20020610, OVIDE,    30,  1,     13,2,20020622,0537, 58.4100, -30.1020, 2205,   1395.6,   3.7270,  34.9530,2,  34.9520,2,    273.9,2,    272.6,2,    10.21,2,    17.15,2,     0.97,2,   2303.7,2,   7.7280,2,    25.00,   3.6191
  35TH20020610, OVIDE,    30,  1,     14,2,20020622,0537, 58.4100, -30.1020, 2205,   1195.3,   3.8530,  34.9310,2,  34.9300,2,    270.1,2,    268.3,2,    10.63,3,    17.75,2,     1.00,3,   2302.6,2,   7.7230,2,    25.00,   3.7613
  35TH20020610, OVIDE,    30,  1,     15,2,20020622,0537, 58.4100, -30.1020, 2205,    996.2,   4.4670,  34.9720,2,  34.9740,2,    257.8,2,    256.0,2,    10.39,2,    17.86,2,     1.00,2,   2306.0,2,   7.7190,2,    25.00,   4.3873
  35TH20020610, OVIDE,    30,  1,     16,2,20020622,0537, 58.4100, -30.1020, 2205,    896.0,   4.9200,  35.0130,2,  35.0150,2,    250.2,2,    249.7,2,    10.67,2,    17.86,2,     1.02,2,   2308.5,2,   7.7190,2,    25.00,   4.8458
  35TH20020610, OVIDE,    30,  1,     17,2,20020622,0537, 58.4100, -30.1020, 2205,    796.1,   5.3460,  35.0300,2,  35.0270,2,    237.3,2,    238.8,2,    11.02,2,    18.63,2,     1.04,2,   2310.1,2,   7.7170,2,    25.00,   5.2781
  35TH20020610, OVIDE,    30,  1,     18,2,20020622,0537, 58.4100, -30.1020, 2205,    695.9,   5.9550,  35.0580,2,  35.0570,2,    232.0,2,    230.5,2,    10.91,2,    18.80,2,     1.04,2,   2312.8,2,   7.7170,2,    25.00,   5.8929
  35TH20020610, OVIDE,    30,  1,     19,2,20020622,0537, 58.4100, -30.1020, 2205,    596.9,   6.7360,  35.1010,2,  35.0930,3,    244.7,2,    237.0,3,     9.69,2,    17.42,2,     0.98,2,   2314.3,2,   7.7390,2,    25.00,   6.6795
  35TH20020610, OVIDE,    30,  1,     20,2,20020622,0537, 58.4100, -30.1020, 2205,    496.9,   7.2470,  35.1310,2,  35.1300,2,    263.4,2,    261.2,2,     7.76,2,    15.60,2,     0.87,2,   2314.7,2,   7.7720,2,    25.00,   7.1984
  35TH20020610, OVIDE,    30,  1,     21,2,20020622,0537, 58.4100, -30.1020, 2205,    396.3,   7.5920,  35.1600,2,  35.1510,3,    266.8,2,    267.0,2,     7.31,2,    15.10,2,     0.83,2,   2316.1,2,   7.7780,2,    25.00,   7.5525
  35TH20020610, OVIDE,    30,  1,     22,2,20020622,0537, 58.4100, -30.1020, 2205,    297.4,   7.7550,  35.1520,2,  35.1500,2,    265.6,2,    260.5,2,     7.27,2,    14.99,2,     0.82,2,   2315.4,2,   7.7830,2,    25.00,   7.7252
  35TH20020610, OVIDE,    30,  1,     23,2,20020622,0537, 58.4100, -30.1020, 2205,    197.1,   8.0030,  35.1500,2,  35.1480,2,    265.3,2,    267.9,2,     6.64,2,    14.06,2,     0.79,2,   2317.2,2,   7.7950,2,    25.00,   7.9830
  35TH20020610, OVIDE,    30,  1,     24,2,20020622,0537, 58.4100, -30.1020, 2205,    146.7,   8.1100,  35.1480,2,  35.1480,2,    263.2,2,    269.3,3,     6.50,2,    13.67,2,     0.76,2,   2317.0,2,   7.7980,2,    25.00,   8.0950
  35TH20020610, OVIDE,    30,  1,     25,2,20020622,0537, 58.4100, -30.1020, 2205,     97.0,   8.4690,  35.1680,2,  35.1650,2,    271.5,2,    266.3,2,     6.16,2,    13.34,2,     0.71,2,   2319.4,2,   7.8030,2,    25.00,   8.4589
  35TH20020610, OVIDE,    30,  1,     26,2,20020622,0537, 58.4100, -30.1020, 2205,     46.8,   9.4220,  35.1380,2,  35.1370,2,    282.7,2,    280.5,2,     2.31,2,     9.05,2,     0.55,2,   2316.1,2,   7.8690,2,    25.00,   9.4168
  35TH20020610, OVIDE,    30,  1,     27,2,20020622,0537, 58.4100, -30.1020, 2205,      3.4,  10.2940,  35.1390,2,  35.1390,2,    276.5,2,    283.7,3,     0.91,2,     6.23,2,     0.40,2,   2317.8,2,   7.9120,2,    25.00,  10.2936