BOTTLE,20140820PRINUNIVRMK
EXPOCODE,SECT_ID,STNNBR,CASTNO,BTLNBR,BTLNBR_FLAG_W,DATE,TIME,LATITUDE,LONGITUDE,DEPTH,CTDPRS,CTDTMP,CTDSAL,CTDSAL_FLAG_W,SALNTY,SALNTY_FLAG_W,CTDOXY,CTDOXY_FLAG_W,OXYGEN,OXYGEN_FLAG_W,SILCAT,SILCAT_FLAG_W,NITRAT,NITRAT_FLAG_W,PHSPHT,PHSPHT_FLAG_W,ALKALI,ALKALI_FLAG_W,PH_SWS,PH_SWS_FLAG_W,PH_TMP,THETA
,,,,,,,,,,METERS,DBAR,ITS-90,PSS-78,,PSS-78,,UMOL/KG,,UMOL/KG,,UMOL/KG,,UMOL/KG,,UMOL/KG,,UMOL/KG,,,,DEG C,DEG C
  35TH20020610, OVIDE,    86,  1,      3,2,20020710,1210, 40.3330, -11.3410, 5195,   5184.9,   2.5340,  34.8990,2,  34.8990,2,    242.4,2,    244.5,2,    47.14,2,    22.90,2,     1.37,2,   2352.4,2,   7.7320,2,    25.00,   2.0396
  35TH20020610, OVIDE,    86,  1,      4,2,20020710,1210, 40.3330, -11.3410, 5195,   4597.6,   2.4790,  34.9010,2,  34.8990,2,    245.2,2,    244.3,2,    46.69,2,    22.85,2,     1.38,2,   2353.3,2,   7.7320,2,    25.00,   2.0604
  35TH20020610, OVIDE,    86,  1,      5,2,20020710,1210, 40.3330, -11.3410, 5195,   3997.1,   2.5030,  34.9110,2,  34.9100,2,    245.3,2,    244.0,2,    44.26,2,    22.66,2,     1.35,2,   2350.5,2,   7.7310,2,    25.00,   2.1549
  35TH20020610, OVIDE,    86,  1,      6,2,20020710,1210, 40.3330, -11.3410, 5195,   3746.5,   2.5400,  34.9180,2,-999.0000,9,    245.2,2,   -999.0,9,    43.04,2,    22.41,2,     1.33,2,   2347.9,2,   7.7310,2,    25.00,   2.2193
  35TH20020610, OVIDE,    86,  1,      7,2,20020710,1210, 40.3330, -11.3410, 5195,   3496.9,   2.5920,  34.9250,2,  34.9240,2,    245.2,2,    244.8,2,    40.94,2,    21.91,2,     1.31,2,   2344.2,2,   7.7360,2,    25.00,   2.2975
  35TH20020610, OVIDE,    86,  1,      8,2,20020710,1210, 40.3330, -11.3410, 5195,   3246.5,   2.6690,  34.9340,2,-999.0000,9,    246.6,2,   -999.0,9,    38.62,3,    21.46,2,     1.28,2,   2342.4,2,   7.7350,2,    25.00,   2.3996
  35TH20020610, OVIDE,    86,  1,      9,2,20020710,1210, 40.3330, -11.3410, 5195,   2996.7,   2.8150,  34.9500,2,  34.9480,2,    247.5,2,    247.3,2,    35.74,3,    21.16,2,     1.26,2,   2339.6,2,   7.7360,2,    25.00,   2.5685
  35TH20020610, OVIDE,    86,  1,     10,2,20020710,1210, 40.3330, -11.3410, 5195,   2746.2,   2.9840,  34.9630,2,-999.0000,9,    249.2,2,   -999.0,9,    31.98,3,    20.71,2,     1.23,2,   2336.0,2,   7.7380,2,    25.00,   2.7596
  35TH20020610, OVIDE,    86,  1,     11,2,20020710,1210, 40.3330, -11.3410, 5195,   2497.1,   3.2720,  34.9950,2,  34.9980,2,    249.8,2,    249.4,2,    28.21,3,    20.51,2,     1.20,2,   2331.6,2,   7.7410,2,    25.00,   3.0671
  35TH20020610, OVIDE,    86,  1,     12,2,20020710,1210, 40.3330, -11.3410, 5195,   2245.5,   3.5930,  35.0220,2,-999.0000,9,    252.6,2,   -999.0,9,    23.79,3,    19.86,2,     1.15,2,   2327.1,2,   7.7410,2,    25.00,   3.4075
  35TH20020610, OVIDE,    86,  1,     13,2,20020710,1210, 40.3330, -11.3410, 5195,   1945.3,   4.3040,  35.0950,2,-999.0000,9,    253.0,2,   -999.0,9,    15.88,2,    18.92,2,     1.07,2,   2323.2,2,   7.7410,2,    25.00,   4.1370
  35TH20020610, OVIDE,    86,  1,     14,2,20020710,1210, 40.3330, -11.3410, 5195,   1795.1,   4.6890,  35.1380,2,  35.1360,2,    249.0,2,    249.5,2,    13.98,2,    18.87,2,     1.06,2,   2323.9,2,   7.7420,2,    25.00,   4.5316
  35TH20020610, OVIDE,    86,  1,     15,2,20020710,1210, 40.3330, -11.3410, 5195,   1596.3,   5.6780,  35.2890,2,  35.2890,2,    236.7,2,    237.5,2,    12.63,2,    18.77,2,     1.04,2,   2333.8,2,   7.7470,2,    25.00,   5.5283
  35TH20020610, OVIDE,    86,  1,     16,2,20020710,1210, 40.3330, -11.3410, 5195,   1345.9,   9.0470,  35.8840,2,  35.8840,2,    205.6,2,    201.0,2,    10.69,2,    17.36,2,     0.92,2,   2374.5,2,   7.7810,2,    25.00,   8.8892
  35TH20020610, OVIDE,    86,  1,     17,2,20020710,1210, 40.3330, -11.3410, 5195,   1095.1,  10.5900,  36.1040,2,-999.0000,9,    185.4,2,   -999.0,9,     9.47,2,    16.96,2,     0.88,2,   2390.0,2,   7.7950,2,    25.00,  10.4510
  35TH20020610, OVIDE,    86,  1,     18,2,20020710,1210, 40.3330, -11.3410, 5195,    996.0,  10.6550,  36.0480,2,  36.0520,2,    183.3,2,    182.9,2,     9.44,2,    17.16,2,     0.88,2,   2384.0,2,   7.7930,2,    25.00,  10.5287
  35TH20020610, OVIDE,    86,  1,     19,2,20020710,1210, 40.3330, -11.3410, 5195,    896.6,  10.7230,  35.9730,2,-999.0000,9,    184.0,2,   -999.0,9,     9.13,2,    17.56,3,     0.90,2,   2377.8,2,   7.7920,2,    25.00,  10.6095
  35TH20020610, OVIDE,    86,  1,     20,2,20020710,1210, 40.3330, -11.3410, 5195,    797.0,  10.8750,  35.9250,2,-999.0000,9,    184.0,2,   -999.0,9,     8.68,2,    17.36,2,     0.90,2,   2372.3,2,   7.7910,2,    25.00,  10.7737
  35TH20020610, OVIDE,    86,  1,     21,2,20020710,1210, 40.3330, -11.3410, 5195,    695.2,  10.8770,  35.7970,2,  35.7980,2,    184.3,2,    188.7,2,     8.26,2,    17.32,2,     0.90,2,   2360.1,2,   7.7870,2,    25.00,  10.7892
  35TH20020610, OVIDE,    86,  1,     22,2,20020710,1210, 40.3330, -11.3410, 5195,    595.0,  10.9200,  35.6730,2,-999.0000,9,    194.2,2,   -999.0,9,     7.58,2,    17.22,2,     0.88,2,   2349.1,2,   7.7840,2,    25.00,  10.8451
  35TH20020610, OVIDE,    86,  1,     23,2,20020710,1210, 40.3330, -11.3410, 5195,    496.4,  10.9630,  35.5520,2,  35.5510,2,    202.9,2,    202.3,2,     6.54,2,    16.08,2,     0.82,2,   2338.9,2,   7.7890,2,    25.00,  10.9007
  35TH20020610, OVIDE,    86,  1,     24,2,20020710,1210, 40.3330, -11.3410, 5195,    396.1,  11.4430,  35.5760,2,-999.0000,9,    218.6,2,   -999.0,9,     5.15,2,    14.43,2,     0.72,2,   2338.7,2,   7.8090,2,    25.00,  11.3921
  35TH20020610, OVIDE,    86,  1,     25,2,20020710,1210, 40.3330, -11.3410, 5195,    297.0,  12.0510,  35.6290,2,  35.6300,2,    220.7,2,    222.0,2,     3.94,2,    12.34,2,     0.57,2,   2340.2,2,   7.8380,2,    25.00,  12.0117
  35TH20020610, OVIDE,    86,  1,     26,2,20020710,1210, 40.3330, -11.3410, 5195,    197.0,  12.8280,  35.7140,2,-999.0000,9,    233.3,2,   -999.0,9,     2.56,2,     8.58,2,     0.41,2,   2345.0,2,   7.8830,2,    25.00,  12.8010
  35TH20020610, OVIDE,    86,  1,     27,2,20020710,1210, 40.3330, -11.3410, 5195,    146.5,  13.2090,  35.7710,2,-999.0000,9,    238.6,2,   -999.0,9,     2.04,2,     7.06,2,     0.28,2,   2347.8,2,   7.8960,2,    25.00,  13.1885
  35TH20020610, OVIDE,    86,  1,     28,2,20020710,1210, 40.3330, -11.3410, 5195,     96.8,  13.6510,  35.8300,2,  35.8340,2,    235.0,2,    237.7,2,     1.73,2,     5.88,2,     0.25,2,   2351.7,2,   7.9050,2,    25.00,  13.6372
  35TH20020610, OVIDE,    86,  1,     29,2,20020710,1210, 40.3330, -11.3410, 5195,     47.4,  16.0530,  35.7560,2,-999.0000,9,    253.0,2,   -999.0,9,     1.18,2,     0.08,2,     0.05,2,   2347.3,2,   7.9690,2,    25.00,  16.0455
  35TH20020610, OVIDE,    86,  1,     30,2,20020710,1210, 40.3330, -11.3410, 5195,      5.0,  17.5030,  35.6720,2,  35.6720,2,    240.8,2,    246.4,2,     0.93,2,     0.08,2,     0.05,2,   2343.0,2,   7.9780,2,    25.00,  17.5022
  35TH20020610, OVIDE,    87,  1,      3,2,20020710,1739, 40.3330, -10.9040, 4938,   4928.4,   2.5040,  34.8990,2,  34.8970,2,    244.9,2,    243.2,2,    46.18,3,    22.77,2,     1.36,2,   -999.0,9,   7.7320,2,    25.00,   2.0434
  35TH20020610, OVIDE,    87,  1,      4,2,20020710,1739, 40.3330, -10.9040, 4938,   3999.8,   2.4710,  34.9080,2,  34.9180,3,    244.6,2,    243.1,2,    43.56,3,    22.66,3,     1.36,2,   -999.0,9,   7.7340,2,    25.00,   2.1235
  35TH20020610, OVIDE,    87,  1,      5,2,20020710,1739, 40.3330, -10.9040, 4938,   3496.1,   2.5510,  34.9210,2,  34.9220,2,    244.9,2,    245.6,2,    41.52,2,    22.23,3,     1.33,2,   -999.0,9,   7.7350,2,    25.00,   2.2576
  35TH20020610, OVIDE,    87,  1,      6,2,20020710,1739, 40.3330, -10.9040, 4938,   2997.1,   2.7960,  34.9500,2,  34.9500,2,    246.2,2,    246.1,2,    37.31,2,    21.58,2,     1.20,3,   -999.0,9,   7.7350,2,    25.00,   2.5498
  35TH20020610, OVIDE,    87,  1,      7,2,20020710,1739, 40.3330, -10.9040, 4938,   2496.1,   3.2430,  34.9920,2,  34.9920,2,    249.5,2,    249.9,2,    29.23,2,    20.49,2,     1.24,2,   -999.0,9,   7.7380,2,    25.00,   3.0388
  35TH20020610, OVIDE,    87,  1,      8,2,20020710,1739, 40.3330, -10.9040, 4938,   1795.8,   4.4420,  35.1040,2,  35.1040,2,    252.6,2,    251.8,2,    14.57,2,    18.88,2,     1.10,2,   -999.0,9,   7.7400,2,    25.00,   4.2879
  35TH20020610, OVIDE,    87,  1,      9,2,20020710,1739, 40.3330, -10.9040, 4938,   1196.2,  10.6000,  36.1900,2,  36.1940,2,    186.2,2,    200.3,3,     9.78,2,    15.58,2,     0.88,2,   -999.0,9,   7.8010,2,    25.00,  10.4472
  35TH20020610, OVIDE,    87,  1,     10,2,20020710,1739, 40.3330, -10.9040, 4938,    996.3,  10.0010,  35.8970,2,  35.8960,2,    189.0,2,    187.0,2,     9.82,3,    16.64,3,     0.94,3,   -999.0,9,   7.7790,2,    25.00,   9.8795
  35TH20020610, OVIDE,    87,  1,     11,2,20020710,1739, 40.3330, -10.9040, 4938,    796.0,  11.0350,  35.9720,2,  35.9730,2,    184.6,2,    182.2,2,     8.61,2,    16.22,2,     0.90,2,   -999.0,9,   7.7970,2,    25.00,  10.9329
  35TH20020610, OVIDE,    87,  1,     12,2,20020710,1739, 40.3330, -10.9040, 4938,    597.2,  11.1640,  35.7890,2,  35.7900,2,    188.7,2,    186.8,2,     7.64,2,    15.69,2,     0.89,2,   -999.0,9,   7.7910,2,    25.00,  11.0877
  35TH20020610, OVIDE,    87,  1,     13,2,20020710,1739, 40.3330, -10.9040, 4938,    396.5,  11.3460,  35.6270,2,  35.6270,2,    200.0,2,    196.8,2,     6.02,2,    14.95,2,     0.79,2,   -999.0,9,   7.7880,2,    25.00,  11.2953
  35TH20020610, OVIDE,    87,  1,     14,2,20020710,1739, 40.3330, -10.9040, 4938,    195.5,  13.2640,  35.7820,2,  35.7820,2,    233.8,2,    234.5,2,     2.49,2,     6.15,2,     0.32,2,   -999.0,9,   7.8890,2,    25.00,  13.2365
  35TH20020610, OVIDE,    87,  1,     15,2,20020710,1739, 40.3330, -10.9040, 4938,     95.7,  14.1260,  35.9260,2,  35.9260,2,    234.3,2,    236.2,2,     1.62,2,     3.90,2,     0.22,2,   -999.0,9,   7.9180,2,    25.00,  14.1120
  35TH20020610, OVIDE,    87,  1,     16,2,20020710,1739, 40.3330, -10.9040, 4938,     45.6,  17.1200,  35.9650,2,  35.9600,2,    241.1,2,    244.2,2,     1.21,2,     0.00,2,     0.04,2,   -999.0,9,   7.9760,2,    25.00,  17.1124
  35TH20020610, OVIDE,    87,  1,     17,2,20020710,1739, 40.3330, -10.9040, 4938,      5.5,  18.0400,  35.9240,2,  35.9250,2,    234.4,2,    241.2,3,     1.06,2,     0.00,2,     0.04,2,   -999.0,9,   7.9860,2,    25.00,  18.0391
  35TH20020610, OVIDE,    88,  1,      3,2,20020710,2224, 40.3340, -10.5760, 4430,   4419.6,   2.4600,  34.9020,2,  34.9010,2,    242.9,2,    243.7,2,    47.10,2,    22.92,2,     1.36,2,   2353.6,2,   7.7320,2,    25.00,   2.0635
  35TH20020610, OVIDE,    88,  1,      4,2,20020710,2224, 40.3340, -10.5760, 4430,   3996.3,   2.4620,  34.9060,2,  34.9070,2,    244.1,2,    243.0,2,    45.41,2,    22.70,2,     1.35,2,   2350.5,2,   7.7310,2,    25.00,   2.1151
  35TH20020610, OVIDE,    88,  1,      5,2,20020710,2224, 40.3340, -10.5760, 4430,   3746.3,   2.4820,  34.9120,2,  34.9120,2,    244.5,2,    243.5,2,    44.73,2,    22.53,2,     1.33,2,   2350.1,2,   7.7340,2,    25.00,   2.1629
  35TH20020610, OVIDE,    88,  1,      6,2,20020710,2224, 40.3340, -10.5760, 4430,   3497.0,   2.5330,  34.9190,2,-999.0000,9,    244.7,2,   -999.0,9,    43.03,2,    22.15,2,     1.31,2,   2348.8,2,   7.7330,2,    25.00,   2.2400
  35TH20020610, OVIDE,    88,  1,      7,2,20020710,2224, 40.3340, -10.5760, 4430,   3496.1,   2.5350,  34.9200,2,  34.9160,2,    244.7,2,    245.1,2,    42.36,2,    22.15,2,     1.32,2,   2347.5,2,   7.7340,2,    25.00,   2.2421
  35TH20020610, OVIDE,    88,  1,      8,2,20020710,2224, 40.3340, -10.5760, 4430,   3245.6,   2.6160,  34.9290,2,-999.0000,9,    245.0,2,   -999.0,9,    39.65,2,    21.93,2,     1.30,2,   2344.6,2,   7.7350,2,    25.00,   2.3479
  35TH20020610, OVIDE,    88,  1,      9,2,20020710,2224, 40.3340, -10.5760, 4430,   2995.3,   2.7520,  34.9440,2,  34.9440,2,    246.3,2,    248.2,2,    37.16,2,    21.60,2,     1.28,2,   2342.6,2,   7.7360,2,    25.00,   2.5070
  35TH20020610, OVIDE,    88,  1,     10,2,20020710,2224, 40.3340, -10.5760, 4430,   2745.1,   2.9500,  34.9660,2,-999.0000,9,    246.3,2,   -999.0,9,    33.54,2,    21.16,2,     1.23,2,   2339.4,2,   7.7380,2,    25.00,   2.7264
  35TH20020610, OVIDE,    88,  1,     11,2,20020710,2224, 40.3340, -10.5760, 4430,   2495.9,   3.2120,  34.9900,2,  34.9940,2,    248.6,2,    248.5,2,    29.03,2,    20.67,2,     1.20,2,   2333.2,2,   7.7410,2,    25.00,   3.0083
  35TH20020610, OVIDE,    88,  1,     12,2,20020710,2224, 40.3340, -10.5760, 4430,   2244.6,   3.5690,  35.0280,2,-999.0000,9,    249.2,2,   -999.0,9,    24.40,2,    20.12,2,     1.19,3,   2329.6,2,   7.7400,2,    25.00,   3.3839
  35TH20020610, OVIDE,    88,  1,     13,2,20020710,2224, 40.3340, -10.5760, 4430,   2044.3,   3.8910,  35.0550,2,  35.0540,2,    250.8,2,    250.5,2,    21.91,2,    19.19,2,     1.10,2,   2325.6,2,   7.7420,2,    25.00,   3.7205
  35TH20020610, OVIDE,    88,  1,     14,2,20020710,2224, 40.3340, -10.5760, 4430,   1795.4,   4.6890,  35.1600,2,-999.0000,9,    247.9,2,   -999.0,9,    15.43,2,    19.02,2,     1.08,2,   2328.4,2,   7.7450,2,    25.00,   4.5315
  35TH20020610, OVIDE,    88,  1,     15,2,20020710,2224, 40.3340, -10.5760, 4430,   1595.9,   5.8930,  35.3410,2,  35.3470,2,    231.7,2,    234.5,2,    12.88,2,    18.31,2,     1.03,2,   2338.3,2,   7.7520,2,    25.00,   5.7407
  35TH20020610, OVIDE,    88,  1,     16,2,20020710,2224, 40.3340, -10.5760, 4430,   1396.7,   8.8890,  35.8880,2,-999.0000,9,    201.6,2,   -999.0,9,    11.06,2,    17.20,2,     0.94,2,   2375.2,2,   7.7830,2,    25.00,   8.7263
  35TH20020610, OVIDE,    88,  1,     17,2,20020710,2224, 40.3340, -10.5760, 4430,   1197.0,  10.8700,  36.2320,2,  36.2320,2,    183.8,2,    185.0,2,     9.37,2,    15.50,2,     0.83,2,   2396.8,2,   7.8000,2,    25.00,  10.7148
  35TH20020610, OVIDE,    88,  1,     18,2,20020710,2224, 40.3340, -10.5760, 4430,    994.6,  11.1970,  36.1730,2,-999.0000,9,    180.2,2,   -999.0,9,     8.86,2,    15.94,3,     0.86,2,   2391.5,2,   7.8030,2,    25.00,  11.0670
  35TH20020610, OVIDE,    88,  1,     19,2,20020710,2224, 40.3340, -10.5760, 4430,    895.4,  11.4290,  36.1560,2,  36.1570,2,    181.9,2,    180.7,2,     8.41,2,    15.17,2,     0.83,2,   2389.3,2,   7.8040,2,    25.00,  11.3110
  35TH20020610, OVIDE,    88,  1,     20,2,20020710,2224, 40.3340, -10.5760, 4430,    796.2,  11.4550,  36.0600,2,-999.0000,9,    182.2,2,   -999.0,9,     8.03,2,    15.78,2,     0.84,2,   2380.7,2,   7.8030,2,    25.00,  11.3505
  35TH20020610, OVIDE,    88,  1,     21,2,20020710,2224, 40.3340, -10.5760, 4430,    696.1,  11.5310,  35.9630,2,  35.9590,2,    183.4,2,    183.1,2,     7.62,2,    15.45,3,     0.81,3,   2371.5,2,   7.8000,2,    25.00,  11.4397
  35TH20020610, OVIDE,    88,  1,     22,2,20020710,2224, 40.3340, -10.5760, 4430,    596.7,  10.8240,  35.6240,2,-999.0000,9,    191.8,2,   -999.0,9,     7.35,2,    16.16,2,     0.83,2,   2345.3,2,   7.7840,2,    25.00,  10.7493
  35TH20020610, OVIDE,    88,  1,     23,2,20020710,2224, 40.3340, -10.5760, 4430,    455.7,  11.2270,  35.5550,2,  35.5540,2,    213.6,2,    214.8,2,     5.29,2,    13.54,2,     0.71,2,   2337.7,2,   7.8070,2,    25.00,  11.1691
  35TH20020610, OVIDE,    88,  1,     24,2,20020710,2224, 40.3340, -10.5760, 4430,    397.1,  11.4700,  35.5700,2,-999.0000,9,    220.6,2,   -999.0,9,     4.74,2,    12.55,2,     0.66,2,   2335.9,2,   7.8190,2,    25.00,  11.4189
  35TH20020610, OVIDE,    88,  1,     25,2,20020710,2224, 40.3340, -10.5760, 4430,    296.1,  11.9960,  35.6230,2,  35.6240,2,    217.9,2,    231.5,3,     4.12,2,    11.18,2,     0.56,2,   2338.8,2,   7.8290,2,    25.00,  11.9570
  35TH20020610, OVIDE,    88,  1,     26,2,20020710,2224, 40.3340, -10.5760, 4430,    196.5,  12.9350,  35.7320,2,-999.0000,9,    226.4,2,   -999.0,9,     2.88,2,     7.74,2,     0.42,2,   2345.0,2,   7.8690,2,    25.00,  12.9079
  35TH20020610, OVIDE,    88,  1,     27,2,20020710,2224, 40.3340, -10.5760, 4430,    147.1,  13.4880,  35.8150,2,  35.8070,3,    236.4,2,    240.6,2,     2.10,2,     4.82,2,     0.23,2,   2350.2,2,   7.9030,2,    25.00,  13.4671
  35TH20020610, OVIDE,    88,  1,     28,2,20020710,2224, 40.3340, -10.5760, 4430,     96.4,  13.9960,  35.9020,2,-999.0000,9,    234.8,2,   -999.0,9,     1.72,2,     3.85,2,     0.20,2,   2356.5,2,   7.9110,2,    25.00,  13.9820
  35TH20020610, OVIDE,    88,  1,     29,2,20020710,2224, 40.3340, -10.5760, 4430,     46.0,  15.4220,  35.9190,2,-999.0000,9,    244.1,2,   -999.0,9,     1.30,2,     0.27,2,     0.06,2,   2358.6,2,   7.9550,2,    25.00,  15.4149
  35TH20020610, OVIDE,    88,  1,     30,2,20020710,2224, 40.3340, -10.5760, 4430,      5.0,  17.8210,  35.8810,2,  35.8800,2,    235.4,2,    245.7,3,     1.06,2,     0.05,2,     0.04,2,   2357.4,2,   7.9840,2,    25.00,  17.8201