BOTTLE,20140820PRINUNIVRMK
EXPOCODE,SECT_ID,STNNBR,CASTNO,BTLNBR,BTLNBR_FLAG_W,DATE,TIME,LATITUDE,LONGITUDE,DEPTH,CTDPRS,CTDTMP,CTDSAL,CTDSAL_FLAG_W,SALNTY,SALNTY_FLAG_W,CTDOXY,CTDOXY_FLAG_W,OXYGEN,OXYGEN_FLAG_W,SILCAT,SILCAT_FLAG_W,NITRAT,NITRAT_FLAG_W,PHSPHT,PHSPHT_FLAG_W,ALKALI,ALKALI_FLAG_W,PH_SWS,PH_SWS_FLAG_W,PH_TMP,THETA
,,,,,,,,,,METERS,DBAR,ITS-90,PSS-78,,PSS-78,,UMOL/KG,,UMOL/KG,,UMOL/KG,,UMOL/KG,,UMOL/KG,,UMOL/KG,,,,DEG C,DEG C
  35TH20020610, OVIDE,    70,  1,      3,2,20020706,0625, 44.0770, -17.4260, 3832,   3821.8,   2.5710,  34.9190,2,  34.9190,2,    243.4,2,    242.6,2,    43.57,2,    22.42,2,     1.33,2,   2351.0,2,   7.7310,2,    25.00,   2.2410
  35TH20020610, OVIDE,    70,  1,      4,2,20020706,0625, 44.0770, -17.4260, 3832,   3796.7,   2.5710,  34.9190,2,  34.9220,2,    243.5,2,    243.1,2,    43.46,2,    19.30,3,     1.29,2,   2350.5,2,   7.7330,2,    25.00,   2.2438
  35TH20020610, OVIDE,    70,  1,      5,2,20020706,0625, 44.0770, -17.4260, 3832,   3597.8,   2.6030,  34.9250,2,  34.9240,2,    244.8,2,    243.9,2,    42.26,2,    20.97,2,     1.25,3,   2347.7,2,   7.7310,2,    25.00,   2.2972
  35TH20020610, OVIDE,    70,  1,      6,2,20020706,0625, 44.0770, -17.4260, 3832,   3397.6,   2.6360,  34.9290,2,  34.9300,2,    246.6,2,    245.5,2,    40.63,2,    20.97,2,     1.27,2,   2345.4,2,   7.7320,2,    25.00,   2.3512
  35TH20020610, OVIDE,    70,  1,      7,2,20020706,0625, 44.0770, -17.4260, 3832,   3195.7,   2.6970,  34.9360,2,  34.9350,2,    248.6,2,    247.7,2,    39.86,2,    20.91,2,     1.24,2,   2341.3,2,   7.7330,2,    25.00,   2.4323
  35TH20020610, OVIDE,    70,  1,      8,2,20020706,0625, 44.0770, -17.4260, 3832,   2996.0,   2.8030,  34.9460,2,  34.9560,3,    251.5,2,    250.1,2,    36.27,2,    19.85,2,     1.20,2,   2339.1,2,   7.7380,2,    25.00,   2.5568
  35TH20020610, OVIDE,    70,  1,      9,2,20020706,0625, 44.0770, -17.4260, 3832,   2795.3,   2.9480,  34.9550,2,  34.9720,3,    255.0,2,    254.3,2,    32.78,2,    17.12,3,     0.91,4,   2331.5,2,   7.7390,2,    25.00,   2.7194
  35TH20020610, OVIDE,    70,  1,     10,2,20020706,0625, 44.0770, -17.4260, 3832,   2596.4,   3.1710,  34.9720,2,  34.9710,2,    256.1,2,    254.7,2,    30.39,2,    18.85,2,     1.18,2,   2327.0,2,   7.7390,2,    25.00,   2.9581
  35TH20020610, OVIDE,    70,  1,     11,2,20020706,0625, 44.0770, -17.4260, 3832,   2395.8,   3.4130,  34.9890,2,  34.9920,2,    256.4,2,    256.2,2,    23.52,2,    19.80,3,     1.16,2,   2322.8,2,   7.7370,2,    25.00,   3.2157
  35TH20020610, OVIDE,    70,  1,     12,2,20020706,0625, 44.0770, -17.4260, 3832,   2195.6,   3.6420,  34.9990,2,  35.0000,2,    262.4,2,    258.7,2,  -999.00,9,    18.40,2,     1.09,2,   2318.7,2,   7.7360,2,    25.00,   3.4607
  35TH20020610, OVIDE,    70,  1,     13,2,20020706,0625, 44.0770, -17.4260, 3832,   1995.7,   4.0580,  35.0490,2,  35.0400,3,    255.5,2,    257.1,2,    15.69,2,    18.07,2,     1.08,2,   2320.3,2,   7.7380,2,    25.00,   3.8898
  35TH20020610, OVIDE,    70,  1,     14,2,20020706,0625, 44.0770, -17.4260, 3832,   1794.7,   4.8660,  35.1670,2,  35.1680,2,    246.0,2,    248.0,2,    13.93,2,    18.01,2,     1.07,2,   2326.0,2,   7.7440,2,    25.00,   4.7062
  35TH20020610, OVIDE,    70,  1,     15,2,20020706,0625, 44.0770, -17.4260, 3832,   1596.8,   6.9180,  35.5100,2,  35.5020,3,    222.4,2,    223.5,2,    12.48,2,    17.84,2,     0.99,2,   2348.5,2,   7.7590,2,    25.00,   6.7533
  35TH20020610, OVIDE,    70,  1,     16,2,20020706,0625, 44.0770, -17.4260, 3832,   1296.0,   9.6530,  35.9320,2,  35.9380,2,    195.2,2,    192.8,2,    10.13,2,    16.16,2,     0.93,2,   2377.4,2,   7.7820,2,    25.00,   9.4958
  35TH20020610, OVIDE,    70,  1,     17,2,20020706,0625, 44.0770, -17.4260, 3832,   1130.4,  10.0840,  35.9180,2,  35.9090,3,    188.4,2,    187.5,2,     9.82,2,    15.94,2,     0.95,2,   2374.1,2,   7.7810,2,    25.00,   9.9445
  35TH20020610, OVIDE,    70,  1,     18,2,20020706,0625, 44.0770, -17.4260, 3832,    995.7,  10.0330,  35.7690,2,  35.7840,3,    186.9,2,    186.2,2,     9.51,3,    14.66,3,     0.90,2,   2361.7,2,   7.7760,2,    25.00,   9.9115
  35TH20020610, OVIDE,    70,  1,     19,2,20020706,0625, 44.0770, -17.4260, 3832,    906.1,  10.7410,  35.8540,2,  35.8580,2,    186.5,2,    184.4,2,     8.68,2,    13.26,3,     0.69,4,   2365.4,2,   7.7870,2,    25.00,  10.6263
  35TH20020610, OVIDE,    70,  1,     20,2,20020706,0625, 44.0770, -17.4260, 3832,    796.6,   9.9050,  35.5130,2,  35.5150,2,    193.8,2,    189.0,2,     9.03,3,    17.73,2,     0.99,3,   2339.9,2,   7.7600,2,    25.00,   9.8097
  35TH20020610, OVIDE,    70,  1,     21,2,20020706,0625, 44.0770, -17.4260, 3832,    696.2,  10.2690,  35.4840,2,  35.4860,2,    202.7,2,    197.3,2,     7.93,3,    15.94,2,     0.96,3,   2336.0,2,   7.7690,2,    25.00,  10.1843
  35TH20020610, OVIDE,    70,  1,     22,2,20020706,0625, 44.0770, -17.4260, 3832,    596.6,  10.7610,  35.4960,2,  35.4990,2,    213.0,2,    210.4,2,     6.31,2,    14.49,2,     0.85,2,   2334.8,2,   7.7920,2,    25.00,  10.6867
  35TH20020610, OVIDE,    70,  1,     23,2,20020706,0625, 44.0770, -17.4260, 3832,    496.5,  11.3000,  35.5520,2,  35.5550,2,    221.9,2,    218.2,2,     5.10,2,    12.43,2,     0.75,2,   2335.8,2,   7.8120,2,    25.00,  11.2365
  35TH20020610, OVIDE,    70,  1,     24,2,20020706,0625, 44.0770, -17.4260, 3832,    396.5,  11.6490,  35.5750,2,  35.5770,2,    230.2,2,    228.8,2,     4.34,2,    11.04,2,     0.66,2,   2337.3,2,   7.8340,2,    25.00,  11.5975
  35TH20020610, OVIDE,    70,  1,     25,2,20020706,0625, 44.0770, -17.4260, 3832,    297.2,  12.2250,  35.6430,2,  35.6410,2,    233.5,2,    231.2,2,     3.93,2,     9.55,2,     0.60,2,   2340.1,2,   7.8540,2,    25.00,  12.1853
  35TH20020610, OVIDE,    70,  1,     26,2,20020706,0625, 44.0770, -17.4260, 3832,    196.0,  12.9170,  35.7560,2,  35.7530,2,    245.7,2,    243.6,2,     3.10,2,     6.78,2,     0.43,2,   2346.4,2,   7.8920,2,    25.00,  12.8900
  35TH20020610, OVIDE,    70,  1,     27,2,20020706,0625, 44.0770, -17.4260, 3832,    147.2,  13.1010,  35.7570,2,  35.7590,2,    245.5,2,    244.0,2,     2.45,2,     4.82,2,     0.35,2,   2346.8,2,   7.8980,2,    25.00,  13.0805
  35TH20020610, OVIDE,    70,  1,     28,2,20020706,0625, 44.0770, -17.4260, 3832,     97.1,  13.7510,  35.8090,2,  35.8070,2,    244.8,2,    245.1,2,     1.79,2,     3.92,2,     0.26,2,   2350.0,2,   7.9190,2,    25.00,  13.7371
  35TH20020610, OVIDE,    70,  1,     29,2,20020706,0625, 44.0770, -17.4260, 3832,     47.5,  15.3180,  35.8110,2,  35.8120,2,    255.3,2,    252.8,2,     1.21,2,     0.11,2,     0.06,2,   2351.0,2,   7.9630,2,    25.00,  15.3107
  35TH20020610, OVIDE,    70,  1,     30,2,20020706,0625, 44.0770, -17.4260, 3832,      8.6,  16.3240,  35.8220,2,  35.8240,2,    241.1,2,    250.8,3,     1.10,2,     0.00,2,     0.06,2,   2354.9,2,   7.9710,2,    25.00,  16.3226
  35TH20020610, OVIDE,    71,  1,      3,2,20020706,1133, 43.7780, -17.0320, 4068,   4058.4,   2.5710,  34.9160,2,  34.9150,2,    242.5,2,    241.8,2,    43.73,2,    22.38,2,     1.32,2,   -999.0,9,   7.7290,2,    25.00,   2.2139
  35TH20020610, OVIDE,    71,  1,      4,2,20020706,1133, 43.7780, -17.0320, 4068,   3746.7,   2.6060,  34.9230,2,  34.9230,2,    245.4,2,    243.5,2,    41.79,2,    22.10,2,     1.32,2,   -999.0,9,   7.7320,2,    25.00,   2.2835
  35TH20020610, OVIDE,    71,  1,      5,2,20020706,1133, 43.7780, -17.0320, 4068,   3748.1,   2.6060,  34.9230,2,  34.9260,2,    245.5,2,    243.8,2,    41.68,2,    22.10,2,     1.30,2,   -999.0,9,   7.7290,2,    25.00,   2.2833
  35TH20020610, OVIDE,    71,  1,      6,2,20020706,1133, 43.7780, -17.0320, 4068,   3495.9,   2.6550,  34.9300,2,  34.9290,2,    246.6,2,    246.2,2,    39.32,2,    21.87,2,     1.30,2,   -999.0,9,   7.7330,2,    25.00,   2.3590
  35TH20020610, OVIDE,    71,  1,      7,2,20020706,1133, 43.7780, -17.0320, 4068,   3248.3,   2.7350,  34.9390,2,  34.9370,2,    249.4,2,    248.5,2,    36.30,2,    21.20,2,     1.27,2,   -999.0,9,   7.7350,2,    25.00,   2.4638
  35TH20020610, OVIDE,    71,  1,      8,2,20020706,1133, 43.7780, -17.0320, 4068,   2996.1,   2.9090,  34.9530,2,  34.9610,3,    252.5,2,    251.3,2,    31.13,2,    20.42,2,     1.23,2,   -999.0,9,   7.7380,2,    25.00,   2.6605
  35TH20020610, OVIDE,    71,  1,      9,2,20020706,1133, 43.7780, -17.0320, 4068,   2745.6,   3.1100,  34.9630,2,  34.9720,3,    258.8,2,    255.7,2,    26.17,2,    19.63,2,     1.17,2,   -999.0,9,   7.7400,2,    25.00,   2.8832
  35TH20020610, OVIDE,    71,  1,     10,2,20020706,1133, 43.7780, -17.0320, 4068,   2495.6,   3.4130,  34.9850,2,  34.9850,2,    257.4,2,    256.0,2,    23.80,3,    19.46,3,     1.15,3,   -999.0,9,   7.7390,2,    25.00,   3.2057
  35TH20020610, OVIDE,    71,  1,     11,2,20020706,1133, 43.7780, -17.0320, 4068,   2346.2,   3.5220,  34.9810,2,  34.9800,2,    262.1,2,    261.1,2,    19.82,2,    18.73,2,     1.12,2,   -999.0,9,   7.7400,2,    25.00,   3.3278
  35TH20020610, OVIDE,    71,  1,     12,2,20020706,1133, 43.7780, -17.0320, 4068,   2220.8,   3.8130,  35.0130,2,  35.0130,2,    260.8,2,    257.5,2,    16.07,2,    18.79,2,     1.10,2,   -999.0,9,   7.7400,2,    25.00,   3.6263
  35TH20020610, OVIDE,    71,  1,     13,2,20020706,1133, 43.7780, -17.0320, 4068,   2096.1,   3.9400,  35.0130,2,  35.0100,2,    262.4,2,    260.9,2,    13.93,3,    18.51,2,     1.09,2,   -999.0,9,   7.7390,2,    25.00,   3.7638
  35TH20020610, OVIDE,    71,  1,     14,2,20020706,1133, 43.7780, -17.0320, 4068,   1846.6,   4.7390,  35.1240,2,  35.1120,3,    253.4,2,    253.3,2,    12.55,2,    18.45,2,     1.09,2,   -999.0,9,   7.7400,2,    25.00,   4.5758
  35TH20020610, OVIDE,    71,  1,     15,2,20020706,1133, 43.7780, -17.0320, 4068,   1545.9,   6.6130,  35.3900,2,  35.3920,2,    223.6,2,    236.3,3,    11.20,2,    18.16,2,     1.02,2,   -999.0,9,   7.7530,2,    25.00,   6.4578
  35TH20020610, OVIDE,    71,  1,     16,2,20020706,1133, 43.7780, -17.0320, 4068,   1396.0,   7.3180,  35.4580,2,  35.4830,3,    208.0,2,    212.2,2,    10.76,2,    18.22,2,     1.03,2,   -999.0,9,   7.7510,2,    25.00,   7.1719
  35TH20020610, OVIDE,    71,  1,     17,2,20020706,1133, 43.7780, -17.0320, 4068,   1245.8,  10.1360,  35.9990,2,  35.9980,2,    187.9,2,    189.1,2,     9.37,2,    16.70,2,     0.93,2,   -999.0,9,   7.7900,2,    25.00,   9.9809
  35TH20020610, OVIDE,    71,  1,     18,2,20020706,1133, 43.7780, -17.0320, 4068,   1046.1,  10.9160,  36.0680,2,  36.0680,2,    185.3,2,    183.1,2,     8.61,2,    16.48,2,     0.91,2,   -999.0,9,   7.8010,2,    25.00,  10.7811
  35TH20020610, OVIDE,    71,  1,     19,2,20020706,1133, 43.7780, -17.0320, 4068,    895.9,  11.0860,  35.9590,2,  35.9580,2,    185.8,2,    183.6,2,     7.99,2,    15.86,2,     0.90,2,   -999.0,9,   7.7940,2,    25.00,  10.9703
  35TH20020610, OVIDE,    71,  1,     20,2,20020706,1133, 43.7780, -17.0320, 4068,    795.6,  10.9190,  35.8100,2,  35.8150,2,    189.3,2,    187.7,2,     7.65,2,    16.25,2,     0.85,3,   -999.0,9,   7.7860,2,    25.00,  10.8178
  35TH20020610, OVIDE,    71,  1,     21,2,20020706,1133, 43.7780, -17.0320, 4068,    697.7,  10.8270,  35.6460,2,  35.6470,2,    195.8,2,    193.7,2,     7.03,2,    16.14,2,     0.88,2,   -999.0,9,   7.7770,2,    25.00,  10.7392
  35TH20020610, OVIDE,    71,  1,     22,2,20020706,1133, 43.7780, -17.0320, 4068,    596.3,  10.8360,  35.5170,2,  35.5170,2,    205.9,2,    207.2,2,     6.07,2,    15.14,2,     0.81,2,   -999.0,9,   7.7840,2,    25.00,  10.7614
  35TH20020610, OVIDE,    71,  1,     23,2,20020706,1133, 43.7780, -17.0320, 4068,    496.4,  11.2980,  35.5460,2,  35.5460,2,    214.0,2,    216.6,2,     4.79,2,    13.17,2,     0.70,2,   -999.0,9,   7.8110,2,    25.00,  11.2345
  35TH20020610, OVIDE,    71,  1,     24,2,20020706,1133, 43.7780, -17.0320, 4068,    397.6,  11.8840,  35.5920,2,  35.5890,2,    225.4,2,    229.6,2,     3.93,2,    10.76,2,     0.61,2,   -999.0,9,   7.8450,2,    25.00,  11.8317
  35TH20020610, OVIDE,    71,  1,     25,2,20020706,1133, 43.7780, -17.0320, 4068,    298.8,  12.6230,  35.7110,2,  35.7110,2,    239.0,2,    241.9,2,     3.00,2,     8.30,2,     0.48,2,   -999.0,9,   7.8810,2,    25.00,  12.5822
  35TH20020610, OVIDE,    71,  1,     26,2,20020706,1133, 43.7780, -17.0320, 4068,    197.0,  13.1270,  35.8000,2,  35.8000,2,    245.3,2,    247.7,2,     2.48,2,     6.80,2,     0.40,2,   -999.0,9,   7.9010,2,    25.00,  13.0995
  35TH20020610, OVIDE,    71,  1,     27,2,20020706,1133, 43.7780, -17.0320, 4068,    146.7,  13.1970,  35.8120,2,  35.8140,2,    246.0,2,    246.2,2,     2.48,2,     6.74,2,     0.40,2,   -999.0,9,   7.9020,2,    25.00,  13.1765
  35TH20020610, OVIDE,    71,  1,     28,2,20020706,1133, 43.7780, -17.0320, 4068,     96.5,  13.7940,  35.8270,2,  35.8260,2,    245.5,2,    244.2,2,     1.65,2,     5.08,2,     0.28,2,   -999.0,9,   7.9160,2,    25.00,  13.7801
  35TH20020610, OVIDE,    71,  1,     29,2,20020706,1133, 43.7780, -17.0320, 4068,     47.3,  16.0160,  35.8460,2,  35.8460,2,    247.3,2,    256.0,3,     0.62,2,     0.05,2,     0.07,2,   -999.0,9,   7.9890,2,    25.00,  16.0085
  35TH20020610, OVIDE,    71,  1,     30,2,20020706,1133, 43.7780, -17.0320, 4068,      4.6,  16.1970,  35.8450,2,  35.8460,2,    247.4,2,    254.7,3,     0.48,2,     0.00,2,     0.06,2,   -999.0,9,   7.9850,2,    25.00,  16.1963
  35TH20020610, OVIDE,    72,  1,      3,2,20020706,1655, 43.4790, -16.6390, 4242,   4232.3,   2.5820,  34.9160,2,  34.9140,2,    245.2,2,    243.9,2,    42.66,2,    21.83,3,     1.28,2,   2350.8,2,   7.7290,2,    25.00,   2.2042
  35TH20020610, OVIDE,    72,  1,      4,2,20020706,1655, 43.4790, -16.6390, 4242,   3997.1,   2.6050,  34.9200,2,  34.9200,2,    245.4,2,    243.5,2,    41.36,2,    21.31,3,     1.28,2,   2350.0,2,   7.7290,2,    25.00,   2.2540
  35TH20020610, OVIDE,    72,  1,      5,2,20020706,1655, 43.4790, -16.6390, 4242,   3745.7,   2.6220,  34.9250,2,  34.9250,2,    245.9,2,    244.0,2,    39.96,2,    21.19,3,     1.29,2,   2348.1,2,   7.7310,2,    25.00,   2.2992
  35TH20020610, OVIDE,    72,  1,      6,2,20020706,1655, 43.4790, -16.6390, 4242,   3496.6,   2.6850,  34.9320,2,  34.9330,2,    248.3,2,    246.0,2,    37.16,2,    19.11,3,     1.27,2,   2344.5,2,   7.7320,2,    25.00,   2.3882
  35TH20020610, OVIDE,    72,  1,      7,2,20020706,1655, 43.4790, -16.6390, 4242,   3246.3,   2.7880,  34.9430,2,  34.9420,2,    251.0,2,    249.0,2,    34.25,2,    21.77,3,     1.24,2,   2339.2,2,   7.7340,2,    25.00,   2.5158
  35TH20020610, OVIDE,    72,  1,      8,2,20020706,1655, 43.4790, -16.6390, 4242,   2995.8,   2.9610,  34.9570,2,  34.9590,2,    254.0,2,    251.6,2,    29.94,2,    21.36,3,     1.31,3,   2333.6,2,   7.7380,2,    25.00,   2.7114
  35TH20020610, OVIDE,    72,  1,      9,2,20020706,1655, 43.4790, -16.6390, 4242,   2747.2,   3.1660,  34.9700,2,  34.9680,2,    257.6,2,    254.3,2,    26.17,2,    20.73,3,     1.15,2,   2328.8,2,   7.7370,2,    25.00,   2.9379
  35TH20020610, OVIDE,    72,  1,     10,2,20020706,1655, 43.4790, -16.6390, 4242,   2496.5,   3.3460,  34.9640,2,  34.9640,2,    264.9,2,    261.7,2,    20.36,2,    15.76,3,     1.12,2,   2319.4,2,   7.7360,2,    25.00,   3.1400
  35TH20020610, OVIDE,    72,  1,     11,2,20020706,1655, 43.4790, -16.6390, 4242,   2245.1,   3.6320,  34.9760,2,  34.9760,2,    266.2,2,    263.3,2,    15.13,2,    16.92,3,     1.09,2,   2313.8,2,   7.7370,2,    25.00,   3.4460
  35TH20020610, OVIDE,    72,  1,     12,2,20020706,1655, 43.4790, -16.6390, 4242,   1946.6,   3.9000,  34.9660,2,  34.9720,2,    270.9,2,    265.8,2,    11.88,2,    17.38,3,     1.10,2,   2309.3,2,   7.7320,2,    25.00,   3.7391
  35TH20020610, OVIDE,    72,  1,     13,2,20020706,1655, 43.4790, -16.6390, 4242,   1795.6,   4.3530,  35.0270,2,  35.0240,2,    259.9,2,    257.8,2,    11.81,2,    16.80,3,     1.07,2,   2313.8,2,   7.7320,2,    25.00,   4.2004
  35TH20020610, OVIDE,    72,  1,     14,2,20020706,1655, 43.4790, -16.6390, 4242,   1597.1,   6.1090,  35.2980,2,  35.2990,2,    236.8,2,    231.4,2,    11.50,2,    16.74,3,     1.04,2,   2332.8,2,   7.7410,2,    25.00,   5.9541
  35TH20020610, OVIDE,    72,  1,     15,2,20020706,1655, 43.4790, -16.6390, 4242,   1395.4,   8.5440,  35.7140,2,  35.7280,3,    208.0,2,    202.7,2,    10.47,2,    16.16,3,     0.99,2,   2361.3,2,   7.7700,2,    25.00,   8.3852
  35TH20020610, OVIDE,    72,  1,     16,2,20020706,1655, 43.4790, -16.6390, 4242,   1196.0,  10.5210,  36.0480,2,  36.0490,2,    186.9,2,    185.6,2,     9.20,2,    14.60,3,     0.91,2,   2383.1,2,   7.7930,2,    25.00,  10.3691
  35TH20020610, OVIDE,    72,  1,     17,2,20020706,1655, 43.4790, -16.6390, 4242,   1096.6,  10.8730,  36.0750,2,  36.0730,2,    185.3,2,    182.7,2,     8.90,2,    14.60,3,     0.93,2,   2384.2,2,   7.7960,2,    25.00,  10.7316
  35TH20020610, OVIDE,    72,  1,     18,2,20020706,1655, 43.4790, -16.6390, 4242,    997.3,  11.0190,  36.0410,2,  36.0410,2,    184.4,2,    182.9,2,     8.62,2,    14.89,3,     0.88,2,   2380.3,2,   7.7980,2,    25.00,  10.8900
  35TH20020610, OVIDE,    72,  1,     19,2,20020706,1655, 43.4790, -16.6390, 4242,    897.4,  11.0660,  35.9540,2,  35.9540,2,    183.1,2,    183.8,2,     8.21,2,    14.37,3,     0.91,2,   2372.4,2,   7.7950,2,    25.00,  10.9502
  35TH20020610, OVIDE,    72,  1,     20,2,20020706,1655, 43.4790, -16.6390, 4242,    796.0,  10.9550,  35.8330,2,  35.8320,2,    186.5,2,    186.5,2,     8.01,2,    14.37,3,     0.93,2,   2362.2,2,   7.7880,2,    25.00,  10.8535
  35TH20020610, OVIDE,    72,  1,     21,2,20020706,1655, 43.4790, -16.6390, 4242,    695.7,  10.8650,  35.6800,2,  35.6820,2,    195.0,2,    191.6,2,     7.46,2,    14.43,3,     0.91,2,   2349.7,2,   7.7840,2,    25.00,  10.7773
  35TH20020610, OVIDE,    72,  1,     22,2,20020706,1655, 43.4790, -16.6390, 4242,    596.1,  10.8210,  35.5430,2,-999.0000,9,    203.6,2,    203.3,2,     6.64,2,    14.78,3,     0.88,2,   2337.5,2,   7.7860,2,    25.00,  10.7465
  35TH20020610, OVIDE,    72,  1,     23,2,20020706,1655, 43.4790, -16.6390, 4242,    496.4,  11.2090,  35.5370,2,  35.5360,2,    216.2,2,    217.4,2,     5.24,2,    11.60,3,     0.71,2,   2335.9,2,   7.8090,2,    25.00,  11.1458
  35TH20020610, OVIDE,    72,  1,     24,2,20020706,1655, 43.4790, -16.6390, 4242,    396.9,  11.5920,  35.5490,2,  35.5480,2,    231.0,2,    226.7,2,     5.17,2,    12.00,3,     0.66,2,   2335.8,2,   7.8360,2,    25.00,  11.5406
  35TH20020610, OVIDE,    72,  1,     25,2,20020706,1655, 43.4790, -16.6390, 4242,    297.7,  12.4130,  35.6820,2,  35.6820,2,    237.3,2,    238.0,2,     4.04,2,     8.59,3,     0.54,2,   2343.7,2,   7.8720,2,    25.00,  12.3729
  35TH20020610, OVIDE,    72,  1,     26,2,20020706,1655, 43.4790, -16.6390, 4242,    197.0,  13.0860,  35.7940,2,  35.7930,2,    242.2,2,    241.4,2,     3.35,2,     7.26,3,     0.44,2,   2350.5,2,   7.8920,2,    25.00,  13.0586
  35TH20020610, OVIDE,    72,  1,     27,2,20020706,1655, 43.4790, -16.6390, 4242,    146.5,  13.5210,  35.8620,2,  35.8600,2,    241.9,2,    239.3,2,     3.08,2,     7.16,3,     0.41,2,   2355.1,2,   7.9030,2,    25.00,  13.5002
  35TH20020610, OVIDE,    72,  1,     28,2,20020706,1655, 43.4790, -16.6390, 4242,     97.0,  13.7450,  35.8580,2,  35.8600,2,    243.5,2,    244.4,2,     2.46,2,     6.31,3,     0.37,2,   2354.8,2,   7.9200,2,    25.00,  13.7311
  35TH20020610, OVIDE,    72,  1,     29,2,20020706,1655, 43.4790, -16.6390, 4242,     45.9,  14.2480,  35.8400,2,  35.8430,2,    259.0,2,    248.6,3,     2.50,2,     4.05,3,     0.28,2,   2357.0,2,   7.9350,2,    25.00,  14.2413
  35TH20020610, OVIDE,    72,  1,     30,2,20020706,1655, 43.4790, -16.6390, 4242,      6.5,  16.2690,  35.8180,2,  35.8180,2,    251.7,2,    260.0,3,     1.10,2,     0.05,3,     0.09,2,   2355.0,2,   7.9860,2,    25.00,  16.2680