BOTTLE,20140820PRINUNIVRMK
# Data rcd from F. Perez and this file initialized 8/18/06 
# New version from Maribel I. Garcia-Ibanez with original nuts 8/18/14 
# Ship:R/V Thalassa 
# Cruise: Ovide02 Expedition; A25 line, Ovide 2002 
# Dates: 6/10/02 - 7/12/02 
# EXPOCODE: 35TH20020610 
# Region: Spain to Greenland 
# Chief Scientist: Herle Mercier 
# 90 full depth stations with 28 bottle Rosette; 
# Hydro: Who - H. Mercier; Status - final 
# 	Notes: See Lherminier et al. 2007, 2010; 
# 	Gourcuff et al., 2011; Mercier et al.,2013. 
# 	Thierry et al. 2008. 
# Nuts/O2: Who - P. Morin; Status - final 
# 	Notes: See Maze et al., 2012. 
# TA: Who - F.Perez, M. Alvarez; Status - final 
# 	Notes: Automatic potentiometric titrator 
# 	Values adjusted to CRM 
# 	Precision and accuracy of reported values about 1umol/kg 
# 	See Perez and Alvarez, 2002 (final report) 
# 	See Perez et al. 2008, 2013 
# pCO2: Who - ; Status -  underway only 
# 	System similar to that described by Kortzinger et al. (1996) 
# 	Only two stds used (zero and high) system included measurement of T,S,O2, fluorometer 
# pH: Who - F.Perez, M. Alvarez; Status - final   
# 	Notes: SWS@25C. CRM Batch 54 and 55; Lueker, et al. (2000) constants 
# 	See Vazquez-Rodriguez, et al., 2012. 
# Other: LADCP mounted on Rosette (P. Lhermenier) 
# References: 
# Clayton, T.D. and R.H. Byrne, Spectrophotometric seawater pH measurements: total hydrogen ion concentration scale concentration scale calibration of m-cresol purple and at-sea results. D.S.R. I,  40, 10, 2115-2129, doi: 10.1016/0967-0637(93)90048-8, 1993. 
# Kortzinger A.,  H. Thomas, B. Schneider, N. Gronau, L. Mintrop and J. C. Duinker, At-sea intercomparison of two newly designed underway pCO2 system -Encouraging results. Mar.Chem., 52: 133-145, 1996. 
# Lherminier, P., H. Mercier, C. Gourcuff, M. Alvarez, S. Bacon, C. Kermabon, Transports across the 2002 Greenland-Portugal OVIDE section and comparison with 1997.  J. Geophys. Res., 112(C7), C07003, doi: 10.1029/2006JC003716, 2007.  
# Lherminier, P., H. Mercier, T. Huck, C. Gourcuff, F.F. Perez, P. Morin, A. Sarafanov and A. Falina, The Atlantic Meridional Overturning Circulation and the subpolar gyre observed at the A25-OVIDE section in June 2002 and 2004, D.S.R. I, 57, 1374-1391, doi: http://dx.doi.org/10.1016/j.dsr.2010.07.009, 2010. 
# Lueker, T.J., A.G. Dickson and C.D. Keeling, Ocean pCO2 calculated from dissolved inorganic carbon, alkalinity and equations for K1 and K2: validations based on laboratory measurements of CO2 in gas and seawater at equilibrium. Mar. Chem., 70, 105-119, doi: 10.1016/S0304-4203(00)00022-0, 2000. 
# Maze G., H. Mercier, V. Thierry, L. Memery, P. Morin and F.F. Perez, Mass, nutrients and oxygen budgets for the North Eastern Atlantic Ocean, Biogeosci, 9, 4323-4360, 2012.  
# Mercier, H., P. Lherminier, A. Sarafanov, F. Gaillard, N. Daniault, D. Desbruyeres, A. Falina, B. Ferron, C. Gourcuff, T. Huck and V. Thierry, Variability of the meridional overturning circulation at the Greenland-Portugal OVIDE section from 1993 to 2010, Progress in Oceanography, doi: 10.1016/j.pocean.2013.11.001, 2013. 
# Pascale, L., H. Mercier, C. Gourcuff, M. Alvarez, S. Bacon, C. Kermabon, Transports across the 2002 Greenland-Portugal OVIDE section and comparison with 1997.  J. Geophys. Res., 112(C7), C07003, doi:10.1029/2006JC003716, 2007. 
# Perez F.F., A.F. Rios, T. Rellan and M. Alvarez, Improvements in a fast potentiometric seawater alkalinity determination. Ciencias Marinas, 26(3), 463-478, doi: 10.7773/cm.v26i3.592, 2000. 
# Perez, F.F. and M. Alvarez, Mesures de pH et d'alcalinite lors de la campagne OVIDE 2002, Final Scientific Rpt., Instituto de Investigaciones Marinas, (CSIC),C/ Eduardo Cabello, No 6, 36208 VIGO. 
# Perez, F.F., M. Vazquez-Rodriguez, E. Louarn, X.A. Padin, H. Mercier and A.F. Rios, Temporal variability of the anthropogenic CO2 storage in the Irminger Sea. Biogeosci, 4, 1-11, , doi: 10.5194/bg-5-1669-2008, 2008. 
# Perez F.F., H. Mercier, M. Vazquez-Rodriguez, P. Lherminier, A. Velo, P.C. Pardo, G. Roson and A.F. Rios, Atlantic Ocean CO2 uptake reduced by weakening of the meridional overturning circulation, Nature Geoscience, 6, 146-152, doi: 10.1038/NGEO1680, 2013. 
# Thierry, V., E.de Boisseson and H. Mercier, Interannual variability of the Subpolar Mode Water properties over the Reykjanes Ridge during 1990-2006. J. Geophys. Res., 113, C04016, doi: 10.1029/2007JC004443, 2008. 
# Vazquez-Rodriguez, M., F.F. Perez, A. Velo, A.F. Rios and H. Mercier Observed acidification trends in North Atlantic water masses, Biogeosci, 9, 5217-5230, doi: 10.5194/bg-9-5217-2012, 2012. 
EXPOCODE,SECT_ID,STNNBR,CASTNO,BTLNBR,BTLNBR_FLAG_W,DATE,TIME,LATITUDE,LONGITUDE,DEPTH,CTDPRS,CTDTMP,CTDSAL,CTDSAL_FLAG_W,SALNTY,SALNTY_FLAG_W,CTDOXY,CTDOXY_FLAG_W,OXYGEN,OXYGEN_FLAG_W,SILCAT,SILCAT_FLAG_W,NITRAT,NITRAT_FLAG_W,PHSPHT,PHSPHT_FLAG_W,ALKALI,ALKALI_FLAG_W,PH_SWS,PH_SWS_FLAG_W,PH_TMP,THETA
,,,,,,,,,,METERS,DBAR,ITS-90,PSS-78,,PSS-78,,UMOL/KG,,UMOL/KG,,UMOL/KG,,UMOL/KG,,UMOL/KG,,UMOL/KG,,,,DEG C,DEG C
  35TH20020610, OVIDE,     6,  1,      3,2,20020618,0553, 59.8170, -42.5170,  236,    213.1,   3.3020,  34.5180,2,  34.4800,3,   -999.0,9,    311.9,3,     6.72,2,    12.75,2,     0.82,2,   2283.6,2,   7.7750,2,    25.00,   3.2883
  35TH20020610, OVIDE,     6,  1,      4,2,20020618,0553, 59.8170, -42.5170,  236,    213.6,   3.3900,  34.5290,2,  34.4760,3,   -999.0,9,    311.2,3,     6.75,2,    12.60,2,     0.79,2,   2282.9,2,   7.7750,2,    25.00,   3.3762
  35TH20020610, OVIDE,     6,  1,      5,2,20020618,0553, 59.8170, -42.5170,  236,    197.0,   2.5910,  34.3490,2,  34.3550,3,   -999.0,9,    314.7,3,     6.68,2,    12.81,2,     0.74,2,   2271.4,2,   7.7740,2,    25.00,   2.5796
  35TH20020610, OVIDE,     6,  1,      6,2,20020618,0553, 59.8170, -42.5170,  236,    197.3,   2.5780,  34.3480,2,-999.0000,9,   -999.0,9,   -999.0,9,  -999.00,9,  -999.00,9,  -999.00,9,   -999.0,9,-999.0000,9,  -999.00,   2.5666
  35TH20020610, OVIDE,     6,  1,      7,2,20020618,0553, 59.8170, -42.5170,  236,    147.3,   1.6750,  34.1410,2,  34.1430,2,   -999.0,9,    320.5,3,  -999.00,9,  -999.00,9,  -999.00,9,   2258.2,2,   7.7690,2,    25.00,   1.6677
  35TH20020610, OVIDE,     6,  1,      8,2,20020618,0553, 59.8170, -42.5170,  236,    147.3,   1.6740,  34.1400,2,-999.0000,9,   -999.0,9,   -999.0,9,     6.41,2,    11.81,2,     0.74,2,   -999.0,9,-999.0000,9,  -999.00,   1.6667
  35TH20020610, OVIDE,     6,  1,      9,2,20020618,0553, 59.8170, -42.5170,  236,    147.6,   1.6770,  34.1420,2,-999.0000,9,   -999.0,9,   -999.0,9,  -999.00,9,  -999.00,9,  -999.00,9,   -999.0,9,-999.0000,9,  -999.00,   1.6697
  35TH20020610, OVIDE,     6,  1,     10,2,20020618,0553, 59.8170, -42.5170,  236,     96.8,   0.2990,  33.8270,2,-999.0000,9,   -999.0,9,   -999.0,9,  -999.00,9,  -999.00,9,  -999.00,9,   -999.0,9,-999.0000,9,  -999.00,   0.2954
  35TH20020610, OVIDE,     6,  1,     11,2,20020618,0553, 59.8170, -42.5170,  236,     96.7,   0.2970,  33.8260,2,  33.8180,3,   -999.0,9,    329.6,3,     5.99,2,    11.03,2,     0.69,2,   2243.1,2,   7.7590,2,    25.00,   0.2934
  35TH20020610, OVIDE,     6,  1,     12,2,20020618,0553, 59.8170, -42.5170,  236,     97.0,   0.2980,  33.8270,2,-999.0000,9,   -999.0,9,   -999.0,9,  -999.00,9,  -999.00,9,  -999.00,9,   -999.0,9,-999.0000,9,  -999.00,   0.2944
  35TH20020610, OVIDE,     6,  1,     13,2,20020618,0553, 59.8170, -42.5170,  236,     47.2,  -1.0780,  33.3520,2,  33.3460,3,   -999.0,9,    364.7,3,     4.85,2,     6.81,2,     0.51,2,   2244.0,2,   7.7770,2,    25.00,  -1.0791
  35TH20020610, OVIDE,     6,  1,     14,2,20020618,0553, 59.8170, -42.5170,  236,     46.7,  -1.0920,  33.3230,2,-999.0000,9,   -999.0,9,   -999.0,9,  -999.00,9,  -999.00,9,  -999.00,9,   -999.0,9,-999.0000,9,  -999.00,  -1.0931
  35TH20020610, OVIDE,     6,  1,     15,2,20020618,0553, 59.8170, -42.5170,  236,      2.4,  -1.0590,  32.2280,2,  32.2170,3,   -999.0,9,    403.0,3,     2.36,2,     0.18,2,  -999.00,9,   2192.7,2,   7.9300,2,    25.00,  -1.0591
  35TH20020610, OVIDE,     6,  1,     16,2,20020618,0553, 59.8170, -42.5170,  236,      2.4,  -0.9620,  32.2410,2,-999.0000,9,   -999.0,9,   -999.0,9,  -999.00,9,  -999.00,9,  -999.00,9,   -999.0,9,-999.0000,9,  -999.00,  -0.9621
  35TH20020610, OVIDE,     6,  1,     17,2,20020618,0553, 59.8170, -42.5170,  236,      2.5,  -1.1960,  32.1600,2,-999.0000,9,   -999.0,9,   -999.0,9,  -999.00,9,  -999.00,9,  -999.00,9,   -999.0,9,-999.0000,9,  -999.00,  -1.1961
  35TH20020610, OVIDE,     7,  1,      5,2,20020618,1021, 59.8190, -42.3160,  506,    500.1,   4.6570,  34.9100,2,  34.9080,2,    293.7,2,    290.3,2,     7.82,2,    16.56,2,     1.00,2,   -999.0,9,   7.7540,2,    25.00,   4.6181
  35TH20020610, OVIDE,     7,  1,      6,2,20020618,1021, 59.8190, -42.3160,  506,    469.6,   4.6640,  34.9080,2,-999.0000,9,    291.1,2,   -999.0,9,     7.68,2,    16.38,2,     1.00,2,   -999.0,9,   7.7580,2,    25.00,   4.6276
  35TH20020610, OVIDE,     7,  1,      7,2,20020618,1021, 59.8190, -42.3160,  506,    449.1,   4.6730,  34.9050,2,  34.8930,3,    295.5,2,    291.7,2,     7.65,2,    16.26,2,     1.04,2,   -999.0,9,   7.7580,2,    25.00,   4.6382
  35TH20020610, OVIDE,     7,  1,      8,2,20020618,1021, 59.8190, -42.3160,  506,    422.9,   4.6850,  34.9040,2,-999.0000,9,    296.0,2,   -999.0,9,     7.61,2,    16.21,2,     1.01,2,   -999.0,9,-999.0000,9,  -999.00,   4.6523
  35TH20020610, OVIDE,     7,  1,      9,2,20020618,1021, 59.8190, -42.3160,  506,    397.3,   4.7160,  34.9000,2,  34.8960,2,    296.7,2,    277.1,3,     7.58,2,    16.09,2,     0.98,2,   -999.0,9,   7.7610,2,    25.00,   4.6853
  35TH20020610, OVIDE,     7,  1,     10,2,20020618,1021, 59.8190, -42.3160,  506,    372.2,   4.7350,  34.8930,2,-999.0000,9,    298.3,2,   -999.0,9,     7.51,2,    15.86,2,     1.00,2,   -999.0,9,-999.0000,9,  -999.00,   4.7062
  35TH20020610, OVIDE,     7,  1,     11,2,20020618,1021, 59.8190, -42.3160,  506,    346.0,   4.7390,  34.8910,2,  34.8920,2,    297.9,2,    292.4,2,     7.51,2,    15.98,2,     0.99,2,   -999.0,9,   7.7620,2,    25.00,   4.7123
  35TH20020610, OVIDE,     7,  1,     12,2,20020618,1021, 59.8190, -42.3160,  506,    297.0,   4.7990,  34.8890,2,  34.8880,2,    297.6,2,    293.6,2,     7.41,2,    15.63,2,     0.99,2,   -999.0,9,   7.7660,2,    25.00,   4.7761
  35TH20020610, OVIDE,     7,  1,     13,2,20020618,1021, 59.8190, -42.3160,  506,    195.9,   5.0890,  34.9070,2,  34.9090,2,    304.2,2,    294.0,3,     7.27,2,    15.16,2,     0.96,2,   -999.0,9,   7.7730,2,    25.00,   5.0736
  35TH20020610, OVIDE,     7,  1,     14,2,20020618,1021, 59.8190, -42.3160,  506,    195.9,   5.0600,  34.9020,2,-999.0000,9,    304.2,2,   -999.0,9,  -999.00,9,  -999.00,9,  -999.00,9,   -999.0,9,-999.0000,9,  -999.00,   5.0446
  35TH20020610, OVIDE,     7,  1,     15,2,20020618,1021, 59.8190, -42.3160,  506,    196.2,   4.9270,  34.8960,2,-999.0000,9,    304.2,2,   -999.0,9,  -999.00,9,  -999.00,9,  -999.00,9,   -999.0,9,-999.0000,9,  -999.00,   4.9118
  35TH20020610, OVIDE,     7,  1,     16,2,20020618,1021, 59.8190, -42.3160,  506,     97.8,   4.7890,  34.7370,2,  34.7350,2,    319.0,2,    317.8,2,     6.33,2,    10.98,2,     0.77,2,   -999.0,9,   7.8190,2,    25.00,   4.7816
  35TH20020610, OVIDE,     7,  1,     17,2,20020618,1021, 59.8190, -42.3160,  506,     97.9,   4.8220,  34.7360,2,-999.0000,9,    319.0,2,   -999.0,9,  -999.00,9,  -999.00,9,  -999.00,9,   -999.0,9,-999.0000,9,  -999.00,   4.8146
  35TH20020610, OVIDE,     7,  1,     18,2,20020618,1021, 59.8190, -42.3160,  506,     97.5,   4.8000,  34.7420,2,-999.0000,9,    319.0,2,   -999.0,9,  -999.00,9,  -999.00,9,  -999.00,9,   -999.0,9,-999.0000,9,  -999.00,   4.7926
  35TH20020610, OVIDE,     7,  1,     19,2,20020618,1021, 59.8190, -42.3160,  506,     47.3,   3.1560,  34.3460,2,  34.3890,3,    333.9,2,    333.3,2,     5.64,2,     9.00,2,     0.66,2,   -999.0,9,   7.8220,2,    25.00,   3.1531
  35TH20020610, OVIDE,     7,  1,     20,2,20020618,1021, 59.8190, -42.3160,  506,     47.3,   3.1340,  34.3410,2,-999.0000,9,    333.9,2,   -999.0,9,  -999.00,9,  -999.00,9,  -999.00,9,   -999.0,9,-999.0000,9,  -999.00,   3.1311
  35TH20020610, OVIDE,     7,  1,     21,2,20020618,1021, 59.8190, -42.3160,  506,     17.5,   1.6630,  33.8580,2,  33.9560,3,    367.9,2,    354.9,3,     4.99,2,     6.18,2,     0.51,2,   -999.0,9,   7.8100,2,    25.00,   1.6622
  35TH20020610, OVIDE,     7,  1,     22,2,20020618,1021, 59.8190, -42.3160,  506,     17.6,   1.5740,  33.8600,2,-999.0000,9,    367.9,2,   -999.0,9,  -999.00,9,  -999.00,9,  -999.00,9,   -999.0,9,-999.0000,9,  -999.00,   1.5732
  35TH20020610, OVIDE,     7,  1,     23,2,20020618,1021, 59.8190, -42.3160,  506,     17.5,   1.4810,  33.8500,2,-999.0000,9,    367.9,2,   -999.0,9,  -999.00,9,  -999.00,9,  -999.00,9,   -999.0,9,-999.0000,9,  -999.00,   1.4802
  35TH20020610, OVIDE,     7,  1,     24,2,20020618,1021, 59.8190, -42.3160,  506,      2.8,  -0.3910,  33.2970,2,  33.2490,3,    387.8,2,    399.3,3,     3.81,2,     1.18,2,     0.28,2,   -999.0,9,   7.8760,2,    25.00,  -0.3911
  35TH20020610, OVIDE,     7,  1,     25,2,20020618,1021, 59.8190, -42.3160,  506,      2.8,  -0.3950,  33.2900,2,-999.0000,9,    387.8,2,   -999.0,9,  -999.00,9,  -999.00,9,  -999.00,9,   -999.0,9,-999.0000,9,  -999.00,  -0.3951
  35TH20020610, OVIDE,     7,  1,     26,2,20020618,1021, 59.8190, -42.3160,  506,      2.7,  -0.4030,  33.2870,2,-999.0000,9,    387.8,2,   -999.0,9,  -999.00,9,  -999.00,9,  -999.00,9,   -999.0,9,-999.0000,9,  -999.00,  -0.4031
  35TH20020610, OVIDE,     8,  1,      3,2,20020618,1344, 59.8100, -42.2330, 1164,   1136.9,   3.6340,  34.8910,2,  34.8920,2,    284.9,2,    282.6,2,     9.44,2,    17.13,2,     1.10,2,   2301.7,2,   7.7280,2,    25.00,   3.5493
  35TH20020610, OVIDE,     8,  1,      4,2,20020618,1344, 59.8100, -42.2330, 1164,   1136.7,   3.6350,  34.8900,2,  34.8900,2,    284.9,2,    282.3,2,     9.44,2,    17.19,2,     1.08,2,   2301.7,2,   7.7270,2,    25.00,   3.5503
  35TH20020610, OVIDE,     8,  1,      5,2,20020618,1344, 59.8100, -42.2330, 1164,   1095.5,   3.6860,  34.8910,2,  34.8900,2,    285.1,2,    284.0,2,     9.37,2,    17.08,2,     1.10,2,   2302.3,2,   7.7300,2,    25.00,   3.6043
  35TH20020610, OVIDE,     8,  1,      6,2,20020618,1344, 59.8100, -42.2330, 1164,   1095.4,   3.6810,  34.8900,2,  34.8910,2,    285.1,2,    283.0,2,     9.34,2,    17.02,2,     1.09,2,   2302.2,2,   7.7320,2,    25.00,   3.5993
  35TH20020610, OVIDE,     8,  1,      7,2,20020618,1344, 59.8100, -42.2330, 1164,   1045.5,   3.8570,  34.8970,2,  34.8960,2,    285.7,2,    283.7,2,     9.20,2,    16.86,2,     1.09,2,   2304.0,2,   7.7320,2,    25.00,   3.7780
  35TH20020610, OVIDE,     8,  1,      8,2,20020618,1344, 59.8100, -42.2330, 1164,    995.9,   3.9850,  34.9000,2,  34.9000,2,    286.6,2,    285.4,2,     8.81,2,    16.58,2,     1.07,2,   2303.3,2,   7.7400,2,    25.00,   3.9091
  35TH20020610, OVIDE,     8,  1,      9,2,20020618,1344, 59.8100, -42.2330, 1164,    995.8,   3.9870,  34.8990,2,-999.0000,9,    286.6,2,    284.2,2,     8.99,2,    16.86,2,     1.08,2,   2303.4,2,   7.7350,2,    25.00,   3.9111
  35TH20020610, OVIDE,     8,  1,     10,2,20020618,1344, 59.8100, -42.2330, 1164,    897.4,   4.1630,  34.9090,2,  34.9060,2,    289.1,2,    288.5,2,     8.56,2,    16.64,2,     1.06,2,   -999.0,9,-999.0000,9,  -999.00,   4.0941
  35TH20020610, OVIDE,     8,  1,     11,2,20020618,1344, 59.8100, -42.2330, 1164,    795.5,   4.2290,  34.9100,2,  34.9120,2,    288.6,2,    287.3,2,     8.67,2,    16.91,2,     1.07,2,   2303.3,2,   7.7400,2,    25.00,   4.1681
  35TH20020610, OVIDE,     8,  1,     12,2,20020618,1344, 59.8100, -42.2330, 1164,    697.6,   4.3290,  34.9160,2,  34.9150,2,    288.5,2,    287.3,2,     8.56,2,    16.69,2,     1.08,2,   2304.2,2,   7.7460,2,    25.00,   4.2755
  35TH20020610, OVIDE,     8,  1,     13,2,20020618,1344, 59.8100, -42.2330, 1164,    596.9,   4.5010,  34.9160,2,  34.9160,2,    291.2,2,    288.3,2,     8.11,2,    16.19,2,     1.03,2,   2303.6,2,   7.7480,2,    25.00,   4.4549
  35TH20020610, OVIDE,     8,  1,     14,2,20020618,1344, 59.8100, -42.2330, 1164,    498.1,   4.5990,  34.9150,2,  34.9140,2,    292.5,2,    289.5,2,     7.97,2,    16.19,2,     1.05,2,   2302.9,2,   7.7510,2,    25.00,   4.5605
  35TH20020610, OVIDE,     8,  1,     15,2,20020618,1344, 59.8100, -42.2330, 1164,    397.0,   4.6670,  34.9110,2,  34.9090,2,    292.2,2,    291.9,2,     7.86,2,    15.97,2,     1.00,3,   2303.3,2,   7.7550,2,    25.00,   4.6364
  35TH20020610, OVIDE,     8,  1,     16,2,20020618,1344, 59.8100, -42.2330, 1164,    296.5,   4.8960,  34.9280,2,  34.9260,2,    290.5,2,    289.9,2,     7.79,2,    15.97,2,     1.03,2,   2304.2,2,   7.7580,2,    25.00,   4.8729
  35TH20020610, OVIDE,     8,  1,     17,2,20020618,1344, 59.8100, -42.2330, 1164,    245.7,   5.2030,  34.9370,2,-999.0000,9,    293.2,2,   -999.0,9,     7.51,2,    15.30,2,     0.95,2,   -999.0,9,-999.0000,9,  -999.00,   5.1833
  35TH20020610, OVIDE,     8,  1,     18,2,20020618,1344, 59.8100, -42.2330, 1164,    196.9,   5.2250,  34.9200,2,  34.9220,2,    293.8,2,    295.6,2,     7.30,2,    14.58,2,     0.94,3,   2308.6,2,   7.7740,2,    25.00,   5.2093
  35TH20020610, OVIDE,     8,  1,     19,2,20020618,1344, 59.8100, -42.2330, 1164,    147.3,   5.6700,  34.9520,2,  34.9530,2,    299.8,2,    301.9,2,     6.99,2,    13.31,2,     0.88,2,   2311.2,2,   7.7990,2,    25.00,   5.6578
  35TH20020610, OVIDE,     8,  1,     20,2,20020618,1344, 59.8100, -42.2330, 1164,     96.8,   5.4920,  34.8750,2,  34.8770,2,    301.9,2,    312.4,3,     6.60,2,    11.53,2,     0.79,2,   2307.1,2,   7.8190,2,    25.00,   5.4841
  35TH20020610, OVIDE,     8,  1,     21,2,20020618,1344, 59.8100, -42.2330, 1164,     45.9,   5.0890,  34.7490,2,  34.7550,3,    308.5,2,    320.0,3,     6.18,2,    10.26,2,     0.72,2,   2299.1,2,   7.8310,2,    25.00,   5.0854
  35TH20020610, OVIDE,     8,  1,     22,2,20020618,1344, 59.8100, -42.2330, 1164,     18.1,   5.1980,  34.6740,2,  34.6720,2,    320.5,2,    329.3,3,     5.69,2,     8.86,2,     0.61,2,   2295.6,2,   7.8510,2,    25.00,   5.1966
  35TH20020610, OVIDE,     8,  1,     23,2,20020618,1344, 59.8100, -42.2330, 1164,      3.1,   5.5270,  34.6900,2,  34.6930,2,    321.1,2,    334.4,3,     4.35,2,     8.08,2,     0.56,2,   2297.6,2,   7.8660,2,    25.00,   5.5268
  35TH20020610, OVIDE,     8,  1,     24,2,20020618,1344, 59.8100, -42.2330, 1164,      3.0,   5.5110,  34.6890,2,-999.0000,9,    321.1,2,   -999.0,9,  -999.00,9,  -999.00,9,  -999.00,9,   -999.0,9,-999.0000,9,  -999.00,   5.5108