BOTTLE,20140820PRINUNIVRMK
EXPOCODE,SECT_ID,STNNBR,CASTNO,BTLNBR,BTLNBR_FLAG_W,DATE,TIME,LATITUDE,LONGITUDE,DEPTH,CTDPRS,CTDTMP,CTDSAL,CTDSAL_FLAG_W,SALNTY,SALNTY_FLAG_W,CTDOXY,CTDOXY_FLAG_W,OXYGEN,OXYGEN_FLAG_W,SILCAT,SILCAT_FLAG_W,NITRAT,NITRAT_FLAG_W,PHSPHT,PHSPHT_FLAG_W,ALKALI,ALKALI_FLAG_W,PH_SWS,PH_SWS_FLAG_W,PH_TMP,THETA
,,,,,,,,,,METERS,DBAR,ITS-90,PSS-78,,PSS-78,,UMOL/KG,,UMOL/KG,,UMOL/KG,,UMOL/KG,,UMOL/KG,,UMOL/KG,,,,DEG C,DEG C
  35TH20020610, OVIDE,    92,  1,      3,2,20020710,1457, 40.3330,  -9.8760, 2497,   2486.6,   3.4330,  35.0170,2,  35.0180,2,    244.4,2,    247.3,2,  -999.00,9,  -999.00,9,  -999.00,9,   2332.9,2,   7.7380,2,    25.00,   3.2262
  35TH20020610, OVIDE,    92,  1,      4,2,20020710,1457, 40.3330,  -9.8760, 2497,   2486.4,   3.4310,  35.0180,2,-999.0000,9,    244.4,2,   -999.0,9,  -999.00,9,  -999.00,9,  -999.00,9,   -999.0,9,-999.0000,9,  -999.00,   3.2242
  35TH20020610, OVIDE,    92,  1,      5,2,20020710,1457, 40.3330,  -9.8760, 2497,   2487.0,   3.4280,  35.0160,2,-999.0000,9,    244.4,2,   -999.0,9,  -999.00,9,  -999.00,9,  -999.00,9,   -999.0,9,-999.0000,9,  -999.00,   3.2212
  35TH20020610, OVIDE,    92,  1,      6,2,20020710,1457, 40.3330,  -9.8760, 2497,   2487.0,   3.4320,  35.0160,2,-999.0000,9,    244.4,2,   -999.0,9,  -999.00,9,  -999.00,9,  -999.00,9,   -999.0,9,-999.0000,9,  -999.00,   3.2251
  35TH20020610, OVIDE,    92,  1,      7,2,20020710,1457, 40.3330,  -9.8760, 2497,   2485.8,   3.4330,  35.0170,2,-999.0000,9,    244.4,2,   -999.0,9,  -999.00,9,  -999.00,9,  -999.00,9,   -999.0,9,-999.0000,9,  -999.00,   3.2262
  35TH20020610, OVIDE,    92,  1,      8,2,20020710,1457, 40.3330,  -9.8760, 2497,   2485.4,   3.4330,  35.0170,2,-999.0000,9,    244.4,2,   -999.0,9,  -999.00,9,  -999.00,9,  -999.00,9,   -999.0,9,-999.0000,9,  -999.00,   3.2263
  35TH20020610, OVIDE,    92,  1,      9,2,20020710,1457, 40.3330,  -9.8760, 2497,   2487.0,   3.4300,  35.0170,2,-999.0000,9,    244.4,2,   -999.0,9,  -999.00,9,    22.01,3,     1.24,2,   -999.0,9,-999.0000,9,  -999.00,   3.2232
  35TH20020610, OVIDE,    92,  1,     10,2,20020710,1457, 40.3330,  -9.8760, 2497,   2245.9,   3.9080,  35.0760,2,  35.0740,2,    245.4,2,    247.3,2,  -999.00,9,    21.63,3,     1.19,2,   2330.0,2,   7.7450,2,    25.00,   3.7171
  35TH20020610, OVIDE,    92,  1,     11,2,20020710,1457, 40.3330,  -9.8760, 2497,   1995.9,   4.5580,  35.1660,2,-999.0000,9,    243.9,2,   -999.0,9,  -999.00,9,    21.03,3,     1.14,2,   2335.0,2,   7.7430,2,    25.00,   4.3820
  35TH20020610, OVIDE,    92,  1,     12,2,20020710,1457, 40.3330,  -9.8760, 2497,   1796.6,   5.4600,  35.3010,2,  35.3040,2,    236.6,2,    235.2,2,    15.49,3,    19.08,2,     1.10,2,   2338.8,2,   7.7520,2,    25.00,   5.2919
  35TH20020610, OVIDE,    92,  1,     13,2,20020710,1457, 40.3330,  -9.8760, 2497,   1596.6,   7.4290,  35.6360,2,-999.0000,9,    217.2,2,   -999.0,9,    12.62,2,    17.83,2,     0.96,2,   -999.0,9,-999.0000,9,  -999.00,   7.2582
  35TH20020610, OVIDE,    92,  1,     14,2,20020710,1457, 40.3330,  -9.8760, 2497,   1395.7,   9.4170,  35.9800,2,  35.9770,2,    197.5,2,    196.8,2,    10.67,2,    18.09,3,     0.96,2,   2380.6,2,   7.7880,2,    25.00,   9.2491
  35TH20020610, OVIDE,    92,  1,     15,2,20020710,1457, 40.3330,  -9.8760, 2497,   1295.6,  10.5250,  36.1890,2,-999.0000,9,    186.8,2,   -999.0,9,     9.54,2,    15.98,2,     0.90,2,   2394.2,2,   7.8000,2,    25.00,  10.3595
  35TH20020610, OVIDE,    92,  1,     16,2,20020710,1457, 40.3330,  -9.8760, 2497,   1194.9,  10.9700,  36.2250,2,  36.2250,2,    183.5,2,    183.8,2,     9.27,2,    16.84,3,     0.88,2,   2395.4,2,   7.8040,2,    25.00,  10.8143
  35TH20020610, OVIDE,    92,  1,     17,2,20020710,1457, 40.3330,  -9.8760, 2497,   1095.0,  11.2470,  36.2350,2,  36.2340,2,    179.8,2,    187.0,3,     8.86,2,    15.82,2,     0.86,2,   2395.0,2,   7.8070,2,    25.00,  11.1028
  35TH20020610, OVIDE,    92,  1,     18,2,20020710,1457, 40.3330,  -9.8760, 2497,    996.3,  11.4670,  36.2350,2,  36.2320,2,    181.8,2,    186.8,2,     8.49,2,    15.54,2,     0.83,2,   2394.7,2,   7.8070,2,    25.00,  11.3348
  35TH20020610, OVIDE,    92,  1,     19,2,20020710,1457, 40.3330,  -9.8760, 2497,    896.5,  11.5820,  36.2070,2,  36.2060,2,    182.7,2,    182.5,2,     8.11,2,    15.17,2,     0.83,2,   2391.9,2,   7.8120,2,    25.00,  11.4628
  35TH20020610, OVIDE,    92,  1,     20,2,20020710,1457, 40.3330,  -9.8760, 2497,    796.6,  11.8300,  36.1650,2,-999.0000,9,    185.7,2,   -999.0,9,     7.64,2,    15.17,2,     0.80,2,   2386.9,2,   7.8130,2,    25.00,  11.7232
  35TH20020610, OVIDE,    92,  1,     21,2,20020710,1457, 40.3330,  -9.8760, 2497,    696.1,  11.9240,  36.0950,2,  36.1000,2,    184.7,2,    184.3,2,     7.23,2,    14.79,2,     0.80,2,   2380.5,2,   7.8110,2,    25.00,  11.8307
  35TH20020610, OVIDE,    92,  1,     22,2,20020710,1457, 40.3330,  -9.8760, 2497,    596.1,  11.7410,  35.9500,2,-999.0000,9,    185.6,2,   -999.0,9,     7.13,2,    15.22,2,     0.82,2,   2368.6,2,   7.8040,2,    25.00,  11.6623
  35TH20020610, OVIDE,    92,  1,     23,2,20020710,1457, 40.3330,  -9.8760, 2497,    497.4,  11.6300,  35.8070,2,  35.8070,2,    189.2,2,    190.6,2,     6.75,2,    16.42,2,     0.84,2,   2354.9,2,   7.7990,2,    25.00,  11.5650
  35TH20020610, OVIDE,    92,  1,     24,2,20020710,1457, 40.3330,  -9.8760, 2497,    398.0,  11.7920,  35.7300,2,-999.0000,9,    196.4,2,   -999.0,9,     5.93,2,    15.12,2,     0.79,2,   2348.5,2,   7.8070,2,    25.00,  11.7398
  35TH20020610, OVIDE,    92,  1,     25,2,20020710,1457, 40.3330,  -9.8760, 2497,    295.1,  11.8680,  35.6490,2,  35.6500,2,    207.2,2,    209.6,2,     4.78,2,    13.71,2,     0.70,2,   2340.9,2,   7.8180,2,    25.00,  11.8294
  35TH20020610, OVIDE,    92,  1,     26,2,20020710,1457, 40.3330,  -9.8760, 2497,    196.3,  12.4770,  35.6930,2,-999.0000,9,    223.5,2,   -999.0,9,     3.65,2,    10.78,2,     0.58,2,   2342.3,2,   7.8460,2,    25.00,  12.4505
  35TH20020610, OVIDE,    92,  1,     27,2,20020710,1457, 40.3330,  -9.8760, 2497,    148.4,  12.7100,  35.7040,2,  35.7040,2,    234.2,2,    229.1,2,     2.97,2,     9.12,2,     0.47,2,   2343.0,2,   7.8640,2,    25.00,  12.6898
  35TH20020610, OVIDE,    92,  1,     28,2,20020710,1457, 40.3330,  -9.8760, 2497,     96.3,  13.0640,  35.7470,2,-999.0000,9,    233.7,2,   -999.0,9,     2.15,2,     5.24,2,     0.34,2,   2344.5,2,   7.8910,2,    25.00,  13.0507
  35TH20020610, OVIDE,    92,  1,     29,2,20020710,1457, 40.3330,  -9.8760, 2497,     47.2,  14.2040,  35.7980,2,  35.7930,2,    258.4,2,    244.1,3,     1.64,2,     1.77,2,     0.15,2,   2350.6,2,   7.9300,2,    25.00,  14.1971
  35TH20020610, OVIDE,    92,  1,     30,2,20020710,1457, 40.3330,  -9.8760, 2497,      3.6,  16.6660,  35.6720,2,  35.6720,2,    250.3,2,    257.6,3,     1.02,2,     0.30,2,     0.04,2,   2346.0,2,   7.9820,2,    25.00,  16.6654
  35TH20020610, OVIDE,    93,  1,      3,2,20020710,1817, 40.3340,  -9.8010, 1379,   1369.0,  10.2390,  36.1220,2,  36.1230,2,    190.0,2,    189.5,2,     9.85,2,    16.63,2,     0.82,3,   -999.0,9,   7.7950,2,    25.00,  10.0664
  35TH20020610, OVIDE,    93,  1,      4,2,20020710,1817, 40.3340,  -9.8010, 1379,   1195.1,  10.8810,  36.2120,2,-999.0000,9,    183.8,2,   -999.0,9,     9.20,2,    16.74,2,     0.88,2,   -999.0,9,   7.8040,2,    25.00,  10.7260
  35TH20020610, OVIDE,    93,  1,      5,2,20020710,1817, 40.3340,  -9.8010, 1379,   1195.9,  10.8830,  36.2130,2,  36.2120,2,    183.8,2,    185.2,2,     9.27,2,    15.65,2,     0.87,2,   -999.0,9,-999.0000,9,  -999.00,  10.7279
  35TH20020610, OVIDE,    93,  1,      6,2,20020710,1817, 40.3340,  -9.8010, 1379,   1146.1,  11.1010,  36.2240,2,-999.0000,9,    181.8,2,   -999.0,9,     9.00,2,    16.36,2,     0.80,3,   -999.0,9,   7.8040,2,    25.00,  10.9509
  35TH20020610, OVIDE,    93,  1,      7,2,20020710,1817, 40.3340,  -9.8010, 1379,   1140.0,  11.1050,  36.2220,2,-999.0000,9,    181.5,2,   -999.0,9,     9.14,2,    16.03,2,     0.88,2,   -999.0,9,-999.0000,9,  -999.00,  10.9557
  35TH20020610, OVIDE,    93,  1,      8,2,20020710,1817, 40.3340,  -9.8010, 1379,    996.9,  11.4310,  36.2040,2,  36.2030,2,    180.2,2,    181.1,2,     8.52,2,    16.14,2,     0.87,2,   -999.0,9,   7.8080,2,    25.00,  11.2990
  35TH20020610, OVIDE,    93,  1,      9,2,20020710,1817, 40.3340,  -9.8010, 1379,    796.0,  11.8020,  36.1580,2,  36.1580,2,    183.4,2,    184.0,2,     7.67,2,    14.79,2,     0.81,2,   -999.0,9,   7.8150,2,    25.00,  11.6955
  35TH20020610, OVIDE,    93,  1,     10,2,20020710,1817, 40.3340,  -9.8010, 1379,    597.5,  11.7360,  35.9560,2,-999.0000,9,    182.9,2,   -999.0,9,     7.19,2,    15.22,2,     0.81,2,   -999.0,9,   7.8030,2,    25.00,  11.6571
  35TH20020610, OVIDE,    93,  1,     11,2,20020710,1817, 40.3340,  -9.8010, 1379,    395.8,  11.7420,  35.7160,2,  35.7160,2,    195.7,2,    197.4,2,     5.87,2,    14.79,2,     0.75,2,   -999.0,9,   7.8060,2,    25.00,  11.6903
  35TH20020610, OVIDE,    93,  1,     12,2,20020710,1817, 40.3340,  -9.8010, 1379,    197.3,  12.5840,  35.7280,2,  35.7270,2,    210.1,2,    213.2,2,     3.89,3,    11.32,2,     0.58,3,   -999.0,9,   7.8420,2,    25.00,  12.5572
  35TH20020610, OVIDE,    93,  1,     13,2,20020710,1817, 40.3340,  -9.8010, 1379,    147.6,  12.6750,  35.7080,2,-999.0000,9,    222.2,2,   -999.0,9,     3.07,2,     9.43,2,     0.47,2,   -999.0,9,   7.8570,2,    25.00,  12.6549
  35TH20020610, OVIDE,    93,  1,     14,2,20020710,1817, 40.3340,  -9.8010, 1379,     96.4,  13.0360,  35.7420,2,  35.7460,2,    233.5,2,    238.0,2,     2.11,2,     3.97,2,     0.29,2,   -999.0,9,   7.8870,2,    25.00,  13.0227
  35TH20020610, OVIDE,    93,  1,     15,2,20020710,1817, 40.3340,  -9.8010, 1379,     46.0,  13.9110,  35.8220,2,-999.0000,9,    237.8,2,   -999.0,9,     1.57,2,     2.86,2,     0.21,2,   -999.0,9,   7.9140,2,    25.00,  13.9044
  35TH20020610, OVIDE,    93,  1,     16,2,20020710,1817, 40.3340,  -9.8010, 1379,      7.5,  16.2760,  35.6600,2,  35.6610,2,    250.7,2,    260.2,3,     0.89,2,     0.00,2,     0.04,2,   2344.9,2,   7.9840,2,    25.00,  16.2748
  35TH20020610, OVIDE,    94,  1,      3,2,20020710,2021, 40.3340,  -9.7660,  820,    809.0,  11.7580,  36.1530,2,  36.1540,2,    182.9,2,    183.4,2,     7.43,2,    15.33,2,     0.83,2,   2385.6,2,   7.8130,2,    25.00,  11.6499
  35TH20020610, OVIDE,    94,  1,      4,2,20020710,2021, 40.3340,  -9.7660,  820,    808.5,  11.7570,  36.1540,2,-999.0000,9,    182.9,2,   -999.0,9,     7.50,2,    14.95,3,     0.84,2,   -999.0,9,-999.0000,9,  -999.00,  11.6490
  35TH20020610, OVIDE,    94,  1,      5,2,20020710,2021, 40.3340,  -9.7660,  820,    808.7,  11.7600,  36.1530,2,-999.0000,9,    182.9,2,   -999.0,9,     7.43,2,    15.22,2,     0.84,2,   -999.0,9,-999.0000,9,  -999.00,  11.6519
  35TH20020610, OVIDE,    94,  1,      6,2,20020710,2021, 40.3340,  -9.7660,  820,    808.4,  11.7590,  36.1530,2,-999.0000,9,    182.9,2,   -999.0,9,     7.43,2,    15.22,2,     0.82,2,   -999.0,9,-999.0000,9,  -999.00,  11.6510
  35TH20020610, OVIDE,    94,  1,      7,2,20020710,2021, 40.3340,  -9.7660,  820,    810.1,  11.7500,  36.1560,2,-999.0000,9,    182.9,2,   -999.0,9,     7.43,2,    15.44,2,     0.84,2,   -999.0,9,-999.0000,9,  -999.00,  11.6418
  35TH20020610, OVIDE,    94,  1,      8,2,20020710,2021, 40.3340,  -9.7660,  820,    808.7,  11.7610,  36.1530,2,-999.0000,9,    182.9,2,   -999.0,9,     7.50,2,    15.28,2,     0.84,2,   -999.0,9,-999.0000,9,  -999.00,  11.6529
  35TH20020610, OVIDE,    94,  1,      9,2,20020710,2021, 40.3340,  -9.7660,  820,    809.5,  11.7570,  36.1540,2,-999.0000,9,    182.9,2,   -999.0,9,     7.50,2,    15.71,2,     0.84,2,   -999.0,9,-999.0000,9,  -999.00,  11.6488
  35TH20020610, OVIDE,    94,  1,     10,2,20020710,2021, 40.3340,  -9.7660,  820,    595.8,  11.7750,  35.9890,2,  35.9840,2,    184.1,2,    185.2,2,     6.89,2,    15.66,2,     0.84,2,   2371.4,2,   7.8060,2,    25.00,  11.6961
  35TH20020610, OVIDE,    94,  1,     11,2,20020710,2021, 40.3340,  -9.7660,  820,    395.9,  11.6160,  35.6880,2,  35.6880,2,    197.3,2,    197.2,2,     5.56,2,    15.23,2,     0.77,2,   2345.1,2,   7.8040,2,    25.00,  11.5646
  35TH20020610, OVIDE,    94,  1,     12,2,20020710,2021, 40.3340,  -9.7660,  820,    198.0,  12.3050,  35.6710,2,  35.6750,2,    217.4,2,    218.2,2,     3.62,2,    11.60,2,     0.59,2,   2340.9,2,   7.8410,2,    25.00,  12.2786
  35TH20020610, OVIDE,    94,  1,     13,2,20020710,2021, 40.3340,  -9.7660,  820,    146.4,  12.7450,  35.7050,2,-999.0000,9,    234.3,2,   -999.0,9,     2.46,2,     7.68,2,     0.44,2,   2342.5,2,   7.8770,2,    25.00,  12.7250
  35TH20020610, OVIDE,    94,  1,     14,2,20020710,2021, 40.3340,  -9.7660,  820,     96.1,  13.2700,  35.7830,2,  35.7800,2,    233.8,2,    238.1,2,     1.74,2,     4.70,2,     0.31,2,   2346.6,2,   7.8950,2,    25.00,  13.2565
  35TH20020610, OVIDE,    94,  1,     15,2,20020710,2021, 40.3340,  -9.7660,  820,     46.5,  14.0010,  35.8070,2,-999.0000,9,    244.6,2,   -999.0,9,     1.26,2,     2.91,2,     0.20,2,   2351.7,2,   7.9120,2,    25.00,  13.9943
  35TH20020610, OVIDE,    94,  1,     16,2,20020710,2021, 40.3340,  -9.7660,  820,      4.5,  16.4530,  35.6640,2,  35.6640,2,    249.0,2,    257.1,3,     0.68,2,     0.00,2,     0.03,2,   2345.7,2,   7.9830,2,    25.00,  16.4523
  35TH20020610, OVIDE,    95,  1,      3,2,20020710,2224, 40.3340,  -9.6430,  379,    355.8,  11.7400,  35.7450,2,-999.0000,9,    194.3,2,   -999.0,9,  -999.00,9,  -999.00,9,  -999.00,9,   -999.0,9,-999.0000,9,  -999.00,  11.6936
  35TH20020610, OVIDE,    95,  1,      4,2,20020710,2224, 40.3340,  -9.6430,  379,    355.7,  11.7410,  35.7430,2,  35.7440,2,    194.3,2,    195.5,2,     5.77,2,    16.20,2,     0.80,2,   -999.0,9,   7.8060,2,    25.00,  11.6946
  35TH20020610, OVIDE,    95,  1,      5,2,20020710,2224, 40.3340,  -9.6430,  379,    297.0,  11.9660,  35.7140,2,-999.0000,9,    199.8,2,   -999.0,9,     5.12,2,    15.19,2,     0.76,2,   -999.0,9,   7.8150,2,    25.00,  11.9269
  35TH20020610, OVIDE,    95,  1,      6,2,20020710,2224, 40.3340,  -9.6430,  379,    246.4,  12.1090,  35.6820,2,  35.6840,2,    207.9,2,    209.3,2,     4.46,2,    14.13,2,     0.66,2,   -999.0,9,   7.8270,2,    25.00,  12.0764
  35TH20020610, OVIDE,    95,  1,      7,2,20020710,2224, 40.3340,  -9.6430,  379,    197.6,  12.2360,  35.6730,2,-999.0000,9,    213.8,2,   -999.0,9,     3.92,2,    13.28,2,     0.63,2,   -999.0,9,   7.8380,2,    25.00,  12.2097
  35TH20020610, OVIDE,    95,  1,      8,2,20020710,2224, 40.3340,  -9.6430,  379,    147.6,  12.6900,  35.7050,2,-999.0000,9,    224.2,2,   -999.0,9,     2.88,2,    10.65,2,     0.50,2,   -999.0,9,   7.8650,2,    25.00,  12.6699
  35TH20020610, OVIDE,    95,  1,      9,2,20020710,2224, 40.3340,  -9.6430,  379,     97.2,  13.3910,  35.7900,2,  35.7880,2,    233.3,2,    236.0,2,     1.82,2,     6.68,2,     0.31,2,   -999.0,9,   7.8950,2,    25.00,  13.3773
  35TH20020610, OVIDE,    95,  1,     10,2,20020710,2224, 40.3340,  -9.6430,  379,     48.3,  13.9000,  35.7870,2,-999.0000,9,    238.6,2,   -999.0,9,     1.51,2,     4.49,2,     0.23,2,   -999.0,9,   7.9110,2,    25.00,  13.8930
  35TH20020610, OVIDE,    95,  1,     11,2,20020710,2224, 40.3340,  -9.6430,  379,      2.1,  16.1930,  35.6040,2,  35.6030,2,    250.3,2,    260.1,3,     0.69,2,     0.77,2,     0.08,2,   -999.0,9,   7.9670,2,    25.00,  16.1927
  35TH20020610, OVIDE,    96,  1,      3,2,20020710,0015, 40.3330,  -9.4590,  148,    138.0,  12.2690,  35.6720,2,  35.6730,2,    210.6,2,    212.8,2,     4.26,2,    13.40,2,     0.62,2,   2342.7,2,   7.8260,2,    25.00,  12.2506
  35TH20020610, OVIDE,    96,  1,      4,2,20020710,0015, 40.3330,  -9.4590,  148,     98.0,  12.7310,  35.7170,2,-999.0000,9,    203.7,2,   -999.0,9,     4.33,2,    12.61,2,     0.57,2,   2343.1,2,   7.8310,2,    25.00,  12.7177
  35TH20020610, OVIDE,    96,  1,      5,2,20020710,0015, 40.3330,  -9.4590,  148,     67.6,  13.2270,  35.7350,2,  35.7350,2,    220.0,2,    223.0,2,     4.29,2,    12.56,2,     0.59,2,   2346.2,2,   7.8640,2,    25.00,  13.2176
  35TH20020610, OVIDE,    96,  1,      6,2,20020710,0015, 40.3330,  -9.4590,  148,     33.7,  14.8380,  35.6260,2,-999.0000,9,    247.0,2,   -999.0,9,     0.62,2,     2.56,2,     0.16,2,   2344.4,2,   7.9400,2,    25.00,  14.8329
  35TH20020610, OVIDE,    96,  1,      7,2,20020710,0015, 40.3330,  -9.4590,  148,      3.5,  15.6100,  35.6090,2,  35.6090,2,    248.2,2,    258.4,3,     0.48,2,     1.39,2,     0.13,2,   2344.7,2,   7.9590,2,    25.00,  15.6095