BOTTLE,20140820PRINUNIVRMK
EXPOCODE,SECT_ID,STNNBR,CASTNO,BTLNBR,BTLNBR_FLAG_W,DATE,TIME,LATITUDE,LONGITUDE,DEPTH,CTDPRS,CTDTMP,CTDSAL,CTDSAL_FLAG_W,SALNTY,SALNTY_FLAG_W,CTDOXY,CTDOXY_FLAG_W,OXYGEN,OXYGEN_FLAG_W,SILCAT,SILCAT_FLAG_W,NITRAT,NITRAT_FLAG_W,PHSPHT,PHSPHT_FLAG_W,ALKALI,ALKALI_FLAG_W,PH_SWS,PH_SWS_FLAG_W,PH_TMP,THETA
,,,,,,,,,,METERS,DBAR,ITS-90,PSS-78,,PSS-78,,UMOL/KG,,UMOL/KG,,UMOL/KG,,UMOL/KG,,UMOL/KG,,UMOL/KG,,,,DEG C,DEG C
  35TH20020610, OVIDE,    31,  1,      3,2,20020622,0929, 58.2080, -29.7240, 2254,   2244.1,   2.9150,  34.9790,2,  34.9790,2,    274.1,2,    275.9,2,    11.90,2,    16.21,2,     0.92,2,   -999.0,9,   7.7240,2,    25.00,   2.7410
  35TH20020610, OVIDE,    31,  1,      4,2,20020622,0929, 58.2080, -29.7240, 2254,   2194.8,   2.9200,  34.9790,2,  34.9790,2,    276.1,2,    276.1,2,    11.93,2,    16.21,2,     0.93,2,   -999.0,9,-999.0000,9,  -999.00,   2.7505
  35TH20020610, OVIDE,    31,  1,      5,2,20020622,0929, 58.2080, -29.7240, 2254,   2095.8,   2.9500,  34.9810,2,  34.9790,2,    275.8,2,    275.3,2,    11.72,2,    16.21,2,     0.93,2,   -999.0,9,   7.7270,2,    25.00,   2.7893
  35TH20020610, OVIDE,    31,  1,      6,2,20020622,0929, 58.2080, -29.7240, 2254,   1995.9,   2.9630,  34.9790,2,  34.9770,2,    275.9,2,    276.3,2,    11.69,2,    16.15,2,     0.92,2,   -999.0,9,   7.7280,2,    25.00,   2.8112
  35TH20020610, OVIDE,    31,  1,      7,2,20020622,0929, 58.2080, -29.7240, 2254,   1796.3,   3.1750,  34.9700,2,  34.9710,2,    276.9,2,    277.2,2,    11.17,2,    16.32,2,     0.92,2,   -999.0,9,   7.7280,2,    25.00,   3.0382
  35TH20020610, OVIDE,    31,  1,      8,2,20020622,0929, 58.2080, -29.7240, 2254,   1595.0,   3.3680,  34.9390,2,  34.9410,2,    278.5,2,    277.7,2,    10.66,2,    16.82,2,     0.94,2,   -999.0,9,   7.7300,2,    25.00,   3.2467
  35TH20020610, OVIDE,    31,  1,      9,2,20020622,0929, 58.2080, -29.7240, 2254,   1395.0,   3.5500,  34.9240,2,  34.9240,2,    277.8,2,    276.7,2,    10.52,2,    17.26,3,     0.96,2,   -999.0,9,   7.7330,2,    25.00,   3.4441
  35TH20020610, OVIDE,    31,  1,     10,2,20020622,0929, 58.2080, -29.7240, 2254,   1194.9,   3.9060,  34.9460,2,  34.9960,3,    269.1,2,    267.0,2,     9.45,3,    16.71,2,     0.93,3,   -999.0,9,   7.7230,3,    25.00,   3.8138
  35TH20020610, OVIDE,    31,  1,     11,2,20020622,0929, 58.2080, -29.7240, 2254,    996.4,   4.4660,  34.9830,2,  34.9820,2,    259.7,2,    261.7,2,    10.31,2,    17.59,2,     0.96,2,   -999.0,9,   7.7280,2,    25.00,   4.3863
  35TH20020610, OVIDE,    31,  1,     12,2,20020622,0929, 58.2080, -29.7240, 2254,    896.4,   4.7910,  35.0010,2,  35.0000,2,    252.4,2,    252.8,2,    10.34,2,    17.75,2,     1.00,2,   -999.0,9,   7.7210,2,    25.00,   4.7177
  35TH20020610, OVIDE,    31,  1,     13,2,20020622,0929, 58.2080, -29.7240, 2254,    796.4,   5.3100,  35.0330,2,  35.0340,2,    243.0,2,    243.8,2,    10.34,2,    18.19,2,     1.01,2,   -999.0,9,   7.7220,2,    25.00,   5.2422
  35TH20020610, OVIDE,    31,  1,     14,2,20020622,0929, 58.2080, -29.7240, 2254,    697.5,   5.9030,  35.0660,2,  35.0660,2,    238.5,2,    239.2,2,    10.07,2,    18.08,2,     1.00,2,   -999.0,9,   7.7280,2,    25.00,   5.8410
  35TH20020610, OVIDE,    31,  1,     15,2,20020622,0929, 58.2080, -29.7240, 2254,    596.4,   6.6120,  35.1090,2,  35.1070,2,    250.4,2,    260.7,3,     8.96,2,    17.03,2,     0.94,2,   -999.0,9,   7.7460,2,    25.00,   6.5561
  35TH20020610, OVIDE,    31,  1,     16,2,20020622,0929, 58.2080, -29.7240, 2254,    497.2,   6.9860,  35.1180,2,  35.1230,3,    263.2,2,    264.5,2,     7.62,2,    15.77,2,     0.88,2,   -999.0,9,-999.0000,9,  -999.00,   6.9384
  35TH20020610, OVIDE,    31,  1,     17,2,20020622,0929, 58.2080, -29.7240, 2254,    396.1,   7.2950,  35.1450,2,  35.1430,2,    273.8,2,    269.3,2,     6.96,3,    15.05,3,     0.83,3,   -999.0,9,   7.7780,2,    25.00,   7.2564
  35TH20020610, OVIDE,    31,  1,     18,2,20020622,0929, 58.2080, -29.7240, 2254,    295.9,   7.3050,  35.1180,2,  35.1210,2,    277.6,2,    273.5,2,     6.76,2,    14.83,2,     0.82,2,   -999.0,9,   7.7830,2,    25.00,   7.2763
  35TH20020610, OVIDE,    31,  1,     19,2,20020622,0929, 58.2080, -29.7240, 2254,    196.3,   7.4130,  35.1110,2,  35.1130,2,    276.5,2,    274.3,2,     6.69,2,    14.66,2,     0.81,2,   -999.0,9,   7.7870,2,    25.00,   7.3940
  35TH20020610, OVIDE,    31,  1,     20,2,20020622,0929, 58.2080, -29.7240, 2254,    145.9,   7.6790,  35.1260,2,  35.1330,3,    273.5,2,    271.2,2,     6.21,2,    14.50,2,     0.80,2,   -999.0,9,   7.7870,2,    25.00,   7.6646
  35TH20020610, OVIDE,    31,  1,     21,2,20020622,0929, 58.2080, -29.7240, 2254,     96.8,   7.8420,  35.1190,2,  35.1170,2,    274.5,2,    274.6,2,     6.24,2,    13.89,2,     0.77,2,   -999.0,9,   7.7910,2,    25.00,   7.8324
  35TH20020610, OVIDE,    31,  1,     22,2,20020622,0929, 58.2080, -29.7240, 2254,     46.2,   9.5420,  35.1000,2,  35.1090,3,    290.6,2,    286.7,2,     1.79,2,     8.52,2,     0.50,2,   -999.0,9,   7.8790,2,    25.00,   9.5368
  35TH20020610, OVIDE,    31,  1,     23,2,20020622,0929, 58.2080, -29.7240, 2254,      5.3,   9.8370,  35.1080,2,  35.1060,2,    281.2,2,    290.8,3,     0.96,2,     6.94,2,     0.40,2,   -999.0,9,   7.9080,2,    25.00,   9.8364
  35TH20020610, OVIDE,    32,  1,      3,2,20020622,1324, 57.9710, -29.2770, 2151,   2140.6,   2.8980,  34.9770,2,  34.9790,2,    275.7,2,    275.1,2,  -999.00,9,  -999.00,9,     0.93,2,   2309.5,2,-999.0000,9,  -999.00,   2.7339
  35TH20020610, OVIDE,    32,  1,      4,2,20020622,1324, 57.9710, -29.2770, 2151,   2140.7,   2.8980,  34.9770,2,  34.9760,2,    275.7,2,    275.2,2,    12.11,2,    16.47,2,     0.94,2,   2309.5,2,   7.7260,2,    25.00,   2.7339
  35TH20020610, OVIDE,    32,  1,      5,2,20020622,1324, 57.9710, -29.2770, 2151,   2094.8,   2.9080,  34.9770,2,-999.0000,9,    276.4,2,   -999.0,9,    12.18,2,    16.47,2,     0.93,2,   -999.0,9,-999.0000,9,  -999.00,   2.7480
  35TH20020610, OVIDE,    32,  1,      6,2,20020622,1324, 57.9710, -29.2770, 2151,   2045.7,   2.9570,  34.9740,2,-999.0000,9,    275.8,2,   -999.0,9,    12.15,2,    16.41,2,     0.94,2,   -999.0,9,-999.0000,9,  -999.00,   2.8008
  35TH20020610, OVIDE,    32,  1,      7,2,20020622,1324, 57.9710, -29.2770, 2151,   1996.6,   3.0130,  34.9720,2,  34.9730,2,    275.3,2,    274.8,2,    12.22,2,    16.58,2,     0.96,2,   2308.2,2,   7.7300,2,    25.00,   2.8604
  35TH20020610, OVIDE,    32,  1,      8,2,20020622,1324, 57.9710, -29.2770, 2151,   1946.3,   3.1270,  34.9640,2,-999.0000,9,    276.4,2,   -999.0,9,    12.15,2,    16.63,2,     0.95,2,   -999.0,9,-999.0000,9,  -999.00,   2.9774
  35TH20020610, OVIDE,    32,  1,      9,2,20020622,1324, 57.9710, -29.2770, 2151,   1845.0,   3.2910,  34.9510,2,-999.0000,9,    277.7,2,   -999.0,9,    11.98,2,    16.74,2,     0.98,2,   -999.0,9,-999.0000,9,  -999.00,   3.1483
  35TH20020610, OVIDE,    32,  1,     10,2,20020622,1324, 57.9710, -29.2770, 2151,   1797.5,   3.3480,  34.9450,2,  35.0010,3,    278.9,2,    273.8,2,    11.33,2,    16.86,2,     0.91,3,   -999.0,9,-999.0000,9,  -999.00,   3.2089
  35TH20020610, OVIDE,    32,  1,     11,2,20020622,1324, 57.9710, -29.2770, 2151,   1796.8,   3.3540,  34.9440,2,-999.0000,9,    278.8,2,   -999.0,9,     9.55,3,    16.00,3,     0.98,2,   -999.0,9,-999.0000,9,  -999.00,   3.2149
  35TH20020610, OVIDE,    32,  1,     12,2,20020622,1324, 57.9710, -29.2770, 2151,   1646.8,   3.4450,  34.9170,2,-999.0000,9,    279.7,2,   -999.0,9,    10.71,2,    17.41,2,     1.01,2,   2301.1,2,   7.7300,2,    25.00,   3.3183
  35TH20020610, OVIDE,    32,  1,     13,2,20020622,1324, 57.9710, -29.2770, 2151,   1596.8,   3.4040,  34.9020,2,  34.9030,2,    279.2,2,    278.9,2,    10.85,2,    17.52,2,     1.01,2,   -999.0,9,-999.0000,9,  -999.00,   3.2822
  35TH20020610, OVIDE,    32,  1,     14,2,20020622,1324, 57.9710, -29.2770, 2151,   1395.1,   3.5950,  34.9050,2,  34.9080,2,    275.6,2,    280.8,2,    10.85,2,    17.52,2,     1.02,2,   2301.0,2,   7.7260,2,    25.00,   3.4887
  35TH20020610, OVIDE,    32,  1,     15,2,20020622,1324, 57.9710, -29.2770, 2151,   1196.4,   3.9580,  34.9210,2,  34.9230,2,    267.1,2,    265.5,2,    10.85,2,    17.96,2,     1.03,2,   2301.8,2,   7.7190,2,    25.00,   3.8653
  35TH20020610, OVIDE,    32,  1,     16,2,20020622,1324, 57.9710, -29.2770, 2151,    996.1,   4.6520,  34.9770,2,  34.9760,2,    253.4,2,    251.3,2,    10.61,2,    17.96,2,     1.07,2,   2306.0,2,   7.7160,2,    25.00,   4.5709
  35TH20020610, OVIDE,    32,  1,     17,2,20020622,1324, 57.9710, -29.2770, 2151,   1196.4,   3.9580,  34.9210,2,-999.0000,9,    267.1,2,   -999.0,9,  -999.00,9,  -999.00,9,  -999.00,9,   -999.0,9,-999.0000,9,  -999.00,   3.8653
  35TH20020610, OVIDE,    32,  1,     18,2,20020622,1324, 57.9710, -29.2770, 2151,    795.2,   5.8010,  35.0220,2,  35.0200,2,    231.5,2,    231.6,2,    10.85,2,    18.63,2,     1.14,2,   2310.8,2,   7.7120,2,    25.00,   5.7304
  35TH20020610, OVIDE,    32,  1,     19,2,20020622,1324, 57.9710, -29.2770, 2151,    696.7,   6.6410,  35.0720,2,  35.0700,2,    243.0,2,    229.8,3,    10.78,2,    19.29,2,     1.07,2,   2312.2,2,   7.7300,2,    25.00,   6.5752
  35TH20020610, OVIDE,    32,  1,     20,2,20020622,1324, 57.9710, -29.2770, 2151,    595.8,   7.2850,  35.1380,2,  35.1330,3,    278.9,2,    275.6,2,    10.03,2,    18.46,3,     0.89,2,   2313.9,2,   7.7860,2,    25.00,   7.2262
  35TH20020610, OVIDE,    32,  1,     21,2,20020622,1324, 57.9710, -29.2770, 2151,    495.6,   7.4700,  35.1530,2,  35.1530,2,    270.5,2,    272.5,2,     6.76,3,    14.86,2,     0.86,2,   2315.9,2,   7.7820,2,    25.00,   7.4207
  35TH20020610, OVIDE,    32,  1,     22,2,20020622,1324, 57.9710, -29.2770, 2151,    397.1,   7.6820,  35.1610,2,  35.1630,2,    267.8,2,    266.4,2,     6.79,2,    14.86,2,     0.82,2,   2315.7,2,   7.7880,2,    25.00,   7.6421
  35TH20020610, OVIDE,    32,  1,     23,2,20020622,1324, 57.9710, -29.2770, 2151,    296.1,   7.9480,  35.1620,2,  35.1630,2,    268.5,2,    264.9,2,     6.65,2,    14.86,2,     0.82,2,   2316.2,2,   7.7910,2,    25.00,   7.9179
  35TH20020610, OVIDE,    32,  1,     24,2,20020622,1324, 57.9710, -29.2770, 2151,    196.7,   8.0900,  35.1480,2,  35.1520,2,    271.4,2,    271.1,2,     6.28,2,    14.03,2,     0.77,2,   2316.3,2,   7.8000,2,    25.00,   8.0699
  35TH20020610, OVIDE,    32,  1,     25,2,20020622,1324, 57.9710, -29.2770, 2151,    146.2,   8.1780,  35.1400,2,-999.0000,9,    270.8,2,   -999.0,9,     6.45,2,    13.92,2,     0.78,2,   -999.0,9,-999.0000,9,  -999.00,   8.1630
  35TH20020610, OVIDE,    32,  1,     26,2,20020622,1324, 57.9710, -29.2770, 2151,     95.6,   8.5030,  35.1640,2,-999.0000,9,    271.2,2,   -999.0,9,     6.00,2,    13.25,2,     0.74,2,   -999.0,9,-999.0000,9,  -999.00,   8.4930
  35TH20020610, OVIDE,    32,  1,     27,2,20020622,1324, 57.9710, -29.2770, 2151,     84.9,   8.5440,  35.1590,2,-999.0000,9,    268.5,2,   -999.0,9,     5.97,2,    13.30,2,     0.78,3,   -999.0,9,-999.0000,9,  -999.00,   8.5351
  35TH20020610, OVIDE,    32,  1,     28,2,20020622,1324, 57.9710, -29.2770, 2151,     46.8,   8.7730,  35.1490,2,-999.0000,9,    277.1,2,   -999.0,9,     5.80,2,    12.86,2,     0.73,2,   -999.0,9,-999.0000,9,  -999.00,   8.7680
  35TH20020610, OVIDE,    32,  1,     29,2,20020622,1324, 57.9710, -29.2770, 2151,      2.9,  10.2950,  35.1550,2,-999.0000,9,    285.3,2,   -999.0,9,     1.43,2,     6.63,2,     0.43,2,   -999.0,9,-999.0000,9,  -999.00,  10.2947
  35TH20020610, OVIDE,    32,  1,     30,2,20020622,1324, 57.9710, -29.2770, 2151,      3.2,  10.2940,  35.1520,2,-999.0000,9,    285.3,2,   -999.0,9,     1.57,2,     6.58,2,     0.43,2,   -999.0,9,-999.0000,9,  -999.00,  10.2936
  35TH20020610, OVIDE,    33,  1,      3,2,20020622,1735, 57.6740, -28.7260, 2495,   2485.3,   2.8230,  34.9800,2,  34.9780,2,    276.1,2,    274.5,2,    13.10,2,    16.65,2,     0.96,2,   -999.0,9,   7.7250,2,    25.00,   2.6275
  35TH20020610, OVIDE,    33,  1,      4,2,20020622,1735, 57.6740, -28.7260, 2495,   2485.2,   2.8230,  34.9800,2,-999.0000,9,    276.1,2,   -999.0,9,    13.17,2,    16.48,2,     0.96,2,   -999.0,9,-999.0000,9,  -999.00,   2.6276
  35TH20020610, OVIDE,    33,  1,      5,2,20020622,1735, 57.6740, -28.7260, 2495,   2444.9,   2.8560,  34.9800,2,-999.0000,9,    276.5,2,   -999.0,9,    12.76,2,    16.21,2,     0.96,2,   -999.0,9,-999.0000,9,  -999.00,   2.6639
  35TH20020610, OVIDE,    33,  1,      6,2,20020622,1735, 57.6740, -28.7260, 2495,   2395.2,   2.9070,  34.9820,2,  34.9800,2,    276.8,2,    274.8,2,    12.17,2,    16.43,2,     0.95,2,   -999.0,9,   7.7270,2,    25.00,   2.7187
  35TH20020610, OVIDE,    33,  1,      7,2,20020622,1735, 57.6740, -28.7260, 2495,   2345.7,   2.9390,  34.9800,2,-999.0000,9,    277.0,2,   -999.0,9,    12.07,2,    16.37,2,     0.94,2,   -999.0,9,-999.0000,9,  -999.00,   2.7549
  35TH20020610, OVIDE,    33,  1,      8,2,20020622,1735, 57.6740, -28.7260, 2495,   2296.0,   2.9870,  34.9800,2,  34.9780,2,    277.3,2,    274.6,2,    11.90,2,    16.21,2,     0.96,2,   -999.0,9,   7.7310,2,    25.00,   2.8069
  35TH20020610, OVIDE,    33,  1,      9,2,20020622,1735, 57.6740, -28.7260, 2495,   1995.6,   3.3820,  34.9400,2,  34.9370,2,    278.9,2,    277.5,2,    10.83,2,    16.87,2,     0.98,2,   -999.0,9,   7.7330,2,    25.00,   3.2241
  35TH20020610, OVIDE,    33,  1,     10,2,20020622,1735, 57.6740, -28.7260, 2495,   1797.1,   3.4970,  34.9200,2,  35.0110,3,    278.3,2,    273.3,2,     8.97,3,    16.21,3,     0.93,3,   -999.0,9,-999.0000,9,  -999.00,   3.3560
  35TH20020610, OVIDE,    33,  1,     11,2,20020622,1735, 57.6740, -28.7260, 2495,   1595.6,   3.7260,  34.9130,2,  34.9120,2,    272.6,2,    271.0,2,    10.83,2,    18.08,2,     1.04,2,   -999.0,9,   7.7230,2,    25.00,   3.6004
  35TH20020610, OVIDE,    33,  1,     12,2,20020622,1735, 57.6740, -28.7260, 2495,   1495.0,   4.1440,  34.9610,2,  34.9580,2,    265.5,2,    264.9,2,    10.55,3,    17.76,3,     1.02,2,   -999.0,9,   7.7240,2,    25.00,   4.0226
  35TH20020610, OVIDE,    33,  1,     13,2,20020622,1735, 57.6740, -28.7260, 2495,   1396.2,   4.1540,  34.9370,2,  34.9360,2,    260.6,2,    261.1,2,    10.69,2,    18.19,2,     1.12,3,   -999.0,9,-999.0000,9,  -999.00,   4.0416
  35TH20020610, OVIDE,    33,  1,     14,2,20020622,1735, 57.6740, -28.7260, 2495,   1196.5,   4.7870,  34.9740,2,  34.9750,2,    247.7,2,    247.7,2,    10.72,2,    18.30,2,     1.05,2,   -999.0,9,   7.7140,2,    25.00,   4.6866
  35TH20020610, OVIDE,    33,  1,     15,2,20020622,1735, 57.6740, -28.7260, 2495,    995.7,   6.2960,  35.0820,2,  35.0790,2,    232.3,2,    231.9,2,    10.24,2,    18.58,2,     1.05,2,   -999.0,9,   7.7260,2,    25.00,   6.2025
  35TH20020610, OVIDE,    33,  1,     16,2,20020622,1735, 57.6740, -28.7260, 2495,    895.3,   7.1870,  35.1430,2,-999.0000,9,    265.8,2,   -999.0,9,     7.65,2,    15.99,2,     0.91,2,   -999.0,9,-999.0000,9,  -999.00,   7.0975
  35TH20020610, OVIDE,    33,  1,     17,2,20020622,1735, 57.6740, -28.7260, 2495,      4.4,  10.3180,  35.1500,2,-999.0000,9,    288.7,2,   -999.0,9,  -999.00,9,  -999.00,9,  -999.00,9,   -999.0,9,-999.0000,9,  -999.00,  10.3175
  35TH20020610, OVIDE,    33,  1,     18,2,20020622,1735, 57.6740, -28.7260, 2495,    796.0,   7.5190,  35.1700,2,  35.1690,2,    267.8,2,    266.6,2,     6.96,2,    15.32,2,     0.87,2,   -999.0,9,   7.7820,2,    25.00,   7.4379
  35TH20020610, OVIDE,    33,  1,     19,2,20020622,1735, 57.6740, -28.7260, 2495,    696.5,   7.7000,  35.1740,2,-999.0000,9,    276.7,2,   -999.0,9,     6.34,2,    14.50,2,     0.82,2,   -999.0,9,-999.0000,9,  -999.00,   7.6286
  35TH20020610, OVIDE,    33,  1,     20,2,20020622,1735, 57.6740, -28.7260, 2495,    595.1,   7.6930,  35.1650,2,  35.1660,2,    275.2,2,    276.5,2,     6.34,3,    14.33,3,     0.82,3,   -999.0,9,   7.7960,2,    25.00,   7.6324
  35TH20020610, OVIDE,    33,  1,     21,2,20020622,1735, 57.6740, -28.7260, 2495,    496.4,   7.8870,  35.1740,2,-999.0000,9,    273.5,2,   -999.0,9,     6.48,2,    14.77,2,     0.82,2,   -999.0,9,-999.0000,9,  -999.00,   7.8361
  35TH20020610, OVIDE,    33,  1,     22,2,20020622,1735, 57.6740, -28.7260, 2495,    397.2,   8.0550,  35.1860,2,  35.1850,2,    272.9,2,    271.6,2,     5.93,2,    14.00,2,     0.80,2,   -999.0,9,   7.8020,2,    25.00,   8.0140
  35TH20020610, OVIDE,    33,  1,     23,2,20020622,1735, 57.6740, -28.7260, 2495,    298.3,   8.1550,  35.1820,2,-999.0000,9,    275.2,2,   -999.0,9,     5.93,2,    13.67,2,     0.78,2,   -999.0,9,-999.0000,9,  -999.00,   8.1242
  35TH20020610, OVIDE,    33,  1,     24,2,20020622,1735, 57.6740, -28.7260, 2495,    196.9,   8.1910,  35.1810,2,  35.1800,2,    273.7,2,    271.9,2,     5.83,2,    13.67,2,     0.80,2,   -999.0,9,   7.8030,2,    25.00,   8.1707
  35TH20020610, OVIDE,    33,  1,     25,2,20020622,1735, 57.6740, -28.7260, 2495,    146.9,   8.2080,  35.1790,2,-999.0000,9,    273.5,2,   -999.0,9,     5.83,2,    13.78,2,     0.79,2,   -999.0,9,-999.0000,9,  -999.00,   8.1929
  35TH20020610, OVIDE,    33,  1,     26,2,20020622,1735, 57.6740, -28.7260, 2495,     96.4,   8.2480,  35.1790,2,  35.1800,2,    273.7,2,    273.1,2,     5.55,2,    13.73,2,     0.78,2,   -999.0,9,   7.8050,2,    25.00,   8.2381
  35TH20020610, OVIDE,    33,  1,     27,2,20020622,1735, 57.6740, -28.7260, 2495,     48.0,   8.4420,  35.1760,2,-999.0000,9,    280.7,2,   -999.0,9,     5.62,2,    12.79,2,     0.75,2,   -999.0,9,-999.0000,9,  -999.00,   8.4370
  35TH20020610, OVIDE,    33,  1,     28,2,20020622,1735, 57.6740, -28.7260, 2495,      4.4,  10.3180,  35.1500,2,  35.1500,2,    288.7,2,    283.0,3,     1.38,2,     6.31,2,     0.43,2,   -999.0,9,   7.9110,2,    25.00,  10.3175