BOTTLE,20140820PRINUNIVRMK
EXPOCODE,SECT_ID,STNNBR,CASTNO,BTLNBR,BTLNBR_FLAG_W,DATE,TIME,LATITUDE,LONGITUDE,DEPTH,CTDPRS,CTDTMP,CTDSAL,CTDSAL_FLAG_W,SALNTY,SALNTY_FLAG_W,CTDOXY,CTDOXY_FLAG_W,OXYGEN,OXYGEN_FLAG_W,SILCAT,SILCAT_FLAG_W,NITRAT,NITRAT_FLAG_W,PHSPHT,PHSPHT_FLAG_W,ALKALI,ALKALI_FLAG_W,PH_SWS,PH_SWS_FLAG_W,PH_TMP,THETA
,,,,,,,,,,METERS,DBAR,ITS-90,PSS-78,,PSS-78,,UMOL/KG,,UMOL/KG,,UMOL/KG,,UMOL/KG,,UMOL/KG,,UMOL/KG,,,,DEG C,DEG C
  35TH20020610, OVIDE,    89,  1,      3,2,20020710,0308, 40.3340, -10.3000, 3962,   3952.2,   2.4360,  34.9050,2,  34.9060,2,    241.4,2,    245.1,2,    46.20,2,    23.14,2,     1.36,2,   -999.0,9,   7.7320,2,    25.00,   2.0949
  35TH20020610, OVIDE,    89,  1,      4,2,20020710,0308, 40.3340, -10.3000, 3962,   3747.6,   2.4530,  34.9080,2,  34.9100,2,    243.6,2,    242.6,2,    45.18,2,    22.92,2,     1.35,2,   -999.0,9,   7.7300,2,    25.00,   2.1345
  35TH20020610, OVIDE,    89,  1,      5,2,20020710,0308, 40.3340, -10.3000, 3962,   3497.3,   2.5270,  34.9180,2,  34.9180,2,    244.2,2,    243.0,2,    43.03,2,    22.70,2,     1.34,2,   -999.0,9,   7.7340,2,    25.00,   2.2341
  35TH20020610, OVIDE,    89,  1,      6,2,20020710,0308, 40.3340, -10.3000, 3962,   3247.1,   2.6270,  34.9310,2,-999.0000,9,    245.1,2,   -999.0,9,    40.10,2,    22.26,2,     1.30,2,   -999.0,9,   7.7350,2,    25.00,   2.3585
  35TH20020610, OVIDE,    89,  1,      7,2,20020710,0308, 40.3340, -10.3000, 3962,   2995.3,   2.7980,  34.9480,2,  34.9490,2,    246.0,2,    245.7,2,    36.48,2,    21.71,2,     1.28,2,   -999.0,9,   7.7350,2,    25.00,   2.5520
  35TH20020610, OVIDE,    89,  1,      8,2,20020710,0308, 40.3340, -10.3000, 3962,   2746.3,   2.9950,  34.9680,2,-999.0000,9,    246.9,2,   -999.0,9,    33.09,2,    21.16,2,     1.25,2,   -999.0,9,   7.7380,2,    25.00,   2.7704
  35TH20020610, OVIDE,    89,  1,      9,2,20020710,0308, 40.3340, -10.3000, 3962,   2498.6,   3.2460,  34.9940,2,  34.9940,2,    248.1,2,    248.1,2,    29.25,2,    20.61,2,     1.21,2,   -999.0,9,   7.7410,2,    25.00,   3.0414
  35TH20020610, OVIDE,    89,  1,     10,2,20020710,0308, 40.3340, -10.3000, 3962,   2246.3,   3.5650,  35.0220,2,-999.0000,9,    250.5,2,   -999.0,9,    24.51,2,    20.12,2,     1.18,2,   -999.0,9,   7.7400,2,    25.00,   3.3798
  35TH20020610, OVIDE,    89,  1,     11,2,20020710,0308, 40.3340, -10.3000, 3962,   1942.8,   4.0410,  35.0580,2,  35.0570,2,    254.8,2,    253.5,2,    16.29,3,    18.97,2,     1.10,2,   -999.0,9,   7.7410,2,    25.00,   3.8782
  35TH20020610, OVIDE,    89,  1,     12,2,20020710,0308, 40.3340, -10.3000, 3962,   1795.9,   4.8690,  35.1800,2,-999.0000,9,    246.0,2,   -999.0,9,    14.74,2,    18.75,2,     1.06,2,   -999.0,9,   7.7450,2,    25.00,   4.7091
  35TH20020610, OVIDE,    89,  1,     13,2,20020710,0308, 40.3340, -10.3000, 3962,   1595.7,   6.4670,  35.4460,2,  35.4490,2,    228.7,2,    226.4,2,    12.88,2,    18.08,2,     1.01,2,   -999.0,9,   7.7570,2,    25.00,   6.3078
  35TH20020610, OVIDE,    89,  1,     14,2,20020710,0308, 40.3340, -10.3000, 3962,   1396.0,   8.8440,  35.8840,2,-999.0000,9,    200.9,2,   -999.0,9,    11.12,2,    17.20,2,     0.94,2,   -999.0,9,   7.7850,2,    25.00,   8.6819
  35TH20020610, OVIDE,    89,  1,     15,2,20020710,0308, 40.3340, -10.3000, 3962,   1295.9,   9.5710,  36.0010,2,  36.0040,2,    194.2,2,    195.0,2,    10.37,2,    16.98,2,     0.91,2,   -999.0,9,   7.7890,2,    25.00,   9.4144
  35TH20020610, OVIDE,    89,  1,     16,2,20020710,0308, 40.3340, -10.3000, 3962,   1197.3,   9.5290,  35.9120,2,-999.0000,9,    189.4,2,   -999.0,9,    10.03,3,    17.20,2,     0.92,2,   -999.0,9,   7.7820,2,    25.00,   9.3855
  35TH20020610, OVIDE,    89,  1,     17,2,20020710,0308, 40.3340, -10.3000, 3962,    996.0,  10.6950,  36.0480,2,  36.0480,2,    182.1,2,    181.6,2,     9.20,2,    16.71,2,     0.90,2,   -999.0,9,   7.7920,2,    25.00,  10.5684
  35TH20020610, OVIDE,    89,  1,     18,2,20020710,0308, 40.3340, -10.3000, 3962,    896.8,  11.2010,  36.0920,2,-999.0000,9,    181.1,2,   -999.0,9,     8.58,2,    16.21,2,     0.86,2,   -999.0,9,   7.8000,2,    25.00,  11.0843
  35TH20020610, OVIDE,    89,  1,     19,2,20020710,0308, 40.3340, -10.3000, 3962,    797.8,  10.8980,  35.9110,2,  35.9070,2,    184.8,2,    186.7,2,     8.38,3,    16.22,2,     0.94,3,   -999.0,9,   7.7910,2,    25.00,  10.7965
  35TH20020610, OVIDE,    89,  1,     20,2,20020710,0308, 40.3340, -10.3000, 3962,    744.4,  11.3130,  35.9320,2,  35.9230,3,    183.3,2,    183.6,2,     7.83,3,    16.33,2,     0.86,2,   -999.0,9,   7.7960,2,    25.00,  11.2163
  35TH20020610, OVIDE,    89,  1,     21,2,20020710,0308, 40.3340, -10.3000, 3962,    695.8,  11.5820,  35.9570,2,-999.0000,9,    182.1,2,   -999.0,9,     7.48,3,    15.56,3,     0.82,2,   -999.0,9,   7.8010,2,    25.00,  11.4905
  35TH20020610, OVIDE,    89,  1,     22,2,20020710,0308, 40.3340, -10.3000, 3962,    596.3,  11.1100,  35.7170,2,  35.7180,2,    189.9,2,    189.9,2,     7.14,2,    16.27,2,     0.85,2,   -999.0,9,   7.7870,2,    25.00,  11.0341
  35TH20020610, OVIDE,    89,  1,     23,2,20020710,0308, 40.3340, -10.3000, 3962,    496.6,  10.9150,  35.5370,2,-999.0000,9,    201.4,2,   -999.0,9,     6.39,2,    15.73,2,     0.81,2,   -999.0,9,   7.7860,2,    25.00,  10.8529
  35TH20020610, OVIDE,    89,  1,     24,2,20020710,0308, 40.3340, -10.3000, 3962,    395.6,  11.4800,  35.5800,2,  35.5800,2,    216.5,2,    214.9,2,     4.81,2,    13.15,2,     0.66,2,   -999.0,9,   7.8140,2,    25.00,  11.4291
  35TH20020610, OVIDE,    89,  1,     25,2,20020710,0308, 40.3340, -10.3000, 3962,    296.9,  11.9160,  35.6180,2,-999.0000,9,    219.7,2,   -999.0,9,     4.16,2,    11.95,2,     0.59,2,   -999.0,9,   7.8310,2,    25.00,  11.8770
  35TH20020610, OVIDE,    89,  1,     26,2,20020710,0308, 40.3340, -10.3000, 3962,    198.0,  12.6440,  35.7010,2,  35.7000,2,    230.0,2,    221.2,3,     3.33,2,    10.03,2,     0.50,2,   -999.0,9,   7.8530,2,    25.00,  12.6171
  35TH20020610, OVIDE,    89,  1,     27,2,20020710,0308, 40.3340, -10.3000, 3962,    147.9,  13.1730,  35.7700,2,-999.0000,9,    235.8,2,   -999.0,9,     2.13,2,     6.08,2,     0.30,2,   -999.0,9,   7.8920,2,    25.00,  13.1524
  35TH20020610, OVIDE,    89,  1,     28,2,20020710,0308, 40.3340, -10.3000, 3962,     96.0,  13.8900,  35.8920,2,-999.0000,9,    235.3,2,   -999.0,9,     1.65,2,     4.37,2,     0.23,2,   -999.0,9,   7.9120,2,    25.00,  13.8761
  35TH20020610, OVIDE,    89,  1,     29,2,20020710,0308, 40.3340, -10.3000, 3962,     46.4,  16.7840,  35.9560,2,-999.0000,9,    245.1,2,   -999.0,9,     1.10,2,     0.11,2,     0.04,2,   -999.0,9,   7.9860,2,    25.00,  16.7764
  35TH20020610, OVIDE,    89,  1,     30,2,20020710,0308, 40.3340, -10.3000, 3962,      3.8,  17.7010,  35.8790,2,  35.8800,2,    234.1,2,    241.6,3,     1.03,2,     0.00,2,     0.02,2,   -999.0,9,   7.9790,2,    25.00,  17.7004
  35TH20020610, OVIDE,    90,  1,      3,2,20020710,0804, 40.3320, -10.0320, 3586,   3575.6,   2.5280,  34.9180,2,  34.9160,2,    244.6,2,    243.5,2,    42.92,2,    22.77,2,     1.28,2,   2349.7,2,   7.7350,2,    25.00,   2.2265
  35TH20020610, OVIDE,    90,  1,      4,2,20020710,0804, 40.3320, -10.0320, 3586,   3396.7,   2.5870,  34.9260,2,-999.0000,9,    245.4,2,   -999.0,9,    40.55,2,    22.28,2,     1.32,2,   2346.1,2,   7.7360,2,    25.00,   2.3035
  35TH20020610, OVIDE,    90,  1,      5,2,20020710,0804, 40.3320, -10.0320, 3586,   3195.8,   2.6960,  34.9380,2,  34.9360,2,    246.4,2,    245.5,2,    38.29,2,    22.05,2,     1.31,2,   2342.2,2,   7.7370,2,    25.00,   2.4313
  35TH20020610, OVIDE,    90,  1,      6,2,20020710,0804, 40.3320, -10.0320, 3586,   2996.5,   2.8140,  34.9500,2,-999.0000,9,    247.4,2,   -999.0,9,    35.80,2,    21.89,2,     1.18,3,   2340.7,2,   7.7380,2,    25.00,   2.5675
  35TH20020610, OVIDE,    90,  1,      7,2,20020710,0804, 40.3320, -10.0320, 3586,   2796.0,   2.9730,  34.9680,2,  34.9650,2,    247.3,2,    251.6,2,    33.77,2,    21.56,2,     1.28,2,   2338.0,2,   7.7380,2,    25.00,   2.7438
  35TH20020610, OVIDE,    90,  1,      8,2,20020710,0804, 40.3320, -10.0320, 3586,   2796.8,   2.9760,  34.9680,2,-999.0000,9,    247.4,2,   -999.0,9,    33.32,2,    21.50,2,     1.27,2,   -999.0,9,-999.0000,9,  -999.00,   2.7466
  35TH20020610, OVIDE,    90,  1,      9,2,20020710,0804, 40.3320, -10.0320, 3586,   2596.0,   3.1460,  34.9840,2,  34.9820,2,    248.8,2,    248.6,2,    30.38,2,    21.06,2,     1.21,2,   2333.7,2,   7.7360,2,    25.00,   2.9336
  35TH20020610, OVIDE,    90,  1,     10,2,20020710,0804, 40.3320, -10.0320, 3586,   2394.9,   3.4700,  35.0210,2,-999.0000,9,    247.9,2,   -999.0,9,    26.99,2,    20.95,2,     1.18,2,   2332.1,2,   7.7390,2,    25.00,   3.2717
  35TH20020610, OVIDE,    90,  1,     11,2,20020710,0804, 40.3320, -10.0320, 3586,   2195.2,   3.8450,  35.0640,2,  35.0640,2,    247.3,2,    249.1,2,    23.38,2,    20.34,2,     1.14,2,   2330.0,2,   7.7430,2,    25.00,   3.6602
  35TH20020610, OVIDE,    90,  1,     12,2,20020710,0804, 40.3320, -10.0320, 3586,   1995.9,   4.3530,  35.1270,2,  35.1260,2,    251.2,2,    246.1,2,    19.99,2,    19.62,2,     1.13,2,   2329.5,2,   7.7440,2,    25.00,   4.1802
  35TH20020610, OVIDE,    90,  1,     13,2,20020710,0804, 40.3320, -10.0320, 3586,   1995.9,   4.3530,  35.1270,2,-999.0000,9,    251.2,2,   -999.0,9,    19.54,3,    19.40,3,     1.08,3,   -999.0,9,   7.7390,3,    25.00,   4.1802
  35TH20020610, OVIDE,    90,  1,     14,2,20020710,0804, 40.3320, -10.0320, 3586,   1795.7,   4.7210,  35.1550,2,  35.1560,2,    246.3,2,    247.9,2,    14.70,2,    18.96,2,     1.00,3,   2327.5,2,   7.7430,2,    25.00,   4.5631
  35TH20020610, OVIDE,    90,  1,     15,2,20020710,0804, 40.3320, -10.0320, 3586,   1597.3,   6.3180,  35.4100,2,-999.0000,9,    230.6,2,   -999.0,9,    12.72,2,    18.63,2,     1.06,2,   2342.8,2,   7.7530,2,    25.00,   6.1604
  35TH20020610, OVIDE,    90,  1,     16,2,20020710,0804, 40.3320, -10.0320, 3586,   1395.9,   8.7880,  35.8610,2,  35.8570,2,    203.1,2,    204.1,2,    11.36,2,    17.63,2,     0.94,2,   2373.0,2,   7.7790,2,    25.00,   8.6265
  35TH20020610, OVIDE,    90,  1,     17,2,20020710,0804, 40.3320, -10.0320, 3586,   1196.6,  10.8680,  36.2390,2,  36.2390,2,    183.3,2,    183.9,2,     9.48,2,    16.41,2,     0.86,2,   2397.1,2,   7.8030,2,    25.00,  10.7129
  35TH20020610, OVIDE,    90,  1,     18,2,20020710,0804, 40.3320, -10.0320, 3586,    995.8,  11.2320,  36.1970,2,  36.1960,2,    181.3,2,    180.8,2,     8.83,2,    16.80,3,     0.81,2,   2392.6,2,   7.8040,2,    25.00,  11.1015
  35TH20020610, OVIDE,    90,  1,     19,2,20020710,0804, 40.3320, -10.0320, 3586,    897.3,  11.4100,  36.1410,2,-999.0000,9,    183.3,2,   -999.0,9,     8.52,2,    16.25,2,     0.91,3,   2387.6,2,   7.8030,2,    25.00,  11.2919
  35TH20020610, OVIDE,    90,  1,     20,2,20020710,0804, 40.3320, -10.0320, 3586,    796.3,  11.4540,  36.0510,2,  36.0490,2,    182.4,2,    182.3,2,     7.98,2,    16.31,2,     0.88,2,   2379.0,2,   7.8030,2,    25.00,  11.3495
  35TH20020610, OVIDE,    90,  1,     21,2,20020710,0804, 40.3320, -10.0320, 3586,    697.5,  11.7530,  36.0380,2,-999.0000,9,    185.6,2,   -999.0,9,     7.40,3,    15.48,3,     0.82,3,   2376.6,2,   7.8070,2,    25.00,  11.6604
  35TH20020610, OVIDE,    90,  1,     22,2,20020710,0804, 40.3320, -10.0320, 3586,    596.9,  11.7560,  35.9360,2,  35.9400,2,    187.6,2,    184.8,2,     7.06,2,    15.81,2,     0.91,3,   2367.5,2,   7.8050,2,    25.00,  11.6771
  35TH20020610, OVIDE,    90,  1,     23,2,20020710,0804, 40.3320, -10.0320, 3586,    495.2,  10.9620,  35.5990,2,  35.5880,3,    202.0,2,    195.6,3,     6.82,2,    16.37,2,     0.89,3,   2339.8,2,   7.7880,2,    25.00,  10.8998
  35TH20020610, OVIDE,    90,  1,     24,2,20020710,0804, 40.3320, -10.0320, 3586,    396.8,  11.2640,  35.5580,2,-999.0000,9,    219.2,2,   -999.0,9,     5.05,2,    13.67,2,     0.73,2,   2335.0,2,   7.8090,2,    25.00,  11.2136
  35TH20020610, OVIDE,    90,  1,     25,2,20020710,0804, 40.3320, -10.0320, 3586,    297.4,  11.6870,  35.5840,2,-999.0000,9,    226.5,2,   -999.0,9,     4.13,2,    11.90,2,     0.65,2,   2335.6,2,   7.8290,2,    25.00,  11.6485
  35TH20020610, OVIDE,    90,  1,     26,2,20020710,0804, 40.3320, -10.0320, 3586,    197.6,  12.2980,  35.6540,2,  35.6530,2,    227.8,2,    226.2,2,     3.48,2,    10.47,2,     0.57,2,   2339.6,2,   7.8480,2,    25.00,  12.2716
  35TH20020610, OVIDE,    90,  1,     27,2,20020710,0804, 40.3320, -10.0320, 3586,    146.5,  12.7760,  35.7120,2,-999.0000,9,    236.6,2,   -999.0,9,     2.66,2,     7.91,2,     0.44,2,   2343.2,2,   7.8720,2,    25.00,  12.7560
  35TH20020610, OVIDE,    90,  1,     28,2,20020710,0804, 40.3320, -10.0320, 3586,     96.8,  13.2010,  35.7560,2,-999.0000,9,    239.6,2,   -999.0,9,     1.81,2,     5.54,2,     0.31,2,   2345.2,2,   7.8970,2,    25.00,  13.1875
  35TH20020610, OVIDE,    90,  1,     29,2,20020710,0804, 40.3320, -10.0320, 3586,     46.0,  13.8380,  35.7800,2,-999.0000,9,    250.8,2,   -999.0,9,     1.33,2,     2.29,2,     0.18,2,   2349.8,2,   7.9240,2,    25.00,  13.8314
  35TH20020610, OVIDE,    90,  1,     30,2,20020710,0804, 40.3320, -10.0320, 3586,      5.9,  17.4850,  35.7830,2,  35.7830,2,    238.3,2,    245.9,3,     0.99,2,     0.00,2,     0.04,2,   2351.7,2,   7.9870,2,    25.00,  17.4840
  35TH20020610, OVIDE,    91,  1,      3,2,20020710,1136, 40.3330,  -9.9430, 3446,   3435.5,   2.5820,  34.9250,2,  34.9230,2,    242.1,2,    245.0,2,  -999.00,9,  -999.00,9,  -999.00,9,   -999.0,9,   7.7350,2,    25.00,   2.2944
  35TH20020610, OVIDE,    91,  1,      4,2,20020710,1136, 40.3330,  -9.9430, 3446,   3434.3,   2.5830,  34.9250,2,-999.0000,9,    242.1,2,   -999.0,9,  -999.00,9,  -999.00,9,  -999.00,9,   -999.0,9,-999.0000,9,  -999.00,   2.2955
  35TH20020610, OVIDE,    91,  1,      5,2,20020710,1136, 40.3330,  -9.9430, 3446,   3435.7,   2.5830,  34.9240,2,-999.0000,9,    242.1,2,   -999.0,9,  -999.00,9,  -999.00,9,  -999.00,9,   -999.0,9,-999.0000,9,  -999.00,   2.2954
  35TH20020610, OVIDE,    91,  1,      6,2,20020710,1136, 40.3330,  -9.9430, 3446,   3435.4,   2.5830,  34.9240,2,-999.0000,9,    242.1,2,   -999.0,9,  -999.00,9,  -999.00,9,  -999.00,9,   -999.0,9,-999.0000,9,  -999.00,   2.2954
  35TH20020610, OVIDE,    91,  1,      7,2,20020710,1136, 40.3330,  -9.9430, 3446,   3434.8,   2.5830,  34.9240,2,-999.0000,9,    242.1,2,   -999.0,9,  -999.00,9,  -999.00,9,  -999.00,9,   -999.0,9,-999.0000,9,  -999.00,   2.2955
  35TH20020610, OVIDE,    91,  1,      8,2,20020710,1136, 40.3330,  -9.9430, 3446,   3436.2,   2.5830,  34.9240,2,-999.0000,9,    242.1,2,   -999.0,9,  -999.00,9,  -999.00,9,  -999.00,9,   -999.0,9,-999.0000,9,  -999.00,   2.2953
  35TH20020610, OVIDE,    91,  1,      9,2,20020710,1136, 40.3330,  -9.9430, 3446,   3434.6,   2.5830,  34.9260,2,-999.0000,9,    242.1,2,   -999.0,9,  -999.00,9,  -999.00,9,  -999.00,9,   -999.0,9,-999.0000,9,  -999.00,   2.2955
  35TH20020610, OVIDE,    91,  1,     10,2,20020710,1136, 40.3330,  -9.9430, 3446,   3435.7,   2.5830,  34.9240,2,-999.0000,9,    242.1,2,   -999.0,9,  -999.00,9,  -999.00,9,  -999.00,9,   -999.0,9,-999.0000,9,  -999.00,   2.2954
  35TH20020610, OVIDE,    91,  1,     11,2,20020710,1136, 40.3330,  -9.9430, 3446,   3435.7,   2.5830,  34.9250,2,-999.0000,9,    242.1,2,   -999.0,9,    41.23,2,    23.30,3,     1.34,2,   -999.0,9,-999.0000,9,  -999.00,   2.2954
  35TH20020610, OVIDE,    91,  1,     12,2,20020710,1136, 40.3330,  -9.9430, 3446,   2996.5,   2.8420,  34.9540,2,  34.9530,2,    246.0,2,    245.8,2,    35.58,2,    22.61,3,     1.28,2,   -999.0,9,   7.7370,2,    25.00,   2.5949
  35TH20020610, OVIDE,    91,  1,     13,2,20020710,1136, 40.3330,  -9.9430, 3446,   2746.1,   3.0090,  34.9700,2,  34.9690,2,    247.2,2,    247.0,2,    32.08,2,    20.64,2,     1.25,2,   -999.0,9,   7.7360,2,    25.00,   2.7841
  35TH20020610, OVIDE,    91,  1,     14,2,20020710,1136, 40.3330,  -9.9430, 3446,   2496.6,   3.2950,  35.0010,2,  35.0010,2,    248.1,2,    248.2,2,    28.46,2,    20.16,2,     1.22,2,   -999.0,9,   7.7390,2,    25.00,   3.0897
  35TH20020610, OVIDE,    91,  1,     15,2,20020710,1136, 40.3330,  -9.9430, 3446,   2243.4,   3.5370,  35.0200,2,-999.0000,9,    250.8,2,   -999.0,9,  -999.00,9,    20.26,2,     1.19,2,   -999.0,9,   7.7380,2,    25.00,   3.3526
  35TH20020610, OVIDE,    91,  1,     16,2,20020710,1136, 40.3330,  -9.9430, 3446,   2066.9,   3.9260,  35.0580,2,  35.0710,3,    251.8,2,    250.4,2,  -999.00,9,    18.02,3,     1.14,2,   -999.0,9,   7.7360,2,    25.00,   3.7527
  35TH20020610, OVIDE,    91,  1,     17,2,20020710,1136, 40.3330,  -9.9430, 3446,   1794.7,   5.4940,  35.3000,2,-999.0000,9,    237.4,2,   -999.0,9,    15.29,3,    19.62,3,     1.09,2,   -999.0,9,   7.7520,2,    25.00,   5.3256
  35TH20020610, OVIDE,    91,  1,     18,2,20020710,1136, 40.3330,  -9.9430, 3446,   1594.0,   6.9160,  35.5250,2,  35.5260,2,    224.2,2,    224.9,2,    12.57,2,    17.86,2,     1.04,2,   -999.0,9,   7.7600,2,    25.00,   6.7516
  35TH20020610, OVIDE,    91,  1,     19,2,20020710,1136, 40.3330,  -9.9430, 3446,   1392.6,   9.4390,  35.9900,2,  35.9880,2,    197.1,2,    196.4,2,    10.78,2,    15.24,3,     0.90,2,   -999.0,9,   7.7860,2,    25.00,   9.2713
  35TH20020610, OVIDE,    91,  1,     20,2,20020710,1136, 40.3330,  -9.9430, 3446,   1196.2,  10.8660,  36.2280,2,  36.2280,2,    183.3,2,    184.7,2,     9.37,2,    15.56,2,     0.87,2,   -999.0,9,   7.8000,2,    25.00,  10.7110
  35TH20020610, OVIDE,    91,  1,     21,2,20020710,1136, 40.3330,  -9.9430, 3446,    996.8,  11.4060,  36.2270,2,  36.2280,2,    181.5,2,    181.1,2,     8.51,2,    15.88,2,     0.86,2,   -999.0,9,   7.8080,2,    25.00,  11.2742
  35TH20020610, OVIDE,    91,  1,     22,2,20020710,1136, 40.3330,  -9.9430, 3446,    795.7,  11.7990,  36.1490,2,  36.1520,2,    183.9,2,    184.4,2,     7.55,2,    14.92,3,     0.81,2,   -999.0,9,   7.8130,2,    25.00,  11.6925
  35TH20020610, OVIDE,    91,  1,     23,2,20020710,1136, 40.3330,  -9.9430, 3446,    596.3,  11.5890,  35.8850,2,  35.8880,2,    184.3,2,    185.5,2,     7.14,2,    15.45,2,     0.86,2,   -999.0,9,   7.8010,2,    25.00,  11.5109
  35TH20020610, OVIDE,    91,  1,     24,2,20020710,1136, 40.3330,  -9.9430, 3446,    497.3,  11.5830,  35.7650,2,-999.0000,9,    188.7,2,   -999.0,9,     6.46,3,    15.99,3,     0.82,2,   -999.0,9,   7.7970,2,    25.00,  11.5183
  35TH20020610, OVIDE,    91,  1,     25,2,20020710,1136, 40.3330,  -9.9430, 3446,    376.5,  11.3840,  35.5750,2,  35.5760,2,    210.5,2,    214.7,2,     4.95,2,    14.28,2,     0.73,2,   -999.0,9,   7.8110,2,    25.00,  11.3359
  35TH20020610, OVIDE,    91,  1,     26,2,20020710,1136, 40.3330,  -9.9430, 3446,    246.7,  12.0420,  35.6320,2,-999.0000,9,    219.4,2,   -999.0,9,     4.02,2,    11.30,2,     0.61,2,   -999.0,9,   7.8360,2,    25.00,  12.0095
  35TH20020610, OVIDE,    91,  1,     27,2,20020710,1136, 40.3330,  -9.9430, 3446,    145.3,  12.8470,  35.7110,2,-999.0000,9,    236.1,2,   -999.0,9,     2.27,3,     6.01,3,     0.41,2,   -999.0,9,   7.8860,2,    25.00,  12.8271
  35TH20020610, OVIDE,    91,  1,     28,2,20020710,1136, 40.3330,  -9.9430, 3446,     95.1,  13.2940,  35.7790,2,  35.7800,2,    238.7,2,    239.4,2,     1.85,2,     5.41,2,     0.30,2,   -999.0,9,   7.9000,2,    25.00,  13.2807
  35TH20020610, OVIDE,    91,  1,     29,2,20020710,1136, 40.3330,  -9.9430, 3446,     46.6,  14.1870,  35.7810,2,  35.7850,2,    247.5,2,    244.7,2,     1.37,2,     1.14,2,     0.14,2,   -999.0,9,   7.9320,2,    25.00,  14.1802
  35TH20020610, OVIDE,    91,  1,     30,2,20020710,1136, 40.3330,  -9.9430, 3446,      5.7,  17.1080,  35.7310,2,  35.7320,2,    242.4,2,    250.5,3,     1.00,2,     0.00,2,     0.04,2,   -999.0,9,   7.9860,2,    25.00,  17.1071