BOTTLE,20140820PRINUNIVRMK
EXPOCODE,SECT_ID,STNNBR,CASTNO,BTLNBR,BTLNBR_FLAG_W,DATE,TIME,LATITUDE,LONGITUDE,DEPTH,CTDPRS,CTDTMP,CTDSAL,CTDSAL_FLAG_W,SALNTY,SALNTY_FLAG_W,CTDOXY,CTDOXY_FLAG_W,OXYGEN,OXYGEN_FLAG_W,SILCAT,SILCAT_FLAG_W,NITRAT,NITRAT_FLAG_W,PHSPHT,PHSPHT_FLAG_W,ALKALI,ALKALI_FLAG_W,PH_SWS,PH_SWS_FLAG_W,PH_TMP,THETA
,,,,,,,,,,METERS,DBAR,ITS-90,PSS-78,,PSS-78,,UMOL/KG,,UMOL/KG,,UMOL/KG,,UMOL/KG,,UMOL/KG,,UMOL/KG,,,,DEG C,DEG C
  35TH20020610, OVIDE,    58,  1,      3,2,20020629,1039, 48.4120, -21.1420, 4410,   4399.7,   2.5900,  34.9140,2,  34.9130,2,    241.6,2,    241.3,2,    44.71,2,    22.60,2,     1.34,2,   2352.9,2,   7.7280,2,    25.00,   2.1919
  35TH20020610, OVIDE,    58,  1,      4,2,20020629,1039, 48.4120, -21.1420, 4410,   4197.9,   2.5800,  34.9160,2,  34.9140,2,    241.7,2,    242.0,2,    43.82,2,    22.75,2,     1.35,2,   2350.2,2,   7.7300,2,    25.00,   2.2063
  35TH20020610, OVIDE,    58,  1,      5,2,20020629,1039, 48.4120, -21.1420, 4410,   3998.1,   2.5650,  34.9180,2,  34.9160,2,    242.3,2,    242.0,2,    43.54,2,    22.60,2,     1.35,2,   2350.3,2,   7.7320,2,    25.00,   2.2150
  35TH20020610, OVIDE,    58,  1,      6,2,20020629,1039, 48.4120, -21.1420, 4410,   3746.8,   2.6010,  34.9230,2,  34.9210,2,    244.4,2,    244.6,2,    40.62,2,    22.34,2,     1.32,2,   2346.6,2,   7.7310,2,    25.00,   2.2786
  35TH20020610, OVIDE,    58,  1,      7,2,20020629,1039, 48.4120, -21.1420, 4410,   3496.8,   2.6960,  34.9340,2,  34.9330,2,    249.0,2,    249.9,2,    35.49,2,    21.26,2,     1.24,2,   2338.0,2,   7.7320,2,    25.00,   2.3989
  35TH20020610, OVIDE,    58,  1,      8,2,20020629,1039, 48.4120, -21.1420, 4410,   3245.4,   2.8180,  34.9440,2,  34.9460,2,    256.7,2,    256.7,2,    28.48,2,    19.83,2,     1.17,2,   2327.1,2,   7.7340,2,    25.00,   2.5452
  35TH20020610, OVIDE,    58,  1,      9,2,20020629,1039, 48.4120, -21.1420, 4410,   2996.6,   2.9880,  34.9500,2,  34.9570,2,    260.7,2,    260.8,2,    23.70,2,    19.42,2,     1.12,2,   2320.6,2,   7.7360,2,    25.00,   2.7377
  35TH20020610, OVIDE,    58,  1,     10,2,20020629,1039, 48.4120, -21.1420, 4410,   2745.5,   3.1220,  34.9470,2,  34.9480,2,    266.7,2,    266.4,2,    19.49,2,    19.00,2,     1.08,2,   2314.0,2,   7.7350,2,    25.00,   2.8950
  35TH20020610, OVIDE,    58,  1,     11,2,20020629,1039, 48.4120, -21.1420, 4410,   2497.7,   3.2360,  34.9260,2,  34.9270,2,    274.1,2,    273.7,2,    13.83,2,    18.23,2,     1.04,2,   2307.5,2,   7.7360,2,    25.00,   3.0320
  35TH20020610, OVIDE,    58,  1,     12,2,20020629,1039, 48.4120, -21.1420, 4410,   2244.8,   3.2700,  34.8990,2,  34.9000,2,    280.0,2,    282.1,2,    11.75,2,    17.98,2,     1.02,2,   2303.3,2,   7.7310,2,    25.00,   3.0903
  35TH20020610, OVIDE,    58,  1,     13,2,20020629,1039, 48.4120, -21.1420, 4410,   1995.3,   3.4380,  34.8990,2,  34.8980,2,    277.1,2,    278.7,2,    11.14,2,    18.03,2,     1.04,2,   2303.4,2,   7.7260,2,    25.00,   3.2795
  35TH20020610, OVIDE,    58,  1,     14,2,20020629,1039, 48.4120, -21.1420, 4410,   1744.0,   3.8430,  34.9320,2,  34.9800,3,    269.8,2,    267.0,2,    10.74,2,    18.18,2,     1.05,2,   -999.0,9,-999.0000,9,  -999.00,   3.7023
  35TH20020610, OVIDE,    58,  1,     15,2,20020629,1039, 48.4120, -21.1420, 4410,   1494.7,   4.3630,  34.9670,2,  34.9670,2,    257.6,2,    295.6,3,    10.77,2,    18.70,2,     1.08,2,   2307.1,2,   7.7190,2,    25.00,   4.2392
  35TH20020610, OVIDE,    58,  1,     16,2,20020629,1039, 48.4120, -21.1420, 4410,   1295.8,   5.5700,  35.1140,2,  35.1150,2,    230.0,2,    237.2,3,    10.95,2,    19.10,2,     1.09,2,   2316.7,2,   7.7220,2,    25.00,   5.4525
  35TH20020610, OVIDE,    58,  1,     17,2,20020629,1039, 48.4120, -21.1420, 4410,   1146.6,   7.2130,  35.3240,2,  35.3210,2,    207.1,2,    210.2,2,    10.86,2,    19.41,2,     1.08,2,   2330.8,2,   7.7320,2,    25.00,   7.0960
  35TH20020610, OVIDE,    58,  1,     18,2,20020629,1039, 48.4120, -21.1420, 4410,    996.0,   8.5600,  35.4150,2,  35.4160,2,    193.9,2,    194.0,2,    10.18,2,    19.20,2,     1.07,2,   2334.8,2,   7.7410,2,    25.00,   8.4494
  35TH20020610, OVIDE,    58,  1,     19,2,20020629,1039, 48.4120, -21.1420, 4410,    895.0,   9.1160,  35.4080,2,  35.4060,2,    191.1,2,    190.8,2,     9.66,2,    18.90,2,     1.06,2,   2332.5,2,   7.7460,2,    25.00,   9.0136
  35TH20020610, OVIDE,    58,  1,     20,2,20020629,1039, 48.4120, -21.1420, 4410,    795.5,   9.8550,  35.3970,2,  35.3970,2,    197.0,2,    196.3,2,     8.44,2,    17.97,2,     0.98,2,   2328.1,2,   7.7600,2,    25.00,   9.7603
  35TH20020610, OVIDE,    58,  1,     21,2,20020629,1039, 48.4120, -21.1420, 4410,    696.1,  10.4630,  35.4260,2,  35.4260,2,    215.6,2,    210.9,2,     6.60,2,    15.71,2,     0.86,2,   -999.0,9,-999.0000,9,  -999.00,  10.3775
  35TH20020610, OVIDE,    58,  1,     22,2,20020629,1039, 48.4120, -21.1420, 4410,    597.7,  11.0100,  35.4780,2,  35.4750,2,    233.7,2,    225.8,3,     5.23,2,    13.40,2,     0.74,2,   2330.3,2,   7.8210,2,    25.00,  10.9345
  35TH20020610, OVIDE,    58,  1,     23,2,20020629,1039, 48.4120, -21.1420, 4410,    495.8,  11.5270,  35.5450,2,  35.5440,2,    245.3,2,    238.7,3,     4.53,2,    11.60,2,     0.63,2,   2333.8,2,   7.8470,2,    25.00,  11.4628
  35TH20020610, OVIDE,    58,  1,     24,2,20020629,1039, 48.4120, -21.1420, 4410,    397.2,  12.0050,  35.6360,2,  35.6360,2,    250.7,2,    251.1,2,     3.58,2,     9.70,2,     0.52,2,   2339.9,2,   7.8740,2,    25.00,  11.9524
  35TH20020610, OVIDE,    58,  1,     25,2,20020629,1039, 48.4120, -21.1420, 4410,    296.5,  12.1280,  35.6590,2,  35.6590,2,    251.2,2,    251.2,2,     3.49,2,     9.23,2,     0.52,2,   2340.6,2,   7.8790,2,    25.00,  12.0886
  35TH20020610, OVIDE,    58,  1,     26,2,20020629,1039, 48.4120, -21.1420, 4410,    195.8,  12.2820,  35.6740,2,  35.6740,2,    248.3,2,    248.9,2,     3.12,2,     9.23,2,     0.52,2,   2342.2,2,   7.8800,2,    25.00,  12.2559
  35TH20020610, OVIDE,    58,  1,     27,2,20020629,1039, 48.4120, -21.1420, 4410,    145.1,  12.5230,  35.6960,2,  35.6950,2,    250.9,2,    250.7,2,     2.23,3,     8.28,2,     0.48,2,   2343.1,2,   7.8910,2,    25.00,  12.5034
  35TH20020610, OVIDE,    58,  1,     28,2,20020629,1039, 48.4120, -21.1420, 4410,     96.7,  12.8350,  35.7370,2,  35.7390,2,    250.7,2,    252.3,2,     2.42,2,     7.39,2,     0.42,2,   2346.5,2,   7.9020,2,    25.00,  12.8218
  35TH20020610, OVIDE,    58,  1,     29,2,20020629,1039, 48.4120, -21.1420, 4410,     47.5,  13.4010,  35.7230,2,  35.7240,2,    261.5,2,    254.9,3,     1.22,2,     4.16,2,     0.22,2,   2347.2,2,   7.9280,2,    25.00,  13.3943
  35TH20020610, OVIDE,    58,  1,     30,2,20020629,1039, 48.4120, -21.1420, 4410,      5.2,  15.3040,  35.7040,2,  35.7020,2,    286.3,2,    288.8,2,     0.86,2,     0.16,2,     0.11,2,   2349.0,2,   8.0130,2,    25.00,  15.3032
  35TH20020610, OVIDE,    59,  1,      3,2,20020629,1618, 48.0380, -20.8510, 4534,   4524.5,   2.5650,  34.9100,2,  34.9090,2,    238.8,2,    239.6,2,    45.88,2,    23.27,2,     1.34,3,   -999.0,9,   7.7290,2,    25.00,   2.1526
  35TH20020610, OVIDE,    59,  1,      4,2,20020629,1618, 48.0380, -20.8510, 4534,   4498.2,   2.5610,  34.9110,2,  34.9110,2,    239.5,2,    240.2,2,    45.41,2,    23.01,2,     1.34,3,   -999.0,9,   7.7280,2,    25.00,   2.1519
  35TH20020610, OVIDE,    59,  1,      5,2,20020629,1618, 48.0380, -20.8510, 4534,   3997.1,   2.5680,  34.9170,2,  34.9180,2,    242.1,2,    241.9,2,    43.42,2,    22.55,2,     1.38,2,   -999.0,9,   7.7260,2,    25.00,   2.2180
  35TH20020610, OVIDE,    59,  1,      6,2,20020629,1618, 48.0380, -20.8510, 4534,   3746.3,   2.5990,  34.9220,2,  34.9210,2,    243.9,2,    244.4,2,    41.21,2,    22.34,2,     1.33,2,   -999.0,9,   7.7250,2,    25.00,   2.2767
  35TH20020610, OVIDE,    59,  1,      7,2,20020629,1618, 48.0380, -20.8510, 4534,   3497.8,   2.6840,  34.9330,2,  34.9330,2,    249.6,2,    249.1,2,    36.54,2,    21.21,2,     1.28,2,   -999.0,9,   7.7270,2,    25.00,   2.3871
  35TH20020610, OVIDE,    59,  1,      8,2,20020629,1618, 48.0380, -20.8510, 4534,   3245.5,   2.8030,  34.9430,2,  34.9450,2,    255.1,2,    261.4,3,    30.47,2,    20.34,2,     1.21,2,   -999.0,9,   7.7270,2,    25.00,   2.5305
  35TH20020610, OVIDE,    59,  1,      9,2,20020629,1618, 48.0380, -20.8510, 4534,   2995.5,   2.9540,  34.9510,2,  34.9640,3,    257.6,2,    257.4,2,    25.80,2,    19.42,2,     1.10,2,   -999.0,9,-999.0000,9,  -999.00,   2.7046
  35TH20020610, OVIDE,    59,  1,     10,2,20020629,1618, 48.0380, -20.8510, 4534,   2745.4,   3.0880,  34.9430,2,  34.9440,2,    267.2,2,    267.3,2,    19.96,2,    18.18,2,     1.09,2,   -999.0,9,   7.7270,2,    25.00,   2.8617
  35TH20020610, OVIDE,    59,  1,     11,2,20020629,1618, 48.0380, -20.8510, 4534,   2495.7,   3.2220,  34.9270,2,  34.9290,2,    273.1,2,    272.9,2,    14.09,2,    18.08,2,     1.07,2,   -999.0,9,   7.7280,2,    25.00,   3.0184
  35TH20020610, OVIDE,    59,  1,     12,2,20020629,1618, 48.0380, -20.8510, 4534,   2125.5,   3.3140,  34.8950,2,  34.8950,2,    279.8,2,    280.9,2,    11.36,2,    17.82,2,     1.02,2,   -999.0,9,   7.7220,2,    25.00,   3.1451
  35TH20020610, OVIDE,    59,  1,     13,2,20020629,1618, 48.0380, -20.8510, 4534,   1996.3,   3.4000,  34.8940,2,  34.8940,2,    278.0,2,    279.4,2,    11.11,2,    18.18,3,     1.06,2,   -999.0,9,   7.7220,2,    25.00,   3.2419
  35TH20020610, OVIDE,    59,  1,     14,2,20020629,1618, 48.0380, -20.8510, 4534,   1796.0,   3.6170,  34.9070,2,  35.0010,3,    275.0,2,    269.3,2,    10.13,3,    17.21,3,     1.00,3,   -999.0,9,-999.0000,9,  -999.00,   3.4745
  35TH20020610, OVIDE,    59,  1,     15,2,20020629,1618, 48.0380, -20.8510, 4534,   1595.1,   3.9440,  34.9310,2,  35.0020,3,    266.2,2,    266.4,2,    10.16,3,    17.36,3,     1.00,3,   -999.0,9,   7.7190,2,    25.00,   3.8158
  35TH20020610, OVIDE,    59,  1,     16,2,20020629,1618, 48.0380, -20.8510, 4534,   1395.7,   4.7140,  35.0190,2,  35.0230,2,    252.8,2,    249.4,2,    11.11,2,    18.85,2,     1.08,2,   -999.0,9,   7.7180,2,    25.00,   4.5956
  35TH20020610, OVIDE,    59,  1,     17,2,20020629,1618, 48.0380, -20.8510, 4534,   1195.1,   6.0360,  35.1590,2,  35.1640,2,    230.9,2,    226.5,2,    11.05,2,    18.90,2,     1.09,2,   -999.0,9,   7.7210,2,    25.00,   5.9242
  35TH20020610, OVIDE,    59,  1,     18,2,20020629,1618, 48.0380, -20.8510, 4534,    996.0,   8.2980,  35.4430,2,  35.4430,2,    197.4,2,    197.5,2,    10.49,3,    19.05,2,     1.09,3,   -999.0,9,   7.7410,2,    25.00,   8.1893
  35TH20020610, OVIDE,    59,  1,     19,2,20020629,1618, 48.0380, -20.8510, 4534,    895.9,   8.5580,  35.3490,2,  35.3580,3,    189.2,2,    192.9,2,    10.31,2,    19.92,3,     1.10,3,   -999.0,9,   7.7360,2,    25.00,   8.4592
  35TH20020610, OVIDE,    59,  1,     20,2,20020629,1618, 48.0380, -20.8510, 4534,    796.2,   9.4220,  35.3850,2,  35.3860,2,    192.6,2,    193.1,2,     9.14,2,    18.48,2,     1.06,2,   -999.0,9,   7.7500,2,    25.00,   9.3297
  35TH20020610, OVIDE,    59,  1,     21,2,20020629,1618, 48.0380, -20.8510, 4534,    696.1,  10.1140,  35.3890,2,  35.3900,2,    205.3,2,    199.9,2,     7.67,2,    17.05,2,     0.96,2,   -999.0,9,   7.7690,2,    25.00,  10.0302
  35TH20020610, OVIDE,    59,  1,     22,2,20020629,1618, 48.0380, -20.8510, 4534,    596.1,  10.8360,  35.4600,2,  35.4590,2,    222.1,2,    219.9,2,     5.68,2,    13.66,2,     0.80,2,   -999.0,9,   7.8070,2,    25.00,  10.7615
  35TH20020610, OVIDE,    59,  1,     23,2,20020629,1618, 48.0380, -20.8510, 4534,    496.9,  11.3880,  35.5230,2,  35.5190,2,    232.1,2,    231.2,2,     4.76,2,    12.12,2,     0.66,2,   -999.0,9,   7.8340,2,    25.00,  11.3242
  35TH20020610, OVIDE,    59,  1,     24,2,20020629,1618, 48.0380, -20.8510, 4534,    395.4,  11.9900,  35.6350,2,  35.6330,2,    250.4,2,    248.5,2,     3.62,2,     9.75,2,     0.54,2,   -999.0,9,   7.8700,2,    25.00,  11.9377
  35TH20020610, OVIDE,    59,  1,     25,2,20020629,1618, 48.0380, -20.8510, 4534,    296.5,  12.1330,  35.6590,2,  35.6600,2,    253.1,2,    249.4,2,     3.56,2,     9.04,2,     0.53,2,   -999.0,9,   7.8740,2,    25.00,  12.0936
  35TH20020610, OVIDE,    59,  1,     26,2,20020629,1618, 48.0380, -20.8510, 4534,    198.9,  12.3800,  35.6920,2,  35.6940,2,    245.5,2,    246.4,2,     3.56,2,     9.04,2,     0.52,2,   -999.0,9,   7.8770,2,    25.00,  12.3533
  35TH20020610, OVIDE,    59,  1,     27,2,20020629,1618, 48.0380, -20.8510, 4534,    146.8,  12.7000,  35.7230,2,  35.7250,2,    249.7,2,    249.2,2,     2.55,2,     8.06,2,     0.47,2,   -999.0,9,   7.8910,2,    25.00,  12.6800
  35TH20020610, OVIDE,    59,  1,     28,2,20020629,1618, 48.0380, -20.8510, 4534,     96.7,  12.8860,  35.7460,2,  35.7510,2,    248.3,2,    251.5,2,     2.48,2,     7.29,2,     0.43,2,   -999.0,9,   7.9020,2,    25.00,  12.8727
  35TH20020610, OVIDE,    59,  1,     29,2,20020629,1618, 48.0380, -20.8510, 4534,     46.2,  13.8360,  35.7060,2,  35.7160,3,    261.7,2,    258.5,2,     1.16,2,     4.12,2,     0.31,2,   -999.0,9,   7.9390,2,    25.00,  13.8294
  35TH20020610, OVIDE,    59,  1,     30,2,20020629,1618, 48.0380, -20.8510, 4534,      4.1,  15.1380,  35.7100,2,  35.7060,2,    269.9,2,    279.9,3,     0.95,2,     1.25,2,     0.13,2,   -999.0,9,   7.9890,2,    25.00,  15.1374
  35TH20020610, OVIDE,    60,  1,      3,2,20020629,2224, 47.6650, -20.5560, 4426,   4416.0,   2.5480,  34.9090,2,  34.9090,2,    238.0,2,    241.0,2,    45.34,3,    22.84,2,     1.38,2,   2353.7,2,   7.7280,2,    25.00,   2.1492
  35TH20020610, OVIDE,    60,  1,      4,2,20020629,2224, 47.6650, -20.5560, 4426,   3997.3,   2.5540,  34.9140,2,  34.9150,2,    241.2,2,    241.8,2,    43.31,3,    22.28,2,     1.34,2,   2350.3,2,   7.7280,2,    25.00,   2.2044
  35TH20020610, OVIDE,    60,  1,      5,2,20020629,2224, 47.6650, -20.5560, 4426,   3997.0,   2.5540,  34.9140,2,  34.9140,2,    241.2,2,    242.0,2,    43.66,3,    22.54,2,     1.36,2,   2351.0,2,   7.7290,2,    25.00,   2.2044
  35TH20020610, OVIDE,    60,  1,      6,2,20020629,2224, 47.6650, -20.5560, 4426,   3745.8,   2.5720,  34.9150,2,  34.9220,2,    243.3,2,    243.8,2,    41.52,2,    21.78,3,     1.29,3,   2347.7,2,   7.7290,2,    25.00,   2.2505
  35TH20020610, OVIDE,    60,  1,      7,2,20020629,2224, 47.6650, -20.5560, 4426,   3497.2,   2.6320,  34.9280,2,  34.9280,2,    246.6,2,    247.4,2,    38.06,2,    21.53,2,     1.29,2,   2342.3,2,   7.7300,2,    25.00,   2.3365
  35TH20020610, OVIDE,    60,  1,      8,2,20020629,2224, 47.6650, -20.5560, 4426,   3246.2,   2.7370,  34.9390,2,  34.9410,2,    253.4,2,    253.0,2,    32.09,2,    20.42,2,     1.24,2,   2333.4,2,   7.7290,2,    25.00,   2.4660
  35TH20020610, OVIDE,    60,  1,      9,2,20020629,2224, 47.6650, -20.5560, 4426,   2995.8,   2.8410,  34.9470,2,  34.9490,2,    257.9,2,    257.4,2,    28.27,2,    19.67,2,     1.19,2,   2328.3,2,   7.7300,2,    25.00,   2.5940
  35TH20020610, OVIDE,    60,  1,     10,2,20020629,2224, 47.6650, -20.5560, 4426,   2746.4,   3.0200,  34.9530,2,  34.9520,2,    258.9,2,    258.8,2,    24.46,2,    19.52,2,     1.18,3,   2322.7,2,   7.7310,2,    25.00,   2.7949
  35TH20020610, OVIDE,    60,  1,     11,2,20020629,2224, 47.6650, -20.5560, 4426,   2495.5,   3.1370,  34.9380,2,  34.9400,2,    270.7,2,    270.6,2,    16.58,2,    18.11,2,     1.10,2,   2313.3,2,   7.7310,2,    25.00,   2.9350
  35TH20020610, OVIDE,    60,  1,     12,2,20020629,2224, 47.6650, -20.5560, 4426,   2245.6,   3.2460,  34.9150,2,  34.9130,2,    276.0,2,    276.9,2,    12.82,2,    17.91,2,     1.09,2,   2305.3,2,   7.7320,2,    25.00,   3.0666
  35TH20020610, OVIDE,    60,  1,     13,2,20020629,2224, 47.6650, -20.5560, 4426,   1995.6,   3.3440,  34.8990,2,  34.8990,2,    279.8,2,    279.5,2,    11.47,2,    17.91,2,     1.07,2,   2304.2,2,   7.7320,2,    25.00,   3.1868
  35TH20020610, OVIDE,    60,  1,     14,2,20020629,2224, 47.6650, -20.5560, 4426,   1795.3,   3.4910,  34.9030,2,  34.9360,3,    277.3,2,    273.9,2,    11.03,2,    17.81,2,     1.06,2,   2304.1,2,   7.7290,2,    25.00,   3.3503
  35TH20020610, OVIDE,    60,  1,     15,2,20020629,2224, 47.6650, -20.5560, 4426,   1594.8,   3.8160,  34.9300,2,  34.9290,2,    270.5,2,    268.8,2,    11.25,2,    18.16,2,     1.08,2,   2304.8,2,   7.7210,2,    25.00,   3.6894
  35TH20020610, OVIDE,    60,  1,     16,2,20020629,2224, 47.6650, -20.5560, 4426,   1395.3,   4.2550,  34.9710,2,  34.9810,3,    257.7,2,    259.1,2,    11.18,2,    18.66,2,     1.10,2,   2308.2,2,   7.7180,2,    25.00,   4.1416
  35TH20020610, OVIDE,    60,  1,     17,2,20020629,2224, 47.6650, -20.5560, 4426,   1196.7,   5.2140,  35.0710,2,  35.0680,2,    239.9,2,    241.4,2,    11.18,2,    19.06,2,     1.14,2,   2313.6,2,   7.7160,2,    25.00,   5.1096
  35TH20020610, OVIDE,    60,  1,     18,2,20020629,2224, 47.6650, -20.5560, 4426,    996.0,   6.7560,  35.2360,2,  35.2410,2,    217.1,2,    217.0,2,    10.93,2,    19.21,2,     1.14,2,   2325.6,2,   7.7240,2,    25.00,   6.6588
  35TH20020610, OVIDE,    60,  1,     19,2,20020629,2224, 47.6650, -20.5560, 4426,    896.8,   7.9050,  35.3650,2,  35.3650,2,    199.8,2,    200.2,2,    10.52,3,    19.16,3,     1.12,3,   2334.1,2,   7.7340,2,    25.00,   7.8103
  35TH20020610, OVIDE,    60,  1,     20,2,20020629,2224, 47.6650, -20.5560, 4426,    796.2,   8.2380,  35.2880,2,  35.2880,2,    192.8,2,    197.4,2,    10.30,2,    19.41,2,     1.14,2,   2327.5,2,   7.7280,2,    25.00,   8.1526
  35TH20020610, OVIDE,    60,  1,     21,2,20020629,2224, 47.6650, -20.5560, 4426,    697.0,   9.0060,  35.2750,2,  35.2870,3,    190.1,2,    190.3,2,     9.55,3,    19.01,3,     1.13,3,   2323.5,2,   7.7330,2,    25.00,   8.9278
  35TH20020610, OVIDE,    60,  1,     22,2,20020629,2224, 47.6650, -20.5560, 4426,    596.6,   9.8340,  35.3100,2,  35.3020,3,    200.0,2,    200.1,2,     9.45,2,    19.26,2,     1.03,2,   2322.4,2,   7.7580,2,    25.00,   9.7638
  35TH20020610, OVIDE,    60,  1,     23,2,20020629,2224, 47.6650, -20.5560, 4426,    496.2,  10.7590,  35.4460,2,  35.4380,3,    240.2,2,    240.5,2,     5.15,2,    12.72,2,     0.75,2,   2327.9,2,   7.8260,2,    25.00,  10.6975
  35TH20020610, OVIDE,    60,  1,     24,2,20020629,2224, 47.6650, -20.5560, 4426,    396.1,  11.0610,  35.4680,2,  35.4660,2,    236.6,2,    239.3,2,     5.02,2,    12.47,2,     0.72,2,   2330.1,2,   7.8330,2,    25.00,  11.0113
  35TH20020610, OVIDE,    60,  1,     25,2,20020629,2224, 47.6650, -20.5560, 4426,    296.4,  11.5540,  35.5560,2,  35.5570,2,    241.2,2,    245.9,2,     4.24,2,    10.81,2,     0.64,2,   2333.6,2,   7.8530,2,    25.00,  11.5159
  35TH20020610, OVIDE,    60,  1,     26,2,20020629,2224, 47.6650, -20.5560, 4426,    197.5,  12.1450,  35.6190,2,  35.6190,2,    246.8,2,    252.9,3,     1.85,2,     8.41,2,     0.53,2,   2337.7,2,   7.8810,2,    25.00,  12.1189
  35TH20020610, OVIDE,    60,  1,     27,2,20020629,2224, 47.6650, -20.5560, 4426,    147.3,  12.2620,  35.6280,2,  35.6270,2,    251.6,2,    256.9,2,     1.38,2,     6.97,2,     0.49,2,   2337.5,2,   7.8920,2,    25.00,  12.2424
  35TH20020610, OVIDE,    60,  1,     28,2,20020629,2224, 47.6650, -20.5560, 4426,     96.9,  12.6920,  35.6710,2,  35.6730,2,    239.5,2,    256.9,3,     1.26,2,     6.17,2,     0.43,2,   2340.5,2,   7.9070,2,    25.00,  12.6788
  35TH20020610, OVIDE,    60,  1,     29,2,20020629,2224, 47.6650, -20.5560, 4426,     47.1,  13.3450,  35.6730,2,  35.6760,2,    265.0,2,    263.1,2,     0.88,2,     4.71,2,     0.23,2,   2343.6,2,   7.9300,2,    25.00,  13.3384
  35TH20020610, OVIDE,    60,  1,     30,2,20020629,2224, 47.6650, -20.5560, 4426,      4.2,  15.6060,  35.7140,2,  35.7080,3,    266.4,2,    270.3,2,     0.75,2,     2.89,2,     0.21,2,   2348.6,2,   7.9600,2,    25.00,  15.6053