BOTTLE,20140820PRINUNIVRMK
EXPOCODE,SECT_ID,STNNBR,CASTNO,BTLNBR,BTLNBR_FLAG_W,DATE,TIME,LATITUDE,LONGITUDE,DEPTH,CTDPRS,CTDTMP,CTDSAL,CTDSAL_FLAG_W,SALNTY,SALNTY_FLAG_W,CTDOXY,CTDOXY_FLAG_W,OXYGEN,OXYGEN_FLAG_W,SILCAT,SILCAT_FLAG_W,NITRAT,NITRAT_FLAG_W,PHSPHT,PHSPHT_FLAG_W,ALKALI,ALKALI_FLAG_W,PH_SWS,PH_SWS_FLAG_W,PH_TMP,THETA
,,,,,,,,,,METERS,DBAR,ITS-90,PSS-78,,PSS-78,,UMOL/KG,,UMOL/KG,,UMOL/KG,,UMOL/KG,,UMOL/KG,,UMOL/KG,,,,DEG C,DEG C
  35TH20020610, OVIDE,    18,  1,      3,2,20020620,0549, 59.4280, -37.0370, 3176,   3166.4,   1.7660,  34.8820,2,  34.8850,2,    296.3,2,    296.2,2,     8.81,2,    15.85,2,     0.83,2,   2300.3,2,   7.7280,2,    25.00,   1.5259
  35TH20020610, OVIDE,    18,  1,      4,2,20020620,0549, 59.4280, -37.0370, 3176,   3144.8,   1.8200,  34.8860,2,-999.0000,9,    295.5,2,   -999.0,9,     9.01,2,    15.80,2,     0.82,2,   -999.0,9,-999.0000,9,  -999.00,   1.5808
  35TH20020610, OVIDE,    18,  1,      5,2,20020620,0549, 59.4280, -37.0370, 3176,   3095.5,   1.9240,  34.8890,2,  34.8880,2,    294.0,2,    293.6,2,     9.49,2,    16.14,2,     0.83,2,   2300.5,2,   7.7300,2,    25.00,   1.6874
  35TH20020610, OVIDE,    18,  1,      6,2,20020620,0549, 59.4280, -37.0370, 3176,   3046.5,   2.1080,  34.8910,2,-999.0000,9,    292.0,2,   -999.0,9,     9.90,2,    16.28,2,     0.85,2,   -999.0,9,-999.0000,9,  -999.00,   1.8721
  35TH20020610, OVIDE,    18,  1,      7,2,20020620,0549, 59.4280, -37.0370, 3176,   2997.2,   2.3980,  34.9020,2,  34.9020,2,    285.6,2,    285.3,2,    11.62,2,    16.86,2,     0.88,2,   2302.8,2,   7.7330,2,    25.00,   2.1607
  35TH20020610, OVIDE,    18,  1,      8,2,20020620,0549, 59.4280, -37.0370, 3176,   2895.5,   2.6320,  34.9150,2,  34.9150,2,    281.9,2,    280.5,2,    12.54,2,    17.39,2,     0.92,2,   2304.6,2,   7.7320,2,    25.00,   2.3999
  35TH20020610, OVIDE,    18,  1,      9,2,20020620,0549, 59.4280, -37.0370, 3176,   2696.1,   2.8370,  34.9300,2,  34.9300,2,    276.4,2,    276.6,2,    13.32,2,    17.73,2,     0.92,2,   2305.6,2,   7.7350,2,    25.00,   2.6207
  35TH20020610, OVIDE,    18,  1,     10,2,20020620,0549, 59.4280, -37.0370, 3176,   2593.9,   2.8940,  34.9230,2,  34.9230,2,    279.0,2,    277.5,2,    11.38,3,    17.88,2,     0.95,3,   2304.4,2,   7.7320,2,    25.00,   2.6868
  35TH20020610, OVIDE,    18,  1,     11,2,20020620,0549, 59.4280, -37.0370, 3176,   2395.7,   3.0540,  34.9270,2,  34.9290,2,    278.8,2,    277.5,2,    12.06,2,    17.92,2,     0.92,2,   2305.1,2,   7.7340,2,    25.00,   2.8633
  35TH20020610, OVIDE,    18,  1,     12,2,20020620,0549, 59.4280, -37.0370, 3176,   2195.2,   3.1260,  34.9220,2,  34.9240,2,    280.0,2,    279.1,2,    11.42,2,    17.83,2,     0.93,2,   2304.6,2,   7.7330,2,    25.00,   2.9533
  35TH20020610, OVIDE,    18,  1,     13,2,20020620,0549, 59.4280, -37.0370, 3176,   1995.4,   3.2400,  34.9240,2,  34.9240,2,    280.4,2,    279.9,2,    10.84,2,    17.78,2,     0.91,2,   2303.5,2,   7.7330,2,    25.00,   3.0843
  35TH20020610, OVIDE,    18,  1,     14,2,20020620,0549, 59.4280, -37.0370, 3176,   1796.3,   3.2710,  34.9110,2,  34.9120,2,    281.9,2,    282.4,2,    10.47,2,    17.92,2,     0.92,2,   2301.6,2,   7.7310,2,    25.00,   3.1331
  35TH20020610, OVIDE,    18,  1,     15,2,20020620,0549, 59.4280, -37.0370, 3176,   1596.2,   3.3720,  34.9130,2,  34.9120,2,    280.4,2,    281.2,2,    10.27,2,    17.92,2,     0.90,2,   -999.0,9,-999.0000,9,  -999.00,   3.2507
  35TH20020610, OVIDE,    18,  1,     16,2,20020620,0549, 59.4280, -37.0370, 3176,   1381.8,   3.4340,  34.8990,2,  34.9000,2,    276.2,2,    280.1,2,    10.23,2,    18.60,2,     0.94,2,   2301.8,2,   7.7260,2,    25.00,   3.3306
  35TH20020610, OVIDE,    18,  1,     17,2,20020620,0549, 59.4280, -37.0370, 3176,   1195.9,   3.4910,  34.8900,2,  34.8900,2,    278.7,2,    279.1,2,    10.17,2,    18.31,2,     0.94,2,   2301.8,2,   7.7220,2,    25.00,   3.4026
  35TH20020610, OVIDE,    18,  1,     18,2,20020620,0549, 59.4280, -37.0370, 3176,    995.7,   3.4800,  34.8650,2,  34.8660,2,    284.4,2,    285.0,2,    10.06,2,    18.21,2,     0.96,2,   2299.8,2,   7.7220,2,    25.00,   3.4081
  35TH20020610, OVIDE,    18,  1,     19,2,20020620,0549, 59.4280, -37.0370, 3176,    895.5,   3.5600,  34.8660,2,  34.8660,2,    285.7,2,    286.1,2,     9.42,2,    17.92,2,     0.93,2,   2299.9,2,   7.7210,2,    25.00,   3.4955
  35TH20020610, OVIDE,    18,  1,     20,2,20020620,0549, 59.4280, -37.0370, 3176,    796.0,   3.6860,  34.8710,2,-999.0000,9,    285.0,2,    287.7,2,  -999.00,9,  -999.00,9,  -999.00,9,   2300.4,2,   7.7250,2,    25.00,   3.6284
  35TH20020610, OVIDE,    18,  1,     21,2,20020620,0549, 59.4280, -37.0370, 3176,    697.1,   3.8430,  34.8830,2,  34.8860,2,    286.8,2,    284.3,2,     9.12,2,    18.41,2,     0.93,2,   2301.4,2,   7.7260,2,    25.00,   3.7923
  35TH20020610, OVIDE,    18,  1,     22,2,20020620,0549, 59.4280, -37.0370, 3176,    596.0,   4.2790,  34.9230,2,  34.9250,2,    265.4,2,    276.7,3,     9.22,2,    18.45,2,     0.94,2,   2303.9,2,   7.7270,2,    25.00,   4.2340
  35TH20020610, OVIDE,    18,  1,     23,2,20020620,0549, 59.4280, -37.0370, 3176,    496.3,   4.6430,  34.9510,2,  34.9490,2,    265.1,2,    262.8,2,     9.69,3,    18.79,3,     0.99,3,   2306.3,2,   7.7210,2,    25.00,   4.6045
  35TH20020610, OVIDE,    18,  1,     24,2,20020620,0549, 59.4280, -37.0370, 3176,    397.4,   4.8680,  34.9310,2,  34.9280,2,    272.6,2,    273.1,2,     8.95,3,    18.21,3,     0.98,3,   2304.1,2,   7.7320,2,    25.00,   4.8368
  35TH20020610, OVIDE,    18,  1,     25,2,20020620,0549, 59.4280, -37.0370, 3176,    297.1,   5.4120,  34.9600,2,  34.9600,2,    253.4,2,    249.9,2,     9.66,3,    19.76,3,     1.00,3,   2306.8,2,   7.7180,2,    25.00,   5.3876
  35TH20020610, OVIDE,    18,  1,     26,2,20020620,0549, 59.4280, -37.0370, 3176,    197.4,   5.8580,  34.9500,2,-999.0000,9,    280.9,2,    265.9,3,     8.37,2,    18.16,2,     0.92,2,   2305.2,2,   7.7420,2,    25.00,   5.8412
  35TH20020610, OVIDE,    18,  1,     27,2,20020620,0549, 59.4280, -37.0370, 3176,    146.8,   5.8660,  34.9140,2,  34.9170,2,    275.7,2,    274.5,2,     7.93,2,    18.07,2,     0.87,2,   2302.5,2,   7.7490,2,    25.00,   5.8536
  35TH20020610, OVIDE,    18,  1,     28,2,20020620,0549, 59.4280, -37.0370, 3176,     96.5,   6.0990,  34.9170,2,  34.9170,2,    283.6,2,    280.7,2,     7.39,2,    16.47,2,     0.90,3,   2303.2,2,   7.7610,2,    25.00,   6.0907
  35TH20020610, OVIDE,    18,  1,     29,2,20020620,0549, 59.4280, -37.0370, 3176,     46.8,   6.5610,  34.9010,2,  34.9000,2,    300.2,2,    287.6,3,     6.24,2,    15.56,2,     0.86,2,   2306.3,2,   7.7720,2,    25.00,   6.5568
  35TH20020610, OVIDE,    18,  1,     30,2,20020620,0549, 59.4280, -37.0370, 3176,      4.2,   7.9080,  34.9110,2,  34.9100,2,    303.2,2,    305.5,2,     1.08,2,     8.08,2,     0.48,2,   2306.4,2,   7.8700,2,    25.00,   7.9076
  35TH20020610, OVIDE,    19,  1,      3,2,20020620,1036, 59.3640, -36.3960, 3141,   3130.8,   2.1060,  34.8950,2,  34.8950,2,    290.5,2,    290.6,2,    10.40,2,    16.14,2,     0.90,2,   -999.0,9,   7.7280,2,    25.00,   1.8617
  35TH20020610, OVIDE,    19,  1,      4,2,20020620,1036, 59.3640, -36.3960, 3141,   2995.5,   2.2840,  34.9020,2,  34.9010,2,    287.4,2,    287.5,2,    11.18,2,    16.56,2,     0.92,2,   -999.0,9,   7.7300,2,    25.00,   2.0493
  35TH20020610, OVIDE,    19,  1,      5,2,20020620,1036, 59.3640, -36.3960, 3141,   2897.2,   2.4660,  34.9100,2,  34.9080,2,    283.8,2,    284.0,2,    12.03,2,    16.92,2,     0.93,2,   -999.0,9,   7.7360,2,    25.00,   2.2373
  35TH20020610, OVIDE,    19,  1,      6,2,20020620,1036, 59.3640, -36.3960, 3141,   2795.9,   2.6220,  34.9150,2,  34.9150,2,    281.0,2,    282.5,2,    12.44,2,    17.18,2,     0.94,2,   -999.0,9,   7.7350,2,    25.00,   2.4001
  35TH20020610, OVIDE,    19,  1,      7,2,20020620,1036, 59.3640, -36.3960, 3141,   2597.0,   2.8820,  34.9240,2,  34.9240,2,    278.1,2,    278.5,2,    12.40,2,    17.49,2,     0.97,2,   -999.0,9,   7.7370,2,    25.00,   2.6747
  35TH20020610, OVIDE,    19,  1,      8,2,20020620,1036, 59.3640, -36.3960, 3141,   2496.2,   2.9550,  34.9240,2,  34.9240,2,    277.6,2,    278.3,2,    12.16,2,    17.75,2,     0.97,2,   -999.0,9,   7.7330,2,    25.00,   2.7563
  35TH20020610, OVIDE,    19,  1,      9,2,20020620,1036, 59.3640, -36.3960, 3141,   2295.4,   3.0740,  34.9270,2,  34.9260,2,    278.8,2,    278.5,2,    11.72,2,    17.60,2,     0.98,2,   -999.0,9,   7.7350,2,    25.00,   2.8926
  35TH20020610, OVIDE,    19,  1,     10,2,20020620,1036, 59.3640, -36.3960, 3141,   2195.7,   3.1690,  34.9320,2,  34.9380,3,    279.1,2,    276.2,2,    10.57,3,    17.70,3,     0.99,3,   -999.0,9,   7.7350,2,    25.00,   2.9956
  35TH20020610, OVIDE,    19,  1,     11,2,20020620,1036, 59.3640, -36.3960, 3141,   1994.3,   3.2560,  34.9310,2,  34.9320,2,    280.1,2,    279.2,2,    10.78,2,    17.60,2,     0.97,2,   -999.0,9,   7.7340,2,    25.00,   3.1001
  35TH20020610, OVIDE,    19,  1,     12,2,20020620,1036, 59.3640, -36.3960, 3141,   1895.9,   3.3380,  34.9380,2,  34.9380,2,    279.3,2,    279.0,2,    10.57,2,    17.60,2,     0.97,2,   -999.0,9,   7.7330,2,    25.00,   3.1900
  35TH20020610, OVIDE,    19,  1,     13,2,20020620,1036, 59.3640, -36.3960, 3141,   1796.3,   3.2660,  34.9160,2,  34.9160,2,    281.3,2,    282.2,2,    10.37,2,    17.70,2,     0.97,2,   -999.0,9,   7.7320,2,    25.00,   3.1282
  35TH20020610, OVIDE,    19,  1,     14,2,20020620,1036, 59.3640, -36.3960, 3141,   1695.5,   3.1940,  34.8960,2,  34.8960,2,    284.8,2,    285.3,2,    10.20,2,    17.86,2,     0.98,2,   -999.0,9,   7.7310,2,    25.00,   3.0662
  35TH20020610, OVIDE,    19,  1,     15,2,20020620,1036, 59.3640, -36.3960, 3141,   1597.4,   3.3070,  34.9090,2,  34.9080,2,    282.1,2,    282.2,2,    10.17,2,    17.80,2,     0.97,2,   -999.0,9,   7.7290,2,    25.00,   3.1863
  35TH20020610, OVIDE,    19,  1,     16,2,20020620,1036, 59.3640, -36.3960, 3141,   1396.5,   3.3340,  34.8940,2,  34.8940,2,    279.3,2,    282.9,2,    10.03,2,    17.55,2,     0.97,2,   -999.0,9,   7.7270,2,    25.00,   3.2304
  35TH20020610, OVIDE,    19,  1,     17,2,20020620,1036, 59.3640, -36.3960, 3141,   1196.6,   3.5720,  34.9120,2,  34.9100,2,    275.9,2,    276.9,2,    10.10,2,    18.12,2,     0.99,2,   -999.0,9,   7.7220,2,    25.00,   3.4828
  35TH20020610, OVIDE,    19,  1,     18,2,20020620,1036, 59.3640, -36.3960, 3141,    995.3,   3.7050,  34.9030,2,  34.9060,2,    275.1,2,    276.4,2,     9.76,2,    18.12,2,     0.99,2,   -999.0,9,   7.7230,2,    25.00,   3.6313
  35TH20020610, OVIDE,    19,  1,     19,2,20020620,1036, 59.3640, -36.3960, 3141,    895.5,   3.8300,  34.9110,2,  34.9070,2,    273.4,2,    276.4,2,     9.62,2,    18.07,2,     0.99,2,   -999.0,9,   7.7220,2,    25.00,   3.7635
  35TH20020610, OVIDE,    19,  1,     20,2,20020620,1036, 59.3640, -36.3960, 3141,    794.6,   3.8560,  34.8930,2,  34.8940,2,    278.4,2,    280.8,2,     9.18,2,    18.01,2,     0.99,2,   -999.0,9,-999.0000,9,  -999.00,   3.7975
  35TH20020610, OVIDE,    19,  1,     21,2,20020620,1036, 59.3640, -36.3960, 3141,    697.4,   4.1410,  34.9210,2,  34.9190,2,    265.1,2,    273.2,3,     9.56,2,    19.28,2,     1.00,2,   -999.0,9,   7.7200,2,    25.00,   4.0886
  35TH20020610, OVIDE,    19,  1,     22,2,20020620,1036, 59.3640, -36.3960, 3141,    597.0,   4.4950,  34.9470,2,  34.9430,2,    261.5,2,    261.9,2,     9.76,2,    19.69,2,     1.01,2,   -999.0,9,   7.7200,2,    25.00,   4.4489
  35TH20020610, OVIDE,    19,  1,     23,2,20020620,1036, 59.3640, -36.3960, 3141,    496.5,   5.1990,  35.0130,2,  35.0110,2,    245.7,2,    245.5,2,    10.16,2,    20.05,2,     1.02,2,   -999.0,9,   7.7190,2,    25.00,   5.1583
  35TH20020610, OVIDE,    19,  1,     24,2,20020620,1036, 59.3640, -36.3960, 3141,    396.9,   5.6020,  35.0240,2,  35.0230,2,    244.3,2,    242.2,2,    10.03,2,    19.26,2,     1.02,2,   -999.0,9,   7.7220,2,    25.00,   5.5685
  35TH20020610, OVIDE,    19,  1,     25,2,20020620,1036, 59.3640, -36.3960, 3141,    297.2,   5.4080,  34.9400,2,  34.9420,2,    282.3,2,    282.0,2,     8.00,2,    17.29,2,     0.93,2,   -999.0,9,   7.7480,2,    25.00,   5.3836
  35TH20020610, OVIDE,    19,  1,     26,2,20020620,1036, 59.3640, -36.3960, 3141,    196.5,   5.9330,  34.9810,2,  34.9810,2,    271.5,2,    281.6,3,     7.62,2,    16.87,2,     0.92,2,   -999.0,9,   7.7580,2,    25.00,   5.9162
  35TH20020610, OVIDE,    19,  1,     27,2,20020620,1036, 59.3640, -36.3960, 3141,    147.0,   5.8610,  34.9370,2,  34.9410,2,    274.4,2,    284.6,3,     7.39,2,    16.56,2,     0.89,2,   -999.0,9,   7.7590,2,    25.00,   5.8486
  35TH20020610, OVIDE,    19,  1,     28,2,20020620,1036, 59.3640, -36.3960, 3141,     96.6,   6.3760,  34.9860,2,  34.9850,2,    279.4,2,    284.7,2,     7.08,2,    15.99,2,     0.83,2,   -999.0,9,   7.7700,2,    25.00,   6.3675
  35TH20020610, OVIDE,    19,  1,     29,2,20020620,1036, 59.3640, -36.3960, 3141,     45.8,   7.3670,  34.9570,2,  34.9620,3,    290.8,2,    305.3,3,     1.79,2,    11.00,2,     0.57,2,   -999.0,9,   7.8350,2,    25.00,   7.3626
  35TH20020610, OVIDE,    19,  1,     30,2,20020620,1036, 59.3640, -36.3960, 3141,      4.9,   8.4240,  34.9660,2,  34.9640,2,    312.5,2,    302.1,3,     0.68,2,     8.05,2,     0.39,2,   -999.0,9,   7.8820,2,    25.00,   8.4235
  35TH20020610, OVIDE,    20,  1,      3,2,20020620,1514, 59.2990, -35.7620, 3148,   3138.4,   1.9730,  34.8910,2,  34.8910,2,    290.6,2,    293.1,2,     9.76,2,    15.79,2,     0.82,2,   2301.0,2,   7.7310,2,    25.00,   1.7310
  35TH20020610, OVIDE,    20,  1,      4,2,20020620,1514, 59.2990, -35.7620, 3148,   3097.0,   2.3470,  34.9030,2,  34.9030,2,    287.9,2,    286.5,2,    11.10,2,    16.40,2,     0.85,2,   2302.4,2,   7.7350,2,    25.00,   2.1007
  35TH20020610, OVIDE,    20,  1,      5,2,20020620,1514, 59.2990, -35.7620, 3148,   3047.3,   2.4590,  34.9070,2,-999.0000,9,    286.0,2,   -999.0,9,    11.78,2,    16.71,2,     0.88,2,   2302.6,2,   7.7330,2,    25.00,   2.2152
  35TH20020610, OVIDE,    20,  1,      6,2,20020620,1514, 59.2990, -35.7620, 3148,   2995.7,   2.5460,  34.9130,2,  34.9110,2,    283.4,2,    282.6,2,    11.95,2,    16.86,2,     0.92,2,   2303.4,2,   7.7320,2,    25.00,   2.3056
  35TH20020610, OVIDE,    20,  1,      7,2,20020620,1514, 59.2990, -35.7620, 3148,   2895.4,   2.6760,  34.9140,2,  34.9140,2,    281.1,2,    280.6,2,    12.25,2,    17.22,2,     0.94,2,   2303.6,2,   7.7350,2,    25.00,   2.4430
  35TH20020610, OVIDE,    20,  1,      8,2,20020620,1514, 59.2990, -35.7620, 3148,   2797.1,   2.7970,  34.9210,2,  34.9200,2,    280.1,2,    278.9,2,    12.38,2,    17.42,2,     0.94,2,   2303.8,2,   7.7340,2,    25.00,   2.5714
  35TH20020610, OVIDE,    20,  1,      9,2,20020620,1514, 59.2990, -35.7620, 3148,   2598.6,   2.9530,  34.9220,2,  34.9210,2,    279.3,2,    278.0,2,    12.05,2,    17.42,2,     0.94,2,   2303.9,2,   7.7350,2,    25.00,   2.7442
  35TH20020610, OVIDE,    20,  1,     10,2,20020620,1514, 59.2990, -35.7620, 3148,   2396.7,   3.0780,  34.9240,2,  34.9290,3,    278.7,2,    279.1,2,    10.63,3,    17.27,2,     0.94,2,   -999.0,9,-999.0000,9,  -999.00,   2.8868
  35TH20020610, OVIDE,    20,  1,     11,2,20020620,1514, 59.2990, -35.7620, 3148,   2297.1,   3.1160,  34.9200,2,  34.9220,2,    279.9,2,    278.9,2,    11.17,2,    17.58,2,     0.93,2,   2302.9,2,   7.7330,2,    25.00,   2.9338
  35TH20020610, OVIDE,    20,  1,     12,2,20020620,1514, 59.2990, -35.7620, 3148,   2095.9,   3.1900,  34.9140,2,  34.9140,2,    281.8,2,    280.8,2,    10.70,2,    17.63,2,     0.94,2,   2303.1,2,   7.7310,2,    25.00,   3.0257
  35TH20020610, OVIDE,    20,  1,     13,2,20020620,1514, 59.2990, -35.7620, 3148,   1997.2,   3.1690,  34.9030,2,  34.9010,2,    283.5,2,    283.1,2,    10.43,2,    17.63,2,     0.94,2,   2301.4,2,   7.7330,2,    25.00,   3.0143
  35TH20020610, OVIDE,    20,  1,     14,2,20020620,1514, 59.2990, -35.7620, 3148,   1795.9,   3.2030,  34.8930,2,  34.8920,2,    284.1,2,    285.2,2,    10.16,2,    17.78,2,     0.95,2,   2299.9,2,   7.7340,2,    25.00,   3.0661
  35TH20020610, OVIDE,    20,  1,     15,2,20020620,1514, 59.2990, -35.7620, 3148,   1595.4,   3.3140,  34.8960,2,  34.8970,2,    283.1,2,    283.1,2,    10.13,2,    17.88,2,     0.94,2,   -999.0,9,-999.0000,9,  -999.00,   3.1935
  35TH20020610, OVIDE,    20,  1,     16,2,20020620,1514, 59.2990, -35.7620, 3148,   1395.9,   3.4770,  34.9020,2,  34.9050,2,    279.6,2,    293.1,3,    10.03,2,    17.93,2,     0.92,2,   -999.0,9,-999.0000,9,  -999.00,   3.3719
  35TH20020610, OVIDE,    20,  1,     17,2,20020620,1514, 59.2990, -35.7620, 3148,   1195.5,   3.5240,  34.8830,2,  34.8840,2,    281.6,2,    279.7,2,     9.69,2,    17.93,2,     0.95,2,   2300.0,2,   7.7220,2,    25.00,   3.4354
  35TH20020610, OVIDE,    20,  1,     18,2,20020620,1514, 59.2990, -35.7620, 3148,    995.5,   3.5690,  34.8690,2,  34.8680,2,    285.9,2,    285.9,2,     9.15,2,    17.63,2,     0.92,2,   2298.5,2,   7.7230,2,    25.00,   3.4964
  35TH20020610, OVIDE,    20,  1,     19,2,20020620,1514, 59.2990, -35.7620, 3148,    896.6,   3.7030,  34.8740,2,  34.8760,2,    286.9,2,    285.8,2,     9.02,2,    17.68,2,     0.92,2,   2300.0,2,   7.7250,2,    25.00,   3.6374
  35TH20020610, OVIDE,    20,  1,     20,2,20020620,1514, 59.2990, -35.7620, 3148,    796.3,   3.7650,  34.8730,2,  34.8720,2,    290.0,2,    290.2,2,     8.75,2,    17.63,2,     0.94,2,   2300.9,2,   7.7270,2,    25.00,   3.7069
  35TH20020610, OVIDE,    20,  1,     21,2,20020620,1514, 59.2990, -35.7620, 3148,    697.6,   3.8760,  34.8740,2,  34.8730,2,    295.2,2,    292.2,2,     8.55,2,    17.53,2,     0.94,2,   2300.6,2,   7.7300,2,    25.00,   3.8250
  35TH20020610, OVIDE,    20,  1,     22,2,20020620,1514, 59.2990, -35.7620, 3148,    595.2,   4.0560,  34.8860,2,  34.8850,2,    293.2,2,    292.8,2,     8.45,2,    17.48,2,     0.92,2,   2300.7,2,   7.7350,2,    25.00,   4.0121
  35TH20020610, OVIDE,    20,  1,     23,2,20020620,1514, 59.2990, -35.7620, 3148,    496.5,   4.2440,  34.8870,2,  34.8880,2,    286.4,2,    286.9,2,     8.55,2,    17.73,2,     0.93,2,   2301.4,2,   7.7290,2,    25.00,   4.2071
  35TH20020610, OVIDE,    20,  1,     24,2,20020620,1514, 59.2990, -35.7620, 3148,    396.7,   5.3580,  35.0130,2,  35.0090,2,    281.5,2,    245.9,3,    10.03,2,    18.95,2,     1.00,3,   2309.4,2,   7.7180,2,    25.00,   5.3253
  35TH20020610, OVIDE,    20,  1,     25,2,20020620,1514, 59.2990, -35.7620, 3148,    296.5,   5.2830,  34.9410,2,  34.9390,2,    273.6,2,    278.7,2,     8.21,2,    17.37,2,     0.92,2,   2303.7,2,   7.7400,2,    25.00,   5.2590
  35TH20020610, OVIDE,    20,  1,     26,2,20020620,1514, 59.2990, -35.7620, 3148,    197.9,   6.1030,  35.0060,2,  35.0010,3,    276.2,2,    265.8,3,     8.14,2,    17.42,2,     0.92,2,   2307.6,2,   7.7500,2,    25.00,   6.0858
  35TH20020610, OVIDE,    20,  1,     27,2,20020620,1514, 59.2990, -35.7620, 3148,    146.2,   6.2480,  34.9920,2,  34.9890,2,    278.4,2,    275.8,2,     7.54,2,    16.71,2,     0.88,2,   2307.3,2,   7.7590,2,    25.00,   6.2352
  35TH20020610, OVIDE,    20,  1,     28,2,20020620,1514, 59.2990, -35.7620, 3148,     95.5,   6.8580,  35.0450,2,  35.0440,2,    279.9,2,    278.5,2,     6.83,2,    15.89,2,     0.82,2,   2311.4,2,   7.7750,2,    25.00,   6.8492
  35TH20020610, OVIDE,    20,  1,     29,2,20020620,1514, 59.2990, -35.7620, 3148,     48.1,   6.9710,  34.9820,2,  34.9960,3,    291.3,2,    291.1,2,     4.17,2,    13.44,2,     0.75,2,   2309.7,2,   7.7950,2,    25.00,   6.9666
  35TH20020610, OVIDE,    20,  1,     30,2,20020620,1514, 59.2990, -35.7620, 3148,      3.1,   8.2690,  34.9030,2,  34.9040,2,    300.8,2,    303.7,2,     0.88,2,     8.17,2,     0.47,2,   2306.8,2,   7.8700,2,    25.00,   8.2687