BOTTLE,20140820PRINUNIVRMK
EXPOCODE,SECT_ID,STNNBR,CASTNO,BTLNBR,BTLNBR_FLAG_W,DATE,TIME,LATITUDE,LONGITUDE,DEPTH,CTDPRS,CTDTMP,CTDSAL,CTDSAL_FLAG_W,SALNTY,SALNTY_FLAG_W,CTDOXY,CTDOXY_FLAG_W,OXYGEN,OXYGEN_FLAG_W,SILCAT,SILCAT_FLAG_W,NITRAT,NITRAT_FLAG_W,PHSPHT,PHSPHT_FLAG_W,ALKALI,ALKALI_FLAG_W,PH_SWS,PH_SWS_FLAG_W,PH_TMP,THETA
,,,,,,,,,,METERS,DBAR,ITS-90,PSS-78,,PSS-78,,UMOL/KG,,UMOL/KG,,UMOL/KG,,UMOL/KG,,UMOL/KG,,UMOL/KG,,,,DEG C,DEG C
  35TH20020610, OVIDE,    15,  1,      3,2,20020619,1615, 59.6240, -38.9590, 2940,   2930.4,   1.6900,  34.8890,2,  34.8870,2,    293.0,2,    295.6,2,  -999.00,9,    15.38,2,     0.97,2,   -999.0,9,   7.7260,2,    25.00,   1.4746
  35TH20020610, OVIDE,    15,  1,      4,2,20020619,1615, 59.6240, -38.9590, 2940,   2896.5,   2.0270,  34.8950,2,  34.8930,2,    291.2,2,    290.7,2,     9.28,2,    16.11,2,     1.02,2,   -999.0,9,   7.7290,2,    25.00,   1.8077
  35TH20020610, OVIDE,    15,  1,      5,2,20020619,1615, 59.6240, -38.9590, 2940,   2849.3,   2.1890,  34.8900,2,-999.0000,9,    291.1,2,   -999.0,9,    10.45,2,    16.62,2,     1.03,2,   -999.0,9,-999.0000,9,  -999.00,   1.9709
  35TH20020610, OVIDE,    15,  1,      6,2,20020619,1615, 59.6240, -38.9590, 2940,   2795.8,   2.2800,  34.8810,2,  34.8810,2,    290.7,2,    291.5,2,    10.41,2,    15.83,3,     1.02,3,   -999.0,9,   7.7310,2,    25.00,   2.0653
  35TH20020610, OVIDE,    15,  1,      7,2,20020619,1615, 59.6240, -38.9590, 2940,   2695.2,   2.6010,  34.9100,2,  34.9090,2,    281.6,2,    282.2,2,     9.66,3,    17.30,2,     1.07,2,   -999.0,9,   7.7340,2,    25.00,   2.3896
  35TH20020610, OVIDE,    15,  1,      8,2,20020619,1615, 59.6240, -38.9590, 2940,   2594.9,   2.7030,  34.9110,2,  34.9100,2,    279.2,2,    281.7,2,    12.23,2,    17.08,2,     1.08,2,   -999.0,9,   7.7360,2,    25.00,   2.4994
  35TH20020610, OVIDE,    15,  1,      9,2,20020619,1615, 59.6240, -38.9590, 2940,   2397.0,   2.9170,  34.9220,2,  34.9200,2,    279.1,2,    278.4,2,    11.89,2,    17.99,2,     1.07,2,   -999.0,9,   7.7350,2,    25.00,   2.7286
  35TH20020610, OVIDE,    15,  1,     10,2,20020619,1615, 59.6240, -38.9590, 2940,   2195.0,   3.0270,  34.9180,2,  34.9170,2,    279.3,2,    282.7,2,    12.30,2,    17.48,2,     1.04,3,   -999.0,9,-999.0000,9,  -999.00,   2.8560
  35TH20020610, OVIDE,    15,  1,     11,2,20020619,1615, 59.6240, -38.9590, 2940,   2094.0,   3.0990,  34.9210,2,  34.9240,2,    278.5,2,    279.0,2,    11.48,2,    17.99,2,     1.11,3,   -999.0,9,   7.7370,2,    25.00,   2.9363
  35TH20020610, OVIDE,    15,  1,     12,2,20020619,1615, 59.6240, -38.9590, 2940,   1996.5,   3.1620,  34.9240,2,  34.9210,2,    280.3,2,    279.9,2,    11.17,2,    17.99,2,     1.06,3,   -999.0,9,   7.7320,2,    25.00,   3.0074
  35TH20020610, OVIDE,    15,  1,     13,2,20020619,1615, 59.6240, -38.9590, 2940,   1897.3,   3.1820,  34.9140,2,-999.0000,9,    281.5,2,   -999.0,9,    10.86,2,    19.35,3,     1.07,2,   -999.0,9,-999.0000,9,  -999.00,   3.0362
  35TH20020610, OVIDE,    15,  1,     14,2,20020619,1615, 59.6240, -38.9590, 2940,   1797.4,   3.1930,  34.9060,2,  34.9060,2,    283.9,2,    283.3,2,    10.58,2,    19.12,3,     1.09,2,   -999.0,9,   7.7300,2,    25.00,   3.0561
  35TH20020610, OVIDE,    15,  1,     15,2,20020619,1615, 59.6240, -38.9590, 2940,   1596.7,   3.1130,  34.8760,2,  34.8740,2,    286.9,2,    288.2,2,    10.21,2,    18.33,2,     1.07,2,   -999.0,9,   7.7290,2,    25.00,   2.9948
  35TH20020610, OVIDE,    15,  1,     16,2,20020619,1615, 59.6240, -38.9590, 2940,   1395.2,   3.2670,  34.8830,2,  34.8830,2,    282.7,2,    283.7,2,    10.17,2,    18.95,3,     1.10,2,   -999.0,9,   7.7240,2,    25.00,   3.1642
  35TH20020610, OVIDE,    15,  1,     17,2,20020619,1615, 59.6240, -38.9590, 2940,   1198.4,   3.4480,  34.8910,2,  34.8900,2,    278.7,2,    279.7,2,    10.10,2,    19.18,3,     1.07,3,   -999.0,9,   7.7210,2,    25.00,   3.3598
  35TH20020610, OVIDE,    15,  1,     18,2,20020619,1615, 59.6240, -38.9590, 2940,    994.8,   3.4810,  34.8700,2,  34.8690,2,    282.2,2,    283.7,2,     9.52,2,    18.67,3,     1.07,3,   -999.0,9,   7.7220,2,    25.00,   3.4091
  35TH20020610, OVIDE,    15,  1,     19,2,20020619,1615, 59.6240, -38.9590, 2940,    896.1,   3.5330,  34.8670,2,  34.8670,2,    284.9,2,    285.7,2,     9.28,2,    18.27,2,     1.11,2,   -999.0,9,   7.7240,2,    25.00,   3.4686
  35TH20020610, OVIDE,    15,  1,     20,2,20020619,1615, 59.6240, -38.9590, 2940,    798.1,   3.5930,  34.8650,2,  34.8650,2,    286.9,2,    288.1,2,     9.00,2,    17.93,2,     1.13,2,   -999.0,9,   7.7240,2,    25.00,   3.5359
  35TH20020610, OVIDE,    15,  1,     21,2,20020619,1615, 59.6240, -38.9590, 2940,    697.1,   3.6760,  34.8650,2,  34.8670,2,    289.2,2,    290.2,2,     8.80,2,    17.82,2,     1.11,2,   -999.0,9,   7.7270,2,    25.00,   3.6262
  35TH20020610, OVIDE,    15,  1,     22,2,20020619,1615, 59.6240, -38.9590, 2940,    599.7,   3.7670,  34.8660,2,  34.8650,2,    285.3,2,    289.9,2,     8.66,2,    18.33,2,     1.13,2,   -999.0,9,   7.7260,2,    25.00,   3.7242
  35TH20020610, OVIDE,    15,  1,     23,2,20020619,1615, 59.6240, -38.9590, 2940,    501.8,   3.9670,  34.8790,2,  34.8790,2,    287.7,2,    290.5,2,     8.21,2,    17.70,2,     1.07,3,   -999.0,9,   7.7280,2,    25.00,   3.9307
  35TH20020610, OVIDE,    15,  1,     24,2,20020619,1615, 59.6240, -38.9590, 2940,    395.5,   4.1850,  34.8790,2,  34.8790,2,    284.5,2,    286.2,2,     8.28,2,    17.82,2,     1.12,2,   -999.0,9,   7.7290,2,    25.00,   4.1561
  35TH20020610, OVIDE,    15,  1,     25,2,20020619,1615, 59.6240, -38.9590, 2940,    298.6,   4.5320,  34.8960,2,  34.8940,2,    282.8,2,    284.4,2,     8.11,2,    17.59,2,     1.14,2,   -999.0,9,   7.7330,2,    25.00,   4.5095
  35TH20020610, OVIDE,    15,  1,     26,2,20020619,1615, 59.6240, -38.9590, 2940,    194.5,   5.2970,  34.9510,2,  34.9510,2,    287.6,2,    289.4,2,     7.73,2,    16.96,2,     1.09,2,   -999.0,9,   7.7570,2,    25.00,   5.2813
  35TH20020610, OVIDE,    15,  1,     27,2,20020619,1615, 59.6240, -38.9590, 2940,    146.1,   5.6280,  34.9740,2,  34.9730,2,    285.6,2,    286.6,2,     7.70,2,    16.85,2,     1.07,2,   -999.0,9,   7.7540,2,    25.00,   5.6159
  35TH20020610, OVIDE,    15,  1,     28,2,20020619,1615, 59.6240, -38.9590, 2940,     98.9,   5.7650,  34.9620,2,  34.9620,2,    281.8,2,    284.5,2,     7.66,3,    16.62,3,     1.08,3,   -999.0,9,   7.7540,2,    25.00,   5.7567
  35TH20020610, OVIDE,    15,  1,     29,2,20020619,1615, 59.6240, -38.9590, 2940,     49.0,   6.2050,  34.9780,2,  34.9740,2,    297.4,2,    289.7,3,     7.11,2,    15.38,2,     1.00,2,   -999.0,9,   7.7670,2,    25.00,   6.2008
  35TH20020610, OVIDE,    15,  1,     30,2,20020619,1615, 59.6240, -38.9590, 2940,      5.2,   7.8550,  34.9630,2,  34.9660,2,    308.4,2,    309.9,2,     1.10,2,     8.45,2,     0.55,2,   -999.0,9,   7.8700,2,    25.00,   7.8545
  35TH20020610, OVIDE,    16,  1,      3,2,20020619,2042, 59.5570, -38.3180, 3084,   3074.4,   1.5410,  34.8860,2,  34.8870,2,    298.4,2,    298.0,2,     8.66,2,    14.87,2,     0.81,2,   2301.0,2,   7.7260,2,    25.00,   1.3151
  35TH20020610, OVIDE,    16,  1,      4,2,20020619,2042, 59.5570, -38.3180, 3084,   2997.1,   1.9160,  34.8870,2,  34.8870,2,    294.2,2,    294.3,2,     9.24,2,    15.32,2,     0.83,2,   2300.6,2,   7.7290,2,    25.00,   1.6893
  35TH20020610, OVIDE,    16,  1,      5,2,20020619,2042, 59.5570, -38.3180, 3084,   2945.3,   2.2220,  34.8950,2,-999.0000,9,    289.9,2,   -999.0,9,    10.79,2,    16.06,2,     0.86,2,   -999.0,9,-999.0000,9,  -999.00,   1.9937
  35TH20020610, OVIDE,    16,  1,      6,2,20020619,2042, 59.5570, -38.3180, 3084,   2897.1,   2.3770,  34.8980,2,  34.8980,2,    287.8,2,    286.8,2,    11.13,2,    16.23,2,     0.88,2,   2302.1,2,   7.7330,2,    25.00,   2.1502
  35TH20020610, OVIDE,    16,  1,      7,2,20020619,2042, 59.5570, -38.3180, 3084,   2796.8,   2.6450,  34.9100,2,  34.9110,2,    282.6,2,    282.2,2,    12.23,2,    16.85,2,     0.90,2,   2303.5,2,   7.7310,2,    25.00,   2.4226
  35TH20020610, OVIDE,    16,  1,      8,2,20020619,2042, 59.5570, -38.3180, 3084,   2695.9,   2.8120,  34.9230,2,  34.9220,2,    280.0,2,    278.8,2,    12.82,2,    17.30,2,     0.93,2,   2304.6,2,   7.7350,2,    25.00,   2.5963
  35TH20020610, OVIDE,    16,  1,      9,2,20020619,2042, 59.5570, -38.3180, 3084,   2596.5,   2.8970,  34.9240,2,  34.9220,2,    279.3,2,    278.1,2,    12.68,2,    17.42,2,     0.94,2,   2304.8,2,   7.7350,2,    25.00,   2.6895
  35TH20020610, OVIDE,    16,  1,     10,2,20020619,2042, 59.5570, -38.3180, 3084,   2497.0,   2.9860,  34.9250,2,  34.9220,2,    279.5,2,    278.2,2,    12.10,2,    17.53,2,     0.94,2,   2304.9,2,   7.7340,2,    25.00,   2.7867
  35TH20020610, OVIDE,    16,  1,     11,2,20020619,2042, 59.5570, -38.3180, 3084,   2396.9,   3.0370,  34.9250,2,  34.9230,2,    278.8,2,    278.2,2,    12.20,2,    17.59,2,     0.94,2,   -999.0,9,-999.0000,9,  -999.00,   2.8465
  35TH20020610, OVIDE,    16,  1,     12,2,20020619,2042, 59.5570, -38.3180, 3084,   2194.3,   3.1630,  34.9250,2,  34.9260,2,    280.0,2,    279.6,2,    11.51,2,    17.70,2,     0.94,2,   2304.7,2,   7.7320,2,    25.00,   2.9898
  35TH20020610, OVIDE,    16,  1,     13,2,20020619,2042, 59.5570, -38.3180, 3084,   1995.2,   3.2520,  34.9240,2,  34.9230,2,    281.5,2,    280.3,2,    11.03,2,    17.70,2,     0.93,2,   2304.7,2,   7.7290,2,    25.00,   3.0962
  35TH20020610, OVIDE,    16,  1,     14,2,20020619,2042, 59.5570, -38.3180, 3084,   1795.0,   3.1530,  34.8910,2,  34.8920,2,    285.7,2,    285.6,2,    10.58,2,    17.87,2,     0.95,2,   2300.9,2,   7.7260,2,    25.00,   3.0169
  35TH20020610, OVIDE,    16,  1,     15,2,20020619,2042, 59.5570, -38.3180, 3084,   1594.8,   3.2090,  34.8860,2,  34.8840,2,    284.5,2,    285.6,2,    10.48,2,    17.99,2,     0.94,2,   2301.5,2,   7.7260,2,    25.00,   3.0898
  35TH20020610, OVIDE,    16,  1,     16,2,20020619,2042, 59.5570, -38.3180, 3084,   1394.7,   3.3310,  34.8890,2,  34.8900,2,    281.4,2,    282.1,2,    10.34,2,    18.10,2,     0.94,2,   2300.2,2,   7.7280,2,    25.00,   3.2276
  35TH20020610, OVIDE,    16,  1,     17,2,20020619,2042, 59.5570, -38.3180, 3084,   1195.5,   3.4820,  34.8920,2,  34.8930,2,    279.2,2,    278.8,2,    10.31,2,    17.87,2,     0.95,2,   2302.0,2,   7.7230,2,    25.00,   3.3938
  35TH20020610, OVIDE,    16,  1,     18,2,20020619,2042, 59.5570, -38.3180, 3084,    997.4,   3.4880,  34.8720,2,  34.8730,2,    282.5,2,    283.2,2,     9.66,2,    17.93,2,     0.94,2,   2300.3,2,   7.7230,2,    25.00,   3.4159
  35TH20020610, OVIDE,    16,  1,     19,2,20020619,2042, 59.5570, -38.3180, 3084,    897.0,   3.5120,  34.8670,2,  34.8650,2,    286.2,2,    286.4,2,     9.35,2,    17.76,2,     0.94,2,   2299.7,2,   7.7250,2,    25.00,   3.4477
  35TH20020610, OVIDE,    16,  1,     20,2,20020619,2042, 59.5570, -38.3180, 3084,    795.0,   3.5710,  34.8660,2,  34.8670,2,    286.8,2,    288.0,2,     9.18,2,    17.76,2,     0.93,2,   2299.3,2,   7.7260,2,    25.00,   3.5142
  35TH20020610, OVIDE,    16,  1,     21,2,20020619,2042, 59.5570, -38.3180, 3084,    695.4,   3.7330,  34.8790,2,  34.8810,2,    280.4,2,    285.0,2,     9.24,2,    17.93,2,     0.94,2,   2301.1,2,   7.7250,2,    25.00,   3.6830
  35TH20020610, OVIDE,    16,  1,     22,2,20020619,2042, 59.5570, -38.3180, 3084,    597.3,   4.0100,  34.9070,2,  34.9080,2,    274.8,2,    275.5,2,     9.62,2,    18.33,2,     0.95,2,   2303.3,2,   7.7230,2,    25.00,   3.9662
  35TH20020610, OVIDE,    16,  1,     23,2,20020619,2042, 59.5570, -38.3180, 3084,    496.2,   4.1330,  34.9070,2,  34.9020,3,    274.3,2,    279.1,2,     9.35,2,    18.27,2,     0.94,2,   2303.2,2,   7.7270,2,    25.00,   4.0965
  35TH20020610, OVIDE,    16,  1,     24,2,20020619,2042, 59.5570, -38.3180, 3084,    396.1,   4.3240,  34.9060,2,  34.9130,3,    271.1,2,    275.6,2,     9.21,2,    18.21,2,     0.96,2,   2303.7,2,   7.7270,2,    25.00,   4.2946
  35TH20020610, OVIDE,    16,  1,     25,2,20020619,2042, 59.5570, -38.3180, 3084,    296.2,   4.5440,  34.9020,2,  34.9030,2,    286.4,2,    286.3,2,     8.52,2,    17.59,2,     0.92,2,   2302.8,2,   7.7350,2,    25.00,   4.5217
  35TH20020610, OVIDE,    16,  1,     26,2,20020619,2042, 59.5570, -38.3180, 3084,    197.3,   4.8560,  34.9000,2,  34.9030,2,    290.4,2,    293.3,2,     8.11,2,    16.74,2,     0.88,2,   2302.6,2,   7.7490,2,    25.00,   4.8408
  35TH20020610, OVIDE,    16,  1,     27,2,20020619,2042, 59.5570, -38.3180, 3084,    147.8,   5.2100,  34.9270,2,  34.9270,2,    289.7,2,    289.7,2,     7.94,2,    16.91,2,     0.90,2,   -999.0,9,-999.0000,9,  -999.00,   5.1983
  35TH20020610, OVIDE,    16,  1,     28,2,20020619,2042, 59.5570, -38.3180, 3084,     96.8,   5.3320,  34.8770,2,  34.8790,2,    299.5,2,    300.2,2,     7.39,2,    15.04,2,     0.85,2,   2302.3,2,   7.7630,2,    25.00,   5.3243
  35TH20020610, OVIDE,    16,  1,     29,2,20020619,2042, 59.5570, -38.3180, 3084,     46.9,   7.4060,  34.9600,2,  34.9600,2,    311.6,2,    307.2,2,     1.13,2,     9.53,2,     0.55,2,   2305.7,2,   7.8550,2,    25.00,   7.4015
  35TH20020610, OVIDE,    16,  1,     30,2,20020619,2042, 59.5570, -38.3180, 3084,      5.0,   7.7690,  34.9110,2,  34.9120,2,    334.3,2,    306.3,3,     1.82,2,     9.08,2,     0.52,2,   2306.9,2,   7.8570,2,    25.00,   7.7685
  35TH20020610, OVIDE,    17,  1,      3,2,20020620,0119, 59.4920, -37.6800, 3159,   3149.2,   1.5770,  34.8860,2,  34.8860,2,    298.3,2,    290.3,3,     8.61,2,    14.52,2,     0.85,2,   -999.0,9,   7.7290,2,    25.00,   1.3430
  35TH20020610, OVIDE,    17,  1,      4,2,20020620,0119, 59.4920, -37.6800, 3159,   3094.0,   2.1370,  34.8970,2,  34.9070,3,    290.8,2,    290.8,2,    10.33,2,    15.94,2,     0.87,2,   -999.0,9,   7.7330,2,    25.00,   1.8957
  35TH20020610, OVIDE,    17,  1,      5,2,20020620,0119, 59.4920, -37.6800, 3159,   2995.4,   2.3930,  34.9040,2,  34.9040,2,    286.0,2,    285.6,2,    11.48,2,    16.51,2,     0.90,2,   -999.0,9,   7.7370,2,    25.00,   2.1560
  35TH20020610, OVIDE,    17,  1,      6,2,20020620,0119, 59.4920, -37.6800, 3159,   2895.5,   2.6190,  34.9150,2,  34.9130,2,    283.1,2,    282.6,2,    12.22,2,    16.91,2,     0.92,2,   -999.0,9,   7.7390,2,    25.00,   2.3872
  35TH20020610, OVIDE,    17,  1,      7,2,20020620,0119, 59.4920, -37.6800, 3159,   2797.1,   2.7420,  34.9180,2,  34.9180,2,    280.8,2,    280.4,2,    12.36,2,    17.25,2,     0.94,2,   -999.0,9,-999.0000,9,  -999.00,   2.5176
  35TH20020610, OVIDE,    17,  1,      8,2,20020620,0119, 59.4920, -37.6800, 3159,   2696.6,   2.8680,  34.9230,2,  34.9220,2,    279.0,2,    281.2,2,    12.36,2,    17.42,2,     0.94,2,   -999.0,9,   7.7340,2,    25.00,   2.6511
  35TH20020610, OVIDE,    17,  1,      9,2,20020620,0119, 59.4920, -37.6800, 3159,   2595.9,   2.9520,  34.9260,2,  34.9260,2,    278.3,2,    278.4,2,    12.36,2,    17.53,3,     0.94,2,   -999.0,9,   7.7350,2,    25.00,   2.7435
  35TH20020610, OVIDE,    17,  1,     10,2,20020620,0119, 59.4920, -37.6800, 3159,   2395.3,   3.0670,  34.9260,2,  34.9250,2,    278.2,2,    280.0,2,    10.26,3,    17.42,2,     0.93,2,   -999.0,9,   7.7350,2,    25.00,   2.8761
  35TH20020610, OVIDE,    17,  1,     11,2,20020620,0119, 59.4920, -37.6800, 3159,   2195.8,   3.1850,  34.9270,2,  34.9290,2,    279.8,2,    279.3,2,    11.11,2,    17.53,2,     0.93,2,   -999.0,9,   7.7330,2,    25.00,   3.0113
  35TH20020610, OVIDE,    17,  1,     12,2,20020620,0119, 59.4920, -37.6800, 3159,   1995.6,   3.1620,  34.9060,2,  34.9050,2,    283.2,2,    283.2,2,    10.47,2,    17.59,2,     0.92,2,   -999.0,9,   7.7340,2,    25.00,   3.0075
  35TH20020610, OVIDE,    17,  1,     13,2,20020620,0119, 59.4920, -37.6800, 3159,   1796.2,   3.1630,  34.8930,2,  34.8930,2,    286.1,2,    285.2,2,    10.13,2,    17.87,2,     0.98,2,   -999.0,9,   7.7330,2,    25.00,   3.0266
  35TH20020610, OVIDE,    17,  1,     14,2,20020620,0119, 59.4920, -37.6800, 3159,   1794.0,   3.1760,  34.8930,2,  34.8940,2,    286.0,2,    285.5,2,    10.23,2,    17.82,2,     0.98,2,   -999.0,9,   7.7300,2,    25.00,   3.0397
  35TH20020610, OVIDE,    17,  1,     15,2,20020620,0119, 59.4920, -37.6800, 3159,   1596.2,   3.2220,  34.8880,2,  34.8880,2,    284.8,2,    285.0,2,    10.06,2,    17.99,2,     0.98,2,   -999.0,9,   7.7320,2,    25.00,   3.1025
  35TH20020610, OVIDE,    17,  1,     16,2,20020620,0119, 59.4920, -37.6800, 3159,   1396.1,   3.3430,  34.8930,2,  34.8950,2,    280.0,2,    282.6,2,    10.00,2,    17.99,2,     0.98,2,   -999.0,9,   7.7270,2,    25.00,   3.2393
  35TH20020610, OVIDE,    17,  1,     17,2,20020620,0119, 59.4920, -37.6800, 3159,   1196.1,   3.6790,  34.9280,2,  34.9290,2,    274.5,2,    274.5,2,    10.13,2,    18.04,2,     0.98,2,   -999.0,9,   7.7260,2,    25.00,   3.5888
  35TH20020610, OVIDE,    17,  1,     18,2,20020620,0119, 59.4920, -37.6800, 3159,    995.5,   3.9790,  34.9470,2,  34.9470,2,    273.7,2,    269.3,2,    10.03,2,    18.21,2,     1.00,2,   -999.0,9,   7.7260,2,    25.00,   3.9031
  35TH20020610, OVIDE,    17,  1,     19,2,20020620,0119, 59.4920, -37.6800, 3159,    895.6,   3.9280,  34.9200,2,  34.9180,2,    271.9,2,    273.2,2,     9.83,2,    18.21,2,     0.99,2,   -999.0,9,   7.7240,2,    25.00,   3.8608
  35TH20020610, OVIDE,    17,  1,     20,2,20020620,0119, 59.4920, -37.6800, 3159,    796.4,   4.0320,  34.9140,2,  34.9140,2,    271.7,2,    274.3,2,     9.46,3,    18.21,2,     1.00,3,   -999.0,9,   7.7250,2,    25.00,   3.9722
  35TH20020610, OVIDE,    17,  1,     21,2,20020620,0119, 59.4920, -37.6800, 3159,    696.9,   4.3570,  34.9430,2,  34.9440,2,    266.0,2,    264.8,2,     9.83,3,    18.89,3,     1.01,3,   -999.0,9,   7.7190,2,    25.00,   4.3034
  35TH20020610, OVIDE,    17,  1,     22,2,20020620,0119, 59.4920, -37.6800, 3159,    596.5,   4.3030,  34.9100,2,  34.9110,2,    276.7,2,    276.2,2,     9.05,3,    18.16,3,     0.99,3,   -999.0,9,   7.7220,2,    25.00,   4.2579
  35TH20020610, OVIDE,    17,  1,     23,2,20020620,0119, 59.4920, -37.6800, 3159,    498.0,   4.8250,  34.9500,2,  34.9500,2,    261.1,2,    255.0,3,     9.86,3,    19.01,3,     1.03,3,   -999.0,9,   7.7150,2,    25.00,   4.7856
  35TH20020610, OVIDE,    17,  1,     24,2,20020620,0119, 59.4920, -37.6800, 3159,    396.4,   4.9230,  34.9150,2,  34.9170,2,    292.9,2,    288.4,2,     8.10,2,    17.30,2,     0.94,2,   -999.0,9,   7.7430,2,    25.00,   4.8917
  35TH20020610, OVIDE,    17,  1,     25,2,20020620,0119, 59.4920, -37.6800, 3159,    297.3,   5.1120,  34.9210,2,  34.9210,2,    291.1,2,    291.9,2,     7.77,2,    16.68,2,     0.91,2,   -999.0,9,   7.7500,2,    25.00,   5.0883
  35TH20020610, OVIDE,    17,  1,     26,2,20020620,0119, 59.4920, -37.6800, 3159,    197.5,   5.6400,  34.9370,2,  34.9350,2,    280.6,2,    268.5,3,     8.31,2,    17.64,2,     0.95,2,   -999.0,9,   7.7400,2,    25.00,   5.6236
  35TH20020610, OVIDE,    17,  1,     27,2,20020620,0119, 59.4920, -37.6800, 3159,    146.0,   5.9230,  34.9430,2,  34.9390,2,    279.2,2,    278.7,2,     7.63,2,    16.74,2,     0.90,2,   -999.0,9,   7.7550,2,    25.00,   5.9106
  35TH20020610, OVIDE,    17,  1,     28,2,20020620,0119, 59.4920, -37.6800, 3159,     96.4,   6.2060,  34.9520,2,  34.9500,2,    282.8,2,    281.0,2,     7.36,2,    16.23,2,     0.87,2,   -999.0,9,   7.7590,2,    25.00,   6.1976
  35TH20020610, OVIDE,    17,  1,     29,2,20020620,0119, 59.4920, -37.6800, 3159,     46.7,   6.4560,  34.9400,2,  34.9420,2,    299.4,2,    288.0,3,     6.89,2,    14.64,2,     0.84,2,   -999.0,9,   7.7680,2,    25.00,   6.4519
  35TH20020610, OVIDE,    17,  1,     30,2,20020620,0119, 59.4920, -37.6800, 3159,      3.5,   8.0490,  34.9180,2,  34.9190,2,    304.7,2,    305.8,2,     0.78,2,     7.51,2,     0.42,2,   -999.0,9,   7.8780,2,    25.00,   8.0486