BOTTLE,20140820PRINUNIVRMK
EXPOCODE,SECT_ID,STNNBR,CASTNO,BTLNBR,BTLNBR_FLAG_W,DATE,TIME,LATITUDE,LONGITUDE,DEPTH,CTDPRS,CTDTMP,CTDSAL,CTDSAL_FLAG_W,SALNTY,SALNTY_FLAG_W,CTDOXY,CTDOXY_FLAG_W,OXYGEN,OXYGEN_FLAG_W,SILCAT,SILCAT_FLAG_W,NITRAT,NITRAT_FLAG_W,PHSPHT,PHSPHT_FLAG_W,ALKALI,ALKALI_FLAG_W,PH_SWS,PH_SWS_FLAG_W,PH_TMP,THETA
,,,,,,,,,,METERS,DBAR,ITS-90,PSS-78,,PSS-78,,UMOL/KG,,UMOL/KG,,UMOL/KG,,UMOL/KG,,UMOL/KG,,UMOL/KG,,,,DEG C,DEG C
  35TH20020610, OVIDE,    67,  1,      3,2,20020701,1302, 45.0490, -18.5040, 4704,   4694.5,   2.6080,  34.9120,2,  34.9110,2,    240.4,2,    240.9,2,    46.26,2,    23.58,2,     1.41,2,   -999.0,9,   7.7290,2,    25.00,   2.1733
  35TH20020610, OVIDE,    67,  1,      4,2,20020701,1302, 45.0490, -18.5040, 4704,   3996.6,   2.5680,  34.9160,2,  34.9150,2,    242.6,2,    241.6,2,    44.49,2,    22.25,2,     1.36,2,   -999.0,9,   7.7310,2,    25.00,   2.2181
  35TH20020610, OVIDE,    67,  1,      5,2,20020701,1302, 45.0490, -18.5040, 4704,   3746.4,   2.6090,  34.9230,2,  34.9240,2,    245.1,2,    244.2,2,    41.40,3,    22.54,3,     1.35,2,   -999.0,9,   7.7330,2,    25.00,   2.2864
  35TH20020610, OVIDE,    67,  1,      6,2,20020701,1302, 45.0490, -18.5040, 4704,   3497.3,   2.6570,  34.9290,2,  34.9280,2,    247.7,2,    247.6,2,    38.64,2,    21.03,2,     1.29,2,   -999.0,9,   7.7310,2,    25.00,   2.3608
  35TH20020610, OVIDE,    67,  1,      7,2,20020701,1302, 45.0490, -18.5040, 4704,   3244.7,   2.7630,  34.9410,2,  34.9390,2,    252.1,2,    251.4,2,    34.11,2,    20.45,2,     1.25,2,   -999.0,9,   7.7340,2,    25.00,   2.4916
  35TH20020610, OVIDE,    67,  1,      8,2,20020701,1302, 45.0490, -18.5040, 4704,   2996.8,   2.9130,  34.9490,2,  34.9510,2,    256.6,2,    256.3,2,    29.25,2,    19.81,2,     1.22,2,   -999.0,9,   7.7350,2,    25.00,   2.6643
  35TH20020610, OVIDE,    67,  1,      9,2,20020701,1302, 45.0490, -18.5040, 4704,   2996.7,   2.9130,  34.9500,2,  34.9550,2,    256.6,2,    255.8,2,    29.25,2,    19.52,2,     1.21,2,   -999.0,9,   7.7350,2,    25.00,   2.6643
  35TH20020610, OVIDE,    67,  1,     10,2,20020701,1302, 45.0490, -18.5040, 4704,   2746.1,   3.1040,  34.9550,2,  34.9540,2,    261.5,2,    260.8,2,    24.51,2,    18.70,2,     1.15,2,   -999.0,9,   7.7360,2,    25.00,   2.8773
  35TH20020610, OVIDE,    67,  1,     11,2,20020701,1302, 45.0490, -18.5040, 4704,   2495.3,   3.2700,  34.9480,2,  34.9480,2,    268.5,2,    267.0,2,    19.54,2,    18.30,2,     1.08,2,   -999.0,9,   7.7350,2,    25.00,   3.0655
  35TH20020610, OVIDE,    67,  1,     12,2,20020701,1302, 45.0490, -18.5040, 4704,   2296.1,   3.3780,  34.9340,2,  34.9330,2,    272.6,2,    271.8,2,    14.62,2,    18.12,2,     1.06,2,   -999.0,9,   7.7320,2,    25.00,   3.1914
  35TH20020610, OVIDE,    67,  1,     13,2,20020701,1302, 45.0490, -18.5040, 4704,   2095.1,   3.3800,  34.9050,2,  34.9060,2,    279.7,2,    277.8,2,    12.24,2,    17.66,2,     1.07,2,   -999.0,9,   7.7320,2,    25.00,   3.2129
  35TH20020610, OVIDE,    67,  1,     14,2,20020701,1302, 45.0490, -18.5040, 4704,   1846.5,   3.6450,  34.9230,2,  34.9250,2,    272.2,2,    273.2,2,    12.00,2,    17.54,2,     1.05,2,   -999.0,9,   7.7290,2,    25.00,   3.4974
  35TH20020610, OVIDE,    67,  1,     15,2,20020701,1302, 45.0490, -18.5040, 4704,   1596.2,   4.3430,  35.0080,2,  35.0100,2,    258.3,2,    257.8,2,    11.83,2,    17.60,2,     1.05,2,   -999.0,9,   7.7280,2,    25.00,   4.2097
  35TH20020610, OVIDE,    67,  1,     16,2,20020701,1302, 45.0490, -18.5040, 4704,   1395.5,   5.4450,  35.1530,2,  35.1550,2,    238.9,2,    239.5,2,    11.70,2,    18.47,2,     1.06,2,   -999.0,9,   7.7300,2,    25.00,   5.3187
  35TH20020610, OVIDE,    67,  1,     17,2,20020701,1302, 45.0490, -18.5040, 4704,   1197.0,   6.5640,  35.2790,2,  35.2760,2,    223.1,2,    221.5,2,    11.63,2,    18.87,2,     1.06,2,   -999.0,9,   7.7330,2,    25.00,   6.4472
  35TH20020610, OVIDE,    67,  1,     18,2,20020701,1302, 45.0490, -18.5040, 4704,   1044.9,   7.5860,  35.3790,2,  35.3830,2,    208.1,2,    205.6,2,    11.25,2,    18.52,2,     1.06,2,   -999.0,9,   7.7390,2,    25.00,   7.4771
  35TH20020610, OVIDE,    67,  1,     19,2,20020701,1302, 45.0490, -18.5040, 4704,    935.1,   8.9290,  35.5450,2,  35.5460,2,    190.6,2,    192.3,2,    10.50,3,    18.29,3,     1.06,2,   -999.0,9,   7.7530,2,    25.00,   8.8229
  35TH20020610, OVIDE,    67,  1,     20,2,20020701,1302, 45.0490, -18.5040, 4704,    846.6,   9.0240,  35.4400,2,  35.4330,3,    189.3,2,    190.3,2,    10.40,2,    18.35,2,     1.22,3,   -999.0,9,   7.7450,2,    25.00,   8.9279
  35TH20020610, OVIDE,    67,  1,     21,2,20020701,1302, 45.0490, -18.5040, 4704,    746.5,  10.6050,  35.6590,2,  35.6590,2,    189.2,2,    189.2,2,     8.09,2,    16.43,2,     0.96,2,   -999.0,9,   7.7780,2,    25.00,  10.5120
  35TH20020610, OVIDE,    67,  1,     22,2,20020701,1302, 45.0490, -18.5040, 4704,    596.4,  10.7930,  35.5260,2,  35.5270,2,    202.5,2,    204.3,2,     6.66,2,    14.92,2,     1.04,2,   -999.0,9,   7.7860,2,    25.00,  10.7186
  35TH20020610, OVIDE,    67,  1,     23,2,20020701,1302, 45.0490, -18.5040, 4704,    497.7,  11.2650,  35.5470,2,  35.5470,2,    214.9,2,    214.4,2,     5.27,2,    12.31,2,     0.76,2,   -999.0,9,   7.8060,2,    25.00,  11.2015
  35TH20020610, OVIDE,    67,  1,     24,2,20020701,1302, 45.0490, -18.5040, 4704,    396.8,  11.6600,  35.5810,2,  35.5770,2,    223.6,2,    221.0,2,     4.52,2,    11.38,2,     0.66,2,   -999.0,9,   7.8270,2,    25.00,  11.6084
  35TH20020610, OVIDE,    67,  1,     25,2,20020701,1302, 45.0490, -18.5040, 4704,    296.3,  11.9610,  35.6070,2,  35.8470,3,    226.1,2,    246.6,3,     1.29,3,  -999.00,9,     0.18,4,   -999.0,9,-999.0000,9,  -999.00,  11.9220
  35TH20020610, OVIDE,    67,  1,     26,2,20020701,1302, 45.0490, -18.5040, 4704,    196.5,  12.7690,  35.7090,2,  35.7030,3,    239.1,2,    232.9,3,     3.23,2,     7.80,2,     0.49,2,   -999.0,9,   7.8770,2,    25.00,  12.7421
  35TH20020610, OVIDE,    67,  1,     27,2,20020701,1302, 45.0490, -18.5040, 4704,    146.8,  13.1620,  35.7600,2,  35.7610,2,    244.1,2,    247.7,2,     1.97,2,     4.60,3,     0.33,3,   -999.0,9,   7.9040,2,    25.00,  13.1415
  35TH20020610, OVIDE,    67,  1,     28,2,20020701,1302, 45.0490, -18.5040, 4704,     96.0,  13.5380,  35.8290,2,  35.8280,2,    242.0,2,    240.7,2,     1.97,2,     4.88,2,     0.34,3,   -999.0,9,   7.9070,2,    25.00,  13.5244
  35TH20020610, OVIDE,    67,  1,     29,2,20020701,1302, 45.0490, -18.5040, 4704,     47.1,  15.0510,  35.8300,2,  35.8260,2,    247.5,2,    250.3,2,     1.29,2,     0.49,2,     0.10,2,   -999.0,9,   7.9510,2,    25.00,  15.0438
  35TH20020610, OVIDE,    67,  1,     30,2,20020701,1302, 45.0490, -18.5040, 4704,      4.3,  16.7340,  35.8680,2,  35.8670,2,    242.8,2,    249.5,3,     1.36,2,     0.14,2,     0.06,2,   -999.0,9,   7.9800,2,    25.00,  16.7333
  35TH20020610, OVIDE,    68,  1,      3,2,20020705,1843, 44.6750, -18.2120, 4930,   4919.7,   2.6390,  34.9130,2,  34.9100,2,    242.1,2,    241.2,2,    45.15,2,    22.81,2,     1.38,2,   2354.8,2,   7.7270,2,    25.00,   2.1750
  35TH20020610, OVIDE,    68,  1,      4,2,20020705,1843, 44.6750, -18.2120, 4930,   4498.2,   2.5930,  34.9120,2,  34.9120,2,    242.8,2,    241.5,2,    44.71,2,    22.70,2,     1.36,2,   2351.7,2,   7.7290,2,    25.00,   2.1829
  35TH20020610, OVIDE,    68,  1,      5,2,20020705,1843, 44.6750, -18.2120, 4930,   3997.6,   2.5740,  34.9170,2,  34.9170,2,    243.3,2,    242.3,2,    43.38,2,    22.04,2,     1.36,2,   2350.1,2,   7.7330,2,    25.00,   2.2238
  35TH20020610, OVIDE,    68,  1,      6,2,20020705,1843, 44.6750, -18.2120, 4930,   3747.3,   2.5900,  34.9210,2,  34.9200,2,    244.8,2,    243.7,2,    42.06,2,    21.82,2,     1.34,2,   -999.0,9,-999.0000,9,  -999.00,   2.2679
  35TH20020610, OVIDE,    68,  1,      7,2,20020705,1843, 44.6750, -18.2120, 4930,   3497.4,   2.6450,  34.9290,2,  34.9280,2,    247.9,2,    246.3,2,    38.97,2,    21.49,2,     1.31,2,   2344.1,2,   7.7340,2,    25.00,   2.3491
  35TH20020610, OVIDE,    68,  1,      8,2,20020705,1843, 44.6750, -18.2120, 4930,   3245.3,   2.7430,  34.9390,2,  34.9430,2,    251.4,2,    250.1,2,    34.33,2,    20.94,2,     1.24,2,   2336.7,2,   7.7350,2,    25.00,   2.4719
  35TH20020610, OVIDE,    68,  1,      9,2,20020705,1843, 44.6750, -18.2120, 4930,   2995.5,   2.8500,  34.9470,2,  34.9580,3,    255.1,2,    253.3,2,    30.14,2,    19.96,2,     0.96,4,   2332.5,2,   7.7330,2,    25.00,   2.6029
  35TH20020610, OVIDE,    68,  1,     10,2,20020705,1843, 44.6750, -18.2120, 4930,   2746.1,   3.0340,  34.9560,2,  34.9580,2,    259.4,2,    257.7,2,    25.83,2,    19.52,2,     1.14,2,   2326.6,2,   7.7370,2,    25.00,   2.8087
  35TH20020610, OVIDE,    68,  1,     11,2,20020705,1843, 44.6750, -18.2120, 4930,   2495.2,   3.2720,  34.9610,2,  34.9630,2,    264.7,2,    262.0,2,    20.75,2,    18.80,2,     1.11,2,   2320.1,2,   7.7360,2,    25.00,   3.0674
  35TH20020610, OVIDE,    68,  1,     12,2,20020705,1843, 44.6750, -18.2120, 4930,   2245.9,   3.3870,  34.9330,2,  34.9350,2,    274.9,2,    271.6,2,    14.54,2,    17.60,2,     1.08,2,   2310.8,2,   7.7340,2,    25.00,   3.2051
  35TH20020610, OVIDE,    68,  1,     13,2,20020705,1843, 44.6750, -18.2120, 4930,   1996.2,   3.5390,  34.9210,2,  34.9180,2,    277.9,2,    275.0,2,    12.42,2,    17.22,3,     1.04,2,   2307.0,2,   7.7270,2,    25.00,   3.3788
  35TH20020610, OVIDE,    68,  1,     14,2,20020705,1843, 44.6750, -18.2120, 4930,   1795.4,   3.7950,  34.9420,2,  34.9410,2,    269.0,2,    269.6,2,    12.01,2,    18.09,2,     1.06,2,   2308.0,2,   7.7240,2,    25.00,   3.6501
  35TH20020610, OVIDE,    68,  1,     15,2,20020705,1843, 44.6750, -18.2120, 4930,   1595.3,   4.2840,  34.9960,2,  34.9940,2,    259.0,2,    258.7,2,    11.94,2,    17.65,2,     1.08,2,   2311.9,2,   7.7230,2,    25.00,   4.1516
  35TH20020610, OVIDE,    68,  1,     16,2,20020705,1843, 44.6750, -18.2120, 4930,   1395.1,   5.2280,  35.1100,2,  35.1180,3,    239.1,2,    241.5,2,    11.67,2,    18.36,2,     1.07,2,   2317.7,2,   7.7240,2,    25.00,   5.1041
  35TH20020610, OVIDE,    68,  1,     17,2,20020705,1843, 44.6750, -18.2120, 4930,   1194.3,   7.8390,  35.5130,2,  35.5060,3,    213.7,2,    208.7,2,    10.98,2,    17.98,2,     1.05,2,   2345.9,2,   7.7510,2,    25.00,   7.7110
  35TH20020610, OVIDE,    68,  1,     18,2,20020705,1843, 44.6750, -18.2120, 4930,    996.8,   9.1090,  35.6330,2,  35.6390,2,    191.1,2,    192.6,2,    10.37,2,    16.88,2,     1.06,2,   2353.8,2,   7.7600,2,    25.00,   8.9941
  35TH20020610, OVIDE,    68,  1,     19,2,20020705,1843, 44.6750, -18.2120, 4930,    845.8,  10.1370,  35.6910,2,  35.7060,3,    184.1,2,    186.5,2,     8.87,2,    15.78,2,     0.86,3,   2353.2,2,   7.7720,2,    25.00,  10.0340
  35TH20020610, OVIDE,    68,  1,     20,2,20020705,1843, 44.6750, -18.2120, 4930,    796.1,  10.5880,  35.7380,2,  35.7410,2,    185.2,2,    186.7,2,     8.39,2,    16.27,2,     0.96,2,   2355.1,2,   7.7780,2,    25.00,  10.4887
  35TH20020610, OVIDE,    68,  1,     21,2,20020705,1843, 44.6750, -18.2120, 4930,    696.0,  10.5710,  35.6010,2,  35.6370,3,    190.1,2,    190.2,2,     7.64,2,    16.22,2,     0.97,2,   2345.3,2,   7.7780,2,    25.00,  10.4848
  35TH20020610, OVIDE,    68,  1,     22,2,20020705,1843, 44.6750, -18.2120, 4930,    595.9,  10.9130,  35.5710,2,  35.5690,2,    202.8,2,    198.7,2,     6.55,2,    15.23,2,     0.91,2,   2342.3,2,   7.7850,2,    25.00,  10.8381
  35TH20020610, OVIDE,    68,  1,     23,2,20020705,1843, 44.6750, -18.2120, 4930,    496.2,  11.2490,  35.5640,2,  35.5640,2,    212.9,2,    208.7,2,     5.46,2,    13.43,2,     0.84,2,   2340.3,2,   7.7990,2,    25.00,  11.1857
  35TH20020610, OVIDE,    68,  1,     24,2,20020705,1843, 44.6750, -18.2120, 4930,    395.6,  11.5810,  35.5760,2,  35.5780,2,    221.0,2,    218.5,2,     4.60,2,    12.16,2,     0.75,2,   2339.2,2,   7.8190,2,    25.00,  11.5298
  35TH20020610, OVIDE,    68,  1,     25,2,20020705,1843, 44.6750, -18.2120, 4930,    296.2,  12.1160,  35.6250,2,  35.6300,2,    223.7,2,    226.2,2,     3.89,2,    10.17,2,     0.66,2,   -999.0,9,-999.0000,9,  -999.00,  12.0767
  35TH20020610, OVIDE,    68,  1,     26,2,20020705,1843, 44.6750, -18.2120, 4930,    197.3,  12.8040,  35.7170,2,  35.7140,2,    239.0,2,    235.3,2,     3.00,2,     7.74,2,     0.58,2,   2345.6,2,   7.8760,2,    25.00,  12.7769
  35TH20020610, OVIDE,    68,  1,     27,2,20020705,1843, 44.6750, -18.2120, 4930,    146.8,  13.2360,  35.7750,2,  35.7680,3,    242.8,2,    245.0,2,     1.88,2,     4.99,2,     0.41,2,   2349.0,2,   7.9030,2,    25.00,  13.2155
  35TH20020610, OVIDE,    68,  1,     28,2,20020705,1843, 44.6750, -18.2120, 4930,     96.8,  13.5200,  35.8100,2,  35.8070,2,    239.8,2,    242.4,2,     1.64,2,     4.82,2,     0.36,2,   2352.0,2,   7.9070,2,    25.00,  13.5063
  35TH20020610, OVIDE,    68,  1,     29,2,20020705,1843, 44.6750, -18.2120, 4930,     46.6,  15.1730,  35.8180,2,  35.8240,2,    248.5,2,    249.7,2,     1.06,2,     0.22,2,     0.09,2,   2354.0,2,   7.9600,2,    25.00,  15.1659
  35TH20020610, OVIDE,    68,  1,     30,2,20020705,1843, 44.6750, -18.2120, 4930,      7.7,  16.7090,  35.8580,2,  35.8600,2,    245.1,2,    249.4,3,     1.02,2,     0.05,2,     0.07,2,   2358.4,2,   7.9780,2,    25.00,  16.7077
  35TH20020610, OVIDE,    69,  1,      3,2,20020705,0033, 44.3770, -17.8170, 4998,   4987.7,   2.6470,  34.9120,2,  34.9120,2,    240.8,2,    241.7,2,    45.85,2,    23.01,2,     1.42,3,   -999.0,9,   7.7290,2,    25.00,   2.1741
  35TH20020610, OVIDE,    69,  1,      4,2,20020705,0033, 44.3770, -17.8170, 4998,   4496.5,   2.5900,  34.9120,2,  34.9120,2,    243.0,2,    241.8,2,    45.74,2,    22.35,3,     1.37,2,   -999.0,9,   7.7280,2,    25.00,   2.1802
  35TH20020610, OVIDE,    69,  1,      5,2,20020705,0033, 44.3770, -17.8170, 4998,   3997.7,   2.5660,  34.9170,2,  34.9150,2,    243.2,2,    242.3,2,    44.87,2,    22.68,2,     1.41,3,   -999.0,9,   7.7300,2,    25.00,   2.2160
  35TH20020610, OVIDE,    69,  1,      6,2,20020705,0033, 44.3770, -17.8170, 4998,   3746.5,   2.5820,  34.9200,2,  34.9200,2,    245.1,2,    243.7,2,    43.24,2,    21.40,3,     1.33,2,   -999.0,9,   7.7310,2,    25.00,   2.2602
  35TH20020610, OVIDE,    69,  1,      7,2,20020705,0033, 44.3770, -17.8170, 4998,   3497.2,   2.6270,  34.9280,2,  34.9270,2,    247.0,2,    246.3,2,    40.63,2,    21.07,2,     1.35,2,   -999.0,9,   7.7330,2,    25.00,   2.3316
  35TH20020610, OVIDE,    69,  1,      8,2,20020705,0033, 44.3770, -17.8170, 4998,   3246.2,   2.7370,  34.9370,2,  34.9420,2,    252.3,2,    258.1,2,    35.40,2,    20.52,2,     1.26,2,   -999.0,9,   7.7340,2,    25.00,   2.4660
  35TH20020610, OVIDE,    69,  1,      9,2,20020705,0033, 44.3770, -17.8170, 4998,   2995.6,   2.8870,  34.9490,2,  34.9510,2,    256.1,2,    252.9,2,    30.50,2,    19.74,2,     1.22,2,   -999.0,9,   7.7360,2,    25.00,   2.6390
  35TH20020610, OVIDE,    69,  1,     10,2,20020705,0033, 44.3770, -17.8170, 4998,   2746.9,   3.0680,  34.9550,2,  34.9550,2,    260.9,2,    259.9,2,    25.70,2,    19.13,2,     1.18,2,   -999.0,9,   7.7360,2,    25.00,   2.8419
  35TH20020610, OVIDE,    69,  1,     11,2,20020705,0033, 44.3770, -17.8170, 4998,   2446.1,   3.3320,  34.9580,2,  34.9590,2,    264.5,2,    264.2,2,    20.80,2,    18.80,2,     1.14,2,   -999.0,9,   7.7360,2,    25.00,   3.1313
  35TH20020610, OVIDE,    69,  1,     12,2,20020705,0033, 44.3770, -17.8170, 4998,   2145.3,   3.5060,  34.9400,2,  34.9410,2,    273.0,2,    271.1,2,    13.22,2,    18.35,2,     1.11,3,   -999.0,9,   7.7350,2,    25.00,   3.3320
  35TH20020610, OVIDE,    69,  1,     13,2,20020705,0033, 44.3770, -17.8170, 4998,   1998.1,   3.8180,  34.9720,2,  34.9730,2,    265.7,2,    266.0,2,    12.52,2,    18.35,2,     1.07,2,   -999.0,9,   7.7340,2,    25.00,   3.6533
  35TH20020610, OVIDE,    69,  1,     14,2,20020705,0033, 44.3770, -17.8170, 4998,   1796.0,   4.3940,  35.0450,2,  35.0440,2,    258.1,2,    257.1,2,    11.81,2,    18.41,2,     1.03,2,   -999.0,9,   7.7330,2,    25.00,   4.2407
  35TH20020610, OVIDE,    69,  1,     15,2,20020705,0033, 44.3770, -17.8170, 4998,   1594.9,   5.6230,  35.2280,2,  35.2240,2,    240.4,2,    238.1,2,    11.37,2,    18.40,2,     1.03,2,   -999.0,9,   7.7390,2,    25.00,   5.4742
  35TH20020610, OVIDE,    69,  1,     16,2,20020705,0033, 44.3770, -17.8170, 4998,   1346.5,   7.9010,  35.5830,2,  35.5850,2,    209.9,2,    209.0,2,    10.56,2,    18.18,2,     1.01,2,   -999.0,9,   7.7600,2,    25.00,   7.7546
  35TH20020610, OVIDE,    69,  1,     17,2,20020705,0033, 44.3770, -17.8170, 4998,   1094.4,  10.3780,  35.9620,2,  35.9610,2,    184.3,2,    185.0,2,     9.01,2,    16.84,2,     0.94,2,   -999.0,9,   7.7910,2,    25.00,  10.2409
  35TH20020610, OVIDE,    69,  1,     18,2,20020705,0033, 44.3770, -17.8170, 4998,    995.2,  10.4350,  35.9070,2,  35.9080,2,    185.4,2,    185.1,2,     8.81,2,    16.73,2,     0.97,3,   -999.0,9,   7.7870,2,    25.00,  10.3105
  35TH20020610, OVIDE,    69,  1,     19,2,20020705,0033, 44.3770, -17.8170, 4998,    916.5,  10.9090,  35.9180,2,  35.9230,2,    182.8,2,    183.1,2,     8.14,2,    16.34,2,     0.90,2,   -999.0,9,   7.7930,2,    25.00,  10.7917
  35TH20020610, OVIDE,    69,  1,     20,2,20020705,0033, 44.3770, -17.8170, 4998,    796.0,  10.8810,  35.7550,2,  35.7550,2,    189.1,2,    187.0,2,     7.63,2,    16.62,2,     0.93,2,   -999.0,9,   7.7870,2,    25.00,  10.7800
  35TH20020610, OVIDE,    69,  1,     21,2,20020705,0033, 44.3770, -17.8170, 4998,    696.0,  10.7800,  35.6120,2,  35.6120,2,    195.7,2,    193.2,2,     7.00,2,    16.46,2,     0.90,2,   -999.0,9,   7.7830,2,    25.00,  10.6927
  35TH20020610, OVIDE,    69,  1,     22,2,20020705,0033, 44.3770, -17.8170, 4998,    596.5,  10.9620,  35.5360,2,  35.5380,2,    209.4,2,    205.8,2,     5.89,2,    15.02,2,     0.78,2,   -999.0,9,   7.7920,2,    25.00,  10.8868
  35TH20020610, OVIDE,    69,  1,     23,2,20020705,0033, 44.3770, -17.8170, 4998,    495.8,  11.3930,  35.5610,2,  35.5740,3,    220.5,2,    220.1,2,     4.61,2,    12.75,2,     0.70,2,   -999.0,9,   7.8190,2,    25.00,  11.3293
  35TH20020610, OVIDE,    69,  1,     24,2,20020705,0033, 44.3770, -17.8170, 4998,    396.7,  11.7430,  35.5860,2,  35.5850,2,    233.5,2,    229.3,2,     3.87,2,    10.92,2,     0.62,2,   -999.0,9,   7.8390,2,    25.00,  11.6912
  35TH20020610, OVIDE,    69,  1,     25,2,20020705,0033, 44.3770, -17.8170, 4998,    297.3,  12.2920,  35.6540,2,  35.6530,2,    240.8,2,    238.8,2,     3.16,2,     8.70,2,     0.52,2,   -999.0,9,   7.8690,2,    25.00,  12.2522
  35TH20020610, OVIDE,    69,  1,     26,2,20020705,0033, 44.3770, -17.8170, 4998,    196.3,  12.9830,  35.7430,2,  35.7410,2,    237.8,2,    241.6,2,     2.49,2,     6.48,2,     0.39,2,   -999.0,9,   7.8910,2,    25.00,  12.9558
  35TH20020610, OVIDE,    69,  1,     27,2,20020705,0033, 44.3770, -17.8170, 4998,    146.2,  13.2510,  35.7770,2,  35.7770,2,    240.8,2,    241.9,2,     1.95,2,     5.40,2,     0.31,2,   -999.0,9,   7.9030,2,    25.00,  13.2305
  35TH20020610, OVIDE,    69,  1,     28,2,20020705,0033, 44.3770, -17.8170, 4998,     96.1,  13.8640,  35.9000,2,  35.9020,2,    239.7,2,    240.3,2,     2.08,3,     5.40,3,     0.31,3,   -999.0,9,   7.9110,2,    25.00,  13.8501
  35TH20020610, OVIDE,    69,  1,     29,2,20020705,0033, 44.3770, -17.8170, 4998,     47.4,  14.1330,  35.7910,2,  35.7950,2,    252.0,2,    243.8,3,     1.41,2,     2.75,2,     0.17,2,   -999.0,9,   7.9240,2,    25.00,  14.1261
  35TH20020610, OVIDE,    69,  1,     30,2,20020705,0033, 44.3770, -17.8170, 4998,      4.9,  16.4090,  35.8200,2,  35.8210,2,    242.1,2,    249.8,3,     1.18,2,     0.00,2,     0.08,2,   -999.0,9,   7.9660,2,    25.00,  16.4082