BOTTLE,20140820PRINUNIVRMK
EXPOCODE,SECT_ID,STNNBR,CASTNO,BTLNBR,BTLNBR_FLAG_W,DATE,TIME,LATITUDE,LONGITUDE,DEPTH,CTDPRS,CTDTMP,CTDSAL,CTDSAL_FLAG_W,SALNTY,SALNTY_FLAG_W,CTDOXY,CTDOXY_FLAG_W,OXYGEN,OXYGEN_FLAG_W,SILCAT,SILCAT_FLAG_W,NITRAT,NITRAT_FLAG_W,PHSPHT,PHSPHT_FLAG_W,ALKALI,ALKALI_FLAG_W,PH_SWS,PH_SWS_FLAG_W,PH_TMP,THETA
,,,,,,,,,,METERS,DBAR,ITS-90,PSS-78,,PSS-78,,UMOL/KG,,UMOL/KG,,UMOL/KG,,UMOL/KG,,UMOL/KG,,UMOL/KG,,,,DEG C,DEG C
  35TH20020610, OVIDE,    55,  1,      3,2,20020629,1753, 49.5320, -22.0200, 4300,   4290.2,   2.5700,  34.9160,2,  34.9140,2,    241.6,2,    240.8,2,    45.27,2,    22.70,2,     1.39,2,   -999.0,9,   7.7260,2,    25.00,   2.1856
  35TH20020610, OVIDE,    55,  1,      4,2,20020629,1753, 49.5320, -22.0200, 4300,   3997.5,   2.5800,  34.9190,2,  34.9170,2,    242.6,2,    242.5,2,    43.15,2,    22.50,2,     1.36,2,   -999.0,9,   7.7250,2,    25.00,   2.2297
  35TH20020610, OVIDE,    55,  1,      5,2,20020629,1753, 49.5320, -22.0200, 4300,   3797.0,   2.5820,  34.9210,2,  34.9230,2,    244.8,2,    243.5,2,    41.62,2,    21.88,2,     1.34,2,   -999.0,9,   7.7250,2,    25.00,   2.2545
  35TH20020610, OVIDE,    55,  1,      6,2,20020629,1753, 49.5320, -22.0200, 4300,   3596.1,   2.6150,  34.9280,2,  34.9240,2,    246.9,2,    246.8,2,    39.51,2,    21.37,2,     1.31,2,   -999.0,9,   7.7270,2,    25.00,   2.3090
  35TH20020610, OVIDE,    55,  1,      7,2,20020629,1753, 49.5320, -22.0200, 4300,   3395.9,   2.6860,  34.9340,2,  34.9330,2,    252.7,2,    252.0,2,    34.68,2,    20.54,2,     1.26,2,   -999.0,9,   7.7280,2,    25.00,   2.4001
  35TH20020610, OVIDE,    55,  1,      8,2,20020629,1753, 49.5320, -22.0200, 4300,   3195.9,   2.7820,  34.9370,2,  34.9410,2,    257.0,2,    257.2,2,    28.92,3,    19.83,3,     1.20,2,   -999.0,9,   7.7290,2,    25.00,   2.5153
  35TH20020610, OVIDE,    55,  1,      9,2,20020629,1753, 49.5320, -22.0200, 4300,   2996.2,   2.8650,  34.9470,2,  34.9460,2,    260.8,2,    260.4,2,    25.51,2,    19.21,2,     1.16,2,   -999.0,9,   7.7280,2,    25.00,   2.6175
  35TH20020610, OVIDE,    55,  1,     10,2,20020629,1753, 49.5320, -22.0200, 4300,   2795.4,   3.0000,  34.9470,2,  34.9460,2,    265.8,2,    265.7,2,    20.81,2,    18.59,2,     1.11,2,   -999.0,9,   7.7290,2,    25.00,   2.7704
  35TH20020610, OVIDE,    55,  1,     11,2,20020629,1753, 49.5320, -22.0200, 4300,   2595.8,   3.0870,  34.9390,2,  34.9390,2,    270.0,2,    267.5,2,    16.81,2,    17.98,2,     1.08,2,   -999.0,9,-999.0000,9,  -999.00,   2.8759
  35TH20020610, OVIDE,    55,  1,     12,2,20020629,1753, 49.5320, -22.0200, 4300,   2394.9,   3.1700,  34.9230,2,  34.9220,2,    274.8,2,    275.5,2,    13.38,2,    17.87,2,     1.05,2,   -999.0,9,   7.7300,2,    25.00,   2.9774
  35TH20020610, OVIDE,    55,  1,     13,2,20020629,1753, 49.5320, -22.0200, 4300,   1995.7,   3.2660,  34.8920,2,  34.8910,2,    282.1,2,    282.3,2,    11.28,2,    17.67,2,     1.06,2,   -999.0,9,   7.7280,2,    25.00,   3.1100
  35TH20020610, OVIDE,    55,  1,     14,2,20020629,1753, 49.5320, -22.0200, 4300,   1795.5,   3.4090,  34.8970,2,  34.9030,2,    279.0,2,    278.4,2,    11.09,2,    18.08,2,     1.07,2,   -999.0,9,   7.7250,2,    25.00,   3.2694
  35TH20020610, OVIDE,    55,  1,     15,2,20020629,1753, 49.5320, -22.0200, 4300,   1595.1,   3.6130,  34.9100,2,  34.9100,2,    274.1,2,    276.9,2,    11.03,2,    18.39,2,     1.07,2,   -999.0,9,   7.7230,2,    25.00,   3.4888
  35TH20020610, OVIDE,    55,  1,     16,2,20020629,1753, 49.5320, -22.0200, 4300,   1395.3,   3.9060,  34.9310,2,  34.9300,2,    266.3,2,    267.6,2,    10.90,2,    18.28,2,     1.06,2,   -999.0,9,   7.7160,2,    25.00,   3.7963
  35TH20020610, OVIDE,    55,  1,     17,2,20020629,1753, 49.5320, -22.0200, 4300,   1195.6,   4.5540,  34.9910,2,  34.9910,2,    252.7,2,    255.0,2,    11.15,2,    18.95,2,     1.10,2,   -999.0,9,   7.7140,2,    25.00,   4.4558
  35TH20020610, OVIDE,    55,  1,     18,2,20020629,1753, 49.5320, -22.0200, 4300,    996.1,   5.7540,  35.1150,2,  35.1110,2,    232.6,2,    233.5,2,    11.09,2,    19.21,2,     1.14,2,   -999.0,9,   7.7170,2,    25.00,   5.6644
  35TH20020610, OVIDE,    55,  1,     19,2,20020629,1753, 49.5320, -22.0200, 4300,    896.9,   6.7640,  35.2440,2,  35.2470,2,    214.1,2,    215.7,2,    11.09,2,    19.36,2,     1.12,2,   -999.0,9,   7.7250,2,    25.00,   6.6770
  35TH20020610, OVIDE,    55,  1,     20,2,20020629,1753, 49.5320, -22.0200, 4300,    795.1,   7.6780,  35.3170,2,  35.3090,3,    201.7,2,    203.8,2,    10.84,3,    19.26,3,     1.12,3,   -999.0,9,   7.7280,2,    25.00,   7.5959
  35TH20020610, OVIDE,    55,  1,     21,2,20020629,1753, 49.5320, -22.0200, 4300,    647.0,   8.3950,  35.2260,2,  35.2220,2,    192.6,2,    194.7,2,    10.38,2,    19.62,2,     1.13,2,   -999.0,9,   7.7240,2,    25.00,   8.3255
  35TH20020610, OVIDE,    55,  1,     22,2,20020629,1753, 49.5320, -22.0200, 4300,    596.1,   8.8390,  35.2270,2,  35.2310,2,    194.3,2,    193.6,2,     9.79,2,    19.20,2,     1.11,2,   -999.0,9,   7.7320,2,    25.00,   8.7732
  35TH20020610, OVIDE,    55,  1,     23,2,20020629,1753, 49.5320, -22.0200, 4300,    496.1,   9.8240,  35.3250,2,  35.3220,2,    250.2,2,    232.7,3,     6.69,2,    14.84,2,     0.86,2,   -999.0,9,   7.7940,2,    25.00,   9.7659
  35TH20020610, OVIDE,    55,  1,     24,2,20020629,1753, 49.5320, -22.0200, 4300,    395.6,  10.1050,  35.3270,2,  35.3280,2,    244.0,2,    245.8,2,     5.79,2,    13.40,2,     0.76,2,   -999.0,9,   7.8150,2,    25.00,  10.0581
  35TH20020610, OVIDE,    55,  1,     25,2,20020629,1753, 49.5320, -22.0200, 4300,    296.4,  10.6440,  35.4080,2,  35.4060,2,    251.7,2,    252.5,2,     4.99,2,    11.91,2,     0.66,2,   -999.0,9,   7.8370,2,    25.00,  10.6079
  35TH20020610, OVIDE,    55,  1,     26,2,20020629,1753, 49.5320, -22.0200, 4300,    196.5,  11.4070,  35.5130,2,  35.5010,3,    251.9,2,    250.1,2,     3.59,2,    10.52,2,     0.59,2,   -999.0,9,   7.8580,2,    25.00,  11.3821
  35TH20020610, OVIDE,    55,  1,     27,2,20020629,1753, 49.5320, -22.0200, 4300,    145.8,  11.6560,  35.5270,2,  35.5290,2,    258.9,2,    259.2,2,     1.61,2,     7.97,2,     0.49,2,   -999.0,9,   7.8860,2,    25.00,  11.6373
  35TH20020610, OVIDE,    55,  1,     28,2,20020629,1753, 49.5320, -22.0200, 4300,     96.1,  11.8330,  35.5510,2,  35.5460,2,    257.4,2,   -999.0,9,     1.46,2,     7.18,2,     0.46,2,   -999.0,9,   7.8960,2,    25.00,  11.8206
  35TH20020610, OVIDE,    55,  1,     29,2,20020629,1753, 49.5320, -22.0200, 4300,     46.0,  12.6050,  35.6090,2,  35.5970,3,    270.2,2,    271.5,2,     0.90,2,     5.98,2,     0.36,2,   -999.0,9,   7.9230,2,    25.00,  12.5988
  35TH20020610, OVIDE,    55,  1,     30,2,20020629,1753, 49.5320, -22.0200, 4300,      4.8,  13.8920,  35.6380,2,  35.6270,3,    264.2,2,    274.3,3,     1.15,2,     4.98,2,     0.27,2,   -999.0,9,   7.9380,2,    25.00,  13.8913
  35TH20020610, OVIDE,    56,  1,      3,2,20020629,2320, 49.1580, -21.7270, 4412,   4402.2,   2.5710,  34.9130,2,  34.9120,2,    239.7,2,    241.7,2,    46.34,2,    22.96,2,     1.38,2,   2353.5,2,   7.7260,2,    25.00,   2.1732
  35TH20020610, OVIDE,    56,  1,      4,2,20020629,2320, 49.1580, -21.7270, 4412,   4197.2,   2.5740,  34.9160,2,  34.9150,2,    241.7,2,    241.9,2,    44.94,2,    22.70,2,     1.38,2,   2351.8,2,   7.7270,2,    25.00,   2.2005
  35TH20020610, OVIDE,    56,  1,      5,2,20020629,2320, 49.1580, -21.7270, 4412,   3996.9,   2.6080,  34.9220,2,  34.9210,2,    244.0,2,    244.4,2,    42.61,2,    22.19,2,     1.36,2,   -999.0,9,-999.0000,9,  -999.00,   2.2569
  35TH20020610, OVIDE,    56,  1,      6,2,20020629,2320, 49.1580, -21.7270, 4412,   3746.3,   2.6450,  34.9280,2,  34.9270,2,    246.8,2,    246.2,2,    39.81,2,    21.78,2,     1.28,3,   2343.1,2,   7.7290,2,    25.00,   2.3215
  35TH20020610, OVIDE,    56,  1,      7,2,20020629,2320, 49.1580, -21.7270, 4412,   3496.9,   2.7010,  34.9360,2,  34.9330,2,    250.5,2,    251.1,2,    36.54,2,    20.80,2,     1.27,2,   2338.1,2,   7.7260,2,    25.00,   2.4038
  35TH20020610, OVIDE,    56,  1,      8,2,20020629,2320, 49.1580, -21.7270, 4412,   3246.8,   2.7940,  34.9430,2,  34.9430,2,    258.2,2,    260.2,2,    29.53,2,    19.98,2,     1.19,2,   2327.6,2,   7.7300,2,    25.00,   2.5216
  35TH20020610, OVIDE,    56,  1,      9,2,20020629,2320, 49.1580, -21.7270, 4412,   2997.1,   2.9000,  34.9470,2,  34.9490,2,    260.5,2,    262.1,2,    25.80,2,    19.31,2,     1.14,2,   2323.0,2,   7.7280,2,    25.00,   2.6516
  35TH20020610, OVIDE,    56,  1,     10,2,20020629,2320, 49.1580, -21.7270, 4412,   2746.3,   3.0310,  34.9470,2,  34.9450,2,    265.8,2,    268.1,2,    21.36,2,    18.70,2,     1.10,2,   2316.1,2,   7.7290,2,    25.00,   2.8058
  35TH20020610, OVIDE,    56,  1,     11,2,20020629,2320, 49.1580, -21.7270, 4412,   2495.7,   3.1640,  34.9350,2,  34.9340,2,    272.3,2,    274.9,2,    17.51,3,    18.13,2,     1.08,2,   2311.3,2,   7.7320,2,    25.00,   2.9615
  35TH20020610, OVIDE,    56,  1,     12,2,20020629,2320, 49.1580, -21.7270, 4412,   2244.6,   3.2000,  34.9060,2,  34.9080,2,    279.0,2,   -999.0,9,    12.02,2,    17.87,2,     1.04,2,   2302.5,2,   7.7280,2,    25.00,   3.0215
  35TH20020610, OVIDE,    56,  1,     13,2,20020629,2320, 49.1580, -21.7270, 4412,   1996.0,   3.2490,  34.8930,2,  34.8950,2,    282.4,2,    284.3,2,    11.28,2,    17.88,2,     1.04,2,   2301.4,2,   7.7270,2,    25.00,   3.0932
  35TH20020610, OVIDE,    56,  1,     14,2,20020629,2320, 49.1580, -21.7270, 4412,   1795.7,   3.3970,  34.8970,2,  34.9090,3,    279.9,2,    279.2,2,    10.97,2,    18.03,2,     1.06,2,   2301.0,2,   7.7280,2,    25.00,   3.2575
  35TH20020610, OVIDE,    56,  1,     15,2,20020629,2320, 49.1580, -21.7270, 4412,   1595.7,   3.5970,  34.9070,2,  34.9070,2,    276.0,2,    289.5,3,    10.94,2,    18.03,2,     1.04,2,   2301.2,2,   7.7290,2,    25.00,   3.4730
  35TH20020610, OVIDE,    56,  1,     16,2,20020629,2320, 49.1580, -21.7270, 4412,   1395.6,   3.9690,  34.9440,2,  34.9440,2,    265.8,2,    265.9,2,    11.09,2,    18.03,2,     1.06,2,   2304.2,2,   7.7200,2,    25.00,   3.8586
  35TH20020610, OVIDE,    56,  1,     17,2,20020629,2320, 49.1580, -21.7270, 4412,   1196.0,   4.7030,  35.0310,2,  35.0290,2,    249.6,2,    250.9,2,    11.18,2,    19.21,2,     1.11,2,   2310.1,2,   7.7180,2,    25.00,   4.6033
  35TH20020610, OVIDE,    56,  1,     18,2,20020629,2320, 49.1580, -21.7270, 4412,    996.2,   5.8850,  35.1690,2,  35.1690,2,    228.5,2,    229.8,2,    11.28,2,    18.90,2,     1.11,2,   2320.8,2,   7.7240,2,    25.00,   5.7943
  35TH20020610, OVIDE,    56,  1,     19,2,20020629,2320, 49.1580, -21.7270, 4412,    896.1,   6.2760,  35.1800,2,  35.1770,2,    221.9,2,    223.7,2,    11.12,2,    19.46,2,     1.12,2,   2319.8,2,   7.7200,2,    25.00,   6.1924
  35TH20020610, OVIDE,    56,  1,     20,2,20020629,2320, 49.1580, -21.7270, 4412,    795.7,   7.3390,  35.3070,2,-999.0000,9,    205.6,2,    210.6,2,  -999.00,9,  -999.00,9,  -999.00,9,   2326.6,2,   7.7220,2,    25.00,   7.2589
  35TH20020610, OVIDE,    56,  1,     21,2,20020629,2320, 49.1580, -21.7270, 4412,    696.6,   7.1090,  35.1230,2,  35.1260,2,    202.4,2,   -999.0,9,    11.21,3,    20.18,3,     1.16,2,   2314.7,2,   7.7200,2,    25.00,   7.0407
  35TH20020610, OVIDE,    56,  1,     22,2,20020629,2320, 49.1580, -21.7270, 4412,    596.1,   8.4880,  35.2250,2,  35.2180,2,    189.9,2,    193.1,2,    10.50,2,    19.98,2,     1.14,2,   2320.8,2,   7.7210,2,    25.00,   8.4238
  35TH20020610, OVIDE,    56,  1,     23,2,20020629,2320, 49.1580, -21.7270, 4412,    497.0,   9.2520,  35.2430,2,  35.2410,2,    194.0,2,    193.2,2,     9.48,2,    19.10,2,     1.06,2,   2319.5,2,   7.7410,2,    25.00,   9.1960
  35TH20020610, OVIDE,    56,  1,     24,2,20020629,2320, 49.1580, -21.7270, 4412,    397.1,  10.1830,  35.3280,2,  35.3230,2,    227.0,2,    226.7,2,     6.72,2,    15.10,2,     0.85,2,   2322.5,2,   7.7970,2,    25.00,  10.1357
  35TH20020610, OVIDE,    56,  1,     25,2,20020629,2320, 49.1580, -21.7270, 4412,    297.4,  11.1130,  35.4720,2,  35.4660,2,    239.1,2,   -999.0,9,     5.39,2,    12.68,2,     0.70,2,   2329.8,2,   7.8320,2,    25.00,  11.0757
  35TH20020610, OVIDE,    56,  1,     26,2,20020629,2320, 49.1580, -21.7270, 4412,    197.7,  11.8920,  35.6040,2,  35.6050,2,    244.4,2,    249.5,2,     4.15,2,    10.58,2,     0.58,2,   2337.1,2,   7.8650,2,    25.00,  11.8662
  35TH20020610, OVIDE,    56,  1,     27,2,20020629,2320, 49.1580, -21.7270, 4412,    147.5,  12.1500,  35.6380,2,  35.6410,2,    249.5,2,    245.7,2,     3.53,2,    10.06,2,     0.56,2,   2340.0,2,   7.8730,2,    25.00,  12.1305
  35TH20020610, OVIDE,    56,  1,     28,2,20020629,2320, 49.1580, -21.7270, 4412,     97.1,  12.4180,  35.6670,2,  35.6650,2,    252.1,2,    248.5,3,     2.60,2,     9.12,2,     0.50,2,   2341.5,2,   7.8840,2,    25.00,  12.4050
  35TH20020610, OVIDE,    56,  1,     29,2,20020629,2320, 49.1580, -21.7270, 4412,     47.3,  12.9550,  35.6650,2,  35.6680,2,    258.7,2,    258.1,3,     1.98,2,     6.66,2,     0.42,2,   2343.2,2,   7.9110,2,    25.00,  12.9485
  35TH20020610, OVIDE,    56,  1,     30,2,20020629,2320, 49.1580, -21.7270, 4412,      3.4,  14.6190,  35.6870,2,  35.6550,3,    270.6,2,    276.2,3,     1.39,2,     3.03,2,     0.21,2,   2345.3,2,   7.9630,2,    25.00,  14.6185
  35TH20020610, OVIDE,    57,  1,      3,2,20020629,0507, 48.7860, -21.4330, 4153,   4143.3,   2.5560,  34.9150,2,  34.9110,2,    241.2,2,    242.4,2,    45.88,2,    22.14,2,     1.36,2,   -999.0,9,   7.7290,2,    25.00,   2.1894
  35TH20020610, OVIDE,    57,  1,      4,2,20020629,0507, 48.7860, -21.4330, 4153,   3997.5,   2.5540,  34.9160,2,  34.9150,2,    241.9,2,    243.7,2,    44.36,2,    22.34,2,     1.35,2,   -999.0,9,   7.7320,2,    25.00,   2.2044
  35TH20020610, OVIDE,    57,  1,      5,2,20020629,0507, 48.7860, -21.4330, 4153,   3796.4,   2.5890,  34.9230,2,  34.9190,2,    243.1,2,    247.3,2,    42.84,2,    21.98,2,     1.33,2,   -999.0,9,   7.7310,2,    25.00,   2.2614
  35TH20020610, OVIDE,    57,  1,      6,2,20020629,0507, 48.7860, -21.4330, 4153,   3596.8,   2.6270,  34.9270,2,  34.9240,2,    245.7,2,   -999.0,9,    40.39,2,    21.52,2,     1.29,2,   -999.0,9,   7.7330,2,    25.00,   2.3207
  35TH20020610, OVIDE,    57,  1,      7,2,20020629,0507, 48.7860, -21.4330, 4153,   3396.6,   2.7070,  34.9360,2,  34.9360,2,    249.4,2,    257.9,3,    36.77,3,    20.70,3,     1.27,3,   -999.0,9,   7.7340,2,    25.00,   2.4205
  35TH20020610, OVIDE,    57,  1,      8,2,20020629,0507, 48.7860, -21.4330, 4153,   3195.6,   2.7980,  34.9440,2,  34.9450,2,    252.7,2,    254.1,2,    32.80,3,    20.44,3,     1.22,3,   -999.0,9,   7.7340,2,    25.00,   2.5310
  35TH20020610, OVIDE,    57,  1,      9,2,20020629,0507, 48.7860, -21.4330, 4153,   2995.8,   2.8980,  34.9500,2,  34.9520,2,    255.7,2,    256.0,2,    28.83,3,    19.62,3,     1.17,3,   -999.0,9,   7.7340,2,    25.00,   2.6498
  35TH20020610, OVIDE,    57,  1,     10,2,20020629,0507, 48.7860, -21.4330, 4153,   2796.8,   3.0400,  34.9540,2,  34.9520,2,    258.6,2,    259.4,2,    24.86,3,    19.31,3,     1.13,3,   -999.0,9,   7.7340,2,    25.00,   2.8094
  35TH20020610, OVIDE,    57,  1,     11,2,20020629,0507, 48.7860, -21.4330, 4153,   2396.0,   3.2480,  34.9270,2,  34.9290,2,    274.2,2,   -999.0,9,    13.53,2,    17.87,2,     1.04,2,   -999.0,9,   7.7340,2,    25.00,   3.0538
  35TH20020610, OVIDE,    57,  1,     12,2,20020629,0507, 48.7860, -21.4330, 4153,   2195.7,   3.2650,  34.9040,2,  34.9030,2,    280.2,2,    282.1,2,    11.89,2,    17.67,2,     1.00,2,   -999.0,9,   7.7300,2,    25.00,   3.0901
  35TH20020610, OVIDE,    57,  1,     13,2,20020629,0507, 48.7860, -21.4330, 4153,   1995.5,   3.3560,  34.8980,2,  34.8960,2,    280.3,2,    279.6,2,    11.27,2,    17.88,2,     1.02,2,   -999.0,9,   7.7270,2,    25.00,   3.1987
  35TH20020610, OVIDE,    57,  1,     14,2,20020629,0507, 48.7860, -21.4330, 4153,   1795.2,   3.5140,  34.9040,2,  34.9350,3,    277.3,2,    272.8,2,    10.87,2,    17.98,2,     1.06,2,   -999.0,9,-999.0000,9,  -999.00,   3.3730
  35TH20020610, OVIDE,    57,  1,     15,2,20020629,0507, 48.7860, -21.4330, 4153,   1595.1,   3.7630,  34.9240,2,  34.9270,2,    270.1,2,    269.5,2,    11.02,2,    18.23,2,     1.06,2,   -999.0,9,   7.7240,2,    25.00,   3.6370
  35TH20020610, OVIDE,    57,  1,     16,2,20020629,0507, 48.7860, -21.4330, 4153,   1395.6,   4.2820,  34.9730,2,  34.9730,2,    259.1,2,    257.8,2,    10.90,2,    18.34,2,     1.06,2,   -999.0,9,   7.7190,2,    25.00,   4.1682
  35TH20020610, OVIDE,    57,  1,     17,2,20020629,0507, 48.7860, -21.4330, 4153,   1195.8,   5.3460,  35.0950,2,  35.0940,2,    239.6,2,    237.2,2,    11.12,2,    18.90,2,     1.10,2,   -999.0,9,   7.7190,2,    25.00,   5.2404
  35TH20020610, OVIDE,    57,  1,     18,2,20020629,0507, 48.7860, -21.4330, 4153,    995.4,   7.3340,  35.3390,2,  35.3360,2,    210.0,2,    209.2,2,    10.74,2,    18.90,2,     1.09,2,   -999.0,9,   7.7320,2,    25.00,   7.2325
  35TH20020610, OVIDE,    57,  1,     19,2,20020629,0507, 48.7860, -21.4330, 4153,    896.0,   8.1570,  35.4180,2,  35.4200,2,    198.7,2,    199.2,2,    10.40,3,    19.00,3,     1.08,3,   -999.0,9,   7.7370,2,    25.00,   8.0607
  35TH20020610, OVIDE,    57,  1,     20,2,20020629,0507, 48.7860, -21.4330, 4153,    795.4,   8.1070,  35.2710,2,  35.2650,2,    193.6,2,    196.4,2,    10.56,2,    19.51,2,     1.11,3,   -999.0,9,   7.7300,2,    25.00,   8.0225
  35TH20020610, OVIDE,    57,  1,     21,2,20020629,0507, 48.7860, -21.4330, 4153,    696.7,   9.2850,  35.3570,2,  35.3560,2,    193.0,2,    189.6,2,     9.32,2,    18.84,2,     1.08,2,   -999.0,9,   7.7410,2,    25.00,   9.2053
  35TH20020610, OVIDE,    57,  1,     22,2,20020629,0507, 48.7860, -21.4330, 4153,    597.2,  10.1680,  35.3880,2,  35.3870,2,    216.0,2,    210.5,2,     6.98,2,    15.92,2,     0.89,2,   -999.0,9,   7.7790,2,    25.00,  10.0962
  35TH20020610, OVIDE,    57,  1,     23,2,20020629,0507, 48.7860, -21.4330, 4153,    496.3,  10.8090,  35.4380,2,  35.4320,2,    231.3,2,    227.7,2,     5.50,2,    13.66,2,     0.75,2,   -999.0,9,   7.8140,2,    25.00,  10.7473
  35TH20020610, OVIDE,    57,  1,     24,2,20020629,0507, 48.7860, -21.4330, 4153,    396.5,  11.6060,  35.5600,2,  35.5600,2,    244.2,2,    239.9,2,     4.38,2,    11.29,2,     0.74,2,   -999.0,9,   7.8490,2,    25.00,  11.5546
  35TH20020610, OVIDE,    57,  1,     25,2,20020629,0507, 48.7860, -21.4330, 4153,    297.0,  12.0170,  35.6350,2,  35.6300,2,    246.3,2,    246.2,2,     3.83,2,     9.86,2,     0.63,2,   -999.0,9,   7.8680,2,    25.00,  11.9778
  35TH20020610, OVIDE,    57,  1,     26,2,20020629,0507, 48.7860, -21.4330, 4153,    196.7,  12.4130,  35.7000,2,  35.7000,2,    245.2,2,    246.5,2,     3.55,2,     9.39,2,     0.55,2,   -999.0,9,   7.8790,2,    25.00,  12.3866
  35TH20020610, OVIDE,    57,  1,     27,2,20020629,0507, 48.7860, -21.4330, 4153,    147.0,  12.6150,  35.7200,2,  35.7190,2,    248.8,2,    245.8,2,     3.21,2,     9.02,2,     0.51,2,   -999.0,9,   7.8830,2,    25.00,  12.5951
  35TH20020610, OVIDE,    57,  1,     28,2,20020629,0507, 48.7860, -21.4330, 4153,     96.5,  12.9800,  35.7620,2,  35.7560,2,    252.1,2,    248.6,2,     2.38,2,     7.86,2,     0.43,2,   -999.0,9,   7.8970,2,    25.00,  12.9667
  35TH20020610, OVIDE,    57,  1,     29,2,20020629,0507, 48.7860, -21.4330, 4153,     48.0,  13.5890,  35.7540,2,  35.7550,2,    258.2,2,    256.8,2,     1.11,2,     4.76,2,     0.34,2,   -999.0,9,   7.9280,2,    25.00,  13.5822
  35TH20020610, OVIDE,    57,  1,     30,2,20020629,0507, 48.7860, -21.4330, 4153,      4.4,  14.7400,  35.7090,2,  35.7110,2,    270.0,2,    284.8,3,     0.65,2,     0.34,2,     0.09,2,   -999.0,9,   7.9940,2,    25.00,  14.7393