BOTTLE,20140820PRINUNIVRMK
EXPOCODE,SECT_ID,STNNBR,CASTNO,BTLNBR,BTLNBR_FLAG_W,DATE,TIME,LATITUDE,LONGITUDE,DEPTH,CTDPRS,CTDTMP,CTDSAL,CTDSAL_FLAG_W,SALNTY,SALNTY_FLAG_W,CTDOXY,CTDOXY_FLAG_W,OXYGEN,OXYGEN_FLAG_W,SILCAT,SILCAT_FLAG_W,NITRAT,NITRAT_FLAG_W,PHSPHT,PHSPHT_FLAG_W,ALKALI,ALKALI_FLAG_W,PH_SWS,PH_SWS_FLAG_W,PH_TMP,THETA
,,,,,,,,,,METERS,DBAR,ITS-90,PSS-78,,PSS-78,,UMOL/KG,,UMOL/KG,,UMOL/KG,,UMOL/KG,,UMOL/KG,,UMOL/KG,,,,DEG C,DEG C
  35TH20020610, OVIDE,    52,  1,      3,2,20020628,0147, 50.6420, -22.9010, 3777,   3767.2,   2.6720,  34.9220,2,  34.9280,2,    247.7,2,    248.1,2,    38.92,2,    22.46,2,     1.32,3,   2339.6,2,   7.7270,2,    25.00,   2.3454
  35TH20020610, OVIDE,    52,  1,      4,2,20020628,0147, 50.6420, -22.9010, 3777,   3698.5,   2.6830,  34.9290,2,  34.9340,2,    250.4,2,    250.2,2,    36.62,2,    21.72,2,     1.28,2,   -999.0,9,-999.0000,9,  -999.00,   2.3638
  35TH20020610, OVIDE,    52,  1,      5,2,20020628,0147, 50.6420, -22.9010, 3777,   3597.1,   2.7010,  34.9320,2,  34.9350,2,    252.1,2,    254.2,2,    35.65,2,    21.62,2,     1.28,2,   2336.1,2,   7.7290,2,    25.00,   2.3927
  35TH20020610, OVIDE,    52,  1,      6,2,20020628,0147, 50.6420, -22.9010, 3777,   3396.9,   2.7560,  34.9330,2,  34.9380,2,    255.9,2,    255.5,2,    31.78,2,    20.67,2,     1.21,3,   2330.6,2,   7.7290,2,    25.00,   2.4683
  35TH20020610, OVIDE,    52,  1,      7,2,20020628,0147, 50.6420, -22.9010, 3777,   3195.7,   2.8340,  34.9420,2,  34.9440,2,    260.2,2,    261.8,2,    27.31,2,    20.20,2,     1.18,2,   2323.5,2,   7.7300,2,    25.00,   2.5661
  35TH20020610, OVIDE,    52,  1,      8,2,20020628,0147, 50.6420, -22.9010, 3777,   2996.0,   2.9390,  34.9460,2,  34.9470,2,    265.6,2,    268.0,2,    22.48,2,    19.36,2,     1.13,3,   2317.2,2,   7.7310,2,    25.00,   2.6899
  35TH20020610, OVIDE,    52,  1,      9,2,20020628,0147, 50.6420, -22.9010, 3777,   2796.2,   3.0450,  34.9420,2,  34.9460,2,    267.3,2,    269.0,2,    19.94,2,    18.73,2,     1.13,2,   2313.1,2,   7.7310,2,    25.00,   2.8144
  35TH20020610, OVIDE,    52,  1,     10,2,20020628,0147, 50.6420, -22.9010, 3777,   2597.4,   3.1400,  34.9310,2,  34.9350,2,    272.3,2,    274.0,2,    14.72,2,    18.00,2,     1.06,2,   -999.0,9,-999.0000,9,  -999.00,   2.9278
  35TH20020610, OVIDE,    52,  1,     11,2,20020628,0147, 50.6420, -22.9010, 3777,   2396.1,   3.1940,  34.9160,2,  34.9180,2,    277.2,2,   -999.0,9,    12.89,2,    17.29,3,     1.05,2,   2302.5,2,   7.7300,2,    25.00,   3.0008
  35TH20020610, OVIDE,    52,  1,     12,2,20020628,0147, 50.6420, -22.9010, 3777,   2196.1,   3.2170,  34.8960,2,  34.8980,2,    281.7,2,    283.0,2,    11.75,2,    17.60,2,     1.03,2,   2301.5,2,   7.7280,2,    25.00,   3.0429
  35TH20020610, OVIDE,    52,  1,     13,2,20020628,0147, 50.6420, -22.9010, 3777,   1997.0,   3.2870,  34.8920,2,  34.8920,2,    282.0,2,    282.1,2,    11.37,2,    17.65,2,     1.03,2,   2300.4,2,   7.7270,2,    25.00,   3.1306
  35TH20020610, OVIDE,    52,  1,     14,2,20020628,0147, 50.6420, -22.9010, 3777,   1796.2,   3.4300,  34.8950,2,  34.9060,3,    279.1,2,    283.9,2,    10.99,2,    17.86,2,     1.05,2,   2300.3,2,   7.7240,2,    25.00,   3.2900
  35TH20020610, OVIDE,    52,  1,     15,2,20020628,0147, 50.6420, -22.9010, 3777,   1596.3,   3.6410,  34.9100,2,  34.9100,2,    274.8,2,    274.7,2,    11.05,2,    17.96,2,     1.03,2,   2301.0,2,   7.7240,2,    25.00,   3.5164
  35TH20020610, OVIDE,    52,  1,     16,2,20020628,0147, 50.6420, -22.9010, 3777,   1395.0,   3.9740,  34.9420,2,  34.9440,2,    265.5,2,    311.1,3,    11.08,2,    18.27,2,     1.05,2,   2302.7,2,   7.7180,2,    25.00,   3.8636
  35TH20020610, OVIDE,    52,  1,     17,2,20020628,0147, 50.6420, -22.9010, 3777,   1196.1,   4.4180,  34.9790,2,  34.9820,2,    255.4,2,    259.3,2,    10.99,2,    18.32,2,     1.08,2,   2306.3,2,   7.7160,2,    25.00,   4.3210
  35TH20020610, OVIDE,    52,  1,     18,2,20020628,0147, 50.6420, -22.9010, 3777,    996.3,   5.7360,  35.1310,2,  35.1380,3,    230.9,2,    234.3,2,    11.05,2,    18.89,2,     1.09,2,   2316.5,2,   7.7220,2,    25.00,   5.6465
  35TH20020610, OVIDE,    52,  1,     19,2,20020628,0147, 50.6420, -22.9010, 3777,    897.3,   6.5260,  35.2120,2,  35.2200,3,    215.4,2,    221.4,2,    11.02,3,    19.05,3,     1.10,3,   2322.4,2,   7.7220,2,    25.00,   6.4406
  35TH20020610, OVIDE,    52,  1,     20,2,20020628,0147, 50.6420, -22.9010, 3777,    796.4,   7.0210,  35.1940,2,  35.1970,2,    208.2,2,   -999.0,9,    11.08,3,    19.46,3,     1.12,3,   2321.2,2,   7.7200,2,    25.00,   6.9428
  35TH20020610, OVIDE,    52,  1,     21,2,20020628,0147, 50.6420, -22.9010, 3777,    696.1,   7.7950,  35.2080,2,  35.1440,3,    203.0,2,    200.4,2,    11.05,3,    19.93,3,     1.16,3,   2320.7,2,   7.7130,2,    25.00,   7.7231
  35TH20020610, OVIDE,    52,  1,     22,2,20020628,0147, 50.6420, -22.9010, 3777,    597.8,   8.3760,  35.1670,2,  35.1650,2,    190.4,2,    193.2,2,    10.48,2,    19.83,2,     1.14,2,   2318.0,2,   7.7190,2,    25.00,   8.3121
  35TH20020610, OVIDE,    52,  1,     23,2,20020628,0147, 50.6420, -22.9010, 3777,    497.3,   9.5450,  35.2550,2,  35.2560,2,    200.9,2,    205.4,2,     8.34,2,    17.44,2,     0.98,2,   2321.3,2,   7.7570,2,    25.00,   9.4879
  35TH20020610, OVIDE,    52,  1,     24,2,20020628,0147, 50.6420, -22.9010, 3777,    396.5,  10.5130,  35.3780,2,  35.3730,2,    219.0,2,    231.0,3,     5.97,2,    13.80,2,     0.76,2,   2326.5,2,   7.8100,2,    25.00,  10.4648
  35TH20020610, OVIDE,    52,  1,     25,2,20020628,0147, 50.6420, -22.9010, 3777,    298.1,  11.2130,  35.4920,2,  35.4880,2,    243.0,2,    236.2,3,     5.02,2,    12.14,2,     0.66,2,   2333.2,2,   7.8380,2,    25.00,  11.1754
  35TH20020610, OVIDE,    52,  1,     26,2,20020628,0147, 50.6420, -22.9010, 3777,    197.8,  11.8800,  35.6000,2,  35.6030,2,    253.4,2,    258.0,2,     2.37,2,     8.85,2,     0.49,2,   2338.5,2,   7.8780,2,    25.00,  11.8542
  35TH20020610, OVIDE,    52,  1,     27,2,20020628,0147, 50.6420, -22.9010, 3777,    147.0,  12.1550,  35.6480,2,  35.6470,2,    246.5,2,    251.6,2,     2.59,2,     8.96,2,     0.48,2,   2342.8,2,   7.8770,2,    25.00,  12.1356
  35TH20020610, OVIDE,    52,  1,     28,2,20020628,0147, 50.6420, -22.9010, 3777,     98.0,  12.4430,  35.6720,2,  35.6770,2,    248.8,2,    250.1,2,     2.30,2,     8.38,2,     0.44,2,   2345.5,2,   7.8840,2,    25.00,  12.4299
  35TH20020610, OVIDE,    52,  1,     29,2,20020628,0147, 50.6420, -22.9010, 3777,     46.7,  13.3110,  35.6820,2,  35.6810,2,    262.2,2,    262.8,2,     0.76,2,     4.56,2,     0.28,2,   2346.1,2,   7.9310,2,    25.00,  13.3045
  35TH20020610, OVIDE,    52,  1,     30,2,20020628,0147, 50.6420, -22.9010, 3777,      4.7,  13.9070,  35.6500,2,  35.6500,2,    262.9,2,    254.1,3,     0.69,2,     4.51,2,     0.24,2,   2345.8,2,   7.9390,2,    25.00,  13.9063
  35TH20020610, OVIDE,    53,  1,      3,2,20020628,0700, 50.2790, -22.6060, 4201,   4190.6,   2.6050,  34.9180,2,  34.9180,2,    243.2,2,    243.3,2,    44.58,3,    22.75,2,     1.37,2,   -999.0,9,   7.7240,2,    25.00,   2.2314
  35TH20020610, OVIDE,    53,  1,      4,2,20020628,0700, 50.2790, -22.6060, 4201,   3997.1,   2.6150,  34.9230,2,  34.9230,2,    244.9,2,    244.6,2,    42.05,2,    22.08,2,     1.37,2,   -999.0,9,   7.7280,2,    25.00,   2.2637
  35TH20020610, OVIDE,    53,  1,      5,2,20020628,0700, 50.2790, -22.6060, 4201,   3796.4,   2.6530,  34.9280,2,  34.9270,2,    248.7,2,    248.0,2,    39.64,2,    21.71,2,     1.31,2,   -999.0,9,   7.7290,2,    25.00,   2.3236
  35TH20020610, OVIDE,    53,  1,      6,2,20020628,0700, 50.2790, -22.6060, 4201,   3596.7,   2.7130,  34.9360,2,  34.9340,2,    253.5,2,    254.5,2,    34.94,2,    20.72,2,     1.25,2,   -999.0,9,   7.7290,2,    25.00,   2.4044
  35TH20020610, OVIDE,    53,  1,      7,2,20020628,0700, 50.2790, -22.6060, 4201,   3395.9,   2.7630,  34.9400,2,  34.9390,2,    256.4,2,    256.7,2,    31.32,2,    19.78,2,     1.20,2,   -999.0,9,   7.7280,2,    25.00,   2.4753
  35TH20020610, OVIDE,    53,  1,      8,2,20020628,0700, 50.2790, -22.6060, 4201,   3196.0,   2.8480,  34.9460,2,  34.9450,2,    260.6,2,    259.4,2,    27.47,2,    19.52,2,     1.17,2,   -999.0,9,   7.7300,2,    25.00,   2.5798
  35TH20020610, OVIDE,    53,  1,      9,2,20020628,0700, 50.2790, -22.6060, 4201,   2996.2,   2.9500,  34.9490,2,  34.9490,2,    265.8,2,    267.1,2,    22.53,2,    18.58,2,     1.14,2,   -999.0,9,   7.7290,2,    25.00,   2.7006
  35TH20020610, OVIDE,    53,  1,     10,2,20020628,0700, 50.2790, -22.6060, 4201,   2796.5,   3.0610,  34.9450,2,  34.9430,2,    267.3,2,    269.7,2,    19.40,2,    18.32,2,     1.12,2,   -999.0,9,   7.7300,2,    25.00,   2.8300
  35TH20020610, OVIDE,    53,  1,     11,2,20020628,0700, 50.2790, -22.6060, 4201,   2596.2,   3.1710,  34.9350,2,  34.9330,2,    271.4,2,    274.0,2,    16.14,2,    17.74,2,     1.08,3,   -999.0,9,   7.7310,2,    25.00,   2.9583
  35TH20020610, OVIDE,    53,  1,     12,2,20020628,0700, 50.2790, -22.6060, 4201,   2195.2,   3.2420,  34.8980,2,  34.8960,2,    280.6,2,    282.1,2,    11.80,2,    17.74,2,     1.05,2,   -999.0,9,   7.7260,2,    25.00,   3.0676
  35TH20020610, OVIDE,    53,  1,     13,2,20020628,0700, 50.2790, -22.6060, 4201,   1994.5,   3.3600,  34.8960,2,  34.8930,2,    281.7,2,    281.3,2,    11.36,2,    18.06,2,     1.08,2,   -999.0,9,   7.7240,2,    25.00,   3.2027
  35TH20020610, OVIDE,    53,  1,     14,2,20020628,0700, 50.2790, -22.6060, 4201,   1795.3,   3.5200,  34.9020,2,  34.9120,3,    277.1,2,    276.8,2,    11.17,2,    18.16,2,     1.05,2,   -999.0,9,   7.7230,2,    25.00,   3.3789
  35TH20020610, OVIDE,    53,  1,     15,2,20020628,0700, 50.2790, -22.6060, 4201,   1595.1,   3.7290,  34.9130,2,  34.9130,2,    273.2,2,    272.8,2,    10.98,2,    18.37,2,     1.05,2,   -999.0,9,   7.7200,2,    25.00,   3.6034
  35TH20020610, OVIDE,    53,  1,     16,2,20020628,0700, 50.2790, -22.6060, 4201,   1394.8,   3.9680,  34.9270,2,  34.9280,2,    267.7,2,    269.1,2,    10.76,2,    18.00,2,     1.06,2,   -999.0,9,   7.7150,2,    25.00,   3.8577
  35TH20020610, OVIDE,    53,  1,     17,2,20020628,0700, 50.2790, -22.6060, 4201,   1196.2,   4.8850,  35.0300,2,  35.0270,2,    247.4,2,    248.3,2,    11.14,2,    18.73,2,     1.12,2,   -999.0,9,   7.7170,2,    25.00,   4.7837
  35TH20020610, OVIDE,    53,  1,     18,2,20020628,0700, 50.2790, -22.6060, 4201,    995.5,   6.5720,  35.2440,2,  35.2480,2,    216.8,2,    220.2,2,    11.20,3,    19.10,3,     1.11,3,   -999.0,9,-999.0000,9,  -999.00,   6.4762
  35TH20020610, OVIDE,    53,  1,     19,2,20020628,0700, 50.2790, -22.6060, 4201,    895.1,   6.1780,  35.0800,2,  35.0830,2,    218.1,2,    221.5,2,    11.33,3,    19.83,3,     1.17,3,   -999.0,9,   7.7110,2,    25.00,   6.0953
  35TH20020610, OVIDE,    53,  1,     20,2,20020628,0700, 50.2790, -22.6060, 4201,    794.8,   7.5190,  35.1910,2,  35.1920,2,    202.4,2,    203.6,2,    11.11,3,    19.98,3,     1.19,3,   -999.0,9,   7.7170,2,    25.00,   7.4380
  35TH20020610, OVIDE,    53,  1,     21,2,20020628,0700, 50.2790, -22.6060, 4201,    675.6,   8.1350,  35.1290,2,  35.1330,2,    195.0,2,    194.4,2,    10.79,3,    20.14,3,     1.19,3,   -999.0,9,   7.7150,2,    25.00,   8.0637
  35TH20020610, OVIDE,    53,  1,     22,2,20020628,0700, 50.2790, -22.6060, 4201,    594.9,   9.1910,  35.2230,2,  35.2160,3,    221.1,2,    211.6,3,     8.66,2,    17.58,2,     1.00,2,   -999.0,9,   7.7550,2,    25.00,   9.1239
  35TH20020610, OVIDE,    53,  1,     23,2,20020628,0700, 50.2790, -22.6060, 4201,    496.1,  10.1110,  35.3290,2,  35.3310,2,    247.4,2,    238.3,3,     6.24,2,    14.03,2,     0.78,2,   -999.0,9,   7.8070,2,    25.00,  10.0519
  35TH20020610, OVIDE,    53,  1,     24,2,20020628,0700, 50.2790, -22.6060, 4201,    396.3,  10.7380,  35.4300,2,  35.4290,2,    248.2,2,    252.6,2,     5.05,2,    11.84,2,     0.68,2,   -999.0,9,   7.8390,2,    25.00,  10.6892
  35TH20020610, OVIDE,    53,  1,     25,2,20020628,0700, 50.2790, -22.6060, 4201,    296.7,  11.2030,  35.5000,2,  35.4980,2,    246.6,2,    246.4,2,     4.83,2,    11.53,2,     0.65,2,   -999.0,9,   7.8430,2,    25.00,  11.1656
  35TH20020610, OVIDE,    53,  1,     26,2,20020628,0700, 50.2790, -22.6060, 4201,    195.8,  11.7980,  35.5920,2,  35.5900,2,    251.9,2,    255.1,2,     2.64,2,     9.34,2,     0.53,2,   -999.0,9,   7.8740,2,    25.00,  11.7726
  35TH20020610, OVIDE,    53,  1,     27,2,20020628,0700, 50.2790, -22.6060, 4201,    146.3,  11.9380,  35.5970,2,  35.6010,2,    255.9,2,    258.7,2,     1.94,2,     7.66,2,     0.49,2,   -999.0,9,   7.8870,2,    25.00,  11.9189
  35TH20020610, OVIDE,    53,  1,     28,2,20020628,0700, 50.2790, -22.6060, 4201,     96.7,  12.0420,  35.6070,2,  35.6060,2,    257.4,2,    261.0,2,     1.57,2,     6.87,2,     0.47,2,   -999.0,9,   7.8970,2,    25.00,  12.0293
  35TH20020610, OVIDE,    53,  1,     29,2,20020628,0700, 50.2790, -22.6060, 4201,     46.7,  12.5820,  35.6350,2,  35.6370,2,    268.0,2,    265.9,2,     1.07,2,     5.77,2,     0.39,2,   -999.0,9,   7.9200,2,    25.00,  12.5757
  35TH20020610, OVIDE,    53,  1,     30,2,20020628,0700, 50.2790, -22.6060, 4201,      4.9,  13.8840,  35.6780,2,  35.6770,2,    264.6,2,    273.9,3,     0.94,2,     3.78,2,     0.26,2,   -999.0,9,   7.9490,2,    25.00,  13.8833
  35TH20020610, OVIDE,    54,  1,      3,2,20020628,1227, 49.9060, -22.3140, 4066,   4055.5,   2.6260,  34.9230,2,  34.9220,2,    244.0,2,    243.4,2,    42.44,2,    22.49,2,     1.35,2,   2350.3,2,   7.7260,2,    25.00,   2.2676
  35TH20020610, OVIDE,    54,  1,      4,2,20020628,1227, 49.9060, -22.3140, 4066,   3796.6,   2.6300,  34.9250,2,  34.9250,2,    245.7,2,    247.0,2,    39.98,2,    22.03,2,     1.36,2,   2344.3,2,   7.7270,2,    25.00,   2.3012
  35TH20020610, OVIDE,    54,  1,      5,2,20020628,1227, 49.9060, -22.3140, 4066,   3597.4,   2.6530,  34.9300,2,  34.9290,2,    248.8,2,    249.4,2,    37.74,2,    21.73,2,     1.31,2,   2340.2,2,   7.7280,2,    25.00,   2.3459
  35TH20020610, OVIDE,    54,  1,      6,2,20020628,1227, 49.9060, -22.3140, 4066,   3396.3,   2.7240,  34.9380,2,  34.9360,2,    253.8,2,    253.5,2,    33.27,2,    20.52,2,     1.23,2,   2334.1,2,   7.7280,2,    25.00,   2.4372
  35TH20020610, OVIDE,    54,  1,      7,2,20020628,1227, 49.9060, -22.3140, 4066,   3196.8,   2.8030,  34.9430,2,  34.9430,2,    258.8,2,    258.5,2,    28.45,2,    19.97,2,     1.20,2,   2325.9,2,   7.7290,2,    25.00,   2.5357
  35TH20020610, OVIDE,    54,  1,      8,2,20020628,1227, 49.9060, -22.3140, 4066,   2996.8,   2.8890,  34.9480,2,  34.9480,2,    262.5,2,    262.9,2,    24.46,2,    19.27,2,     1.17,2,   2320.9,2,   7.7290,2,    25.00,   2.6409
  35TH20020610, OVIDE,    54,  1,      9,2,20020628,1227, 49.9060, -22.3140, 4066,   2746.1,   3.0400,  34.9450,2,  34.9460,2,    268.3,2,    267.5,2,    19.16,2,    18.41,2,     1.10,2,   2312.8,2,   7.7310,2,    25.00,   2.8146
  35TH20020610, OVIDE,    54,  1,     10,2,20020628,1227, 49.9060, -22.3140, 4066,   2520.1,   3.1660,  34.9320,2,  34.9300,2,    274.3,2,    273.0,2,    14.27,2,    17.61,2,     1.09,2,   2307.9,2,   7.7310,2,    25.00,   2.9610
  35TH20020610, OVIDE,    54,  1,     11,2,20020628,1227, 49.9060, -22.3140, 4066,   2346.4,   3.2190,  34.9220,2,  34.9180,2,    275.3,2,    276.9,2,    13.28,2,    17.51,2,     1.08,2,   2306.5,2,   7.7290,2,    25.00,   3.0303
  35TH20020610, OVIDE,    54,  1,     12,2,20020628,1227, 49.9060, -22.3140, 4066,   2195.9,   3.2500,  34.9080,2,  34.9060,2,    277.8,2,    278.6,2,    12.26,2,    17.81,2,     1.07,2,   2303.6,2,   7.7280,2,    25.00,   3.0753
  35TH20020610, OVIDE,    54,  1,     13,2,20020628,1227, 49.9060, -22.3140, 4066,   1996.5,   3.3350,  34.9000,2,  34.8980,2,    279.6,2,    280.7,2,    11.55,2,    18.11,2,     1.04,2,   2302.0,2,   7.7260,2,    25.00,   3.1779
  35TH20020610, OVIDE,    54,  1,     14,2,20020628,1227, 49.9060, -22.3140, 4066,   1793.9,   3.5130,  34.9060,2,  34.9070,2,    276.8,2,    277.5,2,    11.24,2,    18.36,2,     1.12,3,   2301.3,2,   7.7240,2,    25.00,   3.3721
  35TH20020610, OVIDE,    54,  1,     15,2,20020628,1227, 49.9060, -22.3140, 4066,   1595.7,   3.7810,  34.9260,2,  34.9260,2,    269.4,2,    272.7,2,    11.18,2,    18.31,2,     1.06,2,   2302.5,2,   7.7200,2,    25.00,   3.6547
  35TH20020610, OVIDE,    54,  1,     16,2,20020628,1227, 49.9060, -22.3140, 4066,   1395.5,   4.1510,  34.9570,2,  34.9540,2,    262.4,2,    264.4,2,    10.99,2,    18.51,2,     1.06,2,   2304.6,2,   7.7160,2,    25.00,   4.0387
  35TH20020610, OVIDE,    54,  1,     17,2,20020628,1227, 49.9060, -22.3140, 4066,   1195.6,   4.7510,  35.0050,2,  35.0040,2,    250.4,2,    249.1,2,    10.99,2,    19.11,2,     1.10,2,   2308.2,2,   7.7130,2,    25.00,   4.6510
  35TH20020610, OVIDE,    54,  1,     18,2,20020628,1227, 49.9060, -22.3140, 4066,    995.3,   5.8470,  35.1030,2,  35.1010,2,    228.0,2,    228.2,2,    11.12,2,    19.31,2,     1.11,2,   2314.7,2,   7.7140,2,    25.00,   5.7568
  35TH20020610, OVIDE,    54,  1,     19,2,20020628,1227, 49.9060, -22.3140, 4066,    894.8,   6.5220,  35.1450,2,  35.1490,2,    216.5,2,   -999.0,9,    11.12,2,    19.41,2,     1.14,2,   2317.3,2,   7.7150,2,    25.00,   6.4369
  35TH20020610, OVIDE,    54,  1,     20,2,20020628,1227, 49.9060, -22.3140, 4066,    796.4,   7.5510,  35.1990,2,  35.1970,2,    202.3,2,    205.2,2,    10.87,2,    19.82,2,     1.12,2,   2319.6,2,   7.7190,2,    25.00,   7.4697
  35TH20020610, OVIDE,    54,  1,     21,2,20020628,1227, 49.9060, -22.3140, 4066,    695.6,   8.2830,  35.1940,2,  35.1890,2,    193.0,2,    193.9,2,    10.47,3,    19.92,2,     1.13,3,   2317.9,2,   7.7220,2,    25.00,   8.2087
  35TH20020610, OVIDE,    54,  1,     22,2,20020628,1227, 49.9060, -22.3140, 4066,    597.1,   9.3140,  35.2540,2,  35.2380,3,    208.9,2,    217.0,3,     8.15,2,    16.95,2,     0.95,2,   2320.1,2,   7.7660,2,    25.00,   9.2460
  35TH20020610, OVIDE,    54,  1,     23,2,20020628,1227, 49.9060, -22.3140, 4066,    495.8,  10.0280,  35.3230,2,  35.3350,3,    249.0,2,    238.9,3,     6.30,2,    14.38,2,     0.79,2,   2323.4,2,   7.8050,2,    25.00,   9.9693
  35TH20020610, OVIDE,    54,  1,     24,2,20020628,1227, 49.9060, -22.3140, 4066,    396.3,  10.6240,  35.4030,2,  35.4010,2,    250.0,2,    246.4,2,     5.40,2,    12.87,2,     0.71,2,   2327.2,2,   7.8270,2,    25.00,  10.5755
  35TH20020610, OVIDE,    54,  1,     25,2,20020628,1227, 49.9060, -22.3140, 4066,    296.2,  11.2210,  35.4950,2,  35.4940,2,    241.2,2,   -999.0,9,     5.06,2,    12.32,2,     0.64,2,   2332.1,2,   7.8370,2,    25.00,  11.1836
  35TH20020610, OVIDE,    54,  1,     26,2,20020628,1227, 49.9060, -22.3140, 4066,    196.4,  11.7700,  35.5860,2,  35.5860,2,    248.5,2,    245.4,2,     3.89,2,    11.01,2,     0.57,2,   2336.9,2,   7.8610,2,    25.00,  11.7445
  35TH20020610, OVIDE,    54,  1,     27,2,20020628,1227, 49.9060, -22.3140, 4066,    147.1,  12.1350,  35.6370,2,  35.6350,2,    252.1,2,    255.7,2,     2.01,2,     8.02,2,     0.48,2,   2339.6,2,   7.8900,2,    25.00,  12.1156
  35TH20020610, OVIDE,    54,  1,     28,2,20020628,1227, 49.9060, -22.3140, 4066,     97.5,  12.2090,  35.6390,2,  35.6390,2,    251.1,2,    258.2,3,     1.51,2,     7.21,2,     0.45,2,   2339.8,2,   7.9050,2,    25.00,  12.1961
  35TH20020610, OVIDE,    54,  1,     29,2,20020628,1227, 49.9060, -22.3140, 4066,     47.5,  12.3760,  35.6200,2,  35.6200,2,    263.2,2,    266.9,2,     1.24,2,     6.66,2,     0.43,2,   2340.4,2,   7.9070,2,    25.00,  12.3697
  35TH20020610, OVIDE,    54,  1,     30,2,20020628,1227, 49.9060, -22.3140, 4066,      3.1,  14.0580,  35.6040,2,  35.5990,2,    265.8,2,    275.0,3,     1.11,2,     4.23,2,     0.21,2,   2340.4,2,   7.9440,2,    25.00,  14.0576