BOTTLE,20140820PRINUNIVRMK
EXPOCODE,SECT_ID,STNNBR,CASTNO,BTLNBR,BTLNBR_FLAG_W,DATE,TIME,LATITUDE,LONGITUDE,DEPTH,CTDPRS,CTDTMP,CTDSAL,CTDSAL_FLAG_W,SALNTY,SALNTY_FLAG_W,CTDOXY,CTDOXY_FLAG_W,OXYGEN,OXYGEN_FLAG_W,SILCAT,SILCAT_FLAG_W,NITRAT,NITRAT_FLAG_W,PHSPHT,PHSPHT_FLAG_W,ALKALI,ALKALI_FLAG_W,PH_SWS,PH_SWS_FLAG_W,PH_TMP,THETA
,,,,,,,,,,METERS,DBAR,ITS-90,PSS-78,,PSS-78,,UMOL/KG,,UMOL/KG,,UMOL/KG,,UMOL/KG,,UMOL/KG,,UMOL/KG,,,,DEG C,DEG C
  35TH20020610, OVIDE,     9,  1,      3,2,20020618,1650, 59.8000, -42.0030, 1739,   1728.2,   2.8980,  34.8740,2,  34.8760,2,    289.6,2,    288.0,2,     9.83,2,    16.34,2,     1.04,2,   -999.0,9,   7.7320,2,    25.00,   2.7712
  35TH20020610, OVIDE,     9,  1,      4,2,20020618,1650, 59.8000, -42.0030, 1739,   1729.1,   2.8990,  34.8740,2,  34.8750,2,    289.6,2,    288.8,2,     9.94,2,    16.12,2,     1.05,2,   -999.0,9,   7.7330,2,    25.00,   2.7721
  35TH20020610, OVIDE,     9,  1,      5,2,20020618,1650, 59.8000, -42.0030, 1739,   1694.8,   2.8990,  34.8740,2,-999.0000,9,    289.6,2,   -999.0,9,     9.94,2,    16.23,2,     1.04,2,   -999.0,9,-999.0000,9,  -999.00,   2.7751
  35TH20020610, OVIDE,     9,  1,      6,2,20020618,1650, 59.8000, -42.0030, 1739,   1695.2,   2.9000,  34.8740,2,  34.8750,2,    289.6,2,    288.0,2,     9.94,2,    16.56,2,     1.04,2,   -999.0,9,   7.7330,2,    25.00,   2.7760
  35TH20020610, OVIDE,     9,  1,      7,2,20020618,1650, 59.8000, -42.0030, 1739,   1647.1,   2.9090,  34.8750,2,-999.0000,9,    289.1,2,   -999.0,9,     9.94,2,    16.67,2,     1.04,2,   -999.0,9,-999.0000,9,  -999.00,   2.7890
  35TH20020610, OVIDE,     9,  1,      8,2,20020618,1650, 59.8000, -42.0030, 1739,   1595.6,   2.9570,  34.8750,2,  34.8770,2,    288.6,2,    287.9,2,     9.87,2,    16.45,2,     1.04,2,   -999.0,9,   7.7330,2,    25.00,   2.8408
  35TH20020610, OVIDE,     9,  1,      9,2,20020618,1650, 59.8000, -42.0030, 1739,   1546.7,   2.9920,  34.8780,2,-999.0000,9,    288.4,2,   -999.0,9,     9.90,2,    16.00,2,     1.05,2,   -999.0,9,-999.0000,9,  -999.00,   2.8795
  35TH20020610, OVIDE,     9,  1,     10,2,20020618,1650, 59.8000, -42.0030, 1739,   1446.5,   3.0290,  34.8770,2,-999.0000,9,    288.2,2,   -999.0,9,     9.30,3,    16.06,2,     1.04,2,   -999.0,9,-999.0000,9,  -999.00,   2.9245
  35TH20020610, OVIDE,     9,  1,     11,2,20020618,1650, 59.8000, -42.0030, 1739,   1397.3,   3.0440,  34.8770,2,  34.8780,2,    288.0,2,    287.5,2,     9.80,2,    16.34,2,     1.04,2,   -999.0,9,   7.7310,2,    25.00,   2.9434
  35TH20020610, OVIDE,     9,  1,     12,2,20020618,1650, 59.8000, -42.0030, 1739,   1245.2,   3.3630,  34.8950,2,-999.0000,9,    283.6,2,   -999.0,9,    10.26,2,    17.12,2,     1.06,2,   -999.0,9,-999.0000,9,  -999.00,   3.2718
  35TH20020610, OVIDE,     9,  1,     13,2,20020618,1650, 59.8000, -42.0030, 1739,   1194.9,   3.4680,  34.9000,2,  34.9000,2,    281.6,2,    279.7,2,    10.33,2,    17.40,2,     1.06,2,   -999.0,9,   7.7260,2,    25.00,   3.3799
  35TH20020610, OVIDE,     9,  1,     14,2,20020618,1650, 59.8000, -42.0030, 1739,    995.6,   3.5980,  34.8860,2,  34.8880,2,    283.7,2,    281.3,2,     9.94,2,    17.45,2,     1.09,2,   -999.0,9,   7.7270,2,    25.00,   3.5251
  35TH20020610, OVIDE,     9,  1,     15,2,20020618,1650, 59.8000, -42.0030, 1739,    995.9,   3.6020,  34.8860,2,  34.8880,2,    283.7,2,    281.7,2,     9.94,2,    17.45,2,     1.09,2,   -999.0,9,   7.7230,2,    25.00,   3.5291
  35TH20020610, OVIDE,     9,  1,     16,2,20020618,1650, 59.8000, -42.0030, 1739,    896.7,   3.7180,  34.8900,2,-999.0000,9,    284.6,2,   -999.0,9,     9.51,2,    17.12,2,     1.04,3,   -999.0,9,-999.0000,9,  -999.00,   3.6522
  35TH20020610, OVIDE,     9,  1,     17,2,20020618,1650, 59.8000, -42.0030, 1739,    796.5,   3.8620,  34.8950,2,  34.8950,2,    283.9,2,    282.4,2,     9.33,2,    16.90,2,     1.06,2,   -999.0,9,   7.7290,2,    25.00,   3.8033
  35TH20020610, OVIDE,     9,  1,     18,2,20020618,1650, 59.8000, -42.0030, 1739,    747.8,   3.9460,  34.8990,2,-999.0000,9,    283.0,2,   -999.0,9,     9.33,2,    16.90,2,     1.06,2,   -999.0,9,-999.0000,9,  -999.00,   3.8907
  35TH20020610, OVIDE,     9,  1,     19,2,20020618,1650, 59.8000, -42.0030, 1739,    695.1,   4.0660,  34.9050,2,-999.0000,9,    283.6,2,   -999.0,9,     9.30,2,    17.23,2,     1.05,2,   -999.0,9,-999.0000,9,  -999.00,   4.0142
  35TH20020610, OVIDE,     9,  1,     20,2,20020618,1650, 59.8000, -42.0030, 1739,    596.6,   4.2420,  34.9120,2,  34.9130,2,    289.3,2,    285.6,2,     8.91,2,    17.01,2,     1.05,2,   -999.0,9,   7.7360,2,    25.00,   4.1971
  35TH20020610, OVIDE,     9,  1,     21,2,20020618,1650, 59.8000, -42.0030, 1739,    496.2,   4.4870,  34.9320,2,-999.0000,9,    292.5,2,   -999.0,9,     8.66,2,    16.67,2,     1.05,2,   -999.0,9,-999.0000,9,  -999.00,   4.4491
  35TH20020610, OVIDE,     9,  1,     22,2,20020618,1650, 59.8000, -42.0030, 1739,    396.5,   4.6910,  34.9470,2,  34.9450,2,    294.0,2,    291.8,2,     8.45,2,    16.51,2,     1.06,2,   -999.0,9,   7.7490,2,    25.00,   4.6604
  35TH20020610, OVIDE,     9,  1,     23,2,20020618,1650, 59.8000, -42.0030, 1739,    297.9,   4.8160,  34.9500,2,-999.0000,9,    293.0,2,   -999.0,9,     8.30,2,    16.45,2,     1.02,2,   -999.0,9,-999.0000,9,  -999.00,   4.7929
  35TH20020610, OVIDE,     9,  1,     24,2,20020618,1650, 59.8000, -42.0030, 1739,    198.0,   5.1300,  34.9720,2,  34.9710,2,    287.8,2,    289.0,2,     8.16,2,    16.34,2,     1.02,2,   -999.0,9,   7.7530,2,    25.00,   5.1143
  35TH20020610, OVIDE,     9,  1,     25,2,20020618,1650, 59.8000, -42.0030, 1739,    145.8,   5.3900,  34.9900,2,-999.0000,9,    288.0,2,   -999.0,9,     8.02,2,    16.34,2,     0.99,2,   -999.0,9,-999.0000,9,  -999.00,   5.3782
  35TH20020610, OVIDE,     9,  1,     26,2,20020618,1650, 59.8000, -42.0030, 1739,     97.2,   5.5600,  34.9900,2,  34.9910,2,    292.8,2,    289.5,2,     7.81,2,    15.45,2,     1.00,2,   -999.0,9,   7.7650,2,    25.00,   5.5520
  35TH20020610, OVIDE,     9,  1,     27,2,20020618,1650, 59.8000, -42.0030, 1739,     47.5,   6.1510,  34.9200,2,  34.9230,2,    327.2,2,    309.0,3,     3.62,2,    10.54,2,     0.66,2,   -999.0,9,   7.8330,2,    25.00,   6.1469
  35TH20020610, OVIDE,     9,  1,     28,2,20020618,1650, 59.8000, -42.0030, 1739,      2.9,   6.8030,  34.8790,2,  34.8820,2,    323.6,2,    326.4,2,     0.57,2,     8.13,2,     0.44,2,   -999.0,9,   7.8770,2,    25.00,   6.8027
  35TH20020610, OVIDE,     9,  1,     29,2,20020618,1650, 59.8000, -42.0030, 1739,      2.7,   6.8030,  34.8810,2,-999.0000,9,    323.6,2,   -999.0,9,  -999.00,9,  -999.00,9,  -999.00,9,   -999.0,9,-999.0000,9,  -999.00,   6.8028
  35TH20020610, OVIDE,     9,  1,     30,2,20020618,1650, 59.8000, -42.0030, 1739,      2.1,   6.8050,  34.8810,2,-999.0000,9,    323.1,2,   -999.0,9,  -999.00,9,  -999.00,9,  -999.00,9,   -999.0,9,-999.0000,9,  -999.00,   6.8048
  35TH20020610, OVIDE,    10,  1,      3,2,20020618,2022, 59.7950, -41.7280, 1867,   1857.1,   2.4980,  34.8680,2,  34.8670,2,    291.4,2,    291.3,2,     9.69,2,    15.94,2,     0.98,2,   2303.8,2,   7.7330,2,    25.00,   2.3656
  35TH20020610, OVIDE,    10,  1,      4,2,20020618,2022, 59.7950, -41.7280, 1867,   1794.8,   2.5720,  34.8700,2,  34.8700,2,    290.9,2,    290.4,2,     9.83,2,    16.32,2,     1.01,2,   2301.5,2,   7.7330,2,    25.00,   2.4439
  35TH20020610, OVIDE,    10,  1,      5,2,20020618,2022, 59.7950, -41.7280, 1867,   1745.5,   2.5990,  34.8710,2,-999.0000,9,    291.2,2,   -999.0,9,  -999.00,9,  -999.00,9,  -999.00,9,   -999.0,9,-999.0000,9,  -999.00,   2.4747
  35TH20020610, OVIDE,    10,  1,      6,2,20020618,2022, 59.7950, -41.7280, 1867,   1697.5,   2.6710,  34.8770,2,-999.0000,9,    289.2,2,   -999.0,9,  -999.00,9,  -999.00,9,  -999.00,9,   -999.0,9,-999.0000,9,  -999.00,   2.5498
  35TH20020610, OVIDE,    10,  1,      7,2,20020618,2022, 59.7950, -41.7280, 1867,   1646.4,   2.7540,  34.8750,2,-999.0000,9,    289.9,2,   -999.0,9,  -999.00,9,  -999.00,9,  -999.00,9,   -999.0,9,-999.0000,9,  -999.00,   2.6360
  35TH20020610, OVIDE,    10,  1,      8,2,20020618,2022, 59.7950, -41.7280, 1867,   1595.6,   2.8180,  34.8770,2,  34.8780,2,    288.4,2,    288.0,2,     9.97,2,    16.60,2,     1.04,2,   2302.8,2,   7.7340,2,    25.00,   2.7035
  35TH20020610, OVIDE,    10,  1,      9,2,20020618,2022, 59.7950, -41.7280, 1867,   1545.7,   2.8460,  34.8700,2,-999.0000,9,    287.9,2,   -999.0,9,  -999.00,9,  -999.00,9,  -999.00,9,   -999.0,9,-999.0000,9,  -999.00,   2.7354
  35TH20020610, OVIDE,    10,  1,     10,2,20020618,2022, 59.7950, -41.7280, 1867,   1396.2,   3.0390,  34.8760,2,  34.8810,3,    288.3,2,    288.2,2,     9.37,3,    16.60,2,     1.01,2,   2303.0,2,-999.0000,9,  -999.00,   2.9386
  35TH20020610, OVIDE,    10,  1,     11,2,20020618,2022, 59.7950, -41.7280, 1867,   1197.3,   3.2870,  34.8850,2,  34.8860,2,    284.8,2,    283.9,2,     9.76,2,    16.93,2,     1.05,2,   2302.1,2,   7.7310,2,    25.00,   3.2004
  35TH20020610, OVIDE,    10,  1,     12,2,20020618,2022, 59.7950, -41.7280, 1867,   1198.0,   3.2870,  34.8850,2,  34.8850,2,    284.8,2,    283.9,2,     9.76,2,    17.04,2,     1.04,2,   2302.0,2,   7.7330,2,    25.00,   3.2004
  35TH20020610, OVIDE,    10,  1,     13,2,20020618,2022, 59.7950, -41.7280, 1867,    995.6,   3.5780,  34.8940,2,  34.8940,2,    281.9,2,    280.8,2,     9.79,2,    17.48,2,     1.06,2,   2304.7,2,   7.7270,2,    25.00,   3.5053
  35TH20020610, OVIDE,    10,  1,     14,2,20020618,2022, 59.7950, -41.7280, 1867,    897.6,   3.6280,  34.8890,2,  34.8890,2,    283.7,2,    281.9,2,     9.58,2,    17.42,2,     1.06,2,   2303.2,2,   7.7250,2,    25.00,   3.5628
  35TH20020610, OVIDE,    10,  1,     15,2,20020618,2022, 59.7950, -41.7280, 1867,    845.6,   3.6580,  34.8880,2,-999.0000,9,    284.0,2,   -999.0,9,  -999.00,9,  -999.00,9,  -999.00,9,   -999.0,9,-999.0000,9,  -999.00,   3.5967
  35TH20020610, OVIDE,    10,  1,     16,2,20020618,2022, 59.7950, -41.7280, 1867,    796.9,   3.6820,  34.8890,2,  34.8890,2,    284.1,2,    283.0,2,     9.37,2,    17.31,2,     1.04,2,   2303.2,2,   7.7260,2,    25.00,   3.6244
  35TH20020610, OVIDE,    10,  1,     17,2,20020618,2022, 59.7950, -41.7280, 1867,    696.0,   3.7940,  34.8930,2,  34.8930,2,    284.3,2,    282.7,2,     9.09,2,    17.04,2,     1.08,2,   2304.1,2,   7.7300,2,    25.00,   3.7436
  35TH20020610, OVIDE,    10,  1,     18,2,20020618,2022, 59.7950, -41.7280, 1867,    596.8,   3.9500,  34.8990,2,  34.8990,2,    286.1,2,    282.2,2,     8.95,2,    17.04,2,     1.06,2,   2304.5,2,   7.7330,2,    25.00,   3.9065
  35TH20020610, OVIDE,    10,  1,     19,2,20020618,2022, 59.7950, -41.7280, 1867,    496.4,   4.1200,  34.9070,2,  34.9060,2,    291.8,2,    285.3,3,     8.70,2,    16.93,2,     1.06,2,   2304.2,2,   7.7380,2,    25.00,   4.0835
  35TH20020610, OVIDE,    10,  1,     20,2,20020618,2022, 59.7950, -41.7280, 1867,    396.0,   4.2840,  34.9170,2,  34.9170,2,    286.5,2,    292.1,2,     8.42,2,    17.04,2,     1.12,3,   2305.2,2,   7.7410,2,    25.00,   4.2547
  35TH20020610, OVIDE,    10,  1,     21,2,20020618,2022, 59.7950, -41.7280, 1867,    297.4,   4.4530,  34.9310,2,  34.9310,2,    296.2,2,    286.2,3,     8.46,2,    16.82,2,     1.07,2,   2305.9,2,   7.7408,2,    25.00,   4.4308
  35TH20020610, OVIDE,    10,  1,     22,2,20020618,2022, 59.7950, -41.7280, 1867,    196.7,   4.6000,  34.9340,2,  34.9350,2,    292.9,2,    293.2,2,     8.07,2,    16.48,2,     1.04,2,   2309.7,2,   7.7496,2,    25.00,   4.5852
  35TH20020610, OVIDE,    10,  1,     23,2,20020618,2022, 59.7950, -41.7280, 1867,    147.4,   4.7630,  34.9370,2,  34.9410,2,    298.9,2,    296.0,2,     7.96,2,    16.38,2,     1.00,2,   2311.1,2,   7.7518,2,    25.00,   4.7518
  35TH20020610, OVIDE,    10,  1,     24,2,20020618,2022, 59.7950, -41.7280, 1867,     97.5,   5.1060,  34.9300,2,  34.9290,2,    303.7,2,    299.2,2,     7.79,2,    15.11,2,     0.98,2,   2312.4,2,   7.7658,2,    25.00,   5.0984
  35TH20020610, OVIDE,    10,  1,     25,2,20020618,2022, 59.7950, -41.7280, 1867,     47.7,   6.2080,  34.8880,2,  34.8900,2,    316.6,2,    311.5,2,     1.97,2,    10.20,2,     0.61,2,   2303.3,2,   7.8368,2,    25.00,   6.2039
  35TH20020610, OVIDE,    10,  1,     26,2,20020618,2022, 59.7950, -41.7280, 1867,      3.5,   6.7680,  34.8630,2,  34.8640,2,    322.6,2,    323.7,2,     0.46,2,     8.71,2,     0.45,2,   2306.5,2,   7.8671,2,    25.00,   6.7677
  35TH20020610, OVIDE,    11,  1,      3,2,20020619,2343, 59.7730, -41.2960, 2055,   2044.8,   1.8170,  34.8630,2,  34.8610,2,    298.2,2,    298.8,2,     8.19,2,    15.09,2,     0.89,2,   -999.0,9,   7.7324,2,    25.00,   1.6788
  35TH20020610, OVIDE,    11,  1,      4,2,20020619,2343, 59.7730, -41.2960, 2055,   2045.4,   1.8180,  34.8610,2,  34.8600,2,    298.2,2,    298.4,2,     8.12,2,    14.86,2,     0.89,2,   -999.0,9,   7.7291,2,    25.00,   1.6798
  35TH20020610, OVIDE,    11,  1,      5,2,20020619,2343, 59.7730, -41.2960, 2055,   1996.2,   1.8210,  34.8620,2,  34.8620,2,    298.6,2,    298.6,2,     8.15,2,    14.98,2,     0.89,2,   -999.0,9,-999.0000,9,  -999.00,   1.6868
  35TH20020610, OVIDE,    11,  1,      6,2,20020619,2343, 59.7730, -41.2960, 2055,   1945.4,   1.8500,  34.8620,2,-999.0000,9,    298.4,2,   -999.0,9,  -999.00,9,  -999.00,9,  -999.00,9,   -999.0,9,-999.0000,9,  -999.00,   1.7196
  35TH20020610, OVIDE,    11,  1,      7,2,20020619,2343, 59.7730, -41.2960, 2055,   1898.0,   1.9890,  34.8630,2,-999.0000,9,    297.1,2,   -999.0,9,  -999.00,9,  -999.00,9,  -999.00,9,   -999.0,9,-999.0000,9,  -999.00,   1.8604
  35TH20020610, OVIDE,    11,  1,      8,2,20020619,2343, 59.7730, -41.2960, 2055,   1845.6,   2.2230,  34.8710,2,-999.0000,9,    293.2,2,   -999.0,9,  -999.00,9,  -999.00,9,  -999.00,9,   -999.0,9,-999.0000,9,  -999.00,   2.0954
  35TH20020610, OVIDE,    11,  1,      9,2,20020619,2343, 59.7730, -41.2960, 2055,   1795.9,   2.3680,  34.8690,2,  34.8720,2,    294.2,2,    292.5,2,     9.26,2,    15.65,2,     0.94,2,   -999.0,9,   7.7327,2,    25.00,   2.2426
  35TH20020610, OVIDE,    11,  1,     10,2,20020619,2343, 59.7730, -41.2960, 2055,   1694.9,   2.5670,  34.8670,2,-999.0000,9,    293.3,2,   -999.0,9,  -999.00,9,  -999.00,9,  -999.00,9,   -999.0,9,-999.0000,9,  -999.00,   2.4474
  35TH20020610, OVIDE,    11,  1,     11,2,20020619,2343, 59.7730, -41.2960, 2055,   1595.2,   2.8170,  34.8770,2,  34.8780,2,    290.7,2,    288.9,2,     9.59,2,    16.43,2,     0.99,2,   -999.0,9,   7.7349,2,    25.00,   2.7026
  35TH20020610, OVIDE,    11,  1,     12,2,20020619,2343, 59.7730, -41.2960, 2055,   1495.2,   3.0170,  34.8880,2,-999.0000,9,    288.3,2,   -999.0,9,  -999.00,9,  -999.00,9,  -999.00,9,   -999.0,9,-999.0000,9,  -999.00,   2.9086
  35TH20020610, OVIDE,    11,  1,     13,2,20020619,2343, 59.7730, -41.2960, 2055,   1496.3,   3.0170,  34.8860,2,-999.0000,9,    288.3,2,   -999.0,9,  -999.00,9,  -999.00,9,  -999.00,9,   -999.0,9,-999.0000,9,  -999.00,   2.9085
  35TH20020610, OVIDE,    11,  1,     14,2,20020619,2343, 59.7730, -41.2960, 2055,   1396.0,   3.1130,  34.8840,2,  34.8860,2,    288.8,2,    286.7,2,     9.89,2,    17.33,2,     1.04,2,   -999.0,9,-999.0000,9,  -999.00,   3.0118
  35TH20020610, OVIDE,    11,  1,     15,2,20020619,2343, 59.7730, -41.2960, 2055,   1195.9,   3.3570,  34.8960,2,  34.8980,2,    283.6,2,    281.4,2,     9.89,2,    17.72,2,     1.06,2,   -999.0,9,   7.7297,2,    25.00,   3.2699
  35TH20020610, OVIDE,    11,  1,     16,2,20020619,2343, 59.7730, -41.2960, 2055,    994.9,   3.5360,  34.8950,2,  34.8930,2,    282.9,2,    280.3,2,     9.39,2,    17.39,2,     1.03,2,   -999.0,9,   7.7267,2,    25.00,   3.4637
  35TH20020610, OVIDE,    11,  1,     17,2,20020619,2343, 59.7730, -41.2960, 2055,    896.9,   3.6060,  34.8910,2,  34.8930,2,    283.8,2,    281.1,2,     9.09,2,    17.27,2,     1.04,2,   -999.0,9,   7.7246,2,    25.00,   3.5410
  35TH20020610, OVIDE,    11,  1,     18,2,20020619,2343, 59.7730, -41.2960, 2055,    796.4,   3.7020,  34.8880,2,  34.8880,2,    285.7,2,    283.0,2,     8.82,2,    17.16,2,     1.04,2,   -999.0,9,   7.7281,2,    25.00,   3.6443
  35TH20020610, OVIDE,    11,  1,     19,2,20020619,2343, 59.7730, -41.2960, 2055,    697.1,   3.9120,  34.8990,2,  34.8950,2,    285.1,2,    282.2,2,     8.69,2,    17.16,2,     1.04,2,   -999.0,9,   7.7309,2,    25.00,   3.8609
  35TH20020610, OVIDE,    11,  1,     20,2,20020619,2343, 59.7730, -41.2960, 2055,    597.1,   3.7960,  34.8620,2,  34.8610,2,    293.3,2,    290.5,2,     7.69,3,    15.76,3,     0.94,3,   -999.0,9,   7.7320,2,    25.00,   3.7532
  35TH20020610, OVIDE,    11,  1,     21,2,20020619,2343, 59.7730, -41.2960, 2055,    496.3,   3.7920,  34.8570,2,  34.8560,2,    291.9,2,    292.2,2,     7.69,3,    15.42,3,     0.94,3,   -999.0,9,   7.7331,2,    25.00,   3.7569
  35TH20020610, OVIDE,    11,  1,     22,2,20020619,2343, 59.7730, -41.2960, 2055,    396.3,   4.1950,  34.9070,2,  34.9070,2,    292.0,2,    291.1,2,     8.09,2,    16.77,2,     1.03,2,   -999.0,9,   7.7400,2,    25.00,   4.1660
  35TH20020610, OVIDE,    11,  1,     23,2,20020619,2343, 59.7730, -41.2960, 2055,    296.8,   4.4830,  34.9270,2,  34.9280,2,    294.4,2,    293.1,2,     7.89,2,    16.49,2,     1.03,2,   -999.0,9,   7.7460,2,    25.00,   4.4608
  35TH20020610, OVIDE,    11,  1,     24,2,20020619,2343, 59.7730, -41.2960, 2055,    195.8,   4.6820,  34.9370,2,  34.9370,2,    293.6,2,    293.6,2,     7.75,2,    16.43,2,     1.02,2,   -999.0,9,   7.7510,2,    25.00,   4.6672
  35TH20020610, OVIDE,    11,  1,     25,2,20020619,2343, 59.7730, -41.2960, 2055,    146.5,   4.8780,  34.9530,2,  34.9530,2,    292.3,2,    291.4,2,     7.69,2,    16.43,2,     1.01,2,   -999.0,9,   7.7520,2,    25.00,   4.8667
  35TH20020610, OVIDE,    11,  1,     26,2,20020619,2343, 59.7730, -41.2960, 2055,     97.4,   5.1670,  34.9620,2,  34.9640,2,    291.8,2,    293.0,2,     7.45,2,    16.15,2,     0.99,2,   -999.0,9,   7.7580,2,    25.00,   5.1593
  35TH20020610, OVIDE,    11,  1,     27,2,20020619,2343, 59.7730, -41.2960, 2055,     47.7,   6.0090,  34.8840,2,  34.8880,2,    307.2,2,    310.6,2,     2.34,2,    11.10,2,     0.72,2,   -999.0,9,   7.8330,2,    25.00,   6.0050
  35TH20020610, OVIDE,    11,  1,     28,2,20020619,2343, 59.7730, -41.2960, 2055,      3.2,   6.7320,  34.8700,2,  34.8720,2,    321.3,2,    323.9,2,     0.54,2,     8.11,2,     0.46,2,   -999.0,9,   7.8760,2,    25.00,   6.7317