BOTTLE,20140820PRINUNIVRMK
EXPOCODE,SECT_ID,STNNBR,CASTNO,BTLNBR,BTLNBR_FLAG_W,DATE,TIME,LATITUDE,LONGITUDE,DEPTH,CTDPRS,CTDTMP,CTDSAL,CTDSAL_FLAG_W,SALNTY,SALNTY_FLAG_W,CTDOXY,CTDOXY_FLAG_W,OXYGEN,OXYGEN_FLAG_W,SILCAT,SILCAT_FLAG_W,NITRAT,NITRAT_FLAG_W,PHSPHT,PHSPHT_FLAG_W,ALKALI,ALKALI_FLAG_W,PH_SWS,PH_SWS_FLAG_W,PH_TMP,THETA
,,,,,,,,,,METERS,DBAR,ITS-90,PSS-78,,PSS-78,,UMOL/KG,,UMOL/KG,,UMOL/KG,,UMOL/KG,,UMOL/KG,,UMOL/KG,,,,DEG C,DEG C
  35TH20020610, OVIDE,    40,  1,      3,2,20020624,0321, 55.1490, -26.4110, 3435,   3425.2,   2.7910,  34.9720,2,  34.9730,2,    273.6,2,    268.4,2,    17.68,3,    16.68,2,     0.99,2,   2313.5,2,   7.7200,2,    25.00,   2.4992
  35TH20020610, OVIDE,    40,  1,      4,2,20020624,0321, 55.1490, -26.4110, 3435,   3397.6,   2.7880,  34.9710,2,  34.9720,2,    273.5,2,    272.4,2,    17.68,3,    17.39,2,     0.98,2,   2313.7,2,   7.7220,2,    25.00,   2.4993
  35TH20020610, OVIDE,    40,  1,      5,2,20020624,0321, 55.1490, -26.4110, 3435,   3295.6,   2.8270,  34.9640,2,-999.0000,9,    270.7,2,   -999.0,9,    18.85,3,    17.99,2,     1.01,2,   -999.0,9,-999.0000,9,  -999.00,   2.5485
  35TH20020610, OVIDE,    40,  1,      6,2,20020624,0321, 55.1490, -26.4110, 3435,   3193.8,   2.8690,  34.9610,2,  34.9610,2,    269.6,2,    269.9,2,    18.16,2,    17.77,2,     1.01,2,   2315.4,2,   7.7260,2,    25.00,   2.6005
  35TH20020610, OVIDE,    40,  1,      7,2,20020624,0321, 55.1490, -26.4110, 3435,   2996.4,   2.9330,  34.9560,2,  34.9550,2,    270.9,2,    270.0,2,    17.48,2,    18.05,2,     1.08,3,   2312.8,2,   7.7310,2,    25.00,   2.6839
  35TH20020610, OVIDE,    40,  1,      8,2,20020624,0321, 55.1490, -26.4110, 3435,   2796.0,   3.0530,  34.9490,2,  34.9500,2,    275.1,2,    273.1,2,    14.77,2,    17.83,2,     0.99,2,   2309.4,2,   7.7290,2,    25.00,   2.8222
  35TH20020610, OVIDE,    40,  1,      9,2,20020624,0321, 55.1490, -26.4110, 3435,   2595.1,   3.1040,  34.9340,2,  34.9340,2,    275.4,2,    275.5,2,    13.94,2,    17.88,2,     0.99,2,   2307.3,2,   7.7300,2,    25.00,   2.8927
  35TH20020610, OVIDE,    40,  1,     10,2,20020624,0321, 55.1490, -26.4110, 3435,   2396.0,   3.1410,  34.9190,2,  34.9190,2,    279.0,2,    278.0,2,    13.08,2,    17.88,2,     0.99,2,   2303.7,2,   7.7300,2,    25.00,   2.9488
  35TH20020610, OVIDE,    40,  1,     11,2,20020624,0321, 55.1490, -26.4110, 3435,   2391.6,   3.1430,  34.9180,2,-999.0000,9,    279.0,2,   -999.0,9,    13.04,2,    17.39,3,     0.98,2,   2303.6,2,   7.7310,2,    25.00,   2.9512
  35TH20020610, OVIDE,    40,  1,     12,2,20020624,0321, 55.1490, -26.4110, 3435,   2197.9,   3.1630,  34.9010,2,  34.9020,2,    280.9,2,    281.4,2,    12.13,2,    17.66,2,     0.99,2,   2302.1,2,   7.7300,2,    25.00,   2.9896
  35TH20020610, OVIDE,    40,  1,     13,2,20020624,0321, 55.1490, -26.4110, 3435,   1995.6,   3.2200,  34.8920,2,  34.8920,2,    281.4,2,    282.9,2,    11.68,2,    17.88,2,     0.99,2,   2299.9,2,   7.7270,2,    25.00,   3.0647
  35TH20020610, OVIDE,    40,  1,     14,2,20020624,0321, 55.1490, -26.4110, 3435,   1795.9,   3.2970,  34.8890,2,  34.8930,2,    282.6,2,    282.4,2,    11.38,2,    17.94,2,     0.99,2,   2300.9,2,   7.7260,2,    25.00,   3.1589
  35TH20020610, OVIDE,    40,  1,     15,2,20020624,0321, 55.1490, -26.4110, 3435,   1598.2,   3.4520,  34.8960,2,  34.8950,2,    278.8,2,    278.1,2,    11.34,2,    18.10,2,     0.98,2,   2301.6,2,   7.7260,2,    25.00,   3.3296
  35TH20020610, OVIDE,    40,  1,     16,2,20020624,0321, 55.1490, -26.4110, 3435,   1394.5,   3.6140,  34.9030,2,  34.9040,2,    274.5,2,    274.6,2,    11.15,2,    18.21,2,     1.02,2,   2301.9,2,   7.7220,2,    25.00,   3.5075
  35TH20020610, OVIDE,    40,  1,     17,2,20020624,0321, 55.1490, -26.4110, 3435,   1200.4,   3.8220,  34.9140,2,  34.9130,2,    270.0,2,    247.0,3,    11.00,2,    18.70,2,     1.02,2,   2302.1,2,   7.7180,2,    25.00,   3.7302
  35TH20020610, OVIDE,    40,  1,     18,2,20020624,0321, 55.1490, -26.4110, 3435,    997.8,   4.0500,  34.9200,2,  34.9200,2,    266.0,2,    266.1,2,    10.74,2,    18.54,3,     1.04,2,   2302.2,2,   7.7160,2,    25.00,   3.9734
  35TH20020610, OVIDE,    40,  1,     19,2,20020624,0321, 55.1490, -26.4110, 3435,    897.5,   4.2700,  34.9300,2,  34.9310,2,    262.2,2,    260.5,2,    10.81,2,    18.75,2,     1.06,2,   2303.4,2,   7.7150,2,    25.00,   4.2003
  35TH20020610, OVIDE,    40,  1,     20,2,20020624,0321, 55.1490, -26.4110, 3435,    798.6,   4.6070,  34.9460,2,  34.9470,2,    251.3,2,    253.2,2,    10.93,2,    19.03,2,     1.06,2,   2304.7,2,   7.7120,2,    25.00,   4.5434
  35TH20020610, OVIDE,    40,  1,     21,2,20020624,0321, 55.1490, -26.4110, 3435,    698.0,   5.0000,  34.9480,2,  34.9490,2,    243.6,2,    241.8,2,    11.12,2,    19.41,2,     1.08,2,   2305.0,2,   7.7050,2,    25.00,   4.9429
  35TH20020610, OVIDE,    40,  1,     22,2,20020624,0321, 55.1490, -26.4110, 3435,    595.3,   5.6510,  34.9620,2,  34.9610,2,    227.4,2,    227.0,2,    11.34,2,    19.79,2,     1.09,2,   2305.9,2,   7.6940,2,    25.00,   5.5997
  35TH20020610, OVIDE,    40,  1,     23,2,20020624,0321, 55.1490, -26.4110, 3435,    494.5,   6.2880,  34.9630,2,  34.9640,2,    214.2,2,    215.1,2,    11.42,2,    20.01,2,     1.12,2,   2306.0,2,   7.6980,2,    25.00,   6.2434
  35TH20020610, OVIDE,    40,  1,     24,2,20020624,0321, 55.1490, -26.4110, 3435,    397.1,   7.2570,  34.9860,2,  34.9880,2,    204.8,2,    203.9,2,    10.93,2,    20.17,2,     1.11,2,   2309.1,2,   7.7090,2,    25.00,   7.2185
  35TH20020610, OVIDE,    40,  1,     25,2,20020624,0321, 55.1490, -26.4110, 3435,    298.5,   8.5770,  35.1250,2,  35.1260,2,    236.2,2,    251.9,3,     7.50,2,    14.88,2,     0.82,2,   2316.1,2,   7.7880,2,    25.00,   8.5452
  35TH20020610, OVIDE,    40,  1,     26,2,20020624,0321, 55.1490, -26.4110, 3435,    198.0,   9.0610,  35.1820,2,  35.1720,3,    244.2,2,    257.7,3,     6.67,2,    13.46,2,     0.75,2,   2319.8,2,   7.8030,2,    25.00,   9.0393
  35TH20020610, OVIDE,    40,  1,     27,2,20020624,0321, 55.1490, -26.4110, 3435,    148.1,   9.1840,  35.1830,2,-999.0000,9,    265.8,2,   -999.0,9,     5.61,2,    12.48,2,     0.72,2,   2319.3,2,   7.8190,2,    25.00,   9.1677
  35TH20020610, OVIDE,    40,  1,     28,2,20020624,0321, 55.1490, -26.4110, 3435,     99.4,   9.5290,  35.1710,2,-999.0000,9,    276.0,2,   -999.0,9,     2.79,2,     8.82,2,     0.58,2,   2316.7,2,   7.8600,2,    25.00,   9.5178
  35TH20020610, OVIDE,    40,  1,     29,2,20020624,0321, 55.1490, -26.4110, 3435,     46.8,  10.9010,  35.2190,2,  35.2170,2,    280.1,2,    276.9,2,     0.94,2,     5.98,2,     0.40,2,   2320.0,2,   7.9140,2,    25.00,  10.8953
  35TH20020610, OVIDE,    40,  1,     30,2,20020624,0321, 55.1490, -26.4110, 3435,      5.7,  10.9150,  35.2180,2,  35.2190,2,    275.8,2,    277.1,2,     0.90,2,     5.81,2,     0.38,2,   2322.7,2,   7.9100,2,    25.00,  10.9143
  35TH20020610, OVIDE,    41,  1,      3,2,20020625,0837, 54.7620, -26.1230, 3673,   3663.2,   2.7980,  34.9640,2,  34.9640,2,    270.5,2,    268.9,2,    21.20,2,    18.28,2,  -999.00,9,   -999.0,9,   7.7210,2,    25.00,   2.4797
  35TH20020610, OVIDE,    41,  1,      4,2,20020625,0837, 54.7620, -26.1230, 3673,   3596.5,   2.7970,  34.9660,2,  34.9650,2,    269.7,2,    269.6,2,    20.73,2,    18.11,2,     1.04,2,   -999.0,9,   7.7230,2,    25.00,   2.4862
  35TH20020610, OVIDE,    41,  1,      5,2,20020625,0837, 54.7620, -26.1230, 3673,   3395.6,   2.7930,  34.9550,2,  34.9550,2,    266.4,2,    266.1,2,    22.95,2,    18.73,2,     1.04,2,   -999.0,9,   7.7250,2,    25.00,   2.5045
  35TH20020610, OVIDE,    41,  1,      6,2,20020625,0837, 54.7620, -26.1230, 3673,   3197.5,   2.8600,  34.9580,2,  34.9580,2,    270.5,2,    269.5,2,    19.67,2,    18.39,2,     1.07,2,   -999.0,9,   7.7250,2,    25.00,   2.5913
  35TH20020610, OVIDE,    41,  1,      7,2,20020625,0837, 54.7620, -26.1230, 3673,   2996.2,   2.9410,  34.9540,2,  34.9560,2,    270.9,2,    270.8,2,    17.57,2,    18.05,2,     1.05,2,   -999.0,9,   7.7310,2,    25.00,   2.6918
  35TH20020610, OVIDE,    41,  1,      8,2,20020625,0837, 54.7620, -26.1230, 3673,   2795.2,   3.0450,  34.9490,2,  34.9500,2,    274.1,2,    273.7,2,    14.48,2,    17.77,2,     1.02,2,   -999.0,9,   7.7320,2,    25.00,   2.8145
  35TH20020610, OVIDE,    41,  1,      9,2,20020625,0837, 54.7620, -26.1230, 3673,   2597.8,   3.1130,  34.9400,2,  34.9400,2,    275.6,2,    276.8,2,    13.12,2,    17.66,2,     1.00,2,   -999.0,9,   7.7320,2,    25.00,   2.9012
  35TH20020610, OVIDE,    41,  1,     10,2,20020625,0837, 54.7620, -26.1230, 3673,   2395.6,   3.1490,  34.9190,2,  34.9220,2,    280.4,2,    279.0,2,    12.47,2,    17.66,2,     1.00,2,   -999.0,9,   7.7320,2,    25.00,   2.9567
  35TH20020610, OVIDE,    41,  1,     11,2,20020625,0837, 54.7620, -26.1230, 3673,   2195.7,   3.1630,  34.9020,2,  34.9030,2,    281.0,2,    281.9,2,    11.96,2,    17.88,2,     1.01,2,   -999.0,9,   7.7310,2,    25.00,   2.9898
  35TH20020610, OVIDE,    41,  1,     12,2,20020625,0837, 54.7620, -26.1230, 3673,   2195.5,   3.1630,  34.9030,2,  34.9030,2,    281.0,2,    282.3,2,    11.96,2,    17.71,2,     1.01,2,   -999.0,9,   7.7300,2,    25.00,   2.9898
  35TH20020610, OVIDE,    41,  1,     13,2,20020625,0837, 54.7620, -26.1230, 3673,   1994.6,   3.1820,  34.8910,2,  34.8910,2,    282.7,2,    285.0,2,    11.44,2,    18.05,2,     1.01,2,   -999.0,9,-999.0000,9,  -999.00,   3.0274
  35TH20020610, OVIDE,    41,  1,     14,2,20020625,0837, 54.7620, -26.1230, 3673,   1794.0,   3.2690,  34.8880,2,  34.8880,2,    282.8,2,    284.7,2,    11.12,2,    18.11,2,     1.01,2,   -999.0,9,   7.7240,2,    25.00,   3.1314
  35TH20020610, OVIDE,    41,  1,     15,2,20020625,0837, 54.7620, -26.1230, 3673,   1595.9,   3.4020,  34.8930,2,  34.8950,2,    280.8,2,    281.6,2,    10.99,2,    18.28,2,     1.01,2,   -999.0,9,   7.7210,2,    25.00,   3.2804
  35TH20020610, OVIDE,    41,  1,     16,2,20020625,0837, 54.7620, -26.1230, 3673,   1394.2,   3.5660,  34.9010,2,  34.9010,2,    275.7,2,    276.9,2,    10.82,2,    18.39,2,     1.01,2,   -999.0,9,   7.7180,2,    25.00,   3.4601
  35TH20020610, OVIDE,    41,  1,     17,2,20020625,0837, 54.7620, -26.1230, 3673,   1200.7,   3.7610,  34.9090,2,  34.9130,2,    270.2,2,    272.6,2,    10.82,2,    18.50,2,     1.03,2,   -999.0,9,   7.7170,2,    25.00,   3.6697
  35TH20020610, OVIDE,    41,  1,     18,2,20020625,0837, 54.7620, -26.1230, 3673,    996.1,   4.0110,  34.9190,2,  34.9170,2,    267.1,2,    268.1,2,    10.76,2,    18.67,2,     1.03,2,   -999.0,9,   7.7140,2,    25.00,   3.9349
  35TH20020610, OVIDE,    41,  1,     19,2,20020625,0837, 54.7620, -26.1230, 3673,    895.8,   4.2430,  34.9310,2,  34.9250,3,    260.4,2,    262.6,2,    10.82,2,    18.90,2,     1.05,2,   -999.0,9,   7.7140,2,    25.00,   4.1736
  35TH20020610, OVIDE,    41,  1,     20,2,20020625,0837, 54.7620, -26.1230, 3673,    791.9,   4.5780,  34.9520,2,  34.9560,2,    253.2,2,    254.6,2,    10.95,2,    19.07,2,     1.06,2,   -999.0,9,   7.7070,2,    25.00,   4.5152
  35TH20020610, OVIDE,    41,  1,     21,2,20020625,0837, 54.7620, -26.1230, 3673,    695.6,   4.8510,  34.9580,2,  34.9580,2,    243.1,2,    247.4,2,    11.05,2,    18.61,3,     1.07,2,   -999.0,9,   7.7070,2,    25.00,   4.7949
  35TH20020610, OVIDE,    41,  1,     22,2,20020625,0837, 54.7620, -26.1230, 3673,    595.8,   5.8130,  35.0230,2,  35.0230,2,    225.5,2,    227.7,2,    11.28,2,    20.25,2,     1.08,2,   -999.0,9,   7.7040,2,    25.00,   5.7609
  35TH20020610, OVIDE,    41,  1,     23,2,20020625,0837, 54.7620, -26.1230, 3673,    497.6,   6.2330,  34.9920,2,  34.9960,2,    215.2,2,    223.1,3,    11.12,3,    19.97,3,     1.10,2,   -999.0,9,   7.7020,2,    25.00,   6.1882
  35TH20020610, OVIDE,    41,  1,     24,2,20020625,0837, 54.7620, -26.1230, 3673,    426.4,   7.2380,  35.0740,2,  35.0710,2,    209.2,2,    212.4,2,    10.66,2,    19.80,2,     1.12,2,   -999.0,9,   7.7160,2,    25.00,   7.1966
  35TH20020610, OVIDE,    41,  1,     25,2,20020625,0837, 54.7620, -26.1230, 3673,    298.1,   7.9450,  35.0400,2,  35.0400,2,    262.9,2,    261.3,2,     7.11,3,    14.78,3,     1.09,3,   -999.0,9,   7.7770,2,    25.00,   7.9147
  35TH20020610, OVIDE,    41,  1,     26,2,20020625,0837, 54.7620, -26.1230, 3673,    194.8,   8.8650,  35.1580,2,  35.1590,2,    255.2,2,    265.7,3,     6.20,3,    13.59,3,     0.85,2,   -999.0,9,   7.8040,2,    25.00,   8.8440
  35TH20020610, OVIDE,    41,  1,     27,2,20020625,0837, 54.7620, -26.1230, 3673,    148.4,   8.8230,  35.1170,2,  35.1200,2,    260.5,2,    260.0,2,     6.43,3,    13.82,3,     0.77,2,   -999.0,9,   7.7980,2,    25.00,   8.8071
  35TH20020610, OVIDE,    41,  1,     28,2,20020625,0837, 54.7620, -26.1230, 3673,     99.5,   9.2700,  35.1630,2,  35.1640,2,    256.5,2,    261.2,2,     5.69,2,    13.20,3,     0.73,2,   -999.0,9,   7.8120,2,    25.00,   9.2590
  35TH20020610, OVIDE,    41,  1,     29,2,20020625,0837, 54.7620, -26.1230, 3673,     47.0,  10.4320,  35.2410,2,  35.2410,2,    271.8,2,    272.4,2,     1.97,2,     7.37,2,     0.51,2,   -999.0,9,   7.8800,2,    25.00,  10.4264
  35TH20020610, OVIDE,    41,  1,     30,2,20020625,0837, 54.7620, -26.1230, 3673,      8.4,  11.0350,  35.2520,2,  35.2540,2,    270.5,2,    275.7,2,     0.90,2,     5.60,2,     0.39,2,   -999.0,9,   7.9090,2,    25.00,  11.0340
  35TH20020610, OVIDE,    42,  1,      3,2,20020625,1345, 54.3870, -25.8280, 3099,   3089.2,   2.7030,  34.9420,2,  34.9430,2,    255.6,2,    258.4,2,    28.26,2,    19.95,2,  -999.00,9,   2328.7,2,   7.7230,2,    25.00,   2.4493
  35TH20020610, OVIDE,    42,  1,      4,2,20020625,1345, 54.3870, -25.8280, 3099,   2998.4,   2.7890,  34.9500,2,  34.9510,2,    265.2,2,    264.9,2,    22.18,2,    18.64,2,  -999.00,9,   2318.4,2,   7.7280,2,    25.00,   2.5429
  35TH20020610, OVIDE,    42,  1,      5,2,20020625,1345, 54.3870, -25.8280, 3099,   2795.6,   2.9050,  34.9500,2,-999.0000,9,    268.7,2,   -999.0,9,    18.58,2,    17.99,2,  -999.00,9,   2314.8,2,   7.7280,2,    25.00,   2.6773
  35TH20020610, OVIDE,    42,  1,      6,2,20020625,1345, 54.3870, -25.8280, 3099,   2697.3,   2.9730,  34.9490,2,  34.9500,2,    271.0,2,    274.1,2,    16.66,2,    17.56,2,  -999.00,9,   2311.2,2,   7.7280,2,    25.00,   2.7539
  35TH20020610, OVIDE,    42,  1,      7,2,20020625,1345, 54.3870, -25.8280, 3099,   2595.5,   3.0250,  34.9470,2,  34.9470,2,    272.1,2,    273.0,2,    14.53,2,    17.39,2,  -999.00,9,   2309.4,2,   7.7290,2,    25.00,   2.8151
  35TH20020610, OVIDE,    42,  1,      8,2,20020625,1345, 54.3870, -25.8280, 3099,   2493.8,   3.0760,  34.9400,2,  34.9410,2,    274.2,2,    274.1,2,    13.63,2,    17.56,2,     1.01,2,   2306.4,2,   7.7310,2,    25.00,   2.8752
  35TH20020610, OVIDE,    42,  1,      9,2,20020625,1345, 54.3870, -25.8280, 3099,   2396.9,   3.1100,  34.9340,2,  34.9340,2,    275.8,2,    275.4,2,    13.01,2,    17.56,2,     1.01,2,   2304.9,2,   7.7310,2,    25.00,   2.9182
  35TH20020610, OVIDE,    42,  1,     10,2,20020625,1345, 54.3870, -25.8280, 3099,   2198.1,   3.1530,  34.9170,2,-999.0000,9,    279.4,2,   -999.0,9,    12.14,2,    17.61,2,     1.03,3,   2303.5,2,   7.7320,2,    25.00,   2.9797
  35TH20020610, OVIDE,    42,  1,     11,2,20020625,1345, 54.3870, -25.8280, 3099,   2098.3,   3.1640,  34.9090,2,  34.9080,2,    280.5,2,    280.8,2,    11.65,2,    17.56,2,     1.02,2,   2302.4,2,   7.7300,2,    25.00,   2.9999
  35TH20020610, OVIDE,    42,  1,     12,2,20020625,1345, 54.3870, -25.8280, 3099,   1899.0,   3.1820,  34.8930,2,  34.8930,2,    282.5,2,    283.1,2,    11.15,2,    17.61,2,     1.02,2,   2300.0,2,   7.7270,2,    25.00,   3.0361
  35TH20020610, OVIDE,    42,  1,     13,2,20020625,1345, 54.3870, -25.8280, 3099,   1799.3,   3.2240,  34.8900,2,  34.8890,2,    282.9,2,    285.6,2,    10.97,2,    17.56,2,     1.03,2,   -999.0,9,-999.0000,9,  -999.00,   3.0866
  35TH20020610, OVIDE,    42,  1,     14,2,20020625,1345, 54.3870, -25.8280, 3099,   1696.6,   3.2770,  34.8890,2,  34.8900,2,    282.1,2,    282.9,2,    10.87,2,    17.88,2,     1.05,2,   2301.9,2,   7.7250,2,    25.00,   3.1480
  35TH20020610, OVIDE,    42,  1,     15,2,20020625,1345, 54.3870, -25.8280, 3099,   1596.4,   3.3590,  34.8930,2,  34.8910,2,    280.9,2,    280.9,2,    10.90,2,    17.77,2,     1.03,2,   2300.9,2,   7.7250,2,    25.00,   3.2378
  35TH20020610, OVIDE,    42,  1,     16,2,20020625,1345, 54.3870, -25.8280, 3099,   1397.0,   3.4980,  34.8980,2,  34.8990,2,    277.4,2,   -999.0,9,    10.78,2,    17.77,2,     1.05,2,   2301.2,2,   7.7230,2,    25.00,   3.3926
  35TH20020610, OVIDE,    42,  1,     17,2,20020625,1345, 54.3870, -25.8280, 3099,   1194.8,   3.7070,  34.9080,2,  34.9070,2,    271.8,2,    273.0,2,    10.72,2,    18.21,2,     1.07,2,   2301.7,2,   7.7180,2,    25.00,   3.6167
  35TH20020610, OVIDE,    42,  1,     18,2,20020625,1345, 54.3870, -25.8280, 3099,    995.4,   3.9370,  34.9130,2,  34.9120,2,    270.6,2,    270.4,2,    10.38,2,    18.10,2,     1.07,2,   2301.6,2,   7.7150,2,    25.00,   3.8615
  35TH20020610, OVIDE,    42,  1,     19,2,20020625,1345, 54.3870, -25.8280, 3099,    897.8,   4.0680,  34.9190,2,-999.0000,9,    266.0,2,   -999.0,9,    10.53,2,    17.88,2,     1.07,2,   2302.1,2,   7.7160,2,    25.00,   3.9997
  35TH20020610, OVIDE,    42,  1,     20,2,20020625,1345, 54.3870, -25.8280, 3099,    793.5,   4.3390,  34.9310,2,  34.9400,3,    259.2,2,    260.6,2,    10.53,2,    18.54,2,     1.09,2,   2303.1,2,   7.7120,2,    25.00,   4.2775
  35TH20020610, OVIDE,    42,  1,     21,2,20020625,1345, 54.3870, -25.8280, 3099,    696.2,   4.6300,  34.9380,2,  34.9380,2,    250.5,2,    251.7,2,    10.63,2,    18.54,2,     1.10,2,   2304.1,2,   7.7090,2,    25.00,   4.5750
  35TH20020610, OVIDE,    42,  1,     22,2,20020625,1345, 54.3870, -25.8280, 3099,    596.7,   5.2330,  34.9760,2,  34.9770,2,    234.7,2,    238.0,2,    10.97,2,    19.41,2,     1.13,2,   2307.0,2,   7.7050,2,    25.00,   5.1835
  35TH20020610, OVIDE,    42,  1,     23,2,20020625,1345, 54.3870, -25.8280, 3099,    496.7,   5.7680,  34.9790,2,  34.9800,2,    220.3,2,    223.7,2,    11.28,2,    19.79,2,     1.15,2,   2307.2,2,   7.7040,2,    25.00,   5.7251
  35TH20020610, OVIDE,    42,  1,     24,2,20020625,1345, 54.3870, -25.8280, 3099,    355.6,   7.0160,  34.9780,2,  34.9770,2,    207.5,2,    205.3,2,    10.94,2,    20.28,2,     1.17,2,   2306.9,2,   7.7040,2,    25.00,   6.9823
  35TH20020610, OVIDE,    42,  1,     25,2,20020625,1345, 54.3870, -25.8280, 3099,    299.7,   7.7340,  35.0060,2,  35.0070,2,    248.8,2,    215.8,3,     9.57,2,    18.48,2,     1.08,2,   2308.2,2,   7.7310,2,    25.00,   7.7040
  35TH20020610, OVIDE,    42,  1,     26,2,20020625,1345, 54.3870, -25.8280, 3099,    198.1,   8.5460,  35.0680,2,  35.0670,2,    263.5,2,    260.7,2,     6.63,2,    14.06,2,     0.81,2,   2310.5,2,   7.7930,2,    25.00,   8.5251
  35TH20020610, OVIDE,    42,  1,     27,2,20020625,1345, 54.3870, -25.8280, 3099,    144.4,   9.1440,  35.1670,2,  35.1650,2,    264.5,2,    264.3,2,     5.79,2,    12.81,2,     0.74,2,   2317.5,2,   7.8130,2,    25.00,   9.1282
  35TH20020610, OVIDE,    42,  1,     28,2,20020625,1345, 54.3870, -25.8280, 3099,     94.5,   9.2690,  35.1710,2,  35.1710,2,    261.4,2,    265.7,2,     5.73,2,    12.86,2,     0.72,2,   2319.4,2,   7.8160,2,    25.00,   9.2586
  35TH20020610, OVIDE,    42,  1,     29,2,20020625,1345, 54.3870, -25.8280, 3099,     48.8,   9.9740,  35.1770,2,  35.1690,3,    276.7,2,    272.8,2,     2.48,2,     8.29,2,     0.55,2,   2319.5,2,   7.8700,2,    25.00,   9.9684
  35TH20020610, OVIDE,    42,  1,     30,2,20020625,1345, 54.3870, -25.8280, 3099,      5.9,  10.6150,  35.1250,2,  35.1240,2,    280.3,2,    281.7,2,     1.21,2,     6.40,2,     0.42,2,   2316.2,2,   7.9030,2,    25.00,  10.6143