BOTTLE,20140820PRINUNIVRMK
EXPOCODE,SECT_ID,STNNBR,CASTNO,BTLNBR,BTLNBR_FLAG_W,DATE,TIME,LATITUDE,LONGITUDE,DEPTH,CTDPRS,CTDTMP,CTDSAL,CTDSAL_FLAG_W,SALNTY,SALNTY_FLAG_W,CTDOXY,CTDOXY_FLAG_W,OXYGEN,OXYGEN_FLAG_W,SILCAT,SILCAT_FLAG_W,NITRAT,NITRAT_FLAG_W,PHSPHT,PHSPHT_FLAG_W,ALKALI,ALKALI_FLAG_W,PH_SWS,PH_SWS_FLAG_W,PH_TMP,THETA
,,,,,,,,,,METERS,DBAR,ITS-90,PSS-78,,PSS-78,,UMOL/KG,,UMOL/KG,,UMOL/KG,,UMOL/KG,,UMOL/KG,,UMOL/KG,,,,DEG C,DEG C
  35TH20020610, OVIDE,    83,  1,      3,2,20020709,1910, 40.5510, -12.6460, 5408,   5397.7,   2.5630,  34.8990,2,  34.9010,2,    244.3,2,    244.8,2,    46.79,2,    23.22,2,     1.36,2,   -999.0,9,   7.7340,2,    25.00,   2.0397
  35TH20020610, OVIDE,    83,  1,      4,2,20020709,1910, 40.5510, -12.6460, 5408,   4998.0,   2.5180,  34.8990,2,  34.8970,2,    244.8,2,    244.5,2,    46.79,2,    22.87,2,     1.36,2,   -999.0,9,   7.7330,2,    25.00,   2.0482
  35TH20020610, OVIDE,    83,  1,      5,2,20020709,1910, 40.5510, -12.6460, 5408,   4497.4,   2.4920,  34.9040,2,  34.9040,2,    245.6,2,    243.9,2,    45.68,2,    22.92,2,     1.34,2,   -999.0,9,   7.7320,2,    25.00,   2.0851
  35TH20020610, OVIDE,    83,  1,      6,2,20020709,1910, 40.5510, -12.6460, 5408,   3997.4,   2.5310,  34.9130,2,  34.9100,2,    245.1,2,    244.7,2,    43.45,2,    22.23,2,     1.30,2,   -999.0,9,   7.7320,2,    25.00,   2.1821
  35TH20020610, OVIDE,    83,  1,      7,2,20020709,1910, 40.5510, -12.6460, 5408,   3497.2,   2.6410,  34.9300,2,  34.9270,2,    246.7,2,    246.1,2,    39.55,2,    22.03,2,     1.28,2,   -999.0,9,   7.7350,2,    25.00,   2.3452
  35TH20020610, OVIDE,    83,  1,      8,2,20020709,1910, 40.5510, -12.6460, 5408,   3245.6,   2.7330,  34.9400,2,  34.9400,2,    248.0,2,    247.7,2,    36.32,2,    21.69,2,     1.26,2,   -999.0,9,   7.7360,2,    25.00,   2.4622
  35TH20020610, OVIDE,    83,  1,      9,2,20020709,1910, 40.5510, -12.6460, 5408,   2996.4,   2.8490,  34.9510,2,  34.9470,2,    249.3,2,    250.3,2,    33.75,2,    21.29,2,     1.24,2,   -999.0,9,   7.7370,2,    25.00,   2.6018
  35TH20020610, OVIDE,    83,  1,     10,2,20020709,1910, 40.5510, -12.6460, 5408,   2746.2,   3.0090,  34.9660,2,  34.9720,2,    251.1,2,    252.4,2,    28.41,3,    20.50,2,     1.18,2,   -999.0,9,   7.7390,2,    25.00,   2.7841
  35TH20020610, OVIDE,    83,  1,     11,2,20020709,1910, 40.5510, -12.6460, 5408,   2496.0,   3.2550,  34.9850,2,  34.9840,2,    254.7,2,    254.3,2,    25.73,2,    20.40,2,     1.16,2,   -999.0,9,   7.7400,2,    25.00,   3.0506
  35TH20020610, OVIDE,    83,  1,     12,2,20020709,1910, 40.5510, -12.6460, 5408,   2246.8,   3.6220,  35.0110,2,  35.0100,2,    256.0,2,    255.5,2,    21.28,2,    19.81,2,     1.10,2,   -999.0,9,   7.7410,2,    25.00,   3.4359
  35TH20020610, OVIDE,    83,  1,     13,2,20020709,1910, 40.5510, -12.6460, 5408,   1995.6,   4.0780,  35.0530,2,  35.0520,2,    257.7,2,    256.9,2,    15.74,2,    18.97,2,     1.05,2,   -999.0,9,   7.7400,2,    25.00,   3.9095
  35TH20020610, OVIDE,    83,  1,     14,2,20020709,1910, 40.5510, -12.6460, 5408,   1796.0,   4.5660,  35.1080,2,  35.1040,2,    254.5,2,    253.6,2,    13.61,2,    19.02,2,     1.06,2,   -999.0,9,   7.7420,2,    25.00,   4.4103
  35TH20020610, OVIDE,    83,  1,     15,2,20020709,1910, 40.5510, -12.6460, 5408,   1595.9,   5.6730,  35.2880,2,  35.2850,2,    238.3,2,    239.1,2,    12.71,2,    18.82,2,     1.04,2,   -999.0,9,   7.7450,2,    25.00,   5.5234
  35TH20020610, OVIDE,    83,  1,     16,2,20020709,1910, 40.5510, -12.6460, 5408,   1396.4,   7.7810,  35.6570,2,  35.6680,3,    212.5,2,    212.9,2,    11.50,2,    18.03,2,     0.97,2,   -999.0,9,   7.7670,2,    25.00,   7.6298
  35TH20020610, OVIDE,    83,  1,     17,2,20020709,1910, 40.5510, -12.6460, 5408,   1145.4,  10.1740,  36.0810,2,  36.0560,3,    190.8,2,    192.0,2,     9.85,2,    16.89,2,     0.88,2,   -999.0,9,   7.7910,2,    25.00,  10.0316
  35TH20020610, OVIDE,    83,  1,     18,2,20020709,1910, 40.5510, -12.6460, 5408,    997.0,  10.5300,  36.0410,2,  36.0400,2,    184.9,2,    184.9,2,     9.41,2,    16.94,2,     0.90,2,   -999.0,9,   7.7930,2,    25.00,  10.4045
  35TH20020610, OVIDE,    83,  1,     19,2,20020709,1910, 40.5510, -12.6460, 5408,    896.1,  10.8480,  36.0300,2,  36.0330,2,    184.2,2,    183.7,2,     8.93,2,    16.70,2,     0.90,2,   -999.0,9,   7.7960,2,    25.00,  10.7337
  35TH20020610, OVIDE,    83,  1,     20,2,20020709,1910, 40.5510, -12.6460, 5408,    796.3,  10.8400,  35.9230,2,  35.9440,3,    185.0,2,    185.0,2,     8.58,2,    17.04,2,     0.89,2,   -999.0,9,   7.7920,2,    25.00,  10.7390
  35TH20020610, OVIDE,    83,  1,     21,2,20020709,1910, 40.5510, -12.6460, 5408,    696.3,  10.7330,  35.7680,2,  35.7710,2,    187.6,2,    185.9,2,     8.24,2,    17.54,2,     0.92,2,   -999.0,9,   7.7830,2,    25.00,  10.6458
  35TH20020610, OVIDE,    83,  1,     22,2,20020709,1910, 40.5510, -12.6460, 5408,    596.3,  10.8560,  35.6470,2,  35.6530,2,    192.6,2,    193.1,2,     7.38,2,    16.95,2,     0.90,2,   -999.0,9,   7.7830,2,    25.00,  10.7812
  35TH20020610, OVIDE,    83,  1,     23,2,20020709,1910, 40.5510, -12.6460, 5408,    496.9,  11.0280,  35.5740,2,  35.5710,2,    203.2,2,    199.7,2,     6.32,2,    16.11,2,     0.83,2,   -999.0,9,   7.7870,2,    25.00,  10.9654
  35TH20020610, OVIDE,    83,  1,     24,2,20020709,1910, 40.5510, -12.6460, 5408,    395.5,  11.2900,  35.5650,2,  35.5640,2,    214.4,2,    211.2,2,     5.26,2,    14.68,2,     0.75,2,   -999.0,9,   7.8040,2,    25.00,  11.2397
  35TH20020610, OVIDE,    83,  1,     25,2,20020709,1910, 40.5510, -12.6460, 5408,    297.1,  11.8070,  35.6120,2,  35.6110,2,    220.7,2,    218.5,2,     4.33,2,    12.91,2,     0.64,2,   -999.0,9,   7.8250,2,    25.00,  11.7682
  35TH20020610, OVIDE,    83,  1,     26,2,20020709,1910, 40.5510, -12.6460, 5408,    196.9,  12.2870,  35.6470,2,  35.6450,2,    229.6,2,    224.5,2,     3.74,2,    11.48,2,     0.58,2,   -999.0,9,   7.8440,2,    25.00,  12.2607
  35TH20020610, OVIDE,    83,  1,     27,2,20020709,1910, 40.5510, -12.6460, 5408,    147.5,  12.9810,  35.7290,2,  35.7290,2,    239.6,2,    236.3,2,     2.51,2,     7.71,2,     0.42,2,   -999.0,9,   7.8850,2,    25.00,  12.9606
  35TH20020610, OVIDE,    83,  1,     28,2,20020709,1910, 40.5510, -12.6460, 5408,     96.1,  13.5560,  35.8110,2,  35.8110,2,    237.6,2,    239.7,2,     1.51,2,     5.43,2,     0.27,2,   -999.0,9,   7.9100,2,    25.00,  13.5424
  35TH20020610, OVIDE,    83,  1,     29,2,20020709,1910, 40.5510, -12.6460, 5408,     45.9,  15.7020,  35.9200,2,  35.9190,2,    247.9,2,    250.6,2,     0.96,2,     0.07,2,     0.16,2,   -999.0,9,   7.9670,2,    25.00,  15.6948
  35TH20020610, OVIDE,    83,  1,     30,2,20020709,1910, 40.5510, -12.6460, 5408,      4.5,  17.8370,  35.9480,2,  35.9480,2,    232.1,2,    242.9,3,     1.10,2,     0.07,2,     0.04,2,   -999.0,9,   7.9840,2,    25.00,  17.8362
  35TH20020610, OVIDE,    84,  1,      3,2,20020709,0103, 40.3330, -12.2200, 5358,   5347.7,   2.5570,  34.8990,2,  34.9000,2,    242.8,2,    240.8,2,    47.14,2,    23.02,2,     1.36,2,   2353.7,2,   7.7350,2,    25.00,   2.0405
  35TH20020610, OVIDE,    84,  1,      4,2,20020709,0103, 40.3330, -12.2200, 5358,   4996.8,   2.5200,  34.8990,2,  34.8990,2,    245.2,2,    244.0,2,    47.14,2,    23.32,2,     1.36,2,   2353.8,2,   7.7330,2,    25.00,   2.0502
  35TH20020610, OVIDE,    84,  1,      5,2,20020709,0103, 40.3330, -12.2200, 5358,   4496.5,   2.4960,  34.9040,2,  34.9020,2,    244.0,2,    242.6,2,    46.25,2,    22.95,2,     1.34,2,   2353.6,2,   7.7330,2,    25.00,   2.0891
  35TH20020610, OVIDE,    84,  1,      6,2,20020709,0103, 40.3330, -12.2200, 5358,   3995.3,   2.5080,  34.9120,2,  34.9110,2,    245.1,2,    244.3,2,    44.15,2,    22.74,2,     1.33,2,   2349.6,2,   7.7330,2,    25.00,   2.1599
  35TH20020610, OVIDE,    84,  1,      7,2,20020709,0103, 40.3330, -12.2200, 5358,   3496.8,   2.6080,  34.9260,2,  34.9270,2,    246.5,2,    245.4,2,    40.28,2,    22.20,2,     1.28,2,   2342.4,2,   7.7320,2,    25.00,   2.3131
  35TH20020610, OVIDE,    84,  1,      8,2,20020709,0103, 40.3330, -12.2200, 5358,   3246.6,   2.7010,  34.9370,2,  34.9510,3,    248.1,2,    254.2,3,    36.84,2,    21.93,2,     1.25,2,   2339.7,2,   7.7340,2,    25.00,   2.4308
  35TH20020610, OVIDE,    84,  1,      9,2,20020709,0103, 40.3330, -12.2200, 5358,   2995.1,   2.8420,  34.9510,2,  34.9500,2,    249.0,2,    250.3,2,    33.52,2,    21.72,2,     1.23,2,   2336.0,2,   7.7340,2,    25.00,   2.5951
  35TH20020610, OVIDE,    84,  1,     10,2,20020709,0103, 40.3330, -12.2200, 5358,   2745.7,   3.0080,  34.9630,2,  34.9630,2,    251.6,2,    250.9,2,    29.87,2,    20.54,2,     1.19,2,   2332.2,2,   7.7370,2,    25.00,   2.7832
  35TH20020610, OVIDE,    84,  1,     11,2,20020709,0103, 40.3330, -12.2200, 5358,   2496.5,   3.1930,  34.9790,2,  34.9820,2,    253.9,2,    252.3,2,    26.44,2,    20.32,2,     1.16,2,   2327.4,2,   7.7380,2,    25.00,   2.9897
  35TH20020610, OVIDE,    84,  1,     12,2,20020709,0103, 40.3330, -12.2200, 5358,   2116.7,   3.7240,  35.0160,2,  35.0180,2,    257.8,2,    256.1,2,    19.36,2,    19.03,2,     1.10,2,   2321.6,2,   7.7390,2,    25.00,   3.5490
  35TH20020610, OVIDE,    84,  1,     13,2,20020709,0103, 40.3330, -12.2200, 5358,   1996.3,   3.9010,  35.0320,2,  35.0320,2,    256.7,2,    257.3,2,    16.45,2,    18.87,2,     1.08,2,   2316.8,2,   7.7390,2,    25.00,   3.7351
  35TH20020610, OVIDE,    84,  1,     14,2,20020709,0103, 40.3330, -12.2200, 5358,   1795.8,   4.2870,  35.0680,2,  35.0680,2,    255.2,2,    256.0,2,    14.22,2,    18.66,2,     1.06,2,   2318.4,2,   7.7380,2,    25.00,   4.1351
  35TH20020610, OVIDE,    84,  1,     15,2,20020709,0103, 40.3330, -12.2200, 5358,   1595.1,   5.7310,  35.3010,2,  35.3000,2,    237.7,2,    236.4,2,    12.75,2,    18.60,2,     1.03,2,   2334.1,2,   7.7450,2,    25.00,   5.5808
  35TH20020610, OVIDE,    84,  1,     16,2,20020709,0103, 40.3330, -12.2200, 5358,   1395.4,   7.8850,  35.6720,2,  35.6690,2,    211.4,2,    212.0,2,    11.32,2,    17.90,2,     0.95,2,   2356.6,2,   7.7640,2,    25.00,   7.7329
  35TH20020610, OVIDE,    84,  1,     17,2,20020709,0103, 40.3330, -12.2200, 5358,   1196.0,  10.1140,  36.0650,2,  36.0640,2,    190.8,2,    189.9,2,     9.96,2,    16.66,2,     0.88,2,   2383.8,2,   7.7890,2,    25.00,   9.9655
  35TH20020610, OVIDE,    84,  1,     18,2,20020709,0103, 40.3330, -12.2200, 5358,   1056.0,   9.9040,  35.8980,2,  35.8990,2,    187.0,2,    188.3,2,     9.96,3,    17.58,3,     0.93,3,   2370.8,2,   7.7800,2,    25.00,   9.7755
  35TH20020610, OVIDE,    84,  1,     19,2,20020709,0103, 40.3330, -12.2200, 5358,    947.1,  10.6010,  35.9800,2,  35.9850,2,    183.0,2,    184.0,2,     9.33,2,    16.93,2,     0.88,2,   2375.2,2,   7.7890,2,    25.00,  10.4816
  35TH20020610, OVIDE,    84,  1,     20,2,20020709,0103, 40.3330, -12.2200, 5358,    796.5,  10.8500,  35.8670,2,  35.8720,2,    187.1,2,    184.6,2,     8.53,2,    16.88,2,     0.90,2,   2365.0,2,   7.7880,2,    25.00,  10.7490
  35TH20020610, OVIDE,    84,  1,     21,2,20020709,0103, 40.3330, -12.2200, 5358,    696.2,  10.9800,  35.7650,2,  35.7760,3,    186.9,2,    186.5,2,     7.94,2,    16.61,2,     0.88,2,   2356.7,2,   7.7860,2,    25.00,  10.8916
  35TH20020610, OVIDE,    84,  1,     22,2,20020709,0103, 40.3330, -12.2200, 5358,    597.2,  11.0550,  35.6620,2,  35.6590,2,    195.4,2,    192.5,2,     7.18,2,    16.13,2,     0.85,2,   2346.7,2,   7.7850,2,    25.00,  10.9792
  35TH20020610, OVIDE,    84,  1,     23,2,20020709,0103, 40.3330, -12.2200, 5358,    496.4,  11.1590,  35.5870,2,  35.5900,2,    207.3,2,    201.2,3,     6.10,2,    15.33,2,     0.78,2,   2340.3,2,   7.7900,2,    25.00,  11.0960
  35TH20020610, OVIDE,    84,  1,     24,2,20020709,0103, 40.3330, -12.2200, 5358,    396.6,  11.4490,  35.5610,2,  35.5600,2,    216.3,2,    212.6,2,     5.23,2,    13.77,2,     0.69,2,   2337.8,2,   7.8100,2,    25.00,  11.3981
  35TH20020610, OVIDE,    84,  1,     25,2,20020709,0103, 40.3330, -12.2200, 5358,    296.5,  12.0980,  35.6360,2,  35.6330,2,    221.6,2,    217.4,2,     4.32,2,    12.00,2,     0.60,2,   2340.8,2,   7.8320,2,    25.00,  12.0587
  35TH20020610, OVIDE,    84,  1,     26,2,20020709,0103, 40.3330, -12.2200, 5358,    197.0,  12.6720,  35.6950,2,  35.6960,2,    233.3,2,    225.0,3,     3.62,2,    10.24,2,     0.48,2,   2342.2,2,   7.8570,2,    25.00,  12.6452
  35TH20020610, OVIDE,    84,  1,     27,2,20020709,0103, 40.3330, -12.2200, 5358,    146.1,  13.1450,  35.7600,2,  35.7570,2,    238.1,2,    238.2,2,     2.26,2,     6.27,2,     0.32,2,   2347.0,2,   7.8930,2,    25.00,  13.1246
  35TH20020610, OVIDE,    84,  1,     28,2,20020709,0103, 40.3330, -12.2200, 5358,     96.7,  13.7390,  35.8220,2,  35.8230,2,    235.7,2,    238.2,2,     1.53,2,     4.19,2,     0.22,2,   2350.9,2,   7.9140,2,    25.00,  13.7251
  35TH20020610, OVIDE,    84,  1,     29,2,20020709,0103, 40.3330, -12.2200, 5358,     46.6,  17.1430,  35.9320,2,  35.9300,2,    250.6,2,    244.8,3,     1.18,2,     0.00,2,     0.04,2,   2358.4,2,   7.9790,2,    25.00,  17.1352
  35TH20020610, OVIDE,    84,  1,     30,2,20020709,0103, 40.3330, -12.2200, 5358,      2.9,  17.8030,  35.9380,2,  35.9390,2,    230.9,2,    241.9,3,     1.22,2,     0.06,2,     0.04,2,   2359.6,2,   7.9830,2,    25.00,  17.8025
  35TH20020610, OVIDE,    85,  1,      3,2,20020709,0637, 40.3340, -11.7790, 5314,   5303.8,   2.5500,  34.8990,2,  34.8960,2,    244.7,2,    244.8,2,    46.47,2,    23.12,2,     1.33,2,   -999.0,9,   7.7300,2,    25.00,   2.0396
  35TH20020610, OVIDE,    85,  1,      4,2,20020709,0637, 40.3340, -11.7790, 5314,   4998.3,   2.5150,  34.8990,2,  34.8970,2,    245.1,2,    245.6,2,    46.69,2,    22.96,2,     1.39,3,   -999.0,9,   7.7330,2,    25.00,   2.0452
  35TH20020610, OVIDE,    85,  1,      5,2,20020709,0637, 40.3340, -11.7790, 5314,   4496.6,   2.4850,  34.9020,2,  34.9010,2,    245.2,2,    245.0,2,    45.70,2,    22.44,3,     1.32,2,   -999.0,9,   7.7330,2,    25.00,   2.0785
  35TH20020610, OVIDE,    85,  1,      6,2,20020709,0637, 40.3340, -11.7790, 5314,   3997.8,   2.5240,  34.9130,2,  34.9100,2,    245.3,2,    244.2,2,    43.26,2,    22.49,2,     1.20,3,   -999.0,9,   7.7320,2,    25.00,   2.1752
  35TH20020610, OVIDE,    85,  1,      7,2,20020709,0637, 40.3340, -11.7790, 5314,   3497.7,   2.6250,  34.9280,2,  34.9250,2,    246.3,2,    245.8,2,    39.50,2,    22.39,2,     1.33,3,   -999.0,9,   7.7340,2,    25.00,   2.3296
  35TH20020610, OVIDE,    85,  1,      8,2,20020709,0637, 40.3340, -11.7790, 5314,   3245.3,   2.7110,  34.9380,2,  34.9400,2,    247.3,2,    247.6,2,    36.51,2,    22.13,2,     1.32,3,   -999.0,9,   7.7340,2,    25.00,   2.4407
  35TH20020610, OVIDE,    85,  1,      9,2,20020709,0637, 40.3340, -11.7790, 5314,   2996.2,   2.8370,  34.9510,2,  34.9500,2,    248.4,2,    248.6,2,    33.97,2,    20.51,2,     1.23,2,   -999.0,9,   7.7360,2,    25.00,   2.5901
  35TH20020610, OVIDE,    85,  1,     10,2,20020709,0637, 40.3340, -11.7790, 5314,   2745.7,   3.0040,  34.9670,2,  34.9650,2,    249.9,2,    250.1,2,    30.65,2,    20.20,2,     1.18,2,   -999.0,9,   7.7380,2,    25.00,   2.7793
  35TH20020610, OVIDE,    85,  1,     11,2,20020709,0637, 40.3340, -11.7790, 5314,   2496.5,   3.2850,  34.9940,2,  34.9920,2,    250.7,2,    253.3,2,    26.55,2,    19.93,2,     1.20,2,   -999.0,9,   7.7400,2,    25.00,   3.0800
  35TH20020610, OVIDE,    85,  1,     12,2,20020709,0637, 40.3340, -11.7790, 5314,   2245.2,   3.6200,  35.0220,2,  35.0230,2,    253.0,2,    253.9,2,    21.46,2,    19.67,2,     1.16,2,   -999.0,9,   7.7410,2,    25.00,   3.4340
  35TH20020610, OVIDE,    85,  1,     13,2,20020709,0637, 40.3340, -11.7790, 5314,   1995.3,   4.0620,  35.0640,2,  35.0620,2,    256.3,2,    253.7,2,  -999.00,9,    18.94,2,     1.03,2,   -999.0,9,   7.7410,2,    25.00,   3.8937
  35TH20020610, OVIDE,    85,  1,     14,2,20020709,0637, 40.3340, -11.7790, 5314,   1794.4,   4.4800,  35.1010,2,  35.1020,2,    254.2,2,    253.1,2,    13.65,2,    18.58,2,     1.02,2,   -999.0,9,   7.7390,2,    25.00,   4.3256
  35TH20020610, OVIDE,    85,  1,     15,2,20020709,0637, 40.3340, -11.7790, 5314,   1595.0,   5.4200,  35.2420,2,  35.2810,3,    240.7,2,    238.3,2,    12.62,2,    18.68,2,     1.05,2,   -999.0,9,   7.7440,2,    25.00,   5.2735
  35TH20020610, OVIDE,    85,  1,     16,2,20020709,0637, 40.3340, -11.7790, 5314,   1345.1,   8.4150,  35.7790,2,  35.7760,2,    205.5,2,    206.5,2,    10.99,2,    17.16,2,     0.91,2,   -999.0,9,   7.7710,2,    25.00,   8.2635
  35TH20020610, OVIDE,    85,  1,     17,2,20020709,0637, 40.3340, -11.7790, 5314,   1195.4,   8.8910,  35.7710,2,  35.7680,2,    198.4,2,    200.4,2,    10.48,2,    17.89,2,     0.96,3,   -999.0,9,   7.7670,2,    25.00,   8.7534
  35TH20020610, OVIDE,    85,  1,     18,2,20020709,0637, 40.3340, -11.7790, 5314,   1046.6,   9.7680,  35.8550,2,  35.8530,2,    187.8,2,    189.3,2,     9.89,2,    17.84,2,     0.89,2,   -999.0,9,   7.7750,2,    25.00,   9.6418
  35TH20020610, OVIDE,    85,  1,     19,2,20020709,0637, 40.3340, -11.7790, 5314,    896.0,  10.1080,  35.7950,2,  35.7950,2,    186.1,2,    178.2,3,     9.44,2,    17.73,2,     0.91,2,   -999.0,9,   7.7750,2,    25.00,   9.9987
  35TH20020610, OVIDE,    85,  1,     20,2,20020709,0637, 40.3340, -11.7790, 5314,    826.6,  10.5080,  35.8260,2,  35.8230,2,    185.8,2,    184.7,2,     8.99,2,    18.04,2,     0.95,3,   -999.0,9,   7.7780,2,    25.00,  10.4051
  35TH20020610, OVIDE,    85,  1,     21,2,20020709,0637, 40.3340, -11.7790, 5314,    695.2,  10.8850,  35.7430,2,  35.7420,2,    190.7,2,   -999.0,9,     7.89,2,    17.16,2,     0.86,3,   -999.0,9,   7.7820,2,    25.00,  10.7972
  35TH20020610, OVIDE,    85,  1,     22,2,20020709,0637, 40.3340, -11.7790, 5314,    596.6,  10.8990,  35.6130,2,  35.6170,2,    194.5,2,    194.8,2,     7.10,2,    16.95,2,     0.88,2,   -999.0,9,   7.7810,2,    25.00,  10.8240
  35TH20020610, OVIDE,    85,  1,     23,2,20020709,0637, 40.3340, -11.7790, 5314,    496.4,  11.2270,  35.5680,2,  35.5660,2,    203.6,2,    207.2,2,     5.65,2,    15.18,2,     0.80,2,   -999.0,9,   7.7950,2,    25.00,  11.1638
  35TH20020610, OVIDE,    85,  1,     24,2,20020709,0637, 40.3340, -11.7790, 5314,    396.4,  11.7190,  35.5960,2,  35.5940,2,    217.2,2,    219.9,2,     4.38,2,    12.78,2,     0.64,2,   -999.0,9,   7.8230,2,    25.00,  11.6673
  35TH20020610, OVIDE,    85,  1,     25,2,20020709,0637, 40.3340, -11.7790, 5314,    296.9,  12.2580,  35.6520,2,  35.6520,2,    223.0,2,    222.9,2,     3.86,2,    11.53,2,     0.57,2,   -999.0,9,   7.8430,2,    25.00,  12.2183
  35TH20020610, OVIDE,    85,  1,     26,2,20020709,0637, 40.3340, -11.7790, 5314,    196.7,  13.2590,  35.7780,2,  35.7750,2,    223.3,2,    234.8,3,     2.45,2,     7.38,2,     0.36,2,   -999.0,9,   7.8910,2,    25.00,  13.2314
  35TH20020610, OVIDE,    85,  1,     27,2,20020709,0637, 40.3340, -11.7790, 5314,    146.2,  13.6910,  35.8540,2,  35.8470,3,    236.3,2,    242.9,3,     2.07,2,     5.84,2,     0.28,2,   -999.0,9,   7.9080,2,    25.00,  13.6701
  35TH20020610, OVIDE,    85,  1,     28,2,20020709,0637, 40.3340, -11.7790, 5314,     96.3,  14.0570,  35.9080,2,  35.8990,3,    238.9,2,    237.5,2,     1.96,2,     5.65,2,     0.26,2,   -999.0,9,   7.9130,2,    25.00,  14.0430
  35TH20020610, OVIDE,    85,  1,     29,2,20020709,0637, 40.3340, -11.7790, 5314,     45.9,  17.3380,  35.9950,2,  35.9910,2,    240.7,2,    243.2,2,     1.21,2,     0.13,2,     0.10,2,   -999.0,9,   7.9800,2,    25.00,  17.3303
  35TH20020610, OVIDE,    85,  1,     30,2,20020709,0637, 40.3340, -11.7790, 5314,      7.7,  17.7160,  35.8470,2,  35.8490,2,    233.4,2,    243.3,3,     1.17,2,     0.06,2,     0.07,2,   -999.0,9,   7.9830,2,    25.00,  17.7147