BOTTLE,20140820PRINUNIVRMK
EXPOCODE,SECT_ID,STNNBR,CASTNO,BTLNBR,BTLNBR_FLAG_W,DATE,TIME,LATITUDE,LONGITUDE,DEPTH,CTDPRS,CTDTMP,CTDSAL,CTDSAL_FLAG_W,SALNTY,SALNTY_FLAG_W,CTDOXY,CTDOXY_FLAG_W,OXYGEN,OXYGEN_FLAG_W,SILCAT,SILCAT_FLAG_W,NITRAT,NITRAT_FLAG_W,PHSPHT,PHSPHT_FLAG_W,ALKALI,ALKALI_FLAG_W,PH_SWS,PH_SWS_FLAG_W,PH_TMP,THETA
,,,,,,,,,,METERS,DBAR,ITS-90,PSS-78,,PSS-78,,UMOL/KG,,UMOL/KG,,UMOL/KG,,UMOL/KG,,UMOL/KG,,UMOL/KG,,,,DEG C,DEG C
  35TH20020610, OVIDE,    49,  1,      3,2,20020627,0040, 51.7730, -23.7770, 3916,   3906.0,   2.6350,  34.9230,2,  34.9230,2,    244.5,2,    245.7,2,    41.89,2,    22.56,2,     1.34,2,   -999.0,9,   7.7260,2,    25.00,   2.2936
  35TH20020610, OVIDE,    49,  1,      4,2,20020627,0040, 51.7730, -23.7770, 3916,   3797.8,   2.6280,  34.9240,2,  34.9230,2,    245.5,2,    248.2,2,    40.94,2,    22.24,2,     1.37,3,   -999.0,9,   7.7270,2,    25.00,   2.2991
  35TH20020610, OVIDE,    49,  1,      5,2,20020627,0040, 51.7730, -23.7770, 3916,   3598.1,   2.6640,  34.9290,2,  34.9290,2,    249.7,2,    250.1,2,    37.84,2,    21.44,2,     1.24,2,   -999.0,9,   7.7270,2,    25.00,   2.3566
  35TH20020610, OVIDE,    49,  1,      6,2,20020627,0040, 51.7730, -23.7770, 3916,   3396.7,   2.7440,  34.9410,2,  34.9410,2,    257.7,2,    258.6,2,    29.87,2,    20.00,2,     1.16,2,   -999.0,9,-999.0000,9,  -999.00,   2.4566
  35TH20020610, OVIDE,    49,  1,      7,2,20020627,0040, 51.7730, -23.7770, 3916,   3195.8,   2.8120,  34.9460,2,  34.9460,2,    264.1,2,    266.9,2,    24.87,2,    19.20,2,     1.11,2,   -999.0,9,   7.7260,2,    25.00,   2.5446
  35TH20020610, OVIDE,    49,  1,      8,2,20020627,0040, 51.7730, -23.7770, 3916,   2996.2,   2.9060,  34.9500,2,  34.9490,2,    267.3,2,    269.2,2,    20.35,2,    18.40,2,     1.06,2,   -999.0,9,   7.7300,2,    25.00,   2.6576
  35TH20020610, OVIDE,    49,  1,      9,2,20020627,0040, 51.7730, -23.7770, 3916,   2797.8,   2.9980,  34.9480,2,  34.9480,2,    270.7,2,    271.9,2,    17.38,2,    17.97,2,     1.04,2,   -999.0,9,   7.7290,2,    25.00,   2.7682
  35TH20020610, OVIDE,    49,  1,     10,2,20020627,0040, 51.7730, -23.7770, 3916,   2596.1,   3.0660,  34.9380,2,  34.9380,2,    273.2,2,    275.2,2,    13.53,2,    17.81,2,     1.03,2,   -999.0,9,   7.7300,2,    25.00,   2.8553
  35TH20020610, OVIDE,    49,  1,     11,2,20020627,0040, 51.7730, -23.7770, 3916,   2395.7,   3.0900,  34.9210,2,  34.9260,2,    276.0,2,    278.6,2,    12.17,2,    17.92,2,     1.03,2,   -999.0,9,   7.7290,2,    25.00,   2.8987
  35TH20020610, OVIDE,    49,  1,     12,2,20020627,0040, 51.7730, -23.7770, 3916,   2195.6,   3.1350,  34.9070,2,  34.9070,2,    280.0,2,    281.9,2,    11.47,2,    17.55,2,     1.03,2,   -999.0,9,   7.7290,2,    25.00,   2.9622
  35TH20020610, OVIDE,    49,  1,     13,2,20020627,0040, 51.7730, -23.7770, 3916,   1995.6,   3.1590,  34.8930,2,  34.8940,2,    282.5,2,    283.9,2,    11.09,2,    17.92,2,     1.03,2,   -999.0,9,   7.7300,2,    25.00,   3.0046
  35TH20020610, OVIDE,    49,  1,     14,2,20020627,0040, 51.7730, -23.7770, 3916,   1796.4,   3.2310,  34.8870,2,  34.8880,2,    281.8,2,    284.0,2,    10.96,2,    18.13,2,     1.03,2,   -999.0,9,   7.7270,2,    25.00,   3.0937
  35TH20020610, OVIDE,    49,  1,     15,2,20020627,0040, 51.7730, -23.7770, 3916,   1594.3,   3.3430,  34.8920,2,  34.8910,2,    280.0,2,    282.1,2,    10.84,2,    18.18,2,     1.03,2,   -999.0,9,   7.7230,2,    25.00,   3.2222
  35TH20020610, OVIDE,    49,  1,     16,2,20020627,0040, 51.7730, -23.7770, 3916,   1393.4,   3.5020,  34.8990,2,  34.8990,2,    275.7,2,    277.3,2,    11.03,2,    18.34,2,     1.03,2,   -999.0,9,-999.0000,9,  -999.00,   3.3968
  35TH20020610, OVIDE,    49,  1,     17,2,20020627,0040, 51.7730, -23.7770, 3916,   1195.0,   3.7210,  34.9130,2,  34.9130,2,    270.4,2,    272.6,2,    10.80,2,    18.82,2,     1.06,2,   -999.0,9,   7.7180,2,    25.00,   3.6306
  35TH20020610, OVIDE,    49,  1,     18,2,20020627,0040, 51.7730, -23.7770, 3916,    995.4,   3.9590,  34.9230,2,  34.9230,2,    266.0,2,    268.9,2,    10.77,2,    18.98,2,     1.06,2,   -999.0,9,   7.7180,2,    25.00,   3.8833
  35TH20020610, OVIDE,    49,  1,     19,2,20020627,0040, 51.7730, -23.7770, 3916,    897.8,   4.1700,  34.9370,2,  34.9380,2,    262.3,2,    262.7,2,    10.77,2,    18.61,3,     1.06,2,   -999.0,9,   7.7150,2,    25.00,   4.1009
  35TH20020610, OVIDE,    49,  1,     20,2,20020627,0040, 51.7730, -23.7770, 3916,    795.4,   4.5250,  34.9690,2,  34.9650,2,    250.3,2,    254.5,2,    10.99,2,    19.25,2,     1.08,2,   -999.0,9,   7.7140,2,    25.00,   4.4622
  35TH20020610, OVIDE,    49,  1,     21,2,20020627,0040, 51.7730, -23.7770, 3916,    696.4,   4.7960,  34.9770,2,  34.9750,2,    245.9,2,    248.3,2,    11.09,2,    19.36,2,     1.09,2,   -999.0,9,   7.7130,2,    25.00,   4.7401
  35TH20020610, OVIDE,    49,  1,     22,2,20020627,0040, 51.7730, -23.7770, 3916,    595.5,   5.1830,  34.9800,2,  34.9790,2,    238.0,2,    238.1,2,    11.85,3,    19.78,2,     1.10,3,   -999.0,9,   7.7070,2,    25.00,   5.1338
  35TH20020610, OVIDE,    49,  1,     23,2,20020627,0040, 51.7730, -23.7770, 3916,    496.2,   5.9020,  34.9950,2,  35.0010,3,    222.6,2,    221.6,2,    11.47,3,    20.32,2,     1.12,3,   -999.0,9,   7.7030,2,    25.00,   5.8586
  35TH20020610, OVIDE,    49,  1,     24,2,20020627,0040, 51.7730, -23.7770, 3916,    395.9,   6.5360,  34.9540,2,  34.9540,2,    208.4,2,    209.1,2,    11.22,3,    20.85,3,     1.15,3,   -999.0,9,   7.6980,2,    25.00,   6.4998
  35TH20020610, OVIDE,    49,  1,     25,2,20020627,0040, 51.7730, -23.7770, 3916,    297.5,   7.5290,  34.9620,2,  34.9540,3,    232.3,2,    231.1,2,     9.25,2,    17.70,2,     0.99,2,   -999.0,9,   7.7370,2,    25.00,   7.4997
  35TH20020610, OVIDE,    49,  1,     26,2,20020627,0040, 51.7730, -23.7770, 3916,    197.3,   8.4310,  35.0500,2,  35.0500,2,    259.1,2,    259.0,2,     6.84,2,    14.77,2,     0.79,2,   -999.0,9,   7.7880,2,    25.00,   8.4104
  35TH20020610, OVIDE,    49,  1,     27,2,20020627,0040, 51.7730, -23.7770, 3916,    147.7,   9.0950,  35.1470,2,  35.1430,2,    263.2,2,    262.1,2,     6.15,2,    13.60,2,     0.73,2,   -999.0,9,   7.8060,2,    25.00,   9.0789
  35TH20020610, OVIDE,    49,  1,     28,2,20020627,0040, 51.7730, -23.7770, 3916,     97.7,   9.8200,  35.1960,2,  35.1900,3,    260.1,2,    264.7,2,     4.06,2,    11.20,2,     0.62,2,   -999.0,9,   7.8370,2,    25.00,   9.8088
  35TH20020610, OVIDE,    49,  1,     29,2,20020627,0040, 51.7730, -23.7770, 3916,     47.6,  10.3260,  35.1790,2,  35.1820,2,    268.7,2,    272.2,2,     1.01,2,     7.43,2,     0.46,2,   -999.0,9,   7.8830,2,    25.00,  10.3204
  35TH20020610, OVIDE,    49,  1,     30,2,20020627,0040, 51.7730, -23.7770, 3916,      5.3,  11.6460,  35.1780,2,  35.1790,2,    281.5,2,    287.2,2,     0.57,2,     4.32,2,     0.24,2,   -999.0,9,   7.9350,2,    25.00,  11.6453
  35TH20020610, OVIDE,    50,  1,      3,2,20020627,0607, 51.4010, -23.4850, 3307,   3297.1,   2.6850,  34.9350,2,  34.9350,2,    253.3,2,    253.4,2,    32.27,2,    20.70,2,     1.21,2,   2331.6,2,   7.7250,2,    25.00,   2.4098
  35TH20020610, OVIDE,    50,  1,      4,2,20020627,0607, 51.4010, -23.4850, 3307,   3196.1,   2.7460,  34.9410,2,  34.9410,2,    258.6,2,    259.0,2,    28.50,2,    20.38,2,     1.16,2,   2325.1,2,   7.7270,2,    25.00,   2.4801
  35TH20020610, OVIDE,    50,  1,      5,2,20020627,0607, 51.4010, -23.4850, 3307,   2995.3,   2.8090,  34.9450,2,  34.9440,2,    261.2,2,    261.8,2,    25.40,2,    19.41,2,     1.12,2,   2322.0,2,   7.7290,2,    25.00,   2.5628
  35TH20020610, OVIDE,    50,  1,      6,2,20020627,0607, 51.4010, -23.4850, 3307,   2895.7,   2.8910,  34.9460,2,  34.9460,2,    263.1,2,    264.1,2,    22.73,2,    18.98,2,     1.10,2,   2317.2,2,   7.7290,2,    25.00,   2.6533
  35TH20020610, OVIDE,    50,  1,      7,2,20020627,0607, 51.4010, -23.4850, 3307,   2795.0,   2.9490,  34.9460,2,  34.9470,2,    266.1,2,    267.2,2,    20.52,2,    18.44,2,     1.08,2,   2314.4,2,   7.7300,2,    25.00,   2.7204
  35TH20020610, OVIDE,    50,  1,      8,2,20020627,0607, 51.4010, -23.4850, 3307,   2696.3,   2.9930,  34.9430,2,  34.9440,2,    267.2,2,    268.8,2,    19.18,2,    18.23,2,     1.04,2,   2311.9,2,   7.7320,2,    25.00,   2.7736
  35TH20020610, OVIDE,    50,  1,      9,2,20020627,0607, 51.4010, -23.4850, 3307,   2595.7,   3.0520,  34.9390,2,  34.9390,2,    270.3,2,    271.1,2,    17.52,2,    17.80,2,     1.03,2,   2309.0,2,   7.7290,2,    25.00,   2.8416
  35TH20020610, OVIDE,    50,  1,     10,2,20020627,0607, 51.4010, -23.4850, 3307,   2397.0,   3.1250,  34.9260,2,  34.9260,2,    273.7,2,    275.5,2,    14.64,2,    17.91,2,     1.03,2,   2306.0,2,   7.7290,2,    25.00,   2.9329
  35TH20020610, OVIDE,    50,  1,     11,2,20020627,0607, 51.4010, -23.4850, 3307,   2196.5,   3.1780,  34.9060,2,  34.9080,2,    278.3,2,    280.7,2,    13.20,2,    17.48,2,     0.99,3,   2303.9,2,   7.7300,2,    25.00,   3.0044
  35TH20020610, OVIDE,    50,  1,     12,2,20020627,0607, 51.4010, -23.4850, 3307,   1995.6,   3.1980,  34.8940,2,  34.8970,2,    281.6,2,    282.6,2,    12.20,2,    17.70,2,     1.00,3,   2301.1,2,   7.7280,2,    25.00,   3.0430
  35TH20020610, OVIDE,    50,  1,     13,2,20020627,0607, 51.4010, -23.4850, 3307,   1795.1,   3.2590,  34.8880,2,  34.8910,2,    282.7,2,    282.8,2,  -999.00,9,  -999.00,9,     1.04,2,   2300.3,2,   7.7260,2,    25.00,   3.1215
  35TH20020610, OVIDE,    50,  1,     14,2,20020627,0607, 51.4010, -23.4850, 3307,   1595.4,   3.4630,  34.8990,2,  34.9010,2,    277.5,2,    277.5,2,  -999.00,9,  -999.00,9,     1.03,2,   2300.6,2,   7.7240,2,    25.00,   3.3407
  35TH20020610, OVIDE,    50,  1,     15,2,20020627,0607, 51.4010, -23.4850, 3307,   1395.4,   3.6110,  34.9040,2,  34.9050,2,    273.3,2,    275.1,2,  -999.00,9,  -999.00,9,     1.04,2,   2300.9,2,   7.7210,2,    25.00,   3.5045
  35TH20020610, OVIDE,    50,  1,     16,2,20020627,0607, 51.4010, -23.4850, 3307,   1196.1,   3.7720,  34.9030,2,  34.9030,2,    274.0,2,    274.1,2,  -999.00,9,  -999.00,9,     1.00,3,   2301.6,2,   7.7200,2,    25.00,   3.6810
  35TH20020610, OVIDE,    50,  1,     17,2,20020627,0607, 51.4010, -23.4850, 3307,    995.5,   4.0530,  34.9140,2,  34.9130,2,    265.1,2,    268.3,2,  -999.00,9,  -999.00,9,     1.04,2,   2302.3,2,   7.7150,2,    25.00,   3.9766
  35TH20020610, OVIDE,    50,  1,     18,2,20020627,0607, 51.4010, -23.4850, 3307,    995.4,   4.0540,  34.9140,2,  34.9130,2,    264.9,2,    269.5,2,  -999.00,9,  -999.00,9,     1.04,2,   2302.4,2,   7.7150,2,    25.00,   3.9776
  35TH20020610, OVIDE,    50,  1,     19,2,20020627,0607, 51.4010, -23.4850, 3307,    896.6,   4.2210,  34.9150,2,  34.9170,2,    262.4,2,    265.0,2,  -999.00,9,  -999.00,9,     1.05,2,   2302.6,2,   7.7140,2,    25.00,   4.1517
  35TH20020610, OVIDE,    50,  1,     20,2,20020627,0607, 51.4010, -23.4850, 3307,    795.8,   4.5860,  34.9400,2,  34.9410,2,    254.1,2,    255.5,2,  -999.00,9,  -999.00,9,     1.08,2,   2303.8,2,   7.7100,2,    25.00,   4.5228
  35TH20020610, OVIDE,    50,  1,     21,2,20020627,0607, 51.4010, -23.4850, 3307,    696.5,   5.1960,  34.9880,2,  34.9870,2,    237.6,2,    238.8,2,  -999.00,9,  -999.00,9,     1.11,2,   2307.9,2,   7.7070,2,    25.00,   5.1379
  35TH20020610, OVIDE,    50,  1,     22,2,20020627,0607, 51.4010, -23.4850, 3307,    596.5,   5.7500,  34.9880,2,  34.9900,2,    222.5,2,    224.6,2,  -999.00,9,  -999.00,9,     1.15,3,   2307.3,2,   7.7020,2,    25.00,   5.6981
  35TH20020610, OVIDE,    50,  1,     23,2,20020627,0607, 51.4010, -23.4850, 3307,    467.1,   7.0950,  35.0260,2,  35.0290,2,    201.4,2,    202.7,2,  -999.00,9,  -999.00,9,     1.16,3,   2306.3,2,   7.7010,2,    25.00,   7.0500
  35TH20020610, OVIDE,    50,  1,     24,2,20020627,0607, 51.4010, -23.4850, 3307,    396.3,   7.8170,  35.0200,2,  35.0100,3,    217.7,2,    212.7,2,  -999.00,9,  -999.00,9,     1.07,2,   2309.0,2,   7.7290,2,    25.00,   7.7769
  35TH20020610, OVIDE,    50,  1,     25,2,20020627,0607, 51.4010, -23.4850, 3307,    297.0,   8.6700,  35.0920,2,  35.0910,2,    255.3,2,    257.6,2,  -999.00,9,  -999.00,9,     0.80,2,   2313.7,2,   7.7940,2,    25.00,   8.6382
  35TH20020610, OVIDE,    50,  1,     26,2,20020627,0607, 51.4010, -23.4850, 3307,    195.9,   9.9130,  35.2800,2,  35.2780,2,    246.7,2,    244.1,2,  -999.00,9,  -999.00,9,     0.77,2,   2321.7,2,   7.8100,2,    25.00,   9.8903
  35TH20020610, OVIDE,    50,  1,     27,2,20020627,0607, 51.4010, -23.4850, 3307,    147.7,  10.3290,  35.3310,2,  35.3320,2,    241.6,2,    259.3,3,  -999.00,9,  -999.00,9,     0.60,2,   2324.3,2,   7.8500,2,    25.00,  10.3115
  35TH20020610, OVIDE,    50,  1,     28,2,20020627,0607, 51.4010, -23.4850, 3307,     96.7,  10.3760,  35.3250,2,  35.3260,2,    250.0,2,    259.0,3,  -999.00,9,  -999.00,9,     0.59,2,   2323.8,2,   7.8540,2,    25.00,  10.3645
  35TH20020610, OVIDE,    50,  1,     29,2,20020627,0607, 51.4010, -23.4850, 3307,     48.0,  10.9960,  35.3690,2,  35.3730,2,    273.2,2,    278.2,2,  -999.00,9,  -999.00,9,     0.45,2,   2329.2,2,   7.8920,2,    25.00,  10.9901
  35TH20020610, OVIDE,    50,  1,     30,2,20020627,0607, 51.4010, -23.4850, 3307,      8.9,  12.0020,  35.2850,2,  35.2850,2,    268.3,2,   -999.0,9,  -999.00,9,  -999.00,9,     0.42,2,   -999.0,9,   7.8790,3,    25.00,  12.0008
  35TH20020610, OVIDE,    51,  1,      3,2,20020627,1107, 51.0270, -23.1940, 3993,   3983.0,   2.6510,  34.9240,2,  34.9220,2,    244.3,2,    246.4,2,    41.32,2,    22.14,2,     1.32,2,   -999.0,9,   7.7280,2,    25.00,   2.3003
  35TH20020610, OVIDE,    51,  1,      4,2,20020627,1107, 51.0270, -23.1940, 3993,   3798.1,   2.6920,  34.9280,2,  34.9280,2,    249.3,2,   -999.0,9,    37.71,2,    20.78,2,     1.28,2,   -999.0,9,   7.7270,2,    25.00,   2.3614
  35TH20020610, OVIDE,    51,  1,      5,2,20020627,1107, 51.0270, -23.1940, 3993,   3596.3,   2.7210,  34.9340,2,  34.9330,2,    252.7,2,    252.9,2,    34.82,2,    20.72,2,     1.24,2,   -999.0,9,   7.7310,2,    25.00,   2.4123
  35TH20020610, OVIDE,    51,  1,      6,2,20020627,1107, 51.0270, -23.1940, 3993,   3396.3,   2.7760,  34.9390,2,  34.9370,2,    256.2,2,    258.0,2,    31.20,2,    20.10,2,     1.22,2,   -999.0,9,   7.7310,2,    25.00,   2.4879
  35TH20020610, OVIDE,    51,  1,      7,2,20020627,1107, 51.0270, -23.1940, 3993,   3194.8,   2.8570,  34.9440,2,  34.9430,2,    260.4,2,    271.7,3,    26.87,2,    19.36,2,     1.15,2,   -999.0,9,   7.7300,2,    25.00,   2.5887
  35TH20020610, OVIDE,    51,  1,      8,2,20020627,1107, 51.0270, -23.1940, 3993,   2996.5,   2.9410,  34.9440,2,  34.9450,2,    263.6,2,   -999.0,9,    23.49,2,    18.89,2,     1.13,2,   -999.0,9,   7.7300,2,    25.00,   2.6918
  35TH20020610, OVIDE,    51,  1,      9,2,20020627,1107, 51.0270, -23.1940, 3993,   2793.6,   3.0320,  34.9420,2,  34.9440,2,    269.3,2,    269.8,2,    19.20,2,    17.84,2,     1.06,2,   -999.0,9,   7.7300,2,    25.00,   2.8019
  35TH20020610, OVIDE,    51,  1,     10,2,20020627,1107, 51.0270, -23.1940, 3993,   2596.4,   3.1100,  34.9320,2,  34.9320,2,    272.6,2,    274.6,2,    14.30,2,    17.94,2,     1.05,2,   -999.0,9,   7.7310,2,    25.00,   2.8984
  35TH20020610, OVIDE,    51,  1,     11,2,20020627,1107, 51.0270, -23.1940, 3993,   2397.6,   3.1700,  34.9180,2,  34.9170,2,    276.6,2,    280.7,2,    12.96,2,    17.94,2,     1.04,2,   -999.0,9,   7.7320,2,    25.00,   2.9771
  35TH20020610, OVIDE,    51,  1,     12,2,20020627,1107, 51.0270, -23.1940, 3993,   2195.3,   3.2070,  34.9020,2,  34.9020,2,    280.0,2,    281.3,2,    12.00,2,    17.79,2,     1.05,2,   -999.0,9,   7.7300,2,    25.00,   3.0331
  35TH20020610, OVIDE,    51,  1,     13,2,20020627,1107, 51.0270, -23.1940, 3993,   1996.1,   3.2580,  34.8930,2,  34.8910,2,    281.2,2,    293.5,3,    11.44,2,    18.05,2,     1.06,2,   -999.0,9,   7.7300,2,    25.00,   3.1021
  35TH20020610, OVIDE,    51,  1,     14,2,20020627,1107, 51.0270, -23.1940, 3993,   1796.6,   3.3570,  34.8910,2,  34.8950,2,    278.8,2,    282.0,2,    11.13,2,    18.10,2,     1.07,2,   -999.0,9,   7.7250,2,    25.00,   3.2180
  35TH20020610, OVIDE,    51,  1,     15,2,20020627,1107, 51.0270, -23.1940, 3993,   1595.8,   3.5490,  34.9030,2,  34.9050,2,    275.0,2,    295.0,3,    11.19,2,    18.10,2,     1.06,2,   -999.0,9,-999.0000,9,  -999.00,   3.4256
  35TH20020610, OVIDE,    51,  1,     16,2,20020627,1107, 51.0270, -23.1940, 3993,   1395.7,   4.0200,  34.9600,2,  34.9570,2,    264.8,2,    265.2,2,    11.19,2,    18.10,2,     1.07,2,   -999.0,9,   7.7220,2,    25.00,   3.9090
  35TH20020610, OVIDE,    51,  1,     17,2,20020627,1107, 51.0270, -23.1940, 3993,   1195.7,   4.2500,  34.9670,2,  34.9680,2,    257.7,2,    259.4,2,    11.13,2,    18.84,2,     1.10,2,   -999.0,9,   7.7160,2,    25.00,   4.1546
  35TH20020610, OVIDE,    51,  1,     18,2,20020627,1107, 51.0270, -23.1940, 3993,    994.3,   4.9270,  35.0220,2,  35.0210,2,    245.0,2,    253.3,3,    11.00,2,    18.99,2,     1.16,2,   -999.0,9,   7.7150,2,    25.00,   4.8439
  35TH20020610, OVIDE,    51,  1,     19,2,20020627,1107, 51.0270, -23.1940, 3993,    895.8,   6.2650,  35.2170,2,  35.2160,2,    222.2,2,    225.2,2,    11.06,2,    18.41,2,     1.10,2,   -999.0,9,   7.7240,2,    25.00,   6.1815
  35TH20020610, OVIDE,    51,  1,     20,2,20020627,1107, 51.0270, -23.1940, 3993,    797.2,   6.8040,  35.2430,2,  35.2410,2,    214.0,2,    217.0,2,    11.12,3,    19.41,3,     1.12,3,   -999.0,9,   7.7250,2,    25.00,   6.7269
  35TH20020610, OVIDE,    51,  1,     21,2,20020627,1107, 51.0270, -23.1940, 3993,    696.0,   7.0340,  35.1650,2,  35.1700,2,    206.4,2,    207.3,2,    11.37,3,    19.72,2,     1.16,3,   -999.0,9,   7.7150,2,    25.00,   6.9661
  35TH20020610, OVIDE,    51,  1,     22,2,20020627,1107, 51.0270, -23.1940, 3993,    596.6,   7.9830,  35.1920,2,  35.1900,2,    191.8,2,    195.2,2,    11.12,2,    20.14,2,     1.17,3,   -999.0,9,   7.7170,2,    25.00,   7.9210
  35TH20020610, OVIDE,    51,  1,     23,2,20020627,1107, 51.0270, -23.1940, 3993,    496.0,   9.2620,  35.2990,2,  35.3050,2,    191.7,2,    190.2,2,     9.69,3,    18.99,3,     1.07,3,   -999.0,9,   7.7390,2,    25.00,   9.2060
  35TH20020610, OVIDE,    51,  1,     24,2,20020627,1107, 51.0270, -23.1940, 3993,    397.5,   9.7630,  35.2820,2,  35.2820,2,    206.0,2,    204.2,2,     8.17,2,    17.20,2,     0.97,2,   -999.0,9,   7.7620,2,    25.00,   9.7169
  35TH20020610, OVIDE,    51,  1,     25,2,20020627,1107, 51.0270, -23.1940, 3993,    295.6,  10.5530,  35.3810,2,  35.3810,2,    231.3,2,    243.5,3,     5.66,2,    12.80,2,     0.82,2,   -999.0,9,   7.8260,2,    25.00,  10.5172
  35TH20020610, OVIDE,    51,  1,     26,2,20020627,1107, 51.0270, -23.1940, 3993,    197.2,  11.3810,  35.5190,2,  35.5140,2,    240.4,2,    247.6,3,     4.10,2,    11.22,2,     0.59,2,   -999.0,9,   7.8520,2,    25.00,  11.3560
  35TH20020610, OVIDE,    51,  1,     27,2,20020627,1107, 51.0270, -23.1940, 3993,    142.9,  11.8750,  35.6100,2,  35.6060,2,    243.2,2,    245.2,2,     4.60,2,    10.59,2,     0.53,2,   -999.0,9,   7.8620,2,    25.00,  11.8564
  35TH20020610, OVIDE,    51,  1,     28,2,20020627,1107, 51.0270, -23.1940, 3993,     96.6,  12.2990,  35.6600,2,  35.6580,2,    245.3,2,    246.5,2,     3.20,2,     9.59,2,     0.46,2,   -999.0,9,   7.8770,2,    25.00,  12.2862
  35TH20020610, OVIDE,    51,  1,     29,2,20020627,1107, 51.0270, -23.1940, 3993,     48.1,  12.6520,  35.6100,2,  35.6110,2,    255.8,2,    263.2,3,     1.37,2,     6.72,2,     0.39,2,   -999.0,9,   7.9100,2,    25.00,  12.6455
  35TH20020610, OVIDE,    51,  1,     30,2,20020627,1107, 51.0270, -23.1940, 3993,      8.4,  13.5790,  35.5970,2,  35.6020,2,    263.7,2,    274.3,3,     0.68,2,     4.44,2,     0.23,2,   -999.0,9,   7.9500,2,    25.00,  13.5778