BOTTLE,20140820PRINUNIVRMK
EXPOCODE,SECT_ID,STNNBR,CASTNO,BTLNBR,BTLNBR_FLAG_W,DATE,TIME,LATITUDE,LONGITUDE,DEPTH,CTDPRS,CTDTMP,CTDSAL,CTDSAL_FLAG_W,SALNTY,SALNTY_FLAG_W,CTDOXY,CTDOXY_FLAG_W,OXYGEN,OXYGEN_FLAG_W,SILCAT,SILCAT_FLAG_W,NITRAT,NITRAT_FLAG_W,PHSPHT,PHSPHT_FLAG_W,ALKALI,ALKALI_FLAG_W,PH_SWS,PH_SWS_FLAG_W,PH_TMP,THETA
,,,,,,,,,,METERS,DBAR,ITS-90,PSS-78,,PSS-78,,UMOL/KG,,UMOL/KG,,UMOL/KG,,UMOL/KG,,UMOL/KG,,UMOL/KG,,,,DEG C,DEG C
  35TH20020610, OVIDE,    21,  1,      3,2,20020620,1945, 59.2320, -35.1150, 3030,   3019.5,   2.6700,  34.9160,2,  34.9180,2,    281.6,2,    281.0,2,    12.62,2,    16.74,2,     0.96,2,   -999.0,9,   7.7320,2,    25.00,   2.4244
  35TH20020610, OVIDE,    21,  1,      4,2,20020620,1945, 59.2320, -35.1150, 3030,   2896.6,   2.7370,  34.9210,2,-999.0000,9,    280.6,2,   -999.0,9,    12.82,2,    16.80,2,     0.96,2,   -999.0,9,-999.0000,9,  -999.00,   2.5026
  35TH20020610, OVIDE,    21,  1,      5,2,20020620,1945, 59.2320, -35.1150, 3030,   2796.3,   2.8150,  34.9240,2,  34.9240,2,    279.1,2,    278.1,2,    12.99,2,    17.08,2,     0.97,2,   -999.0,9,   7.7330,2,    25.00,   2.5891
  35TH20020610, OVIDE,    21,  1,      6,2,20020620,1945, 59.2320, -35.1150, 3030,   2696.3,   2.8910,  34.9270,2,-999.0000,9,    277.8,2,   -999.0,9,    12.96,2,    17.19,2,     0.97,2,   -999.0,9,-999.0000,9,  -999.00,   2.6737
  35TH20020610, OVIDE,    21,  1,      7,2,20020620,1945, 59.2320, -35.1150, 3030,   2596.1,   2.9360,  34.9280,2,  34.9290,2,    277.7,2,    277.2,2,    12.75,2,    16.91,2,     0.97,2,   -999.0,9,   7.7330,2,    25.00,   2.7278
  35TH20020610, OVIDE,    21,  1,      8,2,20020620,1945, 59.2320, -35.1150, 3030,   2494.9,   3.0270,  34.9320,2,-999.0000,9,    277.5,2,   -999.0,9,    12.38,2,    17.08,2,     0.97,2,   -999.0,9,-999.0000,9,  -999.00,   2.8271
  35TH20020610, OVIDE,    21,  1,      9,2,20020620,1945, 59.2320, -35.1150, 3030,   2394.4,   3.0920,  34.9330,2,  34.9320,2,    277.7,2,    277.1,2,    12.10,2,    17.19,2,     1.01,3,   -999.0,9,   7.7330,2,    25.00,   2.9007
  35TH20020610, OVIDE,    21,  1,     10,2,20020620,1945, 59.2320, -35.1150, 3030,   2295.5,   3.1370,  34.9310,2,-999.0000,9,    278.4,2,   -999.0,9,    10.03,3,    16.41,3,     0.92,3,   -999.0,9,-999.0000,9,  -999.00,   2.9545
  35TH20020610, OVIDE,    21,  1,     11,2,20020620,1945, 59.2320, -35.1150, 3030,   2195.2,   3.1830,  34.9310,2,  34.9320,2,    278.2,2,    278.3,2,    11.36,2,    17.08,2,     0.96,2,   -999.0,9,   7.7310,2,    25.00,   3.0094
  35TH20020610, OVIDE,    21,  1,     12,2,20020620,1945, 59.2320, -35.1150, 3030,   2095.6,   3.2220,  34.9310,2,-999.0000,9,    279.0,2,   -999.0,9,    11.12,2,    17.13,2,     0.96,2,   -999.0,9,-999.0000,9,  -999.00,   3.0572
  35TH20020610, OVIDE,    21,  1,     13,2,20020620,1945, 59.2320, -35.1150, 3030,   1995.6,   3.2230,  34.9200,2,  34.9200,2,    279.8,2,    288.0,3,    10.78,2,    17.19,2,     0.96,2,   -999.0,9,   7.7320,2,    25.00,   3.0676
  35TH20020610, OVIDE,    21,  1,     14,2,20020620,1945, 59.2320, -35.1150, 3030,   1795.6,   3.2600,  34.9140,2,-999.0000,9,    283.3,2,   -999.0,9,    10.58,2,    17.19,2,     0.97,2,   -999.0,9,-999.0000,9,  -999.00,   3.1223
  35TH20020610, OVIDE,    21,  1,     15,2,20020620,1945, 59.2320, -35.1150, 3030,   1595.4,   3.2280,  34.8910,2,  34.8920,2,    282.6,2,    284.8,2,    10.24,2,    17.52,2,     0.98,2,   -999.0,9,   7.7310,2,    25.00,   3.1085
  35TH20020610, OVIDE,    21,  1,     16,2,20020620,1945, 59.2320, -35.1150, 3030,   1395.0,   3.4610,  34.9100,2,-999.0000,9,    278.2,2,   -999.0,9,    10.24,2,    17.74,2,     0.98,2,   -999.0,9,-999.0000,9,  -999.00,   3.3561
  35TH20020610, OVIDE,    21,  1,     17,2,20020620,1945, 59.2320, -35.1150, 3030,   1195.7,   3.5240,  34.9000,2,  34.9030,2,    276.8,2,    277.5,2,    10.24,2,    17.69,2,     0.98,2,   -999.0,9,   7.7230,2,    25.00,   3.4353
  35TH20020610, OVIDE,    21,  1,     18,2,20020620,1945, 59.2320, -35.1150, 3030,    996.4,   3.7370,  34.9010,2,  34.9030,2,    275.8,2,    277.5,2,     9.83,2,    17.63,2,     0.99,2,   -999.0,9,   7.7230,2,    25.00,   3.6630
  35TH20020610, OVIDE,    21,  1,     19,2,20020620,1945, 59.2320, -35.1150, 3030,    895.7,   3.8210,  34.8990,2,-999.0000,9,    276.1,2,   -999.0,9,     9.59,2,    17.63,2,     0.97,2,   -999.0,9,-999.0000,9,  -999.00,   3.7546
  35TH20020610, OVIDE,    21,  1,     20,2,20020620,1945, 59.2320, -35.1150, 3030,    796.6,   4.0430,  34.9190,2,  34.9160,2,    269.4,2,    274.3,2,     9.59,2,    17.91,2,     1.00,2,   -999.0,9,   7.7240,2,    25.00,   3.9831
  35TH20020610, OVIDE,    21,  1,     21,2,20020620,1945, 59.2320, -35.1150, 3030,    655.7,   4.9650,  35.0070,2,  35.0060,2,    249.0,2,    249.3,2,    10.40,3,    18.52,3,     1.02,3,   -999.0,9,   7.7190,2,    25.00,   4.9116
  35TH20020610, OVIDE,    21,  1,     22,2,20020620,1945, 59.2320, -35.1150, 3030,    596.7,   4.7920,  34.9450,2,-999.0000,9,    260.1,2,   -999.0,9,     9.35,2,    17.74,2,     1.00,2,   -999.0,9,-999.0000,9,  -999.00,   4.7446
  35TH20020610, OVIDE,    21,  1,     23,2,20020620,1945, 59.2320, -35.1150, 3030,    497.2,   5.0390,  34.9330,2,-999.0000,9,    264.8,2,   -999.0,9,     8.94,2,    17.41,2,     0.97,2,   -999.0,9,-999.0000,9,  -999.00,   4.9989
  35TH20020610, OVIDE,    21,  1,     24,2,20020620,1945, 59.2320, -35.1150, 3030,    396.3,   5.5010,  34.9580,2,  34.9590,2,    281.0,2,    267.1,3,     8.77,2,    17.52,2,     0.96,2,   -999.0,9,   7.7360,2,    25.00,   5.4679
  35TH20020610, OVIDE,    21,  1,     25,2,20020620,1945, 59.2320, -35.1150, 3030,    297.2,   5.9050,  34.9810,2,-999.0000,9,    276.1,2,   -999.0,9,     8.02,2,    16.63,2,     0.73,3,   -999.0,9,-999.0000,9,  -999.00,   5.8794
  35TH20020610, OVIDE,    21,  1,     26,2,20020620,1945, 59.2320, -35.1150, 3030,    197.1,   6.4820,  35.0210,2,  35.0220,2,    282.3,2,    273.7,3,     7.55,2,    15.86,2,     0.88,3,   -999.0,9,   7.7630,2,    25.00,   6.4643
  35TH20020610, OVIDE,    21,  1,     27,2,20020620,1945, 59.2320, -35.1150, 3030,    147.3,   6.3860,  34.9700,2,-999.0000,9,    282.9,2,   -999.0,9,     7.14,2,    14.53,2,     0.88,3,   -999.0,9,-999.0000,9,  -999.00,   6.3729
  35TH20020610, OVIDE,    21,  1,     28,2,20020620,1945, 59.2320, -35.1150, 3030,     97.4,   7.0660,  35.0440,2,  35.0260,3,    279.2,2,    283.4,2,     6.32,2,    14.64,2,     0.84,2,   -999.0,9,   7.7810,2,    25.00,   7.0569
  35TH20020610, OVIDE,    21,  1,     29,2,20020620,1945, 59.2320, -35.1150, 3030,     46.2,   7.9170,  34.9610,2,  34.9620,2,    293.9,2,    303.3,3,     0.88,2,     9.17,2,     0.50,2,   -999.0,9,   7.8720,2,    25.00,   7.9124
  35TH20020610, OVIDE,    21,  1,     30,2,20020620,1945, 59.2320, -35.1150, 3030,      4.2,   8.6230,  35.0100,2,  35.0100,2,    301.5,2,   -999.0,9,     1.02,2,     8.46,2,     0.47,2,   -999.0,9,-999.0000,9,  -999.00,   8.6226
  35TH20020610, OVIDE,    22,  1,      3,2,20020621,0016, 59.1650, -34.4760, 2574,   2563.5,   2.8490,  34.9230,2,  34.9240,2,    275.8,2,    278.6,2,    12.30,2,    16.97,2,     0.96,2,   2303.7,2,   7.7320,2,    25.00,   2.6457
  35TH20020610, OVIDE,    22,  1,      4,2,20020621,0016, 59.1650, -34.4760, 2574,   2496.9,   3.0020,  34.9290,2,  34.9310,2,    276.7,2,    277.3,2,    12.26,2,    17.08,2,     0.96,2,   2304.4,2,   7.7330,2,    25.00,   2.8023
  35TH20020610, OVIDE,    22,  1,      5,2,20020621,0016, 59.1650, -34.4760, 2574,   2445.2,   3.0610,  34.9320,2,-999.0000,9,    277.1,2,   -999.0,9,    12.10,2,    16.97,2,     0.96,2,   -999.0,9,-999.0000,9,  -999.00,   2.8653
  35TH20020610, OVIDE,    22,  1,      6,2,20020621,0016, 59.1650, -34.4760, 2574,   2396.5,   3.0870,  34.9330,2,  34.9340,2,    276.9,2,    277.2,2,    12.00,2,    17.19,2,     0.95,2,   2305.5,2,   7.7310,2,    25.00,   2.8956
  35TH20020610, OVIDE,    22,  1,      7,2,20020621,0016, 59.1650, -34.4760, 2574,   2345.8,   3.1150,  34.9350,2,-999.0000,9,    276.6,2,   -999.0,9,    11.83,2,    16.80,2,     0.94,2,   -999.0,9,-999.0000,9,  -999.00,   2.9280
  35TH20020610, OVIDE,    22,  1,      8,2,20020621,0016, 59.1650, -34.4760, 2574,   2297.6,   3.1270,  34.9340,2,-999.0000,9,    276.4,2,   -999.0,9,    11.76,2,    16.97,2,     0.94,2,   -999.0,9,-999.0000,9,  -999.00,   2.9445
  35TH20020610, OVIDE,    22,  1,      9,2,20020621,0016, 59.1650, -34.4760, 2574,   2245.0,   3.1230,  34.9320,2,-999.0000,9,    276.9,2,   -999.0,9,    11.63,2,    16.86,2,     0.93,2,   -999.0,9,-999.0000,9,  -999.00,   2.9456
  35TH20020610, OVIDE,    22,  1,     10,2,20020621,0016, 59.1650, -34.4760, 2574,   2195.6,   3.1200,  34.9290,2,  34.9460,3,    277.3,2,    279.1,2,     9.22,3,    15.42,3,     0.97,2,   2305.4,3,-999.0000,9,  -999.00,   2.9474
  35TH20020610, OVIDE,    22,  1,     11,2,20020621,0016, 59.1650, -34.4760, 2574,   2045.9,   3.2090,  34.9350,2,-999.0000,9,    278.0,2,   -999.0,9,    11.20,2,    16.86,2,     0.94,2,   -999.0,9,-999.0000,9,  -999.00,   3.0490
  35TH20020610, OVIDE,    22,  1,     12,2,20020621,0016, 59.1650, -34.4760, 2574,   1995.7,   3.2300,  34.9350,2,  34.9350,2,    277.9,2,    278.0,2,    11.10,2,    16.91,2,     0.94,2,   2305.4,2,   7.7280,2,    25.00,   3.0744
  35TH20020610, OVIDE,    22,  1,     13,2,20020621,0016, 59.1650, -34.4760, 2574,   1796.2,   3.2440,  34.9180,2,  34.9190,2,    279.9,2,    280.9,2,    10.56,2,    17.02,2,     0.96,2,   2302.8,2,   7.7300,2,    25.00,   3.1065
  35TH20020610, OVIDE,    22,  1,     14,2,20020621,0016, 59.1650, -34.4760, 2574,   1596.5,   3.3040,  34.9100,2,  34.9100,2,    281.3,2,    281.7,2,    10.23,2,    16.97,2,     0.96,2,   2301.8,2,   7.7260,2,    25.00,   3.1835
  35TH20020610, OVIDE,    22,  1,     15,2,20020621,0016, 59.1650, -34.4760, 2574,   1544.5,   3.3320,  34.9080,2,-999.0000,9,    280.5,2,   -999.0,9,    10.19,2,    17.13,2,     0.97,2,   -999.0,9,-999.0000,9,  -999.00,   3.2157
  35TH20020610, OVIDE,    22,  1,     16,2,20020621,0016, 59.1650, -34.4760, 2574,   1395.2,   3.4500,  34.9170,2,  34.9170,2,    278.5,2,    278.7,2,    10.09,2,    17.08,2,     0.94,2,   2304.6,2,   7.7230,2,    25.00,   3.3452
  35TH20020610, OVIDE,    22,  1,     17,2,20020621,0016, 59.1650, -34.4760, 2574,   1196.9,   3.4420,  34.8960,2,  34.8960,2,    277.9,2,    278.9,2,    10.06,3,    17.52,2,     0.97,2,   2301.9,2,   7.7200,2,    25.00,   3.3540
  35TH20020610, OVIDE,    22,  1,     18,2,20020621,0016, 59.1650, -34.4760, 2574,    996.1,   3.7800,  34.9240,2,  34.9230,2,    271.6,2,    273.7,2,     9.89,2,    17.36,2,     0.97,2,   2303.2,2,   7.7220,2,    25.00,   3.7056
  35TH20020610, OVIDE,    22,  1,     19,2,20020621,0016, 59.1650, -34.4760, 2574,    896.8,   3.7590,  34.9010,2,-999.0000,9,    276.8,2,   -999.0,9,     9.62,3,    17.08,2,     0.96,2,   -999.0,9,-999.0000,9,  -999.00,   3.6929
  35TH20020610, OVIDE,    22,  1,     20,2,20020621,0016, 59.1650, -34.4760, 2574,    796.6,   4.0650,  34.9280,2,  34.9290,2,    271.0,2,    270.8,2,     9.76,2,    17.69,2,     0.98,2,   2302.5,2,   7.7210,2,    25.00,   4.0050
  35TH20020610, OVIDE,    22,  1,     21,2,20020621,0016, 59.1650, -34.4760, 2574,    695.8,   4.2210,  34.9270,2,-999.0000,9,    281.9,2,   -999.0,9,     9.62,2,    17.69,2,     0.98,2,   -999.0,9,-999.0000,9,  -999.00,   4.1683
  35TH20020610, OVIDE,    22,  1,     22,2,20020621,0016, 59.1650, -34.4760, 2574,    597.0,   4.3510,  34.9090,2,  34.9060,2,    276.3,2,    276.2,2,     9.09,3,    17.52,2,     0.96,2,   2301.8,2,   7.7200,2,    25.00,   4.3056
  35TH20020610, OVIDE,    22,  1,     23,2,20020621,0016, 59.1650, -34.4760, 2574,    496.0,   4.8460,  34.9400,2,-999.0000,9,    272.1,2,   -999.0,9,     9.16,2,    17.47,2,     0.96,2,   -999.0,9,-999.0000,9,  -999.00,   4.8067
  35TH20020610, OVIDE,    22,  1,     24,2,20020621,0016, 59.1650, -34.4760, 2574,    397.1,   4.9810,  34.9080,2,  34.9120,3,    287.7,2,    284.9,2,     8.15,3,    16.41,2,     0.92,2,   2301.5,2,   7.7380,2,    25.00,   4.9495
  35TH20020610, OVIDE,    22,  1,     25,2,20020621,0016, 59.1650, -34.4760, 2574,    297.1,   5.6420,  34.9700,2,-999.0000,9,    280.1,2,   -999.0,9,     8.12,2,    16.52,2,     0.92,2,   -999.0,9,-999.0000,9,  -999.00,   5.6171
  35TH20020610, OVIDE,    22,  1,     26,2,20020621,0016, 59.1650, -34.4760, 2574,    196.7,   6.0310,  34.9880,2,  34.9810,3,    279.1,2,    275.8,2,     7.69,2,    16.19,2,     0.89,2,   2305.2,2,   7.7520,2,    25.00,   6.0140
  35TH20020610, OVIDE,    22,  1,     27,2,20020621,0016, 59.1650, -34.4760, 2574,    148.0,   6.3130,  34.9910,2,-999.0000,9,    275.7,2,   -999.0,9,     6.95,2,    15.64,2,     0.87,2,   2306.5,2,   7.7600,2,    25.00,   6.3000
  35TH20020610, OVIDE,    22,  1,     28,2,20020621,0016, 59.1650, -34.4760, 2574,     96.7,   6.5600,  34.9950,2,-999.0000,9,    275.1,2,   -999.0,9,     6.55,2,    14.58,2,     0.83,2,   2308.0,2,   7.7680,2,    25.00,   6.5513
  35TH20020610, OVIDE,    22,  1,     29,2,20020621,0016, 59.1650, -34.4760, 2574,     44.9,   7.3180,  34.9900,2,-999.0000,9,    303.9,2,   -999.0,9,     1.14,2,    10.93,2,     0.57,2,   2308.3,2,   7.8380,2,    25.00,   7.3137
  35TH20020610, OVIDE,    22,  1,     30,2,20020621,0016, 59.1650, -34.4760, 2574,      3.2,   8.6410,  34.9960,2,  34.9960,2,    295.4,2,    300.2,2,     0.57,2,     8.23,2,     0.43,2,   2312.6,2,   7.8910,2,    25.00,   8.6407
  35TH20020610, OVIDE,    23,  1,      3,2,20020621,0434, 59.1030, -33.8310, 2307,   2296.9,   2.9900,  34.9340,2,  34.9350,2,    275.9,2,    276.2,2,    12.57,2,    15.77,2,     0.94,2,   -999.0,9,   7.7310,2,    25.00,   2.8099
  35TH20020610, OVIDE,    23,  1,      4,2,20020621,0434, 59.1030, -33.8310, 2307,   2297.2,   2.9890,  34.9340,2,  34.9340,2,    275.9,2,    276.3,2,    12.60,2,    15.77,2,     0.94,2,   -999.0,9,   7.7330,2,    25.00,   2.8089
  35TH20020610, OVIDE,    23,  1,      5,2,20020621,0434, 59.1030, -33.8310, 2307,   2248.0,   2.9980,  34.9340,2,-999.0000,9,    276.3,2,   -999.0,9,    12.54,2,    15.72,2,     0.94,2,   -999.0,9,   7.7300,2,    25.00,   2.8224
  35TH20020610, OVIDE,    23,  1,      6,2,20020621,0434, 59.1030, -33.8310, 2307,   2196.1,   3.0300,  34.9360,2,  34.9360,2,    276.1,2,    276.2,2,    12.33,2,    15.72,2,     0.94,2,   -999.0,9,   7.7300,2,    25.00,   2.8588
  35TH20020610, OVIDE,    23,  1,      7,2,20020621,0434, 59.1030, -33.8310, 2307,   2146.6,   3.0870,  34.9380,2,  34.9390,2,    276.2,2,    276.4,2,    12.06,2,    15.67,2,     0.93,2,   -999.0,9,   7.7340,2,    25.00,   2.9195
  35TH20020610, OVIDE,    23,  1,      8,2,20020621,0434, 59.1030, -33.8310, 2307,   2097.1,   3.1290,  34.9400,2,  34.9380,2,    276.2,2,    276.4,2,    11.83,2,    15.67,2,     0.93,2,   -999.0,9,   7.7340,2,    25.00,   2.9655
  35TH20020610, OVIDE,    23,  1,      9,2,20020621,0434, 59.1030, -33.8310, 2307,   1996.6,   3.1880,  34.9430,2,  34.9420,2,    276.1,2,    276.8,2,    11.45,2,    15.51,2,     0.93,2,   -999.0,9,   7.7300,2,    25.00,   3.0329
  35TH20020610, OVIDE,    23,  1,     10,2,20020621,0434, 59.1030, -33.8310, 2307,   1998.0,   3.1880,  34.9420,2,  34.9350,3,    276.2,2,    276.4,2,    11.18,2,    15.35,2,     0.93,2,   -999.0,9,   7.7300,2,    25.00,   3.0328
  35TH20020610, OVIDE,    23,  1,     11,2,20020621,0434, 59.1030, -33.8310, 2307,   1795.4,   3.1910,  34.9250,2,  34.9250,2,    278.4,2,    279.2,2,    10.91,2,    14.72,3,     0.95,2,   -999.0,9,   7.7300,2,    25.00,   3.0542
  35TH20020610, OVIDE,    23,  1,     12,2,20020621,0434, 59.1030, -33.8310, 2307,   1795.7,   3.1910,  34.9250,2,  34.9260,2,    278.4,2,    279.4,2,    10.91,2,    14.40,3,     0.94,2,   -999.0,9,   7.7300,2,    25.00,   3.0542
  35TH20020610, OVIDE,    23,  1,     13,2,20020621,0434, 59.1030, -33.8310, 2307,   1595.9,   3.1860,  34.9090,2,  34.9100,2,    280.5,2,    281.8,2,    10.50,2,    16.83,2,     0.93,2,   -999.0,9,   7.7290,2,    25.00,   3.0669
  35TH20020610, OVIDE,    23,  1,     14,2,20020621,0434, 59.1030, -33.8310, 2307,   1496.3,   3.1660,  34.8970,2,  34.8960,2,    281.9,2,    284.1,2,    10.30,2,    16.72,2,     0.93,2,   -999.0,9,   7.7270,2,    25.00,   3.0558
  35TH20020610, OVIDE,    23,  1,     15,2,20020621,0434, 59.1030, -33.8310, 2307,   1397.2,   3.1940,  34.8930,2,  34.8920,2,    282.7,2,    284.6,2,    10.20,2,    18.36,2,     0.93,2,   -999.0,9,   7.7290,2,    25.00,   3.0918
  35TH20020610, OVIDE,    23,  1,     16,2,20020621,0434, 59.1030, -33.8310, 2307,   1295.0,   3.3120,  34.9020,2,-999.0000,9,    280.3,2,   -999.0,9,    10.20,2,    17.88,2,     0.92,3,   -999.0,9,-999.0000,9,  -999.00,   3.2171
  35TH20020610, OVIDE,    23,  1,     17,2,20020621,0434, 59.1030, -33.8310, 2307,   1196.6,   3.3710,  34.9090,2,  34.9090,2,    280.2,2,    279.9,2,    10.20,2,    17.57,2,     0.95,2,   -999.0,9,   7.7250,2,    25.00,   3.2837
  35TH20020610, OVIDE,    23,  1,     18,2,20020621,0434, 59.1030, -33.8310, 2307,    997.0,   3.4590,  34.9030,2,  34.9030,2,    277.3,2,    278.0,2,    10.17,2,    17.62,2,     0.96,2,   -999.0,9,   7.7250,2,    25.00,   3.3871
  35TH20020610, OVIDE,    23,  1,     19,2,20020621,0434, 59.1030, -33.8310, 2307,    896.6,   3.5810,  34.9080,2,  34.9080,2,    274.9,2,    275.8,2,    10.06,2,    17.51,2,     0.94,2,   -999.0,9,   7.7220,2,    25.00,   3.5162
  35TH20020610, OVIDE,    23,  1,     20,2,20020621,0434, 59.1030, -33.8310, 2307,    795.7,   3.7180,  34.9110,2,  34.9110,2,    273.3,2,    274.3,2,     9.96,2,    17.46,2,     0.93,2,   -999.0,9,   7.7220,2,    25.00,   3.6602
  35TH20020610, OVIDE,    23,  1,     21,2,20020621,0434, 59.1030, -33.8310, 2307,    696.0,   3.7970,  34.9080,2,  34.9080,2,    273.0,2,    274.9,2,     9.72,2,    17.04,2,     0.97,2,   -999.0,9,   7.7200,2,    25.00,   3.7466
  35TH20020610, OVIDE,    23,  1,     22,2,20020621,0434, 59.1030, -33.8310, 2307,    596.2,   3.9040,  34.9050,2,  34.9060,2,    273.8,2,    276.1,2,     9.45,2,    16.72,2,     0.96,2,   -999.0,9,   7.7200,2,    25.00,   3.8608
  35TH20020610, OVIDE,    23,  1,     23,2,20020621,0434, 59.1030, -33.8310, 2307,    496.2,   4.2300,  34.9280,2,  34.9300,2,    267.2,2,    267.4,2,     9.69,3,    16.83,2,     0.98,2,   -999.0,9,   7.7190,2,    25.00,   4.1931
  35TH20020610, OVIDE,    23,  1,     24,2,20020621,0434, 59.1030, -33.8310, 2307,    396.2,   4.3820,  34.9220,2,  34.9200,2,    266.1,2,    269.2,2,     9.42,2,    16.83,2,     0.98,2,   -999.0,9,   7.7200,2,    25.00,   4.3524
  35TH20020610, OVIDE,    23,  1,     25,2,20020621,0434, 59.1030, -33.8310, 2307,    296.8,   4.8550,  34.9460,2,  34.9440,2,    258.0,2,    259.4,2,     9.56,3,    16.83,2,     0.99,2,   -999.0,9,   7.7210,2,    25.00,   4.8319
  35TH20020610, OVIDE,    23,  1,     26,2,20020621,0434, 59.1030, -33.8310, 2307,    196.3,   5.0110,  34.9170,2,  34.9190,2,    278.4,2,    281.3,2,     8.23,2,    17.51,2,     0.93,2,   -999.0,9,   7.7370,2,    25.00,   4.9956
  35TH20020610, OVIDE,    23,  1,     27,2,20020621,0434, 59.1030, -33.8310, 2307,    146.5,   5.2280,  34.9180,2,  34.9180,2,    278.6,2,    282.2,2,     8.06,2,    17.67,2,     0.93,2,   -999.0,9,   7.7380,2,    25.00,   5.2163
  35TH20020610, OVIDE,    23,  1,     28,2,20020621,0434, 59.1030, -33.8310, 2307,     96.8,   5.5100,  34.9280,2,  34.9290,2,    285.4,2,    286.4,2,     7.66,2,    17.36,2,     0.90,2,   -999.0,9,   7.7480,2,    25.00,   5.5021
  35TH20020610, OVIDE,    23,  1,     29,2,20020621,0434, 59.1030, -33.8310, 2307,     46.9,   6.1060,  34.9410,2,  34.9390,2,    308.6,2,    295.2,3,     6.71,2,    15.03,2,     0.84,2,   -999.0,9,   7.7700,2,    25.00,   6.1020
  35TH20020610, OVIDE,    23,  1,     30,2,20020621,0434, 59.1030, -33.8310, 2307,      4.4,   8.3260,  34.9240,2,  34.9250,2,    299.1,2,    300.1,2,     0.47,2,     6.41,2,     0.40,2,   -999.0,9,   7.8790,2,    25.00,   8.3255