BOTTLE,20140820PRINUNIVRMK
EXPOCODE,SECT_ID,STNNBR,CASTNO,BTLNBR,BTLNBR_FLAG_W,DATE,TIME,LATITUDE,LONGITUDE,DEPTH,CTDPRS,CTDTMP,CTDSAL,CTDSAL_FLAG_W,SALNTY,SALNTY_FLAG_W,CTDOXY,CTDOXY_FLAG_W,OXYGEN,OXYGEN_FLAG_W,SILCAT,SILCAT_FLAG_W,NITRAT,NITRAT_FLAG_W,PHSPHT,PHSPHT_FLAG_W,ALKALI,ALKALI_FLAG_W,PH_SWS,PH_SWS_FLAG_W,PH_TMP,THETA
,,,,,,,,,,METERS,DBAR,ITS-90,PSS-78,,PSS-78,,UMOL/KG,,UMOL/KG,,UMOL/KG,,UMOL/KG,,UMOL/KG,,UMOL/KG,,,,DEG C,DEG C
  35TH20020610, OVIDE,    77,  1,      3,2,20020707,0706, 42.2810, -15.0650, 5406,   5395.5,   2.5660,  34.8990,2,  34.8980,2,    244.5,2,    244.0,2,    47.14,2,    23.05,2,     1.35,2,   -999.0,9,   7.7320,2,    25.00,   2.0429
  35TH20020610, OVIDE,    77,  1,      4,2,20020707,0706, 42.2810, -15.0650, 5406,   4997.8,   2.5200,  34.9000,2,  34.8980,2,    245.6,2,    244.0,2,    46.81,2,    23.11,2,     1.30,2,   -999.0,9,   7.7330,2,    25.00,   2.0501
  35TH20020610, OVIDE,    77,  1,      5,2,20020707,0706, 42.2810, -15.0650, 5406,   4497.2,   2.4900,  34.9040,2,  34.9020,2,    245.4,2,    243.4,2,    45.92,2,    22.55,2,     1.30,2,   -999.0,9,   7.7330,2,    25.00,   2.0832
  35TH20020610, OVIDE,    77,  1,      6,2,20020707,0706, 42.2810, -15.0650, 5406,   3997.8,   2.5280,  34.9140,2,  34.9120,2,    245.1,2,    244.2,2,    43.50,2,    22.38,2,     1.27,2,   -999.0,9,   7.7340,2,    25.00,   2.1791
  35TH20020610, OVIDE,    77,  1,      7,2,20020707,0706, 42.2810, -15.0650, 5406,   3496.9,   2.6300,  34.9280,2,  34.9270,2,    246.7,2,    245.9,2,    40.40,2,    22.72,2,     1.28,2,   -999.0,9,   7.7340,2,    25.00,   2.3346
  35TH20020610, OVIDE,    77,  1,      8,2,20020707,0706, 42.2810, -15.0650, 5406,   3246.4,   2.7200,  34.9390,2,  34.9420,2,    248.0,2,    247.4,2,    37.86,2,    21.54,2,     1.27,2,   -999.0,9,   7.7370,2,    25.00,   2.4494
  35TH20020610, OVIDE,    77,  1,      9,2,20020707,0706, 42.2810, -15.0650, 5406,   2996.1,   2.8570,  34.9500,2,  34.9500,2,    249.2,2,    249.7,2,    34.55,2,    20.25,3,     1.16,3,   -999.0,9,   7.7390,2,    25.00,   2.6096
  35TH20020610, OVIDE,    77,  1,     10,2,20020707,0706, 42.2810, -15.0650, 5406,   2745.4,   3.0720,  34.9680,2,  34.9680,2,    251.7,2,    251.8,2,    30.25,2,    20.64,2,     1.18,2,   -999.0,9,   7.7380,2,    25.00,   2.8459
  35TH20020610, OVIDE,    77,  1,     11,2,20020707,0706, 42.2810, -15.0650, 5406,   2495.7,   3.3770,  34.9910,2,  35.0010,3,    253.8,2,    254.6,2,    25.28,2,    20.30,2,     1.14,2,   -999.0,9,   7.7380,2,    25.00,   3.1704
  35TH20020610, OVIDE,    77,  1,     12,2,20020707,0706, 42.2810, -15.0650, 5406,   2245.7,   3.6470,  35.0020,2,  35.0030,2,    257.6,2,    257.7,2,    20.64,2,    19.07,2,     1.08,2,   -999.0,9,   7.7380,2,    25.00,   3.4606
  35TH20020610, OVIDE,    77,  1,     13,2,20020707,0706, 42.2810, -15.0650, 5406,   1995.5,   3.9170,  35.0070,2,  35.0060,2,    262.5,2,    261.9,2,    14.17,2,    18.17,2,     1.01,3,   -999.0,9,   7.7360,2,    25.00,   3.7510
  35TH20020610, OVIDE,    77,  1,     14,2,20020707,0706, 42.2810, -15.0650, 5406,   1794.9,   4.3570,  35.0550,2,  35.0550,2,    256.9,2,    257.2,2,    12.62,2,    17.44,3,     1.03,2,   -999.0,9,   7.7380,2,    25.00,   4.2043
  35TH20020610, OVIDE,    77,  1,     15,2,20020707,0706, 42.2810, -15.0650, 5406,   1596.4,   5.5250,  35.2380,2,  35.2400,2,    240.5,2,    239.1,2,    11.96,2,    18.56,2,     0.96,2,   -999.0,9,   7.7390,2,    25.00,   5.3772
  35TH20020610, OVIDE,    77,  1,     16,2,20020707,0706, 42.2810, -15.0650, 5406,   1395.8,   7.7400,  35.6090,2,  35.6140,2,    211.7,2,    212.3,2,    10.93,2,    17.55,2,     0.90,2,   -999.0,9,   7.7620,2,    25.00,   7.5894
  35TH20020610, OVIDE,    77,  1,     17,2,20020707,0706, 42.2810, -15.0650, 5406,   1195.0,  10.0460,  35.9990,2,  35.9980,2,    190.3,2,    188.7,2,     9.75,2,    17.32,2,     0.87,2,   -999.0,9,   7.7850,2,    25.00,   9.8983
  35TH20020610, OVIDE,    77,  1,     18,2,20020707,0706, 42.2810, -15.0650, 5406,   1095.6,  10.6340,  36.0480,2,  36.0490,2,    185.1,2,    184.2,2,     9.23,2,    17.04,2,     1.00,3,   -999.0,9,   7.7900,2,    25.00,  10.4946
  35TH20020610, OVIDE,    77,  1,     19,2,20020707,0706, 42.2810, -15.0650, 5406,    896.3,  11.0640,  35.9620,2,  35.9640,2,    184.8,2,    183.8,2,     8.27,2,    15.19,3,     0.83,3,   -999.0,9,   7.7920,2,    25.00,  10.9484
  35TH20020610, OVIDE,    77,  1,     20,2,20020707,0706, 42.2810, -15.0650, 5406,    796.1,  10.9930,  35.8130,2,  35.8160,2,    186.4,2,    187.3,2,     7.86,2,    16.09,2,     0.86,2,   -999.0,9,   7.7840,2,    25.00,  10.8913
  35TH20020610, OVIDE,    77,  1,     21,2,20020707,0706, 42.2810, -15.0650, 5406,    695.7,  10.9430,  35.6860,2,  35.6890,2,    191.8,2,    191.4,2,     7.20,2,    15.92,2,     0.81,2,   -999.0,9,   7.7860,2,    25.00,  10.8549
  35TH20020610, OVIDE,    77,  1,     22,2,20020707,0706, 42.2810, -15.0650, 5406,    596.2,  10.9470,  35.5940,2,  35.5980,2,    206.1,2,    199.2,3,     6.51,2,    15.25,2,     0.79,2,   -999.0,9,   7.7870,2,    25.00,  10.8719
  35TH20020610, OVIDE,    77,  1,     23,2,20020707,0706, 42.2810, -15.0650, 5406,    495.2,  11.1830,  35.5670,2,  35.5670,2,    213.1,2,    208.1,2,     5.48,2,    13.51,2,     0.73,2,   -999.0,9,   7.7980,2,    25.00,  11.1201
  35TH20020610, OVIDE,    77,  1,     24,2,20020707,0706, 42.2810, -15.0650, 5406,    395.8,  11.5880,  35.5770,2,  35.5750,2,    220.6,2,    220.6,2,     4.41,2,    12.16,2,     0.63,2,   -999.0,9,   7.8190,2,    25.00,  11.5368
  35TH20020610, OVIDE,    77,  1,     25,2,20020707,0706, 42.2810, -15.0650, 5406,    296.9,  12.0700,  35.6210,2,  35.6230,2,    224.4,2,    228.3,2,     3.69,2,    10.48,2,     0.55,2,   -999.0,9,   7.8470,2,    25.00,  12.0307
  35TH20020610, OVIDE,    77,  1,     26,2,20020707,0706, 42.2810, -15.0650, 5406,    196.1,  12.9190,  35.7240,2,  35.7260,2,    234.3,2,    231.3,2,     2.90,2,     7.94,2,     0.43,2,   -999.0,9,   7.8760,2,    25.00,  12.8919
  35TH20020610, OVIDE,    77,  1,     27,2,20020707,0706, 42.2810, -15.0650, 5406,    146.3,  13.3440,  35.7950,2,  35.7850,3,    242.9,2,    241.6,2,     1.93,2,     5.10,2,     0.26,2,   -999.0,9,   7.9010,2,    25.00,  13.3234
  35TH20020610, OVIDE,    77,  1,     28,2,20020707,0706, 42.2810, -15.0650, 5406,     97.1,  13.7290,  35.8630,2,  35.8640,2,    241.4,2,    239.8,2,     1.72,2,     5.05,3,     0.25,2,   -999.0,9,   7.9120,2,    25.00,  13.7151
  35TH20020610, OVIDE,    77,  1,     29,2,20020707,0706, 42.2810, -15.0650, 5406,     47.3,  15.3380,  35.8820,2,  35.8870,2,    254.8,2,    251.5,2,     1.03,2,     0.11,2,     0.04,2,   -999.0,9,   7.9660,2,    25.00,  15.3307
  35TH20020610, OVIDE,    77,  1,     30,2,20020707,0706, 42.2810, -15.0650, 5406,      7.1,  17.4180,  35.8770,2,  35.8770,2,    240.4,2,    245.2,2,     0.90,2,     0.06,2,     0.02,2,   -999.0,9,   7.9780,2,    25.00,  17.4168
  35TH20020610, OVIDE,    78,  1,      3,2,20020707,1301, 41.9830, -14.6710, 5433,   5423.3,   2.5700,  34.8990,2,  34.8990,2,    242.3,2,    243.0,2,    46.90,2,    23.35,2,     1.33,2,   2353.7,2,   7.7310,2,    25.00,   2.0431
  35TH20020610, OVIDE,    78,  1,      4,2,20020707,1301, 41.9830, -14.6710, 5433,   4698.6,   2.5020,  34.9030,2,  34.9010,2,    245.2,2,    243.3,2,    45.45,3,    23.41,2,     1.32,2,   2351.0,2,   7.7290,2,    25.00,   2.0702
  35TH20020610, OVIDE,    78,  1,      5,2,20020707,1301, 41.9830, -14.6710, 5433,   3997.1,   2.5360,  34.9130,2,  34.9120,2,    245.1,2,    243.5,2,    42.10,3,    23.02,2,     1.30,2,   2346.9,2,   7.7320,2,    25.00,   2.1869
  35TH20020610, OVIDE,    78,  1,      6,2,20020707,1301, 41.9830, -14.6710, 5433,   3748.3,   2.5760,  34.9210,2,  34.9200,2,    245.8,2,    244.2,2,    41.76,2,    22.51,2,     1.28,2,   2346.4,2,   7.7330,2,    25.00,   2.2541
  35TH20020610, OVIDE,    78,  1,      7,2,20020707,1301, 41.9830, -14.6710, 5433,   3496.1,   2.6360,  34.9290,2,  34.9300,2,    246.8,2,    244.9,2,    39.64,2,    22.62,2,     1.26,2,   2343.6,2,   7.7340,2,    25.00,   2.3405
  35TH20020610, OVIDE,    78,  1,      8,2,20020707,1301, 41.9830, -14.6710, 5433,   3246.8,   2.7070,  34.9380,2,  34.9420,2,    247.7,2,    246.7,2,    37.07,2,    22.22,2,     1.24,2,   2341.3,2,   7.7340,2,    25.00,   2.4366
  35TH20020610, OVIDE,    78,  1,      9,2,20020707,1301, 41.9830, -14.6710, 5433,   2996.3,   2.8470,  34.9500,2,  34.9490,2,    249.5,2,    248.5,2,    33.94,2,    21.89,2,     1.22,2,   2337.8,2,   7.7370,2,    25.00,   2.5998
  35TH20020610, OVIDE,    78,  1,     10,2,20020707,1301, 41.9830, -14.6710, 5433,   2745.7,   2.9990,  34.9630,2,  34.9630,2,    251.2,2,    250.1,2,    30.82,2,    21.38,2,     1.18,2,   2333.3,2,   7.7370,2,    25.00,   2.7744
  35TH20020610, OVIDE,    78,  1,     11,2,20020707,1301, 41.9830, -14.6710, 5433,   2494.0,   3.2340,  34.9800,2,  34.9800,2,    254.9,2,    253.4,2,    25.79,2,    20.42,2,     1.12,2,   2327.0,2,   7.7380,2,    25.00,   3.0302
  35TH20020610, OVIDE,    78,  1,     12,2,20020707,1301, 41.9830, -14.6710, 5433,   2294.7,   3.5220,  35.0010,2,  35.0010,2,    255.2,2,    253.8,2,    22.22,2,    19.86,2,     1.10,2,   2322.8,2,   7.7400,2,    25.00,   3.3329
  35TH20020610, OVIDE,    78,  1,     13,2,20020707,1301, 41.9830, -14.6710, 5433,   2046.0,   3.8370,  35.0240,2,  35.0220,2,    258.6,2,    255.5,2,    17.45,2,    17.94,3,     1.06,2,   2319.4,2,   7.7360,2,    25.00,   3.6672
  35TH20020610, OVIDE,    78,  1,     14,2,20020707,1301, 41.9830, -14.6710, 5433,   1795.0,   4.3800,  35.0790,2,  35.0800,2,    249.1,2,    253.8,2,    14.14,2,    19.18,2,     1.03,2,   2319.0,2,   7.7360,2,    25.00,   4.2269
  35TH20020610, OVIDE,    78,  1,     15,2,20020707,1301, 41.9830, -14.6710, 5433,   1596.1,   5.7720,  35.2960,2,  35.2990,2,    232.3,2,    235.4,2,    12.86,2,    19.46,3,     1.00,2,   2333.3,2,   7.7450,2,    25.00,   5.6212
  35TH20020610, OVIDE,    78,  1,     16,2,20020707,1301, 41.9830, -14.6710, 5433,   1396.9,   8.0140,  35.6750,2,  35.6870,3,    208.3,2,    209.5,2,    11.17,2,    17.93,2,     0.94,2,   2356.9,2,   7.7680,2,    25.00,   7.8604
  35TH20020610, OVIDE,    78,  1,     17,2,20020707,1301, 41.9830, -14.6710, 5433,   1146.0,   9.7580,  35.9020,2,  35.9080,2,    190.7,2,    189.6,2,    10.06,2,    18.09,2,     0.88,2,   2371.5,2,   7.7780,2,    25.00,   9.6192
  35TH20020610, OVIDE,    78,  1,     18,2,20020707,1301, 41.9830, -14.6710, 5433,   1047.3,  10.0950,  35.9140,2,  35.9120,2,    186.7,2,    190.9,2,     9.89,2,    18.38,2,     0.93,2,   2372.5,2,   7.7820,2,    25.00,   9.9662
  35TH20020610, OVIDE,    78,  1,     19,2,20020707,1301, 41.9830, -14.6710, 5433,    945.5,  10.2620,  35.8560,2,  35.8620,2,    184.1,2,    184.6,2,     9.51,2,    17.98,2,     0.90,2,   2366.4,2,   7.7800,2,    25.00,  10.1452
  35TH20020610, OVIDE,    78,  1,     20,2,20020707,1301, 41.9830, -14.6710, 5433,    797.2,  10.5480,  35.7600,2,  35.7590,2,    186.7,2,    184.8,2,     8.75,2,    16.74,2,     0.90,2,   2356.9,2,   7.7770,2,    25.00,  10.4487
  35TH20020610, OVIDE,    78,  1,     21,2,20020707,1301, 41.9830, -14.6710, 5433,    696.4,  10.6710,  35.6560,2,  35.6500,3,    189.8,2,    188.5,2,     8.13,2,    16.12,2,     0.87,2,   2347.3,2,   7.7760,2,    25.00,  10.5842
  35TH20020610, OVIDE,    78,  1,     22,2,20020707,1301, 41.9830, -14.6710, 5433,    596.7,  10.9600,  35.5920,2,  35.5900,2,    198.6,2,    199.1,2,     6.76,2,    15.11,2,     0.78,2,   2338.9,2,   7.7860,2,    25.00,  10.8848
  35TH20020610, OVIDE,    78,  1,     23,2,20020707,1301, 41.9830, -14.6710, 5433,    496.7,  11.2460,  35.5670,2,  35.5660,2,    212.0,2,    207.8,2,     5.58,2,    12.69,2,     0.72,2,   2335.1,2,   7.7980,2,    25.00,  11.1827
  35TH20020610, OVIDE,    78,  1,     24,2,20020707,1301, 41.9830, -14.6710, 5433,    397.5,  11.5880,  35.5800,2,  35.5820,2,    218.6,2,    220.2,2,     4.58,2,    12.63,2,     0.62,2,   2336.0,2,   7.8210,2,    25.00,  11.5365
  35TH20020610, OVIDE,    78,  1,     25,2,20020707,1301, 41.9830, -14.6710, 5433,    296.9,  11.9670,  35.6100,2,  35.6110,2,    229.9,2,    225.9,2,     4.00,2,     9.81,2,     0.54,2,   2336.7,2,   7.8370,2,    25.00,  11.9279
  35TH20020610, OVIDE,    78,  1,     26,2,20020707,1301, 41.9830, -14.6710, 5433,    197.3,  12.7180,  35.7020,2,  35.7000,2,    241.3,2,    241.4,2,     2.62,2,     6.14,2,     0.36,2,   2341.7,2,   7.8830,2,    25.00,  12.6911
  35TH20020610, OVIDE,    78,  1,     27,2,20020707,1301, 41.9830, -14.6710, 5433,    146.2,  12.9690,  35.7270,2,  35.7300,2,    242.5,2,    243.2,2,     1.93,2,     4.42,2,     0.29,2,   2343.6,2,   7.8970,2,    25.00,  12.9488
  35TH20020610, OVIDE,    78,  1,     28,2,20020707,1301, 41.9830, -14.6710, 5433,     96.5,  13.3880,  35.7890,2,  35.7870,2,    238.6,2,    239.2,2,     1.72,2,     3.27,2,     0.25,2,   2348.1,2,   7.9010,2,    25.00,  13.3744
  35TH20020610, OVIDE,    78,  1,     29,2,20020707,1301, 41.9830, -14.6710, 5433,     47.3,  14.7430,  35.8230,2,  35.8220,2,    258.3,2,    248.5,3,     1.31,2,     0.17,2,     0.07,2,   2352.4,2,   7.9480,2,    25.00,  14.7359
  35TH20020610, OVIDE,    78,  1,     30,2,20020707,1301, 41.9830, -14.6710, 5433,      3.7,  17.5370,  35.8300,2,  35.8270,2,    246.4,2,    244.0,2,     1.14,2,     0.06,2,     0.04,2,   2353.4,2,   7.9740,2,    25.00,  17.5364
  35TH20020610, OVIDE,    79,  1,      3,2,20020708,1906, 41.6830, -14.2770, 5440,   5429.9,   2.5710,  34.8990,2,  34.8980,2,    243.9,2,    243.5,2,    47.16,2,    23.34,2,     1.32,3,   -999.0,9,   7.7320,2,    25.00,   2.0432
  35TH20020610, OVIDE,    79,  1,      4,2,20020708,1906, 41.6830, -14.2770, 5440,   4999.8,   2.5210,  34.8990,2,  34.8970,2,    245.0,2,    243.7,2,    47.38,2,    22.57,2,     1.27,3,   -999.0,9,   7.7330,2,    25.00,   2.0508
  35TH20020610, OVIDE,    79,  1,      5,2,20020708,1906, 41.6830, -14.2770, 5440,   4497.4,   2.4940,  34.9030,2,  34.9030,2,    244.7,2,    243.3,2,    46.73,2,    22.03,3,     1.26,3,   -999.0,9,   7.7340,2,    25.00,   2.0871
  35TH20020610, OVIDE,    79,  1,      6,2,20020708,1906, 41.6830, -14.2770, 5440,   3996.4,   2.5290,  34.9130,2,  34.9100,2,    245.0,2,    243.8,2,    44.33,2,    20.50,3,     1.16,3,   -999.0,9,   7.7350,2,    25.00,   2.1802
  35TH20020610, OVIDE,    79,  1,      7,2,20020708,1906, 41.6830, -14.2770, 5440,   3495.2,   2.6310,  34.9280,2,  34.9250,2,    246.0,2,    245.3,2,    40.41,2,    22.30,2,     1.31,2,   -999.0,9,   7.7360,2,    25.00,   2.3357
  35TH20020610, OVIDE,    79,  1,      8,2,20020708,1906, 41.6830, -14.2770, 5440,   3247.0,   2.7160,  34.9380,2,  34.9430,2,    247.3,2,    253.0,3,    37.68,2,    21.15,2,     1.24,2,   -999.0,9,   7.7360,2,    25.00,   2.4454
  35TH20020610, OVIDE,    79,  1,      9,2,20020708,1906, 41.6830, -14.2770, 5440,   2996.2,   2.8400,  34.9510,2,  34.9480,2,    249.0,2,    248.6,2,    35.07,2,    18.97,3,     1.00,3,   -999.0,9,   7.7360,2,    25.00,   2.5930
  35TH20020610, OVIDE,    79,  1,     10,2,20020708,1906, 41.6830, -14.2770, 5440,   2746.7,   3.0220,  34.9660,2,  34.9650,2,    251.6,2,    250.4,2,    31.48,2,    19.24,3,     1.14,3,   -999.0,9,   7.7370,2,    25.00,   2.7968
  35TH20020610, OVIDE,    79,  1,     11,2,20020708,1906, 41.6830, -14.2770, 5440,   2495.6,   3.2850,  34.9840,2,  34.9830,2,    254.7,2,    254.3,2,    26.47,2,    20.28,2,     1.15,2,   -999.0,9,   7.7380,2,    25.00,   3.0801
  35TH20020610, OVIDE,    79,  1,     12,2,20020708,1906, 41.6830, -14.2770, 5440,   2245.6,   3.5500,  34.9980,2,  34.9970,2,    258.3,2,    257.8,2,    21.67,2,    19.19,2,     1.10,2,   -999.0,9,   7.7370,2,    25.00,   3.3653
  35TH20020610, OVIDE,    79,  1,     13,2,20020708,1906, 41.6830, -14.2770, 5440,   1996.1,   3.9860,  35.0320,2,  35.0330,2,    258.1,2,    257.7,2,    15.15,2,    17.17,3,     0.97,3,   -999.0,9,   7.7370,2,    25.00,   3.8188
  35TH20020610, OVIDE,    79,  1,     14,2,20020708,1906, 41.6830, -14.2770, 5440,   1796.0,   4.5460,  35.0980,2,  35.1050,2,    254.6,2,    252.9,2,    12.96,2,    17.23,3,     0.92,3,   -999.0,9,   7.7400,2,    25.00,   4.3905
  35TH20020610, OVIDE,    79,  1,     15,2,20020708,1906, 41.6830, -14.2770, 5440,   1594.8,   5.7910,  35.2850,2,  35.2900,2,    238.6,2,    236.4,2,    12.01,2,    18.31,2,     1.00,2,   -999.0,9,   7.7440,2,    25.00,   5.6401
  35TH20020610, OVIDE,    79,  1,     16,2,20020708,1906, 41.6830, -14.2770, 5440,   1396.5,   7.5830,  35.5790,2,  35.5860,3,    212.3,2,    214.1,2,    11.12,2,    16.68,3,     0.81,3,   -999.0,9,   7.7560,2,    25.00,   7.4339
  35TH20020610, OVIDE,    79,  1,     17,2,20020708,1906, 41.6830, -14.2770, 5440,   1195.6,   9.3520,  35.8540,2,  35.8590,2,    191.4,2,    194.4,2,    10.16,2,    17.54,2,     0.89,2,   -999.0,9,   7.7760,2,    25.00,   9.2103
  35TH20020610, OVIDE,    79,  1,     18,2,20020708,1906, 41.6830, -14.2770, 5440,    995.3,  10.5530,  35.9520,2,  35.9500,2,    186.3,2,    184.9,2,     9.00,2,    16.23,3,     0.72,3,   -999.0,9,   7.7890,2,    25.00,  10.4276
  35TH20020610, OVIDE,    79,  1,     19,2,20020708,1906, 41.6830, -14.2770, 5440,    896.0,  11.1220,  36.0010,2,  36.0050,2,    185.1,2,    183.3,2,     8.25,2,    15.04,3,     0.64,3,   -999.0,9,   7.7960,2,    25.00,  11.0060
  35TH20020610, OVIDE,    79,  1,     20,2,20020708,1906, 41.6830, -14.2770, 5440,    796.4,  10.9160,  35.8310,2,  35.8320,2,    186.8,2,    185.5,2,     8.15,2,    17.05,2,     0.88,2,   -999.0,9,   7.7880,2,    25.00,  10.8147
  35TH20020610, OVIDE,    79,  1,     21,2,20020708,1906, 41.6830, -14.2770, 5440,    697.0,  10.8940,  35.7000,2,  35.7010,2,    190.0,2,    188.7,2,     7.64,2,    16.02,2,     0.79,3,   -999.0,9,   7.7840,2,    25.00,  10.8059
  35TH20020610, OVIDE,    79,  1,     22,2,20020708,1906, 41.6830, -14.2770, 5440,    597.0,  10.9670,  35.5820,2,  35.5840,2,    200.9,2,    198.0,2,     6.62,2,    16.18,3,     0.83,2,   -999.0,9,   7.7860,2,    25.00,  10.8917
  35TH20020610, OVIDE,    79,  1,     23,2,20020708,1906, 41.6830, -14.2770, 5440,    497.0,  11.3980,  35.5990,2,  35.5970,2,    208.3,2,    202.4,3,     5.76,3,    14.88,2,     0.74,2,   -999.0,9,   7.7990,2,    25.00,  11.3341
  35TH20020610, OVIDE,    79,  1,     24,2,20020708,1906, 41.6830, -14.2770, 5440,    396.7,  11.5620,  35.5760,2,  35.5760,2,    225.7,2,    224.7,2,     4.43,2,    12.75,2,     0.62,2,   -999.0,9,   7.8250,2,    25.00,  11.5107
  35TH20020610, OVIDE,    79,  1,     25,2,20020708,1906, 41.6830, -14.2770, 5440,    297.2,  12.0850,  35.6220,2,  35.6200,2,    234.5,2,    231.4,2,     3.65,2,    10.79,2,     0.52,2,   -999.0,9,   7.8440,2,    25.00,  12.0456
  35TH20020610, OVIDE,    79,  1,     26,2,20020708,1906, 41.6830, -14.2770, 5440,    196.3,  12.7300,  35.6970,2,  35.7030,2,    242.8,2,    241.9,2,     2.49,2,     6.83,2,     0.32,2,   -999.0,9,   7.8840,2,    25.00,  12.7032
  35TH20020610, OVIDE,    79,  1,     27,2,20020708,1906, 41.6830, -14.2770, 5440,    146.2,  13.0550,  35.7440,2,  35.7410,2,    238.4,2,    243.9,2,     1.74,2,     3.60,2,     0.21,2,   -999.0,9,   7.9000,2,    25.00,  13.0347
  35TH20020610, OVIDE,    79,  1,     28,2,20020708,1906, 41.6830, -14.2770, 5440,     96.2,  13.7710,  35.8240,2,  35.8250,2,    241.7,2,    238.1,2,     1.60,2,     3.05,2,     0.21,2,   -999.0,9,   7.9110,2,    25.00,  13.7572
  35TH20020610, OVIDE,    79,  1,     29,2,20020708,1906, 41.6830, -14.2770, 5440,     46.9,  16.5620,  35.8800,2,  35.8770,2,    245.7,2,    250.8,2,     1.40,2,     0.06,2,     0.03,2,   -999.0,9,   7.9780,2,    25.00,  16.5544
  35TH20020610, OVIDE,    79,  1,     30,2,20020708,1906, 41.6830, -14.2770, 5440,      4.8,  17.9320,  35.9130,2,  35.9130,2,    236.3,2,    242.7,3,     1.36,2,     0.06,2,     0.04,2,   -999.0,9,   7.9870,2,    25.00,  17.9312