BOTTLE,20140820PRINUNIVRMK
EXPOCODE,SECT_ID,STNNBR,CASTNO,BTLNBR,BTLNBR_FLAG_W,DATE,TIME,LATITUDE,LONGITUDE,DEPTH,CTDPRS,CTDTMP,CTDSAL,CTDSAL_FLAG_W,SALNTY,SALNTY_FLAG_W,CTDOXY,CTDOXY_FLAG_W,OXYGEN,OXYGEN_FLAG_W,SILCAT,SILCAT_FLAG_W,NITRAT,NITRAT_FLAG_W,PHSPHT,PHSPHT_FLAG_W,ALKALI,ALKALI_FLAG_W,PH_SWS,PH_SWS_FLAG_W,PH_TMP,THETA
,,,,,,,,,,METERS,DBAR,ITS-90,PSS-78,,PSS-78,,UMOL/KG,,UMOL/KG,,UMOL/KG,,UMOL/KG,,UMOL/KG,,UMOL/KG,,,,DEG C,DEG C
  35TH20020610, OVIDE,    46,  1,      3,2,20020626,0932, 52.8930, -24.6560, 3679,   3668.8,   2.5340,  34.9160,2,  34.9160,2,    242.6,2,    242.8,2,    41.89,2,    22.70,2,     1.34,2,   2348.4,2,   7.7270,2,    25.00,   2.2221
  35TH20020610, OVIDE,    46,  1,      4,2,20020626,0932, 52.8930, -24.6560, 3679,   3597.5,   2.6560,  34.9310,2,  34.9350,2,    252.6,2,    252.7,2,    34.12,2,    20.90,2,     1.24,2,   2334.9,2,   7.7270,2,    25.00,   2.3488
  35TH20020610, OVIDE,    46,  1,      5,2,20020626,0932, 52.8930, -24.6560, 3679,   3395.5,   2.7330,  34.9410,2,  34.9400,2,    259.4,2,    259.0,2,    27.92,2,    19.68,2,     1.17,2,   2327.0,2,   7.7290,2,    25.00,   2.4460
  35TH20020610, OVIDE,    46,  1,      6,2,20020626,0932, 52.8930, -24.6560, 3679,   3198.6,   2.7810,  34.9440,2,  34.9430,2,    264.8,2,    262.1,2,    24.66,2,    19.09,2,     1.13,2,   2322.1,2,   7.7280,2,    25.00,   2.5140
  35TH20020610, OVIDE,    46,  1,      7,2,20020626,0932, 52.8930, -24.6560, 3679,   2996.7,   2.8470,  34.9480,2,  34.9490,2,    262.5,2,    268.0,2,    20.04,2,    18.24,2,     1.08,2,   2314.7,2,   7.7270,2,    25.00,   2.5998
  35TH20020610, OVIDE,    46,  1,      8,2,20020626,0932, 52.8930, -24.6560, 3679,   2797.7,   2.9460,  34.9480,2,  34.9480,2,    270.4,2,    270.3,2,    18.47,2,    18.08,2,     1.06,2,   -999.0,9,-999.0000,9,  -999.00,   2.7172
  35TH20020610, OVIDE,    46,  1,      9,2,20020626,0932, 52.8930, -24.6560, 3679,   2596.7,   3.0420,  34.9410,2,  34.9400,2,    273.0,2,    274.2,2,    13.95,2,    17.50,2,     1.02,2,   2307.4,2,   7.7290,2,    25.00,   2.8317
  35TH20020610, OVIDE,    46,  1,     10,2,20020626,0932, 52.8930, -24.6560, 3679,   2396.8,   3.0980,  34.9300,2,  34.9290,2,    275.9,2,    276.8,2,    12.93,2,    17.02,3,     1.02,2,   2304.4,2,   7.7290,2,    25.00,   2.9064
  35TH20020610, OVIDE,    46,  1,     11,2,20020626,0932, 52.8930, -24.6560, 3679,   2195.2,   3.1400,  34.9120,2,  34.9120,2,    278.1,2,    280.0,2,    12.00,2,    17.72,3,     1.02,2,   2302.8,2,   7.7310,2,    25.00,   2.9672
  35TH20020610, OVIDE,    46,  1,     12,2,20020626,0932, 52.8930, -24.6560, 3679,   1997.5,   3.1630,  34.8950,2,  34.8950,2,    282.2,2,    284.1,2,    11.26,2,    17.50,2,     1.02,2,   2300.6,2,   7.7290,2,    25.00,   3.0084
  35TH20020610, OVIDE,    46,  1,     13,2,20020626,0932, 52.8930, -24.6560, 3679,   1795.3,   3.2100,  34.8860,2,  34.8870,2,    282.7,2,    284.6,2,    10.84,2,    17.93,2,     1.04,2,   2300.0,2,   7.7250,2,    25.00,   3.0731
  35TH20020610, OVIDE,    46,  1,     14,2,20020626,0932, 52.8930, -24.6560, 3679,   1596.1,   3.3240,  34.8890,2,  34.8910,2,    281.4,2,    282.0,2,    10.78,2,    18.88,3,     1.04,2,   2299.9,2,   7.7250,2,    25.00,   3.2033
  35TH20020610, OVIDE,    46,  1,     15,2,20020626,0932, 52.8930, -24.6560, 3679,   1396.5,   3.4920,  34.8980,2,  34.8990,2,    278.1,2,    292.5,3,    10.69,2,    18.78,3,     1.05,2,   2300.6,2,   7.7230,2,    25.00,   3.3867
  35TH20020610, OVIDE,    46,  1,     16,2,20020626,0932, 52.8930, -24.6560, 3679,   1396.2,   3.4920,  34.8980,2,  34.8990,2,    278.1,2,    279.5,2,    10.72,2,    17.77,2,     1.04,2,   2300.6,2,   7.7230,2,    25.00,   3.3867
  35TH20020610, OVIDE,    46,  1,     17,2,20020626,0932, 52.8930, -24.6560, 3679,   1196.6,   3.6880,  34.9060,2,  34.9060,2,    273.3,2,    274.3,2,    10.51,2,    17.93,2,     1.05,2,   2301.2,2,   7.7180,2,    25.00,   3.5978
  35TH20020610, OVIDE,    46,  1,     18,2,20020626,0932, 52.8930, -24.6560, 3679,    995.2,   3.8920,  34.9150,2,  34.9140,2,    271.7,2,    269.5,2,    10.39,2,    18.14,2,     1.05,2,   2301.7,2,   7.7160,2,    25.00,   3.8169
  35TH20020610, OVIDE,    46,  1,     19,2,20020626,0932, 52.8930, -24.6560, 3679,    896.0,   4.0290,  34.9210,2,  34.9200,2,    268.1,2,    267.9,2,    10.30,2,    18.14,2,     1.05,2,   2302.3,2,   7.7160,2,    25.00,   3.9611
  35TH20020610, OVIDE,    46,  1,     20,2,20020626,0932, 52.8930, -24.6560, 3679,    796.1,   4.1750,  34.9210,2,  34.9230,2,    264.8,2,    264.9,2,    10.30,2,    18.14,2,     1.06,2,   2303.1,2,   7.7120,2,    25.00,   4.1143
  35TH20020610, OVIDE,    46,  1,     21,2,20020626,0932, 52.8930, -24.6560, 3679,    695.4,   4.4150,  34.9300,2,  34.9280,2,    258.2,2,    258.2,2,    10.36,2,    18.56,2,     1.07,2,   2303.4,2,   7.7080,2,    25.00,   4.3612
  35TH20020610, OVIDE,    46,  1,     22,2,20020626,0932, 52.8930, -24.6560, 3679,    593.5,   4.8040,  34.9420,2,  34.9410,2,    247.9,2,    247.6,2,    10.57,2,    18.88,2,     1.10,2,   2304.5,2,   7.7040,2,    25.00,   4.7568
  35TH20020610, OVIDE,    46,  1,     23,2,20020626,0932, 52.8930, -24.6560, 3679,    496.8,   5.1710,  34.9410,2,  34.9510,3,    236.3,2,    237.7,2,    10.69,2,    19.20,2,     1.11,2,   2304.7,2,   7.7000,2,    25.00,   5.1304
  35TH20020610, OVIDE,    46,  1,     24,2,20020626,0932, 52.8930, -24.6560, 3679,    347.2,   6.4500,  34.9620,2,  34.9630,2,    213.4,2,    215.6,2,    10.72,2,    19.73,3,     1.14,2,   2306.4,2,   7.7000,2,    25.00,   6.4186
  35TH20020610, OVIDE,    46,  1,     25,2,20020626,0932, 52.8930, -24.6560, 3679,    296.1,   6.7020,  34.9060,2,  34.9060,2,    219.8,2,    218.8,2,    10.21,2,    19.04,2,     1.11,2,   2302.3,2,   7.7080,2,    25.00,   6.6748
  35TH20020610, OVIDE,    46,  1,     26,2,20020626,0932, 52.8930, -24.6560, 3679,    194.9,   7.5610,  34.9410,2,  34.9320,3,    265.1,2,    252.8,3,     7.78,3,    15.49,2,     0.92,2,   2303.5,2,   7.7620,2,    25.00,   7.5419
  35TH20020610, OVIDE,    46,  1,     27,2,20020626,0932, 52.8930, -24.6560, 3679,    147.4,   7.8720,  34.9390,2,  34.9420,2,    254.0,2,    274.6,3,     6.65,2,    13.79,2,     0.79,2,   2302.5,2,   7.7870,2,    25.00,   7.8573
  35TH20020610, OVIDE,    46,  1,     28,2,20020626,0932, 52.8930, -24.6560, 3679,     95.4,   9.0040,  35.0340,2,  35.0260,3,    275.9,2,    276.2,2,     3.92,2,    10.34,2,     0.68,2,   2307.8,2,   7.8340,2,    25.00,   8.9937
  35TH20020610, OVIDE,    46,  1,     29,2,20020626,0932, 52.8930, -24.6560, 3679,     48.0,  10.1390,  35.0880,2,  35.0910,2,    285.5,2,    279.3,3,     1.59,2,     7.29,2,     0.49,2,   2313.0,2,   7.8800,2,    25.00,  10.1334
  35TH20020610, OVIDE,    46,  1,     30,2,20020626,0932, 52.8930, -24.6560, 3679,      7.0,  10.7850,  35.0730,2,  35.0720,2,    284.5,2,    286.1,2,     1.02,2,     5.31,2,     0.35,2,   2314.4,2,   7.9140,2,    25.00,  10.7842
  35TH20020610, OVIDE,    47,  1,      3,2,20020626,1416, 52.5210, -24.3630, 3654,   3643.5,   2.5230,  34.9160,2,  34.9150,2,    240.5,2,    242.0,2,    43.92,2,    22.58,2,     1.35,2,   -999.0,9,   7.7250,2,    25.00,   2.2142
  35TH20020610, OVIDE,    47,  1,      4,2,20020626,1416, 52.5210, -24.3630, 3654,   3595.8,   2.5420,  34.9170,2,  34.9180,2,    243.1,2,    243.9,2,    41.86,2,    22.31,2,     1.33,2,   -999.0,9,   7.7280,2,    25.00,   2.2380
  35TH20020610, OVIDE,    47,  1,      5,2,20020626,1416, 52.5210, -24.3630, 3654,   3396.7,   2.6480,  34.9310,2,  34.9290,2,    251.3,2,    251.4,2,    34.77,2,    21.05,2,     1.24,2,   -999.0,9,   7.7300,2,    25.00,   2.3630
  35TH20020610, OVIDE,    47,  1,      6,2,20020626,1416, 52.5210, -24.3630, 3654,   3196.8,   2.7330,  34.9400,2,  34.9400,2,    258.6,2,    258.9,2,    28.25,2,    19.62,2,     1.15,2,   -999.0,9,   7.7300,2,    25.00,   2.4673
  35TH20020610, OVIDE,    47,  1,      7,2,20020626,1416, 52.5210, -24.3630, 3654,   2992.9,   2.8180,  34.9470,2,  34.9470,2,    263.3,2,    265.2,2,    23.44,2,    18.78,2,     1.10,2,   -999.0,9,   7.7330,2,    25.00,   2.5718
  35TH20020610, OVIDE,    47,  1,      8,2,20020626,1416, 52.5210, -24.3630, 3654,   2797.0,   2.9160,  34.9490,2,  34.9470,2,    267.5,2,    269.1,2,    19.44,2,    18.36,2,     1.07,2,   -999.0,9,   7.7320,2,    25.00,   2.6879
  35TH20020610, OVIDE,    47,  1,      9,2,20020626,1416, 52.5210, -24.3630, 3654,   2596.1,   3.0010,  34.9440,2,  34.9430,2,    269.7,2,    270.5,2,    17.61,2,    17.93,2,     1.03,2,   -999.0,9,   7.7300,2,    25.00,   2.7915
  35TH20020610, OVIDE,    47,  1,     10,2,20020626,1416, 52.5210, -24.3630, 3654,   2393.3,   3.0950,  34.9320,2,  34.9310,2,    273.7,2,    276.3,2,    13.76,2,    17.72,2,     1.03,2,   -999.0,9,   7.7330,2,    25.00,   2.9038
  35TH20020610, OVIDE,    47,  1,     11,2,20020626,1416, 52.5210, -24.3630, 3654,   2195.4,   3.1520,  34.9150,2,  34.8950,3,    277.7,2,    278.8,2,    12.58,2,    17.72,2,     1.05,2,   -999.0,9,   7.7320,2,    25.00,   2.9789
  35TH20020610, OVIDE,    47,  1,     12,2,20020626,1416, 52.5210, -24.3630, 3654,   1995.2,   3.1670,  34.8970,2,  34.9140,3,    282.3,2,    283.4,2,    11.63,2,    17.41,2,     1.04,2,   -999.0,9,   7.7290,2,    25.00,   3.0125
  35TH20020610, OVIDE,    47,  1,     13,2,20020626,1416, 52.5210, -24.3630, 3654,   1795.9,   3.2070,  34.8870,2,  34.8860,2,    282.6,2,    284.9,2,    11.18,2,    17.78,2,     1.03,2,   -999.0,9,   7.7270,2,    25.00,   3.0701
  35TH20020610, OVIDE,    47,  1,     14,2,20020626,1416, 52.5210, -24.3630, 3654,   1596.7,   3.3110,  34.8890,2,  34.8910,2,    280.4,2,    281.3,2,    11.09,2,    17.83,2,     1.03,2,   -999.0,9,   7.7260,2,    25.00,   3.1904
  35TH20020610, OVIDE,    47,  1,     15,2,20020626,1416, 52.5210, -24.3630, 3654,   1397.1,   3.4860,  34.8990,2,  34.8980,2,    276.0,2,    277.2,2,    11.09,2,    17.99,2,     1.03,2,   -999.0,9,   7.7220,2,    25.00,   3.3807
  35TH20020610, OVIDE,    47,  1,     16,2,20020626,1416, 52.5210, -24.3630, 3654,   1197.5,   3.7030,  34.9080,2,  34.9090,2,    272.3,2,    273.0,2,    10.86,2,    18.15,2,     1.02,2,   -999.0,9,   7.7200,2,    25.00,   3.6125
  35TH20020610, OVIDE,    47,  1,     17,2,20020626,1416, 52.5210, -24.3630, 3654,   1196.6,   3.7040,  34.9090,2,  34.9080,2,    272.3,2,    272.5,2,    11.04,2,    18.36,2,     1.07,2,   -999.0,9,   7.7180,2,    25.00,   3.6136
  35TH20020610, OVIDE,    47,  1,     18,2,20020626,1416, 52.5210, -24.3630, 3654,    996.5,   3.9870,  34.9280,2,  34.9270,2,    265.9,2,    266.6,2,    10.50,2,    18.20,2,     1.10,3,   -999.0,9,   7.7190,2,    25.00,   3.9110
  35TH20020610, OVIDE,    47,  1,     19,2,20020626,1416, 52.5210, -24.3630, 3654,    894.3,   4.1250,  34.9300,2,  34.9290,2,    265.5,2,    264.6,2,    10.38,2,    18.30,2,     1.13,3,   -999.0,9,   7.7160,2,    25.00,   4.0565
  35TH20020610, OVIDE,    47,  1,     20,2,20020626,1416, 52.5210, -24.3630, 3654,    796.2,   4.3020,  34.9380,2,  34.9360,2,    260.8,2,    260.6,2,    10.32,2,    18.57,2,     1.06,2,   -999.0,9,   7.7140,2,    25.00,   4.2405
  35TH20020610, OVIDE,    47,  1,     21,2,20020626,1416, 52.5210, -24.3630, 3654,    696.8,   4.7120,  34.9720,2,  34.9700,2,    247.8,2,    249.5,2,    10.32,2,    18.78,2,     1.08,2,   -999.0,9,   7.7110,2,    25.00,   4.6565
  35TH20020610, OVIDE,    47,  1,     22,2,20020626,1416, 52.5210, -24.3630, 3654,    594.7,   5.3280,  35.0250,2,  35.0210,2,    237.8,2,    236.5,2,    10.62,3,    19.25,3,     1.12,3,   -999.0,9,   7.7040,2,    25.00,   5.2782
  35TH20020610, OVIDE,    47,  1,     23,2,20020626,1416, 52.5210, -24.3630, 3654,    496.7,   5.5860,  34.9810,2,  34.9820,2,    224.7,2,    228.3,2,    10.74,3,    19.36,3,     1.18,3,   -999.0,9,   7.7020,2,    25.00,   5.5438
  35TH20020610, OVIDE,    47,  1,     24,2,20020626,1416, 52.5210, -24.3630, 3654,    397.2,   6.0870,  34.9220,2,  34.9240,2,    215.8,2,    218.9,2,    10.77,3,    19.83,3,     1.14,3,   -999.0,9,   7.6970,2,    25.00,   6.0520
  35TH20020610, OVIDE,    47,  1,     25,2,20020626,1416, 52.5210, -24.3630, 3654,    327.7,   6.9880,  34.9540,2,  34.9520,2,    205.2,2,    204.9,2,    10.56,3,    19.89,3,     1.14,3,   -999.0,9,   7.7010,2,    25.00,   6.9571
  35TH20020610, OVIDE,    47,  1,     26,2,20020626,1416, 52.5210, -24.3630, 3654,    196.3,   8.6230,  35.0670,2,  35.0650,2,    252.6,2,    249.8,2,     6.64,2,    14.50,2,     0.82,2,   -999.0,9,   7.7850,2,    25.00,   8.6022
  35TH20020610, OVIDE,    47,  1,     27,2,20020626,1416, 52.5210, -24.3630, 3654,    145.6,   9.1930,  35.1540,2,  35.1500,2,    261.7,2,    257.3,2,     5.81,2,    13.08,2,     0.74,2,   -999.0,9,   7.8060,2,    25.00,   9.1770
  35TH20020610, OVIDE,    47,  1,     28,2,20020626,1416, 52.5210, -24.3630, 3654,     96.0,   9.5290,  35.1580,2,  35.1600,2,    266.6,2,    265.9,2,     4.95,2,    12.13,2,     0.66,2,   -999.0,9,   7.8200,2,    25.00,   9.5182
  35TH20020610, OVIDE,    47,  1,     29,2,20020626,1416, 52.5210, -24.3630, 3654,     47.9,  10.6970,  35.2450,2,  35.2450,2,    268.7,2,    269.4,2,     0.89,3,     6.82,3,     0.45,3,   -999.0,9,   7.8860,2,    25.00,  10.6912
  35TH20020610, OVIDE,    47,  1,     30,2,20020626,1416, 52.5210, -24.3630, 3654,      5.2,  10.8120,  35.0730,2,  35.0710,2,    283.3,2,    287.1,2,     1.01,2,     5.49,2,     0.33,2,   -999.0,9,   7.9120,2,    25.00,  10.8114
  35TH20020610, OVIDE,    48,  1,      3,2,20020627,1912, 52.1470, -24.0710, 3968,   3958.1,   2.5920,  34.9190,2,  34.9180,2,    243.3,2,    243.0,2,    42.66,2,    22.50,2,     1.34,2,   2349.1,2,   7.7290,2,    25.00,   2.2459
  35TH20020610, OVIDE,    48,  1,      4,2,20020627,1912, 52.1470, -24.0710, 3968,   3798.8,   2.6060,  34.9220,2,  34.9210,2,    245.3,2,    245.0,2,    41.06,2,    22.29,2,     1.33,2,   2345.9,2,   7.7290,2,    25.00,   2.2776
  35TH20020610, OVIDE,    48,  1,      5,2,20020627,1912, 52.1470, -24.0710, 3968,   3596.0,   2.6480,  34.9290,2,  34.9280,2,    248.8,2,    250.0,2,    37.05,2,    21.42,2,     1.27,2,   2339.4,2,   7.7280,2,    25.00,   2.3412
  35TH20020610, OVIDE,    48,  1,      6,2,20020627,1912, 52.1470, -24.0710, 3968,   3395.2,   2.6730,  34.9330,2,  34.9310,2,    252.3,2,    253.8,2,    34.65,2,    20.80,2,     1.23,2,   2336.2,2,   7.7290,2,    25.00,   2.3875
  35TH20020610, OVIDE,    48,  1,      7,2,20020627,1912, 52.1470, -24.0710, 3968,   3196.8,   2.7480,  34.9410,2,  34.9410,2,    258.8,2,    259.9,2,    28.25,2,    19.77,2,     1.16,2,   2325.4,2,   7.7280,2,    25.00,   2.4820
  35TH20020610, OVIDE,    48,  1,      8,2,20020627,1912, 52.1470, -24.0710, 3968,   3196.8,   2.7480,  34.9410,2,  34.9410,2,    258.8,2,    259.7,2,    28.02,2,    19.67,2,     1.14,2,   -999.0,9,   7.7270,3,    25.00,   2.4820
  35TH20020610, OVIDE,    48,  1,      9,2,20020627,1912, 52.1470, -24.0710, 3968,   2996.4,   2.8150,  34.9450,2,  34.9460,2,    263.3,2,    264.5,2,    23.44,2,    19.11,2,     1.10,2,   2319.1,2,   7.7280,2,    25.00,   2.5685
  35TH20020610, OVIDE,    48,  1,     10,2,20020627,1912, 52.1470, -24.0710, 3968,   2796.4,   2.9100,  34.9490,2,  34.9490,2,    268.9,2,    268.7,2,    19.78,2,    18.28,2,     1.07,2,   2314.4,2,   7.7300,2,    25.00,   2.6821
  35TH20020610, OVIDE,    48,  1,     11,2,20020627,1912, 52.1470, -24.0710, 3968,   2596.2,   3.0180,  34.9450,2,  34.9430,2,    270.3,2,    271.9,2,    17.50,2,    18.28,2,     1.04,2,   2311.1,2,   7.7320,2,    25.00,   2.8082
  35TH20020610, OVIDE,    48,  1,     12,2,20020627,1912, 52.1470, -24.0710, 3968,   2196.9,   3.1490,  34.9180,2,  34.9190,2,    276.7,2,    277.9,2,    12.98,2,    18.18,2,     1.01,2,   2304.5,2,   7.7320,2,    25.00,   2.9758
  35TH20020610, OVIDE,    48,  1,     13,2,20020627,1912, 52.1470, -24.0710, 3968,   1995.8,   3.1670,  34.8990,2,  34.8990,2,    280.7,2,    282.1,2,    11.74,2,    17.72,2,     1.04,2,   2303.0,2,   7.7310,2,    25.00,   3.0124
  35TH20020610, OVIDE,    48,  1,     14,2,20020627,1912, 52.1470, -24.0710, 3968,   1796.0,   3.2040,  34.8890,2,  34.8880,2,    283.0,2,    284.4,2,    11.32,2,    18.08,2,     1.04,2,   2300.8,2,   7.7280,2,    25.00,   3.0671
  35TH20020610, OVIDE,    48,  1,     15,2,20020627,1912, 52.1470, -24.0710, 3968,   1596.0,   3.3310,  34.8920,2,  34.8920,2,    277.7,2,    281.0,2,    11.16,2,    18.29,2,     1.05,2,   2300.5,2,   7.7270,2,    25.00,   3.2102
  35TH20020610, OVIDE,    48,  1,     16,2,20020627,1912, 52.1470, -24.0710, 3968,   1395.7,   3.4750,  34.8970,2,  34.8970,2,    276.9,2,    277.9,2,    11.07,2,    18.34,2,     1.05,2,   2300.7,2,   7.7230,2,    25.00,   3.3699
  35TH20020610, OVIDE,    48,  1,     17,2,20020627,1912, 52.1470, -24.0710, 3968,   1196.2,   3.6840,  34.9080,2,  34.9090,2,    271.9,2,    273.5,2,    10.97,2,    18.54,2,     1.05,2,   2302.0,2,   7.7210,2,    25.00,   3.5938
  35TH20020610, OVIDE,    48,  1,     18,2,20020627,1912, 52.1470, -24.0710, 3968,    995.8,   3.9270,  34.9170,2,  34.9170,2,    266.8,2,    269.2,2,    10.72,2,    18.59,2,     1.06,2,   2302.0,2,   7.7170,2,    25.00,   3.8516
  35TH20020610, OVIDE,    48,  1,     19,2,20020627,1912, 52.1470, -24.0710, 3968,    895.0,   4.0680,  34.9220,2,  34.9220,2,    267.4,2,    266.2,2,    10.68,2,    18.70,2,     1.04,2,   2302.8,2,   7.7180,2,    25.00,   3.9999
  35TH20020610, OVIDE,    48,  1,     20,2,20020627,1912, 52.1470, -24.0710, 3968,    797.1,   4.3030,  34.9360,2,  34.9260,3,    259.8,2,    260.7,2,    11.00,2,    18.75,2,     1.04,2,   2304.0,2,   7.7160,2,    25.00,   4.2415
  35TH20020610, OVIDE,    48,  1,     21,2,20020627,1912, 52.1470, -24.0710, 3968,    696.4,   4.6400,  34.9580,2,  34.9570,2,    252.8,2,    252.5,2,    10.97,2,    19.31,2,     1.09,2,   2305.9,2,   7.7090,2,    25.00,   4.5849
  35TH20020610, OVIDE,    48,  1,     22,2,20020627,1912, 52.1470, -24.0710, 3968,    595.7,   4.8100,  34.9410,2,  34.9390,2,    247.5,2,    248.2,2,    11.00,2,    19.36,2,     1.10,2,   2305.3,2,   7.7070,2,    25.00,   4.7626
  35TH20020610, OVIDE,    48,  1,     23,2,20020627,1912, 52.1470, -24.0710, 3968,    496.0,   5.3170,  34.9400,2,  34.9370,2,    235.6,2,    233.7,2,    11.42,3,    19.72,2,     1.12,3,   2305.1,2,   7.7030,2,    25.00,   5.2759
  35TH20020610, OVIDE,    48,  1,     24,2,20020627,1912, 52.1470, -24.0710, 3968,    395.9,   5.9130,  34.9230,2,  34.9200,2,    222.0,2,    221.1,2,    11.51,3,    20.39,2,     1.16,3,   2305.5,2,   7.6980,2,    25.00,   5.8787
  35TH20020610, OVIDE,    48,  1,     25,2,20020627,1912, 52.1470, -24.0710, 3968,    326.1,   6.6500,  34.9450,2,  34.9450,2,    207.8,2,    209.0,2,    11.42,3,    20.24,2,     1.12,3,   2305.8,2,   7.7020,2,    25.00,   6.6201
  35TH20020610, OVIDE,    48,  1,     26,2,20020627,1912, 52.1470, -24.0710, 3968,    197.4,   7.9950,  35.0080,2,  35.0030,3,    249.6,2,    252.2,2,     7.78,2,    16.02,2,     0.89,2,   2308.0,2,   7.7720,2,    25.00,   7.9750
  35TH20020610, OVIDE,    48,  1,     27,2,20020627,1912, 52.1470, -24.0710, 3968,    147.8,   8.7260,  35.1070,2,  35.1110,2,    251.2,2,    256.4,2,     7.02,2,    14.79,2,     0.80,2,   2315.2,2,   7.7940,2,    25.00,   8.7103
  35TH20020610, OVIDE,    48,  1,     28,2,20020627,1912, 52.1470, -24.0710, 3968,     97.6,   9.2910,  35.1470,2,  35.1450,2,    260.8,2,    261.1,2,     5.13,2,    12.94,2,     0.69,2,   2318.3,2,   7.8240,2,    25.00,   9.2802
  35TH20020610, OVIDE,    48,  1,     29,2,20020627,1912, 52.1470, -24.0710, 3968,     47.1,   9.1940,  34.9630,2,  34.9680,3,    290.6,2,    285.6,2,     1.79,3,     8.25,2,     0.47,3,   2302.5,2,   7.8660,2,    25.00,   9.1889
  35TH20020610, OVIDE,    48,  1,     30,2,20020627,1912, 52.1470, -24.0710, 3968,      7.8,  11.1130,  35.1080,2,  35.1020,3,    279.4,2,    288.1,3,     0.61,2,     5.58,2,     0.31,2,   2313.1,2,   7.9000,2,    25.00,  11.1120