BOTTLE,20140820PRINUNIVRMK
EXPOCODE,SECT_ID,STNNBR,CASTNO,BTLNBR,BTLNBR_FLAG_W,DATE,TIME,LATITUDE,LONGITUDE,DEPTH,CTDPRS,CTDTMP,CTDSAL,CTDSAL_FLAG_W,SALNTY,SALNTY_FLAG_W,CTDOXY,CTDOXY_FLAG_W,OXYGEN,OXYGEN_FLAG_W,SILCAT,SILCAT_FLAG_W,NITRAT,NITRAT_FLAG_W,PHSPHT,PHSPHT_FLAG_W,ALKALI,ALKALI_FLAG_W,PH_SWS,PH_SWS_FLAG_W,PH_TMP,THETA
,,,,,,,,,,METERS,DBAR,ITS-90,PSS-78,,PSS-78,,UMOL/KG,,UMOL/KG,,UMOL/KG,,UMOL/KG,,UMOL/KG,,UMOL/KG,,,,DEG C,DEG C
  35TH20020610, OVIDE,    34,  1,      4,2,20020622,2157, 57.3770, -28.1720, 2610,   2600.2,   2.7500,  34.9750,2,-999.0000,9,    276.4,2,   -999.0,9,    14.67,2,    16.84,2,     1.01,2,   -999.0,9,-999.0000,9,  -999.00,   2.5447
  35TH20020610, OVIDE,    34,  1,      5,2,20020622,2157, 57.3770, -28.1720, 2610,   2495.2,   2.7770,  34.9730,2,  34.9720,2,    275.1,2,    273.1,2,    15.02,2,    16.90,2,     1.02,2,   2310.2,2,   7.7270,2,    25.00,   2.5815
  35TH20020610, OVIDE,    34,  1,      6,2,20020622,2157, 57.3770, -28.1720, 2610,   2397.1,   2.8390,  34.9700,2,-999.0000,9,    275.7,2,   -999.0,9,    14.95,2,    17.06,2,     1.02,2,   -999.0,9,-999.0000,9,  -999.00,   2.6518
  35TH20020610, OVIDE,    34,  1,      7,2,20020622,2157, 57.3770, -28.1720, 2610,   2296.8,   2.9170,  34.9680,2,  34.9670,2,    275.8,2,    272.6,2,    14.46,2,    17.12,2,     1.00,2,   2309.9,2,   7.7300,2,    25.00,   2.7380
  35TH20020610, OVIDE,    34,  1,      8,2,20020622,2157, 57.3770, -28.1720, 2610,   2196.9,   3.0650,  34.9660,2,-999.0000,9,    276.0,2,   -999.0,9,    12.78,2,    17.06,2,     1.00,2,   -999.0,9,-999.0000,9,  -999.00,   2.8930
  35TH20020610, OVIDE,    34,  1,      9,2,20020622,2157, 57.3770, -28.1720, 2610,   2096.4,   3.1860,  34.9590,2,  34.9590,2,    278.6,2,    274.4,2,    12.22,2,    17.06,2,     1.01,2,   2306.1,2,   7.7320,2,    25.00,   3.0216
  35TH20020610, OVIDE,    34,  1,     10,2,20020622,2157, 57.3770, -28.1720, 2610,   1995.6,   3.2870,  34.9480,2,  34.9950,3,    280.1,2,    274.1,3,    10.22,3,    16.51,3,     0.96,3,   -999.0,9,-999.0000,9,  -999.00,   3.1305
  35TH20020610, OVIDE,    34,  1,     11,2,20020622,2157, 57.3770, -28.1720, 2610,   1794.9,   3.3740,  34.9240,2,  34.9240,2,    283.5,2,    280.1,2,    10.95,2,    17.40,2,     1.00,2,   2302.7,2,   7.7320,2,    25.00,   3.2348
  35TH20020610, OVIDE,    34,  1,     12,2,20020622,2157, 57.3770, -28.1720, 2610,   1596.1,   3.6060,  34.9290,2,  34.9280,2,    276.7,2,    279.1,2,    10.78,2,    17.84,2,     1.01,2,   2302.7,2,   7.7280,2,    25.00,   3.4818
  35TH20020610, OVIDE,    34,  1,     13,2,20020622,2157, 57.3770, -28.1720, 2610,   1396.6,   3.8780,  34.9410,2,  34.9390,2,    268.6,2,    269.8,2,    10.74,2,    18.29,2,     0.98,2,   -999.0,9,-999.0000,9,  -999.00,   3.7685
  35TH20020610, OVIDE,    34,  1,     14,2,20020622,2157, 57.3770, -28.1720, 2610,   1196.8,   4.3290,  34.9670,2,  34.9690,2,    261.0,2,    261.1,2,    10.67,2,    18.18,3,     1.02,2,   2304.9,2,   7.7130,2,    25.00,   4.2328
  35TH20020610, OVIDE,    34,  1,     15,2,20020622,2157, 57.3770, -28.1720, 2610,    996.1,   4.8170,  34.9850,2,  34.9840,2,    247.7,2,    248.0,2,    11.02,2,    19.02,2,     1.07,2,   2306.3,2,   7.7150,2,    25.00,   4.7346
  35TH20020610, OVIDE,    34,  1,     16,2,20020622,2157, 57.3770, -28.1720, 2610,    896.4,   5.3500,  35.0150,2,-999.0000,9,    239.9,2,   -999.0,9,    11.09,2,    19.46,2,     1.08,2,   -999.0,9,-999.0000,9,  -999.00,   5.2729
  35TH20020610, OVIDE,    34,  1,     17,2,20020622,2157, 57.3770, -28.1720, 2610,    796.5,   6.0130,  35.0580,2,  35.0560,2,    236.3,2,    234.3,2,    10.64,2,    19.18,2,     1.05,2,   2311.8,2,   7.7310,2,    25.00,   5.9410
  35TH20020610, OVIDE,    34,  1,     18,2,20020622,2157, 57.3770, -28.1720, 2610,    696.1,   6.6980,  35.0880,2,-999.0000,9,    242.0,2,   -999.0,9,     9.55,2,    18.29,2,     1.02,2,   -999.0,9,-999.0000,9,  -999.00,   6.6319
  35TH20020610, OVIDE,    34,  1,     19,2,20020622,2157, 57.3770, -28.1720, 2610,    595.3,   7.2680,  35.1440,2,  35.1420,2,    268.7,2,    263.4,2,     7.51,2,    15.95,2,     0.90,2,   2314.4,2,   7.7720,2,    25.00,   7.2093
  35TH20020610, OVIDE,    34,  1,     20,2,20020622,2157, 57.3770, -28.1720, 2610,    496.4,   7.5850,  35.1660,2,-999.0000,9,    268.2,2,   -999.0,9,     6.95,2,    15.39,2,     0.87,2,   2315.5,2,   7.7900,2,    25.00,   7.5352
  35TH20020610, OVIDE,    34,  1,     21,2,20020622,2157, 57.3770, -28.1720, 2610,    396.4,   7.6070,  35.1330,2,  35.1350,2,    266.6,2,    271.9,2,     6.91,3,    15.11,2,     0.87,3,   2314.1,2,   7.8000,2,    25.00,   7.5674
  35TH20020610, OVIDE,    34,  1,     22,2,20020622,2157, 57.3770, -28.1720, 2610,    296.5,   7.9360,  35.1470,2,-999.0000,9,    269.2,2,   -999.0,9,     6.67,2,    14.61,2,     0.85,2,   -999.0,9,-999.0000,9,  -999.00,   7.9059
  35TH20020610, OVIDE,    34,  1,     23,2,20020622,2157, 57.3770, -28.1720, 2610,    197.9,   8.1640,  35.1560,2,  35.1550,2,    270.9,2,    276.3,2,     6.39,3,    14.11,2,     0.78,3,   -999.0,9,-999.0000,9,  -999.00,   8.1437
  35TH20020610, OVIDE,    34,  1,     24,2,20020622,2157, 57.3770, -28.1720, 2610,    146.5,   8.2340,  35.1420,2,-999.0000,9,    272.3,2,   -999.0,9,     6.49,2,    14.11,2,     0.79,2,   -999.0,9,-999.0000,9,  -999.00,   8.2189
  35TH20020610, OVIDE,    34,  1,     25,2,20020622,2157, 57.3770, -28.1720, 2610,     95.5,   8.5350,  35.1650,2,-999.0000,9,    268.6,2,   -999.0,9,     6.00,2,    13.49,2,     0.75,2,   -999.0,9,-999.0000,9,  -999.00,   8.5250
  35TH20020610, OVIDE,    34,  1,     26,2,20020622,2157, 57.3770, -28.1720, 2610,     45.4,   9.5730,  35.1550,2,-999.0000,9,    285.7,2,   -999.0,9,     2.46,2,     8.56,2,     0.55,2,   -999.0,9,-999.0000,9,  -999.00,   9.5679
  35TH20020610, OVIDE,    34,  1,     27,2,20020622,2157, 57.3770, -28.1720, 2610,      3.9,  10.3920,  35.1330,2,  35.1330,2,    277.4,2,    285.4,3,     1.19,2,     6.02,2,     0.40,2,   2317.2,2,   7.9140,2,    25.00,  10.3915
  35TH20020610, OVIDE,    35,  1,      3,2,20020623,0222, 57.0050, -27.8790, 2783,   2772.6,   2.7810,  34.9720,2,  34.9710,2,    273.5,2,    272.4,2,    15.39,2,    17.43,2,     1.00,2,   -999.0,9,-999.0000,9,  -999.00,   2.5580
  35TH20020610, OVIDE,    35,  1,      4,2,20020623,0222, 57.0050, -27.8790, 2783,   2772.7,   2.7810,  34.9720,2,-999.0000,9,    273.5,2,   -999.0,9,    15.46,2,    17.31,2,     1.00,2,   -999.0,9,   7.7200,3,    25.00,   2.5580
  35TH20020610, OVIDE,    35,  1,      5,2,20020623,0222, 57.0050, -27.8790, 2783,   2696.3,   2.8080,  34.9710,2,-999.0000,9,    273.2,2,   -999.0,9,    15.29,2,    17.48,2,     1.00,2,   -999.0,9,-999.0000,9,  -999.00,   2.5921
  35TH20020610, OVIDE,    35,  1,      6,2,20020623,0222, 57.0050, -27.8790, 2783,   2596.3,   2.8380,  34.9680,2,  34.9660,2,    271.9,2,    271.4,2,    15.60,2,    17.77,2,     1.00,2,   -999.0,9,   7.7250,2,    25.00,   2.6315
  35TH20020610, OVIDE,    35,  1,      7,2,20020623,0222, 57.0050, -27.8790, 2783,   2495.4,   2.9120,  34.9720,2,  34.9720,2,    274.1,2,    273.2,2,    13.88,2,    17.60,2,     0.99,2,   -999.0,9,   7.7210,2,    25.00,   2.7140
  35TH20020610, OVIDE,    35,  1,      8,2,20020623,0222, 57.0050, -27.8790, 2783,   2395.8,   3.0240,  34.9630,2,  34.9620,2,    273.9,2,    273.0,2,    13.40,2,    17.31,2,     1.01,2,   -999.0,9,   7.7230,2,    25.00,   2.8337
  35TH20020610, OVIDE,    35,  1,      9,2,20020623,0222, 57.0050, -27.8790, 2783,   2294.8,   3.1290,  34.9580,2,  34.9550,2,    275.8,2,    274.0,2,    12.64,2,    17.48,2,     1.00,2,   -999.0,9,   7.7240,2,    25.00,   2.9467
  35TH20020610, OVIDE,    35,  1,     10,2,20020623,0222, 57.0050, -27.8790, 2783,   2195.0,   3.1790,  34.9400,2,-999.0000,9,    275.6,2,   -999.0,9,    10.07,3,    16.40,3,     0.94,3,   -999.0,9,-999.0000,9,  -999.00,   3.0054
  35TH20020610, OVIDE,    35,  1,     11,2,20020623,0222, 57.0050, -27.8790, 2783,   2095.9,   3.2070,  34.9300,2,-999.0000,9,    278.0,2,   -999.0,9,    11.72,2,    17.54,2,     1.02,2,   -999.0,9,-999.0000,9,  -999.00,   3.0424
  35TH20020610, OVIDE,    35,  1,     12,2,20020623,0222, 57.0050, -27.8790, 2783,   1996.0,   3.2420,  34.9170,2,  34.9170,2,    281.3,2,    279.8,2,    11.27,2,    17.60,2,     1.01,2,   -999.0,9,   7.7340,2,    25.00,   3.0862
  35TH20020610, OVIDE,    35,  1,     13,2,20020623,0222, 57.0050, -27.8790, 2783,   1796.5,   3.2570,  34.8920,2,  34.8910,2,    283.4,2,    290.1,3,    10.82,2,    18.12,2,     1.01,2,   -999.0,9,   7.7310,2,    25.00,   3.1194
  35TH20020610, OVIDE,    35,  1,     14,2,20020623,0222, 57.0050, -27.8790, 2783,   1597.2,   3.4330,  34.8990,2,  34.8990,2,    279.4,2,    278.0,2,    10.86,2,    18.07,2,     1.02,2,   -999.0,9,   7.7260,2,    25.00,   3.3109
  35TH20020610, OVIDE,    35,  1,     15,2,20020623,0222, 57.0050, -27.8790, 2783,   1396.4,   3.6140,  34.9080,2,  34.9080,2,    274.5,2,    273.0,2,    10.79,2,    18.47,2,     1.04,2,   -999.0,9,-999.0000,9,  -999.00,   3.5074
  35TH20020610, OVIDE,    35,  1,     16,2,20020623,0222, 57.0050, -27.8790, 2783,   1195.3,   3.8880,  34.9230,2,  34.9210,2,    265.9,2,    266.2,2,    10.62,2,    18.65,2,     1.02,2,   -999.0,9,-999.0000,9,  -999.00,   3.7960
  35TH20020610, OVIDE,    35,  1,     17,2,20020623,0222, 57.0050, -27.8790, 2783,    996.7,   4.3820,  34.9610,2,  34.9580,2,    256.9,2,    257.1,2,    10.69,2,    19.00,2,     1.05,2,   -999.0,9,-999.0000,9,  -999.00,   4.3029
  35TH20020610, OVIDE,    35,  1,     18,2,20020623,0222, 57.0050, -27.8790, 2783,    997.1,   4.3830,  34.9610,2,-999.0000,9,    256.9,2,   -999.0,9,    10.72,2,    18.64,3,     1.06,2,   -999.0,9,   7.7120,3,    25.00,   4.3039
  35TH20020610, OVIDE,    35,  1,     19,2,20020623,0222, 57.0050, -27.8790, 2783,    897.5,   4.7480,  34.9820,2,-999.0000,9,    248.3,2,   -999.0,9,    10.79,2,    19.11,2,     1.06,2,   -999.0,9,-999.0000,9,  -999.00,   4.6749
  35TH20020610, OVIDE,    35,  1,     20,2,20020623,0222, 57.0050, -27.8790, 2783,    796.0,   5.4230,  35.0350,2,  35.0330,2,    236.8,2,    235.8,2,    10.93,2,    19.46,2,     1.08,2,   -999.0,9,   7.7240,2,    25.00,   5.3546
  35TH20020610, OVIDE,    35,  1,     21,2,20020623,0222, 57.0050, -27.8790, 2783,    696.3,   6.1710,  35.0830,2,-999.0000,9,    233.5,2,   -999.0,9,    10.48,2,    19.11,2,     1.06,2,   -999.0,9,   7.7300,2,    25.00,   6.1077
  35TH20020610, OVIDE,    35,  1,     22,2,20020623,0222, 57.0050, -27.8790, 2783,    596.0,   6.8660,  35.1030,2,  35.0990,2,    257.0,2,    237.0,3,     9.35,2,    18.35,2,     1.01,2,   -999.0,9,   7.7350,2,    25.00,   6.8091
  35TH20020610, OVIDE,    35,  1,     23,2,20020623,0222, 57.0050, -27.8790, 2783,    496.3,   7.4200,  35.1600,2,-999.0000,9,    265.2,2,   -999.0,9,     7.22,2,    15.86,2,     0.86,2,   -999.0,9,   7.7770,2,    25.00,   7.3708
  35TH20020610, OVIDE,    35,  1,     24,2,20020623,0222, 57.0050, -27.8790, 2783,    396.6,   7.6260,  35.1670,2,-999.0000,9,    268.6,2,   -999.0,9,     6.84,3,    15.16,3,     0.85,2,   -999.0,9,   7.7850,2,    25.00,   7.5863
  35TH20020610, OVIDE,    35,  1,     25,2,20020623,0222, 57.0050, -27.8790, 2783,    296.6,   7.7410,  35.1510,2,-999.0000,9,    265.9,2,   -999.0,9,     6.91,3,    15.16,3,     0.87,3,   -999.0,9,   7.7820,2,    25.00,   7.7113
  35TH20020610, OVIDE,    35,  1,     26,2,20020623,0222, 57.0050, -27.8790, 2783,    197.2,   8.0820,  35.1550,2,  35.1530,2,    270.2,2,    268.9,2,     6.49,3,    14.34,3,     0.82,2,   -999.0,9,   7.7970,2,    25.00,   8.0619
  35TH20020610, OVIDE,    35,  1,     27,2,20020623,0222, 57.0050, -27.8790, 2783,    147.3,   8.1990,  35.1440,2,-999.0000,9,    269.6,2,   -999.0,9,     6.42,3,    14.06,3,     0.78,3,   -999.0,9,   7.7950,2,    25.00,   8.1839
  35TH20020610, OVIDE,    35,  1,     28,2,20020623,0222, 57.0050, -27.8790, 2783,     96.8,   8.4440,  35.1620,2,-999.0000,9,    271.3,2,   -999.0,9,     6.18,2,    13.76,2,     0.79,2,   -999.0,9,   7.7970,2,    25.00,   8.4339
  35TH20020610, OVIDE,    35,  1,     29,2,20020623,0222, 57.0050, -27.8790, 2783,     47.7,   8.8750,  35.1900,2,-999.0000,9,    283.9,2,   -999.0,9,     5.36,2,    12.84,2,     0.74,2,   -999.0,9,-999.0000,9,  -999.00,   8.8699
  35TH20020610, OVIDE,    35,  1,     30,2,20020623,0222, 57.0050, -27.8790, 2783,      4.0,  10.2570,  35.1360,2,  35.1350,2,    282.0,2,    282.2,2,     1.20,2,     6.03,2,     0.43,2,   -999.0,9,   7.9100,2,    25.00,  10.2565
  35TH20020610, OVIDE,    36,  1,      3,2,20020623,0743, 56.6290, -27.5800, 2752,   2741.5,   2.7410,  34.9690,2,  34.9600,3,    271.7,2,    270.7,2,    20.11,2,    17.05,2,     1.00,2,   2318.2,2,-999.0000,9,  -999.00,   2.5219
  35TH20020610, OVIDE,    36,  1,      4,2,20020623,0743, 56.6290, -27.5800, 2752,   2695.5,   2.7650,  34.9680,2,-999.0000,9,    272.4,2,   -999.0,9,    19.60,2,    16.88,2,     0.99,2,   -999.0,9,-999.0000,9,  -999.00,   2.5500
  35TH20020610, OVIDE,    36,  1,      5,2,20020623,0743, 56.6290, -27.5800, 2752,   2591.5,   2.8030,  34.9650,2,  34.9590,3,    272.1,2,    271.0,2,    19.09,2,    17.39,2,     0.99,2,   2314.5,2,   7.7240,2,    25.00,   2.5976
  35TH20020610, OVIDE,    36,  1,      6,2,20020623,0743, 56.6290, -27.5800, 2752,   2492.5,   2.8710,  34.9630,2,-999.0000,9,    273.4,2,   -999.0,9,    15.78,2,    17.27,2,     0.99,2,   -999.0,9,-999.0000,9,  -999.00,   2.6740
  35TH20020610, OVIDE,    36,  1,      7,2,20020623,0743, 56.6290, -27.5800, 2752,   2396.4,   2.9670,  34.9620,2,  34.9610,2,    274.5,2,    273.1,2,    14.48,2,    17.27,2,     0.98,2,   2309.6,2,-999.0000,9,  -999.00,   2.7776
  35TH20020610, OVIDE,    36,  1,      8,2,20020623,0743, 56.6290, -27.5800, 2752,   2297.1,   3.0820,  34.9650,2,-999.0000,9,    275.6,2,   -999.0,9,    12.72,2,    16.82,2,     0.94,3,   -999.0,9,-999.0000,9,  -999.00,   2.9002
  35TH20020610, OVIDE,    36,  1,      9,2,20020623,0743, 56.6290, -27.5800, 2752,   2195.1,   3.1450,  34.9540,2,  34.9480,3,    276.6,2,    275.9,2,    12.38,2,    16.82,2,     0.98,2,   2306.4,2,   7.7330,2,    25.00,   2.9719
  35TH20020610, OVIDE,    36,  1,     10,2,20020623,0743, 56.6290, -27.5800, 2752,   2194.4,   3.1440,  34.9540,2,  34.9530,2,    276.5,2,    276.7,2,    12.51,2,    16.88,2,     0.98,2,   2306.7,2,   7.7310,2,    25.00,   2.9710
  35TH20020610, OVIDE,    36,  1,     11,2,20020623,0743, 56.6290, -27.5800, 2752,   2096.3,   3.1940,  34.9460,2,-999.0000,9,    276.5,2,   -999.0,9,    12.04,2,    17.16,2,     0.96,2,   -999.0,9,-999.0000,9,  -999.00,   3.0295
  35TH20020610, OVIDE,    36,  1,     12,2,20020623,0743, 56.6290, -27.5800, 2752,   1993.3,   3.1870,  34.9290,2,  34.9250,2,    279.2,2,    278.5,2,    11.80,2,    17.33,2,     0.96,2,   2304.2,2,   7.7330,2,    25.00,   3.0323
  35TH20020610, OVIDE,    36,  1,     13,2,20020623,0743, 56.6290, -27.5800, 2752,   1792.2,   3.1590,  34.8970,2,  34.8960,2,    283.2,2,    283.1,2,    11.42,2,    17.50,2,     0.96,2,   2302.0,2,   7.7300,2,    25.00,   3.0230
  35TH20020610, OVIDE,    36,  1,     14,2,20020623,0743, 56.6290, -27.5800, 2752,   1596.2,   3.2390,  34.8900,2,-999.0000,9,    284.7,2,   -999.0,9,    10.88,2,    17.78,2,     1.01,2,   -999.0,9,-999.0000,9,  -999.00,   3.1193
  35TH20020610, OVIDE,    36,  1,     15,2,20020623,0743, 56.6290, -27.5800, 2752,   1395.2,   3.3710,  34.8950,2,  34.8940,2,    281.1,2,    279.8,2,    11.08,2,    18.06,2,     1.02,2,   2302.4,2,   7.7260,2,    25.00,   3.2671
  35TH20020610, OVIDE,    36,  1,     16,2,20020623,0743, 56.6290, -27.5800, 2752,   1194.9,   3.6610,  34.9170,2,-999.0000,9,    274.4,2,   -999.0,9,    10.81,2,    18.06,2,     1.01,2,   2302.3,2,   7.7230,2,    25.00,   3.5711
  35TH20020610, OVIDE,    36,  1,     17,2,20020623,0743, 56.6290, -27.5800, 2752,    991.0,   3.8150,  34.9100,2,  34.9100,2,    269.9,2,    269.8,2,    10.74,2,    18.40,2,     1.04,2,   2301.6,2,   7.7160,2,    25.00,   3.7408
  35TH20020610, OVIDE,    36,  1,     18,2,20020623,0743, 56.6290, -27.5800, 2752,    988.3,   3.8190,  34.9110,2,  34.9100,2,    269.8,2,   -999.0,9,    10.68,2,    18.28,2,     1.04,2,   -999.0,9,-999.0000,9,  -999.00,   3.7450
  35TH20020610, OVIDE,    36,  1,     19,2,20020623,0743, 56.6290, -27.5800, 2752,    899.2,   3.9760,  34.9210,2,-999.0000,9,    265.9,2,   -999.0,9,    10.40,2,    18.40,2,     1.04,2,   2301.4,2,   7.7190,2,    25.00,   3.9082
  35TH20020610, OVIDE,    36,  1,     20,2,20020623,0743, 56.6290, -27.5800, 2752,    794.6,   4.1260,  34.9230,2,  34.9200,2,    262.9,2,    264.8,2,    10.34,2,    18.17,2,     1.04,2,   2301.5,2,   7.7160,2,    25.00,   4.0658
  35TH20020610, OVIDE,    36,  1,     21,2,20020623,0743, 56.6290, -27.5800, 2752,    698.1,   4.5100,  34.9520,2,-999.0000,9,    254.5,2,   -999.0,9,    10.54,2,    18.51,2,     1.06,2,   2305.0,2,   7.7150,2,    25.00,   4.4555
  35TH20020610, OVIDE,    36,  1,     22,2,20020623,0743, 56.6290, -27.5800, 2752,    596.0,   5.0330,  34.9870,2,  34.9850,2,    241.8,2,    244.6,2,    10.64,2,    18.68,2,     1.06,2,   2308.6,2,   7.7110,2,    25.00,   4.9845
  35TH20020610, OVIDE,    36,  1,     23,2,20020623,0743, 56.6290, -27.5800, 2752,    493.4,   5.7890,  35.0470,2,-999.0000,9,    234.0,2,   -999.0,9,    10.61,2,    19.07,2,     1.07,2,   2310.8,2,   7.7140,2,    25.00,   5.7463
  35TH20020610, OVIDE,    36,  1,     24,2,20020623,0743, 56.6290, -27.5800, 2752,    394.8,   6.6660,  35.1010,2,  35.0950,3,    234.4,2,    234.7,2,     9.72,3,    18.51,3,     1.02,3,   2317.3,2,   7.7250,2,    25.00,   6.6294
  35TH20020610, OVIDE,    36,  1,     25,2,20020623,0743, 56.6290, -27.5800, 2752,    295.3,   6.8630,  35.0180,2,-999.0000,9,    231.7,2,   -999.0,9,     9.21,2,    18.40,2,     1.02,2,   2310.9,2,   7.7300,2,    25.00,   6.8354
  35TH20020610, OVIDE,    36,  1,     26,2,20020623,0743, 56.6290, -27.5800, 2752,    195.0,   7.4120,  35.0240,2,  35.0220,2,    265.3,2,    270.8,2,     6.83,2,    14.86,2,     0.84,2,   2308.1,2,   7.7800,2,    25.00,   7.3931
  35TH20020610, OVIDE,    36,  1,     27,2,20020623,0743, 56.6290, -27.5800, 2752,    145.9,   7.4870,  34.9960,2,-999.0000,9,    270.7,2,   -999.0,9,     6.66,2,    14.24,2,     0.79,2,   2308.0,2,   7.7820,2,    25.00,   7.4728
  35TH20020610, OVIDE,    36,  1,     28,2,20020623,0743, 56.6290, -27.5800, 2752,     99.1,   7.3890,  34.9310,2,  34.9310,2,    269.6,2,    266.2,2,     7.00,2,    14.58,2,     0.82,2,   2304.8,2,   7.7750,2,    25.00,   7.3795
  35TH20020610, OVIDE,    36,  1,     29,2,20020623,0743, 56.6290, -27.5800, 2752,     48.5,   8.4510,  34.9470,2,-999.0000,9,    292.6,2,   -999.0,9,     2.62,2,     9.26,2,     0.62,2,   2305.4,2,   7.8400,2,    25.00,   8.4460
  35TH20020610, OVIDE,    36,  1,     30,2,20020623,0743, 56.6290, -27.5800, 2752,      5.8,   9.9060,  34.9510,2,  34.9490,2,    286.7,2,    287.4,2,     1.22,2,     6.10,2,     0.41,2,   2306.1,2,   7.9040,2,    25.00,   9.9053