BOTTLE,20140820PRINUNIVRMK
EXPOCODE,SECT_ID,STNNBR,CASTNO,BTLNBR,BTLNBR_FLAG_W,DATE,TIME,LATITUDE,LONGITUDE,DEPTH,CTDPRS,CTDTMP,CTDSAL,CTDSAL_FLAG_W,SALNTY,SALNTY_FLAG_W,CTDOXY,CTDOXY_FLAG_W,OXYGEN,OXYGEN_FLAG_W,SILCAT,SILCAT_FLAG_W,NITRAT,NITRAT_FLAG_W,PHSPHT,PHSPHT_FLAG_W,ALKALI,ALKALI_FLAG_W,PH_SWS,PH_SWS_FLAG_W,PH_TMP,THETA
,,,,,,,,,,METERS,DBAR,ITS-90,PSS-78,,PSS-78,,UMOL/KG,,UMOL/KG,,UMOL/KG,,UMOL/KG,,UMOL/KG,,UMOL/KG,,,,DEG C,DEG C
  35TH20020610, OVIDE,    37,  1,      3,2,20020624,1246, 56.2540, -27.2900, 2774,   2763.8,   2.7500,  34.9720,2,  34.9710,2,    271.2,2,    276.2,2,  -999.00,9,    17.10,2,     1.01,2,   -999.0,9,   7.7170,2,    25.00,   2.5285
  35TH20020610, OVIDE,    37,  1,      4,2,20020624,1246, 56.2540, -27.2900, 2774,   2696.0,   2.7770,  34.9680,2,-999.0000,9,    271.6,2,   -999.0,9,  -999.00,9,    17.32,2,     0.97,3,   -999.0,9,   7.7290,2,    25.00,   2.5618
  35TH20020610, OVIDE,    37,  1,      5,2,20020624,1246, 56.2540, -27.2900, 2774,   2596.1,   2.8360,  34.9680,2,  34.9650,2,    272.6,2,    271.9,2,  -999.00,9,    17.27,2,     1.00,2,   -999.0,9,   7.7290,2,    25.00,   2.6295
  35TH20020610, OVIDE,    37,  1,      6,2,20020624,1246, 56.2540, -27.2900, 2774,   2497.0,   2.9250,  34.9650,2,-999.0000,9,    272.3,2,   -999.0,9,    14.21,2,    16.72,2,     1.00,2,   -999.0,9,   7.7310,2,    25.00,   2.7266
  35TH20020610, OVIDE,    37,  1,      7,2,20020624,1246, 56.2540, -27.2900, 2774,   2397.4,   3.0250,  34.9640,2,  34.9620,2,    273.9,2,    273.7,2,    12.92,2,    16.72,2,     0.99,2,   -999.0,9,   7.7280,2,    25.00,   2.8345
  35TH20020610, OVIDE,    37,  1,      8,2,20020624,1246, 56.2540, -27.2900, 2774,   2298.0,   3.1010,  34.9570,2,-999.0000,9,    275.4,2,   -999.0,9,    12.33,2,    16.72,2,     0.98,2,   -999.0,9,   7.7320,2,    25.00,   2.9188
  35TH20020610, OVIDE,    37,  1,      9,2,20020624,1246, 56.2540, -27.2900, 2774,   2198.6,   3.1540,  34.9480,2,  34.9470,2,    276.4,2,    275.1,2,    12.07,2,    17.05,2,     0.99,2,   -999.0,9,   7.7350,2,    25.00,   2.9805
  35TH20020610, OVIDE,    37,  1,     10,2,20020624,1246, 56.2540, -27.2900, 2774,   2096.8,   3.1820,  34.9310,2,-999.0000,9,    277.4,2,   -999.0,9,    11.80,2,    17.27,2,     1.01,2,   -999.0,9,   7.7330,2,    25.00,   3.0177
  35TH20020610, OVIDE,    37,  1,     11,2,20020624,1246, 56.2540, -27.2900, 2774,   1996.9,   3.1720,  34.9150,2,  34.9150,2,    279.7,2,    279.8,2,    11.51,2,    17.38,2,     1.00,2,   -999.0,9,   7.7320,2,    25.00,   3.0172
  35TH20020610, OVIDE,    37,  1,     12,2,20020624,1246, 56.2540, -27.2900, 2774,   1794.9,   3.1790,  34.8930,2,  34.8930,2,    284.6,2,    283.2,2,    10.88,2,    17.60,2,     0.99,2,   -999.0,9,   7.7280,2,    25.00,   3.0425
  35TH20020610, OVIDE,    37,  1,     13,2,20020624,1246, 56.2540, -27.2900, 2774,   1596.6,   3.2890,  34.8920,2,  34.8910,2,    283.1,2,    281.3,2,    10.91,2,    17.82,2,     1.01,2,   -999.0,9,   7.7250,2,    25.00,   3.1687
  35TH20020610, OVIDE,    37,  1,     14,2,20020624,1246, 56.2540, -27.2900, 2774,   1397.0,   3.4610,  34.8990,2,  34.8980,2,    277.1,2,    278.2,2,    10.81,2,    18.04,2,     1.02,2,   -999.0,9,-999.0000,9,  -999.00,   3.3560
  35TH20020610, OVIDE,    37,  1,     15,2,20020624,1246, 56.2540, -27.2900, 2774,   1397.5,   3.4610,  34.8990,2,  34.8980,2,    277.0,2,   -999.0,9,    10.88,2,    18.04,2,     1.02,2,   -999.0,9,   7.7250,2,    25.00,   3.3559
  35TH20020610, OVIDE,    37,  1,     16,2,20020624,1246, 56.2540, -27.2900, 2774,   1195.9,   3.6380,  34.9060,2,  34.9050,2,    273.3,2,    273.9,2,    10.68,2,    18.04,2,     1.00,3,   -999.0,9,   7.7220,2,    25.00,   3.5483
  35TH20020610, OVIDE,    37,  1,     17,2,20020624,1246, 56.2540, -27.2900, 2774,    997.5,   3.8990,  34.9210,2,  34.9210,2,    267.3,2,    268.0,2,    10.88,2,    18.15,2,     1.02,2,   -999.0,9,   7.7150,2,    25.00,   3.8236
  35TH20020610, OVIDE,    37,  1,     18,2,20020624,1246, 56.2540, -27.2900, 2774,    895.8,   4.0400,  34.9220,2,-999.0000,9,    264.5,2,   -999.0,9,    10.81,2,    18.37,2,     1.04,2,   -999.0,9,   7.7140,2,    25.00,   3.9720
  35TH20020610, OVIDE,    37,  1,     19,2,20020624,1246, 56.2540, -27.2900, 2774,    794.5,   4.2250,  34.9270,2,  34.9280,2,    261.6,2,    260.2,2,    11.01,2,    18.64,2,     1.05,2,   -999.0,9,   7.7120,2,    25.00,   4.1642
  35TH20020610, OVIDE,    37,  1,     20,2,20020624,1246, 56.2540, -27.2900, 2774,    695.2,   4.4760,  34.9390,2,-999.0000,9,    255.7,2,   -999.0,9,    10.68,2,    18.75,2,     1.05,2,   -999.0,9,   7.7090,2,    25.00,   4.4219
  35TH20020610, OVIDE,    37,  1,     21,2,20020624,1246, 56.2540, -27.2900, 2774,    597.0,   4.8300,  34.9500,2,  34.9500,2,    245.7,2,    245.2,2,    10.81,2,    19.24,2,     1.08,2,   -999.0,9,   7.7040,2,    25.00,   4.7823
  35TH20020610, OVIDE,    37,  1,     22,2,20020624,1246, 56.2540, -27.2900, 2774,    493.8,   5.2450,  34.9420,2,-999.0000,9,    235.0,2,   -999.0,9,    10.88,2,    19.52,2,     1.08,2,   -999.0,9,   7.6990,2,    25.00,   5.2044
  35TH20020610, OVIDE,    37,  1,     23,2,20020624,1246, 56.2540, -27.2900, 2774,    396.0,   6.0820,  34.9720,2,  34.9750,2,    228.4,2,    230.1,2,    10.35,2,    19.24,2,     1.09,2,   -999.0,9,   7.7100,2,    25.00,   6.0471
  35TH20020610, OVIDE,    37,  1,     24,2,20020624,1246, 56.2540, -27.2900, 2774,    296.7,   6.8520,  34.9870,2,-999.0000,9,    244.4,2,   -999.0,9,     8.24,2,    16.83,2,     0.94,2,   -999.0,9,   7.7500,2,    25.00,   6.8243
  35TH20020610, OVIDE,    37,  1,     25,2,20020624,1246, 56.2540, -27.2900, 2774,    196.6,   7.0500,  34.9190,2,  34.9180,2,    271.9,2,    276.4,2,     6.92,3,    14.42,3,     0.84,2,   -999.0,9,   7.7760,2,    25.00,   7.0315
  35TH20020610, OVIDE,    37,  1,     26,2,20020624,1246, 56.2540, -27.2900, 2774,    146.7,   7.2010,  34.9050,2,-999.0000,9,    280.3,2,   -999.0,9,     6.79,3,    14.09,3,     0.80,2,   -999.0,9,   7.7810,2,    25.00,   7.1871
  35TH20020610, OVIDE,    37,  1,     27,2,20020624,1246, 56.2540, -27.2900, 2774,     97.7,   8.0990,  35.0110,2,-999.0000,9,    278.4,2,   -999.0,9,     6.43,2,    13.70,2,     0.76,2,   -999.0,9,   7.7940,2,    25.00,   8.0891
  35TH20020610, OVIDE,    37,  1,     28,2,20020624,1246, 56.2540, -27.2900, 2774,     47.4,  10.0430,  35.1720,2,-999.0000,9,    292.1,2,   -999.0,9,     1.98,3,     7.61,3,     0.46,2,   -999.0,9,   7.8860,2,    25.00,  10.0375
  35TH20020610, OVIDE,    37,  1,     29,2,20020624,1246, 56.2540, -27.2900, 2774,      5.0,   9.8360,  34.8840,2,  34.8860,2,    285.7,2,   -999.0,9,     1.52,2,     6.70,2,     0.44,2,   -999.0,9,   7.8870,3,    25.00,   9.8354
  35TH20020610, OVIDE,    38,  1,      3,2,20020624,1732, 55.8830, -26.9980, 2924,   2913.8,   2.7740,  34.9700,2,  34.9720,2,    272.5,2,    272.0,2,    17.26,3,    16.34,3,     1.00,2,   2313.6,2,   7.7240,2,    25.00,   2.5368
  35TH20020610, OVIDE,    38,  1,      4,2,20020624,1732, 55.8830, -26.9980, 2924,   2795.6,   2.8150,  34.9680,2,  34.9680,2,    273.9,2,    272.2,2,    16.98,3,    16.34,3,     1.00,2,   2313.7,2,   7.7260,2,    25.00,   2.5890
  35TH20020610, OVIDE,    38,  1,      5,2,20020624,1732, 55.8830, -26.9980, 2924,   2694.9,   2.8370,  34.9630,2,-999.0000,9,    269.4,2,   -999.0,9,    17.67,2,    17.43,2,     1.02,2,   -999.0,9,-999.0000,9,  -999.00,   2.6207
  35TH20020610, OVIDE,    38,  1,      6,2,20020624,1732, 55.8830, -26.9980, 2924,   2597.9,   2.9260,  34.9650,2,  34.9660,2,    272.6,2,    272.9,2,    14.52,2,    17.10,2,     1.01,2,   2311.2,2,   7.7300,2,    25.00,   2.7176
  35TH20020610, OVIDE,    38,  1,      7,2,20020624,1732, 55.8830, -26.9980, 2924,   2494.7,   3.0030,  34.9570,2,-999.0000,9,    272.9,2,   -999.0,9,    14.52,2,    17.60,2,     1.03,3,   2309.5,2,   7.7330,2,    25.00,   2.8034
  35TH20020610, OVIDE,    38,  1,      8,2,20020624,1732, 55.8830, -26.9980, 2924,   2398.5,   3.1070,  34.9490,2,  34.9500,2,    275.0,2,    273.8,2,    13.18,2,    17.60,2,     1.00,2,   2306.8,2,   7.7320,2,    25.00,   2.9150
  35TH20020610, OVIDE,    38,  1,      9,2,20020624,1732, 55.8830, -26.9980, 2924,   2295.0,   3.1380,  34.9350,2,-999.0000,9,    277.1,2,   -999.0,9,    12.60,2,    17.49,2,     1.02,2,   -999.0,9,-999.0000,9,  -999.00,   2.9556
  35TH20020610, OVIDE,    38,  1,     10,2,20020624,1732, 55.8830, -26.9980, 2924,   2194.4,   3.1590,  34.9250,2,  34.9250,2,    278.9,2,    277.4,2,    11.85,2,    17.76,2,     1.02,2,   -999.0,9,-999.0000,9,  -999.00,   2.9859
  35TH20020610, OVIDE,    38,  1,     11,2,20020624,1732, 55.8830, -26.9980, 2924,   2095.2,   3.1550,  34.9120,2,-999.0000,9,    279.1,2,   -999.0,9,    11.50,2,    17.60,2,     1.03,2,   2302.0,2,   7.7320,2,    25.00,   2.9913
  35TH20020610, OVIDE,    38,  1,     12,2,20020624,1732, 55.8830, -26.9980, 2924,   1994.7,   3.1700,  34.9010,2,  34.9060,2,    282.2,2,    289.0,3,    11.03,2,    16.39,3,     1.03,2,   -999.0,9,-999.0000,9,  -999.00,   3.0155
  35TH20020610, OVIDE,    38,  1,     13,2,20020624,1732, 55.8830, -26.9980, 2924,   1797.0,   3.2140,  34.8890,2,-999.0000,9,    284.7,2,   -999.0,9,    10.58,2,    16.28,3,     1.02,2,   2300.6,2,   7.7360,2,    25.00,   3.0769
  35TH20020610, OVIDE,    38,  1,     14,2,20020624,1732, 55.8830, -26.9980, 2924,   1595.9,   3.3220,  34.8920,2,  34.8940,2,    280.1,2,    280.6,2,    10.55,2,    16.17,3,     1.03,2,   -999.0,9,-999.0000,9,  -999.00,   3.2013
  35TH20020610, OVIDE,    38,  1,     15,2,20020624,1732, 55.8830, -26.9980, 2924,   1396.6,   3.5530,  34.9040,2,  34.8940,3,    274.3,2,    274.5,2,    10.48,2,    18.15,2,     1.03,2,   2300.9,2,   7.7200,2,    25.00,   3.4470
  35TH20020610, OVIDE,    38,  1,     16,2,20020624,1732, 55.8830, -26.9980, 2924,   1193.9,   3.8530,  34.9240,2,-999.0000,9,    267.5,2,   -999.0,9,    11.37,3,    18.48,2,     1.08,3,   2303.0,2,   7.7190,2,    25.00,   3.7614
  35TH20020610, OVIDE,    38,  1,     17,2,20020624,1732, 55.8830, -26.9980, 2924,    993.2,   4.1410,  34.9360,2,  34.9370,2,    263.6,2,    261.3,2,    10.89,2,    18.53,2,     1.07,2,   2303.4,2,   7.7060,2,    25.00,   4.0641
  35TH20020610, OVIDE,    38,  1,     18,2,20020624,1732, 55.8830, -26.9980, 2924,    897.3,   4.3880,  34.9510,2,-999.0000,9,    256.0,2,   -999.0,9,    10.62,2,    17.98,2,     1.10,2,   2304.4,2,   7.7150,2,    25.00,   4.3174
  35TH20020610, OVIDE,    38,  1,     19,2,20020624,1732, 55.8830, -26.9980, 2924,    794.0,   4.7940,  34.9720,2,  34.9720,2,    245.0,2,    246.9,2,    10.68,2,    18.15,2,     1.12,2,   2306.8,2,   7.7100,2,    25.00,   4.7297
  35TH20020610, OVIDE,    38,  1,     20,2,20020624,1732, 55.8830, -26.9980, 2924,    696.0,   5.4420,  35.0260,2,-999.0000,9,    232.9,2,   -999.0,9,    10.89,2,    19.19,2,     1.14,2,   2309.6,2,   7.7090,2,    25.00,   5.3826
  35TH20020610, OVIDE,    38,  1,     21,2,20020624,1732, 55.8830, -26.9980, 2924,    595.2,   6.4320,  35.0960,2,-999.0000,9,    217.5,2,   -999.0,9,    10.89,3,    19.57,3,     1.14,3,   2314.3,2,   7.7130,2,    25.00,   6.3771
  35TH20020610, OVIDE,    38,  1,     22,2,20020624,1732, 55.8830, -26.9980, 2924,    495.3,   6.8720,  35.0300,2,  35.0330,2,    219.2,2,    208.9,3,    10.61,2,    20.01,2,     1.13,2,   2310.8,2,   7.7030,2,    25.00,   6.8250
  35TH20020610, OVIDE,    38,  1,     23,2,20020624,1732, 55.8830, -26.9980, 2924,    396.6,   7.5600,  35.0180,2,  35.0210,2,    250.1,2,    243.8,3,     7.94,2,    15.95,2,     0.95,2,   2307.2,2,   7.7600,2,    25.00,   7.5206
  35TH20020610, OVIDE,    38,  1,     24,2,20020624,1732, 55.8830, -26.9980, 2924,    295.4,   8.7880,  35.1800,2,-999.0000,9,    265.6,2,   -999.0,9,     5.96,3,    13.05,3,     0.77,3,   2318.3,2,   7.8090,2,    25.00,   8.7561
  35TH20020610, OVIDE,    38,  1,     25,2,20020624,1732, 55.8830, -26.9980, 2924,    195.9,   8.8830,  35.1760,2,  35.1760,2,    269.1,2,    269.1,2,     5.79,3,    13.21,3,     0.76,3,   2318.6,2,   7.8160,2,    25.00,   8.8618
  35TH20020610, OVIDE,    38,  1,     26,2,20020624,1732, 55.8830, -26.9980, 2924,    146.0,   8.9790,  35.1800,2,-999.0000,9,    265.2,2,   -999.0,9,     5.75,3,    13.32,3,     0.77,3,   2319.1,2,   7.8100,2,    25.00,   8.9632
  35TH20020610, OVIDE,    38,  1,     27,2,20020624,1732, 55.8830, -26.9980, 2924,     96.6,   9.0560,  35.1460,2,  35.1460,2,    264.7,2,    263.4,2,     5.75,2,    15.65,2,     0.82,2,   2318.0,2,   7.8160,2,    25.00,   9.0455
  35TH20020610, OVIDE,    38,  1,     28,2,20020624,1732, 55.8830, -26.9980, 2924,     45.6,  10.0280,  35.1600,2,-999.0000,9,    278.6,2,   -999.0,9,     1.81,2,     7.75,2,     0.53,2,   2318.6,2,   7.8860,2,    25.00,  10.0227
  35TH20020610, OVIDE,    38,  1,     29,2,20020624,1732, 55.8830, -26.9980, 2924,      4.1,  10.4770,  35.1310,2,  35.1320,2,    275.1,2,    280.1,2,     1.44,2,     6.72,2,     0.46,2,   2317.2,2,   7.9030,2,    25.00,  10.4765
  35TH20020610, OVIDE,    38,  1,     30,2,20020624,1732, 55.8830, -26.9980, 2924,      4.0,  10.4780,  35.1310,2,-999.0000,9,    275.1,2,   -999.0,9,  -999.00,9,  -999.00,9,  -999.00,9,   -999.0,9,   7.8950,3,    25.00,  10.4775
  35TH20020610, OVIDE,    39,  1,      3,2,20020624,2228, 55.5060, -26.7060, 3283,   3272.8,   2.7640,  34.9670,2,  34.9660,2,    270.1,2,    269.8,2,    19.91,3,    17.43,2,     1.01,2,   -999.0,9,   7.7220,2,    25.00,   2.4894
  35TH20020610, OVIDE,    39,  1,      4,2,20020624,2228, 55.5060, -26.7060, 3283,   3196.5,   2.7400,  34.9590,2,  34.9610,2,    266.9,2,    266.5,2,    22.72,2,    18.15,3,     1.06,2,   -999.0,9,   7.7260,2,    25.00,   2.4741
  35TH20020610, OVIDE,    39,  1,      5,2,20020624,2228, 55.5060, -26.7060, 3283,   2996.0,   2.7940,  34.9520,2,  34.9510,2,    266.4,2,    266.0,2,    21.43,2,    18.53,3,     1.09,3,   -999.0,9,   7.7300,2,    25.00,   2.5480
  35TH20020610, OVIDE,    39,  1,      6,2,20020624,2228, 55.5060, -26.7060, 3283,   2795.0,   2.9190,  34.9560,2,-999.0000,9,    268.9,2,   -999.0,9,    16.09,2,    17.76,2,     1.01,2,   -999.0,9,   7.7300,2,    25.00,   2.6910
  35TH20020610, OVIDE,    39,  1,      7,2,20020624,2228, 55.5060, -26.7060, 3283,   2595.4,   3.0240,  34.9460,2,  34.9470,2,    271.9,2,    273.2,2,    14.23,2,    17.76,2,     1.01,2,   -999.0,9,   7.7320,2,    25.00,   2.8141
  35TH20020610, OVIDE,    39,  1,      8,2,20020624,2228, 55.5060, -26.7060, 3283,   2397.1,   3.1400,  34.9380,2,  34.9370,2,    275.9,2,    276.2,2,    12.30,2,    17.54,2,     1.00,2,   -999.0,9,-999.0000,9,  -999.00,   2.9476
  35TH20020610, OVIDE,    39,  1,      9,2,20020624,2228, 55.5060, -26.7060, 3283,   2189.2,   3.1670,  34.9100,2,  34.9120,2,    279.7,2,    279.7,2,    11.37,2,    17.65,2,     1.00,2,   -999.0,9,-999.0000,9,  -999.00,   2.9943
  35TH20020610, OVIDE,    39,  1,     10,2,20020624,2228, 55.5060, -26.7060, 3283,   2188.8,   3.1660,  34.9120,2,  34.9120,2,    279.7,2,   -999.0,9,    11.37,2,    17.65,2,     1.00,2,   -999.0,9,   7.7330,2,    25.00,   2.9933
  35TH20020610, OVIDE,    39,  1,     11,2,20020624,2228, 55.5060, -26.7060, 3283,   1996.8,   3.1940,  34.8940,2,  34.8960,2,    282.9,2,    283.0,2,    10.80,2,    17.87,2,     1.01,2,   -999.0,9,   7.7290,2,    25.00,   3.0390
  35TH20020610, OVIDE,    39,  1,     12,2,20020624,2228, 55.5060, -26.7060, 3283,   1796.1,   3.2730,  34.8910,2,  34.8900,2,    281.6,2,    282.0,2,    10.72,2,    17.65,2,     1.00,2,   -999.0,9,   7.7310,2,    25.00,   3.1352
  35TH20020610, OVIDE,    39,  1,     13,2,20020624,2228, 55.5060, -26.7060, 3283,   1594.9,   3.4220,  34.8960,2,-999.0000,9,    277.7,2,   -999.0,9,    10.72,2,    18.09,2,     1.01,2,   -999.0,9,   7.7230,2,    25.00,   3.3002
  35TH20020610, OVIDE,    39,  1,     14,2,20020624,2228, 55.5060, -26.7060, 3283,   1396.2,   3.5960,  34.9040,2,  34.9060,2,    275.1,2,    275.0,2,    10.58,2,    18.20,2,     1.02,2,   -999.0,9,   7.7230,2,    25.00,   3.4896
  35TH20020610, OVIDE,    39,  1,     15,2,20020624,2228, 55.5060, -26.7060, 3283,   1196.9,   3.9050,  34.9250,2,-999.0000,9,    266.3,2,   -999.0,9,    10.65,2,    18.64,2,     1.04,2,   -999.0,9,   7.7170,2,    25.00,   3.8127
  35TH20020610, OVIDE,    39,  1,     16,2,20020624,2228, 55.5060, -26.7060, 3283,    996.1,   4.2270,  34.9370,2,  34.9370,2,    261.0,2,    260.4,2,    10.44,2,    18.86,2,     1.03,2,   -999.0,9,   7.7140,2,    25.00,   4.1492
  35TH20020610, OVIDE,    39,  1,     17,2,20020624,2228, 55.5060, -26.7060, 3283,    897.8,   4.4690,  34.9490,2,-999.0000,9,    254.0,2,   -999.0,9,    10.51,2,    18.97,2,     1.07,2,   -999.0,9,   7.7090,2,    25.00,   4.3978
  35TH20020610, OVIDE,    39,  1,     18,2,20020624,2228, 55.5060, -26.7060, 3283,    796.1,   4.8260,  34.9650,2,  34.9670,2,    246.5,2,    246.6,2,    10.90,2,    19.08,2,     1.08,2,   -999.0,9,   7.7090,2,    25.00,   4.7613
  35TH20020610, OVIDE,    39,  1,     19,2,20020624,2228, 55.5060, -26.7060, 3283,    697.8,   5.4560,  35.0060,2,-999.0000,9,    233.6,2,   -999.0,9,    10.80,2,    19.41,2,     1.09,2,   -999.0,9,   7.7060,2,    25.00,   5.3964
  35TH20020610, OVIDE,    39,  1,     20,2,20020624,2228, 55.5060, -26.7060, 3283,    597.0,   6.1400,  35.0170,2,  35.0230,3,    219.9,2,    222.3,2,    10.80,2,    19.63,2,     1.10,2,   -999.0,9,   7.7040,2,    25.00,   6.0863
  35TH20020610, OVIDE,    39,  1,     21,2,20020624,2228, 55.5060, -26.7060, 3283,    497.2,   6.6220,  34.9600,2,-999.0000,9,    215.2,2,   -999.0,9,    10.87,2,    19.85,2,     1.13,2,   -999.0,9,   7.6990,2,    25.00,   6.5759
  35TH20020610, OVIDE,    39,  1,     22,2,20020624,2228, 55.5060, -26.7060, 3283,    395.3,   7.7660,  35.0170,2,  35.0160,2,    219.0,2,    208.9,3,     9.65,2,    19.30,2,     1.07,2,   -999.0,9,   7.7240,2,    25.00,   7.7261
  35TH20020610, OVIDE,    39,  1,     23,2,20020624,2228, 55.5060, -26.7060, 3283,    297.8,   9.0160,  35.1490,2,-999.0000,9,    260.3,2,   -999.0,9,     5.50,2,    12.83,2,     0.72,2,   -999.0,9,   7.8110,2,    25.00,   8.9833
  35TH20020610, OVIDE,    39,  1,     24,2,20020624,2228, 55.5060, -26.7060, 3283,    195.7,   9.2840,  35.1960,2,  35.1980,2,    265.8,2,    266.8,2,     5.29,2,    12.72,2,     0.70,2,   -999.0,9,   7.8220,2,    25.00,   9.2623
  35TH20020610, OVIDE,    39,  1,     25,2,20020624,2228, 55.5060, -26.7060, 3283,    146.5,   9.2670,  35.1870,2,-999.0000,9,    266.8,2,   -999.0,9,     5.32,2,    12.72,2,     0.71,2,   -999.0,9,   7.8190,2,    25.00,   9.2508
  35TH20020610, OVIDE,    39,  1,     26,2,20020624,2228, 55.5060, -26.7060, 3283,     98.0,   9.3180,  35.1900,2,-999.0000,9,    264.4,2,   -999.0,9,     5.36,2,    12.61,2,     0.71,2,   -999.0,9,   7.8160,2,    25.00,   9.3071
  35TH20020610, OVIDE,    39,  1,     27,2,20020624,2228, 55.5060, -26.7060, 3283,     46.8,  10.2030,  35.1680,2,-999.0000,9,    281.7,2,   -999.0,9,     1.22,2,     7.37,2,     0.50,2,   -999.0,9,   7.8960,2,    25.00,  10.1975
  35TH20020610, OVIDE,    39,  1,     28,2,20020624,2228, 55.5060, -26.7060, 3283,      5.0,  10.4910,  35.1430,2,  35.1450,2,    279.1,2,    279.6,2,     0.96,2,     6.64,2,     0.44,2,   -999.0,9,   7.9000,2,    25.00,  10.4904
  35TH20020610, OVIDE,    39,  1,     29,2,20020624,2228, 55.5060, -26.7060, 3283,      3.8,  10.4900,  35.1430,2,-999.0000,9,    278.6,2,   -999.0,9,     1.00,2,     6.64,2,     0.44,2,   -999.0,9,   7.8920,3,    25.00,  10.4895
  35TH20020610, OVIDE,    39,  1,     30,2,20020624,2228, 55.5060, -26.7060, 3283,      5.0,  10.4900,  35.1430,2,-999.0000,9,    279.1,2,   -999.0,9,     1.00,2,     6.70,2,     0.47,2,   -999.0,9,   7.8910,3,    25.00,  10.4894