BOTTLE,20140820PRINUNIVRMK
EXPOCODE,SECT_ID,STNNBR,CASTNO,BTLNBR,BTLNBR_FLAG_W,DATE,TIME,LATITUDE,LONGITUDE,DEPTH,CTDPRS,CTDTMP,CTDSAL,CTDSAL_FLAG_W,SALNTY,SALNTY_FLAG_W,CTDOXY,CTDOXY_FLAG_W,OXYGEN,OXYGEN_FLAG_W,SILCAT,SILCAT_FLAG_W,NITRAT,NITRAT_FLAG_W,PHSPHT,PHSPHT_FLAG_W,ALKALI,ALKALI_FLAG_W,PH_SWS,PH_SWS_FLAG_W,PH_TMP,THETA
,,,,,,,,,,METERS,DBAR,ITS-90,PSS-78,,PSS-78,,UMOL/KG,,UMOL/KG,,UMOL/KG,,UMOL/KG,,UMOL/KG,,UMOL/KG,,,,DEG C,DEG C
  35TH20020610, OVIDE,    80,  1,      3,2,20020708,0100, 41.3830, -13.8880, 5450,   5440.2,   2.5720,  34.8980,2,  34.9040,2,    242.7,2,    243.2,2,    47.02,2,    22.92,2,     1.32,2,   -999.0,9,-999.0000,9,  -999.00,   2.0427
  35TH20020610, OVIDE,    80,  1,      4,2,20020708,0100, 41.3830, -13.8880, 5450,   4997.8,   2.5210,  34.9000,2,  34.8990,2,    244.5,2,    243.4,2,    47.14,2,    23.28,2,     1.34,2,   2354.4,2,   7.7300,2,    25.00,   2.0511
  35TH20020610, OVIDE,    80,  1,      5,2,20020708,0100, 41.3830, -13.8880, 5450,   4498.4,   2.4990,  34.9050,2,  34.9030,2,    244.5,2,    244.0,2,    46.14,2,    23.08,2,     1.31,2,   2353.2,2,   7.7320,2,    25.00,   2.0918
  35TH20020610, OVIDE,    80,  1,      6,2,20020708,0100, 41.3830, -13.8880, 5450,   3997.8,   2.5330,  34.9120,2,  34.9140,2,    244.5,2,    244.1,2,    43.93,2,    22.57,2,     1.29,2,   2350.9,2,   7.7300,2,    25.00,   2.1839
  35TH20020610, OVIDE,    80,  1,      7,2,20020708,0100, 41.3830, -13.8880, 5450,   3496.2,   2.6500,  34.9300,2,  34.9300,2,    245.8,2,    246.0,2,    39.72,2,    22.36,2,     1.28,2,   2345.4,2,   7.7320,2,    25.00,   2.3541
  35TH20020610, OVIDE,    80,  1,      8,2,20020708,0100, 41.3830, -13.8880, 5450,   3246.6,   2.7470,  34.9410,2,  34.9460,2,    248.3,2,    247.3,2,    36.62,2,    21.86,2,     1.25,2,   2341.8,2,   7.7350,2,    25.00,   2.4757
  35TH20020610, OVIDE,    80,  1,      9,2,20020708,0100, 41.3830, -13.8880, 5450,   2996.4,   2.8810,  34.9530,2,  34.9530,2,    249.9,2,    250.2,2,    33.86,2,    21.86,2,     1.21,2,   2338.2,2,   7.7360,2,    25.00,   2.6331
  35TH20020610, OVIDE,    80,  1,     10,2,20020708,0100, 41.3830, -13.8880, 5450,   2746.7,   3.0920,  34.9710,2,  34.9710,2,    251.8,2,    251.5,2,    29.32,2,    21.55,2,     1.18,2,   2331.7,2,   7.7370,2,    25.00,   2.8654
  35TH20020610, OVIDE,    80,  1,     11,2,20020708,0100, 41.3830, -13.8880, 5450,   2495.7,   3.3700,  34.9910,2,  34.9940,2,    254.1,2,    254.3,2,    25.00,2,    20.53,2,     1.16,2,   2326.9,2,   7.7380,2,    25.00,   3.1635
  35TH20020610, OVIDE,    80,  1,     12,2,20020708,0100, 41.3830, -13.8880, 5450,   2245.2,   3.6770,  35.0070,2,  35.0090,2,    256.7,2,    256.1,2,    20.58,2,    19.77,2,     1.09,2,   2322.7,2,   7.7380,2,    25.00,   3.4902
  35TH20020610, OVIDE,    80,  1,     13,2,20020708,0100, 41.3830, -13.8880, 5450,   1996.1,   3.8770,  34.9990,2,  35.0020,2,    266.2,2,    262.9,2,    13.70,3,    19.11,2,     1.04,3,   2317.3,2,   7.7340,2,    25.00,   3.7115
  35TH20020610, OVIDE,    80,  1,     14,2,20020708,0100, 41.3830, -13.8880, 5450,   1796.8,   4.6130,  35.1020,2,  35.1020,2,    256.4,2,    253.7,2,    12.73,2,    19.11,2,     1.06,2,   2319.3,2,   7.7380,2,    25.00,   4.4566
  35TH20020610, OVIDE,    80,  1,     15,2,20020708,0100, 41.3830, -13.8880, 5450,   1595.4,   5.2940,  35.1960,2,  35.1930,2,    246.1,2,    254.7,3,    12.04,2,    19.11,2,     1.03,2,   2325.8,2,   7.7390,2,    25.00,   5.1491
  35TH20020610, OVIDE,    80,  1,     16,2,20020708,0100, 41.3830, -13.8880, 5450,   1395.9,   7.3880,  35.5490,2,  35.5510,2,    215.6,2,    217.5,2,    11.28,2,    18.70,2,     0.98,2,   2350.2,2,   7.7590,2,    25.00,   7.2410
  35TH20020610, OVIDE,    80,  1,     17,2,20020708,0100, 41.3830, -13.8880, 5450,   1195.9,   9.3370,  35.8590,2,  35.8600,2,    193.0,2,    195.2,2,    10.27,2,    17.73,2,     0.90,2,   2370.4,2,   7.7750,2,    25.00,   9.1954
  35TH20020610, OVIDE,    80,  1,     18,2,20020708,0100, 41.3830, -13.8880, 5450,    996.0,  10.2720,  35.9030,2,  35.9140,3,    186.9,2,    184.6,2,     9.51,2,    18.08,2,     0.90,2,   2372.6,2,   7.7820,2,    25.00,  10.1486
  35TH20020610, OVIDE,    80,  1,     19,2,20020708,0100, 41.3830, -13.8880, 5450,    895.7,  10.8340,  35.9330,2,  35.9300,2,    182.8,2,    182.3,2,     8.78,2,    17.68,2,     0.87,2,   2372.9,2,   7.7900,2,    25.00,  10.7199
  35TH20020610, OVIDE,    80,  1,     20,2,20020708,0100, 41.3830, -13.8880, 5450,    795.9,  10.8980,  35.8030,2,  35.8100,3,    183.5,2,    183.3,2,     8.30,2,    17.58,2,     0.88,2,   2361.6,2,   7.7840,2,    25.00,  10.7969
  35TH20020610, OVIDE,    80,  1,     21,2,20020708,0100, 41.3830, -13.8880, 5450,    696.6,  10.8410,  35.6340,2,  35.6430,3,    189.4,2,    190.4,2,     7.61,2,    17.27,2,     0.88,2,   2346.0,2,   7.7800,2,    25.00,  10.7533
  35TH20020610, OVIDE,    80,  1,     22,2,20020708,0100, 41.3830, -13.8880, 5450,    596.8,  11.0530,  35.5490,2,  35.5500,2,    200.6,2,    206.0,2,     6.09,2,    16.16,2,     0.79,2,   2337.1,2,   7.7920,2,    25.00,  10.9774
  35TH20020610, OVIDE,    80,  1,     23,2,20020708,0100, 41.3830, -13.8880, 5450,    496.2,  11.5040,  35.5770,2,  35.5770,2,    208.7,2,    212.4,2,     4.95,2,    14.43,2,     0.70,2,   2337.9,2,   7.8080,2,    25.00,  11.4398
  35TH20020610, OVIDE,    80,  1,     24,2,20020708,0100, 41.3830, -13.8880, 5450,    396.2,  11.9290,  35.6070,2,  35.6090,2,    222.6,2,    219.4,2,     4.18,2,    12.50,2,     0.62,2,   2337.9,2,   7.8310,2,    25.00,  11.8768
  35TH20020610, OVIDE,    80,  1,     25,2,20020708,0100, 41.3830, -13.8880, 5450,    296.3,  12.7240,  35.7090,2,  35.7090,2,    220.4,2,    217.5,2,     3.53,2,    11.43,2,     0.51,2,   2344.3,2,   7.8530,2,    25.00,  12.6834
  35TH20020610, OVIDE,    80,  1,     26,2,20020708,0100, 41.3830, -13.8880, 5450,    196.6,  13.7660,  35.8700,2,  35.8710,2,    232.6,2,    235.4,2,     1.94,2,     6.54,2,     0.25,2,   2354.7,2,   7.9090,2,    25.00,  13.7377
  35TH20020610, OVIDE,    80,  1,     27,2,20020708,0100, 41.3830, -13.8880, 5450,    146.6,  14.0140,  35.9160,2,  35.9150,2,    237.3,2,    238.2,2,     1.76,2,     5.69,2,     0.20,2,   2358.0,2,   7.9160,2,    25.00,  13.9927
  35TH20020610, OVIDE,    80,  1,     28,2,20020708,0100, 41.3830, -13.8880, 5450,     96.8,  14.3840,  35.9790,2,  35.9760,2,    233.9,2,    236.1,2,     1.66,2,     5.20,2,     0.19,2,   2362.7,2,   7.9270,2,    25.00,  14.3697
  35TH20020610, OVIDE,    80,  1,     29,2,20020708,0100, 41.3830, -13.8880, 5450,     47.1,  16.5680,  36.0090,2,  36.0080,2,    238.6,2,    246.6,3,     1.25,2,     0.49,2,     0.07,2,   2364.3,2,   7.9740,2,    25.00,  16.5603
  35TH20020610, OVIDE,    80,  1,     30,2,20020708,0100, 41.3830, -13.8880, 5450,      3.3,  18.0960,  36.0220,2,  36.0230,2,    228.0,2,    238.9,3,     1.25,2,     0.16,2,     0.03,2,   2365.9,2,   7.9870,2,    25.00,  18.0954
  35TH20020610, OVIDE,    81,  1,      3,2,20020708,0700, 41.0840, -13.4910, 5451,   5441.4,   2.5690,  34.8980,2,  34.8970,2,    243.8,2,    245.6,2,    46.80,2,    23.03,2,     1.32,2,   -999.0,9,   7.7330,2,    25.00,   2.0397
  35TH20020610, OVIDE,    81,  1,      4,2,20020708,0700, 41.0840, -13.4910, 5451,   4998.8,   2.5240,  34.8990,2,  34.8980,2,    245.4,2,    244.2,2,    46.58,2,    22.93,2,     1.34,2,   -999.0,9,   7.7320,2,    25.00,   2.0538
  35TH20020610, OVIDE,    81,  1,      5,2,20020708,0700, 41.0840, -13.4910, 5451,   4496.7,   2.5010,  34.9030,2,  34.9040,2,    245.3,2,    244.2,2,    45.36,2,    22.67,2,     1.31,2,   -999.0,9,   7.7300,2,    25.00,   2.0940
  35TH20020610, OVIDE,    81,  1,      6,2,20020708,0700, 41.0840, -13.4910, 5451,   3996.5,   2.5490,  34.9150,2,  34.9140,2,    245.1,2,    244.8,2,    43.04,2,    22.72,2,     1.29,2,   -999.0,9,   7.7310,2,    25.00,   2.1996
  35TH20020610, OVIDE,    81,  1,      7,2,20020708,0700, 41.0840, -13.4910, 5451,   3496.9,   2.6490,  34.9300,2,  34.9290,2,    247.1,2,    247.0,2,    39.28,2,    22.04,2,     1.28,2,   -999.0,9,   7.7320,2,    25.00,   2.3531
  35TH20020610, OVIDE,    81,  1,      8,2,20020708,0700, 41.0840, -13.4910, 5451,   3246.8,   2.7380,  34.9380,2,  34.9440,2,    248.5,2,    248.2,2,    36.29,2,    21.67,2,     1.25,2,   -999.0,9,   7.7330,2,    25.00,   2.4669
  35TH20020610, OVIDE,    81,  1,      9,2,20020708,0700, 41.0840, -13.4910, 5451,   2995.6,   2.8510,  34.9510,2,  34.9510,2,    250.3,2,    251.2,2,    33.52,2,    21.25,2,     1.21,2,   -999.0,9,-999.0000,9,  -999.00,   2.6038
  35TH20020610, OVIDE,    81,  1,     10,2,20020708,0700, 41.0840, -13.4910, 5451,   2746.1,   3.0130,  34.9640,2,  34.9650,2,    252.9,2,    252.5,2,    30.32,2,    20.83,2,     1.18,2,   -999.0,9,   7.7370,2,    25.00,   2.7881
  35TH20020610, OVIDE,    81,  1,     11,2,20020708,0700, 41.0840, -13.4910, 5451,   2496.5,   3.2760,  34.9820,2,  34.9870,2,    255.3,2,    254.8,2,    25.56,2,    20.09,2,     1.16,2,   -999.0,9,   7.7410,2,    25.00,   3.0711
  35TH20020610, OVIDE,    81,  1,     12,2,20020708,0700, 41.0840, -13.4910, 5451,   2245.2,   3.6520,  35.0100,2,  35.0120,2,    256.6,2,    259.8,2,    20.47,2,    19.41,2,     1.09,2,   -999.0,9,   7.7400,2,    25.00,   3.4656
  35TH20020610, OVIDE,    81,  1,     13,2,20020708,0700, 41.0840, -13.4910, 5451,   1995.9,   3.9770,  35.0280,2,  35.0270,2,    257.8,2,    259.3,2,  -999.00,9,  -999.00,9,     1.04,2,   -999.0,9,   7.7360,2,    25.00,   3.8100
  35TH20020610, OVIDE,    81,  1,     14,2,20020708,0700, 41.0840, -13.4910, 5451,   1795.0,   4.5420,  35.1000,2,  35.1040,2,    253.7,2,    252.5,2,  -999.00,9,  -999.00,9,     1.06,2,   -999.0,9,   7.7370,2,    25.00,   4.3867
  35TH20020610, OVIDE,    81,  1,     15,2,20020708,0700, 41.0840, -13.4910, 5451,   1595.5,   5.8960,  35.3060,2,  35.3050,2,    235.2,2,    235.3,2,  -999.00,9,  -999.00,9,     1.03,2,   -999.0,9,   7.7460,2,    25.00,   5.7438
  35TH20020610, OVIDE,    81,  1,     16,2,20020708,0700, 41.0840, -13.4910, 5451,   1394.8,   7.8390,  35.6250,2,  35.6250,2,    211.1,2,    212.2,2,  -999.00,9,  -999.00,9,     0.98,2,   -999.0,9,   7.7630,2,    25.00,   7.6875
  35TH20020610, OVIDE,    81,  1,     17,2,20020708,0700, 41.0840, -13.4910, 5451,   1145.0,  10.1800,  36.0230,2,  36.0230,2,    190.2,2,    188.9,2,  -999.00,9,  -999.00,9,     0.91,2,   -999.0,9,   7.7840,2,    25.00,  10.0377
  35TH20020610, OVIDE,    81,  1,     18,2,20020708,0700, 41.0840, -13.4910, 5451,    995.8,  10.3350,  35.9050,2,  35.9060,2,    186.5,2,    185.6,2,  -999.00,9,  -999.00,9,     0.91,2,   -999.0,9,   7.7820,2,    25.00,  10.2112
  35TH20020610, OVIDE,    81,  1,     19,2,20020708,0700, 41.0840, -13.4910, 5451,    896.2,  10.6910,  35.8860,2,  35.8870,2,    185.6,2,    185.3,2,  -999.00,9,  -999.00,9,     0.86,2,   -999.0,9,   7.7860,2,    25.00,  10.5778
  35TH20020610, OVIDE,    81,  1,     20,2,20020708,0700, 41.0840, -13.4910, 5451,    795.7,  10.8190,  35.7910,2,  35.7900,2,    188.8,2,    187.7,2,  -999.00,9,  -999.00,9,     0.88,2,   -999.0,9,   7.7830,2,    25.00,  10.7184
  35TH20020610, OVIDE,    81,  1,     21,2,20020708,0700, 41.0840, -13.4910, 5451,    696.1,  10.6610,  35.6190,2,  35.6310,3,    191.2,2,    191.1,2,  -999.00,9,  -999.00,9,     0.87,2,   -999.0,9,   7.7770,2,    25.00,  10.5743
  35TH20020610, OVIDE,    81,  1,     22,2,20020708,0700, 41.0840, -13.4910, 5451,    596.8,  10.6960,  35.5040,2,  35.5080,2,    199.7,2,    200.2,2,  -999.00,9,  -999.00,9,     0.78,2,   -999.0,9,   7.7820,2,    25.00,  10.6219
  35TH20020610, OVIDE,    81,  1,     23,2,20020708,0700, 41.0840, -13.4910, 5451,    496.9,  11.3790,  35.5700,2,  35.5650,2,    209.1,2,    210.8,2,  -999.00,9,  -999.00,9,     0.69,2,   -999.0,9,   7.8070,2,    25.00,  11.3152
  35TH20020610, OVIDE,    81,  1,     24,2,20020708,0700, 41.0840, -13.4910, 5451,    396.4,  11.9040,  35.6190,2,  35.6190,2,    213.6,2,    217.8,2,  -999.00,9,  -999.00,9,     0.60,2,   -999.0,9,   7.8230,2,    25.00,  11.8518
  35TH20020610, OVIDE,    81,  1,     25,2,20020708,0700, 41.0840, -13.4910, 5451,    297.2,  12.4780,  35.6650,2,  35.6640,2,    215.5,2,    226.6,3,  -999.00,9,  -999.00,9,     0.49,2,   -999.0,9,   7.8560,2,    25.00,  12.4378
  35TH20020610, OVIDE,    81,  1,     26,2,20020708,0700, 41.0840, -13.4910, 5451,    196.2,  13.3210,  35.7830,2,  35.7820,2,    240.7,2,    242.2,2,  -999.00,9,  -999.00,9,     0.25,2,   -999.0,9,   7.9050,2,    25.00,  13.2934
  35TH20020610, OVIDE,    81,  1,     27,2,20020708,0700, 41.0840, -13.4910, 5451,    146.9,  13.6530,  35.8450,2,  35.8410,2,    242.4,2,    240.1,2,  -999.00,9,  -999.00,9,     0.20,2,   -999.0,9,   7.9120,2,    25.00,  13.6320
  35TH20020610, OVIDE,    81,  1,     28,2,20020708,0700, 41.0840, -13.4910, 5451,     96.9,  13.9320,  35.8840,2,  35.8860,2,    236.7,2,    238.6,2,  -999.00,9,  -999.00,9,     0.19,2,   -999.0,9,   7.9150,2,    25.00,  13.9180
  35TH20020610, OVIDE,    81,  1,     29,2,20020708,0700, 41.0840, -13.4910, 5451,     47.3,  15.0750,  35.8830,2,  35.8840,2,    247.8,2,    246.1,2,  -999.00,9,  -999.00,9,     0.07,2,   -999.0,9,   7.9450,2,    25.00,  15.0678
  35TH20020610, OVIDE,    81,  1,     30,2,20020708,0700, 41.0840, -13.4910, 5451,      9.1,  17.4550,  35.8500,2,  35.8490,2,    233.9,2,    245.0,3,  -999.00,9,  -999.00,9,     0.03,2,   -999.0,9,   7.9820,2,    25.00,  17.4535
  35TH20020610, OVIDE,    82,  1,      3,2,20020709,1306, 40.7860, -13.0980, 5441,   5431.2,   2.5660,  34.8990,2,  34.8990,2,    242.7,2,    243.7,2,    46.91,2,    22.95,2,     1.33,2,   2355.3,2,   7.7320,2,    25.00,   2.0382
  35TH20020610, OVIDE,    82,  1,      4,2,20020709,1306, 40.7860, -13.0980, 5441,   4698.6,   2.4980,  34.9020,2,  34.9020,2,    245.2,2,    245.9,2,    46.14,2,    21.72,3,     1.31,2,   2352.5,2,   7.7320,2,    25.00,   2.0663
  35TH20020610, OVIDE,    82,  1,      5,2,20020709,1306, 40.7860, -13.0980, 5441,   3996.5,   2.5440,  34.9140,2,  34.9170,2,    245.0,2,    244.9,2,    43.04,2,    21.88,3,     1.27,2,   2349.3,2,   7.7340,2,    25.00,   2.1948
  35TH20020610, OVIDE,    82,  1,      6,2,20020709,1306, 40.7860, -13.0980, 5441,   3748.8,   2.5790,  34.9220,2,  34.9190,2,    245.7,2,    246.2,2,    41.94,2,    21.45,3,     1.20,3,   2348.1,2,   7.7340,2,    25.00,   2.2570
  35TH20020610, OVIDE,    82,  1,      7,2,20020709,1306, 40.7860, -13.0980, 5441,   3494.8,   2.6310,  34.9280,2,  34.9280,2,    246.5,2,    246.7,2,    39.94,2,    22.20,2,     1.29,2,   2345.8,2,   7.7370,2,    25.00,   2.3358
  35TH20020610, OVIDE,    82,  1,      8,2,20020709,1306, 40.7860, -13.0980, 5441,   3243.4,   2.7090,  34.9370,2,  34.9380,2,    247.7,2,    248.0,2,    37.29,2,    22.20,2,     1.28,2,   2341.7,2,   7.7370,2,    25.00,   2.4390
  35TH20020610, OVIDE,    82,  1,      9,2,20020709,1306, 40.7860, -13.0980, 5441,   2996.6,   2.8170,  34.9490,2,  34.9480,2,    249.5,2,    249.6,2,    34.63,2,    19.62,3,     1.14,3,   2338.9,2,   7.7390,2,    25.00,   2.5705
  35TH20020610, OVIDE,    82,  1,     10,2,20020709,1306, 40.7860, -13.0980, 5441,   2746.0,   2.9870,  34.9640,2,  34.9620,2,    251.0,2,    250.3,2,    31.31,2,    20.38,2,     1.18,2,   2334.9,2,   7.7390,2,    25.00,   2.7626
  35TH20020610, OVIDE,    82,  1,     11,2,20020709,1306, 40.7860, -13.0980, 5441,   2496.2,   3.3140,  34.9930,2,  34.9940,2,    252.8,2,    252.0,2,    27.11,3,    20.80,2,     1.18,2,   2329.9,2,   7.7410,2,    25.00,   3.1084
  35TH20020610, OVIDE,    82,  1,     12,2,20020709,1306, 40.7860, -13.0980, 5441,   2295.9,   3.5730,  35.0060,2,  35.0060,2,    255.6,2,    254.9,2,    22.13,2,    19.95,2,     1.14,2,   2325.2,2,   7.7410,2,    25.00,   3.3829
  35TH20020610, OVIDE,    82,  1,     13,2,20020709,1306, 40.7860, -13.0980, 5441,   2095.6,   3.8260,  35.0200,2,  35.0190,2,    258.8,2,    257.2,2,    14.84,3,    18.57,3,     1.04,3,   2320.3,2,   7.7390,2,    25.00,   3.6515
  35TH20020610, OVIDE,    82,  1,     14,2,20020709,1306, 40.7860, -13.0980, 5441,   1844.8,   4.5400,  35.1080,2,  35.1090,2,    251.9,2,    252.9,2,    13.40,2,    18.90,2,     0.99,3,   2321.0,2,   7.7410,2,    25.00,   4.3797
  35TH20020610, OVIDE,    82,  1,     15,2,20020709,1306, 40.7860, -13.0980, 5441,   1596.1,   6.0370,  35.3300,2,  35.3280,2,    231.7,2,    233.1,2,    12.16,2,    18.79,2,     1.02,2,   2335.2,2,   7.7470,2,    25.00,   5.8830
  35TH20020610, OVIDE,    82,  1,     16,2,20020709,1306, 40.7860, -13.0980, 5441,   1395.4,   8.5040,  35.7750,2,  35.7780,2,    200.2,2,    205.1,2,    11.20,2,    18.01,2,     0.89,2,   2367.1,2,   7.7750,2,    25.00,   8.3455
  35TH20020610, OVIDE,    82,  1,     17,2,20020709,1306, 40.7860, -13.0980, 5441,   1196.5,   9.6720,  35.9290,2,  35.9270,2,    189.8,2,    192.9,2,     9.75,2,    16.90,2,     0.91,2,   2375.2,2,   7.7800,2,    25.00,   9.5274
  35TH20020610, OVIDE,    82,  1,     18,2,20020709,1306, 40.7860, -13.0980, 5441,   1015.8,  10.7440,  36.0680,2,  36.0660,2,    182.4,2,    187.0,2,     9.41,2,    17.34,2,     0.82,2,   2385.6,2,   7.7950,2,    25.00,  10.6144
  35TH20020610, OVIDE,    82,  1,     19,2,20020709,1306, 40.7860, -13.0980, 5441,    897.0,  10.9940,  36.0200,2,  36.0200,2,    183.5,2,    183.0,2,     8.79,2,    16.68,2,     0.79,2,   2380.3,2,   7.7970,2,    25.00,  10.8787
  35TH20020610, OVIDE,    82,  1,     20,2,20020709,1306, 40.7860, -13.0980, 5441,    797.1,  10.9910,  35.9240,2,  35.9220,2,    186.0,2,    184.5,2,     8.21,2,    16.68,2,     0.88,2,   2371.8,2,   7.7910,2,    25.00,  10.8891
  35TH20020610, OVIDE,    82,  1,     21,2,20020709,1306, 40.7860, -13.0980, 5441,    696.5,  10.8180,  35.7800,2,  35.7830,2,    191.3,2,    186.9,2,     7.90,2,    16.29,2,     0.84,2,   2358.8,2,   7.7840,2,    25.00,  10.7303
  35TH20020610, OVIDE,    82,  1,     22,2,20020709,1306, 40.7860, -13.0980, 5441,    596.6,  10.8360,  35.6540,2,  35.6520,2,    199.9,2,    193.5,3,     7.01,2,    16.52,2,     0.87,2,   2347.6,2,   7.7840,2,    25.00,  10.7612
  35TH20020610, OVIDE,    82,  1,     23,2,20020709,1306, 40.7860, -13.0980, 5441,    496.0,  10.9870,  35.5600,2,  35.5770,3,    213.0,2,    207.5,3,     5.36,2,    15.35,2,     0.80,2,   2339.4,2,   7.7920,2,    25.00,  10.9247
  35TH20020610, OVIDE,    82,  1,     24,2,20020709,1306, 40.7860, -13.0980, 5441,    396.0,  11.4180,  35.5650,2,  35.5640,2,    222.9,2,    220.3,2,     4.60,2,    13.74,2,     0.72,2,   2337.3,2,   7.8150,2,    25.00,  11.3672
  35TH20020610, OVIDE,    82,  1,     25,2,20020709,1306, 40.7860, -13.0980, 5441,    296.3,  11.8160,  35.5960,2,  35.5950,2,    226.4,2,    227.4,2,     3.71,2,    11.36,2,     0.61,2,   2338.6,2,   7.8380,2,    25.00,  11.7773
  35TH20020610, OVIDE,    82,  1,     26,2,20020709,1306, 40.7860, -13.0980, 5441,    196.4,  12.5460,  35.6760,2,  35.6730,2,    242.1,2,    238.8,2,     2.03,2,     6.17,2,     0.44,2,   2344.1,2,   7.8760,2,    25.00,  12.5194
  35TH20020610, OVIDE,    82,  1,     27,2,20020709,1306, 40.7860, -13.0980, 5441,    146.8,  12.7600,  35.6940,2,  35.6930,2,    242.4,2,    244.6,2,     2.10,2,     5.82,2,     0.34,2,   2343.6,2,   7.8920,2,    25.00,  12.7400
  35TH20020610, OVIDE,    82,  1,     28,2,20020709,1306, 40.7860, -13.0980, 5441,     96.9,  13.0410,  35.7270,2,  35.7260,2,    243.2,2,    243.1,2,     1.85,2,     5.46,2,     0.30,2,   2345.8,2,   7.8970,2,    25.00,  13.0276
  35TH20020610, OVIDE,    82,  1,     29,2,20020709,1306, 40.7860, -13.0980, 5441,     47.4,  16.1510,  35.8400,2,  35.8210,3,    247.9,2,    252.1,2,     1.41,2,     1.27,2,     0.05,2,   2353.0,2,   7.9700,2,    25.00,  16.1434
  35TH20020610, OVIDE,    82,  1,     30,2,20020709,1306, 40.7860, -13.0980, 5441,      3.8,  17.6860,  35.8640,2,  35.8610,2,    237.1,2,    244.2,3,     1.31,2,     0.13,2,     0.05,2,   2357.5,2,   7.9810,2,    25.00,  17.6854