BOTTLE,20140820PRINUNIVRMK
EXPOCODE,SECT_ID,STNNBR,CASTNO,BTLNBR,BTLNBR_FLAG_W,DATE,TIME,LATITUDE,LONGITUDE,DEPTH,CTDPRS,CTDTMP,CTDSAL,CTDSAL_FLAG_W,SALNTY,SALNTY_FLAG_W,CTDOXY,CTDOXY_FLAG_W,OXYGEN,OXYGEN_FLAG_W,SILCAT,SILCAT_FLAG_W,NITRAT,NITRAT_FLAG_W,PHSPHT,PHSPHT_FLAG_W,ALKALI,ALKALI_FLAG_W,PH_SWS,PH_SWS_FLAG_W,PH_TMP,THETA
,,,,,,,,,,METERS,DBAR,ITS-90,PSS-78,,PSS-78,,UMOL/KG,,UMOL/KG,,UMOL/KG,,UMOL/KG,,UMOL/KG,,UMOL/KG,,,,DEG C,DEG C
  35TH20020610, OVIDE,    64,  1,      3,2,20020630,2026, 46.1700, -19.3840, 4691,   4681.4,   2.6130,  34.9140,3,  34.9130,3,    241.4,2,    232.8,3,    46.66,3,    23.16,3,     1.33,2,   2354.6,2,   7.7300,2,    25.00,-999.0000
  35TH20020610, OVIDE,    64,  1,      4,2,20020630,2026, 46.1700, -19.3840, 4691,   4497.8,   2.5950,  34.9140,3,  34.9130,3,    241.9,2,    240.9,2,    46.21,3,    22.72,3,     1.30,3,   2352.5,2,   7.7290,2,    25.00,-999.0000
  35TH20020610, OVIDE,    64,  1,      5,2,20020630,2026, 46.1700, -19.3840, 4691,   3996.7,   2.5860,  34.9180,2,  34.9210,2,    243.3,2,    243.1,2,    44.18,3,    22.66,2,     1.32,2,   2351.6,2,   7.7300,2,    25.00,   2.2356
  35TH20020610, OVIDE,    64,  1,      6,2,20020630,2026, 46.1700, -19.3840, 4691,   3746.6,   2.6120,  34.9240,2,  34.9230,2,    245.4,2,    244.8,2,    41.82,3,    21.67,2,     1.24,2,   2347.2,2,   7.7330,2,    25.00,   2.2893
  35TH20020610, OVIDE,    64,  1,      7,2,20020630,2026, 46.1700, -19.3840, 4691,   3495.3,   2.6780,  34.9320,2,  34.9310,2,    249.4,2,    248.5,2,    37.89,3,    21.34,2,     1.24,2,   2340.7,2,   7.7320,2,    25.00,   2.3815
  35TH20020610, OVIDE,    64,  1,      8,2,20020630,2026, 46.1700, -19.3840, 4691,   3247.1,   2.7750,  34.9410,2,  34.9400,2,    252.6,2,    253.6,2,    33.17,3,    20.68,2,     1.22,2,   2334.2,2,   7.7350,2,    25.00,   2.5030
  35TH20020610, OVIDE,    64,  1,      9,2,20020630,2026, 46.1700, -19.3840, 4691,   2995.9,   2.9280,  34.9490,2,  34.9490,2,    260.0,2,    259.2,2,    26.87,2,    19.68,2,     1.14,2,   2327.3,2,   7.7340,2,    25.00,   2.6791
  35TH20020610, OVIDE,    64,  1,     10,2,20020630,2026, 46.1700, -19.3840, 4691,   2746.2,   3.1090,  34.9540,2,  34.9530,2,    262.8,2,    262.5,2,    22.82,2,    19.19,2,     1.12,2,   -999.0,9,-999.0000,9,  -999.00,   2.8822
  35TH20020610, OVIDE,    64,  1,     11,2,20020630,2026, 46.1700, -19.3840, 4691,   2495.8,   3.2680,  34.9400,2,  34.9400,2,    268.1,2,    269.6,2,    15.46,3,    18.52,2,     1.08,2,   2312.4,2,   7.7340,2,    25.00,   3.0635
  35TH20020610, OVIDE,    64,  1,     12,2,20020630,2026, 46.1700, -19.3840, 4691,   2245.5,   3.2860,  34.9060,2,  34.9060,2,    279.0,2,    278.7,2,    12.37,2,    18.08,2,     1.06,2,   2306.2,2,   7.7320,2,    25.00,   3.1060
  35TH20020610, OVIDE,    64,  1,     13,2,20020630,2026, 46.1700, -19.3840, 4691,   1996.4,   3.5070,  34.9130,2,  34.9110,2,    276.3,2,    275.6,2,    11.89,2,    18.20,2,     1.06,2,   2306.2,2,   7.7310,2,    25.00,   3.3473
  35TH20020610, OVIDE,    64,  1,     14,2,20020630,2026, 46.1700, -19.3840, 4691,   1794.4,   3.7060,  34.9220,2,  34.9200,2,    269.7,2,    271.7,2,    11.41,2,    18.30,2,     1.05,2,   2306.2,2,   7.7260,2,    25.00,   3.5624
  35TH20020610, OVIDE,    64,  1,     15,2,20020630,2026, 46.1700, -19.3840, 4691,   1596.0,   4.1910,  34.9730,2,  34.9740,2,    263.6,2,    261.6,2,    11.37,2,    18.41,2,     1.06,2,   2309.0,2,   7.7240,2,    25.00,   4.0597
  35TH20020610, OVIDE,    64,  1,     16,2,20020630,2026, 46.1700, -19.3840, 4691,   1396.3,   5.2120,  35.1050,2,  35.1080,2,    240.5,2,    240.6,2,    11.27,2,    19.02,2,     1.06,2,   2318.9,2,   7.7250,2,    25.00,   5.0882
  35TH20020610, OVIDE,    64,  1,     17,2,20020630,2026, 46.1700, -19.3840, 4691,   1196.5,   6.6970,  35.2910,2,  35.2890,2,    221.3,2,    219.3,2,    11.13,2,    19.35,2,     1.08,2,   2325.3,2,   7.7330,2,    25.00,   6.5790
  35TH20020610, OVIDE,    64,  1,     18,2,20020630,2026, 46.1700, -19.3840, 4691,    996.1,   7.2460,  35.1940,2,  35.1930,2,    198.4,2,    203.6,2,    11.23,3,    20.18,3,     1.12,3,   2318.2,2,   7.7210,2,    25.00,   7.1452
  35TH20020610, OVIDE,    64,  1,     19,2,20020630,2026, 46.1700, -19.3840, 4691,    896.8,   8.6640,  35.3230,2,  35.3240,2,    191.7,2,    190.9,2,    10.44,3,    19.90,3,     1.11,3,   2326.1,2,   7.7360,2,    25.00,   8.5644
  35TH20020610, OVIDE,    64,  1,     20,2,20020630,2026, 46.1700, -19.3840, 4691,    825.6,   8.9350,  35.2690,2,  35.2690,2,    185.9,2,    189.6,2,    10.24,3,    19.84,3,     1.09,3,   2323.1,2,   7.7340,2,    25.00,   8.8421
  35TH20020610, OVIDE,    64,  1,     21,2,20020630,2026, 46.1700, -19.3840, 4691,    696.0,  10.5890,  35.4310,2,  35.4270,2,    204.2,2,    200.3,2,     7.28,2,    17.03,2,     0.93,2,   2327.0,2,   7.7810,2,    25.00,  10.5028
  35TH20020610, OVIDE,    64,  1,     22,2,20020630,2026, 46.1700, -19.3840, 4691,    596.6,  11.2960,  35.5070,2,  35.2670,3,    219.8,2,    220.0,2,    10.30,3,    19.23,3,     1.07,3,   -999.0,9,   7.8100,3,    25.00,  11.2194
  35TH20020610, OVIDE,    64,  1,     23,2,20020630,2026, 46.1700, -19.3840, 4691,    496.1,  12.0410,  35.6130,2,  35.6050,3,    232.3,2,    230.0,2,     4.60,2,    11.57,2,     0.62,2,   2336.2,2,   7.8530,2,    25.00,  11.9749
  35TH20020610, OVIDE,    64,  1,     24,2,20020630,2026, 46.1700, -19.3840, 4691,    396.4,  12.6020,  35.7210,2,  35.7190,2,    246.3,2,    245.1,2,     3.57,2,     9.10,2,     0.51,2,   2342.3,2,   7.8900,2,    25.00,  12.5478
  35TH20020610, OVIDE,    64,  1,     25,2,20020630,2026, 46.1700, -19.3840, 4691,    296.6,  12.8280,  35.7580,2,  35.7580,2,    242.3,2,    243.9,2,     3.57,2,     8.71,2,     0.46,2,   2350.3,2,   7.8850,2,    25.00,  12.7871
  35TH20020610, OVIDE,    64,  1,     26,2,20020630,2026, 46.1700, -19.3840, 4691,    196.9,  13.1140,  35.7990,2,  35.7970,2,    239.8,2,    241.5,2,     3.50,2,     8.66,2,     0.45,2,   2351.7,2,   7.8940,2,    25.00,  13.0865
  35TH20020610, OVIDE,    64,  1,     27,2,20020630,2026, 46.1700, -19.3840, 4691,    146.5,  13.4840,  35.8530,2,  35.8630,3,    237.1,2,    239.9,2,     3.19,2,     7.94,2,     0.38,2,   2354.7,2,   7.9020,2,    25.00,  13.4632
  35TH20020610, OVIDE,    64,  1,     28,2,20020630,2026, 46.1700, -19.3840, 4691,     96.0,  13.8900,  35.8760,2,  35.8730,2,    239.1,2,    244.0,2,     2.78,2,     6.30,2,     0.29,2,   2356.2,2,   7.9230,2,    25.00,  13.8761
  35TH20020610, OVIDE,    64,  1,     29,2,20020630,2026, 46.1700, -19.3840, 4691,     46.8,  14.9370,  35.8860,2,  35.8900,2,    247.2,2,    251.7,2,     1.51,2,     2.11,2,     0.13,2,   2358.8,2,   7.9590,2,    25.00,  14.9299
  35TH20020610, OVIDE,    64,  1,     30,2,20020630,2026, 46.1700, -19.3840, 4691,      4.4,  16.4880,  35.8470,2,  35.8460,2,    250.5,2,    261.9,3,     0.96,2,     0.06,2,     0.06,2,   2358.6,2,   8.0180,2,    25.00,  16.4873
  35TH20020610, OVIDE,    65,  1,      3,2,20020701,0153, 45.7950, -19.0910, 4599,   4589.2,   2.6000,  34.9130,2,  34.9130,2,    239.5,2,    241.7,2,    46.42,2,    22.94,2,     1.33,3,   -999.0,9,   7.7300,2,    25.00,   2.1786
  35TH20020610, OVIDE,    65,  1,      4,2,20020701,0153, 45.7950, -19.0910, 4599,   4247.1,   2.5730,  34.9130,2,  34.9120,2,    241.9,2,    247.7,3,    46.20,2,    22.72,2,     1.29,3,   -999.0,9,-999.0000,9,  -999.00,   2.1937
  35TH20020610, OVIDE,    65,  1,      5,2,20020701,0153, 45.7950, -19.0910, 4599,   3997.6,   2.5690,  34.9170,2,  34.9170,2,    242.7,2,    242.6,2,    45.18,2,    22.22,3,     1.29,3,   -999.0,9,   7.7290,2,    25.00,   2.2189
  35TH20020610, OVIDE,    65,  1,      6,2,20020701,0153, 45.7950, -19.0910, 4599,   3746.9,   2.5950,  34.9220,2,  34.9190,2,    244.7,2,    245.0,2,    42.58,2,    22.05,2,     1.31,2,   -999.0,9,   7.7300,2,    25.00,   2.2728
  35TH20020610, OVIDE,    65,  1,      7,2,20020701,0153, 45.7950, -19.0910, 4599,   3496.1,   2.6630,  34.9300,2,  34.9280,2,    249.4,2,    249.4,2,    38.29,2,    21.17,2,     1.30,2,   -999.0,9,   7.7310,2,    25.00,   2.3668
  35TH20020610, OVIDE,    65,  1,      8,2,20020701,0153, 45.7950, -19.0910, 4599,   3246.0,   2.7840,  34.9420,2,  34.9430,2,    253.9,2,    261.1,3,    32.42,2,    20.18,2,     1.21,2,   -999.0,9,   7.7330,2,    25.00,   2.5119
  35TH20020610, OVIDE,    65,  1,      9,2,20020701,0153, 45.7950, -19.0910, 4599,   2995.8,   2.9160,  34.9480,2,  34.9530,2,    260.3,2,    260.8,2,    26.09,2,    18.52,2,     0.76,4,   -999.0,9,   7.7280,3,    25.00,   2.6674
  35TH20020610, OVIDE,    65,  1,     10,2,20020701,0153, 45.7950, -19.0910, 4599,   2745.3,   3.0620,  34.9450,2,  34.9420,2,    267.1,2,    268.0,2,    19.99,2,    18.36,2,     1.11,2,   -999.0,9,   7.7320,2,    25.00,   2.8363
  35TH20020610, OVIDE,    65,  1,     11,2,20020701,0153, 45.7950, -19.0910, 4599,   2495.1,   3.2200,  34.9350,2,  34.9350,2,    270.9,2,    272.2,2,    14.98,2,    18.30,2,     1.07,2,   -999.0,9,   7.7350,2,    25.00,   3.0165
  35TH20020610, OVIDE,    65,  1,     12,2,20020701,0153, 45.7950, -19.0910, 4599,   2244.2,   3.2390,  34.9020,2,  34.9010,2,    280.3,2,    281.0,2,    11.96,2,    17.64,2,     1.05,2,   -999.0,9,   7.7310,2,    25.00,   3.0599
  35TH20020610, OVIDE,    65,  1,     13,2,20020701,0153, 45.7950, -19.0910, 4599,   1996.1,   3.3760,  34.8970,2,  34.8960,2,    280.0,2,    279.9,2,    11.27,2,    17.86,2,     1.05,2,   -999.0,9,   7.7280,2,    25.00,   3.2183
  35TH20020610, OVIDE,    65,  1,     14,2,20020701,0153, 45.7950, -19.0910, 4599,   1795.0,   3.5720,  34.9080,2,  34.9080,2,    277.6,2,    276.0,2,    11.27,2,    18.30,2,     1.06,2,   -999.0,9,   7.7250,2,    25.00,   3.4302
  35TH20020610, OVIDE,    65,  1,     15,2,20020701,0153, 45.7950, -19.0910, 4599,   1596.5,   4.1020,  34.9760,2,  34.9720,2,    265.8,2,    263.1,2,    11.41,2,    18.30,2,     1.06,2,   -999.0,9,   7.7260,2,    25.00,   3.9717
  35TH20020610, OVIDE,    65,  1,     16,2,20020701,0153, 45.7950, -19.0910, 4599,   1395.8,   5.0330,  35.1010,2,  35.1100,3,    244.6,2,    245.3,2,    11.34,2,    18.74,2,     1.08,2,   -999.0,9,   7.7290,2,    25.00,   4.9111
  35TH20020610, OVIDE,    65,  1,     17,2,20020701,0153, 45.7950, -19.0910, 4599,   1195.5,   6.3780,  35.2730,2,  35.2780,2,    222.7,2,    223.8,2,    11.30,2,    19.18,2,     1.10,2,   -999.0,9,   7.7320,2,    25.00,   6.2630
  35TH20020610, OVIDE,    65,  1,     18,2,20020701,0153, 45.7950, -19.0910, 4599,    994.7,   8.8350,  35.6170,2,  35.5980,3,    194.7,2,    197.0,2,    10.34,3,    21.11,3,     1.00,3,   -999.0,9,   7.7550,2,    25.00,   8.7223
  35TH20020610, OVIDE,    65,  1,     19,2,20020701,0153, 45.7950, -19.0910, 4599,    896.5,   9.7660,  35.7330,2,  35.7380,2,    183.4,2,    188.3,2,     9.48,3,    18.18,3,     0.72,4,   -999.0,9,   7.7710,2,    25.00,   9.6588
  35TH20020610, OVIDE,    65,  1,     20,2,20020701,0153, 45.7950, -19.0910, 4599,    794.7,   9.7290,  35.6120,2,  35.6090,2,    192.2,2,    189.6,2,     9.31,3,    18.24,3,     1.02,3,   -999.0,9,   7.7610,2,    25.00,   9.6348
  35TH20020610, OVIDE,    65,  1,     21,2,20020701,0153, 45.7950, -19.0910, 4599,    696.4,   9.5190,  35.3870,2,  35.3850,2,    196.0,2,    191.9,2,     9.14,2,    18.63,2,     1.03,2,   -999.0,9,   7.7520,2,    25.00,   9.4382
  35TH20020610, OVIDE,    65,  1,     22,2,20020701,0153, 45.7950, -19.0910, 4599,    596.1,  10.4250,  35.4670,2,  35.4660,2,    204.3,2,   -999.0,9,     7.35,2,    16.81,2,     0.95,2,   -999.0,9,   7.7730,2,    25.00,  10.3522
  35TH20020610, OVIDE,    65,  1,     23,2,20020701,0153, 45.7950, -19.0910, 4599,    496.7,  10.9080,  35.5070,2,  35.5040,2,    213.1,2,    208.9,2,     6.04,2,    15.21,2,     0.85,2,   -999.0,9,   7.7910,2,    25.00,  10.8459
  35TH20020610, OVIDE,    65,  1,     24,2,20020701,0153, 45.7950, -19.0910, 4599,    396.9,  11.3300,  35.5340,2,  35.5320,2,    221.5,2,    217.8,2,     5.01,2,    13.72,3,     0.72,2,   -999.0,9,   7.8140,2,    25.00,  11.2794
  35TH20020610, OVIDE,    65,  1,     25,2,20020701,0153, 45.7950, -19.0910, 4599,    296.4,  11.8270,  35.5900,2,  35.5890,2,    222.3,2,    222.5,2,     4.19,2,    14.11,3,     0.62,2,   -999.0,9,   7.8300,2,    25.00,  11.7883
  35TH20020610, OVIDE,    65,  1,     26,2,20020701,0153, 45.7950, -19.0910, 4599,    196.5,  12.4900,  35.6810,2,  35.6770,2,    242.1,2,    235.7,3,     3.16,2,     9.53,2,     0.46,2,   -999.0,9,   7.8700,2,    25.00,  12.4635
  35TH20020610, OVIDE,    65,  1,     27,2,20020701,0153, 45.7950, -19.0910, 4599,    146.3,  12.8650,  35.7370,2,  35.7340,2,    242.2,2,    245.5,2,     2.54,2,     7.18,2,     0.37,2,   -999.0,9,   7.8920,2,    25.00,  12.8449
  35TH20020610, OVIDE,    65,  1,     28,2,20020701,0153, 45.7950, -19.0910, 4599,     96.6,  13.6050,  35.7840,2,  35.7880,2,    243.5,2,    248.3,2,     1.37,2,     4.38,2,     0.28,2,   -999.0,9,   7.9190,2,    25.00,  13.5913
  35TH20020610, OVIDE,    65,  1,     29,2,20020701,0153, 45.7950, -19.0910, 4599,     47.2,  14.8370,  35.7300,2,  35.7330,2,    261.1,2,    263.0,2,     0.45,2,     1.05,2,     0.09,2,   -999.0,9,   7.9670,2,    25.00,  14.8299
  35TH20020610, OVIDE,    65,  1,     30,2,20020701,0153, 45.7950, -19.0910, 4599,      4.5,  15.9670,  35.7650,2,  35.7650,2,    253.2,2,    262.0,3,     0.38,2,     0.00,2,     0.07,2,   -999.0,9,   8.0000,2,    25.00,  15.9663
  35TH20020610, OVIDE,    66,  1,      3,2,20020701,0729, 45.4220, -18.7970, 4652,   4641.8,   2.6040,  34.9120,2,  34.9130,2,    241.7,2,    241.1,2,    46.31,2,    22.16,2,     1.32,3,   2354.8,2,   7.7290,2,    25.00,   2.1759
  35TH20020610, OVIDE,    66,  1,      4,2,20020701,0729, 45.4220, -18.7970, 4652,   4496.7,   2.5880,  34.9120,2,  34.9130,2,    241.7,2,    241.1,2,    45.86,2,    22.11,2,     1.37,3,   2353.1,2,   7.7290,2,    25.00,   2.1782
  35TH20020610, OVIDE,    66,  1,      5,2,20020701,0729, 45.4220, -18.7970, 4652,   3996.9,   2.5720,  34.9170,2,  34.9170,2,    243.0,2,    242.1,2,    44.50,2,    22.22,2,     1.35,3,   2351.2,2,   7.7320,2,    25.00,   2.2219
  35TH20020610, OVIDE,    66,  1,      6,2,20020701,0729, 45.4220, -18.7970, 4652,   3746.7,   2.5920,  34.9210,2,  34.9210,2,    244.6,2,    243.8,2,    42.81,2,    22.05,2,     1.40,3,   2347.3,2,   7.7300,2,    25.00,   2.2699
  35TH20020610, OVIDE,    66,  1,      7,2,20020701,0729, 45.4220, -18.7970, 4652,   3496.2,   2.6480,  34.9300,2,  34.9290,2,    247.5,2,    246.3,2,    39.53,2,    21.17,2,     1.30,3,   2341.7,2,   7.7340,2,    25.00,   2.3522
  35TH20020610, OVIDE,    66,  1,      8,2,20020701,0729, 45.4220, -18.7970, 4652,   3245.3,   2.7440,  34.9390,2,  34.9400,2,    251.2,2,    251.0,2,    34.22,2,    20.51,2,     1.28,3,   2335.8,2,   7.7330,2,    25.00,   2.4729
  35TH20020610, OVIDE,    66,  1,      9,2,20020701,0729, 45.4220, -18.7970, 4652,   2996.5,   2.8690,  34.9470,2,  34.9540,3,    257.3,2,    257.4,2,    28.01,2,    19.24,2,     1.16,2,   2329.9,2,   7.7350,2,    25.00,   2.6213
  35TH20020610, OVIDE,    66,  1,     10,2,20020701,0729, 45.4220, -18.7970, 4652,   2745.2,   3.0310,  34.9490,2,  34.9470,2,    264.9,2,    263.9,2,    22.82,2,    18.86,2,     1.13,2,   2321.6,2,   7.7340,2,    25.00,   2.8059
  35TH20020610, OVIDE,    66,  1,     11,2,20020701,0729, 45.4220, -18.7970, 4652,   2496.7,   3.2150,  34.9450,2,  34.9460,2,    267.3,2,    267.4,2,    18.86,2,    18.25,2,     1.10,2,   2317.3,2,   7.7360,2,    25.00,   3.0114
  35TH20020610, OVIDE,    66,  1,     12,2,20020701,0729, 45.4220, -18.7970, 4652,   2245.6,   3.2660,  34.9150,2,  34.9140,2,    277.4,2,    276.9,2,    12.93,2,    17.37,2,     1.04,2,   2310.0,2,   7.7350,2,    25.00,   3.0863
  35TH20020610, OVIDE,    66,  1,     13,2,20020701,0729, 45.4220, -18.7970, 4652,   1995.6,   3.3500,  34.8990,2,  34.8990,2,    279.2,2,    279.5,2,    11.72,2,    17.70,2,     1.08,3,   2308.6,2,   7.7290,2,    25.00,   3.1927
  35TH20020610, OVIDE,    66,  1,     14,2,20020701,0729, 45.4220, -18.7970, 4652,   1795.3,   3.5990,  34.9220,2,  34.9200,2,    273.6,2,    273.6,2,    11.75,2,    18.30,2,     1.07,2,   2307.0,2,   7.7300,2,    25.00,   3.4568
  35TH20020610, OVIDE,    66,  1,     15,2,20020701,0729, 45.4220, -18.7970, 4652,   1596.5,   4.0380,  34.9680,2,  34.9660,2,    265.0,2,    264.0,2,    11.58,2,    18.19,2,     1.05,2,   2309.8,2,   7.7270,2,    25.00,   3.9085
  35TH20020610, OVIDE,    66,  1,     16,2,20020701,0729, 45.4220, -18.7970, 4652,   1395.6,   4.8420,  35.0570,2,  35.0570,2,    250.9,2,    247.7,2,    11.41,2,    18.41,2,     1.07,2,   2316.0,2,   7.7270,2,    25.00,   4.7222
  35TH20020610, OVIDE,    66,  1,     17,2,20020701,0729, 45.4220, -18.7970, 4652,   1195.2,   6.1850,  35.2340,2,  35.2380,2,    232.7,2,    226.6,3,    11.27,2,    18.91,3,     1.09,3,   2322.4,2,   7.7300,2,    25.00,   6.0718
  35TH20020610, OVIDE,    66,  1,     18,2,20020701,0729, 45.4220, -18.7970, 4652,    996.2,   6.8680,  35.2110,2,  35.2110,2,    215.0,2,    213.1,2,    11.27,2,    19.13,3,     1.12,3,   2320.8,2,   7.7330,2,    25.00,   6.7700
  35TH20020610, OVIDE,    66,  1,     19,2,20020701,0729, 45.4220, -18.7970, 4652,    896.0,   8.2250,  35.3770,2,  35.3790,2,    195.6,2,    197.9,2,    10.70,2,    19.18,3,     1.08,3,   2331.1,2,   7.7390,2,    25.00,   8.1283
  35TH20020610, OVIDE,    66,  1,     20,2,20020701,0729, 45.4220, -18.7970, 4652,    745.9,   9.1520,  35.3690,2,  35.3680,2,    188.6,2,    188.7,2,     9.96,2,    18.19,2,     1.09,2,   2327.1,2,   7.7420,2,    25.00,   9.0672
  35TH20020610, OVIDE,    66,  1,     21,2,20020701,0729, 45.4220, -18.7970, 4652,    696.3,   9.4530,  35.3750,2,  35.3740,2,    191.8,2,    188.9,2,     9.35,2,    18.30,2,     1.04,2,   2327.3,2,   7.7470,2,    25.00,   9.3725
  35TH20020610, OVIDE,    66,  1,     22,2,20020701,0729, 45.4220, -18.7970, 4652,    595.7,  10.1540,  35.4030,2,  35.4050,2,    201.1,2,    196.2,2,     7.94,2,    16.98,2,     0.96,2,   2327.9,2,   7.7640,2,    25.00,  10.0825
  35TH20020610, OVIDE,    66,  1,     23,2,20020701,0729, 45.4220, -18.7970, 4652,    496.5,  10.8680,  35.4710,2,  35.4670,2,    214.6,2,    209.9,2,     6.19,2,    14.16,2,     0.79,2,   2330.4,2,   7.7930,2,    25.00,  10.8061
  35TH20020610, OVIDE,    66,  1,     24,2,20020701,0729, 45.4220, -18.7970, 4652,    397.4,  11.2970,  35.5020,2,  35.5010,2,    223.1,2,    221.5,2,     5.28,2,    12.84,2,     0.73,2,   2330.4,2,   7.8190,2,    25.00,  11.2464
  35TH20020610, OVIDE,    66,  1,     25,2,20020701,0729, 45.4220, -18.7970, 4652,    296.7,  11.9590,  35.6120,2,  35.6090,2,    230.4,2,    235.0,2,     4.17,2,    10.03,2,     0.58,2,   2341.9,2,   7.8510,2,    25.00,  11.9200
  35TH20020610, OVIDE,    66,  1,     26,2,20020701,0729, 45.4220, -18.7970, 4652,    197.0,  12.5920,  35.7080,2,  35.7070,2,    243.1,2,    241.1,2,     3.36,2,     8.22,2,     0.48,2,   2346.9,2,   7.8770,2,    25.00,  12.5653
  35TH20020610, OVIDE,    66,  1,     27,2,20020701,0729, 45.4220, -18.7970, 4652,    146.6,  13.0500,  35.7630,2,  35.7610,2,    246.2,2,    244.2,2,     2.86,2,     7.29,2,     0.41,2,   2350.0,2,   7.8980,2,    25.00,  13.0297
  35TH20020610, OVIDE,    66,  1,     28,2,20020701,0729, 45.4220, -18.7970, 4652,     96.8,  13.4430,  35.7720,2,  35.7720,2,    247.0,2,    249.7,2,     2.02,2,     4.88,2,     0.35,2,   2349.8,2,   7.9150,2,    25.00,  13.4293
  35TH20020610, OVIDE,    66,  1,     29,2,20020701,0729, 45.4220, -18.7970, 4652,     46.8,  14.7230,  35.7470,2,  35.7480,2,    259.1,2,    260.8,2,     0.67,2,     0.89,2,     0.14,2,   2348.9,2,   7.9680,2,    25.00,  14.7160
  35TH20020610, OVIDE,    66,  1,     30,2,20020701,0729, 45.4220, -18.7970, 4652,      4.6,  16.0230,  35.7630,2,  35.7630,2,    250.8,2,    265.1,3,     0.74,2,     0.00,2,     0.10,2,   2355.2,2,   8.0100,2,    25.00,  16.0223