BOTTLE,20140820PRINUNIVRMK
EXPOCODE,SECT_ID,STNNBR,CASTNO,BTLNBR,BTLNBR_FLAG_W,DATE,TIME,LATITUDE,LONGITUDE,DEPTH,CTDPRS,CTDTMP,CTDSAL,CTDSAL_FLAG_W,SALNTY,SALNTY_FLAG_W,CTDOXY,CTDOXY_FLAG_W,OXYGEN,OXYGEN_FLAG_W,SILCAT,SILCAT_FLAG_W,NITRAT,NITRAT_FLAG_W,PHSPHT,PHSPHT_FLAG_W,ALKALI,ALKALI_FLAG_W,PH_SWS,PH_SWS_FLAG_W,PH_TMP,THETA
,,,,,,,,,,METERS,DBAR,ITS-90,PSS-78,,PSS-78,,UMOL/KG,,UMOL/KG,,UMOL/KG,,UMOL/KG,,UMOL/KG,,UMOL/KG,,,,DEG C,DEG C
  35TH20020610, OVIDE,    12,  1,      3,2,20020619,0315, 59.7560, -40.9040, 2300,   2289.7,   1.3910,  34.8690,2,  34.8700,2,    302.4,2,    302.1,2,     7.78,2,    15.03,2,     0.92,2,   2298.3,2,   7.7280,2,    25.00,   1.2392
  35TH20020610, OVIDE,    12,  1,      4,2,20020619,0315, 59.7560, -40.9040, 2300,   2288.4,   1.3870,  34.8700,2,  34.8700,2,    302.4,2,    302.3,2,     7.71,2,    15.14,2,     0.91,2,   2298.3,2,   7.7320,2,    25.00,   1.2354
  35TH20020610, OVIDE,    12,  1,      5,2,20020619,0315, 59.7560, -40.9040, 2300,   2245.6,   1.3980,  34.8690,2,  34.8690,2,    302.0,2,    302.1,2,     7.68,2,    14.81,2,     0.92,2,   2298.2,2,   7.7310,2,    25.00,   1.2498
  35TH20020610, OVIDE,    12,  1,      6,2,20020619,0315, 59.7560, -40.9040, 2300,   2245.1,   1.4050,  34.8680,2,  34.8690,2,    302.0,2,   -999.0,9,     7.78,2,    14.70,2,     0.93,2,   -999.0,9,-999.0000,9,  -999.00,   1.2567
  35TH20020610, OVIDE,    12,  1,      7,2,20020619,0315, 59.7560, -40.9040, 2300,   2196.7,   1.6820,  34.8650,2,  34.8670,2,    301.2,2,    300.3,2,     8.05,2,    15.09,2,     0.92,2,   2298.5,2,   7.7360,2,    25.00,   1.5332
  35TH20020610, OVIDE,    12,  1,      8,2,20020619,0315, 59.7560, -40.9040, 2300,   2096.6,   2.1320,  34.8730,2,  34.8720,2,    295.1,2,    293.8,2,     9.08,2,    15.87,2,     0.97,2,   2299.6,2,   7.7320,2,    25.00,   1.9844
  35TH20020610, OVIDE,    12,  1,      9,2,20020619,0315, 59.7560, -40.9040, 2300,   1996.2,   2.3770,  34.8720,2,  34.8740,2,    288.5,2,    296.5,3,     9.62,2,    15.98,2,     0.98,2,   2301.2,2,   7.7350,2,    25.00,   2.2343
  35TH20020610, OVIDE,    12,  1,     10,2,20020619,0315, 59.7560, -40.9040, 2300,   1797.4,   2.7520,  34.8760,2,  34.8810,2,    289.3,2,    288.2,2,     9.62,2,    16.66,2,     1.02,2,   2300.7,2,   7.7340,2,    25.00,   2.6212
  35TH20020610, OVIDE,    12,  1,     11,2,20020619,0315, 59.7560, -40.9040, 2300,   1596.1,   3.0400,  34.8890,2,  34.8910,2,    286.2,2,    285.5,2,    10.24,2,    17.44,2,     1.05,2,   2303.2,2,   7.7330,2,    25.00,   2.9227
  35TH20020610, OVIDE,    12,  1,     12,2,20020619,0315, 59.7560, -40.9040, 2300,   1395.2,   3.1410,  34.8820,2,  34.8820,2,    287.1,2,    286.3,2,    10.30,2,    17.78,2,     1.07,2,   2300.9,2,   7.7280,2,    25.00,   3.0396
  35TH20020610, OVIDE,    12,  1,     13,2,20020619,0315, 59.7560, -40.9040, 2300,   1294.9,   3.2480,  34.8880,2,-999.0000,9,    284.9,2,   -999.0,9,  -999.00,9,  -999.00,9,  -999.00,9,   2301.5,2,   7.7290,2,    25.00,   3.1538
  35TH20020610, OVIDE,    12,  1,     14,2,20020619,0315, 59.7560, -40.9040, 2300,   1197.9,   3.3470,  34.8950,2,  34.8950,2,    281.1,2,    282.4,2,    10.17,2,    17.89,2,     1.12,2,   2302.9,2,   7.7290,2,    25.00,   3.2598
  35TH20020610, OVIDE,    12,  1,     15,2,20020619,0315, 59.7560, -40.9040, 2300,   1096.6,   3.4300,  34.8940,2,  34.8960,2,    280.5,2,    282.1,2,    10.17,2,    17.50,2,     1.09,2,   -999.0,9,-999.0000,9,  -999.00,   3.3503
  35TH20020610, OVIDE,    12,  1,     16,2,20020619,0315, 59.7560, -40.9040, 2300,    996.0,   3.5130,  34.8950,2,  34.8950,2,    280.1,2,    279.5,2,     9.96,2,    18.23,2,     1.07,2,   2304.8,2,   7.7250,2,    25.00,   3.4408
  35TH20020610, OVIDE,    12,  1,     17,2,20020619,0315, 59.7560, -40.9040, 2300,    896.4,   3.5380,  34.8870,2,  34.8890,2,    281.5,2,    281.7,2,     9.76,2,    18.06,2,     1.07,2,   2302.8,2,   7.7250,2,    25.00,   3.4735
  35TH20020610, OVIDE,    12,  1,     18,2,20020619,0315, 59.7560, -40.9040, 2300,    796.6,   3.5460,  34.8780,2,  34.8800,2,    284.0,2,    282.9,2,     9.49,2,    18.45,2,     1.10,2,   2302.6,2,   7.7270,2,    25.00,   3.4893
  35TH20020610, OVIDE,    12,  1,     19,2,20020619,0315, 59.7560, -40.9040, 2300,    695.9,   3.5710,  34.8700,2,  34.8730,2,    284.6,2,    286.5,2,     9.21,3,    19.01,2,     1.06,2,   2302.8,2,   7.7280,2,    25.00,   3.5218
  35TH20020610, OVIDE,    12,  1,     20,2,20020619,0315, 59.7560, -40.9040, 2300,    595.7,   3.7900,  34.8890,2,  34.8900,2,    283.1,2,    283.8,2,     8.97,2,    17.56,2,     1.05,2,   2304.1,2,   7.7300,2,    25.00,   3.7473
  35TH20020610, OVIDE,    12,  1,     21,2,20020619,0315, 59.7560, -40.9040, 2300,    497.1,   3.9190,  34.8910,2,  34.8910,2,    283.8,2,    285.5,2,     8.46,2,    17.39,2,     1.05,2,   2304.7,2,   7.7350,2,    25.00,   3.8833
  35TH20020610, OVIDE,    12,  1,     22,2,20020619,0315, 59.7560, -40.9040, 2300,    395.3,   4.1440,  34.9060,2,  34.9080,2,    284.1,2,    285.4,2,     8.63,2,    17.44,2,     1.02,3,   2304.8,2,   7.7380,2,    25.00,   4.1152
  35TH20020610, OVIDE,    12,  1,     23,2,20020619,0315, 59.7560, -40.9040, 2300,    295.3,   4.1450,  34.8900,2,  34.8860,2,    294.0,2,    290.9,2,     8.60,2,    17.67,2,     1.05,2,   2303.7,2,   7.7370,2,    25.00,   4.1237
  35TH20020610, OVIDE,    12,  1,     24,2,20020619,0315, 59.7560, -40.9040, 2300,    197.2,   4.6620,  34.9400,2,  34.9410,2,    288.0,2,    290.8,2,     8.02,2,    16.94,2,     0.98,2,   2307.9,2,   7.7510,2,    25.00,   4.6471
  35TH20020610, OVIDE,    12,  1,     25,2,20020619,0315, 59.7560, -40.9040, 2300,    147.1,   4.7620,  34.9420,2,  34.9440,2,    290.6,2,    290.0,2,     8.02,2,    16.66,2,     0.97,2,   2308.0,2,   7.7510,2,    25.00,   4.7508
  35TH20020610, OVIDE,    12,  1,     26,2,20020619,0315, 59.7560, -40.9040, 2300,     96.5,   5.0060,  34.9480,2,  34.9570,3,    293.9,2,    290.5,2,     7.78,2,    16.77,2,     0.98,2,   2310.3,2,   7.7550,2,    25.00,   4.9985
  35TH20020610, OVIDE,    12,  1,     27,2,20020619,0315, 59.7560, -40.9040, 2300,     47.6,   5.2870,  34.8840,2,  34.8840,2,    309.6,2,    303.8,2,     7.44,2,    14.84,2,     0.93,2,   2310.6,2,   7.7690,2,    25.00,   5.2832
  35TH20020610, OVIDE,    12,  1,     28,2,20020619,0315, 59.7560, -40.9040, 2300,      3.1,   6.5910,  34.8450,2,  34.8480,2,    320.9,2,    322.3,2,     0.72,2,     8.53,2,     0.38,2,   2307.0,2,   7.8650,2,    25.00,   6.5907
  35TH20020610, OVIDE,    13,  1,      3,2,20020619,0716, 59.7240, -40.2520, 2692,   2682.0,   1.2950,  34.8790,2,  34.8800,2,    301.0,2,    302.6,2,     7.74,2,    14.70,2,     0.90,2,   -999.0,9,   7.7270,2,    25.00,   1.1109
  35TH20020610, OVIDE,    13,  1,      4,2,20020619,0716, 59.7240, -40.2520, 2692,   2637.0,   1.3050,  34.8800,2,-999.0000,9,    302.7,2,   -999.0,9,     7.74,2,    14.58,2,     0.90,2,   -999.0,9,-999.0000,9,  -999.00,   1.1247
  35TH20020610, OVIDE,    13,  1,      5,2,20020619,0716, 59.7240, -40.2520, 2692,   2594.3,   1.4580,  34.8710,2,  34.8800,3,    300.8,2,    301.5,2,     7.70,2,    14.70,2,     0.92,2,   -999.0,9,   7.7310,2,    25.00,   1.2785
  35TH20020610, OVIDE,    13,  1,      6,2,20020619,0716, 59.7240, -40.2520, 2692,   2546.3,   1.7270,  34.8760,2,-999.0000,9,    298.4,2,   -999.0,9,     8.29,2,    18.25,3,     0.92,2,   -999.0,9,-999.0000,9,  -999.00,   1.5467
  35TH20020610, OVIDE,    13,  1,      7,2,20020619,0716, 59.7240, -40.2520, 2692,   2497.0,   2.0010,  34.8780,2,  34.8800,2,    296.2,2,    295.1,2,     8.87,2,    15.55,2,     0.95,2,   -999.0,9,   7.7320,2,    25.00,   1.8200
  35TH20020610, OVIDE,    13,  1,      8,2,20020619,0716, 59.7240, -40.2520, 2692,   2395.1,   2.4630,  34.9060,2,  34.9060,2,    284.6,2,    283.8,2,    11.88,2,    16.74,2,     1.03,2,   -999.0,9,   7.7340,2,    25.00,   2.2829
  35TH20020610, OVIDE,    13,  1,      9,2,20020619,0716, 59.7240, -40.2520, 2692,   2295.8,   2.6600,  34.9200,2,  34.9190,2,    280.8,2,    279.5,2,    12.84,3,    17.19,3,     1.05,3,   -999.0,9,   7.7330,2,    25.00,   2.4857
  35TH20020610, OVIDE,    13,  1,     10,2,20020619,0716, 59.7240, -40.2520, 2692,   2194.9,   2.8030,  34.9290,2,  34.9230,3,    278.6,2,    277.9,2,    12.60,3,    17.59,3,     1.06,3,   -999.0,9,   7.7330,2,    25.00,   2.6356
  35TH20020610, OVIDE,    13,  1,     11,2,20020619,0716, 59.7240, -40.2520, 2692,   2095.0,   2.8290,  34.9070,2,  34.9080,2,    280.6,2,    282.1,2,    11.40,2,    17.42,2,     1.04,2,   -999.0,9,   7.7320,2,    25.00,   2.6705
  35TH20020610, OVIDE,    13,  1,     12,2,20020619,0716, 59.7240, -40.2520, 2692,   1995.3,   2.9490,  34.9100,2,  34.9070,2,    282.6,2,    281.6,2,    11.20,2,    17.53,2,     1.05,2,   -999.0,9,   7.7320,2,    25.00,   2.7977
  35TH20020610, OVIDE,    13,  1,     13,2,20020619,0716, 59.7240, -40.2520, 2692,   1794.3,   3.0980,  34.9080,2,  34.9070,2,    284.0,2,    281.9,2,    10.89,2,    17.65,2,     1.07,2,   -999.0,9,   7.7320,2,    25.00,   2.9627
  35TH20020610, OVIDE,    13,  1,     14,2,20020619,0716, 59.7240, -40.2520, 2692,   1695.7,   3.0890,  34.8940,2,-999.0000,9,    285.4,2,   -999.0,9,    10.48,2,    17.65,2,     1.08,2,   -999.0,9,-999.0000,9,  -999.00,   2.9625
  35TH20020610, OVIDE,    13,  1,     15,2,20020619,0716, 59.7240, -40.2520, 2692,   1595.8,   3.0580,  34.8770,2,  34.8770,2,    289.1,2,    288.3,2,    10.27,2,    17.87,2,     1.08,2,   -999.0,9,   7.7290,2,    25.00,   2.9406
  35TH20020610, OVIDE,    13,  1,     16,2,20020619,0716, 59.7240, -40.2520, 2692,   1396.7,   3.1750,  34.8800,2,  34.8820,2,    286.2,2,    286.1,2,    10.00,2,    17.87,2,     1.06,2,   -999.0,9,   7.7270,2,    25.00,   3.0731
  35TH20020610, OVIDE,    13,  1,     17,2,20020619,0716, 59.7240, -40.2520, 2692,   1196.2,   3.3330,  34.8890,2,  34.8900,2,    281.2,2,    281.8,2,    10.20,3,    19.35,3,     1.10,2,   -999.0,9,   7.7210,2,    25.00,   3.2461
  35TH20020610, OVIDE,    13,  1,     18,2,20020619,0716, 59.7240, -40.2520, 2692,    997.1,   3.4790,  34.8870,2,  34.8880,2,    280.9,2,    294.4,3,    10.03,2,    18.04,2,     1.10,2,   -999.0,9,   7.7200,2,    25.00,   3.4069
  35TH20020610, OVIDE,    13,  1,     19,2,20020619,0716, 59.7240, -40.2520, 2692,    895.8,   3.4520,  34.8720,2,  34.8710,2,    284.2,2,    284.2,2,     9.62,2,    18.04,2,     1.08,2,   -999.0,9,   7.7220,2,    25.00,   3.3882
  35TH20020610, OVIDE,    13,  1,     20,2,20020619,0716, 59.7240, -40.2520, 2692,    796.0,   3.4220,  34.8530,2,  34.8550,2,    290.7,2,    291.4,2,     8.80,2,    17.36,2,     1.04,2,   -999.0,9,   7.7250,2,    25.00,   3.3661
  35TH20020610, OVIDE,    13,  1,     21,2,20020619,0716, 59.7240, -40.2520, 2692,    694.2,   3.4250,  34.8480,2,  34.8490,2,    295.5,2,    296.8,2,     8.77,2,    17.31,2,     1.04,2,   -999.0,9,   7.7260,2,    25.00,   3.3768
  35TH20020610, OVIDE,    13,  1,     22,2,20020619,0716, 59.7240, -40.2520, 2692,    597.0,   3.5750,  34.8590,2,  34.8600,2,    293.7,2,    292.8,2,     8.94,2,    17.59,2,     1.04,2,   -999.0,9,   7.7230,2,    25.00,   3.5333
  35TH20020610, OVIDE,    13,  1,     23,2,20020619,0716, 59.7240, -40.2520, 2692,    495.6,   3.6720,  34.8630,2,  34.8630,2,    297.6,2,    296.6,2,     8.66,2,    17.31,2,     1.04,2,   -999.0,9,   7.7310,2,    25.00,   3.6374
  35TH20020610, OVIDE,    13,  1,     24,2,20020619,0716, 59.7240, -40.2520, 2692,    395.5,   3.8490,  34.8740,2,  34.8750,2,    300.0,2,    297.7,2,     8.56,2,    17.31,2,     1.02,2,   -999.0,9,   7.7330,2,    25.00,   3.8211
  35TH20020610, OVIDE,    13,  1,     25,2,20020619,0716, 59.7240, -40.2520, 2692,    296.8,   4.0590,  34.8910,2,  34.8900,2,    294.3,2,    296.7,2,     8.42,2,    17.19,2,     1.01,2,   -999.0,9,   7.7360,2,    25.00,   4.0378
  35TH20020610, OVIDE,    13,  1,     26,2,20020619,0716, 59.7240, -40.2520, 2692,    197.8,   4.3010,  34.9090,2,  34.9070,2,    296.2,2,    294.8,2,     8.22,2,    16.85,2,     0.98,2,   -999.0,9,   7.7420,2,    25.00,   4.2866
  35TH20020610, OVIDE,    13,  1,     27,2,20020619,0716, 59.7240, -40.2520, 2692,     96.7,   4.4510,  34.8870,2,  34.8900,2,    296.0,2,    296.4,2,     8.22,3,    16.96,3,     0.99,3,   -999.0,9,   7.7410,2,    25.00,   4.4439
  35TH20020610, OVIDE,    13,  1,     28,2,20020619,0716, 59.7240, -40.2520, 2692,     45.4,   5.2010,  34.8810,2,  34.8740,3,    324.0,2,    305.9,3,     7.33,2,    14.07,2,     0.93,2,   -999.0,9,   7.7680,2,    25.00,   5.1974
  35TH20020610, OVIDE,    13,  1,     29,2,20020619,0716, 59.7240, -40.2520, 2692,      4.0,   6.5990,  34.8350,2,  34.8370,2,    320.3,2,    325.7,3,     0.55,2,     7.41,2,     0.37,2,   -999.0,9,   7.8780,2,    25.00,   6.5986
  35TH20020610, OVIDE,    14,  1,      3,2,20020619,1144, 59.6850, -39.6000, 2832,   2822.1,   1.2650,  34.8740,2,  34.8750,2,    302.1,2,    303.4,2,     7.56,2,    14.36,2,     0.92,2,   2298.8,2,   7.7310,2,    25.00,   1.0688
  35TH20020610, OVIDE,    14,  1,      4,2,20020619,1144, 59.6850, -39.6000, 2832,   2746.7,   1.3720,  34.8740,2,-999.0000,9,    301.9,2,    302.6,2,  -999.00,9,  -999.00,9,  -999.00,9,   2298.2,2,   7.7310,2,    25.00,   1.1805
  35TH20020610, OVIDE,    14,  1,      5,2,20020619,1144, 59.6850, -39.6000, 2832,   2697.5,   1.6310,  34.8710,2,  34.8710,2,    301.8,2,    300.2,2,     7.90,2,    14.64,2,     0.94,2,   2298.0,2,   7.7320,2,    25.00,   1.4388
  35TH20020610, OVIDE,    14,  1,      6,2,20020619,1144, 59.6850, -39.6000, 2832,   2646.9,   1.7640,  34.8570,2,-999.0000,9,    300.3,2,   -999.0,9,  -999.00,9,  -999.00,9,  -999.00,9,   -999.0,9,-999.0000,9,  -999.00,   1.5739
  35TH20020610, OVIDE,    14,  1,      7,2,20020619,1144, 59.6850, -39.6000, 2832,   2596.8,   2.0620,  34.8690,2,  34.8690,2,    295.1,2,    296.2,2,     8.68,2,    15.21,2,     0.98,2,   2300.1,2,   7.7350,2,    25.00,   1.8707
  35TH20020610, OVIDE,    14,  1,      8,2,20020619,1144, 59.6850, -39.6000, 2832,   2497.1,   2.3810,  34.8750,2,  34.8750,2,    293.7,2,    291.5,2,     9.39,2,    15.94,2,     1.01,2,   2299.2,2,   7.7340,2,    25.00,   2.1930
  35TH20020610, OVIDE,    14,  1,      9,2,20020619,1144, 59.6850, -39.6000, 2832,   2396.9,   2.5520,  34.8820,2,  34.8800,2,    281.1,2,    289.2,3,     9.93,2,    16.28,2,     1.04,2,   2300.5,2,   7.7320,2,    25.00,   2.3703
  35TH20020610, OVIDE,    14,  1,     10,2,20020619,1144, 59.6850, -39.6000, 2832,   2296.7,   2.7630,  34.9010,2,  34.9030,2,    279.7,2,    283.6,2,    11.01,2,    17.08,2,     1.09,2,   2301.5,2,   7.7330,2,    25.00,   2.5869
  35TH20020610, OVIDE,    14,  1,     11,2,20020619,1144, 59.6850, -39.6000, 2832,   2195.0,   2.9590,  34.9210,2,  34.9200,2,    280.3,2,    278.8,2,    11.99,2,    17.53,2,     1.12,2,   2305.0,2,   7.7310,2,    25.00,   2.7891
  35TH20020610, OVIDE,    14,  1,     12,2,20020619,1144, 59.6850, -39.6000, 2832,   2096.7,   3.0280,  34.9210,2,  34.9210,2,    280.1,2,    279.3,2,    11.58,2,    17.87,2,     1.12,2,   2303.8,2,   7.7340,2,    25.00,   2.8662
  35TH20020610, OVIDE,    14,  1,     13,2,20020619,1144, 59.6850, -39.6000, 2832,   1994.9,   3.1220,  34.9230,2,  34.9240,2,    282.1,2,    279.8,2,    11.24,2,    17.70,2,     1.11,2,   -999.0,9,-999.0000,9,  -999.00,   2.9681
  35TH20020610, OVIDE,    14,  1,     14,2,20020619,1144, 59.6850, -39.6000, 2832,   1794.9,   3.1030,  34.8990,2,  34.9000,2,    284.9,2,    284.0,2,    10.50,2,    17.87,2,     1.10,2,   2301.9,2,   7.7330,2,    25.00,   2.9676
  35TH20020610, OVIDE,    14,  1,     15,2,20020619,1144, 59.6850, -39.6000, 2832,   1595.4,   3.1290,  34.8860,2,  34.8850,2,    287.7,2,    286.9,2,    10.16,2,    17.99,2,     1.11,2,   2302.3,2,   7.7300,2,    25.00,   3.0107
  35TH20020610, OVIDE,    14,  1,     16,2,20020619,1144, 59.6850, -39.6000, 2832,   1395.7,   3.1920,  34.8830,2,  34.8840,2,    285.9,2,    286.0,2,    10.03,2,    17.93,2,     1.09,2,   2303.4,2,   7.7270,2,    25.00,   3.0900
  35TH20020610, OVIDE,    14,  1,     17,2,20020619,1144, 59.6850, -39.6000, 2832,   1196.1,   3.3650,  34.8920,2,  34.8920,2,    281.3,2,    282.5,2,    10.00,2,    18.38,2,     1.12,3,   2302.4,2,   7.7190,2,    25.00,   3.2778
  35TH20020610, OVIDE,    14,  1,     18,2,20020619,1144, 59.6850, -39.6000, 2832,    996.1,   3.4830,  34.8880,2,  34.8890,2,    280.3,2,    279.6,2,     9.93,2,    18.67,3,     1.13,3,   2302.6,2,   7.7160,2,    25.00,   3.4110
  35TH20020610, OVIDE,    14,  1,     19,2,20020619,1144, 59.6850, -39.6000, 2832,    895.8,   3.5030,  34.8810,2,  34.8750,3,    281.4,2,    282.1,2,     9.52,2,    17.93,3,     1.11,2,   2301.1,2,   7.7210,2,    25.00,   3.4388
  35TH20020610, OVIDE,    14,  1,     20,2,20020619,1144, 59.6850, -39.6000, 2832,    795.2,   3.5570,  34.8770,2,  34.8690,3,    285.2,2,    283.3,2,     9.32,2,    18.27,2,     1.11,2,   2301.1,2,   7.7200,2,    25.00,   3.5003
  35TH20020610, OVIDE,    14,  1,     21,2,20020619,1144, 59.6850, -39.6000, 2832,    695.6,   3.6280,  34.8760,2,  34.8760,2,    286.6,2,    285.0,2,     9.08,2,    18.21,2,     1.10,2,   2301.9,2,   7.7190,2,    25.00,   3.5785
  35TH20020610, OVIDE,    14,  1,     22,2,20020619,1144, 59.6850, -39.6000, 2832,    597.4,   3.6390,  34.8680,2,  34.8690,2,    285.3,2,    289.5,2,     8.81,2,    17.76,2,     1.10,2,   2301.2,2,   7.7210,2,    25.00,   3.5969
  35TH20020610, OVIDE,    14,  1,     23,2,20020619,1144, 59.6850, -39.6000, 2832,    495.2,   3.7580,  34.8740,2,  34.8740,2,    291.6,2,    291.2,2,     8.51,2,    17.48,2,     1.09,2,   2301.5,2,   7.7260,2,    25.00,   3.7231
  35TH20020610, OVIDE,    14,  1,     24,2,20020619,1144, 59.6850, -39.6000, 2832,    397.0,   3.9680,  34.8890,2,  34.8890,2,    293.2,2,    290.8,2,     8.48,2,    17.53,2,     1.10,2,   2303.0,2,   7.7310,2,    25.00,   3.9396
  35TH20020610, OVIDE,    14,  1,     25,2,20020619,1144, 59.6850, -39.6000, 2832,    296.4,   4.1620,  34.9020,2,  34.8990,2,    292.8,2,    296.0,2,     8.14,2,    17.30,2,     1.11,2,   2303.6,2,   7.7400,2,    25.00,   4.1406
  35TH20020610, OVIDE,    14,  1,     26,2,20020619,1144, 59.6850, -39.6000, 2832,    196.2,   4.3080,  34.9090,2,  34.9070,2,    294.1,2,    295.3,2,     7.97,2,    17.19,2,     1.08,2,   2304.3,2,   7.7420,2,    25.00,   4.2937
  35TH20020610, OVIDE,    14,  1,     27,2,20020619,1144, 59.6850, -39.6000, 2832,    145.8,   4.4040,  34.9130,2,  34.9120,2,    293.9,2,    297.6,2,     7.83,2,    16.85,2,     1.06,2,   2305.7,2,   7.7490,2,    25.00,   4.3933
  35TH20020610, OVIDE,    14,  1,     28,2,20020619,1144, 59.6850, -39.6000, 2832,     94.5,   4.6710,  34.9180,2,  34.9220,2,    296.1,2,    305.2,3,     7.66,2,    16.62,2,     1.08,2,   2307.4,2,   7.7530,2,    25.00,   4.6639
  35TH20020610, OVIDE,    14,  1,     29,2,20020619,1144, 59.6850, -39.6000, 2832,     44.5,   5.3590,  34.8260,2,  34.8300,2,    317.0,2,    308.9,3,     5.47,2,    12.65,2,     0.94,2,   2304.2,2,   7.7820,2,    25.00,   5.3555
  35TH20020610, OVIDE,    14,  1,     30,2,20020619,1144, 59.6850, -39.6000, 2832,      4.8,   6.6500,  34.8190,2,  34.8190,2,    320.4,2,    320.5,2,     0.44,2,     8.91,2,     0.52,2,   2306.7,2,   7.8590,2,    25.00,   6.6496