BOTTLE,20140820PRINUNIVRMK
EXPOCODE,SECT_ID,STNNBR,CASTNO,BTLNBR,BTLNBR_FLAG_W,DATE,TIME,LATITUDE,LONGITUDE,DEPTH,CTDPRS,CTDTMP,CTDSAL,CTDSAL_FLAG_W,SALNTY,SALNTY_FLAG_W,CTDOXY,CTDOXY_FLAG_W,OXYGEN,OXYGEN_FLAG_W,SILCAT,SILCAT_FLAG_W,NITRAT,NITRAT_FLAG_W,PHSPHT,PHSPHT_FLAG_W,ALKALI,ALKALI_FLAG_W,PH_SWS,PH_SWS_FLAG_W,PH_TMP,THETA
,,,,,,,,,,METERS,DBAR,ITS-90,PSS-78,,PSS-78,,UMOL/KG,,UMOL/KG,,UMOL/KG,,UMOL/KG,,UMOL/KG,,UMOL/KG,,,,DEG C,DEG C
  35TH20020610, OVIDE,    74,  1,      3,2,20020706,1405, 43.1800, -16.2460, 5222,   5211.9,   2.5560,  34.9000,2,  34.9020,2,    242.8,2,    243.6,2,    46.69,2,    21.60,3,     1.35,2,   2355.1,2,   7.7320,2,    25.00,   2.0573
  35TH20020610, OVIDE,    74,  1,      4,2,20020706,1405, 43.1800, -16.2460, 5222,   4497.1,   2.5090,  34.9050,2,  34.9040,2,    243.5,2,    243.5,2,    45.58,2,    22.66,2,     1.25,3,   2352.7,2,   7.7330,2,    25.00,   2.1017
  35TH20020610, OVIDE,    74,  1,      5,2,20020706,1405, 43.1800, -16.2460, 5222,   3996.2,   2.5440,  34.9150,2,  34.9140,2,    244.5,2,    243.9,2,    43.25,2,    21.60,3,     1.28,2,   2349.8,2,   7.7320,2,    25.00,   2.1948
  35TH20020610, OVIDE,    74,  1,      6,2,20020706,1405, 43.1800, -16.2460, 5222,   3746.3,   2.5880,  34.9220,2,  34.9220,2,    245.1,2,    244.0,2,    41.48,2,    22.29,2,     1.30,2,   2347.6,2,   7.7320,2,    25.00,   2.2660
  35TH20020610, OVIDE,    74,  1,      7,2,20020706,1405, 43.1800, -16.2460, 5222,   3496.7,   2.6370,  34.9290,2,  34.9270,2,    246.0,2,    245.3,2,    39.48,2,    21.70,2,     1.31,2,   2345.4,2,   7.7330,2,    25.00,   2.3414
  35TH20020610, OVIDE,    74,  1,      8,2,20020706,1405, 43.1800, -16.2460, 5222,   3247.1,   2.7380,  34.9400,2,  34.9430,2,    247.6,2,    247.2,2,    36.37,2,    21.22,2,     1.25,2,   2340.1,2,   7.7340,2,    25.00,   2.4669
  35TH20020610, OVIDE,    74,  1,      9,2,20020706,1405, 43.1800, -16.2460, 5222,   2996.0,   2.8750,  34.9520,2,  34.9490,2,    251.1,2,    250.5,2,    32.16,2,    20.64,2,     1.12,3,   2334.6,2,   7.7350,2,    25.00,   2.6273
  35TH20020610, OVIDE,    74,  1,     10,2,20020706,1405, 43.1800, -16.2460, 5222,   2745.5,   3.0250,  34.9610,2,  34.9600,2,    254.3,2,    253.7,2,    28.17,2,    19.94,2,     1.14,2,   2329.2,2,   7.7350,2,    25.00,   2.7999
  35TH20020610, OVIDE,    74,  1,     11,2,20020706,1405, 43.1800, -16.2460, 5222,   2496.5,   3.2480,  34.9740,2,  34.9790,2,    256.7,2,    258.2,2,    23.84,2,    19.46,2,     1.12,2,   -999.0,9,-999.0000,9,  -999.00,   3.0437
  35TH20020610, OVIDE,    74,  1,     12,2,20020706,1405, 43.1800, -16.2460, 5222,   2246.9,   3.5010,  34.9780,2,  34.9750,2,    260.9,2,    261.1,2,    19.52,2,    18.88,2,     1.06,2,   2318.5,2,   7.7340,2,    25.00,   3.3170
  35TH20020610, OVIDE,    74,  1,     13,2,20020706,1405, 43.1800, -16.2460, 5222,   1995.5,   3.9410,  35.0150,2,  35.0140,2,    260.8,2,    260.0,2,    14.62,2,    18.61,2,     1.01,2,   2316.6,2,   7.7340,2,    25.00,   3.7746
  35TH20020610, OVIDE,    74,  1,     14,2,20020706,1405, 43.1800, -16.2460, 5222,   1796.4,   4.5890,  35.1010,2,  35.1030,2,    253.5,2,    252.5,2,    13.24,2,    18.61,2,     0.99,2,   2320.2,2,   7.7390,2,    25.00,   4.4329
  35TH20020610, OVIDE,    74,  1,     15,2,20020706,1405, 43.1800, -16.2460, 5222,   1596.5,   5.2390,  35.1660,2,  35.1850,3,    244.6,2,    242.0,2,    12.24,2,    18.61,2,     0.99,2,   2324.2,2,   7.7340,2,    25.00,   5.0947
  35TH20020610, OVIDE,    74,  1,     16,2,20020706,1405, 43.1800, -16.2460, 5222,   1395.5,   6.6070,  35.3630,2,  35.3880,3,    222.9,2,    222.4,2,    11.58,2,    18.60,2,     0.97,2,   2337.4,2,   7.7400,2,    25.00,   6.4684
  35TH20020610, OVIDE,    74,  1,     17,2,20020706,1405, 43.1800, -16.2460, 5222,   1196.4,   8.5710,  35.6740,2,  35.6780,2,    199.8,2,    202.2,2,    10.75,2,    18.02,2,     0.91,2,   2358.3,2,   7.7610,2,    25.00,   8.4361
  35TH20020610, OVIDE,    74,  1,     18,2,20020706,1405, 43.1800, -16.2460, 5222,   1060.6,  10.5420,  36.0390,2,  36.0390,2,    184.8,2,    184.6,2,     9.54,2,    16.78,2,     0.91,2,   2382.1,2,   7.7910,2,    25.00,  10.4080
  35TH20020610, OVIDE,    74,  1,     19,2,20020706,1405, 43.1800, -16.2460, 5222,    896.5,   9.1260,  35.5410,2,  35.5390,2,    192.5,2,    190.1,2,    10.27,3,    18.55,3,     0.92,2,   2345.2,2,   7.7490,2,    25.00,   9.0232
  35TH20020610, OVIDE,    74,  1,     20,2,20020706,1405, 43.1800, -16.2460, 5222,    796.0,  10.7480,  35.7810,2,  35.7820,2,    189.0,2,    185.5,2,     8.48,2,    16.79,2,     0.91,2,   2359.1,2,   7.7830,2,    25.00,  10.6477
  35TH20020610, OVIDE,    74,  1,     21,2,20020706,1405, 43.1800, -16.2460, 5222,    696.3,  10.8050,  35.6760,2,  35.6750,2,    192.2,2,    189.1,2,     7.82,2,    16.68,2,     0.84,2,   2349.2,2,   7.7840,2,    25.00,  10.7175
  35TH20020610, OVIDE,    74,  1,     22,2,20020706,1405, 43.1800, -16.2460, 5222,    595.8,  10.7880,  35.5590,2,  35.5610,2,    202.4,2,    199.4,2,     6.96,2,    15.94,2,     0.82,2,   2338.6,2,   7.7860,2,    25.00,  10.7136
  35TH20020610, OVIDE,    74,  1,     23,2,20020706,1405, 43.1800, -16.2460, 5222,    496.0,  11.1070,  35.5420,2,  35.5440,2,    217.1,2,    208.2,3,     5.86,2,    13.75,2,     0.76,2,   2336.6,2,   7.7970,2,    25.00,  11.0442
  35TH20020610, OVIDE,    74,  1,     24,2,20020706,1405, 43.1800, -16.2460, 5222,    396.9,  11.5180,  35.5720,2,  35.5740,2,    223.3,2,    218.9,2,     4.76,2,    12.15,2,     0.63,2,   2337.4,2,   7.8160,2,    25.00,  11.4668
  35TH20020610, OVIDE,    74,  1,     25,2,20020706,1405, 43.1800, -16.2460, 5222,    297.1,  11.9330,  35.6060,2,  35.6060,2,    227.0,2,    224.5,2,     4.20,2,    11.46,2,     0.60,2,   2338.8,2,   7.8390,2,    25.00,  11.8940
  35TH20020610, OVIDE,    74,  1,     26,2,20020706,1405, 43.1800, -16.2460, 5222,    195.6,  12.5550,  35.6840,2,  35.6830,2,    244.3,2,    235.4,3,     3.31,2,     8.60,2,     0.44,2,   2343.0,2,   7.8720,2,    25.00,  12.5285
  35TH20020610, OVIDE,    74,  1,     27,2,20020706,1405, 43.1800, -16.2460, 5222,    146.3,  12.9260,  35.7440,2,  35.7420,2,    241.4,2,    244.5,2,     2.69,2,     7.01,2,     0.35,2,   2346.4,2,   7.8940,2,    25.00,  12.9058
  35TH20020610, OVIDE,    74,  1,     28,2,20020706,1405, 43.1800, -16.2460, 5222,     97.5,  13.4650,  35.7850,2,  35.7820,2,    241.8,2,    242.7,2,     1.93,2,     5.26,2,     0.26,2,   2348.5,2,   7.9050,2,    25.00,  13.4512
  35TH20020610, OVIDE,    74,  1,     29,2,20020706,1405, 43.1800, -16.2460, 5222,     48.2,  15.7250,  35.8390,2,  35.8380,2,    252.3,2,    254.2,2,     1.00,2,     0.27,2,     0.07,2,   2352.0,2,   7.9800,2,    25.00,  15.7174
  35TH20020610, OVIDE,    74,  1,     30,2,20020706,1405, 43.1800, -16.2460, 5222,      5.7,  17.3590,  35.8830,2,  35.8830,2,    237.2,2,    246.1,3,     1.03,2,     0.00,2,     0.04,2,   2357.8,2,   7.9800,2,    25.00,  17.3580
  35TH20020610, OVIDE,    75,  1,      3,2,20020707,1959, 42.8810, -15.8500, 4269,   4258.9,   2.4930,  34.9080,2,  34.9060,2,    244.1,2,    243.3,2,    45.67,2,    22.75,2,     1.30,2,   -999.0,9,   7.7320,2,    25.00,   2.1147
  35TH20020610, OVIDE,    75,  1,      4,2,20020707,1959, 42.8810, -15.8500, 4269,   3998.6,   2.5020,  34.9120,2,  34.9130,2,    244.6,2,    243.3,2,    44.33,2,    22.28,3,     1.26,2,   -999.0,9,-999.0000,9,  -999.00,   2.1537
  35TH20020610, OVIDE,    75,  1,      5,2,20020707,1959, 42.8810, -15.8500, 4269,   3796.7,   2.5320,  34.9170,2,  34.9150,2,    244.4,2,    243.4,2,    43.88,2,    22.49,2,     1.27,2,   -999.0,9,   7.7310,2,    25.00,   2.2059
  35TH20020610, OVIDE,    75,  1,      6,2,20020707,1959, 42.8810, -15.8500, 4269,   3596.6,   2.5730,  34.9230,2,  34.9200,2,    245.6,2,    244.2,2,    42.65,2,    22.38,2,     1.25,2,   -999.0,9,   7.7310,2,    25.00,   2.2681
  35TH20020610, OVIDE,    75,  1,      7,2,20020707,1959, 42.8810, -15.8500, 4269,   3396.8,   2.6500,  34.9320,2,  34.9300,2,    246.1,2,    246.0,2,    40.08,2,    21.74,2,     1.25,2,   -999.0,9,   7.7340,2,    25.00,   2.3649
  35TH20020610, OVIDE,    75,  1,      8,2,20020707,1959, 42.8810, -15.8500, 4269,   3194.8,   2.7290,  34.9400,2,  34.9440,2,    247.6,2,    247.2,2,    37.07,2,    21.43,2,     1.22,2,   -999.0,9,   7.7350,2,    25.00,   2.4636
  35TH20020610, OVIDE,    75,  1,      9,2,20020707,1959, 42.8810, -15.8500, 4269,   2995.7,   2.8320,  34.9510,2,  34.9480,2,    248.9,2,    250.4,2,    34.72,2,    21.00,2,     1.19,2,   -999.0,9,   7.7350,2,    25.00,   2.5852
  35TH20020610, OVIDE,    75,  1,     10,2,20020707,1959, 42.8810, -15.8500, 4269,   2796.8,   2.9780,  34.9610,2,  34.9600,2,    250.7,2,    251.0,2,    31.71,2,    20.84,2,     1.15,2,   -999.0,9,   7.7350,2,    25.00,   2.7486
  35TH20020610, OVIDE,    75,  1,     11,2,20020707,1959, 42.8810, -15.8500, 4269,   2395.1,   3.4320,  34.9930,2,  34.9930,2,    255.4,2,    254.8,2,    24.23,3,    19.57,3,     1.10,3,   -999.0,9,   7.7370,2,    25.00,   3.2345
  35TH20020610, OVIDE,    75,  1,     12,2,20020707,1959, 42.8810, -15.8500, 4269,   2196.3,   3.5020,  34.9740,2,  34.9730,2,    260.8,2,    261.6,2,    19.54,2,    18.77,2,     1.06,2,   -999.0,9,   7.7340,2,    25.00,   3.3230
  35TH20020610, OVIDE,    75,  1,     13,2,20020707,1959, 42.8810, -15.8500, 4269,   1996.2,   3.9130,  35.0170,2,  35.0150,2,    259.5,2,    259.2,2,    15.12,2,    17.18,3,     1.03,2,   -999.0,9,   7.7340,2,    25.00,   3.7470
  35TH20020610, OVIDE,    75,  1,     14,2,20020707,1959, 42.8810, -15.8500, 4269,   1796.4,   4.4160,  35.0720,2,  35.0700,2,    255.3,2,    255.8,2,    13.12,2,    18.40,2,     1.01,2,   -999.0,9,   7.7420,2,    25.00,   4.2623
  35TH20020610, OVIDE,    75,  1,     15,2,20020707,1959, 42.8810, -15.8500, 4269,   1595.4,   5.5820,  35.2470,2,  35.2460,2,    238.4,2,    251.0,3,    12.30,2,    17.50,3,     0.99,2,   -999.0,9,   7.7510,2,    25.00,   5.4336
  35TH20020610, OVIDE,    75,  1,     16,2,20020707,1959, 42.8810, -15.8500, 4269,   1395.3,   7.5650,  35.5900,2,  35.5930,2,    215.1,2,    214.5,2,    11.40,2,    16.65,3,     0.96,2,   -999.0,9,   7.7680,2,    25.00,   7.4162
  35TH20020610, OVIDE,    75,  1,     17,2,20020707,1959, 42.8810, -15.8500, 4269,   1196.4,   9.0220,  35.7770,2,  35.7770,2,    196.8,2,    197.5,2,    10.58,2,    17.28,2,     0.92,2,   -999.0,9,-999.0000,9,  -999.00,   8.8831
  35TH20020610, OVIDE,    75,  1,     18,2,20020707,1959, 42.8810, -15.8500, 4269,   1076.1,   9.9620,  35.9260,2,  35.8980,3,    188.0,2,    188.8,2,    10.03,2,    17.44,2,     0.90,2,   -999.0,9,   7.7800,2,    25.00,   9.8305
  35TH20020610, OVIDE,    75,  1,     19,2,20020707,1959, 42.8810, -15.8500, 4269,    945.9,  10.5050,  35.9140,2,  35.9140,2,    184.1,2,    184.4,2,     9.34,2,    17.23,2,     0.90,2,   -999.0,9,   7.7830,2,    25.00,  10.3865
  35TH20020610, OVIDE,    75,  1,     20,2,20020707,1959, 42.8810, -15.8500, 4269,    796.7,  10.5460,  35.7310,2,  35.7400,3,    185.8,2,    185.6,2,     8.79,2,    17.17,2,     0.91,2,   -999.0,9,   7.7770,2,    25.00,  10.4468
  35TH20020610, OVIDE,    75,  1,     21,2,20020707,1959, 42.8810, -15.8500, 4269,    696.9,  10.6570,  35.6350,2,  35.6410,3,    188.2,2,    189.4,2,     8.04,2,    16.11,2,     0.89,2,   -999.0,9,-999.0000,9,  -999.00,  10.5702
  35TH20020610, OVIDE,    75,  1,     22,2,20020707,1959, 42.8810, -15.8500, 4269,    596.8,  10.7820,  35.5360,2,  35.5380,2,    197.7,2,    199.7,2,     7.01,2,    16.01,3,     0.82,2,   -999.0,9,   7.7810,2,    25.00,  10.7075
  35TH20020610, OVIDE,    75,  1,     23,2,20020707,1959, 42.8810, -15.8500, 4269,    496.2,  11.1720,  35.5620,2,  35.5600,2,    212.0,2,    210.3,2,     5.70,2,    13.94,2,     0.71,2,   -999.0,9,-999.0000,9,  -999.00,  11.1090
  35TH20020610, OVIDE,    75,  1,     24,2,20020707,1959, 42.8810, -15.8500, 4269,    395.8,  11.4840,  35.5760,2,  35.5750,2,    219.5,2,    218.3,2,     4.88,2,    11.08,2,     0.64,2,   -999.0,9,   7.8120,2,    25.00,  11.4331
  35TH20020610, OVIDE,    75,  1,     25,2,20020707,1959, 42.8810, -15.8500, 4269,    295.5,  11.9460,  35.6110,2,  35.6110,2,    223.3,2,    223.9,2,     4.22,2,    10.97,2,     0.53,2,   -999.0,9,-999.0000,9,  -999.00,  11.9072
  35TH20020610, OVIDE,    75,  1,     26,2,20020707,1959, 42.8810, -15.8500, 4269,    196.8,  12.7240,  35.6990,2,  35.6970,2,    237.8,2,    235.8,2,     2.99,2,     7.75,2,     0.41,2,   -999.0,9,   7.8730,2,    25.00,  12.6971
  35TH20020610, OVIDE,    75,  1,     27,2,20020707,1959, 42.8810, -15.8500, 4269,    146.5,  13.2220,  35.7630,2,  35.7630,2,    240.9,2,    242.6,2,     2.06,2,     5.31,2,     0.29,2,   -999.0,9,-999.0000,9,  -999.00,  13.2015
  35TH20020610, OVIDE,    75,  1,     28,2,20020707,1959, 42.8810, -15.8500, 4269,     97.1,  13.5310,  35.8220,2,  35.8170,2,    239.2,2,    242.1,2,     1.75,2,     4.33,2,     0.24,2,   -999.0,9,   7.9060,2,    25.00,  13.5172
  35TH20020610, OVIDE,    75,  1,     29,2,20020707,1959, 42.8810, -15.8500, 4269,     46.6,  16.3770,  35.8320,2,  35.8140,3,    255.0,2,    252.8,2,     1.06,2,     0.11,2,     0.06,2,   -999.0,9,   7.9660,2,    25.00,  16.3695
  35TH20020610, OVIDE,    75,  1,     30,2,20020707,1959, 42.8810, -15.8500, 4269,      5.2,  17.4780,  35.8960,2,  35.8940,2,    230.2,2,    243.7,3,     1.10,2,     0.06,2,     0.06,2,   -999.0,9,   7.9810,2,    25.00,  17.4771
  35TH20020610, OVIDE,    76,  1,      3,2,20020707,0119, 42.5810, -15.4580, 5143,   5132.9,   2.5380,  34.9000,2,  34.9020,2,    244.2,2,    243.7,2,    47.23,2,    22.83,3,     1.40,3,   2354.8,2,   7.7310,2,    25.00,   2.0502
  35TH20020610, OVIDE,    76,  1,      4,2,20020707,0119, 42.5810, -15.4580, 5143,   4499.6,   2.5080,  34.9050,2,  34.9060,2,    244.5,2,    243.1,2,    45.89,2,    23.28,2,     1.32,2,   2353.1,2,   7.7300,2,    25.00,   2.1004
  35TH20020610, OVIDE,    76,  1,      5,2,20020707,0119, 42.5810, -15.4580, 5143,   3997.6,   2.5420,  34.9140,2,  34.9170,2,    244.7,2,    243.4,2,    43.77,2,    22.88,2,     1.38,3,   2350.3,2,   7.7310,2,    25.00,   2.1927
  35TH20020610, OVIDE,    76,  1,      6,2,20020707,0119, 42.5810, -15.4580, 5143,   3746.8,   2.5840,  34.9210,2,  34.9220,2,    245.2,2,    244.2,2,    41.98,2,    22.83,2,     1.26,2,   2348.2,2,   7.7310,2,    25.00,   2.2621
  35TH20020610, OVIDE,    76,  1,      7,2,20020707,0119, 42.5810, -15.4580, 5143,   3496.9,   2.6520,  34.9300,2,  34.9310,2,    246.2,2,    246.4,2,    39.86,2,    22.14,2,     1.25,2,   2345.5,2,   7.7330,2,    25.00,   2.3560
  35TH20020610, OVIDE,    76,  1,      8,2,20020707,0119, 42.5810, -15.4580, 5143,   3244.9,   2.7350,  34.9400,2,  34.9460,2,    248.5,2,    247.3,2,    36.51,2,    21.63,2,     1.23,2,   2340.8,2,   7.7350,2,    25.00,   2.4642
  35TH20020610, OVIDE,    76,  1,      9,2,20020707,0119, 42.5810, -15.4580, 5143,   2996.3,   2.8650,  34.9510,2,  34.9510,2,    250.1,2,    249.6,2,    33.38,2,    21.57,2,     1.19,2,   2338.9,2,   7.7340,2,    25.00,   2.6174
  35TH20020610, OVIDE,    76,  1,     10,2,20020707,0119, 42.5810, -15.4580, 5143,   2745.3,   3.0190,  34.9640,2,  34.9640,2,    253.0,2,    251.4,2,    29.81,2,    21.17,2,     1.18,2,   2332.3,2,   7.7360,2,    25.00,   2.7940
  35TH20020610, OVIDE,    76,  1,     11,2,20020707,0119, 42.5810, -15.4580, 5143,   2497.4,   3.2560,  34.9780,2,  34.9790,2,    255.9,2,    254.6,2,    24.79,2,    20.20,2,     1.11,2,   2326.2,2,   7.7360,2,    25.00,   3.0514
  35TH20020610, OVIDE,    76,  1,     12,2,20020707,0119, 42.5810, -15.4580, 5143,   2244.6,   3.5910,  34.9910,2,  34.9930,2,    260.0,2,    259.1,2,    19.09,2,    19.06,2,     1.06,2,   2319.3,2,   7.7360,2,    25.00,   3.4057
  35TH20020610, OVIDE,    76,  1,     13,2,20020707,0119, 42.5810, -15.4580, 5143,   1996.0,   4.0270,  35.0310,2,  35.0300,2,    259.5,2,    259.2,2,    14.29,2,    18.55,2,     1.02,2,   2318.2,2,   7.7350,2,    25.00,   3.8593
  35TH20020610, OVIDE,    76,  1,     14,2,20020707,0119, 42.5810, -15.4580, 5143,   1795.7,   4.4620,  35.0830,2,  35.0890,2,    253.7,2,    254.1,2,    13.33,2,    18.37,2,     1.00,2,   2318.6,2,   7.7350,2,    25.00,   4.3077
  35TH20020610, OVIDE,    76,  1,     15,2,20020707,0119, 42.5810, -15.4580, 5143,   1597.1,   5.6750,  35.2630,2,  35.2640,2,    238.0,2,    237.3,2,    12.16,2,    17.92,2,     0.98,2,   2330.4,2,   7.7430,2,    25.00,   5.5253
  35TH20020610, OVIDE,    76,  1,     16,2,20020707,0119, 42.5810, -15.4580, 5143,   1395.9,   7.2650,  35.5180,2,  35.5280,3,    215.7,2,    216.7,2,    10.41,3,    17.68,2,     0.92,2,   2346.9,2,   7.7550,2,    25.00,   7.1193
  35TH20020610, OVIDE,    76,  1,     17,2,20020707,0119, 42.5810, -15.4580, 5143,   1196.3,   9.0290,  35.7730,2,  35.7710,2,    195.3,2,    196.3,2,     9.75,2,    17.91,2,     0.93,2,   2363.2,2,   7.7680,2,    25.00,   8.8901
  35TH20020610, OVIDE,    76,  1,     18,2,20020707,0119, 42.5810, -15.4580, 5143,    995.3,  10.1980,  35.8740,2,  35.8780,2,    186.7,2,    185.3,2,     9.79,2,    17.85,2,     0.88,2,   2368.5,2,   7.7790,2,    25.00,  10.0752
  35TH20020610, OVIDE,    76,  1,     19,2,20020707,0119, 42.5810, -15.4580, 5143,    895.5,  10.3940,  35.8270,2,  35.8290,2,    186.3,2,    184.5,2,     9.41,3,    17.45,2,     0.88,2,   2364.3,2,   7.7780,2,    25.00,  10.2829
  35TH20020610, OVIDE,    76,  1,     20,2,20020707,0119, 42.5810, -15.4580, 5143,    795.8,  10.9900,  35.8280,2,  35.8300,2,    187.1,2,    183.6,2,     8.31,2,    16.54,2,     0.88,2,   2362.9,2,   7.7880,2,    25.00,  10.8883
  35TH20020610, OVIDE,    76,  1,     21,2,20020707,0119, 42.5810, -15.4580, 5143,    696.5,  11.2320,  35.7600,2,  35.7640,2,    191.2,2,    186.2,2,     7.73,2,    16.26,2,     0.81,2,   2354.1,2,   7.7870,2,    25.00,  11.1423
  35TH20020610, OVIDE,    76,  1,     22,2,20020707,0119, 42.5810, -15.4580, 5143,    596.8,  11.0020,  35.5710,2,  35.5730,2,    200.0,2,    200.0,2,     6.46,2,    15.06,2,     0.78,2,   2337.5,2,   7.7900,2,    25.00,  10.9266
  35TH20020610, OVIDE,    76,  1,     23,2,20020707,0119, 42.5810, -15.4580, 5143,    497.3,  11.4040,  35.5760,2,  35.5750,2,    209.2,2,    208.6,2,     5.36,2,    12.89,2,     0.67,2,   2337.2,2,   7.8040,2,    25.00,  11.3400
  35TH20020610, OVIDE,    76,  1,     24,2,20020707,0119, 42.5810, -15.4580, 5143,    397.2,  11.7570,  35.5880,2,  35.5890,2,    219.6,2,    220.0,2,     4.50,2,    11.86,2,     0.57,2,   2336.9,2,   7.8260,2,    25.00,  11.7051
  35TH20020610, OVIDE,    76,  1,     25,2,20020707,0119, 42.5810, -15.4580, 5143,    296.4,  12.4420,  35.6630,2,  35.6630,2,    229.0,2,    225.8,2,     3.88,2,     9.87,2,     0.50,2,   2341.0,2,   7.8590,2,    25.00,  12.4020
  35TH20020610, OVIDE,    76,  1,     26,2,20020707,0119, 42.5810, -15.4580, 5143,    193.7,  13.3210,  35.7910,2,  35.7840,3,    231.2,2,    233.1,2,     2.78,2,     7.14,2,     0.36,2,   2348.6,2,   7.8890,2,    25.00,  13.2937
  35TH20020610, OVIDE,    76,  1,     27,2,20020707,0119, 42.5810, -15.4580, 5143,    147.1,  13.6750,  35.8560,2,  35.8550,2,    236.8,2,    239.1,2,     2.27,2,     5.73,2,     0.38,2,   2353.0,2,   7.9070,2,    25.00,  13.6539
  35TH20020610, OVIDE,    76,  1,     28,2,20020707,0119, 42.5810, -15.4580, 5143,     95.9,  14.0960,  35.9300,2,  35.9280,2,    236.0,2,    237.1,2,     2.13,2,     5.50,2,     0.26,2,   2358.5,2,   7.9160,2,    25.00,  14.0820
  35TH20020610, OVIDE,    76,  1,     29,2,20020707,0119, 42.5810, -15.4580, 5143,     46.6,  16.1770,  35.9410,2,  35.9430,2,    251.8,2,    251.9,2,     1.10,2,     0.00,2,     0.04,2,   2359.7,2,   7.9730,2,    25.00,  16.1695
  35TH20020610, OVIDE,    76,  1,     30,2,20020707,0119, 42.5810, -15.4580, 5143,      3.2,  17.6580,  35.9370,2,  35.9360,2,    230.3,2,    240.6,3,     1.06,2,     0.06,2,     0.04,2,   2363.2,2,   7.9810,2,    25.00,  17.6575