BOTTLE,20140820PRINUNIVRMK
EXPOCODE,SECT_ID,STNNBR,CASTNO,BTLNBR,BTLNBR_FLAG_W,DATE,TIME,LATITUDE,LONGITUDE,DEPTH,CTDPRS,CTDTMP,CTDSAL,CTDSAL_FLAG_W,SALNTY,SALNTY_FLAG_W,CTDOXY,CTDOXY_FLAG_W,OXYGEN,OXYGEN_FLAG_W,SILCAT,SILCAT_FLAG_W,NITRAT,NITRAT_FLAG_W,PHSPHT,PHSPHT_FLAG_W,ALKALI,ALKALI_FLAG_W,PH_SWS,PH_SWS_FLAG_W,PH_TMP,THETA
,,,,,,,,,,METERS,DBAR,ITS-90,PSS-78,,PSS-78,,UMOL/KG,,UMOL/KG,,UMOL/KG,,UMOL/KG,,UMOL/KG,,UMOL/KG,,,,DEG C,DEG C
  35TH20020610, OVIDE,    43,  1,      3,2,20020625,1833, 54.0160, -25.5350, 3118,   3107.6,   2.6380,  34.9330,2,  34.9330,2,    254.8,2,    252.7,2,    32.77,2,    20.39,2,     1.24,2,   -999.0,9,   7.7200,2,    25.00,   2.3839
  35TH20020610, OVIDE,    43,  1,      4,2,20020625,1833, 54.0160, -25.5350, 3118,   2996.8,   2.7410,  34.9440,2,  34.9440,2,    262.3,2,    261.1,2,    25.67,2,    19.08,2,     1.12,2,   -999.0,9,   7.7250,2,    25.00,   2.4961
  35TH20020610, OVIDE,    43,  1,      5,2,20020625,1833, 54.0160, -25.5350, 3118,   2895.2,   2.7890,  34.9470,2,  34.9470,2,    265.2,2,    263.6,2,    23.76,2,    19.03,2,     1.11,2,   -999.0,9,   7.7280,2,    25.00,   2.5535
  35TH20020610, OVIDE,    43,  1,      6,2,20020625,1833, 54.0160, -25.5350, 3118,   2795.2,   2.8260,  34.9480,2,  34.9480,2,    266.4,2,    265.4,2,    21.84,2,    18.86,2,     1.08,2,   -999.0,9,   7.7280,2,    25.00,   2.5999
  35TH20020610, OVIDE,    43,  1,      7,2,20020625,1833, 54.0160, -25.5350, 3118,   2697.1,   2.9070,  34.9440,2,  34.9440,2,    263.7,2,    262.6,2,    23.08,3,    19.14,2,     1.10,2,   -999.0,9,   7.7280,2,    25.00,   2.6892
  35TH20020610, OVIDE,    43,  1,      8,2,20020625,1833, 54.0160, -25.5350, 3118,   2595.2,   2.9910,  34.9430,2,  34.9420,2,    266.3,2,    266.6,2,    19.82,3,    18.64,2,     1.09,2,   -999.0,9,   7.7280,2,    25.00,   2.7818
  35TH20020610, OVIDE,    43,  1,      9,2,20020625,1833, 54.0160, -25.5350, 3118,   2395.9,   3.0980,  34.9340,2,  34.9350,2,    271.1,2,    272.1,2,    15.54,2,    17.88,2,     1.03,2,   -999.0,9,-999.0000,9,  -999.00,   2.9065
  35TH20020610, OVIDE,    43,  1,     10,2,20020625,1833, 54.0160, -25.5350, 3118,   2296.2,   3.1340,  34.9260,2,  34.9280,2,    274.5,2,    276.1,2,    13.71,2,    17.34,2,     1.04,3,   -999.0,9,   7.7300,2,    25.00,   2.9515
  35TH20020610, OVIDE,    43,  1,     11,2,20020625,1833, 54.0160, -25.5350, 3118,   2197.3,   3.1540,  34.9190,2,  34.9190,2,    276.9,2,    277.6,2,    12.93,2,    17.23,2,     1.01,2,   -999.0,9,   7.7310,2,    25.00,   2.9807
  35TH20020610, OVIDE,    43,  1,     12,2,20020625,1833, 54.0160, -25.5350, 3118,   2095.9,   3.1760,  34.9080,2,  34.9100,2,    278.2,2,    280.2,2,    12.31,2,    17.56,2,     1.01,2,   -999.0,9,   7.7290,2,    25.00,   3.0120
  35TH20020610, OVIDE,    43,  1,     13,2,20020625,1833, 54.0160, -25.5350, 3118,   1995.6,   3.1940,  34.9020,2,  34.9000,2,    279.6,2,    281.5,2,    11.94,2,    17.66,2,     1.03,2,   -999.0,9,   7.7290,2,    25.00,   3.0391
  35TH20020610, OVIDE,    43,  1,     14,2,20020625,1833, 54.0160, -25.5350, 3118,   1792.2,   3.2330,  34.8900,2,  34.8910,2,    281.8,2,    283.8,2,    11.22,2,    17.66,2,     1.03,2,   -999.0,9,   7.7290,2,    25.00,   3.0961
  35TH20020610, OVIDE,    43,  1,     15,2,20020625,1833, 54.0160, -25.5350, 3118,   1595.6,   3.3610,  34.8930,2,  34.8940,2,    280.7,2,    339.6,3,    11.19,2,    18.21,2,     1.03,2,   -999.0,9,   7.7260,2,    25.00,   3.2399
  35TH20020610, OVIDE,    43,  1,     16,2,20020625,1833, 54.0160, -25.5350, 3118,   1394.0,   3.5440,  34.9020,2,  34.9010,2,    277.1,2,    275.7,2,    11.06,2,    18.37,2,     1.04,2,   -999.0,9,   7.7220,2,    25.00,   3.4383
  35TH20020610, OVIDE,    43,  1,     17,2,20020625,1833, 54.0160, -25.5350, 3118,   1195.1,   3.7390,  34.9120,2,  34.9120,2,    272.0,2,    271.3,2,    10.85,2,    18.43,2,     1.06,2,   -999.0,9,   7.7180,2,    25.00,   3.6484
  35TH20020610, OVIDE,    43,  1,     18,2,20020625,1833, 54.0160, -25.5350, 3118,    993.2,   4.0520,  34.9320,2,  34.9310,2,    264.6,2,    263.6,2,    10.78,2,    18.54,3,     1.05,2,   -999.0,9,   7.7160,2,    25.00,   3.9758
  35TH20020610, OVIDE,    43,  1,     19,2,20020625,1833, 54.0160, -25.5350, 3118,    894.1,   4.1940,  34.9310,2,  34.9330,2,    261.2,2,    262.2,2,    10.63,2,    18.21,2,     1.06,2,   -999.0,9,   7.7130,2,    25.00,   4.1251
  35TH20020610, OVIDE,    43,  1,     20,2,20020625,1833, 54.0160, -25.5350, 3118,    797.6,   4.4950,  34.9430,2,  34.9460,2,    256.8,2,    255.6,2,    10.66,2,    18.48,2,     1.07,2,   -999.0,9,   7.7110,2,    25.00,   4.4322
  35TH20020610, OVIDE,    43,  1,     21,2,20020625,1833, 54.0160, -25.5350, 3118,    694.9,   4.9040,  34.9610,2,  34.9590,2,    245.0,2,    245.5,2,    10.82,2,    18.81,2,     1.12,2,   -999.0,9,   7.7080,2,    25.00,   4.8476
  35TH20020610, OVIDE,    43,  1,     22,2,20020625,1833, 54.0160, -25.5350, 3118,    595.5,   5.3250,  34.9680,2,  34.9670,2,    232.8,2,    233.8,2,    11.03,2,    19.68,2,     1.12,2,   -999.0,9,   7.7050,2,    25.00,   5.2752
  35TH20020610, OVIDE,    43,  1,     23,2,20020625,1833, 54.0160, -25.5350, 3118,    496.2,   5.5330,  34.9210,2,  34.9220,2,    227.9,2,    228.9,2,    11.00,3,    19.74,3,     1.12,3,   -999.0,9,   7.7000,2,    25.00,   5.4911
  35TH20020610, OVIDE,    43,  1,     24,2,20020625,1833, 54.0160, -25.5350, 3118,    346.7,   7.2630,  34.9680,2,  34.9670,2,    209.4,2,    207.7,2,    10.50,2,    19.84,2,     1.15,2,   -999.0,9,   7.7110,2,    25.00,   7.2295
  35TH20020610, OVIDE,    43,  1,     25,2,20020625,1833, 54.0160, -25.5350, 3118,    297.8,   7.8270,  34.9910,2,  34.9930,2,    236.2,2,    232.1,2,     8.58,2,    17.23,2,     0.98,2,   -999.0,9,   7.7490,2,    25.00,   7.7970
  35TH20020610, OVIDE,    43,  1,     26,2,20020625,1833, 54.0160, -25.5350, 3118,    195.6,   8.8550,  35.1120,2,  35.1070,2,    263.6,2,    261.1,2,     6.25,2,    13.74,2,     0.77,2,   -999.0,9,   7.8040,2,    25.00,   8.8339
  35TH20020610, OVIDE,    43,  1,     27,2,20020625,1833, 54.0160, -25.5350, 3118,    148.1,   9.2000,  35.1590,2,  35.1590,2,    261.7,2,    263.7,2,     5.97,2,    12.32,2,     0.73,2,   -999.0,9,   7.8140,2,    25.00,   9.1837
  35TH20020610, OVIDE,    43,  1,     28,2,20020625,1833, 54.0160, -25.5350, 3118,     96.8,   9.5860,  35.1650,2,  35.1660,2,    267.1,2,    267.0,2,     4.16,2,    11.06,2,     0.66,2,   -999.0,9,   7.8420,2,    25.00,   9.5751
  35TH20020610, OVIDE,    43,  1,     29,2,20020625,1833, 54.0160, -25.5350, 3118,     48.1,   9.9320,  35.1140,2,  35.1200,3,    282.5,2,    275.6,3,     1.68,2,     7.82,2,     0.52,2,   -999.0,9,   7.8760,2,    25.00,   9.9265
  35TH20020610, OVIDE,    43,  1,     30,2,20020625,1833, 54.0160, -25.5350, 3118,      6.3,  10.8600,  35.1650,2,  35.1640,2,    274.1,2,    280.9,3,     0.93,2,     6.19,2,     0.38,2,   -999.0,9,   7.9110,2,    25.00,  10.8592
  35TH20020610, OVIDE,    44,  1,      3,2,20020625,2328, 53.6400, -25.2400, 3578,   3568.5,   2.6780,  34.9350,2,  34.9350,2,    250.3,2,    253.4,2,    32.77,2,    20.19,2,     1.28,2,   2332.9,2,   7.7180,2,    25.00,   2.3734
  35TH20020610, OVIDE,    44,  1,      4,2,20020625,2328, 53.6400, -25.2400, 3578,   3395.0,   2.7590,  34.9430,2,  34.9430,2,    260.3,2,    260.7,2,    26.80,2,    19.15,2,     1.22,2,   2325.6,2,   7.7290,2,    25.00,   2.4714
  35TH20020610, OVIDE,    44,  1,      5,2,20020625,2328, 53.6400, -25.2400, 3578,   3193.4,   2.8520,  34.9480,2,  34.9480,2,    265.0,2,    266.0,2,    21.62,2,    18.27,2,     1.08,2,   2318.0,2,   7.7310,2,    25.00,   2.5840
  35TH20020610, OVIDE,    44,  1,      6,2,20020625,2328, 53.6400, -25.2400, 3578,   2997.8,   2.9250,  34.9500,2,  34.9500,2,    269.0,2,    269.2,2,    18.24,2,    17.60,2,     1.05,2,   2312.7,2,   7.7310,2,    25.00,   2.6760
  35TH20020610, OVIDE,    44,  1,      7,2,20020625,2328, 53.6400, -25.2400, 3578,   2793.7,   3.0120,  34.9430,2,  34.9430,2,    269.5,2,    269.7,2,  -999.00,9,    17.75,3,     1.05,2,   2310.6,2,   7.7320,2,    25.00,   2.7823
  35TH20020610, OVIDE,    44,  1,      8,2,20020625,2328, 53.6400, -25.2400, 3578,   2597.3,   3.1060,  34.9370,2,  34.9360,2,    275.7,2,    274.9,2,    13.10,2,    17.34,2,     1.02,2,   2304.3,2,   7.7340,2,    25.00,   2.8944
  35TH20020610, OVIDE,    44,  1,      9,2,20020625,2328, 53.6400, -25.2400, 3578,   2395.0,   3.1470,  34.9210,2,  34.9210,2,    278.5,2,    277.8,2,    12.21,2,    17.29,2,     1.02,2,   2302.8,2,   7.7320,2,    25.00,   2.9548
  35TH20020610, OVIDE,    44,  1,     10,2,20020625,2328, 53.6400, -25.2400, 3578,   2196.6,   3.1630,  34.9040,2,  34.9040,2,    281.7,2,    281.1,2,    11.65,2,    17.44,2,     1.03,2,   2301.8,2,   7.7270,2,    25.00,   2.9897
  35TH20020610, OVIDE,    44,  1,     11,2,20020625,2328, 53.6400, -25.2400, 3578,   1996.3,   3.1830,  34.8900,2,  34.8900,2,    284.2,2,    283.8,2,    11.15,2,    17.49,2,     1.03,2,   2300.3,2,   7.7260,2,    25.00,   3.0282
  35TH20020610, OVIDE,    44,  1,     12,2,20020625,2328, 53.6400, -25.2400, 3578,   1797.0,   3.2560,  34.8880,2,  34.8870,2,    281.4,2,    282.9,2,    10.90,2,    17.55,2,     1.03,2,   2300.0,2,   7.7250,2,    25.00,   3.1183
  35TH20020610, OVIDE,    44,  1,     13,2,20020625,2328, 53.6400, -25.2400, 3578,   1597.0,   3.3960,  34.8930,2,  34.8930,2,    281.2,2,    279.9,2,    10.84,2,    17.96,2,     1.04,2,   2300.4,2,   7.7220,2,    25.00,   3.2743
  35TH20020610, OVIDE,    44,  1,     14,2,20020625,2328, 53.6400, -25.2400, 3578,   1596.0,   3.3970,  34.8930,2,  34.8940,2,    281.1,2,    280.0,2,    10.84,2,    17.86,2,     1.04,2,   2300.4,2,   7.7220,2,    25.00,   3.2754
  35TH20020610, OVIDE,    44,  1,     15,2,20020625,2328, 53.6400, -25.2400, 3578,   1396.0,   3.5550,  34.9010,2,  34.9010,2,    275.4,2,    276.5,2,    10.66,2,    17.70,3,     1.04,2,   2300.8,2,   7.7210,2,    25.00,   3.4491
  35TH20020610, OVIDE,    44,  1,     16,2,20020625,2328, 53.6400, -25.2400, 3578,   1196.6,   3.7490,  34.9100,2,  34.9140,2,    271.7,2,    272.7,2,    10.60,2,    18.01,2,     1.02,2,   2301.6,2,   7.7170,2,    25.00,   3.6582
  35TH20020610, OVIDE,    44,  1,     17,2,20020625,2328, 53.6400, -25.2400, 3578,    996.8,   3.9680,  34.9180,2,  34.9190,2,    267.1,2,    268.1,2,    10.47,2,    18.17,2,     1.05,2,   2301.8,2,   7.7120,2,    25.00,   3.8922
  35TH20020610, OVIDE,    44,  1,     18,2,20020625,2328, 53.6400, -25.2400, 3578,    895.4,   4.1400,  34.9270,2,  34.9280,2,    262.4,2,    263.6,2,    10.41,2,    18.27,2,     1.06,2,   2302.2,2,   7.7130,2,    25.00,   4.0713
  35TH20020610, OVIDE,    44,  1,     19,2,20020625,2328, 53.6400, -25.2400, 3578,    796.4,   4.3700,  34.9330,2,  34.9320,2,    258.7,2,    259.1,2,    10.41,2,    18.27,2,     1.07,2,   2302.8,2,   7.7090,2,    25.00,   4.3081
  35TH20020610, OVIDE,    44,  1,     20,2,20020625,2328, 53.6400, -25.2400, 3578,    695.2,   4.7280,  34.9440,2,  34.9350,3,    249.4,2,   -999.0,9,    10.66,2,    18.53,2,     1.10,2,   2304.3,2,   7.7080,2,    25.00,   4.6726
  35TH20020610, OVIDE,    44,  1,     21,2,20020625,2328, 53.6400, -25.2400, 3578,    594.5,   5.1360,  34.9430,2,  34.9470,2,    237.6,2,    238.2,2,    10.90,2,    19.10,2,     1.13,2,   2304.4,2,   7.7000,2,    25.00,   5.0872
  35TH20020610, OVIDE,    44,  1,     22,2,20020625,2328, 53.6400, -25.2400, 3578,    495.2,   5.9080,  34.9670,2,  34.9630,2,    221.0,2,    223.4,2,    11.12,2,    19.52,2,     1.15,2,   2307.2,2,   7.6950,2,    25.00,   5.8647
  35TH20020610, OVIDE,    44,  1,     23,2,20020625,2328, 53.6400, -25.2400, 3578,    445.3,   5.8130,  34.8780,2,  34.8790,2,    227.7,2,    227.8,2,    10.66,3,    19.21,3,     1.14,3,   2300.5,2,   7.6970,2,    25.00,   5.7746
  35TH20020610, OVIDE,    44,  1,     24,2,20020625,2328, 53.6400, -25.2400, 3578,    397.1,   6.6170,  34.9420,2,  34.9480,3,    211.8,2,    210.5,2,    10.90,2,    19.83,2,     1.16,2,   2304.0,2,   7.7000,2,    25.00,   6.5804
  35TH20020610, OVIDE,    44,  1,     25,2,20020625,2328, 53.6400, -25.2400, 3578,    297.8,   7.8290,  35.0000,2,  35.0010,2,    223.4,2,    217.4,2,     9.11,2,    17.96,2,     1.01,2,   2306.1,2,   7.7310,2,    25.00,   7.7990
  35TH20020610, OVIDE,    44,  1,     26,2,20020625,2328, 53.6400, -25.2400, 3578,    195.6,   8.9180,  35.1180,2,  35.1120,3,    263.9,2,    261.9,2,     5.95,2,    13.24,2,     0.76,2,   2311.9,2,   7.8060,2,    25.00,   8.8968
  35TH20020610, OVIDE,    44,  1,     27,2,20020625,2328, 53.6400, -25.2400, 3578,    146.3,   9.2760,  35.1670,2,  35.1660,2,    261.6,2,    260.1,2,     5.70,2,    12.82,2,     0.73,2,   2316.2,2,   7.8110,2,    25.00,   9.2598
  35TH20020610, OVIDE,    44,  1,     28,2,20020625,2328, 53.6400, -25.2400, 3578,     97.1,   9.6000,  35.2020,2,  35.2010,2,    261.7,2,    261.5,2,     5.17,2,    12.30,2,     0.69,2,   2320.1,2,   7.8210,2,    25.00,   9.5890
  35TH20020610, OVIDE,    44,  1,     29,2,20020625,2328, 53.6400, -25.2400, 3578,     46.3,  10.7810,  35.2670,2,  35.2650,2,    282.4,2,    271.1,3,     0.93,2,     6.58,2,     0.45,2,   2324.3,2,   7.8910,2,    25.00,  10.7754
  35TH20020610, OVIDE,    44,  1,     30,2,20020625,2328, 53.6400, -25.2400, 3578,      3.2,  11.2410,  35.2670,2,  35.2670,2,    273.2,2,    279.3,3,     0.62,2,     5.30,2,     0.34,2,   2326.7,2,   7.9180,2,    25.00,  11.2406
  35TH20020610, OVIDE,    45,  1,      3,2,20020626,0426, 53.2690, -24.9500, 3580,   3569.6,   2.7030,  34.9380,2,  34.9380,2,    255.5,2,    255.6,2,    31.19,2,    19.84,2,     1.17,2,   -999.0,9,   7.7200,2,    25.00,   2.3977
  35TH20020610, OVIDE,    45,  1,      4,2,20020626,0426, 53.2690, -24.9500, 3580,   3396.1,   2.7770,  34.9450,2,  34.9460,2,    262.6,2,    262.4,2,    25.22,2,    18.88,2,     1.10,2,   -999.0,9,   7.7250,2,    25.00,   2.4889
  35TH20020610, OVIDE,    45,  1,      5,2,20020626,0426, 53.2690, -24.9500, 3580,   3197.1,   2.8280,  34.9490,2,  34.9500,2,    265.8,2,    266.0,2,    21.73,2,    18.34,2,     1.06,2,   -999.0,9,   7.7270,2,    25.00,   2.5601
  35TH20020610, OVIDE,    45,  1,      6,2,20020626,0426, 53.2690, -24.9500, 3580,   2995.6,   2.9020,  34.9520,2,  34.9520,2,    270.4,2,    269.8,2,    18.35,2,    17.86,2,     1.04,2,   -999.0,9,   7.7280,2,    25.00,   2.6537
  35TH20020610, OVIDE,    45,  1,      7,2,20020626,0426, 53.2690, -24.9500, 3580,   2800.6,   2.9880,  34.9470,2,  34.9490,2,    272.5,2,    272.9,2,    14.80,2,    17.49,2,     1.02,2,   -999.0,9,   7.7300,2,    25.00,   2.7581
  35TH20020610, OVIDE,    45,  1,      8,2,20020626,0426, 53.2690, -24.9500, 3580,   2596.7,   3.0470,  34.9350,2,  34.9360,2,    274.7,2,    282.7,3,    13.42,2,    17.55,2,     1.01,2,   -999.0,9,   7.7310,2,    25.00,   2.8366
  35TH20020610, OVIDE,    45,  1,      9,2,20020626,0426, 53.2690, -24.9500, 3580,   2396.8,   3.0900,  34.9230,2,  34.9250,2,    277.2,2,    277.2,2,    12.64,2,    17.44,2,     1.00,2,   -999.0,9,   7.7320,2,    25.00,   2.8986
  35TH20020610, OVIDE,    45,  1,     10,2,20020626,0426, 53.2690, -24.9500, 3580,   2199.0,   3.1280,  34.9090,2,  34.9110,2,    280.6,2,    280.1,2,    11.95,2,    17.49,2,     1.01,2,   -999.0,9,   7.7300,2,    25.00,   2.9550
  35TH20020610, OVIDE,    45,  1,     11,2,20020626,0426, 53.2690, -24.9500, 3580,   1994.7,   3.1520,  34.8960,2,  34.8950,2,    282.9,2,    283.1,2,    11.23,2,    17.55,2,     1.01,2,   -999.0,9,   7.7280,2,    25.00,   2.9978
  35TH20020610, OVIDE,    45,  1,     12,2,20020626,0426, 53.2690, -24.9500, 3580,   1795.3,   3.1960,  34.8880,2,  34.8880,2,    282.0,2,    283.6,2,    10.88,2,    17.49,2,     1.01,2,   -999.0,9,   7.7260,2,    25.00,   3.0593
  35TH20020610, OVIDE,    45,  1,     13,2,20020626,0426, 53.2690, -24.9500, 3580,   1595.2,   3.3040,  34.8900,2,  34.8890,2,    280.4,2,    281.6,2,    10.95,2,    17.92,2,     1.04,2,   -999.0,9,   7.7240,2,    25.00,   3.1836
  35TH20020610, OVIDE,    45,  1,     14,2,20020626,0426, 53.2690, -24.9500, 3580,   1395.4,   3.4690,  34.8960,2,  34.8980,2,    277.9,2,    278.4,2,    10.76,2,    17.81,2,     1.05,2,   -999.0,9,   7.7240,2,    25.00,   3.3640
  35TH20020610, OVIDE,    45,  1,     15,2,20020626,0426, 53.2690, -24.9500, 3580,   1393.1,   3.4670,  34.8970,2,  34.8970,2,    277.9,2,    278.6,2,    10.73,2,    17.86,2,     1.07,3,   -999.0,9,   7.7230,2,    25.00,   3.3622
  35TH20020610, OVIDE,    45,  1,     16,2,20020626,0426, 53.2690, -24.9500, 3580,   1195.3,   3.6100,  34.9010,2,  34.9030,2,    275.2,2,    275.5,2,    10.48,2,    17.70,2,     1.00,3,   -999.0,9,   7.7170,2,    25.00,   3.5206
  35TH20020610, OVIDE,    45,  1,     17,2,20020626,0426, 53.2690, -24.9500, 3580,    995.4,   3.8050,  34.9120,2,  34.9080,2,    271.8,2,    271.3,2,    10.45,2,    18.08,2,     1.02,2,   -999.0,9,   7.7170,2,    25.00,   3.7305
  35TH20020610, OVIDE,    45,  1,     18,2,20020626,0426, 53.2690, -24.9500, 3580,    895.5,   3.9150,  34.9130,2,  34.9120,2,    269.3,2,    269.9,2,    10.38,2,    18.13,2,     1.03,2,   -999.0,9,   7.7150,2,    25.00,   3.8479
  35TH20020610, OVIDE,    45,  1,     19,2,20020626,0426, 53.2690, -24.9500, 3580,    796.5,   4.1130,  34.9290,2,  34.9280,2,    263.5,2,    263.1,2,    10.60,2,    18.34,2,     1.07,2,   -999.0,9,   7.7160,2,    25.00,   4.0527
  35TH20020610, OVIDE,    45,  1,     20,2,20020626,0426, 53.2690, -24.9500, 3580,    696.1,   4.3400,  34.9380,2,  34.9380,2,    255.2,2,    258.7,2,    10.57,2,    18.56,2,     1.05,2,   -999.0,9,   7.7110,2,    25.00,   4.2866
  35TH20020610, OVIDE,    45,  1,     21,2,20020626,0426, 53.2690, -24.9500, 3580,    595.8,   4.5840,  34.9390,2,  34.9390,2,    251.1,2,    252.4,2,    10.88,2,    18.72,2,     1.06,2,   -999.0,9,   7.7080,2,    25.00,   4.5376
  35TH20020610, OVIDE,    45,  1,     22,2,20020626,0426, 53.2690, -24.9500, 3580,    496.6,   5.0330,  34.9580,2,  34.9580,2,    239.2,2,    240.7,2,    10.92,2,    19.25,2,     1.10,2,   -999.0,9,   7.7040,2,    25.00,   4.9929
  35TH20020610, OVIDE,    45,  1,     23,2,20020626,0426, 53.2690, -24.9500, 3580,    442.9,   5.2370,  34.9340,2,  34.9360,2,    234.9,2,    235.6,2,    10.95,2,    19.46,2,     1.11,2,   -999.0,9,   7.7020,2,    25.00,   5.2008
  35TH20020610, OVIDE,    45,  1,     24,2,20020626,0426, 53.2690, -24.9500, 3580,    397.7,   5.4900,  34.9370,2,  34.9370,2,    231.8,2,    230.0,2,    11.01,2,    19.62,2,     1.15,2,   -999.0,9,   7.6990,2,    25.00,   5.4568
  35TH20020610, OVIDE,    45,  1,     25,2,20020626,0426, 53.2690, -24.9500, 3580,    296.4,   6.0880,  34.8710,2,  34.8730,2,    228.3,2,    226.5,2,    10.45,2,    19.46,2,     1.11,2,   -999.0,9,   7.6990,2,    25.00,   6.0621
  35TH20020610, OVIDE,    45,  1,     26,2,20020626,0426, 53.2690, -24.9500, 3580,    196.4,   6.9480,  34.8410,2,  34.8410,2,    259.3,2,    266.3,3,     7.60,2,    15.15,2,     0.90,2,   -999.0,9,   7.7620,2,    25.00,   6.9297
  35TH20020610, OVIDE,    45,  1,     27,2,20020626,0426, 53.2690, -24.9500, 3580,    146.4,   7.5780,  34.8910,2,  34.8900,2,    274.0,2,    273.6,2,     6.76,2,    13.86,2,     0.79,2,   -999.0,9,   7.7830,2,    25.00,   7.5637
  35TH20020610, OVIDE,    45,  1,     28,2,20020626,0426, 53.2690, -24.9500, 3580,     96.1,   8.2170,  34.9570,2,  34.9580,2,    275.7,2,    273.9,2,     6.04,2,    13.22,2,     0.74,2,   -999.0,9,   7.7970,2,    25.00,   8.2072
  35TH20020610, OVIDE,    45,  1,     29,2,20020626,0426, 53.2690, -24.9500, 3580,     46.9,   9.6330,  35.0220,2,  35.0250,2,    285.9,2,    278.4,3,     1.94,2,     7.62,2,     0.53,2,   -999.0,9,   7.8620,2,    25.00,   9.6277
  35TH20020610, OVIDE,    45,  1,     30,2,20020626,0426, 53.2690, -24.9500, 3580,      5.1,  10.5230,  35.0070,2,  35.0080,2,    287.8,2,    287.5,2,     1.13,2,     5.54,2,     0.35,2,   -999.0,9,   7.9050,2,    25.00,  10.5224