BOTTLE,20020809WHPSIObren
EXPOCODE,SECT_ID,STNNBR,CASTNO,SAMPNO,BTLNBR,BTLNBR_FLAG_W,DATE,TIME,LATITUDE,LONGITUDE,DEPTH,CTDPRS,CTDTMP,CTDSAL,CTDSAL_FLAG_W,SALNTY,SALNTY_FLAG_W,CTDOXY,CTDOXY_FLAG_W,OXYGEN,OXYGEN_FLAG_W,SILCAT,SILCAT_FLAG_W,NO2+NO3,NO2+NO3_FLAG_W,PHSPHT,PHSPHT_FLAG_W,CTDRAW,REVTMP,REVPRS,THETA
,,,,,,,,,,,,DBAR,ITS-90,PSS-78,,PSS-78,,UMOL/KG,,UMOL/KG,,UMOL/KG,,UMOL/KG,,UMOL/KG,,,DEG C,DBAR,ITS-90
     33RR087_1,  PRS2,     8,  1,     14,     14,2,19970926,0654, 22.4822,-158.1477, 4830,      4.4,  26.8785,  35.1551,2,  35.1542,2,    202.4,2,    202.4,2,  -999.00,9,  -999.00,9,  -999.00,9,      5,-999.000,  -999.0, 26.8775
     33RR087_1,  PRS2,     8,  1,     13,     13,2,19970926,0654, 22.4822,-158.1477, 4830,     23.6,  26.8858,  35.1543,2,  35.1548,2,    202.4,2,    202.4,2,  -999.00,9,  -999.00,9,  -999.00,9,     24,-999.000,  -999.0, 26.8804
     33RR087_1,  PRS2,     8,  1,     12,     12,2,19970926,0654, 22.4822,-158.1477, 4830,     44.8,  26.7257,  35.1716,2,  35.1668,2,    204.2,2,   -999.0,5,  -999.00,9,  -999.00,9,  -999.00,9,     46,-999.000,  -999.0, 26.7155
     33RR087_1,  PRS2,     8,  1,     11,     11,2,19970926,0654, 22.4822,-158.1477, 4830,     49.7,  26.5460,  35.1734,2,  35.1763,2,    204.6,2,   -999.0,5,  -999.00,9,  -999.00,9,  -999.00,9,     50,-999.000,  -999.0, 26.5347
     33RR087_1,  PRS2,     8,  1,     10,     32,2,19970926,0654, 22.4822,-158.1477, 4830,     54.4,  26.0945,  35.1204,2,  35.1287,2,    207.8,2,   -999.0,5,  -999.00,9,  -999.00,9,  -999.00,9,     55,-999.000,  -999.0, 26.0824
     33RR087_1,  PRS2,     8,  1,      9,      3,2,19970926,0654, 22.4822,-158.1477, 4830,     74.7,  24.0809,  35.0539,2,  35.0534,2,    220.4,2,   -999.0,5,  -999.00,9,  -999.00,9,  -999.00,9,     76,-999.000,  -999.0, 24.0651
     33RR087_1,  PRS2,     8,  1,      8,     29,2,19970926,0654, 22.4822,-158.1477, 4830,     99.7,  23.0885,  35.0573,2,  35.0577,2,    215.6,2,    215.6,2,  -999.00,9,  -999.00,9,  -999.00,9,    100,-999.000,  -999.0, 23.0681
     33RR087_1,  PRS2,     8,  1,      7,     28,2,19970926,0654, 22.4822,-158.1477, 4830,    124.8,  22.6802,  35.0650,2,  35.0647,2,    207.2,2,   -999.0,5,  -999.00,9,  -999.00,9,  -999.00,9,    126,-999.000,  -999.0, 22.6549
     33RR087_1,  PRS2,     8,  1,      6,      7,2,19970926,0654, 22.4822,-158.1477, 4830,    149.1,  21.3000,  35.0961,2,  35.0926,2,    194.7,2,   -999.0,5,  -999.00,9,  -999.00,9,  -999.00,9,    150,-999.000,  -999.0, 21.2711
     33RR087_1,  PRS2,     8,  1,      5,     38,2,19970926,0654, 22.4822,-158.1477, 4830,    174.1,  20.0236,  35.0524,2,  35.0521,2,    191.5,2,   -999.0,5,  -999.00,9,  -999.00,9,  -999.00,9,    174,-999.000,  -999.0, 19.9914
     33RR087_1,  PRS2,     8,  1,      4,     36,2,19970926,0654, 22.4822,-158.1477, 4830,    249.3,  16.8252,  34.7762,2,  34.7620,3,    201.4,3,    201.4,2,  -999.00,9,  -999.00,9,  -999.00,9,    250,-999.000,  -999.0, 16.7844
     33RR087_1,  PRS2,     8,  1,      3,     35,2,19970926,0654, 22.4822,-158.1477, 4830,    499.6,   7.7179,  34.1278,2,  34.1901,4,    122.7,3,    178.7,4,  -999.00,9,  -999.00,9,  -999.00,9,    500,-999.000,  -999.0,  7.6680
     33RR087_1,  PRS2,     8,  1,      2,     34,2,19970926,0654, 22.4822,-158.1477, 4830,    749.4,   5.0000,  34.3336,2,  34.3284,2,     26.2,2,     26.2,2,  -999.00,9,  -999.00,9,  -999.00,9,    749,-999.000,  -999.0,  4.9391
     33RR087_1,  PRS2,     8,  1,      1,     33,2,19970926,0654, 22.4822,-158.1477, 4830,   1020.6,   3.9913,  34.4937,2,  34.4918,2,     42.9,2,     42.9,2,  -999.00,9,  -999.00,9,  -999.00,9,   1020,-999.000,  -999.0,  3.9141