BOTTLE,20020809WHPSIObren
#code : jjward hyd_to_exchange.pl 
#original files copied from HTML directory: 20020809
#original HYD file: /whpo/11/HOTS/BOTTLE/hot87/hot87.sea   Fri Aug  9 09:51:38 2002
#original SUM file: /whpo/11/HOTS/BOTTLE/hot87/hot87.sum   Fri Aug  9 13:30:42 2002
EXPOCODE,SECT_ID,STNNBR,CASTNO,SAMPNO,BTLNBR,BTLNBR_FLAG_W,DATE,TIME,LATITUDE,LONGITUDE,DEPTH,CTDPRS,CTDTMP,CTDSAL,CTDSAL_FLAG_W,SALNTY,SALNTY_FLAG_W,CTDOXY,CTDOXY_FLAG_W,OXYGEN,OXYGEN_FLAG_W,SILCAT,SILCAT_FLAG_W,NO2+NO3,NO2+NO3_FLAG_W,PHSPHT,PHSPHT_FLAG_W,CTDRAW,REVTMP,REVPRS,THETA
,,,,,,,,,,,,DBAR,ITS-90,PSS-78,,PSS-78,,UMOL/KG,,UMOL/KG,,UMOL/KG,,UMOL/KG,,UMOL/KG,,,DEG C,DBAR,ITS-90
     33RR087_1,  PRS2,     1,  1,      4,     36,2,19970924,1531, 21.3440,-158.2730, 1512,     12.3,  27.8202,  34.7930,2,-999.0000,9,    192.9,2,   -999.0,5,  -999.00,9,  -999.00,9,  -999.00,9,     13,-999.000,  -999.0, 27.8173
     33RR087_1,  PRS2,     1,  1,      2,     34,2,19970924,1531, 21.3440,-158.2730, 1512,   1020.4,   4.0557,  34.5017,2,-999.0000,9,     42.9,2,   -999.0,5,  -999.00,9,  -999.00,9,  -999.00,9,   1020,-999.000,  -999.0,  3.9779
     33RR087_1,  PRS2,     1,  1,      3,     35,2,19970924,1531, 21.3440,-158.2730, 1512,   1020.5,   4.0566,  34.5017,2,-999.0000,9,     42.9,2,   -999.0,5,  -999.00,9,  -999.00,9,  -999.00,9,   1020,-999.000,  -999.0,  3.9788
     33RR087_1,  PRS2,     1,  1,      1,     33,2,19970924,1531, 21.3440,-158.2730, 1512,   1020.8,   4.0552,  34.5017,2,-999.0000,9,     42.9,2,     44.0,2,  -999.00,9,  -999.00,9,  -999.00,9,   1020,-999.000,  -999.0,  3.9774
     33RR087_1,  PRS2,     2,  1,     24,     31,2,19970925,0449, 22.7502,-158.0000, 4725,      4.4,  27.0638,  35.0959,2,  35.0954,2,    202.6,2,    202.0,2,  -999.00,5,  -999.00,5,  -999.00,5,      5,-999.000,  -999.0, 27.0628
     33RR087_1,  PRS2,     2,  1,     23,     30,2,19970925,0449, 22.7502,-158.0000, 4725,     24.3,  26.8963,  35.2150,2,  35.2115,2,    203.4,2,   -999.0,5,  -999.00,5,  -999.00,5,  -999.00,5,     24,-999.000,  -999.0, 26.8908
     33RR087_1,  PRS2,     2,  1,     22,     22,2,19970925,0449, 22.7502,-158.0000, 4725,     45.4,  26.7779,  35.2200,2,  35.2250,2,    203.8,2,   -999.0,5,  -999.00,5,  -999.00,5,  -999.00,5,     45,-999.000,  -999.0, 26.7675
     33RR087_1,  PRS2,     2,  1,     21,     21,2,19970925,0449, 22.7502,-158.0000, 4725,     45.4,  26.7778,  35.2200,2,  35.2202,2,    203.8,2,   -999.0,5,  -999.00,5,  -999.00,5,  -999.00,5,     44,-999.000,  -999.0, 26.7675
     33RR087_1,  PRS2,     2,  1,     20,     20,2,19970925,0449, 22.7502,-158.0000, 4725,     73.6,  24.9107,  35.0912,2,  35.0887,2,    218.4,2,   -999.0,5,  -999.00,5,  -999.00,5,  -999.00,5,     75,-999.000,  -999.0, 24.8948
     33RR087_1,  PRS2,     2,  1,     19,     19,2,19970925,0449, 22.7502,-158.0000, 4725,    100.2,  23.3325,  35.0515,2,  35.0529,2,    216.1,2,   -999.0,5,  -999.00,5,  -999.00,5,  -999.00,5,    101,-999.000,  -999.0, 23.3119
     33RR087_1,  PRS2,     2,  1,     18,     18,2,19970925,0449, 22.7502,-158.0000, 4725,    123.5,  22.5511,  35.0576,2,  35.0561,2,    206.2,2,    205.8,2,  -999.00,5,  -999.00,5,  -999.00,5,    125,-999.000,  -999.0, 22.5262
     33RR087_1,  PRS2,     2,  1,     17,     17,2,19970925,0449, 22.7502,-158.0000, 4725,    149.2,  21.5486,  35.0824,2,  35.0817,2,    197.9,2,   -999.0,5,  -999.00,5,  -999.00,5,  -999.00,5,    150,-999.000,  -999.0, 21.5195
     33RR087_1,  PRS2,     2,  1,     16,     16,2,19970925,0449, 22.7502,-158.0000, 4725,    174.9,  20.5662,  35.0638,2,  35.0617,2,    191.8,2,   -999.0,5,  -999.00,5,  -999.00,5,  -999.00,5,    175,-999.000,  -999.0, 20.5332
     33RR087_1,  PRS2,     2,  1,     15,     15,2,19970925,0449, 22.7502,-158.0000, 4725,    209.3,  18.9810,  34.9896,2,  34.9897,2,    202.8,2,    197.8,2,     2.98,2,     2.03,2,     0.21,2,    209,-999.000,  -999.0, 18.9437
     33RR087_1,  PRS2,     2,  1,     14,     14,2,19970925,0449, 22.7502,-158.0000, 4725,    224.9,  17.6963,  34.8619,2,  34.8642,2,    195.7,2,    198.0,2,     3.84,2,     3.15,2,     0.27,2,    225,-999.000,  -999.0, 17.6582
     33RR087_1,  PRS2,     2,  1,     13,     13,2,19970925,0449, 22.7502,-158.0000, 4725,    232.9,  17.3471,  34.8259,2,  34.8282,2,    199.7,2,    199.2,2,     4.20,2,     3.43,2,     0.29,2,    233,-999.000,  -999.0, 17.3081
     33RR087_1,  PRS2,     2,  1,     12,     12,2,19970925,0449, 22.7502,-158.0000, 4725,    249.9,  16.3916,  34.7129,2,  34.7180,2,    198.7,2,    198.1,2,     5.00,2,     4.47,2,     0.37,2,    250,-999.000,  -999.0, 16.3514
     33RR087_1,  PRS2,     2,  1,     11,     11,2,19970925,0449, 22.7502,-158.0000, 4725,    273.6,  15.2901,  34.5787,2,  34.5770,2,    195.7,2,    199.6,2,     6.05,2,     6.13,2,     0.48,2,    274,-999.000,  -999.0, 15.2482
     33RR087_1,  PRS2,     2,  1,     10,     32,2,19970925,0449, 22.7502,-158.0000, 4725,    299.6,  13.8101,  34.4341,2,  34.4851,4,    203.0,3,    201.1,2,     7.28,2,     7.23,2,     0.54,2,    300,-999.000,  -999.0, 13.7673
     33RR087_1,  PRS2,     2,  1,      9,      3,2,19970925,0449, 22.7502,-158.0000, 4725,    323.7,  12.5274,  34.2722,2,  34.2739,2,    198.2,2,    196.1,2,    10.21,2,    10.37,2,     0.76,2,    323,-999.000,  -999.0, 12.4841
     33RR087_1,  PRS2,     2,  1,      8,     29,2,19970925,0449, 22.7502,-158.0000, 4725,    349.9,  11.3309,  34.1790,2,  34.1814,2,    174.5,2,    174.5,2,    15.20,2,    14.78,2,     1.10,2,    350,-999.000,  -999.0, 11.2871
     33RR087_1,  PRS2,     2,  1,      7,     28,2,19970925,0449, 22.7502,-158.0000, 4725,    399.7,   9.7017,  34.1245,2,  34.1262,2,    164.4,2,    161.9,2,    23.43,2,    19.50,2,     1.42,2,    400,-999.000,  -999.0,  9.6562
     33RR087_1,  PRS2,     2,  1,      6,      7,2,19970925,0449, 22.7502,-158.0000, 4725,    498.9,   7.7425,  34.1305,2,  34.1273,2,    107.6,2,    103.6,2,    43.54,2,    28.48,2,     2.13,2,    500,-999.000,  -999.0,  7.6927
     33RR087_1,  PRS2,     2,  1,      5,     38,4,19970925,0449, 22.7502,-158.0000, 4725,    600.3,   5.6805,  34.0946,2,-999.0000,5,     62.1,2,   -999.0,5,  -999.00,5,  -999.00,5,  -999.00,5,    601,-999.000,  -999.0,  5.6295
     33RR087_1,  PRS2,     2,  1,      4,     36,2,19970925,0449, 22.7502,-158.0000, 4725,    699.4,   4.8886,  34.2212,2,  34.2252,2,     34.7,2,     32.3,2,    90.69,2,    40.13,2,     2.93,2,    700,-999.000,  -999.0,  4.8328
     33RR087_1,  PRS2,     2,  1,      3,     35,2,19970925,0449, 22.7502,-158.0000, 4725,    800.0,   4.7487,  34.3786,2,  34.3787,2,     30.0,2,     29.1,2,    96.33,2,    41.14,2,     3.01,2,    800,-999.000,  -999.0,  4.6849
     33RR087_1,  PRS2,     2,  1,      2,     34,2,19970925,0449, 22.7502,-158.0000, 4725,    902.5,   4.3488,  34.4451,2,  34.4466,2,     35.6,2,     33.8,2,   103.82,2,    41.57,2,     3.03,2,    902,-999.000,  -999.0,  4.2789
     33RR087_1,  PRS2,     2,  1,      1,     33,2,19970925,0449, 22.7502,-158.0000, 4725,   1020.2,   3.9484,  34.4767,2,  34.4769,2,     42.5,2,     41.0,2,   112.08,2,    41.59,2,     3.02,2,   1020,-999.000,  -999.0,  3.8716
     33RR087_1,  PRS2,     2,  2,     23,     30,2,19970925,0802, 22.7498,-158.0000, 4725,      4.5,  26.8263,  35.2346,2,  35.2331,2,    204.4,2,   -999.0,5,  -999.00,5,  -999.00,5,  -999.00,5,      5,-999.000,  -999.0, 26.8253
     33RR087_1,  PRS2,     2,  2,     22,     22,2,19970925,0802, 22.7498,-158.0000, 4725,      4.5,  26.8209,  35.2348,2,  35.2339,2,    204.3,2,    202.8,2,     1.00,2,     0.00,2,     0.04,2,      4,-999.000,  -999.0, 26.8199
     33RR087_1,  PRS2,     2,  2,     21,     21,2,19970925,0802, 22.7498,-158.0000, 4725,     14.0,  26.8345,  35.2333,2,  35.2336,2,    204.3,2,    202.6,2,     1.06,2,     0.01,2,     0.04,2,     14,-999.000,  -999.0, 26.8313
     33RR087_1,  PRS2,     2,  2,     20,     20,2,19970925,0802, 22.7498,-158.0000, 4725,     25.0,  26.8091,  35.2308,2,  35.2300,2,    204.4,2,   -999.0,5,  -999.00,5,  -999.00,5,  -999.00,5,     26,-999.000,  -999.0, 26.8034
     33RR087_1,  PRS2,     2,  2,     19,     19,2,19970925,0802, 22.7498,-158.0000, 4725,     25.2,  26.8033,  35.2303,2,  35.2305,2,    204.4,2,    202.8,2,     1.59,2,     0.00,2,     0.04,2,     25,-999.000,  -999.0, 26.7975
     33RR087_1,  PRS2,     2,  2,     18,     18,4,19970925,0802, 22.7498,-158.0000, 4725,     35.1,  26.7342,  35.2201,2,-999.0000,5,    204.5,2,   -999.0,5,  -999.00,5,  -999.00,5,  -999.00,5,     35,-999.000,  -999.0, 26.7262
     33RR087_1,  PRS2,     2,  2,     17,     17,2,19970925,0802, 22.7498,-158.0000, 4725,     44.7,  26.6637,  35.2101,2,  35.2094,2,    205.0,2,    204.3,2,     1.55,2,     0.00,2,     0.04,2,     44,-999.000,  -999.0, 26.6536
     33RR087_1,  PRS2,     2,  2,     16,     16,2,19970925,0802, 22.7498,-158.0000, 4725,     59.6,  26.6535,  35.2115,2,  35.2117,2,    204.9,2,    204.1,2,     1.57,2,     0.00,2,     0.04,2,     60,-999.000,  -999.0, 26.6400
     33RR087_1,  PRS2,     2,  2,     15,     15,2,19970925,0802, 22.7498,-158.0000, 4725,     75.5,  24.8089,  35.0908,2,  35.0899,2,    221.6,2,    221.7,2,     1.47,2,     0.01,2,     0.04,2,     76,-999.000,  -999.0, 24.7926
     33RR087_1,  PRS2,     2,  2,     14,     14,2,19970925,0802, 22.7498,-158.0000, 4725,     84.6,  24.1027,  35.0733,2,  35.0725,2,    223.1,2,    224.3,2,     1.42,2,     0.00,2,     0.04,2,     86,-999.000,  -999.0, 24.0849
     33RR087_1,  PRS2,     2,  2,     13,     13,2,19970925,0802, 22.7498,-158.0000, 4725,     93.9,  23.7204,  35.0556,2,  35.0536,2,    222.3,2,    221.8,2,     1.23,2,     0.01,2,     0.04,2,     94,-999.000,  -999.0, 23.7008
     33RR087_1,  PRS2,     2,  2,     12,     12,2,19970925,0802, 22.7498,-158.0000, 4725,    104.6,  23.3881,  35.0515,2,  35.0497,2,    219.1,2,    219.2,2,     1.73,2,     0.01,2,     0.04,2,    105,-999.000,  -999.0, 23.3665
     33RR087_1,  PRS2,     2,  2,     11,     11,2,19970925,0802, 22.7498,-158.0000, 4725,    114.1,  23.0305,  35.0560,2,  35.0553,2,    213.2,2,    212.3,2,     1.45,2,     0.00,2,     0.06,2,    115,-999.000,  -999.0, 23.0072
     33RR087_1,  PRS2,     2,  2,     10,     32,2,19970925,0802, 22.7498,-158.0000, 4725,    125.0,  22.7131,  35.0578,2,  35.0574,2,    205.6,2,    207.7,2,     2.40,2,     0.03,2,     0.07,2,    125,-999.000,  -999.0, 22.6878
     33RR087_1,  PRS2,     2,  2,      9,      3,4,19970925,0802, 22.7498,-158.0000, 4725,    133.6,  22.5568,  35.0615,2,-999.0000,5,    204.4,2,   -999.0,5,  -999.00,5,  -999.00,5,  -999.00,5,    135,-999.000,  -999.0, 22.5299
     33RR087_1,  PRS2,     2,  2,      8,     29,2,19970925,0802, 22.7498,-158.0000, 4725,    149.6,  21.9475,  35.0660,2,  35.0650,2,    198.3,2,    199.7,2,     1.70,2,     0.44,2,     0.11,2,    151,-999.000,  -999.0, 21.9179
     33RR087_1,  PRS2,     2,  2,      7,     28,2,19970925,0802, 22.7498,-158.0000, 4725,    160.1,  21.3227,  35.0792,2,  35.0813,2,    198.3,2,    197.0,2,  -999.00,5,  -999.00,5,  -999.00,5,    159,-999.000,  -999.0, 21.2918
     33RR087_1,  PRS2,     2,  2,      6,      7,2,19970925,0802, 22.7498,-158.0000, 4725,    174.3,  20.3808,  35.0582,2,  35.0580,2,    190.2,2,    193.3,2,     2.41,2,     1.40,2,     0.17,2,    175,-999.000,  -999.0, 20.3482
     33RR087_1,  PRS2,     2,  2,      5,     38,2,19970925,0802, 22.7498,-158.0000, 4725,    184.7,  19.9500,  35.0474,2,  35.0454,2,    192.7,2,    192.8,2,  -999.00,5,  -999.00,5,  -999.00,5,    185,-999.000,  -999.0, 19.9159
     33RR087_1,  PRS2,     2,  2,      4,     36,2,19970925,0802, 22.7498,-158.0000, 4725,    198.4,  19.5625,  35.0488,2,  35.0518,2,    211.9,2,    206.2,2,     3.56,2,     1.08,2,     0.14,2,    198,-999.000,  -999.0, 19.5264
     33RR087_1,  PRS2,     2,  2,      3,     35,2,19970925,0802, 22.7498,-158.0000, 4725,    584.4,   6.2044,  34.0655,2,  34.0654,2,     85.6,2,     82.8,2,  -999.00,5,  -999.00,5,  -999.00,5,    584,-999.000,  -999.0,  6.1525
     33RR087_1,  PRS2,     2,  2,      2,     34,2,19970925,0802, 22.7498,-158.0000, 4725,    840.3,   4.6571,  34.3933,2,  34.3914,2,     30.0,2,     29.4,2,  -999.00,5,  -999.00,5,  -999.00,5,    839,-999.000,  -999.0,  4.5904
     33RR087_1,  PRS2,     2,  2,      1,     33,2,19970925,0802, 22.7498,-158.0000, 4725,   1020.1,   3.9575,  34.4766,2,  34.4763,2,     41.7,2,     40.9,2,  -999.00,5,  -999.00,5,  -999.00,5,   1020,-999.000,  -999.0,  3.8806
     33RR087_1,  PRS2,     2,  3,     21,     21,2,19970925,1107, 22.7527,-157.9645, 4725,      5.1,  26.7696,  35.2292,2,  35.2288,2,    204.5,1,   -999.0,9,  -999.00,9,  -999.00,9,  -999.00,9,      6,-999.000,  -999.0, 26.7684
     33RR087_1,  PRS2,     2,  3,     23,     30,2,19970925,1107, 22.7527,-157.9645, 4725,      5.3,  26.7699,  35.2293,2,  35.2281,2,    204.5,1,   -999.0,9,  -999.00,9,  -999.00,9,  -999.00,9,      6,-999.000,  -999.0, 26.7687
     33RR087_1,  PRS2,     2,  3,     22,     22,2,19970925,1107, 22.7527,-157.9645, 4725,      5.5,  26.7697,  35.2293,2,  35.2297,2,    204.5,1,   -999.0,9,  -999.00,9,  -999.00,9,  -999.00,9,      5,-999.000,  -999.0, 26.7685
     33RR087_1,  PRS2,     2,  3,     20,     20,2,19970925,1107, 22.7527,-157.9645, 4725,      9.3,  26.7727,  35.2285,2,  35.2279,2,    204.5,1,   -999.0,9,  -999.00,9,  -999.00,9,  -999.00,9,      9,-999.000,  -999.0, 26.7705
     33RR087_1,  PRS2,     2,  3,     19,     19,2,19970925,1107, 22.7527,-157.9645, 4725,     19.8,  26.7769,  35.2287,2,  35.2290,2,    204.5,1,   -999.0,9,  -999.00,9,  -999.00,9,  -999.00,9,     20,-999.000,  -999.0, 26.7724
     33RR087_1,  PRS2,     2,  3,     18,     18,2,19970925,1107, 22.7527,-157.9645, 4725,     24.6,  26.7700,  35.2281,2,  35.2286,2,    204.5,1,   -999.0,9,  -999.00,9,  -999.00,9,  -999.00,9,     25,-999.000,  -999.0, 26.7644
     33RR087_1,  PRS2,     2,  3,     17,     17,2,19970925,1107, 22.7527,-157.9645, 4725,     24.6,  26.7701,  35.2280,2,  35.2284,2,    204.5,1,   -999.0,9,  -999.00,9,  -999.00,9,  -999.00,9,     25,-999.000,  -999.0, 26.7645
     33RR087_1,  PRS2,     2,  3,     16,     16,2,19970925,1107, 22.7527,-157.9645, 4725,     39.7,  26.7426,  35.2230,2,  35.2248,2,    204.5,1,   -999.0,9,  -999.00,9,  -999.00,9,  -999.00,9,     40,-999.000,  -999.0, 26.7336
     33RR087_1,  PRS2,     2,  3,     15,     15,2,19970925,1107, 22.7527,-157.9645, 4725,     44.3,  26.7241,  35.2185,2,  35.2186,2,    204.8,1,   -999.0,9,  -999.00,9,  -999.00,9,  -999.00,9,     45,-999.000,  -999.0, 26.7140
     33RR087_1,  PRS2,     2,  3,     14,     14,2,19970925,1107, 22.7527,-157.9645, 4725,     59.4,  26.3743,  35.1865,2,  35.1569,3,    205.5,1,   -999.0,9,  -999.00,9,  -999.00,9,  -999.00,9,     59,-999.000,  -999.0, 26.3609
     33RR087_1,  PRS2,     2,  3,     13,     13,2,19970925,1107, 22.7527,-157.9645, 4725,     74.8,  24.8602,  35.0895,2,  35.0890,2,    222.5,1,   -999.0,9,  -999.00,9,  -999.00,9,  -999.00,9,     75,-999.000,  -999.0, 24.8441
     33RR087_1,  PRS2,     2,  3,     12,     12,2,19970925,1107, 22.7527,-157.9645, 4725,     79.9,  24.7605,  35.0870,2,  35.0887,2,    222.5,1,   -999.0,9,  -999.00,9,  -999.00,9,  -999.00,9,     80,-999.000,  -999.0, 24.7433
     33RR087_1,  PRS2,     2,  3,     10,     32,2,19970925,1107, 22.7527,-157.9645, 4725,     98.9,  23.6716,  35.0553,2,  35.0567,2,    222.5,1,   -999.0,9,  -999.00,9,  -999.00,9,  -999.00,9,     99,-999.000,  -999.0, 23.6510
     33RR087_1,  PRS2,     2,  3,     11,     11,2,19970925,1107, 22.7527,-157.9645, 4725,     99.1,  23.6712,  35.0542,2,  35.0567,2,    222.6,1,   -999.0,9,  -999.00,9,  -999.00,9,  -999.00,9,    100,-999.000,  -999.0, 23.6506
     33RR087_1,  PRS2,     2,  3,      9,      3,2,19970925,1107, 22.7527,-157.9645, 4725,    120.8,  22.8247,  35.0611,2,  35.0598,2,    208.0,1,   -999.0,9,  -999.00,9,  -999.00,9,  -999.00,9,    122,-999.000,  -999.0, 22.8002
     33RR087_1,  PRS2,     2,  3,      8,     29,2,19970925,1107, 22.7527,-157.9645, 4725,    125.0,  22.7111,  35.0603,2,  35.0617,2,    203.7,1,   -999.0,9,  -999.00,9,  -999.00,9,  -999.00,9,    125,-999.000,  -999.0, 22.6858
     33RR087_1,  PRS2,     2,  3,      7,     28,2,19970925,1107, 22.7527,-157.9645, 4725,    135.0,  22.4753,  35.0617,2,  35.0632,2,    204.1,1,   -999.0,9,  -999.00,9,  -999.00,9,  -999.00,9,    135,-999.000,  -999.0, 22.4482
     33RR087_1,  PRS2,     2,  3,      6,      7,2,19970925,1107, 22.7527,-157.9645, 4725,    139.8,  22.2010,  35.0642,2,  35.0644,2,    199.0,1,   -999.0,9,  -999.00,9,  -999.00,9,  -999.00,9,    141,-999.000,  -999.0, 22.1732
     33RR087_1,  PRS2,     2,  3,      5,     38,2,19970925,1107, 22.7527,-157.9645, 4725,    149.7,  21.7454,  35.0748,2,  35.0755,2,    197.3,1,   -999.0,9,  -999.00,9,  -999.00,9,  -999.00,9,    151,-999.000,  -999.0, 21.7161
     33RR087_1,  PRS2,     2,  3,      4,     36,2,19970925,1107, 22.7527,-157.9645, 4725,    159.0,  20.8682,  35.0749,2,  35.0744,2,    191.8,1,   -999.0,9,  -999.00,9,  -999.00,9,  -999.00,9,    160,-999.000,  -999.0, 20.8379
     33RR087_1,  PRS2,     2,  3,      3,     35,2,19970925,1107, 22.7527,-157.9645, 4725,    174.1,  20.1984,  35.0550,2,  35.0526,2,    191.2,1,   -999.0,9,  -999.00,9,  -999.00,9,  -999.00,9,    174,-999.000,  -999.0, 20.1660
     33RR087_1,  PRS2,     2,  3,      2,     34,2,19970925,1107, 22.7527,-157.9645, 4725,    549.4,   6.3077,  34.0634,2,  34.0707,2,     90.6,1,   -999.0,9,  -999.00,9,  -999.00,9,  -999.00,9,    551,-999.000,  -999.0,  6.2586
     33RR087_1,  PRS2,     2,  3,      1,     33,2,19970925,1107, 22.7527,-157.9645, 4725,   1020.8,   3.9968,  34.4743,2,  34.4751,2,     40.7,1,   -999.0,9,  -999.00,9,  -999.00,9,  -999.00,9,   1021,-999.000,  -999.0,  3.9195