BOTTLE,20020809WHPSIObren
EXPOCODE,SECT_ID,STNNBR,CASTNO,SAMPNO,BTLNBR,BTLNBR_FLAG_W,DATE,TIME,LATITUDE,LONGITUDE,DEPTH,CTDPRS,CTDTMP,CTDSAL,CTDSAL_FLAG_W,SALNTY,SALNTY_FLAG_W,CTDOXY,CTDOXY_FLAG_W,OXYGEN,OXYGEN_FLAG_W,SILCAT,SILCAT_FLAG_W,NO2+NO3,NO2+NO3_FLAG_W,PHSPHT,PHSPHT_FLAG_W,CTDRAW,REVTMP,REVPRS,THETA
,,,,,,,,,,,,DBAR,ITS-90,PSS-78,,PSS-78,,UMOL/KG,,UMOL/KG,,UMOL/KG,,UMOL/KG,,UMOL/KG,,,DEG C,DBAR,ITS-90
     33RR087_1,  PRS2,     2,  4,     23,     30,2,19970925,1359, 22.7527,-157.9643, 4725,      4.8,  26.7591,  35.2308,2,  35.2480,4,    204.2,1,   -999.0,9,  -999.00,9,  -999.00,9,  -999.00,9,      5,-999.000,  -999.0, 26.7580
     33RR087_1,  PRS2,     2,  4,     22,     22,2,19970925,1359, 22.7527,-157.9643, 4725,      4.8,  26.7592,  35.2307,2,  35.2310,2,    204.2,1,   -999.0,9,  -999.00,9,  -999.00,9,  -999.00,9,      5,-999.000,  -999.0, 26.7581
     33RR087_1,  PRS2,     2,  4,     21,     21,2,19970925,1359, 22.7527,-157.9643, 4725,      4.9,  26.7588,  35.2307,2,  35.2309,2,    204.3,1,   -999.0,9,  -999.00,9,  -999.00,9,  -999.00,9,      5,-999.000,  -999.0, 26.7577
     33RR087_1,  PRS2,     2,  4,     20,     20,2,19970925,1359, 22.7527,-157.9643, 4725,      5.0,  26.7588,  35.2308,2,  35.2308,2,    204.3,1,   -999.0,9,  -999.00,9,  -999.00,9,  -999.00,9,      5,-999.000,  -999.0, 26.7577
     33RR087_1,  PRS2,     2,  4,     19,     19,2,19970925,1359, 22.7527,-157.9643, 4725,      5.0,  26.7596,  35.2304,2,  35.2306,2,    204.3,1,   -999.0,9,  -999.00,9,  -999.00,9,  -999.00,9,      5,-999.000,  -999.0, 26.7585
     33RR087_1,  PRS2,     2,  4,     18,     18,2,19970925,1359, 22.7527,-157.9643, 4725,      5.0,  26.7597,  35.2303,2,  35.2307,2,    204.3,1,   -999.0,9,  -999.00,9,  -999.00,9,  -999.00,9,      5,-999.000,  -999.0, 26.7586
     33RR087_1,  PRS2,     2,  4,     17,     17,2,19970925,1359, 22.7527,-157.9643, 4725,     24.3,  26.7614,  35.2289,2,  35.2294,2,    204.3,1,   -999.0,9,  -999.00,9,  -999.00,9,  -999.00,9,     24,-999.000,  -999.0, 26.7559
     33RR087_1,  PRS2,     2,  4,     16,     16,2,19970925,1359, 22.7527,-157.9643, 4725,     44.0,  26.7577,  35.2285,2,  35.2331,2,    204.3,1,   -999.0,9,  -999.00,9,  -999.00,9,  -999.00,9,     45,-999.000,  -999.0, 26.7476
     33RR087_1,  PRS2,     2,  4,     15,     15,2,19970925,1359, 22.7527,-157.9643, 4725,     74.8,  24.8614,  35.0965,2,  35.0988,2,    220.2,1,   -999.0,9,  -999.00,9,  -999.00,9,  -999.00,9,     75,-999.000,  -999.0, 24.8453
     33RR087_1,  PRS2,     2,  4,     14,     14,2,19970925,1359, 22.7527,-157.9643, 4725,     99.6,  23.6062,  35.0556,2,  35.0563,2,    222.6,1,   -999.0,9,  -999.00,9,  -999.00,9,  -999.00,9,    100,-999.000,  -999.0, 23.5855
     33RR087_1,  PRS2,     2,  4,     12,     12,2,19970925,1359, 22.7527,-157.9643, 4725,     99.6,  23.6058,  35.0556,2,  35.0556,2,    222.7,1,   -999.0,9,  -999.00,9,  -999.00,9,  -999.00,9,    100,-999.000,  -999.0, 23.5851
     33RR087_1,  PRS2,     2,  4,     13,     13,2,19970925,1359, 22.7527,-157.9643, 4725,     99.7,  23.6060,  35.0556,2,  35.0568,2,    222.7,1,   -999.0,9,  -999.00,9,  -999.00,9,  -999.00,9,    100,-999.000,  -999.0, 23.5853
     33RR087_1,  PRS2,     2,  4,     11,     11,2,19970925,1359, 22.7527,-157.9643, 4725,    126.5,  22.7599,  35.0628,2,  35.0618,2,    207.9,1,   -999.0,9,  -999.00,9,  -999.00,9,  -999.00,9,    126,-999.000,  -999.0, 22.7342
     33RR087_1,  PRS2,     2,  4,     10,     32,2,19970925,1359, 22.7527,-157.9643, 4725,    151.5,  21.4713,  35.0774,2,  35.0768,2,    196.7,1,   -999.0,9,  -999.00,9,  -999.00,9,  -999.00,9,    151,-999.000,  -999.0, 21.4419
     33RR087_1,  PRS2,     2,  4,      9,      3,2,19970925,1359, 22.7527,-157.9643, 4725,    175.0,  20.1618,  35.0546,2,  35.0527,2,    188.2,1,   -999.0,9,  -999.00,9,  -999.00,9,  -999.00,9,    175,-999.000,  -999.0, 20.1292
     33RR087_1,  PRS2,     2,  4,      8,     29,2,19970925,1359, 22.7527,-157.9643, 4725,    225.1,  17.7409,  34.8624,2,  34.8614,2,    196.8,1,   -999.0,9,  -999.00,9,  -999.00,9,  -999.00,9,    225,-999.000,  -999.0, 17.7026
     33RR087_1,  PRS2,     2,  4,      7,     28,2,19970925,1359, 22.7527,-157.9643, 4725,    225.2,  17.7390,  34.8624,2,  34.8608,2,    197.2,1,   -999.0,9,  -999.00,9,  -999.00,9,  -999.00,9,    225,-999.000,  -999.0, 17.7008
     33RR087_1,  PRS2,     2,  4,      6,      7,2,19970925,1359, 22.7527,-157.9643, 4725,    250.5,  16.3415,  34.7084,2,  34.7202,2,    197.7,1,   -999.0,9,  -999.00,9,  -999.00,9,  -999.00,9,    250,-999.000,  -999.0, 16.3013
     33RR087_1,  PRS2,     2,  4,      4,     36,2,19970925,1359, 22.7527,-157.9643, 4725,    399.1,   9.5581,  34.1217,2,  34.1193,2,    163.1,1,   -999.0,9,  -999.00,9,  -999.00,9,  -999.00,9,    399,-999.000,  -999.0,  9.5131
     33RR087_1,  PRS2,     2,  4,      5,     38,2,19970925,1359, 22.7527,-157.9643, 4725,    399.3,   9.5554,  34.1217,2,  34.1204,2,    163.0,1,   -999.0,9,  -999.00,9,  -999.00,9,  -999.00,9,    399,-999.000,  -999.0,  9.5104
     33RR087_1,  PRS2,     2,  4,      3,     35,2,19970925,1359, 22.7527,-157.9643, 4725,    550.1,   6.2828,  34.0767,2,  34.0691,2,     87.8,1,   -999.0,9,  -999.00,9,  -999.00,9,  -999.00,9,    550,-999.000,  -999.0,  6.2337
     33RR087_1,  PRS2,     2,  4,      2,     34,2,19970925,1359, 22.7527,-157.9643, 4725,    750.4,   4.7406,  34.2780,2,  34.2745,2,     27.6,1,   -999.0,9,  -999.00,9,  -999.00,9,  -999.00,9,    750,-999.000,  -999.0,  4.6812
     33RR087_1,  PRS2,     2,  4,      1,     33,2,19970925,1359, 22.7527,-157.9643, 4725,   1020.4,   4.0016,  34.4757,2,  34.4765,2,     41.2,1,   -999.0,9,  -999.00,9,  -999.00,9,  -999.00,9,   1021,-999.000,  -999.0,  3.9243
     33RR087_1,  PRS2,     2,  5,     13,     13,2,19970925,1800, 22.7442,-157.9985, 4740,      4.4,  26.7769,  35.2323,2,  35.2323,2,    202.6,1,   -999.0,9,  -999.00,9,  -999.00,9,  -999.00,9,      4,-999.000,  -999.0, 26.7759
     33RR087_1,  PRS2,     2,  5,     12,     12,2,19970925,1800, 22.7442,-157.9985, 4740,     23.1,  26.7500,  35.2300,2,  35.2293,2,    202.6,1,   -999.0,9,  -999.00,9,  -999.00,9,  -999.00,9,     23,-999.000,  -999.0, 26.7448
     33RR087_1,  PRS2,     2,  5,     11,     11,2,19970925,1800, 22.7442,-157.9985, 4740,     44.3,  26.6093,  35.2084,2,  35.2095,2,    203.8,1,   -999.0,9,  -999.00,9,  -999.00,9,  -999.00,9,     44,-999.000,  -999.0, 26.5992
     33RR087_1,  PRS2,     2,  5,     10,     32,2,19970925,1800, 22.7442,-157.9985, 4740,     75.0,  24.8561,  35.0880,2,  35.0890,2,    221.3,1,   -999.0,9,  -999.00,9,  -999.00,9,  -999.00,9,     74,-999.000,  -999.0, 24.8399
     33RR087_1,  PRS2,     2,  5,      9,      3,2,19970925,1800, 22.7442,-157.9985, 4740,     99.5,  23.3375,  35.0546,2,  35.0543,2,    218.0,1,   -999.0,9,  -999.00,9,  -999.00,9,  -999.00,9,    100,-999.000,  -999.0, 23.3170
     33RR087_1,  PRS2,     2,  5,      8,     29,2,19970925,1800, 22.7442,-157.9985, 4740,    125.5,  22.8856,  35.0602,2,  35.0700,2,    209.1,1,   -999.0,9,  -999.00,9,  -999.00,9,  -999.00,9,    126,-999.000,  -999.0, 22.8601
     33RR087_1,  PRS2,     2,  5,      7,     28,2,19970925,1800, 22.7442,-157.9985, 4740,    128.0,  22.8230,  35.0609,2,  35.0616,2,    207.4,1,   -999.0,9,  -999.00,9,  -999.00,9,  -999.00,9,    129,-999.000,  -999.0, 22.7970
     33RR087_1,  PRS2,     2,  5,      6,      7,2,19970925,1800, 22.7442,-157.9985, 4740,    149.7,  22.1462,  35.0757,2,  35.0770,2,    195.4,1,   -999.0,9,  -999.00,9,  -999.00,9,  -999.00,9,    150,-999.000,  -999.0, 22.1165
     33RR087_1,  PRS2,     2,  5,      5,     38,2,19970925,1800, 22.7442,-157.9985, 4740,    172.2,  20.8939,  35.0811,2,  35.0797,2,    198.5,1,   -999.0,9,  -999.00,9,  -999.00,9,  -999.00,9,    172,-999.000,  -999.0, 20.8610
     33RR087_1,  PRS2,     2,  5,      4,     36,2,19970925,1800, 22.7442,-157.9985, 4740,    248.3,  16.7373,  34.7565,2,  34.7704,2,    198.1,1,   -999.0,9,  -999.00,9,  -999.00,9,  -999.00,9,    249,-999.000,  -999.0, 16.6968
     33RR087_1,  PRS2,     2,  5,      3,     35,2,19970925,1800, 22.7442,-157.9985, 4740,    500.6,   7.5996,  34.1170,2,  34.1186,2,    105.9,1,   -999.0,9,  -999.00,9,  -999.00,9,  -999.00,9,    501,-999.000,  -999.0,  7.5501
     33RR087_1,  PRS2,     2,  5,      2,     34,2,19970925,1800, 22.7442,-157.9985, 4740,    748.4,   4.7948,  34.2563,2,  34.2549,2,     28.7,1,   -999.0,9,  -999.00,9,  -999.00,9,  -999.00,9,    749,-999.000,  -999.0,  4.7353
     33RR087_1,  PRS2,     2,  5,      1,     33,2,19970925,1800, 22.7442,-157.9985, 4740,   1028.7,   3.9720,  34.4762,2,  34.4761,2,     41.0,1,   -999.0,9,  -999.00,9,  -999.00,9,  -999.00,9,   1029,-999.000,  -999.0,  3.8943
     33RR087_1,  PRS2,     2,  6,     24,     31,2,19970925,2049, 22.7547,-157.9948, 4741,      4.1,  26.8671,  35.2291,2,  35.2441,4,    203.4,3,    202.6,2,     1.01,2,     0.00,2,     0.03,2,      4,-999.000,  -999.0, 26.8661
     33RR087_1,  PRS2,     2,  6,     23,     30,2,19970925,2049, 22.7547,-157.9948, 4741,     38.7,  26.7218,  35.2201,2,  35.2246,2,    203.6,2,    203.1,2,     0.96,2,     0.00,2,     0.02,2,     39,-999.000,  -999.0, 26.7130
     33RR087_1,  PRS2,     2,  6,     22,     22,2,19970925,2049, 22.7547,-157.9948, 4741,     72.9,  25.0367,  35.0874,2,  35.0881,2,    218.0,2,    220.3,2,     1.01,2,     0.00,2,     0.02,2,     73,-999.000,  -999.0, 25.0208
     33RR087_1,  PRS2,     2,  6,     21,     21,2,19970925,2049, 22.7547,-157.9948, 4741,     90.0,  23.7774,  35.0612,2,  35.0622,2,    222.3,2,    224.1,2,     1.04,2,     0.00,2,     0.03,2,     89,-999.000,  -999.0, 23.7585
     33RR087_1,  PRS2,     2,  6,     20,     20,2,19970925,2049, 22.7547,-157.9948, 4741,    103.5,  23.2021,  35.0566,2,  35.0570,2,    215.7,2,    217.8,2,     1.04,2,     0.00,2,     0.05,2,    105,-999.000,  -999.0, 23.1808
     33RR087_1,  PRS2,     2,  6,     19,     19,2,19970925,2049, 22.7547,-157.9948, 4741,    161.2,  21.4011,  35.0734,2,  35.0709,2,    193.5,2,    196.5,2,     1.51,2,     0.82,2,     0.12,2,    160,-999.000,  -999.0, 21.3698
     33RR087_1,  PRS2,     2,  6,     18,     18,2,19970925,2049, 22.7547,-157.9948, 4741,    179.0,  20.3580,  35.0614,2,  35.0564,2,    195.4,2,    194.0,2,     1.87,2,     1.54,2,     0.17,2,    179,-999.000,  -999.0, 20.3245
     33RR087_1,  PRS2,     2,  6,     17,     17,2,19970925,2049, 22.7547,-157.9948, 4741,    204.6,  19.2300,  35.0032,2,  35.0019,2,    192.3,2,    195.7,2,     2.44,2,     2.04,2,     0.20,2,    205,-999.000,  -999.0, 19.1932
     33RR087_1,  PRS2,     2,  6,     16,     16,2,19970925,2049, 22.7547,-157.9948, 4741,    273.9,  15.9129,  34.6540,2,  34.6561,2,    194.6,2,    196.2,2,     5.01,2,     5.27,2,     0.41,2,    274,-999.000,  -999.0, 15.8697
     33RR087_1,  PRS2,     2,  6,     15,     15,2,19970925,2049, 22.7547,-157.9948, 4741,    297.3,  14.4663,  34.5006,2,  34.5028,2,    199.9,2,    200.9,2,     7.01,2,     6.95,2,     0.52,2,    298,-999.000,  -999.0, 14.4224
     33RR087_1,  PRS2,     2,  6,     14,     14,2,19970925,2049, 22.7547,-157.9948, 4741,    350.4,  11.7634,  34.2014,2,  34.2021,2,    166.5,2,    174.1,2,    13.37,2,    13.92,2,     1.03,2,    351,-999.000,  -999.0, 11.7184
     33RR087_1,  PRS2,     2,  6,     13,     13,2,19970925,2049, 22.7547,-157.9948, 4741,    390.7,  10.2829,  34.1400,2,  34.1394,2,    168.9,2,    167.5,2,    18.96,2,    17.56,2,     1.28,2,    390,-999.000,  -999.0, 10.2369
     33RR087_1,  PRS2,     2,  6,     12,     12,2,19970925,2049, 22.7547,-157.9948, 4741,    441.0,   9.1308,  34.1160,2,  34.1153,2,    155.8,2,    154.0,2,    26.75,2,    21.51,2,     1.55,2,    442,-999.000,  -999.0,  9.0823
     33RR087_1,  PRS2,     2,  6,     11,     11,2,19970925,2049, 22.7547,-157.9948, 4741,    515.8,   7.7711,  34.1195,2,  34.1201,2,    114.8,2,    110.6,2,    42.19,2,    28.10,2,     2.08,2,    517,-999.000,  -999.0,  7.7194
     33RR087_1,  PRS2,     2,  6,     10,     32,2,19970925,2049, 22.7547,-157.9948, 4741,    543.7,   6.9309,  34.0950,2,  34.0960,2,     95.3,2,     94.4,2,    51.22,2,    31.35,2,     2.29,2,    543,-999.000,  -999.0,  6.8798
     33RR087_1,  PRS2,     2,  6,      9,      3,2,19970925,2049, 22.7547,-157.9948, 4741,    588.0,   5.9917,  34.0864,2,  34.0867,2,     69.6,2,     70.6,2,    64.70,2,    35.19,2,     2.55,2,    588,-999.000,  -999.0,  5.9404
     33RR087_1,  PRS2,     2,  6,      8,     29,2,19970925,2049, 22.7547,-157.9948, 4741,    648.3,   5.4113,  34.1248,2,  34.1259,2,     47.8,2,     49.2,2,    77.53,2,    38.10,2,     2.77,2,    648,-999.000,  -999.0,  5.3573
     33RR087_1,  PRS2,     2,  6,      7,     28,2,19970925,2049, 22.7547,-157.9948, 4741,    692.5,   5.0808,  34.2070,2,  34.2102,2,     33.7,2,     31.4,2,    86.44,2,    40.17,2,     2.93,2,    693,-999.000,  -999.0,  5.0246
     33RR087_1,  PRS2,     2,  6,      6,      7,2,19970925,2049, 22.7547,-157.9948, 4741,    762.4,   4.7521,  34.2793,2,  34.2795,2,     26.9,2,     27.6,2,    95.02,2,    41.09,2,     3.00,2,    763,-999.000,  -999.0,  4.6916
     33RR087_1,  PRS2,     2,  6,      5,     38,2,19970925,2049, 22.7547,-157.9948, 4741,    799.6,   4.8149,  34.3658,2,  34.3650,2,     27.9,2,     27.4,2,    93.75,2,    41.16,2,     3.01,2,    800,-999.000,  -999.0,  4.7507
     33RR087_1,  PRS2,     2,  6,      4,     36,2,19970925,2049, 22.7547,-157.9948, 4741,    844.1,   4.5862,  34.4000,2,  34.4000,2,     30.0,2,     29.7,2,    98.41,2,    41.59,2,     3.02,2,    844,-999.000,  -999.0,  4.5197
     33RR087_1,  PRS2,     2,  6,      3,     35,2,19970925,2049, 22.7547,-157.9948, 4741,    900.8,   4.4352,  34.4350,2,  34.4342,2,     32.8,2,     34.7,2,   101.25,2,    41.73,2,     3.04,2,    903,-999.000,  -999.0,  4.3648
     33RR087_1,  PRS2,     2,  6,      2,     34,2,19970925,2049, 22.7547,-157.9948, 4741,    950.1,   4.2679,  34.4538,2,  34.4534,2,     35.7,2,     35.4,2,   104.70,2,    41.84,2,     3.04,2,    950,-999.000,  -999.0,  4.1945
     33RR087_1,  PRS2,     2,  6,      1,     33,2,19970925,2049, 22.7547,-157.9948, 4741,   1021.5,   4.0519,  34.4673,2,  34.4691,2,     39.3,2,     39.7,2,   109.38,2,    41.74,2,     3.03,2,   1022,-999.000,  -999.0,  3.9741
     33RR087_1,  PRS2,     2,  7,     24,     31,2,19970926,0033, 22.7737,-157.9838, 4725,      4.5,  26.8354,  35.2279,2,  35.2333,2,    203.3,2,    203.2,2,     1.07,2,     0.00,2,     0.04,2,      4,-999.000,  -999.0, 26.8344
     33RR087_1,  PRS2,     2,  7,     23,     30,2,19970926,0033, 22.7737,-157.9838, 4725,     60.7,  24.9393,  35.0837,2,  35.0975,2,    219.8,2,    221.6,2,     1.04,2,     0.00,2,     0.04,2,     61,-999.000,  -999.0, 24.9262
     33RR087_1,  PRS2,     2,  7,     22,     22,2,19970926,0033, 22.7737,-157.9838, 4725,    800.6,   4.7737,  34.3524,2,  34.3514,2,     28.4,2,     27.0,2,    93.80,2,    40.72,2,     2.92,2,    801,-999.000,  -999.0,  4.7097
     33RR087_1,  PRS2,     2,  7,     21,     21,2,19970926,0033, 22.7737,-157.9838, 4725,   1000.0,   3.9977,  34.4673,2,  34.4670,2,     40.1,2,     39.3,2,   109.79,2,    41.69,2,     2.98,2,    999,-999.000,  -999.0,  3.9221
     33RR087_1,  PRS2,     2,  7,     20,     20,2,19970926,0033, 22.7737,-157.9838, 4725,   1200.6,   3.4897,  34.5203,2,  34.5204,2,     51.2,2,     51.5,2,   121.11,2,    41.36,2,     2.96,2,   1200,-999.000,  -999.0,  3.4018
     33RR087_1,  PRS2,     2,  7,     19,     19,2,19970926,0033, 22.7737,-157.9838, 4725,   1400.1,   3.0316,  34.5523,2,  34.5528,2,     62.0,2,     62.4,2,   130.37,2,    41.15,2,     2.94,2,   1400,-999.000,  -999.0,  2.9317
     33RR087_1,  PRS2,     2,  7,     18,     18,2,19970926,0033, 22.7737,-157.9838, 4725,   1600.0,   2.6609,  34.5803,2,  34.5795,2,     69.8,2,     69.4,2,   138.86,2,    40.91,2,     2.91,2,   1599,-999.000,  -999.0,  2.5488
     33RR087_1,  PRS2,     2,  7,     17,     17,2,19970926,0033, 22.7737,-157.9838, 4725,   1799.8,   2.3503,  34.6003,2,  34.6012,2,     78.4,2,     78.4,2,   146.12,2,    40.37,2,     2.87,2,   1800,-999.000,  -999.0,  2.2256
     33RR087_1,  PRS2,     2,  7,     16,     16,2,19970926,0033, 22.7737,-157.9838, 4725,   2000.2,   2.1092,  34.6161,2,  34.6160,2,     85.6,2,     86.6,2,   152.14,2,    39.88,2,     2.82,2,   1999,-999.000,  -999.0,  1.9711
     33RR087_1,  PRS2,     2,  7,     15,     15,2,19970926,0033, 22.7737,-157.9838, 4725,   2200.8,   1.9045,  34.6312,2,  34.6310,2,     93.6,2,     93.8,2,   157.72,2,    39.58,2,     2.78,2,   2201,-999.000,  -999.0,  1.7525
     33RR087_1,  PRS2,     2,  7,     14,     14,2,19970926,0033, 22.7737,-157.9838, 4725,   2399.9,   1.7586,  34.6452,2,  34.6450,2,    103.4,2,    104.9,2,   159.05,2,    38.98,2,     2.74,2,   2400,-999.000,  -999.0,  1.5917
     33RR087_1,  PRS2,     2,  7,     13,     13,2,19970926,0033, 22.7737,-157.9838, 4725,   2601.1,   1.6416,  34.6558,2,  34.6550,2,    112.0,2,    113.0,2,   160.25,2,    38.48,2,     2.70,2,   2601,-999.000,  -999.0,  1.4590
     33RR087_1,  PRS2,     2,  7,     12,     12,2,19970926,0033, 22.7737,-157.9838, 4725,   2801.5,   1.5733,  34.6638,2,  34.6641,2,    119.9,2,    120.0,2,   159.47,2,    38.00,2,     2.66,2,   2802,-999.000,  -999.0,  1.3736
     33RR087_1,  PRS2,     2,  7,     11,     11,2,19970926,0033, 22.7737,-157.9838, 4725,   3000.4,   1.5219,  34.6707,2,  34.6701,2,    127.0,2,    127.7,2,   158.28,2,    37.60,2,     2.62,2,   3001,-999.000,  -999.0,  1.3046
     33RR087_1,  PRS2,     2,  7,     10,     32,2,19970926,0033, 22.7737,-157.9838, 4725,   3199.7,   1.4935,  34.6748,2,  34.6750,2,    132.1,2,    133.2,2,   157.11,2,    37.28,2,     2.60,2,   3199,-999.000,  -999.0,  1.2576
     33RR087_1,  PRS2,     2,  7,      9,      3,2,19970926,0033, 22.7737,-157.9838, 4725,   3401.0,   1.4660,  34.6785,2,  34.6778,2,    137.7,2,    138.1,2,   155.88,2,    36.97,2,     2.58,2,   3401,-999.000,  -999.0,  1.2108
     33RR087_1,  PRS2,     2,  7,      8,     29,2,19970926,0033, 22.7737,-157.9838, 4725,   3600.1,   1.4551,  34.6814,2,  34.6822,2,    141.9,2,    142.2,2,   153.76,2,    36.50,2,     2.55,2,   3599,-999.000,  -999.0,  1.1798
     33RR087_1,  PRS2,     2,  7,      7,     28,2,19970926,0033, 22.7737,-157.9838, 4725,   3800.6,   1.4476,  34.6838,2,  34.6838,2,    145.6,2,    145.6,2,   152.53,2,    36.31,2,     2.53,2,   3798,-999.000,  -999.0,  1.1516
     33RR087_1,  PRS2,     2,  7,      6,      7,2,19970926,0033, 22.7737,-157.9838, 4725,   4001.1,   1.4525,  34.6856,2,  34.6860,2,    148.5,2,    148.2,2,   151.08,2,    36.17,2,     2.52,2,   4001,-999.000,  -999.0,  1.1348
     33RR087_1,  PRS2,     2,  7,      5,     38,2,19970926,0033, 22.7737,-157.9838, 4725,   4200.2,   1.4621,  34.6868,2,  34.6582,4,    150.7,3,    115.6,4,   160.26,4,    38.49,4,     2.71,4,   4198,-999.000,  -999.0,  1.1223
     33RR087_1,  PRS2,     2,  7,      4,     36,2,19970926,0033, 22.7737,-157.9838, 4725,   4400.9,   1.4753,  34.6878,2,  34.6858,2,    152.3,2,    152.7,2,   149.31,2,    36.13,2,     2.52,2,   4400,-999.000,  -999.0,  1.1125
     33RR087_1,  PRS2,     2,  7,      3,     35,2,19970926,0033, 22.7737,-157.9838, 4725,   4499.9,   1.4839,  34.6880,2,  34.6872,2,    152.9,2,    152.4,2,   149.24,2,    36.12,2,     2.51,2,   4498,-999.000,  -999.0,  1.1095
     33RR087_1,  PRS2,     2,  7,      2,     34,2,19970926,0033, 22.7737,-157.9838, 4725,   4601.1,   1.4911,  34.6887,2,  34.6868,2,    153.6,2,    152.7,2,   148.37,2,    35.95,2,     2.49,2,   4600,-999.000,  -999.0,  1.1047
     33RR087_1,  PRS2,     2,  7,      1,     33,2,19970926,0033, 22.7737,-157.9838, 4725,   4790.7,   1.5075,  34.6895,2,  34.6870,2,    155.0,2,    153.8,2,   147.96,2,    35.72,2,     2.49,2,   4790,-999.000,  -999.0,  1.0982