BOTTLE,20081126PRINUNIVRMK
EXPOCODE,SECT_ID,STNNBR,CASTNO,BTLNBR,BTLNBR_FLAG_W,DATE,LATITUDE,LONGITUDE,DEPTH,CTDPRS,CTDTMP,CTDSAL,CTDSAL_FLAG_W,SALNTY,SALNTY_FLAG_W,CTDOXY,CTDOXY_FLAG_W,OXYGEN,OXYGEN_FLAG_W,SILCAT,SILCAT_FLAG_W,NITRAT,NITRAT_FLAG_W,PHSPHT,PHSPHT_FLAG_W,CFC-11,CFC-11_FLAG_W,CFC-12,CFC-12_FLAG_W,CFC113,CFC113_FLAG_W,TCARBN,TCARBN_FLAG_W,ALKALI,ALKALI_FLAG_W,THETA
,,,,,,,,,METERS,DBARS,ITS-90,PSS-78,,PSS-78,,UMOL/KG,,UMOL/KG,,UMOL/KG,,UMOL/KG,,UMOL/KG,,PMOL/KG,,PMOL/KG,,PMOL/KG,,UMOL/KG,,UMOL/KG,,DEGC
  09AR20011029,  SR03,    93,  1,     24,2,20011127,-65.0228, 142.4427, 2774,      5.3,  -1.6740,  34.0950,2,  34.0920,2,    440.3,3,    338.3,2,    51.80,2,    28.88,2,     1.78,2,    5.511,2,    2.877,2,    0.490,2,   2184.2,6,   2300.9,2,  -1.67410391
  09AR20011029,  SR03,    93,  1,     23,2,20011127,-65.0228, 142.4427, 2774,     29.8,  -1.7010,  34.1370,2,  34.1350,2,    338.3,2,    334.9,2,    52.50,2,    29.26,2,     1.81,2, -999.000,9, -999.000,9, -999.000,9,   2188.5,2,   2303.4,6,  -1.70158692
  09AR20011029,  SR03,    93,  1,     22,2,20011127,-65.0228, 142.4427, 2774,     69.3,  -1.5420,  34.2570,4,  34.2680,2,    285.4,2,    312.7,2,    58.20,2,    30.31,2,     1.90,2,    4.941,2,    2.577,2,    0.450,2,   2206.0,2,   2312.8,2,  -1.54350654
  09AR20011029,  SR03,    93,  1,     21,2,20011127,-65.0228, 142.4427, 2774,    120.1,   0.0340,  34.5140,4,  34.5300,2,    240.7,2,    243.3,2,    76.40,2,    31.87,2,     2.02,2, -999.000,9, -999.000,9, -999.000,9,   2237.6,2,   2330.6,2,   0.02963918
  09AR20011029,  SR03,    93,  1,     20,2,20011127,-65.0228, 142.4427, 2774,    169.8,   0.5150,  34.5900,2,  34.5910,2,    228.0,2,    228.9,2,    81.00,2,    31.87,2,     2.02,2,    2.030,2,    1.030,2,    0.180,2,   2242.7,2,   2332.8,2,  0.508048071
  09AR20011029,  SR03,    93,  1,     19,2,20011127,-65.0228, 142.4427, 2774,    230.8,   1.1110,  34.6670,2,  34.6670,2,    210.4,2,    211.2,2,    86.00,2,    31.63,2,     2.00,2,    1.136,2,    0.563,2,    0.090,2,   2249.4,2,   2340.0,2,    1.1002436
  09AR20011029,  SR03,    93,  1,    218,2,20011127,-65.0228, 142.4427, 2774,    299.0,   1.1180,  34.6830,2,  34.6820,2,    210.7,2,    211.0,2,    88.20,2,    31.40,2,     1.99,2,    0.995,2,    0.493,2,    0.080,2,   2248.1,2,   2341.6,2,   1.10386162
  09AR20011029,  SR03,    93,  1,     17,2,20011127,-65.0228, 142.4427, 2774,    400.3,   1.2330,  34.7070,2,  34.7060,2,    206.8,2,    207.8,2,    91.80,2,    31.20,2,     1.98,2, -999.000,9, -999.000,9, -999.000,9,   2249.8,2,   2344.9,2,   1.21332237
  09AR20011029,  SR03,    93,  1,     16,2,20011127,-65.0228, 142.4427, 2774,    500.2,   1.1290,  34.7120,2,  34.7110,2,    207.9,2,    209.2,2,    96.30,2,    31.18,2,     1.99,2, -999.000,9, -999.000,9, -999.000,9,   2250.7,2,   2347.8,2,   1.10440324
  09AR20011029,  SR03,    93,  1,    715,2,20011127,-65.0228, 142.4427, 2774,    599.8,   1.0970,  34.7190,2,  34.7180,2,    206.7,2,    207.8,2,   101.70,2,    31.29,2,     1.99,2, -999.000,9, -999.000,9, -999.000,9,   -999.0,9,   -999.0,9,   1.06714033
  09AR20011029,  SR03,    93,  1,     14,2,20011127,-65.0228, 142.4427, 2774,    699.9,   0.9760,  34.7120,2,  34.7120,2,    208.9,2,    209.8,2,   103.50,2,    31.47,2,     2.00,2, -999.000,9, -999.000,9, -999.000,9,   2254.9,2,   2351.7,2,  0.941253281
  09AR20011029,  SR03,    93,  1,     13,2,20011127,-65.0228, 142.4427, 2774,    800.2,   0.9390,  34.7160,2,  34.7150,2,    207.9,2,    209.0,2,   108.20,2,    31.67,2,     2.01,2, -999.000,9, -999.000,9, -999.000,9,   -999.0,9,   -999.0,9,  0.898820583
  09AR20011029,  SR03,    93,  1,     12,2,20011127,-65.0228, 142.4427, 2774,    899.6,   0.8710,  34.7140,2,  34.7130,2,    209.9,2,    209.6,2,   110.90,2,    31.74,2,     2.02,2, -999.000,9, -999.000,9, -999.000,9,   2256.9,2,   2353.3,2,  0.825562076
  09AR20011029,  SR03,    93,  1,     11,2,20011127,-65.0228, 142.4427, 2774,    999.5,   0.7530,  34.7070,2,  34.7060,2,    211.1,2,    211.2,2,   113.40,2,    31.87,2,     2.04,2, -999.000,9, -999.000,9, -999.000,9,   -999.0,9,   -999.0,9,  0.702627015
  09AR20011029,  SR03,    93,  1,    310,2,20011127,-65.0228, 142.4427, 2774,   1199.0,   0.5910,  34.6990,2,  34.6980,2,    214.3,2,    213.6,2,   117.20,2,    32.17,2,     2.06,2, -999.000,9, -999.000,9, -999.000,9,   2258.9,2,   2354.3,2,  0.530105801
  09AR20011029,  SR03,    93,  1,    709,2,20011127,-65.0228, 142.4427, 2774,   1399.5,   0.4490,  34.6930,2,  34.6930,2,    217.2,2,    216.8,2,   121.60,2,    32.34,2,     2.07,2, -999.000,9, -999.000,9, -999.000,9,   -999.0,9,   -999.0,9,  0.377129427
  09AR20011029,  SR03,    93,  1,      8,2,20011127,-65.0228, 142.4427, 2774,   1599.9,   0.2920,  34.6880,2,  34.6880,2,    220.0,2,    219.8,2,   123.60,2,    32.34,2,     2.08,2,    0.424,2,    0.207,2,    0.030,2,   2260.6,2,   2354.7,2,  0.209119437
  09AR20011029,  SR03,    93,  1,      7,2,20011127,-65.0228, 142.4427, 2774,   1799.9,   0.1650,  34.6830,2,  34.6840,2,    224.5,2,    223.5,2,   124.80,2,    32.50,2,     2.08,2, -999.000,9, -999.000,9, -999.000,9,   -999.0,9,   -999.0,9, 0.0705216945
  09AR20011029,  SR03,    93,  1,      6,2,20011127,-65.0228, 142.4427, 2774,   1999.9,   0.0770,  34.6810,2,  34.6810,2,    228.1,2,    226.9,2,   126.30,2,    32.46,2,     2.07,2,    0.635,2,    0.310,2,    0.040,2,   2258.8,2,   2352.9,2, -0.029965182
  09AR20011029,  SR03,    93,  1,      5,2,20011127,-65.0228, 142.4427, 2774,   2199.8,  -0.0120,  34.6770,2,  34.6790,2,    231.7,2,    230.0,2,   122.00,2,    32.30,2,     2.06,2, -999.000,9, -999.000,9, -999.000,9,   -999.0,9,   -999.0,9, -0.131820274
  09AR20011029,  SR03,    93,  1,      4,2,20011127,-65.0228, 142.4427, 2774,   2399.8,  -0.1120,  34.6720,2,  34.6750,2,    236.9,2,    234.6,2,   120.50,2,    32.28,2,     2.07,2,    1.227,2,    0.595,2,    0.080,2,   2256.5,2,   2352.2,2, -0.244854453
  09AR20011029,  SR03,    93,  1,      3,2,20011127,-65.0228, 142.4427, 2774,   2599.9,  -0.3650,  34.6530,2,  34.6560,2,    247.2,2,    246.4,2,   105.40,2,    31.81,2,     2.04,2, -999.000,9, -999.000,9, -999.000,9,   -999.0,9,   -999.0,9, -0.508128497
  09AR20011029,  SR03,    93,  1,      2,2,20011127,-65.0228, 142.4427, 2774,   2749.7,  -0.6840,  34.6230,2,  34.6260,2,    261.3,2,    263.2,2,    95.70,2,    31.52,2,     2.01,2,    2.952,2,    1.507,2,    0.250,2,   2248.1,2,   2343.7,6, -0.831955234
  09AR20011029,  SR03,    93,  1,      1,2,20011127,-65.0228, 142.4427, 2774,   2836.1,  -0.6980,  34.6240,2,  34.6270,2,    261.7,2,    263.4,2,    95.20,2,    31.58,2,     2.00,2,    2.976,2,    1.519,2,    0.260,2,   2247.4,6,   2343.9,2, -0.852360851
  09AR20011029,  SR03,    94,  1,      1,2,20011127,-65.2553, 143.0802, 2942,      5.0,  -1.4600,  34.1600,2,  34.1570,2,    453.2,3,    354.3,2,    49.70,2,    26.81,2,     1.59,2,    5.443,2,    2.872,2,    0.490,2,   2174.7,6,   2306.2,2,  -1.46010804
  09AR20011029,  SR03,    94,  1,     24,2,20011127,-65.2553, 143.0802, 2942,     40.5,  -1.5560,  34.1870,2,  34.1850,2,    348.9,2,    350.4,2,    49.50,2,    27.01,2,     1.61,2, -999.000,9, -999.000,9, -999.000,9,   2179.1,6,   2308.8,2,  -1.55685744
  09AR20011029,  SR03,    94,  1,     23,2,20011127,-65.2553, 143.0802, 2942,     81.0,  -0.3210,  34.4960,2,  34.4960,2,    289.6,2,    255.4,2,    73.50,2,    31.63,2,     2.02,2, -999.000,9, -999.000,9, -999.000,9,   2232.9,2,   2326.8,6, -0.323661319
  09AR20011029,  SR03,    94,  1,     22,2,20011127,-65.2553, 143.0802, 2942,    120.3,   0.5790,  34.6030,2,  34.6010,2,    217.0,2,    225.4,2,    80.90,2,    31.86,2,     2.03,2, -999.000,9, -999.000,9, -999.000,9,   2243.0,2,   2334.6,2,  0.574061159
  09AR20011029,  SR03,    94,  1,     21,2,20011127,-65.2553, 143.0802, 2942,    160.0,   0.7440,  34.6290,3,  34.6260,2,    192.6,2,    220.2,2,    83.00,2,    31.82,2,     2.03,2, -999.000,9, -999.000,9, -999.000,9,   2245.4,2,   2336.8,2,  0.737145272
  09AR20011029,  SR03,    94,  1,     20,2,20011127,-65.2553, 143.0802, 2942,    200.7,   0.9490,  34.6570,3,  34.6560,2,    199.1,2,    214.2,2,    86.00,2,    31.66,2,     2.02,2, -999.000,9, -999.000,9, -999.000,9,   -999.0,9,   -999.0,9,  0.939974116
  09AR20011029,  SR03,    94,  1,     19,2,20011127,-65.2553, 143.0802, 2942,    299.7,   1.1810,  34.6970,3,  34.6950,2,    203.6,2,    207.6,2,    89.00,2,    31.36,2,     2.00,2,    0.814,2,    0.395,2,    0.060,2,   2249.4,2,   2343.2,2,    1.1666633
  09AR20011029,  SR03,    94,  1,    218,2,20011127,-65.2553, 143.0802, 2942,    400.5,   1.0790,  34.6980,2,  34.6970,2,    211.1,2,    210.0,2,    91.80,2,    31.25,2,     2.00,2, -999.000,9, -999.000,9, -999.000,9,   -999.0,9,   -999.0,9,   1.05982661
  09AR20011029,  SR03,    94,  1,     17,2,20011127,-65.2553, 143.0802, 2942,    500.6,   1.0900,  34.7130,2,  34.7120,2,    204.7,2,    207.9,2,    96.90,2,    31.12,2,     2.00,2,    0.512,2,    0.250,2,    0.040,2,   2251.1,2,   2348.3,2,   1.06554122
  09AR20011029,  SR03,    94,  1,     16,2,20011127,-65.2553, 143.0802, 2942,    600.3,   1.1070,  34.7180,2,  34.7180,2,    204.6,2,    207.5,2,    99.30,2,    31.27,2,     2.01,2,    0.392,2,    0.192,2,    0.030,2,   2253.3,2,   2350.8,2,   1.07706377
  09AR20011029,  SR03,    94,  1,    715,2,20011127,-65.2553, 143.0802, 2942,    702.7,   1.0320,  34.7180,2,  34.7180,2,    206.5,2,    208.2,2,   103.70,2,    31.39,2,     2.02,2,    0.320,2,    0.156,2,    0.030,2,   2253.4,2,   2351.7,2,  0.996768918
  09AR20011029,  SR03,    94,  1,     14,2,20011127,-65.2553, 143.0802, 2942,    899.7,   0.8490,  34.7110,2,  34.7100,2,    208.0,2,    209.7,2,   108.80,2,    31.94,2,     2.04,2,    0.310,2,    0.149,2,    0.020,2,   2256.8,2,   2354.1,2,  0.803721474
  09AR20011029,  SR03,    94,  1,     13,2,20011127,-65.2553, 143.0802, 2942,   1099.6,   0.7070,  34.7050,2,  34.7050,2,    211.0,2,    211.8,2,   114.30,2,    32.19,2,     2.06,2, -999.000,9, -999.000,9, -999.000,9,   -999.0,9,   -999.0,9,  0.651049516
  09AR20011029,  SR03,    94,  1,     12,2,20011127,-65.2553, 143.0802, 2942,   1300.8,   0.5360,  34.6970,2,  34.6980,2,    214.7,2,    214.5,2,   118.50,2,    32.30,2,     2.09,2,    0.280,2,    0.135,2,    0.020,2,   2258.7,2,   2354.7,2,  0.469377559
  09AR20011029,  SR03,    94,  1,     11,2,20011127,-65.2553, 143.0802, 2942,   1501.5,   0.3640,  34.6880,2,  34.6890,2,    218.5,2,    218.1,2,   120.30,2,    32.41,2,     2.08,2, -999.000,9, -999.000,9, -999.000,9,   -999.0,9,   -999.0,9,  0.286613372
  09AR20011029,  SR03,    94,  1,    310,2,20011127,-65.2553, 143.0802, 2942,   1699.3,   0.2350,  34.6840,2,  34.6840,2,    221.8,2,    221.7,2,   119.20,2,    32.40,2,     2.09,2,    0.634,2,    0.308,2,    0.040,2,   2258.9,2,   2353.1,2,  0.146313662
  09AR20011029,  SR03,    94,  1,    709,2,20011127,-65.2553, 143.0802, 2942,   1899.4,   0.1530,  34.6830,2,  34.6820,2,    225.2,2,    224.1,2,   118.00,2,    32.40,2,     2.09,2, -999.000,9, -999.000,9, -999.000,9,   -999.0,9,   -999.0,9, 0.0518861731
  09AR20011029,  SR03,    94,  1,      8,2,20011127,-65.2553, 143.0802, 2942,   2100.9,   0.0570,  34.6790,2,  34.6780,2,    229.1,2,    227.7,2,   114.10,2,    32.31,2,     2.08,2,    1.129,2,    0.550,2,    0.080,2,   2257.2,2,   2351.9,2,-0.0568135274
  09AR20011029,  SR03,    94,  1,      7,2,20011127,-65.2553, 143.0802, 2942,   2299.5,  -0.0430,  34.6740,2,  34.6750,2,    232.2,2,    231.8,2,   113.00,2,    32.24,2,     2.08,2, -999.000,9, -999.000,9, -999.000,9,   -999.0,9,   -999.0,9, -0.169601326
  09AR20011029,  SR03,    94,  1,      6,2,20011127,-65.2553, 143.0802, 2942,   2500.7,  -0.1460,  34.6670,2,  34.6700,2,    238.2,2,    236.9,2,   110.40,2,    32.17,2,     2.07,2, -999.000,9, -999.000,9, -999.000,9,   -999.0,9,   -999.0,9, -0.285865921
  09AR20011029,  SR03,    94,  1,      5,2,20011127,-65.2553, 143.0802, 2942,   2701.3,  -0.2850,  34.6570,2,  34.6600,2,    242.4,2,    243.2,2,   105.80,2,    31.88,2,     2.06,2, -999.000,9, -999.000,9, -999.000,9,   2252.4,2,   2347.6,2, -0.437662385
  09AR20011029,  SR03,    94,  1,      4,2,20011127,-65.2553, 143.0802, 2942,   2801.4,  -0.4780,  34.6400,2,  34.6420,2,    251.7,2,    255.1,2,    99.40,2,    31.71,2,     2.04,2, -999.000,9, -999.000,9, -999.000,9,   -999.0,9,   -999.0,9,  -0.63443594
  09AR20011029,  SR03,    94,  1,      3,2,20011127,-65.2553, 143.0802, 2942,   2900.9,  -0.5560,  34.6360,2,  34.6380,2,    253.1,2,    256.8,2,    97.80,2,    31.69,2,     2.05,2,    2.679,2,    1.372,2,    0.220,2,   2248.5,2,   2344.7,2, -0.718648249
  09AR20011029,  SR03,    94,  1,      2,2,20011127,-65.2553, 143.0802, 2942,   3007.5,  -0.6250,  34.6270,2,  34.6300,2,    256.7,2,    261.5,2,    95.70,2,    31.62,2,     2.04,2,    2.861,2,    1.462,2,    0.250,2,   2247.2,2,   2343.6,6,   -0.7946684
  09AR20011029,  SR03,    95,  1,     24,2,20011127,-65.5327, 143.1722, 2662,     10.3,  -1.5500,  34.1910,3,  34.1700,0,    496.1,3,    353.6,2,    51.40,2,    26.79,2,     1.56,2,    5.370,2,    2.852,2,    0.490,2,   2177.0,6,   2308.3,2,         -999
  09AR20011029,  SR03,    95,  1,     23,2,20011127,-65.5327, 143.1722, 2662,     39.6,  -1.7130,  34.2820,2,  34.2940,0,    361.6,2,    324.7,2,    56.00,2,    29.14,2,     1.81,2,    4.891,2,    2.597,2,    0.440,2,   2201.4,2,   2314.7,6,  -1.71379103
  09AR20011029,  SR03,    95,  1,     22,2,20011127,-65.5327, 143.1722, 2662,     80.5,  -1.4910,  34.4030,2,  34.4090,2,    299.0,2,    295.2,2,    67.30,2,    31.00,2,     1.95,2,    4.305,2,    2.271,2,    0.380,2,   2221.0,2,   2323.2,2,   -1.4928169
  09AR20011029,  SR03,    95,  1,     21,2,20011127,-65.5327, 143.1722, 2662,    119.6,  -0.8750,  34.4770,2,  34.4770,2,    269.2,2,    273.3,2,    74.60,2,    30.32,2,     1.98,2,    3.565,2,    1.878,2,    0.320,2,   2229.7,2,   2327.0,2, -0.878399467
  09AR20011029,  SR03,    95,  1,     20,2,20011127,-65.5327, 143.1722, 2662,    159.5,  -0.4220,  34.5260,3,  34.5270,2,    262.7,2,    258.0,2,    79.40,2,    31.32,2,     2.00,2,    2.984,2,    1.548,2,    0.260,2,   2235.9,2,   2330.6,2, -0.427229059
  09AR20011029,  SR03,    95,  1,     19,2,20011127,-65.5327, 143.1722, 2662,    199.2,  -0.3460,  34.5510,2,  34.5510,2,    253.0,2,    254.6,2,    83.20,2,    31.33,2,     2.00,2,    2.742,3,    1.422,3,    0.230,3,   2239.4,2,   2334.0,2, -0.352742495
  09AR20011029,  SR03,    95,  1,    218,2,20011127,-65.5327, 143.1722, 2662,    249.9,  -0.0670,  34.5850,2,  34.5850,2,    241.0,2,    244.4,2,    86.40,2,    31.37,2,     1.99,2, -999.000,9, -999.000,9, -999.000,9,   2243.6,2,   2335.4,2,-0.0761834188
  09AR20011029,  SR03,    95,  1,     17,2,20011127,-65.5327, 143.1722, 2662,    300.8,   0.4790,  34.6390,2,  34.6370,2,    222.1,2,    227.2,2,    89.70,2,    31.39,2,     2.00,2,    1.639,2,    0.828,2,    0.140,2,   2245.7,2,   2339.6,2,  0.466396548
  09AR20011029,  SR03,    95,  1,     16,2,20011127,-65.5327, 143.1722, 2662,    400.5,   0.8060,  34.6800,2,  34.6800,2,    213.7,2,    215.9,2,    95.50,2,    31.28,2,     2.00,2, -999.000,9, -999.000,9, -999.000,9,   2251.3,2,   2343.4,2,  0.787743026
  09AR20011029,  SR03,    95,  1,    715,2,20011127,-65.5327, 143.1722, 2662,    500.5,   0.8000,  34.6890,2,  34.6880,2,    214.6,2,    214.4,2,    99.40,2,    31.45,2,     2.00,2,    0.849,2,    0.421,2,    0.070,2,   2252.1,2,   2347.9,2,   0.77676318
  09AR20011029,  SR03,    95,  1,     14,2,20011127,-65.5327, 143.1722, 2662,    600.6,   0.7970,  34.6960,2,  34.6950,2,    212.5,2,    211.6,2,   104.40,2,    31.61,2,     2.02,2, -999.000,9, -999.000,9, -999.000,9,   2255.2,2,   2348.5,2,  0.768598128
  09AR20011029,  SR03,    95,  1,     13,2,20011127,-65.5327, 143.1722, 2662,    700.0,   0.7300,  34.6970,2,  34.6960,2,    212.4,2,    211.8,2,   104.30,2,    31.50,2,     2.02,2,    0.570,2,    0.281,2,    0.040,2,   2256.6,2,   2351.9,6,  0.696675349
  09AR20011029,  SR03,    95,  1,     12,2,20011127,-65.5327, 143.1722, 2662,    800.6,   0.6660,  34.6950,2,  34.6940,2,    213.4,2,    212.6,2,   109.80,2,    31.29,2,     2.04,2, -999.000,9, -999.000,9, -999.000,9,   2258.2,6,   2351.3,2,  0.627608084
  09AR20011029,  SR03,    95,  1,     11,2,20011127,-65.5327, 143.1722, 2662,    950.3,   0.5760,  34.6940,2,  34.6940,2,    213.0,2,    213.1,2,   115.40,2,    31.96,2,     2.05,2,    0.459,2,    0.224,2,    0.030,2,   2259.2,2,   2353.7,2,  0.529892467
  09AR20011029,  SR03,    95,  1,    310,2,20011127,-65.5327, 143.1722, 2662,   1100.9,   0.4580,  34.6920,2,  34.6920,2,    215.9,2,    215.4,2,   119.10,2,    32.34,2,     2.07,2,    0.447,2,    0.215,2,    0.030,2,   2259.8,2,   2353.2,2,  0.404208173
  09AR20011029,  SR03,    95,  1,    709,2,20011127,-65.5327, 143.1722, 2662,   1300.8,   0.3190,  34.6850,2,  34.6850,2,    221.4,2,    219.0,2,   118.90,2,    32.40,2,     2.08,2,    0.622,2,    0.305,2,    0.040,2,   2259.7,2,   2353.0,2,  0.254670878
  09AR20011029,  SR03,    95,  1,      8,2,20011127,-65.5327, 143.1722, 2662,   1500.1,   0.2060,  34.6810,2,  34.6820,2,    223.5,2,    221.9,2,   118.70,2,    32.22,2,     2.08,2, -999.000,9, -999.000,9, -999.000,9,   2260.0,2,   2353.2,2,  0.130610287
  09AR20011029,  SR03,    95,  1,      7,2,20011127,-65.5327, 143.1722, 2662,   1700.3,   0.1160,  34.6790,2,  34.6800,2,    227.7,2,    225.1,2,   116.20,2,    32.25,2,     2.08,2,    1.013,2,    0.491,2,    0.080,2,   2257.8,2,   2352.4,2, 0.0288598533
  09AR20011029,  SR03,    95,  1,      6,2,20011127,-65.5327, 143.1722, 2662,   1900.2,   0.0420,  34.6790,2,  34.6780,2,    230.7,2,    228.0,2,   116.70,2,    32.15,2,     2.07,2, -999.000,9, -999.000,9, -999.000,9,   2258.9,2,   2352.2,2, -0.057499436
  09AR20011029,  SR03,    95,  1,      5,2,20011127,-65.5327, 143.1722, 2662,   2200.1,  -0.1020,  34.6690,2,  34.6740,2,    236.2,2,    233.5,2,   119.40,2,    32.20,2,     2.07,2,    1.213,2,    0.591,2,    0.090,2,   2257.8,2,   2352.6,3, -0.220284137
  09AR20011029,  SR03,    95,  1,      4,2,20011127,-65.5327, 143.1722, 2662,   2400.1,  -0.2750,  34.6600,2,  34.6620,2,    244.7,2,    242.0,2,   106.90,2,    31.81,2,     2.04,2,    1.982,2,    0.993,2,    0.160,2,   2253.6,2,   2347.2,2, -0.404802081
  09AR20011029,  SR03,    95,  1,      3,2,20011127,-65.5327, 143.1722, 2662,   2549.9,  -0.4410,  34.6450,2,  34.6480,2,    250.9,2,    250.5,2,   100.20,2,    31.69,2,     2.04,2,    2.435,2,    1.239,2,    0.200,2,   2252.5,2,   2345.5,2, -0.578782835
  09AR20011029,  SR03,    95,  1,      2,2,20011127,-65.5327, 143.1722, 2662,   2648.1,  -0.5090,  34.6380,2,  34.6390,2,    257.0,2,    254.8,2,    98.40,2,    31.38,2,     2.02,2,    2.620,2,    1.342,2,    0.220,2,   2249.8,2,   2344.8,6, -0.652844617
  09AR20011029,  SR03,    95,  1,      1,2,20011127,-65.5327, 143.1722, 2662,   2716.3,  -0.5330,  34.6340,2,  34.6370,2,    253.6,2,    265.8,2,    97.80,2,    31.51,2,     2.03,2,    2.655,2,    1.359,2,    0.220,2,   2248.7,6,   2345.3,2, -0.681591203