BOTTLE,20081126PRINUNIVRMK
EXPOCODE,SECT_ID,STNNBR,CASTNO,BTLNBR,BTLNBR_FLAG_W,DATE,LATITUDE,LONGITUDE,DEPTH,CTDPRS,CTDTMP,CTDSAL,CTDSAL_FLAG_W,SALNTY,SALNTY_FLAG_W,CTDOXY,CTDOXY_FLAG_W,OXYGEN,OXYGEN_FLAG_W,SILCAT,SILCAT_FLAG_W,NITRAT,NITRAT_FLAG_W,PHSPHT,PHSPHT_FLAG_W,CFC-11,CFC-11_FLAG_W,CFC-12,CFC-12_FLAG_W,CFC113,CFC113_FLAG_W,TCARBN,TCARBN_FLAG_W,ALKALI,ALKALI_FLAG_W,THETA
,,,,,,,,,METERS,DBARS,ITS-90,PSS-78,,PSS-78,,UMOL/KG,,UMOL/KG,,UMOL/KG,,UMOL/KG,,UMOL/KG,,PMOL/KG,,PMOL/KG,,PMOL/KG,,UMOL/KG,,UMOL/KG,,DEGC
  09AR20011029,  SR03,   123,  1,     24,2,20011204,-64.8757, 139.8775, 2472,      6.1,  -1.4510,  34.2860,2,-999.0000,9,   -999.0,5,   -999.0,9,    60.00,2,    29.50,3,     1.86,3, -999.000,9, -999.000,9, -999.000,9,   -999.0,9,   -999.0,9,   -1.4511339
  09AR20011029,  SR03,   123,  1,     23,2,20011204,-64.8757, 139.8775, 2472,      6.2,  -1.4520,  34.2860,2,  34.2860,2,   -999.0,5,   -999.0,9,  -999.00,9,  -999.00,9,  -999.00,9, -999.000,9, -999.000,9, -999.000,9,   -999.0,9,   -999.0,9,  -1.45213604
  09AR20011029,  SR03,   123,  1,     22,2,20011204,-64.8757, 139.8775, 2472,     21.5,  -1.4520,  34.2870,2,-999.0000,9,   -999.0,5,   -999.0,9,    60.00,2,    29.49,3,     1.87,3, -999.000,9, -999.000,9, -999.000,9,   -999.0,9,   -999.0,9,  -1.45247503
  09AR20011029,  SR03,   123,  1,     21,2,20011204,-64.8757, 139.8775, 2472,     21.5,  -1.4520,  34.2870,2,  34.2870,2,   -999.0,5,   -999.0,9,  -999.00,9,  -999.00,9,  -999.00,9, -999.000,9, -999.000,9, -999.000,9,   -999.0,9,   -999.0,9,  -1.45247503
  09AR20011029,  SR03,   123,  1,     20,2,20011204,-64.8757, 139.8775, 2472,     21.5,  -1.4520,  34.2870,2,-999.0000,9,   -999.0,5,   -999.0,9,  -999.00,9,  -999.00,9,  -999.00,9, -999.000,9, -999.000,9, -999.000,9,   -999.0,9,   -999.0,9,  -1.45247503
  09AR20011029,  SR03,   123,  1,     19,2,20011204,-64.8757, 139.8775, 2472,     41.5,  -1.4380,  34.2990,2,  34.2990,2,   -999.0,5,   -999.0,9,  -999.00,9,  -999.00,9,  -999.00,9, -999.000,9, -999.000,9, -999.000,9,   -999.0,9,   -999.0,9,  -1.43893112
  09AR20011029,  SR03,   123,  1,    218,2,20011204,-64.8757, 139.8775, 2472,     41.5,  -1.4380,  34.2990,2,-999.0000,9,   -999.0,5,   -999.0,9,    60.10,2,    29.57,3,     1.87,3, -999.000,9, -999.000,9, -999.000,9,   -999.0,9,   -999.0,9,  -1.43893112
  09AR20011029,  SR03,   123,  1,     13,2,20011204,-64.8757, 139.8775, 2472,     61.5,  -1.4330,  34.3010,2,  34.3010,2,   -999.0,5,   -999.0,9,  -999.00,9,  -999.00,9,  -999.00,9, -999.000,9, -999.000,9, -999.000,9,   -999.0,9,   -999.0,9,  -1.43439481
  09AR20011029,  SR03,   123,  1,     14,2,20011204,-64.8757, 139.8775, 2472,     61.6,  -1.4320,  34.3010,2,-999.0000,9,   -999.0,5,   -999.0,9,    59.90,2,    29.66,3,     1.87,3, -999.000,9, -999.000,9, -999.000,9,   -999.0,9,   -999.0,9,  -1.43339768
  09AR20011029,  SR03,   123,  1,     17,2,20011204,-64.8757, 139.8775, 2472,     61.7,  -1.4320,  34.3000,2,-999.0000,9,   -999.0,5,   -999.0,9,  -999.00,9,  -999.00,9,  -999.00,9, -999.000,9, -999.000,9, -999.000,9,   -999.0,9,   -999.0,9,  -1.43339989
  09AR20011029,  SR03,   123,  1,     16,2,20011204,-64.8757, 139.8775, 2472,     61.7,  -1.4290,  34.3010,2,-999.0000,9,   -999.0,5,   -999.0,9,  -999.00,9,  -999.00,9,  -999.00,9, -999.000,9, -999.000,9, -999.000,9,   -999.0,9,   -999.0,9,  -1.43040162
  09AR20011029,  SR03,   123,  1,    715,2,20011204,-64.8757, 139.8775, 2472,     61.7,  -1.4300,  34.3020,2,-999.0000,9,   -999.0,5,   -999.0,9,  -999.00,9,  -999.00,9,  -999.00,9, -999.000,9, -999.000,9, -999.000,9,   -999.0,9,   -999.0,9,   -1.4314012
  09AR20011029,  SR03,   123,  1,     12,2,20011204,-64.8757, 139.8775, 2472,     81.7,  -1.4460,  34.3030,2,-999.0000,9,   -999.0,5,   -999.0,9,    59.00,2,    29.82,3,     1.88,3, -999.000,9, -999.000,9, -999.000,9,   -999.0,9,   -999.0,9,  -1.44786014
  09AR20011029,  SR03,   123,  1,     11,2,20011204,-64.8757, 139.8775, 2472,     81.7,  -1.4470,  34.3030,2,  34.3040,2,   -999.0,5,   -999.0,9,  -999.00,9,  -999.00,9,  -999.00,9, -999.000,9, -999.000,9, -999.000,9,   -999.0,9,   -999.0,9,  -1.44885958
  09AR20011029,  SR03,   123,  1,    310,2,20011204,-64.8757, 139.8775, 2472,    101.3,  -1.4460,  34.3060,2,-999.0000,9,   -999.0,5,   -999.0,9,    59.30,2,    29.82,3,     1.88,3, -999.000,9, -999.000,9, -999.000,9,   -999.0,9,   -999.0,9,  -1.44832638
  09AR20011029,  SR03,   123,  1,    709,2,20011204,-64.8757, 139.8775, 2472,    101.3,  -1.4430,  34.3060,2,  34.3070,2,   -999.0,5,   -999.0,9,  -999.00,9,  -999.00,9,  -999.00,9, -999.000,9, -999.000,9, -999.000,9,   -999.0,9,   -999.0,9,  -1.44532923
  09AR20011029,  SR03,   123,  1,      8,2,20011204,-64.8757, 139.8775, 2472,    121.1,  -1.5560,  34.3340,2,-999.0000,9,   -999.0,5,   -999.0,9,    59.80,2,    30.85,3,     1.97,3, -999.000,9, -999.000,9, -999.000,9,   -999.0,9,   -999.0,9,    -1.558695
  09AR20011029,  SR03,   123,  1,      7,2,20011204,-64.8757, 139.8775, 2472,    121.1,  -1.5540,  34.3330,2,  34.3390,2,   -999.0,5,   -999.0,9,  -999.00,9,  -999.00,9,  -999.00,9, -999.000,9, -999.000,9, -999.000,9,   -999.0,9,   -999.0,9,  -1.55669829
  09AR20011029,  SR03,   123,  1,      6,2,20011204,-64.8757, 139.8775, 2472,    151.5,  -1.0010,  34.4200,2,-999.0000,9,   -999.0,5,   -999.0,9,    67.10,2,    31.66,3,     2.01,3, -999.000,9, -999.000,9, -999.000,9,   -999.0,9,   -999.0,9,  -1.00517104
  09AR20011029,  SR03,   123,  1,      5,2,20011204,-64.8757, 139.8775, 2472,    151.5,  -1.0000,  34.4210,2,  34.4240,2,   -999.0,5,   -999.0,9,  -999.00,9,  -999.00,9,  -999.00,9, -999.000,9, -999.000,9, -999.000,9,   -999.0,9,   -999.0,9,  -1.00417351
  09AR20011029,  SR03,   123,  1,      4,2,20011204,-64.8757, 139.8775, 2472,    201.1,  -0.4280,  34.5070,2,  34.5070,2,   -999.0,5,   -999.0,9,    74.30,2,    31.87,3,     2.02,3, -999.000,9, -999.000,9, -999.000,9,   -999.0,9,   -999.0,9, -0.434653022
  09AR20011029,  SR03,   123,  1,      3,2,20011204,-64.8757, 139.8775, 2472,    251.4,   0.0210,  34.5650,2,  34.5650,2,   -999.0,5,   -999.0,9,    79.60,2,    31.95,3,     2.04,3, -999.000,9, -999.000,9, -999.000,9,   -999.0,9,   -999.0,9,  0.011580424
  09AR20011029,  SR03,   123,  1,      2,2,20011204,-64.8757, 139.8775, 2472,    303.8,   0.3630,  34.6140,4,  34.6080,2,   -999.0,5,   -999.0,9,    83.60,2,    31.91,3,     2.04,3, -999.000,9, -999.000,9, -999.000,9,   -999.0,9,   -999.0,9,  0.350574133
  09AR20011029,  SR03,   123,  1,      1,2,20011204,-64.8757, 139.8775, 2472,    502.0,   0.7620,  34.6760,2,  34.6750,2,   -999.0,5,   -999.0,9,    93.10,2,    31.78,3,     2.04,3, -999.000,9, -999.000,9, -999.000,9,   -999.0,9,   -999.0,9,  0.738856315
  09AR20011029,  SR03,   124,  1,     24,2,20011204,-64.8700, 139.8680, 2490,     10.6,  -1.3980,  34.2860,2,  34.2860,2,    378.9,3,    346.7,2,    59.90,2,    29.22,3,     1.84,3,    6.003,2,    3.097,2,    0.540,2,   2199.8,6,   2315.9,2,  -1.39823806
  09AR20011029,  SR03,   124,  1,     23,2,20011204,-64.8700, 139.8680, 2490,     40.5,  -1.4230,  34.3000,2,  34.3000,2,    342.6,2,    338.8,2,    59.10,2,    29.78,3,     1.85,3,    5.711,2,    2.969,2,    0.540,2,   2201.0,2,   2315.7,2,  -1.42391367
  09AR20011029,  SR03,   124,  1,     22,2,20011204,-64.8700, 139.8680, 2490,     80.8,  -1.4410,  34.3020,2,  34.3030,2,    332.9,2,    336.2,2,    58.90,2,    29.94,3,     1.87,3,    5.662,2,    2.932,2,    0.530,2,   2203.0,2,   2315.1,2,  -1.44284246
  09AR20011029,  SR03,   124,  1,     21,2,20011204,-64.8700, 139.8680, 2490,    120.9,  -1.7020,  34.3340,2,  34.3340,2,    312.8,2,    328.0,2,    59.20,2,    30.32,3,     1.90,3,    5.344,2,    2.770,2,    0.510,2,   -999.0,9,   2317.9,2,  -1.70453613
  09AR20011029,  SR03,   124,  1,     20,2,20011204,-64.8700, 139.8680, 2490,    160.6,  -1.6530,  34.3750,3,  34.3760,2,    292.5,2,    304.7,2,    62.30,2,    31.15,3,     1.96,3,    4.710,2,    2.414,2,    0.440,2,   2214.6,2,   2320.4,2,  -1.65651357
  09AR20011029,  SR03,   124,  1,     19,2,20011204,-64.8700, 139.8680, 2490,    200.8,  -0.7460,  34.4610,2,  34.4590,2,    269.8,2,    271.9,2,    70.40,2,    31.79,3,     1.99,3,    3.593,2,    1.842,2,    0.330,2,   2227.3,2,   2324.9,2, -0.752078042
  09AR20011029,  SR03,   124,  1,    218,2,20011204,-64.8700, 139.8680, 2490,    250.8,  -0.1120,  34.5510,2,-999.0000,9,    243.2,2,   -999.0,9,  -999.00,9,  -999.00,9,  -999.00,9, -999.000,9, -999.000,9, -999.000,9,   -999.0,9,   -999.0,9, -0.121107009
  09AR20011029,  SR03,   124,  1,     17,2,20011204,-64.8700, 139.8680, 2490,    300.7,   0.1970,  34.5920,2,  34.5890,2,    233.8,2,    238.9,2,    81.30,2,    31.83,3,     2.01,3,    2.251,2,    1.129,2,    0.200,2,   2238.7,2,   2336.7,2,  0.185138948
  09AR20011029,  SR03,   124,  1,     16,2,20011204,-64.8700, 139.8680, 2490,    400.7,   0.5870,  34.6500,2,  34.6480,2,    221.7,2,    225.0,2,    88.10,2,    31.82,3,     2.03,3,    1.504,2,    0.738,2,    0.130,2,   2246.3,2,   2341.0,2,  0.569485181
  09AR20011029,  SR03,   124,  1,    715,2,20011204,-64.8700, 139.8680, 2490,    500.8,   0.7720,  34.6800,2,  34.6790,2,    216.3,2,    218.1,2,    93.90,2,    31.79,3,     2.02,3,    1.027,2,    0.503,2,    0.090,2,   2248.6,2,   2345.7,2,  0.748871898
  09AR20011029,  SR03,   124,  1,     14,2,20011204,-64.8700, 139.8680, 2490,    600.8,   0.7770,  34.6900,2,  34.6890,2,    215.1,2,    216.0,2,    98.50,2,    31.85,3,     2.03,3,    0.824,2,    0.404,2,    0.070,2,   -999.0,9,   2348.6,2,  0.748692922
  09AR20011029,  SR03,   124,  1,     13,2,20011204,-64.8700, 139.8680, 2490,    700.8,   0.7510,  34.6930,2,  34.6930,2,    214.4,2,    214.6,2,   102.10,2,    31.97,3,     2.04,3,    0.690,2,    0.337,2,    0.060,2,   2253.2,2,   2350.5,6,  0.717515726
  09AR20011029,  SR03,   124,  1,     12,2,20011204,-64.8700, 139.8680, 2490,    800.3,   0.6950,  34.6930,2,  34.6930,2,    215.0,2,    215.3,2,   105.30,2,    32.28,3,     2.06,3,    0.629,2,    0.311,2,    0.050,2,   2254.4,6,   2350.8,2,  0.656436633
  09AR20011029,  SR03,   124,  1,     11,2,20011204,-64.8700, 139.8680, 2490,    900.6,   0.6570,  34.6980,2,  34.6960,2,    215.0,2,    213.8,2,   109.90,2,    32.43,3,     2.04,3,    0.459,2,    0.220,2,    0.040,2,   2256.0,2,   2354.9,2,  0.613095196
  09AR20011029,  SR03,   124,  1,    310,2,20011204,-64.8700, 139.8680, 2490,   1000.5,   0.6080,  34.6960,2,  34.6950,2,    215.6,2,    214.7,2,   111.40,2,    32.48,3,     2.08,3,    0.482,6,    0.235,6,    0.040,6,   2255.5,2,   2354.6,2,  0.558761414
  09AR20011029,  SR03,   124,  1,    709,2,20011204,-64.8700, 139.8680, 2490,   1100.5,   0.5310,  34.6920,2,  34.6920,2,    218.0,2,    215.3,2,   113.90,2,    32.58,3,     2.08,3,    0.450,2,    0.215,2,    0.030,2,   2256.8,2,   2354.3,2,  0.476582563
  09AR20011029,  SR03,   124,  1,      8,2,20011204,-64.8700, 139.8680, 2490,   1300.3,   0.3640,  34.6870,2,  34.6860,2,    221.6,2,    218.7,2,   116.80,2,    32.70,3,     2.10,3,    0.538,2,    0.262,2,    0.040,2,   2258.3,2,   2354.7,2,  0.299229126
  09AR20011029,  SR03,   124,  1,      7,2,20011204,-64.8700, 139.8680, 2490,   1501.2,   0.2740,  34.6860,2,  34.6860,2,    224.1,2,    218.7,2,   116.80,2,    32.77,3,     2.10,3,    0.548,2,    0.268,2,    0.040,2,   2258.0,2,   2355.0,2,  0.197716384
  09AR20011029,  SR03,   124,  1,      6,2,20011204,-64.8700, 139.8680, 2490,   1699.9,   0.1050,  34.6750,2,  34.6760,2,    229.6,2,    226.1,2,   114.10,2,    32.67,3,     2.09,3,    1.008,2,    0.484,2,    0.080,2,   2255.9,2,   2351.5,2, 0.0180463517
  09AR20011029,  SR03,   124,  1,      5,2,20011204,-64.8700, 139.8680, 2490,   1900.3,  -0.0940,  34.6640,2,  34.6760,0,    235.5,2,    226.3,2,   114.10,2,    32.81,3,     2.10,3,    1.010,2,    0.489,2,    0.080,2,   2255.5,2,   2352.2,2, -0.191425693
  09AR20011029,  SR03,   124,  1,      4,2,20011204,-64.8700, 139.8680, 2490,   2100.3,  -0.2060,  34.6610,2,  34.6620,2,    238.8,2,    239.2,2,   108.50,2,    32.58,3,     2.08,3,    1.737,2,    0.857,2,    0.150,2,   2254.0,2,   2349.2,2, -0.315399091
  09AR20011029,  SR03,   124,  1,      3,2,20011204,-64.8700, 139.8680, 2490,   2301.1,  -0.4750,  34.6410,2,  34.6420,2,    249.2,2,    252.9,2,    99.70,2,    32.30,3,     2.06,3,    2.442,2,    1.215,2,    0.210,2,   2249.3,2,   2345.8,2, -0.593871387
  09AR20011029,  SR03,   124,  1,      2,2,20011204,-64.8700, 139.8680, 2490,   2451.2,  -0.5370,  34.6430,2,  34.6460,2,    251.6,2,    257.5,2,    98.90,2,    32.40,3,     2.06,3,    2.603,2,    1.320,2,    0.240,2,   2249.0,2,   2345.8,6, -0.665584152
  09AR20011029,  SR03,   124,  1,      1,2,20011204,-64.8700, 139.8680, 2490,   2550.0,  -0.5480,  34.6450,2,  34.6460,2,    252.7,2,    258.2,2,    98.30,2,    32.47,3,     2.06,3,    2.641,2,    1.328,2,    0.230,2,   2247.6,6,   2347.2,2, -0.683678841
  09AR20011029,  SR03,   125,  1,     24,2,20011205,-64.5080, 139.8957, 3052,      5.3,  -1.3670,  34.0470,2,  34.0470,2,    401.2,3,    346.6,2,    52.50,2,    28.81,2,     1.82,2,    5.948,2,    3.076,2,    0.540,2,   2178.9,6,   2298.7,2,  -1.36711772
  09AR20011029,  SR03,   125,  1,     23,2,20011205,-64.5080, 139.8957, 3052,     30.4,  -1.5030,  34.0860,2,  34.1440,0,    323.6,2,    328.1,2,    54.50,2,    29.73,2,     1.90,2,    5.417,2,    2.802,2,    0.500,2,   2190.8,2,   2304.5,6,  -1.50364882
  09AR20011029,  SR03,   125,  1,     22,2,20011205,-64.5080, 139.8957, 3052,     80.6,   1.4800,  34.5790,4,  34.5750,2,    192.2,2,    193.8,2,    78.10,2,    34.11,2,     2.23,2,    1.245,2,    0.609,2,    0.100,2,   2250.6,2,   2332.5,2,   1.47611541
  09AR20011029,  SR03,   125,  1,     21,2,20011205,-64.5080, 139.8957, 3052,    120.6,   1.5800,  34.6230,2,  34.6220,2,    196.1,2,    191.7,2,    80.60,2,    33.40,2,     2.19,2,    0.977,2,    0.473,2,    0.090,2,   2250.0,2,   2335.2,2,   1.57403541
  09AR20011029,  SR03,   125,  1,     20,2,20011205,-64.5080, 139.8957, 3052,    200.5,   1.5900,  34.6710,4,  34.6680,2,    201.6,2,    194.8,2,    83.40,2,    32.66,2,     2.13,2,    0.764,2,    0.371,2,    0.060,2,   2250.1,2,   2338.0,2,   1.57991261
  09AR20011029,  SR03,   125,  1,     19,2,20011205,-64.5080, 139.8957, 3052,    300.2,   1.3490,  34.6750,2,  34.6760,2,    200.8,2,    204.8,2,    84.80,2,    32.06,2,     2.09,2,    0.907,2,    0.444,2,    0.080,2,   2248.1,2,   2340.2,2,   1.33423178
  09AR20011029,  SR03,   125,  1,    218,2,20011205,-64.5080, 139.8957, 3052,    400.1,   1.3930,  34.7030,2,  34.7020,2,    200.8,2,    204.1,2,    87.70,2,    31.67,2,     2.06,2,    0.684,2,    0.333,2,    0.050,2,   2248.6,2,   2342.6,2,    1.3728096
  09AR20011029,  SR03,   125,  1,     17,2,20011205,-64.5080, 139.8957, 3052,    500.5,   1.3800,  34.7160,2,  34.7150,2,    199.0,2,    204.2,2,    90.40,2,    31.35,2,     2.04,2,    0.549,2,    0.264,2,    0.050,2,   2248.9,2,   2346.0,2,   1.35435451
  09AR20011029,  SR03,   125,  1,     16,2,20011205,-64.5080, 139.8957, 3052,    600.2,   1.2510,  34.7150,2,  34.7140,2,    202.9,2,    207.4,2,    92.80,2,    31.34,2,     2.04,2,    0.568,2,    0.274,2,    0.040,2,   2249.4,2,   2346.9,2,   1.22036784
  09AR20011029,  SR03,   125,  1,    715,2,20011205,-64.5080, 139.8957, 3052,    700.7,   1.2830,  34.7280,2,  34.7280,2,    202.6,2,    206.6,2,    96.90,2,    31.21,2,     2.04,2,    0.338,2,    0.161,2,    0.030,2,   2249.8,2,   2350.2,2,   1.24643816
  09AR20011029,  SR03,   125,  1,     14,2,20011205,-64.5080, 139.8957, 3052,    800.5,   1.2140,  34.7280,3,  34.7280,2,    202.9,2,    206.8,2,   100.20,2,    31.40,2,     2.05,2,    0.284,2,    0.138,2,    0.020,2,   2251.2,2,   2351.8,2,    1.1719997
  09AR20011029,  SR03,   125,  1,     13,2,20011205,-64.5080, 139.8957, 3052,   1000.0,   1.1180,  34.7300,2,  34.7300,2,    206.3,2,    207.9,2,   106.30,2,    31.50,2,     2.06,2,    0.137,2,    0.065,2,    0.010,2,   2251.7,2,   2354.5,6,   1.06461361
  09AR20011029,  SR03,   125,  1,     12,2,20011205,-64.5080, 139.8957, 3052,   1199.9,   0.9270,  34.7190,2,  34.7210,2,    207.7,2,    209.2,2,   111.70,2,    31.88,2,     2.08,2, -999.000,9, -999.000,9, -999.000,9,   2255.4,6,   2357.0,2,   0.86277198
  09AR20011029,  SR03,   125,  1,     11,2,20011205,-64.5080, 139.8957, 3052,   1400.6,   0.7420,  34.7090,2,  34.7100,2,    212.3,2,    211.2,2,   116.40,2,    32.20,2,     2.11,2,    0.170,2,    0.078,2,    0.010,2,   2258.1,2,   2356.7,2,   0.66674998
  09AR20011029,  SR03,   125,  1,    310,2,20011205,-64.5080, 139.8957, 3052,   1600.1,   0.5610,  34.7000,2,  34.7000,2,    217.2,2,    214.8,2,   120.60,2,    32.34,2,     2.11,2,    0.232,2,    0.108,2,    0.010,2,   2258.9,2,   2356.7,2,  0.474665541
  09AR20011029,  SR03,   125,  1,    709,2,20011205,-64.5080, 139.8957, 3052,   1800.5,   0.3340,  34.6850,2,  34.6860,2,    219.3,2,    220.2,2,   121.30,2,    32.56,2,     2.12,2,    0.496,2,    0.239,2,    0.030,2,   2257.6,2,   2355.2,2,  0.237080443
  09AR20011029,  SR03,   125,  1,      8,2,20011205,-64.5080, 139.8957, 3052,   1999.9,   0.2330,  34.6830,2,  34.6830,2,    224.3,2,    222.5,2,   123.50,2,    32.73,2,     2.13,2,    0.505,2,    0.240,2,    0.040,2,   2257.5,2,   2355.3,2,  0.123590342
  09AR20011029,  SR03,   125,  1,      7,2,20011205,-64.5080, 139.8957, 3052,   2200.3,   0.1320,  34.6820,2,  34.6840,2,    226.1,2,    222.5,2,   123.60,2,    32.68,2,     2.13,2,    0.498,2,    0.237,2,    0.030,2,   2256.7,2,   2354.6,2,0.00966623434
  09AR20011029,  SR03,   125,  1,      6,2,20011205,-64.5080, 139.8957, 3052,   2399.8,   0.0460,  34.6780,2,  34.6800,2,    232.0,2,    228.6,2,   125.70,2,    32.67,2,     2.13,2,    0.700,2,    0.335,2,    0.050,2,   2257.0,2,   2354.5,2,-0.0897956976
  09AR20011029,  SR03,   125,  1,      5,2,20011205,-64.5080, 139.8957, 3052,   2599.2,  -0.0560,  34.6720,2,  34.6800,0,    236.7,2,    228.6,2,   125.70,2,    32.56,2,     2.11,2,    0.704,2,    0.337,2,    0.040,2,   2257.0,2,   2354.4,2, -0.205296913
  09AR20011029,  SR03,   125,  1,      4,2,20011205,-64.5080, 139.8957, 3052,   2799.3,  -0.2220,  34.6630,2,  34.6660,2,    242.7,2,    240.6,2,   113.90,2,    32.24,2,     2.10,2,    1.735,2,    0.842,2,    0.140,2,   2254.1,2,   2351.0,2, -0.383838142
  09AR20011029,  SR03,   125,  1,      3,2,20011205,-64.5080, 139.8957, 3052,   2899.6,  -0.2940,  34.6580,2,  34.6610,2,    246.2,2,    243.5,2,   115.00,2,    32.25,2,     2.10,2,    1.943,2,    0.943,2,    0.150,2,   2252.4,2,   2351.6,2, -0.462420787
  09AR20011029,  SR03,   125,  1,      2,2,20011205,-64.5080, 139.8957, 3052,   3050.9,  -0.5550,  34.6360,2,  34.6390,2,    255.7,2,    259.1,2,   100.30,2,    31.91,2,     2.07,2,    2.720,2,    1.367,2,    0.230,2,   2247.4,2,   2345.7,6, -0.729873349
  09AR20011029,  SR03,   125,  1,      1,2,20011205,-64.5080, 139.8957, 3052,   3130.3,  -0.5760,  34.6410,2,  34.6430,2,    256.9,2,    260.7,2,    97.00,2,    31.84,2,     2.08,2,    2.811,2,    1.421,2,    0.250,2,   2246.1,6,   2345.4,2, -0.756997055