BOTTLE,20081126PRINUNIVRMK
EXPOCODE,SECT_ID,STNNBR,CASTNO,BTLNBR,BTLNBR_FLAG_W,DATE,LATITUDE,LONGITUDE,DEPTH,CTDPRS,CTDTMP,CTDSAL,CTDSAL_FLAG_W,SALNTY,SALNTY_FLAG_W,CTDOXY,CTDOXY_FLAG_W,OXYGEN,OXYGEN_FLAG_W,SILCAT,SILCAT_FLAG_W,NITRAT,NITRAT_FLAG_W,PHSPHT,PHSPHT_FLAG_W,CFC-11,CFC-11_FLAG_W,CFC-12,CFC-12_FLAG_W,CFC113,CFC113_FLAG_W,TCARBN,TCARBN_FLAG_W,ALKALI,ALKALI_FLAG_W,THETA
,,,,,,,,,METERS,DBARS,ITS-90,PSS-78,,PSS-78,,UMOL/KG,,UMOL/KG,,UMOL/KG,,UMOL/KG,,UMOL/KG,,PMOL/KG,,PMOL/KG,,PMOL/KG,,UMOL/KG,,UMOL/KG,,DEGC
  09AR20011029,  SR03,   102,  1,     24,2,20011128,-66.2030, 143.1502,  598,     10.6,  -1.6620,  34.3460,2,-999.0000,9,    331.6,3,   -999.0,9,  -999.00,9,  -999.00,9,  -999.00,9, -999.000,9, -999.000,9, -999.000,9,   -999.0,9,   -999.0,9,  -1.66221478
  09AR20011029,  SR03,   102,  1,     23,2,20011128,-66.2030, 143.1502,  598,     10.7,  -1.6590,  34.3460,2,-999.0000,9,    331.6,3,   -999.0,9,  -999.00,9,  -999.00,9,  -999.00,9, -999.000,9, -999.000,9, -999.000,9,   -999.0,9,   -999.0,9,  -1.65921709
  09AR20011029,  SR03,   102,  1,     22,2,20011128,-66.2030, 143.1502,  598,     10.7,  -1.6560,  34.3470,2,  34.3490,2,    331.6,3,    330.9,2,    63.60,2,    27.98,2,     1.69,2,    5.078,2,    2.655,2,    0.450,2,   2202.0,2,   2319.0,2,  -1.65621744
  09AR20011029,  SR03,   102,  1,     21,2,20011128,-66.2030, 143.1502,  598,     46.2,  -1.5240,  34.4520,2,-999.0000,9,    297.5,2,   -999.0,9,  -999.00,9,  -999.00,9,  -999.00,9, -999.000,9, -999.000,9, -999.000,9,   -999.0,9,   -999.0,9,  -1.52501777
  09AR20011029,  SR03,   102,  1,     19,2,20011128,-66.2030, 143.1502,  598,     46.6,  -1.5220,  34.4520,2,-999.0000,9,    297.5,2,   -999.0,9,  -999.00,9,  -999.00,9,  -999.00,9, -999.000,9, -999.000,9, -999.000,9,   2225.1,2,   -999.0,9,  -1.52302758
  09AR20011029,  SR03,   102,  1,     20,2,20011128,-66.2030, 143.1502,  598,     46.9,  -1.5220,  34.4530,2,  34.4520,2,    297.5,2,    298.6,2,    70.90,2,    29.84,2,     1.89,2,    3.291,2,    1.708,2,    0.290,2,   -999.0,9,   2326.7,2,  -1.52303433
  09AR20011029,  SR03,   102,  1,     16,2,20011128,-66.2030, 143.1502,  598,     91.5,  -0.8120,  34.5670,2,  34.5660,2,    270.2,2,    271.2,2,    83.80,2,    30.47,2,     1.94,2,    3.289,2,    1.711,2,    0.290,2,   -999.0,9,   -999.0,9, -0.814641635
  09AR20011029,  SR03,   102,  1,    218,2,20011128,-66.2030, 143.1502,  598,     91.7,  -0.8110,  34.5670,2,-999.0000,9,    270.2,2,   -999.0,9,  -999.00,9,  -999.00,9,  -999.00,9, -999.000,9, -999.000,9, -999.000,9,   -999.0,9,   -999.0,9,  -0.81364855
  09AR20011029,  SR03,   102,  1,     17,2,20011128,-66.2030, 143.1502,  598,     91.8,  -0.8270,  34.5680,2,-999.0000,9,    270.2,2,   -999.0,9,  -999.00,9,  -999.00,9,  -999.00,9, -999.000,9, -999.000,9, -999.000,9,   2238.4,2,   2336.7,2, -0.829639038
  09AR20011029,  SR03,   102,  1,     14,2,20011128,-66.2030, 143.1502,  598,    141.3,  -1.7690,  34.5900,2,-999.0000,9,    312.8,2,   -999.0,9,  -999.00,9,  -999.00,9,  -999.00,9, -999.000,9, -999.000,9, -999.000,9,   -999.0,9,   -999.0,9,  -1.77198056
  09AR20011029,  SR03,   102,  1,     13,2,20011128,-66.2030, 143.1502,  598,    141.3,  -1.7600,  34.5900,2,  34.5890,2,    312.8,2,    310.6,2,    73.70,2,    29.77,2,     1.89,2,    4.858,2,    2.532,2,    0.430,2,   -999.0,9,   -999.0,9,  -1.76299139
  09AR20011029,  SR03,   102,  1,    715,2,20011128,-66.2030, 143.1502,  598,    141.4,  -1.7700,  34.5900,2,-999.0000,9,    312.8,2,   -999.0,9,  -999.00,9,  -999.00,9,  -999.00,9, -999.000,9, -999.000,9, -999.000,9,   2233.4,2,   2335.6,2,  -1.77298157
  09AR20011029,  SR03,   102,  1,     12,2,20011128,-66.2030, 143.1502,  598,    200.5,  -1.8640,  34.6130,2,-999.0000,9,    313.5,2,   -999.0,9,  -999.00,9,  -999.00,9,  -999.00,9, -999.000,9, -999.000,9, -999.000,9,   -999.0,9,   -999.0,9,  -1.86818913
  09AR20011029,  SR03,   102,  1,    310,2,20011128,-66.2030, 143.1502,  598,    200.5,  -1.8630,  34.6130,2,  34.6120,2,    313.5,2,    315.6,2,    74.80,2,    30.07,2,     1.89,2,    5.015,2,    2.590,2,    0.440,2,   -999.0,9,   -999.0,9,  -1.86719048
  09AR20011029,  SR03,   102,  1,     11,2,20011128,-66.2030, 143.1502,  598,    200.6,  -1.8630,  34.6110,2,-999.0000,9,    313.5,2,   -999.0,9,  -999.00,9,  -999.00,9,  -999.00,9, -999.000,9, -999.000,9, -999.000,9,   2233.5,2,   2338.0,2,  -1.86719238
  09AR20011029,  SR03,   102,  1,      7,2,20011128,-66.2030, 143.1502,  598,    361.0,  -1.8870,  34.6600,2,  34.6610,2,    316.3,2,    319.1,2,    74.60,2,    30.21,2,     1.91,2,    5.155,2,    2.673,2,    0.450,2,   -999.0,9,   -999.0,9,  -1.89507409
  09AR20011029,  SR03,   102,  1,      8,2,20011128,-66.2030, 143.1502,  598,    361.2,  -1.8870,  34.6600,2,-999.0000,9,    316.3,2,   -999.0,9,  -999.00,9,  -999.00,9,  -999.00,9, -999.000,9, -999.000,9, -999.000,9,   -999.0,9,   -999.0,9,  -1.89507857
  09AR20011029,  SR03,   102,  1,    709,2,20011128,-66.2030, 143.1502,  598,    361.7,  -1.8870,  34.6600,2,-999.0000,9,    316.3,2,   -999.0,9,  -999.00,9,  -999.00,9,  -999.00,9, -999.000,9, -999.000,9, -999.000,9,   2237.8,2,   2341.1,2,  -1.89509153
  09AR20011029,  SR03,   102,  1,      4,2,20011128,-66.2030, 143.1502,  598,    520.6,  -1.8890,  34.6900,2,  34.6900,2,    324.2,2,    321.8,2,    75.10,2,    30.44,2,     1.92,2,    5.225,2,    2.694,2,    0.450,2,   -999.0,9,   -999.0,9,  -1.90147567
  09AR20011029,  SR03,   102,  1,      5,2,20011128,-66.2030, 143.1502,  598,    520.7,  -1.8890,  34.6900,2,-999.0000,9,    324.2,2,   -999.0,9,  -999.00,9,  -999.00,9,  -999.00,9, -999.000,9, -999.000,9, -999.000,9,   -999.0,9,   -999.0,9,  -1.90147857
  09AR20011029,  SR03,   102,  1,      6,2,20011128,-66.2030, 143.1502,  598,    520.8,  -1.8890,  34.6900,2,-999.0000,9,    324.2,2,   -999.0,9,  -999.00,9,  -999.00,9,  -999.00,9, -999.000,9, -999.000,9, -999.000,9,   2239.6,2,   2343.1,2,  -1.90148147
  09AR20011029,  SR03,   102,  1,      3,2,20011128,-66.2030, 143.1502,  598,    596.1,  -1.8910,  34.7090,2,-999.0000,9,    320.1,2,   -999.0,9,  -999.00,9,  -999.00,9,  -999.00,9, -999.000,9, -999.000,9, -999.000,9,   -999.0,9,   -999.0,9,  -1.90573392
  09AR20011029,  SR03,   102,  1,      2,2,20011128,-66.2030, 143.1502,  598,    596.2,  -1.8910,  34.7090,2,-999.0000,9,    320.1,2,   -999.0,9,  -999.00,9,  -999.00,9,  -999.00,9, -999.000,9, -999.000,9, -999.000,9,   -999.0,9,   -999.0,9,  -1.90573697
  09AR20011029,  SR03,   102,  1,      1,2,20011128,-66.2030, 143.1502,  598,    596.3,  -1.8910,  34.7090,2,  34.7080,2,    320.1,2,    322.7,2,    76.00,2,    30.39,2,     1.92,2,    5.288,2,    2.738,2,    0.460,2,   2241.6,6,   -999.0,9,  -1.90573886
  09AR20011029,  SR03,   103,  1,     24,2,20011128,-66.1987, 143.4150,  547,      8.6,  -1.4800,  34.3650,2,-999.0000,9,    327.2,3,   -999.0,9,  -999.00,9,  -999.00,9,  -999.00,9, -999.000,9, -999.000,9, -999.000,9,   -999.0,9,   -999.0,9,  -1.48018813
  09AR20011029,  SR03,   103,  1,     22,2,20011128,-66.1987, 143.4150,  547,      8.7,  -1.4880,  34.3670,2,  34.3680,2,    327.2,3,    328.6,2,    67.50,2,    28.79,2,     1.74,2,    4.996,2,    2.587,2,    0.420,2,   -999.0,9,   -999.0,9,  -1.48818977
  09AR20011029,  SR03,   103,  1,     23,2,20011128,-66.1987, 143.4150,  547,      8.8,  -1.4930,  34.3660,2,-999.0000,9,    327.2,3,   -999.0,9,  -999.00,9,  -999.00,9,  -999.00,9, -999.000,9, -999.000,9, -999.000,9,   2207.8,2,   2321.8,2,  -1.49319154
  09AR20011029,  SR03,   103,  1,     19,2,20011128,-66.1987, 143.4150,  547,     40.4,  -1.3380,  34.4610,2,  34.4600,2,    298.0,2,    298.8,2,    71.60,2,    30.08,2,     1.86,2,    4.308,2,    2.244,2,    0.380,2,   -999.0,9,   -999.0,9,  -1.33895395
  09AR20011029,  SR03,   103,  1,     20,2,20011128,-66.1987, 143.4150,  547,     40.6,  -1.3390,  34.4600,2,-999.0000,9,    298.0,2,   -999.0,9,  -999.00,9,  -999.00,9,  -999.00,9, -999.000,9, -999.000,9, -999.000,9,   -999.0,9,   -999.0,9,   -1.3399584
  09AR20011029,  SR03,   103,  1,     21,2,20011128,-66.1987, 143.4150,  547,     40.7,  -1.3410,  34.4590,2,-999.0000,9,    298.0,2,   -999.0,9,  -999.00,9,  -999.00,9,  -999.00,9, -999.000,9, -999.000,9, -999.000,9,   2223.7,2,   2328.8,2,  -1.34196001
  09AR20011029,  SR03,   103,  1,     16,2,20011128,-66.1987, 143.4150,  547,     90.9,  -0.7910,  34.5370,2,  34.5360,2,    267.0,2,    267.5,2,    83.20,2,    31.06,2,     1.93,2,    3.232,2,    1.670,2,    0.260,2,   -999.0,9,   -999.0,9, -0.793635011
  09AR20011029,  SR03,   103,  1,     17,2,20011128,-66.1987, 143.4150,  547,     91.0,  -0.7980,  34.5350,2,-999.0000,9,    266.0,2,   -999.0,9,  -999.00,9,  -999.00,9,  -999.00,9, -999.000,9, -999.000,9, -999.000,9,   -999.0,9,   -999.0,9, -0.800632331
  09AR20011029,  SR03,   103,  1,    218,2,20011128,-66.1987, 143.4150,  547,     91.1,  -0.8000,  34.5350,2,-999.0000,9,    266.0,2,   -999.0,9,  -999.00,9,  -999.00,9,  -999.00,9, -999.000,9, -999.000,9, -999.000,9,   2237.5,2,   2334.1,2, -0.802633739
  09AR20011029,  SR03,   103,  1,    715,2,20011128,-66.1987, 143.4150,  547,    150.8,  -1.1260,  34.5890,2,-999.0000,9,    278.3,2,   -999.0,9,  -999.00,9,  -999.00,9,  -999.00,9, -999.000,9, -999.000,9, -999.000,9,   -999.0,9,   -999.0,9,   -1.1300371
  09AR20011029,  SR03,   103,  1,     13,2,20011128,-66.1987, 143.4150,  547,    150.8,  -1.0760,  34.5940,3,  34.5910,2,    278.3,2,    279.4,2,    84.00,2,    30.57,2,     1.93,2,    3.547,2,    1.833,2,    0.310,2,   -999.0,9,   -999.0,9,  -1.08010281
  09AR20011029,  SR03,   103,  1,     14,2,20011128,-66.1987, 143.4150,  547,    150.9,  -1.0990,  34.5920,3,-999.0000,9,    278.3,2,   -999.0,9,  -999.00,9,  -999.00,9,  -999.00,9, -999.000,9, -999.000,9, -999.000,9,   2239.5,2,   2337.9,2,         -999
  09AR20011029,  SR03,   103,  1,     12,2,20011128,-66.1987, 143.4150,  547,    200.5,  -1.8630,  34.5990,2,-999.0000,9,    318.8,2,   -999.0,9,  -999.00,9,  -999.00,9,  -999.00,9, -999.000,9, -999.000,9, -999.000,9,   -999.0,9,   -999.0,9,  -1.86718538
  09AR20011029,  SR03,   103,  1,    310,2,20011128,-66.1987, 143.4150,  547,    200.5,  -1.8650,  34.6010,2,  34.5990,2,    318.8,2,    316.2,2,    71.90,2,    30.14,2,     1.88,2,    5.118,2,    2.646,2,    0.440,2,   -999.0,9,   -999.0,9,  -1.86918188
  09AR20011029,  SR03,   103,  1,     11,2,20011128,-66.1987, 143.4150,  547,    200.6,  -1.8630,  34.5990,2,-999.0000,9,    318.8,2,   -999.0,9,  -999.00,9,  -999.00,9,  -999.00,9, -999.000,9, -999.000,9, -999.000,9,   2233.1,2,   2338.0,2,  -1.86718767
  09AR20011029,  SR03,   103,  1,      7,2,20011128,-66.1987, 143.4150,  547,    301.2,  -1.8590,  34.6290,2,  34.6290,2,    316.0,2,    318.2,2,    74.30,2,    29.70,2,     1.89,2,    5.114,2,    2.630,2,    0.440,2,   -999.0,9,   -999.0,9,  -1.86561423
  09AR20011029,  SR03,   103,  1,      8,2,20011128,-66.1987, 143.4150,  547,    301.5,  -1.8590,  34.6290,2,-999.0000,9,    316.0,2,   -999.0,9,  -999.00,9,  -999.00,9,  -999.00,9, -999.000,9, -999.000,9, -999.000,9,   -999.0,9,   -999.0,9,  -1.86562171
  09AR20011029,  SR03,   103,  1,    709,2,20011128,-66.1987, 143.4150,  547,    301.6,  -1.8590,  34.6300,2,-999.0000,9,    316.0,2,   -999.0,9,  -999.00,9,  -999.00,9,  -999.00,9, -999.000,9, -999.000,9, -999.000,9,   2236.4,2,   2339.6,2,  -1.86562479
  09AR20011029,  SR03,   103,  1,      5,2,20011128,-66.1987, 143.4150,  547,    451.3,  -1.8880,  34.6620,2,-999.0000,9,    317.9,2,   -999.0,9,  -999.00,9,  -999.00,9,  -999.00,9, -999.000,9, -999.000,9, -999.000,9,   -999.0,9,   -999.0,9,  -1.89848944
  09AR20011029,  SR03,   103,  1,      6,2,20011128,-66.1987, 143.4150,  547,    451.6,  -1.8880,  34.6620,2,-999.0000,9,    317.9,2,   -999.0,9,  -999.00,9,  -999.00,9,  -999.00,9, -999.000,9, -999.000,9, -999.000,9,   -999.0,9,   -999.0,9,  -1.89849773
  09AR20011029,  SR03,   103,  1,      4,2,20011128,-66.1987, 143.4150,  547,    452.0,  -1.8880,  34.6630,2,  34.6620,2,    317.9,2,    318.3,2,    74.50,2,    29.83,2,     1.92,2,    5.135,2,    2.646,2,    0.440,2,   2237.6,2,   2342.4,2,   -1.8985088
  09AR20011029,  SR03,   103,  1,      3,2,20011128,-66.1987, 143.4150,  547,    534.9,  -1.8900,  34.6780,2,-999.0000,9,    320.0,2,   -999.0,9,  -999.00,9,  -999.00,9,  -999.00,9, -999.000,9, -999.000,9, -999.000,9,   -999.0,9,   -999.0,9,  -1.90287574
  09AR20011029,  SR03,   103,  1,      2,2,20011128,-66.1987, 143.4150,  547,    535.0,  -1.8900,  34.6780,2,-999.0000,9,    320.0,2,   -999.0,9,  -999.00,9,  -999.00,9,  -999.00,9, -999.000,9, -999.000,9, -999.000,9,   -999.0,9,   -999.0,9,  -1.90287867
  09AR20011029,  SR03,   103,  1,      1,2,20011128,-66.1987, 143.4150,  547,    535.2,  -1.8900,  34.6770,2,  34.6770,2,    320.4,2,    319.8,2,    74.90,2,    30.29,2,     1.92,2,    5.186,2,    2.673,2,    0.440,2,   2239.3,6,   2341.9,2,  -1.90288349
  09AR20011029,  SR03,   104,  1,     24,2,20011128,-66.1980, 143.6680,  477,     11.3,  -1.3750,  34.4540,2,-999.0000,9,    341.5,3,   -999.0,9,  -999.00,9,  -999.00,9,  -999.00,9, -999.000,9, -999.000,9, -999.000,9,   -999.0,9,   -999.0,9,  -1.37525983
  09AR20011029,  SR03,   104,  1,     23,2,20011128,-66.1980, 143.6680,  477,     11.3,  -1.3750,  34.4540,2,-999.0000,9,    341.5,3,   -999.0,9,  -999.00,9,  -999.00,9,  -999.00,9, -999.000,9, -999.000,9, -999.000,9,   -999.0,9,   -999.0,9,  -1.37525983
  09AR20011029,  SR03,   104,  1,     22,2,20011128,-66.1980, 143.6680,  477,     11.6,  -1.3750,  34.4540,2,  34.4520,2,    341.5,3,    340.9,2,    70.60,2,    28.95,2,     1.75,2,    5.634,2,    2.894,2,    0.490,2,   2215.5,2,   2328.3,2,  -1.37526672
  09AR20011029,  SR03,   104,  1,     19,2,20011128,-66.1980, 143.6680,  477,     51.8,  -1.6370,  34.5570,3,  34.5550,2,    324.4,2,    327.2,2,    73.40,2,    29.50,2,     1.82,2,    5.241,2,    2.664,2,    0.440,2,   -999.0,9,   -999.0,9,  -1.63810322
  09AR20011029,  SR03,   104,  1,     21,2,20011128,-66.1980, 143.6680,  477,     51.9,  -1.6770,  34.5720,2,-999.0000,9,    324.4,2,   -999.0,9,  -999.00,9,  -999.00,9,  -999.00,9, -999.000,9, -999.000,9, -999.000,9,   -999.0,9,   -999.0,9,  -1.67808895
  09AR20011029,  SR03,   104,  1,     20,2,20011128,-66.1980, 143.6680,  477,     51.9,  -1.6670,  34.5700,2,-999.0000,9,    324.4,2,   -999.0,9,  -999.00,9,  -999.00,9,  -999.00,9, -999.000,9, -999.000,9, -999.000,9,   2226.8,2,   2335.8,2,  -1.66809329
  09AR20011029,  SR03,   104,  1,     16,2,20011128,-66.1980, 143.6680,  477,    100.9,  -1.8250,  34.5990,2,  34.5970,2,    320.0,2,    317.5,2,    74.30,2,    30.28,2,     1.86,2,    5.149,2,    2.577,2,    0.440,2,   2230.8,2,   -999.0,9,  -1.82704005
  09AR20011029,  SR03,   104,  1,     17,2,20011128,-66.1980, 143.6680,  477,    101.3,  -1.8250,  34.5990,2,-999.0000,9,    319.5,2,   -999.0,9,  -999.00,9,  -999.00,9,  -999.00,9, -999.000,9, -999.000,9, -999.000,9,   -999.0,9,   -999.0,9,  -1.82704894
  09AR20011029,  SR03,   104,  1,    218,2,20011128,-66.1980, 143.6680,  477,    101.5,  -1.8250,  34.5990,2,-999.0000,9,    319.5,2,   -999.0,9,  -999.00,9,  -999.00,9,  -999.00,9, -999.000,9, -999.000,9, -999.000,9,   2233.4,2,   2338.1,2,  -1.82705319
  09AR20011029,  SR03,   104,  1,     13,2,20011128,-66.1980, 143.6680,  477,    151.1,  -1.8660,  34.6090,2,  34.6080,2,    317.1,2,    316.5,2,    75.90,2,    30.26,2,     1.90,2,    5.052,2,    2.582,2,    0.440,2,   -999.0,9,   -999.0,9,  -1.86907912
  09AR20011029,  SR03,   104,  1,     14,2,20011128,-66.1980, 143.6680,  477,    151.5,  -1.8660,  34.6090,2,-999.0000,9,    317.1,2,   -999.0,9,  -999.00,9,  -999.00,9,  -999.00,9, -999.000,9, -999.000,9, -999.000,9,   -999.0,9,   -999.0,9,  -1.86908817
  09AR20011029,  SR03,   104,  1,    715,2,20011128,-66.1980, 143.6680,  477,    151.6,  -1.8660,  34.6090,2,-999.0000,9,    317.1,2,   -999.0,9,  -999.00,9,  -999.00,9,  -999.00,9, -999.000,9, -999.000,9, -999.000,9,   2235.6,2,   2339.1,2,  -1.86909036
  09AR20011029,  SR03,   104,  1,    310,2,20011128,-66.1980, 143.6680,  477,    201.5,  -1.8800,  34.6290,2,  34.6270,2,    318.0,2,    317.8,2,    75.80,2,    30.55,2,     1.90,2,    5.055,2,    2.613,2,    0.430,2,   -999.0,9,   -999.0,9,   -1.8841894
  09AR20011029,  SR03,   104,  1,     12,2,20011128,-66.1980, 143.6680,  477,    201.8,  -1.8780,  34.6280,2,-999.0000,9,    318.0,2,   -999.0,9,  -999.00,9,  -999.00,9,  -999.00,9, -999.000,9, -999.000,9, -999.000,9,   -999.0,9,   -999.0,9,  -1.88220016
  09AR20011029,  SR03,   104,  1,     11,2,20011128,-66.1980, 143.6680,  477,    201.9,  -1.8790,  34.6280,2,-999.0000,9,    318.0,2,   -999.0,9,  -999.00,9,  -999.00,9,  -999.00,9, -999.000,9, -999.000,9, -999.000,9,   2237.2,2,   2340.5,2,  -1.88320068
  09AR20011029,  SR03,   104,  1,      7,2,20011128,-66.1980, 143.6680,  477,    301.7,  -1.8870,  34.6470,2,  34.6470,2,    317.5,2,    318.7,2,    74.60,2,    30.28,2,     1.88,2,    5.252,2,    2.656,2,    0.430,2,   -999.0,9,   -999.0,9,  -1.89356392
  09AR20011029,  SR03,   104,  1,      8,2,20011128,-66.1980, 143.6680,  477,    302.4,  -1.8870,  34.6480,2,-999.0000,9,    317.5,2,   -999.0,9,  -999.00,9,  -999.00,9,  -999.00,9, -999.000,9, -999.000,9, -999.000,9,   -999.0,9,   -999.0,9,  -1.89358182
  09AR20011029,  SR03,   104,  1,    709,2,20011128,-66.1980, 143.6680,  477,    302.9,  -1.8870,  34.6480,2,-999.0000,9,    317.5,2,   -999.0,9,  -999.00,9,  -999.00,9,  -999.00,9, -999.000,9, -999.000,9, -999.000,9,   2237.3,2,   2341.4,2,  -1.89359419
  09AR20011029,  SR03,   104,  1,      4,2,20011128,-66.1980, 143.6680,  477,    401.5,  -1.8980,  34.6720,2,  34.6700,2,    317.1,2,    319.1,2,    75.20,2,    30.42,2,     1.90,2,    5.216,2,    2.675,2,    0.460,2,   -999.0,9,   -999.0,9,  -1.90710802
  09AR20011029,  SR03,   104,  1,      5,2,20011128,-66.1980, 143.6680,  477,    402.3,  -1.8970,  34.6710,2,-999.0000,9,    317.1,2,   -999.0,9,  -999.00,9,  -999.00,9,  -999.00,9, -999.000,9, -999.000,9, -999.000,9,   -999.0,9,   -999.0,9,  -1.90613358
  09AR20011029,  SR03,   104,  1,      6,2,20011128,-66.1980, 143.6680,  477,    403.0,  -1.8970,  34.6710,2,-999.0000,9,    317.8,2,   -999.0,9,  -999.00,9,  -999.00,9,  -999.00,9, -999.000,9, -999.000,9, -999.000,9,   2239.7,2,   2341.8,2,  -1.90615223
  09AR20011029,  SR03,   104,  1,      1,2,20011128,-66.1980, 143.6680,  477,    482.7,  -1.8920,  34.6840,2,  34.6840,2,    321.3,2,    319.5,2,    75.90,2,    30.20,2,     1.91,2,    5.283,2,    2.680,2,    0.440,2,   -999.0,9,   -999.0,9,  -1.90337113
  09AR20011029,  SR03,   104,  1,      2,2,20011128,-66.1980, 143.6680,  477,    482.8,  -1.8920,  34.6840,2,-999.0000,9,    321.3,2,   -999.0,9,  -999.00,9,  -999.00,9,  -999.00,9, -999.000,9, -999.000,9, -999.000,9,   -999.0,9,   -999.0,9,  -1.90337395
  09AR20011029,  SR03,   104,  1,      3,2,20011128,-66.1980, 143.6680,  477,    483.0,  -1.8920,  34.6840,2,-999.0000,9,    321.3,2,   -999.0,9,  -999.00,9,  -999.00,9,  -999.00,9, -999.000,9, -999.000,9, -999.000,9,   2240.9,6,   2343.0,2,  -1.90337961