BOTTLE,20081126PRINUNIVRMK
EXPOCODE,SECT_ID,STNNBR,CASTNO,BTLNBR,BTLNBR_FLAG_W,DATE,LATITUDE,LONGITUDE,DEPTH,CTDPRS,CTDTMP,CTDSAL,CTDSAL_FLAG_W,SALNTY,SALNTY_FLAG_W,CTDOXY,CTDOXY_FLAG_W,OXYGEN,OXYGEN_FLAG_W,SILCAT,SILCAT_FLAG_W,NITRAT,NITRAT_FLAG_W,PHSPHT,PHSPHT_FLAG_W,CFC-11,CFC-11_FLAG_W,CFC-12,CFC-12_FLAG_W,CFC113,CFC113_FLAG_W,TCARBN,TCARBN_FLAG_W,ALKALI,ALKALI_FLAG_W,THETA
,,,,,,,,,METERS,DBARS,ITS-90,PSS-78,,PSS-78,,UMOL/KG,,UMOL/KG,,UMOL/KG,,UMOL/KG,,UMOL/KG,,PMOL/KG,,PMOL/KG,,PMOL/KG,,UMOL/KG,,UMOL/KG,,DEGC
  09AR20011029,  SR03,    57,  1,     24,2,20011115,-55.0137, 141.0253, 3175,     10.0,   2.0800,  33.8060,2,  33.8050,2,    414.7,3,    339.3,2,    12.90,2,    26.11,2,     1.65,2, -999.000,9, -999.000,9, -999.000,9,   2136.7,2,   2273.1,2,   2.07948825
  09AR20011029,  SR03,    57,  1,     23,2,20011115,-55.0137, 141.0253, 3175,     50.9,   2.0620,  33.8060,2,  33.8050,2,    343.3,2,    339.5,2,    12.90,2,    26.23,2,     1.64,2, -999.000,9, -999.000,9, -999.000,9,   -999.0,9,   -999.0,9,   2.05938502
  09AR20011029,  SR03,    57,  1,     22,2,20011115,-55.0137, 141.0253, 3175,     98.5,   1.8770,  33.8030,2,  33.8020,2,    336.2,2,    339.3,2,    13.00,2,    26.34,2,     1.67,2, -999.000,9, -999.000,9, -999.000,9,   -999.0,9,   -999.0,9,   1.87205108
  09AR20011029,  SR03,    57,  1,     21,2,20011115,-55.0137, 141.0253, 3175,    150.4,   1.2020,  33.7950,2,  33.7950,2,    337.0,2,    337.0,2,    13.90,2,    26.97,2,     1.74,2, -999.000,9, -999.000,9, -999.000,9,   -999.0,9,   -999.0,9,   1.19522291
  09AR20011029,  SR03,    57,  1,     20,2,20011115,-55.0137, 141.0253, 3175,    199.6,   1.3430,  34.0490,4,  34.0510,2,    284.5,2,    280.5,2,    32.40,2,    31.51,2,     2.05,2, -999.000,9, -999.000,9, -999.000,9,   -999.0,9,   -999.0,9,   1.33359191
  09AR20011029,  SR03,    57,  1,     19,4,20011115,-55.0137, 141.0253, 3175,    249.4,   2.0360,  34.2520,2,  34.4340,0,    226.1,2,    192.4,4,    64.40,4,    34.76,4,     2.29,4, -999.000,9, -999.000,9, -999.000,9,   -999.0,9,   -999.0,9,   2.02262045
  09AR20011029,  SR03,    57,  1,    518,2,20011115,-55.0137, 141.0253, 3175,    299.7,   2.1460,  34.3180,3,  34.3180,2,    207.4,2,    208.5,2,    55.30,2,    34.72,2,     2.28,2, -999.000,9, -999.000,9, -999.000,9,   -999.0,9,   -999.0,9,    2.1294902
  09AR20011029,  SR03,    57,  1,     17,2,20011115,-55.0137, 141.0253, 3175,    399.6,   2.2430,  34.4290,2,  34.4290,2,    187.3,2,    188.1,2,    64.40,2,    35.27,2,     2.34,2, -999.000,9, -999.000,9, -999.000,9,   -999.0,9,   -999.0,9,   2.22025976
  09AR20011029,  SR03,    57,  1,     16,2,20011115,-55.0137, 141.0253, 3175,    499.7,   2.2720,  34.4970,2,  34.4940,2,    180.3,2,    180.3,2,    69.20,2,    35.14,2,     2.31,2, -999.000,9, -999.000,9, -999.000,9,   -999.0,9,   -999.0,9,   2.24297473
  09AR20011029,  SR03,    57,  1,     15,2,20011115,-55.0137, 141.0253, 3175,    599.4,   2.2830,  34.5670,2,  34.5670,2,    178.1,2,    176.5,2,    73.50,2,    34.52,2,     2.26,2, -999.000,9, -999.000,9, -999.000,9,   -999.0,9,   -999.0,9,   2.24756174
  09AR20011029,  SR03,    57,  1,     14,2,20011115,-55.0137, 141.0253, 3175,    700.6,   2.2740,  34.6170,2,  34.6150,2,    178.0,2,    176.7,2,    75.90,2,    33.71,2,     2.23,2, -999.000,9, -999.000,9, -999.000,9,   -999.0,9,   -999.0,9,   2.23198953
  09AR20011029,  SR03,    57,  1,     13,2,20011115,-55.0137, 141.0253, 3175,    801.2,   2.2380,  34.6520,2,  34.6530,2,    179.3,2,    178.5,2,    78.50,2,    33.21,2,     2.18,2, -999.000,9, -999.000,9, -999.000,9,   -999.0,9,   -999.0,9,   2.18947678
  09AR20011029,  SR03,    57,  1,     12,2,20011115,-55.0137, 141.0253, 3175,   1000.6,   2.1650,  34.7010,2,  34.7020,2,    183.1,2,    184.3,2,    79.80,2,    32.10,2,     2.08,2, -999.000,9, -999.000,9, -999.000,9,   -999.0,9,   -999.0,9,   2.10327495
  09AR20011029,  SR03,    57,  1,     11,2,20011115,-55.0137, 141.0253, 3175,   1199.5,   2.0550,  34.7310,2,  34.7310,2,    191.5,2,    191.8,2,    82.80,2,    31.27,2,     2.04,2, -999.000,9, -999.000,9, -999.000,9,   -999.0,9,   -999.0,9,   1.98005778
  09AR20011029,  SR03,    57,  1,     10,2,20011115,-55.0137, 141.0253, 3175,   1399.7,   1.9130,  34.7440,2,  34.7450,2,    196.3,2,    196.2,2,    86.60,2,    30.79,2,     2.01,2, -999.000,9, -999.000,9, -999.000,9,   -999.0,9,   -999.0,9,   1.82481707
  09AR20011029,  SR03,    57,  1,      9,2,20011115,-55.0137, 141.0253, 3175,   1600.5,   1.7500,  34.7480,2,  34.7500,2,    199.9,2,    200.5,2,    91.00,2,    30.70,2,     2.00,2,    0.090,2,    0.047,2,    0.000,2,   -999.0,9,   -999.0,9,   1.64860309
  09AR20011029,  SR03,    57,  1,      8,2,20011115,-55.0137, 141.0253, 3175,   1799.4,   1.5650,  34.7450,2,  34.7460,2,    203.3,2,    203.1,2,    96.70,2,    30.81,2,     2.02,2, -999.000,9, -999.000,9, -999.000,9,   -999.0,9,   -999.0,9,   1.45072189
  09AR20011029,  SR03,    57,  1,      7,2,20011115,-55.0137, 141.0253, 3175,   1998.8,   1.3860,  34.7390,2,  34.7390,2,    205.3,2,    205.1,2,   102.60,2,    31.20,2,     2.04,2,    0.083,2,    0.047,2,    0.000,2,   -999.0,9,   -999.0,9,   1.25864497
  09AR20011029,  SR03,    57,  1,      6,2,20011115,-55.0137, 141.0253, 3175,   2199.7,   1.2110,  34.7310,2,  34.7310,2,    208.2,2,    207.1,2,   108.30,2,    31.54,2,     2.06,2, -999.000,9, -999.000,9, -999.000,9,   -999.0,9,   -999.0,9,   1.07028796
  09AR20011029,  SR03,    57,  1,      5,2,20011115,-55.0137, 141.0253, 3175,   2399.5,   1.0740,  34.7230,2,  34.7230,2,    208.8,2,    208.3,2,   111.80,2,    31.73,2,     2.09,2,    0.085,2,    0.046,2,    0.000,2,   -999.0,9,   -999.0,9,  0.919217984
  09AR20011029,  SR03,    57,  1,      4,2,20011115,-55.0137, 141.0253, 3175,   2599.8,   0.9140,  34.7150,2,  34.7150,2,    211.8,2,    210.8,2,   116.50,2,    31.97,2,     2.12,2, -999.000,9, -999.000,9, -999.000,9,   -999.0,9,   -999.0,9,  0.745337132
  09AR20011029,  SR03,    57,  1,      3,2,20011115,-55.0137, 141.0253, 3175,   2797.6,   0.7280,  34.7060,2,  34.7060,2,    213.5,2,    214.0,2,   122.70,2,    32.24,2,     2.11,2,    0.150,2,    0.072,2,    0.010,2,   -999.0,9,   -999.0,9,  0.546066543
  09AR20011029,  SR03,    57,  1,      2,2,20011115,-55.0137, 141.0253, 3175,   3000.5,   0.5830,  34.6990,2,  34.7000,2,    214.5,2,    217.0,2,   128.90,2,    32.40,2,     2.15,2,    0.191,2,    0.101,2,    0.010,2,   -999.0,9,   -999.0,9,   0.38633266
  09AR20011029,  SR03,    57,  1,      1,2,20011115,-55.0137, 141.0253, 3175,   3258.4,   0.5910,  34.6990,2,  34.7000,2,   -999.0,5,    217.3,2,   129.70,2,    32.44,2,     2.15,2,    0.197,2,    0.103,2,    0.010,2,   -999.0,9,   -999.0,9,  0.370637454
  09AR20011029,  SR03,    58,  1,     24,2,20011115,-55.4927, 140.7340, 3900,      8.4,   1.9410,  33.8160,2,  33.8160,2,    398.9,3,    339.4,2,    13.80,2,    26.29,2,     1.66,2, -999.000,9, -999.000,9, -999.000,9,   2137.2,6,   2274.4,2,   1.94057977
  09AR20011029,  SR03,    58,  1,     23,2,20011115,-55.4927, 140.7340, 3900,      8.6,   1.9410,  33.8150,2,-999.0000,9,    398.9,3,   -999.0,9,  -999.00,9,  -999.00,9,  -999.00,9, -999.000,9, -999.000,9, -999.000,9,   -999.0,9,   -999.0,9,   1.94056977
  09AR20011029,  SR03,    58,  1,     21,2,20011115,-55.4927, 140.7340, 3900,     14.2,   1.9410,  33.8160,2,-999.0000,9,    367.5,3,   -999.0,9,  -999.00,9,  -999.00,9,  -999.00,9, -999.000,9, -999.000,9, -999.000,9,   2136.9,2,   2273.6,6,   1.94028891
  09AR20011029,  SR03,    58,  1,     22,2,20011115,-55.4927, 140.7340, 3900,     14.5,   1.9410,  33.8160,2,  33.8160,2,    367.5,3,    339.7,2,    13.80,2,    26.34,2,     1.67,2, -999.000,9, -999.000,9, -999.000,9,   -999.0,9,   -999.0,9,   1.94027385
  09AR20011029,  SR03,    58,  1,     19,2,20011115,-55.4927, 140.7340, 3900,     28.7,   1.9420,  33.8160,2,-999.0000,9,    337.9,2,   -999.0,9,  -999.00,9,  -999.00,9,  -999.00,9, -999.000,9, -999.000,9, -999.000,9,   2136.3,2,   2275.1,2,   1.94055899
  09AR20011029,  SR03,    58,  1,     20,2,20011115,-55.4927, 140.7340, 3900,     28.9,   1.9420,  33.8160,2,  33.8170,2,    337.9,2,    339.7,2,    13.80,2,    26.28,2,     1.67,2, -999.000,9, -999.000,9, -999.000,9,   -999.0,9,   -999.0,9,   1.94054885
  09AR20011029,  SR03,    58,  1,    518,2,20011115,-55.4927, 140.7340, 3900,     44.5,   1.9410,  33.8160,2,  33.8170,2,    342.4,2,    339.5,2,    14.00,2,    26.28,2,     1.66,2, -999.000,9, -999.000,9, -999.000,9,   2137.2,2,   -999.0,9,   1.93875995
  09AR20011029,  SR03,    58,  1,     17,2,20011115,-55.4927, 140.7340, 3900,     44.6,   1.9390,  33.8160,2,-999.0000,9,    342.4,2,   -999.0,9,  -999.00,9,  -999.00,9,  -999.00,9, -999.000,9, -999.000,9, -999.000,9,   -999.0,9,   -999.0,9,    1.9367557
  09AR20011029,  SR03,    58,  1,     15,2,20011115,-55.4927, 140.7340, 3900,     60.4,   1.9350,  33.8150,2,-999.0000,9,    339.5,2,   -999.0,9,  -999.00,9,  -999.00,9,  -999.00,9, -999.000,9, -999.000,9, -999.000,9,   2137.1,2,   2274.0,2,   1.93195457
  09AR20011029,  SR03,    58,  1,     16,2,20011115,-55.4927, 140.7340, 3900,     61.0,   1.9320,  33.8170,2,  33.8160,2,    339.8,2,    339.6,2,    13.90,2,    26.26,2,     1.68,2, -999.000,9, -999.000,9, -999.000,9,   -999.0,9,   -999.0,9,   1.92892541
  09AR20011029,  SR03,    58,  1,     13,2,20011115,-55.4927, 140.7340, 3900,     75.3,   1.9220,  33.8170,2,-999.0000,9,    340.0,2,   -999.0,9,  -999.00,9,  -999.00,9,  -999.00,9, -999.000,9, -999.000,9, -999.000,9,   2136.3,2,   2273.5,2,   1.91820154
  09AR20011029,  SR03,    58,  1,     14,2,20011115,-55.4927, 140.7340, 3900,     75.6,   1.9320,  33.8160,2,  33.8160,2,    340.0,2,    339.6,2,    13.90,2,    26.38,2,     1.67,2, -999.000,9, -999.000,9, -999.000,9,   -999.0,9,   -999.0,9,   1.92818008
  09AR20011029,  SR03,    58,  1,     12,2,20011115,-55.4927, 140.7340, 3900,     90.1,   1.8710,  33.8160,3,  33.8160,2,    338.9,2,    339.4,2,    13.80,2,    26.31,2,     1.68,2, -999.000,9, -999.000,9, -999.000,9,   2136.5,2,   2274.0,2,   1.86648181
  09AR20011029,  SR03,    58,  1,     11,2,20011115,-55.4927, 140.7340, 3900,     90.8,   1.8570,  33.8150,4,-999.0000,9,    338.9,2,   -999.0,9,  -999.00,9,  -999.00,9,  -999.00,9, -999.000,9, -999.000,9, -999.000,9,   -999.0,9,   -999.0,9,         -999
  09AR20011029,  SR03,    58,  1,      9,2,20011115,-55.4927, 140.7340, 3900,    104.5,   1.5270,  33.8190,4,-999.0000,9,    336.2,2,   -999.0,9,  -999.00,9,  -999.00,9,  -999.00,9, -999.000,9, -999.000,9, -999.000,9,   2137.7,2,   2274.0,2,         -999
  09AR20011029,  SR03,    58,  1,     10,2,20011115,-55.4927, 140.7340, 3900,    105.0,   1.5790,  33.8230,4,  33.8190,2,    337.9,2,    337.8,2,    14.30,2,    26.59,2,     1.69,2, -999.000,9, -999.000,9, -999.000,9,   -999.0,9,   -999.0,9,   1.57397538
  09AR20011029,  SR03,    58,  1,      8,2,20011115,-55.4927, 140.7340, 3900,    125.5,   1.2080,  33.8330,2,  33.8340,2,    335.3,2,    334.6,2,    15.80,2,    27.01,2,     1.74,2, -999.000,9, -999.000,9, -999.000,9,   2143.6,2,   2273.9,2,   1.20235713
  09AR20011029,  SR03,    58,  1,      7,2,20011115,-55.4927, 140.7340, 3900,    125.5,   1.2130,  33.8310,2,-999.0000,9,    335.3,2,   -999.0,9,  -999.00,9,  -999.00,9,  -999.00,9, -999.000,9, -999.000,9, -999.000,9,   -999.0,9,   -999.0,9,   1.20735257
  09AR20011029,  SR03,    58,  1,      6,2,20011115,-55.4927, 140.7340, 3900,    149.7,   1.3460,  33.9080,4,  33.8860,0,    319.7,2,    321.6,2,    19.20,2,    28.08,2,     1.82,2, -999.000,9, -999.000,9, -999.000,9,   2152.4,2,   2278.5,2,         -999
  09AR20011029,  SR03,    58,  1,      5,2,20011115,-55.4927, 140.7340, 3900,    201.9,   2.2690,  34.1400,2,  34.1390,2,    252.4,2,    255.3,2,    34.60,2,    31.75,2,     2.06,2, -999.000,9, -999.000,9, -999.000,9,   2191.0,2,   2290.2,2,   2.25790454
  09AR20011029,  SR03,    58,  1,      4,2,20011115,-55.4927, 140.7340, 3900,    249.3,   2.3040,  34.2120,2,  34.2110,2,    234.9,2,    236.8,2,    41.50,2,    31.72,2,     2.12,2, -999.000,9, -999.000,9, -999.000,9,   2205.3,2,   2297.0,2,   2.29009751
  09AR20011029,  SR03,    58,  1,      2,2,20011115,-55.4927, 140.7340, 3900,    299.3,   2.3200,  34.2800,2,  34.2810,2,    218.5,2,    216.9,2,    48.90,2,    34.01,2,     2.22,2, -999.000,9, -999.000,9, -999.000,9,   2219.3,2,   2303.3,6,   2.30310823
  09AR20011029,  SR03,    58,  1,      1,2,20011115,-55.4927, 140.7340, 3900,    348.3,   2.3230,  34.3350,2,  34.3350,2,    207.4,2,    204.4,2,    54.60,2,    34.41,2,     2.28,2, -999.000,9, -999.000,9, -999.000,9,   2227.1,6,   2309.3,2,   2.30315916
  09AR20011029,  SR03,    59,  1,     24,2,20011115,-55.4772, 140.7310, 3900,     10.0,   1.9290,  33.8170,2,  33.8190,2,    390.6,3,    339.5,2,    14.00,2,    26.16,2,     1.67,2, -999.000,9, -999.000,9, -999.000,9,   -999.0,9,   -999.0,9,   1.92850054
  09AR20011029,  SR03,    59,  1,     23,2,20011115,-55.4772, 140.7310, 3900,     51.4,   1.9320,  33.8170,2,  33.8170,2,    343.3,2,    339.5,2,    13.90,2,    26.13,2,     1.68,2,    5.804,2,    3.158,2,    0.540,3,   2137.2,6,   2273.9,6,   1.92941342
  09AR20011029,  SR03,    59,  1,     22,2,20011115,-55.4772, 140.7310, 3900,     99.8,   1.7610,  33.8190,4,  33.8180,2,    339.9,2,    338.3,2,    14.30,2,    26.21,2,     1.70,2,    5.821,2,    3.194,2,    0.550,3,   2138.7,2,   2274.3,2,   1.75607783
  09AR20011029,  SR03,    59,  1,     21,2,20011115,-55.4772, 140.7310, 3900,    150.1,   1.2230,  33.8620,2,  33.8610,2,    327.0,2,    327.3,2,    17.90,2,    27.42,2,     1.79,2,    5.648,6,    3.028,6,    0.530,6,   2150.0,2,   2277.0,2,   1.21619232
  09AR20011029,  SR03,    59,  1,     20,2,20011115,-55.4772, 140.7310, 3900,    201.1,   2.2580,  34.1350,3,  34.1410,0,    247.2,2,    256.7,2,    34.80,2,    31.47,2,     2.06,2,    3.782,2,    1.948,2,    0.310,3,   2191.3,2,   2289.9,2,         -999
  09AR20011029,  SR03,    59,  1,     19,4,20011115,-55.4772, 140.7310, 3900,    300.5,   2.2860,  34.2750,2,  34.3960,0,    214.0,2,    193.5,4,    57.10,4,    34.09,4,     2.27,4,    1.374,2,    0.663,2,    0.120,3,   2237.6,3,   2316.4,4,   2.26912395
  09AR20011029,  SR03,    59,  1,    518,2,20011115,-55.4772, 140.7310, 3900,    400.1,   2.3560,  34.3860,2,  34.3860,2,    190.4,2,    194.6,2,    59.40,2,    34.60,2,     2.28,2,    1.593,2,    0.776,2,    0.120,3,   2235.3,2,   2313.1,2,   2.33289355
  09AR20011029,  SR03,    59,  1,     17,2,20011115,-55.4772, 140.7310, 3900,    500.3,   2.3900,  34.4770,2,  34.4760,2,    184.5,2,    182.8,2,    66.10,2,    34.62,2,     2.30,2,    1.020,2,    0.479,2,    0.070,3,   2245.4,2,   2321.7,2,   2.36047707
  09AR20011029,  SR03,    59,  1,     16,2,20011115,-55.4772, 140.7310, 3900,    600.2,   2.3550,  34.5400,2,  34.5400,2,    180.9,2,    178.6,2,    69.70,2,    34.38,2,     2.29,2,    0.708,2,    0.333,2,    0.060,3,   2249.5,2,   2327.7,2,   2.31919194
  09AR20011029,  SR03,    59,  1,     15,2,20011115,-55.4772, 140.7310, 3900,    701.9,   2.3310,  34.5920,2,  34.5920,2,    179.2,2,    178.1,2,    73.60,2,    33.70,2,     2.24,2,    0.512,2,    0.246,2,    0.030,3,   2251.5,2,   2331.8,2,   2.28861249
  09AR20011029,  SR03,    59,  1,     14,2,20011115,-55.4772, 140.7310, 3900,    849.5,   2.2820,  34.6520,2,  34.6520,2,    182.6,2,    180.7,2,    75.60,2,    32.85,2,     2.17,2,    0.323,2,    0.149,2,    0.010,3,   2250.4,2,   2336.5,2,   2.22992213
  09AR20011029,  SR03,    59,  1,     13,2,20011115,-55.4772, 140.7310, 3900,   1000.2,   2.2170,  34.6870,2,  34.6880,2,    186.8,2,    184.1,2,    75.90,2,    32.72,2,     2.17,2,    0.226,2,    0.114,2,    0.010,3,   2249.0,2,   2340.1,6,   2.15491603
  09AR20011029,  SR03,    59,  1,     12,2,20011115,-55.4772, 140.7310, 3900,   1153.2,   2.1330,  34.7140,2,  34.7140,2,    189.7,2,    188.0,2,    79.40,2,    31.53,2,     2.09,2,    0.194,2,    0.085,2,    0.000,3,   2249.1,6,   2341.7,2,   2.06070774
  09AR20011029,  SR03,    59,  1,     11,2,20011115,-55.4772, 140.7310, 3900,   1298.6,   2.0350,  34.7330,2,  34.7340,2,    192.8,2,    192.8,2,    82.10,2,    30.04,4,     2.05,2,    0.155,2,    0.073,2,    0.010,3,   2245.6,2,   2344.4,2,   1.95302777
  09AR20011029,  SR03,    59,  1,     10,2,20011115,-55.4772, 140.7310, 3900,   1499.5,   1.9010,  34.7440,2,  34.7450,2,    196.6,2,    197.5,2,    86.60,2,    30.64,2,     2.02,2,    0.128,2,    0.068,2,    0.000,3,   2246.5,2,   2345.6,2,    1.8054696
  09AR20011029,  SR03,    59,  1,      9,2,20011115,-55.4772, 140.7310, 3900,   1800.7,   1.6390,  34.7470,2,  34.7470,2,    200.7,2,    202.1,2,    94.30,2,    30.68,2,     2.03,2,    0.092,2,    0.041,2,    0.010,3,   2249.1,2,   2352.3,2,   1.52359022
  09AR20011029,  SR03,    59,  1,      8,2,20011115,-55.4772, 140.7310, 3900,   2099.5,   1.3790,  34.7370,2,  34.7380,2,    204.9,2,   -999.0,9,    97.80,2,    30.98,2,     2.05,2,    0.097,2,    0.034,2,    0.010,3,   2253.0,2,   2355.4,2,   1.24365788
  09AR20011029,  SR03,    59,  1,      7,2,20011115,-55.4772, 140.7310, 3900,   2401.4,   1.1460,  34.7260,2,  34.7290,2,    206.8,2,    208.1,2,   108.40,2,    31.35,2,     2.08,2,    0.082,2,    0.040,2,    0.000,3,   2254.8,2,   2356.9,2,  0.989725456
  09AR20011029,  SR03,    59,  1,      6,2,20011115,-55.4772, 140.7310, 3900,   2698.6,   0.8990,  34.7130,2,  34.7140,2,    211.3,2,    211.1,2,   115.00,2,    31.82,2,     2.10,2,    0.125,2,    0.059,2,    0.020,3,   2257.6,2,   2356.5,2,  0.722124389
  09AR20011029,  SR03,    59,  1,      5,2,20011115,-55.4772, 140.7310, 3900,   2999.3,   0.6400,  34.7000,2,  34.7020,2,    215.8,2,    215.8,2,   115.90,4,    32.20,2,     2.13,2,    0.148,2,    0.078,2,    0.010,3,   2258.5,2,   2357.3,2,  0.442158091
  09AR20011029,  SR03,    59,  1,      4,2,20011115,-55.4772, 140.7310, 3900,   3299.6,   0.4740,  34.6940,2,  34.6950,2,    218.6,2,    219.6,2,   113.50,4,    32.30,2,     2.16,2,    0.237,2,    0.109,2,    0.010,3,   2259.6,2,   2358.0,2,  0.252657185
  09AR20011029,  SR03,    59,  1,      3,2,20011115,-55.4772, 140.7310, 3900,   3601.1,   0.4600,  34.6920,2,  34.6930,2,    220.6,2,    220.3,2,   114.60,4,    32.43,2,     2.17,2,    0.264,2,    0.119,2,    0.010,3,   2260.1,2,   2358.4,2,  0.210370122
  09AR20011029,  SR03,    59,  1,      2,2,20011115,-55.4772, 140.7310, 3900,   3947.6,   0.4450,  34.6900,2,  34.6910,2,    222.7,2,    221.2,2,   132.40,4,    32.45,2,     2.16,2,    0.257,2,    0.121,2,    0.020,3,   2260.8,2,   2358.1,6,  0.161303945
  09AR20011029,  SR03,    59,  1,      1,2,20011115,-55.4772, 140.7310, 3900,   4100.3,   0.4110,  34.6880,2,  34.6910,2,    224.0,2,    222.3,2,   127.90,4,    32.43,2,     2.16,2,    0.287,2,    0.136,2,    0.020,3,   2260.2,6,   2358.0,2,  0.112575595