BOTTLE,20081126PRINUNIVRMK
EXPOCODE,SECT_ID,STNNBR,CASTNO,BTLNBR,BTLNBR_FLAG_W,DATE,LATITUDE,LONGITUDE,DEPTH,CTDPRS,CTDTMP,CTDSAL,CTDSAL_FLAG_W,SALNTY,SALNTY_FLAG_W,CTDOXY,CTDOXY_FLAG_W,OXYGEN,OXYGEN_FLAG_W,SILCAT,SILCAT_FLAG_W,NITRAT,NITRAT_FLAG_W,PHSPHT,PHSPHT_FLAG_W,CFC-11,CFC-11_FLAG_W,CFC-12,CFC-12_FLAG_W,CFC113,CFC113_FLAG_W,TCARBN,TCARBN_FLAG_W,ALKALI,ALKALI_FLAG_W,THETA
,,,,,,,,,METERS,DBARS,ITS-90,PSS-78,,PSS-78,,UMOL/KG,,UMOL/KG,,UMOL/KG,,UMOL/KG,,UMOL/KG,,PMOL/KG,,PMOL/KG,,PMOL/KG,,UMOL/KG,,UMOL/KG,,DEGC
  09AR20011029,  SR03,   129,  1,     23,2,20011207,-60.8372, 139.8830, 4306,      4.7,   0.1050,  33.9190,2,  33.9180,2,   -999.0,5,   -999.0,9,    26.50,2,    27.41,2,     1.69,2, -999.000,9, -999.000,9, -999.000,9,   -999.0,9,   -999.0,9,  0.104836923
  09AR20011029,  SR03,   129,  1,     24,2,20011207,-60.8372, 139.8830, 4306,      5.6,   0.1040,  33.9200,2,-999.0000,9,   -999.0,5,   -999.0,9,  -999.00,9,  -999.00,9,  -999.00,9, -999.000,9, -999.000,9, -999.000,9,   -999.0,9,   -999.0,9,  0.103805675
  09AR20011029,  SR03,   129,  1,     22,2,20011207,-60.8372, 139.8830, 4306,     20.1,   0.1020,  33.9210,2,-999.0000,9,   -999.0,5,   -999.0,9,  -999.00,9,  -999.00,9,  -999.00,9, -999.000,9, -999.000,9, -999.000,9,   -999.0,9,   -999.0,9,  0.101300125
  09AR20011029,  SR03,   129,  1,     21,2,20011207,-60.8372, 139.8830, 4306,     20.2,   0.1020,  33.9210,2,  33.9190,2,   -999.0,5,   -999.0,9,    26.50,2,    27.42,2,     1.70,2, -999.000,9, -999.000,9, -999.000,9,   -999.0,9,   -999.0,9,  0.101296701
  09AR20011029,  SR03,   129,  1,     20,2,20011207,-60.8372, 139.8830, 4306,     20.8,   0.1020,  33.9210,2,-999.0000,9,   -999.0,5,   -999.0,9,  -999.00,9,  -999.00,9,  -999.00,9, -999.000,9, -999.000,9, -999.000,9,   -999.0,9,   -999.0,9,  0.101275617
  09AR20011029,  SR03,   129,  1,     19,2,20011207,-60.8372, 139.8830, 4306,     40.1,   0.1050,  33.9230,2,  33.9220,2,   -999.0,5,   -999.0,9,    26.60,2,    27.66,2,     1.72,2, -999.000,9, -999.000,9, -999.000,9,   -999.0,9,   -999.0,9,  0.103595221
  09AR20011029,  SR03,   129,  1,    218,2,20011207,-60.8372, 139.8830, 4306,     40.7,   0.1060,  33.9240,3,-999.0000,9,   -999.0,5,   -999.0,9,  -999.00,9,  -999.00,9,  -999.00,9, -999.000,9, -999.000,9, -999.000,9,   -999.0,9,   -999.0,9,         -999
  09AR20011029,  SR03,   129,  1,     17,2,20011207,-60.8372, 139.8830, 4306,     59.6,   0.1340,  33.9380,2,  33.9360,2,   -999.0,5,   -999.0,9,    26.50,2,    27.57,2,     1.72,2, -999.000,9, -999.000,9, -999.000,9,   -999.0,9,   -999.0,9,  0.131885055
  09AR20011029,  SR03,   129,  1,     16,2,20011207,-60.8372, 139.8830, 4306,     60.6,   0.1350,  33.9390,2,-999.0000,9,   -999.0,5,   -999.0,9,  -999.00,9,  -999.00,9,  -999.00,9, -999.000,9, -999.000,9, -999.000,9,   -999.0,9,   -999.0,9,  0.132848152
  09AR20011029,  SR03,   129,  1,     11,2,20011207,-60.8372, 139.8830, 4306,     80.3,   0.1050,  33.9390,2,  33.9380,2,   -999.0,5,   -999.0,9,    26.70,2,    27.60,2,     1.73,2, -999.000,9, -999.000,9, -999.000,9,   -999.0,9,   -999.0,9,  0.102154746
  09AR20011029,  SR03,   129,  1,     13,2,20011207,-60.8372, 139.8830, 4306,     80.8,   0.1060,  33.9390,2,-999.0000,9,   -999.0,5,   -999.0,9,  -999.00,9,  -999.00,9,  -999.00,9, -999.000,9, -999.000,9, -999.000,9,   -999.0,9,   -999.0,9,  0.103135816
  09AR20011029,  SR03,   129,  1,     12,2,20011207,-60.8372, 139.8830, 4306,     80.9,   0.1060,  33.9390,2,-999.0000,9,   -999.0,5,   -999.0,9,  -999.00,9,  -999.00,9,  -999.00,9, -999.000,9, -999.000,9, -999.000,9,   -999.0,9,   -999.0,9,  0.103132197
  09AR20011029,  SR03,   129,  1,    715,2,20011207,-60.8372, 139.8830, 4306,     81.1,   0.1070,  33.9390,2,-999.0000,9,   -999.0,5,   -999.0,9,  -999.00,9,  -999.00,9,  -999.00,9, -999.000,9, -999.000,9, -999.000,9,   -999.0,9,   -999.0,9,  0.104124266
  09AR20011029,  SR03,   129,  1,     14,2,20011207,-60.8372, 139.8830, 4306,     81.1,   0.1070,  33.9390,2,-999.0000,9,   -999.0,5,   -999.0,9,  -999.00,9,  -999.00,9,  -999.00,9, -999.000,9, -999.000,9, -999.000,9,   -999.0,9,   -999.0,9,  0.104124266
  09AR20011029,  SR03,   129,  1,    709,2,20011207,-60.8372, 139.8830, 4306,     89.6,   0.0790,  33.9350,4,  33.9370,2,   -999.0,5,   -999.0,9,    27.10,2,    27.68,2,     1.75,2, -999.000,9, -999.000,9, -999.000,9,   -999.0,9,   -999.0,9, 0.0758375724
  09AR20011029,  SR03,   129,  1,    310,2,20011207,-60.8372, 139.8830, 4306,     90.1,   0.0830,  33.9400,3,-999.0000,9,   -999.0,5,   -999.0,9,  -999.00,9,  -999.00,9,  -999.00,9, -999.000,9, -999.000,9, -999.000,9,   -999.0,9,   -999.0,9,         -999
  09AR20011029,  SR03,   129,  1,      7,2,20011207,-60.8372, 139.8830, 4306,    100.9,  -0.1830,  33.9480,3,  33.9400,2,   -999.0,5,   -999.0,9,    29.40,2,    28.11,2,     1.83,2, -999.000,9, -999.000,9, -999.000,9,   -999.0,9,   -999.0,9, -0.186346577
  09AR20011029,  SR03,   129,  1,      8,2,20011207,-60.8372, 139.8830, 4306,    101.2,  -0.1470,  33.9390,2,-999.0000,9,   -999.0,5,   -999.0,9,  -999.00,9,  -999.00,9,  -999.00,9, -999.000,9, -999.000,9, -999.000,9,   -999.0,9,   -999.0,9, -0.150387787
  09AR20011029,  SR03,   129,  1,      6,2,20011207,-60.8372, 139.8830, 4306,    119.3,  -0.2190,  34.0070,4,-999.0000,9,   -999.0,5,   -999.0,9,  -999.00,9,  -999.00,9,  -999.00,9, -999.000,9, -999.000,9, -999.000,9,   -999.0,9,   -999.0,9,         -999
  09AR20011029,  SR03,   129,  1,      5,2,20011207,-60.8372, 139.8830, 4306,    119.4,  -0.0330,  34.0540,4,  33.9910,2,   -999.0,5,   -999.0,9,    34.10,2,    29.22,2,     1.89,2, -999.000,9, -999.000,9, -999.000,9,   -999.0,9,   -999.0,9,-0.0371451901
  09AR20011029,  SR03,   129,  1,      4,2,20011207,-60.8372, 139.8830, 4306,    149.6,   1.5630,  34.3330,4,  34.3340,2,   -999.0,5,   -999.0,9,    62.20,2,    35.05,2,     2.28,2, -999.000,9, -999.000,9, -999.000,9,   -999.0,9,   -999.0,9,   1.55566314
  09AR20011029,  SR03,   129,  1,      3,2,20011207,-60.8372, 139.8830, 4306,    175.9,   2.0490,  34.4240,4,  34.4140,0,   -999.0,5,   -999.0,9,    67.50,2,    35.64,2,     2.32,2, -999.000,9, -999.000,9, -999.000,9,   -999.0,9,   -999.0,9,         -999
  09AR20011029,  SR03,   129,  1,      2,2,20011207,-60.8372, 139.8830, 4306,    199.8,   2.0990,  34.4550,3,  34.4520,2,   -999.0,5,   -999.0,9,    70.90,2,    35.73,2,     2.32,2, -999.000,9, -999.000,9, -999.000,9,   -999.0,9,   -999.0,9,   2.08819001
  09AR20011029,  SR03,   129,  1,      1,2,20011207,-60.8372, 139.8830, 4306,    299.5,   2.1540,  34.5370,2,  34.5370,2,   -999.0,5,   -999.0,9,    76.40,2,    35.28,2,     2.29,2, -999.000,9, -999.000,9, -999.000,9,   -999.0,9,   -999.0,9,   2.13736515
  09AR20011029,  SR03,   130,  1,     23,2,20011207,-60.8357, 139.8955, 4304,      5.6,   0.1210,  33.9160,2,-999.0000,9,   -999.0,5,   -999.0,9,  -999.00,9,  -999.00,9,  -999.00,9, -999.000,9, -999.000,9, -999.000,9,   -999.0,9,   -999.0,9,  0.120804903
  09AR20011029,  SR03,   130,  1,     22,2,20011207,-60.8357, 139.8955, 4304,      5.6,   0.1210,  33.9180,3,-999.0000,9,   -999.0,5,   -999.0,9,  -999.00,9,  -999.00,9,  -999.00,9, -999.000,9, -999.000,9, -999.000,9,   -999.0,9,   -999.0,9,         -999
  09AR20011029,  SR03,   130,  1,     24,2,20011207,-60.8357, 139.8955, 4304,      5.8,   0.1220,  33.9150,3,  33.9170,2,   -999.0,5,   -999.0,9,    26.30,2,    27.43,2,     1.68,2, -999.000,9, -999.000,9, -999.000,9,   -999.0,9,   -999.0,9,  0.121797864
  09AR20011029,  SR03,   130,  1,     21,2,20011207,-60.8357, 139.8955, 4304,      5.8,   0.1210,  33.9160,2,-999.0000,9,   -999.0,5,   -999.0,9,  -999.00,9,  -999.00,9,  -999.00,9, -999.000,9, -999.000,9, -999.000,9,   -999.0,9,   -999.0,9,  0.120797925
  09AR20011029,  SR03,   130,  1,     20,2,20011207,-60.8357, 139.8955, 4304,     25.9,   0.1170,  33.9160,2,-999.0000,9,   -999.0,5,   -999.0,9,    26.40,2,    27.43,2,     1.69,2, -999.000,9, -999.000,9, -999.000,9,   -999.0,9,   -999.0,9,  0.116093707
  09AR20011029,  SR03,   130,  1,    218,2,20011207,-60.8357, 139.8955, 4304,     50.2,   0.0950,  33.9200,2,-999.0000,9,   -999.0,5,   -999.0,9,  -999.00,9,  -999.00,9,  -999.00,9, -999.000,9, -999.000,9, -999.000,9,   -999.0,9,   -999.0,9, 0.0932411956
  09AR20011029,  SR03,   130,  1,     19,2,20011207,-60.8357, 139.8955, 4304,     50.3,   0.0890,  33.9190,2,-999.0000,9,   -999.0,5,   -999.0,9,    26.70,2,    27.53,2,     1.71,2, -999.000,9, -999.000,9, -999.000,9,   -999.0,9,   -999.0,9, 0.0872403178
  09AR20011029,  SR03,   130,  1,     17,2,20011207,-60.8357, 139.8955, 4304,     70.3,   0.1270,  33.9360,2,  33.9360,2,   -999.0,5,   -999.0,9,    26.50,2,    27.70,2,     1.73,2, -999.000,9, -999.000,9, -999.000,9,   -999.0,9,   -999.0,9,  0.124502627
  09AR20011029,  SR03,   130,  1,     16,2,20011207,-60.8357, 139.8955, 4304,     90.3,  -0.0590,  33.9370,4,-999.0000,9,   -999.0,5,   -999.0,9,    27.90,2,    27.93,2,     1.78,2, -999.000,9, -999.000,9, -999.000,9,   -999.0,9,   -999.0,9,         -999
  09AR20011029,  SR03,   130,  1,    715,2,20011207,-60.8357, 139.8955, 4304,    101.0,  -0.2220,  33.9500,3,  33.9530,2,   -999.0,5,   -999.0,9,    30.30,2,    28.34,2,     1.83,2, -999.000,9, -999.000,9, -999.000,9,   -999.0,9,   -999.0,9, -0.225318757
  09AR20011029,  SR03,   130,  1,     14,2,20011207,-60.8357, 139.8955, 4304,    120.3,  -0.3440,  33.9720,4,-999.0000,9,   -999.0,5,   -999.0,9,    33.50,2,    29.08,2,     1.89,2, -999.000,9, -999.000,9, -999.000,9,   -999.0,9,   -999.0,9,         -999
  09AR20011029,  SR03,   130,  1,     13,2,20011207,-60.8357, 139.8955, 4304,    150.8,   1.5860,  34.3330,4,  34.5070,0,   -999.0,5,   -999.0,9,    62.40,2,    35.04,2,     2.29,2, -999.000,9, -999.000,9, -999.000,9,   -999.0,9,   -999.0,9,         -999
  09AR20011029,  SR03,   130,  1,     12,2,20011207,-60.8357, 139.8955, 4304,    199.8,   2.0150,  34.4440,2,-999.0000,9,   -999.0,5,   -999.0,9,    70.30,2,    35.70,2,     2.32,2, -999.000,9, -999.000,9, -999.000,9,   -999.0,9,   -999.0,9,   2.00433061
  09AR20011029,  SR03,   130,  1,     11,2,20011207,-60.8357, 139.8955, 4304,    250.6,   2.1220,  34.5070,2,-999.0000,9,   -999.0,5,   -999.0,9,    74.70,2,    35.61,2,     2.32,2, -999.000,9, -999.000,9, -999.000,9,   -999.0,9,   -999.0,9,   2.10826268
  09AR20011029,  SR03,   130,  1,    310,2,20011207,-60.8357, 139.8955, 4304,    301.2,   2.1600,  34.5530,2,-999.0000,9,   -999.0,5,   -999.0,9,    77.20,2,    35.13,2,     2.28,2, -999.000,9, -999.000,9, -999.000,9,   -999.0,9,   -999.0,9,   2.14324312
  09AR20011029,  SR03,   130,  1,    709,2,20011207,-60.8357, 139.8955, 4304,    349.8,   2.1560,  34.5820,2,  34.5800,2,   -999.0,5,   -999.0,9,    78.90,2,    34.81,2,     2.26,2, -999.000,9, -999.000,9, -999.000,9,   -999.0,9,   -999.0,9,   2.13639201
  09AR20011029,  SR03,   130,  1,      8,2,20011207,-60.8357, 139.8955, 4304,    399.9,   2.1660,  34.6050,2,-999.0000,9,   -999.0,5,   -999.0,9,    80.00,2,    34.54,2,     2.25,2, -999.000,9, -999.000,9, -999.000,9,   -999.0,9,   -999.0,9,    2.1433666
  09AR20011029,  SR03,   130,  1,      7,2,20011207,-60.8357, 139.8955, 4304,    450.4,   2.1090,  34.6300,2,-999.0000,9,   -999.0,5,   -999.0,9,    81.40,2,    34.09,2,     2.22,2, -999.000,9, -999.000,9, -999.000,9,   -999.0,9,   -999.0,9,   2.08350755
  09AR20011029,  SR03,   130,  1,      6,2,20011207,-60.8357, 139.8955, 4304,    501.0,   2.1360,  34.6550,2,  34.6540,2,   -999.0,5,   -999.0,9,    82.30,2,    33.73,2,     2.19,2, -999.000,9, -999.000,9, -999.000,9,   -999.0,9,   -999.0,9,    2.1073024
  09AR20011029,  SR03,   130,  1,      5,2,20011207,-60.8357, 139.8955, 4304,    600.4,   2.0590,  34.6760,2,-999.0000,9,   -999.0,5,   -999.0,9,    84.20,2,    33.30,2,     2.16,2, -999.000,9, -999.000,9, -999.000,9,   -999.0,9,   -999.0,9,   2.02446434
  09AR20011029,  SR03,   130,  1,      4,2,20011207,-60.8357, 139.8955, 4304,    800.5,   1.9590,  34.7160,2,  34.7160,2,   -999.0,5,   -999.0,9,    86.90,2,    31.92,2,     2.09,2, -999.000,9, -999.000,9, -999.000,9,   -999.0,9,   -999.0,9,    1.9122185
  09AR20011029,  SR03,   130,  1,      1,2,20011207,-60.8357, 139.8955, 4304,   1000.6,   1.8550,  34.7350,2,-999.0000,9,   -999.0,5,   -999.0,9,  -999.00,9,  -999.00,9,  -999.00,9, -999.000,9, -999.000,9, -999.000,9,   -999.0,9,   -999.0,9,   1.79567603
  09AR20011029,  SR03,   130,  1,      3,2,20011207,-60.8357, 139.8955, 4304,   1000.8,   1.8530,  34.7340,2,  34.7350,2,   -999.0,5,   -999.0,9,    90.10,2,    31.57,2,     2.05,2, -999.000,9, -999.000,9, -999.000,9,   -999.0,9,   -999.0,9,   1.79367843
  09AR20011029,  SR03,   130,  1,      2,2,20011207,-60.8357, 139.8955, 4304,   1000.9,   1.8530,  34.7340,2,-999.0000,9,   -999.0,5,   -999.0,9,  -999.00,9,  -999.00,9,  -999.00,9, -999.000,9, -999.000,9, -999.000,9,   -999.0,9,   -999.0,9,   1.79367344
  09AR20011029,  SR03,   131,  1,     24,2,20011207,-60.8285, 139.9377, 4307,     10.8,   0.1130,  33.9330,2,-999.0000,9,    354.7,3,   -999.0,9,  -999.00,9,  -999.00,9,  -999.00,9, -999.000,9, -999.000,9, -999.000,9,   -999.0,9,   -999.0,9,  0.112623615
  09AR20011029,  SR03,   131,  1,     23,2,20011207,-60.8285, 139.9377, 4307,     10.8,   0.1120,  33.9330,2,  33.9340,2,    354.7,3,    356.1,2,    26.30,2,    27.56,2,     1.70,2,    6.557,2,    3.421,2,    0.630,2,   2159.4,6,   2287.5,6,  0.111623687
  09AR20011029,  SR03,   131,  1,     22,2,20011207,-60.8285, 139.9377, 4307,     31.0,   0.1320,  33.9410,2,-999.0000,9,    354.4,2,   -999.0,9,  -999.00,9,  -999.00,9,  -999.00,9, -999.000,9, -999.000,9, -999.000,9,   -999.0,9,   -999.0,9,  0.130908354
  09AR20011029,  SR03,   131,  1,     21,2,20011207,-60.8285, 139.9377, 4307,     31.1,   0.1330,  33.9400,2,  33.9420,2,    354.4,2,    355.8,2,    26.10,2,    27.69,2,     1.73,2,    6.529,2,    3.408,2,    0.620,2,   2160.7,2,   2288.2,2,   0.13190448
  09AR20011029,  SR03,   131,  1,     20,2,20011207,-60.8285, 139.9377, 4307,     65.2,   0.1280,  33.9380,2,-999.0000,9,    354.2,2,   -999.0,9,  -999.00,9,  -999.00,9,  -999.00,9, -999.000,9, -999.000,9, -999.000,9,   -999.0,9,   -999.0,9,  0.125686063
  09AR20011029,  SR03,   131,  1,     19,2,20011207,-60.8285, 139.9377, 4307,     65.3,   0.1300,  33.9390,2,  33.9390,2,    354.2,2,    356.0,2,    26.10,2,    27.67,2,     1.72,2,    6.535,2,    3.415,2,    0.610,2,   2158.4,2,   2288.2,2,  0.127681217
  09AR20011029,  SR03,   131,  1,     17,2,20011207,-60.8285, 139.9377, 4307,     85.6,   0.1340,  33.9460,2,  33.9470,2,    355.2,2,    355.9,2,    26.10,2,    27.81,2,     1.72,2,    6.563,2,    3.424,2,    0.620,2,   -999.0,9,   -999.0,9,  0.130940166
  09AR20011029,  SR03,   131,  1,    218,2,20011207,-60.8285, 139.9377, 4307,     86.0,   0.1380,  33.9470,2,-999.0000,9,    355.2,2,   -999.0,9,  -999.00,9,  -999.00,9,  -999.00,9, -999.000,9, -999.000,9, -999.000,9,   2160.4,2,   2289.1,2,   0.13492262
  09AR20011029,  SR03,   131,  1,    715,2,20011207,-60.8285, 139.9377, 4307,    100.9,   0.0940,  33.9450,4,  33.9450,2,    360.5,2,    355.2,2,    26.50,2,    27.80,2,     1.74,2,    6.530,2,    3.406,2,    0.620,2,   -999.0,9,   -999.0,9, 0.0904138126
  09AR20011029,  SR03,   131,  1,     16,2,20011207,-60.8285, 139.9377, 4307,    101.0,   0.1220,  33.9460,4,-999.0000,9,    359.1,2,   -999.0,9,  -999.00,9,  -999.00,9,  -999.00,9, -999.000,9, -999.000,9, -999.000,9,   2160.7,2,   2288.0,2,         -999
  09AR20011029,  SR03,   131,  1,     13,2,20011207,-60.8285, 139.9377, 4307,    120.4,  -0.2200,  33.9820,4,  33.9950,2,    342.6,2,    334.7,2,    34.80,2,    29.43,2,     1.92,2,    6.052,2,    3.139,2,    0.570,2,   -999.0,9,   -999.0,9, -0.223989639
  09AR20011029,  SR03,   131,  1,     14,2,20011207,-60.8285, 139.9377, 4307,    120.7,  -0.1920,  33.9710,3,-999.0000,9,    342.6,2,   -999.0,9,  -999.00,9,  -999.00,9,  -999.00,9, -999.000,9, -999.000,9, -999.000,9,   2175.7,2,   2291.8,2,         -999
  09AR20011029,  SR03,   131,  1,     12,2,20011207,-60.8285, 139.9377, 4307,    141.1,   0.3760,  34.1530,4,  34.1480,2,    275.4,2,    278.2,2,    48.00,2,    32.32,2,     2.13,2,    4.407,2,    2.281,2,    0.410,2,   2203.7,2,   2300.6,2,  0.370541651
  09AR20011029,  SR03,   131,  1,     11,2,20011207,-60.8285, 139.9377, 4307,    200.4,   2.0100,  34.4460,2,  34.4440,2,    186.1,2,    187.1,2,    70.20,2,    35.61,2,     2.33,2, -999.000,9, -999.000,9, -999.000,9,   2249.0,2,   2319.0,2,   1.99930578
  09AR20011029,  SR03,   131,  1,    310,2,20011207,-60.8285, 139.9377, 4307,    250.4,   2.0960,  34.4960,2,-999.0000,9,    180.0,2,   -999.0,9,  -999.00,9,  -999.00,9,  -999.00,9, -999.000,9, -999.000,9, -999.000,9,   -999.0,9,   -999.0,9,   2.08233224
  09AR20011029,  SR03,   131,  1,      7,2,20011207,-60.8285, 139.9377, 4307,    250.4,   2.0980,  34.5010,2,  34.4990,2,    180.0,2,    180.2,2,    74.20,2,    35.57,2,     2.32,2, -999.000,9, -999.000,9, -999.000,9,   -999.0,9,   -999.0,9,    2.0843268
  09AR20011029,  SR03,   131,  1,      8,2,20011207,-60.8285, 139.9377, 4307,    250.7,   2.0970,  34.5000,2,-999.0000,9,    180.0,2,   -999.0,9,  -999.00,9,  -999.00,9,  -999.00,9, -999.000,9, -999.000,9, -999.000,9,   -999.0,9,   -999.0,9,   2.08331139
  09AR20011029,  SR03,   131,  1,    709,2,20011207,-60.8285, 139.9377, 4307,    250.8,   2.0970,  34.4960,2,-999.0000,9,    180.0,2,   -999.0,9,  -999.00,9,  -999.00,9,  -999.00,9, -999.000,9, -999.000,9, -999.000,9,   2252.9,2,   2324.4,2,   2.08330751
  09AR20011029,  SR03,   131,  1,      6,2,20011207,-60.8285, 139.9377, 4307,    300.8,   2.1070,  34.5430,2,-999.0000,9,    179.5,2,   -999.0,9,  -999.00,9,  -999.00,9,  -999.00,9, -999.000,9, -999.000,9, -999.000,9,   -999.0,9,   -999.0,9,   2.09040179
  09AR20011029,  SR03,   131,  1,      5,2,20011207,-60.8285, 139.9377, 4307,    301.0,   2.1030,  34.5440,2,  34.5420,2,    179.5,2,    177.7,2,    76.70,2,    35.14,2,     2.29,2, -999.000,9, -999.000,9, -999.000,9,   2255.7,2,   2327.2,2,   2.08640061
  09AR20011029,  SR03,   131,  1,      4,2,20011207,-60.8285, 139.9377, 4307,    351.0,   2.0930,  34.5770,2,  34.5770,2,    181.7,2,    177.8,2,    78.80,2,    34.78,2,     2.27,2, -999.000,9, -999.000,9, -999.000,9,   2255.8,2,   2331.3,2,   2.07350311
  09AR20011029,  SR03,   131,  1,      3,2,20011207,-60.8285, 139.9377, 4307,    400.7,   2.0930,  34.6080,2,  34.6060,2,    181.6,2,    177.8,2,    80.20,2,    34.32,2,     2.25,2, -999.000,9, -999.000,9, -999.000,9,   2256.4,2,   2333.7,2,   2.07055548
  09AR20011029,  SR03,   131,  1,      2,2,20011207,-60.8285, 139.9377, 4307,    450.4,   2.0980,  34.6250,2,  34.6250,2,    181.3,2,    177.8,2,    81.20,2,    34.10,2,     2.23,2, -999.000,9, -999.000,9, -999.000,9,   2255.4,2,   2334.5,2,   2.07255171
  09AR20011029,  SR03,   131,  1,      1,2,20011207,-60.8285, 139.9377, 4307,    500.5,   2.0820,  34.6470,2,  34.6460,2,    182.4,2,    179.0,2,    82.20,2,    33.61,2,     2.20,2, -999.000,9, -999.000,9, -999.000,9,   2255.7,6,   2335.4,2,   2.05355879