BOTTLE,20081126PRINUNIVRMK
EXPOCODE,SECT_ID,STNNBR,CASTNO,BTLNBR,BTLNBR_FLAG_W,DATE,LATITUDE,LONGITUDE,DEPTH,CTDPRS,CTDTMP,CTDSAL,CTDSAL_FLAG_W,SALNTY,SALNTY_FLAG_W,CTDOXY,CTDOXY_FLAG_W,OXYGEN,OXYGEN_FLAG_W,SILCAT,SILCAT_FLAG_W,NITRAT,NITRAT_FLAG_W,PHSPHT,PHSPHT_FLAG_W,CFC-11,CFC-11_FLAG_W,CFC-12,CFC-12_FLAG_W,CFC113,CFC113_FLAG_W,TCARBN,TCARBN_FLAG_W,ALKALI,ALKALI_FLAG_W,THETA
,,,,,,,,,METERS,DBARS,ITS-90,PSS-78,,PSS-78,,UMOL/KG,,UMOL/KG,,UMOL/KG,,UMOL/KG,,UMOL/KG,,PMOL/KG,,PMOL/KG,,PMOL/KG,,UMOL/KG,,UMOL/KG,,DEGC
  09AR20011029,  SR03,    90,  1,     24,2,20011126,-64.5185, 141.3883, 3404,      7.7,  -1.6270,  33.9690,2,  33.9640,2,    437.6,3,    354.1,2,    44.30,2,    28.32,2,     1.75,2,    6.232,2,    3.216,2,    0.560,2,   2168.7,6,   2291.4,2,  -1.62715239
  09AR20011029,  SR03,    90,  1,     23,2,20011126,-64.5185, 141.3883, 3404,     40.9,  -1.6160,  33.9850,2,  33.9850,2,    353.0,2,    351.5,2,    44.70,2,    28.29,2,     1.78,2,    6.100,2,    3.135,2,    0.540,2,   2172.7,2,   2294.2,6,  -1.61682853
  09AR20011029,  SR03,    90,  1,     22,2,20011126,-64.5185, 141.3883, 3404,     80.9,  -0.1800,  34.3560,2,  34.3520,2,    263.2,2,    264.7,2,    64.10,2,    32.49,2,     2.10,2,    3.605,2,    1.873,2,    0.320,2,   2223.9,2,   2315.6,2, -0.182733417
  09AR20011029,  SR03,    90,  1,     21,2,20011126,-64.5185, 141.3883, 3404,    120.1,   0.6240,  34.5020,2,  34.4980,2,    221.3,2,    227.9,2,    73.30,2,    33.06,2,     2.14,2,    2.333,2,    1.195,2,    0.210,2,   2238.7,2,   2326.8,2,  0.619047093
  09AR20011029,  SR03,    90,  1,     20,2,20011126,-64.5185, 141.3883, 3404,    161.1,   1.1370,  34.5970,3,  34.5970,2,    206.1,2,    208.2,2,    79.60,2,    32.78,2,     2.12,2,    1.477,2,    0.737,2,    0.130,2,   2248.2,2,   2334.1,2,   1.12957607
  09AR20011029,  SR03,    90,  1,     19,2,20011126,-64.5185, 141.3883, 3404,    220.9,   1.6500,  34.6780,2,  34.6790,2,    197.1,2,    192.5,2,    84.10,2,    32.54,2,     2.09,2,    0.653,2,    0.315,2,    0.050,2,   2250.5,2,   2338.4,2,   1.63873392
  09AR20011029,  SR03,    90,  1,    218,2,20011126,-64.5185, 141.3883, 3404,    301.4,   1.5250,  34.6880,2,  34.6880,2,    192.6,2,    198.7,2,    85.30,2,    32.06,2,     2.06,2,    0.697,2,    0.343,2,    0.050,2,   2250.2,2,   2342.3,2,   1.50972598
  09AR20011029,  SR03,    90,  1,     17,2,20011126,-64.5185, 141.3883, 3404,    401.1,   1.7000,  34.7250,2,  34.7250,2,    193.7,2,    195.8,2,    88.20,2,    31.51,2,     2.03,2, -999.000,9, -999.000,9, -999.000,9,   2250.6,2,   2344.0,2,   1.67873064
  09AR20011029,  SR03,    90,  1,     16,2,20011126,-64.5185, 141.3883, 3404,    500.8,   1.6280,  34.7290,4,  34.7320,2,    199.7,2,    199.0,2,    89.60,2,    31.31,2,     2.01,2,    0.299,6,    0.143,6,    0.020,6,   2248.6,2,   2344.9,2,   1.60130915
  09AR20011029,  SR03,    90,  1,    715,2,20011126,-64.5185, 141.3883, 3404,    600.0,   1.5220,  34.7330,2,  34.7330,2,    203.9,2,    201.8,2,    92.30,2,    31.12,2,     2.01,2, -999.000,9, -999.000,9, -999.000,9,   2250.2,2,   2346.1,2,   1.49003507
  09AR20011029,  SR03,    90,  1,     14,2,20011126,-64.5185, 141.3883, 3404,    700.2,   1.3820,  34.7250,2,  34.7250,2,    202.3,2,    205.4,2,    93.70,2,    31.25,2,     2.04,2,    0.412,2,    0.206,2,    0.030,2,   2249.8,2,   2347.7,2,   1.34490871
  09AR20011029,  SR03,    90,  1,     13,2,20011126,-64.5185, 141.3883, 3404,    802.0,   1.3480,  34.7300,2,  34.7310,2,    204.6,2,    205.5,2,    96.60,2,    31.22,2,     2.01,2, -999.000,9, -999.000,9, -999.000,9,   2251.1,2,   2349.4,6,   1.30503788
  09AR20011029,  SR03,    90,  1,     12,2,20011126,-64.5185, 141.3883, 3404,   1002.1,   1.0810,  34.7170,2,  34.7160,2,    211.5,2,    209.4,2,   101.50,2,    31.56,2,     2.02,2,    0.421,2,    0.211,2,    0.030,2,   2252.0,6,   2350.9,2,   1.02780673
  09AR20011029,  SR03,    90,  1,     11,2,20011126,-64.5185, 141.3883, 3404,   1199.9,   0.9370,  34.7140,2,  34.7130,2,    213.4,2,    210.2,2,   108.10,2,    31.91,2,     2.06,2,    0.316,2,    0.161,2,    0.020,2,   2255.2,2,   2353.5,2,  0.872693204
  09AR20011029,  SR03,    90,  1,    310,2,20011126,-64.5185, 141.3883, 3404,   1401.2,   0.8180,  34.7120,2,  34.7120,2,    213.9,2,    210.4,2,   114.80,2,    32.05,2,     2.08,2,    0.172,2,    0.082,2,    0.010,2,   2258.6,2,   2355.0,2,  0.741860232
  09AR20011029,  SR03,    90,  1,    709,2,20011126,-64.5185, 141.3883, 3404,   1602.2,   0.6670,  34.7040,2,  34.7030,2,    216.7,2,    212.9,2,   118.00,2,    32.18,2,     2.10,2, -999.000,9, -999.000,9, -999.000,9,   2259.0,2,   2356.4,2,  0.579175199
  09AR20011029,  SR03,    90,  1,      8,2,20011126,-64.5185, 141.3883, 3404,   1900.6,   0.4220,  34.6880,2,  34.6890,2,    219.9,2,    217.3,2,   120.30,2,    32.51,2,     2.11,2,    0.445,2,    0.217,2,    0.030,2,   2257.6,2,   2354.3,2,  0.316776272
  09AR20011029,  SR03,    90,  1,      7,2,20011126,-64.5185, 141.3883, 3404,   2199.8,   0.2460,  34.6840,2,  34.6830,2,    225.6,2,    222.0,2,   120.50,2,    32.49,2,     2.11,2, -999.000,9, -999.000,9, -999.000,9,   2258.4,2,   2353.0,2,  0.121765477
  09AR20011029,  SR03,    90,  1,      6,2,20011126,-64.5185, 141.3883, 3404,   2500.3,   0.1270,  34.6800,2,  34.6790,2,    228.7,2,    226.5,2,   116.70,2,    32.34,2,     2.11,2,    1.012,2,    0.493,2,    0.080,2,   2256.4,2,   2352.4,2,-0.0181072679
  09AR20011029,  SR03,    90,  1,      5,2,20011126,-64.5185, 141.3883, 3404,   2800.4,   0.0010,  34.6760,2,  34.6750,2,    230.8,2,    231.6,2,   118.10,2,    32.41,2,     2.10,2,    1.149,2,    0.556,2,    0.080,2,   2256.5,2,   2353.5,2, -0.165704359
  09AR20011029,  SR03,    90,  1,      4,2,20011126,-64.5185, 141.3883, 3404,   3100.1,  -0.1220,  34.6680,2,  34.6710,2,    235.7,2,    237.3,2,   117.30,2,    32.39,2,     2.11,2,    1.486,2,    0.713,2,    0.110,2,   2254.7,2,   2351.6,2, -0.311200288
  09AR20011029,  SR03,    90,  1,      3,2,20011126,-64.5185, 141.3883, 3404,   3300.2,  -0.2800,  34.6540,2,  34.6570,2,    240.6,2,    245.0,2,   115.70,2,    32.18,2,     2.08,2,    1.968,2,    0.972,2,    0.150,2,   2253.6,2,   2348.9,2,  -0.48277556
  09AR20011029,  SR03,    90,  1,      2,2,20011126,-64.5185, 141.3883, 3404,   3398.1,  -0.4280,  34.6420,2,  34.6440,2,    245.2,2,    252.9,2,   104.20,2,    31.87,2,     2.07,2,    2.495,2,    1.250,2,    0.210,2,   2249.6,6,   2347.0,6, -0.635662666
  09AR20011029,  SR03,    90,  1,      1,2,20011126,-64.5185, 141.3883, 3404,   3495.9,  -0.5790,  34.6280,2,-999.0000,9,   -999.0,5,   -999.0,9,  -999.00,9,  -999.00,9,  -999.00,9, -999.000,9, -999.000,9, -999.000,9,   -999.0,9,   -999.0,9,  -0.79139181
  09AR20011029,  SR03,    91,  1,     24,2,20011126,-64.7817, 141.8342, 3011,     10.9,  -1.5350,  34.1130,2,  34.1110,2,    428.7,3,    353.5,2,    49.50,2,    27.52,2,     1.65,2,    5.679,2,    2.972,2,    0.510,2,   2175.7,6,   2303.3,2,  -1.53522802
  09AR20011029,  SR03,    91,  1,     23,2,20011126,-64.7817, 141.8342, 3011,     50.5,  -1.5350,  34.2260,3,  34.2280,2,    317.2,2,    324.9,2,    54.70,2,    29.29,2,     1.88,2,    4.990,2,    2.598,2,    0.450,2,   2194.7,2,   2309.7,6,  -1.53608766
  09AR20011029,  SR03,    91,  1,     22,2,20011126,-64.7817, 141.8342, 3011,    100.7,   0.0220,  34.4840,3,  34.4860,2,    244.3,2,    247.4,2,    72.90,2,    31.94,2,     2.06,2,    2.819,2,    1.462,2,    0.250,2,   2231.7,2,   2326.3,2, 0.0183801792
  09AR20011029,  SR03,    91,  1,     21,2,20011126,-64.7817, 141.8342, 3011,    152.0,   1.0280,  34.6320,2,  34.6310,2,    217.6,2,    213.0,2,    82.80,2,    31.93,2,     2.06,2,    1.399,2,    0.699,2,    0.120,2,   2247.5,2,   2337.5,2,   1.02113626
  09AR20011029,  SR03,    91,  1,     20,2,20011126,-64.7817, 141.8342, 3011,    200.6,   1.1620,  34.6660,2,  34.6640,2,    205.4,2,    209.2,2,    85.40,2,    31.73,2,     2.04,2,    1.104,2,    0.550,2,    0.090,2,   2245.0,2,   2340.7,2,    1.1526201
  09AR20011029,  SR03,    91,  1,     19,2,20011126,-64.7817, 141.8342, 3011,    299.5,   1.1950,  34.6870,2,  34.6870,2,    204.3,2,    209.1,2,    88.20,2,    31.37,2,     2.02,2,    0.906,2,    0.445,2,    0.070,2,   2247.3,2,   2341.1,2,   1.18064307
  09AR20011029,  SR03,    91,  1,    218,2,20011126,-64.7817, 141.8342, 3011,    400.7,   1.2510,  34.7040,2,  34.7030,2,    206.0,2,    207.5,2,    90.50,2,    31.22,2,     2.01,2,    0.719,2,    0.354,2,    0.060,2,   2248.6,2,   2345.5,2,   1.23124415
  09AR20011029,  SR03,    91,  1,     17,2,20011126,-64.7817, 141.8342, 3011,    500.0,   1.2580,  34.7170,2,  34.7160,2,    202.5,2,    206.8,2,    94.10,2,    31.11,2,     2.01,2,    0.523,2,    0.256,2,    0.040,2,   2250.4,2,   2347.9,2,   1.23288055
  09AR20011029,  SR03,    91,  1,     16,2,20011126,-64.7817, 141.8342, 3011,    600.7,   1.1530,  34.7180,2,  34.7170,2,    202.3,2,    207.8,2,    98.30,2,    31.34,2,     2.01,2,    0.459,2,    0.224,2,    0.040,2,   2251.5,2,   2349.2,2,   1.12281704
  09AR20011029,  SR03,    91,  1,    715,2,20011126,-64.7817, 141.8342, 3011,    700.1,   1.1160,  34.7200,2,  34.7200,2,    204.0,2,    208.0,2,   101.70,2,    31.42,2,     2.02,2,    0.367,2,    0.181,2,    0.030,2,   2252.7,2,   2351.1,2,   1.08043344
  09AR20011029,  SR03,    91,  1,     14,2,20011126,-64.7817, 141.8342, 3011,    800.4,   1.0090,  34.7200,2,  34.7180,2,    206.4,2,    208.9,2,   106.00,2,    31.60,2,     2.03,2,    0.304,2,    0.151,2,    0.020,2,   2253.5,2,   2351.6,2,  0.968349792
  09AR20011029,  SR03,    91,  1,     13,2,20011126,-64.7817, 141.8342, 3011,    899.2,   0.9360,  34.7160,2,  34.7160,2,    205.6,2,    209.3,2,   108.90,2,    31.65,2,     2.05,2,    0.266,2,    0.129,2,    0.020,2,   2255.5,2,   2355.5,6,  0.890107298
  09AR20011029,  SR03,    91,  1,     12,2,20011126,-64.7817, 141.8342, 3011,   1002.0,   0.7600,  34.7050,2,  34.7060,2,    211.4,2,    211.4,2,   112.60,2,    31.95,2,     2.06,2,    0.334,2,    0.164,2,    0.020,2,   2257.2,6,   2355.0,2,  0.709422874
  09AR20011029,  SR03,    91,  1,     11,2,20011126,-64.7817, 141.8342, 3011,   1202.5,   0.7000,  34.7060,2,  34.7050,2,    211.2,2,    212.2,2,   116.10,2,    32.17,2,     2.08,2,    0.256,6,    0.125,6,    0.020,6,   2258.0,2,   2354.9,2,  0.637825266
  09AR20011029,  SR03,    91,  1,    310,2,20011126,-64.7817, 141.8342, 3011,   1399.7,   0.5450,  34.6970,2,  34.6970,2,    214.4,2,    214.3,2,   119.10,2,    32.29,2,     2.10,2,    0.319,2,    0.156,2,    0.020,2,   2258.8,2,   2355.4,2,  0.472035239
  09AR20011029,  SR03,    91,  1,    709,2,20011126,-64.7817, 141.8342, 3011,   1602.4,   0.3810,  34.6900,2,  34.6900,2,    217.8,2,    218.0,2,   121.90,2,    32.37,2,     2.11,2,    0.397,2,    0.195,2,    0.030,2,   2257.9,2,   2354.2,2,  0.296819948
  09AR20011029,  SR03,    91,  1,      8,2,20011126,-64.7817, 141.8342, 3011,   1800.8,   0.2470,  34.6850,2,  34.6850,2,    220.8,2,    221.5,2,   121.30,2,    32.39,2,     2.11,2,    0.609,2,    0.297,2,    0.040,2,   2258.1,2,   2354.6,2,   0.15129489
  09AR20011029,  SR03,    91,  1,      7,2,20011126,-64.7817, 141.8342, 3011,   2001.4,   0.1540,  34.6830,2,  34.6830,2,    222.7,2,    224.8,2,   123.20,2,    32.46,2,     2.11,2,    0.654,2,    0.316,2,    0.040,2,   2257.7,2,   2354.0,2, 0.0457176003
  09AR20011029,  SR03,    91,  1,      6,2,20011126,-64.7817, 141.8342, 3011,   2200.7,   0.0420,  34.6770,2,  34.6770,2,    228.2,2,    228.9,2,   119.10,2,    32.30,2,     2.10,2,    0.989,2,    0.483,2,    0.070,2,   2256.5,2,   2353.3,2,-0.0788006146
  09AR20011029,  SR03,    91,  1,      5,2,20011126,-64.7817, 141.8342, 3011,   2400.8,  -0.0270,  34.6770,2,  34.6760,2,    232.6,2,    231.7,2,   116.60,2,    32.23,2,     2.10,2,    1.226,2,    0.596,2,    0.090,2,   2257.6,2,   2351.4,2, -0.161506537
  09AR20011029,  SR03,    91,  1,      4,2,20011126,-64.7817, 141.8342, 3011,   2600.0,  -0.1590,  34.6660,2,  34.6690,2,    241.0,2,    237.7,2,   111.90,2,    32.09,2,     2.08,2,    1.640,2,    0.804,2,    0.120,2,   2255.6,2,   2349.6,2, -0.306299161
  09AR20011029,  SR03,    91,  1,      3,2,20011126,-64.7817, 141.8342, 3011,   2800.6,  -0.3550,  34.6530,2,  34.6560,2,    245.4,2,    246.7,2,   105.30,2,    31.85,2,     2.08,2,    2.213,2,    1.106,2,    0.180,2,   2251.7,2,   2347.8,2, -0.514063839
  09AR20011029,  SR03,    91,  1,      2,2,20011126,-64.7817, 141.8342, 3011,   3000.0,  -0.5890,  34.6360,2,  34.6390,2,    255.2,2,    260.1,2,    96.90,2,    31.61,2,     2.05,2,    2.792,2,    1.422,2,    0.240,2,   2247.2,2,   2345.2,6, -0.758923323
  09AR20011029,  SR03,    91,  1,      1,2,20011126,-64.7817, 141.8342, 3011,   3085.8,  -0.5870,  34.6360,2,  34.6390,2,    258.4,2,    260.5,2,    96.80,2,    31.63,2,     2.04,2,    2.804,2,    1.442,2,    0.240,2,   2247.0,6,   2344.8,2, -0.764016522
  09AR20011029,  SR03,    92,  1,     23,2,20011127,-64.7788, 141.8832, 3058,      5.1,  -1.4890,  34.0760,2,-999.0000,9,    440.5,3,   -999.0,9,  -999.00,9,  -999.00,9,  -999.00,9, -999.000,9, -999.000,9, -999.000,9,   -999.0,9,   -999.0,9,   -1.4891081
  09AR20011029,  SR03,    92,  1,     24,2,20011127,-64.7788, 141.8832, 3058,      5.2,  -1.4840,  34.0740,2,  34.0810,2,    440.5,3,    354.9,2,    49.20,2,    27.47,2,     1.64,2, -999.000,9, -999.000,9, -999.000,9,   -999.0,9,   -999.0,9,  -1.48411051
  09AR20011029,  SR03,    92,  1,     22,2,20011127,-64.7788, 141.8832, 3058,     15.2,  -1.4950,  34.0770,2,  34.0810,2,    356.5,3,    354.6,2,    49.20,2,    27.47,2,     1.64,2, -999.000,9, -999.000,9, -999.000,9,   -999.0,9,   -999.0,9,  -1.49532305
  09AR20011029,  SR03,    92,  1,     21,2,20011127,-64.7788, 141.8832, 3058,     15.2,  -1.5020,  34.0810,3,-999.0000,9,    356.5,3,   -999.0,9,  -999.00,9,  -999.00,9,  -999.00,9, -999.000,9, -999.000,9, -999.000,9,   -999.0,9,   -999.0,9,         -999
  09AR20011029,  SR03,    92,  1,     19,2,20011127,-64.7788, 141.8832, 3058,     29.5,  -1.5640,  34.1190,2,-999.0000,9,    358.3,2,   -999.0,9,  -999.00,9,  -999.00,9,  -999.00,9, -999.000,9, -999.000,9, -999.000,9,   -999.0,9,   -999.0,9,  -1.56461548
  09AR20011029,  SR03,    92,  1,     20,2,20011127,-64.7788, 141.8832, 3058,     29.6,  -1.5620,  34.1190,2,  34.1180,2,    358.3,2,    352.7,2,    49.60,2,    27.65,2,     1.68,2, -999.000,9, -999.000,9, -999.000,9,   -999.0,9,   -999.0,9,  -1.56261805
  09AR20011029,  SR03,    92,  1,    218,2,20011127,-64.7788, 141.8832, 3058,     44.8,  -1.6200,  34.1800,3,  34.1830,2,    335.6,2,    337.3,2,    52.60,2,    28.75,2,     1.79,2, -999.000,9, -999.000,9, -999.000,9,   -999.0,9,   -999.0,9,  -1.62092507
  09AR20011029,  SR03,    92,  1,     17,2,20011127,-64.7788, 141.8832, 3058,     44.8,  -1.6210,  34.1830,3,-999.0000,9,    335.6,2,   -999.0,9,  -999.00,9,  -999.00,9,  -999.00,9, -999.000,9, -999.000,9, -999.000,9,   -999.0,9,   -999.0,9,         -999
  09AR20011029,  SR03,    92,  1,     16,2,20011127,-64.7788, 141.8832, 3058,     60.3,  -1.4070,  34.2780,4,  34.2650,2,    297.6,2,    314.6,2,    57.30,2,    30.06,2,     1.91,2, -999.000,9, -999.000,9, -999.000,9,   -999.0,9,   -999.0,9,  -1.40837634
  09AR20011029,  SR03,    92,  1,    715,2,20011127,-64.7788, 141.8832, 3058,     60.3,  -1.4210,  34.2720,4,-999.0000,9,    297.6,2,   -999.0,9,  -999.00,9,  -999.00,9,  -999.00,9, -999.000,9, -999.000,9, -999.000,9,   -999.0,9,   -999.0,9,         -999
  09AR20011029,  SR03,    92,  1,     13,2,20011127,-64.7788, 141.8832, 3058,     74.5,  -0.9060,  34.3570,2,-999.0000,9,    282.2,2,   -999.0,9,  -999.00,9,  -999.00,9,  -999.00,9, -999.000,9, -999.000,9, -999.000,9,   -999.0,9,   -999.0,9, -0.908048317
  09AR20011029,  SR03,    92,  1,     14,2,20011127,-64.7788, 141.8832, 3058,     74.8,  -0.8300,  34.3740,4,  34.3620,2,    282.2,2,    285.8,2,    64.20,2,    31.08,2,     1.99,2, -999.000,9, -999.000,9, -999.000,9,   -999.0,9,   -999.0,9, -0.832106643
  09AR20011029,  SR03,    92,  1,     11,2,20011127,-64.7788, 141.8832, 3058,     90.0,  -0.3520,  34.4360,4,-999.0000,9,    263.1,2,   -999.0,9,  -999.00,9,  -999.00,9,  -999.00,9, -999.000,9, -999.000,9, -999.000,9,   -999.0,9,   -999.0,9,         -999
  09AR20011029,  SR03,    92,  1,     12,2,20011127,-64.7788, 141.8832, 3058,     90.2,  -0.3360,  34.4370,3,  34.4350,2,    263.1,2,    263.0,2,    69.50,2,    31.69,2,     2.03,2, -999.000,9, -999.000,9, -999.000,9,   -999.0,9,   -999.0,9, -0.338949297
  09AR20011029,  SR03,    92,  1,    310,2,20011127,-64.7788, 141.8832, 3058,    105.1,  -0.0340,  34.4820,3,  34.4780,2,    253.8,2,    251.0,2,    72.30,2,    31.90,2,     2.05,2, -999.000,9, -999.000,9, -999.000,9,   -999.0,9,   -999.0,9,-0.0377305714
  09AR20011029,  SR03,    92,  1,    709,2,20011127,-64.7788, 141.8832, 3058,    105.2,  -0.0040,  34.4860,4,-999.0000,9,    253.8,2,   -999.0,9,  -999.00,9,  -999.00,9,  -999.00,9, -999.000,9, -999.000,9, -999.000,9,   -999.0,9,   -999.0,9,         -999
  09AR20011029,  SR03,    92,  1,      8,2,20011127,-64.7788, 141.8832, 3058,    119.7,   0.1610,  34.5080,3,  34.5040,2,    246.1,2,    243.0,2,    74.10,2,    32.07,2,     2.06,2, -999.000,9, -999.000,9, -999.000,9,   -999.0,9,   -999.0,9,  0.156530958
  09AR20011029,  SR03,    92,  1,      7,2,20011127,-64.7788, 141.8832, 3058,    119.9,   0.1650,  34.5080,3,-999.0000,9,    246.1,2,   -999.0,9,  -999.00,9,  -999.00,9,  -999.00,9, -999.000,9, -999.000,9, -999.000,9,   -999.0,9,   -999.0,9,         -999
  09AR20011029,  SR03,    92,  1,      6,2,20011127,-64.7788, 141.8832, 3058,    150.9,   0.3730,  34.5610,2,  34.5590,2,    233.2,2,    234.5,2,    78.50,2,    31.86,2,     2.05,2, -999.000,9, -999.000,9, -999.000,9,   -999.0,9,   -999.0,9,  0.367037111
  09AR20011029,  SR03,    92,  1,      5,2,20011127,-64.7788, 141.8832, 3058,    150.9,   0.3700,  34.5610,2,-999.0000,9,    233.2,2,   -999.0,9,  -999.00,9,  -999.00,9,  -999.00,9, -999.000,9, -999.000,9, -999.000,9,   -999.0,9,   -999.0,9,  0.364040367
  09AR20011029,  SR03,    92,  1,      4,2,20011127,-64.7788, 141.8832, 3058,    201.0,   0.8810,  34.6230,2,  34.6220,2,    220.4,2,    217.9,2,    82.60,2,    31.90,2,     2.06,2, -999.000,9, -999.000,9, -999.000,9,   -999.0,9,   -999.0,9,  0.872086738
  09AR20011029,  SR03,    92,  1,      3,2,20011127,-64.7788, 141.8832, 3058,    250.9,   1.0950,  34.6590,2,  34.6580,2,    213.1,2,    211.4,2,    85.10,2,    31.83,2,     2.04,2, -999.000,9, -999.000,9, -999.000,9,   -999.0,9,   -999.0,9,   1.08330024
  09AR20011029,  SR03,    92,  1,      2,2,20011127,-64.7788, 141.8832, 3058,    300.6,   1.1740,  34.6820,2,  34.6810,2,    210.5,2,    209.5,2,    87.50,2,    31.58,2,     2.04,2, -999.000,9, -999.000,9, -999.000,9,   -999.0,9,   -999.0,9,   1.15964298
  09AR20011029,  SR03,    92,  1,      1,2,20011127,-64.7788, 141.8832, 3058,    349.6,   1.2230,  34.6930,2,  34.6910,2,    211.4,2,    208.1,2,    88.60,2,    31.51,2,     2.03,2, -999.000,9, -999.000,9, -999.000,9,   -999.0,9,   -999.0,9,   1.20600619