BOTTLE,20081126PRINUNIVRMK
EXPOCODE,SECT_ID,STNNBR,CASTNO,BTLNBR,BTLNBR_FLAG_W,DATE,LATITUDE,LONGITUDE,DEPTH,CTDPRS,CTDTMP,CTDSAL,CTDSAL_FLAG_W,SALNTY,SALNTY_FLAG_W,CTDOXY,CTDOXY_FLAG_W,OXYGEN,OXYGEN_FLAG_W,SILCAT,SILCAT_FLAG_W,NITRAT,NITRAT_FLAG_W,PHSPHT,PHSPHT_FLAG_W,CFC-11,CFC-11_FLAG_W,CFC-12,CFC-12_FLAG_W,CFC113,CFC113_FLAG_W,TCARBN,TCARBN_FLAG_W,ALKALI,ALKALI_FLAG_W,THETA
,,,,,,,,,METERS,DBARS,ITS-90,PSS-78,,PSS-78,,UMOL/KG,,UMOL/KG,,UMOL/KG,,UMOL/KG,,UMOL/KG,,PMOL/KG,,PMOL/KG,,PMOL/KG,,UMOL/KG,,UMOL/KG,,DEGC
  09AR20011029,  SR03,   120,  1,     24,2,20011204,-65.3247, 141.2917, 2256,      5.4,  -1.3820,  34.2940,2,  34.2930,2,   -999.0,5,    338.0,2,    59.80,2,    29.21,2,     1.90,2,    5.591,2,    2.910,2,    0.510,2,   2200.4,6,   2316.1,2,  -1.38212183
  09AR20011029,  SR03,   120,  1,     23,2,20011204,-65.3247, 141.2917, 2256,     75.2,  -1.5160,  34.3270,3,  34.3240,2,   -999.0,5,    329.3,2,    60.50,2,    29.34,2,     1.93,2,    5.300,2,    2.760,2,    0.490,2,   2203.9,2,   2317.5,6,  -1.51766448
  09AR20011029,  SR03,   120,  1,     22,2,20011204,-65.3247, 141.2917, 2256,    100.5,  -1.7210,  34.4010,2,  34.4010,2,   -999.0,5,    307.5,2,    65.20,2,    30.74,2,     2.02,2,    4.737,2,    2.457,2,    0.440,2,   2215.9,2,   2321.2,2,  -1.72308445
  09AR20011029,  SR03,   120,  1,     21,2,20011204,-65.3247, 141.2917, 2256,    150.5,  -1.5210,  34.4420,3,  34.4390,2,   -999.0,5,    296.5,2,    70.30,2,    30.82,2,     2.04,2,    4.456,2,    2.314,2,    0.410,2,   2222.3,2,   -999.0,9,  -1.52446928
  09AR20011029,  SR03,   120,  1,     20,2,20011204,-65.3247, 141.2917, 2256,    200.7,  -1.0840,  34.4870,2,  34.4860,2,   -999.0,5,    279.6,2,    76.80,2,    30.98,2,     2.06,2,    3.825,2,    1.985,2,    0.360,2,   2229.4,2,   2328.9,2,  -1.08950194
  09AR20011029,  SR03,   120,  1,     19,2,20011204,-65.3247, 141.2917, 2256,    250.6,  -0.5900,  34.5340,3,  34.5330,2,   -999.0,5,    262.0,2,    81.60,2,    31.45,2,     2.08,2, -999.000,9, -999.000,9, -999.000,9,   -999.0,9,   -999.0,9, -0.598072619
  09AR20011029,  SR03,   120,  1,    218,2,20011204,-65.3247, 141.2917, 2256,    300.5,  -0.2710,  34.5730,2,  34.5700,2,   -999.0,5,    249.8,2,    85.80,2,    31.49,2,     2.09,2,    2.606,2,    1.323,2,    0.230,2,   2238.8,2,   2336.4,2, -0.281655351
  09AR20011029,  SR03,   120,  1,     17,2,20011204,-65.3247, 141.2917, 2256,    400.2,   0.0960,  34.6160,2,  34.6140,2,   -999.0,5,    236.1,2,    91.00,2,    31.40,2,     2.10,2,    1.981,2,    0.998,2,    0.180,2,   2243.5,2,   2340.6,2, 0.0801744964
  09AR20011029,  SR03,   120,  1,     16,2,20011204,-65.3247, 141.2917, 2256,    500.8,   0.2950,  34.6450,2,  34.6430,2,   -999.0,5,    227.6,2,    97.20,2,    31.76,2,     2.12,2,    1.508,2,    0.768,2,    0.140,2,   2249.1,2,   2344.6,2,  0.273884422
  09AR20011029,  SR03,   120,  1,    715,2,20011204,-65.3247, 141.2917, 2256,    600.5,   0.0520,  34.6290,2,  34.6290,2,   -999.0,5,    233.2,2,    98.50,2,    31.88,2,     2.13,2,    1.748,2,    0.876,2,    0.150,2,   2248.4,2,   2343.5,2, 0.0273734629
  09AR20011029,  SR03,   120,  1,     14,2,20011204,-65.3247, 141.2917, 2256,    700.6,   0.2290,  34.6550,2,  34.6540,2,   -999.0,5,    225.3,2,   104.00,2,    32.03,2,     2.13,2,    1.323,2,    0.660,2,    0.110,2,   2252.1,2,   2347.4,2,   0.19858255
  09AR20011029,  SR03,   120,  1,     13,2,20011204,-65.3247, 141.2917, 2256,    800.4,   0.2090,  34.6580,2,  34.6580,2,   -999.0,5,    225.2,2,   106.40,2,    31.83,2,     2.13,2, -999.000,9, -999.000,9, -999.000,9,   -999.0,9,   -999.0,9,  0.173667768
  09AR20011029,  SR03,   120,  1,     12,2,20011204,-65.3247, 141.2917, 2256,    900.7,   0.2270,  34.6680,2,  34.6660,2,   -999.0,5,    223.2,2,   109.20,2,    31.90,2,     2.15,2,    1.089,2,    0.536,2,    0.090,2,   2253.8,2,   2348.6,2,  0.186297058
  09AR20011029,  SR03,   120,  1,     11,2,20011204,-65.3247, 141.2917, 2256,   1000.2,   0.1700,  34.6680,2,  34.6680,2,   -999.0,5,    224.6,2,   110.50,2,    32.22,2,     2.15,2,    1.099,2,    0.538,2,    0.090,2,   2254.4,2,   2350.7,2,  0.124387911
  09AR20011029,  SR03,   120,  1,    310,2,20011204,-65.3247, 141.2917, 2256,   1100.3,   0.0660,  34.6650,2,  34.6640,2,   -999.0,5,    227.9,2,   110.40,2,    32.14,2,     2.15,2, -999.000,9, -999.000,9, -999.000,9,   -999.0,9,   -999.0,9, 0.0157959784
  09AR20011029,  SR03,   120,  1,    709,2,20011204,-65.3247, 141.2917, 2256,   1200.5,   0.1960,  34.6840,2,  34.6840,2,   -999.0,5,    222.3,2,   122.00,2,    32.41,2,     2.17,2,    0.566,2,    0.276,2,    0.040,2,   2258.1,2,   2353.9,2,  0.138864551
  09AR20011029,  SR03,   120,  1,      8,2,20011204,-65.3247, 141.2917, 2256,   1300.4,  -0.0230,  34.6710,2,  34.6710,2,   -999.0,5,    230.0,2,   114.30,2,    32.18,2,     2.16,2, -999.000,9, -999.000,9, -999.000,9,   -999.0,9,   -999.0,9,-0.0836909921
  09AR20011029,  SR03,   120,  1,      7,2,20011204,-65.3247, 141.2917, 2256,   1400.8,  -0.0290,  34.6720,2,  34.6710,2,   -999.0,5,    230.5,2,   114.30,2,    32.00,2,     2.16,2,    1.192,2,    0.581,2,    0.100,2,   2255.3,2,   2350.9,2,-0.0955344847
  09AR20011029,  SR03,   120,  1,      6,2,20011204,-65.3247, 141.2917, 2256,   1600.4,  -0.1210,  34.6700,2,  34.6720,2,   -999.0,5,    233.4,2,   114.00,2,    32.20,2,     2.15,2,    1.371,2,    0.662,2,    0.100,2,   2255.6,2,   2350.8,2, -0.198608736
  09AR20011029,  SR03,   120,  1,      5,2,20011204,-65.3247, 141.2917, 2256,   1800.6,  -0.3580,  34.6530,2,  34.6550,2,   -999.0,5,    245.7,2,   105.00,2,    31.90,2,     2.13,2,    2.087,2,    1.043,2,    0.180,2,   2250.5,2,   2348.5,2, -0.444983538
  09AR20011029,  SR03,   120,  1,      4,2,20011204,-65.3247, 141.2917, 2256,   2000.8,  -0.5410,  34.6440,2,  34.6460,2,   -999.0,5,    255.9,2,    99.10,2,    31.66,2,     2.11,2, -999.000,9, -999.000,9, -999.000,9,   -999.0,9,   -999.0,9, -0.638187017
  09AR20011029,  SR03,   120,  1,      3,2,20011204,-65.3247, 141.2917, 2256,   2100.6,  -0.7170,  34.6390,2,  34.6410,2,   -999.0,5,    268.6,2,    93.90,2,    31.50,2,     2.10,2,    2.991,2,    1.526,2,    0.270,2,   2244.8,2,   2345.0,2, -0.817912818
  09AR20011029,  SR03,   120,  1,      2,2,20011204,-65.3247, 141.2917, 2256,   2200.9,  -0.7690,  34.6390,2,  34.6420,2,   -999.0,5,    270.4,2,    92.30,2,    30.52,2,     2.09,2,    3.116,2,    1.599,2,    0.280,2,   2244.1,2,   2344.6,6, -0.875744361
  09AR20011029,  SR03,   120,  1,      1,2,20011204,-65.3247, 141.2917, 2256,   2287.6,  -0.8010,  34.6390,2,  34.6420,2,   -999.0,5,    278.9,2,    92.00,2,    31.37,2,     2.09,2,    3.193,2,    1.640,2,    0.290,2,   2243.8,6,   2344.5,2, -0.913086728
  09AR20011029,  SR03,   121,  1,     24,2,20011204,-65.1307, 140.6438, 2207,      6.4,  -1.3210,  34.3160,2,  34.3150,2,   -999.0,5,    338.1,2,    58.40,2,    29.50,2,     1.92,2,    5.602,2,    2.936,2,    0.520,2,   2204.1,6,   2316.2,2,  -1.32114814
  09AR20011029,  SR03,   121,  1,     23,2,20011204,-65.1307, 140.6438, 2207,     60.6,  -1.7560,  34.3620,2,  34.3630,2,   -999.0,5,    314.8,2,    62.10,2,    30.32,2,     2.00,2,    5.009,2,    2.605,2,    0.470,2,   2214.8,2,   2319.9,6,  -1.75720988
  09AR20011029,  SR03,   121,  1,     22,2,20011204,-65.1307, 140.6438, 2207,    101.1,  -1.7070,  34.3860,2,  34.3840,2,   -999.0,5,    307.6,2,    65.70,2,    30.57,2,     2.05,2,    4.891,2,    2.517,2,    0.450,2,   2217.8,2,   2321.0,2,  -1.70910652
  09AR20011029,  SR03,   121,  1,     21,2,20011204,-65.1307, 140.6438, 2207,    150.6,  -1.3440,  34.4370,3,  34.4340,2,   -999.0,5,    292.3,2,    69.80,2,    30.98,2,     2.04,2, -999.000,9, -999.000,9, -999.000,9,   -999.0,9,   -999.0,9,  -1.34770195
  09AR20011029,  SR03,   121,  1,     20,2,20011204,-65.1307, 140.6438, 2207,    200.9,  -0.4380,  34.5310,2,  34.5300,2,   -999.0,5,    260.0,2,    78.20,2,    31.16,2,     2.08,2,    3.075,2,    1.585,2,    0.280,2,   2235.4,2,   2331.1,2, -0.444637666
  09AR20011029,  SR03,   121,  1,     19,2,20011204,-65.1307, 140.6438, 2207,    251.6,   0.0170,  34.5890,2,  34.5890,2,   -999.0,5,    242.9,2,    84.20,2,    31.24,2,     2.08,2,    2.323,2,    1.181,2,    0.210,2,   2239.9,2,   2334.6,2,0.00756964245
  09AR20011029,  SR03,   121,  1,    218,2,20011204,-65.1307, 140.6438, 2207,    301.2,   0.2970,  34.6240,2,  34.6210,2,   -999.0,5,    233.5,2,    88.00,2,    31.24,2,     2.08,2,    1.877,6,    0.943,6,    0.170,6,   2245.0,2,   2338.2,2,  0.284846952
  09AR20011029,  SR03,   121,  1,     17,2,20011204,-65.1307, 140.6438, 2207,    402.4,   0.6630,  34.6700,2,  34.6660,2,   -999.0,5,    220.2,2,    94.00,2,    31.28,2,     2.09,2,    1.194,2,    0.590,2,    0.100,2,   2249.3,2,   2344.6,2,  0.645137345
  09AR20011029,  SR03,   121,  1,     16,2,20011204,-65.1307, 140.6438, 2207,    501.2,   0.7140,  34.6850,2,  34.6830,2,   -999.0,5,    215.6,2,   100.20,2,    31.45,2,     2.10,2,    0.882,2,    0.434,2,    0.070,2,   2252.4,2,   2347.5,2,  0.691088053
  09AR20011029,  SR03,   121,  1,    715,2,20011204,-65.1307, 140.6438, 2207,    601.3,   0.7490,  34.6930,2,  34.6930,2,   -999.0,5,    215.3,2,   103.00,2,    31.51,2,     2.10,2, -999.000,9, -999.000,9, -999.000,9,   -999.0,9,   -999.0,9,  0.720800742
  09AR20011029,  SR03,   121,  1,     14,2,20011204,-65.1307, 140.6438, 2207,    700.9,   0.7370,  34.7000,2,  34.6980,2,   -999.0,5,    215.1,2,   106.90,2,    31.62,2,     2.14,2,    0.554,2,    0.280,2,    0.050,2,   2254.7,2,   2351.9,2,  0.703584297
  09AR20011029,  SR03,   121,  1,     13,2,20011204,-65.1307, 140.6438, 2207,    801.2,   0.6570,  34.6940,2,  34.6940,2,   -999.0,5,    214.5,2,   109.60,2,    31.74,2,     2.14,2,    0.550,2,    0.280,2,    0.040,2,   2257.6,2,   2352.2,2,   0.61863399
  09AR20011029,  SR03,   121,  1,     12,2,20011204,-65.1307, 140.6438, 2207,    900.2,   0.5680,  34.6910,2,  34.6910,2,   -999.0,5,    216.0,2,   111.50,2,    31.88,2,     2.13,2,    0.563,2,    0.284,2,    0.040,2,   2256.9,2,   2353.4,2,  0.524777567
  09AR20011029,  SR03,   121,  1,     11,2,20011204,-65.1307, 140.6438, 2207,   1000.4,   0.4780,  34.6900,2,  34.6890,2,   -999.0,5,    216.2,2,   114.90,2,    32.00,2,     2.15,2, -999.000,9, -999.000,9, -999.000,9,   -999.0,9,   -999.0,9,  0.429832358
  09AR20011029,  SR03,   121,  1,    310,2,20011204,-65.1307, 140.6438, 2207,   1100.4,   0.4510,  34.6920,2,  34.6910,2,   -999.0,5,    215.9,2,   117.50,2,    32.17,2,     2.15,2,    0.470,2,    0.227,2,    0.030,2,   2259.5,2,   2354.3,2,  0.397301605
  09AR20011029,  SR03,   121,  1,    709,2,20011204,-65.1307, 140.6438, 2207,   1200.3,   0.3540,  34.6870,2,  34.6870,2,   -999.0,5,    218.2,2,   118.40,2,    32.14,2,     2.18,2, -999.000,9, -999.000,9, -999.000,9,   -999.0,9,   -999.0,9,  0.295339056
  09AR20011029,  SR03,   121,  1,      8,2,20011204,-65.1307, 140.6438, 2207,   1300.5,   0.2660,  34.6830,2,  34.6830,2,   -999.0,5,    220.3,2,   117.60,2,    32.14,2,     2.18,2,    0.668,2,    0.325,2,    0.050,2,   2258.9,2,   2353.5,2,  0.202247503
  09AR20011029,  SR03,   121,  1,      7,2,20011204,-65.1307, 140.6438, 2207,   1400.3,   0.1820,  34.6790,2,  34.6830,2,   -999.0,5,    220.4,2,   118.20,2,    32.15,2,     2.18,2, -999.000,9, -999.000,9, -999.000,9,   -999.0,9,   -999.0,9,  0.113093637
  09AR20011029,  SR03,   121,  1,      6,2,20011204,-65.1307, 140.6438, 2207,   1600.7,   0.1160,  34.6830,2,  34.6830,2,   -999.0,5,    225.4,2,   125.70,2,    32.31,2,     2.17,2,    0.519,2,    0.252,2,    0.030,2,   2259.9,2,   2354.8,2, 0.0353186919
  09AR20011029,  SR03,   121,  1,      5,2,20011204,-65.1307, 140.6438, 2207,   1800.5,  -0.0930,  34.6670,2,  34.6690,2,   -999.0,5,    233.9,2,   112.90,2,    31.94,2,     2.15,2,    1.379,2,    0.675,2,    0.110,2,   2256.2,2,   2352.0,2,  -0.18380391
  09AR20011029,  SR03,   121,  1,      4,2,20011204,-65.1307, 140.6438, 2207,   2000.4,  -0.1850,  34.6650,2,  34.6670,2,   -999.0,5,    237.6,2,   114.10,2,    31.84,2,     2.16,2, -999.000,9, -999.000,9, -999.000,9,   -999.0,9,   -999.0,9, -0.287843232
  09AR20011029,  SR03,   121,  1,      3,2,20011204,-65.1307, 140.6438, 2207,   2120.4,  -0.2380,  34.6650,2,  34.6670,2,   -999.0,5,    239.3,2,   116.20,2,    31.87,2,     2.16,2,    1.573,2,    0.767,2,    0.120,2,   2255.9,2,   2351.6,2, -0.348295994
  09AR20011029,  SR03,   121,  1,      2,2,20011204,-65.1307, 140.6438, 2207,   2200.3,  -0.4450,  34.6470,2,  34.6500,2,   -999.0,5,    250.6,2,   104.80,2,    31.58,2,     2.14,2,    2.285,2,    1.137,2,    0.200,2,   2250.3,2,   2347.2,6, -0.557321398
  09AR20011029,  SR03,   121,  1,      1,2,20011204,-65.1307, 140.6438, 2207,   2232.6,  -0.5710,  34.6410,2,  34.6430,2,   -999.0,5,    257.1,2,    99.50,2,    31.42,2,     2.10,2,    2.624,2,    1.332,2,    0.230,2,   2248.9,6,   2346.1,2, -0.683359305
  09AR20011029,  SR03,   122,  1,     24,2,20011204,-64.8780, 139.8733, 2464,      5.6,  -1.4340,  34.2880,2,  34.2880,2,   -999.0,5,   -999.0,9,    60.60,2,    29.49,3,     1.86,3, -999.000,9, -999.000,9, -999.000,9,   -999.0,9,   -999.0,9,  -1.43412375
  09AR20011029,  SR03,   122,  1,    218,2,20011204,-64.8780, 139.8733, 2464,      5.6,  -1.4300,  34.2890,2,-999.0000,9,   -999.0,5,   -999.0,9,  -999.00,9,  -999.00,9,  -999.00,9, -999.000,9, -999.000,9, -999.000,9,   -999.0,9,   -999.0,9,  -1.43012396
  09AR20011029,  SR03,   122,  1,     23,2,20011204,-64.8780, 139.8733, 2464,      5.7,  -1.4330,  34.2870,2,-999.0000,9,   -999.0,5,   -999.0,9,  -999.00,9,  -999.00,9,  -999.00,9, -999.000,9, -999.000,9, -999.000,9,   -999.0,9,   -999.0,9,    -1.433126
  09AR20011029,  SR03,   122,  1,     22,2,20011204,-64.8780, 139.8733, 2464,      5.7,  -1.4330,  34.2880,2,-999.0000,9,   -999.0,5,   -999.0,9,  -999.00,9,  -999.00,9,  -999.00,9, -999.000,9, -999.000,9, -999.000,9,   -999.0,9,   -999.0,9,  -1.43312602
  09AR20011029,  SR03,   122,  1,     21,2,20011204,-64.8780, 139.8733, 2464,      5.7,  -1.4310,  34.2870,2,-999.0000,9,   -999.0,5,   -999.0,9,  -999.00,9,  -999.00,9,  -999.00,9, -999.000,9, -999.000,9, -999.000,9,   -999.0,9,   -999.0,9,   -1.4311261
  09AR20011029,  SR03,   122,  1,     20,2,20011204,-64.8780, 139.8733, 2464,      5.7,  -1.4310,  34.2890,2,-999.0000,9,   -999.0,5,   -999.0,9,  -999.00,9,  -999.00,9,  -999.00,9, -999.000,9, -999.000,9, -999.000,9,   -999.0,9,   -999.0,9,  -1.43112613
  09AR20011029,  SR03,   122,  1,     19,2,20011204,-64.8780, 139.8733, 2464,      5.7,  -1.4300,  34.2890,2,-999.0000,9,   -999.0,5,   -999.0,9,  -999.00,9,  -999.00,9,  -999.00,9, -999.000,9, -999.000,9, -999.000,9,   -999.0,9,   -999.0,9,  -1.43012618
  09AR20011029,  SR03,   122,  1,     17,2,20011204,-64.8780, 139.8733, 2464,     25.3,  -1.4280,  34.2910,2,  34.2920,2,   -999.0,5,   -999.0,9,    60.60,2,    29.54,3,     1.86,3, -999.000,9, -999.000,9, -999.000,9,   -999.0,9,   -999.0,9,   -1.4285655
  09AR20011029,  SR03,   122,  1,     16,2,20011204,-64.8780, 139.8733, 2464,     50.1,  -1.4250,  34.2990,2,-999.0000,9,   -999.0,5,   -999.0,9,    60.40,2,    29.69,3,     1.88,3, -999.000,9, -999.000,9, -999.000,9,   -999.0,9,   -999.0,9,  -1.42613398
  09AR20011029,  SR03,   122,  1,    715,2,20011204,-64.8780, 139.8733, 2464,     50.1,  -1.4250,  34.3010,2,-999.0000,9,   -999.0,5,   -999.0,9,  -999.00,9,  -999.00,9,  -999.00,9, -999.000,9, -999.000,9, -999.000,9,   -999.0,9,   -999.0,9,  -1.42613417
  09AR20011029,  SR03,   122,  1,     14,2,20011204,-64.8780, 139.8733, 2464,     70.2,  -1.4250,  34.3030,2,  34.3020,2,   -999.0,5,   -999.0,9,    60.10,2,    29.96,3,     1.90,3, -999.000,9, -999.000,9, -999.000,9,   -999.0,9,   -999.0,9,  -1.42660314
  09AR20011029,  SR03,   122,  1,     13,2,20011204,-64.8780, 139.8733, 2464,     91.2,  -1.4580,  34.3030,2,-999.0000,9,   -999.0,5,   -999.0,9,    59.20,2,    30.17,3,     1.90,3, -999.000,9, -999.000,9, -999.000,9,   -999.0,9,   -999.0,9,  -1.46007535
  09AR20011029,  SR03,   122,  1,     12,2,20011204,-64.8780, 139.8733, 2464,    102.6,  -1.4690,  34.3070,2,-999.0000,9,   -999.0,5,   -999.0,9,    59.40,2,    30.25,3,     1.92,3, -999.000,9, -999.000,9, -999.000,9,   -999.0,9,   -999.0,9,  -1.47133717
  09AR20011029,  SR03,   122,  1,     11,2,20011204,-64.8780, 139.8733, 2464,    150.5,  -1.2190,  34.3880,3,  34.3930,2,   -999.0,5,   -999.0,9,    65.20,2,    31.76,3,     2.02,3, -999.000,9, -999.000,9, -999.000,9,   -999.0,9,   -999.0,9,  -1.22285051
  09AR20011029,  SR03,   122,  1,    310,2,20011204,-64.8780, 139.8733, 2464,    199.3,  -0.4810,  34.4980,2,-999.0000,9,   -999.0,5,   -999.0,9,    75.10,2,    32.06,3,     2.04,3, -999.000,9, -999.000,9, -999.000,9,   -999.0,9,   -999.0,9, -0.487496571
  09AR20011029,  SR03,   122,  1,    709,2,20011204,-64.8780, 139.8733, 2464,    249.9,   0.1010,  34.5760,2,-999.0000,9,   -999.0,5,   -999.0,9,    80.90,2,    32.15,3,     2.06,3, -999.000,9, -999.000,9, -999.000,9,   -999.0,9,   -999.0,9, 0.0914661045
  09AR20011029,  SR03,   122,  1,      8,2,20011204,-64.8780, 139.8733, 2464,    301.2,   0.2570,  34.6040,2,-999.0000,9,   -999.0,5,   -999.0,9,    84.20,2,    32.12,3,     2.04,3, -999.000,9, -999.000,9, -999.000,9,   -999.0,9,   -999.0,9,  0.244957616
  09AR20011029,  SR03,   122,  1,      7,2,20011204,-64.8780, 139.8733, 2464,    350.7,   0.6750,  34.6480,2,  34.6450,2,   -999.0,5,   -999.0,9,    87.70,2,    32.16,3,     2.04,3, -999.000,9, -999.000,9, -999.000,9,   -999.0,9,   -999.0,9,  0.659571277
  09AR20011029,  SR03,   122,  1,      6,2,20011204,-64.8780, 139.8733, 2464,    400.1,   0.6170,  34.6510,2,-999.0000,9,   -999.0,5,   -999.0,9,    89.80,2,    32.20,3,     2.04,3, -999.000,9, -999.000,9, -999.000,9,   -999.0,9,   -999.0,9,  0.599411536
  09AR20011029,  SR03,   122,  1,      5,2,20011204,-64.8780, 139.8733, 2464,    450.3,   0.7180,  34.6680,2,-999.0000,9,   -999.0,5,   -999.0,9,    92.50,2,    32.19,3,     2.04,3, -999.000,9, -999.000,9, -999.000,9,   -999.0,9,   -999.0,9,  0.697613838
  09AR20011029,  SR03,   122,  1,      4,2,20011204,-64.8780, 139.8733, 2464,    500.2,   0.7630,  34.6780,2,  34.6760,2,   -999.0,5,   -999.0,9,    94.50,2,    32.05,3,     2.04,3, -999.000,9, -999.000,9, -999.000,9,   -999.0,9,   -999.0,9,  0.739942145
  09AR20011029,  SR03,   122,  1,      3,2,20011204,-64.8780, 139.8733, 2464,    600.4,   0.7830,  34.6870,2,-999.0000,9,   -999.0,5,   -999.0,9,    98.50,2,    32.32,3,     2.04,3, -999.000,9, -999.000,9, -999.000,9,   -999.0,9,   -999.0,9,  0.754686448
  09AR20011029,  SR03,   122,  1,      2,2,20011204,-64.8780, 139.8733, 2464,    800.7,   0.7230,  34.6970,2,  34.6960,2,   -999.0,5,   -999.0,9,   107.20,2,    32.61,3,     2.09,3, -999.000,9, -999.000,9, -999.000,9,   -999.0,9,   -999.0,9,  0.684227376
  09AR20011029,  SR03,   122,  1,      1,2,20011204,-64.8780, 139.8733, 2464,   1001.7,   0.6050,  34.6950,2,  34.6950,2,   -999.0,5,   -999.0,9,   113.20,2,    32.74,3,     2.09,3, -999.000,9, -999.000,9, -999.000,9,   -999.0,9,   -999.0,9,  0.555716326