BOTTLE,20081126PRINUNIVRMK
EXPOCODE,SECT_ID,STNNBR,CASTNO,BTLNBR,BTLNBR_FLAG_W,DATE,LATITUDE,LONGITUDE,DEPTH,CTDPRS,CTDTMP,CTDSAL,CTDSAL_FLAG_W,SALNTY,SALNTY_FLAG_W,CTDOXY,CTDOXY_FLAG_W,OXYGEN,OXYGEN_FLAG_W,SILCAT,SILCAT_FLAG_W,NITRAT,NITRAT_FLAG_W,PHSPHT,PHSPHT_FLAG_W,CFC-11,CFC-11_FLAG_W,CFC-12,CFC-12_FLAG_W,CFC113,CFC113_FLAG_W,TCARBN,TCARBN_FLAG_W,ALKALI,ALKALI_FLAG_W,THETA
,,,,,,,,,METERS,DBARS,ITS-90,PSS-78,,PSS-78,,UMOL/KG,,UMOL/KG,,UMOL/KG,,UMOL/KG,,UMOL/KG,,PMOL/KG,,PMOL/KG,,PMOL/KG,,UMOL/KG,,UMOL/KG,,DEGC
  09AR20011029,  SR03,    87,  1,     24,2,20011125,-63.8745, 139.9963, 3638,      6.2,  -1.6100,  33.8360,2,  33.8340,2,    479.0,3,    363.2,2,    39.90,2,    27.47,2,     1.68,2,    6.626,2,    3.409,2,    0.610,2,   2157.3,6,   2283.8,2,  -1.61012196
  09AR20011029,  SR03,    87,  1,     23,2,20011125,-63.8745, 139.9963, 3638,     45.9,  -1.6190,  33.9770,3,  33.9810,2,    346.1,2,    347.7,2,    45.20,2,    28.62,2,     1.82,2,    6.060,2,    3.125,2,    0.560,2,   2174.1,2,   2293.9,6,  -1.61993052
  09AR20011029,  SR03,    87,  1,     22,2,20011125,-63.8745, 139.9963, 3638,    101.2,   1.3400,  34.4820,4,  34.4680,2,    191.1,2,    206.8,2,    71.90,2,    34.43,2,     2.25,2,    1.905,2,    0.957,2,    0.160,2,   2246.3,2,   2322.3,2,   1.33524218
  09AR20011029,  SR03,    87,  1,     21,2,20011125,-63.8745, 139.9963, 3638,    151.0,   1.7470,  34.5880,3,  34.5890,2,    181.7,2,    184.3,2,    79.20,2,    34.33,2,     2.23,2,    0.942,6,    0.461,6,    0.080,6,   2255.5,2,   2329.8,2,   1.73929292
  09AR20011029,  SR03,    87,  1,     20,2,20011125,-63.8745, 139.9963, 3638,    202.0,   1.9200,  34.6380,2,  34.6360,2,    182.7,2,    180.6,2,    81.30,2,    33.90,2,     2.19,2,    0.618,2,    0.301,2,    0.050,2,   2256.1,2,   2334.5,2,   1.90929726
  09AR20011029,  SR03,    87,  1,     19,2,20011125,-63.8745, 139.9963, 3638,    250.9,   1.9570,  34.6710,2,  34.6690,2,    184.4,2,    182.0,2,    82.50,2,    33.18,2,     2.15,2,    0.452,2,    0.217,2,    0.030,2,   2254.3,2,   2336.5,2,   1.94351161
  09AR20011029,  SR03,    87,  1,    218,2,20011125,-63.8745, 139.9963, 3638,    307.5,   1.8840,  34.6810,3,  34.6770,2,    184.1,2,    184.9,2,    83.30,2,    32.89,2,     2.14,2,    0.482,2,    0.237,2,    0.040,2,   2254.2,2,   2338.2,2,   1.86750129
  09AR20011029,  SR03,    87,  1,     17,2,20011125,-63.8745, 139.9963, 3638,    402.2,   1.8650,  34.7080,2,  34.7070,2,    190.3,2,    188.7,2,    84.90,2,    32.19,2,     2.09,2,    0.351,2,    0.168,2,    0.030,2,   2252.6,2,   2340.6,2,   1.84314009
  09AR20011029,  SR03,    87,  1,     16,2,20011125,-63.8745, 139.9963, 3638,    502.6,   1.8010,  34.7210,2,  34.7190,2,    193.8,2,    192.4,2,    86.50,2,    31.79,2,     2.05,2,    0.315,2,    0.153,2,    0.020,2,   2250.6,2,   2343.1,2,   1.77351016
  09AR20011029,  SR03,    87,  1,    715,2,20011125,-63.8745, 139.9963, 3638,    606.1,   1.7250,  34.7330,3,  34.7290,2,    197.4,2,    196.6,2,    88.40,2,    31.35,2,     2.03,2,    0.280,2,    0.139,2,    0.020,2,   2250.6,2,   2344.6,2,   1.69168562
  09AR20011029,  SR03,    87,  1,     14,2,20011125,-63.8745, 139.9963, 3638,    801.2,   1.5820,  34.7400,2,  34.7390,2,    199.9,2,    200.7,2,    92.90,2,    31.40,2,     2.01,2,    0.209,2,    0.102,2,    0.010,2,   2250.5,2,   2347.9,2,   1.53756365
  09AR20011029,  SR03,    87,  1,     13,2,20011125,-63.8745, 139.9963, 3638,   1000.8,   1.4130,  34.7370,2,  34.7370,2,    205.2,2,    203.9,2,    98.20,2,    31.16,2,     2.02,2,    0.186,2,    0.092,2,    0.010,2,   2250.7,2,   2351.1,6,   1.35718508
  09AR20011029,  SR03,    87,  1,     12,2,20011125,-63.8745, 139.9963, 3638,   1200.2,   1.2050,  34.7290,2,  34.7280,2,    207.9,2,    206.7,2,   103.80,2,    31.32,2,     2.06,2,    0.201,2,    0.098,2,    0.010,2,   2254.6,6,   2353.0,2,    1.1380779
  09AR20011029,  SR03,    87,  1,     11,2,20011125,-63.8745, 139.9963, 3638,   1401.0,   1.0150,  34.7200,2,  34.7180,2,    208.8,2,    208.6,2,   108.20,2,    31.80,2,     2.08,2,    0.238,2,    0.119,2,    0.020,2,   2255.9,2,   2354.9,2,  0.936671929
  09AR20011029,  SR03,    87,  1,    310,2,20011125,-63.8745, 139.9963, 3638,   1600.6,   0.8360,  34.7090,3,  34.7080,2,    211.9,2,    211.0,2,   112.60,2,    32.18,2,     2.09,2,    0.278,2,    0.138,2,    0.020,2,   2256.9,2,   2354.1,3,   0.74613992
  09AR20011029,  SR03,    87,  1,    709,2,20011125,-63.8745, 139.9963, 3638,   1801.0,   0.7150,  34.7080,2,  34.7070,2,    215.2,2,    212.3,2,   119.40,2,    32.41,2,     2.12,2,    0.147,2,    0.073,2,    0.010,2,   2260.6,2,   2356.3,2,  0.612602884
  09AR20011029,  SR03,    87,  1,      8,2,20011125,-63.8745, 139.9963, 3638,   2000.1,   0.5540,  34.6980,2,  34.6980,2,    216.2,2,    215.2,2,   121.20,2,    32.49,2,     2.13,2,    0.256,2,    0.128,2,    0.020,2,   2260.6,2,   2357.0,2,  0.439525538
  09AR20011029,  SR03,    87,  1,      7,2,20011125,-63.8745, 139.9963, 3638,   2198.9,   0.4170,  34.6910,2,  34.6900,2,    218.1,2,    218.5,2,   123.00,2,    32.64,2,     2.14,2,    0.352,2,    0.172,2,    0.030,2,   2259.7,2,   2354.5,2,  0.289900798
  09AR20011029,  SR03,    87,  1,      6,2,20011125,-63.8745, 139.9963, 3638,   2500.9,   0.2450,  34.6840,2,  34.6850,2,    222.4,2,    223.3,2,   125.00,2,    32.79,2,     2.14,2,    0.509,2,    0.253,2,    0.030,2,   2259.1,2,   2354.4,2, 0.0975638356
  09AR20011029,  SR03,    87,  1,      5,2,20011125,-63.8745, 139.9963, 3638,   2800.9,   0.1210,  34.6800,2,  34.6810,2,    228.1,2,    227.5,2,   127.00,2,    32.69,2,     2.15,2,    0.607,2,    0.296,2,    0.040,2,   2258.5,2,   2353.6,2,-0.0483157099
  09AR20011029,  SR03,    87,  1,      4,2,20011125,-63.8745, 139.9963, 3638,   3099.7,  -0.0020,  34.6750,2,  34.6750,2,    234.1,2,    232.4,2,   124.90,2,    32.52,2,     2.13,2,    0.948,2,    0.462,2,    0.060,2,   2258.4,2,   2353.0,2, -0.193968966
  09AR20011029,  SR03,    87,  1,      3,2,20011125,-63.8745, 139.9963, 3638,   3399.6,  -0.1190,  34.6670,2,  34.6690,2,    238.7,2,    238.0,2,   121.30,2,    32.41,2,     2.13,2, -999.000,9, -999.000,9, -999.000,9,   2258.4,2,   2350.0,2,  -0.33472117
  09AR20011029,  SR03,    87,  1,      2,2,20011125,-63.8745, 139.9963, 3638,   3600.9,  -0.2700,  34.6520,2,  34.6550,2,    244.6,2,    245.9,2,   113.30,2,    32.17,2,     2.11,2,    2.088,2,    1.030,2,    0.160,2,   2254.8,2,   2349.7,6, -0.500176667
  09AR20011029,  SR03,    87,  1,      1,2,20011125,-63.8745, 139.9963, 3638,   3748.5,  -0.5260,  34.6310,2,  34.6340,2,    254.3,2,    259.7,2,    99.40,2,    31.87,2,     2.08,2,    2.790,2,    1.404,2,    0.240,2,   2248.5,2,   2345.7,2, -0.762846969
  09AR20011029,  SR03,    88,  1,     24,2,20011125,-63.8247, 139.9893, 3649,     30.5,  -1.6460,  33.8400,2,  33.8330,2,   -999.0,5,   -999.0,9,  -999.00,9,  -999.00,9,  -999.00,9, -999.000,9, -999.000,9, -999.000,9,   -999.0,9,   -999.0,9,  -1.64659759
  09AR20011029,  SR03,    88,  1,     23,2,20011125,-63.8247, 139.9893, 3649,     30.5,  -1.6440,  33.8370,2,  33.8320,2,   -999.0,5,   -999.0,9,  -999.00,9,  -999.00,9,  -999.00,9, -999.000,9, -999.000,9, -999.000,9,   -999.0,9,   -999.0,9,  -1.64459807
  09AR20011029,  SR03,    88,  1,     21,2,20011125,-63.8247, 139.9893, 3649,    151.3,   1.8380,  34.5990,2,  34.5970,2,   -999.0,5,   -999.0,9,  -999.00,9,  -999.00,9,  -999.00,9, -999.000,9, -999.000,9, -999.000,9,   -999.0,9,   -999.0,9,   1.83016144
  09AR20011029,  SR03,    88,  1,     22,2,20011125,-63.8247, 139.9893, 3649,    151.8,   1.8430,  34.5990,2,  34.5970,2,   -999.0,5,   -999.0,9,  -999.00,9,  -999.00,9,  -999.00,9, -999.000,9, -999.000,9, -999.000,9,   -999.0,9,   -999.0,9,   1.83512863
  09AR20011029,  SR03,    88,  1,     19,2,20011125,-63.8247, 139.9893, 3649,    401.1,   1.7380,  34.6960,2,  34.6950,2,   -999.0,5,   -999.0,9,  -999.00,9,  -999.00,9,  -999.00,9, -999.000,9, -999.000,9, -999.000,9,   -999.0,9,   -999.0,9,   1.71662776
  09AR20011029,  SR03,    88,  1,     20,2,20011125,-63.8247, 139.9893, 3649,    401.4,   1.7370,  34.6950,2,  34.6980,2,   -999.0,5,   -999.0,9,  -999.00,9,  -999.00,9,  -999.00,9, -999.000,9, -999.000,9, -999.000,9,   -999.0,9,   -999.0,9,   1.71561187
  09AR20011029,  SR03,    88,  1,    218,2,20011125,-63.8247, 139.9893, 3649,    599.5,   1.7090,  34.7310,2,  34.7320,2,   -999.0,5,   -999.0,9,  -999.00,9,  -999.00,9,  -999.00,9, -999.000,9, -999.000,9, -999.000,9,   -999.0,9,   -999.0,9,   1.67615604
  09AR20011029,  SR03,    88,  1,     17,2,20011125,-63.8247, 139.9893, 3649,    599.7,   1.7090,  34.7310,2,  34.7320,2,   -999.0,5,   -999.0,9,  -999.00,9,  -999.00,9,  -999.00,9, -999.000,9, -999.000,9, -999.000,9,   -999.0,9,   -999.0,9,   1.67614407
  09AR20011029,  SR03,    88,  1,    715,2,20011125,-63.8247, 139.9893, 3649,    801.0,   1.5770,  34.7380,2,  34.7390,2,   -999.0,5,   -999.0,9,  -999.00,9,  -999.00,9,  -999.00,9, -999.000,9, -999.000,9, -999.000,9,   -999.0,9,   -999.0,9,   1.53260831
  09AR20011029,  SR03,    88,  1,     16,2,20011125,-63.8247, 139.9893, 3649,    801.5,   1.5770,  34.7390,2,  34.7380,2,   -999.0,5,   -999.0,9,  -999.00,9,  -999.00,9,  -999.00,9, -999.000,9, -999.000,9, -999.000,9,   -999.0,9,   -999.0,9,   1.53257867
  09AR20011029,  SR03,    88,  1,     14,2,20011125,-63.8247, 139.9893, 3649,   1200.1,   1.1940,  34.7280,2,  34.7290,2,   -999.0,5,   -999.0,9,  -999.00,9,  -999.00,9,  -999.00,9, -999.000,9, -999.000,9, -999.000,9,   -999.0,9,   -999.0,9,   1.12718738
  09AR20011029,  SR03,    88,  1,     13,2,20011125,-63.8247, 139.9893, 3649,   1200.2,   1.1940,  34.7280,2,  34.7290,2,   -999.0,5,   -999.0,9,  -999.00,9,  -999.00,9,  -999.00,9, -999.000,9, -999.000,9, -999.000,9,   -999.0,9,   -999.0,9,   1.12718082
  09AR20011029,  SR03,    88,  1,     11,2,20011125,-63.8247, 139.9893, 3649,   1601.1,   0.8640,  34.7150,2,  34.7150,2,   -999.0,5,   -999.0,9,  -999.00,9,  -999.00,9,  -999.00,9, -999.000,9, -999.000,9, -999.000,9,   -999.0,9,   -999.0,9,  0.773732948
  09AR20011029,  SR03,    88,  1,     12,2,20011125,-63.8247, 139.9893, 3649,   1601.6,   0.8630,  34.7150,2,  34.7150,2,   -999.0,5,   -999.0,9,  -999.00,9,  -999.00,9,  -999.00,9, -999.000,9, -999.000,9, -999.000,9,   -999.0,9,   -999.0,9,  0.772710693
  09AR20011029,  SR03,    88,  1,    709,2,20011125,-63.8247, 139.9893, 3649,   2001.5,   0.5520,  34.6970,2,  34.6980,2,   -999.0,5,   -999.0,9,  -999.00,9,  -999.00,9,  -999.00,9, -999.000,9, -999.000,9, -999.000,9,   -999.0,9,   -999.0,9,  0.437453322
  09AR20011029,  SR03,    88,  1,    310,2,20011125,-63.8247, 139.9893, 3649,   2002.8,   0.5500,  34.6980,2,  34.6980,2,   -999.0,5,   -999.0,9,  -999.00,9,  -999.00,9,  -999.00,9, -999.000,9, -999.000,9, -999.000,9,   -999.0,9,   -999.0,9,  0.435388495
  09AR20011029,  SR03,    88,  1,      7,2,20011125,-63.8247, 139.9893, 3649,   2400.1,   0.3070,  34.6870,2,  34.6870,2,   -999.0,5,   -999.0,9,  -999.00,9,  -999.00,9,  -999.00,9, -999.000,9, -999.000,9, -999.000,9,   -999.0,9,   -999.0,9,  0.166342601
  09AR20011029,  SR03,    88,  1,      8,2,20011125,-63.8247, 139.9893, 3649,   2401.5,   0.3060,  34.6870,2,  34.6870,2,   -999.0,5,   -999.0,9,  -999.00,9,  -999.00,9,  -999.00,9, -999.000,9, -999.000,9, -999.000,9,   -999.0,9,   -999.0,9,  0.165251371
  09AR20011029,  SR03,    88,  1,      5,2,20011125,-63.8247, 139.9893, 3649,   2801.3,   0.1260,  34.6810,2,  34.6810,2,   -999.0,5,   -999.0,9,  -999.00,9,  -999.00,9,  -999.00,9, -999.000,9, -999.000,9, -999.000,9,   -999.0,9,   -999.0,9,-0.0434547901
  09AR20011029,  SR03,    88,  1,      6,2,20011125,-63.8247, 139.9893, 3649,   2803.3,   0.1250,  34.6810,2,  34.6800,2,   -999.0,5,   -999.0,9,  -999.00,9,  -999.00,9,  -999.00,9, -999.000,9, -999.000,9, -999.000,9,   -999.0,9,   -999.0,9,-0.0445952981
  09AR20011029,  SR03,    88,  1,      3,2,20011125,-63.8247, 139.9893, 3649,   3200.5,  -0.0210,  34.6760,2,  34.6760,2,   -999.0,5,   -999.0,9,  -999.00,9,  -999.00,9,  -999.00,9, -999.000,9, -999.000,9, -999.000,9,   -999.0,9,   -999.0,9, -0.221355292
  09AR20011029,  SR03,    88,  1,      4,2,20011125,-63.8247, 139.9893, 3649,   3200.7,  -0.0210,  34.6760,2,  34.6760,2,   -999.0,5,   -999.0,9,  -999.00,9,  -999.00,9,  -999.00,9, -999.000,9, -999.000,9, -999.000,9,   -999.0,9,   -999.0,9, -0.221372945
  09AR20011029,  SR03,    88,  1,      2,2,20011125,-63.8247, 139.9893, 3649,   3548.6,  -0.1800,  34.6630,2,  34.6660,2,   -999.0,5,   -999.0,9,  -999.00,9,  -999.00,9,  -999.00,9, -999.000,9, -999.000,9, -999.000,9,   -999.0,9,   -999.0,9, -0.407771003
  09AR20011029,  SR03,    88,  1,      1,2,20011125,-63.8247, 139.9893, 3649,   3549.3,  -0.1820,  34.6640,2,  34.6660,2,   -999.0,5,   -999.0,9,  -999.00,9,  -999.00,9,  -999.00,9, -999.000,9, -999.000,9, -999.000,9,   -999.0,9,   -999.0,9, -0.409783484
  09AR20011029,  SR03,    89,  1,     24,2,20011126,-64.1677, 140.4220, 3532,      6.4,  -1.6520,  33.9050,2,  33.9090,2,    424.0,3,    358.3,2,    42.50,2,    27.48,2,     1.72,2,    6.293,2,    3.249,2,    0.580,2,   2163.4,6,   2289.4,2,  -1.65212448
  09AR20011029,  SR03,    89,  1,     23,2,20011126,-64.1677, 140.4220, 3532,     49.7,  -1.5000,  34.1480,4,  34.2190,2,    311.0,2,    311.0,2,    55.80,2,    30.41,2,     1.99,2,    5.000,2,    2.594,2,    0.470,2,   2202.3,2,   2309.1,6,  -1.50108438
  09AR20011029,  SR03,    89,  1,     22,2,20011126,-64.1677, 140.4220, 3532,     80.7,   0.6610,  34.4920,4,  34.4980,2,    218.6,2,    225.0,2,    73.20,2,    33.17,2,     2.17,2,    2.327,2,    1.184,2,    0.210,2,   2241.6,2,   2326.8,2,  0.657675321
  09AR20011029,  SR03,    89,  1,     21,2,20011126,-64.1677, 140.4220, 3532,    119.7,   1.5600,  34.5940,4,  34.5930,2,    196.4,2,    193.4,2,    79.30,2,    33.41,2,     2.21,2,    1.159,2,    0.571,2,    0.100,2,   2251.7,2,   2331.0,2,   1.55410701
  09AR20011029,  SR03,    89,  1,     20,2,20011126,-64.1677, 140.4220, 3532,    181.7,   1.7340,  34.6410,2,  34.6420,2,    190.8,2,    185.2,2,    81.90,2,    33.10,2,     2.18,2,    0.725,2,    0.352,2,    0.060,2,   2255.1,2,   2335.8,2,   1.72468038
  09AR20011029,  SR03,    89,  1,     19,2,20011126,-64.1677, 140.4220, 3532,    220.1,   1.7770,  34.6630,2,  34.6630,2,    190.8,2,    186.0,2,    82.70,2,    32.82,2,     2.15,2,    0.613,2,    0.294,2,    0.060,2,   2253.0,2,   2338.1,2,   1.76555245
  09AR20011029,  SR03,    89,  1,    218,2,20011126,-64.1677, 140.4220, 3532,    280.8,   1.7510,  34.6880,2,  34.6870,2,    188.7,2,    189.3,2,    83.70,2,    32.13,2,     2.11,2,    0.528,2,    0.257,2,    0.040,2,   2251.4,2,   2338.9,2,    1.7362983
  09AR20011029,  SR03,    89,  1,     17,2,20011126,-64.1677, 140.4220, 3532,    400.7,   1.6170,  34.7040,2,  34.7050,2,    191.8,2,    196.3,2,    86.10,2,    31.48,2,     2.07,2,    0.524,2,    0.256,2,    0.040,2,   2249.6,2,   2341.4,2,   1.59603952
  09AR20011029,  SR03,    89,  1,     16,2,20011126,-64.1677, 140.4220, 3532,    499.7,   1.7140,  34.7320,2,  34.7310,2,    191.4,2,    195.4,2,    88.20,2,    31.09,2,     2.04,2,    0.270,2,    0.129,2,    0.030,2,   2250.0,2,   2345.3,2,   1.68702357
  09AR20011029,  SR03,    89,  1,    715,2,20011126,-64.1677, 140.4220, 3532,    650.7,   1.6340,  34.7420,2,  34.7410,2,    196.9,2,    199.3,2,    91.40,2,    30.74,2,     2.02,2,    0.180,2,    0.084,2,    0.010,2,   2250.2,2,   2346.9,2,   1.59845596
  09AR20011029,  SR03,    89,  1,     14,2,20011126,-64.1677, 140.4220, 3532,    800.5,   1.4580,  34.7370,2,  34.7370,2,    199.5,2,    203.0,2,    94.90,2,    30.80,2,     2.02,2,    0.229,2,    0.110,2,    0.010,2,   2250.5,2,   2349.4,2,   1.41440939
  09AR20011029,  SR03,    89,  1,     13,2,20011126,-64.1677, 140.4220, 3532,   1000.2,   1.2690,  34.7320,2,  34.7330,2,    201.2,2,    205.2,2,   100.80,2,    30.93,2,     2.04,2,    0.186,2,    0.088,2,    0.010,2,   2251.8,2,   2351.5,2,   1.21438388
  09AR20011029,  SR03,    89,  1,     12,2,20011126,-64.1677, 140.4220, 3532,   1202.8,   1.1290,  34.7280,2,  34.7280,2,    205.3,2,    206.7,2,   106.60,2,    31.03,2,     2.04,2,    0.146,2,    0.071,2,    0.020,2,   2255.3,6,   2354.8,2,   1.06263442
  09AR20011029,  SR03,    89,  1,     11,2,20011126,-64.1677, 140.4220, 3532,   1500.8,   0.8370,  34.7100,2,  34.7100,2,    210.1,2,    210.9,2,   112.00,2,    31.62,2,     2.09,2,    0.259,2,    0.126,2,    0.020,2,   2257.3,2,   2353.1,2,  0.753974963
  09AR20011029,  SR03,    89,  1,    310,2,20011126,-64.1677, 140.4220, 3532,   1799.7,   0.5610,  34.6940,2,  34.6940,2,    214.6,2,    215.2,2,   116.90,2,    32.01,2,     2.11,2,    0.400,2,    0.196,2,    0.030,2,   2256.6,2,   2353.8,2,  0.460905264
  09AR20011029,  SR03,    89,  1,    709,2,20011126,-64.1677, 140.4220, 3532,   2099.1,   0.3370,  34.6840,2,  34.6840,2,    219.1,2,    220.6,2,   119.90,2,    32.18,2,     2.13,2,    0.545,2,    0.270,2,    0.040,2,   2256.8,2,   2354.0,2,   0.21872402
  09AR20011029,  SR03,    89,  1,      8,2,20011126,-64.1677, 140.4220, 3532,   2400.0,   0.2150,  34.6810,2,  34.6800,2,    224.5,2,    224.1,2,   122.70,2,    32.34,2,     2.13,2,    0.602,2,    0.296,2,    0.040,2,   2259.2,2,   2353.4,2,  0.076072714
  09AR20011029,  SR03,    89,  1,      7,2,20011126,-64.1677, 140.4220, 3532,   2600.5,   0.1400,  34.6800,2,  34.6790,2,    229.4,2,    226.8,2,   124.30,2,    32.29,2,     2.14,2,    0.660,6,    0.321,6,    0.040,6,   2257.1,2,   2353.0,2,-0.0133188917
  09AR20011029,  SR03,    89,  1,      6,2,20011126,-64.1677, 140.4220, 3532,   2800.0,   0.0580,  34.6770,2,  34.6760,2,    233.4,2,    229.8,2,   122.90,2,    32.20,2,     2.14,2,    0.841,2,    0.408,2,    0.070,2,   2257.2,2,   2354.2,2, -0.109883569
  09AR20011029,  SR03,    89,  1,      5,2,20011126,-64.1677, 140.4220, 3532,   3001.3,  -0.0200,  34.6760,2,  34.6750,2,    237.9,2,    232.9,2,   123.50,2,    32.11,2,     2.13,2,    0.975,2,    0.472,2,    0.070,2,   2257.2,2,   2352.7,2, -0.203087109
  09AR20011029,  SR03,    89,  1,      4,2,20011126,-64.1677, 140.4220, 3532,   3200.2,  -0.1020,  34.6680,2,  34.6720,2,    242.1,2,    236.6,2,   119.20,2,    31.92,2,     2.12,2,    1.370,2,    0.662,2,    0.100,2,   2255.9,2,   2351.3,2, -0.300376613
  09AR20011029,  SR03,    89,  1,      3,2,20011126,-64.1677, 140.4220, 3532,   3449.9,  -0.3150,  34.6510,2,  34.6540,2,    251.1,2,    247.0,2,   108.70,2,    31.65,2,     2.13,2,    2.244,2,    1.114,2,    0.180,2,   2252.3,2,   2348.3,2, -0.530214042
  09AR20011029,  SR03,    89,  1,      2,2,20011126,-64.1677, 140.4220, 3532,   3550.7,  -0.5510,  34.6290,2,  34.6330,2,    259.4,2,    260.5,2,    98.80,2,    31.30,2,     2.08,2,    2.803,2,    1.418,2,    0.240,2,   2247.5,2,   2344.9,6, -0.769058047
  09AR20011029,  SR03,    89,  1,      1,2,20011126,-64.1677, 140.4220, 3532,   3632.7,  -0.5780,  34.6310,2,  34.6330,2,    258.3,2,    262.4,2,    97.60,2,    31.28,2,     2.08,2,    2.889,2,    1.471,2,    0.270,2,   2246.6,6,   2344.4,2, -0.802767546