BOTTLE,20081126PRINUNIVRMK
EXPOCODE,SECT_ID,STNNBR,CASTNO,BTLNBR,BTLNBR_FLAG_W,DATE,LATITUDE,LONGITUDE,DEPTH,CTDPRS,CTDTMP,CTDSAL,CTDSAL_FLAG_W,SALNTY,SALNTY_FLAG_W,CTDOXY,CTDOXY_FLAG_W,OXYGEN,OXYGEN_FLAG_W,SILCAT,SILCAT_FLAG_W,NITRAT,NITRAT_FLAG_W,PHSPHT,PHSPHT_FLAG_W,CFC-11,CFC-11_FLAG_W,CFC-12,CFC-12_FLAG_W,CFC113,CFC113_FLAG_W,TCARBN,TCARBN_FLAG_W,ALKALI,ALKALI_FLAG_W,THETA
,,,,,,,,,METERS,DBARS,ITS-90,PSS-78,,PSS-78,,UMOL/KG,,UMOL/KG,,UMOL/KG,,UMOL/KG,,UMOL/KG,,PMOL/KG,,PMOL/KG,,PMOL/KG,,UMOL/KG,,UMOL/KG,,DEGC
  09AR20011029,  SR03,    69,  1,     24,2,20011119,-59.3502, 139.8483, 4100,      5.3,   0.4100,  33.8770,2,  33.8760,2,    432.5,3,    350.5,2,    21.10,2,    27.70,2,     1.78,2,    6.441,2,    3.319,2,    0.580,2,   2154.8,2,   2280.1,2,  0.409802696
  09AR20011029,  SR03,    69,  1,     23,2,20011119,-59.3502, 139.8483, 4100,     50.2,   0.3630,  33.8770,2,  33.8760,2,    358.7,2,    350.7,2,    21.30,2,    27.79,2,     1.80,2, -999.000,9, -999.000,9, -999.000,9,   2152.9,2,   2280.0,2,  0.361130688
  09AR20011029,  SR03,    69,  1,     22,2,20011119,-59.3502, 139.8483, 4100,    101.1,   0.3410,  33.8790,2,  33.8780,2,    346.6,2,    350.4,2,    21.40,2,    27.80,2,     1.79,2, -999.000,9, -999.000,9, -999.000,9,   2155.0,2,   2281.1,2,  0.337206858
  09AR20011029,  SR03,    69,  1,     21,2,20011119,-59.3502, 139.8483, 4100,    126.5,   0.2580,  33.8840,2,  33.8840,2,    345.7,2,    348.9,2,    22.20,2,    27.92,2,     1.85,2,    6.380,2,    3.268,2,    0.580,2,   2155.5,2,   2269.4,4,  0.253312262
  09AR20011029,  SR03,    69,  1,     20,2,20011119,-59.3502, 139.8483, 4100,    174.8,  -0.0460,  33.9780,3,  33.9780,2,    323.4,2,    324.9,2,    31.30,2,    29.93,2,     1.98,2,    8.389,4,    2.981,2,    0.520,2,   2176.8,2,   2289.6,2,-0.0521343185
  09AR20011029,  SR03,    69,  1,     19,2,20011119,-59.3502, 139.8483, 4100,    225.0,   1.9410,  34.3100,3,  34.3140,2,    221.8,2,    212.1,2,    55.60,2,    34.93,2,     2.31,2,    2.377,2,    1.161,2,    0.190,2,   2231.4,2,   2307.8,2,   1.92912627
  09AR20011029,  SR03,    69,  1,    218,2,20011119,-59.3502, 139.8483, 4100,    275.5,   2.1190,  34.3920,2,  34.3950,2,    194.7,2,    194.7,2,    62.60,2,    35.44,2,     2.36,2,    1.694,2,    0.821,2,    0.130,2,   2242.1,2,   2314.7,2,   2.10390209
  09AR20011029,  SR03,    69,  1,     17,2,20011119,-59.3502, 139.8483, 4100,    400.5,   2.2050,  34.5150,2,  34.5150,2,    182.4,2,    180.8,2,    71.50,2,    35.08,2,     2.34,2, -999.000,9, -999.000,9, -999.000,9,   2254.5,2,   2325.1,2,   2.18226791
  09AR20011029,  SR03,    69,  1,     16,2,20011119,-59.3502, 139.8483, 4100,    601.0,   2.2220,  34.6220,2,  34.6220,2,    181.9,2,    177.7,2,    76.80,2,    33.89,2,     2.25,2, -999.000,9, -999.000,9, -999.000,9,   -999.0,9,   -999.0,9,   2.18669568
  09AR20011029,  SR03,    69,  1,    715,2,20011119,-59.3502, 139.8483, 4100,    801.5,   2.1440,  34.6900,2,  34.6880,2,    186.0,2,    183.2,2,    80.00,2,    32.76,2,     2.18,2, -999.000,9, -999.000,9, -999.000,9,   2254.1,2,   2340.0,2,   2.09600825
  09AR20011029,  SR03,    69,  1,     14,2,20011119,-59.3502, 139.8483, 4100,   1001.3,   2.0440,  34.7240,2,  34.7230,2,    189.7,2,    198.6,4,    82.10,2,    31.64,2,     2.10,2, -999.000,9, -999.000,9, -999.000,9,   -999.0,9,   -999.0,9,   1.98314845
  09AR20011029,  SR03,    69,  1,     13,2,20011119,-59.3502, 139.8483, 4100,   1201.6,   1.9250,  34.7410,2,  34.7410,2,    191.5,2,    196.4,2,    86.00,2,    31.17,2,     2.06,2, -999.000,9, -999.000,9, -999.000,9,   -999.0,9,   -999.0,9,    1.8511134
  09AR20011029,  SR03,    69,  1,     12,2,20011119,-59.3502, 139.8483, 4100,   1399.9,   1.7680,  34.7470,2,  34.7470,2,    197.0,2,    199.7,2,    90.20,2,    30.91,2,     2.05,2, -999.000,9, -999.000,9, -999.000,9,   2250.0,2,   2349.4,2,    1.6813833
  09AR20011029,  SR03,    69,  1,     11,2,20011119,-59.3502, 139.8483, 4100,   1601.9,   1.6020,  34.7450,2,  34.7460,2,    200.0,2,    202.3,2,    94.80,2,    31.07,2,     2.05,2, -999.000,9, -999.000,9, -999.000,9,   -999.0,9,   -999.0,9,   1.50234856
  09AR20011029,  SR03,    69,  1,     10,2,20011119,-59.3502, 139.8483, 4100,   1900.0,   1.3380,  34.7370,2,  34.7370,2,    205.1,2,    207.0,2,   102.60,2,    31.49,2,     2.08,2, -999.000,9, -999.000,9, -999.000,9,   -999.0,9,   -999.0,9,   1.21915357
  09AR20011029,  SR03,    69,  1,    709,2,20011119,-59.3502, 139.8483, 4100,   2200.4,   1.1060,  34.7240,2,  34.7250,2,    210.1,2,    208.3,2,   109.60,2,    31.81,2,     2.12,2, -999.000,9, -999.000,9, -999.000,9,   -999.0,9,   -999.0,9,  0.967016485
  09AR20011029,  SR03,    69,  1,      8,2,20011119,-59.3502, 139.8483, 4100,   2499.6,   0.8860,  34.7130,2,  34.7140,2,    213.6,2,    211.0,2,   116.10,2,    32.21,2,     2.15,2, -999.000,9, -999.000,9, -999.000,9,   -999.0,9,   -999.0,9,  0.726363362
  09AR20011029,  SR03,    69,  1,      7,2,20011119,-59.3502, 139.8483, 4100,   2799.7,   0.6640,  34.7020,2,  34.7020,2,    217.6,2,    214.6,2,   122.50,2,    32.49,2,     2.17,2,    0.156,2,    0.078,2,    0.000,2,   2263.0,2,   2357.7,2,  0.483244637
  09AR20011029,  SR03,    69,  1,      6,2,20011119,-59.3502, 139.8483, 4100,   3099.9,   0.4590,  34.6920,2,  34.6930,2,    222.7,2,    219.7,2,   125.60,2,    32.63,2,     2.19,2, -999.000,9, -999.000,9, -999.000,9,   -999.0,9,   -999.0,9,  0.256276178
  09AR20011029,  SR03,    69,  1,      5,2,20011119,-59.3502, 139.8483, 4100,   3399.5,   0.3180,  34.6870,2,  34.6870,2,    225.6,2,    223.7,2,   130.00,2,    32.79,2,     2.20,2,    0.301,2,    0.145,2,    0.010,2,   2262.1,2,   2355.9,2, 0.0912396407
  09AR20011029,  SR03,    69,  1,      4,2,20011119,-59.3502, 139.8483, 4100,   3702.0,   0.2260,  34.6840,2,  34.6840,2,    227.5,2,    227.1,2,   133.10,2,    32.94,2,     2.25,3, -999.000,9, -999.000,9, -999.000,9,   -999.0,9,   -999.0,9,-0.0271682757
  09AR20011029,  SR03,    69,  1,      3,2,20011119,-59.3502, 139.8483, 4100,   3900.9,   0.1710,  34.6810,2,  34.6810,2,    228.6,2,    229.2,2,   137.00,2,    32.87,2,     2.19,2,    0.459,2,    0.221,2,    0.020,2,   2260.7,2,   2356.4,2, -0.100200189
  09AR20011029,  SR03,    69,  1,      2,2,20011119,-59.3502, 139.8483, 4100,   4102.2,   0.1140,  34.6770,2,  34.6790,2,    229.4,2,    231.1,2,   137.90,2,    32.74,2,     2.18,2,    0.615,2,    0.293,2,    0.030,2,   2262.7,2,   -999.0,9, -0.175845636
  09AR20011029,  SR03,    69,  1,      1,2,20011119,-59.3502, 139.8483, 4100,   4256.3,   0.0920,  34.6770,2,  34.6780,2,   -999.0,5,    232.3,2,   137.60,2,    32.76,2,     2.19,2,    0.721,2,    0.341,2,    0.030,2,   2260.8,2,   2356.0,2, -0.213063903
  09AR20011029,  SR03,    70,  1,     24,2,20011119,-59.8460, 139.8512, 4377,      5.5,   0.1110,  33.9240,2,  33.9240,2,   -999.0,5,    349.1,2,    25.20,2,    28.32,2,     1.82,2, -999.000,9, -999.000,9, -999.000,9,   2158.3,6,   2285.5,2,   0.11080878
  09AR20011029,  SR03,    70,  1,     23,2,20011119,-59.8460, 139.8512, 4377,      5.6,   0.1110,  33.9240,2,-999.0000,9,   -999.0,5,   -999.0,9,  -999.00,9,  -999.00,9,  -999.00,9, -999.000,9, -999.000,9, -999.000,9,   -999.0,9,   -999.0,9,  0.110805298
  09AR20011029,  SR03,    70,  1,     21,2,20011119,-59.8460, 139.8512, 4377,     14.4,   0.1010,  33.9260,2,-999.0000,9,   -999.0,5,   -999.0,9,  -999.00,9,  -999.00,9,  -999.00,9, -999.000,9, -999.000,9, -999.000,9,   2158.2,2,   2285.6,6,  0.100499343
  09AR20011029,  SR03,    70,  1,     22,2,20011119,-59.8460, 139.8512, 4377,     14.5,   0.1040,  33.9260,2,  33.9240,2,   -999.0,5,    349.2,2,    25.30,2,    28.27,2,     1.84,2, -999.000,9, -999.000,9, -999.000,9,   -999.0,9,   -999.0,9,  0.103495535
  09AR20011029,  SR03,    70,  1,     20,2,20011119,-59.8460, 139.8512, 4377,     39.5,   0.0780,  33.9250,2,  33.9260,2,   -999.0,5,    349.2,2,    25.30,2,    28.47,2,     1.82,2, -999.000,9, -999.000,9, -999.000,9,   2156.8,2,   2285.6,2, 0.0766252733
  09AR20011029,  SR03,    70,  1,     19,2,20011119,-59.8460, 139.8512, 4377,     39.5,   0.0650,  33.9260,2,-999.0000,9,   -999.0,5,   -999.0,9,  -999.00,9,  -999.00,9,  -999.00,9, -999.000,9, -999.000,9, -999.000,9,   -999.0,9,   -999.0,9, 0.0636296621
  09AR20011029,  SR03,    70,  1,    218,2,20011119,-59.8460, 139.8512, 4377,     65.2,   0.0390,  33.9290,2,  33.9290,2,   -999.0,5,    348.1,2,    25.80,2,    28.25,2,     1.84,2, -999.000,9, -999.000,9, -999.000,9,   2158.1,2,   2285.6,2, 0.0367366979
  09AR20011029,  SR03,    70,  1,     17,2,20011119,-59.8460, 139.8512, 4377,     65.2,   0.0370,  33.9290,2,-999.0000,9,   -999.0,5,   -999.0,9,  -999.00,9,  -999.00,9,  -999.00,9, -999.000,9, -999.000,9, -999.000,9,   -999.0,9,   -999.0,9, 0.0347378118
  09AR20011029,  SR03,    70,  1,     16,2,20011119,-59.8460, 139.8512, 4377,     99.8,  -0.3310,  33.9410,2,  33.9430,2,   -999.0,5,    353.6,2,    28.00,2,    28.50,2,     1.85,2, -999.000,9, -999.000,9, -999.000,9,   2161.7,2,   2287.1,2,  -0.33418308
  09AR20011029,  SR03,    70,  1,    715,2,20011119,-59.8460, 139.8512, 4377,    100.2,  -0.3280,  33.9400,2,-999.0000,9,   -999.0,5,   -999.0,9,  -999.00,9,  -999.00,9,  -999.00,9, -999.000,9, -999.000,9, -999.000,9,   -999.0,9,   -999.0,9, -0.331198221
  09AR20011029,  SR03,    70,  1,     13,2,20011119,-59.8460, 139.8512, 4377,    124.8,  -0.0690,  34.0110,4,-999.0000,9,   -999.0,5,   -999.0,9,  -999.00,9,  -999.00,9,  -999.00,9, -999.000,9, -999.000,9, -999.000,9,   2177.1,2,   2291.3,2,         -999
  09AR20011029,  SR03,    70,  1,     14,2,20011119,-59.8460, 139.8512, 4377,    124.9,  -0.0740,  34.0150,4,  34.0140,2,   -999.0,5,    323.8,2,    34.50,2,    29.97,2,     1.99,2, -999.000,9, -999.000,9, -999.000,9,   -999.0,9,   -999.0,9,-0.0783042313
  09AR20011029,  SR03,    70,  1,     12,2,20011119,-59.8460, 139.8512, 4377,    139.1,   0.2650,  34.0640,4,  34.0620,2,   -999.0,5,    303.5,2,    38.20,2,    31.04,2,     2.06,2, -999.000,9, -999.000,9, -999.000,9,   2186.6,2,   2293.7,2,  0.259774681
  09AR20011029,  SR03,    70,  1,     11,2,20011119,-59.8460, 139.8512, 4377,    139.3,   0.3420,  34.0670,4,-999.0000,9,   -999.0,5,   -999.0,9,  -999.00,9,  -999.00,9,  -999.00,9, -999.000,9, -999.000,9, -999.000,9,   -999.0,9,   -999.0,9,         -999
  09AR20011029,  SR03,    70,  1,     10,2,20011119,-59.8460, 139.8512, 4377,    159.7,   1.6460,  34.2630,4,  34.2600,2,   -999.0,5,    228.6,2,    52.10,2,    34.34,2,     2.27,2, -999.000,9, -999.000,9, -999.000,9,   2219.7,2,   2303.9,2,   1.63806553
  09AR20011029,  SR03,    70,  1,    709,2,20011119,-59.8460, 139.8512, 4377,    159.8,   1.7310,  34.2720,4,-999.0000,9,   -999.0,5,   -999.0,9,  -999.00,9,  -999.00,9,  -999.00,9, -999.000,9, -999.000,9, -999.000,9,   -999.0,9,   -999.0,9,         -999
  09AR20011029,  SR03,    70,  1,      7,2,20011119,-59.8460, 139.8512, 4377,    180.4,   1.9160,  34.3550,4,-999.0000,9,   -999.0,5,   -999.0,9,  -999.00,9,  -999.00,9,  -999.00,9, -999.000,9, -999.000,9, -999.000,9,   2233.9,2,   2310.6,2,         -999
  09AR20011029,  SR03,    70,  1,      8,2,20011119,-59.8460, 139.8512, 4377,    180.5,   1.9110,  34.3510,3,  34.3500,2,   -999.0,5,    204.8,2,    59.90,2,    35.20,2,     2.33,2, -999.000,9, -999.000,9, -999.000,9,   -999.0,9,   -999.0,9,   1.90157564
  09AR20011029,  SR03,    70,  1,      5,2,20011119,-59.8460, 139.8512, 4377,    199.4,   2.0250,  34.3970,2,-999.0000,9,   -999.0,5,   -999.0,9,  -999.00,9,  -999.00,9,  -999.00,9, -999.000,9, -999.000,9, -999.000,9,   2240.3,2,   2315.9,2,   2.01435309
  09AR20011029,  SR03,    70,  1,      6,2,20011119,-59.8460, 139.8512, 4377,    199.5,   2.0230,  34.3950,2,  34.3920,2,   -999.0,5,    195.3,2,    63.40,2,    35.37,2,     2.35,2, -999.000,9, -999.000,9, -999.000,9,   -999.0,9,   -999.0,9,   2.01235265
  09AR20011029,  SR03,    70,  1,      4,2,20011119,-59.8460, 139.8512, 4377,    249.6,   2.1180,  34.4550,2,  34.4540,2,   -999.0,5,    184.9,2,    68.20,2,    35.64,2,     2.37,2, -999.000,9, -999.000,9, -999.000,9,   2246.0,2,   2321.1,2,   2.10435141
  09AR20011029,  SR03,    70,  1,      3,2,20011119,-59.8460, 139.8512, 4377,    250.3,   2.1200,  34.4570,2,-999.0000,9,   -999.0,5,   -999.0,9,  -999.00,9,  -999.00,9,  -999.00,9, -999.000,9, -999.000,9, -999.000,9,   -999.0,9,   -999.0,9,   2.10630623
  09AR20011029,  SR03,    70,  1,      2,2,20011119,-59.8460, 139.8512, 4377,    301.2,   2.2030,  34.5010,2,  34.4990,2,   -999.0,5,    180.0,2,    70.80,2,    35.12,2,     2.36,2, -999.000,9, -999.000,9, -999.000,9,   2249.1,2,   2323.8,6,   2.18616653
  09AR20011029,  SR03,    70,  1,      1,2,20011119,-59.8460, 139.8512, 4377,    350.0,   2.2040,  34.5430,2,  34.5430,2,   -999.0,5,    177.9,2,    73.60,2,    35.46,2,     2.33,2, -999.000,9, -999.000,9, -999.000,9,   2251.2,6,   2327.0,2,   2.18426662
  09AR20011029,  SR03,    71,  1,     24,2,20011119,-59.8253, 139.8373, 4374,      5.6,   0.1210,  33.9320,2,  33.9310,2,    402.3,3,    346.9,2,    25.90,2,    28.57,2,     1.82,2,    6.328,2,    3.236,2,    0.580,2,   2161.0,6,   2285.0,2,  0.120804745
  09AR20011029,  SR03,    71,  1,     23,2,20011119,-59.8253, 139.8373, 4374,     49.7,   0.0740,  33.9450,3,  33.9420,2,    345.3,2,    345.3,2,    26.80,2,    28.58,2,     1.85,2,    6.353,2,    3.242,2,    0.580,2,   2161.9,2,   2285.7,6, 0.0722657946
  09AR20011029,  SR03,    71,  1,     22,2,20011119,-59.8253, 139.8373, 4374,     99.9,  -0.1030,  33.9510,2,  33.9500,2,    338.7,2,    347.0,2,    27.80,2,    28.71,2,     1.87,2,    6.412,2,    3.273,2,    0.570,2,   2165.7,2,   2286.8,2, -0.106382722
  09AR20011029,  SR03,    71,  1,     21,2,20011119,-59.8253, 139.8373, 4374,    147.4,   1.3320,  34.2110,4,  34.2070,2,    201.7,2,    246.0,2,    48.10,2,    33.58,2,     2.23,2,    3.456,2,    1.748,2,    0.300,2,   2213.0,2,   2300.7,2,   1.32509091
  09AR20011029,  SR03,    71,  1,     20,2,20011119,-59.8253, 139.8373, 4374,    199.7,   2.0560,  34.4040,2,  34.4010,2,    193.8,2,    193.4,2,    64.00,2,    35.68,2,     2.33,2,    1.702,2,    0.832,2,    0.130,2,   2242.3,2,   2315.7,2,   2.04528431
  09AR20011029,  SR03,    71,  1,     19,2,20011119,-59.8253, 139.8373, 4374,    300.5,   2.2090,  34.5110,2,  34.5090,2,    179.8,2,    179.4,2,    71.30,2,    35.50,2,     2.31,2,    0.964,2,    0.460,2,    0.070,2,   2252.0,2,   2324.1,2,   2.19218736
  09AR20011029,  SR03,    71,  1,    218,2,20011119,-59.8253, 139.8373, 4374,    399.5,   2.2220,  34.5710,2,  34.5710,2,    177.1,2,    176.6,2,    74.90,2,    34.92,2,     2.27,2,    0.654,2,    0.320,2,    0.050,2,   2255.2,2,   2328.6,2,   2.19923317
  09AR20011029,  SR03,    71,  1,     17,2,20011119,-59.8253, 139.8373, 4374,    500.2,   2.1660,  34.6220,2,  34.6200,2,    177.7,2,    176.7,2,    77.80,2,    34.28,2,     2.25,2,    0.495,6,    0.237,6,    0.030,6,   2255.6,2,   2333.1,2,   2.13726039
  09AR20011029,  SR03,    71,  1,     16,2,20011119,-59.8253, 139.8373, 4374,    600.2,   2.1480,  34.6570,2,  34.6550,2,    179.6,2,    179.0,2,    79.30,2,    33.68,2,     2.19,2,    0.378,2,    0.184,2,    0.030,2,   2255.0,2,   2335.6,2,   2.11306895
  09AR20011029,  SR03,    71,  1,    715,2,20011119,-59.8253, 139.8373, 4374,    800.9,   2.0930,  34.7040,2,  34.7040,2,    187.5,2,    185.7,2,    81.10,2,    32.13,2,     2.11,2,    0.232,2,    0.110,2,    0.010,2,   2251.1,2,   2340.0,2,   2.04535164
  09AR20011029,  SR03,    71,  1,     14,2,20011119,-59.8253, 139.8373, 4374,    999.7,   1.9420,  34.7300,2,  34.7290,2,    193.3,2,    192.2,2,    84.90,2,    31.68,2,     2.06,2, -999.000,9, -999.000,9, -999.000,9,   2250.1,2,   2343.0,2,   1.88205671
  09AR20011029,  SR03,    71,  1,     13,2,20011119,-59.8253, 139.8373, 4374,   1200.4,   1.8140,  34.7420,2,  34.7410,2,    197.6,2,    197.0,2,    88.10,2,    31.15,2,     2.03,2,    0.183,2,    0.081,2,    0.020,2,   2248.5,2,   2345.8,2,   1.74124828
  09AR20011029,  SR03,    71,  1,     12,2,20011119,-59.8253, 139.8373, 4374,   1401.6,   1.6640,  34.7440,2,  34.7450,2,    199.6,2,    200.7,2,    92.80,2,    31.26,2,     2.03,2,    0.136,2,    0.066,2,    0.010,2,   2250.2,6,   2349.5,6,   1.57840464
  09AR20011029,  SR03,    71,  1,     11,2,20011119,-59.8253, 139.8373, 4374,   1599.1,   1.4920,  34.7420,2,  34.7420,2,    202.5,2,    203.3,2,    97.90,2,    31.23,2,     2.03,2,    0.121,2,    0.057,2,    0.010,2,   2252.2,2,   2352.1,2,   1.39393872
  09AR20011029,  SR03,    71,  1,     10,2,20011119,-59.8253, 139.8373, 4374,   1905.6,   1.2540,  34.7320,2,  34.7330,2,    205.2,2,    206.5,2,   105.50,2,    31.55,2,     2.07,2,    0.098,2,    0.043,2,    0.010,2,   2253.6,2,   2354.6,2,   1.13596477
  09AR20011029,  SR03,    71,  1,    709,2,20011119,-59.8253, 139.8373, 4374,   2207.4,   1.0310,  34.7210,3,  34.7220,2,    210.1,2,    209.1,2,   112.40,2,    32.03,2,     2.09,2,    0.110,2,    0.051,2,    0.010,2,   2256.4,2,   2356.7,2,  0.892726472
  09AR20011029,  SR03,    71,  1,      8,2,20011119,-59.8253, 139.8373, 4374,   2506.6,   0.8110,  34.7090,2,  34.7100,2,    213.3,2,    212.0,2,   118.10,2,    32.56,2,     2.14,2,    0.132,2,    0.058,2,    0.010,2,   2259.3,2,   2357.0,2,  0.652216035
  09AR20011029,  SR03,    71,  1,      7,2,20011119,-59.8253, 139.8373, 4374,   2806.4,   0.5810,  34.6990,2,  34.6980,2,    218.0,2,    216.2,2,   124.10,2,    32.57,2,     2.16,2,    0.171,2,    0.084,2,    0.000,2,   2261.1,2,   2356.3,2,  0.401428081
  09AR20011029,  SR03,    71,  1,      6,2,20011119,-59.8253, 139.8373, 4374,   3206.8,   0.3540,  34.6890,2,  34.6880,2,    223.6,2,    222.0,2,   128.80,2,    32.84,2,     2.16,2,    0.278,2,    0.137,2,    0.010,2,   2260.0,2,   2356.3,2,  0.144099605
  09AR20011029,  SR03,    71,  1,      5,2,20011119,-59.8253, 139.8373, 4374,   3598.1,   0.2010,  34.6820,2,  34.6810,2,    229.3,2,    227.5,2,   130.00,2,    32.73,2,     2.17,2,    0.449,2,    0.222,2,    0.020,2,   2258.9,2,   2355.8,2,-0.0414803753
  09AR20011029,  SR03,    71,  1,      4,2,20011119,-59.8253, 139.8373, 4374,   3998.9,   0.0670,  34.6760,2,  34.6760,2,    233.6,2,    233.1,2,   127.10,2,    32.68,2,     2.18,2,    0.905,2,    0.431,2,    0.050,2,   2257.8,2,   2353.3,2, -0.211007279
  09AR20011029,  SR03,    71,  1,      3,2,20011119,-59.8253, 139.8373, 4374,   4199.2,   0.0010,  34.6720,2,  34.6730,2,    238.4,2,    236.3,2,   123.30,2,    32.61,2,     2.17,2,    1.208,2,    0.588,2,    0.080,2,   2256.8,2,   2352.5,2, -0.295386203
  09AR20011029,  SR03,    71,  1,      2,2,20011119,-59.8253, 139.8373, 4374,   4400.6,  -0.0570,  34.6650,2,  34.6690,2,    238.9,2,    239.2,2,   122.20,2,    32.58,2,     2.15,2,    1.552,2,    0.754,2,    0.120,2,   2256.0,2,   2352.3,6, -0.372518584
  09AR20011029,  SR03,    71,  1,      1,2,20011119,-59.8253, 139.8373, 4374,   4534.5,  -0.1570,  34.6550,2,  34.6580,2,    245.9,2,    243.8,2,   122.90,2,    32.47,2,     2.15,2,    1.976,2,    0.964,2,    0.150,2,   2254.3,6,   2350.0,2, -0.483443867