BOTTLE,20081126PRINUNIVRMK
EXPOCODE,SECT_ID,STNNBR,CASTNO,BTLNBR,BTLNBR_FLAG_W,DATE,LATITUDE,LONGITUDE,DEPTH,CTDPRS,CTDTMP,CTDSAL,CTDSAL_FLAG_W,SALNTY,SALNTY_FLAG_W,CTDOXY,CTDOXY_FLAG_W,OXYGEN,OXYGEN_FLAG_W,SILCAT,SILCAT_FLAG_W,NITRAT,NITRAT_FLAG_W,PHSPHT,PHSPHT_FLAG_W,CFC-11,CFC-11_FLAG_W,CFC-12,CFC-12_FLAG_W,CFC113,CFC113_FLAG_W,TCARBN,TCARBN_FLAG_W,ALKALI,ALKALI_FLAG_W,THETA
,,,,,,,,,METERS,DBARS,ITS-90,PSS-78,,PSS-78,,UMOL/KG,,UMOL/KG,,UMOL/KG,,UMOL/KG,,UMOL/KG,,PMOL/KG,,PMOL/KG,,PMOL/KG,,UMOL/KG,,UMOL/KG,,DEGC
  09AR20011029,  SR03,    66,  1,     24,2,20011117,-57.8525, 139.8445, 4100,     10.4,   1.9800,  33.8200,2,  33.8190,2,    415.7,3,    336.5,2,    12.50,2,    26.27,2,     1.67,2, -999.000,9, -999.000,9, -999.000,9,   2136.3,6,   2273.0,2,   1.97947611
  09AR20011029,  SR03,    66,  1,     23,2,20011117,-57.8525, 139.8445, 4100,     50.8,   1.9790,  33.8190,2,  33.8190,2,    342.7,2,    336.4,2,    12.50,2,    26.15,2,     1.67,2,    5.861,2,    3.075,2,    0.540,2,   2136.4,2,   2273.3,6,   1.97642387
  09AR20011029,  SR03,    66,  1,     22,2,20011117,-57.8525, 139.8445, 4100,     99.6,   1.9730,  33.8200,2,  33.8190,2,    339.8,2,    336.2,2,    12.60,2,    26.26,2,     1.69,2,    5.871,2,    3.068,2,    0.530,2,   2136.1,2,   2272.7,2,   1.96791259
  09AR20011029,  SR03,    66,  1,     21,2,20011117,-57.8525, 139.8445, 4100,    149.5,   1.6470,  33.8270,2,  33.8330,2,    327.3,2,    329.8,2,    14.90,2,    27.00,2,     1.76,2,    5.798,2,    3.012,2,    0.520,2,   2142.9,2,   2273.8,2,       1.6397
  09AR20011029,  SR03,    66,  1,     20,2,20011117,-57.8525, 139.8445, 4100,    198.8,   2.4510,  34.1310,4,  34.1260,2,    249.8,2,    258.5,2,    32.70,2,    31.71,2,     2.06,2,    3.956,2,    2.001,2,    0.320,2,   2188.0,2,   2288.2,2,   2.43978865
  09AR20011029,  SR03,    66,  1,     19,2,20011117,-57.8525, 139.8445, 4100,    299.8,   2.5080,  34.2700,3,  34.2640,2,    218.8,2,    220.3,2,    46.30,2,    33.61,2,     2.22,2,    2.570,2,    1.267,2,    0.200,2,   2214.2,2,   2299.8,2,   2.49062934
  09AR20011029,  SR03,    66,  1,    218,2,20011117,-57.8525, 139.8445, 4100,    400.5,   2.4960,  34.3770,2,  34.3730,2,    194.0,2,    196.6,2,    57.70,2,    34.95,2,     2.29,2,    1.624,2,    0.790,2,    0.110,2,   2234.2,2,   2312.9,2,   2.47242452
  09AR20011029,  SR03,    66,  1,     17,2,20011117,-57.8525, 139.8445, 4100,    500.0,   2.4510,  34.4600,2,  34.4580,2,    186.3,2,    184.1,2,    64.90,2,    35.08,2,     2.31,2,    1.064,2,    0.508,2,    0.070,2,   2243.7,2,   2320.9,2,   2.42126612
  09AR20011029,  SR03,    66,  1,     16,2,20011117,-57.8525, 139.8445, 4100,    600.5,   2.3880,  34.5210,2,  34.5190,2,    180.0,2,    179.8,2,    70.00,2,    35.06,2,     2.31,2,    0.783,2,    0.378,2,    0.050,2,   2249.2,2,   2326.1,2,   2.35203568
  09AR20011029,  SR03,    66,  1,    715,2,20011117,-57.8525, 139.8445, 4100,    700.2,   2.3730,  34.5850,2,  34.5820,2,    179.0,2,    178.5,2,    73.30,2,    34.49,2,     2.27,2,    0.491,2,    0.242,2,    0.030,2,   2251.7,2,   2332.5,2,   2.33050209
  09AR20011029,  SR03,    66,  1,     14,2,20011117,-57.8525, 139.8445, 4100,    800.6,   2.3340,  34.6220,2,  34.6210,2,    183.2,2,    179.1,2,    75.40,2,    33.89,2,     2.27,2,    0.379,2,    0.178,2,    0.020,2,   2251.2,2,   2335.6,2,   2.28494971
  09AR20011029,  SR03,    66,  1,     13,2,20011117,-57.8525, 139.8445, 4100,    949.3,   2.2800,  34.6710,2,  34.6710,2,    184.9,2,    182.1,2,    77.50,2,    32.98,2,     2.20,2,    0.247,2,    0.117,2,    0.020,2,   2250.7,2,   2338.3,6,   2.22102083
  09AR20011029,  SR03,    66,  1,     12,2,20011117,-57.8525, 139.8445, 4100,   1099.8,   2.1830,  34.7190,2,  34.7180,2,    192.4,2,    189.5,2,    80.10,2,    31.75,2,     2.08,2,    0.134,2,    0.064,2,    0.000,2,   2247.4,6,   2343.0,2,   2.11408789
  09AR20011029,  SR03,    66,  1,     11,2,20011117,-57.8525, 139.8445, 4100,   1300.8,   2.0550,  34.7450,2,  34.7440,2,    198.6,2,    195.8,2,    83.40,2,    30.92,2,     2.03,2,    0.083,2,    0.039,6,    0.000,6,   2246.2,2,   2345.7,2,   1.97263992
  09AR20011029,  SR03,    66,  1,     10,2,20011117,-57.8525, 139.8445, 4100,   1500.6,   1.9810,  34.7510,2,  34.7510,2,    198.0,2,    198.0,2,    85.20,2,    30.94,2,     2.02,2,    0.083,2,    0.031,2,    0.020,2,   2246.5,2,   2347.8,2,   1.88443824
  09AR20011029,  SR03,    66,  1,    709,2,20011117,-57.8525, 139.8445, 4100,   1799.6,   1.8120,  34.7510,2,  34.7500,2,    203.8,2,    201.5,2,    91.80,2,    30.77,2,     2.02,2,    0.065,2,    0.025,2,    0.010,2,   2248.6,2,   2351.6,2,   1.69427139
  09AR20011029,  SR03,    66,  1,      8,2,20011117,-57.8525, 139.8445, 4100,   2099.1,   1.5730,  34.7410,2,  34.7420,2,    204.4,2,    204.1,2,   100.90,2,    31.43,2,     2.00,2,    0.079,2,    0.041,2,    0.000,2,   2253.1,2,   2354.0,2,   1.43456996
  09AR20011029,  SR03,    66,  1,      7,2,20011117,-57.8525, 139.8445, 4100,   2400.6,   1.2730,  34.7330,2,  34.7350,2,    207.7,2,    206.8,2,   107.50,2,    31.80,2,     2.09,2,    0.092,2,    0.041,2,    0.000,2,   2256.1,2,   2356.0,2,   1.11446318
  09AR20011029,  SR03,    66,  1,      6,2,20011117,-57.8525, 139.8445, 4100,   2701.0,   1.0120,  34.7190,2,  34.7190,2,    210.0,2,    209.8,2,   115.30,2,    32.18,2,     2.13,2,    0.105,2,    0.053,2,    0.000,2,   2256.8,2,   2357.1,2,  0.832605773
  09AR20011029,  SR03,    66,  1,      5,2,20011117,-57.8525, 139.8445, 4100,   2999.0,   0.7620,  34.7070,2,  34.7070,2,    213.7,2,    213.6,2,   122.20,2,    32.56,2,     2.16,2,    0.145,2,    0.068,2,    0.000,2,   2260.8,2,   2358.1,2,  0.561441967
  09AR20011029,  SR03,    66,  1,      4,2,20011117,-57.8525, 139.8445, 4100,   3303.0,   0.5400,  34.6960,2,  34.6970,2,    215.0,2,    218.3,2,   129.00,2,    32.86,2,     2.19,2,    0.206,2,    0.094,2,    0.020,2,   2259.8,2,   2358.4,2,  0.316726927
  09AR20011029,  SR03,    66,  1,      3,2,20011117,-57.8525, 139.8445, 4100,   3599.9,   0.3840,  34.6890,2,  34.6900,2,    221.4,2,    222.4,2,   132.60,2,    32.95,2,     2.19,2,    0.265,2,    0.137,2,    0.010,2,   2260.3,2,   2356.3,2,  0.136494209
  09AR20011029,  SR03,    66,  1,      2,2,20011117,-57.8525, 139.8445, 4100,   3900.2,   0.2610,  34.6840,2,  34.6840,2,    224.7,2,    225.9,2,   139.00,2,    33.19,2,     2.19,2,    0.366,2,    0.181,2,    0.010,2,   2260.6,2,   2357.5,6,-0.0126779243
  09AR20011029,  SR03,    66,  1,      1,2,20011117,-57.8525, 139.8445, 4100,   4058.9,   0.2150,  34.6820,2,  34.6830,2,   -999.0,5,    227.8,2,   142.20,2,    33.22,2,     2.20,2,    0.441,2,    0.212,2,    0.010,2,   2260.6,6,   2358.5,2,-0.0734014801
  09AR20011029,  SR03,    67,  1,     24,2,20011118,-58.8470, 139.8495, 3860,      9.4,   1.1990,  33.8270,2,  33.8260,2,    455.3,3,    342.2,2,    16.10,2,    26.84,2,     1.71,2,    6.158,2,    3.199,2,    0.560,2,   2142.4,6,   2275.6,2,   1.19858782
  09AR20011029,  SR03,    67,  1,     23,2,20011118,-58.8470, 139.8495, 3860,     51.0,   1.1990,  33.8270,2,  33.8260,2,    347.1,2,    342.2,2,    16.20,2,    26.81,2,     1.73,2,    6.129,2,    3.174,2,    0.550,2,   2143.0,2,   2275.7,6,   1.19674497
  09AR20011029,  SR03,    67,  1,     22,2,20011118,-58.8470, 139.8495, 3860,    101.0,   1.0460,  33.8370,2,  33.8370,2,    339.3,2,    341.9,2,    17.30,2,    27.05,2,     1.74,2,    6.196,2,    3.202,2,    0.550,2,   2144.8,2,   2277.2,2,   1.04161718
  09AR20011029,  SR03,    67,  1,     21,2,20011118,-58.8470, 139.8495, 3860,    149.9,   1.2190,  33.9470,3,  33.9470,2,    305.6,2,    308.2,2,    24.90,2,    29.37,2,     1.90,2,    5.360,2,    2.750,2,    0.480,2,   2166.7,2,   2282.9,2,   1.21218305
  09AR20011029,  SR03,    67,  1,     20,2,20011118,-58.8470, 139.8495, 3860,    199.5,   1.9910,  34.1750,2,  34.1750,2,    242.0,2,    246.8,2,    41.20,2,    32.94,2,     2.15,2,    3.538,2,    1.778,2,    0.290,2,   2203.1,2,   2294.9,2,   1.98048288
  09AR20011029,  SR03,    67,  1,     19,2,20011118,-58.8470, 139.8495, 3860,    298.9,   2.2810,  34.3320,2,  34.3320,2,    200.6,2,    206.0,2,    55.30,2,    34.65,2,     2.28,2,    2.066,2,    1.012,2,    0.160,2,   2229.0,2,   2308.6,2,   2.26419967
  09AR20011029,  SR03,    67,  1,    218,2,20011118,-58.8470, 139.8495, 3860,    400.1,   2.3040,  34.4290,2,  34.4280,2,    186.5,2,    188.8,2,    64.00,2,    35.11,2,     2.32,2,    1.355,2,    0.651,2,    0.090,2,   2241.5,2,   2318.1,2,   2.28103241
  09AR20011029,  SR03,    67,  1,     17,2,20011118,-58.8470, 139.8495, 3860,    499.3,   2.2930,  34.5110,3,  34.5080,2,    183.6,2,    180.2,2,    70.10,2,    34.93,2,     2.30,2,    0.916,2,    0.435,2,    0.060,2,   2248.6,2,   2325.8,2,   2.26390262
  09AR20011029,  SR03,    67,  1,     16,2,20011118,-58.8470, 139.8495, 3860,    599.2,   2.2800,  34.5720,3,  34.5720,2,    180.6,2,    178.0,2,    73.90,2,    34.55,2,     2.27,2,    0.615,2,    0.289,2,    0.040,2,   2252.6,2,   2329.3,2,   2.24458372
  09AR20011029,  SR03,    67,  1,    715,2,20011118,-58.8470, 139.8495, 3860,    700.2,   2.2700,  34.6160,2,  34.6160,2,    178.5,2,    178.6,2,    76.10,2,    33.81,2,     2.24,2,    0.446,2,    0.214,2,    0.040,2,   2252.4,2,   2334.1,2,   2.22803698
  09AR20011029,  SR03,    67,  1,     14,2,20011118,-58.8470, 139.8495, 3860,    800.1,   2.2360,  34.6520,2,  34.6530,2,    182.5,2,    180.0,2,    78.10,2,    33.46,2,     2.23,2,    0.336,2,    0.159,2,    0.030,2,   2251.7,2,   2337.1,2,   2.18756332
  09AR20011029,  SR03,    67,  1,     13,2,20011118,-58.8470, 139.8495, 3860,    950.1,   2.1780,  34.6930,2,  34.6930,2,    186.4,2,    184.1,2,    80.00,2,    32.33,2,     2.14,2,    0.235,2,    0.109,2,    0.010,2,   2249.7,2,   2339.7,6,   2.11969601
  09AR20011029,  SR03,    67,  1,     12,2,20011118,-58.8470, 139.8495, 3860,   1099.6,   2.1000,  34.7200,2,  34.7200,2,    191.1,2,    189.7,2,    81.70,2,    31.75,2,     2.09,2,    0.175,2,    0.083,2,    0.010,2,   2248.9,6,   2342.5,2,    2.0318174
  09AR20011029,  SR03,    67,  1,     11,2,20011118,-58.8470, 139.8495, 3860,   1299.1,   1.9740,  34.7390,2,  34.7390,2,    195.3,2,    195.4,2,    84.90,2,    31.23,2,     2.04,2,    0.145,6,    0.063,6,    0.010,6,   2247.9,2,   2345.6,2,   1.89260004
  09AR20011029,  SR03,    67,  1,     10,2,20011118,-58.8470, 139.8495, 3860,   1499.3,   1.8350,  34.7460,2,  34.7470,2,    199.4,2,    199.3,2,    89.00,2,    30.89,2,     2.03,2,    0.113,2,    0.050,2,    0.010,2,   2246.8,2,   2348.9,2,   1.74024916
  09AR20011029,  SR03,    67,  1,    709,2,20011118,-58.8470, 139.8495, 3860,   1799.5,   1.5760,  34.7450,2,  34.7460,2,    204.1,2,    203.4,2,    96.80,2,    31.32,2,     2.04,2,    0.096,2,    0.042,2,    0.000,2,   2250.2,2,   2353.1,2,   1.46156142
  09AR20011029,  SR03,    67,  1,      8,2,20011118,-58.8470, 139.8495, 3860,   2098.6,   1.3150,  34.7350,2,  34.7360,2,    206.7,2,    206.7,2,   105.00,2,    31.55,2,     2.07,2,    0.104,2,    0.054,2,    0.010,2,   2253.9,2,   2356.3,2,   1.18076452
  09AR20011029,  SR03,    67,  1,      7,2,20011118,-58.8470, 139.8495, 3860,   2398.2,   1.0980,  34.7240,2,  34.7250,2,    208.8,2,    209.4,2,   112.00,2,    31.95,2,     2.10,2,    0.096,2,    0.048,2,    0.000,2,   2256.9,2,   2358.3,2,   0.94288246
  09AR20011029,  SR03,    67,  1,      6,2,20011118,-58.8470, 139.8495, 3860,   2699.3,   0.8370,  34.7090,2,  34.7110,2,    214.2,2,    213.0,2,   118.80,2,    32.25,2,     2.13,2,    0.134,2,    0.064,2,    0.000,2,   2258.6,2,   2357.5,2,  0.661333136
  09AR20011029,  SR03,    67,  1,      5,2,20011118,-58.8470, 139.8495, 3860,   2999.8,   0.6290,  34.6990,2,  34.7010,2,    217.4,2,    217.1,2,   124.30,2,    32.53,2,     2.15,2,    0.178,2,    0.085,2,    0.010,2,   2260.6,2,   2357.4,2,  0.431363681
  09AR20011029,  SR03,    67,  1,      4,2,20011118,-58.8470, 139.8495, 3860,   3301.5,   0.4490,  34.6930,2,  34.6930,2,    223.4,2,    221.3,2,   129.00,2,    32.78,2,     2.18,2,    0.237,2,    0.111,2,    0.000,2,   2259.5,2,   2356.8,2,   0.22809913
  09AR20011029,  SR03,    67,  1,      3,2,20011118,-58.8470, 139.8495, 3860,   3600.9,   0.3170,  34.6870,2,  34.6870,2,    227.4,2,    224.7,2,   133.60,2,    32.89,2,     2.18,2,    0.304,2,    0.144,2,    0.010,2,   2259.0,2,   2358.0,2, 0.0711717021
  09AR20011029,  SR03,    67,  1,      2,2,20011118,-58.8470, 139.8495, 3860,   3901.1,   0.2330,  34.6830,2,  34.6830,2,    228.9,2,    227.8,2,   138.20,2,    33.02,2,     2.18,2,    0.396,2,    0.185,2,    0.010,2,   2259.3,2,   2357.3,6, -0.039975272
  09AR20011029,  SR03,    67,  1,      1,2,20011118,-58.8470, 139.8495, 3860,   4010.2,   0.2150,  34.6810,2,  34.6820,2,    229.0,2,    228.2,2,   139.00,2,    32.96,2,     2.18,2,    0.436,2,    0.205,2,    0.020,2,   2259.4,6,   2358.7,2,-0.0684410367
  09AR20011029,  SR03,    68,  1,     24,2,20011118,-58.8357, 139.8265, 3800,      5.8,   1.1070,  33.8330,2,  33.8330,2,    408.1,3,    343.3,2,    16.60,2,    26.89,2,     1.70,2, -999.000,9, -999.000,9, -999.000,9,   2145.5,6,   2276.3,2,   1.10675028
  09AR20011029,  SR03,    68,  1,     23,2,20011118,-58.8357, 139.8265, 3800,      5.9,   1.1070,  33.8320,2,-999.0000,9,    408.1,3,   -999.0,9,  -999.00,9,  -999.00,9,  -999.00,9, -999.000,9, -999.000,9, -999.000,9,   -999.0,9,   -999.0,9,   1.10674598
  09AR20011029,  SR03,    68,  1,     21,2,20011118,-58.8357, 139.8265, 3800,     15.7,   1.1060,  33.8310,2,-999.0000,9,    345.4,3,   -999.0,9,  -999.00,9,  -999.00,9,  -999.00,9, -999.000,9, -999.000,9, -999.000,9,   2144.9,2,   2275.6,6,   1.10532284
  09AR20011029,  SR03,    68,  1,     22,2,20011118,-58.8357, 139.8265, 3800,     15.8,   1.1060,  33.8310,2,  33.8330,2,    345.4,3,    343.2,2,    16.50,2,    26.87,2,     1.72,2, -999.000,9, -999.000,9, -999.000,9,   -999.0,9,   -999.0,9,   1.10531846
  09AR20011029,  SR03,    68,  1,     19,2,20011118,-58.8357, 139.8265, 3800,     30.4,   1.0710,  33.8350,2,-999.0000,9,    348.7,2,   -999.0,9,  -999.00,9,  -999.00,9,  -999.00,9, -999.000,9, -999.000,9, -999.000,9,   2145.0,2,   2275.9,2,   1.06969359
  09AR20011029,  SR03,    68,  1,     20,2,20011118,-58.8357, 139.8265, 3800,     30.7,   1.0710,  33.8360,2,  33.8360,2,    348.7,2,    343.5,2,    17.10,2,    26.90,2,     1.72,2, -999.000,9, -999.000,9, -999.000,9,   -999.0,9,   -999.0,9,   1.06968056
  09AR20011029,  SR03,    68,  1,    218,2,20011118,-58.8357, 139.8265, 3800,     45.8,   1.0640,  33.8380,2,  33.8380,2,    340.6,2,    343.5,2,    17.00,2,    27.00,2,     1.72,2, -999.000,9, -999.000,9, -999.000,9,   2145.6,2,   2276.3,2,   1.06202796
  09AR20011029,  SR03,    68,  1,     17,2,20011118,-58.8357, 139.8265, 3800,     45.8,   1.0640,  33.8380,2,-999.0000,9,    340.6,2,   -999.0,9,  -999.00,9,  -999.00,9,  -999.00,9, -999.000,9, -999.000,9, -999.000,9,   -999.0,9,   -999.0,9,   1.06202796
  09AR20011029,  SR03,    68,  1,    715,2,20011118,-58.8357, 139.8265, 3800,     60.1,   1.0650,  33.8380,2,-999.0000,9,    344.2,2,   -999.0,9,  -999.00,9,  -999.00,9,  -999.00,9, -999.000,9, -999.000,9, -999.000,9,   2146.8,2,   2276.9,2,   1.06240411
  09AR20011029,  SR03,    68,  1,     16,2,20011118,-58.8357, 139.8265, 3800,     60.3,   1.0650,  33.8380,2,  33.8380,2,    344.2,2,    343.4,2,    17.10,2,    27.00,2,     1.73,2, -999.000,9, -999.000,9, -999.000,9,   -999.0,9,   -999.0,9,   1.06239536
  09AR20011029,  SR03,    68,  1,     13,2,20011118,-58.8357, 139.8265, 3800,     75.5,   1.0660,  33.8390,2,-999.0000,9,    340.2,2,   -999.0,9,  -999.00,9,  -999.00,9,  -999.00,9, -999.000,9, -999.000,9, -999.000,9,   2145.9,2,   2277.0,2,   1.06272784
  09AR20011029,  SR03,    68,  1,     14,2,20011118,-58.8357, 139.8265, 3800,     75.7,   1.0660,  33.8390,2,  33.8390,2,    340.2,2,    343.5,2,    17.10,2,    26.92,2,     1.74,2, -999.000,9, -999.000,9, -999.000,9,   -999.0,9,   -999.0,9,   1.06271904
  09AR20011029,  SR03,    68,  1,     12,2,20011118,-58.8357, 139.8265, 3800,     90.2,   1.0660,  33.8390,2,  33.8400,2,    342.5,2,    343.4,2,    17.20,2,    27.07,2,     1.73,2, -999.000,9, -999.000,9, -999.000,9,   2146.9,2,   2278.3,2,   1.06207883
  09AR20011029,  SR03,    68,  1,     11,2,20011118,-58.8357, 139.8265, 3800,     90.6,   1.0660,  33.8390,2,-999.0000,9,    342.5,2,   -999.0,9,  -999.00,9,  -999.00,9,  -999.00,9, -999.000,9, -999.000,9, -999.000,9,   -999.0,9,   -999.0,9,   1.06206128
  09AR20011029,  SR03,    68,  1,     10,2,20011118,-58.8357, 139.8265, 3800,    105.6,   1.0660,  33.8400,2,  33.8400,2,    342.0,2,    343.5,2,    17.20,2,    27.03,2,     1.72,2, -999.000,9, -999.000,9, -999.000,9,   2145.2,2,   2276.8,2,   1.06139495
  09AR20011029,  SR03,    68,  1,    709,2,20011118,-58.8357, 139.8265, 3800,    105.9,   1.0660,  33.8380,2,-999.0000,9,    342.0,2,   -999.0,9,  -999.00,9,  -999.00,9,  -999.00,9, -999.000,9, -999.000,9, -999.000,9,   -999.0,9,   -999.0,9,   1.06138197
  09AR20011029,  SR03,    68,  1,      8,2,20011118,-58.8357, 139.8265, 3800,    120.5,   1.0610,  33.8400,2,  33.8400,2,    342.1,2,    343.4,2,    17.20,2,    26.98,2,     1.74,2, -999.000,9, -999.000,9, -999.000,9,   2146.3,2,   -999.0,9,   1.05573434
  09AR20011029,  SR03,    68,  1,      7,2,20011118,-58.8357, 139.8265, 3800,    120.7,   1.0620,  33.8390,2,-999.0000,9,    342.1,2,   -999.0,9,  -999.00,9,  -999.00,9,  -999.00,9, -999.000,9, -999.000,9, -999.000,9,   -999.0,9,   -999.0,9,   1.05672459
  09AR20011029,  SR03,    68,  1,      5,2,20011118,-58.8357, 139.8265, 3800,    151.0,   0.7790,  33.8780,2,-999.0000,9,    335.2,2,   -999.0,9,  -999.00,9,  -999.00,9,  -999.00,9, -999.000,9, -999.000,9, -999.000,9,   2155.3,2,   2278.8,2,  0.772707683
  09AR20011029,  SR03,    68,  1,      6,2,20011118,-58.8357, 139.8265, 3800,    151.3,   0.7760,  33.8770,2,  33.8750,2,    335.2,2,    333.8,2,    20.40,2,    28.00,2,     1.81,2, -999.000,9, -999.000,9, -999.000,9,   -999.0,9,   -999.0,9,  0.769699434
  09AR20011029,  SR03,    68,  1,      4,2,20011118,-58.8357, 139.8265, 3800,    201.5,   2.0720,  34.1990,3,  34.1950,2,    223.0,2,    241.4,2,    42.00,2,    32.90,2,     2.15,2, -999.000,9, -999.000,9, -999.000,9,   2206.7,2,   2296.8,2,   2.06123264
  09AR20011029,  SR03,    68,  1,      3,2,20011118,-58.8357, 139.8265, 3800,    250.6,   2.2080,  34.2730,2,  34.2700,2,    216.8,2,    220.9,2,    48.50,2,    33.96,2,     2.22,2, -999.000,9, -999.000,9, -999.000,9,   2221.4,2,   2303.0,2,   2.19419254
  09AR20011029,  SR03,    68,  1,      2,2,20011118,-58.8357, 139.8265, 3800,    300.5,   2.2580,  34.3350,3,  34.3330,2,    207.1,2,    206.2,2,    54.70,2,    34.55,2,     2.27,2, -999.000,9, -999.000,9, -999.000,9,   2229.1,2,   2308.7,6,   2.24116152
  09AR20011029,  SR03,    68,  1,      1,2,20011118,-58.8357, 139.8265, 3800,    350.2,   2.2960,  34.3780,2,  34.3780,2,    199.5,2,    197.1,2,    58.60,2,    35.00,2,     2.29,2, -999.000,9, -999.000,9, -999.000,9,   2236.5,6,   2312.5,2,   2.27609552