BOTTLE,20081126PRINUNIVRMK
EXPOCODE,SECT_ID,STNNBR,CASTNO,BTLNBR,BTLNBR_FLAG_W,DATE,LATITUDE,LONGITUDE,DEPTH,CTDPRS,CTDTMP,CTDSAL,CTDSAL_FLAG_W,SALNTY,SALNTY_FLAG_W,CTDOXY,CTDOXY_FLAG_W,OXYGEN,OXYGEN_FLAG_W,SILCAT,SILCAT_FLAG_W,NITRAT,NITRAT_FLAG_W,PHSPHT,PHSPHT_FLAG_W,CFC-11,CFC-11_FLAG_W,CFC-12,CFC-12_FLAG_W,CFC113,CFC113_FLAG_W,TCARBN,TCARBN_FLAG_W,ALKALI,ALKALI_FLAG_W,THETA
,,,,,,,,,METERS,DBARS,ITS-90,PSS-78,,PSS-78,,UMOL/KG,,UMOL/KG,,UMOL/KG,,UMOL/KG,,UMOL/KG,,PMOL/KG,,PMOL/KG,,PMOL/KG,,UMOL/KG,,UMOL/KG,,DEGC
  09AR20011029,  SR03,    45,  1,     24,2,20011111,-52.3725, 142.5368, 3383,      5.5,   5.0980,  33.8820,2,  33.8860,2,    363.4,3,    321.8,2,     6.30,2,    22.24,2,     1.37,2,    5.148,2,    2.752,2,    0.510,2,   2113.0,2,   2270.6,2,   5.09758337
  09AR20011029,  SR03,    45,  1,     23,2,20011111,-52.3725, 142.5368, 3383,     49.7,   4.8050,  33.8830,2,  33.8830,2,    322.5,2,    321.7,2,     6.30,2,    22.36,2,     1.41,2, -999.000,9, -999.000,9, -999.000,9,   2115.9,2,   2269.3,2,   4.80133438
  09AR20011029,  SR03,    45,  1,     22,2,20011111,-52.3725, 142.5368, 3383,     99.9,   4.1630,  33.8960,3,  33.8950,2,    314.2,2,    315.2,2,     8.10,2,    23.49,2,     1.50,2,    5.179,2,    2.748,2,    0.520,2,   2125.7,2,   2270.0,2,    4.1561028
  09AR20011029,  SR03,    45,  1,     21,2,20011111,-52.3725, 142.5368, 3383,    149.9,   4.1030,  33.9830,2,  33.9830,2,    296.5,2,    295.9,2,    11.60,2,    25.23,2,     1.54,2, -999.000,9, -999.000,9, -999.000,9,   2140.3,2,   2273.3,2,   4.09264179
  09AR20011029,  SR03,    45,  1,     20,2,20011111,-52.3725, 142.5368, 3383,    225.7,   4.5360,  34.1520,3,  34.1520,2,    261.2,2,    261.2,2,    17.20,2,    26.96,2,     1.62,2,    4.151,2,    2.110,2,    0.370,2,   2158.1,2,   2278.9,2,    4.5194306
  09AR20011029,  SR03,    45,  1,     19,4,20011111,-52.3725, 142.5368, 3383,    299.2,   4.0370,  34.1760,2,  34.2320,0,    248.0,2,    228.3,4,    29.40,4,    30.13,4,     1.92,4,    2.586,2,    1.324,2,    0.200,2,   2196.9,3,   2292.8,3,   4.01603701
  09AR20011029,  SR03,    45,  1,    518,2,20011111,-52.3725, 142.5368, 3383,    400.6,   3.6710,  34.2290,2,  34.2290,2,    236.6,2,    236.8,2,    28.40,2,    30.51,2,     1.96,2, -999.000,9, -999.000,9, -999.000,9,   -999.0,9,   -999.0,9,   3.64374505
  09AR20011029,  SR03,    45,  1,     17,2,20011111,-52.3725, 142.5368, 3383,    501.1,   3.1540,  34.2670,2,  34.2670,2,    223.7,2,    223.7,2,    37.60,2,    32.26,2,     2.01,2,    2.568,2,    1.279,2,    0.210,2,   2202.7,2,   2296.0,2,      3.12154
  09AR20011029,  SR03,    45,  1,     16,2,20011111,-52.3725, 142.5368, 3383,    600.0,   2.9610,  34.3340,2,  34.3320,2,    207.2,2,    206.9,2,    46.70,2,    33.46,2,     2.10,2, -999.000,9, -999.000,9, -999.000,9,   -999.0,9,   -999.0,9,   2.92251556
  09AR20011029,  SR03,    45,  1,     15,2,20011111,-52.3725, 142.5368, 3383,    700.2,   2.7680,  34.3930,2,  34.3930,2,    195.4,2,    194.4,2,    55.10,2,    34.36,2,     2.22,2,    1.333,2,    0.658,2,    0.100,2,   2232.7,2,   2311.9,2,   2.72352841
  09AR20011029,  SR03,    45,  1,     14,2,20011111,-52.3725, 142.5368, 3383,    800.4,   2.6570,  34.4410,2,  34.4400,2,    186.9,2,    187.5,2,    60.10,2,    34.63,2,     2.22,2, -999.000,9, -999.000,9, -999.000,9,   -999.0,9,   -999.0,9,   2.60616171
  09AR20011029,  SR03,    45,  1,     13,2,20011111,-52.3725, 142.5368, 3383,   1000.0,   2.5150,  34.5470,2,  34.5460,2,    178.8,2,    179.4,2,    69.20,2,    34.28,2,     2.23,2,    0.570,2,    0.274,2,    0.030,2,   2247.9,2,   2328.6,2,   2.45082535
  09AR20011029,  SR03,    45,  1,     12,2,20011111,-52.3725, 142.5368, 3383,   1200.2,   2.4450,  34.6300,2,  34.6290,2,    179.8,2,    179.8,2,    72.00,2,    33.26,2,     2.16,2, -999.000,9, -999.000,9, -999.000,9,   -999.0,9,   -999.0,9,   2.36655182
  09AR20011029,  SR03,    45,  1,     11,2,20011111,-52.3725, 142.5368, 3383,   1399.6,   2.3230,  34.6900,2,  34.6890,2,    181.7,2,    184.5,2,    77.10,2,    32.15,2,     2.02,2,    0.181,2,    0.081,2,    0.020,2,   2250.6,2,   2340.5,2,   2.23049361
  09AR20011029,  SR03,    45,  1,     10,2,20011111,-52.3725, 142.5368, 3383,   1599.1,   2.2360,  34.7180,2,  34.7180,2,    189.3,2,    189.1,2,    79.20,2,    31.51,2,     2.03,2, -999.000,9, -999.000,9, -999.000,9,   -999.0,9,   -999.0,9,   2.12878929
  09AR20011029,  SR03,    45,  1,      9,2,20011111,-52.3725, 142.5368, 3383,   1799.7,   2.0560,  34.7410,2,  34.7390,2,    194.0,2,    194.7,2,    83.40,2,    31.06,2,     1.94,2, -999.000,9, -999.000,9, -999.000,9,   -999.0,9,   -999.0,9,   1.93492807
  09AR20011029,  SR03,    45,  1,      8,2,20011111,-52.3725, 142.5368, 3383,   2000.5,   1.8910,  34.7490,2,  34.7490,2,    198.8,2,    198.9,2,    87.90,2,    30.83,2,     1.97,2,    0.073,2,    0.049,2,    0.000,2,   2249.8,2,   2349.4,2,    1.7557562
  09AR20011029,  SR03,    45,  1,      7,2,20011111,-52.3725, 142.5368, 3383,   2199.5,   1.7220,  34.7480,2,  34.7470,2,    202.8,2,    201.7,2,    93.10,2,    30.87,2,     1.92,2, -999.000,9, -999.000,9, -999.000,9,   -999.0,9,   -999.0,9,   1.57270651
  09AR20011029,  SR03,    45,  1,      6,2,20011111,-52.3725, 142.5368, 3383,   2400.6,   1.5210,  34.7420,2,  34.7420,2,    203.4,2,    204.1,2,    99.50,2,    31.08,2,     1.97,2,    0.077,2,    0.039,2,    0.010,2,   2253.9,2,   2354.9,2,   1.35794576
  09AR20011029,  SR03,    45,  1,      5,2,20011111,-52.3725, 142.5368, 3383,   2600.9,   1.3060,  34.7320,2,  34.7330,2,    206.9,2,    206.7,2,   101.60,2,    31.47,2,     2.04,2, -999.000,9, -999.000,9, -999.000,9,   -999.0,9,   -999.0,9,   1.12950859
  09AR20011029,  SR03,    45,  1,      4,2,20011111,-52.3725, 142.5368, 3383,   2799.8,   1.1500,  34.7250,2,  34.7250,2,    205.8,2,    207.1,2,   104.60,2,    31.88,2,     2.07,2,    0.066,2,    0.032,2,    0.010,2,   2259.5,2,   2363.0,2,  0.958965376
  09AR20011029,  SR03,    45,  1,      3,2,20011111,-52.3725, 142.5368, 3383,   3000.4,   1.0710,  34.7220,2,  34.7200,2,    206.3,2,    208.4,2,   113.20,3,    32.04,2,     2.06,2, -999.000,9, -999.000,9, -999.000,9,   -999.0,9,   -999.0,9,  0.863385161
  09AR20011029,  SR03,    45,  1,      2,2,20011111,-52.3725, 142.5368, 3383,   3200.8,   1.0150,  34.7190,2,  34.7170,2,    210.6,2,    209.7,2,   111.90,2,    32.03,2,     2.09,2,    0.088,2,    0.048,2,    0.000,2,   2262.8,2,   2362.2,2,  0.789901766
  09AR20011029,  SR03,    45,  1,      1,2,20011111,-52.3725, 142.5368, 3383,   3490.7,   0.9600,  34.7140,2,  34.7140,2,    212.9,2,    211.4,2,   116.20,2,    32.15,2,     2.07,2,    0.118,2,    0.060,2,    0.010,2,   2263.3,2,   2359.6,2,  0.708187788
  09AR20011029,  SR03,    46,  1,     24,2,20011111,-52.6647, 142.4145, 3300,      9.9,   4.1640,  33.8560,2,  33.8560,2,    380.9,3,    325.2,2,     8.50,2,    23.82,2,     1.54,2,    5.548,2,    2.855,2,    0.530,2,   2121.0,6,   2270.2,2,   4.16332402
  09AR20011029,  SR03,    46,  1,     23,2,20011111,-52.6647, 142.4145, 3300,     50.3,   3.7860,  33.8530,3,  33.8520,2,    332.9,2,    325.8,2,     8.80,2,    24.03,2,     1.54,2,    5.586,2,    2.865,2,    0.520,2,   2121.8,2,   2270.5,6,   3.78270295
  09AR20011029,  SR03,    46,  1,     22,2,20011111,-52.6647, 142.4145, 3300,     99.9,   3.4850,  33.8450,4,  33.8450,2,    328.1,2,    326.2,2,     9.40,2,    24.19,2,     1.57,2,    5.541,2,    2.879,2,    0.520,2,   2125.1,2,   2271.9,2,   3.47865642
  09AR20011029,  SR03,    46,  1,     21,2,20011111,-52.6647, 142.4145, 3300,    149.1,   2.7110,  33.8300,4,  33.8410,2,    321.9,2,    325.9,2,    11.00,2,    25.44,2,     1.65,2,    5.578,2,    2.854,2,    0.520,2,   2132.9,2,   2272.4,2,   2.70241159
  09AR20011029,  SR03,    46,  1,     20,2,20011111,-52.6647, 142.4145, 3300,    198.1,   3.9220,  34.0500,4,  34.0450,2,    273.3,2,    281.3,2,    15.60,2,    26.69,2,     1.75,2,    4.733,2,    2.392,2,    0.420,2,   2149.7,2,   2277.6,2,    3.9085022
  09AR20011029,  SR03,    46,  1,     19,4,20011111,-52.6647, 142.4145, 3300,    298.0,   3.7090,  34.1780,3,  34.2600,0,    248.9,2,    221.9,4,    36.80,4,    31.47,4,     2.08,4,    2.393,2,    1.168,2,    0.180,2,   2201.7,3,   2296.8,3,         -999
  09AR20011029,  SR03,    46,  1,    518,2,20011111,-52.6647, 142.4145, 3300,    400.1,   3.1470,  34.2280,2,  34.2270,2,    231.0,2,    233.5,2,    34.20,2,    31.76,2,     2.08,2,    3.092,2,    1.492,2,    0.240,2,   2193.3,2,   2293.4,2,   3.12145521
  09AR20011029,  SR03,    46,  1,     17,2,20011111,-52.6647, 142.4145, 3300,    498.9,   2.9550,  34.3070,2,  34.3060,2,    214.3,2,    215.0,2,    44.80,2,    33.43,2,     2.21,2,    2.123,2,    1.017,2,    0.150,2,   2212.6,2,   2302.1,2,   2.92345053
  09AR20011029,  SR03,    46,  1,     16,2,20011111,-52.6647, 142.4145, 3300,    599.5,   2.7950,  34.3820,2,  34.3810,2,    193.1,2,    196.1,2,    54.70,2,    34.16,2,     2.26,2,    1.497,2,    0.706,2,    0.100,2,   2227.2,2,   2311.7,2,   2.75729241
  09AR20011029,  SR03,    46,  1,     15,2,20011111,-52.6647, 142.4145, 3300,    701.5,   2.6730,  34.4450,3,  34.4390,0,    188.6,2,    187.1,2,    61.50,2,    34.72,2,     2.30,2,    1.074,2,    0.495,2,    0.070,2,   2237.2,2,   2318.0,2,         -999
  09AR20011029,  SR03,    46,  1,     14,2,20011111,-52.6647, 142.4145, 3300,    797.9,   2.5960,  34.4920,2,  34.4910,2,    182.1,2,    183.4,2,    66.30,2,    34.77,2,     2.31,2,    0.781,2,    0.377,2,    0.040,2,   2242.1,2,   2323.9,2,   2.54565193
  09AR20011029,  SR03,    46,  1,     13,2,20011111,-52.6647, 142.4145, 3300,    897.7,   2.5440,  34.5470,3,  34.5460,2,    179.6,2,    179.2,2,    70.30,2,    34.12,2,     2.26,2,    0.537,2,    0.254,2,    0.040,2,   2246.6,2,   2329.2,6,   2.48691971
  09AR20011029,  SR03,    46,  1,     12,2,20011111,-52.6647, 142.4145, 3300,    999.1,   2.4680,  34.5910,2,  34.5890,2,    180.8,2,    179.0,2,    72.70,2,    33.99,2,     2.25,2,    0.429,2,    0.205,2,    0.030,2,   2248.9,6,   2332.0,2,   2.40418588
  09AR20011029,  SR03,    46,  1,     11,2,20011111,-52.6647, 142.4145, 3300,   1099.6,   2.4270,  34.6250,2,  34.6240,2,    178.3,2,    179.3,2,    75.00,2,    33.42,2,     2.22,2,    0.307,2,    0.153,2,    0.010,2,   2249.2,2,   2336.6,2,   2.35617194
  09AR20011029,  SR03,    46,  1,     10,2,20011111,-52.6647, 142.4145, 3300,   1201.8,   2.3760,  34.6590,2,  34.6590,2,    182.5,2,    181.8,2,    76.80,2,    32.88,2,     2.18,2,    0.206,2,    0.117,2,    0.020,2,   2249.0,2,   2338.4,2,    2.2980181
  09AR20011029,  SR03,    46,  1,      9,2,20011111,-52.6647, 142.4145, 3300,   1398.9,   2.2380,  34.7050,2,  34.7050,2,    187.8,2,    186.7,2,    80.30,2,    32.07,2,     2.11,2,    0.164,6,    0.085,6,    0.010,6,   2247.2,2,   2341.4,2,   2.14643251
  09AR20011029,  SR03,    46,  1,      8,2,20011111,-52.6647, 142.4145, 3300,   1598.8,   2.1070,  34.7340,2,  34.7330,2,    191.1,2,    192.7,2,    83.40,2,    31.27,2,     2.06,2,    0.135,2,    0.063,2,    0.010,2,   2246.1,2,   2343.8,2,    2.0013626
  09AR20011029,  SR03,    46,  1,      7,2,20011111,-52.6647, 142.4145, 3300,   1800.1,   1.9500,  34.7470,2,  34.7470,2,    195.1,2,    197.4,2,    87.00,2,    30.84,2,     2.06,2,    0.087,2,    0.051,2,    0.010,2,   2246.3,2,   2348.6,2,   1.83033346
  09AR20011029,  SR03,    46,  1,      6,2,20011111,-52.6647, 142.4145, 3300,   1998.0,   1.7910,  34.7500,2,  34.7490,2,    199.6,2,    200.3,2,    92.20,2,    30.91,2,     2.03,2,    0.076,2,    0.046,2,    0.010,2,   2247.3,2,   2349.5,2,   1.65748659
  09AR20011029,  SR03,    46,  1,      5,2,20011111,-52.6647, 142.4145, 3300,   2300.3,   1.5210,  34.7420,2,  34.7420,2,    200.1,2,    204.3,2,   101.00,2,    31.14,2,     2.05,2,    0.072,2,    0.038,2,    0.000,2,   2252.7,2,   2354.8,2,   1.36656481
  09AR20011029,  SR03,    46,  1,      4,2,20011111,-52.6647, 142.4145, 3300,   2598.2,   1.2930,  34.7330,2,  34.7330,2,    205.0,2,    206.2,2,   108.60,2,    31.43,2,     2.08,2,    0.057,2,    0.037,2,    0.010,2,   2255.4,2,   2358.2,2,   1.11699954
  09AR20011029,  SR03,    46,  1,      3,2,20011111,-52.6647, 142.4145, 3300,   2899.1,   1.0420,  34.7200,2,  34.7200,2,    209.1,2,    209.6,2,   117.30,2,    31.83,2,     2.10,2,    0.110,2,    0.049,2,    0.000,2,   2258.1,2,   -999.0,9,  0.844298578
  09AR20011029,  SR03,    46,  1,      2,2,20011111,-52.6647, 142.4145, 3300,   3201.9,   0.9390,  34.7140,2,  34.7150,2,    210.2,2,    211.2,2,   120.90,2,    32.03,2,     2.12,2,    0.108,2,    0.061,2,    0.010,2,   2260.0,2,   2359.8,6,   0.71559311
  09AR20011029,  SR03,    46,  1,      1,2,20011111,-52.6647, 142.4145, 3300,   3505.4,   0.9610,  34.7130,2,  34.7140,2,    213.0,2,    210.8,2,   121.00,2,    32.12,2,     2.13,2,    0.116,2,    0.061,2,    0.010,2,   2259.3,6,   2360.6,2,   0.70770992
  09AR20011029,  SR03,    47,  1,     23,2,20011111,-52.6638, 142.4070, 3290,      5.5,   4.2760,  33.8600,2,-999.0000,9,    355.5,3,   -999.0,9,  -999.00,9,  -999.00,9,  -999.00,9, -999.000,9, -999.000,9, -999.000,9,   2120.5,6,   2270.1,2,   4.27561966
  09AR20011029,  SR03,    47,  1,     24,2,20011111,-52.6638, 142.4070, 3290,      5.6,   4.2760,  33.8610,2,  33.8630,2,    355.5,3,    325.9,2,     7.60,2,    23.40,2,     1.47,2, -999.000,9, -999.000,9, -999.000,9,   -999.0,9,   -999.0,9,   4.27561271
  09AR20011029,  SR03,    47,  1,     22,2,20011111,-52.6638, 142.4070, 3290,     15.4,   4.2750,  33.8620,2,  33.8620,2,    329.7,3,    324.8,2,     7.70,2,    23.44,2,     1.47,2,    5.311,2,    2.792,2,    0.510,2,   2120.0,2,   2270.1,2,   4.27393394
  09AR20011029,  SR03,    47,  1,     21,2,20011111,-52.6638, 142.4070, 3290,     15.6,   4.2730,  33.8610,2,-999.0000,9,    329.7,3,   -999.0,9,  -999.00,9,  -999.00,9,  -999.00,9, -999.000,9, -999.000,9, -999.000,9,   -999.0,9,   -999.0,9,   4.27192035
  09AR20011029,  SR03,    47,  1,     20,2,20011111,-52.6638, 142.4070, 3290,     29.8,   4.0850,  33.8590,3,  33.8590,2,    325.5,2,    326.4,2,     7.90,2,    23.61,2,     1.49,2, -999.000,9, -999.000,9, -999.000,9,   2121.3,2,   2270.4,2,   4.08297937
  09AR20011029,  SR03,    47,  1,     19,2,20011111,-52.6638, 142.4070, 3290,     29.9,   4.0830,  33.8580,2,-999.0000,9,    325.5,2,   -999.0,9,  -999.00,9,  -999.00,9,  -999.00,9, -999.000,9, -999.000,9, -999.000,9,   -999.0,9,   -999.0,9,    4.0809731
  09AR20011029,  SR03,    47,  1,    518,2,20011111,-52.6638, 142.4070, 3290,     46.4,   3.7990,  33.8470,2,  33.8480,2,    325.8,2,    327.5,2,     8.70,2,    24.02,2,     1.51,2, -999.000,9, -999.000,9, -999.000,9,   2124.2,2,   2271.5,2,   3.79595547
  09AR20011029,  SR03,    47,  1,     17,2,20011111,-52.6638, 142.4070, 3290,     46.6,   3.7860,  33.8470,3,-999.0000,9,    325.8,2,   -999.0,9,  -999.00,9,  -999.00,9,  -999.00,9, -999.000,9, -999.000,9, -999.000,9,   -999.0,9,   -999.0,9,         -999
  09AR20011029,  SR03,    47,  1,     16,2,20011111,-52.6638, 142.4070, 3290,     59.8,   3.7150,  33.8460,3,  33.8470,2,    322.8,2,    326.7,2,     8.90,2,    24.11,2,     1.52,2,    5.454,2,    2.821,2,    0.500,2,   2125.3,2,   2272.2,2,   3.71111052
  09AR20011029,  SR03,    47,  1,     15,2,20011111,-52.6638, 142.4070, 3290,     59.9,   3.6880,  33.8450,3,-999.0000,9,    322.8,2,   -999.0,9,  -999.00,9,  -999.00,9,  -999.00,9, -999.000,9, -999.000,9, -999.000,9,   -999.0,9,   -999.0,9,         -999
  09AR20011029,  SR03,    47,  1,     14,2,20011111,-52.6638, 142.4070, 3290,     75.0,   3.7620,  33.8760,2,  33.8760,2,    327.2,2,    320.7,2,     8.10,2,    23.85,2,     1.51,2, -999.000,9, -999.000,9, -999.000,9,   2123.3,2,   2269.9,2,   3.75708064
  09AR20011029,  SR03,    47,  1,     13,2,20011111,-52.6638, 142.4070, 3290,     75.2,   3.7690,  33.8750,3,-999.0000,9,    327.2,2,   -999.0,9,  -999.00,9,  -999.00,9,  -999.00,9, -999.000,9, -999.000,9, -999.000,9,   -999.0,9,   -999.0,9,         -999
  09AR20011029,  SR03,    47,  1,     12,2,20011111,-52.6638, 142.4070, 3290,     90.1,   3.6550,  33.8790,2,  33.8790,2,    317.7,2,    318.7,2,     8.60,2,    24.18,2,     1.54,2,    5.290,2,    2.755,2,    0.490,2,   2126.7,2,   2270.0,2,   3.64915669
  09AR20011029,  SR03,    47,  1,     11,2,20011111,-52.6638, 142.4070, 3290,     90.6,   3.6600,  33.8810,2,-999.0000,9,    317.7,2,   -999.0,9,  -999.00,9,  -999.00,9,  -999.00,9, -999.000,9, -999.000,9, -999.000,9,   -999.0,9,   -999.0,9,   3.65411994
  09AR20011029,  SR03,    47,  1,      9,2,20011111,-52.6638, 142.4070, 3290,    105.2,   3.4420,  33.8690,4,-999.0000,9,    314.4,2,   -999.0,9,  -999.00,9,  -999.00,9,  -999.00,9, -999.000,9, -999.000,9, -999.000,9,   2128.9,2,   2270.3,2,         -999
  09AR20011029,  SR03,    47,  1,     10,2,20011111,-52.6638, 142.4070, 3290,    105.4,   3.5080,  33.8710,4,  33.8800,0,    314.4,2,    318.2,2,     9.20,2,    24.52,2,     1.56,2, -999.000,9, -999.000,9, -999.000,9,   -999.0,9,   -999.0,9,         -999
  09AR20011029,  SR03,    47,  1,      7,2,20011111,-52.6638, 142.4070, 3290,    120.1,   3.2740,  33.8580,2,-999.0000,9,    324.1,2,   -999.0,9,  -999.00,9,  -999.00,9,  -999.00,9, -999.000,9, -999.000,9, -999.000,9,   2130.1,2,   2270.7,2,    3.2665567
  09AR20011029,  SR03,    47,  1,      8,2,20011111,-52.6638, 142.4070, 3290,    120.7,   3.2700,  33.8590,2,  33.8620,2,    324.1,2,    321.9,2,     9.60,2,    24.78,2,     1.59,2,    5.392,2,    2.811,2,    0.520,2,   -999.0,9,   -999.0,9,     3.262522
  09AR20011029,  SR03,    47,  1,      6,2,20011111,-52.6638, 142.4070, 3290,    151.6,   3.0320,  33.8520,2,  33.8530,2,    324.7,2,    322.7,2,    10.20,2,    25.04,2,     1.60,2,    5.472,2,    2.821,2,    0.510,2,   2131.3,2,   2271.3,2,   3.02286482
  09AR20011029,  SR03,    47,  1,      5,2,20011111,-52.6638, 142.4070, 3290,    151.7,   3.0420,  33.8540,3,-999.0000,9,    324.7,2,   -999.0,9,  -999.00,9,  -999.00,9,  -999.00,9, -999.000,9, -999.000,9, -999.000,9,   -999.0,9,   -999.0,9,         -999
  09AR20011029,  SR03,    47,  1,      4,2,20011111,-52.6638, 142.4070, 3290,    201.4,   4.2820,  34.1060,2,  34.1080,2,    266.1,2,    271.5,2,    16.60,2,    26.96,2,     1.72,2,    4.312,2,    2.211,2,    0.370,2,   2157.0,2,   2278.0,2,   4.26767257
  09AR20011029,  SR03,    47,  1,      3,2,20011111,-52.6638, 142.4070, 3290,    249.6,   3.9840,  34.1520,2,  34.1530,2,    253.9,2,    257.9,2,    20.90,2,    28.50,2,     1.80,2,    4.022,2,    2.025,2,    0.330,2,   2168.1,2,   2281.1,2,   3.96672325
  09AR20011029,  SR03,    47,  1,      2,2,20011111,-52.6638, 142.4070, 3290,    301.1,   3.6970,  34.1780,2,  34.1800,2,    253.8,2,    251.4,2,    24.50,2,    29.65,2,     1.82,2, -999.000,9, -999.000,9, -999.000,9,   2177.6,2,   2283.8,2,   3.67671243
  09AR20011029,  SR03,    47,  1,      1,2,20011111,-52.6638, 142.4070, 3290,    352.4,   3.4840,  34.2040,2,  34.2040,2,    248.1,2,    242.6,2,    28.40,2,    30.57,2,     1.88,2,    3.360,2,    1.671,2,    0.290,2,   2184.5,6,   2287.1,6,   3.46069827