BOTTLE,20081126PRINUNIVRMK
EXPOCODE,SECT_ID,STNNBR,CASTNO,BTLNBR,BTLNBR_FLAG_W,DATE,LATITUDE,LONGITUDE,DEPTH,CTDPRS,CTDTMP,CTDSAL,CTDSAL_FLAG_W,SALNTY,SALNTY_FLAG_W,CTDOXY,CTDOXY_FLAG_W,OXYGEN,OXYGEN_FLAG_W,SILCAT,SILCAT_FLAG_W,NITRAT,NITRAT_FLAG_W,PHSPHT,PHSPHT_FLAG_W,CFC-11,CFC-11_FLAG_W,CFC-12,CFC-12_FLAG_W,CFC113,CFC113_FLAG_W,TCARBN,TCARBN_FLAG_W,ALKALI,ALKALI_FLAG_W,THETA
,,,,,,,,,METERS,DBARS,ITS-90,PSS-78,,PSS-78,,UMOL/KG,,UMOL/KG,,UMOL/KG,,UMOL/KG,,UMOL/KG,,PMOL/KG,,PMOL/KG,,PMOL/KG,,UMOL/KG,,UMOL/KG,,DEGC
  09AR20011029,  SR03,    23,  1,     24,2,20011107,-48.7902, 144.3330, 3993,     10.3,   9.7080,  34.7140,4,-999.0000,9,   -999.0,5,   -999.0,9,     3.00,2,    10.98,2,     0.78,2, -999.000,9, -999.000,9, -999.000,9,   -999.0,9,   -999.0,9,         -999
  09AR20011029,  SR03,    23,  1,     21,2,20011107,-48.7902, 144.3330, 3993,     10.3,   9.7320,  34.7180,2,-999.0000,9,   -999.0,5,   -999.0,9,  -999.00,9,  -999.00,9,  -999.00,9, -999.000,9, -999.000,9, -999.000,9,   -999.0,9,   -999.0,9,   9.73084066
  09AR20011029,  SR03,    23,  1,     23,2,20011107,-48.7902, 144.3330, 3993,     10.4,   9.7320,  34.7180,2,-999.0000,9,   -999.0,5,   -999.0,9,  -999.00,9,  -999.00,9,  -999.00,9, -999.000,9, -999.000,9, -999.000,9,   -999.0,9,   -999.0,9,    9.7308294
  09AR20011029,  SR03,    23,  1,     22,2,20011107,-48.7902, 144.3330, 3993,     10.4,   9.7290,  34.7180,2,-999.0000,9,   -999.0,5,   -999.0,9,  -999.00,9,  -999.00,9,  -999.00,9, -999.000,9, -999.000,9, -999.000,9,   -999.0,9,   -999.0,9,   9.72782963
  09AR20011029,  SR03,    23,  1,     20,2,20011107,-48.7902, 144.3330, 3993,     29.8,   9.6930,  34.7170,3,-999.0000,9,   -999.0,5,   -999.0,9,     2.90,2,    10.97,2,     0.79,2, -999.000,9, -999.000,9, -999.000,9,   -999.0,9,   -999.0,9,         -999
  09AR20011029,  SR03,    23,  1,     19,4,20011107,-48.7902, 144.3330, 3993,     49.1,   9.6930,  34.7190,2,-999.0000,9,   -999.0,5,   -999.0,9,     2.90,4,    11.55,4,     0.83,4, -999.000,9, -999.000,9, -999.000,9,   -999.0,9,   -999.0,9,     9.687476
  09AR20011029,  SR03,    23,  1,     17,2,20011107,-48.7902, 144.3330, 3993,     99.9,   9.9980,  34.8090,2,-999.0000,9,   -999.0,5,   -999.0,9,  -999.00,9,  -999.00,9,  -999.00,9, -999.000,9, -999.000,9, -999.000,9,   -999.0,9,   -999.0,9,   9.98649274
  09AR20011029,  SR03,    23,  1,    718,2,20011107,-48.7902, 144.3330, 3993,    100.9,  10.0000,  34.8100,2,-999.0000,9,   -999.0,5,   -999.0,9,     2.90,2,    11.05,2,     0.79,2, -999.000,9, -999.000,9, -999.000,9,   -999.0,9,   -999.0,9,   9.98837532
  09AR20011029,  SR03,    23,  1,     16,2,20011107,-48.7902, 144.3330, 3993,    149.4,   9.2430,  34.6600,4,-999.0000,9,   -999.0,5,   -999.0,9,     3.20,2,    12.86,2,     0.90,2, -999.000,9, -999.000,9, -999.000,9,   -999.0,9,   -999.0,9,         -999
  09AR20011029,  SR03,    23,  1,     15,2,20011107,-48.7902, 144.3330, 3993,    150.4,   9.2190,  34.6560,3,-999.0000,9,   -999.0,5,   -999.0,9,  -999.00,9,  -999.00,9,  -999.00,9, -999.000,9, -999.000,9, -999.000,9,   -999.0,9,   -999.0,9,         -999
  09AR20011029,  SR03,    23,  1,     14,2,20011107,-48.7902, 144.3330, 3993,    200.3,   9.1140,  34.6360,2,-999.0000,9,   -999.0,5,   -999.0,9,     3.10,2,    12.95,2,     0.93,2, -999.000,9, -999.000,9, -999.000,9,   -999.0,9,   -999.0,9,    9.0921621
  09AR20011029,  SR03,    23,  1,     13,2,20011107,-48.7902, 144.3330, 3993,    200.4,   9.1140,  34.6360,2,-999.0000,9,   -999.0,5,   -999.0,9,  -999.00,9,  -999.00,9,  -999.00,9, -999.000,9, -999.000,9, -999.000,9,   -999.0,9,   -999.0,9,   9.09215107
  09AR20011029,  SR03,    23,  1,     12,2,20011107,-48.7902, 144.3330, 3993,    249.9,   9.0980,  34.6350,2,-999.0000,9,   -999.0,5,   -999.0,9,     3.20,2,    13.24,2,     0.93,2, -999.000,9, -999.000,9, -999.000,9,   -999.0,9,   -999.0,9,   9.07070772
  09AR20011029,  SR03,    23,  1,     11,2,20011107,-48.7902, 144.3330, 3993,    250.1,   9.0960,  34.6350,2,-999.0000,9,   -999.0,5,   -999.0,9,  -999.00,9,  -999.00,9,  -999.00,9, -999.000,9, -999.000,9, -999.000,9,   -999.0,9,   -999.0,9,   9.06868926
  09AR20011029,  SR03,    23,  1,     10,2,20011107,-48.7902, 144.3330, 3993,    299.0,   9.1100,  34.6400,2,-999.0000,9,   -999.0,5,   -999.0,9,     3.20,2,    13.12,2,     0.93,2, -999.000,9, -999.000,9, -999.000,9,   -999.0,9,   -999.0,9,   9.07722605
  09AR20011029,  SR03,    23,  1,      9,2,20011107,-48.7902, 144.3330, 3993,    350.1,   9.1550,  34.6500,3,-999.0000,9,   -999.0,5,   -999.0,9,     3.20,2,    12.89,2,     0.92,2, -999.000,9, -999.000,9, -999.000,9,   -999.0,9,   -999.0,9,         -999
  09AR20011029,  SR03,    23,  1,      8,2,20011107,-48.7902, 144.3330, 3993,    399.8,   8.9720,  34.6140,2,-999.0000,9,   -999.0,5,   -999.0,9,     3.70,2,    14.27,2,     0.99,2, -999.000,9, -999.000,9, -999.000,9,   -999.0,9,   -999.0,9,   8.92835049
  09AR20011029,  SR03,    23,  1,      7,2,20011107,-48.7902, 144.3330, 3993,    450.3,   8.8370,  34.5870,2,-999.0000,9,   -999.0,5,   -999.0,9,     5.60,2,    17.13,2,     1.15,2, -999.000,9, -999.000,9, -999.000,9,   -999.0,9,   -999.0,9,   8.78816181
  09AR20011029,  SR03,    23,  1,      6,2,20011107,-48.7902, 144.3330, 3993,    500.0,   8.7430,  34.5690,2,-999.0000,9,   -999.0,5,   -999.0,9,    13.60,4,    23.61,4,     1.55,4, -999.000,9, -999.000,9, -999.000,9,   -999.0,9,   -999.0,9,   8.68897643
  09AR20011029,  SR03,    23,  1,      5,2,20011107,-48.7902, 144.3330, 3993,    600.6,   8.6500,  34.5740,4,-999.0000,9,   -999.0,5,   -999.0,9,     5.60,2,    17.15,2,     1.15,2, -999.000,9, -999.000,9, -999.000,9,   -999.0,9,   -999.0,9,         -999
  09AR20011029,  SR03,    23,  1,      4,2,20011107,-48.7902, 144.3330, 3993,    800.4,   7.1560,  34.4540,4,-999.0000,9,   -999.0,5,   -999.0,9,    13.70,2,    23.65,2,     1.55,2, -999.000,9, -999.000,9, -999.000,9,   -999.0,9,   -999.0,9,         -999
  09AR20011029,  SR03,    23,  1,      3,2,20011107,-48.7902, 144.3330, 3993,   1002.0,   5.2860,  34.3730,2,-999.0000,9,   -999.0,5,   -999.0,9,  -999.00,9,  -999.00,9,  -999.00,9, -999.000,9, -999.000,9, -999.000,9,   -999.0,9,   -999.0,9,   5.20053714
  09AR20011029,  SR03,    23,  1,      2,2,20011107,-48.7902, 144.3330, 3993,   1002.3,   5.2760,  34.3720,3,-999.0000,9,   -999.0,5,   -999.0,9,  -999.00,9,  -999.00,9,  -999.00,9, -999.000,9, -999.000,9, -999.000,9,   -999.0,9,   -999.0,9,         -999
  09AR20011029,  SR03,    23,  1,      1,2,20011107,-48.7902, 144.3330, 3993,   1002.3,   5.2850,  34.3730,2,-999.0000,9,   -999.0,5,   -999.0,9,    26.40,2,    28.70,2,     1.88,2, -999.000,9, -999.000,9, -999.000,9,   -999.0,9,   -999.0,9,     5.199517
  09AR20011029,  SR03,    24,  1,     24,2,20011107,-48.7860, 144.4325, 4033,      4.2,   9.9140,  34.7390,2,  34.7380,2,    311.8,3,    283.9,2,     2.90,2,    11.23,2,     0.75,2,    3.764,2,    2.090,2,    0.330,2,   2094.8,6,   2295.8,2,   9.91352165
  09AR20011029,  SR03,    24,  1,     23,2,20011107,-48.7860, 144.4325, 4033,     50.3,   9.7280,  34.7290,2,  34.7280,2,    289.9,2,    283.2,2,     2.90,2,    11.31,2,     0.77,2,    3.797,2,    2.076,2,    0.330,2,   2095.1,2,   2293.9,6,   9.72232696
  09AR20011029,  SR03,    24,  1,     22,2,20011107,-48.7860, 144.4325, 4033,     98.8,   9.6980,  34.7290,4,  34.7270,2,    276.8,2,    280.2,2,     2.90,2,    11.51,2,     0.79,2,    3.778,2,    2.058,2,    0.320,2,   2097.6,2,   2293.8,2,   9.68684998
  09AR20011029,  SR03,    24,  1,     21,2,20011107,-48.7860, 144.4325, 4033,    149.7,   9.1760,  34.6470,2,  34.6460,2,    276.8,2,    277.6,2,     3.10,2,    13.18,2,     0.90,2,    3.822,2,    2.069,2,    0.330,2,   2104.2,2,   2291.8,2,   9.15965467
  09AR20011029,  SR03,    24,  1,     20,2,20011107,-48.7860, 144.4325, 4033,    199.7,   9.1170,  34.6370,2,  34.6370,2,    285.7,2,    276.6,2,     3.10,2,    13.43,2,     0.91,2,    3.879,2,    2.117,2,    0.330,2,   2104.0,2,   2292.0,2,   9.09522352
  09AR20011029,  SR03,    24,  1,     19,4,20011107,-48.7860, 144.4325, 4033,    301.2,   9.1520,  34.6480,2,  34.6010,0,    283.5,2,    265.9,4,     5.10,4,    15.40,4,     1.03,4,    3.644,2,    1.965,2,    0.280,2,   2114.6,3,   2289.1,2,   9.11888397
  09AR20011029,  SR03,    24,  1,    718,2,20011107,-48.7860, 144.4325, 4033,    400.4,   8.9860,  34.6140,2,  34.6130,2,    284.5,2,    266.7,2,     3.90,2,    14.87,2,     0.99,2,    3.820,2,    2.045,2,    0.310,2,   2111.6,2,   2289.4,2,   8.94224285
  09AR20011029,  SR03,    24,  1,     17,2,20011107,-48.7860, 144.4325, 4033,    499.1,   8.6400,  34.5520,2,  34.5500,2,    278.4,2,    272.9,2,     4.00,2,    15.46,2,     1.03,2,    3.913,2,    2.100,2,    0.310,2,   2110.5,2,   2286.9,2,   8.58646916
  09AR20011029,  SR03,    24,  1,     16,2,20011107,-48.7860, 144.4325, 4033,    651.7,   8.3650,  34.5440,4,  34.5420,2,    256.2,2,    242.7,2,     6.80,2,    19.14,2,     1.24,2,    3.420,2,    1.788,2,    0.230,2,   2128.9,2,   2286.8,2,   8.29580517
  09AR20011029,  SR03,    24,  1,     15,2,20011107,-48.7860, 144.4325, 4033,    800.8,   7.1650,  34.4410,2,  34.4430,2,    235.1,2,    223.4,2,    12.80,2,    23.45,2,     1.51,2,    2.771,2,    1.407,2,    0.160,2,   2150.1,2,   2286.3,2,   7.08642837
  09AR20011029,  SR03,    24,  1,     14,2,20011107,-48.7860, 144.4325, 4033,    950.9,   6.0110,  34.4100,2,  34.4100,2,    211.7,2,    204.1,2,    22.40,2,    27.68,2,     1.80,2,    1.731,2,    0.850,2,    0.080,2,   2173.7,2,   2291.0,2,   5.92498266
  09AR20011029,  SR03,    24,  1,     13,2,20011107,-48.7860, 144.4325, 4033,   1102.8,   4.5780,  34.3530,3,  34.3530,2,    212.0,2,    208.4,2,    31.80,2,    30.33,2,     1.97,2,    1.684,2,    0.807,2,    0.080,2,   2190.5,2,   2298.0,6,   4.48910282
  09AR20011029,  SR03,    24,  1,     12,2,20011107,-48.7860, 144.4325, 4033,   1205.1,   3.9360,  34.3550,2,  34.3560,2,    202.5,2,    204.4,2,    39.80,2,    31.88,2,     2.10,2,    1.433,2,    0.682,2,    0.060,2,   2203.6,6,   2304.3,2,   3.84384687
  09AR20011029,  SR03,    24,  1,     11,2,20011107,-48.7860, 144.4325, 4033,   1303.9,   3.5040,  34.3810,2,  34.3800,2,    197.1,2,    197.5,2,    47.60,2,    32.83,2,     2.16,2,    1.181,2,    0.556,2,    0.060,2,   2216.0,2,   2309.6,2,   3.40758639
  09AR20011029,  SR03,    24,  1,     10,2,20011107,-48.7860, 144.4325, 4033,   1403.0,   3.1800,  34.4100,2,  34.4090,2,    191.3,2,    191.8,2,    53.40,2,    33.45,2,     2.21,2,    0.996,2,    0.464,2,    0.050,2,   2225.6,2,   2314.5,2,   3.07861992
  09AR20011029,  SR03,    24,  1,      9,2,20011107,-48.7860, 144.4325, 4033,   1602.5,   2.8420,  34.5120,2,  34.5120,2,    175.7,2,    176.6,2,    68.40,2,    33.97,2,     2.26,2,    0.451,2,    0.229,2,    0.020,2,   2244.3,2,   2330.1,2,   2.72762581
  09AR20011029,  SR03,    24,  1,      8,2,20011107,-48.7860, 144.4325, 4033,   1804.3,   2.6030,  34.5840,2,  34.5840,2,    177.4,2,    177.5,2,    72.10,2,    33.58,2,     2.23,2,    0.325,2,    0.165,2,    0.010,2,   2247.2,2,   2333.3,2,   2.47449535
  09AR20011029,  SR03,    24,  1,      7,2,20011107,-48.7860, 144.4325, 4033,   2005.1,   2.4860,  34.6520,2,  34.6510,2,    178.1,2,    179.9,2,    76.10,2,    32.70,2,     2.15,2, -999.000,9, -999.000,9, -999.000,9,   2248.1,2,   2340.5,2,   2.34166008
  09AR20011029,  SR03,    24,  1,      6,2,20011107,-48.7860, 144.4325, 4033,   2205.8,   2.3490,  34.7020,2,  34.7020,2,    184.9,2,    185.8,2,    79.20,2,    31.47,2,     2.07,2,    0.141,6,    0.077,6,    0.010,6,   2247.1,2,   2344.2,2,   2.18891863
  09AR20011029,  SR03,    24,  1,      5,2,20011107,-48.7860, 144.4325, 4033,   2606.9,   2.0960,  34.7420,2,  34.7440,2,    192.8,2,    193.4,2,    87.40,2,    30.84,2,     2.02,2,    0.063,2,    0.036,2,    0.010,2,   2248.9,2,   2352.0,2,   1.90360319
  09AR20011029,  SR03,    24,  1,      4,2,20011107,-48.7860, 144.4325, 4033,   3006.6,   1.7070,  34.7430,2,  34.7450,2,    201.3,2,    200.3,2,    98.80,2,    30.85,2,     2.03,2,    0.051,2,    0.032,2,    0.000,2,   2252.1,2,   2356.3,2,   1.48462774
  09AR20011029,  SR03,    24,  1,      3,2,20011107,-48.7860, 144.4325, 4033,   3399.7,   1.3450,  34.7300,2,  34.7300,2,    202.1,2,    202.5,2,   114.20,2,    31.64,2,     2.09,2,    0.024,2,    0.014,2,    0.000,2,   2261.8,2,   2367.3,2,   1.09252303
  09AR20011029,  SR03,    24,  1,      2,2,20011107,-48.7860, 144.4325, 4033,   3805.2,   1.0770,  34.7180,2,  34.7180,2,    205.1,2,    205.9,2,   121.00,2,    32.08,2,     2.12,2,    0.015,2,    0.013,2,    0.010,2,   2266.8,2,   2373.3,6,  0.790249119
  09AR20011029,  SR03,    24,  1,      1,2,20011107,-48.7860, 144.4325, 4033,   4166.4,   1.0920,  34.7160,2,  34.7170,2,    204.6,2,    206.1,2,   121.40,2,    32.11,2,     2.14,2,    0.018,2,    0.011,2,    0.000,2,   2267.5,6,   2373.7,2,  0.766450036
  09AR20011029,  SR03,    25,  1,     24,2,20011107,-48.7973, 144.5022, 3907,      4.6,   9.8050,  34.7290,2,  34.7300,2,    285.7,3,    284.6,2,     3.00,2,    10.93,2,     0.78,2, -999.000,9, -999.000,9, -999.000,9,   -999.0,9,   -999.0,9,   9.80447983
  09AR20011029,  SR03,    25,  1,     23,2,20011107,-48.7973, 144.5022, 3907,      4.7,   9.8050,  34.7290,2,-999.0000,9,    285.7,3,   -999.0,9,  -999.00,9,  -999.00,9,  -999.00,9, -999.000,9, -999.000,9, -999.000,9,   -999.0,9,   -999.0,9,   9.80446853
  09AR20011029,  SR03,    25,  1,     20,2,20011107,-48.7973, 144.5022, 3907,     14.5,   9.7890,  34.7270,2,-999.0000,9,    285.6,3,   -999.0,9,  -999.00,9,  -999.00,9,  -999.00,9, -999.000,9, -999.000,9, -999.000,9,   -999.0,9,   -999.0,9,   9.78736126
  09AR20011029,  SR03,    25,  1,     22,2,20011107,-48.7973, 144.5022, 3907,     14.7,   9.8040,  34.7290,2,  34.7270,2,    285.6,3,    284.9,2,     2.90,2,    10.99,2,     0.78,2, -999.000,9, -999.000,9, -999.000,9,   -999.0,9,   -999.0,9,   9.80233701
  09AR20011029,  SR03,    25,  1,     21,2,20011107,-48.7973, 144.5022, 3907,     14.7,   9.7970,  34.7280,2,-999.0000,9,    285.6,3,   -999.0,9,  -999.00,9,  -999.00,9,  -999.00,9, -999.000,9, -999.000,9, -999.000,9,   -999.0,9,   -999.0,9,   9.79533775
  09AR20011029,  SR03,    25,  1,     19,4,20011107,-48.7973, 144.5022, 3907,     24.7,   9.7730,  34.7250,2,  34.7060,0,    276.6,2,    278.5,4,     3.00,4,    11.62,4,     0.82,4, -999.000,9, -999.000,9, -999.000,9,   -999.0,9,   -999.0,9,   9.77020996
  09AR20011029,  SR03,    25,  1,    718,2,20011107,-48.7973, 144.5022, 3907,     24.7,   9.7680,  34.7240,2,-999.0000,9,    276.6,2,   -999.0,9,  -999.00,9,  -999.00,9,  -999.00,9, -999.000,9, -999.000,9, -999.000,9,   -999.0,9,   -999.0,9,   9.76521091
  09AR20011029,  SR03,    25,  1,     17,2,20011107,-48.7973, 144.5022, 3907,     52.8,   9.6900,  34.7200,2,  34.7200,2,    282.4,2,    284.0,2,     3.00,2,    11.09,2,     0.79,2, -999.000,9, -999.000,9, -999.000,9,   -999.0,9,   -999.0,9,   9.68405964
  09AR20011029,  SR03,    25,  1,     15,2,20011107,-48.7973, 144.5022, 3907,     52.9,   9.6900,  34.7190,2,-999.0000,9,    282.4,2,   -999.0,9,  -999.00,9,  -999.00,9,  -999.00,9, -999.000,9, -999.000,9, -999.000,9,   -999.0,9,   -999.0,9,   9.68404844
  09AR20011029,  SR03,    25,  1,     14,2,20011107,-48.7973, 144.5022, 3907,     52.9,   9.6890,  34.7190,2,-999.0000,9,    282.4,2,   -999.0,9,  -999.00,9,  -999.00,9,  -999.00,9, -999.000,9, -999.000,9, -999.000,9,   -999.0,9,   -999.0,9,   9.68304883
  09AR20011029,  SR03,    25,  1,     16,2,20011107,-48.7973, 144.5022, 3907,     53.0,   9.6890,  34.7200,2,-999.0000,9,    282.4,2,   -999.0,9,  -999.00,9,  -999.00,9,  -999.00,9, -999.000,9, -999.000,9, -999.000,9,   -999.0,9,   -999.0,9,   9.68303747
  09AR20011029,  SR03,    25,  1,     13,2,20011107,-48.7973, 144.5022, 3907,     53.0,   9.6990,  34.7220,2,-999.0000,9,    282.4,2,   -999.0,9,  -999.00,9,  -999.00,9,  -999.00,9, -999.000,9, -999.000,9, -999.000,9,   -999.0,9,   -999.0,9,    9.6930334
  09AR20011029,  SR03,    25,  1,     12,2,20011107,-48.7973, 144.5022, 3907,     70.3,   9.7680,  34.7420,2,  34.7400,2,    280.0,2,    280.9,2,     2.90,2,    11.08,2,     0.80,2, -999.000,9, -999.000,9, -999.000,9,   -999.0,9,   -999.0,9,    9.7600408
  09AR20011029,  SR03,    25,  1,     11,2,20011107,-48.7973, 144.5022, 3907,     70.4,   9.7750,  34.7450,3,-999.0000,9,    280.0,2,   -999.0,9,  -999.00,9,  -999.00,9,  -999.00,9, -999.000,9, -999.000,9, -999.000,9,   -999.0,9,   -999.0,9,         -999
  09AR20011029,  SR03,    25,  1,      9,2,20011107,-48.7973, 144.5022, 3907,     89.4,   9.8810,  34.7740,3,-999.0000,9,    278.7,2,   -999.0,9,  -999.00,9,  -999.00,9,  -999.00,9, -999.000,9, -999.000,9, -999.000,9,   -999.0,9,   -999.0,9,         -999
  09AR20011029,  SR03,    25,  1,     10,2,20011107,-48.7973, 144.5022, 3907,     89.5,   9.8560,  34.7670,2,  34.7610,2,    278.7,2,    278.5,2,     2.90,2,    11.05,2,     0.81,2, -999.000,9, -999.000,9, -999.000,9,   -999.0,9,   -999.0,9,   9.84579593
  09AR20011029,  SR03,    25,  1,      8,2,20011107,-48.7973, 144.5022, 3907,     99.5,   9.9020,  34.7800,2,-999.0000,9,    274.0,2,   -999.0,9,  -999.00,9,  -999.00,9,  -999.00,9, -999.000,9, -999.000,9, -999.000,9,   -999.0,9,   -999.0,9,   9.89061342
  09AR20011029,  SR03,    25,  1,      7,2,20011107,-48.7973, 144.5022, 3907,     99.5,   9.9020,  34.7830,4,-999.0000,9,    274.0,2,    276.4,2,     2.90,2,    11.14,2,     0.80,2, -999.000,9, -999.000,9, -999.000,9,   -999.0,9,   -999.0,9,         -999
  09AR20011029,  SR03,    25,  1,      6,2,20011107,-48.7973, 144.5022, 3907,    150.6,   9.5900,  34.7290,2,-999.0000,9,    267.3,2,    272.4,2,  -999.00,9,  -999.00,9,  -999.00,9, -999.000,9, -999.000,9, -999.000,9,   -999.0,9,   -999.0,9,   9.57307632
  09AR20011029,  SR03,    25,  1,      5,2,20011107,-48.7973, 144.5022, 3907,    200.4,   9.1240,  34.6370,2,-999.0000,9,    277.5,2,    273.3,2,  -999.00,9,  -999.00,9,  -999.00,9, -999.000,9, -999.000,9, -999.000,9,   -999.0,9,   -999.0,9,   9.10213594
  09AR20011029,  SR03,    25,  1,      4,2,20011107,-48.7973, 144.5022, 3907,    251.1,   9.0250,  34.6180,2,-999.0000,9,    273.7,2,    272.5,2,  -999.00,9,  -999.00,9,  -999.00,9, -999.000,9, -999.000,9, -999.000,9,   -999.0,9,   -999.0,9,   8.99771672
  09AR20011029,  SR03,    25,  1,      3,2,20011107,-48.7973, 144.5022, 3907,    350.6,   9.1430,  34.6440,2,  34.6450,2,    276.3,2,    276.4,2,  -999.00,9,  -999.00,9,  -999.00,9, -999.000,9, -999.000,9, -999.000,9,   -999.0,9,   -999.0,9,   9.10437095
  09AR20011029,  SR03,    25,  1,      2,2,20011107,-48.7973, 144.5022, 3907,    450.5,   9.0570,  34.6270,2,  34.6270,2,    271.5,2,    274.9,2,     3.40,2,    13.57,2,     0.95,2, -999.000,9, -999.000,9, -999.000,9,   -999.0,9,   -999.0,9,   9.00738432
  09AR20011029,  SR03,    25,  1,      1,2,20011107,-48.7973, 144.5022, 3907,    601.7,   8.7580,  34.5880,2,  34.5870,2,    257.0,2,    255.5,2,     5.00,2,    16.47,2,     1.11,2, -999.000,9, -999.000,9, -999.000,9,   -999.0,9,   -999.0,9,   8.69252586