BOTTLE,20081126PRINUNIVRMK
EXPOCODE,SECT_ID,STNNBR,CASTNO,BTLNBR,BTLNBR_FLAG_W,DATE,LATITUDE,LONGITUDE,DEPTH,CTDPRS,CTDTMP,CTDSAL,CTDSAL_FLAG_W,SALNTY,SALNTY_FLAG_W,CTDOXY,CTDOXY_FLAG_W,OXYGEN,OXYGEN_FLAG_W,SILCAT,SILCAT_FLAG_W,NITRAT,NITRAT_FLAG_W,PHSPHT,PHSPHT_FLAG_W,CFC-11,CFC-11_FLAG_W,CFC-12,CFC-12_FLAG_W,CFC113,CFC113_FLAG_W,TCARBN,TCARBN_FLAG_W,ALKALI,ALKALI_FLAG_W,THETA
,,,,,,,,,METERS,DBARS,ITS-90,PSS-78,,PSS-78,,UMOL/KG,,UMOL/KG,,UMOL/KG,,UMOL/KG,,UMOL/KG,,PMOL/KG,,PMOL/KG,,PMOL/KG,,UMOL/KG,,UMOL/KG,,DEGC
  09AR20011029,  SR03,    96,  1,     23,2,20011127,-65.5292, 143.1880, 2654,      5.6,  -1.5800,  34.1530,2,  34.1640,0,    400.1,3,    354.3,2,    51.30,2,    26.39,2,     1.56,2, -999.000,9, -999.000,9, -999.000,9,   -999.0,9,   -999.0,9,   -1.5801151
  09AR20011029,  SR03,    96,  1,     24,2,20011127,-65.5292, 143.1880, 2654,      5.7,  -1.5770,  34.1540,3,-999.0000,9,    400.1,3,   -999.0,9,  -999.00,9,  -999.00,9,  -999.00,9, -999.000,9, -999.000,9, -999.000,9,   -999.0,9,   -999.0,9,         -999
  09AR20011029,  SR03,    96,  1,     22,2,20011127,-65.5292, 143.1880, 2654,     15.3,  -1.5500,  34.1990,3,-999.0000,9,    322.7,3,   -999.0,9,  -999.00,9,  -999.00,9,  -999.00,9, -999.000,9, -999.000,9, -999.000,9,   -999.0,9,   -999.0,9,         -999
  09AR20011029,  SR03,    96,  1,     21,2,20011127,-65.5292, 143.1880, 2654,     15.3,  -1.5540,  34.1900,4,  34.2080,0,    322.7,3,    352.7,2,    51.50,2,    26.54,2,     1.61,2, -999.000,9, -999.000,9, -999.000,9,   -999.0,9,   -999.0,9,         -999
  09AR20011029,  SR03,    96,  1,     20,2,20011127,-65.5292, 143.1880, 2654,     30.9,  -1.6100,  34.2300,2,-999.0000,9,    346.1,2,   -999.0,9,  -999.00,9,  -999.00,9,  -999.00,9, -999.000,9, -999.000,9, -999.000,9,   -999.0,9,   -999.0,9,  -1.61063936
  09AR20011029,  SR03,    96,  1,     19,2,20011127,-65.5292, 143.1880, 2654,     30.9,  -1.6150,  34.2310,2,  34.2330,2,    346.1,2,    343.8,2,    52.30,2,    27.22,2,     1.66,2, -999.000,9, -999.000,9, -999.000,9,   -999.0,9,   -999.0,9,  -1.61563819
  09AR20011029,  SR03,    96,  1,     17,2,20011127,-65.5292, 143.1880, 2654,     45.2,  -1.6730,  34.2660,2,  34.2620,2,    331.9,2,    334.4,2,    54.70,2,    27.66,2,     1.74,2, -999.000,9, -999.000,9, -999.000,9,   -999.0,9,   -999.0,9,  -1.67391949
  09AR20011029,  SR03,    96,  1,    218,2,20011127,-65.5292, 143.1880, 2654,     45.3,  -1.6720,  34.2650,2,-999.0000,9,    331.9,2,   -999.0,9,  -999.00,9,  -999.00,9,  -999.00,9, -999.000,9, -999.000,9, -999.000,9,   -999.0,9,   -999.0,9,  -1.67292223
  09AR20011029,  SR03,    96,  1,     16,2,20011127,-65.5292, 143.1880, 2654,     60.3,  -1.7140,  34.2870,2,-999.0000,9,    324.1,2,   -999.0,9,  -999.00,9,  -999.00,9,  -999.00,9, -999.000,9, -999.000,9, -999.000,9,   -999.0,9,   -999.0,9,  -1.71521694
  09AR20011029,  SR03,    96,  1,    715,2,20011127,-65.5292, 143.1880, 2654,     60.3,  -1.7210,  34.2870,2,  34.2880,2,    324.1,2,    326.4,2,    55.60,2,    28.58,2,     1.82,2, -999.000,9, -999.000,9, -999.000,9,   -999.0,9,   -999.0,9,  -1.72221335
  09AR20011029,  SR03,    96,  1,     13,2,20011127,-65.5292, 143.1880, 2654,     75.3,  -1.6190,  34.3710,2,  34.3700,2,    305.9,2,    304.2,2,    62.70,2,    30.43,2,     1.94,2, -999.000,9, -999.000,9, -999.000,9,   -999.0,9,   -999.0,9,  -1.62060572
  09AR20011029,  SR03,    96,  1,     14,2,20011127,-65.5292, 143.1880, 2654,     75.5,  -1.6200,  34.3720,2,-999.0000,9,    305.9,2,   -999.0,9,  -999.00,9,  -999.00,9,  -999.00,9, -999.000,9, -999.000,9, -999.000,9,   -999.0,9,   -999.0,9,  -1.62160977
  09AR20011029,  SR03,    96,  1,     11,2,20011127,-65.5292, 143.1880, 2654,     90.2,  -1.4120,  34.4050,3,  34.4040,2,    295.5,2,    294.5,2,    65.90,2,    30.75,2,     1.96,2, -999.000,9, -999.000,9, -999.000,9,   -999.0,9,   -999.0,9,  -1.41410564
  09AR20011029,  SR03,    96,  1,     12,2,20011127,-65.5292, 143.1880, 2654,     90.3,  -1.4060,  34.4030,3,-999.0000,9,    295.5,2,   -999.0,9,  -999.00,9,  -999.00,9,  -999.00,9, -999.000,9, -999.000,9, -999.000,9,   -999.0,9,   -999.0,9,         -999
  09AR20011029,  SR03,    96,  1,    709,2,20011127,-65.5292, 143.1880, 2654,    125.5,  -0.8940,  34.4750,2,  34.4740,2,    276.0,2,    274.5,2,    74.40,2,    31.01,2,     1.99,2, -999.000,9, -999.000,9, -999.000,9,   -999.0,9,   -999.0,9,  -0.89755294
  09AR20011029,  SR03,    96,  1,    310,2,20011127,-65.5292, 143.1880, 2654,    125.6,  -0.8960,  34.4750,2,-999.0000,9,    276.0,2,   -999.0,9,  -999.00,9,  -999.00,9,  -999.00,9, -999.000,9, -999.000,9, -999.000,9,   -999.0,9,   -999.0,9, -0.899553966
  09AR20011029,  SR03,    96,  1,      8,2,20011127,-65.5292, 143.1880, 2654,    150.3,  -0.5720,  34.5120,2,-999.0000,9,    264.3,2,   -999.0,9,  -999.00,9,  -999.00,9,  -999.00,9, -999.000,9, -999.000,9, -999.000,9,   -999.0,9,   -999.0,9, -0.576717296
  09AR20011029,  SR03,    96,  1,      7,2,20011127,-65.5292, 143.1880, 2654,    150.3,  -0.5720,  34.5130,2,  34.5140,2,    264.3,2,    263.2,2,    78.00,2,    31.15,2,     1.99,2, -999.000,9, -999.000,9, -999.000,9,   -999.0,9,   -999.0,9, -0.576717869
  09AR20011029,  SR03,    96,  1,      5,2,20011127,-65.5292, 143.1880, 2654,    175.0,  -0.5070,  34.5330,4,  34.5310,2,    260.9,2,    260.0,2,    80.40,2,    31.21,2,     1.99,2, -999.000,9, -999.000,9, -999.000,9,   -999.0,9,   -999.0,9, -0.512636783
  09AR20011029,  SR03,    96,  1,      6,2,20011127,-65.5292, 143.1880, 2654,    175.1,  -0.5020,  34.5290,2,-999.0000,9,    260.9,2,   -999.0,9,  -999.00,9,  -999.00,9,  -999.00,9, -999.000,9, -999.000,9, -999.000,9,   -999.0,9,   -999.0,9, -0.507646987
  09AR20011029,  SR03,    96,  1,      4,2,20011127,-65.5292, 143.1880, 2654,    200.1,  -0.5170,  34.5410,3,  34.5400,2,    260.3,2,    259.7,2,    83.40,2,    31.06,2,     1.99,2, -999.000,9, -999.000,9, -999.000,9,   -999.0,9,   -999.0,9,  -0.52347861
  09AR20011029,  SR03,    96,  1,      3,2,20011127,-65.5292, 143.1880, 2654,    250.4,   0.0680,  34.6000,4,  34.5980,2,    238.3,2,    239.8,2,    87.00,2,    30.67,2,     1.99,2, -999.000,9, -999.000,9, -999.000,9,   -999.0,9,   -999.0,9, 0.0585053008
  09AR20011029,  SR03,    96,  1,      2,2,20011127,-65.5292, 143.1880, 2654,    300.5,   0.5250,  34.6450,2,  34.6430,2,    224.2,2,    225.2,2,    90.30,2,    30.66,2,     2.00,2, -999.000,9, -999.000,9, -999.000,9,   -999.0,9,   -999.0,9,   0.51229098
  09AR20011029,  SR03,    96,  1,      1,2,20011127,-65.5292, 143.1880, 2654,    351.0,   0.7320,  34.6720,2,  34.6700,2,    221.3,2,    217.9,2,    94.00,2,    30.61,2,     2.00,2, -999.000,9, -999.000,9, -999.000,9,   -999.0,9,   -999.0,9,  0.716374575
  09AR20011029,  SR03,    97,  1,     24,2,20011128,-65.6948, 143.0747, 2112,      5.3,  -1.6300,  34.2800,2,  34.2780,2,    405.9,3,    352.0,2,    56.20,2,    26.61,2,     1.58,2,    5.178,2,    2.740,2,    0.470,2,   2183.9,6,   2316.2,2,  -1.63010789
  09AR20011029,  SR03,    97,  1,     23,2,20011128,-65.6948, 143.0747, 2112,     41.1,  -1.6810,  34.3030,2,  34.3080,2,    328.7,2,    343.1,2,    57.80,2,    27.18,2,     1.65,2, -999.000,9, -999.000,9, -999.000,9,   2191.8,2,   2316.9,6,  -1.68183524
  09AR20011029,  SR03,    97,  1,     22,2,20011128,-65.6948, 143.0747, 2112,     80.1,  -1.7700,  34.4060,3,  34.4050,2,    312.2,2,    308.9,2,    66.10,2,    30.37,2,     1.91,2,    4.731,2,    2.500,2,    0.420,2,   2218.2,2,   2321.1,2,  -1.77161143
  09AR20011029,  SR03,    97,  1,     21,2,20011128,-65.6948, 143.0747, 2112,    120.5,  -1.7400,  34.4290,2,  34.4280,2,    314.2,2,    307.1,2,    70.90,2,    30.54,2,     1.91,2, -999.000,9, -999.000,9, -999.000,9,   2222.2,2,   2324.0,2,  -1.74250939
  09AR20011029,  SR03,    97,  1,     20,2,20011128,-65.6948, 143.0747, 2112,    161.1,  -1.7360,  34.4390,2,  34.4380,2,    308.4,2,    307.5,2,    73.00,2,    30.40,2,     1.91,2,    4.784,2,    2.518,2,    0.420,2,   2223.5,2,   2325.5,2,  -1.73942815
  09AR20011029,  SR03,    97,  1,     19,2,20011128,-65.6948, 143.0747, 2112,    200.5,  -1.5820,  34.4540,3,  34.4530,2,    296.4,2,    300.7,2,    76.10,2,    30.59,2,     1.94,2, -999.000,9, -999.000,9, -999.000,9,   2226.2,2,   2326.6,2,  -1.58661889
  09AR20011029,  SR03,    97,  1,    218,2,20011128,-65.6948, 143.0747, 2112,    251.1,  -0.7550,  34.5150,2,  34.5180,2,    263.2,2,    268.3,2,    80.60,2,    31.02,2,     1.97,2,    3.341,2,    1.751,2,    0.290,2,   2234.4,2,   2329.7,2, -0.762728744
  09AR20011029,  SR03,    97,  1,     17,2,20011128,-65.6948, 143.0747, 2112,    300.2,  -0.5720,  34.5430,2,  34.5430,2,    256.9,2,    260.7,2,    84.10,2,    31.18,2,     1.98,2,    3.021,2,    1.569,2,    0.270,2,   -999.0,9,   -999.0,9, -0.581861392
  09AR20011029,  SR03,    97,  1,     16,2,20011128,-65.6948, 143.0747, 2112,    350.8,  -0.3170,  34.5680,2,  34.5670,2,    249.0,2,    251.8,2,    86.40,2,    31.09,2,     1.99,2,    2.721,2,    1.409,2,    0.240,2,   2240.4,2,   2334.5,2, -0.329463111
  09AR20011029,  SR03,    97,  1,    715,2,20011128,-65.6948, 143.0747, 2112,    401.2,  -0.0210,  34.6040,2,  34.6020,2,    230.6,2,    239.9,2,    90.50,2,    31.34,2,     1.99,2, -999.000,9, -999.000,9, -999.000,9,   -999.0,9,   -999.0,9,-0.0364659029
  09AR20011029,  SR03,    97,  1,     14,2,20011128,-65.6948, 143.0747, 2112,    501.0,   0.3750,  34.6520,4,  34.6500,2,    224.1,2,    224.0,2,   102.10,2,    31.59,2,     2.02,2,    1.379,2,    0.686,2,    0.110,2,   2250.8,2,   2342.9,2,  0.353535461
  09AR20011029,  SR03,    97,  1,     13,2,20011128,-65.6948, 143.0747, 2112,    600.8,   0.2910,  34.6500,2,  34.6480,2,    221.8,2,    223.8,2,   100.80,2,    31.64,2,     2.03,2, -999.000,9, -999.000,9, -999.000,9,   -999.0,9,   -999.0,9,  0.265146939
  09AR20011029,  SR03,    97,  1,     12,2,20011128,-65.6948, 143.0747, 2112,    701.1,   0.3600,  34.6630,2,  34.6620,2,    221.5,2,    220.3,2,   105.20,2,    31.84,2,     2.04,2,    1.126,2,    0.558,2,    0.090,2,   2253.5,2,   2348.1,2,  0.328790151
  09AR20011029,  SR03,    97,  1,     11,2,20011128,-65.6948, 143.0747, 2112,    900.0,   0.4280,  34.6830,2,  34.6830,2,    220.4,2,    216.0,2,   113.40,2,    32.05,2,     2.05,2, -999.000,9, -999.000,9, -999.000,9,   -999.0,9,   -999.0,9,  0.385828428
  09AR20011029,  SR03,    97,  1,    310,2,20011128,-65.6948, 143.0747, 2112,   1101.1,   0.2990,  34.6800,2,  34.6800,2,    220.7,2,    219.4,2,   115.70,2,    32.17,2,     2.06,2,    0.774,2,    0.377,2,    0.060,2,   2257.5,2,   2352.0,2,  0.246637171
  09AR20011029,  SR03,    97,  1,    709,2,20011128,-65.6948, 143.0747, 2112,   1300.9,   0.0370,  34.6640,2,  34.6640,2,    238.2,2,    229.3,2,   110.80,2,    31.45,3,     2.06,2,    1.298,2,    0.644,2,    0.100,2,   2256.0,2,   2350.8,2,-0.0243333816
  09AR20011029,  SR03,    97,  1,      8,2,20011128,-65.6948, 143.0747, 2112,   1501.8,   0.0100,  34.6690,3,  34.6650,2,    238.9,2,    230.6,2,   111.70,2,    31.99,2,     2.06,2,    1.329,2,    0.655,2,    0.100,2,   2255.0,2,   2349.9,2,-0.0631000998
  09AR20011029,  SR03,    97,  1,      7,2,20011128,-65.6948, 143.0747, 2112,   1600.0,  -0.0350,  34.6700,2,  34.6690,2,    233.3,2,    231.1,2,   112.30,2,    31.98,2,     2.06,2, -999.000,9, -999.000,9, -999.000,9,   -999.0,9,   -999.0,9, -0.113672733
  09AR20011029,  SR03,    97,  1,      6,2,20011128,-65.6948, 143.0747, 2112,   1700.8,  -0.0990,  34.6660,2,  34.6670,2,    236.3,2,    233.9,2,   110.10,2,    32.02,2,     2.05,2,    1.514,2,    0.747,2,    0.120,2,   2254.5,2,   2349.8,2, -0.183233271
  09AR20011029,  SR03,    97,  1,      5,2,20011128,-65.6948, 143.0747, 2112,   1800.9,  -0.1140,  34.6640,2,  34.6660,2,    236.1,2,    234.5,2,   110.00,2,    32.00,2,     2.05,2, -999.000,9, -999.000,9, -999.000,9,   -999.0,9,   -999.0,9, -0.204521432
  09AR20011029,  SR03,    97,  1,      4,2,20011128,-65.6948, 143.0747, 2112,   1901.1,  -0.1850,  34.6660,2,  34.6670,2,    237.9,2,    236.9,2,   109.20,2,    31.55,2,     2.04,2,    1.690,2,    0.836,2,    0.130,2,   2254.3,2,   2349.1,2, -0.281126376
  09AR20011029,  SR03,    97,  1,      3,2,20011128,-65.6948, 143.0747, 2112,   2000.4,  -0.3890,  34.6480,4,  34.6450,2,    242.4,2,    247.2,2,    97.60,2,    31.58,2,     2.02,2, -999.000,9, -999.000,9, -999.000,9,   -999.0,9,   -999.0,9, -0.488555204
  09AR20011029,  SR03,    97,  1,      2,2,20011128,-65.6948, 143.0747, 2112,   2105.4,  -0.6410,  34.6170,2,  34.6190,2,    255.6,2,    260.0,2,    95.70,2,    31.35,2,     2.01,2,    2.796,2,    1.438,2,    0.240,2,   2245.7,2,   2342.3,6, -0.743408568
  09AR20011029,  SR03,    97,  1,      1,2,20011128,-65.6948, 143.0747, 2112,   2167.3,  -0.6630,  34.6150,2,  34.6180,2,    253.4,2,    260.5,2,    95.10,2,    31.39,2,     2.01,2,    2.834,2,    1.466,2,    0.240,2,   2245.6,6,   2342.6,2, -0.769198031
  09AR20011029,  SR03,    98,  1,     24,2,20011128,-65.7673, 142.9717, 1649,      5.5,  -1.4690,  34.2980,2,  34.3030,2,    375.5,3,    342.1,2,    58.90,2,    27.89,2,     1.67,2,    5.144,2,    2.717,2,    0.460,2,   2193.7,6,   2315.1,2,  -1.46912001
  09AR20011029,  SR03,    98,  1,     23,2,20011128,-65.7673, 142.9717, 1649,     20.4,  -1.6240,  34.3180,2,  34.3200,2,    336.2,3,    338.9,2,    59.90,2,    28.00,2,     1.71,2, -999.000,9, -999.000,9, -999.000,9,   -999.0,9,   -999.0,9,  -1.62442108
  09AR20011029,  SR03,    98,  1,     22,2,20011128,-65.7673, 142.9717, 1649,     50.4,  -1.6790,  34.3350,2,  34.3400,2,    329.7,2,    332.9,2,    61.10,2,    28.56,2,     1.76,2, -999.000,9, -999.000,9, -999.000,9,   2201.3,2,   2318.6,6,  -1.68003292
  09AR20011029,  SR03,    98,  1,     21,2,20011128,-65.7673, 142.9717, 1649,    100.2,  -1.7330,  34.4260,2,  34.4260,2,    318.3,2,    309.7,2,    69.70,2,    29.97,2,     1.91,2,    4.756,2,    2.495,2,    0.430,2,   2221.7,2,   2324.1,2,  -1.73507232
  09AR20011029,  SR03,    98,  1,     20,2,20011128,-65.7673, 142.9717, 1649,    150.2,  -1.6750,  34.4460,2,  34.4460,2,    307.7,2,    304.3,2,    74.20,2,    30.60,2,     1.93,2, -999.000,9, -999.000,9, -999.000,9,   -999.0,9,   -999.0,9,   -1.6782624
  09AR20011029,  SR03,    98,  1,     19,2,20011128,-65.7673, 142.9717, 1649,    200.2,  -1.4950,  34.4640,2,  34.4640,2,    292.9,2,    296.8,2,    76.90,2,    30.69,2,     1.95,2,    4.378,2,    2.292,2,    0.390,2,   2227.7,2,   2326.7,2,  -1.49976697
  09AR20011029,  SR03,    98,  1,    218,2,20011128,-65.7673, 142.9717, 1649,    249.5,  -1.1070,  34.5130,4,  34.5020,0,    268.5,2,    280.0,2,    81.70,2,    30.59,2,     1.97,2, -999.000,9, -999.000,9, -999.000,9,   -999.0,9,   -999.0,9,         -999
  09AR20011029,  SR03,    98,  1,     17,2,20011128,-65.7673, 142.9717, 1649,    300.0,  -0.5370,  34.5480,4,  34.5500,2,    258.1,2,    259.2,2,    84.90,2,    30.83,2,     1.98,2, -999.000,9, -999.000,9, -999.000,9,   -999.0,9,   -999.0,9, -0.546947586
  09AR20011029,  SR03,    98,  1,     16,2,20011128,-65.7673, 142.9717, 1649,    350.8,  -0.3640,  34.5710,2,  34.5700,2,    247.0,2,    251.9,2,    88.20,2,    31.26,2,     2.01,2,    2.654,2,    1.367,2,    0.230,2,   2242.4,2,   2336.6,2, -0.376325614
  09AR20011029,  SR03,    98,  1,    715,2,20011128,-65.7673, 142.9717, 1649,    401.3,   0.0520,  34.6160,2,  34.6130,2,    237.0,2,    236.1,2,    92.80,2,    31.45,2,     2.02,2, -999.000,9, -999.000,9, -999.000,9,   -999.0,9,   -999.0,9, 0.0362757919
  09AR20011029,  SR03,    98,  1,     14,2,20011128,-65.7673, 142.9717, 1649,    449.6,   0.2080,  34.6390,2,  34.6370,2,    221.7,2,    227.4,2,    98.70,2,    31.81,2,     2.03,2, -999.000,9, -999.000,9, -999.000,9,   -999.0,9,   -999.0,9,  0.189580356
  09AR20011029,  SR03,    98,  1,     13,2,20011128,-65.7673, 142.9717, 1649,    499.6,   0.3150,  34.6560,2,  34.6530,2,    219.7,2,    222.5,2,   102.60,2,    31.93,2,     2.03,2,    1.291,2,    0.641,2,    0.100,2,   2253.4,2,   2346.2,2,  0.293848038
  09AR20011029,  SR03,    98,  1,     12,2,20011128,-65.7673, 142.9717, 1649,    600.3,   0.4480,  34.6760,2,  34.6740,2,    218.0,2,    216.2,2,   107.80,2,    31.88,2,     2.05,2, -999.000,9, -999.000,9, -999.000,9,   -999.0,9,   -999.0,9,  0.421362844
  09AR20011029,  SR03,    98,  1,     11,2,20011128,-65.7673, 142.9717, 1649,    700.3,   0.3620,  34.6770,2,  34.6760,2,    216.9,2,    217.8,2,   111.90,2,    32.06,2,     2.06,2,    0.844,2,    0.410,2,    0.070,2,   2256.1,2,   2349.8,2,  0.330801194
  09AR20011029,  SR03,    98,  1,    310,2,20011128,-65.7673, 142.9717, 1649,    799.6,   0.3120,  34.6800,2,  34.6790,2,    218.3,2,    218.6,2,   113.60,2,    32.15,2,     2.07,2, -999.000,9, -999.000,9, -999.000,9,   -999.0,9,   -999.0,9,  0.276001478
  09AR20011029,  SR03,    98,  1,    709,2,20011128,-65.7673, 142.9717, 1649,    900.4,   0.2470,  34.6790,2,  34.6780,2,    223.7,2,    220.6,2,   114.70,2,    32.12,2,     2.07,2,    0.866,2,    0.425,2,    0.060,2,   2258.0,2,   2350.9,2,   0.20614593
  09AR20011029,  SR03,    98,  1,      8,2,20011128,-65.7673, 142.9717, 1649,   1000.3,   0.2190,  34.6810,2,  34.6790,2,    224.6,2,    221.0,2,   116.00,2,    32.10,2,     2.06,2, -999.000,9, -999.000,9, -999.000,9,   -999.0,9,   -999.0,9,  0.172962893
  09AR20011029,  SR03,    98,  1,      7,2,20011128,-65.7673, 142.9717, 1649,   1100.3,   0.1940,  34.6810,2,  34.6810,2,    224.9,2,    221.5,2,   117.10,2,    32.00,2,     2.08,2,    0.819,2,    0.397,2,    0.060,2,   2259.0,2,   2352.0,2,   0.14261776
  09AR20011029,  SR03,    98,  1,      6,2,20011128,-65.7673, 142.9717, 1649,   1210.3,  -0.0950,  34.6570,2,  34.6590,2,    239.8,2,    234.0,2,   108.90,2,    31.65,2,     2.07,2,    1.525,2,    0.764,2,    0.120,2,   2254.7,2,   2349.0,3, -0.149798761
  09AR20011029,  SR03,    98,  1,      5,2,20011128,-65.7673, 142.9717, 1649,   1300.7,   0.0100,  34.6740,2,  34.6740,2,    233.8,2,    228.1,2,   114.50,2,    31.72,2,     2.07,2,    1.164,2,    0.570,2,    0.090,2,   2257.1,2,   2349.9,2,-0.0510619071
  09AR20011029,  SR03,    98,  1,      4,2,20011128,-65.7673, 142.9717, 1649,   1401.3,  -0.0750,  34.6650,2,  34.6680,2,    234.9,2,    231.7,2,   111.60,2,    31.46,2,     2.06,2, -999.000,9, -999.000,9, -999.000,9,   -999.0,9,   -999.0,9, -0.141038351
  09AR20011029,  SR03,    98,  1,      3,2,20011128,-65.7673, 142.9717, 1649,   1501.1,  -0.3250,  34.6460,2,  34.6470,2,    237.7,2,    243.6,2,   103.40,2,    31.52,2,     2.04,2,    2.060,2,    1.041,2,    0.170,2,   2252.3,2,   2346.7,2, -0.393974781
  09AR20011029,  SR03,    98,  1,      2,2,20011128,-65.7673, 142.9717, 1649,   1601.4,  -0.4460,  34.6350,2,  34.6370,2,    246.1,2,    251.0,2,    99.90,2,    31.37,2,     2.04,2, -999.000,9, -999.000,9, -999.000,9,   -999.0,9,   -999.0,9, -0.519405551
  09AR20011029,  SR03,    98,  1,      1,2,20011128,-65.7673, 142.9717, 1649,   1689.4,  -0.4980,  34.6340,2,  34.6340,2,    250.7,2,    254.6,2,    98.10,2,    31.43,2,     2.03,2,    2.535,2,    1.299,2,    0.210,2,   2247.6,2,   2344.0,2, -0.576028175