BOTTLE,20081126PRINUNIVRMK
EXPOCODE,SECT_ID,STNNBR,CASTNO,BTLNBR,BTLNBR_FLAG_W,DATE,LATITUDE,LONGITUDE,DEPTH,CTDPRS,CTDTMP,CTDSAL,CTDSAL_FLAG_W,SALNTY,SALNTY_FLAG_W,CTDOXY,CTDOXY_FLAG_W,OXYGEN,OXYGEN_FLAG_W,SILCAT,SILCAT_FLAG_W,NITRAT,NITRAT_FLAG_W,PHSPHT,PHSPHT_FLAG_W,CFC-11,CFC-11_FLAG_W,CFC-12,CFC-12_FLAG_W,CFC113,CFC113_FLAG_W,TCARBN,TCARBN_FLAG_W,ALKALI,ALKALI_FLAG_W,THETA
,,,,,,,,,METERS,DBARS,ITS-90,PSS-78,,PSS-78,,UMOL/KG,,UMOL/KG,,UMOL/KG,,UMOL/KG,,UMOL/KG,,PMOL/KG,,PMOL/KG,,PMOL/KG,,UMOL/KG,,UMOL/KG,,DEGC
  09AR20011029,  SR03,    48,  1,     24,2,20011111,-53.1315, 142.1523, 3064,      9.2,   3.6620,  33.8120,2,  33.8130,2,    398.2,3,    329.1,2,    10.20,2,    25.06,2,     1.58,2, -999.000,9, -999.000,9, -999.000,9,   2126.5,6,   2270.2,2,   3.66140981
  09AR20011029,  SR03,    48,  1,     23,2,20011111,-53.1315, 142.1523, 3064,     51.7,   3.2830,  33.8170,2,  33.8170,2,    331.7,2,    331.4,2,    10.40,2,    24.91,2,     1.59,2, -999.000,9, -999.000,9, -999.000,9,   -999.0,9,   -999.0,9,   3.27982438
  09AR20011029,  SR03,    48,  1,     22,2,20011111,-53.1315, 142.1523, 3064,     98.1,   2.5670,  33.8360,2,  33.8350,2,    331.3,2,    328.9,2,    11.40,2,    25.68,2,     1.65,2, -999.000,9, -999.000,9, -999.000,9,   -999.0,9,   -999.0,9,   2.56150744
  09AR20011029,  SR03,    48,  1,     21,2,20011111,-53.1315, 142.1523, 3064,    149.9,   2.1970,  33.8180,2,  33.8170,2,    326.7,2,    329.9,2,    12.10,2,    26.38,2,     1.72,2, -999.000,9, -999.000,9, -999.000,9,   -999.0,9,   -999.0,9,   2.18900269
  09AR20011029,  SR03,    48,  1,     20,2,20011111,-53.1315, 142.1523, 3064,    199.7,   2.6350,  34.0220,4,  34.0280,2,    283.7,2,    282.7,2,    22.90,2,    28.98,2,     1.90,2, -999.000,9, -999.000,9, -999.000,9,   -999.0,9,   -999.0,9,   2.62347124
  09AR20011029,  SR03,    48,  1,     19,4,20011111,-53.1315, 142.1523, 3064,    249.5,   2.7780,  34.1180,2,  34.2860,0,    254.0,2,    219.3,4,    46.90,4,    32.92,4,     2.18,4, -999.000,9, -999.000,9, -999.000,9,   -999.0,9,   -999.0,9,   2.76316434
  09AR20011029,  SR03,    48,  1,    518,2,20011111,-53.1315, 142.1523, 3064,    300.1,   2.6670,  34.1790,2,  34.1770,2,    242.4,2,    244.7,2,    35.30,2,    31.67,2,     2.08,2, -999.000,9, -999.000,9, -999.000,9,   -999.0,9,   -999.0,9,   2.64927012
  09AR20011029,  SR03,    48,  1,     17,2,20011111,-53.1315, 142.1523, 3064,    400.9,   2.5700,  34.2840,2,  34.2840,2,    215.6,2,    216.0,2,    47.30,2,    33.66,2,     2.22,2, -999.000,9, -999.000,9, -999.000,9,   -999.0,9,   -999.0,9,   2.54622275
  09AR20011029,  SR03,    48,  1,     16,2,20011111,-53.1315, 142.1523, 3064,    499.9,   2.4740,  34.3630,3,  34.3620,2,    201.2,2,    198.6,2,    56.60,2,    34.70,2,     2.28,2, -999.000,9, -999.000,9, -999.000,9,   -999.0,9,   -999.0,9,    2.4442643
  09AR20011029,  SR03,    48,  1,     15,2,20011111,-53.1315, 142.1523, 3064,    599.9,   2.4640,  34.4670,2,  34.4660,2,    187.6,2,    184.7,2,    65.60,2,    34.76,2,     2.30,2, -999.000,9, -999.000,9, -999.000,9,   -999.0,9,   -999.0,9,   2.42776465
  09AR20011029,  SR03,    48,  1,     14,2,20011111,-53.1315, 142.1523, 3064,    700.0,   2.4150,  34.5210,2,  34.5190,2,    183.4,2,    180.1,2,    69.90,2,    34.65,2,     2.25,2, -999.000,9, -999.000,9, -999.000,9,   -999.0,9,   -999.0,9,   2.37235769
  09AR20011029,  SR03,    48,  1,     13,2,20011111,-53.1315, 142.1523, 3064,    799.3,   2.4160,  34.5720,2,  34.5730,2,    178.2,2,    178.2,2,    72.40,2,    34.02,2,     2.26,2, -999.000,9, -999.000,9, -999.000,9,   -999.0,9,   -999.0,9,   2.36658331
  09AR20011029,  SR03,    48,  1,     12,2,20011111,-53.1315, 142.1523, 3064,    904.8,   2.3750,  34.6190,2,  34.6190,2,    171.6,2,    178.9,2,    75.70,2,    33.32,2,     2.22,2, -999.000,9, -999.000,9, -999.000,9,   -999.0,9,   -999.0,9,   2.31851183
  09AR20011029,  SR03,    48,  1,     11,2,20011111,-53.1315, 142.1523, 3064,   1000.3,   2.3190,  34.6500,2,  34.6510,2,    184.2,2,    180.6,2,    76.70,2,    32.85,2,     2.18,2, -999.000,9, -999.000,9, -999.000,9,   -999.0,9,   -999.0,9,   2.25616746
  09AR20011029,  SR03,    48,  1,     10,2,20011111,-53.1315, 142.1523, 3064,   1100.7,   2.2830,  34.6850,2,  34.6840,2,    183.1,2,    185.4,2,    78.20,2,    32.24,2,     2.13,2, -999.000,9, -999.000,9, -999.000,9,   -999.0,9,   -999.0,9,   2.21322238
  09AR20011029,  SR03,    48,  1,      9,2,20011111,-53.1315, 142.1523, 3064,   1299.4,   2.1580,  34.7230,2,  34.7230,2,    190.7,2,    191.1,2,    80.80,2,    31.29,2,     2.06,2, -999.000,9, -999.000,9, -999.000,9,   -999.0,9,   -999.0,9,   2.07474423
  09AR20011029,  SR03,    48,  1,      8,2,20011111,-53.1315, 142.1523, 3064,   1499.4,   2.0250,  34.7420,2,  34.7430,2,    195.2,2,    194.9,2,    84.30,2,    30.62,2,     2.03,2, -999.000,9, -999.000,9, -999.000,9,   -999.0,9,   -999.0,9,   1.92803837
  09AR20011029,  SR03,    48,  1,      7,2,20011111,-53.1315, 142.1523, 3064,   1698.7,   1.8500,  34.7480,2,  34.7490,2,    199.5,2,    199.0,2,    90.00,2,    30.89,2,     2.03,2, -999.000,9, -999.000,9, -999.000,9,   -999.0,9,   -999.0,9,   1.73973882
  09AR20011029,  SR03,    48,  1,      6,2,20011111,-53.1315, 142.1523, 3064,   1899.1,   1.6550,  34.7460,2,  34.7470,2,    202.5,2,    201.5,2,    95.90,2,    31.21,2,     2.03,2, -999.000,9, -999.000,9, -999.000,9,   -999.0,9,   -999.0,9,   1.53156183
  09AR20011029,  SR03,    48,  1,      5,2,20011111,-53.1315, 142.1523, 3064,   2201.5,   1.3660,  34.7360,2,  34.7370,2,    205.0,2,    207.4,2,   105.10,2,    31.41,2,     2.06,2, -999.000,9, -999.000,9, -999.000,9,   -999.0,9,   -999.0,9,   1.22251995
  09AR20011029,  SR03,    48,  1,      4,2,20011111,-53.1315, 142.1523, 3064,   2500.6,   1.0830,  34.7230,2,  34.7240,2,    210.2,2,    209.7,2,   115.90,2,    32.04,2,     2.11,2, -999.000,9, -999.000,9, -999.000,9,   -999.0,9,   -999.0,9,  0.919515709
  09AR20011029,  SR03,    48,  1,      3,2,20011111,-53.1315, 142.1523, 3064,   2801.0,   0.9870,  34.7190,2,  34.7180,2,    210.3,2,    209.3,2,   118.80,2,    31.97,2,     2.12,2, -999.000,9, -999.000,9, -999.000,9,   -999.0,9,   -999.0,9,  0.799291759
  09AR20011029,  SR03,    48,  1,      2,2,20011111,-53.1315, 142.1523, 3064,   3051.9,   0.9630,  34.7160,2,  34.7160,2,    212.1,2,    211.3,2,   119.80,2,    32.03,2,     2.12,2, -999.000,9, -999.000,9, -999.000,9,   -999.0,9,   -999.0,9,  0.753057686
  09AR20011029,  SR03,    48,  1,      1,2,20011111,-53.1315, 142.1523, 3064,   3176.5,   0.9590,  34.7150,2,  34.7150,2,    211.6,2,    211.2,2,    10.30,4,    24.79,4,     1.60,4, -999.000,9, -999.000,9, -999.000,9,   -999.0,9,   -999.0,9,  0.737521586
  09AR20011029,  SR03,    49,  1,     24,2,20011112,-53.4287, 141.9518, 2775,      6.4,   3.4200,  33.7960,3,  33.7950,2,    387.8,3,    331.2,2,    10.30,2,    25.24,2,     1.56,2,    5.832,2,    2.967,2,    0.550,2,   2127.1,6,   -999.0,9,   3.41960235
  09AR20011029,  SR03,    49,  1,     23,2,20011112,-53.4287, 141.9518, 2775,     25.4,   3.4150,  33.7950,3,  33.7950,2,    315.4,2,    331.2,2,    10.20,2,    25.23,2,     1.58,2,    5.833,2,    2.979,2,    0.530,2,   2128.3,2,   2270.0,6,   3.41341896
  09AR20011029,  SR03,    49,  1,     22,2,20011112,-53.4287, 141.9518, 2775,     50.2,   3.3080,  33.7960,2,  33.7950,2,    334.9,2,    331.5,2,    10.30,2,    25.22,2,     1.61,2,    5.620,6,    2.977,6,    0.520,6,   2127.6,2,   2270.8,2,   3.30490885
  09AR20011029,  SR03,    49,  1,     21,2,20011112,-53.4287, 141.9518, 2775,    100.9,   2.3130,  33.8100,2,  33.8100,2,    334.5,2,    331.4,2,    11.20,2,    25.84,2,     1.64,2,    5.761,2,    2.970,2,    0.520,2,   2133.4,2,   2271.4,2,   2.30756345
  09AR20011029,  SR03,    49,  1,     20,2,20011112,-53.4287, 141.9518, 2775,    150.2,   2.1850,  33.8290,2,  33.8240,2,    328.6,2,    324.7,2,    12.70,2,    26.53,2,     1.69,2,    5.731,2,    2.936,2,    0.520,2,   2138.7,2,   2271.6,2,   2.17699926
  09AR20011029,  SR03,    49,  1,     19,2,20011112,-53.4287, 141.9518, 2775,    201.3,   2.2130,  33.9870,4,-999.0000,9,    291.2,2,   -999.0,9,  -999.00,9,  -999.00,9,  -999.00,9, -999.000,9, -999.000,9, -999.000,9,   2229.2,4,   2306.2,4,         -999
  09AR20011029,  SR03,    49,  1,    518,2,20011112,-53.4287, 141.9518, 2775,    251.5,   2.4690,  34.1340,2,  34.1320,2,    254.1,2,    256.6,2,    32.20,2,    31.42,2,     2.01,2,    3.923,2,    1.963,2,    0.320,2,   2189.6,2,   2287.6,2,   2.45466696
  09AR20011029,  SR03,    49,  1,     17,2,20011112,-53.4287, 141.9518, 2775,    301.1,   2.5960,  34.2150,2,  34.2140,2,    230.8,2,    233.5,2,    39.20,2,    32.64,2,     2.10,2,    3.062,2,    1.525,2,    0.250,2,   2202.0,2,   2295.1,2,   2.57836229
  09AR20011029,  SR03,    49,  1,     16,2,20011112,-53.4287, 141.9518, 2775,    351.1,   2.5690,  34.2690,2,  34.2640,2,    214.8,2,    220.3,2,    44.50,2,    33.48,2,     2.17,2,    2.568,2,    1.254,2,    0.200,2,   2213.4,2,   2299.9,2,   2.54833501
  09AR20011029,  SR03,    49,  1,     15,2,20011112,-53.4287, 141.9518, 2775,    401.5,   2.5200,  34.3140,2,  34.3110,2,    205.9,2,    208.8,2,    50.00,2,    34.00,2,     2.23,2,    2.131,2,    1.031,2,    0.160,2,   2221.4,2,   2307.6,2,   2.49632834
  09AR20011029,  SR03,    49,  1,     14,2,20011112,-53.4287, 141.9518, 2775,    500.0,   2.4450,  34.3980,2,  34.3960,2,    191.3,2,    193.4,2,    58.40,2,    34.77,2,     2.32,2,    1.501,2,    0.727,2,    0.110,2,   2236.4,2,   2315.7,2,   2.41534484
  09AR20011029,  SR03,    49,  1,     13,2,20011112,-53.4287, 141.9518, 2775,    599.6,   2.3930,  34.4650,2,  34.4630,2,    186.8,2,    183.5,2,    65.40,2,    34.98,2,     2.27,2,    1.092,2,    0.528,2,    0.080,2,   2244.3,2,   2321.0,6,   2.35712891
  09AR20011029,  SR03,    49,  1,     12,2,20011112,-53.4287, 141.9518, 2775,    701.4,   2.3680,  34.5280,2,  34.5280,2,    183.7,2,    179.1,2,    70.00,2,    34.72,2,     2.27,2,    0.756,2,    0.358,2,    0.050,2,   2250.3,6,   2326.3,2,   2.32551676
  09AR20011029,  SR03,    49,  1,     11,2,20011112,-53.4287, 141.9518, 2775,    800.3,   2.3840,  34.5870,2,  34.5850,2,    182.9,2,    178.5,2,    72.60,2,    33.98,2,     2.24,2,    0.471,2,    0.234,2,    0.030,2,   2251.5,2,   2333.5,2,   2.33470194
  09AR20011029,  SR03,    49,  1,     10,2,20011112,-53.4287, 141.9518, 2775,    999.4,   2.2610,  34.6630,2,  34.6620,2,    184.5,2,    180.7,2,    77.50,2,    32.95,2,     2.15,2,    0.290,2,    0.140,2,    0.020,2,   2252.3,2,   2337.8,2,   2.19866986
  09AR20011029,  SR03,    49,  1,      9,2,20011112,-53.4287, 141.9518, 2775,   1200.5,   2.1840,  34.7150,2,  34.7150,2,    188.8,2,    188.7,2,    79.40,2,    31.66,2,     2.07,2,    0.153,2,    0.072,2,    0.000,2,   2249.5,2,   2342.3,2,   2.10780364
  09AR20011029,  SR03,    49,  1,      8,2,20011112,-53.4287, 141.9518, 2775,   1400.8,   2.0510,  34.7380,2,  34.7370,2,    192.1,2,    191.7,2,    85.20,2,    31.20,2,     2.04,2,    0.072,2,    0.034,2,    0.000,2,   2250.6,2,   2350.5,2,   1.96124757
  09AR20011029,  SR03,    49,  1,      7,2,20011112,-53.4287, 141.9518, 2775,   1600.8,   1.8790,  34.7460,2,  34.7480,2,    197.6,2,    198.3,2,    87.60,2,    30.73,2,     2.01,2,    0.087,2,    0.048,2,    0.000,2,   2247.3,2,   2350.3,2,   1.77598533
  09AR20011029,  SR03,    49,  1,      6,2,20011112,-53.4287, 141.9518, 2775,   1802.2,   1.7190,  34.7470,2,  34.7480,2,    199.9,2,    200.5,2,    92.50,2,    30.88,2,     2.01,2,    0.081,2,    0.041,2,    0.000,2,   2249.4,2,   2351.3,2,   1.60235924
  09AR20011029,  SR03,    49,  1,      5,2,20011112,-53.4287, 141.9518, 2775,   2000.0,   1.5620,  34.7430,2,  34.7440,2,    201.1,2,    202.9,2,    97.30,2,    30.97,2,     2.03,2,    0.048,2,    0.037,2,    0.010,2,   2252.3,2,   2353.5,2,   1.43183609
  09AR20011029,  SR03,    49,  1,      4,2,20011112,-53.4287, 141.9518, 2775,   2201.7,   1.3790,  34.7360,2,  34.7370,2,    204.0,2,    205.1,2,   103.10,2,    31.31,2,     2.04,2,    0.074,2,    0.039,2,    0.000,2,   2256.7,2,   2356.6,2,   1.23528572
  09AR20011029,  SR03,    49,  1,      3,2,20011112,-53.4287, 141.9518, 2775,   2400.1,   1.1910,  34.7280,2,  34.7290,2,    205.7,2,    207.1,2,   109.20,2,    31.65,2,     2.08,2,    0.056,2,    0.039,2,    0.010,2,   2256.7,2,   2359.3,2,   1.03401768
  09AR20011029,  SR03,    49,  1,      2,2,20011112,-53.4287, 141.9518, 2775,   2601.4,   1.0250,  34.7200,2,  34.7210,2,    207.4,2,    208.4,2,   115.50,2,    32.07,2,     2.11,2,    0.077,2,    0.039,2,    0.000,2,   2260.9,2,   2362.6,6,    0.8540013
  09AR20011029,  SR03,    49,  1,      1,2,20011112,-53.4287, 141.9518, 2775,   2846.5,   0.9200,  34.7140,2,  34.7150,2,    209.9,2,    210.0,2,   118.60,2,    32.13,2,     2.12,2,    0.098,2,    0.050,2,    0.000,2,   2260.3,6,   2361.5,2,  0.729662888
  09AR20011029,  SR03,    50,  1,     23,2,20011113,-53.7385, 141.8422, 2850,      5.4,   3.1710,  33.7940,2,-999.0000,9,   -999.0,5,   -999.0,9,  -999.00,9,  -999.00,9,  -999.00,9, -999.000,9, -999.000,9, -999.000,9,   -999.0,9,   -999.0,9,   3.17067549
  09AR20011029,  SR03,    50,  1,     24,2,20011113,-53.7385, 141.8422, 2850,      5.5,   3.1670,  33.7940,2,  33.7950,2,   -999.0,5,   -999.0,9,    10.50,2,    25.37,2,     1.57,2, -999.000,9, -999.000,9, -999.000,9,   -999.0,9,   -999.0,9,   3.16666964
  09AR20011029,  SR03,    50,  1,     22,2,20011113,-53.7385, 141.8422, 2850,      5.5,   3.1710,  33.7940,2,-999.0000,9,   -999.0,5,   -999.0,9,  -999.00,9,  -999.00,9,  -999.00,9, -999.000,9, -999.000,9, -999.000,9,   -999.0,9,   -999.0,9,   3.17066947
  09AR20011029,  SR03,    50,  1,     21,2,20011113,-53.7385, 141.8422, 2850,      6.1,   3.1750,  33.7930,2,-999.0000,9,   -999.0,5,   -999.0,9,  -999.00,9,  -999.00,9,  -999.00,9, -999.000,9, -999.000,9, -999.000,9,   -999.0,9,   -999.0,9,    3.1746332
  09AR20011029,  SR03,    50,  1,     20,2,20011113,-53.7385, 141.8422, 2850,     24.7,   3.0060,  33.8010,2,  33.8020,2,   -999.0,5,   -999.0,9,    10.50,2,    25.39,2,     1.60,2, -999.000,9, -999.000,9, -999.000,9,   -999.0,9,   -999.0,9,    3.0045447
  09AR20011029,  SR03,    50,  1,     19,4,20011113,-53.7385, 141.8422, 2850,     51.0,   2.9830,  33.8020,2,  33.8020,0,   -999.0,5,   -999.0,9,    10.50,4,    25.26,4,     1.60,4, -999.000,9, -999.000,9, -999.000,9,   -999.0,9,   -999.0,9,    2.9799937
  09AR20011029,  SR03,    50,  1,    518,2,20011113,-53.7385, 141.8422, 2850,     51.0,   2.9830,  33.8020,2,-999.0000,9,   -999.0,5,   -999.0,9,  -999.00,9,  -999.00,9,  -999.00,9, -999.000,9, -999.000,9, -999.000,9,   -999.0,9,   -999.0,9,    2.9799937
  09AR20011029,  SR03,    50,  1,     17,2,20011113,-53.7385, 141.8422, 2850,     69.2,   2.7380,  33.8030,2,  33.8030,2,   -999.0,5,   -999.0,9,    10.70,2,    25.44,2,     1.61,2, -999.000,9, -999.000,9, -999.000,9,   -999.0,9,   -999.0,9,   2.73404906
  09AR20011029,  SR03,    50,  1,     16,2,20011113,-53.7385, 141.8422, 2850,     89.5,   2.6690,  33.8030,2,  33.8030,2,   -999.0,5,   -999.0,9,    10.90,2,    25.63,2,     1.61,2, -999.000,9, -999.000,9, -999.000,9,   -999.0,9,   -999.0,9,   2.66392559
  09AR20011029,  SR03,    50,  1,     15,2,20011113,-53.7385, 141.8422, 2850,    100.6,   2.6150,  33.8030,3,  33.8030,2,   -999.0,5,   -999.0,9,    11.00,2,    25.58,2,     1.62,2, -999.000,9, -999.000,9, -999.000,9,   -999.0,9,   -999.0,9,    2.6093315
  09AR20011029,  SR03,    50,  1,     14,2,20011113,-53.7385, 141.8422, 2850,    149.4,   1.9820,  33.8140,2,  33.8150,2,   -999.0,5,   -999.0,9,    12.50,2,    26.29,2,     1.69,2, -999.000,9, -999.000,9, -999.000,9,   -999.0,9,   -999.0,9,   1.97429541
  09AR20011029,  SR03,    50,  1,     13,2,20011113,-53.7385, 141.8422, 2850,    199.0,   2.3740,  34.0500,3,  34.0440,2,   -999.0,5,   -999.0,9,    25.40,2,    29.99,2,     1.93,2, -999.000,9, -999.000,9, -999.000,9,   -999.0,9,   -999.0,9,   2.36293136
  09AR20011029,  SR03,    50,  1,     12,2,20011113,-53.7385, 141.8422, 2850,    250.3,   2.5080,  34.1560,2,  34.1560,2,   -999.0,5,   -999.0,9,    34.00,2,    31.76,2,     2.05,2, -999.000,9, -999.000,9, -999.000,9,   -999.0,9,   -999.0,9,   2.49364766
  09AR20011029,  SR03,    50,  1,     11,2,20011113,-53.7385, 141.8422, 2850,    299.6,   2.4700,  34.2150,2,  34.2130,2,   -999.0,5,   -999.0,9,    40.10,2,    32.82,2,     2.13,2, -999.000,9, -999.000,9, -999.000,9,   -999.0,9,   -999.0,9,   2.45276098
  09AR20011029,  SR03,    50,  1,     10,2,20011113,-53.7385, 141.8422, 2850,    350.2,   2.4980,  34.2680,2,  34.2680,2,   -999.0,5,   -999.0,9,    46.10,2,    33.51,2,     2.19,2, -999.000,9, -999.000,9, -999.000,9,   -999.0,9,   -999.0,9,   2.47758955
  09AR20011029,  SR03,    50,  1,      9,2,20011113,-53.7385, 141.8422, 2850,    401.1,   2.4540,  34.3130,2,  34.3100,2,   -999.0,5,   -999.0,9,    50.50,2,    33.91,2,     2.23,2, -999.000,9, -999.000,9, -999.000,9,   -999.0,9,   -999.0,9,   2.43056808
  09AR20011029,  SR03,    50,  1,      8,2,20011113,-53.7385, 141.8422, 2850,    450.6,   2.4210,  34.3580,2,  34.3570,2,   -999.0,5,   -999.0,9,    55.60,2,    34.55,2,     2.28,2, -999.000,9, -999.000,9, -999.000,9,   -999.0,9,   -999.0,9,   2.39457569
  09AR20011029,  SR03,    50,  1,      7,2,20011113,-53.7385, 141.8422, 2850,    498.7,   2.4400,  34.4060,2,  34.4060,2,   -999.0,5,   -999.0,9,    59.50,2,    34.86,2,     2.28,2, -999.000,9, -999.000,9, -999.000,9,   -999.0,9,   -999.0,9,   2.41043857
  09AR20011029,  SR03,    50,  1,      6,2,20011113,-53.7385, 141.8422, 2850,    600.5,   2.4270,  34.4860,2,  34.4850,2,   -999.0,5,   -999.0,9,    66.10,2,    34.61,2,     2.29,2, -999.000,9, -999.000,9, -999.000,9,   -999.0,9,   -999.0,9,   2.39088364
  09AR20011029,  SR03,    50,  1,      5,2,20011113,-53.7385, 141.8422, 2850,    800.2,   2.3370,  34.6080,2,  34.6100,2,   -999.0,5,   -999.0,9,    73.10,2,    33.75,2,     2.22,2, -999.000,9, -999.000,9, -999.000,9,   -999.0,9,   -999.0,9,   2.28797309
  09AR20011029,  SR03,    50,  1,      1,2,20011113,-53.7385, 141.8422, 2850,   1000.7,   2.2820,  34.6650,2,-999.0000,9,   -999.0,5,   -999.0,9,  -999.00,9,  -999.00,9,  -999.00,9, -999.000,9, -999.000,9, -999.000,9,   -999.0,9,   -999.0,9,    2.2194071
  09AR20011029,  SR03,    50,  1,      2,2,20011113,-53.7385, 141.8422, 2850,   1002.9,   2.2800,  34.6670,2,-999.0000,9,   -999.0,5,   -999.0,9,  -999.00,9,  -999.00,9,  -999.00,9, -999.000,9, -999.000,9, -999.000,9,   -999.0,9,   -999.0,9,   2.21726407
  09AR20011029,  SR03,    50,  1,      3,2,20011113,-53.7385, 141.8422, 2850,   1003.2,   2.2800,  34.6670,2,-999.0000,9,   -999.0,5,   -999.0,9,  -999.00,9,  -999.00,9,  -999.00,9, -999.000,9, -999.000,9, -999.000,9,   -999.0,9,   -999.0,9,   2.21724288
  09AR20011029,  SR03,    50,  1,      4,2,20011113,-53.7385, 141.8422, 2850,   1003.4,   2.2810,  34.6660,2,  34.6680,2,   -999.0,5,   -999.0,9,    77.00,2,    32.74,2,     2.15,2, -999.000,9, -999.000,9, -999.000,9,   -999.0,9,   -999.0,9,   2.21821908