BOTTLE,20081126PRINUNIVRMK
EXPOCODE,SECT_ID,STNNBR,CASTNO,BTLNBR,BTLNBR_FLAG_W,DATE,LATITUDE,LONGITUDE,DEPTH,CTDPRS,CTDTMP,CTDSAL,CTDSAL_FLAG_W,SALNTY,SALNTY_FLAG_W,CTDOXY,CTDOXY_FLAG_W,OXYGEN,OXYGEN_FLAG_W,SILCAT,SILCAT_FLAG_W,NITRAT,NITRAT_FLAG_W,PHSPHT,PHSPHT_FLAG_W,CFC-11,CFC-11_FLAG_W,CFC-12,CFC-12_FLAG_W,CFC113,CFC113_FLAG_W,TCARBN,TCARBN_FLAG_W,ALKALI,ALKALI_FLAG_W,THETA
,,,,,,,,,METERS,DBARS,ITS-90,PSS-78,,PSS-78,,UMOL/KG,,UMOL/KG,,UMOL/KG,,UMOL/KG,,UMOL/KG,,PMOL/KG,,PMOL/KG,,PMOL/KG,,UMOL/KG,,UMOL/KG,,DEGC
  09AR20011029,  SR03,     7,  1,     24,2,20011031,-45.2190, 145.8390, 2808,     10.4,  13.3550,  35.3410,2,  35.3430,2,    266.6,3,    258.3,2,     1.80,2,     4.24,2,     0.34,2,    3.167,3,    1.843,3,    0.770,4,   2075.7,2,   2320.7,2,   13.3535486
  09AR20011029,  SR03,     7,  1,     23,2,20011031,-45.2190, 145.8390, 2808,     29.6,  13.3630,  35.3420,4,  35.3430,2,    252.8,2,    258.2,2,     1.80,2,     4.22,2,     0.34,2,    3.144,3,    1.827,3,    0.800,4,   2075.2,2,   2321.7,2,   13.3588646
  09AR20011029,  SR03,     7,  1,     22,2,20011031,-45.2190, 145.8390, 2808,     60.9,  13.3620,  35.3430,4,  35.3430,2,    260.0,2,    258.1,2,     1.80,2,     4.60,2,     0.36,2,    3.184,3,    1.849,3,    0.730,4,   2075.0,2,   2322.9,2,   13.3534824
  09AR20011029,  SR03,     7,  1,     21,2,20011031,-45.2190, 145.8390, 2808,     91.3,  13.2450,  35.3200,4,  35.3190,2,    258.1,2,    257.1,2,     2.10,2,     7.24,2,     0.50,2,    3.179,3,    1.843,3,    0.830,4,   2076.5,2,   2321.1,2,   13.2322945
  09AR20011029,  SR03,     7,  1,     20,2,20011031,-45.2190, 145.8390, 2808,    131.6,  12.5830,  35.2260,4,  35.2260,2,    262.1,2,    248.4,2,     1.40,2,     4.82,2,     0.34,2,    3.216,3,    1.833,3,    0.870,4,   2093.0,2,   2316.8,2,   12.5652897
  09AR20011029,  SR03,     7,  1,     19,2,20011031,-45.2190, 145.8390, 2808,    160.0,  12.3680,  35.1980,4,  35.2100,0,    248.8,2,    251.5,2,     2.10,2,     7.71,2,     0.53,2,    3.284,3,    1.883,3,    0.870,4,   2092.2,2,   2315.2,2,         -999
  09AR20011029,  SR03,     7,  1,    718,2,20011031,-45.2190, 145.8390, 2808,    200.9,  12.1850,  35.1740,3,  35.1760,2,    252.2,2,    254.4,2,     2.50,2,     9.34,2,     0.61,2,    3.306,6,    1.898,6,    0.820,4,   2092.8,2,   -999.0,9,   12.1584703
  09AR20011029,  SR03,     7,  1,     17,2,20011031,-45.2190, 145.8390, 2808,    254.2,  11.7440,  35.0860,3,  35.0890,2,    251.0,2,    249.1,2,     2.30,2,     9.42,2,     0.62,2,    3.298,3,    1.856,3, -999.000,5,   2099.9,2,   2310.5,2,   11.7111864
  09AR20011029,  SR03,     7,  1,     16,2,20011031,-45.2190, 145.8390, 2808,    298.9,  10.9680,  34.9340,3,  34.9380,2,    248.4,2,    253.4,2,     3.70,2,    14.86,2,     0.95,2, -999.000,9, -999.000,9, -999.000,9,   2104.1,2,   2305.3,2,    10.931065
  09AR20011029,  SR03,     7,  1,     15,2,20011031,-45.2190, 145.8390, 2808,    401.8,   9.3850,  34.6560,2,  34.6570,2,    253.8,2,    257.0,2,     5.60,2,    17.76,2,     1.11,2,    3.745,3,    2.093,3,    0.920,4,   2113.3,2,   2293.5,2,   9.33988366
  09AR20011029,  SR03,     7,  1,     14,2,20011031,-45.2190, 145.8390, 2808,    501.3,   9.1200,  34.6390,2,  34.6400,2,    233.9,2,    236.7,2,     6.80,2,    19.36,2,     1.22,2,    3.465,3,    1.948,3,    0.280,4,   2128.3,6,   2292.6,2,   9.06439241
  09AR20011029,  SR03,     7,  1,     13,2,20011031,-45.2190, 145.8390, 2808,    600.2,   8.6880,  34.5910,4,  34.5920,2,    234.6,2,    232.1,2,    10.40,2,    22.39,2,     1.42,2,    3.313,3,    1.767,3,    0.670,4,   2133.7,2,   2288.3,6,   8.62299809
  09AR20011029,  SR03,     7,  1,     12,2,20011031,-45.2190, 145.8390, 2808,    698.1,   8.1470,  34.5560,2,  34.5570,2,    210.4,2,    213.0,2,    15.50,2,    24.75,2,     1.57,2, -999.000,9, -999.000,9, -999.000,9,   -999.0,9,   -999.0,9,   8.07377752
  09AR20011029,  SR03,     7,  1,     11,2,20011031,-45.2190, 145.8390, 2808,    850.9,   7.0790,  34.4870,2,  34.5080,0,    194.4,2,    203.5,2,     9.50,4,    12.72,4,     0.80,4, -999.000,9, -999.000,9, -999.000,9,   -999.0,9,   -999.0,9,   6.99571654
  09AR20011029,  SR03,     7,  1,     10,2,20011031,-45.2190, 145.8390, 2808,   1000.6,   5.9700,  34.4550,4,-999.0000,9,    185.5,2,   -999.0,9,  -999.00,9,  -999.00,9,  -999.00,9, -999.000,9, -999.000,9, -999.000,9,   -999.0,9,   -999.0,9,         -999
  09AR20011029,  SR03,     7,  1,      9,2,20011031,-45.2190, 145.8390, 2808,   1201.0,   4.2190,  34.3970,2,  34.3990,2,    187.4,2,    192.6,2,    43.50,2,    31.77,2,     2.07,2, -999.000,9, -999.000,9, -999.000,9,   -999.0,9,   -999.0,9,   4.12451539
  09AR20011029,  SR03,     7,  1,      8,2,20011031,-45.2190, 145.8390, 2808,   1400.1,   3.4570,  34.5020,2,  34.5030,2,    171.6,2,    168.2,2,    43.50,4,    19.19,4,     1.51,4, -999.000,9, -999.000,9, -999.000,9,   -999.0,9,   -999.0,9,   3.35267081
  09AR20011029,  SR03,     7,  1,      7,2,20011031,-45.2190, 145.8390, 2808,   1599.4,   2.8020,  34.5710,2,  34.5710,2,    168.9,2,    167.2,2,    50.60,4,    21.00,4,     1.77,4, -999.000,9, -999.000,9, -999.000,9,   -999.0,9,   -999.0,9,   2.68821562
  09AR20011029,  SR03,     7,  1,      6,2,20011031,-45.2190, 145.8390, 2808,   1802.1,   2.5950,  34.6130,2,  34.6140,2,    170.1,2,    169.3,2,    79.80,2,    33.83,2,     2.25,2, -999.000,9, -999.000,9, -999.000,9,   -999.0,9,   -999.0,9,   2.46670138
  09AR20011029,  SR03,     7,  1,      5,2,20011031,-45.2190, 145.8390, 2808,   2000.4,   2.4410,  34.6540,3,  34.6550,2,   -999.0,5,    171.0,2,    86.30,2,    33.47,2,     2.21,2, -999.000,9, -999.000,9, -999.000,9,   -999.0,9,   -999.0,9,   2.29773691
  09AR20011029,  SR03,     7,  1,      4,2,20011031,-45.2190, 145.8390, 2808,   2201.3,   2.3010,  34.6890,2,  34.6910,2,    176.7,2,    176.5,2,    84.70,2,    32.84,2,     2.15,2, -999.000,9, -999.000,9, -999.000,9,   -999.0,9,   -999.0,9,   2.14215395
  09AR20011029,  SR03,     7,  1,      3,2,20011031,-45.2190, 145.8390, 2808,   2401.9,   2.1900,  34.7180,4,  34.7180,2,    179.2,2,    180.1,2,    87.00,2,    32.22,2,     2.12,2, -999.000,9, -999.000,9, -999.000,9,   -999.0,9,   -999.0,9,   2.01489315
  09AR20011029,  SR03,     7,  1,      2,2,20011031,-45.2190, 145.8390, 2808,   2603.5,   1.9530,  34.7270,2,  34.7270,2,    183.9,2,    184.6,2,    95.60,2,    32.13,2,     2.11,2, -999.000,9, -999.000,9, -999.000,9,   -999.0,9,   -999.0,9,     1.763753
  09AR20011029,  SR03,     7,  1,      1,2,20011031,-45.2190, 145.8390, 2808,   2899.0,   1.7400,  34.7340,3,  34.7340,2,    187.4,2,    188.6,2,   103.80,2,    32.15,2,     2.12,2, -999.000,9, -999.000,9, -999.000,9,   -999.0,9,   -999.0,9,   1.52729532
  09AR20011029,  SR03,     8,  1,     24,2,20011101,-45.7118, 145.6485, 2125,      6.4,  13.2560,  35.3280,2,-999.0000,9,    281.8,3,   -999.0,9,  -999.00,9,  -999.00,9,  -999.00,9,    3.179,3,    1.856,3,    0.790,4,   2077.4,6,   2320.0,6,   13.2551115
  09AR20011029,  SR03,     8,  1,     23,2,20011101,-45.7118, 145.6485, 2125,      6.4,  13.2590,  35.3270,4,  35.3300,2,    281.8,3,    258.1,2,     2.00,2,     4.58,2,     0.34,2, -999.000,9, -999.000,9, -999.000,9,   -999.0,9,   -999.0,9,   13.2581114
  09AR20011029,  SR03,     8,  1,     22,2,20011101,-45.7118, 145.6485, 2125,     15.4,  13.2640,  35.3290,4,-999.0000,9,    260.9,3,   -999.0,9,  -999.00,9,  -999.00,9,  -999.00,9,    3.163,3,    1.825,3,    0.980,4,   2076.8,2,   2319.9,2,         -999
  09AR20011029,  SR03,     8,  1,     21,2,20011101,-45.7118, 145.6485, 2125,     15.7,  13.2630,  35.3290,2,  35.3310,2,    260.9,3,    257.6,2,     2.00,2,     4.58,2,     0.33,2, -999.000,9, -999.000,9, -999.000,9,   -999.0,9,   -999.0,9,   13.2608189
  09AR20011029,  SR03,     8,  1,     19,2,20011101,-45.7118, 145.6485, 2125,     30.7,  13.2570,  35.3280,4,  35.3300,2,    256.1,2,    257.9,2,     2.00,2,     4.61,2,     0.33,2, -999.000,9, -999.000,9, -999.000,9,   2077.1,2,   2320.5,2,   13.2527341
  09AR20011029,  SR03,     8,  1,     20,2,20011101,-45.7118, 145.6485, 2125,     30.9,  13.2570,  35.3280,2,-999.0000,9,    256.1,2,   -999.0,9,  -999.00,9,  -999.00,9,  -999.00,9,    3.187,3,    1.862,3,    0.820,4,   -999.0,9,   -999.0,9,   13.2527064
  09AR20011029,  SR03,     8,  1,    718,2,20011101,-45.7118, 145.6485, 2125,     47.2,  13.2540,  35.3280,3,-999.0000,9,    255.3,2,   -999.0,9,  -999.00,9,  -999.00,9,  -999.00,9,    3.167,3,    1.839,3,    0.960,4,   2077.4,2,   -999.0,9,         -999
  09AR20011029,  SR03,     8,  1,     17,2,20011101,-45.7118, 145.6485, 2125,     47.2,  13.2560,  35.3280,4,  35.3300,2,    255.3,2,    257.5,2,     2.00,2,     4.63,2,     0.35,2, -999.000,9, -999.000,9, -999.000,9,   -999.0,9,   -999.0,9,   13.2494378
  09AR20011029,  SR03,     8,  1,     16,2,20011101,-45.7118, 145.6485, 2125,     61.1,  13.2530,  35.3290,4,-999.0000,9,    258.3,2,   -999.0,9,  -999.00,9,  -999.00,9,  -999.00,9, -999.000,9, -999.000,9, -999.000,9,   -999.0,9,   -999.0,9,         -999
  09AR20011029,  SR03,     8,  1,     15,2,20011101,-45.7118, 145.6485, 2125,     61.3,  13.2570,  35.3250,4,  35.3290,2,    258.3,2,    257.5,2,     2.00,2,     4.64,2,     0.33,2, -999.000,9, -999.000,9, -999.000,9,   -999.0,9,   -999.0,9,   13.2484727
  09AR20011029,  SR03,     8,  1,     14,2,20011101,-45.7118, 145.6485, 2125,     75.9,  13.2550,  35.3280,2,-999.0000,9,    257.6,2,   -999.0,9,  -999.00,9,  -999.00,9,  -999.00,9,    3.184,3,    1.846,3,    0.480,4,   2077.5,2,   2321.1,2,   13.2444373
  09AR20011029,  SR03,     8,  1,     13,2,20011101,-45.7118, 145.6485, 2125,     76.9,  13.2550,  35.3270,2,  35.3290,2,    257.6,2,    257.5,2,     2.00,2,     4.66,2,     0.34,2, -999.000,9, -999.000,9, -999.000,9,   -999.0,9,   -999.0,9,   13.2442976
  09AR20011029,  SR03,     8,  1,     11,2,20011101,-45.7118, 145.6485, 2125,     90.8,  13.2570,  35.3280,2,  35.3290,2,    254.1,2,    257.2,2,     2.00,2,     4.65,2,     0.35,2, -999.000,9, -999.000,9, -999.000,9,   2078.2,2,   2321.1,2,   13.2443555
  09AR20011029,  SR03,     8,  1,     12,2,20011101,-45.7118, 145.6485, 2125,     91.2,  13.2540,  35.3280,4,-999.0000,9,    252.9,2,   -999.0,9,  -999.00,9,  -999.00,9,  -999.00,9,    3.168,3,    1.839,3,    0.970,4,   -999.0,9,   -999.0,9,         -999
  09AR20011029,  SR03,     8,  1,     10,2,20011101,-45.7118, 145.6485, 2125,    106.2,  13.2490,  35.3240,4,-999.0000,9,    257.7,2,   -999.0,9,  -999.00,9,  -999.00,9,  -999.00,9,    3.188,3,    1.836,3,    0.950,4,   -999.0,9,   -999.0,9,         -999
  09AR20011029,  SR03,     8,  1,      9,2,20011101,-45.7118, 145.6485, 2125,    106.5,  13.2480,  35.3250,4,  35.3270,2,    257.7,2,    257.2,2,     1.90,2,     4.71,2,     0.34,2, -999.000,9, -999.000,9, -999.000,9,   -999.0,9,   -999.0,9,   13.2331677
  09AR20011029,  SR03,     8,  1,      8,2,20011101,-45.7118, 145.6485, 2125,    120.5,  13.1450,  35.3090,2,-999.0000,9,    257.3,2,   -999.0,9,  -999.00,9,  -999.00,9,  -999.00,9,    3.197,3,    1.864,3,    0.950,4,   2080.7,2,   2318.9,2,   13.1282994
  09AR20011029,  SR03,     8,  1,      7,2,20011101,-45.7118, 145.6485, 2125,    120.6,  13.1600,  35.3110,2,  35.3120,2,    257.3,2,    255.4,2,     2.00,2,     4.98,2,     0.37,2, -999.000,9, -999.000,9, -999.000,9,   -999.0,9,   -999.0,9,   13.1432723
  09AR20011029,  SR03,     8,  1,      5,2,20011101,-45.7118, 145.6485, 2125,    150.0,  12.5380,  35.2190,4,  35.2270,2,    247.8,2,    247.6,2,     2.30,2,     7.18,2,     0.50,2, -999.000,9, -999.000,9, -999.000,9,   2093.0,2,   2316.1,2,   12.5178466
  09AR20011029,  SR03,     8,  1,      6,2,20011101,-45.7118, 145.6485, 2125,    150.4,  12.5790,  35.2250,4,-999.0000,9,    247.8,2,   -999.0,9,  -999.00,9,  -999.00,9,  -999.00,9,    3.217,3,    1.833,3,    0.750,4,   -999.0,9,   -999.0,9,         -999
  09AR20011029,  SR03,     8,  1,      4,2,20011101,-45.7118, 145.6485, 2125,    201.2,  12.3770,  35.2190,2,  35.2180,2,    257.9,2,    255.3,2,     2.30,2,     7.06,2,     0.48,2,    3.267,3,    1.868,3,    0.870,4,   2091.8,2,   2315.9,2,   12.3501452
  09AR20011029,  SR03,     8,  1,      3,2,20011101,-45.7118, 145.6485, 2125,    249.4,  12.2510,  35.1930,4,  35.1970,2,    255.6,2,    256.8,2,     2.20,2,     7.19,2,     0.49,2, -999.000,9, -999.000,9, -999.000,9,   -999.0,9,   -999.0,9,   12.2178777
  09AR20011029,  SR03,     8,  1,      2,2,20011101,-45.7118, 145.6485, 2125,    301.3,  11.3310,  35.0030,4,  35.0080,2,    249.8,2,    250.0,2,     3.00,2,    10.36,2,     0.66,2, -999.000,9, -999.000,9, -999.000,9,   -999.0,9,   -999.0,9,   11.2929506
  09AR20011029,  SR03,     8,  1,      1,2,20011101,-45.7118, 145.6485, 2125,    351.2,  10.5890,  34.8620,2,  34.8630,2,    246.4,2,    246.1,2,     3.50,2,    12.43,2,     0.80,2, -999.000,9, -999.000,9, -999.000,9,   -999.0,9,   -999.0,9,   10.5464935
  09AR20011029,  SR03,     9,  1,     24,2,20011101,-45.7462, 145.6682, 2788,      6.4,  13.3180,  35.3340,2,-999.0000,9,    265.2,3,   -999.0,9,  -999.00,9,  -999.00,9,  -999.00,9, -999.000,9, -999.000,9, -999.000,9,   -999.0,9,   -999.0,9,   13.3171087
  09AR20011029,  SR03,     9,  1,     23,2,20011101,-45.7462, 145.6682, 2788,     51.8,  13.2910,  35.3370,2,  35.3370,2,    261.8,2,    258.7,2,     1.70,2,     4.38,2,     0.37,2, -999.000,9, -999.000,9, -999.000,9,   2078.4,6,   2320.1,6,   13.2837838
  09AR20011029,  SR03,     9,  1,     22,2,20011101,-45.7462, 145.6682, 2788,    101.2,  13.2790,  35.3360,2,  35.3360,2,    255.3,2,    257.5,2,     1.70,2,     4.62,2,     0.37,2,    3.188,3,    1.845,3,    0.960,4,   2079.5,2,   2320.5,2,   13.2648853
  09AR20011029,  SR03,     9,  1,     21,2,20011101,-45.7462, 145.6682, 2788,    151.0,  12.5320,  35.2190,4,  35.2220,2,    246.0,2,    247.8,2,     2.00,2,     7.21,2,     0.51,2, -999.000,9, -999.000,9, -999.000,9,   2095.7,2,   2311.5,2,   12.5117189
  09AR20011029,  SR03,     9,  1,     20,2,20011101,-45.7462, 145.6682, 2788,    201.3,  11.9640,  35.1070,2,  35.1050,2,    245.6,2,    245.8,2,     2.40,2,     9.01,2,     0.61,2,    3.232,3,    1.835,3,    0.840,4,   2100.8,2,   2309.5,4,   11.9377528
  09AR20011029,  SR03,     9,  1,     19,4,20011101,-45.7462, 145.6682, 2788,    251.9,  11.6480,  35.0560,3,  34.8870,0,    259.7,2,    249.2,4,     3.20,4,    12.08,4,     0.79,4,    3.445,3,    1.928,3,    0.800,4,   2110.1,2,   2300.9,2,         -999
  09AR20011029,  SR03,     9,  1,    718,2,20011101,-45.7462, 145.6682, 2788,    300.8,  11.2470,  34.9870,2,  34.9890,2,    243.1,2,    245.7,2,     2.90,2,    10.90,2,     0.72,2,    3.315,3,    1.856,3,    0.870,4,   2107.3,2,   2304.8,2,   11.2092034
  09AR20011029,  SR03,     9,  1,     17,2,20011101,-45.7462, 145.6682, 2788,    401.1,   9.7080,  34.7130,3,  34.7120,2,    259.4,2,    257.7,2,     3.40,2,    13.85,2,     0.92,2,    3.662,3,    2.065,3,    0.690,4,   2112.8,2,   2294.1,2,   9.66198557
  09AR20011029,  SR03,     9,  1,     16,2,20011101,-45.7462, 145.6682, 2788,    501.7,   9.1880,  34.6350,2,  34.6340,2,    262.7,2,    248.7,2,     4.50,2,    16.24,2,     1.05,2,    3.711,3,    2.034,3,    0.910,4,   2122.9,2,   2293.2,2,   9.13210179
  09AR20011029,  SR03,     9,  1,     15,2,20011101,-45.7462, 145.6682, 2788,    603.2,   8.8880,  34.6070,2,  34.6070,2,    242.9,2,    245.8,2,     5.40,2,    17.40,2,     1.12,2,    3.608,3,    1.945,3,    0.870,4,   2127.2,2,   2290.0,2,   8.82176521
  09AR20011029,  SR03,     9,  1,     14,2,20011101,-45.7462, 145.6682, 2788,    701.6,   8.4570,  34.5770,2,  34.5760,2,    229.3,2,    224.5,2,     8.30,2,    20.52,2,     1.32,2,    2.917,3,    1.547,3,    0.660,4,   2141.3,2,   2289.3,2,   8.38177788
  09AR20011029,  SR03,     9,  1,     13,2,20011101,-45.7462, 145.6682, 2788,    802.3,   7.7310,  34.5110,2,  34.5130,2,    213.5,2,    214.4,2,    11.90,2,    22.93,2,     1.46,2,    2.358,3,    1.242,3,    0.710,4,   2152.6,2,   2290.5,2,   7.64882593
  09AR20011029,  SR03,     9,  1,     12,2,20011101,-45.7462, 145.6682, 2788,    899.4,   7.0120,  34.4800,2,  34.4820,2,    197.1,2,    200.1,2,    17.60,2,    25.58,2,     1.65,2,    1.498,3,    0.750,3,    0.410,4,   2168.5,6,   2291.7,2,     6.924135
  09AR20011029,  SR03,     9,  1,     11,2,20011101,-45.7462, 145.6682, 2788,   1000.6,   6.2850,  34.4540,3,  34.4550,2,    191.8,2,    194.0,2,    24.10,2,    27.66,2,     1.80,2,    1.005,3,    0.461,3,    0.380,4,   2180.3,2,   2298.1,2,   6.19202255
  09AR20011029,  SR03,     9,  1,     10,2,20011101,-45.7462, 145.6682, 2788,   1101.3,   5.4480,  34.4270,3,-999.0000,9,    189.8,2,   -999.0,9,  -999.00,9,  -999.00,9,  -999.00,9, -999.000,9, -999.000,9, -999.000,9,   -999.0,9,   -999.0,9,         -999
  09AR20011029,  SR03,     9,  1,      9,2,20011101,-45.7462, 145.6682, 2788,   1200.8,   4.8660,  34.4460,2,  34.4430,2,    182.0,2,    183.6,2,    41.00,2,    30.86,2,     2.03,2,    0.448,6,    0.209,6,    0.140,4,   2209.9,2,   2313.7,2,   4.76555212
  09AR20011029,  SR03,     9,  1,      8,2,20011101,-45.7462, 145.6682, 2788,   1301.6,   4.2130,  34.4690,3,  34.4700,2,    176.3,2,    175.0,2,    52.80,2,    32.22,2,     2.14,2,    0.267,3,    0.122,3,    0.430,4,   2229.1,2,   2327.2,2,   4.10954407
  09AR20011029,  SR03,     9,  1,      7,2,20011101,-45.7462, 145.6682, 2788,   1400.5,   3.6840,  34.4850,2,  34.4860,2,    176.0,2,    171.9,2,    61.50,2,    33.21,2,     2.21,2,    0.284,3,    0.129,3,    0.340,4,   2242.3,2,   2333.5,2,   3.57725149
  09AR20011029,  SR03,     9,  1,      6,2,20011101,-45.7462, 145.6682, 2788,   1600.8,   3.0290,  34.5280,2,  34.5300,2,    165.4,2,    169.7,2,    70.10,2,    34.03,2,     2.27,2,    0.276,3,    0.129,3,    0.150,4,   2256.1,2,   2342.5,2,   2.91243478
  09AR20011029,  SR03,     9,  1,      5,2,20011101,-45.7462, 145.6682, 2788,   1802.0,   2.6320,  34.6090,2,  34.6080,2,    169.5,2,    168.8,2,    77.50,2,    33.65,2,     2.24,2,    0.129,3,    0.063,3,    0.310,4,   2263.2,2,   2350.7,2,   2.50322121
  09AR20011029,  SR03,     9,  1,      4,2,20011101,-45.7462, 145.6682, 2788,   2001.5,   2.4300,  34.6580,2,  34.6580,2,    172.8,2,    172.1,2,    84.10,2,    33.16,2,     2.21,2,    0.053,3,    0.033,3,    0.350,4,   2264.7,2,   2356.3,2,   2.28679756
  09AR20011029,  SR03,     9,  1,      3,2,20011101,-45.7462, 145.6682, 2788,   2198.8,   2.2810,  34.6940,2,  34.6940,2,    179.5,2,    177.3,2,    85.90,2,    32.43,2,     2.15,2,    0.036,3,    0.018,3,    0.300,4,   2263.2,2,   2356.7,2,   2.12269553
  09AR20011029,  SR03,     9,  1,      2,2,20011101,-45.7462, 145.6682, 2788,   2506.5,   1.9970,  34.7300,2,  34.7300,2,    185.6,2,    184.5,2,    95.00,2,    31.83,2,     2.15,2,    0.014,3,    0.013,3,    0.320,4,   2267.4,2,   2359.2,2,   1.81582424
  09AR20011029,  SR03,     9,  1,      1,2,20011101,-45.7462, 145.6682, 2788,   2875.9,   1.6520,  34.7350,2,  34.7360,2,    190.1,2,    192.0,2,   104.00,2,    31.83,2,     2.11,2,    0.006,3,    0.004,3,    0.290,4,   2270.6,6,   2372.5,2,   1.44334697