BOTTLE,20081126PRINUNIVRMK
EXPOCODE,SECT_ID,STNNBR,CASTNO,BTLNBR,BTLNBR_FLAG_W,DATE,LATITUDE,LONGITUDE,DEPTH,CTDPRS,CTDTMP,CTDSAL,CTDSAL_FLAG_W,SALNTY,SALNTY_FLAG_W,CTDOXY,CTDOXY_FLAG_W,OXYGEN,OXYGEN_FLAG_W,SILCAT,SILCAT_FLAG_W,NITRAT,NITRAT_FLAG_W,PHSPHT,PHSPHT_FLAG_W,CFC-11,CFC-11_FLAG_W,CFC-12,CFC-12_FLAG_W,CFC113,CFC113_FLAG_W,TCARBN,TCARBN_FLAG_W,ALKALI,ALKALI_FLAG_W,THETA
,,,,,,,,,METERS,DBARS,ITS-90,PSS-78,,PSS-78,,UMOL/KG,,UMOL/KG,,UMOL/KG,,UMOL/KG,,UMOL/KG,,PMOL/KG,,PMOL/KG,,PMOL/KG,,UMOL/KG,,UMOL/KG,,DEGC
  09AR20011029,  SR03,   105,  1,     21,2,20011129,-66.5855, 144.2332,  801,     50.2,  -1.3340,  34.5120,2,  34.5140,2,   -999.0,5,   -999.0,9,  -999.00,9,  -999.00,9,  -999.00,9, -999.000,9, -999.000,9, -999.000,9,   -999.0,9,   -999.0,9,  -1.33519717
  09AR20011029,  SR03,   105,  1,     24,2,20011129,-66.5855, 144.2332,  801,     50.3,  -1.3370,  34.5110,2,-999.0000,9,   -999.0,5,   -999.0,9,  -999.00,9,  -999.00,9,  -999.00,9, -999.000,9, -999.000,9, -999.000,9,   -999.0,9,   -999.0,9,    -1.338198
  09AR20011029,  SR03,   105,  1,     23,2,20011129,-66.5855, 144.2332,  801,     50.3,  -1.3370,  34.5110,2,-999.0000,9,   -999.0,5,   -999.0,9,  -999.00,9,  -999.00,9,  -999.00,9, -999.000,9, -999.000,9, -999.000,9,   -999.0,9,   -999.0,9,    -1.338198
  09AR20011029,  SR03,   105,  1,     22,2,20011129,-66.5855, 144.2332,  801,     50.3,  -1.3390,  34.5110,2,  34.5120,2,   -999.0,5,   -999.0,9,  -999.00,9,  -999.00,9,  -999.00,9, -999.000,9, -999.000,9, -999.000,9,   -999.0,9,   -999.0,9,  -1.34019722
  09AR20011029,  SR03,   105,  1,     17,2,20011129,-66.5855, 144.2332,  801,    100.0,  -1.6510,  34.5720,3,  34.5710,2,   -999.0,5,   -999.0,9,  -999.00,9,  -999.00,9,  -999.00,9, -999.000,9, -999.000,9, -999.000,9,   -999.0,9,   -999.0,9,  -1.65316809
  09AR20011029,  SR03,   105,  1,     20,2,20011129,-66.5855, 144.2332,  801,    100.3,  -1.6240,  34.5710,2,-999.0000,9,   -999.0,5,   -999.0,9,  -999.00,9,  -999.00,9,  -999.00,9, -999.000,9, -999.000,9, -999.000,9,   -999.0,9,   -999.0,9,  -1.62619854
  09AR20011029,  SR03,   105,  1,     19,2,20011129,-66.5855, 144.2332,  801,    100.4,  -1.6300,  34.5700,2,-999.0000,9,   -999.0,5,   -999.0,9,  -999.00,9,  -999.00,9,  -999.00,9, -999.000,9, -999.000,9, -999.000,9,   -999.0,9,   -999.0,9,  -1.63219537
  09AR20011029,  SR03,   105,  1,    218,2,20011129,-66.5855, 144.2332,  801,    100.4,  -1.6400,  34.5710,2,  34.5710,2,   -999.0,5,   -999.0,9,  -999.00,9,  -999.00,9,  -999.00,9, -999.000,9, -999.000,9, -999.000,9,   -999.0,9,   -999.0,9,   -1.6421868
  09AR20011029,  SR03,   105,  1,     14,2,20011129,-66.5855, 144.2332,  801,    200.7,  -1.8690,  34.6030,2,  34.6030,2,   -999.0,5,   -999.0,9,  -999.00,9,  -999.00,9,  -999.00,9, -999.000,9, -999.000,9, -999.000,9,   -999.0,9,   -999.0,9,  -1.87318102
  09AR20011029,  SR03,   105,  1,     13,2,20011129,-66.5855, 144.2332,  801,    200.7,  -1.8690,  34.6030,2,  34.6030,2,   -999.0,5,   -999.0,9,  -999.00,9,  -999.00,9,  -999.00,9, -999.000,9, -999.000,9, -999.000,9,   -999.0,9,   -999.0,9,  -1.87318102
  09AR20011029,  SR03,   105,  1,     16,2,20011129,-66.5855, 144.2332,  801,    200.8,  -1.8690,  34.6030,2,-999.0000,9,   -999.0,5,   -999.0,9,  -999.00,9,  -999.00,9,  -999.00,9, -999.000,9, -999.000,9, -999.000,9,   -999.0,9,   -999.0,9,   -1.8731833
  09AR20011029,  SR03,   105,  1,    715,2,20011129,-66.5855, 144.2332,  801,    200.8,  -1.8690,  34.6030,2,-999.0000,9,   -999.0,5,   -999.0,9,  -999.00,9,  -999.00,9,  -999.00,9, -999.000,9, -999.000,9, -999.000,9,   -999.0,9,   -999.0,9,   -1.8731833
  09AR20011029,  SR03,   105,  1,    709,2,20011129,-66.5855, 144.2332,  801,    400.3,  -1.8920,  34.6640,2,  34.6650,2,   -999.0,5,   -999.0,9,  -999.00,9,  -999.00,9,  -999.00,9, -999.000,9, -999.000,9, -999.000,9,   -999.0,9,   -999.0,9,  -1.90109297
  09AR20011029,  SR03,   105,  1,    310,2,20011129,-66.5855, 144.2332,  801,    400.4,  -1.8920,  34.6640,2,  34.6650,2,   -999.0,5,   -999.0,9,  -999.00,9,  -999.00,9,  -999.00,9, -999.000,9, -999.000,9, -999.000,9,   -999.0,9,   -999.0,9,  -1.90109564
  09AR20011029,  SR03,   105,  1,     11,2,20011129,-66.5855, 144.2332,  801,    400.6,  -1.8920,  34.6620,2,-999.0000,9,   -999.0,5,   -999.0,9,  -999.00,9,  -999.00,9,  -999.00,9, -999.000,9, -999.000,9, -999.000,9,   -999.0,9,   -999.0,9,  -1.90109862
  09AR20011029,  SR03,   105,  1,     12,2,20011129,-66.5855, 144.2332,  801,    400.7,  -1.8920,  34.6640,2,-999.0000,9,   -999.0,5,   -999.0,9,  -999.00,9,  -999.00,9,  -999.00,9, -999.000,9, -999.000,9, -999.000,9,   -999.0,9,   -999.0,9,  -1.90110285
  09AR20011029,  SR03,   105,  1,      5,2,20011129,-66.5855, 144.2332,  801,    600.6,  -1.8910,  34.6800,2,  34.6820,2,   -999.0,5,   -999.0,9,  -999.00,9,  -999.00,9,  -999.00,9, -999.000,9, -999.000,9, -999.000,9,   -999.0,9,   -999.0,9,  -1.90584001
  09AR20011029,  SR03,   105,  1,      7,2,20011129,-66.5855, 144.2332,  801,    601.0,  -1.8910,  34.6790,2,-999.0000,9,   -999.0,5,   -999.0,9,  -999.00,9,  -999.00,9,  -999.00,9, -999.000,9, -999.000,9, -999.000,9,   -999.0,9,   -999.0,9,  -1.90584874
  09AR20011029,  SR03,   105,  1,      8,2,20011129,-66.5855, 144.2332,  801,    601.4,  -1.8910,  34.6810,2,-999.0000,9,   -999.0,5,   -999.0,9,  -999.00,9,  -999.00,9,  -999.00,9, -999.000,9, -999.000,9, -999.000,9,   -999.0,9,   -999.0,9,  -1.90586328
  09AR20011029,  SR03,   105,  1,      6,2,20011129,-66.5855, 144.2332,  801,    601.5,  -1.8910,  34.6810,2,  34.6820,2,   -999.0,5,   -999.0,9,  -999.00,9,  -999.00,9,  -999.00,9, -999.000,9, -999.000,9, -999.000,9,   -999.0,9,   -999.0,9,   -1.9058675
  09AR20011029,  SR03,   105,  1,      2,2,20011129,-66.5855, 144.2332,  801,    749.2,  -1.8880,  34.7160,2,  34.7180,2,   -999.0,5,   -999.0,9,  -999.00,9,  -999.00,9,  -999.00,9, -999.000,9, -999.000,9, -999.000,9,   -999.0,9,   -999.0,9,  -1.90765896
  09AR20011029,  SR03,   105,  1,      3,2,20011129,-66.5855, 144.2332,  801,    749.5,  -1.8880,  34.7160,2,-999.0000,9,   -999.0,5,   -999.0,9,  -999.00,9,  -999.00,9,  -999.00,9, -999.000,9, -999.000,9, -999.000,9,   -999.0,9,   -999.0,9,  -1.90766612
  09AR20011029,  SR03,   105,  1,      4,2,20011129,-66.5855, 144.2332,  801,    749.6,  -1.8880,  34.7160,2,-999.0000,9,   -999.0,5,   -999.0,9,  -999.00,9,  -999.00,9,  -999.00,9, -999.000,9, -999.000,9, -999.000,9,   -999.0,9,   -999.0,9,  -1.90766946
  09AR20011029,  SR03,   105,  1,      1,2,20011129,-66.5855, 144.2332,  801,    750.6,  -1.8880,  34.7150,2,  34.7180,2,   -999.0,5,   -999.0,9,  -999.00,9,  -999.00,9,  -999.00,9, -999.000,9, -999.000,9, -999.000,9,   -999.0,9,   -999.0,9,  -1.90770582
  09AR20011029,  SR03,   106,  1,     24,2,20011129,-66.5882, 144.2537,  807,      6.0,  -1.3680,  34.4330,2,  34.4300,2,    362.7,3,    333.2,2,    69.00,2,    29.32,2,     1.78,2,    5.333,2,    2.769,2,    0.460,2,   2212.0,2,   2326.0,2,  -1.36813774
  09AR20011029,  SR03,   106,  1,     23,2,20011129,-66.5882, 144.2537,  807,      6.0,  -1.3670,  34.4320,2,-999.0000,9,    362.7,3,   -999.0,9,  -999.00,9,  -999.00,9,  -999.00,9, -999.000,9, -999.000,9, -999.000,9,   -999.0,9,   -999.0,9,  -1.36713782
  09AR20011029,  SR03,   106,  1,     22,2,20011129,-66.5882, 144.2537,  807,     30.5,  -1.3570,  34.4320,2,  34.4360,2,    309.3,2,    331.5,2,    69.40,2,    29.59,2,     1.79,2,    5.329,2,    2.754,2,    0.460,2,   2212.5,2,   2326.6,2,  -1.35771076
  09AR20011029,  SR03,   106,  1,     21,2,20011129,-66.5882, 144.2537,  807,     30.5,  -1.3570,  34.4360,2,-999.0000,9,    309.3,2,   -999.0,9,  -999.00,9,  -999.00,9,  -999.00,9, -999.000,9, -999.000,9, -999.000,9,   -999.0,9,   -999.0,9,  -1.35771076
  09AR20011029,  SR03,   106,  1,     19,2,20011129,-66.5882, 144.2537,  807,     60.8,  -1.5170,  34.5390,3,-999.0000,9,    302.6,2,   -999.0,9,  -999.00,9,  -999.00,9,  -999.00,9, -999.000,9, -999.000,9, -999.000,9,   2229.7,2,   2333.0,2,         -999
  09AR20011029,  SR03,   106,  1,     20,2,20011129,-66.5882, 144.2537,  807,     60.9,  -1.5110,  34.5370,2,  34.5370,2,    302.6,2,    301.8,2,    78.20,2,    30.47,2,     1.88,2,    4.440,2,    2.293,2,    0.390,2,   -999.0,9,   -999.0,9,  -1.51236741
  09AR20011029,  SR03,   106,  1,     17,2,20011129,-66.5882, 144.2537,  807,     99.6,  -1.6730,  34.5720,2,-999.0000,9,    312.6,2,   -999.0,9,  -999.00,9,  -999.00,9,  -999.00,9, -999.000,9, -999.000,9, -999.000,9,   -999.0,9,   2336.4,2,  -1.67514007
  09AR20011029,  SR03,   106,  1,    218,2,20011129,-66.5882, 144.2537,  807,    100.3,  -1.6590,  34.5710,2,  34.5690,2,    312.6,2,    313.5,2,    73.50,2,    29.94,2,     1.85,2,    4.807,2,    2.478,2,    0.410,2,   -999.0,9,   -999.0,9,  -1.66116748
  09AR20011029,  SR03,   106,  1,    715,2,20011129,-66.5882, 144.2537,  807,    139.9,  -1.8720,  34.5890,2,-999.0000,9,    315.5,2,   -999.0,9,  -999.00,9,  -999.00,9,  -999.00,9, -999.000,9, -999.000,9, -999.000,9,   2232.4,2,   -999.0,9,  -1.87482282
  09AR20011029,  SR03,   106,  1,     16,2,20011129,-66.5882, 144.2537,  807,    140.1,  -1.8690,  34.5870,2,  34.5860,2,    315.5,2,    313.2,2,    76.50,2,    30.71,2,     1.88,2,    4.972,6,    2.547,6,    0.430,6,   -999.0,9,   -999.0,9,  -1.87182999
  09AR20011029,  SR03,   106,  1,     13,2,20011129,-66.5882, 144.2537,  807,    200.3,  -1.8800,  34.6140,2,-999.0000,9,    314.6,2,   -999.0,9,  -999.00,9,  -999.00,9,  -999.00,9, -999.000,9, -999.000,9, -999.000,9,   2233.4,2,   2338.1,2,  -1.88415698
  09AR20011029,  SR03,   106,  1,     14,2,20011129,-66.5882, 144.2537,  807,    200.5,  -1.8790,  34.6140,2,  34.6120,2,    314.6,2,    315.9,2,    75.30,2,    30.50,2,     1.87,2,    5.080,2,    2.603,2,    0.440,2,   -999.0,9,   -999.0,9,  -1.88316249
  09AR20011029,  SR03,   106,  1,     12,2,20011129,-66.5882, 144.2537,  807,    300.2,  -1.8860,  34.6510,2,  34.6510,2,    315.5,2,    317.2,2,    75.20,2,    30.77,2,     1.89,2, -999.000,9, -999.000,9, -999.000,9,   -999.0,9,   -999.0,9,  -1.89253181
  09AR20011029,  SR03,   106,  1,     11,2,20011129,-66.5882, 144.2537,  807,    300.2,  -1.8860,  34.6510,2,-999.0000,9,    315.5,2,   -999.0,9,  -999.00,9,  -999.00,9,  -999.00,9, -999.000,9, -999.000,9, -999.000,9,   -999.0,9,   -999.0,9,  -1.89253181
  09AR20011029,  SR03,   106,  1,    310,2,20011129,-66.5882, 144.2537,  807,    452.5,  -1.8920,  34.6690,2,  34.6690,2,    316.7,2,    318.0,2,    75.50,2,    30.70,2,     1.88,2,    5.183,2,    2.671,2,    0.440,2,   2239.0,2,   2341.6,2,  -1.90251317
  09AR20011029,  SR03,   106,  1,    709,2,20011129,-66.5882, 144.2537,  807,    452.7,  -1.8920,  34.6680,2,-999.0000,9,    316.7,2,   -999.0,9,  -999.00,9,  -999.00,9,  -999.00,9, -999.000,9, -999.000,9, -999.000,9,   -999.0,9,   -999.0,9,  -1.90251782
  09AR20011029,  SR03,   106,  1,      7,2,20011129,-66.5882, 144.2537,  807,    600.3,  -1.8940,  34.6800,2,-999.0000,9,    319.0,2,   -999.0,9,  -999.00,9,  -999.00,9,  -999.00,9, -999.000,9, -999.000,9, -999.000,9,   2237.9,2,   2343.2,2,  -1.90881309
  09AR20011029,  SR03,   106,  1,      8,2,20011129,-66.5882, 144.2537,  807,    600.4,  -1.8930,  34.6800,2,  34.6810,2,    319.0,2,    319.9,2,    75.30,2,    30.42,2,     1.87,2,    5.239,2,    2.681,2,    0.440,2,   -999.0,9,   -999.0,9,  -1.90782245
  09AR20011029,  SR03,   106,  1,      5,2,20011129,-66.5882, 144.2537,  807,    700.1,  -1.8880,  34.7000,2,-999.0000,9,    321.7,2,   -999.0,9,  -999.00,9,  -999.00,9,  -999.00,9, -999.000,9, -999.000,9, -999.000,9,   2239.2,2,   2344.7,2,  -1.90601486
  09AR20011029,  SR03,   106,  1,      6,2,20011129,-66.5882, 144.2537,  807,    700.2,  -1.8870,  34.6980,2,  34.7000,2,    321.7,2,    321.7,2,    75.80,2,    30.34,2,     1.89,2,    5.261,2,    2.700,2,    0.440,2,   -999.0,9,   -999.0,9,  -1.90502409
  09AR20011029,  SR03,   106,  1,      3,2,20011129,-66.5882, 144.2537,  807,    751.4,  -1.8880,  34.7130,2,-999.0000,9,    323.8,2,   -999.0,9,  -999.00,9,  -999.00,9,  -999.00,9, -999.000,9, -999.000,9, -999.000,9,   2239.8,2,   2345.3,2,  -1.90772538
  09AR20011029,  SR03,   106,  1,      4,2,20011129,-66.5882, 144.2537,  807,    751.6,  -1.8880,  34.7130,2,  34.7130,2,    323.8,2,    323.7,2,    76.20,2,    30.34,2,     1.88,2,    5.320,2,    2.725,2,    0.450,2,   -999.0,9,   -999.0,9,  -1.90773208
  09AR20011029,  SR03,   106,  1,      1,2,20011129,-66.5882, 144.2537,  807,    788.1,  -1.8870,  34.7190,2,-999.0000,9,    323.9,2,   -999.0,9,  -999.00,9,  -999.00,9,  -999.00,9, -999.000,9, -999.000,9, -999.000,9,   2240.7,6,   2345.3,2,  -1.90798292
  09AR20011029,  SR03,   106,  1,      2,2,20011129,-66.5882, 144.2537,  807,    789.0,  -1.8870,  34.7190,2,  34.7200,2,    323.9,2,    323.8,2,    76.90,2,    30.52,2,     1.90,2,    5.366,2,    2.746,2,    0.460,2,   -999.0,9,   -999.0,9,  -1.90801522
  09AR20011029,  SR03,   107,  1,     24,2,20011129,-67.1565, 144.7667,  472,     10.0,  -1.9520,  33.3460,4,  34.5150,2,   -999.0,5,    313.4,2,    76.50,2,    30.42,2,     1.85,2,    5.059,2,    2.568,2,    0.440,2,   2227.4,2,   2330.5,2,  -1.95218037
  09AR20011029,  SR03,   107,  1,     23,2,20011129,-67.1565, 144.7667,  472,     19.8,  -1.9570,  33.3180,4,  34.5110,2,   -999.0,5,    313.3,2,  -999.00,9,  -999.00,9,  -999.00,9, -999.000,9, -999.000,9, -999.000,9,   -999.0,9,   -999.0,9,  -1.95735804
  09AR20011029,  SR03,   107,  1,     22,2,20011129,-67.1565, 144.7667,  472,     29.8,  -1.9550,  33.4270,4,  34.5090,2,   -999.0,5,    313.4,2,  -999.00,9,  -999.00,9,  -999.00,9, -999.000,9, -999.000,9, -999.000,9,   -999.0,9,   -999.0,9,  -1.95554225
  09AR20011029,  SR03,   107,  1,     21,2,20011129,-67.1565, 144.7667,  472,     40.1,  -1.9560,  33.4150,4,  34.5100,2,   -999.0,5,    313.2,2,  -999.00,9,  -999.00,9,  -999.00,9, -999.000,9, -999.000,9, -999.000,9,   -999.0,9,   -999.0,9,  -1.95673353
  09AR20011029,  SR03,   107,  1,     20,2,20011129,-67.1565, 144.7667,  472,     49.5,  -1.9540,  33.4130,4,  34.5100,2,   -999.0,5,    313.3,2,    76.40,2,    29.96,2,     1.87,2,    5.059,2,    2.555,2,    0.440,2,   2225.8,2,   2332.8,2,  -1.95491099
  09AR20011029,  SR03,   107,  1,     19,2,20011129,-67.1565, 144.7667,  472,     60.1,  -1.9530,  33.4450,4,  34.5090,2,   -999.0,5,    313.3,2,  -999.00,9,  -999.00,9,  -999.00,9, -999.000,9, -999.000,9, -999.000,9,   -999.0,9,   -999.0,9,  -1.95411284
  09AR20011029,  SR03,   107,  1,    218,2,20011129,-67.1565, 144.7667,  472,     70.5,  -1.9550,  33.7430,4,  34.5110,2,   -999.0,5,    313.2,2,  -999.00,9,  -999.00,9,  -999.00,9, -999.000,9, -999.000,9, -999.000,9,   -999.0,9,   -999.0,9,  -1.95631175
  09AR20011029,  SR03,   107,  1,     17,2,20011129,-67.1565, 144.7667,  472,     80.7,  -1.9510,  33.2340,4,  34.5100,2,   -999.0,5,    313.4,2,  -999.00,9,  -999.00,9,  -999.00,9, -999.000,9, -999.000,9, -999.000,9,   -999.0,9,   -999.0,9,  -1.95251242
  09AR20011029,  SR03,   107,  1,     16,2,20011129,-67.1565, 144.7667,  472,     90.0,  -1.9490,  33.2290,4,  34.5100,2,   -999.0,5,    313.2,2,  -999.00,9,  -999.00,9,  -999.00,9, -999.000,9, -999.000,9, -999.000,9,   -999.0,9,   -999.0,9,  -1.95069663
  09AR20011029,  SR03,   107,  1,    715,2,20011129,-67.1565, 144.7667,  472,    100.1,  -1.9460,  33.2280,4,  34.5110,2,   -999.0,5,    313.0,2,    76.50,2,    29.96,2,     1.87,2,    5.034,2,    2.563,2,    0.440,2,   2226.9,2,   2332.2,2,  -1.94789993
  09AR20011029,  SR03,   107,  1,     14,2,20011129,-67.1565, 144.7667,  472,    110.6,  -1.9460,  33.2320,4,  34.5110,2,   -999.0,5,    313.4,2,  -999.00,9,  -999.00,9,  -999.00,9, -999.000,9, -999.000,9, -999.000,9,   -999.0,9,   -999.0,9,  -1.94811078
  09AR20011029,  SR03,   107,  1,     13,2,20011129,-67.1565, 144.7667,  472,    130.1,  -1.9450,  33.2370,4,  34.5110,2,   -999.0,5,    313.7,2,  -999.00,9,  -999.00,9,  -999.00,9, -999.000,9, -999.000,9, -999.000,9,   -999.0,9,   -999.0,9,   -1.9475093
  09AR20011029,  SR03,   107,  1,     12,2,20011129,-67.1565, 144.7667,  472,    150.2,  -1.9470,  33.2500,4,  34.5120,2,   -999.0,5,    313.9,2,    76.60,2,    30.29,2,     1.88,2, -999.000,9, -999.000,9, -999.000,9,   -999.0,9,   -999.0,9,  -1.94992463
  09AR20011029,  SR03,   107,  1,     11,2,20011129,-67.1565, 144.7667,  472,    169.9,  -1.9520,  32.8070,4,  34.5140,2,   -999.0,5,    313.1,2,  -999.00,9,  -999.00,9,  -999.00,9, -999.000,9, -999.000,9, -999.000,9,   -999.0,9,   -999.0,9,  -1.95533468
  09AR20011029,  SR03,   107,  1,    310,2,20011129,-67.1565, 144.7667,  472,    190.5,  -1.9450,  32.8020,4,  34.5180,2,   -999.0,5,    313.4,2,  -999.00,9,  -999.00,9,  -999.00,9, -999.000,9, -999.000,9, -999.000,9,   -999.0,9,   -999.0,9,  -1.94879108
  09AR20011029,  SR03,   107,  1,    709,2,20011129,-67.1565, 144.7667,  472,    220.1,  -1.9510,  32.7660,4,  34.5200,2,   -999.0,5,    313.6,2,    76.90,2,    30.43,2,     1.88,2,    5.059,2,    2.562,2,    0.440,2,   2229.0,2,   2332.1,2,    -1.955434
  09AR20011029,  SR03,   107,  1,      8,2,20011129,-67.1565, 144.7667,  472,    250.1,  -1.9610,  32.7760,4,  34.5320,2,   -999.0,5,    314.0,2,  -999.00,9,  -999.00,9,  -999.00,9, -999.000,9, -999.000,9, -999.000,9,   -999.0,9,   -999.0,9,  -1.96609665
  09AR20011029,  SR03,   107,  1,      7,2,20011129,-67.1565, 144.7667,  472,    280.2,  -1.9770,  32.7970,4,  34.5490,2,   -999.0,5,    315.8,2,  -999.00,9,  -999.00,9,  -999.00,9, -999.000,9, -999.000,9, -999.000,9,   -999.0,9,   -999.0,9,  -1.98276367
  09AR20011029,  SR03,   107,  1,      6,2,20011129,-67.1565, 144.7667,  472,    309.9,  -1.9790,  32.8100,4,  34.5570,2,   -999.0,5,    315.1,2,    76.40,2,    30.38,2,     1.87,2, -999.000,9, -999.000,9, -999.000,9,   -999.0,9,   -999.0,9,  -1.98546494
  09AR20011029,  SR03,   107,  1,      5,2,20011129,-67.1565, 144.7667,  472,    340.4,  -1.9810,  32.8110,4,  34.5640,2,   -999.0,5,    315.2,2,  -999.00,9,  -999.00,9,  -999.00,9, -999.000,9, -999.000,9, -999.000,9,   -999.0,9,   -999.0,9,  -1.98820234
  09AR20011029,  SR03,   107,  1,      4,2,20011129,-67.1565, 144.7667,  472,    370.1,  -1.9940,  32.8170,4,  34.5730,2,   -999.0,5,    316.1,2,  -999.00,9,  -999.00,9,  -999.00,9, -999.000,9, -999.000,9, -999.000,9,   -999.0,9,   -999.0,9,  -2.00190376
  09AR20011029,  SR03,   107,  1,      3,2,20011129,-67.1565, 144.7667,  472,    401.0,  -2.0140,  32.8170,4,  34.5820,2,   -999.0,5,    317.7,2,    76.10,2,    30.07,2,     1.87,2,    5.143,2,    2.619,2,    0.450,2,   2230.2,2,   2336.6,2,  -2.02262309
  09AR20011029,  SR03,   107,  1,      2,2,20011129,-67.1565, 144.7667,  472,    440.4,  -2.0420,  32.7970,4,  34.5880,2,   -999.0,5,    319.3,2,  -999.00,9,  -999.00,9,  -999.00,9, -999.000,9, -999.000,9, -999.000,9,   -999.0,9,   -999.0,9,  -2.05153935
  09AR20011029,  SR03,   107,  1,      1,2,20011129,-67.1565, 144.7667,  472,    469.8,  -2.0410,  32.7870,4,  34.5880,2,   -999.0,5,    318.5,2,    75.80,2,    30.51,2,     1.88,2,    5.256,2,    2.661,2,    0.460,2,   2232.4,6,   2336.5,2,  -2.05131597