BOTTLE,20081126PRINUNIVRMK
EXPOCODE,SECT_ID,STNNBR,CASTNO,BTLNBR,BTLNBR_FLAG_W,DATE,LATITUDE,LONGITUDE,DEPTH,CTDPRS,CTDTMP,CTDSAL,CTDSAL_FLAG_W,SALNTY,SALNTY_FLAG_W,CTDOXY,CTDOXY_FLAG_W,OXYGEN,OXYGEN_FLAG_W,SILCAT,SILCAT_FLAG_W,NITRAT,NITRAT_FLAG_W,PHSPHT,PHSPHT_FLAG_W,CFC-11,CFC-11_FLAG_W,CFC-12,CFC-12_FLAG_W,CFC113,CFC113_FLAG_W,TCARBN,TCARBN_FLAG_W,ALKALI,ALKALI_FLAG_W,THETA
,,,,,,,,,METERS,DBARS,ITS-90,PSS-78,,PSS-78,,UMOL/KG,,UMOL/KG,,UMOL/KG,,UMOL/KG,,UMOL/KG,,PMOL/KG,,PMOL/KG,,PMOL/KG,,UMOL/KG,,UMOL/KG,,DEGC
  09AR20011029,  SR03,    10,  1,     24,2,20011101,-46.1742, 145.4693, 2656,      6.0,  13.2090,  35.3040,2,  35.3020,2,    257.7,3,    261.8,2,     1.80,2,     4.47,2,     0.37,2,    3.219,3,    1.872,3,    0.870,4,   2072.9,6,   2317.8,2,   13.2081693
  09AR20011029,  SR03,    10,  1,     23,2,20011101,-46.1742, 145.4693, 2656,     50.4,  13.2190,  35.3030,2,  35.3020,2,    262.8,2,    260.7,2,     1.80,2,     4.56,2,     0.36,2, -999.000,9, -999.000,9, -999.000,9,   2073.1,2,   2318.9,6,   13.2120071
  09AR20011029,  SR03,    10,  1,     22,2,20011101,-46.1742, 145.4693, 2656,    101.0,  13.2100,  35.3020,2,  35.3000,2,    256.6,2,    259.7,2,     1.90,2,     4.63,2,     0.37,2, -999.000,9, -999.000,9, -999.000,9,   2074.0,2,   2317.9,2,   13.1959671
  09AR20011029,  SR03,    10,  1,     21,2,20011101,-46.1742, 145.4693, 2656,    150.6,  12.4720,  35.1930,2,  35.1890,2,    254.6,2,    252.7,2,     2.00,2,     7.04,2,     0.52,2, -999.000,9, -999.000,9, -999.000,9,   2087.9,2,   2312.4,2,   12.4518437
  09AR20011029,  SR03,    10,  1,     20,2,20011101,-46.1742, 145.4693, 2656,    199.7,  11.8420,  35.0820,2,  35.0800,2,    252.0,2,    248.3,2,     2.50,2,     8.88,2,     0.62,2, -999.000,9, -999.000,9, -999.000,9,   2096.4,2,   2309.7,2,   11.8161436
  09AR20011029,  SR03,    10,  1,     19,2,20011101,-46.1742, 145.4693, 2656,    249.9,  11.4700,  35.0300,2,  35.0280,2,    256.3,2,    247.6,2,     2.70,2,    10.21,2,     0.68,2, -999.000,9, -999.000,9, -999.000,9,   2100.9,2,   2307.8,2,   11.4382572
  09AR20011029,  SR03,    10,  1,    718,2,20011101,-46.1742, 145.4693, 2656,    301.1,  10.9390,  34.9330,3,  34.9340,2,    244.8,2,    247.8,2,     3.00,2,    11.55,2,     0.76,2, -999.000,9, -999.000,9, -999.000,9,   2105.0,2,   2302.5,2,   10.9018538
  09AR20011029,  SR03,    10,  1,     17,2,20011101,-46.1742, 145.4693, 2656,    400.6,   9.3530,  34.6600,2,  34.6590,2,    245.0,2,    240.3,2,     4.60,2,    16.42,2,     1.06,2, -999.000,9, -999.000,9, -999.000,9,   2121.3,2,   2291.3,2,   9.30811397
  09AR20011029,  SR03,    10,  1,     16,2,20011101,-46.1742, 145.4693, 2656,    501.2,   8.8970,  34.6040,2,  34.6020,2,    253.1,2,    255.0,2,     4.80,2,    16.47,2,     1.06,2,    3.832,3,    2.106,3, -999.000,5,   2118.1,3,   2290.0,2,   8.84225116
  09AR20011029,  SR03,    10,  1,     15,2,20011101,-46.1742, 145.4693, 2656,    602.2,   8.5050,  34.5680,2,  34.5670,2,    238.1,2,    237.0,2,     6.90,2,    19.38,2,     1.25,2, -999.000,9, -999.000,9, -999.000,9,   2130.5,2,   2289.5,4,   8.44060559
  09AR20011029,  SR03,    10,  1,     14,2,20011101,-46.1742, 145.4693, 2656,    701.4,   7.9590,  34.5480,4,-999.0000,9,    212.7,2,   -999.0,9,  -999.00,9,  -999.00,9,  -999.00,9, -999.000,9, -999.000,9, -999.000,9,   2120.9,4,   2300.8,2,         -999
  09AR20011029,  SR03,    10,  1,     13,2,20011101,-46.1742, 145.4693, 2656,    800.7,   7.4220,  34.5110,3,  34.5060,2,    197.1,2,    202.2,2,    15.00,2,    24.69,2,     1.58,2, -999.000,9, -999.000,9, -999.000,9,   2158.6,2,   2290.8,6,   7.34183446
  09AR20011029,  SR03,    10,  1,     12,2,20011101,-46.1742, 145.4693, 2656,    901.4,   6.8270,  34.4830,2,  34.4830,2,    193.9,2,    194.8,2,    20.20,2,    26.42,2,     1.71,2, -999.000,9, -999.000,9, -999.000,9,   2169.4,6,   2293.1,2,   6.74016456
  09AR20011029,  SR03,    10,  1,     11,2,20011101,-46.1742, 145.4693, 2656,   1000.4,   6.0190,  34.4480,2,  34.4480,2,    192.3,2,    191.7,2,    26.90,2,    28.39,2,     1.84,2, -999.000,9, -999.000,9, -999.000,9,   -999.0,9,   -999.0,9,   5.92804304
  09AR20011029,  SR03,    10,  1,     10,2,20011101,-46.1742, 145.4693, 2656,   1102.1,   5.2890,  34.4430,2,-999.0000,9,    185.1,2,   -999.0,9,  -999.00,9,  -999.00,9,  -999.00,9, -999.000,9, -999.000,9, -999.000,9,   -999.0,9,   -999.0,9,   5.19406711
  09AR20011029,  SR03,    10,  1,      9,2,20011101,-46.1742, 145.4693, 2656,   1200.6,   4.5940,  34.4410,2,  34.4390,2,    184.2,2,    183.2,2,    45.20,2,    31.30,2,     2.07,2,    0.514,3,    0.227,3,    0.320,4,   -999.0,9,   -999.0,9,   4.49604914
  09AR20011029,  SR03,    10,  1,      8,2,20011101,-46.1742, 145.4693, 2656,   1301.5,   4.0200,  34.4730,2,  34.4720,2,    175.1,2,    174.4,2,    57.20,2,    32.56,2,     2.18,2, -999.000,9, -999.000,9, -999.000,9,   -999.0,9,   -999.0,9,   3.91845766
  09AR20011029,  SR03,    10,  1,      7,2,20011101,-46.1742, 145.4693, 2656,   1401.1,   3.4150,  34.4810,2,  34.4780,2,    175.3,2,    174.8,2,    62.70,2,    33.38,2,     2.24,2,    0.432,3,    0.190,3,    0.380,4,   -999.0,9,   -999.0,9,   3.31109385
  09AR20011029,  SR03,    10,  1,      6,2,20011101,-46.1742, 145.4693, 2656,   1599.7,   2.9070,  34.5620,2,  34.5620,2,    167.2,2,    165.2,2,    74.90,2,    34.00,2,     2.28,2,    0.157,3,    0.076,3, -999.000,5,   -999.0,9,   -999.0,9,   2.79193139
  09AR20011029,  SR03,    10,  1,      5,2,20011101,-46.1742, 145.4693, 2656,   1802.8,   2.5260,  34.6360,2,  34.6370,2,    168.7,2,    169.4,2,    83.40,2,    32.61,2,     2.24,2, -999.000,9, -999.000,9, -999.000,9,   -999.0,9,   -999.0,9,   2.39851836
  09AR20011029,  SR03,    10,  1,      4,2,20011101,-46.1742, 145.4693, 2656,   2000.8,   2.3490,  34.6770,2,  34.6760,2,    173.7,2,    174.9,2,    84.20,2,    32.93,2,     2.18,2, -999.000,9, -999.000,9, -999.000,9,   -999.0,9,   -999.0,9,   2.20702342
  09AR20011029,  SR03,    10,  1,      3,2,20011101,-46.1742, 145.4693, 2656,   2201.3,   2.2280,  34.7050,2,  34.7040,2,    178.0,2,    179.1,2,    86.00,2,    32.49,2,     2.15,2,    0.035,3,    0.019,3,    0.420,4,   -999.0,9,   -999.0,9,   2.07031309
  09AR20011029,  SR03,    10,  1,      2,2,20011101,-46.1742, 145.4693, 2656,   2501.7,   2.0170,  34.7280,2,  34.7280,2,    184.8,2,    184.7,2,    92.80,2,    32.16,2,     2.11,2,    0.025,3,    0.013,3,    0.350,4,   -999.0,9,   -999.0,9,   1.83589869
  09AR20011029,  SR03,    10,  1,      1,2,20011101,-46.1742, 145.4693, 2656,   2756.4,   1.5770,  34.7340,2,  34.7340,2,    193.8,2,    193.4,2,   104.40,2,    31.10,2,     2.12,2,    0.001,3,    0.000,3, -999.000,5,   -999.0,9,   -999.0,9,    1.3810701
  09AR20011029,  SR03,    11,  1,     24,2,20011101,-46.6425, 145.2600, 3251,      9.0,  10.8020,  34.9030,2,-999.0000,9,    306.1,3,   -999.0,9,  -999.00,9,  -999.00,9,  -999.00,9, -999.000,9, -999.000,9, -999.000,9,   -999.0,9,   -999.0,9,    10.800914
  09AR20011029,  SR03,    11,  1,     23,2,20011101,-46.6425, 145.2600, 3251,     50.4,  10.7500,  34.8870,3,  34.8870,2,    265.7,2,    267.9,2,     2.80,2,    10.41,2,     0.70,2,    3.633,3,    2.049,3,    0.680,4,   2096.2,2,   2301.4,6,   10.7439265
  09AR20011029,  SR03,    11,  1,     22,2,20011101,-46.6425, 145.2600, 3251,    100.5,  10.6580,  34.8660,2,  34.8650,2,    270.5,2,    268.7,2,     2.80,2,    10.55,2,     0.71,2,    3.670,3,    2.092,3,    0.970,4,   2096.9,2,   2300.3,2,   10.6459306
  09AR20011029,  SR03,    11,  1,     21,2,20011101,-46.6425, 145.2600, 3251,    149.5,  10.5050,  34.8350,2,  34.8340,2,    265.8,2,    269.5,2,     2.90,2,    10.78,2,     0.74,2,    3.694,3,    2.087,3,    0.720,4,   2097.4,2,   2300.0,2,   10.4871767
  09AR20011029,  SR03,    11,  1,     20,2,20011101,-46.6425, 145.2600, 3251,    200.3,  10.0390,  34.7500,4,  34.7520,2,    278.6,2,    273.4,2,     3.10,2,    11.86,2,     0.81,2,    3.787,3,    2.166,3,    0.970,4,   2102.6,2,   2296.5,2,    10.015765
  09AR20011029,  SR03,    11,  1,     19,2,20011101,-46.6425, 145.2600, 3251,    249.4,   9.2630,  34.6420,2,  34.6410,2,    284.3,2,    279.5,2,     3.20,2,    13.31,2,     0.88,2,    4.001,3,    2.252,3,    0.770,4,   2102.6,2,   2292.0,2,   9.23545709
  09AR20011029,  SR03,    11,  1,    718,2,20011101,-46.6425, 145.2600, 3251,    300.5,   9.1240,  34.6310,2,  34.6300,2,    280.6,2,    277.3,2,     3.30,2,    13.78,2,     0.91,2,    3.964,3,    2.271,3,    0.980,4,   2105.1,2,   2291.5,2,   9.09103232
  09AR20011029,  SR03,    11,  1,     17,2,20011101,-46.6425, 145.2600, 3251,    401.7,   9.0710,  34.6310,2,  34.6300,2,    278.5,2,    277.6,2,     3.30,2,    13.89,2,     0.91,2,    3.976,3,    2.255,3,    0.800,4,   2106.1,2,   2290.8,2,   9.02683626
  09AR20011029,  SR03,    11,  1,     16,2,20011101,-46.6425, 145.2600, 3251,    501.2,   8.9280,  34.6010,2,  34.6000,2,    275.4,2,    275.1,2,     3.70,2,    14.69,2,     0.97,2,    3.944,3,    2.276,3,    1.050,4,   2108.5,2,   2289.4,2,   8.87313865
  09AR20011029,  SR03,    11,  1,     15,2,20011101,-46.6425, 145.2600, 3251,    599.9,   8.3060,  34.4880,2,  34.4880,2,    276.1,2,    273.8,2,     4.60,2,    16.89,2,     1.10,2,    4.089,3,    2.252,3,    0.770,4,   2112.6,2,   2287.0,2,   8.24281058
  09AR20011029,  SR03,    11,  1,     14,2,20011101,-46.6425, 145.2600, 3251,    700.6,   8.2840,  34.5470,2,  34.5460,2,    239.2,2,    232.9,2,     8.20,2,    20.59,2,     1.32,2,    3.303,3,    1.748,3,    0.850,4,   2135.3,2,   2289.0,2,   8.20981023
  09AR20011029,  SR03,    11,  1,     13,2,20011101,-46.6425, 145.2600, 3251,    800.1,   7.4270,  34.4720,3,  34.4720,2,    217.9,2,    219.8,2,    12.90,2,    23.76,2,     1.51,2,    2.635,3,    1.381,3,    0.390,4,   2149.5,2,   2287.9,6,    7.3469099
  09AR20011029,  SR03,    11,  1,     12,2,20011101,-46.6425, 145.2600, 3251,    900.2,   6.6560,  34.4630,2,  34.4640,2,    197.8,2,    199.6,2,    21.00,2,    27.02,2,     1.74,2,    1.412,3,    0.692,3,    0.230,4,   2169.4,6,   2292.4,2,   6.57046002
  09AR20011029,  SR03,    11,  1,     11,2,20011101,-46.6425, 145.2600, 3251,   1000.0,   5.8220,  34.4520,4,  34.4510,2,    196.8,2,    190.0,2,    31.00,2,    29.24,2,     1.90,2,    0.719,6,    0.341,6,    0.310,4,   2186.6,2,   2300.8,2,     5.732555
  09AR20011029,  SR03,    11,  1,     10,2,20011101,-46.6425, 145.2600, 3251,   1101.6,   5.0540,  34.4220,2,  34.4220,2,    186.1,2,    191.1,2,    37.80,2,    30.73,2,     2.01,2,    0.817,3,    0.376,3,    0.160,4,   2196.5,2,   2306.7,2,    4.9611058
  09AR20011029,  SR03,    11,  1,      9,2,20011101,-46.6425, 145.2600, 3251,   1299.7,   3.4890,  34.3670,2,  34.3670,2,    199.4,2,    201.0,2,    46.50,2,    33.14,2,     2.18,2,    1.360,3,    0.623,3,    0.220,4,   2214.7,2,   2308.5,2,   3.39311612
  09AR20011029,  SR03,    11,  1,      8,2,20011101,-46.6425, 145.2600, 3251,   1500.3,   3.0190,  34.4710,2,  34.4710,2,    181.3,2,    181.0,2,    65.00,2,    34.51,2,     2.29,2,    0.639,3,    0.287,3,    0.270,4,   2239.5,2,   2329.1,2,   2.91116763
  09AR20011029,  SR03,    11,  1,      7,2,20011101,-46.6425, 145.2600, 3251,   1700.5,   2.6820,  34.5630,2,  34.5630,2,    178.0,2,    174.7,2,    75.70,2,    34.50,2,     2.28,2,    0.317,3,    0.140,3,    0.080,4,   2250.4,2,   2337.8,2,   2.56128215
  09AR20011029,  SR03,    11,  1,      6,2,20011101,-46.6425, 145.2600, 3251,   1899.0,   2.4930,  34.6370,2,  34.6370,2,    178.0,2,    176.5,2,    81.30,2,    32.84,2,     2.24,2,    0.154,3,    0.081,3,    0.070,4,   2253.7,2,   2344.9,2,   2.35778628
  09AR20011029,  SR03,    11,  1,      5,2,20011101,-46.6425, 145.2600, 3251,   2102.2,   2.3560,  34.6880,2,  34.6890,2,    180.7,2,    181.1,2,    84.10,2,    32.81,2,     2.17,2,    0.093,3,    0.042,3,    0.350,4,   2253.4,2,   2347.5,2,   2.20503563
  09AR20011029,  SR03,    11,  1,      4,2,20011101,-46.6425, 145.2600, 3251,   2400.7,   2.1230,  34.7310,2,  34.7320,2,    185.5,2,    185.7,2,    93.90,2,    32.29,2,     2.14,2,    0.033,3,    0.019,3,    0.080,4,   2260.7,2,   2356.7,2,   1.94914645
  09AR20011029,  SR03,    11,  1,      3,2,20011101,-46.6425, 145.2600, 3251,   2698.0,   1.8440,  34.7400,2,  34.7410,2,    190.9,2,    191.8,2,   102.20,2,    32.13,2,     2.12,2,    0.019,3,    0.012,3,    0.450,4,   2259.4,2,   2364.1,2,   1.64805988
  09AR20011029,  SR03,    11,  1,      2,2,20011101,-46.6425, 145.2600, 3251,   3050.8,   1.5970,  34.7360,2,  34.7370,2,    194.5,2,    194.3,2,   106.60,2,    32.48,2,     2.12,2,    0.003,3,    0.003,3,    0.070,4,   2266.5,2,   2372.5,6,    1.3728357
  09AR20011029,  SR03,    11,  1,      1,2,20011101,-46.6425, 145.2600, 3251,   3372.6,   1.3940,  34.7290,2,  34.7300,2,    196.8,2,    198.2,2,   117.60,2,    32.75,2,     2.16,2,    0.019,3,    0.017,3,    0.260,4,   2266.5,6,   2371.1,2,   1.14302672
  09AR20011029,  SR03,    12,  1,     24,2,20011101,-46.6567, 145.2463, 3329,      3.9,  11.1010,  34.9640,2,-999.0000,9,   -999.0,5,   -999.0,9,  -999.00,9,  -999.00,9,  -999.00,9,    3.627,3,    2.029,3,    0.690,4,   2095.5,2,   2304.5,2,   11.1005207
  09AR20011029,  SR03,    12,  1,     23,2,20011101,-46.6567, 145.2463, 3329,      3.9,  11.1020,  34.9650,2,  34.9650,2,   -999.0,5,    265.3,2,     2.60,2,     9.71,2,     0.66,2, -999.000,9, -999.000,9, -999.000,9,   -999.0,9,   -999.0,9,   11.1015207
  09AR20011029,  SR03,    12,  1,     22,2,20011101,-46.6567, 145.2463, 3329,     16.1,  11.0640,  34.9550,3,-999.0000,9,   -999.0,5,   -999.0,9,  -999.00,9,  -999.00,9,  -999.00,9, -999.000,9, -999.000,9, -999.000,9,   -999.0,9,   -999.0,9,         -999
  09AR20011029,  SR03,    12,  1,     21,2,20011101,-46.6567, 145.2463, 3329,     16.1,  11.0160,  34.9440,4,  34.9520,2,   -999.0,5,    265.5,2,     2.70,2,     9.87,2,     0.67,2, -999.000,9, -999.000,9, -999.000,9,   -999.0,9,   -999.0,9,   11.0140304
  09AR20011029,  SR03,    12,  1,     19,2,20011101,-46.6567, 145.2463, 3329,     30.4,  10.9860,  34.9370,2,  34.9360,2,   -999.0,5,    265.8,2,     2.70,2,    10.02,2,     0.67,2, -999.000,9, -999.000,9, -999.000,9,   2095.8,2,   2302.4,2,   10.9822858
  09AR20011029,  SR03,    12,  1,     20,2,20011101,-46.6567, 145.2463, 3329,     30.6,  10.9740,  34.9350,2,-999.0000,9,   -999.0,5,   -999.0,9,  -999.00,9,  -999.00,9,  -999.00,9,    3.443,3,    2.086,3,    0.710,4,   -999.0,9,   -999.0,9,   10.9702641
  09AR20011029,  SR03,    12,  1,     17,2,20011101,-46.6567, 145.2463, 3329,     45.4,  11.0350,  34.9480,3,  34.9480,2,   -999.0,5,    265.8,2,     2.70,2,     9.89,2,     0.67,2, -999.000,9, -999.000,9, -999.000,9,   2094.4,2,   2302.9,2,   11.0294324
  09AR20011029,  SR03,    12,  1,    718,2,20011101,-46.6567, 145.2463, 3329,     45.5,  11.0390,  34.9480,2,-999.0000,9,   -999.0,5,   -999.0,9,  -999.00,9,  -999.00,9,  -999.00,9,    3.409,3,    2.075,3,    0.700,4,   -999.0,9,   -999.0,9,   11.0334188
  09AR20011029,  SR03,    12,  1,     16,2,20011101,-46.6567, 145.2463, 3329,     61.2,  11.0490,  34.9500,3,-999.0000,9,   -999.0,5,   -999.0,9,  -999.00,9,  -999.00,9,  -999.00,9, -999.000,9, -999.000,9, -999.000,9,   -999.0,9,   -999.0,9,         -999
  09AR20011029,  SR03,    12,  1,     15,2,20011101,-46.6567, 145.2463, 3329,     61.4,  11.0620,  34.9540,2,  34.9530,2,   -999.0,5,    266.1,2,     2.60,2,     9.78,2,     0.67,2, -999.000,9, -999.000,9, -999.000,9,   -999.0,9,   -999.0,9,   11.0544522
  09AR20011029,  SR03,    12,  1,     13,2,20011101,-46.6567, 145.2463, 3329,     75.2,  11.0600,  34.9530,3,  34.9530,2,   -999.0,5,    265.1,2,     2.60,2,     9.54,2,     0.66,2, -999.000,9, -999.000,9, -999.000,9,   2094.0,2,   2305.6,2,    11.050751
  09AR20011029,  SR03,    12,  1,     14,2,20011101,-46.6567, 145.2463, 3329,     75.3,  11.0580,  34.9530,3,-999.0000,9,   -999.0,5,   -999.0,9,  -999.00,9,  -999.00,9,  -999.00,9,    3.472,3,    2.092,3,    0.700,4,   -999.0,9,   -999.0,9,         -999
  09AR20011029,  SR03,    12,  1,     11,2,20011101,-46.6567, 145.2463, 3329,     90.5,  11.0220,  34.9430,2,  34.9460,2,   -999.0,5,    266.1,2,     2.70,2,     9.92,2,     0.67,2, -999.000,9, -999.000,9, -999.000,9,   -999.0,9,   -999.0,9,   11.0108872
  09AR20011029,  SR03,    12,  1,     12,2,20011101,-46.6567, 145.2463, 3329,     90.6,  11.0400,  34.9470,3,-999.0000,9,   -999.0,5,   -999.0,9,  -999.00,9,  -999.00,9,  -999.00,9, -999.000,9, -999.000,9, -999.000,9,   -999.0,9,   -999.0,9,         -999
  09AR20011029,  SR03,    12,  1,      9,2,20011101,-46.6567, 145.2463, 3329,    105.6,  11.0110,  34.9430,3,  34.9440,2,   -999.0,5,    265.8,2,     2.70,2,     9.97,2,     0.68,2, -999.000,9, -999.000,9, -999.000,9,   2094.8,2,   2302.4,2,   10.9980327
  09AR20011029,  SR03,    12,  1,     10,2,20011101,-46.6567, 145.2463, 3329,    105.9,  11.0130,  34.9410,4,-999.0000,9,   -999.0,5,   -999.0,9,  -999.00,9,  -999.00,9,  -999.00,9,    3.622,3,    2.003,3,    0.690,4,   -999.0,9,   -999.0,9,         -999
  09AR20011029,  SR03,    12,  1,      8,2,20011101,-46.6567, 145.2463, 3329,    120.4,  10.8240,  34.9000,3,-999.0000,9,   -999.0,5,   -999.0,9,  -999.00,9,  -999.00,9,  -999.00,9,    3.445,3,    2.060,3,    0.460,4,   2094.8,2,   2301.2,2,         -999
  09AR20011029,  SR03,    12,  1,      7,2,20011101,-46.6567, 145.2463, 3329,    120.6,  10.8300,  34.9030,3,  34.9060,2,   -999.0,5,    266.7,2,     2.80,2,    10.37,2,     0.71,2, -999.000,9, -999.000,9, -999.000,9,   -999.0,9,   -999.0,9,   10.8153451
  09AR20011029,  SR03,    12,  1,      6,2,20011101,-46.6567, 145.2463, 3329,    151.3,  10.6660,  34.8670,2,-999.0000,9,   -999.0,5,   -999.0,9,  -999.00,9,  -999.00,9,  -999.00,9, -999.000,9, -999.000,9, -999.000,9,   2096.6,6,   2301.8,2,   10.6477763
  09AR20011029,  SR03,    12,  1,      5,2,20011101,-46.6567, 145.2463, 3329,    151.3,  10.6570,  34.8650,2,  34.8670,2,   -999.0,5,    266.7,2,     2.90,2,    10.90,2,     0.73,2,    3.676,3,    2.044,3,    0.700,4,   -999.0,9,   -999.0,9,   10.6387862
  09AR20011029,  SR03,    12,  1,      4,2,20011101,-46.6567, 145.2463, 3329,    200.6,  10.2760,  34.8100,2,  34.8110,2,   -999.0,5,    261.1,2,     3.30,2,    12.48,2,     0.83,2, -999.000,9, -999.000,9, -999.000,9,   -999.0,9,   -999.0,9,   10.2523659
  09AR20011029,  SR03,    12,  1,      3,2,20011101,-46.6567, 145.2463, 3329,    249.6,   9.1920,  34.6380,2,  34.6380,2,   -999.0,5,    278.7,2,     3.20,2,    13.69,2,     0.91,2, -999.000,9, -999.000,9, -999.000,9,   -999.0,9,   -999.0,9,   9.16456654
  09AR20011029,  SR03,    12,  1,      2,2,20011101,-46.6567, 145.2463, 3329,    299.9,   9.1380,  34.6330,2,  34.6340,2,   -999.0,5,    277.7,2,     3.30,2,    13.86,2,     0.92,2, -999.000,9, -999.000,9, -999.000,9,   -999.0,9,   -999.0,9,    9.1050665
  09AR20011029,  SR03,    12,  1,      1,2,20011101,-46.6567, 145.2463, 3329,    351.0,   9.1010,  34.6320,2,  34.6320,2,   -999.0,5,    277.3,2,     3.30,2,    13.93,2,     0.93,2, -999.000,9, -999.000,9, -999.000,9,   2103.8,2,   2289.8,6,   9.06244129
  09AR20011029,  SR03,    13,  1,      1,2,20011102,-47.1382, 144.8960, 4720,   4896.7,   1.0480,  34.7120,2,  34.7110,2,   -999.0,5,    206.8,2,  -999.00,9,  -999.00,9,  -999.00,9, -999.000,9, -999.000,9, -999.000,9,   -999.0,9,   -999.0,9,  0.641084465