BOTTLE,20081126PRINUNIVRMK
EXPOCODE,SECT_ID,STNNBR,CASTNO,BTLNBR,BTLNBR_FLAG_W,DATE,LATITUDE,LONGITUDE,DEPTH,CTDPRS,CTDTMP,CTDSAL,CTDSAL_FLAG_W,SALNTY,SALNTY_FLAG_W,CTDOXY,CTDOXY_FLAG_W,OXYGEN,OXYGEN_FLAG_W,SILCAT,SILCAT_FLAG_W,NITRAT,NITRAT_FLAG_W,PHSPHT,PHSPHT_FLAG_W,CFC-11,CFC-11_FLAG_W,CFC-12,CFC-12_FLAG_W,CFC113,CFC113_FLAG_W,TCARBN,TCARBN_FLAG_W,ALKALI,ALKALI_FLAG_W,THETA
,,,,,,,,,METERS,DBARS,ITS-90,PSS-78,,PSS-78,,UMOL/KG,,UMOL/KG,,UMOL/KG,,UMOL/KG,,UMOL/KG,,PMOL/KG,,PMOL/KG,,PMOL/KG,,UMOL/KG,,UMOL/KG,,DEGC
  09AR20011029,  SR03,    51,  1,     24,2,20011113,-53.7365, 141.8520, 3000,      4.7,   3.0900,  33.7980,2,  33.8000,2,    368.1,3,    333.6,2,    10.60,2,    25.42,2,     1.58,2,    5.639,2,    3.007,2,    0.510,2,   2129.2,6,   2270.0,2,   3.08972064
  09AR20011029,  SR03,    51,  1,     23,2,20011113,-53.7365, 141.8520, 3000,     29.7,   3.0060,  33.8020,2,  33.8020,2,    332.8,2,    333.4,2,    10.60,2,    25.32,2,     1.59,2,    5.699,2,    3.024,2,    0.520,2,   2130.9,2,   2271.1,6,   3.00424888
  09AR20011029,  SR03,    51,  1,     22,2,20011113,-53.7365, 141.8520, 3000,     70.2,   2.7470,  33.8030,2,  33.8030,2,    338.1,2,    334.2,2,    11.00,2,    25.43,2,     1.60,2,    5.699,2,    3.030,2,    0.520,2,   2130.5,2,   2271.0,2,   2.74298621
  09AR20011029,  SR03,    51,  1,     21,2,20011113,-53.7365, 141.8520, 3000,    100.3,   2.4780,  33.8030,3,  33.8050,2,    338.4,2,    333.9,2,    11.50,2,    25.73,2,     1.63,2,    5.752,2,    3.032,2,    0.520,2,   2135.3,2,   2266.4,3,   2.47246106
  09AR20011029,  SR03,    51,  1,     20,2,20011113,-53.7365, 141.8520, 3000,    140.3,   1.9690,  33.8140,3,  33.8140,2,    332.3,2,    330.8,2,    12.80,2,    26.35,2,     1.69,2,    5.731,2,    3.020,2,    0.510,2,   2141.7,2,   2272.4,2,    1.9617909
  09AR20011029,  SR03,    51,  1,     19,4,20011113,-53.7365, 141.8520, 3000,    171.0,   1.8340,  33.8570,4,  34.1710,0,    315.5,2,    220.3,4,    36.30,4,    31.11,4,     2.01,4,    2.342,2,    1.177,2,    0.180,2,   2207.1,3,   2296.4,4,         -999
  09AR20011029,  SR03,    51,  1,    518,2,20011113,-53.7365, 141.8520, 3000,    199.9,   2.3730,  34.0440,2,  34.0450,2,    270.6,2,    279.1,2,    25.80,2,    29.98,2,     1.92,2,    4.565,2,    2.361,2,    0.380,2,   2176.3,2,   2282.2,2,   2.36188108
  09AR20011029,  SR03,    51,  1,     17,2,20011113,-53.7365, 141.8520, 3000,    299.7,   2.4890,  34.2190,2,  34.2180,2,    230.5,2,    232.1,2,    40.80,2,    32.85,2,     2.13,2,    3.017,2,    1.512,2,    0.240,2,   2204.2,2,   2296.5,2,   2.47170604
  09AR20011029,  SR03,    51,  1,     16,2,20011113,-53.7365, 141.8520, 3000,    400.6,   2.4320,  34.3310,2,  34.3310,2,    204.5,2,    204.5,2,    53.50,2,    34.44,2,     2.25,2,    1.984,2,    0.982,2,    0.140,2,   2225.7,2,   2309.2,2,   2.40865541
  09AR20011029,  SR03,    51,  1,     15,2,20011113,-53.7365, 141.8520, 3000,    500.1,   2.4350,  34.4090,2,  34.4090,2,    188.1,2,    190.9,2,    60.80,2,    34.89,2,     2.28,2,    1.419,2,    0.682,2,    0.100,2,   2238.6,2,   2315.6,2,   2.40536735
  09AR20011029,  SR03,    51,  1,     14,2,20011113,-53.7365, 141.8520, 3000,    599.7,   2.4400,  34.4840,2,  34.4830,2,    181.8,2,    182.0,2,    66.60,2,    34.84,2,     2.27,2,    0.946,2,    0.454,2,    0.060,2,   2244.7,2,   2323.0,2,   2.40387524
  09AR20011029,  SR03,    51,  1,     13,2,20011113,-53.7365, 141.8520, 3000,    698.5,   2.3390,  34.5470,2,  34.5430,2,    181.0,2,    178.4,2,    71.80,2,    34.64,2,     2.27,2, -999.000,9, -999.000,9, -999.000,9,   2250.1,2,   2329.0,6,   2.29685249
  09AR20011029,  SR03,    51,  1,     12,2,20011113,-53.7365, 141.8520, 3000,    800.3,   2.3370,  34.5850,2,  34.5860,2,    181.2,2,    177.8,2,    73.90,2,    34.22,2,     2.24,2,    0.533,6,    0.252,6,    0.030,6,   2252.0,6,   2330.9,2,   2.28799986
  09AR20011029,  SR03,    51,  1,     11,2,20011113,-53.7365, 141.8520, 3000,    900.7,   2.3280,  34.6350,2,  34.6370,2,    181.4,2,    180.0,2,    76.00,2,    33.03,2,     2.19,2,    0.340,2,    0.163,2,    0.030,2,   2252.3,2,   2334.7,2,   2.27210478
  09AR20011029,  SR03,    51,  1,     10,2,20011113,-53.7365, 141.8520, 3000,   1000.4,   2.2570,  34.6710,2,  34.6720,2,    181.8,2,    181.8,2,    78.40,2,    32.83,2,     2.14,2,    0.269,2,    0.132,2,    0.020,2,   2252.6,2,   2339.3,2,   2.19461365
  09AR20011029,  SR03,    51,  1,      9,2,20011113,-53.7365, 141.8520, 3000,   1200.0,   2.1650,  34.7110,2,  34.7110,2,    185.2,2,    186.4,2,    81.10,2,    31.99,2,     2.08,2,    0.184,2,    0.087,2,    0.020,2,   2248.5,2,   2341.7,2,   2.08902727
  09AR20011029,  SR03,    51,  1,      8,2,20011113,-53.7365, 141.8520, 3000,   1400.8,   2.0470,  34.7350,2,  34.7350,2,    194.0,2,    192.7,2,    83.80,2,    31.27,2,     2.04,2,    0.135,2,    0.060,2,    0.010,2,   2246.2,2,   2344.9,2,   1.95729604
  09AR20011029,  SR03,    51,  1,      7,2,20011113,-53.7365, 141.8520, 3000,   1600.9,   1.8860,  34.7470,2,  34.7480,2,    196.5,2,    197.6,2,    87.40,2,    30.90,2,     2.01,2,    0.109,2,    0.046,2,    0.020,2,   2247.8,2,   2347.4,2,   1.78289085
  09AR20011029,  SR03,    51,  1,      6,2,20011113,-53.7365, 141.8520, 3000,   1801.3,   1.7070,  34.7470,2,  34.7470,2,    196.1,2,    200.5,2,    93.80,2,    30.76,2,     2.01,2,    0.092,2,    0.044,2,    0.010,2,   2249.0,2,   2352.1,2,   1.59059984
  09AR20011029,  SR03,    51,  1,      5,2,20011113,-53.7365, 141.8520, 3000,   2000.6,   1.5420,  34.7440,2,  34.7440,2,    201.4,2,    203.2,2,    98.60,2,    31.07,2,     2.02,2,    0.080,2,    0.037,2,    0.010,2,   2252.3,2,   2353.0,2,   1.41209362
  09AR20011029,  SR03,    51,  1,      4,2,20011113,-53.7365, 141.8520, 3000,   2199.0,   1.3500,  34.7370,2,  34.7370,2,    204.0,2,    205.1,2,   104.50,2,    31.35,2,     2.05,2,    0.083,2,    0.039,2,    0.010,2,   2253.5,2,   2356.5,2,   1.20699419
  09AR20011029,  SR03,    51,  1,      3,2,20011113,-53.7365, 141.8520, 3000,   2499.7,   1.0750,  34.7220,2,  34.7230,2,    206.4,2,    209.1,2,   112.80,2,    31.85,2,     2.08,2,    0.091,2,    0.045,2,    0.010,2,   2256.6,2,   2358.1,2,  0.911747462
  09AR20011029,  SR03,    51,  1,      2,2,20011113,-53.7365, 141.8520, 3000,   2801.4,   0.8660,  34.7130,2,  34.7130,2,    208.4,2,    211.1,2,   120.40,2,    32.15,2,     2.12,2,    0.114,2,    0.055,2,    0.010,2,   2259.3,2,   2359.7,2,  0.680810351
  09AR20011029,  SR03,    51,  1,      1,2,20011113,-53.7365, 141.8520, 3000,   3098.3,   0.8040,  34.7080,2,  34.7090,2,    209.2,2,    214.1,2,   124.30,2,    32.24,2,     2.12,2,    0.123,2,    0.060,2,    0.010,2,   2259.5,6,   2358.4,2,  0.593421841
  09AR20011029,  SR03,    52,  1,     24,2,20011113,-53.7310, 141.8992, 3105,     30.4,   3.0350,  33.8010,2,-999.0000,9,   -999.0,5,   -999.0,9,  -999.00,9,  -999.00,9,  -999.00,9, -999.000,9, -999.000,9, -999.000,9,   -999.0,9,   -999.0,9,   3.03320028
  09AR20011029,  SR03,    52,  1,     23,2,20011113,-53.7310, 141.8992, 3105,     30.5,   3.0360,  33.8000,2,  33.8000,2,   -999.0,5,   -999.0,9,  -999.00,9,  -999.00,9,  -999.00,9, -999.000,9, -999.000,9, -999.000,9,   -999.0,9,   -999.0,9,   3.03419414
  09AR20011029,  SR03,    52,  1,     22,2,20011113,-53.7310, 141.8992, 3105,    100.2,   2.3270,  33.8090,2,-999.0000,9,   -999.0,5,   -999.0,9,  -999.00,9,  -999.00,9,  -999.00,9, -999.000,9, -999.000,9, -999.000,9,   -999.0,9,   -999.0,9,   2.32159038
  09AR20011029,  SR03,    52,  1,     21,2,20011113,-53.7310, 141.8992, 3105,    100.3,   2.3270,  33.8100,2,  33.8090,2,   -999.0,5,   -999.0,9,  -999.00,9,  -999.00,9,  -999.00,9, -999.000,9, -999.000,9, -999.000,9,   -999.0,9,   -999.0,9,    2.3215849
  09AR20011029,  SR03,    52,  1,     19,4,20011113,-53.7310, 141.8992, 3105,    199.3,   2.5460,  34.0910,2,  34.3770,0,   -999.0,5,   -999.0,9,  -999.00,9,  -999.00,9,  -999.00,9, -999.000,9, -999.000,9, -999.000,9,   -999.0,9,   -999.0,9,   2.53461741
  09AR20011029,  SR03,    52,  1,     20,2,20011113,-53.7310, 141.8992, 3105,    199.9,   2.5460,  34.0910,2,-999.0000,9,   -999.0,5,   -999.0,9,  -999.00,9,  -999.00,9,  -999.00,9, -999.000,9, -999.000,9, -999.000,9,   -999.0,9,   -999.0,9,   2.53458215
  09AR20011029,  SR03,    52,  1,    518,2,20011113,-53.7310, 141.8992, 3105,    399.6,   2.4740,  34.3250,2,-999.0000,9,   -999.0,5,   -999.0,9,  -999.00,9,  -999.00,9,  -999.00,9, -999.000,9, -999.000,9, -999.000,9,   -999.0,9,   -999.0,9,   2.45058539
  09AR20011029,  SR03,    52,  1,     17,2,20011113,-53.7310, 141.8992, 3105,    399.9,   2.4730,  34.3260,2,  34.3250,2,   -999.0,5,   -999.0,9,  -999.00,9,  -999.00,9,  -999.00,9, -999.000,9, -999.000,9, -999.000,9,   -999.0,9,   -999.0,9,   2.44957006
  09AR20011029,  SR03,    52,  1,     15,2,20011113,-53.7310, 141.8992, 3105,    599.7,   2.4320,  34.4930,2,  34.4930,2,   -999.0,5,   -999.0,9,  -999.00,9,  -999.00,9,  -999.00,9, -999.000,9, -999.000,9, -999.000,9,   -999.0,9,   -999.0,9,    2.3959032
  09AR20011029,  SR03,    52,  1,     16,2,20011113,-53.7310, 141.8992, 3105,    599.8,   2.4320,  34.4930,2,-999.0000,9,   -999.0,5,   -999.0,9,  -999.00,9,  -999.00,9,  -999.00,9, -999.000,9, -999.000,9, -999.000,9,   -999.0,9,   -999.0,9,   2.39589669
  09AR20011029,  SR03,    52,  1,     13,2,20011113,-53.7310, 141.8992, 3105,    799.9,   2.3410,  34.6090,2,  34.6070,2,   -999.0,5,   -999.0,9,  -999.00,9,  -999.00,9,  -999.00,9, -999.000,9, -999.000,9, -999.000,9,   -999.0,9,   -999.0,9,   2.29197214
  09AR20011029,  SR03,    52,  1,     14,2,20011113,-53.7310, 141.8992, 3105,    800.3,   2.3420,  34.6070,2,-999.0000,9,   -999.0,5,   -999.0,9,  -999.00,9,  -999.00,9,  -999.00,9, -999.000,9, -999.000,9, -999.000,9,   -999.0,9,   -999.0,9,   2.29293865
  09AR20011029,  SR03,    52,  1,     11,2,20011113,-53.7310, 141.8992, 3105,   1100.0,   2.2100,  34.6950,2,  34.6950,2,   -999.0,5,   -999.0,9,  -999.00,9,  -999.00,9,  -999.00,9, -999.000,9, -999.000,9, -999.000,9,   -999.0,9,   -999.0,9,   2.14088368
  09AR20011029,  SR03,    52,  1,     12,2,20011113,-53.7310, 141.8992, 3105,   1100.1,   2.2120,  34.6930,2,-999.0000,9,   -999.0,5,   -999.0,9,  -999.00,9,  -999.00,9,  -999.00,9, -999.000,9, -999.000,9, -999.000,9,   -999.0,9,   -999.0,9,   2.14286301
  09AR20011029,  SR03,    52,  1,      9,2,20011113,-53.7310, 141.8992, 3105,   1399.8,   2.0460,  34.7360,2,  34.7360,2,   -999.0,5,   -999.0,9,  -999.00,9,  -999.00,9,  -999.00,9, -999.000,9, -999.000,9, -999.000,9,   -999.0,9,   -999.0,9,   1.95637976
  09AR20011029,  SR03,    52,  1,     10,2,20011113,-53.7310, 141.8992, 3105,   1399.9,   2.0460,  34.7350,2,-999.0000,9,   -999.0,5,   -999.0,9,  -999.00,9,  -999.00,9,  -999.00,9, -999.000,9, -999.000,9, -999.000,9,   -999.0,9,   -999.0,9,   1.95637465
  09AR20011029,  SR03,    52,  1,      7,2,20011113,-53.7310, 141.8992, 3105,   1700.9,   1.8210,  34.7470,2,  34.7480,2,   -999.0,5,   -999.0,9,  -999.00,9,  -999.00,9,  -999.00,9, -999.000,9, -999.000,9, -999.000,9,   -999.0,9,   -999.0,9,   1.71094974
  09AR20011029,  SR03,    52,  1,      8,2,20011113,-53.7310, 141.8992, 3105,   1701.4,   1.8220,  34.7470,2,-999.0000,9,   -999.0,5,   -999.0,9,  -999.00,9,  -999.00,9,  -999.00,9, -999.000,9, -999.000,9, -999.000,9,   -999.0,9,   -999.0,9,   1.71190041
  09AR20011029,  SR03,    52,  1,      6,2,20011113,-53.7310, 141.8992, 3105,   2099.8,   1.4760,  34.7410,2,-999.0000,9,   -999.0,5,   -999.0,9,  -999.00,9,  -999.00,9,  -999.00,9, -999.000,9, -999.000,9, -999.000,9,   -999.0,9,   -999.0,9,   1.33906816
  09AR20011029,  SR03,    52,  1,      5,2,20011113,-53.7310, 141.8992, 3105,   2099.9,   1.4750,  34.7410,2,  34.7410,2,   -999.0,5,   -999.0,9,  -999.00,9,  -999.00,9,  -999.00,9, -999.000,9, -999.000,9, -999.000,9,   -999.0,9,   -999.0,9,   1.33807599
  09AR20011029,  SR03,    52,  1,      3,2,20011113,-53.7310, 141.8992, 3105,   2600.4,   1.0570,  34.7210,2,  34.7220,2,   -999.0,5,   -999.0,9,  -999.00,9,  -999.00,9,  -999.00,9, -999.000,9, -999.000,9, -999.000,9,   -999.0,9,   -999.0,9,  0.885457727
  09AR20011029,  SR03,    52,  1,      4,2,20011113,-53.7310, 141.8992, 3105,   2600.6,   1.0590,  34.7220,2,-999.0000,9,   -999.0,5,   -999.0,9,  -999.00,9,  -999.00,9,  -999.00,9, -999.000,9, -999.000,9, -999.000,9,   -999.0,9,   -999.0,9,  0.887401346
  09AR20011029,  SR03,    52,  1,      1,2,20011113,-53.7310, 141.8992, 3105,   3181.5,   0.7890,  34.7070,2,  34.7080,2,   -999.0,5,   -999.0,9,  -999.00,9,  -999.00,9,  -999.00,9, -999.000,9, -999.000,9, -999.000,9,   -999.0,9,   -999.0,9,  0.571064219
  09AR20011029,  SR03,    52,  1,      2,2,20011113,-53.7310, 141.8992, 3105,   3181.8,   0.7890,  34.7070,2,-999.0000,9,   -999.0,5,   -999.0,9,  -999.00,9,  -999.00,9,  -999.00,9, -999.000,9, -999.000,9, -999.000,9,   -999.0,9,   -999.0,9,  0.571041557
  09AR20011029,  SR03,    53,  1,     23,2,20011114,-53.7772, 141.8905, 3010,      5.1,   3.0400,  33.8020,2,  33.8020,2,   -999.0,5,   -999.0,9,  -999.00,9,  -999.00,9,  -999.00,9, -999.000,9, -999.000,9, -999.000,9,   -999.0,9,   -999.0,9,   3.03969891
  09AR20011029,  SR03,    53,  1,     24,2,20011114,-53.7772, 141.8905, 3010,      5.2,   3.0410,  33.8020,2,-999.0000,9,   -999.0,5,   -999.0,9,    10.70,2,    25.13,2,     1.53,2, -999.000,9, -999.000,9, -999.000,9,   -999.0,9,   -999.0,9,   3.04069296
  09AR20011029,  SR03,    53,  1,     22,2,20011114,-53.7772, 141.8905, 3010,     14.3,   3.0390,  33.8010,2,  33.8010,2,   -999.0,5,   -999.0,9,    10.60,2,    25.25,2,     1.55,2, -999.000,9, -999.000,9, -999.000,9,   -999.0,9,   -999.0,9,   3.03815484
  09AR20011029,  SR03,    53,  1,     21,2,20011114,-53.7772, 141.8905, 3010,     15.7,   3.0370,  33.8010,2,-999.0000,9,   -999.0,5,   -999.0,9,  -999.00,9,  -999.00,9,  -999.00,9, -999.000,9, -999.000,9, -999.000,9,   -999.0,9,   -999.0,9,   3.03607218
  09AR20011029,  SR03,    53,  1,     20,2,20011114,-53.7772, 141.8905, 3010,     24.3,   3.0360,  33.8010,2,-999.0000,9,   -999.0,5,   -999.0,9,    10.60,2,    25.18,2,     1.56,2, -999.000,9, -999.000,9, -999.000,9,   -999.0,9,   -999.0,9,   3.03456243
  09AR20011029,  SR03,    53,  1,     19,4,20011114,-53.7772, 141.8905, 3010,     24.5,   3.0350,  33.8010,2,  33.8080,0,   -999.0,5,   -999.0,9,  -999.00,9,  -999.00,9,  -999.00,9, -999.000,9, -999.000,9, -999.000,9,   -999.0,9,   -999.0,9,   3.03355076
  09AR20011029,  SR03,    53,  1,    518,2,20011114,-53.7772, 141.8905, 3010,     49.0,   3.0210,  33.8010,2,-999.0000,9,   -999.0,5,   -999.0,9,    10.60,2,    25.21,2,     1.58,2, -999.000,9, -999.000,9, -999.000,9,   -999.0,9,   -999.0,9,   3.01809728
  09AR20011029,  SR03,    53,  1,     17,2,20011114,-53.7772, 141.8905, 3010,     50.0,   3.0090,  33.8010,2,  33.8010,2,   -999.0,5,   -999.0,9,  -999.00,9,  -999.00,9,  -999.00,9, -999.000,9, -999.000,9, -999.000,9,   -999.0,9,   -999.0,9,   3.00604253
  09AR20011029,  SR03,    53,  1,     16,2,20011114,-53.7772, 141.8905, 3010,     74.2,   2.4150,  33.8070,2,-999.0000,9,   -999.0,5,   -999.0,9,    10.80,2,    25.46,2,     1.60,2, -999.000,9, -999.000,9, -999.000,9,   -999.0,9,   -999.0,9,   2.41095679
  09AR20011029,  SR03,    53,  1,     15,2,20011114,-53.7772, 141.8905, 3010,     74.3,   2.4140,  33.8080,2,  33.8090,2,   -999.0,5,   -999.0,9,  -999.00,9,  -999.00,9,  -999.00,9, -999.000,9, -999.000,9, -999.000,9,   -999.0,9,   -999.0,9,   2.40995163
  09AR20011029,  SR03,    53,  1,     14,2,20011114,-53.7772, 141.8905, 3010,     74.3,   2.4120,  33.8080,2,-999.0000,9,   -999.0,5,   -999.0,9,  -999.00,9,  -999.00,9,  -999.00,9, -999.000,9, -999.000,9, -999.000,9,   -999.0,9,   -999.0,9,   2.40795299
  09AR20011029,  SR03,    53,  1,     13,2,20011114,-53.7772, 141.8905, 3010,     74.4,   2.4090,  33.8090,2,-999.0000,9,   -999.0,5,   -999.0,9,  -999.00,9,  -999.00,9,  -999.00,9, -999.000,9, -999.000,9, -999.000,9,   -999.0,9,   -999.0,9,   2.40494918
  09AR20011029,  SR03,    53,  1,     12,2,20011114,-53.7772, 141.8905, 3010,     74.5,   2.3820,  33.8080,3,-999.0000,9,   -999.0,5,   -999.0,9,  -999.00,9,  -999.00,9,  -999.00,9, -999.000,9, -999.000,9, -999.000,9,   -999.0,9,   -999.0,9,         -999
  09AR20011029,  SR03,    53,  1,     11,2,20011114,-53.7772, 141.8905, 3010,     88.2,   2.2940,  33.8100,2,-999.0000,9,   -999.0,5,   -999.0,9,    11.30,2,    25.75,2,     1.62,2, -999.000,9, -999.000,9, -999.000,9,   -999.0,9,   -999.0,9,   2.28927097
  09AR20011029,  SR03,    53,  1,     10,2,20011114,-53.7772, 141.8905, 3010,     88.6,   2.2900,  33.8100,3,  33.8100,2,   -999.0,5,   -999.0,9,  -999.00,9,  -999.00,9,  -999.00,9, -999.000,9, -999.000,9, -999.000,9,   -999.0,9,   -999.0,9,   2.28525215
  09AR20011029,  SR03,    53,  1,      9,2,20011114,-53.7772, 141.8905, 3010,     98.2,   2.2540,  33.8110,2,-999.0000,9,   -999.0,5,   -999.0,9,    11.50,2,    25.80,2,     1.63,2, -999.000,9, -999.000,9, -999.000,9,   -999.0,9,   -999.0,9,   2.24875872
  09AR20011029,  SR03,    53,  1,      8,2,20011114,-53.7772, 141.8905, 3010,     98.5,   2.2570,  33.8110,2,  33.8120,2,   -999.0,5,   -999.0,9,  -999.00,9,  -999.00,9,  -999.00,9, -999.000,9, -999.000,9, -999.000,9,   -999.0,9,   -999.0,9,   2.25173985
  09AR20011029,  SR03,    53,  1,      7,2,20011114,-53.7772, 141.8905, 3010,    108.7,   2.2280,  33.8110,2,-999.0000,9,   -999.0,5,   -999.0,9,    11.70,2,    25.85,2,     1.63,2, -999.000,9, -999.000,9, -999.000,9,   -999.0,9,   -999.0,9,   2.22221197
  09AR20011029,  SR03,    53,  1,      6,2,20011114,-53.7772, 141.8905, 3010,    109.0,   2.2270,  33.8110,2,  33.8120,2,   -999.0,5,   -999.0,9,  -999.00,9,  -999.00,9,  -999.00,9, -999.000,9, -999.000,9, -999.000,9,   -999.0,9,   -999.0,9,   2.22119642
  09AR20011029,  SR03,    53,  1,      5,2,20011114,-53.7772, 141.8905, 3010,    126.9,   2.1660,  33.8130,2,  33.8130,2,   -999.0,5,   -999.0,9,    12.00,2,    25.93,2,     1.64,2, -999.000,9, -999.000,9, -999.000,9,   -999.0,9,   -999.0,9,   2.15928774
  09AR20011029,  SR03,    53,  1,      4,2,20011114,-53.7772, 141.8905, 3010,    150.1,   1.9750,  33.8110,2,  33.8100,2,   -999.0,5,   -999.0,9,    12.60,2,    26.11,2,     1.65,2, -999.000,9, -999.000,9, -999.000,9,   -999.0,9,   -999.0,9,   1.96726845
  09AR20011029,  SR03,    53,  1,      3,2,20011114,-53.7772, 141.8905, 3010,    169.4,   1.9110,  33.8590,4,  33.8490,0,   -999.0,5,   -999.0,9,    15.10,2,    27.04,2,     1.72,2, -999.000,9, -999.000,9, -999.000,9,   -999.0,9,   -999.0,9,         -999
  09AR20011029,  SR03,    53,  1,      2,2,20011114,-53.7772, 141.8905, 3010,    224.9,   2.5140,  34.1150,3,  34.1090,0,   -999.0,5,   -999.0,9,    30.10,2,    30.90,2,     1.95,2, -999.000,9, -999.000,9, -999.000,9,   -999.0,9,   -999.0,9,         -999
  09AR20011029,  SR03,    53,  1,      1,2,20011114,-53.7772, 141.8905, 3010,    299.7,   2.4990,  34.2190,2,  34.2170,2,   -999.0,5,   -999.0,9,    40.50,2,    32.81,2,     2.10,2, -999.000,9, -999.000,9, -999.000,9,   -999.0,9,   -999.0,9,   2.48168222