BOTTLE,20081126PRINUNIVRMK
EXPOCODE,SECT_ID,STNNBR,CASTNO,BTLNBR,BTLNBR_FLAG_W,DATE,LATITUDE,LONGITUDE,DEPTH,CTDPRS,CTDTMP,CTDSAL,CTDSAL_FLAG_W,SALNTY,SALNTY_FLAG_W,CTDOXY,CTDOXY_FLAG_W,OXYGEN,OXYGEN_FLAG_W,SILCAT,SILCAT_FLAG_W,NITRAT,NITRAT_FLAG_W,PHSPHT,PHSPHT_FLAG_W,CFC-11,CFC-11_FLAG_W,CFC-12,CFC-12_FLAG_W,CFC113,CFC113_FLAG_W,TCARBN,TCARBN_FLAG_W,ALKALI,ALKALI_FLAG_W,THETA
,,,,,,,,,METERS,DBARS,ITS-90,PSS-78,,PSS-78,,UMOL/KG,,UMOL/KG,,UMOL/KG,,UMOL/KG,,UMOL/KG,,PMOL/KG,,PMOL/KG,,PMOL/KG,,UMOL/KG,,UMOL/KG,,DEGC
  09AR20011029,  SR03,    17,  1,     24,2,20011105,-46.8687, 141.9808, 4420,      4.7,  12.4970,  35.2190,2,  35.2200,2,    266.0,3,    266.0,2,     1.80,2,     5.38,2,     0.39,2,    3.133,2,    1.828,2,    0.290,2,   2079.6,6,   2315.4,6,   12.4963735
  09AR20011029,  SR03,    17,  1,     23,2,20011105,-46.8687, 141.9808, 4420,      4.9,  12.4960,  35.2190,2,-999.0000,9,    266.0,3,   -999.0,9,  -999.00,9,  -999.00,9,  -999.00,9, -999.000,9, -999.000,9, -999.000,9,   -999.0,9,   -999.0,9,   12.4953469
  09AR20011029,  SR03,    17,  1,     22,2,20011105,-46.8687, 141.9808, 4420,     25.3,  12.4550,  35.2120,2,  35.2120,2,    267.0,2,    266.0,2,     1.90,2,     5.59,2,     0.41,2,    3.126,2,    1.808,2,    0.290,2,   2079.7,2,   2313.5,2,   12.4516328
  09AR20011029,  SR03,    17,  1,     21,2,20011105,-46.8687, 141.9808, 4420,     51.2,  12.3400,  35.1980,2,  35.1990,2,    260.6,2,    264.4,2,     1.90,2,     5.91,2,     0.42,2,    3.123,2,    1.830,2,    0.290,2,   2081.1,2,   2314.1,2,   12.3332216
  09AR20011029,  SR03,    17,  1,     20,2,20011105,-46.8687, 141.9808, 4420,     75.7,  12.2430,  35.1830,4,  35.1870,2,    251.2,2,    262.2,2,     2.00,2,     6.23,2,     0.46,2,    3.120,2,    1.819,2,    0.280,2,   2085.6,2,   2312.9,2,   12.2330216
  09AR20011029,  SR03,    17,  1,     19,2,20011105,-46.8687, 141.9808, 4420,    100.8,  11.6260,  35.0730,4,  35.0680,2,    258.4,2,    254.4,2,     2.50,2,     9.29,2,     0.61,2,    3.250,2,    1.824,2,    0.280,2,   2097.0,2,   2307.1,2,   11.6131606
  09AR20011029,  SR03,    17,  1,    718,2,20011105,-46.8687, 141.9808, 4420,    125.6,  11.1350,  34.9730,2,  34.9730,2,    254.9,2,    253.3,2,     3.20,2,    12.12,2,     0.79,2,    3.229,2,    1.817,2,    0.280,2,   2100.9,2,   2305.5,2,   11.1194449
  09AR20011029,  SR03,    17,  1,     17,2,20011105,-46.8687, 141.9808, 4420,    150.2,  10.6270,  34.8790,4,-999.0000,9,    254.4,2,   -999.0,9,  -999.00,9,  -999.00,9,  -999.00,9,    3.280,2,    1.855,2,    0.280,2,   2105.3,2,   2299.5,2,         -999
  09AR20011029,  SR03,    17,  1,     16,2,20011105,-46.8687, 141.9808, 4420,    251.0,   9.4300,  34.6700,2,  34.6710,2,    251.9,2,    263.0,2,     3.70,2,    14.72,2,     0.94,2,    3.646,2,    2.002,2,    0.310,2,   2109.2,2,   2290.9,2,   9.40195805
  09AR20011029,  SR03,    17,  1,     15,2,20011105,-46.8687, 141.9808, 4420,    300.5,   9.0930,  34.6110,3,  34.6090,2,    278.5,2,    269.9,2,     3.70,2,    15.09,2,     0.98,2,    3.687,2,    2.058,2,    0.340,2,   2108.2,2,   2288.4,2,   9.06011044
  09AR20011029,  SR03,    17,  1,     14,2,20011105,-46.8687, 141.9808, 4420,    400.0,   8.9100,  34.6000,2,  34.5990,2,    258.5,2,    261.5,2,     4.40,2,    16.14,2,     1.04,2,    3.628,2,    2.022,2,    0.310,2,   2114.7,2,   2288.2,2,   8.86651976
  09AR20011029,  SR03,    17,  1,     13,2,20011105,-46.8687, 141.9808, 4420,    500.1,   8.7250,  34.5970,3,  34.5970,2,    236.0,2,    238.0,2,     6.60,2,    19.33,2,     1.22,2,    3.229,6,    1.722,6,    0.230,6,   2129.0,2,   2287.9,6,   8.67101054
  09AR20011029,  SR03,    17,  1,     12,2,20011105,-46.8687, 141.9808, 4420,    600.4,   8.2890,  34.5620,2,  34.5610,2,    222.4,2,    222.6,2,     9.50,2,    21.68,2,     1.35,2,    2.614,2,    1.378,2,    0.170,2,   2140.1,6,   2288.8,2,   8.22576499
  09AR20011029,  SR03,    17,  1,     11,2,20011105,-46.8687, 141.9808, 4420,    700.0,   7.4220,  34.4810,2,  34.4800,2,    217.6,2,    216.2,2,    13.30,2,    24.27,2,     1.50,2,    2.317,2,    1.216,2,    0.160,2,   2151.6,2,   2289.1,2,   7.35240554
  09AR20011029,  SR03,    17,  1,     10,2,20011105,-46.8687, 141.9808, 4420,    801.7,   6.5950,  34.4300,4,  34.4320,2,    210.6,2,    210.2,2,    17.20,2,    26.19,2,     1.67,2,    2.147,2,    1.101,2,    0.140,2,   2163.5,2,   2287.4,2,   6.51975847
  09AR20011029,  SR03,    17,  1,      9,2,20011105,-46.8687, 141.9808, 4420,    899.9,   5.6410,  34.3740,4,  34.3760,2,    209.5,2,    211.0,2,    22.80,2,    28.62,2,     1.80,2,    2.034,2,    1.013,2,    0.140,2,   2175.2,2,   2290.5,2,   5.56247387
  09AR20011029,  SR03,    17,  1,      8,2,20011105,-46.8687, 141.9808, 4420,   1002.3,   4.7530,  34.3400,4,  34.3410,2,    214.6,2,    212.7,2,    29.00,2,    30.37,2,     1.95,2,    1.910,2,    0.952,2,    0.140,2,   2186.6,2,   2295.0,2,   4.67162134
  09AR20011029,  SR03,    17,  1,      7,2,20011105,-46.8687, 141.9808, 4420,   1100.6,   4.2460,  34.3560,2,  34.3570,2,    204.7,2,    205.1,2,    37.40,2,    31.57,2,     2.05,2,    1.462,2,    0.726,2,    0.100,2,   2198.8,2,   2303.7,2,   4.16008038
  09AR20011029,  SR03,    17,  1,      6,2,20011105,-46.8687, 141.9808, 4420,   1200.1,   3.8960,  34.3840,3,  34.3840,2,    193.7,2,    196.7,2,    45.20,2,    32.14,2,     2.11,2,    1.163,2,    0.552,2,    0.080,2,   2210.8,2,   2307.7,2,   3.80458587
  09AR20011029,  SR03,    17,  1,      5,2,20011105,-46.8687, 141.9808, 4420,   1299.7,   3.4680,  34.4140,3,  34.4120,2,    188.1,2,    189.9,2,    53.40,2,    33.50,2,     2.16,2,    0.915,2,    0.450,2,    0.070,2,   2223.3,2,   2318.0,2,   3.37222777
  09AR20011029,  SR03,    17,  1,      4,2,20011105,-46.8687, 141.9808, 4420,   1399.8,   3.1610,  34.4390,2,  34.4380,2,    186.9,2,    185.3,2,    59.10,2,    34.33,2,     2.23,2,    0.784,2,    0.381,2,    0.060,2,   2231.1,2,   2321.9,2,   3.06002136
  09AR20011029,  SR03,    17,  1,      3,2,20011105,-46.8687, 141.9808, 4420,   1499.9,   2.9150,  34.4830,2,  34.4830,2,    179.5,2,    180.0,2,    65.70,2,    34.57,2,     2.27,2,    0.618,2,    0.299,2,    0.040,2,   2242.8,2,   2327.2,2,   2.80836612
  09AR20011029,  SR03,    17,  1,      2,2,20011105,-46.8687, 141.9808, 4420,   1752.5,   2.6000,  34.5920,2,  34.5910,2,    172.0,2,    175.1,2,    75.70,2,    34.27,2,     2.26,2,    0.285,2,    0.137,2,    0.030,2,   2250.7,2,   2339.8,2,   2.47590228
  09AR20011029,  SR03,    17,  1,      1,2,20011105,-46.8687, 141.9808, 4420,   2001.3,   2.4230,  34.6700,2,  34.6710,2,    178.9,2,    179.9,2,    80.00,2,    32.98,2,     2.15,2,    0.155,2,    0.073,2,    0.020,2,   2250.3,6,   2343.4,2,   2.27987726
  09AR20011029,  SR03,    18,  1,     23,2,20011105,-47.4700, 144.8992, 4298,      3.9,  10.0640,  34.6750,2,  34.6780,2,    331.9,3,    285.5,2,     2.50,2,    11.18,2,     0.78,2, -999.000,9, -999.000,9, -999.000,9,   2091.1,6,   2293.4,2,   10.0635519
  09AR20011029,  SR03,    18,  1,     24,2,20011105,-47.4700, 144.8992, 4298,      4.0,  10.0650,  34.6750,2,-999.0000,9,    331.9,3,   -999.0,9,  -999.00,9,  -999.00,9,  -999.00,9,    3.682,2,    2.138,2,    0.370,2,   -999.0,9,   -999.0,9,   10.0645403
  09AR20011029,  SR03,    18,  1,     21,2,20011105,-47.4700, 144.8992, 4298,     15.4,  10.0530,  34.6760,2,  34.6760,2,    277.4,3,    285.6,2,     2.60,2,    11.25,2,     0.79,2, -999.000,9, -999.000,9, -999.000,9,   2089.7,2,   2293.4,6,   10.0512306
  09AR20011029,  SR03,    18,  1,     22,2,20011105,-47.4700, 144.8992, 4298,     15.5,  10.0540,  34.6760,2,-999.0000,9,    277.4,3,   -999.0,9,  -999.00,9,  -999.00,9,  -999.00,9,    3.629,2,    2.073,2,    0.330,2,   -999.0,9,   -999.0,9,    10.052219
  09AR20011029,  SR03,    18,  1,     20,2,20011105,-47.4700, 144.8992, 4298,     29.7,  10.0390,  34.6750,2,-999.0000,9,    286.3,2,   -999.0,9,  -999.00,9,  -999.00,9,  -999.00,9,    3.577,2,    2.073,2,    0.350,2,   2082.1,4,   2293.5,2,   10.0355882
  09AR20011029,  SR03,    18,  1,     19,2,20011105,-47.4700, 144.8992, 4298,     29.8,  10.0390,  34.6750,2,  34.6770,2,    286.3,2,    285.6,2,     2.60,2,    11.22,2,     0.77,2, -999.000,9, -999.000,9, -999.000,9,   -999.0,9,   -999.0,9,   10.0355766
  09AR20011029,  SR03,    18,  1,     17,2,20011105,-47.4700, 144.8992, 4298,     44.4,   9.9670,  34.6760,2,  34.6770,2,    287.7,2,    285.3,2,     2.60,2,    11.27,2,     0.80,2, -999.000,9, -999.000,9, -999.000,9,   2090.6,2,   2293.3,2,   9.96191908
  09AR20011029,  SR03,    18,  1,    718,2,20011105,-47.4700, 144.8992, 4298,     44.8,   9.9770,  34.6750,2,-999.0000,9,    287.7,2,   -999.0,9,  -999.00,9,  -999.00,9,  -999.00,9, -999.000,9, -999.000,9, -999.000,9,   -999.0,9,   -999.0,9,   9.97187003
  09AR20011029,  SR03,    18,  1,     15,2,20011105,-47.4700, 144.8992, 4298,     60.8,   9.7740,  34.6670,2,  34.6700,2,    282.5,2,    283.7,2,     2.60,2,    11.59,2,     0.80,2, -999.000,9, -999.000,9, -999.000,9,   2091.4,2,   2293.6,2,   9.76712345
  09AR20011029,  SR03,    18,  1,     16,2,20011105,-47.4700, 144.8992, 4298,     61.0,   9.7900,  34.6680,2,-999.0000,9,    280.2,2,   -999.0,9,  -999.00,9,  -999.00,9,  -999.00,9, -999.000,9, -999.000,9, -999.000,9,   -999.0,9,   -999.0,9,   9.78309373
  09AR20011029,  SR03,    18,  1,     14,2,20011105,-47.4700, 144.8992, 4298,     75.2,   9.7770,  34.6690,2,-999.0000,9,    278.5,2,   -999.0,9,  -999.00,9,  -999.00,9,  -999.00,9,    3.655,2,    2.089,2,    0.350,2,   2092.7,2,   2292.6,2,   9.76848671
  09AR20011029,  SR03,    18,  1,     13,2,20011105,-47.4700, 144.8992, 4298,     75.2,   9.7790,  34.6690,2,  34.6710,2,    278.5,2,    282.7,2,     2.60,2,    11.70,2,     0.81,2, -999.000,9, -999.000,9, -999.000,9,   -999.0,9,   -999.0,9,   9.77048538
  09AR20011029,  SR03,    18,  1,     12,2,20011105,-47.4700, 144.8992, 4298,     90.6,   9.7820,  34.6700,2,-999.0000,9,    282.2,2,   -999.0,9,  -999.00,9,  -999.00,9,  -999.00,9,    3.784,2,    2.101,2,    0.350,2,   2094.0,2,   2293.9,2,   9.77173141
  09AR20011029,  SR03,    18,  1,     11,2,20011105,-47.4700, 144.8992, 4298,     90.6,   9.7820,  34.6700,2,  34.6740,2,    282.2,2,    281.4,2,     2.60,2,    11.63,2,     0.83,2, -999.000,9, -999.000,9, -999.000,9,   -999.0,9,   -999.0,9,   9.77173088
  09AR20011029,  SR03,    18,  1,      9,2,20011105,-47.4700, 144.8992, 4298,    104.2,   9.7630,  34.6830,2,  34.6830,2,    278.6,2,    279.5,2,     2.60,2,    12.02,2,     0.84,2, -999.000,9, -999.000,9, -999.000,9,   2096.5,2,   2293.6,2,   9.75119404
  09AR20011029,  SR03,    18,  1,     10,2,20011105,-47.4700, 144.8992, 4298,    104.4,   9.7650,  34.6830,2,-999.0000,9,    278.6,2,   -999.0,9,  -999.00,9,  -999.00,9,  -999.00,9,    3.562,3,    2.089,3,    0.350,3,   -999.0,9,   -999.0,9,   9.75316972
  09AR20011029,  SR03,    18,  1,      8,2,20011105,-47.4700, 144.8992, 4298,    120.6,   9.7740,  34.6970,2,-999.0000,9,    276.9,2,   -999.0,9,  -999.00,9,  -999.00,9,  -999.00,9,    3.699,6,    2.067,6,    0.340,6,   2101.1,3,   2294.4,2,   9.76031175
  09AR20011029,  SR03,    18,  1,      7,2,20011105,-47.4700, 144.8992, 4298,    120.7,   9.7720,  34.6980,2,  34.6970,2,    276.9,2,    277.9,2,     2.70,2,    12.10,2,     0.85,2, -999.000,9, -999.000,9, -999.000,9,   -999.0,9,   -999.0,9,    9.7583021
  09AR20011029,  SR03,    18,  1,      5,2,20011105,-47.4700, 144.8992, 4298,    151.5,   9.5490,  34.6690,2,-999.0000,9,    275.7,2,   -999.0,9,  -999.00,9,  -999.00,9,  -999.00,9, -999.000,9, -999.000,9, -999.000,9,   2100.9,2,   2292.6,2,   9.53203359
  09AR20011029,  SR03,    18,  1,      6,2,20011105,-47.4700, 144.8992, 4298,    151.8,   9.5480,  34.6680,2,-999.0000,9,    275.7,2,   -999.0,9,  -999.00,9,  -999.00,9,  -999.00,9, -999.000,9, -999.000,9, -999.000,9,   -999.0,9,   -999.0,9,   9.53100106
  09AR20011029,  SR03,    18,  1,      4,2,20011105,-47.4700, 144.8992, 4298,    200.0,   9.2000,  34.6220,2,  34.6230,2,    275.0,2,    271.6,2,     3.30,2,    14.48,2,     0.99,2,    3.680,2,    2.065,2,    0.330,2,   2107.3,2,   2290.6,2,   9.17807181
  09AR20011029,  SR03,    18,  1,      3,2,20011105,-47.4700, 144.8992, 4298,    250.3,   8.9640,  34.5880,2,  34.5870,2,    273.6,2,    271.5,2,     3.50,2,    15.02,2,     1.02,2, -999.000,9, -999.000,9, -999.000,9,   2110.5,2,   2288.9,2,   8.93692953
  09AR20011029,  SR03,    18,  1,      2,2,20011105,-47.4700, 144.8992, 4298,    300.9,   8.8180,  34.5690,2,  34.5690,2,    268.3,2,    271.6,2,     3.60,2,    15.03,2,     1.03,2, -999.000,9, -999.000,9, -999.000,9,   2108.9,2,   2288.7,6,   8.78569558
  09AR20011029,  SR03,    18,  1,      1,2,20011105,-47.4700, 144.8992, 4298,    351.0,   8.8170,  34.5770,2,  34.5770,2,    262.6,2,    266.3,2,     4.10,2,    16.01,2,     1.08,2, -999.000,9, -999.000,9, -999.000,9,   2113.2,6,   2288.5,2,   8.77920547
  09AR20011029,  SR03,    19,  1,     24,2,20011106,-47.4360, 144.8902, 4068,     10.5,  10.1730,  34.6800,2,  34.6780,2,    321.2,3,    285.7,2,     2.60,2,    11.13,2,     0.74,2,    3.655,2,    2.092,2,    0.360,2,   2088.5,6,   2292.8,2,   10.1717846
  09AR20011029,  SR03,    19,  1,     23,2,20011106,-47.4360, 144.8902, 4068,     50.4,   9.9080,  34.6900,2,  34.6890,2,    289.6,2,    283.8,2,     2.40,2,    11.27,2,     0.72,2, -999.000,9, -999.000,9, -999.000,9,   2091.0,2,   2294.4,6,   9.90225166
  09AR20011029,  SR03,    19,  1,     22,2,20011106,-47.4360, 144.8902, 4068,    101.5,   9.7810,  34.6980,3,  34.6980,2,    278.9,2,    276.7,2,     2.70,2,    12.15,2,     0.81,2,    3.605,6,    2.074,6,    0.350,6,   2098.1,2,   2293.8,2,   9.76948591
  09AR20011029,  SR03,    19,  1,     21,2,20011106,-47.4360, 144.8902, 4068,    151.9,   9.2850,  34.6240,4,  34.6240,2,    277.7,2,    275.4,2,     3.10,2,    13.79,2,     0.89,2, -999.000,9, -999.000,9, -999.000,9,   2102.3,2,   2291.5,2,   9.26829478
  09AR20011029,  SR03,    19,  1,     20,2,20011106,-47.4360, 144.8902, 4068,    200.7,   9.1890,  34.6180,2,  34.6160,2,    270.4,2,    272.8,2,     3.30,2,    14.12,2,     0.93,2,    3.738,2,    2.086,2,    0.350,2,   2106.0,2,   2291.2,3,   9.16701262
  09AR20011029,  SR03,    19,  1,     19,4,20011106,-47.4360, 144.8902, 4068,    299.5,   8.8450,  34.5780,3,  34.5460,0,    265.0,2,    254.9,4,     7.00,4,    18.07,4,     1.14,4,    3.430,2,    1.914,2,    0.290,2,   2124.8,3,   2289.6,3,         -999
  09AR20011029,  SR03,    19,  1,    718,4,20011106,-47.4360, 144.8902, 4068,    398.7,   8.7860,  34.5790,2,  34.5070,0,    258.8,2,    236.8,4,    10.50,4,    21.19,4,     1.34,4,    2.858,2,    1.558,2,    0.210,2,   2136.1,2,   2287.9,2,    8.7430408
  09AR20011029,  SR03,    19,  1,     17,2,20011106,-47.4360, 144.8902, 4068,    499.7,   8.5610,  34.5590,3,  34.5600,2,    249.4,2,    250.0,2,     5.80,2,    18.36,2,     1.17,2,    3.533,2,    1.920,2,    0.270,2,   2123.6,2,   2288.2,2,   8.50768639
  09AR20011029,  SR03,    19,  1,     16,2,20011106,-47.4360, 144.8902, 4068,    601.0,   8.0890,  34.5170,3,  34.5170,2,    238.6,2,    237.1,2,     8.30,2,    20.84,2,     1.32,2,    3.075,2,    1.661,2,    0.220,2,   2135.0,2,   2286.9,2,   8.02662708
  09AR20011029,  SR03,    19,  1,     15,2,20011106,-47.4360, 144.8902, 4068,    700.0,   7.3010,  34.4550,3,  34.4530,2,    222.1,2,    223.0,2,    12.50,2,    23.61,2,     1.49,2,    2.636,2,    1.374,2,    0.180,2,   2149.3,2,   2286.4,2,   7.23206497
  09AR20011029,  SR03,    19,  1,     14,2,20011106,-47.4360, 144.8902, 4068,    800.0,   6.5970,  34.4280,3,  34.4290,2,    210.6,2,    210.8,2,    17.60,2,    26.52,2,     1.67,2,    2.141,2,    1.115,2,    0.130,2,   2164.3,2,   2289.3,2,   6.52191902
  09AR20011029,  SR03,    19,  1,     13,2,20011106,-47.4360, 144.8902, 4068,    900.9,   5.5980,  34.3770,4,  34.3740,2,    212.0,2,    210.8,2,    23.20,2,    28.50,2,     1.83,2,    1.981,2,    1.010,2,    0.120,2,   2177.2,2,   2290.8,6,   5.51967624
  09AR20011029,  SR03,    19,  1,     12,2,20011106,-47.4360, 144.8902, 4068,   1000.2,   4.9500,  34.3700,3,  34.3660,2,    209.1,2,    207.0,2,    29.60,2,    30.17,2,     1.92,2,    1.612,2,    0.812,2,    0.100,2,   2187.4,6,   2296.4,2,    4.8672652
  09AR20011029,  SR03,    19,  1,     11,2,20011106,-47.4360, 144.8902, 4068,   1101.6,   4.3640,  34.3750,3,  34.3740,2,    202.4,2,    201.6,2,    38.10,2,    30.68,2,     2.01,2,    1.330,2,    0.658,2,    0.090,2,   2200.5,2,   2304.8,2,   4.27696939
  09AR20011029,  SR03,    19,  1,     10,2,20011106,-47.4360, 144.8902, 4068,   1198.6,   3.9180,  34.3800,2,  34.3770,2,    194.4,2,    198.7,2,    43.60,2,    32.34,2,     2.08,2,    1.224,2,    0.605,2,    0.070,2,   2212.3,2,   2308.2,2,   3.82652556
  09AR20011029,  SR03,    19,  1,      9,2,20011106,-47.4360, 144.8902, 4068,   1399.3,   3.2750,  34.4500,4,  34.4540,2,    184.6,2,    181.1,2,    60.80,2,    34.02,2,     2.24,2,    0.635,2,    0.321,2,    0.040,2,   2234.6,2,   2325.2,2,   3.17280193
  09AR20011029,  SR03,    19,  1,      8,2,20011106,-47.4360, 144.8902, 4068,   1599.1,   2.7950,  34.5180,2,  34.5190,2,    176.1,2,    176.9,2,    69.20,2,    34.55,2,     2.27,2,    0.482,2,    0.229,2,    0.030,2,   2247.0,2,   2331.2,2,   2.68146613
  09AR20011029,  SR03,    19,  1,      7,2,20011106,-47.4360, 144.8902, 4068,   1801.3,   2.5910,  34.5900,2,  34.5890,2,    175.9,2,    176.1,2,    73.40,2,    33.02,2,     2.23,2,    0.294,2,    0.146,2,    0.020,2,   2249.3,2,   2335.4,2,   2.46289979
  09AR20011029,  SR03,    19,  1,      6,2,20011106,-47.4360, 144.8902, 4068,   2201.1,   2.3590,  34.7010,2,  34.7010,2,    183.5,2,    183.0,2,    80.20,2,    32.23,2,     2.12,2,    0.117,2,    0.059,2,    0.010,2,   2250.1,2,   2344.5,2,   2.19917714
  09AR20011029,  SR03,    19,  1,      5,2,20011106,-47.4360, 144.8902, 4068,   2600.9,   2.0890,  34.7430,2,  34.7430,2,    192.0,2,    193.8,2,    87.40,2,    31.42,2,     2.02,2,    0.072,2,    0.037,2,    0.010,2,   2248.4,2,   2352.1,2,   1.89730313
  09AR20011029,  SR03,    19,  1,      4,2,20011106,-47.4360, 144.8902, 4068,   2998.6,   1.7470,  34.7390,2,  34.7380,2,    192.4,2,    191.2,2,   105.60,2,    32.14,2,     2.12,2,    0.008,2,    0.005,2,    0.000,2,   2263.8,2,   2370.2,2,   1.52455705
  09AR20011029,  SR03,    19,  1,      3,2,20011106,-47.4360, 144.8902, 4068,   3400.7,   1.5000,  34.7340,2,  34.7340,2,    197.4,2,    198.9,2,   110.40,2,    32.00,2,     2.08,2,    0.011,2,    0.010,2,    0.020,2,   2263.4,2,   2370.2,2,   1.24359014
  09AR20011029,  SR03,    19,  1,      2,2,20011106,-47.4360, 144.8902, 4068,   3799.2,   1.1820,  34.7210,2,  34.7210,2,    203.3,2,    203.7,2,   117.80,2,    31.53,2,     2.14,2,    0.014,2,    0.009,2,    0.020,2,   2266.5,2,   2372.4,6,   0.89300456
  09AR20011029,  SR03,    19,  1,      1,2,20011106,-47.4360, 144.8902, 4068,   4220.8,   1.0160,  34.7130,2,  34.7130,2,    206.3,2,    205.5,2,   123.10,2,    33.10,2,     2.13,2,    0.007,2,    0.005,2,    0.000,2,   2274.0,6,   2377.9,2,  0.686796066