BOTTLE,20081126PRINUNIVRMK
# 4/5/07 Initialized README file  
# Ship: Aurora Australis;  
# Cruise: 09AA0301; WOCE SR03.2001; SCM03 (basename sr03.aa2001) 
# Cruise dates: 10/29-12/11/2001 
# EXPOCODE: 09AR20011029 
# Region: Section from Tasmania to Antarctica 
# Ch. Sci.: B. Tilbrook 
# 134 stations with 24 place Rosette 
# Hydro: Who - S.Rintoul; Status - final 
# 	Notes: Data from CCHDO 5/29/08 
# Nuts/O2: Who - ?; Status - final 
# 	Notes: Data from CCHDO 5/29/08 
# TCO2: Who - Tilbrook/Sabine; Status - final 
# 	Notes: CRM batch 52 
# 	CRM analysis: 2005.64+/-1.36umol/kg (1 s.d., n=64) 
# 	Somma 
# TA: Who - Tilbrook/Sabine; Status - final 
# 	Notes: Closed cell potentiometric titration 
# 	Accuracy and precision estimated to be +/-1.23umol/kg 
# 	Shipboard duplicate analyses had absolute difference of 0.79+/-0.62 
# 		(1 s.d.,n=151) 
# CFC: Who - ; Status - final 
# 	Notes: Includes cfc-113  
# Other: DOC, POC, O18, Th230, etc. collected but no data in file 
# References: 
# requested 
EXPOCODE,SECT_ID,STNNBR,CASTNO,BTLNBR,BTLNBR_FLAG_W,DATE,LATITUDE,LONGITUDE,DEPTH,CTDPRS,CTDTMP,CTDSAL,CTDSAL_FLAG_W,SALNTY,SALNTY_FLAG_W,CTDOXY,CTDOXY_FLAG_W,OXYGEN,OXYGEN_FLAG_W,SILCAT,SILCAT_FLAG_W,NITRAT,NITRAT_FLAG_W,PHSPHT,PHSPHT_FLAG_W,CFC-11,CFC-11_FLAG_W,CFC-12,CFC-12_FLAG_W,CFC113,CFC113_FLAG_W,TCARBN,TCARBN_FLAG_W,ALKALI,ALKALI_FLAG_W,THETA
,,,,,,,,,METERS,DBARS,ITS-90,PSS-78,,PSS-78,,UMOL/KG,,UMOL/KG,,UMOL/KG,,UMOL/KG,,UMOL/KG,,PMOL/KG,,PMOL/KG,,PMOL/KG,,UMOL/KG,,UMOL/KG,,DEGC
  09AR20011029,  SR03,     1,  1,      3,2,20011029,-44.1217, 146.2182, 1010,    992.1,   5.0320,  34.4430,2,  34.4430,2,   -999.0,5,    184.7,2,    39.40,2,    29.86,2,     1.94,2,    0.576,4,    0.253,3, -999.000,5,   -999.0,9,   -999.0,9,   4.94925032
  09AR20011029,  SR03,     1,  1,     12,2,20011029,-44.1217, 146.2182, 1010,    992.2,   5.0510,  34.4430,2,  34.4520,0,   -999.0,5,    184.7,2,    39.30,2,    28.30,2,     1.91,2,    0.630,4,    0.244,3, -999.000,5,   -999.0,9,   -999.0,9,   4.96809806
  09AR20011029,  SR03,     1,  1,      4,2,20011029,-44.1217, 146.2182, 1010,    992.2,   5.0390,  34.4420,4,  34.4440,2,   -999.0,5,    184.6,2,    39.50,2,    30.41,2,     1.91,2, -999.000,9, -999.000,9, -999.000,9,   -999.0,9,   -999.0,9,   4.95618689
  09AR20011029,  SR03,     1,  1,     13,2,20011029,-44.1217, 146.2182, 1010,    992.3,   5.0560,  34.4440,2,  34.4510,0,   -999.0,5,    185.1,2,    39.30,2,    29.36,2,     1.91,2,    0.555,4,    0.241,3, -999.000,5,   -999.0,9,   -999.0,9,   4.97304969
  09AR20011029,  SR03,     1,  1,      8,2,20011029,-44.1217, 146.2182, 1010,    992.3,   5.0500,  34.4430,2,-999.0000,9,   -999.0,5,   -999.0,9,  -999.00,9,  -999.00,9,  -999.00,9, -999.000,9, -999.000,9, -999.000,9,   -999.0,9,   -999.0,9,   4.96709652
  09AR20011029,  SR03,     1,  1,      6,2,20011029,-44.1217, 146.2182, 1010,    992.3,   5.0390,  34.4430,3,  34.4550,0,   -999.0,5,    184.7,2,    39.50,2,    29.62,2,     1.93,2,    0.551,4,    0.241,3, -999.000,5,   -999.0,9,   -999.0,9,         -999
  09AR20011029,  SR03,     1,  1,      5,2,20011029,-44.1217, 146.2182, 1010,    992.3,   5.0410,  34.4420,2,  34.4440,2,   -999.0,5,    184.8,2,    39.40,2,    29.63,2,     1.91,2,    0.540,4,    0.246,3, -999.000,5,   -999.0,9,   -999.0,9,   4.95816275
  09AR20011029,  SR03,     1,  1,      2,2,20011029,-44.1217, 146.2182, 1010,    992.3,   5.0370,  34.4420,2,  34.4430,2,   -999.0,5,    185.0,2,    39.40,2,    29.99,2,     1.91,2, -999.000,9, -999.000,9, -999.000,9,   -999.0,9,   -999.0,9,   4.95419452
  09AR20011029,  SR03,     1,  1,     10,2,20011029,-44.1217, 146.2182, 1010,    992.4,   5.0530,  34.4440,3,-999.0000,9,   -999.0,5,   -999.0,9,  -999.00,9,  -999.00,9,  -999.00,9, -999.000,9, -999.000,9, -999.000,9,   -999.0,9,   -999.0,9,         -999
  09AR20011029,  SR03,     1,  1,      9,2,20011029,-44.1217, 146.2182, 1010,    992.4,   5.0510,  34.4430,2,-999.0000,9,   -999.0,5,   -999.0,9,  -999.00,9,  -999.00,9,  -999.00,9, -999.000,9, -999.000,9, -999.000,9,   -999.0,9,   -999.0,9,   4.96807992
  09AR20011029,  SR03,     1,  1,      1,2,20011029,-44.1217, 146.2182, 1010,    992.4,   5.0250,  34.4420,2,  34.4410,2,   -999.0,5,    184.4,2,    39.30,2,    29.98,2,     1.92,2, -999.000,9, -999.000,9, -999.000,9,   -999.0,9,   -999.0,9,   4.94227916
  09AR20011029,  SR03,     1,  1,     11,2,20011029,-44.1217, 146.2182, 1010,    992.7,   5.0510,  34.4440,2,  34.4520,0,   -999.0,5,    184.9,2,    39.40,2,    29.32,2,     1.92,2,    0.539,4,    0.246,3, -999.000,5,   -999.0,9,   -999.0,9,    4.9680511
  09AR20011029,  SR03,     1,  1,     15,2,20011029,-44.1217, 146.2182, 1010,    992.8,   5.0560,  34.4430,2,  34.4490,0,   -999.0,5,    185.0,2,    39.00,2,    29.47,2,     1.90,2,    0.525,4,    0.228,3, -999.000,5,   -999.0,9,   -999.0,9,   4.97300594
  09AR20011029,  SR03,     1,  1,     14,2,20011029,-44.1217, 146.2182, 1010,    992.8,   5.0540,  34.4430,2,-999.0000,9,   -999.0,5,   -999.0,9,  -999.00,9,  -999.00,9,  -999.00,9, -999.000,9, -999.000,9, -999.000,9,   -999.0,9,   -999.0,9,   4.97102102
  09AR20011029,  SR03,     1,  1,      7,2,20011029,-44.1217, 146.2182, 1010,    992.8,   5.0480,  34.4410,4,  34.4560,0,   -999.0,5,    185.1,2,    39.30,2,    29.22,2,     1.91,2,    0.521,4,    0.237,3, -999.000,5,   -999.0,9,   -999.0,9,         -999
  09AR20011029,  SR03,     1,  1,     17,2,20011029,-44.1217, 146.2182, 1010,    992.9,   5.0540,  34.4440,2,  34.4440,2,   -999.0,5,    184.8,2,    39.20,2,    29.59,2,     1.90,2,    0.661,4,    0.247,3, -999.000,5,   -999.0,9,   -999.0,9,   4.97101034
  09AR20011029,  SR03,     1,  1,     16,2,20011029,-44.1217, 146.2182, 1010,    993.0,   5.0560,  34.4430,2,  34.4460,2,   -999.0,5,    185.6,2,    39.20,2,    29.63,2,     1.91,2, -999.000,9, -999.000,9, -999.000,9,   -999.0,9,   -999.0,9,   4.97298295
  09AR20011029,  SR03,     1,  1,     19,2,20011029,-44.1217, 146.2182, 1010,    993.1,   5.0520,  34.4440,2,-999.0000,9,   -999.0,5,   -999.0,9,  -999.00,9,  -999.00,9,  -999.00,9, -999.000,9, -999.000,9, -999.000,9,   -999.0,9,   -999.0,9,   4.96900728
  09AR20011029,  SR03,     1,  1,     18,2,20011029,-44.1217, 146.2182, 1010,    993.1,   5.0490,  34.4430,2,  34.4430,2,   -999.0,5,    185.8,2,    39.30,2,    29.62,2,     1.91,2, -999.000,9, -999.000,9, -999.000,9,   -999.0,9,   -999.0,9,   4.96603152
  09AR20011029,  SR03,     1,  1,     22,2,20011029,-44.1217, 146.2182, 1010,    993.3,   5.0560,  34.4450,2,-999.0000,9,   -999.0,5,   -999.0,9,  -999.00,9,  -999.00,9,  -999.00,9, -999.000,9, -999.000,9, -999.000,9,   -999.0,9,   -999.0,9,   4.97295735
  09AR20011029,  SR03,     1,  1,     24,2,20011029,-44.1217, 146.2182, 1010,    993.5,   5.0250,  34.4460,2,-999.0000,9,   -999.0,5,   -999.0,9,  -999.00,9,  -999.00,9,  -999.00,9, -999.000,9, -999.000,9, -999.000,9,   -999.0,9,   -999.0,9,   4.94217153
  09AR20011029,  SR03,     1,  1,     23,2,20011029,-44.1217, 146.2182, 1010,    993.5,   5.0490,  34.4440,3,  34.4450,2,   -999.0,5,    185.1,2,    39.30,2,    29.15,2,     1.88,2, -999.000,9, -999.000,9, -999.000,9,   -999.0,9,   -999.0,9,   4.96599202
  09AR20011029,  SR03,     1,  1,     21,2,20011029,-44.1217, 146.2182, 1010,    993.5,   5.0540,  34.4440,2,  34.4430,2,   -999.0,5,    184.7,2,    39.00,2,    29.09,2,     1.90,2,    0.647,4,    0.244,3, -999.000,5,   -999.0,9,   -999.0,9,   4.97095752
  09AR20011029,  SR03,     1,  1,     20,2,20011029,-44.1217, 146.2182, 1010,    993.5,   5.0530,  34.4440,2,  34.4420,2,   -999.0,5,    184.8,2,    39.40,2,    29.45,2,     1.91,2, -999.000,9, -999.000,9, -999.000,9,   -999.0,9,   -999.0,9,   4.96996668
  09AR20011029,  SR03,     2,  1,     24,2,20011030,-44.0055, 146.3420,  302,      6.5,  13.1870,  35.2460,3,-999.0000,9,    273.2,3,   -999.0,9,  -999.00,9,  -999.00,9,  -999.00,9,    3.217,3,    1.848,3, -999.000,5,   2072.5,6,   2318.4,2,         -999
  09AR20011029,  SR03,     2,  1,     22,2,20011030,-44.0055, 146.3420,  302,      6.6,  13.2080,  35.2450,2,  35.2470,2,    273.2,3,    273.8,2,     1.70,2,     3.34,2,     0.27,2, -999.000,9, -999.000,9, -999.000,9,   -999.0,9,   -999.0,9,   13.2070867
  09AR20011029,  SR03,     2,  1,     23,2,20011030,-44.0055, 146.3420,  302,      6.7,  13.2110,  35.2460,2,-999.0000,9,    273.2,3,   -999.0,9,  -999.00,9,  -999.00,9,  -999.00,9,    3.217,3,    1.838,3, -999.000,5,   -999.0,9,   -999.0,9,   13.2100727
  09AR20011029,  SR03,     2,  1,     21,2,20011030,-44.0055, 146.3420,  302,     26.2,  12.6420,  35.2370,2,-999.0000,9,    263.4,2,   -999.0,9,  -999.00,9,  -999.00,9,  -999.00,9, -999.000,9, -999.000,9, -999.000,9,   2085.4,2,   2319.6,2,   12.6384772
  09AR20011029,  SR03,     2,  1,     20,2,20011030,-44.0055, 146.3420,  302,     26.3,  12.6610,  35.2360,4,  35.2390,2,    263.4,2,    262.6,2,     1.80,2,     4.69,2,     0.37,2, -999.000,9, -999.000,9, -999.000,9,   -999.0,9,   -999.0,9,   12.6574601
  09AR20011029,  SR03,     2,  1,     19,2,20011030,-44.0055, 146.3420,  302,     50.6,  12.5700,  35.2380,2,-999.0000,9,    253.6,2,   -999.0,9,  -999.00,9,  -999.00,9,  -999.00,9,    3.327,3,    1.876,3,    0.700,4,   2090.0,2,   2317.0,2,   12.5632157
  09AR20011029,  SR03,     2,  1,    718,2,20011030,-44.0055, 146.3420,  302,     50.7,  12.5690,  35.2380,2,  35.2390,2,    253.6,2,    257.4,2,     1.80,2,     5.42,2,     0.40,2, -999.000,9, -999.000,9, -999.000,9,   -999.0,9,   -999.0,9,   12.5622026
  09AR20011029,  SR03,     2,  1,     17,2,20011030,-44.0055, 146.3420,  302,     76.0,  12.4440,  35.2210,2,-999.0000,9,    249.1,2,   -999.0,9,  -999.00,9,  -999.00,9,  -999.00,9, -999.000,9, -999.000,9, -999.000,9,   -999.0,9,   2317.9,2,   12.4338698
  09AR20011029,  SR03,     2,  1,     16,2,20011030,-44.0055, 146.3420,  302,     76.1,  12.4410,  35.2210,2,  35.2220,2,    249.1,2,    256.3,2,     1.90,2,     6.11,2,     0.44,2, -999.000,9, -999.000,9, -999.000,9,   -999.0,9,   -999.0,9,    12.430858
  09AR20011029,  SR03,     2,  1,     14,2,20011030,-44.0055, 146.3420,  302,    101.4,  12.3160,  35.1980,2,  35.1970,2,    256.3,2,    255.6,2,     2.00,2,     6.60,2,     0.48,2, -999.000,9, -999.000,9, -999.000,9,   2093.9,2,   2316.7,2,   12.3025661
  09AR20011029,  SR03,     2,  1,     15,2,20011030,-44.0055, 146.3420,  302,    101.7,  12.3080,  35.1970,2,-999.0000,9,    256.3,2,   -999.0,9,  -999.00,9,  -999.00,9,  -999.00,9,    3.266,4,    1.820,3, -999.000,5,   -999.0,9,   -999.0,9,    12.294532
  09AR20011029,  SR03,     2,  1,     12,2,20011030,-44.0055, 146.3420,  302,    127.0,  12.2270,  35.1810,2,  35.1830,2,    255.7,2,    255.9,2,     2.00,2,     6.69,2,     0.49,2, -999.000,9, -999.000,9, -999.000,9,   2094.8,2,   2315.3,2,     12.21024
  09AR20011029,  SR03,     2,  1,     13,2,20011030,-44.0055, 146.3420,  302,    127.2,  12.2360,  35.1820,2,-999.0000,9,    255.7,2,   -999.0,9,  -999.00,9,  -999.00,9,  -999.00,9, -999.000,9, -999.000,9, -999.000,9,   -999.0,9,   -999.0,9,   12.2192055
  09AR20011029,  SR03,     2,  1,     11,2,20011030,-44.0055, 146.3420,  302,    151.8,  11.9760,  35.1340,2,-999.0000,9,    254.8,2,   -999.0,9,  -999.00,9,  -999.00,9,  -999.00,9,    3.307,3,    1.895,3, -999.000,5,   2097.7,2,   2314.7,2,   11.9562285
  09AR20011029,  SR03,     2,  1,     10,2,20011030,-44.0055, 146.3420,  302,    152.0,  11.9730,  35.1350,2,  35.1360,2,    254.8,2,    253.8,2,     2.20,2,     7.75,2,     0.54,2, -999.000,9, -999.000,9, -999.000,9,   -999.0,9,   -999.0,9,   11.9532051
  09AR20011029,  SR03,     2,  1,      9,2,20011030,-44.0055, 146.3420,  302,    175.1,  11.9550,  35.1300,2,-999.0000,9,    250.1,2,   -999.0,9,  -999.00,9,  -999.00,9,  -999.00,9, -999.000,9, -999.000,9, -999.000,9,   2099.8,2,   2312.7,2,   11.9321989
  09AR20011029,  SR03,     2,  1,      8,2,20011030,-44.0055, 146.3420,  302,    175.4,  11.9500,  35.1290,2,  35.1310,2,    250.1,2,    253.5,2,     2.20,2,     7.89,2,     0.57,2, -999.000,9, -999.000,9, -999.000,9,   -999.0,9,   -999.0,9,   11.9271656
  09AR20011029,  SR03,     2,  1,      7,2,20011030,-44.0055, 146.3420,  302,    201.4,  11.7580,  35.0950,2,-999.0000,9,    254.5,2,   -999.0,9,  -999.00,9,  -999.00,9,  -999.00,9,    3.296,3,    1.877,3, -999.000,5,   2103.0,2,   2311.6,2,   11.7320381
  09AR20011029,  SR03,     2,  1,      6,2,20011030,-44.0055, 146.3420,  302,    201.5,  11.7630,  35.0950,3,  35.0950,2,    254.5,2,    251.7,2,     2.40,2,     8.35,2,     0.59,2, -999.000,9, -999.000,9, -999.000,9,   -999.0,9,   -999.0,9,   11.7370179
  09AR20011029,  SR03,     2,  1,      5,2,20011030,-44.0055, 146.3420,  302,    225.2,  11.7610,  35.0930,3,-999.0000,9,    255.3,2,   -999.0,9,  -999.00,9,  -999.00,9,  -999.00,9, -999.000,9, -999.000,9, -999.000,9,   2100.9,2,   2312.6,2,         -999
  09AR20011029,  SR03,     2,  1,      4,2,20011030,-44.0055, 146.3420,  302,    225.5,  11.7600,  35.0950,2,-999.0000,9,    255.3,2,    253.5,2,     2.40,2,     8.33,2,     0.60,2, -999.000,9, -999.000,9, -999.000,9,   -999.0,9,   -999.0,9,   11.7308987
  09AR20011029,  SR03,     2,  1,      2,2,20011030,-44.0055, 146.3420,  302,    250.7,  11.6440,  35.0730,2,  35.0740,2,    252.2,2,    251.1,2,     2.50,2,     8.75,2,     0.61,2, -999.000,9, -999.000,9, -999.000,9,   2103.3,2,   2310.7,2,   11.6118269
  09AR20011029,  SR03,     2,  1,      3,2,20011030,-44.0055, 146.3420,  302,    251.0,  11.6510,  35.0730,3,-999.0000,9,    252.2,2,   -999.0,9,  -999.00,9,  -999.00,9,  -999.00,9,    3.320,3,    1.872,3, -999.000,5,   -999.0,9,   -999.0,9,         -999
  09AR20011029,  SR03,     2,  1,      1,2,20011030,-44.0055, 146.3420,  302,    305.5,  11.4410,  35.0350,4,  35.0370,2,    248.3,2,    250.9,2,     2.70,2,     9.53,2,     0.65,2,    3.336,3,    1.851,3, -999.000,5,   2104.3,2,   2305.1,2,   11.4021607
  09AR20011029,  SR03,     3,  1,     24,2,20011030,-44.0520, 146.2992,  504,      5.7,  13.2790,  35.2700,2,  35.2690,2,    280.7,3,    273.3,2,     1.50,2,     2.68,2,     0.24,2, -999.000,9, -999.000,9, -999.000,9,   2068.1,2,   2319.0,2,   13.2782083
  09AR20011029,  SR03,     3,  1,     23,2,20011030,-44.0520, 146.2992,  504,      5.9,  13.2790,  35.2700,2,-999.0000,9,    280.7,3,   -999.0,9,  -999.00,9,  -999.00,9,  -999.00,9, -999.000,9, -999.000,9, -999.000,9,   -999.0,9,   -999.0,9,   13.2781805
  09AR20011029,  SR03,     3,  1,     21,2,20011030,-44.0520, 146.2992,  504,     26.5,  13.2940,  35.2710,2,-999.0000,9,    278.5,2,   -999.0,9,  -999.00,9,  -999.00,9,  -999.00,9, -999.000,9, -999.000,9, -999.000,9,   -999.0,9,   -999.0,9,   13.2903135
  09AR20011029,  SR03,     3,  1,     22,2,20011030,-44.0520, 146.2992,  504,     26.6,  13.2930,  35.2710,2,  35.2710,2,    278.5,2,    273.5,2,     1.60,2,     2.61,2,     0.27,2, -999.000,9, -999.000,9, -999.000,9,   -999.0,9,   -999.0,9,   13.2892997
  09AR20011029,  SR03,     3,  1,     20,2,20011030,-44.0520, 146.2992,  504,     50.7,  13.0910,  35.2490,3,  35.2470,2,    274.2,2,    271.3,2,     1.80,2,     3.53,2,     0.35,2, -999.000,9, -999.000,9, -999.000,9,   -999.0,9,   -999.0,9,   13.0840148
  09AR20011029,  SR03,     3,  1,     19,2,20011030,-44.0520, 146.2992,  504,     50.9,  13.0560,  35.2470,4,-999.0000,9,    274.2,2,   -999.0,9,  -999.00,9,  -999.00,9,  -999.00,9, -999.000,9, -999.000,9, -999.000,9,   -999.0,9,   -999.0,9,         -999
  09AR20011029,  SR03,     3,  1,    718,2,20011030,-44.0520, 146.2992,  504,     76.0,  12.7180,  35.2580,2,  35.2570,2,    256.1,2,    257.8,2,     2.00,2,     5.56,2,     0.43,2, -999.000,9, -999.000,9, -999.000,9,   -999.0,9,   -999.0,9,   12.7077184
  09AR20011029,  SR03,     3,  1,     17,2,20011030,-44.0520, 146.2992,  504,     76.3,  12.7130,  35.2580,2,-999.0000,9,    256.1,2,   -999.0,9,  -999.00,9,  -999.00,9,  -999.00,9, -999.000,9, -999.000,9, -999.000,9,   -999.0,9,   -999.0,9,   12.7026803
  09AR20011029,  SR03,     3,  1,     16,2,20011030,-44.0520, 146.2992,  504,    101.4,  12.5250,  35.2220,3,  35.2210,2,    263.3,2,    259.1,2,     2.00,2,     6.02,2,     0.45,2, -999.000,9, -999.000,9, -999.000,9,   -999.0,9,   -999.0,9,   12.5114123
  09AR20011029,  SR03,     3,  1,     15,2,20011030,-44.0520, 146.2992,  504,    101.6,  12.5110,  35.2190,2,-999.0000,9,    263.3,2,   -999.0,9,  -999.00,9,  -999.00,9,  -999.00,9, -999.000,9, -999.000,9, -999.000,9,   -999.0,9,   -999.0,9,   12.4973958
  09AR20011029,  SR03,     3,  1,     14,2,20011030,-44.0520, 146.2992,  504,    149.9,  11.9840,  35.1350,3,  35.1360,2,    252.5,2,    249.7,2,     2.50,2,     8.35,2,     0.58,2, -999.000,9, -999.000,9, -999.000,9,   -999.0,9,   -999.0,9,   11.9644685
  09AR20011029,  SR03,     3,  1,     13,2,20011030,-44.0520, 146.2992,  504,    150.1,  11.9790,  35.1340,2,-999.0000,9,    252.5,2,   -999.0,9,  -999.00,9,  -999.00,9,  -999.00,9, -999.000,9, -999.000,9, -999.000,9,   -999.0,9,   -999.0,9,   11.9594481
  09AR20011029,  SR03,     3,  1,     12,2,20011030,-44.0520, 146.2992,  504,    201.2,  11.5950,  35.0740,3,  35.0780,2,    260.0,2,    255.9,2,     2.40,2,     8.51,2,     0.60,2, -999.000,9, -999.000,9, -999.000,9,   -999.0,9,   -999.0,9,   11.5693031
  09AR20011029,  SR03,     3,  1,     11,2,20011030,-44.0520, 146.2992,  504,    201.4,  11.6470,  35.0900,3,-999.0000,9,    260.0,2,   -999.0,9,  -999.00,9,  -999.00,9,  -999.00,9, -999.000,9, -999.000,9, -999.000,9,   -999.0,9,   -999.0,9,         -999
  09AR20011029,  SR03,     3,  1,     10,2,20011030,-44.0520, 146.2992,  504,    250.6,  11.3570,  35.0330,2,  35.0330,2,    259.9,2,    258.7,2,     2.50,2,     8.87,2,     0.62,2, -999.000,9, -999.000,9, -999.000,9,   -999.0,9,   -999.0,9,   11.3253682
  09AR20011029,  SR03,     3,  1,      9,2,20011030,-44.0520, 146.2992,  504,    251.2,  11.3510,  35.0330,2,-999.0000,9,    260.2,2,   -999.0,9,  -999.00,9,  -999.00,9,  -999.00,9, -999.000,9, -999.000,9, -999.000,9,   -999.0,9,   -999.0,9,   11.3193024
  09AR20011029,  SR03,     3,  1,      8,2,20011030,-44.0520, 146.2992,  504,    301.1,  10.8910,  34.9450,2,  34.9450,2,    257.3,2,    256.8,2,     2.90,2,    10.61,2,     0.72,2, -999.000,9, -999.000,9, -999.000,9,   -999.0,9,   -999.0,9,   10.8539531
  09AR20011029,  SR03,     3,  1,      7,2,20011030,-44.0520, 146.2992,  504,    301.1,  10.8890,  34.9450,2,-999.0000,9,    257.3,2,   -999.0,9,  -999.00,9,  -999.00,9,  -999.00,9, -999.000,9, -999.000,9, -999.000,9,   -999.0,9,   -999.0,9,   10.8519574
  09AR20011029,  SR03,     3,  1,      5,2,20011030,-44.0520, 146.2992,  504,    351.2,  10.3980,  34.8520,2,-999.0000,9,    251.3,2,   -999.0,9,  -999.00,9,  -999.00,9,  -999.00,9, -999.000,9, -999.000,9, -999.000,9,   -999.0,9,   -999.0,9,   10.3559833
  09AR20011029,  SR03,     3,  1,      6,2,20011030,-44.0520, 146.2992,  504,    351.3,  10.3980,  34.8520,2,  34.8520,2,    251.3,2,    253.6,2,     3.40,2,    12.19,2,     0.81,2, -999.000,9, -999.000,9, -999.000,9,   -999.0,9,   -999.0,9,   10.3559711
  09AR20011029,  SR03,     3,  1,      3,2,20011030,-44.0520, 146.2992,  504,    401.4,   9.8150,  34.7460,3,-999.0000,9,    251.9,2,   -999.0,9,  -999.00,9,  -999.00,9,  -999.00,9, -999.000,9, -999.000,9, -999.000,9,   -999.0,9,   -999.0,9,         -999
  09AR20011029,  SR03,     3,  1,      4,2,20011030,-44.0520, 146.2992,  504,    401.6,   9.8350,  34.7480,3,  34.7510,2,    251.9,2,    253.2,2,     3.90,2,    13.81,2,     0.91,2, -999.000,9, -999.000,9, -999.000,9,   -999.0,9,   -999.0,9,   9.78853292
  09AR20011029,  SR03,     3,  1,      2,2,20011030,-44.0520, 146.2992,  504,    453.5,   9.2210,  34.6530,2,  34.6520,2,    240.7,2,    244.3,2,     5.20,2,    16.24,2,     1.06,2, -999.000,9, -999.000,9, -999.000,9,   -999.0,9,   -999.0,9,   9.17048372
  09AR20011029,  SR03,     3,  1,      1,2,20011030,-44.0520, 146.2992,  504,    519.2,   9.1720,  34.6470,2,  34.6450,2,    244.7,2,    241.7,2,     5.60,2,    17.17,2,     1.09,2, -999.000,9, -999.000,9, -999.000,9,   -999.0,9,   -999.0,9,   9.11414889