BOTTLE,20081126PRINUNIVRMK
EXPOCODE,SECT_ID,STNNBR,CASTNO,BTLNBR,BTLNBR_FLAG_W,DATE,LATITUDE,LONGITUDE,DEPTH,CTDPRS,CTDTMP,CTDSAL,CTDSAL_FLAG_W,SALNTY,SALNTY_FLAG_W,CTDOXY,CTDOXY_FLAG_W,OXYGEN,OXYGEN_FLAG_W,SILCAT,SILCAT_FLAG_W,NITRAT,NITRAT_FLAG_W,PHSPHT,PHSPHT_FLAG_W,CFC-11,CFC-11_FLAG_W,CFC-12,CFC-12_FLAG_W,CFC113,CFC113_FLAG_W,TCARBN,TCARBN_FLAG_W,ALKALI,ALKALI_FLAG_W,THETA
,,,,,,,,,METERS,DBARS,ITS-90,PSS-78,,PSS-78,,UMOL/KG,,UMOL/KG,,UMOL/KG,,UMOL/KG,,UMOL/KG,,PMOL/KG,,PMOL/KG,,PMOL/KG,,UMOL/KG,,UMOL/KG,,DEGC
  09AR20011029,  SR03,   126,  1,     24,2,20011205,-63.9193, 139.8593, 3629,     10.2,  -1.5190,  33.7910,2,-999.0000,9,    431.2,3,   -999.0,9,  -999.00,9,  -999.00,9,  -999.00,9, -999.000,9, -999.000,9, -999.000,9,   -999.0,9,   -999.0,9,  -1.51920835
  09AR20011029,  SR03,   126,  1,     23,2,20011205,-63.9193, 139.8593, 3629,     10.2,  -1.5160,  33.7920,2,  33.7910,2,    431.2,3,    365.2,2,    42.60,2,    27.17,2,     1.66,2,    6.663,2,    3.425,2,    0.610,2,   2151.6,6,   2281.1,2,  -1.51620862
  09AR20011029,  SR03,   126,  1,     22,2,20011205,-63.9193, 139.8593, 3629,     30.1,  -1.5250,  33.8070,2,-999.0000,9,    364.0,2,   -999.0,9,  -999.00,9,  -999.00,9,  -999.00,9, -999.000,9, -999.000,9, -999.000,9,   -999.0,9,   -999.0,9,   -1.5256201
  09AR20011029,  SR03,   126,  1,     21,2,20011205,-63.9193, 139.8593, 3629,     30.2,  -1.5310,  33.8060,2,  33.8060,2,    364.0,2,    365.2,2,    42.70,2,    27.27,2,     1.70,2,    6.669,2,    3.430,2,    0.600,2,   2152.4,2,   2281.7,6,  -1.53162054
  09AR20011029,  SR03,   126,  1,     20,2,20011205,-63.9193, 139.8593, 3629,     50.0,  -1.5540,  33.8250,2,-999.0000,9,    363.5,2,   -999.0,9,  -999.00,9,  -999.00,9,  -999.00,9, -999.000,9, -999.000,9, -999.000,9,   -999.0,9,   -999.0,9,  -1.55502892
  09AR20011029,  SR03,   126,  1,     19,2,20011205,-63.9193, 139.8593, 3629,     50.0,  -1.5540,  33.8250,2,  33.8350,2,    363.5,2,    364.3,2,    42.90,2,    27.36,2,     1.72,2,    6.618,2,    3.399,2,    0.600,2,   2156.4,2,   2284.4,2,  -1.55502989
  09AR20011029,  SR03,   126,  1,     17,2,20011205,-63.9193, 139.8593, 3629,     70.9,  -1.7080,  34.0550,2,  34.0550,2,    345.6,2,    345.7,2,    47.70,2,    28.91,2,     1.92,2,    6.154,2,    3.159,2,    0.560,2,   -999.0,9,   -999.0,9,  -1.70940977
  09AR20011029,  SR03,   126,  1,    218,2,20011205,-63.9193, 139.8593, 3629,     71.2,  -1.7080,  34.0560,2,-999.0000,9,    342.8,2,   -999.0,9,  -999.00,9,  -999.00,9,  -999.00,9, -999.000,9, -999.000,9, -999.000,9,   2180.9,2,   2297.9,2,  -1.70941609
  09AR20011029,  SR03,   126,  1,    715,2,20011205,-63.9193, 139.8593, 3629,    100.5,  -1.4160,  34.2110,2,  34.2160,2,    315.1,2,    315.4,2,    56.20,2,    30.94,2,     2.03,2,    5.241,2,    2.704,2,    0.470,2,   -999.0,9,   -999.0,9,   -1.4183159
  09AR20011029,  SR03,   126,  1,     16,2,20011205,-63.9193, 139.8593, 3629,    100.6,  -1.4170,  34.2120,4,-999.0000,9,    315.1,2,   -999.0,9,  -999.00,9,  -999.00,9,  -999.00,9, -999.000,9, -999.000,9, -999.000,9,   2203.2,2,   2308.6,2,         -999
  09AR20011029,  SR03,   126,  1,     13,2,20011205,-63.9193, 139.8593, 3629,    130.5,  -0.7020,  34.3390,2,  34.3390,2,    284.6,2,    281.8,2,    64.90,2,    32.01,2,     2.08,2,    4.116,2,    2.121,2,    0.380,2,   -999.0,9,   -999.0,9, -0.705882687
  09AR20011029,  SR03,   126,  1,     14,2,20011205,-63.9193, 139.8593, 3629,    130.6,  -0.7010,  34.3390,2,-999.0000,9,    284.6,2,   -999.0,9,  -999.00,9,  -999.00,9,  -999.00,9, -999.000,9, -999.000,9, -999.000,9,   2216.9,2,   2316.1,2, -0.704886909
  09AR20011029,  SR03,   126,  1,     12,2,20011205,-63.9193, 139.8593, 3629,    160.5,  -0.0910,  34.4450,3,-999.0000,9,    254.9,2,   -999.0,9,  -999.00,9,  -999.00,9,  -999.00,9, -999.000,9, -999.000,9, -999.000,9,   -999.0,9,   -999.0,9,         -999
  09AR20011029,  SR03,   126,  1,     11,2,20011205,-63.9193, 139.8593, 3629,    160.5,  -0.1080,  34.4440,2,  34.4380,2,    254.9,2,    255.4,2,    71.90,2,    32.29,2,     2.11,2,    3.216,2,    1.649,2,    0.290,2,   2230.9,2,   2321.6,2, -0.113665867
  09AR20011029,  SR03,   126,  1,    310,2,20011205,-63.9193, 139.8593, 3629,    200.2,   0.4480,  34.5410,2,-999.0000,9,    232.7,2,   -999.0,9,  -999.00,9,  -999.00,9,  -999.00,9, -999.000,9, -999.000,9, -999.000,9,   -999.0,9,   -999.0,9,  0.439880151
  09AR20011029,  SR03,   126,  1,    709,2,20011205,-63.9193, 139.8593, 3629,    201.1,   0.4540,  34.5420,2,  34.5400,2,    232.8,2,    233.0,2,    79.00,2,    32.38,2,     2.13,2,    2.333,2,    1.175,2,    0.210,2,   2240.4,2,   2329.8,2,  0.445832246
  09AR20011029,  SR03,   126,  1,      7,2,20011205,-63.9193, 139.8593, 3629,    249.8,   0.7410,  34.5940,2,  34.5960,2,    219.9,2,    222.3,2,    83.20,2,    32.31,2,     2.11,2, -999.000,9, -999.000,9, -999.000,9,   -999.0,9,   -999.0,9,    0.7301188
  09AR20011029,  SR03,   126,  1,      8,2,20011205,-63.9193, 139.8593, 3629,    250.0,   0.7440,  34.5950,2,-999.0000,9,    219.9,2,   -999.0,9,  -999.00,9,  -999.00,9,  -999.00,9, -999.000,9, -999.000,9, -999.000,9,   2243.4,2,   2335.0,2,  0.733103842
  09AR20011029,  SR03,   126,  1,      6,2,20011205,-63.9193, 139.8593, 3629,    300.5,   0.7170,  34.6150,3,-999.0000,9,    223.1,2,   -999.0,9,  -999.00,9,  -999.00,9,  -999.00,9, -999.000,9, -999.000,9, -999.000,9,   -999.0,9,   -999.0,9,         -999
  09AR20011029,  SR03,   126,  1,      5,2,20011205,-63.9193, 139.8593, 3629,    300.6,   0.7580,  34.6200,4,  34.6170,2,    223.1,2,    221.8,2,    85.00,2,    32.03,2,     2.09,2, -999.000,9, -999.000,9, -999.000,9,   2243.1,2,   2336.0,2,  0.744716425
  09AR20011029,  SR03,   126,  1,      4,2,20011205,-63.9193, 139.8593, 3629,    350.9,   0.9420,  34.6500,2,  34.6510,2,    218.5,2,    216.5,2,    87.60,2,    31.83,2,     2.08,2, -999.000,9, -999.000,9, -999.000,9,   2246.5,2,   2337.8,2,  0.925779935
  09AR20011029,  SR03,   126,  1,      3,2,20011205,-63.9193, 139.8593, 3629,    400.4,   1.1010,  34.6780,2,  34.6780,2,    213.7,2,    212.3,2,    90.30,2,    31.57,2,     2.06,2, -999.000,9, -999.000,9, -999.000,9,   2246.9,2,   2341.9,2,   1.08177294
  09AR20011029,  SR03,   126,  1,      2,2,20011205,-63.9193, 139.8593, 3629,    450.3,   1.1630,  34.6890,2,  34.6890,2,    211.3,2,    210.3,2,    91.80,2,    31.69,2,     2.06,2, -999.000,9, -999.000,9, -999.000,9,   2247.5,2,   2341.7,6,   1.14094326
  09AR20011029,  SR03,   126,  1,      1,2,20011205,-63.9193, 139.8593, 3629,    500.7,   1.1210,  34.6910,2,  34.6910,2,    208.0,2,    210.7,2,    92.60,2,    31.66,2,     2.06,2, -999.000,9, -999.000,9, -999.000,9,   2247.0,6,   2341.9,2,   1.09642754
  09AR20011029,  SR03,   127,  1,     23,2,20011205,-63.9017, 139.8170, 3638,      6.4,  -1.5040,  33.7930,2,-999.0000,9,   -999.0,5,   -999.0,9,  -999.00,9,  -999.00,9,  -999.00,9, -999.000,9, -999.000,9, -999.000,9,   -999.0,9,   -999.0,9,  -1.50413136
  09AR20011029,  SR03,   127,  1,     22,2,20011205,-63.9017, 139.8170, 3638,      6.4,  -1.5030,  33.7930,2,-999.0000,9,   -999.0,5,   -999.0,9,  -999.00,9,  -999.00,9,  -999.00,9, -999.000,9, -999.000,9, -999.000,9,   -999.0,9,   -999.0,9,  -1.50313141
  09AR20011029,  SR03,   127,  1,     19,2,20011205,-63.9017, 139.8170, 3638,      6.4,  -1.5010,  33.7940,2,-999.0000,9,   -999.0,5,   -999.0,9,  -999.00,9,  -999.00,9,  -999.00,9, -999.000,9, -999.000,9, -999.000,9,   -999.0,9,   -999.0,9,  -1.50113154
  09AR20011029,  SR03,   127,  1,     24,2,20011205,-63.9017, 139.8170, 3638,      6.5,  -1.5050,  33.7930,2,  33.7950,2,   -999.0,5,   -999.0,9,    42.40,2,    27.27,2,     1.67,2, -999.000,9, -999.000,9, -999.000,9,   -999.0,9,   -999.0,9,  -1.50513338
  09AR20011029,  SR03,   127,  1,     21,2,20011205,-63.9017, 139.8170, 3638,      6.5,  -1.5040,  33.7930,2,-999.0000,9,   -999.0,5,   -999.0,9,  -999.00,9,  -999.00,9,  -999.00,9, -999.000,9, -999.000,9, -999.000,9,   -999.0,9,   -999.0,9,  -1.50413342
  09AR20011029,  SR03,   127,  1,     20,2,20011205,-63.9017, 139.8170, 3638,      6.5,  -1.5040,  33.7940,2,-999.0000,9,   -999.0,5,   -999.0,9,  -999.00,9,  -999.00,9,  -999.00,9, -999.000,9, -999.000,9, -999.000,9,   -999.0,9,   -999.0,9,  -1.50413343
  09AR20011029,  SR03,   127,  1,    218,2,20011205,-63.9017, 139.8170, 3638,     26.3,  -1.4960,  33.7940,2,  33.7960,2,   -999.0,5,   -999.0,9,    42.40,2,    27.25,2,     1.68,2, -999.000,9, -999.000,9, -999.000,9,   -999.0,9,   -999.0,9,  -1.49654696
  09AR20011029,  SR03,   127,  1,     17,2,20011205,-63.9017, 139.8170, 3638,     51.9,  -1.6820,  33.9530,2,-999.0000,9,   -999.0,5,   -999.0,9,    43.50,2,    27.73,2,     1.77,2, -999.000,9, -999.000,9, -999.000,9,   -999.0,9,   -999.0,9,  -1.68302368
  09AR20011029,  SR03,   127,  1,     16,2,20011205,-63.9017, 139.8170, 3638,     51.9,  -1.6860,  33.9560,2,-999.0000,9,   -999.0,5,   -999.0,9,  -999.00,9,  -999.00,9,  -999.00,9, -999.000,9, -999.000,9, -999.000,9,   -999.0,9,   -999.0,9,  -1.68702216
  09AR20011029,  SR03,   127,  1,    715,2,20011205,-63.9017, 139.8170, 3638,     71.0,  -1.6890,  34.0510,2,  34.0570,2,   -999.0,5,   -999.0,9,    47.70,2,    28.94,2,     1.91,2, -999.000,9, -999.000,9, -999.000,9,   -999.0,9,   -999.0,9,  -1.69042394
  09AR20011029,  SR03,   127,  1,     14,2,20011205,-63.9017, 139.8170, 3638,     91.3,  -1.6060,  34.1440,2,-999.0000,9,   -999.0,5,   -999.0,9,    52.00,2,    30.19,2,     2.00,2, -999.000,9, -999.000,9, -999.000,9,   -999.0,9,   -999.0,9,  -1.60793132
  09AR20011029,  SR03,   127,  1,     13,2,20011205,-63.9017, 139.8170, 3638,    102.0,  -1.4790,  34.1990,3,-999.0000,9,   -999.0,5,   -999.0,9,    54.50,2,    30.66,2,     2.02,2, -999.000,9, -999.000,9, -999.000,9,   -999.0,9,   -999.0,9,         -999
  09AR20011029,  SR03,   127,  1,     12,2,20011205,-63.9017, 139.8170, 3638,    151.1,  -0.7400,  34.3420,2,  34.5240,0,   -999.0,5,   -999.0,9,    64.70,2,    31.97,2,     2.07,2, -999.000,9, -999.000,9, -999.000,9,   -999.0,9,   -999.0,9, -0.744476563
  09AR20011029,  SR03,   127,  1,     11,2,20011205,-63.9017, 139.8170, 3638,    201.0,   0.3200,  34.5240,2,-999.0000,9,   -999.0,5,   -999.0,9,    77.70,2,    32.38,2,     2.11,2, -999.000,9, -999.000,9, -999.000,9,   -999.0,9,   -999.0,9,  0.312069243
  09AR20011029,  SR03,   127,  1,    310,2,20011205,-63.9017, 139.8170, 3638,    251.4,   0.5060,  34.5680,2,-999.0000,9,   -999.0,5,   -999.0,9,    81.00,2,    32.35,2,     2.10,2, -999.000,9, -999.000,9, -999.000,9,   -999.0,9,   -999.0,9,    0.4955529
  09AR20011029,  SR03,   127,  1,    709,2,20011205,-63.9017, 139.8170, 3638,    301.1,   0.6630,  34.6070,2,-999.0000,9,   -999.0,5,   -999.0,9,    84.20,2,    32.08,2,     2.09,2, -999.000,9, -999.000,9, -999.000,9,   -999.0,9,   -999.0,9,  0.649937018
  09AR20011029,  SR03,   127,  1,      8,2,20011205,-63.9017, 139.8170, 3638,    350.9,   0.8380,  34.6390,2,  34.6590,0,   -999.0,5,   -999.0,9,    86.30,2,    31.87,2,     2.08,2, -999.000,9, -999.000,9, -999.000,9,   -999.0,9,   -999.0,9,  0.822090337
  09AR20011029,  SR03,   127,  1,      7,2,20011205,-63.9017, 139.8170, 3638,    401.3,   0.9360,  34.6590,2,-999.0000,9,   -999.0,5,   -999.0,9,    88.10,2,    31.69,2,     2.07,2, -999.000,9, -999.000,9, -999.000,9,   -999.0,9,   -999.0,9,  0.917287341
  09AR20011029,  SR03,   127,  1,      6,2,20011205,-63.9017, 139.8170, 3638,    452.6,   0.8660,  34.6570,2,-999.0000,9,   -999.0,5,   -999.0,9,    88.80,2,    31.77,2,     2.06,2, -999.000,9, -999.000,9, -999.000,9,   -999.0,9,   -999.0,9,  0.844955727
  09AR20011029,  SR03,   127,  1,      5,2,20011205,-63.9017, 139.8170, 3638,    501.7,   0.8130,  34.6570,3,  34.6600,2,   -999.0,5,   -999.0,9,    90.20,2,    31.55,2,     2.06,2, -999.000,9, -999.000,9, -999.000,9,   -999.0,9,   -999.0,9,   0.78967407
  09AR20011029,  SR03,   127,  1,      4,2,20011205,-63.9017, 139.8170, 3638,    602.1,   0.9610,  34.6840,2,-999.0000,9,   -999.0,5,   -999.0,9,    93.60,2,    31.46,2,     2.05,2, -999.000,9, -999.000,9, -999.000,9,   -999.0,9,   -999.0,9,  0.931721235
  09AR20011029,  SR03,   127,  1,      3,2,20011205,-63.9017, 139.8170, 3638,    802.1,   1.0250,  34.7060,2,  34.7070,2,   -999.0,5,   -999.0,9,   100.60,2,    31.55,2,     2.05,2, -999.000,9, -999.000,9, -999.000,9,   -999.0,9,   -999.0,9,  0.984163513
  09AR20011029,  SR03,   127,  1,      1,2,20011205,-63.9017, 139.8170, 3638,   1001.4,   0.9300,  34.7090,2,-999.0000,9,   -999.0,5,   -999.0,9,  -999.00,9,  -999.00,9,  -999.00,9, -999.000,9, -999.000,9, -999.000,9,   -999.0,9,   -999.0,9,  0.878079371
  09AR20011029,  SR03,   127,  1,      2,2,20011205,-63.9017, 139.8170, 3638,   1002.2,   0.9330,  34.7090,2,  34.7110,2,   -999.0,5,   -999.0,9,   107.60,2,    31.92,2,     2.08,2, -999.000,9, -999.000,9, -999.000,9,   -999.0,9,   -999.0,9,  0.881003251
  09AR20011029,  SR03,   128,  1,     24,2,20011205,-63.8845, 139.7952, 3652,      5.5,  -1.5160,  33.7860,2,-999.0000,9,   -999.0,5,   -999.0,9,    41.40,2,    27.26,2,     1.68,2, -999.000,9, -999.000,9, -999.000,9,   -999.0,9,   -999.0,9,  -1.51611218
  09AR20011029,  SR03,   128,  1,     23,2,20011205,-63.8845, 139.7952, 3652,      5.5,  -1.5180,  33.7890,2,  33.7880,2,   -999.0,5,   -999.0,9,  -999.00,9,  -999.00,9,  -999.00,9, -999.000,9, -999.000,9, -999.000,9,   -999.0,9,   -999.0,9,  -1.51811211
  09AR20011029,  SR03,   128,  1,     20,2,20011205,-63.8845, 139.7952, 3652,     20.7,  -1.5100,  33.7890,2,-999.0000,9,   -999.0,5,   -999.0,9,  -999.00,9,  -999.00,9,  -999.00,9, -999.000,9, -999.000,9, -999.000,9,   -999.0,9,   -999.0,9,  -1.51042652
  09AR20011029,  SR03,   128,  1,     21,2,20011205,-63.8845, 139.7952, 3652,     20.8,  -1.5000,  33.7920,2,  33.7930,2,   -999.0,5,   -999.0,9,  -999.00,9,  -999.00,9,  -999.00,9, -999.000,9, -999.000,9, -999.000,9,   -999.0,9,   -999.0,9,  -1.50043059
  09AR20011029,  SR03,   128,  1,     22,2,20011205,-63.8845, 139.7952, 3652,     20.9,  -1.5040,  33.7890,2,-999.0000,9,   -999.0,5,   -999.0,9,    41.30,2,    27.35,2,     1.70,2, -999.000,9, -999.000,9, -999.000,9,   -999.0,9,   -999.0,9,  -1.50443179
  09AR20011029,  SR03,   128,  1,     19,2,20011205,-63.8845, 139.7952, 3652,     41.0,  -1.5710,  33.8420,2,  33.8650,0,   -999.0,5,   -999.0,9,  -999.00,9,  -999.00,9,  -999.00,9, -999.000,9, -999.000,9, -999.000,9,   -999.0,9,   -999.0,9,  -1.57183531
  09AR20011029,  SR03,   128,  1,    218,2,20011205,-63.8845, 139.7952, 3652,     41.0,  -1.5720,  33.8430,2,-999.0000,9,   -999.0,5,   -999.0,9,    41.70,2,    27.58,2,     1.73,2, -999.000,9, -999.000,9, -999.000,9,   -999.0,9,   -999.0,9,  -1.57283504
  09AR20011029,  SR03,   128,  1,     14,2,20011205,-63.8845, 139.7952, 3652,     55.7,  -1.7070,  33.9840,2,-999.0000,9,   -999.0,5,   -999.0,9,    42.90,2,    27.89,2,     1.81,2, -999.000,9, -999.000,9, -999.000,9,   -999.0,9,   -999.0,9,  -1.70809188
  09AR20011029,  SR03,   128,  1,     13,2,20011205,-63.8845, 139.7952, 3652,     55.7,  -1.7070,  33.9820,2,  33.9750,2,   -999.0,5,   -999.0,9,  -999.00,9,  -999.00,9,  -999.00,9, -999.000,9, -999.000,9, -999.000,9,   -999.0,9,   -999.0,9,  -1.70809089
  09AR20011029,  SR03,   128,  1,    715,2,20011205,-63.8845, 139.7952, 3652,     55.8,  -1.7070,  33.9850,2,-999.0000,9,   -999.0,5,   -999.0,9,  -999.00,9,  -999.00,9,  -999.00,9, -999.000,9, -999.000,9, -999.000,9,   -999.0,9,   -999.0,9,    -1.708094
  09AR20011029,  SR03,   128,  1,     16,2,20011205,-63.8845, 139.7952, 3652,     55.9,  -1.7070,  33.9830,2,-999.0000,9,   -999.0,5,   -999.0,9,  -999.00,9,  -999.00,9,  -999.00,9, -999.000,9, -999.000,9, -999.000,9,   -999.0,9,   -999.0,9,   -1.7080958
  09AR20011029,  SR03,   128,  1,     17,2,20011205,-63.8845, 139.7952, 3652,     56.0,  -1.7070,  33.9820,2,-999.0000,9,   -999.0,5,   -999.0,9,  -999.00,9,  -999.00,9,  -999.00,9, -999.000,9, -999.000,9, -999.000,9,   -999.0,9,   -999.0,9,  -1.70809771
  09AR20011029,  SR03,   128,  1,     12,2,20011205,-63.8845, 139.7952, 3652,     75.1,  -1.6870,  34.0620,2,-999.0000,9,   -999.0,5,   -999.0,9,    46.90,2,    29.08,2,     1.92,2, -999.000,9, -999.000,9, -999.000,9,   -999.0,9,   -999.0,9,  -1.68851127
  09AR20011029,  SR03,   128,  1,     11,2,20011205,-63.8845, 139.7952, 3652,     75.1,  -1.6880,  34.0600,2,  34.0620,2,   -999.0,5,   -999.0,9,  -999.00,9,  -999.00,9,  -999.00,9, -999.000,9, -999.000,9, -999.000,9,   -999.0,9,   -999.0,9,  -1.68951061
  09AR20011029,  SR03,   128,  1,    709,2,20011205,-63.8845, 139.7952, 3652,     99.6,  -1.5810,  34.1560,2,  34.1560,2,   -999.0,5,   -999.0,9,  -999.00,9,  -999.00,9,  -999.00,9, -999.000,9, -999.000,9, -999.000,9,   -999.0,9,   -999.0,9,  -1.58313915
  09AR20011029,  SR03,   128,  1,    310,2,20011205,-63.8845, 139.7952, 3652,     99.8,  -1.5790,  34.1570,2,-999.0000,9,   -999.0,5,   -999.0,9,    51.60,2,    30.39,2,     2.01,2, -999.000,9, -999.000,9, -999.000,9,   -999.0,9,   -999.0,9,  -1.58114558
  09AR20011029,  SR03,   128,  1,      7,2,20011205,-63.8845, 139.7952, 3652,    126.4,  -1.3530,  34.2280,2,  34.2260,2,   -999.0,5,   -999.0,9,  -999.00,9,  -999.00,9,  -999.00,9, -999.000,9, -999.000,9, -999.000,9,   -999.0,9,   -999.0,9,  -1.35601644
  09AR20011029,  SR03,   128,  1,      8,2,20011205,-63.8845, 139.7952, 3652,    128.1,  -1.3310,  34.2320,2,-999.0000,9,   -999.0,5,   -999.0,9,    55.80,2,    31.07,2,     2.04,2, -999.000,9, -999.000,9, -999.000,9,   -999.0,9,   -999.0,9,  -1.33408513
  09AR20011029,  SR03,   128,  1,      5,2,20011205,-63.8845, 139.7952, 3652,    151.0,  -0.9040,  34.3150,3,  34.3130,2,   -999.0,5,   -999.0,9,  -999.00,9,  -999.00,9,  -999.00,9, -999.000,9, -999.000,9, -999.000,9,   -999.0,9,   -999.0,9, -0.908251828
  09AR20011029,  SR03,   128,  1,      6,2,20011205,-63.8845, 139.7952, 3652,    151.6,  -0.8930,  34.3170,2,-999.0000,9,   -999.0,5,   -999.0,9,    61.30,2,    31.85,2,     2.07,2, -999.000,9, -999.000,9, -999.000,9,   -999.0,9,   -999.0,9, -0.897285132
  09AR20011029,  SR03,   128,  1,      4,2,20011205,-63.8845, 139.7952, 3652,    200.9,   0.1120,  34.4900,2,  34.4860,2,   -999.0,5,   -999.0,9,    73.60,2,    32.56,2,     2.11,2, -999.000,9, -999.000,9, -999.000,9,   -999.0,9,   -999.0,9,   0.10444047
  09AR20011029,  SR03,   128,  1,      3,2,20011205,-63.8845, 139.7952, 3652,    251.2,   0.4000,  34.5660,2,  34.5640,2,   -999.0,5,   -999.0,9,    79.90,2,    32.28,2,     2.10,2, -999.000,9, -999.000,9, -999.000,9,   -999.0,9,   -999.0,9,  0.389786946
  09AR20011029,  SR03,   128,  1,      2,2,20011205,-63.8845, 139.7952, 3652,    300.9,   0.6170,  34.6100,3,  34.6060,2,   -999.0,5,   -999.0,9,    83.00,2,    32.24,2,     2.08,2, -999.000,9, -999.000,9, -999.000,9,   -999.0,9,   -999.0,9,  0.604062309
  09AR20011029,  SR03,   128,  1,      1,2,20011205,-63.8845, 139.7952, 3652,    350.9,   0.6720,  34.6260,2,  34.6310,2,   -999.0,5,   -999.0,9,    85.30,2,    32.07,2,     2.08,2, -999.000,9, -999.000,9, -999.000,9,   -999.0,9,   -999.0,9,   0.65657967