BOTTLE,20081126PRINUNIVRMK
EXPOCODE,SECT_ID,STNNBR,CASTNO,BTLNBR,BTLNBR_FLAG_W,DATE,LATITUDE,LONGITUDE,DEPTH,CTDPRS,CTDTMP,CTDSAL,CTDSAL_FLAG_W,SALNTY,SALNTY_FLAG_W,CTDOXY,CTDOXY_FLAG_W,OXYGEN,OXYGEN_FLAG_W,SILCAT,SILCAT_FLAG_W,NITRAT,NITRAT_FLAG_W,PHSPHT,PHSPHT_FLAG_W,CFC-11,CFC-11_FLAG_W,CFC-12,CFC-12_FLAG_W,CFC113,CFC113_FLAG_W,TCARBN,TCARBN_FLAG_W,ALKALI,ALKALI_FLAG_W,THETA
,,,,,,,,,METERS,DBARS,ITS-90,PSS-78,,PSS-78,,UMOL/KG,,UMOL/KG,,UMOL/KG,,UMOL/KG,,UMOL/KG,,PMOL/KG,,PMOL/KG,,PMOL/KG,,UMOL/KG,,UMOL/KG,,DEGC
  09AR20011029,  SR03,    99,  1,     24,2,20011128,-65.8107, 142.9000, 1026,      4.7,  -1.6680,  34.3260,2,-999.0000,9,    328.9,3,   -999.0,9,  -999.00,9,  -999.00,9,  -999.00,9, -999.000,9, -999.000,9, -999.000,9,   -999.0,9,   -999.0,9,  -1.66809452
  09AR20011029,  SR03,    99,  1,     23,2,20011128,-65.8107, 142.9000, 1026,      4.7,  -1.6630,  34.3240,2,  34.3340,2,    328.9,3,    329.9,2,    60.40,2,    29.84,4,     1.78,2,    5.030,2,    2.629,2,    0.440,2,   2203.5,2,   2317.8,2,   -1.6630948
  09AR20011029,  SR03,    99,  1,     22,2,20011128,-65.8107, 142.9000, 1026,     50.1,  -1.6780,  34.4060,2,-999.0000,9,    307.6,2,   -999.0,9,  -999.00,9,  -999.00,9,  -999.00,9, -999.000,9, -999.000,9, -999.000,9,   -999.0,9,   -999.0,9,  -1.67903354
  09AR20011029,  SR03,    99,  1,     21,2,20011128,-65.8107, 142.9000, 1026,     50.1,  -1.6790,  34.4040,2,  34.4060,2,    307.6,2,    308.7,2,    66.50,2,    31.13,4,     1.88,2, -999.000,9, -999.000,9, -999.000,9,   2218.9,2,   2321.9,2,  -1.68003311
  09AR20011029,  SR03,    99,  1,     19,2,20011128,-65.8107, 142.9000, 1026,     98.4,  -1.3240,  34.4560,2,  34.4550,2,    288.9,2,    289.8,2,    73.40,2,    31.91,4,     1.95,2,    4.189,2,    2.195,2,    0.370,2,   -999.0,9,   -999.0,9,  -1.32639005
  09AR20011029,  SR03,    99,  1,     20,2,20011128,-65.8107, 142.9000, 1026,     98.8,  -1.2970,  34.4570,2,-999.0000,9,    288.9,2,   -999.0,9,  -999.00,9,  -999.00,9,  -999.00,9, -999.000,9, -999.000,9, -999.000,9,   2227.0,2,   2324.9,2,  -1.29942372
  09AR20011029,  SR03,    99,  1,    218,2,20011128,-65.8107, 142.9000, 1026,    200.2,  -0.8180,  34.5260,3,-999.0000,9,    264.4,2,   -999.0,9,  -999.00,9,  -999.00,9,  -999.00,9, -999.000,9, -999.000,9, -999.000,9,   -999.0,9,   -999.0,9,         -999
  09AR20011029,  SR03,    99,  1,     17,2,20011128,-65.8107, 142.9000, 1026,    201.0,  -0.8030,  34.5250,2,  34.5310,2,    264.4,2,    266.9,2,    83.90,2,    32.11,4,     1.98,2,    3.299,2,    1.715,2,    0.290,2,   2238.0,2,   2331.4,2, -0.809013881
  09AR20011029,  SR03,    99,  1,    715,2,20011128,-65.8107, 142.9000, 1026,    301.9,   0.2070,  34.6280,2,  34.6260,2,    230.3,2,    231.9,2,    92.70,2,    32.42,4,     2.00,2,    1.797,2,    0.908,2,    0.150,2,   -999.0,9,   -999.0,9,  0.195042127
  09AR20011029,  SR03,    99,  1,     16,2,20011128,-65.8107, 142.9000, 1026,    302.5,   0.2050,  34.6290,2,-999.0000,9,    230.3,2,   -999.0,9,  -999.00,9,  -999.00,9,  -999.00,9, -999.000,9, -999.000,9, -999.000,9,   2249.4,2,   2339.8,2,  0.193020111
  09AR20011029,  SR03,    99,  1,     13,2,20011128,-65.8107, 142.9000, 1026,    402.0,   0.2940,  34.6500,2,  34.6490,2,    223.0,2,    224.1,2,   100.60,2,    32.82,4,     2.02,2,    1.392,2,    0.694,2,    0.110,2,   -999.0,9,   -999.0,9,  0.277404624
  09AR20011029,  SR03,    99,  1,     14,2,20011128,-65.8107, 142.9000, 1026,    403.0,   0.2940,  34.6510,2,-999.0000,9,    223.0,2,   -999.0,9,  -999.00,9,  -999.00,9,  -999.00,9, -999.000,9, -999.000,9, -999.000,9,   2254.0,2,   2344.6,2,  0.277358231
  09AR20011029,  SR03,    99,  1,     11,2,20011128,-65.8107, 142.9000, 1026,    500.5,   0.3250,  34.6650,2,  34.6630,2,    220.1,2,    220.6,2,   106.70,2,    31.94,4,     2.04,2, -999.000,9, -999.000,9, -999.000,9,   -999.0,9,   -999.0,9,  0.303755053
  09AR20011029,  SR03,    99,  1,     12,2,20011128,-65.8107, 142.9000, 1026,    500.7,   0.3250,  34.6650,2,-999.0000,9,    220.1,2,   -999.0,9,  -999.00,9,  -999.00,9,  -999.00,9, -999.000,9, -999.000,9, -999.000,9,   2256.5,2,   2348.6,2,   0.30374382
  09AR20011029,  SR03,    99,  1,    709,2,20011128,-65.8107, 142.9000, 1026,    601.8,   0.2840,  34.6740,2,  34.6660,0,    221.0,2,    226.5,4,   110.90,2,    32.23,4,     2.05,2,    1.186,2,    0.589,2,    0.090,2,   -999.0,9,   -999.0,9,  0.258104605
  09AR20011029,  SR03,    99,  1,    310,2,20011128,-65.8107, 142.9000, 1026,    602.8,   0.2850,  34.6740,2,-999.0000,9,    221.0,2,   -999.0,9,  -999.00,9,  -999.00,9,  -999.00,9, -999.000,9, -999.000,9, -999.000,9,   2257.4,2,   2350.2,2,  0.259051221
  09AR20011029,  SR03,    99,  1,      7,2,20011128,-65.8107, 142.9000, 1026,    750.7,   0.2050,  34.6740,2,  34.6730,2,    223.4,2,    221.9,2,   113.10,2,    32.25,4,     2.06,2,    0.984,2,    0.481,2,    0.080,2,   -999.0,9,   -999.0,9,  0.172196106
  09AR20011029,  SR03,    99,  1,      8,2,20011128,-65.8107, 142.9000, 1026,    751.0,   0.2050,  34.6740,2,-999.0000,9,    223.9,2,   -999.0,9,  -999.00,9,  -999.00,9,  -999.00,9, -999.000,9, -999.000,9, -999.000,9,   2258.3,2,   2350.5,2,   0.17217962
  09AR20011029,  SR03,    99,  1,      6,2,20011128,-65.8107, 142.9000, 1026,    900.0,   0.0650,  34.6770,2,-999.0000,9,    229.3,2,   -999.0,9,  -999.00,9,  -999.00,9,  -999.00,9, -999.000,9, -999.000,9, -999.000,9,   -999.0,9,   -999.0,9, 0.0255106441
  09AR20011029,  SR03,    99,  1,      5,2,20011128,-65.8107, 142.9000, 1026,    900.4,   0.0650,  34.6770,2,  34.6760,2,    229.3,2,    225.8,2,   115.40,2,    33.17,4,     2.07,2,    1.068,2,    0.525,2,    0.080,2,   2258.9,2,   2351.2,2, 0.0254915545
  09AR20011029,  SR03,    99,  1,      3,2,20011128,-65.8107, 142.9000, 1026,    998.5,  -0.2060,  34.6570,2,  34.6570,2,    236.4,2,    237.4,2,   107.60,2,    32.98,4,     2.04,2,    1.741,2,    0.869,2,    0.140,2,   -999.0,9,   -999.0,9, -0.248428782
  09AR20011029,  SR03,    99,  1,      4,2,20011128,-65.8107, 142.9000, 1026,    999.2,  -0.2050,  34.6570,2,-999.0000,9,    236.7,2,   -999.0,9,  -999.00,9,  -999.00,9,  -999.00,9, -999.000,9, -999.000,9, -999.000,9,   2255.4,2,   2348.6,2, -0.247472959
  09AR20011029,  SR03,    99,  1,      2,2,20011128,-65.8107, 142.9000, 1026,   1043.6,  -0.3320,  34.6490,2,-999.0000,9,    239.6,2,   -999.0,9,  -999.00,9,  -999.00,9,  -999.00,9, -999.000,9, -999.000,9, -999.000,9,   -999.0,9,   -999.0,9, -0.375671384
  09AR20011029,  SR03,    99,  1,      1,2,20011128,-65.8107, 142.9000, 1026,   1047.3,  -0.3340,  34.6490,2,  34.6470,2,    240.0,2,    244.3,2,   103.10,2,    32.83,4,     2.03,2,    2.085,2,    1.056,2,    0.170,2,   2253.1,6,   2346.3,6, -0.377839832
  09AR20011029,  SR03,   100,  1,     24,2,20011128,-65.9992, 143.1617,  469,      4.9,  -1.6230,  34.3340,2,-999.0000,9,   -999.0,5,   -999.0,9,  -999.00,9,  -999.00,9,  -999.00,9, -999.000,9, -999.000,9, -999.000,9,   -999.0,9,   -999.0,9,  -1.62310057
  09AR20011029,  SR03,   100,  1,     23,2,20011128,-65.9992, 143.1617,  469,      5.0,  -1.6370,  34.3450,2,  34.3480,2,    323.3,3,    325.4,2,    62.90,2,    29.14,2,     1.76,2,    5.018,2,    2.616,2,    0.450,2,   2204.1,2,   2319.8,2,  -1.63710215
  09AR20011029,  SR03,   100,  1,     22,2,20011128,-65.9992, 143.1617,  469,     24.5,  -1.7130,  34.3930,2,-999.0000,9,    322.8,2,   -999.0,9,  -999.00,9,  -999.00,9,  -999.00,9, -999.000,9, -999.000,9, -999.000,9,   -999.0,9,   -999.0,9,  -1.71349107
  09AR20011029,  SR03,   100,  1,     20,2,20011128,-65.9992, 143.1617,  469,     50.0,  -1.5890,  34.4380,2,-999.0000,9,    304.4,2,   -999.0,9,  -999.00,9,  -999.00,9,  -999.00,9, -999.000,9, -999.000,9, -999.000,9,   -999.0,9,   -999.0,9,  -1.59007355
  09AR20011029,  SR03,   100,  1,     19,2,20011128,-65.9992, 143.1617,  469,     50.0,  -1.5960,  34.4390,2,  34.4370,2,    304.4,2,    302.1,2,    67.10,2,    29.94,2,     1.89,2,    4.570,2,    2.376,2,    0.400,2,   2219.8,2,   2324.5,2,  -1.59707039
  09AR20011029,  SR03,   100,  1,    218,2,20011128,-65.9992, 143.1617,  469,     79.6,  -1.2310,  34.5060,2,-999.0000,9,    283.6,2,   -999.0,9,  -999.00,9,  -999.00,9,  -999.00,9, -999.000,9, -999.000,9, -999.000,9,   -999.0,9,   -999.0,9,  -1.23299112
  09AR20011029,  SR03,   100,  1,     17,2,20011128,-65.9992, 143.1617,  469,     79.6,  -1.2450,  34.5050,2,  34.5060,2,    283.6,2,    292.1,2,    75.50,2,    30.15,2,     1.88,2, -999.000,9, -999.000,9, -999.000,9,   -999.0,9,   -999.0,9,  -1.24698144
  09AR20011029,  SR03,   100,  1,    715,2,20011128,-65.9992, 143.1617,  469,    109.6,  -1.0760,  34.5590,2,  34.5640,2,    282.0,2,    280.3,2,    82.60,2,    30.67,2,     1.92,2,    3.580,2,    1.862,2,    0.320,2,   -999.0,9,   -999.0,9,  -1.07893284
  09AR20011029,  SR03,   100,  1,     16,2,20011128,-65.9992, 143.1617,  469,    109.7,  -1.0780,  34.5570,2,-999.0000,9,    282.0,2,   -999.0,9,  -999.00,9,  -999.00,9,  -999.00,9, -999.000,9, -999.000,9, -999.000,9,   2234.6,2,   2335.6,2,  -1.08093224
  09AR20011029,  SR03,   100,  1,     14,2,20011128,-65.9992, 143.1617,  469,    144.9,  -0.6120,  34.6210,2,-999.0000,9,    263.8,2,   -999.0,9,  -999.00,9,  -999.00,9,  -999.00,9, -999.000,9, -999.000,9, -999.000,9,   -999.0,9,   -999.0,9, -0.616520926
  09AR20011029,  SR03,   100,  1,     13,2,20011128,-65.9992, 143.1617,  469,    145.0,  -0.6110,  34.6210,2,  34.6210,2,    263.8,2,    260.5,2,    91.60,2,    31.38,2,     1.96,2,    2.795,2,    1.441,2,    0.250,2,   2244.5,2,   2341.3,2, -0.615525425
  09AR20011029,  SR03,   100,  1,     11,2,20011128,-65.9992, 143.1617,  469,    174.7,  -1.8490,  34.5910,2,  34.5900,2,    317.6,2,    315.5,2,    72.50,2,    30.25,2,     1.89,2,    5.092,2,    2.645,2,    0.450,2,   -999.0,9,   -999.0,9,  -1.85262059
  09AR20011029,  SR03,   100,  1,     12,2,20011128,-65.9992, 143.1617,  469,    174.8,  -1.8490,  34.5910,2,-999.0000,9,    317.6,2,   -999.0,9,  -999.00,9,  -999.00,9,  -999.00,9, -999.000,9, -999.000,9, -999.000,9,   2230.1,2,   2336.3,2,  -1.85262317
  09AR20011029,  SR03,   100,  1,    709,2,20011128,-65.9992, 143.1617,  469,    230.2,  -1.8730,  34.6180,2,  34.6200,2,    316.2,2,    317.5,2,    75.20,2,    30.35,2,     1.90,2,    5.107,2,    2.650,2,    0.450,2,   -999.0,9,   -999.0,9,  -1.87786219
  09AR20011029,  SR03,   100,  1,    310,2,20011128,-65.9992, 143.1617,  469,    230.3,  -1.8740,  34.6190,2,-999.0000,9,    316.2,2,   -999.0,9,  -999.00,9,  -999.00,9,  -999.00,9, -999.000,9, -999.000,9, -999.000,9,   2233.7,2,   2338.9,2,  -1.87886207
  09AR20011029,  SR03,   100,  1,      7,2,20011128,-65.9992, 143.1617,  469,    300.3,  -1.8890,  34.6510,2,  34.6510,2,    317.9,2,    317.9,2,    74.90,2,    30.54,2,     1.91,2, -999.000,9, -999.000,9, -999.000,9,   -999.0,9,   -999.0,9,  -1.89552645
  09AR20011029,  SR03,   100,  1,      8,2,20011128,-65.9992, 143.1617,  469,    300.7,  -1.8890,  34.6510,2,-999.0000,9,    317.9,2,   -999.0,9,  -999.00,9,  -999.00,9,  -999.00,9, -999.000,9, -999.000,9, -999.000,9,   -999.0,9,   -999.0,9,  -1.89553633
  09AR20011029,  SR03,   100,  1,      5,2,20011128,-65.9992, 143.1617,  469,    349.7,  -1.8870,  34.6660,2,  34.6670,2,    320.0,2,    320.0,2,    75.30,2,    30.44,2,     1.91,2,    5.193,2,    2.685,2,    0.450,2,   -999.0,9,   -999.0,9,   -1.8947867
  09AR20011029,  SR03,   100,  1,      6,2,20011128,-65.9992, 143.1617,  469,    349.8,  -1.8870,  34.6660,2,-999.0000,9,    320.0,2,   -999.0,9,  -999.00,9,  -999.00,9,  -999.00,9, -999.000,9, -999.000,9, -999.000,9,   2237.6,2,   2340.6,2,  -1.89478859
  09AR20011029,  SR03,   100,  1,      3,2,20011128,-65.9992, 143.1617,  469,    399.6,  -1.8900,  34.6790,2,  34.6800,2,    325.2,2,    320.9,2,    75.40,2,    30.43,2,     1.91,2, -999.000,9, -999.000,9, -999.000,9,   -999.0,9,   -999.0,9,  -1.89909291
  09AR20011029,  SR03,   100,  1,      4,2,20011128,-65.9992, 143.1617,  469,    399.8,  -1.8900,  34.6790,2,-999.0000,9,    325.2,2,   -999.0,9,  -999.00,9,  -999.00,9,  -999.00,9, -999.000,9, -999.000,9, -999.000,9,   -999.0,9,   -999.0,9,  -1.89909747
  09AR20011029,  SR03,   100,  1,      1,2,20011128,-65.9992, 143.1617,  469,    456.0,  -1.8890,  34.6860,2,  34.6870,2,    316.7,2,    320.8,2,    75.40,2,    30.38,2,     1.92,2,    5.246,2,    2.723,2,    0.460,2,   -999.0,9,   -999.0,9,  -1.89963781
  09AR20011029,  SR03,   100,  1,      2,2,20011128,-65.9992, 143.1617,  469,    456.7,  -1.8890,  34.6860,2,-999.0000,9,    316.7,2,   -999.0,9,  -999.00,9,  -999.00,9,  -999.00,9, -999.000,9, -999.000,9, -999.000,9,   2237.1,6,   2343.2,2,  -1.89965638
  09AR20011029,  SR03,   101,  1,     24,2,20011128,-66.1992, 142.8203,  490,      9.9,  -1.4120,  34.5250,2,-999.0000,9,    338.0,3,   -999.0,9,  -999.00,9,  -999.00,9,  -999.00,9, -999.000,9, -999.000,9, -999.000,9,   -999.0,9,   -999.0,9,  -1.41222568
  09AR20011029,  SR03,   101,  1,     23,2,20011128,-66.1992, 142.8203,  490,      9.9,  -1.4170,  34.5240,2,-999.0000,9,    338.0,3,   -999.0,9,  -999.00,9,  -999.00,9,  -999.00,9, -999.000,9, -999.000,9, -999.000,9,   -999.0,9,   -999.0,9,  -1.41722522
  09AR20011029,  SR03,   101,  1,     22,2,20011128,-66.1992, 142.8203,  490,      9.9,  -1.4190,  34.5250,2,-999.0000,9,    338.0,3,   -999.0,9,  -999.00,9,  -999.00,9,  -999.00,9, -999.000,9, -999.000,9, -999.000,9,   -999.0,9,   -999.0,9,  -1.41922507
  09AR20011029,  SR03,   101,  1,     21,2,20011128,-66.1992, 142.8203,  490,      9.9,  -1.4210,  34.5250,2,-999.0000,9,    338.0,3,   -999.0,9,  -999.00,9,  -999.00,9,  -999.00,9, -999.000,9, -999.000,9, -999.000,9,   -999.0,9,   -999.0,9,   -1.4212249
  09AR20011029,  SR03,   101,  1,     20,2,20011128,-66.1992, 142.8203,  490,      9.9,  -1.4190,  34.5250,2,  34.5230,2,    338.0,3,    336.8,2,    71.00,2,    29.37,2,     1.79,2,    5.485,2,    2.873,2,    0.490,2,   2219.5,2,   2333.3,2,  -1.41922503
  09AR20011029,  SR03,   101,  1,     19,2,20011128,-66.1992, 142.8203,  490,     39.9,  -1.6580,  34.5490,2,-999.0000,9,    320.1,2,   -999.0,9,  -999.00,9,  -999.00,9,  -999.00,9, -999.000,9, -999.000,9, -999.000,9,   -999.0,9,   -999.0,9,  -1.65883729
  09AR20011029,  SR03,   101,  1,    218,2,20011128,-66.1992, 142.8203,  490,     39.9,  -1.6600,  34.5500,2,-999.0000,9,    320.1,2,   -999.0,9,  -999.00,9,  -999.00,9,  -999.00,9, -999.000,9, -999.000,9, -999.000,9,   -999.0,9,   -999.0,9,  -1.66083667
  09AR20011029,  SR03,   101,  1,     17,2,20011128,-66.1992, 142.8203,  490,     39.9,  -1.6650,  34.5510,2,  34.5520,2,    320.1,2,    324.6,2,    72.40,2,    29.64,2,     1.84,2,    5.151,2,    2.684,2,    0.460,2,   2225.2,2,   2333.8,2,  -1.66583508
  09AR20011029,  SR03,   101,  1,     16,2,20011128,-66.1992, 142.8203,  490,    100.4,  -1.8330,  34.5830,2,-999.0000,9,    315.2,2,   -999.0,9,  -999.00,9,  -999.00,9,  -999.00,9, -999.000,9, -999.000,9, -999.000,9,   -999.0,9,   -999.0,9,  -1.83501965
  09AR20011029,  SR03,   101,  1,     14,2,20011128,-66.1992, 142.8203,  490,    100.4,  -1.8330,  34.5830,2,  34.5840,2,    315.2,2,    315.0,2,    75.90,2,    30.44,2,     1.90,2,    4.969,2,    2.574,2,    0.440,2,   -999.0,9,   -999.0,9,  -1.83501985
  09AR20011029,  SR03,   101,  1,    715,2,20011128,-66.1992, 142.8203,  490,    100.5,  -1.8330,  34.5830,2,-999.0000,9,    315.2,2,   -999.0,9,  -999.00,9,  -999.00,9,  -999.00,9, -999.000,9, -999.000,9, -999.000,9,   2233.0,2,   2335.0,2,  -1.83502176
  09AR20011029,  SR03,   101,  1,     11,2,20011128,-66.1992, 142.8203,  490,    150.3,  -1.8610,  34.6020,2,  34.6010,2,    315.0,2,    316.3,2,    75.80,2,    30.42,2,     1.90,2,    5.055,2,    2.619,2,    0.450,2,   -999.0,9,   -999.0,9,  -1.86406614
  09AR20011029,  SR03,   101,  1,     12,2,20011128,-66.1992, 142.8203,  490,    150.6,  -1.8610,  34.6020,2,-999.0000,9,    315.0,2,   -999.0,9,  -999.00,9,  -999.00,9,  -999.00,9, -999.000,9, -999.000,9, -999.000,9,   -999.0,9,   -999.0,9,    -1.864073
  09AR20011029,  SR03,   101,  1,     13,2,20011128,-66.1992, 142.8203,  490,    150.8,  -1.8610,  34.6020,2,-999.0000,9,    315.0,2,   -999.0,9,  -999.00,9,  -999.00,9,  -999.00,9, -999.000,9, -999.000,9, -999.000,9,   2233.9,2,   2336.1,2,  -1.86407738
  09AR20011029,  SR03,   101,  1,      8,2,20011128,-66.1992, 142.8203,  490,    202.1,  -1.8680,  34.6140,2,  34.6150,2,    315.6,2,    316.9,2,    75.70,2,    30.33,2,     1.90,2,    5.062,2,    2.617,2,    0.450,2,   -999.0,9,   -999.0,9,  -1.87221949
  09AR20011029,  SR03,   101,  1,    709,2,20011128,-66.1992, 142.8203,  490,    202.3,  -1.8680,  34.6160,2,-999.0000,9,    315.6,2,   -999.0,9,  -999.00,9,  -999.00,9,  -999.00,9, -999.000,9, -999.000,9, -999.000,9,   -999.0,9,   -999.0,9,  -1.87222446
  09AR20011029,  SR03,   101,  1,    310,2,20011128,-66.1992, 142.8203,  490,    202.5,  -1.8680,  34.6150,2,-999.0000,9,    315.6,2,   -999.0,9,  -999.00,9,  -999.00,9,  -999.00,9, -999.000,9, -999.000,9, -999.000,9,   2234.7,2,   2338.7,2,  -1.87222864
  09AR20011029,  SR03,   101,  1,      5,2,20011128,-66.1992, 142.8203,  490,    299.9,  -1.8740,  34.6320,2,  34.6320,2,    318.7,2,    318.0,2,    75.50,2,    30.41,2,     1.90,2,    5.114,2,    2.649,2,    0.460,2,   -999.0,9,   -999.0,9,  -1.88054454
  09AR20011029,  SR03,   101,  1,      6,2,20011128,-66.1992, 142.8203,  490,    300.1,  -1.8740,  34.6320,2,-999.0000,9,    318.7,2,   -999.0,9,  -999.00,9,  -999.00,9,  -999.00,9, -999.000,9, -999.000,9, -999.000,9,   -999.0,9,   -999.0,9,  -1.88054949
  09AR20011029,  SR03,   101,  1,      7,2,20011128,-66.1992, 142.8203,  490,    300.3,  -1.8740,  34.6330,2,-999.0000,9,    318.7,2,   -999.0,9,  -999.00,9,  -999.00,9,  -999.00,9, -999.000,9, -999.000,9, -999.000,9,   2234.6,2,   2338.7,2,  -1.88055503
  09AR20011029,  SR03,   101,  1,      4,2,20011128,-66.1992, 142.8203,  490,    399.9,  -1.8760,  34.6500,2,-999.0000,9,    320.9,2,   -999.0,9,  -999.00,9,  -999.00,9,  -999.00,9, -999.000,9, -999.000,9, -999.000,9,   -999.0,9,   -999.0,9,  -1.88512599
  09AR20011029,  SR03,   101,  1,      3,2,20011128,-66.1992, 142.8203,  490,    400.1,  -1.8760,  34.6510,2,-999.0000,9,    320.9,2,   -999.0,9,  -999.00,9,  -999.00,9,  -999.00,9, -999.000,9, -999.000,9, -999.000,9,   -999.0,9,   -999.0,9,  -1.88513211
  09AR20011029,  SR03,   101,  1,      2,2,20011128,-66.1992, 142.8203,  490,    400.2,  -1.8760,  34.6510,2,  34.6510,2,    320.9,2,    320.5,2,    75.60,2,    30.30,2,     1.90,2,    5.203,2,    2.695,2,    0.460,2,   2236.8,2,   2340.2,6,  -1.88513479
  09AR20011029,  SR03,   101,  1,      1,2,20011128,-66.1992, 142.8203,  490,    481.5,  -1.8770,  34.6670,2,  34.6670,2,    323.9,2,    319.7,2,    75.70,2,    30.60,2,     1.92,2,    5.229,2,    2.708,2,    0.460,2,   2238.2,6,   2340.7,2,  -1.88838357