BOTTLE,20081126PRINUNIVRMK
EXPOCODE,SECT_ID,STNNBR,CASTNO,BTLNBR,BTLNBR_FLAG_W,DATE,LATITUDE,LONGITUDE,DEPTH,CTDPRS,CTDTMP,CTDSAL,CTDSAL_FLAG_W,SALNTY,SALNTY_FLAG_W,CTDOXY,CTDOXY_FLAG_W,OXYGEN,OXYGEN_FLAG_W,SILCAT,SILCAT_FLAG_W,NITRAT,NITRAT_FLAG_W,PHSPHT,PHSPHT_FLAG_W,CFC-11,CFC-11_FLAG_W,CFC-12,CFC-12_FLAG_W,CFC113,CFC113_FLAG_W,TCARBN,TCARBN_FLAG_W,ALKALI,ALKALI_FLAG_W,THETA
,,,,,,,,,METERS,DBARS,ITS-90,PSS-78,,PSS-78,,UMOL/KG,,UMOL/KG,,UMOL/KG,,UMOL/KG,,UMOL/KG,,PMOL/KG,,PMOL/KG,,PMOL/KG,,UMOL/KG,,UMOL/KG,,DEGC
  09AR20011029,  SR03,   117,  1,     24,2,20011203,-65.6705, 141.1908,  773,     10.6,  -1.5200,  34.3060,2,-999.0000,9,    366.9,3,   -999.0,9,  -999.00,9,  -999.00,9,  -999.00,9, -999.000,9, -999.000,9, -999.000,9,   -999.0,9,   -999.0,9,  -1.52022715
  09AR20011029,  SR03,   117,  1,     23,2,20011203,-65.6705, 141.1908,  773,     10.6,  -1.5190,  34.3080,2,-999.0000,9,    366.9,3,   -999.0,9,  -999.00,9,  -999.00,9,  -999.00,9, -999.000,9, -999.000,9, -999.000,9,   -999.0,9,   -999.0,9,  -1.51922728
  09AR20011029,  SR03,   117,  1,     22,2,20011203,-65.6705, 141.1908,  773,     10.6,  -1.5190,  34.3080,2,-999.0000,9,    366.9,3,   -999.0,9,  -999.00,9,  -999.00,9,  -999.00,9, -999.000,9, -999.000,9, -999.000,9,   -999.0,9,   -999.0,9,  -1.51922728
  09AR20011029,  SR03,   117,  1,     21,2,20011203,-65.6705, 141.1908,  773,     10.6,  -1.5190,  34.3080,2,-999.0000,9,    366.9,3,   -999.0,9,  -999.00,9,  -999.00,9,  -999.00,9, -999.000,9, -999.000,9, -999.000,9,   -999.0,9,   -999.0,9,  -1.51922728
  09AR20011029,  SR03,   117,  1,     20,2,20011203,-65.6705, 141.1908,  773,     10.6,  -1.5170,  34.3070,2,-999.0000,9,    366.9,3,   -999.0,9,  -999.00,9,  -999.00,9,  -999.00,9, -999.000,9, -999.000,9, -999.000,9,   -999.0,9,   -999.0,9,  -1.51722745
  09AR20011029,  SR03,   117,  1,     19,2,20011203,-65.6705, 141.1908,  773,     10.6,  -1.5150,  34.3070,2,  34.3080,2,    366.9,3,   -999.0,9,    63.10,2,    29.58,2,     1.87,3,    5.600,2,    2.908,2,    0.510,2,   2201.6,6,   2316.2,2,  -1.51522766
  09AR20011029,  SR03,   117,  1,     17,2,20011203,-65.6705, 141.1908,  773,     51.9,  -1.5210,  34.3210,2,  34.3340,0,    330.9,2,    331.8,2,    61.60,2,    29.54,2,     1.88,3,    5.442,2,    2.833,2,    0.520,2,   -999.0,9,   -999.0,9,  -1.52213431
  09AR20011029,  SR03,   117,  1,    218,2,20011203,-65.6705, 141.1908,  773,     52.0,  -1.5180,  34.3190,2,-999.0000,9,    330.9,2,   -999.0,9,  -999.00,9,  -999.00,9,  -999.00,9, -999.000,9, -999.000,9, -999.000,9,   2203.6,2,   2317.5,2,  -1.51913771
  09AR20011029,  SR03,   117,  1,    715,2,20011203,-65.6705, 141.1908,  773,    111.4,  -1.7230,  34.3950,2,  34.3960,2,    313.7,2,    309.4,2,    64.40,2,    30.49,2,     1.95,3, -999.000,9, -999.000,9, -999.000,9,   -999.0,9,   -999.0,9,  -1.72531947
  09AR20011029,  SR03,   117,  1,     16,2,20011203,-65.6705, 141.1908,  773,    111.9,  -1.7230,  34.3960,2,-999.0000,9,    313.7,2,   -999.0,9,  -999.00,9,  -999.00,9,  -999.00,9, -999.000,9, -999.000,9, -999.000,9,   2214.3,2,   2322.5,2,  -1.72533043
  09AR20011029,  SR03,   117,  1,     13,2,20011203,-65.6705, 141.1908,  773,    161.1,  -1.7270,  34.4210,2,  34.4220,2,    308.0,2,    307.3,2,    66.00,2,    30.73,2,     1.96,3,    4.843,2,    2.517,2,    0.450,2,   -999.0,9,   -999.0,9,  -1.73043576
  09AR20011029,  SR03,   117,  1,     14,2,20011203,-65.6705, 141.1908,  773,    161.4,  -1.7270,  34.4230,2,-999.0000,9,    308.0,2,   -999.0,9,  -999.00,9,  -999.00,9,  -999.00,9, -999.000,9, -999.000,9, -999.000,9,   2217.9,2,   2324.5,2,  -1.73044295
  09AR20011029,  SR03,   117,  1,     12,2,20011203,-65.6705, 141.1908,  773,    230.2,  -1.1560,  34.4830,3,-999.0000,9,    281.3,2,   -999.0,9,  -999.00,9,  -999.00,9,  -999.00,9, -999.000,9, -999.000,9, -999.000,9,   -999.0,9,   -999.0,9,         -999
  09AR20011029,  SR03,   117,  1,     11,2,20011203,-65.6705, 141.1908,  773,    230.3,  -1.1600,  34.4870,3,  34.4820,2,    281.3,2,    283.9,2,    75.30,2,    31.15,2,     1.99,3,    3.977,2,    2.055,2,    0.370,2,   2227.0,2,   2329.3,2,  -1.16622606
  09AR20011029,  SR03,   117,  1,    709,2,20011203,-65.6705, 141.1908,  773,    301.5,  -1.1260,  34.5120,2,  34.5130,2,    277.4,2,    281.5,2,    78.90,2,    31.18,2,     2.01,3,    3.831,2,    1.981,2,    0.360,2,   -999.0,9,   -999.0,9,  -1.13446255
  09AR20011029,  SR03,   117,  1,    310,2,20011203,-65.6705, 141.1908,  773,    302.1,  -1.1240,  34.5120,2,-999.0000,9,    277.4,2,   -999.0,9,  -999.00,9,  -999.00,9,  -999.00,9, -999.000,9, -999.000,9, -999.000,9,   2230.3,2,   2332.2,2,  -1.13248573
  09AR20011029,  SR03,   117,  1,      7,2,20011203,-65.6705, 141.1908,  773,    401.7,  -0.0350,  34.6160,2,  34.6160,2,    239.5,2,    239.3,2,    94.70,2,    31.61,2,     2.03,3,    2.012,2,    1.013,2,    0.170,2,   -999.0,9,   -999.0,9, -0.050450286
  09AR20011029,  SR03,   117,  1,      8,2,20011203,-65.6705, 141.1908,  773,    402.0,  -0.0340,  34.6160,2,-999.0000,9,    239.5,2,   -999.0,9,  -999.00,9,  -999.00,9,  -999.00,9, -999.000,9, -999.000,9, -999.000,9,   2243.9,2,   2344.2,2,-0.0494662974
  09AR20011029,  SR03,   117,  1,      5,2,20011203,-65.6705, 141.1908,  773,    520.7,   0.2250,  34.6580,2,  34.6580,2,    225.6,2,    225.7,2,   105.60,2,    32.23,2,     2.07,3, -999.000,9, -999.000,9, -999.000,9,   -999.0,9,   -999.0,9,  0.203241469
  09AR20011029,  SR03,   117,  1,      6,2,20011203,-65.6705, 141.1908,  773,    521.6,   0.2260,  34.6590,2,-999.0000,9,    225.5,2,   -999.0,9,  -999.00,9,  -999.00,9,  -999.00,9, -999.000,9, -999.000,9, -999.000,9,   -999.0,9,   2349.6,2,  0.204194356
  09AR20011029,  SR03,   117,  1,      3,2,20011203,-65.6705, 141.1908,  773,    671.3,  -0.4280,  34.6430,2,  34.6430,2,    255.6,2,    251.8,2,    98.80,2,    31.76,2,     2.04,3,    2.367,2,    1.203,2,    0.210,2,   -999.0,9,   -999.0,9, -0.453293015
  09AR20011029,  SR03,   117,  1,      4,2,20011203,-65.6705, 141.1908,  773,    671.7,  -0.4400,  34.6430,2,-999.0000,9,    255.6,2,   -999.0,9,  -999.00,9,  -999.00,9,  -999.00,9, -999.000,9, -999.000,9, -999.000,9,   2246.7,2,   2347.2,6, -0.465243224
  09AR20011029,  SR03,   117,  1,      1,2,20011203,-65.6705, 141.1908,  773,    766.4,  -1.1940,  34.6390,3,  34.6400,2,    284.8,2,    286.9,2,    87.00,2,    31.15,2,     2.01,3,    3.838,2,    1.981,2,    0.360,2,   -999.0,9,   -999.0,9,  -1.21862405
  09AR20011029,  SR03,   117,  1,      2,2,20011203,-65.6705, 141.1908,  773,    766.9,  -1.1890,  34.6390,3,-999.0000,9,    284.8,2,   -999.0,9,  -999.00,9,  -999.00,9,  -999.00,9, -999.000,9, -999.000,9, -999.000,9,   2239.5,6,   2344.7,2,         -999
  09AR20011029,  SR03,   118,  1,     21,2,20011203,-65.6102, 141.2575, 1160,     11.8,  -1.4770,  34.3030,2,-999.0000,9,    333.2,3,   -999.0,9,  -999.00,9,  -999.00,9,  -999.00,9, -999.000,9, -999.000,9, -999.000,9,   -999.0,9,   -999.0,9,  -1.47725738
  09AR20011029,  SR03,   118,  1,     20,2,20011203,-65.6102, 141.2575, 1160,     11.8,  -1.4780,  34.3000,2,-999.0000,9,    333.2,3,   -999.0,9,  -999.00,9,  -999.00,9,  -999.00,9, -999.000,9, -999.000,9, -999.000,9,   -999.0,9,   -999.0,9,  -1.47825721
  09AR20011029,  SR03,   118,  1,     17,2,20011203,-65.6102, 141.2575, 1160,     11.8,  -1.4770,  34.3020,2,-999.0000,9,    333.2,3,   -999.0,9,  -999.00,9,  -999.00,9,  -999.00,9, -999.000,9, -999.000,9, -999.000,9,   -999.0,9,   -999.0,9,  -1.47725736
  09AR20011029,  SR03,   118,  1,     14,2,20011203,-65.6102, 141.2575, 1160,     11.8,  -1.4770,  34.3020,2,  34.3000,2,    333.2,3,    334.0,2,    63.30,2,    29.43,2,     1.87,3,    5.700,2,    2.956,2,    0.520,2,   -999.0,9,   -999.0,9,  -1.47725731
  09AR20011029,  SR03,   118,  1,     24,2,20011203,-65.6102, 141.2575, 1160,     11.9,  -1.4820,  34.3020,2,-999.0000,9,    333.2,3,   -999.0,9,  -999.00,9,  -999.00,9,  -999.00,9, -999.000,9, -999.000,9, -999.000,9,   -999.0,9,   -999.0,9,  -1.48225903
  09AR20011029,  SR03,   118,  1,     23,2,20011203,-65.6102, 141.2575, 1160,     11.9,  -1.4790,  34.3030,2,-999.0000,9,    333.2,3,   -999.0,9,  -999.00,9,  -999.00,9,  -999.00,9, -999.000,9, -999.000,9, -999.000,9,   -999.0,9,   -999.0,9,  -1.47925936
  09AR20011029,  SR03,   118,  1,     22,2,20011203,-65.6102, 141.2575, 1160,     11.9,  -1.4770,  34.3020,2,-999.0000,9,    333.2,3,   -999.0,9,  -999.00,9,  -999.00,9,  -999.00,9, -999.000,9, -999.000,9, -999.000,9,   -999.0,9,   -999.0,9,  -1.47725955
  09AR20011029,  SR03,   118,  1,     19,2,20011203,-65.6102, 141.2575, 1160,     11.9,  -1.4780,  34.3010,2,-999.0000,9,    333.2,3,   -999.0,9,  -999.00,9,  -999.00,9,  -999.00,9, -999.000,9, -999.000,9, -999.000,9,   -999.0,9,   -999.0,9,  -1.47825942
  09AR20011029,  SR03,   118,  1,    218,2,20011203,-65.6102, 141.2575, 1160,     11.9,  -1.4770,  34.3000,2,-999.0000,9,    333.2,3,   -999.0,9,  -999.00,9,  -999.00,9,  -999.00,9, -999.000,9, -999.000,9, -999.000,9,   -999.0,9,   -999.0,9,   -1.4772595
  09AR20011029,  SR03,   118,  1,     16,2,20011203,-65.6102, 141.2575, 1160,     11.9,  -1.4760,  34.3000,2,-999.0000,9,    333.2,3,   -999.0,9,  -999.00,9,  -999.00,9,  -999.00,9, -999.000,9, -999.000,9, -999.000,9,   -999.0,9,   -999.0,9,  -1.47625961
  09AR20011029,  SR03,   118,  1,    715,2,20011203,-65.6102, 141.2575, 1160,     12.2,  -1.4760,  34.3020,2,-999.0000,9,    333.2,3,   -999.0,9,  -999.00,9,  -999.00,9,  -999.00,9, -999.000,9, -999.000,9, -999.000,9,   2202.4,6,   2315.6,2,  -1.47626624
  09AR20011029,  SR03,   118,  1,     13,2,20011203,-65.6102, 141.2575, 1160,     51.9,  -1.5980,  34.3590,3,  34.3620,2,    321.6,2,    321.9,2,    70.50,2,    29.90,2,     1.92,3,    5.251,2,    2.683,2,    0.480,2,   2213.1,2,   2320.8,2,   -1.5991035
  09AR20011029,  SR03,   118,  1,     12,2,20011203,-65.6102, 141.2575, 1160,    101.1,  -1.6790,  34.4040,2,  34.4010,2,    310.2,2,    312.9,2,    70.30,2,    30.47,2,     1.96,3,    5.021,2,    2.570,2,    0.450,2,   2218.8,2,   2323.7,2,  -1.68113465
  09AR20011029,  SR03,   118,  1,     11,2,20011203,-65.6102, 141.2575, 1160,    151.7,  -1.6420,  34.4310,2,  34.4290,2,    302.4,2,    304.7,2,    69.80,2,    30.71,2,     1.96,3, -999.000,9, -999.000,9, -999.000,9,   2221.8,2,   2324.5,2,  -1.64533585
  09AR20011029,  SR03,   118,  1,    310,2,20011203,-65.6102, 141.2575, 1160,    201.1,  -1.3720,  34.4680,2,  34.4670,2,    296.5,2,    291.6,2,    73.70,2,    30.97,2,     1.97,3,    4.281,2,    2.210,2,    0.390,2,   2226.0,2,   2328.2,2,   -1.3770058
  09AR20011029,  SR03,   118,  1,    709,2,20011203,-65.6102, 141.2575, 1160,    301.3,  -0.4210,  34.5740,2,  34.5730,2,    248.4,2,    254.2,2,    88.10,2,    31.27,2,     2.01,3, -999.000,9, -999.000,9, -999.000,9,   2239.8,2,   -999.0,9, -0.431304451
  09AR20011029,  SR03,   118,  1,      8,2,20011203,-65.6102, 141.2575, 1160,    401.1,   0.0680,  34.6320,2,  34.6300,2,    236.1,2,    234.3,2,    97.50,2,    31.60,2,     2.04,3,    1.761,2,    0.883,2,    0.150,2,   2248.0,2,   2343.7,2, 0.0522178221
  09AR20011029,  SR03,   118,  1,      7,2,20011203,-65.6102, 141.2575, 1160,    502.2,   0.1880,  34.6520,2,  34.6520,2,    229.1,2,    228.2,2,   103.70,2,    31.82,2,     2.06,3,    1.376,2,    0.681,2,    0.120,2,   2252.0,2,   2347.6,2,  0.167258038
  09AR20011029,  SR03,   118,  1,      6,2,20011203,-65.6102, 141.2575, 1160,    600.8,   0.2780,  34.6700,2,  34.6690,2,    222.5,2,    223.1,2,   109.90,2,    32.00,2,     2.07,3,    1.029,2,    0.504,2,    0.080,2,   2253.3,2,   2349.7,2,  0.252188372
  09AR20011029,  SR03,   118,  1,      5,2,20011203,-65.6102, 141.2575, 1160,    701.2,  -0.0780,  34.6530,2,  34.6520,2,    234.3,2,    235.7,2,   105.60,2,    31.98,2,     2.07,3,    1.650,2,    0.825,2,    0.140,2,   2250.1,2,   2346.6,2, -0.106663587
  09AR20011029,  SR03,   118,  1,      4,2,20011203,-65.6102, 141.2575, 1160,    801.5,  -0.2710,  34.6510,2,  34.6520,2,    242.0,2,    243.1,2,   104.00,2,    31.87,2,     2.08,3, -999.000,9, -999.000,9, -999.000,9,   2250.0,2,   2347.5,2, -0.303205253
  09AR20011029,  SR03,   118,  1,      3,2,20011203,-65.6102, 141.2575, 1160,    901.4,  -0.2820,  34.6590,2,  34.6590,2,    245.2,2,    241.1,2,   107.50,2,    31.93,2,     2.07,3,    1.857,2,    0.924,2,    0.160,2,   2251.6,2,   2343.0,3, -0.318959419
  09AR20011029,  SR03,   118,  1,      2,2,20011203,-65.6102, 141.2575, 1160,   1054.0,  -0.6240,  34.6440,2,  34.6450,2,    256.0,2,    258.1,2,    98.90,2,    31.64,2,     2.04,3,    2.662,2,    1.354,2,    0.230,2,   2247.7,2,   2346.0,6, -0.665667381
  09AR20011029,  SR03,   118,  1,      1,2,20011203,-65.6102, 141.2575, 1160,   1152.0,  -0.7720,  34.6420,2,  34.6450,2,    261.6,2,    265.4,2,    95.60,2,    31.46,2,     2.04,3,    2.975,2,    1.523,2,    0.270,2,   2246.9,6,   2344.5,2, -0.817160232
  09AR20011029,  SR03,   119,  1,     24,2,20011204,-65.4980, 141.2598, 1819,      6.0,  -1.4240,  34.2540,2,  34.2540,2,    370.6,3,    340.5,2,    66.00,2,    29.30,2,     1.92,2,    5.835,2,    3.023,2,    0.550,2,   2201.9,6,   2316.4,2,  -1.42413274
  09AR20011029,  SR03,   119,  1,     23,2,20011204,-65.4980, 141.2598, 1819,     41.4,  -1.4310,  34.2730,2,  34.2720,2,    338.3,2,    338.8,2,    65.20,2,    29.36,2,     1.92,2,    5.697,2,    2.910,2,    0.520,2,   2202.7,2,   2315.1,2,  -1.43192918
  09AR20011029,  SR03,   119,  1,     22,2,20011204,-65.4980, 141.2598, 1819,     81.2,  -1.6230,  34.3910,2,  34.3900,2,    313.6,2,    305.9,2,    64.00,2,    30.65,2,     2.01,2,    4.645,2,    2.395,2,    0.430,2,   2216.4,2,   2321.8,2,  -1.62473659
  09AR20011029,  SR03,   119,  1,     21,2,20011204,-65.4980, 141.2598, 1819,    100.6,  -1.5850,  34.4060,2,  34.4040,2,    303.5,2,    302.4,2,    65.20,2,    30.84,2,     2.03,2,    4.550,2,    2.336,2,    0.410,2,   2218.8,2,   2321.9,2,  -1.58720684
  09AR20011029,  SR03,   119,  1,     20,2,20011204,-65.4980, 141.2598, 1819,    150.7,  -1.4550,  34.4440,4,  34.4420,2,    294.6,2,    295.2,2,    70.00,2,    31.01,2,     2.05,2, -999.000,9, -999.000,9, -999.000,9,   -999.0,9,   -999.0,9,  -1.45856159
  09AR20011029,  SR03,   119,  1,     19,2,20011204,-65.4980, 141.2598, 1819,    201.2,  -1.1160,  34.4850,3,  34.4860,2,    277.2,2,    280.7,2,    75.70,2,    31.20,2,     2.07,2,    3.817,2,    1.947,2,    0.340,2,   2229.8,2,   2331.9,3,  -1.12146109
  09AR20011029,  SR03,   119,  1,    218,2,20011204,-65.4980, 141.2598, 1819,    251.1,  -0.8930,  34.5180,4,  34.5190,2,    268.7,2,    271.8,2,    79.40,2,    31.26,2,     2.07,2, -999.000,9, -999.000,9, -999.000,9,   -999.0,9,   -999.0,9, -0.900432437
  09AR20011029,  SR03,   119,  1,     17,2,20011204,-65.4980, 141.2598, 1819,    301.4,  -0.4980,  34.5590,3,  34.5570,2,    249.8,2,    257.7,2,    84.40,2,    31.40,2,     2.07,2,    2.882,2,    1.464,2,    0.260,2,   2241.9,2,   2336.6,2, -0.508101887
  09AR20011029,  SR03,   119,  1,     16,2,20011204,-65.4980, 141.2598, 1819,    400.7,   0.0500,  34.6170,3,  34.6230,0,    230.6,2,    234.9,2,    94.20,2,    31.76,2,     2.11,2, -999.000,9, -999.000,9, -999.000,9,   -999.0,9,   -999.0,9,         -999
  09AR20011029,  SR03,   119,  1,    715,2,20011204,-65.4980, 141.2598, 1819,    500.8,   0.1910,  34.6440,2,  34.6440,2,    229.1,2,    228.4,2,   100.20,2,    31.84,2,     2.12,2,    1.493,2,    0.740,2,    0.130,2,   2252.7,2,   2348.8,3,  0.170317059
  09AR20011029,  SR03,   119,  1,     14,2,20011204,-65.4980, 141.2598, 1819,    601.0,   0.2110,  34.6530,2,  34.6510,2,    224.8,2,    226.7,2,   103.10,2,    31.98,2,     2.13,2, -999.000,9, -999.000,9, -999.000,9,   -999.0,9,   -999.0,9,   0.18553238
  09AR20011029,  SR03,   119,  1,     13,2,20011204,-65.4980, 141.2598, 1819,    701.1,   0.1960,  34.6630,2,  34.6610,2,    227.9,2,    224.9,2,   107.20,2,    31.98,2,     2.14,2,    1.201,2,    0.589,2,    0.100,2,   2256.6,2,   2349.3,2,  0.165739709
  09AR20011029,  SR03,   119,  1,     12,2,20011204,-65.4980, 141.2598, 1819,    802.0,   0.1420,  34.6640,2,  34.6640,2,    230.5,2,    225.9,2,   109.10,2,    32.18,2,     2.14,2, -999.000,9, -999.000,9, -999.000,9,   -999.0,9,   -999.0,9,  0.107018889
  09AR20011029,  SR03,   119,  1,     11,2,20011204,-65.4980, 141.2598, 1819,    901.2,   0.0720,  34.6670,2,  34.6640,2,    229.1,2,    228.1,2,   109.70,2,    32.14,2,     2.14,2,    1.261,2,    0.620,2,    0.110,2,   2254.7,2,   2350.6,2, 0.0324181485
  09AR20011029,  SR03,   119,  1,    310,2,20011204,-65.4980, 141.2598, 1819,   1001.5,   0.0190,  34.6630,2,  34.6640,2,    233.5,2,    229.6,2,   109.90,2,    32.09,2,     2.14,2, -999.000,9, -999.000,9, -999.000,9,   -999.0,9,   -999.0,9,-0.0254409138
  09AR20011029,  SR03,   119,  1,    709,2,20011204,-65.4980, 141.2598, 1819,   1102.0,  -0.0200,  34.6670,2,  34.6680,2,    235.3,2,    231.0,2,   111.50,2,    32.16,2,     2.15,2,    1.315,2,    0.646,2,    0.110,2,   2255.2,2,   2360.5,4,-0.0695348771
  09AR20011029,  SR03,   119,  1,      8,2,20011204,-65.4980, 141.2598, 1819,   1201.1,  -0.1460,  34.6600,2,  34.6600,2,    237.9,2,    236.2,2,   107.50,2,    32.06,2,     2.14,2, -999.000,9, -999.000,9, -999.000,9,   -999.0,9,   -999.0,9, -0.199789779
  09AR20011029,  SR03,   119,  1,      7,2,20011204,-65.4980, 141.2598, 1819,   1300.5,  -0.2310,  34.6570,2,  34.6610,2,    239.9,2,    236.1,2,   107.60,2,    32.03,2,     2.14,2,    1.631,2,    0.805,2,    0.130,2,   2256.7,2,   2347.8,2, -0.289485767
  09AR20011029,  SR03,   119,  1,      6,2,20011204,-65.4980, 141.2598, 1819,   1401.8,  -0.3960,  34.6510,2,  34.6530,2,    250.2,2,    248.4,2,   101.90,2,    31.74,2,     2.13,2, -999.000,9, -999.000,9, -999.000,9,   -999.0,9,   -999.0,9, -0.458400932
  09AR20011029,  SR03,   119,  1,      5,2,20011204,-65.4980, 141.2598, 1819,   1501.0,  -0.4600,  34.6480,2,  34.6490,2,    251.8,2,    251.6,2,   100.30,2,    31.84,2,     2.11,2,    2.361,2,    1.190,2,    0.210,2,   2251.2,2,   2346.0,2, -0.527343109
  09AR20011029,  SR03,   119,  1,      4,2,20011204,-65.4980, 141.2598, 1819,   1600.5,  -0.5400,  34.6470,2,  34.6490,2,    254.3,2,    255.5,2,    99.40,2,    31.62,2,     2.11,2,    2.503,2,    1.258,2,    0.220,2,   2248.9,2,   2347.1,2,   -0.6121787
  09AR20011029,  SR03,   119,  1,      3,2,20011204,-65.4980, 141.2598, 1819,   1700.5,  -0.6220,  34.6440,2,  34.6460,2,    256.5,2,    260.3,2,    97.30,2,    31.50,2,     2.11,2, -999.000,9, -999.000,9, -999.000,9,   -999.0,9,   -999.0,9, -0.699055612
  09AR20011029,  SR03,   119,  1,      2,2,20011204,-65.4980, 141.2598, 1819,   1750.5,  -0.6310,  34.6440,2,  34.6460,2,    258.6,2,    260.6,2,    97.00,2,    31.42,2,     2.11,2,    2.721,2,    1.378,2,    0.240,2,   2247.0,2,   2345.3,2, -0.710963466
  09AR20011029,  SR03,   119,  1,      1,2,20011204,-65.4980, 141.2598, 1819,   1823.0,  -0.6330,  34.6440,2,  34.6470,2,    258.5,2,    260.3,2,    97.10,2,    31.64,2,     2.11,2,    2.735,2,    1.395,2,    0.240,2,   2249.6,6,   2345.8,2, -0.717406624