BOTTLE,20081126PRINUNIVRMK
EXPOCODE,SECT_ID,STNNBR,CASTNO,BTLNBR,BTLNBR_FLAG_W,DATE,LATITUDE,LONGITUDE,DEPTH,CTDPRS,CTDTMP,CTDSAL,CTDSAL_FLAG_W,SALNTY,SALNTY_FLAG_W,CTDOXY,CTDOXY_FLAG_W,OXYGEN,OXYGEN_FLAG_W,SILCAT,SILCAT_FLAG_W,NITRAT,NITRAT_FLAG_W,PHSPHT,PHSPHT_FLAG_W,CFC-11,CFC-11_FLAG_W,CFC-12,CFC-12_FLAG_W,CFC113,CFC113_FLAG_W,TCARBN,TCARBN_FLAG_W,ALKALI,ALKALI_FLAG_W,THETA
,,,,,,,,,METERS,DBARS,ITS-90,PSS-78,,PSS-78,,UMOL/KG,,UMOL/KG,,UMOL/KG,,UMOL/KG,,UMOL/KG,,PMOL/KG,,PMOL/KG,,PMOL/KG,,UMOL/KG,,UMOL/KG,,DEGC
  09AR20011029,  SR03,    20,  1,     24,2,20011106,-47.9965, 144.6535, 4010,      5.4,  10.0410,  34.6940,2,  34.6950,2,    293.1,3,    286.0,2,     2.60,2,    10.94,2,     0.75,2,    3.736,2,    2.112,2,    0.330,2,   2089.0,2,   -999.0,9,   10.0403802
  09AR20011029,  SR03,    20,  1,     23,2,20011106,-47.9965, 144.6535, 4010,     24.1,   9.9950,  34.6930,2,  34.6920,2,    285.4,2,    286.4,2,     2.60,2,    10.98,2,     0.76,2, -999.000,9, -999.000,9, -999.000,9,   -999.0,9,   -999.0,9,   9.99223954
  09AR20011029,  SR03,    20,  1,     22,2,20011106,-47.9965, 144.6535, 4010,     49.7,   9.6300,  34.6640,2,  34.6640,2,    287.2,2,    284.4,2,     2.80,2,    11.86,2,     0.81,2, -999.000,9, -999.000,9, -999.000,9,   -999.0,9,   -999.0,9,    9.6244355
  09AR20011029,  SR03,    20,  1,     21,2,20011106,-47.9965, 144.6535, 4010,     99.3,   9.1820,  34.5870,4,  34.5870,2,    284.0,2,    282.1,2,     3.10,2,    13.24,2,     0.93,2,    3.810,2,    2.138,2,    0.350,2,   -999.0,9,   -999.0,9,   9.17119303
  09AR20011029,  SR03,    20,  1,     20,2,20011106,-47.9965, 144.6535, 4010,    149.7,   9.2240,  34.6130,3,  34.6120,2,    273.6,2,    280.8,2,     3.10,2,    13.38,2,     0.91,2, -999.000,9, -999.000,9, -999.000,9,   -999.0,9,   -999.0,9,   9.20760905
  09AR20011029,  SR03,    20,  1,     19,2,20011106,-47.9965, 144.6535, 4010,    199.9,   9.0040,  34.5870,2,  34.5870,2,    279.1,2,    278.0,2,     3.30,2,    14.13,2,     0.96,2,    3.833,2,    2.132,2,    0.340,2,   -999.0,9,   -999.0,9,   8.98238381
  09AR20011029,  SR03,    20,  1,    718,2,20011106,-47.9965, 144.6535, 4010,    300.1,   8.9440,  34.5990,2,  34.5960,2,    271.6,2,    273.6,2,     3.60,2,    14.72,2,     0.98,2, -999.000,9, -999.000,9, -999.000,9,   -999.0,9,   -999.0,9,   8.91149101
  09AR20011029,  SR03,    20,  1,     17,2,20011106,-47.9965, 144.6535, 4010,    399.9,   8.7740,  34.5750,2,  34.5740,2,    270.7,2,    268.9,2,     4.10,2,    15.56,2,     1.03,2,    3.805,2,    2.093,2,    0.310,2,   -999.0,9,   -999.0,9,   8.73094693
  09AR20011029,  SR03,    20,  1,     16,2,20011106,-47.9965, 144.6535, 4010,    499.5,   8.6120,  34.5610,2,  34.5600,2,    252.0,2,    257.1,2,     5.30,2,    17.27,2,     1.14,2, -999.000,9, -999.000,9, -999.000,9,   -999.0,9,   -999.0,9,   8.55852055
  09AR20011029,  SR03,    20,  1,     15,2,20011106,-47.9965, 144.6535, 4010,    599.4,   8.2910,  34.5340,3,  34.5340,2,    243.2,2,    241.3,2,     7.40,2,    19.70,2,     1.27,2,    3.273,2,    1.757,2,    0.230,2,   -999.0,9,   -999.0,9,   8.22788974
  09AR20011029,  SR03,    20,  1,     14,2,20011106,-47.9965, 144.6535, 4010,    749.9,   7.4170,  34.4690,2,  34.4690,2,    220.8,2,    220.7,2,    12.60,2,    23.42,2,     1.50,2, -999.000,9, -999.000,9, -999.000,9,   -999.0,9,   -999.0,9,   7.34223997
  09AR20011029,  SR03,    20,  1,     13,2,20011106,-47.9965, 144.6535, 4010,    899.6,   6.4110,  34.4350,4,  34.4340,2,    205.9,2,    205.0,2,    20.00,2,    26.56,2,     1.73,2,    1.733,2,    0.893,2,    0.100,2,   -999.0,9,   -999.0,9,   6.32720877
  09AR20011029,  SR03,    20,  1,     12,2,20011106,-47.9965, 144.6535, 4010,    999.0,   5.6270,  34.3960,2,  34.3950,2,    207.3,2,    205.1,2,    25.90,2,    28.79,2,     1.86,2, -999.000,9, -999.000,9, -999.000,9,   -999.0,9,   -999.0,9,   5.53920618
  09AR20011029,  SR03,    20,  1,     11,2,20011106,-47.9965, 144.6535, 4010,   1100.4,   4.7740,  34.3540,2,  34.3540,2,    209.5,2,    209.7,2,    30.70,2,    29.79,2,     1.97,2,    1.746,2,    0.877,2,    0.120,2,   -999.0,9,   -999.0,9,   4.68367327
  09AR20011029,  SR03,    20,  1,     10,2,20011106,-47.9965, 144.6535, 4010,   1200.1,   4.0760,  34.3320,2,  34.3340,2,    212.5,2,    210.7,2,    35.90,2,    31.16,2,     2.09,2, -999.000,9, -999.000,9, -999.000,9,   -999.0,9,   -999.0,9,   3.98303271
  09AR20011029,  SR03,    20,  1,      9,2,20011106,-47.9965, 144.6535, 4010,   1301.1,   3.8770,  34.4020,2,  34.4010,2,    193.1,2,    192.2,2,    48.20,2,    32.72,2,     2.18,2,    0.967,2,    0.481,2,    0.060,2,   -999.0,9,   -999.0,9,   3.77706309
  09AR20011029,  SR03,    20,  1,      8,2,20011106,-47.9965, 144.6535, 4010,   1400.2,   3.4630,  34.4140,2,  34.4140,2,    185.6,2,    190.1,2,    54.00,2,    33.62,2,     2.22,2, -999.000,9, -999.000,9, -999.000,9,   -999.0,9,   -999.0,9,   3.35880584
  09AR20011029,  SR03,    20,  1,      7,2,20011106,-47.9965, 144.6535, 4010,   1797.9,   2.6300,  34.5650,2,  34.5640,2,    179.0,2,    177.0,2,    71.80,2,    33.93,2,     2.27,2,    0.374,2,    0.190,2,    0.020,2,   -999.0,9,   -999.0,9,   2.50173081
  09AR20011029,  SR03,    20,  1,      6,2,20011106,-47.9965, 144.6535, 4010,   2198.7,   2.3950,  34.6910,2,  34.6900,2,    183.0,2,    183.0,2,    79.60,2,    32.41,2,     2.16,2, -999.000,9, -999.000,9, -999.000,9,   -999.0,9,   -999.0,9,   2.23483828
  09AR20011029,  SR03,    20,  1,      5,2,20011106,-47.9965, 144.6535, 4010,   2597.8,   2.1310,  34.7400,2,  34.7410,2,    189.8,2,    192.7,2,    87.10,2,    31.07,2,     2.09,2,    0.081,2,    0.054,2,    0.010,2,   -999.0,9,   -999.0,9,   1.93879349
  09AR20011029,  SR03,    20,  1,      4,2,20011106,-47.9965, 144.6535, 4010,   2999.9,   1.7670,  34.7420,2,  34.7430,2,    194.3,2,    196.4,2,   100.60,2,    31.62,2,     2.09,2, -999.000,9, -999.000,9, -999.000,9,   -999.0,9,   -999.0,9,   1.54396762
  09AR20011029,  SR03,    20,  1,      3,2,20011106,-47.9965, 144.6535, 4010,   3499.2,   1.3870,  34.7310,2,  34.7290,2,    201.7,2,    201.1,2,   113.50,2,    32.36,2,     2.14,2,    0.015,2,    0.016,2,    0.000,2,   -999.0,9,   -999.0,9,   1.12346632
  09AR20011029,  SR03,    20,  1,      2,2,20011106,-47.9965, 144.6535, 4010,   4001.0,   1.0630,  34.7150,2,  34.7160,2,    206.2,2,    206.0,2,   122.40,2,    32.79,2,     2.22,2, -999.000,9, -999.000,9, -999.000,9,   -999.0,9,   -999.0,9,  0.756079519
  09AR20011029,  SR03,    20,  1,      1,2,20011106,-47.9965, 144.6535, 4010,   4392.5,   1.0390,  34.7130,2,  34.7130,2,    208.2,2,    205.4,2,   123.70,2,    32.78,2,     2.19,2,    0.010,2,    0.006,2,    0.000,2,   -999.0,9,   -999.0,9,  0.690180828
  09AR20011029,  SR03,    21,  1,     24,2,20011106,-48.3192, 144.5262, 3958,     11.1,   9.5150,  34.6420,2,  34.6430,2,    300.8,3,    288.1,2,     3.10,2,    12.00,2,     0.80,2,    3.892,2,    2.150,2,    0.340,2,   2093.6,6,   2290.2,2,   9.51376964
  09AR20011029,  SR03,    21,  1,     23,2,20011106,-48.3192, 144.5262, 3958,     50.2,   9.4830,  34.6500,2,  34.6490,2,    288.9,2,    287.3,2,     3.10,2,    11.93,2,     0.84,2,    3.781,2,    2.112,2,    0.340,2,   2094.4,2,   2291.4,6,    9.4774351
  09AR20011029,  SR03,    21,  1,     22,2,20011106,-48.3192, 144.5262, 3958,    101.2,   9.1560,  34.6340,3,  34.6340,2,    282.0,2,    280.6,2,     3.20,2,    13.18,2,     0.91,2,    3.822,2,    2.114,2,    0.330,2,   2101.6,2,   2290.6,2,   9.14499747
  09AR20011029,  SR03,    21,  1,     21,2,20011106,-48.3192, 144.5262, 3958,    200.6,   9.1730,  34.6550,2,  34.6550,2,    277.5,2,    276.6,2,     3.20,2,    13.55,2,     0.92,2,    3.795,2,    2.095,2,    0.330,2,   2104.6,2,   2290.1,2,   9.15103574
  09AR20011029,  SR03,    21,  1,     20,2,20011106,-48.3192, 144.5262, 3958,    301.0,   9.1070,  34.6390,2,  34.6410,2,    278.0,2,    276.4,2,     3.30,2,    13.63,2,     0.95,2,    3.799,2,    2.115,2,    0.340,2,   2105.5,2,   2289.8,2,   9.07400932
  09AR20011029,  SR03,    21,  1,     19,4,20011106,-48.3192, 144.5262, 3958,    399.7,   9.1110,  34.6390,2,  34.5820,0,    277.7,2,    265.5,4,     6.10,4,    16.25,4,     1.09,4,    3.662,2,    1.971,2,    0.290,2,   2116.0,3,   2287.9,2,   9.06693823
  09AR20011029,  SR03,    21,  1,    718,2,20011106,-48.3192, 144.5262, 3958,    501.5,   8.8050,  34.5810,2,  34.5860,2,    267.9,2,    269.7,2,     4.10,2,    15.64,2,     1.03,2,    3.815,2,    2.089,2,    0.300,2,   2111.3,2,   2288.9,2,    8.7505683
  09AR20011029,  SR03,    21,  1,     17,2,20011106,-48.3192, 144.5262, 3958,    599.9,   8.7050,  34.5690,2,  34.5680,2,    265.1,2,    265.3,2,     4.50,2,    16.29,2,     1.07,2,    3.771,2,    2.049,2,    0.300,2,   2114.4,2,   2288.1,2,   8.63997846
  09AR20011029,  SR03,    21,  1,     16,2,20011106,-48.3192, 144.5262, 3958,    699.5,   8.0420,  34.4640,4,  34.4660,2,    247.5,2,    259.9,2,     6.00,2,    18.70,2,     1.22,2,    3.748,2,    1.968,2,    0.270,2,   2121.9,2,   2284.4,2,   7.96926192
  09AR20011029,  SR03,    21,  1,     15,2,20011106,-48.3192, 144.5262, 3958,    800.2,   7.9270,  34.5180,2,  34.5170,2,    220.5,2,    224.0,2,    10.30,2,    22.07,2,     1.43,2,    2.768,2,    1.439,2,    0.160,2,   2143.3,2,   2286.9,2,   7.84389224
  09AR20011029,  SR03,    21,  1,     14,2,20011106,-48.3192, 144.5262, 3958,    901.3,   6.7860,  34.4300,4,  34.4330,2,    225.1,2,    216.9,2,    15.90,2,    25.40,2,     1.64,2,    2.523,2,    1.286,2,    0.140,2,   2158.0,2,   2287.7,2,   6.69951989
  09AR20011029,  SR03,    21,  1,     13,2,20011106,-48.3192, 144.5262, 3958,   1001.9,   5.8760,  34.4060,3,  34.4070,2,    210.6,2,    203.6,2,    23.00,2,    28.35,2,     1.86,2,    1.629,2,    0.815,2,    0.090,2,   2177.8,2,   2291.2,6,   5.78603581
  09AR20011029,  SR03,    21,  1,     12,2,20011106,-48.3192, 144.5262, 3958,   1200.4,   4.2530,  34.3400,2,  34.3390,2,    218.8,2,    210.8,2,    34.00,2,    31.23,2,     2.09,2,    1.711,2,    0.813,2,    0.100,2,   2194.2,6,   2298.2,2,   4.15837543
  09AR20011029,  SR03,    21,  1,     11,2,20011106,-48.3192, 144.5262, 3958,   1401.3,   3.4940,  34.4010,2,  34.4010,2,    194.5,2,    192.6,2,    51.20,2,    33.33,2,     2.24,2,    0.974,2,    0.481,2,    0.050,2,   2236.8,4,   -999.0,9,   3.38941078
  09AR20011029,  SR03,    21,  1,     10,2,20011106,-48.3192, 144.5262, 3958,   1599.1,   2.8830,  34.4670,4,  34.4660,2,    182.0,2,    183.8,2,    61.90,2,    34.43,2,     2.29,2,    0.723,2,    0.354,2,    0.040,2,   2235.9,2,   2322.3,6,   2.76853268
  09AR20011029,  SR03,    21,  1,      9,2,20011106,-48.3192, 144.5262, 3958,   1799.4,   2.6520,  34.5540,2,  34.5540,2,    178.1,2,    178.3,2,    70.50,2,    33.68,2,     2.28,2,    0.428,2,    0.212,2,    0.020,2,   2246.9,2,   2331.6,2,   2.52333234
  09AR20011029,  SR03,    21,  1,      8,2,20011106,-48.3192, 144.5262, 3958,   2100.1,   2.4490,  34.6590,2,  34.6600,2,    180.3,2,    181.3,2,    76.00,2,    32.71,2,     2.18,2,    0.232,2,    0.112,2,    0.020,2,   2249.0,2,   2337.8,2,   2.29685154
  09AR20011029,  SR03,    21,  1,      7,2,20011106,-48.3192, 144.5262, 3958,   2400.5,   2.2940,  34.7210,2,  34.7210,2,    187.7,2,    189.1,2,    81.00,2,    31.52,2,     2.09,2,    0.133,2,    0.064,2,    0.010,2,   2246.3,2,   2343.7,2,    2.1171489
  09AR20011029,  SR03,    21,  1,      6,2,20011106,-48.3192, 144.5262, 3958,   2701.0,   2.0760,  34.7460,2,  34.7470,2,    195.0,2,    195.6,2,    87.00,2,    30.94,2,     2.04,2,    0.075,2,    0.044,2,    0.010,2,   2248.0,2,   2349.4,2,   1.87512507
  09AR20011029,  SR03,    21,  1,      5,2,20011106,-48.3192, 144.5262, 3958,   3000.1,   1.7890,  34.7430,2,  34.7440,2,    197.8,2,    196.3,2,    98.80,2,    31.56,2,     2.08,2,    0.033,2,    0.018,2,    0.010,2,   2256.4,2,   2360.3,2,   1.56546057
  09AR20011029,  SR03,    21,  1,      4,2,20011106,-48.3192, 144.5262, 3958,   3297.8,   1.5140,  34.7350,2,  34.7350,2,    199.1,2,    198.9,2,   108.90,2,    32.11,2,     2.14,2,    0.013,2,    0.007,2,    0.000,2,   2262.0,2,   2367.7,2,   1.26755193
  09AR20011029,  SR03,    21,  1,      3,2,20011106,-48.3192, 144.5262, 3958,   3598.8,   1.2500,  34.7250,2,  34.7260,2,    205.4,2,    203.6,2,   116.20,2,    32.24,2,     2.14,2,    0.018,6,    0.012,6,    0.000,6,   2263.7,2,   2370.5,2,  0.979848608
  09AR20011029,  SR03,    21,  1,      2,2,20011106,-48.3192, 144.5262, 3958,   3900.5,   1.0870,  34.7170,2,  34.7220,0,    206.7,2,    205.6,2,   121.50,2,    32.36,2,     2.16,2,    0.014,2,    0.011,2,    0.010,2,   2267.5,2,   2373.3,6,  0.790026316
  09AR20011029,  SR03,    21,  1,      1,2,20011106,-48.3192, 144.5262, 3958,   4200.1,   1.0610,  34.7150,2,  34.7150,2,    206.5,2,    205.9,2,   123.30,2,    32.65,2,     2.19,2,    0.007,2,    0.006,2,    0.010,2,   2269.8,6,   2376.8,2,  0.732706989
  09AR20011029,  SR03,    22,  1,     24,2,20011106,-48.3283, 144.5477, 4050,      5.5,   9.5050,  34.6410,2,-999.0000,9,    291.5,3,   -999.0,9,  -999.00,9,  -999.00,9,  -999.00,9,    3.863,2,    2.130,2,    0.350,2,   2095.0,6,   2290.2,6,   9.50439097
  09AR20011029,  SR03,    22,  1,     23,2,20011106,-48.3283, 144.5477, 4050,      5.7,   9.5060,  34.6400,2,  34.6410,2,    291.5,3,    288.0,2,     3.00,2,    12.07,2,     0.83,2, -999.000,9, -999.000,9, -999.000,9,   -999.0,9,   -999.0,9,   9.50536878
  09AR20011029,  SR03,    22,  1,     21,2,20011106,-48.3283, 144.5477, 4050,     14.7,   9.5050,  34.6410,2,  34.6420,2,    287.2,3,    287.8,2,     3.00,2,    11.70,2,     0.81,2, -999.000,9, -999.000,9, -999.000,9,   2094.7,2,   2289.5,2,   9.50337139
  09AR20011029,  SR03,    22,  1,     22,2,20011106,-48.3283, 144.5477, 4050,     14.9,   9.5060,  34.6410,2,-999.0000,9,    287.2,3,   -999.0,9,  -999.00,9,  -999.00,9,  -999.00,9, -999.000,9, -999.000,9, -999.000,9,   -999.0,9,   -999.0,9,   9.50434912
  09AR20011029,  SR03,    22,  1,     20,2,20011106,-48.3283, 144.5477, 4050,     30.3,   9.4770,  34.6440,2,-999.0000,9,    290.7,2,   -999.0,9,  -999.00,9,  -999.00,9,  -999.00,9,    3.882,2,    2.132,2,    0.340,2,   2094.2,2,   2290.5,2,   9.47364637
  09AR20011029,  SR03,    22,  1,     19,2,20011106,-48.3283, 144.5477, 4050,     30.7,   9.4810,  34.6430,2,  34.6430,2,    290.7,2,    287.8,2,     3.10,2,    12.08,2,     0.83,2, -999.000,9, -999.000,9, -999.000,9,   -999.0,9,   -999.0,9,   9.47760116
  09AR20011029,  SR03,    22,  1,    718,2,20011106,-48.3283, 144.5477, 4050,     45.0,   9.4100,  34.6420,3,-999.0000,9,    285.7,2,   -999.0,9,  -999.00,9,  -999.00,9,  -999.00,9, -999.000,9, -999.000,9, -999.000,9,   2096.2,2,   2290.0,2,         -999
  09AR20011029,  SR03,    22,  1,     17,2,20011106,-48.3283, 144.5477, 4050,     46.0,   9.3980,  34.6430,2,  34.6430,2,    285.7,2,    286.0,2,     3.00,2,    12.28,2,     0.84,2, -999.000,9, -999.000,9, -999.000,9,   -999.0,9,   -999.0,9,   9.39293127
  09AR20011029,  SR03,    22,  1,     16,2,20011106,-48.3283, 144.5477, 4050,     59.8,   9.3100,  34.6400,2,-999.0000,9,    275.5,2,   -999.0,9,  -999.00,9,  -999.00,9,  -999.00,9, -999.000,9, -999.000,9, -999.000,9,   2099.0,2,   2290.6,2,    9.3034449
  09AR20011029,  SR03,    22,  1,     15,2,20011106,-48.3283, 144.5477, 4050,     59.8,   9.3090,  34.6390,2,  34.6400,2,    275.5,2,    284.3,2,     3.00,2,    12.63,2,     0.86,2, -999.000,9, -999.000,9, -999.000,9,   -999.0,9,   -999.0,9,   9.30244534
  09AR20011029,  SR03,    22,  1,     14,2,20011106,-48.3283, 144.5477, 4050,     74.9,   9.2610,  34.6370,2,-999.0000,9,    278.8,2,   -999.0,9,  -999.00,9,  -999.00,9,  -999.00,9,    3.835,2,    2.111,2,    0.340,2,   2100.7,2,   2288.9,2,   9.25281028
  09AR20011029,  SR03,    22,  1,     13,2,20011106,-48.3283, 144.5477, 4050,     75.0,   9.2620,  34.6370,2,  34.6380,2,    278.8,2,    283.0,2,     3.10,2,    12.81,2,     0.87,2, -999.000,9, -999.000,9, -999.000,9,   -999.0,9,   -999.0,9,   9.25379863
  09AR20011029,  SR03,    22,  1,     11,2,20011106,-48.3283, 144.5477, 4050,     90.0,   9.1690,  34.6340,2,  34.6340,2,    282.9,2,    280.4,2,     3.10,2,    13.22,2,     0.89,2, -999.000,9, -999.000,9, -999.000,9,   2102.5,2,   2289.4,2,    9.1592127
  09AR20011029,  SR03,    22,  1,     12,2,20011106,-48.3283, 144.5477, 4050,     90.2,   9.1730,  34.6340,2,-999.0000,9,    282.9,2,   -999.0,9,  -999.00,9,  -999.00,9,  -999.00,9, -999.000,9, -999.000,9, -999.000,9,   -999.0,9,   -999.0,9,   9.16318816
  09AR20011029,  SR03,    22,  1,     10,2,20011106,-48.3283, 144.5477, 4050,    104.4,   9.1630,  34.6380,2,-999.0000,9,    282.1,2,   -999.0,9,  -999.00,9,  -999.00,9,  -999.00,9, -999.000,9, -999.000,9, -999.000,9,   2101.9,2,   2288.9,2,   9.15164144
  09AR20011029,  SR03,    22,  1,      9,2,20011106,-48.3283, 144.5477, 4050,    104.4,   9.1620,  34.6390,2,  34.6400,2,    282.1,2,    279.6,2,     3.10,2,    13.32,2,     0.91,2, -999.000,9, -999.000,9, -999.000,9,   -999.0,9,   -999.0,9,    9.1506419
  09AR20011029,  SR03,    22,  1,      8,2,20011106,-48.3283, 144.5477, 4050,    120.4,   9.1660,  34.6430,2,-999.0000,9,    281.2,2,   -999.0,9,  -999.00,9,  -999.00,9,  -999.00,9,    3.896,2,    2.110,2,    0.330,2,   2104.2,3,   2290.0,2,   9.15288515
  09AR20011029,  SR03,    22,  1,      7,2,20011106,-48.3283, 144.5477, 4050,    121.0,   9.1660,  34.6410,2,  34.6430,2,    280.8,2,    278.8,2,     3.10,2,    13.46,2,     0.91,2, -999.000,9, -999.000,9, -999.000,9,   -999.0,9,   -999.0,9,   9.15281934
  09AR20011029,  SR03,    22,  1,      5,2,20011106,-48.3283, 144.5477, 4050,    149.6,   9.1650,  34.6490,2,  34.6480,2,    279.1,2,    277.3,2,     3.10,2,    13.49,2,     0.92,2, -999.000,9, -999.000,9, -999.000,9,   2104.6,2,   2291.1,2,   9.14867743
  09AR20011029,  SR03,    22,  1,      6,2,20011106,-48.3283, 144.5477, 4050,    150.0,   9.1670,  34.6480,2,-999.0000,9,    279.1,2,   -999.0,9,  -999.00,9,  -999.00,9,  -999.00,9, -999.000,9, -999.000,9, -999.000,9,   -999.0,9,   -999.0,9,   9.15063119
  09AR20011029,  SR03,    22,  1,      4,2,20011106,-48.3283, 144.5477, 4050,    201.0,   9.1620,  34.6510,2,  34.6530,2,    274.1,2,    275.7,2,     3.10,2,    13.57,2,     0.93,2,    3.795,2,    2.070,2,    0.330,2,   2105.3,2,   2290.8,2,    9.1400084
  09AR20011029,  SR03,    22,  1,      3,2,20011106,-48.3283, 144.5477, 4050,    250.6,   9.1130,  34.6410,2,  34.6410,2,    277.3,2,    276.1,2,     3.20,2,    13.76,2,     0.92,2, -999.000,9, -999.000,9, -999.000,9,   2106.4,2,   2289.9,2,   9.08560016
  09AR20011029,  SR03,    22,  1,      2,2,20011106,-48.3283, 144.5477, 4050,    301.1,   9.1120,  34.6400,2,  34.6410,2,    276.8,2,    276.2,2,     3.20,2,    13.86,2,     0.94,2, -999.000,9, -999.000,9, -999.000,9,   2106.5,2,   2290.1,2,   9.07898708
  09AR20011029,  SR03,    22,  1,      1,2,20011106,-48.3283, 144.5477, 4050,    351.8,   9.1170,  34.6410,2,  34.6420,2,    276.0,2,    276.1,2,     3.10,2,    13.76,2,     0.94,2, -999.000,9, -999.000,9, -999.000,9,   2105.7,6,   2289.7,6,   9.07830501