BOTTLE,20081126PRINUNIVRMK
EXPOCODE,SECT_ID,STNNBR,CASTNO,BTLNBR,BTLNBR_FLAG_W,DATE,LATITUDE,LONGITUDE,DEPTH,CTDPRS,CTDTMP,CTDSAL,CTDSAL_FLAG_W,SALNTY,SALNTY_FLAG_W,CTDOXY,CTDOXY_FLAG_W,OXYGEN,OXYGEN_FLAG_W,SILCAT,SILCAT_FLAG_W,NITRAT,NITRAT_FLAG_W,PHSPHT,PHSPHT_FLAG_W,CFC-11,CFC-11_FLAG_W,CFC-12,CFC-12_FLAG_W,CFC113,CFC113_FLAG_W,TCARBN,TCARBN_FLAG_W,ALKALI,ALKALI_FLAG_W,THETA
,,,,,,,,,METERS,DBARS,ITS-90,PSS-78,,PSS-78,,UMOL/KG,,UMOL/KG,,UMOL/KG,,UMOL/KG,,UMOL/KG,,PMOL/KG,,PMOL/KG,,PMOL/KG,,UMOL/KG,,UMOL/KG,,DEGC
  09AR20011029,  SR03,    36,  1,     24,2,20011109,-51.0212, 143.2997, 3690,      5.2,   6.5700,  34.0830,2,-999.0000,9,   -999.0,5,   -999.0,9,     4.90,2,    19.54,2,     1.23,2, -999.000,9, -999.000,9, -999.000,9,   -999.0,9,   -999.0,9,   6.56954443
  09AR20011029,  SR03,    36,  1,     23,2,20011109,-51.0212, 143.2997, 3690,      5.2,   6.5710,  34.0830,2,  34.0830,2,   -999.0,5,   -999.0,9,  -999.00,9,  -999.00,9,  -999.00,9, -999.000,9, -999.000,9, -999.000,9,   -999.0,9,   -999.0,9,   6.57054439
  09AR20011029,  SR03,    36,  1,     22,2,20011109,-51.0212, 143.2997, 3690,     16.1,   6.5700,  34.0830,2,-999.0000,9,   -999.0,5,   -999.0,9,     4.90,2,    19.79,2,     1.24,2, -999.000,9, -999.000,9, -999.000,9,   -999.0,9,   -999.0,9,   6.56858824
  09AR20011029,  SR03,    36,  1,     21,2,20011109,-51.0212, 143.2997, 3690,     16.1,   6.5700,  34.0830,2,  34.0830,2,   -999.0,5,   -999.0,9,  -999.00,9,  -999.00,9,  -999.00,9, -999.000,9, -999.000,9, -999.000,9,   -999.0,9,   -999.0,9,   6.56858824
  09AR20011029,  SR03,    36,  1,     20,2,20011109,-51.0212, 143.2997, 3690,     16.2,   6.5700,  34.0820,2,-999.0000,9,   -999.0,5,   -999.0,9,  -999.00,9,  -999.00,9,  -999.00,9, -999.000,9, -999.000,9, -999.000,9,   -999.0,9,   -999.0,9,   6.56857948
  09AR20011029,  SR03,    36,  1,    718,2,20011109,-51.0212, 143.2997, 3690,     25.4,   6.5700,  34.0820,2,  34.0830,2,   -999.0,5,   -999.0,9,  -999.00,9,  -999.00,9,  -999.00,9, -999.000,9, -999.000,9, -999.000,9,   -999.0,9,   -999.0,9,   6.56777109
  09AR20011029,  SR03,    36,  1,     19,2,20011109,-51.0212, 143.2997, 3690,     25.5,   6.5700,  34.0820,2,-999.0000,9,   -999.0,5,   -999.0,9,     4.90,2,    19.70,2,     1.24,2, -999.000,9, -999.000,9, -999.000,9,   -999.0,9,   -999.0,9,   6.56776234
  09AR20011029,  SR03,    36,  1,     17,2,20011109,-51.0212, 143.2997, 3690,     51.0,   6.6060,  34.1010,2,-999.0000,9,   -999.0,5,   -999.0,9,     4.70,2,    19.40,2,     1.22,2, -999.000,9, -999.000,9, -999.000,9,   -999.0,9,   -999.0,9,   6.60149979
  09AR20011029,  SR03,    36,  1,     16,2,20011109,-51.0212, 143.2997, 3690,     51.2,   6.6060,  34.0990,2,  34.1020,2,   -999.0,5,   -999.0,9,  -999.00,9,  -999.00,9,  -999.00,9, -999.000,9, -999.000,9, -999.000,9,   -999.0,9,   -999.0,9,   6.60148199
  09AR20011029,  SR03,    36,  1,     14,2,20011109,-51.0212, 143.2997, 3690,     75.0,   7.1370,  34.2670,4,  34.2650,2,   -999.0,5,   -999.0,9,  -999.00,9,  -999.00,9,  -999.00,9, -999.000,9, -999.000,9, -999.000,9,   -999.0,9,   -999.0,9,   7.13004347
  09AR20011029,  SR03,    36,  1,     15,2,20011109,-51.0212, 143.2997, 3690,     75.1,   7.1420,  34.2690,4,-999.0000,9,   -999.0,5,   -999.0,9,     4.70,2,    17.99,2,     1.16,2, -999.000,9, -999.000,9, -999.000,9,   -999.0,9,   -999.0,9,         -999
  09AR20011029,  SR03,    36,  1,     10,2,20011109,-51.0212, 143.2997, 3690,     91.5,   7.3530,  34.3170,3,-999.0000,9,   -999.0,5,   -999.0,9,     4.70,2,    17.88,2,     1.14,2, -999.000,9, -999.000,9, -999.000,9,   -999.0,9,   -999.0,9,         -999
  09AR20011029,  SR03,    36,  1,     11,2,20011109,-51.0212, 143.2997, 3690,     91.7,   7.3570,  34.3180,3,-999.0000,9,   -999.0,5,   -999.0,9,  -999.00,9,  -999.00,9,  -999.00,9, -999.000,9, -999.000,9, -999.000,9,   -999.0,9,   -999.0,9,         -999
  09AR20011029,  SR03,    36,  1,     12,2,20011109,-51.0212, 143.2997, 3690,     91.8,   7.3550,  34.3180,3,-999.0000,9,   -999.0,5,   -999.0,9,  -999.00,9,  -999.00,9,  -999.00,9, -999.000,9, -999.000,9, -999.000,9,   -999.0,9,   -999.0,9,         -999
  09AR20011029,  SR03,    36,  1,     13,2,20011109,-51.0212, 143.2997, 3690,     92.0,   7.3480,  34.3150,3,-999.0000,9,   -999.0,5,   -999.0,9,  -999.00,9,  -999.00,9,  -999.00,9, -999.000,9, -999.000,9, -999.000,9,   -999.0,9,   -999.0,9,         -999
  09AR20011029,  SR03,    36,  1,      9,2,20011109,-51.0212, 143.2997, 3690,     92.9,   7.3530,  34.3180,4,  34.3190,2,   -999.0,5,   -999.0,9,  -999.00,9,  -999.00,9,  -999.00,9, -999.000,9, -999.000,9, -999.000,9,   -999.0,9,   -999.0,9,   7.34421057
  09AR20011029,  SR03,    36,  1,      7,2,20011109,-51.0212, 143.2997, 3690,    101.0,   7.1910,  34.2950,3,  34.2940,2,   -999.0,5,   -999.0,9,  -999.00,9,  -999.00,9,  -999.00,9, -999.000,9, -999.000,9, -999.000,9,   -999.0,9,   -999.0,9,   7.18156761
  09AR20011029,  SR03,    36,  1,      8,2,20011109,-51.0212, 143.2997, 3690,    101.4,   7.1890,  34.2940,2,-999.0000,9,   -999.0,5,   -999.0,9,     4.80,2,    18.30,2,     1.16,2, -999.000,9, -999.000,9, -999.000,9,   -999.0,9,   -999.0,9,   7.17953153
  09AR20011029,  SR03,    36,  1,      5,2,20011109,-51.0212, 143.2997, 3690,    126.5,   7.1340,  34.2890,2,  34.2900,2,   -999.0,5,   -999.0,9,  -999.00,9,  -999.00,9,  -999.00,9, -999.000,9, -999.000,9, -999.000,9,   -999.0,9,   -999.0,9,   7.12222014
  09AR20011029,  SR03,    36,  1,      6,2,20011109,-51.0212, 143.2997, 3690,    126.9,   7.1390,  34.2890,2,-999.0000,9,   -999.0,5,   -999.0,9,     5.00,2,    18.72,2,     1.19,2, -999.000,9, -999.000,9, -999.000,9,   -999.0,9,   -999.0,9,    7.1271779
  09AR20011029,  SR03,    36,  1,      4,2,20011109,-51.0212, 143.2997, 3690,    152.6,   6.8950,  34.2510,4,  34.2570,2,   -999.0,5,   -999.0,9,     5.20,2,    19.09,2,     1.23,2, -999.000,9, -999.000,9, -999.000,9,   -999.0,9,   -999.0,9,   6.88104952
  09AR20011029,  SR03,    36,  1,      3,2,20011109,-51.0212, 143.2997, 3690,    202.5,   6.5920,  34.2170,2,  34.2160,2,   -999.0,5,   -999.0,9,     5.70,2,    19.95,2,     1.27,2, -999.000,9, -999.000,9, -999.000,9,   -999.0,9,   -999.0,9,   6.57390185
  09AR20011029,  SR03,    36,  1,      2,2,20011109,-51.0212, 143.2997, 3690,    302.1,   6.7910,  34.3240,2,  34.3230,2,   -999.0,5,   -999.0,9,     9.90,2,    22.42,2,     1.42,2, -999.000,9, -999.000,9, -999.000,9,   -999.0,9,   -999.0,9,   6.76328067
  09AR20011029,  SR03,    36,  1,      1,2,20011109,-51.0212, 143.2997, 3690,    402.1,   6.5030,  34.3880,2,  34.3860,2,   -999.0,5,   -999.0,9,    15.40,2,    25.42,2,     1.63,2, -999.000,9, -999.000,9, -999.000,9,   -999.0,9,   -999.0,9,   6.46667062
  09AR20011029,  SR03,    37,  1,     24,2,20011109,-51.0368, 143.3393, 3736,     11.0,   6.6670,  34.0860,2,  34.0880,2,    350.3,3,    306.0,2,     5.00,2,    19.28,2,     1.23,2,    4.697,2,    2.470,2,    0.450,2,   2108.7,6,   2274.9,2,   6.66602749
  09AR20011029,  SR03,    37,  1,     23,2,20011109,-51.0368, 143.3393, 3736,     51.4,   6.6220,  34.0920,2,  34.0950,2,    309.4,2,    305.7,2,     4.90,2,    19.23,2,     1.25,2, -999.000,9, -999.000,9, -999.000,9,   -999.0,9,   2274.6,6,   6.61745849
  09AR20011029,  SR03,    37,  1,     22,2,20011109,-51.0368, 143.3393, 3736,    100.9,   6.4850,  34.1610,2,  34.1620,2,    293.4,2,    300.0,2,     4.80,2,    19.39,2,     1.26,2,    4.561,2,    2.401,2,    0.420,2,   2112.5,2,   2276.0,2,   6.47614579
  09AR20011029,  SR03,    37,  1,     21,2,20011109,-51.0368, 143.3393, 3736,    151.4,   6.5960,  34.1990,4,  34.1980,2,    296.2,2,    295.8,2,     5.20,2,    19.32,2,     1.26,2, -999.000,9, -999.000,9, -999.000,9,   2114.9,2,   2277.1,2,   6.58252243
  09AR20011029,  SR03,    37,  1,     20,2,20011109,-51.0368, 143.3393, 3736,    200.8,   5.9980,  34.1120,4,  34.1080,2,    301.2,2,    297.0,2,     5.70,2,    20.59,2,     1.34,2,    4.653,2,    2.434,2,    0.420,2,   2115.9,2,   2274.6,2,   5.98101161
  09AR20011029,  SR03,    37,  1,     19,2,20011109,-51.0368, 143.3393, 3736,    301.5,   6.6670,  34.3070,3,  34.3050,2,    253.1,2,   -999.0,9,    10.20,2,    22.31,2,     1.44,2,    3.768,2,    1.932,2,    0.300,2,   2139.0,2,   2283.0,2,   6.63963094
  09AR20011029,  SR03,    37,  1,    718,2,20011109,-51.0368, 143.3393, 3736,    401.4,   6.6240,  34.4260,4,-999.0000,9,    209.9,2,   -999.0,9,  -999.00,9,  -999.00,9,  -999.00,9, -999.000,9, -999.000,9, -999.000,9,   -999.0,9,   -999.0,9,         -999
  09AR20011029,  SR03,    37,  1,     17,2,20011109,-51.0368, 143.3393, 3736,    500.0,   5.1660,  34.2960,2,  34.2950,2,    231.1,2,    230.7,2,    20.50,2,    27.95,2,     1.81,2,    3.130,2,    1.534,2,    0.230,2,   2170.8,2,   2287.5,2,    5.1256867
  09AR20011029,  SR03,    37,  1,     16,2,20011109,-51.0368, 143.3393, 3736,    600.7,   4.5330,  34.2910,2,  34.2880,2,    227.8,2,    227.8,2,    25.30,2,    29.35,2,     1.91,2, -999.000,9, -999.000,9, -999.000,9,   2182.0,2,   2289.6,2,   4.48707893
  09AR20011029,  SR03,    37,  1,     15,2,20011109,-51.0368, 143.3393, 3736,    701.2,   4.0700,  34.3070,3,  34.3060,2,    218.0,2,    219.8,2,    31.60,2,    30.54,2,     2.02,2,    2.298,2,    1.102,2,    0.150,2,   2195.3,2,   2295.6,2,   4.01837361
  09AR20011029,  SR03,    37,  1,     14,2,20011109,-51.0368, 143.3393, 3736,    799.4,   3.5670,  34.3210,2,  34.3200,2,    215.1,2,    213.7,2,    38.60,2,    32.05,2,     2.11,2, -999.000,9, -999.000,9, -999.000,9,   2202.7,2,   2300.4,2,   3.51066563
  09AR20011029,  SR03,    37,  1,     13,2,20011109,-51.0368, 143.3393, 3736,    898.5,   3.3160,  34.3510,2,  34.3490,2,    198.7,2,    205.7,2,    44.60,2,    32.68,2,     2.20,2,    1.672,2,    0.784,2,    0.120,2,   2214.5,2,   2306.3,2,    3.2537126
  09AR20011029,  SR03,    37,  1,     12,2,20011109,-51.0368, 143.3393, 3736,   1000.2,   3.0530,  34.4000,2,  34.4000,2,    193.2,2,    194.2,2,    53.30,2,    33.87,2,     2.25,2, -999.000,9, -999.000,9, -999.000,9,   2228.0,2,   2313.3,2,    2.9848397
  09AR20011029,  SR03,    37,  1,     11,2,20011109,-51.0368, 143.3393, 3736,   1100.0,   2.7160,  34.4430,2,  34.4410,2,    189.9,2,    187.5,2,    61.70,2,    34.57,2,     2.29,2,    1.055,6,    0.493,6,    0.070,6,   2237.4,2,   2320.1,6,   2.64299799
  09AR20011029,  SR03,    37,  1,     10,2,20011109,-51.0368, 143.3393, 3736,   1299.7,   2.5830,  34.5450,2,  34.5440,2,    181.8,2,    179.6,2,    69.70,2,    34.31,2,     2.27,2,    0.543,2,    0.254,2,    0.020,2,   2247.4,2,   2329.8,2,   2.49581866
  09AR20011029,  SR03,    37,  1,      9,2,20011109,-51.0368, 143.3393, 3736,   1601.1,   2.4280,  34.6540,2,  34.6530,2,    181.1,2,    181.1,2,    75.70,2,    32.91,2,     2.18,2,    0.229,2,    0.099,2,    0.010,2,   2250.6,2,   2338.8,2,   2.31844184
  09AR20011029,  SR03,    37,  1,      8,2,20011109,-51.0368, 143.3393, 3736,   1899.3,   2.2300,  34.7200,2,  34.7200,2,    190.7,2,    189.9,2,    80.60,2,    31.77,2,     2.07,2,    0.133,2,    0.058,2,    0.010,2,   2248.1,2,   2344.8,2,   2.09828949
  09AR20011029,  SR03,    37,  1,      7,2,20011109,-51.0368, 143.3393, 3736,   2199.9,   2.0020,  34.7460,2,  34.7460,2,    197.2,2,    197.5,2,    86.70,2,    30.98,2,     2.02,2, -999.000,9, -999.000,9, -999.000,9,   2250.2,2,   2353.8,2,   1.84802399
  09AR20011029,  SR03,    37,  1,      6,2,20011109,-51.0368, 143.3393, 3736,   2497.7,   1.7460,  34.7470,2,  34.7470,2,    202.8,2,    201.9,2,    94.80,2,    30.96,2,     2.03,2,    0.070,2,    0.040,2,    0.010,2,   2253.6,2,   2356.6,2,   1.57023322
  09AR20011029,  SR03,    37,  1,      5,2,20011109,-51.0368, 143.3393, 3736,   2800.3,   1.4780,  34.7380,2,  34.7390,2,    205.4,2,    205.4,2,   102.50,2,    31.60,2,     2.05,2, -999.000,9, -999.000,9, -999.000,9,   2253.9,2,   2356.6,2,    1.2800359
  09AR20011029,  SR03,    37,  1,      4,2,20011109,-51.0368, 143.3393, 3736,   3099.2,   1.1980,  34.7250,2,  34.7260,2,    209.1,2,    207.6,2,   112.80,2,    31.89,2,     2.11,2,    0.074,2,    0.040,2,    0.010,2,   2259.9,2,   2361.2,2,  0.978257907
  09AR20011029,  SR03,    37,  1,      3,2,20011109,-51.0368, 143.3393, 3736,   3400.9,   1.0560,  34.7170,2,  34.7180,2,    209.8,2,    209.3,2,   118.40,2,    32.27,2,     2.12,2, -999.000,9, -999.000,9, -999.000,9,   2261.2,2,   2364.0,2,  0.810598145
  09AR20011029,  SR03,    37,  1,      2,2,20011109,-51.0368, 143.3393, 3736,   3703.9,   0.9840,  34.7130,2,  34.7140,2,    213.6,2,    211.3,2,   120.10,2,    32.46,2,     2.14,2,    0.117,2,    0.057,2,    0.000,2,   2260.2,2,   2362.5,6,  0.710188286
  09AR20011029,  SR03,    37,  1,      1,2,20011109,-51.0368, 143.3393, 3736,   3861.8,   0.9910,  34.7130,2,  34.7140,2,    212.6,2,    211.3,2,   120.30,2,    32.20,2,     2.13,2,    0.119,2,    0.052,2,    0.000,2,   2260.4,6,   2361.7,2,  0.700747159
  09AR20011029,  SR03,    38,  1,     24,2,20011110,-51.0043, 143.4197, 3870,      5.3,   6.9070,  34.1090,2,-999.0000,9,   -999.0,5,   -999.0,9,  -999.00,9,  -999.00,9,  -999.00,9, -999.000,9, -999.000,9, -999.000,9,   -999.0,9,   -999.0,9,   6.90652163
  09AR20011029,  SR03,    38,  1,     23,2,20011110,-51.0043, 143.4197, 3870,      5.4,   6.9080,  34.1090,2,-999.0000,9,   -999.0,5,   -999.0,9,  -999.00,9,  -999.00,9,  -999.00,9, -999.000,9, -999.000,9, -999.000,9,   -999.0,9,   -999.0,9,   6.90751256
  09AR20011029,  SR03,    38,  1,     22,2,20011110,-51.0043, 143.4197, 3870,     20.4,   6.9070,  34.1210,2,-999.0000,9,   -999.0,5,   -999.0,9,  -999.00,9,  -999.00,9,  -999.00,9, -999.000,9, -999.000,9, -999.000,9,   -999.0,9,   -999.0,9,   6.90515621
  09AR20011029,  SR03,    38,  1,     21,2,20011110,-51.0043, 143.4197, 3870,     20.4,   6.9070,  34.1210,2,-999.0000,9,   -999.0,5,   -999.0,9,  -999.00,9,  -999.00,9,  -999.00,9, -999.000,9, -999.000,9, -999.000,9,   -999.0,9,   -999.0,9,   6.90515621
  09AR20011029,  SR03,    38,  1,     20,2,20011110,-51.0043, 143.4197, 3870,     20.5,   6.9080,  34.1210,2,-999.0000,9,   -999.0,5,   -999.0,9,  -999.00,9,  -999.00,9,  -999.00,9, -999.000,9, -999.000,9, -999.000,9,   -999.0,9,   -999.0,9,   6.90614699
  09AR20011029,  SR03,    38,  1,     19,2,20011110,-51.0043, 143.4197, 3870,     20.6,   6.9090,  34.1220,2,-999.0000,9,   -999.0,5,   -999.0,9,  -999.00,9,  -999.00,9,  -999.00,9, -999.000,9, -999.000,9, -999.000,9,   -999.0,9,   -999.0,9,   6.90713775
  09AR20011029,  SR03,    38,  1,    518,2,20011110,-51.0043, 143.4197, 3870,     20.8,   6.9080,  34.1210,2,-999.0000,9,   -999.0,5,   -999.0,9,  -999.00,9,  -999.00,9,  -999.00,9, -999.000,9, -999.000,9, -999.000,9,   -999.0,9,   -999.0,9,   6.90611983
  09AR20011029,  SR03,    38,  1,     17,2,20011110,-51.0043, 143.4197, 3870,     40.2,   6.8240,  34.1200,3,-999.0000,9,   -999.0,5,   -999.0,9,  -999.00,9,  -999.00,9,  -999.00,9, -999.000,9, -999.000,9, -999.000,9,   -999.0,9,   -999.0,9,         -999
  09AR20011029,  SR03,    38,  1,     16,2,20011110,-51.0043, 143.4197, 3870,     58.8,   6.8390,  34.1420,3,-999.0000,9,   -999.0,5,   -999.0,9,  -999.00,9,  -999.00,9,  -999.00,9, -999.000,9, -999.000,9, -999.000,9,   -999.0,9,   -999.0,9,         -999
  09AR20011029,  SR03,    38,  1,     15,2,20011110,-51.0043, 143.4197, 3870,     80.8,   6.9620,  34.2330,3,-999.0000,9,   -999.0,5,   -999.0,9,  -999.00,9,  -999.00,9,  -999.00,9, -999.000,9, -999.000,9, -999.000,9,   -999.0,9,   -999.0,9,         -999
  09AR20011029,  SR03,    38,  1,     14,2,20011110,-51.0043, 143.4197, 3870,    101.2,   7.0930,  34.2690,4,-999.0000,9,   -999.0,5,   -999.0,9,  -999.00,9,  -999.00,9,  -999.00,9, -999.000,9, -999.000,9, -999.000,9,   -999.0,9,   -999.0,9,         -999
  09AR20011029,  SR03,    38,  1,     13,2,20011110,-51.0043, 143.4197, 3870,    124.9,   7.0160,  34.2640,4,-999.0000,9,   -999.0,5,   -999.0,9,  -999.00,9,  -999.00,9,  -999.00,9, -999.000,9, -999.000,9, -999.000,9,   -999.0,9,   -999.0,9,         -999
  09AR20011029,  SR03,    38,  1,     12,2,20011110,-51.0043, 143.4197, 3870,    151.2,   6.5500,  34.1890,2,-999.0000,9,   -999.0,5,   -999.0,9,  -999.00,9,  -999.00,9,  -999.00,9, -999.000,9, -999.000,9, -999.000,9,   -999.0,9,   -999.0,9,   6.53659618
  09AR20011029,  SR03,    38,  1,     11,2,20011110,-51.0043, 143.4197, 3870,    173.7,   6.5380,  34.1910,2,-999.0000,9,   -999.0,5,   -999.0,9,  -999.00,9,  -999.00,9,  -999.00,9, -999.000,9, -999.000,9, -999.000,9,   -999.0,9,   -999.0,9,   6.52258976
  09AR20011029,  SR03,    38,  1,     10,2,20011110,-51.0043, 143.4197, 3870,    200.3,   6.6170,  34.2120,3,-999.0000,9,   -999.0,5,   -999.0,9,  -999.00,9,  -999.00,9,  -999.00,9, -999.000,9, -999.000,9, -999.000,9,   -999.0,9,   -999.0,9,         -999
  09AR20011029,  SR03,    38,  1,      9,2,20011110,-51.0043, 143.4197, 3870,    249.0,   6.6250,  34.2250,3,-999.0000,9,   -999.0,5,   -999.0,9,  -999.00,9,  -999.00,9,  -999.00,9, -999.000,9, -999.000,9, -999.000,9,   -999.0,9,   -999.0,9,         -999
  09AR20011029,  SR03,    38,  1,      8,2,20011110,-51.0043, 143.4197, 3870,    300.5,   6.7820,  34.2880,4,-999.0000,9,   -999.0,5,   -999.0,9,  -999.00,9,  -999.00,9,  -999.00,9, -999.000,9, -999.000,9, -999.000,9,   -999.0,9,   -999.0,9,         -999
  09AR20011029,  SR03,    38,  1,      7,2,20011110,-51.0043, 143.4197, 3870,    350.1,   6.9410,  34.3740,4,-999.0000,9,   -999.0,5,   -999.0,9,  -999.00,9,  -999.00,9,  -999.00,9, -999.000,9, -999.000,9, -999.000,9,   -999.0,9,   -999.0,9,         -999
  09AR20011029,  SR03,    38,  1,      6,2,20011110,-51.0043, 143.4197, 3870,    399.3,   6.6460,  34.3820,4,-999.0000,9,   -999.0,5,   -999.0,9,  -999.00,9,  -999.00,9,  -999.00,9, -999.000,9, -999.000,9, -999.000,9,   -999.0,9,   -999.0,9,         -999
  09AR20011029,  SR03,    38,  1,      5,2,20011110,-51.0043, 143.4197, 3870,    449.5,   6.0150,  34.3440,4,-999.0000,9,   -999.0,5,   -999.0,9,  -999.00,9,  -999.00,9,  -999.00,9, -999.000,9, -999.000,9, -999.000,9,   -999.0,9,   -999.0,9,         -999
  09AR20011029,  SR03,    38,  1,      4,2,20011110,-51.0043, 143.4197, 3870,    499.5,   5.6900,  34.3490,3,-999.0000,9,   -999.0,5,   -999.0,9,  -999.00,9,  -999.00,9,  -999.00,9, -999.000,9, -999.000,9, -999.000,9,   -999.0,9,   -999.0,9,         -999
  09AR20011029,  SR03,    38,  1,      3,2,20011110,-51.0043, 143.4197, 3870,    600.4,   4.7130,  34.2960,2,-999.0000,9,   -999.0,5,   -999.0,9,  -999.00,9,  -999.00,9,  -999.00,9, -999.000,9, -999.000,9, -999.000,9,   -999.0,9,   -999.0,9,    4.6662553
  09AR20011029,  SR03,    38,  1,      2,2,20011110,-51.0043, 143.4197, 3870,    699.3,   4.1460,  34.2950,3,-999.0000,9,   -999.0,5,   -999.0,9,  -999.00,9,  -999.00,9,  -999.00,9, -999.000,9, -999.000,9, -999.000,9,   -999.0,9,   -999.0,9,         -999
  09AR20011029,  SR03,    38,  1,      1,2,20011110,-51.0043, 143.4197, 3870,    799.2,   3.5140,  34.2940,2,-999.0000,9,   -999.0,5,   -999.0,9,  -999.00,9,  -999.00,9,  -999.00,9, -999.000,9, -999.000,9, -999.000,9,   -999.0,9,   -999.0,9,   3.45804792