BOTTLE,20081126PRINUNIVRMK
EXPOCODE,SECT_ID,STNNBR,CASTNO,BTLNBR,BTLNBR_FLAG_W,DATE,LATITUDE,LONGITUDE,DEPTH,CTDPRS,CTDTMP,CTDSAL,CTDSAL_FLAG_W,SALNTY,SALNTY_FLAG_W,CTDOXY,CTDOXY_FLAG_W,OXYGEN,OXYGEN_FLAG_W,SILCAT,SILCAT_FLAG_W,NITRAT,NITRAT_FLAG_W,PHSPHT,PHSPHT_FLAG_W,CFC-11,CFC-11_FLAG_W,CFC-12,CFC-12_FLAG_W,CFC113,CFC113_FLAG_W,TCARBN,TCARBN_FLAG_W,ALKALI,ALKALI_FLAG_W,THETA
,,,,,,,,,METERS,DBARS,ITS-90,PSS-78,,PSS-78,,UMOL/KG,,UMOL/KG,,UMOL/KG,,UMOL/KG,,UMOL/KG,,PMOL/KG,,PMOL/KG,,PMOL/KG,,UMOL/KG,,UMOL/KG,,DEGC
  09AR20011029,  SR03,    84,  1,     24,2,20011124,-63.3632, 139.8855, 3714,      4.5,  -1.6020,  33.9210,3,  33.9220,2,    370.0,3,    358.2,2,    43.10,2,    28.03,2,     1.74,2,    6.400,2,    3.304,2,    0.590,2,   2164.5,6,   2289.0,2,  -1.60208954
  09AR20011029,  SR03,    84,  1,     23,2,20011124,-63.3632, 139.8855, 3714,      4.6,  -1.6090,  33.9180,2,-999.0000,9,    370.0,3,   -999.0,9,  -999.00,9,  -999.00,9,  -999.00,9, -999.000,9, -999.000,9, -999.000,9,   -999.0,9,   -999.0,9,  -1.60909121
  09AR20011029,  SR03,    84,  1,     22,2,20011124,-63.3632, 139.8855, 3714,     14.6,  -1.5590,  33.9460,3,  33.9290,0,    361.9,3,    357.9,2,    43.30,2,    28.12,2,     1.76,2, -999.000,9, -999.000,9, -999.000,9,   2164.8,2,   2290.2,6,         -999
  09AR20011029,  SR03,    84,  1,     21,2,20011124,-63.3632, 139.8855, 3714,     14.6,  -1.6070,  33.9220,3,-999.0000,9,    361.9,3,   -999.0,9,  -999.00,9,  -999.00,9,  -999.00,9, -999.000,9, -999.000,9, -999.000,9,   -999.0,9,   -999.0,9,         -999
  09AR20011029,  SR03,    84,  1,     19,2,20011124,-63.3632, 139.8855, 3714,     29.6,  -1.5690,  33.9500,4,-999.0000,9,    356.2,2,   -999.0,9,  -999.00,9,  -999.00,9,  -999.00,9, -999.000,9, -999.000,9, -999.000,9,   2167.8,2,   2291.4,2,         -999
  09AR20011029,  SR03,    84,  1,     20,2,20011124,-63.3632, 139.8855, 3714,     29.7,  -1.4980,  33.9650,3,  33.9530,0,    356.2,2,    354.4,2,    44.70,2,    28.33,2,     1.79,2,    6.211,2,    3.174,2,    0.570,2,   -999.0,9,   -999.0,9,         -999
  09AR20011029,  SR03,    84,  1,     17,2,20011124,-63.3632, 139.8855, 3714,     44.6,  -1.4970,  33.9900,2,-999.0000,9,    354.5,2,   -999.0,9,  -999.00,9,  -999.00,9,  -999.00,9, -999.000,9, -999.000,9, -999.000,9,   -999.0,9,   -999.0,9,  -1.49795209
  09AR20011029,  SR03,    84,  1,    218,2,20011124,-63.3632, 139.8855, 3714,     44.7,  -1.4900,  33.9870,2,-999.0000,9,    354.5,2,   -999.0,9,  -999.00,9,  -999.00,9,  -999.00,9, -999.000,9, -999.000,9, -999.000,9,   -999.0,9,   -999.0,9,  -1.49095675
  09AR20011029,  SR03,    84,  1,    715,2,20011124,-63.3632, 139.8855, 3714,     60.0,  -1.3970,  34.1230,4,-999.0000,9,    313.7,2,   -999.0,9,  -999.00,9,  -999.00,9,  -999.00,9, -999.000,9, -999.000,9, -999.000,9,   2188.6,2,   2300.7,2,         -999
  09AR20011029,  SR03,    84,  1,     16,2,20011124,-63.3632, 139.8855, 3714,     60.2,  -1.4870,  34.0990,2,  34.1190,0,    313.7,2,    330.1,2,    51.40,2,    29.86,2,     1.93,2,    5.511,2,    2.809,2,    0.500,2,   -999.0,9,   -999.0,9,  -1.48831242
  09AR20011029,  SR03,    84,  1,     13,2,20011124,-63.3632, 139.8855, 3714,     74.9,  -0.8070,  34.2370,4,-999.0000,9,    299.8,2,   -999.0,9,  -999.00,9,  -999.00,9,  -999.00,9, -999.000,9, -999.000,9, -999.000,9,   2209.2,2,   2308.3,2,         -999
  09AR20011029,  SR03,    84,  1,     14,2,20011124,-63.3632, 139.8855, 3714,     75.1,  -0.7210,  34.2470,2,  34.2410,2,    292.7,2,    294.5,2,    58.20,2,    31.63,2,     2.08,2,    4.540,2,    2.336,2,    0.420,2,   -999.0,9,   -999.0,9, -0.723168526
  09AR20011029,  SR03,    84,  1,     11,2,20011124,-63.3632, 139.8855, 3714,     89.0,   0.0520,  34.3740,2,-999.0000,9,    267.5,2,   -999.0,9,  -999.00,9,  -999.00,9,  -999.00,9, -999.000,9, -999.000,9, -999.000,9,   2226.4,2,   2316.8,2, 0.0488064111
  09AR20011029,  SR03,    84,  1,     12,2,20011124,-63.3632, 139.8855, 3714,     89.3,   0.0660,  34.3740,2,  34.3730,2,    257.9,2,    254.4,2,    65.50,2,    32.89,2,     2.15,2,    3.336,2,    1.703,2,    0.310,2,   -999.0,9,   -999.0,9, 0.0627849275
  09AR20011029,  SR03,    84,  1,    709,2,20011124,-63.3632, 139.8855, 3714,    105.5,   0.7230,  34.4620,2,-999.0000,9,    227.0,2,   -999.0,9,  -999.00,9,  -999.00,9,  -999.00,9, -999.000,9, -999.000,9, -999.000,9,   2239.9,2,   2323.4,2,  0.718582153
  09AR20011029,  SR03,    84,  1,    310,2,20011124,-63.3632, 139.8855, 3714,    105.6,   0.7230,  34.4630,2,  34.4610,2,    227.0,2,    224.1,2,    72.10,2,    33.77,2,     2.24,2,    2.399,2,    1.216,2,    0.210,2,   -999.0,9,   -999.0,9,  0.718578067
  09AR20011029,  SR03,    84,  1,      8,2,20011124,-63.3632, 139.8855, 3714,    119.9,   1.1330,  34.5210,2,  34.5200,2,    205.0,2,    205.9,2,    75.80,2,    34.17,2,     2.25,2,    1.772,2,    0.886,2,    0.150,2,   2247.4,2,   2326.8,2,   1.12753898
  09AR20011029,  SR03,    84,  1,      7,2,20011124,-63.3632, 139.8855, 3714,    119.9,   1.1430,  34.5220,2,-999.0000,9,    205.0,2,   -999.0,9,  -999.00,9,  -999.00,9,  -999.00,9, -999.000,9, -999.000,9, -999.000,9,   -999.0,9,   -999.0,9,   1.13752853
  09AR20011029,  SR03,    84,  1,      5,2,20011124,-63.3632, 139.8855, 3714,    149.4,   1.2550,  34.5590,3,-999.0000,9,    205.5,2,   -999.0,9,  -999.00,9,  -999.00,9,  -999.00,9, -999.000,9, -999.000,9, -999.000,9,   2248.1,2,   2329.9,2,         -999
  09AR20011029,  SR03,    84,  1,      6,2,20011124,-63.3632, 139.8855, 3714,    149.5,   1.2440,  34.5570,2,  34.5610,2,    205.5,2,    201.1,2,    78.20,2,    33.87,2,     2.23,2,    1.484,2,    0.732,2,    0.130,2,   -999.0,9,   -999.0,9,   1.23700245
  09AR20011029,  SR03,    84,  1,      4,2,20011124,-63.3632, 139.8855, 3714,    199.8,   1.7810,  34.6270,2,  34.6250,2,    182.4,2,    185.6,2,    81.50,2,    33.75,2,     2.21,2, -999.000,9, -999.000,9, -999.000,9,   2253.7,2,   2335.0,2,   1.77064993
  09AR20011029,  SR03,    84,  1,      3,2,20011124,-63.3632, 139.8855, 3714,    249.6,   1.8070,  34.6510,2,  34.6470,2,    184.5,2,    186.9,2,    82.70,2,    33.36,2,     2.18,2,    0.700,2,    0.341,2,    0.060,2,   2252.6,2,   2336.8,2,    1.7939012
  09AR20011029,  SR03,    84,  1,      2,2,20011124,-63.3632, 139.8855, 3714,    300.3,   1.7590,  34.6710,3,  34.6710,2,    188.2,2,    188.6,2,    84.00,2,    32.91,2,     2.16,2, -999.000,9, -999.000,9, -999.000,9,   2252.0,2,   2337.2,6,   1.74321657
  09AR20011029,  SR03,    84,  1,      1,2,20011124,-63.3632, 139.8855, 3714,    349.6,   1.7400,  34.6810,2,  34.6800,2,    191.7,2,    189.7,2,    84.20,2,    32.65,2,     2.14,2,    0.580,2,    0.284,2,    0.050,2,   2251.9,6,   2339.1,2,   1.72152801
  09AR20011029,  SR03,    85,  1,     22,2,20011124,-63.8970, 139.8770, 3642,      5.8,  -1.6610,  33.8470,2,-999.0000,9,   -999.0,5,   -999.0,9,  -999.00,9,  -999.00,9,  -999.00,9, -999.000,9, -999.000,9, -999.000,9,   -999.0,9,   -999.0,9,  -1.66111161
  09AR20011029,  SR03,    85,  1,     20,2,20011124,-63.8970, 139.8770, 3642,      5.8,  -1.6680,  33.8460,2,-999.0000,9,   -999.0,5,   -999.0,9,  -999.00,9,  -999.00,9,  -999.00,9, -999.000,9, -999.000,9, -999.000,9,   -999.0,9,   -999.0,9,  -1.66811124
  09AR20011029,  SR03,    85,  1,     24,2,20011124,-63.8970, 139.8770, 3642,      5.9,  -1.6600,  33.8440,2,-999.0000,9,   -999.0,5,   -999.0,9,  -999.00,9,  -999.00,9,  -999.00,9, -999.000,9, -999.000,9, -999.000,9,   -999.0,9,   -999.0,9,  -1.66011356
  09AR20011029,  SR03,    85,  1,     23,2,20011124,-63.8970, 139.8770, 3642,      5.9,  -1.6600,  33.8460,2,-999.0000,9,   -999.0,5,   -999.0,9,  -999.00,9,  -999.00,9,  -999.00,9, -999.000,9, -999.000,9, -999.000,9,   -999.0,9,   -999.0,9,  -1.66011358
  09AR20011029,  SR03,    85,  1,     21,2,20011124,-63.8970, 139.8770, 3642,      5.9,  -1.6680,  33.8480,2,  33.8460,2,   -999.0,5,   -999.0,9,    40.70,2,    27.45,2,     1.69,2, -999.000,9, -999.000,9, -999.000,9,   -999.0,9,   -999.0,9,  -1.66811317
  09AR20011029,  SR03,    85,  1,     19,2,20011124,-63.8970, 139.8770, 3642,     25.5,  -1.6820,  33.8520,2,  33.8500,2,   -999.0,5,   -999.0,9,    40.80,2,    27.47,2,     1.76,2, -999.000,9, -999.000,9, -999.000,9,   -999.0,9,   -999.0,9,  -1.68249113
  09AR20011029,  SR03,    85,  1,     17,2,20011124,-63.8970, 139.8770, 3642,     51.0,  -1.5150,  34.0660,3,-999.0000,9,   -999.0,5,   -999.0,9,    50.10,2,    29.47,2,     1.89,2, -999.000,9, -999.000,9, -999.000,9,   -999.0,9,   -999.0,9,         -999
  09AR20011029,  SR03,    85,  1,    218,2,20011124,-63.8970, 139.8770, 3642,     51.1,  -1.5080,  34.0710,2,-999.0000,9,   -999.0,5,   -999.0,9,  -999.00,9,  -999.00,9,  -999.00,9, -999.000,9, -999.000,9, -999.000,9,   -999.0,9,   -999.0,9,  -1.50909728
  09AR20011029,  SR03,    85,  1,     16,2,20011124,-63.8970, 139.8770, 3642,     71.1,   0.0540,  34.3180,3,  34.3190,2,   -999.0,5,   -999.0,9,    63.90,2,    32.54,2,     2.15,2, -999.000,9, -999.000,9, -999.000,9,   -999.0,9,   -999.0,9, 0.0514665991
  09AR20011029,  SR03,    85,  1,    715,2,20011124,-63.8970, 139.8770, 3642,     91.1,   0.7900,  34.4190,2,-999.0000,9,   -999.0,5,   -999.0,9,    71.70,2,    34.04,2,     2.24,2, -999.000,9, -999.000,9, -999.000,9,   -999.0,9,   -999.0,9,  0.786152806
  09AR20011029,  SR03,    85,  1,     14,2,20011124,-63.8970, 139.8770, 3642,    100.8,   1.5180,  34.5150,2,-999.0000,9,   -999.0,5,   -999.0,9,    75.40,2,    34.54,2,     2.25,2, -999.000,9, -999.000,9, -999.000,9,   -999.0,9,   -999.0,9,    1.5131034
  09AR20011029,  SR03,    85,  1,     12,2,20011124,-63.8970, 139.8770, 3642,    150.9,   1.8050,  34.5860,2,  34.5860,2,   -999.0,5,   -999.0,9,    79.60,2,    34.33,2,     2.24,2, -999.000,9, -999.000,9, -999.000,9,   -999.0,9,   -999.0,9,   1.79722674
  09AR20011029,  SR03,    85,  1,     13,2,20011124,-63.8970, 139.8770, 3642,    151.1,   1.8040,  34.5850,2,-999.0000,9,   -999.0,5,   -999.0,9,  -999.00,9,  -999.00,9,  -999.00,9, -999.000,9, -999.000,9, -999.000,9,   -999.0,9,   -999.0,9,    1.7962177
  09AR20011029,  SR03,    85,  1,     11,2,20011124,-63.8970, 139.8770, 3642,    201.1,   1.8860,  34.6330,2,-999.0000,9,   -999.0,5,   -999.0,9,    82.10,2,    33.79,2,     2.19,2, -999.000,9, -999.000,9, -999.000,9,   -999.0,9,   -999.0,9,   1.87540375
  09AR20011029,  SR03,    85,  1,    310,2,20011124,-63.8970, 139.8770, 3642,    250.5,   1.9100,  34.6560,2,-999.0000,9,   -999.0,5,   -999.0,9,    83.50,2,    33.27,2,     2.17,2, -999.000,9, -999.000,9, -999.000,9,   -999.0,9,   -999.0,9,    1.8966363
  09AR20011029,  SR03,    85,  1,    709,2,20011124,-63.8970, 139.8770, 3642,    301.3,   1.8950,  34.6730,2,  34.6730,2,   -999.0,5,   -999.0,9,    84.10,2,    32.96,2,     2.14,2, -999.000,9, -999.000,9, -999.000,9,   -999.0,9,   -999.0,9,   1.87882476
  09AR20011029,  SR03,    85,  1,      8,2,20011124,-63.8970, 139.8770, 3642,    350.8,   1.9170,  34.6950,2,-999.0000,9,   -999.0,5,   -999.0,9,    84.70,2,    32.56,2,     2.11,2, -999.000,9, -999.000,9, -999.000,9,   -999.0,9,   -999.0,9,   1.89794416
  09AR20011029,  SR03,    85,  1,      7,2,20011124,-63.8970, 139.8770, 3642,    401.6,   1.9000,  34.7020,2,  34.7050,2,   -999.0,5,   -999.0,9,    85.40,2,    32.22,2,     2.08,2, -999.000,9, -999.000,9, -999.000,9,   -999.0,9,   -999.0,9,   1.87806165
  09AR20011029,  SR03,    85,  1,      6,2,20011124,-63.8970, 139.8770, 3642,    464.7,   1.8050,  34.7070,2,-999.0000,9,   -999.0,5,   -999.0,9,    86.00,2,    32.06,2,     2.08,2, -999.000,9, -999.000,9, -999.000,9,   -999.0,9,   -999.0,9,   1.77972594
  09AR20011029,  SR03,    85,  1,      5,2,20011124,-63.8970, 139.8770, 3642,    500.9,   1.8000,  34.7140,2,-999.0000,9,   -999.0,5,   -999.0,9,    86.90,2,    31.81,2,     2.07,2, -999.000,9, -999.000,9, -999.000,9,   -999.0,9,   -999.0,9,   1.77261883
  09AR20011029,  SR03,    85,  1,      4,2,20011124,-63.8970, 139.8770, 3642,    600.9,   1.7840,  34.7360,2,  34.7370,2,   -999.0,5,   -999.0,9,    89.40,2,    31.27,2,     2.02,2, -999.000,9, -999.000,9, -999.000,9,   -999.0,9,   -999.0,9,   1.75070215
  09AR20011029,  SR03,    85,  1,      3,2,20011124,-63.8970, 139.8770, 3642,    801.0,   1.6250,  34.7420,2,-999.0000,9,   -999.0,5,   -999.0,9,    94.20,2,    30.97,2,     2.00,2, -999.000,9, -999.000,9, -999.000,9,   -999.0,9,   -999.0,9,    1.5802948
  09AR20011029,  SR03,    85,  1,      2,2,20011124,-63.8970, 139.8770, 3642,   1001.8,   1.4280,  34.7390,2,  34.7410,2,   -999.0,5,   -999.0,9,    99.40,2,    31.05,2,     2.01,2, -999.000,9, -999.000,9, -999.000,9,   -999.0,9,   -999.0,9,   1.37199369
  09AR20011029,  SR03,    85,  1,      1,2,20011124,-63.8970, 139.8770, 3642,   1002.2,   1.4270,  34.7400,2,-999.0000,9,   -999.0,5,   -999.0,9,  -999.00,9,  -999.00,9,  -999.00,9, -999.000,9, -999.000,9, -999.000,9,   -999.0,9,   -999.0,9,   1.37097777
  09AR20011029,  SR03,    86,  1,     24,2,20011125,-63.8958, 139.8587, 3640,      5.0,  -1.6600,  33.8490,2,-999.0000,9,   -999.0,5,   -999.0,9,    41.20,2,    27.58,2,     1.71,2, -999.000,9, -999.000,9, -999.000,9,   -999.0,9,   -999.0,9,  -1.66009624
  09AR20011029,  SR03,    86,  1,     23,2,20011125,-63.8958, 139.8587, 3640,      5.0,  -1.6560,  33.8480,2,  33.8480,2,   -999.0,5,   -999.0,9,  -999.00,9,  -999.00,9,  -999.00,9, -999.000,9, -999.000,9, -999.000,9,   -999.0,9,   -999.0,9,  -1.65609641
  09AR20011029,  SR03,    86,  1,     20,2,20011125,-63.8958, 139.8587, 3640,     20.3,  -1.6590,  33.8500,2,-999.0000,9,   -999.0,5,   -999.0,9,    41.20,2,    27.64,2,     1.73,2, -999.000,9, -999.000,9, -999.000,9,   -999.0,9,   -999.0,9,  -1.65939404
  09AR20011029,  SR03,    86,  1,     21,2,20011125,-63.8958, 139.8587, 3640,     20.5,  -1.6600,  33.8480,2,  33.8490,2,   -999.0,5,   -999.0,9,  -999.00,9,  -999.00,9,  -999.00,9, -999.000,9, -999.000,9, -999.000,9,   -999.0,9,   -999.0,9,  -1.66039774
  09AR20011029,  SR03,    86,  1,     22,2,20011125,-63.8958, 139.8587, 3640,     20.6,  -1.6600,  33.8480,2,-999.0000,9,   -999.0,5,   -999.0,9,  -999.00,9,  -999.00,9,  -999.00,9, -999.000,9, -999.000,9, -999.000,9,   -999.0,9,   -999.0,9,  -1.66039966
  09AR20011029,  SR03,    86,  1,    715,2,20011125,-63.8958, 139.8587, 3640,     45.3,  -1.5610,  34.0140,4,  34.0300,2,   -999.0,5,   -999.0,9,  -999.00,9,  -999.00,9,  -999.00,9, -999.000,9, -999.000,9, -999.000,9,   -999.0,9,   -999.0,9,  -1.56194548
  09AR20011029,  SR03,    86,  1,     16,2,20011125,-63.8958, 139.8587, 3640,     45.4,  -1.5770,  34.0030,2,-999.0000,9,   -999.0,5,   -999.0,9,    48.10,2,    29.05,2,     1.88,2, -999.000,9, -999.000,9, -999.000,9,   -999.0,9,   -999.0,9,  -1.57793884
  09AR20011029,  SR03,    86,  1,    218,2,20011125,-63.8958, 139.8587, 3640,     45.5,  -1.5850,  33.9980,2,-999.0000,9,   -999.0,5,   -999.0,9,  -999.00,9,  -999.00,9,  -999.00,9, -999.000,9, -999.000,9, -999.000,9,   -999.0,9,   -999.0,9,  -1.58593732
  09AR20011029,  SR03,    86,  1,     17,2,20011125,-63.8958, 139.8587, 3640,     45.5,  -1.5810,  34.0010,2,-999.0000,9,   -999.0,5,   -999.0,9,  -999.00,9,  -999.00,9,  -999.00,9, -999.000,9, -999.000,9, -999.000,9,   -999.0,9,   -999.0,9,  -1.58193918
  09AR20011029,  SR03,    86,  1,     19,2,20011125,-63.8958, 139.8587, 3640,     45.6,  -1.5870,  33.9990,2,-999.0000,9,   -999.0,5,   -999.0,9,  -999.00,9,  -999.00,9,  -999.00,9, -999.000,9, -999.000,9, -999.000,9,   -999.0,9,   -999.0,9,  -1.58793871
  09AR20011029,  SR03,    86,  1,     13,2,20011125,-63.8958, 139.8587, 3640,     61.0,  -0.6280,  34.2090,4,  34.1830,2,   -999.0,5,   -999.0,9,  -999.00,9,  -999.00,9,  -999.00,9, -999.000,9, -999.000,9, -999.000,9,   -999.0,9,   -999.0,9, -0.629795373
  09AR20011029,  SR03,    86,  1,     14,2,20011125,-63.8958, 139.8587, 3640,     61.3,  -0.5410,  34.2320,4,-999.0000,9,   -999.0,5,   -999.0,9,    55.50,2,    31.01,2,     2.05,2, -999.000,9, -999.000,9, -999.000,9,   -999.0,9,   -999.0,9,         -999
  09AR20011029,  SR03,    86,  1,     11,2,20011125,-63.8958, 139.8587, 3640,     69.8,   0.8840,  34.4300,4,  34.3720,2,   -999.0,5,   -999.0,9,  -999.00,9,  -999.00,9,  -999.00,9, -999.000,9, -999.000,9, -999.000,9,   -999.0,9,   -999.0,9,  0.881016474
  09AR20011029,  SR03,    86,  1,     12,2,20011125,-63.8958, 139.8587, 3640,     69.9,   0.3720,  34.3680,3,-999.0000,9,   -999.0,5,   -999.0,9,    67.90,2,    33.45,2,     2.21,2, -999.000,9, -999.000,9, -999.000,9,   -999.0,9,   -999.0,9,         -999
  09AR20011029,  SR03,    86,  1,    310,2,20011125,-63.8958, 139.8587, 3640,     85.3,   1.5140,  34.5060,3,-999.0000,9,   -999.0,5,   -999.0,9,    75.80,2,    34.71,2,     2.29,2, -999.000,9, -999.000,9, -999.000,9,   -999.0,9,   -999.0,9,         -999
  09AR20011029,  SR03,    86,  1,    709,2,20011125,-63.8958, 139.8587, 3640,     85.3,   1.5240,  34.5010,4,  34.5050,2,   -999.0,5,   -999.0,9,  -999.00,9,  -999.00,9,  -999.00,9, -999.000,9, -999.000,9, -999.000,9,   -999.0,9,   -999.0,9,    1.5198651
  09AR20011029,  SR03,    86,  1,      7,2,20011125,-63.8958, 139.8587, 3640,    100.6,   1.5340,  34.5230,2,  34.5220,2,   -999.0,5,   -999.0,9,  -999.00,9,  -999.00,9,  -999.00,9, -999.000,9, -999.000,9, -999.000,9,   -999.0,9,   -999.0,9,   1.52909864
  09AR20011029,  SR03,    86,  1,      8,2,20011125,-63.8958, 139.8587, 3640,    100.8,   1.5340,  34.5230,2,-999.0000,9,   -999.0,5,   -999.0,9,    76.70,2,    34.73,2,     2.29,2, -999.000,9, -999.000,9, -999.000,9,   -999.0,9,   -999.0,9,   1.52908854
  09AR20011029,  SR03,    86,  1,      6,2,20011125,-63.8958, 139.8587, 3640,    114.8,   1.3720,  34.5230,2,-999.0000,9,   -999.0,5,   -999.0,9,    76.90,2,    34.40,2,     2.27,2, -999.000,9, -999.000,9, -999.000,9,   -999.0,9,   -999.0,9,   1.36654705
  09AR20011029,  SR03,    86,  1,      5,2,20011125,-63.8958, 139.8587, 3640,    114.8,   1.3690,  34.5230,2,  34.5220,2,   -999.0,5,   -999.0,9,  -999.00,9,  -999.00,9,  -999.00,9, -999.000,9, -999.000,9, -999.000,9,   -999.0,9,   -999.0,9,   1.36355012
  09AR20011029,  SR03,    86,  1,      4,2,20011125,-63.8958, 139.8587, 3640,    125.2,   1.4190,  34.5350,3,  34.5350,2,   -999.0,5,   -999.0,9,    77.70,2,    34.32,2,     2.27,2, -999.000,9, -999.000,9, -999.000,9,   -999.0,9,   -999.0,9,   1.41299006
  09AR20011029,  SR03,    86,  1,      3,2,20011125,-63.8958, 139.8587, 3640,    150.7,   1.7700,  34.5880,2,  34.5890,2,   -999.0,5,   -999.0,9,    81.00,2,    34.40,2,     2.27,2, -999.000,9, -999.000,9, -999.000,9,   -999.0,9,   -999.0,9,   1.76228001
  09AR20011029,  SR03,    86,  1,      2,2,20011125,-63.8958, 139.8587, 3640,    200.8,   1.9630,  34.6430,2,  34.6440,2,   -999.0,5,   -999.0,9,    83.60,2,    33.84,2,     2.24,2, -999.000,9, -999.000,9, -999.000,9,   -999.0,9,   -999.0,9,   1.95228908
  09AR20011029,  SR03,    86,  1,      1,2,20011125,-63.8958, 139.8587, 3640,    401.2,   1.8930,  34.7070,2,  34.7060,2,   -999.0,5,   -999.0,9,    86.80,2,    32.39,2,     2.12,2, -999.000,9, -999.000,9, -999.000,9,   -999.0,9,   -999.0,9,     1.871107