BOTTLE,20081126PRINUNIVRMK
EXPOCODE,SECT_ID,STNNBR,CASTNO,BTLNBR,BTLNBR_FLAG_W,DATE,LATITUDE,LONGITUDE,DEPTH,CTDPRS,CTDTMP,CTDSAL,CTDSAL_FLAG_W,SALNTY,SALNTY_FLAG_W,CTDOXY,CTDOXY_FLAG_W,OXYGEN,OXYGEN_FLAG_W,SILCAT,SILCAT_FLAG_W,NITRAT,NITRAT_FLAG_W,PHSPHT,PHSPHT_FLAG_W,CFC-11,CFC-11_FLAG_W,CFC-12,CFC-12_FLAG_W,CFC113,CFC113_FLAG_W,TCARBN,TCARBN_FLAG_W,ALKALI,ALKALI_FLAG_W,THETA
,,,,,,,,,METERS,DBARS,ITS-90,PSS-78,,PSS-78,,UMOL/KG,,UMOL/KG,,UMOL/KG,,UMOL/KG,,UMOL/KG,,PMOL/KG,,PMOL/KG,,PMOL/KG,,UMOL/KG,,UMOL/KG,,DEGC
  09AR20011029,  SR03,    14,  1,     24,2,20011103,-46.9155, 142.0478, 4455,      5.3,  11.4430,  35.0020,2,  35.0030,2,    281.6,3,    276.8,2,     2.20,2,     7.80,2,     0.55,2, -999.000,9, -999.000,9, -999.000,9,   -999.0,9,   -999.0,9,   11.4423352
  09AR20011029,  SR03,    14,  1,     23,2,20011103,-46.9155, 142.0478, 4455,      5.4,  11.4400,  35.0020,2,-999.0000,9,    281.6,3,   -999.0,9,  -999.00,9,  -999.00,9,  -999.00,9, -999.000,9, -999.000,9, -999.000,9,   -999.0,9,   -999.0,9,   11.4393228
  09AR20011029,  SR03,    14,  1,     22,2,20011103,-46.9155, 142.0478, 4455,     16.2,  11.3710,  34.9910,2,  34.9900,2,    275.6,3,    276.9,2,     2.40,2,     7.98,2,     0.57,2, -999.000,9, -999.000,9, -999.000,9,   -999.0,9,   -999.0,9,   11.3689756
  09AR20011029,  SR03,    14,  1,     21,2,20011103,-46.9155, 142.0478, 4455,     16.2,  11.3580,  34.9880,3,-999.0000,9,    275.6,3,   -999.0,9,  -999.00,9,  -999.00,9,  -999.00,9, -999.000,9, -999.000,9, -999.000,9,   -999.0,9,   -999.0,9,         -999
  09AR20011029,  SR03,    14,  1,     19,2,20011103,-46.9155, 142.0478, 4455,     25.7,  11.1990,  34.9630,4,-999.0000,9,    273.7,2,   -999.0,9,  -999.00,9,  -999.00,9,  -999.00,9, -999.000,9, -999.000,9, -999.000,9,   -999.0,9,   -999.0,9,         -999
  09AR20011029,  SR03,    14,  1,    718,2,20011103,-46.9155, 142.0478, 4455,     25.7,  10.9590,  34.9130,4,-999.0000,9,    273.7,2,   -999.0,9,  -999.00,9,  -999.00,9,  -999.00,9, -999.000,9, -999.000,9, -999.000,9,   -999.0,9,   -999.0,9,         -999
  09AR20011029,  SR03,    14,  1,     20,2,20011103,-46.9155, 142.0478, 4455,     25.9,  11.2940,  34.9770,4,  34.9400,2,    273.7,2,    275.7,2,     2.40,2,     8.71,2,     0.60,2, -999.000,9, -999.000,9, -999.000,9,   -999.0,9,   -999.0,9,   11.2907783
  09AR20011029,  SR03,    14,  1,     13,2,20011103,-46.9155, 142.0478, 4455,     51.4,  10.2170,  34.7680,4,-999.0000,9,    269.1,2,   -999.0,9,  -999.00,9,  -999.00,9,  -999.00,9, -999.000,9, -999.000,9, -999.000,9,   -999.0,9,   -999.0,9,         -999
  09AR20011029,  SR03,    14,  1,     17,2,20011103,-46.9155, 142.0478, 4455,     51.5,  10.0530,  34.7330,4,-999.0000,9,    269.1,2,   -999.0,9,  -999.00,9,  -999.00,9,  -999.00,9, -999.000,9, -999.000,9, -999.000,9,   -999.0,9,   -999.0,9,         -999
  09AR20011029,  SR03,    14,  1,     16,2,20011103,-46.9155, 142.0478, 4455,     51.6,  10.0600,  34.7310,4,  34.7450,2,    269.1,2,    280.8,2,     2.90,2,    11.37,2,     0.77,2, -999.000,9, -999.000,9, -999.000,9,   -999.0,9,   -999.0,9,   10.0540525
  09AR20011029,  SR03,    14,  1,     15,2,20011103,-46.9155, 142.0478, 4455,     51.6,  10.1300,  34.7460,4,-999.0000,9,    269.1,2,   -999.0,9,  -999.00,9,  -999.00,9,  -999.00,9, -999.000,9, -999.000,9, -999.000,9,   -999.0,9,   -999.0,9,         -999
  09AR20011029,  SR03,    14,  1,     14,2,20011103,-46.9155, 142.0478, 4455,     51.6,  10.1720,  34.7510,4,-999.0000,9,    269.1,2,   -999.0,9,  -999.00,9,  -999.00,9,  -999.00,9, -999.000,9, -999.000,9, -999.000,9,   -999.0,9,   -999.0,9,         -999
  09AR20011029,  SR03,    14,  1,     12,2,20011103,-46.9155, 142.0478, 4455,     76.4,   9.8110,  34.6890,3,  34.6890,2,    282.6,2,    280.9,2,     3.10,2,    12.15,2,     0.82,2, -999.000,9, -999.000,9, -999.000,9,   -999.0,9,   -999.0,9,   9.80232891
  09AR20011029,  SR03,    14,  1,     11,2,20011103,-46.9155, 142.0478, 4455,     76.4,   9.8190,  34.6910,3,-999.0000,9,    282.6,2,   -999.0,9,  -999.00,9,  -999.00,9,  -999.00,9, -999.000,9, -999.000,9, -999.000,9,   -999.0,9,   -999.0,9,         -999
  09AR20011029,  SR03,    14,  1,     10,2,20011103,-46.9155, 142.0478, 4455,     90.7,   9.8460,  34.7060,3,  34.7050,2,    279.4,2,    276.2,2,     3.10,2,    12.43,2,     0.81,2, -999.000,9, -999.000,9, -999.000,9,   -999.0,9,   -999.0,9,   9.83567261
  09AR20011029,  SR03,    14,  1,      9,2,20011103,-46.9155, 142.0478, 4455,     90.9,   9.8620,  34.7090,3,-999.0000,9,    279.4,2,   -999.0,9,  -999.00,9,  -999.00,9,  -999.00,9, -999.000,9, -999.000,9, -999.000,9,   -999.0,9,   -999.0,9,         -999
  09AR20011029,  SR03,    14,  1,      8,2,20011103,-46.9155, 142.0478, 4455,     99.7,   9.8650,  34.7210,4,  34.7220,2,    266.8,2,    272.1,2,     3.20,2,    12.64,2,     0.84,2, -999.000,9, -999.000,9, -999.000,9,   -999.0,9,   -999.0,9,   9.85362603
  09AR20011029,  SR03,    14,  1,      7,2,20011103,-46.9155, 142.0478, 4455,    100.1,   9.8170,  34.6830,4,-999.0000,9,    266.8,2,   -999.0,9,  -999.00,9,  -999.00,9,  -999.00,9, -999.000,9, -999.000,9, -999.000,9,   -999.0,9,   -999.0,9,         -999
  09AR20011029,  SR03,    14,  1,      6,2,20011103,-46.9155, 142.0478, 4455,    110.4,   9.7340,  34.7080,2,  34.7070,2,    269.6,2,    270.1,2,     3.30,2,    13.14,2,     0.86,2, -999.000,9, -999.000,9, -999.000,9,   -999.0,9,   -999.0,9,   9.72150712
  09AR20011029,  SR03,    14,  1,      5,2,20011103,-46.9155, 142.0478, 4455,    110.4,   9.7250,  34.7070,2,-999.0000,9,    269.6,2,   -999.0,9,  -999.00,9,  -999.00,9,  -999.00,9, -999.000,9, -999.000,9, -999.000,9,   -999.0,9,   -999.0,9,   9.71251444
  09AR20011029,  SR03,    14,  1,      3,2,20011103,-46.9155, 142.0478, 4455,    149.8,   9.2530,  34.6300,2,-999.0000,9,    278.7,2,   -999.0,9,  -999.00,9,  -999.00,9,  -999.00,9, -999.000,9, -999.000,9, -999.000,9,   -999.0,9,   -999.0,9,   9.23656181
  09AR20011029,  SR03,    14,  1,      4,2,20011103,-46.9155, 142.0478, 4455,    149.9,   9.2500,  34.6300,2,  34.6320,2,    278.7,2,    276.6,2,     3.30,2,    13.99,2,     0.91,2, -999.000,9, -999.000,9, -999.000,9,   -999.0,9,   -999.0,9,   9.23355362
  09AR20011029,  SR03,    14,  1,      1,2,20011103,-46.9155, 142.0478, 4455,    250.6,   8.9900,  34.6000,2,-999.0000,9,    281.8,2,   -999.0,9,  -999.00,9,  -999.00,9,  -999.00,9, -999.000,9, -999.000,9, -999.000,9,   -999.0,9,   -999.0,9,   8.96284349
  09AR20011029,  SR03,    14,  1,      2,2,20011103,-46.9155, 142.0478, 4455,    250.7,   8.9880,  34.6000,2,  34.6000,2,    281.8,2,    280.5,2,     3.20,2,    14.03,2,     0.92,2, -999.000,9, -999.000,9, -999.000,9,   -999.0,9,   -999.0,9,   8.96083621
  09AR20011029,  SR03,    15,  1,     23,2,20011103,-46.9240, 141.9913, 4450,     11.2,  11.1530,  34.9490,2,-999.0000,9,   -999.0,5,   -999.0,9,  -999.00,9,  -999.00,9,  -999.00,9, -999.000,9, -999.000,9, -999.000,9,   -999.0,9,   -999.0,9,   11.1516191
  09AR20011029,  SR03,    15,  1,     24,2,20011103,-46.9240, 141.9913, 4450,     11.3,  11.1540,  34.9490,2,-999.0000,9,   -999.0,5,   -999.0,9,     2.40,2,     8.48,2,     0.58,2, -999.000,9, -999.000,9, -999.000,9,   -999.0,9,   -999.0,9,   11.1526066
  09AR20011029,  SR03,    15,  1,     22,2,20011103,-46.9240, 141.9913, 4450,     11.3,  11.1550,  34.9500,2,-999.0000,9,   -999.0,5,   -999.0,9,  -999.00,9,  -999.00,9,  -999.00,9, -999.000,9, -999.000,9, -999.000,9,   -999.0,9,   -999.0,9,   11.1536066
  09AR20011029,  SR03,    15,  1,     21,2,20011103,-46.9240, 141.9913, 4450,     11.3,  11.1530,  34.9500,2,-999.0000,9,   -999.0,5,   -999.0,9,  -999.00,9,  -999.00,9,  -999.00,9, -999.000,9, -999.000,9, -999.000,9,   -999.0,9,   -999.0,9,   11.1516067
  09AR20011029,  SR03,    15,  1,     19,2,20011103,-46.9240, 141.9913, 4450,     60.6,  10.6930,  34.8690,4,-999.0000,9,   -999.0,5,   -999.0,9,  -999.00,9,  -999.00,9,  -999.00,9, -999.000,9, -999.000,9, -999.000,9,   -999.0,9,   -999.0,9,         -999
  09AR20011029,  SR03,    15,  1,     20,2,20011103,-46.9240, 141.9913, 4450,     60.7,  10.8510,  34.9020,4,-999.0000,9,   -999.0,5,   -999.0,9,     2.70,2,    10.03,2,     0.67,2, -999.000,9, -999.000,9, -999.000,9,   -999.0,9,   -999.0,9,         -999
  09AR20011029,  SR03,    15,  1,    718,2,20011103,-46.9240, 141.9913, 4450,     99.1,   9.9510,  34.7360,4,-999.0000,9,   -999.0,5,   -999.0,9,     3.10,2,    12.19,2,     0.80,2, -999.000,9, -999.000,9, -999.000,9,   -999.0,9,   -999.0,9,         -999
  09AR20011029,  SR03,    15,  1,     17,2,20011103,-46.9240, 141.9913, 4450,     99.3,   9.8510,  34.7230,4,-999.0000,9,   -999.0,5,   -999.0,9,  -999.00,9,  -999.00,9,  -999.00,9, -999.000,9, -999.000,9, -999.000,9,   -999.0,9,   -999.0,9,         -999
  09AR20011029,  SR03,    15,  1,     15,2,20011103,-46.9240, 141.9913, 4450,    150.7,   9.1500,  34.6130,2,-999.0000,9,   -999.0,5,   -999.0,9,  -999.00,9,  -999.00,9,  -999.00,9, -999.000,9, -999.000,9, -999.000,9,   -999.0,9,   -999.0,9,   9.13358104
  09AR20011029,  SR03,    15,  1,     16,2,20011103,-46.9240, 141.9913, 4450,    151.3,   9.1510,  34.6130,2,-999.0000,9,   -999.0,5,   -999.0,9,     3.20,2,    13.77,2,     0.90,2, -999.000,9, -999.000,9, -999.000,9,   -999.0,9,   -999.0,9,   9.13451399
  09AR20011029,  SR03,    15,  1,     14,2,20011103,-46.9240, 141.9913, 4450,    201.1,   9.0320,  34.6040,2,-999.0000,9,   -999.0,5,   -999.0,9,     3.20,2,    13.71,2,     0.90,2, -999.000,9, -999.000,9, -999.000,9,   -999.0,9,   -999.0,9,   9.01020567
  09AR20011029,  SR03,    15,  1,     13,2,20011103,-46.9240, 141.9913, 4450,    250.0,   9.0550,  34.6120,2,-999.0000,9,   -999.0,5,   -999.0,9,     3.20,2,    13.59,2,     0.89,2, -999.000,9, -999.000,9, -999.000,9,   -999.0,9,   -999.0,9,   9.02778472
  09AR20011029,  SR03,    15,  1,     12,2,20011103,-46.9240, 141.9913, 4450,    250.3,   9.0490,  34.6120,2,-999.0000,9,   -999.0,5,   -999.0,9,  -999.00,9,  -999.00,9,  -999.00,9, -999.000,9, -999.000,9, -999.000,9,   -999.0,9,   -999.0,9,    9.0217627
  09AR20011029,  SR03,    15,  1,     11,2,20011103,-46.9240, 141.9913, 4450,    300.5,   8.9950,  34.6060,2,-999.0000,9,   -999.0,5,   -999.0,9,     3.20,2,    13.96,2,     0.91,2, -999.000,9, -999.000,9, -999.000,9,   -999.0,9,   -999.0,9,   8.96232918
  09AR20011029,  SR03,    15,  1,     10,2,20011103,-46.9240, 141.9913, 4450,    350.9,   9.0870,  34.6270,2,-999.0000,9,   -999.0,5,   -999.0,9,     3.10,2,    13.68,2,     0.90,2, -999.000,9, -999.000,9, -999.000,9,   -999.0,9,   -999.0,9,   9.04849128
  09AR20011029,  SR03,    15,  1,      9,2,20011103,-46.9240, 141.9913, 4450,    399.2,   9.0280,  34.6170,3,-999.0000,9,   -999.0,5,   -999.0,9,     3.20,2,    14.00,2,     0.91,2, -999.000,9, -999.000,9, -999.000,9,   -999.0,9,   -999.0,9,         -999
  09AR20011029,  SR03,    15,  1,      8,2,20011103,-46.9240, 141.9913, 4450,    451.6,   8.8370,  34.5830,2,-999.0000,9,   -999.0,5,   -999.0,9,     3.30,2,    14.66,2,     0.95,2, -999.000,9, -999.000,9, -999.000,9,   -999.0,9,   -999.0,9,   8.78801988
  09AR20011029,  SR03,    15,  1,      7,2,20011103,-46.9240, 141.9913, 4450,    501.8,   8.7260,  34.5670,2,-999.0000,9,   -999.0,5,   -999.0,9,     3.60,2,    15.23,2,     1.01,2, -999.000,9, -999.000,9, -999.000,9,   -999.0,9,   -999.0,9,   8.67184059
  09AR20011029,  SR03,    15,  1,      6,2,20011103,-46.9240, 141.9913, 4450,    600.7,   8.5080,  34.5600,2,-999.0000,9,   -999.0,5,   -999.0,9,     6.10,2,    18.31,2,     1.17,2, -999.000,9, -999.000,9, -999.000,9,   -999.0,9,   -999.0,9,   8.44376471
  09AR20011029,  SR03,    15,  1,      5,2,20011103,-46.9240, 141.9913, 4450,   1000.6,   5.0790,  34.3550,2,-999.0000,9,   -999.0,5,   -999.0,9,    26.50,2,    29.47,2,     1.90,2, -999.000,9, -999.000,9, -999.000,9,   -999.0,9,   -999.0,9,   4.99526611
  09AR20011029,  SR03,    15,  1,      2,2,20011103,-46.9240, 141.9913, 4450,   1000.6,   5.0720,  34.3540,3,-999.0000,9,   -999.0,5,   -999.0,9,  -999.00,9,  -999.00,9,  -999.00,9, -999.000,9, -999.000,9, -999.000,9,   -999.0,9,   -999.0,9,         -999
  09AR20011029,  SR03,    15,  1,      4,2,20011103,-46.9240, 141.9913, 4450,   1000.7,   5.0760,  34.3540,2,-999.0000,9,   -999.0,5,   -999.0,9,  -999.00,9,  -999.00,9,  -999.00,9, -999.000,9, -999.000,9, -999.000,9,   -999.0,9,   -999.0,9,   4.99228144
  09AR20011029,  SR03,    15,  1,      3,2,20011103,-46.9240, 141.9913, 4450,   1000.7,   5.0760,  34.3540,2,-999.0000,9,   -999.0,5,   -999.0,9,  -999.00,9,  -999.00,9,  -999.00,9, -999.000,9, -999.000,9, -999.000,9,   -999.0,9,   -999.0,9,   4.99228144
  09AR20011029,  SR03,    15,  1,      1,2,20011103,-46.9240, 141.9913, 4450,   1002.1,   5.0600,  34.3530,2,-999.0000,9,   -999.0,5,   -999.0,9,  -999.00,9,  -999.00,9,  -999.00,9, -999.000,9, -999.000,9, -999.000,9,   -999.0,9,   -999.0,9,   4.97627764
  09AR20011029,  SR03,    16,  1,     24,2,20011105,-46.9097, 142.0345, 4482,     29.2,  12.4620,  35.2180,2,-999.0000,9,    263.7,2,   -999.0,9,  -999.00,9,  -999.00,9,  -999.00,9, -999.000,9, -999.000,9, -999.000,9,   -999.0,9,   -999.0,9,   12.4581115
  09AR20011029,  SR03,    16,  1,     23,2,20011105,-46.9097, 142.0345, 4482,     29.4,  12.4570,  35.2170,2,  35.2170,2,    263.7,2,    264.3,2,     1.90,2,     5.81,4,     0.42,4, -999.000,9, -999.000,9, -999.000,9,   -999.0,9,   -999.0,9,   12.4530859
  09AR20011029,  SR03,    16,  1,     21,2,20011105,-46.9097, 142.0345, 4482,    151.7,  10.8280,  34.9150,4,  34.9160,2,    253.9,2,    251.4,2,     3.10,2,    11.85,4,     0.80,4, -999.000,9, -999.000,9, -999.000,9,   -999.0,9,   -999.0,9,    10.809539
  09AR20011029,  SR03,    16,  1,     22,2,20011105,-46.9097, 142.0345, 4482,    152.0,  10.8540,  34.9220,2,-999.0000,9,    253.9,2,   -999.0,9,  -999.00,9,  -999.00,9,  -999.00,9, -999.000,9, -999.000,9, -999.000,9,   -999.0,9,   -999.0,9,   10.8354723
  09AR20011029,  SR03,    16,  1,     20,2,20011105,-46.9097, 142.0345, 4482,    399.3,   8.9180,  34.6010,2,-999.0000,9,    256.5,2,   -999.0,9,  -999.00,9,  -999.00,9,  -999.00,9, -999.000,9, -999.000,9, -999.000,9,   -999.0,9,   -999.0,9,   8.87457285
  09AR20011029,  SR03,    16,  1,     19,2,20011105,-46.9097, 142.0345, 4482,    400.5,   8.9180,  34.6020,2,  34.6010,2,    256.5,2,    260.5,2,     4.40,2,    16.45,4,     1.12,4, -999.000,9, -999.000,9, -999.000,9,   -999.0,9,   -999.0,9,   8.87443937
  09AR20011029,  SR03,    16,  1,    718,2,20011105,-46.9097, 142.0345, 4482,    800.2,   6.4980,  34.4260,4,-999.0000,9,    212.4,2,   -999.0,9,  -999.00,9,  -999.00,9,  -999.00,9, -999.000,9, -999.000,9, -999.000,9,   -999.0,9,   -999.0,9,         -999
  09AR20011029,  SR03,    16,  1,     17,2,20011105,-46.9097, 142.0345, 4482,    800.9,   6.4800,  34.4250,3,  34.4250,2,    212.4,2,    209.8,2,    18.10,2,    26.89,4,     1.85,4, -999.000,9, -999.000,9, -999.000,9,   -999.0,9,   -999.0,9,    6.4055372
  09AR20011029,  SR03,    16,  1,     16,2,20011105,-46.9097, 142.0345, 4482,   1200.9,   3.8090,  34.3770,3,-999.0000,9,    196.1,2,   -999.0,9,  -999.00,9,  -999.00,9,  -999.00,9, -999.000,9, -999.000,9, -999.000,9,   -999.0,9,   -999.0,9,         -999
  09AR20011029,  SR03,    16,  1,     15,2,20011105,-46.9097, 142.0345, 4482,   1200.9,   3.7930,  34.3770,3,  34.3770,2,    196.1,2,    198.5,2,    44.30,2,    33.53,4,     2.29,4, -999.000,9, -999.000,9, -999.000,9,   -999.0,9,   -999.0,9,   3.70247979
  09AR20011029,  SR03,    16,  1,     13,2,20011105,-46.9097, 142.0345, 4482,   1601.4,   2.7730,  34.5280,2,  34.5280,2,    176.0,2,    176.0,2,    69.50,2,    36.18,4,     2.43,4, -999.000,9, -999.000,9, -999.000,9,   -999.0,9,   -999.0,9,   2.65951974
  09AR20011029,  SR03,    16,  1,     14,2,20011105,-46.9097, 142.0345, 4482,   1602.4,   2.7750,  34.5280,2,-999.0000,9,    176.0,2,   -999.0,9,  -999.00,9,  -999.00,9,  -999.00,9, -999.000,9, -999.000,9, -999.000,9,   -999.0,9,   -999.0,9,   2.66141202
  09AR20011029,  SR03,    16,  1,     11,2,20011105,-46.9097, 142.0345, 4482,   2000.4,   2.4380,  34.6660,2,  34.6670,2,    179.7,2,    179.3,2,    78.20,2,    34.67,4,     2.31,4, -999.000,9, -999.000,9, -999.000,9,   -999.0,9,   -999.0,9,   2.29474208
  09AR20011029,  SR03,    16,  1,     12,2,20011105,-46.9097, 142.0345, 4482,   2000.5,   2.4380,  34.6660,2,-999.0000,9,    179.7,2,   -999.0,9,  -999.00,9,  -999.00,9,  -999.00,9, -999.000,9, -999.000,9, -999.000,9,   -999.0,9,   -999.0,9,   2.29473673
  09AR20011029,  SR03,    16,  1,      9,2,20011105,-46.9097, 142.0345, 4482,   2399.9,   2.1640,  34.7270,2,  34.7270,2,    178.7,2,    180.9,2,    93.40,2,    34.07,4,     2.29,4, -999.000,9, -999.000,9, -999.000,9,   -999.0,9,   -999.0,9,   1.98950489
  09AR20011029,  SR03,    16,  1,     10,2,20011105,-46.9097, 142.0345, 4482,   2400.1,   2.1660,  34.7270,2,-999.0000,9,    178.7,2,   -999.0,9,  -999.00,9,  -999.00,9,  -999.00,9, -999.000,9, -999.000,9, -999.000,9,   -999.0,9,   -999.0,9,    1.9914509
  09AR20011029,  SR03,    16,  1,      7,2,20011105,-46.9097, 142.0345, 4482,   2801.0,   1.9040,  34.7380,2,  34.7380,2,    186.6,2,    186.9,2,   100.80,2,    33.97,4,     2.27,4, -999.000,9, -999.000,9, -999.000,9,   -999.0,9,   -999.0,9,   1.69716524
  09AR20011029,  SR03,    16,  1,      8,2,20011105,-46.9097, 142.0345, 4482,   2803.3,   1.9040,  34.7380,2,-999.0000,9,    186.3,2,   -999.0,9,  -999.00,9,  -999.00,9,  -999.00,9, -999.000,9, -999.000,9, -999.000,9,   -999.0,9,   -999.0,9,   1.69694668
  09AR20011029,  SR03,    16,  1,      5,2,20011105,-46.9097, 142.0345, 4482,   3198.1,   1.6440,  34.7360,3,  34.7360,2,    192.2,2,    193.7,2,   107.50,2,    33.97,4,     2.26,4, -999.000,9, -999.000,9, -999.000,9,   -999.0,9,   -999.0,9,   1.40437226
  09AR20011029,  SR03,    16,  1,      6,2,20011105,-46.9097, 142.0345, 4482,   3202.4,   1.6440,  34.7360,2,-999.0000,9,    192.6,2,   -999.0,9,  -999.00,9,  -999.00,9,  -999.00,9, -999.000,9, -999.000,9, -999.000,9,   -999.0,9,   -999.0,9,   1.40394677
  09AR20011029,  SR03,    16,  1,      4,2,20011105,-46.9097, 142.0345, 4482,   3596.8,   1.4220,  34.7310,2,-999.0000,9,    198.4,2,   -999.0,9,  -999.00,9,  -999.00,9,  -999.00,9, -999.000,9, -999.000,9, -999.000,9,   -999.0,9,   -999.0,9,   1.14758154
  09AR20011029,  SR03,    16,  1,      3,2,20011105,-46.9097, 142.0345, 4482,   3598.3,   1.4220,  34.7300,2,  34.7300,2,    198.7,2,    198.6,2,   112.60,2,    34.07,4,     2.29,4, -999.000,9, -999.000,9, -999.000,9,   -999.0,9,   -999.0,9,    1.1474328
  09AR20011029,  SR03,    16,  1,      1,2,20011105,-46.9097, 142.0345, 4482,   3965.5,   1.2460,  34.7230,3,  34.7240,2,    202.4,2,    202.1,2,   116.30,2,    34.22,4,     2.31,4, -999.000,9, -999.000,9, -999.000,9,   -999.0,9,   -999.0,9,   0.93765059
  09AR20011029,  SR03,    16,  1,      2,2,20011105,-46.9097, 142.0345, 4482,   3967.3,   1.2450,  34.7230,2,-999.0000,9,    201.9,2,   -999.0,9,  -999.00,9,  -999.00,9,  -999.00,9, -999.000,9, -999.000,9, -999.000,9,   -999.0,9,   -999.0,9,  0.936492499