BOTTLE,20081126PRINUNIVRMK
EXPOCODE,SECT_ID,STNNBR,CASTNO,BTLNBR,BTLNBR_FLAG_W,DATE,LATITUDE,LONGITUDE,DEPTH,CTDPRS,CTDTMP,CTDSAL,CTDSAL_FLAG_W,SALNTY,SALNTY_FLAG_W,CTDOXY,CTDOXY_FLAG_W,OXYGEN,OXYGEN_FLAG_W,SILCAT,SILCAT_FLAG_W,NITRAT,NITRAT_FLAG_W,PHSPHT,PHSPHT_FLAG_W,CFC-11,CFC-11_FLAG_W,CFC-12,CFC-12_FLAG_W,CFC113,CFC113_FLAG_W,TCARBN,TCARBN_FLAG_W,ALKALI,ALKALI_FLAG_W,THETA
,,,,,,,,,METERS,DBARS,ITS-90,PSS-78,,PSS-78,,UMOL/KG,,UMOL/KG,,UMOL/KG,,UMOL/KG,,UMOL/KG,,PMOL/KG,,PMOL/KG,,PMOL/KG,,UMOL/KG,,UMOL/KG,,DEGC
  09AR20011029,  SR03,    60,  1,     24,2,20011115,-55.9152, 140.4175, 3550,     10.9,   2.1110,  33.8260,2,  33.8260,2,    382.9,3,    336.2,2,    13.20,2,    25.82,2,     1.66,2, -999.000,9, -999.000,9, -999.000,9,   2134.9,6,   2273.2,2,   2.11043889
  09AR20011029,  SR03,    60,  1,     23,2,20011115,-55.9152, 140.4175, 3550,     49.9,   2.0000,  33.8270,3,  33.8260,2,    345.2,2,    337.0,2,    13.60,2,    25.91,2,     1.70,2, -999.000,9, -999.000,9, -999.000,9,   2137.3,2,   2272.9,6,   1.99746058
  09AR20011029,  SR03,    60,  1,     22,2,20011115,-55.9152, 140.4175, 3550,    100.1,   1.7560,  33.8340,4,  33.8340,2,    333.2,2,    332.3,2,    14.20,2,    26.25,2,     1.73,2, -999.000,9, -999.000,9, -999.000,9,   2139.0,2,   -999.0,9,   1.75106403
  09AR20011029,  SR03,    60,  1,     21,2,20011115,-55.9152, 140.4175, 3550,    151.3,   1.4810,  33.8450,3,  33.8460,2,    323.1,2,    329.7,2,    15.80,2,    26.80,2,     1.76,2, -999.000,9, -999.000,9, -999.000,9,   2144.3,2,   2274.0,2,   1.47381494
  09AR20011029,  SR03,    60,  1,     20,2,20011115,-55.9152, 140.4175, 3550,    201.2,   2.5100,  34.1040,2,-999.0000,9,    258.3,2,    265.9,2,    29.80,2,    30.41,2,     2.00,2, -999.000,9, -999.000,9, -999.000,9,   2179.6,2,   2284.3,2,    2.4985602
  09AR20011029,  SR03,    60,  1,     19,2,20011115,-55.9152, 140.4175, 3550,    297.8,   2.4570,  34.2360,4,-999.0000,9,    225.8,2,   -999.0,9,  -999.00,9,  -999.00,9,  -999.00,9, -999.000,9, -999.000,9, -999.000,9,   -999.0,9,   -999.0,9,         -999
  09AR20011029,  SR03,    60,  1,    518,2,20011115,-55.9152, 140.4175, 3550,    400.0,   2.4960,  34.3540,2,  34.3520,2,    198.5,2,    200.7,2,    55.10,2,    34.22,2,     2.28,2, -999.000,9, -999.000,9, -999.000,9,   2228.4,2,   2308.3,2,   2.47247041
  09AR20011029,  SR03,    60,  1,     17,2,20011115,-55.9152, 140.4175, 3550,    499.7,   2.4750,  34.4330,3,  34.4310,2,    186.0,2,    187.5,2,    62.20,2,    34.67,2,     2.25,2, -999.000,9, -999.000,9, -999.000,9,   2237.6,2,   2317.3,2,   2.44521235
  09AR20011029,  SR03,    60,  1,     16,2,20011115,-55.9152, 140.4175, 3550,    599.2,   2.3900,  34.4920,2,  34.4910,2,    182.1,2,    181.2,2,    67.90,2,    34.57,2,     2.31,2, -999.000,9, -999.000,9, -999.000,9,   2243.0,2,   2317.0,3,   2.35413976
  09AR20011029,  SR03,    60,  1,     15,2,20011115,-55.9152, 140.4175, 3550,    700.3,   2.3920,  34.5580,2,  34.5580,2,    180.0,2,    178.5,2,    71.70,2,    34.30,2,     2.27,2, -999.000,9, -999.000,9, -999.000,9,   2249.8,2,   2329.2,2,   2.34941857
  09AR20011029,  SR03,    60,  1,     14,2,20011115,-55.9152, 140.4175, 3550,    801.4,   2.3600,  34.6020,2,  34.6020,2,    181.3,2,    178.8,2,    74.40,2,    33.56,2,     2.24,2, -999.000,9, -999.000,9, -999.000,9,   2249.7,2,   2332.1,2,   2.31075628
  09AR20011029,  SR03,    60,  1,     13,2,20011115,-55.9152, 140.4175, 3550,    901.6,   2.3250,  34.6400,2,  34.6400,2,    181.8,2,    180.0,2,    76.10,2,    32.96,2,     2.21,2, -999.000,9, -999.000,9, -999.000,9,   2249.5,6,   2337.0,6,    2.2690591
  09AR20011029,  SR03,    60,  1,     12,2,20011115,-55.9152, 140.4175, 3550,    997.9,   2.2410,  34.6660,2,  34.6660,2,    183.4,2,    181.3,2,    78.30,2,    32.72,2,     2.19,2, -999.000,9, -999.000,9, -999.000,9,   -999.0,9,   -999.0,9,   2.17892624
  09AR20011029,  SR03,    60,  1,     11,2,20011115,-55.9152, 140.4175, 3550,   1098.2,   2.2230,  34.6950,2,  34.6960,2,    186.4,2,    185.4,2,    79.10,2,    31.70,2,     2.11,2, -999.000,9, -999.000,9, -999.000,9,   -999.0,9,   -999.0,9,   2.15389841
  09AR20011029,  SR03,    60,  1,     10,2,20011115,-55.9152, 140.4175, 3550,   1297.6,   2.0920,  34.7300,3,  34.7290,2,    191.8,2,    191.7,2,    82.00,2,    31.05,2,     2.06,2, -999.000,9, -999.000,9, -999.000,9,   -999.0,9,   -999.0,9,   2.00953403
  09AR20011029,  SR03,    60,  1,      9,2,20011115,-55.9152, 140.4175, 3550,   1497.4,   1.9630,  34.7430,2,  34.7440,2,    197.4,2,    196.1,2,    85.40,2,    30.69,2,     2.03,2,    0.125,2,    0.043,2,    0.020,3,   -999.0,9,   -999.0,9,   1.86690973
  09AR20011029,  SR03,    60,  1,      8,2,20011115,-55.9152, 140.4175, 3550,   1699.5,   1.8050,  34.7480,2,  34.7490,2,    199.9,2,    199.6,2,    89.80,2,    30.56,2,     2.02,2, -999.000,9, -999.000,9, -999.000,9,   -999.0,9,   -999.0,9,   1.69526622
  09AR20011029,  SR03,    60,  1,      7,2,20011115,-55.9152, 140.4175, 3550,   1901.4,   1.6030,  34.7460,2,  34.7450,2,    202.5,2,    202.6,2,    95.80,2,    30.73,2,     2.05,2,    0.113,2,    0.054,2,    0.020,3,   -999.0,9,   -999.0,9,   1.48014282
  09AR20011029,  SR03,    60,  1,      6,2,20011115,-55.9152, 140.4175, 3550,   2201.5,   1.3750,  34.7370,2,  34.7370,2,    205.4,2,    205.3,2,   103.20,2,    31.07,2,     2.06,2, -999.000,9, -999.000,9, -999.000,9,   -999.0,9,   -999.0,9,   1.23136924
  09AR20011029,  SR03,    60,  1,      5,2,20011115,-55.9152, 140.4175, 3550,   2499.3,   1.1300,  34.7260,2,  34.7250,2,    210.0,2,    208.6,2,   110.20,2,    31.49,2,     2.09,2,    0.103,2,    0.039,2,    0.010,3,   -999.0,9,   -999.0,9,  0.965736361
  09AR20011029,  SR03,    60,  1,      4,2,20011115,-55.9152, 140.4175, 3550,   2801.3,   0.8670,  34.7110,2,  34.7120,2,    213.6,2,    214.1,2,   118.10,2,    31.97,2,     2.12,2, -999.000,9, -999.000,9, -999.000,9,   -999.0,9,   -999.0,9,  0.681802963
  09AR20011029,  SR03,    60,  1,      3,2,20011115,-55.9152, 140.4175, 3550,   3100.1,   0.6470,  34.7000,2,  34.7010,2,    218.9,2,    216.1,2,   123.90,2,    32.22,2,     2.14,2,    0.183,2,    0.084,2,    0.010,3,   -999.0,9,   -999.0,9,   0.43989634
  09AR20011029,  SR03,    60,  1,      2,2,20011115,-55.9152, 140.4175, 3550,   3404.9,   0.4840,  34.6940,2,  34.6940,2,    223.3,2,    220.2,2,   130.60,2,    32.36,2,     2.16,2,    0.237,2,    0.107,2,    0.030,3,   -999.0,9,   -999.0,9,  0.252550131
  09AR20011029,  SR03,    60,  1,      1,2,20011115,-55.9152, 140.4175, 3550,   3597.1,   0.4330,  34.6910,2,  34.6920,2,    220.1,2,    221.4,2,   133.40,2,    32.45,2,     2.16,2,    0.264,2,    0.118,2,    0.020,3,   -999.0,9,   -999.0,9,  0.184470654
  09AR20011029,  SR03,    61,  1,     24,2,20011116,-56.4232, 140.1087, 3800,      5.2,   2.3470,  33.8240,2,  33.8250,2,    397.4,3,    335.2,2,    12.50,2,    25.62,2,     1.61,2,    5.711,2,    3.027,2,    0.530,3,   2134.1,6,   2272.0,2,   2.34672242
  09AR20011029,  SR03,    61,  1,     23,2,20011116,-56.4232, 140.1087, 3800,     24.6,   2.3470,  33.8250,2,  33.8230,2,    329.9,2,    335.3,2,    12.50,2,    25.59,2,     1.64,2,    5.718,2,    3.045,2,    0.540,3,   2134.0,2,   2272.2,6,   2.34568288
  09AR20011029,  SR03,    61,  1,     22,2,20011116,-56.4232, 140.1087, 3800,     50.6,   2.3430,  33.8250,2,  33.8240,2,    342.5,2,    335.2,2,    12.50,2,    25.67,2,     1.64,2,    5.738,2,    3.037,2,    0.530,3,   2134.6,2,   2271.4,2,    2.3402813
  09AR20011029,  SR03,    61,  1,     21,2,20011116,-56.4232, 140.1087, 3800,     99.9,   1.8040,  33.8380,3,  33.8370,2,    332.5,2,    332.4,2,    14.70,2,    26.37,2,     1.70,2,    5.719,2,    3.038,2,    0.570,3,   2140.0,2,   2273.8,2,   1.79903371
  09AR20011029,  SR03,    61,  1,     20,2,20011116,-56.4232, 140.1087, 3800,    148.4,   1.8440,  33.9020,4,  33.9070,2,    311.3,2,    312.4,2,    18.90,2,    27.81,2,     1.80,2,    5.403,2,    2.779,2,    0.470,3,   2152.8,2,   2275.4,2,   1.83649293
  09AR20011029,  SR03,    61,  1,     19,2,20011116,-56.4232, 140.1087, 3800,    201.4,   2.6250,  34.1180,2,-999.0000,9,    253.7,2,   -999.0,9,  -999.00,9,  -999.00,9,  -999.00,9, -999.000,9, -999.000,9, -999.000,9,   -999.0,9,   -999.0,9,    2.6133546
  09AR20011029,  SR03,    61,  1,    518,2,20011116,-56.4232, 140.1087, 3800,    251.2,   2.6520,  34.1960,2,  34.1930,2,    237.2,2,    240.0,2,    38.20,2,    31.96,2,     2.13,2,    3.276,2,    1.651,2,    0.280,3,   2196.9,2,   2292.8,2,    2.6372835
  09AR20011029,  SR03,    61,  1,     17,2,20011116,-56.4232, 140.1087, 3800,    300.8,   2.6660,  34.2450,2,  34.2450,2,    223.4,2,    226.1,2,    42.10,2,    32.77,2,     2.16,2,    2.764,2,    1.360,2,    0.210,3,   2207.4,2,   2297.0,2,   2.64819342
  09AR20011029,  SR03,    61,  1,     16,2,20011116,-56.4232, 140.1087, 3800,    400.4,   2.5370,  34.3380,2,  34.3360,2,    200.6,2,    203.4,2,    54.40,2,    33.96,2,     2.24,2,    1.918,2,    0.917,2,    0.130,3,   2226.6,2,   2308.2,2,   2.51332415
  09AR20011029,  SR03,    61,  1,     15,2,20011116,-56.4232, 140.1087, 3800,    503.3,   2.4740,  34.4160,3,  34.4130,2,    189.9,2,    190.0,2,    62.50,2,    34.52,2,     2.28,2,    1.352,2,    0.644,2,    0.100,3,   2238.0,2,   2315.3,2,   2.44400291
  09AR20011029,  SR03,    61,  1,     14,2,20011116,-56.4232, 140.1087, 3800,    599.4,   2.4510,  34.4940,2,  34.4930,2,    181.3,2,    181.7,2,    69.00,2,    34.58,2,     2.28,2,    0.872,2,    0.407,2,    0.070,3,   2244.2,2,   2322.5,2,    2.4148314
  09AR20011029,  SR03,    61,  1,     13,2,20011116,-56.4232, 140.1087, 3800,    801.5,   2.3740,  34.5910,2,  34.5900,2,    178.4,2,    178.2,2,    75.20,2,    33.61,2,     2.22,2,    0.583,3,    0.233,2,    0.030,3,   2251.7,2,   2331.0,6,     2.324677
  09AR20011029,  SR03,    61,  1,     12,2,20011116,-56.4232, 140.1087, 3800,    999.2,   2.2940,  34.6620,2,  34.6620,2,    179.5,2,    181.4,2,    79.40,2,    32.57,2,     2.15,2,    0.275,2,    0.132,2,    0.020,3,   2250.0,6,   2337.1,2,   2.23142352
  09AR20011029,  SR03,    61,  1,     11,2,20011116,-56.4232, 140.1087, 3800,   1201.4,   2.1880,  34.7080,2,  34.7090,2,    188.3,2,    187.4,2,    81.80,2,    31.60,2,     2.08,2,    0.182,2,    0.091,2,    0.020,3,   2248.3,2,   2341.1,2,   2.11171264
  09AR20011029,  SR03,    61,  1,     10,2,20011116,-56.4232, 140.1087, 3800,   1403.0,   2.0770,  34.7340,2,  34.7340,2,    191.8,2,    192.5,2,    84.70,2,    31.03,2,     2.05,2,    0.149,2,    0.060,2,    0.010,3,   2247.8,2,   2343.7,2,   1.98680516
  09AR20011029,  SR03,    61,  1,      9,2,20011116,-56.4232, 140.1087, 3800,   1601.4,   1.9220,  34.7450,2,  34.7460,2,    198.4,2,    197.8,2,    88.50,2,    30.64,2,     2.01,2,    0.124,6,    0.065,6,    0.010,6,   2246.9,2,   2347.3,2,   1.81841157
  09AR20011029,  SR03,    61,  1,      8,2,20011116,-56.4232, 140.1087, 3800,   1804.8,   1.7640,  34.7480,2,-999.0000,9,    200.6,2,   -999.0,9,  -999.00,9,  -999.00,9,  -999.00,9, -999.000,9, -999.000,9, -999.000,9,   -999.0,9,   -999.0,9,   1.64652891
  09AR20011029,  SR03,    61,  1,      7,2,20011116,-56.4232, 140.1087, 3800,   2005.9,   1.5640,  34.7440,2,  34.7440,2,    201.7,2,    202.9,2,   100.10,2,    30.93,2,     2.04,2,    0.099,2,    0.047,2,    0.010,3,   2251.4,2,   2351.6,2,   1.43332749
  09AR20011029,  SR03,    61,  1,      6,2,20011116,-56.4232, 140.1087, 3800,   2304.2,   1.2830,  34.7330,2,  34.7330,2,    204.3,2,    206.3,2,   110.00,2,    31.31,2,     2.06,2,    0.088,2,    0.039,2,    0.010,3,   2255.0,2,   2354.2,2,   1.13241912
  09AR20011029,  SR03,    61,  1,      5,2,20011116,-56.4232, 140.1087, 3800,   2607.9,   1.0500,  34.7200,2,  34.7210,2,    208.9,2,    208.9,2,   115.50,2,    31.75,2,     2.08,2,    0.115,2,    0.059,2,    0.010,3,   2257.5,2,   2356.9,2,  0.877950227
  09AR20011029,  SR03,    61,  1,      4,2,20011116,-56.4232, 140.1087, 3800,   3008.7,   0.7430,  34.7050,2,  34.7050,2,    214.1,2,    213.4,2,   124.30,2,    32.32,2,     2.13,2,    0.149,2,    0.069,2,    0.010,3,   2259.6,2,   2356.4,2,  0.541998681
  09AR20011029,  SR03,    61,  1,      3,2,20011116,-56.4232, 140.1087, 3800,   3408.8,   0.4810,  34.6930,2,  34.6930,2,    219.2,2,    219.6,2,   131.90,2,    32.27,2,     2.12,2,    0.215,2,    0.110,2,    0.020,3,   2260.0,2,   2356.9,2,  0.249262096
  09AR20011029,  SR03,    61,  1,      2,2,20011116,-56.4232, 140.1087, 3800,   3814.7,   0.3020,  34.6870,2,  34.6860,2,    224.6,2,    224.2,2,   141.50,2,    32.54,2,     2.16,2,    0.359,2,    0.160,2,    0.010,3,   2260.9,2,   2358.7,6, 0.0356896249
  09AR20011029,  SR03,    61,  1,      1,2,20011116,-56.4232, 140.1087, 3800,   4071.2,   0.3000,  34.6850,2,  34.6840,2,    223.9,2,    225.3,2,   141.80,2,    32.69,2,     2.15,2,    0.368,2,    0.173,2,    0.010,3,   2260.6,6,   2358.6,2, 0.0078622507
  09AR20011029,  SR03,    62,  1,     24,2,20011116,-56.9370, 139.8438, 4100,      5.3,   1.5600,  33.8250,2,  33.8250,2,    459.5,3,    340.8,2,    14.90,2,    26.57,2,     1.66,2, -999.000,9, -999.000,9, -999.000,9,   2139.6,6,   -999.0,9,   1.55975175
  09AR20011029,  SR03,    62,  1,     21,2,20011116,-56.9370, 139.8438, 4100,     15.1,   1.5610,  33.8240,2,-999.0000,9,    372.5,3,   -999.0,9,  -999.00,9,  -999.00,9,  -999.00,9, -999.000,9, -999.000,9, -999.000,9,   2138.2,2,   2274.7,6,   1.56029135
  09AR20011029,  SR03,    62,  1,     20,2,20011116,-56.9370, 139.8438, 4100,     15.1,   1.5620,  33.8240,2,-999.0000,9,    372.5,3,   -999.0,9,  -999.00,9,  -999.00,9,  -999.00,9, -999.000,9, -999.000,9, -999.000,9,   -999.0,9,   -999.0,9,   1.56129122
  09AR20011029,  SR03,    62,  1,     23,2,20011116,-56.9370, 139.8438, 4100,     15.2,   1.5610,  33.8240,2,  33.8250,2,    372.5,3,    340.7,2,    14.90,2,    26.56,2,     1.68,2, -999.000,9, -999.000,9, -999.000,9,   -999.0,9,   -999.0,9,   1.56028661
  09AR20011029,  SR03,    62,  1,     22,2,20011116,-56.9370, 139.8438, 4100,     15.2,   1.5610,  33.8240,2,-999.0000,9,    372.5,3,   -999.0,9,  -999.00,9,  -999.00,9,  -999.00,9, -999.000,9, -999.000,9, -999.000,9,   -999.0,9,   -999.0,9,   1.56028664
  09AR20011029,  SR03,    62,  1,    518,2,20011116,-56.9370, 139.8438, 4100,     15.2,   1.5580,  33.8250,2,-999.0000,9,    372.5,3,   -999.0,9,  -999.00,9,  -999.00,9,  -999.00,9, -999.000,9, -999.000,9, -999.000,9,   -999.0,9,   -999.0,9,   1.55728699
  09AR20011029,  SR03,    62,  1,     19,2,20011116,-56.9370, 139.8438, 4100,     15.3,   1.5600,  33.8240,2,-999.0000,9,    372.5,3,   -999.0,9,  -999.00,9,  -999.00,9,  -999.00,9, -999.000,9, -999.000,9, -999.000,9,   -999.0,9,   -999.0,9,   1.55928206
  09AR20011029,  SR03,    62,  1,     17,2,20011116,-56.9370, 139.8438, 4100,     15.9,   1.5590,  33.8250,2,-999.0000,9,    372.5,3,   -999.0,9,  -999.00,9,  -999.00,9,  -999.00,9, -999.000,9, -999.000,9, -999.000,9,   -999.0,9,   -999.0,9,   1.55825393
  09AR20011029,  SR03,    62,  1,     16,2,20011116,-56.9370, 139.8438, 4100,     31.1,   1.5590,  33.8240,2,  33.8250,2,    342.3,2,    339.3,2,    14.90,2,    26.67,2,     1.68,2, -999.000,9, -999.000,9, -999.000,9,   2139.2,2,   2275.2,2,   1.55753658
  09AR20011029,  SR03,    62,  1,     15,2,20011116,-56.9370, 139.8438, 4100,     60.2,   1.5020,  33.8260,2,-999.0000,9,    341.7,2,   -999.0,9,  -999.00,9,  -999.00,9,  -999.00,9, -999.000,9, -999.000,9, -999.000,9,   -999.0,9,   -999.0,9,   1.49918057
  09AR20011029,  SR03,    62,  1,     14,2,20011116,-56.9370, 139.8438, 4100,     90.5,   1.4510,  33.8280,3,  33.8270,2,    337.0,2,    340.7,2,    15.30,2,    26.76,2,     1.70,2, -999.000,9, -999.000,9, -999.000,9,   2140.1,2,   -999.0,9,   1.44677594
  09AR20011029,  SR03,    62,  1,     13,2,20011116,-56.9370, 139.8438, 4100,    120.0,   1.1470,  33.8330,4,  33.8340,2,    338.5,2,    339.4,2,    16.40,2,    27.11,2,     1.74,2, -999.000,9, -999.000,9, -999.000,9,   2144.3,2,   2275.6,2,   1.14167153
  09AR20011029,  SR03,    62,  1,      8,2,20011116,-56.9370, 139.8438, 4100,    135.2,   1.0550,  33.8400,2,-999.0000,9,    340.5,2,   -999.0,9,  -999.00,9,  -999.00,9,  -999.00,9, -999.000,9, -999.000,9, -999.000,9,   2145.3,2,   -999.0,9,   1.04908118
  09AR20011029,  SR03,    62,  1,     12,2,20011116,-56.9370, 139.8438, 4100,    135.6,   1.0540,  33.8410,2,  33.8410,2,    340.5,2,    338.4,2,    17.00,2,    27.11,2,     1.75,2, -999.000,9, -999.000,9, -999.000,9,   -999.0,9,   -999.0,9,   1.04806408
  09AR20011029,  SR03,    62,  1,     10,2,20011116,-56.9370, 139.8438, 4100,    135.7,   1.0490,  33.8400,2,-999.0000,9,    340.5,2,   -999.0,9,  -999.00,9,  -999.00,9,  -999.00,9, -999.000,9, -999.000,9, -999.000,9,   -999.0,9,   -999.0,9,   1.04306552
  09AR20011029,  SR03,    62,  1,      9,2,20011116,-56.9370, 139.8438, 4100,    135.7,   1.0510,  33.8390,2,-999.0000,9,    340.5,2,   -999.0,9,  -999.00,9,  -999.00,9,  -999.00,9, -999.000,9, -999.000,9, -999.000,9,   -999.0,9,   -999.0,9,   1.04506349
  09AR20011029,  SR03,    62,  1,     11,2,20011116,-56.9370, 139.8438, 4100,    135.8,   1.0480,  33.8400,2,-999.0000,9,    340.5,2,   -999.0,9,  -999.00,9,  -999.00,9,  -999.00,9, -999.000,9, -999.000,9, -999.000,9,   -999.0,9,   -999.0,9,   1.04206216
  09AR20011029,  SR03,    62,  1,      7,2,20011116,-56.9370, 139.8438, 4100,    175.5,   1.0090,  33.9100,4,  33.9080,2,    324.6,2,    323.2,2,    21.60,2,    28.52,2,     1.84,2, -999.000,9, -999.000,9, -999.000,9,   2157.6,2,   2280.3,2,   1.00130002
  09AR20011029,  SR03,    62,  1,      6,2,20011116,-56.9370, 139.8438, 4100,    200.1,   1.4170,  34.0130,3,  34.0110,2,    296.7,2,    293.5,2,    28.10,2,    30.10,2,     1.96,2, -999.000,9, -999.000,9, -999.000,9,   2174.4,2,   2285.6,2,     1.407459
  09AR20011029,  SR03,    62,  1,      5,2,20011116,-56.9370, 139.8438, 4100,    226.1,   2.1440,  34.1480,3,  34.1420,0,    245.1,2,    254.1,2,    36.00,2,    32.15,2,     2.08,2, -999.000,9, -999.000,9, -999.000,9,   2194.1,2,   2292.6,2,         -999
  09AR20011029,  SR03,    62,  1,      4,2,20011116,-56.9370, 139.8438, 4100,    250.6,   2.2330,  34.2060,4,-999.0000,9,    236.3,2,    240.0,2,    40.70,2,    32.91,2,     2.15,2, -999.000,9, -999.000,9, -999.000,9,   2202.5,2,   2295.8,2,         -999
  09AR20011029,  SR03,    62,  1,      3,2,20011116,-56.9370, 139.8438, 4100,    301.0,   2.3880,  34.2810,2,  34.2780,2,    217.5,2,    217.0,2,    48.00,2,    33.91,2,     2.22,2, -999.000,9, -999.000,9, -999.000,9,   2217.1,2,   2302.2,2,     2.370843
  09AR20011029,  SR03,    62,  1,      2,2,20011116,-56.9370, 139.8438, 4100,    351.1,   2.3710,  34.3300,2,  34.3290,2,    206.6,2,    205.3,2,    53.00,2,    34.52,2,     2.25,2, -999.000,9, -999.000,9, -999.000,9,   2225.6,2,   2308.0,2,   2.35085836
  09AR20011029,  SR03,    62,  1,      1,2,20011116,-56.9370, 139.8438, 4100,    402.3,   2.3870,  34.3810,2,  34.3800,2,    194.3,2,    195.6,2,    57.60,2,    34.66,2,     2.27,2, -999.000,9, -999.000,9, -999.000,9,   2233.4,6,   2313.3,2,   2.36366244