BOTTLE,20081126PRINUNIVRMK
EXPOCODE,SECT_ID,STNNBR,CASTNO,BTLNBR,BTLNBR_FLAG_W,DATE,LATITUDE,LONGITUDE,DEPTH,CTDPRS,CTDTMP,CTDSAL,CTDSAL_FLAG_W,SALNTY,SALNTY_FLAG_W,CTDOXY,CTDOXY_FLAG_W,OXYGEN,OXYGEN_FLAG_W,SILCAT,SILCAT_FLAG_W,NITRAT,NITRAT_FLAG_W,PHSPHT,PHSPHT_FLAG_W,CFC-11,CFC-11_FLAG_W,CFC-12,CFC-12_FLAG_W,CFC113,CFC113_FLAG_W,TCARBN,TCARBN_FLAG_W,ALKALI,ALKALI_FLAG_W,THETA
,,,,,,,,,METERS,DBARS,ITS-90,PSS-78,,PSS-78,,UMOL/KG,,UMOL/KG,,UMOL/KG,,UMOL/KG,,UMOL/KG,,PMOL/KG,,PMOL/KG,,PMOL/KG,,UMOL/KG,,UMOL/KG,,DEGC
  09AR20011029,  SR03,    78,  1,     24,2,20011122,-61.3140, 139.8902, 4260,     10.1,  -0.4000,  33.9210,2,  33.9190,2,    438.7,3,    357.7,2,    29.20,2,    28.05,2,     1.73,2,    6.717,2,    3.429,2,    0.590,2,   2160.9,6,   2286.2,2, -0.400307162
  09AR20011029,  SR03,    78,  1,     23,2,20011122,-61.3140, 139.8902, 4260,     49.9,  -0.3980,  33.9230,2,  33.9200,2,    360.3,2,    357.7,2,    29.00,2,    28.10,2,     1.74,2,    6.720,2,    3.451,2,    0.600,2,   2162.4,2,   2286.5,6, -0.399537238
  09AR20011029,  SR03,    78,  1,     22,2,20011122,-61.3140, 139.8902, 4260,     99.7,  -0.3770,  33.9670,2,  33.9660,2,    345.8,2,    347.6,2,    30.90,2,    28.67,2,     1.81,2, -999.000,9, -999.000,9, -999.000,9,   2170.1,2,   2289.2,2, -0.380144803
  09AR20011029,  SR03,    78,  1,     21,2,20011122,-61.3140, 139.8902, 4260,    200.0,   2.0960,  34.4640,2,  34.4610,2,    186.0,2,    183.8,2,    71.30,2,    35.51,2,     2.29,2,    1.306,2,    0.630,2,    0.090,2,   2252.6,2,   2319.4,2,   2.08518055
  09AR20011029,  SR03,    78,  1,     20,2,20011122,-61.3140, 139.8902, 4260,    299.5,   2.1680,  34.5540,2,  34.5500,2,    178.1,2,    176.7,2,    76.80,2,    34.93,2,     2.26,2,    0.785,2,    0.382,2,    0.050,2,   2255.8,2,   2328.4,2,   2.15132401
  09AR20011029,  SR03,    78,  1,     19,2,20011122,-61.3140, 139.8902, 4260,    400.4,   2.1620,  34.6110,2,  34.6120,2,    177.6,2,    176.6,2,    79.80,2,    34.10,2,     2.21,2,    0.528,2,    0.253,2,    0.040,2,   2257.9,2,   2333.3,2,   2.13934465
  09AR20011029,  SR03,    78,  1,    218,2,20011122,-61.3140, 139.8902, 4260,    600.4,   2.1180,  34.6810,2,  34.6810,2,    182.6,2,    181.9,2,    82.90,2,    32.85,2,     2.11,2,    0.302,2,    0.143,2,    0.030,2,   2255.3,2,   2338.2,2,   2.08317372
  09AR20011029,  SR03,    78,  1,     17,2,20011122,-61.3140, 139.8902, 4260,    800.4,   2.0210,  34.7220,2,  34.7210,2,    187.8,2,    189.4,2,    85.30,2,    31.63,2,     2.05,2,    0.200,2,    0.096,2,    0.010,2,   2251.9,2,   2342.6,2,   1.97382112
  09AR20011029,  SR03,    78,  1,     16,2,20011122,-61.3140, 139.8902, 4260,    999.1,   1.8950,  34.7370,2,  34.7370,2,    194.2,2,    194.6,2,    88.60,2,    31.12,2,     2.01,2,    0.171,2,    0.082,2,    0.010,2,   2252.8,2,   2344.3,2,   1.83545632
  09AR20011029,  SR03,    78,  1,    715,2,20011122,-61.3140, 139.8902, 4260,   1199.7,   1.7300,  34.7440,2,  34.7440,2,    199.9,2,    199.3,2,    93.20,2,    30.94,2,     2.03,2, -999.000,9, -999.000,9, -999.000,9,   2252.9,2,   2347.4,2,   1.65808612
  09AR20011029,  SR03,    78,  1,     14,2,20011122,-61.3140, 139.8902, 4260,   1400.3,   1.5660,  34.7440,2,  34.7440,2,    202.6,2,    202.5,2,    98.40,2,    30.95,2,     1.99,2,    0.122,2,    0.057,2,    0.010,2,   2253.8,2,   2351.0,2,   1.48157702
  09AR20011029,  SR03,    78,  1,     13,2,20011122,-61.3140, 139.8902, 4260,   1599.5,   1.3710,  34.7380,2,  34.7380,2,    204.5,2,    204.7,2,   104.30,2,    31.23,2,     2.02,2,    0.116,2,    0.054,2,    0.010,2,   2256.0,2,   2353.7,6,   1.27442874
  09AR20011029,  SR03,    78,  1,     12,2,20011122,-61.3140, 139.8902, 4260,   1800.3,   1.2130,  34.7310,2,  34.7310,2,    206.8,2,    206.6,2,   109.00,2,    30.88,3,     2.04,2,    0.124,2,    0.058,2,    0.010,2,   2258.0,6,   2353.9,2,   1.10359945
  09AR20011029,  SR03,    78,  1,     11,2,20011122,-61.3140, 139.8902, 4260,   1999.6,   1.0550,  34.7220,2,  34.7230,2,    209.1,2,    208.2,2,   114.60,2,    31.75,2,     2.08,2,    0.110,2,    0.055,2,    0.010,2,   2260.4,2,   2356.2,2,  0.932725043
  09AR20011029,  SR03,    78,  1,    210,2,20011122,-61.3140, 139.8902, 4260,   2199.8,   0.8990,  34.7150,2,  34.7150,2,    211.0,2,    210.4,2,   118.80,2,    32.11,2,     2.10,2,    0.131,2,    0.060,2,    0.020,2,   2260.9,2,   2355.6,2,  0.763585595
  09AR20011029,  SR03,    78,  1,    709,2,20011122,-61.3140, 139.8902, 4260,   2400.3,   0.7310,  34.7070,2,  34.7060,2,    213.5,2,    213.0,2,   123.40,2,    32.43,2,     2.10,2,    0.153,2,    0.075,2,    0.010,2,   2261.5,2,   -999.0,9,  0.582474166
  09AR20011029,  SR03,    78,  1,      8,2,20011122,-61.3140, 139.8902, 4260,   2699.4,   0.5200,  34.6960,2,  34.6960,2,    214.3,2,    216.9,2,   128.80,2,    32.54,2,     2.14,2,    0.187,2,    0.088,2,    0.010,2,   2262.4,2,   2355.3,2,  0.350832489
  09AR20011029,  SR03,    78,  1,      7,2,20011122,-61.3140, 139.8902, 4260,   3000.1,   0.3600,  34.6900,2,  34.6890,2,    221.7,2,    221.3,2,   132.40,2,    32.65,2,     2.13,2,    0.263,2,    0.129,2,    0.010,2,   2261.8,2,   2355.1,2,  0.168410083
  09AR20011029,  SR03,    78,  1,      6,2,20011122,-61.3140, 139.8902, 4260,   3300.3,   0.2240,  34.6850,2,  34.6830,2,    225.5,2,    225.7,2,   135.30,2,    32.69,2,     2.12,2,    0.350,2,    0.169,2,    0.010,2,   2261.7,2,   2354.8,2,0.00874103342
  09AR20011029,  SR03,    78,  1,      5,2,20011122,-61.3140, 139.8902, 4260,   3599.2,   0.1270,  34.6800,2,  34.6800,2,    229.4,2,    229.2,2,   136.20,2,    32.70,2,     2.13,2,    0.496,2,    0.238,2,    0.030,2,   2259.3,2,   2354.9,2, -0.113635306
  09AR20011029,  SR03,    78,  1,      4,2,20011122,-61.3140, 139.8902, 4260,   3899.1,   0.0390,  34.6760,2,  34.6760,2,    233.2,2,    233.1,2,   137.00,2,    32.60,2,     2.14,2,    0.726,2,    0.348,2,    0.040,2,   2261.8,2,   2353.4,2, -0.228275838
  09AR20011029,  SR03,    78,  1,      3,2,20011122,-61.3140, 139.8902, 4260,   4098.4,  -0.0320,  34.6730,2,  34.6720,2,    238.1,2,    236.8,2,   131.10,2,    32.48,2,     2.12,2,    1.147,2,    0.547,2,    0.080,2,   2259.5,2,   2352.5,2, -0.317126212
  09AR20011029,  SR03,    78,  1,      2,2,20011122,-61.3140, 139.8902, 4260,   4249.9,  -0.0790,  34.6660,2,  34.6700,2,    240.8,2,    239.5,2,   130.40,2,    32.39,2,     2.12,2,    1.493,6,    0.719,6,    0.100,6,   2258.8,2,   2352.1,6, -0.378169278
  09AR20011029,  SR03,    78,  1,      1,2,20011122,-61.3140, 139.8902, 4260,   4400.4,  -0.1440,  34.6590,2,  34.6610,2,    242.4,2,    242.3,2,   127.20,2,    32.26,2,     2.11,2,    1.876,2,    0.914,2,    0.140,2,   2257.8,6,   2350.5,2, -0.456727895
  09AR20011029,  SR03,    79,  1,     24,2,20011122,-61.8510, 139.8490, 4201,      9.8,  -1.1410,  33.8090,2,  33.8070,2,    442.2,3,    367.3,2,    31.30,2,    27.19,2,     1.65,2,    7.039,2,    3.576,2,    0.660,2,   2150.8,2,   2281.0,2,  -1.14123289
  09AR20011029,  SR03,    79,  1,     23,2,20011122,-61.8510, 139.8490, 4201,     50.1,  -1.0260,  33.8310,4,  33.8420,2,    367.4,2,    364.2,2,    30.90,2,    27.51,2,     1.70,2, -999.000,9, -999.000,9, -999.000,9,   2152.2,2,   2281.4,2,  -1.02726376
  09AR20011029,  SR03,    79,  1,     22,2,20011122,-61.8510, 139.8490, 4201,     89.7,  -0.4430,  33.9980,4,  33.9920,2,    337.6,2,    341.6,2,    33.30,2,    29.28,2,     1.89,2,    6.401,2,    3.251,2,    0.590,2,   2172.2,2,   2291.8,2, -0.445774535
  09AR20011029,  SR03,    79,  1,     21,2,20011122,-61.8510, 139.8490, 4201,    129.9,   1.6520,  34.3790,3,  34.3930,2,    198.5,2,    200.5,2,    64.20,2,    35.29,2,     2.31,2,    1.967,2,    0.968,2,    0.170,2,   2240.0,2,   2315.7,2,    1.6455416
  09AR20011029,  SR03,    79,  1,     20,2,20011122,-61.8510, 139.8490, 4201,    179.3,   1.9330,  34.4850,2,  34.4870,2,    179.7,2,    185.1,2,    71.10,2,    35.39,2,     2.30,2, -999.000,9, -999.000,9, -999.000,9,   2248.1,2,   2321.7,2,   1.92356341
  09AR20011029,  SR03,    79,  1,     19,2,20011122,-61.8510, 139.8490, 4201,    250.2,   2.0870,  34.5630,2,  34.5620,2,    175.6,2,    177.5,2,    75.10,2,    34.82,2,     2.29,2,    0.801,2,    0.382,2,    0.050,2,   2251.4,2,   2329.5,2,   2.07333245
  09AR20011029,  SR03,    79,  1,    218,2,20011122,-61.8510, 139.8490, 4201,    350.4,   2.0980,  34.6270,2,  34.6270,2,    178.8,2,    178.4,2,    78.10,2,    33.98,2,     2.21,2, -999.000,9, -999.000,9, -999.000,9,   2253.6,2,   2332.4,2,   2.07849268
  09AR20011029,  SR03,    79,  1,     17,2,20011122,-61.8510, 139.8490, 4201,    450.0,   2.0190,  34.6650,2,  34.6640,2,    183.3,2,    181.5,2,    80.40,2,    33.26,2,     2.17,2,    0.442,2,    0.210,2,    0.030,2,   2249.8,2,   2337.9,2,   1.99383294
  09AR20011029,  SR03,    79,  1,     16,2,20011122,-61.8510, 139.8490, 4201,    549.4,   2.0180,  34.6980,2,  34.6970,2,    185.0,2,    185.1,2,    81.90,2,    32.46,2,     2.14,2, -999.000,9, -999.000,9, -999.000,9,   -999.0,9,   -999.0,9,   1.98679148
  09AR20011029,  SR03,    79,  1,    715,2,20011122,-61.8510, 139.8490, 4201,    700.1,   1.9480,  34.7190,2,  34.7180,2,    190.3,2,    189.2,2,    83.70,2,    31.93,2,     2.07,2, -999.000,9, -999.000,9, -999.000,9,   2249.1,2,   2341.1,2,   1.90772532
  09AR20011029,  SR03,    79,  1,     14,2,20011122,-61.8510, 139.8490, 4201,    850.6,   1.8590,  34.7350,2,  34.7340,2,    193.4,2,    193.6,2,    86.00,2,    31.49,2,     2.03,2, -999.000,9, -999.000,9, -999.000,9,   -999.0,9,   -999.0,9,   1.80959275
  09AR20011029,  SR03,    79,  1,     13,2,20011122,-61.8510, 139.8490, 4201,    999.7,   1.7620,  34.7400,2,  34.7400,2,    197.6,2,    197.1,2,    88.60,2,    31.13,2,     2.03,2, -999.000,9, -999.000,9, -999.000,9,   2248.8,2,   2345.7,2,   1.70346716
  09AR20011029,  SR03,    79,  1,     12,2,20011122,-61.8510, 139.8490, 4201,   1200.6,   1.5890,  34.7440,2,  34.7430,2,    200.5,2,    201.6,2,    93.70,2,    31.16,2,     2.03,2, -999.000,9, -999.000,9, -999.000,9,   -999.0,9,   -999.0,9,    1.5183629
  09AR20011029,  SR03,    79,  1,     11,2,20011122,-61.8510, 139.8490, 4201,   1500.5,   1.3340,  34.7360,2,  34.7360,2,    205.0,2,    205.0,2,   101.20,2,    31.42,2,     2.06,2, -999.000,9, -999.000,9, -999.000,9,   2252.6,2,   2353.5,2,   1.24505856
  09AR20011029,  SR03,    79,  1,    210,2,20011122,-61.8510, 139.8490, 4201,   1800.5,   1.0800,  34.7250,2,  34.7250,2,    209.1,2,    208.0,2,   108.80,2,    31.84,2,     2.08,2, -999.000,9, -999.000,9, -999.000,9,   -999.0,9,   -999.0,9,  0.972461881
  09AR20011029,  SR03,    79,  1,      8,2,20011122,-61.8510, 139.8490, 4201,   2400.5,   0.6340,  34.7020,2,  34.7020,2,    217.3,2,    214.5,2,   121.90,2,    32.57,2,     2.15,2, -999.000,9, -999.000,9, -999.000,9,   -999.0,9,   -999.0,9,  0.487248745
  09AR20011029,  SR03,    79,  1,      7,2,20011122,-61.8510, 139.8490, 4201,   2700.4,   0.4420,  34.6930,2,  34.6930,2,    221.8,2,    218.7,2,   124.90,2,    32.70,2,     2.14,2,    0.235,2,    0.109,2,    0.010,2,   2259.2,2,   2355.8,2,  0.274351502
  09AR20011029,  SR03,    79,  1,      6,2,20011122,-61.8510, 139.8490, 4201,   3000.8,   0.2900,  34.6860,2,  34.6860,2,    225.7,2,    223.3,2,   127.50,2,    32.80,2,     2.15,2, -999.000,9, -999.000,9, -999.000,9,   -999.0,9,   -999.0,9, 0.0999326676
  09AR20011029,  SR03,    79,  1,      5,2,20011122,-61.8510, 139.8490, 4201,   3299.6,   0.1770,  34.6820,2,  34.6820,2,    229.9,2,    227.4,2,   129.10,2,    32.76,2,     2.15,2,    0.465,2,    0.223,2,    0.020,2,   2259.3,2,   2353.7,2,-0.0370437492
  09AR20011029,  SR03,    79,  1,      4,2,20011122,-61.8510, 139.8490, 4201,   3599.9,   0.0750,  34.6800,2,  34.6790,2,    232.9,2,    231.3,2,   130.70,2,    32.72,2,     2.15,2, -999.000,9, -999.000,9, -999.000,9,   -999.0,9,   -999.0,9, -0.164328252
  09AR20011029,  SR03,    79,  1,      3,2,20011122,-61.8510, 139.8490, 4201,   3949.5,  -0.0880,  34.6640,2,  34.6680,2,    238.9,2,    239.4,2,   119.40,2,    32.45,2,     2.13,2,    1.498,2,    0.725,2,    0.110,2,   2255.9,2,   2353.7,2, -0.356601629
  09AR20011029,  SR03,    79,  1,      2,2,20011122,-61.8510, 139.8490, 4201,   4250.7,  -0.2580,  34.6470,2,  34.6510,2,    246.7,2,    249.0,2,   110.10,2,    32.21,2,     2.12,2,    2.188,2,    1.080,2,    0.180,2,   2252.8,2,   2348.5,6, -0.551689467
  09AR20011029,  SR03,    79,  1,      1,2,20011122,-61.8510, 139.8490, 4201,   4345.4,  -0.3690,  34.6400,2,  34.6420,2,    251.1,2,    255.0,2,   103.50,2,    32.04,2,     2.12,2,    2.564,2,    1.278,2,    0.220,2,   2249.3,6,   2346.0,2, -0.668900524
  09AR20011029,  SR03,    80,  1,     24,2,20011122,-62.3532, 139.8047, 3871,     11.4,  -1.3960,  33.7920,2,  33.7930,2,    349.3,3,    365.4,2,    37.20,2,    27.72,2,     1.77,2,    6.920,2,    3.505,2,    0.630,2,   2153.9,6,   2280.3,2,  -1.39624534
  09AR20011029,  SR03,    80,  1,     23,2,20011122,-62.3532, 139.8047, 3871,     50.9,  -1.3740,  33.8250,2,  33.8560,0,    325.0,2,    360.9,2,    38.40,2,    28.08,2,     1.82,2,    6.805,2,    3.439,2,    0.620,2,   2160.8,2,   2285.7,6,  -1.37512815
  09AR20011029,  SR03,    80,  1,     22,2,20011122,-62.3532, 139.8047, 3871,    100.0,   1.6530,  34.4490,2,  34.4470,2,    195.1,2,    195.2,2,    69.30,2,    35.30,2,     2.34,2,    1.666,6,    0.816,6,    0.140,6,   2245.0,2,   2318.9,2,   1.64804328
  09AR20011029,  SR03,    80,  1,     21,2,20011122,-62.3532, 139.8047, 3871,    152.9,   1.9780,  34.5530,2,  34.5500,2,    180.7,2,    179.1,2,    76.00,2,    35.08,2,     2.33,2,    0.929,2,    0.445,2,    0.070,2,   2254.8,2,   2328.5,2,   1.96991311
  09AR20011029,  SR03,    80,  1,     20,2,20011122,-62.3532, 139.8047, 3871,    199.7,   2.0560,  34.6060,2,  34.6040,2,    178.3,2,    177.2,2,    78.40,2,    34.48,2,     2.29,2,    0.629,2,    0.301,2,    0.040,2,   2254.7,2,   2333.4,2,   2.04521158
  09AR20011029,  SR03,    80,  1,     19,2,20011122,-62.3532, 139.8047, 3871,    300.6,   1.9580,  34.6510,2,  34.6510,2,    178.2,2,    180.1,2,    81.40,2,    33.75,2,     2.24,2,    0.526,2,    0.251,2,    0.040,2,   2255.3,2,   2335.8,2,   1.94172109
  09AR20011029,  SR03,    80,  1,    218,2,20011122,-62.3532, 139.8047, 3871,    401.5,   1.9300,  34.6860,2,  34.6860,2,    182.5,2,    184.9,2,    83.60,2,    32.88,2,     2.19,2,    0.413,2,    0.225,3,    0.030,2,   2254.7,2,   2340.3,2,   1.90798299
  09AR20011029,  SR03,    80,  1,     17,2,20011122,-62.3532, 139.8047, 3871,    500.4,   1.8450,  34.7090,2,  34.7070,2,    187.4,2,    189.2,2,    84.70,2,    32.25,2,     2.13,2,    0.362,2,    0.172,2,    0.030,2,   2251.8,2,   2341.3,2,   1.81747167
  09AR20011029,  SR03,    80,  1,     16,2,20011122,-62.3532, 139.8047, 3871,    601.1,   1.7550,  34.7180,2,  34.7170,2,    189.8,2,    193.4,2,    86.40,2,    31.83,2,     2.12,2,    0.359,2,    0.173,2,    0.030,2,   2251.3,2,   2341.9,2,   1.72185253
  09AR20011029,  SR03,    80,  1,    715,2,20011122,-62.3532, 139.8047, 3871,    699.4,   1.7780,  34.7340,2,  34.7340,2,    195.2,2,    195.3,2,    88.10,2,    31.57,2,     2.08,2,    0.225,2,    0.103,2,    0.010,2,   2248.3,2,   2344.4,2,   1.73870649
  09AR20011029,  SR03,    80,  1,     14,2,20011122,-62.3532, 139.8047, 3871,    800.4,   1.7260,  34.7380,2,  34.7380,2,    195.2,2,    197.2,2,    89.70,2,    31.42,2,     2.06,2,    0.208,2,    0.102,2,    0.010,2,   2249.6,2,   2346.2,2,    1.6806885
  09AR20011029,  SR03,    80,  1,     13,2,20011122,-62.3532, 139.8047, 3871,    899.5,   1.6300,  34.7380,2,  34.7380,2,    198.9,2,    199.6,2,    92.30,2,    31.41,2,     2.06,2,    0.221,2,    0.104,2,    0.020,2,   2248.6,2,   2348.2,6,   1.57902986
  09AR20011029,  SR03,    80,  1,     12,2,20011122,-62.3532, 139.8047, 3871,   1101.5,   1.4300,  34.7350,2,  34.7360,2,    199.7,2,    203.4,2,    96.90,2,    31.44,2,     2.08,2,    0.220,2,    0.111,2,    0.020,2,   2250.9,6,   2349.7,2,   1.36749821
  09AR20011029,  SR03,    80,  1,     11,2,20011122,-62.3532, 139.8047, 3871,   1299.9,   1.2560,  34.7330,2,  34.7330,2,    203.2,2,    205.7,2,   103.10,2,    31.53,2,     2.09,2,    0.151,2,    0.069,2,    0.010,2,   2253.7,2,   2352.8,2,    1.1819033
  09AR20011029,  SR03,    80,  1,    310,2,20011122,-62.3532, 139.8047, 3871,   1600.8,   1.0120,  34.7210,2,  34.7210,2,    208.1,2,    208.6,2,   110.50,2,    32.06,2,     2.10,2,    0.145,2,    0.067,2,    0.010,2,   2254.8,2,   2354.4,2,  0.919876484
  09AR20011029,  SR03,    80,  1,    709,2,20011122,-62.3532, 139.8047, 3871,   1900.8,   0.7790,  34.7110,2,  34.7100,2,    211.5,2,    211.5,2,   117.70,2,    32.38,2,     2.14,2,    0.135,2,    0.061,2,    0.000,2,   2259.2,2,   2356.2,2,  0.668403807
  09AR20011029,  SR03,    80,  1,      8,2,20011122,-62.3532, 139.8047, 3871,   2199.9,   0.5170,  34.6950,2,  34.6880,0,    217.5,2,    216.3,2,   122.20,2,    32.71,2,     2.18,2,    0.243,2,    0.113,2,    0.010,2,   2259.8,2,   2356.3,2,  0.388109611
  09AR20011029,  SR03,    80,  1,      7,2,20011122,-62.3532, 139.8047, 3871,   2499.9,   0.3470,  34.6880,2,  34.6890,2,    222.0,2,    221.4,2,   126.20,2,    32.83,2,     2.18,2,    0.322,2,    0.152,2,    0.010,2,   2259.8,2,   2355.2,2,  0.197679983
  09AR20011029,  SR03,    80,  1,      6,2,20011122,-62.3532, 139.8047, 3871,   2799.0,   0.1970,  34.6810,2,  34.6820,2,    227.2,2,    225.5,2,   125.20,2,    32.80,2,     2.18,2,    0.588,2,    0.283,2,    0.040,2,   2258.3,2,   2353.7,2,  0.026231311
  09AR20011029,  SR03,    80,  1,      5,2,20011122,-62.3532, 139.8047, 3871,   3101.0,   0.0530,  34.6760,2,  34.6750,2,    233.7,2,    231.2,2,   120.90,2,    32.78,2,     2.19,2,    0.986,2,    0.473,2,    0.070,2,   2256.6,2,   2351.8,2,  -0.14035585
  09AR20011029,  SR03,    80,  1,      4,2,20011122,-62.3532, 139.8047, 3871,   3400.5,  -0.0520,  34.6710,2,  34.6720,2,    237.9,2,    235.7,2,   122.60,2,    32.71,2,     2.17,2,    1.181,2,    0.562,2,    0.080,2,   2257.2,2,   2354.2,2, -0.269502938
  09AR20011029,  SR03,    80,  1,      3,2,20011122,-62.3532, 139.8047, 3871,   3700.6,  -0.2250,  34.6550,2,  34.6590,2,    246.8,2,    244.4,2,   116.10,2,    32.52,2,     2.15,2,    1.926,2,    0.941,2,    0.150,2,   2252.5,2,   2350.3,2, -0.465719152
  09AR20011029,  SR03,    80,  1,      2,2,20011122,-62.3532, 139.8047, 3871,   3901.9,  -0.3660,  34.6420,2,  34.6450,2,    254.1,2,    253.0,2,   106.60,2,    32.15,2,     2.14,2,    2.397,2,    1.183,2,    0.200,2,   2250.6,2,   2347.5,6, -0.621908972
  09AR20011029,  SR03,    80,  1,      1,2,20011122,-62.3532, 139.8047, 3871,   4006.4,  -0.4150,  34.6360,2,  34.6410,2,    253.2,2,    255.5,2,   103.40,2,    32.11,2,     2.13,2,    2.546,2,    1.254,2,    0.220,2,   2248.8,6,   2346.3,2, -0.679604388