BOTTLE,20081126PRINUNIVRMK
EXPOCODE,SECT_ID,STNNBR,CASTNO,BTLNBR,BTLNBR_FLAG_W,DATE,LATITUDE,LONGITUDE,DEPTH,CTDPRS,CTDTMP,CTDSAL,CTDSAL_FLAG_W,SALNTY,SALNTY_FLAG_W,CTDOXY,CTDOXY_FLAG_W,OXYGEN,OXYGEN_FLAG_W,SILCAT,SILCAT_FLAG_W,NITRAT,NITRAT_FLAG_W,PHSPHT,PHSPHT_FLAG_W,CFC-11,CFC-11_FLAG_W,CFC-12,CFC-12_FLAG_W,CFC113,CFC113_FLAG_W,TCARBN,TCARBN_FLAG_W,ALKALI,ALKALI_FLAG_W,THETA
,,,,,,,,,METERS,DBARS,ITS-90,PSS-78,,PSS-78,,UMOL/KG,,UMOL/KG,,UMOL/KG,,UMOL/KG,,UMOL/KG,,PMOL/KG,,PMOL/KG,,PMOL/KG,,UMOL/KG,,UMOL/KG,,DEGC
  09AR20011029,  SR03,    54,  1,     24,2,20011114,-54.0642, 141.6030, 2504,      9.7,   3.1000,  33.8050,2,  33.8050,2,    419.6,3,    332.3,2,    10.50,2,    25.12,2,     1.56,2,    5.623,2,    3.019,2,    0.490,2,   2129.1,6,   2271.3,2,   3.09942217
  09AR20011029,  SR03,    54,  1,     23,2,20011114,-54.0642, 141.6030, 2504,     52.0,   3.0820,  33.8060,2,  33.8050,2,    334.5,2,    332.5,2,    10.50,2,    25.09,2,     1.58,2, -999.000,9, -999.000,9, -999.000,9,   2128.3,2,   2270.9,6,   3.07889203
  09AR20011029,  SR03,    54,  1,     22,2,20011114,-54.0642, 141.6030, 2504,     99.5,   2.0850,  33.8130,2,  33.8120,2,    330.3,2,    333.0,2,    11.70,2,    25.81,2,     1.64,2,    5.725,2,    3.043,2,    0.510,2,   2134.9,2,   2271.6,2,   2.07982686
  09AR20011029,  SR03,    54,  1,     21,2,20011114,-54.0642, 141.6030, 2504,    150.6,   1.9450,  33.8690,4,  33.8570,2,    323.8,2,    319.6,2,    15.70,2,    27.23,2,     1.77,2, -999.000,9, -999.000,9, -999.000,9,   2145.5,2,   2273.5,2,   1.93726663
  09AR20011029,  SR03,    54,  1,     20,2,20011114,-54.0642, 141.6030, 2504,    199.3,   2.4850,  34.1030,2,  34.1020,2,    258.5,2,    265.0,2,    20.40,2,    30.93,2,     2.00,2,    4.153,2,    2.133,2,    0.340,2,   2182.0,2,   2284.9,2,   2.47371277
  09AR20011029,  SR03,    54,  1,     19,2,20011114,-54.0642, 141.6030, 2504,    249.9,   2.5470,  34.1760,2,-999.0000,9,    242.8,2,   -999.0,9,  -999.00,9,  -999.00,9,  -999.00,9, -999.000,9, -999.000,9, -999.000,9,   -999.0,9,   -999.0,9,   2.53258322
  09AR20011029,  SR03,    54,  1,    518,2,20011114,-54.0642, 141.6030, 2504,    300.0,   2.5390,  34.2390,2,  34.2380,2,    224.9,2,    227.0,2,    42.70,2,    33.00,2,     2.16,2, -999.000,9, -999.000,9, -999.000,9,   2207.8,2,   2296.4,2,   2.52155552
  09AR20011029,  SR03,    54,  1,     17,2,20011114,-54.0642, 141.6030, 2504,    350.6,   2.5260,  34.2870,2,  34.2860,2,    210.0,2,    214.6,2,    47.80,2,    33.79,2,     2.21,2,    2.338,6,    1.161,6,    0.180,6,   2217.7,2,   2301.4,2,   2.50547438
  09AR20011029,  SR03,    54,  1,     16,2,20011114,-54.0642, 141.6030, 2504,    400.4,   2.4900,  34.3310,2,  34.3300,2,    199.1,2,    204.9,2,    52.40,2,    34.30,2,     2.25,2, -999.000,9, -999.000,9, -999.000,9,   2224.2,2,   2307.5,2,   2.46648053
  09AR20011029,  SR03,    54,  1,     15,2,20011114,-54.0642, 141.6030, 2504,    500.9,   2.4690,  34.4210,2,  34.4210,2,    187.4,2,    188.8,2,    61.10,2,    34.82,2,     2.27,2,    1.300,2,    0.631,2,    0.090,2,   2237.6,2,   2316.1,2,   2.43916891
  09AR20011029,  SR03,    54,  1,     14,2,20011114,-54.0642, 141.6030, 2504,    599.9,   2.4220,  34.4910,2,  34.4890,2,    183.1,2,    182.0,2,    67.00,2,    34.73,2,     2.28,2, -999.000,9, -999.000,9, -999.000,9,   2244.9,2,   2323.0,6,   2.38594251
  09AR20011029,  SR03,    54,  1,     13,2,20011114,-54.0642, 141.6030, 2504,    700.1,   2.3640,  34.5470,2,  34.5450,2,    181.5,2,    178.9,2,    69.00,2,    34.40,2,     2.26,2, -999.000,9, -999.000,9, -999.000,9,   2248.1,6,   2327.4,2,   2.32160445
  09AR20011029,  SR03,    54,  1,     12,2,20011114,-54.0642, 141.6030, 2504,    798.6,   2.3540,  34.5980,2,  34.5990,2,    180.2,2,    178.2,2,    74.20,2,    33.87,2,     2.22,2,    0.469,2,    0.207,2,    0.040,2,   2249.3,2,   2332.2,2,   2.30498877
  09AR20011029,  SR03,    54,  1,     11,2,20011114,-54.0642, 141.6030, 2504,    898.9,   2.3310,  34.6380,2,-999.0000,9,    182.8,2,    179.4,2,    76.10,2,    33.18,2,     2.18,2, -999.000,9, -999.000,9, -999.000,9,   -999.0,9,   -999.0,9,   2.27520662
  09AR20011029,  SR03,    54,  1,     10,2,20011114,-54.0642, 141.6030, 2504,    997.7,   2.2730,  34.6730,2,  34.6380,0,    184.9,2,    182.4,2,    76.80,2,    32.63,2,     2.14,2, -999.000,9, -999.000,9, -999.000,9,   -999.0,9,   -999.0,9,   2.21067592
  09AR20011029,  SR03,    54,  1,      9,2,20011114,-54.0642, 141.6030, 2504,   1098.8,   2.2240,  34.6950,2,  34.6940,2,    186.1,2,    184.8,2,    78.50,2,    32.08,2,     2.10,2,    0.213,2,    0.100,2,    0.020,2,   -999.0,9,   -999.0,9,   2.15485052
  09AR20011029,  SR03,    54,  1,      8,2,20011114,-54.0642, 141.6030, 2504,   1200.0,   2.1620,  34.7180,2,-999.0000,9,    189.6,2,   -999.0,9,  -999.00,9,  -999.00,9,  -999.00,9, -999.000,9, -999.000,9, -999.000,9,   -999.0,9,   -999.0,9,   2.08604097
  09AR20011029,  SR03,    54,  1,      7,2,20011114,-54.0642, 141.6030, 2504,   1399.9,   2.0370,  34.7390,2,-999.0000,9,    195.4,2,   -999.0,9,  -999.00,9,  -999.00,9,  -999.00,9, -999.000,9, -999.000,9, -999.000,9,   -999.0,9,   -999.0,9,   1.94746314
  09AR20011029,  SR03,    54,  1,      6,2,20011114,-54.0642, 141.6030, 2504,   1599.0,   1.8770,  34.7480,2,  34.7490,2,    199.9,2,    199.0,2,    83.10,4,    30.55,2,     1.99,2, -999.000,9, -999.000,9, -999.000,9,   -999.0,9,   -999.0,9,   1.77414613
  09AR20011029,  SR03,    54,  1,      5,2,20011114,-54.0642, 141.6030, 2504,   1800.1,   1.7080,  34.7480,2,  34.7480,2,    201.7,2,    201.4,2,    92.70,2,    30.84,2,     2.01,2,    0.092,2,    0.032,2,    0.010,2,   -999.0,9,   -999.0,9,   1.59167764
  09AR20011029,  SR03,    54,  1,      4,2,20011114,-54.0642, 141.6030, 2504,   2000.7,   1.4990,  34.7420,2,  34.7420,2,    204.4,2,    203.9,2,    93.00,4,    31.01,2,     2.03,2, -999.000,9, -999.000,9, -999.000,9,   -999.0,9,   -999.0,9,   1.36975085
  09AR20011029,  SR03,    54,  1,      3,2,20011114,-54.0642, 141.6030, 2504,   2199.5,   1.3320,  34.7350,2,  34.7350,2,    204.1,2,    205.5,2,    96.90,4,    31.32,2,     2.05,2, -999.000,9, -999.000,9, -999.000,9,   -999.0,9,   -999.0,9,   1.18926174
  09AR20011029,  SR03,    54,  1,      2,2,20011114,-54.0642, 141.6030, 2504,   2402.9,   1.0970,  34.7240,2,  34.7230,2,    207.1,2,    207.9,2,    98.20,4,    31.63,2,     2.09,2,    0.098,2,    0.042,2,    0.010,2,   -999.0,9,   -999.0,9,  0.941515081
  09AR20011029,  SR03,    54,  1,      1,2,20011114,-54.0642, 141.6030, 2504,   2590.5,   0.9950,  34.7170,2,  34.7170,2,    209.6,2,    209.3,2,    99.10,4,    31.90,2,     2.11,2,    0.105,2,    0.043,2,    0.020,2,   -999.0,9,   -999.0,9,  0.825543101
  09AR20011029,  SR03,    55,  1,     23,2,20011114,-54.5295, 141.3372, 2768,      4.8,   2.2590,  33.7910,2,-999.0000,9,    393.2,3,   -999.0,9,  -999.00,9,  -999.00,9,  -999.00,9, -999.000,9, -999.000,9, -999.000,9,   2134.2,2,   2272.3,2,   2.25874757
  09AR20011029,  SR03,    55,  1,     24,2,20011114,-54.5295, 141.3372, 2768,      4.9,   2.2590,  33.7910,2,  33.7920,2,    393.2,3,    339.1,2,    12.40,2,    26.19,2,     1.63,2, -999.000,9, -999.000,9, -999.000,9,   -999.0,9,   -999.0,9,    2.2587423
  09AR20011029,  SR03,    55,  1,     22,2,20011114,-54.5295, 141.3372, 2768,     14.5,   2.2590,  33.7910,2,  33.7910,2,    387.0,3,    339.4,2,    12.30,2,    26.09,2,     1.66,2, -999.000,9, -999.000,9, -999.000,9,   2133.5,2,   2271.3,2,   2.25823627
  09AR20011029,  SR03,    55,  1,     21,2,20011114,-54.5295, 141.3372, 2768,     14.5,   2.2590,  33.7910,2,-999.0000,9,    387.0,3,   -999.0,9,  -999.00,9,  -999.00,9,  -999.00,9, -999.000,9, -999.000,9, -999.000,9,   -999.0,9,   -999.0,9,   2.25823627
  09AR20011029,  SR03,    55,  1,     20,2,20011114,-54.5295, 141.3372, 2768,     30.4,   2.2570,  33.7900,2,  33.7910,2,    340.1,2,    339.2,2,    12.30,2,    26.12,2,     1.64,2, -999.000,9, -999.000,9, -999.000,9,   -999.0,9,   -999.0,9,    2.2553952
  09AR20011029,  SR03,    55,  1,     19,2,20011114,-54.5295, 141.3372, 2768,     30.4,   2.2560,  33.7910,2,-999.0000,9,    340.1,2,   -999.0,9,  -999.00,9,  -999.00,9,  -999.00,9, -999.000,9, -999.000,9, -999.000,9,   -999.0,9,   -999.0,9,   2.25439545
  09AR20011029,  SR03,    55,  1,     17,2,20011114,-54.5295, 141.3372, 2768,     44.8,   2.2570,  33.7910,2,-999.0000,9,    340.4,2,   -999.0,9,  -999.00,9,  -999.00,9,  -999.00,9, -999.000,9, -999.000,9, -999.000,9,   2134.1,2,   2271.7,2,   2.25462958
  09AR20011029,  SR03,    55,  1,    518,2,20011114,-54.5295, 141.3372, 2768,     44.9,   2.2570,  33.7910,2,  33.7920,2,    340.4,2,    339.2,2,    12.20,2,    25.97,2,     1.67,2, -999.000,9, -999.000,9, -999.000,9,   -999.0,9,   -999.0,9,   2.25462417
  09AR20011029,  SR03,    55,  1,     16,2,20011114,-54.5295, 141.3372, 2768,     59.8,   2.2530,  33.7910,2,  33.7910,2,    336.5,2,    339.1,2,    12.40,2,    26.10,2,     1.66,2, -999.000,9, -999.000,9, -999.000,9,   -999.0,9,   -999.0,9,    2.2498303
  09AR20011029,  SR03,    55,  1,     15,2,20011114,-54.5295, 141.3372, 2768,     59.9,   2.2470,  33.7920,3,-999.0000,9,    336.5,2,   -999.0,9,  -999.00,9,  -999.00,9,  -999.00,9, -999.000,9, -999.000,9, -999.000,9,   -999.0,9,   -999.0,9,         -999
  09AR20011029,  SR03,    55,  1,     14,2,20011114,-54.5295, 141.3372, 2768,     75.8,   1.8880,  33.8010,3,  33.8000,2,    336.9,2,    338.4,2,    12.30,2,    26.12,2,     1.67,2, -999.000,9, -999.000,9, -999.000,9,   -999.0,9,   -999.0,9,    1.8841997
  09AR20011029,  SR03,    55,  1,     13,2,20011114,-54.5295, 141.3372, 2768,     75.9,   1.8560,  33.7980,4,-999.0000,9,    336.9,2,   -999.0,9,  -999.00,9,  -999.00,9,  -999.00,9, -999.000,9, -999.000,9, -999.000,9,   -999.0,9,   -999.0,9,         -999
  09AR20011029,  SR03,    55,  1,     11,2,20011114,-54.5295, 141.3372, 2768,     91.1,   1.6930,  33.8000,2,-999.0000,9,    339.7,2,   -999.0,9,  -999.00,9,  -999.00,9,  -999.00,9, -999.000,9, -999.000,9, -999.000,9,   2135.7,2,   2273.3,2,   1.68856822
  09AR20011029,  SR03,    55,  1,     12,2,20011114,-54.5295, 141.3372, 2768,     91.2,   1.6950,  33.8010,2,  33.8020,2,    339.7,2,    336.7,2,    12.70,2,    26.33,2,     1.71,2, -999.000,9, -999.000,9, -999.000,9,   -999.0,9,   -999.0,9,   1.69056143
  09AR20011029,  SR03,    55,  1,     10,2,20011114,-54.5295, 141.3372, 2768,    104.6,   1.6450,  33.7990,2,  33.8000,2,    334.0,2,    336.3,2,    12.70,2,    26.43,2,     1.70,2, -999.000,9, -999.000,9, -999.000,9,   -999.0,9,   -999.0,9,   1.63994104
  09AR20011029,  SR03,    55,  1,      9,2,20011114,-54.5295, 141.3372, 2768,    104.8,   1.6390,  33.7990,2,-999.0000,9,    334.0,2,   -999.0,9,  -999.00,9,  -999.00,9,  -999.00,9, -999.000,9, -999.000,9, -999.000,9,   -999.0,9,   -999.0,9,   1.63393661
  09AR20011029,  SR03,    55,  1,      7,2,20011114,-54.5295, 141.3372, 2768,    118.9,   1.6150,  33.7980,2,-999.0000,9,    339.6,2,   -999.0,9,  -999.00,9,  -999.00,9,  -999.00,9, -999.000,9, -999.000,9, -999.000,9,   2138.2,2,   2272.0,2,   1.60926481
  09AR20011029,  SR03,    55,  1,      8,2,20011114,-54.5295, 141.3372, 2768,    119.0,   1.6140,  33.7990,2,  33.7990,2,    339.6,2,    336.7,2,    12.90,2,    26.55,2,     1.72,2, -999.000,9, -999.000,9, -999.000,9,   -999.0,9,   -999.0,9,   1.60826066
  09AR20011029,  SR03,    55,  1,      5,2,20011114,-54.5295, 141.3372, 2768,    150.3,   1.4930,  33.8070,3,-999.0000,9,    328.5,2,   -999.0,9,  -999.00,9,  -999.00,9,  -999.00,9, -999.000,9, -999.000,9, -999.000,9,   2140.0,2,   2272.5,2,         -999
  09AR20011029,  SR03,    55,  1,      6,2,20011114,-54.5295, 141.3372, 2768,    150.4,   1.5070,  33.8050,2,  33.8040,2,    328.5,2,    332.7,2,    13.50,2,    26.90,2,     1.73,2, -999.000,9, -999.000,9, -999.000,9,   -999.0,9,   -999.0,9,   1.49983782
  09AR20011029,  SR03,    55,  1,      4,2,20011114,-54.5295, 141.3372, 2768,    198.8,   1.7790,  34.0860,3,  34.0820,2,    271.1,2,    271.2,2,    32.70,2,    31.42,2,     2.06,2, -999.000,9, -999.000,9, -999.000,9,   -999.0,9,   -999.0,9,   1.76890162
  09AR20011029,  SR03,    55,  1,      3,2,20011114,-54.5295, 141.3372, 2768,    249.7,   2.0940,  34.2120,2,  34.2120,2,    234.2,2,    234.7,2,    43.60,2,    33.36,2,     2.18,2, -999.000,9, -999.000,9, -999.000,9,   -999.0,9,   -999.0,9,    2.0805029
  09AR20011029,  SR03,    55,  1,      2,2,20011114,-54.5295, 141.3372, 2768,    299.8,   2.2070,  34.2950,2,  34.2930,2,    213.5,2,    214.0,2,    51.70,2,    34.19,2,     2.25,2, -999.000,9, -999.000,9, -999.000,9,   -999.0,9,   -999.0,9,   2.19034854
  09AR20011029,  SR03,    55,  1,      1,2,20011114,-54.5295, 141.3372, 2768,    349.8,   2.2950,  34.3600,2,  34.3600,2,    201.4,2,    199.4,2,    57.20,2,    34.83,2,     2.28,2, -999.000,9, -999.000,9, -999.000,9,   -999.0,9,   -999.0,9,   2.27513344
  09AR20011029,  SR03,    56,  1,     24,2,20011114,-54.5347, 141.3507, 2800,     10.8,   2.2430,  33.7890,2,  33.7890,2,    384.9,3,    339.3,2,    12.40,2,    26.25,2,     1.62,2,    5.971,2,    3.080,2,    0.520,2,   2137.0,6,   2270.9,2,   2.24243296
  09AR20011029,  SR03,    56,  1,     23,2,20011114,-54.5347, 141.3507, 2800,     52.0,   2.2150,  33.7920,2,  33.7930,2,    334.9,2,    339.1,2,    12.30,2,    26.13,2,     1.64,2,    5.968,2,    3.116,2,    0.520,2,   2135.2,2,   2271.7,6,   2.21226331
  09AR20011029,  SR03,    56,  1,     22,2,20011114,-54.5347, 141.3507, 2800,    100.0,   1.6080,  33.7970,2,  33.7970,2,    331.2,2,    336.3,2,    12.80,2,    26.43,2,     1.69,2,    5.963,2,    3.058,2,    0.520,2,   2138.7,2,   2271.9,2,   1.60319884
  09AR20011029,  SR03,    56,  1,     21,2,20011114,-54.5347, 141.3507, 2800,    150.4,   1.3830,  33.8730,3,  33.8780,2,    323.8,2,    316.8,2,    18.90,2,    28.61,2,     1.84,2,    5.593,2,    2.858,2,    0.470,2,   2156.0,2,   2277.8,2,   1.37597284
  09AR20011029,  SR03,    56,  1,     20,2,20011114,-54.5347, 141.3507, 2800,    199.7,   1.7980,  34.0920,4,  34.0970,2,    262.4,2,    267.0,2,    34.30,2,    31.81,2,     2.04,2,    4.248,2,    2.152,2,    0.340,2,   2190.5,2,   2289.2,2,   1.78781764
  09AR20011029,  SR03,    56,  1,     19,4,20011114,-54.5347, 141.3507, 2800,    250.8,   2.1300,  34.2300,2,  34.3530,0,    223.5,2,    194.2,4,    58.10,4,    34.25,4,     2.22,4,    1.370,2,    0.658,2,    0.100,2,   2238.4,3,   2321.2,4,   2.11635909
  09AR20011029,  SR03,    56,  1,    518,2,20011114,-54.5347, 141.3507, 2800,    299.3,   2.2190,  34.3070,2,  34.3070,2,    209.6,2,    210.3,2,    53.30,2,    34.46,2,     2.24,2,    2.281,2,    1.118,2,    0.180,2,   2226.6,2,   2306.0,2,   2.20234079
  09AR20011029,  SR03,    56,  1,     17,2,20011114,-54.5347, 141.3507, 2800,    401.3,   2.3260,  34.4270,2,  34.4260,2,    185.6,2,    188.4,2,    63.50,2,    35.07,2,     2.28,2,    1.358,2,    0.649,2,    0.100,2,   2243.9,2,   2316.7,2,    2.3028894
  09AR20011029,  SR03,    56,  1,     16,2,20011114,-54.5347, 141.3507, 2800,    499.1,   2.3250,  34.5020,2,  34.5010,2,    178.3,2,    180.1,2,    69.10,2,    34.83,2,     2.29,2,    0.926,2,    0.446,2,    0.070,2,   2249.7,2,   2324.3,2,   2.29579239
  09AR20011029,  SR03,    56,  1,     15,2,20011114,-54.5347, 141.3507, 2800,    600.2,   2.3120,  34.5590,2,  34.5580,2,    176.9,2,    177.5,2,    73.00,2,    34.43,2,     2.26,2,    0.651,2,    0.310,2,    0.050,2,   2252.6,2,   2328.6,2,   2.27638018
  09AR20011029,  SR03,    56,  1,     14,2,20011114,-54.5347, 141.3507, 2800,    702.1,   2.3210,  34.6110,2,  34.6110,2,    178.1,2,    178.1,2,    74.70,2,    33.66,2,     2.21,2,    0.427,2,    0.199,2,    0.030,2,   2252.5,2,   2333.3,2,   2.27863201
  09AR20011029,  SR03,    56,  1,     13,2,20011114,-54.5347, 141.3507, 2800,    801.4,   2.2840,  34.6500,2,  34.6510,2,    179.6,2,    179.6,2,    76.50,2,    33.10,2,     2.17,2,    0.308,2,    0.144,2,    0.020,2,   2251.1,2,   2336.2,6,   2.23517249
  09AR20011029,  SR03,    56,  1,     12,2,20011114,-54.5347, 141.3507, 2800,    900.7,   2.2350,  34.6750,2,  34.6750,2,    182.5,2,    181.5,2,    79.00,2,    32.70,2,     2.13,2,    0.255,2,    0.120,2,    0.020,2,   2252.6,6,   2337.7,2,   2.17970942
  09AR20011029,  SR03,    56,  1,     11,2,20011114,-54.5347, 141.3507, 2800,   1000.9,   2.1940,  34.6980,2,  34.6970,2,    185.3,2,    184.4,2,    79.40,2,    32.14,2,     2.11,2,    0.204,6,    0.096,6,    0.020,6,   2250.6,2,   2339.5,2,   2.13203321
  09AR20011029,  SR03,    56,  1,     10,2,20011114,-54.5347, 141.3507, 2800,   1100.4,   2.1300,  34.7160,2,  34.7160,2,    189.0,2,    188.0,2,    80.70,2,    31.69,2,     2.07,2,    0.169,2,    0.089,2,    0.010,2,   2249.9,2,   2341.2,2,   2.06150816
  09AR20011029,  SR03,    56,  1,      9,2,20011114,-54.5347, 141.3507, 2800,   1200.6,   2.0740,  34.7310,2,  34.7310,2,    192.3,2,    191.8,2,    82.10,2,    31.27,2,     2.04,2,    0.141,2,    0.064,2,    0.010,2,   2248.3,2,   -999.0,9,   1.99879927
  09AR20011029,  SR03,    56,  1,      8,2,20011114,-54.5347, 141.3507, 2800,   1398.5,   1.9270,  34.7440,2,  34.7450,2,    195.7,2,    196.7,2,    85.50,2,    30.83,2,     2.01,2,    0.110,2,    0.048,2,    0.000,2,   2247.7,2,   2346.7,2,   1.83875335
  09AR20011029,  SR03,    56,  1,      7,2,20011114,-54.5347, 141.3507, 2800,   1599.4,   1.7590,  34.7490,2,  34.7500,2,    201.3,2,    200.7,2,    90.80,2,    29.87,4,     2.00,2,    0.084,2,    0.039,2,    0.000,2,   2249.1,2,   2349.7,2,   1.65757522
  09AR20011029,  SR03,    56,  1,      6,2,20011114,-54.5347, 141.3507, 2800,   1800.6,   1.5630,  34.7440,2,  34.7460,2,    203.4,2,    203.3,2,    96.50,2,    30.95,2,     2.02,2,    0.078,2,    0.033,2,    0.010,2,   2252.3,2,   2373.1,4,   1.44865616
  09AR20011029,  SR03,    56,  1,      5,2,20011114,-54.5347, 141.3507, 2800,   2001.7,   1.4020,  34.7380,2,  34.7400,2,    203.1,2,    205.1,2,   101.50,2,    31.07,2,     2.03,2,    0.079,2,    0.039,2,    0.000,2,   2254.6,2,   2353.6,2,   1.27416477
  09AR20011029,  SR03,    56,  1,      4,2,20011114,-54.5347, 141.3507, 2800,   2201.7,   1.2370,  34.7300,2,  34.7320,2,    208.1,2,    206.7,2,   107.30,2,    31.41,2,     2.06,2,    0.083,2,    0.040,2,    0.010,2,   2255.8,2,   2355.5,2,   1.09568475
  09AR20011029,  SR03,    56,  1,      3,2,20011114,-54.5347, 141.3507, 2800,   2400.9,   1.1050,  34.7250,2,  34.7250,2,    210.3,2,    208.6,2,   111.50,2,    31.69,2,     2.07,2,    0.089,2,    0.046,2,    0.010,2,   2257.6,2,   2356.2,2,   0.94952903
  09AR20011029,  SR03,    56,  1,      2,2,20011114,-54.5347, 141.3507, 2800,   2654.4,   0.8330,  34.7100,2,  34.7120,2,    213.9,2,    212.2,2,   120.70,2,    32.11,2,     2.11,2,    0.133,2,    0.061,2,    0.010,2,   2260.5,2,   2357.6,6,   0.66127603
  09AR20011029,  SR03,    56,  1,      1,2,20011114,-54.5347, 141.3507, 2800,   2866.6,   0.6980,  34.7030,2,  34.7050,2,    218.9,2,    215.0,2,   125.20,2,    32.33,2,     2.13,2,    0.165,2,    0.078,2,    0.000,2,   2260.9,6,   2355.9,2,  0.510661317