BOTTLE,20081126PRINUNIVRMK
EXPOCODE,SECT_ID,STNNBR,CASTNO,BTLNBR,BTLNBR_FLAG_W,DATE,LATITUDE,LONGITUDE,DEPTH,CTDPRS,CTDTMP,CTDSAL,CTDSAL_FLAG_W,SALNTY,SALNTY_FLAG_W,CTDOXY,CTDOXY_FLAG_W,OXYGEN,OXYGEN_FLAG_W,SILCAT,SILCAT_FLAG_W,NITRAT,NITRAT_FLAG_W,PHSPHT,PHSPHT_FLAG_W,CFC-11,CFC-11_FLAG_W,CFC-12,CFC-12_FLAG_W,CFC113,CFC113_FLAG_W,TCARBN,TCARBN_FLAG_W,ALKALI,ALKALI_FLAG_W,THETA
,,,,,,,,,METERS,DBARS,ITS-90,PSS-78,,PSS-78,,UMOL/KG,,UMOL/KG,,UMOL/KG,,UMOL/KG,,UMOL/KG,,PMOL/KG,,PMOL/KG,,PMOL/KG,,UMOL/KG,,UMOL/KG,,DEGC
  09AR20011029,  SR03,   108,  1,     24,2,20011129,-66.9690, 145.2557,  977,     10.7,  -1.5980,  31.4770,4,  34.4490,2,   -999.0,5,    330.9,2,    73.10,2,    29.50,2,     1.78,2,    5.349,2,    2.784,2,    0.480,2,   2215.5,2,   2326.8,2,  -1.59822498
  09AR20011029,  SR03,   108,  1,     23,2,20011129,-66.9690, 145.2557,  977,     50.2,  -1.5930,  31.5590,4,  34.4490,2,   -999.0,5,    330.8,2,    73.40,2,    29.51,2,     1.80,2,    5.310,2,    2.776,2,    0.480,2,   2217.7,2,   2326.9,2,  -1.59407726
  09AR20011029,  SR03,   108,  1,     22,2,20011129,-66.9690, 145.2557,  977,     90.0,  -1.6120,  31.5590,4,  34.4670,2,   -999.0,5,    322.5,2,    74.80,2,    29.86,2,     1.82,2,    5.100,2,    2.668,2,    0.460,2,   2222.2,2,   2328.6,2,  -1.61395479
  09AR20011029,  SR03,   108,  1,     21,2,20011129,-66.9690, 145.2557,  977,    129.8,  -1.5270,  31.8430,4,  34.4950,2,   -999.0,5,    305.5,2,  -999.00,9,  -999.00,9,  -999.00,9, -999.000,9, -999.000,9, -999.000,9,   -999.0,9,   -999.0,9,  -1.52997324
  09AR20011029,  SR03,   108,  1,     20,2,20011129,-66.9690, 145.2557,  977,    169.9,  -0.8510,  31.3850,4,  34.5480,2,   -999.0,5,    271.0,2,    86.70,2,    31.00,2,     1.89,2,    3.370,2,    1.722,2,    0.300,2,   2238.3,2,   2335.9,2, -0.855968762
  09AR20011029,  SR03,   108,  1,     19,2,20011129,-66.9690, 145.2557,  977,    209.9,  -1.7580,  30.9130,4,  34.5360,2,   -999.0,5,    310.3,2,  -999.00,9,  -999.00,9,  -999.00,9, -999.000,9, -999.000,9, -999.000,9,   -999.0,9,   -999.0,9,  -1.76256731
  09AR20011029,  SR03,   108,  1,    218,2,20011129,-66.9690, 145.2557,  977,    250.5,  -1.8250,  31.1410,4,  34.5410,2,   -999.0,5,    312.9,2,    78.10,2,    30.20,2,     1.85,2,    4.852,2,    2.516,2,    0.440,2,   2231.8,2,   2334.4,2,  -1.83040706
  09AR20011029,  SR03,   108,  1,     17,2,20011129,-66.9690, 145.2557,  977,    299.3,  -1.6190,  30.7330,4,  34.5720,2,   -999.0,5,    305.6,2,  -999.00,9,  -999.00,9,  -999.00,9, -999.000,9, -999.000,9, -999.000,9,   -999.0,9,   -999.0,9,   -1.6261565
  09AR20011029,  SR03,   108,  1,     16,2,20011129,-66.9690, 145.2557,  977,    349.4,  -1.8580,  30.6080,4,  34.6300,2,   -999.0,5,    314.9,2,    78.10,2,    30.42,2,     1.87,2,    5.019,2,    2.581,2,    0.450,2,   2236.5,2,   2339.7,2,  -1.86584162
  09AR20011029,  SR03,   108,  1,    715,2,20011129,-66.9690, 145.2557,  977,    389.4,  -1.8840,  30.6750,4,-999.0000,9,   -999.0,5,   -999.0,9,  -999.00,9,  -999.00,9,  -999.00,9, -999.000,9, -999.000,9, -999.000,9,   -999.0,9,   -999.0,9,         -999
  09AR20011029,  SR03,   108,  1,     14,2,20011129,-66.9690, 145.2557,  977,    429.1,  -1.8870,  30.5950,4,  34.6570,2,   -999.0,5,    318.6,2,    75.70,2,    30.30,2,     1.85,2,    5.136,2,    2.638,2,    0.460,2,   2236.6,2,   2340.6,2,  -1.89687992
  09AR20011029,  SR03,   108,  1,     13,2,20011129,-66.9690, 145.2557,  977,    469.3,  -1.8900,  32.3540,4,  34.6610,2,   -999.0,5,    318.5,2,  -999.00,9,  -999.00,9,  -999.00,9, -999.000,9, -999.000,9, -999.000,9,   -999.0,9,   -999.0,9,  -1.90098125
  09AR20011029,  SR03,   108,  1,     12,2,20011129,-66.9690, 145.2557,  977,    510.6,  -1.8910,  32.3520,4,  34.6660,2,   -999.0,5,    317.9,2,    76.00,2,    30.32,2,     1.89,2, -999.000,9, -999.000,9, -999.000,9,   -999.0,9,   -999.0,9,  -1.90315377
  09AR20011029,  SR03,   108,  1,     11,2,20011129,-66.9690, 145.2557,  977,    549.5,  -1.8910,  32.3370,4,  34.6700,2,   -999.0,5,    318.3,2,  -999.00,9,  -999.00,9,  -999.00,9, -999.000,9, -999.000,9, -999.000,9,   -999.0,9,   -999.0,9,  -1.90429197
  09AR20011029,  SR03,   108,  1,    310,2,20011129,-66.9690, 145.2557,  977,    589.3,  -1.8910,  32.3640,4,  34.6720,2,   -999.0,5,    318.6,2,    76.40,2,    30.40,2,     1.87,2,    5.162,2,    2.666,2,    0.460,2,   2238.2,2,   2343.7,2,   -1.9054848
  09AR20011029,  SR03,   108,  1,    709,2,20011129,-66.9690, 145.2557,  977,    629.5,  -1.8900,  32.4680,4,  34.6730,2,   -999.0,5,    318.9,2,  -999.00,9,  -999.00,9,  -999.00,9, -999.000,9, -999.000,9, -999.000,9,   -999.0,9,   -999.0,9,  -1.90572488
  09AR20011029,  SR03,   108,  1,      8,2,20011129,-66.9690, 145.2557,  977,    669.2,  -1.8910,  32.3010,4,  34.6760,2,   -999.0,5,    319.2,2,    76.20,2,    30.28,2,     1.85,2, -999.000,9, -999.000,9, -999.000,9,   -999.0,9,   -999.0,9,  -1.90797186
  09AR20011029,  SR03,   108,  1,      7,2,20011129,-66.9690, 145.2557,  977,    708.9,  -1.8910,  32.3660,4,  34.6810,2,   -999.0,5,    319.8,2,  -999.00,9,  -999.00,9,  -999.00,9, -999.000,9, -999.000,9, -999.000,9,   -999.0,9,   -999.0,9,  -1.90925743
  09AR20011029,  SR03,   108,  1,      6,2,20011129,-66.9690, 145.2557,  977,    749.9,  -1.8910,  32.2260,4,  34.6860,2,   -999.0,5,    320.1,2,    76.00,2,    30.15,2,     1.89,2,    5.228,2,    2.706,2,    0.480,2,   2239.9,2,   2344.0,2,  -1.91061708
  09AR20011029,  SR03,   108,  1,      5,2,20011129,-66.9690, 145.2557,  977,    790.0,  -1.8900,  32.5490,4,  34.6890,2,   -999.0,5,    320.2,2,  -999.00,9,  -999.00,9,  -999.00,9, -999.000,9, -999.000,9, -999.000,9,   -999.0,9,   -999.0,9,  -1.91098228
  09AR20011029,  SR03,   108,  1,      4,2,20011129,-66.9690, 145.2557,  977,    829.5,  -1.8890,  32.2960,4,  34.6900,2,   -999.0,5,    320.7,2,    76.00,2,    30.35,2,     1.85,2, -999.000,9, -999.000,9, -999.000,9,   -999.0,9,   -999.0,9,  -1.91135483
  09AR20011029,  SR03,   108,  1,      3,2,20011129,-66.9690, 145.2557,  977,    870.1,  -1.8870,  32.3850,4,  34.6930,2,   -999.0,5,    320.7,2,  -999.00,9,  -999.00,9,  -999.00,9, -999.000,9, -999.000,9, -999.000,9,   -999.0,9,   -999.0,9,  -1.91080751
  09AR20011029,  SR03,   108,  1,      2,2,20011129,-66.9690, 145.2557,  977,    920.1,  -1.8860,  31.5190,4,  34.6980,2,   -999.0,5,    321.7,2,    76.30,2,    30.43,2,     1.87,2,    5.256,2,    2.717,2,    0.470,2,   2238.6,2,   2343.4,2,  -1.91163243
  09AR20011029,  SR03,   108,  1,      1,2,20011129,-66.9690, 145.2557,  977,    961.6,  -1.8830,  30.7230,4,  34.6970,2,   -999.0,5,    322.5,2,    77.20,2,    30.53,2,     1.88,2,    5.307,2,    2.731,2,    0.480,2,   2241.0,6,   2345.6,2,  -1.91019213
  09AR20011029,  SR03,   109,  1,     24,2,20011130,-66.3825, 144.3013,  476,      5.2,  -1.6190,  34.3270,2,-999.0000,9,    426.9,3,   -999.0,9,  -999.00,9,  -999.00,9,  -999.00,9, -999.000,9, -999.000,9, -999.000,9,   -999.0,9,   -999.0,9,  -1.61910685
  09AR20011029,  SR03,   109,  1,     23,2,20011130,-66.3825, 144.3013,  476,      5.2,  -1.6180,  34.3250,2,-999.0000,9,    426.9,3,   -999.0,9,  -999.00,9,  -999.00,9,  -999.00,9, -999.000,9, -999.000,9, -999.000,9,   -999.0,9,   -999.0,9,  -1.61810688
  09AR20011029,  SR03,   109,  1,     22,2,20011130,-66.3825, 144.3013,  476,      5.2,  -1.6190,  34.3270,2,-999.0000,9,    426.9,3,   -999.0,9,  -999.00,9,  -999.00,9,  -999.00,9, -999.000,9, -999.000,9, -999.000,9,   -999.0,9,   -999.0,9,  -1.61910685
  09AR20011029,  SR03,   109,  1,     21,2,20011130,-66.3825, 144.3013,  476,      5.2,  -1.6190,  34.3250,2,  34.3240,2,    426.9,3,    339.8,2,    63.20,2,    28.36,2,     1.65,2,    5.279,2,    2.761,2,    0.500,2,   2200.1,2,   2319.6,2,  -1.61910682
  09AR20011029,  SR03,   109,  1,     19,2,20011130,-66.3825, 144.3013,  476,     25.1,  -1.6250,  34.3290,2,  34.3310,2,    336.2,2,    338.0,2,    63.30,2,    28.57,2,     1.66,2, -999.000,9, -999.000,9, -999.000,9,   -999.0,9,   -999.0,9,  -1.62551958
  09AR20011029,  SR03,   109,  1,     20,2,20011130,-66.3825, 144.3013,  476,     25.2,  -1.6260,  34.3300,2,-999.0000,9,    336.2,2,   -999.0,9,  -999.00,9,  -999.00,9,  -999.00,9, -999.000,9, -999.000,9, -999.000,9,   -999.0,9,   -999.0,9,  -1.62652141
  09AR20011029,  SR03,   109,  1,     17,2,20011130,-66.3825, 144.3013,  476,     50.0,  -1.6940,  34.3930,2,  34.3940,2,    322.9,2,    318.9,2,    64.50,2,    29.79,2,     1.79,2, -999.000,9, -999.000,9, -999.000,9,   -999.0,9,   -999.0,9,  -1.69502324
  09AR20011029,  SR03,   109,  1,    218,2,20011130,-66.3825, 144.3013,  476,     50.2,  -1.6870,  34.3960,2,-999.0000,9,    322.9,2,   -999.0,9,  -999.00,9,  -999.00,9,  -999.00,9, -999.000,9, -999.000,9, -999.000,9,   -999.0,9,   -999.0,9,  -1.68803071
  09AR20011029,  SR03,   109,  1,    715,2,20011130,-66.3825, 144.3013,  476,     90.1,  -1.7420,  34.4330,2,  34.4330,2,    311.1,2,    311.1,2,    71.40,2,    30.60,2,     1.85,2,    4.817,2,    2.513,2,    0.450,2,   -999.0,9,   -999.0,9,  -1.74384858
  09AR20011029,  SR03,   109,  1,     16,2,20011130,-66.3825, 144.3013,  476,     90.3,  -1.7410,  34.4330,2,-999.0000,9,    311.1,2,   -999.0,9,  -999.00,9,  -999.00,9,  -999.00,9, -999.000,9, -999.000,9, -999.000,9,   2221.6,2,   2324.8,2,  -1.74285365
  09AR20011029,  SR03,   109,  1,     13,2,20011130,-66.3825, 144.3013,  476,    125.2,  -1.1940,  34.4900,3,  34.4930,2,    278.7,2,    284.8,2,    81.20,2,    31.16,2,     1.91,2, -999.000,9, -999.000,9, -999.000,9,   -999.0,9,   -999.0,9,  -1.19722399
  09AR20011029,  SR03,   109,  1,     14,2,20011130,-66.3825, 144.3013,  476,    125.5,  -1.2380,  34.4860,4,-999.0000,9,    278.7,2,   -999.0,9,  -999.00,9,  -999.00,9,  -999.00,9, -999.000,9, -999.000,9, -999.000,9,   -999.0,9,   -999.0,9,         -999
  09AR20011029,  SR03,   109,  1,     12,2,20011130,-66.3825, 144.3013,  476,    175.0,  -0.4880,  34.5680,2,-999.0000,9,    258.8,2,   -999.0,9,  -999.00,9,  -999.00,9,  -999.00,9, -999.000,9, -999.000,9, -999.000,9,   -999.0,9,   -999.0,9, -0.493677525
  09AR20011029,  SR03,   109,  1,     11,2,20011130,-66.3825, 144.3013,  476,    175.2,  -0.4820,  34.5660,4,  34.5680,2,    258.8,2,    255.6,2,    88.10,2,    31.58,2,     1.93,2,    2.794,2,    1.418,2,    0.250,2,   2241.0,2,   2336.7,2, -0.487693324
  09AR20011029,  SR03,   109,  1,    310,2,20011130,-66.3825, 144.3013,  476,    225.1,   0.2130,  34.6330,2,-999.0000,9,    231.5,2,   -999.0,9,  -999.00,9,  -999.00,9,  -999.00,9, -999.000,9, -999.000,9, -999.000,9,   -999.0,9,   -999.0,9,   0.20422636
  09AR20011029,  SR03,   109,  1,    709,2,20011130,-66.3825, 144.3013,  476,    225.2,   0.1830,  34.6340,4,  34.6310,2,    231.5,2,    231.3,2,    95.60,2,    31.60,2,     1.94,2, -999.000,9, -999.000,9, -999.000,9,   -999.0,9,   -999.0,9,  0.174280062
  09AR20011029,  SR03,   109,  1,      7,2,20011130,-66.3825, 144.3013,  476,    261.6,   0.0110,  34.6130,4,  34.6270,0,    254.4,2,    235.5,2,    97.10,2,    31.93,2,     1.95,2,    1.858,2,    0.927,2,    0.170,2,   -999.0,9,   -999.0,9,         -999
  09AR20011029,  SR03,   109,  1,      8,2,20011130,-66.3825, 144.3013,  476,    262.8,   0.0180,  34.6340,4,-999.0000,9,    254.4,2,   -999.0,9,  -999.00,9,  -999.00,9,  -999.00,9, -999.000,9, -999.000,9, -999.000,9,   2248.9,2,   2343.4,2,         -999
  09AR20011029,  SR03,   109,  1,      6,2,20011130,-66.3825, 144.3013,  476,    324.9,  -1.7510,  34.5850,2,-999.0000,9,    311.5,2,   -999.0,9,  -999.00,9,  -999.00,9,  -999.00,9, -999.000,9, -999.000,9, -999.000,9,   -999.0,9,   -999.0,9,  -1.75848661
  09AR20011029,  SR03,   109,  1,      5,2,20011130,-66.3825, 144.3013,  476,    324.9,  -1.7510,  34.5860,2,  34.5880,2,    311.5,2,   -999.0,9,    79.50,2,    31.16,2,     1.89,2,    4.616,2,    2.394,2,    0.430,2,   2235.8,2,   2336.6,2,  -1.75848851
  09AR20011029,  SR03,   109,  1,      3,2,20011130,-66.3825, 144.3013,  476,    400.2,  -1.8980,  34.6710,2,  34.6750,2,    317.1,2,    319.3,2,    76.60,2,    31.09,2,     1.88,2, -999.000,9, -999.000,9, -999.000,9,   -999.0,9,   -999.0,9,  -1.90707733
  09AR20011029,  SR03,   109,  1,      4,2,20011130,-66.3825, 144.3013,  476,    400.3,  -1.8980,  34.6710,2,-999.0000,9,    317.1,2,   -999.0,9,  -999.00,9,  -999.00,9,  -999.00,9, -999.000,9, -999.000,9, -999.000,9,   -999.0,9,   -999.0,9,  -1.90707687
  09AR20011029,  SR03,   109,  1,      2,2,20011130,-66.3825, 144.3013,  476,    459.5,  -1.8990,  34.6890,2,-999.0000,9,    320.6,2,   -999.0,9,  -999.00,9,  -999.00,9,  -999.00,9, -999.000,9, -999.000,9, -999.000,9,   -999.0,9,   -999.0,9,  -1.90969731
  09AR20011029,  SR03,   109,  1,      1,2,20011130,-66.3825, 144.3013,  476,    459.5,  -1.8990,  34.6890,2,  34.6920,2,    320.6,2,    320.1,2,    76.90,2,    30.74,2,     1.87,2,    5.222,2,    2.694,2,    0.480,2,   2241.3,2,   2343.9,2,  -1.90969999
  09AR20011029,  SR03,   110,  1,     24,2,20011130,-66.2847, 144.3928,  417,      6.2,  -1.6200,  34.3450,2,-999.0000,9,    342.5,3,   -999.0,9,  -999.00,9,  -999.00,9,  -999.00,9, -999.000,9, -999.000,9, -999.000,9,   -999.0,9,   -999.0,9,  -1.62012763
  09AR20011029,  SR03,   110,  1,     23,2,20011130,-66.2847, 144.3928,  417,      6.2,  -1.6200,  34.3440,2,-999.0000,9,    342.5,3,   -999.0,9,  -999.00,9,  -999.00,9,  -999.00,9, -999.000,9, -999.000,9, -999.000,9,   -999.0,9,   -999.0,9,  -1.62012762
  09AR20011029,  SR03,   110,  1,     22,2,20011130,-66.2847, 144.3928,  417,      6.2,  -1.6200,  34.3440,2,-999.0000,9,    342.5,3,   -999.0,9,  -999.00,9,  -999.00,9,  -999.00,9, -999.000,9, -999.000,9, -999.000,9,   -999.0,9,   -999.0,9,  -1.62012762
  09AR20011029,  SR03,   110,  1,     21,2,20011130,-66.2847, 144.3928,  417,      6.2,  -1.6200,  34.3440,2,-999.0000,9,    342.5,3,   -999.0,9,  -999.00,9,  -999.00,9,  -999.00,9, -999.000,9, -999.000,9, -999.000,9,   -999.0,9,   -999.0,9,  -1.62012762
  09AR20011029,  SR03,   110,  1,     20,2,20011130,-66.2847, 144.3928,  417,      6.2,  -1.6200,  34.3440,2,-999.0000,9,    342.5,3,   -999.0,9,  -999.00,9,  -999.00,9,  -999.00,9, -999.000,9, -999.000,9, -999.000,9,   -999.0,9,   -999.0,9,  -1.62012762
  09AR20011029,  SR03,   110,  1,     19,2,20011130,-66.2847, 144.3928,  417,      6.2,  -1.6190,  34.3440,2,  34.3430,2,    342.5,3,    340.4,2,    63.00,2,    28.58,2,     1.67,2,    5.243,2,    2.724,2,    0.500,2,   2200.3,2,   2319.1,2,  -1.61912766
  09AR20011029,  SR03,   110,  1,    218,2,20011130,-66.2847, 144.3928,  417,     25.9,  -1.6170,  34.3430,2,-999.0000,9,    334.9,2,   -999.0,9,  -999.00,9,  -999.00,9,  -999.00,9, -999.000,9, -999.000,9, -999.000,9,   -999.0,9,   -999.0,9,  -1.61753877
  09AR20011029,  SR03,   110,  1,     17,2,20011130,-66.2847, 144.3928,  417,     25.9,  -1.6170,  34.3430,2,  34.3430,2,    334.9,2,    340.1,2,    63.20,2,    28.53,2,     1.72,2, -999.000,9, -999.000,9, -999.000,9,   -999.0,9,   -999.0,9,  -1.61753877
  09AR20011029,  SR03,   110,  1,    715,2,20011130,-66.2847, 144.3928,  417,     51.0,  -1.6970,  34.4210,2,  34.4240,2,    317.0,2,    309.2,2,    69.90,2,    30.61,2,     1.86,2,    4.713,2,    2.448,2,    0.450,2,   -999.0,9,   -999.0,9,  -1.69804587
  09AR20011029,  SR03,   110,  1,     16,2,20011130,-66.2847, 144.3928,  417,     51.1,  -1.7070,  34.4180,3,-999.0000,9,    316.2,2,   -999.0,9,  -999.00,9,  -999.00,9,  -999.00,9, -999.000,9, -999.000,9, -999.000,9,   2220.9,2,   2324.9,2,         -999
  09AR20011029,  SR03,   110,  1,     14,2,20011130,-66.2847, 144.3928,  417,    101.4,  -1.5770,  34.4450,3,-999.0000,9,    299.7,2,   -999.0,9,  -999.00,9,  -999.00,9,  -999.00,9, -999.000,9, -999.000,9, -999.000,9,   -999.0,9,   -999.0,9,         -999
  09AR20011029,  SR03,   110,  1,     13,2,20011130,-66.2847, 144.3928,  417,    101.4,  -1.5640,  34.4500,2,  34.4510,2,    299.7,2,    300.0,2,    74.60,2,    30.82,2,     1.90,2, -999.000,9, -999.000,9, -999.000,9,   -999.0,9,   -999.0,9,  -1.56625308
  09AR20011029,  SR03,   110,  1,     12,2,20011130,-66.2847, 144.3928,  417,    150.7,  -1.2650,  34.4800,2,-999.0000,9,    285.5,2,   -999.0,9,  -999.00,9,  -999.00,9,  -999.00,9, -999.000,9, -999.000,9, -999.000,9,   -999.0,9,   -999.0,9,  -1.26882124
  09AR20011029,  SR03,   110,  1,     11,2,20011130,-66.2847, 144.3928,  417,    151.0,  -1.2480,  34.4830,2,  34.4810,2,    285.5,2,    287.7,2,    78.20,2,    30.93,2,     1.91,2, -999.000,9, -999.000,9, -999.000,9,   -999.0,9,   -999.0,9,  -1.25185182
  09AR20011029,  SR03,   110,  1,    709,2,20011130,-66.2847, 144.3928,  417,    200.9,  -0.9420,  34.5110,2,  34.5120,2,    272.8,2,    275.3,2,    81.80,2,    31.10,2,     1.91,2,    3.597,2,    1.851,2,    0.340,2,   -999.0,9,   -999.0,9, -0.947763495
  09AR20011029,  SR03,   110,  1,    310,2,20011130,-66.2847, 144.3928,  417,    201.1,  -0.9400,  34.5130,2,-999.0000,9,    272.7,2,   -999.0,9,  -999.00,9,  -999.00,9,  -999.00,9, -999.000,9, -999.000,9, -999.000,9,   2235.3,2,   2331.0,2, -0.945773461
  09AR20011029,  SR03,   110,  1,      8,2,20011130,-66.2847, 144.3928,  417,    250.8,  -0.6960,  34.5420,2,-999.0000,9,    265.2,2,   -999.0,9,  -999.00,9,  -999.00,9,  -999.00,9, -999.000,9, -999.000,9, -999.000,9,   -999.0,9,   -999.0,9, -0.703856813
  09AR20011029,  SR03,   110,  1,      7,2,20011130,-66.2847, 144.3928,  417,    250.8,  -0.6950,  34.5440,2,  34.5440,2,    265.2,2,    264.3,2,    85.70,2,    31.17,2,     1.94,2, -999.000,9, -999.000,9, -999.000,9,   -999.0,9,   -999.0,9, -0.702859913
  09AR20011029,  SR03,   110,  1,      5,2,20011130,-66.2847, 144.3928,  417,    300.9,  -0.5430,  34.5770,2,  34.5760,2,    262.7,2,    258.5,2,    88.90,2,    31.29,2,     1.95,2,    2.802,2,    1.435,2,    0.260,2,   -999.0,9,   -999.0,9, -0.552979435
  09AR20011029,  SR03,   110,  1,      6,2,20011130,-66.2847, 144.3928,  417,    301.1,  -0.5460,  34.5760,2,-999.0000,9,    262.8,2,   -999.0,9,  -999.00,9,  -999.00,9,  -999.00,9, -999.000,9, -999.000,9, -999.000,9,   2240.6,2,   2337.0,2, -0.555978947
  09AR20011029,  SR03,   110,  1,      3,2,20011130,-66.2847, 144.3928,  417,    350.8,  -1.2780,  34.6640,4,  34.6630,2,    285.7,2,    291.9,2,    84.20,2,    30.85,2,     1.94,2,    4.041,2,    2.090,2,    0.380,2,   -999.0,9,   -999.0,9,  -1.28765504
  09AR20011029,  SR03,   110,  1,      4,2,20011130,-66.2847, 144.3928,  417,    350.9,  -1.2650,  34.6630,2,-999.0000,9,    285.7,2,   -999.0,9,  -999.00,9,  -999.00,9,  -999.00,9, -999.000,9, -999.000,9, -999.000,9,   2243.2,2,   2342.6,2,  -1.27469728
  09AR20011029,  SR03,   110,  1,      2,2,20011130,-66.2847, 144.3928,  417,    406.6,  -1.8540,  34.6920,2,-999.0000,9,    321.8,2,   -999.0,9,  -999.00,9,  -999.00,9,  -999.00,9, -999.000,9, -999.000,9, -999.000,9,   -999.0,9,   -999.0,9,  -1.86341607
  09AR20011029,  SR03,   110,  1,      1,2,20011130,-66.2847, 144.3928,  417,    406.6,  -1.8580,  34.6930,2,  34.6940,2,    321.8,2,    319.0,2,    76.80,2,    30.58,2,     1.94,2,    5.131,2,    2.655,2,    0.480,2,   2242.3,6,   2343.0,2,  -1.86740359