BOTTLE,20081126PRINUNIVRMK
EXPOCODE,SECT_ID,STNNBR,CASTNO,BTLNBR,BTLNBR_FLAG_W,DATE,LATITUDE,LONGITUDE,DEPTH,CTDPRS,CTDTMP,CTDSAL,CTDSAL_FLAG_W,SALNTY,SALNTY_FLAG_W,CTDOXY,CTDOXY_FLAG_W,OXYGEN,OXYGEN_FLAG_W,SILCAT,SILCAT_FLAG_W,NITRAT,NITRAT_FLAG_W,PHSPHT,PHSPHT_FLAG_W,CFC-11,CFC-11_FLAG_W,CFC-12,CFC-12_FLAG_W,CFC113,CFC113_FLAG_W,TCARBN,TCARBN_FLAG_W,ALKALI,ALKALI_FLAG_W,THETA
,,,,,,,,,METERS,DBARS,ITS-90,PSS-78,,PSS-78,,UMOL/KG,,UMOL/KG,,UMOL/KG,,UMOL/KG,,UMOL/KG,,PMOL/KG,,PMOL/KG,,PMOL/KG,,UMOL/KG,,UMOL/KG,,DEGC
  09AR20011029,  SR03,    75,  1,     24,2,20011121,-60.8357, 139.8737, 4300,     10.4,  -0.0260,  33.9420,2,  33.9410,2,    415.9,3,    349.9,2,    27.30,2,    28.50,2,     1.78,2,    6.440,2,    3.289,2,    0.590,2,   2161.4,6,   2285.5,2,-0.0263501874
  09AR20011029,  SR03,    75,  1,     23,2,20011121,-60.8357, 139.8737, 4300,     30.9,  -0.0320,  33.9420,2,  33.9410,2,    350.9,2,    350.2,2,    27.10,2,    28.36,2,     1.77,2,    6.469,2,    3.324,2,    0.590,2,   2161.1,2,   2287.5,2, -0.033044756
  09AR20011029,  SR03,    75,  1,     22,2,20011121,-60.8357, 139.8737, 4300,     60.3,  -0.0500,  33.9430,2,  33.9410,2,    351.3,2,    350.5,2,    27.20,2,    28.44,2,     1.81,2, -999.000,9, -999.000,9, -999.000,9,   2162.5,2,   2287.1,2,-0.0520459619
  09AR20011029,  SR03,    75,  1,     21,2,20011121,-60.8357, 139.8737, 4300,     89.9,  -0.0330,  33.9470,3,  33.9530,2,    341.3,2,    344.3,2,    28.10,2,    28.60,2,     1.84,2,    6.311,6,    3.215,6,    0.580,6,   2164.9,2,   2287.0,2,-0.0360900532
  09AR20011029,  SR03,    75,  1,     20,2,20011121,-60.8357, 139.8737, 4300,    111.0,   1.0290,  34.1390,4,  34.1590,2,    252.3,2,    262.4,2,    44.70,2,    32.80,2,     2.15,2,    3.942,2,    1.999,2,    0.340,2,   2203.9,2,   2298.1,2,   1.02412338
  09AR20011029,  SR03,    75,  1,     19,2,20011121,-60.8357, 139.8737, 4300,    130.1,   1.8190,  34.2770,4,  34.2800,2,    214.1,2,    221.7,2,    53.80,2,    34.50,2,     2.26,2,    2.696,2,    1.345,2,    0.220,2,   2222.5,2,   2306.2,2,   1.81237825
  09AR20011029,  SR03,    75,  1,    218,2,20011121,-60.8357, 139.8737, 4300,    150.4,   2.0290,  34.3530,2,  34.3500,2,    204.4,2,    203.6,2,    59.80,2,    35.13,2,     2.30,2,    2.074,2,    1.015,2,    0.160,2,   2233.9,2,   2311.1,2,   2.02103951
  09AR20011029,  SR03,    75,  1,     17,2,20011121,-60.8357, 139.8737, 4300,    200.2,   2.1030,  34.4220,2,  34.4210,2,    188.7,2,    190.6,2,    66.10,2,    35.41,2,     2.33,2,    1.534,2,    0.736,2,    0.110,2,   2244.6,2,   2316.1,2,   2.09217225
  09AR20011029,  SR03,    75,  1,     16,2,20011121,-60.8357, 139.8737, 4300,    301.1,   2.2180,  34.5300,2,  34.5290,2,    175.3,2,    178.4,2,    73.10,2,    35.11,2,     2.30,2,    0.844,2,    0.411,2,    0.050,2,   2252.0,2,   2326.6,2,   2.20111947
  09AR20011029,  SR03,    75,  1,    715,2,20011121,-60.8357, 139.8737, 4300,    501.0,   2.1970,  34.6370,2,  34.6370,2,    180.3,2,    178.1,2,    79.00,2,    33.89,2,     2.21,2,    0.398,2,    0.193,2,    0.030,2,   2253.7,2,   2333.9,2,   2.16807055
  09AR20011029,  SR03,    75,  1,     14,2,20011121,-60.8357, 139.8737, 4300,    701.3,   2.1280,  34.6970,2,  34.6960,2,    185.8,2,    184.3,2,    81.50,2,    32.37,2,     2.12,2,    0.238,2,    0.113,2,    0.020,2,   2249.9,2,   2339.5,2,   2.08666353
  09AR20011029,  SR03,    75,  1,     13,2,20011121,-60.8357, 139.8737, 4300,   1000.3,   1.9740,  34.7350,2,  34.7350,2,    195.1,2,    193.5,2,    85.30,2,    31.21,2,     2.04,2,    0.153,2,    0.068,2,    0.010,2,   2247.8,2,   2344.4,6,   1.91375141
  09AR20011029,  SR03,    75,  1,     12,2,20011121,-60.8357, 139.8737, 4300,   1301.0,   1.7320,  34.7470,2,  34.7470,2,    203.0,2,    200.2,2,    92.30,2,    31.06,2,     2.01,2,    0.114,2,    0.053,2,    0.010,2,   2249.4,6,   2349.5,2,   1.65291276
  09AR20011029,  SR03,    75,  1,     11,2,20011121,-60.8357, 139.8737, 4300,   1599.2,   1.4590,  34.7420,2,  34.7410,2,    206.0,2,    204.2,2,   100.20,2,    31.22,2,     2.03,2,    0.106,2,    0.051,2,    0.010,2,   2251.2,2,   2351.8,2,   1.36134516
  09AR20011029,  SR03,    75,  1,     10,2,20011121,-60.8357, 139.8737, 4300,   1900.7,   1.2070,  34.7300,2,  34.7300,2,    208.5,2,    207.2,2,   108.00,2,    31.50,2,     2.07,2,    0.096,2,    0.041,2,    0.010,2,   2253.9,2,   2354.4,2,   1.09004292
  09AR20011029,  SR03,    75,  1,    709,2,20011121,-60.8357, 139.8737, 4300,   2199.8,   0.9730,  34.7170,2,  34.7180,2,    211.6,2,    209.8,2,   115.00,2,    32.16,2,     2.09,2,    0.118,2,    0.050,2,    0.000,2,   2256.4,2,   2356.8,2,  0.836327932
  09AR20011029,  SR03,    75,  1,      8,2,20011121,-60.8357, 139.8737, 4300,   2500.0,   0.7460,  34.7060,2,  34.7060,2,    214.9,2,    213.2,2,   121.60,2,    32.39,2,     2.13,2,    0.134,2,    0.064,2,    0.010,2,   2258.8,2,   2356.1,2,   0.58901458
  09AR20011029,  SR03,    75,  1,      7,2,20011121,-60.8357, 139.8737, 4300,   2800.5,   0.5260,  34.6950,2,  34.6960,2,    218.1,2,    217.6,2,   127.00,2,    32.70,2,     2.15,2,    0.185,2,    0.090,2,    0.010,2,   2259.6,2,   2356.1,2,  0.348103035
  09AR20011029,  SR03,    75,  1,      6,2,20011121,-60.8357, 139.8737, 4300,   3199.4,   0.3170,  34.6860,2,  34.6870,2,    224.6,2,    223.3,2,   130.70,2,    32.68,2,     2.16,2,    0.285,2,    0.142,2,    0.010,2,   2260.4,2,   2356.6,2,  0.108652943
  09AR20011029,  SR03,    75,  1,      5,2,20011121,-60.8357, 139.8737, 4300,   3601.1,   0.1740,  34.6810,2,  34.6810,2,    229.4,2,    228.5,2,   132.30,2,    32.69,2,     2.15,2,    0.472,2,    0.222,2,    0.030,2,   2258.7,2,   2355.4,2,-0.0680574555
  09AR20011029,  SR03,    75,  1,      4,2,20011121,-60.8357, 139.8737, 4300,   3899.2,   0.0750,  34.6760,2,  34.6770,2,    233.8,2,    232.7,2,   131.30,2,    32.71,2,     2.15,2,    0.730,2,    0.353,2,    0.040,2,   2256.7,2,   2355.1,2, -0.193305485
  09AR20011029,  SR03,    75,  1,      3,2,20011121,-60.8357, 139.8737, 4300,   4200.8,  -0.0170,  34.6720,2,  34.6730,2,    238.5,2,    237.1,2,   128.90,2,    32.64,2,     2.14,2,    1.135,2,    0.536,2,    0.070,2,   2256.1,2,   -999.0,9, -0.313011077
  09AR20011029,  SR03,    75,  1,      2,2,20011121,-60.8357, 139.8737, 4300,   4351.5,  -0.0840,  34.6620,2,  34.6670,2,    241.9,2,    240.7,2,   125.20,2,    32.53,2,     2.13,2,    1.587,2,    0.763,2,    0.120,2,   2256.0,2,   2351.9,6, -0.393524425
  09AR20011029,  SR03,    75,  1,      1,2,20011121,-60.8357, 139.8737, 4300,   4455.7,  -0.2230,  34.6490,2,  34.6530,2,    246.1,2,    247.9,2,   117.10,2,    32.34,2,     2.12,2,    2.118,2,    1.035,2,    0.170,2,   2252.0,6,   2349.8,2, -0.538985759
  09AR20011029,  SR03,    76,  1,     23,2,20011121,-60.8040, 139.9337, 4310,     30.4,  -0.0370,  33.9430,2,  33.9410,2,   -999.0,5,   -999.0,9,  -999.00,9,  -999.00,9,  -999.00,9, -999.000,9, -999.000,9, -999.000,9,   -999.0,9,   -999.0,9,-0.0380264077
  09AR20011029,  SR03,    76,  1,     24,2,20011121,-60.8040, 139.9337, 4310,     30.6,  -0.0410,  33.9440,2,  33.9420,2,   -999.0,5,   -999.0,9,  -999.00,9,  -999.00,9,  -999.00,9, -999.000,9, -999.000,9, -999.000,9,   -999.0,9,   -999.0,9,-0.0420322269
  09AR20011029,  SR03,    76,  1,     21,2,20011121,-60.8040, 139.9337, 4310,    150.1,   1.9770,  34.3360,3,  34.3340,2,   -999.0,5,   -999.0,9,  -999.00,9,  -999.00,9,  -999.00,9, -999.000,9, -999.000,9, -999.000,9,   -999.0,9,   -999.0,9,   1.96912437
  09AR20011029,  SR03,    76,  1,     22,2,20011121,-60.8040, 139.9337, 4310,    150.5,   1.9950,  34.3390,3,  34.3370,2,   -999.0,5,   -999.0,9,  -999.00,9,  -999.00,9,  -999.00,9, -999.000,9, -999.000,9, -999.000,9,   -999.0,9,   -999.0,9,   1.98707974
  09AR20011029,  SR03,    76,  1,     19,2,20011121,-60.8040, 139.9337, 4310,    399.9,   2.2040,  34.5890,2,  34.5880,2,   -999.0,5,   -999.0,9,  -999.00,9,  -999.00,9,  -999.00,9, -999.000,9, -999.000,9, -999.000,9,   -999.0,9,   -999.0,9,   2.18125536
  09AR20011029,  SR03,    76,  1,     20,2,20011121,-60.8040, 139.9337, 4310,    400.1,   2.2040,  34.5890,2,  34.5880,2,   -999.0,5,   -999.0,9,  -999.00,9,  -999.00,9,  -999.00,9, -999.000,9, -999.000,9, -999.000,9,   -999.0,9,   -999.0,9,   2.18124333
  09AR20011029,  SR03,    76,  1,     17,2,20011121,-60.8040, 139.9337, 4310,    799.1,   2.0740,  34.7140,2,  34.7140,2,   -999.0,5,   -999.0,9,  -999.00,9,  -999.00,9,  -999.00,9, -999.000,9, -999.000,9, -999.000,9,   -999.0,9,   -999.0,9,   2.02657772
  09AR20011029,  SR03,    76,  1,    218,2,20011121,-60.8040, 139.9337, 4310,    799.5,   2.0740,  34.7150,2,  34.7140,2,   -999.0,5,   -999.0,9,  -999.00,9,  -999.00,9,  -999.00,9, -999.000,9, -999.000,9, -999.000,9,   -999.0,9,   -999.0,9,   2.02655136
  09AR20011029,  SR03,    76,  1,     16,2,20011121,-60.8040, 139.9337, 4310,   1199.3,   1.8180,  34.7450,2,  34.7450,2,   -999.0,5,   -999.0,9,  -999.00,9,  -999.00,9,  -999.00,9, -999.000,9, -999.000,9, -999.000,9,   -999.0,9,   -999.0,9,    1.7452795
  09AR20011029,  SR03,    76,  1,    715,2,20011121,-60.8040, 139.9337, 4310,   1199.7,   1.8160,  34.7460,2,  34.7450,2,   -999.0,5,   -999.0,9,  -999.00,9,  -999.00,9,  -999.00,9, -999.000,9, -999.000,9, -999.000,9,   -999.0,9,   -999.0,9,   1.74327025
  09AR20011029,  SR03,    76,  1,     14,2,20011121,-60.8040, 139.9337, 4310,   1599.3,   1.4760,  34.7420,2,  34.7420,2,   -999.0,5,   -999.0,9,  -999.00,9,  -999.00,9,  -999.00,9, -999.000,9, -999.000,9, -999.000,9,   -999.0,9,   -999.0,9,   1.37812317
  09AR20011029,  SR03,    76,  1,     13,2,20011121,-60.8040, 139.9337, 4310,   1599.3,   1.4740,  34.7420,2,  34.7430,2,   -999.0,5,   -999.0,9,  -999.00,9,  -999.00,9,  -999.00,9, -999.000,9, -999.000,9, -999.000,9,   -999.0,9,   -999.0,9,   1.37614531
  09AR20011029,  SR03,    76,  1,     12,2,20011121,-60.8040, 139.9337, 4310,   2000.5,   1.1470,  34.7270,2,  34.7270,2,   -999.0,5,   -999.0,9,  -999.00,9,  -999.00,9,  -999.00,9, -999.000,9, -999.000,9, -999.000,9,   -999.0,9,   -999.0,9,    1.0232241
  09AR20011029,  SR03,    76,  1,     11,2,20011121,-60.8040, 139.9337, 4310,   2000.6,   1.1470,  34.7270,2,  34.7280,2,   -999.0,5,   -999.0,9,  -999.00,9,  -999.00,9,  -999.00,9, -999.000,9, -999.000,9, -999.000,9,   -999.0,9,   -999.0,9,   1.02321284
  09AR20011029,  SR03,    76,  1,    709,2,20011121,-60.8040, 139.9337, 4310,   2399.0,   0.8370,  34.7120,2,  34.7120,2,   -999.0,5,   -999.0,9,  -999.00,9,  -999.00,9,  -999.00,9, -999.000,9, -999.000,9, -999.000,9,   -999.0,9,   -999.0,9,  0.686620136
  09AR20011029,  SR03,    76,  1,     10,2,20011121,-60.8040, 139.9337, 4310,   2399.8,   0.8400,  34.7110,2,  34.7120,2,   -999.0,5,   -999.0,9,  -999.00,9,  -999.00,9,  -999.00,9, -999.000,9, -999.000,9, -999.000,9,   -999.0,9,   -999.0,9,  0.689499834
  09AR20011029,  SR03,    76,  1,      7,2,20011121,-60.8040, 139.9337, 4310,   2802.1,   0.5470,  34.6970,2,  34.6970,2,   -999.0,5,   -999.0,9,  -999.00,9,  -999.00,9,  -999.00,9, -999.000,9, -999.000,9, -999.000,9,   -999.0,9,   -999.0,9,   0.36851902
  09AR20011029,  SR03,    76,  1,      8,2,20011121,-60.8040, 139.9337, 4310,   2802.2,   0.5470,  34.6970,2,  34.6970,2,   -999.0,5,   -999.0,9,  -999.00,9,  -999.00,9,  -999.00,9, -999.000,9, -999.000,9, -999.000,9,   -999.0,9,   -999.0,9,  0.368510414
  09AR20011029,  SR03,    76,  1,      6,2,20011121,-60.8040, 139.9337, 4310,   3198.9,   0.3250,  34.6860,2,  34.6870,2,   -999.0,5,   -999.0,9,  -999.00,9,  -999.00,9,  -999.00,9, -999.000,9, -999.000,9, -999.000,9,   -999.0,9,   -999.0,9,  0.116508614
  09AR20011029,  SR03,    76,  1,      5,2,20011121,-60.8040, 139.9337, 4310,   3198.9,   0.3240,  34.6860,2,  34.6870,2,   -999.0,5,   -999.0,9,  -999.00,9,  -999.00,9,  -999.00,9, -999.000,9, -999.000,9, -999.000,9,   -999.0,9,   -999.0,9,  0.115532306
  09AR20011029,  SR03,    76,  1,      3,2,20011121,-60.8040, 139.9337, 4310,   3599.9,   0.1710,  34.6810,2,  34.6810,2,   -999.0,5,   -999.0,9,  -999.00,9,  -999.00,9,  -999.00,9, -999.000,9, -999.000,9, -999.000,9,   -999.0,9,   -999.0,9,-0.0708642228
  09AR20011029,  SR03,    76,  1,      4,2,20011121,-60.8040, 139.9337, 4310,   3600.0,   0.1710,  34.6810,2,  34.6810,2,   -999.0,5,   -999.0,9,  -999.00,9,  -999.00,9,  -999.00,9, -999.000,9, -999.000,9, -999.000,9,   -999.0,9,   -999.0,9,-0.0708737547
  09AR20011029,  SR03,    76,  1,      2,2,20011121,-60.8040, 139.9337, 4310,   4003.0,   0.0430,  34.6750,2,  34.6760,2,   -999.0,5,   -999.0,9,  -999.00,9,  -999.00,9,  -999.00,9, -999.000,9, -999.000,9, -999.000,9,   -999.0,9,   -999.0,9,  -0.23472821
  09AR20011029,  SR03,    76,  1,      1,2,20011121,-60.8040, 139.9337, 4310,   4465.8,  -0.2090,  34.6500,2,  34.6520,2,   -999.0,5,   -999.0,9,  -999.00,9,  -999.00,9,  -999.00,9, -999.000,9, -999.000,9, -999.000,9,   -999.0,9,   -999.0,9, -0.526481355
  09AR20011029,  SR03,    77,  1,     24,2,20011122,-61.3452, 139.8475, 4240,      9.9,  -0.4320,  33.9120,2,-999.0000,9,    419.1,3,   -999.0,9,  -999.00,9,  -999.00,9,  -999.00,9, -999.000,9, -999.000,9, -999.000,9,   -999.0,9,   -999.0,9, -0.432298196
  09AR20011029,  SR03,    77,  1,     23,2,20011122,-61.3452, 139.8475, 4240,      9.9,  -0.4320,  33.9120,2,-999.0000,9,    419.1,3,   -999.0,9,  -999.00,9,  -999.00,9,  -999.00,9, -999.000,9, -999.000,9, -999.000,9,   -999.0,9,   -999.0,9, -0.432298196
  09AR20011029,  SR03,    77,  1,     21,2,20011122,-61.3452, 139.8475, 4240,     10.0,  -0.4300,  33.9110,2,-999.0000,9,    419.1,3,   -999.0,9,  -999.00,9,  -999.00,9,  -999.00,9, -999.000,9, -999.000,9, -999.000,9,   -999.0,9,   -999.0,9, -0.430301371
  09AR20011029,  SR03,    77,  1,     19,2,20011122,-61.3452, 139.8475, 4240,     10.0,  -0.4260,  33.9110,2,-999.0000,9,    419.1,3,   -999.0,9,  -999.00,9,  -999.00,9,  -999.00,9, -999.000,9, -999.000,9, -999.000,9,   -999.0,9,   -999.0,9, -0.426301717
  09AR20011029,  SR03,    77,  1,     22,2,20011122,-61.3452, 139.8475, 4240,     10.1,  -0.4320,  33.9110,2,-999.0000,9,    419.1,3,   -999.0,9,  -999.00,9,  -999.00,9,  -999.00,9, -999.000,9, -999.000,9, -999.000,9,   2158.5,6,   2284.5,2,  -0.43230422
  09AR20011029,  SR03,    77,  1,     20,2,20011122,-61.3452, 139.8475, 4240,     10.1,  -0.4310,  33.9120,2,  33.9130,2,    419.1,3,    358.0,2,    29.00,2,    27.99,2,     1.73,2, -999.000,9, -999.000,9, -999.000,9,   -999.0,9,   -999.0,9, -0.431304346
  09AR20011029,  SR03,    77,  1,    218,2,20011122,-61.3452, 139.8475, 4240,     25.1,  -0.4360,  33.9120,2,  33.9130,2,    400.2,2,    358.2,2,    28.90,2,    27.97,2,     1.73,2, -999.000,9, -999.000,9, -999.000,9,   2158.2,2,   2285.8,6, -0.436758819
  09AR20011029,  SR03,    77,  1,     17,2,20011122,-61.3452, 139.8475, 4240,     25.2,  -0.4400,  33.9120,2,-999.0000,9,    400.2,2,   -999.0,9,  -999.00,9,  -999.00,9,  -999.00,9, -999.000,9, -999.000,9, -999.000,9,   -999.0,9,   -999.0,9, -0.440760948
  09AR20011029,  SR03,    77,  1,     16,2,20011122,-61.3452, 139.8475, 4240,     51.0,  -0.4410,  33.9130,2,  33.9140,2,    356.9,2,    357.7,2,    28.90,2,    27.98,2,     1.73,2, -999.000,9, -999.000,9, -999.000,9,   2158.7,2,   2286.9,2, -0.442552188
  09AR20011029,  SR03,    77,  1,    715,2,20011122,-61.3452, 139.8475, 4240,     51.2,  -0.4420,  33.9130,2,-999.0000,9,    355.5,2,   -999.0,9,  -999.00,9,  -999.00,9,  -999.00,9, -999.000,9, -999.000,9, -999.000,9,   -999.0,9,   -999.0,9, -0.443557833
  09AR20011029,  SR03,    77,  1,     13,2,20011122,-61.3452, 139.8475, 4240,     74.5,  -0.4310,  33.9220,3,-999.0000,9,    352.3,2,   -999.0,9,  -999.00,9,  -999.00,9,  -999.00,9, -999.000,9, -999.000,9, -999.000,9,   2159.7,2,   2286.3,2,         -999
  09AR20011029,  SR03,    77,  1,     14,2,20011122,-61.3452, 139.8475, 4240,     74.7,  -0.4350,  33.9200,2,  33.9190,2,    352.3,2,    356.4,2,    29.10,2,    28.08,2,     1.74,2, -999.000,9, -999.000,9, -999.000,9,   -999.0,9,   -999.0,9, -0.437294758
  09AR20011029,  SR03,    77,  1,     11,2,20011122,-61.3452, 139.8475, 4240,     98.6,  -0.2690,  34.0120,4,-999.0000,9,    343.0,2,   -999.0,9,  -999.00,9,  -999.00,9,  -999.00,9, -999.000,9, -999.000,9, -999.000,9,   2171.2,2,   2285.4,2,         -999
  09AR20011029,  SR03,    77,  1,     12,2,20011122,-61.3452, 139.8475, 4240,     99.5,  -0.3300,  33.9840,3,  33.9860,2,    342.2,2,    339.3,2,    32.60,2,    29.01,2,     1.86,2, -999.000,9, -999.000,9, -999.000,9,   -999.0,9,   -999.0,9, -0.333182218
  09AR20011029,  SR03,    77,  1,    210,2,20011122,-61.3452, 139.8475, 4240,    120.2,   1.0840,  34.2300,4,-999.0000,9,    304.1,2,   -999.0,9,  -999.00,9,  -999.00,9,  -999.00,9, -999.000,9, -999.000,9, -999.000,9,   -999.0,9,   -999.0,9,         -999
  09AR20011029,  SR03,    77,  1,    709,2,20011122,-61.3452, 139.8475, 4240,    130.3,   1.4350,  34.2980,4,  34.2860,2,    224.0,2,    226.8,2,    56.60,2,    34.17,2,     2.22,2, -999.000,9, -999.000,9, -999.000,9,   2224.4,2,   2306.5,2,   1.42878135
  09AR20011029,  SR03,    77,  1,      8,2,20011122,-61.3452, 139.8475, 4240,    140.6,   1.8850,  34.3650,4,  34.3520,2,    204.7,2,    205.8,2,    61.70,2,    34.96,2,     2.28,2, -999.000,9, -999.000,9, -999.000,9,   2235.0,2,   2310.7,2,   1.87773628
  09AR20011029,  SR03,    77,  1,      7,2,20011122,-61.3452, 139.8475, 4240,    151.0,   1.9750,  34.3870,3,  34.3860,2,    196.5,2,    197.3,2,    64.50,2,    35.21,2,     2.30,2, -999.000,9, -999.000,9, -999.000,9,   2239.0,2,   2314.1,2,   1.96706434
  09AR20011029,  SR03,    77,  1,      6,2,20011122,-61.3452, 139.8475, 4240,    175.1,   2.0540,  34.4230,2,  34.4240,2,    189.1,2,    189.7,2,    67.50,2,    35.37,2,     2.31,2, -999.000,9, -999.000,9, -999.000,9,   2244.5,2,   2316.8,2,   2.04463632
  09AR20011029,  SR03,    77,  1,      5,2,20011122,-61.3452, 139.8475, 4240,    199.5,   2.0880,  34.4540,3,  34.4520,2,    186.7,2,    185.5,2,    69.50,2,    35.41,2,     2.31,2, -999.000,9, -999.000,9, -999.000,9,   2245.7,2,   2319.4,2,   2.07722475
  09AR20011029,  SR03,    77,  1,      4,2,20011122,-61.3452, 139.8475, 4240,    225.7,   2.1310,  34.4830,2,  34.4840,2,    181.9,2,    181.6,2,    71.90,2,    35.32,2,     2.30,2, -999.000,9, -999.000,9, -999.000,9,   2249.7,2,   2322.1,2,   2.11866747
  09AR20011029,  SR03,    77,  1,      3,2,20011122,-61.3452, 139.8475, 4240,    250.6,   2.1450,  34.5070,2,  34.5080,2,    180.5,2,    179.4,2,    73.60,2,    35.15,2,     2.28,2, -999.000,9, -999.000,9, -999.000,9,   2250.9,2,   2323.6,2,    2.1312151
  09AR20011029,  SR03,    77,  1,      2,2,20011122,-61.3452, 139.8475, 4240,    299.1,   2.1660,  34.5420,2,  34.5440,2,    180.0,2,    177.3,2,    75.80,2,    34.93,2,     2.27,2, -999.000,9, -999.000,9, -999.000,9,   2252.6,2,   2327.6,6,   2.14935536
  09AR20011029,  SR03,    77,  1,      1,2,20011122,-61.3452, 139.8475, 4240,    349.7,   2.1850,  34.5780,2,  34.5780,2,    180.5,2,    176.3,2,    77.20,2,    34.51,2,     2.24,2, -999.000,9, -999.000,9, -999.000,9,   2253.4,6,   2332.1,2,   2.16531666