BOTTLE,20081126PRINUNIVRMK
EXPOCODE,SECT_ID,STNNBR,CASTNO,BTLNBR,BTLNBR_FLAG_W,DATE,LATITUDE,LONGITUDE,DEPTH,CTDPRS,CTDTMP,CTDSAL,CTDSAL_FLAG_W,SALNTY,SALNTY_FLAG_W,CTDOXY,CTDOXY_FLAG_W,OXYGEN,OXYGEN_FLAG_W,SILCAT,SILCAT_FLAG_W,NITRAT,NITRAT_FLAG_W,PHSPHT,PHSPHT_FLAG_W,CFC-11,CFC-11_FLAG_W,CFC-12,CFC-12_FLAG_W,CFC113,CFC113_FLAG_W,TCARBN,TCARBN_FLAG_W,ALKALI,ALKALI_FLAG_W,THETA
,,,,,,,,,METERS,DBARS,ITS-90,PSS-78,,PSS-78,,UMOL/KG,,UMOL/KG,,UMOL/KG,,UMOL/KG,,UMOL/KG,,PMOL/KG,,PMOL/KG,,PMOL/KG,,UMOL/KG,,UMOL/KG,,DEGC
  09AR20011029,  SR03,    72,  1,     24,2,20011119,-60.3375, 139.8432, 4342,     10.3,   0.3360,  33.8910,2,  33.8900,2,    419.1,3,    349.4,2,    22.00,2,    27.83,2,     1.75,2,    6.368,2,    3.285,2,    0.570,2,   2152.6,6,   2282.3,2,  0.335622312
  09AR20011029,  SR03,    72,  1,     23,2,20011119,-60.3375, 139.8432, 4342,     49.8,   0.2590,  33.8980,2,  33.8960,2,    355.8,2,    350.0,2,    22.40,2,    27.74,2,     1.77,2,    6.395,2,    3.314,2,    0.580,2,   2154.4,2,   2281.4,6,  0.257187982
  09AR20011029,  SR03,    72,  1,     22,2,20011119,-60.3375, 139.8432, 4342,    100.0,   0.0680,  33.9160,3,  33.9170,2,    341.1,2,    346.0,2,    25.10,2,    28.08,2,     1.80,2,    6.299,2,    3.233,2,    0.560,2,   2160.9,2,   2284.1,2, 0.0644740619
  09AR20011029,  SR03,    72,  1,     21,2,20011119,-60.3375, 139.8432, 4342,    150.3,   1.8940,  34.2620,2,  34.2620,2,    219.3,2,    224.9,2,    50.60,2,    34.20,2,     2.23,2,    2.796,2,    1.386,2,    0.220,2,   2220.8,2,   2303.1,2,   1.88623598
  09AR20011029,  SR03,    72,  1,     20,2,20011119,-60.3375, 139.8432, 4342,    200.4,   2.0890,  34.3600,2,  34.3580,2,    198.0,2,    202.1,2,    59.00,2,    35.10,2,     2.29,2,    1.964,2,    0.957,2,    0.150,2,   2234.7,2,   2314.3,2,   2.07820674
  09AR20011029,  SR03,    72,  1,     19,2,20011119,-60.3375, 139.8432, 4342,    299.2,   2.2060,  34.4820,2,  34.4810,2,    179.9,2,    182.2,2,    68.60,2,    35.32,2,     2.31,2,    1.117,2,    0.539,2,    0.080,2,   2249.5,2,   2322.7,2,   2.18928558
  09AR20011029,  SR03,    72,  1,    218,2,20011119,-60.3375, 139.8432, 4342,    400.1,   2.2170,  34.5500,2,  34.5480,2,    176.3,2,    177.5,2,    73.50,2,    34.96,2,     2.28,2,    0.765,2,    0.362,2,    0.050,2,   2254.0,2,   2327.5,2,   2.19422955
  09AR20011029,  SR03,    72,  1,     17,2,20011119,-60.3375, 139.8432, 4342,    499.8,   2.2270,  34.6070,2,  34.6060,2,    179.0,2,    177.5,2,    75.80,2,    34.23,2,     2.22,2,    0.504,2,    0.244,2,    0.040,2,   2254.3,2,   2332.4,2,   2.19805113
  09AR20011029,  SR03,    72,  1,     16,2,20011119,-60.3375, 139.8432, 4342,    599.6,   2.2240,  34.6460,2,  34.6450,2,    181.7,2,    179.6,2,    77.20,2,    33.45,2,     2.18,2,    0.365,2,    0.173,2,    0.020,2,   2251.8,2,   2334.8,2,   2.18875086
  09AR20011029,  SR03,    72,  1,    715,2,20011119,-60.3375, 139.8432, 4342,    700.7,   2.1820,  34.6750,2,  34.6740,2,    184.5,2,    182.2,2,    79.10,2,    32.90,2,     2.14,2,    0.284,2,    0.139,2,    0.030,2,   2251.8,2,   2337.7,2,   2.14042633
  09AR20011029,  SR03,    72,  1,     14,2,20011119,-60.3375, 139.8432, 4342,    851.2,   2.1030,  34.7090,2,  34.7090,2,    187.7,2,    186.8,2,    81.40,2,    32.23,2,     2.07,2,    0.210,6,    0.101,6,    0.010,6,   2249.7,2,   2340.8,2,   2.05193361
  09AR20011029,  SR03,    72,  1,     13,2,20011119,-60.3375, 139.8432, 4342,    999.4,   2.0050,  34.7300,2,  34.7300,2,    193.8,2,    191.8,2,    83.60,2,    31.50,2,     2.04,2,    0.171,2,    0.083,2,    0.010,2,   2248.4,2,   2342.8,6,   1.94457604
  09AR20011029,  SR03,    72,  1,     12,2,20011119,-60.3375, 139.8432, 4342,   1199.1,   1.8620,  34.7440,2,  34.7440,2,    199.0,2,    197.9,2,    87.50,2,    30.96,2,     2.01,2,    0.135,6,    0.064,6,    0.010,6,   2247.9,6,   2347.0,2,   1.78887994
  09AR20011029,  SR03,    72,  1,     11,2,20011119,-60.3375, 139.8432, 4342,   1499.5,   1.6120,  34.7450,2,  34.7460,2,    201.0,2,    202.1,2,    87.30,3,    31.02,2,     2.00,2,    0.107,2,    0.053,2,    0.010,2,   2250.0,2,   2350.6,2,   1.51984287
  09AR20011029,  SR03,    72,  1,     10,2,20011119,-60.3375, 139.8432, 4342,   1799.3,   1.3410,  34.7370,2,  34.7370,2,    205.1,2,    205.7,2,   103.00,2,    31.45,2,     2.04,2,    0.089,2,    0.043,2,    0.010,2,   2253.9,2,   2354.5,2,   1.22987187
  09AR20011029,  SR03,    72,  1,    709,2,20011119,-60.3375, 139.8432, 4342,   2100.5,   1.1030,  34.7250,2,-999.0000,9,    209.0,2,   -999.0,9,  -999.00,9,  -999.00,9,  -999.00,9, -999.000,9, -999.000,9, -999.000,9,   -999.0,9,   -999.0,9,  0.972060531
  09AR20011029,  SR03,    72,  1,      8,2,20011119,-60.3375, 139.8432, 4342,   2401.6,   0.8520,  34.7120,2,-999.0000,9,    210.1,2,   -999.0,9,  -999.00,9,  -999.00,9,  -999.00,9, -999.000,9, -999.000,9, -999.000,9,   -999.0,9,   -999.0,9,   0.70113317
  09AR20011029,  SR03,    72,  1,      7,2,20011119,-60.3375, 139.8432, 4342,   2700.0,   0.6340,  34.7000,2,  34.7010,2,    216.1,2,    215.5,2,   122.40,2,    32.39,2,     2.12,2,    0.176,2,    0.086,2,    0.010,2,   2258.5,2,   2357.0,2,  0.462439309
  09AR20011029,  SR03,    72,  1,      6,2,20011119,-60.3375, 139.8432, 4342,   2998.3,   0.4460,  34.6910,2,  34.6930,2,    218.5,2,    220.0,2,   126.20,2,    32.72,2,     2.12,2,    0.235,2,    0.113,2,    0.010,2,   2260.2,2,   2356.0,2,  0.252623999
  09AR20011029,  SR03,    72,  1,      5,2,20011119,-60.3375, 139.8432, 4342,   3299.3,   0.3030,  34.6850,2,  34.6860,2,    224.1,2,    224.0,2,   129.20,2,    32.87,2,     2.14,2,    0.320,2,    0.155,2,    0.010,2,   2258.7,2,   2355.5,2,   0.08589177
  09AR20011029,  SR03,    72,  1,      4,2,20011119,-60.3375, 139.8432, 4342,   3699.7,   0.1590,  34.6790,2,  34.6810,2,    227.4,2,    229.2,2,   132.10,2,    32.96,2,     2.14,2,    0.456,2,    0.220,2,    0.020,2,   2259.4,2,   2355.2,2,-0.0921255327
  09AR20011029,  SR03,    72,  1,      3,2,20011119,-60.3375, 139.8432, 4342,   4099.5,   0.0300,  34.6740,2,  34.6750,2,    231.9,2,    235.0,2,   130.10,2,    32.53,2,     2.13,2,    0.879,2,    0.421,2,    0.050,2,   2255.9,2,   2354.8,2, -0.257078643
  09AR20011029,  SR03,    72,  1,      2,2,20011119,-60.3375, 139.8432, 4342,   4353.6,  -0.0580,  34.6660,2,  34.6700,2,    236.4,2,    239.3,2,   123.90,2,    32.56,2,     2.12,2, -999.000,9, -999.000,9, -999.000,9,   2254.9,2,   2352.4,6, -0.368567999
  09AR20011029,  SR03,    72,  1,      1,2,20011119,-60.3375, 139.8432, 4342,   4500.1,  -0.1030,  34.6620,2,  34.6650,2,   -999.0,5,   -999.0,9,   133.70,2,    32.68,2,     2.12,2,    1.722,2,    0.827,2,    0.120,2,   2256.5,6,   2352.2,2, -0.427558818
  09AR20011029,  SR03,    73,  1,     24,2,20011120,-60.8517, 139.8622, 4302,      5.1,  -0.0740,  33.9380,2,  33.9410,2,   -999.0,5,   -999.0,9,    26.70,2,    28.54,2,     1.77,2, -999.000,9, -999.000,9, -999.000,9,   -999.0,9,   -999.0,9, -0.074169376
  09AR20011029,  SR03,    73,  1,     23,2,20011120,-60.8517, 139.8622, 4302,      5.1,  -0.0740,  33.9390,2,-999.0000,9,   -999.0,5,   -999.0,9,  -999.00,9,  -999.00,9,  -999.00,9, -999.000,9, -999.000,9, -999.000,9,   -999.0,9,   -999.0,9,-0.0741693567
  09AR20011029,  SR03,    73,  1,     22,2,20011120,-60.8517, 139.8622, 4302,      5.2,  -0.0740,  33.9380,2,-999.0000,9,   -999.0,5,   -999.0,9,  -999.00,9,  -999.00,9,  -999.00,9, -999.000,9, -999.000,9, -999.000,9,   -999.0,9,   -999.0,9,-0.0741726724
  09AR20011029,  SR03,    73,  1,     21,2,20011120,-60.8517, 139.8622, 4302,      5.2,  -0.0750,  33.9380,2,-999.0000,9,   -999.0,5,   -999.0,9,  -999.00,9,  -999.00,9,  -999.00,9, -999.000,9, -999.000,9, -999.000,9,   -999.0,9,   -999.0,9,-0.0751726278
  09AR20011029,  SR03,    73,  1,     20,2,20011120,-60.8517, 139.8622, 4302,     25.6,  -0.0730,  33.9380,2,-999.0000,9,   -999.0,5,   -999.0,9,    26.80,2,    28.24,2,     1.77,2, -999.000,9, -999.000,9, -999.000,9,   -999.0,9,   -999.0,9,-0.0738551597
  09AR20011029,  SR03,    73,  1,     19,2,20011120,-60.8517, 139.8622, 4302,     50.1,  -0.0900,  33.9390,2,-999.0000,9,   -999.0,5,   -999.0,9,    26.90,2,    28.54,2,     1.80,2, -999.000,9, -999.000,9, -999.000,9,   -999.0,9,   -999.0,9,-0.0916777885
  09AR20011029,  SR03,    73,  1,    218,2,20011120,-60.8517, 139.8622, 4302,     50.2,  -0.0900,  33.9380,2,-999.0000,9,   -999.0,5,   -999.0,9,  -999.00,9,  -999.00,9,  -999.00,9, -999.000,9, -999.000,9, -999.000,9,   -999.0,9,   -999.0,9, -0.091681089
  09AR20011029,  SR03,    73,  1,     17,2,20011120,-60.8517, 139.8622, 4302,     70.2,  -0.0910,  33.9400,2,-999.0000,9,   -999.0,5,   -999.0,9,    27.00,2,    28.39,2,     1.80,2, -999.000,9, -999.000,9, -999.000,9,   -999.0,9,   -999.0,9, -0.093363561
  09AR20011029,  SR03,    73,  1,     16,2,20011120,-60.8517, 139.8622, 4302,     91.3,  -0.0860,  33.9470,3,-999.0000,9,   -999.0,5,   -999.0,9,    27.50,2,    28.73,2,     1.81,2, -999.000,9, -999.000,9, -999.000,9,   -999.0,9,   -999.0,9,         -999
  09AR20011029,  SR03,    73,  1,    715,2,20011120,-60.8517, 139.8622, 4302,    100.1,   0.1310,  33.9830,4,  33.9810,2,   -999.0,5,   -999.0,9,    30.00,2,    29.31,2,     1.86,2, -999.000,9, -999.000,9, -999.000,9,   -999.0,9,   -999.0,9,  0.127404657
  09AR20011029,  SR03,    73,  1,     14,2,20011120,-60.8517, 139.8622, 4302,    149.6,   2.0390,  34.3410,2,-999.0000,9,   -999.0,5,   -999.0,9,    58.00,2,    34.74,2,     2.28,2, -999.000,9, -999.000,9, -999.000,9,   -999.0,9,   -999.0,9,   2.03107298
  09AR20011029,  SR03,    73,  1,     13,2,20011120,-60.8517, 139.8622, 4302,    200.8,   2.1710,  34.4310,2,-999.0000,9,   -999.0,5,   -999.0,9,    65.50,2,    35.40,2,     2.31,2, -999.000,9, -999.000,9, -999.000,9,   -999.0,9,   -999.0,9,   2.16002327
  09AR20011029,  SR03,    73,  1,     12,2,20011120,-60.8517, 139.8622, 4302,    249.5,   2.1880,  34.4860,2,-999.0000,9,   -999.0,5,   -999.0,9,    69.80,2,    35.51,2,     2.31,2, -999.000,9, -999.000,9, -999.000,9,   -999.0,9,   -999.0,9,   2.17420003
  09AR20011029,  SR03,    73,  1,     11,2,20011120,-60.8517, 139.8622, 4302,    300.9,   2.1660,  34.5140,2,  34.5150,2,   -999.0,5,   -999.0,9,    72.20,2,    35.13,2,     2.29,2, -999.000,9, -999.000,9, -999.000,9,   -999.0,9,   -999.0,9,   2.14926623
  09AR20011029,  SR03,    73,  1,     10,2,20011120,-60.8517, 139.8622, 4302,    350.4,   2.1880,  34.5580,3,-999.0000,9,   -999.0,5,   -999.0,9,    74.40,2,    34.96,2,     2.27,2, -999.000,9, -999.000,9, -999.000,9,   -999.0,9,   -999.0,9,         -999
  09AR20011029,  SR03,    73,  1,    709,2,20011120,-60.8517, 139.8622, 4302,    399.4,   2.1890,  34.5890,2,-999.0000,9,   -999.0,5,   -999.0,9,    76.00,2,    34.38,2,     2.25,2, -999.000,9, -999.000,9, -999.000,9,   -999.0,9,   -999.0,9,   2.16633336
  09AR20011029,  SR03,    73,  1,      8,2,20011120,-60.8517, 139.8622, 4302,    448.9,   2.2090,  34.6180,2,-999.0000,9,   -999.0,5,   -999.0,9,    77.10,2,    34.26,2,     2.22,2, -999.000,9, -999.000,9, -999.000,9,   -999.0,9,   -999.0,9,   2.18324401
  09AR20011029,  SR03,    73,  1,      7,2,20011120,-60.8517, 139.8622, 4302,    500.9,   2.2190,  34.6370,2,  34.6380,2,   -999.0,5,   -999.0,9,    77.00,2,    33.59,2,     2.20,2, -999.000,9, -999.000,9, -999.000,9,   -999.0,9,   -999.0,9,   2.18998687
  09AR20011029,  SR03,    73,  1,      6,2,20011120,-60.8517, 139.8622, 4302,    599.9,   2.1710,  34.6730,2,-999.0000,9,   -999.0,5,   -999.0,9,    79.50,2,    33.12,2,     2.14,2, -999.000,9, -999.000,9, -999.000,9,   -999.0,9,   -999.0,9,    2.1359578
  09AR20011029,  SR03,    73,  1,      5,2,20011120,-60.8517, 139.8622, 4302,    801.8,   2.0620,  34.7160,2,  34.7170,2,   -999.0,5,   -999.0,9,    82.30,2,    31.88,2,     2.08,2, -999.000,9, -999.000,9, -999.000,9,   -999.0,9,   -999.0,9,   2.01447236
  09AR20011029,  SR03,    73,  1,      1,2,20011120,-60.8517, 139.8622, 4302,    999.4,   1.9590,  34.7370,2,-999.0000,9,   -999.0,5,   -999.0,9,  -999.00,9,  -999.00,9,  -999.00,9, -999.000,9, -999.000,9, -999.000,9,   -999.0,9,   -999.0,9,   1.89892836
  09AR20011029,  SR03,    73,  1,      2,2,20011120,-60.8517, 139.8622, 4302,    999.6,   1.9570,  34.7360,2,-999.0000,9,   -999.0,5,   -999.0,9,  -999.00,9,  -999.00,9,  -999.00,9, -999.000,9, -999.000,9, -999.000,9,   -999.0,9,   -999.0,9,   1.89693231
  09AR20011029,  SR03,    73,  1,      4,2,20011120,-60.8517, 139.8622, 4302,   1000.0,   1.9570,  34.7360,2,  34.7380,2,   -999.0,5,   -999.0,9,    84.70,2,    31.39,2,     2.03,2, -999.000,9, -999.000,9, -999.000,9,   -999.0,9,   -999.0,9,   1.89690151
  09AR20011029,  SR03,    73,  1,      3,2,20011120,-60.8517, 139.8622, 4302,   1000.0,   1.9570,  34.7360,2,-999.0000,9,   -999.0,5,   -999.0,9,  -999.00,9,  -999.00,9,  -999.00,9, -999.000,9, -999.000,9, -999.000,9,   -999.0,9,   -999.0,9,   1.89690501
  09AR20011029,  SR03,    74,  1,     24,2,20011121,-60.8478, 139.8670, 4305,      5.7,  -0.0540,  33.9390,2,-999.0000,9,   -999.0,5,   -999.0,9,    27.20,2,    28.54,2,     1.80,2, -999.000,9, -999.000,9, -999.000,9,   -999.0,9,   -999.0,9,-0.0541902907
  09AR20011029,  SR03,    74,  1,     23,2,20011121,-60.8478, 139.8670, 4305,      5.7,  -0.0550,  33.9400,2,  33.9410,2,   -999.0,5,   -999.0,9,  -999.00,9,  -999.00,9,  -999.00,9, -999.000,9, -999.000,9, -999.000,9,   -999.0,9,   -999.0,9,-0.0551902634
  09AR20011029,  SR03,    74,  1,     22,2,20011121,-60.8478, 139.8670, 4305,     21.3,  -0.0540,  33.9410,2,  33.9410,2,   -999.0,5,   -999.0,9,    27.10,2,    28.30,2,     1.80,2, -999.000,9, -999.000,9, -999.000,9,   -999.0,9,   -999.0,9,-0.0547142574
  09AR20011029,  SR03,    74,  1,     21,2,20011121,-60.8478, 139.8670, 4305,     21.3,  -0.0550,  33.9410,2,-999.0000,9,   -999.0,5,   -999.0,9,  -999.00,9,  -999.00,9,  -999.00,9, -999.000,9, -999.000,9, -999.000,9,   -999.0,9,   -999.0,9,-0.0557140748
  09AR20011029,  SR03,    74,  1,     20,2,20011121,-60.8478, 139.8670, 4305,     40.3,  -0.0660,  33.9380,2,  33.9410,2,   -999.0,5,   -999.0,9,    27.20,2,    28.30,2,     1.79,2, -999.000,9, -999.000,9, -999.000,9,   -999.0,9,   -999.0,9,-0.0673543629
  09AR20011029,  SR03,    74,  1,     19,2,20011121,-60.8478, 139.8670, 4305,     60.7,  -0.0760,  33.9390,2,  33.9420,2,   -999.0,5,   -999.0,9,  -999.00,9,  -999.00,9,  -999.00,9, -999.000,9, -999.000,9, -999.000,9,   -999.0,9,   -999.0,9,  -0.07804637
  09AR20011029,  SR03,    74,  1,    218,2,20011121,-60.8478, 139.8670, 4305,     60.9,  -0.0760,  33.9390,2,-999.0000,9,   -999.0,5,   -999.0,9,    27.20,2,    28.42,2,     1.80,2, -999.000,9, -999.000,9, -999.000,9,   -999.0,9,   -999.0,9,  -0.07805288
  09AR20011029,  SR03,    74,  1,     16,2,20011121,-60.8478, 139.8670, 4305,     76.0,  -0.0740,  33.9420,2,-999.0000,9,   -999.0,5,   -999.0,9,    27.30,2,    28.48,2,     1.85,2, -999.000,9, -999.000,9, -999.000,9,   -999.0,9,   -999.0,9,-0.0765742747
  09AR20011029,  SR03,    74,  1,     17,2,20011121,-60.8478, 139.8670, 4305,     76.1,  -0.0730,  33.9400,2,  33.9430,2,   -999.0,5,   -999.0,9,  -999.00,9,  -999.00,9,  -999.00,9, -999.000,9, -999.000,9, -999.000,9,   -999.0,9,   -999.0,9,-0.0755785273
  09AR20011029,  SR03,    74,  1,     13,2,20011121,-60.8478, 139.8670, 4305,     85.4,  -0.0640,  33.9420,2,-999.0000,9,   -999.0,5,   -999.0,9,  -999.00,9,  -999.00,9,  -999.00,9, -999.000,9, -999.000,9, -999.000,9,   -999.0,9,   -999.0,9, -0.066907422
  09AR20011029,  SR03,    74,  1,     12,2,20011121,-60.8478, 139.8670, 4305,     85.4,  -0.0630,  33.9420,2,-999.0000,9,   -999.0,5,   -999.0,9,  -999.00,9,  -999.00,9,  -999.00,9, -999.000,9, -999.000,9, -999.000,9,   -999.0,9,   -999.0,9,-0.0659081519
  09AR20011029,  SR03,    74,  1,     14,2,20011121,-60.8478, 139.8670, 4305,     85.5,  -0.0640,  33.9420,2,-999.0000,9,   -999.0,5,   -999.0,9,    27.40,2,    28.48,2,     1.82,2, -999.000,9, -999.000,9, -999.000,9,   -999.0,9,   -999.0,9,-0.0669109057
  09AR20011029,  SR03,    74,  1,     11,2,20011121,-60.8478, 139.8670, 4305,     85.5,  -0.0620,  33.9430,2,-999.0000,9,   -999.0,5,   -999.0,9,  -999.00,9,  -999.00,9,  -999.00,9, -999.000,9, -999.000,9, -999.000,9,   -999.0,9,   -999.0,9,-0.0649125289
  09AR20011029,  SR03,    74,  1,    715,2,20011121,-60.8478, 139.8670, 4305,     85.7,  -0.0630,  33.9440,2,  33.9450,2,   -999.0,5,   -999.0,9,  -999.00,9,  -999.00,9,  -999.00,9, -999.000,9, -999.000,9, -999.000,9,   -999.0,9,   -999.0,9,-0.0659190924
  09AR20011029,  SR03,    74,  1,     10,2,20011121,-60.8478, 139.8670, 4305,    100.7,   0.6620,  34.0710,4,-999.0000,9,   -999.0,5,   -999.0,9,    36.80,2,    30.87,2,     2.00,2, -999.000,9, -999.000,9, -999.000,9,   -999.0,9,   -999.0,9,         -999
  09AR20011029,  SR03,    74,  1,    709,2,20011121,-60.8478, 139.8670, 4305,    100.8,   0.7460,  34.0880,4,  34.0620,2,   -999.0,5,   -999.0,9,  -999.00,9,  -999.00,9,  -999.00,9, -999.000,9, -999.000,9, -999.000,9,   -999.0,9,   -999.0,9,  0.741838505
  09AR20011029,  SR03,    74,  1,      8,2,20011121,-60.8478, 139.8670, 4305,    111.4,   1.0590,  34.1580,4,  34.1580,2,   -999.0,5,   -999.0,9,    44.80,2,    32.56,2,     2.13,2, -999.000,9, -999.000,9, -999.000,9,   -999.0,9,   -999.0,9,   1.05407761
  09AR20011029,  SR03,    74,  1,      6,2,20011121,-60.8478, 139.8670, 4305,    125.6,   1.8640,  34.2760,3,  34.2680,2,   -999.0,5,   -999.0,9,  -999.00,9,  -999.00,9,  -999.00,9, -999.000,9, -999.000,9, -999.000,9,   -999.0,9,   -999.0,9,   1.85756812
  09AR20011029,  SR03,    74,  1,      7,2,20011121,-60.8478, 139.8670, 4305,    125.8,   1.8460,  34.2730,3,-999.0000,9,   -999.0,5,   -999.0,9,    52.50,2,    34.30,2,     2.24,2, -999.000,9, -999.000,9, -999.000,9,   -999.0,9,   -999.0,9,         -999
  09AR20011029,  SR03,    74,  1,      5,2,20011121,-60.8478, 139.8670, 4305,    150.7,   2.0380,  34.3440,2,  34.3420,2,   -999.0,5,   -999.0,9,    58.80,2,    35.15,2,     2.29,2, -999.000,9, -999.000,9, -999.000,9,   -999.0,9,   -999.0,9,   2.03001425
  09AR20011029,  SR03,    74,  1,      4,2,20011121,-60.8478, 139.8670, 4305,    176.2,   2.1170,  34.3920,2,  34.3910,2,   -999.0,5,   -999.0,9,    63.30,2,    35.50,2,     2.31,2, -999.000,9, -999.000,9, -999.000,9,   -999.0,9,   -999.0,9,   2.10749513
  09AR20011029,  SR03,    74,  1,      3,2,20011121,-60.8478, 139.8670, 4305,    201.0,   2.1620,  34.4230,2,  34.4230,2,   -999.0,5,   -999.0,9,    65.20,2,    35.19,2,     2.32,2, -999.000,9, -999.000,9, -999.000,9,   -999.0,9,   -999.0,9,    2.1510297
  09AR20011029,  SR03,    74,  1,      2,2,20011121,-60.8478, 139.8670, 4305,    301.5,   2.1690,  34.5110,2,  34.5110,2,   -999.0,5,   -999.0,9,    72.80,2,    35.43,2,     2.30,2, -999.000,9, -999.000,9, -999.000,9,   -999.0,9,   -999.0,9,   2.15222613
  09AR20011029,  SR03,    74,  1,      1,2,20011121,-60.8478, 139.8670, 4305,    400.1,   2.1960,  34.5810,2,  34.5820,2,   -999.0,5,   -999.0,9,    76.50,2,    34.49,2,     2.27,2, -999.000,9, -999.000,9, -999.000,9,   -999.0,9,   -999.0,9,   2.17327356