BOTTLE,20081126PRINUNIVRMK
EXPOCODE,SECT_ID,STNNBR,CASTNO,BTLNBR,BTLNBR_FLAG_W,DATE,LATITUDE,LONGITUDE,DEPTH,CTDPRS,CTDTMP,CTDSAL,CTDSAL_FLAG_W,SALNTY,SALNTY_FLAG_W,CTDOXY,CTDOXY_FLAG_W,OXYGEN,OXYGEN_FLAG_W,SILCAT,SILCAT_FLAG_W,NITRAT,NITRAT_FLAG_W,PHSPHT,PHSPHT_FLAG_W,CFC-11,CFC-11_FLAG_W,CFC-12,CFC-12_FLAG_W,CFC113,CFC113_FLAG_W,TCARBN,TCARBN_FLAG_W,ALKALI,ALKALI_FLAG_W,THETA
,,,,,,,,,METERS,DBARS,ITS-90,PSS-78,,PSS-78,,UMOL/KG,,UMOL/KG,,UMOL/KG,,UMOL/KG,,UMOL/KG,,PMOL/KG,,PMOL/KG,,PMOL/KG,,UMOL/KG,,UMOL/KG,,DEGC
  09AR20011029,  SR03,    81,  1,     24,2,20011123,-62.3588, 139.8247, 3859,      4.6,  -1.3660,  33.7890,2,  33.7890,2,    483.6,3,    365.5,2,    37.00,2,    27.77,2,     1.76,2,    6.925,2,    3.506,2,    0.630,2,   2153.7,6,   2281.4,2,  -1.36609987
  09AR20011029,  SR03,    81,  1,     23,2,20011123,-62.3588, 139.8247, 3859,      4.6,  -1.3660,  33.7890,2,-999.0000,9,    483.6,3,   -999.0,9,  -999.00,9,  -999.00,9,  -999.00,9, -999.000,9, -999.000,9, -999.000,9,   -999.0,9,   -999.0,9,  -1.36609987
  09AR20011029,  SR03,    81,  1,     21,2,20011123,-62.3588, 139.8247, 3859,     20.0,  -1.3710,  33.8270,2,-999.0000,9,    365.5,3,   -999.0,9,  -999.00,9,  -999.00,9,  -999.00,9, -999.000,9, -999.000,9, -999.000,9,   2156.8,2,   2282.7,6,  -1.37143783
  09AR20011029,  SR03,    81,  1,     22,2,20011123,-62.3588, 139.8247, 3859,     20.4,  -1.3720,  33.8270,2,  33.8250,2,    365.5,3,    364.6,2,    37.20,2,    27.83,2,     1.79,2, -999.000,9, -999.000,9, -999.000,9,   -999.0,9,   -999.0,9,   -1.3724464
  09AR20011029,  SR03,    81,  1,     19,2,20011123,-62.3588, 139.8247, 3859,     39.9,  -1.3660,  33.8270,2,-999.0000,9,    365.0,2,   -999.0,9,  -999.00,9,  -999.00,9,  -999.00,9, -999.000,9, -999.000,9, -999.000,9,   2157.4,2,   2283.5,2,  -1.36688299
  09AR20011029,  SR03,    81,  1,     20,2,20011123,-62.3588, 139.8247, 3859,     40.2,  -1.3570,  33.8270,2,  33.8260,2,    365.0,2,    364.6,2,    37.60,2,    27.84,2,     1.79,2,    6.904,2,    3.506,2,    0.630,2,   -999.0,9,   -999.0,9,  -1.35789284
  09AR20011029,  SR03,    81,  1,     17,2,20011123,-62.3588, 139.8247, 3859,     59.2,  -1.3630,  33.8380,2,-999.0000,9,    362.2,2,   -999.0,9,  -999.00,9,  -999.00,9,  -999.00,9, -999.000,9, -999.000,9, -999.000,9,   2158.4,2,   2283.5,2,  -1.36432412
  09AR20011029,  SR03,    81,  1,    218,2,20011123,-62.3588, 139.8247, 3859,     59.3,  -1.3600,  33.8340,2,  33.8330,2,    362.2,2,    365.0,2,    37.20,2,    27.87,2,     1.80,2, -999.000,9, -999.000,9, -999.000,9,   -999.0,9,   -999.0,9,  -1.36132739
  09AR20011029,  SR03,    81,  1,     16,2,20011123,-62.3588, 139.8247, 3859,     69.8,  -1.3380,  34.0130,3,  33.9940,2,    350.1,2,    351.3,2,    42.50,2,    29.12,2,     1.95,2, -999.000,9, -999.000,9, -999.000,9,   2177.7,2,   2294.3,2,  -1.33960487
  09AR20011029,  SR03,    81,  1,    715,2,20011123,-62.3588, 139.8247, 3859,     69.8,  -1.3370,  34.0050,2,-999.0000,9,    350.1,2,   -999.0,9,  -999.00,9,  -999.00,9,  -999.00,9, -999.000,9, -999.000,9, -999.000,9,   -999.0,9,   -999.0,9,  -1.33860697
  09AR20011029,  SR03,    81,  1,     14,2,20011123,-62.3588, 139.8247, 3859,     79.3,  -0.9110,  34.1250,4,  34.1530,2,    309.3,2,    308.6,2,    52.00,2,    31.40,2,     2.11,2,    5.198,2,    2.656,2,    0.470,2,   2202.2,2,   2303.0,2, -0.913149336
  09AR20011029,  SR03,    81,  1,     13,2,20011123,-62.3588, 139.8247, 3859,     79.6,  -0.5600,  34.1810,4,-999.0000,9,    309.3,2,   -999.0,9,  -999.00,9,  -999.00,9,  -999.00,9, -999.000,9, -999.000,9, -999.000,9,   -999.0,9,   -999.0,9,         -999
  09AR20011029,  SR03,    81,  1,     12,2,20011123,-62.3588, 139.8247, 3859,     89.2,   1.0490,  34.3700,4,  34.3740,2,    236.3,2,    222.0,2,    64.40,2,    34.51,2,     2.30,2, -999.000,9, -999.000,9, -999.000,9,   2236.0,2,   2315.9,2,   1.04504803
  09AR20011029,  SR03,    81,  1,     11,2,20011123,-62.3588, 139.8247, 3859,     89.2,   1.3840,  34.4080,4,-999.0000,9,    236.3,2,   -999.0,9,  -999.00,9,  -999.00,9,  -999.00,9, -999.000,9, -999.000,9, -999.000,9,   -999.0,9,   -999.0,9,         -999
  09AR20011029,  SR03,    81,  1,    709,2,20011123,-62.3588, 139.8247, 3859,     99.5,   1.8730,  34.4810,4,-999.0000,9,    163.0,2,   -999.0,9,  -999.00,9,  -999.00,9,  -999.00,9, -999.000,9, -999.000,9, -999.000,9,   2250.7,2,   2321.6,2,         -999
  09AR20011029,  SR03,    81,  1,    310,2,20011123,-62.3588, 139.8247, 3859,     99.6,   1.8230,  34.4740,4,  34.4650,2,    163.0,2,    189.9,2,    70.70,2,    35.54,2,     2.36,2,    1.482,2,    0.721,2,    0.120,2,   -999.0,9,   -999.0,9,   1.81791997
  09AR20011029,  SR03,    81,  1,      7,2,20011123,-62.3588, 139.8247, 3859,    119.9,   1.9860,  34.5280,2,-999.0000,9,    177.8,2,   -999.0,9,  -999.00,9,  -999.00,9,  -999.00,9, -999.000,9, -999.000,9, -999.000,9,   2254.6,2,   2326.4,2,   1.97968887
  09AR20011029,  SR03,    81,  1,      8,2,20011123,-62.3588, 139.8247, 3859,    120.2,   1.9870,  34.5280,2,  34.5270,2,    177.8,2,    180.3,2,    74.30,2,    35.43,2,     2.34,2,    1.035,2,    0.495,2,    0.080,2,   -999.0,9,   -999.0,9,     1.980672
  09AR20011029,  SR03,    81,  1,      6,2,20011123,-62.3588, 139.8247, 3859,    151.3,   2.0010,  34.5590,2,  34.5590,2,    178.8,2,    178.5,2,    75.60,2,    35.02,2,     2.31,2,    0.867,2,    0.413,2,    0.070,2,   2255.5,2,   2329.4,2,    1.9929687
  09AR20011029,  SR03,    81,  1,      5,2,20011123,-62.3588, 139.8247, 3859,    176.1,   2.0110,  34.5890,2,  34.5860,2,    179.4,2,    177.8,2,    77.90,2,    34.83,2,     2.31,2,    0.746,2,    0.356,2,    0.060,2,   2256.6,2,   2331.7,2,   2.00159232
  09AR20011029,  SR03,    81,  1,      4,2,20011123,-62.3588, 139.8247, 3859,    224.1,   2.0210,  34.6190,2,  34.6180,2,    179.1,2,    177.6,2,    79.70,2,    34.52,2,     2.28,2,    0.601,2,    0.284,2,    0.050,2,   2256.9,2,   2333.1,2,   2.00890601
  09AR20011029,  SR03,    81,  1,      3,2,20011123,-62.3588, 139.8247, 3859,    249.6,   2.1050,  34.6410,2,  34.6390,2,    178.1,2,    178.4,2,    79.50,2,    34.03,2,     2.26,2, -999.000,9, -999.000,9, -999.000,9,   2256.1,2,   2334.7,2,   2.09129535
  09AR20011029,  SR03,    81,  1,      2,2,20011123,-62.3588, 139.8247, 3859,    299.5,   1.9480,  34.6480,2,  34.6500,2,    181.7,2,    181.1,2,    81.40,2,    33.80,2,     2.25,2, -999.000,9, -999.000,9, -999.000,9,   2256.4,2,   2336.1,6,   1.93180845
  09AR20011029,  SR03,    81,  1,      1,2,20011123,-62.3588, 139.8247, 3859,    350.6,   1.9420,  34.6680,2,  34.6670,2,    180.3,2,    181.6,2,    82.70,2,    33.64,2,     2.23,2, -999.000,9, -999.000,9, -999.000,9,   2255.7,6,   2336.6,2,   1.92290166
  09AR20011029,  SR03,    82,  1,     24,2,20011124,-62.8387, 139.8595, 3162,      4.8,  -1.5010,  33.7920,2,  33.7920,2,    511.6,3,    366.6,2,    35.90,2,    27.11,2,     1.68,2,    6.817,2,    3.506,2,    0.620,2,   2150.9,6,   2280.8,2,  -1.50109856
  09AR20011029,  SR03,    82,  1,     23,2,20011124,-62.8387, 139.8595, 3162,     50.2,  -1.4880,  33.8340,2,  33.8330,2,    362.4,2,    363.3,2,    37.60,2,    27.53,2,     1.72,2,    6.695,2,    3.431,2,    0.610,2,   2155.1,2,   2282.6,6,  -1.48906297
  09AR20011029,  SR03,    82,  1,     22,2,20011124,-62.8387, 139.8595, 3162,     99.3,  -1.1100,  34.1520,2,  34.1640,2,    334.8,2,    313.8,2,    53.10,2,    30.77,2,     2.02,2,    5.271,2,    2.702,2,    0.490,2,   2199.8,2,   2304.3,2,  -1.11254135
  09AR20011029,  SR03,    82,  1,     21,2,20011124,-62.8387, 139.8595, 3162,    150.0,   0.4520,  34.4260,2,  34.4260,2,    270.6,2,    236.7,2,    70.10,2,    33.37,2,     2.18,2,    2.762,2,    1.405,2,    0.250,2,   2235.6,2,   2319.2,2,   0.44601116
  09AR20011029,  SR03,    82,  1,     20,2,20011124,-62.8387, 139.8595, 3162,    200.6,   1.3670,  34.5520,2,  34.5520,2,    220.2,2,    197.8,2,    78.40,2,    33.99,2,     2.22,2,    1.427,2,    0.711,2,    0.120,2,   2249.1,2,   2329.5,2,    1.3573198
  09AR20011029,  SR03,    82,  1,     19,2,20011124,-62.8387, 139.8595, 3162,    250.8,   0.7550,  34.5460,3,  34.5420,2,    239.4,2,    222.9,2,    77.60,2,    32.76,2,     2.13,2, -999.000,9, -999.000,9, -999.000,9,   2242.2,2,   2329.2,2,  0.744068688
  09AR20011029,  SR03,    82,  1,    218,2,20011124,-62.8387, 139.8595, 3162,    299.9,   0.1950,  34.5280,4,  34.5280,2,    240.9,2,    241.3,2,    77.30,2,    32.02,2,     2.07,2,    2.596,2,    1.319,2,    0.230,2,   2237.2,2,   2328.9,2,  0.183211852
  09AR20011029,  SR03,    82,  1,     17,2,20011124,-62.8387, 139.8595, 3162,    400.4,   0.7410,  34.6190,2,  34.6190,2,    218.0,2,    223.0,2,    83.70,2,    31.82,2,     2.05,2, -999.000,9, -999.000,9, -999.000,9,   2242.6,2,   2335.8,2,  0.723008554
  09AR20011029,  SR03,    82,  1,     16,2,20011124,-62.8387, 139.8595, 3162,    500.7,   1.2070,  34.6850,2,  34.6840,2,    213.4,2,    209.9,2,    88.50,2,    31.48,2,     2.04,2,    0.934,2,    0.468,2,    0.080,2,   2248.5,2,   2342.0,2,   1.18208063
  09AR20011029,  SR03,    82,  1,    715,2,20011124,-62.8387, 139.8595, 3162,    600.6,   1.4420,  34.7210,2,  34.7200,2,    202.1,2,    203.5,2,    92.10,2,    31.21,2,     2.03,2, -999.000,9, -999.000,9, -999.000,9,   2248.7,2,   2345.4,2,   1.41040457
  09AR20011029,  SR03,    82,  1,     14,2,20011124,-62.8387, 139.8595, 3162,    680.5,   1.4640,  34.7310,2,  34.7300,2,    200.9,2,    203.0,2,    94.50,2,    31.10,2,     2.01,2,    0.328,2,    0.164,2,    0.020,2,   2250.5,2,   2348.5,2,   1.42760735
  09AR20011029,  SR03,    82,  1,     13,2,20011124,-62.8387, 139.8595, 3162,    800.4,   1.4180,  34.7340,2,  34.7340,2,    202.6,2,    203.8,2,    97.50,2,    31.09,2,     2.04,2, -999.000,9, -999.000,9, -999.000,9,   2250.6,2,   2350.3,6,   1.37467794
  09AR20011029,  SR03,    82,  1,     12,2,20011124,-62.8387, 139.8595, 3162,   1000.0,   1.2910,  34.7340,2,  34.7340,2,    205.8,2,    205.0,2,   102.40,2,    31.26,2,     2.02,2,    0.173,2,    0.084,2,    0.010,2,   2252.4,6,   2352.2,2,   1.23621838
  09AR20011029,  SR03,    82,  1,     11,2,20011124,-62.8387, 139.8595, 3162,   1199.8,   1.1460,  34.7270,2,  34.7290,2,    207.8,2,    206.7,2,   107.00,2,    31.43,2,     2.04,2, -999.000,9, -999.000,9, -999.000,9,   2255.1,2,   2353.2,2,   1.07966551
  09AR20011029,  SR03,    82,  1,    310,2,20011124,-62.8387, 139.8595, 3162,   1400.7,   0.9770,  34.7180,2,  34.7170,2,    210.3,2,    209.2,2,   110.40,2,    31.63,2,     2.06,2,    0.231,2,    0.119,2,    0.020,2,   2255.4,2,   2354.7,2,  0.899115873
  09AR20011029,  SR03,    82,  1,    709,4,20011124,-62.8387, 139.8595, 3162,   1601.5,   0.8170,  34.7100,2,  34.6990,0,    211.0,2,    215.8,4,   120.20,4,    32.25,4,     2.11,4, -999.000,9, -999.000,9, -999.000,9,   2258.6,2,   2355.8,2,  0.727311117
  09AR20011029,  SR03,    82,  1,      8,2,20011124,-62.8387, 139.8595, 3162,   1800.6,   0.6620,  34.7030,2,  34.7040,2,    214.0,2,    212.9,2,   120.70,2,    32.23,2,     2.11,2,    0.197,2,    0.095,2,    0.010,2,   2259.8,2,   2356.6,2,  0.560386962
  09AR20011029,  SR03,    82,  1,      7,2,20011124,-62.8387, 139.8595, 3162,   2000.6,   0.4940,  34.6940,2,  34.6940,2,    217.4,2,    216.3,2,   123.40,2,    32.42,2,     2.12,2, -999.000,9, -999.000,9, -999.000,9,   2259.3,2,   2354.8,2,  0.380435201
  09AR20011029,  SR03,    82,  1,      6,2,20011124,-62.8387, 139.8595, 3162,   2200.3,   0.3520,  34.6880,2,  34.6900,2,    220.4,2,    219.8,2,   126.00,2,    32.45,2,     2.14,2,    0.351,2,    0.174,2,    0.020,2,   2260.0,2,   2354.4,2,  0.225898517
  09AR20011029,  SR03,    82,  1,      5,2,20011124,-62.8387, 139.8595, 3162,   2400.5,   0.2290,  34.6840,2,  34.6850,2,    223.8,2,    223.4,2,   129.00,2,    32.53,2,     2.14,2, -999.000,9, -999.000,9, -999.000,9,   2260.3,2,   2354.9,2, 0.0897552089
  09AR20011029,  SR03,    82,  1,      4,2,20011124,-62.8387, 139.8595, 3162,   2600.5,   0.1300,  34.6810,2,  34.6820,2,    227.1,2,    226.6,2,   130.80,2,    32.54,2,     2.13,2,    0.506,2,    0.244,2,    0.030,2,   2259.6,2,   2354.0,2,-0.0231342714
  09AR20011029,  SR03,    82,  1,      3,2,20011124,-62.8387, 139.8595, 3162,   2900.5,  -0.0320,  34.6740,2,  34.6750,2,    234.5,2,    233.3,2,   126.90,2,    32.45,2,     2.12,2, -999.000,9, -999.000,9, -999.000,9,   2257.7,2,   2353.6,2, -0.206304828
  09AR20011029,  SR03,    82,  1,      2,2,20011124,-62.8387, 139.8595, 3162,   3099.8,  -0.1520,  34.6640,2,  34.6680,2,    236.7,2,    238.5,2,   122.50,2,    32.43,2,     2.12,2,    1.440,2,    0.699,2,    0.110,2,   2253.9,2,   2351.5,6, -0.340462307
  09AR20011029,  SR03,    82,  1,      1,2,20011124,-62.8387, 139.8595, 3162,   3241.1,  -0.3410,  34.6490,2,  34.6530,2,    244.2,2,    247.4,2,   114.00,2,    32.05,2,     2.10,2,    2.138,2,    1.058,2,    0.170,2,   2252.0,6,   2350.6,2, -0.537100079
  09AR20011029,  SR03,    83,  1,     24,2,20011124,-63.3623, 139.8695, 3720,     10.6,  -1.6140,  33.9030,2,  33.9030,2,    453.2,3,    361.0,2,    42.10,2,    27.78,2,     1.72,2,    6.548,2,    3.370,2,    0.600,2,   2122.4,3,   2289.4,2,  -1.61421003
  09AR20011029,  SR03,    83,  1,     23,2,20011124,-63.3623, 139.8695, 3720,     49.5,  -1.5850,  34.0490,2,  34.0500,2,    346.3,2,    345.8,2,    48.10,2,    28.94,2,     1.84,2,    5.978,6,    3.070,6,    0.560,6,   2076.9,4,   2298.1,6,  -1.58602671
  09AR20011029,  SR03,    83,  1,     22,2,20011124,-63.3623, 139.8695, 3720,     99.4,   1.3450,  34.5310,2,  34.5320,2,    211.6,2,    200.7,2,    76.20,2,    34.21,2,     2.24,2,    1.567,2,    0.784,2,    0.140,2,   2249.0,2,   2327.7,2,   1.34031258
  09AR20011029,  SR03,    83,  1,     21,2,20011124,-63.3623, 139.8695, 3720,    150.2,   1.8040,  34.6110,2,  34.6100,2,    194.3,2,    183.6,2,    81.90,2,    34.03,2,     2.24,2,    0.821,2,    0.404,2,    0.060,2,   2255.0,2,   2333.2,2,   1.79625842
  09AR20011029,  SR03,    83,  1,     20,2,20011124,-63.3623, 139.8695, 3720,    199.9,   1.5650,  34.6120,2,  34.6100,2,    190.7,2,    192.6,2,    80.90,2,    33.59,2,     2.20,2,    1.033,2,    0.516,2,    0.080,2,   2251.3,2,   2334.2,2,   1.55500614
  09AR20011029,  SR03,    83,  1,     19,2,20011124,-63.3623, 139.8695, 3720,    299.3,   1.7330,  34.6680,2,  34.6660,2,    187.6,2,    188.8,2,    83.70,2,    33.02,2,     2.15,2,    0.654,2,    0.322,2,    0.060,2,   2252.6,2,   2338.8,2,   1.71733819
  09AR20011029,  SR03,    83,  1,    218,2,20011124,-63.3623, 139.8695, 3720,    399.8,   1.7100,  34.6940,2,  34.6930,2,    193.7,2,    192.3,2,    85.10,2,    32.37,2,     2.11,2,    0.538,2,    0.266,2,    0.040,2,   2250.5,2,   2340.9,2,    1.6887943
  09AR20011029,  SR03,    83,  1,     17,2,20011124,-63.3623, 139.8695, 3720,    499.7,   1.7630,  34.7190,2,  34.7190,2,    194.6,2,    193.7,2,    86.80,2,    31.76,2,     2.07,2,    0.353,2,    0.173,2,    0.030,2,   2249.4,2,   2343.0,2,   1.73583522
  09AR20011029,  SR03,    83,  1,     16,2,20011124,-63.3623, 139.8695, 3720,    599.8,   1.7100,  34.7280,2,  34.7270,2,    196.9,2,    196.2,2,    88.30,2,    31.47,2,     2.05,2,    0.309,2,    0.149,2,    0.020,2,   2248.8,2,   2345.5,2,   1.67713859
  09AR20011029,  SR03,    83,  1,    715,2,20011124,-63.3623, 139.8695, 3720,    700.3,   1.6100,  34.7320,2,  34.7320,2,    200.6,2,    200.0,2,    91.00,2,    31.28,2,     2.04,2,    0.307,2,    0.152,2,    0.030,2,   2248.8,2,   2346.1,2,   1.57160218
  09AR20011029,  SR03,    83,  1,     14,2,20011124,-63.3623, 139.8695, 3720,    799.6,   1.5520,  34.7370,2,  34.7360,2,    202.1,2,    201.0,2,    93.30,2,    31.27,2,     2.03,2,    0.251,2,    0.120,2,    0.020,2,   2249.3,2,   2347.5,2,    1.5078604
  09AR20011029,  SR03,    83,  1,     13,2,20011124,-63.3623, 139.8695, 3720,    900.0,   1.4630,  34.7360,2,  34.7360,2,    204.7,2,    203.0,2,    95.80,2,    31.20,2,     2.03,2,    0.242,2,    0.117,2,    0.020,2,   2250.1,2,   2350.3,6,   1.41320578
  09AR20011029,  SR03,    83,  1,     12,2,20011124,-63.3623, 139.8695, 3720,   1000.2,   1.3370,  34.7290,2,  34.7280,2,    205.8,2,    205.2,2,    97.70,2,    31.36,2,     2.05,2,    0.337,2,    0.169,2,    0.020,2,   2250.4,6,   2349.0,2,   1.28184786
  09AR20011029,  SR03,    83,  1,     11,2,20011124,-63.3623, 139.8695, 3720,   1099.8,   1.2530,  34.7280,2,  34.7270,2,    207.7,2,    206.4,2,   100.30,2,    31.43,2,     2.05,2,    0.307,2,    0.149,2,    0.020,2,   2251.9,2,   2350.3,2,   1.19217978
  09AR20011029,  SR03,    83,  1,    310,2,20011124,-63.3623, 139.8695, 3720,   1300.0,   1.1050,  34.7220,2,  34.7220,2,    207.9,2,    208.5,2,   105.10,2,    31.66,2,     2.07,2,    0.284,2,    0.140,2,    0.020,2,   2253.3,2,   2352.3,2,   1.03247739
  09AR20011029,  SR03,    83,  1,    709,2,20011124,-63.3623, 139.8695, 3720,   1500.2,   0.9690,  34.7170,2,  34.7170,2,    205.5,2,    209.6,2,   109.90,2,    31.89,2,     2.09,2,    0.243,2,    0.121,2,    0.020,2,   2256.0,2,   2354.1,2,  0.884434542
  09AR20011029,  SR03,    83,  1,      8,2,20011124,-63.3623, 139.8695, 3720,   1800.3,   0.7160,  34.7040,2,  34.7040,2,    210.9,2,    212.9,2,   116.90,2,    32.25,2,     2.12,2,    0.288,2,    0.143,2,    0.020,2,   2257.2,2,   2355.7,2,  0.613648527
  09AR20011029,  SR03,    83,  1,      7,2,20011124,-63.3623, 139.8695, 3720,   2100.5,   0.5050,  34.6950,2,  34.6950,2,    213.6,2,    217.2,2,   122.90,2,    32.54,2,     2.14,2,    0.280,2,    0.138,2,    0.020,2,   2258.2,2,   2355.3,2,  0.383846178
  09AR20011029,  SR03,    83,  1,      6,2,20011124,-63.3623, 139.8695, 3720,   2600.7,   0.2400,  34.6840,2,  34.6840,2,    225.4,2,    223.8,2,   126.50,2,    32.80,2,     2.16,2,    0.487,2,    0.243,2,    0.030,2,   2257.8,2,   2354.8,2, 0.0846632162
  09AR20011029,  SR03,    83,  1,      5,2,20011124,-63.3623, 139.8695, 3720,   2899.8,   0.1210,  34.6790,2,  34.6790,2,    230.3,2,    228.0,2,   126.90,2,    32.79,2,     2.15,2,    0.663,6,    0.324,6,    0.040,6,   2257.6,2,   2354.2,2,-0.0566074483
  09AR20011029,  SR03,    83,  1,      4,2,20011124,-63.3623, 139.8695, 3720,   3200.2,  -0.0030,  34.6740,2,-999.0000,9,    236.2,2,   -999.0,9,  -999.00,9,  -999.00,9,  -999.00,9, -999.000,9, -999.000,9, -999.000,9,   -999.0,9,   -999.0,9, -0.203746645
  09AR20011029,  SR03,    83,  1,      3,2,20011124,-63.3623, 139.8695, 3720,   3499.3,  -0.1330,  34.6640,2,  34.6670,2,    242.6,2,    239.6,2,   118.80,2,    32.33,2,     2.14,2,    1.564,2,    0.762,2,    0.120,2,   2254.5,2,   2350.3,2, -0.357451958
  09AR20011029,  SR03,    83,  1,      2,2,20011124,-63.3623, 139.8695, 3720,   3750.5,  -0.4580,  34.6330,2,  34.6360,2,    256.6,2,    256.6,2,   102.80,2,    31.89,2,     2.10,2,    2.652,2,    1.335,2,    0.230,2,   2248.0,2,   2346.4,6, -0.696913161
  09AR20011029,  SR03,    83,  1,      1,2,20011124,-63.3623, 139.8695, 3720,   3835.8,  -0.5400,  34.6350,2,  34.6380,2,    260.2,2,    262.7,2,    98.40,2,    31.77,2,     2.09,2,    2.903,2,    1.476,2,    0.260,2,   2246.3,2,   2345.0,2,  -0.78466311