BOTTLE,20081126PRINUNIVRMK
EXPOCODE,SECT_ID,STNNBR,CASTNO,BTLNBR,BTLNBR_FLAG_W,DATE,LATITUDE,LONGITUDE,DEPTH,CTDPRS,CTDTMP,CTDSAL,CTDSAL_FLAG_W,SALNTY,SALNTY_FLAG_W,CTDOXY,CTDOXY_FLAG_W,OXYGEN,OXYGEN_FLAG_W,SILCAT,SILCAT_FLAG_W,NITRAT,NITRAT_FLAG_W,PHSPHT,PHSPHT_FLAG_W,CFC-11,CFC-11_FLAG_W,CFC-12,CFC-12_FLAG_W,CFC113,CFC113_FLAG_W,TCARBN,TCARBN_FLAG_W,ALKALI,ALKALI_FLAG_W,THETA
,,,,,,,,,METERS,DBARS,ITS-90,PSS-78,,PSS-78,,UMOL/KG,,UMOL/KG,,UMOL/KG,,UMOL/KG,,UMOL/KG,,PMOL/KG,,PMOL/KG,,PMOL/KG,,UMOL/KG,,UMOL/KG,,DEGC
  09AR20011029,  SR03,    42,  1,     24,2,20011111,-51.7982, 142.8440, 3680,      5.0,   5.4030,  33.8840,2,-999.0000,9,    346.5,3,   -999.0,9,  -999.00,9,  -999.00,9,  -999.00,9,    5.017,2,    2.679,2,    0.460,2,   2110.3,6,   2269.4,2,   5.40260922
  09AR20011029,  SR03,    42,  1,     23,2,20011111,-51.7982, 142.8440, 3680,      5.1,   5.4000,  33.8840,2,  33.8850,2,    346.5,3,    321.2,2,     5.70,2,    21.77,2,     1.36,2, -999.000,9, -999.000,9, -999.000,9,   -999.0,9,   -999.0,9,   5.39960151
  09AR20011029,  SR03,    42,  1,     21,2,20011111,-51.7982, 142.8440, 3680,     15.4,   5.3620,  33.8840,4,  33.8830,2,    326.5,3,    321.2,2,     5.60,2,    21.77,2,     1.37,2, -999.000,9, -999.000,9, -999.000,9,   2110.8,2,   2270.3,2,   5.36080021
  09AR20011029,  SR03,    42,  1,     22,2,20011111,-51.7982, 142.8440, 3680,     15.5,   5.3660,  33.8840,3,-999.0000,9,    326.5,3,   -999.0,9,  -999.00,9,  -999.00,9,  -999.00,9, -999.000,9, -999.000,9, -999.000,9,   -999.0,9,   -999.0,9,         -999
  09AR20011029,  SR03,    42,  1,     20,2,20011111,-51.7982, 142.8440, 3680,     29.5,   5.1790,  33.8800,2,-999.0000,9,    319.5,2,   -999.0,9,  -999.00,9,  -999.00,9,  -999.00,9,    5.055,2,    2.696,2,    0.470,2,   2111.2,2,   2268.5,2,    5.1767414
  09AR20011029,  SR03,    42,  1,     19,4,20011111,-51.7982, 142.8440, 3680,     29.6,   5.1530,  33.8810,4,  33.9210,0,    319.5,2,    305.6,4,     8.30,4,    23.29,4,     1.47,4, -999.000,9, -999.000,9, -999.000,9,   -999.0,9,   -999.0,9,         -999
  09AR20011029,  SR03,    42,  1,    518,2,20011111,-51.7982, 142.8440, 3680,     44.9,   4.5890,  33.8970,4,-999.0000,9,    316.3,2,   -999.0,9,  -999.00,9,  -999.00,9,  -999.00,9, -999.000,9, -999.000,9, -999.000,9,   2116.6,2,   2271.2,2,         -999
  09AR20011029,  SR03,    42,  1,     17,2,20011111,-51.7982, 142.8440, 3680,     44.9,   4.5400,  33.8960,4,  33.8970,2,    316.3,2,    321.8,2,     6.70,2,    22.51,2,     1.43,2, -999.000,9, -999.000,9, -999.000,9,   -999.0,9,   -999.0,9,   4.53678372
  09AR20011029,  SR03,    42,  1,     15,2,20011111,-51.7982, 142.8440, 3680,     59.7,   4.3480,  33.9020,2,  33.9020,2,    312.1,2,    320.0,2,     7.50,2,    22.87,2,     1.45,2, -999.000,9, -999.000,9, -999.000,9,   2119.8,2,   2272.6,2,   4.34380779
  09AR20011029,  SR03,    42,  1,     16,2,20011111,-51.7982, 142.8440, 3680,     60.5,   4.3530,  33.9010,4,-999.0000,9,    312.1,2,   -999.0,9,  -999.00,9,  -999.00,9,  -999.00,9,    5.096,2,    2.671,2,    0.470,2,   -999.0,9,   -999.0,9,         -999
  09AR20011029,  SR03,    42,  1,     13,2,20011111,-51.7982, 142.8440, 3680,     75.4,   4.3390,  33.9070,2,  33.9080,2,    319.5,2,    320.2,2,     7.90,2,    23.09,2,     1.48,2, -999.000,9, -999.000,9, -999.000,9,   2123.0,2,   2271.6,2,   4.33370082
  09AR20011029,  SR03,    42,  1,     14,2,20011111,-51.7982, 142.8440, 3680,     75.5,   4.3370,  33.9070,2,-999.0000,9,    319.5,2,   -999.0,9,  -999.00,9,  -999.00,9,  -999.00,9,    5.090,2,    2.691,2,    0.460,2,   -999.0,9,   -999.0,9,   4.33169507
  09AR20011029,  SR03,    42,  1,     12,2,20011111,-51.7982, 142.8440, 3680,     90.6,   4.1630,  33.9080,4,-999.0000,9,    310.1,2,   -999.0,9,  -999.00,9,  -999.00,9,  -999.00,9,    5.104,2,    2.694,2,    0.470,2,   2124.4,2,   2270.5,2,         -999
  09AR20011029,  SR03,    42,  1,     11,2,20011111,-51.7982, 142.8440, 3680,     91.0,   4.1730,  33.9080,3,  33.9100,2,    310.1,2,    315.6,2,     8.00,2,    23.52,2,     1.50,2, -999.000,9, -999.000,9, -999.000,9,   -999.0,9,   -999.0,9,   4.16671394
  09AR20011029,  SR03,    42,  1,     10,2,20011111,-51.7982, 142.8440, 3680,    105.1,   3.9810,  33.9010,3,-999.0000,9,    315.7,2,   -999.0,9,  -999.00,9,  -999.00,9,  -999.00,9, -999.000,9, -999.000,9, -999.000,9,   2126.4,2,   2269.1,3,         -999
  09AR20011029,  SR03,    42,  1,      9,2,20011111,-51.7982, 142.8440, 3680,    105.3,   3.9350,  33.8980,4,  33.9030,2,    315.7,2,    314.1,2,     8.40,2,    24.16,2,     1.53,2, -999.000,9, -999.000,9, -999.000,9,   -999.0,9,   -999.0,9,   3.92791656
  09AR20011029,  SR03,    42,  1,      7,2,20011111,-51.7982, 142.8440, 3680,    120.0,   3.9130,  33.9050,2,  33.9040,2,    313.1,2,    314.1,2,     8.90,2,    24.46,2,     1.56,2, -999.000,9, -999.000,9, -999.000,9,   2129.1,2,   2271.3,2,   3.90493484
  09AR20011029,  SR03,    42,  1,      8,2,20011111,-51.7982, 142.8440, 3680,    120.2,   3.9160,  33.9050,3,-999.0000,9,    313.1,2,   -999.0,9,  -999.00,9,  -999.00,9,  -999.00,9,    5.119,2,    2.678,2,    0.470,2,   -999.0,9,   -999.0,9,         -999
  09AR20011029,  SR03,    42,  1,      6,2,20011111,-51.7982, 142.8440, 3680,    149.8,   3.9840,  33.9400,4,-999.0000,9,    305.7,2,   -999.0,9,  -999.00,9,  -999.00,9,  -999.00,9, -999.000,9, -999.000,9, -999.000,9,   2130.1,2,   2272.2,2,         -999
  09AR20011029,  SR03,    42,  1,      5,2,20011111,-51.7982, 142.8440, 3680,    150.0,   3.9770,  33.9380,3,  33.9420,2,    305.7,2,    309.2,2,     9.90,2,    24.55,2,     1.56,2, -999.000,9, -999.000,9, -999.000,9,   -999.0,9,   -999.0,9,   3.96679649
  09AR20011029,  SR03,    42,  1,      4,2,20011111,-51.7982, 142.8440, 3680,    201.3,   3.8730,  33.9990,4,  33.9930,2,    301.3,2,    298.4,2,    12.40,2,    25.53,2,     1.57,2,    4.790,2,    2.472,2,    0.410,2,   2140.5,2,   -999.0,9,   3.85937597
  09AR20011029,  SR03,    42,  1,      3,2,20011111,-51.7982, 142.8440, 3680,    251.2,   4.5300,  34.1650,3,  34.1610,2,    251.8,2,    259.6,2,    17.70,2,    27.13,2,     1.67,2, -999.000,9, -999.000,9, -999.000,9,   2159.2,2,   2279.3,2,   4.51151797
  09AR20011029,  SR03,    42,  1,      2,2,20011111,-51.7982, 142.8440, 3680,    301.0,   4.3090,  34.1960,2,  34.1970,2,    249.7,2,    249.4,2,    21.30,2,    28.67,2,     1.74,2, -999.000,9, -999.000,9, -999.000,9,   2169.3,2,   2282.9,2,   4.28724714
  09AR20011029,  SR03,    42,  1,      1,2,20011111,-51.7982, 142.8440, 3680,    349.8,   4.0970,  34.2100,2,  34.2110,2,    245.2,2,    246.7,2,    23.40,2,    29.37,2,     1.89,2, -999.000,9, -999.000,9, -999.000,9,   2174.5,6,   2284.5,6,   4.07216784
  09AR20011029,  SR03,    43,  1,     23,2,20011111,-52.0842, 142.7002, 3431,      6.1,   5.4190,  33.8890,2,  33.8860,2,    373.0,3,    320.4,2,     5.60,2,    21.91,2,     1.36,2, -999.000,9, -999.000,9, -999.000,9,   2110.3,2,   2271.2,2,    5.4185224
  09AR20011029,  SR03,    43,  1,     22,2,20011111,-52.0842, 142.7002, 3431,     52.4,   5.1970,  33.8860,2,  33.8860,2,    326.3,2,    321.1,2,     5.70,2,    21.92,2,     1.37,2, -999.000,9, -999.000,9, -999.000,9,   -999.0,9,   -999.0,9,   5.19297118
  09AR20011029,  SR03,    43,  1,     21,2,20011111,-52.0842, 142.7002, 3431,    101.6,   4.3450,  33.9030,4,  33.9020,2,    315.8,2,    316.8,2,     7.40,2,    23.08,2,     1.47,2, -999.000,9, -999.000,9, -999.000,9,   -999.0,9,   -999.0,9,   4.33783507
  09AR20011029,  SR03,    43,  1,     20,2,20011111,-52.0842, 142.7002, 3431,    151.4,   3.7930,  33.8810,3,  33.8830,2,    312.0,2,    315.5,2,     8.60,2,    24.34,2,     1.53,2, -999.000,9, -999.000,9, -999.000,9,   -999.0,9,   -999.0,9,   3.78293839
  09AR20011029,  SR03,    43,  1,     19,4,20011111,-52.0842, 142.7002, 3431,    200.9,   4.2220,  34.0020,2,  34.2270,0,    289.4,2,    234.5,4,    26.70,4,    29.02,4,     1.84,4, -999.000,9, -999.000,9, -999.000,9,   -999.0,9,   -999.0,9,   4.20784103
  09AR20011029,  SR03,    43,  1,    518,2,20011111,-52.0842, 142.7002, 3431,    251.0,   4.6520,  34.1580,2,  34.1590,2,    256.8,2,    260.7,2,    16.80,2,    26.83,2,     1.68,2, -999.000,9, -999.000,9, -999.000,9,   -999.0,9,   -999.0,9,   4.63329219
  09AR20011029,  SR03,    43,  1,     17,2,20011111,-52.0842, 142.7002, 3431,    301.5,   4.5910,  34.2220,2,  34.2220,2,    241.1,2,    244.6,2,    20.40,2,    28.14,2,     1.78,2, -999.000,9, -999.000,9, -999.000,9,   -999.0,9,   -999.0,9,   4.56852618
  09AR20011029,  SR03,    43,  1,     16,2,20011111,-52.0842, 142.7002, 3431,    402.4,   3.9780,  34.2380,2,  34.2370,2,    227.0,2,    236.4,2,    26.20,2,    30.03,2,     1.90,2, -999.000,9, -999.000,9, -999.000,9,   -999.0,9,   -999.0,9,    3.9496317
  09AR20011029,  SR03,    43,  1,     15,2,20011111,-52.0842, 142.7002, 3431,    501.3,   3.4600,  34.2630,2,  34.2620,2,    219.7,2,    226.6,2,    33.90,2,    31.64,2,     2.01,2, -999.000,9, -999.000,9, -999.000,9,   -999.0,9,   -999.0,9,   3.42630986
  09AR20011029,  SR03,    43,  1,     14,2,20011111,-52.0842, 142.7002, 3431,    603.8,   3.1900,  34.3180,2,  34.3170,2,    208.9,2,    211.7,2,    42.30,2,    32.75,2,     2.11,2, -999.000,9, -999.000,9, -999.000,9,   -999.0,9,   -999.0,9,   3.15017008
  09AR20011029,  SR03,    43,  1,     13,2,20011111,-52.0842, 142.7002, 3431,    702.9,   2.9420,  34.3620,2,  34.3630,2,    197.1,2,    200.8,2,    49.80,2,    33.64,2,     2.18,2, -999.000,9, -999.000,9, -999.000,9,   -999.0,9,   -999.0,9,   2.89640716
  09AR20011029,  SR03,    43,  1,     12,2,20011111,-52.0842, 142.7002, 3431,    802.4,   2.8190,  34.4280,2,  34.4270,2,    188.8,2,    189.6,2,    57.40,2,    34.11,2,     2.22,2, -999.000,9, -999.000,9, -999.000,9,   -999.0,9,   -999.0,9,   2.76701059
  09AR20011029,  SR03,    43,  1,     11,2,20011111,-52.0842, 142.7002, 3431,   1003.4,   2.5820,  34.5180,2,  34.5190,2,    180.0,2,    180.7,2,    66.20,2,    34.34,2,     2.22,2, -999.000,9, -999.000,9, -999.000,9,   -999.0,9,   -999.0,9,    2.5170976
  09AR20011029,  SR03,    43,  1,     10,2,20011111,-52.0842, 142.7002, 3431,   1204.9,   2.4580,  34.6110,2,  34.6110,2,    181.3,2,    179.3,2,    71.70,2,    33.45,2,     2.17,2, -999.000,9, -999.000,9, -999.000,9,   -999.0,9,   -999.0,9,   2.37911459
  09AR20011029,  SR03,    43,  1,      9,2,20011111,-52.0842, 142.7002, 3431,   1403.8,   2.3410,  34.6750,2,  34.6750,2,    183.9,2,    183.0,2,    72.60,2,    32.48,2,     2.08,2, -999.000,9, -999.000,9, -999.000,9,   -999.0,9,   -999.0,9,   2.24800703
  09AR20011029,  SR03,    43,  1,      8,2,20011111,-52.0842, 142.7002, 3431,   1604.1,   2.2460,  34.7120,2,  34.7130,2,    189.3,2,    188.2,2,    77.10,2,    31.66,2,     2.03,2, -999.000,9, -999.000,9, -999.000,9,   -999.0,9,   -999.0,9,   2.13828113
  09AR20011029,  SR03,    43,  1,      7,2,20011111,-52.0842, 142.7002, 3431,   1805.3,   2.1380,  34.7350,2,  34.7370,2,    193.6,2,    193.4,2,    80.90,2,    31.03,2,     2.00,2, -999.000,9, -999.000,9, -999.000,9,   -999.0,9,   -999.0,9,   2.01534529
  09AR20011029,  SR03,    43,  1,      6,2,20011111,-52.0842, 142.7002, 3431,   2006.4,   1.9300,  34.7480,2,  34.7490,2,    197.7,2,    198.5,2,    85.90,2,    30.64,2,     1.88,4, -999.000,9, -999.000,9, -999.000,9,   -999.0,9,   -999.0,9,   1.79366925
  09AR20011029,  SR03,    43,  1,      5,2,20011111,-52.0842, 142.7002, 3431,   2206.1,   1.7500,  34.7480,2,  34.7480,2,    200.9,2,    201.2,2,    88.60,2,    30.91,2,     1.99,2, -999.000,9, -999.000,9, -999.000,9,   -999.0,9,   -999.0,9,   1.59967373
  09AR20011029,  SR03,    43,  1,      4,2,20011111,-52.0842, 142.7002, 3431,   2406.5,   1.5370,  34.7420,2,  34.7420,2,    203.4,2,    204.0,2,    99.00,3,    31.15,2,     2.00,2, -999.000,9, -999.000,9, -999.000,9,   -999.0,9,   -999.0,9,   1.37314442
  09AR20011029,  SR03,    43,  1,      3,2,20011111,-52.0842, 142.7002, 3431,   2707.3,   1.2970,  34.7310,2,  34.7320,2,    206.3,2,    206.0,2,    99.00,2,    31.53,2,     2.03,2, -999.000,9, -999.000,9, -999.000,9,   -999.0,9,   -999.0,9,   1.11123006
  09AR20011029,  SR03,    43,  1,      2,2,20011111,-52.0842, 142.7002, 3431,   3008.2,   1.1280,  34.7230,2,  34.7230,2,    208.6,2,    208.4,2,   105.70,2,    31.98,2,     2.07,2, -999.000,9, -999.000,9, -999.000,9,   -999.0,9,   -999.0,9,    0.9183828
  09AR20011029,  SR03,    43,  1,      1,2,20011111,-52.0842, 142.7002, 3431,   3308.8,   1.0170,  34.7160,2,  34.7170,2,    210.2,2,    209.4,2,   108.80,2,    32.30,2,     2.09,2, -999.000,9, -999.000,9, -999.000,9,   -999.0,9,   -999.0,9,  0.781515587
  09AR20011029,  SR03,    43,  1,     24,2,20011111,-52.0842, 142.7002, 3431,   3545.5,   0.9680,  34.7130,2,  34.7140,2,    211.1,2,    211.2,2,   112.90,2,    32.17,2,     2.07,2, -999.000,9, -999.000,9, -999.000,9,   -999.0,9,   -999.0,9,  0.710552601
  09AR20011029,  SR03,    44,  1,      6,2,20011111,-52.3697, 142.5308, 3490,     15.9,   5.1620,  33.8800,2,-999.0000,9,   -999.0,5,   -999.0,9,  -999.00,9,  -999.00,9,  -999.00,9, -999.000,9, -999.000,9, -999.000,9,   -999.0,9,   -999.0,9,   5.16078641
  09AR20011029,  SR03,    44,  1,      7,2,20011111,-52.3697, 142.5308, 3490,     16.0,   5.1660,  33.8800,2,-999.0000,9,   -999.0,5,   -999.0,9,  -999.00,9,  -999.00,9,  -999.00,9, -999.000,9, -999.000,9, -999.000,9,   -999.0,9,   -999.0,9,   5.16477826
  09AR20011029,  SR03,    44,  1,      5,2,20011111,-52.3697, 142.5308, 3490,     16.0,   5.1610,  33.8800,2,-999.0000,9,   -999.0,5,   -999.0,9,  -999.00,9,  -999.00,9,  -999.00,9, -999.000,9, -999.000,9, -999.000,9,   -999.0,9,   -999.0,9,   5.15977889
  09AR20011029,  SR03,    44,  1,      4,2,20011111,-52.3697, 142.5308, 3490,     16.0,   5.1590,  33.8810,2,-999.0000,9,   -999.0,5,   -999.0,9,  -999.00,9,  -999.00,9,  -999.00,9, -999.000,9, -999.000,9, -999.000,9,   -999.0,9,   -999.0,9,   5.15777912
  09AR20011029,  SR03,    44,  1,     20,2,20011111,-52.3697, 142.5308, 3490,     16.1,   5.1060,  33.8800,2,-999.0000,9,   -999.0,5,   -999.0,9,  -999.00,9,  -999.00,9,  -999.00,9, -999.000,9, -999.000,9, -999.000,9,   -999.0,9,   -999.0,9,   5.10477826
  09AR20011029,  SR03,    44,  1,      9,2,20011111,-52.3697, 142.5308, 3490,     16.1,   5.1640,  33.8790,2,-999.0000,9,   -999.0,5,   -999.0,9,  -999.00,9,  -999.00,9,  -999.00,9, -999.000,9, -999.000,9, -999.000,9,   -999.0,9,   -999.0,9,   5.16277089
  09AR20011029,  SR03,    44,  1,      8,2,20011111,-52.3697, 142.5308, 3490,     16.1,   5.1650,  33.8800,2,-999.0000,9,   -999.0,5,   -999.0,9,  -999.00,9,  -999.00,9,  -999.00,9, -999.000,9, -999.000,9, -999.000,9,   -999.0,9,   -999.0,9,   5.16377074
  09AR20011029,  SR03,    44,  1,      3,2,20011111,-52.3697, 142.5308, 3490,     16.1,   5.1580,  33.8800,2,-999.0000,9,   -999.0,5,   -999.0,9,  -999.00,9,  -999.00,9,  -999.00,9, -999.000,9, -999.000,9, -999.000,9,   -999.0,9,   -999.0,9,   5.15677163
  09AR20011029,  SR03,    44,  1,      2,2,20011111,-52.3697, 142.5308, 3490,     16.1,   5.1610,  33.8790,2,-999.0000,9,   -999.0,5,   -999.0,9,  -999.00,9,  -999.00,9,  -999.00,9, -999.000,9, -999.000,9, -999.000,9,   -999.0,9,   -999.0,9,   5.15977127
  09AR20011029,  SR03,    44,  1,      1,2,20011111,-52.3697, 142.5308, 3490,     16.1,   5.1600,  33.8790,2,-999.0000,9,   -999.0,5,   -999.0,9,  -999.00,9,  -999.00,9,  -999.00,9, -999.000,9, -999.000,9, -999.000,9,   -999.0,9,   -999.0,9,    5.1587714
  09AR20011029,  SR03,    44,  1,     24,2,20011111,-52.3697, 142.5308, 3490,     16.2,   5.0930,  33.8800,2,-999.0000,9,   -999.0,5,   -999.0,9,  -999.00,9,  -999.00,9,  -999.00,9, -999.000,9, -999.000,9, -999.000,9,   -999.0,9,   -999.0,9,   5.09177233
  09AR20011029,  SR03,    44,  1,     21,2,20011111,-52.3697, 142.5308, 3490,     16.2,   5.0920,  33.8790,2,-999.0000,9,   -999.0,5,   -999.0,9,  -999.00,9,  -999.00,9,  -999.00,9, -999.000,9, -999.000,9, -999.000,9,   -999.0,9,   -999.0,9,   5.09077248
  09AR20011029,  SR03,    44,  1,     19,2,20011111,-52.3697, 142.5308, 3490,     16.2,   5.1110,  33.8810,2,-999.0000,9,   -999.0,5,   -999.0,9,  -999.00,9,  -999.00,9,  -999.00,9, -999.000,9, -999.000,9, -999.000,9,   -999.0,9,   -999.0,9,   5.10976999
  09AR20011029,  SR03,    44,  1,    518,2,20011111,-52.3697, 142.5308, 3490,     16.2,   5.1150,  33.8800,2,-999.0000,9,   -999.0,5,   -999.0,9,  -999.00,9,  -999.00,9,  -999.00,9, -999.000,9, -999.000,9, -999.000,9,   -999.0,9,   -999.0,9,    5.1137695
  09AR20011029,  SR03,    44,  1,     17,2,20011111,-52.3697, 142.5308, 3490,     16.2,   5.1200,  33.8790,2,-999.0000,9,   -999.0,5,   -999.0,9,  -999.00,9,  -999.00,9,  -999.00,9, -999.000,9, -999.000,9, -999.000,9,   -999.0,9,   -999.0,9,   5.11876889
  09AR20011029,  SR03,    44,  1,     13,2,20011111,-52.3697, 142.5308, 3490,     16.2,   5.1360,  33.8780,2,-999.0000,9,   -999.0,5,   -999.0,9,  -999.00,9,  -999.00,9,  -999.00,9, -999.000,9, -999.000,9, -999.000,9,   -999.0,9,   -999.0,9,   5.13476686
  09AR20011029,  SR03,    44,  1,     12,2,20011111,-52.3697, 142.5308, 3490,     16.2,   5.1470,  33.8800,2,-999.0000,9,   -999.0,5,   -999.0,9,  -999.00,9,  -999.00,9,  -999.00,9, -999.000,9, -999.000,9, -999.000,9,   -999.0,9,   -999.0,9,    5.1457654
  09AR20011029,  SR03,    44,  1,     10,2,20011111,-52.3697, 142.5308, 3490,     16.2,   5.1560,  33.8800,2,-999.0000,9,   -999.0,5,   -999.0,9,  -999.00,9,  -999.00,9,  -999.00,9, -999.000,9, -999.000,9, -999.000,9,   -999.0,9,   -999.0,9,   5.15476424
  09AR20011029,  SR03,    44,  1,     23,2,20011111,-52.3697, 142.5308, 3490,     16.3,   5.0920,  33.8790,2,-999.0000,9,   -999.0,5,   -999.0,9,  -999.00,9,  -999.00,9,  -999.00,9, -999.000,9, -999.000,9, -999.000,9,   -999.0,9,   -999.0,9,   5.09076489
  09AR20011029,  SR03,    44,  1,     22,2,20011111,-52.3697, 142.5308, 3490,     16.3,   5.0900,  33.8800,2,-999.0000,9,   -999.0,5,   -999.0,9,  -999.00,9,  -999.00,9,  -999.00,9, -999.000,9, -999.000,9, -999.000,9,   -999.0,9,   -999.0,9,   5.08876512
  09AR20011029,  SR03,    44,  1,     16,2,20011111,-52.3697, 142.5308, 3490,     16.3,   5.1290,  33.8800,3,-999.0000,9,   -999.0,5,   -999.0,9,  -999.00,9,  -999.00,9,  -999.00,9, -999.000,9, -999.000,9, -999.000,9,   -999.0,9,   -999.0,9,         -999
  09AR20011029,  SR03,    44,  1,     15,2,20011111,-52.3697, 142.5308, 3490,     16.3,   5.1350,  33.8800,3,-999.0000,9,   -999.0,5,   -999.0,9,  -999.00,9,  -999.00,9,  -999.00,9, -999.000,9, -999.000,9, -999.000,9,   -999.0,9,   -999.0,9,         -999
  09AR20011029,  SR03,    44,  1,     14,2,20011111,-52.3697, 142.5308, 3490,     16.3,   5.1290,  33.8800,3,-999.0000,9,   -999.0,5,   -999.0,9,  -999.00,9,  -999.00,9,  -999.00,9, -999.000,9, -999.000,9, -999.000,9,   -999.0,9,   -999.0,9,         -999
  09AR20011029,  SR03,    44,  1,     11,2,20011111,-52.3697, 142.5308, 3490,     16.3,   5.1510,  33.8800,2,-999.0000,9,   -999.0,5,   -999.0,9,  -999.00,9,  -999.00,9,  -999.00,9, -999.000,9, -999.000,9, -999.000,9,   -999.0,9,   -999.0,9,   5.14975725