BOTTLE,20081126PRINUNIVRMK
EXPOCODE,SECT_ID,STNNBR,CASTNO,BTLNBR,BTLNBR_FLAG_W,DATE,LATITUDE,LONGITUDE,DEPTH,CTDPRS,CTDTMP,CTDSAL,CTDSAL_FLAG_W,SALNTY,SALNTY_FLAG_W,CTDOXY,CTDOXY_FLAG_W,OXYGEN,OXYGEN_FLAG_W,SILCAT,SILCAT_FLAG_W,NITRAT,NITRAT_FLAG_W,PHSPHT,PHSPHT_FLAG_W,CFC-11,CFC-11_FLAG_W,CFC-12,CFC-12_FLAG_W,CFC113,CFC113_FLAG_W,TCARBN,TCARBN_FLAG_W,ALKALI,ALKALI_FLAG_W,THETA
,,,,,,,,,METERS,DBARS,ITS-90,PSS-78,,PSS-78,,UMOL/KG,,UMOL/KG,,UMOL/KG,,UMOL/KG,,UMOL/KG,,PMOL/KG,,PMOL/KG,,PMOL/KG,,UMOL/KG,,UMOL/KG,,DEGC
  09AR20011029,  SR03,    32,  1,     24,2,20011109,-50.4075, 143.4442, 3658,     11.3,   7.3290,  34.0990,2,  34.1000,2,    339.5,3,    302.3,2,     4.30,2,    18.55,2,     1.17,2, -999.000,9, -999.000,9, -999.000,9,   -999.0,9,   -999.0,9,   7.32794311
  09AR20011029,  SR03,    32,  1,     23,2,20011109,-50.4075, 143.4442, 3658,     50.9,   6.7180,  34.1350,2,  34.1360,2,    305.2,2,    304.1,2,     4.70,2,    18.86,2,     1.21,2, -999.000,9, -999.000,9, -999.000,9,   -999.0,9,   -999.0,9,   6.71346175
  09AR20011029,  SR03,    32,  1,     22,2,20011109,-50.4075, 143.4442, 3658,    102.1,   6.6440,  34.1580,3,  34.1580,2,    301.9,2,    298.6,2,     4.50,2,    19.27,2,     1.23,2, -999.000,9, -999.000,9, -999.000,9,   -999.0,9,   -999.0,9,   6.63491499
  09AR20011029,  SR03,    32,  1,     21,2,20011109,-50.4075, 143.4442, 3658,    151.0,   6.6270,  34.1880,3,  34.1840,2,    291.8,2,    292.6,2,     4.50,2,    19.16,2,     1.23,2, -999.000,9, -999.000,9, -999.000,9,   -999.0,9,   -999.0,9,   6.61352582
  09AR20011029,  SR03,    32,  1,     20,2,20011109,-50.4075, 143.4442, 3658,    199.6,   6.1020,  34.1210,4,  34.1250,2,    299.2,2,    299.0,2,     5.20,2,    20.17,2,     1.47,4, -999.000,9, -999.000,9, -999.000,9,   -999.0,9,   -999.0,9,   6.08494854
  09AR20011029,  SR03,    32,  1,     19,2,20011109,-50.4075, 143.4442, 3658,    250.4,   6.0010,  34.1070,2,  34.1070,2,    293.1,2,    299.3,2,     5.40,2,    20.56,2,     1.31,2, -999.000,9, -999.000,9, -999.000,9,   -999.0,9,   -999.0,9,    5.9797212
  09AR20011029,  SR03,    32,  1,    718,2,20011109,-50.4075, 143.4442, 3658,    301.8,   6.4390,  34.2020,3,  34.2010,2,    270.7,2,    284.1,2,     6.70,2,    20.76,2,     1.33,2, -999.000,9, -999.000,9, -999.000,9,   -999.0,9,   -999.0,9,   6.41217994
  09AR20011029,  SR03,    32,  1,     17,2,20011109,-50.4075, 143.4442, 3658,    400.5,   5.8320,  34.1820,4,  34.1800,2,    262.2,2,    272.5,2,    10.40,2,    23.36,2,     1.49,2, -999.000,9, -999.000,9, -999.000,9,   -999.0,9,   -999.0,9,   5.79801204
  09AR20011029,  SR03,    32,  1,     16,2,20011109,-50.4075, 143.4442, 3658,    499.4,   5.9400,  34.3570,4,  34.3570,2,    220.4,2,    224.4,2,    18.30,2,    26.64,2,     1.71,2, -999.000,9, -999.000,9, -999.000,9,   -999.0,9,   -999.0,9,   5.89671097
  09AR20011029,  SR03,    32,  1,     15,2,20011109,-50.4075, 143.4442, 3658,    601.5,   4.8710,  34.3010,2,  34.2980,2,    222.7,2,    226.9,2,    23.00,2,    28.81,2,     1.86,2, -999.000,9, -999.000,9, -999.000,9,   -999.0,9,   -999.0,9,     4.823426
  09AR20011029,  SR03,    32,  1,     14,2,20011109,-50.4075, 143.4442, 3658,    701.1,   4.2540,  34.3020,2,  34.3010,2,    223.2,2,    222.5,2,    29.10,2,    30.45,2,     1.98,2, -999.000,9, -999.000,9, -999.000,9,   -999.0,9,   -999.0,9,   4.20138228
  09AR20011029,  SR03,    32,  1,     13,2,20011109,-50.4075, 143.4442, 3658,    799.1,   3.6180,  34.2880,3,  34.2860,2,    219.4,2,    222.0,2,    34.60,2,    31.55,2,     2.07,2, -999.000,9, -999.000,9, -999.000,9,   -999.0,9,   -999.0,9,   3.56141578
  09AR20011029,  SR03,    32,  1,     12,2,20011109,-50.4075, 143.4442, 3658,   1002.5,   3.1410,  34.3760,3,  34.3760,2,    195.7,2,    198.6,2,    50.80,2,    33.49,2,     2.21,2, -999.000,9, -999.000,9, -999.000,9,   -999.0,9,   -999.0,9,   3.07201673
  09AR20011029,  SR03,    32,  1,     11,2,20011109,-50.4075, 143.4442, 3658,   1200.8,   2.7380,  34.4700,2,  34.4680,2,    184.9,2,    184.5,2,    62.50,2,    34.55,2,     2.27,2, -999.000,9, -999.000,9, -999.000,9,   -999.0,9,   -999.0,9,   2.65709398
  09AR20011029,  SR03,    32,  1,     10,2,20011109,-50.4075, 143.4442, 3658,   1399.9,   2.5550,  34.5590,2,  34.5580,2,    180.5,2,    179.0,2,    70.50,2,    34.27,2,     2.26,2, -999.000,9, -999.000,9, -999.000,9,   -999.0,9,   -999.0,9,   2.46026692
  09AR20011029,  SR03,    32,  1,      9,2,20011109,-50.4075, 143.4442, 3658,   1599.1,   2.4370,  34.6420,2,  34.6420,2,    182.6,2,    180.3,2,    75.40,2,    32.97,2,     2.18,2, -999.000,9, -999.000,9, -999.000,9,   -999.0,9,   -999.0,9,    2.3275229
  09AR20011029,  SR03,    32,  1,      8,2,20011109,-50.4075, 143.4442, 3658,   1800.1,   2.3540,  34.6920,2,  34.6920,2,    185.7,2,    184.7,2,    78.90,2,    31.93,2,     2.11,2, -999.000,9, -999.000,9, -999.000,9,   -999.0,9,   -999.0,9,    2.2289389
  09AR20011029,  SR03,    32,  1,      7,2,20011109,-50.4075, 143.4442, 3658,   2000.8,   2.2040,  34.7250,2,  34.7270,2,    190.0,2,    188.2,2,    84.40,2,    31.69,2,     2.07,2, -999.000,9, -999.000,9, -999.000,9,   -999.0,9,   -999.0,9,   2.06404877
  09AR20011029,  SR03,    32,  1,      6,2,20011109,-50.4075, 143.4442, 3658,   2299.7,   2.0040,  34.7430,2,  34.7440,2,    194.9,2,    193.2,2,    90.30,2,    31.30,2,     2.07,2, -999.000,9, -999.000,9, -999.000,9,   -999.0,9,   -999.0,9,   1.84124185
  09AR20011029,  SR03,    32,  1,      5,2,20011109,-50.4075, 143.4442, 3658,   2600.6,   1.7350,  34.7430,2,  34.7440,2,    197.4,2,    198.5,2,    97.70,2,    31.16,2,     2.05,2, -999.000,9, -999.000,9, -999.000,9,   -999.0,9,   -999.0,9,   1.55015987
  09AR20011029,  SR03,    32,  1,      4,2,20011109,-50.4075, 143.4442, 3658,   2901.6,   1.4080,  34.7330,2,  34.7350,2,    205.7,2,    205.2,2,   105.40,2,    31.49,2,     2.07,2, -999.000,9, -999.000,9, -999.000,9,   -999.0,9,   -999.0,9,   1.20213796
  09AR20011029,  SR03,    32,  1,      3,2,20011109,-50.4075, 143.4442, 3658,   3200.1,   1.1680,  34.7210,2,  34.7230,2,    208.6,2,    207.5,2,   113.90,2,    31.89,2,     2.09,2, -999.000,9, -999.000,9, -999.000,9,   -999.0,9,   -999.0,9,  0.939350226
  09AR20011029,  SR03,    32,  1,      2,2,20011109,-50.4075, 143.4442, 3658,   3502.5,   1.0370,  34.7160,2,  34.7160,2,    211.2,2,    209.7,2,   119.00,2,    31.78,2,     2.11,2, -999.000,9, -999.000,9, -999.000,9,   -999.0,9,   -999.0,9,  0.782057374
  09AR20011029,  SR03,    32,  1,      1,2,20011109,-50.4075, 143.4442, 3658,   3802.7,   1.0060,  34.7130,2,  34.7140,2,    211.9,2,    210.7,2,   120.40,2,    32.09,2,     2.13,2, -999.000,9, -999.000,9, -999.000,9,   -999.0,9,   -999.0,9,  0.721463188
  09AR20011029,  SR03,    33,  1,     24,2,20011109,-50.6750, 143.4133, 3417,      8.8,   7.1810,  34.1040,2,  34.1040,2,    342.7,3,    302.6,2,     4.40,2,    18.51,2,     1.30,2,    4.484,2,    2.443,2,    0.430,2,   2102.3,6,   2273.2,2,   7.18018702
  09AR20011029,  SR03,    33,  1,     23,2,20011109,-50.6750, 143.4133, 3417,     51.9,   7.1140,  34.1080,2,  34.1080,2,    302.0,2,    303.1,2,     4.40,2,    18.36,2,     1.22,2,    4.523,2,    2.441,2,    0.440,2,   2102.2,2,   2274.1,6,   7.10921637
  09AR20011029,  SR03,    33,  1,     22,2,20011109,-50.6750, 143.4133, 3417,     99.2,   6.7890,  34.1720,2,  34.1710,2,    300.9,2,    299.1,2,     4.40,2,    18.65,2,     1.21,2,    4.469,2,    2.403,2,    0.420,2,   2108.0,2,   2275.2,2,   6.78006219
  09AR20011029,  SR03,    33,  1,     21,2,20011109,-50.6750, 143.4133, 3417,    150.5,   6.8770,  34.2250,4,  34.2190,2,    291.6,2,    291.0,2,     5.00,2,    19.12,2,     1.25,2,    4.304,2,    2.341,2,    0.410,2,   2113.1,2,   2277.8,2,   6.86327355
  09AR20011029,  SR03,    33,  1,     20,2,20011109,-50.6750, 143.4133, 3417,    199.6,   6.4600,  34.1680,4,  34.1850,0,    291.9,2,    291.9,2,     5.30,2,    19.74,2,     1.28,2,    4.330,2,    2.364,2,    0.390,2,   2114.1,2,   2276.5,2,         -999
  09AR20011029,  SR03,    33,  1,     19,2,20011109,-50.6750, 143.4133, 3417,    251.4,   5.9330,  34.1020,4,  34.1070,0,    288.0,2,    298.1,2,     5.50,2,    20.44,2,     1.33,2,    4.582,2,    2.462,2,    0.420,2,   2114.4,2,   2275.2,2,         -999
  09AR20011029,  SR03,    33,  1,    718,2,20011109,-50.6750, 143.4133, 3417,    301.4,   5.6190,  34.0620,2,  34.0620,2,    299.3,2,    301.1,2,     6.10,2,    21.26,2,     1.37,2,    4.652,2,    2.502,2,    0.420,2,   2116.6,2,   2273.3,2,   5.59419127
  09AR20011029,  SR03,    33,  1,     17,2,20011109,-50.6750, 143.4133, 3417,    357.1,   6.0980,  34.1930,3,  34.1930,2,    282.4,2,    276.5,2,     8.60,2,    22.08,2,     1.43,2,    4.238,2,    2.220,2,    0.350,2,   2129.0,2,   2278.5,2,   6.06706656
  09AR20011029,  SR03,    33,  1,     16,2,20011109,-50.6750, 143.4133, 3417,    411.3,   6.8460,  34.3670,3,  34.3640,2,    240.2,2,    242.1,2,    11.90,2,    22.96,2,     1.48,2,    3.383,2,    1.767,2,    0.250,2,   2144.3,2,   2283.8,2,   6.80775515
  09AR20011029,  SR03,    33,  1,     15,2,20011109,-50.6750, 143.4133, 3417,    488.6,   6.5320,  34.4150,2,  34.4150,2,    213.8,2,    217.6,2,    16.90,2,    25.75,2,     1.66,2,    2.551,2,    1.304,2,    0.160,2,   2162.3,2,   2287.3,2,   6.48743344
  09AR20011029,  SR03,    33,  1,     14,2,20011109,-50.6750, 143.4133, 3417,    561.4,   5.4250,  34.3150,3,  34.3130,2,    227.5,2,    228.6,2,    19.60,2,    27.34,2,     1.78,2,    3.065,2,    1.532,2,    0.210,2,   2167.6,2,   2286.4,2,   5.37834725
  09AR20011029,  SR03,    33,  1,     13,2,20011109,-50.6750, 143.4133, 3417,    702.5,   4.1970,  34.2870,2,  34.2870,2,    229.3,2,    224.5,2,    28.60,2,    30.26,2,     1.98,2,    2.621,2,    1.285,2,    0.180,2,   2185.5,2,   2290.8,6,   4.14459797
  09AR20011029,  SR03,    33,  1,     12,2,20011109,-50.6750, 143.4133, 3417,    802.3,   3.8200,  34.2990,2,  34.2990,2,    221.6,2,    219.7,2,    33.60,2,    31.44,2,     2.06,2,    2.276,2,    1.111,2,    0.150,2,   2195.1,6,   2297.1,2,   3.76188608
  09AR20011029,  SR03,    33,  1,     11,2,20011109,-50.6750, 143.4133, 3417,    901.8,   3.5170,  34.3390,3,  34.3390,2,    203.4,2,    207.6,2,    42.10,2,    32.72,2,     2.15,2,    1.671,2,    0.807,2,    0.090,2,   2208.8,2,   2302.9,2,   3.45306033
  09AR20011029,  SR03,    33,  1,     10,2,20011109,-50.6750, 143.4133, 3417,   1003.1,   3.2330,  34.3780,2,  34.3770,2,    197.9,2,    198.3,2,    49.10,2,    33.34,2,     2.21,2,    1.319,2,    0.620,2,    0.060,2,   2218.8,2,   2311.0,2,   3.16324901
  09AR20011029,  SR03,    33,  1,      9,2,20011109,-50.6750, 143.4133, 3417,   1202.5,   2.8130,  34.4670,2,  34.4640,2,    184.4,2,    184.6,2,    61.90,2,    34.36,2,     2.28,2,    0.802,2,    0.382,2,    0.050,2,   2237.1,2,   2323.0,2,   2.73126984
  09AR20011029,  SR03,    33,  1,      8,2,20011109,-50.6750, 143.4133, 3417,   1402.4,   2.5850,  34.5560,2,  34.5570,2,    180.5,2,    178.7,2,    70.00,2,    34.01,2,     2.26,2,    0.501,2,    0.224,2,    0.040,2,   2246.5,2,   2332.0,2,   2.48974719
  09AR20011029,  SR03,    33,  1,      7,2,20011109,-50.6750, 143.4133, 3417,   1705.8,   2.3780,  34.6620,2,  34.6610,2,    184.3,2,    181.7,2,    76.80,2,    32.62,2,     2.16,2,    0.268,2,    0.118,2,    0.020,2,   2249.1,2,   2338.5,2,   2.26051676
  09AR20011029,  SR03,    33,  1,      6,2,20011109,-50.6750, 143.4133, 3417,   2005.4,   2.2470,  34.7200,2,  34.7220,2,    187.4,2,    187.5,2,    82.80,2,    31.47,2,     2.08,2,    0.080,2,    0.048,2,   -0.010,2,   2250.0,2,   2347.6,2,    2.1060193
  09AR20011029,  SR03,    33,  1,      5,2,20011109,-50.6750, 143.4133, 3417,   2305.8,   2.0040,  34.7420,2,  34.7430,2,    195.7,2,    192.4,2,    91.50,2,    31.29,2,     2.06,2,    0.037,2,    0.022,2,    0.000,2,   2254.9,2,   2355.1,2,   1.84070577
  09AR20011029,  SR03,    33,  1,      4,2,20011109,-50.6750, 143.4133, 3417,   2607.0,   1.7430,  34.7450,2,  34.7460,2,    201.8,2,    200.5,2,    95.40,2,    30.75,2,     2.03,2,    0.055,2,    0.030,2,    0.010,2,   2251.3,2,   2354.1,2,   1.55741311
  09AR20011029,  SR03,    33,  1,      3,2,20011109,-50.6750, 143.4133, 3417,   2908.0,   1.4490,  34.7350,2,  34.7360,2,    205.7,2,    204.5,2,   104.60,2,    31.47,2,     2.07,2,    0.065,2,    0.033,2,    0.010,2,   2253.9,2,   2358.8,2,   1.24165651
  09AR20011029,  SR03,    33,  1,      2,2,20011109,-50.6750, 143.4133, 3417,   3210.5,   1.1960,  34.7240,2,  34.7250,2,    209.9,2,    207.3,2,   112.30,2,    31.77,2,     2.10,2,    0.068,2,    0.036,2,    0.000,2,   2257.9,2,   2360.9,6,  0.965683971
  09AR20011029,  SR03,    33,  1,      1,2,20011109,-50.6750, 143.4133, 3417,   3518.1,   0.9880,  34.7130,3,  34.7150,2,    211.8,2,    210.4,2,   119.60,2,    32.16,2,     2.12,2,    0.094,2,    0.051,2,    0.000,2,   2259.2,6,   2360.7,2,  0.732759041
  09AR20011029,  SR03,    35,  1,     23,2,20011109,-51.0127, 143.2965, 3680,      4.9,   6.7310,  34.1050,2,-999.0000,9,   -999.0,5,   -999.0,9,  -999.00,9,  -999.00,9,  -999.00,9, -999.000,9, -999.000,9, -999.000,9,   -999.0,9,   -999.0,9,   6.73056444
  09AR20011029,  SR03,    35,  1,     22,2,20011109,-51.0127, 143.2965, 3680,      4.9,   6.7290,  34.1040,2,-999.0000,9,   -999.0,5,   -999.0,9,  -999.00,9,  -999.00,9,  -999.00,9, -999.000,9, -999.000,9, -999.000,9,   -999.0,9,   -999.0,9,   6.72856452
  09AR20011029,  SR03,    35,  1,     21,2,20011109,-51.0127, 143.2965, 3680,      4.9,   6.7270,  34.1040,2,-999.0000,9,   -999.0,5,   -999.0,9,  -999.00,9,  -999.00,9,  -999.00,9, -999.000,9, -999.000,9, -999.000,9,   -999.0,9,   -999.0,9,    6.7265646
  09AR20011029,  SR03,    35,  1,     24,2,20011109,-51.0127, 143.2965, 3680,      5.1,   6.7320,  34.1050,2,-999.0000,9,   -999.0,5,   -999.0,9,  -999.00,9,  -999.00,9,  -999.00,9, -999.000,9, -999.000,9, -999.000,9,   -999.0,9,   -999.0,9,   6.73154661
  09AR20011029,  SR03,    35,  1,     20,2,20011109,-51.0127, 143.2965, 3680,      5.2,   6.7230,  34.1040,2,-999.0000,9,   -999.0,5,   -999.0,9,     4.70,2,    19.20,2,     1.21,2, -999.000,9, -999.000,9, -999.000,9,   -999.0,9,   -999.0,9,   6.72253809
  09AR20011029,  SR03,    35,  1,     19,2,20011109,-51.0127, 143.2965, 3680,     26.4,   6.7400,  34.1060,2,-999.0000,9,   -999.0,5,   -999.0,9,     4.50,2,    19.08,2,     1.21,2, -999.000,9, -999.000,9, -999.000,9,   -999.0,9,   -999.0,9,   6.73764746
  09AR20011029,  SR03,    35,  1,    718,2,20011109,-51.0127, 143.2965, 3680,     50.4,   6.8210,  34.1230,3,-999.0000,9,   -999.0,5,   -999.0,9,     4.70,2,    18.89,2,     1.20,2, -999.000,9, -999.000,9, -999.000,9,   -999.0,9,   -999.0,9,         -999
  09AR20011029,  SR03,    35,  1,     17,2,20011109,-51.0127, 143.2965, 3680,     71.0,   6.9890,  34.1760,2,-999.0000,9,   -999.0,5,   -999.0,9,     4.70,2,    18.35,2,     1.17,2, -999.000,9, -999.000,9, -999.000,9,   -999.0,9,   -999.0,9,   6.98250707
  09AR20011029,  SR03,    35,  1,     16,2,20011109,-51.0127, 143.2965, 3680,     90.3,   6.5570,  34.1480,2,-999.0000,9,   -999.0,5,   -999.0,9,     4.50,2,    18.98,2,     1.22,2, -999.000,9, -999.000,9, -999.000,9,   -999.0,9,   -999.0,9,   6.54903449
  09AR20011029,  SR03,    35,  1,     15,2,20011109,-51.0127, 143.2965, 3680,    100.0,   6.9760,  34.2360,4,-999.0000,9,   -999.0,5,   -999.0,9,     4.60,2,    18.28,2,     1.17,2, -999.000,9, -999.000,9, -999.000,9,   -999.0,9,   -999.0,9,         -999
  09AR20011029,  SR03,    35,  1,     14,2,20011109,-51.0127, 143.2965, 3680,    149.6,   7.0660,  34.2780,2,-999.0000,9,   -999.0,5,   -999.0,9,     5.10,2,    19.03,2,     1.21,2, -999.000,9, -999.000,9, -999.000,9,   -999.0,9,   -999.0,9,   7.05212608
  09AR20011029,  SR03,    35,  1,     13,2,20011109,-51.0127, 143.2965, 3680,    199.5,   6.6790,  34.2240,4,-999.0000,9,   -999.0,5,   -999.0,9,     5.60,2,    19.90,2,     1.27,2, -999.000,9, -999.000,9, -999.000,9,   -999.0,9,   -999.0,9,         -999
  09AR20011029,  SR03,    35,  1,     12,2,20011109,-51.0127, 143.2965, 3680,    250.7,   6.8330,  34.2830,4,-999.0000,9,   -999.0,5,   -999.0,9,     6.80,2,    20.46,2,     1.32,2, -999.000,9, -999.000,9, -999.000,9,   -999.0,9,   -999.0,9,         -999
  09AR20011029,  SR03,    35,  1,     11,2,20011109,-51.0127, 143.2965, 3680,    299.3,   7.0860,  34.3720,4,-999.0000,9,   -999.0,5,   -999.0,9,     9.80,2,    22.06,2,     1.40,2, -999.000,9, -999.000,9, -999.000,9,   -999.0,9,   -999.0,9,         -999
  09AR20011029,  SR03,    35,  1,     10,2,20011109,-51.0127, 143.2965, 3680,    350.1,   6.9310,  34.4010,2,-999.0000,9,   -999.0,5,   -999.0,9,    12.50,2,    23.83,2,     1.50,2, -999.000,9, -999.000,9, -999.000,9,   -999.0,9,   -999.0,9,   6.89834538
  09AR20011029,  SR03,    35,  1,      9,2,20011109,-51.0127, 143.2965, 3680,    400.5,   6.3000,  34.3470,4,-999.0000,9,   -999.0,5,   -999.0,9,    14.70,2,    25.32,2,     1.59,2, -999.000,9, -999.000,9, -999.000,9,   -999.0,9,   -999.0,9,         -999
  09AR20011029,  SR03,    35,  1,      8,2,20011109,-51.0127, 143.2965, 3680,    450.8,   6.0030,  34.3450,3,-999.0000,9,   -999.0,5,   -999.0,9,    16.80,2,    26.30,2,     1.67,2, -999.000,9, -999.000,9, -999.000,9,   -999.0,9,   -999.0,9,         -999
  09AR20011029,  SR03,    35,  1,      7,2,20011109,-51.0127, 143.2965, 3680,    501.6,   5.7060,  34.3560,2,-999.0000,9,   -999.0,5,   -999.0,9,    19.90,2,    27.68,2,     1.77,2, -999.000,9, -999.000,9, -999.000,9,   -999.0,9,   -999.0,9,    5.6634132
  09AR20011029,  SR03,    35,  1,      6,2,20011109,-51.0127, 143.2965, 3680,    600.7,   4.6530,  34.2920,2,-999.0000,9,   -999.0,5,   -999.0,9,    24.20,2,    29.26,2,     1.89,2, -999.000,9, -999.000,9, -999.000,9,   -999.0,9,   -999.0,9,   4.60651446
  09AR20011029,  SR03,    35,  1,      5,2,20011109,-51.0127, 143.2965, 3680,    800.2,   3.5680,  34.3070,3,-999.0000,9,   -999.0,5,   -999.0,9,    37.00,2,    32.17,2,     2.01,2, -999.000,9, -999.000,9, -999.000,9,   -999.0,9,   -999.0,9,         -999
  09AR20011029,  SR03,    35,  1,      4,2,20011109,-51.0127, 143.2965, 3680,   1000.7,   3.0910,  34.4000,2,-999.0000,9,   -999.0,5,   -999.0,9,    52.20,2,    33.77,2,     2.22,2, -999.000,9, -999.000,9, -999.000,9,   -999.0,9,   -999.0,9,   3.02250452
  09AR20011029,  SR03,    35,  1,      2,2,20011109,-51.0127, 143.2965, 3680,   1001.0,   3.0900,  34.4000,2,-999.0000,9,   -999.0,5,   -999.0,9,  -999.00,9,  -999.00,9,  -999.00,9, -999.000,9, -999.000,9, -999.000,9,   -999.0,9,   -999.0,9,   3.02148947
  09AR20011029,  SR03,    35,  1,      3,2,20011109,-51.0127, 143.2965, 3680,   1001.1,   3.0910,  34.4000,2,-999.0000,9,   -999.0,5,   -999.0,9,  -999.00,9,  -999.00,9,  -999.00,9, -999.000,9, -999.000,9, -999.000,9,   -999.0,9,   -999.0,9,   3.02247402
  09AR20011029,  SR03,    35,  1,      1,2,20011109,-51.0127, 143.2965, 3680,   1001.1,   3.0880,  34.4010,2,-999.0000,9,   -999.0,5,   -999.0,9,  -999.00,9,  -999.00,9,  -999.00,9, -999.000,9, -999.000,9, -999.000,9,   -999.0,9,   -999.0,9,   3.01949578