BOTTLE,20081126PRINUNIVRMK
EXPOCODE,SECT_ID,STNNBR,CASTNO,BTLNBR,BTLNBR_FLAG_W,DATE,LATITUDE,LONGITUDE,DEPTH,CTDPRS,CTDTMP,CTDSAL,CTDSAL_FLAG_W,SALNTY,SALNTY_FLAG_W,CTDOXY,CTDOXY_FLAG_W,OXYGEN,OXYGEN_FLAG_W,SILCAT,SILCAT_FLAG_W,NITRAT,NITRAT_FLAG_W,PHSPHT,PHSPHT_FLAG_W,CFC-11,CFC-11_FLAG_W,CFC-12,CFC-12_FLAG_W,CFC113,CFC113_FLAG_W,TCARBN,TCARBN_FLAG_W,ALKALI,ALKALI_FLAG_W,THETA
,,,,,,,,,METERS,DBARS,ITS-90,PSS-78,,PSS-78,,UMOL/KG,,UMOL/KG,,UMOL/KG,,UMOL/KG,,UMOL/KG,,PMOL/KG,,PMOL/KG,,PMOL/KG,,UMOL/KG,,UMOL/KG,,DEGC
  09AR20011029,  SR03,    63,  1,     24,2,20011116,-56.9270, 139.8600, 4100,      4.6,   1.5870,  33.8260,2,  33.8250,2,    386.2,3,    340.0,2,    15.30,2,    26.33,2,     1.66,2,    6.021,2,    3.167,2,    0.550,3,   2141.1,6,   2272.7,2,   1.58678353
  09AR20011029,  SR03,    63,  1,     23,2,20011116,-56.9270, 139.8600, 4100,     51.8,   1.5780,  33.8250,2,  33.8260,2,    341.2,2,    340.4,2,    15.40,2,    25.78,2,     1.68,2,    6.025,2,    3.177,2,    0.560,3,   2141.1,2,   2273.6,2,   1.57554489
  09AR20011029,  SR03,    63,  1,     22,2,20011116,-56.9270, 139.8600, 4100,     99.8,   1.4360,  33.8280,2,  33.8280,2,    339.1,2,    339.8,2,    15.80,2,    26.56,2,     1.70,2,    6.045,2,    3.193,2,    0.550,3,   2142.3,2,   2273.4,2,   1.43134608
  09AR20011029,  SR03,    63,  1,     21,2,20011116,-56.9270, 139.8600, 4100,    140.6,   1.1090,  33.8340,2,  33.8340,2,    334.8,2,    335.2,2,    16.90,2,    26.93,2,     1.75,2,    5.990,2,    3.142,2,    0.550,3,   2146.1,2,   2275.2,2,     1.102776
  09AR20011029,  SR03,    63,  1,     20,2,20011116,-56.9270, 139.8600, 4100,    173.9,   1.3240,  33.9210,3,  33.9260,2,    316.0,2,    313.8,2,    22.60,2,    28.45,2,     1.85,2,    5.468,2,    2.849,2,    0.490,3,   2160.4,2,   2278.6,2,   1.31590942
  09AR20011029,  SR03,    63,  1,     19,2,20011116,-56.9270, 139.8600, 4100,    198.6,   1.6390,  34.0420,4,  34.0430,2,    295.9,2,    283.4,2,    30.80,2,    30.35,2,     1.98,2,    4.609,2,    2.369,2,    0.400,3,   2179.8,2,   2285.9,2,   1.62915599
  09AR20011029,  SR03,    63,  1,    518,2,20011116,-56.9270, 139.8600, 4100,    301.2,   2.3650,  34.2650,3,-999.0000,9,    207.5,2,   -999.0,9,  -999.00,9,  -999.00,9,  -999.00,9, -999.000,9, -999.000,9, -999.000,9,   -999.0,9,   -999.0,9,         -999
  09AR20011029,  SR03,    63,  1,     17,2,20011116,-56.9270, 139.8600, 4100,    400.4,   2.4230,  34.3790,2,  34.3770,2,    196.1,2,    196.1,2,    59.40,2,    34.63,2,     2.27,2,    1.654,2,    0.804,2,    0.120,3,   2233.0,2,   2311.0,2,   2.39966436
  09AR20011029,  SR03,    63,  1,     16,2,20011116,-56.9270, 139.8600, 4100,    601.2,   2.3330,  34.5200,2,  34.5180,2,    176.2,2,    179.5,2,    71.70,2,    34.70,2,     2.28,2,    0.840,2,    0.392,2,    0.050,3,   2248.9,2,   2323.8,2,   2.29725681
  09AR20011029,  SR03,    63,  1,    215,2,20011116,-56.9270, 139.8600, 4100,    801.1,   2.3180,  34.6240,2,  34.6230,2,    180.4,2,    178.9,2,    77.10,2,    33.38,2,     2.19,2,    0.393,2,    0.177,2,    0.030,3,   2252.2,2,   2334.0,2,   2.26901506
  09AR20011029,  SR03,    63,  1,     14,2,20011116,-56.9270, 139.8600, 4100,   1000.2,   2.1930,  34.6800,2,  34.6790,2,    182.4,2,    181.9,2,    81.80,2,    32.62,2,     2.14,2,    0.284,2,    0.133,2,    0.010,3,   2252.0,2,   2338.6,2,   2.13112146
  09AR20011029,  SR03,    63,  1,     13,2,20011116,-56.9270, 139.8600, 4100,   1199.8,   2.1080,  34.7200,2,  34.7200,2,    187.8,2,    189.0,2,    84.00,2,    31.54,2,     2.06,2,    0.185,2,    0.091,2,    0.010,3,   2248.3,2,   2342.0,2,   2.03255972
  09AR20011029,  SR03,    63,  1,     12,2,20011116,-56.9270, 139.8600, 4100,   1401.0,   1.9870,  34.7390,2,  34.7400,2,    197.0,2,    194.6,2,    86.90,2,    30.76,2,     2.02,2, -999.000,9, -999.000,9, -999.000,9,   2247.3,6,   2344.4,2,   1.89792396
  09AR20011029,  SR03,    63,  1,     11,2,20011116,-56.9270, 139.8600, 4100,   1601.3,   1.8410,  34.7480,2,  34.7480,2,    199.5,2,    199.0,2,    90.80,2,    30.74,2,     2.00,2,    0.115,2,    0.056,2,    0.000,3,   2248.0,2,   2347.3,2,   1.73841803
  09AR20011029,  SR03,    63,  1,     10,2,20011116,-56.9270, 139.8600, 4100,   1798.8,   1.6870,  34.7470,2,  34.7480,2,    202.9,2,    201.5,2,    95.60,2,    30.64,2,     2.00,2, -999.000,9, -999.000,9, -999.000,9,   2249.1,2,   2348.8,2,    1.5710711
  09AR20011029,  SR03,    63,  1,      9,2,20011116,-56.9270, 139.8600, 4100,   2100.6,   1.4070,  34.7390,2,  34.7480,0,    206.5,2,    205.2,2,   104.10,2,    31.06,2,     2.03,2,    0.089,2,    0.044,2,    0.010,3,   2252.8,2,   2353.1,2,   1.27111584
  09AR20011029,  SR03,    63,  1,      8,2,20011116,-56.9270, 139.8600, 4100,   2399.6,   1.1870,  34.7280,2,  34.7290,2,    207.8,2,    207.4,2,   110.90,2,    31.49,2,     2.05,2,    0.095,2,    0.046,2,    0.000,3,   2254.9,2,   2354.8,2,   1.03013248
  09AR20011029,  SR03,    63,  1,      7,2,20011116,-56.9270, 139.8600, 4100,   2700.8,   0.9390,  34.7150,2,  34.7160,2,    211.0,2,    211.1,2,   118.60,2,    32.25,2,     2.10,2,    0.120,2,    0.052,2,    0.000,3,   2258.6,2,   2356.0,2,  0.761114064
  09AR20011029,  SR03,    63,  1,      6,2,20011116,-56.9270, 139.8600, 4100,   2999.5,   0.7170,  34.7040,2,  34.7050,2,    215.7,2,    214.1,2,   124.50,2,    32.22,2,     2.12,2,    0.160,2,    0.074,2,    0.010,3,   2260.1,2,   2356.5,2,  0.517408896
  09AR20011029,  SR03,    63,  1,      5,2,20011116,-56.9270, 139.8600, 4100,   3301.3,   0.4880,  34.6930,2,  34.6950,2,    219.0,2,    219.3,2,   130.70,2,    31.49,4,     2.14,2,    0.231,2,    0.112,2,    0.010,3,   2260.3,2,   2355.6,2,  0.266159161
  09AR20011029,  SR03,    63,  1,      4,2,20011116,-56.9270, 139.8600, 4100,   3600.1,   0.3440,  34.6900,2,  34.6890,2,    223.0,2,    223.3,2,   137.40,2,    32.70,2,     2.15,2,    0.293,2,    0.131,2,    0.010,3,   2260.3,2,   2358.6,2, 0.0975289423
  09AR20011029,  SR03,    63,  1,      3,2,20011116,-56.9270, 139.8600, 4100,   3800.9,   0.2880,  34.6850,2,  34.6860,2,    225.2,2,    225.4,2,   141.00,2,    32.70,2,     2.15,2,    0.343,2,    0.163,2,    0.010,3,   2261.1,2,   2358.1,2, 0.0234413766
  09AR20011029,  SR03,    63,  1,      2,2,20011116,-56.9270, 139.8600, 4100,   4001.0,   0.2280,  34.6820,2,  34.6830,2,    227.1,2,    227.2,2,   141.90,2,    32.66,2,     2.15,2,    0.436,2,    0.206,2,    0.020,3,   2259.8,2,   2357.6,6,-0.0548884833
  09AR20011029,  SR03,    63,  1,      1,2,20011116,-56.9270, 139.8600, 4100,   4202.7,   0.2000,  34.6800,2,  34.6810,2,    228.6,2,    228.8,2,   143.90,2,    32.76,2,     2.15,2,    0.499,2,    0.233,2,    0.010,3,   2261.2,6,   -999.0,9, -0.102758361
  09AR20011029,  SR03,    64,  1,     22,2,20011116,-56.8932, 139.9197, 4000,      8.0,   1.5160,  33.8260,2,-999.0000,9,   -999.0,5,   -999.0,9,  -999.00,9,  -999.00,9,  -999.00,9, -999.000,9, -999.000,9, -999.000,9,   -999.0,9,   -999.0,9,   1.51562803
  09AR20011029,  SR03,    64,  1,     24,2,20011116,-56.8932, 139.9197, 4000,      8.1,   1.5160,  33.8260,2,  33.8260,2,   -999.0,5,   -999.0,9,  -999.00,9,  -999.00,9,  -999.00,9, -999.000,9, -999.000,9, -999.000,9,   -999.0,9,   -999.0,9,   1.51562338
  09AR20011029,  SR03,    64,  1,     23,2,20011116,-56.8932, 139.9197, 4000,      8.1,   1.5160,  33.8260,2,-999.0000,9,   -999.0,5,   -999.0,9,  -999.00,9,  -999.00,9,  -999.00,9, -999.000,9, -999.000,9, -999.000,9,   -999.0,9,   -999.0,9,   1.51562338
  09AR20011029,  SR03,    64,  1,     21,2,20011116,-56.8932, 139.9197, 4000,      8.1,   1.5160,  33.8260,2,-999.0000,9,   -999.0,5,   -999.0,9,    40.50,4,    31.89,4,     2.04,4, -999.000,9, -999.000,9, -999.000,9,   -999.0,9,   -999.0,9,   1.51562338
  09AR20011029,  SR03,    64,  1,     20,2,20011116,-56.8932, 139.9197, 4000,     24.5,   1.5160,  33.8260,2,-999.0000,9,   -999.0,5,   -999.0,9,    15.00,2,    26.57,2,     1.70,2, -999.000,9, -999.000,9, -999.000,9,   -999.0,9,   -999.0,9,   1.51485732
  09AR20011029,  SR03,    64,  1,    218,2,20011116,-56.8932, 139.9197, 4000,     49.7,   1.5090,  33.8260,2,-999.0000,9,   -999.0,5,   -999.0,9,    15.00,2,    26.65,2,     1.70,2, -999.000,9, -999.000,9, -999.000,9,   -999.0,9,   -999.0,9,   1.50667397
  09AR20011029,  SR03,    64,  1,     19,2,20011116,-56.8932, 139.9197, 4000,     49.9,   1.5100,  33.8260,2,-999.0000,9,   -999.0,5,   -999.0,9,  -999.00,9,  -999.00,9,  -999.00,9, -999.000,9, -999.000,9, -999.000,9,   -999.0,9,   -999.0,9,   1.50766411
  09AR20011029,  SR03,    64,  1,     17,2,20011116,-56.8932, 139.9197, 4000,     70.5,   1.4770,  33.8260,2,-999.0000,9,   -999.0,5,   -999.0,9,    15.30,2,    26.67,2,     1.71,2, -999.000,9, -999.000,9, -999.000,9,   -999.0,9,   -999.0,9,   1.47370656
  09AR20011029,  SR03,    64,  1,     16,2,20011116,-56.8932, 139.9197, 4000,     89.1,   1.4470,  33.8280,2,-999.0000,9,   -999.0,5,   -999.0,9,    15.30,2,    26.68,2,     1.71,2, -999.000,9, -999.000,9, -999.000,9,   -999.0,9,   -999.0,9,   1.44284519
  09AR20011029,  SR03,    64,  1,    215,2,20011116,-56.8932, 139.9197, 4000,    130.0,   1.1630,  33.8320,2,-999.0000,9,   -999.0,5,   -999.0,9,    16.40,2,    26.95,2,     1.74,2, -999.000,9, -999.000,9, -999.000,9,   -999.0,9,   -999.0,9,   1.15719908
  09AR20011029,  SR03,    64,  1,     14,2,20011116,-56.8932, 139.9197, 4000,    173.5,   1.6370,  33.9540,4,-999.0000,9,   -999.0,5,   -999.0,9,    22.70,2,    28.95,2,     1.87,2, -999.000,9, -999.000,9, -999.000,9,   -999.0,9,   -999.0,9,         -999
  09AR20011029,  SR03,    64,  1,     13,2,20011116,-56.8932, 139.9197, 4000,    193.6,   0.9610,  33.9420,2,-999.0000,9,   -999.0,5,   -999.0,9,    24.20,2,    29.06,2,     1.88,2, -999.000,9, -999.000,9, -999.000,9,   -999.0,9,   -999.0,9,  0.952540556
  09AR20011029,  SR03,    64,  1,     12,2,20011116,-56.8932, 139.9197, 4000,    247.7,   2.2410,  34.1850,2,  34.1840,2,   -999.0,5,   -999.0,9,    39.60,2,    32.54,2,     2.12,2, -999.000,9, -999.000,9, -999.000,9,   -999.0,9,   -999.0,9,    2.2273295
  09AR20011029,  SR03,    64,  1,     11,2,20011116,-56.8932, 139.9197, 4000,    299.7,   2.3410,  34.2530,2,-999.0000,9,   -999.0,5,   -999.0,9,    45.20,2,    33.55,2,     2.19,2, -999.000,9, -999.000,9, -999.000,9,   -999.0,9,   -999.0,9,    2.3240483
  09AR20011029,  SR03,    64,  1,     10,2,20011116,-56.8932, 139.9197, 4000,    351.0,   2.3900,  34.3220,2,  34.3210,2,   -999.0,5,   -999.0,9,    52.10,2,    34.33,2,     2.28,2, -999.000,9, -999.000,9, -999.000,9,   -999.0,9,   -999.0,9,   2.36981522
  09AR20011029,  SR03,    64,  1,      9,2,20011116,-56.8932, 139.9197, 4000,    399.0,   2.4450,  34.3830,2,-999.0000,9,   -999.0,5,   -999.0,9,    57.20,2,    34.67,2,     2.26,2, -999.000,9, -999.000,9, -999.000,9,   -999.0,9,   -999.0,9,   2.42167528
  09AR20011029,  SR03,    64,  1,      8,2,20011116,-56.8932, 139.9197, 4000,    449.6,   2.4420,  34.4240,2,-999.0000,9,   -999.0,5,   -999.0,9,    61.30,2,    34.82,2,     2.30,2, -999.000,9, -999.000,9, -999.000,9,   -999.0,9,   -999.0,9,   2.41550866
  09AR20011029,  SR03,    64,  1,      7,2,20011116,-56.8932, 139.9197, 4000,    498.8,   2.4050,  34.4520,2,-999.0000,9,   -999.0,5,   -999.0,9,    63.70,2,    34.85,2,     2.29,2, -999.000,9, -999.000,9, -999.000,9,   -999.0,9,   -999.0,9,   2.37553251
  09AR20011029,  SR03,    64,  1,      6,2,20011116,-56.8932, 139.9197, 4000,    600.5,   2.3480,  34.5180,2,  34.5190,2,   -999.0,5,   -999.0,9,    69.10,2,    34.76,2,     2.30,2, -999.000,9, -999.000,9, -999.000,9,   -999.0,9,   -999.0,9,   2.31222848
  09AR20011029,  SR03,    64,  1,      5,2,20011116,-56.8932, 139.9197, 4000,    799.6,   2.3310,  34.6280,2,  34.6260,2,   -999.0,5,   -999.0,9,    74.10,2,    33.54,2,     2.20,2, -999.000,9, -999.000,9, -999.000,9,   -999.0,9,   -999.0,9,   2.28202958
  09AR20011029,  SR03,    64,  1,      1,2,20011116,-56.8932, 139.9197, 4000,    999.3,   2.2490,  34.6850,2,-999.0000,9,   -999.0,5,   -999.0,9,  -999.00,9,  -999.00,9,  -999.00,9, -999.000,9, -999.000,9, -999.000,9,   -999.0,9,   -999.0,9,   2.18673168
  09AR20011029,  SR03,    64,  1,      2,2,20011116,-56.8932, 139.9197, 4000,    999.4,   2.2440,  34.6850,2,-999.0000,9,   -999.0,5,   -999.0,9,  -999.00,9,  -999.00,9,  -999.00,9, -999.000,9, -999.000,9, -999.000,9,   -999.0,9,   -999.0,9,   2.18176412
  09AR20011029,  SR03,    64,  1,      4,2,20011116,-56.8932, 139.9197, 4000,    999.5,   2.2400,  34.6850,2,  34.6860,2,   -999.0,5,   -999.0,9,    76.80,2,    32.31,2,     2.12,2, -999.000,9, -999.000,9, -999.000,9,   -999.0,9,   -999.0,9,   2.17778694
  09AR20011029,  SR03,    64,  1,      3,2,20011116,-56.8932, 139.9197, 4000,    999.5,   2.2430,  34.6840,2,-999.0000,9,   -999.0,5,   -999.0,9,  -999.00,9,  -999.00,9,  -999.00,9, -999.000,9, -999.000,9, -999.000,9,   -999.0,9,   -999.0,9,   2.18076672
  09AR20011029,  SR03,    65,  1,     23,2,20011116,-56.8800, 139.9322, 4000,      6.6,   1.5040,  33.8260,2,  33.8260,2,   -999.0,5,   -999.0,9,  -999.00,9,  -999.00,9,  -999.00,9, -999.000,9, -999.000,9, -999.000,9,   -999.0,9,   -999.0,9,   1.50369387
  09AR20011029,  SR03,    65,  1,     24,2,20011116,-56.8800, 139.9322, 4000,      7.2,   1.5030,  33.8270,2,-999.0000,9,   -999.0,5,   -999.0,9,    15.10,2,    26.50,2,     1.66,2, -999.000,9, -999.000,9, -999.000,9,   -999.0,9,   -999.0,9,   1.50266605
  09AR20011029,  SR03,    65,  1,     22,2,20011116,-56.8800, 139.9322, 4000,     20.1,   1.5000,  33.8260,2,  33.8260,2,   -999.0,5,   -999.0,9,    15.00,2,    26.55,2,     1.68,2, -999.000,9, -999.000,9, -999.000,9,   -999.0,9,   -999.0,9,     1.499066
  09AR20011029,  SR03,    65,  1,     21,2,20011116,-56.8800, 139.9322, 4000,     20.1,   1.5000,  33.8260,2,-999.0000,9,   -999.0,5,   -999.0,9,  -999.00,9,  -999.00,9,  -999.00,9, -999.000,9, -999.000,9, -999.000,9,   -999.0,9,   -999.0,9,     1.499066
  09AR20011029,  SR03,    65,  1,     20,2,20011116,-56.8800, 139.9322, 4000,     39.0,   1.4960,  33.8270,2,-999.0000,9,   -999.0,5,   -999.0,9,    15.10,2,    26.65,2,     1.69,2, -999.000,9, -999.000,9, -999.000,9,   -999.0,9,   -999.0,9,   1.49418255
  09AR20011029,  SR03,    65,  1,     19,2,20011116,-56.8800, 139.9322, 4000,     39.1,   1.4940,  33.8270,2,  33.8270,2,   -999.0,5,   -999.0,9,  -999.00,9,  -999.00,9,  -999.00,9, -999.000,9, -999.000,9, -999.000,9,   -999.0,9,   -999.0,9,   1.49217851
  09AR20011029,  SR03,    65,  1,    218,2,20011116,-56.8800, 139.9322, 4000,     58.4,   1.4680,  33.8280,2,-999.0000,9,   -999.0,5,   -999.0,9,    15.20,2,    26.69,2,     1.71,2, -999.000,9, -999.000,9, -999.000,9,   -999.0,9,   -999.0,9,   1.46528216
  09AR20011029,  SR03,    65,  1,     17,2,20011116,-56.8800, 139.9322, 4000,     58.4,   1.4650,  33.8270,3,  33.8270,2,   -999.0,5,   -999.0,9,  -999.00,9,  -999.00,9,  -999.00,9, -999.000,9, -999.000,9, -999.000,9,   -999.0,9,   -999.0,9,   1.46228373
  09AR20011029,  SR03,    65,  1,    215,2,20011116,-56.8800, 139.9322, 4000,     80.2,   1.4120,  33.8280,2,  33.8280,2,   -999.0,5,   -999.0,9,  -999.00,9,  -999.00,9,  -999.00,9, -999.000,9, -999.000,9, -999.000,9,   -999.0,9,   -999.0,9,   1.40828989
  09AR20011029,  SR03,    65,  1,     16,2,20011116,-56.8800, 139.9322, 4000,     80.3,   1.4130,  33.8280,2,-999.0000,9,   -999.0,5,   -999.0,9,    15.30,2,    26.68,2,     1.70,2, -999.000,9, -999.000,9, -999.000,9,   -999.0,9,   -999.0,9,   1.40928452
  09AR20011029,  SR03,    65,  1,     14,2,20011116,-56.8800, 139.9322, 4000,     87.7,   1.3880,  33.8280,3,  33.8290,2,   -999.0,5,   -999.0,9,    15.50,2,    26.71,2,     1.69,2, -999.000,9, -999.000,9, -999.000,9,   -999.0,9,   -999.0,9,   1.38395461
  09AR20011029,  SR03,    65,  1,     13,2,20011116,-56.8800, 139.9322, 4000,     99.0,   1.3420,  33.8300,2,-999.0000,9,   -999.0,5,   -999.0,9,    15.70,2,    26.71,2,     1.70,2, -999.000,9, -999.000,9, -999.000,9,   -999.0,9,   -999.0,9,   1.33746146
  09AR20011029,  SR03,    65,  1,     12,2,20011116,-56.8800, 139.9322, 4000,     99.0,   1.3430,  33.8300,2,  33.8290,2,   -999.0,5,   -999.0,9,  -999.00,9,  -999.00,9,  -999.00,9, -999.000,9, -999.000,9, -999.000,9,   -999.0,9,   -999.0,9,   1.33846081
  09AR20011029,  SR03,    65,  1,     10,2,20011116,-56.8800, 139.9322, 4000,    113.6,   1.2420,  33.8300,2,-999.0000,9,   -999.0,5,   -999.0,9,  -999.00,9,  -999.00,9,  -999.00,9, -999.000,9, -999.000,9, -999.000,9,   -999.0,9,   -999.0,9,   1.23687259
  09AR20011029,  SR03,    65,  1,      8,2,20011116,-56.8800, 139.9322, 4000,    113.6,   1.2420,  33.8310,2,-999.0000,9,   -999.0,5,   -999.0,9,    16.00,2,    26.77,2,     1.71,2, -999.000,9, -999.000,9, -999.000,9,   -999.0,9,   -999.0,9,   1.23687239
  09AR20011029,  SR03,    65,  1,     11,2,20011116,-56.8800, 139.9322, 4000,    113.7,   1.2410,  33.8310,2,-999.0000,9,   -999.0,5,   -999.0,9,  -999.00,9,  -999.00,9,  -999.00,9, -999.000,9, -999.000,9, -999.000,9,   -999.0,9,   -999.0,9,   1.23586872
  09AR20011029,  SR03,    65,  1,      7,2,20011116,-56.8800, 139.9322, 4000,    113.8,   1.2310,  33.8310,2,  33.8310,2,   -999.0,5,   -999.0,9,  -999.00,9,  -999.00,9,  -999.00,9, -999.000,9, -999.000,9, -999.000,9,   -999.0,9,   -999.0,9,   1.22587363
  09AR20011029,  SR03,    65,  1,      9,2,20011116,-56.8800, 139.9322, 4000,    114.0,   1.2490,  33.8300,2,-999.0000,9,   -999.0,5,   -999.0,9,  -999.00,9,  -999.00,9,  -999.00,9, -999.000,9, -999.000,9, -999.000,9,   -999.0,9,   -999.0,9,   1.24384746
  09AR20011029,  SR03,    65,  1,      6,2,20011116,-56.8800, 139.9322, 4000,    124.4,   1.1910,  33.8340,4,  33.8330,2,   -999.0,5,   -999.0,9,    16.00,2,    27.29,2,     1.75,2, -999.000,9, -999.000,9, -999.000,9,   -999.0,9,   -999.0,9,   1.18542572
  09AR20011029,  SR03,    65,  1,      4,2,20011116,-56.8800, 139.9322, 4000,    150.2,   1.2140,  33.8620,3,  33.8510,0,   -999.0,5,   -999.0,9,  -999.00,9,  -999.00,9,  -999.00,9, -999.000,9, -999.000,9, -999.000,9,   -999.0,9,   -999.0,9,         -999
  09AR20011029,  SR03,    65,  1,      5,2,20011116,-56.8800, 139.9322, 4000,    150.4,   1.1990,  33.8580,3,-999.0000,9,   -999.0,5,   -999.0,9,    17.10,2,    27.37,2,     1.76,2, -999.000,9, -999.000,9, -999.000,9,   -999.0,9,   -999.0,9,         -999
  09AR20011029,  SR03,    65,  1,      3,2,20011116,-56.8800, 139.9322, 4000,    174.2,   1.6580,  33.9920,4,  33.9950,2,   -999.0,5,   -999.0,9,    25.30,2,    29.41,2,     1.92,2, -999.000,9, -999.000,9, -999.000,9,   -999.0,9,   -999.0,9,   1.64938975
  09AR20011029,  SR03,    65,  1,      2,2,20011116,-56.8800, 139.9322, 4000,    199.1,   1.2700,  33.9940,4,  33.9930,2,   -999.0,5,   -999.0,9,    27.30,2,    29.88,2,     1.92,2, -999.000,9, -999.000,9, -999.000,9,   -999.0,9,   -999.0,9,   1.26075836
  09AR20011029,  SR03,    65,  1,      1,2,20011116,-56.8800, 139.9322, 4000,    249.8,   2.3030,  34.2020,2,  34.2010,2,   -999.0,5,   -999.0,9,    40.30,2,    32.86,2,     2.13,2, -999.000,9, -999.000,9, -999.000,9,   -999.0,9,   -999.0,9,   2.28907507