BOTTLE,20081126PRINUNIVRMK
EXPOCODE,SECT_ID,STNNBR,CASTNO,BTLNBR,BTLNBR_FLAG_W,DATE,LATITUDE,LONGITUDE,DEPTH,CTDPRS,CTDTMP,CTDSAL,CTDSAL_FLAG_W,SALNTY,SALNTY_FLAG_W,CTDOXY,CTDOXY_FLAG_W,OXYGEN,OXYGEN_FLAG_W,SILCAT,SILCAT_FLAG_W,NITRAT,NITRAT_FLAG_W,PHSPHT,PHSPHT_FLAG_W,CFC-11,CFC-11_FLAG_W,CFC-12,CFC-12_FLAG_W,CFC113,CFC113_FLAG_W,TCARBN,TCARBN_FLAG_W,ALKALI,ALKALI_FLAG_W,THETA
,,,,,,,,,METERS,DBARS,ITS-90,PSS-78,,PSS-78,,UMOL/KG,,UMOL/KG,,UMOL/KG,,UMOL/KG,,UMOL/KG,,PMOL/KG,,PMOL/KG,,PMOL/KG,,UMOL/KG,,UMOL/KG,,DEGC
  09AR20011029,  SR03,    39,  1,     24,2,20011110,-51.2555, 143.1385, 3744,      5.3,   5.8840,  33.9990,2,  34.0030,2,    358.1,3,    312.4,2,     6.30,2,    20.88,2,     1.33,2,    4.956,2,    2.604,2,    0.460,2,   2111.1,6,   2275.0,2,   5.88356468
  09AR20011029,  SR03,    39,  1,     23,2,20011110,-51.2555, 143.1385, 3744,     51.2,   5.8190,  34.0250,2,  34.0240,2,    312.8,2,    311.1,2,     6.30,2,    20.75,2,     1.34,2,    4.807,2,    2.582,2,    0.450,2,   2111.8,2,   2273.6,6,   5.81480185
  09AR20011029,  SR03,    39,  1,     22,2,20011110,-51.2555, 143.1385, 3744,     99.8,   5.5180,  34.0370,2,  34.0370,2,    307.2,2,    308.5,2,     6.30,2,    20.81,2,     1.36,2,    4.824,2,    2.561,2,    0.440,2,   2114.2,2,   2274.5,2,   5.51001464
  09AR20011029,  SR03,    39,  1,     21,2,20011110,-51.2555, 143.1385, 3744,    201.1,   5.0660,  34.0430,2,  34.0440,2,    295.3,2,    295.9,2,     8.30,2,    22.90,2,     1.47,2,    4.769,2,    2.476,2,    0.420,2,   2126.0,2,   2273.6,2,   5.05046994
  09AR20011029,  SR03,    39,  1,     20,2,20011110,-51.2555, 143.1385, 3744,    300.9,   5.4580,  34.2140,2,  34.2130,2,    243.1,2,    257.1,2,    13.90,2,    24.91,2,     1.61,2,    3.822,2,    2.010,2,    0.320,2,   2147.6,2,   2280.3,2,   5.43353533
  09AR20011029,  SR03,    39,  1,     19,2,20011110,-51.2555, 143.1385, 3744,    400.8,   4.7200,  34.2220,4,  34.2190,2,    244.9,2,    245.9,2,    19.50,2,    27.48,2,     1.81,2,    3.671,2,    1.830,2,    0.280,2,   2164.8,2,   2281.5,2,   4.68942109
  09AR20011029,  SR03,    39,  1,    518,2,20011110,-51.2555, 143.1385, 3744,    501.8,   4.0100,  34.2310,3,  34.2300,2,    221.8,2,    238.4,2,    25.50,2,    29.70,2,     1.93,2,    3.265,2,    1.626,2,    0.250,2,   2177.1,2,   2287.0,2,   3.97411919
  09AR20011029,  SR03,    39,  1,     17,2,20011110,-51.2555, 143.1385, 3744,    602.4,   3.7240,  34.2650,2,  34.2660,2,    228.5,2,    227.9,2,    31.20,2,    30.99,2,     2.02,2,    2.773,2,    1.346,2,    0.200,2,   2188.8,2,   -999.0,9,   3.68177865
  09AR20011029,  SR03,    39,  1,     16,2,20011110,-51.2555, 143.1385, 3744,    702.1,   3.3060,  34.2800,3,  34.2820,2,    223.5,2,    221.4,2,    37.50,2,    31.82,2,     2.10,2,    2.462,2,    1.189,2,    0.180,2,   2200.6,2,   2296.2,2,   3.25853972
  09AR20011029,  SR03,    39,  1,     15,2,20011110,-51.2555, 143.1385, 3744,    802.7,   2.9980,  34.3210,2,  34.3200,2,    208.0,2,    209.7,2,    45.50,2,    32.73,2,     2.19,2,    2.022,2,    0.963,2,    0.140,2,   2213.6,2,   2305.1,2,   2.94500208
  09AR20011029,  SR03,    39,  1,     14,2,20011110,-51.2555, 143.1385, 3744,    901.3,   2.8510,  34.3780,2,  34.7300,0,    199.2,2,    197.8,2,    53.10,2,    33.57,2,     2.24,2,    1.458,2,    0.712,2,    0.100,2,   2225.0,2,   2312.1,2,    2.7917433
  09AR20011029,  SR03,    39,  1,     13,2,20011110,-51.2555, 143.1385, 3744,   1002.6,   2.7540,  34.4380,2,  34.4390,2,    190.4,2,    187.9,2,    59.60,2,    34.26,2,     2.27,2,    1.057,2,    0.504,2,    0.070,2,   2234.0,2,   2318.3,2,   2.68793867
  09AR20011029,  SR03,    39,  1,     12,2,20011110,-51.2555, 143.1385, 3744,   1109.9,   2.6740,  34.4930,2,  34.4920,2,    182.4,2,    182.2,2,    64.50,2,    33.77,2,     2.27,2,    0.735,2,    0.351,2,    0.040,2,   2241.2,6,   2325.0,2,   2.60052179
  09AR20011029,  SR03,    39,  1,     11,2,20011110,-51.2555, 143.1385, 3744,   1202.3,   2.5580,  34.5290,2,  34.5290,2,    180.3,2,    179.9,2,    68.30,2,    34.04,2,     2.27,2,    0.640,2,    0.313,2,    0.040,2,   2244.2,2,   2328.1,2,   2.47854011
  09AR20011029,  SR03,    39,  1,     10,2,20011110,-51.2555, 143.1385, 3744,   1403.4,   2.4540,  34.6250,2,  34.6240,2,    179.4,2,    179.8,2,    73.80,2,    32.74,2,     2.19,2,    0.317,2,    0.151,2,    0.020,2,   2248.2,2,   2335.2,2,   2.35993101
  09AR20011029,  SR03,    39,  1,      9,2,20011110,-51.2555, 143.1385, 3744,   1604.2,   2.3610,  34.6800,2,  34.6810,2,    179.2,2,    183.6,2,    76.90,2,    31.79,2,     2.12,2,    0.184,2,    0.089,2,    0.010,2,   2248.2,2,   2339.3,2,   2.25194081
  09AR20011029,  SR03,    39,  1,      8,2,20011110,-51.2555, 143.1385, 3744,   1805.0,   2.2470,  34.7170,2,  34.7170,2,    186.0,2,    189.1,2,    79.30,2,    31.10,2,     2.07,2,    0.138,2,    0.075,2,    0.020,2,   2246.0,2,   2342.4,2,   2.12292747
  09AR20011029,  SR03,    39,  1,      7,2,20011110,-51.2555, 143.1385, 3744,   2005.6,   2.0970,  34.7390,2,  34.7410,2,    194.5,2,    194.7,2,    83.10,2,    30.60,2,     2.01,2,    0.103,2,    0.044,2,    0.000,2,   2245.2,2,   2347.3,2,   1.95821857
  09AR20011029,  SR03,    39,  1,      6,2,20011110,-51.2555, 143.1385, 3744,   2308.0,   1.8460,  34.7490,2,  34.7490,2,    198.7,2,    200.0,2,    90.60,2,    30.48,2,     2.00,2,    0.084,2,    0.040,2,    0.020,2,   2247.2,2,   2351.7,2,   1.68522698
  09AR20011029,  SR03,    39,  1,      5,2,20011110,-51.2555, 143.1385, 3744,   2601.4,   1.6100,  34.7430,2,  34.7440,2,    203.8,2,    203.0,2,    98.00,2,    30.86,2,     2.03,2,    0.072,2,    0.036,2,    0.000,2,   2250.5,2,   2354.2,2,   1.42750873
  09AR20011029,  SR03,    39,  1,      4,2,20011110,-51.2555, 143.1385, 3744,   2899.6,   1.2990,  34.7300,2,  34.7310,2,    206.1,2,    206.3,2,   108.00,2,    31.26,2,     2.06,2,    0.080,2,    0.040,2,    0.010,2,   2254.9,2,   2360.6,2,   1.09567903
  09AR20011029,  SR03,    39,  1,      3,2,20011110,-51.2555, 143.1385, 3744,   3200.2,   1.1400,  34.7220,2,  34.7230,2,    207.8,2,    207.7,2,   113.90,2,    31.60,2,     2.09,2,    0.081,2,    0.047,2,    0.010,2,   2258.8,2,   2361.7,2,  0.911996366
  09AR20011029,  SR03,    39,  1,      2,2,20011110,-51.2555, 143.1385, 3744,   3499.2,   1.0380,  34.7170,2,-999.0000,9,    209.1,2,   -999.0,9,  -999.00,9,  -999.00,9,  -999.00,9, -999.000,9, -999.000,9, -999.000,9,   -999.0,9,   -999.0,9,  0.783354079
  09AR20011029,  SR03,    39,  1,      1,2,20011110,-51.2555, 143.1385, 3744,   3852.8,   0.9790,  34.7130,2,  34.7140,2,    211.8,2,    211.7,2,   120.30,2,    31.88,2,     2.11,2,    0.125,6,    0.065,6,    0.010,6,   2259.5,6,   2359.1,2,  0.690012899
  09AR20011029,  SR03,    40,  1,     24,2,20011110,-51.5305, 143.0067, 3686,     11.0,   5.3400,  33.9080,2,  33.9060,2,    369.4,3,    319.8,2,     6.60,2,    22.02,2,     1.41,2, -999.000,9, -999.000,9, -999.000,9,   2112.0,2,   2272.0,2,   5.33914485
  09AR20011029,  SR03,    40,  1,     23,2,20011110,-51.5305, 143.0067, 3686,     50.5,   5.1420,  33.9060,2,  33.9060,2,    320.2,2,    319.9,2,     6.50,2,    21.95,2,     1.42,2, -999.000,9, -999.000,9, -999.000,9,   -999.0,9,   -999.0,9,   5.13813824
  09AR20011029,  SR03,    40,  1,     22,2,20011110,-51.5305, 143.0067, 3686,    100.8,   4.2430,  33.9290,4,  33.9340,2,    320.3,2,    313.7,2,     8.30,2,    23.26,2,     1.52,2, -999.000,9, -999.000,9, -999.000,9,   -999.0,9,   -999.0,9,   4.23596873
  09AR20011029,  SR03,    40,  1,     21,2,20011110,-51.5305, 143.0067, 3686,    149.3,   3.9800,  33.9320,2,  33.9360,2,    306.2,2,    311.3,2,     9.60,2,    24.08,2,     1.57,2, -999.000,9, -999.000,9, -999.000,9,   -999.0,9,   -999.0,9,   3.96984288
  09AR20011029,  SR03,    40,  1,     20,2,20011110,-51.5305, 143.0067, 3686,    200.9,   3.5090,  33.9220,3,  33.9260,2,    313.8,2,    310.9,2,    10.80,2,    25.09,2,     1.62,2, -999.000,9, -999.000,9, -999.000,9,   -999.0,9,   -999.0,9,   3.49601373
  09AR20011029,  SR03,    40,  1,     19,2,20011110,-51.5305, 143.0067, 3686,    300.8,   4.3400,  34.1450,2,  34.1450,2,    260.5,2,    261.9,2,    18.10,2,    27.39,2,     1.78,2, -999.000,9, -999.000,9, -999.000,9,   -999.0,9,   -999.0,9,    4.3182148
  09AR20011029,  SR03,    40,  1,    518,2,20011110,-51.5305, 143.0067, 3686,    401.1,   3.7200,  34.1680,4,  34.1680,2,    246.2,2,    253.1,2,    23.90,2,    29.33,2,     1.90,2, -999.000,9, -999.000,9, -999.000,9,   -999.0,9,   -999.0,9,   3.69259519
  09AR20011029,  SR03,    40,  1,     17,2,20011110,-51.5305, 143.0067, 3686,    500.4,   3.4580,  34.2150,4,  34.2160,2,    240.7,2,    239.5,2,    29.60,2,    30.77,2,     2.01,2, -999.000,9, -999.000,9, -999.000,9,   -999.0,9,   -999.0,9,   3.42442138
  09AR20011029,  SR03,    40,  1,     16,2,20011110,-51.5305, 143.0067, 3686,    600.6,   3.4640,  34.2980,2,  34.2970,2,    213.8,2,    218.2,2,    37.30,2,    32.00,2,     2.11,2, -999.000,9, -999.000,9, -999.000,9,   -999.0,9,   -999.0,9,   3.42311354
  09AR20011029,  SR03,    40,  1,     15,2,20011110,-51.5305, 143.0067, 3686,    700.5,   2.9730,  34.3220,2,  34.3190,2,    211.9,2,    210.2,2,    45.40,2,    33.22,2,     2.20,2, -999.000,9, -999.000,9, -999.000,9,   -999.0,9,   -999.0,9,   2.92745725
  09AR20011029,  SR03,    40,  1,     14,2,20011110,-51.5305, 143.0067, 3686,    801.4,   2.8680,  34.3850,2,  34.3840,2,    200.1,2,    197.3,2,    53.50,2,    34.08,2,     2.25,2, -999.000,9, -999.000,9, -999.000,9,   -999.0,9,   -999.0,9,   2.81583073
  09AR20011029,  SR03,    40,  1,     13,2,20011110,-51.5305, 143.0067, 3686,    899.7,   2.7160,  34.4360,2,  34.4350,2,    190.9,2,    188.7,2,    60.00,2,    34.19,2,     2.27,2, -999.000,9, -999.000,9, -999.000,9,   -999.0,9,   -999.0,9,   2.65772885
  09AR20011029,  SR03,    40,  1,     12,2,20011110,-51.5305, 143.0067, 3686,   1071.5,   2.5800,  34.5250,2,  34.5250,2,    179.3,2,    180.5,2,    71.80,2,    33.47,2,     2.24,2, -999.000,9, -999.000,9, -999.000,9,   -999.0,9,   -999.0,9,   2.51011809
  09AR20011029,  SR03,    40,  1,     11,2,20011110,-51.5305, 143.0067, 3686,   1199.2,   2.5040,  34.5860,2,  34.5860,2,    177.4,2,    179.3,2,    72.10,2,    33.83,2,     2.24,2, -999.000,9, -999.000,9, -999.000,9,   -999.0,9,   -999.0,9,   2.42516263
  09AR20011029,  SR03,    40,  1,     10,2,20011110,-51.5305, 143.0067, 3686,   1399.6,   2.4020,  34.6520,2,  34.6510,2,    181.6,2,    181.4,2,    75.70,2,    32.90,2,     2.17,2, -999.000,9, -999.000,9, -999.000,9,   -999.0,9,   -999.0,9,   2.30872703
  09AR20011029,  SR03,    40,  1,      9,2,20011110,-51.5305, 143.0067, 3686,   1600.6,   2.2930,  34.7020,2,  34.7020,2,    188.5,2,    187.2,2,    78.50,2,    31.67,2,     2.09,2, -999.000,9, -999.000,9, -999.000,9,   -999.0,9,   -999.0,9,   2.18501091
  09AR20011029,  SR03,    40,  1,      8,2,20011110,-51.5305, 143.0067, 3686,   1800.3,   2.1720,  34.7300,2,  34.7290,2,    190.8,2,    191.7,2,    81.30,2,    31.10,2,     2.04,2, -999.000,9, -999.000,9, -999.000,9,   -999.0,9,   -999.0,9,   2.04931172
  09AR20011029,  SR03,    40,  1,      7,2,20011110,-51.5305, 143.0067, 3686,   2099.4,   1.9450,  34.7480,2,  34.7470,2,    199.3,2,    198.1,2,    87.60,2,    30.74,2,     2.01,2, -999.000,9, -999.000,9, -999.000,9,   -999.0,9,   -999.0,9,   1.80059525
  09AR20011029,  SR03,    40,  1,      6,2,20011110,-51.5305, 143.0067, 3686,   2402.0,   1.6780,  34.7460,2,  34.7470,2,    200.6,2,    202.5,2,    95.40,2,    30.84,2,     2.02,2, -999.000,9, -999.000,9, -999.000,9,   -999.0,9,   -999.0,9,   1.51196924
  09AR20011029,  SR03,    40,  1,      5,2,20011110,-51.5305, 143.0067, 3686,   2700.5,   1.4370,  34.7370,2,  34.7380,2,    207.3,2,    204.9,2,   103.30,2,    31.35,2,     2.07,2, -999.000,9, -999.000,9, -999.000,9,   -999.0,9,   -999.0,9,   1.24899599
  09AR20011029,  SR03,    40,  1,      4,2,20011110,-51.5305, 143.0067, 3686,   3000.5,   1.2360,  34.7270,2,  34.7280,2,    208.2,2,    109.1,4,   110.80,2,    31.48,2,     2.09,2, -999.000,9, -999.000,9, -999.000,9,   -999.0,9,   -999.0,9,   1.02468261
  09AR20011029,  SR03,    40,  1,      3,2,20011110,-51.5305, 143.0067, 3686,   3300.3,   1.1050,  34.7200,2,  34.7210,2,    208.6,2,    208.2,2,   116.50,2,    32.08,2,     2.13,2, -999.000,9, -999.000,9, -999.000,9,   -999.0,9,   -999.0,9,  0.868194249
  09AR20011029,  SR03,    40,  1,      2,2,20011110,-51.5305, 143.0067, 3686,   3601.9,   0.9950,  34.7140,2,  34.7150,2,    210.7,2,    210.4,2,   120.10,2,    32.22,2,     2.13,2, -999.000,9, -999.000,9, -999.000,9,   -999.0,9,   -999.0,9,  0.731209973
  09AR20011029,  SR03,    40,  1,      1,2,20011110,-51.5305, 143.0067, 3686,   3820.7,   0.9760,  34.7120,2,  34.7130,2,   -999.0,5,    211.5,2,   121.00,2,    32.13,2,     2.13,2, -999.000,9, -999.000,9, -999.000,9,   -999.0,9,   -999.0,9,  0.690426957
  09AR20011029,  SR03,    41,  1,     24,2,20011110,-51.8032, 142.8448, 3655,     10.5,   5.3670,  33.8860,2,  33.8860,2,    361.6,3,    319.9,2,     5.70,2,    21.81,2,     1.39,2,    5.110,2,    2.728,2,    0.500,2,   2110.3,6,   2270.5,2,   5.36618188
  09AR20011029,  SR03,    41,  1,     23,2,20011110,-51.8032, 142.8448, 3655,     50.7,   4.4730,  33.8960,4,  33.8960,2,    326.5,2,    319.1,2,     6.90,2,    22.86,2,     1.47,2,    5.097,2,    2.680,2,    0.490,2,   2114.7,2,   2271.3,6,   4.46939319
  09AR20011029,  SR03,    41,  1,     22,2,20011110,-51.8032, 142.8448, 3655,     99.6,   4.1700,  33.9110,4,  33.9080,2,    316.6,2,    313.3,2,     8.30,2,    23.96,2,     1.55,2,    5.094,2,    2.656,2,    0.470,2,   2123.3,2,   2270.7,2,   4.16311595
  09AR20011029,  SR03,    41,  1,     21,2,20011110,-51.8032, 142.8448, 3655,    151.2,   4.0100,  33.9540,4,  33.9550,2,    303.1,2,    301.6,2,    10.60,2,    25.12,2,     1.62,2,    4.889,2,    2.522,2,    0.430,2,   2133.2,2,   2273.4,2,   3.99967013
  09AR20011029,  SR03,    41,  1,     20,2,20011110,-51.8032, 142.8448, 3655,    201.3,   4.2300,  34.0560,4,  34.0570,2,    280.1,2,    282.3,2,    14.00,2,    25.89,2,     1.67,2,    4.585,2,    2.368,2,    0.410,2,   2145.3,2,   2276.9,2,   4.21578055
  09AR20011029,  SR03,    41,  1,     19,4,20011110,-51.8032, 142.8448, 3655,    301.0,   4.3320,  34.1940,3,  34.2410,0,    248.0,2,    231.9,4,    28.70,4,    29.86,4,     1.95,4,    2.913,2,    1.453,2,    0.240,2,   2185.9,3,   2291.2,3,         -999
  09AR20011029,  SR03,    41,  1,    518,2,20011110,-51.8032, 142.8448, 3655,    400.6,   3.8830,  34.2210,3,  34.2210,2,    232.6,2,    240.4,2,    26.10,2,    30.04,2,     1.95,2,    3.310,2,    1.652,2,    0.260,2,   2178.4,2,   2286.8,2,   3.85507645
  09AR20011029,  SR03,    41,  1,     17,2,20011110,-51.8032, 142.8448, 3655,    500.9,   3.3720,  34.2400,2,  34.2400,2,    228.8,2,    231.7,2,    32.90,2,    31.48,2,     2.06,2,    2.901,2,    1.425,2,    0.230,2,   2193.8,2,   2292.3,2,    3.3387075
  09AR20011029,  SR03,    41,  1,     16,2,20011110,-51.8032, 142.8448, 3655,    601.8,   3.1430,  34.3030,2,  34.3010,2,    212.7,2,    214.8,2,    41.70,2,    32.99,2,     2.15,2,    2.158,2,    1.045,2,    0.150,2,   2207.0,2,   2301.0,2,   3.10355269
  09AR20011029,  SR03,    41,  1,     15,2,20011110,-51.8032, 142.8448, 3655,    703.0,   2.9630,  34.3690,2,  34.3680,2,    201.1,2,    199.8,2,    50.50,2,    33.60,2,     2.23,2,    1.496,2,    0.710,2,    0.100,2,   2222.1,2,   2309.8,2,     2.917277
  09AR20011029,  SR03,    41,  1,     14,2,20011110,-51.8032, 142.8448, 3655,    801.4,   2.7690,  34.4120,2,  34.4100,2,    192.4,2,    191.8,2,    57.00,2,    34.03,2,     2.25,2,    1.209,2,    0.574,2,    0.080,2,   2232.4,2,   2316.1,2,   2.71742236
  09AR20011029,  SR03,    41,  1,     13,2,20011110,-51.8032, 142.8448, 3655,    900.7,   2.6890,  34.4710,2,  34.4710,2,    188.7,2,    184.3,2,    63.10,2,    34.68,2,     2.27,2,    0.854,2,    0.412,2,    0.050,2,   2239.8,2,   2323.2,6,    2.6307928
  09AR20011029,  SR03,    41,  1,     12,2,20011110,-51.8032, 142.8448, 3655,   1051.4,   2.5550,  34.5450,2,  34.5450,2,    180.6,2,    179.5,2,    68.50,2,    34.26,2,     2.26,2,    0.529,2,    0.255,2,    0.030,2,   2245.7,6,   2329.5,2,   2.48676706
  09AR20011029,  SR03,    41,  1,     11,2,20011110,-51.8032, 142.8448, 3655,   1200.9,   2.4580,  34.6130,2,  34.6100,2,    182.6,2,    179.2,2,    73.40,2,    33.41,2,     2.21,2,    0.334,2,    0.162,2,    0.020,2,   2248.0,2,   2336.2,2,   2.37941664
  09AR20011029,  SR03,    41,  1,     10,2,20011110,-51.8032, 142.8448, 3655,   1399.7,   2.3540,  34.6760,2,  34.6750,2,    184.9,2,    183.5,2,    77.10,2,    32.44,2,     2.13,2,    0.201,2,    0.099,2,    0.020,2,   2247.6,2,   2340.1,2,    2.2611828
  09AR20011029,  SR03,    41,  1,      9,2,20011110,-51.8032, 142.8448, 3655,   1599.9,   2.2540,  34.7120,2,  34.7120,2,    187.7,2,    188.0,2,    79.40,2,    31.59,2,     2.08,2,    0.142,2,    0.072,2,    0.010,2,   2246.7,2,   2342.2,2,   2.14652012
  09AR20011029,  SR03,    41,  1,      8,2,20011110,-51.8032, 142.8448, 3655,   1798.8,   2.1270,  34.7370,2,  34.7370,2,    193.4,2,    193.6,2,    83.00,2,    30.92,2,     2.05,2,    0.094,2,    0.050,2,    0.010,2,   2245.2,2,   2346.1,2,   2.00502976
  09AR20011029,  SR03,    41,  1,      7,2,20011110,-51.8032, 142.8448, 3655,   2098.1,   1.8670,  34.7480,2,  34.7480,2,    200.2,2,    199.3,2,    91.30,2,    30.83,2,     2.03,2,    0.072,2,    0.038,2,    0.010,2,   2247.1,2,   2350.2,2,   1.72394282
  09AR20011029,  SR03,    41,  1,      6,2,20011110,-51.8032, 142.8448, 3655,   2400.3,   1.5810,  34.7420,2,  34.7430,2,    203.3,2,    203.1,2,    99.00,2,    30.85,2,     2.04,2,    0.069,2,    0.037,2,    0.000,2,   2251.3,2,   2353.8,2,   1.41688422
  09AR20011029,  SR03,    41,  1,      5,2,20011110,-51.8032, 142.8448, 3655,   2700.5,   1.3940,  34.7340,2,  34.7360,2,    204.6,2,    205.2,2,   105.40,2,    31.03,2,     2.07,2,    0.069,2,    0.035,2,    0.000,2,   2253.8,2,   2357.3,2,   1.20686945
  09AR20011029,  SR03,    41,  1,      4,2,20011110,-51.8032, 142.8448, 3655,   3001.5,   1.1930,  34.7240,2,  34.7250,2,    206.6,2,    207.0,2,   113.10,2,    31.69,2,     2.10,2,    0.064,2,    0.035,2,    0.000,2,   2257.5,2,   2362.5,2,  0.982555586
  09AR20011029,  SR03,    41,  1,      3,2,20011110,-51.8032, 142.8448, 3655,   3299.9,   1.0720,  34.7180,2,  34.7190,2,    208.4,2,    208.0,2,   116.90,2,    31.79,2,     2.13,2,    0.062,2,    0.029,3,    0.000,2,   2261.0,2,   2366.4,2,  0.836038252
  09AR20011029,  SR03,    41,  1,      2,2,20011110,-51.8032, 142.8448, 3655,   3603.3,   1.0380,  34.7150,2,  34.7160,2,    210.2,2,    209.3,2,   119.10,2,    32.34,2,     2.13,2,    0.078,2,    0.046,2,    0.000,2,   2260.5,2,   2365.2,6,   0.77294623
  09AR20011029,  SR03,    41,  1,      1,2,20011110,-51.8032, 142.8448, 3655,   3785.1,   1.0280,  34.7150,2,  34.7160,2,    211.4,2,    210.3,2,   119.60,2,    32.33,2,     2.13,2,    0.095,2,    0.049,2,    0.020,2,   2260.7,6,   2361.1,2,  0.744671087