BOTTLE,20081126PRINUNIVRMK
EXPOCODE,SECT_ID,STNNBR,CASTNO,BTLNBR,BTLNBR_FLAG_W,DATE,LATITUDE,LONGITUDE,DEPTH,CTDPRS,CTDTMP,CTDSAL,CTDSAL_FLAG_W,SALNTY,SALNTY_FLAG_W,CTDOXY,CTDOXY_FLAG_W,OXYGEN,OXYGEN_FLAG_W,SILCAT,SILCAT_FLAG_W,NITRAT,NITRAT_FLAG_W,PHSPHT,PHSPHT_FLAG_W,CFC-11,CFC-11_FLAG_W,CFC-12,CFC-12_FLAG_W,CFC113,CFC113_FLAG_W,TCARBN,TCARBN_FLAG_W,ALKALI,ALKALI_FLAG_W,THETA
,,,,,,,,,METERS,DBARS,ITS-90,PSS-78,,PSS-78,,UMOL/KG,,UMOL/KG,,UMOL/KG,,UMOL/KG,,UMOL/KG,,PMOL/KG,,PMOL/KG,,PMOL/KG,,UMOL/KG,,UMOL/KG,,DEGC
  09AR20011029,  SR03,   132,  1,    715,2,20011207,-60.8095, 139.9450, 4307,     15.1,   0.1130,  33.9170,2,-999.0000,9,   -999.0,5,   -999.0,9,  -999.00,9,  -999.00,9,  -999.00,9, -999.000,9, -999.000,9, -999.000,9,   -999.0,9,   -999.0,9,  0.112473615
  09AR20011029,  SR03,   132,  1,     24,2,20011207,-60.8095, 139.9450, 4307,     15.2,   0.1150,  33.9160,2,-999.0000,9,   -999.0,5,   -999.0,9,  -999.00,9,  -999.00,9,  -999.00,9, -999.000,9, -999.000,9, -999.000,9,   -999.0,9,   -999.0,9,  0.114469883
  09AR20011029,  SR03,   132,  1,     23,2,20011207,-60.8095, 139.9450, 4307,     15.2,   0.1140,  33.9170,2,-999.0000,9,   -999.0,5,   -999.0,9,  -999.00,9,  -999.00,9,  -999.00,9, -999.000,9, -999.000,9, -999.000,9,   -999.0,9,   -999.0,9,  0.113469985
  09AR20011029,  SR03,   132,  1,     19,2,20011207,-60.8095, 139.9450, 4307,     15.2,   0.1130,  33.9170,2,-999.0000,9,   -999.0,5,   -999.0,9,  -999.00,9,  -999.00,9,  -999.00,9, -999.000,9, -999.000,9, -999.000,9,   -999.0,9,   -999.0,9,  0.112470115
  09AR20011029,  SR03,   132,  1,    218,2,20011207,-60.8095, 139.9450, 4307,     15.2,   0.1130,  33.9170,2,-999.0000,9,   -999.0,5,   -999.0,9,  -999.00,9,  -999.00,9,  -999.00,9, -999.000,9, -999.000,9, -999.000,9,   -999.0,9,   -999.0,9,  0.112470115
  09AR20011029,  SR03,   132,  1,     17,2,20011207,-60.8095, 139.9450, 4307,     15.2,   0.1130,  33.9170,2,-999.0000,9,   -999.0,5,   -999.0,9,  -999.00,9,  -999.00,9,  -999.00,9, -999.000,9, -999.000,9, -999.000,9,   -999.0,9,   -999.0,9,  0.112470115
  09AR20011029,  SR03,   132,  1,     16,2,20011207,-60.8095, 139.9450, 4307,     15.2,   0.1130,  33.9170,2,-999.0000,9,   -999.0,5,   -999.0,9,  -999.00,9,  -999.00,9,  -999.00,9, -999.000,9, -999.000,9, -999.000,9,   -999.0,9,   -999.0,9,  0.112470115
  09AR20011029,  SR03,   132,  1,     14,2,20011207,-60.8095, 139.9450, 4307,     15.2,   0.1130,  33.9170,2,-999.0000,9,   -999.0,5,   -999.0,9,  -999.00,9,  -999.00,9,  -999.00,9, -999.000,9, -999.000,9, -999.000,9,   -999.0,9,   -999.0,9,  0.112470115
  09AR20011029,  SR03,   132,  1,     22,2,20011207,-60.8095, 139.9450, 4307,     15.3,   0.1140,  33.9170,2,-999.0000,9,   -999.0,5,   -999.0,9,  -999.00,9,  -999.00,9,  -999.00,9, -999.000,9, -999.000,9, -999.000,9,   -999.0,9,   -999.0,9,  0.113466484
  09AR20011029,  SR03,   132,  1,     21,2,20011207,-60.8095, 139.9450, 4307,     15.3,   0.1130,  33.9170,2,-999.0000,9,   -999.0,5,   -999.0,9,  -999.00,9,  -999.00,9,  -999.00,9, -999.000,9, -999.000,9, -999.000,9,   -999.0,9,   -999.0,9,  0.112466615
  09AR20011029,  SR03,   132,  1,     20,2,20011207,-60.8095, 139.9450, 4307,     15.3,   0.1130,  33.9170,2,-999.0000,9,   -999.0,5,   -999.0,9,  -999.00,9,  -999.00,9,  -999.00,9, -999.000,9, -999.000,9, -999.000,9,   -999.0,9,   -999.0,9,  0.112466615
  09AR20011029,  SR03,   132,  1,     13,2,20011207,-60.8095, 139.9450, 4307,     15.8,   0.1130,  33.9160,2,-999.0000,9,   -999.0,5,   -999.0,9,  -999.00,9,  -999.00,9,  -999.00,9, -999.000,9, -999.000,9, -999.000,9,   -999.0,9,   -999.0,9,   0.11244914
  09AR20011029,  SR03,   132,  1,      8,2,20011207,-60.8095, 139.9450, 4307,     51.1,   0.1130,  33.9180,2,-999.0000,9,   -999.0,5,   -999.0,9,  -999.00,9,  -999.00,9,  -999.00,9, -999.000,9, -999.000,9, -999.000,9,   -999.0,9,   -999.0,9,  0.111201578
  09AR20011029,  SR03,   132,  1,      7,2,20011207,-60.8095, 139.9450, 4307,     51.1,   0.1130,  33.9180,2,-999.0000,9,   -999.0,5,   -999.0,9,  -999.00,9,  -999.00,9,  -999.00,9, -999.000,9, -999.000,9, -999.000,9,   -999.0,9,   -999.0,9,  0.111201578
  09AR20011029,  SR03,   132,  1,      6,2,20011207,-60.8095, 139.9450, 4307,     51.1,   0.1130,  33.9180,2,-999.0000,9,   -999.0,5,   -999.0,9,  -999.00,9,  -999.00,9,  -999.00,9, -999.000,9, -999.000,9, -999.000,9,   -999.0,9,   -999.0,9,  0.111201578
  09AR20011029,  SR03,   132,  1,      4,2,20011207,-60.8095, 139.9450, 4307,     51.1,   0.1130,  33.9180,2,-999.0000,9,   -999.0,5,   -999.0,9,  -999.00,9,  -999.00,9,  -999.00,9, -999.000,9, -999.000,9, -999.000,9,   -999.0,9,   -999.0,9,  0.111201578
  09AR20011029,  SR03,   132,  1,     12,2,20011207,-60.8095, 139.9450, 4307,     51.2,   0.1140,  33.9170,2,-999.0000,9,   -999.0,5,   -999.0,9,  -999.00,9,  -999.00,9,  -999.00,9, -999.000,9, -999.000,9, -999.000,9,   -999.0,9,   -999.0,9,  0.112197671
  09AR20011029,  SR03,   132,  1,     11,2,20011207,-60.8095, 139.9450, 4307,     51.2,   0.1130,  33.9180,2,-999.0000,9,   -999.0,5,   -999.0,9,  -999.00,9,  -999.00,9,  -999.00,9, -999.000,9, -999.000,9, -999.000,9,   -999.0,9,   -999.0,9,  0.111198011
  09AR20011029,  SR03,   132,  1,    310,2,20011207,-60.8095, 139.9450, 4307,     51.2,   0.1130,  33.9180,2,-999.0000,9,   -999.0,5,   -999.0,9,  -999.00,9,  -999.00,9,  -999.00,9, -999.000,9, -999.000,9, -999.000,9,   -999.0,9,   -999.0,9,  0.111198011
  09AR20011029,  SR03,   132,  1,    709,2,20011207,-60.8095, 139.9450, 4307,     51.2,   0.1130,  33.9180,2,-999.0000,9,   -999.0,5,   -999.0,9,  -999.00,9,  -999.00,9,  -999.00,9, -999.000,9, -999.000,9, -999.000,9,   -999.0,9,   -999.0,9,  0.111198011
  09AR20011029,  SR03,   132,  1,      5,2,20011207,-60.8095, 139.9450, 4307,     51.2,   0.1130,  33.9180,2,-999.0000,9,   -999.0,5,   -999.0,9,  -999.00,9,  -999.00,9,  -999.00,9, -999.000,9, -999.000,9, -999.000,9,   -999.0,9,   -999.0,9,  0.111198011
  09AR20011029,  SR03,   132,  1,      2,2,20011207,-60.8095, 139.9450, 4307,     81.6,  -0.0610,  33.9430,4,-999.0000,9,   -999.0,5,   -999.0,9,  -999.00,9,  -999.00,9,  -999.00,9, -999.000,9, -999.000,9, -999.000,9,   -999.0,9,   -999.0,9,         -999
  09AR20011029,  SR03,   132,  1,      1,2,20011207,-60.8095, 139.9450, 4307,     81.6,  -0.0940,  33.9400,4,-999.0000,9,   -999.0,5,   -999.0,9,  -999.00,9,  -999.00,9,  -999.00,9, -999.000,9, -999.000,9, -999.000,9,   -999.0,9,   -999.0,9,         -999
  09AR20011029,  SR03,   132,  1,      3,2,20011207,-60.8095, 139.9450, 4307,     81.8,  -0.0290,  33.9410,4,-999.0000,9,   -999.0,5,   -999.0,9,  -999.00,9,  -999.00,9,  -999.00,9, -999.000,9, -999.000,9, -999.000,9,   -999.0,9,   -999.0,9,         -999
  09AR20011029,  SR03,   133,  1,     24,2,20011210,-51.0057, 143.3082, 3700,      8.3,   7.5920,  34.1580,2,-999.0000,9,   -999.0,5,   -999.0,9,  -999.00,9,  -999.00,9,  -999.00,9, -999.000,9, -999.000,9, -999.000,9,   -999.0,9,   -999.0,9,   7.59120641
  09AR20011029,  SR03,   133,  1,     23,2,20011210,-51.0057, 143.3082, 3700,      8.3,   7.5910,  34.1580,2,  34.1620,2,   -999.0,5,   -999.0,9,     5.00,2,    18.52,2,     1.18,2,    4.382,6,    2.387,6,    0.440,6,   -999.0,9,   -999.0,9,   7.59020642
  09AR20011029,  SR03,   133,  1,     21,2,20011210,-51.0057, 143.3082, 3700,     39.7,   7.5950,  34.1580,2,  34.1610,2,   -999.0,5,   -999.0,9,     5.00,2,    18.49,2,     1.20,2,    4.389,2,    2.394,2,    0.440,2,   -999.0,9,   -999.0,9,   7.59119471
  09AR20011029,  SR03,   133,  1,     22,2,20011210,-51.0057, 143.3082, 3700,     39.8,   7.5920,  34.1580,2,-999.0000,9,   -999.0,5,   -999.0,9,  -999.00,9,  -999.00,9,  -999.00,9, -999.000,9, -999.000,9, -999.000,9,   -999.0,9,   -999.0,9,   7.58818619
  09AR20011029,  SR03,   133,  1,     20,2,20011210,-51.0057, 143.3082, 3700,     64.5,   7.5970,  34.1650,3,-999.0000,9,   -999.0,5,   -999.0,9,  -999.00,9,  -999.00,9,  -999.00,9, -999.000,9, -999.000,9, -999.000,9,   -999.0,9,   -999.0,9,         -999
  09AR20011029,  SR03,   133,  1,     19,2,20011210,-51.0057, 143.3082, 3700,     64.6,   7.5900,  34.1700,3,-999.0000,9,   -999.0,5,   -999.0,9,  -999.00,9,  -999.00,9,  -999.00,9,    4.397,2,    2.396,2,    0.430,2,   -999.0,9,   -999.0,9,         -999
  09AR20011029,  SR03,   133,  1,    218,2,20011210,-51.0057, 143.3082, 3700,     90.6,   7.6910,  34.3250,3,-999.0000,9,   -999.0,5,   -999.0,9,  -999.00,9,  -999.00,9,  -999.00,9, -999.000,9, -999.000,9, -999.000,9,   -999.0,9,   -999.0,9,         -999
  09AR20011029,  SR03,   133,  1,     17,2,20011210,-51.0057, 143.3082, 3700,     90.6,   7.6700,  34.3200,4,  34.3270,2,   -999.0,5,   -999.0,9,     4.80,2,    16.84,2,     1.11,2,    4.274,2,    2.328,2,    0.400,2,   -999.0,9,   -999.0,9,   7.66120982
  09AR20011029,  SR03,   133,  1,    715,2,20011210,-51.0057, 143.3082, 3700,    109.3,   7.5710,  34.3230,4,  34.3220,2,   -999.0,5,   -999.0,9,     4.90,2,    17.36,2,     1.15,2,    4.262,2,    2.314,2,    0.380,2,   -999.0,9,   -999.0,9,   7.56046496
  09AR20011029,  SR03,   133,  1,     16,2,20011210,-51.0057, 143.3082, 3700,    109.6,   7.5180,  34.3070,2,-999.0000,9,   -999.0,5,   -999.0,9,  -999.00,9,  -999.00,9,  -999.00,9, -999.000,9, -999.000,9, -999.000,9,   -999.0,9,   -999.0,9,   7.50748256
  09AR20011029,  SR03,   133,  1,     13,2,20011210,-51.0057, 143.3082, 3700,    124.4,   7.7780,  34.3930,3,-999.0000,9,   -999.0,5,   -999.0,9,     4.90,2,    17.49,2,     1.15,2, -999.000,9, -999.000,9, -999.000,9,   -999.0,9,   -999.0,9,         -999
  09AR20011029,  SR03,   133,  1,     14,2,20011210,-51.0057, 143.3082, 3700,    124.6,   7.7740,  34.3920,3,-999.0000,9,   -999.0,5,   -999.0,9,  -999.00,9,  -999.00,9,  -999.00,9, -999.000,9, -999.000,9, -999.000,9,   -999.0,9,   -999.0,9,         -999
  09AR20011029,  SR03,   133,  1,     12,2,20011210,-51.0057, 143.3082, 3700,    140.3,   7.8410,  34.4170,2,-999.0000,9,   -999.0,5,   -999.0,9,  -999.00,9,  -999.00,9,  -999.00,9, -999.000,9, -999.000,9, -999.000,9,   -999.0,9,   -999.0,9,   7.82714022
  09AR20011029,  SR03,   133,  1,     11,2,20011210,-51.0057, 143.3082, 3700,    140.9,   7.8420,  34.4170,2,-999.0000,9,   -999.0,5,   -999.0,9,     5.10,2,    17.58,2,     1.16,2, -999.000,9, -999.000,9, -999.000,9,   -999.0,9,   -999.0,9,   7.82807932
  09AR20011029,  SR03,   133,  1,    310,2,20011210,-51.0057, 143.3082, 3700,    149.8,   7.8370,  34.4180,2,-999.0000,9,   -999.0,5,   -999.0,9,  -999.00,9,  -999.00,9,  -999.00,9, -999.000,9, -999.000,9, -999.000,9,   -999.0,9,   -999.0,9,   7.82219667
  09AR20011029,  SR03,   133,  1,    709,2,20011210,-51.0057, 143.3082, 3700,    149.8,   7.8160,  34.4170,4,-999.0000,9,   -999.0,5,   -999.0,9,     5.00,2,    17.74,2,     1.16,2, -999.000,9, -999.000,9, -999.000,9,   -999.0,9,   -999.0,9,         -999
  09AR20011029,  SR03,   133,  1,      7,2,20011210,-51.0057, 143.3082, 3700,    200.0,   6.9340,  34.2740,4,-999.0000,9,   -999.0,5,   -999.0,9,     5.90,2,    19.61,2,     1.29,2, -999.000,9, -999.000,9, -999.000,9,   -999.0,9,   -999.0,9,         -999
  09AR20011029,  SR03,   133,  1,      8,2,20011210,-51.0057, 143.3082, 3700,    200.3,   6.8750,  34.2640,4,-999.0000,9,   -999.0,5,   -999.0,9,  -999.00,9,  -999.00,9,  -999.00,9, -999.000,9, -999.000,9, -999.000,9,   -999.0,9,   -999.0,9,         -999
  09AR20011029,  SR03,   133,  1,      6,2,20011210,-51.0057, 143.3082, 3700,    250.0,   6.4150,  34.2170,4,-999.0000,9,   -999.0,5,   -999.0,9,  -999.00,9,  -999.00,9,  -999.00,9, -999.000,9, -999.000,9, -999.000,9,   -999.0,9,   -999.0,9,         -999
  09AR20011029,  SR03,   133,  1,      5,2,20011210,-51.0057, 143.3082, 3700,    252.2,   6.4260,  34.2240,4,-999.0000,9,   -999.0,5,   -999.0,9,  -999.00,9,  -999.00,9,  -999.00,9, -999.000,9, -999.000,9, -999.000,9,   -999.0,9,   -999.0,9,         -999
  09AR20011029,  SR03,   133,  1,      4,2,20011210,-51.0057, 143.3082, 3700,    299.6,   5.9400,  34.1640,4,-999.0000,9,   -999.0,5,   -999.0,9,  -999.00,9,  -999.00,9,  -999.00,9, -999.000,9, -999.000,9, -999.000,9,   -999.0,9,   -999.0,9,         -999
  09AR20011029,  SR03,   133,  1,      3,2,20011210,-51.0057, 143.3082, 3700,    300.7,   5.9370,  34.1570,4,-999.0000,9,   -999.0,5,   -999.0,9,  -999.00,9,  -999.00,9,  -999.00,9, -999.000,9, -999.000,9, -999.000,9,   -999.0,9,   -999.0,9,         -999
  09AR20011029,  SR03,   133,  1,      2,2,20011210,-51.0057, 143.3082, 3700,    347.5,   6.2030,  34.2370,4,-999.0000,9,   -999.0,5,   -999.0,9,  -999.00,9,  -999.00,9,  -999.00,9, -999.000,9, -999.000,9, -999.000,9,   -999.0,9,   -999.0,9,         -999
  09AR20011029,  SR03,   133,  1,      1,2,20011210,-51.0057, 143.3082, 3700,    347.7,   6.2730,  34.2640,4,  34.2490,0,   -999.0,5,   -999.0,9,     9.90,2,    22.81,2,     1.48,2, -999.000,9, -999.000,9, -999.000,9,   -999.0,9,   -999.0,9,         -999
  09AR20011029,  SR03,   134,  1,     23,2,20011210,-50.9972, 143.3183, 3745,      4.9,   7.5020,  34.1420,2,-999.0000,9,   -999.0,5,   -999.0,9,  -999.00,9,  -999.00,9,  -999.00,9, -999.000,9, -999.000,9, -999.000,9,   -999.0,9,   -999.0,9,    7.5015351
  09AR20011029,  SR03,   134,  1,     24,2,20011210,-50.9972, 143.3183, 3745,      5.0,   7.5000,  34.1420,2,-999.0000,9,   -999.0,5,   -999.0,9,     5.00,2,    18.62,2,     1.20,2, -999.000,9, -999.000,9, -999.000,9,   -999.0,9,   -999.0,9,   7.49952569
  09AR20011029,  SR03,   134,  1,     21,2,20011210,-50.9972, 143.3183, 3745,      5.0,   7.5010,  34.1420,2,-999.0000,9,   -999.0,5,   -999.0,9,  -999.00,9,  -999.00,9,  -999.00,9, -999.000,9, -999.000,9, -999.000,9,   -999.0,9,   -999.0,9,   7.50052565
  09AR20011029,  SR03,   134,  1,     22,2,20011210,-50.9972, 143.3183, 3745,      5.1,   7.5010,  34.1420,2,-999.0000,9,   -999.0,5,   -999.0,9,  -999.00,9,  -999.00,9,  -999.00,9, -999.000,9, -999.000,9, -999.000,9,   -999.0,9,   -999.0,9,   7.50051616
  09AR20011029,  SR03,   134,  1,     20,2,20011210,-50.9972, 143.3183, 3745,     24.1,   7.5000,  34.1430,2,  34.1410,2,   -999.0,5,   -999.0,9,     5.00,2,    18.76,2,     1.22,2, -999.000,9, -999.000,9, -999.000,9,   -999.0,9,   -999.0,9,   7.49771074
  09AR20011029,  SR03,   134,  1,    218,2,20011210,-50.9972, 143.3183, 3745,     49.3,   7.5000,  34.1420,2,-999.0000,9,   -999.0,5,   -999.0,9,  -999.00,9,  -999.00,9,  -999.00,9, -999.000,9, -999.000,9, -999.000,9,   -999.0,9,   -999.0,9,   7.49530856
  09AR20011029,  SR03,   134,  1,     19,2,20011210,-50.9972, 143.3183, 3745,     49.7,   7.5000,  34.1410,2,-999.0000,9,   -999.0,5,   -999.0,9,     5.00,2,    18.57,2,     1.21,2, -999.000,9, -999.000,9, -999.000,9,   -999.0,9,   -999.0,9,   7.49527044
  09AR20011029,  SR03,   134,  1,     17,2,20011210,-50.9972, 143.3183, 3745,     70.4,   7.6570,  34.3200,4,  34.3060,2,   -999.0,5,   -999.0,9,     4.80,2,    16.84,2,     1.11,2, -999.000,9, -999.000,9, -999.000,9,   -999.0,9,   -999.0,9,    7.6501884
  09AR20011029,  SR03,   134,  1,     16,2,20011210,-50.9972, 143.3183, 3745,     89.8,   7.7110,  34.3520,4,-999.0000,9,   -999.0,5,   -999.0,9,     4.80,2,    17.52,2,     1.14,2, -999.000,9, -999.000,9, -999.000,9,   -999.0,9,   -999.0,9,         -999
  09AR20011029,  SR03,   134,  1,     13,2,20011210,-50.9972, 143.3183, 3745,    100.9,   7.7720,  34.3920,2,-999.0000,9,   -999.0,5,   -999.0,9,  -999.00,9,  -999.00,9,  -999.00,9, -999.000,9, -999.000,9, -999.000,9,   -999.0,9,   -999.0,9,   7.76211528
  09AR20011029,  SR03,   134,  1,     14,2,20011210,-50.9972, 143.3183, 3745,    101.0,   7.7730,  34.3890,2,-999.0000,9,   -999.0,5,   -999.0,9,  -999.00,9,  -999.00,9,  -999.00,9, -999.000,9, -999.000,9, -999.000,9,   -999.0,9,   -999.0,9,   7.76310512
  09AR20011029,  SR03,   134,  1,    715,2,20011210,-50.9972, 143.3183, 3745,    101.1,   7.7720,  34.3890,2,-999.0000,9,   -999.0,5,   -999.0,9,     4.80,2,    17.59,2,     1.15,2, -999.000,9, -999.000,9, -999.000,9,   -999.0,9,   -999.0,9,   7.76209602
  09AR20011029,  SR03,   134,  1,     12,2,20011210,-50.9972, 143.3183, 3745,    118.4,   7.8100,  34.4100,3,  34.4090,2,   -999.0,5,   -999.0,9,     4.80,2,    17.52,2,     1.15,2, -999.000,9, -999.000,9, -999.000,9,   -999.0,9,   -999.0,9,   7.79834998
  09AR20011029,  SR03,   134,  1,     11,2,20011210,-50.9972, 143.3183, 3745,    150.7,   7.5170,  34.3820,4,-999.0000,9,   -999.0,5,   -999.0,9,     5.20,2,    18.38,2,     1.20,2, -999.000,9, -999.000,9, -999.000,9,   -999.0,9,   -999.0,9,         -999
  09AR20011029,  SR03,   134,  1,    310,2,20011210,-50.9972, 143.3183, 3745,    199.8,   6.6580,  34.2370,3,-999.0000,9,   -999.0,5,   -999.0,9,     6.00,2,    20.08,2,     1.33,2, -999.000,9, -999.000,9, -999.000,9,   -999.0,9,   -999.0,9,         -999
  09AR20011029,  SR03,   134,  1,    709,2,20011210,-50.9972, 143.3183, 3745,    249.3,   6.3080,  34.2010,2,-999.0000,9,   -999.0,5,   -999.0,9,     7.00,2,    21.28,2,     1.38,2, -999.000,9, -999.000,9, -999.000,9,   -999.0,9,   -999.0,9,   6.28618804
  09AR20011029,  SR03,   134,  1,      8,2,20011210,-50.9972, 143.3183, 3745,    300.2,   6.0880,  34.2210,4,  34.2080,2,   -999.0,5,   -999.0,9,     8.40,2,    22.34,2,     1.44,2, -999.000,9, -999.000,9, -999.000,9,   -999.0,9,   -999.0,9,   6.06213213
  09AR20011029,  SR03,   134,  1,      7,2,20011210,-50.9972, 143.3183, 3745,    350.6,   6.0320,  34.2560,4,-999.0000,9,   -999.0,5,   -999.0,9,    10.20,2,    23.00,2,     1.49,2, -999.000,9, -999.000,9, -999.000,9,   -999.0,9,   -999.0,9,         -999
  09AR20011029,  SR03,   134,  1,      6,2,20011210,-50.9972, 143.3183, 3745,    400.2,   5.5190,  34.1800,4,-999.0000,9,   -999.0,5,   -999.0,9,    11.60,2,    24.23,2,     1.57,2, -999.000,9, -999.000,9, -999.000,9,   -999.0,9,   -999.0,9,         -999
  09AR20011029,  SR03,   134,  1,      5,2,20011210,-50.9972, 143.3183, 3745,    449.4,   5.7620,  34.2700,3,-999.0000,9,   -999.0,5,   -999.0,9,    14.60,2,    25.45,2,     1.65,2, -999.000,9, -999.000,9, -999.000,9,   -999.0,9,   -999.0,9,         -999
  09AR20011029,  SR03,   134,  1,      4,2,20011210,-50.9972, 143.3183, 3745,    499.7,   5.5680,  34.2900,4,  34.2920,2,   -999.0,5,   -999.0,9,    17.20,2,    26.61,2,     1.73,2, -999.000,9, -999.000,9, -999.000,9,   -999.0,9,   -999.0,9,   5.52616358
  09AR20011029,  SR03,   134,  1,      3,2,20011210,-50.9972, 143.3183, 3745,    600.5,   5.0130,  34.3100,3,-999.0000,9,   -999.0,5,   -999.0,9,    22.50,2,    28.63,2,     1.87,2, -999.000,9, -999.000,9, -999.000,9,   -999.0,9,   -999.0,9,         -999
  09AR20011029,  SR03,   134,  1,      2,2,20011210,-50.9972, 143.3183, 3745,    800.3,   3.8240,  34.3060,2,  34.3050,2,   -999.0,5,   -999.0,9,    33.70,2,    31.56,2,     2.08,2, -999.000,9, -999.000,9, -999.000,9,   -999.0,9,   -999.0,9,   3.76601012
  09AR20011029,  SR03,   134,  1,      1,2,20011210,-50.9972, 143.3183, 3745,   1000.3,   3.1770,  34.3690,2,  34.3680,2,   -999.0,5,   -999.0,9,    47.80,2,    33.38,2,     2.22,2, -999.000,9, -999.000,9, -999.000,9,   -999.0,9,   -999.0,9,   3.10791776