BOTTLE,20230715CCHSIOCBG
EXPOCODE,SECT_ID,STNNBR,CASTNO,SAMPNO,BTLNBR,BTLNBR_FLAG_W,DATE,TIME,LATITUDE,LONGITUDE,DEPTH,CTDPRS,CTDTMP,CTDSAL,CTDSAL_FLAG_W,SALNTY,SALNTY_FLAG_W,CTDOXY,CTDOXY_FLAG_W,OXYGEN,OXYGEN_FLAG_W,SILCAT,SILCAT_FLAG_W,NITRAT,NITRAT_FLAG_W,NITRIT,NITRIT_FLAG_W,PHSPHT,PHSPHT_FLAG_W,CFC-11,CFC-11_FLAG_W,CFC-12,CFC-12_FLAG_W,SF6,SF6_FLAG_W,TCARBN,TCARBN_FLAG_W,ALKALI,ALKALI_FLAG_W,PH_TOT,PH_TOT_FLAG_W,PH_TMP,TRITUM,TRITUM_FLAG_W,HELIUM,HELIUM_FLAG_W,DELHE3,DELHE3_FLAG_W,REFTMP,REFTMP_FLAG_W,DELC13,DELC13_FLAG_W,DELC14,DELC14_FLAG_W,DELO18,DELO18_FLAG_W,DOC,DOC_FLAG_W,TDN,TDN_FLAG_W,N2O,N2O_FLAG_W,CALCIUM,CALCIUM_FLAG_W,D15N_NO3,D15N_NO3_FLAG_W,BTL_DATE,BTL_TIME,BTL_LAT,BTL_LON,SALTREF,SALTREF_FLAG_W,D18O_NO3,D18O_NO3_FLAG_W,DSI30,DSI30_FLAG_W,CDOM_NASA,CDOM_NASA_FLAG_W,CDOM_UCSB,CDOM_UCSB_FLAG_W,D15N_NO2+NO3,D15N_NO2+NO3_FLAG_W,D18O_NO2+NO3,D18O_NO2+NO3_FLAG_W
,,,,,,,,,,,METERS,DBAR,ITS-90,PSS-78,,PSS-78,,UMOL/KG,,UMOL/KG,,UMOL/KG,,UMOL/KG,,UMOL/KG,,UMOL/KG,,PMOL/KG,,PMOL/KG,,FMOL/KG,,UMOL/KG,,UMOL/KG,,,,DEG C,TU,,NMOL/KG,,PERCNT,,DEG C,,/MILLE,,/MILLE,,/MILLE,,UMOL/KG,,UMOL/KG,,NMOL/KG,,MMOL/KG,,/MILLE,,,,,,G/KG,,/MILLE,,/MILLE,,,,,,/MILLE,,/MILLE,
320620140320,       P16S,      48,          3,         36,         36,2,20140419,       0122,   -42.9955,  -149.9978,       5165,     4.1,  15.1174,  34.3393,2,  34.3399,2,    253.3,2,   253.5,2,    0.00,2,    4.48,2,    0.07,2,    0.44,2,   2.674,2,   1.584,2,    1.70,2,  2052.4,2,  2274.4,2,   7.9958,2,       20,-999.000,9,-999.0000,9, -999.00,9,  15.1167,2, -999.00,9,  -999.0,9, -999.00,9,    55.5,2,    8.62,2,       9.18,2,     -999.0,1, -999.00,9, 20140419,      353, -42.9955,-149.9978,    34.5019,2,     -999.0,9,     -999.0,9,     -999.0,9,     -999.0,9,     -999.0,9,     -999.0,9
320620140320,       P16S,      48,          3,         34,         34,2,20140419,       0122,   -42.9955,  -149.9978,       5165,    24.6,  15.0962,  34.3420,2,-999.0000,9,   -999.0,9,  -999.0,9, -999.00,9, -999.00,9, -999.00,9, -999.00,9,-999.000,9,-999.000,9, -999.00,9,  -999.0,9,  -999.0,9,-999.0000,9,  -999.00,-999.000,9,-999.0000,9, -999.00,9,  15.0960,2, -999.00,9,  -999.0,9, -999.00,9,  -999.0,9, -999.00,9,     -999.0,9,     -999.0,9, -999.00,9, 20140419,      350, -42.9955,-149.9978,     -999.0,9,     -999.0,9,     -999.0,9,     -999.0,9,     -999.0,9,     -999.0,9,     -999.0,9
320620140320,       P16S,      48,          3,         35,         35,2,20140419,       0122,   -42.9955,  -149.9978,       5165,    24.6,  15.0987,  34.3418,2,  34.3423,2,    253.8,2,   252.4,2,    0.20,2,    4.47,2,    0.07,2,    0.45,2,   2.699,2,   1.568,2,    1.77,2,  2050.2,2,  2274.6,2,   7.9954,2,       20,-999.000,9,-999.0000,9, -999.00,9,  15.0985,2, -999.00,9,  -999.0,9, -999.00,9,    56.6,2,    8.31,2,       8.90,2,     -999.0,9, -999.00,9, 20140419,      350, -42.9955,-149.9978,    34.5042,2,     -999.0,9,     -999.0,9,     -999.0,9,     -999.0,9,     -999.0,9,     -999.0,9
320620140320,       P16S,      48,          3,         32,         32,2,20140419,       0122,   -42.9955,  -149.9978,       5165,    49.5,  14.8149,  34.3611,2,-999.0000,9,   -999.0,9,  -999.0,9, -999.00,9, -999.00,9, -999.00,9, -999.00,9,-999.000,9,-999.000,9, -999.00,9,  -999.0,9,  -999.0,9,-999.0000,9,  -999.00,-999.000,9,-999.0000,9, -999.00,9,  14.8245,2, -999.00,9,  -999.0,9, -999.00,9,  -999.0,9, -999.00,9,     -999.0,9,     -999.0,9, -999.00,9, 20140419,      348, -42.9955,-149.9978,     -999.0,9,     -999.0,9,     -999.0,9,     -999.0,9,     -999.0,9,     -999.0,9,     -999.0,9
320620140320,       P16S,      48,          3,         33,         33,2,20140419,       0122,   -42.9955,  -149.9978,       5165,    49.6,  14.7865,  34.3624,2,  34.3607,2,    255.8,2,   254.1,2,    0.00,2,    4.77,2,    0.07,2,    0.45,2,   2.606,2,   1.585,2,    2.11,2,  2054.9,2,    2277,2,   7.9921,2,       20,-999.000,9,-999.0000,9, -999.00,9,  14.8028,2, -999.00,9,  -999.0,9, -999.00,9,    53.6,2,    8.33,2,       9.34,2,     -999.0,1, -999.00,9, 20140419,      348, -42.9955,-149.9978,    34.5227,2,     -999.0,9,     -999.0,9,     -999.0,9,     -999.0,9,     -999.0,9,     -999.0,9
320620140320,       P16S,      48,          3,         31,         31,2,20140419,       0122,   -42.9955,  -149.9978,       5165,    76.0,  11.1088,  34.4926,2,  34.4889,2,    270.1,2,   267.2,2,    0.68,2,    7.17,2,    0.24,2,    0.66,2,   3.381,2,   1.897,2,    2.02,2,  2089.1,2,  2281.6,2,   7.9237,2,       20,-999.000,9,-999.0000,9, -999.00,9,  11.1391,3, -999.00,9,  -999.0,9, -999.00,9,    47.6,2,   11.22,2,      11.10,2,     -999.0,9, -999.00,9, 20140419,      346, -42.9955,-149.9978,    34.6515,2,     -999.0,9,     -999.0,9,     -999.0,9,     -999.0,9,     -999.0,9,     -999.0,9
320620140320,       P16S,      48,          3,         30,         30,2,20140419,       0122,   -42.9955,  -149.9978,       5165,    99.3,  10.1055,  34.4930,2,  34.4899,2,    261.1,2,   258.6,2,    1.07,2,    9.85,2,    0.46,2,    0.82,2,   3.554,2,   1.972,2,    1.98,2,  2104.6,2,  2280.6,2,   7.8838,2,       20,-999.000,9,-999.0000,9, -999.00,9,  10.1097,2, -999.00,9,  -999.0,9, -999.00,9,    46.9,2,   14.53,2,      12.53,2,     -999.0,1, -999.00,9, 20140419,      344, -42.9955,-149.9978,    34.6525,2,     -999.0,9,     -999.0,9,     -999.0,9,     -999.0,9,     -999.0,9,     -999.0,9
320620140320,       P16S,      48,          3,         29,         29,2,20140419,       0122,   -42.9955,  -149.9978,       5165,   148.9,   8.8335,  34.4866,2,  34.4853,2,    264.6,2,   262.5,2,    2.25,2,   13.43,2,    0.15,2,    0.98,2,   3.748,2,   2.093,2,    2.12,2,    2117,2,  2280.8,2,   7.8556,2,       20,-999.000,9,-999.0000,9, -999.00,9,   8.8326,2, -999.00,9,  -999.0,9, -999.00,9,    46.1,2,   17.39,2,      13.29,2,     -999.0,9, -999.00,9, 20140419,      342, -42.9955,-149.9978,    34.6479,2,     -999.0,9,     -999.0,9,     -999.0,9,     -999.0,9,     -999.0,9,     -999.0,9
320620140320,       P16S,      48,          3,         28,         28,2,20140419,       0122,   -42.9955,  -149.9978,       5165,   201.3,   8.5387,  34.4934,2,  34.4926,2,    268.3,2,   269.0,2,    2.25,2,   13.60,2,    0.01,2,    0.98,2,   3.671,2,   2.044,2,    1.91,2,  2116.2,2,  2281.8,2,   7.8582,2,       20,-999.000,9,-999.0000,9, -999.00,9,   8.5386,2, -999.00,9,  -999.0,9, -999.00,9,      45,2,   17.49,2,      13.07,2,     -999.0,9, -999.00,9, 20140419,      340, -42.9955,-149.9978,    34.6552,2,     -999.0,9,     -999.0,9,     -999.0,9,     -999.0,9,     -999.0,9,     -999.0,9
320620140320,       P16S,      48,          3,         27,         27,2,20140419,       0122,   -42.9955,  -149.9978,       5165,   251.1,   8.4608,  34.5028,2,  34.5026,2,    270.7,2,   266.6,2,    2.34,2,   14.27,2,    0.01,2,    1.03,2,   3.790,2,   2.085,2,    2.05,2,  2119.3,2,  2282.4,2,   7.8524,2,       20,-999.000,9,-999.0000,9, -999.00,9,   8.4606,2, -999.00,9,  -999.0,9, -999.00,9,    45.4,2,   17.71,2,      14.55,2,     -999.0,1, -999.00,9, 20140419,      338, -42.9955,-149.9977,    34.6653,2,     -999.0,9,     -999.0,9,     -999.0,9,     -999.0,9,     -999.0,9,     -999.0,9
320620140320,       P16S,      48,          3,         26,         26,2,20140419,       0122,   -42.9955,  -149.9978,       5165,   300.1,   8.3159,  34.4978,2,  34.4973,2,    264.5,2,   263.9,2,    3.03,2,   15.38,2,    0.01,2,    1.09,2,   3.624,2,   2.075,2,    2.09,2,  2124.1,2,  2282.6,2,   7.8433,2,       20,-999.000,9,-999.0000,9, -999.00,9,   8.3148,2, -999.00,9,  -999.0,9, -999.00,9,      45,2,   17.49,2,      14.91,2,     -999.0,9, -999.00,9, 20140419,      336, -42.9955,-149.9978,    34.6600,2,     -999.0,9,     -999.0,9,     -999.0,9,     -999.0,9,     -999.0,9,     -999.0,9
320620140320,       P16S,      48,          3,         25,         25,2,20140419,       0122,   -42.9955,  -149.9978,       5165,   349.6,   8.1214,  34.4801,2,  34.4796,2,    262.0,2,   260.8,2,    3.52,2,   16.53,2,    0.01,2,    1.15,2,   3.663,2,   2.078,2,    2.04,2,  2128.1,2,    2283,6,    7.834,2,       20,-999.000,9,-999.0000,9, -999.00,9,   8.1186,2, -999.00,9,  -999.0,9, -999.00,9,    45.3,2,   18.79,2,      15.67,2,     -999.0,9, -999.00,9, 20140419,      334, -42.9955,-149.9978,    34.6422,2,     -999.0,9,     -999.0,9,     -999.0,9,     -999.0,9,     -999.0,9,     -999.0,9
320620140320,       P16S,      48,          3,         24,         24,2,20140419,       0122,   -42.9955,  -149.9978,       5165,   400.9,   7.9118,  34.4541,2,  34.4537,2,    257.7,2,   257.4,2,    3.81,2,   17.79,2,    0.01,2,    1.23,2,-999.000,9,-999.000,9, -999.00,9,  2131.2,6,  2282.6,2,   7.8218,2,       20,-999.000,9,-999.0000,9, -999.00,9,   7.9105,2, -999.00,9,  -999.0,9, -999.00,9,    42.2,2,   19.65,2,     -999.0,9,     -999.0,9, -999.00,9, 20140419,      332, -42.9955,-149.9978,    34.6162,2,     -999.0,9,     -999.0,9,     -999.0,9,     -999.0,9,     -999.0,9,     -999.0,9
320620140320,       P16S,      48,          3,         23,         23,2,20140419,       0122,   -42.9955,  -149.9978,       5165,   499.3,   7.5048,  34.4137,2,  34.4142,2,    254.1,2,   253.1,2,    5.18,2,   19.63,2,    0.00,2,    1.35,2,   3.797,2,   2.056,2,    1.26,2,    2136,2,  2280.2,2,   7.8076,6,       20,-999.000,9,-999.0000,9, -999.00,9,   7.5041,2, -999.00,9,  -999.0,9, -999.00,9,    41.9,2,   21.78,2,      15.50,2,     -999.0,1, -999.00,9, 20140419,      329, -42.9955,-149.9978,    34.5765,2,     -999.0,9,     -999.0,9,     -999.0,9,     -999.0,9,     -999.0,9,     -999.0,9
320620140320,       P16S,      48,          3,         22,         22,2,20140419,       0122,   -42.9955,  -149.9978,       5165,   599.3,   7.1545,  34.3854,2,  34.3864,2,    248.5,2,   248.3,2,    6.54,2,   21.16,2,    0.00,2,    1.45,2,   3.692,2,   2.021,2,    1.23,2,    2141,2,  2281.2,2,    7.794,2,       20,-999.000,9,-999.0000,9, -999.00,9,   7.1554,2, -999.00,9,  -999.0,9, -999.00,9,    41.7,2, -999.00,9,      16.44,2,     -999.0,9, -999.00,9, 20140419,      326, -42.9955,-149.9978,    34.5485,2,     -999.0,9,     -999.0,9,     -999.0,9,     -999.0,9,     -999.0,9,     -999.0,9
320620140320,       P16S,      48,          3,         21,         21,2,20140419,       0122,   -42.9955,  -149.9978,       5165,   699.5,   6.8385,  34.3621,2,  34.3622,2,    244.4,2,   244.1,2,    8.11,2,   22.43,2,    0.00,2,    1.52,2,   3.666,2,   1.907,2,    0.95,2,  2145.9,2,  2281.2,2,   7.7829,2,       20,-999.000,9,-999.0000,9, -999.00,9,   6.8369,2, -999.00,9,  -999.0,9, -999.00,9,    40.3,2, -999.00,9,      16.04,2,     -999.0,9, -999.00,9, 20140419,      323, -42.9955,-149.9978,    34.5243,2,     -999.0,9,     -999.0,9,     -999.0,9,     -999.0,9,     -999.0,9,     -999.0,9
320620140320,       P16S,      48,          3,         20,         20,2,20140419,       0122,   -42.9955,  -149.9978,       5165,   799.0,   6.3452,  34.3334,2,  34.3342,2,    235.9,2,   235.2,2,   10.84,2,   24.37,2,    0.00,2,    1.64,2,-999.000,9,-999.000,9, -999.00,9,    2154,2,  2282.4,2,   7.7638,2,       20,-999.000,9,-999.0000,9, -999.00,9,   6.3475,2, -999.00,9,  -999.0,9, -999.00,9,    40.3,2, -999.00,9,     -999.0,9,     -999.0,1, -999.00,9, 20140419,      320, -42.9955,-149.9978,    34.4961,2,     -999.0,9,     -999.0,9,     -999.0,9,     -999.0,9,     -999.0,9,     -999.0,9
320620140320,       P16S,      48,          3,         19,         19,2,20140419,       0122,   -42.9955,  -149.9978,       5165,   899.1,   5.8177,  34.3196,2,  34.3200,2,    224.9,2,   224.3,2,   16.11,2,   26.37,2,    0.00,2,    1.80,2,   2.827,2,   1.443,2,    0.62,2,  2165.4,2,  2284.6,2,   7.7391,2,       20,-999.000,9,-999.0000,9, -999.00,9,   5.8199,2, -999.00,9,  -999.0,9, -999.00,9,    38.9,2, -999.00,9,      18.81,2,     -999.0,9, -999.00,9, 20140419,      317, -42.9955,-149.9978,    34.4819,2,     -999.0,9,     -999.0,9,     -999.0,9,     -999.0,9,     -999.0,9,     -999.0,9
320620140320,       P16S,      48,          3,         18,         18,2,20140419,       0122,   -42.9955,  -149.9978,       5165,  1000.3,   5.2393,  34.3186,2,  34.3196,2,    213.0,2,   213.2,2,   22.07,2,   28.48,2,    0.00,2,    1.93,2,   2.390,2,   1.188,2,    0.42,2,  2179.2,2,  2289.4,2,   7.7128,2,       20,-999.000,9,-999.0000,9, -999.00,9,   5.2432,2, -999.00,9,  -999.0,9, -999.00,9,      37,2, -999.00,9,      19.99,2,     -999.0,1, -999.00,9, 20140419,      314, -42.9955,-149.9978,    34.4815,2,     -999.0,9,     -999.0,9,     -999.0,9,     -999.0,9,     -999.0,9,     -999.0,9
320620140320,       P16S,      48,          3,         17,         17,2,20140419,       0122,   -42.9955,  -149.9978,       5165,  1200.0,   4.0646,  34.3363,2,  34.3367,2,    199.5,2,   201.4,2,   36.82,2,   31.58,2,    0.00,2,    2.16,2,   1.755,2,   0.899,2,    0.32,2,  2203.9,2,  2302.4,2,   7.6719,2,       20,-999.000,9,-999.0000,9, -999.00,9,   4.0660,2, -999.00,9,  -999.0,9, -999.00,9,    38.2,2, -999.00,9,      22.12,2,     -999.0,9, -999.00,9, 20140419,      309, -42.9955,-149.9978,    34.4986,2,     -999.0,9,     -999.0,9,     -999.0,9,     -999.0,9,     -999.0,9,     -999.0,9
320620140320,       P16S,      48,          3,         16,         16,2,20140419,       0122,   -42.9955,  -149.9978,       5165,  1400.1,   3.2658,  34.4184,2,  34.4187,2,    185.5,2,   183.7,2,   54.68,2,   33.61,2,    0.00,2,    2.29,2,-999.000,9,-999.000,9, -999.00,9,    2230,2,  2318.5,2,   7.6429,2,       20,-999.000,9,-999.0000,9, -999.00,9,   3.2654,2, -999.00,9,  -999.0,9, -999.00,9,    36.2,2, -999.00,9,     -999.0,9,     -999.0,9, -999.00,9, 20140419,      304, -42.9955,-149.9978,    34.5810,2,     -999.0,9,     -999.0,9,     -999.0,9,     -999.0,9,     -999.0,9,     -999.0,9
320620140320,       P16S,      48,          3,         15,         15,2,20140419,       0122,   -42.9955,  -149.9978,       5165,  1599.8,   2.8771,  34.4949,2,  34.4935,2,    173.4,2,   173.1,2,   67.28,2,   34.25,2,    0.00,2,    2.36,2,   0.467,2,   0.224,2,    0.06,2,    2247,2,  2331.2,2,   7.6296,2,       20,-999.000,9,-999.0000,9, -999.00,9,   2.8764,2, -999.00,9,  -999.0,9, -999.00,9,    38.2,2, -999.00,9,      24.48,2,     -999.0,1, -999.00,9, 20140419,      259, -42.9955,-149.9978,    34.6562,2,     -999.0,9,     -999.0,9,     -999.0,9,     -999.0,9,     -999.0,9,     -999.0,9
320620140320,       P16S,      48,          3,         14,         14,2,20140419,       0122,   -42.9955,  -149.9978,       5165,  1798.8,   2.6225,  34.5705,2,  34.4187,4,    163.5,2,   163.3,2,   54.29,4,   33.60,4,    0.00,4,    2.30,4,   0.131,2,   0.062,2,    0.03,2,  2264.5,2,  2350.2,2,   7.6279,2,       20,-999.000,9,-999.0000,9, -999.00,9,   2.6222,2, -999.00,9,  -999.0,9, -999.00,9,    37.1,2, -999.00,9,      25.00,2,     -999.0,9, -999.00,9, 20140419,      254, -42.9955,-149.9978,    34.5810,4,     -999.0,9,     -999.0,9,     -999.0,9,     -999.0,9,     -999.0,9,     -999.0,9
320620140320,       P16S,      48,          3,         13,         13,2,20140419,       0122,   -42.9955,  -149.9978,       5165,  2000.0,   2.4135,  34.6172,2,  34.6174,2,    158.1,2,   157.9,2,   96.66,2,   34.80,2,    0.00,2,    2.39,2,   0.041,2,   0.006,2,    0.00,2,  2281.4,6,  2368.5,2,   7.6309,2,       20,-999.000,9,-999.0000,9, -999.00,9,   2.4134,2, -999.00,9,  -999.0,9, -999.00,9,    36.1,2, -999.00,9,      24.55,2,     -999.0,1, -999.00,9, 20140419,      249, -42.9955,-149.9978,    34.7807,2,     -999.0,9,     -999.0,9,     -999.0,9,     -999.0,9,     -999.0,9,     -999.0,9
320620140320,       P16S,      48,          3,         12,         12,2,20140419,       0122,   -42.9955,  -149.9978,       5165,  2248.9,   2.2365,  34.6411,2,  34.6418,2,    155.2,2,   155.2,2,  106.03,2,   35.01,2,    0.00,2,    2.42,2,-999.000,9,-999.000,9, -999.00,9,  2291.1,2,  2378.7,2,   7.6321,2,       20,-999.000,9,-999.0000,9, -999.00,9,   2.2360,2, -999.00,9,  -999.0,9, -999.00,9,    37.5,2, -999.00,9,     -999.0,9,     -999.0,9, -999.00,9, 20140419,      243, -42.9955,-149.9978,    34.8051,2,     -999.0,9,     -999.0,9,     -999.0,9,     -999.0,9,     -999.0,9,     -999.0,9
320620140320,       P16S,      48,          3,         11,         11,2,20140419,       0122,   -42.9955,  -149.9978,       5165,  2498.2,   2.0687,  34.6569,2,  34.6577,2,    154.3,2,   153.9,2,  113.94,2,   35.18,2,    0.00,2,    2.42,2,-999.000,9,-999.000,9, -999.00,9,  2299.4,2,  2387.1,2,   7.6338,2,       20,-999.000,9,-999.0000,9, -999.00,9,   2.0697,2, -999.00,9,  -999.0,9, -999.00,9,    34.2,2, -999.00,9,     -999.0,9,     -999.0,1, -999.00,9, 20140419,      237, -42.9955,-149.9978,    34.8211,2,     -999.0,9,     -999.0,9,     -999.0,9,     -999.0,9,     -999.0,9,     -999.0,9
320620140320,       P16S,      48,          3,         10,         10,2,20140419,       0122,   -42.9955,  -149.9978,       5165,  2748.9,   1.9383,  34.6707,2,  34.6713,2,    157.0,2,   156.6,2,  117.26,2,   35.03,2,    0.00,2,    2.42,2,   0.008,2,   0.000,2,    0.00,2,  2299.4,2,  2390.7,2,   7.6383,2,       20,-999.000,9,-999.0000,9, -999.00,9,   1.9385,2, -999.00,9,  -999.0,9, -999.00,9,    35.5,2, -999.00,9,      24.65,2,     -999.0,9, -999.00,9, 20140419,      232, -42.9955,-149.9978,    34.8347,2,     -999.0,9,     -999.0,9,     -999.0,9,     -999.0,9,     -999.0,9,     -999.0,9
320620140320,       P16S,      48,          3,          9,         09,2,20140419,       0122,   -42.9955,  -149.9978,       5165,  3001.3,   1.8220,  34.6846,2,  34.6850,2,    163.5,2,   163.2,2,  117.45,2,   34.50,2,    0.00,2,    2.39,2,-999.000,9,-999.000,9, -999.00,9,  2295.7,6,  2388.2,2,   7.6438,2,       20,-999.000,9,-999.0000,9, -999.00,9,   1.8222,2, -999.00,9,  -999.0,9, -999.00,9,  -999.0,9, -999.00,9,     -999.0,9,     -999.0,1, -999.00,9, 20140419,      226, -42.9955,-149.9978,    34.8486,2,     -999.0,9,     -999.0,9,     -999.0,9,     -999.0,9,     -999.0,9,     -999.0,9
320620140320,       P16S,      48,          3,          8,         08,2,20140419,       0122,   -42.9955,  -149.9978,       5165,  3299.6,   1.7124,  34.7016,2,  34.7023,2,    175.5,2,   175.1,2,  112.86,2,   33.44,2,    0.00,2,    2.30,2,-999.000,9,-999.000,9, -999.00,9,  2282.8,2,  2378.8,2,   7.6563,2,       20,-999.000,9,-999.0000,9, -999.00,9,   1.7122,2, -999.00,9,  -999.0,9, -999.00,9,      35,2, -999.00,9,     -999.0,9,     -999.0,9, -999.00,9, 20140419,      219, -42.9955,-149.9978,    34.8659,2,     -999.0,9,     -999.0,9,     -999.0,9,     -999.0,9,     -999.0,9,     -999.0,9
320620140320,       P16S,      48,          3,          7,         07,2,20140419,       0122,   -42.9955,  -149.9978,       5165,  3600.9,   1.5443,  34.7142,2,  34.7145,2,    187.8,2,   187.9,2,  110.13,2,   32.56,2,    0.00,2,    2.25,2,   0.008,2,   0.002,2,    0.02,2,    2270,2,  2369.9,2,   7.6668,2,       20,-999.000,9,-999.0000,9, -999.00,9,   1.5449,2, -999.00,9,  -999.0,9, -999.00,9,      37,2, -999.00,9,      21.37,2,     -999.0,1, -999.00,9, 20140419,      213, -42.9955,-149.9978,    34.8782,2,     -999.0,9,     -999.0,9,     -999.0,9,     -999.0,9,     -999.0,9,     -999.0,9
320620140320,       P16S,      48,          3,          6,         06,2,20140419,       0122,   -42.9955,  -149.9978,       5165,  3900.6,   1.3729,  34.7157,2,  34.7160,2,    195.0,2,   194.7,2,  111.98,2,   32.27,2,    0.00,2,    2.22,2,-999.000,9,-999.000,9, -999.00,9,    2266,2,  2369.1,2,   7.6734,2,       20,-999.000,9,-999.0000,9, -999.00,9,   1.3731,2, -999.00,9,  -999.0,9, -999.00,9,    36.7,2, -999.00,9,     -999.0,9,     -999.0,9, -999.00,9, 20140419,      205, -42.9955,-149.9978,    34.8797,2,     -999.0,9,     -999.0,9,     -999.0,9,     -999.0,9,     -999.0,9,     -999.0,9