BOTTLE,20230715CCHSIOCBG
EXPOCODE,SECT_ID,STNNBR,CASTNO,SAMPNO,BTLNBR,BTLNBR_FLAG_W,DATE,TIME,LATITUDE,LONGITUDE,DEPTH,CTDPRS,CTDTMP,CTDSAL,CTDSAL_FLAG_W,SALNTY,SALNTY_FLAG_W,CTDOXY,CTDOXY_FLAG_W,OXYGEN,OXYGEN_FLAG_W,SILCAT,SILCAT_FLAG_W,NITRAT,NITRAT_FLAG_W,NITRIT,NITRIT_FLAG_W,PHSPHT,PHSPHT_FLAG_W,CFC-11,CFC-11_FLAG_W,CFC-12,CFC-12_FLAG_W,SF6,SF6_FLAG_W,TCARBN,TCARBN_FLAG_W,ALKALI,ALKALI_FLAG_W,PH_TOT,PH_TOT_FLAG_W,PH_TMP,TRITUM,TRITUM_FLAG_W,HELIUM,HELIUM_FLAG_W,DELHE3,DELHE3_FLAG_W,REFTMP,REFTMP_FLAG_W,DELC13,DELC13_FLAG_W,DELC14,DELC14_FLAG_W,DELO18,DELO18_FLAG_W,DOC,DOC_FLAG_W,TDN,TDN_FLAG_W,N2O,N2O_FLAG_W,CALCIUM,CALCIUM_FLAG_W,D15N_NO3,D15N_NO3_FLAG_W,BTL_DATE,BTL_TIME,BTL_LAT,BTL_LON,SALTREF,SALTREF_FLAG_W,D18O_NO3,D18O_NO3_FLAG_W,DSI30,DSI30_FLAG_W,CDOM_NASA,CDOM_NASA_FLAG_W,CDOM_UCSB,CDOM_UCSB_FLAG_W,D15N_NO2+NO3,D15N_NO2+NO3_FLAG_W,D18O_NO2+NO3,D18O_NO2+NO3_FLAG_W
,,,,,,,,,,,METERS,DBAR,ITS-90,PSS-78,,PSS-78,,UMOL/KG,,UMOL/KG,,UMOL/KG,,UMOL/KG,,UMOL/KG,,UMOL/KG,,PMOL/KG,,PMOL/KG,,FMOL/KG,,UMOL/KG,,UMOL/KG,,,,DEG C,TU,,NMOL/KG,,PERCNT,,DEG C,,/MILLE,,/MILLE,,/MILLE,,UMOL/KG,,UMOL/KG,,NMOL/KG,,MMOL/KG,,/MILLE,,,,,,G/KG,,/MILLE,,/MILLE,,,,,,/MILLE,,/MILLE,
320620140320,       P16S,       2,          1,          5,         05,2,20140328,       0200,   -63.4998,  -175.9997,       3171,  2399.8,   0.8504,  34.7095,2,  34.7101,2,    205.9,2,   206.0,2,  119.27,2,   32.05,2,    0.00,2,    2.21,2,-999.000,9,-999.000,9, -999.00,9,    2259,2,  2359.4,2,   7.6701,2,       20,-999.000,9,-999.0000,9, -999.00,9,   0.8506,2, -999.00,9,  -999.0,9, -999.00,9,  -999.0,9, -999.00,9,     -999.0,9,     -999.0,9, -999.00,9, 20140328,      219, -63.4999,-175.9997,    34.8738,2,     -999.0,9,     -999.0,9,     -999.0,9,     -999.0,9,     -999.0,9,     -999.0,9
320620140320,       P16S,       2,          1,          4,         04,2,20140328,       0200,   -63.4998,  -175.9997,       3171,  2599.4,   0.7838,  34.7060,2,  34.7068,2,    207.0,2,   207.0,2,  123.18,2,   32.18,2,    0.00,2,    2.22,2,   0.268,2,   0.139,2,    0.07,2,  2259.4,2,  2360.1,2,   7.6693,6,       20,-999.000,9,-999.0000,9, -999.00,9,   0.7836,2, -999.00,9,  -999.0,9, -999.00,9,  -999.0,9, -999.00,9,      20.25,2,     -999.0,9, -999.00,9, 20140328,      215, -63.4998,-175.9997,    34.8704,2,     -999.0,9,     -999.0,9,     -999.0,9,     -999.0,9,     -999.0,9,     -999.0,9
320620140320,       P16S,       2,          1,          3,         03,3,20140328,       0200,   -63.4998,  -175.9997,       3171,  2800.6,   0.7580,  34.7043,2,  34.7054,2,   -999.0,9,  -999.0,9,  119.86,2,   32.05,2,    0.00,2,    2.22,2,-999.000,9,-999.000,9, -999.00,9,  -999.0,9,  -999.0,9,-999.0000,9,  -999.00,-999.000,9,-999.0000,9, -999.00,9,   0.7576,2, -999.00,9,  -999.0,9, -999.00,9,  -999.0,9, -999.00,9,     -999.0,9,     -999.0,9, -999.00,9, 20140328,      210, -63.4999,-175.9998,    34.8690,2,     -999.0,9,     -999.0,9,     -999.0,9,     -999.0,9,     -999.0,9,     -999.0,9
320620140320,       P16S,       2,          1,          2,         02,2,20140328,       0200,   -63.4998,  -175.9997,       3171,  2999.6,   0.7538,  34.7034,2,  34.7046,2,    207.4,2,   207.5,2,  127.57,2,   32.59,2,    0.00,2,    2.23,2,   0.298,2,   0.155,2,    0.09,2,  2261.9,6,  2361.1,2,   7.6689,2,       20,-999.000,9,-999.0000,9, -999.00,9,   0.7532,2, -999.00,9,  -999.0,9, -999.00,9,  -999.0,9, -999.00,9,      20.06,2,     -999.0,9, -999.00,9, 20140328,      205, -63.4999,-175.9997,    34.8682,2,     -999.0,9,     -999.0,9,     -999.0,9,     -999.0,9,     -999.0,9,     -999.0,9
320620140320,       P16S,       2,          1,          1,         01,2,20140328,       0200,   -63.4998,  -175.9997,       3171,  3207.2,   0.7714,  34.7037,2,  34.7050,2,    207.3,2,   207.3,2,  128.55,2,   32.55,2,    0.00,2,    2.24,2,   0.292,2,   0.155,2,    0.03,2,  2262.6,6,  2361.7,2,   7.6706,2,       20,-999.000,9,-999.0000,9, -999.00,9,   0.7715,2, -999.00,9,  -999.0,9, -999.00,9,  -999.0,9, -999.00,9,      20.06,2,     -999.0,9, -999.00,9, 20140328,      159, -63.4998,-175.9997,    34.8686,2,     -999.0,9,     -999.0,9,     -999.0,9,     -999.0,9,     -999.0,9,     -999.0,9