BOTTLE,20230715CCHSIOCBG
EXPOCODE,SECT_ID,STNNBR,CASTNO,SAMPNO,BTLNBR,BTLNBR_FLAG_W,DATE,TIME,LATITUDE,LONGITUDE,DEPTH,CTDPRS,CTDTMP,CTDSAL,CTDSAL_FLAG_W,SALNTY,SALNTY_FLAG_W,CTDOXY,CTDOXY_FLAG_W,OXYGEN,OXYGEN_FLAG_W,SILCAT,SILCAT_FLAG_W,NITRAT,NITRAT_FLAG_W,NITRIT,NITRIT_FLAG_W,PHSPHT,PHSPHT_FLAG_W,CFC-11,CFC-11_FLAG_W,CFC-12,CFC-12_FLAG_W,SF6,SF6_FLAG_W,TCARBN,TCARBN_FLAG_W,ALKALI,ALKALI_FLAG_W,PH_TOT,PH_TOT_FLAG_W,PH_TMP,TRITUM,TRITUM_FLAG_W,HELIUM,HELIUM_FLAG_W,DELHE3,DELHE3_FLAG_W,REFTMP,REFTMP_FLAG_W,DELC13,DELC13_FLAG_W,DELC14,DELC14_FLAG_W,DELO18,DELO18_FLAG_W,DOC,DOC_FLAG_W,TDN,TDN_FLAG_W,N2O,N2O_FLAG_W,CALCIUM,CALCIUM_FLAG_W,D15N_NO3,D15N_NO3_FLAG_W,BTL_DATE,BTL_TIME,BTL_LAT,BTL_LON,SALTREF,SALTREF_FLAG_W,D18O_NO3,D18O_NO3_FLAG_W,DSI30,DSI30_FLAG_W,CDOM_NASA,CDOM_NASA_FLAG_W,CDOM_UCSB,CDOM_UCSB_FLAG_W,D15N_NO2+NO3,D15N_NO2+NO3_FLAG_W,D18O_NO2+NO3,D18O_NO2+NO3_FLAG_W
,,,,,,,,,,,METERS,DBAR,ITS-90,PSS-78,,PSS-78,,UMOL/KG,,UMOL/KG,,UMOL/KG,,UMOL/KG,,UMOL/KG,,UMOL/KG,,PMOL/KG,,PMOL/KG,,FMOL/KG,,UMOL/KG,,UMOL/KG,,,,DEG C,TU,,NMOL/KG,,PERCNT,,DEG C,,/MILLE,,/MILLE,,/MILLE,,UMOL/KG,,UMOL/KG,,NMOL/KG,,MMOL/KG,,/MILLE,,,,,,G/KG,,/MILLE,,/MILLE,,,,,,/MILLE,,/MILLE,
320620140320,       P16S,      42,          1,          5,         05,2,20140416,       1612,   -47.0001,  -149.9997,       5104,  4101.9,   1.2583,  34.7177,2,  34.7180,2,    199.8,2,   200.3,2,  114.13,2,   31.62,2,    0.00,2,    2.18,2,   0.018,2,   0.004,2,    0.00,2,  2261.9,2,  2367.5,2,    7.679,2,       20,-999.000,9,-999.0000,9, -999.00,9,   1.2580,2, -999.00,9,  -999.0,9, -999.00,9,    39.8,2, -999.00,9,      19.73,2,     -999.0,9, -999.00,9, 20140416,     1647, -47.0006,-150.0000,    34.8818,2,     -999.0,9,     -999.0,9,     -999.0,9,     -999.0,9,     -999.0,9,     -999.0,9
320620140320,       P16S,      42,          1,          4,         04,2,20140416,       1612,   -47.0001,  -149.9997,       5104,  4398.7,   1.1840,  34.7148,2,  34.7147,2,    201.2,2,   201.5,2,  117.55,2,   31.85,2,    0.00,2,    2.18,2,-999.000,9,-999.000,9, -999.00,9,  2264.7,2,  2370.1,2,   7.6804,2,       20,-999.000,9,-999.0000,9, -999.00,9,   1.1846,2, -999.00,9,  -999.0,9, -999.00,9,    39.5,2, -999.00,9,     -999.0,9,     -999.0,9, -999.00,9, 20140416,     1638, -47.0001,-149.9997,    34.8784,2,     -999.0,9,     -999.0,9,     -999.0,9,     -999.0,9,     -999.0,9,     -999.0,9
320620140320,       P16S,      42,          1,          3,         03,2,20140416,       1612,   -47.0001,  -149.9997,       5104,  4700.0,   1.1815,  34.7136,2,  34.7141,2,    201.9,2,   202.1,2,  118.82,2,   31.89,2,    0.00,2,    2.21,2,   0.034,2,   0.010,2,    0.04,2,  2264.7,2,  2370.9,6,    7.681,2,       20,-999.000,9,-999.0000,9, -999.00,9,   1.1812,2, -999.00,9,  -999.0,9, -999.00,9,      41,2, -999.00,9,      19.92,2,     -999.0,9, -999.00,9, 20140416,     1629, -47.0000,-149.9997,    34.8778,2,     -999.0,9,     -999.0,9,     -999.0,9,     -999.0,9,     -999.0,9,     -999.0,9
320620140320,       P16S,      42,          1,          2,         02,2,20140416,       1612,   -47.0001,  -149.9997,       5104,  4980.2,   1.1867,  34.7129,2,  34.7131,2,    202.3,2,   202.5,2,  119.11,2,   31.91,2,    0.00,2,    2.19,2,   0.019,2,   0.015,2,    0.01,2,  2264.8,2,  2369.9,2,   7.6803,6,       20,-999.000,9,-999.0000,9, -999.00,9,   1.1871,2, -999.00,9,  -999.0,9, -999.00,9,    40.5,2, -999.00,9,      18.75,2,     -999.0,9, -999.00,9, 20140416,     1620, -47.0001,-149.9997,    34.8768,2,     -999.0,9,     -999.0,9,     -999.0,9,     -999.0,9,     -999.0,9,     -999.0,9
320620140320,       P16S,      42,          1,          1,         01,2,20140416,       1612,   -47.0001,  -149.9997,       5104,  5183.5,   1.2068,  34.7127,2,  34.7127,2,    203.1,2,   203.2,2,  119.40,2,   31.92,2,    0.00,2,    2.19,2,   0.051,2,   0.022,2,    0.05,2,  2264.4,6,  2369.5,2,   7.6804,2,       20,-999.000,9,-999.0000,9, -999.00,9,   1.2068,2, -999.00,9,  -999.0,9, -999.00,9,    37.9,2, -999.00,9,      19.83,2,     -999.0,9, -999.00,9, 20140416,     1612, -47.0000,-149.9997,    34.8764,2,     -999.0,9,     -999.0,9,     -999.0,9,     -999.0,9,     -999.0,9,     -999.0,9