BOTTLE,20230715CCHSIOCBG
EXPOCODE,SECT_ID,STNNBR,CASTNO,SAMPNO,BTLNBR,BTLNBR_FLAG_W,DATE,TIME,LATITUDE,LONGITUDE,DEPTH,CTDPRS,CTDTMP,CTDSAL,CTDSAL_FLAG_W,SALNTY,SALNTY_FLAG_W,CTDOXY,CTDOXY_FLAG_W,OXYGEN,OXYGEN_FLAG_W,SILCAT,SILCAT_FLAG_W,NITRAT,NITRAT_FLAG_W,NITRIT,NITRIT_FLAG_W,PHSPHT,PHSPHT_FLAG_W,CFC-11,CFC-11_FLAG_W,CFC-12,CFC-12_FLAG_W,SF6,SF6_FLAG_W,TCARBN,TCARBN_FLAG_W,ALKALI,ALKALI_FLAG_W,PH_TOT,PH_TOT_FLAG_W,PH_TMP,TRITUM,TRITUM_FLAG_W,HELIUM,HELIUM_FLAG_W,DELHE3,DELHE3_FLAG_W,REFTMP,REFTMP_FLAG_W,DELC13,DELC13_FLAG_W,DELC14,DELC14_FLAG_W,DELO18,DELO18_FLAG_W,DOC,DOC_FLAG_W,TDN,TDN_FLAG_W,N2O,N2O_FLAG_W,CALCIUM,CALCIUM_FLAG_W,D15N_NO3,D15N_NO3_FLAG_W,BTL_DATE,BTL_TIME,BTL_LAT,BTL_LON,SALTREF,SALTREF_FLAG_W,D18O_NO3,D18O_NO3_FLAG_W,DSI30,DSI30_FLAG_W,CDOM_NASA,CDOM_NASA_FLAG_W,CDOM_UCSB,CDOM_UCSB_FLAG_W,D15N_NO2+NO3,D15N_NO2+NO3_FLAG_W,D18O_NO2+NO3,D18O_NO2+NO3_FLAG_W
,,,,,,,,,,,METERS,DBAR,ITS-90,PSS-78,,PSS-78,,UMOL/KG,,UMOL/KG,,UMOL/KG,,UMOL/KG,,UMOL/KG,,UMOL/KG,,PMOL/KG,,PMOL/KG,,FMOL/KG,,UMOL/KG,,UMOL/KG,,,,DEG C,TU,,NMOL/KG,,PERCNT,,DEG C,,/MILLE,,/MILLE,,/MILLE,,UMOL/KG,,UMOL/KG,,NMOL/KG,,MMOL/KG,,/MILLE,,,,,,G/KG,,/MILLE,,/MILLE,,,,,,/MILLE,,/MILLE,
320620140320,       P16S,       4,          3,         36,         36,2,20140331,       0321,   -66.4993,  -156.0003,       4053,     5.6,  -0.8882,  33.6132,2,  33.6154,2,    341.4,2,   346.3,2,   42.09,2,   23.55,2,    0.15,2,    1.67,2,   6.385,2,   3.184,2,    3.13,2,  2155.2,2,  2276.6,2,   7.7524,6,       20,-999.000,9,-999.0000,9, -999.00,9,  -0.8885,2, -999.00,9,  -999.0,9, -999.00,9,  -999.0,9, -999.00,9,      15.22,2,     -999.0,9, -999.00,9, 20140331,      520, -66.4993,-156.0002,    33.7739,2,     -999.0,9,     -999.0,9,     -999.0,9,     -999.0,9,     -999.0,9,     -999.0,9
320620140320,       P16S,       4,          3,         35,         35,2,20140331,       0321,   -66.4993,  -156.0003,       4053,    20.9,  -0.8844,  33.6129,2,  33.6142,2,    346.1,2,   346.3,2,   41.99,2,   23.51,2,    0.15,2,    1.67,2,   6.411,2,   3.225,2,    3.21,2,  2155.4,6,  2277.8,2,    7.752,2,       20,-999.000,9,-999.0000,9, -999.00,9,  -0.8845,2, -999.00,9,  -999.0,9, -999.00,9,  -999.0,9, -999.00,9,      15.03,2,     -999.0,9, -999.00,9, 20140331,      518, -66.4993,-156.0002,    33.7727,2,     -999.0,9,     -999.0,9,     -999.0,9,     -999.0,9,     -999.0,9,     -999.0,9
320620140320,       P16S,       4,          3,         34,         34,2,20140331,       0321,   -66.4993,  -156.0003,       4053,    33.8,  -0.8831,  33.6130,2,  33.6154,2,    346.5,2,   346.6,2,   41.90,2,   23.54,2,    0.15,2,    1.67,2,-999.000,9,-999.000,9, -999.00,9,  2155.7,2,  2277.6,2,   7.7526,2,       20,-999.000,9,-999.0000,9, -999.00,9,  -0.8841,2, -999.00,9,  -999.0,9, -999.00,9,  -999.0,9, -999.00,9,     -999.0,9,     -999.0,9, -999.00,9, 20140331,      516, -66.4993,-156.0002,    33.7739,2,     -999.0,9,     -999.0,9,     -999.0,9,     -999.0,9,     -999.0,9,     -999.0,9
320620140320,       P16S,       4,          3,         33,         33,2,20140331,       0321,   -66.4993,  -156.0003,       4053,    34.5,  -0.8833,  33.6131,2,-999.0000,9,   -999.0,9,  -999.0,9, -999.00,9, -999.00,9, -999.00,9, -999.00,9,-999.000,9,-999.000,9, -999.00,9,  -999.0,9,  -999.0,9,-999.0000,9,  -999.00,-999.000,9,-999.0000,9, -999.00,9,  -0.8837,2, -999.00,9,  -999.0,9, -999.00,9,  -999.0,9, -999.00,9,     -999.0,9,     -999.0,9, -999.00,9, 20140331,      516, -66.4993,-156.0002,     -999.0,9,     -999.0,9,     -999.0,9,     -999.0,1,     -999.0,9,     -999.0,9,     -999.0,9
320620140320,       P16S,       4,          3,         31,         31,2,20140331,       0321,   -66.4993,  -156.0003,       4053,    64.8,  -1.2813,  33.9834,2,-999.0000,9,   -999.0,9,  -999.0,9, -999.00,9, -999.00,9, -999.00,9, -999.00,9,-999.000,9,-999.000,9, -999.00,9,  -999.0,9,  -999.0,9,-999.0000,9,  -999.00,-999.000,9,-999.0000,9, -999.00,9,  -1.2636,2, -999.00,9,  -999.0,9, -999.00,9,  -999.0,9, -999.00,9,     -999.0,9,     -999.0,9, -999.00,9, 20140331,      514, -66.4993,-156.0002,     -999.0,9,     -999.0,9,     -999.0,9,     -999.0,1,     -999.0,9,     -999.0,9,     -999.0,9
320620140320,       P16S,       4,          3,         32,         32,2,20140331,       0321,   -66.4993,  -156.0003,       4053,    65.2,  -1.2435,  33.9579,2,  33.9355,2,    312.5,2,   320.8,2,   52.82,2,   26.35,2,    0.12,2,    1.93,2,   5.565,2,   2.813,2,    2.58,2,  2191.3,2,  2295.9,6,   7.7162,2,       20,-999.000,9,-999.0000,9, -999.00,9,  -1.2222,3, -999.00,9,  -999.0,9, -999.00,9,  -999.0,9, -999.00,9,      16.12,2,     -999.0,9, -999.00,9, 20140331,      514, -66.4993,-156.0002,    34.0956,2,     -999.0,9,     -999.0,9,     -999.0,9,     -999.0,9,     -999.0,9,     -999.0,9
320620140320,       P16S,       4,          3,         30,         30,2,20140331,       0321,   -66.4993,  -156.0003,       4053,    90.1,  -1.5041,  34.1994,2,  34.1974,2,    294.0,2,   294.8,2,   62.77,2,   29.14,2,    0.09,2,    2.13,2,   4.717,2,   2.418,2,    2.21,2,    2211,2,  2310.5,2,   7.6778,2,       20,-999.000,9,-999.0000,9, -999.00,9,  -1.5052,2, -999.00,9,  -999.0,9, -999.00,9,  -999.0,9, -999.00,9,      19.07,2,     -999.0,9, -999.00,9, 20140331,      512, -66.4993,-156.0002,    34.3586,2,     -999.0,9,     -999.0,9,     -999.0,9,     -999.0,9,     -999.0,9,     -999.0,9
320620140320,       P16S,       4,          3,         29,         29,5,20140331,       0321,   -66.4993,  -156.0003,       4053,   133.4,  -0.6568,  34.3427,2,-999.0000,9,   -999.0,9,  -999.0,9, -999.00,9, -999.00,9, -999.00,9, -999.00,9,-999.000,9,-999.000,9, -999.00,9,  -999.0,9,  -999.0,9,-999.0000,9,  -999.00,-999.000,9,-999.0000,9, -999.00,9,  -0.6368,4, -999.00,9,  -999.0,9, -999.00,9,  -999.0,9, -999.00,9,     -999.0,9,     -999.0,9, -999.00,9, 20140331,      510, -66.4993,-156.0002,     -999.0,9,     -999.0,9,     -999.0,9,     -999.0,9,     -999.0,9,     -999.0,9,     -999.0,9
320620140320,       P16S,       4,          3,         28,         28,2,20140331,       0321,   -66.4993,  -156.0003,       4053,   183.4,   0.7423,  34.5543,2,  34.5535,2,    214.8,2,   207.9,2,   82.56,2,   32.16,2,    0.08,2,    2.25,2,-999.000,9,-999.000,9, -999.00,9,  2247.9,6,  2329.2,2,   7.6312,2,       20,-999.000,9,-999.0000,9, -999.00,9,   0.7346,2, -999.00,9,  -999.0,9, -999.00,9,  -999.0,9, -999.00,9,     -999.0,9,     -999.0,9, -999.00,9, 20140331,      508, -66.4993,-156.0002,    34.7165,2,     -999.0,9,     -999.0,9,     -999.0,9,     -999.0,9,     -999.0,9,     -999.0,9
320620140320,       P16S,       4,          3,         27,         27,2,20140331,       0321,   -66.4993,  -156.0003,       4053,   234.8,   1.5315,  34.6823,2,  34.6818,2,    182.6,2,   182.5,2,   89.58,2,   32.57,2,    0.05,2,    2.27,2,   0.587,6,   0.309,6,    0.24,6,  2257.9,2,  2336.4,2,   7.6263,2,       20,-999.000,9,-999.0000,9, -999.00,9,   1.5313,2, -999.00,9,  -999.0,9, -999.00,9,  -999.0,9, -999.00,9,      22.07,6,     -999.0,9, -999.00,9, 20140331,      506, -66.4993,-156.0003,    34.8453,2,     -999.0,9,     -999.0,9,     -999.0,9,     -999.0,9,     -999.0,9,     -999.0,9
320620140320,       P16S,       4,          3,         26,         26,2,20140331,       0321,   -66.4993,  -156.0003,       4053,   283.8,   1.5874,  34.7109,2,  34.7103,2,    180.5,2,   181.4,2,   93.09,2,   32.43,2,    0.03,2,    2.25,2,-999.000,9,-999.000,9, -999.00,9,  2259.2,2,  2346.8,2,   7.6325,2,       20,-999.000,9,-999.0000,9, -999.00,9,   1.5871,2, -999.00,9,  -999.0,9, -999.00,9,  -999.0,9, -999.00,9,     -999.0,9,     -999.0,9, -999.00,9, 20140331,      504, -66.4993,-156.0002,    34.8740,2,     -999.0,9,     -999.0,9,     -999.0,9,     -999.0,9,     -999.0,9,     -999.0,9
320620140320,       P16S,       4,          3,         25,         25,2,20140331,       0321,   -66.4993,  -156.0003,       4053,   334.0,   1.5601,  34.7222,2,  34.7221,2,    182.1,2,   182.2,2,   95.43,2,   32.23,2,    0.02,2,    2.24,2,   0.305,2,   0.141,2,    0.14,2,  2260.2,2,  2349.2,2,   7.6371,2,       20,-999.000,9,-999.0000,9, -999.00,9,   1.5628,2, -999.00,9,  -999.0,9, -999.00,9,  -999.0,9, -999.00,9,      21.61,2,     -999.0,9, -999.00,9, 20140331,      502, -66.4993,-156.0003,    34.8858,2,     -999.0,9,     -999.0,9,     -999.0,9,     -999.0,9,     -999.0,9,     -999.0,9
320620140320,       P16S,       4,          3,         24,         24,2,20140331,       0321,   -66.4993,  -156.0003,       4053,   383.4,   1.5061,  34.7268,2,  34.7266,2,    183.5,2,   183.5,2,   98.16,2,   32.24,2,    0.01,2,    2.24,2,   0.255,2,   0.118,2,    0.14,2,  2259.2,2,  2350.7,2,     7.64,6,       20,-999.000,9,-999.0000,9, -999.00,9,   1.5062,2, -999.00,9,  -999.0,9, -999.00,9,  -999.0,9, -999.00,9,      21.30,2,     -999.0,9, -999.00,9, 20140331,      500, -66.4993,-156.0002,    34.8904,2,     -999.0,9,     -999.0,9,     -999.0,9,     -999.0,9,     -999.0,9,     -999.0,9
320620140320,       P16S,       4,          3,         23,         23,2,20140331,       0321,   -66.4993,  -156.0003,       4053,   465.8,   1.4247,  34.7288,2,  34.7292,2,    184.7,2,   184.9,2,  101.09,2,   32.29,2,    0.00,2,    2.24,2,   0.220,2,   0.100,2,    0.09,2,  2261.2,2,  2351.5,2,   7.6413,2,       20,-999.000,9,-999.0000,9, -999.00,9,   1.4254,2, -999.00,9,  -999.0,9, -999.00,9,  -999.0,9, -999.00,9,      21.21,2,     -999.0,9, -999.00,9, 20140331,      457, -66.4993,-156.0003,    34.8929,2,     -999.0,9,     -999.0,9,     -999.0,9,     -999.0,9,     -999.0,9,     -999.0,9
320620140320,       P16S,       4,          3,         22,         22,2,20140331,       0321,   -66.4993,  -156.0003,       4053,   566.2,   1.3349,  34.7285,2,  34.7286,2,    185.2,2,   185.6,2,  105.29,2,   32.35,2,    0.00,2,    2.25,2,   0.186,2,   0.080,2,    0.12,2,  2261.7,2,  2352.9,2,   7.6428,2,       20,-999.000,9,-999.0000,9, -999.00,9,   1.3348,2, -999.00,9,  -999.0,9, -999.00,9,  -999.0,9, -999.00,9,      20.78,2,     -999.0,9, -999.00,9, 20140331,      453, -66.4993,-156.0002,    34.8923,2,     -999.0,9,     -999.0,9,     -999.0,9,     -999.0,9,     -999.0,9,     -999.0,9
320620140320,       P16S,       4,          3,         21,         21,2,20140331,       0321,   -66.4993,  -156.0003,       4053,   662.4,   1.2574,  34.7277,2,  34.7280,2,    186.8,2,   187.1,2,  108.21,2,   32.32,2,    0.00,2,    2.25,2,   0.159,2,   0.072,2,    0.07,2,  2262.4,2,  2354.4,2,   7.6436,2,       20,-999.000,9,-999.0000,9, -999.00,9,   1.2587,2, -999.00,9,  -999.0,9, -999.00,9,  -999.0,9, -999.00,9,      20.75,2,     -999.0,9, -999.00,9, 20140331,      450, -66.4993,-156.0002,    34.8917,2,     -999.0,9,     -999.0,9,     -999.0,9,     -999.0,9,     -999.0,9,     -999.0,9
320620140320,       P16S,       4,          3,         20,         20,2,20140331,       0321,   -66.4993,  -156.0003,       4053,   766.1,   1.1807,  34.7255,2,  34.7264,2,    189.2,2,   189.5,2,  110.46,2,   32.30,2,    0.00,2,    2.25,2,-999.000,9,-999.000,9, -999.00,9,  2264.1,2,  -999.0,9,-999.0000,9,  -999.00,-999.000,9,-999.0000,9, -999.00,9,   1.1806,2, -999.00,9,  -999.0,9, -999.00,9,  -999.0,9, -999.00,9,     -999.0,9,     -999.0,9, -999.00,9, 20140331,      447, -66.4993,-156.0002,    34.8902,2,     -999.0,9,     -999.0,9,     -999.0,9,     -999.0,9,     -999.0,9,     -999.0,9
320620140320,       P16S,       4,          3,         19,         19,2,20140331,       0321,   -66.4993,  -156.0003,       4053,   864.7,   1.1161,  34.7233,2,  34.7239,2,    191.7,2,   191.5,2,  112.51,2,   32.31,2,    0.00,2,    2.25,2,   0.131,2,   0.055,2,    0.00,2,  2264.2,2,  2357.4,2,   7.6499,2,       20,-999.000,9,-999.0000,9, -999.00,9,   1.1159,2, -999.00,9,  -999.0,9, -999.00,9,  -999.0,9, -999.00,9,      20.53,2,     -999.0,9, -999.00,9, 20140331,      444, -66.4993,-156.0002,    34.8876,2,     -999.0,9,     -999.0,9,     -999.0,9,     -999.0,9,     -999.0,9,     -999.0,9
320620140320,       P16S,       4,          3,         18,         18,2,20140331,       0321,   -66.4993,  -156.0003,       4053,   965.1,   1.0540,  34.7210,2,  34.7211,2,    193.6,2,   193.7,2,  114.27,2,   32.21,2,    0.00,2,    2.23,2,-999.000,9,-999.000,9, -999.00,9,  2263.3,2,  -999.0,9,-999.0000,9,  -999.00,-999.000,9,-999.0000,9, -999.00,9,   1.0538,2, -999.00,9,  -999.0,9, -999.00,9,  -999.0,9, -999.00,9,     -999.0,9,     -999.0,9, -999.00,9, 20140331,      441, -66.4993,-156.0003,    34.8848,2,     -999.0,9,     -999.0,9,     -999.0,9,     -999.0,9,     -999.0,9,     -999.0,9
320620140320,       P16S,       4,          3,         17,         17,2,20140331,       0321,   -66.4993,  -156.0003,       4053,  1065.5,   0.9847,  34.7184,2,  34.7188,2,    195.4,2,   195.7,2,  116.12,2,   32.24,2,    0.00,2,    2.24,2,   0.123,2,   0.047,2,    0.04,2,  2262.2,2,  2357.7,2,   7.6558,6,       20,-999.000,9,-999.0000,9, -999.00,9,   0.9846,2, -999.00,9,  -999.0,9, -999.00,9,  -999.0,9, -999.00,9,      20.06,2,     -999.0,9, -999.00,9, 20140331,      438, -66.4993,-156.0003,    34.8825,2,     -999.0,9,     -999.0,9,     -999.0,9,     -999.0,9,     -999.0,9,     -999.0,9
320620140320,       P16S,       4,          3,         16,         16,2,20140331,       0321,   -66.4993,  -156.0003,       4053,  1164.8,   0.9349,  34.7163,2,  34.7166,2,    197.1,2,   197.6,2,  117.58,2,   32.26,2,    0.00,2,    2.25,2,-999.000,9,-999.000,9, -999.00,9,    2264,2,  -999.0,9,-999.0000,9,  -999.00,-999.000,9,-999.0000,9, -999.00,9,   0.9343,2, -999.00,9,  -999.0,9, -999.00,9,  -999.0,9, -999.00,9,     -999.0,9,     -999.0,9, -999.00,9, 20140331,      435, -66.4993,-156.0003,    34.8803,2,     -999.0,9,     -999.0,9,     -999.0,9,     -999.0,9,     -999.0,9,     -999.0,9
320620140320,       P16S,       4,          3,         15,         15,2,20140331,       0321,   -66.4993,  -156.0003,       4053,  1265.2,   0.8835,  34.7147,2,  34.7144,2,    198.6,2,   198.9,2,  119.44,2,   32.29,2,    0.00,2,    2.25,2,   0.115,2,   0.045,2,    0.03,2,  2262.6,2,  2357.6,2,   7.6574,2,       20,-999.000,9,-999.0000,9, -999.00,9,   0.8837,2, -999.00,9,  -999.0,9, -999.00,9,  -999.0,9, -999.00,9,      20.07,2,     -999.0,9, -999.00,9, 20140331,      432, -66.4993,-156.0002,    34.8781,2,     -999.0,9,     -999.0,9,     -999.0,9,     -999.0,9,     -999.0,9,     -999.0,9
320620140320,       P16S,       4,          3,         14,         14,2,20140331,       0321,   -66.4993,  -156.0003,       4053,  1364.1,   0.8238,  34.7123,2,  34.7129,2,    199.9,2,   200.3,2,  121.39,2,   32.29,2,    0.00,2,    2.25,2,   0.119,2,   0.049,2,    0.00,2,  2263.7,2,  -999.0,9,-999.0000,9,  -999.00,-999.000,9,-999.0000,9, -999.00,9,   0.8236,2, -999.00,9,  -999.0,9, -999.00,9,  -999.0,9, -999.00,9,      19.79,2,     -999.0,9, -999.00,9, 20140331,      429, -66.4993,-156.0002,    34.8765,2,     -999.0,9,     -999.0,9,     -999.0,9,     -999.0,9,     -999.0,9,     -999.0,9
320620140320,       P16S,       4,          3,         13,         13,2,20140331,       0321,   -66.4993,  -156.0003,       4053,  1463.3,   0.7804,  34.7108,2,  34.7101,2,    201.0,2,   201.7,2,  122.76,2,   32.30,2,    0.00,2,    2.25,2,   0.117,2,   0.047,2,    0.00,2,  2262.4,2,  2359.3,2,   7.6586,2,       20,-999.000,9,-999.0000,9, -999.00,9,   0.7809,2, -999.00,9,  -999.0,9, -999.00,9,  -999.0,9, -999.00,9,      19.73,2,     -999.0,9, -999.00,9, 20140331,      426, -66.4993,-156.0002,    34.8738,2,     -999.0,9,     -999.0,9,     -999.0,9,     -999.0,9,     -999.0,9,     -999.0,9
320620140320,       P16S,       4,          3,         12,         12,2,20140331,       0321,   -66.4993,  -156.0003,       4053,  1565.6,   0.7425,  34.7089,2,  34.7087,2,    202.2,2,   202.3,2,  124.22,2,   32.35,2,    0.00,2,    2.26,2,-999.000,9,-999.000,9, -999.00,9,  2263.1,2,  -999.0,9,-999.0000,9,  -999.00,-999.000,9,-999.0000,9, -999.00,9,   0.7423,2, -999.00,9,  -999.0,9, -999.00,9,  -999.0,9, -999.00,9,     -999.0,9,     -999.0,9, -999.00,9, 20140331,      423, -66.4993,-156.0003,    34.8724,2,     -999.0,9,     -999.0,9,     -999.0,9,     -999.0,9,     -999.0,9,     -999.0,9
320620140320,       P16S,       4,          3,         11,         11,2,20140331,       0321,   -66.4993,  -156.0003,       4053,  1733.0,   0.6803,  34.7067,2,  34.7064,2,    203.8,2,   204.0,2,  126.07,2,   32.35,2,    0.00,2,    2.24,2,   0.126,2,   0.059,2,    0.16,2,  2262.8,2,  2360.4,2,   7.6597,2,       20,-999.000,9,-999.0000,9, -999.00,9,   0.6796,2, -999.00,9,  -999.0,9, -999.00,9,  -999.0,9, -999.00,9,      19.78,2,     -999.0,9, -999.00,9, 20140331,      419, -66.4993,-156.0003,    34.8700,2,     -999.0,9,     -999.0,9,     -999.0,9,     -999.0,9,     -999.0,9,     -999.0,9
320620140320,       P16S,       4,          3,         10,         10,2,20140331,       0321,   -66.4993,  -156.0003,       4053,  1935.3,   0.6019,  34.7050,2,  34.7050,2,    205.9,2,   205.6,2,  127.44,2,   32.34,2,    0.00,2,    2.25,2,-999.000,9,-999.000,9, -999.00,9,    2264,2,  -999.0,9,-999.0000,9,  -999.00,-999.000,9,-999.0000,9, -999.00,9,   0.6025,2, -999.00,9,  -999.0,9, -999.00,9,  -999.0,9, -999.00,9,     -999.0,9,     -999.0,9, -999.00,9, 20140331,      414, -66.4993,-156.0003,    34.8686,2,     -999.0,9,     -999.0,9,     -999.0,9,     -999.0,9,     -999.0,9,     -999.0,9
320620140320,       P16S,       4,          3,          9,         09,2,20140331,       0321,   -66.4993,  -156.0003,       4053,  2165.8,   0.5218,  34.7031,2,  34.7032,2,    207.7,2,   207.6,2,  128.71,2,   32.44,2,    0.00,2,    2.26,2,   0.153,2,   0.065,2,    0.07,2,  2260.9,2,  2359.6,2,   7.6605,2,       20,-999.000,9,-999.0000,9, -999.00,9,   0.5222,2, -999.00,9,  -999.0,9, -999.00,9,  -999.0,9, -999.00,9,      19.38,2,     -999.0,9, -999.00,9, 20140331,      409, -66.4993,-156.0002,    34.8669,2,     -999.0,9,     -999.0,9,     -999.0,9,     -999.0,9,     -999.0,9,     -999.0,9
320620140320,       P16S,       4,          3,          8,         08,2,20140331,       0321,   -66.4993,  -156.0003,       4053,  2414.1,   0.4365,  34.7027,2,  34.7022,2,    209.8,2,   210.4,2,  131.05,2,   32.55,2,    0.00,2,    2.28,2,-999.000,9,-999.000,9, -999.00,9,  -999.0,9,  -999.0,9,-999.0000,9,  -999.00,-999.000,9,-999.0000,9, -999.00,9,   0.4370,2, -999.00,9,  -999.0,9, -999.00,9,  -999.0,9, -999.00,9,     -999.0,9,     -999.0,9, -999.00,9, 20140331,      402, -66.4993,-156.0003,    34.8659,2,     -999.0,9,     -999.0,9,     -999.0,9,     -999.0,9,     -999.0,9,     -999.0,9
320620140320,       P16S,       4,          3,          7,         07,2,20140331,       0321,   -66.4993,  -156.0003,       4053,  2663.6,   0.3750,  34.7016,2,  34.7013,2,    211.7,2,   212.1,2,  133.78,2,   32.51,2,    0.00,2,    2.27,2,   0.180,2,   0.085,2,    0.04,2,  2262.2,2,  2361.2,2,   7.6608,2,       20,-999.000,9,-999.0000,9, -999.00,9,   0.3750,2, -999.00,9,  -999.0,9, -999.00,9,  -999.0,9, -999.00,9,      19.32,2,     -999.0,9, -999.00,9, 20140331,      356, -66.4993,-156.0003,    34.8649,2,     -999.0,9,     -999.0,9,     -999.0,9,     -999.0,9,     -999.0,9,     -999.0,9
320620140320,       P16S,       4,          3,          6,         06,2,20140331,       0321,   -66.4993,  -156.0003,       4053,  2914.5,   0.3240,  34.7003,2,  34.7009,2,    213.2,2,   213.2,2,  133.49,2,   32.53,2,    0.00,2,    2.27,2,-999.000,9,-999.000,9, -999.00,9,  -999.0,9,  -999.0,9,-999.0000,9,  -999.00,-999.000,9,-999.0000,9, -999.00,9,   0.3239,2, -999.00,9,  -999.0,9, -999.00,9,  -999.0,9, -999.00,9,     -999.0,9,     -999.0,9, -999.00,9, 20140331,      350, -66.4993,-156.0003,    34.8645,2,     -999.0,9,     -999.0,9,     -999.0,9,     -999.0,9,     -999.0,9,     -999.0,9