BOTTLE,20230715CCHSIOCBG
EXPOCODE,SECT_ID,STNNBR,CASTNO,SAMPNO,BTLNBR,BTLNBR_FLAG_W,DATE,TIME,LATITUDE,LONGITUDE,DEPTH,CTDPRS,CTDTMP,CTDSAL,CTDSAL_FLAG_W,SALNTY,SALNTY_FLAG_W,CTDOXY,CTDOXY_FLAG_W,OXYGEN,OXYGEN_FLAG_W,SILCAT,SILCAT_FLAG_W,NITRAT,NITRAT_FLAG_W,NITRIT,NITRIT_FLAG_W,PHSPHT,PHSPHT_FLAG_W,CFC-11,CFC-11_FLAG_W,CFC-12,CFC-12_FLAG_W,SF6,SF6_FLAG_W,TCARBN,TCARBN_FLAG_W,ALKALI,ALKALI_FLAG_W,PH_TOT,PH_TOT_FLAG_W,PH_TMP,TRITUM,TRITUM_FLAG_W,HELIUM,HELIUM_FLAG_W,DELHE3,DELHE3_FLAG_W,REFTMP,REFTMP_FLAG_W,DELC13,DELC13_FLAG_W,DELC14,DELC14_FLAG_W,DELO18,DELO18_FLAG_W,DOC,DOC_FLAG_W,TDN,TDN_FLAG_W,N2O,N2O_FLAG_W,CALCIUM,CALCIUM_FLAG_W,D15N_NO3,D15N_NO3_FLAG_W,BTL_DATE,BTL_TIME,BTL_LAT,BTL_LON,SALTREF,SALTREF_FLAG_W,D18O_NO3,D18O_NO3_FLAG_W,DSI30,DSI30_FLAG_W,CDOM_NASA,CDOM_NASA_FLAG_W,CDOM_UCSB,CDOM_UCSB_FLAG_W,D15N_NO2+NO3,D15N_NO2+NO3_FLAG_W,D18O_NO2+NO3,D18O_NO2+NO3_FLAG_W
,,,,,,,,,,,METERS,DBAR,ITS-90,PSS-78,,PSS-78,,UMOL/KG,,UMOL/KG,,UMOL/KG,,UMOL/KG,,UMOL/KG,,UMOL/KG,,PMOL/KG,,PMOL/KG,,FMOL/KG,,UMOL/KG,,UMOL/KG,,,,DEG C,TU,,NMOL/KG,,PERCNT,,DEG C,,/MILLE,,/MILLE,,/MILLE,,UMOL/KG,,UMOL/KG,,NMOL/KG,,MMOL/KG,,/MILLE,,,,,,G/KG,,/MILLE,,/MILLE,,,,,,/MILLE,,/MILLE,
320620140320,       P16S,      60,          1,          5,         05,2,20140423,       2034,   -35.0000,  -149.9998,     -999.0,  3999.4,   1.4097,  34.7078,2,  34.7075,2,    189.8,2,   189.7,2,  116.90,2,   32.94,2,    0.00,2,    2.29,2,-999.000,9,-999.000,9, -999.00,9,  2271.8,2,  2373.4,2,   7.6689,2,       20,-999.000,9,-999.0000,9, -999.00,9,   1.4097,2,    0.44,2,  -182.0,2, -999.00,9,    37.7,2, -999.00,9,     -999.0,9,     -999.0,9, -999.00,9, 20140423,     2104, -35.0000,-149.9998,    34.8712,2,     -999.0,9,     -999.0,1,     -999.0,9,     -999.0,1,     -999.0,9,     -999.0,9
320620140320,       P16S,      60,          1,          4,         04,2,20140423,       2034,   -35.0000,  -149.9998,     -999.0,  4398.4,   1.2361,  34.7106,2,  34.7109,2,    199.0,2,   199.2,2,  117.39,2,   32.50,2,    0.00,2,    2.24,2,   0.012,2,   0.001,2,    0.00,2,  2264.6,2,    2370,2,   7.6746,2,       20,-999.000,9,-999.0000,9, -999.00,9,   1.2359,2,    0.48,2,  -173.1,2, -999.00,9,    38.9,2, -999.00,9,      21.25,2,     -999.0,1, -999.00,9, 20140423,     2056, -35.0000,-149.9998,    34.8746,2,     -999.0,9,     -999.0,9,     -999.0,9,     -999.0,9,     -999.0,9,     -999.0,9
320620140320,       P16S,      60,          1,          3,         03,2,20140423,       2034,   -35.0000,  -149.9998,     -999.0,  4800.5,   1.1436,  34.7104,2,  34.7099,2,    203.4,2,   203.6,2,  119.15,2,   32.42,2,    0.00,2,    2.22,2,-999.000,9,-999.000,9, -999.00,9,  2263.2,2,  2369.7,2,   7.6769,2,       20,-999.000,9,-999.0000,9, -999.00,9,   1.1437,2,    0.39,2,  -161.4,2, -999.00,9,    37.4,2, -999.00,9,     -999.0,9,     -999.0,9, -999.00,9, 20140423,     2048, -35.0000,-149.9998,    34.8736,2,     -999.0,9,     -999.0,9,     -999.0,9,     -999.0,1,     -999.0,9,     -999.0,9
320620140320,       P16S,      60,          1,          2,         02,2,20140423,       2034,   -35.0000,  -149.9998,     -999.0,  5099.1,   1.1468,  34.7099,2,  34.7095,2,    204.5,2,   204.2,2,  120.81,2,   32.42,2,    0.00,2,    2.22,2,   0.028,2,   0.010,2,    0.04,2,  2263.7,2,  2369.6,2,   7.6771,2,       20,-999.000,9,-999.0000,9, -999.00,9,   1.1466,2,    0.50,2,  -168.4,2, -999.00,9,      37,2, -999.00,9,      20.98,2,     -999.0,9, -999.00,9, 20140423,     2042, -35.0000,-149.9998,    34.8732,2,     -999.0,9,     -999.0,9,     -999.0,9,     -999.0,9,     -999.0,9,     -999.0,9
320620140320,       P16S,      60,          1,          1,         01,2,20140423,       2034,   -35.0000,  -149.9998,     -999.0,  5345.9,   1.1644,  34.7096,2,  34.7091,2,    204.5,2,   204.6,2,  120.13,2,   32.38,2,    0.00,2,    2.20,2,   0.031,2,   0.008,2,    0.02,2,  2263.3,6,  2369.2,2,   7.6776,2,       20,-999.000,9,-999.0000,9, -999.00,9,   1.1645,2,    0.65,2,  -166.0,2, -999.00,9,    39.7,2, -999.00,9,      20.47,2,     -999.0,1, -999.00,9, 20140423,     2034, -35.0000,-149.9998,    34.8728,2,     -999.0,9,     -999.0,9,     -999.0,9,     -999.0,1,     -999.0,9,     -999.0,9