BOTTLE,20230715CCHSIOCBG
EXPOCODE,SECT_ID,STNNBR,CASTNO,SAMPNO,BTLNBR,BTLNBR_FLAG_W,DATE,TIME,LATITUDE,LONGITUDE,DEPTH,CTDPRS,CTDTMP,CTDSAL,CTDSAL_FLAG_W,SALNTY,SALNTY_FLAG_W,CTDOXY,CTDOXY_FLAG_W,OXYGEN,OXYGEN_FLAG_W,SILCAT,SILCAT_FLAG_W,NITRAT,NITRAT_FLAG_W,NITRIT,NITRIT_FLAG_W,PHSPHT,PHSPHT_FLAG_W,CFC-11,CFC-11_FLAG_W,CFC-12,CFC-12_FLAG_W,SF6,SF6_FLAG_W,TCARBN,TCARBN_FLAG_W,ALKALI,ALKALI_FLAG_W,PH_TOT,PH_TOT_FLAG_W,PH_TMP,TRITUM,TRITUM_FLAG_W,HELIUM,HELIUM_FLAG_W,DELHE3,DELHE3_FLAG_W,REFTMP,REFTMP_FLAG_W,DELC13,DELC13_FLAG_W,DELC14,DELC14_FLAG_W,DELO18,DELO18_FLAG_W,DOC,DOC_FLAG_W,TDN,TDN_FLAG_W,N2O,N2O_FLAG_W,CALCIUM,CALCIUM_FLAG_W,D15N_NO3,D15N_NO3_FLAG_W,BTL_DATE,BTL_TIME,BTL_LAT,BTL_LON,SALTREF,SALTREF_FLAG_W,D18O_NO3,D18O_NO3_FLAG_W,DSI30,DSI30_FLAG_W,CDOM_NASA,CDOM_NASA_FLAG_W,CDOM_UCSB,CDOM_UCSB_FLAG_W,D15N_NO2+NO3,D15N_NO2+NO3_FLAG_W,D18O_NO2+NO3,D18O_NO2+NO3_FLAG_W
,,,,,,,,,,,METERS,DBAR,ITS-90,PSS-78,,PSS-78,,UMOL/KG,,UMOL/KG,,UMOL/KG,,UMOL/KG,,UMOL/KG,,UMOL/KG,,PMOL/KG,,PMOL/KG,,FMOL/KG,,UMOL/KG,,UMOL/KG,,,,DEG C,TU,,NMOL/KG,,PERCNT,,DEG C,,/MILLE,,/MILLE,,/MILLE,,UMOL/KG,,UMOL/KG,,NMOL/KG,,MMOL/KG,,/MILLE,,,,,,G/KG,,/MILLE,,/MILLE,,,,,,/MILLE,,/MILLE,
320620140320,       P16S,      32,          1,          5,         05,2,20140412,       1907,   -52.4997,  -149.9990,       4671,  3134.7,   1.6071,  34.7342,2,  34.7332,2,    197.2,2,   197.5,2,   99.24,2,   31.16,2,    0.00,2,    2.16,2,-999.000,9,-999.000,9, -999.00,9,  2255.3,2,  2358.2,2,   7.6752,2,       20,-999.000,9,-999.0000,9, -999.00,9,   1.6070,2,    0.61,2,  -157.0,2, -999.00,9,  -999.0,9, -999.00,9,     -999.0,9,     -999.0,9, -999.00,9, 20140412,     1927, -52.5005,-150.0005,    34.8970,2,     -999.0,9,     -999.0,9,     -999.0,9,     -999.0,9,     -999.0,9,     -999.0,9
320620140320,       P16S,      32,          1,          4,         04,2,20140412,       1907,   -52.4997,  -149.9990,       4671,  3435.1,   1.4073,  34.7282,2,  34.7269,2,    199.9,2,   199.7,2,  105.69,2,   31.42,2,    0.00,2,    2.17,2,   0.137,2,   0.037,2,    0.03,2,  -999.0,9,  -999.0,9,-999.0000,9,  -999.00,-999.000,9,-999.0000,9, -999.00,9,   1.4077,2, -999.00,9,  -999.0,9, -999.00,9,  -999.0,9, -999.00,9,      21.55,2,     -999.0,9, -999.00,9, 20140412,     1921, -52.5002,-150.0000,    34.8907,2,     -999.0,9,     -999.0,9,     -999.0,9,     -999.0,9,     -999.0,9,     -999.0,9
320620140320,       P16S,      32,          1,          3,         03,2,20140412,       1907,   -52.4997,  -149.9990,       4671,  3699.1,   1.2481,  34.7215,2,  34.7210,2,    201.6,2,   201.7,2,  111.46,2,   31.68,2,    0.00,2,    2.20,2,-999.000,9,-999.000,9, -999.00,9,  2258.8,2,  2362.4,6,   7.6743,2,       20,-999.000,9,-999.0000,9, -999.00,9,   1.2481,2,    0.61,2,  -163.7,2, -999.00,9,  -999.0,9, -999.00,9,     -999.0,9,     -999.0,9, -999.00,9, 20140412,     1916, -52.5003,-150.0000,    34.8847,2,     -999.0,9,     -999.0,9,     -999.0,9,     -999.0,9,     -999.0,9,     -999.0,9
320620140320,       P16S,      32,          1,          2,         02,2,20140412,       1907,   -52.4997,  -149.9990,       4671,  3899.5,   1.1506,  34.7172,2,  34.7167,2,    202.8,2,   202.9,2,  115.85,2,   31.90,2,    0.00,2,    2.21,2,-999.000,9,-999.000,9, -999.00,9,  2261.2,2,  2363.7,2,   7.6732,6,       20,-999.000,9,-999.0000,9, -999.00,9,   1.1511,2,    0.60,2,  -158.7,2, -999.00,9,  -999.0,9, -999.00,9,     -999.0,9,     -999.0,9, -999.00,9, 20140412,     1912, -52.4999,-149.9994,    34.8804,2,     -999.0,9,     -999.0,9,     -999.0,9,     -999.0,9,     -999.0,9,     -999.0,9
320620140320,       P16S,      32,          1,          1,         01,2,20140412,       1907,   -52.4997,  -149.9990,       4671,  4101.2,   1.1016,  34.7147,2,  34.7143,2,    203.6,2,   203.8,2,  118.10,2,   31.98,2,    0.00,2,    2.21,2,   0.140,2,   0.043,2,    0.06,2,  2262.3,6,  2365.1,2,   7.6736,2,       20,-999.000,9,-999.0000,9, -999.00,9,   1.1021,2,    0.62,2,  -161.1,2, -999.00,9,  -999.0,9, -999.00,9,      20.38,2,     -999.0,9, -999.00,9, 20140412,     1907, -52.4997,-149.9990,    34.8780,2,     -999.0,9,     -999.0,9,     -999.0,9,     -999.0,9,     -999.0,9,     -999.0,9