BOTTLE,20230715CCHSIOCBG
EXPOCODE,SECT_ID,STNNBR,CASTNO,SAMPNO,BTLNBR,BTLNBR_FLAG_W,DATE,TIME,LATITUDE,LONGITUDE,DEPTH,CTDPRS,CTDTMP,CTDSAL,CTDSAL_FLAG_W,SALNTY,SALNTY_FLAG_W,CTDOXY,CTDOXY_FLAG_W,OXYGEN,OXYGEN_FLAG_W,SILCAT,SILCAT_FLAG_W,NITRAT,NITRAT_FLAG_W,NITRIT,NITRIT_FLAG_W,PHSPHT,PHSPHT_FLAG_W,CFC-11,CFC-11_FLAG_W,CFC-12,CFC-12_FLAG_W,SF6,SF6_FLAG_W,TCARBN,TCARBN_FLAG_W,ALKALI,ALKALI_FLAG_W,PH_TOT,PH_TOT_FLAG_W,PH_TMP,TRITUM,TRITUM_FLAG_W,HELIUM,HELIUM_FLAG_W,DELHE3,DELHE3_FLAG_W,REFTMP,REFTMP_FLAG_W,DELC13,DELC13_FLAG_W,DELC14,DELC14_FLAG_W,DELO18,DELO18_FLAG_W,DOC,DOC_FLAG_W,TDN,TDN_FLAG_W,N2O,N2O_FLAG_W,CALCIUM,CALCIUM_FLAG_W,D15N_NO3,D15N_NO3_FLAG_W,BTL_DATE,BTL_TIME,BTL_LAT,BTL_LON,SALTREF,SALTREF_FLAG_W,D18O_NO3,D18O_NO3_FLAG_W,DSI30,DSI30_FLAG_W,CDOM_NASA,CDOM_NASA_FLAG_W,CDOM_UCSB,CDOM_UCSB_FLAG_W,D15N_NO2+NO3,D15N_NO2+NO3_FLAG_W,D18O_NO2+NO3,D18O_NO2+NO3_FLAG_W
,,,,,,,,,,,METERS,DBAR,ITS-90,PSS-78,,PSS-78,,UMOL/KG,,UMOL/KG,,UMOL/KG,,UMOL/KG,,UMOL/KG,,UMOL/KG,,PMOL/KG,,PMOL/KG,,FMOL/KG,,UMOL/KG,,UMOL/KG,,,,DEG C,TU,,NMOL/KG,,PERCNT,,DEG C,,/MILLE,,/MILLE,,/MILLE,,UMOL/KG,,UMOL/KG,,NMOL/KG,,MMOL/KG,,/MILLE,,,,,,G/KG,,/MILLE,,/MILLE,,,,,,/MILLE,,/MILLE,
320620140320,       P16S,      41,          1,         36,         36,2,20140416,       0743,   -47.6671,  -150.0000,       4720,     4.6,  13.0835,  34.3904,2,  34.3909,2,    263.3,2,   262.7,2,    0.59,2,    5.65,2,    0.10,2,    0.53,2,   2.894,2,   1.712,2,    1.93,2,  2064.3,2,  2280.6,2,   7.9799,2,       20,-999.000,9,-999.0000,9, -999.00,9,  13.0857,2, -999.00,9,  -999.0,9, -999.00,9,  -999.0,9, -999.00,9,      10.39,2,     -999.0,9, -999.00,9, 20140416,      954, -47.6669,-149.9998,    34.5531,2,     -999.0,9,     -999.0,9,     -999.0,9,     -999.0,9,     -999.0,9,     -999.0,9
320620140320,       P16S,      41,          1,         35,         35,2,20140416,       0743,   -47.6671,  -150.0000,       4720,    33.4,  12.8741,  34.4192,2,  34.4204,2,    263.7,2,   264.0,2,    0.39,2,    5.72,2,    0.10,2,    0.53,2,   2.892,6,   1.713,6,    1.79,2,  2066.8,2,  2283.4,2,   7.9764,2,       20,-999.000,9,-999.0000,9, -999.00,9,  12.8634,2, -999.00,9,  -999.0,9, -999.00,9,  -999.0,9, -999.00,9,      10.39,6,     -999.0,9, -999.00,9, 20140416,      951, -47.6670,-150.0000,    34.5827,2,     -999.0,9,     -999.0,9,     -999.0,9,     -999.0,9,     -999.0,9,     -999.0,9
320620140320,       P16S,      41,          1,         34,         34,2,20140416,       0743,   -47.6671,  -150.0000,       4720,    59.3,  12.1308,  34.4727,2,  34.4733,2,    265.8,2,   266.6,2,    0.49,2,    5.76,2,    0.11,2,    0.53,2,   2.909,2,   1.781,2,    1.82,2,  -999.0,9,  -999.0,9,-999.0000,9,  -999.00,-999.000,9,-999.0000,9, -999.00,9,  12.1309,2, -999.00,9,  -999.0,9, -999.00,9,  -999.0,9, -999.00,9,      10.58,2,     -999.0,9, -999.00,9, 20140416,      949, -47.6671,-150.0000,    34.6359,2,     -999.0,9,     -999.0,9,     -999.0,9,     -999.0,9,     -999.0,9,     -999.0,9
320620140320,       P16S,      41,          1,         33,         33,2,20140416,       0743,   -47.6671,  -150.0000,       4720,    83.9,  10.8490,  34.5085,2,  34.5087,2,    263.3,2,   262.6,2,    1.17,2,    7.92,2,    0.60,2,    0.71,2,   3.275,2,   1.888,2,    2.07,2,  2093.9,6,  2286.8,2,   7.9259,2,       20,-999.000,9,-999.0000,9, -999.00,9,  10.7858,3, -999.00,9,  -999.0,9, -999.00,9,  -999.0,9, -999.00,9,      11.76,2,     -999.0,9, -999.00,9, 20140416,      947, -47.6670,-150.0000,    34.6714,2,     -999.0,9,     -999.0,9,     -999.0,9,     -999.0,9,     -999.0,9,     -999.0,9
320620140320,       P16S,      41,          1,         32,         32,2,20140416,       0743,   -47.6671,  -150.0000,       4720,   115.1,   9.1974,  34.5304,2,  34.5301,2,    261.4,2,   263.0,2,    2.54,2,   12.69,2,    0.11,2,    0.94,2,   3.536,2,   2.019,2,    2.36,2,    2115,2,    2284,2,   7.8687,2,       20,-999.000,9,-999.0000,9, -999.00,9,   9.1959,2, -999.00,9,  -999.0,9, -999.00,9,  -999.0,9, -999.00,9,      12.01,2,     -999.0,9, -999.00,9, 20140416,      946, -47.6670,-150.0000,    34.6929,2,     -999.0,9,     -999.0,9,     -999.0,9,     -999.0,9,     -999.0,9,     -999.0,9
320620140320,       P16S,      41,          1,         31,         31,2,20140416,       0743,   -47.6671,  -150.0000,       4720,   164.9,   8.5852,  34.5113,2,  34.5090,2,    263.2,2,   260.7,2,    2.93,2,   14.31,2,    0.01,2,    1.04,2,   3.474,2,   2.033,2,    1.97,2,  2121.3,2,  2283.2,2,   7.8498,2,       20,-999.000,9,-999.0000,9, -999.00,9,   8.5857,2, -999.00,9,  -999.0,9, -999.00,9,  -999.0,9, -999.00,9,      14.05,2,     -999.0,9, -999.00,9, 20140416,      944, -47.6671,-150.0000,    34.6717,2,     -999.0,9,     -999.0,9,     -999.0,9,     -999.0,9,     -999.0,9,     -999.0,9
320620140320,       P16S,      41,          1,         30,         30,2,20140416,       0743,   -47.6671,  -150.0000,       4720,   214.7,   8.4395,  34.5071,2,  34.5070,2,    260.5,2,   261.7,2,    3.32,2,   14.88,2,    0.01,2,    1.08,2,-999.000,9,-999.000,9, -999.00,9,  2124.9,2,  2282.8,2,   7.8476,2,       20,-999.000,9,-999.0000,9, -999.00,9,   8.4391,2, -999.00,9,  -999.0,9, -999.00,9,  -999.0,9, -999.00,9,     -999.0,9,     -999.0,9, -999.00,9, 20140416,      942, -47.6670,-150.0000,    34.6698,2,     -999.0,9,     -999.0,9,     -999.0,9,     -999.0,9,     -999.0,9,     -999.0,9
320620140320,       P16S,      41,          1,         29,         29,2,20140416,       0743,   -47.6671,  -150.0000,       4720,   264.4,   8.2618,  34.4924,2,  34.4915,2,    264.4,2,   265.0,2,    3.62,2,   15.38,2,    0.01,2,    1.10,2,   3.728,2,   2.109,2,    2.13,2,  2124.2,2,  2283.8,2,   7.8446,2,       20,-999.000,9,-999.0000,9, -999.00,9,   8.2620,2, -999.00,9,  -999.0,9, -999.00,9,  -999.0,9, -999.00,9,      14.54,2,     -999.0,9, -999.00,9, 20140416,      940, -47.6671,-150.0000,    34.6542,2,     -999.0,9,     -999.0,9,     -999.0,9,     -999.0,9,     -999.0,9,     -999.0,9
320620140320,       P16S,      41,          1,         28,         28,2,20140416,       0743,   -47.6671,  -150.0000,       4720,   315.3,   8.1742,  34.4901,2,  34.4888,2,    265.0,2,   265.5,2,    3.81,2,   15.67,2,    0.01,2,    1.11,2,   3.608,2,   2.058,2,    2.06,2,  2125.2,2,    2283,2,    7.844,2,       20,-999.000,9,-999.0000,9, -999.00,9,   8.1726,2, -999.00,9,  -999.0,9, -999.00,9,  -999.0,9, -999.00,9,      13.85,2,     -999.0,9, -999.00,9, 20140416,      938, -47.6671,-150.0000,    34.6514,2,     -999.0,9,     -999.0,9,     -999.0,9,     -999.0,9,     -999.0,9,     -999.0,9
320620140320,       P16S,      41,          1,         27,         27,2,20140416,       0743,   -47.6671,  -150.0000,       4720,   362.7,   7.9708,  34.4651,2,  34.4660,2,    261.0,2,   261.6,2,    4.20,2,   16.85,2,    0.01,2,    1.18,2,   3.713,2,   2.084,2,    2.04,2,  2128.3,2,  2284.4,2,   7.8323,2,       20,-999.000,9,-999.0000,9, -999.00,9,   7.9782,2, -999.00,9,  -999.0,9, -999.00,9,  -999.0,9, -999.00,9,      14.21,2,     -999.0,9, -999.00,9, 20140416,      936, -47.6671,-150.0001,    34.6285,2,     -999.0,9,     -999.0,9,     -999.0,9,     -999.0,9,     -999.0,9,     -999.0,9
320620140320,       P16S,      41,          1,         26,         26,2,20140416,       0743,   -47.6671,  -150.0000,       4720,   435.4,   7.7305,  34.4353,2,  34.4351,2,    255.6,2,   256.0,2,    4.99,2,   18.43,2,    0.01,2,    1.28,2,   3.678,2,   2.061,2,    1.82,2,  2133.2,2,    2282,6,    7.818,2,       20,-999.000,9,-999.0000,9, -999.00,9,   7.7286,2, -999.00,9,  -999.0,9, -999.00,9,  -999.0,9, -999.00,9,      15.21,2,     -999.0,9, -999.00,9, 20140416,      933, -47.6671,-150.0001,    34.5975,2,     -999.0,9,     -999.0,9,     -999.0,9,     -999.0,9,     -999.0,9,     -999.0,9
320620140320,       P16S,      41,          1,         25,         25,2,20140416,       0743,   -47.6671,  -150.0000,       4720,   534.5,   7.3799,  34.4023,2,  34.4023,2,    251.5,2,   251.4,2,    6.16,2,   20.09,2,    0.01,2,    1.39,2,   3.858,2,   2.082,2,    1.68,2,  -999.0,9,  -999.0,9,-999.0000,9,  -999.00,-999.000,9,-999.0000,9, -999.00,9,   7.3805,2, -999.00,9,  -999.0,9, -999.00,9,  -999.0,9, -999.00,9,      14.82,2,     -999.0,9, -999.00,9, 20140416,      930, -47.6671,-150.0001,    34.5646,2,     -999.0,9,     -999.0,9,     -999.0,9,     -999.0,9,     -999.0,9,     -999.0,9
320620140320,       P16S,      41,          1,         24,         24,2,20140416,       0743,   -47.6671,  -150.0000,       4720,   634.4,   7.1011,  34.3814,2,  34.3803,2,    248.1,2,   248.0,2,    7.33,2,   21.25,2,    0.00,2,    1.47,2,   3.640,2,   2.009,2,    1.55,2,  2143.8,6,  2281.6,2,   7.7946,2,       20,-999.000,9,-999.0000,9, -999.00,9,   7.1001,2, -999.00,9,  -999.0,9, -999.00,9,  -999.0,9, -999.00,9,      15.34,2,     -999.0,9, -999.00,9, 20140416,      927, -47.6671,-150.0001,    34.5425,2,     -999.0,9,     -999.0,9,     -999.0,9,     -999.0,9,     -999.0,9,     -999.0,9
320620140320,       P16S,      41,          1,         23,         23,2,20140416,       0743,   -47.6671,  -150.0000,       4720,   733.8,   6.7820,  34.3589,2,  34.3580,2,    243.5,2,   243.8,2,    9.09,2,   22.53,2,    0.00,2,    1.55,2,   3.476,2,   1.884,2,    0.95,2,  2151.2,2,  2281.8,2,    7.783,6,       20,-999.000,9,-999.0000,9, -999.00,9,   6.7815,2, -999.00,9,  -999.0,9, -999.00,9,  -999.0,9, -999.00,9,      15.08,2,     -999.0,9, -999.00,9, 20140416,      924, -47.6671,-150.0000,    34.5200,2,     -999.0,9,     -999.0,9,     -999.0,9,     -999.0,9,     -999.0,9,     -999.0,9
320620140320,       P16S,      41,          1,         22,         22,2,20140416,       0743,   -47.6671,  -150.0000,       4720,   834.5,   6.3696,  34.3364,2,  34.3364,2,    235.2,2,   235.1,2,   11.83,2,   24.16,2,    0.00,2,    1.64,2,   3.368,2,   1.709,2,    0.79,2,  2157.4,2,  2283.6,2,    7.765,2,       20,-999.000,9,-999.0000,9, -999.00,9,   6.3699,2, -999.00,9,  -999.0,9, -999.00,9,  -999.0,9, -999.00,9,      15.61,2,     -999.0,9, -999.00,9, 20140416,      921, -47.6670,-149.9998,    34.4983,2,     -999.0,9,     -999.0,9,     -999.0,9,     -999.0,9,     -999.0,9,     -999.0,9
320620140320,       P16S,      41,          1,         21,         21,2,20140416,       0743,   -47.6671,  -150.0000,       4720,   935.8,   5.8803,  34.3195,2,  34.3203,2,    224.3,2,   226.0,2,   15.84,2,   25.96,2,    0.00,2,    1.78,2,   2.934,2,   1.455,2,    0.61,2,  2167.3,2,    2285,2,   7.7444,2,       20,-999.000,9,-999.0000,9, -999.00,9,   5.8815,2, -999.00,9,  -999.0,9, -999.00,9,  -999.0,9, -999.00,9,      16.17,2,     -999.0,9, -999.00,9, 20140416,      918, -47.6668,-149.9997,    34.4821,2,     -999.0,9,     -999.0,9,     -999.0,9,     -999.0,9,     -999.0,9,     -999.0,9
320620140320,       P16S,      41,          1,         20,         20,2,20140416,       0743,   -47.6671,  -150.0000,       4720,  1034.7,   5.3659,  34.3180,2,  34.3179,2,    216.3,2,   216.4,2,   21.21,2,   27.74,2,    0.00,2,    1.91,2,-999.000,9,-999.000,9, -999.00,9,  2179.4,2,    2290,2,   7.7209,2,       20,-999.000,9,-999.0000,9, -999.00,9,   5.3670,2, -999.00,9,  -999.0,9, -999.00,9,  -999.0,9, -999.00,9,     -999.0,9,     -999.0,9, -999.00,9, 20140416,      915, -47.6668,-149.9996,    34.4797,2,     -999.0,9,     -999.0,9,     -999.0,9,     -999.0,9,     -999.0,9,     -999.0,9
320620140320,       P16S,      41,          1,         19,         19,2,20140416,       0743,   -47.6671,  -150.0000,       4720,  1134.6,   4.7316,  34.3200,2,  34.3206,2,    208.7,2,   208.2,2,   28.45,2,   29.70,2,    0.00,2,    2.03,2,   2.226,2,   1.101,2,    0.42,2,  2192.3,2,  2294.5,2,   7.6969,2,       20,-999.000,9,-999.0000,9, -999.00,9,   4.7332,2, -999.00,9,  -999.0,9, -999.00,9,  -999.0,9, -999.00,9,      19.29,2,     -999.0,9, -999.00,9, 20140416,      912, -47.6670,-149.9999,    34.4824,2,     -999.0,9,     -999.0,9,     -999.0,9,     -999.0,9,     -999.0,9,     -999.0,9
320620140320,       P16S,      41,          1,         18,         18,2,20140416,       0743,   -47.6671,  -150.0000,       4720,  1234.2,   4.2138,  34.3327,2,  34.3335,2,    203.4,2,   203.1,2,   35.48,2,   30.94,2,    0.00,2,    2.12,2,   1.978,2,   0.939,2,    0.28,2,  2204.2,2,  2300.9,2,   7.6799,2,       20,-999.000,9,-999.0000,9, -999.00,9,   4.2140,2, -999.00,9,  -999.0,9, -999.00,9,  -999.0,9, -999.00,9,      19.65,2,     -999.0,9, -999.00,9, 20140416,      909, -47.6671,-150.0000,    34.4954,2,     -999.0,9,     -999.0,9,     -999.0,9,     -999.0,9,     -999.0,9,     -999.0,9
320620140320,       P16S,      41,          1,         17,         17,2,20140416,       0743,   -47.6671,  -150.0000,       4720,  1335.1,   3.8257,  34.3548,2,  34.3547,2,    196.0,2,   196.5,2,   41.84,2,   31.90,2,    0.00,2,    2.19,2,   1.589,2,   0.783,2,    0.30,2,  2215.3,2,  2306.9,2,    7.666,2,       20,-999.000,9,-999.0000,9, -999.00,9,   3.8238,2, -999.00,9,  -999.0,9, -999.00,9,  -999.0,9, -999.00,9,      21.01,2,     -999.0,9, -999.00,9, 20140416,      907, -47.6672,-150.0002,    34.5167,2,     -999.0,9,     -999.0,9,     -999.0,9,     -999.0,9,     -999.0,9,     -999.0,9
320620140320,       P16S,      41,          1,         16,         16,2,20140416,       0743,   -47.6671,  -150.0000,       4720,  1435.0,   3.4649,  34.3894,2,  34.3898,2,    189.7,2,   189.2,2,   49.95,2,   32.82,2,    0.00,2,    2.26,2,   1.304,2,   0.633,2,    0.23,2,  2226.8,2,  2314.2,2,   7.6525,2,       20,-999.000,9,-999.0000,9, -999.00,9,   3.4637,2, -999.00,9,  -999.0,9, -999.00,9,  -999.0,9, -999.00,9,      21.49,2,     -999.0,9, -999.00,9, 20140416,      904, -47.6672,-150.0003,    34.5520,2,     -999.0,9,     -999.0,9,     -999.0,9,     -999.0,9,     -999.0,9,     -999.0,9
320620140320,       P16S,      41,          1,         15,         15,2,20140416,       0743,   -47.6671,  -150.0000,       4720,  1535.8,   3.2101,  34.4269,2,  34.4271,2,    183.4,2,   182.8,2,   56.89,2,   33.38,2,    0.00,2,    2.30,2,   1.039,2,   0.521,2,    0.21,2,  2234.8,2,  2320.5,2,   7.6419,2,       20,-999.000,9,-999.0000,9, -999.00,9,   3.2099,2, -999.00,9,  -999.0,9, -999.00,9,  -999.0,9, -999.00,9,      22.02,2,     -999.0,9, -999.00,9, 20140416,      901, -47.6672,-150.0002,    34.5894,2,     -999.0,9,     -999.0,9,     -999.0,9,     -999.0,9,     -999.0,9,     -999.0,9
320620140320,       P16S,      41,          1,         14,         14,2,20140416,       0743,   -47.6671,  -150.0000,       4720,  1633.5,   3.0249,  34.4664,2,  34.4663,2,    177.2,2,   176.9,2,   63.14,2,   33.81,2,    0.00,2,    2.32,2,   0.774,2,   0.390,2,    0.11,2,  2243.6,2,  2327.9,2,   7.6351,2,       20,-999.000,9,-999.0000,9, -999.00,9,   3.0295,2, -999.00,9,  -999.0,9, -999.00,9,  -999.0,9, -999.00,9,      23.30,2,     -999.0,9, -999.00,9, 20140416,      858, -47.6671,-150.0001,    34.6289,2,     -999.0,9,     -999.0,9,     -999.0,9,     -999.0,9,     -999.0,9,     -999.0,9
320620140320,       P16S,      41,          1,         13,         13,2,20140416,       0743,   -47.6671,  -150.0000,       4720,  1765.7,   2.8206,  34.5236,2,  34.5237,2,    169.5,2,   169.0,2,   72.91,2,   34.12,2,    0.00,2,    2.36,2,   0.418,2,   0.173,2,    0.11,2,    2256,2,  2339.9,2,   7.6318,2,       20,-999.000,9,-999.0000,9, -999.00,9,   2.8214,2, -999.00,9,  -999.0,9, -999.00,9,  -999.0,9, -999.00,9,      22.56,2,     -999.0,9, -999.00,9, 20140416,      855, -47.6669,-149.9999,    34.6865,2,     -999.0,9,     -999.0,9,     -999.0,9,     -999.0,9,     -999.0,9,     -999.0,9
320620140320,       P16S,      41,          1,         12,         12,2,20140416,       0743,   -47.6671,  -150.0000,       4720,  1966.2,   2.5950,  34.5869,2,  34.5873,2,    168.2,2,   168.7,2,   78.87,2,   33.80,2,    0.00,2,    2.33,2,-999.000,9,-999.000,9, -999.00,9,  2261.5,2,  2345.1,2,   7.6312,2,       20,-999.000,9,-999.0000,9, -999.00,9,   2.5952,2, -999.00,9,  -999.0,9, -999.00,9,  -999.0,9, -999.00,9,     -999.0,9,     -999.0,9, -999.00,9, 20140416,      850, -47.6670,-150.0000,    34.7504,2,     -999.0,9,     -999.0,9,     -999.0,9,     -999.0,9,     -999.0,9,     -999.0,9
320620140320,       P16S,      41,          1,         11,         11,2,20140416,       0743,   -47.6671,  -150.0000,       4720,  2183.0,   2.3997,  34.6304,2,  34.6301,2,    161.5,2,   161.0,2,   94.90,2,   34.14,2,    0.00,2,    2.37,2,   0.150,2,   0.051,2,    0.14,2,  2278.6,2,  2366.3,2,   7.6376,2,       20,-999.000,9,-999.0000,9, -999.00,9,   2.4004,2, -999.00,9,  -999.0,9, -999.00,9,  -999.0,9, -999.00,9,      22.24,2,     -999.0,9, -999.00,9, 20140416,      845, -47.6670,-150.0000,    34.7934,2,     -999.0,9,     -999.0,9,     -999.0,9,     -999.0,9,     -999.0,9,     -999.0,9
320620140320,       P16S,      41,          1,         10,         10,2,20140416,       0743,   -47.6671,  -150.0000,       4720,  2434.1,   2.2106,  34.6622,2,  34.6625,2,    163.1,2,   162.7,2,  100.76,2,   33.78,2,    0.00,2,    2.35,2,   0.119,2,   0.027,2,    0.04,2,  2283.1,2,  2372.1,2,   7.6424,2,       20,-999.000,9,-999.0000,9, -999.00,9,   2.2103,2, -999.00,9,  -999.0,9, -999.00,9,  -999.0,9, -999.00,9,      22.59,2,     -999.0,9, -999.00,9, 20140416,      840, -47.6672,-150.0003,    34.8259,2,     -999.0,9,     -999.0,9,     -999.0,9,     -999.0,9,     -999.0,9,     -999.0,9
320620140320,       P16S,      41,          1,          9,         09,2,20140416,       0743,   -47.6671,  -150.0000,       4720,  2684.8,   2.1038,  34.7003,2,  34.7004,2,    175.2,2,   176.0,2,   94.50,2,   32.38,2,    0.00,2,    2.23,2,   0.124,2,   0.042,2,    0.12,2,  2268.4,2,  2362.7,2,   7.6558,2,       20,-999.000,9,-999.0000,9, -999.00,9,   2.1044,2, -999.00,9,  -999.0,9, -999.00,9,  -999.0,9, -999.00,9,      21.13,2,     -999.0,9, -999.00,9, 20140416,      834, -47.6672,-150.0003,    34.8640,2,     -999.0,9,     -999.0,9,     -999.0,9,     -999.0,9,     -999.0,9,     -999.0,9
320620140320,       P16S,      41,          1,          8,         08,2,20140416,       0743,   -47.6671,  -150.0000,       4720,  2935.2,   1.9471,  34.7191,2,  34.7197,2,    183.5,2,   183.4,2,   96.36,2,   31.82,2,    0.00,2,    2.18,2,-999.000,9,-999.000,9, -999.00,9,  2264.6,2,  2360.4,2,   7.6655,2,       20,-999.000,9,-999.0000,9, -999.00,9,   1.9468,2, -999.00,9,  -999.0,9, -999.00,9,  -999.0,9, -999.00,9,     -999.0,9,     -999.0,9, -999.00,9, 20140416,      829, -47.6674,-150.0007,    34.8834,2,     -999.0,9,     -999.0,9,     -999.0,9,     -999.0,9,     -999.0,9,     -999.0,9
320620140320,       P16S,      41,          1,          7,         07,2,20140416,       0743,   -47.6671,  -150.0000,       4720,  3200.0,   1.7571,  34.7291,2,  34.7295,2,    190.6,2,   190.9,2,   98.80,2,   31.34,2,    0.00,2,    2.16,2,   0.105,2,   0.021,2,    0.07,2,  2260.9,2,  2359.1,2,   7.6737,2,       20,-999.000,9,-999.0000,9, -999.00,9,   1.7569,2, -999.00,9,  -999.0,9, -999.00,9,  -999.0,9, -999.00,9,      19.46,2,     -999.0,9, -999.00,9, 20140416,      823, -47.6673,-150.0004,    34.8932,2,     -999.0,9,     -999.0,9,     -999.0,9,     -999.0,9,     -999.0,9,     -999.0,9
320620140320,       P16S,      41,          1,          6,         06,2,20140416,       0743,   -47.6671,  -150.0000,       4720,  3500.4,   1.5077,  34.7266,2,  34.7261,2,    195.7,2,   195.6,2,  105.35,2,   31.48,2,    0.00,2,    2.17,2,   0.068,2,   0.011,2,    0.03,2,  2261.6,2,  2362.5,2,   7.6765,2,       20,-999.000,9,-999.0000,9, -999.00,9,   1.5080,2, -999.00,9,  -999.0,9, -999.00,9,  -999.0,9, -999.00,9,      19.48,2,     -999.0,9, -999.00,9, 20140416,      817, -47.6670,-149.9998,    34.8899,2,     -999.0,9,     -999.0,9,     -999.0,9,     -999.0,9,     -999.0,9,     -999.0,9