BOTTLE,20230715CCHSIOCBG
EXPOCODE,SECT_ID,STNNBR,CASTNO,SAMPNO,BTLNBR,BTLNBR_FLAG_W,DATE,TIME,LATITUDE,LONGITUDE,DEPTH,CTDPRS,CTDTMP,CTDSAL,CTDSAL_FLAG_W,SALNTY,SALNTY_FLAG_W,CTDOXY,CTDOXY_FLAG_W,OXYGEN,OXYGEN_FLAG_W,SILCAT,SILCAT_FLAG_W,NITRAT,NITRAT_FLAG_W,NITRIT,NITRIT_FLAG_W,PHSPHT,PHSPHT_FLAG_W,CFC-11,CFC-11_FLAG_W,CFC-12,CFC-12_FLAG_W,SF6,SF6_FLAG_W,TCARBN,TCARBN_FLAG_W,ALKALI,ALKALI_FLAG_W,PH_TOT,PH_TOT_FLAG_W,PH_TMP,TRITUM,TRITUM_FLAG_W,HELIUM,HELIUM_FLAG_W,DELHE3,DELHE3_FLAG_W,REFTMP,REFTMP_FLAG_W,DELC13,DELC13_FLAG_W,DELC14,DELC14_FLAG_W,DELO18,DELO18_FLAG_W,DOC,DOC_FLAG_W,TDN,TDN_FLAG_W,N2O,N2O_FLAG_W,CALCIUM,CALCIUM_FLAG_W,D15N_NO3,D15N_NO3_FLAG_W,BTL_DATE,BTL_TIME,BTL_LAT,BTL_LON,SALTREF,SALTREF_FLAG_W,D18O_NO3,D18O_NO3_FLAG_W,DSI30,DSI30_FLAG_W,CDOM_NASA,CDOM_NASA_FLAG_W,CDOM_UCSB,CDOM_UCSB_FLAG_W,D15N_NO2+NO3,D15N_NO2+NO3_FLAG_W,D18O_NO2+NO3,D18O_NO2+NO3_FLAG_W
,,,,,,,,,,,METERS,DBAR,ITS-90,PSS-78,,PSS-78,,UMOL/KG,,UMOL/KG,,UMOL/KG,,UMOL/KG,,UMOL/KG,,UMOL/KG,,PMOL/KG,,PMOL/KG,,FMOL/KG,,UMOL/KG,,UMOL/KG,,,,DEG C,TU,,NMOL/KG,,PERCNT,,DEG C,,/MILLE,,/MILLE,,/MILLE,,UMOL/KG,,UMOL/KG,,NMOL/KG,,MMOL/KG,,/MILLE,,,,,,G/KG,,/MILLE,,/MILLE,,,,,,/MILLE,,/MILLE,
320620140320,       P16S,      45,          1,          5,         05,2,20140417,       1948,   -45.0002,  -149.9997,       5350,  4101.1,   1.3424,  34.7173,2,  34.7187,2,    197.4,2,   197.6,2,  111.52,2,   32.13,2,    0.00,2,    2.23,2,   0.003,2,   0.001,2,    0.05,2,  2265.9,2,  2368.8,2,   7.6766,2,       20,-999.000,9,-999.0000,9, -999.00,9,   1.3423,2,    0.56,2,  -172.0,2, -999.00,9,  -999.0,9, -999.00,9,      20.96,2,     -999.0,9, -999.00,9, 20140417,     2029, -44.9993,-150.0015,    34.8824,2,     -999.0,9,     -999.0,9,     -999.0,9,     -999.0,1,     -999.0,9,     -999.0,9
320620140320,       P16S,      45,          1,          4,         04,2,20140417,       1948,   -45.0002,  -149.9997,       5350,  4398.2,   1.2262,  34.7152,2,  34.7164,2,    200.2,2,   200.0,2,  115.23,2,   32.32,2,    0.00,2,    2.23,2,-999.000,9,-999.000,9, -999.00,9,  2265.6,2,  2369.9,2,   7.6792,2,       20,-999.000,9,-999.0000,9, -999.00,9,   1.2259,2,    0.59,2,  -169.0,2, -999.00,9,  -999.0,9, -999.00,9,     -999.0,9,     -999.0,9, -999.00,9, 20140417,     2023, -44.9995,-150.0009,    34.8801,2,     -999.0,9,     -999.0,9,     -999.0,9,     -999.0,9,     -999.0,9,     -999.0,9
320620140320,       P16S,      45,          1,          3,         03,2,20140417,       1948,   -45.0002,  -149.9997,       5350,  4748.4,   1.2032,  34.7136,2,  34.7140,2,    201.4,2,   200.8,2,  116.80,2,   32.26,2,    0.00,2,    2.25,2,   0.012,2,   0.002,2,    0.06,2,  2267.4,2,  2371.7,6,   7.6811,2,       20,-999.000,9,-999.0000,9, -999.00,9,   1.2031,2,    0.57,2,  -166.6,2, -999.00,9,  -999.0,9, -999.00,9,      19.74,2,     -999.0,9, -999.00,9, 20140417,     2014, -44.9999,-150.0001,    34.8777,2,     -999.0,9,     -999.0,9,     -999.0,9,     -999.0,1,     -999.0,9,     -999.0,9
320620140320,       P16S,      45,          1,          2,         02,2,20140417,       1948,   -45.0002,  -149.9997,       5350,  5099.6,   1.2106,  34.7127,2,  34.7134,2,    201.5,2,   201.4,2,  118.07,2,   32.35,2,    0.00,2,    2.24,2,   0.019,2,   0.002,2,    0.02,2,  2268.5,2,  2372.5,2,   7.6799,6,       20,-999.000,9,-999.0000,9, -999.00,9,   1.2105,2,    0.57,2,  -169.3,2, -999.00,9,  -999.0,9, -999.00,9,      20.35,2,     -999.0,9, -999.00,9, 20140417,     2003, -44.9999,-150.0000,    34.8771,2,     -999.0,9,     -999.0,9,     -999.0,9,     -999.0,9,     -999.0,9,     -999.0,9
320620140320,       P16S,      45,          1,          1,         01,2,20140417,       1948,   -45.0002,  -149.9997,       5350,  5460.2,   1.2470,  34.7125,2,  34.7117,2,    201.4,2,   201.3,2,  118.16,2,   32.38,2,    0.00,2,    2.24,2,   0.017,2,   0.003,2,    0.04,2,  2268.3,6,  2372.3,2,   7.6806,2,       20,-999.000,9,-999.0000,9, -999.00,9,   1.2471,2,    0.74,2,  -173.1,2, -999.00,9,  -999.0,9, -999.00,9,      18.98,2,     -999.0,9, -999.00,9, 20140417,     1948, -45.0002,-149.9997,    34.8754,2,     -999.0,9,     -999.0,9,     -999.0,9,     -999.0,1,     -999.0,9,     -999.0,9