BOTTLE,20230715CCHSIOCBG
EXPOCODE,SECT_ID,STNNBR,CASTNO,SAMPNO,BTLNBR,BTLNBR_FLAG_W,DATE,TIME,LATITUDE,LONGITUDE,DEPTH,CTDPRS,CTDTMP,CTDSAL,CTDSAL_FLAG_W,SALNTY,SALNTY_FLAG_W,CTDOXY,CTDOXY_FLAG_W,OXYGEN,OXYGEN_FLAG_W,SILCAT,SILCAT_FLAG_W,NITRAT,NITRAT_FLAG_W,NITRIT,NITRIT_FLAG_W,PHSPHT,PHSPHT_FLAG_W,CFC-11,CFC-11_FLAG_W,CFC-12,CFC-12_FLAG_W,SF6,SF6_FLAG_W,TCARBN,TCARBN_FLAG_W,ALKALI,ALKALI_FLAG_W,PH_TOT,PH_TOT_FLAG_W,PH_TMP,TRITUM,TRITUM_FLAG_W,HELIUM,HELIUM_FLAG_W,DELHE3,DELHE3_FLAG_W,REFTMP,REFTMP_FLAG_W,DELC13,DELC13_FLAG_W,DELC14,DELC14_FLAG_W,DELO18,DELO18_FLAG_W,DOC,DOC_FLAG_W,TDN,TDN_FLAG_W,N2O,N2O_FLAG_W,CALCIUM,CALCIUM_FLAG_W,D15N_NO3,D15N_NO3_FLAG_W,BTL_DATE,BTL_TIME,BTL_LAT,BTL_LON,SALTREF,SALTREF_FLAG_W,D18O_NO3,D18O_NO3_FLAG_W,DSI30,DSI30_FLAG_W,CDOM_NASA,CDOM_NASA_FLAG_W,CDOM_UCSB,CDOM_UCSB_FLAG_W,D15N_NO2+NO3,D15N_NO2+NO3_FLAG_W,D18O_NO2+NO3,D18O_NO2+NO3_FLAG_W
,,,,,,,,,,,METERS,DBAR,ITS-90,PSS-78,,PSS-78,,UMOL/KG,,UMOL/KG,,UMOL/KG,,UMOL/KG,,UMOL/KG,,UMOL/KG,,PMOL/KG,,PMOL/KG,,FMOL/KG,,UMOL/KG,,UMOL/KG,,,,DEG C,TU,,NMOL/KG,,PERCNT,,DEG C,,/MILLE,,/MILLE,,/MILLE,,UMOL/KG,,UMOL/KG,,NMOL/KG,,MMOL/KG,,/MILLE,,,,,,G/KG,,/MILLE,,/MILLE,,,,,,/MILLE,,/MILLE,
320620140320,       P16S,      26,          1,         36,         36,2,20140410,       0925,   -55.5002,  -150.0000,       3680,     4.8,   5.5453,  33.7790,2,  33.7789,2,    306.8,2,   307.4,2,    1.27,2,   21.60,2,    0.24,2,    1.50,2,   4.533,2,   2.488,2,    2.44,2,  2120.4,2,    2271,2,   7.8336,2,       20,-999.000,9,-999.0000,9, -999.00,9,   5.5451,2, -999.00,9,  -999.0,9, -999.00,9,  -999.0,9, -999.00,9,      12.80,2,     -999.0,9, -999.00,9, 20140410,     1108, -55.4999,-149.9999,    33.9382,2,     -999.0,9,     -999.0,9,     -999.0,9,     -999.0,9,     -999.0,9,     -999.0,9
320620140320,       P16S,      26,          1,         35,         35,2,20140410,       0925,   -55.5002,  -150.0000,       3680,    25.4,   5.5421,  33.7779,2,  33.7787,2,    307.4,2,   307.3,2,    1.17,2,   21.61,2,    0.24,2,    1.51,2,-999.000,9,-999.000,9, -999.00,9,  2120.3,2,  2272.5,2,   7.8331,2,       20,-999.000,9,-999.0000,9, -999.00,9,   5.5404,2, -999.00,9,  -999.0,9, -999.00,9,  -999.0,9, -999.00,9,     -999.0,9,     -999.0,9, -999.00,9, 20140410,     1106, -55.4999,-149.9999,    33.9380,2,     -999.0,9,     -999.0,9,     -999.0,9,     -999.0,9,     -999.0,9,     -999.0,9
320620140320,       P16S,      26,          1,         34,         34,2,20140410,       0925,   -55.5002,  -150.0000,       3680,    51.1,   5.5356,  33.7780,2,  33.7793,2,    307.9,2,   307.3,2,    1.17,2,   21.64,2,    0.24,2,    1.53,2,-999.000,9,-999.000,9, -999.00,9,  2120.3,2,  2272.2,2,   7.8324,2,       20,-999.000,9,-999.0000,9, -999.00,9,   5.5346,2, -999.00,9,  -999.0,9, -999.00,9,  -999.0,9, -999.00,9,     -999.0,9,     -999.0,9, -999.00,9, 20140410,     1104, -55.5002,-150.0000,    33.9386,2,     -999.0,9,     -999.0,9,     -999.0,9,     -999.0,9,     -999.0,9,     -999.0,9
320620140320,       P16S,      26,          1,         33,         33,2,20140410,       0925,   -55.5002,  -150.0000,       3680,    74.9,   4.0230,  33.9669,2,  33.9667,2,    302.7,2,   305.3,2,    5.28,2,   22.83,2,    0.63,2,    1.74,2,   4.913,2,   2.644,2,    2.60,2,  -999.0,9,  -999.0,9,-999.0000,9,  -999.00,-999.000,9,-999.0000,9, -999.00,9,   4.0272,2, -999.00,9,  -999.0,9, -999.00,9,  -999.0,9, -999.00,9,      13.39,2,     -999.0,9, -999.00,9, 20140410,     1102, -55.5003,-150.0001,    34.1268,2,     -999.0,9,     -999.0,9,     -999.0,9,     -999.0,9,     -999.0,9,     -999.0,9
320620140320,       P16S,      26,          1,         32,         32,2,20140410,       0925,   -55.5002,  -150.0000,       3680,   100.5,   3.7944,  34.0137,2,  34.0123,2,    296.4,2,   294.8,2,   10.65,2,   25.63,2,    0.01,2,    1.78,2,-999.000,9,-999.000,9, -999.00,9,  2149.7,2,  2275.8,2,    7.763,2,       20,-999.000,9,-999.0000,9, -999.00,9,   3.7972,2, -999.00,9,  -999.0,9, -999.00,9,  -999.0,9, -999.00,9,     -999.0,9,     -999.0,9, -999.00,9, 20140410,     1101, -55.5003,-150.0001,    34.1727,2,     -999.0,9,     -999.0,9,     -999.0,9,     -999.0,9,     -999.0,9,     -999.0,9
320620140320,       P16S,      26,          1,         31,         31,2,20140410,       0925,   -55.5002,  -150.0000,       3680,   123.4,   3.6570,  34.0235,2,  34.0235,2,    294.1,2,   293.8,2,   12.70,2,   25.91,2,    0.01,2,    1.79,2,   4.782,2,   2.509,2,    2.59,2,  -999.0,9,  -999.0,9,-999.0000,9,  -999.00,-999.000,9,-999.0000,9, -999.00,9,   3.6532,2, -999.00,9,  -999.0,9, -999.00,9,  -999.0,9, -999.00,9,      14.27,2,     -999.0,9, -999.00,9, 20140410,     1059, -55.5004,-150.0001,    34.1839,2,     -999.0,9,     -999.0,9,     -999.0,9,     -999.0,9,     -999.0,9,     -999.0,9
320620140320,       P16S,      26,          1,         30,         30,2,20140410,       0925,   -55.5002,  -150.0000,       3680,   151.9,   3.4522,  34.0193,2,  34.0194,2,    294.3,2,   294.1,2,   13.49,2,   26.15,2,    0.01,2,    1.81,2,-999.000,9,-999.000,9, -999.00,9,  2152.6,2,  2277.2,2,   7.7562,2,       20,-999.000,9,-999.0000,9, -999.00,9,   3.4579,2, -999.00,9,  -999.0,9, -999.00,9,  -999.0,9, -999.00,9,     -999.0,9,     -999.0,9, -999.00,9, 20140410,     1058, -55.5003,-150.0001,    34.1798,2,     -999.0,9,     -999.0,9,     -999.0,9,     -999.0,9,     -999.0,9,     -999.0,9
320620140320,       P16S,      26,          1,         29,         29,2,20140410,       0925,   -55.5002,  -150.0000,       3680,   200.0,   3.1582,  34.0182,2,  34.0182,2,    293.7,2,   293.7,2,   15.24,2,   26.72,2,    0.01,2,    1.86,2,   4.710,2,   2.493,2,    2.29,2,  2156.7,2,  2277.2,2,   7.7488,2,       20,-999.000,9,-999.0000,9, -999.00,9,   3.1589,2, -999.00,9,  -999.0,9, -999.00,9,  -999.0,9, -999.00,9,      15.26,2,     -999.0,9, -999.00,9, 20140410,     1056, -55.5001,-150.0000,    34.1786,2,     -999.0,9,     -999.0,9,     -999.0,9,     -999.0,9,     -999.0,9,     -999.0,9
320620140320,       P16S,      26,          1,         28,         28,2,20140410,       0925,   -55.5002,  -150.0000,       3680,   250.1,   3.2423,  34.0702,2,  34.0705,2,    272.9,2,   276.9,2,   18.86,2,   27.88,2,    0.00,2,    1.91,2,-999.000,9,-999.000,9, -999.00,9,  2166.6,2,    2282,2,   7.7305,2,       20,-999.000,9,-999.0000,9, -999.00,9,   3.2420,2, -999.00,9,  -999.0,9, -999.00,9,  -999.0,9, -999.00,9,     -999.0,9,     -999.0,9, -999.00,9, 20140410,     1054, -55.5000,-149.9999,    34.2312,2,     -999.0,9,     -999.0,9,     -999.0,9,     -999.0,9,     -999.0,9,     -999.0,9
320620140320,       P16S,      26,          1,         27,         27,2,20140410,       0925,   -55.5002,  -150.0000,       3680,   299.9,   3.2151,  34.1113,2,  34.1164,2,    257.8,2,   263.0,2,   22.67,2,   28.88,2,    0.00,2,    1.98,2,   4.038,2,   2.166,2,    1.80,2,  2175.3,2,    2285,2,   7.7128,2,       20,-999.000,9,-999.0000,9, -999.00,9,   3.2180,2, -999.00,9,  -999.0,9, -999.00,9,  -999.0,9, -999.00,9,      17.06,2,     -999.0,9, -999.00,9, 20140410,     1052, -55.5000,-149.9999,    34.2773,2,     -999.0,9,     -999.0,9,     -999.0,9,     -999.0,9,     -999.0,9,     -999.0,9
320620140320,       P16S,      26,          1,         26,         26,2,20140410,       0925,   -55.5002,  -150.0000,       3680,   350.7,   3.3635,  34.1807,2,  34.1811,2,    242.8,2,   242.0,2,   28.04,2,   30.24,2,    0.00,2,    2.09,2,-999.000,9,-999.000,9, -999.00,9,  2187.9,2,  2289.4,2,   7.6898,2,       20,-999.000,9,-999.0000,9, -999.00,9,   3.3628,2, -999.00,9,  -999.0,9, -999.00,9,  -999.0,9, -999.00,9,     -999.0,9,     -999.0,9, -999.00,9, 20140410,     1050, -55.5000,-150.0000,    34.3422,2,     -999.0,9,     -999.0,9,     -999.0,9,     -999.0,9,     -999.0,9,     -999.0,9
320620140320,       P16S,      26,          1,         25,         25,2,20140410,       0925,   -55.5002,  -150.0000,       3680,   399.6,   3.0568,  34.1950,2,  34.1942,2,    238.0,2,   239.0,2,   31.95,2,   30.91,2,    0.00,2,    2.12,2,   3.462,2,   1.780,2,    1.29,2,    2195,2,  2293.5,2,   7.6793,2,       20,-999.000,9,-999.0000,9, -999.00,9,   3.0569,2, -999.00,9,  -999.0,9, -999.00,9,  -999.0,9, -999.00,9,      19.89,2,     -999.0,9, -999.00,9, 20140410,     1049, -55.5002,-150.0001,    34.3555,2,     -999.0,9,     -999.0,9,     -999.0,9,     -999.0,9,     -999.0,9,     -999.0,9
320620140320,       P16S,      26,          1,         24,         24,2,20140410,       0925,   -55.5002,  -150.0000,       3680,   448.2,   3.1209,  34.2618,2,  34.2619,2,    224.3,2,   219.0,2,   38.59,2,   32.17,2,    0.00,2,    2.22,2,-999.000,9,-999.000,9, -999.00,9,  2206.5,2,  2299.6,2,   7.6579,2,       20,-999.000,9,-999.0000,9, -999.00,9,   3.1165,2, -999.00,9,  -999.0,9, -999.00,9,  -999.0,9, -999.00,9,     -999.0,9,     -999.0,9, -999.00,9, 20140410,     1047, -55.5004,-150.0001,    34.4234,2,     -999.0,9,     -999.0,9,     -999.0,9,     -999.0,9,     -999.0,9,     -999.0,9
320620140320,       P16S,      26,          1,         23,         23,2,20140410,       0925,   -55.5002,  -150.0000,       3680,   498.4,   3.0288,  34.3051,2,  34.3036,2,    209.1,2,   208.2,2,   44.06,2,   32.86,2,    0.00,2,    2.27,2,   2.428,2,   1.219,2,    0.70,2,  2215.3,2,  2304.9,2,   7.6459,2,       20,-999.000,9,-999.0000,9, -999.00,9,   3.0284,2, -999.00,9,  -999.0,9, -999.00,9,  -999.0,9, -999.00,9,      22.27,2,     -999.0,9, -999.00,9, 20140410,     1045, -55.5004,-150.0001,    34.4654,2,     -999.0,9,     -999.0,9,     -999.0,9,     -999.0,9,     -999.0,9,     -999.0,9
320620140320,       P16S,      26,          1,         22,         22,2,20140410,       0925,   -55.5002,  -150.0000,       3680,   600.8,   2.9029,  34.3834,2,  34.3837,2,    194.0,2,   192.2,2,   53.24,2,   33.62,2,    0.00,2,    2.33,2,-999.000,9,-999.000,9, -999.00,9,  2230.2,2,  2314.6,2,   7.6306,2,       20,-999.000,9,-999.0000,9, -999.00,9,   2.9027,2, -999.00,9,  -999.0,9, -999.00,9,  -999.0,9, -999.00,9,     -999.0,9,     -999.0,9, -999.00,9, 20140410,     1042, -55.5004,-150.0002,    34.5458,2,     -999.0,9,     -999.0,9,     -999.0,9,     -999.0,9,     -999.0,9,     -999.0,9
320620140320,       P16S,      26,          1,         21,         21,2,20140410,       0925,   -55.5002,  -150.0000,       3680,   699.7,   2.7458,  34.4528,2,  34.4536,2,    183.4,2,   181.5,2,   61.25,2,   34.11,2,    0.00,2,    2.36,2,   1.249,2,   0.612,2,    0.44,2,  2240.3,2,  2321.8,2,    7.621,2,       20,-999.000,9,-999.0000,9, -999.00,9,   2.7459,2, -999.00,9,  -999.0,9, -999.00,9,  -999.0,9, -999.00,9,      23.01,2,     -999.0,9, -999.00,9, 20140410,     1039, -55.5001,-150.0000,    34.6160,2,     -999.0,9,     -999.0,9,     -999.0,9,     -999.0,9,     -999.0,9,     -999.0,9
320620140320,       P16S,      26,          1,         20,         20,2,20140410,       0925,   -55.5002,  -150.0000,       3680,   802.0,   2.6333,  34.5027,2,  34.5029,2,    177.5,2,   176.6,2,   66.43,2,   34.21,2,    0.00,2,    2.36,2,-999.000,9,-999.000,9, -999.00,9,  2247.1,2,  2326.1,2,   7.6179,6,       20,-999.000,9,-999.0000,9, -999.00,9,   2.6333,2, -999.00,9,  -999.0,9, -999.00,9,  -999.0,9, -999.00,9,     -999.0,9,     -999.0,9, -999.00,9, 20140410,     1037, -55.5001,-150.0000,    34.6655,2,     -999.0,9,     -999.0,9,     -999.0,9,     -999.0,9,     -999.0,9,     -999.0,9
320620140320,       P16S,      26,          1,         19,         19,2,20140410,       0925,   -55.5002,  -150.0000,       3680,   902.7,   2.5232,  34.5529,2,  34.5514,2,    173.6,2,   173.0,2,   70.62,2,   34.09,2,    0.00,2,    2.36,2,-999.000,9,-999.000,9, -999.00,9,  2250.7,2,  2331.9,6,   7.6171,2,       20,-999.000,9,-999.0000,9, -999.00,9,   2.5226,2, -999.00,9,  -999.0,9, -999.00,9,  -999.0,9, -999.00,9,     -999.0,9,     -999.0,9, -999.00,9, 20140410,     1034, -55.5000,-150.0000,    34.7143,2,     -999.0,9,     -999.0,9,     -999.0,9,     -999.0,9,     -999.0,9,     -999.0,9
320620140320,       P16S,      26,          1,         18,         18,2,20140410,       0925,   -55.5002,  -150.0000,       3680,  1001.0,   2.4708,  34.5901,2,  34.5899,2,    172.5,2,   172.4,2,   73.75,2,   33.78,2,    0.00,2,    2.32,2,   0.528,2,   0.259,2,    0.09,2,    2253,6,    2335,2,   7.6226,2,       20,-999.000,9,-999.0000,9, -999.00,9,   2.4710,2, -999.00,9,  -999.0,9, -999.00,9,  -999.0,9, -999.00,9,      23.36,2,     -999.0,9, -999.00,9, 20140410,     1031, -55.5000,-150.0000,    34.7530,2,     -999.0,9,     -999.0,9,     -999.0,9,     -999.0,9,     -999.0,9,     -999.0,9
320620140320,       P16S,      26,          1,         17,         17,2,20140410,       0925,   -55.5002,  -150.0000,       3680,  1101.0,   2.4041,  34.6234,2,  34.6236,2,    172.8,2,   173.0,2,   76.48,2,   33.30,2,    0.00,2,    2.31,2,-999.000,9,-999.000,9, -999.00,9,  2253.7,2,  2337.8,2,   7.6293,2,       20,-999.000,9,-999.0000,9, -999.00,9,   2.4038,2, -999.00,9,  -999.0,9, -999.00,9,  -999.0,9, -999.00,9,     -999.0,9,     -999.0,9, -999.00,9, 20140410,     1028, -55.4998,-149.9999,    34.7869,2,     -999.0,9,     -999.0,9,     -999.0,9,     -999.0,9,     -999.0,9,     -999.0,9
320620140320,       P16S,      26,          1,         16,         16,2,20140410,       0925,   -55.5002,  -150.0000,       3680,  1200.7,   2.3222,  34.6542,2,  34.6537,2,    174.2,2,   174.4,2,   80.09,2,   32.86,2,    0.00,2,    2.27,2,-999.000,9,-999.000,9, -999.00,9,  -999.0,9,  -999.0,9,-999.0000,9,  -999.00,-999.000,9,-999.0000,9, -999.00,9,   2.3223,2, -999.00,9,  -999.0,9, -999.00,9,  -999.0,9, -999.00,9,     -999.0,9,     -999.0,9, -999.00,9, 20140410,     1025, -55.4999,-149.9999,    34.8171,2,     -999.0,9,     -999.0,9,     -999.0,9,     -999.0,9,     -999.0,9,     -999.0,9
320620140320,       P16S,      26,          1,         15,         15,2,20140410,       0925,   -55.5002,  -150.0000,       3680,  1300.3,   2.2701,  34.6751,2,  34.6749,2,    177.0,2,   177.4,2,   80.09,2,   32.47,2,    0.00,2,    2.24,2,   0.260,2,   0.122,2,    0.06,2,  2253.1,2,  2342.2,2,   7.6428,2,       20,-999.000,9,-999.0000,9, -999.00,9,   2.2702,2, -999.00,9,  -999.0,9, -999.00,9,  -999.0,9, -999.00,9,      21.79,2,     -999.0,9, -999.00,9, 20140410,     1023, -55.4999,-149.9999,    34.8384,2,     -999.0,9,     -999.0,9,     -999.0,9,     -999.0,9,     -999.0,9,     -999.0,9
320620140320,       P16S,      26,          1,         14,         14,2,20140410,       0925,   -55.5002,  -150.0000,       3680,  1401.2,   2.1995,  34.6941,2,  34.6932,2,    179.3,2,   179.5,2,   81.65,2,   32.13,2,    0.00,2,    2.20,2,-999.000,9,-999.000,9, -999.00,9,  -999.0,9,  -999.0,9,-999.0000,9,  -999.00,-999.000,9,-999.0000,9, -999.00,9,   2.1997,2, -999.00,9,  -999.0,9, -999.00,9,  -999.0,9, -999.00,9,     -999.0,9,     -999.0,9, -999.00,9, 20140410,     1020, -55.5001,-150.0000,    34.8568,2,     -999.0,9,     -999.0,9,     -999.0,9,     -999.0,9,     -999.0,9,     -999.0,9
320620140320,       P16S,      26,          1,         13,         13,2,20140410,       0925,   -55.5002,  -150.0000,       3680,  1500.1,   2.1233,  34.7116,2,  34.7121,2,    181.9,2,   183.0,2,   83.02,2,   31.65,2,    0.00,2,    2.17,2,-999.000,9,-999.000,9, -999.00,9,  2251.6,2,  2345.1,2,   7.6554,2,       20,-999.000,9,-999.0000,9, -999.00,9,   2.1232,2, -999.00,9,  -999.0,9, -999.00,9,  -999.0,9, -999.00,9,     -999.0,9,     -999.0,9, -999.00,9, 20140410,     1017, -55.5003,-150.0002,    34.8758,2,     -999.0,9,     -999.0,9,     -999.0,9,     -999.0,9,     -999.0,9,     -999.0,9
320620140320,       P16S,      26,          1,         12,         12,2,20140410,       0925,   -55.5002,  -150.0000,       3680,  1603.4,   2.0734,  34.7193,2,  34.7193,2,    184.3,2,   184.8,2,   84.58,2,   31.40,2,    0.00,2,    2.16,2,-999.000,9,-999.000,9, -999.00,9,  -999.0,9,  -999.0,9,-999.0000,9,  -999.00,-999.000,9,-999.0000,9, -999.00,9,   2.0746,2, -999.00,9,  -999.0,9, -999.00,9,  -999.0,9, -999.00,9,     -999.0,9,     -999.0,9, -999.00,9, 20140410,     1014, -55.5005,-150.0003,    34.8831,2,     -999.0,9,     -999.0,9,     -999.0,9,     -999.0,9,     -999.0,9,     -999.0,9
320620140320,       P16S,      26,          1,         11,         11,2,20140410,       0925,   -55.5002,  -150.0000,       3680,  1701.3,   1.9913,  34.7284,2,  34.7282,2,    187.4,2,   187.6,2,   86.53,2,   31.13,2,    0.00,2,    2.15,2,   0.143,2,   0.070,2,    0.08,2,    2251,2,  2348.7,2,    7.665,2,       20,-999.000,9,-999.0000,9, -999.00,9,   1.9911,2, -999.00,9,  -999.0,9, -999.00,9,  -999.0,9, -999.00,9,      20.29,2,     -999.0,9, -999.00,9, 20140410,     1011, -55.5005,-150.0003,    34.8919,2,     -999.0,9,     -999.0,9,     -999.0,9,     -999.0,9,     -999.0,9,     -999.0,9
320620140320,       P16S,      26,          1,         10,         10,2,20140410,       0925,   -55.5002,  -150.0000,       3680,  1799.1,   1.9019,  34.7336,2,  34.7364,3,    190.1,2,   189.8,2,   88.98,2,   31.06,2,    0.00,2,    2.15,2,-999.000,9,-999.000,9, -999.00,9,  -999.0,9,  -999.0,9,-999.0000,9,  -999.00,-999.000,9,-999.0000,9, -999.00,9,   1.9014,2, -999.00,9,  -999.0,9, -999.00,9,  -999.0,9, -999.00,9,     -999.0,9,     -999.0,9, -999.00,9, 20140410,     1008, -55.5001,-150.0000,    34.9002,3,     -999.0,9,     -999.0,9,     -999.0,9,     -999.0,9,     -999.0,9,     -999.0,9
320620140320,       P16S,      26,          1,          9,         09,2,20140410,       0925,   -55.5002,  -150.0000,       3680,  2000.3,   1.7427,  34.7373,2,  34.7372,2,    193.4,2,   193.2,2,   93.08,2,   30.93,2,    0.00,2,    2.12,2,   0.138,2,   0.052,2,    0.07,2,  2251.6,2,    2352,2,   7.6723,2,       20,-999.000,9,-999.0000,9, -999.00,9,   1.7429,2, -999.00,9,  -999.0,9, -999.00,9,  -999.0,9, -999.00,9,      20.25,2,     -999.0,9, -999.00,9, 20140410,     1004, -55.5000,-149.9999,    34.9010,2,     -999.0,9,     -999.0,9,     -999.0,9,     -999.0,9,     -999.0,9,     -999.0,9
320620140320,       P16S,      26,          1,          8,         08,2,20140410,       0925,   -55.5002,  -150.0000,       3680,  2199.5,   1.5823,  34.7353,2,  34.7358,2,    196.3,2,   196.0,2,   97.86,2,   31.04,2,    0.00,2,    2.13,2,-999.000,9,-999.000,9, -999.00,9,  -999.0,9,  -999.0,9,-999.0000,9,  -999.00,-999.000,9,-999.0000,9, -999.00,9,   1.5830,2, -999.00,9,  -999.0,9, -999.00,9,  -999.0,9, -999.00,9,     -999.0,9,     -999.0,9, -999.00,9, 20140410,      959, -55.5001,-150.0000,    34.8996,2,     -999.0,9,     -999.0,9,     -999.0,9,     -999.0,9,     -999.0,9,     -999.0,9
320620140320,       P16S,      26,          1,          7,         07,2,20140410,       0925,   -55.5002,  -150.0000,       3680,  2401.0,   1.3586,  34.7285,2,  34.7280,2,    198.2,2,   198.1,2,  103.53,2,   31.42,2,    0.00,2,    2.16,2,   0.166,2,   0.071,2,    0.06,2,  2255.9,2,  2356.4,2,   7.6698,2,       20,-999.000,9,-999.0000,9, -999.00,9,   1.3589,2, -999.00,9,  -999.0,9, -999.00,9,  -999.0,9, -999.00,9,      19.33,2,     -999.0,9, -999.00,9, 20140410,      955, -55.5002,-150.0000,    34.8917,2,     -999.0,9,     -999.0,9,     -999.0,9,     -999.0,9,     -999.0,9,     -999.0,9
320620140320,       P16S,      26,          1,          6,         06,2,20140410,       0925,   -55.5002,  -150.0000,       3680,  2598.9,   1.2247,  34.7240,2,  34.7237,2,    200.7,2,   200.7,2,  108.61,2,   31.44,2,    0.00,2,    2.17,2,-999.000,9,-999.000,9, -999.00,9,  -999.0,9,  -999.0,9,-999.0000,9,  -999.00,-999.000,9,-999.0000,9, -999.00,9,   1.2248,2, -999.00,9,  -999.0,9, -999.00,9,  -999.0,9, -999.00,9,     -999.0,9,     -999.0,9, -999.00,9, 20140410,      950, -55.5001,-150.0000,    34.8874,2,     -999.0,9,     -999.0,9,     -999.0,9,     -999.0,9,     -999.0,9,     -999.0,9