BOTTLE,20230715CCHSIOCBG
EXPOCODE,SECT_ID,STNNBR,CASTNO,SAMPNO,BTLNBR,BTLNBR_FLAG_W,DATE,TIME,LATITUDE,LONGITUDE,DEPTH,CTDPRS,CTDTMP,CTDSAL,CTDSAL_FLAG_W,SALNTY,SALNTY_FLAG_W,CTDOXY,CTDOXY_FLAG_W,OXYGEN,OXYGEN_FLAG_W,SILCAT,SILCAT_FLAG_W,NITRAT,NITRAT_FLAG_W,NITRIT,NITRIT_FLAG_W,PHSPHT,PHSPHT_FLAG_W,CFC-11,CFC-11_FLAG_W,CFC-12,CFC-12_FLAG_W,SF6,SF6_FLAG_W,TCARBN,TCARBN_FLAG_W,ALKALI,ALKALI_FLAG_W,PH_TOT,PH_TOT_FLAG_W,PH_TMP,TRITUM,TRITUM_FLAG_W,HELIUM,HELIUM_FLAG_W,DELHE3,DELHE3_FLAG_W,REFTMP,REFTMP_FLAG_W,DELC13,DELC13_FLAG_W,DELC14,DELC14_FLAG_W,DELO18,DELO18_FLAG_W,DOC,DOC_FLAG_W,TDN,TDN_FLAG_W,N2O,N2O_FLAG_W,CALCIUM,CALCIUM_FLAG_W,D15N_NO3,D15N_NO3_FLAG_W,BTL_DATE,BTL_TIME,BTL_LAT,BTL_LON,SALTREF,SALTREF_FLAG_W,D18O_NO3,D18O_NO3_FLAG_W,DSI30,DSI30_FLAG_W,CDOM_NASA,CDOM_NASA_FLAG_W,CDOM_UCSB,CDOM_UCSB_FLAG_W,D15N_NO2+NO3,D15N_NO2+NO3_FLAG_W,D18O_NO2+NO3,D18O_NO2+NO3_FLAG_W
,,,,,,,,,,,METERS,DBAR,ITS-90,PSS-78,,PSS-78,,UMOL/KG,,UMOL/KG,,UMOL/KG,,UMOL/KG,,UMOL/KG,,UMOL/KG,,PMOL/KG,,PMOL/KG,,FMOL/KG,,UMOL/KG,,UMOL/KG,,,,DEG C,TU,,NMOL/KG,,PERCNT,,DEG C,,/MILLE,,/MILLE,,/MILLE,,UMOL/KG,,UMOL/KG,,NMOL/KG,,MMOL/KG,,/MILLE,,,,,,G/KG,,/MILLE,,/MILLE,,,,,,/MILLE,,/MILLE,
320620140320,       P16S,      50,          1,          5,         05,2,20140419,       1813,   -41.6665,  -150.0001,     -999.0,  4263.4,   1.2120,  34.7141,2,  34.7144,2,    200.0,2,   200.1,2,  116.22,2,   32.37,2,    0.00,2,    2.22,2,-999.000,9,-999.000,9, -999.00,9,  2265.8,2,  2368.8,2,   7.6791,2,       20,-999.000,9,-999.0000,9, -999.00,9,   1.2119,2, -999.00,9,  -999.0,9, -999.00,9,    40.8,2, -999.00,9,     -999.0,9,     -999.0,9, -999.00,9, 20140419,     1841, -41.6665,-150.0002,    34.8781,2,     -999.0,9,     -999.0,9,     -999.0,9,     -999.0,9,     -999.0,9,     -999.0,9
320620140320,       P16S,      50,          1,          4,         04,2,20140419,       1813,   -41.6665,  -150.0001,     -999.0,  4662.9,   1.1646,  34.7129,2,  34.7129,2,    201.5,2,   201.3,2,  118.27,2,   32.44,2,    0.00,2,    2.23,2,   0.010,2,   0.002,2,    0.01,2,  2266.5,2,  2372.6,6,   7.6804,2,       20,-999.000,9,-999.0000,9, -999.00,9,   1.1649,2, -999.00,9,  -999.0,9, -999.00,9,    38.1,2, -999.00,9,      20.61,2,     -999.0,9, -999.00,9, 20140419,     1833, -41.6665,-150.0002,    34.8765,2,     -999.0,9,     -999.0,9,     -999.0,9,     -999.0,9,     -999.0,9,     -999.0,9
320620140320,       P16S,      50,          1,          3,         03,2,20140419,       1813,   -41.6665,  -150.0001,     -999.0,  4999.2,   1.1680,  34.7118,2,  34.7115,2,    201.8,2,   202.0,2,  118.95,2,   32.50,2,    0.00,2,    2.23,2,-999.000,9,-999.000,9, -999.00,9,  2266.3,2,    2371,2,     7.68,6,       20,-999.000,9,-999.0000,9, -999.00,9,   1.1684,2, -999.00,9,  -999.0,9, -999.00,9,    39.6,2, -999.00,9,     -999.0,9,     -999.0,9, -999.00,9, 20140419,     1826, -41.6665,-150.0002,    34.8752,2,     -999.0,9,     -999.0,9,     -999.0,9,     -999.0,9,     -999.0,9,     -999.0,9
320620140320,       P16S,      50,          1,          2,         02,2,20140419,       1813,   -41.6665,  -150.0001,     -999.0,  5198.8,   1.1764,  34.7110,2,  34.7107,2,    202.2,2,   202.4,2,  119.44,2,   32.48,2,    0.00,2,    2.23,2,-999.000,9,-999.000,9, -999.00,9,  2268.4,2,    2372,2,   7.6783,2,       20,-999.000,9,-999.0000,9, -999.00,9,   1.1761,2, -999.00,9,  -999.0,9, -999.00,9,    38.8,2, -999.00,9,     -999.0,9,     -999.0,9, -999.00,9, 20140419,     1821, -41.6665,-150.0002,    34.8744,2,     -999.0,9,     -999.0,9,     -999.0,9,     -999.0,9,     -999.0,9,     -999.0,9
320620140320,       P16S,      50,          1,          1,         01,2,20140419,       1813,   -41.6665,  -150.0001,     -999.0,  5422.3,   1.1996,  34.7109,2,  34.7117,2,    202.5,2,   202.3,2,  119.34,2,   32.47,2,    0.00,2,    2.23,2,   0.013,2,   0.003,2,    0.02,2,  2267.3,6,  2370.8,2,   7.6793,2,       20,-999.000,9,-999.0000,9, -999.00,9,   1.1994,2, -999.00,9,  -999.0,9, -999.00,9,    39.5,2, -999.00,9,      20.68,2,     -999.0,9, -999.00,9, 20140419,     1813, -41.6665,-150.0001,    34.8754,2,     -999.0,9,     -999.0,9,     -999.0,9,     -999.0,9,     -999.0,9,     -999.0,9