BOTTLE,20230715CCHSIOCBG
EXPOCODE,SECT_ID,STNNBR,CASTNO,SAMPNO,BTLNBR,BTLNBR_FLAG_W,DATE,TIME,LATITUDE,LONGITUDE,DEPTH,CTDPRS,CTDTMP,CTDSAL,CTDSAL_FLAG_W,SALNTY,SALNTY_FLAG_W,CTDOXY,CTDOXY_FLAG_W,OXYGEN,OXYGEN_FLAG_W,SILCAT,SILCAT_FLAG_W,NITRAT,NITRAT_FLAG_W,NITRIT,NITRIT_FLAG_W,PHSPHT,PHSPHT_FLAG_W,CFC-11,CFC-11_FLAG_W,CFC-12,CFC-12_FLAG_W,SF6,SF6_FLAG_W,TCARBN,TCARBN_FLAG_W,ALKALI,ALKALI_FLAG_W,PH_TOT,PH_TOT_FLAG_W,PH_TMP,TRITUM,TRITUM_FLAG_W,HELIUM,HELIUM_FLAG_W,DELHE3,DELHE3_FLAG_W,REFTMP,REFTMP_FLAG_W,DELC13,DELC13_FLAG_W,DELC14,DELC14_FLAG_W,DELO18,DELO18_FLAG_W,DOC,DOC_FLAG_W,TDN,TDN_FLAG_W,N2O,N2O_FLAG_W,CALCIUM,CALCIUM_FLAG_W,D15N_NO3,D15N_NO3_FLAG_W,BTL_DATE,BTL_TIME,BTL_LAT,BTL_LON,SALTREF,SALTREF_FLAG_W,D18O_NO3,D18O_NO3_FLAG_W,DSI30,DSI30_FLAG_W,CDOM_NASA,CDOM_NASA_FLAG_W,CDOM_UCSB,CDOM_UCSB_FLAG_W,D15N_NO2+NO3,D15N_NO2+NO3_FLAG_W,D18O_NO2+NO3,D18O_NO2+NO3_FLAG_W
,,,,,,,,,,,METERS,DBAR,ITS-90,PSS-78,,PSS-78,,UMOL/KG,,UMOL/KG,,UMOL/KG,,UMOL/KG,,UMOL/KG,,UMOL/KG,,PMOL/KG,,PMOL/KG,,FMOL/KG,,UMOL/KG,,UMOL/KG,,,,DEG C,TU,,NMOL/KG,,PERCNT,,DEG C,,/MILLE,,/MILLE,,/MILLE,,UMOL/KG,,UMOL/KG,,NMOL/KG,,MMOL/KG,,/MILLE,,,,,,G/KG,,/MILLE,,/MILLE,,,,,,/MILLE,,/MILLE,
320620140320,       P16S,      72,          1,          5,         05,2,20140428,       0536,   -26.9998,  -150.0001,       4727,  3600.2,   1.5156,  34.6877,2,  34.6891,2,    173.5,2,   173.9,2,  124.43,2,   34.35,2,    0.00,2,    2.36,2,   0.000,2,   0.001,2,    0.01,2,    2294,2,  2391.3,2,   7.6589,6,       20,-999.000,9,-999.0000,9, -999.00,9,   1.5153,2, -999.00,9,  -999.0,9, -999.00,9,    38.1,2, -999.00,9,      22.71,2,     -999.0,9, -999.00,9, 20140428,      606, -26.9998,-150.0001,    34.8527,2,     -999.0,9,     -999.0,9,     -999.0,9,     -999.0,9,     -999.0,9,     -999.0,9
320620140320,       P16S,      72,          1,          4,         04,2,20140428,       0536,   -26.9998,  -150.0001,       4727,  3897.9,   1.4272,  34.6949,2,  34.6952,2,    181.1,2,   181.6,2,  122.87,2,   33.84,2,    0.00,2,    2.32,2,-999.000,9,-999.000,9, -999.00,9,  2287.6,2,  2385.5,2,   7.6639,2,       20,-999.000,9,-999.0000,9, -999.00,9,   1.4269,2, -999.00,9,  -999.0,9, -999.00,9,    39.5,2, -999.00,9,     -999.0,9,     -999.0,9, -999.00,9, 20140428,      559, -26.9998,-150.0001,    34.8588,2,     -999.0,9,     -999.0,9,     -999.0,9,     -999.0,9,     -999.0,9,     -999.0,9
320620140320,       P16S,      72,          1,          3,         03,2,20140428,       0536,   -26.9998,  -150.0001,       4727,  4200.5,   1.3230,  34.7022,2,  34.7032,2,    189.7,2,   190.0,2,  120.72,2,   33.22,2,    0.00,2,    2.27,2,   0.001,2,   0.000,2,    0.00,2,  2278.3,2,  2380.2,2,   7.6708,2,       20,-999.000,9,-999.0000,9, -999.00,9,   1.3226,2, -999.00,9,  -999.0,9, -999.00,9,    37.9,2, -999.00,9,      20.83,2,     -999.0,9, -999.00,9, 20140428,      553, -26.9998,-150.0001,    34.8669,2,     -999.0,9,     -999.0,9,     -999.0,9,     -999.0,9,     -999.0,9,     -999.0,9
320620140320,       P16S,      72,          1,          2,         02,2,20140428,       0536,   -26.9998,  -150.0001,       4727,  4397.6,   1.3009,  34.7045,2,  34.7040,2,    192.1,2,   192.7,2,  120.33,2,   33.07,2,    0.00,2,    2.28,2,-999.000,9,-999.000,9, -999.00,9,  2276.5,2,  2378.1,2,   7.6719,2,       20,-999.000,9,-999.0000,9, -999.00,9,   1.3012,2, -999.00,9,  -999.0,9, -999.00,9,    42.7,2, -999.00,9,     -999.0,9,     -999.0,9, -999.00,9, 20140428,      547, -26.9998,-150.0001,    34.8677,2,     -999.0,9,     -999.0,9,     -999.0,9,     -999.0,9,     -999.0,9,     -999.0,9
320620140320,       P16S,      72,          1,          1,         01,2,20140428,       0536,   -26.9998,  -150.0001,       4727,  4782.8,   1.3212,  34.7056,2,  34.7056,2,    193.2,2,   193.0,2,  120.03,2,   33.08,2,    0.00,2,    2.29,2,   0.001,2,   0.001,2,    0.01,2,  2276.2,6,  2377.7,2,   7.6729,2,       20,-999.000,9,-999.0000,9, -999.00,9,   1.3212,2, -999.00,9,  -999.0,9, -999.00,9,    42.1,2, -999.00,9,      22.03,2,     -999.0,9, -999.00,9, 20140428,      536, -26.9998,-150.0001,    34.8692,2,     -999.0,9,     -999.0,9,     -999.0,9,     -999.0,9,     -999.0,9,     -999.0,9