BOTTLE,20230715CCHSIOCBG
EXPOCODE,SECT_ID,STNNBR,CASTNO,SAMPNO,BTLNBR,BTLNBR_FLAG_W,DATE,TIME,LATITUDE,LONGITUDE,DEPTH,CTDPRS,CTDTMP,CTDSAL,CTDSAL_FLAG_W,SALNTY,SALNTY_FLAG_W,CTDOXY,CTDOXY_FLAG_W,OXYGEN,OXYGEN_FLAG_W,SILCAT,SILCAT_FLAG_W,NITRAT,NITRAT_FLAG_W,NITRIT,NITRIT_FLAG_W,PHSPHT,PHSPHT_FLAG_W,CFC-11,CFC-11_FLAG_W,CFC-12,CFC-12_FLAG_W,SF6,SF6_FLAG_W,TCARBN,TCARBN_FLAG_W,ALKALI,ALKALI_FLAG_W,PH_TOT,PH_TOT_FLAG_W,PH_TMP,TRITUM,TRITUM_FLAG_W,HELIUM,HELIUM_FLAG_W,DELHE3,DELHE3_FLAG_W,REFTMP,REFTMP_FLAG_W,DELC13,DELC13_FLAG_W,DELC14,DELC14_FLAG_W,DELO18,DELO18_FLAG_W,DOC,DOC_FLAG_W,TDN,TDN_FLAG_W,N2O,N2O_FLAG_W,CALCIUM,CALCIUM_FLAG_W,D15N_NO3,D15N_NO3_FLAG_W,BTL_DATE,BTL_TIME,BTL_LAT,BTL_LON,SALTREF,SALTREF_FLAG_W,D18O_NO3,D18O_NO3_FLAG_W,DSI30,DSI30_FLAG_W,CDOM_NASA,CDOM_NASA_FLAG_W,CDOM_UCSB,CDOM_UCSB_FLAG_W,D15N_NO2+NO3,D15N_NO2+NO3_FLAG_W,D18O_NO2+NO3,D18O_NO2+NO3_FLAG_W
,,,,,,,,,,,METERS,DBAR,ITS-90,PSS-78,,PSS-78,,UMOL/KG,,UMOL/KG,,UMOL/KG,,UMOL/KG,,UMOL/KG,,UMOL/KG,,PMOL/KG,,PMOL/KG,,FMOL/KG,,UMOL/KG,,UMOL/KG,,,,DEG C,TU,,NMOL/KG,,PERCNT,,DEG C,,/MILLE,,/MILLE,,/MILLE,,UMOL/KG,,UMOL/KG,,NMOL/KG,,MMOL/KG,,/MILLE,,,,,,G/KG,,/MILLE,,/MILLE,,,,,,/MILLE,,/MILLE,
320620140320,       P16S,      79,          1,          5,         05,2,20140430,       1525,   -22.3330,  -150.0002,     -999.0,  3999.2,   1.4617,  34.6930,2,  34.6928,2,    180.0,2,   180.1,2,  122.44,2,   33.54,2,    0.00,2,    2.36,2,  -0.001,2,   0.000,2,    0.01,2,  2287.7,2,  2386.3,2,   7.6647,2,       20,-999.000,9,-999.0000,9, -999.00,9,   1.4619,2,    0.42,2,  -206.0,2, -999.00,9,  -999.0,9, -999.00,9,      22.30,2,     -999.0,9, -999.00,9, 20140430,     1548, -22.3327,-149.9996,    34.8564,2,     -999.0,9,     -999.0,9,     -999.0,9,     -999.0,9,     -999.0,9,     -999.0,9
320620140320,       P16S,      79,          1,          4,         04,2,20140430,       1525,   -22.3330,  -150.0002,     -999.0,  4298.0,   1.4251,  34.6968,2,  34.6972,2,    184.0,2,   184.0,2,  122.25,2,   33.30,2,    0.00,2,    2.34,2,-999.000,9,-999.000,9, -999.00,9,  2283.5,2,  2382.2,2,   7.6671,2,       20,-999.000,1,-999.0000,1, -999.00,9,   1.4254,2,    0.46,2,  -193.9,2, -999.00,9,  -999.0,9, -999.00,9,     -999.0,9,     -999.0,9, -999.00,9, 20140430,     1542, -22.3328,-149.9999,    34.8608,2,     -999.0,9,     -999.0,9,     -999.0,9,     -999.0,9,     -999.0,9,     -999.0,9
320620140320,       P16S,      79,          1,          3,         03,2,20140430,       1525,   -22.3330,  -150.0002,     -999.0,  4599.4,   1.4107,  34.6995,2,  34.6999,2,    186.4,2,   186.9,2,  121.46,2,   33.13,2,    0.00,2,    2.31,2,  -0.001,2,   0.000,2,    0.00,2,    2281,2,  2381.4,2,   7.6689,2,       20,-999.000,1,-999.0000,1, -999.00,9,   1.4105,2,    0.46,2,  -188.6,2, -999.00,9,  -999.0,9, -999.00,9,      22.12,2,     -999.0,9, -999.00,9, 20140430,     1536, -22.3329,-150.0000,    34.8635,2,     -999.0,9,     -999.0,9,     -999.0,9,     -999.0,9,     -999.0,9,     -999.0,9
320620140320,       P16S,      79,          1,          2,         02,2,20140430,       1525,   -22.3330,  -150.0002,     -999.0,  4779.1,   1.4135,  34.7006,2,  34.6995,2,    187.5,2,   188.1,2,  121.07,2,   33.05,2,    0.00,2,    2.31,2,   0.001,2,   0.000,2,   -0.00,2,  2279.4,2,  2381.9,2,   7.6695,2,       20,-999.000,1,-999.0000,1, -999.00,9,   1.4137,2,    0.44,2,  -191.6,2, -999.00,9,  -999.0,9, -999.00,9,      21.83,2,     -999.0,9, -999.00,9, 20140430,     1531, -22.3329,-150.0001,    34.8631,2,     -999.0,9,     -999.0,9,     -999.0,9,     -999.0,9,     -999.0,9,     -999.0,9
320620140320,       P16S,      79,          1,          1,         01,2,20140430,       1525,   -22.3330,  -150.0002,     -999.0,  4986.8,   1.4357,  34.7007,2,  34.7006,2,    187.8,2,   188.0,2,  121.07,2,   33.09,2,    0.00,2,    2.32,2,   0.001,2,   0.001,2,    0.02,2,  2279.9,6,  2381.7,2,   7.6694,2,       20,-999.000,1,-999.0000,1, -999.00,9,   1.4358,2,    0.41,2,  -188.9,2, -999.00,9,  -999.0,9, -999.00,9,      21.93,2,     -999.0,9, -999.00,9, 20140430,     1524, -22.3330,-150.0002,    34.8643,2,     -999.0,9,     -999.0,9,     -999.0,9,     -999.0,9,     -999.0,9,     -999.0,9