BOTTLE,20230715CCHSIOCBG
EXPOCODE,SECT_ID,STNNBR,CASTNO,SAMPNO,BTLNBR,BTLNBR_FLAG_W,DATE,TIME,LATITUDE,LONGITUDE,DEPTH,CTDPRS,CTDTMP,CTDSAL,CTDSAL_FLAG_W,SALNTY,SALNTY_FLAG_W,CTDOXY,CTDOXY_FLAG_W,OXYGEN,OXYGEN_FLAG_W,SILCAT,SILCAT_FLAG_W,NITRAT,NITRAT_FLAG_W,NITRIT,NITRIT_FLAG_W,PHSPHT,PHSPHT_FLAG_W,CFC-11,CFC-11_FLAG_W,CFC-12,CFC-12_FLAG_W,SF6,SF6_FLAG_W,TCARBN,TCARBN_FLAG_W,ALKALI,ALKALI_FLAG_W,PH_TOT,PH_TOT_FLAG_W,PH_TMP,TRITUM,TRITUM_FLAG_W,HELIUM,HELIUM_FLAG_W,DELHE3,DELHE3_FLAG_W,REFTMP,REFTMP_FLAG_W,DELC13,DELC13_FLAG_W,DELC14,DELC14_FLAG_W,DELO18,DELO18_FLAG_W,DOC,DOC_FLAG_W,TDN,TDN_FLAG_W,N2O,N2O_FLAG_W,CALCIUM,CALCIUM_FLAG_W,D15N_NO3,D15N_NO3_FLAG_W,BTL_DATE,BTL_TIME,BTL_LAT,BTL_LON,SALTREF,SALTREF_FLAG_W,D18O_NO3,D18O_NO3_FLAG_W,DSI30,DSI30_FLAG_W,CDOM_NASA,CDOM_NASA_FLAG_W,CDOM_UCSB,CDOM_UCSB_FLAG_W,D15N_NO2+NO3,D15N_NO2+NO3_FLAG_W,D18O_NO2+NO3,D18O_NO2+NO3_FLAG_W
,,,,,,,,,,,METERS,DBAR,ITS-90,PSS-78,,PSS-78,,UMOL/KG,,UMOL/KG,,UMOL/KG,,UMOL/KG,,UMOL/KG,,UMOL/KG,,PMOL/KG,,PMOL/KG,,FMOL/KG,,UMOL/KG,,UMOL/KG,,,,DEG C,TU,,NMOL/KG,,PERCNT,,DEG C,,/MILLE,,/MILLE,,/MILLE,,UMOL/KG,,UMOL/KG,,NMOL/KG,,MMOL/KG,,/MILLE,,,,,,G/KG,,/MILLE,,/MILLE,,,,,,/MILLE,,/MILLE,
320620140320,       P16S,       5,          3,         36,         36,2,20140331,       2346,   -66.9988,  -149.9892,       4383,     3.8,  -0.6844,  33.7230,2,  33.7234,2,    344.3,2,   345.5,2,   30.29,2,   22.06,2,    0.21,2,    1.61,2,   5.942,2,   3.226,2,    3.47,2,  2160.7,2,    2284,2,   7.7638,6,       20,-999.000,1,-999.0000,1, -999.00,9,  -0.6842,2,    1.36,2,  -105.3,2, -999.00,1,    43.3,2,   25.39,2,      15.96,2,     -999.0,1,    6.79,2, 20140401,      137, -66.9988,-149.9893,    33.8824,2,       3.92,2,     -999.0,9,     -999.0,9,     -999.0,1,       6.33,2,       4.19,2
320620140320,       P16S,       5,          3,         35,         35,2,20140331,       2346,   -66.9988,  -149.9892,       4383,    24.7,  -0.6751,  33.7231,2,  33.7239,2,    344.5,2,   344.2,2,   30.39,2,   22.30,2,    0.21,2,    1.63,2,   6.247,2,   3.239,2,    3.63,2,  2161.2,6,  2282.8,2,    7.765,2,       20,-999.000,1,-999.0000,1, -999.00,9,  -0.6751,2,    1.37,2,  -105.4,2, -999.00,1,    43.2,2,   26.26,2,      15.76,2,     -999.0,9,    6.91,2, 20140401,      133, -66.9988,-149.9893,    33.8830,2,       4.06,2,     -999.0,9,     -999.0,9,     -999.0,1,       6.34,2,       4.01,2
320620140320,       P16S,       5,          3,         34,         34,2,20140331,       2346,   -66.9988,  -149.9892,       4383,    49.9,  -0.6730,  33.7229,2,-999.0000,9,   -999.0,9,  -999.0,9, -999.00,9, -999.00,9, -999.00,9, -999.00,9,-999.000,9,-999.000,9, -999.00,9,  -999.0,9,  -999.0,9,-999.0000,9,  -999.00,-999.000,9,-999.0000,9, -999.00,9,  -0.6733,2, -999.00,9,  -999.0,9, -999.00,9,  -999.0,9, -999.00,9,     -999.0,9,     -999.0,9, -999.00,9, 20140401,      132, -66.9988,-149.9893,     -999.0,9,     -999.0,9,     -999.0,9,     -999.0,1,     -999.0,1,     -999.0,9,     -999.0,9
320620140320,       P16S,       5,          3,         33,         33,2,20140331,       2346,   -66.9988,  -149.9892,       4383,    49.9,  -0.6718,  33.7232,2,  33.7184,2,    344.6,2,   343.7,2,   30.29,2,   22.33,2,    0.21,2,    1.62,2,   6.013,2,   3.194,2,    3.26,2,  2160.7,2,  2283.2,6,   7.7627,2,       20,-999.000,1,-999.0000,1, -999.00,9,  -0.6726,2,    1.14,2,  -113.8,2, -999.00,1,    44.1,2,   27.35,2,      15.68,2,     -999.0,9,    6.98,2, 20140401,      132, -66.9988,-149.9894,    33.8774,2,       4.06,2,     -999.0,9,     -999.0,9,     -999.0,9,       6.36,2,       4.06,2
320620140320,       P16S,       5,          3,         32,         32,9,20140331,       2346,   -66.9988,  -149.9892,       4383,    74.9,  -1.2538,  33.9712,2,-999.0000,9,   -999.0,9,  -999.0,9, -999.00,9, -999.00,9, -999.00,9, -999.00,9,-999.000,9,-999.000,9, -999.00,9,  -999.0,9,  -999.0,9,-999.0000,9,  -999.00,-999.000,9,-999.0000,9, -999.00,9,  -1.2523,2, -999.00,9,  -999.0,9, -999.00,9,  -999.0,9, -999.00,9,     -999.0,9,     -999.0,9, -999.00,9, 20140401,      130, -66.9988,-149.9893,     -999.0,9,     -999.0,9,     -999.0,9,     -999.0,9,     -999.0,9,     -999.0,9,     -999.0,9
320620140320,       P16S,       5,          3,         30,         30,2,20140331,       2346,   -66.9988,  -149.9892,       4383,   100.2,  -1.4429,  34.1322,2,-999.0000,9,   -999.0,9,  -999.0,9, -999.00,9, -999.00,9, -999.00,9, -999.00,9,-999.000,9,-999.000,9, -999.00,9,  -999.0,9,  -999.0,9,-999.0000,9,  -999.00,-999.000,9,-999.0000,9, -999.00,9,  -1.4440,2, -999.00,9,  -999.0,9, -999.00,9,  -999.0,9, -999.00,9,     -999.0,9,     -999.0,9, -999.00,9, 20140401,      129, -66.9988,-149.9893,     -999.0,9,     -999.0,9,     -999.0,9,     -999.0,1,     -999.0,1,     -999.0,9,     -999.0,9
320620140320,       P16S,       5,          3,         31,         31,2,20140331,       2346,   -66.9988,  -149.9892,       4383,   101.2,  -1.4505,  34.1292,2,  34.1254,2,    304.0,2,   310.0,2,   57.04,2,   28.14,2,    0.12,2,    2.03,2,   5.191,2,   2.761,2,    2.80,2,  2203.9,2,  2306.5,2,   7.6957,2,       20,-999.000,1,-999.0000,1, -999.00,9,  -1.4465,2,    0.71,2,  -110.1,2, -999.00,1,    41.8,2,   31.26,2,      18.72,2,     -999.0,1,    5.26,2, 20140401,      129, -66.9988,-149.9893,    34.2863,2,       2.74,2,     -999.0,9,     -999.0,9,     -999.0,9,       5.16,2,       2.77,2
320620140320,       P16S,       5,          3,         28,         28,2,20140331,       2346,   -66.9988,  -149.9892,       4383,   149.5,  -0.0473,  34.4035,2,  34.4098,2,    256.6,2,   242.9,2,   74.51,2,   31.23,2,    0.04,2,    2.19,2,   2.966,2,   1.578,2,    1.60,2,  2234.7,2,  2324.1,2,   7.6486,2,       20,-999.000,1,-999.0000,1, -999.00,9,  -0.0578,2,    0.60,2,  -124.9,2, -999.00,1,    39.6,2,   34.98,2,      21.27,2,     -999.0,9,    4.83,2, 20140401,      127, -66.9988,-149.9893,    34.5720,2,       2.18,2,     -999.0,9,     -999.0,9,     -999.0,9,       4.83,2,       2.15,2
320620140320,       P16S,       5,          3,         29,         29,2,20140331,       2346,   -66.9988,  -149.9892,       4383,   150.2,  -0.0736,  34.3978,2,  34.3982,2,    256.6,2,   245.1,2,   74.41,2,   31.17,2,    0.04,2,    2.18,2,-999.000,9,-999.000,9, -999.00,9,  -999.0,9,  -999.0,9,-999.0000,9,  -999.00,-999.000,9,-999.0000,9, -999.00,9,  -0.0558,2, -999.00,9,  -999.0,9, -999.00,9,  -999.0,9, -999.00,9,     -999.0,9,     -999.0,9, -999.00,9, 20140401,      127, -66.9988,-149.9893,    34.5604,2,     -999.0,9,     -999.0,9,     -999.0,9,     -999.0,1,     -999.0,9,     -999.0,9
320620140320,       P16S,       5,          3,         27,         27,2,20140331,       2346,   -66.9988,  -149.9892,       4383,   199.9,   1.2240,  34.6445,2,  34.6377,2,    200.4,2,   190.8,2,   90.31,2,   32.75,2,    0.03,2,    2.28,2,   1.017,2,   0.524,2,    0.50,2,  2257.3,2,  2339.4,2,   7.6252,2,       20,-999.000,1,-999.0000,1, -999.00,9,   1.2234,2,    0.34,2,  -143.3,2, -999.00,1,    40.1,2,   36.28,2,      22.91,2,     -999.0,9,    4.71,2, 20140401,      125, -66.9988,-149.9893,    34.8011,2,       2.07,2,     -999.0,9,     -999.0,9,     -999.0,1,       4.64,2,       1.92,2
320620140320,       P16S,       5,          3,         26,         26,2,20140331,       2346,   -66.9988,  -149.9892,       4383,   250.7,   1.4955,  34.7159,2,  34.7146,2,    180.3,2,   180.5,2,   97.24,2,   32.71,2,    0.03,2,    2.27,2,   0.372,2,   0.139,2,    0.18,2,  2262.3,2,  2347.3,2,   7.6283,2,       20,-999.000,9,-999.0000,9, -999.00,9,   1.4953,2,    0.30,2,  -140.8,2, -999.00,1,    39.6,2,   35.65,2,      22.21,2,     -999.0,1,    4.68,2, 20140401,      123, -66.9988,-149.9893,    34.8783,2,       1.84,2,     -999.0,9,     -999.0,9,     -999.0,1,       4.63,2,       1.83,2
320620140320,       P16S,       5,          3,         25,         25,2,20140331,       2346,   -66.9988,  -149.9892,       4383,   300.4,   1.4686,  34.7251,2,  34.7248,2,    181.7,2,   181.3,2,   99.29,2,   32.55,2,    0.02,2,    2.26,2,   0.287,2,   0.102,2,    0.14,2,  2262.9,2,  -999.0,5,   7.6348,2,       20,-999.000,1,-999.0000,1, -999.00,9,   1.4685,2,    0.32,2,  -146.6,2, -999.00,1,    41.1,2,   34.38,2,      22.13,2,     -999.0,9,    4.75,2, 20140401,      121, -66.9988,-149.9893,    34.8885,2,       2.07,2,     -999.0,9,     -999.0,9,     -999.0,1,       4.68,2,       2.02,2
320620140320,       P16S,       5,          3,         24,         24,2,20140331,       2346,   -66.9988,  -149.9892,       4383,   350.1,   1.4226,  34.7276,2,  34.7246,2,    181.9,2,   181.9,2,  102.02,2,   32.58,2,    0.01,2,    2.26,2,   0.249,6,   0.085,6,    0.16,6,  2263.6,2,  -999.0,5,    7.636,2,       20,-999.000,9,-999.0000,9, -999.00,9,   1.4223,2,    0.34,2,  -150.2,2, -999.00,1,    41.4,2,   36.31,2,      21.82,6,     -999.0,9,    4.70,2, 20140401,      119, -66.9988,-149.9893,    34.8883,2,       2.01,2,     -999.0,9,     -999.0,9,     -999.0,1,       4.69,2,       1.91,2
320620140320,       P16S,       5,          3,         23,         23,2,20140331,       2346,   -66.9988,  -149.9892,       4383,   400.4,   1.3859,  34.7284,2,  34.7281,2,    182.0,2,   182.3,2,  103.58,2,   32.59,2,    0.01,2,    2.26,2,   0.226,2,   0.076,2,    0.18,2,  2264.7,2,  2345.3,2,   7.6369,2,       20,-999.000,1,-999.0000,1, -999.00,9,   1.3858,2,    0.34,2,  -151.8,2, -999.00,1,    38.5,2,   33.42,3,      21.45,2,     -999.0,9,    4.74,2, 20140401,      117, -66.9988,-149.9893,    34.8919,2,       2.11,2,     -999.0,9,     -999.0,9,     -999.0,9,       4.66,2,       1.88,2
320620140320,       P16S,       5,          3,         22,         22,2,20140331,       2346,   -66.9988,  -149.9892,       4383,   450.9,   1.3470,  34.7288,2,  34.7291,2,    183.3,2,   183.1,2,  104.76,2,   32.56,2,    0.01,2,    2.26,2,-999.000,9,-999.000,9, -999.00,9,  2264.4,2,  2345.3,2,   7.6386,2,       20,-999.000,9,-999.0000,9, -999.00,9,   1.3476,2,    0.28,2,  -153.8,2, -999.00,1,    39.4,2,   36.55,2,     -999.0,9,     -999.0,9,    4.74,2, 20140401,      115, -66.9988,-149.9893,    34.8929,2,       2.06,2,     -999.0,9,     -999.0,9,     -999.0,9,       4.67,2,       1.86,2
320620140320,       P16S,       5,          3,         21,         21,2,20140331,       2346,   -66.9988,  -149.9892,       4383,   498.5,   1.3084,  34.7284,2,  34.7283,2,    184.0,2,   183.6,2,  106.12,2,   32.64,2,    0.00,2,    2.26,2,   0.178,2,   0.060,2,    0.07,2,  2264.9,2,  2352.4,2,   7.6436,2,       20,-999.000,1,-999.0000,1, -999.00,9,   1.3083,2,    0.32,2,  -157.8,2, -999.00,9,    40.5,2,   35.67,2,      20.70,2,     -999.0,1,    4.73,2, 20140401,      113, -66.9988,-149.9893,    34.8921,2,       1.93,2,     -999.0,9,     -999.0,9,     -999.0,1,       4.73,2,       1.93,2
320620140320,       P16S,       5,          3,         20,         20,2,20140331,       2346,   -66.9988,  -149.9892,       4383,   599.9,   1.2374,  34.7272,2,  34.7267,2,    186.0,2,   185.9,2,  108.86,2,   32.53,2,    0.00,2,    2.26,2,   0.156,2,   0.048,2,    0.00,2,  2264.8,2,  2354.8,2,   7.6427,2,       20,-999.000,9,-999.0000,9, -999.00,9,   1.2381,2,    0.33,2,  -161.1,2, -999.00,9,    39.9,2, -999.00,9,      21.06,2,     -999.0,9,    4.73,2, 20140401,      111, -66.9988,-149.9893,    34.8905,2,       1.95,2,     -999.0,9,     -999.0,9,     -999.0,9,       4.73,2,       1.95,2
320620140320,       P16S,       5,          3,         19,         19,2,20140331,       2346,   -66.9988,  -149.9892,       4383,   699.9,   1.1580,  34.7249,2,  34.7249,2,    188.0,2,   188.4,2,  111.49,2,   32.56,2,    0.00,2,    2.26,2,   0.134,2,   0.000,2,    0.08,2,  2264.5,2,  2355.9,2,   7.6459,2,       20,-999.000,1,-999.0000,1, -999.00,9,   1.1571,2,    0.33,2,  -164.3,2, -999.00,9,    40.9,2, -999.00,9,      20.57,2,     -999.0,1,    4.76,2, 20140401,      108, -66.9988,-149.9893,    34.8887,2,       1.90,2,     -999.0,9,     -999.0,9,     -999.0,1,       4.76,2,       1.90,2
320620140320,       P16S,       5,          3,         18,         18,2,20140331,       2346,   -66.9988,  -149.9892,       4383,   799.7,   1.0935,  34.7226,2,  34.7228,2,    190.6,2,   190.7,2,  113.45,2,   32.50,2,    0.00,2,    2.26,2,   0.114,2,   0.035,2,    0.02,2,  2264.3,2,  2357.3,2,    7.648,2,       20,-999.000,1,-999.0000,1, -999.00,9,   1.0938,2,    0.35,2,  -162.4,2, -999.00,9,    38.9,2, -999.00,9,      20.65,2,     -999.0,9,    4.73,2, 20140401,      105, -66.9988,-149.9893,    34.8865,2,       2.04,2,     -999.0,9,     -999.0,9,     -999.0,9,       4.73,2,       2.04,2
320620140320,       P16S,       5,          3,         17,         17,2,20140331,       2346,   -66.9988,  -149.9892,       4383,   900.8,   1.0346,  34.7206,2,  34.7204,2,    192.8,2,   192.7,2,  115.01,2,   32.46,2,    0.00,2,    2.27,2,   0.117,2,   0.037,2,    0.08,2,  2263.7,2,  2358.2,2,   7.6518,2,       20,-999.000,1,-999.0000,1, -999.00,9,   1.0343,2,    0.40,2,  -170.0,2, -999.00,9,    39.6,2, -999.00,9,      20.35,2,     -999.0,9,    4.71,2, 20140401,      102, -66.9988,-149.9893,    34.8841,2,       1.80,2,     -999.0,9,     -999.0,9,     -999.0,1,       4.71,2,       1.80,2
320620140320,       P16S,       5,          3,         16,         16,2,20140331,       2346,   -66.9988,  -149.9892,       4383,  1001.5,   0.9708,  34.7179,2,  34.7190,2,    195.0,2,   195.5,2,  116.96,2,   32.38,2,    0.00,2,    2.27,2,   0.110,2,   0.037,2,    0.07,2,  2263.4,2,  2358.7,2,   7.6543,2,       20,-999.000,1,-999.0000,1, -999.00,9,   0.9716,2,    0.39,2,  -165.0,2, -999.00,9,      40,2, -999.00,9,      20.22,2,     -999.0,1,    4.72,2, 20140401,      100, -66.9988,-149.9893,    34.8827,2,       1.96,2,     -999.0,9,     -999.0,9,     -999.0,9,       4.72,2,       1.96,2
320620140320,       P16S,       5,          3,         15,         15,2,20140331,       2346,   -66.9988,  -149.9892,       4383,  1199.1,   0.8652,  34.7138,2,  34.7135,2,    198.3,2,   198.5,2,  119.89,2,   32.40,2,    0.00,2,    2.27,2,   0.107,2,   0.029,2,    0.04,2,  2263.2,2,  2358.4,2,   7.6573,2,       20,-999.000,1,-999.0000,1, -999.00,9,   0.8648,2,    0.40,2,  -162.0,2, -999.00,9,    39.8,2, -999.00,9,      19.79,2,     -999.0,9,    4.74,2, 20140401,       55, -66.9988,-149.9892,    34.8772,2,       2.03,2,     -999.0,9,     -999.0,9,     -999.0,1,       4.74,2,       2.03,2
320620140320,       P16S,       5,          3,         14,         14,2,20140331,       2346,   -66.9988,  -149.9892,       4383,  1399.3,   0.7685,  34.7098,2,  34.7057,4,    201.0,2,   200.7,2,  123.40,2,   32.32,2,    0.00,2,    2.26,2,-999.000,9,-999.000,9, -999.00,9,  -999.0,9,  -999.0,9,-999.0000,9,  -999.00,-999.000,9,-999.0000,9, -999.00,9,   0.7685,2, -999.00,9,  -999.0,9, -999.00,9,      39,2, -999.00,9,     -999.0,9,     -999.0,1,    4.75,2, 20140401,       51, -66.9988,-149.9892,    34.8693,4,       1.98,2,     -999.0,9,     -999.0,9,     -999.0,9,       4.75,2,       1.98,2
320620140320,       P16S,       5,          3,         13,         13,2,20140331,       2346,   -66.9988,  -149.9892,       4383,  1601.3,   0.6919,  34.7069,2,  34.7078,2,    203.3,2,   203.3,2,  126.24,2,   32.39,2,    0.00,2,    2.27,2,   0.126,2,   0.038,2,    0.12,2,  2262.6,2,  2358.4,2,   7.6634,2,       20,-999.000,1,-999.0000,1, -999.00,9,   0.6920,2,    0.37,2,  -163.9,2, -999.00,9,    39.3,2, -999.00,9,      19.86,2,     -999.0,9,    4.75,2, 20140401,       46, -66.9988,-149.9893,    34.8715,2,       2.02,2,     -999.0,9,     -999.0,9,     -999.0,1,       4.75,2,       2.02,2
320620140320,       P16S,       5,          3,         12,         12,2,20140331,       2346,   -66.9988,  -149.9892,       4383,  1800.5,   0.6173,  34.7048,2,  34.7049,2,    204.8,2,   204.7,2,  127.12,2,   32.39,2,    0.00,2,    2.26,2,   0.133,2,   0.033,2,    0.06,2,  -999.0,9,  -999.0,9,-999.0000,9,  -999.00,-999.000,9,-999.0000,9, -999.00,9,   0.6177,2, -999.00,9,  -999.0,9, -999.00,9,    40.5,2, -999.00,9,      19.41,2,     -999.0,9,    4.74,2, 20140401,       42, -66.9988,-149.9893,    34.8685,2,       2.24,2,     -999.0,9,     -999.0,9,     -999.0,9,       4.74,2,       2.24,2
320620140320,       P16S,       5,          3,         11,         11,2,20140331,       2346,   -66.9988,  -149.9892,       4383,  2001.1,   0.5507,  34.7033,2,  34.7047,2,    206.3,2,   206.4,2,  128.58,2,   32.48,2,    0.00,2,    2.27,2,   0.147,2,   0.044,2,    0.07,2,  2262.7,2,  2360.3,2,   7.6636,2,       20,-999.000,1,-999.0000,1, -999.00,9,   0.5513,2,    0.44,2,  -160.3,2, -999.00,9,    40.8,2, -999.00,9,      19.62,2,     -999.0,1,    4.77,2, 20140401,       37, -66.9988,-149.9892,    34.8683,2,       2.10,2,     -999.0,9,     -999.0,9,     -999.0,1,       4.77,2,       2.10,2
320620140320,       P16S,       5,          3,         10,         10,2,20140331,       2346,   -66.9988,  -149.9892,       4383,  2300.3,   0.4447,  34.7019,2,  34.7017,2,    209.2,2,   208.7,2,  130.63,2,   32.53,2,    0.00,2,    2.27,2,-999.000,9,-999.000,9, -999.00,9,  -999.0,9,  -999.0,9,-999.0000,9,  -999.00,-999.000,9,-999.0000,9, -999.00,9,   0.4447,2, -999.00,9,  -999.0,9, -999.00,9,    39.6,2, -999.00,9,     -999.0,9,     -999.0,1,    4.78,2, 20140401,       31, -66.9988,-149.9893,    34.8653,2,       2.08,2,     -999.0,9,     -999.0,9,     -999.0,9,       4.78,2,       2.08,2
320620140320,       P16S,       5,          3,          9,         09,2,20140331,       2346,   -66.9988,  -149.9892,       4383,  2601.2,   0.3616,  34.7011,2,  34.7015,2,    211.2,2,   211.3,2,  132.88,2,   32.52,2,    0.00,2,    2.27,2,   0.190,2,   0.079,2,    0.07,2,  2262.9,2,  2362.2,2,   7.6608,2,       20,-999.000,9,-999.0000,1, -999.00,9,   0.3616,2,    0.42,2,  -164.2,2, -999.00,9,    40.2,2, -999.00,9,      19.50,2,     -999.0,1, -999.00,1, 20140401,       25, -66.9988,-149.9892,    34.8651,2,     -999.0,1,     -999.0,9,     -999.0,9,     -999.0,1,     -999.0,9,     -999.0,9
320620140320,       P16S,       5,          3,          8,         08,2,20140331,       2346,   -66.9988,  -149.9892,       4383,  2899.4,   0.2956,  34.7000,2,  34.6995,2,    213.5,2,   213.6,2,  134.05,2,   32.49,2,    0.00,2,    2.27,2,   0.270,2,   0.117,2,    0.02,2,  -999.0,9,  -999.0,9,-999.0000,9,  -999.00,-999.000,9,-999.0000,9, -999.00,9,   0.2953,2, -999.00,9,  -999.0,9, -999.00,9,      38,2, -999.00,9,      19.64,2,     -999.0,1, -999.00,1, 20140401,       19, -66.9988,-149.9892,    34.8632,2,     -999.0,1,     -999.0,9,     -999.0,9,     -999.0,9,     -999.0,9,     -999.0,9
320620140320,       P16S,       5,          3,          7,         07,2,20140331,       2346,   -66.9988,  -149.9892,       4383,  3197.8,   0.2283,  34.6969,2,  34.6966,2,    216.6,2,   216.5,2,  132.09,2,   32.47,2,    0.00,2,    2.26,2,   0.498,2,   0.234,2,    0.16,2,  2261.9,2,  2360.4,2,   7.6593,2,       20,-999.000,9,-999.0000,1, -999.00,9,   0.2285,2,    0.50,2,  -156.8,2, -999.00,9,    39.8,2, -999.00,9,      19.49,2,     -999.0,9, -999.00,1, 20140401,       13, -66.9988,-149.9892,    34.8602,2,     -999.0,1,     -999.0,9,     -999.0,9,     -999.0,1,     -999.0,9,     -999.0,9
320620140320,       P16S,       5,          3,          6,         06,2,20140331,       2346,   -66.9988,  -149.9892,       4383,  3499.4,   0.1912,  34.6947,2,  34.6944,2,    218.8,2,   218.5,2,  127.90,2,   32.41,2,    0.00,2,    2.27,2,   0.717,2,   0.338,2,    0.19,2,  -999.0,9,  -999.0,9,-999.0000,9,  -999.00,-999.000,9,-999.0000,9, -999.00,9,   0.1913,2, -999.00,9,  -999.0,9, -999.00,9,    37.5,2, -999.00,9,      19.50,2,     -999.0,1, -999.00,1, 20140401,        7, -66.9988,-149.9893,    34.8580,2,     -999.0,1,     -999.0,9,     -999.0,9,     -999.0,9,     -999.0,9,     -999.0,9