BOTTLE,20230715CCHSIOCBG
EXPOCODE,SECT_ID,STNNBR,CASTNO,SAMPNO,BTLNBR,BTLNBR_FLAG_W,DATE,TIME,LATITUDE,LONGITUDE,DEPTH,CTDPRS,CTDTMP,CTDSAL,CTDSAL_FLAG_W,SALNTY,SALNTY_FLAG_W,CTDOXY,CTDOXY_FLAG_W,OXYGEN,OXYGEN_FLAG_W,SILCAT,SILCAT_FLAG_W,NITRAT,NITRAT_FLAG_W,NITRIT,NITRIT_FLAG_W,PHSPHT,PHSPHT_FLAG_W,CFC-11,CFC-11_FLAG_W,CFC-12,CFC-12_FLAG_W,SF6,SF6_FLAG_W,TCARBN,TCARBN_FLAG_W,ALKALI,ALKALI_FLAG_W,PH_TOT,PH_TOT_FLAG_W,PH_TMP,TRITUM,TRITUM_FLAG_W,HELIUM,HELIUM_FLAG_W,DELHE3,DELHE3_FLAG_W,REFTMP,REFTMP_FLAG_W,DELC13,DELC13_FLAG_W,DELC14,DELC14_FLAG_W,DELO18,DELO18_FLAG_W,DOC,DOC_FLAG_W,TDN,TDN_FLAG_W,N2O,N2O_FLAG_W,CALCIUM,CALCIUM_FLAG_W,D15N_NO3,D15N_NO3_FLAG_W,BTL_DATE,BTL_TIME,BTL_LAT,BTL_LON,SALTREF,SALTREF_FLAG_W,D18O_NO3,D18O_NO3_FLAG_W,DSI30,DSI30_FLAG_W,CDOM_NASA,CDOM_NASA_FLAG_W,CDOM_UCSB,CDOM_UCSB_FLAG_W,D15N_NO2+NO3,D15N_NO2+NO3_FLAG_W,D18O_NO2+NO3,D18O_NO2+NO3_FLAG_W
,,,,,,,,,,,METERS,DBAR,ITS-90,PSS-78,,PSS-78,,UMOL/KG,,UMOL/KG,,UMOL/KG,,UMOL/KG,,UMOL/KG,,UMOL/KG,,PMOL/KG,,PMOL/KG,,FMOL/KG,,UMOL/KG,,UMOL/KG,,,,DEG C,TU,,NMOL/KG,,PERCNT,,DEG C,,/MILLE,,/MILLE,,/MILLE,,UMOL/KG,,UMOL/KG,,NMOL/KG,,MMOL/KG,,/MILLE,,,,,,G/KG,,/MILLE,,/MILLE,,,,,,/MILLE,,/MILLE,
320620140320,       P16S,      59,          1,         36,         36,2,20140423,       1217,   -35.6668,  -149.9996,       5317,     3.5,  20.0448,  35.2113,2,  35.2123,2,    227.5,2,   228.1,2,    0.68,2,    0.19,2,    0.01,2,    0.04,2,   2.020,2,   1.288,2,    1.52,2,  2042.4,6,  2310.7,2,   8.0661,2,       20,-999.000,1,-999.0000,1, -999.00,9,  20.0439,2, -999.00,9,  -999.0,9, -999.00,1,  -999.0,9, -999.00,9,       7.70,2,     -999.0,9, -999.00,9, 20140423,     1437, -35.6671,-149.9995,    35.3783,2,     -999.0,9,     -999.0,9,     -999.0,9,     -999.0,9,     -999.0,9,     -999.0,9
320620140320,       P16S,      59,          1,         35,         35,2,20140423,       1217,   -35.6668,  -149.9996,       5317,    19.5,  20.0519,  35.2112,2,  35.2123,2,    228.5,2,   228.1,2,    0.68,2,    0.18,2,    0.01,2,    0.05,2,   2.199,2,   1.294,2,    1.54,2,  2043.3,2,  2311.7,2,    8.067,2,       20,-999.000,1,-999.0000,1, -999.00,9,  20.0512,2, -999.00,9,  -999.0,9, -999.00,1,  -999.0,9, -999.00,9,       7.89,2,     -999.0,9, -999.00,9, 20140423,     1435, -35.6668,-149.9996,    35.3783,2,     -999.0,9,     -999.0,9,     -999.0,9,     -999.0,9,     -999.0,9,     -999.0,9
320620140320,       P16S,      59,          1,         34,         34,2,20140423,       1217,   -35.6668,  -149.9996,       5317,    39.4,  20.0197,  35.2338,2,  35.2351,2,    229.4,2,   228.3,2,    0.78,2,    0.17,2,    0.01,2,    0.04,2,   2.007,2,   1.311,2,    1.44,2,    2042,2,    2314,2,   8.0684,2,       20,-999.000,1,-999.0000,1, -999.00,9,  20.0183,2, -999.00,9,  -999.0,9, -999.00,1,  -999.0,9, -999.00,9,       8.05,2,     -999.0,9, -999.00,9, 20140423,     1433, -35.6668,-149.9995,    35.4013,2,     -999.0,9,     -999.0,9,     -999.0,9,     -999.0,9,     -999.0,9,     -999.0,9
320620140320,       P16S,      59,          1,         33,         33,2,20140423,       1217,   -35.6668,  -149.9996,       5317,    64.3,  19.9636,  35.2218,2,  35.2255,2,    229.5,2,   228.4,2,    0.78,2,    0.17,2,    0.01,2,    0.03,2,-999.000,9,-999.000,9, -999.00,9,  2042.6,2,  2310.4,2,   8.0673,2,       20,-999.000,1,-999.0000,1, -999.00,9,  19.9589,2, -999.00,9,  -999.0,9, -999.00,1,  -999.0,9, -999.00,9,     -999.0,9,     -999.0,9, -999.00,9, 20140423,     1432, -35.6668,-149.9996,    35.3916,2,     -999.0,9,     -999.0,9,     -999.0,9,     -999.0,9,     -999.0,9,     -999.0,9
320620140320,       P16S,      59,          1,         32,         32,2,20140423,       1217,   -35.6668,  -149.9996,       5317,    90.2,  15.6748,  34.7598,2,  34.7685,2,    268.1,2,   267.2,2,    0.59,2,    0.29,2,    0.01,2,    0.11,2,   2.763,2,   1.638,2,    1.61,2,  2051.2,2,  2290.4,2,   8.0219,2,       20,-999.000,1,-999.0000,1, -999.00,9,  15.6636,2, -999.00,9,  -999.0,9, -999.00,1,  -999.0,9, -999.00,9,       9.40,2,     -999.0,9, -999.00,9, 20140423,     1430, -35.6668,-149.9996,    34.9324,2,     -999.0,9,     -999.0,9,     -999.0,9,     -999.0,9,     -999.0,9,     -999.0,9
320620140320,       P16S,      59,          1,         31,         31,2,20140423,       1217,   -35.6668,  -149.9996,       5317,   135.6,  14.0497,  34.8721,2,  34.8644,2,    246.6,2,   247.2,2,    0.88,2,    1.34,2,    0.13,2,    0.23,2,-999.000,5,-999.000,5, -999.00,5,  2071.3,2,  2295.7,2,   7.9872,2,       20,-999.000,1,-999.0000,1, -999.00,9,  14.0271,3, -999.00,9,  -999.0,9, -999.00,1,  -999.0,9, -999.00,9,     -999.0,5,     -999.0,9, -999.00,9, 20140423,     1428, -35.6668,-149.9996,    35.0289,2,     -999.0,9,     -999.0,9,     -999.0,9,     -999.0,9,     -999.0,9,     -999.0,9
320620140320,       P16S,      59,          1,         30,         30,2,20140423,       1217,   -35.6668,  -149.9996,       5317,   184.2,  12.2985,  34.7392,2,  34.7307,2,    236.3,2,   233.3,2,    1.37,2,    6.76,2,    0.04,2,    0.55,2,   2.932,2,   1.708,2,    1.78,2,    2095,2,  2288.2,2,    7.923,2,       20,-999.000,9,-999.0000,9, -999.00,9,  12.2943,2, -999.00,9,  -999.0,9, -999.00,1,  -999.0,9, -999.00,9,      12.49,2,     -999.0,9, -999.00,9, 20140423,     1426, -35.6668,-149.9996,    34.8945,2,     -999.0,9,     -999.0,9,     -999.0,9,     -999.0,9,     -999.0,9,     -999.0,9
320620140320,       P16S,      59,          1,         29,         29,2,20140423,       1217,   -35.6668,  -149.9996,       5317,   233.7,  10.6316,  34.6241,2,  34.6256,2,    227.7,2,   226.6,2,    2.35,2,   12.31,2,    0.01,2,    0.87,2,   3.391,2,   1.838,2,    1.61,2,  2116.7,2,    2284,2,   7.8643,2,       20,-999.000,1,-999.0000,1, -999.00,9,  10.6144,3, -999.00,9,  -999.0,9, -999.00,1,  -999.0,9, -999.00,9,      17.86,2,     -999.0,9, -999.00,9, 20140423,     1424, -35.6668,-149.9996,    34.7889,2,     -999.0,9,     -999.0,9,     -999.0,9,     -999.0,9,     -999.0,9,     -999.0,9
320620140320,       P16S,      59,          1,         28,         28,3,20140423,       1217,   -35.6668,  -149.9996,       5317,   284.7,   9.5362,  34.5863,2,  34.5859,2,    224.6,2,   224.5,2,    3.62,2,   15.79,2,    0.01,2,    1.09,2,-999.000,9,-999.000,9, -999.00,9,  -999.0,9,  -999.0,9,-999.0000,9,  -999.00,-999.000,9,-999.0000,9, -999.00,9,   9.5363,2, -999.00,9,  -999.0,9, -999.00,1,  -999.0,9, -999.00,9,     -999.0,9,     -999.0,9, -999.00,9, 20140423,     1422, -35.6668,-149.9996,    34.7490,2,     -999.0,9,     -999.0,9,     -999.0,9,     -999.0,9,     -999.0,9,     -999.0,9
320620140320,       P16S,      59,          1,         27,         27,2,20140423,       1217,   -35.6668,  -149.9996,       5317,   333.6,   8.7190,  34.5214,2,  34.5215,2,    233.7,2,   233.6,2,    4.30,2,   17.37,2,    0.01,2,    1.18,2,   3.474,6,   1.860,6,    1.41,6,  2132.6,2,  2281.8,2,   7.8205,2,       20,-999.000,1,-999.0000,1, -999.00,9,   8.7242,2, -999.00,9,  -999.0,9, -999.00,1,  -999.0,9, -999.00,9,      18.87,6,     -999.0,9, -999.00,9, 20140423,     1420, -35.6668,-149.9996,    34.6843,2,     -999.0,9,     -999.0,9,     -999.0,9,     -999.0,9,     -999.0,9,     -999.0,9
320620140320,       P16S,      59,          1,         26,         26,2,20140423,       1217,   -35.6668,  -149.9996,       5317,   384.7,   8.1863,  34.4776,2,  34.4767,2,    236.1,2,   236.9,2,    4.98,2,   18.85,2,    0.01,2,    1.27,2,-999.000,9,-999.000,9, -999.00,9,  2134.9,2,  2279.8,2,     7.81,2,       20,-999.000,9,-999.0000,9, -999.00,9,   8.1929,2, -999.00,9,  -999.0,9, -999.00,1,  -999.0,9, -999.00,9,     -999.0,9,     -999.0,9, -999.00,9, 20140423,     1417, -35.6668,-149.9996,    34.6393,2,     -999.0,9,     -999.0,9,     -999.0,9,     -999.0,9,     -999.0,9,     -999.0,9
320620140320,       P16S,      59,          1,         25,         25,2,20140423,       1217,   -35.6668,  -149.9996,       5317,   465.5,   7.4926,  34.4114,2,  34.4128,2,    243.3,2,   243.8,2,    5.86,2,   20.41,2,    0.01,2,    1.36,2,   3.870,2,   1.923,2,    1.35,2,    2140,2,  2276.4,2,   7.8004,2,       20,-999.000,1,-999.0000,1, -999.00,9,   7.4930,2, -999.00,9,  -999.0,9, -999.00,1,  -999.0,9, -999.00,9,      17.39,2,     -999.0,9, -999.00,9, 20140423,     1415, -35.6668,-149.9996,    34.5750,2,     -999.0,9,     -999.0,9,     -999.0,9,     -999.0,9,     -999.0,9,     -999.0,9
320620140320,       P16S,      59,          1,         24,         24,2,20140423,       1217,   -35.6668,  -149.9996,       5317,   564.7,   6.9654,  34.3706,2,  34.3717,2,    244.3,2,   244.8,2,    7.23,2,   21.97,2,    0.01,2,    1.47,2,   3.533,2,   1.827,2,    1.33,2,  2142.2,2,  2278.4,2,   7.7921,6,       20,-999.000,9,-999.0000,9, -999.00,9,   6.9657,2, -999.00,9,  -999.0,9, -999.00,1,  -999.0,9, -999.00,9,      16.54,2,     -999.0,9, -999.00,9, 20140423,     1412, -35.6668,-149.9996,    34.5338,2,     -999.0,9,     -999.0,9,     -999.0,9,     -999.0,9,     -999.0,9,     -999.0,9
320620140320,       P16S,      59,          1,         23,         23,2,20140423,       1217,   -35.6668,  -149.9996,       5317,   663.7,   6.5418,  34.3405,2,  34.3399,2,    242.2,2,   243.2,2,    8.90,2,   23.45,2,    0.01,2,    1.55,2,   3.549,2,   1.674,2,    0.94,2,  2145.7,6,    2279,2,   7.7832,2,       20,-999.000,1,-999.0000,1, -999.00,9,   6.5381,2, -999.00,9,  -999.0,9, -999.00,1,  -999.0,9, -999.00,9,      17.17,2,     -999.0,9, -999.00,9, 20140423,     1409, -35.6668,-149.9996,    34.5019,2,     -999.0,9,     -999.0,9,     -999.0,9,     -999.0,9,     -999.0,9,     -999.0,9
320620140320,       P16S,      59,          1,         22,         22,2,20140423,       1217,   -35.6668,  -149.9996,       5317,   765.2,   6.1351,  34.3189,2,  34.3197,2,    235.1,2,   236.1,2,   11.24,2,   24.96,2,    0.01,2,    1.67,2,   2.835,2,   1.402,2,    0.56,2,  2152.2,2,  2280.4,6,   7.7695,2,       20,-999.000,9,-999.0000,9, -999.00,9,   6.1308,2, -999.00,9,  -999.0,9, -999.00,1,  -999.0,9, -999.00,9,      16.75,2,     -999.0,9, -999.00,9, 20140423,     1406, -35.6668,-149.9996,    34.4816,2,     -999.0,9,     -999.0,9,     -999.0,9,     -999.0,9,     -999.0,9,     -999.0,9
320620140320,       P16S,      59,          1,         21,         21,2,20140423,       1217,   -35.6668,  -149.9996,       5317,   863.4,   5.6300,  34.3029,2,  34.3032,2,    227.6,2,   227.5,2,   15.15,2,   26.78,2,    0.01,2,    1.80,2,   2.316,2,   1.095,2,    0.51,2,  2161.1,2,    2282,2,   7.7504,2,       20,-999.000,1,-999.0000,1, -999.00,9,   5.6337,2, -999.00,9,  -999.0,9, -999.00,1,  -999.0,9, -999.00,9,      17.87,2,     -999.0,9, -999.00,9, 20140423,     1403, -35.6668,-149.9996,    34.4650,2,     -999.0,9,     -999.0,9,     -999.0,9,     -999.0,9,     -999.0,9,     -999.0,9
320620140320,       P16S,      59,          1,         20,         20,2,20140423,       1217,   -35.6668,  -149.9996,       5317,   964.4,   5.1085,  34.3084,2,  34.3099,2,    213.5,2,   212.9,2,   22.39,2,   29.10,2,    0.00,2,    1.96,2,   1.465,2,   0.772,2,    0.19,2,  2178.1,2,  2287.6,2,   7.7194,2,       20,-999.000,9,-999.0000,9, -999.00,9,   5.1167,3, -999.00,9,  -999.0,9, -999.00,1,  -999.0,9, -999.00,9,      19.92,2,     -999.0,9, -999.00,9, 20140423,     1400, -35.6668,-149.9996,    34.4717,2,     -999.0,9,     -999.0,9,     -999.0,9,     -999.0,9,     -999.0,9,     -999.0,9
320620140320,       P16S,      59,          1,         19,         19,2,20140423,       1217,   -35.6668,  -149.9996,       5317,  1064.6,   4.4992,  34.3252,2,  34.3256,2,    201.6,2,   202.0,2,   30.69,2,   30.98,2,    0.00,2,    2.09,2,   1.142,2,   0.600,2,    0.10,2,    2193,2,  2294.3,2,   7.6919,2,       20,-999.000,1,-999.0000,1, -999.00,9,   4.5012,2, -999.00,9,  -999.0,9, -999.00,1,  -999.0,9, -999.00,9,      20.27,2,     -999.0,9, -999.00,9, 20140423,     1357, -35.6668,-149.9996,    34.4875,2,     -999.0,9,     -999.0,9,     -999.0,9,     -999.0,9,     -999.0,9,     -999.0,9
320620140320,       P16S,      59,          1,         18,         18,2,20140423,       1217,   -35.6668,  -149.9996,       5317,  1164.4,   3.9436,  34.3508,2,  34.3509,2,    192.6,2,   193.5,2,   39.88,2,   32.39,2,    0.00,2,    2.20,2,   0.768,2,   0.369,2,    0.03,2,  2208.6,2,  2302.9,2,   7.6702,2,       20,-999.000,1,-999.0000,1, -999.00,9,   3.9468,2, -999.00,9,  -999.0,9, -999.00,1,  -999.0,9, -999.00,9,      21.86,2,     -999.0,9, -999.00,9, 20140423,     1354, -35.6668,-149.9996,    34.5129,2,     -999.0,9,     -999.0,9,     -999.0,9,     -999.0,9,     -999.0,9,     -999.0,9
320620140320,       P16S,      59,          1,         17,         17,2,20140423,       1217,   -35.6668,  -149.9996,       5317,  1264.0,   3.5225,  34.3871,2,  34.3888,2,    186.9,2,   186.2,2,   48.87,2,   33.31,2,    0.00,2,    2.28,2,   0.588,2,   0.265,2,    0.02,2,  2222.6,2,  2312.4,2,   7.6539,2,       20,-999.000,1,-999.0000,1, -999.00,9,   3.5225,2, -999.00,9,  -999.0,9, -999.00,1,  -999.0,9, -999.00,9,      22.89,2,     -999.0,9, -999.00,9, 20140423,     1351, -35.6668,-149.9996,    34.5510,2,     -999.0,9,     -999.0,9,     -999.0,9,     -999.0,9,     -999.0,9,     -999.0,9
320620140320,       P16S,      59,          1,         16,         16,2,20140423,       1217,   -35.6668,  -149.9996,       5317,  1364.4,   3.2022,  34.4294,2,  34.4302,2,    179.3,2,   178.9,2,   57.28,2,   34.05,2,    0.00,2,    2.33,2,   0.334,2,   0.165,2,    0.03,2,  2234.4,2,  2320.4,2,   7.6428,2,       20,-999.000,1,-999.0000,1, -999.00,9,   3.2029,2, -999.00,9,  -999.0,9, -999.00,9,  -999.0,9, -999.00,9,      23.84,2,     -999.0,9, -999.00,9, 20140423,     1348, -35.6668,-149.9996,    34.5926,2,     -999.0,9,     -999.0,9,     -999.0,9,     -999.0,9,     -999.0,9,     -999.0,9
320620140320,       P16S,      59,          1,         15,         15,2,20140423,       1217,   -35.6668,  -149.9996,       5317,  1535.3,   2.8407,  34.5125,2,  34.5136,2,    168.0,2,   167.3,2,   73.30,2,   34.69,2,    0.00,2,    2.38,2,   0.101,2,   0.043,2,    0.01,2,  2254.8,2,  2339.9,2,   7.6333,2,       20,-999.000,1,-999.0000,1, -999.00,9,   2.8409,2, -999.00,9,  -999.0,9, -999.00,9,  -999.0,9, -999.00,9,      23.81,2,     -999.0,9, -999.00,9, 20140423,     1344, -35.6668,-149.9996,    34.6764,2,     -999.0,9,     -999.0,9,     -999.0,9,     -999.0,9,     -999.0,9,     -999.0,9
320620140320,       P16S,      59,          1,         14,         14,2,20140423,       1217,   -35.6668,  -149.9996,       5317,  1735.0,   2.5624,  34.5851,2,  34.5859,2,    158.6,2,   157.2,2,   92.16,2,   35.08,2,    0.00,2,    2.41,2,   0.019,2,   0.001,2,    0.00,2,  2276.7,2,  2362.1,2,   7.6335,2,       20,-999.000,9,-999.0000,9, -999.00,9,   2.5617,2, -999.00,9,  -999.0,9, -999.00,9,  -999.0,9, -999.00,9,      24.86,2,     -999.0,9, -999.00,9, 20140423,     1339, -35.6668,-149.9996,    34.7490,2,     -999.0,9,     -999.0,9,     -999.0,9,     -999.0,9,     -999.0,9,     -999.0,9
320620140320,       P16S,      59,          1,         13,         13,2,20140423,       1217,   -35.6668,  -149.9996,       5317,  1936.0,   2.3463,  34.6192,2,  34.6201,2,    152.9,2,   152.6,2,  104.87,2,   35.40,2,    0.00,2,    2.44,2,   0.006,2,   0.001,2,    0.00,2,  2290.6,2,  2377.5,2,   7.6333,2,       20,-999.000,1,-999.0000,1, -999.00,9,   2.3471,2, -999.00,9,  -999.0,9, -999.00,9,  -999.0,9, -999.00,9,      23.94,2,     -999.0,9, -999.00,9, 20140423,     1335, -35.6668,-149.9996,    34.7834,2,     -999.0,9,     -999.0,9,     -999.0,9,     -999.0,9,     -999.0,9,     -999.0,9
320620140320,       P16S,      59,          1,         12,         12,2,20140423,       1217,   -35.6668,  -149.9996,       5317,  2165.1,   2.1774,  34.6372,2,  34.6384,2,    151.0,2,   150.9,2,  112.39,2,   35.48,2,    0.00,2,    2.44,2,   0.003,2,   0.001,2,    0.02,2,  2299.1,2,  2386.1,2,   7.6337,2,       20,-999.000,9,-999.0000,9, -999.00,9,   2.1775,2, -999.00,9,  -999.0,9, -999.00,9,  -999.0,9, -999.00,9,      23.87,2,     -999.0,9, -999.00,9, 20140423,     1330, -35.6668,-149.9996,    34.8017,2,     -999.0,9,     -999.0,9,     -999.0,9,     -999.0,9,     -999.0,9,     -999.0,9
320620140320,       P16S,      59,          1,         11,         11,2,20140423,       1217,   -35.6668,  -149.9996,       5317,  2414.6,   2.0343,  34.6506,2,  34.6523,2,    150.1,2,   150.5,2,  118.94,2,   35.68,2,    0.00,2,    2.46,2,   0.004,2,   0.001,2,    0.01,2,  2305.1,2,  2393.2,2,   7.6335,2,       20,-999.000,1,-999.0000,1, -999.00,9,   2.0342,2, -999.00,9,  -999.0,9, -999.00,9,  -999.0,9, -999.00,9,      23.70,2,     -999.0,9, -999.00,9, 20140423,     1324, -35.6668,-149.9996,    34.8157,2,     -999.0,9,     -999.0,9,     -999.0,9,     -999.0,9,     -999.0,9,     -999.0,9
320620140320,       P16S,      59,          1,         10,         10,3,20140423,       1217,   -35.6668,  -149.9996,       5317,  2665.1,   1.8994,  34.6617,2,  34.6628,2,    150.9,2,   151.4,2,  123.33,2,   35.50,2,    0.00,2,    2.45,2,-999.000,9,-999.000,9, -999.00,9,  -999.0,9,  -999.0,9,-999.0000,9,  -999.00,-999.000,9,-999.0000,9, -999.00,9,   1.8995,2, -999.00,9,  -999.0,9, -999.00,9,  -999.0,9, -999.00,9,     -999.0,9,     -999.0,9, -999.00,9, 20140423,     1319, -35.6668,-149.9996,    34.8262,2,     -999.0,9,     -999.0,9,     -999.0,9,     -999.0,9,     -999.0,9,     -999.0,9
320620140320,       P16S,      59,          1,          9,         09,2,20140423,       1217,   -35.6668,  -149.9996,       5317,  2915.2,   1.8154,  34.6697,2,  34.6708,2,    154.0,2,   153.4,2,  126.27,2,   35.52,2,    0.00,2,    2.45,2,   0.007,2,   0.001,2,    0.03,2,  2309.6,6,  2398.9,2,   7.6386,2,       20,-999.000,9,-999.0000,1, -999.00,9,   1.8149,2, -999.00,9,  -999.0,9, -999.00,9,  -999.0,9, -999.00,9,      22.34,2,     -999.0,9, -999.00,9, 20140423,     1313, -35.6668,-149.9996,    34.8343,2,     -999.0,9,     -999.0,9,     -999.0,9,     -999.0,9,     -999.0,9,     -999.0,9
320620140320,       P16S,      59,          1,          8,         08,2,20140423,       1217,   -35.6668,  -149.9996,       5317,  3199.8,   1.7026,  34.6807,2,  34.6822,2,    159.5,2,   160.5,2,  126.36,2,   35.04,2,    0.00,2,    2.41,2,   0.003,2,   0.000,2,    0.00,2,  2304.7,2,  2395.5,6,    7.645,2,       20,-999.000,9,-999.0000,9, -999.00,9,   1.7025,2, -999.00,9,  -999.0,9, -999.00,9,  -999.0,9, -999.00,9,      23.16,2,     -999.0,9, -999.00,9, 20140423,     1307, -35.6668,-149.9995,    34.8457,2,     -999.0,9,     -999.0,9,     -999.0,9,     -999.0,9,     -999.0,9,     -999.0,9
320620140320,       P16S,      59,          1,          7,         07,2,20140423,       1217,   -35.6668,  -149.9996,       5317,  3500.8,   1.5990,  34.6927,2,  34.6936,2,    170.8,2,   171.3,2,  122.55,2,   34.24,2,    0.00,2,    2.36,2,   0.006,2,   0.001,2,    0.00,2,  2293.3,2,  2387.7,2,   7.6538,2,       20,-999.000,9,-999.0000,1, -999.00,9,   1.5991,2, -999.00,9,  -999.0,9, -999.00,9,  -999.0,9, -999.00,9,      21.31,2,     -999.0,9, -999.00,9, 20140423,     1301, -35.6668,-149.9996,    34.8572,2,     -999.0,9,     -999.0,9,     -999.0,9,     -999.0,9,     -999.0,9,     -999.0,9
320620140320,       P16S,      59,          1,          6,         06,2,20140423,       1217,   -35.6668,  -149.9996,       5317,  3865.6,   1.4646,  34.7051,2,  34.7054,2,    184.2,2,   185.1,2,  117.37,2,   33.13,2,    0.00,2,    2.27,2,-999.000,9,-999.000,9, -999.00,9,  2278.9,2,  2375.8,2,    7.666,2,       20,-999.000,9,-999.0000,9, -999.00,9,   1.4648,2, -999.00,9,  -999.0,9, -999.00,9,  -999.0,9, -999.00,9,     -999.0,9,     -999.0,9, -999.00,9, 20140423,     1254, -35.6668,-149.9995,    34.8690,2,     -999.0,9,     -999.0,9,     -999.0,9,     -999.0,9,     -999.0,9,     -999.0,9