BOTTLE,20230715CCHSIOCBG
EXPOCODE,SECT_ID,STNNBR,CASTNO,SAMPNO,BTLNBR,BTLNBR_FLAG_W,DATE,TIME,LATITUDE,LONGITUDE,DEPTH,CTDPRS,CTDTMP,CTDSAL,CTDSAL_FLAG_W,SALNTY,SALNTY_FLAG_W,CTDOXY,CTDOXY_FLAG_W,OXYGEN,OXYGEN_FLAG_W,SILCAT,SILCAT_FLAG_W,NITRAT,NITRAT_FLAG_W,NITRIT,NITRIT_FLAG_W,PHSPHT,PHSPHT_FLAG_W,CFC-11,CFC-11_FLAG_W,CFC-12,CFC-12_FLAG_W,SF6,SF6_FLAG_W,TCARBN,TCARBN_FLAG_W,ALKALI,ALKALI_FLAG_W,PH_TOT,PH_TOT_FLAG_W,PH_TMP,TRITUM,TRITUM_FLAG_W,HELIUM,HELIUM_FLAG_W,DELHE3,DELHE3_FLAG_W,REFTMP,REFTMP_FLAG_W,DELC13,DELC13_FLAG_W,DELC14,DELC14_FLAG_W,DELO18,DELO18_FLAG_W,DOC,DOC_FLAG_W,TDN,TDN_FLAG_W,N2O,N2O_FLAG_W,CALCIUM,CALCIUM_FLAG_W,D15N_NO3,D15N_NO3_FLAG_W,BTL_DATE,BTL_TIME,BTL_LAT,BTL_LON,SALTREF,SALTREF_FLAG_W,D18O_NO3,D18O_NO3_FLAG_W,DSI30,DSI30_FLAG_W,CDOM_NASA,CDOM_NASA_FLAG_W,CDOM_UCSB,CDOM_UCSB_FLAG_W,D15N_NO2+NO3,D15N_NO2+NO3_FLAG_W,D18O_NO2+NO3,D18O_NO2+NO3_FLAG_W
,,,,,,,,,,,METERS,DBAR,ITS-90,PSS-78,,PSS-78,,UMOL/KG,,UMOL/KG,,UMOL/KG,,UMOL/KG,,UMOL/KG,,UMOL/KG,,PMOL/KG,,PMOL/KG,,FMOL/KG,,UMOL/KG,,UMOL/KG,,,,DEG C,TU,,NMOL/KG,,PERCNT,,DEG C,,/MILLE,,/MILLE,,/MILLE,,UMOL/KG,,UMOL/KG,,NMOL/KG,,MMOL/KG,,/MILLE,,,,,,G/KG,,/MILLE,,/MILLE,,,,,,/MILLE,,/MILLE,
320620140320,       P16S,      74,          2,          5,         05,2,20140428,       2144,   -25.6666,  -150.0003,     -999.0,  3664.5,   1.5115,  34.6882,2,  34.6884,2,    174.7,2,   175.3,2,  124.09,2,   34.12,2,    0.00,2,    2.40,2,-999.000,9,-999.000,9, -999.00,9,  2293.6,2,  2391.3,2,   7.6591,6,       20,-999.000,9,-999.0000,9, -999.00,9,   1.5114,2, -999.00,9,  -999.0,9, -999.00,9,    36.3,2, -999.00,9,     -999.0,9,     -999.0,9, -999.00,9, 20140428,     2204, -25.6667,-150.0003,    34.8520,2,     -999.0,9,     -999.0,9,     -999.0,9,     -999.0,9,     -999.0,9,     -999.0,9
320620140320,       P16S,      74,          2,          4,         04,2,20140428,       2144,   -25.6666,  -150.0003,     -999.0,  3914.8,   1.4517,  34.6934,2,  34.6930,2,    180.0,2,   179.9,2,  123.11,2,   33.72,2,    0.00,2,    2.35,2,-999.000,9,-999.000,9, -999.00,9,  2287.9,2,  2386.4,2,   7.6636,2,       20,-999.000,9,-999.0000,1, -999.00,9,   1.4523,2, -999.00,9,  -999.0,9, -999.00,9,    36.1,2, -999.00,9,     -999.0,9,     -999.0,9, -999.00,9, 20140428,     2159, -25.6666,-150.0003,    34.8565,2,     -999.0,9,     -999.0,9,     -999.0,9,     -999.0,9,     -999.0,9,     -999.0,9
320620140320,       P16S,      74,          2,          3,         03,2,20140428,       2144,   -25.6666,  -150.0003,     -999.0,  4164.5,   1.3728,  34.6992,2,  34.6992,2,    186.2,2,   186.7,2,  121.55,2,   33.32,2,    0.00,2,    2.32,2,   0.001,2,   0.000,2,    0.00,2,  2281.9,2,  2381.7,2,   7.6688,2,       20,-999.000,1,-999.0000,1, -999.00,9,   1.3727,2, -999.00,9,  -999.0,9, -999.00,9,    38.3,2, -999.00,9,      20.65,2,     -999.0,9, -999.00,9, 20140428,     2153, -25.6666,-150.0003,    34.8629,2,     -999.0,9,     -999.0,9,     -999.0,9,     -999.0,9,     -999.0,9,     -999.0,9
320620140320,       P16S,      74,          2,          2,         02,2,20140428,       2144,   -25.6666,  -150.0003,     -999.0,  4397.5,   1.3574,  34.7018,2,  34.7018,2,    188.6,2,   189.2,2,  120.96,2,   33.07,2,    0.00,2,    2.28,2,-999.000,9,-999.000,9, -999.00,9,    2279,2,  2380.1,6,   7.6708,2,       20,-999.000,9,-999.0000,1, -999.00,9,   1.3581,2, -999.00,9,  -999.0,9, -999.00,9,    38.4,2, -999.00,9,     -999.0,9,     -999.0,9, -999.00,9, 20140428,     2149, -25.6666,-150.0002,    34.8654,2,     -999.0,9,     -999.0,9,     -999.0,9,     -999.0,9,     -999.0,9,     -999.0,9
320620140320,       P16S,      74,          2,          1,         01,2,20140428,       2144,   -25.6666,  -150.0003,     -999.0,  4585.8,   1.3581,  34.7028,2,  34.7037,2,    190.1,2,   190.1,2,  120.67,2,   33.01,2,    0.00,2,    2.28,2,   0.000,2,   0.001,2,    0.01,2,  2277.7,6,  2377.4,2,   7.6721,2,       20,-999.000,1,-999.0000,1, -999.00,9,   1.3582,2, -999.00,9,  -999.0,9, -999.00,9,    39.7,2, -999.00,9,      21.38,2,     -999.0,9, -999.00,9, 20140428,     2144, -25.6666,-150.0003,    34.8674,2,     -999.0,9,     -999.0,9,     -999.0,9,     -999.0,9,     -999.0,9,     -999.0,9