BOTTLE,20230715CCHSIOCBG
EXPOCODE,SECT_ID,STNNBR,CASTNO,SAMPNO,BTLNBR,BTLNBR_FLAG_W,DATE,TIME,LATITUDE,LONGITUDE,DEPTH,CTDPRS,CTDTMP,CTDSAL,CTDSAL_FLAG_W,SALNTY,SALNTY_FLAG_W,CTDOXY,CTDOXY_FLAG_W,OXYGEN,OXYGEN_FLAG_W,SILCAT,SILCAT_FLAG_W,NITRAT,NITRAT_FLAG_W,NITRIT,NITRIT_FLAG_W,PHSPHT,PHSPHT_FLAG_W,CFC-11,CFC-11_FLAG_W,CFC-12,CFC-12_FLAG_W,SF6,SF6_FLAG_W,TCARBN,TCARBN_FLAG_W,ALKALI,ALKALI_FLAG_W,PH_TOT,PH_TOT_FLAG_W,PH_TMP,TRITUM,TRITUM_FLAG_W,HELIUM,HELIUM_FLAG_W,DELHE3,DELHE3_FLAG_W,REFTMP,REFTMP_FLAG_W,DELC13,DELC13_FLAG_W,DELC14,DELC14_FLAG_W,DELO18,DELO18_FLAG_W,DOC,DOC_FLAG_W,TDN,TDN_FLAG_W,N2O,N2O_FLAG_W,CALCIUM,CALCIUM_FLAG_W,D15N_NO3,D15N_NO3_FLAG_W,BTL_DATE,BTL_TIME,BTL_LAT,BTL_LON,SALTREF,SALTREF_FLAG_W,D18O_NO3,D18O_NO3_FLAG_W,DSI30,DSI30_FLAG_W,CDOM_NASA,CDOM_NASA_FLAG_W,CDOM_UCSB,CDOM_UCSB_FLAG_W,D15N_NO2+NO3,D15N_NO2+NO3_FLAG_W,D18O_NO2+NO3,D18O_NO2+NO3_FLAG_W
,,,,,,,,,,,METERS,DBAR,ITS-90,PSS-78,,PSS-78,,UMOL/KG,,UMOL/KG,,UMOL/KG,,UMOL/KG,,UMOL/KG,,UMOL/KG,,PMOL/KG,,PMOL/KG,,FMOL/KG,,UMOL/KG,,UMOL/KG,,,,DEG C,TU,,NMOL/KG,,PERCNT,,DEG C,,/MILLE,,/MILLE,,/MILLE,,UMOL/KG,,UMOL/KG,,NMOL/KG,,MMOL/KG,,/MILLE,,,,,,G/KG,,/MILLE,,/MILLE,,,,,,/MILLE,,/MILLE,
320620140320,       P16S,      11,          1,          5,         05,2,20140403,       0544,   -63.9999,  -149.9990,       3212,  2589.2,   0.2805,  34.6985,2,  34.6979,2,    213.9,2,   213.9,2,  130.68,2,   32.37,2,    0.00,2,    2.25,2,   0.368,2,   0.183,2,    0.23,2,  2263.1,6,  2359.7,2,   7.6617,2,       20,-999.000,9,-999.0000,9, -999.00,9,   0.2807,2,    0.49,2,  -160.3,2, -999.00,9,    36.7,2, -999.00,9,      19.15,2,     -999.0,9, -999.00,1, 20140403,      602, -63.9999,-149.9990,    34.8615,2,     -999.0,1,     -999.0,9,     -999.0,9,     -999.0,9,     -999.0,9,     -999.0,9
320620140320,       P16S,      11,          1,          4,         04,2,20140403,       0544,   -63.9999,  -149.9990,       3212,  2795.8,   0.2173,  34.6942,2,  34.6940,2,    216.6,2,   216.9,2,  127.85,2,   32.31,2,    0.00,2,    2.24,2,   0.626,2,   0.334,2,    0.39,2,  2262.1,2,  2358.5,6,   7.6623,2,       20,-999.000,9,-999.0000,9, -999.00,9,   0.2179,2,    0.49,2,  -161.8,2, -999.00,9,    38.7,2, -999.00,9,      18.78,2,     -999.0,9, -999.00,1, 20140403,      558, -64.0003,-149.9988,    34.8576,2,     -999.0,1,     -999.0,9,     -999.0,9,     -999.0,9,     -999.0,9,     -999.0,9
320620140320,       P16S,      11,          1,          3,         03,2,20140403,       0544,   -63.9999,  -149.9990,       3212,  2997.9,   0.2051,  34.6927,2,  34.6928,2,    217.6,2,   217.7,2,  126.68,2,   32.23,2,    0.00,2,    2.24,2,   0.733,2,   0.371,2,    0.28,2,  2261.8,2,  2358.2,2,   7.6573,2,       20,-999.000,9,-999.0000,9, -999.00,9,   0.2047,2,    0.52,2,  -160.3,2, -999.00,9,    37.3,2, -999.00,9,      19.55,2,     -999.0,9, -999.00,1, 20140403,      553, -64.0002,-149.9988,    34.8564,2,     -999.0,1,     -999.0,9,     -999.0,9,     -999.0,9,     -999.0,9,     -999.0,9
320620140320,       P16S,      11,          1,          2,         02,2,20140403,       0544,   -63.9999,  -149.9990,       3212,  3128.9,   0.2052,  34.6931,2,  34.6922,2,    217.9,2,   217.9,2,  127.17,2,   32.27,2,    0.00,2,    2.25,2,   0.757,2,   0.397,2,    0.28,2,    2262,2,  2358.5,2,   7.6584,2,       20,-999.000,9,-999.0000,9, -999.00,9,   0.2058,2,    0.52,2,  -157.8,2, -999.00,9,    38.8,2, -999.00,9,      18.92,2,     -999.0,9, -999.00,1, 20140403,      549, -64.0000,-149.9990,    34.8558,2,     -999.0,1,     -999.0,9,     -999.0,9,     -999.0,9,     -999.0,9,     -999.0,9
320620140320,       P16S,      11,          1,          1,         01,2,20140403,       0544,   -63.9999,  -149.9990,       3212,  3257.9,   0.2153,  34.6925,2,  34.6918,2,    218.6,2,   218.3,2,  127.56,2,   32.29,2,    0.01,2,    2.24,2,   0.769,2,   0.398,2,    0.20,2,  2262.6,2,  2357.8,2,    7.658,6,       20,-999.000,9,-999.0000,9, -999.00,9,   0.2151,2,    0.56,2,  -162.1,2, -999.00,9,    39.7,2, -999.00,9,      18.87,2,     -999.0,9, -999.00,1, 20140403,      544, -63.9999,-149.9990,    34.8554,2,     -999.0,1,     -999.0,9,     -999.0,9,     -999.0,9,     -999.0,9,     -999.0,9