BOTTLE,20230715CCHSIOCBG
EXPOCODE,SECT_ID,STNNBR,CASTNO,SAMPNO,BTLNBR,BTLNBR_FLAG_W,DATE,TIME,LATITUDE,LONGITUDE,DEPTH,CTDPRS,CTDTMP,CTDSAL,CTDSAL_FLAG_W,SALNTY,SALNTY_FLAG_W,CTDOXY,CTDOXY_FLAG_W,OXYGEN,OXYGEN_FLAG_W,SILCAT,SILCAT_FLAG_W,NITRAT,NITRAT_FLAG_W,NITRIT,NITRIT_FLAG_W,PHSPHT,PHSPHT_FLAG_W,CFC-11,CFC-11_FLAG_W,CFC-12,CFC-12_FLAG_W,SF6,SF6_FLAG_W,TCARBN,TCARBN_FLAG_W,ALKALI,ALKALI_FLAG_W,PH_TOT,PH_TOT_FLAG_W,PH_TMP,TRITUM,TRITUM_FLAG_W,HELIUM,HELIUM_FLAG_W,DELHE3,DELHE3_FLAG_W,REFTMP,REFTMP_FLAG_W,DELC13,DELC13_FLAG_W,DELC14,DELC14_FLAG_W,DELO18,DELO18_FLAG_W,DOC,DOC_FLAG_W,TDN,TDN_FLAG_W,N2O,N2O_FLAG_W,CALCIUM,CALCIUM_FLAG_W,D15N_NO3,D15N_NO3_FLAG_W,BTL_DATE,BTL_TIME,BTL_LAT,BTL_LON,SALTREF,SALTREF_FLAG_W,D18O_NO3,D18O_NO3_FLAG_W,DSI30,DSI30_FLAG_W,CDOM_NASA,CDOM_NASA_FLAG_W,CDOM_UCSB,CDOM_UCSB_FLAG_W,D15N_NO2+NO3,D15N_NO2+NO3_FLAG_W,D18O_NO2+NO3,D18O_NO2+NO3_FLAG_W
,,,,,,,,,,,METERS,DBAR,ITS-90,PSS-78,,PSS-78,,UMOL/KG,,UMOL/KG,,UMOL/KG,,UMOL/KG,,UMOL/KG,,UMOL/KG,,PMOL/KG,,PMOL/KG,,FMOL/KG,,UMOL/KG,,UMOL/KG,,,,DEG C,TU,,NMOL/KG,,PERCNT,,DEG C,,/MILLE,,/MILLE,,/MILLE,,UMOL/KG,,UMOL/KG,,NMOL/KG,,MMOL/KG,,/MILLE,,,,,,G/KG,,/MILLE,,/MILLE,,,,,,/MILLE,,/MILLE,
320620140320,       P16S,      31,          1,         36,         36,2,20140412,       1125,   -53.0005,  -150.0001,       4578,     5.2,  10.1866,  34.3552,2,  34.3558,2,    273.4,2,   273.6,2,    0.49,2,   10.01,2,    0.24,2,    0.77,2,   3.293,2,   1.947,2,    2.06,2,  2088.5,2,    2285,2,   7.9365,2,       20,-999.000,1,-999.0000,1, -999.00,9,  10.1848,2, -999.00,9,  -999.0,9, -999.00,1,    54.1,2,    13.7,2,      11.04,2,     -999.0,9, -999.00,9, 20140412,     1319, -53.0001,-149.9998,    34.5178,2,     -999.0,9,     -999.0,9,     -999.0,9,     -999.0,9,     -999.0,9,     -999.0,9
320620140320,       P16S,      31,          1,         35,         35,2,20140412,       1125,   -53.0005,  -150.0001,       4578,    20.3,  10.1856,  34.3547,2,  34.3546,2,    273.8,2,   273.5,2,    0.39,2,   10.04,2,    0.23,2,    0.79,2,   3.514,2,   1.947,2,    2.07,2,  2088.3,2,  2285.8,2,   7.9349,2,       20,-999.000,1,-999.0000,1, -999.00,9,  10.1840,2, -999.00,9,  -999.0,9, -999.00,1,    54.4,2,   13.12,2,      11.06,2,     -999.0,9, -999.00,9, 20140412,     1318, -53.0001,-149.9997,    34.5166,2,     -999.0,9,     -999.0,9,     -999.0,9,     -999.0,9,     -999.0,9,     -999.0,9
320620140320,       P16S,      31,          1,         34,         34,2,20140412,       1125,   -53.0005,  -150.0001,       4578,    39.4,  10.1915,  34.3552,2,  34.3557,2,    274.1,2,   273.5,2,    0.49,2,   10.00,2,    0.24,2,    0.80,2,   3.415,2,   1.924,2,    1.88,2,  2087.8,2,    2286,2,   7.9343,2,       20,-999.000,1,-999.0000,1, -999.00,9,  10.1900,2, -999.00,9,  -999.0,9, -999.00,1,    50.7,2,   13.47,2,      11.08,2,     -999.0,9, -999.00,9, 20140412,     1316, -52.9999,-149.9995,    34.5177,2,     -999.0,9,     -999.0,9,     -999.0,9,     -999.0,9,     -999.0,9,     -999.0,9
320620140320,       P16S,      31,          1,         33,         33,2,20140412,       1125,   -53.0005,  -150.0001,       4578,    65.8,  10.1943,  34.3549,2,  33.9905,4,    273.5,2,   273.4,2,    0.49,2,   10.01,2,    0.23,2,    0.79,2,   3.392,2,   1.949,2,    1.98,2,  2088.3,2,  2285.6,2,   7.9343,2,       20,-999.000,1,-999.0000,1, -999.00,9,  10.1922,2, -999.00,9,  -999.0,9, -999.00,1,    60.6,4,   14.14,2,      11.35,2,     -999.0,9, -999.00,9, 20140412,     1315, -52.9997,-149.9993,    34.1507,4,     -999.0,9,     -999.0,9,     -999.0,9,     -999.0,9,     -999.0,9,     -999.0,9
320620140320,       P16S,      31,          1,         32,         32,2,20140412,       1125,   -53.0005,  -150.0001,       4578,    91.8,   9.5144,  34.5026,2,  34.4738,3,    259.7,2,   259.5,2,    1.37,2,   12.75,2,    0.11,2,    0.96,2,   3.553,2,   2.003,2,    1.89,2,  2110.1,2,  2285.4,2,   7.8855,2,       20,-999.000,1,-999.0000,1, -999.00,9,   9.6329,3, -999.00,9,  -999.0,9, -999.00,1,    60.2,4,   16.43,2,      13.59,2,     -999.0,9, -999.00,9, 20140412,     1313, -52.9996,-149.9991,    34.6364,3,     -999.0,9,     -999.0,1,     -999.0,9,     -999.0,9,     -999.0,9,     -999.0,9
320620140320,       P16S,      31,          1,         31,         31,2,20140412,       1125,   -53.0005,  -150.0001,       4578,   114.1,   8.8167,  34.4907,2,  34.4907,2,    248.3,2,   249.3,2,    3.03,2,   16.30,2,    0.04,2,    1.16,2,-999.000,5,-999.000,5, -999.00,5,  2127.8,2,  2284.4,2,   7.8367,2,       20,-999.000,1,-999.0000,1, -999.00,9,   8.8158,2, -999.00,9,  -999.0,9, -999.00,1,    54.8,2,   19.77,2,     -999.0,5,     -999.0,9, -999.00,9, 20140412,     1311, -52.9999,-149.9993,    34.6533,2,     -999.0,9,     -999.0,9,     -999.0,9,     -999.0,9,     -999.0,9,     -999.0,9
320620140320,       P16S,      31,          1,         30,         30,2,20140412,       1125,   -53.0005,  -150.0001,       4578,   139.0,   8.4016,  34.4635,2,  34.4632,2,    251.3,2,   250.7,2,    3.81,2,   17.53,2,    0.03,2,    1.23,2,   3.653,2,   2.070,2,    1.83,2,  2131.3,2,  2283.8,2,   7.8262,2,       20,-999.000,9,-999.0000,9, -999.00,9,   8.4166,2, -999.00,9,  -999.0,9, -999.00,1,    60.7,4,   20.55,2,      13.11,2,     -999.0,9, -999.00,9, 20140412,     1310, -53.0000,-149.9996,    34.6257,2,     -999.0,9,     -999.0,1,     -999.0,9,     -999.0,9,     -999.0,9,     -999.0,9
320620140320,       P16S,      31,          1,         29,         29,2,20140412,       1125,   -53.0005,  -150.0001,       4578,   186.9,   7.9188,  34.4273,2,  34.4270,2,    251.2,2,   256.6,2,    4.10,2,   18.34,2,    0.01,2,    1.28,2,   3.748,2,   2.080,2,    1.79,2,    2132,2,  2282.8,2,   7.8223,2,       20,-999.000,1,-999.0000,1, -999.00,9,   7.9208,2, -999.00,9,  -999.0,9, -999.00,1,    76.2,4,   21.52,2,      13.30,2,     -999.0,9, -999.00,9, 20140412,     1308, -53.0002,-149.9998,    34.5894,2,     -999.0,9,     -999.0,1,     -999.0,9,     -999.0,9,     -999.0,9,     -999.0,9
320620140320,       P16S,      31,          1,         28,         28,2,20140412,       1125,   -53.0005,  -150.0001,       4578,   236.7,   7.6237,  34.4011,2,  34.3987,2,    259.8,2,   263.2,2,    4.40,2,   18.47,2,    0.01,2,    1.29,2,   3.861,2,   2.093,2,    2.01,2,  -999.0,9,  -999.0,9,-999.0000,9,  -999.00,-999.000,9,-999.0000,9, -999.00,9,   7.6121,2, -999.00,9,  -999.0,9, -999.00,1,    57.8,4,   21.64,2,      13.38,2,     -999.0,9, -999.00,9, 20140412,     1306, -53.0002,-150.0000,    34.5610,2,     -999.0,9,     -999.0,9,     -999.0,9,     -999.0,9,     -999.0,9,     -999.0,9
320620140320,       P16S,      31,          1,         27,         27,2,20140412,       1125,   -53.0005,  -150.0001,       4578,   284.6,   7.4816,  34.3935,2,  34.3924,2,    263.2,2,   263.6,2,    4.69,2,   18.81,2,    0.01,2,    1.33,2,   3.895,2,   2.091,2,    1.90,2,  2132.1,2,  2282.8,2,   7.8229,2,       20,-999.000,1,-999.0000,1, -999.00,9,   7.4795,2, -999.00,9,  -999.0,9, -999.00,1,    47.3,2,   21.67,2,      11.98,4,     -999.0,9, -999.00,9, 20140412,     1304, -53.0000,-149.9997,    34.5546,2,     -999.0,9,     -999.0,1,     -999.0,9,     -999.0,9,     -999.0,9,     -999.0,9
320620140320,       P16S,      31,          1,         26,         26,2,20140412,       1125,   -53.0005,  -150.0001,       4578,   335.6,   7.2305,  34.3632,2,  34.3618,2,    266.4,2,   266.0,2,    4.98,2,   19.27,2,    0.01,2,    1.37,2,   3.889,2,   2.061,2,    1.80,2,  -999.0,9,  -999.0,9,-999.0000,9,  -999.00,-999.000,9,-999.0000,9, -999.00,9,   7.2343,2, -999.00,9,  -999.0,9, -999.00,1,    48.3,2,   21.81,2,      14.42,2,     -999.0,9, -999.00,9, 20140412,     1301, -52.9997,-149.9994,    34.5238,2,     -999.0,9,     -999.0,9,     -999.0,9,     -999.0,9,     -999.0,9,     -999.0,9
320620140320,       P16S,      31,          1,         25,         25,2,20140412,       1125,   -53.0005,  -150.0001,       4578,   384.8,   7.1280,  34.3621,2,  34.3630,2,    266.3,2,   261.6,2,    5.67,2,   19.94,2,    0.01,2,    1.41,2,   3.831,2,   2.075,2,    1.66,2,  2136.1,2,  2281.6,2,   7.8113,2,       20,-999.000,1,-999.0000,1, -999.00,9,   7.1269,2, -999.00,9,  -999.0,9, -999.00,1,    46.6,2,   22.19,2,      14.16,2,     -999.0,9, -999.00,9, 20140412,     1259, -52.9996,-149.9993,    34.5250,2,     -999.0,9,     -999.0,1,     -999.0,9,     -999.0,9,     -999.0,9,     -999.0,9
320620140320,       P16S,      31,          1,         24,         24,2,20140412,       1125,   -53.0005,  -150.0001,       4578,   434.4,   6.9100,  34.3422,2,  34.3425,2,    257.8,2,   258.3,2,    6.74,2,   20.85,2,    0.01,2,    1.48,2,-999.000,9,-999.000,9, -999.00,9,  -999.0,9,  -999.0,9,-999.0000,9,  -999.00,-999.000,9,-999.0000,9, -999.00,9,   6.9093,2, -999.00,9,  -999.0,9, -999.00,1,    47.1,2,   23.83,2,     -999.0,9,     -999.0,9, -999.00,9, 20140412,     1257, -52.9997,-149.9992,    34.5044,2,     -999.0,9,     -999.0,9,     -999.0,9,     -999.0,9,     -999.0,9,     -999.0,9
320620140320,       P16S,      31,          1,         23,         23,2,20140412,       1125,   -53.0005,  -150.0001,       4578,   485.7,   6.7039,  34.3228,2,  34.3238,2,    257.5,2,   257.1,2,    7.52,2,   21.49,2,    0.01,2,    1.50,2,   3.785,2,   2.003,2,    1.77,2,  2141.9,2,  2282.2,2,   7.7947,2,       20,-999.000,1,-999.0000,1, -999.00,9,   6.7067,2, -999.00,9,  -999.0,9, -999.00,1,    46.6,2,   23.39,2,      14.76,2,     -999.0,9, -999.00,9, 20140412,     1255, -52.9998,-149.9993,    34.4857,2,     -999.0,9,     -999.0,1,     -999.0,9,     -999.0,9,     -999.0,9,     -999.0,9
320620140320,       P16S,      31,          1,         22,         22,2,20140412,       1125,   -53.0005,  -150.0001,       4578,   567.4,   6.2612,  34.3042,2,  34.3070,2,    247.3,2,   247.3,2,   10.26,2,   23.40,2,    0.01,2,    1.63,2,-999.000,9,-999.000,9, -999.00,9,  2149.9,2,    2283,2,   7.7744,2,       20,-999.000,9,-999.0000,9, -999.00,9,   6.2712,3, -999.00,9,  -999.0,9, -999.00,1,    44.4,2,   26.36,2,     -999.0,9,     -999.0,9, -999.00,9, 20140412,     1252, -52.9999,-149.9995,    34.4687,2,     -999.0,9,     -999.0,9,     -999.0,9,     -999.0,9,     -999.0,9,     -999.0,9
320620140320,       P16S,      31,          1,         21,         21,2,20140412,       1125,   -53.0005,  -150.0001,       4578,   666.2,   5.6996,  34.2782,2,  34.2777,2,    242.3,2,   239.6,2,   14.17,2,   25.41,2,    0.01,2,    1.75,2,   3.424,2,   1.753,2,    1.42,2,  2161.2,2,  2283.8,2,   7.7498,2,       20,-999.000,1,-999.0000,1, -999.00,9,   5.6977,2, -999.00,9,  -999.0,9, -999.00,9,    44.4,2, -999.00,9,      16.94,2,     -999.0,9, -999.00,9, 20140412,     1249, -52.9999,-149.9995,    34.4393,2,     -999.0,9,     -999.0,9,     -999.0,9,     -999.0,9,     -999.0,9,     -999.0,9
320620140320,       P16S,      31,          1,         20,         20,2,20140412,       1125,   -53.0005,  -150.0001,       4578,   764.5,   5.3572,  34.3176,2,  34.3165,2,    219.9,2,   218.4,2,   21.01,2,   27.80,2,    0.00,2,    1.91,2,-999.000,9,-999.000,9, -999.00,9,  2176.3,2,    2289,2,    7.718,2,       20,-999.000,9,-999.0000,9, -999.00,9,   5.3584,2, -999.00,9,  -999.0,9, -999.00,9,    41.1,2, -999.00,9,     -999.0,9,     -999.0,9, -999.00,9, 20140412,     1247, -53.0000,-149.9995,    34.4783,2,     -999.0,9,     -999.0,9,     -999.0,9,     -999.0,9,     -999.0,9,     -999.0,9
320620140320,       P16S,      31,          1,         19,         19,2,20140412,       1125,   -53.0005,  -150.0001,       4578,   863.7,   4.6815,  34.3109,2,  34.3098,2,    211.7,2,   212.6,2,   27.46,2,   29.57,2,    0.00,2,    2.04,2,   2.454,2,   1.218,2,    1.15,2,  2187.5,2,  2294.1,2,   7.6965,6,       20,-999.000,1,-999.0000,1, -999.00,9,   4.6882,2, -999.00,9,  -999.0,9, -999.00,9,    41.6,2, -999.00,9,      20.13,2,     -999.0,9, -999.00,9, 20140412,     1244, -53.0003,-150.0001,    34.4716,2,     -999.0,9,     -999.0,9,     -999.0,9,     -999.0,9,     -999.0,9,     -999.0,9
320620140320,       P16S,      31,          1,         18,         18,2,20140412,       1125,   -53.0005,  -150.0001,       4578,   965.5,   4.1090,  34.3194,2,  34.3208,2,    206.0,2,   206.9,2,   34.59,2,   31.05,2,    0.00,2,    2.14,2,-999.000,9,-999.000,9, -999.00,9,  2200.7,6,  2299.4,2,   7.6778,2,       20,-999.000,1,-999.0000,1, -999.00,9,   4.1084,2, -999.00,9,  -999.0,9, -999.00,9,    41.5,2, -999.00,9,     -999.0,9,     -999.0,9, -999.00,9, 20140412,     1241, -53.0005,-150.0007,    34.4826,2,     -999.0,9,     -999.0,9,     -999.0,9,     -999.0,9,     -999.0,9,     -999.0,9
320620140320,       P16S,      31,          1,         17,         17,2,20140412,       1125,   -53.0005,  -150.0001,       4578,  1065.8,   3.7655,  34.3561,2,  34.3567,2,    197.8,2,   197.1,2,   42.31,2,   32.15,2,    0.00,2,    2.22,2,   1.710,2,   0.815,2,    0.57,2,  2211.5,2,  2307.1,6,   7.6629,2,       20,-999.000,1,-999.0000,1, -999.00,9,   3.7644,2, -999.00,9,  -999.0,9, -999.00,9,    40.9,2, -999.00,9,      22.48,2,     -999.0,9, -999.00,9, 20140412,     1238, -53.0008,-150.0008,    34.5187,2,     -999.0,9,     -999.0,9,     -999.0,9,     -999.0,9,     -999.0,9,     -999.0,9
320620140320,       P16S,      31,          1,         16,         16,2,20140412,       1125,   -53.0005,  -150.0001,       4578,  1165.0,   3.4088,  34.3848,2,  34.3851,2,    190.9,2,   191.2,2,   49.34,2,   32.94,2,    0.00,2,    2.28,2,-999.000,9,-999.000,9, -999.00,9,  -999.0,9,  -999.0,9,-999.0000,9,  -999.00,-999.000,1,-999.0000,1, -999.00,9,   3.4085,2, -999.00,9,  -999.0,9, -999.00,9,    40.4,2, -999.00,9,     -999.0,9,     -999.0,9, -999.00,9, 20140412,     1235, -53.0005,-150.0001,    34.5472,2,     -999.0,9,     -999.0,9,     -999.0,9,     -999.0,9,     -999.0,9,     -999.0,9
320620140320,       P16S,      31,          1,         15,         15,2,20140412,       1125,   -53.0005,  -150.0001,       4578,  1263.6,   3.1542,  34.4207,2,  34.4204,2,    184.9,2,   184.9,2,   55.79,2,   33.52,2,    0.00,2,    2.34,2,   1.290,2,   0.624,2,    0.34,2,  2231.4,2,  2319.8,2,    7.638,2,       20,-999.000,1,-999.0000,1, -999.00,9,   3.1545,2, -999.00,9,  -999.0,9, -999.00,9,    40.1,2, -999.00,9,      23.41,2,     -999.0,9, -999.00,9, 20140412,     1232, -53.0001,-149.9998,    34.5827,2,     -999.0,9,     -999.0,9,     -999.0,9,     -999.0,9,     -999.0,9,     -999.0,9
320620140320,       P16S,      31,          1,         14,         14,2,20140412,       1125,   -53.0005,  -150.0001,       4578,  1364.4,   2.9859,  34.4656,2,  34.4665,2,    178.8,2,   177.9,2,   62.62,2,   33.91,2,    0.00,2,    2.36,2,-999.000,9,-999.000,9, -999.00,9,  -999.0,9,  -999.0,9,-999.0000,9,  -999.00,-999.000,9,-999.0000,9, -999.00,9,   2.9863,2, -999.00,9,  -999.0,9, -999.00,9,      41,2, -999.00,9,     -999.0,9,     -999.0,9, -999.00,9, 20140412,     1230, -52.9997,-149.9994,    34.6290,2,     -999.0,9,     -999.0,9,     -999.0,9,     -999.0,9,     -999.0,9,     -999.0,9
320620140320,       P16S,      31,          1,         13,         13,2,20140412,       1125,   -53.0005,  -150.0001,       4578,  1464.2,   2.8279,  34.5072,2,  34.5069,2,    173.4,2,   173.2,2,   68.38,2,   34.12,2,    0.00,2,    2.38,2,   0.741,2,   0.369,2,    0.23,2,  2247.9,2,  2332.6,2,    7.628,2,       20,-999.000,1,-999.0000,1, -999.00,9,   2.8283,2, -999.00,9,  -999.0,9, -999.00,9,    39.8,2, -999.00,9,      23.31,2,     -999.0,9, -999.00,9, 20140412,     1227, -52.9998,-149.9993,    34.6697,2,     -999.0,9,     -999.0,9,     -999.0,9,     -999.0,9,     -999.0,9,     -999.0,9
320620140320,       P16S,      31,          1,         12,         12,2,20140412,       1125,   -53.0005,  -150.0001,       4578,  1565.5,   2.7057,  34.5412,2,  34.5414,2,    170.9,2,   171.3,2,   72.39,2,   34.12,2,    0.00,2,    2.37,2,-999.000,9,-999.000,9, -999.00,9,  -999.0,9,  -999.0,9,-999.0000,9,  -999.00,-999.000,9,-999.0000,9, -999.00,9,   2.7056,2, -999.00,9,  -999.0,9, -999.00,9,    40.4,2, -999.00,9,     -999.0,9,     -999.0,9, -999.00,9, 20140412,     1224, -52.9998,-149.9994,    34.7043,2,     -999.0,9,     -999.0,9,     -999.0,9,     -999.0,9,     -999.0,9,     -999.0,9
320620140320,       P16S,      31,          1,         11,         11,2,20140412,       1125,   -53.0005,  -150.0001,       4578,  1736.7,   2.5302,  34.5996,2,  34.6003,2,    169.7,2,   169.8,2,   78.34,2,   33.83,2,    0.00,2,    2.36,2,   0.434,2,   0.155,2,    0.06,2,  2257.4,2,  2343.4,2,   7.6297,2,       20,-999.000,1,-999.0000,1, -999.00,9,   2.5298,2, -999.00,9,  -999.0,9, -999.00,9,    40.8,2, -999.00,9,      22.86,2,     -999.0,9, -999.00,9, 20140412,     1220, -52.9999,-149.9995,    34.7635,2,     -999.0,9,     -999.0,9,     -999.0,9,     -999.0,9,     -999.0,9,     -999.0,9
320620140320,       P16S,      31,          1,         10,         10,2,20140412,       1125,   -53.0005,  -150.0001,       4578,  1934.5,   2.4034,  34.6433,2,  34.6441,2,    172.0,2,   171.6,2,   81.37,2,   33.22,2,    0.00,2,    2.31,2,-999.000,9,-999.000,9, -999.00,9,  2257.9,2,  2346.9,2,   7.6361,2,       20,-999.000,9,-999.0000,9, -999.00,9,   2.4031,2, -999.00,9,  -999.0,9, -999.00,9,    39.4,2, -999.00,9,     -999.0,9,     -999.0,9, -999.00,9, 20140412,     1215, -52.9999,-149.9994,    34.8075,2,     -999.0,9,     -999.0,9,     -999.0,9,     -999.0,9,     -999.0,9,     -999.0,9
320620140320,       P16S,      31,          1,          9,         09,2,20140412,       1125,   -53.0005,  -150.0001,       4578,  2164.7,   2.2354,  34.6839,2,  34.6846,2,    175.2,2,   174.9,2,   87.23,2,   32.64,2,    0.00,2,    2.28,2,   0.217,2,   0.068,2,    0.10,2,  2259.8,2,  2354.5,3,   7.6465,2,       20,-999.000,9,-999.0000,1, -999.00,9,   2.2353,2, -999.00,9,  -999.0,9, -999.00,9,    40.1,2, -999.00,9,      22.04,2,     -999.0,9, -999.00,9, 20140412,     1210, -53.0003,-150.0002,    34.8482,2,     -999.0,9,     -999.0,9,     -999.0,9,     -999.0,9,     -999.0,9,     -999.0,9
320620140320,       P16S,      31,          1,          8,         08,2,20140412,       1125,   -53.0005,  -150.0001,       4578,  2414.7,   2.0980,  34.7128,2,  34.7135,2,    181.1,2,   181.8,2,   88.40,2,   31.91,2,    0.00,2,    2.23,2,   0.177,2,   0.052,2,    0.04,2,  -999.0,9,  -999.0,9,-999.0000,9,  -999.00,-999.000,9,-999.0000,9, -999.00,9,   2.0978,2, -999.00,9,  -999.0,9, -999.00,9,    40.5,2, -999.00,9,      20.91,2,     -999.0,9, -999.00,9, 20140412,     1205, -53.0004,-150.0002,    34.8772,2,     -999.0,9,     -999.0,9,     -999.0,9,     -999.0,9,     -999.0,9,     -999.0,9
320620140320,       P16S,      31,          1,          7,         07,2,20140412,       1125,   -53.0005,  -150.0001,       4578,  2662.9,   1.9524,  34.7316,2,  34.7325,2,    189.6,2,   189.3,2,   89.76,2,   31.21,2,    0.00,2,    2.17,2,   0.166,2,   0.046,2,    0.02,2,  2253.2,2,  2353.8,2,   7.6699,2,       20,-999.000,9,-999.0000,1, -999.00,9,   1.9513,2, -999.00,9,  -999.0,9, -999.00,9,    42.3,3, -999.00,9,      20.13,2,     -999.0,9, -999.00,9, 20140412,     1159, -53.0003,-150.0000,    34.8963,2,     -999.0,9,     -999.0,9,     -999.0,9,     -999.0,9,     -999.0,9,     -999.0,9
320620140320,       P16S,      31,          1,          6,         06,2,20140412,       1125,   -53.0005,  -150.0001,       4578,  2914.8,   1.7437,  34.7353,2,  34.7354,2,    194.1,2,   193.9,2,   95.63,2,   31.16,2,    0.00,2,    2.17,2,   0.138,2,   0.033,2,    0.04,2,  -999.0,9,  -999.0,9,-999.0000,9,  -999.00,-999.000,9,-999.0000,9, -999.00,9,   1.7442,2, -999.00,9,  -999.0,9, -999.00,9,    40.7,2, -999.00,9,      19.91,2,     -999.0,9, -999.00,9, 20140412,     1154, -53.0000,-149.9996,    34.8992,2,     -999.0,9,     -999.0,9,     -999.0,9,     -999.0,9,     -999.0,9,     -999.0,9