BOTTLE,20230715CCHSIOCBG
EXPOCODE,SECT_ID,STNNBR,CASTNO,SAMPNO,BTLNBR,BTLNBR_FLAG_W,DATE,TIME,LATITUDE,LONGITUDE,DEPTH,CTDPRS,CTDTMP,CTDSAL,CTDSAL_FLAG_W,SALNTY,SALNTY_FLAG_W,CTDOXY,CTDOXY_FLAG_W,OXYGEN,OXYGEN_FLAG_W,SILCAT,SILCAT_FLAG_W,NITRAT,NITRAT_FLAG_W,NITRIT,NITRIT_FLAG_W,PHSPHT,PHSPHT_FLAG_W,CFC-11,CFC-11_FLAG_W,CFC-12,CFC-12_FLAG_W,SF6,SF6_FLAG_W,TCARBN,TCARBN_FLAG_W,ALKALI,ALKALI_FLAG_W,PH_TOT,PH_TOT_FLAG_W,PH_TMP,TRITUM,TRITUM_FLAG_W,HELIUM,HELIUM_FLAG_W,DELHE3,DELHE3_FLAG_W,REFTMP,REFTMP_FLAG_W,DELC13,DELC13_FLAG_W,DELC14,DELC14_FLAG_W,DELO18,DELO18_FLAG_W,DOC,DOC_FLAG_W,TDN,TDN_FLAG_W,N2O,N2O_FLAG_W,CALCIUM,CALCIUM_FLAG_W,D15N_NO3,D15N_NO3_FLAG_W,BTL_DATE,BTL_TIME,BTL_LAT,BTL_LON,SALTREF,SALTREF_FLAG_W,D18O_NO3,D18O_NO3_FLAG_W,DSI30,DSI30_FLAG_W,CDOM_NASA,CDOM_NASA_FLAG_W,CDOM_UCSB,CDOM_UCSB_FLAG_W,D15N_NO2+NO3,D15N_NO2+NO3_FLAG_W,D18O_NO2+NO3,D18O_NO2+NO3_FLAG_W
,,,,,,,,,,,METERS,DBAR,ITS-90,PSS-78,,PSS-78,,UMOL/KG,,UMOL/KG,,UMOL/KG,,UMOL/KG,,UMOL/KG,,UMOL/KG,,PMOL/KG,,PMOL/KG,,FMOL/KG,,UMOL/KG,,UMOL/KG,,,,DEG C,TU,,NMOL/KG,,PERCNT,,DEG C,,/MILLE,,/MILLE,,/MILLE,,UMOL/KG,,UMOL/KG,,NMOL/KG,,MMOL/KG,,/MILLE,,,,,,G/KG,,/MILLE,,/MILLE,,,,,,/MILLE,,/MILLE,
320620140320,       P16S,      18,          1,          5,         05,2,20140407,       1404,   -60.4994,  -150.0002,       2997,  2135.9,   0.4061,  34.7007,2,  34.7002,2,    211.2,2,   210.9,2,  128.05,2,   32.51,2,    0.00,2,    2.24,2,   0.323,2,   0.160,2,    0.11,2,  2260.7,2,  2359.7,2,     7.66,2,       20,-999.000,9,-999.0000,9, -999.00,9,   0.4070,2, -999.00,9,  -999.0,9, -999.00,9,  -999.0,9, -999.00,9,      19.07,2,     -999.0,9, -999.00,9, 20140407,     1425, -60.4999,-149.9994,    34.8638,2,     -999.0,9,     -999.0,9,     -999.0,9,     -999.0,9,     -999.0,9,     -999.0,9
320620140320,       P16S,      18,          1,          4,         04,2,20140407,       1404,   -60.4994,  -150.0002,       2997,  2334.4,   0.3466,  34.6991,2,  34.6978,2,    212.4,2,   212.4,2,  127.76,2,   32.53,2,    0.00,2,    2.24,2,-999.000,9,-999.000,9, -999.00,9,  2260.9,2,  2359.6,2,   7.6589,2,       20,-999.000,9,-999.0000,1, -999.00,9,   0.3471,2, -999.00,9,  -999.0,9, -999.00,9,  -999.0,9, -999.00,9,     -999.0,9,     -999.0,9, -999.00,9, 20140407,     1420, -60.4999,-149.9994,    34.8614,2,     -999.0,9,     -999.0,9,     -999.0,9,     -999.0,9,     -999.0,9,     -999.0,9
320620140320,       P16S,      18,          1,          3,         03,2,20140407,       1404,   -60.4994,  -150.0002,       2997,  2534.3,   0.3148,  34.6982,2,  34.6978,2,    213.5,2,   213.9,2,  128.25,2,   32.50,2,    0.00,2,    2.24,2,   0.458,2,   0.224,2,    0.20,2,  2260.8,2,  2359.4,2,   7.6598,2,       20,-999.000,1,-999.0000,1, -999.00,9,   0.3158,2, -999.00,9,  -999.0,9, -999.00,9,  -999.0,9, -999.00,9,      18.94,2,     -999.0,9, -999.00,9, 20140407,     1416, -60.4997,-149.9996,    34.8614,2,     -999.0,9,     -999.0,9,     -999.0,9,     -999.0,9,     -999.0,9,     -999.0,9
320620140320,       P16S,      18,          1,          2,         02,2,20140407,       1404,   -60.4994,  -150.0002,       2997,  2801.3,   0.2694,  34.6955,2,  34.6956,2,    215.3,2,   215.4,2,  127.27,2,   32.47,2,    0.00,2,    2.24,2,-999.000,9,-999.000,9, -999.00,9,  2262.2,2,  2359.7,2,   7.6584,6,       20,-999.000,9,-999.0000,1, -999.00,9,   0.2696,2, -999.00,9,  -999.0,9, -999.00,9,  -999.0,9, -999.00,9,     -999.0,9,     -999.0,9, -999.00,9, 20140407,     1410, -60.4996,-149.9998,    34.8592,2,     -999.0,9,     -999.0,9,     -999.0,9,     -999.0,9,     -999.0,9,     -999.0,9
320620140320,       P16S,      18,          1,          1,         01,2,20140407,       1404,   -60.4994,  -150.0002,       2997,  3071.9,   0.2692,  34.6949,2,  34.6942,2,    216.0,2,   215.9,2,  127.76,2,   32.47,2,    0.00,2,    2.24,2,   0.668,2,   0.330,2,    0.26,2,  2262.7,6,  2359.6,2,   7.6594,2,       20,-999.000,1,-999.0000,1, -999.00,9,   0.2697,2, -999.00,9,  -999.0,9, -999.00,9,  -999.0,9, -999.00,9,      19.07,2,     -999.0,9, -999.00,9, 20140407,     1404, -60.4994,-150.0002,    34.8578,2,     -999.0,9,     -999.0,9,     -999.0,9,     -999.0,9,     -999.0,9,     -999.0,9