BOTTLE,20230715CCHSIOCBG
EXPOCODE,SECT_ID,STNNBR,CASTNO,SAMPNO,BTLNBR,BTLNBR_FLAG_W,DATE,TIME,LATITUDE,LONGITUDE,DEPTH,CTDPRS,CTDTMP,CTDSAL,CTDSAL_FLAG_W,SALNTY,SALNTY_FLAG_W,CTDOXY,CTDOXY_FLAG_W,OXYGEN,OXYGEN_FLAG_W,SILCAT,SILCAT_FLAG_W,NITRAT,NITRAT_FLAG_W,NITRIT,NITRIT_FLAG_W,PHSPHT,PHSPHT_FLAG_W,CFC-11,CFC-11_FLAG_W,CFC-12,CFC-12_FLAG_W,SF6,SF6_FLAG_W,TCARBN,TCARBN_FLAG_W,ALKALI,ALKALI_FLAG_W,PH_TOT,PH_TOT_FLAG_W,PH_TMP,TRITUM,TRITUM_FLAG_W,HELIUM,HELIUM_FLAG_W,DELHE3,DELHE3_FLAG_W,REFTMP,REFTMP_FLAG_W,DELC13,DELC13_FLAG_W,DELC14,DELC14_FLAG_W,DELO18,DELO18_FLAG_W,DOC,DOC_FLAG_W,TDN,TDN_FLAG_W,N2O,N2O_FLAG_W,CALCIUM,CALCIUM_FLAG_W,D15N_NO3,D15N_NO3_FLAG_W,BTL_DATE,BTL_TIME,BTL_LAT,BTL_LON,SALTREF,SALTREF_FLAG_W,D18O_NO3,D18O_NO3_FLAG_W,DSI30,DSI30_FLAG_W,CDOM_NASA,CDOM_NASA_FLAG_W,CDOM_UCSB,CDOM_UCSB_FLAG_W,D15N_NO2+NO3,D15N_NO2+NO3_FLAG_W,D18O_NO2+NO3,D18O_NO2+NO3_FLAG_W
,,,,,,,,,,,METERS,DBAR,ITS-90,PSS-78,,PSS-78,,UMOL/KG,,UMOL/KG,,UMOL/KG,,UMOL/KG,,UMOL/KG,,UMOL/KG,,PMOL/KG,,PMOL/KG,,FMOL/KG,,UMOL/KG,,UMOL/KG,,,,DEG C,TU,,NMOL/KG,,PERCNT,,DEG C,,/MILLE,,/MILLE,,/MILLE,,UMOL/KG,,UMOL/KG,,NMOL/KG,,MMOL/KG,,/MILLE,,,,,,G/KG,,/MILLE,,/MILLE,,,,,,/MILLE,,/MILLE,
320620140320,       P16S,      89,          3,          5,         05,2,20140504,       0032,   -15.6666,  -150.0006,       4261,  3200.2,   1.6158,  34.6791,2,  34.6798,2,    166.1,2,   166.9,2,  124.62,2,   34.72,2,    0.00,2,    2.39,2,-999.000,9,-999.000,9, -999.00,9,    2300,2,  2396.2,2,    7.656,2,       20,-999.000,9,-999.0000,9, -999.00,9,   1.6160,2, -999.00,9,  -999.0,9, -999.00,9,  -999.0,9, -999.00,9,     -999.0,9,     -999.0,9, -999.00,9, 20140504,       55, -15.6666,-150.0006,    34.8433,2,     -999.0,9,     -999.0,9,     -999.0,9,     -999.0,9,     -999.0,9,     -999.0,9
320620140320,       P16S,      89,          3,          4,         04,2,20140504,       0032,   -15.6666,  -150.0006,       4261,  3499.9,   1.5249,  34.6859,2,  34.6871,2,    173.6,2,   173.7,2,  123.25,2,   34.22,2,    0.00,2,    2.35,2,-999.000,9,-999.000,9, -999.00,9,  -999.0,9,  -999.0,9,-999.0000,9,  -999.00,-999.000,9,-999.0000,9, -999.00,9,   1.5248,2, -999.00,9,  -999.0,9, -999.00,9,  -999.0,9, -999.00,9,     -999.0,9,     -999.0,9, -999.00,9, 20140504,       49, -15.6666,-150.0006,    34.8506,2,     -999.0,9,     -999.0,9,     -999.0,9,     -999.0,9,     -999.0,9,     -999.0,9
320620140320,       P16S,      89,          3,          3,         03,2,20140504,       0032,   -15.6666,  -150.0006,       4261,  3799.2,   1.4768,  34.6906,2,  34.6914,2,    178.0,2,   178.3,2,  122.46,2,   33.94,2,    0.00,2,    2.32,2,   0.000,2,   0.000,2,    0.00,2,  2291.3,2,  2389.1,2,   7.6648,2,       20,-999.000,9,-999.0000,9, -999.00,9,   1.4771,2, -999.00,9,  -999.0,9, -999.00,9,  -999.0,9, -999.00,9,      21.69,2,     -999.0,9, -999.00,9, 20140504,       43, -15.6666,-150.0006,    34.8550,2,     -999.0,9,     -999.0,9,     -999.0,9,     -999.0,1,     -999.0,9,     -999.0,9
320620140320,       P16S,      89,          3,          2,         02,2,20140504,       0032,   -15.6666,  -150.0006,       4261,  3999.3,   1.4718,  34.6922,2,  34.6932,2,    179.5,2,   179.6,2,  122.36,2,   33.84,2,    0.00,2,    2.33,2,-999.000,9,-999.000,9, -999.00,9,  2288.8,2,  2387.8,6,   7.6654,2,       20,-999.000,9,-999.0000,9, -999.00,9,   1.4723,2, -999.00,9,  -999.0,9, -999.00,9,  -999.0,9, -999.00,9,     -999.0,9,     -999.0,1, -999.00,9, 20140504,       38, -15.6666,-150.0006,    34.8568,2,     -999.0,9,     -999.0,9,     -999.0,9,     -999.0,9,     -999.0,9,     -999.0,9
320620140320,       P16S,      89,          3,          1,         01,2,20140504,       0032,   -15.6666,  -150.0006,       4261,  4309.4,   1.4645,  34.6944,2,  34.6953,2,    181.6,2,   182.1,2,  122.17,2,   33.72,2,    0.00,2,    2.32,2,  -0.001,2,   0.006,2,    0.00,2,  2287.7,6,  2387.6,2,   7.6695,2,       20,-999.000,9,-999.0000,9, -999.00,9,   1.4654,2, -999.00,9,  -999.0,9, -999.00,9,  -999.0,9, -999.00,9,      21.12,2,     -999.0,1, -999.00,9, 20140504,       31, -15.6666,-150.0006,    34.8589,2,     -999.0,9,     -999.0,9,     -999.0,9,     -999.0,1,     -999.0,9,     -999.0,9