BOTTLE,20230715CCHSIOCBG
EXPOCODE,SECT_ID,STNNBR,CASTNO,SAMPNO,BTLNBR,BTLNBR_FLAG_W,DATE,TIME,LATITUDE,LONGITUDE,DEPTH,CTDPRS,CTDTMP,CTDSAL,CTDSAL_FLAG_W,SALNTY,SALNTY_FLAG_W,CTDOXY,CTDOXY_FLAG_W,OXYGEN,OXYGEN_FLAG_W,SILCAT,SILCAT_FLAG_W,NITRAT,NITRAT_FLAG_W,NITRIT,NITRIT_FLAG_W,PHSPHT,PHSPHT_FLAG_W,CFC-11,CFC-11_FLAG_W,CFC-12,CFC-12_FLAG_W,SF6,SF6_FLAG_W,TCARBN,TCARBN_FLAG_W,ALKALI,ALKALI_FLAG_W,PH_TOT,PH_TOT_FLAG_W,PH_TMP,TRITUM,TRITUM_FLAG_W,HELIUM,HELIUM_FLAG_W,DELHE3,DELHE3_FLAG_W,REFTMP,REFTMP_FLAG_W,DELC13,DELC13_FLAG_W,DELC14,DELC14_FLAG_W,DELO18,DELO18_FLAG_W,DOC,DOC_FLAG_W,TDN,TDN_FLAG_W,N2O,N2O_FLAG_W,CALCIUM,CALCIUM_FLAG_W,D15N_NO3,D15N_NO3_FLAG_W,BTL_DATE,BTL_TIME,BTL_LAT,BTL_LON,SALTREF,SALTREF_FLAG_W,D18O_NO3,D18O_NO3_FLAG_W,DSI30,DSI30_FLAG_W,CDOM_NASA,CDOM_NASA_FLAG_W,CDOM_UCSB,CDOM_UCSB_FLAG_W,D15N_NO2+NO3,D15N_NO2+NO3_FLAG_W,D18O_NO2+NO3,D18O_NO2+NO3_FLAG_W
,,,,,,,,,,,METERS,DBAR,ITS-90,PSS-78,,PSS-78,,UMOL/KG,,UMOL/KG,,UMOL/KG,,UMOL/KG,,UMOL/KG,,UMOL/KG,,PMOL/KG,,PMOL/KG,,FMOL/KG,,UMOL/KG,,UMOL/KG,,,,DEG C,TU,,NMOL/KG,,PERCNT,,DEG C,,/MILLE,,/MILLE,,/MILLE,,UMOL/KG,,UMOL/KG,,NMOL/KG,,MMOL/KG,,/MILLE,,,,,,G/KG,,/MILLE,,/MILLE,,,,,,/MILLE,,/MILLE,
320620140320,       P16S,      90,          1,         36,         36,2,20140504,       0803,   -15.0003,  -150.0001,       4388,     4.8,  28.6228,  35.2859,2,  35.2865,2,    195.0,2,   196.0,2,    0.49,2,    0.03,2,    0.01,2,    0.21,2,   1.422,2,   0.881,2,    1.41,2,  1971.6,2,  2323.6,2,   8.2087,2,       20,-999.000,9,-999.0000,9, -999.00,9,  28.6231,2, -999.00,9,  -999.0,9, -999.00,9,    74.1,2,    4.73,2,       6.06,2,     -999.0,9, -999.00,9, 20140504,      956, -15.0003,-150.0001,    35.4529,2,     -999.0,9,     -999.0,9,     -999.0,9,     -999.0,9,     -999.0,9,     -999.0,9
320620140320,       P16S,      90,          1,         35,         35,2,20140504,       0803,   -15.0003,  -150.0001,       4388,    24.8,  28.6419,  35.2957,2,  35.2946,2,    195.8,2,   196.2,2,    0.49,2,    0.00,2,    0.01,2,    0.20,2,-999.000,9,-999.000,9, -999.00,9,  1970.1,2,    2324,2,   8.2071,2,       20,-999.000,9,-999.0000,9, -999.00,9,  28.6417,2, -999.00,9,  -999.0,9, -999.00,9,    73.5,2,     4.3,2,     -999.0,9,     -999.0,9, -999.00,9, 20140504,      954, -15.0002,-150.0001,    35.4611,2,     -999.0,9,     -999.0,9,     -999.0,9,     -999.0,9,     -999.0,9,     -999.0,9
320620140320,       P16S,      90,          1,         34,         34,2,20140504,       0803,   -15.0003,  -150.0001,       4388,    49.6,  28.6518,  35.3275,2,  35.3413,2,    196.0,2,   196.3,2,    0.69,2,    0.00,2,    0.01,2,    0.20,2,   1.438,2,   0.933,2,    1.29,2,  1971.9,2,  2327.4,2,   8.2073,2,       20,-999.000,9,-999.0000,9, -999.00,9,  28.6510,2, -999.00,9,  -999.0,9, -999.00,9,    73.1,2,    5.76,2,       5.97,2,     -999.0,9, -999.00,9, 20140504,      953, -15.0002,-150.0001,    35.5080,2,     -999.0,9,     -999.0,9,     -999.0,9,     -999.0,9,     -999.0,9,     -999.0,9
320620140320,       P16S,      90,          1,         33,         33,2,20140504,       0803,   -15.0003,  -150.0001,       4388,    74.9,  27.5326,  36.0229,2,  36.0201,2,    197.1,2,   197.1,2,    0.98,2,    0.10,2,    0.06,2,    0.27,2,-999.000,9,-999.000,9, -999.00,9,  -999.0,9,  -999.0,9,-999.0000,9,  -999.00,-999.000,9,-999.0000,9, -999.00,9,  27.5347,2, -999.00,9,  -999.0,9, -999.00,9,    71.4,2,    7.06,3,     -999.0,9,     -999.0,9, -999.00,9, 20140504,      951, -15.0002,-150.0001,    36.1899,2,     -999.0,9,     -999.0,9,     -999.0,9,     -999.0,9,     -999.0,9,     -999.0,9
320620140320,       P16S,      90,          1,         32,         32,2,20140504,       0803,   -15.0003,  -150.0001,       4388,    99.7,  26.7484,  36.1763,2,  36.1878,2,    191.7,2,   190.8,2,    0.98,2,    0.29,2,    0.18,2,    0.31,2,   1.532,2,   0.988,2,    1.36,2,  2046.2,2,  2386.9,2,   8.1607,2,       20,-999.000,9,-999.0000,9, -999.00,9,  26.7412,2, -999.00,9,  -999.0,9, -999.00,9,    63.1,2,    5.28,2,       6.61,2,     -999.0,9, -999.00,9, 20140504,      949, -15.0002,-150.0001,    36.3584,2,     -999.0,9,     -999.0,9,     -999.0,9,     -999.0,9,     -999.0,9,     -999.0,9
320620140320,       P16S,      90,          1,         31,         31,2,20140504,       0803,   -15.0003,  -150.0001,       4388,   124.5,  25.7822,  36.2645,2,  36.2707,2,    182.9,2,   182.4,2,    0.88,2,    0.37,2,    1.02,2,    0.38,2,   1.574,2,   0.983,2,    1.49,2,  2064.6,2,  2390.6,2,   8.1402,2,       20,-999.000,9,-999.0000,9, -999.00,9,  25.7657,2, -999.00,9,  -999.0,9, -999.00,9,    62.2,2,    6.33,2,       6.88,2,     -999.0,9, -999.00,9, 20140504,      948, -15.0002,-150.0001,    36.4418,2,     -999.0,9,     -999.0,9,     -999.0,9,     -999.0,9,     -999.0,9,     -999.0,9
320620140320,       P16S,      90,          1,         30,         30,2,20140504,       0803,   -15.0003,  -150.0001,       4388,   148.6,  25.0506,  36.2878,2,  36.2876,2,    176.6,2,   178.1,2,    0.88,2,    0.84,2,    1.54,2,    0.41,2,-999.000,9,-999.000,9, -999.00,9,  -999.0,9,  -999.0,9,-999.0000,9,  -999.00,-999.000,9,-999.0000,9, -999.00,9,  25.0682,2, -999.00,9,  -999.0,9, -999.00,9,    61.9,2,    6.52,2,     -999.0,9,     -999.0,9, -999.00,9, 20140504,      946, -15.0002,-150.0001,    36.4587,2,     -999.0,9,     -999.0,9,     -999.0,9,     -999.0,9,     -999.0,9,     -999.0,9
320620140320,       P16S,      90,          1,         29,         29,2,20140504,       0803,   -15.0003,  -150.0001,       4388,   199.4,  22.8195,  36.1731,2,  36.1702,2,    170.4,2,   172.0,2,    0.78,2,    3.85,2,    0.03,2,    0.46,2,   1.867,2,   1.136,2,    1.36,2,  2099.5,2,  2379.9,2,   8.0644,2,       20,-999.000,9,-999.0000,9, -999.00,9,  22.8201,2, -999.00,9,  -999.0,9, -999.00,9,    53.3,2,    7.09,2,       7.85,2,     -999.0,9, -999.00,9, 20140504,      945, -15.0002,-150.0001,    36.3408,2,     -999.0,9,     -999.0,9,     -999.0,9,     -999.0,9,     -999.0,9,     -999.0,9
320620140320,       P16S,      90,          1,         28,         28,2,20140504,       0803,   -15.0003,  -150.0001,       4388,   250.1,  20.5296,  35.8743,2,  35.8687,2,    169.5,2,   170.9,2,    1.08,2,    5.33,2,    0.01,2,    0.61,2,   2.065,2,   1.238,2,    1.44,2,  -999.0,9,  -999.0,9,-999.0000,9,  -999.00,-999.000,9,-999.0000,9, -999.00,9,  20.4785,2, -999.00,9,  -999.0,9, -999.00,9,      48,2,    7.84,2,       9.76,2,     -999.0,9, -999.00,9, 20140504,      943, -15.0002,-150.0001,    36.0378,2,     -999.0,9,     -999.0,9,     -999.0,9,     -999.0,9,     -999.0,9,     -999.0,9
320620140320,       P16S,      90,          1,         27,         27,2,20140504,       0803,   -15.0003,  -150.0001,       4388,   299.1,  16.7621,  35.2776,2,  35.2937,2,    154.9,2,   157.5,2,    3.03,2,    9.67,2,    0.01,2,    0.91,2,   2.286,2,   1.319,2,    1.39,2,  2128.9,2,  2324.7,2,   7.9179,2,       20,-999.000,9,-999.0000,9, -999.00,9,  16.7757,2, -999.00,9,  -999.0,9, -999.00,9,    49.1,2,   10.78,2,      16.27,2,     -999.0,9, -999.00,9, 20140504,      941, -15.0002,-150.0001,    35.4601,2,     -999.0,9,     -999.0,9,     -999.0,9,     -999.0,9,     -999.0,9,     -999.0,9
320620140320,       P16S,      90,          1,         26,         26,2,20140504,       0803,   -15.0003,  -150.0001,       4388,   349.5,  13.3974,  34.8672,2,  34.8671,2,    139.6,2,   136.3,2,    7.44,2,   16.27,2,    0.01,2,    1.40,2,   2.102,2,   1.182,2,    1.12,2,  2155.5,2,  2301.2,2,   7.7997,2,       20,-999.000,9,-999.0000,9, -999.00,9,  13.3929,2, -999.00,9,  -999.0,9, -999.00,9,    45.5,2,   18.01,2,      24.83,2,     -999.0,9, -999.00,9, 20140504,      939, -15.0002,-150.0001,    35.0315,2,     -999.0,9,     -999.0,9,     -999.0,9,     -999.0,9,     -999.0,9,     -999.0,9
320620140320,       P16S,      90,          1,         25,         25,2,20140504,       0803,   -15.0003,  -150.0001,       4388,   398.7,  11.3828,  34.6844,2,  34.6785,2,    128.6,2,   129.3,2,   11.56,2,   20.93,2,    0.01,2,    1.69,2,   1.834,2,   0.966,2,    0.35,2,  2175.2,2,    2293,2,   7.7347,2,       20,-999.000,9,-999.0000,9, -999.00,9,  11.3740,2, -999.00,9,  -999.0,9, -999.00,9,    44.3,2,   21.42,2,      29.38,2,     -999.0,9, -999.00,9, 20140504,      937, -15.0002,-150.0001,    34.8421,2,     -999.0,9,     -999.0,9,     -999.0,9,     -999.0,9,     -999.0,9,     -999.0,9
320620140320,       P16S,      90,          1,         24,         24,2,20140504,       0803,   -15.0003,  -150.0001,       4388,   450.1,   9.2629,  34.5532,2,  34.5540,2,    124.1,2,   124.2,2,   17.24,2,   26.06,2,    0.01,2,    1.99,2,   1.286,2,   0.674,2,    0.15,2,  -999.0,9,  -999.0,9,-999.0000,9,  -999.00,-999.000,9,-999.0000,9, -999.00,9,   9.2649,2, -999.00,9,  -999.0,9, -999.00,9,    41.7,2, -999.00,5,      32.17,2,     -999.0,9, -999.00,9, 20140504,      935, -15.0002,-150.0001,    34.7169,2,     -999.0,9,     -999.0,9,     -999.0,9,     -999.0,9,     -999.0,9,     -999.0,9
320620140320,       P16S,      90,          1,         23,         23,2,20140504,       0803,   -15.0003,  -150.0001,       4388,   499.2,   7.9780,  34.5040,2,  34.5041,2,    126.6,2,   130.3,2,   22.14,2,   28.84,2,    0.01,2,    2.13,2,   0.902,2,   0.487,2,    0.14,2,  2201.6,2,  2292.7,2,   7.6538,2,       20,-999.000,9,-999.0000,9, -999.00,9,   7.9774,2, -999.00,9,  -999.0,9, -999.00,9,    40.5,2,    29.6,2,      31.99,2,     -999.0,9, -999.00,9, 20140504,      933, -15.0002,-150.0001,    34.6668,2,     -999.0,9,     -999.0,9,     -999.0,9,     -999.0,9,     -999.0,9,     -999.0,9
320620140320,       P16S,      90,          1,         22,         22,2,20140504,       0803,   -15.0003,  -150.0001,       4388,   599.9,   6.5113,  34.4620,2,  34.4617,2,    148.9,2,   150.8,2,   29.39,2,   30.43,2,    0.01,2,    2.17,2,   0.473,2,   0.190,2,    0.06,2,  2203.7,2,  2298.9,2,    7.667,2,       20,-999.000,9,-999.0000,9, -999.00,9,   6.5043,2, -999.00,9,  -999.0,9, -999.00,9,    39.4,2, -999.00,9,      28.05,2,     -999.0,9, -999.00,9, 20140504,      930, -15.0002,-150.0001,    34.6242,2,     -999.0,9,     -999.0,9,     -999.0,9,     -999.0,9,     -999.0,9,     -999.0,9
320620140320,       P16S,      90,          1,         21,         21,2,20140504,       0803,   -15.0003,  -150.0001,       4388,   699.5,   5.5251,  34.4533,2,  34.4535,2,    151.4,2,   151.9,2,   39.97,2,   32.35,2,    0.00,2,    2.28,2,   0.249,2,   0.129,2,    0.08,2,    2218,2,  2308.6,2,   7.6526,2,       20,-999.000,9,-999.0000,9, -999.00,9,   5.5255,2, -999.00,9,  -999.0,9, -999.00,9,    38.8,2, -999.00,9,      26.89,2,     -999.0,9, -999.00,9, 20140504,      927, -15.0002,-150.0001,    34.6159,2,     -999.0,9,     -999.0,9,     -999.0,9,     -999.0,9,     -999.0,9,     -999.0,9
320620140320,       P16S,      90,          1,         20,         20,2,20140504,       0803,   -15.0003,  -150.0001,       4388,   798.8,   4.9185,  34.4698,2,  34.4696,2,    146.2,2,   146.1,2,   51.04,2,   33.80,2,    0.00,2,    2.40,2,   0.121,2,   0.047,2,    0.04,2,  -999.0,9,  -999.0,9,-999.0000,9,  -999.00,-999.000,9,-999.0000,9, -999.00,9,   4.9213,2, -999.00,9,  -999.0,9, -999.00,9,      36,2, -999.00,9,      27.30,2,     -999.0,9, -999.00,9, 20140504,      924, -15.0002,-150.0001,    34.6321,2,     -999.0,9,     -999.0,9,     -999.0,9,     -999.0,9,     -999.0,9,     -999.0,9
320620140320,       P16S,      90,          1,         19,         19,2,20140504,       0803,   -15.0003,  -150.0001,       4388,   899.1,   4.4003,  34.4951,2,  34.4949,2,    140.4,2,   140.1,2,   62.20,2,   34.90,2,    0.00,2,    2.49,2,   0.050,2,   0.024,2,    0.05,2,  2248.1,2,  2331.1,2,   7.6236,2,       20,-999.000,9,-999.0000,9, -999.00,9,   4.4003,2, -999.00,9,  -999.0,9, -999.00,9,    37.4,2, -999.00,9,      27.93,2,     -999.0,9, -999.00,9, 20140504,      921, -15.0002,-150.0001,    34.6576,2,     -999.0,9,     -999.0,9,     -999.0,9,     -999.0,9,     -999.0,9,     -999.0,9
320620140320,       P16S,      90,          1,         18,         18,2,20140504,       0803,   -15.0003,  -150.0001,       4388,   999.9,   4.1025,  34.5100,2,  34.5094,2,    137.7,2,   137.5,2,   69.26,2,   35.48,2,    0.00,2,    2.53,2,   0.025,2,   0.001,2,    0.05,2,  -999.0,9,  -999.0,9,-999.0000,9,  -999.00,-999.000,9,-999.0000,9, -999.00,9,   4.1028,2, -999.00,9,  -999.0,9, -999.00,9,    38.1,2, -999.00,9,      27.70,2,     -999.0,9, -999.00,9, 20140504,      918, -15.0002,-150.0001,    34.6722,2,     -999.0,9,     -999.0,9,     -999.0,9,     -999.0,9,     -999.0,9,     -999.0,9
320620140320,       P16S,      90,          1,         17,         17,2,20140504,       0803,   -15.0003,  -150.0001,       4388,  1100.1,   3.8244,  34.5267,2,  34.5263,2,    135.2,2,   135.3,2,   76.11,2,   35.91,2,    0.00,2,    2.56,2,   0.008,2,   0.000,2,    0.02,2,  2266.3,2,  2346.1,2,   7.6138,2,       20,-999.000,9,-999.0000,9, -999.00,9,   3.8261,2, -999.00,9,  -999.0,9, -999.00,9,    38.6,2, -999.00,9,      27.06,2,     -999.0,9, -999.00,9, 20140504,      916, -15.0003,-150.0001,    34.6891,2,     -999.0,9,     -999.0,9,     -999.0,9,     -999.0,9,     -999.0,9,     -999.0,9
320620140320,       P16S,      90,          1,         16,         16,2,20140504,       0803,   -15.0003,  -150.0001,       4388,  1200.6,   3.5567,  34.5427,2,  34.5422,2,    137.2,2,   133.7,2,   82.68,2,   36.30,2,    0.00,2,    2.59,2,   0.007,2,   0.000,2,    0.02,2,  -999.0,9,  -999.0,9,-999.0000,9,  -999.00,-999.000,9,-999.0000,9, -999.00,9,   3.5566,2, -999.00,9,  -999.0,9, -999.00,9,    36.9,2, -999.00,9,      28.06,2,     -999.0,9, -999.00,9, 20140504,      913, -15.0003,-150.0001,    34.7051,2,     -999.0,9,     -999.0,9,     -999.0,9,     -999.0,9,     -999.0,9,     -999.0,9
320620140320,       P16S,      90,          1,         15,         15,2,20140504,       0803,   -15.0003,  -150.0001,       4388,  1300.0,   3.3587,  34.5551,2,  34.5548,2,    134.5,2,   132.9,2,   87.67,2,   36.52,2,    0.00,2,    2.61,2,   0.002,2,   0.000,2,    0.01,2,  2279.6,2,    2359,2,   7.6072,2,       20,-999.000,9,-999.0000,9, -999.00,9,   3.3600,2, -999.00,9,  -999.0,9, -999.00,9,    38.4,2, -999.00,9,      26.62,2,     -999.0,9, -999.00,9, 20140504,      910, -15.0002,-150.0001,    34.7178,2,     -999.0,9,     -999.0,9,     -999.0,9,     -999.0,9,     -999.0,9,     -999.0,9
320620140320,       P16S,      90,          1,         14,         14,2,20140504,       0803,   -15.0003,  -150.0001,       4388,  1399.7,   3.1478,  34.5654,2,  34.5654,2,    140.6,2,   136.6,2,   91.69,2,   36.39,2,    0.00,2,    2.60,2,-999.000,9,-999.000,9, -999.00,9,  -999.0,9,  -999.0,9,-999.0000,9,  -999.00,-999.000,9,-999.0000,9, -999.00,9,   3.1452,2, -999.00,9,  -999.0,9, -999.00,9,    37.3,2, -999.00,9,     -999.0,9,     -999.0,9, -999.00,9, 20140504,      907, -15.0002,-150.0001,    34.7284,2,     -999.0,9,     -999.0,9,     -999.0,9,     -999.0,9,     -999.0,9,     -999.0,9
320620140320,       P16S,      90,          1,         13,         13,2,20140504,       0803,   -15.0003,  -150.0001,       4388,  1500.6,   2.9597,  34.5779,2,  34.5780,2,    136.4,2,   136.7,2,   96.48,2,   36.32,2,    0.00,2,    2.60,2,   0.001,2,   0.000,2,    0.04,2,  2287.5,2,  2367.7,2,   7.6109,2,       20,-999.000,9,-999.0000,9, -999.00,9,   2.9610,2, -999.00,9,  -999.0,9, -999.00,9,    35.7,2, -999.00,9,      26.19,2,     -999.0,9, -999.00,9, 20140504,      904, -15.0003,-150.0001,    34.7411,2,     -999.0,9,     -999.0,9,     -999.0,9,     -999.0,9,     -999.0,9,     -999.0,9
320620140320,       P16S,      90,          1,         12,         12,2,20140504,       0803,   -15.0003,  -150.0001,       4388,  1600.4,   2.7504,  34.5862,2,  34.5859,2,    144.7,2,   144.8,2,   98.83,2,   35.80,2,    0.00,2,    2.56,2,-999.000,9,-999.000,9, -999.00,9,  -999.0,9,  -999.0,9,-999.0000,9,  -999.00,-999.000,9,-999.0000,9, -999.00,9,   2.7511,2, -999.00,9,  -999.0,9, -999.00,9,    34.7,2, -999.00,9,     -999.0,9,     -999.0,9, -999.00,9, 20140504,      902, -15.0002,-150.0001,    34.7490,2,     -999.0,9,     -999.0,9,     -999.0,9,     -999.0,9,     -999.0,9,     -999.0,9
320620140320,       P16S,      90,          1,         11,         11,2,20140504,       0803,   -15.0003,  -150.0001,       4388,  1800.3,   2.4807,  34.6092,2,  34.6089,2,    143.9,2,   143.8,2,  107.16,2,   36.06,2,    0.00,2,    2.56,2,   0.000,2,   0.003,2,    0.02,2,  2295.2,2,  2380.9,2,    7.625,2,       20,-999.000,9,-999.0000,9, -999.00,9,   2.4770,2, -999.00,9,  -999.0,9, -999.00,9,    36.1,2, -999.00,9,      24.04,2,     -999.0,9, -999.00,9, 20140504,      857, -15.0003,-150.0001,    34.7721,2,     -999.0,9,     -999.0,9,     -999.0,9,     -999.0,9,     -999.0,9,     -999.0,9
320620140320,       P16S,      90,          1,         10,         10,2,20140504,       0803,   -15.0003,  -150.0001,       4388,  1999.2,   2.2371,  34.6278,2,  34.6275,2,    147.1,2,   147.3,2,  112.94,2,   35.83,2,    0.00,2,    2.55,2,-999.000,9,-999.000,9, -999.00,9,  -999.0,9,  -999.0,9,-999.0000,9,  -999.00,-999.000,9,-999.0000,9, -999.00,9,   2.2368,2, -999.00,9,  -999.0,9, -999.00,9,    36.5,2, -999.00,9,     -999.0,9,     -999.0,9, -999.00,9, 20140504,      853, -15.0002,-150.0001,    34.7908,2,     -999.0,9,     -999.0,9,     -999.0,9,     -999.0,9,     -999.0,9,     -999.0,9
320620140320,       P16S,      90,          1,          9,         09,2,20140504,       0803,   -15.0003,  -150.0001,       4388,  2250.5,   2.0196,  34.6466,2,  34.6466,2,    150.3,2,   151.0,2,  119.20,2,   35.63,2,    0.00,2,    2.51,2,-999.000,9,-999.000,9, -999.00,9,  2303.9,2,    2395,2,   7.6392,2,       20,-999.000,9,-999.0000,9, -999.00,9,   2.0198,2, -999.00,9,  -999.0,9, -999.00,9,    35.8,2, -999.00,9,     -999.0,9,     -999.0,9, -999.00,9, 20140504,      848, -15.0002,-150.0001,    34.8100,2,     -999.0,9,     -999.0,9,     -999.0,9,     -999.0,9,     -999.0,9,     -999.0,9
320620140320,       P16S,      90,          1,          8,         08,2,20140504,       0803,   -15.0003,  -150.0001,       4388,  2499.4,   1.8829,  34.6588,2,  34.6590,2,    152.9,2,   153.2,2,  123.22,2,   35.54,2,    0.00,2,    2.51,2,-999.000,9,-999.000,9, -999.00,9,  2306.9,2,  2399.1,2,   7.6423,2,       20,-999.000,9,-999.0000,9, -999.00,9,   1.8827,2, -999.00,9,  -999.0,9, -999.00,9,      35,2, -999.00,9,     -999.0,9,     -999.0,9, -999.00,9, 20140504,      843, -15.0002,-150.0001,    34.8224,2,     -999.0,9,     -999.0,9,     -999.0,9,     -999.0,9,     -999.0,9,     -999.0,9
320620140320,       P16S,      90,          1,          7,         07,2,20140504,       0803,   -15.0003,  -150.0001,       4388,  2798.4,   1.7510,  34.6695,2,  34.6692,2,    156.6,2,   157.5,2,  125.76,2,   35.25,2,    0.00,2,    2.49,2,   0.000,2,   0.000,2,    0.00,2,  2306.4,2,  2400.5,2,   7.6509,2,       20,-999.000,9,-999.0000,9, -999.00,9,   1.7508,2, -999.00,9,  -999.0,9, -999.00,9,    35.3,2, -999.00,9,      21.83,2,     -999.0,9, -999.00,9, 20140504,      837, -15.0002,-150.0001,    34.8327,2,     -999.0,9,     -999.0,9,     -999.0,9,     -999.0,9,     -999.0,9,     -999.0,9
320620140320,       P16S,      90,          1,          6,         06,2,20140504,       0803,   -15.0003,  -150.0001,       4388,  3099.9,   1.6301,  34.6781,2,-999.0000,5,    163.5,2,   164.2,2,  125.47,2,   34.78,2,    0.00,2,    2.46,2,-999.000,9,-999.000,9, -999.00,9,  2302.4,2,  2397.8,2,   7.6552,2,       20,-999.000,9,-999.0000,9, -999.00,9,   1.6300,2, -999.00,9,  -999.0,9, -999.00,9,    37.9,2, -999.00,9,     -999.0,9,     -999.0,9, -999.00,9, 20140504,      831, -15.0003,-150.0001,     -999.0,5,     -999.0,9,     -999.0,9,     -999.0,9,     -999.0,9,     -999.0,9,     -999.0,9