BOTTLE,20230715CCHSIOCBG
EXPOCODE,SECT_ID,STNNBR,CASTNO,SAMPNO,BTLNBR,BTLNBR_FLAG_W,DATE,TIME,LATITUDE,LONGITUDE,DEPTH,CTDPRS,CTDTMP,CTDSAL,CTDSAL_FLAG_W,SALNTY,SALNTY_FLAG_W,CTDOXY,CTDOXY_FLAG_W,OXYGEN,OXYGEN_FLAG_W,SILCAT,SILCAT_FLAG_W,NITRAT,NITRAT_FLAG_W,NITRIT,NITRIT_FLAG_W,PHSPHT,PHSPHT_FLAG_W,CFC-11,CFC-11_FLAG_W,CFC-12,CFC-12_FLAG_W,SF6,SF6_FLAG_W,TCARBN,TCARBN_FLAG_W,ALKALI,ALKALI_FLAG_W,PH_TOT,PH_TOT_FLAG_W,PH_TMP,TRITUM,TRITUM_FLAG_W,HELIUM,HELIUM_FLAG_W,DELHE3,DELHE3_FLAG_W,REFTMP,REFTMP_FLAG_W,DELC13,DELC13_FLAG_W,DELC14,DELC14_FLAG_W,DELO18,DELO18_FLAG_W,DOC,DOC_FLAG_W,TDN,TDN_FLAG_W,N2O,N2O_FLAG_W,CALCIUM,CALCIUM_FLAG_W,D15N_NO3,D15N_NO3_FLAG_W,BTL_DATE,BTL_TIME,BTL_LAT,BTL_LON,SALTREF,SALTREF_FLAG_W,D18O_NO3,D18O_NO3_FLAG_W,DSI30,DSI30_FLAG_W,CDOM_NASA,CDOM_NASA_FLAG_W,CDOM_UCSB,CDOM_UCSB_FLAG_W,D15N_NO2+NO3,D15N_NO2+NO3_FLAG_W,D18O_NO2+NO3,D18O_NO2+NO3_FLAG_W
,,,,,,,,,,,METERS,DBAR,ITS-90,PSS-78,,PSS-78,,UMOL/KG,,UMOL/KG,,UMOL/KG,,UMOL/KG,,UMOL/KG,,UMOL/KG,,PMOL/KG,,PMOL/KG,,FMOL/KG,,UMOL/KG,,UMOL/KG,,,,DEG C,TU,,NMOL/KG,,PERCNT,,DEG C,,/MILLE,,/MILLE,,/MILLE,,UMOL/KG,,UMOL/KG,,NMOL/KG,,MMOL/KG,,/MILLE,,,,,,G/KG,,/MILLE,,/MILLE,,,,,,/MILLE,,/MILLE,
320620140320,       P16S,      58,          3,          5,         05,2,20140423,       0348,   -36.3290,  -149.9924,     -999.0,  3900.6,   1.4808,  34.7056,2,  34.7060,2,    184.9,2,   185.5,2,  117.09,2,   33.44,2,    0.00,2,    2.31,2,   0.006,2,   0.001,2,    0.02,2,  2277.8,2,    2377,2,    7.665,2,       20,-999.000,9,-999.0000,9, -999.00,9,   1.4809,2, -999.00,9,  -999.0,9, -999.00,9,    36.3,2, -999.00,9,      21.36,2,     -999.0,9, -999.00,9, 20140423,      427, -36.3290,-149.9925,    34.8696,2,     -999.0,9,     -999.0,9,     -999.0,9,     -999.0,9,     -999.0,9,     -999.0,9
320620140320,       P16S,      58,          3,          4,         04,2,20140423,       0348,   -36.3290,  -149.9924,     -999.0,  4298.9,   1.2834,  34.7107,2,  34.7105,2,    197.2,2,   197.2,2,  116.70,2,   32.84,2,    0.00,2,    2.26,2,-999.000,9,-999.000,9, -999.00,9,  2267.8,2,  2369.2,2,   7.6722,2,       20,-999.000,9,-999.0000,9, -999.00,9,   1.2834,2, -999.00,9,  -999.0,9, -999.00,9,    37.6,2, -999.00,9,     -999.0,9,     -999.0,9, -999.00,9, 20140423,      419, -36.3290,-149.9925,    34.8742,2,     -999.0,9,     -999.0,9,     -999.0,9,     -999.0,9,     -999.0,9,     -999.0,9
320620140320,       P16S,      58,          3,          3,         03,2,20140423,       0348,   -36.3290,  -149.9924,     -999.0,  4699.2,   1.1658,  34.7112,2,  34.7113,2,    202.7,2,   202.8,2,  118.36,2,   32.69,2,    0.00,2,    2.25,2,   0.016,2,   0.001,2,    0.04,2,  2265.7,2,  2368.7,2,   7.6767,2,       20,-999.000,9,-999.0000,9, -999.00,9,   1.1660,2, -999.00,9,  -999.0,9, -999.00,9,      37,2, -999.00,9,      19.36,2,     -999.0,9, -999.00,9, 20140423,      411, -36.3290,-149.9925,    34.8750,2,     -999.0,9,     -999.0,9,     -999.0,9,     -999.0,9,     -999.0,9,     -999.0,9
320620140320,       P16S,      58,          3,          2,         02,2,20140423,       0348,   -36.3290,  -149.9924,     -999.0,  5097.9,   1.1319,  34.7098,2,  34.7099,2,    203.9,2,   204.3,2,  120.02,2,   32.71,2,    0.00,2,    2.24,2,   0.024,2,   0.008,2,    0.04,2,  2266.2,2,  2369.2,2,   7.6751,2,       20,-999.000,9,-999.0000,9, -999.00,9,   1.1319,2, -999.00,9,  -999.0,9, -999.00,9,    37.5,2, -999.00,9,      20.28,2,     -999.0,9, -999.00,9, 20140423,      401, -36.3290,-149.9925,    34.8736,2,     -999.0,9,     -999.0,9,     -999.0,9,     -999.0,9,     -999.0,9,     -999.0,9
320620140320,       P16S,      58,          3,          1,         01,2,20140423,       0348,   -36.3290,  -149.9924,     -999.0,  5506.6,   1.1583,  34.7092,2,  34.7093,2,    204.7,2,   204.8,2,  120.81,2,   32.67,2,    0.00,2,    2.23,2,   0.049,2,   0.014,2,    0.01,2,  2266.3,6,  2368.1,2,   7.6743,2,       20,-999.000,9,-999.0000,9, -999.00,9,   1.1586,2, -999.00,9,  -999.0,9, -999.00,9,    37.6,2, -999.00,9,      19.01,2,     -999.0,9, -999.00,9, 20140423,      347, -36.3290,-149.9925,    34.8730,2,     -999.0,9,     -999.0,9,     -999.0,9,     -999.0,9,     -999.0,9,     -999.0,9