BOTTLE,20230715CCHSIOCBG
EXPOCODE,SECT_ID,STNNBR,CASTNO,SAMPNO,BTLNBR,BTLNBR_FLAG_W,DATE,TIME,LATITUDE,LONGITUDE,DEPTH,CTDPRS,CTDTMP,CTDSAL,CTDSAL_FLAG_W,SALNTY,SALNTY_FLAG_W,CTDOXY,CTDOXY_FLAG_W,OXYGEN,OXYGEN_FLAG_W,SILCAT,SILCAT_FLAG_W,NITRAT,NITRAT_FLAG_W,NITRIT,NITRIT_FLAG_W,PHSPHT,PHSPHT_FLAG_W,CFC-11,CFC-11_FLAG_W,CFC-12,CFC-12_FLAG_W,SF6,SF6_FLAG_W,TCARBN,TCARBN_FLAG_W,ALKALI,ALKALI_FLAG_W,PH_TOT,PH_TOT_FLAG_W,PH_TMP,TRITUM,TRITUM_FLAG_W,HELIUM,HELIUM_FLAG_W,DELHE3,DELHE3_FLAG_W,REFTMP,REFTMP_FLAG_W,DELC13,DELC13_FLAG_W,DELC14,DELC14_FLAG_W,DELO18,DELO18_FLAG_W,DOC,DOC_FLAG_W,TDN,TDN_FLAG_W,N2O,N2O_FLAG_W,CALCIUM,CALCIUM_FLAG_W,D15N_NO3,D15N_NO3_FLAG_W,BTL_DATE,BTL_TIME,BTL_LAT,BTL_LON,SALTREF,SALTREF_FLAG_W,D18O_NO3,D18O_NO3_FLAG_W,DSI30,DSI30_FLAG_W,CDOM_NASA,CDOM_NASA_FLAG_W,CDOM_UCSB,CDOM_UCSB_FLAG_W,D15N_NO2+NO3,D15N_NO2+NO3_FLAG_W,D18O_NO2+NO3,D18O_NO2+NO3_FLAG_W
,,,,,,,,,,,METERS,DBAR,ITS-90,PSS-78,,PSS-78,,UMOL/KG,,UMOL/KG,,UMOL/KG,,UMOL/KG,,UMOL/KG,,UMOL/KG,,PMOL/KG,,PMOL/KG,,FMOL/KG,,UMOL/KG,,UMOL/KG,,,,DEG C,TU,,NMOL/KG,,PERCNT,,DEG C,,/MILLE,,/MILLE,,/MILLE,,UMOL/KG,,UMOL/KG,,NMOL/KG,,MMOL/KG,,/MILLE,,,,,,G/KG,,/MILLE,,/MILLE,,,,,,/MILLE,,/MILLE,
320620140320,       P16S,      49,          1,         36,         36,2,20140419,       0954,   -42.3332,  -150.0000,       5254,     5.3,  15.7050,  34.3942,2,  34.3949,2,    250.9,2,   248.9,2,    0.00,2,    2.91,2,    0.05,2,    0.37,2,   2.568,2,   1.515,2,    2.06,2,  2050.3,6,    2278,2,   8.0019,2,       20,-999.000,1,-999.0000,1, -999.00,9,  15.7028,2, -999.00,9,  -999.0,9, -999.00,1,  -999.0,9, -999.00,9,       8.90,2,     -999.0,9, -999.00,1, 20140419,     1222, -42.3332,-150.0000,    34.5571,2,     -999.0,1,     -999.0,9,     -999.0,9,     -999.0,9,     -999.0,1,     -999.0,1
320620140320,       P16S,      49,          1,         35,         35,2,20140419,       0954,   -42.3332,  -150.0000,       5254,    33.5,  15.7027,  34.3932,2,  34.3945,2,    251.7,2,   248.9,2,    0.00,2,    2.84,2,    0.05,2,    0.37,2,   2.532,2,   1.500,2,    1.86,2,  2051.4,2,  2278.6,2,   8.0018,6,       20,-999.000,1,-999.0000,1, -999.00,9,  15.7038,2, -999.00,9,  -999.0,9, -999.00,1,  -999.0,9, -999.00,9,       9.15,2,     -999.0,9, -999.00,1, 20140419,     1219, -42.3332,-150.0000,    34.5567,2,     -999.0,1,     -999.0,9,     -999.0,9,     -999.0,9,     -999.0,1,     -999.0,1
320620140320,       P16S,      49,          1,         34,         34,2,20140419,       0954,   -42.3332,  -150.0000,       5254,    60.6,  14.8737,  34.3710,2,  34.3727,2,    254.1,2,   253.7,2,    0.00,2,    4.73,2,    0.08,2,    0.50,2,   2.665,2,   1.567,2,    1.99,2,  2057.5,2,    2279,6,   7.9884,2,       20,-999.000,1,-999.0000,1, -999.00,9,  14.8948,2, -999.00,9,  -999.0,9, -999.00,1,  -999.0,9, -999.00,9,       9.86,2,     -999.0,9, -999.00,1, 20140419,     1218, -42.3332,-150.0000,    34.5348,2,     -999.0,1,     -999.0,9,     -999.0,9,     -999.0,9,     -999.0,1,     -999.0,1
320620140320,       P16S,      49,          1,         33,         33,2,20140419,       0954,   -42.3332,  -150.0000,       5254,    83.3,  11.0218,  34.4517,2,  34.4520,2,    278.0,2,   273.2,2,    0.68,2,    6.69,2,    0.18,2,    0.64,2,-999.000,9,-999.000,9, -999.00,9,  2086.9,2,  2280.6,2,   7.9296,2,       20,-999.000,1,-999.0000,1, -999.00,9,  11.0265,2, -999.00,9,  -999.0,9, -999.00,1,  -999.0,9, -999.00,9,     -999.0,9,     -999.0,9, -999.00,1, 20140419,     1216, -42.3332,-150.0000,    34.6145,2,     -999.0,1,     -999.0,9,     -999.0,9,     -999.0,9,     -999.0,1,     -999.0,1
320620140320,       P16S,      49,          1,         32,         32,2,20140419,       0954,   -42.3332,  -150.0000,       5254,   115.4,   9.7200,  34.4533,2,  34.4569,2,    266.0,2,   263.8,2,    1.56,2,   10.42,2,    0.43,2,    0.88,2,   3.507,2,   1.977,2,    2.30,2,    2107,2,    2280,2,   7.8813,2,       20,-999.000,1,-999.0000,1, -999.00,9,   9.7014,2, -999.00,9,  -999.0,9, -999.00,1,  -999.0,9, -999.00,9,      12.97,2,     -999.0,9, -999.00,1, 20140419,     1214, -42.3332,-150.0000,    34.6194,2,     -999.0,1,     -999.0,9,     -999.0,9,     -999.0,9,     -999.0,1,     -999.0,1
320620140320,       P16S,      49,          1,         31,         31,2,20140419,       0954,   -42.3332,  -150.0000,       5254,   164.8,   9.0623,  34.5011,2,  34.5011,2,    254.3,2,   250.9,2,    2.25,2,   13.81,2,    0.02,2,    1.03,2,   3.599,2,   2.032,2,    2.13,2,  2121.3,2,  2281.6,2,   7.8487,2,       20,-999.000,1,-999.0000,1, -999.00,9,   9.0579,2, -999.00,9,  -999.0,9, -999.00,1,  -999.0,9, -999.00,9,      15.92,2,     -999.0,9, -999.00,1, 20140419,     1212, -42.3332,-150.0000,    34.6638,2,     -999.0,1,     -999.0,9,     -999.0,9,     -999.0,9,     -999.0,1,     -999.0,1
320620140320,       P16S,      49,          1,         30,         30,2,20140419,       0954,   -42.3332,  -150.0000,       5254,   216.6,   8.6562,  34.5147,2,  34.5138,2,    250.1,2,   250.8,2,    2.93,2,   15.28,2,    0.01,2,    1.10,2,-999.000,9,-999.000,9, -999.00,9,  2127.9,2,  2282.8,2,   7.8371,2,       20,-999.000,9,-999.0000,9, -999.00,9,   8.6579,2, -999.00,9,  -999.0,9, -999.00,1,  -999.0,9, -999.00,9,     -999.0,9,     -999.0,9, -999.00,1, 20140419,     1210, -42.3332,-150.0000,    34.6766,2,     -999.0,1,     -999.0,9,     -999.0,9,     -999.0,9,     -999.0,1,     -999.0,1
320620140320,       P16S,      49,          1,         29,         29,2,20140419,       0954,   -42.3332,  -150.0000,       5254,   264.9,   8.3861,  34.5049,2,  34.5052,2,    256.4,2,   254.5,2,    3.52,2,   16.09,2,    0.01,2,    1.15,2,   3.590,6,   2.038,6,    1.89,6,  2129.1,2,  2283.8,2,   7.8336,2,       20,-999.000,1,-999.0000,1, -999.00,9,   8.3891,2, -999.00,9,  -999.0,9, -999.00,1,  -999.0,9, -999.00,9,      16.43,6,     -999.0,9, -999.00,1, 20140419,     1208, -42.3332,-150.0000,    34.6679,2,     -999.0,1,     -999.0,9,     -999.0,9,     -999.0,9,     -999.0,1,     -999.0,1
320620140320,       P16S,      49,          1,         28,         28,2,20140419,       0954,   -42.3332,  -150.0000,       5254,   316.1,   8.1538,  34.4813,2,  34.4809,2,    253.1,2,   251.3,2,    4.00,2,   17.20,2,    0.01,2,    1.22,2,   3.767,2,   2.079,2,    1.98,2,  2132.7,2,  2282.8,2,   7.8222,2,       20,-999.000,9,-999.0000,9, -999.00,9,   8.1544,2, -999.00,9,  -999.0,9, -999.00,1,  -999.0,9, -999.00,9,      17.08,2,     -999.0,9, -999.00,1, 20140419,     1206, -42.3332,-150.0000,    34.6435,2,     -999.0,1,     -999.0,9,     -999.0,9,     -999.0,9,     -999.0,1,     -999.0,1
320620140320,       P16S,      49,          1,         27,         27,2,20140419,       0954,   -42.3332,  -150.0000,       5254,   364.6,   7.8721,  34.4530,2,  34.4553,2,    253.4,2,   252.1,2,    4.39,2,   18.20,2,    0.01,2,    1.28,2,   3.720,2,   2.049,2,    1.92,2,  2134.6,2,  2282.8,2,   7.8159,2,       20,-999.000,1,-999.0000,1, -999.00,9,   7.8705,2, -999.00,9,  -999.0,9, -999.00,1,  -999.0,9, -999.00,9,      16.64,2,     -999.0,9, -999.00,1, 20140419,     1204, -42.3332,-150.0000,    34.6178,2,     -999.0,1,     -999.0,9,     -999.0,9,     -999.0,9,     -999.0,1,     -999.0,1
320620140320,       P16S,      49,          1,         26,         26,2,20140419,       0954,   -42.3332,  -150.0000,       5254,   433.7,   7.6500,  34.4315,2,  34.4304,2,    252.0,2,   251.0,2,    4.98,2,   19.19,2,    0.01,2,    1.34,2,-999.000,9,-999.000,9, -999.00,9,  2136.6,2,  2282.4,2,    7.809,2,       20,-999.000,9,-999.0000,9, -999.00,9,   7.6485,2, -999.00,9,  -999.0,9, -999.00,1,  -999.0,9, -999.00,9,     -999.0,9,     -999.0,9, -999.00,1, 20140419,     1201, -42.3332,-150.0000,    34.5928,2,     -999.0,1,     -999.0,9,     -999.0,9,     -999.0,9,     -999.0,1,     -999.0,1
320620140320,       P16S,      49,          1,         25,         25,2,20140419,       0954,   -42.3332,  -150.0000,       5254,   536.5,   7.3095,  34.4025,2,  34.4035,2,    247.1,2,   246.7,2,    6.25,2,   20.77,2,    0.01,2,    1.44,2,   3.680,2,   2.006,2,    1.45,2,  2141.2,2,  2280.6,2,   7.7969,2,       20,-999.000,1,-999.0000,1, -999.00,9,   7.3089,2, -999.00,9,  -999.0,9, -999.00,1,  -999.0,9, -999.00,9,      16.54,2,     -999.0,9, -999.00,1, 20140419,     1158, -42.3332,-150.0000,    34.5657,2,     -999.0,1,     -999.0,9,     -999.0,9,     -999.0,9,     -999.0,1,     -999.0,1
320620140320,       P16S,      49,          1,         24,         24,2,20140419,       0954,   -42.3332,  -150.0000,       5254,   634.2,   6.9849,  34.3757,2,  34.3768,2,    243.6,2,   244.1,2,    7.52,2,   21.80,2,    0.01,2,    1.51,2,   3.693,2,   1.937,2,    1.51,2,  2145.4,2,  2281.2,2,   7.7873,2,       20,-999.000,9,-999.0000,9, -999.00,9,   6.9855,2, -999.00,9,  -999.0,9, -999.00,1,  -999.0,9, -999.00,9,      16.33,2,     -999.0,9, -999.00,1, 20140419,     1156, -42.3332,-150.0000,    34.5389,2,     -999.0,1,     -999.0,9,     -999.0,9,     -999.0,9,     -999.0,1,     -999.0,1
320620140320,       P16S,      49,          1,         23,         23,2,20140419,       0954,   -42.3332,  -150.0000,       5254,   735.2,   6.5053,  34.3414,2,  34.3409,2,    237.8,2,   237.6,2,   10.45,2,   23.66,2,    0.01,2,    1.63,2,   3.242,2,   1.743,2,    1.14,2,  2153.2,6,  2282.4,2,   7.7705,2,       20,-999.000,1,-999.0000,1, -999.00,9,   6.5055,2, -999.00,9,  -999.0,9, -999.00,1,  -999.0,9, -999.00,9,      16.42,2,     -999.0,9, -999.00,1, 20140419,     1153, -42.3332,-150.0000,    34.5029,2,     -999.0,1,     -999.0,9,     -999.0,9,     -999.0,9,     -999.0,1,     -999.0,1
320620140320,       P16S,      49,          1,         22,         22,2,20140419,       0954,   -42.3332,  -150.0000,       5254,   833.2,   6.0605,  34.3253,2,  34.3254,2,    228.3,2,   227.5,2,   13.97,2,   25.43,2,    0.00,2,    1.76,2,   2.979,2,   1.533,2,    1.06,2,  2161.2,2,  2283.6,2,   7.7505,2,       20,-999.000,9,-999.0000,9, -999.00,9,   6.0622,2, -999.00,9,  -999.0,9, -999.00,1,  -999.0,9, -999.00,9,      17.85,2,     -999.0,9, -999.00,1, 20140419,     1150, -42.3332,-150.0000,    34.4873,2,     -999.0,1,     -999.0,9,     -999.0,9,     -999.0,9,     -999.0,1,     -999.0,1
320620140320,       P16S,      49,          1,         21,         21,2,20140419,       0954,   -42.3332,  -150.0000,       5254,   935.1,   5.5558,  34.3195,2,  34.3209,2,    216.9,2,   217.5,2,   18.85,2,   27.35,2,    0.00,2,    1.89,2,   2.605,2,   1.295,2,    0.49,2,  2173.1,2,    2287,2,   7.7277,2,       20,-999.000,1,-999.0000,1, -999.00,9,   5.5578,2, -999.00,9,  -999.0,9, -999.00,9,  -999.0,9, -999.00,9,      18.63,2,     -999.0,9, -999.00,1, 20140419,     1147, -42.3332,-150.0000,    34.4827,2,     -999.0,1,     -999.0,9,     -999.0,9,     -999.0,9,     -999.0,1,     -999.0,1
320620140320,       P16S,      49,          1,         20,         20,2,20140419,       0954,   -42.3332,  -150.0000,       5254,  1034.2,   4.9721,  34.3200,2,  34.3203,2,    209.0,2,   209.8,2,   25.20,2,   29.18,2,    0.00,2,    2.00,2,-999.000,9,-999.000,9, -999.00,9,  2185.8,2,  2290.6,2,   7.7048,2,       20,-999.000,9,-999.0000,9, -999.00,9,   4.9745,2, -999.00,9,  -999.0,9, -999.00,9,  -999.0,9, -999.00,9,     -999.0,9,     -999.0,9, -999.00,1, 20140419,     1144, -42.3332,-150.0000,    34.4822,2,     -999.0,1,     -999.0,9,     -999.0,9,     -999.0,9,     -999.0,1,     -999.0,1
320620140320,       P16S,      49,          1,         19,         19,2,20140419,       0954,   -42.3332,  -150.0000,       5254,  1134.9,   4.3792,  34.3317,2,  34.3321,2,    202.9,2,   202.4,2,   32.72,2,   30.84,2,    0.00,2,    2.13,2,   1.787,2,   0.900,2,    0.20,2,  2198.8,2,    2298,2,   7.6848,2,       20,-999.000,1,-999.0000,1, -999.00,9,   4.3825,2, -999.00,9,  -999.0,9, -999.00,9,  -999.0,9, -999.00,9,      21.33,2,     -999.0,9, -999.00,1, 20140419,     1141, -42.3332,-150.0000,    34.4940,2,     -999.0,1,     -999.0,9,     -999.0,9,     -999.0,9,     -999.0,1,     -999.0,1
320620140320,       P16S,      49,          1,         18,         18,2,20140419,       0954,   -42.3332,  -150.0000,       5254,  1235.8,   3.8075,  34.3588,2,  34.3596,2,    195.3,2,   194.5,2,   42.19,2,   32.19,2,    0.00,2,    2.24,2,   1.400,2,   0.706,2,    0.22,2,  2212.7,2,  2307.2,2,   7.6641,2,       20,-999.000,1,-999.0000,1, -999.00,9,   3.8073,2, -999.00,9,  -999.0,9, -999.00,9,  -999.0,9, -999.00,9,      21.79,2,     -999.0,9, -999.00,1, 20140419,     1138, -42.3332,-150.0000,    34.5216,2,     -999.0,1,     -999.0,9,     -999.0,9,     -999.0,9,     -999.0,1,     -999.0,1
320620140320,       P16S,      49,          1,         17,         17,2,20140419,       0954,   -42.3332,  -150.0000,       5254,  1336.6,   3.4321,  34.3900,2,  34.3896,2,    188.2,2,   188.7,2,   49.61,2,   33.01,2,    0.00,2,    2.29,2,   1.209,2,   0.595,2,    0.10,2,  2223.8,2,  2313.9,2,   7.6506,2,       20,-999.000,1,-999.0000,1, -999.00,9,   3.4329,2, -999.00,9,  -999.0,9, -999.00,9,  -999.0,9, -999.00,9,      23.19,2,     -999.0,9, -999.00,1, 20140419,     1135, -42.3332,-150.0000,    34.5518,2,     -999.0,1,     -999.0,9,     -999.0,9,     -999.0,9,     -999.0,1,     -999.0,1
320620140320,       P16S,      49,          1,         16,         16,2,20140419,       0954,   -42.3332,  -150.0000,       5254,  1465.6,   3.0926,  34.4500,2,  34.4494,2,    177.9,2,   178.1,2,   60.45,2,   33.98,2,    0.00,2,    2.34,2,   0.599,3,   0.287,2,    0.03,2,  2239.3,2,  2325.2,2,   7.6374,2,       20,-999.000,1,-999.0000,1, -999.00,9,   3.0926,2, -999.00,9,  -999.0,9, -999.00,9,  -999.0,9, -999.00,9,      23.36,2,     -999.0,9, -999.00,1, 20140419,     1132, -42.3332,-150.0000,    34.6119,2,     -999.0,1,     -999.0,9,     -999.0,9,     -999.0,9,     -999.0,1,     -999.0,1
320620140320,       P16S,      49,          1,         15,         15,2,20140419,       0954,   -42.3332,  -150.0000,       5254,  1667.0,   2.7694,  34.5295,2,  34.5299,2,    168.0,2,   167.6,2,   74.12,2,   34.46,2,    0.00,2,    2.39,2,   0.297,2,   0.127,2,    0.00,2,  2256.6,2,  2339.6,2,   7.6304,2,       20,-999.000,1,-999.0000,1, -999.00,9,   2.7695,2, -999.00,9,  -999.0,9, -999.00,9,  -999.0,9, -999.00,9,      23.68,2,     -999.0,9, -999.00,1, 20140419,     1127, -42.3332,-150.0000,    34.6928,2,     -999.0,1,     -999.0,9,     -999.0,9,     -999.0,9,     -999.0,1,     -999.0,1
320620140320,       P16S,      49,          1,         14,         14,2,20140419,       0954,   -42.3332,  -150.0000,       5254,  1863.7,   2.5404,  34.5928,2,  34.5926,2,    160.0,2,   159.7,2,   89.45,2,   34.60,2,    0.00,2,    2.40,2,   0.073,2,   0.017,2,    0.00,2,  2272.6,2,  2358.1,2,   7.6323,2,       20,-999.000,9,-999.0000,9, -999.00,9,   2.5400,2, -999.00,9,  -999.0,9, -999.00,9,  -999.0,9, -999.00,9,      23.40,2,     -999.0,9, -999.00,1, 20140419,     1123, -42.3332,-150.0000,    34.7557,2,     -999.0,1,     -999.0,9,     -999.0,9,     -999.0,9,     -999.0,1,     -999.0,1
320620140320,       P16S,      49,          1,         13,         13,2,20140419,       0954,   -42.3332,  -150.0000,       5254,  2085.3,   2.3226,  34.6297,2,  34.6309,2,    155.2,2,   155.2,2,  102.14,2,   34.87,2,    0.00,2,    2.44,2,   0.011,3,   0.001,2,    0.00,2,  2287.9,2,  2374.1,2,   7.6329,2,       20,-999.000,1,-999.0000,1, -999.00,9,   2.3228,2, -999.00,9,  -999.0,9, -999.00,9,  -999.0,9, -999.00,9,      24.40,2,     -999.0,9, -999.00,1, 20140419,     1118, -42.3332,-150.0000,    34.7942,2,     -999.0,1,     -999.0,9,     -999.0,9,     -999.0,9,     -999.0,1,     -999.0,1
320620140320,       P16S,      49,          1,         12,         12,2,20140419,       0954,   -42.3332,  -150.0000,       5254,  2333.3,   2.1576,  34.6482,2,  34.6557,3,    153.5,2,   153.3,2,  110.73,2,   35.07,2,    0.00,2,    2.46,2,-999.000,9,-999.000,9, -999.00,9,  2295.8,2,  2383.5,2,   7.6339,2,       20,-999.000,9,-999.0000,9, -999.00,9,   2.1576,2, -999.00,9,  -999.0,9, -999.00,9,  -999.0,9, -999.00,9,     -999.0,9,     -999.0,9, -999.00,9, 20140419,     1112, -42.3332,-150.0000,    34.8191,3,     -999.0,9,     -999.0,9,     -999.0,9,     -999.0,9,     -999.0,9,     -999.0,9
320620140320,       P16S,      49,          1,         11,         11,2,20140419,       0954,   -42.3332,  -150.0000,       5254,  2585.1,   2.0156,  34.6622,2,  34.6633,2,    154.4,2,   154.4,2,  116.39,2,   35.13,2,    0.00,2,    2.46,2,   0.004,3,   0.000,2,    0.03,2,    2301,6,  2388.6,2,    7.637,2,       20,-999.000,1,-999.0000,1, -999.00,9,   2.0152,2, -999.00,9,  -999.0,9, -999.00,9,  -999.0,9, -999.00,9,      23.50,2,     -999.0,9, -999.00,9, 20140419,     1106, -42.3332,-150.0000,    34.8268,2,     -999.0,9,     -999.0,9,     -999.0,9,     -999.0,9,     -999.0,9,     -999.0,9
320620140320,       P16S,      49,          1,         10,         10,2,20140419,       0954,   -42.3332,  -150.0000,       5254,  2834.9,   1.9045,  34.6767,2,  34.6765,2,    159.3,2,   159.1,2,  117.27,2,   34.74,2,    0.00,2,    2.42,2,   0.010,2,   0.001,2,    0.00,2,  2297.3,2,  2387.9,2,   7.6419,2,       20,-999.000,9,-999.0000,9, -999.00,9,   1.9044,2, -999.00,9,  -999.0,9, -999.00,9,  -999.0,9, -999.00,9,      22.42,2,     -999.0,9, -999.00,9, 20140419,     1101, -42.3332,-150.0000,    34.8400,2,     -999.0,9,     -999.0,9,     -999.0,9,     -999.0,9,     -999.0,9,     -999.0,9
320620140320,       P16S,      49,          1,          9,         09,2,20140419,       0954,   -42.3332,  -150.0000,       5254,  3101.3,   1.7939,  34.6938,2,  34.6932,2,    168.5,2,   168.4,2,  114.83,2,   33.94,2,    0.00,2,    2.36,2,   0.010,2,   0.002,2,    0.00,2,  2289.3,2,  2382.2,2,   7.6513,2,       20,-999.000,9,-999.0000,1, -999.00,9,   1.7946,2, -999.00,9,  -999.0,9, -999.00,9,  -999.0,9, -999.00,9,      21.57,2,     -999.0,9, -999.00,9, 20140419,     1055, -42.3332,-150.0000,    34.8568,2,     -999.0,9,     -999.0,9,     -999.0,9,     -999.0,9,     -999.0,9,     -999.0,9
320620140320,       P16S,      49,          1,          8,         08,2,20140419,       0954,   -42.3332,  -150.0000,       5254,  3402.5,   1.6494,  34.7105,2,  34.7099,2,    181.5,2,   181.4,2,  110.73,2,   32.83,2,    0.00,2,    2.28,2,   0.011,2,   0.000,2,    0.00,2,  2275.5,2,  2372.6,2,   7.6634,2,       20,-999.000,9,-999.0000,9, -999.00,9,   1.6520,3, -999.00,9,  -999.0,9, -999.00,9,  -999.0,9, -999.00,9,      20.14,2,     -999.0,9, -999.00,9, 20140419,     1049, -42.3332,-150.0000,    34.8736,2,     -999.0,9,     -999.0,9,     -999.0,9,     -999.0,9,     -999.0,9,     -999.0,9
320620140320,       P16S,      49,          1,          7,         07,2,20140419,       0954,   -42.3332,  -150.0000,       5254,  3702.2,   1.4881,  34.7165,2,  34.7162,2,    190.9,2,   190.6,2,  110.82,2,   32.31,2,    0.00,2,    2.24,2,   0.008,2,   0.002,2,    0.00,2,  2268.8,2,  2367.9,2,   7.6707,2,       20,-999.000,9,-999.0000,1, -999.00,9,   1.4881,2, -999.00,9,  -999.0,9, -999.00,9,  -999.0,9, -999.00,9,      20.51,2,     -999.0,9, -999.00,9, 20140419,     1042, -42.3332,-150.0000,    34.8799,2,     -999.0,9,     -999.0,9,     -999.0,9,     -999.0,9,     -999.0,9,     -999.0,9
320620140320,       P16S,      49,          1,          6,         06,2,20140419,       0954,   -42.3332,  -150.0000,       5254,  4000.0,   1.3127,  34.7156,2,  34.7154,2,    197.1,2,   196.6,2,  113.56,2,   32.23,2,    0.00,2,    2.23,2,   0.004,2,   0.001,2,    0.01,2,    2266,2,  2368.4,2,   7.6764,2,       20,-999.000,9,-999.0000,9, -999.00,9,   1.3123,2, -999.00,9,  -999.0,9, -999.00,9,  -999.0,9, -999.00,9,      19.85,2,     -999.0,9, -999.00,9, 20140419,     1036, -42.3332,-150.0000,    34.8791,2,     -999.0,9,     -999.0,9,     -999.0,9,     -999.0,9,     -999.0,9,     -999.0,9