BOTTLE,20230715CCHSIOCBG
EXPOCODE,SECT_ID,STNNBR,CASTNO,SAMPNO,BTLNBR,BTLNBR_FLAG_W,DATE,TIME,LATITUDE,LONGITUDE,DEPTH,CTDPRS,CTDTMP,CTDSAL,CTDSAL_FLAG_W,SALNTY,SALNTY_FLAG_W,CTDOXY,CTDOXY_FLAG_W,OXYGEN,OXYGEN_FLAG_W,SILCAT,SILCAT_FLAG_W,NITRAT,NITRAT_FLAG_W,NITRIT,NITRIT_FLAG_W,PHSPHT,PHSPHT_FLAG_W,CFC-11,CFC-11_FLAG_W,CFC-12,CFC-12_FLAG_W,SF6,SF6_FLAG_W,TCARBN,TCARBN_FLAG_W,ALKALI,ALKALI_FLAG_W,PH_TOT,PH_TOT_FLAG_W,PH_TMP,TRITUM,TRITUM_FLAG_W,HELIUM,HELIUM_FLAG_W,DELHE3,DELHE3_FLAG_W,REFTMP,REFTMP_FLAG_W,DELC13,DELC13_FLAG_W,DELC14,DELC14_FLAG_W,DELO18,DELO18_FLAG_W,DOC,DOC_FLAG_W,TDN,TDN_FLAG_W,N2O,N2O_FLAG_W,CALCIUM,CALCIUM_FLAG_W,D15N_NO3,D15N_NO3_FLAG_W,BTL_DATE,BTL_TIME,BTL_LAT,BTL_LON,SALTREF,SALTREF_FLAG_W,D18O_NO3,D18O_NO3_FLAG_W,DSI30,DSI30_FLAG_W,CDOM_NASA,CDOM_NASA_FLAG_W,CDOM_UCSB,CDOM_UCSB_FLAG_W,D15N_NO2+NO3,D15N_NO2+NO3_FLAG_W,D18O_NO2+NO3,D18O_NO2+NO3_FLAG_W
,,,,,,,,,,,METERS,DBAR,ITS-90,PSS-78,,PSS-78,,UMOL/KG,,UMOL/KG,,UMOL/KG,,UMOL/KG,,UMOL/KG,,UMOL/KG,,PMOL/KG,,PMOL/KG,,FMOL/KG,,UMOL/KG,,UMOL/KG,,,,DEG C,TU,,NMOL/KG,,PERCNT,,DEG C,,/MILLE,,/MILLE,,/MILLE,,UMOL/KG,,UMOL/KG,,NMOL/KG,,MMOL/KG,,/MILLE,,,,,,G/KG,,/MILLE,,/MILLE,,,,,,/MILLE,,/MILLE,
320620140320,       P16S,      44,          1,         36,         36,2,20140417,       1109,   -45.6664,  -149.9998,       5162,     4.7,  13.9502,  34.3454,2,  34.3464,2,    258.7,2,   258.5,2,    0.00,2,    6.04,2,    0.09,2,    0.54,2,   2.830,2,   1.645,2,    1.94,2,  2059.7,6,  2279.2,2,   7.9815,2,       20,-999.000,1,-999.0000,1, -999.00,9,  13.9503,2, -999.00,9,  -999.0,9, -999.00,1,    60.5,2,   11.37,2,       9.21,2,     -999.0,9, -999.00,9, 20140417,     1334, -45.6664,-149.9999,    34.5083,2,     -999.0,9,     -999.0,9,     -999.0,9,     -999.0,9,     -999.0,9,     -999.0,9
320620140320,       P16S,      44,          1,         35,         35,2,20140417,       1109,   -45.6664,  -149.9998,       5162,    34.5,  13.9435,  34.3460,2,  34.3477,2,    259.8,2,   258.7,2,    0.00,2,    6.04,2,    0.09,2,    0.55,2,-999.000,9,-999.000,9, -999.00,9,  2060.2,2,  2278.6,2,   7.9817,6,       20,-999.000,1,-999.0000,1, -999.00,9,  13.9437,2, -999.00,9,  -999.0,9, -999.00,1,    60.8,2,   10.73,2,     -999.0,9,     -999.0,9, -999.00,9, 20140417,     1332, -45.6666,-149.9998,    34.5097,2,     -999.0,9,     -999.0,9,     -999.0,9,     -999.0,9,     -999.0,9,     -999.0,9
320620140320,       P16S,      44,          1,         34,         34,2,20140417,       1109,   -45.6664,  -149.9998,       5162,    60.1,  13.1876,  34.3771,2,  34.3789,2,    260.0,2,   260.9,2,    0.00,2,    6.92,2,    0.11,2,    0.62,2,   3.077,2,   1.739,2,    1.71,2,  2068.7,2,  2280.6,6,   7.9646,2,       20,-999.000,1,-999.0000,1, -999.00,9,  13.0552,3, -999.00,9,  -999.0,9, -999.00,1,    57.6,2,   13.91,2,       9.70,2,     -999.0,9, -999.00,9, 20140417,     1330, -45.6666,-149.9998,    34.5410,2,     -999.0,9,     -999.0,9,     -999.0,9,     -999.0,9,     -999.0,9,     -999.0,9
320620140320,       P16S,      44,          1,         33,         33,2,20140417,       1109,   -45.6664,  -149.9998,       5162,    85.7,   9.1828,  34.4589,2,  34.4584,2,    274.2,2,   273.6,2,    1.66,2,   10.82,2,    0.47,2,    0.91,2,-999.000,9,-999.000,9, -999.00,9,  2109.8,2,    2282,2,   7.8815,2,       20,-999.000,1,-999.0000,1, -999.00,9,   9.1863,2, -999.00,9,  -999.0,9, -999.00,1,    53.3,2,    15.9,2,     -999.0,9,     -999.0,9, -999.00,9, 20140417,     1329, -45.6666,-149.9998,    34.6209,2,     -999.0,9,     -999.0,9,     -999.0,9,     -999.0,9,     -999.0,9,     -999.0,9
320620140320,       P16S,      44,          1,         32,         32,2,20140417,       1109,   -45.6664,  -149.9998,       5162,   115.8,   8.6783,  34.4801,2,  34.4796,2,    268.2,2,   268.9,2,    2.15,2,   13.21,2,    0.11,2,    0.98,2,   3.775,2,   2.089,2,    2.06,2,  2115.5,2,  2281.8,2,   7.8603,2,       20,-999.000,1,-999.0000,1, -999.00,9,   8.6802,2, -999.00,9,  -999.0,9, -999.00,1,    52.9,2,    17.5,2,      12.09,2,     -999.0,9, -999.00,9, 20140417,     1327, -45.6666,-149.9999,    34.6422,2,     -999.0,9,     -999.0,9,     -999.0,9,     -999.0,9,     -999.0,9,     -999.0,9
320620140320,       P16S,      44,          1,         31,         31,2,20140417,       1109,   -45.6664,  -149.9998,       5162,   163.5,   8.5284,  34.5043,2,  34.5051,2,    270.3,2,   267.7,2,    2.25,2,   13.86,2,    0.02,2,    1.00,2,-999.000,9,-999.000,9, -999.00,9,  2118.6,2,  2283.8,2,   7.8564,2,       20,-999.000,1,-999.0000,1, -999.00,9,   8.5317,2, -999.00,9,  -999.0,9, -999.00,1,    51.6,2,   19.31,2,     -999.0,9,     -999.0,9, -999.00,9, 20140417,     1325, -45.6666,-149.9998,    34.6678,2,     -999.0,9,     -999.0,9,     -999.0,9,     -999.0,9,     -999.0,9,     -999.0,9
320620140320,       P16S,      44,          1,         30,         30,2,20140417,       1109,   -45.6664,  -149.9998,       5162,   215.9,   8.4104,  34.5011,2,  34.5012,2,    268.6,2,   268.9,2,    2.34,2,   14.20,2,    0.02,2,    1.03,2,   3.788,2,   2.108,2,    1.94,2,  2119.3,2,  2284.2,2,    7.856,2,       20,-999.000,9,-999.0000,9, -999.00,9,   8.4100,2, -999.00,9,  -999.0,9, -999.00,1,    50.7,2,    18.9,2,      12.65,2,     -999.0,9, -999.00,9, 20140417,     1322, -45.6666,-149.9998,    34.6638,2,     -999.0,9,     -999.0,9,     -999.0,9,     -999.0,9,     -999.0,9,     -999.0,9
320620140320,       P16S,      44,          1,         29,         29,2,20140417,       1109,   -45.6664,  -149.9998,       5162,   265.1,   8.3084,  34.5006,2,  34.5004,2,    270.1,2,   269.5,2,    2.64,2,   14.67,2,    0.02,2,    1.05,2,-999.000,9,-999.000,9, -999.00,9,  2120.1,2,  2284.4,2,   7.8537,2,       20,-999.000,1,-999.0000,1, -999.00,9,   8.3084,2, -999.00,9,  -999.0,9, -999.00,1,    50.6,2,   17.68,2,     -999.0,9,     -999.0,9, -999.00,9, 20140417,     1320, -45.6666,-149.9999,    34.6630,2,     -999.0,9,     -999.0,9,     -999.0,9,     -999.0,9,     -999.0,9,     -999.0,9
320620140320,       P16S,      44,          1,         28,         28,2,20140417,       1109,   -45.6664,  -149.9998,       5162,   313.6,   8.2583,  34.4991,2,  34.5001,2,    270.2,2,   269.9,2,    2.73,2,   14.86,2,    0.02,2,    1.06,2,   3.803,2,   2.095,2,    2.00,2,  2121.8,2,  2283.8,2,   7.8532,2,       20,-999.000,9,-999.0000,9, -999.00,9,   8.2588,2, -999.00,9,  -999.0,9, -999.00,1,    45.9,2,   18.58,2,      12.49,2,     -999.0,9, -999.00,9, 20140417,     1318, -45.6665,-149.9998,    34.6628,2,     -999.0,9,     -999.0,9,     -999.0,9,     -999.0,9,     -999.0,9,     -999.0,9
320620140320,       P16S,      44,          1,         27,         27,2,20140417,       1109,   -45.6664,  -149.9998,       5162,   365.1,   8.1319,  34.4839,2,  34.4840,2,    266.8,2,   265.9,2,    3.13,2,   15.94,2,    0.01,2,    1.13,2,   3.861,2,   2.126,2,    1.83,2,  2126.1,2,  2283.4,2,   7.8423,2,       20,-999.000,1,-999.0000,1, -999.00,9,   8.1330,2, -999.00,9,  -999.0,9, -999.00,1,    45.7,2,   19.69,2,      13.69,2,     -999.0,9, -999.00,9, 20140417,     1316, -45.6664,-149.9999,    34.6466,2,     -999.0,9,     -999.0,9,     -999.0,9,     -999.0,9,     -999.0,9,     -999.0,9
320620140320,       P16S,      44,          1,         26,         26,2,20140417,       1109,   -45.6664,  -149.9998,       5162,   434.4,   7.9036,  34.4551,2,  34.4558,2,    263.5,2,   261.0,2,    3.91,2,   17.46,2,    0.01,2,    1.22,2,-999.000,9,-999.000,9, -999.00,9,  2130.2,2,    2283,2,   7.8294,2,       20,-999.000,9,-999.0000,9, -999.00,9,   7.9028,2, -999.00,9,  -999.0,9, -999.00,1,    45.2,2,    21.5,2,     -999.0,9,     -999.0,9, -999.00,9, 20140417,     1313, -45.6664,-149.9999,    34.6182,2,     -999.0,9,     -999.0,9,     -999.0,9,     -999.0,9,     -999.0,9,     -999.0,9
320620140320,       P16S,      44,          1,         25,         25,2,20140417,       1109,   -45.6664,  -149.9998,       5162,   534.1,   7.5773,  34.4186,2,  34.4212,2,    258.7,2,   255.4,2,    4.88,2,   19.22,2,    0.01,2,    1.34,2,   3.811,2,   2.092,2,    1.61,2,  2135.4,2,  2281.6,2,   7.8132,2,       20,-999.000,1,-999.0000,1, -999.00,9,   7.5755,2, -999.00,9,  -999.0,9, -999.00,1,    44.9,2,   22.97,2,      13.94,2,     -999.0,9, -999.00,9, 20140417,     1310, -45.6664,-149.9999,    34.5835,2,     -999.0,9,     -999.0,9,     -999.0,9,     -999.0,9,     -999.0,9,     -999.0,9
320620140320,       P16S,      44,          1,         24,         24,2,20140417,       1109,   -45.6664,  -149.9998,       5162,   634.1,   7.2798,  34.3932,2,  34.3939,2,    250.6,2,   250.6,2,    6.06,2,   20.71,2,    0.01,2,    1.44,2,   3.829,2,   2.039,2,    1.49,2,  2140.9,6,    2282,2,   7.8001,2,       20,-999.000,9,-999.0000,9, -999.00,9,   7.2800,2, -999.00,9,  -999.0,9, -999.00,1,    44.9,2, -999.00,9,      14.27,2,     -999.0,9, -999.00,9, 20140417,     1307, -45.6662,-150.0000,    34.5561,2,     -999.0,9,     -999.0,9,     -999.0,9,     -999.0,9,     -999.0,9,     -999.0,9
320620140320,       P16S,      44,          1,         23,         23,2,20140417,       1109,   -45.6664,  -149.9998,       5162,   734.5,   6.9324,  34.3669,2,  34.3674,2,    246.4,2,   247.3,2,    7.52,2,   21.94,2,    0.01,2,    1.50,2,-999.000,9,-999.000,9, -999.00,9,  2145.3,2,  2281.6,2,   7.7898,2,       20,-999.000,1,-999.0000,1, -999.00,9,   6.9325,2, -999.00,9,  -999.0,9, -999.00,1,    41.1,2, -999.00,9,     -999.0,9,     -999.0,9, -999.00,9, 20140417,     1304, -45.6662,-149.9998,    34.5294,2,     -999.0,9,     -999.0,9,     -999.0,9,     -999.0,9,     -999.0,9,     -999.0,9
320620140320,       P16S,      44,          1,         22,         22,2,20140417,       1109,   -45.6664,  -149.9998,       5162,   834.9,   6.5063,  34.3402,2,  34.3409,2,    238.0,2,   238.8,2,   10.16,2,   23.69,2,    0.01,2,    1.62,2,   3.369,2,   1.760,2,    1.23,2,  2152.6,2,  2282.2,2,   7.7718,2,       20,-999.000,9,-999.0000,9, -999.00,9,   6.5056,2, -999.00,9,  -999.0,9, -999.00,1,      42,2, -999.00,9,      16.04,2,     -999.0,9, -999.00,9, 20140417,     1301, -45.6664,-149.9998,    34.5028,2,     -999.0,9,     -999.0,9,     -999.0,9,     -999.0,9,     -999.0,9,     -999.0,9
320620140320,       P16S,      44,          1,         21,         21,2,20140417,       1109,   -45.6664,  -149.9998,       5162,   935.8,   6.0320,  34.3222,2,  34.3234,2,    227.2,2,   228.3,2,   13.87,2,   25.62,2,    0.01,2,    1.74,2,   2.980,2,   1.539,2,    0.86,2,    2162,2,    2284,2,   7.7509,2,       20,-999.000,1,-999.0000,1, -999.00,9,   6.0314,2, -999.00,9,  -999.0,9, -999.00,9,    41.3,2, -999.00,9,      16.74,2,     -999.0,9, -999.00,9, 20140417,     1258, -45.6667,-149.9999,    34.4852,2,     -999.0,9,     -999.0,9,     -999.0,9,     -999.0,9,     -999.0,9,     -999.0,9
320620140320,       P16S,      44,          1,         20,         20,2,20140417,       1109,   -45.6664,  -149.9998,       5162,  1035.8,   5.4163,  34.3160,2,  34.3167,2,    216.7,2,   217.1,2,   20.12,2,   27.82,2,    0.01,2,    1.89,2,-999.000,9,-999.000,9, -999.00,9,  2176.3,2,  2287.8,2,   7.7226,2,       20,-999.000,9,-999.0000,9, -999.00,9,   5.4165,2, -999.00,9,  -999.0,9, -999.00,9,    39.7,2, -999.00,9,     -999.0,9,     -999.0,9, -999.00,9, 20140417,     1255, -45.6667,-149.9999,    34.4785,2,     -999.0,9,     -999.0,9,     -999.0,9,     -999.0,9,     -999.0,9,     -999.0,9
320620140320,       P16S,      44,          1,         19,         19,2,20140417,       1109,   -45.6664,  -149.9998,       5162,  1136.0,   4.8634,  34.3186,2,  34.3200,2,    208.6,2,   209.5,2,   26.66,2,   29.50,2,    0.01,2,    2.01,2,   2.201,2,   1.141,2,    0.51,2,  2188.1,2,  2293.8,2,   7.7002,2,       20,-999.000,1,-999.0000,1, -999.00,9,   4.8712,3, -999.00,9,  -999.0,9, -999.00,9,    38.9,2, -999.00,9,      19.63,2,     -999.0,9, -999.00,9, 20140417,     1253, -45.6665,-149.9999,    34.4819,2,     -999.0,9,     -999.0,9,     -999.0,9,     -999.0,9,     -999.0,9,     -999.0,9
320620140320,       P16S,      44,          1,         18,         18,2,20140417,       1109,   -45.6664,  -149.9998,       5162,  1235.2,   4.3418,  34.3292,2,  34.3302,2,    203.2,2,   203.5,2,   33.50,2,   30.94,2,    0.01,2,    2.11,2,   1.912,2,   0.963,2,    0.42,2,  2199.8,2,  2298.6,2,   7.6826,2,       20,-999.000,1,-999.0000,1, -999.00,9,   4.3375,2, -999.00,9,  -999.0,9, -999.00,9,    38.4,2, -999.00,9,      20.03,2,     -999.0,9, -999.00,9, 20140417,     1250, -45.6660,-150.0001,    34.4921,2,     -999.0,9,     -999.0,9,     -999.0,9,     -999.0,9,     -999.0,9,     -999.0,9
320620140320,       P16S,      44,          1,         17,         17,2,20140417,       1109,   -45.6664,  -149.9998,       5162,  1333.9,   3.8123,  34.3548,2,  34.3557,2,    197.3,2,   196.3,2,   42.39,2,   32.19,2,    0.01,2,    2.20,2,   1.578,2,   0.799,2,    0.22,2,  2212.8,2,  2305.3,2,    7.665,2,       20,-999.000,1,-999.0000,1, -999.00,9,   3.8135,2, -999.00,9,  -999.0,9, -999.00,9,    40.7,2, -999.00,9,      20.47,2,     -999.0,9, -999.00,9, 20140417,     1246, -45.6661,-149.9998,    34.5177,2,     -999.0,9,     -999.0,9,     -999.0,9,     -999.0,9,     -999.0,9,     -999.0,9
320620140320,       P16S,      44,          1,         16,         16,2,20140417,       1109,   -45.6664,  -149.9998,       5162,  1465.1,   3.3520,  34.4002,2,  34.4018,2,    188.0,2,   186.8,2,   52.25,2,   33.35,2,    0.01,2,    2.29,2,-999.000,9,-999.000,9, -999.00,9,  2227.3,2,  2316.2,2,   7.6463,2,       20,-999.000,1,-999.0000,1, -999.00,9,   3.3507,2, -999.00,9,  -999.0,9, -999.00,9,    38.4,2, -999.00,9,     -999.0,9,     -999.0,9, -999.00,9, 20140417,     1243, -45.6668,-149.9999,    34.5640,2,     -999.0,9,     -999.0,9,     -999.0,9,     -999.0,9,     -999.0,9,     -999.0,9
320620140320,       P16S,      44,          1,         15,         15,2,20140417,       1109,   -45.6664,  -149.9998,       5162,  1665.4,   2.9150,  34.4856,2,  34.4860,2,    174.9,2,   174.1,2,   66.21,2,   34.27,2,    0.01,2,    2.35,2,   0.594,2,   0.295,2,    0.05,2,  2246.7,2,  2330.3,2,   7.6309,2,       20,-999.000,1,-999.0000,1, -999.00,9,   2.9150,2, -999.00,9,  -999.0,9, -999.00,9,    44.5,4, -999.00,9,      23.72,2,     -999.0,9, -999.00,9, 20140417,     1238, -45.6668,-149.9998,    34.6486,2,     -999.0,9,     -999.0,9,     -999.0,9,     -999.0,9,     -999.0,9,     -999.0,9
320620140320,       P16S,      44,          1,         14,         14,2,20140417,       1109,   -45.6664,  -149.9998,       5162,  1864.6,   2.6564,  34.5594,2,  34.5594,2,    166.4,2,   165.9,2,   78.51,2,   34.42,2,    0.01,2,    2.36,2,   0.233,2,   0.112,2,    0.04,2,  2261.2,2,  2345.1,2,   7.6293,2,       20,-999.000,9,-999.0000,9, -999.00,9,   2.6562,2, -999.00,9,  -999.0,9, -999.00,9,    40.4,2, -999.00,9,      23.66,2,     -999.0,9, -999.00,9, 20140417,     1234, -45.6662,-150.0000,    34.7224,2,     -999.0,9,     -999.0,9,     -999.0,9,     -999.0,9,     -999.0,9,     -999.0,9
320620140320,       P16S,      44,          1,         13,         13,2,20140417,       1109,   -45.6664,  -149.9998,       5162,  2083.6,   2.4454,  34.6147,2,  34.6162,2,    159.9,2,   159.5,2,   93.84,2,   34.60,2,    0.00,2,    2.39,2,   0.066,2,   0.025,2,    0.02,2,  2277.5,2,  2364.3,2,   7.6328,2,       20,-999.000,1,-999.0000,1, -999.00,9,   2.4453,2, -999.00,9,  -999.0,9, -999.00,9,    37.3,2, -999.00,9,      22.94,2,     -999.0,9, -999.00,9, 20140417,     1229, -45.6659,-150.0000,    34.7794,2,     -999.0,9,     -999.0,9,     -999.0,9,     -999.0,9,     -999.0,9,     -999.0,9
320620140320,       P16S,      44,          1,         12,         12,2,20140417,       1109,   -45.6664,  -149.9998,       5162,  2333.6,   2.2339,  34.6448,2,  34.6462,2,    156.2,2,   156.0,2,  105.46,2,   34.93,2,    0.00,2,    2.41,2,-999.000,9,-999.000,9, -999.00,9,  2290.3,6,  2378.4,2,   7.6357,2,       20,-999.000,9,-999.0000,9, -999.00,9,   2.2338,2, -999.00,9,  -999.0,9, -999.00,9,    37.6,2, -999.00,9,     -999.0,9,     -999.0,9, -999.00,9, 20140417,     1223, -45.6661,-149.9999,    34.8096,2,     -999.0,9,     -999.0,9,     -999.0,9,     -999.0,9,     -999.0,9,     -999.0,9
320620140320,       P16S,      44,          1,         11,         11,2,20140417,       1109,   -45.6664,  -149.9998,       5162,  2583.6,   2.0889,  34.6604,2,  34.6611,2,    156.3,2,   156.1,2,  112.20,2,   34.98,2,    0.00,2,    2.41,2,   0.008,2,   0.001,2,    0.00,2,    2296,2,  2384.8,2,   7.6375,2,       20,-999.000,1,-999.0000,1, -999.00,9,   2.0890,2, -999.00,9,  -999.0,9, -999.00,9,    35.2,2, -999.00,9,      24.73,2,     -999.0,9, -999.00,9, 20140417,     1218, -45.6666,-149.9998,    34.8246,2,     -999.0,9,     -999.0,9,     -999.0,9,     -999.0,9,     -999.0,9,     -999.0,9
320620140320,       P16S,      44,          1,         10,         10,2,20140417,       1109,   -45.6664,  -149.9998,       5162,  2834.9,   1.9525,  34.6728,2,  34.6729,2,    158.1,2,   157.8,2,  116.00,2,   34.88,2,    0.00,2,    2.41,2,-999.000,9,-999.000,9, -999.00,9,  2299.1,2,  2390.9,2,   7.6405,2,       20,-999.000,9,-999.0000,9, -999.00,9,   1.9520,2, -999.00,9,  -999.0,9, -999.00,9,  -999.0,5, -999.00,9,     -999.0,9,     -999.0,9, -999.00,9, 20140417,     1212, -45.6660,-150.0000,    34.8364,2,     -999.0,9,     -999.0,9,     -999.0,9,     -999.0,9,     -999.0,9,     -999.0,9
320620140320,       P16S,      44,          1,          9,         09,2,20140417,       1109,   -45.6664,  -149.9998,       5162,  3099.5,   1.8392,  34.6875,2,  34.6878,2,    163.7,2,   164.4,2,  116.78,2,   34.24,2,    0.00,2,    2.35,2,   0.001,2,   0.001,2,    0.04,2,  2294.3,2,  2386.8,2,   7.6478,2,       20,-999.000,9,-999.0000,1, -999.00,9,   1.8394,2, -999.00,9,  -999.0,9, -999.00,9,      36,2, -999.00,9,      22.22,2,     -999.0,9, -999.00,9, 20140417,     1206, -45.6656,-149.9998,    34.8514,2,     -999.0,9,     -999.0,9,     -999.0,9,     -999.0,9,     -999.0,9,     -999.0,9
320620140320,       P16S,      44,          1,          8,         08,2,20140417,       1109,   -45.6664,  -149.9998,       5162,  3402.1,   1.7123,  34.7039,2,  34.7041,2,    176.6,2,   176.2,2,  113.07,2,   33.24,2,    0.00,2,    2.28,2,   0.001,2,   0.000,2,    0.00,2,  2282.3,2,  2378.2,2,   7.6584,2,       20,-999.000,9,-999.0000,9, -999.00,9,   1.7126,2, -999.00,9,  -999.0,9, -999.00,9,    36.8,2, -999.00,9,      22.04,2,     -999.0,9, -999.00,9, 20140417,     1159, -45.6662,-149.9997,    34.8678,2,     -999.0,9,     -999.0,9,     -999.0,9,     -999.0,9,     -999.0,9,     -999.0,9
320620140320,       P16S,      44,          1,          7,         07,2,20140417,       1109,   -45.6664,  -149.9998,       5162,  3699.5,   1.5521,  34.7146,2,  34.7155,2,    187.7,2,   187.6,2,  110.73,2,   32.52,2,    0.00,2,    2.24,2,   0.000,2,   0.000,2,    0.00,2,  2270.7,2,  2370.9,2,   7.6687,2,       20,-999.000,9,-999.0000,1, -999.00,9,   1.5516,2, -999.00,9,  -999.0,9, -999.00,9,    38.2,2, -999.00,9,      20.25,2,     -999.0,9, -999.00,9, 20140417,     1153, -45.6668,-149.9999,    34.8792,2,     -999.0,9,     -999.0,9,     -999.0,9,     -999.0,9,     -999.0,9,     -999.0,9
320620140320,       P16S,      44,          1,          6,         06,2,20140417,       1109,   -45.6664,  -149.9998,       5162,  3999.5,   1.4006,  34.7231,2,  34.7232,2,    197.4,2,   198.4,2,  110.24,2,   31.80,2,    0.00,2,    2.17,2,   0.036,2,   0.014,2,    0.04,2,  2261.5,2,  2364.4,2,   7.6772,2,       20,-999.000,9,-999.0000,9, -999.00,9,   1.3996,2, -999.00,9,  -999.0,9, -999.00,9,    37.8,2, -999.00,9,      21.31,2,     -999.0,9, -999.00,9, 20140417,     1147, -45.6671,-149.9999,    34.8869,2,     -999.0,9,     -999.0,9,     -999.0,9,     -999.0,9,     -999.0,9,     -999.0,9