BOTTLE,20230715CCHSIOCBG
EXPOCODE,SECT_ID,STNNBR,CASTNO,SAMPNO,BTLNBR,BTLNBR_FLAG_W,DATE,TIME,LATITUDE,LONGITUDE,DEPTH,CTDPRS,CTDTMP,CTDSAL,CTDSAL_FLAG_W,SALNTY,SALNTY_FLAG_W,CTDOXY,CTDOXY_FLAG_W,OXYGEN,OXYGEN_FLAG_W,SILCAT,SILCAT_FLAG_W,NITRAT,NITRAT_FLAG_W,NITRIT,NITRIT_FLAG_W,PHSPHT,PHSPHT_FLAG_W,CFC-11,CFC-11_FLAG_W,CFC-12,CFC-12_FLAG_W,SF6,SF6_FLAG_W,TCARBN,TCARBN_FLAG_W,ALKALI,ALKALI_FLAG_W,PH_TOT,PH_TOT_FLAG_W,PH_TMP,TRITUM,TRITUM_FLAG_W,HELIUM,HELIUM_FLAG_W,DELHE3,DELHE3_FLAG_W,REFTMP,REFTMP_FLAG_W,DELC13,DELC13_FLAG_W,DELC14,DELC14_FLAG_W,DELO18,DELO18_FLAG_W,DOC,DOC_FLAG_W,TDN,TDN_FLAG_W,N2O,N2O_FLAG_W,CALCIUM,CALCIUM_FLAG_W,D15N_NO3,D15N_NO3_FLAG_W,BTL_DATE,BTL_TIME,BTL_LAT,BTL_LON,SALTREF,SALTREF_FLAG_W,D18O_NO3,D18O_NO3_FLAG_W,DSI30,DSI30_FLAG_W,CDOM_NASA,CDOM_NASA_FLAG_W,CDOM_UCSB,CDOM_UCSB_FLAG_W,D15N_NO2+NO3,D15N_NO2+NO3_FLAG_W,D18O_NO2+NO3,D18O_NO2+NO3_FLAG_W
,,,,,,,,,,,METERS,DBAR,ITS-90,PSS-78,,PSS-78,,UMOL/KG,,UMOL/KG,,UMOL/KG,,UMOL/KG,,UMOL/KG,,UMOL/KG,,PMOL/KG,,PMOL/KG,,FMOL/KG,,UMOL/KG,,UMOL/KG,,,,DEG C,TU,,NMOL/KG,,PERCNT,,DEG C,,/MILLE,,/MILLE,,/MILLE,,UMOL/KG,,UMOL/KG,,NMOL/KG,,MMOL/KG,,/MILLE,,,,,,G/KG,,/MILLE,,/MILLE,,,,,,/MILLE,,/MILLE,
320620140320,       P16S,      31,          1,          5,         05,2,20140412,       1125,   -53.0005,  -150.0001,       4578,  3200.2,   1.5274,  34.7320,2,  34.7325,2,    197.5,2,   197.6,2,  101.78,2,   31.35,2,    0.00,2,    2.17,2,   0.131,2,   0.033,2,    0.07,2,  2255.2,2,  2358.8,2,    7.676,2,       20,-999.000,9,-999.0000,9, -999.00,9,   1.5278,2, -999.00,9,  -999.0,9, -999.00,9,    39.3,2, -999.00,9,      20.26,2,     -999.0,9, -999.00,9, 20140412,     1148, -52.9998,-149.9992,    34.8962,2,     -999.0,9,     -999.0,9,     -999.0,9,     -999.0,9,     -999.0,9,     -999.0,9
320620140320,       P16S,      31,          1,          4,         04,2,20140412,       1125,   -53.0005,  -150.0001,       4578,  3501.5,   1.3152,  34.7247,2,  34.7250,2,    200.6,2,   200.7,2,  109.20,2,   31.69,2,    0.00,2,    2.20,2,-999.000,9,-999.000,9, -999.00,9,  -999.0,9,  -999.0,9,-999.0000,9,  -999.00,-999.000,9,-999.0000,1, -999.00,9,   1.3144,2, -999.00,9,  -999.0,9, -999.00,9,    39.6,2, -999.00,9,     -999.0,9,     -999.0,9, -999.00,9, 20140412,     1142, -53.0001,-149.9997,    34.8887,2,     -999.0,9,     -999.0,9,     -999.0,9,     -999.0,9,     -999.0,9,     -999.0,9
320620140320,       P16S,      31,          1,          3,         03,2,20140412,       1125,   -53.0005,  -150.0001,       4578,  3799.8,   1.1329,  34.7170,2,  34.7175,2,    203.4,2,   203.4,2,  115.45,2,   32.00,2,    0.00,2,    2.21,2,   0.147,2,   0.041,2,    0.03,2,  2260.3,2,  2363.6,6,   7.6734,2,       20,-999.000,1,-999.0000,1, -999.00,9,   1.1332,2, -999.00,9,  -999.0,9, -999.00,9,    39.2,2, -999.00,9,      19.22,2,     -999.0,9, -999.00,9, 20140412,     1136, -53.0000,-149.9995,    34.8812,2,     -999.0,9,     -999.0,9,     -999.0,9,     -999.0,9,     -999.0,9,     -999.0,9
320620140320,       P16S,      31,          1,          2,         02,2,20140412,       1125,   -53.0005,  -150.0001,       4578,  3998.9,   1.0562,  34.7132,2,  34.7131,2,    204.2,2,   204.3,2,  119.36,2,   32.14,2,    0.00,2,    2.23,2,   0.150,2,   0.041,2,    0.07,2,  2261.9,6,  2365.1,2,   7.6732,2,       20,-999.000,9,-999.0000,1, -999.00,9,   1.0560,2, -999.00,9,  -999.0,9, -999.00,9,    38.2,2, -999.00,9,      19.81,2,     -999.0,9, -999.00,9, 20140412,     1131, -53.0000,-149.9995,    34.8768,2,     -999.0,9,     -999.0,9,     -999.0,9,     -999.0,9,     -999.0,9,     -999.0,9
320620140320,       P16S,      31,          1,          1,         01,2,20140412,       1125,   -53.0005,  -150.0001,       4578,  4206.0,   1.0486,  34.7122,2,  34.7129,2,    204.6,2,   204.5,2,  120.44,2,   32.16,2,    0.00,2,    2.23,2,   0.162,6,   0.049,6,    0.03,6,  2263.6,2,  2366.4,2,   7.6731,6,       20,-999.000,1,-999.0000,1, -999.00,9,   1.0485,2, -999.00,9,  -999.0,9, -999.00,9,    40.5,2, -999.00,9,      19.50,6,     -999.0,9, -999.00,9, 20140412,     1125, -53.0005,-150.0000,    34.8766,2,     -999.0,9,     -999.0,9,     -999.0,9,     -999.0,9,     -999.0,9,     -999.0,9