BOTTLE,20230715CCHSIOCBG
EXPOCODE,SECT_ID,STNNBR,CASTNO,SAMPNO,BTLNBR,BTLNBR_FLAG_W,DATE,TIME,LATITUDE,LONGITUDE,DEPTH,CTDPRS,CTDTMP,CTDSAL,CTDSAL_FLAG_W,SALNTY,SALNTY_FLAG_W,CTDOXY,CTDOXY_FLAG_W,OXYGEN,OXYGEN_FLAG_W,SILCAT,SILCAT_FLAG_W,NITRAT,NITRAT_FLAG_W,NITRIT,NITRIT_FLAG_W,PHSPHT,PHSPHT_FLAG_W,CFC-11,CFC-11_FLAG_W,CFC-12,CFC-12_FLAG_W,SF6,SF6_FLAG_W,TCARBN,TCARBN_FLAG_W,ALKALI,ALKALI_FLAG_W,PH_TOT,PH_TOT_FLAG_W,PH_TMP,TRITUM,TRITUM_FLAG_W,HELIUM,HELIUM_FLAG_W,DELHE3,DELHE3_FLAG_W,REFTMP,REFTMP_FLAG_W,DELC13,DELC13_FLAG_W,DELC14,DELC14_FLAG_W,DELO18,DELO18_FLAG_W,DOC,DOC_FLAG_W,TDN,TDN_FLAG_W,N2O,N2O_FLAG_W,CALCIUM,CALCIUM_FLAG_W,D15N_NO3,D15N_NO3_FLAG_W,BTL_DATE,BTL_TIME,BTL_LAT,BTL_LON,SALTREF,SALTREF_FLAG_W,D18O_NO3,D18O_NO3_FLAG_W,DSI30,DSI30_FLAG_W,CDOM_NASA,CDOM_NASA_FLAG_W,CDOM_UCSB,CDOM_UCSB_FLAG_W,D15N_NO2+NO3,D15N_NO2+NO3_FLAG_W,D18O_NO2+NO3,D18O_NO2+NO3_FLAG_W
,,,,,,,,,,,METERS,DBAR,ITS-90,PSS-78,,PSS-78,,UMOL/KG,,UMOL/KG,,UMOL/KG,,UMOL/KG,,UMOL/KG,,UMOL/KG,,PMOL/KG,,PMOL/KG,,FMOL/KG,,UMOL/KG,,UMOL/KG,,,,DEG C,TU,,NMOL/KG,,PERCNT,,DEG C,,/MILLE,,/MILLE,,/MILLE,,UMOL/KG,,UMOL/KG,,NMOL/KG,,MMOL/KG,,/MILLE,,,,,,G/KG,,/MILLE,,/MILLE,,,,,,/MILLE,,/MILLE,
320620140320,       P16S,      57,          1,          5,         05,2,20140422,       1720,   -37.0001,  -149.9998,       5929,  4400.2,   1.2757,  34.7126,2,  34.7135,2,    197.9,2,   198.3,2,  115.84,2,   32.58,2,    0.00,2,    2.24,2,   0.006,2,   0.001,2,    0.00,2,  2265.3,2,  2368.9,2,   7.6768,2,       20,-999.000,9,-999.0000,9, -999.00,9,   1.2769,2, -999.00,9,  -999.0,9, -999.00,9,  -999.0,9, -999.00,9,      21.41,2,     -999.0,9, -999.00,9, 20140422,     1755, -37.0001,-149.9997,    34.8771,2,     -999.0,9,     -999.0,9,     -999.0,9,     -999.0,9,     -999.0,9,     -999.0,9
320620140320,       P16S,      57,          1,          4,         04,2,20140422,       1720,   -37.0001,  -149.9998,       5929,  4799.7,   1.1799,  34.7116,2,  34.7125,2,    201.7,2,   202.0,2,  117.89,2,   32.59,2,    0.00,2,    2.23,2,   0.010,2,   0.002,2,    0.01,2,  2266.1,2,  2370.8,2,   7.6786,2,       20,-999.000,9,-999.0000,9, -999.00,9,   1.1797,2, -999.00,9,  -999.0,9, -999.00,9,  -999.0,9, -999.00,9,      19.90,2,     -999.0,9, -999.00,9, 20140422,     1747, -37.0001,-149.9997,    34.8761,2,     -999.0,9,     -999.0,9,     -999.0,9,     -999.0,9,     -999.0,9,     -999.0,9
320620140320,       P16S,      57,          1,          3,         03,2,20140422,       1720,   -37.0001,  -149.9998,       5929,  5200.4,   1.1451,  34.7096,2,  34.7103,2,    203.6,2,   204.4,2,  119.65,2,   32.52,2,    0.00,2,    2.24,2,   0.027,2,   0.009,2,    0.01,2,  2264.5,2,  2367.9,2,   7.6769,2,       20,-999.000,9,-999.0000,9, -999.00,9,   1.1449,2, -999.00,9,  -999.0,9, -999.00,9,  -999.0,9, -999.00,9,      20.48,2,     -999.0,9, -999.00,9, 20140422,     1736, -37.0001,-149.9998,    34.8740,2,     -999.0,9,     -999.0,9,     -999.0,9,     -999.0,9,     -999.0,9,     -999.0,9
320620140320,       P16S,      57,          1,          2,         02,2,20140422,       1720,   -37.0001,  -149.9998,       5929,  5420.4,   1.1533,  34.7093,2,  34.7091,2,    204.1,2,   204.7,2,  120.24,2,   32.51,2,    0.00,2,    2.23,2,   0.043,2,   0.013,2,    0.02,2,  2263.6,2,  2368.8,2,   7.6765,2,       20,-999.000,9,-999.0000,9, -999.00,9,   1.1536,2, -999.00,9,  -999.0,9, -999.00,9,  -999.0,9, -999.00,9,      20.02,2,     -999.0,9, -999.00,9, 20140422,     1729, -37.0001,-149.9998,    34.8728,2,     -999.0,9,     -999.0,9,     -999.0,9,     -999.0,9,     -999.0,9,     -999.0,9
320620140320,       P16S,      57,          1,          1,         01,2,20140422,       1720,   -37.0001,  -149.9998,       5929,  5664.6,   1.1780,  34.7090,2,  34.7101,2,    204.9,2,   204.4,2,  120.24,2,   32.43,2,    0.00,2,    2.23,2,   0.048,6,   0.014,6,    0.03,6,  2265.1,6,  2368.6,2,   7.6767,2,       20,-999.000,9,-999.0000,9, -999.00,9,   1.1779,2, -999.00,9,  -999.0,9, -999.00,9,  -999.0,9, -999.00,9,      20.00,6,     -999.0,9, -999.00,9, 20140422,     1720, -37.0001,-149.9998,    34.8738,2,     -999.0,9,     -999.0,9,     -999.0,9,     -999.0,9,     -999.0,9,     -999.0,9