BOTTLE,20230715CCHSIOCBG
EXPOCODE,SECT_ID,STNNBR,CASTNO,SAMPNO,BTLNBR,BTLNBR_FLAG_W,DATE,TIME,LATITUDE,LONGITUDE,DEPTH,CTDPRS,CTDTMP,CTDSAL,CTDSAL_FLAG_W,SALNTY,SALNTY_FLAG_W,CTDOXY,CTDOXY_FLAG_W,OXYGEN,OXYGEN_FLAG_W,SILCAT,SILCAT_FLAG_W,NITRAT,NITRAT_FLAG_W,NITRIT,NITRIT_FLAG_W,PHSPHT,PHSPHT_FLAG_W,CFC-11,CFC-11_FLAG_W,CFC-12,CFC-12_FLAG_W,SF6,SF6_FLAG_W,TCARBN,TCARBN_FLAG_W,ALKALI,ALKALI_FLAG_W,PH_TOT,PH_TOT_FLAG_W,PH_TMP,TRITUM,TRITUM_FLAG_W,HELIUM,HELIUM_FLAG_W,DELHE3,DELHE3_FLAG_W,REFTMP,REFTMP_FLAG_W,DELC13,DELC13_FLAG_W,DELC14,DELC14_FLAG_W,DELO18,DELO18_FLAG_W,DOC,DOC_FLAG_W,TDN,TDN_FLAG_W,N2O,N2O_FLAG_W,CALCIUM,CALCIUM_FLAG_W,D15N_NO3,D15N_NO3_FLAG_W,BTL_DATE,BTL_TIME,BTL_LAT,BTL_LON,SALTREF,SALTREF_FLAG_W,D18O_NO3,D18O_NO3_FLAG_W,DSI30,DSI30_FLAG_W,CDOM_NASA,CDOM_NASA_FLAG_W,CDOM_UCSB,CDOM_UCSB_FLAG_W,D15N_NO2+NO3,D15N_NO2+NO3_FLAG_W,D18O_NO2+NO3,D18O_NO2+NO3_FLAG_W
,,,,,,,,,,,METERS,DBAR,ITS-90,PSS-78,,PSS-78,,UMOL/KG,,UMOL/KG,,UMOL/KG,,UMOL/KG,,UMOL/KG,,UMOL/KG,,PMOL/KG,,PMOL/KG,,FMOL/KG,,UMOL/KG,,UMOL/KG,,,,DEG C,TU,,NMOL/KG,,PERCNT,,DEG C,,/MILLE,,/MILLE,,/MILLE,,UMOL/KG,,UMOL/KG,,NMOL/KG,,MMOL/KG,,/MILLE,,,,,,G/KG,,/MILLE,,/MILLE,,,,,,/MILLE,,/MILLE,
320620140320,       P16S,      61,          1,         36,         36,2,20140424,       0549,   -34.3333,  -149.9998,       5720,     4.3,  20.8719,  35.3634,2,  35.3640,2,    223.4,2,   223.8,2,    0.98,2,    0.26,2,    0.00,2,    0.05,2,   1.969,2,   1.203,2,    1.69,2,  2035.2,2,  2318.5,2,   8.0899,2,       20,-999.000,9,-999.0000,9, -999.00,9,  20.8681,2, -999.00,9,  -999.0,9, -999.00,9,  -999.0,9, -999.00,9,       7.37,2,     -999.0,9, -999.00,9, 20140424,      806, -34.3334,-149.9998,    35.5307,2,     -999.0,9,     -999.0,9,     -999.0,9,     -999.0,9,     -999.0,9,     -999.0,9
320620140320,       P16S,      61,          1,         35,         35,2,20140424,       0549,   -34.3333,  -149.9998,       5720,    33.6,  20.6977,  35.3912,2,  35.3902,2,    225.8,2,   225.2,2,    0.98,2,    0.21,2,    0.01,2,    0.05,2,   1.982,2,   1.213,2,    1.45,2,  2038.9,2,  2320.2,2,   8.0861,2,       20,-999.000,9,-999.0000,9, -999.00,9,  20.6962,2, -999.00,9,  -999.0,9, -999.00,9,  -999.0,9, -999.00,9,       7.19,2,     -999.0,9, -999.00,9, 20140424,      804, -34.3334,-149.9998,    35.5571,2,     -999.0,9,     -999.0,9,     -999.0,9,     -999.0,9,     -999.0,9,     -999.0,9
320620140320,       P16S,      61,          1,         34,         34,2,20140424,       0549,   -34.3333,  -149.9998,       5720,    59.8,  19.8247,  35.4468,2,  35.4475,2,    233.7,2,   234.4,2,    0.88,2,    0.21,2,    0.00,2,    0.06,2,   2.080,2,   1.293,2,    1.72,2,  2047.8,2,  2324.4,2,   8.0761,2,       20,-999.000,9,-999.0000,9, -999.00,9,  19.8245,2, -999.00,9,  -999.0,9, -999.00,9,  -999.0,9, -999.00,9,       7.66,2,     -999.0,9, -999.00,9, 20140424,      802, -34.3334,-149.9998,    35.6147,2,     -999.0,9,     -999.0,9,     -999.0,9,     -999.0,9,     -999.0,9,     -999.0,9
320620140320,       P16S,      61,          1,         33,         33,2,20140424,       0549,   -34.3333,  -149.9998,       5720,    84.8,  17.7564,  35.3700,2,  35.3681,2,    243.5,2,   242.8,2,    0.98,2,    0.21,2,    0.00,2,    0.08,2,   1.988,2,   1.381,2,    1.68,2,  2052.5,2,  2320.4,2,   8.0603,2,       20,-999.000,9,-999.0000,9, -999.00,9,  17.7256,3, -999.00,9,  -999.0,9, -999.00,9,  -999.0,9, -999.00,9,       8.40,2,     -999.0,9, -999.00,9, 20140424,      801, -34.3334,-149.9998,    35.5348,2,     -999.0,9,     -999.0,9,     -999.0,9,     -999.0,9,     -999.0,9,     -999.0,9
320620140320,       P16S,      61,          1,         32,         32,2,20140424,       0549,   -34.3333,  -149.9998,       5720,   114.6,  16.9176,  35.3437,2,  35.3417,2,    235.4,2,   232.7,2,    0.98,2,    0.29,2,    0.02,2,    0.12,2,   2.346,2,   1.405,2,    1.66,2,  2062.4,2,  2318.8,2,   8.0405,2,       20,-999.000,9,-999.0000,9, -999.00,9,  16.9289,2, -999.00,9,  -999.0,9, -999.00,9,  -999.0,9, -999.00,9,       8.53,2,     -999.0,9, -999.00,9, 20140424,      759, -34.3334,-149.9998,    35.5083,2,     -999.0,9,     -999.0,9,     -999.0,9,     -999.0,9,     -999.0,9,     -999.0,9
320620140320,       P16S,      61,          1,         31,         31,2,20140424,       0549,   -34.3333,  -149.9998,       5720,   163.2,  15.9688,  35.2481,2,  35.2472,2,    228.2,2,   227.8,2,    1.17,2,    1.44,2,    0.20,2,    0.21,2,   2.392,2,   1.437,2,    1.63,2,  2071.3,2,  2314.1,2,    8.015,2,       20,-999.000,9,-999.0000,9, -999.00,9,  15.9654,2, -999.00,9,  -999.0,9, -999.00,9,  -999.0,9, -999.00,9,       9.80,2,     -999.0,9, -999.00,9, 20140424,      757, -34.3334,-149.9998,    35.4134,2,     -999.0,9,     -999.0,9,     -999.0,9,     -999.0,9,     -999.0,9,     -999.0,9
320620140320,       P16S,      61,          1,         30,         30,2,20140424,       0549,   -34.3333,  -149.9998,       5720,   214.5,  15.1510,  35.1355,2,  35.1273,2,    224.3,2,   222.2,2,    1.27,2,    3.24,2,    0.01,2,    0.31,2,-999.000,9,-999.000,9, -999.00,9,  2080.3,2,  2307.1,2,   7.9862,2,       20,-999.000,9,-999.0000,9, -999.00,9,  15.1383,2, -999.00,9,  -999.0,9, -999.00,9,  -999.0,9, -999.00,9,     -999.0,9,     -999.0,9, -999.00,9, 20140424,      755, -34.3334,-149.9998,    35.2929,2,     -999.0,9,     -999.0,9,     -999.0,9,     -999.0,9,     -999.0,9,     -999.0,9
320620140320,       P16S,      61,          1,         29,         29,2,20140424,       0549,   -34.3333,  -149.9998,       5720,   264.9,  14.1942,  35.0187,2,  35.0149,2,    213.3,2,   211.9,2,    2.25,2,    6.21,2,    0.01,2,    0.54,2,   2.142,2,   1.494,2,    1.54,2,  2093.7,2,  2301.8,2,   7.9483,2,       20,-999.000,9,-999.0000,9, -999.00,9,  14.2467,3, -999.00,9,  -999.0,9, -999.00,9,  -999.0,9, -999.00,9,      12.03,2,     -999.0,9, -999.00,9, 20140424,      753, -34.3334,-149.9998,    35.1800,2,     -999.0,9,     -999.0,9,     -999.0,9,     -999.0,9,     -999.0,9,     -999.0,9
320620140320,       P16S,      61,          1,         28,         28,2,20140424,       0549,   -34.3333,  -149.9998,       5720,   315.0,  12.7303,  34.8530,2,  34.8433,2,    208.1,2,   208.7,2,    2.25,2,    9.89,2,    0.01,2,    0.76,2,   2.887,2,   1.620,2,    1.31,2,  2108.1,2,  2294.3,2,    7.901,2,       20,-999.000,9,-999.0000,9, -999.00,9,  12.7240,2, -999.00,9,  -999.0,9, -999.00,9,  -999.0,9, -999.00,9,      14.76,2,     -999.0,9, -999.00,9, 20140424,      751, -34.3334,-149.9998,    35.0076,2,     -999.0,9,     -999.0,9,     -999.0,9,     -999.0,9,     -999.0,9,     -999.0,9
320620140320,       P16S,      61,          1,         27,         27,2,20140424,       0549,   -34.3333,  -149.9998,       5720,   363.9,  11.2599,  34.7241,2,  34.7159,2,    211.2,2,   211.4,2,    3.23,2,   13.13,2,    0.01,2,    0.99,2,   3.002,2,   1.662,2,    1.15,2,  2120.1,2,  2289.8,2,   7.8642,2,       20,-999.000,9,-999.0000,9, -999.00,9,  11.2616,2, -999.00,9,  -999.0,9, -999.00,9,  -999.0,9, -999.00,9,      16.53,2,     -999.0,9, -999.00,9, 20140424,      749, -34.3334,-149.9998,    34.8796,2,     -999.0,9,     -999.0,9,     -999.0,9,     -999.0,9,     -999.0,9,     -999.0,9
320620140320,       P16S,      61,          1,         26,         26,2,20140424,       0549,   -34.3333,  -149.9998,       5720,   435.6,   8.8335,  34.4942,2,  34.4953,2,    230.8,2,   230.2,2,    4.20,2,   17.29,2,    0.01,2,    1.26,2,   3.107,2,   1.916,2,    1.30,2,  2131.6,2,  2280.4,2,   7.8211,2,       20,-999.000,9,-999.0000,9, -999.00,9,   8.8305,2, -999.00,9,  -999.0,9, -999.00,9,  -999.0,9, -999.00,9,      19.07,2,     -999.0,9, -999.00,9, 20140424,      747, -34.3334,-149.9998,    34.6579,2,     -999.0,9,     -999.0,9,     -999.0,9,     -999.0,9,     -999.0,9,     -999.0,9
320620140320,       P16S,      61,          1,         25,         25,2,20140424,       0549,   -34.3333,  -149.9998,       5720,   534.2,   7.7311,  34.4355,2,  34.4381,2,    243.0,2,   242.1,2,    5.48,2,   19.61,2,    0.01,2,    1.38,2,   3.771,2,   2.016,2,    1.46,2,    2138,2,  2280.8,2,   7.8048,2,       20,-999.000,9,-999.0000,9, -999.00,9,   7.7411,2, -999.00,9,  -999.0,9, -999.00,9,  -999.0,9, -999.00,9,      17.90,2,     -999.0,9, -999.00,9, 20140424,      744, -34.3334,-149.9998,    34.6005,2,     -999.0,9,     -999.0,9,     -999.0,9,     -999.0,9,     -999.0,9,     -999.0,9
320620140320,       P16S,      61,          1,         24,         24,2,20140424,       0549,   -34.3333,  -149.9998,       5720,   633.6,   7.1220,  34.3839,2,  34.3851,2,    245.1,2,   244.9,2,    6.94,2,   21.40,2,    0.00,2,    1.52,2,   3.601,2,   2.027,2,    1.37,2,  2141.9,2,  2280.6,2,   7.7948,2,       20,-999.000,9,-999.0000,9, -999.00,9,   7.1217,2, -999.00,9,  -999.0,9, -999.00,9,  -999.0,9, -999.00,9,      17.05,2,     -999.0,9, -999.00,9, 20140424,      741, -34.3334,-149.9998,    34.5473,2,     -999.0,9,     -999.0,9,     -999.0,9,     -999.0,9,     -999.0,9,     -999.0,9
320620140320,       P16S,      61,          1,         23,         23,2,20140424,       0549,   -34.3333,  -149.9998,       5720,   734.5,   6.6101,  34.3441,2,  34.3455,2,    242.5,2,   243.2,2,    8.51,2,   22.99,2,    0.00,2,    1.61,2,   3.404,2,   1.807,2,    0.59,2,  2144.9,2,  2280.6,2,   7.7852,2,       20,-999.000,9,-999.0000,9, -999.00,9,   6.6134,2, -999.00,9,  -999.0,9, -999.00,9,  -999.0,9, -999.00,9,      16.60,2,     -999.0,9, -999.00,9, 20140424,      739, -34.3334,-149.9998,    34.5074,2,     -999.0,9,     -999.0,9,     -999.0,9,     -999.0,9,     -999.0,9,     -999.0,9
320620140320,       P16S,      61,          1,         22,         22,2,20140424,       0549,   -34.3333,  -149.9998,       5720,   834.6,   6.1481,  34.3189,2,  34.3192,2,    236.1,2,   236.8,2,   11.15,2,   24.73,2,    0.00,2,    1.78,2,   2.772,2,   1.486,2,    0.41,2,  2151.4,2,  2280.6,2,   7.7708,2,       20,-999.000,9,-999.0000,9, -999.00,9,   6.1465,2, -999.00,9,  -999.0,9, -999.00,9,  -999.0,9, -999.00,9,      17.70,2,     -999.0,9, -999.00,9, 20140424,      736, -34.3334,-149.9998,    34.4810,2,     -999.0,9,     -999.0,9,     -999.0,9,     -999.0,9,     -999.0,9,     -999.0,9
320620140320,       P16S,      61,          1,         21,         21,2,20140424,       0549,   -34.3333,  -149.9998,       5720,   934.8,   5.6621,  34.3041,2,  34.3047,2,    227.2,2,   227.5,2,   15.06,2,   26.56,2,    0.00,2,    1.88,2,   2.162,2,   1.155,2,    0.20,2,  2160.7,2,  2283.2,6,   7.7507,6,       20,-999.000,9,-999.0000,9, -999.00,9,   5.6690,2, -999.00,9,  -999.0,9, -999.00,9,  -999.0,9, -999.00,9,      18.08,2,     -999.0,9, -999.00,9, 20140424,      733, -34.3334,-149.9998,    34.4664,2,     -999.0,9,     -999.0,9,     -999.0,9,     -999.0,9,     -999.0,9,     -999.0,9
320620140320,       P16S,      61,          1,         20,         20,2,20140424,       0549,   -34.3333,  -149.9998,       5720,  1035.2,   5.0597,  34.3047,2,  34.3049,2,    214.1,2,   214.1,2,   22.10,2,   28.88,2,    0.00,2,    2.02,2,   1.488,2,   0.752,2,    0.12,2,  2175.3,6,  2288.4,2,   7.7201,2,       20,-999.000,9,-999.0000,9, -999.00,9,   5.0589,2, -999.00,9,  -999.0,9, -999.00,9,  -999.0,9, -999.00,9,      19.59,2,     -999.0,9, -999.00,9, 20140424,      730, -34.3334,-149.9998,    34.4666,2,     -999.0,9,     -999.0,9,     -999.0,9,     -999.0,9,     -999.0,9,     -999.0,9
320620140320,       P16S,      61,          1,         19,         19,2,20140424,       0549,   -34.3333,  -149.9998,       5720,  1134.3,   4.5615,  34.3194,2,  34.3199,2,    202.2,2,   203.6,2,   29.53,2,   30.69,2,    0.00,2,    2.15,2,   1.162,2,   0.576,2,    0.11,2,  2191.2,2,  2294.5,2,   7.6954,2,       20,-999.000,9,-999.0000,9, -999.00,9,   4.5610,2, -999.00,9,  -999.0,9, -999.00,9,  -999.0,9, -999.00,9,      20.94,2,     -999.0,9, -999.00,9, 20140424,      727, -34.3334,-149.9998,    34.4818,2,     -999.0,9,     -999.0,9,     -999.0,9,     -999.0,9,     -999.0,9,     -999.0,9
320620140320,       P16S,      61,          1,         18,         18,2,20140424,       0549,   -34.3333,  -149.9998,       5720,  1233.2,   3.9259,  34.3529,2,  34.3525,2,    191.8,2,   192.7,2,   40.39,2,   32.41,2,    0.00,2,    2.29,2,-999.000,9,-999.000,9, -999.00,9,  2209.3,2,  2304.9,2,   7.6686,2,       20,-999.000,9,-999.0000,9, -999.00,9,   3.9314,2, -999.00,9,  -999.0,9, -999.00,9,  -999.0,9, -999.00,9,     -999.0,9,     -999.0,9, -999.00,9, 20140424,      724, -34.3334,-149.9998,    34.5145,2,     -999.0,9,     -999.0,9,     -999.0,9,     -999.0,9,     -999.0,9,     -999.0,9
320620140320,       P16S,      61,          1,         17,         17,2,20140424,       0549,   -34.3333,  -149.9998,       5720,  1335.3,   3.4487,  34.3975,2,  34.3974,2,    183.8,2,   183.0,2,   51.15,2,   33.57,2,    0.00,2,    2.36,2,   0.379,2,   0.214,2,    0.04,2,  2224.8,2,  2315.1,2,   7.6499,2,       20,-999.000,9,-999.0000,9, -999.00,9,   3.4492,2, -999.00,9,  -999.0,9, -999.00,9,  -999.0,9, -999.00,9,      23.23,2,     -999.0,9, -999.00,9, 20140424,      721, -34.3334,-149.9998,    34.5596,2,     -999.0,9,     -999.0,9,     -999.0,9,     -999.0,9,     -999.0,9,     -999.0,9
320620140320,       P16S,      61,          1,         16,         16,2,20140424,       0549,   -34.3333,  -149.9998,       5720,  1462.8,   3.0289,  34.4648,2,  34.4657,2,    174.3,2,   173.3,2,   64.54,2,   34.39,2,    0.00,2,    2.40,2,-999.000,9,-999.000,9, -999.00,9,  2242.3,2,  2329.9,2,   7.6366,2,       20,-999.000,9,-999.0000,9, -999.00,9,   3.0292,2, -999.00,9,  -999.0,9, -999.00,9,  -999.0,9, -999.00,9,     -999.0,9,     -999.0,9, -999.00,9, 20140424,      718, -34.3334,-149.9998,    34.6283,2,     -999.0,9,     -999.0,9,     -999.0,9,     -999.0,9,     -999.0,9,     -999.0,9
320620140320,       P16S,      61,          1,         15,         15,2,20140424,       0549,   -34.3333,  -149.9998,       5720,  1665.2,   2.6758,  34.5503,2,  34.5490,2,    163.6,2,   163.1,2,   81.65,2,   34.82,2,    0.00,2,    2.45,2,   0.044,2,   0.013,2,    0.03,2,  2264.4,2,  2349.4,2,   7.6321,2,       20,-999.000,9,-999.0000,9, -999.00,9,   2.6761,2, -999.00,9,  -999.0,9, -999.00,9,  -999.0,9, -999.00,9,      24.92,2,     -999.0,9, -999.00,9, 20140424,      713, -34.3334,-149.9998,    34.7119,2,     -999.0,9,     -999.0,9,     -999.0,9,     -999.0,9,     -999.0,9,     -999.0,9
320620140320,       P16S,      61,          1,         14,         14,2,20140424,       0549,   -34.3333,  -149.9998,       5720,  1864.5,   2.4447,  34.6007,2,  34.6018,2,    156.6,2,   156.1,2,   97.88,2,   35.11,2,    0.00,2,    2.47,2,-999.000,9,-999.000,9, -999.00,9,    2282,2,  2369.8,2,   7.6332,2,       20,-999.000,9,-999.0000,9, -999.00,9,   2.4452,2, -999.00,9,  -999.0,9, -999.00,9,  -999.0,9, -999.00,9,     -999.0,9,     -999.0,9, -999.00,9, 20140424,      709, -34.3334,-149.9998,    34.7650,2,     -999.0,9,     -999.0,9,     -999.0,9,     -999.0,9,     -999.0,9,     -999.0,9
320620140320,       P16S,      61,          1,         13,         13,2,20140424,       0549,   -34.3333,  -149.9998,       5720,  2083.8,   2.2214,  34.6316,2,  34.6319,2,    152.5,2,   152.6,2,  109.90,2,   35.44,2,    0.00,2,    2.50,2,   0.004,2,   0.002,2,    0.00,2,  2295.2,2,  2383.7,2,   7.6339,2,       20,-999.000,9,-999.0000,9, -999.00,9,   2.2213,2, -999.00,9,  -999.0,9, -999.00,9,  -999.0,9, -999.00,9,      23.52,2,     -999.0,9, -999.00,9, 20140424,      704, -34.3334,-149.9998,    34.7952,2,     -999.0,9,     -999.0,9,     -999.0,9,     -999.0,9,     -999.0,9,     -999.0,9
320620140320,       P16S,      61,          1,         12,         12,2,20140424,       0549,   -34.3333,  -149.9998,       5720,  2335.2,   2.0508,  34.6489,2,  34.6494,2,    150.8,2,   150.5,2,  118.01,2,   35.64,2,    0.00,2,    2.50,2,-999.000,9,-999.000,9, -999.00,9,  2303.9,2,  2391.2,2,   7.6339,2,       20,-999.000,9,-999.0000,9, -999.00,9,   2.0508,2, -999.00,9,  -999.0,9, -999.00,9,  -999.0,9, -999.00,9,     -999.0,9,     -999.0,9, -999.00,9, 20140424,      659, -34.3334,-149.9998,    34.8128,2,     -999.0,9,     -999.0,9,     -999.0,9,     -999.0,9,     -999.0,9,     -999.0,9
320620140320,       P16S,      61,          1,         11,         11,2,20140424,       0549,   -34.3333,  -149.9998,       5720,  2584.7,   1.9226,  34.6590,2,  34.6596,2,    150.4,2,   150.5,2,  123.68,2,   35.73,2,    0.00,2,    2.50,2,   0.003,2,   0.001,2,    0.00,2,  2309.5,6,  2398.7,2,   7.6352,6,       20,-999.000,9,-999.0000,9, -999.00,9,   1.9232,2, -999.00,9,  -999.0,9, -999.00,9,  -999.0,9, -999.00,9,      23.56,2,     -999.0,9, -999.00,9, 20140424,      653, -34.3334,-149.9998,    34.8231,2,     -999.0,9,     -999.0,9,     -999.0,9,     -999.0,9,     -999.0,9,     -999.0,9
320620140320,       P16S,      61,          1,         10,         10,4,20140424,       0549,   -34.3333,  -149.9998,       5720,  2834.2,   1.8211,  34.6669,2,  34.6783,4,    152.7,2,   156.3,4,  121.24,4,   34.28,4,    0.00,4,    2.41,4,-999.000,9,-999.000,9, -999.00,9,  2296.2,4,  2393.5,4,   7.6646,4,       20,-999.000,9,-999.0000,9, -999.00,9,   1.8210,2, -999.00,9,  -999.0,9, -999.00,9,  -999.0,9, -999.00,9,     -999.0,9,     -999.0,9, -999.00,9, 20140424,      648, -34.3334,-149.9998,    34.8418,4,     -999.0,9,     -999.0,9,     -999.0,9,     -999.0,9,     -999.0,9,     -999.0,9
320620140320,       P16S,      61,          1,          9,         09,2,20140424,       0549,   -34.3333,  -149.9998,       5720,  3099.8,   1.7257,  34.6757,2,  34.6759,2,    157.3,2,   157.6,2,  127.98,2,   35.30,2,    0.00,2,    2.48,2,   0.003,2,   0.000,2,    0.02,2,  2307.9,2,  2400.4,2,   7.6427,2,       20,-999.000,9,-999.0000,9, -999.00,9,   1.7251,2, -999.00,9,  -999.0,9, -999.00,9,  -999.0,9, -999.00,9,      23.23,2,     -999.0,9, -999.00,9, 20140424,      642, -34.3334,-149.9998,    34.8395,2,     -999.0,9,     -999.0,9,     -999.0,9,     -999.0,9,     -999.0,9,     -999.0,9
320620140320,       P16S,      61,          1,          8,         08,2,20140424,       0549,   -34.3333,  -149.9998,       5720,  3399.6,   1.6252,  34.6871,2,  34.6871,2,    166.7,2,   166.6,2,  125.54,2,   34.64,2,    0.00,2,    2.43,2,-999.000,9,-999.000,9, -999.00,9,  2299.1,6,  2394.1,2,     7.65,2,       20,-999.000,9,-999.0000,9, -999.00,9,   1.6254,2, -999.00,9,  -999.0,9, -999.00,9,  -999.0,9, -999.00,9,     -999.0,9,     -999.0,9, -999.00,9, 20140424,      636, -34.3334,-149.9998,    34.8507,2,     -999.0,9,     -999.0,9,     -999.0,9,     -999.0,9,     -999.0,9,     -999.0,9
320620140320,       P16S,      61,          1,          7,         07,2,20140424,       0549,   -34.3333,  -149.9998,       5720,  3699.1,   1.5095,  34.6984,2,  34.6989,2,    178.7,2,   178.7,2,  120.84,2,   33.71,2,    0.00,2,    2.35,2,   0.005,2,   0.002,2,    0.01,2,  2285.6,2,    2384,6,   7.6599,2,       20,-999.000,9,-999.0000,9, -999.00,9,   1.5094,2, -999.00,9,  -999.0,9, -999.00,9,  -999.0,9, -999.00,9,      20.70,2,     -999.0,9, -999.00,9, 20140424,      629, -34.3333,-149.9998,    34.8625,2,     -999.0,9,     -999.0,9,     -999.0,9,     -999.0,9,     -999.0,9,     -999.0,9
320620140320,       P16S,      61,          1,          6,         06,2,20140424,       0549,   -34.3333,  -149.9998,       5720,  3998.4,   1.3949,  34.7041,2,  34.7037,2,    188.0,2,   187.6,2,  118.89,2,   33.12,2,    0.00,2,    2.30,2,-999.000,9,-999.000,9, -999.00,9,  2277.2,2,  2377.1,2,   7.6677,2,       20,-999.000,9,-999.0000,9, -999.00,9,   1.3949,2, -999.00,9,  -999.0,9, -999.00,9,  -999.0,9, -999.00,9,     -999.0,9,     -999.0,9, -999.00,9, 20140424,      623, -34.3333,-149.9998,    34.8674,2,     -999.0,9,     -999.0,9,     -999.0,9,     -999.0,9,     -999.0,9,     -999.0,9