BOTTLE,20230715CCHSIOCBG
EXPOCODE,SECT_ID,STNNBR,CASTNO,SAMPNO,BTLNBR,BTLNBR_FLAG_W,DATE,TIME,LATITUDE,LONGITUDE,DEPTH,CTDPRS,CTDTMP,CTDSAL,CTDSAL_FLAG_W,SALNTY,SALNTY_FLAG_W,CTDOXY,CTDOXY_FLAG_W,OXYGEN,OXYGEN_FLAG_W,SILCAT,SILCAT_FLAG_W,NITRAT,NITRAT_FLAG_W,NITRIT,NITRIT_FLAG_W,PHSPHT,PHSPHT_FLAG_W,CFC-11,CFC-11_FLAG_W,CFC-12,CFC-12_FLAG_W,SF6,SF6_FLAG_W,TCARBN,TCARBN_FLAG_W,ALKALI,ALKALI_FLAG_W,PH_TOT,PH_TOT_FLAG_W,PH_TMP,TRITUM,TRITUM_FLAG_W,HELIUM,HELIUM_FLAG_W,DELHE3,DELHE3_FLAG_W,REFTMP,REFTMP_FLAG_W,DELC13,DELC13_FLAG_W,DELC14,DELC14_FLAG_W,DELO18,DELO18_FLAG_W,DOC,DOC_FLAG_W,TDN,TDN_FLAG_W,N2O,N2O_FLAG_W,CALCIUM,CALCIUM_FLAG_W,D15N_NO3,D15N_NO3_FLAG_W,BTL_DATE,BTL_TIME,BTL_LAT,BTL_LON,SALTREF,SALTREF_FLAG_W,D18O_NO3,D18O_NO3_FLAG_W,DSI30,DSI30_FLAG_W,CDOM_NASA,CDOM_NASA_FLAG_W,CDOM_UCSB,CDOM_UCSB_FLAG_W,D15N_NO2+NO3,D15N_NO2+NO3_FLAG_W,D18O_NO2+NO3,D18O_NO2+NO3_FLAG_W
,,,,,,,,,,,METERS,DBAR,ITS-90,PSS-78,,PSS-78,,UMOL/KG,,UMOL/KG,,UMOL/KG,,UMOL/KG,,UMOL/KG,,UMOL/KG,,PMOL/KG,,PMOL/KG,,FMOL/KG,,UMOL/KG,,UMOL/KG,,,,DEG C,TU,,NMOL/KG,,PERCNT,,DEG C,,/MILLE,,/MILLE,,/MILLE,,UMOL/KG,,UMOL/KG,,NMOL/KG,,MMOL/KG,,/MILLE,,,,,,G/KG,,/MILLE,,/MILLE,,,,,,/MILLE,,/MILLE,
320620140320,       P16S,      34,          1,         36,         36,2,20140413,       1401,   -51.5003,  -149.9990,       4374,     4.4,  11.2831,  34.4407,2,  34.4398,2,    267.6,2,   269.4,2,    0.00,2,    7.30,2,    0.18,2,    0.61,2,   3.242,2,   1.829,2,    1.83,2,    2081,2,  2287.4,2,   7.9576,2,       20,-999.000,9,-999.0000,9, -999.00,9,  11.2824,2, -999.00,9,  -999.0,9, -999.00,9,  -999.0,9, -999.00,9,      10.94,2,     -999.0,9, -999.00,9, 20140413,     1602, -51.5003,-149.9990,    34.6022,2,     -999.0,9,     -999.0,9,     -999.0,9,     -999.0,9,     -999.0,9,     -999.0,9
320620140320,       P16S,      34,          1,         35,         35,2,20140413,       1401,   -51.5003,  -149.9990,       4374,    24.1,  11.2801,  34.4408,2,  34.4401,2,    268.4,2,   269.3,2,    0.00,2,    7.27,2,    0.19,2,    0.62,2,-999.000,9,-999.000,9, -999.00,9,  2080.4,2,  2287.2,2,   7.9585,2,       20,-999.000,9,-999.0000,9, -999.00,9,  11.2794,2, -999.00,9,  -999.0,9, -999.00,9,  -999.0,9, -999.00,9,     -999.0,9,     -999.0,9, -999.00,9, 20140413,     1600, -51.5003,-149.9990,    34.6025,2,     -999.0,9,     -999.0,9,     -999.0,9,     -999.0,9,     -999.0,9,     -999.0,9
320620140320,       P16S,      34,          1,         34,         34,2,20140413,       1401,   -51.5003,  -149.9990,       4374,    48.8,  11.2919,  34.4444,2,  34.4440,2,    268.4,2,   269.2,2,    0.00,2,    7.22,2,    0.18,2,    0.61,2,-999.000,9,-999.000,9, -999.00,9,  2079.8,2,  2287.8,2,   7.9577,2,       20,-999.000,9,-999.0000,9, -999.00,9,  11.2909,2, -999.00,9,  -999.0,9, -999.00,9,  -999.0,9, -999.00,9,     -999.0,9,     -999.0,9, -999.00,9, 20140413,     1558, -51.5003,-149.9990,    34.6065,2,     -999.0,9,     -999.0,9,     -999.0,9,     -999.0,9,     -999.0,9,     -999.0,9
320620140320,       P16S,      34,          1,         33,         33,2,20140413,       1401,   -51.5003,  -149.9990,       4374,    75.3,  10.7548,  34.7581,2,  34.7579,2,    242.5,2,   238.4,2,    1.17,2,   11.10,2,    0.04,2,    0.82,2,-999.000,9,-999.000,9, -999.00,9,  2119.4,2,    2294,2,   7.8829,2,       20,-999.000,9,-999.0000,9, -999.00,9,  10.7545,2, -999.00,9,  -999.0,9, -999.00,9,  -999.0,9, -999.00,9,     -999.0,9,     -999.0,9, -999.00,9, 20140413,     1557, -51.5003,-149.9990,    34.9218,2,     -999.0,9,     -999.0,9,     -999.0,9,     -999.0,9,     -999.0,9,     -999.0,9
320620140320,       P16S,      34,          1,         32,         32,2,20140413,       1401,   -51.5003,  -149.9990,       4374,    99.8,  10.4089,  34.7251,2,  34.7257,2,    238.2,2,   239.4,2,    1.56,2,   12.00,2,    0.02,2,    0.87,2,-999.000,9,-999.000,9, -999.00,9,  2120.9,2,  2291.4,2,    7.874,2,       20,-999.000,9,-999.0000,9, -999.00,9,  10.4065,2, -999.00,9,  -999.0,9, -999.00,9,  -999.0,9, -999.00,9,     -999.0,9,     -999.0,9, -999.00,9, 20140413,     1555, -51.5003,-149.9990,    34.8894,2,     -999.0,9,     -999.0,9,     -999.0,9,     -999.0,9,     -999.0,9,     -999.0,9
320620140320,       P16S,      34,          1,         31,         31,2,20140413,       1401,   -51.5003,  -149.9990,       4374,   124.4,  10.1038,  34.6889,2,  34.6736,2,    242.6,2,   243.2,2,    1.66,2,   12.66,2,    0.02,2,    0.93,2,-999.000,9,-999.000,9, -999.00,9,  2122.1,2,  2291.2,2,   7.8681,2,       20,-999.000,9,-999.0000,9, -999.00,9,  10.0868,2, -999.00,9,  -999.0,9, -999.00,9,  -999.0,9, -999.00,9,     -999.0,9,     -999.0,9, -999.00,9, 20140413,     1553, -51.5003,-149.9990,    34.8371,2,     -999.0,9,     -999.0,9,     -999.0,9,     -999.0,9,     -999.0,9,     -999.0,9
320620140320,       P16S,      34,          1,         30,         30,2,20140413,       1401,   -51.5003,  -149.9990,       4374,   149.3,   9.8892,  34.6727,2,  34.6718,2,    238.4,2,   239.7,2,    1.95,2,   13.63,2,    0.02,2,    1.00,2,-999.000,9,-999.000,9, -999.00,9,  2126.4,2,    2290,2,   7.8567,2,       20,-999.000,9,-999.0000,9, -999.00,9,   9.8904,2, -999.00,9,  -999.0,9, -999.00,9,  -999.0,9, -999.00,9,     -999.0,9,     -999.0,9, -999.00,9, 20140413,     1552, -51.5003,-149.9990,    34.8353,2,     -999.0,9,     -999.0,9,     -999.0,9,     -999.0,9,     -999.0,9,     -999.0,9
320620140320,       P16S,      34,          1,         29,         29,2,20140413,       1401,   -51.5003,  -149.9990,       4374,   200.4,   9.2841,  34.5966,2,  34.5939,2,    242.5,2,   242.5,2,    2.64,2,   15.30,2,    0.02,2,    1.09,2,   3.578,2,   1.942,2,    1.94,2,  2130.1,2,  2287.8,2,   7.8415,2,       20,-999.000,9,-999.0000,9, -999.00,9,   9.2745,2, -999.00,9,  -999.0,9, -999.00,9,  -999.0,9, -999.00,9,      13.79,2,     -999.0,9, -999.00,9, 20140413,     1550, -51.5003,-149.9990,    34.7571,2,     -999.0,9,     -999.0,9,     -999.0,9,     -999.0,9,     -999.0,9,     -999.0,9
320620140320,       P16S,      34,          1,         28,         28,2,20140413,       1401,   -51.5003,  -149.9990,       4374,   249.8,   8.7282,  34.5371,2,  34.5364,2,    242.8,2,   242.8,2,    3.42,2,   17.16,2,    0.01,2,    1.20,2,-999.000,9,-999.000,9, -999.00,9,  -999.0,9,  -999.0,9,-999.0000,9,  -999.00,-999.000,9,-999.0000,9, -999.00,9,   8.7279,2, -999.00,9,  -999.0,9, -999.00,9,  -999.0,9, -999.00,9,     -999.0,9,     -999.0,9, -999.00,9, 20140413,     1548, -51.5003,-149.9990,    34.6992,2,     -999.0,9,     -999.0,9,     -999.0,9,     -999.0,9,     -999.0,9,     -999.0,9
320620140320,       P16S,      34,          1,         27,         27,2,20140413,       1401,   -51.5003,  -149.9990,       4374,   301.0,   8.2855,  34.4912,2,  34.4898,2,    247.0,2,   247.0,2,    3.91,2,   18.13,2,    0.01,2,    1.27,2,-999.000,9,-999.000,9, -999.00,9,  2136.4,2,  2285.4,2,   7.8193,2,       20,-999.000,9,-999.0000,9, -999.00,9,   8.2862,2, -999.00,9,  -999.0,9, -999.00,9,  -999.0,9, -999.00,9,     -999.0,9,     -999.0,9, -999.00,9, 20140413,     1545, -51.5003,-149.9990,    34.6524,2,     -999.0,9,     -999.0,9,     -999.0,9,     -999.0,9,     -999.0,9,     -999.0,9
320620140320,       P16S,      34,          1,         26,         26,2,20140413,       1401,   -51.5003,  -149.9990,       4374,   349.3,   7.9290,  34.4469,2,  34.4458,2,    253.7,2,   254.5,2,    4.20,2,   18.48,2,    0.01,2,    1.29,2,-999.000,9,-999.000,9, -999.00,9,  -999.0,9,  -999.0,9,-999.0000,9,  -999.00,-999.000,9,-999.0000,9, -999.00,9,   7.9291,2, -999.00,9,  -999.0,9, -999.00,9,  -999.0,9, -999.00,9,     -999.0,9,     -999.0,9, -999.00,9, 20140413,     1543, -51.5003,-149.9990,    34.6082,2,     -999.0,9,     -999.0,9,     -999.0,9,     -999.0,9,     -999.0,9,     -999.0,9
320620140320,       P16S,      34,          1,         25,         25,2,20140413,       1401,   -51.5003,  -149.9990,       4374,   401.0,   7.6677,  34.4182,2,  34.4171,2,    257.0,2,   258.2,2,    4.30,2,   18.80,2,    0.01,2,    1.30,2,-999.000,9,-999.000,9, -999.00,9,  2135.9,2,  2282.8,2,   7.8191,2,       20,-999.000,9,-999.0000,9, -999.00,9,   7.6666,2, -999.00,9,  -999.0,9, -999.00,9,  -999.0,9, -999.00,9,     -999.0,9,     -999.0,9, -999.00,9, 20140413,     1541, -51.5003,-149.9990,    34.5794,2,     -999.0,9,     -999.0,9,     -999.0,9,     -999.0,9,     -999.0,9,     -999.0,9
320620140320,       P16S,      34,          1,         24,         24,2,20140413,       1401,   -51.5003,  -149.9990,       4374,   449.1,   7.5260,  34.4097,2,  34.4098,2,    258.2,2,   255.8,2,    4.79,2,   19.37,2,    0.01,2,    1.36,2,-999.000,9,-999.000,9, -999.00,9,  -999.0,9,  -999.0,9,-999.0000,9,  -999.00,-999.000,9,-999.0000,9, -999.00,9,   7.5227,2, -999.00,9,  -999.0,9, -999.00,9,  -999.0,9, -999.00,9,     -999.0,9,     -999.0,9, -999.00,9, 20140413,     1539, -51.5003,-149.9990,    34.5721,2,     -999.0,9,     -999.0,9,     -999.0,9,     -999.0,9,     -999.0,9,     -999.0,9
320620140320,       P16S,      34,          1,         23,         23,2,20140413,       1401,   -51.5003,  -149.9990,       4374,   500.3,   7.4317,  34.4090,2,  34.4066,2,    249.7,2,   250.5,2,    5.67,2,   20.11,2,    0.01,2,    1.40,2,   3.704,2,   1.945,2,    1.78,2,  2140.9,2,  2283.4,2,   7.8054,2,       20,-999.000,9,-999.0000,9, -999.00,9,   7.4305,2, -999.00,9,  -999.0,9, -999.00,9,  -999.0,9, -999.00,9,      14.42,2,     -999.0,9, -999.00,9, 20140413,     1536, -51.5003,-149.9990,    34.5689,2,     -999.0,9,     -999.0,9,     -999.0,9,     -999.0,9,     -999.0,9,     -999.0,9
320620140320,       P16S,      34,          1,         22,         22,2,20140413,       1401,   -51.5003,  -149.9990,       4374,   599.8,   6.8890,  34.3585,2,  34.3576,2,    249.6,2,   249.0,2,    7.62,2,   21.66,2,    0.01,2,    1.49,2,-999.000,9,-999.000,9, -999.00,9,  -999.0,9,  -999.0,9,-999.0000,9,  -999.00,-999.000,9,-999.0000,9, -999.00,9,   6.8890,2, -999.00,9,  -999.0,9, -999.00,9,  -999.0,9, -999.00,9,     -999.0,9,     -999.0,9, -999.00,9, 20140413,     1533, -51.5003,-149.9990,    34.5196,2,     -999.0,9,     -999.0,9,     -999.0,9,     -999.0,9,     -999.0,9,     -999.0,9
320620140320,       P16S,      34,          1,         21,         21,2,20140413,       1401,   -51.5003,  -149.9990,       4374,   699.4,   6.4869,  34.3399,2,  34.3393,2,    240.2,2,   240.6,2,   10.06,2,   23.35,2,    0.01,2,    1.61,2,-999.000,9,-999.000,9, -999.00,9,  2153.4,2,  2283.6,2,   7.7711,6,       20,-999.000,9,-999.0000,9, -999.00,9,   6.4873,2, -999.00,9,  -999.0,9, -999.00,9,  -999.0,9, -999.00,9,     -999.0,9,     -999.0,9, -999.00,9, 20140413,     1530, -51.5003,-149.9991,    34.5012,2,     -999.0,9,     -999.0,9,     -999.0,9,     -999.0,9,     -999.0,9,     -999.0,9
320620140320,       P16S,      34,          1,         20,         20,2,20140413,       1401,   -51.5003,  -149.9990,       4374,   798.6,   6.0805,  34.3309,2,  34.3292,2,    230.3,2,   229.0,2,   13.29,2,   25.23,2,    0.01,2,    1.73,2,-999.000,9,-999.000,9, -999.00,9,  2162.9,6,  2284.8,2,   7.7501,2,       20,-999.000,9,-999.0000,9, -999.00,9,   6.0819,2, -999.00,9,  -999.0,9, -999.00,9,  -999.0,9, -999.00,9,     -999.0,9,     -999.0,9, -999.00,9, 20140413,     1527, -51.5003,-149.9990,    34.4911,2,     -999.0,9,     -999.0,9,     -999.0,9,     -999.0,9,     -999.0,9,     -999.0,9
320620140320,       P16S,      34,          1,         19,         19,2,20140413,       1401,   -51.5003,  -149.9990,       4374,   899.2,   5.5429,  34.3228,2,  34.3224,2,    220.1,2,   219.1,2,   18.56,2,   27.15,2,    0.00,2,    1.87,2,-999.000,9,-999.000,9, -999.00,9,  2173.8,2,  2288.2,6,   7.7258,2,       20,-999.000,9,-999.0000,9, -999.00,9,   5.5440,2, -999.00,9,  -999.0,9, -999.00,9,  -999.0,9, -999.00,9,     -999.0,9,     -999.0,9, -999.00,9, 20140413,     1524, -51.5004,-149.9990,    34.4842,2,     -999.0,9,     -999.0,9,     -999.0,9,     -999.0,9,     -999.0,9,     -999.0,9
320620140320,       P16S,      34,          1,         18,         18,2,20140413,       1401,   -51.5003,  -149.9990,       4374,   998.7,   4.9637,  34.3193,2,  34.3188,2,    214.8,2,   213.3,2,   24.81,2,   28.75,2,    0.00,2,    1.98,2,-999.000,9,-999.000,9, -999.00,9,  2186.7,2,  2292.1,2,   7.7042,2,       20,-999.000,9,-999.0000,9, -999.00,9,   4.9633,2, -999.00,9,  -999.0,9, -999.00,9,  -999.0,9, -999.00,9,     -999.0,9,     -999.0,9, -999.00,9, 20140413,     1521, -51.5003,-149.9990,    34.4806,2,     -999.0,9,     -999.0,9,     -999.0,9,     -999.0,9,     -999.0,9,     -999.0,9
320620140320,       P16S,      34,          1,         17,         17,2,20140413,       1401,   -51.5003,  -149.9990,       4374,  1099.7,   4.4635,  34.3281,2,  34.3266,2,    207.0,2,   206.6,2,   30.87,2,   30.21,2,    0.00,2,    2.08,2,   2.119,2,   1.041,2,    0.50,2,    2197,2,  2298.1,2,    7.686,2,       20,-999.000,9,-999.0000,9, -999.00,9,   4.4664,2, -999.00,9,  -999.0,9, -999.00,9,  -999.0,9, -999.00,9,      20.92,2,     -999.0,9, -999.00,9, 20140413,     1518, -51.5004,-149.9990,    34.4885,2,     -999.0,9,     -999.0,9,     -999.0,9,     -999.0,9,     -999.0,9,     -999.0,9
320620140320,       P16S,      34,          1,         16,         16,2,20140413,       1401,   -51.5003,  -149.9990,       4374,  1200.7,   3.8887,  34.3392,2,  34.3382,2,    202.8,2,   202.6,2,   38.78,2,   31.41,2,    0.00,2,    2.18,2,-999.000,9,-999.000,9, -999.00,9,  2209.1,2,  2304.8,2,   7.6678,2,       20,-999.000,9,-999.0000,9, -999.00,9,   3.8884,2, -999.00,9,  -999.0,9, -999.00,9,  -999.0,9, -999.00,9,     -999.0,9,     -999.0,9, -999.00,9, 20140413,     1515, -51.5004,-149.9990,    34.5001,2,     -999.0,9,     -999.0,9,     -999.0,9,     -999.0,9,     -999.0,9,     -999.0,9
320620140320,       P16S,      34,          1,         15,         15,2,20140413,       1401,   -51.5003,  -149.9990,       4374,  1300.6,   3.5672,  34.3719,2,  34.3705,2,    195.3,2,   194.5,2,   45.91,2,   32.41,2,    0.00,2,    2.25,2,-999.000,9,-999.000,9, -999.00,9,  2219.6,2,    2311,2,   7.6549,2,       20,-999.000,9,-999.0000,9, -999.00,9,   3.5674,2, -999.00,9,  -999.0,9, -999.00,9,  -999.0,9, -999.00,9,     -999.0,9,     -999.0,9, -999.00,9, 20140413,     1512, -51.5004,-149.9990,    34.5326,2,     -999.0,9,     -999.0,9,     -999.0,9,     -999.0,9,     -999.0,9,     -999.0,9
320620140320,       P16S,      34,          1,         14,         14,2,20140413,       1401,   -51.5003,  -149.9990,       4374,  1399.1,   3.2379,  34.3991,2,  34.3980,2,    190.4,2,   190.0,2,   52.16,2,   33.12,2,    0.00,2,    2.31,2,-999.000,9,-999.000,9, -999.00,9,  -999.0,9,  -999.0,9,-999.0000,9,  -999.00,-999.000,9,-999.0000,9, -999.00,9,   3.2440,3, -999.00,9,  -999.0,9, -999.00,9,  -999.0,9, -999.00,9,     -999.0,9,     -999.0,9, -999.00,9, 20140413,     1509, -51.5003,-149.9990,    34.5602,2,     -999.0,9,     -999.0,9,     -999.0,9,     -999.0,9,     -999.0,9,     -999.0,9
320620140320,       P16S,      34,          1,         13,         13,2,20140413,       1401,   -51.5003,  -149.9990,       4374,  1501.9,   2.9672,  34.4444,2,  34.4441,2,    183.1,2,   182.9,2,   59.29,2,   33.70,2,    0.00,2,    2.34,2,-999.000,9,-999.000,9, -999.00,9,  2238.7,2,  2322.5,2,   7.6298,2,       20,-999.000,9,-999.0000,9, -999.00,9,   2.9692,2, -999.00,9,  -999.0,9, -999.00,9,  -999.0,9, -999.00,9,     -999.0,9,     -999.0,9, -999.00,9, 20140413,     1506, -51.5003,-149.9990,    34.6065,2,     -999.0,9,     -999.0,9,     -999.0,9,     -999.0,9,     -999.0,9,     -999.0,9
320620140320,       P16S,      34,          1,         12,         12,2,20140413,       1401,   -51.5003,  -149.9990,       4374,  1601.8,   2.8321,  34.4921,2,  34.4912,2,    178.9,2,   176.6,2,   65.15,2,   33.91,2,    0.00,2,    2.36,2,   0.961,2,   0.409,2,    0.18,2,  -999.0,9,  -999.0,9,-999.0000,9,  -999.00,-999.000,9,-999.0000,9, -999.00,9,   2.8316,2, -999.00,9,  -999.0,9, -999.00,9,  -999.0,9, -999.00,9,      24.80,2,     -999.0,9, -999.00,9, 20140413,     1503, -51.5004,-149.9991,    34.6538,2,     -999.0,9,     -999.0,9,     -999.0,9,     -999.0,9,     -999.0,9,     -999.0,9
320620140320,       P16S,      34,          1,         11,         11,2,20140413,       1401,   -51.5003,  -149.9990,       4374,  1701.7,   2.7532,  34.5343,2,  34.5335,2,    172.8,2,   171.6,2,   71.20,2,   33.91,2,    0.00,2,    2.37,2,-999.000,9,-999.000,9, -999.00,9,  2253.4,2,  2337.2,2,   7.6265,2,       20,-999.000,9,-999.0000,9, -999.00,9,   2.7533,2, -999.00,9,  -999.0,9, -999.00,9,  -999.0,9, -999.00,9,     -999.0,9,     -999.0,9, -999.00,9, 20140413,     1500, -51.5004,-149.9991,    34.6964,2,     -999.0,9,     -999.0,9,     -999.0,9,     -999.0,9,     -999.0,9,     -999.0,9
320620140320,       P16S,      34,          1,         10,         10,2,20140413,       1401,   -51.5003,  -149.9990,       4374,  1948.1,   2.5038,  34.6139,2,  34.6131,2,    169.2,2,   169.9,2,   80.18,2,   33.52,2,    0.00,2,    2.33,2,-999.000,9,-999.000,9, -999.00,9,  2261.5,2,  2347.1,2,    7.631,2,       20,-999.000,9,-999.0000,9, -999.00,9,   2.5036,2, -999.00,9,  -999.0,9, -999.00,9,  -999.0,9, -999.00,9,     -999.0,9,     -999.0,9, -999.00,9, 20140413,     1454, -51.5003,-149.9991,    34.7763,2,     -999.0,9,     -999.0,9,     -999.0,9,     -999.0,9,     -999.0,9,     -999.0,9
320620140320,       P16S,      34,          1,          9,         09,2,20140413,       1401,   -51.5003,  -149.9990,       4374,  2148.1,   2.3588,  34.6598,2,  34.6586,2,    172.3,2,   172.7,2,   83.01,2,   32.82,2,    0.00,2,    2.29,2,-999.000,9,-999.000,9, -999.00,9,  2261.6,2,  2349.8,2,   7.6399,2,       20,-999.000,9,-999.0000,9, -999.00,9,   2.3589,2, -999.00,9,  -999.0,9, -999.00,9,  -999.0,9, -999.00,9,     -999.0,9,     -999.0,9, -999.00,9, 20140413,     1449, -51.5004,-149.9990,    34.8221,2,     -999.0,9,     -999.0,9,     -999.0,9,     -999.0,9,     -999.0,9,     -999.0,9
320620140320,       P16S,      34,          1,          8,         08,2,20140413,       1401,   -51.5003,  -149.9990,       4374,  2400.3,   2.2020,  34.6996,2,  34.6989,2,    178.5,2,   179.1,2,   85.65,2,   32.04,2,    0.00,2,    2.23,2,   0.183,2,   0.069,2,    0.00,2,  -999.0,9,  -999.0,9,-999.0000,9,  -999.00,-999.000,9,-999.0000,9, -999.00,9,   2.2020,2, -999.00,9,  -999.0,9, -999.00,9,  -999.0,9, -999.00,9,      21.71,2,     -999.0,9, -999.00,9, 20140413,     1443, -51.5003,-149.9990,    34.8625,2,     -999.0,9,     -999.0,9,     -999.0,9,     -999.0,9,     -999.0,9,     -999.0,9
320620140320,       P16S,      34,          1,          7,         07,2,20140413,       1401,   -51.5003,  -149.9990,       4374,  2650.5,   2.0360,  34.7235,2,  34.7225,2,    185.0,2,   185.8,2,   88.96,2,   31.37,2,    0.00,2,    2.20,2,-999.000,9,-999.000,9, -999.00,9,  2256.3,2,  2353.4,2,   7.6627,2,       20,-999.000,9,-999.0000,9, -999.00,9,   2.0363,2, -999.00,9,  -999.0,9, -999.00,9,  -999.0,9, -999.00,9,     -999.0,9,     -999.0,9, -999.00,9, 20140413,     1438, -51.5004,-149.9990,    34.8862,2,     -999.0,9,     -999.0,9,     -999.0,9,     -999.0,9,     -999.0,9,     -999.0,9
320620140320,       P16S,      34,          1,          6,         06,2,20140413,       1401,   -51.5003,  -149.9990,       4374,  2899.5,   1.8616,  34.7336,2,  34.7330,2,    191.2,2,   191.3,2,   92.67,2,   31.07,2,    0.00,2,    2.17,2,-999.000,9,-999.000,9, -999.00,9,  -999.0,9,  -999.0,9,-999.0000,9,  -999.00,-999.000,9,-999.0000,9, -999.00,9,   1.8621,2, -999.00,9,  -999.0,9, -999.00,9,  -999.0,9, -999.00,9,     -999.0,9,     -999.0,9, -999.00,9, 20140413,     1432, -51.5004,-149.9990,    34.8968,2,     -999.0,9,     -999.0,9,     -999.0,9,     -999.0,9,     -999.0,9,     -999.0,9