BOTTLE,20230715CCHSIOCBG
EXPOCODE,SECT_ID,STNNBR,CASTNO,SAMPNO,BTLNBR,BTLNBR_FLAG_W,DATE,TIME,LATITUDE,LONGITUDE,DEPTH,CTDPRS,CTDTMP,CTDSAL,CTDSAL_FLAG_W,SALNTY,SALNTY_FLAG_W,CTDOXY,CTDOXY_FLAG_W,OXYGEN,OXYGEN_FLAG_W,SILCAT,SILCAT_FLAG_W,NITRAT,NITRAT_FLAG_W,NITRIT,NITRIT_FLAG_W,PHSPHT,PHSPHT_FLAG_W,CFC-11,CFC-11_FLAG_W,CFC-12,CFC-12_FLAG_W,SF6,SF6_FLAG_W,TCARBN,TCARBN_FLAG_W,ALKALI,ALKALI_FLAG_W,PH_TOT,PH_TOT_FLAG_W,PH_TMP,TRITUM,TRITUM_FLAG_W,HELIUM,HELIUM_FLAG_W,DELHE3,DELHE3_FLAG_W,REFTMP,REFTMP_FLAG_W,DELC13,DELC13_FLAG_W,DELC14,DELC14_FLAG_W,DELO18,DELO18_FLAG_W,DOC,DOC_FLAG_W,TDN,TDN_FLAG_W,N2O,N2O_FLAG_W,CALCIUM,CALCIUM_FLAG_W,D15N_NO3,D15N_NO3_FLAG_W,BTL_DATE,BTL_TIME,BTL_LAT,BTL_LON,SALTREF,SALTREF_FLAG_W,D18O_NO3,D18O_NO3_FLAG_W,DSI30,DSI30_FLAG_W,CDOM_NASA,CDOM_NASA_FLAG_W,CDOM_UCSB,CDOM_UCSB_FLAG_W,D15N_NO2+NO3,D15N_NO2+NO3_FLAG_W,D18O_NO2+NO3,D18O_NO2+NO3_FLAG_W
,,,,,,,,,,,METERS,DBAR,ITS-90,PSS-78,,PSS-78,,UMOL/KG,,UMOL/KG,,UMOL/KG,,UMOL/KG,,UMOL/KG,,UMOL/KG,,PMOL/KG,,PMOL/KG,,FMOL/KG,,UMOL/KG,,UMOL/KG,,,,DEG C,TU,,NMOL/KG,,PERCNT,,DEG C,,/MILLE,,/MILLE,,/MILLE,,UMOL/KG,,UMOL/KG,,NMOL/KG,,MMOL/KG,,/MILLE,,,,,,G/KG,,/MILLE,,/MILLE,,,,,,/MILLE,,/MILLE,
320620140320,       P16S,       1,          2,         14,         14,2,20140326,       1011,   -60.0002,   174.0017,       4534,  1375.2,   2.2572,  34.6819,2,  34.6810,2,    179.1,2,   179.6,2,   79.35,2,   32.47,2,    0.00,2,    2.26,2,-999.000,9,-999.000,9, -999.00,9,  2251.5,2,  2342.4,2,   7.6424,2,       20,-999.000,9,-999.0000,9, -999.00,9,   2.2568,2, -999.00,9,  -999.0,9, -999.00,9,    40.6,2, -999.00,9,     -999.0,9,     -999.0,9, -999.00,9, 20140326,     1122, -59.9998, 174.0017,    34.8446,2,     -999.0,9,     -999.0,9,     -999.0,9,     -999.0,9,     -999.0,9,     -999.0,9
320620140320,       P16S,       1,          2,         13,         13,2,20140326,       1011,   -60.0002,   174.0017,       4534,  1549.9,   2.1810,  34.7069,2,  34.7077,2,    183.2,2,   182.8,2,   82.48,2,   31.88,2,    0.00,2,    2.23,2,   0.226,2,   0.134,2,    0.10,2,  2250.8,2,    2344,2,   7.6545,2,       20,-999.000,9,-999.0000,9, -999.00,9,   2.1809,2, -999.00,9,  -999.0,9, -999.00,9,    41.8,2, -999.00,9,      22.83,2,     -999.0,9, -999.00,9, 20140326,     1119, -59.9999, 174.0017,    34.8714,2,     -999.0,9,     -999.0,9,     -999.0,9,     -999.0,9,     -999.0,9,     -999.0,9
320620140320,       P16S,       1,          2,         12,         12,2,20140326,       1011,   -60.0002,   174.0017,       4534,  1746.0,   2.0381,  34.7292,2,  34.7300,2,    187.9,2,   188.0,2,   85.99,2,   31.28,2,    0.00,2,    2.20,2,-999.000,9,-999.000,9, -999.00,9,  2250.3,2,  2348.8,2,   7.6674,6,       20,-999.000,9,-999.0000,9, -999.00,9,   2.0379,2, -999.00,9,  -999.0,9, -999.00,9,    39.8,2, -999.00,9,     -999.0,9,     -999.0,9, -999.00,9, 20140326,     1114, -59.9997, 174.0017,    34.8937,2,     -999.0,9,     -999.0,9,     -999.0,9,     -999.0,9,     -999.0,9,     -999.0,9
320620140320,       P16S,       1,          2,         11,         11,2,20140326,       1011,   -60.0002,   174.0017,       4534,  1947.3,   1.9026,  34.7376,2,  34.7378,2,    191.6,2,   191.8,2,   89.60,2,   31.08,2,    0.00,2,    2.19,2,   0.145,2,   0.083,2,    0.09,2,  2251.5,2,  2352.5,2,    7.673,2,       20,-999.000,9,-999.0000,9, -999.00,9,   1.9024,2, -999.00,9,  -999.0,9, -999.00,9,    40.3,2, -999.00,9,      21.60,2,     -999.0,9, -999.00,9, 20140326,     1110, -59.9998, 174.0017,    34.9016,2,     -999.0,9,     -999.0,9,     -999.0,9,     -999.0,9,     -999.0,9,     -999.0,9
320620140320,       P16S,       1,          2,         10,         10,2,20140326,       1011,   -60.0002,   174.0017,       4534,  2183.8,   1.6893,  34.7392,2,  34.7392,2,    195.5,2,   196.1,2,   95.94,2,   31.14,2,    0.00,2,    2.18,2,-999.000,9,-999.000,9, -999.00,9,  -999.0,9,  -999.0,9,-999.0000,9,  -999.00,-999.000,9,-999.0000,9, -999.00,9,   1.6892,2, -999.00,9,  -999.0,9, -999.00,9,    40.8,2, -999.00,9,     -999.0,9,     -999.0,9, -999.00,9, 20140326,     1105, -60.0000, 174.0018,    34.9030,2,     -999.0,9,     -999.0,9,     -999.0,9,     -999.0,9,     -999.0,9,     -999.0,9
320620140320,       P16S,       1,          2,          9,         09,2,20140326,       1011,   -60.0002,   174.0017,       4534,  2433.7,   1.4539,  34.7325,2,  34.7321,2,    198.7,2,   198.7,2,  102.97,2,   31.37,2,    0.00,2,    2.20,2,   0.127,2,   0.065,2,    0.04,2,  -999.0,9,  -999.0,9,-999.0000,9,  -999.00,-999.000,9,-999.0000,9, -999.00,9,   1.4542,2, -999.00,9,  -999.0,9, -999.00,9,    41.2,2, -999.00,9,      20.90,2,     -999.0,9, -999.00,9, 20140326,     1059, -59.9998, 174.0017,    34.8959,2,     -999.0,9,     -999.0,9,     -999.0,9,     -999.0,9,     -999.0,9,     -999.0,9
320620140320,       P16S,       1,          2,          8,         08,2,20140326,       1011,   -60.0002,   174.0017,       4534,  2690.8,   1.3020,  34.7271,2,  34.7270,2,    201.2,2,   201.2,2,  107.46,2,   31.56,2,    0.00,2,    2.21,2,-999.000,9,-999.000,9, -999.00,9,  -999.0,9,  -999.0,9,-999.0000,9,  -999.00,-999.000,9,-999.0000,9, -999.00,9,   1.3042,3, -999.00,9,  -999.0,9, -999.00,9,    39.6,2, -999.00,9,     -999.0,9,     -999.0,9, -999.00,9, 20140326,     1054, -60.0000, 174.0017,    34.8908,2,     -999.0,9,     -999.0,9,     -999.0,9,     -999.0,9,     -999.0,9,     -999.0,9
320620140320,       P16S,       1,          2,          7,         07,2,20140326,       1011,   -60.0002,   174.0017,       4534,  2942.1,   1.1449,  34.7201,2,  34.7158,3,    203.6,2,   203.5,2,  112.73,2,   31.83,2,    0.00,2,    2.22,2,   0.170,2,   0.101,2,    0.10,2,  -999.0,9,  -999.0,9,-999.0000,9,  -999.00,-999.000,9,-999.0000,9, -999.00,9,   1.1449,2, -999.00,9,  -999.0,9, -999.00,9,    39.8,2, -999.00,9,      20.93,2,     -999.0,9, -999.00,9, 20140326,     1048, -60.0001, 174.0018,    34.8795,3,     -999.0,9,     -999.0,9,     -999.0,9,     -999.0,9,     -999.0,9,     -999.0,9
320620140320,       P16S,       1,          2,          6,         06,2,20140326,       1011,   -60.0002,   174.0017,       4534,  3234.8,   1.0374,  34.7147,2,  34.7150,2,    205.6,2,   205.5,2,  116.05,2,   31.96,2,    0.00,2,    2.24,2,-999.000,9,-999.000,9, -999.00,9,  2260.1,2,  2362.4,6,   7.6765,2,       20,-999.000,9,-999.0000,9, -999.00,9,   1.0377,2, -999.00,9,  -999.0,9, -999.00,9,    40.6,2, -999.00,9,     -999.0,9,     -999.0,9, -999.00,9, 20140326,     1041, -60.0003, 174.0018,    34.8787,2,     -999.0,9,     -999.0,9,     -999.0,9,     -999.0,9,     -999.0,9,     -999.0,9
320620140320,       P16S,       1,          2,          5,         05,2,20140326,       1011,   -60.0002,   174.0017,       4534,  3540.2,   0.8988,  34.7077,2,  34.7060,3,    208.1,2,   208.9,2,  120.64,2,   32.12,2,    0.00,2,    2.27,2,   0.265,2,   0.151,2,    0.13,2,  -999.0,9,  -999.0,9,-999.0000,9,  -999.00,-999.000,9,-999.0000,9, -999.00,9,   0.8990,2, -999.00,9,  -999.0,9, -999.00,9,    40.6,2, -999.00,9,      20.69,2,     -999.0,9, -999.00,9, 20140326,     1034, -60.0007, 174.0020,    34.8696,3,     -999.0,9,     -999.0,9,     -999.0,9,     -999.0,9,     -999.0,9,     -999.0,9
320620140320,       P16S,       1,          2,          4,         04,2,20140326,       1011,   -60.0002,   174.0017,       4534,  3846.6,   0.8395,  34.7041,2,  34.7022,3,    209.2,2,   210.1,2,  123.18,2,   32.30,2,    0.00,2,    2.28,2,   0.306,2,   0.170,2,    0.08,2,  -999.0,9,  -999.0,9,-999.0000,9,  -999.00,-999.000,9,-999.0000,9, -999.00,9,   0.8392,2, -999.00,9,  -999.0,9, -999.00,9,    40.3,2, -999.00,9,      19.69,2,     -999.0,9, -999.00,9, 20140326,     1028, -60.0006, 174.0020,    34.8659,3,     -999.0,9,     -999.0,9,     -999.0,9,     -999.0,9,     -999.0,9,     -999.0,9
320620140320,       P16S,       1,          2,          3,         03,2,20140326,       1011,   -60.0002,   174.0017,       4534,  4148.8,   0.8417,  34.7033,2,  34.7030,2,    209.2,2,   210.0,2,  124.35,2,   32.35,2,    0.00,2,    2.28,2,   0.313,2,   0.177,2,    0.14,2,  2261.3,2,  2360.9,2,   7.6693,6,       20,-999.000,9,-999.0000,9, -999.00,9,   0.8413,2, -999.00,9,  -999.0,9, -999.00,9,    40.4,2, -999.00,9,      20.72,2,     -999.0,9, -999.00,9, 20140326,     1021, -60.0005, 174.0019,    34.8667,2,     -999.0,9,     -999.0,9,     -999.0,9,     -999.0,9,     -999.0,9,     -999.0,9
320620140320,       P16S,       1,          2,          2,         02,9,20140326,       1011,   -60.0002,   174.0017,       4534,  4150.1,   0.8409,  34.7034,2,-999.0000,9,   -999.0,9,  -999.0,9, -999.00,9, -999.00,9, -999.00,9, -999.00,9,-999.000,9,-999.000,9, -999.00,9,  -999.0,9,  -999.0,9,-999.0000,9,  -999.00,-999.000,9,-999.0000,9, -999.00,9,   0.8412,2, -999.00,9,  -999.0,9, -999.00,9,  -999.0,9, -999.00,9,     -999.0,9,     -999.0,9, -999.00,9, 20140326,     1021, -60.0005, 174.0019,     -999.0,9,     -999.0,9,     -999.0,9,     -999.0,9,     -999.0,9,     -999.0,9,     -999.0,9
320620140320,       P16S,       1,          2,          1,         01,2,20140326,       1011,   -60.0002,   174.0017,       4534,  4563.9,   0.8622,  34.7024,2,  34.7026,2,    210.0,2,   209.8,2,  125.33,2,   32.40,2,    0.00,2,    2.27,2,   0.344,2,   0.191,2,    0.19,2,    2261,2,  2362.9,2,   7.6679,2,       20,-999.000,9,-999.0000,9, -999.00,9,   0.8623,2, -999.00,9,  -999.0,9, -999.00,9,    40.4,2, -999.00,9,      20.36,2,     -999.0,9, -999.00,9, 20140326,     1011, -60.0002, 174.0017,    34.8663,2,     -999.0,9,     -999.0,9,     -999.0,9,     -999.0,9,     -999.0,9,     -999.0,9