BOTTLE,20230715CCHSIOCBG
EXPOCODE,SECT_ID,STNNBR,CASTNO,SAMPNO,BTLNBR,BTLNBR_FLAG_W,DATE,TIME,LATITUDE,LONGITUDE,DEPTH,CTDPRS,CTDTMP,CTDSAL,CTDSAL_FLAG_W,SALNTY,SALNTY_FLAG_W,CTDOXY,CTDOXY_FLAG_W,OXYGEN,OXYGEN_FLAG_W,SILCAT,SILCAT_FLAG_W,NITRAT,NITRAT_FLAG_W,NITRIT,NITRIT_FLAG_W,PHSPHT,PHSPHT_FLAG_W,CFC-11,CFC-11_FLAG_W,CFC-12,CFC-12_FLAG_W,SF6,SF6_FLAG_W,TCARBN,TCARBN_FLAG_W,ALKALI,ALKALI_FLAG_W,PH_TOT,PH_TOT_FLAG_W,PH_TMP,TRITUM,TRITUM_FLAG_W,HELIUM,HELIUM_FLAG_W,DELHE3,DELHE3_FLAG_W,REFTMP,REFTMP_FLAG_W,DELC13,DELC13_FLAG_W,DELC14,DELC14_FLAG_W,DELO18,DELO18_FLAG_W,DOC,DOC_FLAG_W,TDN,TDN_FLAG_W,N2O,N2O_FLAG_W,CALCIUM,CALCIUM_FLAG_W,D15N_NO3,D15N_NO3_FLAG_W,BTL_DATE,BTL_TIME,BTL_LAT,BTL_LON,SALTREF,SALTREF_FLAG_W,D18O_NO3,D18O_NO3_FLAG_W,DSI30,DSI30_FLAG_W,CDOM_NASA,CDOM_NASA_FLAG_W,CDOM_UCSB,CDOM_UCSB_FLAG_W,D15N_NO2+NO3,D15N_NO2+NO3_FLAG_W,D18O_NO2+NO3,D18O_NO2+NO3_FLAG_W
,,,,,,,,,,,METERS,DBAR,ITS-90,PSS-78,,PSS-78,,UMOL/KG,,UMOL/KG,,UMOL/KG,,UMOL/KG,,UMOL/KG,,UMOL/KG,,PMOL/KG,,PMOL/KG,,FMOL/KG,,UMOL/KG,,UMOL/KG,,,,DEG C,TU,,NMOL/KG,,PERCNT,,DEG C,,/MILLE,,/MILLE,,/MILLE,,UMOL/KG,,UMOL/KG,,NMOL/KG,,MMOL/KG,,/MILLE,,,,,,G/KG,,/MILLE,,/MILLE,,,,,,/MILLE,,/MILLE,
320620140320,       P16S,      77,          3,         36,         36,2,20140429,       2332,   -23.6658,  -150.0010,       4717,     4.2,  25.3868,  35.8628,2,  35.8619,2,    205.6,2,   206.3,2,    0.88,2,    0.04,2,    0.00,2,    0.07,2,   1.567,2,   1.004,2,    1.43,2,  2021.5,2,  2358.3,2,   8.1648,2,       20,-999.000,9,-999.0000,9, -999.00,9,  25.3864,2, -999.00,9,  -999.0,9, -999.00,9,  -999.0,9, -999.00,9,       6.80,2,     -999.0,9, -999.00,9, 20140430,      132, -23.6658,-150.0011,    36.0310,2,     -999.0,9,     -999.0,9,     -999.0,9,     -999.0,1,     -999.0,9,     -999.0,9
320620140320,       P16S,      77,          3,         35,         35,2,20140429,       2332,   -23.6658,  -150.0010,       4717,    20.3,  25.3994,  35.8618,2,  35.8614,2,    206.3,2,   206.2,2,    0.98,2,    0.02,2,    0.00,2,    0.07,2,   1.590,2,   1.006,2,    1.60,2,    2022,2,  2357.4,2,   8.1645,2,       20,-999.000,9,-999.0000,9, -999.00,9,  25.3990,2, -999.00,9,  -999.0,9, -999.00,9,  -999.0,9, -999.00,9,       6.59,2,     -999.0,9, -999.00,9, 20140430,      131, -23.6658,-150.0011,    36.0305,2,     -999.0,9,     -999.0,9,     -999.0,9,     -999.0,1,     -999.0,9,     -999.0,9
320620140320,       P16S,      77,          3,         34,         34,2,20140429,       2332,   -23.6658,  -150.0010,       4717,    39.9,  25.4031,  35.8617,2,  35.8616,2,    206.0,2,   206.1,2,    0.98,2,    0.00,2,    0.00,2,    0.06,2,   1.573,2,   1.007,2,    1.43,2,  2021.4,2,  2358.4,2,   8.1652,2,       20,-999.000,9,-999.0000,9, -999.00,9,  25.4024,2, -999.00,9,  -999.0,9, -999.00,9,  -999.0,9, -999.00,9,       6.68,2,     -999.0,9, -999.00,9, 20140430,      129, -23.6658,-150.0010,    36.0307,2,     -999.0,9,     -999.0,9,     -999.0,9,     -999.0,1,     -999.0,9,     -999.0,9
320620140320,       P16S,      77,          3,         33,         33,2,20140429,       2332,   -23.6658,  -150.0010,       4717,    65.2,  25.4018,  35.8615,2,  35.8653,2,    206.4,2,   206.5,2,    0.98,2,    0.00,2,    0.00,2,    0.05,2,-999.000,9,-999.000,9, -999.00,9,    2022,2,  2358.1,2,   8.1651,2,       20,-999.000,9,-999.0000,9, -999.00,9,  25.3946,2, -999.00,9,  -999.0,9, -999.00,9,  -999.0,9, -999.00,9,     -999.0,9,     -999.0,9, -999.00,9, 20140430,      127, -23.6658,-150.0010,    36.0345,2,     -999.0,9,     -999.0,9,     -999.0,9,     -999.0,1,     -999.0,9,     -999.0,9
320620140320,       P16S,      77,          3,         31,         31,2,20140429,       2332,   -23.6658,  -150.0010,       4717,    90.3,  23.4003,  35.9095,2,  35.8983,2,    219.4,2,   218.5,2,    0.98,2,    0.00,2,    0.00,2,    0.04,2,   1.784,2,   1.123,2,    1.64,2,  2033.9,6,  2359.6,2,    8.146,2,       20,-999.000,9,-999.0000,9, -999.00,9,  23.3954,2, -999.00,9,  -999.0,9, -999.00,9,  -999.0,9, -999.00,9,       7.37,2,     -999.0,9, -999.00,9, 20140430,      126, -23.6658,-150.0010,    36.0676,2,     -999.0,9,     -999.0,9,     -999.0,9,     -999.0,1,     -999.0,9,     -999.0,9
320620140320,       P16S,      77,          3,         32,         32,2,20140429,       2332,   -23.6658,  -150.0010,       4717,    90.6,  23.3903,  35.9078,2,-999.0000,9,   -999.0,9,  -999.0,9, -999.00,9, -999.00,9, -999.00,9, -999.00,9,-999.000,9,-999.000,9, -999.00,9,  -999.0,9,  -999.0,9,-999.0000,9,  -999.00,-999.000,9,-999.0000,9, -999.00,9,  23.4029,2, -999.00,9,  -999.0,9, -999.00,9,  -999.0,9, -999.00,9,     -999.0,9,     -999.0,9, -999.00,9, 20140430,      126, -23.6658,-150.0010,     -999.0,9,     -999.0,9,     -999.0,9,     -999.0,9,     -999.0,9,     -999.0,9,     -999.0,9
320620140320,       P16S,      77,          3,         29,         29,2,20140429,       2332,   -23.6658,  -150.0010,       4717,   134.6,  22.0804,  35.8212,2,  35.8201,2,    211.2,2,   212.7,2,    0.98,2,    0.00,2,    0.00,2,    0.06,2,   1.844,2,   1.163,2,    1.63,2,  2042.3,2,    2353,6,   8.1227,2,       20,-999.000,9,-999.0000,9, -999.00,9,  22.0714,2, -999.00,9,  -999.0,9, -999.00,9,  -999.0,9, -999.00,9,       7.50,2,     -999.0,9, -999.00,9, 20140430,      123, -23.6658,-150.0010,    35.9890,2,     -999.0,9,     -999.0,9,     -999.0,9,     -999.0,1,     -999.0,9,     -999.0,9
320620140320,       P16S,      77,          3,         30,         30,2,20140429,       2332,   -23.6658,  -150.0010,       4717,   135.1,  22.0787,  35.8217,2,-999.0000,9,   -999.0,9,  -999.0,9, -999.00,9, -999.00,9, -999.00,9, -999.00,9,-999.000,9,-999.000,9, -999.00,9,  -999.0,9,  -999.0,9,-999.0000,9,  -999.00,-999.000,9,-999.0000,9, -999.00,9,  22.0738,2, -999.00,9,  -999.0,9, -999.00,9,  -999.0,9, -999.00,9,     -999.0,9,     -999.0,9, -999.00,9, 20140430,      124, -23.6658,-150.0010,     -999.0,9,     -999.0,9,     -999.0,9,     -999.0,9,     -999.0,9,     -999.0,9,     -999.0,9
320620140320,       P16S,      77,          3,         28,         28,2,20140429,       2332,   -23.6658,  -150.0010,       4717,   184.4,  20.7069,  35.6958,2,  35.6927,2,    201.6,2,   199.7,2,    0.88,2,    0.65,2,    0.15,2,    0.15,2,   1.996,2,   1.175,2,    1.74,2,    2058,2,  2342.5,2,   8.0825,2,       20,-999.000,9,-999.0000,9, -999.00,9,  20.6953,2, -999.00,9,  -999.0,9, -999.00,9,  -999.0,9, -999.00,9,       8.16,2,     -999.0,9, -999.00,9, 20140430,      121, -23.6658,-150.0010,    35.8611,2,     -999.0,9,     -999.0,9,     -999.0,9,     -999.0,1,     -999.0,9,     -999.0,9
320620140320,       P16S,      77,          3,         27,         27,2,20140429,       2332,   -23.6658,  -150.0010,       4717,   234.0,  18.9442,  35.5345,2,  35.5282,2,    191.1,2,   190.0,2,    1.17,2,    2.95,2,    0.01,2,    0.26,2,   2.133,2,   1.279,2,    1.61,2,    2074,2,  2329.7,2,   8.0325,2,       20,-999.000,9,-999.0000,9, -999.00,9,  18.9435,2, -999.00,9,  -999.0,9, -999.00,9,  -999.0,9, -999.00,9,       9.37,2,     -999.0,9, -999.00,9, 20140430,      119, -23.6658,-150.0010,    35.6957,2,     -999.0,9,     -999.0,9,     -999.0,9,     -999.0,1,     -999.0,9,     -999.0,9
320620140320,       P16S,      77,          3,         26,         26,2,20140429,       2332,   -23.6658,  -150.0010,       4717,   285.5,  16.7206,  35.3205,2,  35.3190,2,    196.3,2,   196.5,2,    1.47,2,    4.46,2,    0.01,2,    0.38,2,   2.530,2,   1.386,2,    1.75,2,  2084.2,2,  2318.3,2,   7.9919,2,       20,-999.000,9,-999.0000,9, -999.00,9,  16.7195,2, -999.00,9,  -999.0,9, -999.00,9,  -999.0,9, -999.00,9,      10.54,2,     -999.0,9, -999.00,9, 20140430,      117, -23.6658,-150.0010,    35.4855,2,     -999.0,9,     -999.0,9,     -999.0,9,     -999.0,1,     -999.0,9,     -999.0,9
320620140320,       P16S,      77,          3,         25,         25,2,20140429,       2332,   -23.6658,  -150.0010,       4717,   334.2,  15.1348,  35.1694,2,  35.1702,2,    195.8,2,   194.3,2,    1.95,2,    7.06,2,    0.01,2,    0.57,2,   2.599,2,   1.434,2,    1.61,2,  2099.4,2,  2308.5,2,   7.9513,6,       20,-999.000,9,-999.0000,9, -999.00,9,  15.1335,2, -999.00,9,  -999.0,9, -999.00,9,  -999.0,9, -999.00,9,      12.57,2,     -999.0,9, -999.00,9, 20140430,      115, -23.6658,-150.0011,    35.3361,2,     -999.0,9,     -999.0,9,     -999.0,9,     -999.0,9,     -999.0,9,     -999.0,9
320620140320,       P16S,      77,          3,         24,         24,2,20140429,       2332,   -23.6658,  -150.0010,       4717,   385.2,  12.8512,  34.9088,2,  34.9029,2,    193.5,2,   194.4,2,    3.32,2,   11.56,2,    0.01,2,    0.85,2,   2.776,2,   1.444,2,    1.47,2,  2117.3,2,  2298.1,2,   7.8918,2,       20,-999.000,9,-999.0000,9, -999.00,9,  12.8335,3, -999.00,9,  -999.0,9, -999.00,9,  -999.0,9, -999.00,9,      15.97,2,     -999.0,9, -999.00,9, 20140430,      113, -23.6658,-150.0010,    35.0675,2,     -999.0,9,     -999.0,9,     -999.0,9,     -999.0,1,     -999.0,9,     -999.0,9
320620140320,       P16S,      77,          3,         23,         23,2,20140429,       2332,   -23.6658,  -150.0010,       4717,   464.4,   9.9091,  34.5931,2,  34.5892,2,    200.9,2,   204.2,2,    5.28,2,   17.28,2,    0.00,2,    1.20,2,   2.939,2,   1.465,2,    1.28,2,  2134.5,2,  2285.8,2,   7.8223,2,       20,-999.000,9,-999.0000,9, -999.00,9,   9.8982,2, -999.00,9,  -999.0,9, -999.00,9,  -999.0,9, -999.00,9,      20.10,2,     -999.0,9, -999.00,9, 20140430,      110, -23.6658,-150.0010,    34.7523,2,     -999.0,9,     -999.0,9,     -999.0,9,     -999.0,9,     -999.0,9,     -999.0,9
320620140320,       P16S,      77,          3,         22,         22,2,20140429,       2332,   -23.6658,  -150.0010,       4717,   564.1,   7.4056,  34.3879,2,  34.3372,4,    221.0,2,   225.1,2,    7.53,2,   21.97,2,    0.00,2,    1.50,2,   3.177,2,   1.536,2,    0.59,2,  2145.7,2,  2279.6,2,   7.7806,2,       20,-999.000,9,-999.0000,9, -999.00,9,   7.4067,2, -999.00,9,  -999.0,9, -999.00,9,  -999.0,9, -999.00,9,      20.30,2,     -999.0,9, -999.00,9, 20140430,      107, -23.6658,-150.0010,    34.4991,4,     -999.0,9,     -999.0,9,     -999.0,9,     -999.0,1,     -999.0,9,     -999.0,9
320620140320,       P16S,      77,          3,         21,         21,2,20140429,       2332,   -23.6658,  -150.0010,       4717,   665.2,   6.4948,  34.3361,2,  34.3366,2,    232.3,2,   232.2,2,    9.48,2,   23.90,2,    0.00,2,    1.61,2,   2.822,2,   1.370,2,    0.46,2,  2149.9,2,  2280.2,2,   7.7711,2,       20,-999.000,9,-999.0000,9, -999.00,9,   6.4947,2, -999.00,9,  -999.0,9, -999.00,9,  -999.0,9, -999.00,9,      18.75,2,     -999.0,9, -999.00,9, 20140430,      105, -23.6658,-150.0010,    34.4985,2,     -999.0,9,     -999.0,9,     -999.0,9,     -999.0,9,     -999.0,9,     -999.0,9
320620140320,       P16S,      77,          3,         20,         20,2,20140429,       2332,   -23.6658,  -150.0010,       4717,   765.5,   5.7623,  34.3105,2,  34.3113,2,    222.4,2,   221.9,2,   14.57,2,   26.62,2,    0.00,2,    1.82,2,   1.997,2,   0.939,2,    0.27,2,    2162,6,  2282.6,2,   7.7454,2,       20,-999.000,9,-999.0000,9, -999.00,9,   5.7568,2, -999.00,9,  -999.0,9, -999.00,9,  -999.0,9, -999.00,9,      19.71,2,     -999.0,9, -999.00,9, 20140430,      102, -23.6658,-150.0010,    34.4731,2,     -999.0,9,     -999.0,9,     -999.0,9,     -999.0,1,     -999.0,9,     -999.0,9
320620140320,       P16S,      77,          3,         19,         19,2,20140429,       2332,   -23.6658,  -150.0010,       4717,   864.8,   5.1149,  34.3294,2,  34.3291,2,    199.4,2,   196.6,2,   25.32,2,   30.10,2,    0.00,2,    2.07,2,   0.879,6,   0.442,6,    0.14,6,  2187.5,2,  2292.7,2,   7.6976,2,       20,-999.000,9,-999.0000,9, -999.00,9,   5.1117,2, -999.00,9,  -999.0,9, -999.00,9,  -999.0,9, -999.00,9,      23.25,6,     -999.0,9, -999.00,9, 20140430,       59, -23.6658,-150.0010,    34.4910,2,     -999.0,9,     -999.0,9,     -999.0,9,     -999.0,9,     -999.0,9,     -999.0,9
320620140320,       P16S,      77,          3,         18,         18,2,20140429,       2332,   -23.6658,  -150.0010,       4717,   964.8,   4.4710,  34.3685,2,  34.3706,2,    177.1,2,   177.2,2,   39.50,2,   32.68,2,    0.00,2,    2.26,2,   0.332,2,   0.192,2,    0.07,2,  2212.1,2,  2306.5,2,     7.66,2,       20,-999.000,9,-999.0000,9, -999.00,9,   4.4639,2, -999.00,9,  -999.0,9, -999.00,9,  -999.0,9, -999.00,9,      24.77,2,     -999.0,9, -999.00,9, 20140430,       56, -23.6658,-150.0010,    34.5326,2,     -999.0,9,     -999.0,9,     -999.0,9,     -999.0,9,     -999.0,9,     -999.0,9
320620140320,       P16S,      77,          3,         17,         17,2,20140429,       2332,   -23.6658,  -150.0010,       4717,  1065.4,   3.9161,  34.4207,2,  34.4198,2,    167.1,2,   165.1,2,   53.28,2,   34.08,2,    0.00,2,    2.38,2,   0.145,2,   0.067,2,    0.06,2,  2232.7,2,  2320.3,2,   7.6395,2,       20,-999.000,9,-999.0000,9, -999.00,9,   3.9278,2, -999.00,9,  -999.0,9, -999.00,9,  -999.0,9, -999.00,9,      26.01,2,     -999.0,9, -999.00,9, 20140430,       54, -23.6658,-150.0010,    34.5821,2,     -999.0,9,     -999.0,9,     -999.0,9,     -999.0,1,     -999.0,9,     -999.0,9
320620140320,       P16S,      77,          3,         16,         16,2,20140429,       2332,   -23.6658,  -150.0010,       4717,  1165.1,   3.4951,  34.4572,2,  34.4581,2,    163.8,2,   163.1,2,   64.04,2,   34.59,2,    0.00,2,    2.40,2,   0.078,2,   0.031,2,    0.04,2,    2246,2,  2331.8,2,   7.6354,2,       20,-999.000,9,-999.0000,9, -999.00,9,   3.4971,2, -999.00,9,  -999.0,9, -999.00,9,  -999.0,9, -999.00,9,      25.03,2,     -999.0,9, -999.00,9, 20140430,       51, -23.6658,-150.0010,    34.6206,2,     -999.0,9,     -999.0,9,     -999.0,9,     -999.0,9,     -999.0,9,     -999.0,9
320620140320,       P16S,      77,          3,         15,         15,2,20140429,       2332,   -23.6658,  -150.0010,       4717,  1265.2,   3.0826,  34.5054,2,  34.5048,2,    160.1,2,   159.5,2,   76.64,2,   34.95,2,    0.00,2,    2.43,2,   0.032,2,   0.006,2,    0.02,2,  2260.4,2,  2343.4,2,   7.6323,2,       20,-999.000,9,-999.0000,9, -999.00,9,   3.0831,2, -999.00,9,  -999.0,9, -999.00,9,  -999.0,9, -999.00,9,      24.79,2,     -999.0,9, -999.00,9, 20140430,       48, -23.6658,-150.0011,    34.6675,2,     -999.0,9,     -999.0,9,     -999.0,9,     -999.0,1,     -999.0,9,     -999.0,9
320620140320,       P16S,      77,          3,         14,         14,2,20140429,       2332,   -23.6658,  -150.0010,       4717,  1364.0,   2.8543,  34.5353,2,  34.5361,2,    157.7,2,   157.5,2,   85.05,2,   35.12,2,    0.00,2,    2.45,2,   0.017,2,   0.004,2,    0.02,2,  2269.4,2,  2355.2,2,   7.6327,2,       20,-999.000,9,-999.0000,9, -999.00,9,   2.8538,2, -999.00,9,  -999.0,9, -999.00,9,  -999.0,9, -999.00,9,      24.57,2,     -999.0,9, -999.00,9, 20140430,       45, -23.6658,-150.0010,    34.6989,2,     -999.0,9,     -999.0,9,     -999.0,9,     -999.0,9,     -999.0,9,     -999.0,9
320620140320,       P16S,      77,          3,         13,         13,2,20140429,       2332,   -23.6658,  -150.0010,       4717,  1534.6,   2.5704,  34.5756,2,  34.5758,2,    154.2,2,   153.8,2,   96.78,2,   35.38,2,    0.00,2,    2.48,2,   0.004,2,   0.001,2,    0.04,2,  2281.9,2,  2369.2,2,   7.6318,2,       20,-999.000,9,-999.0000,9, -999.00,9,   2.5716,2, -999.00,9,  -999.0,9, -999.00,9,  -999.0,9, -999.00,9,      25.25,2,     -999.0,9, -999.00,9, 20140430,       41, -23.6658,-150.0010,    34.7388,2,     -999.0,9,     -999.0,9,     -999.0,9,     -999.0,9,     -999.0,9,     -999.0,9
320620140320,       P16S,      77,          3,         12,         12,2,20140429,       2332,   -23.6658,  -150.0010,       4717,  1734.8,   2.3436,  34.6080,2,  34.6079,2,    150.6,2,   150.8,2,  107.24,2,   35.64,2,    0.00,2,    2.48,2,  -0.001,2,   0.001,2,    0.05,3,    2294,2,  2381.2,2,   7.6309,2,       20,-999.000,9,-999.0000,9, -999.00,9,   2.3438,2, -999.00,9,  -999.0,9, -999.00,9,  -999.0,9, -999.00,9,      24.76,2,     -999.0,9, -999.00,9, 20140430,       37, -23.6658,-150.0010,    34.7711,2,     -999.0,9,     -999.0,9,     -999.0,9,     -999.0,1,     -999.0,9,     -999.0,9
320620140320,       P16S,      77,          3,         11,         11,2,20140429,       2332,   -23.6658,  -150.0010,       4717,  1934.6,   2.1845,  34.6275,2,  34.6277,2,    148.9,2,   148.7,2,  114.76,2,   35.79,2,    0.00,2,    2.49,2,   0.013,2,   0.000,2,    0.00,2,  2302.2,2,  2390.3,2,   7.6303,2,       20,-999.000,9,-999.0000,9, -999.00,9,   2.1842,2, -999.00,9,  -999.0,9, -999.00,9,  -999.0,9, -999.00,9,      24.26,2,     -999.0,9, -999.00,9, 20140430,       33, -23.6658,-150.0010,    34.7910,2,     -999.0,9,     -999.0,9,     -999.0,9,     -999.0,9,     -999.0,9,     -999.0,9
320620140320,       P16S,      77,          3,         10,         10,2,20140429,       2332,   -23.6658,  -150.0010,       4717,  2165.2,   2.0188,  34.6439,2,  34.6440,2,    149.4,2,   149.6,2,  120.82,2,   35.87,2,    0.00,2,    2.49,2,   0.000,2,   0.000,2,    0.00,2,  2307.4,2,    2396,2,   7.6331,2,       20,-999.000,9,-999.0000,9, -999.00,9,   2.0192,2, -999.00,9,  -999.0,9, -999.00,9,  -999.0,9, -999.00,9,      25.23,2,     -999.0,9, -999.00,9, 20140430,       28, -23.6658,-150.0010,    34.8074,2,     -999.0,9,     -999.0,9,     -999.0,9,     -999.0,9,     -999.0,9,     -999.0,9
320620140320,       P16S,      77,          3,          9,         09,2,20140429,       2332,   -23.6658,  -150.0010,       4717,  2414.6,   1.9147,  34.6539,2,  34.6539,2,    150.3,2,   150.1,2,  124.53,2,   35.84,2,    0.00,2,    2.50,2,   0.001,2,   0.000,2,    0.01,2,  2310.3,2,  2399.6,2,   7.6345,2,       20,-999.000,9,-999.0000,9, -999.00,9,   1.9142,2, -999.00,9,  -999.0,9, -999.00,9,  -999.0,9, -999.00,9,      24.21,2,     -999.0,9, -999.00,9, 20140430,       22, -23.6658,-150.0010,    34.8173,2,     -999.0,9,     -999.0,9,     -999.0,9,     -999.0,1,     -999.0,9,     -999.0,9
320620140320,       P16S,      77,          3,          8,         08,2,20140429,       2332,   -23.6658,  -150.0010,       4717,  2665.3,   1.8140,  34.6626,2,  34.6633,2,    153.6,2,   153.9,2,  126.68,2,   35.64,2,    0.00,2,    2.49,2,   0.000,2,   0.000,2,    0.00,2,  2308.7,6,  2400.9,2,   7.6395,2,       20,-999.000,9,-999.0000,9, -999.00,9,   1.8140,2, -999.00,9,  -999.0,9, -999.00,9,  -999.0,9, -999.00,9,      24.71,2,     -999.0,9, -999.00,9, 20140430,       17, -23.6658,-150.0010,    34.8268,2,     -999.0,9,     -999.0,9,     -999.0,9,     -999.0,9,     -999.0,9,     -999.0,9
320620140320,       P16S,      77,          3,          7,         07,2,20140429,       2332,   -23.6658,  -150.0010,       4717,  2914.9,   1.7028,  34.6715,2,  34.6720,2,    159.0,2,   158.6,2,  127.56,2,   35.32,2,    0.00,2,    2.48,2,-999.000,9,-999.000,9, -999.00,9,  2307.6,2,  2400.6,2,   7.6446,6,       20,-999.000,9,-999.0000,9, -999.00,9,   1.7027,2, -999.00,9,  -999.0,9, -999.00,9,  -999.0,9, -999.00,9,     -999.0,9,     -999.0,9, -999.00,9, 20140430,       11, -23.6658,-150.0010,    34.8355,2,     -999.0,9,     -999.0,9,     -999.0,9,     -999.0,9,     -999.0,9,     -999.0,9
320620140320,       P16S,      77,          3,          6,         06,2,20140429,       2332,   -23.6658,  -150.0010,       4717,  3199.7,   1.6228,  34.6782,2,  34.6779,2,    164.9,2,   165.6,2,  126.10,2,   34.83,2,    0.00,2,    2.45,2,   0.003,2,   0.000,2,   -0.09,2,  2301.5,2,  2397.3,2,   7.6521,2,       20,-999.000,9,-999.0000,9, -999.00,9,   1.6228,2, -999.00,9,  -999.0,9, -999.00,9,  -999.0,9, -999.00,9,      23.99,2,     -999.0,9, -999.00,9, 20140430,        5, -23.6658,-150.0010,    34.8415,2,     -999.0,9,     -999.0,9,     -999.0,9,     -999.0,1,     -999.0,9,     -999.0,9