BOTTLE,20230715CCHSIOCBG
EXPOCODE,SECT_ID,STNNBR,CASTNO,SAMPNO,BTLNBR,BTLNBR_FLAG_W,DATE,TIME,LATITUDE,LONGITUDE,DEPTH,CTDPRS,CTDTMP,CTDSAL,CTDSAL_FLAG_W,SALNTY,SALNTY_FLAG_W,CTDOXY,CTDOXY_FLAG_W,OXYGEN,OXYGEN_FLAG_W,SILCAT,SILCAT_FLAG_W,NITRAT,NITRAT_FLAG_W,NITRIT,NITRIT_FLAG_W,PHSPHT,PHSPHT_FLAG_W,CFC-11,CFC-11_FLAG_W,CFC-12,CFC-12_FLAG_W,SF6,SF6_FLAG_W,TCARBN,TCARBN_FLAG_W,ALKALI,ALKALI_FLAG_W,PH_TOT,PH_TOT_FLAG_W,PH_TMP,TRITUM,TRITUM_FLAG_W,HELIUM,HELIUM_FLAG_W,DELHE3,DELHE3_FLAG_W,REFTMP,REFTMP_FLAG_W,DELC13,DELC13_FLAG_W,DELC14,DELC14_FLAG_W,DELO18,DELO18_FLAG_W,DOC,DOC_FLAG_W,TDN,TDN_FLAG_W,N2O,N2O_FLAG_W,CALCIUM,CALCIUM_FLAG_W,D15N_NO3,D15N_NO3_FLAG_W,BTL_DATE,BTL_TIME,BTL_LAT,BTL_LON,SALTREF,SALTREF_FLAG_W,D18O_NO3,D18O_NO3_FLAG_W,DSI30,DSI30_FLAG_W,CDOM_NASA,CDOM_NASA_FLAG_W,CDOM_UCSB,CDOM_UCSB_FLAG_W,D15N_NO2+NO3,D15N_NO2+NO3_FLAG_W,D18O_NO2+NO3,D18O_NO2+NO3_FLAG_W
,,,,,,,,,,,METERS,DBAR,ITS-90,PSS-78,,PSS-78,,UMOL/KG,,UMOL/KG,,UMOL/KG,,UMOL/KG,,UMOL/KG,,UMOL/KG,,PMOL/KG,,PMOL/KG,,FMOL/KG,,UMOL/KG,,UMOL/KG,,,,DEG C,TU,,NMOL/KG,,PERCNT,,DEG C,,/MILLE,,/MILLE,,/MILLE,,UMOL/KG,,UMOL/KG,,NMOL/KG,,MMOL/KG,,/MILLE,,,,,,G/KG,,/MILLE,,/MILLE,,,,,,/MILLE,,/MILLE,
320620140320,       P16S,       9,          1,          5,         05,2,20140402,       0450,   -64.9901,  -149.9969,       3908,  3297.8,   0.2193,  34.6936,2,  34.6946,3,    218.3,2,   218.2,2,  127.83,2,   32.36,2,    0.00,2,    2.26,2,   0.817,2,   0.359,2,    0.15,2,  2261.1,2,  2358.9,2,   7.6663,2,       20,-999.000,9,-999.0000,9, -999.00,9,   0.2194,2, -999.00,9,  -999.0,9, -999.00,9,    40.1,2, -999.00,9,      19.51,2,     -999.0,9, -999.00,9, 20140402,      512, -64.9902,-149.9969,    34.8582,3,     -999.0,9,     -999.0,9,     -999.0,9,     -999.0,9,     -999.0,9,     -999.0,9
320620140320,       P16S,       9,          1,          4,         04,2,20140402,       0450,   -64.9901,  -149.9969,       3908,  3499.7,   0.2298,  34.6931,2,  34.6928,2,    218.6,2,   218.3,2,  127.64,2,   32.34,2,    0.00,2,    2.26,2,   0.820,2,   0.364,2,    0.20,2,  2261.3,2,  2358.1,6,   7.6662,2,       20,-999.000,9,-999.0000,1, -999.00,9,   0.2295,2, -999.00,9,  -999.0,9, -999.00,9,    42.2,3, -999.00,9,      19.34,2,     -999.0,1, -999.00,9, 20140402,      507, -64.9901,-149.9967,    34.8564,2,     -999.0,9,     -999.0,9,     -999.0,9,     -999.0,9,     -999.0,9,     -999.0,9
320620140320,       P16S,       9,          1,          3,         03,2,20140402,       0450,   -64.9901,  -149.9969,       3908,  3699.1,   0.2406,  34.6931,2,  34.6932,2,    218.5,2,   218.5,2,  127.54,2,   32.38,2,    0.00,2,    2.27,2,   0.873,2,   0.372,2,    0.18,2,  -999.0,9,  -999.0,9,-999.0000,9,  -999.00,-999.000,1,-999.0000,1, -999.00,9,   0.2404,2, -999.00,9,  -999.0,9, -999.00,9,      40,2, -999.00,9,      19.55,2,     -999.0,9, -999.00,9, 20140402,      502, -64.9899,-149.9964,    34.8568,2,     -999.0,9,     -999.0,9,     -999.0,9,     -999.0,9,     -999.0,9,     -999.0,9
320620140320,       P16S,       9,          1,          2,         02,2,20140402,       0450,   -64.9901,  -149.9969,       3908,  3899.8,   0.2532,  34.6935,2,  34.6936,2,    218.7,2,   218.6,2,  127.54,2,   32.36,2,    0.00,2,    2.27,2,   0.797,2,   0.366,2,    0.12,2,    2263,6,  2358.4,2,   7.6674,2,       20,-999.000,9,-999.0000,1, -999.00,9,   0.2534,2, -999.00,9,  -999.0,9, -999.00,9,    41.6,2, -999.00,9,      19.99,2,     -999.0,9, -999.00,9, 20140402,      457, -64.9902,-149.9971,    34.8572,2,     -999.0,9,     -999.0,9,     -999.0,9,     -999.0,9,     -999.0,9,     -999.0,9
320620140320,       P16S,       9,          1,          1,         01,2,20140402,       0450,   -64.9901,  -149.9969,       3908,  4179.9,   0.2737,  34.6934,2,  34.6940,2,    218.9,2,   218.7,2,  128.32,2,   32.40,2,    0.00,2,    2.26,2,   0.868,2,   0.363,2,    0.28,2,  2262.3,2,  2358.9,2,   7.6647,6,       20,-999.000,1,-999.0000,1, -999.00,9,   0.2733,2, -999.00,9,  -999.0,9, -999.00,9,    39.8,2, -999.00,9,      19.51,2,     -999.0,1, -999.00,9, 20140402,      451, -64.9902,-149.9970,    34.8576,2,     -999.0,9,     -999.0,1,     -999.0,9,     -999.0,9,     -999.0,9,     -999.0,9