BOTTLE,20230715CCHSIOCBG
EXPOCODE,SECT_ID,STNNBR,CASTNO,SAMPNO,BTLNBR,BTLNBR_FLAG_W,DATE,TIME,LATITUDE,LONGITUDE,DEPTH,CTDPRS,CTDTMP,CTDSAL,CTDSAL_FLAG_W,SALNTY,SALNTY_FLAG_W,CTDOXY,CTDOXY_FLAG_W,OXYGEN,OXYGEN_FLAG_W,SILCAT,SILCAT_FLAG_W,NITRAT,NITRAT_FLAG_W,NITRIT,NITRIT_FLAG_W,PHSPHT,PHSPHT_FLAG_W,CFC-11,CFC-11_FLAG_W,CFC-12,CFC-12_FLAG_W,SF6,SF6_FLAG_W,TCARBN,TCARBN_FLAG_W,ALKALI,ALKALI_FLAG_W,PH_TOT,PH_TOT_FLAG_W,PH_TMP,TRITUM,TRITUM_FLAG_W,HELIUM,HELIUM_FLAG_W,DELHE3,DELHE3_FLAG_W,REFTMP,REFTMP_FLAG_W,DELC13,DELC13_FLAG_W,DELC14,DELC14_FLAG_W,DELO18,DELO18_FLAG_W,DOC,DOC_FLAG_W,TDN,TDN_FLAG_W,N2O,N2O_FLAG_W,CALCIUM,CALCIUM_FLAG_W,D15N_NO3,D15N_NO3_FLAG_W,BTL_DATE,BTL_TIME,BTL_LAT,BTL_LON,SALTREF,SALTREF_FLAG_W,D18O_NO3,D18O_NO3_FLAG_W,DSI30,DSI30_FLAG_W,CDOM_NASA,CDOM_NASA_FLAG_W,CDOM_UCSB,CDOM_UCSB_FLAG_W,D15N_NO2+NO3,D15N_NO2+NO3_FLAG_W,D18O_NO2+NO3,D18O_NO2+NO3_FLAG_W
,,,,,,,,,,,METERS,DBAR,ITS-90,PSS-78,,PSS-78,,UMOL/KG,,UMOL/KG,,UMOL/KG,,UMOL/KG,,UMOL/KG,,UMOL/KG,,PMOL/KG,,PMOL/KG,,FMOL/KG,,UMOL/KG,,UMOL/KG,,,,DEG C,TU,,NMOL/KG,,PERCNT,,DEG C,,/MILLE,,/MILLE,,/MILLE,,UMOL/KG,,UMOL/KG,,NMOL/KG,,MMOL/KG,,/MILLE,,,,,,G/KG,,/MILLE,,/MILLE,,,,,,/MILLE,,/MILLE,
320620140320,       P16S,      84,          1,         36,         36,2,20140502,       0824,   -19.0002,  -150.0006,       4285,     4.4,  27.4578,  35.7103,2,  35.7088,2,    198.4,2,   199.9,2,    0.98,2,    0.04,2,    0.01,2,    0.09,2,   1.531,2,   0.941,2,    1.31,2,    2000,2,  2351.7,2,   8.1966,2,       20,-999.000,9,-999.0000,9, -999.00,9,  27.4558,2, -999.00,9,  -999.0,9, -999.00,9,    73.8,2,     4.4,2,       6.27,2,     -999.0,9, -999.00,9, 20140502,     1018, -19.0002,-150.0004,    35.8772,2,     -999.0,9,     -999.0,9,     -999.0,9,     -999.0,9,     -999.0,9,     -999.0,9
320620140320,       P16S,      84,          1,         35,         35,2,20140502,       0824,   -19.0002,  -150.0006,       4285,    24.5,  27.4753,  35.7127,2,  35.7116,2,    199.2,2,   199.3,2,    1.07,2,    0.01,2,    0.00,2,    0.10,2,   1.503,2,   0.956,2,    1.46,2,    1999,2,  2351.5,2,   8.1961,2,       20,-999.000,9,-999.0000,9, -999.00,9,  27.4740,2, -999.00,9,  -999.0,9, -999.00,9,    71.7,2,    5.32,2,       6.21,2,     -999.0,9, -999.00,9, 20140502,     1016, -19.0002,-150.0004,    35.8800,2,     -999.0,9,     -999.0,9,     -999.0,9,     -999.0,9,     -999.0,9,     -999.0,9
320620140320,       P16S,      84,          1,         34,         34,2,20140502,       0824,   -19.0002,  -150.0006,       4285,    49.8,  27.4793,  35.7166,2,  35.7126,2,    199.0,2,   199.4,2,    0.98,2,    0.00,2,    0.00,2,    0.12,2,-999.000,9,-999.000,9, -999.00,9,  1998.9,2,  2351.1,2,   8.1959,2,       20,-999.000,9,-999.0000,9, -999.00,9,  27.4759,2, -999.00,9,  -999.0,9, -999.00,9,    72.4,2,    4.86,2,     -999.0,9,     -999.0,9, -999.00,9, 20140502,     1015, -19.0002,-150.0004,    35.8810,2,     -999.0,9,     -999.0,9,     -999.0,9,     -999.0,9,     -999.0,9,     -999.0,9
320620140320,       P16S,      84,          1,         33,         33,2,20140502,       0824,   -19.0002,  -150.0006,       4285,    75.0,  26.4122,  36.1372,2,  36.1367,2,    207.3,2,   210.8,2,    0.98,2,    0.00,2,    0.00,2,    0.11,2,   1.675,2,   1.021,2,    1.34,2,  -999.0,9,  -999.0,9,-999.0000,9,  -999.00,-999.000,9,-999.0000,9, -999.00,9,  26.4115,2, -999.00,9,  -999.0,9, -999.00,9,    71.7,2,    3.63,2,       6.86,2,     -999.0,9, -999.00,9, 20140502,     1013, -19.0002,-150.0004,    36.3071,2,     -999.0,9,     -999.0,9,     -999.0,9,     -999.0,9,     -999.0,9,     -999.0,9
320620140320,       P16S,      84,          1,         32,         32,2,20140502,       0824,   -19.0002,  -150.0006,       4285,    99.8,  24.6359,  36.1214,2,  36.1207,2,    213.1,2,   212.7,2,    0.88,2,    0.00,2,    0.00,2,    0.08,2,-999.000,9,-999.000,9, -999.00,9,  2042.2,2,  2375.9,2,   8.1575,2,       20,-999.000,9,-999.0000,9, -999.00,9,  24.6306,2, -999.00,9,  -999.0,9, -999.00,9,    67.6,2,    4.09,2,     -999.0,9,     -999.0,9, -999.00,9, 20140502,     1011, -19.0002,-150.0004,    36.2910,2,     -999.0,9,     -999.0,9,     -999.0,9,     -999.0,9,     -999.0,9,     -999.0,9
320620140320,       P16S,      84,          1,         31,         31,2,20140502,       0824,   -19.0002,  -150.0006,       4285,   125.3,  23.4091,  36.0789,2,  36.0831,2,    207.1,2,   205.8,2,    0.88,2,    0.00,2,    0.00,2,    0.08,2,   1.837,2,   1.110,2,    1.52,2,  -999.0,9,  -999.0,9,-999.0000,9,  -999.00,-999.000,9,-999.0000,9, -999.00,9,  23.4053,2, -999.00,9,  -999.0,9, -999.00,9,    65.4,2,    3.56,2,       7.23,2,     -999.0,9, -999.00,9, 20140502,     1010, -19.0002,-150.0004,    36.2533,2,     -999.0,9,     -999.0,9,     -999.0,9,     -999.0,9,     -999.0,9,     -999.0,9
320620140320,       P16S,      84,          1,         30,         30,2,20140502,       0824,   -19.0002,  -150.0006,       4285,   149.3,  22.5874,  36.0322,2,  36.0331,2,    198.9,2,   197.5,2,    0.78,2,    0.27,2,    0.19,2,    0.14,2,-999.000,9,-999.000,9, -999.00,9,    2064,2,  2369.8,2,   8.1124,2,       20,-999.000,9,-999.0000,9, -999.00,9,  22.5814,2, -999.00,9,  -999.0,9, -999.00,9,    60.1,2,    3.77,2,     -999.0,9,     -999.0,9, -999.00,9, 20140502,     1008, -19.0002,-150.0004,    36.2030,2,     -999.0,9,     -999.0,9,     -999.0,9,     -999.0,9,     -999.0,9,     -999.0,9
320620140320,       P16S,      84,          1,         29,         29,2,20140502,       0824,   -19.0002,  -150.0006,       4285,   199.0,  20.5261,  35.8014,2,  35.8206,2,    185.2,2,   186.0,2,    0.88,2,    2.64,2,    0.02,2,    0.26,2,   2.144,2,   1.231,2,    1.49,2,  2084.7,2,  2354.1,2,   8.0541,2,       20,-999.000,9,-999.0000,9, -999.00,9,  20.4947,3, -999.00,9,  -999.0,9, -999.00,9,    51.1,2,    5.87,2,       8.96,2,     -999.0,9, -999.00,9, 20140502,     1006, -19.0002,-150.0004,    35.9895,2,     -999.0,9,     -999.0,9,     -999.0,9,     -999.0,9,     -999.0,9,     -999.0,9
320620140320,       P16S,      84,          1,         28,         28,2,20140502,       0824,   -19.0002,  -150.0006,       4285,   250.1,  19.2658,  35.6297,2,  35.6324,2,    183.4,2,   182.4,2,    1.17,2,    4.04,2,    0.01,2,    0.38,2,-999.000,9,-999.000,9, -999.00,9,  -999.0,9,  -999.0,9,-999.0000,9,  -999.00,-999.000,9,-999.0000,9, -999.00,9,  19.2789,2, -999.00,9,  -999.0,9, -999.00,9,      51,2,    6.81,2,     -999.0,9,     -999.0,9, -999.00,9, 20140502,     1004, -19.0002,-150.0004,    35.8005,2,     -999.0,9,     -999.0,9,     -999.0,9,     -999.0,9,     -999.0,9,     -999.0,9
320620140320,       P16S,      84,          1,         27,         27,2,20140502,       0824,   -19.0002,  -150.0006,       4285,   301.2,  17.5483,  35.3787,2,  35.3857,2,    179.2,2,   180.7,2,    1.66,2,    5.78,2,    0.01,2,    0.49,2,   2.448,2,   1.364,2,    1.25,2,  2099.5,2,    2328,6,   7.9818,2,       20,-999.000,9,-999.0000,9, -999.00,9,  17.5655,2, -999.00,9,  -999.0,9, -999.00,9,    49.1,2,    7.53,2,      11.82,2,     -999.0,9, -999.00,9, 20140502,     1001, -19.0002,-150.0004,    35.5525,2,     -999.0,9,     -999.0,9,     -999.0,9,     -999.0,9,     -999.0,9,     -999.0,9
320620140320,       P16S,      84,          1,         26,         26,2,20140502,       0824,   -19.0002,  -150.0006,       4285,   350.9,  14.8128,  35.0168,2,  35.0242,2,    168.0,2,   166.4,2,    4.01,2,   10.80,2,    0.01,2,    0.90,2,-999.000,9,-999.000,9, -999.00,9,  -999.0,9,  -999.0,9,-999.0000,9,  -999.00,-999.000,9,-999.0000,9, -999.00,9,  14.8298,2, -999.00,9,  -999.0,9, -999.00,9,    49.8,2,   13.33,2,     -999.0,9,     -999.0,9, -999.00,9, 20140502,      959, -19.0002,-150.0004,    35.1894,2,     -999.0,9,     -999.0,9,     -999.0,9,     -999.0,9,     -999.0,9,     -999.0,9
320620140320,       P16S,      84,          1,         25,         25,2,20140502,       0824,   -19.0002,  -150.0006,       4285,   400.2,  12.6684,  34.7804,2,  34.7805,2,    151.7,2,   151.4,2,    7.24,2,   15.94,2,    0.01,2,    1.28,2,   2.348,2,   1.226,2,    0.82,2,  2147.7,6,  2295.4,2,   7.8119,2,       20,-999.000,9,-999.0000,9, -999.00,9,  12.6791,2, -999.00,9,  -999.0,9, -999.00,9,    49.4,2,   18.43,2,      23.82,2,     -999.0,9, -999.00,9, 20140502,      957, -19.0002,-150.0004,    34.9445,2,     -999.0,9,     -999.0,9,     -999.0,9,     -999.0,9,     -999.0,9,     -999.0,9
320620140320,       P16S,      84,          1,         24,         24,2,20140502,       0824,   -19.0002,  -150.0006,       4285,   449.3,  11.0896,  34.6315,2,  34.6266,2,    138.4,2,   139.8,2,   10.46,2,   20.40,2,    0.00,2,    1.59,2,-999.000,9,-999.000,9, -999.00,9,  -999.0,9,  -999.0,9,-999.0000,9,  -999.00,-999.000,9,-999.0000,9, -999.00,9,  11.1023,2, -999.00,9,  -999.0,9, -999.00,9,    45.7,2,   23.57,2,     -999.0,9,     -999.0,9, -999.00,9, 20140502,      955, -19.0002,-150.0004,    34.7899,2,     -999.0,9,     -999.0,9,     -999.0,9,     -999.0,9,     -999.0,9,     -999.0,9
320620140320,       P16S,      84,          1,         23,         23,2,20140502,       0824,   -19.0002,  -150.0006,       4285,   500.2,   9.3169,  34.5146,2,  34.5107,2,    144.8,2,   141.6,2,   13.49,2,   24.28,2,    0.01,2,    1.82,2,   1.867,2,   0.926,2,    0.27,2,  2179.7,2,  2285.2,2,   7.6966,2,       20,-999.000,9,-999.0000,9, -999.00,9,   9.2357,3, -999.00,9,  -999.0,9, -999.00,9,    43.1,3,   26.21,2,      32.42,2,     -999.0,9, -999.00,9, 20140502,      953, -19.0002,-150.0004,    34.6734,2,     -999.0,9,     -999.0,9,     -999.0,9,     -999.0,9,     -999.0,9,     -999.0,9
320620140320,       P16S,      84,          1,         22,         22,2,20140502,       0824,   -19.0002,  -150.0006,       4285,   601.2,   7.1792,  34.3841,2,  34.3825,2,    175.0,2,   182.4,2,   14.08,2,   26.44,2,    0.00,2,    1.85,2,-999.000,9,-999.000,9, -999.00,9,  2173.1,2,  2281.8,2,   7.7098,2,       20,-999.000,9,-999.0000,9, -999.00,9,   7.1848,2, -999.00,9,  -999.0,9, -999.00,9,    48.2,3, -999.00,9,     -999.0,9,     -999.0,9, -999.00,9, 20140502,      950, -19.0002,-150.0004,    34.5446,2,     -999.0,9,     -999.0,9,     -999.0,9,     -999.0,9,     -999.0,9,     -999.0,9
320620140320,       P16S,      84,          1,         21,         21,2,20140502,       0824,   -19.0002,  -150.0006,       4285,   699.5,   6.0858,  34.4117,2,  34.4100,2,    153.9,2,   152.6,2,   28.56,2,   31.59,2,    0.00,2,    2.21,2,   0.706,2,   0.301,2,    0.05,2,  2207.7,2,  2295.2,2,   7.6483,2,       20,-999.000,9,-999.0000,9, -999.00,9,   6.0881,2, -999.00,9,  -999.0,9, -999.00,9,    44.4,2, -999.00,9,      29.91,2,     -999.0,9, -999.00,9, 20140502,      947, -19.0002,-150.0004,    34.5723,2,     -999.0,9,     -999.0,9,     -999.0,9,     -999.0,9,     -999.0,9,     -999.0,9
320620140320,       P16S,      84,          1,         20,         20,2,20140502,       0824,   -19.0002,  -150.0006,       4285,   800.1,   5.1675,  34.4065,2,  34.4057,2,    160.6,2,   158.6,2,   38.04,2,   32.81,2,    0.00,2,    2.27,2,   0.382,2,   0.155,2,    0.04,2,    2215,2,  2305.1,2,   7.6481,2,       20,-999.000,9,-999.0000,9, -999.00,9,   5.1670,2, -999.00,9,  -999.0,9, -999.00,9,    41.3,2, -999.00,9,      29.26,2,     -999.0,9, -999.00,9, 20140502,      945, -19.0002,-150.0004,    34.5679,2,     -999.0,9,     -999.0,9,     -999.0,9,     -999.0,9,     -999.0,9,     -999.0,9
320620140320,       P16S,      84,          1,         19,         19,2,20140502,       0824,   -19.0002,  -150.0006,       4285,   900.3,   4.5956,  34.4185,2,  34.4175,2,    159.7,2,   157.9,2,   46.84,2,   33.68,2,    0.00,2,    2.34,2,   0.217,2,   0.079,2,    0.03,2,  2225.7,2,    2314,2,   7.6414,2,       20,-999.000,9,-999.0000,9, -999.00,9,   4.5905,2, -999.00,9,  -999.0,9, -999.00,9,    42.2,2, -999.00,9,      27.86,2,     -999.0,9, -999.00,9, 20140502,      942, -19.0002,-150.0004,    34.5798,2,     -999.0,9,     -999.0,9,     -999.0,9,     -999.0,9,     -999.0,9,     -999.0,9
320620140320,       P16S,      84,          1,         18,         18,2,20140502,       0824,   -19.0002,  -150.0006,       4285,  1002.2,   3.9985,  34.4652,2,  34.4648,2,    151.6,2,   150.6,2,   61.81,2,   34.81,2,    0.00,2,    2.44,2,-999.000,9,-999.000,9, -999.00,9,  2246.7,2,  2329.6,2,   7.6287,2,       20,-999.000,9,-999.0000,9, -999.00,9,   3.9928,3, -999.00,9,  -999.0,9, -999.00,9,    39.6,2, -999.00,9,     -999.0,9,     -999.0,9, -999.00,9, 20140502,      939, -19.0002,-150.0004,    34.6273,2,     -999.0,9,     -999.0,9,     -999.0,9,     -999.0,9,     -999.0,9,     -999.0,9
320620140320,       P16S,      84,          1,         17,         17,2,20140502,       0824,   -19.0002,  -150.0006,       4285,  1100.0,   3.5443,  34.5026,2,  34.5015,2,    149.4,2,   149.2,2,   73.15,2,   35.08,2,    0.00,2,    2.45,2,   0.025,2,   0.000,2,    0.03,2,  2259.1,2,  2342.4,2,   7.6272,2,       20,-999.000,9,-999.0000,9, -999.00,9,   3.5439,2, -999.00,9,  -999.0,9, -999.00,9,      42,2, -999.00,9,      26.69,2,     -999.0,9, -999.00,9, 20140502,      936, -19.0002,-150.0004,    34.6642,2,     -999.0,9,     -999.0,9,     -999.0,9,     -999.0,9,     -999.0,9,     -999.0,9
320620140320,       P16S,      84,          1,         16,         16,2,20140502,       0824,   -19.0002,  -150.0006,       4285,  1199.0,   3.2471,  34.5291,2,  34.5268,2,    148.9,2,   149.3,2,   81.36,2,   35.31,2,    0.00,2,    2.47,2,-999.000,9,-999.000,9, -999.00,9,  -999.0,9,  -999.0,9,-999.0000,9,  -999.00,-999.000,9,-999.0000,9, -999.00,9,   3.2500,2, -999.00,9,  -999.0,9, -999.00,9,    39.7,2, -999.00,9,     -999.0,9,     -999.0,9, -999.00,9, 20140502,      934, -19.0002,-150.0004,    34.6896,2,     -999.0,9,     -999.0,9,     -999.0,9,     -999.0,9,     -999.0,9,     -999.0,9
320620140320,       P16S,      84,          1,         15,         15,2,20140502,       0824,   -19.0002,  -150.0006,       4285,  1300.8,   3.0127,  34.5491,2,  34.5478,2,    148.7,2,   148.9,2,   88.11,2,   35.47,2,    0.00,2,    2.48,2,   0.005,2,   0.000,2,    0.00,2,  2273.7,2,  2358.9,2,   7.6292,2,       20,-999.000,9,-999.0000,9, -999.00,9,   3.0129,2, -999.00,9,  -999.0,9, -999.00,9,    41.4,2, -999.00,9,      26.00,2,     -999.0,9, -999.00,9, 20140502,      931, -19.0002,-150.0004,    34.7107,2,     -999.0,9,     -999.0,9,     -999.0,9,     -999.0,9,     -999.0,9,     -999.0,9
320620140320,       P16S,      84,          1,         14,         14,2,20140502,       0824,   -19.0002,  -150.0006,       4285,  1399.9,   2.7831,  34.5706,2,  34.5700,2,    148.7,2,   148.7,2,   95.05,2,   35.55,2,    0.00,2,    2.48,2,-999.000,9,-999.000,9, -999.00,9,  -999.0,9,  -999.0,9,-999.0000,9,  -999.00,-999.000,9,-999.0000,9, -999.00,9,   2.7833,2, -999.00,9,  -999.0,9, -999.00,9,      39,2, -999.00,9,     -999.0,9,     -999.0,9, -999.00,9, 20140502,      928, -19.0002,-150.0004,    34.7330,2,     -999.0,9,     -999.0,9,     -999.0,9,     -999.0,9,     -999.0,9,     -999.0,9
320620140320,       P16S,      84,          1,         13,         13,2,20140502,       0824,   -19.0002,  -150.0006,       4285,  1496.6,   2.6945,  34.5797,2,  34.5785,2,    148.7,2,   148.6,2,   97.98,2,   35.50,2,    0.00,2,    2.47,2,  -0.002,2,   0.000,2,    0.00,2,  2283.2,2,  2369.8,2,   7.6301,2,       20,-999.000,9,-999.0000,9, -999.00,9,   2.6955,2, -999.00,9,  -999.0,9, -999.00,9,    40.7,2, -999.00,9,      25.24,2,     -999.0,9, -999.00,9, 20140502,      925, -19.0002,-150.0004,    34.7415,2,     -999.0,9,     -999.0,9,     -999.0,9,     -999.0,9,     -999.0,9,     -999.0,9
320620140320,       P16S,      84,          1,         12,         12,2,20140502,       0824,   -19.0002,  -150.0006,       4285,  1599.7,   2.5278,  34.5966,2,  34.5954,2,    148.3,2,   148.6,2,  103.36,2,   35.64,2,    0.00,2,    2.50,2,-999.000,9,-999.000,9, -999.00,9,  -999.0,9,  -999.0,9,-999.0000,9,  -999.00,-999.000,9,-999.0000,9, -999.00,9,   2.5268,2, -999.00,9,  -999.0,9, -999.00,9,    40.4,2, -999.00,9,     -999.0,9,     -999.0,9, -999.00,9, 20140502,      922, -19.0002,-150.0004,    34.7585,2,     -999.0,9,     -999.0,9,     -999.0,9,     -999.0,9,     -999.0,9,     -999.0,9
320620140320,       P16S,      84,          1,         11,         11,2,20140502,       0824,   -19.0002,  -150.0006,       4285,  1798.9,   2.3300,  34.6161,2,  34.6158,2,    149.1,2,   148.8,2,  110.10,2,   35.73,2,    0.00,2,    2.47,2,-999.000,9,-999.000,9, -999.00,9,  2296.3,6,  2383.7,2,   7.6322,2,       20,-999.000,9,-999.0000,9, -999.00,9,   2.3299,2, -999.00,9,  -999.0,9, -999.00,9,    35.3,2, -999.00,9,     -999.0,9,     -999.0,9, -999.00,9, 20140502,      918, -19.0002,-150.0004,    34.7790,2,     -999.0,9,     -999.0,9,     -999.0,9,     -999.0,9,     -999.0,9,     -999.0,9
320620140320,       P16S,      84,          1,         10,         10,2,20140502,       0824,   -19.0002,  -150.0006,       4285,  1998.8,   2.1307,  34.6338,2,  34.6323,2,    151.3,2,   151.1,2,  115.38,2,   35.57,2,    0.00,2,    2.46,2,-999.000,9,-999.000,9, -999.00,9,  -999.0,9,  -999.0,9,-999.0000,9,  -999.00,-999.000,9,-999.0000,9, -999.00,9,   2.1315,2, -999.00,9,  -999.0,9, -999.00,9,    37.2,2, -999.00,9,     -999.0,9,     -999.0,9, -999.00,9, 20140502,      913, -19.0002,-150.0004,    34.7956,2,     -999.0,9,     -999.0,9,     -999.0,9,     -999.0,9,     -999.0,9,     -999.0,9
320620140320,       P16S,      84,          1,          9,         09,2,20140502,       0824,   -19.0002,  -150.0006,       4285,  2249.7,   1.9657,  34.6479,2,  34.6470,2,    155.0,2,   155.1,2,  118.61,2,   35.40,2,    0.00,2,    2.47,2,   0.001,2,   0.000,2,    0.00,2,  2302.1,2,    2392,2,    7.642,2,       20,-999.000,9,-999.0000,9, -999.00,9,   1.9663,2, -999.00,9,  -999.0,9, -999.00,9,    36.2,2, -999.00,9,      24.37,2,     -999.0,9, -999.00,9, 20140502,      908, -19.0002,-150.0004,    34.8104,2,     -999.0,9,     -999.0,9,     -999.0,9,     -999.0,9,     -999.0,9,     -999.0,9
320620140320,       P16S,      84,          1,          8,         08,2,20140502,       0824,   -19.0002,  -150.0006,       4285,  2499.6,   1.8442,  34.6586,2,  34.6578,2,    157.6,2,   157.8,2,  121.74,2,   35.06,2,    0.00,2,    2.45,2,-999.000,9,-999.000,9, -999.00,9,  2302.6,2,  2394.7,2,   7.6465,6,       20,-999.000,9,-999.0000,9, -999.00,9,   1.8445,2, -999.00,9,  -999.0,9, -999.00,9,    38.1,2, -999.00,9,     -999.0,9,     -999.0,9, -999.00,9, 20140502,      903, -19.0002,-150.0004,    34.8213,2,     -999.0,9,     -999.0,9,     -999.0,9,     -999.0,9,     -999.0,9,     -999.0,9
320620140320,       P16S,      84,          1,          7,         07,2,20140502,       0824,   -19.0002,  -150.0006,       4285,  2749.7,   1.7633,  34.6659,2,  34.6653,2,    160.4,2,   160.6,2,  123.30,2,   35.01,2,    0.00,2,    2.43,2,-999.000,9,-999.000,9, -999.00,9,    2301,2,  2395.7,2,   7.6493,2,       20,-999.000,9,-999.0000,9, -999.00,9,   1.7636,2, -999.00,9,  -999.0,9, -999.00,9,    38.5,2, -999.00,9,     -999.0,9,     -999.0,9, -999.00,9, 20140502,      857, -19.0002,-150.0005,    34.8288,2,     -999.0,9,     -999.0,9,     -999.0,9,     -999.0,9,     -999.0,9,     -999.0,9
320620140320,       P16S,      84,          1,          6,         06,2,20140502,       0824,   -19.0002,  -150.0006,       4285,  3000.6,   1.6833,  34.6725,2,  34.6716,2,    163.9,2,   163.8,2,  124.47,2,   34.87,2,    0.00,2,    2.43,2,   0.002,2,   0.000,2,    0.00,2,  -999.0,9,  -999.0,9,-999.0000,9,  -999.00,-999.000,9,-999.0000,9, -999.00,9,   1.6831,2, -999.00,9,  -999.0,9, -999.00,9,    36.4,2, -999.00,9,      24.08,2,     -999.0,9, -999.00,9, 20140502,      852, -19.0002,-150.0005,    34.8351,2,     -999.0,9,     -999.0,9,     -999.0,9,     -999.0,9,     -999.0,9,     -999.0,9