BOTTLE,20230715CCHSIOCBG
EXPOCODE,SECT_ID,STNNBR,CASTNO,SAMPNO,BTLNBR,BTLNBR_FLAG_W,DATE,TIME,LATITUDE,LONGITUDE,DEPTH,CTDPRS,CTDTMP,CTDSAL,CTDSAL_FLAG_W,SALNTY,SALNTY_FLAG_W,CTDOXY,CTDOXY_FLAG_W,OXYGEN,OXYGEN_FLAG_W,SILCAT,SILCAT_FLAG_W,NITRAT,NITRAT_FLAG_W,NITRIT,NITRIT_FLAG_W,PHSPHT,PHSPHT_FLAG_W,CFC-11,CFC-11_FLAG_W,CFC-12,CFC-12_FLAG_W,SF6,SF6_FLAG_W,TCARBN,TCARBN_FLAG_W,ALKALI,ALKALI_FLAG_W,PH_TOT,PH_TOT_FLAG_W,PH_TMP,TRITUM,TRITUM_FLAG_W,HELIUM,HELIUM_FLAG_W,DELHE3,DELHE3_FLAG_W,REFTMP,REFTMP_FLAG_W,DELC13,DELC13_FLAG_W,DELC14,DELC14_FLAG_W,DELO18,DELO18_FLAG_W,DOC,DOC_FLAG_W,TDN,TDN_FLAG_W,N2O,N2O_FLAG_W,CALCIUM,CALCIUM_FLAG_W,D15N_NO3,D15N_NO3_FLAG_W,BTL_DATE,BTL_TIME,BTL_LAT,BTL_LON,SALTREF,SALTREF_FLAG_W,D18O_NO3,D18O_NO3_FLAG_W,DSI30,DSI30_FLAG_W,CDOM_NASA,CDOM_NASA_FLAG_W,CDOM_UCSB,CDOM_UCSB_FLAG_W,D15N_NO2+NO3,D15N_NO2+NO3_FLAG_W,D18O_NO2+NO3,D18O_NO2+NO3_FLAG_W
,,,,,,,,,,,METERS,DBAR,ITS-90,PSS-78,,PSS-78,,UMOL/KG,,UMOL/KG,,UMOL/KG,,UMOL/KG,,UMOL/KG,,UMOL/KG,,PMOL/KG,,PMOL/KG,,FMOL/KG,,UMOL/KG,,UMOL/KG,,,,DEG C,TU,,NMOL/KG,,PERCNT,,DEG C,,/MILLE,,/MILLE,,/MILLE,,UMOL/KG,,UMOL/KG,,NMOL/KG,,MMOL/KG,,/MILLE,,,,,,G/KG,,/MILLE,,/MILLE,,,,,,/MILLE,,/MILLE,
320620140320,       P16S,      51,          3,          5,         05,2,20140420,       0352,   -41.0031,  -150.0000,       5162,  3600.3,   1.5460,  34.7168,2,  34.7168,2,    188.9,2,   189.1,2,  109.19,2,   32.22,2,    0.00,2,    2.23,2,   0.012,2,   0.000,2,    0.02,2,    2268,2,  2369.5,2,   7.6682,2,       20,-999.000,9,-999.0000,9, -999.00,9,   1.5459,2, -999.00,9,  -999.0,9, -999.00,9,  -999.0,9, -999.00,9,      21.43,2,     -999.0,9, -999.00,9, 20140420,      438, -41.0029,-149.9999,    34.8805,2,     -999.0,9,     -999.0,9,     -999.0,9,     -999.0,9,     -999.0,9,     -999.0,9
320620140320,       P16S,      51,          3,          4,         04,2,20140420,       0352,   -41.0031,  -150.0000,       5162,  3999.5,   1.3072,  34.7152,2,  34.7150,2,    196.9,2,   197.0,2,  113.48,2,   32.17,2,    0.00,2,    2.23,2,-999.000,9,-999.000,9, -999.00,9,  2266.4,2,  2368.1,2,   7.6745,2,       20,-999.000,9,-999.0000,9, -999.00,9,   1.3068,2, -999.00,9,  -999.0,9, -999.00,9,  -999.0,9, -999.00,9,     -999.0,9,     -999.0,9, -999.00,9, 20140420,      429, -41.0029,-149.9999,    34.8787,2,     -999.0,9,     -999.0,9,     -999.0,9,     -999.0,9,     -999.0,9,     -999.0,9
320620140320,       P16S,      51,          3,          3,         03,2,20140420,       0352,   -41.0031,  -150.0000,       5162,  4399.8,   1.1871,  34.7136,2,  34.7136,2,    200.8,2,   200.8,2,  116.71,2,   32.30,2,    0.00,2,    2.22,2,   0.007,2,   0.000,2,    0.00,2,  2266.5,2,  2371.2,6,   7.6792,2,       20,-999.000,9,-999.0000,9, -999.00,9,   1.1868,2, -999.00,9,  -999.0,9, -999.00,9,  -999.0,9, -999.00,9,      21.36,2,     -999.0,9, -999.00,9, 20140420,      420, -41.0029,-149.9999,    34.8773,2,     -999.0,9,     -999.0,9,     -999.0,9,     -999.0,1,     -999.0,9,     -999.0,9
320620140320,       P16S,      51,          3,          2,         02,2,20140420,       0352,   -41.0031,  -150.0000,       5162,  4799.1,   1.1705,  34.7126,2,  34.7123,2,    202.0,2,   201.8,2,  118.37,2,   32.37,2,    0.00,2,    2.23,2,   0.009,2,   0.001,2,    0.00,2,  2267.7,6,  2372.9,2,   7.6793,2,       20,-999.000,9,-999.0000,9, -999.00,9,   1.1709,2, -999.00,9,  -999.0,9, -999.00,9,  -999.0,9, -999.00,9,      20.82,2,     -999.0,9, -999.00,9, 20140420,      408, -41.0031,-150.0000,    34.8759,2,     -999.0,9,     -999.0,9,     -999.0,9,     -999.0,9,     -999.0,9,     -999.0,9
320620140320,       P16S,      51,          3,          1,         01,2,20140420,       0352,   -41.0031,  -150.0000,       5162,  5258.2,   1.1769,  34.7109,2,  34.7115,2,    203.6,2,   203.4,2,  119.24,2,   32.37,2,    0.00,2,    2.22,2,   0.013,2,   0.001,2,    0.00,2,  2268.8,2,  2371.7,2,    7.676,2,       20,-999.000,9,-999.0000,9, -999.00,9,   1.1766,2, -999.00,9,  -999.0,9, -999.00,9,  -999.0,9, -999.00,9,      20.79,2,     -999.0,9, -999.00,9, 20140420,      354, -41.0031,-150.0000,    34.8752,2,     -999.0,9,     -999.0,9,     -999.0,9,     -999.0,1,     -999.0,9,     -999.0,9