BOTTLE,20230715CCHSIOCBG
EXPOCODE,SECT_ID,STNNBR,CASTNO,SAMPNO,BTLNBR,BTLNBR_FLAG_W,DATE,TIME,LATITUDE,LONGITUDE,DEPTH,CTDPRS,CTDTMP,CTDSAL,CTDSAL_FLAG_W,SALNTY,SALNTY_FLAG_W,CTDOXY,CTDOXY_FLAG_W,OXYGEN,OXYGEN_FLAG_W,SILCAT,SILCAT_FLAG_W,NITRAT,NITRAT_FLAG_W,NITRIT,NITRIT_FLAG_W,PHSPHT,PHSPHT_FLAG_W,CFC-11,CFC-11_FLAG_W,CFC-12,CFC-12_FLAG_W,SF6,SF6_FLAG_W,TCARBN,TCARBN_FLAG_W,ALKALI,ALKALI_FLAG_W,PH_TOT,PH_TOT_FLAG_W,PH_TMP,TRITUM,TRITUM_FLAG_W,HELIUM,HELIUM_FLAG_W,DELHE3,DELHE3_FLAG_W,REFTMP,REFTMP_FLAG_W,DELC13,DELC13_FLAG_W,DELC14,DELC14_FLAG_W,DELO18,DELO18_FLAG_W,DOC,DOC_FLAG_W,TDN,TDN_FLAG_W,N2O,N2O_FLAG_W,CALCIUM,CALCIUM_FLAG_W,D15N_NO3,D15N_NO3_FLAG_W,BTL_DATE,BTL_TIME,BTL_LAT,BTL_LON,SALTREF,SALTREF_FLAG_W,D18O_NO3,D18O_NO3_FLAG_W,DSI30,DSI30_FLAG_W,CDOM_NASA,CDOM_NASA_FLAG_W,CDOM_UCSB,CDOM_UCSB_FLAG_W,D15N_NO2+NO3,D15N_NO2+NO3_FLAG_W,D18O_NO2+NO3,D18O_NO2+NO3_FLAG_W
,,,,,,,,,,,METERS,DBAR,ITS-90,PSS-78,,PSS-78,,UMOL/KG,,UMOL/KG,,UMOL/KG,,UMOL/KG,,UMOL/KG,,UMOL/KG,,PMOL/KG,,PMOL/KG,,FMOL/KG,,UMOL/KG,,UMOL/KG,,,,DEG C,TU,,NMOL/KG,,PERCNT,,DEG C,,/MILLE,,/MILLE,,/MILLE,,UMOL/KG,,UMOL/KG,,NMOL/KG,,MMOL/KG,,/MILLE,,,,,,G/KG,,/MILLE,,/MILLE,,,,,,/MILLE,,/MILLE,
320620140320,       P16S,      70,          1,          5,         05,2,20140427,       1237,   -28.3330,  -150.0000,       5124,  4299.2,   1.3323,  34.7022,2,  34.7019,2,    189.8,2,   189.5,2,  120.93,2,   33.47,2,    0.00,2,    2.28,2,   0.002,2,   0.000,2,    0.00,2,  2278.4,2,  2378.1,2,   7.6696,6,       20,-999.000,9,-999.0000,9, -999.00,9,   1.3323,2, -999.00,9,  -999.0,9, -999.00,9,      38,2, -999.00,9,      22.32,2,     -999.0,9, -999.00,9, 20140427,     1301, -28.3332,-149.9995,    34.8655,2,     -999.0,9,     -999.0,9,     -999.0,9,     -999.0,9,     -999.0,9,     -999.0,9
320620140320,       P16S,      70,          1,          4,         04,2,20140427,       1237,   -28.3330,  -150.0000,       5124,  4634.9,   1.3378,  34.7038,2,  34.7035,2,    191.4,2,   191.4,2,  120.15,2,   33.38,2,    0.00,2,    2.26,2,-999.000,9,-999.000,9, -999.00,9,  2276.3,2,  2377.2,2,   7.6717,2,       20,-999.000,9,-999.0000,9, -999.00,9,   1.3379,2, -999.00,9,  -999.0,9, -999.00,9,    37.2,2, -999.00,9,     -999.0,9,     -999.0,9, -999.00,9, 20140427,     1254, -28.3330,-150.0000,    34.8671,2,     -999.0,9,     -999.0,9,     -999.0,9,     -999.0,9,     -999.0,9,     -999.0,9
320620140320,       P16S,      70,          1,          3,         03,2,20140427,       1237,   -28.3330,  -150.0000,       5124,  4999.4,   1.3647,  34.7047,2,  34.7041,2,    192.3,2,   192.7,2,  120.05,2,   33.37,2,    0.00,2,    2.27,2,   0.002,2,   0.000,2,    0.00,2,  2276.1,2,    2376,2,    7.672,2,       20,-999.000,9,-999.0000,9, -999.00,9,   1.3645,2, -999.00,9,  -999.0,9, -999.00,9,    36.2,2, -999.00,9,      20.70,2,     -999.0,9, -999.00,9, 20140427,     1244, -28.3330,-150.0000,    34.8677,2,     -999.0,9,     -999.0,9,     -999.0,9,     -999.0,9,     -999.0,9,     -999.0,9
320620140320,       P16S,      70,          1,          2,         02,2,20140427,       1237,   -28.3330,  -150.0000,       5124,  5098.2,   1.3733,  34.7051,2,  34.7043,2,    192.6,2,   192.9,2,  119.96,2,   33.31,2,    0.00,2,    2.25,2,-999.000,9,-999.000,9, -999.00,9,  2275.8,2,    2376,6,   7.6722,2,       20,-999.000,9,-999.0000,9, -999.00,9,   1.3737,2, -999.00,9,  -999.0,9, -999.00,9,    38.5,2, -999.00,9,     -999.0,9,     -999.0,9, -999.00,9, 20140427,     1240, -28.3330,-150.0000,    34.8679,2,     -999.0,9,     -999.0,9,     -999.0,9,     -999.0,9,     -999.0,9,     -999.0,9
320620140320,       P16S,      70,          1,          1,         01,2,20140427,       1237,   -28.3330,  -150.0000,       5124,  5196.4,   1.3844,  34.7050,2,  34.7041,2,    192.9,2,   192.8,2,  119.86,2,   33.38,2,    0.00,2,    2.26,2,   0.002,2,   0.000,2,    0.00,2,  2275.7,6,  2376.1,2,   7.6727,2,       20,-999.000,9,-999.0000,9, -999.00,9,   1.3844,2, -999.00,9,  -999.0,9, -999.00,9,    40.3,2, -999.00,9,      20.97,2,     -999.0,9, -999.00,9, 20140427,     1237, -28.3330,-150.0000,    34.8678,2,     -999.0,9,     -999.0,9,     -999.0,9,     -999.0,9,     -999.0,9,     -999.0,9