BOTTLE,20230715CCHSIOCBG
EXPOCODE,SECT_ID,STNNBR,CASTNO,SAMPNO,BTLNBR,BTLNBR_FLAG_W,DATE,TIME,LATITUDE,LONGITUDE,DEPTH,CTDPRS,CTDTMP,CTDSAL,CTDSAL_FLAG_W,SALNTY,SALNTY_FLAG_W,CTDOXY,CTDOXY_FLAG_W,OXYGEN,OXYGEN_FLAG_W,SILCAT,SILCAT_FLAG_W,NITRAT,NITRAT_FLAG_W,NITRIT,NITRIT_FLAG_W,PHSPHT,PHSPHT_FLAG_W,CFC-11,CFC-11_FLAG_W,CFC-12,CFC-12_FLAG_W,SF6,SF6_FLAG_W,TCARBN,TCARBN_FLAG_W,ALKALI,ALKALI_FLAG_W,PH_TOT,PH_TOT_FLAG_W,PH_TMP,TRITUM,TRITUM_FLAG_W,HELIUM,HELIUM_FLAG_W,DELHE3,DELHE3_FLAG_W,REFTMP,REFTMP_FLAG_W,DELC13,DELC13_FLAG_W,DELC14,DELC14_FLAG_W,DELO18,DELO18_FLAG_W,DOC,DOC_FLAG_W,TDN,TDN_FLAG_W,N2O,N2O_FLAG_W,CALCIUM,CALCIUM_FLAG_W,D15N_NO3,D15N_NO3_FLAG_W,BTL_DATE,BTL_TIME,BTL_LAT,BTL_LON,SALTREF,SALTREF_FLAG_W,D18O_NO3,D18O_NO3_FLAG_W,DSI30,DSI30_FLAG_W,CDOM_NASA,CDOM_NASA_FLAG_W,CDOM_UCSB,CDOM_UCSB_FLAG_W,D15N_NO2+NO3,D15N_NO2+NO3_FLAG_W,D18O_NO2+NO3,D18O_NO2+NO3_FLAG_W
,,,,,,,,,,,METERS,DBAR,ITS-90,PSS-78,,PSS-78,,UMOL/KG,,UMOL/KG,,UMOL/KG,,UMOL/KG,,UMOL/KG,,UMOL/KG,,PMOL/KG,,PMOL/KG,,FMOL/KG,,UMOL/KG,,UMOL/KG,,,,DEG C,TU,,NMOL/KG,,PERCNT,,DEG C,,/MILLE,,/MILLE,,/MILLE,,UMOL/KG,,UMOL/KG,,NMOL/KG,,MMOL/KG,,/MILLE,,,,,,G/KG,,/MILLE,,/MILLE,,,,,,/MILLE,,/MILLE,
320620140320,       P16S,      72,          1,         36,         36,2,20140428,       0536,   -26.9998,  -150.0001,       4727,     4.5,  23.6587,  35.5282,2,  35.5288,2,    211.8,2,   212.7,2,    0.78,2,    0.05,2,    0.00,2,    0.02,2,   1.762,2,   1.072,2,    1.45,2,  2016.4,2,  2332.5,2,   8.1381,2,       20,-999.000,9,-999.0000,9, -999.00,9,  23.6586,2, -999.00,9,  -999.0,9, -999.00,9,    71.4,2,    4.02,2,       6.88,2,     -999.0,9, -999.00,9, 20140428,      750, -26.9998,-150.0002,    35.6964,2,     -999.0,9,     -999.0,9,     -999.0,9,     -999.0,9,     -999.0,9,     -999.0,9
320620140320,       P16S,      72,          1,         35,         35,2,20140428,       0536,   -26.9998,  -150.0001,       4727,    24.3,  23.6666,  35.5280,2,  35.5277,2,    212.8,2,   211.7,2,    0.78,2,    0.00,2,    0.00,2,    0.01,2,   1.725,2,   1.089,2,    1.43,2,  2015.7,2,  2331.2,2,   8.1385,2,       20,-999.000,9,-999.0000,9, -999.00,9,  23.6684,2,    0.95,6,    52.8,6, -999.00,9,    68.3,2,    3.47,2,       6.89,2,     -999.0,9, -999.00,9, 20140428,      748, -26.9998,-150.0002,    35.6952,2,     -999.0,9,     -999.0,9,     -999.0,9,     -999.0,9,     -999.0,9,     -999.0,9
320620140320,       P16S,      72,          1,         34,         34,2,20140428,       0536,   -26.9998,  -150.0001,       4727,    49.5,  23.6626,  35.5360,2,  35.5352,2,    213.3,2,   212.5,2,    0.78,2,    0.00,2,    0.00,2,    0.01,2,-999.000,9,-999.000,9, -999.00,9,  2017.2,2,  2332.3,2,   8.1376,2,       20,-999.000,9,-999.0000,9, -999.00,9,  23.6453,2, -999.00,9,  -999.0,9, -999.00,9,    68.4,2,    4.21,2,     -999.0,9,     -999.0,9, -999.00,9, 20140428,      746, -26.9998,-150.0002,    35.7027,2,     -999.0,9,     -999.0,9,     -999.0,9,     -999.0,9,     -999.0,9,     -999.0,9
320620140320,       P16S,      72,          1,         33,         33,2,20140428,       0536,   -26.9998,  -150.0001,       4727,    74.5,  21.5054,  35.6564,2,  35.6547,2,    227.6,2,   227.3,2,    0.78,2,    0.00,2,    0.00,2,    0.01,2,   2.034,2,   1.221,2,    1.60,2,  2036.7,2,  2338.5,2,   8.1152,2,       20,-999.000,9,-999.0000,9, -999.00,9,  21.4814,2, -999.00,9,  -999.0,9, -999.00,9,    64.5,2,    2.69,2,       7.73,2,     -999.0,9, -999.00,9, 20140428,      744, -26.9998,-150.0001,    35.8229,2,     -999.0,9,     -999.0,9,     -999.0,9,     -999.0,9,     -999.0,9,     -999.0,9
320620140320,       P16S,      72,          1,         32,         32,2,20140428,       0536,   -26.9998,  -150.0001,       4727,   100.5,  20.2727,  35.6148,2,  35.6163,2,    225.7,2,   224.7,2,    0.78,2,    0.00,2,    0.01,2,    0.02,2,-999.000,9,-999.000,9, -999.00,9,  2042.9,2,  2335.3,2,      8.1,2,       20,-999.000,9,-999.0000,9, -999.00,9,  20.2737,2, -999.00,9,  -999.0,9, -999.00,9,    60.7,2,    4.59,2,     -999.0,9,     -999.0,9, -999.00,9, 20140428,      742, -26.9998,-150.0002,    35.7842,2,     -999.0,9,     -999.0,9,     -999.0,9,     -999.0,9,     -999.0,9,     -999.0,9
320620140320,       P16S,      72,          1,         31,         31,2,20140428,       0536,   -26.9998,  -150.0001,       4727,   148.9,  18.4814,  35.5056,2,  35.4995,2,    216.2,2,   210.9,2,    0.78,2,    0.96,2,    0.10,2,    0.13,2,   2.325,2,   1.359,2,    1.52,2,  2061.2,2,  2328.3,2,   8.0509,2,       20,-999.000,9,-999.0000,9, -999.00,9,  18.4902,2, -999.00,9,  -999.0,9, -999.00,9,    53.1,2,    3.75,2,       8.75,2,     -999.0,9, -999.00,9, 20140428,      740, -26.9998,-150.0002,    35.6669,2,     -999.0,9,     -999.0,9,     -999.0,9,     -999.0,9,     -999.0,9,     -999.0,9
320620140320,       P16S,      72,          1,         30,         30,2,20140428,       0536,   -26.9998,  -150.0001,       4727,   199.4,  17.3390,  35.3993,2,  35.3991,2,    214.3,2,   214.8,2,    0.88,2,    1.45,2,    0.04,2,    0.14,2,-999.000,9,-999.000,9, -999.00,9,  2066.9,2,  2320.5,2,   8.0315,2,       20,-999.000,9,-999.0000,9, -999.00,9,  17.3385,2, -999.00,9,  -999.0,9, -999.00,9,    52.6,2,     4.9,2,     -999.0,9,     -999.0,9, -999.00,9, 20140428,      738, -26.9998,-150.0002,    35.5660,2,     -999.0,9,     -999.0,9,     -999.0,9,     -999.0,9,     -999.0,9,     -999.0,9
320620140320,       P16S,      72,          1,         29,         29,2,20140428,       0536,   -26.9998,  -150.0001,       4727,   249.2,  16.3859,  35.2927,2,  35.2925,2,    209.4,2,   212.9,2,    1.07,2,    2.59,2,    0.01,2,    0.24,2,   2.513,2,   1.442,2,    1.45,2,  2073.9,2,  2315.2,2,   8.0075,2,       20,-999.000,9,-999.0000,9, -999.00,9,  16.3902,2, -999.00,9,  -999.0,9, -999.00,9,    51.5,2,    6.25,2,       9.93,2,     -999.0,9, -999.00,9, 20140428,      736, -26.9998,-150.0002,    35.4589,2,     -999.0,9,     -999.0,9,     -999.0,9,     -999.0,9,     -999.0,9,     -999.0,9
320620140320,       P16S,      72,          1,         28,         28,2,20140428,       0536,   -26.9998,  -150.0001,       4727,   298.9,  14.9055,  35.1127,2,  35.1189,2,    206.5,2,   207.1,2,    1.47,2,    5.20,2,    0.01,2,    0.42,2,-999.000,9,-999.000,9, -999.00,9,  2088.2,2,  2306.8,6,    7.964,2,       20,-999.000,9,-999.0000,9, -999.00,9,  14.9168,2, -999.00,9,  -999.0,9, -999.00,9,    48.6,2,    6.83,2,     -999.0,9,     -999.0,9, -999.00,9, 20140428,      733, -26.9998,-150.0001,    35.2845,2,     -999.0,9,     -999.0,9,     -999.0,9,     -999.0,9,     -999.0,9,     -999.0,9
320620140320,       P16S,      72,          1,         27,         27,2,20140428,       0536,   -26.9998,  -150.0001,       4727,   349.2,  12.9713,  34.9206,2,  34.9160,2,    201.1,2,   201.4,2,    2.54,2,   10.09,2,    0.01,2,    0.75,2,   2.969,2,   1.572,2,    1.40,2,  2109.3,6,  2298.2,2,   7.9029,2,       20,-999.000,9,-999.0000,9, -999.00,9,  12.9723,2, -999.00,9,  -999.0,9, -999.00,9,    44.3,2,   11.38,2,      14.61,2,     -999.0,9, -999.00,9, 20140428,      731, -26.9998,-150.0001,    35.0806,2,     -999.0,9,     -999.0,9,     -999.0,9,     -999.0,9,     -999.0,9,     -999.0,9
320620140320,       P16S,      72,          1,         26,         26,2,20140428,       0536,   -26.9998,  -150.0001,       4727,   400.8,  10.9004,  34.6860,2,  34.6881,2,    205.8,2,   206.3,2,    3.71,2,   14.22,2,    0.01,2,    1.04,2,   3.156,2,   1.598,2,    1.32,2,    2125,2,  2287.6,2,    7.855,2,       20,-999.000,9,-999.0000,9, -999.00,9,  10.9009,2, -999.00,9,  -999.0,9, -999.00,9,    41.9,2,   17.01,2,      17.69,2,     -999.0,9, -999.00,9, 20140428,      729, -26.9998,-150.0001,    34.8517,2,     -999.0,9,     -999.0,9,     -999.0,9,     -999.0,9,     -999.0,9,     -999.0,9
320620140320,       P16S,      72,          1,         25,         25,2,20140428,       0536,   -26.9998,  -150.0001,       4727,   451.8,   9.3516,  34.5286,2,  34.5327,2,    209.4,2,   209.7,2,    5.28,2,   17.77,2,    0.01,2,    1.27,2,   3.273,2,   1.596,2,    1.37,2,  2135.9,2,  2282.6,2,   7.8148,2,       20,-999.000,9,-999.0000,9, -999.00,9,   9.3560,2, -999.00,9,  -999.0,9, -999.00,9,    41.3,2,   18.82,2,      19.88,2,     -999.0,9, -999.00,9, 20140428,      726, -26.9998,-150.0001,    34.6955,2,     -999.0,9,     -999.0,9,     -999.0,9,     -999.0,9,     -999.0,9,     -999.0,9
320620140320,       P16S,      72,          1,         24,         24,2,20140428,       0536,   -26.9998,  -150.0001,       4727,   500.6,   8.4552,  34.4539,2,  34.4553,2,    216.4,2,   215.5,2,    6.16,2,   19.80,2,    0.01,2,    1.38,2,-999.000,9,-999.000,9, -999.00,9,  2141.5,2,    2280,2,   7.7963,6,       20,-999.000,9,-999.0000,9, -999.00,9,   8.4678,2, -999.00,9,  -999.0,9, -999.00,9,      43,2,   20.89,2,     -999.0,9,     -999.0,9, -999.00,9, 20140428,      724, -26.9998,-150.0001,    34.6178,2,     -999.0,9,     -999.0,9,     -999.0,9,     -999.0,9,     -999.0,9,     -999.0,9
320620140320,       P16S,      72,          1,         23,         23,2,20140428,       0536,   -26.9998,  -150.0001,       4727,   599.5,   7.0813,  34.3632,2,  34.3645,2,    229.0,2,   227.8,2,    7.82,2,   22.49,2,    0.01,2,    1.54,2,   3.148,2,   1.560,2,    1.05,2,  2147.7,2,    2278,2,   7.7765,2,       20,-999.000,9,-999.0000,9, -999.00,9,   7.1147,3, -999.00,9,  -999.0,9, -999.00,9,    41.8,2, -999.00,9,      21.10,2,     -999.0,9, -999.00,9, 20140428,      721, -26.9998,-150.0001,    34.5265,2,     -999.0,9,     -999.0,9,     -999.0,9,     -999.0,9,     -999.0,9,     -999.0,9
320620140320,       P16S,      72,          1,         22,         22,2,20140428,       0536,   -26.9998,  -150.0001,       4727,   701.0,   6.1615,  34.3182,2,  34.3190,2,    231.2,2,   231.9,2,   10.76,2,   24.75,2,    0.01,2,    1.68,2,-999.000,9,-999.000,9, -999.00,9,  2152.6,2,  2279.6,2,   7.7633,2,       20,-999.000,9,-999.0000,9, -999.00,9,   6.1587,2, -999.00,9,  -999.0,9, -999.00,9,    39.8,2, -999.00,9,     -999.0,9,     -999.0,9, -999.00,9, 20140428,      718, -26.9998,-150.0001,    34.4808,2,     -999.0,9,     -999.0,9,     -999.0,9,     -999.0,9,     -999.0,9,     -999.0,9
320620140320,       P16S,      72,          1,         21,         21,2,20140428,       0536,   -26.9998,  -150.0001,       4727,   798.5,   5.5858,  34.3026,2,  34.3034,2,    222.5,2,   222.9,2,   15.25,2,   26.90,2,    0.01,2,    1.83,2,   1.972,2,   0.962,2,    0.26,2,  2163.6,2,  2281.8,2,   7.7424,2,       20,-999.000,9,-999.0000,9, -999.00,9,   5.5880,2, -999.00,9,  -999.0,9, -999.00,9,    39.9,2, -999.00,9,      19.62,2,     -999.0,9, -999.00,9, 20140428,      714, -26.9998,-150.0001,    34.4652,2,     -999.0,9,     -999.0,9,     -999.0,9,     -999.0,9,     -999.0,9,     -999.0,9
320620140320,       P16S,      72,          1,         20,         20,2,20140428,       0536,   -26.9998,  -150.0001,       4727,   898.8,   4.9286,  34.3120,2,  34.3119,2,    207.4,2,   205.0,2,   24.54,2,   29.80,2,    0.00,2,    2.03,2,-999.000,9,-999.000,9, -999.00,9,  2183.5,2,  2289.4,2,   7.7056,2,       20,-999.000,9,-999.0000,9, -999.00,9,   4.9265,2, -999.00,9,  -999.0,9, -999.00,9,    39.4,2, -999.00,9,     -999.0,9,     -999.0,9, -999.00,9, 20140428,      711, -26.9998,-150.0002,    34.4737,2,     -999.0,9,     -999.0,9,     -999.0,9,     -999.0,9,     -999.0,9,     -999.0,9
320620140320,       P16S,      72,          1,         19,         19,2,20140428,       0536,   -26.9998,  -150.0001,       4727,   999.4,   4.4255,  34.3388,2,  34.3401,2,    193.9,2,   192.9,2,   34.12,2,   31.55,2,    0.00,2,    2.18,2,   0.617,2,   0.307,2,    0.09,2,  2200.3,2,  2299.7,2,   7.6813,2,       20,-999.000,9,-999.0000,9, -999.00,9,   4.4206,2, -999.00,9,  -999.0,9, -999.00,9,    39.1,2, -999.00,9,      22.23,2,     -999.0,9, -999.00,9, 20140428,      708, -26.9998,-150.0002,    34.5021,2,     -999.0,9,     -999.0,9,     -999.0,9,     -999.0,9,     -999.0,9,     -999.0,9
320620140320,       P16S,      72,          1,         18,         18,2,20140428,       0536,   -26.9998,  -150.0001,       4727,  1100.2,   3.9012,  34.3841,2,  34.3845,2,    181.9,2,   181.1,2,   46.05,2,   33.07,2,    0.00,2,    2.28,2,-999.000,9,-999.000,9, -999.00,9,  2219.7,6,  2310.8,2,   7.6588,2,       20,-999.000,9,-999.0000,9, -999.00,9,   3.9020,2, -999.00,9,  -999.0,9, -999.00,9,    37.6,2, -999.00,9,     -999.0,9,     -999.0,9, -999.00,9, 20140428,      705, -26.9998,-150.0001,    34.5466,2,     -999.0,9,     -999.0,9,     -999.0,9,     -999.0,9,     -999.0,9,     -999.0,9
320620140320,       P16S,      72,          1,         17,         17,2,20140428,       0536,   -26.9998,  -150.0001,       4727,  1201.5,   3.4919,  34.4313,2,  34.4316,2,    172.0,2,   171.8,2,   57.98,2,   34.03,2,    0.00,2,    2.34,2,   0.142,2,   0.069,2,    0.02,2,  2235.7,2,    2324,2,   7.6443,2,       20,-999.000,9,-999.0000,9, -999.00,9,   3.4888,2, -999.00,9,  -999.0,9, -999.00,9,    36.4,2, -999.00,9,      24.93,2,     -999.0,9, -999.00,9, 20140428,      701, -26.9998,-150.0001,    34.5939,2,     -999.0,9,     -999.0,9,     -999.0,9,     -999.0,9,     -999.0,9,     -999.0,9
320620140320,       P16S,      72,          1,         16,         16,2,20140428,       0536,   -26.9998,  -150.0001,       4727,  1301.3,   3.1755,  34.4755,2,  34.4765,2,    165.7,2,   166.2,2,   68.92,2,   34.55,2,    0.00,2,    2.40,2,-999.000,9,-999.000,9, -999.00,9,  2250.5,2,  2336.4,2,   7.6369,2,       20,-999.000,9,-999.0000,9, -999.00,9,   3.1793,2, -999.00,9,  -999.0,9, -999.00,9,    39.5,2, -999.00,9,     -999.0,9,     -999.0,9, -999.00,9, 20140428,      658, -26.9999,-150.0001,    34.6391,2,     -999.0,9,     -999.0,9,     -999.0,9,     -999.0,9,     -999.0,9,     -999.0,9
320620140320,       P16S,      72,          1,         15,         15,2,20140428,       0536,   -26.9998,  -150.0001,       4727,  1400.6,   2.9192,  34.5133,2,  34.5136,2,    162.0,2,   162.1,2,   78.50,2,   34.84,2,    0.00,2,    2.41,2,   0.040,2,   0.009,2,    0.01,2,  2260.9,2,  2346.7,2,   7.6354,2,       20,-999.000,9,-999.0000,9, -999.00,9,   2.9172,2, -999.00,9,  -999.0,9, -999.00,9,    38.4,2, -999.00,9,      24.93,2,     -999.0,9, -999.00,9, 20140428,      655, -26.9998,-150.0001,    34.6764,2,     -999.0,9,     -999.0,9,     -999.0,9,     -999.0,9,     -999.0,9,     -999.0,9
320620140320,       P16S,      72,          1,         14,         14,2,20140428,       0536,   -26.9998,  -150.0001,       4727,  1500.5,   2.6968,  34.5461,2,  34.5466,2,    160.0,2,   159.8,2,   87.69,2,   35.08,2,    0.00,2,    2.42,2,-999.000,9,-999.000,9, -999.00,9,  2270.3,2,  2357.2,2,   7.6349,2,       20,-999.000,9,-999.0000,9, -999.00,9,   2.6974,2, -999.00,9,  -999.0,9, -999.00,9,    37.1,2, -999.00,9,     -999.0,9,     -999.0,9, -999.00,9, 20140428,      652, -26.9998,-150.0001,    34.7096,2,     -999.0,9,     -999.0,9,     -999.0,9,     -999.0,9,     -999.0,9,     -999.0,9
320620140320,       P16S,      72,          1,         13,         13,2,20140428,       0536,   -26.9998,  -150.0001,       4727,  1598.1,   2.5270,  34.5710,2,  34.5714,2,    157.9,2,   157.6,2,   94.92,2,   35.22,2,    0.00,2,    2.43,2,   0.012,2,   0.002,2,    0.01,2,  2278.2,2,  2365.3,2,   7.6353,2,       20,-999.000,9,-999.0000,9, -999.00,9,   2.5274,2, -999.00,9,  -999.0,9, -999.00,9,    37.5,2, -999.00,9,      24.80,2,     -999.0,9, -999.00,9, 20140428,      649, -26.9998,-150.0001,    34.7344,2,     -999.0,9,     -999.0,9,     -999.0,9,     -999.0,9,     -999.0,9,     -999.0,9
320620140320,       P16S,      72,          1,         12,         12,2,20140428,       0536,   -26.9998,  -150.0001,       4727,  1799.2,   2.2544,  34.6102,2,  34.6101,2,    155.4,2,   154.9,2,  106.75,2,   35.48,2,    0.00,2,    2.44,2,-999.000,9,-999.000,9, -999.00,9,  2291.6,2,  2379.6,2,   7.6349,2,       20,-999.000,9,-999.0000,9, -999.00,9,   2.2544,2, -999.00,9,  -999.0,9, -999.00,9,    35.5,2, -999.00,9,     -999.0,9,     -999.0,9, -999.00,9, 20140428,      644, -26.9998,-150.0001,    34.7733,2,     -999.0,9,     -999.0,9,     -999.0,9,     -999.0,9,     -999.0,9,     -999.0,9
320620140320,       P16S,      72,          1,         11,         11,2,20140428,       0536,   -26.9998,  -150.0001,       4727,  1999.5,   2.0948,  34.6303,2,  34.6305,2,    154.0,2,   154.3,2,  113.78,2,   35.62,2,    0.00,2,    2.46,2,   0.000,2,   0.000,2,    0.00,2,  2297.7,2,  2387.1,2,   7.6363,2,       20,-999.000,9,-999.0000,9, -999.00,9,   2.0944,2, -999.00,9,  -999.0,9, -999.00,9,    34.3,2, -999.00,9,      23.88,2,     -999.0,9, -999.00,9, 20140428,      640, -26.9998,-150.0001,    34.7938,2,     -999.0,9,     -999.0,9,     -999.0,9,     -999.0,9,     -999.0,9,     -999.0,9
320620140320,       P16S,      72,          1,         10,         10,2,20140428,       0536,   -26.9998,  -150.0001,       4727,  2248.3,   1.9456,  34.6496,2,  34.6504,2,    151.3,2,   151.1,2,  122.29,2,   35.79,2,    0.00,2,    2.47,2,-999.000,9,-999.000,9, -999.00,9,    2308,2,  2396.5,2,   7.6352,2,       20,-999.000,9,-999.0000,9, -999.00,9,   1.9451,2, -999.00,9,  -999.0,9, -999.00,9,    34.2,2, -999.00,9,     -999.0,9,     -999.0,9, -999.00,9, 20140428,      634, -26.9998,-150.0001,    34.8138,2,     -999.0,9,     -999.0,9,     -999.0,9,     -999.0,9,     -999.0,9,     -999.0,9
320620140320,       P16S,      72,          1,          9,         09,2,20140428,       0536,   -26.9998,  -150.0001,       4727,  2499.8,   1.8429,  34.6597,2,  34.6606,2,    152.1,2,   152.5,2,  125.71,2,   35.80,2,    0.00,2,    2.48,2,  -0.001,2,   0.000,2,    0.00,2,  2309.3,6,  2400.2,2,    7.638,2,       20,-999.000,9,-999.0000,9, -999.00,9,   1.8437,2, -999.00,9,  -999.0,9, -999.00,9,    35.7,2, -999.00,9,      25.09,2,     -999.0,9, -999.00,9, 20140428,      629, -26.9998,-150.0001,    34.8240,2,     -999.0,9,     -999.0,9,     -999.0,9,     -999.0,9,     -999.0,9,     -999.0,9
320620140320,       P16S,      72,          1,          8,         08,2,20140428,       0536,   -26.9998,  -150.0001,       4727,  2749.6,   1.7607,  34.6675,2,  34.6675,2,    154.1,2,   154.5,2,  128.25,2,   35.73,2,    0.00,2,    2.47,2,-999.000,9,-999.000,9, -999.00,9,  2309.8,2,  2400.8,6,   7.6391,2,       20,-999.000,9,-999.0000,9, -999.00,9,   1.7611,2, -999.00,9,  -999.0,9, -999.00,9,    37.5,2, -999.00,9,     -999.0,9,     -999.0,9, -999.00,9, 20140428,      623, -26.9998,-150.0001,    34.8309,2,     -999.0,9,     -999.0,9,     -999.0,9,     -999.0,9,     -999.0,9,     -999.0,9
320620140320,       P16S,      72,          1,          7,         07,2,20140428,       0536,   -26.9998,  -150.0001,       4727,  2997.9,   1.6993,  34.6727,2,  34.6730,2,    158.7,2,   158.4,2,  127.86,2,   35.40,2,    0.00,2,    2.45,2,   0.001,2,   0.001,2,    0.00,2,  2308.2,2,  2400.6,2,   7.6446,2,       20,-999.000,9,-999.0000,9, -999.00,9,   1.6991,2, -999.00,9,  -999.0,9, -999.00,9,    38.4,2, -999.00,9,      22.95,2,     -999.0,9, -999.00,9, 20140428,      618, -26.9998,-150.0001,    34.8365,2,     -999.0,9,     -999.0,9,     -999.0,9,     -999.0,9,     -999.0,9,     -999.0,9
320620140320,       P16S,      72,          1,          6,         06,2,20140428,       0536,   -26.9998,  -150.0001,       4727,  3299.6,   1.6068,  34.6803,2,  34.6812,2,    166.4,2,   166.0,2,  126.58,2,   34.90,2,    0.00,2,    2.41,2,-999.000,9,-999.000,9, -999.00,9,  2301.2,2,  2396.2,2,   7.6516,2,       20,-999.000,9,-999.0000,9, -999.00,9,   1.6068,2, -999.00,9,  -999.0,9, -999.00,9,    38.2,2, -999.00,9,     -999.0,9,     -999.0,9, -999.00,9, 20140428,      612, -26.9998,-150.0001,    34.8448,2,     -999.0,9,     -999.0,9,     -999.0,9,     -999.0,9,     -999.0,9,     -999.0,9