BOTTLE,20230715CCHSIOCBG
EXPOCODE,SECT_ID,STNNBR,CASTNO,SAMPNO,BTLNBR,BTLNBR_FLAG_W,DATE,TIME,LATITUDE,LONGITUDE,DEPTH,CTDPRS,CTDTMP,CTDSAL,CTDSAL_FLAG_W,SALNTY,SALNTY_FLAG_W,CTDOXY,CTDOXY_FLAG_W,OXYGEN,OXYGEN_FLAG_W,SILCAT,SILCAT_FLAG_W,NITRAT,NITRAT_FLAG_W,NITRIT,NITRIT_FLAG_W,PHSPHT,PHSPHT_FLAG_W,CFC-11,CFC-11_FLAG_W,CFC-12,CFC-12_FLAG_W,SF6,SF6_FLAG_W,TCARBN,TCARBN_FLAG_W,ALKALI,ALKALI_FLAG_W,PH_TOT,PH_TOT_FLAG_W,PH_TMP,TRITUM,TRITUM_FLAG_W,HELIUM,HELIUM_FLAG_W,DELHE3,DELHE3_FLAG_W,REFTMP,REFTMP_FLAG_W,DELC13,DELC13_FLAG_W,DELC14,DELC14_FLAG_W,DELO18,DELO18_FLAG_W,DOC,DOC_FLAG_W,TDN,TDN_FLAG_W,N2O,N2O_FLAG_W,CALCIUM,CALCIUM_FLAG_W,D15N_NO3,D15N_NO3_FLAG_W,BTL_DATE,BTL_TIME,BTL_LAT,BTL_LON,SALTREF,SALTREF_FLAG_W,D18O_NO3,D18O_NO3_FLAG_W,DSI30,DSI30_FLAG_W,CDOM_NASA,CDOM_NASA_FLAG_W,CDOM_UCSB,CDOM_UCSB_FLAG_W,D15N_NO2+NO3,D15N_NO2+NO3_FLAG_W,D18O_NO2+NO3,D18O_NO2+NO3_FLAG_W
,,,,,,,,,,,METERS,DBAR,ITS-90,PSS-78,,PSS-78,,UMOL/KG,,UMOL/KG,,UMOL/KG,,UMOL/KG,,UMOL/KG,,UMOL/KG,,PMOL/KG,,PMOL/KG,,FMOL/KG,,UMOL/KG,,UMOL/KG,,,,DEG C,TU,,NMOL/KG,,PERCNT,,DEG C,,/MILLE,,/MILLE,,/MILLE,,UMOL/KG,,UMOL/KG,,NMOL/KG,,MMOL/KG,,/MILLE,,,,,,G/KG,,/MILLE,,/MILLE,,,,,,/MILLE,,/MILLE,
320620140320,       P16S,      10,          1,          5,         05,2,20140402,       1141,   -64.5003,  -149.9954,       4984,  2735.1,   0.2358,  34.6962,2,  34.6964,2,    216.0,2,   215.5,2,  129.88,2,   32.41,2,    0.00,2,    2.27,2,-999.000,9,-999.000,9, -999.00,9,    2263,2,  2359.6,2,   7.6674,2,       20,-999.000,9,-999.0000,9, -999.00,9,   0.2361,2, -999.00,9,  -999.0,9, -999.00,9,  -999.0,9, -999.00,9,     -999.0,9,     -999.0,9, -999.00,9, 20140402,     1200, -64.5005,-149.9956,    34.8600,2,     -999.0,9,     -999.0,9,     -999.0,9,     -999.0,9,     -999.0,9,     -999.0,9
320620140320,       P16S,      10,          1,          4,         04,2,20140402,       1141,   -64.5003,  -149.9954,       4984,  2936.2,   0.2048,  34.6937,2,  34.6939,2,    217.7,2,   218.0,2,  128.03,2,   32.32,2,    0.00,2,    2.26,2,-999.000,9,-999.000,9, -999.00,9,  -999.0,9,  -999.0,9,-999.0000,9,  -999.00,-999.000,9,-999.0000,9, -999.00,9,   0.2049,2, -999.00,9,  -999.0,9, -999.00,9,  -999.0,9, -999.00,9,     -999.0,9,     -999.0,9, -999.00,9, 20140402,     1155, -64.5004,-149.9956,    34.8575,2,     -999.0,9,     -999.0,9,     -999.0,9,     -999.0,9,     -999.0,9,     -999.0,9
320620140320,       P16S,      10,          1,          3,         03,2,20140402,       1141,   -64.5003,  -149.9954,       4984,  3199.9,   0.2075,  34.6933,2,  34.6931,2,    218.0,2,   218.0,2,  127.64,2,   32.35,2,    0.00,2,    2.26,2,-999.000,9,-999.000,9, -999.00,9,  2262.3,2,  2358.7,6,   7.6647,2,       20,-999.000,9,-999.0000,9, -999.00,9,   0.2079,2, -999.00,9,  -999.0,9, -999.00,9,  -999.0,9, -999.00,9,     -999.0,9,     -999.0,9, -999.00,9, 20140402,     1150, -64.5002,-149.9953,    34.8567,2,     -999.0,9,     -999.0,9,     -999.0,9,     -999.0,9,     -999.0,9,     -999.0,9
320620140320,       P16S,      10,          1,          2,         02,2,20140402,       1141,   -64.5003,  -149.9954,       4984,  3400.4,   0.2218,  34.6929,2,  34.6928,2,    218.0,2,   217.9,2,  127.74,2,   32.35,2,    0.00,2,    2.26,2,-999.000,9,-999.000,9, -999.00,9,  2262.5,2,  2358.7,2,   7.6659,2,       20,-999.000,9,-999.0000,9, -999.00,9,   0.2216,2, -999.00,9,  -999.0,9, -999.00,9,  -999.0,9, -999.00,9,     -999.0,9,     -999.0,9, -999.00,9, 20140402,     1146, -64.5003,-149.9955,    34.8564,2,     -999.0,9,     -999.0,9,     -999.0,9,     -999.0,9,     -999.0,9,     -999.0,9
320620140320,       P16S,      10,          1,          1,         01,2,20140402,       1141,   -64.5003,  -149.9954,       4984,  3611.3,   0.2405,  34.6929,2,  34.6932,2,    218.0,2,   217.8,2,  128.81,2,   32.33,2,    0.00,2,    2.25,2,-999.000,9,-999.000,9, -999.00,9,  2263.8,6,  2358.2,2,   7.6645,6,       20,-999.000,9,-999.0000,9, -999.00,9,   0.2404,2, -999.00,9,  -999.0,9, -999.00,9,  -999.0,9, -999.00,9,     -999.0,9,     -999.0,9, -999.00,9, 20140402,     1141, -64.5003,-149.9954,    34.8568,2,     -999.0,9,     -999.0,9,     -999.0,9,     -999.0,9,     -999.0,9,     -999.0,9