BOTTLE,20230715CCHSIOCBG
EXPOCODE,SECT_ID,STNNBR,CASTNO,SAMPNO,BTLNBR,BTLNBR_FLAG_W,DATE,TIME,LATITUDE,LONGITUDE,DEPTH,CTDPRS,CTDTMP,CTDSAL,CTDSAL_FLAG_W,SALNTY,SALNTY_FLAG_W,CTDOXY,CTDOXY_FLAG_W,OXYGEN,OXYGEN_FLAG_W,SILCAT,SILCAT_FLAG_W,NITRAT,NITRAT_FLAG_W,NITRIT,NITRIT_FLAG_W,PHSPHT,PHSPHT_FLAG_W,CFC-11,CFC-11_FLAG_W,CFC-12,CFC-12_FLAG_W,SF6,SF6_FLAG_W,TCARBN,TCARBN_FLAG_W,ALKALI,ALKALI_FLAG_W,PH_TOT,PH_TOT_FLAG_W,PH_TMP,TRITUM,TRITUM_FLAG_W,HELIUM,HELIUM_FLAG_W,DELHE3,DELHE3_FLAG_W,REFTMP,REFTMP_FLAG_W,DELC13,DELC13_FLAG_W,DELC14,DELC14_FLAG_W,DELO18,DELO18_FLAG_W,DOC,DOC_FLAG_W,TDN,TDN_FLAG_W,N2O,N2O_FLAG_W,CALCIUM,CALCIUM_FLAG_W,D15N_NO3,D15N_NO3_FLAG_W,BTL_DATE,BTL_TIME,BTL_LAT,BTL_LON,SALTREF,SALTREF_FLAG_W,D18O_NO3,D18O_NO3_FLAG_W,DSI30,DSI30_FLAG_W,CDOM_NASA,CDOM_NASA_FLAG_W,CDOM_UCSB,CDOM_UCSB_FLAG_W,D15N_NO2+NO3,D15N_NO2+NO3_FLAG_W,D18O_NO2+NO3,D18O_NO2+NO3_FLAG_W
,,,,,,,,,,,METERS,DBAR,ITS-90,PSS-78,,PSS-78,,UMOL/KG,,UMOL/KG,,UMOL/KG,,UMOL/KG,,UMOL/KG,,UMOL/KG,,PMOL/KG,,PMOL/KG,,FMOL/KG,,UMOL/KG,,UMOL/KG,,,,DEG C,TU,,NMOL/KG,,PERCNT,,DEG C,,/MILLE,,/MILLE,,/MILLE,,UMOL/KG,,UMOL/KG,,NMOL/KG,,MMOL/KG,,/MILLE,,,,,,G/KG,,/MILLE,,/MILLE,,,,,,/MILLE,,/MILLE,
320620140320,       P16S,      63,          3,         36,         36,2,20140424,       2332,   -33.0003,  -150.0002,       5371,     4.4,  21.5736,  35.4322,2,  35.4324,2,    220.4,2,   221.0,2,    0.59,2,    0.18,2,    0.00,2,    0.00,2,   1.951,2,   1.243,2,    1.37,2,  2026.9,2,  2322.2,2,   8.1083,2,       20,-999.000,9,-999.0000,9, -999.00,9,  21.5746,2, -999.00,9,  -999.0,9, -999.00,9,  -999.0,9, -999.00,9,       7.39,2,     -999.0,9, -999.00,9, 20140425,      150, -33.0003,-150.0002,    35.5995,2,     -999.0,9,     -999.0,9,     -999.0,9,     -999.0,9,     -999.0,9,     -999.0,9
320620140320,       P16S,      63,          3,         35,         35,2,20140424,       2332,   -33.0003,  -150.0002,       5371,    24.4,  21.4614,  35.4098,2,  35.4050,2,    221.6,2,   221.2,2,    0.49,2,    0.16,2,    0.00,2,    0.03,2,-999.000,9,-999.000,9, -999.00,9,  2027.6,2,  2319.8,2,   8.1058,2,       20,-999.000,9,-999.0000,9, -999.00,9,  21.4542,2, -999.00,9,  -999.0,9, -999.00,9,  -999.0,9, -999.00,9,     -999.0,9,     -999.0,9, -999.00,9, 20140425,      148, -33.0003,-150.0002,    35.5719,2,     -999.0,9,     -999.0,9,     -999.0,9,     -999.0,9,     -999.0,9,     -999.0,9
320620140320,       P16S,      63,          3,         34,         34,2,20140424,       2332,   -33.0003,  -150.0002,       5371,    49.7,  20.3906,  35.4611,2,  35.4586,2,    227.0,2,   230.0,2,    0.49,2,    0.15,2,    0.00,2,    0.00,2,   1.973,2,   1.299,2,    1.36,2,  2044.4,2,  2324.3,2,   8.0812,2,       20,-999.000,9,-999.0000,9, -999.00,9,  20.3998,2, -999.00,9,  -999.0,9, -999.00,9,  -999.0,9, -999.00,9,       7.67,2,     -999.0,9, -999.00,9, 20140425,      147, -33.0003,-150.0002,    35.6258,2,     -999.0,9,     -999.0,9,     -999.0,9,     -999.0,9,     -999.0,9,     -999.0,9
320620140320,       P16S,      63,          3,         32,         32,2,20140424,       2332,   -33.0003,  -150.0002,       5371,    74.4,  18.9229,  35.4629,2,-999.0000,9,   -999.0,9,  -999.0,9, -999.00,9, -999.00,9, -999.00,9, -999.00,9,-999.000,9,-999.000,9, -999.00,9,  -999.0,9,  -999.0,9,-999.0000,9,  -999.00,-999.000,9,-999.0000,9, -999.00,9,  18.9208,2, -999.00,9,  -999.0,9, -999.00,9,  -999.0,9, -999.00,9,     -999.0,9,     -999.0,9, -999.00,9, 20140425,      145, -33.0003,-150.0003,     -999.0,9,     -999.0,9,     -999.0,9,     -999.0,9,     -999.0,9,     -999.0,9,     -999.0,9
320620140320,       P16S,      63,          3,         33,         33,2,20140424,       2332,   -33.0003,  -150.0002,       5371,    74.5,  18.9227,  35.4632,2,  35.4683,2,    236.5,2,   236.4,2,    0.78,2,    0.14,2,    0.00,2,    0.03,2,   2.151,2,   1.352,2,    1.45,2,  2044.8,2,  2325.8,2,   8.0794,2,       20,-999.000,9,-999.0000,9, -999.00,9,  18.9203,2, -999.00,9,  -999.0,9, -999.00,9,  -999.0,9, -999.00,9,       8.40,2,     -999.0,9, -999.00,9, 20140425,      145, -33.0003,-150.0002,    35.6355,2,     -999.0,9,     -999.0,9,     -999.0,9,     -999.0,9,     -999.0,9,     -999.0,9
320620140320,       P16S,      63,          3,         30,         30,2,20140424,       2332,   -33.0003,  -150.0002,       5371,    99.2,  18.0071,  35.4365,2,-999.0000,9,   -999.0,9,  -999.0,9, -999.00,9, -999.00,9, -999.00,9, -999.00,9,-999.000,9,-999.000,9, -999.00,9,  -999.0,9,  -999.0,9,-999.0000,9,  -999.00,-999.000,9,-999.0000,9, -999.00,9,  18.0061,2, -999.00,9,  -999.0,9, -999.00,9,  -999.0,9, -999.00,9,     -999.0,9,     -999.0,9, -999.00,9, 20140425,      143, -33.0003,-150.0002,     -999.0,9,     -999.0,9,     -999.0,9,     -999.0,9,     -999.0,9,     -999.0,9,     -999.0,9
320620140320,       P16S,      63,          3,         31,         31,2,20140424,       2332,   -33.0003,  -150.0002,       5371,    99.3,  18.0006,  35.4359,2,  35.4355,2,    228.9,2,   227.9,2,    0.59,2,    0.17,2,    0.01,2,    0.04,2,   2.194,2,   1.396,2,    1.36,2,    2055,6,  2323.9,2,   8.0572,2,       20,-999.000,9,-999.0000,9, -999.00,9,  18.0048,2, -999.00,9,  -999.0,9, -999.00,9,  -999.0,9, -999.00,9,       8.67,2,     -999.0,9, -999.00,9, 20140425,      144, -33.0003,-150.0002,    35.6026,2,     -999.0,9,     -999.0,9,     -999.0,9,     -999.0,9,     -999.0,9,     -999.0,9
320620140320,       P16S,      63,          3,         29,         29,2,20140424,       2332,   -33.0003,  -150.0002,       5371,   149.6,  16.6752,  35.3564,2,  35.3558,2,    215.8,2,   214.4,2,    0.68,2,    2.30,2,    0.03,2,    0.19,2,   2.491,2,   1.460,2,    1.56,2,  2072.4,2,  2317.7,6,   8.0161,2,       20,-999.000,9,-999.0000,9, -999.00,9,  16.6676,2, -999.00,9,  -999.0,9, -999.00,9,  -999.0,9, -999.00,9,       9.49,2,     -999.0,9, -999.00,9, 20140425,      141, -33.0003,-150.0002,    35.5226,2,     -999.0,9,     -999.0,9,     -999.0,9,     -999.0,9,     -999.0,9,     -999.0,9
320620140320,       P16S,      63,          3,         28,         28,2,20140424,       2332,   -33.0003,  -150.0002,       5371,   199.2,  15.6650,  35.2095,2,  35.2061,2,    221.1,2,   227.7,2,    0.68,2,    1.76,2,    0.12,2,    0.17,2,   2.386,2,   1.494,2,    1.64,2,  2071.7,2,  2311.1,2,   8.0077,2,       20,-999.000,9,-999.0000,9, -999.00,9,  15.6684,2, -999.00,9,  -999.0,9, -999.00,9,  -999.0,9, -999.00,9,       9.18,2,     -999.0,9, -999.00,9, 20140425,      140, -33.0003,-150.0002,    35.3721,2,     -999.0,9,     -999.0,9,     -999.0,9,     -999.0,9,     -999.0,9,     -999.0,9
320620140320,       P16S,      63,          3,         27,         27,2,20140424,       2332,   -33.0003,  -150.0002,       5371,   249.9,  14.6905,  35.0682,2,  35.0619,2,    229.3,2,   226.8,2,    0.78,2,    3.20,2,    0.01,2,    0.27,2,   2.669,2,   1.534,2,    1.45,2,  2079.1,2,  2303.3,2,    7.981,2,       20,-999.000,9,-999.0000,9, -999.00,9,  14.6861,2, -999.00,9,  -999.0,9, -999.00,9,  -999.0,9, -999.00,9,       9.69,2,     -999.0,9, -999.00,9, 20140425,      138, -33.0004,-150.0002,    35.2273,2,     -999.0,9,     -999.0,9,     -999.0,9,     -999.0,9,     -999.0,9,     -999.0,9
320620140320,       P16S,      63,          3,         26,         26,2,20140424,       2332,   -33.0003,  -150.0002,       5371,   299.0,  13.1520,  34.9067,2,  34.9059,2,    209.0,2,   208.0,2,    2.15,2,    9.07,2,    0.01,2,    0.66,2,   2.965,2,   1.601,2,    1.05,2,  2103.9,2,  2296.9,2,   7.9139,2,       20,-999.000,9,-999.0000,9, -999.00,9,  13.1431,2, -999.00,9,  -999.0,9, -999.00,9,  -999.0,9, -999.00,9,      13.61,2,     -999.0,9, -999.00,9, 20140425,      136, -33.0003,-150.0002,    35.0705,2,     -999.0,9,     -999.0,9,     -999.0,9,     -999.0,9,     -999.0,9,     -999.0,9
320620140320,       P16S,      63,          3,         25,         25,2,20140424,       2332,   -33.0003,  -150.0002,       5371,   349.6,  11.5071,  34.7598,2,  34.7601,2,    208.3,2,   207.8,2,    2.74,2,   12.90,2,    0.00,2,    0.89,2,   3.109,2,   1.622,2,    1.07,2,  2120.5,2,    2290,2,   7.8704,2,       20,-999.000,9,-999.0000,9, -999.00,9,  11.5022,2, -999.00,9,  -999.0,9, -999.00,9,  -999.0,9, -999.00,9,      16.63,2,     -999.0,9, -999.00,9, 20140425,      133, -33.0003,-150.0002,    34.9240,2,     -999.0,9,     -999.0,9,     -999.0,9,     -999.0,9,     -999.0,9,     -999.0,9
320620140320,       P16S,      63,          3,         24,         24,2,20140424,       2332,   -33.0003,  -150.0002,       5371,   399.5,  10.0587,  34.6216,2,  34.6153,2,    215.1,2,   216.4,2,    3.33,2,   15.58,2,    0.00,2,    1.07,2,   3.374,2,   1.684,2,    1.14,2,  2127.7,2,  2284.8,2,   7.8395,2,       20,-999.000,9,-999.0000,9, -999.00,9,  10.0578,2, -999.00,9,  -999.0,9, -999.00,9,  -999.0,9, -999.00,9,      18.09,2,     -999.0,9, -999.00,9, 20140425,      131, -33.0003,-150.0002,    34.7785,2,     -999.0,9,     -999.0,9,     -999.0,9,     -999.0,9,     -999.0,9,     -999.0,9
320620140320,       P16S,      63,          3,         23,         23,2,20140424,       2332,   -33.0003,  -150.0002,       5371,   499.4,   7.8963,  34.4355,2,  34.4352,2,    233.0,2,   235.0,2,    5.38,2,   19.85,2,    0.00,2,    1.36,2,   3.669,2,   1.840,2,    1.15,2,  2138.3,2,  2280.8,2,   7.8024,2,       20,-999.000,9,-999.0000,9, -999.00,9,   7.8930,2, -999.00,9,  -999.0,9, -999.00,9,  -999.0,9, -999.00,9,      18.81,2,     -999.0,9, -999.00,9, 20140425,      128, -33.0003,-150.0002,    34.5976,2,     -999.0,9,     -999.0,9,     -999.0,9,     -999.0,9,     -999.0,9,     -999.0,9
320620140320,       P16S,      63,          3,         22,         22,2,20140424,       2332,   -33.0003,  -150.0002,       5371,   599.5,   7.1129,  34.3814,2,  34.3811,2,    243.0,2,   244.1,2,    6.36,2,   21.57,2,    0.00,2,    1.50,2,   3.378,2,   1.905,2,    1.09,2,  2141.8,2,  2279.8,2,   7.7932,2,       20,-999.000,9,-999.0000,9, -999.00,9,   7.1113,2, -999.00,9,  -999.0,9, -999.00,9,  -999.0,9, -999.00,9,      17.47,2,     -999.0,9, -999.00,9, 20140425,      126, -33.0003,-150.0002,    34.5432,2,     -999.0,9,     -999.0,9,     -999.0,9,     -999.0,9,     -999.0,9,     -999.0,9
320620140320,       P16S,      63,          3,         21,         21,2,20140424,       2332,   -33.0003,  -150.0002,       5371,   699.2,   6.5830,  34.3421,2,  34.3410,2,    241.9,2,   242.5,2,    8.12,2,   23.21,2,    0.00,2,    1.62,2,   3.340,6,   1.682,6,    0.67,6,  2144.8,2,  2283.2,2,   7.7838,2,       20,-999.000,9,-999.0000,9, -999.00,9,   6.5814,2, -999.00,9,  -999.0,9, -999.00,9,  -999.0,9, -999.00,9,      17.26,6,     -999.0,9, -999.00,9, 20140425,      123, -33.0003,-150.0002,    34.5029,2,     -999.0,9,     -999.0,9,     -999.0,9,     -999.0,9,     -999.0,9,     -999.0,9
320620140320,       P16S,      63,          3,         20,         20,2,20140424,       2332,   -33.0003,  -150.0002,       5371,   799.2,   6.0503,  34.3130,2,  34.3133,2,    235.5,2,   236.2,2,   10.96,2,   25.05,2,    0.00,2,    1.73,2,   2.719,2,   1.363,2,    0.33,2,  2151.4,2,    2280,2,   7.7683,2,       20,-999.000,9,-999.0000,9, -999.00,9,   6.0485,2, -999.00,9,  -999.0,9, -999.00,9,  -999.0,9, -999.00,9,      17.63,2,     -999.0,9, -999.00,9, 20140425,      120, -33.0004,-150.0002,    34.4752,2,     -999.0,9,     -999.0,9,     -999.0,9,     -999.0,9,     -999.0,9,     -999.0,9
320620140320,       P16S,      63,          3,         19,         19,2,20140424,       2332,   -33.0003,  -150.0002,       5371,   898.7,   5.6176,  34.3018,2,  34.3025,2,    227.0,2,   227.8,2,   14.58,2,   26.80,2,    0.00,2,    1.83,2,   2.127,2,   1.070,2,    0.22,2,  2160.9,2,  2282.4,2,   7.7499,6,       20,-999.000,9,-999.0000,9, -999.00,9,   5.6180,2, -999.00,9,  -999.0,9, -999.00,9,  -999.0,9, -999.00,9,      18.75,2,     -999.0,9, -999.00,9, 20140425,      117, -33.0003,-150.0002,    34.4643,2,     -999.0,9,     -999.0,9,     -999.0,9,     -999.0,9,     -999.0,9,     -999.0,9
320620140320,       P16S,      63,          3,         18,         18,2,20140424,       2332,   -33.0003,  -150.0002,       5371,   999.2,   5.0504,  34.3040,2,  34.3045,2,    213.9,2,   214.1,2,   22.30,2,   28.99,2,    0.00,2,    2.01,2,   1.471,2,   0.704,2,    0.10,2,  2176.2,6,    2289,2,   7.7199,2,       20,-999.000,9,-999.0000,9, -999.00,9,   5.0519,2, -999.00,9,  -999.0,9, -999.00,9,  -999.0,9, -999.00,9,      19.37,2,     -999.0,9, -999.00,9, 20140425,      114, -33.0003,-150.0002,    34.4663,2,     -999.0,9,     -999.0,9,     -999.0,9,     -999.0,9,     -999.0,9,     -999.0,9
320620140320,       P16S,      63,          3,         17,         17,2,20140424,       2332,   -33.0003,  -150.0002,       5371,  1199.2,   3.8862,  34.3607,2,  34.3618,2,    190.2,2,   189.3,2,   42.75,2,   32.82,2,    0.00,2,    2.27,2,   0.518,2,   0.264,2,    0.04,2,  2212.3,2,  2307.8,2,   7.6637,2,       20,-999.000,9,-999.0000,9, -999.00,9,   3.8859,2, -999.00,9,  -999.0,9, -999.00,9,  -999.0,9, -999.00,9,      23.01,2,     -999.0,9, -999.00,9, 20140425,      110, -33.0003,-150.0002,    34.5238,2,     -999.0,9,     -999.0,9,     -999.0,9,     -999.0,9,     -999.0,9,     -999.0,9
320620140320,       P16S,      63,          3,         16,         16,2,20140424,       2332,   -33.0003,  -150.0002,       5371,  1398.7,   3.0891,  34.4582,2,  34.4578,2,    174.3,2,   173.4,2,   63.77,2,   34.51,2,    0.00,2,    2.39,2,   0.145,2,   0.075,2,    0.01,2,    2243,2,  2328.2,2,   7.6372,2,       20,-999.000,9,-999.0000,9, -999.00,9,   3.0888,2, -999.00,9,  -999.0,9, -999.00,9,  -999.0,9, -999.00,9,      24.28,2,     -999.0,9, -999.00,9, 20140425,      105, -33.0003,-150.0002,    34.6203,2,     -999.0,9,     -999.0,9,     -999.0,9,     -999.0,9,     -999.0,9,     -999.0,9
320620140320,       P16S,      63,          3,         15,         15,2,20140424,       2332,   -33.0003,  -150.0002,       5371,  1600.9,   2.6816,  34.5422,2,  34.5440,2,    164.2,2,   163.4,2,   82.74,2,   34.98,2,    0.00,2,    2.44,2,   0.029,2,   0.007,2,    0.03,2,  2262.7,2,  2349.1,2,   7.6321,2,       20,-999.000,9,-999.0000,9, -999.00,9,   2.6757,2, -999.00,9,  -999.0,9, -999.00,9,  -999.0,9, -999.00,9,      23.83,2,     -999.0,9, -999.00,9, 20140425,      101, -33.0003,-150.0002,    34.7069,2,     -999.0,9,     -999.0,9,     -999.0,9,     -999.0,9,     -999.0,9,     -999.0,9
320620140320,       P16S,      63,          3,         14,         14,2,20140424,       2332,   -33.0003,  -150.0002,       5371,  1799.7,   2.4398,  34.5950,2,  34.5952,2,    157.7,2,   157.8,2,   97.12,2,   35.28,2,    0.00,2,    2.46,2,   0.010,2,   0.002,2,    0.02,2,  2280.5,2,    2367,2,   7.6321,2,       20,-999.000,9,-999.0000,9, -999.00,9,   2.4382,2, -999.00,9,  -999.0,9, -999.00,9,  -999.0,9, -999.00,9,      23.97,2,     -999.0,9, -999.00,9, 20140425,       56, -33.0003,-150.0002,    34.7584,2,     -999.0,9,     -999.0,9,     -999.0,9,     -999.0,9,     -999.0,9,     -999.0,9
320620140320,       P16S,      63,          3,         13,         13,2,20140424,       2332,   -33.0003,  -150.0002,       5371,  1999.3,   2.2418,  34.6232,2,  34.6233,2,    154.3,2,   154.0,2,  107.97,2,   35.53,2,    0.00,2,    2.48,2,   0.003,2,   0.001,2,    0.00,2,    2292,2,  2380.1,2,    7.633,2,       20,-999.000,9,-999.0000,9, -999.00,9,   2.2423,2, -999.00,9,  -999.0,9, -999.00,9,  -999.0,9, -999.00,9,      23.63,2,     -999.0,9, -999.00,9, 20140425,       52, -33.0003,-150.0002,    34.7866,2,     -999.0,9,     -999.0,9,     -999.0,9,     -999.0,9,     -999.0,9,     -999.0,9
320620140320,       P16S,      63,          3,         12,         12,2,20140424,       2332,   -33.0003,  -150.0002,       5371,  2249.6,   2.0632,  34.6431,2,  34.6429,2,    152.3,2,   152.6,2,  117.26,2,   35.75,2,    0.00,2,    2.50,2,   0.003,2,   0.001,2,    0.01,2,  2302.3,2,    2390,2,   7.6326,2,       20,-999.000,9,-999.0000,9, -999.00,9,   2.0633,2, -999.00,9,  -999.0,9, -999.00,9,  -999.0,9, -999.00,9,      22.91,2,     -999.0,9, -999.00,9, 20140425,       46, -33.0003,-150.0002,    34.8063,2,     -999.0,9,     -999.0,9,     -999.0,9,     -999.0,9,     -999.0,9,     -999.0,9
320620140320,       P16S,      63,          3,         11,         11,2,20140424,       2332,   -33.0003,  -150.0002,       5371,  2500.6,   1.9191,  34.6557,2,  34.6561,2,    151.9,2,   151.5,2,  123.91,2,   35.82,2,    0.00,2,    2.50,2,   0.002,2,   0.001,2,    0.00,2,  2308.9,2,  2397.3,2,   7.6347,2,       20,-999.000,9,-999.0000,9, -999.00,9,   1.9187,2, -999.00,9,  -999.0,9, -999.00,9,  -999.0,9, -999.00,9,      23.10,2,     -999.0,9, -999.00,9, 20140425,       41, -33.0003,-150.0002,    34.8195,2,     -999.0,9,     -999.0,9,     -999.0,9,     -999.0,9,     -999.0,9,     -999.0,9
320620140320,       P16S,      63,          3,         10,         10,2,20140424,       2332,   -33.0003,  -150.0002,       5371,  2749.4,   1.8117,  34.6649,2,  34.6645,2,    153.3,2,   154.2,2,  127.82,2,   35.76,2,    0.00,2,    2.49,2,   0.003,2,   0.000,2,    0.00,2,    2310,2,  2400.6,2,   7.6371,2,       20,-999.000,9,-999.0000,9, -999.00,9,   1.8119,2, -999.00,9,  -999.0,9, -999.00,9,  -999.0,9, -999.00,9,      22.40,2,     -999.0,9, -999.00,9, 20140425,       36, -33.0003,-150.0002,    34.8280,2,     -999.0,9,     -999.0,9,     -999.0,9,     -999.0,9,     -999.0,9,     -999.0,9
320620140320,       P16S,      63,          3,          9,         09,2,20140424,       2332,   -33.0003,  -150.0002,       5371,  2999.3,   1.7223,  34.6731,2,  34.6732,2,    157.6,2,   157.6,2,  128.90,2,   35.45,2,    0.00,2,    2.48,2,   0.006,2,   0.001,2,    0.00,2,  2307.9,6,  2400.3,2,   7.6409,2,       20,-999.000,9,-999.0000,9, -999.00,9,   1.7221,2, -999.00,9,  -999.0,9, -999.00,9,  -999.0,9, -999.00,9,      22.53,2,     -999.0,9, -999.00,9, 20140425,       30, -33.0003,-150.0002,    34.8367,2,     -999.0,9,     -999.0,9,     -999.0,9,     -999.0,9,     -999.0,9,     -999.0,9
320620140320,       P16S,      63,          3,          8,         08,2,20140424,       2332,   -33.0003,  -150.0002,       5371,  3300.2,   1.6202,  34.6858,2,  34.6859,2,    163.6,2,   165.7,2,  127.04,2,   34.82,2,    0.00,2,    2.43,2,-999.000,9,-999.000,9, -999.00,9,  2301.5,2,  2394.5,6,   7.6483,2,       20,-999.000,9,-999.0000,9, -999.00,9,   1.6209,2, -999.00,9,  -999.0,9, -999.00,9,  -999.0,9, -999.00,9,     -999.0,9,     -999.0,9, -999.00,9, 20140425,       24, -33.0003,-150.0002,    34.8495,2,     -999.0,9,     -999.0,9,     -999.0,9,     -999.0,9,     -999.0,9,     -999.0,9
320620140320,       P16S,      63,          3,          7,         07,2,20140424,       2332,   -33.0003,  -150.0002,       5371,  3598.6,   1.5113,  34.6964,2,  34.6964,2,    174.2,2,   177.3,2,  122.73,2,   33.96,2,    0.00,2,    2.36,2,   0.003,3,   0.001,2,    0.00,2,  2288.9,2,  2384.5,4,   7.6583,2,       20,-999.000,9,-999.0000,9, -999.00,9,   1.5117,2, -999.00,9,  -999.0,9, -999.00,9,  -999.0,9, -999.00,9,      20.56,2,     -999.0,9, -999.00,9, 20140425,       18, -33.0003,-150.0002,    34.8600,2,     -999.0,9,     -999.0,9,     -999.0,9,     -999.0,9,     -999.0,9,     -999.0,9
320620140320,       P16S,      63,          3,          6,         06,2,20140424,       2332,   -33.0003,  -150.0002,       5371,  3899.1,   1.4263,  34.7025,2,  34.7021,2,    184.4,2,   185.8,2,  120.19,2,   33.35,2,    0.00,2,    2.30,2,   0.007,2,   0.001,2,    0.01,2,  2279.6,2,  2379.3,2,    7.665,2,       20,-999.000,9,-999.0000,9, -999.00,9,   1.4260,2, -999.00,9,  -999.0,9, -999.00,9,  -999.0,9, -999.00,9,      20.61,2,     -999.0,9, -999.00,9, 20140425,       12, -33.0003,-150.0002,    34.8657,2,     -999.0,9,     -999.0,9,     -999.0,9,     -999.0,9,     -999.0,9,     -999.0,9