BOTTLE,20230715CCHSIOCBG
EXPOCODE,SECT_ID,STNNBR,CASTNO,SAMPNO,BTLNBR,BTLNBR_FLAG_W,DATE,TIME,LATITUDE,LONGITUDE,DEPTH,CTDPRS,CTDTMP,CTDSAL,CTDSAL_FLAG_W,SALNTY,SALNTY_FLAG_W,CTDOXY,CTDOXY_FLAG_W,OXYGEN,OXYGEN_FLAG_W,SILCAT,SILCAT_FLAG_W,NITRAT,NITRAT_FLAG_W,NITRIT,NITRIT_FLAG_W,PHSPHT,PHSPHT_FLAG_W,CFC-11,CFC-11_FLAG_W,CFC-12,CFC-12_FLAG_W,SF6,SF6_FLAG_W,TCARBN,TCARBN_FLAG_W,ALKALI,ALKALI_FLAG_W,PH_TOT,PH_TOT_FLAG_W,PH_TMP,TRITUM,TRITUM_FLAG_W,HELIUM,HELIUM_FLAG_W,DELHE3,DELHE3_FLAG_W,REFTMP,REFTMP_FLAG_W,DELC13,DELC13_FLAG_W,DELC14,DELC14_FLAG_W,DELO18,DELO18_FLAG_W,DOC,DOC_FLAG_W,TDN,TDN_FLAG_W,N2O,N2O_FLAG_W,CALCIUM,CALCIUM_FLAG_W,D15N_NO3,D15N_NO3_FLAG_W,BTL_DATE,BTL_TIME,BTL_LAT,BTL_LON,SALTREF,SALTREF_FLAG_W,D18O_NO3,D18O_NO3_FLAG_W,DSI30,DSI30_FLAG_W,CDOM_NASA,CDOM_NASA_FLAG_W,CDOM_UCSB,CDOM_UCSB_FLAG_W,D15N_NO2+NO3,D15N_NO2+NO3_FLAG_W,D18O_NO2+NO3,D18O_NO2+NO3_FLAG_W
,,,,,,,,,,,METERS,DBAR,ITS-90,PSS-78,,PSS-78,,UMOL/KG,,UMOL/KG,,UMOL/KG,,UMOL/KG,,UMOL/KG,,UMOL/KG,,PMOL/KG,,PMOL/KG,,FMOL/KG,,UMOL/KG,,UMOL/KG,,,,DEG C,TU,,NMOL/KG,,PERCNT,,DEG C,,/MILLE,,/MILLE,,/MILLE,,UMOL/KG,,UMOL/KG,,NMOL/KG,,MMOL/KG,,/MILLE,,,,,,G/KG,,/MILLE,,/MILLE,,,,,,/MILLE,,/MILLE,
320620140320,       P16S,      21,          1,         24,         24,2,20140408,       1708,   -58.4997,  -149.9997,       2841,     5.1,   0.9249,  33.7650,2,  33.7652,2,    337.9,2,   337.5,2,   42.78,2,   24.24,2,    0.22,2,    1.66,2,   5.787,2,   3.031,2,    2.99,2,  2161.8,6,  2286.8,2,   7.7612,2,       20,-999.000,9,-999.0000,9, -999.00,9,   0.9252,2, -999.00,9,  -999.0,9, -999.00,9,  -999.0,9, -999.00,9,      16.52,2,     -999.0,9, -999.00,9, 20140408,     1823, -58.5002,-149.9998,    33.9244,2,     -999.0,9,     -999.0,9,     -999.0,9,     -999.0,9,     -999.0,9,     -999.0,9
320620140320,       P16S,      21,          1,         23,         23,2,20140408,       1708,   -58.4997,  -149.9997,       2841,    34.7,   0.9171,  33.7648,2,  33.7648,2,    339.0,2,   337.5,2,   42.49,2,   24.29,2,    0.22,2,    1.67,2,   5.897,2,   3.002,2,    3.04,2,  2161.6,2,    2287,2,   7.7606,6,       20,-999.000,9,-999.0000,9, -999.00,9,   0.9174,2, -999.00,9,  -999.0,9, -999.00,9,  -999.0,9, -999.00,9,      16.74,2,     -999.0,9, -999.00,9, 20140408,     1821, -58.5002,-149.9998,    33.9240,2,     -999.0,9,     -999.0,9,     -999.0,9,     -999.0,9,     -999.0,9,     -999.0,9
320620140320,       P16S,      21,          1,         22,         22,2,20140408,       1708,   -58.4997,  -149.9997,       2841,    60.1,   0.9168,  33.7648,2,  33.7659,2,    338.7,2,   337.2,2,   43.17,2,   24.28,2,    0.22,2,    1.68,2,   5.845,2,   3.019,2,    2.97,2,  2162.1,2,  2287.4,6,   7.7612,2,       20,-999.000,9,-999.0000,9, -999.00,9,   0.9168,2, -999.00,9,  -999.0,9, -999.00,9,  -999.0,9, -999.00,9,      16.39,2,     -999.0,9, -999.00,9, 20140408,     1820, -58.5002,-149.9998,    33.9251,2,     -999.0,9,     -999.0,9,     -999.0,9,     -999.0,9,     -999.0,9,     -999.0,9
320620140320,       P16S,      21,          1,         21,         21,2,20140408,       1708,   -58.4997,  -149.9997,       2841,    85.3,  -0.0225,  33.9531,2,  33.9423,2,    304.2,2,   318.8,2,   52.73,2,   27.16,2,    0.21,2,    1.96,2,   5.286,2,   2.796,2,    2.74,2,    2185,2,  2302.4,2,   7.7164,2,       20,-999.000,9,-999.0000,9, -999.00,9,  -0.0140,2, -999.00,9,  -999.0,9, -999.00,9,  -999.0,9, -999.00,9,      18.43,2,     -999.0,9, -999.00,9, 20140408,     1818, -58.5001,-149.9997,    34.1023,2,     -999.0,9,     -999.0,9,     -999.0,9,     -999.0,9,     -999.0,9,     -999.0,9
320620140320,       P16S,      21,          1,         20,         20,2,20140408,       1708,   -58.4997,  -149.9997,       2841,   114.5,  -0.6559,  34.2440,2,  34.2364,2,    236.8,2,   273.6,2,   68.25,2,   31.25,2,    0.21,2,    2.20,2,   3.847,2,   2.091,2,    2.15,2,  2220.1,2,  2312.5,2,   7.6531,2,       20,-999.000,9,-999.0000,9, -999.00,9,  -0.6468,2, -999.00,9,  -999.0,9, -999.00,9,  -999.0,9, -999.00,9,      21.43,2,     -999.0,9, -999.00,9, 20140408,     1817, -58.5001,-149.9997,    34.3979,2,     -999.0,9,     -999.0,9,     -999.0,9,     -999.0,9,     -999.0,9,     -999.0,9
320620140320,       P16S,      21,          1,         19,         19,2,20140408,       1708,   -58.4997,  -149.9997,       2841,   165.0,   1.3985,  34.5482,2,  34.5471,2,    192.0,2,   191.4,2,   78.48,2,   33.84,2,    0.04,2,    2.32,2,   1.351,2,   0.699,2,    0.92,2,  2251.4,2,    2334,2,   7.6113,2,       20,-999.000,9,-999.0000,9, -999.00,9,   1.3963,2, -999.00,9,  -999.0,9, -999.00,9,  -999.0,9, -999.00,9,      24.42,2,     -999.0,9, -999.00,9, 20140408,     1815, -58.5001,-149.9997,    34.7100,2,     -999.0,9,     -999.0,9,     -999.0,9,     -999.0,9,     -999.0,9,     -999.0,9
320620140320,       P16S,      21,          1,         18,         18,2,20140408,       1708,   -58.4997,  -149.9997,       2841,   234.9,   1.7161,  34.6428,2,  34.6405,2,    182.1,2,   183.9,2,   82.96,2,   33.17,2,    0.02,2,    2.27,2,   0.847,2,   0.444,2,    0.55,2,  2254.1,2,  2338.1,2,   7.6223,2,       20,-999.000,9,-999.0000,9, -999.00,9,   1.7144,2, -999.00,9,  -999.0,9, -999.00,9,  -999.0,9, -999.00,9,      23.95,2,     -999.0,9, -999.00,9, 20140408,     1813, -58.5001,-149.9997,    34.8039,2,     -999.0,9,     -999.0,9,     -999.0,9,     -999.0,9,     -999.0,9,     -999.0,9
320620140320,       P16S,      21,          1,         17,         17,2,20140408,       1708,   -58.4997,  -149.9997,       2841,   314.1,   1.9169,  34.6964,2,  34.6967,2,    180.4,2,   179.9,2,   85.01,2,   32.56,2,    0.01,2,    2.23,2,   0.455,2,   0.197,2,    0.39,2,  2254.3,2,  2342.3,2,   7.6344,2,       20,-999.000,9,-999.0000,9, -999.00,9,   1.9171,2, -999.00,9,  -999.0,9, -999.00,9,  -999.0,9, -999.00,9,      23.17,2,     -999.0,9, -999.00,9, 20140408,     1811, -58.5001,-149.9997,    34.8603,2,     -999.0,9,     -999.0,9,     -999.0,9,     -999.0,9,     -999.0,9,     -999.0,9
320620140320,       P16S,      21,          1,         16,         16,2,20140408,       1708,   -58.4997,  -149.9997,       2841,   414.5,   1.8184,  34.7125,2,  34.7128,2,    184.4,2,   185.1,2,   87.64,2,   32.04,2,    0.01,2,    2.19,2,   0.412,2,   0.174,2,    0.10,2,  2253.8,2,    2345,2,    7.646,2,       20,-999.000,9,-999.0000,9, -999.00,9,   1.8187,2, -999.00,9,  -999.0,9, -999.00,9,  -999.0,9, -999.00,9,      22.10,2,     -999.0,9, -999.00,9, 20140408,     1808, -58.5001,-149.9996,    34.8765,2,     -999.0,9,     -999.0,9,     -999.0,9,     -999.0,9,     -999.0,9,     -999.0,9
320620140320,       P16S,      21,          1,         15,         15,2,20140408,       1708,   -58.4997,  -149.9997,       2841,   514.5,   1.7379,  34.7237,2,  34.7238,2,    188.1,2,   188.2,2,   89.89,2,   31.64,2,    0.01,2,    2.16,2,   0.356,2,   0.153,2,    0.10,2,  2252.7,2,    2348,2,   7.6548,2,       20,-999.000,9,-999.0000,9, -999.00,9,   1.7382,2, -999.00,9,  -999.0,9, -999.00,9,  -999.0,9, -999.00,9,      21.90,2,     -999.0,9, -999.00,9, 20140408,     1805, -58.5001,-149.9996,    34.8875,2,     -999.0,9,     -999.0,9,     -999.0,9,     -999.0,9,     -999.0,9,     -999.0,9
320620140320,       P16S,      21,          1,         14,         14,2,20140408,       1708,   -58.4997,  -149.9997,       2841,   614.1,   1.7122,  34.7345,2,  34.7324,2,    190.8,2,   190.5,2,   91.45,2,   31.32,2,    0.00,2,    2.13,2,   0.265,2,   0.104,2,    0.08,2,  2252.3,2,  2349.9,2,   7.6614,2,       20,-999.000,9,-999.0000,9, -999.00,9,   1.7125,2, -999.00,9,  -999.0,9, -999.00,9,  -999.0,9, -999.00,9,      20.95,2,     -999.0,9, -999.00,9, 20140408,     1803, -58.5001,-149.9996,    34.8962,2,     -999.0,9,     -999.0,9,     -999.0,9,     -999.0,9,     -999.0,9,     -999.0,9
320620140320,       P16S,      21,          1,         13,         13,2,20140408,       1708,   -58.4997,  -149.9997,       2841,   714.1,   1.6171,  34.7357,2,  34.7356,2,    192.6,2,   192.8,2,   94.28,2,   31.29,2,    0.00,2,    2.15,2,   0.249,6,   0.095,6,    0.06,6,  2252.5,2,  2351.3,2,   7.6643,2,       20,-999.000,9,-999.0000,9, -999.00,9,   1.6169,2, -999.00,9,  -999.0,9, -999.00,9,  -999.0,9, -999.00,9,      20.77,6,     -999.0,9, -999.00,9, 20140408,     1800, -58.5000,-149.9996,    34.8994,2,     -999.0,9,     -999.0,9,     -999.0,9,     -999.0,9,     -999.0,9,     -999.0,9
320620140320,       P16S,      21,          1,         12,         12,2,20140408,       1708,   -58.4997,  -149.9997,       2841,   813.2,   1.5352,  34.7354,2,  34.7357,2,    194.6,2,   194.4,2,   96.43,2,   31.27,2,    0.00,2,    2.15,2,   0.238,2,   0.096,2,    0.06,2,  2253.4,2,  2352.8,2,   7.6675,2,       20,-999.000,9,-999.0000,9, -999.00,9,   1.5352,2, -999.00,9,  -999.0,9, -999.00,9,  -999.0,9, -999.00,9,      20.89,2,     -999.0,9, -999.00,9, 20140408,     1757, -58.5000,-149.9996,    34.8995,2,     -999.0,9,     -999.0,9,     -999.0,9,     -999.0,9,     -999.0,9,     -999.0,9
320620140320,       P16S,      21,          1,         11,         11,2,20140408,       1708,   -58.4997,  -149.9997,       2841,   913.1,   1.4517,  34.7339,2,  34.7339,2,    195.8,2,   195.4,2,   99.16,2,   31.26,2,    0.00,2,    2.14,2,   0.240,2,   0.086,2,    0.04,2,  2254.1,2,  2353.4,2,   7.6674,2,       20,-999.000,9,-999.0000,9, -999.00,9,   1.4518,2, -999.00,9,  -999.0,9, -999.00,9,  -999.0,9, -999.00,9,      20.57,2,     -999.0,9, -999.00,9, 20140408,     1754, -58.5000,-149.9996,    34.8977,2,     -999.0,9,     -999.0,9,     -999.0,9,     -999.0,9,     -999.0,9,     -999.0,9
320620140320,       P16S,      21,          1,         10,         10,2,20140408,       1708,   -58.4997,  -149.9997,       2841,  1065.7,   1.3150,  34.7307,2,  34.7310,2,    197.5,2,   197.5,2,  103.94,2,   31.57,2,    0.00,2,    2.16,2,   0.220,2,   0.075,2,    0.03,2,  2255.2,2,  2356.1,2,   7.6685,2,       20,-999.000,9,-999.0000,9, -999.00,9,   1.3149,2, -999.00,9,  -999.0,9, -999.00,9,  -999.0,9, -999.00,9,      20.73,2,     -999.0,9, -999.00,9, 20140408,     1751, -58.5000,-149.9996,    34.8947,2,     -999.0,9,     -999.0,9,     -999.0,9,     -999.0,9,     -999.0,9,     -999.0,9
320620140320,       P16S,      21,          1,          9,         09,2,20140408,       1708,   -58.4997,  -149.9997,       2841,  1215.4,   1.2159,  34.7274,2,  34.7274,2,    199.2,2,   198.7,2,  105.50,2,   31.61,2,    0.00,2,    2.16,2,   0.218,2,   0.078,2,    0.02,2,  2256.5,2,  2357.5,2,   7.6679,2,       20,-999.000,9,-999.0000,9, -999.00,9,   1.2156,2, -999.00,9,  -999.0,9, -999.00,9,  -999.0,9, -999.00,9,      20.54,2,     -999.0,9, -999.00,9, 20140408,     1747, -58.4999,-149.9996,    34.8912,2,     -999.0,9,     -999.0,9,     -999.0,9,     -999.0,9,     -999.0,9,     -999.0,9
320620140320,       P16S,      21,          1,          8,         08,2,20140408,       1708,   -58.4997,  -149.9997,       2841,  1364.3,   1.0861,  34.7224,2,  34.7231,2,    200.7,2,   200.8,2,  110.68,2,   31.83,2,    0.00,2,    2.18,2,   0.217,2,   0.071,2,    0.10,2,  2258.3,2,    2359,2,   7.6686,2,       20,-999.000,9,-999.0000,9, -999.00,9,   1.0867,2, -999.00,9,  -999.0,9, -999.00,9,  -999.0,9, -999.00,9,      20.28,2,     -999.0,9, -999.00,9, 20140408,     1743, -58.5000,-149.9996,    34.8868,2,     -999.0,9,     -999.0,9,     -999.0,9,     -999.0,9,     -999.0,9,     -999.0,9
320620140320,       P16S,      21,          1,          7,         07,2,20140408,       1708,   -58.4997,  -149.9997,       2841,  1514.8,   0.9712,  34.7173,2,  34.7181,2,    201.1,2,   201.7,2,  113.90,2,   32.04,2,    0.00,2,    2.19,2,   0.223,2,   0.075,2,    0.08,2,  2259.7,2,  2359.8,2,    7.665,2,       20,-999.000,9,-999.0000,9, -999.00,9,   0.9707,2, -999.00,9,  -999.0,9, -999.00,9,  -999.0,9, -999.00,9,      20.63,2,     -999.0,9, -999.00,9, 20140408,     1739, -58.5000,-149.9996,    34.8818,2,     -999.0,9,     -999.0,9,     -999.0,9,     -999.0,9,     -999.0,9,     -999.0,9
320620140320,       P16S,      21,          1,          6,         06,2,20140408,       1708,   -58.4997,  -149.9997,       2841,  1663.7,   0.8747,  34.7137,2,  34.7134,2,    202.9,2,   203.5,2,  117.51,2,   32.21,2,    0.00,2,    2.20,2,   0.238,2,   0.080,2,    0.00,2,  2260.2,2,  2360.5,2,    7.665,2,       20,-999.000,9,-999.0000,9, -999.00,9,   0.8748,2, -999.00,9,  -999.0,9, -999.00,9,  -999.0,9, -999.00,9,      19.75,2,     -999.0,9, -999.00,9, 20140408,     1735, -58.5000,-149.9996,    34.8771,2,     -999.0,9,     -999.0,9,     -999.0,9,     -999.0,9,     -999.0,9,     -999.0,9
320620140320,       P16S,      21,          1,          5,         05,2,20140408,       1708,   -58.4997,  -149.9997,       2841,  1865.0,   0.7715,  34.7096,2,  34.7094,2,    205.2,2,   205.5,2,  123.76,2,   32.10,2,    0.00,2,    2.21,2,   0.218,2,   0.079,2,    0.04,2,  2261.3,2,  2361.9,2,   7.6671,2,       20,-999.000,9,-999.0000,9, -999.00,9,   0.7715,2, -999.00,9,  -999.0,9, -999.00,9,  -999.0,9, -999.00,9,      19.70,2,     -999.0,9, -999.00,9, 20140408,     1731, -58.5000,-149.9996,    34.8731,2,     -999.0,9,     -999.0,9,     -999.0,9,     -999.0,9,     -999.0,9,     -999.0,9
320620140320,       P16S,      21,          1,          4,         04,2,20140408,       1708,   -58.4997,  -149.9997,       2841,  2084.0,   0.7315,  34.7073,2,  34.7073,2,    206.2,2,   206.1,2,  127.76,2,   32.34,2,    0.00,2,    2.22,2,   0.219,2,   0.072,2,    0.07,2,  2263.2,2,  2363.8,2,   7.6673,2,       20,-999.000,9,-999.0000,9, -999.00,9,   0.7311,2, -999.00,9,  -999.0,9, -999.00,9,  -999.0,9, -999.00,9,      20.15,2,     -999.0,9, -999.00,9, 20140408,     1726, -58.5000,-149.9996,    34.8709,2,     -999.0,9,     -999.0,9,     -999.0,9,     -999.0,9,     -999.0,9,     -999.0,9
320620140320,       P16S,      21,          1,          3,         03,2,20140408,       1708,   -58.4997,  -149.9997,       2841,  2335.8,   0.7100,  34.7061,2,  34.7062,2,    206.9,2,   206.6,2,  128.83,2,   32.49,2,    0.00,2,    2.22,2,   0.235,2,   0.235,2,    0.07,2,  2262.7,2,  2363.5,6,   7.6663,2,       20,-999.000,9,-999.0000,9, -999.00,9,   0.7098,2, -999.00,9,  -999.0,9, -999.00,9,  -999.0,9, -999.00,9,      20.03,2,     -999.0,9, -999.00,9, 20140408,     1720, -58.5000,-149.9996,    34.8699,2,     -999.0,9,     -999.0,9,     -999.0,9,     -999.0,9,     -999.0,9,     -999.0,9
320620140320,       P16S,      21,          1,          2,         02,2,20140408,       1708,   -58.4997,  -149.9997,       2841,  2584.0,   0.6720,  34.7042,2,  34.7045,2,    206.8,2,   207.1,2,  128.54,2,   32.44,2,    0.00,2,    2.23,2,   0.289,2,   0.114,2,    0.09,2,  2263.5,2,  2362.7,2,   7.6639,6,       20,-999.000,9,-999.0000,9, -999.00,9,   0.6717,2, -999.00,9,  -999.0,9, -999.00,9,  -999.0,9, -999.00,9,      19.97,2,     -999.0,9, -999.00,9, 20140408,     1714, -58.5000,-149.9996,    34.8681,2,     -999.0,9,     -999.0,9,     -999.0,9,     -999.0,9,     -999.0,9,     -999.0,9
320620140320,       P16S,      21,          1,          1,         01,2,20140408,       1708,   -58.4997,  -149.9997,       2841,  2861.6,   0.5469,  34.7011,2,  34.7007,2,    209.0,2,   209.9,2,  129.91,2,   32.59,2,    0.00,2,    2.23,2,   0.390,2,   0.153,2,    0.08,2,  2262.4,6,    2361,2,   7.6605,2,       20,-999.000,9,-999.0000,9, -999.00,9,   0.5469,2, -999.00,9,  -999.0,9, -999.00,9,  -999.0,9, -999.00,9,      20.36,2,     -999.0,9, -999.00,9, 20140408,     1708, -58.4997,-149.9997,    34.8643,2,     -999.0,9,     -999.0,9,     -999.0,9,     -999.0,9,     -999.0,9,     -999.0,9