BOTTLE,20230715CCHSIOCBG
EXPOCODE,SECT_ID,STNNBR,CASTNO,SAMPNO,BTLNBR,BTLNBR_FLAG_W,DATE,TIME,LATITUDE,LONGITUDE,DEPTH,CTDPRS,CTDTMP,CTDSAL,CTDSAL_FLAG_W,SALNTY,SALNTY_FLAG_W,CTDOXY,CTDOXY_FLAG_W,OXYGEN,OXYGEN_FLAG_W,SILCAT,SILCAT_FLAG_W,NITRAT,NITRAT_FLAG_W,NITRIT,NITRIT_FLAG_W,PHSPHT,PHSPHT_FLAG_W,CFC-11,CFC-11_FLAG_W,CFC-12,CFC-12_FLAG_W,SF6,SF6_FLAG_W,TCARBN,TCARBN_FLAG_W,ALKALI,ALKALI_FLAG_W,PH_TOT,PH_TOT_FLAG_W,PH_TMP,TRITUM,TRITUM_FLAG_W,HELIUM,HELIUM_FLAG_W,DELHE3,DELHE3_FLAG_W,REFTMP,REFTMP_FLAG_W,DELC13,DELC13_FLAG_W,DELC14,DELC14_FLAG_W,DELO18,DELO18_FLAG_W,DOC,DOC_FLAG_W,TDN,TDN_FLAG_W,N2O,N2O_FLAG_W,CALCIUM,CALCIUM_FLAG_W,D15N_NO3,D15N_NO3_FLAG_W,BTL_DATE,BTL_TIME,BTL_LAT,BTL_LON,SALTREF,SALTREF_FLAG_W,D18O_NO3,D18O_NO3_FLAG_W,DSI30,DSI30_FLAG_W,CDOM_NASA,CDOM_NASA_FLAG_W,CDOM_UCSB,CDOM_UCSB_FLAG_W,D15N_NO2+NO3,D15N_NO2+NO3_FLAG_W,D18O_NO2+NO3,D18O_NO2+NO3_FLAG_W
,,,,,,,,,,,METERS,DBAR,ITS-90,PSS-78,,PSS-78,,UMOL/KG,,UMOL/KG,,UMOL/KG,,UMOL/KG,,UMOL/KG,,UMOL/KG,,PMOL/KG,,PMOL/KG,,FMOL/KG,,UMOL/KG,,UMOL/KG,,,,DEG C,TU,,NMOL/KG,,PERCNT,,DEG C,,/MILLE,,/MILLE,,/MILLE,,UMOL/KG,,UMOL/KG,,NMOL/KG,,MMOL/KG,,/MILLE,,,,,,G/KG,,/MILLE,,/MILLE,,,,,,/MILLE,,/MILLE,
320620140320,       P16S,      53,          1,         36,         36,2,20140420,       2034,   -39.6671,  -150.0003,     -999.0,     5.4,  17.3315,  34.5710,2,  34.5708,2,   -999.0,9,  -999.0,5,    0.00,2,    0.53,2,    0.01,2,    0.21,2,   2.356,2,   1.397,2,    1.54,2,  2045.7,2,  2282.8,2,   8.0208,2,       20,-999.000,9,-999.0000,9, -999.00,9,  17.3311,2, -999.00,9,  -999.0,9, -999.00,9,  -999.0,9, -999.00,9,       8.36,2,     -999.0,1, -999.00,9, 20140420,     2258, -39.6682,-149.9996,    34.7338,2,     -999.0,9,     -999.0,9,     -999.0,9,     -999.0,9,     -999.0,9,     -999.0,9
320620140320,       P16S,      53,          1,         34,         34,2,20140420,       2034,   -39.6671,  -150.0003,     -999.0,    19.5,  17.3340,  34.5715,2,-999.0000,9,   -999.0,9,  -999.0,9, -999.00,9, -999.00,9, -999.00,9, -999.00,9,-999.000,9,-999.000,9, -999.00,9,  -999.0,9,  -999.0,9,-999.0000,9,  -999.00,-999.000,9,-999.0000,9, -999.00,9,  17.3340,2, -999.00,9,  -999.0,9, -999.00,9,  -999.0,9, -999.00,9,     -999.0,9,     -999.0,9, -999.00,9, 20140420,     2256, -39.6683,-149.9995,     -999.0,9,     -999.0,9,     -999.0,9,     -999.0,9,     -999.0,9,     -999.0,9,     -999.0,9
320620140320,       P16S,      53,          1,         35,         35,2,20140420,       2034,   -39.6671,  -150.0003,     -999.0,    20.8,  17.3351,  34.5711,2,  34.5710,2,    243.6,2,   242.2,2,    0.00,2,    0.49,2,    0.02,2,    0.22,2,   1.964,2,   1.415,2,    1.68,2,  2044.9,2,  2282.8,2,   8.0205,2,       20,-999.000,9,-999.0000,9, -999.00,9,  17.3334,2, -999.00,9,  -999.0,9, -999.00,9,  -999.0,9, -999.00,9,       8.44,2,     -999.0,9, -999.00,9, 20140420,     2256, -39.6683,-149.9995,    34.7340,2,     -999.0,9,     -999.0,9,     -999.0,9,     -999.0,9,     -999.0,9,     -999.0,9
320620140320,       P16S,      53,          1,         33,         33,2,20140420,       2034,   -39.6671,  -150.0003,     -999.0,    40.4,  17.3351,  34.5701,2,  34.5708,2,    243.5,2,   241.9,2,    0.29,2,    0.48,2,    0.02,2,    0.22,2,   2.126,2,   1.411,2,    1.65,2,  2044.4,2,    2284,2,   8.0212,2,       20,-999.000,9,-999.0000,9, -999.00,9,  17.3339,2, -999.00,9,  -999.0,9, -999.00,9,  -999.0,9, -999.00,9,       8.36,2,     -999.0,9, -999.00,9, 20140420,     2254, -39.6684,-149.9997,    34.7338,2,     -999.0,9,     -999.0,9,     -999.0,9,     -999.0,9,     -999.0,9,     -999.0,9
320620140320,       P16S,      53,          1,         31,         31,2,20140420,       2034,   -39.6671,  -150.0003,     -999.0,    64.8,  14.0245,  34.5933,2,  34.5908,2,    275.9,2,   275.5,2,    0.39,2,    1.17,2,    0.04,2,    0.27,2,   2.612,2,   1.710,2,    1.86,2,  2055.7,2,    2285,2,   8.0027,2,       20,-999.000,9,-999.0000,9, -999.00,9,  13.9642,3, -999.00,9,  -999.0,9, -999.00,9,  -999.0,9, -999.00,9,      10.39,2,     -999.0,1, -999.00,9, 20140420,     2252, -39.6682,-149.9999,    34.7539,2,     -999.0,9,     -999.0,9,     -999.0,9,     -999.0,9,     -999.0,9,     -999.0,9
320620140320,       P16S,      53,          1,         32,         32,2,20140420,       2034,   -39.6671,  -150.0003,     -999.0,    66.7,  14.0304,  34.5905,2,-999.0000,9,   -999.0,9,  -999.0,9, -999.00,9, -999.00,9, -999.00,9, -999.00,9,-999.000,9,-999.000,9, -999.00,9,  -999.0,9,  -999.0,9,-999.0000,9,  -999.00,-999.000,9,-999.0000,9, -999.00,9,  14.0537,3, -999.00,9,  -999.0,9, -999.00,9,  -999.0,9, -999.00,9,     -999.0,9,     -999.0,9, -999.00,9, 20140420,     2252, -39.6682,-149.9999,     -999.0,9,     -999.0,9,     -999.0,9,     -999.0,9,     -999.0,9,     -999.0,9,     -999.0,9
320620140320,       P16S,      53,          1,         30,         30,2,20140420,       2034,   -39.6671,  -150.0003,     -999.0,    89.4,  12.9961,  34.6229,2,  34.6220,2,    262.6,2,   261.3,2,    0.20,2,    2.33,2,    0.11,2,    0.36,2,   2.589,2,   1.712,2,    1.80,2,  2068.9,2,  2284.4,2,   7.9767,2,       20,-999.000,9,-999.0000,9, -999.00,9,  12.9739,3, -999.00,9,  -999.0,9, -999.00,9,  -999.0,9, -999.00,9,      10.47,2,     -999.0,9, -999.00,9, 20140420,     2251, -39.6680,-150.0000,    34.7853,2,     -999.0,9,     -999.0,9,     -999.0,9,     -999.0,9,     -999.0,9,     -999.0,9
320620140320,       P16S,      53,          1,         29,         29,2,20140420,       2034,   -39.6671,  -150.0003,     -999.0,   134.6,  11.8341,  34.5891,2,  34.5881,2,    250.5,2,   248.5,2,    0.98,2,    5.49,2,    0.63,2,    0.58,2,   3.142,2,   1.839,2,    1.78,2,  2088.2,2,  2283.2,6,   7.9288,2,       20,-999.000,9,-999.0000,9, -999.00,9,  11.8348,2, -999.00,9,  -999.0,9, -999.00,9,  -999.0,9, -999.00,9,      11.75,2,     -999.0,1, -999.00,9, 20140420,     2248, -39.6677,-150.0001,    34.7511,2,     -999.0,9,     -999.0,9,     -999.0,9,     -999.0,9,     -999.0,9,     -999.0,9
320620140320,       P16S,      53,          1,         28,         28,2,20140420,       2034,   -39.6671,  -150.0003,     -999.0,   183.8,  10.7645,  34.5742,2,  34.5739,2,    237.5,2,   234.9,2,    1.47,2,   10.60,2,    0.02,2,    0.83,2,   3.361,2,   1.830,2,    1.78,2,  2109.6,6,  2282.6,2,   7.8791,2,       20,-999.000,9,-999.0000,9, -999.00,9,  10.7642,2, -999.00,9,  -999.0,9, -999.00,9,  -999.0,9, -999.00,9,      15.44,2,     -999.0,9, -999.00,9, 20140420,     2246, -39.6675,-150.0001,    34.7369,2,     -999.0,9,     -999.0,9,     -999.0,9,     -999.0,9,     -999.0,9,     -999.0,9
320620140320,       P16S,      53,          1,         27,         27,2,20140420,       2034,   -39.6671,  -150.0003,     -999.0,   233.0,   9.6556,  34.5440,2,  34.5452,2,    229.8,2,   230.3,2,    2.35,2,   14.62,2,    0.01,2,    1.07,2,   3.416,2,   1.908,2,    1.68,2,  2124.7,2,  2281.6,2,   7.8396,2,       20,-999.000,9,-999.0000,9, -999.00,9,   9.6207,3, -999.00,9,  -999.0,9, -999.00,9,  -999.0,9, -999.00,9,      18.74,2,     -999.0,9, -999.00,9, 20140420,     2244, -39.6673,-150.0001,    34.7081,2,     -999.0,9,     -999.0,9,     -999.0,9,     -999.0,9,     -999.0,9,     -999.0,9
320620140320,       P16S,      53,          1,         26,         26,2,20140420,       2034,   -39.6671,  -150.0003,     -999.0,   284.6,   8.7824,  34.4993,2,  34.4987,2,    239.3,2,   240.6,2,    3.32,2,   16.36,2,    0.01,2,    1.17,2,   3.646,2,   1.972,2,    1.70,2,  2129.9,2,  2281.4,2,   7.8262,2,       20,-999.000,9,-999.0000,9, -999.00,9,   8.7833,2, -999.00,9,  -999.0,9, -999.00,9,  -999.0,9, -999.00,9,      18.29,2,     -999.0,1, -999.00,9, 20140420,     2242, -39.6672,-150.0002,    34.6614,2,     -999.0,9,     -999.0,9,     -999.0,9,     -999.0,9,     -999.0,9,     -999.0,9
320620140320,       P16S,      53,          1,         25,         25,2,20140420,       2034,   -39.6671,  -150.0003,     -999.0,   335.1,   8.3041,  34.4819,2,  34.4814,2,    242.8,2,   243.9,2,    3.91,2,   17.61,2,    0.00,2,    1.24,2,   3.717,2,   2.023,2,    1.71,2,  2133.3,2,  2280.8,2,   7.8178,2,       20,-999.000,9,-999.0000,9, -999.00,9,   8.3041,2, -999.00,9,  -999.0,9, -999.00,9,  -999.0,9, -999.00,9,      18.84,2,     -999.0,9, -999.00,9, 20140420,     2240, -39.6670,-150.0003,    34.6440,2,     -999.0,9,     -999.0,9,     -999.0,9,     -999.0,9,     -999.0,9,     -999.0,9
320620140320,       P16S,      53,          1,         24,         24,2,20140420,       2034,   -39.6671,  -150.0003,     -999.0,   386.7,   7.9294,  34.4554,2,  34.4557,2,    247.7,2,   247.0,2,    4.10,2,   18.60,2,    0.00,2,    1.30,2,   3.607,2,   2.039,2,    1.61,2,    2135,2,    2281,2,   7.8121,2,       20,-999.000,9,-999.0000,9, -999.00,9,   7.9337,2, -999.00,9,  -999.0,9, -999.00,9,  -999.0,9, -999.00,9,      16.93,2,     -999.0,9, -999.00,9, 20140420,     2238, -39.6668,-150.0004,    34.6181,2,     -999.0,9,     -999.0,9,     -999.0,9,     -999.0,9,     -999.0,9,     -999.0,9
320620140320,       P16S,      53,          1,         23,         23,2,20140420,       2034,   -39.6671,  -150.0003,     -999.0,   463.4,   7.5711,  34.4258,2,  34.4252,2,    248.8,2,   248.7,2,    5.37,2,   19.83,2,    0.00,2,    1.39,2,   3.897,2,   2.066,2,    1.45,2,  2138.3,2,  2279.6,2,   7.8043,2,       20,-999.000,9,-999.0000,9, -999.00,9,   7.5703,2, -999.00,9,  -999.0,9, -999.00,9,  -999.0,9, -999.00,9,      17.09,2,     -999.0,9, -999.00,9, 20140420,     2236, -39.6666,-150.0004,    34.5876,2,     -999.0,9,     -999.0,9,     -999.0,9,     -999.0,9,     -999.0,9,     -999.0,9
320620140320,       P16S,      53,          1,         22,         22,2,20140420,       2034,   -39.6671,  -150.0003,     -999.0,   562.6,   7.1713,  34.3922,2,  34.3913,2,    245.6,2,   246.0,2,    6.64,2,   21.38,2,    0.00,2,    1.50,2,   3.835,2,   2.020,2,    1.24,2,  2141.8,2,  2280.6,2,   7.7942,2,       20,-999.000,9,-999.0000,9, -999.00,9,   7.1664,2, -999.00,9,  -999.0,9, -999.00,9,  -999.0,9, -999.00,9,      15.32,2,     -999.0,1, -999.00,9, 20140420,     2233, -39.6668,-150.0004,    34.5534,2,     -999.0,9,     -999.0,9,     -999.0,9,     -999.0,9,     -999.0,9,     -999.0,9
320620140320,       P16S,      53,          1,         21,         21,2,20140420,       2034,   -39.6671,  -150.0003,     -999.0,   664.8,   6.7703,  34.3579,2,  34.3579,2,    243.5,2,   243.5,2,    7.52,2,   22.69,2,    0.00,2,    1.56,2,   3.675,2,   1.927,2,    1.00,2,    2144,2,  2279.4,2,   7.7849,6,       20,-999.000,9,-999.0000,9, -999.00,9,   6.7676,2, -999.00,9,  -999.0,9, -999.00,9,  -999.0,9, -999.00,9,      16.67,2,     -999.0,9, -999.00,9, 20140420,     2230, -39.6670,-150.0003,    34.5199,2,     -999.0,9,     -999.0,9,     -999.0,9,     -999.0,9,     -999.0,9,     -999.0,9
320620140320,       P16S,      53,          1,         20,         20,2,20140420,       2034,   -39.6671,  -150.0003,     -999.0,   766.1,   6.3450,  34.3315,2,  34.3312,2,    237.3,2,   237.2,2,   10.36,2,   24.30,2,    0.00,2,    1.66,2,   3.230,2,   1.615,2,    0.89,2,    2150,2,  2280.4,2,     7.77,2,       20,-999.000,9,-999.0000,9, -999.00,9,   6.3452,2, -999.00,9,  -999.0,9, -999.00,9,  -999.0,9, -999.00,9,      16.44,2,     -999.0,1, -999.00,9, 20140420,     2227, -39.6672,-150.0002,    34.4931,2,     -999.0,9,     -999.0,9,     -999.0,9,     -999.0,9,     -999.0,9,     -999.0,9
320620140320,       P16S,      53,          1,         19,         19,2,20140420,       2034,   -39.6671,  -150.0003,     -999.0,   865.9,   5.9037,  34.3168,2,  34.3167,2,    227.7,2,   226.6,2,   14.27,2,   26.18,2,    0.00,2,    1.79,2,   2.655,2,   1.366,2,    0.43,2,  2160.1,2,  2282.4,2,   7.7494,2,       20,-999.000,9,-999.0000,9, -999.00,9,   5.9031,2, -999.00,9,  -999.0,9, -999.00,9,  -999.0,9, -999.00,9,      16.91,2,     -999.0,9, -999.00,9, 20140420,     2224, -39.6673,-150.0001,    34.4785,2,     -999.0,9,     -999.0,9,     -999.0,9,     -999.0,9,     -999.0,9,     -999.0,9
320620140320,       P16S,      53,          1,         18,         18,2,20140420,       2034,   -39.6671,  -150.0003,     -999.0,   964.5,   5.3796,  34.3165,2,  34.3165,2,    216.0,2,   215.2,2,   19.94,2,   28.20,2,    0.00,2,    1.93,2,   2.213,2,   1.120,2,    0.40,2,  2173.7,2,    2287,2,   7.7222,2,       20,-999.000,9,-999.0000,9, -999.00,9,   5.3797,2, -999.00,9,  -999.0,9, -999.00,9,  -999.0,9, -999.00,9,      18.57,2,     -999.0,9, -999.00,9, 20140420,     2221, -39.6673,-150.0000,    34.4783,2,     -999.0,9,     -999.0,9,     -999.0,9,     -999.0,9,     -999.0,9,     -999.0,9
320620140320,       P16S,      53,          1,         17,         17,2,20140420,       2034,   -39.6671,  -150.0003,     -999.0,  1064.8,   4.7382,  34.3203,2,  34.3194,2,    206.4,2,   205.7,2,   26.97,2,   30.24,2,    0.00,2,    2.08,2,   1.454,2,   0.737,2,    0.17,2,  2187.5,6,    2292,2,   7.6995,2,       20,-999.000,9,-999.0000,9, -999.00,9,   4.7386,2, -999.00,9,  -999.0,9, -999.00,9,  -999.0,9, -999.00,9,      19.64,2,     -999.0,1, -999.00,9, 20140420,     2218, -39.6677,-149.9997,    34.4813,2,     -999.0,9,     -999.0,9,     -999.0,9,     -999.0,9,     -999.0,9,     -999.0,9
320620140320,       P16S,      53,          1,         16,         16,2,20140420,       2034,   -39.6671,  -150.0003,     -999.0,  1165.5,   4.1650,  34.3388,2,  34.3391,2,    199.3,2,   198.7,2,   36.06,2,   31.72,2,    0.00,2,    2.18,2,   1.308,2,   0.630,2,    0.15,2,    2202,2,  2300.7,2,    7.677,2,       20,-999.000,9,-999.0000,9, -999.00,9,   4.1637,2, -999.00,9,  -999.0,9, -999.00,9,  -999.0,9, -999.00,9,      21.39,2,     -999.0,9, -999.00,9, 20140420,     2216, -39.6675,-150.0001,    34.5010,2,     -999.0,9,     -999.0,9,     -999.0,9,     -999.0,9,     -999.0,9,     -999.0,9
320620140320,       P16S,      53,          1,         15,         15,2,20140420,       2034,   -39.6671,  -150.0003,     -999.0,  1336.8,   3.4102,  34.3960,2,  34.3952,2,    187.2,2,   186.1,2,   50.62,2,   33.54,2,    0.00,2,    2.32,2,   0.745,6,   0.369,6,    0.06,6,  2223.5,2,  2314.4,2,   7.6497,2,       20,-999.000,9,-999.0000,9, -999.00,9,   3.4122,2, -999.00,9,  -999.0,9, -999.00,9,  -999.0,9, -999.00,9,      22.51,6,     -999.0,9, -999.00,9, 20140420,     2211, -39.6672,-150.0002,    34.5574,2,     -999.0,9,     -999.0,9,     -999.0,9,     -999.0,9,     -999.0,9,     -999.0,9
320620140320,       P16S,      53,          1,         14,         14,2,20140420,       2034,   -39.6671,  -150.0003,     -999.0,  1536.0,   2.9563,  34.4899,2,  34.4898,2,    171.9,2,   171.1,2,   67.91,2,   34.58,2,    0.00,2,    2.39,2,   0.223,2,   0.113,2,    0.00,2,  2247.1,2,  2333.5,2,   7.6343,2,       20,-999.000,9,-999.0000,9, -999.00,9,   2.9571,2, -999.00,9,  -999.0,9, -999.00,9,  -999.0,9, -999.00,9,      24.17,2,     -999.0,1, -999.00,9, 20140420,     2207, -39.6671,-150.0002,    34.6524,2,     -999.0,9,     -999.0,9,     -999.0,9,     -999.0,9,     -999.0,9,     -999.0,9
320620140320,       P16S,      53,          1,         13,         13,2,20140420,       2034,   -39.6671,  -150.0003,     -999.0,  1736.2,   2.7127,  34.5619,2,  34.5617,2,    161.5,2,   161.3,2,   84.81,2,   34.88,2,    0.00,2,    2.42,2,   0.066,2,   0.019,2,    0.00,2,  2267.8,2,  2354.7,2,   7.6334,2,       20,-999.000,9,-999.0000,9, -999.00,9,   2.7127,2, -999.00,9,  -999.0,9, -999.00,9,  -999.0,9, -999.00,9,      23.45,2,     -999.0,9, -999.00,9, 20140420,     2202, -39.6671,-150.0003,    34.7246,2,     -999.0,9,     -999.0,9,     -999.0,9,     -999.0,9,     -999.0,9,     -999.0,9
320620140320,       P16S,      53,          1,         12,         12,2,20140420,       2034,   -39.6671,  -150.0003,     -999.0,  1936.8,   2.5033,  34.6021,2,  34.6021,2,    155.3,2,   154.8,2,   98.49,2,   35.25,2,    0.00,2,    2.46,2,   0.020,2,   0.002,2,    0.02,2,  2282.8,2,  2370.5,2,   7.6339,2,       20,-999.000,9,-999.0000,9, -999.00,9,   2.5031,2, -999.00,9,  -999.0,9, -999.00,9,  -999.0,9, -999.00,9,      23.76,2,     -999.0,1, -999.00,9, 20140420,     2158, -39.6666,-150.0004,    34.7652,2,     -999.0,9,     -999.0,9,     -999.0,9,     -999.0,9,     -999.0,9,     -999.0,9
320620140320,       P16S,      53,          1,         11,         11,2,20140420,       2034,   -39.6671,  -150.0003,     -999.0,  2134.0,   2.3480,  34.6238,2,  34.6235,2,    153.1,2,   152.9,2,  105.81,2,   35.40,2,    0.00,2,    2.47,2,   0.013,2,   0.001,2,    0.00,2,    2292,2,  2378.3,2,    7.634,2,       20,-999.000,9,-999.0000,9, -999.00,9,   2.3481,2, -999.00,9,  -999.0,9, -999.00,9,  -999.0,9, -999.00,9,      23.42,2,     -999.0,9, -999.00,9, 20140420,     2153, -39.6667,-150.0004,    34.7867,2,     -999.0,9,     -999.0,9,     -999.0,9,     -999.0,9,     -999.0,9,     -999.0,9
320620140320,       P16S,      53,          1,         10,         10,2,20140420,       2034,   -39.6671,  -150.0003,     -999.0,  2333.9,   2.2145,  34.6383,2,  34.6382,2,    152.0,2,   152.0,2,  112.16,2,   35.55,2,    0.00,2,    2.48,2,-999.000,9,-999.000,9, -999.00,9,  2297.5,2,  2386.1,2,   7.6343,2,       20,-999.000,9,-999.0000,9, -999.00,9,   2.2137,2, -999.00,9,  -999.0,9, -999.00,9,  -999.0,9, -999.00,9,     -999.0,9,     -999.0,9, -999.00,9, 20140420,     2149, -39.6667,-150.0004,    34.8015,2,     -999.0,9,     -999.0,9,     -999.0,9,     -999.0,9,     -999.0,9,     -999.0,9
320620140320,       P16S,      53,          1,          9,         09,2,20140420,       2034,   -39.6671,  -150.0003,     -999.0,  2667.1,   2.0203,  34.6591,2,  34.6590,2,    153.8,2,   153.0,2,  118.41,2,   35.55,2,    0.00,2,    2.47,2,   0.008,2,   0.001,2,    0.00,2,    2303,2,  2392.2,2,   7.6355,2,       20,-999.000,9,-999.0000,9, -999.00,9,   2.0204,2, -999.00,9,  -999.0,9, -999.00,9,  -999.0,9, -999.00,9,      22.94,2,     -999.0,1, -999.00,9, 20140420,     2142, -39.6668,-150.0004,    34.8225,2,     -999.0,9,     -999.0,9,     -999.0,9,     -999.0,9,     -999.0,9,     -999.0,9
320620140320,       P16S,      53,          1,          8,         08,2,20140420,       2034,   -39.6671,  -150.0003,     -999.0,  2966.9,   1.8852,  34.6768,2,  34.6765,2,    159.1,2,   160.1,2,  119.10,2,   35.01,2,    0.00,2,    2.44,2,   0.012,2,   0.001,2,    0.05,2,  2299.5,6,    2391,2,   7.6419,2,       20,-999.000,9,-999.0000,9, -999.00,9,   1.8854,2, -999.00,9,  -999.0,9, -999.00,9,  -999.0,9, -999.00,9,      23.04,2,     -999.0,1, -999.00,9, 20140420,     2136, -39.6671,-150.0003,    34.8400,2,     -999.0,9,     -999.0,9,     -999.0,9,     -999.0,9,     -999.0,9,     -999.0,9
320620140320,       P16S,      53,          1,          7,         07,2,20140420,       2034,   -39.6671,  -150.0003,     -999.0,  3266.5,   1.7631,  34.6969,2,  34.6985,2,    171.3,2,   171.8,2,  115.28,2,   33.82,2,    0.00,2,    2.33,2,   0.013,2,   0.002,2,    0.00,2,  2285.6,2,  2382.1,6,   7.6533,2,       20,-999.000,9,-999.0000,9, -999.00,9,   1.7631,2, -999.00,9,  -999.0,9, -999.00,9,  -999.0,9, -999.00,9,      22.07,2,     -999.0,9, -999.00,9, 20140420,     2130, -39.6668,-150.0005,    34.8621,2,     -999.0,9,     -999.0,9,     -999.0,9,     -999.0,9,     -999.0,9,     -999.0,9
320620140320,       P16S,      53,          1,          6,         06,2,20140420,       2034,   -39.6671,  -150.0003,     -999.0,  3562.9,   1.6139,  34.7127,2,  34.7125,2,    184.9,2,   185.0,2,  110.89,2,   32.78,2,    0.00,2,    2.26,2,   0.011,2,   0.001,2,    0.00,2,  2271.7,2,  2370.2,2,   7.6655,2,       20,-999.000,9,-999.0000,9, -999.00,9,   1.6137,2, -999.00,9,  -999.0,9, -999.00,9,  -999.0,9, -999.00,9,      20.95,2,     -999.0,1, -999.00,9, 20140420,     2123, -39.6672,-150.0002,    34.8762,2,     -999.0,9,     -999.0,9,     -999.0,9,     -999.0,9,     -999.0,9,     -999.0,9