BOTTLE,20230715CCHSIOCBG
EXPOCODE,SECT_ID,STNNBR,CASTNO,SAMPNO,BTLNBR,BTLNBR_FLAG_W,DATE,TIME,LATITUDE,LONGITUDE,DEPTH,CTDPRS,CTDTMP,CTDSAL,CTDSAL_FLAG_W,SALNTY,SALNTY_FLAG_W,CTDOXY,CTDOXY_FLAG_W,OXYGEN,OXYGEN_FLAG_W,SILCAT,SILCAT_FLAG_W,NITRAT,NITRAT_FLAG_W,NITRIT,NITRIT_FLAG_W,PHSPHT,PHSPHT_FLAG_W,CFC-11,CFC-11_FLAG_W,CFC-12,CFC-12_FLAG_W,SF6,SF6_FLAG_W,TCARBN,TCARBN_FLAG_W,ALKALI,ALKALI_FLAG_W,PH_TOT,PH_TOT_FLAG_W,PH_TMP,TRITUM,TRITUM_FLAG_W,HELIUM,HELIUM_FLAG_W,DELHE3,DELHE3_FLAG_W,REFTMP,REFTMP_FLAG_W,DELC13,DELC13_FLAG_W,DELC14,DELC14_FLAG_W,DELO18,DELO18_FLAG_W,DOC,DOC_FLAG_W,TDN,TDN_FLAG_W,N2O,N2O_FLAG_W,CALCIUM,CALCIUM_FLAG_W,D15N_NO3,D15N_NO3_FLAG_W,BTL_DATE,BTL_TIME,BTL_LAT,BTL_LON,SALTREF,SALTREF_FLAG_W,D18O_NO3,D18O_NO3_FLAG_W,DSI30,DSI30_FLAG_W,CDOM_NASA,CDOM_NASA_FLAG_W,CDOM_UCSB,CDOM_UCSB_FLAG_W,D15N_NO2+NO3,D15N_NO2+NO3_FLAG_W,D18O_NO2+NO3,D18O_NO2+NO3_FLAG_W
,,,,,,,,,,,METERS,DBAR,ITS-90,PSS-78,,PSS-78,,UMOL/KG,,UMOL/KG,,UMOL/KG,,UMOL/KG,,UMOL/KG,,UMOL/KG,,PMOL/KG,,PMOL/KG,,FMOL/KG,,UMOL/KG,,UMOL/KG,,,,DEG C,TU,,NMOL/KG,,PERCNT,,DEG C,,/MILLE,,/MILLE,,/MILLE,,UMOL/KG,,UMOL/KG,,NMOL/KG,,MMOL/KG,,/MILLE,,,,,,G/KG,,/MILLE,,/MILLE,,,,,,/MILLE,,/MILLE,
320620140320,       P16S,       8,          1,          5,         05,2,20140401,       2030,   -65.4951,  -149.9823,       3927,  2800.8,   0.2965,  34.6998,2,  34.6991,2,    213.7,2,   213.6,2,  132.60,2,   32.41,2,    0.00,2,    2.28,2,   0.332,2,   0.119,2,    0.15,2,  2262.4,2,  2361.1,2,   7.6665,2,       20,-999.000,9,-999.0000,9, -999.00,9,   0.2968,2, -999.00,9,  -999.0,9, -999.00,9,  -999.0,9, -999.00,9,      20.44,2,     -999.0,9, -999.00,9, 20140401,     2048, -65.4957,-149.9833,    34.8627,2,     -999.0,9,     -999.0,9,     -999.0,9,     -999.0,9,     -999.0,9,     -999.0,9
320620140320,       P16S,       8,          1,          4,         04,2,20140401,       2030,   -65.4951,  -149.9823,       3927,  2999.2,   0.2438,  34.6971,2,  34.6971,2,    215.7,2,   215.5,2,  131.04,2,   32.39,2,    0.00,2,    2.27,2,-999.000,9,-999.000,9, -999.00,9,  -999.0,9,  -999.0,9,-999.0000,9,  -999.00,-999.000,9,-999.0000,9, -999.00,9,   0.2436,2, -999.00,9,  -999.0,9, -999.00,9,  -999.0,9, -999.00,9,     -999.0,9,     -999.0,9, -999.00,9, 20140401,     2043, -65.4955,-149.9829,    34.8607,2,     -999.0,9,     -999.0,9,     -999.0,9,     -999.0,9,     -999.0,9,     -999.0,9
320620140320,       P16S,       8,          1,          3,         03,2,20140401,       2030,   -65.4951,  -149.9823,       3927,  3199.2,   0.2065,  34.6948,2,  34.6944,2,    217.8,2,   217.9,2,  128.21,2,   32.36,2,    0.00,2,    2.27,2,   0.720,2,   0.332,2,    0.28,2,  2262.6,2,  2358.7,6,   7.6664,2,       20,-999.000,9,-999.0000,9, -999.00,9,   0.2066,2, -999.00,9,  -999.0,9, -999.00,9,  -999.0,9, -999.00,9,      20.40,2,     -999.0,9, -999.00,9, 20140401,     2038, -65.4952,-149.9823,    34.8580,2,     -999.0,9,     -999.0,9,     -999.0,9,     -999.0,9,     -999.0,9,     -999.0,9
320620140320,       P16S,       8,          1,          2,         02,2,20140401,       2030,   -65.4951,  -149.9823,       3927,  3349.9,   0.1915,  34.6940,2,  34.6938,2,    218.8,2,   218.4,2,  127.33,2,   32.34,2,    0.00,2,    2.27,2,-999.000,9,-999.000,9, -999.00,9,  2261.1,2,  2351.1,4,   7.6657,6,       20,-999.000,9,-999.0000,9, -999.00,9,   0.1916,2, -999.00,9,  -999.0,9, -999.00,9,  -999.0,9, -999.00,9,     -999.0,9,     -999.0,9, -999.00,9, 20140401,     2035, -65.4951,-149.9823,    34.8574,2,     -999.0,9,     -999.0,9,     -999.0,9,     -999.0,9,     -999.0,9,     -999.0,9
320620140320,       P16S,       8,          1,          1,         01,2,20140401,       2030,   -65.4951,  -149.9823,       3927,  3570.4,   0.2065,  34.6936,2,  34.6938,2,    218.7,2,   218.5,2,  127.52,2,   32.42,2,    0.00,2,    2.27,2,   0.824,2,   0.387,2,    0.19,2,  2261.8,6,  2358.4,2,   7.6664,2,       20,-999.000,9,-999.0000,9, -999.00,9,   0.2061,2, -999.00,9,  -999.0,9, -999.00,9,  -999.0,9, -999.00,9,      20.17,2,     -999.0,9, -999.00,9, 20140401,     2030, -65.4951,-149.9823,    34.8574,2,     -999.0,9,     -999.0,9,     -999.0,9,     -999.0,9,     -999.0,9,     -999.0,9