BOTTLE,20230715CCHSIOCBG
EXPOCODE,SECT_ID,STNNBR,CASTNO,SAMPNO,BTLNBR,BTLNBR_FLAG_W,DATE,TIME,LATITUDE,LONGITUDE,DEPTH,CTDPRS,CTDTMP,CTDSAL,CTDSAL_FLAG_W,SALNTY,SALNTY_FLAG_W,CTDOXY,CTDOXY_FLAG_W,OXYGEN,OXYGEN_FLAG_W,SILCAT,SILCAT_FLAG_W,NITRAT,NITRAT_FLAG_W,NITRIT,NITRIT_FLAG_W,PHSPHT,PHSPHT_FLAG_W,CFC-11,CFC-11_FLAG_W,CFC-12,CFC-12_FLAG_W,SF6,SF6_FLAG_W,TCARBN,TCARBN_FLAG_W,ALKALI,ALKALI_FLAG_W,PH_TOT,PH_TOT_FLAG_W,PH_TMP,TRITUM,TRITUM_FLAG_W,HELIUM,HELIUM_FLAG_W,DELHE3,DELHE3_FLAG_W,REFTMP,REFTMP_FLAG_W,DELC13,DELC13_FLAG_W,DELC14,DELC14_FLAG_W,DELO18,DELO18_FLAG_W,DOC,DOC_FLAG_W,TDN,TDN_FLAG_W,N2O,N2O_FLAG_W,CALCIUM,CALCIUM_FLAG_W,D15N_NO3,D15N_NO3_FLAG_W,BTL_DATE,BTL_TIME,BTL_LAT,BTL_LON,SALTREF,SALTREF_FLAG_W,D18O_NO3,D18O_NO3_FLAG_W,DSI30,DSI30_FLAG_W,CDOM_NASA,CDOM_NASA_FLAG_W,CDOM_UCSB,CDOM_UCSB_FLAG_W,D15N_NO2+NO3,D15N_NO2+NO3_FLAG_W,D18O_NO2+NO3,D18O_NO2+NO3_FLAG_W
,,,,,,,,,,,METERS,DBAR,ITS-90,PSS-78,,PSS-78,,UMOL/KG,,UMOL/KG,,UMOL/KG,,UMOL/KG,,UMOL/KG,,UMOL/KG,,PMOL/KG,,PMOL/KG,,FMOL/KG,,UMOL/KG,,UMOL/KG,,,,DEG C,TU,,NMOL/KG,,PERCNT,,DEG C,,/MILLE,,/MILLE,,/MILLE,,UMOL/KG,,UMOL/KG,,NMOL/KG,,MMOL/KG,,/MILLE,,,,,,G/KG,,/MILLE,,/MILLE,,,,,,/MILLE,,/MILLE,
320620140320,       P16S,      87,          1,         36,         36,2,20140503,       0807,   -17.0002,  -150.0006,       3759,     4.0,  28.1558,  35.3997,2,  35.3999,2,    196.4,2,   196.9,2,    0.78,2,    0.02,2,    0.01,2,    0.18,2,   1.469,2,   0.944,2,    1.38,2,  1978.1,2,  2331.3,2,   8.2031,2,       20,-999.000,9,-999.0000,9, -999.00,9,  28.1575,2, -999.00,9,  -999.0,9, -999.00,9,  -999.0,9, -999.00,9,       5.98,2,     -999.0,9, -999.00,9, 20140503,     1002, -17.0002,-150.0005,    35.5668,2,     -999.0,9,     -999.0,9,     -999.0,9,     -999.0,9,     -999.0,9,     -999.0,9
320620140320,       P16S,      87,          1,         35,         35,2,20140503,       0807,   -17.0002,  -150.0006,       3759,    24.6,  28.1595,  35.4003,2,  35.4009,2,    196.6,2,   196.9,2,    0.88,2,    0.01,2,    0.00,2,    0.18,2,   1.467,2,   0.933,2,    1.47,2,  1978.1,2,    2332,2,   8.2045,2,       20,-999.000,9,-999.0000,9, -999.00,9,  28.1602,2, -999.00,9,  -999.0,9, -999.00,9,  -999.0,9, -999.00,9,       6.18,2,     -999.0,9, -999.00,9, 20140503,     1000, -17.0002,-150.0005,    35.5678,2,     -999.0,9,     -999.0,9,     -999.0,9,     -999.0,9,     -999.0,9,     -999.0,9
320620140320,       P16S,      87,          1,         34,         34,2,20140503,       0807,   -17.0002,  -150.0006,       3759,    50.5,  28.1712,  35.4042,2,  35.4045,2,    197.4,2,   197.0,2,    0.88,2,    0.00,2,    0.00,2,    0.19,2,-999.000,9,-999.000,9, -999.00,9,  1978.6,2,    2332,2,   8.2038,2,       20,-999.000,9,-999.0000,9, -999.00,9,  28.1702,2, -999.00,9,  -999.0,9, -999.00,9,  -999.0,9, -999.00,9,     -999.0,9,     -999.0,9, -999.00,9, 20140503,      958, -17.0002,-150.0005,    35.5714,2,     -999.0,9,     -999.0,9,     -999.0,9,     -999.0,9,     -999.0,9,     -999.0,9
320620140320,       P16S,      87,          1,         33,         33,2,20140503,       0807,   -17.0002,  -150.0006,       3759,    74.2,  27.1950,  36.0201,2,  36.0149,2,    207.7,2,   207.8,2,    0.88,2,    0.00,2,    0.00,2,    0.20,2,   1.676,2,   1.049,2,    1.37,2,  -999.0,9,  -999.0,9,-999.0000,9,  -999.00,-999.000,9,-999.0000,9, -999.00,9,  27.2175,3, -999.00,9,  -999.0,9, -999.00,9,  -999.0,9, -999.00,9,       6.71,2,     -999.0,9, -999.00,9, 20140503,      956, -17.0002,-150.0005,    36.1848,2,     -999.0,9,     -999.0,9,     -999.0,9,     -999.0,9,     -999.0,9,     -999.0,9
320620140320,       P16S,      87,          1,         32,         32,2,20140503,       0807,   -17.0002,  -150.0006,       3759,   100.2,  25.2586,  36.0799,2,  36.0802,2,    208.5,2,   209.2,2,    0.78,2,    0.00,2,    0.00,2,    0.17,2,-999.000,9,-999.000,9, -999.00,9,  2035.3,2,  2374.4,2,   8.1681,2,       20,-999.000,9,-999.0000,9, -999.00,9,  25.2582,2, -999.00,9,  -999.0,9, -999.00,9,  -999.0,9, -999.00,9,     -999.0,9,     -999.0,9, -999.00,9, 20140503,      954, -17.0002,-150.0005,    36.2504,2,     -999.0,9,     -999.0,9,     -999.0,9,     -999.0,9,     -999.0,9,     -999.0,9
320620140320,       P16S,      87,          1,         31,         31,2,20140503,       0807,   -17.0002,  -150.0006,       3759,   123.7,  24.3032,  36.1107,2,  36.1101,2,    201.3,2,   200.6,2,    0.78,2,    0.00,2,    0.00,2,    0.21,2,   1.776,2,   1.111,2,    1.26,2,  -999.0,9,  -999.0,9,-999.0000,9,  -999.00,-999.000,9,-999.0000,9, -999.00,9,  24.3035,2, -999.00,9,  -999.0,9, -999.00,9,  -999.0,9, -999.00,9,       7.12,2,     -999.0,9, -999.00,9, 20140503,      952, -17.0002,-150.0005,    36.2804,2,     -999.0,9,     -999.0,9,     -999.0,9,     -999.0,9,     -999.0,9,     -999.0,9
320620140320,       P16S,      87,          1,         30,         30,2,20140503,       0807,   -17.0002,  -150.0006,       3759,   150.3,  23.8676,  36.1943,2,  36.1944,2,    182.4,2,   182.1,2,    0.98,2,    1.79,2,    0.13,2,    0.36,2,-999.000,9,-999.000,9, -999.00,9,  2076.4,2,    2382,2,    8.108,2,       20,-999.000,9,-999.0000,9, -999.00,9,  23.8690,2, -999.00,9,  -999.0,9, -999.00,9,  -999.0,9, -999.00,9,     -999.0,9,     -999.0,9, -999.00,9, 20140503,      950, -17.0002,-150.0005,    36.3651,2,     -999.0,9,     -999.0,9,     -999.0,9,     -999.0,9,     -999.0,9,     -999.0,9
320620140320,       P16S,      87,          1,         29,         29,2,20140503,       0807,   -17.0002,  -150.0006,       3759,   200.1,  21.9079,  36.0379,2,  36.0365,2,    177.4,2,   178.4,2,    0.98,2,    3.10,2,    0.02,2,    0.41,2,   2.021,2,   1.210,2,    1.35,2,  2093.5,2,  2369.2,2,   8.0616,2,       20,-999.000,9,-999.0000,9, -999.00,9,  21.9357,3, -999.00,9,  -999.0,9, -999.00,9,  -999.0,9, -999.00,9,       8.03,2,     -999.0,9, -999.00,9, 20140503,      948, -17.0002,-150.0005,    36.2065,2,     -999.0,9,     -999.0,9,     -999.0,9,     -999.0,9,     -999.0,9,     -999.0,9
320620140320,       P16S,      87,          1,         28,         28,2,20140503,       0807,   -17.0002,  -150.0006,       3759,   249.5,  20.1180,  35.7857,3,  35.7589,2,    174.0,2,   177.1,2,    1.17,2,    4.45,2,    0.01,2,    0.50,2,-999.000,9,-999.000,9, -999.00,9,  -999.0,9,  -999.0,9,-999.0000,9,  -999.00,-999.000,9,-999.0000,9, -999.00,9,  20.0625,3, -999.00,9,  -999.0,9, -999.00,9,  -999.0,9, -999.00,9,     -999.0,9,     -999.0,9, -999.00,9, 20140503,      946, -17.0002,-150.0005,    35.9275,2,     -999.0,9,     -999.0,9,     -999.0,9,     -999.0,9,     -999.0,9,     -999.0,9
320620140320,       P16S,      87,          1,         27,         27,2,20140503,       0807,   -17.0002,  -150.0006,       3759,   299.7,  17.5132,  35.3754,2,  35.3870,2,    177.8,2,   178.6,2,    1.76,2,    6.14,2,    0.01,2,    0.61,2,   2.406,2,   1.344,2,    1.33,2,  2102.7,2,  2327.4,6,   7.9773,2,       20,-999.000,9,-999.0000,9, -999.00,9,  17.5164,2, -999.00,9,  -999.0,9, -999.00,9,  -999.0,9, -999.00,9,      12.14,2,     -999.0,9, -999.00,9, 20140503,      944, -17.0002,-150.0005,    35.5539,2,     -999.0,9,     -999.0,9,     -999.0,9,     -999.0,9,     -999.0,9,     -999.0,9
320620140320,       P16S,      87,          1,         26,         26,2,20140503,       0807,   -17.0002,  -150.0006,       3759,   349.0,  14.2611,  34.9454,2,  34.9362,2,    167.0,2,   164.3,2,    4.50,2,   12.01,2,    0.01,2,    1.04,2,-999.000,9,-999.000,9, -999.00,9,  -999.0,9,  -999.0,9,-999.0000,9,  -999.00,-999.000,9,-999.0000,9, -999.00,9,  14.2457,2, -999.00,9,  -999.0,9, -999.00,9,  -999.0,9, -999.00,9,     -999.0,9,     -999.0,9, -999.00,9, 20140503,      941, -17.0003,-150.0005,    35.1009,2,     -999.0,9,     -999.0,9,     -999.0,9,     -999.0,9,     -999.0,9,     -999.0,9
320620140320,       P16S,      87,          1,         25,         25,2,20140503,       0807,   -17.0002,  -150.0006,       3759,   399.5,  11.9991,  34.7061,2,  34.7014,2,    147.5,2,   147.6,2,    8.13,2,   17.65,2,    0.01,2,    1.43,2,   2.290,2,   1.179,2,    1.10,2,  2155.2,6,  2290.8,2,   7.7834,2,       20,-999.000,9,-999.0000,9, -999.00,9,  11.9440,3, -999.00,9,  -999.0,9, -999.00,9,  -999.0,9, -999.00,9,      25.40,2,     -999.0,9, -999.00,9, 20140503,      939, -17.0002,-150.0005,    34.8650,2,     -999.0,9,     -999.0,9,     -999.0,9,     -999.0,9,     -999.0,9,     -999.0,9
320620140320,       P16S,      87,          1,         24,         24,2,20140503,       0807,   -17.0002,  -150.0006,       3759,   448.9,  10.0974,  34.5591,2,  34.5566,2,    138.4,2,   138.5,2,   12.05,2,   22.69,2,    0.01,2,    1.75,2,   1.912,2,   0.963,2,    0.31,2,  2176.3,2,  2286.6,2,   7.7121,6,       20,-999.000,9,-999.0000,9, -999.00,9,  10.0981,2, -999.00,9,  -999.0,9, -999.00,9,  -999.0,9, -999.00,9,      29.79,2,     -999.0,9, -999.00,9, 20140503,      937, -17.0002,-150.0005,    34.7196,2,     -999.0,9,     -999.0,9,     -999.0,9,     -999.0,9,     -999.0,9,     -999.0,9
320620140320,       P16S,      87,          1,         23,         23,2,20140503,       0807,   -17.0002,  -150.0006,       3759,   498.4,   8.5924,  34.4980,2,  34.4944,2,    139.3,2,   139.0,2,   17.53,2,   26.64,2,    0.01,2,    1.96,2,   1.408,2,   0.700,2,    0.18,2,  2191.7,2,    2287,2,   7.6767,2,       20,-999.000,9,-999.0000,9, -999.00,9,   8.5829,3, -999.00,9,  -999.0,9, -999.00,9,  -999.0,9, -999.00,9,      31.77,2,     -999.0,9, -999.00,9, 20140503,      934, -17.0002,-150.0005,    34.6570,2,     -999.0,9,     -999.0,9,     -999.0,9,     -999.0,9,     -999.0,9,     -999.0,9
320620140320,       P16S,      87,          1,         22,         22,2,20140503,       0807,   -17.0002,  -150.0006,       3759,   599.6,   6.8908,  34.4507,2,  34.4500,2,    142.0,2,   142.0,2,   26.44,2,   30.45,2,    0.00,2,    2.14,2,   0.776,2,   0.300,2,    0.04,2,  2206.8,2,  2294.6,2,   7.6491,2,       20,-999.000,9,-999.0000,9, -999.00,9,   6.8894,2, -999.00,9,  -999.0,9, -999.00,9,  -999.0,9, -999.00,9,      31.86,2,     -999.0,9, -999.00,9, 20140503,      931, -17.0003,-150.0005,    34.6125,2,     -999.0,9,     -999.0,9,     -999.0,9,     -999.0,9,     -999.0,9,     -999.0,9
320620140320,       P16S,      87,          1,         21,         21,2,20140503,       0807,   -17.0002,  -150.0006,       3759,   699.1,   5.7639,  34.4372,2,  34.4365,2,    147.7,2,   147.7,2,   35.85,2,   32.45,2,    0.00,2,    2.27,2,   0.419,2,   0.180,2,    0.02,2,    2217,2,  2303.4,2,   7.6432,2,       20,-999.000,9,-999.0000,9, -999.00,9,   5.7694,2, -999.00,9,  -999.0,9, -999.00,9,  -999.0,9, -999.00,9,      29.63,2,     -999.0,9, -999.00,9, 20140503,      928, -17.0003,-150.0005,    34.5989,2,     -999.0,9,     -999.0,9,     -999.0,9,     -999.0,9,     -999.0,9,     -999.0,9
320620140320,       P16S,      87,          1,         20,         20,2,20140503,       0807,   -17.0002,  -150.0006,       3759,   800.0,   4.9826,  34.4607,2,  34.4591,2,    145.5,2,   145.0,2,   49.17,2,   33.84,2,    0.00,2,    2.36,2,   0.175,2,   0.030,2,    0.01,2,  -999.0,9,  -999.0,9,-999.0000,9,  -999.00,-999.000,9,-999.0000,9, -999.00,9,   4.9811,2, -999.00,9,  -999.0,9, -999.00,9,  -999.0,9, -999.00,9,      28.32,2,     -999.0,9, -999.00,9, 20140503,      925, -17.0002,-150.0005,    34.6216,2,     -999.0,9,     -999.0,9,     -999.0,9,     -999.0,9,     -999.0,9,     -999.0,9
320620140320,       P16S,      87,          1,         19,         19,2,20140503,       0807,   -17.0002,  -150.0006,       3759,   900.5,   4.3625,  34.4819,2,  34.4797,2,    145.6,2,   145.5,2,   60.13,2,   34.60,2,    0.00,2,    2.40,2,   0.074,2,   0.022,2,    0.03,2,  2245.6,2,  2328.8,2,   7.6306,2,       20,-999.000,9,-999.0000,9, -999.00,9,   4.3706,2, -999.00,9,  -999.0,9, -999.00,9,  -999.0,9, -999.00,9,      27.02,2,     -999.0,9, -999.00,9, 20140503,      922, -17.0003,-150.0005,    34.6423,2,     -999.0,9,     -999.0,9,     -999.0,9,     -999.0,9,     -999.0,9,     -999.0,9
320620140320,       P16S,      87,          1,         18,         18,2,20140503,       0807,   -17.0002,  -150.0006,       3759,  1000.5,   4.0194,  34.4970,2,  34.4960,2,    145.1,2,   144.7,2,   67.38,2,   34.96,2,    0.00,2,    2.43,2,   0.039,2,   0.007,2,    0.02,2,  2253.7,2,  2336.5,2,   7.6276,2,       20,-999.000,9,-999.0000,9, -999.00,9,   4.0161,2, -999.00,9,  -999.0,9, -999.00,9,  -999.0,9, -999.00,9,      26.87,2,     -999.0,9, -999.00,9, 20140503,      919, -17.0003,-150.0005,    34.6587,2,     -999.0,9,     -999.0,9,     -999.0,9,     -999.0,9,     -999.0,9,     -999.0,9
320620140320,       P16S,      87,          1,         17,         17,2,20140503,       0807,   -17.0002,  -150.0006,       3759,  1098.9,   3.6804,  34.5209,2,  34.5202,2,    144.5,2,   142.4,2,   76.00,2,   35.42,2,    0.00,2,    2.47,2,   0.020,2,   0.008,2,    0.02,2,  2262.8,2,  2345.1,2,   7.6237,2,       20,-999.000,9,-999.0000,9, -999.00,9,   3.6867,3, -999.00,9,  -999.0,9, -999.00,9,  -999.0,9, -999.00,9,      26.22,2,     -999.0,9, -999.00,9, 20140503,      916, -17.0002,-150.0005,    34.6829,2,     -999.0,9,     -999.0,9,     -999.0,9,     -999.0,9,     -999.0,9,     -999.0,9
320620140320,       P16S,      87,          1,         16,         16,2,20140503,       0807,   -17.0002,  -150.0006,       3759,  1199.3,   3.2993,  34.5377,2,  34.5365,2,    145.1,2,   144.9,2,   83.24,2,   35.52,2,    0.00,2,    2.49,2,-999.000,9,-999.000,9, -999.00,9,  -999.0,9,  -999.0,9,-999.0000,9,  -999.00,-999.000,9,-999.0000,9, -999.00,9,   3.2990,2, -999.00,9,  -999.0,9, -999.00,9,  -999.0,9, -999.00,9,     -999.0,9,     -999.0,9, -999.00,9, 20140503,      913, -17.0002,-150.0005,    34.6993,2,     -999.0,9,     -999.0,9,     -999.0,9,     -999.0,9,     -999.0,9,     -999.0,9
320620140320,       P16S,      87,          1,         15,         15,2,20140503,       0807,   -17.0002,  -150.0006,       3759,  1299.0,   3.1770,  34.5580,2,  34.5575,2,    145.2,2,   140.6,2,   89.22,2,   35.90,2,    0.00,2,    2.51,2,   0.003,2,   0.000,2,    0.00,2,  2279.8,2,  2360.5,2,     7.62,2,       20,-999.000,9,-999.0000,9, -999.00,9,   3.1767,2, -999.00,9,  -999.0,9, -999.00,9,  -999.0,9, -999.00,9,      26.21,2,     -999.0,9, -999.00,9, 20140503,      909, -17.0002,-150.0005,    34.7205,2,     -999.0,9,     -999.0,9,     -999.0,9,     -999.0,9,     -999.0,9,     -999.0,9
320620140320,       P16S,      87,          1,         14,         14,2,20140503,       0807,   -17.0002,  -150.0006,       3759,  1399.1,   3.0013,  34.5678,2,  34.5673,2,    142.9,2,   142.7,2,   93.03,2,   35.96,2,    0.00,2,    2.51,2,-999.000,9,-999.000,9, -999.00,9,  -999.0,9,  -999.0,9,-999.0000,9,  -999.00,-999.000,9,-999.0000,9, -999.00,9,   3.0074,3, -999.00,9,  -999.0,9, -999.00,9,  -999.0,9, -999.00,9,     -999.0,9,     -999.0,9, -999.00,9, 20140503,      906, -17.0002,-150.0005,    34.7303,2,     -999.0,9,     -999.0,9,     -999.0,9,     -999.0,9,     -999.0,9,     -999.0,9
320620140320,       P16S,      87,          1,         13,         13,2,20140503,       0807,   -17.0002,  -150.0006,       3759,  1499.3,   2.8491,  34.5782,2,  34.5781,2,    143.5,2,   143.9,2,   96.66,2,   35.89,2,    0.00,2,    2.51,2,   0.002,2,   0.001,2,    0.00,2,  2285.6,2,  2368.9,2,   7.6246,2,       20,-999.000,9,-999.0000,9, -999.00,9,   2.8487,2, -999.00,9,  -999.0,9, -999.00,9,  -999.0,9, -999.00,9,      25.27,2,     -999.0,9, -999.00,9, 20140503,      903, -17.0002,-150.0005,    34.7412,2,     -999.0,9,     -999.0,9,     -999.0,9,     -999.0,9,     -999.0,9,     -999.0,9
320620140320,       P16S,      87,          1,         12,         12,2,20140503,       0807,   -17.0002,  -150.0006,       3759,  1598.0,   2.7032,  34.5881,2,  34.5872,2,    144.7,2,   146.0,2,  100.08,2,   35.82,2,    0.00,2,    2.50,2,-999.000,9,-999.000,9, -999.00,9,  -999.0,9,  -999.0,9,-999.0000,9,  -999.00,-999.000,9,-999.0000,9, -999.00,9,   2.7066,2, -999.00,9,  -999.0,9, -999.00,9,  -999.0,9, -999.00,9,     -999.0,9,     -999.0,9, -999.00,9, 20140503,      900, -17.0002,-150.0005,    34.7503,2,     -999.0,9,     -999.0,9,     -999.0,9,     -999.0,9,     -999.0,9,     -999.0,9
320620140320,       P16S,      87,          1,         11,         11,2,20140503,       0807,   -17.0002,  -150.0006,       3759,  1700.5,   2.5422,  34.5995,2,  34.5994,2,    147.1,2,   147.4,2,  103.80,2,   35.72,2,    0.00,2,    2.50,2,   0.003,2,   0.000,2,    0.00,2,  2289.5,2,  2375.9,2,   7.6306,2,       20,-999.000,9,-999.0000,9, -999.00,9,   2.5422,2, -999.00,9,  -999.0,9, -999.00,9,  -999.0,9, -999.00,9,      24.48,2,     -999.0,9, -999.00,9, 20140503,      857, -17.0002,-150.0005,    34.7626,2,     -999.0,9,     -999.0,9,     -999.0,9,     -999.0,9,     -999.0,9,     -999.0,9
320620140320,       P16S,      87,          1,         10,         10,2,20140503,       0807,   -17.0002,  -150.0006,       3759,  1800.3,   2.4373,  34.6091,2,  34.6087,2,    147.8,2,   148.0,2,  107.23,2,   35.78,2,    0.00,2,    2.49,2,-999.000,9,-999.000,9, -999.00,9,  -999.0,9,  -999.0,9,-999.0000,9,  -999.00,-999.000,9,-999.0000,9, -999.00,9,   2.4370,2, -999.00,9,  -999.0,9, -999.00,9,  -999.0,9, -999.00,9,     -999.0,9,     -999.0,9, -999.00,9, 20140503,      854, -17.0002,-150.0005,    34.7719,2,     -999.0,9,     -999.0,9,     -999.0,9,     -999.0,9,     -999.0,9,     -999.0,9
320620140320,       P16S,      87,          1,          9,         09,2,20140503,       0807,   -17.0002,  -150.0006,       3759,  1998.7,   2.1997,  34.6286,2,  34.6273,2,    150.7,2,   150.7,2,  113.20,2,   35.61,2,    0.00,2,    2.49,2,   0.001,2,   0.000,2,    0.00,2,  2297.7,2,  2386.1,2,   7.6368,2,       20,-999.000,9,-999.0000,9, -999.00,9,   2.2000,2, -999.00,9,  -999.0,9, -999.00,9,  -999.0,9, -999.00,9,      24.10,2,     -999.0,9, -999.00,9, 20140503,      849, -17.0002,-150.0005,    34.7906,2,     -999.0,9,     -999.0,9,     -999.0,9,     -999.0,9,     -999.0,9,     -999.0,9
320620140320,       P16S,      87,          1,          8,         08,2,20140503,       0807,   -17.0002,  -150.0006,       3759,  2249.8,   2.0197,  34.6442,2,  34.6439,2,    153.7,2,   153.5,2,  117.80,2,   35.52,2,    0.00,2,    2.47,2,-999.000,9,-999.000,9, -999.00,9,  2300.8,2,  2391.2,2,   7.6409,2,       20,-999.000,9,-999.0000,9, -999.00,9,   2.0200,2, -999.00,9,  -999.0,9, -999.00,9,  -999.0,9, -999.00,9,     -999.0,9,     -999.0,9, -999.00,9, 20140503,      843, -17.0002,-150.0005,    34.8072,2,     -999.0,9,     -999.0,9,     -999.0,9,     -999.0,9,     -999.0,9,     -999.0,9
320620140320,       P16S,      87,          1,          7,         07,2,20140503,       0807,   -17.0002,  -150.0006,       3759,  2499.2,   1.9076,  34.6540,2,  34.6543,2,    156.7,2,   156.3,2,  120.64,2,   35.40,2,    0.00,2,    2.46,2,  -0.002,2,   0.000,2,    0.02,2,  2301.6,2,  2394.7,2,   7.6449,2,       20,-999.000,9,-999.0000,9, -999.00,9,   1.9079,2, -999.00,9,  -999.0,9, -999.00,9,  -999.0,9, -999.00,9,      23.50,2,     -999.0,9, -999.00,9, 20140503,      838, -17.0002,-150.0005,    34.8177,2,     -999.0,9,     -999.0,9,     -999.0,9,     -999.0,9,     -999.0,9,     -999.0,9
320620140320,       P16S,      87,          1,          6,         06,2,20140503,       0807,   -17.0002,  -150.0006,       3759,  2749.8,   1.8012,  34.6635,2,  34.6628,2,    159.4,2,   159.3,2,  122.70,2,   35.11,2,    0.00,2,    2.44,2,-999.000,9,-999.000,9, -999.00,9,  2302.1,2,  2395.2,2,   7.6488,2,       20,-999.000,9,-999.0000,9, -999.00,9,   1.8017,2, -999.00,9,  -999.0,9, -999.00,9,  -999.0,9, -999.00,9,     -999.0,9,     -999.0,9, -999.00,9, 20140503,      832, -17.0002,-150.0005,    34.8263,2,     -999.0,9,     -999.0,9,     -999.0,9,     -999.0,9,     -999.0,9,     -999.0,9