BOTTLE,20230715CCHSIOCBG
EXPOCODE,SECT_ID,STNNBR,CASTNO,SAMPNO,BTLNBR,BTLNBR_FLAG_W,DATE,TIME,LATITUDE,LONGITUDE,DEPTH,CTDPRS,CTDTMP,CTDSAL,CTDSAL_FLAG_W,SALNTY,SALNTY_FLAG_W,CTDOXY,CTDOXY_FLAG_W,OXYGEN,OXYGEN_FLAG_W,SILCAT,SILCAT_FLAG_W,NITRAT,NITRAT_FLAG_W,NITRIT,NITRIT_FLAG_W,PHSPHT,PHSPHT_FLAG_W,CFC-11,CFC-11_FLAG_W,CFC-12,CFC-12_FLAG_W,SF6,SF6_FLAG_W,TCARBN,TCARBN_FLAG_W,ALKALI,ALKALI_FLAG_W,PH_TOT,PH_TOT_FLAG_W,PH_TMP,TRITUM,TRITUM_FLAG_W,HELIUM,HELIUM_FLAG_W,DELHE3,DELHE3_FLAG_W,REFTMP,REFTMP_FLAG_W,DELC13,DELC13_FLAG_W,DELC14,DELC14_FLAG_W,DELO18,DELO18_FLAG_W,DOC,DOC_FLAG_W,TDN,TDN_FLAG_W,N2O,N2O_FLAG_W,CALCIUM,CALCIUM_FLAG_W,D15N_NO3,D15N_NO3_FLAG_W,BTL_DATE,BTL_TIME,BTL_LAT,BTL_LON,SALTREF,SALTREF_FLAG_W,D18O_NO3,D18O_NO3_FLAG_W,DSI30,DSI30_FLAG_W,CDOM_NASA,CDOM_NASA_FLAG_W,CDOM_UCSB,CDOM_UCSB_FLAG_W,D15N_NO2+NO3,D15N_NO2+NO3_FLAG_W,D18O_NO2+NO3,D18O_NO2+NO3_FLAG_W
,,,,,,,,,,,METERS,DBAR,ITS-90,PSS-78,,PSS-78,,UMOL/KG,,UMOL/KG,,UMOL/KG,,UMOL/KG,,UMOL/KG,,UMOL/KG,,PMOL/KG,,PMOL/KG,,FMOL/KG,,UMOL/KG,,UMOL/KG,,,,DEG C,TU,,NMOL/KG,,PERCNT,,DEG C,,/MILLE,,/MILLE,,/MILLE,,UMOL/KG,,UMOL/KG,,NMOL/KG,,MMOL/KG,,/MILLE,,,,,,G/KG,,/MILLE,,/MILLE,,,,,,/MILLE,,/MILLE,
320620140320,       P16S,      81,          1,          5,         05,2,20140501,       0804,   -21.0001,  -149.9999,       4286,  3299.7,   1.5957,  34.6806,2,  34.6804,2,    166.4,2,   166.5,2,  125.38,2,   34.45,2,    0.00,2,    2.45,2,   0.000,2,   0.001,2,   -0.00,2,  2300.4,2,  2394.5,2,   7.6546,6,       20,-999.000,9,-999.0000,9, -999.00,9,   1.5953,2, -999.00,9,  -999.0,9, -999.00,9,  -999.0,9, -999.00,9,      22.32,2,     -999.0,9, -999.00,9, 20140501,      827, -21.0002,-150.0000,    34.8440,2,     -999.0,9,     -999.0,9,     -999.0,9,     -999.0,9,     -999.0,9,     -999.0,9
320620140320,       P16S,      81,          1,          4,         04,2,20140501,       0804,   -21.0001,  -149.9999,       4286,  3599.1,   1.5224,  34.6869,2,  34.6865,2,    172.6,2,   173.0,2,  124.21,2,   34.01,2,    0.00,2,    2.42,2,-999.000,9,-999.000,9, -999.00,9,  2293.9,2,  2389.6,2,   7.6591,2,       20,-999.000,9,-999.0000,9, -999.00,9,   1.5224,2, -999.00,9,  -999.0,9, -999.00,9,  -999.0,9, -999.00,9,     -999.0,9,     -999.0,9, -999.00,9, 20140501,      821, -21.0001,-150.0000,    34.8501,2,     -999.0,9,     -999.0,9,     -999.0,9,     -999.0,9,     -999.0,9,     -999.0,9
320620140320,       P16S,      81,          1,          3,         03,2,20140501,       0804,   -21.0001,  -149.9999,       4286,  3901.7,   1.4404,  34.6935,2,  34.6932,2,    179.0,2,   179.8,2,  122.84,2,   33.51,2,    0.00,2,    2.36,2,   0.002,6,   0.001,6,    0.00,2,  2287.6,2,    2385,2,    7.665,2,       20,-999.000,9,-999.0000,9, -999.00,9,   1.4406,2, -999.00,9,  -999.0,9, -999.00,9,  -999.0,9, -999.00,9,      21.58,6,     -999.0,9, -999.00,9, 20140501,      815, -21.0001,-150.0000,    34.8568,2,     -999.0,9,     -999.0,9,     -999.0,9,     -999.0,9,     -999.0,9,     -999.0,9
320620140320,       P16S,      81,          1,          2,         02,2,20140501,       0804,   -21.0001,  -149.9999,       4286,  4120.1,   1.4102,  34.6967,2,  34.6958,2,    183.0,2,   183.0,2,  122.26,2,   33.32,2,    0.00,2,    2.36,2,   0.001,2,   0.001,2,    0.01,2,  2284.9,2,  2383.3,6,   7.6665,2,       20,-999.000,9,-999.0000,9, -999.00,9,   1.4105,2, -999.00,9,  -999.0,9, -999.00,9,  -999.0,9, -999.00,9,      20.41,2,     -999.0,9, -999.00,9, 20140501,      810, -21.0001,-149.9999,    34.8594,2,     -999.0,9,     -999.0,9,     -999.0,9,     -999.0,9,     -999.0,9,     -999.0,9
320620140320,       P16S,      81,          1,          1,         01,4,20140501,       0804,   -21.0001,  -149.9999,       4286,  4334.9,   1.4109,  34.6979,2,  34.6934,4,    185.4,2,   179.4,4,  122.65,4,   33.48,4,    0.00,4,    2.35,4,   0.001,4,   0.001,4,    0.00,4,  2288.1,4,  2386.3,4,   7.6638,2,       20,-999.000,9,-999.0000,9, -999.00,9,   1.4102,2, -999.00,9,  -999.0,9, -999.00,9,  -999.0,9, -999.00,9,      21.74,4,     -999.0,9, -999.00,9, 20140501,      804, -21.0001,-149.9999,    34.8570,4,     -999.0,9,     -999.0,9,     -999.0,9,     -999.0,9,     -999.0,9,     -999.0,9