BOTTLE,20230715CCHSIOCBG
EXPOCODE,SECT_ID,STNNBR,CASTNO,SAMPNO,BTLNBR,BTLNBR_FLAG_W,DATE,TIME,LATITUDE,LONGITUDE,DEPTH,CTDPRS,CTDTMP,CTDSAL,CTDSAL_FLAG_W,SALNTY,SALNTY_FLAG_W,CTDOXY,CTDOXY_FLAG_W,OXYGEN,OXYGEN_FLAG_W,SILCAT,SILCAT_FLAG_W,NITRAT,NITRAT_FLAG_W,NITRIT,NITRIT_FLAG_W,PHSPHT,PHSPHT_FLAG_W,CFC-11,CFC-11_FLAG_W,CFC-12,CFC-12_FLAG_W,SF6,SF6_FLAG_W,TCARBN,TCARBN_FLAG_W,ALKALI,ALKALI_FLAG_W,PH_TOT,PH_TOT_FLAG_W,PH_TMP,TRITUM,TRITUM_FLAG_W,HELIUM,HELIUM_FLAG_W,DELHE3,DELHE3_FLAG_W,REFTMP,REFTMP_FLAG_W,DELC13,DELC13_FLAG_W,DELC14,DELC14_FLAG_W,DELO18,DELO18_FLAG_W,DOC,DOC_FLAG_W,TDN,TDN_FLAG_W,N2O,N2O_FLAG_W,CALCIUM,CALCIUM_FLAG_W,D15N_NO3,D15N_NO3_FLAG_W,BTL_DATE,BTL_TIME,BTL_LAT,BTL_LON,SALTREF,SALTREF_FLAG_W,D18O_NO3,D18O_NO3_FLAG_W,DSI30,DSI30_FLAG_W,CDOM_NASA,CDOM_NASA_FLAG_W,CDOM_UCSB,CDOM_UCSB_FLAG_W,D15N_NO2+NO3,D15N_NO2+NO3_FLAG_W,D18O_NO2+NO3,D18O_NO2+NO3_FLAG_W
,,,,,,,,,,,METERS,DBAR,ITS-90,PSS-78,,PSS-78,,UMOL/KG,,UMOL/KG,,UMOL/KG,,UMOL/KG,,UMOL/KG,,UMOL/KG,,PMOL/KG,,PMOL/KG,,FMOL/KG,,UMOL/KG,,UMOL/KG,,,,DEG C,TU,,NMOL/KG,,PERCNT,,DEG C,,/MILLE,,/MILLE,,/MILLE,,UMOL/KG,,UMOL/KG,,NMOL/KG,,MMOL/KG,,/MILLE,,,,,,G/KG,,/MILLE,,/MILLE,,,,,,/MILLE,,/MILLE,
320620140320,       P16S,      22,          1,         36,         36,2,20140409,       0223,   -57.4988,  -149.9985,       2998,     5.7,   2.0302,  33.6906,2,  33.6909,2,    331.2,2,   333.1,2,   23.55,2,   23.76,2,    0.27,2,    1.66,2,   5.691,2,   2.953,2,    3.05,2,  2151.2,2,  2279.6,2,   7.7761,2,       20,-999.000,9,-999.0000,9, -999.00,9,   2.0309,2, -999.00,9,  -999.0,9, -999.00,9,  -999.0,9, -999.00,9,      14.59,2,     -999.0,9, -999.00,9, 20140409,      406, -57.4997,-149.9983,    33.8497,2,     -999.0,9,     -999.0,9,     -999.0,9,     -999.0,1,     -999.0,9,     -999.0,9
320620140320,       P16S,      22,          1,         35,         35,2,20140409,       0223,   -57.4988,  -149.9985,       2998,    20.2,   2.0231,  33.6910,2,  33.6909,2,    332.4,2,   333.0,2,   23.65,2,   23.76,2,    0.27,2,    1.67,2,-999.000,9,-999.000,9, -999.00,9,    2150,2,  2279.8,2,   7.7763,2,       20,-999.000,9,-999.0000,9, -999.00,9,   2.0231,2, -999.00,9,  -999.0,9, -999.00,9,  -999.0,9, -999.00,9,     -999.0,9,     -999.0,9, -999.00,9, 20140409,      403, -57.4996,-149.9984,    33.8497,2,     -999.0,9,     -999.0,9,     -999.0,9,     -999.0,1,     -999.0,9,     -999.0,9
320620140320,       P16S,      22,          1,         34,         34,2,20140409,       0223,   -57.4988,  -149.9985,       2998,    20.3,   2.0230,  33.6911,2,-999.0000,9,   -999.0,9,  -999.0,9, -999.00,9, -999.00,9, -999.00,9, -999.00,9,-999.000,9,-999.000,9, -999.00,9,  -999.0,9,  -999.0,9,-999.0000,9,  -999.00,-999.000,9,-999.0000,9, -999.00,9,   2.0225,2, -999.00,9,  -999.0,9, -999.00,9,  -999.0,9, -999.00,9,     -999.0,9,     -999.0,9, -999.00,9, 20140409,      403, -57.4996,-149.9983,     -999.0,9,     -999.0,9,     -999.0,9,     -999.0,9,     -999.0,9,     -999.0,9,     -999.0,9
320620140320,       P16S,      22,          1,         33,         33,2,20140409,       0223,   -57.4988,  -149.9985,       2998,    41.4,   1.9802,  33.6951,2,  33.6950,2,    333.5,2,   333.1,2,   23.94,2,   23.84,2,    0.27,2,    1.68,2,-999.000,9,-999.000,9, -999.00,9,  2150.1,2,  2280.6,2,   7.7761,2,       20,-999.000,9,-999.0000,9, -999.00,9,   1.9866,2, -999.00,9,  -999.0,9, -999.00,9,  -999.0,9, -999.00,9,     -999.0,9,     -999.0,9, -999.00,9, 20140409,      401, -57.4995,-149.9984,    33.8539,2,     -999.0,9,     -999.0,9,     -999.0,9,     -999.0,1,     -999.0,9,     -999.0,9
320620140320,       P16S,      22,          1,         32,         32,2,20140409,       0223,   -57.4988,  -149.9985,       2998,    66.8,   1.7481,  33.8110,2,  33.7836,2,    329.0,2,   330.1,2,   24.33,2,   24.57,2,    0.26,2,    1.79,2,   5.586,2,   2.990,2,    3.14,2,  2159.7,2,  2285.2,2,   7.7763,2,       20,-999.000,9,-999.0000,9, -999.00,9,   1.7930,3, -999.00,9,  -999.0,9, -999.00,9,  -999.0,9, -999.00,9,      15.64,4,     -999.0,9, -999.00,9, 20140409,      359, -57.4994,-149.9984,    33.9429,2,     -999.0,9,     -999.0,9,     -999.0,9,     -999.0,1,     -999.0,9,     -999.0,9
320620140320,       P16S,      22,          1,         31,         31,2,20140409,       0223,   -57.4988,  -149.9985,       2998,    89.9,  -0.0490,  33.9845,2,-999.0000,9,   -999.0,9,  -999.0,9, -999.00,9, -999.00,9, -999.00,9, -999.00,9,-999.000,9,-999.000,9, -999.00,9,  -999.0,9,  -999.0,9,-999.0000,9,  -999.00,-999.000,9,-999.0000,9, -999.00,9,  -0.0564,2, -999.00,9,  -999.0,9, -999.00,9,  -999.0,9, -999.00,9,     -999.0,9,     -999.0,9, -999.00,9, 20140409,      357, -57.4997,-149.9982,     -999.0,9,     -999.0,9,     -999.0,9,     -999.0,9,     -999.0,9,     -999.0,9,     -999.0,9
320620140320,       P16S,      22,          1,         30,         30,2,20140409,       0223,   -57.4988,  -149.9985,       2998,    91.0,  -0.0601,  33.9845,2,  33.9849,2,    305.6,2,   301.7,2,   43.47,2,   30.94,2,    0.23,2,    2.21,2,-999.000,9,-999.000,9, -999.00,9,  2191.9,2,  2289.2,2,   7.6783,2,       20,-999.000,9,-999.0000,9, -999.00,9,  -0.0411,2, -999.00,9,  -999.0,9, -999.00,9,  -999.0,9, -999.00,9,     -999.0,9,     -999.0,9, -999.00,9, 20140409,      357, -57.4997,-149.9982,    34.1452,2,     -999.0,9,     -999.0,9,     -999.0,9,     -999.0,1,     -999.0,9,     -999.0,9
320620140320,       P16S,      22,          1,         29,         29,2,20140409,       0223,   -57.4988,  -149.9985,       2998,   111.9,   0.1614,  34.0817,2,  34.0780,2,    257.4,2,   283.8,2,   50.90,2,   32.02,2,    0.15,2,    2.28,2,-999.000,9,-999.000,9, -999.00,9,    2204,2,  2295.8,2,   7.6594,2,       20,-999.000,9,-999.0000,9, -999.00,9,   0.2068,3, -999.00,9,  -999.0,9, -999.00,9,  -999.0,9, -999.00,9,     -999.0,9,     -999.0,9, -999.00,9, 20140409,      355, -57.5001,-149.9984,    34.2387,2,     -999.0,9,     -999.0,9,     -999.0,9,     -999.0,1,     -999.0,9,     -999.0,9
320620140320,       P16S,      22,          1,         28,         28,2,20140409,       0223,   -57.4988,  -149.9985,       2998,   141.2,   1.7842,  34.3130,2,  34.3083,2,    210.2,2,   211.8,2,   57.92,2,   34.59,2,    0.01,2,    2.43,2,-999.000,9,-999.000,9, -999.00,9,  2232.7,2,  2309.7,2,   7.6118,2,       20,-999.000,9,-999.0000,9, -999.00,9,   1.7688,2, -999.00,9,  -999.0,9, -999.00,9,  -999.0,9, -999.00,9,     -999.0,9,     -999.0,9, -999.00,9, 20140409,      353, -57.5002,-149.9983,    34.4701,2,     -999.0,9,     -999.0,9,     -999.0,9,     -999.0,1,     -999.0,9,     -999.0,9
320620140320,       P16S,      22,          1,         27,         27,2,20140409,       0223,   -57.4988,  -149.9985,       2998,   163.9,   1.9744,  34.3753,2,  34.3747,2,    195.9,2,   196.7,2,   62.60,2,   35.08,2,    0.00,2,    2.46,2,   2.395,2,   1.094,2,    0.68,2,    2240,2,  2315.5,6,   7.6015,2,       20,-999.000,9,-999.0000,9, -999.00,9,   1.9726,2, -999.00,9,  -999.0,9, -999.00,9,  -999.0,9, -999.00,9,      26.01,2,     -999.0,9, -999.00,9, 20140409,      351, -57.5001,-149.9983,    34.5368,2,     -999.0,9,     -999.0,9,     -999.0,9,     -999.0,1,     -999.0,9,     -999.0,9
320620140320,       P16S,      22,          1,         26,         26,2,20140409,       0223,   -57.4988,  -149.9985,       2998,   190.4,   2.1337,  34.4307,2,  34.4290,2,    187.9,2,   186.5,2,   66.80,2,   35.31,2,    0.00,2,    2.47,2,-999.000,9,-999.000,9, -999.00,9,  2246.8,6,  2319.6,2,   7.5972,2,       20,-999.000,9,-999.0000,9, -999.00,9,   2.1332,2, -999.00,9,  -999.0,9, -999.00,9,  -999.0,9, -999.00,9,     -999.0,9,     -999.0,9, -999.00,9, 20140409,      350, -57.5001,-149.9983,    34.5914,2,     -999.0,9,     -999.0,9,     -999.0,9,     -999.0,1,     -999.0,9,     -999.0,9
320620140320,       P16S,      22,          1,         25,         25,2,20140409,       0223,   -57.4988,  -149.9985,       2998,   235.9,   2.2292,  34.4993,2,  34.4983,2,    177.7,2,   176.8,2,   71.39,2,   35.21,2,    0.00,2,    2.47,2,-999.000,9,-999.000,9, -999.00,9,  2252.6,2,  2325.5,2,   7.5963,2,       20,-999.000,9,-999.0000,9, -999.00,9,   2.2300,2, -999.00,9,  -999.0,9, -999.00,9,  -999.0,9, -999.00,9,     -999.0,9,     -999.0,9, -999.00,9, 20140409,      347, -57.5000,-149.9983,    34.6610,2,     -999.0,9,     -999.0,9,     -999.0,9,     -999.0,9,     -999.0,9,     -999.0,9
320620140320,       P16S,      22,          1,         24,         24,2,20140409,       0223,   -57.4988,  -149.9985,       2998,   284.9,   2.2537,  34.5399,2,  34.5347,2,    174.7,2,   173.7,2,   73.73,2,   34.92,2,    0.00,2,    2.45,2,-999.000,9,-999.000,9, -999.00,9,  2254.5,2,  2328.6,2,   7.5999,6,       20,-999.000,9,-999.0000,9, -999.00,9,   2.2537,2, -999.00,9,  -999.0,9, -999.00,9,  -999.0,9, -999.00,9,     -999.0,9,     -999.0,9, -999.00,9, 20140409,      345, -57.5000,-149.9983,    34.6975,2,     -999.0,9,     -999.0,9,     -999.0,9,     -999.0,1,     -999.0,9,     -999.0,9
320620140320,       P16S,      22,          1,         23,         23,2,20140409,       0223,   -57.4988,  -149.9985,       2998,   333.9,   2.2663,  34.5801,2,  34.5796,2,    172.4,2,   172.4,2,   75.88,2,   34.53,2,    0.00,2,    2.41,2,   0.655,2,   0.377,2,    0.32,2,  2255.6,2,  2333.3,2,   7.6074,2,       20,-999.000,9,-999.0000,9, -999.00,9,   2.2672,2, -999.00,9,  -999.0,9, -999.00,9,  -999.0,9, -999.00,9,      24.96,2,     -999.0,9, -999.00,9, 20140409,      343, -57.5000,-149.9983,    34.7427,2,     -999.0,9,     -999.0,9,     -999.0,9,     -999.0,9,     -999.0,9,     -999.0,9
320620140320,       P16S,      22,          1,         22,         22,2,20140409,       0223,   -57.4988,  -149.9985,       2998,   386.5,   2.2888,  34.6099,2,  34.6091,2,    172.3,2,   173.4,2,   76.95,2,   34.02,2,    0.00,2,    2.39,2,-999.000,9,-999.000,9, -999.00,9,  2255.4,2,  2335.7,2,   7.6141,2,       20,-999.000,9,-999.0000,9, -999.00,9,   2.2876,2, -999.00,9,  -999.0,9, -999.00,9,  -999.0,9, -999.00,9,     -999.0,9,     -999.0,9, -999.00,9, 20140409,      340, -57.4999,-149.9983,    34.7723,2,     -999.0,9,     -999.0,9,     -999.0,9,     -999.0,1,     -999.0,9,     -999.0,9
320620140320,       P16S,      22,          1,         21,         21,2,20140409,       0223,   -57.4988,  -149.9985,       2998,   435.7,   2.2079,  34.6283,2,  34.6276,2,    172.8,2,   173.2,2,   79.10,2,   33.84,2,    0.00,2,    2.36,2,-999.000,9,-999.000,9, -999.00,9,  2255.7,2,  2336.6,2,   7.6166,2,       20,-999.000,9,-999.0000,9, -999.00,9,   2.2077,2, -999.00,9,  -999.0,9, -999.00,9,  -999.0,9, -999.00,9,     -999.0,9,     -999.0,9, -999.00,9, 20140409,      338, -57.4999,-149.9983,    34.7909,2,     -999.0,9,     -999.0,9,     -999.0,9,     -999.0,9,     -999.0,9,     -999.0,9
320620140320,       P16S,      22,          1,         20,         20,2,20140409,       0223,   -57.4988,  -149.9985,       2998,   484.1,   2.1483,  34.6515,2,  34.6515,2,    173.4,2,   174.0,2,   80.95,2,   33.44,2,    0.00,2,    2.33,2,-999.000,9,-999.000,9, -999.00,9,  2256.2,2,  2338.4,2,   7.6194,2,       20,-999.000,9,-999.0000,9, -999.00,9,   2.1479,2, -999.00,9,  -999.0,9, -999.00,9,  -999.0,9, -999.00,9,     -999.0,9,     -999.0,9, -999.00,9, 20140409,      334, -57.5000,-149.9983,    34.8149,2,     -999.0,9,     -999.0,9,     -999.0,9,     -999.0,1,     -999.0,9,     -999.0,9
320620140320,       P16S,      22,          1,         19,         19,2,20140409,       0223,   -57.4988,  -149.9985,       2998,   565.0,   2.1185,  34.6808,2,  34.6812,2,    176.8,2,   176.8,2,   82.80,2,   32.87,2,    0.00,2,    2.29,2,   0.416,2,   0.196,2,    0.27,2,  2254.8,2,    2341,2,   7.6319,2,       20,-999.000,9,-999.0000,9, -999.00,9,   2.1169,2, -999.00,9,  -999.0,9, -999.00,9,  -999.0,9, -999.00,9,      23.58,2,     -999.0,9, -999.00,9, 20140409,      331, -57.4999,-149.9983,    34.8448,2,     -999.0,9,     -999.0,9,     -999.0,9,     -999.0,9,     -999.0,9,     -999.0,9
320620140320,       P16S,      22,          1,         18,         18,2,20140409,       0223,   -57.4988,  -149.9985,       2998,   665.3,   2.0693,  34.7057,2,  34.7062,2,    180.5,2,   181.2,2,   84.46,2,   32.11,2,    0.00,2,    2.25,2,-999.000,9,-999.000,9, -999.00,9,  2253.2,2,  2344.9,2,    7.645,2,       20,-999.000,9,-999.0000,9, -999.00,9,   2.0692,2, -999.00,9,  -999.0,9, -999.00,9,  -999.0,9, -999.00,9,     -999.0,9,     -999.0,9, -999.00,9, 20140409,      328, -57.4999,-149.9983,    34.8698,2,     -999.0,9,     -999.0,9,     -999.0,9,     -999.0,1,     -999.0,9,     -999.0,9
320620140320,       P16S,      22,          1,         17,         17,2,20140409,       0223,   -57.4988,  -149.9985,       2998,   764.4,   2.0149,  34.7153,2,  34.7148,2,    183.7,2,   182.9,2,   86.02,2,   31.88,2,    0.00,2,    2.21,2,-999.000,9,-999.000,9, -999.00,9,  2252.7,2,  2345.5,2,   7.6508,2,       20,-999.000,9,-999.0000,9, -999.00,9,   2.0147,2, -999.00,9,  -999.0,9, -999.00,9,  -999.0,9, -999.00,9,     -999.0,9,     -999.0,9, -999.00,9, 20140409,      325, -57.4999,-149.9983,    34.8785,2,     -999.0,9,     -999.0,9,     -999.0,9,     -999.0,9,     -999.0,9,     -999.0,9
320620140320,       P16S,      22,          1,         16,         16,2,20140409,       0223,   -57.4988,  -149.9985,       2998,   865.2,   1.9378,  34.7253,2,  34.7254,2,    187.3,2,   186.0,2,   87.39,2,   31.57,2,    0.00,2,    2.22,2,-999.000,9,-999.000,9, -999.00,9,  -999.0,9,  -999.0,9,-999.0000,9,  -999.00,-999.000,9,-999.0000,9, -999.00,9,   1.9372,2, -999.00,9,  -999.0,9, -999.00,9,  -999.0,9, -999.00,9,     -999.0,9,     -999.0,9, -999.00,9, 20140409,      322, -57.5000,-149.9983,    34.8892,2,     -999.0,9,     -999.0,9,     -999.0,9,     -999.0,1,     -999.0,9,     -999.0,9
320620140320,       P16S,      22,          1,         15,         15,2,20140409,       0223,   -57.4988,  -149.9985,       2998,   963.3,   1.8634,  34.7334,2,  34.7335,2,    189.9,2,   189.8,2,   89.73,2,   31.36,2,    0.00,2,    2.18,2,-999.000,9,-999.000,9, -999.00,9,  2251.6,2,  2350.4,2,   7.6644,2,       20,-999.000,9,-999.0000,9, -999.00,9,   1.8632,2, -999.00,9,  -999.0,9, -999.00,9,  -999.0,9, -999.00,9,     -999.0,9,     -999.0,9, -999.00,9, 20140409,      319, -57.5002,-149.9983,    34.8973,2,     -999.0,9,     -999.0,9,     -999.0,9,     -999.0,9,     -999.0,9,     -999.0,9
320620140320,       P16S,      22,          1,         14,         14,2,20140409,       0223,   -57.4988,  -149.9985,       2998,  1064.3,   1.7606,  34.7367,2,  34.7337,2,    191.8,2,   191.8,2,   93.05,2,   31.20,2,    0.00,2,    2.18,2,-999.000,9,-999.000,9, -999.00,9,  -999.0,9,  -999.0,9,-999.0000,9,  -999.00,-999.000,9,-999.0000,9, -999.00,9,   1.7603,2, -999.00,9,  -999.0,9, -999.00,9,  -999.0,9, -999.00,9,     -999.0,9,     -999.0,9, -999.00,9, 20140409,      316, -57.5001,-149.9983,    34.8975,2,     -999.0,9,     -999.0,9,     -999.0,9,     -999.0,1,     -999.0,9,     -999.0,9
320620140320,       P16S,      22,          1,         13,         13,2,20140409,       0223,   -57.4988,  -149.9985,       2998,  1165.9,   1.6852,  34.7376,2,  34.7376,2,    192.8,2,   193.6,2,   94.22,2,   31.20,2,    0.00,2,    2.17,2,   0.200,2,   0.065,2,    0.14,2,  2252.2,2,  2352.3,2,   7.6701,2,       20,-999.000,9,-999.0000,9, -999.00,9,   1.6851,2, -999.00,9,  -999.0,9, -999.00,9,  -999.0,9, -999.00,9,      20.61,2,     -999.0,9, -999.00,9, 20140409,      313, -57.5002,-149.9983,    34.9014,2,     -999.0,9,     -999.0,9,     -999.0,9,     -999.0,1,     -999.0,9,     -999.0,9
320620140320,       P16S,      22,          1,         12,         12,2,20140409,       0223,   -57.4988,  -149.9985,       2998,  1265.3,   1.5804,  34.7364,2,  34.7370,2,    194.7,2,   195.0,2,   97.54,2,   31.25,2,    0.00,2,    2.18,2,-999.000,9,-999.000,9, -999.00,9,  -999.0,9,  -999.0,9,-999.0000,9,  -999.00,-999.000,9,-999.0000,9, -999.00,9,   1.5801,2, -999.00,9,  -999.0,9, -999.00,9,  -999.0,9, -999.00,9,     -999.0,9,     -999.0,9, -999.00,9, 20140409,      310, -57.5000,-149.9983,    34.9008,2,     -999.0,9,     -999.0,9,     -999.0,9,     -999.0,9,     -999.0,9,     -999.0,9
320620140320,       P16S,      22,          1,         11,         11,2,20140409,       0223,   -57.4988,  -149.9985,       2998,  1364.3,   1.5139,  34.7358,2,  34.7362,2,    196.0,2,   196.3,2,   99.50,2,   31.25,2,    0.00,2,    2.17,2,-999.000,9,-999.000,9, -999.00,9,  2253.8,2,  2355.7,2,   7.6726,2,       20,-999.000,9,-999.0000,9, -999.00,9,   1.5135,2, -999.00,9,  -999.0,9, -999.00,9,  -999.0,9, -999.00,9,     -999.0,9,     -999.0,9, -999.00,9, 20140409,      307, -57.4999,-149.9983,    34.9000,2,     -999.0,9,     -999.0,9,     -999.0,9,     -999.0,9,     -999.0,9,     -999.0,9
320620140320,       P16S,      22,          1,         10,         10,2,20140409,       0223,   -57.4988,  -149.9985,       2998,  1464.0,   1.3774,  34.7314,2,  34.7313,2,    197.2,2,   197.4,2,  103.21,2,   31.48,2,    0.00,2,    2.18,2,-999.000,9,-999.000,9, -999.00,9,  -999.0,9,  -999.0,9,-999.0000,9,  -999.00,-999.000,9,-999.0000,9, -999.00,9,   1.3772,2, -999.00,9,  -999.0,9, -999.00,9,  -999.0,9, -999.00,9,     -999.0,9,     -999.0,9, -999.00,9, 20140409,      304, -57.4999,-149.9983,    34.8951,2,     -999.0,9,     -999.0,9,     -999.0,9,     -999.0,1,     -999.0,9,     -999.0,9
320620140320,       P16S,      22,          1,          9,         09,2,20140409,       0223,   -57.4988,  -149.9985,       2998,  1566.7,   1.3189,  34.7301,2,  34.7300,2,    198.8,2,   198.6,2,  105.36,2,   31.51,2,    0.00,2,    2.19,2,   0.185,2,   0.062,2,    0.10,2,  2255.7,2,  2357.7,2,   7.6717,2,       20,-999.000,9,-999.0000,9, -999.00,9,   1.3191,2, -999.00,9,  -999.0,9, -999.00,9,  -999.0,9, -999.00,9,      20.32,2,     -999.0,9, -999.00,9, 20140409,      301, -57.4999,-149.9983,    34.8937,2,     -999.0,9,     -999.0,9,     -999.0,9,     -999.0,9,     -999.0,9,     -999.0,9
320620140320,       P16S,      22,          1,          8,         08,2,20140409,       0223,   -57.4988,  -149.9985,       2998,  1764.2,   1.1629,  34.7243,2,  34.7246,2,    201.0,2,   200.9,2,  110.24,2,   31.73,2,    0.00,2,    2.21,2,-999.000,9,-999.000,9, -999.00,9,  -999.0,9,  -999.0,9,-999.0000,9,  -999.00,-999.000,9,-999.0000,9, -999.00,9,   1.1629,2, -999.00,9,  -999.0,9, -999.00,9,  -999.0,9, -999.00,9,     -999.0,9,     -999.0,9, -999.00,9, 20140409,      256, -57.4998,-149.9984,    34.8884,2,     -999.0,9,     -999.0,9,     -999.0,9,     -999.0,1,     -999.0,9,     -999.0,9
320620140320,       P16S,      22,          1,          7,         07,2,20140409,       0223,   -57.4988,  -149.9985,       2998,  1934.8,   1.0640,  34.7201,2,  34.7205,2,    202.4,2,   202.9,2,  113.46,2,   31.81,2,    0.00,2,    2.22,2,   0.172,2,   0.068,2,    0.05,2,  2258.4,2,  2360.5,2,   7.6716,2,       20,-999.000,9,-999.0000,9, -999.00,9,   1.0636,2, -999.00,9,  -999.0,9, -999.00,9,  -999.0,9, -999.00,9,      20.44,2,     -999.0,9, -999.00,9, 20140409,      251, -57.4999,-149.9983,    34.8842,2,     -999.0,9,     -999.0,9,     -999.0,9,     -999.0,9,     -999.0,9,     -999.0,9
320620140320,       P16S,      22,          1,          6,         06,2,20140409,       0223,   -57.4988,  -149.9985,       2998,  2135.7,   0.9417,  34.7152,2,  34.7148,2,    204.4,2,   204.4,2,  117.95,2,   32.06,2,    0.00,2,    2.24,2,-999.000,9,-999.000,9, -999.00,9,  -999.0,9,  -999.0,9,-999.0000,9,  -999.00,-999.000,9,-999.0000,9, -999.00,9,   0.9419,2, -999.00,9,  -999.0,9, -999.00,9,  -999.0,9, -999.00,9,     -999.0,9,     -999.0,9, -999.00,9, 20140409,      247, -57.4998,-149.9983,    34.8785,2,     -999.0,9,     -999.0,9,     -999.0,9,     -999.0,1,     -999.0,9,     -999.0,9