BOTTLE,20230715CCHSIOCBG
EXPOCODE,SECT_ID,STNNBR,CASTNO,SAMPNO,BTLNBR,BTLNBR_FLAG_W,DATE,TIME,LATITUDE,LONGITUDE,DEPTH,CTDPRS,CTDTMP,CTDSAL,CTDSAL_FLAG_W,SALNTY,SALNTY_FLAG_W,CTDOXY,CTDOXY_FLAG_W,OXYGEN,OXYGEN_FLAG_W,SILCAT,SILCAT_FLAG_W,NITRAT,NITRAT_FLAG_W,NITRIT,NITRIT_FLAG_W,PHSPHT,PHSPHT_FLAG_W,CFC-11,CFC-11_FLAG_W,CFC-12,CFC-12_FLAG_W,SF6,SF6_FLAG_W,TCARBN,TCARBN_FLAG_W,ALKALI,ALKALI_FLAG_W,PH_TOT,PH_TOT_FLAG_W,PH_TMP,TRITUM,TRITUM_FLAG_W,HELIUM,HELIUM_FLAG_W,DELHE3,DELHE3_FLAG_W,REFTMP,REFTMP_FLAG_W,DELC13,DELC13_FLAG_W,DELC14,DELC14_FLAG_W,DELO18,DELO18_FLAG_W,DOC,DOC_FLAG_W,TDN,TDN_FLAG_W,N2O,N2O_FLAG_W,CALCIUM,CALCIUM_FLAG_W,D15N_NO3,D15N_NO3_FLAG_W,BTL_DATE,BTL_TIME,BTL_LAT,BTL_LON,SALTREF,SALTREF_FLAG_W,D18O_NO3,D18O_NO3_FLAG_W,DSI30,DSI30_FLAG_W,CDOM_NASA,CDOM_NASA_FLAG_W,CDOM_UCSB,CDOM_UCSB_FLAG_W,D15N_NO2+NO3,D15N_NO2+NO3_FLAG_W,D18O_NO2+NO3,D18O_NO2+NO3_FLAG_W
,,,,,,,,,,,METERS,DBAR,ITS-90,PSS-78,,PSS-78,,UMOL/KG,,UMOL/KG,,UMOL/KG,,UMOL/KG,,UMOL/KG,,UMOL/KG,,PMOL/KG,,PMOL/KG,,FMOL/KG,,UMOL/KG,,UMOL/KG,,,,DEG C,TU,,NMOL/KG,,PERCNT,,DEG C,,/MILLE,,/MILLE,,/MILLE,,UMOL/KG,,UMOL/KG,,NMOL/KG,,MMOL/KG,,/MILLE,,,,,,G/KG,,/MILLE,,/MILLE,,,,,,/MILLE,,/MILLE,
320620140320,       P16S,      11,          1,         36,         36,2,20140403,       0544,   -63.9999,  -149.9990,       3212,     8.5,   0.0541,  33.7551,2,  33.7559,2,    341.7,2,   342.5,2,   52.19,2,   24.04,2,    0.19,2,    1.75,2,   6.252,2,   3.151,2,    3.21,2,  2168.3,2,  2284.2,2,   7.7499,2,       20,-999.000,9,-999.0000,9, -999.00,9,-999.0000,9,    1.40,2,  -106.9,2, -999.00,9,    42.8,2,   27.14,2,      14.64,2,     -999.0,9,    6.80,2, 20140403,      720, -63.9993,-149.9994,    33.9150,2,       3.42,2,     -999.0,9,     -999.0,9,     -999.0,9,       6.04,2,       3.39,2
320620140320,       P16S,      11,          1,         35,         35,2,20140403,       0544,   -63.9999,  -149.9990,       3212,    23.4,   0.0532,  33.7551,2,  33.7563,2,    342.3,2,   340.8,2,   52.19,2,   24.51,2,    0.19,2,    1.78,2,   6.177,2,   3.147,2,    3.34,2,  2168.2,2,  2285.2,2,   7.7499,6,       20,-999.000,9,-999.0000,9, -999.00,9,   0.0530,2,    1.37,2,  -104.7,2, -999.00,9,    40.3,2,   27.27,2,      14.70,2,     -999.0,9,    6.78,2, 20140403,      719, -63.9994,-149.9993,    33.9154,2,       3.37,2,     -999.0,9,     -999.0,9,     -999.0,9,       6.08,2,       3.42,2
320620140320,       P16S,      11,          1,         33,         33,2,20140403,       0544,   -63.9999,  -149.9990,       3212,    47.7,   0.0540,  33.7549,2,  33.7565,2,    342.0,2,   341.4,2,   52.19,2,   24.57,2,    0.19,2,    1.78,2,   6.237,2,   3.145,2,    3.17,2,  2168.1,2,  2284.8,2,   7.7491,2,       20,-999.000,9,-999.0000,9, -999.00,9,   0.0537,2,    1.32,2,  -105.4,2, -999.00,9,    42.3,2,   28.24,2,      14.59,2,     -999.0,9,    6.76,2, 20140403,      717, -63.9994,-149.9994,    33.9156,2,       3.27,2,     -999.0,9,     -999.0,9,     -999.0,9,       6.06,2,       3.29,2
320620140320,       P16S,      11,          1,         34,         34,2,20140403,       0544,   -63.9999,  -149.9990,       3212,    48.0,   0.0543,  33.7550,2,-999.0000,9,   -999.0,9,  -999.0,9, -999.00,9, -999.00,9, -999.00,9, -999.00,9,-999.000,9,-999.000,9, -999.00,9,  -999.0,9,  -999.0,9,-999.0000,9,  -999.00,-999.000,9,-999.0000,9, -999.00,9,   0.0540,2, -999.00,9,  -999.0,9, -999.00,9,  -999.0,9, -999.00,9,     -999.0,9,     -999.0,9, -999.00,9, 20140403,      717, -63.9994,-149.9994,     -999.0,9,     -999.0,9,     -999.0,9,     -999.0,1,     -999.0,9,     -999.0,9,     -999.0,9
320620140320,       P16S,      11,          1,         32,         32,2,20140403,       0544,   -63.9999,  -149.9990,       3212,    73.7,   0.0437,  33.7560,2,-999.0000,9,   -999.0,9,  -999.0,9, -999.00,9, -999.00,9, -999.00,9, -999.00,9,-999.000,9,-999.000,9, -999.00,9,  -999.0,9,  -999.0,9,-999.0000,9,  -999.00,-999.000,9,-999.0000,9, -999.00,9,   0.0401,2, -999.00,9,  -999.0,9, -999.00,9,  -999.0,9, -999.00,9,     -999.0,9,     -999.0,9, -999.00,9, 20140403,      715, -63.9995,-149.9993,     -999.0,9,     -999.0,9,     -999.0,9,     -999.0,1,     -999.0,9,     -999.0,9,     -999.0,9
320620140320,       P16S,      11,          1,         31,         31,3,20140403,       0544,   -63.9999,  -149.9990,       3212,    73.9,   0.0400,  33.7570,2,  33.8071,3,    341.5,2,   338.9,2,   53.56,2,   24.98,2,    0.19,2,    1.82,2,-999.000,9,-999.000,9, -999.00,9,  -999.0,9,  -999.0,9,-999.0000,9,  -999.00,-999.000,9,-999.0000,9, -999.00,9,   0.0285,2, -999.00,9,  -999.0,9, -999.00,9,  -999.0,9, -999.00,9,     -999.0,9,     -999.0,9,    6.62,2, 20140403,      715, -63.9995,-149.9993,    33.9666,3,       3.31,2,     -999.0,9,     -999.0,9,     -999.0,9,       5.89,2,       3.24,2
320620140320,       P16S,      11,          1,         30,         30,2,20140403,       0544,   -63.9999,  -149.9990,       3212,    99.2,  -0.9629,  34.2609,2,  34.2597,2,    294.9,2,   289.3,2,   68.49,2,   29.10,2,    0.18,2,    2.10,2,   4.558,2,   2.342,2,    2.33,2,  2220.9,2,  2316.3,2,   7.6795,2,       20,-999.000,9,-999.0000,9, -999.00,9,  -0.9656,2,    0.57,2,  -130.8,2, -999.00,9,      41,2,   32.93,2,      17.78,2,     -999.0,9,    5.14,2, 20140403,      713, -63.9996,-149.9991,    34.4213,2,       2.62,2,     -999.0,9,     -999.0,9,     -999.0,9,       4.96,2,       2.56,2
320620140320,       P16S,      11,          1,         29,         29,2,20140403,       0544,   -63.9999,  -149.9990,       3212,   122.6,  -0.1984,  34.4245,2,  34.4216,2,    244.3,2,   244.4,2,   78.54,2,   31.19,2,    0.18,2,    2.20,2,   3.175,2,   1.578,2,    1.50,2,  2238.7,2,  2324.9,2,   7.6495,2,       20,-999.000,9,-999.0000,9, -999.00,9,  -0.1993,2,    0.50,2,  -139.8,2, -999.00,9,    39.6,2,   33.11,2,      20.35,2,     -999.0,9,    4.77,2, 20140403,      712, -63.9996,-149.9993,    34.5839,2,       2.26,2,     -999.0,9,     -999.0,9,     -999.0,9,       4.71,2,       2.28,2
320620140320,       P16S,      11,          1,         28,         28,2,20140403,       0544,   -63.9999,  -149.9990,       3212,   148.8,   0.5871,  34.5664,2,  34.5730,2,    200.7,2,   205.4,2,   88.69,2,   32.47,2,    0.03,2,    2.25,2,   1.560,2,   0.840,2,    0.85,2,  2255.8,2,  2335.5,2,   7.6294,2,       20,-999.000,9,-999.0000,9, -999.00,9,   0.5982,2,    0.43,2,  -143.1,2, -999.00,9,    38.2,2,   34.86,2,      21.52,2,     -999.0,9,    4.62,2, 20140403,      710, -63.9996,-149.9993,    34.7360,2,       2.11,2,     -999.0,9,     -999.0,9,     -999.0,9,       4.65,2,       1.95,2
320620140320,       P16S,      11,          1,         27,         27,2,20140403,       0544,   -63.9999,  -149.9990,       3212,   173.9,   1.2099,  34.6745,2,  34.6707,2,    184.2,2,   183.4,2,   95.72,2,   33.01,2,    0.01,2,    2.28,2,   0.784,2,   0.380,2,    0.41,2,  2265.1,2,  2342.9,2,   7.6222,2,       20,-999.000,9,-999.0000,9, -999.00,9,   1.2073,2,    0.38,2,  -152.4,2, -999.00,9,    38.3,2,   36.01,2,      21.86,2,     -999.0,9,    4.63,2, 20140403,      709, -63.9996,-149.9992,    34.8341,2,       1.98,2,     -999.0,9,     -999.0,9,     -999.0,9,       4.58,2,       1.82,2
320620140320,       P16S,      11,          1,         26,         26,2,20140403,       0544,   -63.9999,  -149.9990,       3212,   199.2,   1.3665,  34.7036,2,  34.7025,2,    177.5,2,   176.9,2,   98.45,2,   33.06,2,    0.01,2,    2.29,2,   0.461,2,   0.283,2,    0.43,2,  2267.3,2,  2346.6,2,   7.6202,2,       20,-999.000,9,-999.0000,9, -999.00,9,   1.3661,2,    0.43,2,  -143.9,2, -999.00,9,    38.6,2,   35.98,2,      21.85,2,     -999.0,9,    4.66,2, 20140403,      707, -63.9997,-149.9992,    34.8661,2,       2.13,2,     -999.0,9,     -999.0,9,     -999.0,9,       4.58,2,       1.81,2
320620140320,       P16S,      11,          1,         25,         25,2,20140403,       0544,   -63.9999,  -149.9990,       3212,   248.5,   1.4207,  34.7255,2,  34.7243,2,    175.6,2,   175.5,2,  101.97,2,   32.97,2,    0.01,2,    2.27,2,   0.245,2,   0.114,2,    0.11,2,    2268,2,  2349.6,2,   7.6274,2,       20,-999.000,9,-999.0000,9, -999.00,9,   1.4210,2,    0.47,2,  -151.7,2, -999.00,9,    38.9,2,   35.06,2,      21.72,2,     -999.0,9,    4.61,2, 20140403,      705, -63.9998,-149.9991,    34.8881,2,       2.06,2,     -999.0,9,     -999.0,9,     -999.0,9,       4.58,2,       1.78,2
320620140320,       P16S,      11,          1,         24,         24,2,20140403,       0544,   -63.9999,  -149.9990,       3212,   299.6,   1.3766,  34.7281,2,  34.7277,2,    177.6,2,   177.9,2,  104.21,2,   32.78,2,    0.01,2,    2.26,2,   0.185,2,   0.074,2,    0.04,2,  2267.6,2,  2351.5,2,   7.6332,2,       20,-999.000,9,-999.0000,9, -999.00,9,   1.3767,2,    0.29,2,  -154.5,2, -999.00,9,    40.6,2,   34.27,2,      21.39,2,     -999.0,9,    4.66,2, 20140403,      703, -63.9998,-149.9991,    34.8914,2,       1.90,2,     -999.0,9,     -999.0,9,     -999.0,9,       4.61,2,       1.79,2
320620140320,       P16S,      11,          1,         23,         23,2,20140403,       0544,   -63.9999,  -149.9990,       3212,   348.6,   1.3283,  34.7285,2,  34.7283,2,    178.9,2,   179.7,2,  105.97,2,   32.69,2,    0.01,2,    2.26,2,   0.155,2,   0.073,2,    0.03,2,  2266.4,2,  2352.9,6,   7.6308,2,       20,-999.000,9,-999.0000,9, -999.00,9,   1.3281,2,    0.34,2,  -156.5,2, -999.00,9,    41.4,2,   34.38,2,      21.53,2,     -999.0,9,    4.67,2, 20140403,      701, -63.9997,-149.9991,    34.8920,2,       2.16,2,     -999.0,9,     -999.0,9,     -999.0,9,       4.63,2,       1.82,2
320620140320,       P16S,      11,          1,         22,         22,2,20140403,       0544,   -63.9999,  -149.9990,       3212,   399.7,   1.2928,  34.7285,2,  34.7283,2,    180.4,2,   180.6,2,  107.14,2,   32.60,2,    0.01,2,    2.25,2,-999.000,9,-999.000,9, -999.00,9,  2267.7,6,  2353.3,2,   7.6329,2,       20,-999.000,9,-999.0000,9, -999.00,9,   1.2928,2,    0.30,2,  -156.4,2, -999.00,9,    39.9,2, -999.00,5,     -999.0,9,     -999.0,9,    4.75,2, 20140403,      659, -63.9996,-149.9993,    34.8920,2,       2.17,2,     -999.0,9,     -999.0,9,     -999.0,9,       4.63,2,       1.95,2
320620140320,       P16S,      11,          1,         21,         21,2,20140403,       0544,   -63.9999,  -149.9990,       3212,   449.5,   1.2609,  34.7276,2,  34.7273,2,    182.0,2,   181.8,2,  108.22,2,   32.58,2,    0.01,2,    2.26,2,   0.134,2,   0.060,2,    0.01,2,  -999.0,9,  -999.0,9,-999.0000,9,  -999.00,-999.000,9,-999.0000,9, -999.00,9,   1.2604,2, -999.00,9,  -999.0,9, -999.00,9,    39.4,2,   34.41,2,      20.87,2,     -999.0,9,    4.69,2, 20140403,      657, -63.9995,-149.9994,    34.8911,2,       2.20,2,     -999.0,9,     -999.0,9,     -999.0,9,       4.67,2,       1.92,2
320620140320,       P16S,      11,          1,         20,         20,2,20140403,       0544,   -63.9999,  -149.9990,       3212,   499.9,   1.2314,  34.7272,2,  34.7267,2,    183.5,2,   183.3,2,  109.49,2,   32.63,2,    0.01,2,    2.26,2,-999.000,9,-999.000,9, -999.00,9,  2265.6,2,  2353.6,2,   7.6371,6,       20,-999.000,9,-999.0000,9, -999.00,9,   1.2313,2,    0.35,2,  -158.0,2, -999.00,9,    41.3,2,   35.92,2,     -999.0,9,     -999.0,9,    4.73,2, 20140403,      655, -63.9994,-149.9993,    34.8905,2,       2.23,2,     -999.0,9,     -999.0,9,     -999.0,9,       4.66,2,       1.94,2
320620140320,       P16S,      11,          1,         19,         19,2,20140403,       0544,   -63.9999,  -149.9990,       3212,   599.4,   1.1603,  34.7257,2,  34.7253,2,    186.2,2,   185.7,2,  111.34,2,   32.46,2,    0.00,2,    2.26,2,   0.102,2,   0.046,2,    0.15,2,  2265.9,2,  2354.9,2,   7.6416,2,       20,-999.000,9,-999.0000,9, -999.00,9,   1.1608,2,    0.38,2,  -161.3,2, -999.00,9,    41.8,2, -999.00,9,      20.92,2,     -999.0,9,    4.68,2, 20140403,      652, -63.9993,-149.9995,    34.8891,2,       1.78,2,     -999.0,9,     -999.0,9,     -999.0,9,       4.68,2,       1.78,2
320620140320,       P16S,      11,          1,         18,         18,2,20140403,       0544,   -63.9999,  -149.9990,       3212,   699.6,   1.0910,  34.7233,2,  34.7228,2,    189.2,2,   188.8,2,  113.30,2,   32.52,2,    0.00,2,    2.24,2,-999.000,9,-999.000,9, -999.00,9,  -999.0,9,  -999.0,9,-999.0000,9,  -999.00,-999.000,9,-999.0000,9, -999.00,9,   1.0911,2, -999.00,9,  -999.0,9, -999.00,9,    38.6,2, -999.00,9,     -999.0,9,     -999.0,9,    4.72,2, 20140403,      650, -63.9994,-149.9993,    34.8865,2,       1.86,2,     -999.0,9,     -999.0,9,     -999.0,9,       4.72,2,       1.86,2
320620140320,       P16S,      11,          1,         17,         17,2,20140403,       0544,   -63.9999,  -149.9990,       3212,   801.0,   1.0233,  34.7206,2,  34.7224,3,    192.1,2,   189.0,3,  113.69,3,   32.41,2,    0.00,2,    2.23,2,   0.092,2,   0.040,2,    0.00,2,  2265.8,2,  2356.5,2,    7.647,2,       20,-999.000,9,-999.0000,9, -999.00,9,   1.0230,2,    0.40,2,  -156.7,2, -999.00,9,    40.9,2, -999.00,9,      20.17,2,     -999.0,9,    4.68,2, 20140403,      647, -63.9997,-149.9992,    34.8861,3,       1.81,2,     -999.0,9,     -999.0,9,     -999.0,9,       4.68,2,       1.81,2
320620140320,       P16S,      11,          1,         16,         16,2,20140403,       0544,   -63.9999,  -149.9990,       3212,   902.4,   0.9570,  34.7181,2,  34.7171,2,    194.6,2,   194.7,2,  117.11,2,   32.26,2,    0.00,2,    2.24,2,-999.000,9,-999.000,9, -999.00,9,  -999.0,9,  -999.0,9,-999.0000,9,  -999.00,-999.000,9,-999.0000,9, -999.00,9,   0.9574,2, -999.00,9,  -999.0,9, -999.00,9,    41.7,2, -999.00,9,     -999.0,9,     -999.0,9,    4.72,2, 20140403,      644, -63.9998,-149.9991,    34.8808,2,       2.06,2,     -999.0,9,     -999.0,9,     -999.0,9,       4.72,2,       2.06,2
320620140320,       P16S,      11,          1,         15,         15,2,20140403,       0544,   -63.9999,  -149.9990,       3212,  1002.6,   0.8937,  34.7156,2,  34.7151,2,    196.8,2,   196.5,2,  118.77,2,   32.20,2,    0.00,2,    2.24,2,   0.079,2,   0.037,2,    0.06,2,  2264.9,2,  2358.1,2,   7.6558,2,       20,-999.000,9,-999.0000,9, -999.00,9,   0.8935,2,    0.39,2,  -155.3,2, -999.00,9,    38.1,2, -999.00,9,      19.98,2,     -999.0,9,    4.63,2, 20140403,      641, -63.9998,-149.9991,    34.8788,2,       1.76,2,     -999.0,9,     -999.0,9,     -999.0,9,       4.63,2,       1.76,2
320620140320,       P16S,      11,          1,         14,         14,2,20140403,       0544,   -63.9999,  -149.9990,       3212,  1097.7,   0.8367,  34.7132,2,  34.7114,3,    198.2,2,   197.9,2,  120.82,2,   32.29,2,    0.00,2,    2.24,2,-999.000,9,-999.000,9, -999.00,9,  -999.0,9,  -999.0,9,-999.0000,9,  -999.00,-999.000,9,-999.0000,9, -999.00,9,   0.8366,2, -999.00,9,  -999.0,9, -999.00,9,    38.5,2, -999.00,9,     -999.0,9,     -999.0,9,    4.76,2, 20140403,      638, -63.9997,-149.9991,    34.8751,3,       2.03,2,     -999.0,9,     -999.0,9,     -999.0,9,       4.76,2,       2.03,2
320620140320,       P16S,      11,          1,         13,         13,2,20140403,       0544,   -63.9999,  -149.9990,       3212,  1202.7,   0.7853,  34.7113,2,  34.7110,2,    199.8,2,   199.8,2,  122.67,2,   32.33,2,    0.00,2,    2.25,2,   0.076,2,   0.035,2,    0.08,2,  2263.6,2,  2358.6,2,   7.6593,2,       20,-999.000,9,-999.0000,9, -999.00,9,   0.7853,2,    0.42,2,  -163.3,2, -999.00,9,      39,2, -999.00,9,      20.08,2,     -999.0,9,    4.77,2, 20140403,      635, -63.9999,-149.9990,    34.8747,2,       2.13,2,     -999.0,9,     -999.0,9,     -999.0,9,       4.77,2,       2.13,2
320620140320,       P16S,      11,          1,         12,         12,2,20140403,       0544,   -63.9999,  -149.9990,       3212,  1297.7,   0.7407,  34.7100,2,  34.7099,2,    200.9,2,   201.1,2,  123.94,2,   32.32,2,    0.00,2,    2.24,2,-999.000,9,-999.000,9, -999.00,9,  -999.0,9,  -999.0,9,-999.0000,9,  -999.00,-999.000,9,-999.0000,9, -999.00,9,   0.7416,2, -999.00,9,  -999.0,9, -999.00,9,      39,2, -999.00,9,     -999.0,9,     -999.0,9,    4.78,2, 20140403,      632, -63.9997,-149.9992,    34.8735,2,       2.06,2,     -999.0,9,     -999.0,9,     -999.0,9,       4.78,2,       2.06,2
320620140320,       P16S,      11,          1,         11,         11,2,20140403,       0544,   -63.9999,  -149.9990,       3212,  1394.9,   0.7005,  34.7080,2,  34.7081,2,    202.2,2,   202.2,2,  125.12,2,   32.30,2,    0.00,2,    2.24,2,   0.091,6,   0.043,6,    0.03,6,  2264.4,2,  2359.1,2,   7.6606,2,       20,-999.000,9,-999.0000,9, -999.00,9,   0.7008,2,    0.42,2,  -157.3,2, -999.00,9,    37.5,2, -999.00,9,      19.59,6,     -999.0,9,    4.80,2, 20140403,      630, -63.9996,-149.9992,    34.8718,2,       2.13,2,     -999.0,9,     -999.0,9,     -999.0,9,       4.80,2,       2.13,2
320620140320,       P16S,      11,          1,         10,         10,2,20140403,       0544,   -63.9999,  -149.9990,       3212,  1601.5,   0.6187,  34.7056,2,  34.7049,2,    204.5,2,   204.2,2,  127.07,2,   32.26,2,    0.00,2,    2.25,2,-999.000,9,-999.000,9, -999.00,9,  -999.0,9,  -999.0,9,-999.0000,9,  -999.00,-999.000,9,-999.0000,9, -999.00,9,   0.6188,2, -999.00,9,  -999.0,9, -999.00,9,    42.5,4, -999.00,9,     -999.0,9,     -999.0,9,    4.73,2, 20140403,      625, -64.0000,-149.9991,    34.8686,2,       1.99,2,     -999.0,9,     -999.0,9,     -999.0,9,       4.73,2,       1.99,2
320620140320,       P16S,      11,          1,          9,         09,2,20140403,       0544,   -63.9999,  -149.9990,       3212,  1786.7,   0.5441,  34.7041,2,  34.7024,3,    206.4,2,   206.3,2,  127.66,2,   32.30,2,    0.00,2,    2.24,2,   0.136,2,   0.051,2,    0.09,2,  2263.1,2,  2359.9,2,   7.6611,2,       20,-999.000,9,-999.0000,9, -999.00,9,   0.5442,2,    0.46,2,  -160.5,2, -999.00,9,    38.8,2, -999.00,9,      19.76,2,     -999.0,9, -999.00,1, 20140403,      621, -63.9999,-149.9991,    34.8660,3,     -999.0,1,     -999.0,9,     -999.0,9,     -999.0,9,     -999.0,9,     -999.0,9
320620140320,       P16S,      11,          1,          8,         08,2,20140403,       0544,   -63.9999,  -149.9990,       3212,  1989.5,   0.4779,  34.7030,2,  34.7020,2,    208.2,2,   207.7,2,  129.22,2,   32.34,2,    0.00,2,    2.25,2,   0.149,2,   0.060,2,    0.08,2,  -999.0,9,  -999.0,9,-999.0000,9,  -999.00,-999.000,9,-999.0000,9, -999.00,9,   0.4781,2, -999.00,9,  -999.0,9, -999.00,9,    40.6,2, -999.00,9,      20.04,2,     -999.0,9, -999.00,1, 20140403,      616, -64.0000,-149.9990,    34.8656,2,     -999.0,1,     -999.0,9,     -999.0,9,     -999.0,9,     -999.0,9,     -999.0,9
320620140320,       P16S,      11,          1,          7,         07,2,20140403,       0544,   -63.9999,  -149.9990,       3212,  2189.7,   0.4036,  34.7016,2,  34.7008,2,    210.1,2,   209.7,2,  130.39,2,   32.38,2,    0.00,2,    2.24,2,   0.159,2,   0.072,2,    0.10,2,  2262.8,2,  2359.5,2,   7.6626,2,       20,-999.000,9,-999.0000,9, -999.00,9,   0.4039,2,    0.50,2,  -161.4,2, -999.00,9,    40.2,2, -999.00,9,      19.00,2,     -999.0,9, -999.00,1, 20140403,      612, -63.9999,-149.9990,    34.8645,2,     -999.0,1,     -999.0,9,     -999.0,9,     -999.0,9,     -999.0,9,     -999.0,9
320620140320,       P16S,      11,          1,          6,         06,2,20140403,       0544,   -63.9999,  -149.9990,       3212,  2395.6,   0.3416,  34.7008,2,  34.6995,2,    211.8,2,   211.6,2,  131.07,2,   32.29,2,    0.00,2,    2.25,2,   0.233,2,   0.104,2,    0.31,2,  -999.0,9,  -999.0,9,-999.0000,9,  -999.00,-999.000,9,-999.0000,9, -999.00,9,   0.3423,2, -999.00,9,  -999.0,9, -999.00,9,      37,2, -999.00,9,      19.21,2,     -999.0,9, -999.00,1, 20140403,      607, -63.9998,-149.9991,    34.8631,2,     -999.0,1,     -999.0,9,     -999.0,9,     -999.0,9,     -999.0,9,     -999.0,9