BOTTLE,20230715CCHSIOCBG
EXPOCODE,SECT_ID,STNNBR,CASTNO,SAMPNO,BTLNBR,BTLNBR_FLAG_W,DATE,TIME,LATITUDE,LONGITUDE,DEPTH,CTDPRS,CTDTMP,CTDSAL,CTDSAL_FLAG_W,SALNTY,SALNTY_FLAG_W,CTDOXY,CTDOXY_FLAG_W,OXYGEN,OXYGEN_FLAG_W,SILCAT,SILCAT_FLAG_W,NITRAT,NITRAT_FLAG_W,NITRIT,NITRIT_FLAG_W,PHSPHT,PHSPHT_FLAG_W,CFC-11,CFC-11_FLAG_W,CFC-12,CFC-12_FLAG_W,SF6,SF6_FLAG_W,TCARBN,TCARBN_FLAG_W,ALKALI,ALKALI_FLAG_W,PH_TOT,PH_TOT_FLAG_W,PH_TMP,TRITUM,TRITUM_FLAG_W,HELIUM,HELIUM_FLAG_W,DELHE3,DELHE3_FLAG_W,REFTMP,REFTMP_FLAG_W,DELC13,DELC13_FLAG_W,DELC14,DELC14_FLAG_W,DELO18,DELO18_FLAG_W,DOC,DOC_FLAG_W,TDN,TDN_FLAG_W,N2O,N2O_FLAG_W,CALCIUM,CALCIUM_FLAG_W,D15N_NO3,D15N_NO3_FLAG_W,BTL_DATE,BTL_TIME,BTL_LAT,BTL_LON,SALTREF,SALTREF_FLAG_W,D18O_NO3,D18O_NO3_FLAG_W,DSI30,DSI30_FLAG_W,CDOM_NASA,CDOM_NASA_FLAG_W,CDOM_UCSB,CDOM_UCSB_FLAG_W,D15N_NO2+NO3,D15N_NO2+NO3_FLAG_W,D18O_NO2+NO3,D18O_NO2+NO3_FLAG_W
,,,,,,,,,,,METERS,DBAR,ITS-90,PSS-78,,PSS-78,,UMOL/KG,,UMOL/KG,,UMOL/KG,,UMOL/KG,,UMOL/KG,,UMOL/KG,,PMOL/KG,,PMOL/KG,,FMOL/KG,,UMOL/KG,,UMOL/KG,,,,DEG C,TU,,NMOL/KG,,PERCNT,,DEG C,,/MILLE,,/MILLE,,/MILLE,,UMOL/KG,,UMOL/KG,,NMOL/KG,,MMOL/KG,,/MILLE,,,,,,G/KG,,/MILLE,,/MILLE,,,,,,/MILLE,,/MILLE,
320620140320,       P16S,      16,          1,          5,         05,2,20140406,       1838,   -59.0000,  -149.9997,       2838,  2134.6,   0.6002,  34.7039,2,  34.7037,2,    207.6,2,   207.6,2,  127.86,2,   32.56,2,    0.00,2,    2.24,2,   0.324,2,   0.135,2,    0.13,2,  2263.1,2,  2361.2,2,   7.6645,2,       20,-999.000,9,-999.0000,9, -999.00,9,   0.6006,2, -999.00,9,  -999.0,9, -999.00,9,    37.6,2, -999.00,9,      20.03,2,     -999.0,9, -999.00,9, 20140406,     1853, -58.9999,-149.9997,    34.8673,2,     -999.0,9,     -999.0,9,     -999.0,9,     -999.0,9,     -999.0,9,     -999.0,9
320620140320,       P16S,      16,          1,          4,         04,2,20140406,       1838,   -59.0000,  -149.9997,       2838,  2336.3,   0.5558,  34.7019,2,  34.7027,2,    208.5,2,   208.7,2,  127.96,2,   32.53,2,    0.00,2,    2.25,2,   0.349,2,   0.154,2,    0.06,2,  2262.9,2,  2361.3,2,   7.6624,2,       20,-999.000,1,-999.0000,1, -999.00,9,   0.5556,2, -999.00,9,  -999.0,9, -999.00,1,    39.5,2, -999.00,9,      19.68,2,     -999.0,9, -999.00,9, 20140406,     1848, -59.0000,-149.9997,    34.8663,2,     -999.0,9,     -999.0,9,     -999.0,9,     -999.0,9,     -999.0,9,     -999.0,9
320620140320,       P16S,      16,          1,          3,         03,2,20140406,       1838,   -59.0000,  -149.9997,       2838,  2534.8,   0.4851,  34.6996,2,  34.6997,2,    210.1,2,   210.1,2,  128.06,2,   32.56,2,    0.00,2,    2.24,2,   0.396,2,   0.178,2,    0.05,2,  2262.2,2,  2360.2,6,   7.6615,2,       20,-999.000,1,-999.0000,1, -999.00,9,   0.4854,2, -999.00,9,  -999.0,9, -999.00,1,      39,2, -999.00,9,      19.83,2,     -999.0,9, -999.00,9, 20140406,     1844, -59.0000,-149.9997,    34.8634,2,     -999.0,9,     -999.0,9,     -999.0,9,     -999.0,1,     -999.0,9,     -999.0,9
320620140320,       P16S,      16,          1,          2,         02,2,20140406,       1838,   -59.0000,  -149.9997,       2838,  2601.1,   0.4631,  34.6997,2,  34.6999,2,    210.6,2,   210.6,2,  128.55,2,   32.62,2,    0.00,2,    2.25,2,   0.432,2,   0.190,2,    0.21,2,  2262.3,2,  2359.9,2,   7.6609,6,       20,-999.000,1,-999.0000,1, -999.00,9,   0.4637,2, -999.00,9,  -999.0,9, -999.00,1,    37.2,2, -999.00,9,      19.71,2,     -999.0,9, -999.00,9, 20140406,     1841, -59.0000,-149.9997,    34.8635,2,     -999.0,9,     -999.0,9,     -999.0,9,     -999.0,9,     -999.0,9,     -999.0,9
320620140320,       P16S,      16,          1,          1,         01,2,20140406,       1838,   -59.0000,  -149.9997,       2838,  2723.3,   0.4585,  34.6987,2,  34.6989,2,    210.9,2,   210.8,2,  128.74,2,   32.61,2,    0.00,2,    2.24,2,   0.443,2,   0.191,2,    0.24,2,  2263.6,6,  2360.4,2,   7.6615,2,       20,-999.000,1,-999.0000,1, -999.00,9,   0.4582,2, -999.00,9,  -999.0,9, -999.00,1,    39.3,2, -999.00,9,      20.47,2,     -999.0,9, -999.00,9, 20140406,     1838, -59.0000,-149.9996,    34.8625,2,     -999.0,9,     -999.0,9,     -999.0,9,     -999.0,9,     -999.0,9,     -999.0,9