BOTTLE,20230715CCHSIOCBG
EXPOCODE,SECT_ID,STNNBR,CASTNO,SAMPNO,BTLNBR,BTLNBR_FLAG_W,DATE,TIME,LATITUDE,LONGITUDE,DEPTH,CTDPRS,CTDTMP,CTDSAL,CTDSAL_FLAG_W,SALNTY,SALNTY_FLAG_W,CTDOXY,CTDOXY_FLAG_W,OXYGEN,OXYGEN_FLAG_W,SILCAT,SILCAT_FLAG_W,NITRAT,NITRAT_FLAG_W,NITRIT,NITRIT_FLAG_W,PHSPHT,PHSPHT_FLAG_W,CFC-11,CFC-11_FLAG_W,CFC-12,CFC-12_FLAG_W,SF6,SF6_FLAG_W,TCARBN,TCARBN_FLAG_W,ALKALI,ALKALI_FLAG_W,PH_TOT,PH_TOT_FLAG_W,PH_TMP,TRITUM,TRITUM_FLAG_W,HELIUM,HELIUM_FLAG_W,DELHE3,DELHE3_FLAG_W,REFTMP,REFTMP_FLAG_W,DELC13,DELC13_FLAG_W,DELC14,DELC14_FLAG_W,DELO18,DELO18_FLAG_W,DOC,DOC_FLAG_W,TDN,TDN_FLAG_W,N2O,N2O_FLAG_W,CALCIUM,CALCIUM_FLAG_W,D15N_NO3,D15N_NO3_FLAG_W,BTL_DATE,BTL_TIME,BTL_LAT,BTL_LON,SALTREF,SALTREF_FLAG_W,D18O_NO3,D18O_NO3_FLAG_W,DSI30,DSI30_FLAG_W,CDOM_NASA,CDOM_NASA_FLAG_W,CDOM_UCSB,CDOM_UCSB_FLAG_W,D15N_NO2+NO3,D15N_NO2+NO3_FLAG_W,D18O_NO2+NO3,D18O_NO2+NO3_FLAG_W
,,,,,,,,,,,METERS,DBAR,ITS-90,PSS-78,,PSS-78,,UMOL/KG,,UMOL/KG,,UMOL/KG,,UMOL/KG,,UMOL/KG,,UMOL/KG,,PMOL/KG,,PMOL/KG,,FMOL/KG,,UMOL/KG,,UMOL/KG,,,,DEG C,TU,,NMOL/KG,,PERCNT,,DEG C,,/MILLE,,/MILLE,,/MILLE,,UMOL/KG,,UMOL/KG,,NMOL/KG,,MMOL/KG,,/MILLE,,,,,,G/KG,,/MILLE,,/MILLE,,,,,,/MILLE,,/MILLE,
320620140320,       P16S,       3,          1,         33,         33,2,20140330,       0502,   -65.6905,  -161.8955,       4077,     6.3,  -1.0151,  33.8210,2,  33.8237,2,    343.6,2,   345.4,2,   61.51,2,   26.41,2,    0.14,2,    1.86,2,   6.056,2,   3.138,2,    3.04,2,  2175.2,2,  2289.6,2,   7.7291,6,       20,-999.000,9,-999.0000,9, -999.00,9,  -1.0149,2, -999.00,9,  -999.0,9, -999.00,9,    41.7,2,   29.23,2,      16.47,2,     -999.0,9, -999.00,9, 20140330,      622, -65.6917,-161.8943,    33.9832,2,     -999.0,9,     -999.0,9,     -999.0,9,     -999.0,9,     -999.0,9,     -999.0,9
320620140320,       P16S,       3,          1,         32,         32,2,20140330,       0502,   -65.6905,  -161.8955,       4077,    39.4,  -1.0122,  33.8208,2,  33.8231,2,    345.3,2,   345.4,2,   61.51,2,   26.44,2,    0.14,2,    1.88,2,-999.000,9,-999.000,9, -999.00,9,  2176.3,2,  2289.4,2,   7.7283,2,       20,-999.000,9,-999.0000,9, -999.00,9,  -1.0130,2, -999.00,9,  -999.0,9, -999.00,9,    40.9,2,   29.91,2,     -999.0,9,     -999.0,9, -999.00,9, 20140330,      620, -65.6919,-161.8944,    33.9826,2,     -999.0,9,     -999.0,9,     -999.0,9,     -999.0,9,     -999.0,9,     -999.0,9
320620140320,       P16S,       3,          1,         31,         31,2,20140330,       0502,   -65.6905,  -161.8955,       4077,    62.6,  -1.0549,  33.8625,2,  33.8475,2,    344.1,2,   341.9,2,   62.10,2,   26.64,2,    0.13,2,    1.90,2,   5.949,6,   3.126,6,    3.21,6,  2177.8,6,    2291,2,   7.7254,2,       20,-999.000,9,-999.0000,9, -999.00,9,  -1.0885,3, -999.00,9,  -999.0,9, -999.00,9,    41.1,2,   30.67,2,      16.72,6,     -999.0,9, -999.00,9, 20140330,      618, -65.6920,-161.8943,    34.0071,2,     -999.0,9,     -999.0,9,     -999.0,9,     -999.0,9,     -999.0,9,     -999.0,9
320620140320,       P16S,       3,          1,         30,         30,2,20140330,       0502,   -65.6905,  -161.8955,       4077,    62.9,  -1.0385,  33.8508,2,-999.0000,9,   -999.0,9,  -999.0,9, -999.00,9, -999.00,9, -999.00,9, -999.00,9,-999.000,9,-999.000,9, -999.00,9,  -999.0,9,  -999.0,9,-999.0000,9,  -999.00,-999.000,9,-999.0000,9, -999.00,9,  -1.0569,2, -999.00,9,  -999.0,9, -999.00,9,  -999.0,9, -999.00,9,     -999.0,9,     -999.0,9, -999.00,9, 20140330,      618, -65.6920,-161.8944,     -999.0,9,     -999.0,9,     -999.0,9,     -999.0,1,     -999.0,9,     -999.0,9,     -999.0,9
320620140320,       P16S,       3,          1,         29,         29,4,20140330,       0502,   -65.6905,  -161.8955,       4077,    89.9,  -1.4965,  34.2537,2,  33.8475,4,    285.2,2,   341.7,4,   61.98,4,   26.59,4,    0.13,4,    1.90,4,-999.000,9,-999.000,9, -999.00,9,  2176.4,4,  2289.6,4,    7.727,3,       20,-999.000,9,-999.0000,9, -999.00,9,  -1.4976,2, -999.00,9,  -999.0,9, -999.00,9,    39.9,2,   30.77,2,     -999.0,9,     -999.0,9, -999.00,9, 20140330,      616, -65.6920,-161.8944,    34.0071,4,     -999.0,9,     -999.0,9,     -999.0,9,     -999.0,9,     -999.0,9,     -999.0,9
320620140320,       P16S,       3,          1,         28,         28,2,20140330,       0502,   -65.6905,  -161.8955,       4077,   114.5,  -1.3036,  34.3052,2,  34.3068,2,    277.0,2,   275.5,2,   72.52,2,   30.11,2,    0.14,2,    2.14,2,   3.882,2,   2.085,2,    1.78,2,  2222.9,2,  2319.7,2,    7.667,2,       20,-999.000,9,-999.0000,9, -999.00,9,  -1.3056,2, -999.00,9,  -999.0,9, -999.00,9,    39.2,2,   33.23,2,      19.72,2,     -999.0,9, -999.00,9, 20140330,      614, -65.6921,-161.8944,    34.4686,2,     -999.0,9,     -999.0,9,     -999.0,9,     -999.0,9,     -999.0,9,     -999.0,9
320620140320,       P16S,       3,          1,         27,         27,2,20140330,       0502,   -65.6905,  -161.8955,       4077,   138.6,  -0.9625,  34.3589,2,  34.3627,2,    259.4,2,   262.2,2,   75.05,2,   30.67,2,    0.05,2,    2.17,2,-999.000,9,-999.000,9, -999.00,9,  2228.8,2,  2322.1,2,   7.6598,2,       20,-999.000,9,-999.0000,9, -999.00,9,  -0.9613,2, -999.00,9,  -999.0,9, -999.00,9,    39.2,2,   34.02,2,     -999.0,9,     -999.0,9, -999.00,9, 20140330,      612, -65.6922,-161.8943,    34.5248,2,     -999.0,9,     -999.0,9,     -999.0,9,     -999.0,9,     -999.0,9,     -999.0,9
320620140320,       P16S,       3,          1,         25,         25,2,20140330,       0502,   -65.6905,  -161.8955,       4077,   162.6,  -0.3870,  34.4347,2,-999.0000,9,   -999.0,9,  -999.0,9, -999.00,9, -999.00,9, -999.00,9, -999.00,9,-999.000,9,-999.000,9, -999.00,9,  -999.0,9,  -999.0,9,-999.0000,9,  -999.00,-999.000,9,-999.0000,9, -999.00,9,  -0.3812,2, -999.00,9,  -999.0,9, -999.00,9,      42,3,   34.55,2,     -999.0,9,     -999.0,9, -999.00,9, 20140330,      610, -65.6923,-161.8942,     -999.0,9,     -999.0,9,     -999.0,9,     -999.0,1,     -999.0,9,     -999.0,9,     -999.0,9
320620140320,       P16S,       3,          1,         26,         26,2,20140330,       0502,   -65.6905,  -161.8955,       4077,   163.8,  -0.3872,  34.4348,2,  34.4359,2,    243.2,2,   243.6,2,   79.44,2,   31.25,2,    0.02,2,    2.21,2,-999.000,9,-999.000,9, -999.00,9,    2237,2,  2326.7,2,   7.6511,6,       20,-999.000,9,-999.0000,9, -999.00,9,  -0.3850,2, -999.00,9,  -999.0,9, -999.00,9,  -999.0,9, -999.00,9,     -999.0,9,     -999.0,9, -999.00,9, 20140330,      610, -65.6923,-161.8943,    34.5983,2,     -999.0,9,     -999.0,9,     -999.0,9,     -999.0,9,     -999.0,9,     -999.0,9
320620140320,       P16S,       3,          1,         24,         24,2,20140330,       0502,   -65.6905,  -161.8955,       4077,   189.3,   0.4190,  34.5483,2,  34.5458,2,    218.3,2,   214.6,2,   85.88,2,   31.95,2,    0.01,2,    2.24,2,   1.769,2,   0.953,2,    1.07,2,  2247.9,2,  2335.7,2,    7.638,2,       20,-999.000,9,-999.0000,9, -999.00,9,   0.4186,2, -999.00,9,  -999.0,9, -999.00,9,    38.3,2,   37.18,3,      21.76,2,     -999.0,9, -999.00,9, 20140330,      609, -65.6922,-161.8943,    34.7087,2,     -999.0,9,     -999.0,9,     -999.0,9,     -999.0,9,     -999.0,9,     -999.0,9
320620140320,       P16S,       3,          1,         23,         23,2,20140330,       0502,   -65.6905,  -161.8955,       4077,   212.8,   0.7830,  34.6042,2,  34.6094,2,    202.8,2,   201.5,2,   90.07,2,   32.22,2,    0.01,2,    2.26,2,-999.000,9,-999.000,9, -999.00,9,  2252.8,2,  2339.9,2,   7.6329,2,       20,-999.000,9,-999.0000,9, -999.00,9,   0.7830,2, -999.00,9,  -999.0,9, -999.00,9,    38.1,2,   36.05,2,     -999.0,9,     -999.0,9, -999.00,9, 20140330,      607, -65.6920,-161.8942,    34.7726,2,     -999.0,9,     -999.0,9,     -999.0,9,     -999.0,9,     -999.0,9,     -999.0,9
320620140320,       P16S,       3,          1,         22,         22,2,20140330,       0502,   -65.6905,  -161.8955,       4077,   237.0,   0.9864,  34.6363,2,  34.6446,2,    194.5,2,   194.8,2,   92.21,2,   32.36,2,    0.01,2,    2.28,2,-999.000,9,-999.000,9, -999.00,9,  2256.8,2,  2342.3,2,   7.6308,2,       20,-999.000,9,-999.0000,9, -999.00,9,   0.9891,2, -999.00,9,  -999.0,9, -999.00,9,    38.7,2,   34.85,2,     -999.0,9,     -999.0,9, -999.00,9, 20140330,      605, -65.6916,-161.8946,    34.8079,2,     -999.0,9,     -999.0,9,     -999.0,9,     -999.0,9,     -999.0,9,     -999.0,9
320620140320,       P16S,       3,          1,         21,         21,2,20140330,       0502,   -65.6905,  -161.8955,       4077,   266.6,   1.1850,  34.6682,2,  34.6666,2,    188.9,2,   188.8,2,   94.26,2,   32.47,2,    0.01,2,    2.27,2,-999.000,9,-999.000,9, -999.00,9,    2259,2,  2343.4,2,   7.6305,2,       20,-999.000,9,-999.0000,9, -999.00,9,   1.1870,2, -999.00,9,  -999.0,9, -999.00,9,    41.5,3,   35.41,2,     -999.0,9,     -999.0,9, -999.00,9, 20140330,      603, -65.6916,-161.8947,    34.8300,2,     -999.0,9,     -999.0,9,     -999.0,9,     -999.0,9,     -999.0,9,     -999.0,9
320620140320,       P16S,       3,          1,         20,         20,2,20140330,       0502,   -65.6905,  -161.8955,       4077,   319.3,   1.4007,  34.7140,2,  34.7149,2,    181.0,2,   181.6,2,   99.23,2,   32.55,2,    0.00,2,    2.27,2,   0.329,2,   0.168,2,    0.12,2,    2264,2,  2348.5,2,   7.6311,2,       20,-999.000,9,-999.0000,9, -999.00,9,   1.4008,2, -999.00,9,  -999.0,9, -999.00,9,    38.6,2,   35.54,2,      21.63,2,     -999.0,9, -999.00,9, 20140330,      601, -65.6916,-161.8946,    34.8786,2,     -999.0,9,     -999.0,9,     -999.0,9,     -999.0,9,     -999.0,9,     -999.0,9
320620140320,       P16S,       3,          1,         19,         19,2,20140330,       0502,   -65.6905,  -161.8955,       4077,   367.7,   1.4064,  34.7260,2,  34.7266,2,    181.2,2,   181.4,2,  101.96,2,   32.43,2,    0.00,2,    2.28,2,-999.000,9,-999.000,9, -999.00,9,  2263.8,2,  2351.8,2,    7.635,2,       20,-999.000,9,-999.0000,9, -999.00,9,   1.4079,2, -999.00,9,  -999.0,9, -999.00,9,    39.3,2,   35.38,2,     -999.0,9,     -999.0,9, -999.00,9, 20140330,      558, -65.6919,-161.8945,    34.8904,2,     -999.0,9,     -999.0,9,     -999.0,9,     -999.0,9,     -999.0,9,     -999.0,9
320620140320,       P16S,       3,          1,         18,         18,2,20140330,       0502,   -65.6905,  -161.8955,       4077,   420.6,   1.3670,  34.7271,2,  34.7268,2,    182.2,2,   182.8,2,  103.82,2,   32.43,2,    0.00,2,    2.27,2,-999.000,9,-999.000,9, -999.00,9,  2263.6,2,  2353.1,2,    7.635,2,       20,-999.000,9,-999.0000,9, -999.00,9,   1.3664,2, -999.00,9,  -999.0,9, -999.00,9,    40.9,3,   35.44,2,     -999.0,9,     -999.0,9, -999.00,9, 20140330,      556, -65.6919,-161.8947,    34.8906,2,     -999.0,9,     -999.0,9,     -999.0,9,     -999.0,9,     -999.0,9,     -999.0,9
320620140320,       P16S,       3,          1,         17,         17,2,20140330,       0502,   -65.6905,  -161.8955,       4077,   467.9,   1.3225,  34.7282,2,  34.7339,3,    183.3,2,   183.2,2,  105.57,2,   32.41,2,    0.00,2,    2.27,2,   0.161,2,   0.077,2,    0.02,2,  2263.7,2,  2353.4,2,   7.6367,2,       20,-999.000,9,-999.0000,9, -999.00,9,   1.3237,2, -999.00,9,  -999.0,9, -999.00,9,      38,2,   35.15,2,      21.09,2,     -999.0,9, -999.00,9, 20140330,      554, -65.6920,-161.8945,    34.8977,3,     -999.0,9,     -999.0,9,     -999.0,9,     -999.0,9,     -999.0,9,     -999.0,9
320620140320,       P16S,       3,          1,         16,         16,2,20140330,       0502,   -65.6905,  -161.8955,       4077,   538.0,   1.2728,  34.7279,2,  34.7364,3,    184.8,2,   184.7,2,  107.62,2,   32.38,2,    0.00,2,    2.27,2,-999.000,9,-999.000,9, -999.00,9,  2263.5,2,  2354.4,2,   7.6478,2,       20,-999.000,9,-999.0000,9, -999.00,9,   1.2730,2, -999.00,9,  -999.0,9, -999.00,9,    38.4,2,   34.23,2,     -999.0,9,     -999.0,9, -999.00,9, 20140330,      551, -65.6921,-161.8944,    34.9002,3,     -999.0,9,     -999.0,9,     -999.0,9,     -999.0,9,     -999.0,9,     -999.0,9
320620140320,       P16S,       3,          1,         15,         15,2,20140330,       0502,   -65.6905,  -161.8955,       4077,   638.1,   1.2063,  34.7262,2,  34.7372,3,    186.9,2,   187.0,2,  109.58,2,   32.36,2,    0.00,2,    2.27,2,   0.123,2,   0.054,2,    0.04,2,    2264,2,  2355.9,2,   7.6452,6,       20,-999.000,9,-999.0000,9, -999.00,9,   1.2063,2, -999.00,9,  -999.0,9, -999.00,9,    39.3,2, -999.00,9,      21.36,2,     -999.0,9, -999.00,9, 20140330,      548, -65.6920,-161.8945,    34.9010,3,     -999.0,9,     -999.0,9,     -999.0,9,     -999.0,9,     -999.0,9,     -999.0,9
320620140320,       P16S,       3,          1,         14,         14,2,20140330,       0502,   -65.6905,  -161.8955,       4077,   739.6,   1.1357,  34.7237,2,  34.7263,2,    189.5,2,   189.7,2,  111.53,2,   32.24,2,    0.00,2,    2.26,2,-999.000,9,-999.000,9, -999.00,9,  -999.0,9,  -999.0,9,-999.0000,9,  -999.00,-999.000,9,-999.0000,9, -999.00,9,   1.1351,2, -999.00,9,  -999.0,9, -999.00,9,    39.8,2, -999.00,9,     -999.0,9,     -999.0,9, -999.00,9, 20140330,      545, -65.6919,-161.8945,    34.8900,2,     -999.0,9,     -999.0,9,     -999.0,9,     -999.0,9,     -999.0,9,     -999.0,9
320620140320,       P16S,       3,          1,         13,         13,2,20140330,       0502,   -65.6905,  -161.8955,       4077,   841.9,   1.0653,  34.7212,2,  34.7213,2,    192.0,2,   192.0,2,  113.58,2,   32.22,2,    0.00,2,    2.25,2,   0.096,2,   0.045,2,    0.00,2,  2263.4,2,  2358.9,2,   7.6519,2,       20,-999.000,9,-999.0000,9, -999.00,9,   1.0658,2, -999.00,9,  -999.0,9, -999.00,9,    38.5,2, -999.00,9,      21.15,2,     -999.0,9, -999.00,9, 20140330,      542, -65.6916,-161.8947,    34.8851,2,     -999.0,9,     -999.0,9,     -999.0,9,     -999.0,9,     -999.0,9,     -999.0,9
320620140320,       P16S,       3,          1,         12,         12,2,20140330,       0502,   -65.6905,  -161.8955,       4077,   941.4,   1.0098,  34.7195,2,  34.7205,2,    194.4,2,   194.6,2,  115.24,2,   32.15,2,    0.00,2,    2.24,2,-999.000,9,-999.000,9, -999.00,9,  -999.0,9,  -999.0,9,-999.0000,9,  -999.00,-999.000,9,-999.0000,9, -999.00,9,   1.0098,2, -999.00,9,  -999.0,9, -999.00,9,    40.3,2, -999.00,9,     -999.0,9,     -999.0,9, -999.00,9, 20140330,      538, -65.6916,-161.8947,    34.8843,2,     -999.0,9,     -999.0,9,     -999.0,9,     -999.0,9,     -999.0,9,     -999.0,9
320620140320,       P16S,       3,          1,         11,         11,2,20140330,       0502,   -65.6905,  -161.8955,       4077,  1043.5,   0.9461,  34.7166,2,  34.7219,3,    196.4,2,   196.8,2,  117.28,2,   32.15,2,    0.00,2,    2.25,2,   0.085,2,   0.029,2,    0.11,2,  2262.7,2,  2360.3,2,   7.6574,2,       20,-999.000,9,-999.0000,9, -999.00,9,   0.9458,2, -999.00,9,  -999.0,9, -999.00,9,    39.1,2, -999.00,9,      20.40,2,     -999.0,9, -999.00,9, 20140330,      535, -65.6914,-161.8949,    34.8856,3,     -999.0,9,     -999.0,9,     -999.0,9,     -999.0,9,     -999.0,9,     -999.0,9
320620140320,       P16S,       3,          1,         10,         10,2,20140330,       0502,   -65.6905,  -161.8955,       4077,  1143.0,   0.8887,  34.7144,2,  34.7232,3,    197.8,2,   197.9,2,  118.75,2,   32.17,2,    0.00,2,    2.26,2,-999.000,9,-999.000,9, -999.00,9,  -999.0,9,  -999.0,9,-999.0000,9,  -999.00,-999.000,9,-999.0000,9, -999.00,9,   0.8885,2, -999.00,9,  -999.0,9, -999.00,9,    39.3,2, -999.00,9,     -999.0,9,     -999.0,9, -999.00,9, 20140330,      532, -65.6913,-161.8949,    34.8869,3,     -999.0,9,     -999.0,9,     -999.0,9,     -999.0,9,     -999.0,9,     -999.0,9
320620140320,       P16S,       3,          1,          9,         09,2,20140330,       0502,   -65.6905,  -161.8955,       4077,  1240.6,   0.8413,  34.7125,2,  34.7202,3,    199.2,2,   199.0,2,  120.60,2,   32.19,2,    0.00,2,    2.25,2,   0.086,2,   0.024,2,    0.06,2,  2261.7,2,  2360.4,2,     7.66,2,       20,-999.000,9,-999.0000,9, -999.00,9,   0.8412,2, -999.00,9,  -999.0,9, -999.00,9,    41.4,2, -999.00,9,      20.01,2,     -999.0,9, -999.00,9, 20140330,      529, -65.6913,-161.8949,    34.8839,3,     -999.0,9,     -999.0,9,     -999.0,9,     -999.0,9,     -999.0,9,     -999.0,9
320620140320,       P16S,       3,          1,          8,         08,2,20140330,       0502,   -65.6905,  -161.8955,       4077,  1341.8,   0.7937,  34.7106,2,  34.7119,2,    200.7,2,   200.3,2,  121.87,2,   32.25,2,    0.00,2,    2.26,2,-999.000,9,-999.000,9, -999.00,9,  -999.0,9,  -999.0,9,-999.0000,9,  -999.00,-999.000,9,-999.0000,9, -999.00,9,   0.7933,2, -999.00,9,  -999.0,9, -999.00,9,    40.6,2, -999.00,9,     -999.0,9,     -999.0,9, -999.00,9, 20140330,      525, -65.6913,-161.8950,    34.8756,2,     -999.0,9,     -999.0,9,     -999.0,9,     -999.0,9,     -999.0,9,     -999.0,9
320620140320,       P16S,       3,          1,          7,         07,2,20140330,       0502,   -65.6905,  -161.8955,       4077,  1443.7,   0.7472,  34.7092,2,  34.7082,2,    201.7,2,   202.0,2,  123.43,2,   32.25,2,    0.00,2,    2.26,2,   0.095,2,   0.027,2,    0.14,2,  2262.5,2,  2361.1,2,   7.6627,2,       20,-999.000,9,-999.0000,9, -999.00,9,   0.7469,2, -999.00,9,  -999.0,9, -999.00,9,    40.2,2, -999.00,9,      20.51,2,     -999.0,9, -999.00,9, 20140330,      522, -65.6912,-161.8950,    34.8718,2,     -999.0,9,     -999.0,9,     -999.0,9,     -999.0,9,     -999.0,9,     -999.0,9
320620140320,       P16S,       3,          1,          6,         06,2,20140330,       0502,   -65.6905,  -161.8955,       4077,  1543.2,   0.6986,  34.7074,2,  34.7076,2,    202.9,2,   203.0,2,  124.70,2,   32.30,2,    0.00,2,    2.25,2,-999.000,9,-999.000,9, -999.00,9,  -999.0,9,  -999.0,9,-999.0000,9,  -999.00,-999.000,9,-999.0000,9, -999.00,9,   0.6987,2, -999.00,9,  -999.0,9, -999.00,9,    37.8,2, -999.00,9,     -999.0,9,     -999.0,9, -999.00,9, 20140330,      519, -65.6912,-161.8949,    34.8712,2,     -999.0,9,     -999.0,9,     -999.0,9,     -999.0,9,     -999.0,9,     -999.0,9
320620140320,       P16S,       3,          1,          5,         05,2,20140330,       0502,   -65.6905,  -161.8955,       4077,  1648.7,   0.6584,  34.7055,2,  34.7060,2,    203.9,2,   205.0,2,  126.07,2,   32.32,2,    0.00,2,    2.26,2,   0.111,2,   0.050,2,    0.16,2,  2262.3,2,  2360.9,2,   7.6653,2,       20,-999.000,9,-999.0000,9, -999.00,9,   0.6582,2, -999.00,9,  -999.0,9, -999.00,9,    37.9,2, -999.00,9,      20.36,2,     -999.0,9, -999.00,9, 20140330,      515, -65.6909,-161.8953,    34.8696,2,     -999.0,9,     -999.0,9,     -999.0,9,     -999.0,9,     -999.0,9,     -999.0,9
320620140320,       P16S,       3,          1,          4,         04,2,20140330,       0502,   -65.6905,  -161.8955,       4077,  1748.5,   0.6247,  34.7046,2,  34.7052,2,    204.8,2,   204.9,2,  126.75,2,   32.32,2,    0.00,2,    2.25,2,-999.000,9,-999.000,9, -999.00,9,  -999.0,9,  -999.0,9,-999.0000,9,  -999.00,-999.000,9,-999.0000,9, -999.00,9,   0.6250,2, -999.00,9,  -999.0,9, -999.00,9,    38.7,2, -999.00,9,     -999.0,9,     -999.0,9, -999.00,9, 20140330,      512, -65.6909,-161.8952,    34.8688,2,     -999.0,9,     -999.0,9,     -999.0,9,     -999.0,9,     -999.0,9,     -999.0,9
320620140320,       P16S,       3,          1,          3,         03,2,20140330,       0502,   -65.6905,  -161.8955,       4077,  1846.7,   0.5881,  34.7043,2,  34.7034,2,    205.5,2,   205.7,2,  127.24,2,   32.40,2,    0.00,2,    2.26,2,   0.126,6,   0.060,6,    0.04,6,  2262.9,2,  2361.2,6,   7.6618,2,       20,-999.000,9,-999.0000,9, -999.00,9,   0.5891,2, -999.00,9,  -999.0,9, -999.00,9,    38.5,2, -999.00,9,      19.65,2,     -999.0,9, -999.00,9, 20140330,      509, -65.6905,-161.8955,    34.8670,2,     -999.0,9,     -999.0,9,     -999.0,9,     -999.0,9,     -999.0,9,     -999.0,9