BOTTLE,20230715CCHSIOCBG
EXPOCODE,SECT_ID,STNNBR,CASTNO,SAMPNO,BTLNBR,BTLNBR_FLAG_W,DATE,TIME,LATITUDE,LONGITUDE,DEPTH,CTDPRS,CTDTMP,CTDSAL,CTDSAL_FLAG_W,SALNTY,SALNTY_FLAG_W,CTDOXY,CTDOXY_FLAG_W,OXYGEN,OXYGEN_FLAG_W,SILCAT,SILCAT_FLAG_W,NITRAT,NITRAT_FLAG_W,NITRIT,NITRIT_FLAG_W,PHSPHT,PHSPHT_FLAG_W,CFC-11,CFC-11_FLAG_W,CFC-12,CFC-12_FLAG_W,SF6,SF6_FLAG_W,TCARBN,TCARBN_FLAG_W,ALKALI,ALKALI_FLAG_W,PH_TOT,PH_TOT_FLAG_W,PH_TMP,TRITUM,TRITUM_FLAG_W,HELIUM,HELIUM_FLAG_W,DELHE3,DELHE3_FLAG_W,REFTMP,REFTMP_FLAG_W,DELC13,DELC13_FLAG_W,DELC14,DELC14_FLAG_W,DELO18,DELO18_FLAG_W,DOC,DOC_FLAG_W,TDN,TDN_FLAG_W,N2O,N2O_FLAG_W,CALCIUM,CALCIUM_FLAG_W,D15N_NO3,D15N_NO3_FLAG_W,BTL_DATE,BTL_TIME,BTL_LAT,BTL_LON,SALTREF,SALTREF_FLAG_W,D18O_NO3,D18O_NO3_FLAG_W,DSI30,DSI30_FLAG_W,CDOM_NASA,CDOM_NASA_FLAG_W,CDOM_UCSB,CDOM_UCSB_FLAG_W,D15N_NO2+NO3,D15N_NO2+NO3_FLAG_W,D18O_NO2+NO3,D18O_NO2+NO3_FLAG_W
,,,,,,,,,,,METERS,DBAR,ITS-90,PSS-78,,PSS-78,,UMOL/KG,,UMOL/KG,,UMOL/KG,,UMOL/KG,,UMOL/KG,,UMOL/KG,,PMOL/KG,,PMOL/KG,,FMOL/KG,,UMOL/KG,,UMOL/KG,,,,DEG C,TU,,NMOL/KG,,PERCNT,,DEG C,,/MILLE,,/MILLE,,/MILLE,,UMOL/KG,,UMOL/KG,,NMOL/KG,,MMOL/KG,,/MILLE,,,,,,G/KG,,/MILLE,,/MILLE,,,,,,/MILLE,,/MILLE,
320620140320,       P16S,      12,          1,         36,         36,2,20140403,       1312,   -63.4998,  -149.9981,       3358,     6.3,   0.1499,  33.7473,2,  33.7493,2,    341.1,2,   341.1,2,   53.06,2,   23.97,2,    0.20,2,    1.77,2,-999.000,9,-999.000,9, -999.00,9,  2167.4,6,  2283.8,2,   7.7439,2,       20,-999.000,9,-999.0000,9, -999.00,9,   0.1498,2, -999.00,9,  -999.0,9, -999.00,9,  -999.0,9, -999.00,9,     -999.0,9,     -999.0,9, -999.00,9, 20140403,     1454, -63.5002,-149.9982,    33.9085,2,     -999.0,9,     -999.0,9,     -999.0,9,     -999.0,9,     -999.0,9,     -999.0,9
320620140320,       P16S,      12,          1,         35,         35,2,20140403,       1312,   -63.4998,  -149.9981,       3358,    33.9,   0.1509,  33.7471,2,  33.7491,2,    341.2,2,   341.1,2,   52.96,2,   24.39,2,    0.20,2,    1.79,2,-999.000,9,-999.000,9, -999.00,9,  2168.3,2,    2284,2,    7.744,6,       20,-999.000,9,-999.0000,9, -999.00,9,   0.1503,2, -999.00,9,  -999.0,9, -999.00,9,  -999.0,9, -999.00,9,     -999.0,9,     -999.0,9, -999.00,9, 20140403,     1453, -63.5004,-149.9982,    33.9083,2,     -999.0,9,     -999.0,9,     -999.0,9,     -999.0,9,     -999.0,9,     -999.0,9
320620140320,       P16S,      12,          1,         34,         34,2,20140403,       1312,   -63.4998,  -149.9981,       3358,    60.5,   0.1473,  33.7474,2,  33.7503,2,    341.7,2,   341.1,2,   53.06,2,   24.47,2,    0.20,2,    1.80,2,-999.000,9,-999.000,9, -999.00,9,  2166.8,2,  2284.6,6,   7.7428,2,       20,-999.000,9,-999.0000,9, -999.00,9,   0.1464,2, -999.00,9,  -999.0,9, -999.00,9,  -999.0,9, -999.00,9,     -999.0,9,     -999.0,9, -999.00,9, 20140403,     1450, -63.5007,-149.9982,    33.9094,2,     -999.0,9,     -999.0,9,     -999.0,9,     -999.0,9,     -999.0,9,     -999.0,9
320620140320,       P16S,      12,          1,         33,         33,2,20140403,       1312,   -63.4998,  -149.9981,       3358,    86.3,  -0.7103,  34.1036,2,  34.0891,2,    294.7,2,   317.6,2,   61.65,2,   26.96,2,    0.17,2,    1.97,2,-999.000,9,-999.000,9, -999.00,9,  2199.6,2,    2306,2,   7.7054,2,       20,-999.000,9,-999.0000,9, -999.00,9,  -0.6936,2, -999.00,9,  -999.0,9, -999.00,9,  -999.0,9, -999.00,9,     -999.0,9,     -999.0,9, -999.00,9, 20140403,     1449, -63.5005,-149.9980,    34.2498,2,     -999.0,9,     -999.0,9,     -999.0,9,     -999.0,9,     -999.0,9,     -999.0,9
320620140320,       P16S,      12,          1,         32,         32,2,20140403,       1312,   -63.4998,  -149.9981,       3358,   111.0,  -0.2823,  34.3886,2,  34.3834,2,    255.0,2,   254.9,2,   76.28,2,   30.37,2,    0.21,2,    2.19,2,-999.000,9,-999.000,9, -999.00,9,  2234.5,2,  2323.1,2,   7.6489,2,       20,-999.000,9,-999.0000,9, -999.00,9,  -0.3014,2, -999.00,9,  -999.0,9, -999.00,9,  -999.0,9, -999.00,9,     -999.0,9,     -999.0,9, -999.00,9, 20140403,     1447, -63.5004,-149.9980,    34.5455,2,     -999.0,9,     -999.0,9,     -999.0,9,     -999.0,9,     -999.0,9,     -999.0,9
320620140320,       P16S,      12,          1,         31,         31,2,20140403,       1312,   -63.4998,  -149.9981,       3358,   134.2,   0.5732,  34.5637,2,  34.5642,2,    219.9,2,   208.4,2,   88.38,2,   32.21,2,    0.05,2,    2.28,2,-999.000,9,-999.000,9, -999.00,9,  2254.6,2,  2335.4,2,   7.6212,2,       20,-999.000,9,-999.0000,9, -999.00,9,   0.6036,3, -999.00,9,  -999.0,9, -999.00,9,  -999.0,9, -999.00,9,     -999.0,9,     -999.0,9, -999.00,9, 20140403,     1445, -63.5001,-149.9981,    34.7272,2,     -999.0,9,     -999.0,9,     -999.0,9,     -999.0,9,     -999.0,9,     -999.0,9
320620140320,       P16S,      12,          1,         30,         30,2,20140403,       1312,   -63.4998,  -149.9981,       3358,   159.6,   1.2173,  34.6832,2,  34.6811,2,    191.0,2,   179.8,2,   97.95,2,   33.07,2,    0.01,2,    2.31,2,-999.000,9,-999.000,9, -999.00,9,    2268,2,  2344.5,2,   7.6087,2,       20,-999.000,9,-999.0000,9, -999.00,9,   1.2222,2, -999.00,9,  -999.0,9, -999.00,9,  -999.0,9, -999.00,9,     -999.0,9,     -999.0,9, -999.00,9, 20140403,     1444, -63.5000,-149.9981,    34.8446,2,     -999.0,9,     -999.0,9,     -999.0,9,     -999.0,9,     -999.0,9,     -999.0,9
320620140320,       P16S,      12,          1,         29,         29,2,20140403,       1312,   -63.4998,  -149.9981,       3358,   184.4,   1.3879,  34.7152,2,  34.7163,2,    176.6,2,   174.6,2,  100.58,2,   33.05,2,    0.01,2,    2.32,2,-999.000,9,-999.000,9, -999.00,9,  2268.9,2,  2348.4,2,   7.6114,2,       20,-999.000,9,-999.0000,9, -999.00,9,   1.3871,2, -999.00,9,  -999.0,9, -999.00,9,  -999.0,9, -999.00,9,     -999.0,9,     -999.0,9, -999.00,9, 20140403,     1441, -63.4998,-149.9982,    34.8800,2,     -999.0,9,     -999.0,9,     -999.0,9,     -999.0,9,     -999.0,9,     -999.0,9
320620140320,       P16S,      12,          1,         28,         28,2,20140403,       1312,   -63.4998,  -149.9981,       3358,   215.6,   1.4148,  34.7250,2,  34.7253,2,    175.0,2,   174.6,2,  101.95,2,   32.95,2,    0.00,2,    2.30,2,-999.000,9,-999.000,9, -999.00,9,  2269.5,2,  2349.6,2,    7.616,2,       20,-999.000,9,-999.0000,9, -999.00,9,   1.4147,2, -999.00,9,  -999.0,9, -999.00,9,  -999.0,9, -999.00,9,     -999.0,9,     -999.0,9, -999.00,9, 20140403,     1439, -63.4997,-149.9982,    34.8890,2,     -999.0,9,     -999.0,9,     -999.0,9,     -999.0,9,     -999.0,9,     -999.0,9
320620140320,       P16S,      12,          1,         27,         27,2,20140403,       1312,   -63.4998,  -149.9981,       3358,   265.1,   1.3787,  34.7278,2,  34.7282,2,    175.6,2,   175.5,2,  104.09,2,   32.89,2,    0.00,2,    2.29,2,-999.000,9,-999.000,9, -999.00,9,  2269.7,2,  2351.1,2,   7.6209,2,       20,-999.000,9,-999.0000,9, -999.00,9,   1.3786,2, -999.00,9,  -999.0,9, -999.00,9,  -999.0,9, -999.00,9,     -999.0,9,     -999.0,9, -999.00,9, 20140403,     1437, -63.4998,-149.9982,    34.8920,2,     -999.0,9,     -999.0,9,     -999.0,9,     -999.0,9,     -999.0,9,     -999.0,9
320620140320,       P16S,      12,          1,         26,         26,2,20140403,       1312,   -63.4998,  -149.9981,       3358,   314.2,   1.3330,  34.7288,2,  34.7296,2,    177.6,2,   177.6,2,  105.66,2,   32.79,2,    0.00,2,    2.30,2,-999.000,9,-999.000,9, -999.00,9,    2271,2,  2352.2,2,   7.6264,2,       20,-999.000,9,-999.0000,9, -999.00,9,   1.3354,2, -999.00,9,  -999.0,9, -999.00,9,  -999.0,9, -999.00,9,     -999.0,9,     -999.0,9, -999.00,9, 20140403,     1435, -63.4998,-149.9982,    34.8933,2,     -999.0,9,     -999.0,9,     -999.0,9,     -999.0,9,     -999.0,9,     -999.0,9
320620140320,       P16S,      12,          1,         25,         25,2,20140403,       1312,   -63.4998,  -149.9981,       3358,   365.5,   1.3025,  34.7286,2,  34.7284,2,    179.2,2,   178.7,2,  106.34,2,   32.64,2,    0.00,2,    2.29,2,-999.000,9,-999.000,9, -999.00,9,  2269.1,2,  2352.5,2,   7.6288,2,       20,-999.000,9,-999.0000,9, -999.00,9,   1.3027,2, -999.00,9,  -999.0,9, -999.00,9,  -999.0,9, -999.00,9,     -999.0,9,     -999.0,9, -999.00,9, 20140403,     1433, -63.4998,-149.9982,    34.8921,2,     -999.0,9,     -999.0,9,     -999.0,9,     -999.0,9,     -999.0,9,     -999.0,9
320620140320,       P16S,      12,          1,         24,         24,2,20140403,       1312,   -63.4998,  -149.9981,       3358,   416.0,   1.2519,  34.7279,2,  34.7282,2,    180.7,2,   181.1,2,  108.49,2,   32.59,2,    0.00,2,    2.29,2,-999.000,9,-999.000,9, -999.00,9,  2268.2,2,  2353.3,2,   7.6325,2,       20,-999.000,9,-999.0000,9, -999.00,9,   1.2518,2, -999.00,9,  -999.0,9, -999.00,9,  -999.0,9, -999.00,9,     -999.0,9,     -999.0,9, -999.00,9, 20140403,     1430, -63.4998,-149.9982,    34.8919,2,     -999.0,9,     -999.0,9,     -999.0,9,     -999.0,9,     -999.0,9,     -999.0,9
320620140320,       P16S,      12,          1,         23,         23,2,20140403,       1312,   -63.4998,  -149.9981,       3358,   465.8,   1.2083,  34.7268,2,  34.7276,2,    182.8,2,   182.7,2,  110.05,2,   32.53,2,    0.00,2,    2.29,2,-999.000,9,-999.000,9, -999.00,9,    2269,2,  2353.7,2,   7.6336,2,       20,-999.000,9,-999.0000,9, -999.00,9,   1.2089,2, -999.00,9,  -999.0,9, -999.00,9,  -999.0,9, -999.00,9,     -999.0,9,     -999.0,9, -999.00,9, 20140403,     1428, -63.4998,-149.9982,    34.8913,2,     -999.0,9,     -999.0,9,     -999.0,9,     -999.0,9,     -999.0,9,     -999.0,9
320620140320,       P16S,      12,          1,         22,         22,2,20140403,       1312,   -63.4998,  -149.9981,       3358,   534.7,   1.1637,  34.7254,2,  34.7258,2,    184.8,2,   184.8,2,  110.93,2,   32.43,2,    0.00,2,    2.29,2,-999.000,9,-999.000,9, -999.00,9,  2267.9,2,    2355,2,   7.6387,2,       20,-999.000,9,-999.0000,9, -999.00,9,   1.1633,2, -999.00,9,  -999.0,9, -999.00,9,  -999.0,9, -999.00,9,     -999.0,9,     -999.0,9, -999.00,9, 20140403,     1426, -63.5001,-149.9981,    34.8895,2,     -999.0,9,     -999.0,9,     -999.0,9,     -999.0,9,     -999.0,9,     -999.0,9
320620140320,       P16S,      12,          1,         21,         21,2,20140403,       1312,   -63.4998,  -149.9981,       3358,   635.4,   1.0903,  34.7230,2,  34.7238,2,    188.0,2,   187.8,2,  113.27,2,   32.47,2,    0.00,2,    2.29,2,-999.000,9,-999.000,9, -999.00,9,  2267.4,2,  2355.6,2,   7.6437,2,       20,-999.000,9,-999.0000,9, -999.00,9,   1.0897,2, -999.00,9,  -999.0,9, -999.00,9,  -999.0,9, -999.00,9,     -999.0,9,     -999.0,9, -999.00,9, 20140403,     1423, -63.5001,-149.9981,    34.8875,2,     -999.0,9,     -999.0,9,     -999.0,9,     -999.0,9,     -999.0,9,     -999.0,9
320620140320,       P16S,      12,          1,         20,         20,2,20140403,       1312,   -63.4998,  -149.9981,       3358,   735.0,   1.0256,  34.7211,2,  34.7216,2,    190.6,2,   190.4,2,  114.93,2,   32.35,2,    0.00,2,    2.29,2,-999.000,9,-999.000,9, -999.00,9,  -999.0,9,  -999.0,9,-999.0000,9,  -999.00,-999.000,9,-999.0000,9, -999.00,9,   1.0259,2, -999.00,9,  -999.0,9, -999.00,9,  -999.0,9, -999.00,9,     -999.0,9,     -999.0,9, -999.00,9, 20140403,     1420, -63.4999,-149.9982,    34.8853,2,     -999.0,9,     -999.0,9,     -999.0,9,     -999.0,9,     -999.0,9,     -999.0,9
320620140320,       P16S,      12,          1,         19,         19,2,20140403,       1312,   -63.4998,  -149.9981,       3358,   835.0,   0.9669,  34.7189,2,  34.7198,2,    193.3,2,   192.9,2,  116.01,2,   32.32,2,    0.00,2,    2.29,2,-999.000,9,-999.000,9, -999.00,9,  2265.9,2,  2357.5,2,   7.6505,2,       20,-999.000,9,-999.0000,9, -999.00,9,   0.9668,2, -999.00,9,  -999.0,9, -999.00,9,  -999.0,9, -999.00,9,     -999.0,9,     -999.0,9, -999.00,9, 20140403,     1417, -63.5000,-149.9982,    34.8836,2,     -999.0,9,     -999.0,9,     -999.0,9,     -999.0,9,     -999.0,9,     -999.0,9
320620140320,       P16S,      12,          1,         18,         18,2,20140403,       1312,   -63.4998,  -149.9981,       3358,   936.1,   0.9113,  34.7165,2,  34.7169,2,    195.2,2,   194.9,2,  118.06,2,   32.25,2,    0.00,2,    2.29,2,-999.000,9,-999.000,9, -999.00,9,  -999.0,9,  -999.0,9,-999.0000,9,  -999.00,-999.000,9,-999.0000,9, -999.00,9,   0.9112,2, -999.00,9,  -999.0,9, -999.00,9,  -999.0,9, -999.00,9,     -999.0,9,     -999.0,9, -999.00,9, 20140403,     1414, -63.4999,-149.9982,    34.8806,2,     -999.0,9,     -999.0,9,     -999.0,9,     -999.0,9,     -999.0,9,     -999.0,9
320620140320,       P16S,      12,          1,         17,         17,2,20140403,       1312,   -63.4998,  -149.9981,       3358,  1035.9,   0.8520,  34.7138,2,  34.7149,2,    197.4,2,   197.3,2,  119.23,2,   32.10,2,    0.00,2,    2.27,2,   0.083,2,   0.027,2,    0.02,2,  2264.8,2,  2358.7,2,   7.6565,2,       20,-999.000,9,-999.0000,9, -999.00,9,   0.8519,2, -999.00,9,  -999.0,9, -999.00,9,  -999.0,9, -999.00,9,      19.42,2,     -999.0,9, -999.00,9, 20140403,     1411, -63.4999,-149.9981,    34.8786,2,     -999.0,9,     -999.0,9,     -999.0,9,     -999.0,9,     -999.0,9,     -999.0,9
320620140320,       P16S,      12,          1,         16,         16,2,20140403,       1312,   -63.4998,  -149.9981,       3358,  1134.4,   0.7999,  34.7121,2,  34.7125,2,    199.0,2,   199.1,2,  120.99,2,   32.17,2,    0.00,2,    2.25,2,-999.000,9,-999.000,9, -999.00,9,  -999.0,9,  -999.0,9,-999.0000,9,  -999.00,-999.000,9,-999.0000,9, -999.00,9,   0.8000,2, -999.00,9,  -999.0,9, -999.00,9,  -999.0,9, -999.00,9,     -999.0,9,     -999.0,9, -999.00,9, 20140403,     1408, -63.5001,-149.9981,    34.8762,2,     -999.0,9,     -999.0,9,     -999.0,9,     -999.0,9,     -999.0,9,     -999.0,9
320620140320,       P16S,      12,          1,         15,         15,2,20140403,       1312,   -63.4998,  -149.9981,       3358,  1236.5,   0.7529,  34.7098,2,  34.7109,2,    200.2,2,   200.1,2,  122.94,2,   32.27,2,    0.00,2,    2.27,2,-999.000,9,-999.000,9, -999.00,9,  2264.9,2,    2360,2,   7.6586,2,       20,-999.000,9,-999.0000,9, -999.00,9,   0.7526,2, -999.00,9,  -999.0,9, -999.00,9,  -999.0,9, -999.00,9,     -999.0,9,     -999.0,9, -999.00,9, 20140403,     1405, -63.4999,-149.9982,    34.8746,2,     -999.0,9,     -999.0,9,     -999.0,9,     -999.0,9,     -999.0,9,     -999.0,9
320620140320,       P16S,      12,          1,         14,         14,2,20140403,       1312,   -63.4998,  -149.9981,       3358,  1336.4,   0.7107,  34.7086,2,  34.7056,3,    201.4,2,   201.4,2,  124.41,2,   32.32,2,    0.00,2,    2.27,2,   0.101,2,   0.040,2,    0.08,2,  -999.0,9,  -999.0,9,-999.0000,9,  -999.00,-999.000,9,-999.0000,9, -999.00,9,   0.7106,2, -999.00,9,  -999.0,9, -999.00,9,  -999.0,9, -999.00,9,      18.91,2,     -999.0,9, -999.00,9, 20140403,     1402, -63.4998,-149.9982,    34.8693,3,     -999.0,9,     -999.0,9,     -999.0,9,     -999.0,9,     -999.0,9,     -999.0,9
320620140320,       P16S,      12,          1,         13,         13,2,20140403,       1312,   -63.4998,  -149.9981,       3358,  1434.5,   0.6718,  34.7071,2,  34.7084,2,    202.6,2,   202.5,2,  125.09,2,   32.28,2,    0.00,2,    2.26,2,-999.000,9,-999.000,9, -999.00,9,  2264.5,2,  2360.4,2,   7.6595,2,       20,-999.000,9,-999.0000,9, -999.00,9,   0.6718,2, -999.00,9,  -999.0,9, -999.00,9,  -999.0,9, -999.00,9,     -999.0,9,     -999.0,9, -999.00,9, 20140403,     1359, -63.5000,-149.9981,    34.8720,2,     -999.0,9,     -999.0,9,     -999.0,9,     -999.0,9,     -999.0,9,     -999.0,9
320620140320,       P16S,      12,          1,         12,         12,2,20140403,       1312,   -63.4998,  -149.9981,       3358,  1535.0,   0.6372,  34.7057,2,  34.7071,2,    203.8,2,   203.6,2,  125.87,2,   32.32,2,    0.00,2,    2.26,2,-999.000,9,-999.000,9, -999.00,9,  -999.0,9,  -999.0,9,-999.0000,9,  -999.00,-999.000,9,-999.0000,9, -999.00,9,   0.6368,2, -999.00,9,  -999.0,9, -999.00,9,  -999.0,9, -999.00,9,     -999.0,9,     -999.0,9, -999.00,9, 20140403,     1356, -63.5002,-149.9982,    34.8708,2,     -999.0,9,     -999.0,9,     -999.0,9,     -999.0,9,     -999.0,9,     -999.0,9
320620140320,       P16S,      12,          1,         11,         11,2,20140403,       1312,   -63.4998,  -149.9981,       3358,  1635.4,   0.5931,  34.7046,2,  34.7054,2,    204.9,2,   204.8,2,  126.46,2,   32.30,2,    0.00,2,    2.26,2,   0.119,2,   0.047,2,    0.13,2,  2264.5,2,  2360.4,2,   7.6599,2,       20,-999.000,9,-999.0000,9, -999.00,9,   0.5928,2, -999.00,9,  -999.0,9, -999.00,9,  -999.0,9, -999.00,9,      18.61,2,     -999.0,9, -999.00,9, 20140403,     1353, -63.5003,-149.9981,    34.8690,2,     -999.0,9,     -999.0,9,     -999.0,9,     -999.0,9,     -999.0,9,     -999.0,9
320620140320,       P16S,      12,          1,         10,         10,2,20140403,       1312,   -63.4998,  -149.9981,       3358,  1735.3,   0.5595,  34.7039,2,  34.7054,2,    205.9,2,   205.7,2,  126.95,2,   32.25,2,    0.00,2,    2.26,2,-999.000,9,-999.000,9, -999.00,9,  -999.0,9,  -999.0,9,-999.0000,9,  -999.00,-999.000,9,-999.0000,9, -999.00,9,   0.5593,2, -999.00,9,  -999.0,9, -999.00,9,  -999.0,9, -999.00,9,     -999.0,9,     -999.0,9, -999.00,9, 20140403,     1350, -63.5000,-149.9981,    34.8690,2,     -999.0,9,     -999.0,9,     -999.0,9,     -999.0,9,     -999.0,9,     -999.0,9
320620140320,       P16S,      12,          1,          9,         09,2,20140403,       1312,   -63.4998,  -149.9981,       3358,  1864.8,   0.5096,  34.7034,2,  34.7042,2,    206.9,2,   206.8,2,  127.63,2,   32.23,2,    0.00,2,    2.26,2,   0.132,2,   0.053,2,    0.09,2,  2264.4,2,  2359.1,2,   7.6597,2,       20,-999.000,9,-999.0000,9, -999.00,9,   0.5098,2, -999.00,9,  -999.0,9, -999.00,9,  -999.0,9, -999.00,9,      19.21,2,     -999.0,9, -999.00,9, 20140403,     1346, -63.5000,-149.9982,    34.8678,2,     -999.0,9,     -999.0,9,     -999.0,9,     -999.0,9,     -999.0,9,     -999.0,9
320620140320,       P16S,      12,          1,          8,         08,2,20140403,       1312,   -63.4998,  -149.9981,       3358,  2065.3,   0.4446,  34.7021,2,  34.7030,2,    208.8,2,   208.6,2,  129.00,2,   32.26,2,    0.00,2,    2.27,2,-999.000,9,-999.000,9, -999.00,9,  -999.0,9,  -999.0,9,-999.0000,9,  -999.00,-999.000,9,-999.0000,9, -999.00,9,   0.4445,2, -999.00,9,  -999.0,9, -999.00,9,  -999.0,9, -999.00,9,     -999.0,9,     -999.0,9, -999.00,9, 20140403,     1342, -63.4999,-149.9982,    34.8666,2,     -999.0,9,     -999.0,9,     -999.0,9,     -999.0,9,     -999.0,9,     -999.0,9
320620140320,       P16S,      12,          1,          7,         07,2,20140403,       1312,   -63.4998,  -149.9981,       3358,  2266.7,   0.3849,  34.7016,2,  34.7018,2,    210.4,2,   210.3,2,  129.97,2,   32.29,2,    0.00,2,    2.27,2,-999.000,9,-999.000,9, -999.00,9,  2263.4,2,  2359.1,2,   7.6608,2,       20,-999.000,9,-999.0000,9, -999.00,9,   0.3855,2, -999.00,9,  -999.0,9, -999.00,9,  -999.0,9, -999.00,9,     -999.0,9,     -999.0,9, -999.00,9, 20140403,     1337, -63.4998,-149.9981,    34.8654,2,     -999.0,9,     -999.0,9,     -999.0,9,     -999.0,9,     -999.0,9,     -999.0,9
320620140320,       P16S,      12,          1,          6,         06,2,20140403,       1312,   -63.4998,  -149.9981,       3358,  2464.0,   0.3315,  34.6997,2,  34.7006,2,    212.3,2,   212.0,2,  130.27,2,   32.29,2,    0.00,2,    2.26,2,-999.000,9,-999.000,9, -999.00,9,  -999.0,9,  -999.0,9,-999.0000,9,  -999.00,-999.000,9,-999.0000,9, -999.00,9,   0.3311,2, -999.00,9,  -999.0,9, -999.00,9,  -999.0,9, -999.00,9,     -999.0,9,     -999.0,9, -999.00,9, 20140403,     1333, -63.5003,-149.9982,    34.8642,2,     -999.0,9,     -999.0,9,     -999.0,9,     -999.0,9,     -999.0,9,     -999.0,9