BOTTLE,20230715CCHSIOCBG
EXPOCODE,SECT_ID,STNNBR,CASTNO,SAMPNO,BTLNBR,BTLNBR_FLAG_W,DATE,TIME,LATITUDE,LONGITUDE,DEPTH,CTDPRS,CTDTMP,CTDSAL,CTDSAL_FLAG_W,SALNTY,SALNTY_FLAG_W,CTDOXY,CTDOXY_FLAG_W,OXYGEN,OXYGEN_FLAG_W,SILCAT,SILCAT_FLAG_W,NITRAT,NITRAT_FLAG_W,NITRIT,NITRIT_FLAG_W,PHSPHT,PHSPHT_FLAG_W,CFC-11,CFC-11_FLAG_W,CFC-12,CFC-12_FLAG_W,SF6,SF6_FLAG_W,TCARBN,TCARBN_FLAG_W,ALKALI,ALKALI_FLAG_W,PH_TOT,PH_TOT_FLAG_W,PH_TMP,TRITUM,TRITUM_FLAG_W,HELIUM,HELIUM_FLAG_W,DELHE3,DELHE3_FLAG_W,REFTMP,REFTMP_FLAG_W,DELC13,DELC13_FLAG_W,DELC14,DELC14_FLAG_W,DELO18,DELO18_FLAG_W,DOC,DOC_FLAG_W,TDN,TDN_FLAG_W,N2O,N2O_FLAG_W,CALCIUM,CALCIUM_FLAG_W,D15N_NO3,D15N_NO3_FLAG_W,BTL_DATE,BTL_TIME,BTL_LAT,BTL_LON,SALTREF,SALTREF_FLAG_W,D18O_NO3,D18O_NO3_FLAG_W,DSI30,DSI30_FLAG_W,CDOM_NASA,CDOM_NASA_FLAG_W,CDOM_UCSB,CDOM_UCSB_FLAG_W,D15N_NO2+NO3,D15N_NO2+NO3_FLAG_W,D18O_NO2+NO3,D18O_NO2+NO3_FLAG_W
,,,,,,,,,,,METERS,DBAR,ITS-90,PSS-78,,PSS-78,,UMOL/KG,,UMOL/KG,,UMOL/KG,,UMOL/KG,,UMOL/KG,,UMOL/KG,,PMOL/KG,,PMOL/KG,,FMOL/KG,,UMOL/KG,,UMOL/KG,,,,DEG C,TU,,NMOL/KG,,PERCNT,,DEG C,,/MILLE,,/MILLE,,/MILLE,,UMOL/KG,,UMOL/KG,,NMOL/KG,,MMOL/KG,,/MILLE,,,,,,G/KG,,/MILLE,,/MILLE,,,,,,/MILLE,,/MILLE,
320620140320,       P16S,      28,          1,          5,         05,2,20140411,       1417,   -54.5003,  -149.9997,       3502,  2732.8,   1.3196,  34.7270,2,  34.7272,2,    200.4,2,   199.8,2,  106.74,2,   31.47,2,    0.00,2,    2.14,2,   0.114,2,   0.037,2,    0.06,2,  2258.7,2,  2360.9,2,   7.6753,2,       20,-999.000,9,-999.0000,9, -999.00,9,   1.3198,2, -999.00,9,  -999.0,9, -999.00,9,  -999.0,9, -999.00,9,      20.14,2,     -999.0,9, -999.00,9, 20140411,     1438, -54.5003,-149.9996,    34.8910,2,     -999.0,9,     -999.0,9,     -999.0,9,     -999.0,9,     -999.0,9,     -999.0,9
320620140320,       P16S,      28,          1,          4,         04,2,20140411,       1417,   -54.5003,  -149.9997,       3502,  2934.7,   1.1550,  34.7203,2,  34.7197,2,    202.0,2,   201.7,2,  113.28,2,   31.77,2,    0.00,2,    2.16,2,-999.000,9,-999.000,9, -999.00,9,    2261,2,  2363.7,2,   7.6734,2,       20,-999.000,9,-999.0000,9, -999.00,9,   1.1549,2, -999.00,9,  -999.0,9, -999.00,9,  -999.0,9, -999.00,9,     -999.0,9,     -999.0,9, -999.00,9, 20140411,     1433, -54.5003,-149.9996,    34.8835,2,     -999.0,9,     -999.0,9,     -999.0,9,     -999.0,9,     -999.0,9,     -999.0,9
320620140320,       P16S,      28,          1,          3,         03,2,20140411,       1417,   -54.5003,  -149.9997,       3502,  3202.0,   1.0509,  34.7158,2,  34.7154,2,    203.3,2,   203.3,2,  117.38,2,   31.98,2,    0.00,2,    2.17,2,   0.146,2,   0.048,2,    0.07,2,    2261,2,  2364.6,6,   7.6727,2,       20,-999.000,9,-999.0000,9, -999.00,9,   1.0509,2, -999.00,9,  -999.0,9, -999.00,9,  -999.0,9, -999.00,9,      20.27,2,     -999.0,9, -999.00,9, 20140411,     1426, -54.5003,-149.9995,    34.8791,2,     -999.0,9,     -999.0,9,     -999.0,9,     -999.0,9,     -999.0,9,     -999.0,9
320620140320,       P16S,      28,          1,          2,         02,2,20140411,       1417,   -54.5003,  -149.9997,       3502,  3350.5,   0.9670,  34.7122,2,  34.7119,2,    204.1,2,   204.4,2,  121.29,2,   32.12,2,    0.00,2,    2.18,2,-999.000,9,-999.000,9, -999.00,9,  2261.7,2,  2363.1,2,   7.6695,6,       20,-999.000,9,-999.0000,9, -999.00,9,   0.9673,2, -999.00,9,  -999.0,9, -999.00,9,  -999.0,9, -999.00,9,     -999.0,9,     -999.0,9, -999.00,9, 20140411,     1422, -54.5003,-149.9996,    34.8756,2,     -999.0,9,     -999.0,9,     -999.0,9,     -999.0,9,     -999.0,9,     -999.0,9
320620140320,       P16S,      28,          1,          1,         01,2,20140411,       1417,   -54.5003,  -149.9997,       3502,  3546.3,   0.9210,  34.7099,2,  34.7095,2,    205.0,2,   204.9,2,  124.22,2,   32.24,2,    0.00,2,    2.19,2,   0.207,2,   0.076,2,    0.11,2,    2263,6,  2363.8,2,   7.6676,2,       20,-999.000,9,-999.0000,9, -999.00,9,   0.9209,2, -999.00,9,  -999.0,9, -999.00,9,  -999.0,9, -999.00,9,      18.39,4,     -999.0,9, -999.00,9, 20140411,     1417, -54.5003,-149.9996,    34.8732,2,     -999.0,9,     -999.0,9,     -999.0,9,     -999.0,9,     -999.0,9,     -999.0,9