BOTTLE,20230715CCHSIOCBG
EXPOCODE,SECT_ID,STNNBR,CASTNO,SAMPNO,BTLNBR,BTLNBR_FLAG_W,DATE,TIME,LATITUDE,LONGITUDE,DEPTH,CTDPRS,CTDTMP,CTDSAL,CTDSAL_FLAG_W,SALNTY,SALNTY_FLAG_W,CTDOXY,CTDOXY_FLAG_W,OXYGEN,OXYGEN_FLAG_W,SILCAT,SILCAT_FLAG_W,NITRAT,NITRAT_FLAG_W,NITRIT,NITRIT_FLAG_W,PHSPHT,PHSPHT_FLAG_W,CFC-11,CFC-11_FLAG_W,CFC-12,CFC-12_FLAG_W,SF6,SF6_FLAG_W,TCARBN,TCARBN_FLAG_W,ALKALI,ALKALI_FLAG_W,PH_TOT,PH_TOT_FLAG_W,PH_TMP,TRITUM,TRITUM_FLAG_W,HELIUM,HELIUM_FLAG_W,DELHE3,DELHE3_FLAG_W,REFTMP,REFTMP_FLAG_W,DELC13,DELC13_FLAG_W,DELC14,DELC14_FLAG_W,DELO18,DELO18_FLAG_W,DOC,DOC_FLAG_W,TDN,TDN_FLAG_W,N2O,N2O_FLAG_W,CALCIUM,CALCIUM_FLAG_W,D15N_NO3,D15N_NO3_FLAG_W,BTL_DATE,BTL_TIME,BTL_LAT,BTL_LON,SALTREF,SALTREF_FLAG_W,D18O_NO3,D18O_NO3_FLAG_W,DSI30,DSI30_FLAG_W,CDOM_NASA,CDOM_NASA_FLAG_W,CDOM_UCSB,CDOM_UCSB_FLAG_W,D15N_NO2+NO3,D15N_NO2+NO3_FLAG_W,D18O_NO2+NO3,D18O_NO2+NO3_FLAG_W
,,,,,,,,,,,METERS,DBAR,ITS-90,PSS-78,,PSS-78,,UMOL/KG,,UMOL/KG,,UMOL/KG,,UMOL/KG,,UMOL/KG,,UMOL/KG,,PMOL/KG,,PMOL/KG,,FMOL/KG,,UMOL/KG,,UMOL/KG,,,,DEG C,TU,,NMOL/KG,,PERCNT,,DEG C,,/MILLE,,/MILLE,,/MILLE,,UMOL/KG,,UMOL/KG,,NMOL/KG,,MMOL/KG,,/MILLE,,,,,,G/KG,,/MILLE,,/MILLE,,,,,,/MILLE,,/MILLE,
320620140320,       P16S,      54,          1,         36,         36,2,20140421,       0656,   -39.0002,  -150.0003,     -999.0,     3.8,  17.7918,  34.6333,2,  34.6337,2,    238.3,2,   240.9,2,    0.00,2,    0.22,2,    0.01,2,    0.17,2,   2.087,2,   1.352,2,    1.58,2,  2042.6,2,    2286,2,   8.0259,2,       20,-999.000,1,-999.0000,1, -999.00,9,  17.7914,2, -999.00,9,  -999.0,9, -999.00,1,    63.3,2,    3.85,2,       7.99,2,     -999.0,9, -999.00,9, 20140421,      926, -39.0004,-150.0003,    34.7970,2,     -999.0,9,     -999.0,9,     -999.0,9,     -999.0,9,     -999.0,9,     -999.0,9
320620140320,       P16S,      54,          1,         35,         35,2,20140421,       0656,   -39.0002,  -150.0003,     -999.0,    23.9,  17.7977,  34.6326,2,  34.6327,2,    239.5,2,   239.4,2,    0.00,2,    0.20,2,    0.01,2,    0.17,2,-999.000,9,-999.000,9, -999.00,9,  2042.8,2,  2289.2,2,   8.0262,2,       20,-999.000,1,-999.0000,1, -999.00,9,  17.7966,2, -999.00,9,  -999.0,9, -999.00,1,    58.7,2,    3.73,2,     -999.0,9,     -999.0,9, -999.00,9, 20140421,      925, -39.0003,-150.0004,    34.7960,2,     -999.0,9,     -999.0,9,     -999.0,9,     -999.0,9,     -999.0,9,     -999.0,9
320620140320,       P16S,      54,          1,         34,         34,2,20140421,       0656,   -39.0002,  -150.0003,     -999.0,    50.8,  17.7670,  34.6310,2,  34.6321,2,    239.7,2,   240.0,2,    0.10,2,    0.18,2,    0.01,2,    0.13,2,   2.195,2,   1.404,2,    1.83,2,    2042,2,    2286,2,   8.0264,2,       20,-999.000,1,-999.0000,1, -999.00,9,  17.7604,2, -999.00,9,  -999.0,9, -999.00,1,    59.4,2,    4.48,2,       8.21,2,     -999.0,9, -999.00,9, 20140421,      923, -39.0002,-150.0004,    34.7954,2,     -999.0,9,     -999.0,9,     -999.0,9,     -999.0,9,     -999.0,9,     -999.0,9
320620140320,       P16S,      54,          1,         33,         33,2,20140421,       0656,   -39.0002,  -150.0003,     -999.0,    76.2,  13.6113,  34.6190,2,  34.6217,2,    270.2,2,   270.0,2,    0.20,2,    1.48,2,    0.05,2,    0.25,2,-999.000,9,-999.000,9, -999.00,9,  2060.4,2,  2285.6,2,   7.9922,6,       20,-999.000,1,-999.0000,1, -999.00,9,  13.6217,2, -999.00,9,  -999.0,9, -999.00,1,    54.3,2,     3.9,2,     -999.0,9,     -999.0,9, -999.00,9, 20140421,      921, -39.0002,-150.0004,    34.7849,2,     -999.0,9,     -999.0,9,     -999.0,9,     -999.0,9,     -999.0,9,     -999.0,9
320620140320,       P16S,      54,          1,         32,         32,2,20140421,       0656,   -39.0002,  -150.0003,     -999.0,    99.8,  12.4248,  34.5819,2,  34.5818,2,    259.1,2,   258.3,2,    0.29,2,    3.28,2,    0.20,2,    0.41,2,-999.000,9,-999.000,9, -999.00,9,  2074.2,2,  2284.6,2,   7.9605,2,       20,-999.000,1,-999.0000,1, -999.00,9,  12.4277,2, -999.00,9,  -999.0,9, -999.00,1,    52.7,2,    5.97,2,     -999.0,9,     -999.0,9, -999.00,9, 20140421,      920, -39.0004,-150.0004,    34.7449,2,     -999.0,9,     -999.0,9,     -999.0,9,     -999.0,9,     -999.0,9,     -999.0,9
320620140320,       P16S,      54,          1,         31,         31,2,20140421,       0656,   -39.0002,  -150.0003,     -999.0,   150.3,  11.2044,  34.5190,2,  34.5184,2,    249.6,2,   250.4,2,    0.78,2,    7.13,2,    0.60,2,    0.64,2,   2.938,2,   1.841,2,    1.75,2,  2091.4,2,  2279.4,6,   7.9135,2,       20,-999.000,1,-999.0000,1, -999.00,9,  11.2088,2, -999.00,9,  -999.0,9, -999.00,1,      50,2,   10.09,2,      12.69,2,     -999.0,9, -999.00,9, 20140421,      918, -39.0004,-150.0004,    34.6811,2,     -999.0,9,     -999.0,9,     -999.0,9,     -999.0,9,     -999.0,9,     -999.0,9
320620140320,       P16S,      54,          1,         30,         30,2,20140421,       0656,   -39.0002,  -150.0003,     -999.0,   199.7,  10.0929,  34.5392,2,  34.5374,2,    237.0,2,   234.6,2,    1.66,2,   12.87,2,    0.01,2,    0.95,2,-999.000,9,-999.000,9, -999.00,9,  2115.3,6,  2281.4,2,   7.8581,2,       20,-999.000,9,-999.0000,9, -999.00,9,  10.0907,2, -999.00,9,  -999.0,9, -999.00,1,    46.6,2,   15.46,2,     -999.0,9,     -999.0,9, -999.00,9, 20140421,      916, -39.0004,-150.0004,    34.7003,2,     -999.0,9,     -999.0,9,     -999.0,9,     -999.0,9,     -999.0,9,     -999.0,9
320620140320,       P16S,      54,          1,         29,         29,2,20140421,       0656,   -39.0002,  -150.0003,     -999.0,   248.5,   9.0931,  34.5186,2,  34.5160,2,    236.5,2,   233.5,2,    2.83,2,   16.14,2,    0.01,2,    1.15,2,-999.000,9,-999.000,9, -999.00,9,    2128,2,  2281.8,2,   7.8281,2,       20,-999.000,1,-999.0000,1, -999.00,9,   9.0907,2, -999.00,9,  -999.0,9, -999.00,1,    44.9,2,   17.16,2,     -999.0,9,     -999.0,9, -999.00,9, 20140421,      914, -39.0001,-150.0005,    34.6788,2,     -999.0,9,     -999.0,9,     -999.0,9,     -999.0,9,     -999.0,9,     -999.0,9
320620140320,       P16S,      54,          1,         28,         28,2,20140421,       0656,   -39.0002,  -150.0003,     -999.0,   300.8,   8.3626,  34.4773,2,  34.4765,2,    235.9,2,   238.2,2,    3.71,2,   17.94,2,    0.01,2,    1.25,2,   3.306,2,   1.933,2,    1.51,2,  2132.3,2,  2281.4,2,   7.8155,2,       20,-999.000,9,-999.0000,9, -999.00,9,   8.3626,2, -999.00,9,  -999.0,9, -999.00,1,    42.3,2, -999.00,5,      18.78,2,     -999.0,9, -999.00,9, 20140421,      912, -38.9999,-150.0005,    34.6391,2,     -999.0,9,     -999.0,9,     -999.0,9,     -999.0,9,     -999.0,9,     -999.0,9
320620140320,       P16S,      54,          1,         27,         27,2,20140421,       0656,   -39.0002,  -150.0003,     -999.0,   349.0,   7.9857,  34.4550,2,  34.4538,2,    240.8,2,   243.4,2,    4.40,2,   18.71,2,    0.01,2,    1.29,2,-999.000,9,-999.000,9, -999.00,9,  2133.8,2,  2281.6,2,   7.8112,2,       20,-999.000,1,-999.0000,1, -999.00,9,   7.9859,2, -999.00,9,  -999.0,9, -999.00,1,  -999.0,5,   20.86,2,     -999.0,9,     -999.0,9, -999.00,9, 20140421,      909, -38.9997,-150.0006,    34.6162,2,     -999.0,9,     -999.0,9,     -999.0,9,     -999.0,9,     -999.0,9,     -999.0,9
320620140320,       P16S,      54,          1,         26,         26,2,20140421,       0656,   -39.0002,  -150.0003,     -999.0,   398.1,   7.7351,  34.4400,2,  34.4394,2,    248.1,2,   249.1,2,    4.50,2,   19.13,2,    0.01,2,    1.32,2,-999.000,9,-999.000,9, -999.00,9,  2134.3,2,  2281.4,2,   7.8108,2,       20,-999.000,9,-999.0000,9, -999.00,9,   7.7333,2, -999.00,9,  -999.0,9, -999.00,1,    41.2,2,   20.84,2,     -999.0,9,     -999.0,9, -999.00,9, 20140421,      907, -38.9998,-150.0006,    34.6018,2,     -999.0,9,     -999.0,9,     -999.0,9,     -999.0,9,     -999.0,9,     -999.0,9
320620140320,       P16S,      54,          1,         25,         25,2,20140421,       0656,   -39.0002,  -150.0003,     -999.0,   497.4,   7.2439,  34.3983,2,  34.3996,2,    245.7,2,   245.9,2,    6.06,2,   21.03,2,    0.00,2,    1.45,2,   3.606,2,   1.991,2,    1.60,2,  2139.3,2,  2280.6,2,   7.7968,2,       20,-999.000,1,-999.0000,1, -999.00,9,   7.2434,2, -999.00,9,  -999.0,9, -999.00,1,    42.2,2,   22.16,2,      17.09,2,     -999.0,9, -999.00,9, 20140421,      905, -39.0002,-150.0005,    34.5618,2,     -999.0,9,     -999.0,9,     -999.0,9,     -999.0,9,     -999.0,9,     -999.0,9
320620140320,       P16S,      54,          1,         24,         24,2,20140421,       0656,   -39.0002,  -150.0003,     -999.0,   599.6,   6.8387,  34.3635,2,  34.3631,2,    243.5,2,   244.2,2,    7.62,2,   22.42,2,    0.00,2,    1.53,2,   3.271,2,   1.893,2,    1.25,2,    2145,2,  2280.2,2,    7.787,2,       20,-999.000,9,-999.0000,9, -999.00,9,   6.8388,2, -999.00,9,  -999.0,9, -999.00,1,    40.1,2, -999.00,9,      16.01,2,     -999.0,9, -999.00,9, 20140421,      902, -39.0002,-150.0005,    34.5251,2,     -999.0,9,     -999.0,9,     -999.0,9,     -999.0,9,     -999.0,9,     -999.0,9
320620140320,       P16S,      54,          1,         23,         23,2,20140421,       0656,   -39.0002,  -150.0003,     -999.0,   700.2,   6.4116,  34.3348,2,  34.3344,2,    238.9,2,   238.4,2,    9.87,2,   23.99,2,    0.00,2,    1.64,2,   3.382,2,   1.700,2,    1.07,2,  2151.1,2,  2281.2,2,   7.7732,2,       20,-999.000,1,-999.0000,1, -999.00,9,   6.4119,2, -999.00,9,  -999.0,9, -999.00,1,    38.1,2, -999.00,9,      17.19,2,     -999.0,9, -999.00,9, 20140421,      859, -39.0003,-150.0004,    34.4964,2,     -999.0,9,     -999.0,9,     -999.0,9,     -999.0,9,     -999.0,9,     -999.0,9
320620140320,       P16S,      54,          1,         22,         22,2,20140421,       0656,   -39.0002,  -150.0003,     -999.0,   800.8,   5.9752,  34.3163,2,  34.3156,2,    231.1,2,   229.4,2,   13.10,2,   25.76,2,    0.00,2,    1.76,2,-999.000,9,-999.000,9, -999.00,9,  2158.8,2,  2283.2,2,   7.7554,2,       20,-999.000,9,-999.0000,9, -999.00,9,   5.9759,2, -999.00,9,  -999.0,9, -999.00,1,    40.3,2, -999.00,9,     -999.0,9,     -999.0,9, -999.00,9, 20140421,      855, -39.0003,-150.0004,    34.4774,2,     -999.0,9,     -999.0,9,     -999.0,9,     -999.0,9,     -999.0,9,     -999.0,9
320620140320,       P16S,      54,          1,         21,         21,2,20140421,       0656,   -39.0002,  -150.0003,     -999.0,   900.0,   5.4893,  34.3119,2,  34.3133,2,    218.8,2,   217.9,2,   18.28,2,   27.72,2,    0.00,2,    1.89,2,   2.106,2,   1.101,2,    0.44,2,  2171.3,2,    2287,2,   7.7303,2,       20,-999.000,1,-999.0000,1, -999.00,9,   5.4871,2, -999.00,9,  -999.0,9, -999.00,9,    39.2,2, -999.00,9,      19.05,2,     -999.0,9, -999.00,9, 20140421,      853, -39.0001,-150.0005,    34.4751,2,     -999.0,9,     -999.0,9,     -999.0,9,     -999.0,9,     -999.0,9,     -999.0,9
320620140320,       P16S,      54,          1,         20,         20,2,20140421,       0656,   -39.0002,  -150.0003,     -999.0,   996.8,   4.9271,  34.3180,2,  34.3186,2,    208.6,2,   208.2,2,   24.73,2,   29.59,2,    0.00,2,    2.01,2,   1.554,2,   0.854,2,    0.36,2,  2184.5,2,  2291.9,2,   7.7063,2,       20,-999.000,9,-999.0000,9, -999.00,9,   4.9291,2, -999.00,9,  -999.0,9, -999.00,9,    38.5,2, -999.00,9,      20.16,2,     -999.0,9, -999.00,9, 20140421,      850, -39.0001,-150.0005,    34.4804,2,     -999.0,9,     -999.0,9,     -999.0,9,     -999.0,9,     -999.0,9,     -999.0,9
320620140320,       P16S,      54,          1,         19,         19,2,20140421,       0656,   -39.0002,  -150.0003,     -999.0,  1099.5,   4.2760,  34.3332,2,  34.3317,2,    200.1,2,   200.1,2,   33.52,2,   31.39,2,    0.00,2,    2.15,2,   1.252,2,   0.632,2,    0.10,2,  2199.8,6,  2298.8,2,   7.6817,2,       20,-999.000,1,-999.0000,1, -999.00,9,   4.2765,2, -999.00,9,  -999.0,9, -999.00,9,    40.5,2, -999.00,9,      20.97,2,     -999.0,9, -999.00,9, 20140421,      847, -39.0001,-150.0005,    34.4936,2,     -999.0,9,     -999.0,9,     -999.0,9,     -999.0,9,     -999.0,9,     -999.0,9
320620140320,       P16S,      54,          1,         18,         18,2,20140421,       0656,   -39.0002,  -150.0003,     -999.0,  1200.5,   3.7952,  34.3577,2,  34.3572,2,    193.3,2,   193.7,2,   41.73,2,   32.51,2,    0.00,2,    2.25,2,   1.085,2,   0.545,2,    0.08,2,  2213.1,2,  2306.4,2,   7.6643,2,       20,-999.000,1,-999.0000,1, -999.00,9,   3.7956,2, -999.00,9,  -999.0,9, -999.00,9,    41.6,2, -999.00,9,      22.64,2,     -999.0,9, -999.00,9, 20140421,      844, -39.0000,-150.0005,    34.5192,2,     -999.0,9,     -999.0,9,     -999.0,9,     -999.0,9,     -999.0,9,     -999.0,9
320620140320,       P16S,      54,          1,         17,         17,2,20140421,       0656,   -39.0002,  -150.0003,     -999.0,  1297.9,   3.4167,  34.3956,2,  34.3939,2,    186.1,2,   186.1,2,   49.75,2,   33.43,2,    0.00,2,    2.31,2,-999.000,9,-999.000,9, -999.00,9,  2224.9,2,  2317.9,2,   7.6504,2,       20,-999.000,1,-999.0000,1, -999.00,9,   3.4158,2, -999.00,9,  -999.0,9, -999.00,9,    37.6,2, -999.00,9,     -999.0,9,     -999.0,9, -999.00,9, 20140421,      841, -38.9999,-150.0005,    34.5561,2,     -999.0,9,     -999.0,9,     -999.0,9,     -999.0,9,     -999.0,9,     -999.0,9
320620140320,       P16S,      54,          1,         16,         16,2,20140421,       0656,   -39.0002,  -150.0003,     -999.0,  1400.5,   3.1422,  34.4397,2,  34.4398,2,    178.3,2,   179.3,2,   59.81,2,   34.06,2,    0.00,2,    2.36,2,-999.000,9,-999.000,9, -999.00,9,  2236.1,2,  2321.7,2,   7.6406,2,       20,-999.000,1,-999.0000,1, -999.00,9,   3.1445,2, -999.00,9,  -999.0,9, -999.00,9,    36.3,2, -999.00,9,     -999.0,9,     -999.0,9, -999.00,9, 20140421,      838, -39.0001,-150.0005,    34.6022,2,     -999.0,9,     -999.0,9,     -999.0,9,     -999.0,9,     -999.0,9,     -999.0,9
320620140320,       P16S,      54,          1,         15,         15,2,20140421,       0656,   -39.0002,  -150.0003,     -999.0,  1600.5,   2.7942,  34.5358,2,  34.5366,2,    164.4,2,   164.4,2,   77.59,2,   34.69,2,    0.00,2,    2.39,2,   0.096,2,   0.037,2,    0.04,2,  2260.4,2,  2344.1,2,    7.633,2,       20,-999.000,1,-999.0000,1, -999.00,9,   2.7940,2, -999.00,9,  -999.0,9, -999.00,9,    37.2,2, -999.00,9,      24.05,2,     -999.0,9, -999.00,9, 20140421,      833, -39.0001,-150.0005,    34.6995,2,     -999.0,9,     -999.0,9,     -999.0,9,     -999.0,9,     -999.0,9,     -999.0,9
320620140320,       P16S,      54,          1,         14,         14,2,20140421,       0656,   -39.0002,  -150.0003,     -999.0,  1801.1,   2.5501,  34.5926,2,  34.5924,2,    156.6,2,   156.6,2,   94.69,2,   35.04,2,    0.00,2,    2.44,2,   0.019,2,   0.009,2,    0.05,2,  2279.7,2,  2364.8,2,   7.6348,2,       20,-999.000,9,-999.0000,9, -999.00,9,   2.5497,2, -999.00,9,  -999.0,9, -999.00,9,      37,2, -999.00,9,      24.33,2,     -999.0,9, -999.00,9, 20140421,      829, -39.0002,-150.0004,    34.7555,2,     -999.0,9,     -999.0,9,     -999.0,9,     -999.0,9,     -999.0,9,     -999.0,9
320620140320,       P16S,      54,          1,         13,         13,2,20140421,       0656,   -39.0002,  -150.0003,     -999.0,  1997.7,   2.3668,  34.6188,2,  34.6187,2,    152.9,2,   152.8,2,  104.36,2,   35.37,2,    0.00,2,    2.45,2,-999.000,9,-999.000,9, -999.00,9,  2290.8,2,  2376.8,2,   7.6339,6,       20,-999.000,1,-999.0000,1, -999.00,9,   2.3666,2, -999.00,9,  -999.0,9, -999.00,9,    35.3,2, -999.00,9,     -999.0,9,     -999.0,9, -999.00,9, 20140421,      824, -39.0003,-150.0004,    34.7820,2,     -999.0,9,     -999.0,9,     -999.0,9,     -999.0,9,     -999.0,9,     -999.0,9
320620140320,       P16S,      54,          1,         12,         12,2,20140421,       0656,   -39.0002,  -150.0003,     -999.0,  2249.6,   2.1899,  34.6376,2,  34.6374,2,    151.2,2,   151.1,2,  112.47,2,   35.55,2,    0.00,2,    2.47,2,-999.000,9,-999.000,9, -999.00,9,  2300.9,2,    2386,2,   7.6336,2,       20,-999.000,9,-999.0000,9, -999.00,9,   2.1899,2, -999.00,9,  -999.0,9, -999.00,9,    35.3,2, -999.00,9,     -999.0,9,     -999.0,9, -999.00,9, 20140421,      818, -39.0000,-150.0005,    34.8007,2,     -999.0,9,     -999.0,9,     -999.0,9,     -999.0,9,     -999.0,9,     -999.0,9
320620140320,       P16S,      54,          1,         11,         11,2,20140421,       0656,   -39.0002,  -150.0003,     -999.0,  2501.5,   2.0496,  34.6502,2,  34.6502,2,    150.8,2,   150.4,2,  118.43,2,   35.71,2,    0.00,2,    2.49,2,   0.004,2,   0.004,2,    0.03,2,  2304.7,2,  2391.7,2,   7.6344,2,       20,-999.000,1,-999.0000,1, -999.00,9,   2.0495,2, -999.00,9,  -999.0,9, -999.00,9,    33.2,2, -999.00,9,      24.04,2,     -999.0,9, -999.00,9, 20140421,      813, -38.9998,-150.0006,    34.8136,2,     -999.0,9,     -999.0,9,     -999.0,9,     -999.0,9,     -999.0,9,     -999.0,9
320620140320,       P16S,      54,          1,         10,         10,2,20140421,       0656,   -39.0002,  -150.0003,     -999.0,  2750.4,   1.9460,  34.6594,2,  34.6594,2,    151.5,2,   150.9,2,  122.53,2,   35.77,2,    0.00,2,    2.50,2,   0.005,2,   0.004,2,    0.02,2,  2308.1,2,  2396.2,2,   7.6347,2,       20,-999.000,9,-999.0000,9, -999.00,9,   1.9462,2, -999.00,9,  -999.0,9, -999.00,9,    34.3,2, -999.00,9,      23.80,2,     -999.0,9, -999.00,9, 20140421,      807, -39.0001,-150.0004,    34.8228,2,     -999.0,9,     -999.0,9,     -999.0,9,     -999.0,9,     -999.0,9,     -999.0,9
320620140320,       P16S,      54,          1,          9,         09,2,20140421,       0656,   -39.0002,  -150.0003,     -999.0,  2998.7,   1.8550,  34.6686,2,  34.6677,2,    153.8,2,   154.2,2,  125.07,2,   35.63,2,    0.00,2,    2.47,2,-999.000,9,-999.000,9, -999.00,9,  2309.6,2,  2397.5,2,   7.6384,2,       20,-999.000,9,-999.0000,1, -999.00,9,   1.8549,2, -999.00,9,  -999.0,9, -999.00,9,    35.2,2, -999.00,9,     -999.0,9,     -999.0,9, -999.00,9, 20140421,      802, -39.0005,-150.0003,    34.8311,2,     -999.0,9,     -999.0,9,     -999.0,9,     -999.0,9,     -999.0,9,     -999.0,9
320620140320,       P16S,      54,          1,          8,         08,2,20140421,       0656,   -39.0002,  -150.0003,     -999.0,  3300.3,   1.7679,  34.6858,2,  34.6859,2,    164.0,2,   164.0,2,  120.58,2,   34.57,2,    0.00,2,    2.42,2,-999.000,9,-999.000,9, -999.00,9,  2296.8,6,  2388.9,2,    7.648,2,       20,-999.000,9,-999.0000,9, -999.00,9,   1.7674,2, -999.00,9,  -999.0,9, -999.00,9,    34.4,2, -999.00,9,     -999.0,9,     -999.0,9, -999.00,9, 20140421,      755, -39.0002,-150.0004,    34.8495,2,     -999.0,9,     -999.0,9,     -999.0,9,     -999.0,9,     -999.0,9,     -999.0,9
320620140320,       P16S,      54,          1,          7,         07,2,20140421,       0656,   -39.0002,  -150.0003,     -999.0,  3597.8,   1.6706,  34.7106,2,  34.7119,2,    182.3,2,   182.8,2,  109.93,2,   32.90,2,    0.00,2,    2.28,2,-999.000,9,-999.000,9, -999.00,9,  2274.4,2,  2372.1,6,   7.6633,2,       20,-999.000,9,-999.0000,1, -999.00,9,   1.6701,2,    0.51,6,  -182.2,6, -999.00,9,    38.4,2, -999.00,9,     -999.0,9,     -999.0,9, -999.00,9, 20140421,      749, -39.0001,-150.0004,    34.8756,2,     -999.0,9,     -999.0,9,     -999.0,9,     -999.0,9,     -999.0,9,     -999.0,9
320620140320,       P16S,      54,          1,          6,         06,2,20140421,       0656,   -39.0002,  -150.0003,     -999.0,  3900.8,   1.4659,  34.7160,2,  34.7156,2,    192.5,2,   192.9,2,  110.90,2,   32.37,2,    0.00,2,    2.24,2,   0.008,2,   0.003,2,    0.00,2,  2266.9,2,  2366.5,2,   7.6721,2,       20,-999.000,9,-999.0000,9, -999.00,9,   1.4653,2, -999.00,9,  -999.0,9, -999.00,9,    39.5,2, -999.00,9,      21.11,2,     -999.0,9, -999.00,9, 20140421,      743, -39.0002,-150.0004,    34.8793,2,     -999.0,9,     -999.0,9,     -999.0,9,     -999.0,9,     -999.0,9,     -999.0,9