BOTTLE,20230715CCHSIOCBG
EXPOCODE,SECT_ID,STNNBR,CASTNO,SAMPNO,BTLNBR,BTLNBR_FLAG_W,DATE,TIME,LATITUDE,LONGITUDE,DEPTH,CTDPRS,CTDTMP,CTDSAL,CTDSAL_FLAG_W,SALNTY,SALNTY_FLAG_W,CTDOXY,CTDOXY_FLAG_W,OXYGEN,OXYGEN_FLAG_W,SILCAT,SILCAT_FLAG_W,NITRAT,NITRAT_FLAG_W,NITRIT,NITRIT_FLAG_W,PHSPHT,PHSPHT_FLAG_W,CFC-11,CFC-11_FLAG_W,CFC-12,CFC-12_FLAG_W,SF6,SF6_FLAG_W,TCARBN,TCARBN_FLAG_W,ALKALI,ALKALI_FLAG_W,PH_TOT,PH_TOT_FLAG_W,PH_TMP,TRITUM,TRITUM_FLAG_W,HELIUM,HELIUM_FLAG_W,DELHE3,DELHE3_FLAG_W,REFTMP,REFTMP_FLAG_W,DELC13,DELC13_FLAG_W,DELC14,DELC14_FLAG_W,DELO18,DELO18_FLAG_W,DOC,DOC_FLAG_W,TDN,TDN_FLAG_W,N2O,N2O_FLAG_W,CALCIUM,CALCIUM_FLAG_W,D15N_NO3,D15N_NO3_FLAG_W,BTL_DATE,BTL_TIME,BTL_LAT,BTL_LON,SALTREF,SALTREF_FLAG_W,D18O_NO3,D18O_NO3_FLAG_W,DSI30,DSI30_FLAG_W,CDOM_NASA,CDOM_NASA_FLAG_W,CDOM_UCSB,CDOM_UCSB_FLAG_W,D15N_NO2+NO3,D15N_NO2+NO3_FLAG_W,D18O_NO2+NO3,D18O_NO2+NO3_FLAG_W
,,,,,,,,,,,METERS,DBAR,ITS-90,PSS-78,,PSS-78,,UMOL/KG,,UMOL/KG,,UMOL/KG,,UMOL/KG,,UMOL/KG,,UMOL/KG,,PMOL/KG,,PMOL/KG,,FMOL/KG,,UMOL/KG,,UMOL/KG,,,,DEG C,TU,,NMOL/KG,,PERCNT,,DEG C,,/MILLE,,/MILLE,,/MILLE,,UMOL/KG,,UMOL/KG,,NMOL/KG,,MMOL/KG,,/MILLE,,,,,,G/KG,,/MILLE,,/MILLE,,,,,,/MILLE,,/MILLE,
320620140320,       P16S,      75,          1,         36,         36,2,20140429,       0629,   -24.9998,  -150.0001,       4599,     3.6,  24.2546,  35.3123,2,  35.3125,2,    209.3,2,   210.1,2,    0.39,2,    0.04,2,    0.00,2,    0.05,2,   1.721,2,   1.063,2,    1.42,2,  2001.2,2,  2316.1,2,   8.1472,2,       20,-999.000,9,-999.0000,9, -999.00,9,  24.2539,2, -999.00,9,  -999.0,9, -999.00,9,  -999.0,9, -999.00,9,       6.94,2,     -999.0,1, -999.00,1, 20140429,      830, -24.9999,-150.0003,    35.4791,2,     -999.0,1,     -999.0,9,     -999.0,9,     -999.0,9,     -999.0,1,     -999.0,1
320620140320,       P16S,      75,          1,         35,         35,2,20140429,       0629,   -24.9998,  -150.0001,       4599,    23.2,  24.2535,  35.3116,2,  35.3129,2,    210.2,2,   210.0,2,    0.39,2,    0.02,2,    0.00,2,    0.04,2,   1.718,2,   1.046,2,    1.64,2,  2001.8,2,  2315.7,2,   8.1481,2,       20,-999.000,9,-999.0000,9, -999.00,9,  24.2549,2, -999.00,9,  -999.0,9, -999.00,9,  -999.0,9, -999.00,9,       6.43,2,     -999.0,9, -999.00,1, 20140429,      829, -24.9998,-150.0001,    35.4794,2,     -999.0,1,     -999.0,9,     -999.0,9,     -999.0,9,     -999.0,1,     -999.0,1
320620140320,       P16S,      75,          1,         34,         34,2,20140429,       0629,   -24.9998,  -150.0001,       4599,    48.7,  22.8300,  35.6292,2,  35.6269,2,    222.8,2,   223.3,2,    0.59,2,    0.00,2,    0.01,2,    0.03,2,   1.949,6,   1.159,6,    1.63,6,  2029.5,2,  2335.5,2,   8.1269,2,       20,-999.000,9,-999.0000,9, -999.00,9,  22.8895,3, -999.00,9,  -999.0,9, -999.00,9,  -999.0,9, -999.00,9,       7.25,6,     -999.0,1, -999.00,1, 20140429,      827, -24.9997,-150.0000,    35.7949,2,     -999.0,1,     -999.0,9,     -999.0,9,     -999.0,9,     -999.0,1,     -999.0,1
320620140320,       P16S,      75,          1,         33,         33,2,20140429,       0629,   -24.9998,  -150.0001,       4599,    75.3,  20.6828,  35.6061,2,  35.6072,2,    228.9,2,   228.8,2,    0.68,2,    0.00,2,    0.00,2,    0.03,2,   2.116,2,   1.263,2,    1.57,2,  2038.3,2,  2332.5,2,   8.1075,2,       20,-999.000,9,-999.0000,9, -999.00,9,  20.6857,2, -999.00,9,  -999.0,9, -999.00,9,  -999.0,9, -999.00,9,       7.97,2,     -999.0,9, -999.00,1, 20140429,      825, -24.9997,-149.9998,    35.7751,2,     -999.0,1,     -999.0,9,     -999.0,9,     -999.0,9,     -999.0,1,     -999.0,1
320620140320,       P16S,      75,          1,         32,         32,2,20140429,       0629,   -24.9998,  -150.0001,       4599,    99.9,  19.6957,  35.5838,2,  35.5841,2,    224.8,2,   224.1,2,    0.59,2,    0.00,2,    0.00,2,    0.04,2,   2.154,2,   1.268,2,    1.76,2,  2046.2,2,  2330.7,2,   8.0923,2,       20,-999.000,9,-999.0000,9, -999.00,9,  19.6931,2, -999.00,9,  -999.0,9, -999.00,9,  -999.0,9, -999.00,9,       7.80,2,     -999.0,1, -999.00,1, 20140429,      824, -24.9996,-149.9997,    35.7519,2,     -999.0,1,     -999.0,9,     -999.0,9,     -999.0,9,     -999.0,1,     -999.0,1
320620140320,       P16S,      75,          1,         31,         31,2,20140429,       0629,   -24.9998,  -150.0001,       4599,   149.4,  18.3025,  35.4873,2,  35.5010,2,    211.1,2,   209.0,2,    0.78,2,    1.30,2,    0.11,2,    0.16,2,   2.246,2,   1.318,2,    1.76,2,  2065.9,2,  2322.9,2,   8.0474,2,       20,-999.000,9,-999.0000,9, -999.00,9,  18.3057,2, -999.00,9,  -999.0,9, -999.00,9,  -999.0,9, -999.00,9,       9.09,2,     -999.0,9, -999.00,1, 20140429,      822, -24.9996,-149.9995,    35.6684,2,     -999.0,1,     -999.0,9,     -999.0,9,     -999.0,9,     -999.0,1,     -999.0,1
320620140320,       P16S,      75,          1,         30,         30,2,20140429,       0629,   -24.9998,  -150.0001,       4599,   199.9,  16.9646,  35.3447,2,  35.3486,2,    208.3,2,   209.1,2,    0.98,2,    2.50,2,    0.01,2,    0.24,2,-999.000,9,-999.000,9, -999.00,9,  2075.5,2,  2315.8,2,   8.0165,2,       20,-999.000,9,-999.0000,9, -999.00,9,  16.9800,2, -999.00,9,  -999.0,9, -999.00,9,  -999.0,9, -999.00,9,     -999.0,9,     -999.0,9, -999.00,1, 20140429,      819, -24.9996,-149.9997,    35.5153,2,     -999.0,1,     -999.0,9,     -999.0,9,     -999.0,9,     -999.0,1,     -999.0,1
320620140320,       P16S,      75,          1,         29,         29,2,20140429,       0629,   -24.9998,  -150.0001,       4599,   250.4,  15.6049,  35.1830,2,  35.1813,2,    206.1,2,   204.5,2,    1.37,2,    4.76,2,    0.01,2,    0.40,2,   2.539,2,   1.435,2,    1.72,2,  2087.3,2,  2308.9,2,   7.9763,2,       20,-999.000,9,-999.0000,9, -999.00,9,  15.6088,2, -999.00,9,  -999.0,9, -999.00,9,  -999.0,9, -999.00,9,      11.06,2,     -999.0,1, -999.00,1, 20140429,      817, -24.9997,-149.9998,    35.3472,2,     -999.0,1,     -999.0,9,     -999.0,9,     -999.0,9,     -999.0,1,     -999.0,1
320620140320,       P16S,      75,          1,         28,         28,2,20140429,       0629,   -24.9998,  -150.0001,       4599,   299.5,  14.1716,  35.0191,2,  35.0173,2,    201.3,2,   201.2,2,    1.95,2,    7.66,2,    0.01,2,    0.60,2,   2.787,2,   1.483,2,    1.45,2,  2100.6,2,  2300.7,2,   7.9349,2,       20,-999.000,9,-999.0000,9, -999.00,9,  14.1762,2, -999.00,9,  -999.0,9, -999.00,9,  -999.0,9, -999.00,9,      13.26,2,     -999.0,9, -999.00,1, 20140429,      815, -24.9998,-149.9999,    35.1824,2,     -999.0,1,     -999.0,9,     -999.0,9,     -999.0,9,     -999.0,1,     -999.0,1
320620140320,       P16S,      75,          1,         27,         27,2,20140429,       0629,   -24.9998,  -150.0001,       4599,   349.7,  12.2110,  34.8482,2,  34.8402,2,    196.6,2,   197.9,2,    3.23,2,   12.46,2,    0.01,2,    0.92,2,   2.877,2,   1.475,2,    1.49,2,  2118.7,2,  2291.7,2,   7.8792,6,       20,-999.000,9,-999.0000,9, -999.00,9,  12.1980,2, -999.00,9,  -999.0,9, -999.00,9,  -999.0,9, -999.00,9,      16.63,2,     -999.0,9, -999.00,1, 20140429,      813, -24.9998,-150.0000,    35.0045,2,     -999.0,1,     -999.0,9,     -999.0,9,     -999.0,9,     -999.0,1,     -999.0,1
320620140320,       P16S,      75,          1,         26,         26,2,20140429,       0629,   -24.9998,  -150.0001,       4599,   400.4,  10.6710,  34.6753,2,  34.6674,2,    201.4,2,   204.9,2,    4.01,2,   15.25,2,    0.00,2,    1.08,2,   3.023,2,   1.550,2,    1.37,2,  2127.8,2,    2286,2,   7.8452,2,       20,-999.000,9,-999.0000,9, -999.00,9,  10.6673,2, -999.00,9,  -999.0,9, -999.00,9,  -999.0,9, -999.00,9,      18.39,2,     -999.0,9, -999.00,1, 20140429,      811, -24.9998,-150.0001,    34.8309,2,     -999.0,1,     -999.0,9,     -999.0,9,     -999.0,9,     -999.0,1,     -999.0,1
320620140320,       P16S,      75,          1,         25,         25,2,20140429,       0629,   -24.9998,  -150.0001,       4599,   450.0,   9.1489,  34.5095,2,  34.5132,2,    215.5,2,   216.2,2,    5.57,2,   17.83,2,    0.00,2,    1.26,2,   3.284,2,   1.628,2,    1.23,2,  2134.2,2,  2279.6,6,   7.8162,2,       20,-999.000,9,-999.0000,9, -999.00,9,   9.1376,2, -999.00,9,  -999.0,9, -999.00,9,  -999.0,9, -999.00,9,      19.99,2,     -999.0,9, -999.00,1, 20140429,      809, -24.9999,-150.0001,    34.6759,2,     -999.0,1,     -999.0,9,     -999.0,9,     -999.0,9,     -999.0,1,     -999.0,1
320620140320,       P16S,      75,          1,         24,         24,2,20140429,       0629,   -24.9998,  -150.0001,       4599,   499.3,   7.9532,  34.4176,2,  34.4180,2,    223.4,2,   223.9,2,    6.16,2,   20.37,2,    0.00,2,    1.41,2,-999.000,9,-999.000,9, -999.00,9,  2140.7,6,  2277.2,2,   7.7923,2,       20,-999.000,9,-999.0000,9, -999.00,9,   7.9574,2, -999.00,9,  -999.0,9, -999.00,9,  -999.0,9, -999.00,9,     -999.0,9,     -999.0,1, -999.00,1, 20140429,      807, -24.9999,-150.0001,    34.5803,2,     -999.0,1,     -999.0,9,     -999.0,9,     -999.0,9,     -999.0,1,     -999.0,1
320620140320,       P16S,      75,          1,         23,         23,2,20140429,       0629,   -24.9998,  -150.0001,       4599,   597.8,   6.7504,  34.3532,2,  34.3540,2,    229.0,2,   229.0,2,    8.90,2,   23.31,2,    0.00,2,    1.59,2,   2.962,2,   1.402,2,    1.01,2,  2149.5,2,    2278,2,   7.7729,2,       20,-999.000,9,-999.0000,9, -999.00,9,   6.7615,2, -999.00,9,  -999.0,9, -999.00,9,  -999.0,9, -999.00,9,      19.57,2,     -999.0,9, -999.00,1, 20140429,      804, -25.0000,-150.0003,    34.5160,2,     -999.0,1,     -999.0,9,     -999.0,9,     -999.0,9,     -999.0,1,     -999.0,1
320620140320,       P16S,      75,          1,         22,         22,2,20140429,       0629,   -24.9998,  -150.0001,       4599,   700.6,   5.9807,  34.3177,2,  34.3181,2,    226.6,2,   226.9,2,   12.42,2,   25.44,2,    0.00,2,    1.75,2,   2.262,2,   1.084,2,    0.61,2,  2155.9,2,  2279.8,2,   7.7572,2,       20,-999.000,9,-999.0000,9, -999.00,9,   5.9864,2, -999.00,9,  -999.0,9, -999.00,9,  -999.0,9, -999.00,9,      19.29,2,     -999.0,9, -999.00,1, 20140429,      801, -25.0000,-150.0003,    34.4799,2,     -999.0,1,     -999.0,9,     -999.0,9,     -999.0,9,     -999.0,1,     -999.0,1
320620140320,       P16S,      75,          1,         21,         21,2,20140429,       0629,   -24.9998,  -150.0001,       4599,   800.3,   5.2393,  34.3150,2,  34.3145,2,    206.9,2,   208.6,2,   21.02,2,   28.66,2,    0.00,2,    1.97,2,   1.214,2,   0.574,2,    0.04,2,  2174.9,2,  2285.6,2,   7.7179,2,       20,-999.000,9,-999.0000,9, -999.00,9,   5.2413,2, -999.00,9,  -999.0,9, -999.00,9,  -999.0,9, -999.00,9,      21.57,2,     -999.0,1, -999.00,1, 20140429,      758, -25.0000,-150.0003,    34.4763,2,     -999.0,1,     -999.0,9,     -999.0,9,     -999.0,9,     -999.0,1,     -999.0,1
320620140320,       P16S,      75,          1,         20,         20,2,20140429,       0629,   -24.9998,  -150.0001,       4599,   897.5,   4.6370,  34.3427,2,  34.3426,2,    192.2,2,   190.7,2,   32.56,2,   31.16,2,    0.00,2,    2.15,2,-999.000,9,-999.000,9, -999.00,9,  2197.9,2,  2296.7,2,   7.6825,2,       20,-999.000,9,-999.0000,9, -999.00,9,   4.6372,2, -999.00,9,  -999.0,9, -999.00,9,  -999.0,9, -999.00,9,     -999.0,9,     -999.0,9, -999.00,1, 20140429,      755, -24.9999,-150.0001,    34.5045,2,     -999.0,1,     -999.0,9,     -999.0,9,     -999.0,9,     -999.0,1,     -999.0,1
320620140320,       P16S,      75,          1,         19,         19,2,20140429,       0629,   -24.9998,  -150.0001,       4599,  1000.2,   4.1057,  34.3782,2,  34.3783,2,    180.5,2,   179.0,2,   43.70,2,   32.84,2,    0.00,2,    2.27,2,   0.310,2,   0.165,2,   -0.01,2,  2216.8,2,  2308.5,2,    7.659,2,       20,-999.000,9,-999.0000,9, -999.00,9,   4.1059,2, -999.00,9,  -999.0,9, -999.00,9,  -999.0,9, -999.00,9,      23.83,2,     -999.0,1, -999.00,1, 20140429,      752, -24.9998,-150.0000,    34.5404,2,     -999.0,1,     -999.0,9,     -999.0,9,     -999.0,9,     -999.0,1,     -999.0,1
320620140320,       P16S,      75,          1,         18,         18,2,20140429,       0629,   -24.9998,  -150.0001,       4599,  1101.1,   3.7197,  34.4233,2,  34.4238,2,    169.0,2,   168.2,2,   55.53,2,   33.97,2,    0.00,2,    2.36,2,   0.142,2,   0.051,2,    0.01,2,    2234,2,  2320.4,2,   7.6413,2,       20,-999.000,9,-999.0000,9, -999.00,9,   3.7187,2, -999.00,9,  -999.0,9, -999.00,9,  -999.0,9, -999.00,9,      24.34,2,     -999.0,9, -999.00,1, 20140429,      749, -24.9999,-150.0000,    34.5862,2,     -999.0,1,     -999.0,9,     -999.0,9,     -999.0,9,     -999.0,1,     -999.0,1
320620140320,       P16S,      75,          1,         17,         17,2,20140429,       0629,   -24.9998,  -150.0001,       4599,  1200.2,   3.3600,  34.4656,2,  34.4646,2,    164.4,2,   163.3,2,   66.08,2,   34.47,2,    0.00,2,    2.40,2,   0.075,2,   0.026,2,    0.04,2,  2247.6,2,    2332,2,   7.6352,2,       20,-999.000,9,-999.0000,9, -999.00,9,   3.3611,2, -999.00,9,  -999.0,9, -999.00,9,  -999.0,9, -999.00,9,      24.60,2,     -999.0,9, -999.00,1, 20140429,      746, -24.9999,-150.0002,    34.6272,2,     -999.0,1,     -999.0,9,     -999.0,9,     -999.0,9,     -999.0,1,     -999.0,1
320620140320,       P16S,      75,          1,         16,         16,2,20140429,       0629,   -24.9998,  -150.0001,       4599,  1299.6,   3.0810,  34.5016,2,  34.5010,2,    161.4,2,   160.5,2,   75.66,2,   34.75,2,    0.00,2,    2.42,2,-999.000,9,-999.000,9, -999.00,9,  2257.7,6,  2342.4,2,   7.6337,2,       20,-999.000,9,-999.0000,9, -999.00,9,   3.0846,2, -999.00,9,  -999.0,9, -999.00,9,  -999.0,9, -999.00,9,     -999.0,9,     -999.0,9, -999.00,1, 20140429,      744, -25.0000,-150.0003,    34.6637,2,     -999.0,1,     -999.0,9,     -999.0,9,     -999.0,9,     -999.0,1,     -999.0,1
320620140320,       P16S,      75,          1,         15,         15,2,20140429,       0629,   -24.9998,  -150.0001,       4599,  1397.2,   2.7979,  34.5402,2,  34.5397,2,    157.8,2,   158.1,2,   86.22,2,   34.96,2,    0.00,2,    2.42,2,   0.016,2,   0.002,2,   -0.00,2,  2269.3,2,  2354.8,2,    7.632,2,       20,-999.000,9,-999.0000,9, -999.00,9,   2.8001,2, -999.00,9,  -999.0,9, -999.00,9,  -999.0,9, -999.00,9,      24.73,2,     -999.0,9, -999.00,1, 20140429,      741, -25.0000,-150.0003,    34.7025,2,     -999.0,1,     -999.0,9,     -999.0,9,     -999.0,9,     -999.0,1,     -999.0,1
320620140320,       P16S,      75,          1,         14,         14,2,20140429,       0629,   -24.9998,  -150.0001,       4599,  1498.9,   2.6438,  34.5616,2,  34.5618,2,    156.0,2,   156.1,2,   92.47,2,   35.08,2,    0.00,2,    2.46,2,   0.009,2,   0.001,2,    0.00,2,  2275.7,2,  2362.5,2,   7.6333,2,       20,-999.000,9,-999.0000,9, -999.00,9,   2.6440,2, -999.00,9,  -999.0,9, -999.00,9,  -999.0,9, -999.00,9,      24.28,2,     -999.0,1, -999.00,1, 20140429,      738, -24.9999,-150.0001,    34.7248,2,     -999.0,1,     -999.0,9,     -999.0,9,     -999.0,9,     -999.0,1,     -999.0,1
320620140320,       P16S,      75,          1,         13,         13,2,20140429,       0629,   -24.9998,  -150.0001,       4599,  1599.5,   2.5305,  34.5770,2,  34.5770,2,    154.5,2,   155.2,2,   96.97,2,   35.20,2,    0.00,2,    2.47,2,   0.004,2,   0.000,2,    0.00,2,  2281.2,2,    2367,2,   7.6334,2,       20,-999.000,9,-999.0000,9, -999.00,9,   2.5295,2, -999.00,9,  -999.0,9, -999.00,9,  -999.0,9, -999.00,9,      23.23,2,     -999.0,9, -999.00,1, 20140429,      735, -24.9999,-150.0002,    34.7400,2,     -999.0,1,     -999.0,9,     -999.0,9,     -999.0,9,     -999.0,1,     -999.0,1
320620140320,       P16S,      75,          1,         12,         12,2,20140429,       0629,   -24.9998,  -150.0001,       4599,  1798.2,   2.2461,  34.6183,2,  34.6182,2,    150.3,2,   150.8,2,  110.55,2,   35.56,2,    0.00,2,    2.50,2,  -0.002,2,   0.001,2,    0.01,2,  2296.7,2,  2383.8,2,   7.6319,2,       20,-999.000,9,-999.0000,9, -999.00,9,   2.2465,2, -999.00,9,  -999.0,9, -999.00,9,  -999.0,9, -999.00,9,      23.97,2,     -999.0,9, -999.00,9, 20140429,      730, -24.9999,-150.0002,    34.7814,2,     -999.0,9,     -999.0,9,     -999.0,9,     -999.0,9,     -999.0,9,     -999.0,9
320620140320,       P16S,      75,          1,         11,         11,2,20140429,       0629,   -24.9998,  -150.0001,       4599,  2001.7,   2.0866,  34.6370,2,  34.6370,2,    148.7,2,   148.1,2,  118.17,2,   35.75,2,    0.00,2,    2.51,2,  -0.002,2,   0.000,2,    0.00,2,  2304.2,2,  2392.1,2,   7.6324,2,       20,-999.000,9,-999.0000,9, -999.00,9,   2.0871,2, -999.00,9,  -999.0,9, -999.00,9,  -999.0,9, -999.00,9,      23.18,2,     -999.0,1, -999.00,9, 20140429,      726, -24.9999,-150.0001,    34.8004,2,     -999.0,9,     -999.0,9,     -999.0,9,     -999.0,9,     -999.0,9,     -999.0,9
320620140320,       P16S,      75,          1,         10,         10,2,20140429,       0629,   -24.9998,  -150.0001,       4599,  2248.9,   1.9557,  34.6499,2,  34.6508,2,    149.5,2,   150.0,2,  123.06,2,   35.74,2,    0.00,2,    2.51,2,-999.000,9,-999.000,9, -999.00,9,    2308,2,  2396.9,2,   7.6342,2,       20,-999.000,9,-999.0000,9, -999.00,9,   1.9557,2, -999.00,9,  -999.0,9, -999.00,9,  -999.0,9, -999.00,9,     -999.0,9,     -999.0,9, -999.00,9, 20140429,      720, -24.9999,-150.0001,    34.8142,2,     -999.0,9,     -999.0,9,     -999.0,9,     -999.0,9,     -999.0,9,     -999.0,9
320620140320,       P16S,      75,          1,          9,         09,2,20140429,       0629,   -24.9998,  -150.0001,       4599,  2501.6,   1.8610,  34.6581,2,  34.6584,2,    152.2,2,   152.1,2,  125.01,2,   35.51,2,    0.00,2,    2.50,2,  -0.001,2,   0.000,2,    0.01,2,  2307.1,2,    2398,2,   7.6375,2,       20,-999.000,9,-999.0000,9, -999.00,9,   1.8611,2, -999.00,9,  -999.0,9, -999.00,9,  -999.0,9, -999.00,9,      23.04,2,     -999.0,1, -999.00,9, 20140429,      715, -24.9999,-150.0002,    34.8219,2,     -999.0,9,     -999.0,9,     -999.0,9,     -999.0,9,     -999.0,9,     -999.0,9
320620140320,       P16S,      75,          1,          8,         08,2,20140429,       0629,   -24.9998,  -150.0001,       4599,  2749.3,   1.7944,  34.6644,2,  34.6647,2,    154.4,2,   155.4,2,  126.38,2,   35.39,2,    0.00,2,    2.48,2,-999.000,9,-999.000,9, -999.00,9,  2309.2,6,  2399.1,2,   7.6405,2,       20,-999.000,9,-999.0000,9, -999.00,9,   1.7946,2, -999.00,9,  -999.0,9, -999.00,9,  -999.0,9, -999.00,9,     -999.0,9,     -999.0,1, -999.00,9, 20140429,      710, -24.9999,-150.0002,    34.8282,2,     -999.0,9,     -999.0,9,     -999.0,9,     -999.0,9,     -999.0,9,     -999.0,9
320620140320,       P16S,      75,          1,          7,         07,2,20140429,       0629,   -24.9998,  -150.0001,       4599,  2997.9,   1.7091,  34.6715,2,  34.6732,2,    159.8,2,   159.1,2,  127.07,2,   35.15,2,    0.00,2,    2.43,2,   0.000,2,   0.000,2,    0.00,2,  2304.7,2,  2398.7,6,   7.6454,2,       20,-999.000,9,-999.0000,9, -999.00,9,   1.7095,2, -999.00,9,  -999.0,9, -999.00,9,  -999.0,9, -999.00,9,      23.07,2,     -999.0,1, -999.00,9, 20140429,      705, -24.9999,-150.0001,    34.8367,2,     -999.0,9,     -999.0,9,     -999.0,9,     -999.0,9,     -999.0,9,     -999.0,9
320620140320,       P16S,      75,          1,          6,         06,2,20140429,       0629,   -24.9998,  -150.0001,       4599,  3300.7,   1.6188,  34.6795,2,  34.6789,2,    166.0,2,   165.6,2,  126.48,2,   34.65,2,    0.00,2,    2.41,2,-999.000,9,-999.000,9, -999.00,9,  2300.5,2,  2395.9,2,   7.6515,2,       20,-999.000,9,-999.0000,9, -999.00,9,   1.6192,2, -999.00,9,  -999.0,9, -999.00,9,  -999.0,9, -999.00,9,     -999.0,9,     -999.0,9, -999.00,9, 20140429,      659, -24.9999,-150.0001,    34.8424,2,     -999.0,9,     -999.0,9,     -999.0,9,     -999.0,9,     -999.0,9,     -999.0,9