BOTTLE,20230715CCHSIOCBG
EXPOCODE,SECT_ID,STNNBR,CASTNO,SAMPNO,BTLNBR,BTLNBR_FLAG_W,DATE,TIME,LATITUDE,LONGITUDE,DEPTH,CTDPRS,CTDTMP,CTDSAL,CTDSAL_FLAG_W,SALNTY,SALNTY_FLAG_W,CTDOXY,CTDOXY_FLAG_W,OXYGEN,OXYGEN_FLAG_W,SILCAT,SILCAT_FLAG_W,NITRAT,NITRAT_FLAG_W,NITRIT,NITRIT_FLAG_W,PHSPHT,PHSPHT_FLAG_W,CFC-11,CFC-11_FLAG_W,CFC-12,CFC-12_FLAG_W,SF6,SF6_FLAG_W,TCARBN,TCARBN_FLAG_W,ALKALI,ALKALI_FLAG_W,PH_TOT,PH_TOT_FLAG_W,PH_TMP,TRITUM,TRITUM_FLAG_W,HELIUM,HELIUM_FLAG_W,DELHE3,DELHE3_FLAG_W,REFTMP,REFTMP_FLAG_W,DELC13,DELC13_FLAG_W,DELC14,DELC14_FLAG_W,DELO18,DELO18_FLAG_W,DOC,DOC_FLAG_W,TDN,TDN_FLAG_W,N2O,N2O_FLAG_W,CALCIUM,CALCIUM_FLAG_W,D15N_NO3,D15N_NO3_FLAG_W,BTL_DATE,BTL_TIME,BTL_LAT,BTL_LON,SALTREF,SALTREF_FLAG_W,D18O_NO3,D18O_NO3_FLAG_W,DSI30,DSI30_FLAG_W,CDOM_NASA,CDOM_NASA_FLAG_W,CDOM_UCSB,CDOM_UCSB_FLAG_W,D15N_NO2+NO3,D15N_NO2+NO3_FLAG_W,D18O_NO2+NO3,D18O_NO2+NO3_FLAG_W
,,,,,,,,,,,METERS,DBAR,ITS-90,PSS-78,,PSS-78,,UMOL/KG,,UMOL/KG,,UMOL/KG,,UMOL/KG,,UMOL/KG,,UMOL/KG,,PMOL/KG,,PMOL/KG,,FMOL/KG,,UMOL/KG,,UMOL/KG,,,,DEG C,TU,,NMOL/KG,,PERCNT,,DEG C,,/MILLE,,/MILLE,,/MILLE,,UMOL/KG,,UMOL/KG,,NMOL/KG,,MMOL/KG,,/MILLE,,,,,,G/KG,,/MILLE,,/MILLE,,,,,,/MILLE,,/MILLE,
320620140320,       P16S,      16,          1,         36,         36,2,20140406,       1838,   -59.0000,  -149.9997,       2838,     4.8,   1.1217,  33.8011,2,  33.8040,2,    337.0,2,   337.5,2,   43.37,2,   24.20,2,    0.22,2,    1.66,2,   5.710,2,   3.062,2,    3.37,2,  2164.2,6,  2289.4,2,    7.767,2,       20,-999.000,1,-999.0000,1, -999.00,9,   1.1213,2, -999.00,9,  -999.0,9, -999.00,1,    44.3,2,   27.95,2,      15.30,2,     -999.0,9,    6.71,2, 20140406,     2000, -58.9994,-149.9996,    33.9634,2,       3.20,2,     -999.0,9,     -999.0,9,     -999.0,1,       6.11,2,       3.51,2
320620140320,       P16S,      16,          1,         35,         35,2,20140406,       1838,   -59.0000,  -149.9997,       2838,    18.9,   1.1132,  33.8058,2,  33.8065,2,    337.4,2,   337.2,2,   42.88,2,   24.25,2,    0.22,2,    1.66,2,   5.742,2,   3.068,2,    3.07,2,  2164.2,2,  2289.2,2,   7.7666,6,       20,-999.000,1,-999.0000,1, -999.00,9,   1.1135,2, -999.00,9,  -999.0,9, -999.00,1,    43.2,2,    28.5,2,      15.20,2,     -999.0,9,    6.67,2, 20140406,     1959, -58.9994,-149.9996,    33.9659,2,       3.31,2,     -999.0,9,     -999.0,9,     -999.0,1,       6.13,2,       3.47,2
320620140320,       P16S,      16,          1,         34,         34,2,20140406,       1838,   -59.0000,  -149.9997,       2838,    38.2,   1.1111,  33.8131,2,  33.8153,2,    337.3,2,   336.8,2,   43.37,2,   24.27,2,    0.22,2,    1.64,2,   5.594,2,   3.066,2,    3.27,2,  2165.4,2,  2290.6,6,   7.7656,2,       20,-999.000,1,-999.0000,1, -999.00,9,   1.1121,2, -999.00,9,  -999.0,9, -999.00,1,    42.2,2,    29.5,2,      15.26,2,     -999.0,9,    6.77,2, 20140406,     1958, -58.9994,-149.9996,    33.9747,2,       3.40,2,     -999.0,1,     -999.0,9,     -999.0,1,       6.10,2,       3.36,2
320620140320,       P16S,      16,          1,         33,         33,2,20140406,       1838,   -59.0000,  -149.9997,       2838,    63.3,   0.0903,  33.9607,2,-999.0000,9,   -999.0,9,  -999.0,9, -999.00,9, -999.00,9, -999.00,9, -999.00,9,-999.000,9,-999.000,9, -999.00,9,  -999.0,9,  -999.0,9,-999.0000,9,  -999.00,-999.000,9,-999.0000,9, -999.00,9,   0.1248,2, -999.00,9,  -999.0,9, -999.00,9,  -999.0,9, -999.00,9,     -999.0,9,     -999.0,9, -999.00,9, 20140406,     1957, -58.9995,-149.9996,     -999.0,9,     -999.0,9,     -999.0,9,     -999.0,9,     -999.0,9,     -999.0,9,     -999.0,9
320620140320,       P16S,      16,          1,         32,         32,2,20140406,       1838,   -59.0000,  -149.9997,       2838,    63.7,   0.0366,  33.9707,2,  33.9784,2,    331.5,2,   319.9,2,   54.40,2,   26.65,2,    0.21,2,    1.92,2,-999.000,9,-999.000,9, -999.00,9,  2187.7,2,  2299.6,2,   7.7238,2,       20,-999.000,1,-999.0000,1, -999.00,9,   0.0984,3, -999.00,9,  -999.0,9, -999.00,1,    42.3,2,   31.84,2,     -999.0,9,     -999.0,9,    6.01,2, 20140406,     1957, -58.9995,-149.9996,    34.1386,2,       3.18,2,     -999.0,9,     -999.0,9,     -999.0,1,       5.60,2,       3.15,2
320620140320,       P16S,      16,          1,         30,         30,2,20140406,       1838,   -59.0000,  -149.9997,       2838,    89.4,  -0.9195,  34.1328,2,  34.1345,2,    307.0,2,   303.7,2,   65.23,2,   29.06,2,    0.21,2,    2.09,2,   4.789,2,   2.577,2,    2.56,2,  2209.2,2,  2307.8,2,   7.6847,2,       20,-999.000,1,-999.0000,1, -999.00,9,  -0.9181,2, -999.00,9,  -999.0,9, -999.00,1,      40,2,   34.22,2,      18.11,2,     -999.0,9,    5.37,2, 20140406,     1955, -58.9995,-149.9996,    34.2955,2,       2.71,2,     -999.0,1,     -999.0,9,     -999.0,1,       5.14,2,       2.73,2
320620140320,       P16S,      16,          1,         31,         31,2,20140406,       1838,   -59.0000,  -149.9997,       2838,    91.1,  -0.9030,  34.1305,2,-999.0000,9,   -999.0,9,  -999.0,9, -999.00,9, -999.00,9, -999.00,9, -999.00,9,-999.000,9,-999.000,9, -999.00,9,  -999.0,9,  -999.0,9,-999.0000,9,  -999.00,-999.000,9,-999.0000,9, -999.00,9,  -0.9023,2, -999.00,9,  -999.0,9, -999.00,9,  -999.0,9, -999.00,9,     -999.0,9,     -999.0,9, -999.00,9, 20140406,     1955, -58.9995,-149.9996,     -999.0,9,     -999.0,9,     -999.0,9,     -999.0,9,     -999.0,9,     -999.0,9,     -999.0,9
320620140320,       P16S,      16,          1,         29,         29,2,20140406,       1838,   -59.0000,  -149.9997,       2838,   113.8,  -1.2345,  34.2016,2,  34.2026,2,    297.5,2,   300.4,2,   69.81,2,   29.71,2,    0.24,2,    2.15,2,   4.666,2,   2.469,2,    2.40,2,  2215.2,2,  2312.2,2,   7.6743,2,       20,-999.000,1,-999.0000,1, -999.00,9,  -1.2404,2, -999.00,9,  -999.0,9, -999.00,1,    41.6,2,   35.44,2,      19.05,2,     -999.0,9,    5.18,2, 20140406,     1953, -58.9995,-149.9996,    34.3638,2,       2.55,2,     -999.0,9,     -999.0,9,     -999.0,1,       4.97,2,       2.68,2
320620140320,       P16S,      16,          1,         28,         28,2,20140406,       1838,   -59.0000,  -149.9997,       2838,   139.0,  -0.7792,  34.3141,2,  34.3210,2,    272.2,2,   270.7,2,   74.69,2,   31.25,2,    0.18,2,    2.17,2,   3.710,2,   2.006,2,    1.98,2,  2227.4,2,  2318.7,2,   7.6564,2,       20,-999.000,1,-999.0000,1, -999.00,9,  -0.8377,3, -999.00,9,  -999.0,9, -999.00,1,    40.4,2,   36.11,2,      19.99,2,     -999.0,9,    4.89,2, 20140406,     1952, -58.9995,-149.9996,    34.4828,2,       2.39,2,     -999.0,1,     -999.0,9,     -999.0,1,       4.80,2,       2.42,2
320620140320,       P16S,      16,          1,         27,         27,2,20140406,       1838,   -59.0000,  -149.9997,       2838,   164.9,   0.6477,  34.5012,2,  34.5004,2,    249.7,2,   215.8,2,   79.66,2,   32.63,2,    0.04,2,    2.26,2,   2.002,2,   1.054,2,    0.86,2,  2244.9,2,  2328.8,2,   7.6332,2,       20,-999.000,1,-999.0000,1, -999.00,9,   0.6452,2, -999.00,9,  -999.0,9, -999.00,1,    41.1,2,   35.88,2,      22.07,2,     -999.0,9,    4.82,2, 20140406,     1950, -58.9995,-149.9996,    34.6631,2,       2.06,2,     -999.0,9,     -999.0,9,     -999.0,1,       4.82,2,       2.12,2
320620140320,       P16S,      16,          1,         26,         26,2,20140406,       1838,   -59.0000,  -149.9997,       2838,   188.1,   0.8540,  34.5641,2,  34.5597,2,    206.4,2,   208.3,2,   83.07,2,   32.63,2,    0.03,2,    2.25,2,   1.648,2,   0.884,2,    0.99,2,    2249,2,  2333.2,2,   7.6362,2,       20,-999.000,9,-999.0000,9, -999.00,9,   0.8586,2, -999.00,9,  -999.0,9, -999.00,9,    41.1,2,   34.94,2,      22.31,2,     -999.0,9,    4.79,2, 20140406,     1948, -58.9995,-149.9996,    34.7226,2,       2.16,2,     -999.0,1,     -999.0,9,     -999.0,9,       4.75,2,       2.03,2
320620140320,       P16S,      16,          1,         25,         25,2,20140406,       1838,   -59.0000,  -149.9997,       2838,   232.1,   1.1239,  34.6360,2,  34.6345,2,    199.0,2,   197.9,2,   87.95,2,   32.53,2,    0.02,2,    2.24,2,   1.112,2,   0.593,2,    0.61,2,  2253.7,2,  2339.4,2,    7.637,2,       20,-999.000,9,-999.0000,1, -999.00,9,   1.1141,2, -999.00,9,  -999.0,9, -999.00,9,    41.8,2,    34.2,2,      21.87,2,     -999.0,9,    4.79,2, 20140406,     1947, -58.9995,-149.9996,    34.7978,2,       2.10,2,     -999.0,9,     -999.0,9,     -999.0,1,       4.73,2,       1.92,2
320620140320,       P16S,      16,          1,         24,         24,2,20140406,       1838,   -59.0000,  -149.9997,       2838,   285.0,   1.3977,  34.6937,2,  34.6931,2,    191.0,2,   189.4,2,   91.75,2,   32.29,2,    0.02,2,    2.23,2,-999.000,9,-999.000,9, -999.00,9,    2257,2,  2344.9,2,   7.6401,2,       20,-999.000,9,-999.0000,9, -999.00,9,   1.3984,2, -999.00,9,  -999.0,9, -999.00,9,    63.6,4,   33.88,2,     -999.0,9,     -999.0,9,    4.74,2, 20140406,     1945, -58.9995,-149.9995,    34.8567,2,       2.01,2,     -999.0,1,     -999.0,9,     -999.0,9,       4.72,2,       1.97,2
320620140320,       P16S,      16,          1,         23,         23,2,20140406,       1838,   -59.0000,  -149.9997,       2838,   336.3,   1.4818,  34.7175,2,  34.7186,2,    187.6,2,   189.6,2,   93.90,2,   31.98,2,    0.01,2,    2.19,2,   0.440,2,   0.203,2,    0.29,2,  2256.4,2,  2348.8,2,   7.6483,2,       20,-999.000,1,-999.0000,1, -999.00,9,   1.4825,2, -999.00,9,  -999.0,9, -999.00,1,    41.8,2,   34.62,2,      21.70,2,     -999.0,9,    4.74,2, 20140406,     1943, -58.9996,-149.9996,    34.8823,2,       1.83,2,     -999.0,9,     -999.0,9,     -999.0,1,       4.72,2,       1.94,2
320620140320,       P16S,      16,          1,         22,         22,2,20140406,       1838,   -59.0000,  -149.9997,       2838,   385.8,   1.4547,  34.7231,2,  34.7237,2,    190.1,2,   189.9,2,   95.75,2,   31.92,2,    0.02,2,    2.20,2,   0.381,2,   0.174,2,    0.17,2,  -999.0,9,  -999.0,9,-999.0000,9,  -999.00,-999.000,9,-999.0000,9, -999.00,9,   1.4541,2, -999.00,9,  -999.0,9, -999.00,9,    40.3,2,   33.82,2,      21.28,2,     -999.0,9, -999.00,9, 20140406,     1941, -58.9996,-149.9996,    34.8874,2,     -999.0,9,     -999.0,1,     -999.0,9,     -999.0,9,     -999.0,9,     -999.0,9
320620140320,       P16S,      16,          1,         21,         21,2,20140406,       1838,   -59.0000,  -149.9997,       2838,   433.5,   1.4298,  34.7264,2,  34.7261,2,    191.3,2,   191.3,2,   97.21,2,   31.97,2,    0.01,2,    2.19,2,   0.352,2,   0.150,2,    0.16,2,  2258.1,2,  2350.8,2,   7.6555,6,       20,-999.000,1,-999.0000,1, -999.00,9,   1.4306,2, -999.00,9,  -999.0,9, -999.00,1,    37.3,3,   34.37,3,      21.10,2,     -999.0,9, -999.00,9, 20140406,     1939, -58.9996,-149.9995,    34.8898,2,     -999.0,9,     -999.0,9,     -999.0,9,     -999.0,9,     -999.0,9,     -999.0,9
320620140320,       P16S,      16,          1,         20,         20,2,20140406,       1838,   -59.0000,  -149.9997,       2838,   486.5,   1.3807,  34.7274,2,  34.7280,2,    192.4,2,   192.2,2,   99.26,2,   31.73,2,    0.01,2,    2.18,2,   0.327,2,   0.135,2,    0.06,2,  -999.0,9,  -999.0,9,-999.0000,9,  -999.00,-999.000,9,-999.0000,9, -999.00,9,   1.3812,2, -999.00,9,  -999.0,9, -999.00,9,    39.3,2,    33.2,2,      21.02,2,     -999.0,9, -999.00,9, 20140406,     1937, -58.9996,-149.9997,    34.8918,2,     -999.0,9,     -999.0,1,     -999.0,9,     -999.0,1,     -999.0,9,     -999.0,9
320620140320,       P16S,      16,          1,         19,         19,2,20140406,       1838,   -59.0000,  -149.9997,       2838,   565.4,   1.3342,  34.7276,2,  34.7280,2,    193.3,2,   192.8,2,  100.73,2,   31.68,2,    0.01,2,    2.19,2,   0.302,2,   0.128,2,    0.07,2,    2258,2,  2353.2,2,    7.659,2,       20,-999.000,1,-999.0000,1, -999.00,9,   1.3339,2, -999.00,9,  -999.0,9, -999.00,1,    40.2,2,   34.31,2,      20.84,2,     -999.0,9, -999.00,9, 20140406,     1934, -58.9997,-149.9996,    34.8918,2,     -999.0,9,     -999.0,9,     -999.0,9,     -999.0,1,     -999.0,9,     -999.0,9
320620140320,       P16S,      16,          1,         18,         18,2,20140406,       1838,   -59.0000,  -149.9997,       2838,   666.1,   1.2693,  34.7279,2,  34.7290,2,    194.3,2,   194.3,2,  103.95,2,   31.75,2,    0.01,2,    2.17,2,   0.267,2,   0.102,2,    0.05,2,    2258,2,  2354.6,2,   7.6604,2,       20,-999.000,1,-999.0000,1, -999.00,9,   1.2696,2, -999.00,9,  -999.0,9, -999.00,1,    37.9,2, -999.00,9,      19.87,2,     -999.0,9, -999.00,9, 20140406,     1932, -58.9996,-149.9996,    34.8927,2,     -999.0,9,     -999.0,9,     -999.0,9,     -999.0,9,     -999.0,9,     -999.0,9
320620140320,       P16S,      16,          1,         17,         17,3,20140406,       1838,   -59.0000,  -149.9997,       2838,   767.4,   1.2026,  34.7264,2,  34.7270,2,    196.3,2,   197.1,2,  105.61,2,   31.49,2,    0.01,2,    2.18,2,-999.000,9,-999.000,9, -999.00,9,  -999.0,9,  -999.0,9,-999.0000,9,  -999.00,-999.000,9,-999.0000,9, -999.00,9,   1.2023,2, -999.00,9,  -999.0,9, -999.00,9,    40.1,2, -999.00,9,     -999.0,9,     -999.0,9, -999.00,9, 20140406,     1929, -58.9997,-149.9997,    34.8908,2,     -999.0,9,     -999.0,9,     -999.0,9,     -999.0,1,     -999.0,9,     -999.0,9
320620140320,       P16S,      16,          1,         16,         16,2,20140406,       1838,   -59.0000,  -149.9997,       2838,   863.1,   1.1275,  34.7246,2,  34.7256,2,    198.0,2,   198.6,2,  107.66,2,   31.49,2,    0.00,2,    2.19,2,   0.228,2,   0.094,2,    0.07,2,  2258.8,2,  2357.3,2,   7.6682,2,       20,-999.000,1,-999.0000,1, -999.00,9,   1.1279,2, -999.00,9,  -999.0,9, -999.00,1,    38.9,2, -999.00,9,      19.94,2,     -999.0,9, -999.00,9, 20140406,     1926, -58.9997,-149.9996,    34.8894,2,     -999.0,9,     -999.0,9,     -999.0,9,     -999.0,9,     -999.0,9,     -999.0,9
320620140320,       P16S,      16,          1,         15,         15,2,20140406,       1838,   -59.0000,  -149.9997,       2838,   964.8,   1.0741,  34.7231,2,  34.7238,2,    200.5,2,   200.2,2,  109.61,2,   31.84,2,    0.00,2,    2.20,2,   0.222,2,   0.079,2,    0.05,2,  2259.3,2,  2358.3,2,   7.6701,2,       20,-999.000,1,-999.0000,1, -999.00,9,   1.0747,2, -999.00,9,  -999.0,9, -999.00,1,    38.4,2, -999.00,9,      20.28,2,     -999.0,9, -999.00,9, 20140406,     1924, -58.9997,-149.9996,    34.8876,2,     -999.0,9,     -999.0,9,     -999.0,9,     -999.0,1,     -999.0,9,     -999.0,9
320620140320,       P16S,      16,          1,         14,         14,2,20140406,       1838,   -59.0000,  -149.9997,       2838,  1064.2,   1.0089,  34.7203,2,  34.7163,2,    201.4,2,   200.6,2,  112.05,2,   31.88,2,    0.00,2,    2.21,2,   0.228,2,   0.081,2,    0.02,2,  -999.0,9,  -999.0,9,-999.0000,9,  -999.00,-999.000,9,-999.0000,9, -999.00,9,   1.0092,2, -999.00,9,  -999.0,9, -999.00,9,    38.9,2, -999.00,9,      19.78,2,     -999.0,9, -999.00,9, 20140406,     1921, -58.9997,-149.9996,    34.8801,2,     -999.0,9,     -999.0,9,     -999.0,9,     -999.0,9,     -999.0,9,     -999.0,9
320620140320,       P16S,      16,          1,         13,         13,2,20140406,       1838,   -59.0000,  -149.9997,       2838,  1164.9,   0.9294,  34.7173,2,  34.7179,2,    202.6,2,   202.6,2,  114.29,2,   31.84,2,    0.00,2,    2.20,2,   0.213,6,   0.083,6,    0.05,6,  2260.1,2,  2359.7,2,    7.669,2,       20,-999.000,1,-999.0000,1, -999.00,9,   0.9296,2, -999.00,9,  -999.0,9, -999.00,1,    42.1,3, -999.00,9,      20.08,6,     -999.0,9, -999.00,9, 20140406,     1918, -58.9998,-149.9996,    34.8816,2,     -999.0,9,     -999.0,9,     -999.0,9,     -999.0,1,     -999.0,9,     -999.0,9
320620140320,       P16S,      16,          1,         12,         12,2,20140406,       1838,   -59.0000,  -149.9997,       2838,  1265.5,   0.8659,  34.7144,2,  34.7146,2,    203.5,2,   203.3,2,  117.03,2,   32.10,2,    0.00,2,    2.21,2,-999.000,9,-999.000,9, -999.00,9,  -999.0,9,  -999.0,9,-999.0000,9,  -999.00,-999.000,9,-999.0000,9, -999.00,9,   0.8662,2, -999.00,9,  -999.0,9, -999.00,9,    39.5,2, -999.00,9,     -999.0,9,     -999.0,9, -999.00,9, 20140406,     1915, -58.9998,-149.9997,    34.8783,2,     -999.0,9,     -999.0,9,     -999.0,9,     -999.0,9,     -999.0,9,     -999.0,9
320620140320,       P16S,      16,          1,         11,         11,2,20140406,       1838,   -59.0000,  -149.9997,       2838,  1366.2,   0.8122,  34.7123,2,  34.7124,2,    204.3,2,   204.6,2,  119.18,2,   32.18,2,    0.00,2,    2.21,2,   0.227,2,   0.089,2,    0.05,2,  2260.6,2,  2360.7,2,   7.6691,2,       20,-999.000,1,-999.0000,1, -999.00,9,   0.8125,2, -999.00,9,  -999.0,9, -999.00,1,    38.2,2, -999.00,9,      19.78,2,     -999.0,9, -999.00,9, 20140406,     1913, -58.9998,-149.9996,    34.8761,2,     -999.0,9,     -999.0,9,     -999.0,9,     -999.0,1,     -999.0,9,     -999.0,9
320620140320,       P16S,      16,          1,         10,         10,2,20140406,       1838,   -59.0000,  -149.9997,       2838,  1469.6,   0.7617,  34.7100,2,  34.7106,2,    205.2,2,   205.2,2,  121.81,2,   32.12,2,    0.00,2,    2.20,2,   0.223,2,   0.090,2,    0.05,2,  -999.0,9,  -999.0,9,-999.0000,9,  -999.00,-999.000,9,-999.0000,9, -999.00,9,   0.7629,2, -999.00,9,  -999.0,9, -999.00,9,    37.7,2, -999.00,9,      19.49,2,     -999.0,9, -999.00,9, 20140406,     1910, -58.9998,-149.9996,    34.8743,2,     -999.0,9,     -999.0,9,     -999.0,9,     -999.0,9,     -999.0,9,     -999.0,9
320620140320,       P16S,      16,          1,          9,         09,2,20140406,       1838,   -59.0000,  -149.9997,       2838,  1565.3,   0.7340,  34.7086,2,  34.7094,2,    205.8,2,   205.5,2,  124.35,2,   32.34,2,    0.00,2,    2.21,2,   0.225,2,   0.090,2,    0.04,2,  2261.7,2,  2361.3,2,   7.6688,2,       20,-999.000,1,-999.0000,1, -999.00,9,   0.7337,2, -999.00,9,  -999.0,9, -999.00,1,    38.3,2, -999.00,9,      19.51,2,     -999.0,9, -999.00,9, 20140406,     1907, -58.9998,-149.9996,    34.8731,2,     -999.0,9,     -999.0,9,     -999.0,9,     -999.0,1,     -999.0,9,     -999.0,9
320620140320,       P16S,      16,          1,          8,         08,2,20140406,       1838,   -59.0000,  -149.9997,       2838,  1662.5,   0.7081,  34.7073,2,  34.7077,2,    206.0,2,   206.1,2,  126.40,2,   32.36,2,    0.00,2,    2.20,2,   0.231,2,   0.092,2,    0.06,2,  -999.0,9,  -999.0,9,-999.0000,9,  -999.00,-999.000,9,-999.0000,9, -999.00,9,   0.7078,2, -999.00,9,  -999.0,9, -999.00,9,    40.8,2, -999.00,9,      19.69,2,     -999.0,9, -999.00,9, 20140406,     1904, -58.9999,-149.9997,    34.8713,2,     -999.0,9,     -999.0,9,     -999.0,9,     -999.0,9,     -999.0,9,     -999.0,9
320620140320,       P16S,      16,          1,          7,         07,2,20140406,       1838,   -59.0000,  -149.9997,       2838,  1764.4,   0.6896,  34.7067,2,  34.7067,2,    206.2,2,   206.5,2,  127.86,2,   32.37,2,    0.00,2,    2.21,2,   0.232,2,   0.097,2,    0.04,2,    2263,2,  2362.8,2,    7.668,2,       20,-999.000,1,-999.0000,1, -999.00,9,   0.6894,2, -999.00,9,  -999.0,9, -999.00,1,    38.3,2, -999.00,9,      19.08,2,     -999.0,9, -999.00,9, 20140406,     1901, -58.9999,-149.9997,    34.8703,2,     -999.0,9,     -999.0,9,     -999.0,9,     -999.0,1,     -999.0,9,     -999.0,9
320620140320,       P16S,      16,          1,          6,         06,2,20140406,       1838,   -59.0000,  -149.9997,       2838,  1932.0,   0.6589,  34.7056,2,  34.7047,2,    206.8,2,   206.6,2,  128.64,2,   32.38,2,    0.00,2,    2.22,2,   0.255,2,   0.109,2,    0.09,2,  -999.0,9,  -999.0,9,-999.0000,9,  -999.00,-999.000,9,-999.0000,9, -999.00,9,   0.6589,2, -999.00,9,  -999.0,9, -999.00,9,    39.6,2, -999.00,9,      19.67,2,     -999.0,9, -999.00,9, 20140406,     1857, -58.9999,-149.9997,    34.8683,2,     -999.0,9,     -999.0,9,     -999.0,9,     -999.0,9,     -999.0,9,     -999.0,9