BOTTLE,20230715CCHSIOCBG
EXPOCODE,SECT_ID,STNNBR,CASTNO,SAMPNO,BTLNBR,BTLNBR_FLAG_W,DATE,TIME,LATITUDE,LONGITUDE,DEPTH,CTDPRS,CTDTMP,CTDSAL,CTDSAL_FLAG_W,SALNTY,SALNTY_FLAG_W,CTDOXY,CTDOXY_FLAG_W,OXYGEN,OXYGEN_FLAG_W,SILCAT,SILCAT_FLAG_W,NITRAT,NITRAT_FLAG_W,NITRIT,NITRIT_FLAG_W,PHSPHT,PHSPHT_FLAG_W,CFC-11,CFC-11_FLAG_W,CFC-12,CFC-12_FLAG_W,SF6,SF6_FLAG_W,TCARBN,TCARBN_FLAG_W,ALKALI,ALKALI_FLAG_W,PH_TOT,PH_TOT_FLAG_W,PH_TMP,TRITUM,TRITUM_FLAG_W,HELIUM,HELIUM_FLAG_W,DELHE3,DELHE3_FLAG_W,REFTMP,REFTMP_FLAG_W,DELC13,DELC13_FLAG_W,DELC14,DELC14_FLAG_W,DELO18,DELO18_FLAG_W,DOC,DOC_FLAG_W,TDN,TDN_FLAG_W,N2O,N2O_FLAG_W,CALCIUM,CALCIUM_FLAG_W,D15N_NO3,D15N_NO3_FLAG_W,BTL_DATE,BTL_TIME,BTL_LAT,BTL_LON,SALTREF,SALTREF_FLAG_W,D18O_NO3,D18O_NO3_FLAG_W,DSI30,DSI30_FLAG_W,CDOM_NASA,CDOM_NASA_FLAG_W,CDOM_UCSB,CDOM_UCSB_FLAG_W,D15N_NO2+NO3,D15N_NO2+NO3_FLAG_W,D18O_NO2+NO3,D18O_NO2+NO3_FLAG_W
,,,,,,,,,,,METERS,DBAR,ITS-90,PSS-78,,PSS-78,,UMOL/KG,,UMOL/KG,,UMOL/KG,,UMOL/KG,,UMOL/KG,,UMOL/KG,,PMOL/KG,,PMOL/KG,,FMOL/KG,,UMOL/KG,,UMOL/KG,,,,DEG C,TU,,NMOL/KG,,PERCNT,,DEG C,,/MILLE,,/MILLE,,/MILLE,,UMOL/KG,,UMOL/KG,,NMOL/KG,,MMOL/KG,,/MILLE,,,,,,G/KG,,/MILLE,,/MILLE,,,,,,/MILLE,,/MILLE,
320620140320,       P16S,      70,          1,         36,         36,2,20140427,       1237,   -28.3330,  -150.0000,       5124,     4.8,  23.0443,  35.3723,2,  35.3717,2,    214.1,2,   214.3,2,    0.20,2,    0.33,2,    0.01,2,    0.04,2,   1.841,2,   1.141,2,    1.43,2,  2014.1,6,  2318.4,2,    8.129,2,       20,-999.000,9,-999.0000,9, -999.00,9,  23.0430,2, -999.00,9,  -999.0,9, -999.00,9,    65.4,2,     4.1,2,       7.31,2,     -999.0,9, -999.00,9, 20140427,     1458, -28.3334,-149.9992,    35.5385,2,     -999.0,9,     -999.0,9,     -999.0,9,     -999.0,9,     -999.0,9,     -999.0,9
320620140320,       P16S,      70,          1,         35,         35,2,20140427,       1237,   -28.3330,  -150.0000,       5124,    35.5,  23.0356,  35.3975,2,  35.3978,2,    215.1,2,   214.8,2,    0.20,2,    0.31,2,    0.01,2,    0.03,2,-999.000,9,-999.000,9, -999.00,9,  2015.3,2,    2322,2,   8.1277,2,       20,-999.000,9,-999.0000,9, -999.00,9,  23.0363,2, -999.00,9,  -999.0,9, -999.00,9,    65.6,2,    4.08,2,     -999.0,9,     -999.0,9, -999.00,9, 20140427,     1451, -28.3332,-149.9996,    35.5647,2,     -999.0,9,     -999.0,9,     -999.0,9,     -999.0,9,     -999.0,9,     -999.0,9
320620140320,       P16S,      70,          1,         34,         34,2,20140427,       1237,   -28.3330,  -150.0000,       5124,    59.1,  22.8928,  35.4508,2,  35.4496,2,    216.6,2,   216.3,2,    0.20,2,    0.31,2,    0.00,2,    0.03,2,   1.845,2,   1.153,2,    1.55,2,  2020.8,2,  2323.7,2,   8.1235,2,       20,-999.000,9,-999.0000,9, -999.00,9,  22.8972,2, -999.00,9,  -999.0,9, -999.00,9,    65.9,2,    2.95,2,       7.19,2,     -999.0,9, -999.00,9, 20140427,     1450, -28.3332,-149.9996,    35.6168,2,     -999.0,9,     -999.0,9,     -999.0,9,     -999.0,9,     -999.0,9,     -999.0,9
320620140320,       P16S,      70,          1,         33,         33,2,20140427,       1237,   -28.3330,  -150.0000,       5124,    84.5,  21.0794,  35.5429,2,  35.5418,2,    232.0,2,   231.8,2,    0.20,2,    0.21,2,    0.01,2,    0.02,2,-999.000,9,-999.000,9, -999.00,9,  2030.9,2,    2329,2,   8.1098,2,       20,-999.000,9,-999.0000,9, -999.00,9,  21.0774,2, -999.00,9,  -999.0,9, -999.00,9,      64,2,    3.52,2,     -999.0,9,     -999.0,9, -999.00,9, 20140427,     1448, -28.3332,-149.9996,    35.7094,2,     -999.0,9,     -999.0,9,     -999.0,9,     -999.0,9,     -999.0,9,     -999.0,9
320620140320,       P16S,      70,          1,         32,         32,2,20140427,       1237,   -28.3330,  -150.0000,       5124,   114.5,  19.3394,  35.5332,2,  35.5364,2,    227.4,2,   224.5,2,    0.29,2,    0.21,2,    0.01,2,    0.05,2,-999.000,9,-999.000,9, -999.00,9,  2047.6,2,  2328.1,2,    8.085,2,       20,-999.000,9,-999.0000,9, -999.00,9,  19.3265,2, -999.00,9,  -999.0,9, -999.00,9,    59.4,2,    3.36,2,     -999.0,9,     -999.0,9, -999.00,9, 20140427,     1447, -28.3332,-149.9996,    35.7040,2,     -999.0,9,     -999.0,9,     -999.0,9,     -999.0,9,     -999.0,9,     -999.0,9
320620140320,       P16S,      70,          1,         31,         31,2,20140427,       1237,   -28.3330,  -150.0000,       5124,   164.2,  17.8472,  35.4410,2,  35.4404,2,    213.5,2,   213.0,2,    0.29,2,    1.39,2,    0.13,2,    0.16,2,   2.307,2,   1.364,2,    1.59,2,  2064.8,2,  2322.2,2,   8.0412,2,       20,-999.000,9,-999.0000,9, -999.00,9,  17.8435,2, -999.00,9,  -999.0,9, -999.00,9,    54.1,2,    5.09,2,      10.01,2,     -999.0,9, -999.00,9, 20140427,     1445, -28.3332,-149.9996,    35.6075,2,     -999.0,9,     -999.0,9,     -999.0,9,     -999.0,9,     -999.0,9,     -999.0,9
320620140320,       P16S,      70,          1,         30,         30,2,20140427,       1237,   -28.3330,  -150.0000,       5124,   214.5,  16.8418,  35.3670,2,  35.3681,2,    211.9,2,   211.8,2,    0.39,2,    2.48,2,    0.02,2,    0.22,2,-999.000,9,-999.000,9, -999.00,9,  2074.6,2,  2318.1,2,   8.0164,2,       20,-999.000,9,-999.0000,9, -999.00,9,  16.8420,2, -999.00,9,  -999.0,9, -999.00,9,    50.6,2,    5.43,2,     -999.0,9,     -999.0,9, -999.00,9, 20140427,     1443, -28.3332,-149.9996,    35.5348,2,     -999.0,9,     -999.0,9,     -999.0,9,     -999.0,9,     -999.0,9,     -999.0,9
320620140320,       P16S,      70,          1,         29,         29,2,20140427,       1237,   -28.3330,  -150.0000,       5124,   265.2,  15.8947,  35.2571,2,  35.2477,2,    214.1,2,   214.4,2,    0.68,2,    3.29,2,    0.01,2,    0.29,2,   2.334,2,   1.439,2,    1.45,2,  2080.8,2,    2312,2,   7.9947,2,       20,-999.000,9,-999.0000,9, -999.00,9,  15.8812,2, -999.00,9,  -999.0,9, -999.00,9,    49.4,2,     6.4,2,      10.44,2,     -999.0,9, -999.00,9, 20140427,     1441, -28.3332,-149.9996,    35.4139,2,     -999.0,9,     -999.0,9,     -999.0,9,     -999.0,9,     -999.0,9,     -999.0,9
320620140320,       P16S,      70,          1,         28,         28,2,20140427,       1237,   -28.3330,  -150.0000,       5124,   314.0,  14.6294,  35.1147,2,  35.1094,2,    206.7,2,   207.0,2,    1.17,2,    6.22,2,    0.01,2,    0.48,2,-999.000,9,-999.000,9, -999.00,9,  2095.2,2,  2305.9,2,   7.9532,2,       20,-999.000,9,-999.0000,9, -999.00,9,  14.6271,2, -999.00,9,  -999.0,9, -999.00,9,    49.2,2,    7.79,2,     -999.0,9,     -999.0,9, -999.00,9, 20140427,     1438, -28.3332,-149.9996,    35.2750,2,     -999.0,9,     -999.0,9,     -999.0,9,     -999.0,9,     -999.0,9,     -999.0,9
320620140320,       P16S,      70,          1,         27,         27,2,20140427,       1237,   -28.3330,  -150.0000,       5124,   365.8,  12.7005,  34.8891,2,  34.8914,2,    202.1,2,   201.6,2,    2.05,2,   10.88,2,    0.01,2,    0.77,2,   2.949,2,   1.533,2,    1.20,2,  2112.2,6,  2293.9,2,   7.8973,2,       20,-999.000,9,-999.0000,9, -999.00,9,  12.6958,2, -999.00,9,  -999.0,9, -999.00,9,    45.1,2,   13.45,2,      15.88,2,     -999.0,9, -999.00,9, 20140427,     1436, -28.3332,-149.9996,    35.0559,2,     -999.0,9,     -999.0,9,     -999.0,9,     -999.0,9,     -999.0,9,     -999.0,9
320620140320,       P16S,      70,          1,         26,         26,2,20140427,       1237,   -28.3330,  -150.0000,       5124,   435.1,  10.0092,  34.6132,2,  34.6183,2,    213.9,2,   213.6,2,    3.42,2,   15.90,2,    0.01,2,    1.10,2,-999.000,9,-999.000,9, -999.00,9,  2126.5,2,  2284.4,2,   7.8388,2,       20,-999.000,9,-999.0000,9, -999.00,9,  10.0167,2, -999.00,9,  -999.0,9, -999.00,9,    44.4,2,   18.04,2,     -999.0,9,     -999.0,9, -999.00,9, 20140427,     1433, -28.3332,-149.9996,    34.7816,2,     -999.0,9,     -999.0,9,     -999.0,9,     -999.0,9,     -999.0,9,     -999.0,9
320620140320,       P16S,      70,          1,         25,         25,2,20140427,       1237,   -28.3330,  -150.0000,       5124,   534.9,   7.7045,  34.4232,2,  34.4238,2,    234.3,2,   237.0,2,    5.28,2,   20.40,2,    0.01,2,    1.36,2,   3.597,2,   1.838,2,    1.20,2,  2139.6,2,  2279.4,2,   7.8003,6,       20,-999.000,9,-999.0000,9, -999.00,9,   7.7058,2, -999.00,9,  -999.0,9, -999.00,9,    44.1,2,   21.63,2,      20.09,2,     -999.0,9, -999.00,9, 20140427,     1431, -28.3332,-149.9996,    34.5861,2,     -999.0,9,     -999.0,9,     -999.0,9,     -999.0,9,     -999.0,9,     -999.0,9
320620140320,       P16S,      70,          1,         24,         24,2,20140427,       1237,   -28.3330,  -150.0000,       5124,   633.1,   6.8937,  34.3642,2,  34.3655,2,    240.7,2,   240.9,2,    7.04,2,   22.48,2,    0.01,2,    1.50,2,-999.000,9,-999.000,9, -999.00,9,  2143.7,2,  2278.2,2,   7.7891,2,       20,-999.000,9,-999.0000,9, -999.00,9,   6.8963,2, -999.00,9,  -999.0,9, -999.00,9,    43.1,2, -999.00,9,     -999.0,9,     -999.0,9, -999.00,9, 20140427,     1428, -28.3332,-149.9996,    34.5275,2,     -999.0,9,     -999.0,9,     -999.0,9,     -999.0,9,     -999.0,9,     -999.0,9
320620140320,       P16S,      70,          1,         23,         23,2,20140427,       1237,   -28.3330,  -150.0000,       5124,   734.7,   6.3503,  34.3293,2,  34.3304,2,    238.3,2,   239.1,2,    9.00,2,   24.04,2,    0.01,2,    1.59,2,-999.000,9,-999.000,9, -999.00,9,  2147.7,2,  2278.8,6,    7.778,2,       20,-999.000,9,-999.0000,9, -999.00,9,   6.3482,2,    1.40,3,     6.4,6, -999.00,9,    41.6,2, -999.00,9,     -999.0,9,     -999.0,9, -999.00,9, 20140427,     1424, -28.3332,-149.9996,    34.4923,2,     -999.0,9,     -999.0,9,     -999.0,9,     -999.0,9,     -999.0,9,     -999.0,9
320620140320,       P16S,      70,          1,         22,         22,2,20140427,       1237,   -28.3330,  -150.0000,       5124,   835.2,   5.7731,  34.3081,2,  34.3077,2,    230.1,2,   229.2,2,   13.20,2,   26.28,2,    0.01,2,    1.75,2,   2.117,2,   1.103,2,    0.37,2,  2158.3,2,  2281.6,2,   7.7563,2,       20,-999.000,9,-999.0000,9, -999.00,9,   5.7725,2, -999.00,9,  -999.0,9, -999.00,9,    41.3,2, -999.00,9,      19.29,2,     -999.0,9, -999.00,9, 20140427,     1422, -28.3332,-149.9996,    34.4694,2,     -999.0,9,     -999.0,9,     -999.0,9,     -999.0,9,     -999.0,9,     -999.0,9
320620140320,       P16S,      70,          1,         21,         21,2,20140427,       1237,   -28.3330,  -150.0000,       5124,   934.6,   5.2541,  34.3050,2,  34.3051,2,    217.0,2,   216.6,2,   18.97,2,   28.41,2,    0.01,2,    1.91,2,-999.000,9,-999.000,9, -999.00,9,  2170.9,2,  2285.8,2,    7.729,2,       20,-999.000,9,-999.0000,9, -999.00,9,   5.2560,2, -999.00,9,  -999.0,9, -999.00,9,    40.3,2, -999.00,9,     -999.0,9,     -999.0,9, -999.00,9, 20140427,     1419, -28.3332,-149.9996,    34.4669,2,     -999.0,9,     -999.0,9,     -999.0,9,     -999.0,9,     -999.0,9,     -999.0,9
320620140320,       P16S,      70,          1,         20,         20,2,20140427,       1237,   -28.3330,  -150.0000,       5124,  1033.1,   4.6047,  34.3269,2,  34.3257,2,    200.7,2,   200.3,2,   29.24,2,   30.96,2,    0.01,2,    2.08,2,   0.786,2,   0.438,2,    0.04,2,  2191.3,2,    2295,2,   7.6961,2,       20,-999.000,9,-999.0000,9, -999.00,9,   4.6045,2, -999.00,9,  -999.0,9, -999.00,9,    41.2,2, -999.00,9,      21.84,2,     -999.0,9, -999.00,9, 20140427,     1416, -28.3332,-149.9996,    34.4876,2,     -999.0,9,     -999.0,9,     -999.0,9,     -999.0,9,     -999.0,9,     -999.0,9
320620140320,       P16S,      70,          1,         19,         19,2,20140427,       1237,   -28.3330,  -150.0000,       5124,  1133.2,   3.9506,  34.3757,2,  34.3748,2,    186.8,2,   183.7,2,   43.71,2,   33.07,2,    0.00,2,    2.25,2,   0.349,2,   0.177,2,    0.02,2,  2215.7,2,  2308.2,2,   7.6632,2,       20,-999.000,9,-999.0000,9, -999.00,9,   3.9489,2, -999.00,9,  -999.0,9, -999.00,9,    39.9,2, -999.00,9,      24.83,2,     -999.0,9, -999.00,9, 20140427,     1413, -28.3332,-149.9995,    34.5369,2,     -999.0,9,     -999.0,9,     -999.0,9,     -999.0,9,     -999.0,9,     -999.0,9
320620140320,       P16S,      70,          1,         18,         18,2,20140427,       1237,   -28.3330,  -150.0000,       5124,  1235.5,   3.5985,  34.4167,2,  34.4160,2,   -999.0,9,  -999.0,5,   53.88,2,   33.97,2,    0.00,2,    2.31,2,-999.000,9,-999.000,9, -999.00,9,  2230.6,2,  2319.5,2,   7.6496,2,       20,-999.000,9,-999.0000,9, -999.00,9,   3.5995,2, -999.00,9,  -999.0,9, -999.00,9,    39.3,2, -999.00,9,     -999.0,9,     -999.0,9, -999.00,9, 20140427,     1410, -28.3332,-149.9995,    34.5783,2,     -999.0,9,     -999.0,9,     -999.0,9,     -999.0,9,     -999.0,9,     -999.0,9
320620140320,       P16S,      70,          1,         17,         17,2,20140427,       1237,   -28.3330,  -150.0000,       5124,  1334.0,   3.1713,  34.4725,2,  34.4730,2,    170.7,2,   167.5,2,   67.37,2,   34.62,2,    0.00,2,    2.37,2,   0.081,2,   0.022,2,    0.00,2,  2246.9,2,  2333.7,2,   7.6394,2,       20,-999.000,9,-999.0000,9, -999.00,9,   3.1710,2, -999.00,9,  -999.0,9, -999.00,9,    37.8,2, -999.00,9,      25.37,2,     -999.0,9, -999.00,9, 20140427,     1407, -28.3332,-149.9995,    34.6355,2,     -999.0,9,     -999.0,9,     -999.0,9,     -999.0,9,     -999.0,9,     -999.0,9
320620140320,       P16S,      70,          1,         16,         16,9,20140427,       1237,   -28.3330,  -150.0000,       5124,  1462.9,   2.8607,  34.5139,2,-999.0000,9,   -999.0,9,  -999.0,9, -999.00,9, -999.00,9, -999.00,9, -999.00,9,-999.000,9,-999.000,9, -999.00,9,  -999.0,9,  -999.0,9,-999.0000,9,  -999.00,-999.000,9,-999.0000,9, -999.00,9,   2.8625,2, -999.00,9,  -999.0,9, -999.00,9,  -999.0,9, -999.00,9,     -999.0,9,     -999.0,9, -999.00,9, 20140427,     1403, -28.3332,-149.9996,     -999.0,9,     -999.0,9,     -999.0,9,     -999.0,9,     -999.0,9,     -999.0,9,     -999.0,9
320620140320,       P16S,      70,          1,         15,         15,2,20140427,       1237,   -28.3330,  -150.0000,       5124,  1664.5,   2.5396,  34.5744,2,  34.5739,2,    158.7,2,   158.3,2,   91.32,2,   35.32,2,    0.00,2,    2.42,2,   0.006,2,   0.002,2,    0.00,2,  2274.7,2,  2360.8,2,   7.6325,2,       20,-999.000,9,-999.0000,9, -999.00,9,   2.5418,2, -999.00,9,  -999.0,9, -999.00,9,      36,2, -999.00,9,      25.89,2,     -999.0,9, -999.00,9, 20140427,     1358, -28.3332,-149.9996,    34.7370,2,     -999.0,9,     -999.0,9,     -999.0,9,     -999.0,9,     -999.0,9,     -999.0,9
320620140320,       P16S,      70,          1,         14,         14,2,20140427,       1237,   -28.3330,  -150.0000,       5124,  1866.7,   2.2643,  34.6199,2,  34.6197,2,    152.9,2,   152.4,2,  106.96,2,   35.69,2,    0.00,2,    2.43,2,   0.003,2,   0.000,2,    0.00,2,  2292.4,2,  2379.4,2,   7.6338,2,       20,-999.000,9,-999.0000,9, -999.00,9,   2.2661,2, -999.00,9,  -999.0,9, -999.00,9,      38,2, -999.00,9,      24.74,2,     -999.0,9, -999.00,9, 20140427,     1354, -28.3332,-149.9996,    34.7830,2,     -999.0,9,     -999.0,9,     -999.0,9,     -999.0,9,     -999.0,9,     -999.0,9
320620140320,       P16S,      70,          1,         13,         13,2,20140427,       1237,   -28.3330,  -150.0000,       5124,  2084.7,   2.1153,  34.6378,2,  34.6380,2,    150.3,2,   150.0,2,  115.17,2,   35.88,2,    0.00,2,    2.45,2,   0.001,2,   0.000,2,    0.01,2,  2302.1,2,    2389,2,   7.6325,2,       20,-999.000,9,-999.0000,9, -999.00,9,   2.1151,2, -999.00,9,  -999.0,9, -999.00,9,      35,2, -999.00,9,      24.40,2,     -999.0,9, -999.00,9, 20140427,     1349, -28.3332,-149.9995,    34.8013,2,     -999.0,9,     -999.0,9,     -999.0,9,     -999.0,9,     -999.0,9,     -999.0,9
320620140320,       P16S,      70,          1,         12,         12,2,20140427,       1237,   -28.3330,  -150.0000,       5124,  2335.8,   1.9516,  34.6527,2,  34.6525,2,    148.5,2,   148.2,2,  123.97,2,   36.22,2,    0.00,2,    2.47,2,-999.000,9,-999.000,9, -999.00,9,  2310.2,2,  2398.3,2,    7.632,2,       20,-999.000,9,-999.0000,9, -999.00,9,   1.9523,2, -999.00,9,  -999.0,9, -999.00,9,    35.2,2, -999.00,9,     -999.0,9,     -999.0,9, -999.00,9, 20140427,     1343, -28.3332,-149.9995,    34.8159,2,     -999.0,9,     -999.0,9,     -999.0,9,     -999.0,9,     -999.0,9,     -999.0,9
320620140320,       P16S,      70,          1,         11,         11,2,20140427,       1237,   -28.3330,  -150.0000,       5124,  2586.5,   1.8444,  34.6615,2,  34.6613,2,    148.9,2,   148.7,2,  127.98,2,   36.19,2,    0.00,2,    2.49,2,   0.000,2,   0.001,2,    0.03,2,  2314.1,2,  2402.4,2,    7.635,2,       20,-999.000,9,-999.0000,9, -999.00,9,   1.8441,2, -999.00,9,  -999.0,9, -999.00,9,    34.8,2, -999.00,9,      24.80,2,     -999.0,9, -999.00,9, 20140427,     1338, -28.3332,-149.9996,    34.8248,2,     -999.0,9,     -999.0,9,     -999.0,9,     -999.0,9,     -999.0,9,     -999.0,9
320620140320,       P16S,      70,          1,         10,         10,2,20140427,       1237,   -28.3330,  -150.0000,       5124,  2836.5,   1.7445,  34.6701,2,  34.6700,2,    152.5,2,   152.8,2,  129.74,2,   35.94,2,    0.00,2,    2.46,2,  -0.001,2,   0.001,2,    0.01,2,    2313,6,  2402.9,2,   7.6381,2,       20,-999.000,9,-999.0000,9, -999.00,9,   1.7445,2, -999.00,9,  -999.0,9, -999.00,9,    37.5,2, -999.00,9,      23.94,2,     -999.0,9, -999.00,9, 20140427,     1332, -28.3332,-149.9996,    34.8335,2,     -999.0,9,     -999.0,9,     -999.0,9,     -999.0,9,     -999.0,9,     -999.0,9
320620140320,       P16S,      70,          1,          9,         09,2,20140427,       1237,   -28.3330,  -150.0000,       5124,  3098.9,   1.6468,  34.6779,2,  34.6776,2,    158.3,2,   159.6,2,  128.56,2,   35.40,2,    0.00,2,    2.43,2,-999.000,9,-999.000,9, -999.00,9,  2306.4,2,  2399.3,2,    7.646,2,       20,-999.000,9,-999.0000,9, -999.00,9,   1.6469,2, -999.00,9,  -999.0,9, -999.00,9,    36.5,2, -999.00,9,     -999.0,9,     -999.0,9, -999.00,9, 20140427,     1326, -28.3332,-149.9996,    34.8412,2,     -999.0,9,     -999.0,9,     -999.0,9,     -999.0,9,     -999.0,9,     -999.0,9
320620140320,       P16S,      70,          1,          8,         08,2,20140427,       1237,   -28.3330,  -150.0000,       5124,  3400.0,   1.5401,  34.6868,2,  34.6873,2,    167.8,2,   169.5,2,  125.82,2,   34.77,2,    0.00,2,    2.38,2,   0.001,2,   0.001,2,    0.00,2,  2298.1,2,  2392.7,2,   7.6537,2,       20,-999.000,9,-999.0000,9, -999.00,9,   1.5399,2, -999.00,9,  -999.0,9, -999.00,9,    35.5,2, -999.00,9,      23.70,2,     -999.0,9, -999.00,9, 20140427,     1320, -28.3332,-149.9997,    34.8509,2,     -999.0,9,     -999.0,9,     -999.0,9,     -999.0,9,     -999.0,9,     -999.0,9
320620140320,       P16S,      70,          1,          7,         07,9,20140427,       1237,   -28.3330,  -150.0000,       5124,  3698.8,   1.4083,  34.6947,2,-999.0000,9,   -999.0,9,  -999.0,9, -999.00,9, -999.00,9, -999.00,9, -999.00,9,-999.000,9,-999.000,9, -999.00,9,  -999.0,9,  -999.0,9,-999.0000,9,  -999.00,-999.000,9,-999.0000,9, -999.00,9,   1.4082,2, -999.00,9,  -999.0,9, -999.00,9,  -999.0,9, -999.00,9,     -999.0,9,     -999.0,9, -999.00,9, 20140427,     1314, -28.3332,-149.9997,     -999.0,9,     -999.0,9,     -999.0,9,     -999.0,9,     -999.0,9,     -999.0,9,     -999.0,9
320620140320,       P16S,      70,          1,          6,         06,2,20140427,       1237,   -28.3330,  -150.0000,       5124,  3999.5,   1.3281,  34.7007,2,  34.6999,2,    187.5,2,   187.6,2,  121.23,2,   33.57,2,    0.00,2,    2.27,2,   0.002,2,   0.000,2,    0.02,2,  2280.1,2,  2379.7,2,   7.6687,2,       20,-999.000,9,-999.0000,9, -999.00,9,   1.3284,2, -999.00,9,  -999.0,9, -999.00,9,    38.2,2, -999.00,9,      21.86,2,     -999.0,9, -999.00,9, 20140427,     1308, -28.3332,-149.9996,    34.8635,2,     -999.0,9,     -999.0,9,     -999.0,9,     -999.0,9,     -999.0,9,     -999.0,9