BOTTLE,20230715CCHSIOCBG
EXPOCODE,SECT_ID,STNNBR,CASTNO,SAMPNO,BTLNBR,BTLNBR_FLAG_W,DATE,TIME,LATITUDE,LONGITUDE,DEPTH,CTDPRS,CTDTMP,CTDSAL,CTDSAL_FLAG_W,SALNTY,SALNTY_FLAG_W,CTDOXY,CTDOXY_FLAG_W,OXYGEN,OXYGEN_FLAG_W,SILCAT,SILCAT_FLAG_W,NITRAT,NITRAT_FLAG_W,NITRIT,NITRIT_FLAG_W,PHSPHT,PHSPHT_FLAG_W,CFC-11,CFC-11_FLAG_W,CFC-12,CFC-12_FLAG_W,SF6,SF6_FLAG_W,TCARBN,TCARBN_FLAG_W,ALKALI,ALKALI_FLAG_W,PH_TOT,PH_TOT_FLAG_W,PH_TMP,TRITUM,TRITUM_FLAG_W,HELIUM,HELIUM_FLAG_W,DELHE3,DELHE3_FLAG_W,REFTMP,REFTMP_FLAG_W,DELC13,DELC13_FLAG_W,DELC14,DELC14_FLAG_W,DELO18,DELO18_FLAG_W,DOC,DOC_FLAG_W,TDN,TDN_FLAG_W,N2O,N2O_FLAG_W,CALCIUM,CALCIUM_FLAG_W,D15N_NO3,D15N_NO3_FLAG_W,BTL_DATE,BTL_TIME,BTL_LAT,BTL_LON,SALTREF,SALTREF_FLAG_W,D18O_NO3,D18O_NO3_FLAG_W,DSI30,DSI30_FLAG_W,CDOM_NASA,CDOM_NASA_FLAG_W,CDOM_UCSB,CDOM_UCSB_FLAG_W,D15N_NO2+NO3,D15N_NO2+NO3_FLAG_W,D18O_NO2+NO3,D18O_NO2+NO3_FLAG_W
,,,,,,,,,,,METERS,DBAR,ITS-90,PSS-78,,PSS-78,,UMOL/KG,,UMOL/KG,,UMOL/KG,,UMOL/KG,,UMOL/KG,,UMOL/KG,,PMOL/KG,,PMOL/KG,,FMOL/KG,,UMOL/KG,,UMOL/KG,,,,DEG C,TU,,NMOL/KG,,PERCNT,,DEG C,,/MILLE,,/MILLE,,/MILLE,,UMOL/KG,,UMOL/KG,,NMOL/KG,,MMOL/KG,,/MILLE,,,,,,G/KG,,/MILLE,,/MILLE,,,,,,/MILLE,,/MILLE,
320620140320,       P16S,      55,          1,         36,         36,2,20140421,       1819,   -38.3335,  -149.9999,       5456,     3.9,  17.6400,  34.4869,2,  34.4876,2,    239.8,2,   240.5,2,    0.00,2,    0.59,2,    0.02,2,    0.22,2,   2.378,2,   1.408,2,    1.83,2,    2041,2,  2279.4,2,   8.0185,2,       20,-999.000,9,-999.0000,9, -999.00,9,  17.6392,2, -999.00,9,  -999.0,9, -999.00,9,  -999.0,9, -999.00,9,       8.30,2,     -999.0,9, -999.00,9, 20140421,     2049, -38.3346,-150.0003,    34.6502,2,     -999.0,9,     -999.0,9,     -999.0,9,     -999.0,1,     -999.0,9,     -999.0,9
320620140320,       P16S,      55,          1,         35,         35,2,20140421,       1819,   -38.3335,  -149.9999,       5456,    34.2,  17.6340,  34.4902,2,  34.4923,2,    240.9,2,   240.5,2,    0.20,2,    0.57,2,    0.02,2,    0.23,2,   2.329,2,   1.388,2,    1.60,2,    2042,6,  2279.6,2,   8.0196,2,       20,-999.000,9,-999.0000,9, -999.00,9,  17.6317,2, -999.00,9,  -999.0,9, -999.00,9,  -999.0,9, -999.00,9,       7.89,2,     -999.0,9, -999.00,9, 20140421,     2047, -38.3344,-150.0003,    34.6549,2,     -999.0,9,     -999.0,9,     -999.0,9,     -999.0,1,     -999.0,9,     -999.0,9
320620140320,       P16S,      55,          1,         34,         34,2,20140421,       1819,   -38.3335,  -149.9999,       5456,    34.8,  17.6404,  34.4890,2,-999.0000,9,   -999.0,9,  -999.0,9, -999.00,9, -999.00,9, -999.00,9, -999.00,9,-999.000,9,-999.000,9, -999.00,9,  -999.0,9,  -999.0,9,-999.0000,9,  -999.00,-999.000,9,-999.0000,9, -999.00,9,  17.6334,2, -999.00,9,  -999.0,9, -999.00,9,  -999.0,9, -999.00,9,     -999.0,9,     -999.0,9, -999.00,9, 20140421,     2047, -38.3344,-150.0003,     -999.0,9,     -999.0,9,     -999.0,9,     -999.0,9,     -999.0,9,     -999.0,9,     -999.0,9
320620140320,       P16S,      55,          1,         32,         32,2,20140421,       1819,   -38.3335,  -149.9999,       5456,    59.4,  14.0126,  34.5490,2,-999.0000,9,   -999.0,9,  -999.0,9, -999.00,9, -999.00,9, -999.00,9, -999.00,9,-999.000,9,-999.000,9, -999.00,9,  -999.0,9,  -999.0,9,-999.0000,9,  -999.00,-999.000,9,-999.0000,9, -999.00,9,  13.9766,2, -999.00,9,  -999.0,9, -999.00,9,  -999.0,9, -999.00,9,     -999.0,9,     -999.0,9, -999.00,9, 20140421,     2045, -38.3343,-150.0003,     -999.0,9,     -999.0,9,     -999.0,9,     -999.0,9,     -999.0,9,     -999.0,9,     -999.0,9
320620140320,       P16S,      55,          1,         33,         33,2,20140421,       1819,   -38.3335,  -149.9999,       5456,    61.0,  14.0250,  34.5466,2,  34.5469,2,    268.4,2,   274.3,2,    0.39,2,    1.52,2,    0.04,2,    0.29,2,   2.881,2,   1.686,2,    1.91,2,  2056.5,2,  2284.2,2,   7.9956,6,       20,-999.000,9,-999.0000,9, -999.00,9,  14.0340,2, -999.00,9,  -999.0,9, -999.00,9,  -999.0,9, -999.00,9,       9.47,2,     -999.0,9, -999.00,9, 20140421,     2045, -38.3343,-150.0003,    34.7098,2,     -999.0,9,     -999.0,9,     -999.0,9,     -999.0,1,     -999.0,9,     -999.0,9
320620140320,       P16S,      55,          1,         31,         31,2,20140421,       1819,   -38.3335,  -149.9999,       5456,    83.2,  12.1418,  34.5473,2,  34.5473,2,    267.6,2,   264.3,2,    0.39,2,    3.73,2,    0.15,2,    0.44,2,   3.248,2,   1.823,2,    1.98,2,  2074.9,2,  2283.8,6,   7.9563,2,       20,-999.000,9,-999.0000,9, -999.00,9,  12.1384,2, -999.00,9,  -999.0,9, -999.00,9,  -999.0,9, -999.00,9,      11.08,2,     -999.0,9, -999.00,9, 20140421,     2044, -38.3342,-150.0002,    34.7102,2,     -999.0,9,     -999.0,9,     -999.0,9,     -999.0,1,     -999.0,9,     -999.0,9
320620140320,       P16S,      55,          1,         30,         30,2,20140421,       1819,   -38.3335,  -149.9999,       5456,   115.2,  11.4126,  34.5384,2,  34.5394,2,    256.5,2,   254.9,2,    0.98,2,    5.60,2,    0.58,2,    0.59,2,-999.000,9,-999.000,9, -999.00,9,  2087.8,2,  2282.8,2,   7.9265,2,       20,-999.000,9,-999.0000,9, -999.00,9,  11.4166,2, -999.00,9,  -999.0,9, -999.00,9,  -999.0,9, -999.00,9,     -999.0,9,     -999.0,9, -999.00,9, 20140421,     2042, -38.3341,-150.0002,    34.7023,2,     -999.0,9,     -999.0,9,     -999.0,9,     -999.0,1,     -999.0,9,     -999.0,9
320620140320,       P16S,      55,          1,         29,         29,2,20140421,       1819,   -38.3335,  -149.9999,       5456,   164.7,  10.2266,  34.5149,2,  34.5129,2,    247.3,2,   247.2,2,    1.56,2,   10.69,2,    0.02,2,    0.84,2,   3.431,2,   1.919,2,    1.88,2,  2106.5,2,  2281.4,2,   7.8809,2,       20,-999.000,9,-999.0000,9, -999.00,9,  10.2166,2, -999.00,9,  -999.0,9, -999.00,9,  -999.0,9, -999.00,9,      14.29,2,     -999.0,9, -999.00,9, 20140421,     2040, -38.3339,-150.0002,    34.6757,2,     -999.0,9,     -999.0,9,     -999.0,9,     -999.0,1,     -999.0,9,     -999.0,9
320620140320,       P16S,      55,          1,         28,         28,2,20140421,       1819,   -38.3335,  -149.9999,       5456,   215.1,   9.2468,  34.5307,2,  34.5296,2,    240.1,2,   240.2,2,    2.35,2,   14.74,2,    0.01,2,    1.07,2,   3.581,2,   1.943,2,    1.69,2,  2124.5,2,  2282.6,2,   7.8389,2,       20,-999.000,9,-999.0000,9, -999.00,9,   9.2606,2, -999.00,9,  -999.0,9, -999.00,9,  -999.0,9, -999.00,9,      17.24,2,     -999.0,9, -999.00,9, 20140421,     2038, -38.3338,-150.0002,    34.6925,2,     -999.0,9,     -999.0,9,     -999.0,9,     -999.0,1,     -999.0,9,     -999.0,9
320620140320,       P16S,      55,          1,         27,         27,2,20140421,       1819,   -38.3335,  -149.9999,       5456,   264.1,   8.6831,  34.5194,2,  34.5190,2,    244.7,2,   244.5,2,    3.42,2,   16.24,2,    0.01,2,    1.15,2,   3.672,2,   1.980,2,    1.57,2,  2129.7,2,    2284,2,   7.8277,2,       20,-999.000,9,-999.0000,9, -999.00,9,   8.6799,2, -999.00,9,  -999.0,9, -999.00,9,  -999.0,9, -999.00,9,      17.42,2,     -999.0,9, -999.00,9, 20140421,     2036, -38.3337,-150.0002,    34.6818,2,     -999.0,9,     -999.0,9,     -999.0,9,     -999.0,1,     -999.0,9,     -999.0,9
320620140320,       P16S,      55,          1,         26,         26,2,20140421,       1819,   -38.3335,  -149.9999,       5456,   316.1,   8.2779,  34.4919,2,  34.4914,2,    247.3,2,   247.6,2,    4.01,2,   17.39,2,    0.01,2,    1.23,2,   3.548,2,   2.030,2,    1.51,2,  2131.9,2,  2282.6,2,    7.821,2,       20,-999.000,9,-999.0000,9, -999.00,9,   8.2777,2, -999.00,9,  -999.0,9, -999.00,9,  -999.0,9, -999.00,9,      17.04,2,     -999.0,9, -999.00,9, 20140421,     2034, -38.3338,-150.0002,    34.6540,2,     -999.0,9,     -999.0,9,     -999.0,9,     -999.0,1,     -999.0,9,     -999.0,9
320620140320,       P16S,      55,          1,         25,         25,2,20140421,       1819,   -38.3335,  -149.9999,       5456,   363.8,   7.9831,  34.4657,2,  34.4643,2,    248.8,2,   249.4,2,    4.20,2,   18.24,2,    0.01,2,    1.29,2,   3.801,2,   2.045,2,    1.76,2,  2134.8,2,    2282,2,   7.8154,2,       20,-999.000,9,-999.0000,9, -999.00,9,   7.9855,2, -999.00,9,  -999.0,9, -999.00,9,  -999.0,9, -999.00,9,      16.33,2,     -999.0,9, -999.00,9, 20140421,     2031, -38.3337,-150.0002,    34.6268,2,     -999.0,9,     -999.0,9,     -999.0,9,     -999.0,9,     -999.0,9,     -999.0,9
320620140320,       P16S,      55,          1,         24,         24,2,20140421,       1819,   -38.3335,  -149.9999,       5456,   437.4,   7.6600,  34.4362,2,  34.4353,2,    247.3,2,   247.6,2,    5.18,2,   19.63,2,    0.01,2,    1.37,2,   3.719,2,   2.031,2,    1.55,2,  2139.8,2,  2281.8,2,   7.8052,2,       20,-999.000,9,-999.0000,9, -999.00,9,   7.6627,2, -999.00,9,  -999.0,9, -999.00,9,  -999.0,9, -999.00,9,      15.97,2,     -999.0,9, -999.00,9, 20140421,     2029, -38.3338,-150.0002,    34.5976,2,     -999.0,9,     -999.0,9,     -999.0,9,     -999.0,9,     -999.0,9,     -999.0,9
320620140320,       P16S,      55,          1,         23,         23,2,20140421,       1819,   -38.3335,  -149.9999,       5456,   535.9,   7.2780,  34.4017,2,  34.4009,2,    245.6,2,   246.1,2,    6.45,2,   21.08,2,    0.01,2,    1.45,2,   3.812,6,   1.988,6,    1.37,2,  2142.4,2,    2281,2,   7.7953,2,       20,-999.000,9,-999.0000,9, -999.00,9,   7.2791,2, -999.00,9,  -999.0,9, -999.00,9,  -999.0,9, -999.00,9,      15.86,6,     -999.0,9, -999.00,9, 20140421,     2026, -38.3336,-150.0001,    34.5631,2,     -999.0,9,     -999.0,9,     -999.0,9,     -999.0,1,     -999.0,9,     -999.0,9
320620140320,       P16S,      55,          1,         22,         22,2,20140421,       1819,   -38.3335,  -149.9999,       5456,   633.1,   6.8684,  34.3667,2,  34.3666,2,    243.5,2,   243.5,2,    8.02,2,   22.45,2,    0.00,2,    1.54,2,   3.532,2,   1.876,2,    1.24,2,  2146.1,2,  2280.8,2,    7.786,2,       20,-999.000,9,-999.0000,9, -999.00,9,   6.8663,2, -999.00,9,  -999.0,9, -999.00,9,  -999.0,9, -999.00,9,      15.52,2,     -999.0,9, -999.00,9, 20140421,     2023, -38.3335,-150.0001,    34.5286,2,     -999.0,9,     -999.0,9,     -999.0,9,     -999.0,9,     -999.0,9,     -999.0,9
320620140320,       P16S,      55,          1,         21,         21,2,20140421,       1819,   -38.3335,  -149.9999,       5456,   735.9,   6.4773,  34.3401,2,  34.3391,2,    237.7,2,   237.9,2,    9.97,2,   23.85,2,    0.00,2,    1.64,2,   3.278,2,   1.665,2,    0.57,2,  2149.7,6,  2281.6,2,   7.7726,2,       20,-999.000,9,-999.0000,9, -999.00,9,   6.4759,2, -999.00,9,  -999.0,9, -999.00,9,  -999.0,9, -999.00,9,      15.95,2,     -999.0,9, -999.00,9, 20140421,     2020, -38.3333,-150.0000,    34.5010,2,     -999.0,9,     -999.0,9,     -999.0,9,     -999.0,9,     -999.0,9,     -999.0,9
320620140320,       P16S,      55,          1,         20,         20,2,20140421,       1819,   -38.3335,  -149.9999,       5456,   834.9,   5.9604,  34.3221,2,  34.3219,2,    227.0,2,   225.9,2,   14.47,2,   25.99,2,    0.00,2,    1.78,2,   2.724,2,   1.372,2,    0.33,2,  2162.3,2,    2284,2,   7.7488,2,       20,-999.000,9,-999.0000,9, -999.00,9,   5.9611,2, -999.00,9,  -999.0,9, -999.00,9,  -999.0,9, -999.00,9,      17.81,2,     -999.0,9, -999.00,9, 20140421,     2017, -38.3335,-150.0001,    34.4837,2,     -999.0,9,     -999.0,9,     -999.0,9,     -999.0,1,     -999.0,9,     -999.0,9
320620140320,       P16S,      55,          1,         19,         19,2,20140421,       1819,   -38.3335,  -149.9999,       5456,   935.0,   5.3900,  34.3210,2,  34.3193,2,    215.0,2,   213.9,2,   20.82,2,   28.26,2,    0.00,2,    1.94,2,   2.243,2,   1.103,2,    0.38,2,  2176.8,2,  2288.6,2,   7.7208,2,       20,-999.000,9,-999.0000,9, -999.00,9,   5.3907,2, -999.00,9,  -999.0,9, -999.00,9,  -999.0,9, -999.00,9,      19.17,2,     -999.0,9, -999.00,9, 20140421,     2015, -38.3334,-150.0001,    34.4812,2,     -999.0,9,     -999.0,9,     -999.0,9,     -999.0,9,     -999.0,9,     -999.0,9
320620140320,       P16S,      55,          1,         18,         18,2,20140421,       1819,   -38.3335,  -149.9999,       5456,  1036.0,   4.7847,  34.3216,2,  34.3213,2,    206.5,2,   205.9,2,   27.08,2,   29.97,2,    0.00,2,    2.06,2,   1.700,2,   0.842,2,    0.32,2,  2189.1,2,  2293.8,2,   7.6986,2,       20,-999.000,9,-999.0000,9, -999.00,9,   4.7852,2, -999.00,9,  -999.0,9, -999.00,9,  -999.0,9, -999.00,9,      20.53,2,     -999.0,9, -999.00,9, 20140421,     2012, -38.3334,-150.0000,    34.4831,2,     -999.0,9,     -999.0,9,     -999.0,9,     -999.0,1,     -999.0,9,     -999.0,9
320620140320,       P16S,      55,          1,         17,         17,2,20140421,       1819,   -38.3335,  -149.9999,       5456,  1131.6,   4.2178,  34.3375,2,  34.3374,2,    199.4,2,   199.3,2,   35.29,2,   31.45,2,    0.00,2,    2.17,2,   1.290,2,   0.648,2,    0.22,2,  2202.1,2,  2300.4,2,   7.6779,2,       20,-999.000,9,-999.0000,9, -999.00,9,   4.2127,2, -999.00,9,  -999.0,9, -999.00,9,  -999.0,9, -999.00,9,      20.83,2,     -999.0,9, -999.00,9, 20140421,     2009, -38.3333,-150.0000,    34.4993,2,     -999.0,9,     -999.0,9,     -999.0,9,     -999.0,9,     -999.0,9,     -999.0,9
320620140320,       P16S,      55,          1,         16,         16,2,20140421,       1819,   -38.3335,  -149.9999,       5456,  1235.0,   3.6393,  34.3721,2,  34.3725,2,    190.9,2,   190.2,2,   45.66,2,   32.94,2,    0.00,2,    2.27,2,   0.898,2,   0.422,2,    0.08,2,  2218.3,2,  2308.9,2,   7.6588,2,       20,-999.000,9,-999.0000,9, -999.00,9,   3.6374,2, -999.00,9,  -999.0,9, -999.00,9,  -999.0,9, -999.00,9,      22.38,2,     -999.0,9, -999.00,9, 20140421,     2006, -38.3331,-150.0000,    34.5346,2,     -999.0,9,     -999.0,9,     -999.0,9,     -999.0,1,     -999.0,9,     -999.0,9
320620140320,       P16S,      55,          1,         15,         15,2,20140421,       1819,   -38.3335,  -149.9999,       5456,  1361.7,   3.2405,  34.4227,2,  34.4226,2,    180.6,2,   181.0,2,   55.63,2,   33.81,2,    0.00,2,    2.34,2,   0.517,2,   0.251,2,    0.06,2,  2232.2,2,  2319.7,2,   7.6433,2,       20,-999.000,9,-999.0000,9, -999.00,9,   3.2430,2, -999.00,9,  -999.0,9, -999.00,9,  -999.0,9, -999.00,9,      23.03,2,     -999.0,9, -999.00,9, 20140421,     2003, -38.3331,-150.0000,    34.5849,2,     -999.0,9,     -999.0,9,     -999.0,9,     -999.0,9,     -999.0,9,     -999.0,9
320620140320,       P16S,      55,          1,         14,         14,2,20140421,       1819,   -38.3335,  -149.9999,       5456,  1564.5,   2.8492,  34.5154,2,  34.5151,2,    166.8,2,   166.9,2,   73.32,2,   34.57,2,    0.00,2,    2.39,2,   0.137,2,   0.057,2,    0.06,2,  2255.2,2,  2340.3,2,   7.6321,2,       20,-999.000,9,-999.0000,9, -999.00,9,   2.8486,2, -999.00,9,  -999.0,9, -999.00,9,  -999.0,9, -999.00,9,      23.82,2,     -999.0,9, -999.00,9, 20140421,     1958, -38.3332,-150.0000,    34.6778,2,     -999.0,9,     -999.0,9,     -999.0,9,     -999.0,9,     -999.0,9,     -999.0,9
320620140320,       P16S,      55,          1,         13,         13,2,20140421,       1819,   -38.3335,  -149.9999,       5456,  1763.5,   2.5755,  34.5861,2,  34.5860,2,    156.9,2,   157.1,2,   92.18,2,   35.02,2,    0.00,2,    2.43,2,   0.023,2,   0.005,2,    0.03,2,  2276.7,2,    2363,2,   7.6326,2,       20,-999.000,9,-999.0000,9, -999.00,9,   2.5751,2, -999.00,9,  -999.0,9, -999.00,9,  -999.0,9, -999.00,9,      24.68,2,     -999.0,9, -999.00,9, 20140421,     1953, -38.3332,-150.0000,    34.7491,2,     -999.0,9,     -999.0,9,     -999.0,9,     -999.0,1,     -999.0,9,     -999.0,9
320620140320,       P16S,      55,          1,         12,         12,2,20140421,       1819,   -38.3335,  -149.9999,       5456,  1964.7,   2.3862,  34.6161,2,  34.6151,2,    152.8,2,   152.5,2,  103.42,2,   35.34,2,    0.00,2,    2.46,2,   0.010,2,   0.000,2,    0.00,2,  2289.7,2,  2377.4,2,   7.6334,2,       20,-999.000,9,-999.0000,9, -999.00,9,   2.3863,2, -999.00,9,  -999.0,9, -999.00,9,  -999.0,9, -999.00,9,      24.24,2,     -999.0,9, -999.00,9, 20140421,     1949, -38.3332,-150.0000,    34.7784,2,     -999.0,9,     -999.0,9,     -999.0,9,     -999.0,9,     -999.0,9,     -999.0,9
320620140320,       P16S,      55,          1,         11,         11,2,20140421,       1819,   -38.3335,  -149.9999,       5456,  2234.6,   2.1916,  34.6376,2,  34.6369,2,    150.9,2,   150.6,2,  112.80,2,   35.53,2,    0.00,2,    2.49,2,   0.003,2,   0.000,2,    0.00,2,  2299.9,2,  2387.7,2,    7.634,2,       20,-999.000,9,-999.0000,9, -999.00,9,   2.1919,2, -999.00,9,  -999.0,9, -999.00,9,  -999.0,9, -999.00,9,      23.01,2,     -999.0,9, -999.00,9, 20140421,     1943, -38.3333,-150.0000,    34.8003,2,     -999.0,9,     -999.0,9,     -999.0,9,     -999.0,9,     -999.0,9,     -999.0,9
320620140320,       P16S,      55,          1,         10,         10,2,20140421,       1819,   -38.3335,  -149.9999,       5456,  2534.8,   2.0163,  34.6530,2,  34.6523,2,    150.6,2,   150.8,2,  120.13,2,   35.73,2,    0.00,2,    2.50,2,   0.002,2,   0.000,2,    0.00,2,    2306,2,  2394.7,2,    7.634,2,       20,-999.000,9,-999.0000,9, -999.00,9,   2.0162,2, -999.00,9,  -999.0,9, -999.00,9,  -999.0,9, -999.00,9,      22.88,2,     -999.0,9, -999.00,9, 20140421,     1937, -38.3334,-150.0001,    34.8157,2,     -999.0,9,     -999.0,9,     -999.0,9,     -999.0,1,     -999.0,9,     -999.0,9
320620140320,       P16S,      55,          1,          9,         09,2,20140421,       1819,   -38.3335,  -149.9999,       5456,  2833.7,   1.8878,  34.6642,2,  34.6641,2,    152.2,2,   151.7,2,  124.82,2,   35.71,2,    0.00,2,    2.50,2,   0.003,2,   0.001,2,    0.00,2,  2310.6,6,  2400.1,2,   7.6362,2,       20,-999.000,9,-999.0000,9, -999.00,9,   1.8876,2, -999.00,9,  -999.0,9, -999.00,9,  -999.0,9, -999.00,9,      24.20,2,     -999.0,9, -999.00,9, 20140421,     1931, -38.3335,-150.0001,    34.8275,2,     -999.0,9,     -999.0,9,     -999.0,9,     -999.0,9,     -999.0,9,     -999.0,9
320620140320,       P16S,      55,          1,          8,         08,2,20140421,       1819,   -38.3335,  -149.9999,       5456,  3135.9,   1.7832,  34.6772,2,  34.6771,2,    157.6,2,   158.1,2,  124.82,2,   35.24,2,    0.00,2,    2.46,2,-999.000,9,-999.000,9, -999.00,9,    2306,2,  2397.7,2,   7.6413,2,       20,-999.000,9,-999.0000,9, -999.00,9,   1.7835,2, -999.00,9,  -999.0,9, -999.00,9,  -999.0,9, -999.00,9,     -999.0,9,     -999.0,9, -999.00,9, 20140421,     1925, -38.3335,-150.0001,    34.8406,2,     -999.0,9,     -999.0,9,     -999.0,9,     -999.0,9,     -999.0,9,     -999.0,9
320620140320,       P16S,      55,          1,          7,         07,2,20140421,       1819,   -38.3335,  -149.9999,       5456,  3433.5,   1.6909,  34.6961,2,  34.6963,2,    170.6,2,   171.6,2,  118.36,2,   33.97,2,    0.00,2,    2.36,2,   0.010,2,   0.003,2,    0.02,2,  2289.8,2,  2384.8,2,   7.6547,2,       20,-999.000,9,-999.0000,9, -999.00,9,   1.6909,2, -999.00,9,  -999.0,9, -999.00,9,  -999.0,9, -999.00,9,      22.57,2,     -999.0,9, -999.00,9, 20140421,     1918, -38.3336,-150.0001,    34.8599,2,     -999.0,9,     -999.0,9,     -999.0,9,     -999.0,1,     -999.0,9,     -999.0,9
320620140320,       P16S,      55,          1,          6,         06,2,20140421,       1819,   -38.3335,  -149.9999,       5456,  3735.0,   1.5636,  34.7139,2,  34.7137,2,    186.5,2,   187.6,2,  111.03,2,   32.59,2,    0.00,2,    2.26,2,   0.019,2,   0.004,2,    0.00,2,  2271.9,2,  2370.6,2,   7.6681,2,       20,-999.000,9,-999.0000,9, -999.00,9,   1.5640,2, -999.00,9,  -999.0,9, -999.00,9,  -999.0,9, -999.00,9,      21.49,2,     -999.0,9, -999.00,9, 20140421,     1912, -38.3335,-150.0000,    34.8774,2,     -999.0,9,     -999.0,9,     -999.0,9,     -999.0,9,     -999.0,9,     -999.0,9