BOTTLE,20230715CCHSIOCBG
EXPOCODE,SECT_ID,STNNBR,CASTNO,SAMPNO,BTLNBR,BTLNBR_FLAG_W,DATE,TIME,LATITUDE,LONGITUDE,DEPTH,CTDPRS,CTDTMP,CTDSAL,CTDSAL_FLAG_W,SALNTY,SALNTY_FLAG_W,CTDOXY,CTDOXY_FLAG_W,OXYGEN,OXYGEN_FLAG_W,SILCAT,SILCAT_FLAG_W,NITRAT,NITRAT_FLAG_W,NITRIT,NITRIT_FLAG_W,PHSPHT,PHSPHT_FLAG_W,CFC-11,CFC-11_FLAG_W,CFC-12,CFC-12_FLAG_W,SF6,SF6_FLAG_W,TCARBN,TCARBN_FLAG_W,ALKALI,ALKALI_FLAG_W,PH_TOT,PH_TOT_FLAG_W,PH_TMP,TRITUM,TRITUM_FLAG_W,HELIUM,HELIUM_FLAG_W,DELHE3,DELHE3_FLAG_W,REFTMP,REFTMP_FLAG_W,DELC13,DELC13_FLAG_W,DELC14,DELC14_FLAG_W,DELO18,DELO18_FLAG_W,DOC,DOC_FLAG_W,TDN,TDN_FLAG_W,N2O,N2O_FLAG_W,CALCIUM,CALCIUM_FLAG_W,D15N_NO3,D15N_NO3_FLAG_W,BTL_DATE,BTL_TIME,BTL_LAT,BTL_LON,SALTREF,SALTREF_FLAG_W,D18O_NO3,D18O_NO3_FLAG_W,DSI30,DSI30_FLAG_W,CDOM_NASA,CDOM_NASA_FLAG_W,CDOM_UCSB,CDOM_UCSB_FLAG_W,D15N_NO2+NO3,D15N_NO2+NO3_FLAG_W,D18O_NO2+NO3,D18O_NO2+NO3_FLAG_W
,,,,,,,,,,,METERS,DBAR,ITS-90,PSS-78,,PSS-78,,UMOL/KG,,UMOL/KG,,UMOL/KG,,UMOL/KG,,UMOL/KG,,UMOL/KG,,PMOL/KG,,PMOL/KG,,FMOL/KG,,UMOL/KG,,UMOL/KG,,,,DEG C,TU,,NMOL/KG,,PERCNT,,DEG C,,/MILLE,,/MILLE,,/MILLE,,UMOL/KG,,UMOL/KG,,NMOL/KG,,MMOL/KG,,/MILLE,,,,,,G/KG,,/MILLE,,/MILLE,,,,,,/MILLE,,/MILLE,
320620140320,       P16S,      85,          1,         36,         36,2,20140502,       1549,   -18.3333,  -150.0002,       4187,     5.2,  27.5469,  35.6795,2,  35.6802,2,    198.2,2,   199.1,2,    1.17,2,    0.01,2,    0.01,2,    0.13,2,   1.470,2,   0.944,2,    1.56,2,  1996.2,2,    2348,6,   8.1974,2,       20,-999.000,9,-999.0000,9, -999.00,9,  27.5462,2, -999.00,9,  -999.0,9, -999.00,9,  -999.0,9, -999.00,9,       6.03,2,     -999.0,9, -999.00,1, 20140502,     1742, -18.3334,-150.0002,    35.8485,2,     -999.0,1,     -999.0,9,     -999.0,9,     -999.0,9,     -999.0,1,     -999.0,1
320620140320,       P16S,      85,          1,         35,         35,2,20140502,       1549,   -18.3333,  -150.0002,       4187,    34.6,  27.5509,  35.6817,2,  35.6820,2,    199.3,2,   199.1,2,    1.17,2,    0.00,2,    0.01,2,    0.14,2,   1.482,2,   0.928,2,    1.43,2,  1996.4,6,    2348,2,   8.1977,2,       20,-999.000,9,-999.0000,9, -999.00,9,  27.5528,2, -999.00,9,  -999.0,9, -999.00,9,  -999.0,9, -999.00,9,       5.92,2,     -999.0,9, -999.00,1, 20140502,     1740, -18.3333,-150.0002,    35.8502,2,     -999.0,1,     -999.0,9,     -999.0,9,     -999.0,9,     -999.0,1,     -999.0,1
320620140320,       P16S,      85,          1,         34,         34,2,20140502,       1549,   -18.3333,  -150.0002,       4187,    59.2,  26.4807,  36.1308,2,  36.1371,2,    211.6,2,   211.2,2,    0.98,2,    0.00,2,    0.00,2,    0.13,2,-999.000,9,-999.000,9, -999.00,9,  2034.4,2,    2378,2,    8.176,2,       20,-999.000,9,-999.0000,9, -999.00,9,  26.4470,3, -999.00,9,  -999.0,9, -999.00,9,  -999.0,9, -999.00,9,     -999.0,9,     -999.0,9, -999.00,1, 20140502,     1738, -18.3333,-150.0002,    36.3075,2,     -999.0,1,     -999.0,9,     -999.0,9,     -999.0,9,     -999.0,1,     -999.0,1
320620140320,       P16S,      85,          1,         33,         33,2,20140502,       1549,   -18.3333,  -150.0002,       4187,    84.3,  24.9248,  36.1759,2,  36.1757,2,    210.7,2,   210.8,2,    0.98,2,    0.00,2,    0.00,2,    0.12,2,   1.677,2,   1.075,2,    1.60,2,  2043.7,2,  2381.2,2,   8.1619,2,       20,-999.000,9,-999.0000,9, -999.00,9,  24.9256,2, -999.00,9,  -999.0,9, -999.00,9,  -999.0,9, -999.00,9,       7.01,2,     -999.0,9, -999.00,1, 20140502,     1737, -18.3333,-150.0002,    36.3463,2,     -999.0,1,     -999.0,9,     -999.0,9,     -999.0,9,     -999.0,1,     -999.0,1
320620140320,       P16S,      85,          1,         32,         32,2,20140502,       1549,   -18.3333,  -150.0002,       4187,   115.2,  23.9483,  36.1267,2,  36.1274,2,    208.5,2,   208.1,2,    0.98,2,    0.00,2,    0.00,2,    0.13,2,   1.787,2,   1.100,2,    1.47,2,  -999.0,9,  -999.0,9,-999.0000,9,  -999.00,-999.000,9,-999.0000,9, -999.00,9,  23.9423,2, -999.00,9,  -999.0,9, -999.00,9,  -999.0,9, -999.00,9,       6.90,2,     -999.0,9, -999.00,1, 20140502,     1735, -18.3333,-150.0002,    36.2978,2,     -999.0,1,     -999.0,9,     -999.0,9,     -999.0,9,     -999.0,1,     -999.0,1
320620140320,       P16S,      85,          1,         31,         31,2,20140502,       1549,   -18.3333,  -150.0002,       4187,   134.3,  23.2157,  36.0896,2,  36.0904,2,    202.4,2,   202.6,2,    0.98,2,    0.00,2,    0.00,2,    0.14,2,   1.795,2,   1.124,2,    1.57,2,    2056,2,  2373.2,2,   8.1317,2,       20,-999.000,9,-999.0000,9, -999.00,9,  23.2196,2, -999.00,9,  -999.0,9, -999.00,9,  -999.0,9, -999.00,9,       7.15,2,     -999.0,9, -999.00,1, 20140502,     1734, -18.3334,-150.0002,    36.2606,2,     -999.0,1,     -999.0,9,     -999.0,9,     -999.0,9,     -999.0,1,     -999.0,1
320620140320,       P16S,      85,          1,         30,         30,2,20140502,       1549,   -18.3333,  -150.0002,       4187,   165.3,  22.5386,  36.0430,2,  36.0432,2,    195.2,2,   194.3,2,    0.98,2,    0.53,2,    0.35,2,    0.20,2,-999.000,9,-999.000,9, -999.00,9,  2068.5,2,  2369.4,2,   8.1051,2,       20,-999.000,9,-999.0000,9, -999.00,9,  22.5495,2, -999.00,9,  -999.0,9, -999.00,9,  -999.0,9, -999.00,9,     -999.0,9,     -999.0,9, -999.00,1, 20140502,     1733, -18.3334,-150.0002,    36.2131,2,     -999.0,1,     -999.0,9,     -999.0,9,     -999.0,9,     -999.0,1,     -999.0,1
320620140320,       P16S,      85,          1,         29,         29,2,20140502,       1549,   -18.3333,  -150.0002,       4187,   214.5,  21.1347,  35.8909,2,  35.8937,2,    185.8,2,   186.7,2,    1.07,2,    2.33,2,    0.03,2,    0.27,2,   2.022,6,   1.187,6,    1.43,6,  2082.6,2,  2358.3,2,   8.0642,2,       20,-999.000,9,-999.0000,9, -999.00,9,  21.1267,2, -999.00,9,  -999.0,9, -999.00,9,  -999.0,9, -999.00,9,       8.68,6,     -999.0,9, -999.00,1, 20140502,     1731, -18.3334,-150.0002,    36.0630,2,     -999.0,1,     -999.0,9,     -999.0,9,     -999.0,9,     -999.0,1,     -999.0,1
320620140320,       P16S,      85,          1,         28,         28,2,20140502,       1549,   -18.3333,  -150.0002,       4187,   263.9,  19.3151,  35.6532,2,  35.6705,2,    178.2,2,   179.2,2,    1.47,2,    4.47,2,    0.01,2,    0.45,2,   2.175,2,   1.258,2,    1.31,2,  -999.0,9,  -999.0,9,-999.0000,9,  -999.00,-999.000,9,-999.0000,9, -999.00,9,  19.3536,2, -999.00,9,  -999.0,9, -999.00,9,  -999.0,9, -999.00,9,      10.39,2,     -999.0,9, -999.00,1, 20140502,     1729, -18.3334,-150.0002,    35.8387,2,     -999.0,1,     -999.0,9,     -999.0,9,     -999.0,9,     -999.0,1,     -999.0,1
320620140320,       P16S,      85,          1,         27,         27,2,20140502,       1549,   -18.3333,  -150.0002,       4187,   315.2,  16.6544,  35.2587,2,  35.2601,2,    174.7,2,   174.7,2,    2.54,2,    7.63,2,    0.01,2,    0.65,2,   2.410,2,   1.328,2,    1.28,2,  2109.9,2,    2321,2,   7.9487,2,       20,-999.000,9,-999.0000,9, -999.00,9,  16.6666,2, -999.00,9,  -999.0,9, -999.00,9,  -999.0,9, -999.00,9,      14.10,2,     -999.0,9, -999.00,1, 20140502,     1727, -18.3334,-150.0002,    35.4264,2,     -999.0,1,     -999.0,9,     -999.0,9,     -999.0,9,     -999.0,1,     -999.0,1
320620140320,       P16S,      85,          1,         26,         26,2,20140502,       1549,   -18.3333,  -150.0002,       4187,   366.0,  13.9674,  34.9446,2,  34.9445,2,    182.3,2,   181.9,2,    3.52,2,   10.52,2,    0.01,2,    0.83,2,   2.560,2,   1.363,2,    1.20,2,  -999.0,9,  -999.0,9,-999.0000,9,  -999.00,-999.000,9,-999.0000,9, -999.00,9,  13.9614,2, -999.00,9,  -999.0,9, -999.00,9,  -999.0,9, -999.00,9,      16.73,2,     -999.0,9, -999.00,1, 20140502,     1725, -18.3333,-150.0002,    35.1093,2,     -999.0,1,     -999.0,9,     -999.0,9,     -999.0,9,     -999.0,1,     -999.0,1
320620140320,       P16S,      85,          1,         25,         25,2,20140502,       1549,   -18.3333,  -150.0002,       4187,   413.9,  11.4459,  34.6897,2,  34.6897,2,    177.1,2,   176.9,2,    6.06,2,   16.02,2,    0.01,2,    1.20,2,   2.617,2,   1.321,2,    0.47,2,    2137,6,  2288.8,2,    7.824,2,       20,-999.000,9,-999.0000,9, -999.00,9,  11.4443,2, -999.00,9,  -999.0,9, -999.00,9,  -999.0,9, -999.00,9,      20.98,2,     -999.0,9, -999.00,1, 20140502,     1723, -18.3333,-150.0002,    34.8532,2,     -999.0,1,     -999.0,9,     -999.0,9,     -999.0,9,     -999.0,1,     -999.0,1
320620140320,       P16S,      85,          1,         24,         24,2,20140502,       1549,   -18.3333,  -150.0002,       4187,   464.8,   9.5823,  34.5302,2,  34.5315,2,    171.1,2,   183.9,2,    7.82,2,   19.78,2,    0.01,2,    1.44,2,   2.618,2,   1.287,2,    0.41,2,  -999.0,9,  -999.0,9,-999.0000,9,  -999.00,-999.000,9,-999.0000,9, -999.00,9,   9.5609,3, -999.00,9,  -999.0,9, -999.00,9,  -999.0,9, -999.00,9,      23.88,2,     -999.0,9, -999.00,1, 20140502,     1722, -18.3333,-150.0002,    34.6944,2,     -999.0,1,     -999.0,9,     -999.0,9,     -999.0,9,     -999.0,1,     -999.0,1
320620140320,       P16S,      85,          1,         23,         23,2,20140502,       1549,   -18.3333,  -150.0002,       4187,   534.3,   7.4004,  34.3911,2,  34.3918,2,    187.3,2,   187.9,2,   12.22,2,   25.17,2,    0.01,2,    1.78,2,   2.217,2,   1.077,2,    0.29,2,  2167.2,2,  2280.4,2,   7.7243,2,       20,-999.000,9,-999.0000,9, -999.00,9,   7.4106,2, -999.00,9,  -999.0,9, -999.00,9,  -999.0,9, -999.00,9,      27.80,2,     -999.0,9, -999.00,1, 20140502,     1719, -18.3333,-150.0002,    34.5539,2,     -999.0,1,     -999.0,9,     -999.0,9,     -999.0,9,     -999.0,1,     -999.0,1
320620140320,       P16S,      85,          1,         22,         22,2,20140502,       1549,   -18.3333,  -150.0002,       4187,   634.6,   6.0960,  34.3334,2,  34.3337,2,    203.8,2,   206.7,2,   15.06,2,   27.00,2,    0.01,2,    1.87,2,   1.895,2,   0.920,2,    0.17,2,  2167.6,2,  2281.8,2,   7.7272,2,       20,-999.000,9,-999.0000,9, -999.00,9,   6.0975,2, -999.00,9,  -999.0,9, -999.00,9,  -999.0,9, -999.00,9,      23.31,2,     -999.0,9, -999.00,1, 20140502,     1716, -18.3333,-150.0002,    34.4956,2,     -999.0,1,     -999.0,9,     -999.0,9,     -999.0,9,     -999.0,1,     -999.0,1
320620140320,       P16S,      85,          1,         21,         21,2,20140502,       1549,   -18.3333,  -150.0002,       4187,   735.1,   5.5149,  34.4122,2,  34.3835,3,    155.9,2,   174.0,2,   27.97,2,   30.44,2,    0.01,2,    2.11,2,   0.964,2,   0.399,2,    0.06,2,  2196.4,2,  2293.9,2,   7.6772,2,       20,-999.000,9,-999.0000,9, -999.00,9,   5.5136,2, -999.00,9,  -999.0,9, -999.00,9,  -999.0,9, -999.00,9,      27.54,2,     -999.0,9, -999.00,1, 20140502,     1714, -18.3334,-150.0002,    34.5456,3,     -999.0,1,     -999.0,9,     -999.0,9,     -999.0,9,     -999.0,1,     -999.0,1
320620140320,       P16S,      85,          1,         20,         20,2,20140502,       1549,   -18.3333,  -150.0002,       4187,   833.6,   4.9402,  34.4548,2,  34.4546,2,    146.4,2,   146.0,2,   48.70,2,   33.74,2,    0.01,2,    2.36,2,   0.183,2,   0.067,2,    0.03,2,  2231.9,2,  2316.9,2,   7.6327,2,       20,-999.000,9,-999.0000,9, -999.00,9,   4.9403,2, -999.00,9,  -999.0,9, -999.00,9,  -999.0,9, -999.00,9,      29.47,2,     -999.0,9, -999.00,1, 20140502,     1711, -18.3333,-150.0002,    34.6170,2,     -999.0,1,     -999.0,9,     -999.0,9,     -999.0,9,     -999.0,1,     -999.0,1
320620140320,       P16S,      85,          1,         19,         19,2,20140502,       1549,   -18.3333,  -150.0002,       4187,   933.5,   4.4058,  34.4755,2,  34.4752,2,    146.0,2,   145.8,2,   58.48,2,   34.42,2,    0.00,2,    2.41,2,   0.082,2,   0.033,2,    0.03,2,    2242,2,  2326.4,2,   7.6303,2,       20,-999.000,9,-999.0000,9, -999.00,9,   4.4099,2, -999.00,9,  -999.0,9, -999.00,9,  -999.0,9, -999.00,9,      28.47,2,     -999.0,9, -999.00,1, 20140502,     1708, -18.3333,-150.0002,    34.6377,2,     -999.0,1,     -999.0,9,     -999.0,9,     -999.0,9,     -999.0,1,     -999.0,1
320620140320,       P16S,      85,          1,         18,         18,2,20140502,       1549,   -18.3333,  -150.0002,       4187,  1035.5,   3.8460,  34.5011,2,  34.5007,2,    146.4,2,   146.2,2,   69.92,2,   34.87,2,    0.01,2,    2.45,2,   0.031,2,   0.013,2,    0.01,2,  2255.8,2,  2338.9,2,   7.6276,2,       20,-999.000,9,-999.0000,9, -999.00,9,   3.8470,2, -999.00,9,  -999.0,9, -999.00,9,  -999.0,9, -999.00,9,      28.00,2,     -999.0,9, -999.00,1, 20140502,     1705, -18.3334,-150.0002,    34.6634,2,     -999.0,1,     -999.0,9,     -999.0,9,     -999.0,9,     -999.0,1,     -999.0,1
320620140320,       P16S,      85,          1,         17,         17,2,20140502,       1549,   -18.3333,  -150.0002,       4187,  1134.6,   3.5173,  34.5205,2,  34.5209,2,    146.2,2,   146.0,2,   77.35,2,   35.24,2,    0.00,2,    2.49,2,   0.015,2,   0.002,2,    0.02,2,  2263.1,2,  2346.3,2,   7.6262,2,       20,-999.000,9,-999.0000,9, -999.00,9,   3.5174,2, -999.00,9,  -999.0,9, -999.00,9,  -999.0,9, -999.00,9,      26.36,2,     -999.0,9, -999.00,1, 20140502,     1703, -18.3333,-150.0002,    34.6837,2,     -999.0,1,     -999.0,9,     -999.0,9,     -999.0,9,     -999.0,1,     -999.0,1
320620140320,       P16S,      85,          1,         16,         16,2,20140502,       1549,   -18.3333,  -150.0002,       4187,  1231.1,   3.2634,  34.5377,2,  34.5374,2,    146.1,2,   146.3,2,   83.51,2,   35.43,2,    0.00,2,    2.48,2,   0.004,2,   0.000,2,    0.00,2,  -999.0,9,  -999.0,9,-999.0000,9,  -999.00,-999.000,9,-999.0000,9, -999.00,9,   3.2648,2, -999.00,9,  -999.0,9, -999.00,9,  -999.0,9, -999.00,9,      27.02,2,     -999.0,9, -999.00,1, 20140502,     1700, -18.3333,-150.0002,    34.7003,2,     -999.0,1,     -999.0,9,     -999.0,9,     -999.0,9,     -999.0,1,     -999.0,1
320620140320,       P16S,      85,          1,         15,         15,2,20140502,       1549,   -18.3333,  -150.0002,       4187,  1334.3,   3.0931,  34.5499,2,  34.5496,2,    146.5,2,   146.5,2,   87.81,2,   35.45,2,    0.00,2,    2.51,2,   0.003,2,   0.000,2,    0.00,2,  2274.1,2,  2357.2,2,    7.626,2,       20,-999.000,9,-999.0000,9, -999.00,9,   3.0934,2, -999.00,9,  -999.0,9, -999.00,9,  -999.0,9, -999.00,9,      27.24,2,     -999.0,9, -999.00,1, 20140502,     1657, -18.3333,-150.0002,    34.7125,2,     -999.0,1,     -999.0,9,     -999.0,9,     -999.0,9,     -999.0,1,     -999.0,1
320620140320,       P16S,      85,          1,         14,         14,2,20140502,       1549,   -18.3333,  -150.0002,       4187,  1432.7,   2.8848,  34.5674,2,  34.5680,2,    146.6,2,   147.1,2,   93.58,2,   35.52,2,    0.00,2,    2.53,2,   0.000,2,   0.000,2,    0.01,2,  -999.0,9,  -999.0,9,-999.0000,9,  -999.00,-999.000,9,-999.0000,9, -999.00,9,   2.8869,2, -999.00,9,  -999.0,9, -999.00,9,  -999.0,9, -999.00,9,      26.21,2,     -999.0,9, -999.00,1, 20140502,     1654, -18.3333,-150.0002,    34.7311,2,     -999.0,1,     -999.0,9,     -999.0,9,     -999.0,9,     -999.0,1,     -999.0,1
320620140320,       P16S,      85,          1,         13,         13,2,20140502,       1549,   -18.3333,  -150.0002,       4187,  1534.5,   2.6926,  34.5840,2,  34.5844,2,    146.9,2,   147.1,2,   99.15,2,   35.61,2,    0.00,2,    2.52,2,  -0.002,2,   0.000,2,    0.00,2,  2286.1,2,    2370,2,   7.6284,2,       20,-999.000,9,-999.0000,9, -999.00,9,   2.6926,2, -999.00,9,  -999.0,9, -999.00,9,  -999.0,9, -999.00,9,      26.13,2,     -999.0,9, -999.00,1, 20140502,     1652, -18.3333,-150.0002,    34.7474,2,     -999.0,1,     -999.0,9,     -999.0,9,     -999.0,9,     -999.0,1,     -999.0,1
320620140320,       P16S,      85,          1,         12,         12,2,20140502,       1549,   -18.3333,  -150.0002,       4187,  1664.9,   2.4718,  34.6037,2,  34.6030,2,    147.9,2,   148.0,2,  105.31,2,   35.52,2,    0.01,2,    2.51,2,-999.000,9,-999.000,9, -999.00,9,  -999.0,9,  -999.0,9,-999.0000,9,  -999.00,-999.000,9,-999.0000,9, -999.00,9,   2.4713,2, -999.00,9,  -999.0,9, -999.00,9,  -999.0,9, -999.00,9,     -999.0,9,     -999.0,9, -999.00,1, 20140502,     1648, -18.3333,-150.0002,    34.7662,2,     -999.0,1,     -999.0,9,     -999.0,9,     -999.0,9,     -999.0,1,     -999.0,1
320620140320,       P16S,      85,          1,         11,         11,2,20140502,       1549,   -18.3333,  -150.0002,       4187,  1864.8,   2.3129,  34.6174,2,  34.6178,2,    149.4,2,   149.8,2,  109.71,2,   35.47,2,    0.00,2,    2.52,2,  -0.002,2,   0.000,2,    0.00,2,  2295.6,2,  2382.3,2,   7.6343,2,       20,-999.000,9,-999.0000,9, -999.00,9,   2.3138,2, -999.00,9,  -999.0,9, -999.00,9,  -999.0,9, -999.00,9,      25.80,2,     -999.0,9, -999.00,1, 20140502,     1644, -18.3333,-150.0002,    34.7810,2,     -999.0,1,     -999.0,9,     -999.0,9,     -999.0,9,     -999.0,1,     -999.0,1
320620140320,       P16S,      85,          1,         10,         10,2,20140502,       1549,   -18.3333,  -150.0002,       4187,  2085.6,   2.0958,  34.6362,2,  34.6362,2,    152.4,2,   153.3,2,  115.19,2,   35.35,2,    0.01,2,    2.51,2,  -0.002,2,   0.000,2,    0.00,2,  -999.0,9,  -999.0,9,-999.0000,9,  -999.00,-999.000,9,-999.0000,9, -999.00,9,   2.0963,2, -999.00,9,  -999.0,9, -999.00,9,  -999.0,9, -999.00,9,      25.07,2,     -999.0,9, -999.00,1, 20140502,     1639, -18.3333,-150.0002,    34.7995,2,     -999.0,1,     -999.0,9,     -999.0,9,     -999.0,9,     -999.0,1,     -999.0,1
320620140320,       P16S,      85,          1,          9,         09,2,20140502,       1549,   -18.3333,  -150.0002,       4187,  2337.0,   1.9996,  34.6455,2,  34.6457,2,    155.5,2,   155.3,2,  117.34,2,   35.15,2,    0.00,2,    2.48,2,  -0.001,2,   0.000,2,    0.00,2,  2299.5,2,    2390,2,   7.6425,2,       20,-999.000,9,-999.0000,9, -999.00,9,   1.9995,2, -999.00,9,  -999.0,9, -999.00,9,  -999.0,9, -999.00,9,      25.16,2,     -999.0,9, -999.00,1, 20140502,     1633, -18.3333,-150.0002,    34.8090,2,     -999.0,1,     -999.0,9,     -999.0,9,     -999.0,9,     -999.0,9,     -999.0,9
320620140320,       P16S,      85,          1,          8,         08,2,20140502,       1549,   -18.3333,  -150.0002,       4187,  2583.7,   1.8330,  34.6600,2,  34.6604,2,    158.3,2,   158.7,2,  121.54,2,   34.98,2,    0.00,2,    2.47,2,  -0.002,2,   0.000,2,    0.00,2,  2301.5,2,  2393.3,2,   7.6471,2,       20,-999.000,9,-999.0000,9, -999.00,9,   1.8332,2, -999.00,9,  -999.0,9, -999.00,9,  -999.0,9, -999.00,9,      24.12,2,     -999.0,9, -999.00,1, 20140502,     1628, -18.3333,-150.0002,    34.8238,2,     -999.0,1,     -999.0,9,     -999.0,9,     -999.0,9,     -999.0,9,     -999.0,9
320620140320,       P16S,      85,          1,          7,         07,2,20140502,       1549,   -18.3333,  -150.0002,       4187,  2833.4,   1.7331,  34.6685,2,  34.6683,2,    161.3,2,   161.6,2,  123.79,2,   34.85,2,    0.00,2,    2.45,2,-999.000,9,-999.000,9, -999.00,9,  2300.5,2,  2394.6,2,   7.6502,6,       20,-999.000,9,-999.0000,9, -999.00,9,   1.7332,2, -999.00,9,  -999.0,9, -999.00,9,  -999.0,9, -999.00,9,     -999.0,9,     -999.0,9, -999.00,1, 20140502,     1622, -18.3333,-150.0002,    34.8317,2,     -999.0,1,     -999.0,9,     -999.0,9,     -999.0,9,     -999.0,9,     -999.0,9
320620140320,       P16S,      85,          1,          6,         06,2,20140502,       1549,   -18.3333,  -150.0002,       4187,  3099.9,   1.6505,  34.6754,2,  34.6757,2,    166.3,2,   166.0,2,  123.88,2,   34.57,2,    0.00,2,    2.41,2,  -0.002,2,   0.000,2,    0.00,2,  -999.0,9,  -999.0,9,-999.0000,9,  -999.00,-999.000,9,-999.0000,9, -999.00,9,   1.6517,2, -999.00,9,  -999.0,9, -999.00,9,  -999.0,9, -999.00,9,      23.24,2,     -999.0,9, -999.00,1, 20140502,     1616, -18.3333,-150.0002,    34.8392,2,     -999.0,1,     -999.0,9,     -999.0,9,     -999.0,9,     -999.0,9,     -999.0,9