BOTTLE,20230715CCHSIOCBG
EXPOCODE,SECT_ID,STNNBR,CASTNO,SAMPNO,BTLNBR,BTLNBR_FLAG_W,DATE,TIME,LATITUDE,LONGITUDE,DEPTH,CTDPRS,CTDTMP,CTDSAL,CTDSAL_FLAG_W,SALNTY,SALNTY_FLAG_W,CTDOXY,CTDOXY_FLAG_W,OXYGEN,OXYGEN_FLAG_W,SILCAT,SILCAT_FLAG_W,NITRAT,NITRAT_FLAG_W,NITRIT,NITRIT_FLAG_W,PHSPHT,PHSPHT_FLAG_W,CFC-11,CFC-11_FLAG_W,CFC-12,CFC-12_FLAG_W,SF6,SF6_FLAG_W,TCARBN,TCARBN_FLAG_W,ALKALI,ALKALI_FLAG_W,PH_TOT,PH_TOT_FLAG_W,PH_TMP,TRITUM,TRITUM_FLAG_W,HELIUM,HELIUM_FLAG_W,DELHE3,DELHE3_FLAG_W,REFTMP,REFTMP_FLAG_W,DELC13,DELC13_FLAG_W,DELC14,DELC14_FLAG_W,DELO18,DELO18_FLAG_W,DOC,DOC_FLAG_W,TDN,TDN_FLAG_W,N2O,N2O_FLAG_W,CALCIUM,CALCIUM_FLAG_W,D15N_NO3,D15N_NO3_FLAG_W,BTL_DATE,BTL_TIME,BTL_LAT,BTL_LON,SALTREF,SALTREF_FLAG_W,D18O_NO3,D18O_NO3_FLAG_W,DSI30,DSI30_FLAG_W,CDOM_NASA,CDOM_NASA_FLAG_W,CDOM_UCSB,CDOM_UCSB_FLAG_W,D15N_NO2+NO3,D15N_NO2+NO3_FLAG_W,D18O_NO2+NO3,D18O_NO2+NO3_FLAG_W
,,,,,,,,,,,METERS,DBAR,ITS-90,PSS-78,,PSS-78,,UMOL/KG,,UMOL/KG,,UMOL/KG,,UMOL/KG,,UMOL/KG,,UMOL/KG,,PMOL/KG,,PMOL/KG,,FMOL/KG,,UMOL/KG,,UMOL/KG,,,,DEG C,TU,,NMOL/KG,,PERCNT,,DEG C,,/MILLE,,/MILLE,,/MILLE,,UMOL/KG,,UMOL/KG,,NMOL/KG,,MMOL/KG,,/MILLE,,,,,,G/KG,,/MILLE,,/MILLE,,,,,,/MILLE,,/MILLE,
320620140320,       P16S,      41,          1,          5,         05,2,20140416,       0743,   -47.6671,  -150.0000,       4720,  3800.6,   1.3138,  34.7203,2,  34.7200,2,    198.6,2,   198.7,2,  111.41,2,   31.74,2,    0.00,2,    2.18,2,   0.050,2,   0.005,2,    0.10,2,  2264.4,2,  2365.4,2,    7.678,2,       20,-999.000,9,-999.0000,9, -999.00,9,   1.3141,2, -999.00,9,  -999.0,9, -999.00,9,  -999.0,9, -999.00,9,      19.53,2,     -999.0,9, -999.00,9, 20140416,      811, -47.6670,-149.9999,    34.8837,2,     -999.0,9,     -999.0,9,     -999.0,9,     -999.0,9,     -999.0,9,     -999.0,9
320620140320,       P16S,      41,          1,          4,         04,2,20140416,       0743,   -47.6671,  -150.0000,       4720,  4099.5,   1.1981,  34.7162,2,  34.7161,2,    200.2,2,   200.3,2,  115.90,2,   31.96,2,    0.00,2,    2.19,2,-999.000,9,-999.000,9, -999.00,9,  2266.9,2,  2369.2,6,   7.6807,2,       20,-999.000,9,-999.0000,9, -999.00,9,   1.1985,2, -999.00,9,  -999.0,9, -999.00,9,  -999.0,9, -999.00,9,     -999.0,9,     -999.0,9, -999.00,9, 20140416,      805, -47.6670,-149.9999,    34.8798,2,     -999.0,9,     -999.0,9,     -999.0,9,     -999.0,9,     -999.0,9,     -999.0,9
320620140320,       P16S,      41,          1,          3,         03,2,20140416,       0743,   -47.6671,  -150.0000,       4720,  4400.7,   1.1719,  34.7145,2,  34.7141,2,    201.1,2,   201.2,2,  117.66,2,   32.01,2,    0.00,2,    2.19,2,   0.059,2,   0.014,2,    0.10,2,  -999.0,9,  -999.0,9,-999.0000,9,  -999.00,-999.000,9,-999.0000,9, -999.00,9,   1.1718,2, -999.00,9,  -999.0,9, -999.00,9,  -999.0,9, -999.00,9,      19.30,2,     -999.0,9, -999.00,9, 20140416,      757, -47.6669,-149.9998,    34.8778,2,     -999.0,9,     -999.0,9,     -999.0,9,     -999.0,9,     -999.0,9,     -999.0,9
320620140320,       P16S,      41,          1,          2,         02,2,20140416,       0743,   -47.6671,  -150.0000,       4720,  4600.2,   1.1713,  34.7140,2,  34.7139,2,    201.5,2,   201.5,2,  118.44,2,   32.04,2,    0.00,2,    2.20,2,-999.000,5,-999.000,5, -999.00,5,  2269.6,6,  2371.2,2,   7.6818,2,       20,-999.000,9,-999.0000,9, -999.00,9,   1.1717,2, -999.00,9,  -999.0,9, -999.00,9,  -999.0,9, -999.00,9,     -999.0,5,     -999.0,9, -999.00,9, 20140416,      751, -47.6671,-150.0001,    34.8776,2,     -999.0,9,     -999.0,9,     -999.0,9,     -999.0,9,     -999.0,9,     -999.0,9
320620140320,       P16S,      41,          1,          1,         01,2,20140416,       0743,   -47.6671,  -150.0000,       4720,  4799.5,   1.1861,  34.7137,2,  34.7139,2,    201.2,2,   201.5,2,  118.74,2,   31.99,2,    0.00,2,    2.20,2,   0.080,2,   0.021,2,    0.03,2,  2268.9,2,  2371.2,2,   7.6818,6,       20,-999.000,9,-999.0000,9, -999.00,9,   1.1867,2, -999.00,9,  -999.0,9, -999.00,9,  -999.0,9, -999.00,9,      19.42,2,     -999.0,9, -999.00,9, 20140416,      744, -47.6671,-150.0000,    34.8775,2,     -999.0,9,     -999.0,9,     -999.0,9,     -999.0,9,     -999.0,9,     -999.0,9