BOTTLE,20230715CCHSIOCBG
EXPOCODE,SECT_ID,STNNBR,CASTNO,SAMPNO,BTLNBR,BTLNBR_FLAG_W,DATE,TIME,LATITUDE,LONGITUDE,DEPTH,CTDPRS,CTDTMP,CTDSAL,CTDSAL_FLAG_W,SALNTY,SALNTY_FLAG_W,CTDOXY,CTDOXY_FLAG_W,OXYGEN,OXYGEN_FLAG_W,SILCAT,SILCAT_FLAG_W,NITRAT,NITRAT_FLAG_W,NITRIT,NITRIT_FLAG_W,PHSPHT,PHSPHT_FLAG_W,CFC-11,CFC-11_FLAG_W,CFC-12,CFC-12_FLAG_W,SF6,SF6_FLAG_W,TCARBN,TCARBN_FLAG_W,ALKALI,ALKALI_FLAG_W,PH_TOT,PH_TOT_FLAG_W,PH_TMP,TRITUM,TRITUM_FLAG_W,HELIUM,HELIUM_FLAG_W,DELHE3,DELHE3_FLAG_W,REFTMP,REFTMP_FLAG_W,DELC13,DELC13_FLAG_W,DELC14,DELC14_FLAG_W,DELO18,DELO18_FLAG_W,DOC,DOC_FLAG_W,TDN,TDN_FLAG_W,N2O,N2O_FLAG_W,CALCIUM,CALCIUM_FLAG_W,D15N_NO3,D15N_NO3_FLAG_W,BTL_DATE,BTL_TIME,BTL_LAT,BTL_LON,SALTREF,SALTREF_FLAG_W,D18O_NO3,D18O_NO3_FLAG_W,DSI30,DSI30_FLAG_W,CDOM_NASA,CDOM_NASA_FLAG_W,CDOM_UCSB,CDOM_UCSB_FLAG_W,D15N_NO2+NO3,D15N_NO2+NO3_FLAG_W,D18O_NO2+NO3,D18O_NO2+NO3_FLAG_W
,,,,,,,,,,,METERS,DBAR,ITS-90,PSS-78,,PSS-78,,UMOL/KG,,UMOL/KG,,UMOL/KG,,UMOL/KG,,UMOL/KG,,UMOL/KG,,PMOL/KG,,PMOL/KG,,FMOL/KG,,UMOL/KG,,UMOL/KG,,,,DEG C,TU,,NMOL/KG,,PERCNT,,DEG C,,/MILLE,,/MILLE,,/MILLE,,UMOL/KG,,UMOL/KG,,NMOL/KG,,MMOL/KG,,/MILLE,,,,,,G/KG,,/MILLE,,/MILLE,,,,,,/MILLE,,/MILLE,
320620140320,       P16S,       7,          1,         36,         36,2,20140401,       1346,   -66.0101,  -149.9995,       4343,     3.6,  -0.5359,  33.7361,2,  33.7382,2,    344.5,2,   343.8,2,   31.75,2,   22.09,2,    0.20,2,    1.64,2,   6.319,2,   3.163,2,    3.54,2,  2164.5,2,  2281.2,2,   7.7658,6,       20,-999.000,9,-999.0000,9, -999.00,9,  -0.5362,2, -999.00,9,  -999.0,9, -999.00,9,    44.1,2,   27.89,2,      16.14,2,     -999.0,9, -999.00,9, 20140401,     1542, -66.0101,-149.9995,    33.8973,2,     -999.0,9,     -999.0,9,     -999.0,9,     -999.0,9,     -999.0,9,     -999.0,9
320620140320,       P16S,       7,          1,         35,         35,2,20140401,       1346,   -66.0101,  -149.9995,       4343,    20.2,  -0.5354,  33.7362,2,  33.7382,2,    344.6,2,   343.6,2,   31.75,2,   22.20,2,    0.20,2,    1.65,2,   6.510,2,   3.178,2,    3.37,2,  2163.9,2,  2285.8,2,   7.7656,2,       20,-999.000,9,-999.0000,9, -999.00,9,  -0.5357,2, -999.00,9,  -999.0,9, -999.00,9,    43.6,2,    27.2,2,      15.75,2,     -999.0,9, -999.00,9, 20140401,     1540, -66.0101,-149.9995,    33.8973,2,     -999.0,9,     -999.0,9,     -999.0,9,     -999.0,9,     -999.0,9,     -999.0,9
320620140320,       P16S,       7,          1,         34,         34,2,20140401,       1346,   -66.0101,  -149.9995,       4343,    40.2,  -0.5343,  33.7363,2,  33.7386,2,    344.0,2,   343.8,2,   31.75,2,   22.18,2,    0.20,2,    1.65,2,   6.052,2,   3.205,2,    3.43,2,  2163.7,2,  2284.8,2,    7.764,2,       20,-999.000,9,-999.0000,9, -999.00,9,  -0.5346,2, -999.00,9,  -999.0,9, -999.00,9,    41.4,2,   28.09,2,      16.47,2,     -999.0,9, -999.00,9, 20140401,     1539, -66.0101,-149.9995,    33.8977,2,     -999.0,9,     -999.0,9,     -999.0,9,     -999.0,9,     -999.0,9,     -999.0,9
320620140320,       P16S,       7,          1,         33,         33,2,20140401,       1346,   -66.0101,  -149.9995,       4343,    64.6,  -0.5878,  33.7649,2,  33.7767,2,    342.5,2,   340.4,2,   34.00,2,   22.72,2,    0.19,2,    1.69,2,-999.000,9,-999.000,9, -999.00,9,  2167.8,2,    2288,2,   7.7609,2,       20,-999.000,9,-999.0000,9, -999.00,9,  -0.5814,2, -999.00,9,  -999.0,9, -999.00,9,    43.3,2,   28.11,2,     -999.0,9,     -999.0,9, -999.00,9, 20140401,     1537, -66.0101,-149.9995,    33.9360,2,     -999.0,9,     -999.0,9,     -999.0,9,     -999.0,9,     -999.0,9,     -999.0,9
320620140320,       P16S,       7,          1,         32,         32,2,20140401,       1346,   -66.0101,  -149.9995,       4343,    89.1,  -1.5293,  34.1355,2,  34.1326,2,    315.1,2,   313.8,2,   56.36,2,   27.75,2,    0.13,2,    2.04,2,   5.307,2,   2.761,2,    3.44,2,  2204.6,2,  2306.9,2,   7.7045,2,       20,-999.000,9,-999.0000,9, -999.00,9,  -1.5328,2, -999.00,9,  -999.0,9, -999.00,9,      41,2,   32.23,2,      18.54,2,     -999.0,9, -999.00,9, 20140401,     1536, -66.0101,-149.9996,    34.2935,2,     -999.0,9,     -999.0,9,     -999.0,9,     -999.0,9,     -999.0,9,     -999.0,9
320620140320,       P16S,       7,          1,         31,         31,2,20140401,       1346,   -66.0101,  -149.9995,       4343,   134.2,  -0.4185,  34.3418,2,  34.3316,2,    271.7,2,   262.6,2,   69.24,2,   30.36,2,    0.04,2,    2.17,2,-999.000,9,-999.000,9, -999.00,9,  2227.3,2,  2318.6,2,   7.6643,2,       20,-999.000,9,-999.0000,9, -999.00,9,  -0.3898,2, -999.00,9,  -999.0,9, -999.00,9,    38.7,2,   33.62,2,     -999.0,9,     -999.0,9, -999.00,9, 20140401,     1534, -66.0101,-149.9995,    34.4935,2,     -999.0,9,     -999.0,9,     -999.0,9,     -999.0,9,     -999.0,9,     -999.0,9
320620140320,       P16S,       7,          1,         30,         30,2,20140401,       1346,   -66.0101,  -149.9995,       4343,   185.4,   1.0256,  34.6032,2,  34.6029,2,    201.0,2,   197.5,2,   87.49,2,   32.38,2,    0.03,2,    2.29,2,-999.000,9,-999.000,9, -999.00,9,  2255.7,2,    2338,2,   7.6285,2,       20,-999.000,9,-999.0000,9, -999.00,9,   1.0226,2, -999.00,9,  -999.0,9, -999.00,9,    39.3,2,    37.7,2,     -999.0,9,     -999.0,9, -999.00,9, 20140401,     1531, -66.0101,-149.9995,    34.7661,2,     -999.0,9,     -999.0,9,     -999.0,9,     -999.0,9,     -999.0,9,     -999.0,9
320620140320,       P16S,       7,          1,         29,         29,2,20140401,       1346,   -66.0101,  -149.9995,       4343,   235.4,   1.5191,  34.7044,2,  34.7049,2,    180.6,2,   181.2,2,   94.02,2,   32.42,2,    0.03,2,    2.29,2,   0.477,2,   0.217,2,    0.22,2,  2262.9,2,  2346.7,2,   7.6322,2,       20,-999.000,9,-999.0000,9, -999.00,9,   1.5198,2, -999.00,9,  -999.0,9, -999.00,9,    41.9,2,   36.76,2,      23.27,2,     -999.0,9, -999.00,9, 20140401,     1529, -66.0101,-149.9995,    34.8685,2,     -999.0,9,     -999.0,9,     -999.0,9,     -999.0,9,     -999.0,9,     -999.0,9
320620140320,       P16S,       7,          1,         28,         28,2,20140401,       1346,   -66.0101,  -149.9995,       4343,   285.9,   1.5240,  34.7206,2,  34.7206,2,    182.1,2,   181.6,2,   96.46,2,   32.20,2,    0.03,2,    2.27,2,   0.344,2,   0.152,2,    0.11,2,    2263,2,  2349.3,2,   7.6383,2,       20,-999.000,9,-999.0000,9, -999.00,9,   1.5238,2, -999.00,9,  -999.0,9, -999.00,9,      40,2,   34.86,2,      21.75,2,     -999.0,9, -999.00,9, 20140401,     1527, -66.0101,-149.9995,    34.8843,2,     -999.0,9,     -999.0,9,     -999.0,9,     -999.0,9,     -999.0,9,     -999.0,9
320620140320,       P16S,       7,          1,         27,         27,2,20140401,       1346,   -66.0101,  -149.9995,       4343,   335.0,   1.4777,  34.7261,2,  34.7261,2,    182.8,2,   182.2,2,   98.81,2,   32.25,2,    0.02,2,    2.28,2,   0.311,2,   0.113,2,    0.16,2,  2263.6,2,  2349.3,2,   7.6401,2,       20,-999.000,9,-999.0000,9, -999.00,9,   1.4784,2, -999.00,9,  -999.0,9, -999.00,9,    41.7,2,   35.04,2,      22.99,2,     -999.0,9, -999.00,9, 20140401,     1525, -66.0101,-149.9995,    34.8899,2,     -999.0,9,     -999.0,9,     -999.0,9,     -999.0,9,     -999.0,9,     -999.0,9
320620140320,       P16S,       7,          1,         26,         26,2,20140401,       1346,   -66.0101,  -149.9995,       4343,   385.7,   1.4268,  34.7282,2,  34.7285,2,    183.5,2,   182.8,2,  101.05,2,   32.22,2,    0.01,2,    2.27,2,   0.252,2,   0.095,2,    0.11,2,  2263.9,2,  2349.7,2,   7.6402,2,       20,-999.000,9,-999.0000,9, -999.00,9,   1.4272,2, -999.00,9,  -999.0,9, -999.00,9,      38,2,   35.01,2,      21.33,2,     -999.0,9, -999.00,9, 20140401,     1523, -66.0101,-149.9995,    34.8922,2,     -999.0,9,     -999.0,9,     -999.0,9,     -999.0,9,     -999.0,9,     -999.0,9
320620140320,       P16S,       7,          1,         25,         25,2,20140401,       1346,   -66.0101,  -149.9995,       4343,   435.6,   1.3823,  34.7290,2,  34.7300,2,    183.8,2,   182.8,2,  103.39,2,   32.28,2,    0.01,2,    2.28,2,   0.202,2,   0.079,2,    0.21,2,  2265.3,2,  2349.6,6,   7.6416,2,       20,-999.000,9,-999.0000,9, -999.00,9,   1.3840,2, -999.00,9,  -999.0,9, -999.00,9,    44.1,4,   33.93,3,      21.63,2,     -999.0,9, -999.00,9, 20140401,     1521, -66.0101,-149.9995,    34.8938,2,     -999.0,9,     -999.0,9,     -999.0,9,     -999.0,9,     -999.0,9,     -999.0,9
320620140320,       P16S,       7,          1,         24,         24,2,20140401,       1346,   -66.0101,  -149.9995,       4343,   484.9,   1.3489,  34.7290,2,  34.7312,2,    184.2,2,   183.1,2,  104.76,2,   32.32,2,    0.01,2,    2.28,2,-999.000,9,-999.000,9, -999.00,9,  2266.3,6,  2352.9,2,    7.642,2,       20,-999.000,9,-999.0000,9, -999.00,9,   1.3480,2, -999.00,9,  -999.0,9, -999.00,9,    39.1,2,   34.35,2,     -999.0,9,     -999.0,9, -999.00,9, 20140401,     1519, -66.0101,-149.9995,    34.8950,2,     -999.0,9,     -999.0,9,     -999.0,9,     -999.0,9,     -999.0,9,     -999.0,9
320620140320,       P16S,       7,          1,         23,         23,2,20140401,       1346,   -66.0101,  -149.9995,       4343,   564.5,   1.2832,  34.7284,2,  34.7276,2,    185.4,2,   184.3,2,  107.01,2,   32.35,2,    0.00,2,    2.28,2,   0.207,2,   0.071,2,    0.08,2,  2265.6,2,    2353,2,   7.6428,6,       20,-999.000,9,-999.0000,9, -999.00,9,   1.2831,2, -999.00,9,  -999.0,9, -999.00,9,    39.6,2,   35.02,2,      22.05,2,     -999.0,9, -999.00,9, 20140401,     1516, -66.0101,-149.9995,    34.8914,2,     -999.0,9,     -999.0,9,     -999.0,9,     -999.0,9,     -999.0,9,     -999.0,9
320620140320,       P16S,       7,          1,         22,         22,2,20140401,       1346,   -66.0101,  -149.9995,       4343,   664.2,   1.2048,  34.7271,2,  34.7263,2,    187.9,2,   186.7,2,  109.84,2,   32.34,2,    0.00,2,    2.28,2,   0.157,2,   0.051,2,    0.09,2,  2266.2,2,  2353.5,2,   7.6454,2,       20,-999.000,9,-999.0000,9, -999.00,9,   1.2063,2, -999.00,9,  -999.0,9, -999.00,9,    39.2,2, -999.00,9,      21.21,2,     -999.0,9, -999.00,9, 20140401,     1513, -66.0101,-149.9995,    34.8900,2,     -999.0,9,     -999.0,9,     -999.0,9,     -999.0,9,     -999.0,9,     -999.0,9
320620140320,       P16S,       7,          1,         21,         21,2,20140401,       1346,   -66.0101,  -149.9995,       4343,   764.6,   1.1374,  34.7246,2,  34.7237,2,   -999.0,9,  -999.0,5,  111.60,2,   32.35,2,    0.00,2,    2.27,2,   0.148,2,   0.047,2,    0.10,2,    2265,2,  2356.1,2,   7.6499,2,       20,-999.000,9,-999.0000,9, -999.00,9,   1.1373,2, -999.00,9,  -999.0,9, -999.00,9,    39.9,2, -999.00,9,      20.39,2,     -999.0,9, -999.00,9, 20140401,     1511, -66.0101,-149.9996,    34.8874,2,     -999.0,9,     -999.0,9,     -999.0,9,     -999.0,9,     -999.0,9,     -999.0,9
320620140320,       P16S,       7,          1,         20,         20,2,20140401,       1346,   -66.0101,  -149.9995,       4343,   864.7,   1.0686,  34.7220,2,  34.7225,2,    192.0,2,   191.6,2,  113.65,2,   32.28,2,    0.00,2,    2.27,2,-999.000,9,-999.000,9, -999.00,9,  -999.0,9,  -999.0,9,-999.0000,9,  -999.00,-999.000,9,-999.0000,9, -999.00,9,   1.0685,2, -999.00,9,  -999.0,9, -999.00,9,    39.8,2, -999.00,9,     -999.0,9,     -999.0,9, -999.00,9, 20140401,     1508, -66.0101,-149.9996,    34.8862,2,     -999.0,9,     -999.0,9,     -999.0,9,     -999.0,9,     -999.0,9,     -999.0,9
320620140320,       P16S,       7,          1,         19,         19,2,20140401,       1346,   -66.0101,  -149.9995,       4343,   964.9,   1.0088,  34.7202,2,  34.7201,2,    194.3,2,   193.8,2,  115.31,2,   32.22,2,    0.00,2,    2.27,2,   0.121,2,   0.035,2,    0.09,2,  2264.5,2,  2358.1,2,   7.6565,2,       20,-999.000,9,-999.0000,9, -999.00,9,   1.0080,2, -999.00,9,  -999.0,9, -999.00,9,    38.2,2, -999.00,9,      20.31,2,     -999.0,9, -999.00,9, 20140401,     1505, -66.0101,-149.9995,    34.8839,2,     -999.0,9,     -999.0,9,     -999.0,9,     -999.0,9,     -999.0,9,     -999.0,9
320620140320,       P16S,       7,          1,         18,         18,2,20140401,       1346,   -66.0101,  -149.9995,       4343,  1064.3,   0.9500,  34.7178,2,  34.7203,3,    196.1,2,   195.8,2,  116.87,2,   32.22,2,    0.00,2,    2.27,2,   0.119,2,   0.031,2,    0.00,2,  -999.0,9,  -999.0,9,-999.0000,9,  -999.00,-999.000,9,-999.0000,9, -999.00,9,   0.9503,2, -999.00,9,  -999.0,9, -999.00,9,    37.7,2, -999.00,9,      20.27,2,     -999.0,9, -999.00,9, 20140401,     1502, -66.0101,-149.9995,    34.8840,3,     -999.0,9,     -999.0,9,     -999.0,9,     -999.0,9,     -999.0,9,     -999.0,9
320620140320,       P16S,       7,          1,         17,         17,2,20140401,       1346,   -66.0101,  -149.9995,       4343,  1166.0,   0.8976,  34.7156,2,  34.7146,2,    197.9,2,   197.6,2,  118.33,2,   32.21,2,    0.00,2,    2.27,2,   0.116,2,   0.033,2,    0.00,2,  2264.5,2,  2357.7,2,   7.6602,2,       20,-999.000,9,-999.0000,9, -999.00,9,   0.8987,2, -999.00,9,  -999.0,9, -999.00,9,    37.5,2, -999.00,9,      19.85,2,     -999.0,9, -999.00,9, 20140401,     1459, -66.0101,-149.9995,    34.8783,2,     -999.0,9,     -999.0,9,     -999.0,9,     -999.0,9,     -999.0,9,     -999.0,9
320620140320,       P16S,       7,          1,         16,         16,2,20140401,       1346,   -66.0101,  -149.9995,       4343,  1265.0,   0.8448,  34.7133,2,  34.7134,2,    199.2,2,   199.0,2,  120.48,2,   32.20,2,    0.00,2,    2.27,2,-999.000,9,-999.000,9, -999.00,9,  -999.0,9,  -999.0,9,-999.0000,9,  -999.00,-999.000,9,-999.0000,9, -999.00,9,   0.8447,2, -999.00,9,  -999.0,9, -999.00,9,    37.8,2, -999.00,9,     -999.0,9,     -999.0,9, -999.00,9, 20140401,     1457, -66.0101,-149.9995,    34.8771,2,     -999.0,9,     -999.0,9,     -999.0,9,     -999.0,9,     -999.0,9,     -999.0,9
320620140320,       P16S,       7,          1,         15,         15,2,20140401,       1346,   -66.0101,  -149.9995,       4343,  1363.7,   0.7959,  34.7114,2,  34.7097,3,    200.5,2,   200.4,2,  122.04,2,   32.27,2,    0.00,2,    2.27,2,   0.117,2,   0.031,2,    0.00,2,  2263.8,2,  2359.7,2,   7.6622,2,       20,-999.000,9,-999.0000,9, -999.00,9,   0.7962,2, -999.00,9,  -999.0,9, -999.00,9,      41,2, -999.00,9,      19.61,2,     -999.0,9, -999.00,9, 20140401,     1454, -66.0101,-149.9995,    34.8733,3,     -999.0,9,     -999.0,9,     -999.0,9,     -999.0,9,     -999.0,9,     -999.0,9
320620140320,       P16S,       7,          1,         14,         14,2,20140401,       1346,   -66.0101,  -149.9995,       4343,  1465.6,   0.7546,  34.7099,2,  34.7065,3,    201.7,2,   201.6,2,  123.31,2,   32.27,2,    0.00,2,    2.27,2,   0.130,2,   0.037,2,    0.05,2,  -999.0,9,  -999.0,9,-999.0000,9,  -999.00,-999.000,9,-999.0000,9, -999.00,9,   0.7548,2, -999.00,9,  -999.0,9, -999.00,9,    41.1,2, -999.00,9,      19.69,2,     -999.0,9, -999.00,9, 20140401,     1451, -66.0101,-149.9995,    34.8702,3,     -999.0,9,     -999.0,9,     -999.0,9,     -999.0,9,     -999.0,9,     -999.0,9
320620140320,       P16S,       7,          1,         13,         13,2,20140401,       1346,   -66.0101,  -149.9995,       4343,  1565.4,   0.7177,  34.7089,2,  34.7073,2,    202.6,2,   202.7,2,  124.78,2,   32.33,2,    0.00,2,    2.27,2,   0.139,2,   0.040,2,    0.06,2,  2264.3,2,  2359.4,2,   7.6635,2,       20,-999.000,9,-999.0000,9, -999.00,9,   0.7183,2, -999.00,9,  -999.0,9, -999.00,9,      37,2, -999.00,9,      20.09,2,     -999.0,9, -999.00,9, 20140401,     1448, -66.0101,-149.9995,    34.8709,2,     -999.0,9,     -999.0,9,     -999.0,9,     -999.0,9,     -999.0,9,     -999.0,9
320620140320,       P16S,       7,          1,         12,         12,2,20140401,       1346,   -66.0101,  -149.9995,       4343,  1733.8,   0.6574,  34.7067,2,  34.7063,2,    204.2,2,   204.9,2,  126.34,2,   32.32,2,    0.00,2,    2.27,2,   0.147,2,   0.043,2,    0.07,2,  -999.0,9,  -999.0,9,-999.0000,9,  -999.00,-999.000,9,-999.0000,9, -999.00,9,   0.6574,2, -999.00,9,  -999.0,9, -999.00,9,    40.4,3, -999.00,9,      19.67,2,     -999.0,9, -999.00,9, 20140401,     1444, -66.0101,-149.9995,    34.8700,2,     -999.0,9,     -999.0,9,     -999.0,9,     -999.0,9,     -999.0,9,     -999.0,9
320620140320,       P16S,       7,          1,         11,         11,2,20140401,       1346,   -66.0101,  -149.9995,       4343,  1934.5,   0.5765,  34.7044,2,  34.7047,2,    205.9,2,   205.8,2,  127.51,2,   32.42,2,    0.00,2,    2.28,2,   0.158,2,   0.045,2,    0.04,2,  2263.2,2,  2359.1,2,   7.6632,2,       20,-999.000,9,-999.0000,9, -999.00,9,   0.5762,2, -999.00,9,  -999.0,9, -999.00,9,    37.6,2, -999.00,9,      19.47,2,     -999.0,9, -999.00,9, 20140401,     1439, -66.0101,-149.9995,    34.8684,2,     -999.0,9,     -999.0,9,     -999.0,9,     -999.0,9,     -999.0,9,     -999.0,9
320620140320,       P16S,       7,          1,         10,         10,2,20140401,       1346,   -66.0101,  -149.9995,       4343,  2164.1,   0.4943,  34.7034,2,  34.7035,2,    208.4,2,   207.7,2,  129.07,2,   32.43,2,    0.00,2,    2.27,2,   0.174,2,   0.053,2,    0.07,2,  -999.0,9,  -999.0,9,-999.0000,9,  -999.00,-999.000,9,-999.0000,9, -999.00,9,   0.4935,2, -999.00,9,  -999.0,9, -999.00,9,    38.5,2, -999.00,9,      19.42,2,     -999.0,9, -999.00,9, 20140401,     1434, -66.0101,-149.9995,    34.8672,2,     -999.0,9,     -999.0,9,     -999.0,9,     -999.0,9,     -999.0,9,     -999.0,9
320620140320,       P16S,       7,          1,          9,         09,2,20140401,       1346,   -66.0101,  -149.9995,       4343,  2415.1,   0.4120,  34.7022,2,  34.7023,2,    210.0,2,   209.9,2,  130.93,2,   32.46,2,    0.00,2,    2.27,2,   0.174,2,   0.048,2,    0.10,2,  2263.5,2,  2359.7,2,   7.6637,2,       20,-999.000,9,-999.0000,9, -999.00,9,   0.4120,2, -999.00,9,  -999.0,9, -999.00,9,    38.8,2, -999.00,9,      19.26,2,     -999.0,9, -999.00,9, 20140401,     1429, -66.0101,-149.9995,    34.8660,2,     -999.0,9,     -999.0,9,     -999.0,9,     -999.0,9,     -999.0,9,     -999.0,9
320620140320,       P16S,       7,          1,          8,         08,2,20140401,       1346,   -66.0101,  -149.9995,       4343,  2663.6,   0.3530,  34.7021,3,  34.7002,2,    212.2,2,   211.4,2,  132.10,2,   32.39,2,    0.00,2,    2.27,2,-999.000,9,-999.000,9, -999.00,9,  -999.0,9,  -999.0,9,-999.0000,9,  -999.00,-999.000,9,-999.0000,9, -999.00,9,   0.3539,2, -999.00,9,  -999.0,9, -999.00,9,    41.5,2, -999.00,9,     -999.0,9,     -999.0,9, -999.00,9, 20140401,     1423, -66.0101,-149.9995,    34.8638,2,     -999.0,9,     -999.0,9,     -999.0,9,     -999.0,9,     -999.0,9,     -999.0,9
320620140320,       P16S,       7,          1,          7,         07,2,20140401,       1346,   -66.0101,  -149.9995,       4343,  2915.1,   0.2973,  34.7005,2,  34.7004,2,    214.3,2,   213.6,2,  133.18,2,   32.53,2,    0.00,2,    2.28,2,   0.301,2,   0.099,2,    0.16,2,  2262.6,2,  2359.8,2,   7.6627,2,       20,-999.000,9,-999.0000,9, -999.00,9,   0.2977,2, -999.00,9,  -999.0,9, -999.00,9,    38.7,2, -999.00,9,      19.14,2,     -999.0,9, -999.00,9, 20140401,     1418, -66.0101,-149.9995,    34.8640,2,     -999.0,9,     -999.0,9,     -999.0,9,     -999.0,9,     -999.0,9,     -999.0,9
320620140320,       P16S,       7,          1,          6,         06,2,20140401,       1346,   -66.0101,  -149.9995,       4343,  3199.1,   0.2358,  34.6974,2,  34.6970,2,    216.5,2,   217.5,2,  130.93,2,   32.43,2,    0.00,2,    2.28,2,   0.519,2,   0.278,2,    0.25,2,  -999.0,9,  -999.0,9,-999.0000,9,  -999.00,-999.000,9,-999.0000,9, -999.00,9,   0.2359,2, -999.00,9,  -999.0,9, -999.00,9,    39.2,2, -999.00,9,      19.23,2,     -999.0,9, -999.00,9, 20140401,     1412, -66.0101,-149.9995,    34.8606,2,     -999.0,9,     -999.0,9,     -999.0,9,     -999.0,9,     -999.0,9,     -999.0,9