BOTTLE,20230715CCHSIOCBG
EXPOCODE,SECT_ID,STNNBR,CASTNO,SAMPNO,BTLNBR,BTLNBR_FLAG_W,DATE,TIME,LATITUDE,LONGITUDE,DEPTH,CTDPRS,CTDTMP,CTDSAL,CTDSAL_FLAG_W,SALNTY,SALNTY_FLAG_W,CTDOXY,CTDOXY_FLAG_W,OXYGEN,OXYGEN_FLAG_W,SILCAT,SILCAT_FLAG_W,NITRAT,NITRAT_FLAG_W,NITRIT,NITRIT_FLAG_W,PHSPHT,PHSPHT_FLAG_W,CFC-11,CFC-11_FLAG_W,CFC-12,CFC-12_FLAG_W,SF6,SF6_FLAG_W,TCARBN,TCARBN_FLAG_W,ALKALI,ALKALI_FLAG_W,PH_TOT,PH_TOT_FLAG_W,PH_TMP,TRITUM,TRITUM_FLAG_W,HELIUM,HELIUM_FLAG_W,DELHE3,DELHE3_FLAG_W,REFTMP,REFTMP_FLAG_W,DELC13,DELC13_FLAG_W,DELC14,DELC14_FLAG_W,DELO18,DELO18_FLAG_W,DOC,DOC_FLAG_W,TDN,TDN_FLAG_W,N2O,N2O_FLAG_W,CALCIUM,CALCIUM_FLAG_W,D15N_NO3,D15N_NO3_FLAG_W,BTL_DATE,BTL_TIME,BTL_LAT,BTL_LON,SALTREF,SALTREF_FLAG_W,D18O_NO3,D18O_NO3_FLAG_W,DSI30,DSI30_FLAG_W,CDOM_NASA,CDOM_NASA_FLAG_W,CDOM_UCSB,CDOM_UCSB_FLAG_W,D15N_NO2+NO3,D15N_NO2+NO3_FLAG_W,D18O_NO2+NO3,D18O_NO2+NO3_FLAG_W
,,,,,,,,,,,METERS,DBAR,ITS-90,PSS-78,,PSS-78,,UMOL/KG,,UMOL/KG,,UMOL/KG,,UMOL/KG,,UMOL/KG,,UMOL/KG,,PMOL/KG,,PMOL/KG,,FMOL/KG,,UMOL/KG,,UMOL/KG,,,,DEG C,TU,,NMOL/KG,,PERCNT,,DEG C,,/MILLE,,/MILLE,,/MILLE,,UMOL/KG,,UMOL/KG,,NMOL/KG,,MMOL/KG,,/MILLE,,,,,,G/KG,,/MILLE,,/MILLE,,,,,,/MILLE,,/MILLE,
320620140320,       P16S,      83,          3,          5,         05,2,20140502,       0047,   -19.6665,  -150.0005,       3982,  3135.1,   1.6381,  34.6764,2,  34.6770,2,    167.3,2,   167.4,2,  123.72,2,   34.75,2,    0.00,2,    2.42,2,   0.001,2,   0.000,2,    0.00,2,  2298.9,6,    2394,2,   7.6527,2,       20,-999.000,9,-999.0000,9, -999.00,9,   1.6389,2,    0.22,2,  -210.7,2, -999.00,9,  -999.0,9, -999.00,9,      22.55,2,     -999.0,1, -999.00,9, 20140502,      108, -19.6665,-150.0005,    34.8405,2,     -999.0,9,     -999.0,9,     -999.0,9,     -999.0,9,     -999.0,9,     -999.0,9
320620140320,       P16S,      83,          3,          4,         04,2,20140502,       0047,   -19.6665,  -150.0005,       3982,  3365.4,   1.5782,  34.6813,2,  34.6819,2,    171.3,2,   170.2,2,  123.72,2,   34.45,2,    0.00,2,    2.40,2,   0.002,2,   0.001,2,    0.00,2,  2295.3,2,    2393,6,   7.6558,2,       20,-999.000,9,-999.0000,9, -999.00,9,   1.5784,2,    0.24,2,  -209.9,2, -999.00,9,  -999.0,9, -999.00,9,      21.74,2,     -999.0,9, -999.00,9, 20140502,      103, -19.6665,-150.0005,    34.8455,2,     -999.0,9,     -999.0,9,     -999.0,9,     -999.0,9,     -999.0,9,     -999.0,9
320620140320,       P16S,      83,          3,          3,         03,2,20140502,       0047,   -19.6665,  -150.0005,       3982,  3600.2,   1.5447,  34.6850,2,  34.6843,2,    173.6,2,   173.8,2,  123.72,2,   34.28,2,    0.00,2,    2.40,2,   0.000,2,   0.000,2,    0.00,2,  2293.4,2,  2392.1,2,    7.658,2,       20,-999.000,9,-999.0000,9, -999.00,9,   1.5449,2,    0.23,2,  -200.2,2, -999.00,9,  -999.0,9, -999.00,9,      21.80,2,     -999.0,1, -999.00,9, 20140502,       58, -19.6665,-150.0005,    34.8479,2,     -999.0,9,     -999.0,9,     -999.0,9,     -999.0,1,     -999.0,9,     -999.0,9
320620140320,       P16S,      83,          3,          2,         02,2,20140502,       0047,   -19.6665,  -150.0005,       3982,  3798.0,   1.5100,  34.6884,2,  34.6880,2,    176.3,2,   177.0,2,  122.84,2,   34.09,2,    0.00,2,    2.38,2,-999.000,9,-999.000,9, -999.00,9,  -999.0,9,  -999.0,9,-999.0000,9,  -999.00,-999.000,9,-999.0000,9, -999.00,9,   1.5102,2, -999.00,9,  -999.0,9, -999.00,9,  -999.0,9, -999.00,9,     -999.0,9,     -999.0,9, -999.00,9, 20140502,       52, -19.6665,-150.0005,    34.8516,2,     -999.0,9,     -999.0,9,     -999.0,9,     -999.0,9,     -999.0,9,     -999.0,9
320620140320,       P16S,      83,          3,          1,         01,2,20140502,       0047,   -19.6665,  -150.0005,       3982,  4006.7,   1.4892,  34.6909,2,  34.6910,2,    178.7,2,   178.5,2,  122.64,2,   33.92,2,    0.00,2,    2.37,2,  -0.001,2,   0.000,2,    0.00,2,    2289,6,  2388.6,2,   7.6626,2,       20,-999.000,9,-999.0000,9, -999.00,9,   1.4892,2,    0.16,2,  -192.1,2, -999.00,9,  -999.0,9, -999.00,9,      21.60,2,     -999.0,1, -999.00,9, 20140502,       47, -19.6665,-150.0005,    34.8546,2,     -999.0,9,     -999.0,9,     -999.0,9,     -999.0,1,     -999.0,9,     -999.0,9