BOTTLE,20230715CCHSIOCBG
EXPOCODE,SECT_ID,STNNBR,CASTNO,SAMPNO,BTLNBR,BTLNBR_FLAG_W,DATE,TIME,LATITUDE,LONGITUDE,DEPTH,CTDPRS,CTDTMP,CTDSAL,CTDSAL_FLAG_W,SALNTY,SALNTY_FLAG_W,CTDOXY,CTDOXY_FLAG_W,OXYGEN,OXYGEN_FLAG_W,SILCAT,SILCAT_FLAG_W,NITRAT,NITRAT_FLAG_W,NITRIT,NITRIT_FLAG_W,PHSPHT,PHSPHT_FLAG_W,CFC-11,CFC-11_FLAG_W,CFC-12,CFC-12_FLAG_W,SF6,SF6_FLAG_W,TCARBN,TCARBN_FLAG_W,ALKALI,ALKALI_FLAG_W,PH_TOT,PH_TOT_FLAG_W,PH_TMP,TRITUM,TRITUM_FLAG_W,HELIUM,HELIUM_FLAG_W,DELHE3,DELHE3_FLAG_W,REFTMP,REFTMP_FLAG_W,DELC13,DELC13_FLAG_W,DELC14,DELC14_FLAG_W,DELO18,DELO18_FLAG_W,DOC,DOC_FLAG_W,TDN,TDN_FLAG_W,N2O,N2O_FLAG_W,CALCIUM,CALCIUM_FLAG_W,D15N_NO3,D15N_NO3_FLAG_W,BTL_DATE,BTL_TIME,BTL_LAT,BTL_LON,SALTREF,SALTREF_FLAG_W,D18O_NO3,D18O_NO3_FLAG_W,DSI30,DSI30_FLAG_W,CDOM_NASA,CDOM_NASA_FLAG_W,CDOM_UCSB,CDOM_UCSB_FLAG_W,D15N_NO2+NO3,D15N_NO2+NO3_FLAG_W,D18O_NO2+NO3,D18O_NO2+NO3_FLAG_W
,,,,,,,,,,,METERS,DBAR,ITS-90,PSS-78,,PSS-78,,UMOL/KG,,UMOL/KG,,UMOL/KG,,UMOL/KG,,UMOL/KG,,UMOL/KG,,PMOL/KG,,PMOL/KG,,FMOL/KG,,UMOL/KG,,UMOL/KG,,,,DEG C,TU,,NMOL/KG,,PERCNT,,DEG C,,/MILLE,,/MILLE,,/MILLE,,UMOL/KG,,UMOL/KG,,NMOL/KG,,MMOL/KG,,/MILLE,,,,,,G/KG,,/MILLE,,/MILLE,,,,,,/MILLE,,/MILLE,
320620140320,       P16S,      60,          1,         36,         36,2,20140423,       2034,   -35.0000,  -149.9998,     -999.0,     4.8,  20.7274,  35.3906,2,  35.3912,2,    223.8,2,   225.3,2,    0.59,2,    0.23,2,    0.00,2,    0.01,2,   1.940,2,   1.252,2,    1.47,2,  2037.7,6,  2320.2,2,   8.0877,2,       20,-999.000,9,-999.0000,9, -999.00,9,  20.7259,2, -999.00,9,  -999.0,9, -999.00,9,    61.7,2,    4.99,2,       7.42,2,     -999.0,1, -999.00,1, 20140423,     2248, -34.9999,-149.9997,    35.5581,2,     -999.0,1,     -999.0,9,     -999.0,9,     -999.0,1,     -999.0,1,     -999.0,1
320620140320,       P16S,      60,          1,         35,         35,2,20140423,       2034,   -35.0000,  -149.9998,     -999.0,    23.7,  20.7130,  35.3902,2,  35.3902,2,    224.7,2,   224.6,2,    0.59,2,    0.20,2,    0.00,2,    0.01,2,   1.760,2,   1.258,2,    1.51,2,  2036.4,2,  2320.2,2,   8.0873,2,       20,-999.000,9,-999.0000,9, -999.00,9,  20.7131,2,    0.91,2,    54.8,2, -999.00,9,    60.8,2,    3.64,2,       7.64,2,     -999.0,9, -999.00,1, 20140423,     2246, -34.9999,-149.9998,    35.5571,2,     -999.0,1,     -999.0,9,     -999.0,9,     -999.0,1,     -999.0,1,     -999.0,1
320620140320,       P16S,      60,          1,         34,         34,2,20140423,       2034,   -35.0000,  -149.9998,     -999.0,    50.8,  20.6792,  35.3883,2,  35.3886,2,    224.8,2,   224.8,2,    0.68,2,    0.19,2,    0.00,2,    0.01,2,-999.000,9,-999.000,9, -999.00,9,  2036.7,2,    2320,2,   8.0871,2,       20,-999.000,9,-999.0000,9, -999.00,9,  20.6794,2, -999.00,9,  -999.0,9, -999.00,9,    60.7,2,    5.33,2,     -999.0,9,     -999.0,1, -999.00,1, 20140423,     2245, -34.9999,-149.9998,    35.5555,2,     -999.0,1,     -999.0,9,     -999.0,9,     -999.0,1,     -999.0,1,     -999.0,1
320620140320,       P16S,      60,          1,         32,         32,2,20140423,       2034,   -35.0000,  -149.9998,     -999.0,    73.9,  20.6679,  35.3892,2,-999.0000,9,   -999.0,9,  -999.0,9, -999.00,9, -999.00,9, -999.00,9, -999.00,9,-999.000,9,-999.000,9, -999.00,9,  -999.0,9,  -999.0,9,-999.0000,9,  -999.00,-999.000,9,-999.0000,9, -999.00,9,  20.6634,2, -999.00,9,  -999.0,9, -999.00,9,  -999.0,9, -999.00,9,     -999.0,9,     -999.0,9, -999.00,9, 20140423,     2243, -34.9999,-149.9998,     -999.0,9,     -999.0,9,     -999.0,9,     -999.0,9,     -999.0,9,     -999.0,9,     -999.0,9
320620140320,       P16S,      60,          1,         33,         33,2,20140423,       2034,   -35.0000,  -149.9998,     -999.0,    73.9,  20.6647,  35.3896,2,  35.3906,2,    225.1,2,   225.2,2,    0.88,2,    0.18,2,    0.00,2,    0.04,2,   1.973,2,   1.256,2,    1.55,2,  2036.7,2,  2320.4,2,    8.087,2,       20,-999.000,9,-999.0000,9, -999.00,9,  20.6619,2,    0.94,2,    46.6,2, -999.00,9,      62,2,     3.9,2,       7.74,2,     -999.0,9, -999.00,1, 20140423,     2243, -34.9999,-149.9998,    35.5575,2,     -999.0,1,     -999.0,9,     -999.0,9,     -999.0,1,     -999.0,1,     -999.0,1
320620140320,       P16S,      60,          1,         31,         31,2,20140423,       2034,   -35.0000,  -149.9998,     -999.0,    99.6,  17.4997,  35.2762,2,  35.2800,2,    248.8,2,   248.2,2,    0.59,2,    0.17,2,    0.01,2,    0.06,2,   2.099,2,   1.520,2,    1.63,2,  2048.6,2,  2315.2,2,   8.0571,2,       20,-999.000,9,-999.0000,9, -999.00,9,  17.4712,3,    1.10,2,    49.6,2, -999.00,9,    60.6,2,    4.32,2,       8.84,2,     -999.0,1, -999.00,1, 20140423,     2241, -34.9999,-149.9998,    35.4464,2,     -999.0,1,     -999.0,9,     -999.0,9,     -999.0,1,     -999.0,1,     -999.0,1
320620140320,       P16S,      60,          1,         30,         30,2,20140423,       2034,   -35.0000,  -149.9998,     -999.0,    99.8,  17.4979,  35.2738,2,-999.0000,9,   -999.0,9,  -999.0,9, -999.00,9, -999.00,9, -999.00,9, -999.00,9,-999.000,9,-999.000,9, -999.00,9,  -999.0,9,  -999.0,9,-999.0000,9,  -999.00,-999.000,9,-999.0000,9, -999.00,9,  17.4688,3, -999.00,9,  -999.0,9, -999.00,9,  -999.0,9, -999.00,9,     -999.0,9,     -999.0,9, -999.00,9, 20140423,     2241, -34.9999,-149.9998,     -999.0,9,     -999.0,9,     -999.0,9,     -999.0,9,     -999.0,9,     -999.0,9,     -999.0,9
320620140320,       P16S,      60,          1,         29,         29,2,20140423,       2034,   -35.0000,  -149.9998,     -999.0,   149.3,  15.7959,  35.2009,2,  35.1989,2,    235.8,2,   234.3,2,    0.78,2,    0.41,2,    0.03,2,    0.15,2,   2.370,2,   1.551,2,    1.63,2,  2067.3,2,  2312.7,2,   8.0173,2,       20,-999.000,9,-999.0000,9, -999.00,9,  15.7954,2,    1.17,2,    41.5,2, -999.00,9,    56.9,2,     4.2,2,       9.63,2,     -999.0,9, -999.00,1, 20140423,     2239, -34.9999,-149.9998,    35.3648,2,     -999.0,1,     -999.0,9,     -999.0,9,     -999.0,1,     -999.0,1,     -999.0,1
320620140320,       P16S,      60,          1,         28,         28,2,20140423,       2034,   -35.0000,  -149.9998,     -999.0,   199.2,  14.6641,  35.0987,2,  35.0974,2,    223.3,2,   221.5,2,    1.37,2,    3.69,2,    0.03,2,    0.34,2,-999.000,9,-999.000,9, -999.00,9,  2083.9,2,  2306.9,2,   7.9738,2,       20,-999.000,9,-999.0000,9, -999.00,9,  14.6569,2,    0.91,2,    61.8,2, -999.00,9,    50.1,2,    6.77,2,     -999.0,9,     -999.0,9, -999.00,1, 20140423,     2237, -34.9999,-149.9998,    35.2629,2,     -999.0,1,     -999.0,9,     -999.0,9,     -999.0,1,     -999.0,1,     -999.0,1
320620140320,       P16S,      60,          1,         27,         27,2,20140423,       2034,   -35.0000,  -149.9998,     -999.0,   249.2,  13.3044,  34.9661,2,  34.9667,2,    216.5,2,   212.8,2,    1.66,2,    7.36,2,    0.01,2,    0.59,2,   2.949,2,   1.661,2,    1.51,2,  2101.4,2,  2300.6,2,    7.924,2,       20,-999.000,9,-999.0000,9, -999.00,9,  13.3158,2,    0.93,2,    32.8,2, -999.00,9,    46.3,2,   10.65,2,      13.20,2,     -999.0,1, -999.00,1, 20140423,     2235, -35.0000,-149.9998,    35.1316,2,     -999.0,1,     -999.0,9,     -999.0,9,     -999.0,1,     -999.0,1,     -999.0,1
320620140320,       P16S,      60,          1,         26,         26,2,20140423,       2034,   -35.0000,  -149.9998,     -999.0,   299.9,  11.6604,  34.7925,2,  34.7909,2,    213.5,2,   212.7,2,    2.35,2,   11.39,2,    0.01,2,    0.84,2,-999.000,9,-999.000,9, -999.00,9,  2115.8,2,  2293.6,2,   7.8775,2,       20,-999.000,9,-999.0000,9, -999.00,9,  11.6430,2,    0.99,2,    39.4,2, -999.00,9,    46.6,2,   14.61,2,     -999.0,9,     -999.0,9, -999.00,1, 20140423,     2233, -35.0000,-149.9998,    34.9550,2,     -999.0,1,     -999.0,1,     -999.0,9,     -999.0,1,     -999.0,1,     -999.0,1
320620140320,       P16S,      60,          1,         25,         25,2,20140423,       2034,   -35.0000,  -149.9998,     -999.0,   349.9,  10.0201,  34.6286,2,  34.6219,2,    220.6,2,   220.9,2,    3.52,2,   14.99,2,    0.01,2,    1.07,2,   3.055,2,   1.889,2,    1.41,2,    2127,2,  2287.2,2,   7.8405,2,       20,-999.000,9,-999.0000,9, -999.00,9,  10.0161,2,    1.01,2,    38.3,2, -999.00,9,    42.7,2, -999.00,5,      18.08,2,     -999.0,9, -999.00,1, 20140423,     2231, -34.9999,-149.9998,    34.7851,2,     -999.0,1,     -999.0,9,     -999.0,9,     -999.0,9,     -999.0,1,     -999.0,1
320620140320,       P16S,      60,          1,         24,         24,2,20140423,       2034,   -35.0000,  -149.9998,     -999.0,   400.6,   8.7513,  34.4888,2,  34.4883,2,    230.1,2,   230.5,2,    4.01,2,   17.64,2,    0.01,2,    1.25,2,-999.000,9,-999.000,9, -999.00,9,  2130.4,2,    2282,2,   7.8183,2,       20,-999.000,9,-999.0000,9, -999.00,9,   8.7517,2,    1.11,2,    14.8,2, -999.00,9,    44.6,2, -999.00,5,     -999.0,9,     -999.0,1, -999.00,1, 20140423,     2229, -34.9999,-149.9998,    34.6509,2,     -999.0,1,     -999.0,1,     -999.0,9,     -999.0,1,     -999.0,1,     -999.0,1
320620140320,       P16S,      60,          1,         23,         23,2,20140423,       2034,   -35.0000,  -149.9998,     -999.0,   499.6,   7.6068,  34.4162,2,  34.4171,2,    243.4,2,   244.0,2,    5.28,2,   19.92,2,    0.01,2,    1.39,2,   3.146,2,   2.017,2,    1.34,2,  2136.4,6,  2281.4,2,   7.8035,2,       20,-999.000,9,-999.0000,9, -999.00,9,   7.6064,2,    1.10,2,    14.9,2, -999.00,9,    41.4,2, -999.00,5,      18.25,2,     -999.0,9, -999.00,1, 20140423,     2226, -34.9999,-149.9998,    34.5794,2,     -999.0,1,     -999.0,1,     -999.0,9,     -999.0,9,     -999.0,1,     -999.0,1
320620140320,       P16S,      60,          1,         22,         22,2,20140423,       2034,   -35.0000,  -149.9998,     -999.0,   600.1,   6.9800,  34.3702,2,  34.3682,2,    244.4,2,   245.5,2,    6.94,2,   21.96,2,    0.00,2,    1.51,2,-999.000,9,-999.000,9, -999.00,9,  2138.9,2,  2281.4,2,   7.7916,6,       20,-999.000,9,-999.0000,9, -999.00,9,   6.9760,2,    1.16,2,    20.1,2, -999.00,9,    41.6,2, -999.00,9,     -999.0,9,     -999.0,9, -999.00,1, 20140423,     2223, -34.9999,-149.9997,    34.5303,2,     -999.0,1,     -999.0,9,     -999.0,9,     -999.0,9,     -999.0,1,     -999.0,1
320620140320,       P16S,      60,          1,         21,         21,2,20140423,       2034,   -35.0000,  -149.9998,     -999.0,   699.8,   6.5030,  34.3356,2,  34.3362,2,    242.4,2,   242.6,2,    8.60,2,   23.48,2,    0.00,2,    1.60,2,   3.609,2,   1.779,2,    0.47,2,  2143.5,2,  2280.2,6,   7.7828,2,       20,-999.000,9,-999.0000,9, -999.00,9,   6.5015,2,    1.21,2,     7.6,2, -999.00,9,    39.3,2, -999.00,9,      17.74,2,     -999.0,1, -999.00,1, 20140423,     2220, -34.9999,-149.9998,    34.4981,2,     -999.0,1,     -999.0,1,     -999.0,9,     -999.0,9,     -999.0,1,     -999.0,1
320620140320,       P16S,      60,          1,         20,         20,2,20140423,       2034,   -35.0000,  -149.9998,     -999.0,   800.2,   6.0968,  34.3152,2,  34.3140,2,    237.2,2,   236.1,2,   11.15,2,   25.01,2,    0.00,2,    1.71,2,-999.000,9,-999.000,9, -999.00,9,  2149.1,2,  2281.6,2,    7.769,2,       20,-999.000,9,-999.0000,9, -999.00,9,   6.0950,2,    1.21,2,    -8.0,2, -999.00,9,    38.9,2, -999.00,9,     -999.0,9,     -999.0,9, -999.00,1, 20140423,     2217, -34.9999,-149.9998,    34.4758,2,     -999.0,1,     -999.0,9,     -999.0,9,     -999.0,1,     -999.0,1,     -999.0,1
320620140320,       P16S,      60,          1,         19,         19,2,20140423,       2034,   -35.0000,  -149.9998,     -999.0,   900.2,   5.5834,  34.3036,2,  34.3034,2,    227.4,2,   226.1,2,   15.45,2,   26.95,2,    0.00,2,    1.84,2,   1.834,2,   1.084,2,    0.31,2,    2160,2,  2283.8,2,-999.0000,5,       20,-999.000,9,-999.0000,9, -999.00,9,   5.5826,2,    1.19,2,   -28.4,2, -999.00,9,    37.4,2, -999.00,9,      19.19,2,     -999.0,9, -999.00,1, 20140423,     2214, -34.9999,-149.9998,    34.4652,2,     -999.0,1,     -999.0,1,     -999.0,9,     -999.0,9,     -999.0,1,     -999.0,1
320620140320,       P16S,      60,          1,         18,         18,2,20140423,       2034,   -35.0000,  -149.9998,     -999.0,   999.5,   4.9729,  34.3073,2,  34.3066,2,    216.1,2,   212.6,2,   23.07,2,   29.35,2,    0.00,2,    1.99,2,   1.366,2,   0.701,2,    0.19,2,  2175.6,2,    2290,2,   7.7157,2,       20,-999.000,9,-999.0000,9, -999.00,9,   4.9742,2,    1.15,2,   -47.2,2, -999.00,9,    38.1,2, -999.00,9,      20.37,2,     -999.0,1, -999.00,1, 20140423,     2212, -34.9999,-149.9997,    34.4684,2,     -999.0,1,     -999.0,9,     -999.0,9,     -999.0,1,     -999.0,1,     -999.0,1
320620140320,       P16S,      60,          1,         17,         17,2,20140423,       2034,   -35.0000,  -149.9998,     -999.0,  1098.7,   4.4831,  34.3222,2,  34.3227,2,    203.8,2,   201.7,2,   30.70,2,   31.04,2,    0.00,2,    2.11,2,-999.000,9,-999.000,9, -999.00,9,  2191.2,2,  2295.9,2,   7.6905,2,       20,-999.000,9,-999.0000,9, -999.00,9,   4.4850,2,    1.04,2,   -65.8,2, -999.00,9,    38.5,2, -999.00,9,     -999.0,9,     -999.0,9, -999.00,1, 20140423,     2209, -34.9999,-149.9998,    34.4845,2,     -999.0,1,     -999.0,1,     -999.0,9,     -999.0,9,     -999.0,1,     -999.0,1
320620140320,       P16S,      60,          1,         16,         16,2,20140423,       2034,   -35.0000,  -149.9998,     -999.0,  1198.6,   3.9537,  34.3510,2,  34.3509,2,    193.1,2,   193.1,2,   39.89,2,   32.53,2,    0.00,2,    2.24,2,   0.692,2,   0.351,2,    0.04,2,  2206.4,2,  2305.5,2,    7.669,2,       20,-999.000,9,-999.0000,9, -999.00,9,   3.9487,2,    0.90,2,  -103.3,2, -999.00,9,    39.2,2, -999.00,9,      22.83,2,     -999.0,9, -999.00,1, 20140423,     2206, -34.9999,-149.9998,    34.5129,2,     -999.0,1,     -999.0,9,     -999.0,9,     -999.0,1,     -999.0,1,     -999.0,1
320620140320,       P16S,      60,          1,         15,         15,2,20140423,       2034,   -35.0000,  -149.9998,     -999.0,  1399.6,   3.1757,  34.4346,2,  34.4369,2,    177.0,2,   177.8,2,   58.85,2,   34.21,2,    0.00,2,    2.39,2,   0.278,2,   0.151,2,    0.03,2,  2233.5,2,  2324.1,2,   7.6403,2,       20,-999.000,9,-999.0000,9, -999.00,9,   3.1742,2,    0.74,2,  -128.7,2, -999.00,9,    38.3,2, -999.00,9,      24.99,2,     -999.0,1, -999.00,1, 20140423,     2201, -35.0000,-149.9998,    34.5993,2,     -999.0,1,     -999.0,1,     -999.0,9,     -999.0,9,     -999.0,1,     -999.0,1
320620140320,       P16S,      60,          1,         14,         14,2,20140423,       2034,   -35.0000,  -149.9998,     -999.0,  1599.4,   2.7467,  34.5353,2,  34.5368,2,    165.6,2,   164.6,2,   78.70,2,   34.76,2,    0.00,2,    2.40,2,-999.000,9,-999.000,9, -999.00,9,  2257.8,2,  2347.8,2,   7.6317,2,       20,-999.000,9,-999.0000,9, -999.00,9,   2.7461,2,    0.57,2,  -165.7,2, -999.00,9,    35.8,2, -999.00,9,     -999.0,9,     -999.0,9, -999.00,1, 20140423,     2156, -35.0000,-149.9998,    34.6997,2,     -999.0,1,     -999.0,9,     -999.0,9,     -999.0,9,     -999.0,1,     -999.0,1
320620140320,       P16S,      60,          1,         13,         13,2,20140423,       2034,   -35.0000,  -149.9998,     -999.0,  1799.7,   2.5141,  34.5951,2,  34.5956,2,    156.2,2,   156.6,2,   95.70,2,   35.22,2,    0.00,2,    2.43,2,   0.013,2,   0.001,2,    0.02,2,  2278.8,2,  2367.8,2,   7.6323,2,       20,-999.000,9,-999.0000,9, -999.00,9,   2.5138,2,    0.46,2,  -182.4,2, -999.00,9,    36.6,2, -999.00,9,      24.54,2,     -999.0,9, -999.00,1, 20140423,     2151, -35.0000,-149.9998,    34.7587,2,     -999.0,1,     -999.0,1,     -999.0,9,     -999.0,1,     -999.0,1,     -999.0,1
320620140320,       P16S,      60,          1,         12,         12,2,20140423,       2034,   -35.0000,  -149.9998,     -999.0,  1998.9,   2.3218,  34.6223,2,  34.6219,2,    152.7,2,   152.3,2,  106.65,2,   35.43,2,    0.00,2,    2.47,2,-999.000,9,-999.000,9, -999.00,9,  2290.9,2,  2380.7,2,   7.6327,2,       20,-999.000,9,-999.0000,9, -999.00,9,   2.3217,2,    0.38,2,  -202.5,2, -999.00,9,      36,2, -999.00,9,     -999.0,9,     -999.0,1, -999.00,1, 20140423,     2147, -35.0000,-149.9998,    34.7851,2,     -999.0,1,     -999.0,1,     -999.0,9,     -999.0,9,     -999.0,1,     -999.0,1
320620140320,       P16S,      60,          1,         11,         11,2,20140423,       2034,   -35.0000,  -149.9998,     -999.0,  2248.1,   2.1272,  34.6413,2,  34.6417,2,    152.1,2,   151.3,2,  114.66,2,   35.66,2,    0.00,2,    2.48,2,   0.003,2,   0.001,2,    0.04,2,  2298.9,2,  2389.9,2,   7.6327,2,       20,-999.000,9,-999.0000,9, -999.00,9,   2.1282,2,    0.35,2,  -212.9,2, -999.00,9,    37.3,2, -999.00,9,      24.57,2,     -999.0,1, -999.00,1, 20140423,     2141, -35.0000,-149.9998,    34.8051,2,     -999.0,1,     -999.0,9,     -999.0,9,     -999.0,9,     -999.0,1,     -999.0,1
320620140320,       P16S,      60,          1,         10,         10,2,20140423,       2034,   -35.0000,  -149.9998,     -999.0,  2500.3,   1.9835,  34.6531,2,  34.6533,2,    151.1,2,   151.0,2,  121.31,2,   35.80,2,    0.00,2,    2.50,2,-999.000,9,-999.000,9, -999.00,9,  2304.9,2,  2401.4,3,   7.6336,2,       20,-999.000,9,-999.0000,9, -999.00,9,   1.9832,2,    0.27,2,  -218.8,2, -999.00,9,    34.9,2, -999.00,9,     -999.0,9,     -999.0,1, -999.00,9, 20140423,     2136, -35.0000,-149.9998,    34.8167,2,     -999.0,9,     -999.0,9,     -999.0,9,     -999.0,1,     -999.0,9,     -999.0,9
320620140320,       P16S,      60,          1,          9,         09,2,20140423,       2034,   -35.0000,  -149.9998,     -999.0,  2749.8,   1.8650,  34.6631,2,  34.6633,2,    152.0,2,   151.2,2,  126.29,2,   35.87,2,    0.00,2,    2.50,2,   0.003,2,   0.000,2,    0.00,2,    2309,6,  2401.3,2,   7.6347,2,       20,-999.000,9,-999.0000,9, -999.00,9,   1.8657,2,    0.24,2,  -221.5,2, -999.00,9,    35.6,2, -999.00,9,      24.15,2,     -999.0,9, -999.00,9, 20140423,     2130, -35.0000,-149.9998,    34.8268,2,     -999.0,9,     -999.0,9,     -999.0,9,     -999.0,9,     -999.0,9,     -999.0,9
320620140320,       P16S,      60,          1,          8,         08,2,20140423,       2034,   -35.0000,  -149.9998,     -999.0,  3000.6,   1.7779,  34.6711,2,  34.6714,2,    154.2,2,   154.7,2,  128.05,2,   35.71,2,    0.00,2,    2.48,2,-999.000,9,-999.000,9, -999.00,9,  2308.9,2,  2402.1,2,   7.6386,6,       20,-999.000,9,-999.0000,9, -999.00,9,   1.7785,2,    0.22,2,  -217.6,2, -999.00,9,    36.9,2, -999.00,9,     -999.0,9,     -999.0,1, -999.00,9, 20140423,     2125, -35.0000,-149.9998,    34.8349,2,     -999.0,9,     -999.0,1,     -999.0,9,     -999.0,9,     -999.0,9,     -999.0,9
320620140320,       P16S,      60,          1,          7,         07,2,20140423,       2034,   -35.0000,  -149.9998,     -999.0,  3299.3,   1.6710,  34.6834,2,  34.6842,2,    161.7,2,   163.2,2,  126.19,2,   34.94,2,    0.00,2,    2.43,2,   0.003,2,   0.001,2,    0.02,2,  2301.1,2,  2396.2,6,   7.6467,2,       20,-999.000,9,-999.0000,9, -999.00,9,   1.6707,2,    0.26,2,  -205.1,2, -999.00,9,    35.4,2, -999.00,9,      22.52,2,     -999.0,9, -999.00,9, 20140423,     2119, -35.0000,-149.9998,    34.8477,2,     -999.0,9,     -999.0,9,     -999.0,9,     -999.0,1,     -999.0,9,     -999.0,9
320620140320,       P16S,      60,          1,          6,         06,2,20140423,       2034,   -35.0000,  -149.9998,     -999.0,  3648.6,   1.5588,  34.6979,2,  34.6979,2,    176.1,2,   176.8,2,  120.52,2,   33.86,2,    0.00,2,    2.34,2,-999.000,9,-999.000,9, -999.00,9,  2285.1,2,  2385.1,2,   7.6581,2,       20,-999.000,9,-999.0000,9, -999.00,9,   1.5587,2,    0.37,2,  -191.6,2, -999.00,9,    38.8,2, -999.00,9,     -999.0,9,     -999.0,1, -999.00,9, 20140423,     2111, -34.9999,-149.9998,    34.8615,2,     -999.0,9,     -999.0,9,     -999.0,9,     -999.0,9,     -999.0,9,     -999.0,9