BOTTLE,20230715CCHSIOCBG
EXPOCODE,SECT_ID,STNNBR,CASTNO,SAMPNO,BTLNBR,BTLNBR_FLAG_W,DATE,TIME,LATITUDE,LONGITUDE,DEPTH,CTDPRS,CTDTMP,CTDSAL,CTDSAL_FLAG_W,SALNTY,SALNTY_FLAG_W,CTDOXY,CTDOXY_FLAG_W,OXYGEN,OXYGEN_FLAG_W,SILCAT,SILCAT_FLAG_W,NITRAT,NITRAT_FLAG_W,NITRIT,NITRIT_FLAG_W,PHSPHT,PHSPHT_FLAG_W,CFC-11,CFC-11_FLAG_W,CFC-12,CFC-12_FLAG_W,SF6,SF6_FLAG_W,TCARBN,TCARBN_FLAG_W,ALKALI,ALKALI_FLAG_W,PH_TOT,PH_TOT_FLAG_W,PH_TMP,TRITUM,TRITUM_FLAG_W,HELIUM,HELIUM_FLAG_W,DELHE3,DELHE3_FLAG_W,REFTMP,REFTMP_FLAG_W,DELC13,DELC13_FLAG_W,DELC14,DELC14_FLAG_W,DELO18,DELO18_FLAG_W,DOC,DOC_FLAG_W,TDN,TDN_FLAG_W,N2O,N2O_FLAG_W,CALCIUM,CALCIUM_FLAG_W,D15N_NO3,D15N_NO3_FLAG_W,BTL_DATE,BTL_TIME,BTL_LAT,BTL_LON,SALTREF,SALTREF_FLAG_W,D18O_NO3,D18O_NO3_FLAG_W,DSI30,DSI30_FLAG_W,CDOM_NASA,CDOM_NASA_FLAG_W,CDOM_UCSB,CDOM_UCSB_FLAG_W,D15N_NO2+NO3,D15N_NO2+NO3_FLAG_W,D18O_NO2+NO3,D18O_NO2+NO3_FLAG_W
,,,,,,,,,,,METERS,DBAR,ITS-90,PSS-78,,PSS-78,,UMOL/KG,,UMOL/KG,,UMOL/KG,,UMOL/KG,,UMOL/KG,,UMOL/KG,,PMOL/KG,,PMOL/KG,,FMOL/KG,,UMOL/KG,,UMOL/KG,,,,DEG C,TU,,NMOL/KG,,PERCNT,,DEG C,,/MILLE,,/MILLE,,/MILLE,,UMOL/KG,,UMOL/KG,,NMOL/KG,,MMOL/KG,,/MILLE,,,,,,G/KG,,/MILLE,,/MILLE,,,,,,/MILLE,,/MILLE,
320620140320,       P16S,      81,          1,         36,         36,2,20140501,       0804,   -21.0001,  -149.9999,       4286,     5.3,  26.6162,  35.6885,2,  35.6881,2,    200.7,2,   201.7,2,    0.78,2,    0.02,2,    0.00,2,    0.12,2,   1.601,2,   0.989,2,    1.25,2,  2001.9,6,  2349.8,2,   8.1889,2,       20,-999.000,9,-999.0000,9, -999.00,9,  26.6148,2, -999.00,9,  -999.0,9, -999.00,9,  -999.0,9, -999.00,9,       6.01,2,     -999.0,9, -999.00,9, 20140501,      959, -21.0001,-150.0000,    35.8564,2,     -999.0,9,     -999.0,9,     -999.0,9,     -999.0,9,     -999.0,9,     -999.0,9
320620140320,       P16S,      81,          1,         35,         35,2,20140501,       0804,   -21.0001,  -149.9999,       4286,    25.2,  26.6178,  35.6894,2,  35.6891,2,    201.5,2,   201.5,2,    0.68,2,    0.01,2,    0.00,2,    0.11,2,   1.579,2,   0.955,2,    1.25,2,  2001.8,2,  2349.5,2,   8.1896,2,       20,-999.000,9,-999.0000,9, -999.00,9,  26.6191,2, -999.00,9,  -999.0,9, -999.00,9,  -999.0,9, -999.00,9,       6.37,2,     -999.0,9, -999.00,9, 20140501,      957, -21.0001,-150.0000,    35.8574,2,     -999.0,9,     -999.0,9,     -999.0,9,     -999.0,9,     -999.0,9,     -999.0,9
320620140320,       P16S,      81,          1,         34,         34,2,20140501,       0804,   -21.0001,  -149.9999,       4286,    49.3,  26.6075,  35.6910,2,  35.6923,2,    201.3,2,   201.7,2,    0.78,2,    0.00,2,    0.00,2,    0.15,2,   1.580,2,   0.991,2,    1.18,2,  2002.5,2,  2350.2,2,   8.1887,2,       20,-999.000,9,-999.0000,9, -999.00,9,  26.6091,2, -999.00,9,  -999.0,9, -999.00,9,  -999.0,9, -999.00,9,       5.96,2,     -999.0,9, -999.00,9, 20140501,      955, -21.0001,-150.0000,    35.8606,2,     -999.0,9,     -999.0,9,     -999.0,9,     -999.0,9,     -999.0,9,     -999.0,9
320620140320,       P16S,      81,          1,         33,         33,2,20140501,       0804,   -21.0001,  -149.9999,       4286,    74.5,  25.3379,  35.9911,2,  35.9866,2,    212.9,2,   212.4,2,    0.68,2,    0.00,2,    0.00,2,    0.12,2,   1.697,2,   1.072,2,    1.29,2,  2027.5,2,    2367,2,    8.168,2,       20,-999.000,9,-999.0000,9, -999.00,9,  25.3033,3, -999.00,9,  -999.0,9, -999.00,9,  -999.0,9, -999.00,9,       7.05,2,     -999.0,9, -999.00,9, 20140501,      954, -21.0001,-150.0000,    36.1563,2,     -999.0,9,     -999.0,9,     -999.0,9,     -999.0,9,     -999.0,9,     -999.0,9
320620140320,       P16S,      81,          1,         32,         32,2,20140501,       0804,   -21.0001,  -149.9999,       4286,    97.8,  24.0240,  35.9810,2,  35.9763,2,    209.0,2,   209.3,2,    0.59,2,    0.00,2,    0.00,2,    0.12,2,   1.866,2,   1.122,2,    1.34,2,  2039.3,2,  2365.5,2,   8.1508,2,       20,-999.000,9,-999.0000,9, -999.00,9,  24.0265,2, -999.00,9,  -999.0,9, -999.00,9,  -999.0,9, -999.00,9,       6.71,2,     -999.0,9, -999.00,9, 20140501,      952, -21.0001,-150.0000,    36.1460,2,     -999.0,9,     -999.0,9,     -999.0,9,     -999.0,9,     -999.0,9,     -999.0,9
320620140320,       P16S,      81,          1,         31,         31,2,20140501,       0804,   -21.0001,  -149.9999,       4286,   122.8,  23.3197,  35.9437,2,  35.9437,2,    205.0,2,   205.4,2,    0.68,2,    0.00,2,    0.00,2,    0.11,2,   1.857,2,   1.143,2,    1.38,2,  -999.0,9,  -999.0,9,-999.0000,9,  -999.00,-999.000,9,-999.0000,9, -999.00,9,  23.3422,2, -999.00,9,  -999.0,9, -999.00,9,  -999.0,9, -999.00,9,       7.30,2,     -999.0,9, -999.00,9, 20140501,      951, -21.0001,-150.0001,    36.1132,2,     -999.0,9,     -999.0,9,     -999.0,9,     -999.0,9,     -999.0,9,     -999.0,9
320620140320,       P16S,      81,          1,         30,         30,2,20140501,       0804,   -21.0001,  -149.9999,       4286,   149.2,  22.4387,  35.8504,2,  35.8503,2,    201.9,2,   202.9,2,    0.59,2,    0.06,2,    0.05,2,    0.15,2,   1.812,2,   1.162,2,    1.34,2,  2049.2,2,  2355.3,2,   8.1184,2,       20,-999.000,9,-999.0000,9, -999.00,9,  22.4401,2, -999.00,9,  -999.0,9, -999.00,9,  -999.0,9, -999.00,9,       7.32,2,     -999.0,9, -999.00,9, 20140501,      949, -21.0002,-150.0001,    36.0193,2,     -999.0,9,     -999.0,9,     -999.0,9,     -999.0,9,     -999.0,9,     -999.0,9
320620140320,       P16S,      81,          1,         29,         29,2,20140501,       0804,   -21.0001,  -149.9999,       4286,   200.6,  20.7293,  35.7336,2,  35.7333,2,    190.5,2,   190.9,2,    0.68,2,    1.72,2,    0.03,2,    0.24,2,   2.159,2,   1.297,2,    1.24,2,  2067.8,2,  2345.5,2,   8.0697,2,       20,-999.000,9,-999.0000,9, -999.00,9,  20.7289,2, -999.00,9,  -999.0,9, -999.00,9,  -999.0,9, -999.00,9,       8.52,2,     -999.0,9, -999.00,9, 20140501,      947, -21.0002,-150.0001,    35.9018,2,     -999.0,9,     -999.0,9,     -999.0,9,     -999.0,9,     -999.0,9,     -999.0,9
320620140320,       P16S,      81,          1,         28,         28,2,20140501,       0804,   -21.0001,  -149.9999,       4286,   251.0,  19.1924,  35.5860,2,  35.5760,2,    184.0,2,   184.5,2,    0.98,2,    3.67,2,    0.01,2,    0.37,2,   2.153,2,   1.311,2,    1.28,2,  2086.2,2,  2337.1,2,   8.0232,2,       20,-999.000,9,-999.0000,9, -999.00,9,  19.1777,2, -999.00,9,  -999.0,9, -999.00,9,  -999.0,9, -999.00,9,       8.85,2,     -999.0,9, -999.00,9, 20140501,      945, -21.0002,-150.0001,    35.7438,2,     -999.0,9,     -999.0,9,     -999.0,9,     -999.0,9,     -999.0,9,     -999.0,9
320620140320,       P16S,      81,          1,         27,         27,2,20140501,       0804,   -21.0001,  -149.9999,       4286,   299.3,  16.9708,  35.2960,2,  35.2893,2,    183.7,2,   184.3,2,    1.56,2,    5.90,2,    0.00,2,    0.44,2,   2.504,2,   1.408,2,    1.34,2,  2095.7,2,  2319.3,2,    7.976,2,       20,-999.000,9,-999.0000,9, -999.00,9,  16.9691,2, -999.00,9,  -999.0,9, -999.00,9,  -999.0,9, -999.00,9,      12.22,2,     -999.0,9, -999.00,9, 20140501,      943, -21.0001,-150.0001,    35.4557,2,     -999.0,9,     -999.0,9,     -999.0,9,     -999.0,9,     -999.0,9,     -999.0,9
320620140320,       P16S,      81,          1,         26,         26,2,20140501,       0804,   -21.0001,  -149.9999,       4286,   350.9,  14.1325,  34.9486,2,  34.9345,2,    180.0,2,   176.6,2,    3.62,2,   10.96,2,    0.00,2,    0.89,2,   2.532,2,   1.455,2,    1.08,2,    2119,2,  2301.3,2,   7.8931,2,       20,-999.000,9,-999.0000,9, -999.00,9,  14.1097,3, -999.00,9,  -999.0,9, -999.00,9,  -999.0,9, -999.00,9,      16.81,2,     -999.0,9, -999.00,9, 20140501,      941, -21.0001,-150.0001,    35.0992,2,     -999.0,9,     -999.0,9,     -999.0,9,     -999.0,9,     -999.0,9,     -999.0,9
320620140320,       P16S,      81,          1,         25,         25,2,20140501,       0804,   -21.0001,  -149.9999,       4286,   399.6,  12.3199,  34.7562,2,  34.7502,2,    173.5,2,   172.0,2,    5.47,2,   14.75,2,    0.00,2,    1.14,2,   2.704,2,   1.372,2,    1.17,2,  2133.5,2,  2292.7,2,   7.8366,6,       20,-999.000,9,-999.0000,9, -999.00,9,  12.3289,2, -999.00,9,  -999.0,9, -999.00,9,  -999.0,9, -999.00,9,      20.62,2,     -999.0,9, -999.00,9, 20140501,      939, -21.0001,-150.0001,    34.9141,2,     -999.0,9,     -999.0,9,     -999.0,9,     -999.0,9,     -999.0,9,     -999.0,9
320620140320,       P16S,      81,          1,         24,         24,2,20140501,       0804,   -21.0001,  -149.9999,       4286,   448.5,  10.2146,  34.5993,2,  34.5846,2,    190.5,2,   196.0,2,    5.47,2,   17.33,2,    0.00,2,    1.27,2,-999.000,9,-999.000,9, -999.00,9,  2135.2,2,  2285.2,2,   7.8177,2,       20,-999.000,9,-999.0000,9, -999.00,9,  10.2643,3, -999.00,9,  -999.0,9, -999.00,9,  -999.0,9, -999.00,9,     -999.0,9,     -999.0,9, -999.00,9, 20140501,      937, -21.0002,-150.0001,    34.7476,2,     -999.0,9,     -999.0,9,     -999.0,9,     -999.0,9,     -999.0,9,     -999.0,9
320620140320,       P16S,      81,          1,         23,         23,2,20140501,       0804,   -21.0001,  -149.9999,       4286,   500.2,   8.2767,  34.4351,2,  34.4330,2,    200.6,2,   202.8,2,    7.62,2,   21.44,2,    0.00,2,    1.53,2,   2.912,2,   1.371,2,    0.81,2,  2149.9,2,  2280.2,2,   7.7712,2,       20,-999.000,9,-999.0000,9, -999.00,9,   8.2653,2, -999.00,9,  -999.0,9, -999.00,9,  -999.0,9, -999.00,9,      23.61,2,     -999.0,9, -999.00,9, 20140501,      934, -21.0002,-150.0001,    34.5953,2,     -999.0,9,     -999.0,9,     -999.0,9,     -999.0,9,     -999.0,9,     -999.0,9
320620140320,       P16S,      81,          1,         22,         22,2,20140501,       0804,   -21.0001,  -149.9999,       4286,   599.1,   6.5798,  34.3397,2,  34.3405,2,    218.2,2,   218.8,2,   10.26,2,   24.63,2,    0.00,2,    1.73,2,   2.730,2,   1.266,2,    0.45,2,  2154.9,2,    2279,2,   7.7537,2,       20,-999.000,9,-999.0000,9, -999.00,9,   6.5852,2, -999.00,9,  -999.0,9, -999.00,9,  -999.0,9, -999.00,9,      21.12,2,     -999.0,9, -999.00,9, 20140501,      932, -21.0001,-150.0001,    34.5025,2,     -999.0,9,     -999.0,9,     -999.0,9,     -999.0,9,     -999.0,9,     -999.0,9
320620140320,       P16S,      81,          1,         21,         21,2,20140501,       0804,   -21.0001,  -149.9999,       4286,   700.2,   5.7700,  34.3237,2,  34.3237,2,    209.2,2,   206.3,2,   17.20,2,   27.82,2,    0.00,2,    1.95,2,   1.428,2,   0.708,2,    0.10,2,  2171.4,2,  2284.4,2,   7.7214,2,       20,-999.000,9,-999.0000,9, -999.00,9,   5.7620,2, -999.00,9,  -999.0,9, -999.00,9,  -999.0,9, -999.00,9,      22.03,2,     -999.0,9, -999.00,9, 20140501,      929, -21.0002,-150.0000,    34.4855,2,     -999.0,9,     -999.0,9,     -999.0,9,     -999.0,9,     -999.0,9,     -999.0,9
320620140320,       P16S,      81,          1,         20,         20,2,20140501,       0804,   -21.0001,  -149.9999,       4286,   798.4,   5.2352,  34.3345,2,  34.3341,2,    193.3,2,   192.5,2,   24.73,2,   29.92,2,    0.00,2,    2.10,2,   0.881,2,   0.490,2,    0.07,2,  2188.6,2,    2291,2,   7.6945,2,       20,-999.000,9,-999.0000,9, -999.00,9,   5.2331,2, -999.00,9,  -999.0,9, -999.00,9,  -999.0,9, -999.00,9,      24.90,2,     -999.0,9, -999.00,9, 20140501,      926, -21.0001,-150.0000,    34.4960,2,     -999.0,9,     -999.0,9,     -999.0,9,     -999.0,9,     -999.0,9,     -999.0,9
320620140320,       P16S,      81,          1,         19,         19,2,20140501,       0804,   -21.0001,  -149.9999,       4286,   899.6,   4.6624,  34.3821,2,  34.3798,2,    172.9,2,   171.1,2,   38.81,2,   32.62,2,    0.00,2,    2.31,2,   0.295,2,   0.188,2,   -0.01,2,  2213.5,2,    2305,6,   7.6564,2,       20,-999.000,9,-999.0000,9, -999.00,9,   4.6680,2, -999.00,9,  -999.0,9, -999.00,9,  -999.0,9, -999.00,9,      24.85,2,     -999.0,9, -999.00,9, 20140501,      923, -21.0002,-150.0001,    34.5419,2,     -999.0,9,     -999.0,9,     -999.0,9,     -999.0,9,     -999.0,9,     -999.0,9
320620140320,       P16S,      81,          1,         18,         18,2,20140501,       0804,   -21.0001,  -149.9999,       4286,  1000.6,   4.2694,  34.4469,2,  34.4473,2,    152.2,2,   152.2,2,   55.32,2,   34.28,2,    0.00,2,    2.45,2,   0.103,2,   0.040,2,    0.04,3,  2239.2,6,  2322.7,2,   7.6312,2,       20,-999.000,9,-999.0000,9, -999.00,9,   4.2674,2, -999.00,9,  -999.0,9, -999.00,9,  -999.0,9, -999.00,9,      26.08,2,     -999.0,9, -999.00,9, 20140501,      920, -21.0002,-150.0001,    34.6097,2,     -999.0,9,     -999.0,9,     -999.0,9,     -999.0,9,     -999.0,9,     -999.0,9
320620140320,       P16S,      81,          1,         17,         17,2,20140501,       0804,   -21.0001,  -149.9999,       4286,  1099.7,   3.7428,  34.4714,2,  34.4718,2,    153.4,2,   153.2,2,   65.10,2,   34.70,2,    0.00,2,    2.47,2,   0.043,2,   0.016,2,   -0.01,2,  2249.5,2,  2333.5,2,   7.6293,2,       20,-999.000,9,-999.0000,9, -999.00,9,   3.7410,2, -999.00,9,  -999.0,9, -999.00,9,  -999.0,9, -999.00,9,      25.30,2,     -999.0,9, -999.00,9, 20140501,      917, -21.0001,-150.0001,    34.6344,2,     -999.0,9,     -999.0,9,     -999.0,9,     -999.0,9,     -999.0,9,     -999.0,9
320620140320,       P16S,      81,          1,         16,         16,2,20140501,       0804,   -21.0001,  -149.9999,       4286,  1198.6,   3.4104,  34.4983,2,  34.4968,2,    153.1,2,   153.1,2,   73.01,2,   34.94,2,    0.00,2,    2.49,2,   0.024,2,   0.008,2,    0.00,2,  2258.3,2,  2341.3,2,   7.6287,2,       20,-999.000,9,-999.0000,9, -999.00,9,   3.4110,2, -999.00,9,  -999.0,9, -999.00,9,  -999.0,9, -999.00,9,      25.13,2,     -999.0,9, -999.00,9, 20140501,      914, -21.0001,-150.0000,    34.6594,2,     -999.0,9,     -999.0,9,     -999.0,9,     -999.0,9,     -999.0,9,     -999.0,9
320620140320,       P16S,      81,          1,         15,         15,2,20140501,       0804,   -21.0001,  -149.9999,       4286,  1298.7,   3.0594,  34.5322,2,  34.5309,2,    152.3,2,   151.9,2,   83.08,2,   35.16,2,    0.00,2,    2.51,2,   0.009,2,   0.001,2,    0.02,2,  2268.8,2,  2352.2,2,   7.6291,2,       20,-999.000,9,-999.0000,9, -999.00,9,   3.0609,2, -999.00,9,  -999.0,9, -999.00,9,  -999.0,9, -999.00,9,      25.27,2,     -999.0,9, -999.00,9, 20140501,      911, -21.0001,-150.0000,    34.6938,2,     -999.0,9,     -999.0,9,     -999.0,9,     -999.0,9,     -999.0,9,     -999.0,9
320620140320,       P16S,      81,          1,         14,         14,2,20140501,       0804,   -21.0001,  -149.9999,       4286,  1400.2,   2.8317,  34.5564,2,  34.5565,2,    151.3,2,   151.2,2,   90.70,2,   35.22,2,    0.00,2,    2.53,2,   0.004,2,   0.000,2,    0.01,2,    2276,2,    2361,2,   7.6305,2,       20,-999.000,9,-999.0000,9, -999.00,9,   2.8322,2, -999.00,9,  -999.0,9, -999.00,9,  -999.0,9, -999.00,9,      24.57,2,     -999.0,9, -999.00,9, 20140501,      908, -21.0001,-150.0000,    34.7194,2,     -999.0,9,     -999.0,9,     -999.0,9,     -999.0,9,     -999.0,9,     -999.0,9
320620140320,       P16S,      81,          1,         13,         13,2,20140501,       0804,   -21.0001,  -149.9999,       4286,  1500.6,   2.7033,  34.5712,2,  34.5708,2,    150.3,2,   150.5,2,   95.00,2,   35.33,2,    0.00,2,    2.53,2,   0.000,2,   0.000,2,   -0.01,2,  2281.9,2,  2366.4,2,   7.6309,2,       20,-999.000,9,-999.0000,9, -999.00,9,   2.7034,2, -999.00,9,  -999.0,9, -999.00,9,  -999.0,9, -999.00,9,      24.64,2,     -999.0,9, -999.00,9, 20140501,      906, -21.0001,-150.0000,    34.7338,2,     -999.0,9,     -999.0,9,     -999.0,9,     -999.0,9,     -999.0,9,     -999.0,9
320620140320,       P16S,      81,          1,         12,         12,2,20140501,       0804,   -21.0001,  -149.9999,       4286,  1600.0,   2.5343,  34.5888,2,  34.5887,2,    149.9,2,   150.4,2,  100.86,2,   35.34,2,    0.00,2,    2.51,2,   0.001,2,  -0.001,2,    0.01,2,  2288.7,2,  2372.7,2,   7.6324,2,       20,-999.000,9,-999.0000,9, -999.00,9,   2.5348,2, -999.00,9,  -999.0,9, -999.00,9,  -999.0,9, -999.00,9,      23.89,2,     -999.0,9, -999.00,9, 20140501,      903, -21.0002,-150.0000,    34.7518,2,     -999.0,9,     -999.0,9,     -999.0,9,     -999.0,9,     -999.0,9,     -999.0,9
320620140320,       P16S,      81,          1,         11,         11,2,20140501,       0804,   -21.0001,  -149.9999,       4286,  1797.8,   2.2906,  34.6175,2,  34.6170,2,    148.0,2,   147.8,2,  110.83,2,   35.61,2,    0.00,2,    2.55,2,   0.001,2,   0.000,2,   -0.00,2,  2299.1,2,  2383.4,2,   7.6311,2,       20,-999.000,9,-999.0000,9, -999.00,9,   2.2905,2, -999.00,9,  -999.0,9, -999.00,9,  -999.0,9, -999.00,9,      23.53,2,     -999.0,9, -999.00,9, 20140501,      858, -21.0001,-150.0000,    34.7802,2,     -999.0,9,     -999.0,9,     -999.0,9,     -999.0,9,     -999.0,9,     -999.0,9
320620140320,       P16S,      81,          1,         10,         10,2,20140501,       0804,   -21.0001,  -149.9999,       4286,  1999.8,   2.1611,  34.6314,2,  34.6311,2,    147.9,2,   148.0,2,  115.81,2,   35.64,2,    0.00,2,    2.54,2,-999.000,9,-999.000,9, -999.00,9,  2303.2,2,  2389.7,2,   7.6321,2,       20,-999.000,9,-999.0000,9, -999.00,9,   2.1611,2, -999.00,9,  -999.0,9, -999.00,9,  -999.0,9, -999.00,9,     -999.0,9,     -999.0,9, -999.00,9, 20140501,      854, -21.0001,-150.0000,    34.7944,2,     -999.0,9,     -999.0,9,     -999.0,9,     -999.0,9,     -999.0,9,     -999.0,9
320620140320,       P16S,      81,          1,          9,         09,2,20140501,       0804,   -21.0001,  -149.9999,       4286,  2249.1,   1.9950,  34.6472,2,  34.6470,2,    148.8,2,   148.5,2,  121.67,2,   35.66,2,    0.00,2,    2.53,2,  -0.001,2,   0.000,2,   -0.00,2,  2308.2,6,  2394.6,2,   7.6348,2,       20,-999.000,9,-999.0000,9, -999.00,9,   1.9976,2, -999.00,9,  -999.0,9, -999.00,9,  -999.0,9, -999.00,9,      23.56,2,     -999.0,9, -999.00,9, 20140501,      849, -21.0002,-150.0001,    34.8104,2,     -999.0,9,     -999.0,9,     -999.0,9,     -999.0,9,     -999.0,9,     -999.0,9
320620140320,       P16S,      81,          1,          8,         08,2,20140501,       0804,   -21.0001,  -149.9999,       4286,  2499.8,   1.8754,  34.6573,2,  34.6570,2,    151.2,2,   151.3,2,  124.51,2,   35.50,2,    0.00,2,    2.52,2,-999.000,9,-999.000,9, -999.00,9,  2309.7,2,  2397.9,2,   7.6371,2,       20,-999.000,9,-999.0000,9, -999.00,9,   1.8753,2, -999.00,9,  -999.0,9, -999.00,9,  -999.0,9, -999.00,9,     -999.0,9,     -999.0,9, -999.00,9, 20140501,      843, -21.0002,-150.0000,    34.8205,2,     -999.0,9,     -999.0,9,     -999.0,9,     -999.0,9,     -999.0,9,     -999.0,9
320620140320,       P16S,      81,          1,          7,         07,2,20140501,       0804,   -21.0001,  -149.9999,       4286,  2749.1,   1.7664,  34.6662,2,  34.6665,2,    155.4,2,   155.3,2,  126.27,2,   35.27,2,    0.00,2,    2.53,2,  -0.001,2,  -0.001,2,   -0.01,2,  2308.3,2,  2398.5,2,   7.6431,2,       20,-999.000,9,-999.0000,9, -999.00,9,   1.7660,2, -999.00,9,  -999.0,9, -999.00,9,  -999.0,9, -999.00,9,      22.99,2,     -999.0,9, -999.00,9, 20140501,      838, -21.0002,-150.0000,    34.8299,2,     -999.0,9,     -999.0,9,     -999.0,9,     -999.0,9,     -999.0,9,     -999.0,9
320620140320,       P16S,      81,          1,          6,         06,2,20140501,       0804,   -21.0001,  -149.9999,       4286,  2999.7,   1.6598,  34.6748,2,  34.6743,2,    161.1,2,   161.1,2,  126.66,2,   34.87,2,    0.00,2,    2.44,2,-999.000,9,-999.000,9, -999.00,9,    2305,2,    2396,2,   7.6491,2,       20,-999.000,9,-999.0000,9, -999.00,9,   1.6603,2, -999.00,9,  -999.0,9, -999.00,9,  -999.0,9, -999.00,9,     -999.0,9,     -999.0,9, -999.00,9, 20140501,      833, -21.0002,-150.0000,    34.8378,2,     -999.0,9,     -999.0,9,     -999.0,9,     -999.0,9,     -999.0,9,     -999.0,9