BOTTLE,20230715CCHSIOCBG
EXPOCODE,SECT_ID,STNNBR,CASTNO,SAMPNO,BTLNBR,BTLNBR_FLAG_W,DATE,TIME,LATITUDE,LONGITUDE,DEPTH,CTDPRS,CTDTMP,CTDSAL,CTDSAL_FLAG_W,SALNTY,SALNTY_FLAG_W,CTDOXY,CTDOXY_FLAG_W,OXYGEN,OXYGEN_FLAG_W,SILCAT,SILCAT_FLAG_W,NITRAT,NITRAT_FLAG_W,NITRIT,NITRIT_FLAG_W,PHSPHT,PHSPHT_FLAG_W,CFC-11,CFC-11_FLAG_W,CFC-12,CFC-12_FLAG_W,SF6,SF6_FLAG_W,TCARBN,TCARBN_FLAG_W,ALKALI,ALKALI_FLAG_W,PH_TOT,PH_TOT_FLAG_W,PH_TMP,TRITUM,TRITUM_FLAG_W,HELIUM,HELIUM_FLAG_W,DELHE3,DELHE3_FLAG_W,REFTMP,REFTMP_FLAG_W,DELC13,DELC13_FLAG_W,DELC14,DELC14_FLAG_W,DELO18,DELO18_FLAG_W,DOC,DOC_FLAG_W,TDN,TDN_FLAG_W,N2O,N2O_FLAG_W,CALCIUM,CALCIUM_FLAG_W,D15N_NO3,D15N_NO3_FLAG_W,BTL_DATE,BTL_TIME,BTL_LAT,BTL_LON,SALTREF,SALTREF_FLAG_W,D18O_NO3,D18O_NO3_FLAG_W,DSI30,DSI30_FLAG_W,CDOM_NASA,CDOM_NASA_FLAG_W,CDOM_UCSB,CDOM_UCSB_FLAG_W,D15N_NO2+NO3,D15N_NO2+NO3_FLAG_W,D18O_NO2+NO3,D18O_NO2+NO3_FLAG_W
,,,,,,,,,,,METERS,DBAR,ITS-90,PSS-78,,PSS-78,,UMOL/KG,,UMOL/KG,,UMOL/KG,,UMOL/KG,,UMOL/KG,,UMOL/KG,,PMOL/KG,,PMOL/KG,,FMOL/KG,,UMOL/KG,,UMOL/KG,,,,DEG C,TU,,NMOL/KG,,PERCNT,,DEG C,,/MILLE,,/MILLE,,/MILLE,,UMOL/KG,,UMOL/KG,,NMOL/KG,,MMOL/KG,,/MILLE,,,,,,G/KG,,/MILLE,,/MILLE,,,,,,/MILLE,,/MILLE,
320620140320,       P16S,      33,          1,          5,         05,2,20140413,       0650,   -51.9999,  -149.9991,       4767,  3498.7,   1.3111,  34.7245,2,  34.7239,2,    200.6,2,   200.6,2,  108.59,2,   31.57,2,    0.00,2,    2.24,2,   0.119,2,   0.031,2,    0.06,2,  2259.4,2,  2361.9,2,   7.6753,2,       20,-999.000,9,-999.0000,9, -999.00,9,   1.3117,2, -999.00,9,  -999.0,9, -999.00,9,    40.1,2, -999.00,9,      19.86,2,     -999.0,9, -999.00,1, 20140413,      706, -51.9999,-149.9991,    34.8876,2,     -999.0,1,     -999.0,9,     -999.0,9,     -999.0,9,     -999.0,9,     -999.0,9
320620140320,       P16S,      33,          1,          4,         04,2,20140413,       0650,   -51.9999,  -149.9991,       4767,  3700.8,   1.1557,  34.7185,2,  34.7178,2,    202.4,2,   202.4,2,  114.75,2,   31.85,2,    0.00,2,    2.20,2,   0.116,2,   0.029,2,    0.06,2,  2261.7,2,  2364.5,2,   7.6742,2,       20,-999.000,9,-999.0000,9, -999.00,9,   1.1568,2, -999.00,9,  -999.0,9, -999.00,9,    41.1,2, -999.00,9,      19.07,2,     -999.0,9, -999.00,1, 20140413,      701, -51.9999,-149.9991,    34.8815,2,     -999.0,1,     -999.0,9,     -999.0,9,     -999.0,9,     -999.0,9,     -999.0,9
320620140320,       P16S,      33,          1,          3,         03,2,20140413,       0650,   -51.9999,  -149.9991,       4767,  3898.4,   1.1119,  34.7160,2,  34.7156,2,    203.0,2,   203.4,2,  117.19,2,   32.02,2,    0.00,2,    2.21,2,   0.133,6,   0.039,6,    0.01,6,  2262.5,2,  2365.8,2,   7.6743,2,       20,-999.000,9,-999.0000,9, -999.00,9,   1.1123,2, -999.00,9,  -999.0,9, -999.00,9,    39.7,2, -999.00,9,      19.26,6,     -999.0,9, -999.00,1, 20140413,      657, -51.9999,-149.9991,    34.8793,2,     -999.0,1,     -999.0,9,     -999.0,9,     -999.0,9,     -999.0,9,     -999.0,9
320620140320,       P16S,      33,          1,          2,         02,2,20140413,       0650,   -51.9999,  -149.9991,       4767,  3999.8,   1.1065,  34.7155,2,  34.7154,2,    203.4,2,   203.2,2,  117.38,2,   31.95,2,    0.00,2,    2.22,2,   0.134,2,   0.034,2,    0.03,2,  2262.2,2,  2365.1,2,    7.674,6,       20,-999.000,9,-999.0000,9, -999.00,9,   1.1071,2, -999.00,9,  -999.0,9, -999.00,9,    39.7,2, -999.00,9,      19.18,2,     -999.0,9, -999.00,1, 20140413,      654, -51.9999,-149.9991,    34.8791,2,     -999.0,1,     -999.0,9,     -999.0,9,     -999.0,9,     -999.0,9,     -999.0,9
320620140320,       P16S,      33,          1,          1,         01,2,20140413,       0650,   -51.9999,  -149.9991,       4767,  4100.5,   1.0933,  34.7147,2,  34.7142,2,    203.7,2,   203.4,2,  118.55,2,   32.03,2,    0.00,2,    2.23,2,   0.137,2,   0.039,2,    0.09,2,  2263.3,6,  2365.4,2,    7.674,2,       20,-999.000,9,-999.0000,9, -999.00,9,   1.0936,2, -999.00,9,  -999.0,9, -999.00,9,    40.1,2, -999.00,9,      19.64,2,     -999.0,9, -999.00,1, 20140413,      651, -51.9999,-149.9991,    34.8779,2,     -999.0,1,     -999.0,9,     -999.0,9,     -999.0,9,     -999.0,9,     -999.0,9