BOTTLE,20230715CCHSIOCBG
EXPOCODE,SECT_ID,STNNBR,CASTNO,SAMPNO,BTLNBR,BTLNBR_FLAG_W,DATE,TIME,LATITUDE,LONGITUDE,DEPTH,CTDPRS,CTDTMP,CTDSAL,CTDSAL_FLAG_W,SALNTY,SALNTY_FLAG_W,CTDOXY,CTDOXY_FLAG_W,OXYGEN,OXYGEN_FLAG_W,SILCAT,SILCAT_FLAG_W,NITRAT,NITRAT_FLAG_W,NITRIT,NITRIT_FLAG_W,PHSPHT,PHSPHT_FLAG_W,CFC-11,CFC-11_FLAG_W,CFC-12,CFC-12_FLAG_W,SF6,SF6_FLAG_W,TCARBN,TCARBN_FLAG_W,ALKALI,ALKALI_FLAG_W,PH_TOT,PH_TOT_FLAG_W,PH_TMP,TRITUM,TRITUM_FLAG_W,HELIUM,HELIUM_FLAG_W,DELHE3,DELHE3_FLAG_W,REFTMP,REFTMP_FLAG_W,DELC13,DELC13_FLAG_W,DELC14,DELC14_FLAG_W,DELO18,DELO18_FLAG_W,DOC,DOC_FLAG_W,TDN,TDN_FLAG_W,N2O,N2O_FLAG_W,CALCIUM,CALCIUM_FLAG_W,D15N_NO3,D15N_NO3_FLAG_W,BTL_DATE,BTL_TIME,BTL_LAT,BTL_LON,SALTREF,SALTREF_FLAG_W,D18O_NO3,D18O_NO3_FLAG_W,DSI30,DSI30_FLAG_W,CDOM_NASA,CDOM_NASA_FLAG_W,CDOM_UCSB,CDOM_UCSB_FLAG_W,D15N_NO2+NO3,D15N_NO2+NO3_FLAG_W,D18O_NO2+NO3,D18O_NO2+NO3_FLAG_W
,,,,,,,,,,,METERS,DBAR,ITS-90,PSS-78,,PSS-78,,UMOL/KG,,UMOL/KG,,UMOL/KG,,UMOL/KG,,UMOL/KG,,UMOL/KG,,PMOL/KG,,PMOL/KG,,FMOL/KG,,UMOL/KG,,UMOL/KG,,,,DEG C,TU,,NMOL/KG,,PERCNT,,DEG C,,/MILLE,,/MILLE,,/MILLE,,UMOL/KG,,UMOL/KG,,NMOL/KG,,MMOL/KG,,/MILLE,,,,,,G/KG,,/MILLE,,/MILLE,,,,,,/MILLE,,/MILLE,
320620140320,       P16S,      80,          3,         36,         36,2,20140501,       0026,   -21.6662,  -150.0006,       4691,     4.5,  25.7821,  35.8668,2,  35.8678,2,    204.0,2,   204.2,2,    2.05,2,    0.02,2,    0.00,2,    0.10,2,   1.599,2,   1.010,2,    1.32,2,  2017.2,2,  2357.9,2,   8.1749,2,       20,-999.000,9,-999.0000,9, -999.00,9,  25.7830,2, -999.00,9,  -999.0,9, -999.00,9,    71.3,2,    4.03,2,       6.53,2,     -999.0,9, -999.00,9, 20140501,      227, -21.6661,-150.0003,    36.0370,2,     -999.0,9,     -999.0,9,     -999.0,9,     -999.0,9,     -999.0,9,     -999.0,9
320620140320,       P16S,      80,          3,         35,         35,2,20140501,       0026,   -21.6662,  -150.0006,       4691,    20.4,  25.7933,  35.8660,2,  35.8670,2,    204.8,2,   204.5,2,    2.15,2,    0.00,2,    0.00,2,    0.09,2,-999.000,9,-999.000,9, -999.00,9,  2017.2,2,    2359,2,   8.1747,2,       20,-999.000,9,-999.0000,9, -999.00,9,  25.7904,2, -999.00,9,  -999.0,9, -999.00,9,      72,2,    4.28,2,     -999.0,9,     -999.0,9, -999.00,9, 20140501,      225, -21.6660,-150.0002,    36.0361,2,     -999.0,9,     -999.0,9,     -999.0,9,     -999.0,9,     -999.0,9,     -999.0,9
320620140320,       P16S,      80,          3,         34,         34,2,20140501,       0026,   -21.6662,  -150.0006,       4691,    38.7,  25.7912,  35.8659,2,  35.8658,2,    205.1,2,   204.2,2,    2.25,2,    0.00,2,    0.00,2,    0.09,2,-999.000,9,-999.000,9, -999.00,9,  2017.4,2,  2359.2,2,   8.1756,2,       20,-999.000,9,-999.0000,9, -999.00,9,  25.7898,2, -999.00,9,  -999.0,9, -999.00,9,    69.9,2,    3.92,2,     -999.0,9,     -999.0,9, -999.00,9, 20140501,      223, -21.6660,-150.0002,    36.0350,2,     -999.0,9,     -999.0,9,     -999.0,9,     -999.0,9,     -999.0,9,     -999.0,9
320620140320,       P16S,      80,          3,         33,         33,2,20140501,       0026,   -21.6662,  -150.0006,       4691,    65.4,  25.7303,  35.8629,2,  35.8640,2,    205.2,2,   204.5,2,    2.73,2,    0.00,2,    0.00,2,    0.09,2,   1.528,2,   1.018,2,    1.36,2,  2018.9,2,  2359.6,2,   8.1746,2,       20,-999.000,9,-999.0000,9, -999.00,9,  25.7238,2, -999.00,9,  -999.0,9, -999.00,9,    69.4,2,    4.03,2,       6.63,2,     -999.0,9, -999.00,9, 20140501,      222, -21.6660,-150.0002,    36.0332,2,     -999.0,9,     -999.0,9,     -999.0,9,     -999.0,9,     -999.0,9,     -999.0,9
320620140320,       P16S,      80,          3,         31,         31,2,20140501,       0026,   -21.6662,  -150.0006,       4691,    90.5,  23.8879,  35.9222,2,  35.9249,2,    219.5,2,   218.4,2,    2.44,2,    0.00,2,    0.00,2,    0.08,2,-999.000,9,-999.000,9, -999.00,9,  2031.2,2,  2360.6,2,   8.1531,2,       20,-999.000,9,-999.0000,9, -999.00,9,  23.9471,2, -999.00,9,  -999.0,9, -999.00,9,    67.9,2,    2.95,2,     -999.0,9,     -999.0,9, -999.00,9, 20140501,      220, -21.6660,-150.0002,    36.0943,2,     -999.0,9,     -999.0,9,     -999.0,9,     -999.0,9,     -999.0,9,     -999.0,9
320620140320,       P16S,      80,          3,         32,         32,2,20140501,       0026,   -21.6662,  -150.0006,       4691,    91.0,  24.0257,  35.9279,2,-999.0000,9,   -999.0,9,  -999.0,9, -999.00,9, -999.00,9, -999.00,9, -999.00,9,-999.000,9,-999.000,9, -999.00,9,  -999.0,9,  -999.0,9,-999.0000,9,  -999.00,-999.000,9,-999.0000,9, -999.00,9,  24.0290,2, -999.00,9,  -999.0,9, -999.00,9,  -999.0,9, -999.00,9,     -999.0,9,     -999.0,9, -999.00,9, 20140501,      220, -21.6660,-150.0002,     -999.0,9,     -999.0,9,     -999.0,9,     -999.0,9,     -999.0,9,     -999.0,9,     -999.0,9
320620140320,       P16S,      80,          3,         29,         29,2,20140501,       0026,   -21.6662,  -150.0006,       4691,   135.5,  22.0339,  35.8163,2,  35.8154,2,    210.6,2,   210.4,2,    2.05,2,    0.00,2,    0.00,2,    0.10,2,   1.950,2,   1.248,2,    1.52,2,  2043.1,2,  2352.4,2,   8.1225,2,       20,-999.000,9,-999.0000,9, -999.00,9,  22.0444,2, -999.00,9,  -999.0,9, -999.00,9,    61.9,2,     4.3,2,       7.55,2,     -999.0,9, -999.00,9, 20140501,      218, -21.6661,-150.0003,    35.9843,2,     -999.0,9,     -999.0,9,     -999.0,9,     -999.0,9,     -999.0,9,     -999.0,9
320620140320,       P16S,      80,          3,         30,         30,2,20140501,       0026,   -21.6662,  -150.0006,       4691,   136.8,  22.0467,  35.8160,2,-999.0000,9,   -999.0,9,  -999.0,9, -999.00,9, -999.00,9, -999.00,9, -999.00,9,-999.000,9,-999.000,9, -999.00,9,  -999.0,9,  -999.0,9,-999.0000,9,  -999.00,-999.000,9,-999.0000,9, -999.00,9,  22.0432,2, -999.00,9,  -999.0,9, -999.00,9,  -999.0,9, -999.00,9,     -999.0,9,     -999.0,9, -999.00,9, 20140501,      218, -21.6661,-150.0003,     -999.0,9,     -999.0,9,     -999.0,9,     -999.0,9,     -999.0,9,     -999.0,9,     -999.0,9
320620140320,       P16S,      80,          3,         28,         28,2,20140501,       0026,   -21.6662,  -150.0006,       4691,   185.4,  20.7111,  35.7092,2,  35.7078,2,    197.8,2,   199.0,2,    2.83,2,    0.77,2,    0.09,2,    0.19,2,   1.790,2,   1.239,2,    1.53,2,  2058.4,6,  2342.5,2,   8.0821,2,       20,-999.000,9,-999.0000,9, -999.00,9,  20.7153,2, -999.00,9,  -999.0,9, -999.00,9,    57.2,2,    4.78,2,       8.20,2,     -999.0,9, -999.00,9, 20140501,      216, -21.6661,-150.0004,    35.8762,2,     -999.0,9,     -999.0,9,     -999.0,9,     -999.0,9,     -999.0,9,     -999.0,9
320620140320,       P16S,      80,          3,         27,         27,2,20140501,       0026,   -21.6662,  -150.0006,       4691,   235.6,  19.4785,  35.6004,2,  35.5984,2,    202.2,2,   201.0,2,    2.83,2,    1.55,2,    0.02,2,    0.21,2,-999.000,9,-999.000,9, -999.00,9,  2065.3,2,  2334.3,6,   8.0598,6,       20,-999.000,9,-999.0000,9, -999.00,9,  19.4770,2, -999.00,9,  -999.0,9, -999.00,9,    52.5,2,    4.42,2,     -999.0,9,     -999.0,9, -999.00,9, 20140501,      214, -21.6662,-150.0005,    35.7663,2,     -999.0,9,     -999.0,9,     -999.0,9,     -999.0,9,     -999.0,9,     -999.0,9
320620140320,       P16S,      80,          3,         26,         26,2,20140501,       0026,   -21.6662,  -150.0006,       4691,   283.9,  17.8739,  35.4326,2,  35.4337,2,    204.4,2,   203.2,2,    2.93,2,    2.43,2,    0.01,2,    0.27,2,   2.329,2,   1.352,2,    1.46,2,  2074.3,2,  2323.8,2,   8.0286,2,       20,-999.000,9,-999.0000,9, -999.00,9,  17.8486,3, -999.00,9,  -999.0,9, -999.00,9,    53.1,2,    4.86,2,       8.71,2,     -999.0,9, -999.00,9, 20140501,      212, -21.6661,-150.0004,    35.6008,2,     -999.0,9,     -999.0,9,     -999.0,9,     -999.0,9,     -999.0,9,     -999.0,9
320620140320,       P16S,      80,          3,         25,         25,2,20140501,       0026,   -21.6662,  -150.0006,       4691,   335.1,  16.1105,  35.2297,2,  35.2299,2,    201.0,2,   198.7,2,    3.42,2,    4.93,2,    0.01,2,    0.45,2,   2.284,2,   1.466,2,    1.37,2,  2087.3,2,  2312.6,2,   7.9805,2,       20,-999.000,9,-999.0000,9, -999.00,9,  16.1376,3, -999.00,9,  -999.0,9, -999.00,9,    48.1,2,    7.52,2,      10.66,2,     -999.0,9, -999.00,9, 20140501,      210, -21.6660,-150.0002,    35.3960,2,     -999.0,9,     -999.0,9,     -999.0,9,     -999.0,9,     -999.0,9,     -999.0,9
320620140320,       P16S,      80,          3,         24,         24,2,20140501,       0026,   -21.6662,  -150.0006,       4691,   384.5,  13.9283,  34.9914,2,  34.9847,2,    195.7,2,   194.9,2,    4.79,2,    9.28,2,    0.00,2,    0.74,2,-999.000,9,-999.000,9, -999.00,9,    2105,2,  2301.6,2,     7.92,2,       20,-999.000,9,-999.0000,9, -999.00,9,  13.8958,2, -999.00,9,  -999.0,9, -999.00,9,    46.1,2,   10.43,2,     -999.0,9,     -999.0,9, -999.00,9, 20140501,      208, -21.6659,-150.0001,    35.1497,2,     -999.0,9,     -999.0,9,     -999.0,9,     -999.0,9,     -999.0,9,     -999.0,9
320620140320,       P16S,      80,          3,         23,         23,2,20140501,       0026,   -21.6662,  -150.0006,       4691,   464.8,  10.6313,  34.6222,2,  34.6245,2,    194.1,2,   194.8,2,    7.13,2,   16.07,2,    0.00,2,    1.20,2,-999.000,9,-999.000,9, -999.00,9,  2132.4,2,  2285.8,2,   7.8308,2,       20,-999.000,9,-999.0000,9, -999.00,9,  10.6296,2, -999.00,9,  -999.0,9, -999.00,9,      44,2,   17.63,2,     -999.0,9,     -999.0,9, -999.00,9, 20140501,      205, -21.6659,-150.0000,    34.7878,2,     -999.0,9,     -999.0,9,     -999.0,9,     -999.0,9,     -999.0,9,     -999.0,9
320620140320,       P16S,      80,          3,         22,         22,2,20140501,       0026,   -21.6662,  -150.0006,       4691,   563.4,   7.2680,  34.3702,2,  34.3708,2,    211.1,2,   212.7,2,    6.84,2,   23.39,2,    0.00,2,    1.65,2,   2.017,2,   1.330,2,    0.52,2,  2154.6,2,    2279,2,   7.7566,2,       20,-999.000,9,-999.0000,9, -999.00,9,   7.2632,2, -999.00,9,  -999.0,9, -999.00,9,    41.8,2, -999.00,5,      21.87,2,     -999.0,9, -999.00,9, 20140501,      202, -21.6659,-150.0001,    34.5329,2,     -999.0,9,     -999.0,9,     -999.0,9,     -999.0,9,     -999.0,9,     -999.0,9
320620140320,       P16S,      80,          3,         21,         21,2,20140501,       0026,   -21.6662,  -150.0006,       4691,   664.1,   6.0809,  34.3213,2,  34.3222,2,    215.8,2,   217.2,2,   10.95,2,   26.17,2,    0.00,2,    1.82,2,-999.000,9,-999.000,9, -999.00,9,  2161.9,2,  2280.4,2,   7.7413,2,       20,-999.000,9,-999.0000,9, -999.00,9,   6.0899,2, -999.00,9,  -999.0,9, -999.00,9,      40,2, -999.00,9,     -999.0,9,     -999.0,9, -999.00,9, 20140501,      159, -21.6660,-150.0002,    34.4840,2,     -999.0,9,     -999.0,9,     -999.0,9,     -999.0,9,     -999.0,9,     -999.0,9
320620140320,       P16S,      80,          3,         20,         20,2,20140501,       0026,   -21.6662,  -150.0006,       4691,   765.1,   5.2945,  34.3309,2,  34.3312,2,    195.8,2,   192.4,2,   21.99,2,   30.00,2,    0.00,2,    2.09,2,   0.859,2,   0.456,2,    0.12,2,  2187.4,2,  2289.8,2,   7.6917,2,       20,-999.000,9,-999.0000,9, -999.00,9,   5.2949,2, -999.00,9,  -999.0,9, -999.00,9,    39.7,2, -999.00,9,      22.93,2,     -999.0,9, -999.00,9, 20140501,      156, -21.6661,-150.0003,    34.4930,2,     -999.0,9,     -999.0,9,     -999.0,9,     -999.0,9,     -999.0,9,     -999.0,9
320620140320,       P16S,      80,          3,         19,         19,2,20140501,       0026,   -21.6662,  -150.0006,       4691,   863.4,   4.8792,  34.3602,2,  34.3592,2,    185.6,2,   178.9,2,   31.28,2,   31.77,2,    0.00,2,    2.22,2,   0.417,2,   0.282,2,    0.07,2,  2204.4,2,    2298,2,   7.6688,2,       20,-999.000,9,-999.0000,9, -999.00,9,   4.8808,2, -999.00,9,  -999.0,9, -999.00,9,    38.8,2, -999.00,9,      24.26,2,     -999.0,9, -999.00,9, 20140501,      153, -21.6661,-150.0003,    34.5212,2,     -999.0,9,     -999.0,9,     -999.0,9,     -999.0,9,     -999.0,9,     -999.0,9
320620140320,       P16S,      80,          3,         18,         18,2,20140501,       0026,   -21.6662,  -150.0006,       4691,   964.0,   4.3369,  34.4096,2,  34.4094,2,    166.9,2,   163.3,2,   45.94,2,   33.65,2,    0.00,2,    2.36,2,-999.000,9,-999.000,9, -999.00,9,  2227.3,2,  2314.2,2,   7.6411,2,       20,-999.000,9,-999.0000,9, -999.00,9,   4.3420,2, -999.00,9,  -999.0,9, -999.00,9,    38.9,2, -999.00,9,     -999.0,9,     -999.0,9, -999.00,9, 20140501,      150, -21.6662,-150.0005,    34.5717,2,     -999.0,9,     -999.0,9,     -999.0,9,     -999.0,9,     -999.0,9,     -999.0,9
320620140320,       P16S,      80,          3,         17,         17,2,20140501,       0026,   -21.6662,  -150.0006,       4691,  1065.4,   3.8588,  34.4501,2,  34.4497,2,    157.9,2,   156.9,2,   58.15,2,   34.57,2,    0.00,2,    2.43,2,   0.075,2,   0.031,2,    0.01,2,  2242.7,6,  2326.8,2,   7.6299,2,       20,-999.000,9,-999.0000,9, -999.00,9,   3.8595,2, -999.00,9,  -999.0,9, -999.00,9,    37.9,2, -999.00,9,      26.21,2,     -999.0,9, -999.00,9, 20140501,      148, -21.6662,-150.0006,    34.6121,2,     -999.0,9,     -999.0,9,     -999.0,9,     -999.0,9,     -999.0,9,     -999.0,9
320620140320,       P16S,      80,          3,         16,         16,2,20140501,       0026,   -21.6662,  -150.0006,       4691,  1164.9,   3.5138,  34.4785,2,  34.4771,2,    156.4,2,   156.1,2,   66.65,2,   34.83,2,    0.00,2,    2.44,2,-999.000,9,-999.000,9, -999.00,9,  2252.2,2,  2334.5,2,   7.6279,2,       20,-999.000,9,-999.0000,9, -999.00,9,   3.5156,2, -999.00,9,  -999.0,9, -999.00,9,    37.9,2, -999.00,9,     -999.0,9,     -999.0,9, -999.00,9, 20140501,      145, -21.6663,-150.0008,    34.6397,2,     -999.0,9,     -999.0,9,     -999.0,9,     -999.0,9,     -999.0,9,     -999.0,9
320620140320,       P16S,      80,          3,         15,         15,2,20140501,       0026,   -21.6662,  -150.0006,       4691,  1263.0,   3.1379,  34.5191,2,  34.5186,2,    154.2,2,   153.9,2,   78.48,2,   35.07,2,    0.00,2,    2.46,2,   0.011,2,   0.007,2,    0.04,2,  2265.2,2,  2349.2,2,   7.6283,2,       20,-999.000,9,-999.0000,9, -999.00,9,   3.1365,2, -999.00,9,  -999.0,9, -999.00,9,    37.4,2, -999.00,9,      24.14,2,     -999.0,9, -999.00,9, 20140501,      142, -21.6662,-150.0005,    34.6813,2,     -999.0,9,     -999.0,9,     -999.0,9,     -999.0,9,     -999.0,9,     -999.0,9
320620140320,       P16S,      80,          3,         14,         14,2,20140501,       0026,   -21.6662,  -150.0006,       4691,  1364.7,   2.8884,  34.5488,2,  34.5486,2,    152.5,2,   152.8,2,   87.56,2,   35.28,2,    0.00,2,    2.48,2,-999.000,9,-999.000,9, -999.00,9,  2275.8,2,  2359.5,2,   7.6284,2,       20,-999.000,9,-999.0000,9, -999.00,9,   2.8887,2, -999.00,9,  -999.0,9, -999.00,9,    36.4,2, -999.00,9,     -999.0,9,     -999.0,9, -999.00,9, 20140501,      139, -21.6662,-150.0002,    34.7115,2,     -999.0,9,     -999.0,9,     -999.0,9,     -999.0,9,     -999.0,9,     -999.0,9
320620140320,       P16S,      80,          3,         13,         13,2,20140501,       0026,   -21.6662,  -150.0006,       4691,  1533.9,   2.6310,  34.5801,2,  34.5798,2,    150.4,2,   150.5,2,   97.04,2,   35.44,2,    0.00,2,    2.50,2,   0.002,2,   0.001,2,    0.01,2,  2285.6,2,  2369.6,2,   7.6285,2,       20,-999.000,9,-999.0000,9, -999.00,9,   2.6335,2, -999.00,9,  -999.0,9, -999.00,9,    36.2,2, -999.00,9,      25.63,2,     -999.0,9, -999.00,9, 20140501,      135, -21.6662,-150.0005,    34.7428,2,     -999.0,9,     -999.0,9,     -999.0,9,     -999.0,9,     -999.0,9,     -999.0,9
320620140320,       P16S,      80,          3,         12,         12,2,20140501,       0026,   -21.6662,  -150.0006,       4691,  1736.1,   2.3883,  34.6074,2,  34.6074,2,    149.4,2,   149.4,2,  106.52,2,   35.58,2,    0.00,2,    2.50,2,-999.000,9,-999.000,9, -999.00,9,  2293.9,2,  2380.4,2,   7.6291,2,       20,-999.000,9,-999.0000,9, -999.00,9,   2.3883,2, -999.00,9,  -999.0,9, -999.00,9,    35.3,2, -999.00,9,     -999.0,9,     -999.0,9, -999.00,9, 20140501,      131, -21.6663,-150.0008,    34.7706,2,     -999.0,9,     -999.0,9,     -999.0,9,     -999.0,9,     -999.0,9,     -999.0,9
320620140320,       P16S,      80,          3,         11,         11,2,20140501,       0026,   -21.6662,  -150.0006,       4691,  1935.7,   2.2234,  34.6244,2,  34.6241,2,    149.2,2,   149.4,2,  112.58,2,   35.67,2,    0.00,2,    2.49,2,   0.001,2,   0.002,2,    0.01,2,  2300.5,2,  2387.5,2,   7.6308,2,       20,-999.000,9,-999.0000,9, -999.00,9,   2.2236,2, -999.00,9,  -999.0,9, -999.00,9,    35.6,2, -999.00,9,      23.60,2,     -999.0,9, -999.00,9, 20140501,      126, -21.6663,-150.0008,    34.7874,2,     -999.0,9,     -999.0,9,     -999.0,9,     -999.0,9,     -999.0,9,     -999.0,9
320620140320,       P16S,      80,          3,         10,         10,2,20140501,       0026,   -21.6662,  -150.0006,       4691,  2165.4,   2.0709,  34.6392,2,  34.6388,2,    150.4,2,   150.4,2,  117.95,2,   35.71,2,    0.00,2,    2.51,2,-999.000,9,-999.000,9, -999.00,9,  2306.3,2,  2392.8,2,   7.6333,2,       20,-999.000,9,-999.0000,9, -999.00,9,   2.0707,2, -999.00,9,  -999.0,9, -999.00,9,    35.9,2, -999.00,9,     -999.0,9,     -999.0,9, -999.00,9, 20140501,      121, -21.6662,-150.0004,    34.8022,2,     -999.0,9,     -999.0,9,     -999.0,9,     -999.0,9,     -999.0,9,     -999.0,9
320620140320,       P16S,      80,          3,          9,         09,2,20140501,       0026,   -21.6662,  -150.0006,       4691,  2414.6,   1.9089,  34.6537,2,  34.6534,2,    152.8,2,   153.0,2,  122.54,2,   35.56,2,    0.00,2,    2.50,2,  -0.002,2,   0.000,2,    0.00,2,  2308.1,6,    2397,2,   7.6363,2,       20,-999.000,9,-999.0000,9, -999.00,9,   1.9094,2, -999.00,9,  -999.0,9, -999.00,9,    34.7,2, -999.00,9,      24.22,2,     -999.0,9, -999.00,9, 20140501,      116, -21.6661,-150.0004,    34.8168,2,     -999.0,9,     -999.0,9,     -999.0,9,     -999.0,9,     -999.0,9,     -999.0,9
320620140320,       P16S,      80,          3,          8,         08,2,20140501,       0026,   -21.6662,  -150.0006,       4691,  2666.5,   1.8116,  34.6622,2,  34.6622,2,    156.0,2,   156.1,2,  124.40,2,   35.25,2,    0.00,2,    2.47,2,-999.000,9,-999.000,9, -999.00,9,  2307.5,2,  2398.2,6,   7.6406,2,       20,-999.000,9,-999.0000,9, -999.00,9,   1.8121,2, -999.00,9,  -999.0,9, -999.00,9,    36.1,2, -999.00,9,     -999.0,9,     -999.0,9, -999.00,9, 20140501,      110, -21.6667,-150.0012,    34.8256,2,     -999.0,9,     -999.0,9,     -999.0,9,     -999.0,9,     -999.0,9,     -999.0,9
320620140320,       P16S,      80,          3,          7,         07,2,20140501,       0026,   -21.6662,  -150.0006,       4691,  2913.7,   1.7386,  34.6687,2,  34.6677,2,    159.3,2,   158.7,2,  125.28,2,   35.17,2,    0.00,2,    2.45,2,   0.001,2,   0.000,2,    0.01,2,  2304.8,2,  2397.4,2,   7.6441,6,       20,-999.000,9,-999.0000,9, -999.00,9,   1.7394,2, -999.00,9,  -999.0,9, -999.00,9,    35.5,2, -999.00,9,      22.95,2,     -999.0,9, -999.00,9, 20140501,      105, -21.6665,-150.0011,    34.8312,2,     -999.0,9,     -999.0,9,     -999.0,9,     -999.0,9,     -999.0,9,     -999.0,9
320620140320,       P16S,      80,          3,          6,         06,2,20140501,       0026,   -21.6662,  -150.0006,       4691,  3198.5,   1.6456,  34.6764,2,  34.6760,2,    165.1,2,   165.2,2,  125.47,2,   34.73,2,    0.00,2,    2.43,2,   0.002,2,   0.001,2,    0.02,2,  2301.1,2,  2395.5,2,   7.6511,2,       20,-999.000,9,-999.0000,9, -999.00,9,   1.6470,2, -999.00,9,  -999.0,9, -999.00,9,    35.3,2, -999.00,9,      22.43,2,     -999.0,9, -999.00,9, 20140501,      100, -21.6661,-150.0002,    34.8395,2,     -999.0,9,     -999.0,9,     -999.0,9,     -999.0,9,     -999.0,9,     -999.0,9