BOTTLE,20230715CCHSIOCBG
EXPOCODE,SECT_ID,STNNBR,CASTNO,SAMPNO,BTLNBR,BTLNBR_FLAG_W,DATE,TIME,LATITUDE,LONGITUDE,DEPTH,CTDPRS,CTDTMP,CTDSAL,CTDSAL_FLAG_W,SALNTY,SALNTY_FLAG_W,CTDOXY,CTDOXY_FLAG_W,OXYGEN,OXYGEN_FLAG_W,SILCAT,SILCAT_FLAG_W,NITRAT,NITRAT_FLAG_W,NITRIT,NITRIT_FLAG_W,PHSPHT,PHSPHT_FLAG_W,CFC-11,CFC-11_FLAG_W,CFC-12,CFC-12_FLAG_W,SF6,SF6_FLAG_W,TCARBN,TCARBN_FLAG_W,ALKALI,ALKALI_FLAG_W,PH_TOT,PH_TOT_FLAG_W,PH_TMP,TRITUM,TRITUM_FLAG_W,HELIUM,HELIUM_FLAG_W,DELHE3,DELHE3_FLAG_W,REFTMP,REFTMP_FLAG_W,DELC13,DELC13_FLAG_W,DELC14,DELC14_FLAG_W,DELO18,DELO18_FLAG_W,DOC,DOC_FLAG_W,TDN,TDN_FLAG_W,N2O,N2O_FLAG_W,CALCIUM,CALCIUM_FLAG_W,D15N_NO3,D15N_NO3_FLAG_W,BTL_DATE,BTL_TIME,BTL_LAT,BTL_LON,SALTREF,SALTREF_FLAG_W,D18O_NO3,D18O_NO3_FLAG_W,DSI30,DSI30_FLAG_W,CDOM_NASA,CDOM_NASA_FLAG_W,CDOM_UCSB,CDOM_UCSB_FLAG_W,D15N_NO2+NO3,D15N_NO2+NO3_FLAG_W,D18O_NO2+NO3,D18O_NO2+NO3_FLAG_W
,,,,,,,,,,,METERS,DBAR,ITS-90,PSS-78,,PSS-78,,UMOL/KG,,UMOL/KG,,UMOL/KG,,UMOL/KG,,UMOL/KG,,UMOL/KG,,PMOL/KG,,PMOL/KG,,FMOL/KG,,UMOL/KG,,UMOL/KG,,,,DEG C,TU,,NMOL/KG,,PERCNT,,DEG C,,/MILLE,,/MILLE,,/MILLE,,UMOL/KG,,UMOL/KG,,NMOL/KG,,MMOL/KG,,/MILLE,,,,,,G/KG,,/MILLE,,/MILLE,,,,,,/MILLE,,/MILLE,
320620140320,       P16S,      42,          1,         36,         36,2,20140416,       1612,   -47.0001,  -149.9997,       5104,     3.8,  13.0466,  34.4210,2,  34.4235,2,    263.7,2,   264.3,2,    0.39,2,    5.55,2,    0.11,2,    0.50,2,   2.887,2,   1.763,2,    1.72,2,    2063,6,    2283,2,   7.9774,2,       20,-999.000,9,-999.0000,9, -999.00,9,  13.0446,2, -999.00,9,  -999.0,9, -999.00,9,    57.4,2,   10.29,2,      10.33,2,     -999.0,9, -999.00,9, 20140416,     1842, -47.0002,-150.0000,    34.5858,2,     -999.0,9,     -999.0,9,     -999.0,9,     -999.0,9,     -999.0,9,     -999.0,9
320620140320,       P16S,      42,          1,         35,         35,2,20140416,       1612,   -47.0001,  -149.9997,       5104,    19.6,  12.7321,  34.4439,2,  34.4445,2,    266.4,2,   264.6,2,    0.49,2,    5.66,2,    0.11,2,    0.52,2,-999.000,9,-999.000,9, -999.00,9,    2066,2,    2284,2,   7.9745,2,       20,-999.000,9,-999.0000,9, -999.00,9,  12.7346,2, -999.00,9,  -999.0,9, -999.00,9,    52.1,2,    8.71,2,     -999.0,9,     -999.0,9, -999.00,9, 20140416,     1840, -47.0002,-149.9999,    34.6069,2,     -999.0,9,     -999.0,9,     -999.0,9,     -999.0,9,     -999.0,9,     -999.0,9
320620140320,       P16S,      42,          1,         34,         34,2,20140416,       1612,   -47.0001,  -149.9997,       5104,    39.3,  12.4119,  34.4616,2,  34.4620,2,    265.5,2,   265.0,2,    0.49,2,    5.80,2,    0.11,2,    0.54,2,   3.070,2,   1.818,2,    2.00,2,  2069.1,2,  2285.4,2,   7.9697,2,       20,-999.000,9,-999.0000,9, -999.00,9,  12.4118,2, -999.00,9,  -999.0,9, -999.00,9,    51.2,2,    7.87,2,      10.60,2,     -999.0,9, -999.00,9, 20140416,     1839, -47.0001,-149.9999,    34.6245,2,     -999.0,9,     -999.0,9,     -999.0,9,     -999.0,9,     -999.0,9,     -999.0,9
320620140320,       P16S,      42,          1,         33,         33,2,20140416,       1612,   -47.0001,  -149.9997,       5104,    62.3,  12.0625,  34.4672,2,  34.4647,2,    264.6,2,   263.2,2,    0.39,2,    6.00,2,    0.12,2,    0.56,2,-999.000,9,-999.000,9, -999.00,9,    2072,2,    2286,2,   7.9633,2,       20,-999.000,9,-999.0000,9, -999.00,9,  12.1383,3, -999.00,9,  -999.0,9, -999.00,9,    51.3,2,     8.5,2,     -999.0,9,     -999.0,9, -999.00,9, 20140416,     1837, -47.0002,-149.9999,    34.6272,2,     -999.0,9,     -999.0,9,     -999.0,9,     -999.0,9,     -999.0,9,     -999.0,9
320620140320,       P16S,      42,          1,         32,         32,2,20140416,       1612,   -47.0001,  -149.9997,       5104,    90.3,   9.5819,  34.5399,2,  34.5409,2,    266.0,2,   264.1,2,    1.95,2,   11.46,2,    0.38,2,    0.88,2,-999.000,9,-999.000,9, -999.00,9,  2108.3,2,  2285.8,2,   7.8833,2,       20,-999.000,9,-999.0000,9, -999.00,9,   9.5892,2, -999.00,9,  -999.0,9, -999.00,9,    45.3,2,   15.97,2,     -999.0,9,     -999.0,9, -999.00,9, 20140416,     1835, -47.0002,-149.9999,    34.7037,2,     -999.0,9,     -999.0,9,     -999.0,9,     -999.0,9,     -999.0,9,     -999.0,9
320620140320,       P16S,      42,          1,         31,         31,2,20140416,       1612,   -47.0001,  -149.9997,       5104,   136.4,   8.9673,  34.5484,2,  34.5511,2,    262.8,2,   262.0,2,    2.83,2,   13.31,2,    0.02,2,    0.98,2,   3.572,2,   2.116,2,    2.14,2,  2116.2,2,  2285.2,2,   7.8606,2,       20,-999.000,9,-999.0000,9, -999.00,9,   8.9686,2, -999.00,9,  -999.0,9, -999.00,9,    46.4,2,   14.15,2,      13.20,2,     -999.0,9, -999.00,9, 20140416,     1833, -47.0002,-149.9999,    34.7140,2,     -999.0,9,     -999.0,9,     -999.0,9,     -999.0,9,     -999.0,9,     -999.0,9
320620140320,       P16S,      42,          1,         30,         30,2,20140416,       1612,   -47.0001,  -149.9997,       5104,   184.7,   8.5046,  34.5038,2,  34.5047,2,    264.8,2,   264.2,2,    3.03,2,   14.24,2,    0.02,2,    1.03,2,-999.000,9,-999.000,9, -999.00,9,  2118.5,2,  2283.4,2,   7.8503,2,       20,-999.000,9,-999.0000,9, -999.00,9,   8.5054,2, -999.00,9,  -999.0,9, -999.00,9,    45.5,2,   15.77,2,     -999.0,9,     -999.0,9, -999.00,9, 20140416,     1831, -47.0001,-149.9998,    34.6674,2,     -999.0,9,     -999.0,9,     -999.0,9,     -999.0,9,     -999.0,9,     -999.0,9
320620140320,       P16S,      42,          1,         29,         29,2,20140416,       1612,   -47.0001,  -149.9997,       5104,   233.7,   8.3477,  34.4987,2,  34.4992,2,    261.1,2,   261.2,2,    3.42,2,   15.35,2,    0.01,2,    1.10,2,   3.522,2,   2.073,2,    1.94,2,  2122.8,2,  2283.4,2,   7.8407,2,       20,-999.000,9,-999.0000,9, -999.00,9,   8.3480,2, -999.00,9,  -999.0,9, -999.00,9,      42,2,   17.31,2,      14.92,2,     -999.0,9, -999.00,9, 20140416,     1829, -47.0001,-149.9998,    34.6619,2,     -999.0,9,     -999.0,9,     -999.0,9,     -999.0,9,     -999.0,9,     -999.0,9
320620140320,       P16S,      42,          1,         28,         28,2,20140416,       1612,   -47.0001,  -149.9997,       5104,   284.2,   8.2024,  34.4898,2,  34.4890,2,    259.7,2,   263.1,2,    3.62,2,   15.76,2,    0.01,2,    1.13,2,   3.684,2,   2.156,2,    2.08,2,  2122.6,2,  2283.8,2,   7.8408,2,       20,-999.000,9,-999.0000,9, -999.00,9,   8.2017,2, -999.00,9,  -999.0,9, -999.00,9,    44.1,2,   19.73,3,      15.27,2,     -999.0,9, -999.00,9, 20140416,     1827, -47.0001,-149.9998,    34.6516,2,     -999.0,9,     -999.0,9,     -999.0,9,     -999.0,9,     -999.0,9,     -999.0,9
320620140320,       P16S,      42,          1,         27,         27,2,20140416,       1612,   -47.0001,  -149.9997,       5104,   335.7,   8.0220,  34.4698,2,  34.4695,2,    261.1,2,   260.7,2,    4.10,2,   16.85,2,    0.01,2,    1.19,2,-999.000,9,-999.000,9, -999.00,9,  2125.7,2,  2283.2,2,   7.8313,2,       20,-999.000,9,-999.0000,9, -999.00,9,   8.0213,2, -999.00,9,  -999.0,9, -999.00,9,    43.2,2,   19.07,2,     -999.0,9,     -999.0,9, -999.00,9, 20140416,     1825, -47.0001,-149.9998,    34.6320,2,     -999.0,9,     -999.0,9,     -999.0,9,     -999.0,9,     -999.0,9,     -999.0,9
320620140320,       P16S,      42,          1,         26,         26,2,20140416,       1612,   -47.0001,  -149.9997,       5104,   385.3,   7.8537,  34.4497,2,  34.4505,2,    257.8,2,   257.8,2,    4.59,2,   17.87,2,    0.01,2,    1.26,2,   3.694,2,   2.136,2,    1.93,2,  2128.7,2,  2282.2,2,   7.8222,2,       20,-999.000,9,-999.0000,9, -999.00,9,   7.8541,2, -999.00,9,  -999.0,9, -999.00,9,    43.6,2,   19.68,2,      15.63,2,     -999.0,9, -999.00,9, 20140416,     1823, -47.0001,-149.9998,    34.6129,2,     -999.0,9,     -999.0,9,     -999.0,9,     -999.0,9,     -999.0,9,     -999.0,9
320620140320,       P16S,      42,          1,         25,         25,2,20140416,       1612,   -47.0001,  -149.9997,       5104,   464.1,   7.5800,  34.4202,2,  34.4218,2,    254.1,2,   253.8,2,    5.47,2,   19.11,2,    0.01,2,    1.34,2,   3.852,2,   2.070,2,    1.77,2,  2133.4,2,  2281.6,6,   7.8116,2,       20,-999.000,9,-999.0000,9, -999.00,9,   7.5802,2, -999.00,9,  -999.0,9, -999.00,9,    44.2,2,   21.85,2,      15.76,2,     -999.0,9, -999.00,9, 20140416,     1820, -47.0001,-149.9998,    34.5841,2,     -999.0,9,     -999.0,9,     -999.0,9,     -999.0,9,     -999.0,9,     -999.0,9
320620140320,       P16S,      42,          1,         24,         24,2,20140416,       1612,   -47.0001,  -149.9997,       5104,   564.6,   7.2685,  34.3957,2,  34.3965,2,    248.7,2,   250.0,2,    6.74,2,   20.61,2,    0.01,2,    1.43,2,-999.000,9,-999.000,9, -999.00,9,  2138.5,6,  2281.4,2,   7.7987,2,       20,-999.000,9,-999.0000,9, -999.00,9,   7.2677,2, -999.00,9,  -999.0,9, -999.00,9,    43.6,2,   21.83,2,     -999.0,9,     -999.0,9, -999.00,9, 20140416,     1817, -47.0001,-149.9998,    34.5586,2,     -999.0,9,     -999.0,9,     -999.0,9,     -999.0,9,     -999.0,9,     -999.0,9
320620140320,       P16S,      42,          1,         23,         23,2,20140416,       1612,   -47.0001,  -149.9997,       5104,   665.4,   6.9616,  34.3726,2,  34.3731,2,    246.4,2,   246.9,2,    8.01,2,   21.68,2,    0.01,2,    1.51,2,   3.598,2,   1.951,2,    1.38,2,  2143.1,2,    2283,2,   7.7901,6,       20,-999.000,9,-999.0000,9, -999.00,9,   6.9596,2, -999.00,9,  -999.0,9, -999.00,9,      43,2, -999.00,9,      16.45,2,     -999.0,9, -999.00,9, 20140416,     1814, -47.0001,-149.9998,    34.5352,2,     -999.0,9,     -999.0,9,     -999.0,9,     -999.0,9,     -999.0,9,     -999.0,9
320620140320,       P16S,      42,          1,         22,         22,2,20140416,       1612,   -47.0001,  -149.9997,       5104,   765.6,   6.5238,  34.3401,2,  34.3419,2,    240.8,2,   240.6,2,   10.46,2,   23.28,2,    0.01,2,    1.60,2,   3.431,2,   1.813,2,    1.31,2,  2149.7,2,  2281.6,2,   7.7738,2,       20,-999.000,9,-999.0000,9, -999.00,9,   6.5210,2, -999.00,9,  -999.0,9, -999.00,9,      41,2, -999.00,9,      16.18,2,     -999.0,9, -999.00,9, 20140416,     1811, -47.0001,-149.9997,    34.5038,2,     -999.0,9,     -999.0,9,     -999.0,9,     -999.0,9,     -999.0,9,     -999.0,9
320620140320,       P16S,      42,          1,         21,         21,2,20140416,       1612,   -47.0001,  -149.9997,       5104,   864.9,   6.0675,  34.3222,2,  34.3228,2,    230.7,2,   230.1,2,   13.88,2,   25.11,2,    0.00,2,    1.72,2,-999.000,9,-999.000,9, -999.00,9,  2158.7,2,  2283.4,2,   7.7525,2,       20,-999.000,9,-999.0000,9, -999.00,9,   6.0647,2, -999.00,9,  -999.0,9, -999.00,9,    40.4,2, -999.00,9,     -999.0,9,     -999.0,9, -999.00,9, 20140416,     1808, -47.0001,-149.9997,    34.4847,2,     -999.0,9,     -999.0,9,     -999.0,9,     -999.0,9,     -999.0,9,     -999.0,9
320620140320,       P16S,      42,          1,         20,         20,2,20140416,       1612,   -47.0001,  -149.9997,       5104,   965.8,   5.5288,  34.3166,2,  34.3181,2,    220.6,2,   219.7,2,   19.16,2,   27.06,2,    0.00,2,    1.85,2,   2.650,2,   1.363,2,    0.93,2,  2170.4,2,    2287,2,   7.7286,2,       20,-999.000,9,-999.0000,9, -999.00,9,   5.5270,2, -999.00,9,  -999.0,9, -999.00,9,    40.7,2, -999.00,9,      19.03,2,     -999.0,9, -999.00,9, 20140416,     1805, -47.0001,-149.9997,    34.4799,2,     -999.0,9,     -999.0,9,     -999.0,9,     -999.0,9,     -999.0,9,     -999.0,9
320620140320,       P16S,      42,          1,         19,         19,2,20140416,       1612,   -47.0001,  -149.9997,       5104,  1064.2,   4.9459,  34.3208,2,  34.3210,2,    211.8,2,   211.5,2,   26.00,2,   28.85,2,    0.00,2,    1.97,2,   2.297,2,   1.156,2,    0.78,2,  2183.4,2,  2292.9,2,   7.7051,2,       20,-999.000,9,-999.0000,9, -999.00,9,   4.9465,2, -999.00,9,  -999.0,9, -999.00,9,    40.8,2, -999.00,9,      19.44,2,     -999.0,9, -999.00,9, 20140416,     1802, -47.0000,-149.9998,    34.4829,2,     -999.0,9,     -999.0,9,     -999.0,9,     -999.0,9,     -999.0,9,     -999.0,9
320620140320,       P16S,      42,          1,         18,         18,2,20140416,       1612,   -47.0001,  -149.9997,       5104,  1163.5,   4.4056,  34.3275,2,  34.3283,2,    205.3,2,   205.2,2,   32.84,2,   30.28,2,    0.00,2,    2.07,2,-999.000,9,-999.000,9, -999.00,9,  2194.9,2,  2297.9,2,   7.6857,2,       20,-999.000,9,-999.0000,9, -999.00,9,   4.4027,2, -999.00,9,  -999.0,9, -999.00,9,    40.6,2, -999.00,9,     -999.0,9,     -999.0,9, -999.00,9, 20140416,     1759, -47.0000,-149.9997,    34.4901,2,     -999.0,9,     -999.0,9,     -999.0,9,     -999.0,9,     -999.0,9,     -999.0,9
320620140320,       P16S,      42,          1,         17,         17,2,20140416,       1612,   -47.0001,  -149.9997,       5104,  1265.9,   3.9348,  34.3461,2,  34.3469,2,    198.9,2,   199.0,2,   39.78,2,   31.44,2,    0.00,2,    2.17,2,   1.665,2,   0.835,2,    0.24,2,  2206.5,2,  2305.2,2,     7.67,2,       20,-999.000,9,-999.0000,9, -999.00,9,   3.9345,2, -999.00,9,  -999.0,9, -999.00,9,    38.6,2, -999.00,9,      21.76,2,     -999.0,9, -999.00,9, 20140416,     1756, -47.0000,-149.9997,    34.5089,2,     -999.0,9,     -999.0,9,     -999.0,9,     -999.0,9,     -999.0,9,     -999.0,9
320620140320,       P16S,      42,          1,         16,         16,2,20140416,       1612,   -47.0001,  -149.9997,       5104,  1363.1,   3.5718,  34.3754,2,  34.3761,2,    192.5,2,   192.3,2,   47.01,2,   32.40,2,    0.00,2,    2.24,2,   1.346,2,   0.673,2,    0.20,2,  2217.4,2,  2310.9,2,   7.6568,2,       20,-999.000,9,-999.0000,9, -999.00,9,   3.5721,2, -999.00,9,  -999.0,9, -999.00,9,    38.6,2, -999.00,9,      22.34,2,     -999.0,9, -999.00,9, 20140416,     1752, -47.0000,-149.9997,    34.5382,2,     -999.0,9,     -999.0,9,     -999.0,9,     -999.0,9,     -999.0,9,     -999.0,9
320620140320,       P16S,      42,          1,         15,         15,2,20140416,       1612,   -47.0001,  -149.9997,       5104,  1563.0,   3.0321,  34.4536,2,  34.4538,2,    179.2,2,   178.6,2,   61.18,2,   33.67,2,    0.00,2,    2.33,2,-999.000,9,-999.000,9, -999.00,9,  2236.9,2,  2324.3,2,   7.6355,2,       20,-999.000,9,-999.0000,9, -999.00,9,   3.0316,2, -999.00,9,  -999.0,9, -999.00,9,    39.7,2, -999.00,9,     -999.0,9,     -999.0,9, -999.00,9, 20140416,     1747, -47.0000,-149.9997,    34.6163,2,     -999.0,9,     -999.0,9,     -999.0,9,     -999.0,9,     -999.0,9,     -999.0,9
320620140320,       P16S,      42,          1,         14,         14,2,20140416,       1612,   -47.0001,  -149.9997,       5104,  1763.3,   2.7510,  34.5446,2,  34.5461,2,    166.2,2,   166.4,2,   77.79,2,   34.07,2,    0.00,2,    2.36,2,   0.265,2,   0.132,2,    0.04,2,  2256.7,2,  2345.1,2,   7.6324,2,       20,-999.000,9,-999.0000,9, -999.00,9,   2.7517,2, -999.00,9,  -999.0,9, -999.00,9,    37.4,2, -999.00,9,      23.31,2,     -999.0,9, -999.00,9, 20140416,     1742, -47.0000,-149.9997,    34.7090,2,     -999.0,9,     -999.0,9,     -999.0,9,     -999.0,9,     -999.0,9,     -999.0,9
320620140320,       P16S,      42,          1,         13,         13,2,20140416,       1612,   -47.0001,  -149.9997,       5104,  1963.1,   2.5553,  34.5940,2,  34.5938,2,    159.7,2,   159.9,2,   90.20,2,   34.23,2,    0.00,2,    2.39,2,   0.075,2,   0.026,2,    0.01,2,    2272,2,  2360.8,2,   7.6336,2,       20,-999.000,9,-999.0000,9, -999.00,9,   2.5546,2, -999.00,9,  -999.0,9, -999.00,9,    37.2,2, -999.00,9,      23.51,2,     -999.0,9, -999.00,9, 20140416,     1737, -47.0000,-149.9997,    34.7569,2,     -999.0,9,     -999.0,9,     -999.0,9,     -999.0,9,     -999.0,9,     -999.0,9
320620140320,       P16S,      42,          1,         12,         12,2,20140416,       1612,   -47.0001,  -149.9997,       5104,  2164.7,   2.3770,  34.6247,2,  34.6252,2,    155.7,2,   156.2,2,  101.33,2,   34.55,2,    0.00,2,    2.39,2,   0.001,2,   0.008,2,    0.00,2,  2283.9,6,  2374.4,2,   7.6354,2,       20,-999.000,9,-999.0000,9, -999.00,9,   2.3760,2, -999.00,9,  -999.0,9, -999.00,9,    37.2,2, -999.00,9,      22.37,2,     -999.0,9, -999.00,9, 20140416,     1732, -47.0000,-149.9997,    34.7885,2,     -999.0,9,     -999.0,9,     -999.0,9,     -999.0,9,     -999.0,9,     -999.0,9
320620140320,       P16S,      42,          1,         11,         11,2,20140416,       1612,   -47.0001,  -149.9997,       5104,  2412.5,   2.2136,  34.6466,2,  34.6462,2,    155.2,2,   155.3,2,  107.68,2,   34.53,2,    0.00,2,    2.40,2,-999.000,9,-999.000,9, -999.00,9,  2290.1,2,  2380.8,2,   7.6371,2,       20,-999.000,9,-999.0000,9, -999.00,9,   2.2133,2, -999.00,9,  -999.0,9, -999.00,9,    37.8,2, -999.00,9,     -999.0,9,     -999.0,9, -999.00,9, 20140416,     1726, -47.0000,-149.9997,    34.8096,2,     -999.0,9,     -999.0,9,     -999.0,9,     -999.0,9,     -999.0,9,     -999.0,9
320620140320,       P16S,      42,          1,         10,         10,2,20140416,       1612,   -47.0001,  -149.9997,       5104,  2665.0,   2.0721,  34.6650,2,  34.6651,2,    157.8,2,   157.8,2,  111.69,2,   34.35,2,    0.00,2,    2.40,2,   0.011,2,   0.002,2,    0.00,2,  2292.3,2,  2384.2,2,   7.6406,2,       20,-999.000,9,-999.0000,9, -999.00,9,   2.0720,2, -999.00,9,  -999.0,9, -999.00,9,      38,2, -999.00,9,      22.57,2,     -999.0,9, -999.00,9, 20140416,     1720, -47.0000,-149.9997,    34.8285,2,     -999.0,9,     -999.0,9,     -999.0,9,     -999.0,9,     -999.0,9,     -999.0,9
320620140320,       P16S,      42,          1,          9,         09,2,20140416,       1612,   -47.0001,  -149.9997,       5104,  2914.3,   1.9945,  34.6922,2,  34.6914,2,    169.4,2,   169.3,2,  105.92,2,   33.19,2,    0.00,2,    2.31,2,   0.017,2,   0.013,2,    0.07,2,  2280.9,2,    2375,2,   7.6512,2,       20,-999.000,9,-999.0000,9, -999.00,9,   1.9941,2, -999.00,9,  -999.0,9, -999.00,9,    39.4,2, -999.00,9,      22.66,2,     -999.0,9, -999.00,9, 20140416,     1715, -47.0001,-149.9997,    34.8550,2,     -999.0,9,     -999.0,9,     -999.0,9,     -999.0,9,     -999.0,9,     -999.0,9
320620140320,       P16S,      42,          1,          8,         08,2,20140416,       1612,   -47.0001,  -149.9997,       5104,  3200.6,   1.8319,  34.7112,2,  34.7116,2,    180.9,2,   179.7,2,  104.75,2,   32.25,2,    0.00,2,    2.24,2,-999.000,9,-999.000,9, -999.00,9,  2271.9,2,  2369.9,2,   7.6618,2,       20,-999.000,9,-999.0000,9, -999.00,9,   1.8315,2, -999.00,9,  -999.0,9, -999.00,9,    41.9,2, -999.00,9,     -999.0,9,     -999.0,9, -999.00,9, 20140416,     1708, -47.0002,-149.9997,    34.8753,2,     -999.0,9,     -999.0,9,     -999.0,9,     -999.0,9,     -999.0,9,     -999.0,9
320620140320,       P16S,      42,          1,          7,         07,2,20140416,       1612,   -47.0001,  -149.9997,       5104,  3499.1,   1.6480,  34.7274,2,  34.7275,2,    192.4,2,   193.0,2,  102.69,2,   31.30,2,    0.00,2,    2.16,2,   0.045,2,   0.019,2,    0.00,2,  2258.5,2,  2361.8,2,   7.6744,2,       20,-999.000,9,-999.0000,9, -999.00,9,   1.6477,2, -999.00,9,  -999.0,9, -999.00,9,    40.8,2, -999.00,9,      19.71,2,     -999.0,9, -999.00,9, 20140416,     1701, -47.0004,-149.9999,    34.8913,2,     -999.0,9,     -999.0,9,     -999.0,9,     -999.0,9,     -999.0,9,     -999.0,9
320620140320,       P16S,      42,          1,          6,         06,2,20140416,       1612,   -47.0001,  -149.9997,       5104,  3800.5,   1.4369,  34.7244,2,  34.7244,2,    197.5,2,   198.0,2,  107.87,2,   31.39,2,    0.00,2,    2.16,2,   0.012,2,   0.012,2,    0.00,2,  2259.8,2,  2362.7,2,   7.6771,2,       20,-999.000,9,-999.0000,9, -999.00,9,   1.4371,2, -999.00,9,  -999.0,9, -999.00,9,    38.1,2, -999.00,9,      19.17,2,     -999.0,9, -999.00,9, 20140416,     1654, -47.0007,-150.0000,    34.8881,2,     -999.0,9,     -999.0,9,     -999.0,9,     -999.0,9,     -999.0,9,     -999.0,9