BOTTLE,20230715CCHSIOCBG
EXPOCODE,SECT_ID,STNNBR,CASTNO,SAMPNO,BTLNBR,BTLNBR_FLAG_W,DATE,TIME,LATITUDE,LONGITUDE,DEPTH,CTDPRS,CTDTMP,CTDSAL,CTDSAL_FLAG_W,SALNTY,SALNTY_FLAG_W,CTDOXY,CTDOXY_FLAG_W,OXYGEN,OXYGEN_FLAG_W,SILCAT,SILCAT_FLAG_W,NITRAT,NITRAT_FLAG_W,NITRIT,NITRIT_FLAG_W,PHSPHT,PHSPHT_FLAG_W,CFC-11,CFC-11_FLAG_W,CFC-12,CFC-12_FLAG_W,SF6,SF6_FLAG_W,TCARBN,TCARBN_FLAG_W,ALKALI,ALKALI_FLAG_W,PH_TOT,PH_TOT_FLAG_W,PH_TMP,TRITUM,TRITUM_FLAG_W,HELIUM,HELIUM_FLAG_W,DELHE3,DELHE3_FLAG_W,REFTMP,REFTMP_FLAG_W,DELC13,DELC13_FLAG_W,DELC14,DELC14_FLAG_W,DELO18,DELO18_FLAG_W,DOC,DOC_FLAG_W,TDN,TDN_FLAG_W,N2O,N2O_FLAG_W,CALCIUM,CALCIUM_FLAG_W,D15N_NO3,D15N_NO3_FLAG_W,BTL_DATE,BTL_TIME,BTL_LAT,BTL_LON,SALTREF,SALTREF_FLAG_W,D18O_NO3,D18O_NO3_FLAG_W,DSI30,DSI30_FLAG_W,CDOM_NASA,CDOM_NASA_FLAG_W,CDOM_UCSB,CDOM_UCSB_FLAG_W,D15N_NO2+NO3,D15N_NO2+NO3_FLAG_W,D18O_NO2+NO3,D18O_NO2+NO3_FLAG_W
,,,,,,,,,,,METERS,DBAR,ITS-90,PSS-78,,PSS-78,,UMOL/KG,,UMOL/KG,,UMOL/KG,,UMOL/KG,,UMOL/KG,,UMOL/KG,,PMOL/KG,,PMOL/KG,,FMOL/KG,,UMOL/KG,,UMOL/KG,,,,DEG C,TU,,NMOL/KG,,PERCNT,,DEG C,,/MILLE,,/MILLE,,/MILLE,,UMOL/KG,,UMOL/KG,,NMOL/KG,,MMOL/KG,,/MILLE,,,,,,G/KG,,/MILLE,,/MILLE,,,,,,/MILLE,,/MILLE,
320620140320,       P16S,      47,          1,         36,         36,2,20140418,       1523,   -43.6663,  -150.0000,     -999.0,     3.9,  14.5478,  34.3350,2,  34.3360,2,    256.5,2,   254.6,2,    0.00,2,    4.42,2,    0.08,2,    0.43,2,   2.755,2,   1.626,2,    1.68,2,  2053.1,2,  2276.2,2,   7.9941,2,       20,-999.000,9,-999.0000,9, -999.00,9,  14.5468,2, -999.00,9,  -999.0,9, -999.00,9,  -999.0,9, -999.00,9,      10.10,2,     -999.0,9, -999.00,9, 20140418,     1753, -43.6663,-149.9999,    34.4979,2,     -999.0,9,     -999.0,9,     -999.0,9,     -999.0,9,     -999.0,9,     -999.0,9
320620140320,       P16S,      47,          1,         35,         35,2,20140418,       1523,   -43.6663,  -150.0000,     -999.0,    33.2,  14.5191,  34.3378,2,  34.3395,2,    256.8,2,   255.0,2,    0.10,2,    4.48,2,    0.08,2,    0.43,2,   2.756,2,   1.615,2,    1.57,2,  2053.9,6,  2276.4,2,   7.9936,2,       20,-999.000,9,-999.0000,9, -999.00,9,  14.5484,3, -999.00,9,  -999.0,9, -999.00,9,  -999.0,9, -999.00,9,      10.02,2,     -999.0,9, -999.00,9, 20140418,     1750, -43.6663,-149.9999,    34.5014,2,     -999.0,9,     -999.0,9,     -999.0,9,     -999.0,9,     -999.0,9,     -999.0,9
320620140320,       P16S,      47,          1,         34,         34,2,20140418,       1523,   -43.6663,  -150.0000,     -999.0,    60.1,  13.1152,  34.4073,2,  34.4109,2,    263.0,2,   261.3,2,    0.20,2,    6.51,2,    0.11,2,    0.57,2,-999.000,9,-999.000,9, -999.00,9,  2070.6,2,  2282.4,2,    7.966,2,       20,-999.000,9,-999.0000,9, -999.00,9,  13.1102,2, -999.00,9,  -999.0,9, -999.00,9,  -999.0,9, -999.00,9,     -999.0,9,     -999.0,9, -999.00,9, 20140418,     1748, -43.6663,-149.9998,    34.5732,2,     -999.0,9,     -999.0,9,     -999.0,9,     -999.0,9,     -999.0,9,     -999.0,9
320620140320,       P16S,      47,          1,         33,         33,2,20140418,       1523,   -43.6663,  -150.0000,     -999.0,    84.5,   9.6903,  34.4700,2,  34.4674,2,    264.6,2,   270.6,2,    1.66,2,   10.16,2,    0.35,2,    0.85,2,   3.599,2,   2.038,2,    1.86,2,  2105.8,2,  2284.2,2,   7.8906,2,       20,-999.000,9,-999.0000,9, -999.00,9,   9.6835,2, -999.00,9,  -999.0,9, -999.00,9,  -999.0,9, -999.00,9,      14.10,2,     -999.0,9, -999.00,9, 20140418,     1747, -43.6663,-149.9999,    34.6299,2,     -999.0,9,     -999.0,9,     -999.0,9,     -999.0,9,     -999.0,9,     -999.0,9
320620140320,       P16S,      47,          1,         32,         32,2,20140418,       1523,   -43.6663,  -150.0000,     -999.0,   114.3,   9.0562,  34.4990,2,  34.4998,2,    259.0,2,   258.2,2,    2.44,2,   13.27,2,    0.03,2,    0.95,2,   3.704,2,   2.063,2,    1.90,2,  2117.9,2,  2282.8,2,   7.8558,2,       20,-999.000,9,-999.0000,9, -999.00,9,   9.0566,2, -999.00,9,  -999.0,9, -999.00,9,  -999.0,9, -999.00,9,      13.95,2,     -999.0,9, -999.00,9, 20140418,     1745, -43.6663,-149.9998,    34.6625,2,     -999.0,9,     -999.0,9,     -999.0,9,     -999.0,9,     -999.0,9,     -999.0,9
320620140320,       P16S,      47,          1,         31,         31,2,20140418,       1523,   -43.6663,  -150.0000,     -999.0,   166.9,   8.7843,  34.5379,2,  34.5379,2,    251.5,2,   247.7,2,    3.12,2,   15.33,2,    0.02,2,    1.08,2,   3.670,2,   2.050,2,    1.55,2,  2128.7,2,  2283.8,2,   7.8347,2,       20,-999.000,9,-999.0000,9, -999.00,9,   8.7821,2, -999.00,9,  -999.0,9, -999.00,9,  -999.0,9, -999.00,9,      17.31,2,     -999.0,9, -999.00,9, 20140418,     1743, -43.6664,-149.9998,    34.7007,2,     -999.0,9,     -999.0,9,     -999.0,9,     -999.0,9,     -999.0,9,     -999.0,9
320620140320,       P16S,      47,          1,         30,         30,2,20140418,       1523,   -43.6663,  -150.0000,     -999.0,   215.4,   8.4625,  34.5151,2,  34.5153,2,    245.3,2,   243.7,2,    4.00,2,   17.08,2,    0.01,2,    1.19,2,-999.000,9,-999.000,9, -999.00,9,  2133.9,2,  2283.2,2,   7.8195,2,       20,-999.000,9,-999.0000,9, -999.00,9,   8.4615,2, -999.00,9,  -999.0,9, -999.00,9,  -999.0,9, -999.00,9,     -999.0,9,     -999.0,9, -999.00,9, 20140418,     1740, -43.6663,-149.9999,    34.6780,2,     -999.0,9,     -999.0,9,     -999.0,9,     -999.0,9,     -999.0,9,     -999.0,9
320620140320,       P16S,      47,          1,         29,         29,2,20140418,       1523,   -43.6663,  -150.0000,     -999.0,   263.9,   8.1696,  34.4873,2,  34.4885,2,    247.2,2,   247.3,2,    4.49,2,   17.87,2,    0.02,2,    1.23,2,   3.689,6,   2.055,6,    1.87,6,  2135.7,2,    2283,2,   7.8161,2,       20,-999.000,9,-999.0000,9, -999.00,9,   8.1695,2, -999.00,9,  -999.0,9, -999.00,9,  -999.0,9, -999.00,9,      16.82,6,     -999.0,9, -999.00,9, 20140418,     1739, -43.6663,-149.9999,    34.6511,2,     -999.0,9,     -999.0,9,     -999.0,9,     -999.0,9,     -999.0,9,     -999.0,9
320620140320,       P16S,      47,          1,         28,         28,2,20140418,       1523,   -43.6663,  -150.0000,     -999.0,   316.4,   7.9332,  34.4630,2,  34.4610,2,    247.9,2,   247.6,2,    4.88,2,   18.70,2,    0.01,2,    1.27,2,   3.796,2,   2.106,2,    1.82,2,    2137,2,  2281.8,2,   7.8108,2,       20,-999.000,9,-999.0000,9, -999.00,9,   7.9306,2, -999.00,9,  -999.0,9, -999.00,9,  -999.0,9, -999.00,9,      17.30,2,     -999.0,9, -999.00,9, 20140418,     1736, -43.6663,-149.9999,    34.6235,2,     -999.0,9,     -999.0,9,     -999.0,9,     -999.0,9,     -999.0,9,     -999.0,9
320620140320,       P16S,      47,          1,         27,         27,2,20140418,       1523,   -43.6663,  -150.0000,     -999.0,   362.9,   7.7042,  34.4374,2,  34.4372,2,    250.3,2,   249.8,2,    5.18,2,   19.27,2,    0.01,2,    1.32,2,   3.860,2,   2.015,2,    1.39,2,  2138.7,2,  2282.2,2,   7.8074,2,       20,-999.000,9,-999.0000,9, -999.00,9,   7.7083,2, -999.00,9,  -999.0,9, -999.00,9,  -999.0,9, -999.00,9,      15.79,2,     -999.0,9, -999.00,9, 20140418,     1734, -43.6663,-149.9999,    34.5996,2,     -999.0,9,     -999.0,9,     -999.0,9,     -999.0,9,     -999.0,9,     -999.0,9
320620140320,       P16S,      47,          1,         26,         26,2,20140418,       1523,   -43.6663,  -150.0000,     -999.0,   434.7,   7.4774,  34.4177,2,  34.4170,2,    248.9,2,   247.2,2,    6.15,2,   20.28,2,    0.01,2,    1.38,2,-999.000,9,-999.000,9, -999.00,9,  2140.2,2,  2281.2,2,   7.8001,2,       20,-999.000,9,-999.0000,9, -999.00,9,   7.4776,2, -999.00,9,  -999.0,9, -999.00,9,  -999.0,9, -999.00,9,     -999.0,9,     -999.0,9, -999.00,9, 20140418,     1731, -43.6663,-149.9999,    34.5793,2,     -999.0,9,     -999.0,9,     -999.0,9,     -999.0,9,     -999.0,9,     -999.0,9
320620140320,       P16S,      47,          1,         25,         25,2,20140418,       1523,   -43.6663,  -150.0000,     -999.0,   533.6,   7.2189,  34.3978,2,  34.3991,2,    244.1,2,   243.9,2,    7.13,2,   21.30,2,    0.01,2,    1.46,2,   3.681,2,   2.002,2,    0.98,2,  2143.3,2,  2281.2,2,   7.7925,2,       20,-999.000,9,-999.0000,9, -999.00,9,   7.2205,2, -999.00,9,  -999.0,9, -999.00,9,  -999.0,9, -999.00,9,      16.82,2,     -999.0,9, -999.00,9, 20140418,     1728, -43.6663,-149.9999,    34.5613,2,     -999.0,9,     -999.0,9,     -999.0,9,     -999.0,9,     -999.0,9,     -999.0,9
320620140320,       P16S,      47,          1,         24,         24,2,20140418,       1523,   -43.6663,  -150.0000,     -999.0,   634.4,   6.8711,  34.3668,2,  34.3677,2,    243.9,2,   243.8,2,    8.69,2,   22.31,2,    0.01,2,    1.52,2,   3.690,2,   1.898,2,    0.80,2,  2148.2,2,  2282.2,6,   7.7855,2,       20,-999.000,9,-999.0000,9, -999.00,9,   6.8730,2, -999.00,9,  -999.0,9, -999.00,9,  -999.0,9, -999.00,9,      16.34,2,     -999.0,9, -999.00,9, 20140418,     1725, -43.6663,-149.9999,    34.5298,2,     -999.0,9,     -999.0,9,     -999.0,9,     -999.0,9,     -999.0,9,     -999.0,9
320620140320,       P16S,      47,          1,         23,         23,2,20140418,       1523,   -43.6663,  -150.0000,     -999.0,   735.4,   6.4552,  34.3413,2,  34.3422,2,    236.5,2,   236.0,2,   11.23,2,   24.08,2,    0.01,2,    1.64,2,   3.312,2,   1.704,2,    0.65,2,  2153.8,6,  2282.8,2,   7.7675,2,       20,-999.000,9,-999.0000,9, -999.00,9,   6.4565,2, -999.00,9,  -999.0,9, -999.00,9,  -999.0,9, -999.00,9,      16.97,2,     -999.0,9, -999.00,9, 20140418,     1722, -43.6663,-149.9999,    34.5041,2,     -999.0,9,     -999.0,9,     -999.0,9,     -999.0,9,     -999.0,9,     -999.0,9
320620140320,       P16S,      47,          1,         22,         22,2,20140418,       1523,   -43.6663,  -150.0000,     -999.0,   837.8,   5.9963,  34.3254,2,  34.3265,2,    226.6,2,   226.0,2,   14.94,2,   25.81,2,    0.01,2,    1.74,2,   2.953,2,   1.492,2,    0.52,2,  2164.7,2,  2285.2,2,   7.7468,6,       20,-999.000,9,-999.0000,9, -999.00,9,   5.9989,2, -999.00,9,  -999.0,9, -999.00,9,  -999.0,9, -999.00,9,      18.69,2,     -999.0,9, -999.00,9, 20140418,     1718, -43.6663,-149.9999,    34.4883,2,     -999.0,9,     -999.0,9,     -999.0,9,     -999.0,9,     -999.0,9,     -999.0,9
320620140320,       P16S,      47,          1,         21,         21,2,20140418,       1523,   -43.6663,  -150.0000,     -999.0,   936.3,   5.4780,  34.3198,2,  34.3198,2,    217.2,2,   217.4,2,   20.22,2,   27.62,2,    0.01,2,    1.88,2,   2.549,2,   1.313,2,    0.47,2,    2177,2,    2288,2,   7.7242,2,       20,-999.000,9,-999.0000,9, -999.00,9,   5.4920,3, -999.00,9,  -999.0,9, -999.00,9,  -999.0,9, -999.00,9,      19.76,2,     -999.0,9, -999.00,9, 20140418,     1715, -43.6663,-149.9999,    34.4816,2,     -999.0,9,     -999.0,9,     -999.0,9,     -999.0,9,     -999.0,9,     -999.0,9
320620140320,       P16S,      47,          1,         20,         20,2,20140418,       1523,   -43.6663,  -150.0000,     -999.0,  1034.8,   4.9275,  34.3200,2,  34.3207,2,    210.0,2,   209.6,2,   26.37,2,   29.38,2,    0.01,2,    2.00,2,   2.269,2,   1.145,2,    0.24,2,    2188,2,  2293.2,2,   7.7015,2,       20,-999.000,9,-999.0000,9, -999.00,9,   4.9273,2, -999.00,9,  -999.0,9, -999.00,9,  -999.0,9, -999.00,9,      20.14,2,     -999.0,9, -999.00,9, 20140418,     1712, -43.6663,-149.9999,    34.4826,2,     -999.0,9,     -999.0,9,     -999.0,9,     -999.0,9,     -999.0,9,     -999.0,9
320620140320,       P16S,      47,          1,         19,         19,2,20140418,       1523,   -43.6663,  -150.0000,     -999.0,  1134.5,   4.3427,  34.3296,2,  34.3309,2,    203.3,2,   203.3,2,   33.69,2,   30.90,2,    0.01,2,    2.11,2,   1.871,2,   0.973,2,    0.45,2,  2200.6,2,  2300.1,2,    7.682,2,       20,-999.000,9,-999.0000,9, -999.00,9,   4.3432,2, -999.00,9,  -999.0,9, -999.00,9,  -999.0,9, -999.00,9,      21.93,2,     -999.0,9, -999.00,9, 20140418,     1709, -43.6663,-149.9999,    34.4928,2,     -999.0,9,     -999.0,9,     -999.0,9,     -999.0,9,     -999.0,9,     -999.0,9
320620140320,       P16S,      47,          1,         18,         18,2,20140418,       1523,   -43.6663,  -150.0000,     -999.0,  1232.0,   3.8083,  34.3566,2,  34.3572,2,    196.1,2,   195.6,2,   42.28,2,   32.22,2,    0.01,2,    2.20,2,-999.000,9,-999.000,9, -999.00,9,  2212.9,2,  2307.3,2,   7.6637,2,       20,-999.000,9,-999.0000,9, -999.00,9,   3.8059,2, -999.00,9,  -999.0,9, -999.00,9,  -999.0,9, -999.00,9,     -999.0,9,     -999.0,9, -999.00,9, 20140418,     1706, -43.6663,-149.9999,    34.5192,2,     -999.0,9,     -999.0,9,     -999.0,9,     -999.0,9,     -999.0,9,     -999.0,9
320620140320,       P16S,      47,          1,         17,         17,2,20140418,       1523,   -43.6663,  -150.0000,     -999.0,  1334.6,   3.4497,  34.3910,2,  34.3915,2,    189.5,2,   188.0,2,   50.29,2,   33.13,2,    0.01,2,    2.27,2,   1.078,2,   0.555,2,    0.22,2,  2224.8,2,  2314.1,2,    7.651,2,       20,-999.000,9,-999.0000,9, -999.00,9,   3.4499,2, -999.00,9,  -999.0,9, -999.00,9,  -999.0,9, -999.00,9,      21.77,2,     -999.0,9, -999.00,9, 20140418,     1702, -43.6663,-149.9999,    34.5537,2,     -999.0,9,     -999.0,9,     -999.0,9,     -999.0,9,     -999.0,9,     -999.0,9
320620140320,       P16S,      47,          1,         16,         16,2,20140418,       1523,   -43.6663,  -150.0000,     -999.0,  1464.1,   3.1156,  34.4459,2,  34.4457,2,    179.2,2,   178.7,2,   60.15,2,   33.88,2,    0.01,2,    2.33,2,   0.674,2,   0.356,2,    0.10,2,  2237.8,2,  2324.5,2,   7.6386,2,       20,-999.000,9,-999.0000,9, -999.00,9,   3.1166,2, -999.00,9,  -999.0,9, -999.00,9,  -999.0,9, -999.00,9,      23.46,2,     -999.0,9, -999.00,9, 20140418,     1659, -43.6663,-149.9999,    34.6081,2,     -999.0,9,     -999.0,9,     -999.0,9,     -999.0,9,     -999.0,9,     -999.0,9
320620140320,       P16S,      47,          1,         15,         15,2,20140418,       1523,   -43.6663,  -150.0000,     -999.0,  1666.2,   2.8003,  34.5250,2,  34.5248,2,    168.1,2,   168.0,2,   73.82,2,   34.34,2,    0.00,2,    2.36,2,   0.280,2,   0.121,2,    0.04,2,  2257.4,2,  2340.7,2,   7.6313,2,       20,-999.000,9,-999.0000,9, -999.00,9,   2.8008,2, -999.00,9,  -999.0,9, -999.00,9,  -999.0,9, -999.00,9,      23.71,2,     -999.0,9, -999.00,9, 20140418,     1654, -43.6663,-149.9999,    34.6876,2,     -999.0,9,     -999.0,9,     -999.0,9,     -999.0,9,     -999.0,9,     -999.0,9
320620140320,       P16S,      47,          1,         14,         14,2,20140418,       1523,   -43.6663,  -150.0000,     -999.0,  1862.1,   2.5719,  34.5851,2,  34.5851,2,    162.0,2,   161.2,2,   86.90,2,   34.53,2,    0.00,2,    2.40,2,   0.099,2,   0.034,2,    0.04,2,  2270.9,2,  2356.5,2,   7.6305,2,       20,-999.000,9,-999.0000,9, -999.00,9,   2.5720,2, -999.00,9,  -999.0,9, -999.00,9,  -999.0,9, -999.00,9,      23.69,2,     -999.0,9, -999.00,9, 20140418,     1649, -43.6663,-149.9999,    34.7481,2,     -999.0,9,     -999.0,9,     -999.0,9,     -999.0,9,     -999.0,9,     -999.0,9
320620140320,       P16S,      47,          1,         13,         13,2,20140418,       1523,   -43.6663,  -150.0000,     -999.0,  2086.7,   2.3718,  34.6256,2,  34.6265,2,    157.5,2,   157.4,2,   98.51,2,   34.74,2,    0.00,2,    2.41,2,   0.045,2,   0.010,2,    0.01,2,  2284.5,6,  2369.9,2,   7.6341,2,       20,-999.000,9,-999.0000,9, -999.00,9,   2.3721,2, -999.00,9,  -999.0,9, -999.00,9,  -999.0,9, -999.00,9,      24.38,2,     -999.0,9, -999.00,9, 20140418,     1644, -43.6664,-149.9999,    34.7897,2,     -999.0,9,     -999.0,9,     -999.0,9,     -999.0,9,     -999.0,9,     -999.0,9
320620140320,       P16S,      47,          1,         12,         12,2,20140418,       1523,   -43.6663,  -150.0000,     -999.0,  2338.4,   2.1669,  34.6485,2,  34.6491,2,    154.7,2,   154.2,2,  110.23,2,   35.03,2,    0.00,2,    2.41,2,   0.015,2,   0.002,2,    0.00,2,  2296.6,2,  2383.9,2,   7.6348,2,       20,-999.000,9,-999.0000,9, -999.00,9,   2.1667,2, -999.00,9,  -999.0,9, -999.00,9,  -999.0,9, -999.00,9,      24.52,2,     -999.0,9, -999.00,9, 20140418,     1637, -43.6664,-149.9999,    34.8124,2,     -999.0,9,     -999.0,9,     -999.0,9,     -999.0,9,     -999.0,9,     -999.0,9
320620140320,       P16S,      47,          1,         11,         11,2,20140418,       1523,   -43.6663,  -150.0000,     -999.0,  2583.2,   2.0235,  34.6620,2,  34.6622,2,    155.1,2,   154.3,2,  116.28,2,   35.17,2,    0.00,2,    2.43,2,   0.010,2,   0.001,2,    0.00,2,  2300.6,2,  2390.3,2,   7.6369,2,       20,-999.000,9,-999.0000,9, -999.00,9,   2.0236,2, -999.00,9,  -999.0,9, -999.00,9,  -999.0,9, -999.00,9,      23.96,2,     -999.0,9, -999.00,9, 20140418,     1631, -43.6663,-149.9999,    34.8256,2,     -999.0,9,     -999.0,9,     -999.0,9,     -999.0,9,     -999.0,9,     -999.0,9
320620140320,       P16S,      47,          1,         10,         10,2,20140418,       1523,   -43.6663,  -150.0000,     -999.0,  2831.8,   1.9107,  34.6764,2,  34.6765,2,    159.5,2,   159.1,2,  117.65,2,   34.70,2,    0.00,2,    2.39,2,-999.000,9,-999.000,9, -999.00,9,  2299.6,2,  2388.7,2,   7.6417,2,       20,-999.000,9,-999.0000,9, -999.00,9,   1.9105,2, -999.00,9,  -999.0,9, -999.00,9,  -999.0,9, -999.00,9,     -999.0,9,     -999.0,9, -999.00,9, 20140418,     1625, -43.6663,-149.9999,    34.8400,2,     -999.0,9,     -999.0,9,     -999.0,9,     -999.0,9,     -999.0,9,     -999.0,9
320620140320,       P16S,      47,          1,          9,         09,2,20140418,       1523,   -43.6663,  -150.0000,     -999.0,  3104.3,   1.7826,  34.6910,2,  34.6914,2,    166.8,2,   166.9,2,  116.86,2,   34.05,2,    0.00,2,    2.35,2,   0.007,2,   0.001,2,    0.00,2,  2292.4,2,  2385.9,2,   7.6499,2,       20,-999.000,9,-999.0000,9, -999.00,9,   1.7830,2, -999.00,9,  -999.0,9, -999.00,9,  -999.0,9, -999.00,9,      22.36,2,     -999.0,9, -999.00,9, 20140418,     1619, -43.6664,-149.9999,    34.8550,2,     -999.0,9,     -999.0,9,     -999.0,9,     -999.0,9,     -999.0,9,     -999.0,9
320620140320,       P16S,      47,          1,          8,         08,2,20140418,       1523,   -43.6663,  -150.0000,     -999.0,  3397.7,   1.6546,  34.7070,2,  34.7077,2,    179.4,2,   180.0,2,  112.37,2,   33.00,2,    0.00,2,    2.27,2,   0.007,2,   0.001,2,    0.00,2,  2280.2,2,  2376.2,2,   7.6609,2,       20,-999.000,9,-999.0000,9, -999.00,9,   1.6552,2, -999.00,9,  -999.0,9, -999.00,9,  -999.0,9, -999.00,9,      21.98,2,     -999.0,9, -999.00,9, 20140418,     1613, -43.6663,-149.9999,    34.8714,2,     -999.0,9,     -999.0,9,     -999.0,9,     -999.0,9,     -999.0,9,     -999.0,9
320620140320,       P16S,      47,          1,          7,         07,2,20140418,       1523,   -43.6663,  -150.0000,     -999.0,  3698.1,   1.5040,  34.7149,2,  34.7150,2,    189.7,2,   189.5,2,  111.69,2,   32.46,2,    0.00,2,    2.24,2,   0.007,2,   0.000,2,    0.00,2,  2270.5,2,  2370.4,2,    7.669,2,       20,-999.000,9,-999.0000,9, -999.00,9,   1.5048,2, -999.00,9,  -999.0,9, -999.00,9,  -999.0,9, -999.00,9,      20.58,2,     -999.0,9, -999.00,9, 20140418,     1606, -43.6663,-149.9999,    34.8787,2,     -999.0,9,     -999.0,9,     -999.0,9,     -999.0,9,     -999.0,9,     -999.0,9
320620140320,       P16S,      47,          1,          6,         06,2,20140418,       1523,   -43.6663,  -150.0000,     -999.0,  4000.2,   1.3254,  34.7160,2,  34.7157,2,    196.9,2,   196.5,2,  113.54,2,   32.15,2,    0.00,2,    2.20,2,   0.005,2,   0.000,2,    0.00,2,    2267,2,  2368.7,2,   7.6758,2,       20,-999.000,9,-999.0000,9, -999.00,9,   1.3254,2, -999.00,9,  -999.0,9, -999.00,9,  -999.0,9, -999.00,9,      20.57,2,     -999.0,9, -999.00,9, 20140418,     1600, -43.6663,-149.9999,    34.8794,2,     -999.0,9,     -999.0,9,     -999.0,9,     -999.0,9,     -999.0,9,     -999.0,9