BOTTLE,20230715CCHSIOCBG
EXPOCODE,SECT_ID,STNNBR,CASTNO,SAMPNO,BTLNBR,BTLNBR_FLAG_W,DATE,TIME,LATITUDE,LONGITUDE,DEPTH,CTDPRS,CTDTMP,CTDSAL,CTDSAL_FLAG_W,SALNTY,SALNTY_FLAG_W,CTDOXY,CTDOXY_FLAG_W,OXYGEN,OXYGEN_FLAG_W,SILCAT,SILCAT_FLAG_W,NITRAT,NITRAT_FLAG_W,NITRIT,NITRIT_FLAG_W,PHSPHT,PHSPHT_FLAG_W,CFC-11,CFC-11_FLAG_W,CFC-12,CFC-12_FLAG_W,SF6,SF6_FLAG_W,TCARBN,TCARBN_FLAG_W,ALKALI,ALKALI_FLAG_W,PH_TOT,PH_TOT_FLAG_W,PH_TMP,TRITUM,TRITUM_FLAG_W,HELIUM,HELIUM_FLAG_W,DELHE3,DELHE3_FLAG_W,REFTMP,REFTMP_FLAG_W,DELC13,DELC13_FLAG_W,DELC14,DELC14_FLAG_W,DELO18,DELO18_FLAG_W,DOC,DOC_FLAG_W,TDN,TDN_FLAG_W,N2O,N2O_FLAG_W,CALCIUM,CALCIUM_FLAG_W,D15N_NO3,D15N_NO3_FLAG_W,BTL_DATE,BTL_TIME,BTL_LAT,BTL_LON,SALTREF,SALTREF_FLAG_W,D18O_NO3,D18O_NO3_FLAG_W,DSI30,DSI30_FLAG_W,CDOM_NASA,CDOM_NASA_FLAG_W,CDOM_UCSB,CDOM_UCSB_FLAG_W,D15N_NO2+NO3,D15N_NO2+NO3_FLAG_W,D18O_NO2+NO3,D18O_NO2+NO3_FLAG_W
,,,,,,,,,,,METERS,DBAR,ITS-90,PSS-78,,PSS-78,,UMOL/KG,,UMOL/KG,,UMOL/KG,,UMOL/KG,,UMOL/KG,,UMOL/KG,,PMOL/KG,,PMOL/KG,,FMOL/KG,,UMOL/KG,,UMOL/KG,,,,DEG C,TU,,NMOL/KG,,PERCNT,,DEG C,,/MILLE,,/MILLE,,/MILLE,,UMOL/KG,,UMOL/KG,,NMOL/KG,,MMOL/KG,,/MILLE,,,,,,G/KG,,/MILLE,,/MILLE,,,,,,/MILLE,,/MILLE,
320620140320,       P16S,      26,          1,          5,         05,2,20140410,       0925,   -55.5002,  -150.0000,       3680,  2798.1,   1.1027,  34.7187,2,  34.7182,2,    202.8,2,   203.1,2,  113.00,2,   31.71,2,    0.00,2,    2.17,2,   0.162,2,   0.069,2,    0.02,2,  2258.4,2,  2360.3,2,   7.6715,2,       20,-999.000,9,-999.0000,9, -999.00,9,   1.1025,2, -999.00,9,  -999.0,9, -999.00,9,  -999.0,9, -999.00,9,      19.66,2,     -999.0,9, -999.00,9, 20140410,      946, -55.5000,-150.0000,    34.8819,2,     -999.0,9,     -999.0,9,     -999.0,9,     -999.0,9,     -999.0,9,     -999.0,9
320620140320,       P16S,      26,          1,          4,         04,2,20140410,       0925,   -55.5002,  -150.0000,       3680,  3099.0,   0.9339,  34.7115,2,  34.7119,2,    205.1,2,   204.7,2,  120.92,2,   32.09,2,    0.00,2,    2.20,2,-999.000,9,-999.000,9, -999.00,9,  -999.0,9,  -999.0,9,-999.0000,9,  -999.00,-999.000,9,-999.0000,9, -999.00,9,   0.9340,2, -999.00,9,  -999.0,9, -999.00,9,  -999.0,9, -999.00,9,     -999.0,9,     -999.0,9, -999.00,9, 20140410,      940, -55.5001,-150.0000,    34.8756,2,     -999.0,9,     -999.0,9,     -999.0,9,     -999.0,9,     -999.0,9,     -999.0,9
320620140320,       P16S,      26,          1,          3,         03,2,20140410,       0925,   -55.5002,  -150.0000,       3680,  3401.9,   0.8546,  34.7074,2,  34.7073,2,    205.8,2,   205.6,2,  126.78,2,   32.16,2,    0.00,2,    2.22,2,   0.175,2,   0.082,2,    0.07,2,  2262.7,2,  2362.4,6,   7.6662,2,       20,-999.000,9,-999.0000,9, -999.00,9,   0.8547,2, -999.00,9,  -999.0,9, -999.00,9,  -999.0,9, -999.00,9,      19.79,2,     -999.0,9, -999.00,9, 20140410,      934, -55.5000,-150.0000,    34.8710,2,     -999.0,9,     -999.0,9,     -999.0,9,     -999.0,9,     -999.0,9,     -999.0,9
320620140320,       P16S,      26,          1,          2,         02,2,20140410,       0925,   -55.5002,  -150.0000,       3680,  3560.4,   0.8608,  34.7073,2,  34.7072,2,    205.8,2,   205.7,2,  127.56,2,   32.26,2,    0.00,2,    2.22,2,-999.000,9,-999.000,9, -999.00,9,    2262,2,    2363,2,   7.6671,6,       20,-999.000,9,-999.0000,9, -999.00,9,   0.8610,2, -999.00,9,  -999.0,9, -999.00,9,  -999.0,9, -999.00,9,     -999.0,9,     -999.0,9, -999.00,9, 20140410,      930, -55.5000,-150.0000,    34.8708,2,     -999.0,9,     -999.0,9,     -999.0,9,     -999.0,9,     -999.0,9,     -999.0,9
320620140320,       P16S,      26,          1,          1,         01,2,20140410,       0925,   -55.5002,  -150.0000,       3680,  3744.2,   0.8758,  34.7072,2,  34.7070,2,    205.6,2,   205.7,2,  127.56,2,   32.19,2,    0.00,2,    2.23,2,   0.137,2,   0.085,2,    0.13,2,  2262.7,6,    2363,2,   7.6669,2,       20,-999.000,9,-999.0000,9, -999.00,9,   0.8757,2, -999.00,9,  -999.0,9, -999.00,9,  -999.0,9, -999.00,9,      19.39,2,     -999.0,9, -999.00,9, 20140410,      925, -55.5002,-150.0000,    34.8706,2,     -999.0,9,     -999.0,9,     -999.0,9,     -999.0,9,     -999.0,9,     -999.0,9