BOTTLE,20230715CCHSIOCBG
EXPOCODE,SECT_ID,STNNBR,CASTNO,SAMPNO,BTLNBR,BTLNBR_FLAG_W,DATE,TIME,LATITUDE,LONGITUDE,DEPTH,CTDPRS,CTDTMP,CTDSAL,CTDSAL_FLAG_W,SALNTY,SALNTY_FLAG_W,CTDOXY,CTDOXY_FLAG_W,OXYGEN,OXYGEN_FLAG_W,SILCAT,SILCAT_FLAG_W,NITRAT,NITRAT_FLAG_W,NITRIT,NITRIT_FLAG_W,PHSPHT,PHSPHT_FLAG_W,CFC-11,CFC-11_FLAG_W,CFC-12,CFC-12_FLAG_W,SF6,SF6_FLAG_W,TCARBN,TCARBN_FLAG_W,ALKALI,ALKALI_FLAG_W,PH_TOT,PH_TOT_FLAG_W,PH_TMP,TRITUM,TRITUM_FLAG_W,HELIUM,HELIUM_FLAG_W,DELHE3,DELHE3_FLAG_W,REFTMP,REFTMP_FLAG_W,DELC13,DELC13_FLAG_W,DELC14,DELC14_FLAG_W,DELO18,DELO18_FLAG_W,DOC,DOC_FLAG_W,TDN,TDN_FLAG_W,N2O,N2O_FLAG_W,CALCIUM,CALCIUM_FLAG_W,D15N_NO3,D15N_NO3_FLAG_W,BTL_DATE,BTL_TIME,BTL_LAT,BTL_LON,SALTREF,SALTREF_FLAG_W,D18O_NO3,D18O_NO3_FLAG_W,DSI30,DSI30_FLAG_W,CDOM_NASA,CDOM_NASA_FLAG_W,CDOM_UCSB,CDOM_UCSB_FLAG_W,D15N_NO2+NO3,D15N_NO2+NO3_FLAG_W,D18O_NO2+NO3,D18O_NO2+NO3_FLAG_W
,,,,,,,,,,,METERS,DBAR,ITS-90,PSS-78,,PSS-78,,UMOL/KG,,UMOL/KG,,UMOL/KG,,UMOL/KG,,UMOL/KG,,UMOL/KG,,PMOL/KG,,PMOL/KG,,FMOL/KG,,UMOL/KG,,UMOL/KG,,,,DEG C,TU,,NMOL/KG,,PERCNT,,DEG C,,/MILLE,,/MILLE,,/MILLE,,UMOL/KG,,UMOL/KG,,NMOL/KG,,MMOL/KG,,/MILLE,,,,,,G/KG,,/MILLE,,/MILLE,,,,,,/MILLE,,/MILLE,
320620140320,       P16S,      46,          1,         36,         36,2,20140418,       0659,   -44.3332,  -150.0003,       4863,     5.6,  13.7081,  34.3440,2,  34.3446,2,    259.4,2,   259.9,2,    0.00,2,    6.04,2,    0.09,2,    0.54,2,   2.713,2,   1.646,2,    2.30,2,  2060.7,6,    2278,2,   7.9815,2,       20,-999.000,9,-999.0000,9, -999.00,9,  13.7079,2, -999.00,9,  -999.0,9, -999.00,9,    53.4,2,    8.23,2,       9.70,2,     -999.0,9, -999.00,1, 20140418,      909, -44.3332,-150.0006,    34.5066,2,     -999.0,1,     -999.0,9,     -999.0,9,     -999.0,9,     -999.0,1,     -999.0,1
320620140320,       P16S,      46,          1,         35,         35,2,20140418,       0659,   -44.3332,  -150.0003,       4863,    23.6,  13.7131,  34.3438,2,  34.3450,2,    260.5,2,   260.0,2,    0.00,2,    6.03,2,    0.09,2,    0.55,2,   2.765,2,   1.644,2,    1.70,2,  2062.4,2,  2277.4,2,   7.9806,2,       20,-999.000,9,-999.0000,9, -999.00,9,  13.7143,2, -999.00,9,  -999.0,9, -999.00,9,    54.5,2,    8.23,2,       9.85,2,     -999.0,9, -999.00,1, 20140418,      907, -44.3332,-150.0004,    34.5070,2,     -999.0,1,     -999.0,9,     -999.0,9,     -999.0,9,     -999.0,1,     -999.0,1
320620140320,       P16S,      46,          1,         34,         34,2,20140418,       0659,   -44.3332,  -150.0003,       4863,    49.6,  13.7152,  34.3438,2,  34.3446,2,    260.7,2,   260.5,2,    0.00,2,    6.03,2,    0.09,2,    0.56,2,   2.710,2,   1.672,2,    1.98,2,  2061.3,2,  2277.2,2,   7.9803,2,       20,-999.000,9,-999.0000,9, -999.00,9,  13.7122,2, -999.00,9,  -999.0,9, -999.00,9,    53.1,2,    8.98,2,       9.97,2,     -999.0,9, -999.00,1, 20140418,      905, -44.3332,-150.0005,    34.5066,2,     -999.0,1,     -999.0,9,     -999.0,9,     -999.0,9,     -999.0,1,     -999.0,1
320620140320,       P16S,      46,          1,         33,         33,2,20140418,       0659,   -44.3332,  -150.0003,       4863,    75.0,  11.4079,  34.4260,2,  34.4271,2,    271.4,2,   273.0,2,    0.39,2,    8.31,2,    0.14,2,    0.74,2,   3.142,2,   1.856,2,    1.75,2,  2086.1,2,  2281.8,2,   7.9341,2,       20,-999.000,9,-999.0000,9, -999.00,9,  11.4157,2, -999.00,9,  -999.0,9, -999.00,9,    51.4,2,   10.64,2,      10.91,2,     -999.0,9, -999.00,1, 20140418,      904, -44.3332,-150.0006,    34.5894,2,     -999.0,1,     -999.0,9,     -999.0,9,     -999.0,9,     -999.0,1,     -999.0,1
320620140320,       P16S,      46,          1,         32,         32,2,20140418,       0659,   -44.3332,  -150.0003,       4863,    98.6,   9.1905,  34.4570,2,  34.4569,2,    270.2,2,   273.8,2,    1.46,2,   10.74,2,    0.47,2,    0.92,2,   3.558,2,   2.049,2,    2.24,2,  2108.6,2,  2281.6,2,   7.8808,2,       20,-999.000,9,-999.0000,9, -999.00,9,   9.1613,3, -999.00,9,  -999.0,9, -999.00,9,    48.7,2,   15.17,2,      12.91,2,     -999.0,9, -999.00,1, 20140418,      902, -44.3332,-150.0007,    34.6194,2,     -999.0,1,     -999.0,1,     -999.0,9,     -999.0,9,     -999.0,1,     -999.0,1
320620140320,       P16S,      46,          1,         31,         31,2,20140418,       0659,   -44.3332,  -150.0003,       4863,   152.4,   8.5649,  34.4885,2,  34.4883,2,    262.6,2,   268.7,2,    1.86,2,   13.59,2,    0.02,2,    1.00,2,   3.614,2,   2.087,2,    2.11,2,  2118.2,2,  2281.4,2,   7.8588,2,       20,-999.000,9,-999.0000,9, -999.00,9,   8.5646,2, -999.00,9,  -999.0,9, -999.00,9,      45,2,   15.28,2,      12.59,2,     -999.0,9, -999.00,1, 20140418,      900, -44.3332,-150.0009,    34.6509,2,     -999.0,1,     -999.0,1,     -999.0,9,     -999.0,9,     -999.0,1,     -999.0,1
320620140320,       P16S,      46,          1,         30,         30,2,20140418,       0659,   -44.3332,  -150.0003,       4863,   200.9,   8.4186,  34.5001,2,  34.4993,2,    266.8,2,   265.9,2,    2.54,2,   14.58,2,    0.02,2,    1.05,2,-999.000,9,-999.000,9, -999.00,9,  2122.5,2,  2281.4,2,   7.8492,2,       20,-999.000,9,-999.0000,9, -999.00,9,   8.4144,2, -999.00,9,  -999.0,9, -999.00,9,    44.8,2,    15.7,2,     -999.0,9,     -999.0,9, -999.00,1, 20140418,      858, -44.3332,-150.0011,    34.6620,2,     -999.0,1,     -999.0,1,     -999.0,9,     -999.0,9,     -999.0,1,     -999.0,1
320620140320,       P16S,      46,          1,         29,         29,2,20140418,       0659,   -44.3332,  -150.0003,       4863,   254.6,   8.3078,  34.4995,2,  34.4991,2,    267.8,2,   269.5,2,    2.73,2,   14.72,2,    0.01,2,    1.06,2,   3.581,2,   2.071,2,    1.95,3,  2121.9,2,  2283.4,2,   7.8519,6,       20,-999.000,9,-999.0000,9, -999.00,9,   8.3084,2, -999.00,9,  -999.0,9, -999.00,9,      46,2,   16.37,2,      13.63,2,     -999.0,9, -999.00,1, 20140418,      855, -44.3332,-150.0012,    34.6618,2,     -999.0,1,     -999.0,9,     -999.0,9,     -999.0,9,     -999.0,1,     -999.0,1
320620140320,       P16S,      46,          1,         28,         28,2,20140418,       0659,   -44.3332,  -150.0003,       4863,   300.4,   8.2719,  34.5010,2,  34.5008,2,    268.6,2,   270.5,2,    2.54,2,   14.72,2,    0.01,2,    1.06,2,   3.809,2,   2.076,2,    1.76,2,  2121.4,2,  2281.8,2,   7.8532,2,       20,-999.000,9,-999.0000,9, -999.00,9,   8.2718,2, -999.00,9,  -999.0,9, -999.00,9,    43.8,2,   17.05,2,      13.84,2,     -999.0,9, -999.00,1, 20140418,      853, -44.3332,-150.0011,    34.6635,2,     -999.0,1,     -999.0,1,     -999.0,9,     -999.0,9,     -999.0,1,     -999.0,1
320620140320,       P16S,      46,          1,         27,         27,2,20140418,       0659,   -44.3332,  -150.0003,       4863,   348.4,   8.1286,  34.4837,2,  34.4838,2,    266.0,2,   265.1,2,    3.12,2,   15.98,2,    0.01,2,    1.13,2,   3.700,2,   2.111,2,    1.84,2,  2126.1,2,  2283.2,2,   7.8419,2,       20,-999.000,9,-999.0000,9, -999.00,9,   8.1283,2, -999.00,9,  -999.0,9, -999.00,9,      46,2, -999.00,5,      13.74,2,     -999.0,9, -999.00,1, 20140418,      851, -44.3332,-150.0010,    34.6464,2,     -999.0,1,     -999.0,9,     -999.0,9,     -999.0,9,     -999.0,1,     -999.0,1
320620140320,       P16S,      46,          1,         26,         26,2,20140418,       0659,   -44.3332,  -150.0003,       4863,   399.1,   7.9165,  34.4570,2,  34.4567,2,    262.7,2,   261.0,2,    3.71,2,   17.36,2,    0.01,2,    1.23,2,-999.000,9,-999.000,9, -999.00,9,  2129.6,2,  2281.8,2,   7.8295,2,       20,-999.000,9,-999.0000,9, -999.00,9,   7.9151,2, -999.00,9,  -999.0,9, -999.00,9,    44.5,2,   19.79,2,     -999.0,9,     -999.0,9, -999.00,1, 20140418,      849, -44.3332,-150.0008,    34.6191,2,     -999.0,1,     -999.0,1,     -999.0,9,     -999.0,9,     -999.0,1,     -999.0,1
320620140320,       P16S,      46,          1,         25,         25,2,20140418,       0659,   -44.3332,  -150.0003,       4863,   499.7,   7.5400,  34.4156,2,  34.4160,2,    255.8,2,   254.8,2,    4.88,2,   19.37,2,    0.01,2,    1.35,2,   3.811,2,   2.081,2,    1.36,2,  2135.6,2,  2281.6,2,   7.8116,2,       20,-999.000,9,-999.0000,9, -999.00,9,   7.5405,2, -999.00,9,  -999.0,9, -999.00,9,    40.1,2, -999.00,5,      15.55,2,     -999.0,9, -999.00,1, 20140418,      846, -44.3332,-150.0005,    34.5783,2,     -999.0,1,     -999.0,1,     -999.0,9,     -999.0,9,     -999.0,1,     -999.0,1
320620140320,       P16S,      46,          1,         24,         24,2,20140418,       0659,   -44.3332,  -150.0003,       4863,   598.4,   7.2474,  34.3903,2,  34.3911,2,    250.1,2,   251.1,2,    6.45,2,   20.71,2,    0.01,2,    1.44,2,   3.693,2,   2.036,2,    1.11,2,  2140.7,2,  2281.8,2,   7.7999,2,       20,-999.000,9,-999.0000,9, -999.00,9,   7.2461,2, -999.00,9,  -999.0,9, -999.00,9,    41.7,2, -999.00,9,      15.64,2,     -999.0,9, -999.00,1, 20140418,      843, -44.3332,-150.0000,    34.5533,2,     -999.0,1,     -999.0,9,     -999.0,9,     -999.0,9,     -999.0,1,     -999.0,1
320620140320,       P16S,      46,          1,         23,         23,2,20140418,       0659,   -44.3332,  -150.0003,       4863,   699.1,   6.8699,  34.3629,2,  34.3636,2,    244.6,2,   246.4,2,    7.91,2,   22.22,2,    0.00,2,    1.53,2,   3.602,2,   1.928,2,    0.90,2,  2145.1,2,    2282,2,   7.7875,2,       20,-999.000,9,-999.0000,9, -999.00,9,   6.8703,2, -999.00,9,  -999.0,9, -999.00,9,    43.1,2, -999.00,9,      15.54,2,     -999.0,9, -999.00,1, 20140418,      840, -44.3332,-150.0003,    34.5256,2,     -999.0,1,     -999.0,1,     -999.0,9,     -999.0,9,     -999.0,1,     -999.0,1
320620140320,       P16S,      46,          1,         22,         22,2,20140418,       0659,   -44.3332,  -150.0003,       4863,   800.0,   6.3593,  34.3317,2,  34.3328,2,    237.5,2,   237.0,2,   11.04,2,   24.17,2,    0.00,2,    1.67,2,-999.000,9,-999.000,9, -999.00,9,  2153.4,2,  2282.2,2,   7.7664,2,       20,-999.000,9,-999.0000,9, -999.00,9,   6.3632,2, -999.00,9,  -999.0,9, -999.00,9,    39.5,2, -999.00,9,     -999.0,9,     -999.0,9, -999.00,1, 20140418,      837, -44.3332,-150.0003,    34.4947,2,     -999.0,1,     -999.0,9,     -999.0,9,     -999.0,9,     -999.0,1,     -999.0,1
320620140320,       P16S,      46,          1,         21,         21,2,20140418,       0659,   -44.3332,  -150.0003,       4863,   899.3,   5.8971,  34.3190,2,  34.3195,2,    227.3,2,   226.9,2,   15.23,2,   26.07,2,    0.00,2,    1.78,2,   2.948,2,   1.501,2,    0.52,2,  2163.7,2,  2284.4,6,   7.7449,2,       20,-999.000,9,-999.0000,9, -999.00,9,   5.8966,2, -999.00,9,  -999.0,9, -999.00,9,    39.1,2, -999.00,9,      16.78,2,     -999.0,9, -999.00,1, 20140418,      835, -44.3332,-150.0004,    34.4813,2,     -999.0,1,     -999.0,1,     -999.0,9,     -999.0,9,     -999.0,1,     -999.0,1
320620140320,       P16S,      46,          1,         20,         20,2,20140418,       0659,   -44.3332,  -150.0003,       4863,  1000.0,   5.3207,  34.3168,2,  34.3175,2,    216.6,2,   215.8,2,   21.58,2,   28.16,2,    0.00,2,    1.93,2,-999.000,9,-999.000,9, -999.00,9,  2177.4,6,  2288.4,2,   7.7185,2,       20,-999.000,9,-999.0000,9, -999.00,9,   5.3124,3, -999.00,9,  -999.0,9, -999.00,9,    39.3,2, -999.00,9,     -999.0,9,     -999.0,9, -999.00,1, 20140418,      832, -44.3332,-150.0002,    34.4793,2,     -999.0,1,     -999.0,9,     -999.0,9,     -999.0,9,     -999.0,1,     -999.0,1
320620140320,       P16S,      46,          1,         19,         19,2,20140418,       0659,   -44.3332,  -150.0003,       4863,  1097.4,   4.7493,  34.3210,2,  34.3212,2,    208.3,2,   208.0,2,   27.54,2,   29.82,2,    0.00,2,    2.04,2,   2.215,2,   1.078,2,    0.36,2,  2189.8,2,  2293.8,2,   7.6967,6,       20,-999.000,9,-999.0000,9, -999.00,9,   4.7516,2, -999.00,9,  -999.0,9, -999.00,9,    37.4,2, -999.00,9,      20.48,2,     -999.0,9, -999.00,1, 20140418,      829, -44.3332,-149.9995,    34.4830,2,     -999.0,1,     -999.0,1,     -999.0,9,     -999.0,9,     -999.0,1,     -999.0,1
320620140320,       P16S,      46,          1,         18,         18,2,20140418,       0659,   -44.3332,  -150.0003,       4863,  1199.3,   4.1784,  34.3327,2,  34.3344,2,    202.8,2,   202.5,2,   35.74,2,   31.24,2,    0.00,2,    2.15,2,-999.000,9,-999.000,9, -999.00,9,  2201.7,2,  2300.8,2,   7.6768,2,       20,-999.000,9,-999.0000,9, -999.00,9,   4.1767,2, -999.00,9,  -999.0,9, -999.00,9,      37,2, -999.00,9,     -999.0,9,     -999.0,9, -999.00,1, 20140418,      826, -44.3332,-149.9990,    34.4963,2,     -999.0,1,     -999.0,9,     -999.0,9,     -999.0,9,     -999.0,1,     -999.0,1
320620140320,       P16S,      46,          1,         17,         17,2,20140418,       0659,   -44.3332,  -150.0003,       4863,  1301.8,   3.7222,  34.3610,2,  34.3618,2,    195.8,2,   195.4,2,   43.46,2,   32.37,2,    0.00,2,    2.23,2,   1.577,2,   0.765,2,    0.13,2,  2214.4,2,    2308,2,   7.6615,2,       20,-999.000,9,-999.0000,9, -999.00,9,   3.7201,2, -999.00,9,  -999.0,9, -999.00,9,    36.3,2, -999.00,9,      21.18,2,     -999.0,9, -999.00,1, 20140418,      823, -44.3332,-149.9987,    34.5239,2,     -999.0,1,     -999.0,9,     -999.0,9,     -999.0,9,     -999.0,1,     -999.0,1
320620140320,       P16S,      46,          1,         16,         16,2,20140418,       0659,   -44.3332,  -150.0003,       4863,  1398.6,   3.3556,  34.3993,2,  34.3997,2,    188.0,2,   187.6,2,   51.56,2,   33.35,2,    0.00,2,    2.30,2,-999.000,9,-999.000,9, -999.00,9,  2226.9,2,  2315.4,2,   7.6469,2,       20,-999.000,9,-999.0000,9, -999.00,9,   3.3554,2, -999.00,9,  -999.0,9, -999.00,9,    36.5,2, -999.00,9,     -999.0,9,     -999.0,9, -999.00,1, 20140418,      820, -44.3332,-149.9988,    34.5619,2,     -999.0,1,     -999.0,1,     -999.0,9,     -999.0,9,     -999.0,1,     -999.0,1
320620140320,       P16S,      46,          1,         15,         15,2,20140418,       0659,   -44.3332,  -150.0003,       4863,  1499.9,   3.1278,  34.4405,2,  34.4409,2,    181.0,2,   180.8,2,   58.59,2,   33.82,2,    0.00,2,    2.34,2,   0.951,2,   0.411,2,    0.26,2,  2236.5,2,  2322.6,2,   7.6368,2,       20,-999.000,9,-999.0000,9, -999.00,9,   3.1310,2, -999.00,9,  -999.0,9, -999.00,9,      37,2, -999.00,9,      23.38,2,     -999.0,9, -999.00,1, 20140418,      818, -44.3332,-149.9988,    34.6033,2,     -999.0,1,     -999.0,9,     -999.0,9,     -999.0,9,     -999.0,1,     -999.0,1
320620140320,       P16S,      46,          1,         14,         14,2,20140418,       0659,   -44.3332,  -150.0003,       4863,  1601.9,   2.9151,  34.4861,2,  34.4864,2,    175.1,2,   174.1,2,   66.11,2,   34.19,2,    0.00,2,    2.36,2,-999.000,9,-999.000,9, -999.00,9,  2245.9,2,  2329.7,2,    7.631,2,       20,-999.000,9,-999.0000,9, -999.00,9,   2.9148,2, -999.00,9,  -999.0,9, -999.00,9,    37.1,2, -999.00,9,     -999.0,9,     -999.0,9, -999.00,1, 20140418,      815, -44.3332,-149.9989,    34.6491,2,     -999.0,1,     -999.0,9,     -999.0,9,     -999.0,9,     -999.0,1,     -999.0,1
320620140320,       P16S,      46,          1,         13,         13,2,20140418,       0659,   -44.3332,  -150.0003,       4863,  1800.3,   2.6488,  34.5575,2,  34.5577,2,    166.7,2,   167.0,2,   77.43,2,   34.48,2,    0.00,2,    2.39,2,   0.318,2,   0.110,2,    0.07,2,  2258.7,2,  2343.9,2,   7.6288,2,       20,-999.000,9,-999.0000,9, -999.00,9,   2.6484,2, -999.00,9,  -999.0,9, -999.00,9,    36.4,2, -999.00,9,      22.60,2,     -999.0,9, -999.00,1, 20140418,      810, -44.3332,-149.9990,    34.7207,2,     -999.0,1,     -999.0,1,     -999.0,9,     -999.0,9,     -999.0,1,     -999.0,1
320620140320,       P16S,      46,          1,         12,         12,2,20140418,       0659,   -44.3332,  -150.0003,       4863,  2000.2,   2.4673,  34.6073,2,  34.6072,2,    161.8,2,   162.1,2,   87.48,2,   34.43,2,    0.00,2,    2.40,2,-999.000,9,-999.000,9, -999.00,9,  2270.4,2,  2357.2,2,   7.6305,2,       20,-999.000,9,-999.0000,9, -999.00,9,   2.4682,2, -999.00,9,  -999.0,9, -999.00,9,    36.3,2, -999.00,9,     -999.0,9,     -999.0,9, -999.00,1, 20140418,      806, -44.3332,-149.9994,    34.7704,2,     -999.0,1,     -999.0,1,     -999.0,9,     -999.0,9,     -999.0,1,     -999.0,1
320620140320,       P16S,      46,          1,         11,         11,2,20140418,       0659,   -44.3332,  -150.0003,       4863,  2253.6,   2.2449,  34.6433,2,  34.6441,2,    156.8,2,   156.8,2,  102.03,2,   34.77,2,    0.00,2,    2.43,2,  -0.004,3,   0.003,2,    0.04,2,  2287.3,2,  2373.9,2,   7.6334,2,       20,-999.000,9,-999.0000,9, -999.00,9,   2.2459,2, -999.00,9,  -999.0,9, -999.00,9,    35.1,2, -999.00,9,      23.52,2,     -999.0,9, -999.00,1, 20140418,      800, -44.3331,-149.9994,    34.8075,2,     -999.0,1,     -999.0,9,     -999.0,9,     -999.0,9,     -999.0,1,     -999.0,1
320620140320,       P16S,      46,          1,         10,         10,2,20140418,       0659,   -44.3332,  -150.0003,       4863,  2502.9,   2.0956,  34.6589,2,  34.6593,2,    156.5,2,   156.0,2,  110.81,2,   34.94,2,    0.00,2,    2.44,2,-999.000,9,-999.000,9, -999.00,9,  2295.5,2,  2385.2,2,   7.6366,2,       20,-999.000,9,-999.0000,9, -999.00,9,   2.0964,2, -999.00,9,  -999.0,9, -999.00,9,    35.3,2, -999.00,9,     -999.0,9,     -999.0,9, -999.00,1, 20140418,      754, -44.3332,-149.9998,    34.8227,2,     -999.0,1,     -999.0,9,     -999.0,9,     -999.0,9,     -999.0,1,     -999.0,1
320620140320,       P16S,      46,          1,          9,         09,2,20140418,       0659,   -44.3332,  -150.0003,       4863,  2753.4,   1.9462,  34.6723,2,  34.6722,2,    158.3,2,   157.7,2,  115.11,2,   34.92,2,    0.00,2,    2.45,2,   0.000,3,   0.000,2,    0.00,2,    2298,2,  2388.8,2,   7.6404,2,       20,-999.000,9,-999.0000,9, -999.00,9,   1.9476,2, -999.00,9,  -999.0,9, -999.00,9,    32.2,4, -999.00,9,      22.99,2,     -999.0,9, -999.00,1, 20140418,      748, -44.3332,-150.0002,    34.8357,2,     -999.0,1,     -999.0,9,     -999.0,9,     -999.0,9,     -999.0,9,     -999.0,9
320620140320,       P16S,      46,          1,          8,         08,2,20140418,       0659,   -44.3332,  -150.0003,       4863,  3001.0,   1.8359,  34.6843,2,  34.6846,2,    163.8,2,   163.2,2,  116.48,2,   34.45,2,    0.00,2,    2.42,2,-999.000,9,-999.000,9, -999.00,9,  2295.6,6,  2387.9,2,   7.6458,2,       20,-999.000,9,-999.0000,9, -999.00,9,   1.8354,2, -999.00,9,  -999.0,9, -999.00,9,    35.5,2, -999.00,9,     -999.0,9,     -999.0,9, -999.00,1, 20140418,      743, -44.3333,-150.0005,    34.8482,2,     -999.0,1,     -999.0,1,     -999.0,9,     -999.0,9,     -999.0,9,     -999.0,9
320620140320,       P16S,      46,          1,          7,         07,2,20140418,       0659,   -44.3332,  -150.0003,       4863,  3302.7,   1.7131,  34.7014,2,  34.7011,2,    175.1,2,   174.6,2,  112.57,2,   33.48,2,    0.00,2,    2.33,2,   0.000,3,   0.002,2,    0.00,2,  2282.2,2,  2379.5,2,   7.6566,2,       20,-999.000,9,-999.0000,9, -999.00,9,   1.7128,2, -999.00,9,  -999.0,9, -999.00,9,    35.8,2, -999.00,9,      22.58,2,     -999.0,9, -999.00,1, 20140418,      736, -44.3333,-150.0007,    34.8647,2,     -999.0,1,     -999.0,9,     -999.0,9,     -999.0,9,     -999.0,9,     -999.0,9
320620140320,       P16S,      46,          1,          6,         06,2,20140418,       0659,   -44.3332,  -150.0003,       4863,  3598.8,   1.5690,  34.7134,2,  34.7141,2,    186.3,2,   186.3,2,  109.54,2,   32.60,2,    0.00,2,    2.27,2,-999.000,9,-999.000,9, -999.00,9,  2272.7,2,  2372.1,2,   7.6669,2,       20,-999.000,9,-999.0000,9, -999.00,9,   1.5684,2, -999.00,9,  -999.0,9, -999.00,9,    35.6,2, -999.00,9,     -999.0,9,     -999.0,9, -999.00,1, 20140418,      730, -44.3332,-150.0002,    34.8778,2,     -999.0,1,     -999.0,9,     -999.0,9,     -999.0,9,     -999.0,9,     -999.0,9