BOTTLE,20230715CCHSIOCBG
EXPOCODE,SECT_ID,STNNBR,CASTNO,SAMPNO,BTLNBR,BTLNBR_FLAG_W,DATE,TIME,LATITUDE,LONGITUDE,DEPTH,CTDPRS,CTDTMP,CTDSAL,CTDSAL_FLAG_W,SALNTY,SALNTY_FLAG_W,CTDOXY,CTDOXY_FLAG_W,OXYGEN,OXYGEN_FLAG_W,SILCAT,SILCAT_FLAG_W,NITRAT,NITRAT_FLAG_W,NITRIT,NITRIT_FLAG_W,PHSPHT,PHSPHT_FLAG_W,CFC-11,CFC-11_FLAG_W,CFC-12,CFC-12_FLAG_W,SF6,SF6_FLAG_W,TCARBN,TCARBN_FLAG_W,ALKALI,ALKALI_FLAG_W,PH_TOT,PH_TOT_FLAG_W,PH_TMP,TRITUM,TRITUM_FLAG_W,HELIUM,HELIUM_FLAG_W,DELHE3,DELHE3_FLAG_W,REFTMP,REFTMP_FLAG_W,DELC13,DELC13_FLAG_W,DELC14,DELC14_FLAG_W,DELO18,DELO18_FLAG_W,DOC,DOC_FLAG_W,TDN,TDN_FLAG_W,N2O,N2O_FLAG_W,CALCIUM,CALCIUM_FLAG_W,D15N_NO3,D15N_NO3_FLAG_W,BTL_DATE,BTL_TIME,BTL_LAT,BTL_LON,SALTREF,SALTREF_FLAG_W,D18O_NO3,D18O_NO3_FLAG_W,DSI30,DSI30_FLAG_W,CDOM_NASA,CDOM_NASA_FLAG_W,CDOM_UCSB,CDOM_UCSB_FLAG_W,D15N_NO2+NO3,D15N_NO2+NO3_FLAG_W,D18O_NO2+NO3,D18O_NO2+NO3_FLAG_W
,,,,,,,,,,,METERS,DBAR,ITS-90,PSS-78,,PSS-78,,UMOL/KG,,UMOL/KG,,UMOL/KG,,UMOL/KG,,UMOL/KG,,UMOL/KG,,PMOL/KG,,PMOL/KG,,FMOL/KG,,UMOL/KG,,UMOL/KG,,,,DEG C,TU,,NMOL/KG,,PERCNT,,DEG C,,/MILLE,,/MILLE,,/MILLE,,UMOL/KG,,UMOL/KG,,NMOL/KG,,MMOL/KG,,/MILLE,,,,,,G/KG,,/MILLE,,/MILLE,,,,,,/MILLE,,/MILLE,
320620140320,       P16S,       5,          3,          5,         05,2,20140331,       2346,   -66.9988,  -149.9892,       4383,  3799.4,   0.2000,  34.6947,2,  34.6952,2,    219.3,2,   219.8,2,  127.70,2,   32.44,2,    0.00,2,    2.27,2,   0.758,2,   0.356,2,    0.24,2,  2261.1,2,  2357.4,2,   7.6572,2,       20,-999.000,9,-999.0000,9, -999.00,9,   0.2003,2,    0.48,2,  -153.1,2, -999.00,9,    37.7,2, -999.00,9,      20.01,2,     -999.0,9, -999.00,1, 20140401,        1, -66.9988,-149.9893,    34.8588,2,     -999.0,1,     -999.0,9,     -999.0,9,     -999.0,1,     -999.0,9,     -999.0,9
320620140320,       P16S,       5,          3,          4,         04,2,20140331,       2346,   -66.9988,  -149.9892,       4383,  3998.7,   0.2161,  34.6947,2,  34.6946,2,    219.5,2,   219.6,2,  127.70,2,   32.45,2,    0.00,2,    2.27,2,   0.753,2,   0.382,2,    0.27,2,  -999.0,9,  -999.0,9,-999.0000,9,  -999.00,-999.000,9,-999.0000,1, -999.00,9,   0.2162,2, -999.00,9,  -999.0,9, -999.00,9,    38.5,2, -999.00,9,      19.89,2,     -999.0,9, -999.00,1, 20140331,     2357, -66.9988,-149.9892,    34.8582,2,     -999.0,1,     -999.0,9,     -999.0,9,     -999.0,9,     -999.0,9,     -999.0,9
320620140320,       P16S,       5,          3,          3,         03,2,20140331,       2346,   -66.9988,  -149.9892,       4383,  4199.6,   0.2346,  34.6947,2,  34.6948,2,    219.4,2,   219.2,2,  127.70,2,   32.44,2,    0.00,2,    2.26,2,   0.779,2,   0.345,2,    0.23,2,  2260.8,2,  2356.6,2,   7.6585,6,       20,-999.000,1,-999.0000,1, -999.00,9,   0.2345,2,    0.48,6,  -163.2,6, -999.00,9,    38.2,2, -999.00,9,      19.52,2,     -999.0,9, -999.00,1, 20140331,     2352, -66.9988,-149.9892,    34.8584,2,     -999.0,1,     -999.0,9,     -999.0,9,     -999.0,1,     -999.0,9,     -999.0,9
320620140320,       P16S,       5,          3,          2,         02,2,20140331,       2346,   -66.9988,  -149.9892,       4383,  4298.6,   0.2446,  34.6949,2,  34.6952,2,    219.1,2,   219.3,2,  127.60,2,   32.37,2,    0.00,2,    2.27,2,   0.756,2,   0.366,2,    0.21,2,  2261.3,2,    2358,6,   7.6597,2,       20,-999.000,9,-999.0000,1, -999.00,9,   0.2446,2,    0.47,2,  -152.1,2, -999.00,9,    38.1,2, -999.00,9,      19.50,2,     -999.0,9, -999.00,1, 20140331,     2350, -66.9988,-149.9892,    34.8588,2,     -999.0,1,     -999.0,9,     -999.0,9,     -999.0,9,     -999.0,9,     -999.0,9
320620140320,       P16S,       5,          3,          1,         01,2,20140331,       2346,   -66.9988,  -149.9892,       4383,  4453.7,   0.2602,  34.6949,2,  34.6950,2,    219.4,2,   219.3,2,  129.36,2,   32.38,2,    0.00,2,    2.27,2,   0.755,2,   0.352,2,    0.25,2,  2263.1,6,  2356.7,2,   7.6584,2,       20,-999.000,1,-999.0000,1, -999.00,9,   0.2601,2,    0.47,2,  -157.0,2, -999.00,9,    38.8,2, -999.00,9,      19.84,2,     -999.0,1, -999.00,1, 20140331,     2345, -66.9988,-149.9892,    34.8586,2,     -999.0,1,     -999.0,9,     -999.0,9,     -999.0,1,     -999.0,9,     -999.0,9