BOTTLE,20230715CCHSIOCBG
EXPOCODE,SECT_ID,STNNBR,CASTNO,SAMPNO,BTLNBR,BTLNBR_FLAG_W,DATE,TIME,LATITUDE,LONGITUDE,DEPTH,CTDPRS,CTDTMP,CTDSAL,CTDSAL_FLAG_W,SALNTY,SALNTY_FLAG_W,CTDOXY,CTDOXY_FLAG_W,OXYGEN,OXYGEN_FLAG_W,SILCAT,SILCAT_FLAG_W,NITRAT,NITRAT_FLAG_W,NITRIT,NITRIT_FLAG_W,PHSPHT,PHSPHT_FLAG_W,CFC-11,CFC-11_FLAG_W,CFC-12,CFC-12_FLAG_W,SF6,SF6_FLAG_W,TCARBN,TCARBN_FLAG_W,ALKALI,ALKALI_FLAG_W,PH_TOT,PH_TOT_FLAG_W,PH_TMP,TRITUM,TRITUM_FLAG_W,HELIUM,HELIUM_FLAG_W,DELHE3,DELHE3_FLAG_W,REFTMP,REFTMP_FLAG_W,DELC13,DELC13_FLAG_W,DELC14,DELC14_FLAG_W,DELO18,DELO18_FLAG_W,DOC,DOC_FLAG_W,TDN,TDN_FLAG_W,N2O,N2O_FLAG_W,CALCIUM,CALCIUM_FLAG_W,D15N_NO3,D15N_NO3_FLAG_W,BTL_DATE,BTL_TIME,BTL_LAT,BTL_LON,SALTREF,SALTREF_FLAG_W,D18O_NO3,D18O_NO3_FLAG_W,DSI30,DSI30_FLAG_W,CDOM_NASA,CDOM_NASA_FLAG_W,CDOM_UCSB,CDOM_UCSB_FLAG_W,D15N_NO2+NO3,D15N_NO2+NO3_FLAG_W,D18O_NO2+NO3,D18O_NO2+NO3_FLAG_W
,,,,,,,,,,,METERS,DBAR,ITS-90,PSS-78,,PSS-78,,UMOL/KG,,UMOL/KG,,UMOL/KG,,UMOL/KG,,UMOL/KG,,UMOL/KG,,PMOL/KG,,PMOL/KG,,FMOL/KG,,UMOL/KG,,UMOL/KG,,,,DEG C,TU,,NMOL/KG,,PERCNT,,DEG C,,/MILLE,,/MILLE,,/MILLE,,UMOL/KG,,UMOL/KG,,NMOL/KG,,MMOL/KG,,/MILLE,,,,,,G/KG,,/MILLE,,/MILLE,,,,,,/MILLE,,/MILLE,
320620140320,       P16S,      77,          3,          5,         05,2,20140429,       2332,   -23.6658,  -150.0010,       4717,  3500.9,   1.5412,  34.6851,2,  34.6854,2,    172.8,2,   172.2,2,  124.33,2,   34.33,2,    0.00,2,    2.40,2,   0.000,2,   0.000,2,    0.00,2,  2294.7,2,  2392.3,2,   7.6587,2,       20,-999.000,9,-999.0000,9, -999.00,9,   1.5423,2, -999.00,9,  -999.0,9, -999.00,9,  -999.0,9, -999.00,9,      23.02,2,     -999.0,9, -999.00,9, 20140429,     2359, -23.6658,-150.0010,    34.8490,2,     -999.0,9,     -999.0,9,     -999.0,9,     -999.0,9,     -999.0,9,     -999.0,9
320620140320,       P16S,      77,          3,          4,         04,2,20140429,       2332,   -23.6658,  -150.0010,       4717,  3798.2,   1.4880,  34.6903,2,  34.6905,2,    177.7,2,   177.9,2,  123.55,2,   33.91,2,    0.00,2,    2.37,2,   0.001,2,   0.000,2,    0.00,2,  2290.4,2,  2389.1,2,   7.6628,2,       20,-999.000,9,-999.0000,9, -999.00,9,   1.4880,2, -999.00,9,  -999.0,9, -999.00,9,  -999.0,9, -999.00,9,      21.52,2,     -999.0,9, -999.00,9, 20140429,     2353, -23.6658,-150.0010,    34.8541,2,     -999.0,9,     -999.0,9,     -999.0,9,     -999.0,9,     -999.0,9,     -999.0,9
320620140320,       P16S,      77,          3,          3,         03,2,20140429,       2332,   -23.6658,  -150.0010,       4717,  4099.7,   1.4770,  34.6930,2,  34.6931,2,    179.9,2,   180.3,2,  122.87,2,   33.80,2,    0.00,2,    2.36,2,-999.000,9,-999.000,9, -999.00,9,  2287.5,2,  2387.3,2,    7.665,2,       20,-999.000,9,-999.0000,9, -999.00,9,   1.4772,2, -999.00,9,  -999.0,9, -999.00,9,  -999.0,9, -999.00,9,     -999.0,9,     -999.0,9, -999.00,9, 20140429,     2347, -23.6658,-150.0010,    34.8567,2,     -999.0,9,     -999.0,9,     -999.0,9,     -999.0,1,     -999.0,9,     -999.0,9
320620140320,       P16S,      77,          3,          2,         02,2,20140429,       2332,   -23.6658,  -150.0010,       4717,  4399.2,   1.4103,  34.6983,2,  34.6988,2,    185.3,2,   185.8,2,  122.09,2,   33.41,2,    0.00,2,    2.33,2,   0.001,2,   0.000,2,    0.00,2,  2283.1,2,  2383.9,2,   7.6687,2,       20,-999.000,9,-999.0000,9, -999.00,9,   1.4103,2, -999.00,9,  -999.0,9, -999.00,9,  -999.0,9, -999.00,9,      21.94,2,     -999.0,9, -999.00,9, 20140429,     2341, -23.6658,-150.0011,    34.8624,2,     -999.0,9,     -999.0,9,     -999.0,9,     -999.0,9,     -999.0,9,     -999.0,9
320620140320,       P16S,      77,          3,          1,         01,2,20140429,       2332,   -23.6658,  -150.0010,       4717,  4806.0,   1.3844,  34.7022,2,  34.7024,2,    190.2,2,   190.2,2,  121.01,2,   33.07,2,    0.00,2,    2.29,2,   0.000,2,   0.000,2,    0.00,2,  2278.8,6,  2379.8,2,   7.6712,2,       20,-999.000,9,-999.0000,9, -999.00,9,   1.3845,2, -999.00,9,  -999.0,9, -999.00,9,  -999.0,9, -999.00,9,      21.02,2,     -999.0,9, -999.00,9, 20140429,     2332, -23.6658,-150.0010,    34.8660,2,     -999.0,9,     -999.0,9,     -999.0,9,     -999.0,1,     -999.0,9,     -999.0,9