BOTTLE,20230715CCHSIOCBG
EXPOCODE,SECT_ID,STNNBR,CASTNO,SAMPNO,BTLNBR,BTLNBR_FLAG_W,DATE,TIME,LATITUDE,LONGITUDE,DEPTH,CTDPRS,CTDTMP,CTDSAL,CTDSAL_FLAG_W,SALNTY,SALNTY_FLAG_W,CTDOXY,CTDOXY_FLAG_W,OXYGEN,OXYGEN_FLAG_W,SILCAT,SILCAT_FLAG_W,NITRAT,NITRAT_FLAG_W,NITRIT,NITRIT_FLAG_W,PHSPHT,PHSPHT_FLAG_W,CFC-11,CFC-11_FLAG_W,CFC-12,CFC-12_FLAG_W,SF6,SF6_FLAG_W,TCARBN,TCARBN_FLAG_W,ALKALI,ALKALI_FLAG_W,PH_TOT,PH_TOT_FLAG_W,PH_TMP,TRITUM,TRITUM_FLAG_W,HELIUM,HELIUM_FLAG_W,DELHE3,DELHE3_FLAG_W,REFTMP,REFTMP_FLAG_W,DELC13,DELC13_FLAG_W,DELC14,DELC14_FLAG_W,DELO18,DELO18_FLAG_W,DOC,DOC_FLAG_W,TDN,TDN_FLAG_W,N2O,N2O_FLAG_W,CALCIUM,CALCIUM_FLAG_W,D15N_NO3,D15N_NO3_FLAG_W,BTL_DATE,BTL_TIME,BTL_LAT,BTL_LON,SALTREF,SALTREF_FLAG_W,D18O_NO3,D18O_NO3_FLAG_W,DSI30,DSI30_FLAG_W,CDOM_NASA,CDOM_NASA_FLAG_W,CDOM_UCSB,CDOM_UCSB_FLAG_W,D15N_NO2+NO3,D15N_NO2+NO3_FLAG_W,D18O_NO2+NO3,D18O_NO2+NO3_FLAG_W
,,,,,,,,,,,METERS,DBAR,ITS-90,PSS-78,,PSS-78,,UMOL/KG,,UMOL/KG,,UMOL/KG,,UMOL/KG,,UMOL/KG,,UMOL/KG,,PMOL/KG,,PMOL/KG,,FMOL/KG,,UMOL/KG,,UMOL/KG,,,,DEG C,TU,,NMOL/KG,,PERCNT,,DEG C,,/MILLE,,/MILLE,,/MILLE,,UMOL/KG,,UMOL/KG,,NMOL/KG,,MMOL/KG,,/MILLE,,,,,,G/KG,,/MILLE,,/MILLE,,,,,,/MILLE,,/MILLE,
320620140320,       P16S,      84,          1,          5,         05,2,20140502,       0824,   -19.0002,  -150.0006,       4285,  3299.2,   1.5831,  34.6808,2,  34.6800,2,    169.4,2,   169.7,2,  123.88,2,   34.45,2,    0.00,2,    2.42,2,-999.000,9,-999.000,9, -999.00,9,  2294.9,2,  2392.7,6,   7.6576,2,       20,-999.000,9,-999.0000,9, -999.00,9,   1.5835,2, -999.00,9,  -999.0,9, -999.00,9,    40.8,2, -999.00,9,     -999.0,9,     -999.0,9, -999.00,9, 20140502,      846, -19.0002,-150.0005,    34.8436,2,     -999.0,9,     -999.0,9,     -999.0,9,     -999.0,9,     -999.0,9,     -999.0,9
320620140320,       P16S,      84,          1,          4,         04,2,20140502,       0824,   -19.0002,  -150.0006,       4285,  3600.0,   1.5415,  34.6853,2,  34.6842,2,    173.6,2,   173.2,2,  124.08,2,   34.20,2,    0.00,2,    2.40,2,-999.000,9,-999.000,9, -999.00,9,  -999.0,9,  -999.0,9,-999.0000,9,  -999.00,-999.000,9,-999.0000,9, -999.00,9,   1.5416,2, -999.00,9,  -999.0,9, -999.00,9,    40.5,2, -999.00,9,     -999.0,9,     -999.0,9, -999.00,9, 20140502,      840, -19.0002,-150.0005,    34.8477,2,     -999.0,9,     -999.0,9,     -999.0,9,     -999.0,9,     -999.0,9,     -999.0,9
320620140320,       P16S,      84,          1,          3,         03,2,20140502,       0824,   -19.0002,  -150.0006,       4285,  3899.0,   1.5324,  34.6880,2,  34.6867,2,    174.8,2,   175.4,2,  123.59,2,   33.99,2,    0.00,2,    2.37,2,-999.000,9,-999.000,9, -999.00,9,  2291.4,6,  2389.7,2,    7.663,2,       20,-999.000,9,-999.0000,9, -999.00,9,   1.5330,2, -999.00,9,  -999.0,9, -999.00,9,    36.6,2, -999.00,9,     -999.0,9,     -999.0,9, -999.00,9, 20140502,      834, -19.0002,-150.0004,    34.8503,2,     -999.0,9,     -999.0,9,     -999.0,9,     -999.0,9,     -999.0,9,     -999.0,9
320620140320,       P16S,      84,          1,          2,         02,2,20140502,       0824,   -19.0002,  -150.0006,       4285,  4107.8,   1.5249,  34.6896,2,  34.6877,2,    176.3,2,   177.0,2,  123.30,2,   33.89,2,    0.00,2,    2.36,2,   0.000,2,   0.000,2,    0.00,2,  2290.7,2,  2388.3,2,   7.6644,2,       20,-999.000,9,-999.0000,9, -999.00,9,   1.5252,2, -999.00,9,  -999.0,9, -999.00,9,    37.6,2, -999.00,9,      22.20,2,     -999.0,9, -999.00,9, 20140502,      829, -19.0002,-150.0005,    34.8513,2,     -999.0,9,     -999.0,9,     -999.0,9,     -999.0,9,     -999.0,9,     -999.0,9
320620140320,       P16S,      84,          1,          1,         01,2,20140502,       0824,   -19.0002,  -150.0006,       4285,  4332.2,   1.5334,  34.6906,2,  34.6893,2,    178.6,2,   178.5,2,  123.49,2,   33.88,2,    0.00,2,    2.35,2,  -0.001,2,   0.000,2,    0.02,2,  2287.8,2,  2388.2,2,   7.6651,2,       20,-999.000,9,-999.0000,9, -999.00,9,   1.5333,2, -999.00,9,  -999.0,9, -999.00,9,      38,2, -999.00,9,      22.17,2,     -999.0,9, -999.00,9, 20140502,      824, -19.0002,-150.0006,    34.8528,2,     -999.0,9,     -999.0,9,     -999.0,9,     -999.0,9,     -999.0,9,     -999.0,9