BOTTLE,20230715CCHSIOCBG
EXPOCODE,SECT_ID,STNNBR,CASTNO,SAMPNO,BTLNBR,BTLNBR_FLAG_W,DATE,TIME,LATITUDE,LONGITUDE,DEPTH,CTDPRS,CTDTMP,CTDSAL,CTDSAL_FLAG_W,SALNTY,SALNTY_FLAG_W,CTDOXY,CTDOXY_FLAG_W,OXYGEN,OXYGEN_FLAG_W,SILCAT,SILCAT_FLAG_W,NITRAT,NITRAT_FLAG_W,NITRIT,NITRIT_FLAG_W,PHSPHT,PHSPHT_FLAG_W,CFC-11,CFC-11_FLAG_W,CFC-12,CFC-12_FLAG_W,SF6,SF6_FLAG_W,TCARBN,TCARBN_FLAG_W,ALKALI,ALKALI_FLAG_W,PH_TOT,PH_TOT_FLAG_W,PH_TMP,TRITUM,TRITUM_FLAG_W,HELIUM,HELIUM_FLAG_W,DELHE3,DELHE3_FLAG_W,REFTMP,REFTMP_FLAG_W,DELC13,DELC13_FLAG_W,DELC14,DELC14_FLAG_W,DELO18,DELO18_FLAG_W,DOC,DOC_FLAG_W,TDN,TDN_FLAG_W,N2O,N2O_FLAG_W,CALCIUM,CALCIUM_FLAG_W,D15N_NO3,D15N_NO3_FLAG_W,BTL_DATE,BTL_TIME,BTL_LAT,BTL_LON,SALTREF,SALTREF_FLAG_W,D18O_NO3,D18O_NO3_FLAG_W,DSI30,DSI30_FLAG_W,CDOM_NASA,CDOM_NASA_FLAG_W,CDOM_UCSB,CDOM_UCSB_FLAG_W,D15N_NO2+NO3,D15N_NO2+NO3_FLAG_W,D18O_NO2+NO3,D18O_NO2+NO3_FLAG_W
,,,,,,,,,,,METERS,DBAR,ITS-90,PSS-78,,PSS-78,,UMOL/KG,,UMOL/KG,,UMOL/KG,,UMOL/KG,,UMOL/KG,,UMOL/KG,,PMOL/KG,,PMOL/KG,,FMOL/KG,,UMOL/KG,,UMOL/KG,,,,DEG C,TU,,NMOL/KG,,PERCNT,,DEG C,,/MILLE,,/MILLE,,/MILLE,,UMOL/KG,,UMOL/KG,,NMOL/KG,,MMOL/KG,,/MILLE,,,,,,G/KG,,/MILLE,,/MILLE,,,,,,/MILLE,,/MILLE,
320620140320,       P16S,      44,          1,          5,         05,2,20140417,       1109,   -45.6664,  -149.9998,       5162,  4297.7,   1.2419,  34.7158,2,  34.7159,2,    200.4,2,   200.7,2,  115.90,2,   32.17,2,    0.00,2,    2.22,2,-999.000,9,-999.000,9, -999.00,9,    2266,2,  2369.6,2,   7.6793,2,       20,-999.000,9,-999.0000,9, -999.00,9,   1.2416,2, -999.00,9,  -999.0,9, -999.00,9,    38.2,2, -999.00,9,     -999.0,9,     -999.0,9, -999.00,9, 20140417,     1140, -45.6667,-149.9998,    34.8796,2,     -999.0,9,     -999.0,9,     -999.0,9,     -999.0,9,     -999.0,9,     -999.0,9
320620140320,       P16S,      44,          1,          4,         04,2,20140417,       1109,   -45.6664,  -149.9998,       5162,  4598.5,   1.1909,  34.7138,2,  34.7141,2,    201.2,2,   201.0,2,  118.25,2,   32.25,2,    0.00,2,    2.22,2,   0.012,2,   0.001,2,    0.00,2,  2267.2,2,  2371.8,2,   7.6804,2,       20,-999.000,9,-999.0000,1, -999.00,9,   1.1906,2, -999.00,9,  -999.0,9, -999.00,9,    37.1,2, -999.00,9,      20.01,2,     -999.0,9, -999.00,9, 20140417,     1132, -45.6666,-149.9998,    34.8778,2,     -999.0,9,     -999.0,9,     -999.0,9,     -999.0,9,     -999.0,9,     -999.0,9
320620140320,       P16S,      44,          1,          3,         03,2,20140417,       1109,   -45.6664,  -149.9998,       5162,  4899.6,   1.1902,  34.7131,2,  34.7133,2,    201.7,2,   201.7,2,  119.52,2,   32.33,2,    0.00,2,    2.22,2,   0.020,2,   0.006,2,    0.00,2,  2267.8,2,  2371.3,6,   7.6805,2,       20,-999.000,1,-999.0000,1, -999.00,9,   1.1906,2, -999.00,9,  -999.0,9, -999.00,9,    38.3,2, -999.00,9,      20.73,2,     -999.0,9, -999.00,9, 20140417,     1122, -45.6662,-150.0001,    34.8770,2,     -999.0,9,     -999.0,9,     -999.0,9,     -999.0,9,     -999.0,9,     -999.0,9
320620140320,       P16S,      44,          1,          2,         02,2,20140417,       1109,   -45.6664,  -149.9998,       5162,  5068.5,   1.1991,  34.7125,2,  34.7129,2,    201.5,2,   201.7,2,  119.71,2,   32.36,2,    0.00,2,    2.21,2,   0.019,2,   0.006,2,    0.01,2,  2268.7,2,  2370.7,2,   7.6807,6,       20,-999.000,9,-999.0000,1, -999.00,9,   1.1991,2, -999.00,9,  -999.0,9, -999.00,9,    38.5,2, -999.00,9,      19.38,2,     -999.0,9, -999.00,9, 20140417,     1116, -45.6663,-149.9998,    34.8766,2,     -999.0,9,     -999.0,9,     -999.0,9,     -999.0,9,     -999.0,9,     -999.0,9
320620140320,       P16S,      44,          1,          1,         01,2,20140417,       1109,   -45.6664,  -149.9998,       5162,  5252.1,   1.2166,  34.7124,2,  34.7133,2,    202.0,2,   202.0,2,  119.91,2,   32.35,2,    0.00,2,    2.21,2,   0.034,2,   0.006,2,    0.00,2,  2268.1,6,  2369.4,2,   7.6824,2,       20,-999.000,1,-999.0000,1, -999.00,9,   1.2165,2, -999.00,9,  -999.0,9, -999.00,9,    37.7,2, -999.00,9,      19.62,2,     -999.0,9, -999.00,9, 20140417,     1109, -45.6664,-149.9998,    34.8770,2,     -999.0,9,     -999.0,9,     -999.0,9,     -999.0,9,     -999.0,9,     -999.0,9