BOTTLE,20230715CCHSIOCBG
EXPOCODE,SECT_ID,STNNBR,CASTNO,SAMPNO,BTLNBR,BTLNBR_FLAG_W,DATE,TIME,LATITUDE,LONGITUDE,DEPTH,CTDPRS,CTDTMP,CTDSAL,CTDSAL_FLAG_W,SALNTY,SALNTY_FLAG_W,CTDOXY,CTDOXY_FLAG_W,OXYGEN,OXYGEN_FLAG_W,SILCAT,SILCAT_FLAG_W,NITRAT,NITRAT_FLAG_W,NITRIT,NITRIT_FLAG_W,PHSPHT,PHSPHT_FLAG_W,CFC-11,CFC-11_FLAG_W,CFC-12,CFC-12_FLAG_W,SF6,SF6_FLAG_W,TCARBN,TCARBN_FLAG_W,ALKALI,ALKALI_FLAG_W,PH_TOT,PH_TOT_FLAG_W,PH_TMP,TRITUM,TRITUM_FLAG_W,HELIUM,HELIUM_FLAG_W,DELHE3,DELHE3_FLAG_W,REFTMP,REFTMP_FLAG_W,DELC13,DELC13_FLAG_W,DELC14,DELC14_FLAG_W,DELO18,DELO18_FLAG_W,DOC,DOC_FLAG_W,TDN,TDN_FLAG_W,N2O,N2O_FLAG_W,CALCIUM,CALCIUM_FLAG_W,D15N_NO3,D15N_NO3_FLAG_W,BTL_DATE,BTL_TIME,BTL_LAT,BTL_LON,SALTREF,SALTREF_FLAG_W,D18O_NO3,D18O_NO3_FLAG_W,DSI30,DSI30_FLAG_W,CDOM_NASA,CDOM_NASA_FLAG_W,CDOM_UCSB,CDOM_UCSB_FLAG_W,D15N_NO2+NO3,D15N_NO2+NO3_FLAG_W,D18O_NO2+NO3,D18O_NO2+NO3_FLAG_W
,,,,,,,,,,,METERS,DBAR,ITS-90,PSS-78,,PSS-78,,UMOL/KG,,UMOL/KG,,UMOL/KG,,UMOL/KG,,UMOL/KG,,UMOL/KG,,PMOL/KG,,PMOL/KG,,FMOL/KG,,UMOL/KG,,UMOL/KG,,,,DEG C,TU,,NMOL/KG,,PERCNT,,DEG C,,/MILLE,,/MILLE,,/MILLE,,UMOL/KG,,UMOL/KG,,NMOL/KG,,MMOL/KG,,/MILLE,,,,,,G/KG,,/MILLE,,/MILLE,,,,,,/MILLE,,/MILLE,
320620140320,       P16S,      24,          1,          5,         05,2,20140409,       1534,   -56.5000,  -149.9984,       3064,  2065.6,   1.4636,  34.7333,2,  34.7333,2,    198.0,2,   197.4,2,  101.83,2,   31.26,2,    0.00,2,    2.15,2,   0.131,2,   0.049,2,    0.08,2,  2254.5,2,  2358.4,6,   7.6748,2,       20,-999.000,9,-999.0000,9, -999.00,9,   1.4637,2,    0.63,2,  -159.0,2, -999.00,9,  -999.0,9, -999.00,9,      20.24,2,     -999.0,9, -999.00,9, 20140409,     1553, -56.5001,-149.9984,    34.8971,2,     -999.0,9,     -999.0,9,     -999.0,9,     -999.0,9,     -999.0,9,     -999.0,9
320620140320,       P16S,      24,          1,          4,         04,2,20140409,       1534,   -56.5000,  -149.9984,       3064,  2263.4,   1.3123,  34.7285,2,  34.7278,2,    199.9,2,   199.4,2,  106.42,2,   31.50,2,    0.00,2,    2.15,2,-999.000,9,-999.000,9, -999.00,9,  -999.0,9,  -999.0,9,-999.0000,9,  -999.00,-999.000,9,-999.0000,9, -999.00,9,   1.3123,2, -999.00,9,  -999.0,9, -999.00,9,  -999.0,9, -999.00,9,     -999.0,9,     -999.0,9, -999.00,9, 20140409,     1548, -56.5001,-149.9984,    34.8915,2,     -999.0,9,     -999.0,9,     -999.0,9,     -999.0,9,     -999.0,9,     -999.0,9
320620140320,       P16S,      24,          1,          3,         03,2,20140409,       1534,   -56.5000,  -149.9984,       3064,  2462.9,   1.1726,  34.7231,2,  34.7224,2,    201.3,2,   201.4,2,  110.61,2,   31.63,2,    0.00,2,    2.18,2,   0.159,2,   0.052,2,    0.05,2,    2258,2,  2361.1,2,   7.6722,6,       20,-999.000,9,-999.0000,9, -999.00,9,   1.1738,2,    0.58,2,  -172.7,2, -999.00,9,  -999.0,9, -999.00,9,      18.38,2,     -999.0,9, -999.00,9, 20140409,     1543, -56.5000,-149.9984,    34.8862,2,     -999.0,9,     -999.0,9,     -999.0,9,     -999.0,9,     -999.0,9,     -999.0,9
320620140320,       P16S,      24,          1,          2,         02,2,20140409,       1534,   -56.5000,  -149.9984,       3064,  2632.6,   1.0256,  34.7167,2,  34.7163,2,    203.2,2,   203.1,2,  115.98,2,   31.92,2,    0.00,2,    2.20,2,-999.000,9,-999.000,9, -999.00,9,  -999.0,9,  -999.0,9,-999.0000,9,  -999.00,-999.000,9,-999.0000,9, -999.00,9,   1.0256,2, -999.00,9,  -999.0,9, -999.00,9,  -999.0,9, -999.00,9,     -999.0,9,     -999.0,9, -999.00,9, 20140409,     1539, -56.5000,-149.9984,    34.8800,2,     -999.0,9,     -999.0,9,     -999.0,9,     -999.0,9,     -999.0,9,     -999.0,9
320620140320,       P16S,      24,          1,          1,         01,2,20140409,       1534,   -56.5000,  -149.9984,       3064,  2824.9,   0.9380,  34.7126,2,  34.7123,2,    205.2,2,   204.7,2,  120.77,2,   32.07,2,    0.00,2,    2.22,2,   0.133,2,   0.057,2,    0.18,2,  2262.2,6,  2363.2,2,     7.67,2,       20,-999.000,9,-999.0000,9, -999.00,9,   0.9381,2,    0.56,2,  -165.0,2, -999.00,9,  -999.0,9, -999.00,9,      19.61,2,     -999.0,9, -999.00,9, 20140409,     1534, -56.5000,-149.9984,    34.8760,2,     -999.0,9,     -999.0,9,     -999.0,9,     -999.0,9,     -999.0,9,     -999.0,9