BOTTLE,20230715CCHSIOCBG
EXPOCODE,SECT_ID,STNNBR,CASTNO,SAMPNO,BTLNBR,BTLNBR_FLAG_W,DATE,TIME,LATITUDE,LONGITUDE,DEPTH,CTDPRS,CTDTMP,CTDSAL,CTDSAL_FLAG_W,SALNTY,SALNTY_FLAG_W,CTDOXY,CTDOXY_FLAG_W,OXYGEN,OXYGEN_FLAG_W,SILCAT,SILCAT_FLAG_W,NITRAT,NITRAT_FLAG_W,NITRIT,NITRIT_FLAG_W,PHSPHT,PHSPHT_FLAG_W,CFC-11,CFC-11_FLAG_W,CFC-12,CFC-12_FLAG_W,SF6,SF6_FLAG_W,TCARBN,TCARBN_FLAG_W,ALKALI,ALKALI_FLAG_W,PH_TOT,PH_TOT_FLAG_W,PH_TMP,TRITUM,TRITUM_FLAG_W,HELIUM,HELIUM_FLAG_W,DELHE3,DELHE3_FLAG_W,REFTMP,REFTMP_FLAG_W,DELC13,DELC13_FLAG_W,DELC14,DELC14_FLAG_W,DELO18,DELO18_FLAG_W,DOC,DOC_FLAG_W,TDN,TDN_FLAG_W,N2O,N2O_FLAG_W,CALCIUM,CALCIUM_FLAG_W,D15N_NO3,D15N_NO3_FLAG_W,BTL_DATE,BTL_TIME,BTL_LAT,BTL_LON,SALTREF,SALTREF_FLAG_W,D18O_NO3,D18O_NO3_FLAG_W,DSI30,DSI30_FLAG_W,CDOM_NASA,CDOM_NASA_FLAG_W,CDOM_UCSB,CDOM_UCSB_FLAG_W,D15N_NO2+NO3,D15N_NO2+NO3_FLAG_W,D18O_NO2+NO3,D18O_NO2+NO3_FLAG_W
,,,,,,,,,,,METERS,DBAR,ITS-90,PSS-78,,PSS-78,,UMOL/KG,,UMOL/KG,,UMOL/KG,,UMOL/KG,,UMOL/KG,,UMOL/KG,,PMOL/KG,,PMOL/KG,,FMOL/KG,,UMOL/KG,,UMOL/KG,,,,DEG C,TU,,NMOL/KG,,PERCNT,,DEG C,,/MILLE,,/MILLE,,/MILLE,,UMOL/KG,,UMOL/KG,,NMOL/KG,,MMOL/KG,,/MILLE,,,,,,G/KG,,/MILLE,,/MILLE,,,,,,/MILLE,,/MILLE,
320620140320,       P16S,      14,          1,          5,         05,2,20140404,       0759,   -62.4997,  -149.9998,       3298,  2599.6,   0.2377,  34.6945,2,  34.6944,2,    215.4,2,   215.7,2,  127.59,2,   32.55,2,    0.00,2,    2.25,2,   0.607,2,   0.320,2,    0.27,2,  2261.8,2,  2359.7,6,   7.6651,2,       20,-999.000,9,-999.0000,9, -999.00,9,   0.2375,2, -999.00,9,  -999.0,9, -999.00,9,  -999.0,9, -999.00,9,      19.12,2,     -999.0,9, -999.00,9, 20140404,      817, -62.4997,-149.9997,    34.8580,2,     -999.0,9,     -999.0,9,     -999.0,9,     -999.0,9,     -999.0,9,     -999.0,9
320620140320,       P16S,      14,          1,          4,         04,2,20140404,       0759,   -62.4997,  -149.9998,       3298,  2801.3,   0.2409,  34.6943,2,  34.6942,2,    216.1,2,   216.0,2,  127.00,2,   32.47,2,    0.00,2,    2.25,2,-999.000,9,-999.000,9, -999.00,9,  -999.0,9,  -999.0,9,-999.0000,9,  -999.00,-999.000,9,-999.0000,9, -999.00,9,   0.2410,2, -999.00,9,  -999.0,9, -999.00,9,  -999.0,9, -999.00,9,     -999.0,9,     -999.0,9, -999.00,9, 20140404,      812, -62.4997,-149.9998,    34.8578,2,     -999.0,9,     -999.0,9,     -999.0,9,     -999.0,9,     -999.0,9,     -999.0,9
320620140320,       P16S,      14,          1,          3,         03,2,20140404,       0759,   -62.4997,  -149.9998,       3298,  3000.5,   0.2457,  34.6933,2,  34.6942,2,    216.7,2,   216.6,2,  127.20,2,   32.59,2,    0.00,2,    2.25,2,   0.686,2,   0.321,2,    0.36,2,  2262.8,2,  2359.8,2,   7.6652,6,       20,-999.000,9,-999.0000,9, -999.00,9,   0.2453,2, -999.00,9,  -999.0,9, -999.00,9,  -999.0,9, -999.00,9,      19.00,2,     -999.0,9, -999.00,9, 20140404,      808, -62.4997,-149.9997,    34.8578,2,     -999.0,9,     -999.0,9,     -999.0,9,     -999.0,9,     -999.0,9,     -999.0,9
320620140320,       P16S,      14,          1,          2,         02,2,20140404,       0759,   -62.4997,  -149.9998,       3298,  3161.7,   0.2517,  34.6934,2,  34.6938,2,    216.7,2,   216.6,2,  126.90,2,   32.49,2,    0.00,2,    2.25,2,-999.000,9,-999.000,9, -999.00,9,  -999.0,9,  -999.0,9,-999.0000,9,  -999.00,-999.000,9,-999.0000,9, -999.00,9,   0.2517,2, -999.00,9,  -999.0,9, -999.00,9,  -999.0,9, -999.00,9,     -999.0,9,     -999.0,9, -999.00,9, 20140404,      804, -62.4997,-149.9997,    34.8574,2,     -999.0,9,     -999.0,9,     -999.0,9,     -999.0,9,     -999.0,9,     -999.0,9
320620140320,       P16S,      14,          1,          1,         01,2,20140404,       0759,   -62.4997,  -149.9998,       3298,  3354.0,   0.2634,  34.6928,2,  34.6938,2,    216.6,2,   216.6,2,  127.49,2,   32.53,2,    0.00,2,    2.25,2,   0.704,2,   0.325,2,    0.40,2,  2262.2,6,  2360.2,2,   7.6646,2,       20,-999.000,9,-999.0000,9, -999.00,9,   0.2633,2, -999.00,9,  -999.0,9, -999.00,9,  -999.0,9, -999.00,9,      19.32,2,     -999.0,9, -999.00,9, 20140404,      800, -62.4997,-149.9998,    34.8574,2,     -999.0,9,     -999.0,9,     -999.0,9,     -999.0,9,     -999.0,9,     -999.0,9