BOTTLE,20230715CCHSIOCBG
EXPOCODE,SECT_ID,STNNBR,CASTNO,SAMPNO,BTLNBR,BTLNBR_FLAG_W,DATE,TIME,LATITUDE,LONGITUDE,DEPTH,CTDPRS,CTDTMP,CTDSAL,CTDSAL_FLAG_W,SALNTY,SALNTY_FLAG_W,CTDOXY,CTDOXY_FLAG_W,OXYGEN,OXYGEN_FLAG_W,SILCAT,SILCAT_FLAG_W,NITRAT,NITRAT_FLAG_W,NITRIT,NITRIT_FLAG_W,PHSPHT,PHSPHT_FLAG_W,CFC-11,CFC-11_FLAG_W,CFC-12,CFC-12_FLAG_W,SF6,SF6_FLAG_W,TCARBN,TCARBN_FLAG_W,ALKALI,ALKALI_FLAG_W,PH_TOT,PH_TOT_FLAG_W,PH_TMP,TRITUM,TRITUM_FLAG_W,HELIUM,HELIUM_FLAG_W,DELHE3,DELHE3_FLAG_W,REFTMP,REFTMP_FLAG_W,DELC13,DELC13_FLAG_W,DELC14,DELC14_FLAG_W,DELO18,DELO18_FLAG_W,DOC,DOC_FLAG_W,TDN,TDN_FLAG_W,N2O,N2O_FLAG_W,CALCIUM,CALCIUM_FLAG_W,D15N_NO3,D15N_NO3_FLAG_W,BTL_DATE,BTL_TIME,BTL_LAT,BTL_LON,SALTREF,SALTREF_FLAG_W,D18O_NO3,D18O_NO3_FLAG_W,DSI30,DSI30_FLAG_W,CDOM_NASA,CDOM_NASA_FLAG_W,CDOM_UCSB,CDOM_UCSB_FLAG_W,D15N_NO2+NO3,D15N_NO2+NO3_FLAG_W,D18O_NO2+NO3,D18O_NO2+NO3_FLAG_W
,,,,,,,,,,,METERS,DBAR,ITS-90,PSS-78,,PSS-78,,UMOL/KG,,UMOL/KG,,UMOL/KG,,UMOL/KG,,UMOL/KG,,UMOL/KG,,PMOL/KG,,PMOL/KG,,FMOL/KG,,UMOL/KG,,UMOL/KG,,,,DEG C,TU,,NMOL/KG,,PERCNT,,DEG C,,/MILLE,,/MILLE,,/MILLE,,UMOL/KG,,UMOL/KG,,NMOL/KG,,MMOL/KG,,/MILLE,,,,,,G/KG,,/MILLE,,/MILLE,,,,,,/MILLE,,/MILLE,
320620140320,       P16S,      35,          1,         36,         36,2,20140413,       2032,   -51.0003,  -150.0010,       4949,     6.6,  10.9177,  34.4386,2,  34.4380,2,    273.1,2,   273.0,2,    0.59,2,    7.72,2,    0.20,2,    0.63,2,   3.316,2,   1.852,2,    2.07,2,  2081.9,2,    2288,2,   7.9519,2,       20,-999.000,1,-999.0000,1, -999.00,9,  10.9179,2, -999.00,9,  -999.0,9, -999.00,1,    53.2,2,   11.22,2,      11.58,2,     -999.0,9, -999.00,1, 20140413,     2217, -51.0005,-150.0008,    34.6004,2,     -999.0,1,     -999.0,9,     -999.0,9,     -999.0,1,     -999.0,1,     -999.0,1
320620140320,       P16S,      35,          1,         35,         35,2,20140413,       2032,   -51.0003,  -150.0010,       4949,    34.8,  10.9313,  34.4424,2,  34.4419,2,    272.9,2,   272.7,2,    0.59,2,    7.73,2,    0.20,2,    0.64,2,   3.216,2,   1.837,2,    2.06,2,  2083.3,2,  2288.2,2,   7.9525,2,       20,-999.000,1,-999.0000,1, -999.00,9,  10.9312,2, -999.00,9,  -999.0,9, -999.00,1,    54.7,2,   11.25,2,      11.73,2,     -999.0,9, -999.00,1, 20140413,     2215, -51.0006,-150.0009,    34.6044,2,     -999.0,1,     -999.0,9,     -999.0,9,     -999.0,1,     -999.0,1,     -999.0,1
320620140320,       P16S,      35,          1,         34,         34,2,20140413,       2032,   -51.0003,  -150.0010,       4949,    35.1,  10.9308,  34.4421,2,-999.0000,9,   -999.0,9,  -999.0,9, -999.00,9, -999.00,9, -999.00,9, -999.00,9,-999.000,9,-999.000,9, -999.00,9,  -999.0,9,  -999.0,9,-999.0000,9,  -999.00,-999.000,9,-999.0000,9, -999.00,9,  10.9308,2, -999.00,9,  -999.0,9, -999.00,9,  -999.0,9, -999.00,9,     -999.0,9,     -999.0,9, -999.00,9, 20140413,     2214, -51.0006,-150.0009,     -999.0,9,     -999.0,9,     -999.0,9,     -999.0,9,     -999.0,9,     -999.0,9,     -999.0,9
320620140320,       P16S,      35,          1,         32,         32,2,20140413,       2032,   -51.0003,  -150.0010,       4949,    50.9,  10.9326,  34.4566,2,-999.0000,9,   -999.0,9,  -999.0,9, -999.00,9, -999.00,9, -999.00,9, -999.00,9,-999.000,9,-999.000,9, -999.00,9,  -999.0,9,  -999.0,9,-999.0000,9,  -999.00,-999.000,9,-999.0000,9, -999.00,9,  10.9333,2, -999.00,9,  -999.0,9, -999.00,9,  -999.0,9, -999.00,9,     -999.0,9,     -999.0,9, -999.00,9, 20140413,     2213, -51.0006,-150.0009,     -999.0,9,     -999.0,9,     -999.0,9,     -999.0,9,     -999.0,9,     -999.0,9,     -999.0,9
320620140320,       P16S,      35,          1,         33,         33,2,20140413,       2032,   -51.0003,  -150.0010,       4949,    51.1,  10.9381,  34.4512,2,  34.4529,2,    272.1,2,   272.2,2,    0.59,2,    7.67,2,    0.20,2,    0.65,2,   3.360,2,   1.858,2,    1.94,2,  2082.6,2,  2288.2,2,   7.9501,2,       20,-999.000,1,-999.0000,1, -999.00,9,  10.9370,2, -999.00,9,  -999.0,9, -999.00,1,    52.9,2,   10.55,2,      11.67,2,     -999.0,9, -999.00,1, 20140413,     2213, -51.0006,-150.0009,    34.6154,2,     -999.0,1,     -999.0,9,     -999.0,9,     -999.0,1,     -999.0,1,     -999.0,1
320620140320,       P16S,      35,          1,         31,         31,2,20140413,       2032,   -51.0003,  -150.0010,       4949,    83.9,  10.6771,  34.5427,2,  34.5417,2,    269.5,2,   268.4,2,    0.39,2,    7.84,2,    0.24,2,    0.64,2,   3.436,2,   1.842,2,    1.88,2,    2092,2,  2290.6,2,   7.9371,2,       20,-999.000,1,-999.0000,1, -999.00,9,  10.6768,2, -999.00,9,  -999.0,9, -999.00,1,      51,2,   11.21,2,      12.11,2,     -999.0,9, -999.00,1, 20140413,     2211, -51.0004,-150.0008,    34.7045,2,     -999.0,1,     -999.0,1,     -999.0,9,     -999.0,1,     -999.0,1,     -999.0,1
320620140320,       P16S,      35,          1,         30,         30,2,20140413,       2032,   -51.0003,  -150.0010,       4949,   114.7,   9.8357,  34.6506,2,  34.6518,2,    264.5,2,   246.2,2,    2.44,2,   13.03,2,    0.02,2,    0.95,2,   3.375,2,   1.906,2,    1.85,2,  2121.8,2,  2289.8,2,   7.8633,2,       20,-999.000,9,-999.0000,9, -999.00,9,   9.8360,2, -999.00,9,  -999.0,9, -999.00,1,    45.8,2,   15.38,2,      13.68,2,     -999.0,9, -999.00,1, 20140413,     2209, -51.0001,-150.0005,    34.8152,2,     -999.0,1,     -999.0,9,     -999.0,9,     -999.0,1,     -999.0,1,     -999.0,1
320620140320,       P16S,      35,          1,         29,         29,2,20140413,       2032,   -51.0003,  -150.0010,       4949,   165.0,   8.8640,  34.5393,2,  34.5426,2,    261.5,2,   262.5,2,    2.54,2,   13.71,2,    0.02,2,    0.98,2,   3.616,2,   2.018,2,    1.97,2,  2120.5,2,  2284.6,2,   7.8534,2,       20,-999.000,1,-999.0000,1, -999.00,9,   8.8634,2, -999.00,9,  -999.0,9, -999.00,1,    44.9,2,   15.75,2,      13.76,2,     -999.0,9, -999.00,1, 20140413,     2207, -50.9999,-150.0003,    34.7055,2,     -999.0,1,     -999.0,1,     -999.0,9,     -999.0,1,     -999.0,1,     -999.0,1
320620140320,       P16S,      35,          1,         28,         28,2,20140413,       2032,   -51.0003,  -150.0010,       4949,   215.8,   8.6270,  34.5296,2,  34.5281,2,    257.3,2,   259.8,2,    3.13,2,   14.98,2,    0.01,2,    1.06,2,-999.000,9,-999.000,9, -999.00,9,  2123.9,2,  2286.2,2,   7.8454,2,       20,-999.000,9,-999.0000,9, -999.00,9,   8.6262,2, -999.00,9,  -999.0,9, -999.00,1,    45.4,2,   16.34,2,     -999.0,9,     -999.0,9, -999.00,1, 20140413,     2205, -50.9999,-150.0004,    34.6909,2,     -999.0,1,     -999.0,1,     -999.0,9,     -999.0,1,     -999.0,1,     -999.0,1
320620140320,       P16S,      35,          1,         27,         27,2,20140413,       2032,   -51.0003,  -150.0010,       4949,   265.3,   8.3091,  34.4967,2,  34.4964,2,    262.5,2,   247.6,2,    4.49,2,   17.93,2,    0.01,2,    1.25,2,   3.700,2,   1.974,2,    1.81,2,  -999.0,9,  -999.0,9,-999.0000,9,  -999.00,-999.000,1,-999.0000,1, -999.00,9,   8.3059,2, -999.00,9,  -999.0,9, -999.00,1,    43.8,2,   20.57,3,      15.12,2,     -999.0,9, -999.00,1, 20140413,     2202, -51.0002,-150.0006,    34.6591,2,     -999.0,1,     -999.0,9,     -999.0,9,     -999.0,1,     -999.0,1,     -999.0,1
320620140320,       P16S,      35,          1,         26,         26,2,20140413,       2032,   -51.0003,  -150.0010,       4949,   315.0,   8.0788,  34.4814,2,  34.4764,2,    270.4,2,   263.3,2,    4.01,2,   16.93,2,    0.01,2,    1.18,2,   3.631,2,   2.050,2,    1.99,2,  2128.2,2,  2283.2,2,   7.8334,2,       20,-999.000,9,-999.0000,9, -999.00,9,   8.0766,2, -999.00,9,  -999.0,9, -999.00,1,    45.4,2,   19.04,3,      13.68,2,     -999.0,9, -999.00,1, 20140413,     2200, -51.0003,-150.0006,    34.6390,2,     -999.0,1,     -999.0,1,     -999.0,9,     -999.0,1,     -999.0,1,     -999.0,1
320620140320,       P16S,      35,          1,         25,         25,2,20140413,       2032,   -51.0003,  -150.0010,       4949,   364.2,   8.0845,  34.4909,2,  34.4913,2,    271.7,2,   271.9,2,    3.52,2,   15.94,2,    0.01,2,    1.12,2,   3.737,6,   2.083,6,    2.05,6,  -999.0,9,  -999.0,9,-999.0000,9,  -999.00,-999.000,1,-999.0000,1, -999.00,9,   8.0848,2, -999.00,9,  -999.0,9, -999.00,1,    44.5,2,   16.85,3,      13.26,6,     -999.0,9, -999.00,1, 20140413,     2158, -51.0002,-150.0006,    34.6539,2,     -999.0,1,     -999.0,9,     -999.0,9,     -999.0,9,     -999.0,1,     -999.0,1
320620140320,       P16S,      35,          1,         24,         24,2,20140413,       2032,   -51.0003,  -150.0010,       4949,   435.5,   7.7325,  34.4372,2,  34.4387,2,    266.8,2,   265.1,2,    4.30,2,   17.80,2,    0.01,2,    1.26,2,-999.000,9,-999.000,9, -999.00,9,  2129.6,2,    2283,2,   7.8281,2,       20,-999.000,9,-999.0000,9, -999.00,9,   7.7323,2, -999.00,9,  -999.0,9, -999.00,1,      45,2, -999.00,5,     -999.0,9,     -999.0,9, -999.00,1, 20140413,     2155, -51.0001,-150.0006,    34.6011,2,     -999.0,1,     -999.0,1,     -999.0,9,     -999.0,1,     -999.0,1,     -999.0,1
320620140320,       P16S,      35,          1,         23,         23,2,20140413,       2032,   -51.0003,  -150.0010,       4949,   532.5,   7.3265,  34.3920,2,  34.3923,2,    252.9,2,   255.3,2,    6.25,2,   20.40,2,    0.01,2,    1.40,2,   3.681,2,   2.029,2,    1.79,2,  2139.3,2,  2283.2,2,   7.8033,2,       20,-999.000,1,-999.0000,1, -999.00,9,   7.3256,2, -999.00,9,  -999.0,9, -999.00,1,    43.5,2, -999.00,5,      14.81,2,     -999.0,9, -999.00,1, 20140413,     2153, -51.0002,-150.0006,    34.5545,2,     -999.0,1,     -999.0,1,     -999.0,9,     -999.0,9,     -999.0,1,     -999.0,1
320620140320,       P16S,      35,          1,         22,         22,2,20140413,       2032,   -51.0003,  -150.0010,       4949,   635.8,   6.9819,  34.3701,2,  34.3700,2,    247.9,2,   250.7,2,    7.91,2,   21.74,2,    0.00,2,    1.49,2,   3.736,2,   1.997,2,    1.59,2,  2143.3,2,  2282.8,2,    7.791,2,       20,-999.000,9,-999.0000,9, -999.00,9,   6.9828,2, -999.00,9,  -999.0,9, -999.00,1,    40.5,2, -999.00,9,      15.73,2,     -999.0,9, -999.00,9, 20140413,     2150, -51.0001,-150.0006,    34.5320,2,     -999.0,9,     -999.0,9,     -999.0,9,     -999.0,1,     -999.0,9,     -999.0,9
320620140320,       P16S,      35,          1,         21,         21,2,20140413,       2032,   -51.0003,  -150.0010,       4949,   735.6,   6.5280,  34.3402,2,  34.3401,2,    242.6,2,   242.9,2,   10.36,2,   23.44,2,    0.00,2,    1.60,2,   3.365,2,   1.807,2,    1.61,2,  2151.1,2,  2282.8,2,   7.7732,2,       20,-999.000,1,-999.0000,1, -999.00,9,   6.5281,2, -999.00,9,  -999.0,9, -999.00,1,    41.7,2, -999.00,9,      16.08,2,     -999.0,9, -999.00,9, 20140413,     2147, -51.0001,-150.0006,    34.5020,2,     -999.0,9,     -999.0,9,     -999.0,9,     -999.0,9,     -999.0,9,     -999.0,9
320620140320,       P16S,      35,          1,         20,         20,2,20140413,       2032,   -51.0003,  -150.0010,       4949,   835.0,   6.0041,  34.3228,2,  34.3222,2,    230.7,2,   230.5,2,   14.95,2,   25.71,2,    0.00,2,    1.75,2,   3.087,2,   1.612,2,    1.32,2,  2162.3,2,  2284.8,2,   7.7466,2,       20,-999.000,9,-999.0000,9, -999.00,9,   6.0039,2, -999.00,9,  -999.0,9, -999.00,1,    40.3,2, -999.00,9,      18.08,2,     -999.0,9, -999.00,9, 20140413,     2144, -51.0002,-150.0006,    34.4841,2,     -999.0,9,     -999.0,9,     -999.0,9,     -999.0,1,     -999.0,9,     -999.0,9
320620140320,       P16S,      35,          1,         19,         19,2,20140413,       2032,   -51.0003,  -150.0010,       4949,   934.8,   5.4386,  34.3141,2,  34.3142,2,    221.1,2,   221.8,2,   19.93,2,   27.51,2,    0.00,2,    1.87,2,   2.806,2,   1.411,2,    0.89,2,  2173.6,2,    2288,2,   7.7242,6,       20,-999.000,1,-999.0000,1, -999.00,9,   5.4173,3, -999.00,9,  -999.0,9, -999.00,9,    41.6,2, -999.00,9,      19.20,2,     -999.0,9, -999.00,9, 20140413,     2142, -51.0001,-150.0005,    34.4760,2,     -999.0,9,     -999.0,9,     -999.0,9,     -999.0,9,     -999.0,9,     -999.0,9
320620140320,       P16S,      35,          1,         18,         18,2,20140413,       2032,   -51.0003,  -150.0010,       4949,  1034.2,   4.8476,  34.3139,2,  34.3133,2,    213.3,2,   213.7,2,   26.38,2,   29.34,2,    0.00,2,    1.99,2,   2.480,2,   1.251,2,    0.77,2,  2187.4,6,  2293.1,2,   7.7004,2,       20,-999.000,1,-999.0000,1, -999.00,9,   4.8462,2, -999.00,9,  -999.0,9, -999.00,9,    40.4,2, -999.00,9,      20.30,2,     -999.0,9, -999.00,9, 20140413,     2139, -51.0003,-150.0007,    34.4752,2,     -999.0,9,     -999.0,9,     -999.0,9,     -999.0,1,     -999.0,9,     -999.0,9
320620140320,       P16S,      35,          1,         17,         17,2,20140413,       2032,   -51.0003,  -150.0010,       4949,  1134.5,   4.2992,  34.3245,2,  34.3243,2,    207.1,2,   207.5,2,   33.61,2,   30.82,2,    0.00,2,    2.09,2,   2.173,2,   1.099,2,    0.87,2,  2199.9,2,  2298.8,6,   7.6813,2,       20,-999.000,1,-999.0000,1, -999.00,9,   4.2987,2, -999.00,9,  -999.0,9, -999.00,9,    39.5,2, -999.00,9,      21.33,2,     -999.0,9, -999.00,9, 20140413,     2137, -51.0004,-150.0008,    34.4862,2,     -999.0,9,     -999.0,9,     -999.0,9,     -999.0,9,     -999.0,9,     -999.0,9
320620140320,       P16S,      35,          1,         16,         16,2,20140413,       2032,   -51.0003,  -150.0010,       4949,  1234.9,   3.9135,  34.3411,2,  34.3414,2,    202.4,2,   202.2,2,   39.67,2,   31.79,2,    0.00,2,    2.16,2,   1.968,2,   0.968,2,    0.53,2,  2210.5,2,  2303.5,2,    7.667,2,       20,-999.000,1,-999.0000,1, -999.00,9,   3.9147,2, -999.00,9,  -999.0,9, -999.00,9,      40,2, -999.00,9,      22.54,2,     -999.0,9, -999.00,9, 20140413,     2134, -51.0005,-150.0008,    34.5033,2,     -999.0,9,     -999.0,9,     -999.0,9,     -999.0,1,     -999.0,9,     -999.0,9
320620140320,       P16S,      35,          1,         15,         15,2,20140413,       2032,   -51.0003,  -150.0010,       4949,  1336.6,   3.5747,  34.3713,2,  34.3706,2,    194.6,2,   194.9,2,   46.61,2,   32.75,2,    0.00,2,    2.23,2,   1.637,2,   0.795,2,    0.42,2,  2221.4,2,  2310.9,2,   7.6547,2,       20,-999.000,1,-999.0000,1, -999.00,9,   3.5752,2, -999.00,9,  -999.0,9, -999.00,9,    39.2,2, -999.00,9,      23.86,2,     -999.0,9, -999.00,9, 20140413,     2131, -51.0003,-150.0007,    34.5327,2,     -999.0,9,     -999.0,9,     -999.0,9,     -999.0,9,     -999.0,9,     -999.0,9
320620140320,       P16S,      35,          1,         14,         14,2,20140413,       2032,   -51.0003,  -150.0010,       4949,  1436.0,   3.3097,  34.4031,2,  34.4020,2,    188.6,2,   188.6,2,   53.05,2,   33.45,2,    0.00,2,    2.28,2,   1.385,2,   0.654,2,    0.42,2,  -999.0,9,  -999.0,9,-999.0000,9,  -999.00,-999.000,9,-999.0000,9, -999.00,9,   3.3110,2, -999.00,9,  -999.0,9, -999.00,9,    39.5,2, -999.00,9,      23.99,2,     -999.0,9, -999.00,9, 20140413,     2129, -51.0002,-150.0006,    34.5642,2,     -999.0,9,     -999.0,9,     -999.0,9,     -999.0,1,     -999.0,9,     -999.0,9
320620140320,       P16S,      35,          1,         13,         13,2,20140413,       2032,   -51.0003,  -150.0010,       4949,  1533.4,   3.1081,  34.4413,2,  34.4398,2,    182.5,2,   182.8,2,   59.21,2,   33.86,2,    0.00,2,    2.32,2,-999.000,9,-999.000,9, -999.00,9,  2238.6,2,  2321.9,2,   7.6351,2,       20,-999.000,1,-999.0000,1, -999.00,9,   3.1119,2, -999.00,9,  -999.0,9, -999.00,9,    38.8,2, -999.00,9,     -999.0,9,     -999.0,9, -999.00,9, 20140413,     2126, -51.0001,-150.0005,    34.6022,2,     -999.0,9,     -999.0,9,     -999.0,9,     -999.0,9,     -999.0,9,     -999.0,9
320620140320,       P16S,      35,          1,         12,         12,2,20140413,       2032,   -51.0003,  -150.0010,       4949,  1664.0,   2.8812,  34.4946,2,  34.4936,2,    175.6,2,   176.0,2,   66.92,2,   34.18,2,    0.00,2,    2.34,2,   0.822,2,   0.391,2,    0.22,2,  2247.5,2,  2330.5,2,   7.6271,2,       20,-999.000,9,-999.0000,9, -999.00,9,   2.8816,2, -999.00,9,  -999.0,9, -999.00,9,    38.4,2, -999.00,9,      24.90,2,     -999.0,9, -999.00,9, 20140413,     2123, -50.9999,-150.0003,    34.6563,2,     -999.0,9,     -999.0,9,     -999.0,9,     -999.0,1,     -999.0,9,     -999.0,9
320620140320,       P16S,      35,          1,         11,         11,2,20140413,       2032,   -51.0003,  -150.0010,       4949,  1863.7,   2.6435,  34.5703,2,  34.5694,2,    170.0,2,   170.1,2,   76.49,2,   34.21,2,    0.00,2,    2.33,2,   0.489,2,   0.222,2,    0.20,2,  2257.9,2,  2340.4,2,   7.6266,2,       20,-999.000,1,-999.0000,1, -999.00,9,   2.6436,2, -999.00,9,  -999.0,9, -999.00,9,      38,2, -999.00,9,      23.92,2,     -999.0,9, -999.00,9, 20140413,     2119, -51.0001,-150.0005,    34.7324,2,     -999.0,9,     -999.0,9,     -999.0,9,     -999.0,9,     -999.0,9,     -999.0,9
320620140320,       P16S,      35,          1,         10,         10,2,20140413,       2032,   -51.0003,  -150.0010,       4949,  2085.2,   2.4512,  34.6328,2,  34.6326,2,    171.0,2,   171.3,2,   82.06,2,   33.60,2,    0.00,2,    2.30,2,-999.000,9,-999.000,9, -999.00,9,  -999.0,9,  -999.0,9,-999.0000,9,  -999.00,-999.000,9,-999.0000,9, -999.00,9,   2.4511,2, -999.00,9,  -999.0,9, -999.00,9,    40.3,2, -999.00,9,     -999.0,9,     -999.0,9, -999.00,9, 20140413,     2114, -50.9999,-150.0003,    34.7960,2,     -999.0,9,     -999.0,9,     -999.0,9,     -999.0,1,     -999.0,9,     -999.0,9
320620140320,       P16S,      35,          1,          9,         09,2,20140413,       2032,   -51.0003,  -150.0010,       4949,  2333.3,   2.2836,  34.6889,2,  34.6890,2,    178.2,2,   178.5,2,   83.52,2,   32.42,2,    0.00,2,    2.20,2,   0.248,2,   0.095,2,    0.17,2,  2257.5,2,  2348.1,2,   7.6475,2,       20,-999.000,1,-999.0000,1, -999.00,9,   2.2834,2, -999.00,9,  -999.0,9, -999.00,9,      38,2, -999.00,9,      23.55,2,     -999.0,9, -999.00,9, 20140413,     2109, -51.0000,-150.0005,    34.8526,2,     -999.0,9,     -999.0,9,     -999.0,9,     -999.0,9,     -999.0,9,     -999.0,9
320620140320,       P16S,      35,          1,          8,         08,2,20140413,       2032,   -51.0003,  -150.0010,       4949,  2584.5,   2.1557,  34.7181,2,  34.7183,2,    184.9,2,   185.1,2,   85.47,2,   31.65,2,    0.00,2,    2.14,2,-999.000,9,-999.000,9, -999.00,9,  -999.0,9,  -999.0,9,-999.0000,9,  -999.00,-999.000,9,-999.0000,9, -999.00,9,   2.1556,2, -999.00,9,  -999.0,9, -999.00,9,    38.3,2, -999.00,9,     -999.0,9,     -999.0,9, -999.00,9, 20140413,     2104, -51.0003,-150.0009,    34.8820,2,     -999.0,9,     -999.0,9,     -999.0,9,     -999.0,1,     -999.0,9,     -999.0,9
320620140320,       P16S,      35,          1,          7,         07,2,20140413,       2032,   -51.0003,  -150.0010,       4949,  2835.0,   1.9636,  34.7338,2,  34.7340,2,    190.8,2,   191.0,2,   90.45,2,   31.30,2,    0.00,2,    2.12,2,   0.160,2,   0.057,2,    0.08,2,  2253.4,2,  2352.5,2,   7.6697,2,       20,-999.000,1,-999.0000,1, -999.00,9,   1.9637,2, -999.00,9,  -999.0,9, -999.00,9,    38.9,2, -999.00,9,      21.51,2,     -999.0,9, -999.00,9, 20140413,     2059, -51.0006,-150.0010,    34.8978,2,     -999.0,9,     -999.0,9,     -999.0,9,     -999.0,9,     -999.0,9,     -999.0,9
320620140320,       P16S,      35,          1,          6,         06,2,20140413,       2032,   -51.0003,  -150.0010,       4949,  3100.6,   1.7526,  34.7364,2,  34.7365,2,    195.0,2,   194.9,2,   96.41,2,   31.27,2,    0.00,2,    2.12,2,   0.134,2,   0.041,2,    0.03,2,  -999.0,9,  -999.0,9,-999.0000,9,  -999.00,-999.000,9,-999.0000,9, -999.00,9,   1.7528,2, -999.00,9,  -999.0,9, -999.00,9,    39.5,2, -999.00,9,      20.13,2,     -999.0,9, -999.00,9, 20140413,     2054, -51.0002,-150.0008,    34.9003,2,     -999.0,9,     -999.0,9,     -999.0,9,     -999.0,1,     -999.0,9,     -999.0,9