BOTTLE,20230715CCHSIOCBG
EXPOCODE,SECT_ID,STNNBR,CASTNO,SAMPNO,BTLNBR,BTLNBR_FLAG_W,DATE,TIME,LATITUDE,LONGITUDE,DEPTH,CTDPRS,CTDTMP,CTDSAL,CTDSAL_FLAG_W,SALNTY,SALNTY_FLAG_W,CTDOXY,CTDOXY_FLAG_W,OXYGEN,OXYGEN_FLAG_W,SILCAT,SILCAT_FLAG_W,NITRAT,NITRAT_FLAG_W,NITRIT,NITRIT_FLAG_W,PHSPHT,PHSPHT_FLAG_W,CFC-11,CFC-11_FLAG_W,CFC-12,CFC-12_FLAG_W,SF6,SF6_FLAG_W,TCARBN,TCARBN_FLAG_W,ALKALI,ALKALI_FLAG_W,PH_TOT,PH_TOT_FLAG_W,PH_TMP,TRITUM,TRITUM_FLAG_W,HELIUM,HELIUM_FLAG_W,DELHE3,DELHE3_FLAG_W,REFTMP,REFTMP_FLAG_W,DELC13,DELC13_FLAG_W,DELC14,DELC14_FLAG_W,DELO18,DELO18_FLAG_W,DOC,DOC_FLAG_W,TDN,TDN_FLAG_W,N2O,N2O_FLAG_W,CALCIUM,CALCIUM_FLAG_W,D15N_NO3,D15N_NO3_FLAG_W,BTL_DATE,BTL_TIME,BTL_LAT,BTL_LON,SALTREF,SALTREF_FLAG_W,D18O_NO3,D18O_NO3_FLAG_W,DSI30,DSI30_FLAG_W,CDOM_NASA,CDOM_NASA_FLAG_W,CDOM_UCSB,CDOM_UCSB_FLAG_W,D15N_NO2+NO3,D15N_NO2+NO3_FLAG_W,D18O_NO2+NO3,D18O_NO2+NO3_FLAG_W
,,,,,,,,,,,METERS,DBAR,ITS-90,PSS-78,,PSS-78,,UMOL/KG,,UMOL/KG,,UMOL/KG,,UMOL/KG,,UMOL/KG,,UMOL/KG,,PMOL/KG,,PMOL/KG,,FMOL/KG,,UMOL/KG,,UMOL/KG,,,,DEG C,TU,,NMOL/KG,,PERCNT,,DEG C,,/MILLE,,/MILLE,,/MILLE,,UMOL/KG,,UMOL/KG,,NMOL/KG,,MMOL/KG,,/MILLE,,,,,,G/KG,,/MILLE,,/MILLE,,,,,,/MILLE,,/MILLE,
320620140320,       P16S,      54,          1,          5,         05,2,20140421,       0656,   -39.0002,  -150.0003,     -999.0,  4302.7,   1.2500,  34.7144,2,  34.7148,2,    199.5,2,   199.4,2,  114.81,2,   32.26,2,    0.00,2,    2.24,2,-999.000,9,-999.000,9, -999.00,9,  2265.7,2,  2368.5,2,   7.6784,2,       20,-999.000,9,-999.0000,9, -999.00,9,   1.2503,2, -999.00,9,  -999.0,9, -999.00,9,    39.5,2, -999.00,9,     -999.0,9,     -999.0,9, -999.00,9, 20140421,      735, -39.0002,-150.0004,    34.8785,2,     -999.0,9,     -999.0,9,     -999.0,9,     -999.0,9,     -999.0,9,     -999.0,9
320620140320,       P16S,      54,          1,          4,         04,2,20140421,       0656,   -39.0002,  -150.0003,     -999.0,  4701.8,   1.1799,  34.7128,2,  34.7117,2,    201.7,2,   201.7,2,  117.25,2,   32.34,2,    0.00,2,    2.23,2,-999.000,9,-999.000,9, -999.00,9,  2266.8,2,  2369.9,2,     7.68,2,       20,-999.000,9,-999.0000,1, -999.00,9,   1.1798,2, -999.00,9,  -999.0,9, -999.00,9,    39.7,2, -999.00,9,     -999.0,9,     -999.0,9, -999.00,9, 20140421,      726, -39.0000,-150.0004,    34.8754,2,     -999.0,9,     -999.0,9,     -999.0,9,     -999.0,9,     -999.0,9,     -999.0,9
320620140320,       P16S,      54,          1,          3,         03,2,20140421,       0656,   -39.0002,  -150.0003,     -999.0,  5098.9,   1.1630,  34.7112,2,  34.7111,2,    202.7,2,   203.0,2,  118.82,2,   32.43,2,    0.00,2,    2.22,2,   0.015,2,   0.003,2,    0.00,2,  2266.9,2,  2369.6,2,   7.6793,2,       20,-999.000,1,-999.0000,1, -999.00,9,   1.1635,2, -999.00,9,  -999.0,9, -999.00,9,    37.5,2, -999.00,9,      20.60,2,     -999.0,9, -999.00,9, 20140421,      715, -39.0001,-150.0003,    34.8748,2,     -999.0,9,     -999.0,9,     -999.0,9,     -999.0,9,     -999.0,9,     -999.0,9
320620140320,       P16S,      54,          1,          2,         02,2,20140421,       0656,   -39.0002,  -150.0003,     -999.0,  5338.6,   1.1646,  34.7102,2,  34.7101,2,    203.7,2,   203.6,2,  119.40,2,   32.37,2,    0.00,2,    2.22,2,-999.000,9,-999.000,9, -999.00,9,  2265.4,2,  2368.1,2,    7.678,2,       20,-999.000,9,-999.0000,1, -999.00,9,   1.1643,2, -999.00,9,  -999.0,9, -999.00,9,    39.4,2, -999.00,9,     -999.0,9,     -999.0,9, -999.00,9, 20140421,      706, -39.0002,-150.0003,    34.8738,2,     -999.0,9,     -999.0,9,     -999.0,9,     -999.0,9,     -999.0,9,     -999.0,9
320620140320,       P16S,      54,          1,          1,         01,2,20140421,       0656,   -39.0002,  -150.0003,     -999.0,  5588.2,   1.1799,  34.7098,2,  34.7095,2,    204.1,2,   204.4,2,  119.50,2,   32.37,2,    0.00,2,    2.23,2,   0.031,2,   0.010,2,    0.02,2,  2267.3,6,  2367.7,2,   7.6767,2,       20,-999.000,1,-999.0000,1, -999.00,9,   1.1797,2, -999.00,9,  -999.0,9, -999.00,9,    37.9,2, -999.00,9,      21.05,2,     -999.0,9, -999.00,9, 20140421,      656, -39.0002,-150.0003,    34.8732,2,     -999.0,9,     -999.0,9,     -999.0,9,     -999.0,9,     -999.0,9,     -999.0,9