BOTTLE,20230715CCHSIOCBG
EXPOCODE,SECT_ID,STNNBR,CASTNO,SAMPNO,BTLNBR,BTLNBR_FLAG_W,DATE,TIME,LATITUDE,LONGITUDE,DEPTH,CTDPRS,CTDTMP,CTDSAL,CTDSAL_FLAG_W,SALNTY,SALNTY_FLAG_W,CTDOXY,CTDOXY_FLAG_W,OXYGEN,OXYGEN_FLAG_W,SILCAT,SILCAT_FLAG_W,NITRAT,NITRAT_FLAG_W,NITRIT,NITRIT_FLAG_W,PHSPHT,PHSPHT_FLAG_W,CFC-11,CFC-11_FLAG_W,CFC-12,CFC-12_FLAG_W,SF6,SF6_FLAG_W,TCARBN,TCARBN_FLAG_W,ALKALI,ALKALI_FLAG_W,PH_TOT,PH_TOT_FLAG_W,PH_TMP,TRITUM,TRITUM_FLAG_W,HELIUM,HELIUM_FLAG_W,DELHE3,DELHE3_FLAG_W,REFTMP,REFTMP_FLAG_W,DELC13,DELC13_FLAG_W,DELC14,DELC14_FLAG_W,DELO18,DELO18_FLAG_W,DOC,DOC_FLAG_W,TDN,TDN_FLAG_W,N2O,N2O_FLAG_W,CALCIUM,CALCIUM_FLAG_W,D15N_NO3,D15N_NO3_FLAG_W,BTL_DATE,BTL_TIME,BTL_LAT,BTL_LON,SALTREF,SALTREF_FLAG_W,D18O_NO3,D18O_NO3_FLAG_W,DSI30,DSI30_FLAG_W,CDOM_NASA,CDOM_NASA_FLAG_W,CDOM_UCSB,CDOM_UCSB_FLAG_W,D15N_NO2+NO3,D15N_NO2+NO3_FLAG_W,D18O_NO2+NO3,D18O_NO2+NO3_FLAG_W
,,,,,,,,,,,METERS,DBAR,ITS-90,PSS-78,,PSS-78,,UMOL/KG,,UMOL/KG,,UMOL/KG,,UMOL/KG,,UMOL/KG,,UMOL/KG,,PMOL/KG,,PMOL/KG,,FMOL/KG,,UMOL/KG,,UMOL/KG,,,,DEG C,TU,,NMOL/KG,,PERCNT,,DEG C,,/MILLE,,/MILLE,,/MILLE,,UMOL/KG,,UMOL/KG,,NMOL/KG,,MMOL/KG,,/MILLE,,,,,,G/KG,,/MILLE,,/MILLE,,,,,,/MILLE,,/MILLE,
320620140320,       P16S,      25,          1,          5,         05,2,20140410,       0153,   -55.9999,  -149.9989,       3405,  2413.6,   1.2919,  34.7275,2,  34.7272,2,    200.6,2,   199.8,2,  106.74,2,   31.35,2,    0.00,2,    2.17,2,   0.127,2,   0.054,2,    0.02,2,  2255.9,2,  2358.6,2,    7.673,2,       20,-999.000,9,-999.0000,9, -999.00,9,   1.2923,2, -999.00,9,  -999.0,9, -999.00,9,    38.8,2, -999.00,9,      20.31,2,     -999.0,9, -999.00,1, 20140410,      216, -55.9997,-149.9989,    34.8910,2,     -999.0,1,     -999.0,9,     -999.0,9,     -999.0,9,     -999.0,9,     -999.0,9
320620140320,       P16S,      25,          1,          4,         04,2,20140410,       0153,   -55.9999,  -149.9989,       3405,  2664.8,   1.1470,  34.7213,2,  34.7213,2,    202.4,2,   201.8,2,  111.62,2,   31.59,2,    0.00,2,    2.18,2,   0.138,2,   0.051,2,    0.05,2,  -999.0,9,  -999.0,9,-999.0000,9,  -999.00,-999.000,9,-999.0000,9, -999.00,9,   1.1468,2, -999.00,9,  -999.0,9, -999.00,9,    39.1,2, -999.00,9,      20.65,2,     -999.0,9, -999.00,1, 20140410,      211, -55.9997,-149.9989,    34.8850,2,     -999.0,1,     -999.0,9,     -999.0,9,     -999.0,9,     -999.0,9,     -999.0,9
320620140320,       P16S,      25,          1,          3,         03,2,20140410,       0153,   -55.9999,  -149.9989,       3405,  2914.7,   0.9434,  34.7125,2,  34.7119,2,    204.8,2,   204.6,2,  119.63,2,   31.95,2,    0.00,2,    2.21,2,   0.157,2,   0.069,2,    0.01,2,  2259.1,2,  2361.7,2,   7.6692,2,       20,-999.000,9,-999.0000,9, -999.00,9,   0.9429,2, -999.00,9,  -999.0,9, -999.00,9,    38.2,2, -999.00,9,      20.56,2,     -999.0,9, -999.00,1, 20140410,      205, -55.9999,-149.9989,    34.8756,2,     -999.0,1,     -999.0,9,     -999.0,9,     -999.0,9,     -999.0,9,     -999.0,9
320620140320,       P16S,      25,          1,          2,         02,2,20140410,       0153,   -55.9999,  -149.9989,       3405,  3151.2,   0.8751,  34.7093,2,  34.7085,2,    205.4,2,   205.4,2,  124.81,2,   32.06,2,    0.00,2,    2.22,2,   0.170,2,   0.071,2,    0.02,2,  2261.5,2,  2362.5,2,    7.668,2,       20,-999.000,9,-999.0000,9, -999.00,9,   0.8755,2, -999.00,9,  -999.0,9, -999.00,9,    39.1,2, -999.00,9,      20.18,2,     -999.0,9, -999.00,1, 20140410,      200, -55.9994,-149.9988,    34.8722,2,     -999.0,1,     -999.0,9,     -999.0,9,     -999.0,9,     -999.0,9,     -999.0,9
320620140320,       P16S,      25,          1,          1,         01,2,20140410,       0153,   -55.9999,  -149.9989,       3405,  3440.4,   0.8430,  34.7073,2,  34.7062,2,    205.7,2,   205.8,2,  128.52,2,   32.29,2,    0.00,2,    2.21,2,   0.199,2,   0.086,2,    0.08,2,  2261.5,2,  2363.6,2,   7.6668,2,       20,-999.000,9,-999.0000,9, -999.00,9,   0.8429,2,    0.69,6,  -168.6,6, -999.00,9,    38.4,2, -999.00,9,      20.50,2,     -999.0,9, -999.00,1, 20140410,      153, -55.9999,-149.9989,    34.8698,2,     -999.0,1,     -999.0,9,     -999.0,9,     -999.0,9,     -999.0,9,     -999.0,9