BOTTLE,20230715CCHSIOCBG
EXPOCODE,SECT_ID,STNNBR,CASTNO,SAMPNO,BTLNBR,BTLNBR_FLAG_W,DATE,TIME,LATITUDE,LONGITUDE,DEPTH,CTDPRS,CTDTMP,CTDSAL,CTDSAL_FLAG_W,SALNTY,SALNTY_FLAG_W,CTDOXY,CTDOXY_FLAG_W,OXYGEN,OXYGEN_FLAG_W,SILCAT,SILCAT_FLAG_W,NITRAT,NITRAT_FLAG_W,NITRIT,NITRIT_FLAG_W,PHSPHT,PHSPHT_FLAG_W,CFC-11,CFC-11_FLAG_W,CFC-12,CFC-12_FLAG_W,SF6,SF6_FLAG_W,TCARBN,TCARBN_FLAG_W,ALKALI,ALKALI_FLAG_W,PH_TOT,PH_TOT_FLAG_W,PH_TMP,TRITUM,TRITUM_FLAG_W,HELIUM,HELIUM_FLAG_W,DELHE3,DELHE3_FLAG_W,REFTMP,REFTMP_FLAG_W,DELC13,DELC13_FLAG_W,DELC14,DELC14_FLAG_W,DELO18,DELO18_FLAG_W,DOC,DOC_FLAG_W,TDN,TDN_FLAG_W,N2O,N2O_FLAG_W,CALCIUM,CALCIUM_FLAG_W,D15N_NO3,D15N_NO3_FLAG_W,BTL_DATE,BTL_TIME,BTL_LAT,BTL_LON,SALTREF,SALTREF_FLAG_W,D18O_NO3,D18O_NO3_FLAG_W,DSI30,DSI30_FLAG_W,CDOM_NASA,CDOM_NASA_FLAG_W,CDOM_UCSB,CDOM_UCSB_FLAG_W,D15N_NO2+NO3,D15N_NO2+NO3_FLAG_W,D18O_NO2+NO3,D18O_NO2+NO3_FLAG_W
,,,,,,,,,,,METERS,DBAR,ITS-90,PSS-78,,PSS-78,,UMOL/KG,,UMOL/KG,,UMOL/KG,,UMOL/KG,,UMOL/KG,,UMOL/KG,,PMOL/KG,,PMOL/KG,,FMOL/KG,,UMOL/KG,,UMOL/KG,,,,DEG C,TU,,NMOL/KG,,PERCNT,,DEG C,,/MILLE,,/MILLE,,/MILLE,,UMOL/KG,,UMOL/KG,,NMOL/KG,,MMOL/KG,,/MILLE,,,,,,G/KG,,/MILLE,,/MILLE,,,,,,/MILLE,,/MILLE,
320620140320,       P16S,      62,          1,          5,         05,2,20140424,       1353,   -33.6669,  -150.0000,       5596,  4263.6,   1.2961,  34.7088,2,  34.7096,2,    195.2,2,   195.4,2,  117.07,2,   32.66,2,    0.00,2,    2.28,2,   0.008,2,   0.001,2,    0.00,2,  2269.8,2,  2371.3,2,   7.6732,2,       20,-999.000,9,-999.0000,9, -999.00,9,   1.2962,2, -999.00,9,  -999.0,9, -999.00,9,      39,2, -999.00,9,      20.60,2,     -999.0,9, -999.00,9, 20140424,     1422, -33.6669,-150.0000,    34.8733,2,     -999.0,9,     -999.0,9,     -999.0,9,     -999.0,9,     -999.0,9,     -999.0,9
320620140320,       P16S,      62,          1,          4,         04,2,20140424,       1353,   -33.6669,  -150.0000,       5596,  4664.5,   1.1958,  34.7105,2,  34.7096,2,    201.1,2,   200.6,2,  117.86,2,   32.45,2,    0.00,2,    2.24,2,-999.000,9,-999.000,9, -999.00,9,  2265.1,2,  2369.1,2,   7.6763,2,       20,-999.000,9,-999.0000,9, -999.00,9,   1.1960,2, -999.00,9,  -999.0,9, -999.00,9,      44,2, -999.00,9,     -999.0,9,     -999.0,9, -999.00,9, 20140424,     1414, -33.6669,-149.9999,    34.8733,2,     -999.0,9,     -999.0,9,     -999.0,9,     -999.0,9,     -999.0,9,     -999.0,9
320620140320,       P16S,      62,          1,          3,         03,2,20140424,       1353,   -33.6669,  -150.0000,       5596,  5064.1,   1.1575,  34.7102,2,  34.7102,2,    203.4,2,   203.5,2,  118.83,2,   32.33,2,    0.00,2,    2.23,2,   0.019,2,   0.003,2,    0.01,2,  2265.1,2,  2368.9,2,   7.6774,2,       20,-999.000,9,-999.0000,9, -999.00,9,   1.1574,2, -999.00,9,  -999.0,9, -999.00,9,    42.3,2, -999.00,9,      20.31,2,     -999.0,9, -999.00,9, 20140424,     1406, -33.6669,-150.0000,    34.8739,2,     -999.0,9,     -999.0,9,     -999.0,9,     -999.0,9,     -999.0,9,     -999.0,9
320620140320,       P16S,      62,          1,          2,         02,2,20140424,       1353,   -33.6669,  -150.0000,       5596,  5300.0,   1.1634,  34.7099,2,  34.7092,2,    203.7,2,   204.0,2,  119.32,2,   32.38,2,    0.00,2,    2.24,2,-999.000,9,-999.000,9, -999.00,9,  2264.4,2,  2368.9,2,   7.6765,2,       20,-999.000,9,-999.0000,9, -999.00,9,   1.1636,2, -999.00,9,  -999.0,9, -999.00,9,    41.9,2, -999.00,9,     -999.0,9,     -999.0,9, -999.00,9, 20140424,     1400, -33.6669,-150.0000,    34.8729,2,     -999.0,9,     -999.0,9,     -999.0,9,     -999.0,9,     -999.0,9,     -999.0,9
320620140320,       P16S,      62,          1,          1,         01,2,20140424,       1353,   -33.6669,  -150.0000,       5596,  5527.8,   1.1838,  34.7097,2,  34.7098,2,    203.9,2,   206.0,3,  119.52,2,   32.33,2,    0.00,2,    2.22,2,   0.035,2,   0.007,2,    0.00,2,  2264.7,6,  2368.4,2,   7.6772,2,       20,-999.000,9,-999.0000,9, -999.00,9,   1.1837,2, -999.00,9,  -999.0,9, -999.00,9,    43.4,2, -999.00,9,      20.71,2,     -999.0,9, -999.00,9, 20140424,     1353, -33.6669,-150.0000,    34.8735,2,     -999.0,9,     -999.0,9,     -999.0,9,     -999.0,9,     -999.0,9,     -999.0,9