BOTTLE,20230715CCHSIOCBG
EXPOCODE,SECT_ID,STNNBR,CASTNO,SAMPNO,BTLNBR,BTLNBR_FLAG_W,DATE,TIME,LATITUDE,LONGITUDE,DEPTH,CTDPRS,CTDTMP,CTDSAL,CTDSAL_FLAG_W,SALNTY,SALNTY_FLAG_W,CTDOXY,CTDOXY_FLAG_W,OXYGEN,OXYGEN_FLAG_W,SILCAT,SILCAT_FLAG_W,NITRAT,NITRAT_FLAG_W,NITRIT,NITRIT_FLAG_W,PHSPHT,PHSPHT_FLAG_W,CFC-11,CFC-11_FLAG_W,CFC-12,CFC-12_FLAG_W,SF6,SF6_FLAG_W,TCARBN,TCARBN_FLAG_W,ALKALI,ALKALI_FLAG_W,PH_TOT,PH_TOT_FLAG_W,PH_TMP,TRITUM,TRITUM_FLAG_W,HELIUM,HELIUM_FLAG_W,DELHE3,DELHE3_FLAG_W,REFTMP,REFTMP_FLAG_W,DELC13,DELC13_FLAG_W,DELC14,DELC14_FLAG_W,DELO18,DELO18_FLAG_W,DOC,DOC_FLAG_W,TDN,TDN_FLAG_W,N2O,N2O_FLAG_W,CALCIUM,CALCIUM_FLAG_W,D15N_NO3,D15N_NO3_FLAG_W,BTL_DATE,BTL_TIME,BTL_LAT,BTL_LON,SALTREF,SALTREF_FLAG_W,D18O_NO3,D18O_NO3_FLAG_W,DSI30,DSI30_FLAG_W,CDOM_NASA,CDOM_NASA_FLAG_W,CDOM_UCSB,CDOM_UCSB_FLAG_W,D15N_NO2+NO3,D15N_NO2+NO3_FLAG_W,D18O_NO2+NO3,D18O_NO2+NO3_FLAG_W
,,,,,,,,,,,METERS,DBAR,ITS-90,PSS-78,,PSS-78,,UMOL/KG,,UMOL/KG,,UMOL/KG,,UMOL/KG,,UMOL/KG,,UMOL/KG,,PMOL/KG,,PMOL/KG,,FMOL/KG,,UMOL/KG,,UMOL/KG,,,,DEG C,TU,,NMOL/KG,,PERCNT,,DEG C,,/MILLE,,/MILLE,,/MILLE,,UMOL/KG,,UMOL/KG,,NMOL/KG,,MMOL/KG,,/MILLE,,,,,,G/KG,,/MILLE,,/MILLE,,,,,,/MILLE,,/MILLE,
320620140320,       P16S,      68,          1,          5,         05,2,20140426,       1946,   -29.6661,  -150.0003,       4240,  3213.6,   1.6508,  34.6784,2,  34.6779,2,    161.6,2,   162.1,2,  128.10,2,   35.25,2,    0.00,2,    2.43,2,  -0.002,2,   0.001,2,    0.00,2,  2305.6,2,  2398.3,2,   7.6474,6,       20,-999.000,9,-999.0000,9, -999.00,9,   1.6508,2, -999.00,9,  -999.0,9, -999.00,9,    35.9,2, -999.00,9,      22.80,2,     -999.0,9, -999.00,9, 20140426,     2009, -29.6667,-149.9997,    34.8414,2,     -999.0,9,     -999.0,9,     -999.0,9,     -999.0,9,     -999.0,9,     -999.0,9
320620140320,       P16S,      68,          1,          4,         04,2,20140426,       1946,   -29.6661,  -150.0003,       4240,  3500.0,   1.5437,  34.6878,2,  34.6873,2,    171.2,2,   170.7,2,  125.26,2,   34.56,2,    0.00,2,    2.39,2,-999.000,9,-999.000,9, -999.00,9,  2296.3,2,  2391.6,2,   7.6545,2,       20,-999.000,9,-999.0000,9, -999.00,9,   1.5440,2, -999.00,9,  -999.0,9, -999.00,9,    35.2,2, -999.00,9,     -999.0,9,     -999.0,1, -999.00,9, 20140426,     2003, -29.6665,-149.9999,    34.8509,2,     -999.0,9,     -999.0,9,     -999.0,9,     -999.0,9,     -999.0,9,     -999.0,9
320620140320,       P16S,      68,          1,          3,         03,2,20140426,       1946,   -29.6661,  -150.0003,       4240,  3798.3,   1.4162,  34.6960,2,  34.6954,2,    181.0,2,   181.3,2,  122.62,2,   33.77,2,    0.00,2,    2.34,2,  -0.002,2,   0.001,2,    0.00,2,  2286.6,2,  2385.9,6,   7.6628,2,       20,-999.000,9,-999.0000,9, -999.00,9,   1.4166,2, -999.00,9,  -999.0,9, -999.00,9,    34.5,2, -999.00,9,      21.49,2,     -999.0,9, -999.00,9, 20140426,     1957, -29.6662,-150.0003,    34.8590,2,     -999.0,9,     -999.0,9,     -999.0,9,     -999.0,9,     -999.0,9,     -999.0,9
320620140320,       P16S,      68,          1,          2,         02,2,20140426,       1946,   -29.6661,  -150.0003,       4240,  4099.0,   1.3336,  34.7010,2,  34.7011,2,    187.9,2,   188.5,2,  121.25,2,   33.30,2,    0.00,2,    2.29,2,-999.000,9,-999.000,9, -999.00,9,  2279.8,2,  2380.6,2,   7.6688,2,       20,-999.000,9,-999.0000,9, -999.00,9,   1.3337,2, -999.00,9,  -999.0,9, -999.00,9,    35.3,2, -999.00,9,     -999.0,9,     -999.0,1, -999.00,9, 20140426,     1951, -29.6662,-150.0002,    34.8647,2,     -999.0,9,     -999.0,9,     -999.0,9,     -999.0,9,     -999.0,9,     -999.0,9
320620140320,       P16S,      68,          1,          1,         01,2,20140426,       1946,   -29.6661,  -150.0003,       4240,  4301.8,   1.3179,  34.7028,2,  34.7019,2,    190.5,2,   190.4,2,  120.76,2,   33.18,2,    0.00,2,    2.27,2,   0.000,2,   0.001,2,    0.01,2,  2277.8,6,    2379,2,   7.6703,2,       20,-999.000,9,-999.0000,9, -999.00,9,   1.3183,2, -999.00,9,  -999.0,9, -999.00,9,    37.9,2, -999.00,9,      20.41,2,     -999.0,1, -999.00,9, 20140426,     1946, -29.6661,-150.0003,    34.8655,2,     -999.0,9,     -999.0,9,     -999.0,9,     -999.0,9,     -999.0,9,     -999.0,9