BOTTLE,20230715CCHSIOCBG
EXPOCODE,SECT_ID,STNNBR,CASTNO,SAMPNO,BTLNBR,BTLNBR_FLAG_W,DATE,TIME,LATITUDE,LONGITUDE,DEPTH,CTDPRS,CTDTMP,CTDSAL,CTDSAL_FLAG_W,SALNTY,SALNTY_FLAG_W,CTDOXY,CTDOXY_FLAG_W,OXYGEN,OXYGEN_FLAG_W,SILCAT,SILCAT_FLAG_W,NITRAT,NITRAT_FLAG_W,NITRIT,NITRIT_FLAG_W,PHSPHT,PHSPHT_FLAG_W,CFC-11,CFC-11_FLAG_W,CFC-12,CFC-12_FLAG_W,SF6,SF6_FLAG_W,TCARBN,TCARBN_FLAG_W,ALKALI,ALKALI_FLAG_W,PH_TOT,PH_TOT_FLAG_W,PH_TMP,TRITUM,TRITUM_FLAG_W,HELIUM,HELIUM_FLAG_W,DELHE3,DELHE3_FLAG_W,REFTMP,REFTMP_FLAG_W,DELC13,DELC13_FLAG_W,DELC14,DELC14_FLAG_W,DELO18,DELO18_FLAG_W,DOC,DOC_FLAG_W,TDN,TDN_FLAG_W,N2O,N2O_FLAG_W,CALCIUM,CALCIUM_FLAG_W,D15N_NO3,D15N_NO3_FLAG_W,BTL_DATE,BTL_TIME,BTL_LAT,BTL_LON,SALTREF,SALTREF_FLAG_W,D18O_NO3,D18O_NO3_FLAG_W,DSI30,DSI30_FLAG_W,CDOM_NASA,CDOM_NASA_FLAG_W,CDOM_UCSB,CDOM_UCSB_FLAG_W,D15N_NO2+NO3,D15N_NO2+NO3_FLAG_W,D18O_NO2+NO3,D18O_NO2+NO3_FLAG_W
,,,,,,,,,,,METERS,DBAR,ITS-90,PSS-78,,PSS-78,,UMOL/KG,,UMOL/KG,,UMOL/KG,,UMOL/KG,,UMOL/KG,,UMOL/KG,,PMOL/KG,,PMOL/KG,,FMOL/KG,,UMOL/KG,,UMOL/KG,,,,DEG C,TU,,NMOL/KG,,PERCNT,,DEG C,,/MILLE,,/MILLE,,/MILLE,,UMOL/KG,,UMOL/KG,,NMOL/KG,,MMOL/KG,,/MILLE,,,,,,G/KG,,/MILLE,,/MILLE,,,,,,/MILLE,,/MILLE,
320620140320,       P16S,      45,          1,         36,         36,2,20140417,       1948,   -45.0002,  -149.9997,       5350,     6.9,  13.8486,  34.3541,2,  34.3545,2,    260.2,2,   259.4,2,    0.00,2,    6.24,2,    0.09,2,    0.56,2,   2.610,2,   1.637,2,    1.80,2,  2060.7,2,  2280.2,2,   7.9786,2,       20,-999.000,9,-999.0000,9, -999.00,9,  13.8480,2, -999.00,9,  -999.0,9, -999.00,9,  -999.0,9, -999.00,9,       7.69,2,     -999.0,9, -999.00,9, 20140417,     2218, -45.0000,-149.9996,    34.5165,2,     -999.0,9,     -999.0,9,     -999.0,9,     -999.0,1,     -999.0,9,     -999.0,9
320620140320,       P16S,      45,          1,         35,         35,2,20140417,       1948,   -45.0002,  -149.9997,       5350,    19.5,  13.8481,  34.3541,2,  34.3551,2,    260.7,2,   259.5,2,    0.00,2,    6.22,2,    0.09,2,    0.54,2,   2.735,2,   1.668,2,    1.81,2,  2060.9,6,  2278.8,2,   7.9791,6,       20,-999.000,9,-999.0000,9, -999.00,9,  13.8485,2, -999.00,9,  -999.0,9, -999.00,9,  -999.0,9, -999.00,9,       9.83,2,     -999.0,9, -999.00,9, 20140417,     2216, -45.0000,-149.9995,    34.5171,2,     -999.0,9,     -999.0,9,     -999.0,9,     -999.0,1,     -999.0,9,     -999.0,9
320620140320,       P16S,      45,          1,         34,         34,2,20140417,       1948,   -45.0002,  -149.9997,       5350,    38.7,  13.8431,  34.3540,2,-999.0000,9,   -999.0,9,  -999.0,9, -999.00,9, -999.00,9, -999.00,9, -999.00,9,-999.000,9,-999.000,9, -999.00,9,  -999.0,9,  -999.0,9,-999.0000,9,  -999.00,-999.000,9,-999.0000,9, -999.00,9,  13.8468,2, -999.00,9,  -999.0,9, -999.00,9,  -999.0,9, -999.00,9,     -999.0,9,     -999.0,9, -999.00,9, 20140417,     2214, -45.0000,-149.9995,     -999.0,9,     -999.0,9,     -999.0,9,     -999.0,9,     -999.0,9,     -999.0,9,     -999.0,9
320620140320,       P16S,      45,          1,         33,         33,2,20140417,       1948,   -45.0002,  -149.9997,       5350,    38.9,  13.8412,  34.3539,2,  34.3557,2,    260.8,2,   259.2,2,    0.00,2,    6.22,2,    0.09,2,    0.53,2,   2.731,2,   1.636,2,    1.92,2,  2061.3,2,  2278.4,6,   7.9778,2,       20,-999.000,9,-999.0000,9, -999.00,9,  13.8465,2,    1.75,2,    19.3,2, -999.00,9,  -999.0,9, -999.00,9,       8.31,2,     -999.0,9, -999.00,9, 20140417,     2214, -45.0000,-149.9995,    34.5177,2,     -999.0,9,     -999.0,9,     -999.0,9,     -999.0,1,     -999.0,9,     -999.0,9
320620140320,       P16S,      45,          1,         31,         31,2,20140417,       1948,   -45.0002,  -149.9997,       5350,    63.8,  13.3866,  34.3651,2,  34.3984,3,    264.5,2,   261.6,2,    0.00,2,    6.83,2,    0.13,2,    0.59,2,   2.845,2,   1.695,2,    1.74,2,  2066.4,2,  2279.4,2,   7.9664,2,       20,-999.000,9,-999.0000,9, -999.00,9,  13.3318,3,    1.73,2,    21.8,2, -999.00,9,  -999.0,9, -999.00,9,       9.34,2,     -999.0,9, -999.00,9, 20140417,     2211, -45.0000,-149.9996,    34.5606,3,     -999.0,9,     -999.0,9,     -999.0,9,     -999.0,1,     -999.0,9,     -999.0,9
320620140320,       P16S,      45,          1,         32,         32,2,20140417,       1948,   -45.0002,  -149.9997,       5350,    64.6,  13.3499,  34.3655,2,-999.0000,9,   -999.0,9,  -999.0,9, -999.00,9, -999.00,9, -999.00,9, -999.00,9,-999.000,9,-999.000,9, -999.00,9,  -999.0,9,  -999.0,9,-999.0000,9,  -999.00,-999.000,9,-999.0000,9, -999.00,9,  13.3942,3, -999.00,9,  -999.0,9, -999.00,9,  -999.0,9, -999.00,9,     -999.0,9,     -999.0,9, -999.00,9, 20140417,     2211, -45.0000,-149.9995,     -999.0,9,     -999.0,9,     -999.0,9,     -999.0,9,     -999.0,9,     -999.0,9,     -999.0,9
320620140320,       P16S,      45,          1,         30,         30,2,20140417,       1948,   -45.0002,  -149.9997,       5350,    90.4,   8.8127,  34.4684,2,  34.4703,2,    273.9,2,   273.0,2,    1.37,2,   11.85,2,    0.68,2,    0.94,2,   3.586,2,   2.084,2,    2.11,2,  2112.3,2,  2281.8,2,    7.868,2,       20,-999.000,9,-999.0000,9, -999.00,9,   8.8139,2,    1.38,2,    23.8,2, -999.00,9,  -999.0,9, -999.00,9,      10.14,2,     -999.0,9, -999.00,9, 20140417,     2209, -45.0000,-149.9998,    34.6328,2,     -999.0,9,     -999.0,9,     -999.0,9,     -999.0,1,     -999.0,9,     -999.0,9
320620140320,       P16S,      45,          1,         29,         29,2,20140417,       1948,   -45.0002,  -149.9997,       5350,   133.6,   8.5515,  34.4863,2,  34.4862,2,    272.2,2,   270.8,2,    1.47,2,   13.28,2,    0.02,2,    0.96,2,   3.680,2,   2.070,2,    2.00,2,  2115.1,2,  2282.4,2,   7.8614,2,       20,-999.000,9,-999.0000,9, -999.00,9,   8.5520,2,    1.37,2,    23.1,2, -999.00,9,  -999.0,9, -999.00,9,      12.38,2,     -999.0,9, -999.00,9, 20140417,     2207, -45.0000,-149.9997,    34.6488,2,     -999.0,9,     -999.0,9,     -999.0,9,     -999.0,1,     -999.0,9,     -999.0,9
320620140320,       P16S,      45,          1,         28,         28,2,20140417,       1948,   -45.0002,  -149.9997,       5350,   185.4,   8.4994,  34.4970,2,  34.4972,2,    272.2,2,   271.2,2,    1.37,2,   13.30,2,    0.01,2,    0.97,2,   3.610,2,   2.082,2,    2.25,2,  2116.8,2,  2283.4,2,   7.8631,2,       20,-999.000,9,-999.0000,9, -999.00,9,   8.4992,2,    1.36,2,    27.5,2, -999.00,9,  -999.0,9, -999.00,9,      12.52,2,     -999.0,9, -999.00,9, 20140417,     2205, -45.0000,-149.9996,    34.6599,2,     -999.0,9,     -999.0,9,     -999.0,9,     -999.0,1,     -999.0,9,     -999.0,9
320620140320,       P16S,      45,          1,         27,         27,2,20140417,       1948,   -45.0002,  -149.9997,       5350,   235.0,   8.4129,  34.5006,2,  34.5003,2,    271.7,2,   270.3,2,    1.27,2,   13.98,2,    0.02,2,    1.01,2,   3.709,2,   2.096,2,    1.96,2,  2118.2,2,  2284.4,2,   7.8585,2,       20,-999.000,9,-999.0000,9, -999.00,9,   8.4097,2,    1.35,2,    16.0,2, -999.00,9,  -999.0,9, -999.00,9,      13.41,2,     -999.0,9, -999.00,9, 20140417,     2202, -44.9998,-150.0000,    34.6630,2,     -999.0,9,     -999.0,9,     -999.0,9,     -999.0,1,     -999.0,9,     -999.0,9
320620140320,       P16S,      45,          1,         26,         26,2,20140417,       1948,   -45.0002,  -149.9997,       5350,   235.6,   8.4143,  34.5004,2,  34.5005,2,    271.8,2,   270.2,2,    1.17,2,   13.99,2,    0.02,2,    1.01,2,   3.548,2,   2.089,2,    2.23,2,  -999.0,9,  -999.0,9,-999.0000,9,  -999.00,-999.000,9,-999.0000,9, -999.00,9,   8.4133,2, -999.00,9,  -999.0,9, -999.00,9,  -999.0,9, -999.00,9,      13.75,2,     -999.0,9, -999.00,9, 20140417,     2159, -45.0000,-149.9996,    34.6632,2,     -999.0,9,     -999.0,9,     -999.0,9,     -999.0,1,     -999.0,9,     -999.0,9
320620140320,       P16S,      45,          1,         25,         25,2,20140417,       1948,   -45.0002,  -149.9997,       5350,   286.4,   8.3434,  34.5024,2,  34.5029,2,    272.2,2,   272.0,2,    1.95,2,   14.51,2,    0.01,2,    1.03,2,   3.617,2,   2.099,2,    2.12,2,  2119.3,2,  2283.6,2,   7.8582,2,       20,-999.000,9,-999.0000,9, -999.00,9,   8.3430,2,    1.31,2,    27.7,2, -999.00,9,  -999.0,9, -999.00,9,      13.85,2,     -999.0,9, -999.00,9, 20140417,     2156, -44.9999,-149.9998,    34.6656,2,     -999.0,9,     -999.0,9,     -999.0,9,     -999.0,9,     -999.0,9,     -999.0,9
320620140320,       P16S,      45,          1,         24,         24,2,20140417,       1948,   -45.0002,  -149.9997,       5350,   384.3,   8.2924,  34.5027,2,  34.5041,2,    273.0,2,   272.5,2,    2.25,2,   14.60,2,    0.01,2,    1.06,2,   3.604,2,   2.096,2,    2.18,2,  2120.7,2,  2284.2,2,   7.8556,2,       20,-999.000,9,-999.0000,9, -999.00,9,   8.2923,2,    1.32,2,    22.6,2, -999.00,9,  -999.0,9, -999.00,9,      13.84,2,     -999.0,9, -999.00,9, 20140417,     2153, -44.9999,-149.9999,    34.6668,2,     -999.0,9,     -999.0,9,     -999.0,9,     -999.0,1,     -999.0,9,     -999.0,9
320620140320,       P16S,      45,          1,         23,         23,2,20140417,       1948,   -45.0002,  -149.9997,       5350,   465.1,   8.0438,  34.4710,2,  34.4717,2,    262.1,2,   263.6,2,    2.83,2,   16.61,2,    0.01,2,    1.18,2,   3.653,2,   2.105,2,    2.14,2,    2128,2,    2283,2,   7.8373,2,       20,-999.000,9,-999.0000,9, -999.00,9,   8.0436,2,    1.30,2,    18.3,2, -999.00,9,  -999.0,9, -999.00,9,      14.66,2,     -999.0,9, -999.00,9, 20140417,     2150, -44.9999,-150.0000,    34.6343,2,     -999.0,9,     -999.0,9,     -999.0,9,     -999.0,9,     -999.0,9,     -999.0,9
320620140320,       P16S,      45,          1,         22,         22,2,20140417,       1948,   -45.0002,  -149.9997,       5350,   563.9,   7.6128,  34.4209,2,  34.4215,2,    256.5,2,   256.4,2,    4.20,2,   19.04,2,    0.00,2,    1.32,2,   3.697,2,   2.123,2,    1.74,2,  2135.9,2,  2281.6,2,   7.8145,2,       20,-999.000,9,-999.0000,9, -999.00,9,   7.6116,2,    1.31,2,    15.3,2, -999.00,9,  -999.0,9, -999.00,9,      15.25,2,     -999.0,9, -999.00,9, 20140417,     2148, -44.9999,-150.0000,    34.5838,2,     -999.0,9,     -999.0,9,     -999.0,9,     -999.0,1,     -999.0,9,     -999.0,9
320620140320,       P16S,      45,          1,         21,         21,2,20140417,       1948,   -45.0002,  -149.9997,       5350,   666.0,   7.2727,  34.3915,2,  34.3924,2,    250.9,2,   251.2,2,    5.67,2,   20.67,2,    0.00,2,    1.46,2,   3.721,2,   2.041,2,    1.45,2,  2140.4,6,  2280.6,2,   7.8001,2,       20,-999.000,9,-999.0000,9, -999.00,9,   7.2715,2,    1.27,2,    16.1,2, -999.00,9,  -999.0,9, -999.00,9,      15.79,2,     -999.0,9, -999.00,9, 20140417,     2145, -44.9998,-150.0001,    34.5546,2,     -999.0,9,     -999.0,9,     -999.0,9,     -999.0,9,     -999.0,9,     -999.0,9
320620140320,       P16S,      45,          1,         20,         20,2,20140417,       1948,   -45.0002,  -149.9997,       5350,   765.7,   6.9094,  34.3655,2,  34.3667,2,    245.8,2,   247.1,2,    7.33,2,   22.12,2,    0.00,2,    1.54,2,   3.530,2,   1.967,2,    1.27,2,  2145.2,2,  2281.6,2,   7.7884,6,       20,-999.000,9,-999.0000,9, -999.00,9,   6.9086,2,    1.28,2,     6.9,2, -999.00,9,  -999.0,9, -999.00,9,      15.78,2,     -999.0,9, -999.00,9, 20140417,     2142, -44.9999,-149.9999,    34.5288,2,     -999.0,9,     -999.0,9,     -999.0,9,     -999.0,1,     -999.0,9,     -999.0,9
320620140320,       P16S,      45,          1,         19,         19,2,20140417,       1948,   -45.0002,  -149.9997,       5350,   865.1,   6.3585,  34.3318,2,  34.3336,2,    235.6,2,   236.9,2,   10.55,2,   24.33,2,    0.00,2,    1.70,2,   3.169,6,   1.715,6,    0.79,6,  2154.8,2,  2283.2,2,   7.7656,2,       20,-999.000,9,-999.0000,9, -999.00,9,   6.3521,2,    1.29,2,    -9.1,2, -999.00,9,  -999.0,9, -999.00,9,      16.68,6,     -999.0,9, -999.00,9, 20140417,     2139, -44.9998,-150.0000,    34.4955,2,     -999.0,9,     -999.0,9,     -999.0,9,     -999.0,9,     -999.0,9,     -999.0,9
320620140320,       P16S,      45,          1,         18,         18,2,20140417,       1948,   -45.0002,  -149.9997,       5350,  1015.8,   5.3184,  34.3162,2,  34.3185,2,    216.2,2,   216.0,2,   21.10,2,   28.20,2,    0.00,2,    1.95,2,   2.498,2,   1.269,2,    0.57,2,    2178,2,  2289.4,2,   7.7176,2,       20,-999.000,9,-999.0000,9, -999.00,9,   5.3202,2,    1.14,2,   -44.9,2, -999.00,9,  -999.0,9, -999.00,9,      20.88,2,     -999.0,9, -999.00,9, 20140417,     2136, -44.9998,-149.9999,    34.4803,2,     -999.0,9,     -999.0,9,     -999.0,9,     -999.0,9,     -999.0,9,     -999.0,9
320620140320,       P16S,      45,          1,         17,         17,2,20140417,       1948,   -45.0002,  -149.9997,       5350,  1165.9,   4.1798,  34.3333,2,  34.3349,2,    203.8,2,   203.2,2,   35.17,2,   31.18,2,    0.00,2,    2.18,2,   1.777,2,   0.970,2,    0.32,2,  2201.9,2,  2301.4,2,   7.6771,2,       20,-999.000,9,-999.0000,9, -999.00,9,   4.1809,2,    1.00,2,   -89.7,2, -999.00,9,  -999.0,9, -999.00,9,      21.74,2,     -999.0,9, -999.00,9, 20140417,     2132, -44.9997,-150.0004,    34.4968,2,     -999.0,9,     -999.0,9,     -999.0,9,     -999.0,1,     -999.0,9,     -999.0,9
320620140320,       P16S,      45,          1,         16,         16,2,20140417,       1948,   -45.0002,  -149.9997,       5350,  1361.1,   3.3940,  34.3937,2,  34.3934,2,    191.3,2,   190.7,2,   49.72,2,   33.07,2,    0.00,2,    2.32,2,   1.457,2,   0.752,2,    0.30,2,    2224,2,  2314.6,2,    7.648,2,       20,-999.000,9,-999.0000,9, -999.00,9,   3.3932,2,    0.65,2,  -108.4,2, -999.00,9,  -999.0,9, -999.00,9,      23.87,2,     -999.0,9, -999.00,9, 20140417,     2128, -44.9995,-150.0008,    34.5556,2,     -999.0,9,     -999.0,9,     -999.0,9,     -999.0,9,     -999.0,9,     -999.0,9
320620140320,       P16S,      45,          1,         15,         15,2,20140417,       1948,   -45.0002,  -149.9997,       5350,  1534.2,   3.1907,  34.4226,2,  34.4237,2,    186.1,2,   185.5,2,   54.89,2,   33.50,2,    0.00,2,    2.35,2,   1.242,2,   0.620,2,    0.27,2,  2231.9,2,  2318.9,2,   7.6395,2,       20,-999.000,9,-999.0000,9, -999.00,9,   3.1897,2,    0.62,2,  -116.5,2, -999.00,9,  -999.0,9, -999.00,9,      24.32,2,     -999.0,9, -999.00,9, 20140417,     2124, -44.9993,-150.0012,    34.5860,2,     -999.0,9,     -999.0,9,     -999.0,9,     -999.0,9,     -999.0,9,     -999.0,9
320620140320,       P16S,      45,          1,         14,         14,2,20140417,       1948,   -45.0002,  -149.9997,       5350,  1736.0,   3.0040,  34.4600,2,  34.4604,2,    181.4,2,   181.3,2,   60.46,2,   33.87,2,    0.00,2,    2.37,2,   1.045,2,   0.547,2,    0.17,2,  2239.7,2,  2323.4,2,   7.6325,2,       20,-999.000,9,-999.0000,9, -999.00,9,   3.0044,2,    0.58,2,  -125.4,2, -999.00,9,  -999.0,9, -999.00,9,      24.83,2,     -999.0,9, -999.00,9, 20140417,     2119, -44.9994,-150.0009,    34.6229,2,     -999.0,9,     -999.0,9,     -999.0,9,     -999.0,1,     -999.0,9,     -999.0,9
320620140320,       P16S,      45,          1,         13,         13,2,20140417,       1948,   -45.0002,  -149.9997,       5350,  1935.8,   2.8264,  34.5132,2,  34.5148,2,    175.3,2,   175.1,2,   67.98,2,   34.10,2,    0.00,2,    2.39,2,   0.660,2,   0.315,2,    0.23,2,  2248.5,2,  2331.9,2,   7.6279,2,       20,-999.000,9,-999.0000,9, -999.00,9,   2.8259,2,    0.47,2,  -124.4,3, -999.00,9,  -999.0,9, -999.00,9,      24.69,2,     -999.0,9, -999.00,9, 20140417,     2114, -44.9995,-150.0007,    34.6775,2,     -999.0,9,     -999.0,9,     -999.0,9,     -999.0,9,     -999.0,9,     -999.0,9
320620140320,       P16S,      45,          1,         12,         12,2,20140417,       1948,   -45.0002,  -149.9997,       5350,  2164.9,   2.5086,  34.6052,2,  34.6065,2,    163.8,2,   164.0,2,   87.51,2,   34.42,2,    0.00,2,    2.41,2,   0.147,2,   0.060,2,    0.08,2,  2270.6,2,  2356.9,2,   7.6318,2,       20,-999.000,9,-999.0000,9, -999.00,9,   2.5100,2,    0.40,2,  -173.7,2, -999.00,9,  -999.0,9, -999.00,9,      23.31,2,     -999.0,9, -999.00,9, 20140417,     2109, -44.9997,-150.0002,    34.7697,2,     -999.0,9,     -999.0,9,     -999.0,9,     -999.0,9,     -999.0,9,     -999.0,9
320620140320,       P16S,      45,          1,         11,         11,2,20140417,       1948,   -45.0002,  -149.9997,       5350,  2412.9,   2.2638,  34.6427,2,  34.6440,2,    156.8,2,   157.8,2,  103.13,2,   34.86,2,    0.00,2,    2.44,2,   0.021,2,   0.006,2,    0.00,2,  2287.9,6,  2376.1,2,   7.6349,2,       20,-999.000,9,-999.0000,9, -999.00,9,   2.2634,2,    0.35,2,  -195.0,2, -999.00,9,  -999.0,9, -999.00,9,      24.16,2,     -999.0,9, -999.00,9, 20140417,     2104, -44.9998,-150.0001,    34.8074,2,     -999.0,9,     -999.0,9,     -999.0,9,     -999.0,1,     -999.0,9,     -999.0,9
320620140320,       P16S,      45,          1,         10,         10,2,20140417,       1948,   -45.0002,  -149.9997,       5350,  2663.3,   2.0746,  34.6607,2,  34.6619,2,    156.2,2,   155.9,2,  112.41,2,   35.02,2,    0.00,2,    2.46,2,-999.000,9,-999.000,9, -999.00,9,    2297,2,  2386.7,2,   7.6367,2,       20,-999.000,9,-999.0000,9, -999.00,9,   2.0742,2,    0.41,2,  -207.8,2, -999.00,9,  -999.0,9, -999.00,9,     -999.0,9,     -999.0,9, -999.00,9, 20140417,     2059, -44.9994,-150.0011,    34.8253,2,     -999.0,9,     -999.0,9,     -999.0,9,     -999.0,9,     -999.0,9,     -999.0,9
320620140320,       P16S,      45,          1,          9,         09,2,20140417,       1948,   -45.0002,  -149.9997,       5350,  2914.3,   1.9424,  34.6749,2,  34.6755,2,    159.4,2,   159.4,2,  115.34,2,   34.74,2,    0.00,2,    2.43,2,   0.001,2,   0.002,2,    0.03,2,  2297.9,2,  2388.9,2,   7.6409,2,       20,-999.000,9,-999.0000,9, -999.00,9,   1.9413,2,    0.38,2,  -204.0,2, -999.00,9,  -999.0,9, -999.00,9,      23.23,2,     -999.0,9, -999.00,9, 20140417,     2053, -44.9993,-150.0014,    34.8390,2,     -999.0,9,     -999.0,9,     -999.0,9,     -999.0,9,     -999.0,9,     -999.0,9
320620140320,       P16S,      45,          1,          8,         08,2,20140417,       1948,   -45.0002,  -149.9997,       5350,  3198.8,   1.8121,  34.6977,2,  34.6989,2,    169.1,2,   172.1,2,  111.52,2,   33.64,2,    0.00,2,    2.34,2,   0.006,2,   0.001,2,    0.00,2,  2284.8,2,  2380.5,2,   7.6534,2,       20,-999.000,9,-999.0000,9, -999.00,9,   1.8115,2,    0.45,2,  -188.4,2, -999.00,9,  -999.0,9, -999.00,9,      23.47,2,     -999.0,9, -999.00,9, 20140417,     2047, -44.9992,-150.0018,    34.8625,2,     -999.0,9,     -999.0,9,     -999.0,9,     -999.0,1,     -999.0,9,     -999.0,9
320620140320,       P16S,      45,          1,          7,         07,2,20140417,       1948,   -45.0002,  -149.9997,       5350,  3499.7,   1.6669,  34.7130,2,  34.7136,2,    183.8,2,   183.6,2,  108.20,2,   32.65,2,    0.00,2,    2.28,2,   0.008,2,   0.002,2,    0.00,2,  2273.1,2,  2372.1,2,   7.6645,2,       20,-999.000,9,-999.0000,9, -999.00,9,   1.6652,2,    0.52,2,  -169.5,2, -999.00,9,  -999.0,9, -999.00,9,      21.71,2,     -999.0,9, -999.00,9, 20140417,     2041, -44.9991,-150.0018,    34.8773,2,     -999.0,9,     -999.0,9,     -999.0,9,     -999.0,9,     -999.0,9,     -999.0,9
320620140320,       P16S,      45,          1,          6,         06,2,20140417,       1948,   -45.0002,  -149.9997,       5350,  3798.2,   1.5065,  34.7178,2,  34.7195,2,    190.9,2,   191.8,2,  108.79,2,   32.25,2,    0.00,2,    2.25,2,-999.000,9,-999.000,9, -999.00,9,  2267.8,2,  2367.8,2,   7.6713,2,       20,-999.000,9,-999.0000,9, -999.00,9,   1.5062,2,    0.55,2,  -169.0,2, -999.00,9,  -999.0,9, -999.00,9,     -999.0,9,     -999.0,9, -999.00,9, 20140417,     2035, -44.9992,-150.0017,    34.8832,2,     -999.0,9,     -999.0,9,     -999.0,9,     -999.0,9,     -999.0,9,     -999.0,9