BOTTLE,20230715CCHSIOCBG
EXPOCODE,SECT_ID,STNNBR,CASTNO,SAMPNO,BTLNBR,BTLNBR_FLAG_W,DATE,TIME,LATITUDE,LONGITUDE,DEPTH,CTDPRS,CTDTMP,CTDSAL,CTDSAL_FLAG_W,SALNTY,SALNTY_FLAG_W,CTDOXY,CTDOXY_FLAG_W,OXYGEN,OXYGEN_FLAG_W,SILCAT,SILCAT_FLAG_W,NITRAT,NITRAT_FLAG_W,NITRIT,NITRIT_FLAG_W,PHSPHT,PHSPHT_FLAG_W,CFC-11,CFC-11_FLAG_W,CFC-12,CFC-12_FLAG_W,SF6,SF6_FLAG_W,TCARBN,TCARBN_FLAG_W,ALKALI,ALKALI_FLAG_W,PH_TOT,PH_TOT_FLAG_W,PH_TMP,TRITUM,TRITUM_FLAG_W,HELIUM,HELIUM_FLAG_W,DELHE3,DELHE3_FLAG_W,REFTMP,REFTMP_FLAG_W,DELC13,DELC13_FLAG_W,DELC14,DELC14_FLAG_W,DELO18,DELO18_FLAG_W,DOC,DOC_FLAG_W,TDN,TDN_FLAG_W,N2O,N2O_FLAG_W,CALCIUM,CALCIUM_FLAG_W,D15N_NO3,D15N_NO3_FLAG_W,BTL_DATE,BTL_TIME,BTL_LAT,BTL_LON,SALTREF,SALTREF_FLAG_W,D18O_NO3,D18O_NO3_FLAG_W,DSI30,DSI30_FLAG_W,CDOM_NASA,CDOM_NASA_FLAG_W,CDOM_UCSB,CDOM_UCSB_FLAG_W,D15N_NO2+NO3,D15N_NO2+NO3_FLAG_W,D18O_NO2+NO3,D18O_NO2+NO3_FLAG_W
,,,,,,,,,,,METERS,DBAR,ITS-90,PSS-78,,PSS-78,,UMOL/KG,,UMOL/KG,,UMOL/KG,,UMOL/KG,,UMOL/KG,,UMOL/KG,,PMOL/KG,,PMOL/KG,,FMOL/KG,,UMOL/KG,,UMOL/KG,,,,DEG C,TU,,NMOL/KG,,PERCNT,,DEG C,,/MILLE,,/MILLE,,/MILLE,,UMOL/KG,,UMOL/KG,,NMOL/KG,,MMOL/KG,,/MILLE,,,,,,G/KG,,/MILLE,,/MILLE,,,,,,/MILLE,,/MILLE,
320620140320,       P16S,      36,          1,          5,         05,2,20140414,       0427,   -50.5000,  -150.0000,       4442,  2915.2,   1.8377,  34.7369,2,  34.7365,2,    193.8,2,   193.6,2,   94.17,2,   31.18,2,    0.00,2,    2.13,2,-999.000,9,-999.000,9, -999.00,9,  2253.5,2,  2356.3,2,   7.6729,2,       20,-999.000,9,-999.0000,9, -999.00,9,   1.8377,2, -999.00,9,  -999.0,9, -999.00,9,  -999.0,9, -999.00,9,     -999.0,9,     -999.0,9, -999.00,9, 20140414,      458, -50.5000,-150.0001,    34.9003,2,     -999.0,9,     -999.0,9,     -999.0,9,     -999.0,9,     -999.0,9,     -999.0,9
320620140320,       P16S,      36,          1,          4,         04,2,20140414,       0427,   -50.5000,  -150.0000,       4442,  3199.6,   1.6152,  34.7351,2,  34.7341,2,    197.9,2,   197.7,2,  100.81,2,   31.35,2,    0.00,2,    2.13,2,-999.000,9,-999.000,9, -999.00,9,  2255.4,2,  2357.7,2,    7.676,2,       20,-999.000,9,-999.0000,9, -999.00,9,   1.6154,2, -999.00,9,  -999.0,9, -999.00,9,  -999.0,9, -999.00,9,     -999.0,9,     -999.0,9, -999.00,9, 20140414,      451, -50.5000,-150.0001,    34.8979,2,     -999.0,9,     -999.0,9,     -999.0,9,     -999.0,9,     -999.0,9,     -999.0,9
320620140320,       P16S,      36,          1,          3,         03,2,20140414,       0427,   -50.5000,  -150.0000,       4442,  3497.6,   1.3791,  34.7274,2,  34.7266,2,    197.7,4,   200.9,2,  108.34,2,   31.61,2,    0.00,2,    2.16,2,-999.000,9,-999.000,9, -999.00,9,  2258.2,2,    2361,6,    7.676,2,       20,-999.000,9,-999.0000,9, -999.00,9,   1.3781,2, -999.00,9,  -999.0,9, -999.00,9,  -999.0,9, -999.00,9,     -999.0,9,     -999.0,9, -999.00,9, 20140414,      444, -50.5000,-150.0001,    34.8904,2,     -999.0,9,     -999.0,9,     -999.0,9,     -999.0,9,     -999.0,9,     -999.0,9
320620140320,       P16S,      36,          1,          2,         02,2,20140414,       0427,   -50.5000,  -150.0000,       4442,  3798.8,   1.1724,  34.7189,2,  34.7178,2,    199.0,4,   203.2,2,  116.05,2,   32.00,2,    0.00,2,    2.19,2,-999.000,9,-999.000,9, -999.00,9,  2261.3,2,  2363.6,2,   7.6751,6,       20,-999.000,9,-999.0000,9, -999.00,9,   1.1720,2, -999.00,9,  -999.0,9, -999.00,9,  -999.0,9, -999.00,9,     -999.0,9,     -999.0,9, -999.00,9, 20140414,      436, -50.5000,-150.0000,    34.8815,2,     -999.0,9,     -999.0,9,     -999.0,9,     -999.0,9,     -999.0,9,     -999.0,9
320620140320,       P16S,      36,          1,          1,         01,2,20140414,       0427,   -50.5000,  -150.0000,       4442,  4101.0,   1.1036,  34.7152,2,  34.7148,2,    194.3,4,   204.7,2,  119.86,2,   32.14,2,    0.00,2,    2.20,2,   0.165,2,   0.046,2,    0.03,2,  2264.3,6,  2364.6,2,   7.6749,2,       20,-999.000,9,-999.0000,9, -999.00,9,   1.1044,2, -999.00,9,  -999.0,9, -999.00,9,  -999.0,9, -999.00,9,      21.68,2,     -999.0,9, -999.00,9, 20140414,      427, -50.5000,-150.0000,    34.8785,2,     -999.0,9,     -999.0,9,     -999.0,9,     -999.0,9,     -999.0,9,     -999.0,9