BOTTLE,20230715CCHSIOCBG
EXPOCODE,SECT_ID,STNNBR,CASTNO,SAMPNO,BTLNBR,BTLNBR_FLAG_W,DATE,TIME,LATITUDE,LONGITUDE,DEPTH,CTDPRS,CTDTMP,CTDSAL,CTDSAL_FLAG_W,SALNTY,SALNTY_FLAG_W,CTDOXY,CTDOXY_FLAG_W,OXYGEN,OXYGEN_FLAG_W,SILCAT,SILCAT_FLAG_W,NITRAT,NITRAT_FLAG_W,NITRIT,NITRIT_FLAG_W,PHSPHT,PHSPHT_FLAG_W,CFC-11,CFC-11_FLAG_W,CFC-12,CFC-12_FLAG_W,SF6,SF6_FLAG_W,TCARBN,TCARBN_FLAG_W,ALKALI,ALKALI_FLAG_W,PH_TOT,PH_TOT_FLAG_W,PH_TMP,TRITUM,TRITUM_FLAG_W,HELIUM,HELIUM_FLAG_W,DELHE3,DELHE3_FLAG_W,REFTMP,REFTMP_FLAG_W,DELC13,DELC13_FLAG_W,DELC14,DELC14_FLAG_W,DELO18,DELO18_FLAG_W,DOC,DOC_FLAG_W,TDN,TDN_FLAG_W,N2O,N2O_FLAG_W,CALCIUM,CALCIUM_FLAG_W,D15N_NO3,D15N_NO3_FLAG_W,BTL_DATE,BTL_TIME,BTL_LAT,BTL_LON,SALTREF,SALTREF_FLAG_W,D18O_NO3,D18O_NO3_FLAG_W,DSI30,DSI30_FLAG_W,CDOM_NASA,CDOM_NASA_FLAG_W,CDOM_UCSB,CDOM_UCSB_FLAG_W,D15N_NO2+NO3,D15N_NO2+NO3_FLAG_W,D18O_NO2+NO3,D18O_NO2+NO3_FLAG_W
,,,,,,,,,,,METERS,DBAR,ITS-90,PSS-78,,PSS-78,,UMOL/KG,,UMOL/KG,,UMOL/KG,,UMOL/KG,,UMOL/KG,,UMOL/KG,,PMOL/KG,,PMOL/KG,,FMOL/KG,,UMOL/KG,,UMOL/KG,,,,DEG C,TU,,NMOL/KG,,PERCNT,,DEG C,,/MILLE,,/MILLE,,/MILLE,,UMOL/KG,,UMOL/KG,,NMOL/KG,,MMOL/KG,,/MILLE,,,,,,G/KG,,/MILLE,,/MILLE,,,,,,/MILLE,,/MILLE,
320620140320,       P16S,      73,          1,         36,         36,2,20140428,       1328,   -26.3332,  -150.0005,       4735,     4.6,  23.7404,  35.4957,2,  35.4954,2,    210.5,2,   211.7,2,    1.17,2,    0.04,2,    0.00,2,    0.03,2,   1.724,2,   1.075,2,    1.37,2,  2012.7,6,  2329.6,2,   8.1454,2,       20,-999.000,9,-999.0000,9, -999.00,9,  23.7438,2, -999.00,9,  -999.0,9, -999.00,9,  -999.0,9, -999.00,9,       6.95,2,     -999.0,9, -999.00,9, 20140428,     1532, -26.3332,-150.0005,    35.6627,2,     -999.0,9,     -999.0,9,     -999.0,9,     -999.0,9,     -999.0,9,     -999.0,9
320620140320,       P16S,      73,          1,         35,         35,2,20140428,       1328,   -26.3332,  -150.0005,       4735,    35.4,  23.7582,  35.4958,2,  35.4963,2,    212.1,2,   211.9,2,    1.07,2,    0.00,2,    0.00,2,    0.03,2,   1.773,2,   1.091,2,    1.32,2,  2013.1,2,  2330.5,2,   8.1451,2,       20,-999.000,9,-999.0000,9, -999.00,9,  23.7560,2,    1.05,2,    49.6,2, -999.00,9,  -999.0,9, -999.00,9,       7.22,2,     -999.0,9, -999.00,9, 20140428,     1529, -26.3332,-150.0005,    35.6637,2,     -999.0,9,     -999.0,9,     -999.0,9,     -999.0,9,     -999.0,9,     -999.0,9
320620140320,       P16S,      73,          1,         34,         34,2,20140428,       1328,   -26.3332,  -150.0005,       4735,    58.8,  23.6706,  35.5159,2,  35.5165,2,    213.2,2,   213.2,2,    1.07,2,    0.00,2,    0.00,2,    0.03,2,-999.000,9,-999.000,9, -999.00,9,  2015.2,2,  2330.6,2,   8.1432,2,       20,-999.000,9,-999.0000,9, -999.00,9,  23.6678,2, -999.00,9,  -999.0,9, -999.00,9,  -999.0,9, -999.00,9,     -999.0,9,     -999.0,9, -999.00,9, 20140428,     1528, -26.3332,-150.0005,    35.6840,2,     -999.0,9,     -999.0,9,     -999.0,9,     -999.0,9,     -999.0,9,     -999.0,9
320620140320,       P16S,      73,          1,         33,         33,2,20140428,       1328,   -26.3332,  -150.0005,       4735,    84.2,  21.3157,  35.6277,2,  35.6282,2,    229.8,2,   228.6,2,    1.07,2,    0.00,2,    0.00,2,    0.04,2,   2.059,6,   1.234,6,    1.41,6,  2037.3,2,  2336.3,2,   8.1128,6,       20,-999.000,9,-999.0000,9, -999.00,9,  21.3156,2,    1.07,2,    65.0,2, -999.00,9,  -999.0,9, -999.00,9,       8.14,6,     -999.0,9, -999.00,9, 20140428,     1526, -26.3332,-150.0005,    35.7962,2,     -999.0,9,     -999.0,9,     -999.0,9,     -999.0,9,     -999.0,9,     -999.0,9
320620140320,       P16S,      73,          1,         32,         32,2,20140428,       1328,   -26.3332,  -150.0005,       4735,   114.8,  19.5569,  35.5666,2,  35.5704,2,    222.2,2,   222.1,2,    1.07,2,    0.00,2,    0.01,2,    0.06,2,-999.000,9,-999.000,9, -999.00,9,  2048.2,2,    2333,2,    8.087,2,       20,-999.000,9,-999.0000,9, -999.00,9,  19.5531,2, -999.00,9,  -999.0,9, -999.00,9,  -999.0,9, -999.00,9,     -999.0,9,     -999.0,9, -999.00,9, 20140428,     1525, -26.3332,-150.0005,    35.7381,2,     -999.0,9,     -999.0,9,     -999.0,9,     -999.0,9,     -999.0,9,     -999.0,9
320620140320,       P16S,      73,          1,         31,         31,2,20140428,       1328,   -26.3332,  -150.0005,       4735,   164.8,  18.3560,  35.4919,2,  35.4919,2,    213.7,2,   211.1,2,    1.47,2,    1.04,2,    0.11,2,    0.15,2,   2.200,2,   1.324,2,    1.31,2,  2064.4,2,  2327.3,6,     8.05,2,       20,-999.000,9,-999.0000,9, -999.00,9,  18.3639,2,    0.38,4,    64.1,2, -999.00,9,  -999.0,9, -999.00,9,       9.24,2,     -999.0,9, -999.00,9, 20140428,     1523, -26.3332,-150.0005,    35.6592,2,     -999.0,9,     -999.0,9,     -999.0,9,     -999.0,9,     -999.0,9,     -999.0,9
320620140320,       P16S,      73,          1,         30,         30,2,20140428,       1328,   -26.3332,  -150.0005,       4735,   212.9,  17.2171,  35.3671,2,  35.3690,2,    211.5,2,   206.7,2,    1.37,2,    2.54,2,    0.01,2,    0.23,2,-999.000,9,-999.000,9, -999.00,9,  2074.8,2,  2319.5,2,   8.0178,2,       20,-999.000,9,-999.0000,9, -999.00,9,  17.2273,2, -999.00,9,  -999.0,9, -999.00,9,  -999.0,9, -999.00,9,     -999.0,9,     -999.0,9, -999.00,9, 20140428,     1521, -26.3332,-150.0005,    35.5358,2,     -999.0,9,     -999.0,9,     -999.0,9,     -999.0,9,     -999.0,9,     -999.0,9
320620140320,       P16S,      73,          1,         29,         29,2,20140428,       1328,   -26.3332,  -150.0005,       4735,   264.4,  15.7820,  35.1990,2,  35.1990,2,    208.7,2,   203.6,2,    1.76,2,    4.71,2,    0.01,2,    0.40,2,   2.604,2,   1.438,2,    1.32,2,  2086.8,2,    2310,2,   7.9792,2,       20,-999.000,9,-999.0000,9, -999.00,9,  15.7834,2,    0.97,2,    73.6,2, -999.00,9,  -999.0,9, -999.00,9,      11.43,2,     -999.0,9, -999.00,9, 20140428,     1519, -26.3332,-150.0005,    35.3650,2,     -999.0,9,     -999.0,9,     -999.0,9,     -999.0,9,     -999.0,9,     -999.0,9
320620140320,       P16S,      73,          1,         28,         28,2,20140428,       1328,   -26.3332,  -150.0005,       4735,   315.9,  14.5770,  35.0616,2,  35.0684,2,    198.1,2,   198.1,2,    2.15,2,    7.30,2,    0.01,2,    0.57,2,   2.726,2,   1.483,2,    1.40,2,    2099,2,  2305.7,2,    7.944,2,       20,-999.000,9,-999.0000,9, -999.00,9,  14.5938,2,    1.06,2,    66.7,2, -999.00,9,  -999.0,9, -999.00,9,      13.05,2,     -999.0,9, -999.00,9, 20140428,     1517, -26.3332,-150.0005,    35.2338,2,     -999.0,9,     -999.0,9,     -999.0,9,     -999.0,9,     -999.0,9,     -999.0,9
320620140320,       P16S,      73,          1,         27,         27,2,20140428,       1328,   -26.3332,  -150.0005,       4735,   364.0,  12.3815,  34.8334,2,  34.8353,2,    201.7,2,   201.3,2,    3.03,2,   11.48,2,    0.01,2,    0.85,2,   2.974,2,   1.541,2,    1.29,2,  2113.6,2,  2293.8,2,   7.8891,2,       20,-999.000,9,-999.0000,9, -999.00,9,  12.3746,2,    1.12,2,    60.8,2, -999.00,9,  -999.0,9, -999.00,9,      16.45,2,     -999.0,9, -999.00,9, 20140428,     1515, -26.3332,-150.0005,    34.9996,2,     -999.0,9,     -999.0,9,     -999.0,9,     -999.0,9,     -999.0,9,     -999.0,9
320620140320,       P16S,      73,          1,         26,         26,2,20140428,       1328,   -26.3332,  -150.0005,       4735,   414.1,  10.8962,  34.6867,2,  34.6879,2,    206.5,2,   206.5,2,    3.72,2,   14.38,2,    0.00,2,    1.05,2,   3.146,2,   1.579,2,    1.30,2,  2124.1,2,    2289,2,   7.8543,2,       20,-999.000,9,-999.0000,9, -999.00,9,  10.8819,2,    1.18,2,    59.6,2, -999.00,9,  -999.0,9, -999.00,9,      18.57,2,     -999.0,9, -999.00,9, 20140428,     1513, -26.3332,-150.0005,    34.8514,2,     -999.0,9,     -999.0,9,     -999.0,9,     -999.0,9,     -999.0,9,     -999.0,9
320620140320,       P16S,      73,          1,         25,         25,2,20140428,       1328,   -26.3332,  -150.0005,       4735,   465.0,   8.9859,  34.4995,2,  34.4999,2,    215.2,2,   215.7,2,    5.38,2,   18.38,2,    0.00,2,    1.28,2,-999.000,9,-999.000,9, -999.00,9,  2135.5,2,  2280.8,2,   7.8113,2,       20,-999.000,9,-999.0000,9, -999.00,9,   8.9841,2,    1.23,2,    34.6,2, -999.00,9,  -999.0,9, -999.00,9,     -999.0,9,     -999.0,9, -999.00,9, 20140428,     1511, -26.3332,-150.0005,    34.6626,2,     -999.0,9,     -999.0,9,     -999.0,9,     -999.0,9,     -999.0,9,     -999.0,9
320620140320,       P16S,      73,          1,         24,         24,2,20140428,       1328,   -26.3332,  -150.0005,       4735,   534.2,   7.4694,  34.3866,2,  34.3882,2,    225.9,2,   226.4,2,    7.24,2,   21.66,2,    0.00,2,    1.50,2,   3.397,2,   1.622,2,    1.31,2,  2145.2,2,  2279.6,2,   7.7829,2,       20,-999.000,9,-999.0000,9, -999.00,9,   7.4729,2,    1.27,2,    22.2,2, -999.00,9,  -999.0,9, -999.00,9,      21.34,2,     -999.0,9, -999.00,9, 20140428,     1508, -26.3332,-150.0005,    34.5504,2,     -999.0,9,     -999.0,9,     -999.0,9,     -999.0,9,     -999.0,9,     -999.0,9
320620140320,       P16S,      73,          1,         23,         23,2,20140428,       1328,   -26.3332,  -150.0005,       4735,   635.8,   6.6280,  34.3392,2,  34.3400,2,    230.5,2,   230.8,2,    9.19,2,   23.68,2,    0.00,2,    1.62,2,   3.013,2,   1.453,2,    1.13,2,    2150,2,  2278.4,2,   7.7703,2,       20,-999.000,9,-999.0000,9, -999.00,9,   6.6272,2,    1.31,2,     9.7,2, -999.00,9,  -999.0,9, -999.00,9,      20.22,2,     -999.0,9, -999.00,9, 20140428,     1505, -26.3332,-150.0005,    34.5019,2,     -999.0,9,     -999.0,9,     -999.0,9,     -999.0,9,     -999.0,9,     -999.0,9
320620140320,       P16S,      73,          1,         22,         22,2,20140428,       1328,   -26.3332,  -150.0005,       4735,   733.4,   5.9783,  34.3114,2,  34.3119,2,    226.0,2,   228.2,2,   12.22,2,   25.63,2,    0.00,2,    1.75,2,   2.458,2,   1.158,2,    0.27,2,  2156.1,2,    2280,2,   7.7555,2,       20,-999.000,9,-999.0000,9, -999.00,9,   5.9799,2,    1.30,2,    -9.3,2, -999.00,9,  -999.0,9, -999.00,9,      19.63,2,     -999.0,9, -999.00,9, 20140428,     1503, -26.3332,-150.0005,    34.4737,2,     -999.0,9,     -999.0,9,     -999.0,9,     -999.0,9,     -999.0,9,     -999.0,9
320620140320,       P16S,      73,          1,         21,         21,2,20140428,       1328,   -26.3332,  -150.0005,       4735,   835.3,   5.3039,  34.3027,2,  34.3029,2,    213.4,2,   214.9,2,   18.78,2,   28.22,2,    0.00,2,    1.92,2,   1.539,2,   0.758,2,    0.12,2,  2171.2,2,    2285,2,   7.7256,2,       20,-999.000,9,-999.0000,9, -999.00,9,   5.2888,3,    1.25,2,   -36.7,2, -999.00,9,  -999.0,9, -999.00,9,      20.90,2,     -999.0,9, -999.00,9, 20140428,     1500, -26.3332,-150.0005,    34.4647,2,     -999.0,9,     -999.0,9,     -999.0,9,     -999.0,9,     -999.0,9,     -999.0,9
320620140320,       P16S,      73,          1,         20,         20,2,20140428,       1328,   -26.3332,  -150.0005,       4735,   935.2,   4.7583,  34.3180,2,  34.3180,2,    200.2,2,   200.0,2,   27.19,2,   30.52,2,    0.00,2,    2.11,2,   0.878,2,   0.424,2,    0.01,2,  2188.3,2,  2291.9,2,   7.6953,2,       20,-999.000,9,-999.0000,9, -999.00,9,   4.7605,2,    1.11,2,   -70.9,2, -999.00,9,  -999.0,9, -999.00,9,      22.39,2,     -999.0,9, -999.00,9, 20140428,     1457, -26.3332,-150.0005,    34.4799,2,     -999.0,9,     -999.0,9,     -999.0,9,     -999.0,9,     -999.0,9,     -999.0,9
320620140320,       P16S,      73,          1,         19,         19,2,20140428,       1328,   -26.3332,  -150.0005,       4735,  1033.8,   4.1295,  34.3633,2,  34.3632,2,    181.5,2,   180.3,2,   41.37,2,   32.93,2,    0.00,2,    2.26,2,   0.363,2,   0.182,2,    0.06,2,  2213.7,2,  2306.1,2,   7.6584,2,       20,-999.000,9,-999.0000,9, -999.00,9,   4.1273,2,    0.97,2,  -109.6,2, -999.00,9,  -999.0,9, -999.00,9,      23.52,2,     -999.0,9, -999.00,9, 20140428,     1454, -26.3332,-150.0005,    34.5252,2,     -999.0,9,     -999.0,9,     -999.0,9,     -999.0,9,     -999.0,9,     -999.0,9
320620140320,       P16S,      73,          1,         18,         18,2,20140428,       1328,   -26.3332,  -150.0005,       4735,  1134.0,   3.7396,  34.4068,2,  34.4081,2,    170.4,2,   170.1,2,   52.42,2,   34.04,2,    0.00,2,    2.35,2,   0.173,2,   0.072,2,    0.07,2,    2230,2,  2317.5,2,   7.6418,2,       20,-999.000,9,-999.0000,9, -999.00,9,   3.7371,2,    0.82,2,  -137.2,2, -999.00,9,  -999.0,9, -999.00,9,      24.70,2,     -999.0,9, -999.00,9, 20140428,     1451, -26.3332,-150.0005,    34.5704,2,     -999.0,9,     -999.0,9,     -999.0,9,     -999.0,9,     -999.0,9,     -999.0,9
320620140320,       P16S,      73,          1,         17,         17,2,20140428,       1328,   -26.3332,  -150.0005,       4735,  1233.7,   3.3037,  34.4596,2,  34.4584,2,    167.0,2,   166.0,2,   64.74,2,   34.53,2,    0.00,2,    2.39,2,   0.094,2,   0.031,2,   -0.01,2,  2244.9,6,  2330.9,2,   7.6365,2,       20,-999.000,9,-999.0000,9, -999.00,9,   3.3084,2,    0.71,2,  -156.2,2, -999.00,9,  -999.0,9, -999.00,9,      24.76,2,     -999.0,9, -999.00,9, 20140428,     1448, -26.3332,-150.0005,    34.6209,2,     -999.0,9,     -999.0,9,     -999.0,9,     -999.0,9,     -999.0,9,     -999.0,9
320620140320,       P16S,      73,          1,         16,         16,2,20140428,       1328,   -26.3332,  -150.0005,       4735,  1334.9,   3.0148,  34.5003,2,  34.5004,2,    162.5,2,   162.3,2,   75.29,2,   34.95,2,    0.00,2,    2.42,2,   0.046,2,   0.009,2,    0.02,2,    2256,2,  2343.7,2,   7.6329,2,       20,-999.000,9,-999.0000,9, -999.00,9,   3.0159,2,    0.61,2,  -174.5,2, -999.00,9,  -999.0,9, -999.00,9,      24.57,2,     -999.0,9, -999.00,9, 20140428,     1445, -26.3332,-150.0005,    34.6631,2,     -999.0,9,     -999.0,9,     -999.0,9,     -999.0,9,     -999.0,9,     -999.0,9
320620140320,       P16S,      73,          1,         15,         15,2,20140428,       1328,   -26.3332,  -150.0005,       4735,  1436.3,   2.7845,  34.5335,2,  34.5336,2,    159.9,2,   159.8,2,   84.09,2,   35.04,2,    0.00,2,    2.42,2,   0.024,2,   0.003,2,    0.03,2,  2266.3,2,  2352.8,2,   7.6335,2,       20,-999.000,9,-999.0000,9, -999.00,9,   2.7849,2,    0.57,2,  -185.9,2, -999.00,9,  -999.0,9, -999.00,9,      24.68,2,     -999.0,9, -999.00,9, 20140428,     1442, -26.3332,-150.0005,    34.6965,2,     -999.0,9,     -999.0,9,     -999.0,9,     -999.0,9,     -999.0,9,     -999.0,9
320620140320,       P16S,      73,          1,         14,         14,2,20140428,       1328,   -26.3332,  -150.0005,       4735,  1536.1,   2.6136,  34.5590,2,  34.5596,2,    158.0,2,   158.1,2,   91.52,2,   35.14,2,    0.00,2,    2.43,2,   0.018,2,   0.000,2,   -0.00,2,  2274.3,2,  2360.9,2,   7.6342,2,       20,-999.000,9,-999.0000,9, -999.00,9,   2.6124,2,    0.52,2,  -183.1,2, -999.00,9,  -999.0,9, -999.00,9,      24.93,2,     -999.0,9, -999.00,9, 20140428,     1439, -26.3332,-150.0005,    34.7225,2,     -999.0,9,     -999.0,9,     -999.0,9,     -999.0,9,     -999.0,9,     -999.0,9
320620140320,       P16S,      73,          1,         13,         13,2,20140428,       1328,   -26.3332,  -150.0005,       4735,  1665.1,   2.4380,  34.5841,2,  34.5834,2,    155.9,2,   156.3,2,   99.15,2,   35.32,2,    0.00,2,    2.44,2,   0.007,2,   0.002,2,    0.01,2,  2282.7,2,  2369.8,2,   7.6342,2,       20,-999.000,9,-999.0000,9, -999.00,9,   2.4366,2,    0.46,2,  -186.8,2, -999.00,9,  -999.0,9, -999.00,9,      25.10,2,     -999.0,9, -999.00,9, 20140428,     1436, -26.3332,-150.0005,    34.7464,2,     -999.0,9,     -999.0,9,     -999.0,9,     -999.0,9,     -999.0,9,     -999.0,9
320620140320,       P16S,      73,          1,         12,         12,2,20140428,       1328,   -26.3332,  -150.0005,       4735,  1865.9,   2.2192,  34.6142,2,  34.6137,2,    154.0,2,   154.4,2,  108.04,2,   35.44,2,    0.00,2,    2.47,2,-999.000,9,-999.000,9, -999.00,9,  2292.3,2,    2380,2,   7.6349,2,       20,-999.000,9,-999.0000,9, -999.00,9,   2.2198,2,    0.43,2,  -194.5,2, -999.00,9,  -999.0,9, -999.00,9,     -999.0,9,     -999.0,9, -999.00,9, 20140428,     1431, -26.3332,-150.0005,    34.7769,2,     -999.0,9,     -999.0,9,     -999.0,9,     -999.0,9,     -999.0,9,     -999.0,9
320620140320,       P16S,      73,          1,         11,         11,2,20140428,       1328,   -26.3332,  -150.0005,       4735,  2083.9,   2.0514,  34.6363,2,  34.6369,2,    152.1,2,   152.6,2,  116.45,2,   35.63,2,    0.00,2,    2.47,2,   0.001,2,   0.000,2,   -0.00,2,    2300,2,  2389.8,2,   7.6364,2,       20,-999.000,9,-999.0000,9, -999.00,9,   2.0525,2,    0.37,2,  -209.7,2, -999.00,9,  -999.0,9, -999.00,9,      24.47,2,     -999.0,9, -999.00,9, 20140428,     1426, -26.3332,-150.0005,    34.8002,2,     -999.0,9,     -999.0,9,     -999.0,9,     -999.0,9,     -999.0,9,     -999.0,9
320620140320,       P16S,      73,          1,         10,         10,2,20140428,       1328,   -26.3332,  -150.0005,       4735,  2335.2,   1.8985,  34.6533,2,  34.6530,2,    152.0,2,   152.5,2,  123.00,2,   35.68,2,    0.00,2,    2.48,2,-999.000,9,-999.000,9, -999.00,9,  2306.7,2,  2396.2,2,   7.6377,2,       20,-999.000,9,-999.0000,9, -999.00,9,   1.8986,2,    0.33,2,  -209.4,2, -999.00,9,  -999.0,9, -999.00,9,     -999.0,9,     -999.0,9, -999.00,9, 20140428,     1420, -26.3332,-150.0005,    34.8164,2,     -999.0,9,     -999.0,9,     -999.0,9,     -999.0,9,     -999.0,9,     -999.0,9
320620140320,       P16S,      73,          1,          9,         09,2,20140428,       1328,   -26.3332,  -150.0005,       4735,  2599.9,   1.7996,  34.6623,2,  34.6623,2,    155.1,2,   155.3,2,  125.25,2,   35.40,2,    0.00,2,    2.48,2,   0.000,2,   0.001,2,    0.01,2,  2305.9,2,  2397.9,2,   7.6414,2,       20,-999.000,9,-999.0000,9, -999.00,9,   1.7990,2,    0.33,2,  -210.5,2, -999.00,9,  -999.0,9, -999.00,9,      24.56,2,     -999.0,9, -999.00,9, 20140428,     1415, -26.3332,-150.0005,    34.8257,2,     -999.0,9,     -999.0,9,     -999.0,9,     -999.0,9,     -999.0,9,     -999.0,9
320620140320,       P16S,      73,          1,          8,         08,2,20140428,       1328,   -26.3332,  -150.0005,       4735,  2899.5,   1.6965,  34.6714,2,  34.6711,2,    160.7,2,   160.2,2,  126.03,2,   35.19,2,    0.00,2,    2.45,2,-999.000,9,-999.000,9, -999.00,9,  2303.5,2,  2397.1,2,   7.6465,2,       20,-999.000,9,-999.0000,9, -999.00,9,   1.6964,2,    0.37,2,  -214.7,2, -999.00,9,  -999.0,9, -999.00,9,     -999.0,9,     -999.0,9, -999.00,9, 20140428,     1408, -26.3332,-150.0005,    34.8346,2,     -999.0,9,     -999.0,9,     -999.0,9,     -999.0,9,     -999.0,9,     -999.0,9
320620140320,       P16S,      73,          1,          7,         07,2,20140428,       1328,   -26.3332,  -150.0005,       4735,  3198.6,   1.6151,  34.6788,2,  34.6798,2,    165.7,2,   165.4,2,  126.32,2,   34.86,2,    0.00,2,    2.41,2,  -0.001,2,   0.000,2,    0.02,2,  2301.1,6,  2395.4,2,   7.6526,2,       20,-999.000,9,-999.0000,9, -999.00,9,   1.6147,2,    0.38,2,  -212.8,2, -999.00,9,  -999.0,9, -999.00,9,      23.20,2,     -999.0,9, -999.00,9, 20140428,     1402, -26.3332,-150.0005,    34.8433,2,     -999.0,9,     -999.0,9,     -999.0,9,     -999.0,9,     -999.0,9,     -999.0,9
320620140320,       P16S,      73,          1,          6,         06,2,20140428,       1328,   -26.3332,  -150.0005,       4735,  3499.9,   1.5324,  34.6858,2,  34.6861,2,    171.7,2,   171.8,2,  124.95,2,   34.32,2,    0.00,2,    2.39,2,-999.000,9,-999.000,9, -999.00,9,  2294.8,2,    2392,2,   7.6573,2,       20,-999.000,9,-999.0000,9, -999.00,9,   1.5324,2,    0.37,2,  -211.5,2, -999.00,9,  -999.0,9, -999.00,9,     -999.0,9,     -999.0,9, -999.00,9, 20140428,     1355, -26.3332,-150.0005,    34.8497,2,     -999.0,9,     -999.0,9,     -999.0,9,     -999.0,9,     -999.0,9,     -999.0,9