BOTTLE,20230715CCHSIOCBG
EXPOCODE,SECT_ID,STNNBR,CASTNO,SAMPNO,BTLNBR,BTLNBR_FLAG_W,DATE,TIME,LATITUDE,LONGITUDE,DEPTH,CTDPRS,CTDTMP,CTDSAL,CTDSAL_FLAG_W,SALNTY,SALNTY_FLAG_W,CTDOXY,CTDOXY_FLAG_W,OXYGEN,OXYGEN_FLAG_W,SILCAT,SILCAT_FLAG_W,NITRAT,NITRAT_FLAG_W,NITRIT,NITRIT_FLAG_W,PHSPHT,PHSPHT_FLAG_W,CFC-11,CFC-11_FLAG_W,CFC-12,CFC-12_FLAG_W,SF6,SF6_FLAG_W,TCARBN,TCARBN_FLAG_W,ALKALI,ALKALI_FLAG_W,PH_TOT,PH_TOT_FLAG_W,PH_TMP,TRITUM,TRITUM_FLAG_W,HELIUM,HELIUM_FLAG_W,DELHE3,DELHE3_FLAG_W,REFTMP,REFTMP_FLAG_W,DELC13,DELC13_FLAG_W,DELC14,DELC14_FLAG_W,DELO18,DELO18_FLAG_W,DOC,DOC_FLAG_W,TDN,TDN_FLAG_W,N2O,N2O_FLAG_W,CALCIUM,CALCIUM_FLAG_W,D15N_NO3,D15N_NO3_FLAG_W,BTL_DATE,BTL_TIME,BTL_LAT,BTL_LON,SALTREF,SALTREF_FLAG_W,D18O_NO3,D18O_NO3_FLAG_W,DSI30,DSI30_FLAG_W,CDOM_NASA,CDOM_NASA_FLAG_W,CDOM_UCSB,CDOM_UCSB_FLAG_W,D15N_NO2+NO3,D15N_NO2+NO3_FLAG_W,D18O_NO2+NO3,D18O_NO2+NO3_FLAG_W
,,,,,,,,,,,METERS,DBAR,ITS-90,PSS-78,,PSS-78,,UMOL/KG,,UMOL/KG,,UMOL/KG,,UMOL/KG,,UMOL/KG,,UMOL/KG,,PMOL/KG,,PMOL/KG,,FMOL/KG,,UMOL/KG,,UMOL/KG,,,,DEG C,TU,,NMOL/KG,,PERCNT,,DEG C,,/MILLE,,/MILLE,,/MILLE,,UMOL/KG,,UMOL/KG,,NMOL/KG,,MMOL/KG,,/MILLE,,,,,,G/KG,,/MILLE,,/MILLE,,,,,,/MILLE,,/MILLE,
320620140320,       P16S,      76,          1,         36,         36,2,20140429,       1426,   -24.3330,  -150.0001,       5118,     4.3,  24.8447,  35.5214,2,  35.5208,2,    206.3,2,   207.8,2,    0.59,2,    0.02,2,    0.01,2,    0.06,2,   1.615,2,   1.008,2,    1.82,2,  2005.3,6,  2334.4,2,   8.1675,2,       20,-999.000,9,-999.0000,9, -999.00,9,  24.8454,2, -999.00,9,  -999.0,9, -999.00,9,    67.4,2,    3.62,2,       6.46,2,     -999.0,9, -999.00,9, 20140429,     1641, -24.3330,-150.0001,    35.6883,2,     -999.0,9,     -999.0,9,     -999.0,9,     -999.0,9,     -999.0,9,     -999.0,9
320620140320,       P16S,      76,          1,         35,         35,2,20140429,       1426,   -24.3330,  -150.0001,       5118,    34.1,  24.8543,  35.5223,2,  35.5222,2,    207.2,2,   208.0,2,    0.59,2,    0.00,2,    0.00,2,    0.05,2,-999.000,9,-999.000,9, -999.00,9,  2004.5,2,  2334.4,2,   8.1663,2,       20,-999.000,9,-999.0000,9, -999.00,9,  24.8542,2, -999.00,9,  -999.0,9, -999.00,9,    68.9,2,     3.8,2,     -999.0,9,     -999.0,9, -999.00,9, 20140429,     1639, -24.3330,-150.0001,    35.6897,2,     -999.0,9,     -999.0,9,     -999.0,9,     -999.0,9,     -999.0,9,     -999.0,9
320620140320,       P16S,      76,          1,         34,         34,2,20140429,       1426,   -24.3330,  -150.0001,       5118,    60.0,  23.3936,  35.5853,2,  35.5849,2,    223.8,2,   224.2,2,    0.39,2,    0.00,2,    0.00,2,    0.01,2,-999.000,9,-999.000,9, -999.00,9,  2009.6,2,  2334.5,2,   8.1559,2,       20,-999.000,9,-999.0000,9, -999.00,9,  23.4038,2, -999.00,9,  -999.0,9, -999.00,9,      67,2,    4.23,2,     -999.0,9,     -999.0,9, -999.00,9, 20140429,     1638, -24.3331,-150.0001,    35.7527,2,     -999.0,9,     -999.0,9,     -999.0,9,     -999.0,9,     -999.0,9,     -999.0,9
320620140320,       P16S,      76,          1,         33,         33,2,20140429,       1426,   -24.3330,  -150.0001,       5118,    85.6,  22.1568,  35.5880,2,  35.5885,2,    213.6,2,   214.0,2,    0.39,2,    0.00,2,    0.00,2,    0.03,2,   1.918,2,   1.152,2,    1.75,2,  2027.2,2,  2334.8,2,   8.1294,2,       20,-999.000,9,-999.0000,9, -999.00,9,  22.1564,2, -999.00,9,  -999.0,9, -999.00,9,    62.8,2,    4.12,2,       7.14,2,     -999.0,9, -999.00,9, 20140429,     1636, -24.3330,-150.0001,    35.7563,2,     -999.0,9,     -999.0,9,     -999.0,9,     -999.0,9,     -999.0,9,     -999.0,9
320620140320,       P16S,      76,          1,         32,         32,2,20140429,       1426,   -24.3330,  -150.0001,       5118,   114.1,  21.2154,  35.6041,2,  35.6147,2,    203.8,2,   200.9,2,    0.59,2,    0.03,2,    0.03,2,    0.09,2,-999.000,9,-999.000,9, -999.00,9,  2044.6,2,  2336.3,2,   8.0979,2,       20,-999.000,9,-999.0000,9, -999.00,9,  21.1348,3, -999.00,9,  -999.0,9, -999.00,9,    57.9,2,    2.63,3,     -999.0,9,     -999.0,9, -999.00,9, 20140429,     1634, -24.3330,-150.0001,    35.7827,2,     -999.0,9,     -999.0,9,     -999.0,9,     -999.0,9,     -999.0,9,     -999.0,9
320620140320,       P16S,      76,          1,         31,         31,2,20140429,       1426,   -24.3330,  -150.0001,       5118,   165.1,  19.5114,  35.5671,2,  35.5688,2,    187.7,2,   187.0,2,    0.68,2,    2.56,2,    0.02,2,    0.26,2,-999.000,9,-999.000,9, -999.00,9,  2070.2,2,  2333.6,2,   8.0449,2,       20,-999.000,9,-999.0000,9, -999.00,9,  19.5278,2, -999.00,9,  -999.0,9, -999.00,9,    50.5,2,    5.19,2,     -999.0,9,     -999.0,9, -999.00,9, 20140429,     1632, -24.3331,-150.0001,    35.7365,2,     -999.0,9,     -999.0,9,     -999.0,9,     -999.0,9,     -999.0,9,     -999.0,9
320620140320,       P16S,      76,          1,         30,         30,2,20140429,       1426,   -24.3330,  -150.0001,       5118,   215.0,  17.9738,  35.4519,2,  35.4555,2,    201.7,2,   199.9,2,    0.68,2,    2.51,2,    0.01,2,    0.23,2,-999.000,9,-999.000,9, -999.00,9,  2073.2,2,  2324.2,2,   8.0285,2,       20,-999.000,9,-999.0000,9, -999.00,9,  17.9950,3, -999.00,9,  -999.0,9, -999.00,9,    49.6,2,    5.49,2,     -999.0,9,     -999.0,9, -999.00,9, 20140429,     1630, -24.3331,-150.0001,    35.6227,2,     -999.0,9,     -999.0,9,     -999.0,9,     -999.0,9,     -999.0,9,     -999.0,9
320620140320,       P16S,      76,          1,         29,         29,2,20140429,       1426,   -24.3330,  -150.0001,       5118,   264.3,  16.5606,  35.3270,2,  35.3276,2,    208.3,2,   208.8,2,    0.78,2,    2.94,2,    0.01,2,    0.28,2,   2.420,2,   1.378,2,    1.79,2,  2078.9,2,  2317.4,2,    8.007,2,       20,-999.000,9,-999.0000,9, -999.00,9,  16.5587,2, -999.00,9,  -999.0,9, -999.00,9,    50.6,2,    6.31,2,       9.81,2,     -999.0,9, -999.00,9, 20140429,     1628, -24.3331,-150.0001,    35.4942,2,     -999.0,9,     -999.0,9,     -999.0,9,     -999.0,9,     -999.0,9,     -999.0,9
320620140320,       P16S,      76,          1,         28,         28,2,20140429,       1426,   -24.3330,  -150.0001,       5118,   313.7,  14.8230,  35.1166,2,  35.1327,2,    200.9,2,   200.1,2,    1.47,2,    6.46,2,    0.01,2,    0.53,2,-999.000,9,-999.000,9, -999.00,9,    2097,2,  2308.2,2,   7.9528,2,       20,-999.000,9,-999.0000,9, -999.00,9,  14.8538,2, -999.00,9,  -999.0,9, -999.00,9,    50.3,2,    8.48,2,     -999.0,9,     -999.0,9, -999.00,9, 20140429,     1626, -24.3331,-150.0001,    35.2984,2,     -999.0,9,     -999.0,9,     -999.0,9,     -999.0,9,     -999.0,9,     -999.0,9
320620140320,       P16S,      76,          1,         27,         27,2,20140429,       1426,   -24.3330,  -150.0001,       5118,   364.4,  12.2094,  34.8409,2,  34.8409,2,    197.1,2,   197.6,2,    3.03,2,   12.26,2,    0.01,2,    0.93,2,   2.760,2,   1.451,2,    1.55,2,  2118.3,2,  2295.4,2,   7.8806,2,       20,-999.000,9,-999.0000,9, -999.00,9,  12.2035,2, -999.00,9,  -999.0,9, -999.00,9,    47.7,2,   13.74,2,      15.74,2,     -999.0,9, -999.00,9, 20140429,     1624, -24.3331,-150.0001,    35.0052,2,     -999.0,9,     -999.0,9,     -999.0,9,     -999.0,9,     -999.0,9,     -999.0,9
320620140320,       P16S,      76,          1,         26,         26,2,20140429,       1426,   -24.3330,  -150.0001,       5118,   433.5,  10.0276,  34.6235,2,  34.6212,2,    200.4,2,   204.6,2,    4.69,2,   16.69,2,    0.01,2,    1.20,2,-999.000,9,-999.000,9, -999.00,9,  2132.5,2,  2288.2,2,   7.8291,2,       20,-999.000,9,-999.0000,9, -999.00,9,  10.0174,2, -999.00,9,  -999.0,9, -999.00,9,    43.3,2,   18.18,2,     -999.0,9,     -999.0,9, -999.00,9, 20140429,     1622, -24.3330,-150.0001,    34.7844,2,     -999.0,9,     -999.0,9,     -999.0,9,     -999.0,9,     -999.0,9,     -999.0,9
320620140320,       P16S,      76,          1,         25,         25,2,20140429,       1426,   -24.3330,  -150.0001,       5118,   534.3,   7.6691,  34.4103,2,  34.4113,2,    216.3,2,   221.1,2,    6.74,2,   21.38,2,    0.00,2,    1.51,2,   3.092,2,   1.505,2,    1.20,2,  2144.9,6,  2280.6,2,   7.7839,2,       20,-999.000,9,-999.0000,9, -999.00,9,   7.6768,2, -999.00,9,  -999.0,9, -999.00,9,    43.2,2,   22.99,2,      20.66,2,     -999.0,9, -999.00,9, 20140429,     1619, -24.3330,-150.0001,    34.5735,2,     -999.0,9,     -999.0,9,     -999.0,9,     -999.0,9,     -999.0,9,     -999.0,9
320620140320,       P16S,      76,          1,         24,         24,2,20140429,       1426,   -24.3330,  -150.0001,       5118,   634.5,   6.6274,  34.3461,2,  34.3441,2,    223.3,2,   227.1,2,    9.29,2,   23.94,2,    0.00,2,    1.66,2,-999.000,9,-999.000,9, -999.00,9,  2151.3,2,  2279.8,2,   7.7664,2,       20,-999.000,9,-999.0000,9, -999.00,9,   6.6218,2, -999.00,9,  -999.0,9, -999.00,9,    39.9,2, -999.00,9,     -999.0,9,     -999.0,9, -999.00,9, 20140429,     1616, -24.3331,-150.0001,    34.5061,2,     -999.0,9,     -999.0,9,     -999.0,9,     -999.0,9,     -999.0,9,     -999.0,9
320620140320,       P16S,      76,          1,         23,         23,2,20140429,       1426,   -24.3330,  -150.0001,       5118,   734.0,   5.7976,  34.3131,2,  34.3131,2,    222.2,2,   220.9,2,   14.17,2,   26.52,2,    0.00,2,    1.83,2,   1.884,2,   0.908,2,    0.09,2,    2162,2,  2282.8,2,   7.7444,6,       20,-999.000,9,-999.0000,9, -999.00,9,   5.7996,2, -999.00,9,  -999.0,9, -999.00,9,    40.3,2, -999.00,9,      19.71,2,     -999.0,9, -999.00,9, 20140429,     1613, -24.3331,-150.0001,    34.4749,2,     -999.0,9,     -999.0,9,     -999.0,9,     -999.0,9,     -999.0,9,     -999.0,9
320620140320,       P16S,      76,          1,         22,         22,2,20140429,       1426,   -24.3330,  -150.0001,       5118,   834.6,   5.1459,  34.3209,2,  34.3214,2,    204.5,2,   201.4,2,   23.36,2,   29.42,2,    0.00,2,    2.04,2,-999.000,9,-999.000,9, -999.00,9,  2182.7,2,  2290.8,2,   7.7059,2,       20,-999.000,9,-999.0000,9, -999.00,9,   5.1460,2, -999.00,9,  -999.0,9, -999.00,9,    38.6,2, -999.00,9,     -999.0,9,     -999.0,9, -999.00,9, 20140429,     1611, -24.3330,-150.0001,    34.4832,2,     -999.0,9,     -999.0,9,     -999.0,9,     -999.0,9,     -999.0,9,     -999.0,9
320620140320,       P16S,      76,          1,         21,         21,2,20140429,       1426,   -24.3330,  -150.0001,       5118,   934.7,   4.6504,  34.3584,2,  34.3589,2,    181.8,2,   181.3,2,   34.99,2,   31.66,2,    0.00,2,    2.23,2,-999.000,9,-999.000,9, -999.00,9,  2205.5,2,  2300.6,6,   7.6693,2,       20,-999.000,9,-999.0000,9, -999.00,9,   4.6474,2, -999.00,9,  -999.0,9, -999.00,9,    38.9,2, -999.00,9,     -999.0,9,     -999.0,9, -999.00,9, 20140429,     1607, -24.3330,-150.0001,    34.5209,2,     -999.0,9,     -999.0,9,     -999.0,9,     -999.0,9,     -999.0,9,     -999.0,9
320620140320,       P16S,      76,          1,         20,         20,2,20140429,       1426,   -24.3330,  -150.0001,       5118,  1034.5,   4.0589,  34.3959,2,  34.3952,2,    172.6,2,   172.0,2,   47.30,2,   33.30,2,    0.00,2,    2.34,2,   0.221,2,   0.108,2,    0.02,2,  2223.6,2,  2314.3,2,   7.6504,2,       20,-999.000,9,-999.0000,9, -999.00,9,   4.0582,2, -999.00,9,  -999.0,9, -999.00,9,    39.2,2, -999.00,9,      24.84,2,     -999.0,9, -999.00,9, 20140429,     1604, -24.3330,-150.0001,    34.5574,2,     -999.0,9,     -999.0,9,     -999.0,9,     -999.0,9,     -999.0,9,     -999.0,9
320620140320,       P16S,      76,          1,         19,         19,2,20140429,       1426,   -24.3330,  -150.0001,       5118,  1134.5,   3.6777,  34.4315,2,  34.4321,2,    166.9,2,   166.6,2,   57.17,2,   34.03,2,    0.00,2,    2.37,2,-999.000,9,-999.000,9, -999.00,9,  2236.8,2,  2324.7,2,   7.6399,2,       20,-999.000,9,-999.0000,9, -999.00,9,   3.6770,2, -999.00,9,  -999.0,9, -999.00,9,    39.6,2, -999.00,9,     -999.0,9,     -999.0,9, -999.00,9, 20140429,     1601, -24.3331,-150.0001,    34.5944,2,     -999.0,9,     -999.0,9,     -999.0,9,     -999.0,9,     -999.0,9,     -999.0,9
320620140320,       P16S,      76,          1,         18,         18,2,20140429,       1426,   -24.3330,  -150.0001,       5118,  1233.6,   3.2532,  34.4790,2,  34.4790,2,    162.4,2,   162.0,2,   69.48,2,   34.54,2,    0.00,2,    2.40,2,   0.059,2,   0.014,2,    0.03,2,  2252.2,2,  2339.1,2,   7.6346,2,       20,-999.000,9,-999.0000,9, -999.00,9,   3.2529,2, -999.00,9,  -999.0,9, -999.00,9,    38.1,2, -999.00,9,      24.92,2,     -999.0,9, -999.00,9, 20140429,     1558, -24.3330,-150.0001,    34.6416,2,     -999.0,9,     -999.0,9,     -999.0,9,     -999.0,9,     -999.0,9,     -999.0,9
320620140320,       P16S,      76,          1,         17,         17,2,20140429,       1426,   -24.3330,  -150.0001,       5118,  1333.5,   3.0030,  34.5160,2,  34.5147,2,    159.0,2,   158.4,2,   79.16,2,   34.81,2,    0.00,2,    2.44,2,-999.000,9,-999.000,9, -999.00,9,  2263.1,2,  2349.8,2,    7.632,2,       20,-999.000,9,-999.0000,9, -999.00,9,   3.0026,2, -999.00,9,  -999.0,9, -999.00,9,    36.5,2, -999.00,9,     -999.0,9,     -999.0,9, -999.00,9, 20140429,     1555, -24.3330,-150.0001,    34.6775,2,     -999.0,9,     -999.0,9,     -999.0,9,     -999.0,9,     -999.0,9,     -999.0,9
320620140320,       P16S,      76,          1,         16,         16,2,20140429,       1426,   -24.3330,  -150.0001,       5118,  1464.2,   2.7028,  34.5555,2,  34.5548,2,    155.7,2,   155.6,2,   90.39,2,   35.07,2,    0.00,2,    2.45,2,   0.010,2,   0.001,2,    0.00,2,  2274.4,2,  2362.6,2,   7.6326,2,       20,-999.000,9,-999.0000,9, -999.00,9,   2.7033,2, -999.00,9,  -999.0,9, -999.00,9,    36.1,2, -999.00,9,      24.30,2,     -999.0,9, -999.00,9, 20140429,     1552, -24.3330,-150.0001,    34.7178,2,     -999.0,9,     -999.0,9,     -999.0,9,     -999.0,9,     -999.0,9,     -999.0,9
320620140320,       P16S,      76,          1,         15,         15,2,20140429,       1426,   -24.3330,  -150.0001,       5118,  1664.1,   2.4249,  34.5920,2,  34.5929,2,    153.2,2,   153.3,2,  101.43,2,   35.22,2,    0.00,2,    2.48,2,-999.000,9,-999.000,9, -999.00,9,  2285.8,2,  2375.2,2,   7.6337,2,       20,-999.000,9,-999.0000,9, -999.00,9,   2.4249,2, -999.00,9,  -999.0,9, -999.00,9,    34.9,2, -999.00,9,     -999.0,9,     -999.0,9, -999.00,9, 20140429,     1547, -24.3331,-150.0001,    34.7561,2,     -999.0,9,     -999.0,9,     -999.0,9,     -999.0,9,     -999.0,9,     -999.0,9
320620140320,       P16S,      76,          1,         14,         14,2,20140429,       1426,   -24.3330,  -150.0001,       5118,  1864.3,   2.2117,  34.6205,2,  34.6206,2,    150.8,2,   150.7,2,  111.11,2,   35.46,2,    0.00,2,    2.50,2,-999.000,9,-999.000,9, -999.00,9,    2299,2,  2384.2,2,   7.6341,2,       20,-999.000,9,-999.0000,9, -999.00,9,   2.2115,2, -999.00,9,  -999.0,9, -999.00,9,    34.8,2, -999.00,9,     -999.0,9,     -999.0,9, -999.00,9, 20140429,     1543, -24.3330,-150.0001,    34.7839,2,     -999.0,9,     -999.0,9,     -999.0,9,     -999.0,9,     -999.0,9,     -999.0,9
320620140320,       P16S,      76,          1,         13,         13,2,20140429,       1426,   -24.3330,  -150.0001,       5118,  2084.1,   2.0362,  34.6408,2,  34.6407,2,    149.7,2,   149.9,2,  118.43,2,   35.48,2,    0.00,2,    2.50,2,  -0.003,2,   0.000,2,    0.02,2,  2304.3,2,  2392.9,2,   7.6342,2,       20,-999.000,9,-999.0000,9, -999.00,9,   2.0365,2, -999.00,9,  -999.0,9, -999.00,9,    37.5,2, -999.00,9,      24.59,2,     -999.0,9, -999.00,9, 20140429,     1538, -24.3331,-150.0001,    34.8040,2,     -999.0,9,     -999.0,9,     -999.0,9,     -999.0,9,     -999.0,9,     -999.0,9
320620140320,       P16S,      76,          1,         12,         12,2,20140429,       1426,   -24.3330,  -150.0001,       5118,  2334.5,   1.9130,  34.6527,2,  34.6521,2,    151.4,2,   152.1,2,  122.24,2,   35.47,2,    0.00,2,    2.51,2,-999.000,9,-999.000,9, -999.00,9,    2307,2,  2398.3,2,   7.6376,2,       20,-999.000,9,-999.0000,9, -999.00,9,   1.9130,2, -999.00,9,  -999.0,9, -999.00,9,    37.6,2, -999.00,9,     -999.0,9,     -999.0,9, -999.00,9, 20140429,     1532, -24.3331,-150.0001,    34.8155,2,     -999.0,9,     -999.0,9,     -999.0,9,     -999.0,9,     -999.0,9,     -999.0,9
320620140320,       P16S,      76,          1,         11,         11,2,20140429,       1426,   -24.3330,  -150.0001,       5118,  2585.1,   1.8049,  34.6617,2,  34.6619,2,    155.9,2,   156.0,2,  123.71,2,   35.16,2,    0.00,2,    2.46,2,  -0.001,2,   0.000,2,    0.01,2,  2305.6,2,  2398.1,3,   7.6426,2,       20,-999.000,9,-999.0000,9, -999.00,9,   1.8052,2, -999.00,9,  -999.0,9, -999.00,9,    37.8,2, -999.00,9,      23.39,2,     -999.0,9, -999.00,9, 20140429,     1526, -24.3331,-150.0001,    34.8254,2,     -999.0,9,     -999.0,9,     -999.0,9,     -999.0,9,     -999.0,9,     -999.0,9
320620140320,       P16S,      76,          1,         10,         10,2,20140429,       1426,   -24.3330,  -150.0001,       5118,  2835.0,   1.7358,  34.6684,2,  34.6682,2,    158.0,2,   158.1,2,  125.47,2,   35.04,2,    0.00,2,    2.47,2,-999.000,9,-999.000,9, -999.00,9,  2306.1,6,  2399.5,2,   7.6451,2,       20,-999.000,9,-999.0000,9, -999.00,9,   1.7364,2, -999.00,9,  -999.0,9, -999.00,9,    39.1,2, -999.00,9,     -999.0,9,     -999.0,9, -999.00,9, 20140429,     1521, -24.3331,-150.0001,    34.8317,2,     -999.0,9,     -999.0,9,     -999.0,9,     -999.0,9,     -999.0,9,     -999.0,9
320620140320,       P16S,      76,          1,          9,         09,2,20140429,       1426,   -24.3330,  -150.0001,       5118,  3098.8,   1.6821,  34.6741,2,  34.6745,2,    159.0,2,   158.9,2,  127.61,2,   35.06,2,    0.00,2,    2.48,2,   0.000,2,   0.001,2,    0.01,2,  2306.5,2,  2397.6,2,   7.6467,2,       20,-999.000,9,-999.0000,9, -999.00,9,   1.6818,2, -999.00,9,  -999.0,9, -999.00,9,    37.6,2, -999.00,9,      23.53,2,     -999.0,9, -999.00,9, 20140429,     1515, -24.3331,-150.0001,    34.8380,2,     -999.0,9,     -999.0,9,     -999.0,9,     -999.0,9,     -999.0,9,     -999.0,9
320620140320,       P16S,      76,          1,          8,         08,2,20140429,       1426,   -24.3330,  -150.0001,       5118,  3400.2,   1.6112,  34.6807,2,  34.6804,2,    164.7,2,   164.8,2,  126.83,2,   34.63,2,    0.00,2,    2.42,2,-999.000,9,-999.000,9, -999.00,9,  2302.4,2,  2394.9,2,   7.6512,2,       20,-999.000,9,-999.0000,9, -999.00,9,   1.6112,2, -999.00,9,  -999.0,9, -999.00,9,    36.5,2, -999.00,9,     -999.0,9,     -999.0,9, -999.00,9, 20140429,     1509, -24.3330,-150.0001,    34.8440,2,     -999.0,9,     -999.0,9,     -999.0,9,     -999.0,9,     -999.0,9,     -999.0,9
320620140320,       P16S,      76,          1,          7,         07,2,20140429,       1426,   -24.3330,  -150.0001,       5118,  3699.8,   1.5087,  34.6890,2,  34.6891,2,    173.2,2,   173.2,2,  124.78,2,   34.04,2,    0.00,2,    2.38,2,-999.000,9,-999.000,9, -999.00,9,  2294.1,2,  2388.6,2,   7.6585,6,       20,-999.000,9,-999.0000,9, -999.00,9,   1.5093,2, -999.00,9,  -999.0,9, -999.00,9,    38.6,2, -999.00,9,     -999.0,9,     -999.0,9, -999.00,9, 20140429,     1502, -24.3331,-150.0001,    34.8526,2,     -999.0,9,     -999.0,9,     -999.0,9,     -999.0,9,     -999.0,9,     -999.0,9
320620140320,       P16S,      76,          1,          6,         06,2,20140429,       1426,   -24.3330,  -150.0001,       5118,  4000.2,   1.4300,  34.6948,2,  34.6949,2,    181.7,2,   181.4,2,  122.34,2,   33.47,2,    0.00,2,    2.35,2,  -0.001,2,   0.000,2,    0.02,2,  2285.9,2,  2382.1,2,   7.6644,2,       20,-999.000,9,-999.0000,9, -999.00,9,   1.4300,2, -999.00,9,  -999.0,9, -999.00,9,    37.1,2, -999.00,9,      20.96,2,     -999.0,9, -999.00,9, 20140429,     1456, -24.3330,-150.0001,    34.8585,2,     -999.0,9,     -999.0,9,     -999.0,9,     -999.0,9,     -999.0,9,     -999.0,9