BOTTLE,20230715CCHSIOCBG
EXPOCODE,SECT_ID,STNNBR,CASTNO,SAMPNO,BTLNBR,BTLNBR_FLAG_W,DATE,TIME,LATITUDE,LONGITUDE,DEPTH,CTDPRS,CTDTMP,CTDSAL,CTDSAL_FLAG_W,SALNTY,SALNTY_FLAG_W,CTDOXY,CTDOXY_FLAG_W,OXYGEN,OXYGEN_FLAG_W,SILCAT,SILCAT_FLAG_W,NITRAT,NITRAT_FLAG_W,NITRIT,NITRIT_FLAG_W,PHSPHT,PHSPHT_FLAG_W,CFC-11,CFC-11_FLAG_W,CFC-12,CFC-12_FLAG_W,SF6,SF6_FLAG_W,TCARBN,TCARBN_FLAG_W,ALKALI,ALKALI_FLAG_W,PH_TOT,PH_TOT_FLAG_W,PH_TMP,TRITUM,TRITUM_FLAG_W,HELIUM,HELIUM_FLAG_W,DELHE3,DELHE3_FLAG_W,REFTMP,REFTMP_FLAG_W,DELC13,DELC13_FLAG_W,DELC14,DELC14_FLAG_W,DELO18,DELO18_FLAG_W,DOC,DOC_FLAG_W,TDN,TDN_FLAG_W,N2O,N2O_FLAG_W,CALCIUM,CALCIUM_FLAG_W,D15N_NO3,D15N_NO3_FLAG_W,BTL_DATE,BTL_TIME,BTL_LAT,BTL_LON,SALTREF,SALTREF_FLAG_W,D18O_NO3,D18O_NO3_FLAG_W,DSI30,DSI30_FLAG_W,CDOM_NASA,CDOM_NASA_FLAG_W,CDOM_UCSB,CDOM_UCSB_FLAG_W,D15N_NO2+NO3,D15N_NO2+NO3_FLAG_W,D18O_NO2+NO3,D18O_NO2+NO3_FLAG_W
,,,,,,,,,,,METERS,DBAR,ITS-90,PSS-78,,PSS-78,,UMOL/KG,,UMOL/KG,,UMOL/KG,,UMOL/KG,,UMOL/KG,,UMOL/KG,,PMOL/KG,,PMOL/KG,,FMOL/KG,,UMOL/KG,,UMOL/KG,,,,DEG C,TU,,NMOL/KG,,PERCNT,,DEG C,,/MILLE,,/MILLE,,/MILLE,,UMOL/KG,,UMOL/KG,,NMOL/KG,,MMOL/KG,,/MILLE,,,,,,G/KG,,/MILLE,,/MILLE,,,,,,/MILLE,,/MILLE,
320620140320,       P16S,      78,          1,          5,         05,2,20140430,       0724,   -22.9999,  -150.0002,     -999.0,  3899.1,   1.5018,  34.6901,2,  34.6900,2,    176.9,2,   177.4,2,  122.73,2,   33.85,2,    0.00,2,    2.36,2,-999.000,9,-999.000,9, -999.00,9,  2290.7,2,  2388.2,2,   7.6631,2,       20,-999.000,9,-999.0000,9, -999.00,9,   1.5009,2, -999.00,9,  -999.0,9, -999.00,9,    38.3,2, -999.00,9,     -999.0,9,     -999.0,9, -999.00,9, 20140430,      748, -22.9999,-150.0004,    34.8536,2,     -999.0,9,     -999.0,9,     -999.0,9,     -999.0,9,     -999.0,9,     -999.0,9
320620140320,       P16S,      78,          1,          4,         04,2,20140430,       0724,   -22.9999,  -150.0002,     -999.0,  4199.5,   1.4689,  34.6938,2,  34.6931,2,    180.9,2,   181.8,2,  121.85,2,   33.60,2,    0.00,2,    2.34,2,-999.000,9,-999.000,9, -999.00,9,  2287.2,2,  2385.9,2,   7.6656,2,       20,-999.000,9,-999.0000,9, -999.00,9,   1.4690,2, -999.00,9,  -999.0,9, -999.00,9,    40.1,2, -999.00,9,     -999.0,9,     -999.0,9, -999.00,9, 20140430,      742, -23.0000,-150.0005,    34.8567,2,     -999.0,9,     -999.0,9,     -999.0,9,     -999.0,9,     -999.0,9,     -999.0,9
320620140320,       P16S,      78,          1,          3,         03,2,20140430,       0724,   -22.9999,  -150.0002,     -999.0,  4499.5,   1.4026,  34.6993,2,  34.6988,2,    186.2,2,   187.1,2,  120.97,2,   33.20,2,    0.00,2,    2.30,2,   0.001,2,   0.002,2,    0.02,2,  2281.8,2,    2382,2,   7.6693,2,       20,-999.000,9,-999.0000,9, -999.00,9,   1.4025,2, -999.00,9,  -999.0,9, -999.00,9,    38.3,2, -999.00,9,      21.62,2,     -999.0,9, -999.00,9, 20140430,      736, -22.9998,-150.0002,    34.8624,2,     -999.0,9,     -999.0,9,     -999.0,9,     -999.0,9,     -999.0,9,     -999.0,9
320620140320,       P16S,      78,          1,          2,         02,2,20140430,       0724,   -22.9999,  -150.0002,     -999.0,  4699.9,   1.3932,  34.7011,2,  34.7004,2,    188.9,2,   189.1,2,  120.58,2,   33.06,2,    0.00,2,    2.29,2,-999.000,9,-999.000,9, -999.00,9,  2279.1,2,  2380.6,6,   7.6708,2,       20,-999.000,9,-999.0000,9, -999.00,9,   1.3935,2, -999.00,9,  -999.0,9, -999.00,9,    38.4,2, -999.00,9,     -999.0,9,     -999.0,9, -999.00,9, 20140430,      731, -22.9997,-149.9999,    34.8640,2,     -999.0,9,     -999.0,9,     -999.0,9,     -999.0,9,     -999.0,9,     -999.0,9
320620140320,       P16S,      78,          1,          1,         01,2,20140430,       0724,   -22.9999,  -150.0002,     -999.0,  4930.1,   1.4150,  34.7013,2,  34.7027,2,    189.8,2,   189.6,2,  120.49,2,   33.07,2,    0.00,2,    2.28,2,   0.002,2,   0.000,2,    0.00,2,  2279.4,6,  2380.6,2,   7.6706,2,       20,-999.000,9,-999.0000,9, -999.00,9,   1.4152,2,    0.48,6,  -189.1,6, -999.00,9,    38.8,2, -999.00,9,      20.49,2,     -999.0,9, -999.00,9, 20140430,      725, -22.9999,-150.0002,    34.8664,2,     -999.0,9,     -999.0,9,     -999.0,9,     -999.0,9,     -999.0,9,     -999.0,9