BOTTLE,20230715CCHSIOCBG
EXPOCODE,SECT_ID,STNNBR,CASTNO,SAMPNO,BTLNBR,BTLNBR_FLAG_W,DATE,TIME,LATITUDE,LONGITUDE,DEPTH,CTDPRS,CTDTMP,CTDSAL,CTDSAL_FLAG_W,SALNTY,SALNTY_FLAG_W,CTDOXY,CTDOXY_FLAG_W,OXYGEN,OXYGEN_FLAG_W,SILCAT,SILCAT_FLAG_W,NITRAT,NITRAT_FLAG_W,NITRIT,NITRIT_FLAG_W,PHSPHT,PHSPHT_FLAG_W,CFC-11,CFC-11_FLAG_W,CFC-12,CFC-12_FLAG_W,SF6,SF6_FLAG_W,TCARBN,TCARBN_FLAG_W,ALKALI,ALKALI_FLAG_W,PH_TOT,PH_TOT_FLAG_W,PH_TMP,TRITUM,TRITUM_FLAG_W,HELIUM,HELIUM_FLAG_W,DELHE3,DELHE3_FLAG_W,REFTMP,REFTMP_FLAG_W,DELC13,DELC13_FLAG_W,DELC14,DELC14_FLAG_W,DELO18,DELO18_FLAG_W,DOC,DOC_FLAG_W,TDN,TDN_FLAG_W,N2O,N2O_FLAG_W,CALCIUM,CALCIUM_FLAG_W,D15N_NO3,D15N_NO3_FLAG_W,BTL_DATE,BTL_TIME,BTL_LAT,BTL_LON,SALTREF,SALTREF_FLAG_W,D18O_NO3,D18O_NO3_FLAG_W,DSI30,DSI30_FLAG_W,CDOM_NASA,CDOM_NASA_FLAG_W,CDOM_UCSB,CDOM_UCSB_FLAG_W,D15N_NO2+NO3,D15N_NO2+NO3_FLAG_W,D18O_NO2+NO3,D18O_NO2+NO3_FLAG_W
,,,,,,,,,,,METERS,DBAR,ITS-90,PSS-78,,PSS-78,,UMOL/KG,,UMOL/KG,,UMOL/KG,,UMOL/KG,,UMOL/KG,,UMOL/KG,,PMOL/KG,,PMOL/KG,,FMOL/KG,,UMOL/KG,,UMOL/KG,,,,DEG C,TU,,NMOL/KG,,PERCNT,,DEG C,,/MILLE,,/MILLE,,/MILLE,,UMOL/KG,,UMOL/KG,,NMOL/KG,,MMOL/KG,,/MILLE,,,,,,G/KG,,/MILLE,,/MILLE,,,,,,/MILLE,,/MILLE,
320620140320,       P16S,      50,          1,         36,         36,2,20140419,       1813,   -41.6665,  -150.0001,     -999.0,     3.8,  16.2462,  34.4125,2,  34.4128,2,    247.7,2,   246.4,2,    0.20,2,    1.83,2,    0.03,2,    0.28,2,   2.518,2,   1.474,2,    1.66,2,  2046.2,2,    2277,2,   8.0071,6,       20,-999.000,9,-999.0000,9, -999.00,9,  16.2457,2, -999.00,9,  -999.0,9, -999.00,9,    56.9,2,    6.46,2,       9.24,2,     -999.0,9, -999.00,9, 20140419,     2033, -41.6665,-150.0002,    34.5750,2,     -999.0,9,     -999.0,9,     -999.0,9,     -999.0,9,     -999.0,9,     -999.0,9
320620140320,       P16S,      50,          1,         35,         35,2,20140419,       1813,   -41.6665,  -150.0001,     -999.0,    19.6,  16.2419,  34.4120,2,  34.4126,2,    248.7,2,   246.3,2,    0.29,2,    1.82,2,    0.03,2,    0.27,2,-999.000,9,-999.000,9, -999.00,9,  2046.8,6,  2277.2,2,   8.0066,2,       20,-999.000,9,-999.0000,9, -999.00,9,  16.2417,2, -999.00,9,  -999.0,9, -999.00,9,    60.3,2,    5.95,2,     -999.0,9,     -999.0,9, -999.00,9, 20140419,     2031, -41.6665,-150.0002,    34.5748,2,     -999.0,9,     -999.0,9,     -999.0,9,     -999.0,9,     -999.0,9,     -999.0,9
320620140320,       P16S,      50,          1,         34,         34,2,20140419,       1813,   -41.6665,  -150.0001,     -999.0,    39.7,  16.2464,  34.4113,2,  34.4100,2,    248.9,2,   246.2,2,    0.00,2,    1.81,2,    0.03,2,    0.28,2,   2.449,2,   1.466,2,    1.90,2,  2046.3,2,  2277.4,6,   8.0077,2,       20,-999.000,9,-999.0000,9, -999.00,9,  16.2397,2, -999.00,9,  -999.0,9, -999.00,9,    59.1,2,    5.89,2,       8.77,2,     -999.0,9, -999.00,9, 20140419,     2030, -41.6665,-150.0002,    34.5723,2,     -999.0,9,     -999.0,9,     -999.0,9,     -999.0,9,     -999.0,9,     -999.0,9
320620140320,       P16S,      50,          1,         33,         33,2,20140419,       1813,   -41.6665,  -150.0001,     -999.0,    67.0,  13.1702,  34.4895,2,  34.4909,2,    274.8,2,   275.1,2,    0.68,2,    3.51,2,    0.07,2,    0.40,2,-999.000,9,-999.000,9, -999.00,9,  2066.8,2,  2281.8,2,   7.9736,2,       20,-999.000,9,-999.0000,9, -999.00,9,  13.1466,2, -999.00,9,  -999.0,9, -999.00,9,    55.9,2,    6.78,2,     -999.0,9,     -999.0,9, -999.00,9, 20140419,     2028, -41.6665,-150.0002,    34.6535,2,     -999.0,9,     -999.0,9,     -999.0,9,     -999.0,9,     -999.0,9,     -999.0,9
320620140320,       P16S,      50,          1,         32,         32,2,20140419,       1813,   -41.6665,  -150.0001,     -999.0,    89.7,  11.4202,  34.5002,2,  34.5007,2,    268.0,2,   267.4,2,    0.78,2,    5.49,2,    0.21,2,    0.57,2,   3.279,2,   1.860,2,    2.04,2,  2082.4,2,  2282.4,2,   7.9368,2,       20,-999.000,9,-999.0000,9, -999.00,9,  11.4242,2, -999.00,9,  -999.0,9, -999.00,9,    52.3,2,    7.81,2,      12.05,2,     -999.0,9, -999.00,9, 20140419,     2026, -41.6665,-150.0002,    34.6634,2,     -999.0,9,     -999.0,9,     -999.0,9,     -999.0,9,     -999.0,9,     -999.0,9
320620140320,       P16S,      50,          1,         31,         31,2,20140419,       1813,   -41.6665,  -150.0001,     -999.0,   134.5,   9.9719,  34.4744,2,  34.4758,2,    257.5,2,   256.6,2,    0.98,2,   10.10,2,    0.20,2,    0.80,2,-999.000,9,-999.000,9, -999.00,9,  2104.3,2,  2280.2,2,   7.8857,2,       20,-999.000,9,-999.0000,9, -999.00,9,   9.9679,2, -999.00,9,  -999.0,9, -999.00,9,    47.5,2,   12.05,2,     -999.0,9,     -999.0,9, -999.00,9, 20140419,     2024, -41.6665,-150.0002,    34.6383,2,     -999.0,9,     -999.0,9,     -999.0,9,     -999.0,9,     -999.0,9,     -999.0,9
320620140320,       P16S,      50,          1,         30,         30,2,20140419,       1813,   -41.6665,  -150.0001,     -999.0,   185.3,   9.0513,  34.4766,2,  34.4769,2,    260.2,2,   262.4,2,    1.95,2,   12.48,2,    0.01,2,    0.94,2,-999.000,9,-999.000,9, -999.00,9,  2112.2,2,  2281.4,2,   7.8674,2,       20,-999.000,9,-999.0000,9, -999.00,9,   9.0560,2, -999.00,9,  -999.0,9, -999.00,9,    46.2,2,    15.4,2,     -999.0,9,     -999.0,9, -999.00,9, 20140419,     2022, -41.6665,-150.0002,    34.6395,2,     -999.0,9,     -999.0,9,     -999.0,9,     -999.0,9,     -999.0,9,     -999.0,9
320620140320,       P16S,      50,          1,         29,         29,2,20140419,       1813,   -41.6665,  -150.0001,     -999.0,   235.9,   8.7743,  34.5209,2,  34.5203,2,    256.2,2,   254.7,2,    2.83,2,   14.52,2,    0.01,2,    1.05,2,   3.605,2,   2.025,2,    2.10,2,  2122.6,2,  2284.2,2,   7.8465,2,       20,-999.000,9,-999.0000,9, -999.00,9,   8.7736,2, -999.00,9,  -999.0,9, -999.00,9,    46.9,2,   16.51,2,      15.55,2,     -999.0,9, -999.00,9, 20140419,     2020, -41.6665,-150.0002,    34.6831,2,     -999.0,9,     -999.0,9,     -999.0,9,     -999.0,9,     -999.0,9,     -999.0,9
320620140320,       P16S,      50,          1,         28,         28,2,20140419,       1813,   -41.6665,  -150.0001,     -999.0,   283.9,   8.4854,  34.5102,2,  34.5095,2,    254.1,2,   253.2,2,    3.22,2,   15.89,2,    0.01,2,    1.13,2,-999.000,9,-999.000,9, -999.00,9,  2128.1,2,  2283.8,2,   7.8342,2,       20,-999.000,9,-999.0000,9, -999.00,9,   8.4855,2, -999.00,9,  -999.0,9, -999.00,9,    44.7,2,   17.63,2,     -999.0,9,     -999.0,9, -999.00,9, 20140419,     2018, -41.6665,-150.0002,    34.6723,2,     -999.0,9,     -999.0,9,     -999.0,9,     -999.0,9,     -999.0,9,     -999.0,9
320620140320,       P16S,      50,          1,         27,         27,2,20140419,       1813,   -41.6665,  -150.0001,     -999.0,   335.0,   8.1944,  34.4857,2,  34.4838,2,    253.4,2,   252.0,2,    3.91,2,   17.31,2,    0.01,2,    1.22,2,-999.000,9,-999.000,9, -999.00,9,  2132.2,2,  2282.8,2,   7.8231,2,       20,-999.000,9,-999.0000,9, -999.00,9,   8.1929,2, -999.00,9,  -999.0,9, -999.00,9,    45.6,2,   19.07,2,     -999.0,9,     -999.0,9, -999.00,9, 20140419,     2016, -41.6665,-150.0002,    34.6464,2,     -999.0,9,     -999.0,9,     -999.0,9,     -999.0,9,     -999.0,9,     -999.0,9
320620140320,       P16S,      50,          1,         26,         26,2,20140419,       1813,   -41.6665,  -150.0001,     -999.0,   386.1,   7.9415,  34.4607,2,  34.4608,2,    251.9,2,   251.1,2,    4.40,2,   18.41,2,    0.01,2,    1.26,2,   3.906,2,   2.076,2,    1.81,2,  2134.6,2,    2282,2,   7.8149,2,       20,-999.000,9,-999.0000,9, -999.00,9,   7.9405,2, -999.00,9,  -999.0,9, -999.00,9,    45.7,2,   20.04,2,      17.13,2,     -999.0,9, -999.00,9, 20140419,     2014, -41.6665,-150.0002,    34.6233,2,     -999.0,9,     -999.0,9,     -999.0,9,     -999.0,9,     -999.0,9,     -999.0,9
320620140320,       P16S,      50,          1,         25,         25,2,20140419,       1813,   -41.6665,  -150.0001,     -999.0,   465.0,   7.6469,  34.4316,2,  34.4314,2,    250.2,2,   250.2,2,    5.18,2,   19.50,2,    0.01,2,    1.34,2,-999.000,9,-999.000,9, -999.00,9,  2137.7,2,  2281.8,2,    7.807,2,       20,-999.000,9,-999.0000,9, -999.00,9,   7.6482,2, -999.00,9,  -999.0,9, -999.00,9,    44.8,2,   20.91,2,     -999.0,9,     -999.0,9, -999.00,9, 20140419,     2011, -41.6665,-150.0002,    34.5937,2,     -999.0,9,     -999.0,9,     -999.0,9,     -999.0,9,     -999.0,9,     -999.0,9
320620140320,       P16S,      50,          1,         24,         24,2,20140419,       1813,   -41.6665,  -150.0001,     -999.0,   564.2,   7.3122,  34.4021,2,  34.4023,2,    246.8,2,   246.7,2,    6.25,2,   20.97,2,    0.01,2,    1.44,2,-999.000,9,-999.000,9, -999.00,9,  2140.3,2,  2280.4,2,   7.7948,2,       20,-999.000,9,-999.0000,9, -999.00,9,   7.3144,2, -999.00,9,  -999.0,9, -999.00,9,      43,2,   22.04,2,     -999.0,9,     -999.0,9, -999.00,9, 20140419,     2009, -41.6665,-150.0002,    34.5646,2,     -999.0,9,     -999.0,9,     -999.0,9,     -999.0,9,     -999.0,9,     -999.0,9
320620140320,       P16S,      50,          1,         23,         23,2,20140419,       1813,   -41.6665,  -150.0001,     -999.0,   662.8,   6.9776,  34.3748,2,  34.3751,2,    243.9,2,   244.1,2,    7.52,2,   22.16,2,    0.00,2,    1.51,2,   3.692,2,   1.952,2,    1.36,2,  2144.8,2,  2281.2,2,   7.7863,2,       20,-999.000,9,-999.0000,9, -999.00,9,   6.9803,2, -999.00,9,  -999.0,9, -999.00,9,    41.4,2, -999.00,9,      16.22,2,     -999.0,9, -999.00,9, 20140419,     2006, -41.6665,-150.0002,    34.5372,2,     -999.0,9,     -999.0,9,     -999.0,9,     -999.0,9,     -999.0,9,     -999.0,9
320620140320,       P16S,      50,          1,         22,         22,2,20140419,       1813,   -41.6665,  -150.0001,     -999.0,   763.4,   6.5456,  34.3449,2,  34.3443,2,    238.2,2,   237.7,2,   10.16,2,   23.77,2,    0.00,2,    1.67,2,   3.434,2,   1.767,2,    1.19,2,  2150.5,2,  2281.6,2,    7.771,2,       20,-999.000,9,-999.0000,9, -999.00,9,   6.5479,2, -999.00,9,  -999.0,9, -999.00,9,    42.6,2, -999.00,9,      16.55,2,     -999.0,9, -999.00,9, 20140419,     2003, -41.6665,-150.0002,    34.5062,2,     -999.0,9,     -999.0,9,     -999.0,9,     -999.0,9,     -999.0,9,     -999.0,9
320620140320,       P16S,      50,          1,         21,         21,2,20140419,       1813,   -41.6665,  -150.0001,     -999.0,   863.5,   5.9881,  34.3246,2,  34.3246,2,    226.4,2,   225.6,2,   14.56,2,   26.02,2,    0.00,2,    1.79,2,   2.920,2,   1.502,2,    1.02,2,  2161.8,6,  2284.6,2,   7.7462,2,       20,-999.000,9,-999.0000,9, -999.00,9,   5.9884,2, -999.00,9,  -999.0,9, -999.00,9,    39.7,2, -999.00,9,      18.69,2,     -999.0,9, -999.00,9, 20140419,     2000, -41.6665,-150.0002,    34.4865,2,     -999.0,9,     -999.0,9,     -999.0,9,     -999.0,9,     -999.0,9,     -999.0,9
320620140320,       P16S,      50,          1,         20,         20,2,20140419,       1813,   -41.6665,  -150.0001,     -999.0,   965.3,   5.3644,  34.3186,2,  34.3190,2,    215.2,2,   213.1,2,   27.26,4,   30.09,4,    0.00,4,    2.06,4,   2.230,2,   1.089,2,    0.67,2,  2176.4,2,  2287.6,2,   7.7198,2,       20,-999.000,9,-999.0000,9, -999.00,9,   5.3633,2, -999.00,9,  -999.0,9, -999.00,9,      38,2, -999.00,9,      18.94,2,     -999.0,9, -999.00,9, 20140419,     1957, -41.6665,-150.0002,    34.4808,2,     -999.0,9,     -999.0,9,     -999.0,9,     -999.0,9,     -999.0,9,     -999.0,9
320620140320,       P16S,      50,          1,         19,         19,2,20140419,       1813,   -41.6665,  -150.0001,     -999.0,  1064.8,   4.7966,  34.3237,2,  34.3242,2,    206.6,2,   205.2,2,   27.35,2,   30.06,2,    0.00,2,    2.04,2,   1.697,2,   0.864,2,    0.41,2,  2189.5,2,  2293.4,2,    7.698,2,       20,-999.000,9,-999.0000,9, -999.00,9,   4.7945,2, -999.00,9,  -999.0,9, -999.00,9,    37.3,2, -999.00,9,      21.17,2,     -999.0,9, -999.00,9, 20140419,     1954, -41.6665,-150.0002,    34.4861,2,     -999.0,9,     -999.0,9,     -999.0,9,     -999.0,9,     -999.0,9,     -999.0,9
320620140320,       P16S,      50,          1,         18,         18,2,20140419,       1813,   -41.6665,  -150.0001,     -999.0,  1164.5,   4.2210,  34.3396,2,  34.3405,2,    199.9,2,   198.6,2,   35.56,2,   31.59,2,    0.00,2,    2.16,2,   1.476,2,   0.729,2,    0.28,2,  2202.6,2,  2300.6,2,   7.6774,2,       20,-999.000,9,-999.0000,9, -999.00,9,   4.2136,2, -999.00,9,  -999.0,9, -999.00,9,    37.9,2, -999.00,9,      22.63,2,     -999.0,9, -999.00,9, 20140419,     1951, -41.6665,-150.0002,    34.5025,2,     -999.0,9,     -999.0,9,     -999.0,9,     -999.0,9,     -999.0,9,     -999.0,9
320620140320,       P16S,      50,          1,         17,         17,2,20140419,       1813,   -41.6665,  -150.0001,     -999.0,  1263.2,   3.8028,  34.3618,2,  34.3619,2,    193.4,2,   192.9,2,   42.49,2,   32.51,2,    0.00,2,    2.22,2,   1.083,2,   0.550,2,    0.15,2,  2213.1,2,  2306.9,2,   7.6633,2,       20,-999.000,9,-999.0000,9, -999.00,9,   3.8039,2, -999.00,9,  -999.0,9, -999.00,9,    37.3,2, -999.00,9,      22.78,2,     -999.0,9, -999.00,9, 20140419,     1948, -41.6665,-150.0002,    34.5240,2,     -999.0,9,     -999.0,9,     -999.0,9,     -999.0,9,     -999.0,9,     -999.0,9
320620140320,       P16S,      50,          1,         16,         16,2,20140419,       1813,   -41.6665,  -150.0001,     -999.0,  1365.9,   3.4319,  34.3989,2,  34.3990,2,    186.7,2,   185.6,2,   51.09,2,   33.43,2,    0.00,2,    2.29,2,-999.000,9,-999.000,9, -999.00,9,  2223.4,2,  2315.2,2,   7.6497,2,       20,-999.000,9,-999.0000,9, -999.00,9,   3.4317,2, -999.00,9,  -999.0,9, -999.00,9,      40,2, -999.00,9,     -999.0,9,     -999.0,9, -999.00,9, 20140419,     1945, -41.6665,-150.0002,    34.5612,2,     -999.0,9,     -999.0,9,     -999.0,9,     -999.0,9,     -999.0,9,     -999.0,9
320620140320,       P16S,      50,          1,         15,         15,2,20140419,       1813,   -41.6665,  -150.0001,     -999.0,  1535.0,   3.0084,  34.4791,2,  34.4797,2,    172.9,2,   172.4,2,   65.74,2,   34.39,2,    0.00,2,    2.37,2,-999.000,9,-999.000,9, -999.00,9,  2244.4,2,  2331.6,2,   7.6356,2,       20,-999.000,9,-999.0000,9, -999.00,9,   3.0072,2, -999.00,9,  -999.0,9, -999.00,9,    37.9,2, -999.00,9,     -999.0,9,     -999.0,9, -999.00,9, 20140419,     1941, -41.6665,-150.0002,    34.6423,2,     -999.0,9,     -999.0,9,     -999.0,9,     -999.0,9,     -999.0,9,     -999.0,9
320620140320,       P16S,      50,          1,         14,         14,2,20140419,       1813,   -41.6665,  -150.0001,     -999.0,  1735.0,   2.7343,  34.5563,2,  34.5559,2,    162.5,2,   161.7,2,   82.83,2,   34.84,2,    0.00,2,    2.41,2,   0.097,2,   0.035,2,    0.10,2,  2264.4,2,  2352.2,2,   7.6326,2,       20,-999.000,9,-999.0000,9, -999.00,9,   2.7334,2, -999.00,9,  -999.0,9, -999.00,9,    38.7,2, -999.00,9,      25.17,2,     -999.0,9, -999.00,9, 20140419,     1936, -41.6665,-150.0002,    34.7188,2,     -999.0,9,     -999.0,9,     -999.0,9,     -999.0,9,     -999.0,9,     -999.0,9
320620140320,       P16S,      50,          1,         13,         13,2,20140419,       1813,   -41.6665,  -150.0001,     -999.0,  1933.4,   2.5329,  34.5984,2,  34.5979,2,    156.2,2,   156.1,2,   95.42,2,   35.08,2,    0.00,2,    2.43,2,   0.034,2,   0.009,2,    0.03,2,    2279,2,    2368,2,   7.6336,2,       20,-999.000,9,-999.0000,9, -999.00,9,   2.5341,2, -999.00,9,  -999.0,9, -999.00,9,      38,2, -999.00,9,      24.37,2,     -999.0,9, -999.00,9, 20140419,     1931, -41.6665,-150.0002,    34.7611,2,     -999.0,9,     -999.0,9,     -999.0,9,     -999.0,9,     -999.0,9,     -999.0,9
320620140320,       P16S,      50,          1,         12,         12,2,20140419,       1813,   -41.6665,  -150.0001,     -999.0,  2164.5,   2.3312,  34.6267,2,  34.6264,2,    152.9,2,   152.5,2,  106.26,2,   35.39,2,    0.00,2,    2.44,2,-999.000,9,-999.000,9, -999.00,9,  2292.1,2,  2380.9,2,   7.6339,2,       20,-999.000,9,-999.0000,9, -999.00,9,   2.3312,2, -999.00,9,  -999.0,9, -999.00,9,    36.3,2, -999.00,9,     -999.0,9,     -999.0,9, -999.00,9, 20140419,     1926, -41.6665,-150.0002,    34.7897,2,     -999.0,9,     -999.0,9,     -999.0,9,     -999.0,9,     -999.0,9,     -999.0,9
320620140320,       P16S,      50,          1,         11,         11,2,20140419,       1813,   -41.6665,  -150.0001,     -999.0,  2417.3,   2.1697,  34.6454,2,  34.6451,2,    152.2,2,   152.3,2,  112.61,2,   35.44,2,    0.00,2,    2.45,2,   0.012,2,   0.001,2,    0.04,2,  2297.4,2,  2386.9,2,   7.6342,2,       20,-999.000,9,-999.0000,9, -999.00,9,   2.1697,2, -999.00,9,  -999.0,9, -999.00,9,    35.1,2, -999.00,9,      24.00,2,     -999.0,9, -999.00,9, 20140419,     1920, -41.6665,-150.0001,    34.8084,2,     -999.0,9,     -999.0,9,     -999.0,9,     -999.0,9,     -999.0,9,     -999.0,9
320620140320,       P16S,      50,          1,         10,         10,2,20140419,       1813,   -41.6665,  -150.0001,     -999.0,  2662.0,   2.0261,  34.6619,2,  34.6618,2,    154.5,2,   154.4,2,  116.32,2,   35.24,2,    0.00,2,    2.45,2,-999.000,9,-999.000,9, -999.00,9,  2299.1,2,  2390.8,2,   7.6367,2,       20,-999.000,9,-999.0000,9, -999.00,9,   2.0261,2, -999.00,9,  -999.0,9, -999.00,9,    36.4,2, -999.00,9,     -999.0,9,     -999.0,9, -999.00,9, 20140419,     1914, -41.6665,-150.0002,    34.8252,2,     -999.0,9,     -999.0,9,     -999.0,9,     -999.0,9,     -999.0,9,     -999.0,9
320620140320,       P16S,      50,          1,          9,         09,2,20140419,       1813,   -41.6665,  -150.0001,     -999.0,  2915.5,   1.8963,  34.6791,2,  34.6793,2,    159.8,2,   160.2,2,  117.00,2,   34.75,2,    0.00,2,    2.40,2,-999.000,9,-999.000,9, -999.00,9,  2295.5,6,  2388.1,2,   7.6435,2,       20,-999.000,9,-999.0000,9, -999.00,9,   1.8960,2, -999.00,9,  -999.0,9, -999.00,9,    37.2,2, -999.00,9,     -999.0,9,     -999.0,9, -999.00,9, 20140419,     1909, -41.6665,-150.0002,    34.8428,2,     -999.0,9,     -999.0,9,     -999.0,9,     -999.0,9,     -999.0,9,     -999.0,9
320620140320,       P16S,      50,          1,          8,         08,2,20140419,       1813,   -41.6665,  -150.0001,     -999.0,  3200.6,   1.7706,  34.6989,2,  34.6989,2,    172.2,2,   172.6,2,  113.39,2,   33.72,2,    0.00,2,    2.33,2,-999.000,9,-999.000,9, -999.00,9,  2284.2,2,  2380.6,2,   7.6538,2,       20,-999.000,9,-999.0000,9, -999.00,9,   1.7708,2, -999.00,9,  -999.0,9, -999.00,9,    38.8,2, -999.00,9,     -999.0,9,     -999.0,9, -999.00,9, 20140419,     1903, -41.6665,-150.0002,    34.8625,2,     -999.0,9,     -999.0,9,     -999.0,9,     -999.0,9,     -999.0,9,     -999.0,9
320620140320,       P16S,      50,          1,          7,         07,2,20140419,       1813,   -41.6665,  -150.0001,     -999.0,  3501.6,   1.6041,  34.7140,2,  34.7148,2,    185.5,2,   185.6,2,  109.58,2,   32.68,2,    0.00,2,    2.26,2,   0.014,2,   0.003,2,    0.00,2,  2269.9,2,    2370,2,   7.6662,2,       20,-999.000,9,-999.0000,9, -999.00,9,   1.6037,2, -999.00,9,  -999.0,9, -999.00,9,    37.9,2, -999.00,9,      21.80,2,     -999.0,9, -999.00,9, 20140419,     1856, -41.6665,-150.0002,    34.8785,2,     -999.0,9,     -999.0,9,     -999.0,9,     -999.0,9,     -999.0,9,     -999.0,9
320620140320,       P16S,      50,          1,          6,         06,2,20140419,       1813,   -41.6665,  -150.0001,     -999.0,  3863.2,   1.3806,  34.7159,2,  34.7156,2,    194.4,2,   194.5,2,  112.51,2,   32.36,2,    0.00,2,    2.24,2,-999.000,9,-999.000,9, -999.00,9,  2266.6,2,  2369.2,2,   7.6736,2,       20,-999.000,9,-999.0000,9, -999.00,9,   1.3809,2, -999.00,9,  -999.0,9, -999.00,9,    37.7,2, -999.00,9,     -999.0,9,     -999.0,9, -999.00,9, 20140419,     1849, -41.6665,-150.0002,    34.8793,2,     -999.0,9,     -999.0,9,     -999.0,9,     -999.0,9,     -999.0,9,     -999.0,9