BOTTLE,20230715CCHSIOCBG
EXPOCODE,SECT_ID,STNNBR,CASTNO,SAMPNO,BTLNBR,BTLNBR_FLAG_W,DATE,TIME,LATITUDE,LONGITUDE,DEPTH,CTDPRS,CTDTMP,CTDSAL,CTDSAL_FLAG_W,SALNTY,SALNTY_FLAG_W,CTDOXY,CTDOXY_FLAG_W,OXYGEN,OXYGEN_FLAG_W,SILCAT,SILCAT_FLAG_W,NITRAT,NITRAT_FLAG_W,NITRIT,NITRIT_FLAG_W,PHSPHT,PHSPHT_FLAG_W,CFC-11,CFC-11_FLAG_W,CFC-12,CFC-12_FLAG_W,SF6,SF6_FLAG_W,TCARBN,TCARBN_FLAG_W,ALKALI,ALKALI_FLAG_W,PH_TOT,PH_TOT_FLAG_W,PH_TMP,TRITUM,TRITUM_FLAG_W,HELIUM,HELIUM_FLAG_W,DELHE3,DELHE3_FLAG_W,REFTMP,REFTMP_FLAG_W,DELC13,DELC13_FLAG_W,DELC14,DELC14_FLAG_W,DELO18,DELO18_FLAG_W,DOC,DOC_FLAG_W,TDN,TDN_FLAG_W,N2O,N2O_FLAG_W,CALCIUM,CALCIUM_FLAG_W,D15N_NO3,D15N_NO3_FLAG_W,BTL_DATE,BTL_TIME,BTL_LAT,BTL_LON,SALTREF,SALTREF_FLAG_W,D18O_NO3,D18O_NO3_FLAG_W,DSI30,DSI30_FLAG_W,CDOM_NASA,CDOM_NASA_FLAG_W,CDOM_UCSB,CDOM_UCSB_FLAG_W,D15N_NO2+NO3,D15N_NO2+NO3_FLAG_W,D18O_NO2+NO3,D18O_NO2+NO3_FLAG_W
,,,,,,,,,,,METERS,DBAR,ITS-90,PSS-78,,PSS-78,,UMOL/KG,,UMOL/KG,,UMOL/KG,,UMOL/KG,,UMOL/KG,,UMOL/KG,,PMOL/KG,,PMOL/KG,,FMOL/KG,,UMOL/KG,,UMOL/KG,,,,DEG C,TU,,NMOL/KG,,PERCNT,,DEG C,,/MILLE,,/MILLE,,/MILLE,,UMOL/KG,,UMOL/KG,,NMOL/KG,,MMOL/KG,,/MILLE,,,,,,G/KG,,/MILLE,,/MILLE,,,,,,/MILLE,,/MILLE,
320620140320,       P16S,       6,          1,         36,         36,2,20140401,       0652,   -66.4998,  -149.9999,       4458,     4.7,  -0.6298,  33.7428,2,  33.7443,2,    343.8,2,   343.6,2,   31.56,2,   22.33,2,    0.20,2,    1.61,2,   5.954,2,   3.109,2,    3.29,2,  2162.2,2,  2284.6,2,   7.7648,6,       20,-999.000,9,-999.0000,9, -999.00,9,  -0.6291,2, -999.00,9,  -999.0,9, -999.00,9,  -999.0,9, -999.00,9,      15.97,2,     -999.0,9, -999.00,9, 20140401,      849, -66.5000,-149.9998,    33.9034,2,     -999.0,9,     -999.0,9,     -999.0,9,     -999.0,9,     -999.0,9,     -999.0,9
320620140320,       P16S,       6,          1,         35,         35,2,20140401,       0652,   -66.4998,  -149.9999,       4458,    34.7,  -0.6235,  33.7432,2,  33.7447,2,    344.7,2,   343.7,2,   31.75,2,   22.55,2,    0.20,2,    1.61,2,-999.000,9,-999.000,9, -999.00,9,  2161.7,2,    2287,2,   7.7625,2,       20,-999.000,9,-999.0000,9, -999.00,9,  -0.6239,2, -999.00,9,  -999.0,9, -999.00,9,  -999.0,9, -999.00,9,     -999.0,9,     -999.0,9, -999.00,9, 20140401,      847, -66.5000,-149.9997,    33.9038,2,     -999.0,9,     -999.0,9,     -999.0,9,     -999.0,9,     -999.0,9,     -999.0,9
320620140320,       P16S,       6,          1,         34,         34,2,20140401,       0652,   -66.4998,  -149.9999,       4458,    61.0,  -0.7514,  33.8107,2,  33.8122,2,    339.4,2,   337.6,2,   35.85,2,   23.56,2,    0.19,2,    1.70,2,-999.000,9,-999.000,9, -999.00,9,  2169.8,2,  2289.8,2,   7.7529,2,       20,-999.000,9,-999.0000,9, -999.00,9,  -0.7511,2, -999.00,9,  -999.0,9, -999.00,9,  -999.0,9, -999.00,9,     -999.0,9,     -999.0,9, -999.00,9, 20140401,      845, -66.5000,-149.9998,    33.9716,2,     -999.0,9,     -999.0,9,     -999.0,9,     -999.0,9,     -999.0,9,     -999.0,9
320620140320,       P16S,       6,          1,         33,         33,2,20140401,       0652,   -66.4998,  -149.9999,       4458,    84.3,  -1.5348,  34.1340,2,  34.1219,2,    314.7,2,   314.3,2,   55.67,2,   27.87,2,    0.14,2,    2.00,2,-999.000,9,-999.000,9, -999.00,9,  2202.1,2,  2306.7,2,   7.7043,2,       20,-999.000,9,-999.0000,9, -999.00,9,  -1.5397,2, -999.00,9,  -999.0,9, -999.00,9,  -999.0,9, -999.00,9,     -999.0,9,     -999.0,9, -999.00,9, 20140401,      844, -66.5000,-149.9998,    34.2828,2,     -999.0,9,     -999.0,9,     -999.0,9,     -999.0,9,     -999.0,9,     -999.0,9
320620140320,       P16S,       6,          1,         32,         32,2,20140401,       0652,   -66.4998,  -149.9999,       4458,   115.2,  -0.9349,  34.2635,2,  34.2564,2,    280.7,2,   280.8,2,   64.36,2,   29.90,2,    0.09,2,    2.09,2,-999.000,9,-999.000,9, -999.00,9,  2217.2,2,  2312.7,2,   7.6746,2,       20,-999.000,9,-999.0000,9, -999.00,9,  -0.9645,3, -999.00,9,  -999.0,9, -999.00,9,  -999.0,9, -999.00,9,     -999.0,9,     -999.0,9, -999.00,9, 20140401,      842, -66.4999,-149.9998,    34.4179,2,     -999.0,9,     -999.0,9,     -999.0,9,     -999.0,9,     -999.0,9,     -999.0,9
320620140320,       P16S,       6,          1,         31,         31,2,20140401,       0652,   -66.4998,  -149.9999,       4458,   163.7,   0.5737,  34.5109,2,  34.5084,2,    216.7,2,   217.4,2,   80.94,2,   32.15,2,    0.03,2,    2.22,2,-999.000,9,-999.000,9, -999.00,9,  2245.2,2,  2329.3,2,   7.6391,2,       20,-999.000,9,-999.0000,9, -999.00,9,   0.5627,2, -999.00,9,  -999.0,9, -999.00,9,  -999.0,9, -999.00,9,     -999.0,9,     -999.0,9, -999.00,9, 20140401,      840, -66.4999,-149.9998,    34.6711,2,     -999.0,9,     -999.0,9,     -999.0,9,     -999.0,9,     -999.0,9,     -999.0,9
320620140320,       P16S,       6,          1,         30,         30,2,20140401,       0652,   -66.4998,  -149.9999,       4458,   215.6,   1.4402,  34.6697,2,  34.6720,2,    185.9,2,   184.0,2,   90.11,2,   32.68,2,    0.04,2,    2.26,2,-999.000,9,-999.000,9, -999.00,9,  2259.1,2,  2342.5,2,   7.6313,2,       20,-999.000,9,-999.0000,9, -999.00,9,   1.4480,2, -999.00,9,  -999.0,9, -999.00,9,  -999.0,9, -999.00,9,     -999.0,9,     -999.0,9, -999.00,9, 20140401,      838, -66.4999,-149.9998,    34.8355,2,     -999.0,9,     -999.0,9,     -999.0,9,     -999.0,9,     -999.0,9,     -999.0,9
320620140320,       P16S,       6,          1,         29,         29,2,20140401,       0652,   -66.4998,  -149.9999,       4458,   264.2,   1.5772,  34.7142,2,  34.7054,2,    180.5,2,   181.0,2,   93.04,2,   32.61,2,    0.03,2,    2.25,2,-999.000,9,-999.000,9, -999.00,9,  2260.9,2,  2346.6,2,   7.6376,2,       20,-999.000,9,-999.0000,9, -999.00,9,   1.5777,2, -999.00,9,  -999.0,9, -999.00,9,  -999.0,9, -999.00,9,     -999.0,9,     -999.0,9, -999.00,9, 20140401,      837, -66.4999,-149.9998,    34.8690,2,     -999.0,9,     -999.0,9,     -999.0,9,     -999.0,9,     -999.0,9,     -999.0,9
320620140320,       P16S,       6,          1,         28,         28,2,20140401,       0652,   -66.4998,  -149.9999,       4458,   314.1,   1.5327,  34.7243,2,  34.7235,2,    181.7,2,   182.1,2,   97.14,2,   32.45,2,    0.02,2,    2.23,2,-999.000,9,-999.000,9, -999.00,9,  2261.5,2,  2350.2,2,   7.6443,2,       20,-999.000,9,-999.0000,9, -999.00,9,   1.5331,2, -999.00,9,  -999.0,9, -999.00,9,  -999.0,9, -999.00,9,     -999.0,9,     -999.0,9, -999.00,9, 20140401,      835, -66.4999,-149.9997,    34.8872,2,     -999.0,9,     -999.0,9,     -999.0,9,     -999.0,9,     -999.0,9,     -999.0,9
320620140320,       P16S,       6,          1,         27,         27,2,20140401,       0652,   -66.4998,  -149.9999,       4458,   364.4,   1.4737,  34.7279,2,  34.7270,2,    183.0,2,   183.2,2,   99.38,2,   32.43,2,    0.01,2,    2.24,2,   0.255,2,   0.092,2,    0.16,2,  2261.5,2,  2351.3,2,   7.6454,2,       20,-999.000,9,-999.0000,9, -999.00,9,   1.4742,2, -999.00,9,  -999.0,9, -999.00,9,  -999.0,9, -999.00,9,      21.49,2,     -999.0,9, -999.00,9, 20140401,      833, -66.4999,-149.9998,    34.8908,2,     -999.0,9,     -999.0,9,     -999.0,9,     -999.0,9,     -999.0,9,     -999.0,9
320620140320,       P16S,       6,          1,         26,         26,2,20140401,       0652,   -66.4998,  -149.9999,       4458,   414.8,   1.4296,  34.7287,2,  34.7280,2,    183.6,2,   183.6,2,  101.53,2,   32.49,2,    0.01,2,    2.23,2,-999.000,9,-999.000,9, -999.00,9,  2262.9,2,  2350.9,2,   7.6464,2,       20,-999.000,9,-999.0000,9, -999.00,9,   1.4295,2, -999.00,9,  -999.0,9, -999.00,9,  -999.0,9, -999.00,9,     -999.0,9,     -999.0,9, -999.00,9, 20140401,      831, -66.4999,-149.9998,    34.8917,2,     -999.0,9,     -999.0,9,     -999.0,9,     -999.0,9,     -999.0,9,     -999.0,9
320620140320,       P16S,       6,          1,         25,         25,2,20140401,       0652,   -66.4998,  -149.9999,       4458,   464.9,   1.3837,  34.7294,2,  34.7286,2,    184.2,2,   184.3,2,  103.19,2,   32.49,2,    0.01,2,    2.23,2,-999.000,9,-999.000,9, -999.00,9,  2262.5,2,  2350.6,6,   7.6467,2,       20,-999.000,9,-999.0000,9, -999.00,9,   1.3841,2, -999.00,9,  -999.0,9, -999.00,9,  -999.0,9, -999.00,9,     -999.0,9,     -999.0,9, -999.00,9, 20140401,      829, -66.4999,-149.9998,    34.8923,2,     -999.0,9,     -999.0,9,     -999.0,9,     -999.0,9,     -999.0,9,     -999.0,9
320620140320,       P16S,       6,          1,         24,         24,2,20140401,       0652,   -66.4998,  -149.9999,       4458,   535.9,   1.3227,  34.7286,2,  34.7278,2,    185.4,2,   185.1,2,  105.43,2,   32.44,2,    0.01,2,    2.25,2,-999.000,9,-999.000,9, -999.00,9,  2263.9,6,  2353.9,2,   7.6473,2,       20,-999.000,9,-999.0000,9, -999.00,9,   1.3223,2, -999.00,9,  -999.0,9, -999.00,9,  -999.0,9, -999.00,9,     -999.0,9,     -999.0,9, -999.00,9, 20140401,      827, -66.4999,-149.9998,    34.8916,2,     -999.0,9,     -999.0,9,     -999.0,9,     -999.0,9,     -999.0,9,     -999.0,9
320620140320,       P16S,       6,          1,         23,         23,2,20140401,       0652,   -66.4998,  -149.9999,       4458,   636.6,   1.2348,  34.7276,2,  34.7266,2,    187.3,2,   187.4,2,  108.46,2,   32.53,2,    0.01,2,    2.25,2,-999.000,9,-999.000,9, -999.00,9,  2263.7,2,  2354.8,2,   7.6504,6,       20,-999.000,9,-999.0000,9, -999.00,9,   1.2352,2, -999.00,9,  -999.0,9, -999.00,9,  -999.0,9, -999.00,9,     -999.0,9,     -999.0,9, -999.00,9, 20140401,      824, -66.4999,-149.9997,    34.8904,2,     -999.0,9,     -999.0,9,     -999.0,9,     -999.0,9,     -999.0,9,     -999.0,9
320620140320,       P16S,       6,          1,         22,         22,2,20140401,       0652,   -66.4998,  -149.9999,       4458,   734.0,   1.1577,  34.7254,2,  34.7244,2,    189.3,2,   189.6,2,  110.71,2,   32.46,2,    0.00,2,    2.24,2,-999.000,9,-999.000,9, -999.00,9,  2263.7,2,  2356.3,2,   7.6531,2,       20,-999.000,9,-999.0000,9, -999.00,9,   1.1582,2, -999.00,9,  -999.0,9, -999.00,9,  -999.0,9, -999.00,9,     -999.0,9,     -999.0,9, -999.00,9, 20140401,      822, -66.4999,-149.9998,    34.8882,2,     -999.0,9,     -999.0,9,     -999.0,9,     -999.0,9,     -999.0,9,     -999.0,9
320620140320,       P16S,       6,          1,         21,         21,2,20140401,       0652,   -66.4998,  -149.9999,       4458,   834.8,   1.1019,  34.7233,2,  34.7231,2,    191.5,2,   191.5,2,  112.27,2,   32.46,2,    0.00,2,    2.26,2,-999.000,9,-999.000,9, -999.00,9,    2263,2,  2357.2,2,   7.6564,2,       20,-999.000,9,-999.0000,9, -999.00,9,   1.1025,2, -999.00,9,  -999.0,9, -999.00,9,  -999.0,9, -999.00,9,     -999.0,9,     -999.0,9, -999.00,9, 20140401,      819, -66.4999,-149.9998,    34.8868,2,     -999.0,9,     -999.0,9,     -999.0,9,     -999.0,9,     -999.0,9,     -999.0,9
320620140320,       P16S,       6,          1,         20,         20,2,20140401,       0652,   -66.4998,  -149.9999,       4458,   935.3,   1.0445,  34.7210,2,  34.7205,2,    193.9,2,   193.4,2,  114.22,2,   32.43,2,    0.00,2,    2.25,2,-999.000,9,-999.000,9, -999.00,9,  -999.0,9,  -999.0,9,-999.0000,9,  -999.00,-999.000,9,-999.0000,9, -999.00,9,   1.0446,2, -999.00,9,  -999.0,9, -999.00,9,  -999.0,9, -999.00,9,     -999.0,9,     -999.0,9, -999.00,9, 20140401,      816, -66.4999,-149.9998,    34.8842,2,     -999.0,9,     -999.0,9,     -999.0,9,     -999.0,9,     -999.0,9,     -999.0,9
320620140320,       P16S,       6,          1,         19,         19,2,20140401,       0652,   -66.4998,  -149.9999,       4458,  1036.2,   0.9860,  34.7189,2,  34.7186,2,    195.1,2,   195.4,2,  116.08,2,   32.43,2,    0.00,2,    2.26,2,   0.119,2,   0.036,2,    0.08,2,  2263.1,2,  2357.7,2,   7.6597,2,       20,-999.000,9,-999.0000,9, -999.00,9,   0.9848,2, -999.00,9,  -999.0,9, -999.00,9,  -999.0,9, -999.00,9,      20.17,2,     -999.0,9, -999.00,9, 20140401,      814, -66.4999,-149.9998,    34.8823,2,     -999.0,9,     -999.0,9,     -999.0,9,     -999.0,9,     -999.0,9,     -999.0,9
320620140320,       P16S,       6,          1,         18,         18,2,20140401,       0652,   -66.4998,  -149.9999,       4458,  1135.1,   0.9252,  34.7167,2,  34.7162,2,    197.1,2,   197.0,2,  117.83,2,   32.42,2,    0.00,2,    2.26,2,-999.000,9,-999.000,9, -999.00,9,  -999.0,9,  -999.0,9,-999.0000,9,  -999.00,-999.000,9,-999.0000,9, -999.00,9,   0.9248,2, -999.00,9,  -999.0,9, -999.00,9,  -999.0,9, -999.00,9,     -999.0,9,     -999.0,9, -999.00,9, 20140401,      811, -66.4999,-149.9998,    34.8799,2,     -999.0,9,     -999.0,9,     -999.0,9,     -999.0,9,     -999.0,9,     -999.0,9
320620140320,       P16S,       6,          1,         17,         17,2,20140401,       0652,   -66.4998,  -149.9999,       4458,  1234.9,   0.8754,  34.7145,2,  34.7142,2,    198.5,2,   198.4,2,  119.30,2,   32.48,2,    0.00,2,    2.26,2,-999.000,9,-999.000,9, -999.00,9,  2263.4,2,  2359.1,2,   7.6639,2,       20,-999.000,9,-999.0000,9, -999.00,9,   0.8757,2, -999.00,9,  -999.0,9, -999.00,9,  -999.0,9, -999.00,9,     -999.0,9,     -999.0,9, -999.00,9, 20140401,      808, -66.4999,-149.9998,    34.8779,2,     -999.0,9,     -999.0,9,     -999.0,9,     -999.0,9,     -999.0,9,     -999.0,9
320620140320,       P16S,       6,          1,         16,         16,2,20140401,       0652,   -66.4998,  -149.9999,       4458,  1335.2,   0.8219,  34.7125,2,  34.7123,2,    199.9,2,   199.8,2,  121.54,2,   32.54,2,    0.00,2,    2.27,2,-999.000,9,-999.000,9, -999.00,9,  -999.0,9,  -999.0,9,-999.0000,9,  -999.00,-999.000,9,-999.0000,9, -999.00,9,   0.8219,2, -999.00,9,  -999.0,9, -999.00,9,  -999.0,9, -999.00,9,     -999.0,9,     -999.0,9, -999.00,9, 20140401,      806, -66.4999,-149.9999,    34.8760,2,     -999.0,9,     -999.0,9,     -999.0,9,     -999.0,9,     -999.0,9,     -999.0,9
320620140320,       P16S,       6,          1,         15,         15,2,20140401,       0652,   -66.4998,  -149.9999,       4458,  1436.5,   0.7777,  34.7105,2,  34.7107,2,    201.1,2,   201.2,2,  122.91,2,   32.56,2,    0.00,2,    2.28,2,   0.117,2,   0.039,2,    0.10,2,  2261.7,2,    2361,2,   7.6649,2,       20,-999.000,9,-999.0000,9, -999.00,9,   0.7775,2, -999.00,9,  -999.0,9, -999.00,9,  -999.0,9, -999.00,9,      20.00,2,     -999.0,9, -999.00,9, 20140401,      803, -66.4999,-149.9998,    34.8744,2,     -999.0,9,     -999.0,9,     -999.0,9,     -999.0,9,     -999.0,9,     -999.0,9
320620140320,       P16S,       6,          1,         14,         14,2,20140401,       0652,   -66.4998,  -149.9999,       4458,  1535.9,   0.7312,  34.7090,2,  34.7032,4,    201.9,2,   201.9,2,  124.37,2,   32.48,2,    0.00,2,    2.26,2,-999.000,9,-999.000,9, -999.00,9,  -999.0,9,  -999.0,9,-999.0000,9,  -999.00,-999.000,9,-999.0000,9, -999.00,9,   0.7323,2, -999.00,9,  -999.0,9, -999.00,9,  -999.0,9, -999.00,9,     -999.0,9,     -999.0,9, -999.00,9, 20140401,      800, -66.4999,-149.9999,    34.8669,4,     -999.0,9,     -999.0,9,     -999.0,9,     -999.0,9,     -999.0,9,     -999.0,9
320620140320,       P16S,       6,          1,         13,         13,2,20140401,       0652,   -66.4998,  -149.9999,       4458,  1665.8,   0.6892,  34.7072,2,  34.7075,2,    203.4,2,   203.3,2,  125.84,2,   32.55,2,    0.00,2,    2.27,2,-999.000,9,-999.000,9, -999.00,9,  2262.8,2,  2360.7,2,   7.6652,2,       20,-999.000,9,-999.0000,9, -999.00,9,   0.6894,2, -999.00,9,  -999.0,9, -999.00,9,  -999.0,9, -999.00,9,     -999.0,9,     -999.0,9, -999.00,9, 20140401,      757, -66.4999,-149.9999,    34.8712,2,     -999.0,9,     -999.0,9,     -999.0,9,     -999.0,9,     -999.0,9,     -999.0,9
320620140320,       P16S,       6,          1,         12,         12,2,20140401,       0652,   -66.4998,  -149.9999,       4458,  1865.6,   0.6133,  34.7051,2,  34.7042,2,    205.0,2,   205.0,2,  127.60,2,   32.55,2,    0.00,2,    2.26,2,   0.146,2,   0.041,2,    0.07,2,  -999.0,9,  -999.0,9,-999.0000,9,  -999.00,-999.000,9,-999.0000,9, -999.00,9,   0.6131,2, -999.00,9,  -999.0,9, -999.00,9,  -999.0,9, -999.00,9,      19.52,2,     -999.0,9, -999.00,9, 20140401,      753, -66.4998,-149.9999,    34.8679,2,     -999.0,9,     -999.0,9,     -999.0,9,     -999.0,9,     -999.0,9,     -999.0,9
320620140320,       P16S,       6,          1,         11,         11,2,20140401,       0652,   -66.4998,  -149.9999,       4458,  2084.4,   0.5271,  34.7036,2,  34.7034,2,    207.1,2,   207.0,2,  128.28,2,   32.56,2,    0.00,2,    2.27,2,-999.000,9,-999.000,9, -999.00,9,  2262.5,2,    2360,2,   7.6651,2,       20,-999.000,9,-999.0000,9, -999.00,9,   0.5272,2, -999.00,9,  -999.0,9, -999.00,9,  -999.0,9, -999.00,9,     -999.0,9,     -999.0,9, -999.00,9, 20140401,      748, -66.4998,-149.9999,    34.8671,2,     -999.0,9,     -999.0,9,     -999.0,9,     -999.0,9,     -999.0,9,     -999.0,9
320620140320,       P16S,       6,          1,         10,         10,2,20140401,       0652,   -66.4998,  -149.9999,       4458,  2385.5,   0.4299,  34.7026,2,  34.7020,2,    209.7,2,   209.4,2,  130.62,2,   32.68,2,    0.00,2,    2.27,2,-999.000,9,-999.000,9, -999.00,9,  -999.0,9,  -999.0,9,-999.0000,9,  -999.00,-999.000,9,-999.0000,9, -999.00,9,   0.4308,2, -999.00,9,  -999.0,9, -999.00,9,  -999.0,9, -999.00,9,     -999.0,9,     -999.0,9, -999.00,9, 20140401,      742, -66.4998,-149.9999,    34.8657,2,     -999.0,9,     -999.0,9,     -999.0,9,     -999.0,9,     -999.0,9,     -999.0,9
320620140320,       P16S,       6,          1,          9,         09,2,20140401,       0652,   -66.4998,  -149.9999,       4458,  2684.8,   0.3519,  34.7021,2,  34.7009,2,    211.9,2,   211.6,2,  132.77,2,   32.71,2,    0.00,2,    2.26,2,   0.192,2,   0.065,2,    0.04,2,  2262.5,2,  2360.8,2,   7.6661,2,       20,-999.000,9,-999.0000,9, -999.00,9,   0.3523,2, -999.00,9,  -999.0,9, -999.00,9,  -999.0,9, -999.00,9,      19.64,2,     -999.0,9, -999.00,9, 20140401,      736, -66.4998,-149.9999,    34.8645,2,     -999.0,9,     -999.0,9,     -999.0,9,     -999.0,9,     -999.0,9,     -999.0,9
320620140320,       P16S,       6,          1,          8,         08,2,20140401,       0652,   -66.4998,  -149.9999,       4458,  2986.5,   0.2824,  34.6999,2,  34.6993,2,    214.2,2,   213.9,2,  132.77,2,   32.66,2,    0.00,2,    2.27,2,-999.000,9,-999.000,9, -999.00,9,  -999.0,9,  -999.0,9,-999.0000,9,  -999.00,-999.000,9,-999.0000,9, -999.00,9,   0.2822,2, -999.00,9,  -999.0,9, -999.00,9,  -999.0,9, -999.00,9,     -999.0,9,     -999.0,9, -999.00,9, 20140401,      730, -66.4998,-150.0000,    34.8629,2,     -999.0,9,     -999.0,9,     -999.0,9,     -999.0,9,     -999.0,9,     -999.0,9
320620140320,       P16S,       6,          1,          7,         07,2,20140401,       0652,   -66.4998,  -149.9999,       4458,  3285.8,   0.2261,  34.6964,2,  34.6952,2,    217.0,2,   217.0,2,  130.14,2,   32.64,2,    0.00,2,    2.27,2,-999.000,9,-999.000,9, -999.00,9,    2262,2,  2359.6,2,   7.6643,2,       20,-999.000,9,-999.0000,9, -999.00,9,   0.2265,2, -999.00,9,  -999.0,9, -999.00,9,  -999.0,9, -999.00,9,     -999.0,9,     -999.0,9, -999.00,9, 20140401,      724, -66.4998,-150.0000,    34.8588,2,     -999.0,9,     -999.0,9,     -999.0,9,     -999.0,9,     -999.0,9,     -999.0,9
320620140320,       P16S,       6,          1,          6,         06,2,20140401,       0652,   -66.4998,  -149.9999,       4458,  3535.0,   0.2004,  34.6947,2,  34.6934,2,    218.7,2,   218.7,2,  127.50,2,   32.60,2,    0.00,2,    2.27,2,   0.721,2,   0.377,2,    0.33,2,  -999.0,9,  -999.0,9,-999.0000,9,  -999.00,-999.000,9,-999.0000,9, -999.00,9,   0.2006,2, -999.00,9,  -999.0,9, -999.00,9,  -999.0,9, -999.00,9,      19.36,2,     -999.0,9, -999.00,9, 20140401,      718, -66.4998,-150.0000,    34.8570,2,     -999.0,9,     -999.0,9,     -999.0,9,     -999.0,9,     -999.0,9,     -999.0,9