BOTTLE,20230715CCHSIOCBG
EXPOCODE,SECT_ID,STNNBR,CASTNO,SAMPNO,BTLNBR,BTLNBR_FLAG_W,DATE,TIME,LATITUDE,LONGITUDE,DEPTH,CTDPRS,CTDTMP,CTDSAL,CTDSAL_FLAG_W,SALNTY,SALNTY_FLAG_W,CTDOXY,CTDOXY_FLAG_W,OXYGEN,OXYGEN_FLAG_W,SILCAT,SILCAT_FLAG_W,NITRAT,NITRAT_FLAG_W,NITRIT,NITRIT_FLAG_W,PHSPHT,PHSPHT_FLAG_W,CFC-11,CFC-11_FLAG_W,CFC-12,CFC-12_FLAG_W,SF6,SF6_FLAG_W,TCARBN,TCARBN_FLAG_W,ALKALI,ALKALI_FLAG_W,PH_TOT,PH_TOT_FLAG_W,PH_TMP,TRITUM,TRITUM_FLAG_W,HELIUM,HELIUM_FLAG_W,DELHE3,DELHE3_FLAG_W,REFTMP,REFTMP_FLAG_W,DELC13,DELC13_FLAG_W,DELC14,DELC14_FLAG_W,DELO18,DELO18_FLAG_W,DOC,DOC_FLAG_W,TDN,TDN_FLAG_W,N2O,N2O_FLAG_W,CALCIUM,CALCIUM_FLAG_W,D15N_NO3,D15N_NO3_FLAG_W,BTL_DATE,BTL_TIME,BTL_LAT,BTL_LON,SALTREF,SALTREF_FLAG_W,D18O_NO3,D18O_NO3_FLAG_W,DSI30,DSI30_FLAG_W,CDOM_NASA,CDOM_NASA_FLAG_W,CDOM_UCSB,CDOM_UCSB_FLAG_W,D15N_NO2+NO3,D15N_NO2+NO3_FLAG_W,D18O_NO2+NO3,D18O_NO2+NO3_FLAG_W
,,,,,,,,,,,METERS,DBAR,ITS-90,PSS-78,,PSS-78,,UMOL/KG,,UMOL/KG,,UMOL/KG,,UMOL/KG,,UMOL/KG,,UMOL/KG,,PMOL/KG,,PMOL/KG,,FMOL/KG,,UMOL/KG,,UMOL/KG,,,,DEG C,TU,,NMOL/KG,,PERCNT,,DEG C,,/MILLE,,/MILLE,,/MILLE,,UMOL/KG,,UMOL/KG,,NMOL/KG,,MMOL/KG,,/MILLE,,,,,,G/KG,,/MILLE,,/MILLE,,,,,,/MILLE,,/MILLE,
320620140320,       P16S,      78,          1,         36,         36,2,20140430,       0724,   -22.9999,  -150.0002,     -999.0,     4.2,  25.1206,  35.7610,2,  35.7612,2,    206.1,2,   207.4,2,    0.49,2,    0.04,2,    0.01,2,    0.07,2,   1.618,2,   1.026,2,    1.49,2,  2019.3,2,  2350.9,2,   8.1639,2,       20,-999.000,9,-999.0000,9, -999.00,9,  25.1185,2, -999.00,9,  -999.0,9, -999.00,9,    67.6,2,     3.3,2,       6.89,2,     -999.0,9, -999.00,9, 20140430,      938, -22.9998,-150.0001,    35.9298,2,     -999.0,9,     -999.0,9,     -999.0,9,     -999.0,9,     -999.0,9,     -999.0,9
320620140320,       P16S,      78,          1,         35,         35,2,20140430,       0724,   -22.9999,  -150.0002,     -999.0,    24.1,  25.1266,  35.7600,2,  35.7611,2,    207.2,2,   206.5,2,    0.49,2,    0.01,2,    0.01,2,    0.06,2,   1.606,2,   1.019,2,    1.46,2,  2019.2,2,  2350.1,2,    8.164,2,       20,-999.000,9,-999.0000,9, -999.00,9,  25.1252,2, -999.00,9,  -999.0,9, -999.00,9,      68,2,    4.46,2,       6.99,2,     -999.0,9, -999.00,9, 20140430,      936, -22.9997,-149.9999,    35.9298,2,     -999.0,9,     -999.0,9,     -999.0,9,     -999.0,9,     -999.0,9,     -999.0,9
320620140320,       P16S,      78,          1,         34,         34,2,20140430,       0724,   -22.9999,  -150.0002,     -999.0,    49.5,  25.1408,  35.7593,2,  35.7603,2,    207.0,2,   207.1,2,    0.49,2,    0.00,2,    0.00,2,    0.06,2,-999.000,9,-999.000,9, -999.00,9,  2019.6,2,  2351.5,2,   8.1642,2,       20,-999.000,9,-999.0000,9, -999.00,9,  25.1384,2, -999.00,9,  -999.0,9, -999.00,9,      70,2,     4.1,2,     -999.0,9,     -999.0,9, -999.00,9, 20140430,      934, -22.9997,-149.9998,    35.9290,2,     -999.0,9,     -999.0,9,     -999.0,9,     -999.0,9,     -999.0,9,     -999.0,9
320620140320,       P16S,      78,          1,         33,         33,2,20140430,       0724,   -22.9999,  -150.0002,     -999.0,    73.8,  24.0018,  35.8992,2,  35.8970,2,    219.2,2,   218.5,2,    0.49,2,    0.00,2,    0.00,2,    0.06,2,   1.764,2,   1.099,2,    1.70,2,  2031.6,2,  2358.4,2,   8.1539,2,       20,-999.000,9,-999.0000,9, -999.00,9,  24.0007,2, -999.00,9,  -999.0,9, -999.00,9,    68.8,2,    3.89,2,       7.42,2,     -999.0,9, -999.00,9, 20140430,      932, -22.9997,-149.9998,    36.0663,2,     -999.0,9,     -999.0,9,     -999.0,9,     -999.0,9,     -999.0,9,     -999.0,9
320620140320,       P16S,      78,          1,         32,         32,2,20140430,       0724,   -22.9999,  -150.0002,     -999.0,    99.5,  22.6013,  35.7690,2,  35.7755,2,    214.0,2,   214.1,2,    0.39,2,    0.00,2,    0.00,2,    0.05,2,-999.000,9,-999.000,9, -999.00,9,  2034.8,2,    2349,2,    8.136,2,       20,-999.000,9,-999.0000,9, -999.00,9,  22.6254,2, -999.00,9,  -999.0,9, -999.00,9,      69,2,    4.31,2,     -999.0,9,     -999.0,9, -999.00,9, 20140430,      930, -22.9997,-149.9999,    35.9442,2,     -999.0,9,     -999.0,9,     -999.0,9,     -999.0,9,     -999.0,9,     -999.0,9
320620140320,       P16S,      78,          1,         31,         31,2,20140430,       0724,   -22.9999,  -150.0002,     -999.0,   149.2,  21.0956,  35.7245,2,  35.7273,2,    199.0,2,   200.1,2,    0.39,2,    0.34,2,    0.17,2,    0.12,2,   2.017,2,   1.201,2,    1.50,2,  2056.2,2,  2344.9,2,   8.0919,2,       20,-999.000,9,-999.0000,9, -999.00,9,  21.0865,2, -999.00,9,  -999.0,9, -999.00,9,    58.1,2,    4.53,2,       8.21,2,     -999.0,9, -999.00,9, 20140430,      928, -22.9997,-150.0000,    35.8958,2,     -999.0,9,     -999.0,9,     -999.0,9,     -999.0,9,     -999.0,9,     -999.0,9
320620140320,       P16S,      78,          1,         30,         30,2,20140430,       0724,   -22.9999,  -150.0002,     -999.0,   200.3,  19.6936,  35.6001,2,  35.6024,2,    194.8,2,   195.4,2,    0.59,2,    1.87,2,    0.02,2,    0.19,2,-999.000,9,-999.000,9, -999.00,9,  2069.5,6,  2334.8,2,   8.0584,2,       20,-999.000,9,-999.0000,9, -999.00,9,  19.6889,2, -999.00,9,  -999.0,9, -999.00,9,    48.1,2,    5.37,2,     -999.0,9,     -999.0,9, -999.00,9, 20140430,      926, -22.9998,-150.0001,    35.7703,2,     -999.0,9,     -999.0,9,     -999.0,9,     -999.0,9,     -999.0,9,     -999.0,9
320620140320,       P16S,      78,          1,         29,         29,2,20140430,       0724,   -22.9999,  -150.0002,     -999.0,   250.6,  18.0560,  35.4555,2,  35.4558,2,    202.1,2,   201.9,2,    0.59,2,    2.28,2,    0.01,2,    0.21,2,   2.312,2,   1.328,2,    1.54,2,  2073.5,2,  2324.8,6,   8.0321,2,       20,-999.000,9,-999.0000,9, -999.00,9,  18.0587,2, -999.00,9,  -999.0,9, -999.00,9,    49.5,2,    5.49,2,       9.36,2,     -999.0,9, -999.00,9, 20140430,      924, -22.9998,-150.0002,    35.6230,2,     -999.0,9,     -999.0,9,     -999.0,9,     -999.0,9,     -999.0,9,     -999.0,9
320620140320,       P16S,      78,          1,         28,         28,2,20140430,       0724,   -22.9999,  -150.0002,     -999.0,   300.1,  16.8908,  35.3360,2,  35.3345,2,    199.4,2,   196.4,2,    0.88,2,    4.19,2,    0.01,2,    0.34,2,-999.000,9,-999.000,9, -999.00,9,  2085.5,2,  2318.2,2,    7.996,2,       20,-999.000,9,-999.0000,9, -999.00,9,  16.8898,2, -999.00,9,  -999.0,9, -999.00,9,    49.7,2,    7.42,2,     -999.0,9,     -999.0,9, -999.00,9, 20140430,      921, -22.9999,-150.0003,    35.5011,2,     -999.0,9,     -999.0,9,     -999.0,9,     -999.0,9,     -999.0,9,     -999.0,9
320620140320,       P16S,      78,          1,         27,         27,2,20140430,       0724,   -22.9999,  -150.0002,     -999.0,   349.9,  14.7240,  35.1253,2,  35.1257,2,    194.4,2,   194.2,2,    1.76,2,    7.76,2,    0.01,2,    0.61,2,   2.718,2,   1.442,2,    1.29,2,  2102.9,2,  2307.7,2,   7.9407,2,       20,-999.000,9,-999.0000,9, -999.00,9,  14.7318,2, -999.00,9,  -999.0,9, -999.00,9,    49.8,2,   10.98,2,      13.38,2,     -999.0,9, -999.00,9, 20140430,      919, -23.0000,-150.0005,    35.2913,2,     -999.0,9,     -999.0,9,     -999.0,9,     -999.0,9,     -999.0,9,     -999.0,9
320620140320,       P16S,      78,          1,         26,         26,2,20140430,       0724,   -22.9999,  -150.0002,     -999.0,   400.0,  12.7649,  34.8842,2,  34.8877,2,    194.4,2,   194.7,2,    2.83,2,   11.34,2,    0.01,2,    0.85,2,-999.000,9,-999.000,9, -999.00,9,  2115.6,2,  2296.8,2,   7.8943,2,       20,-999.000,9,-999.0000,9, -999.00,9,  12.7402,3, -999.00,9,  -999.0,9, -999.00,9,    44.8,2,   13.84,2,     -999.0,9,     -999.0,9, -999.00,9, 20140430,      917, -23.0001,-150.0006,    35.0522,2,     -999.0,9,     -999.0,9,     -999.0,9,     -999.0,9,     -999.0,9,     -999.0,9
320620140320,       P16S,      78,          1,         25,         25,2,20140430,       0724,   -22.9999,  -150.0002,     -999.0,   499.6,   9.2194,  34.5193,2,  34.5212,2,    207.3,2,   207.2,2,    5.28,2,   18.50,2,    0.01,2,    1.30,2,   3.150,2,   1.519,2,    0.98,2,  2137.9,2,  2281.4,2,   7.8076,6,       20,-999.000,9,-999.0000,9, -999.00,9,   9.2215,2, -999.00,9,  -999.0,9, -999.00,9,    45.8,2,   21.99,2,      21.25,2,     -999.0,9, -999.00,9, 20140430,      913, -23.0002,-150.0008,    34.6840,2,     -999.0,9,     -999.0,9,     -999.0,9,     -999.0,9,     -999.0,9,     -999.0,9
320620140320,       P16S,      78,          1,         24,         24,2,20140430,       0724,   -22.9999,  -150.0002,     -999.0,   600.3,   7.1236,  34.3649,2,  34.3645,2,    219.5,2,   221.4,2,    8.21,2,   23.16,2,    0.01,2,    1.59,2,-999.000,9,-999.000,9, -999.00,9,  2150.3,2,  2279.6,2,   7.7674,2,       20,-999.000,9,-999.0000,9, -999.00,9,   7.1221,2, -999.00,9,  -999.0,9, -999.00,9,    45.2,2, -999.00,9,     -999.0,9,     -999.0,9, -999.00,9, 20140430,      910, -23.0000,-150.0005,    34.5266,2,     -999.0,9,     -999.0,9,     -999.0,9,     -999.0,9,     -999.0,9,     -999.0,9
320620140320,       P16S,      78,          1,         23,         23,2,20140430,       0724,   -22.9999,  -150.0002,     -999.0,   698.9,   6.1312,  34.3233,2,  34.3223,2,    216.8,2,   216.6,2,   12.80,2,   26.21,2,    0.01,2,    1.80,2,   2.083,2,   1.030,2,    0.17,2,  2162.2,2,    2281,2,   7.7403,2,       20,-999.000,9,-999.0000,9, -999.00,9,   6.1376,2, -999.00,9,  -999.0,9, -999.00,9,      42,2, -999.00,9,      23.02,2,     -999.0,9, -999.00,9, 20140430,      907, -22.9999,-150.0002,    34.4842,2,     -999.0,9,     -999.0,9,     -999.0,9,     -999.0,9,     -999.0,9,     -999.0,9
320620140320,       P16S,      78,          1,         22,         22,2,20140430,       0724,   -22.9999,  -150.0002,     -999.0,   800.3,   5.3210,  34.3275,2,  34.3268,2,    199.2,2,   198.1,2,   22.48,2,   29.52,2,    0.01,2,    2.01,2,-999.000,9,-999.000,9, -999.00,9,  2184.7,2,  2288.6,2,   7.7023,2,       20,-999.000,9,-999.0000,9, -999.00,9,   5.3202,2, -999.00,9,  -999.0,9, -999.00,9,    41.5,2, -999.00,9,     -999.0,9,     -999.0,9, -999.00,9, 20140430,      904, -22.9999,-150.0003,    34.4887,2,     -999.0,9,     -999.0,9,     -999.0,9,     -999.0,9,     -999.0,9,     -999.0,9
320620140320,       P16S,      78,          1,         21,         21,2,20140430,       0724,   -22.9999,  -150.0002,     -999.0,   899.8,   4.7822,  34.3497,2,  34.3498,2,    185.2,2,   182.9,2,   32.35,2,   31.66,2,    0.01,2,    2.19,2,   0.555,2,   0.283,2,    0.04,2,  2201.2,2,  2297.4,2,   7.6726,2,       20,-999.000,9,-999.0000,9, -999.00,9,   4.7815,2, -999.00,9,  -999.0,9, -999.00,9,    40.5,2, -999.00,9,      24.38,2,     -999.0,9, -999.00,9, 20140430,      901, -23.0002,-150.0006,    34.5118,2,     -999.0,9,     -999.0,9,     -999.0,9,     -999.0,9,     -999.0,9,     -999.0,9
320620140320,       P16S,      78,          1,         20,         20,2,20140430,       0724,   -22.9999,  -150.0002,     -999.0,   999.6,   4.1386,  34.3858,2,  34.3859,2,    175.8,2,   173.8,2,   44.77,2,   33.21,2,    0.00,2,    2.30,2,-999.000,9,-999.000,9, -999.00,9,  2220.6,2,  2313.1,2,    7.653,2,       20,-999.000,9,-999.0000,9, -999.00,9,   4.1364,2, -999.00,9,  -999.0,9, -999.00,9,    37.4,2, -999.00,9,     -999.0,9,     -999.0,9, -999.00,9, 20140430,      857, -23.0000,-150.0004,    34.5480,2,     -999.0,9,     -999.0,9,     -999.0,9,     -999.0,9,     -999.0,9,     -999.0,9
320620140320,       P16S,      78,          1,         19,         19,2,20140430,       0724,   -22.9999,  -150.0002,     -999.0,  1099.5,   3.6591,  34.4406,2,  34.4408,2,    165.7,2,   164.0,2,   59.03,2,   34.33,2,    0.00,2,    2.39,2,   0.082,2,   0.055,2,   -0.01,2,  2240.5,6,  2326.3,2,   7.6373,2,       20,-999.000,9,-999.0000,9, -999.00,9,   3.6593,2, -999.00,9,  -999.0,9, -999.00,9,    38.9,2, -999.00,9,      26.09,2,     -999.0,9, -999.00,9, 20140430,      854, -22.9997,-149.9999,    34.6032,2,     -999.0,9,     -999.0,9,     -999.0,9,     -999.0,9,     -999.0,9,     -999.0,9
320620140320,       P16S,      78,          1,         18,         18,2,20140430,       0724,   -22.9999,  -150.0002,     -999.0,  1200.3,   3.3442,  34.4930,2,  34.4928,2,    155.4,2,   155.6,2,   72.42,2,   34.98,2,    0.00,2,    2.43,2,-999.000,9,-999.000,9, -999.00,9,  2257.4,2,  2341.1,2,   7.6294,2,       20,-999.000,9,-999.0000,9, -999.00,9,   3.3446,2, -999.00,9,  -999.0,9, -999.00,9,    38.9,2, -999.00,9,     -999.0,9,     -999.0,9, -999.00,9, 20140430,      851, -22.9996,-149.9998,    34.6555,2,     -999.0,9,     -999.0,9,     -999.0,9,     -999.0,9,     -999.0,9,     -999.0,9
320620140320,       P16S,      78,          1,         17,         17,2,20140430,       0724,   -22.9999,  -150.0002,     -999.0,  1299.6,   3.0644,  34.5286,2,  34.5286,2,    153.0,2,   153.1,2,   82.39,2,   35.23,2,    0.00,2,    2.44,2,   0.012,2,   0.001,2,   -0.05,2,  2267.7,2,    2352,2,   7.6295,2,       20,-999.000,9,-999.0000,9, -999.00,9,   3.0641,2, -999.00,9,  -999.0,9, -999.00,9,    36.7,2, -999.00,9,      25.30,2,     -999.0,9, -999.00,9, 20140430,      848, -22.9997,-150.0000,    34.6914,2,     -999.0,9,     -999.0,9,     -999.0,9,     -999.0,9,     -999.0,9,     -999.0,9
320620140320,       P16S,      78,          1,         16,         16,2,20140430,       0724,   -22.9999,  -150.0002,     -999.0,  1399.4,   2.7903,  34.5580,2,  34.5574,2,    151.7,2,   152.3,2,   90.69,2,   35.35,2,    0.00,2,    2.45,2,-999.000,9,-999.000,9, -999.00,9,  2276.9,2,  2363.6,2,     7.63,2,       20,-999.000,9,-999.0000,9, -999.00,9,   2.7922,2, -999.00,9,  -999.0,9, -999.00,9,    36.3,2, -999.00,9,     -999.0,9,     -999.0,9, -999.00,9, 20140430,      845, -22.9999,-150.0002,    34.7204,2,     -999.0,9,     -999.0,9,     -999.0,9,     -999.0,9,     -999.0,9,     -999.0,9
320620140320,       P16S,      78,          1,         15,         15,2,20140430,       0724,   -22.9999,  -150.0002,     -999.0,  1499.1,   2.6639,  34.5749,2,  34.5739,2,    150.7,2,   150.8,2,   96.36,2,   35.47,2,    0.00,2,    2.47,2,   0.003,2,   0.002,2,   -0.03,2,  2282.4,2,  2368.8,2,   7.6305,2,       20,-999.000,9,-999.0000,9, -999.00,9,   2.6655,2, -999.00,9,  -999.0,9, -999.00,9,      35,2, -999.00,9,      24.94,2,     -999.0,9, -999.00,9, 20140430,      842, -23.0000,-150.0004,    34.7370,2,     -999.0,9,     -999.0,9,     -999.0,9,     -999.0,9,     -999.0,9,     -999.0,9
320620140320,       P16S,      78,          1,         14,         14,2,20140430,       0724,   -22.9999,  -150.0002,     -999.0,  1599.9,   2.5464,  34.5885,2,  34.5884,2,    150.0,2,   150.3,2,  100.66,2,   35.53,2,    0.00,2,    2.48,2,-999.000,9,-999.000,9, -999.00,9,  2287.2,2,  2373.3,2,   7.6307,2,       20,-999.000,9,-999.0000,9, -999.00,9,   2.5467,2, -999.00,9,  -999.0,9, -999.00,9,    37.7,2, -999.00,9,     -999.0,9,     -999.0,9, -999.00,9, 20140430,      839, -22.9998,-150.0001,    34.7515,2,     -999.0,9,     -999.0,9,     -999.0,9,     -999.0,9,     -999.0,9,     -999.0,9
320620140320,       P16S,      78,          1,         13,         13,2,20140430,       0724,   -22.9999,  -150.0002,     -999.0,  1799.0,   2.3231,  34.6130,2,  34.6132,2,    149.3,2,   149.9,2,  108.86,2,   35.70,2,    0.00,2,    2.50,2,   0.000,2,   0.002,2,    0.01,2,  2295.2,2,  2382.9,2,   7.6324,2,       20,-999.000,9,-999.0000,9, -999.00,9,   2.3230,2, -999.00,9,  -999.0,9, -999.00,9,    36.1,2, -999.00,9,      24.55,2,     -999.0,9, -999.00,9, 20140430,      834, -22.9997,-150.0000,    34.7764,2,     -999.0,9,     -999.0,9,     -999.0,9,     -999.0,9,     -999.0,9,     -999.0,9
320620140320,       P16S,      78,          1,         12,         12,2,20140430,       0724,   -22.9999,  -150.0002,     -999.0,  2000.1,   2.1580,  34.6301,2,  34.6298,2,    149.7,2,   150.1,2,  114.82,2,   35.69,2,    0.00,2,    2.49,2,-999.000,9,-999.000,9, -999.00,9,    2302,2,  2389.5,2,   7.6335,2,       20,-999.000,9,-999.0000,9, -999.00,9,   2.1580,2, -999.00,9,  -999.0,9, -999.00,9,    34.7,2, -999.00,9,     -999.0,9,     -999.0,9, -999.00,9, 20140430,      829, -23.0000,-150.0002,    34.7931,2,     -999.0,9,     -999.0,9,     -999.0,9,     -999.0,9,     -999.0,9,     -999.0,9
320620140320,       P16S,      78,          1,         11,         11,2,20140430,       0724,   -22.9999,  -150.0002,     -999.0,  2250.7,   2.0282,  34.6430,2,  34.6439,2,    151.0,2,   150.9,2,  119.12,2,   35.62,2,    0.00,2,    2.49,2,   0.000,2,   0.001,2,    0.02,2,    2305,6,  2393.8,2,   7.6352,2,       20,-999.000,9,-999.0000,9, -999.00,9,   2.0280,2, -999.00,9,  -999.0,9, -999.00,9,    36.5,2, -999.00,9,      24.74,2,     -999.0,9, -999.00,9, 20140430,      823, -23.0000,-150.0003,    34.8073,2,     -999.0,9,     -999.0,9,     -999.0,9,     -999.0,9,     -999.0,9,     -999.0,9
320620140320,       P16S,      78,          1,         10,         10,2,20140430,       0724,   -22.9999,  -150.0002,     -999.0,  2499.1,   1.9177,  34.6532,2,  34.6532,2,    153.9,2,   153.3,2,  121.66,2,   35.51,2,    0.00,2,    2.48,2,-999.000,9,-999.000,9, -999.00,9,  2305.8,2,  2397.6,2,   7.6394,2,       20,-999.000,9,-999.0000,9, -999.00,9,   1.9176,2, -999.00,9,  -999.0,9, -999.00,9,    41.4,3, -999.00,9,     -999.0,9,     -999.0,9, -999.00,9, 20140430,      818, -22.9999,-150.0002,    34.8166,2,     -999.0,9,     -999.0,9,     -999.0,9,     -999.0,9,     -999.0,9,     -999.0,9
320620140320,       P16S,      78,          1,          9,         09,2,20140430,       0724,   -22.9999,  -150.0002,     -999.0,  2749.3,   1.8030,  34.6630,2,  34.6634,2,    157.0,2,   156.7,2,  124.01,2,   35.23,2,    0.00,2,    2.46,2,   0.003,2,   0.000,2,   -0.00,2,  2305.9,2,  2398.3,2,   7.6433,2,       20,-999.000,9,-999.0000,9, -999.00,9,   1.8030,2, -999.00,9,  -999.0,9, -999.00,9,    38.6,2, -999.00,9,      22.50,2,     -999.0,9, -999.00,9, 20140430,      812, -23.0000,-150.0004,    34.8268,2,     -999.0,9,     -999.0,9,     -999.0,9,     -999.0,9,     -999.0,9,     -999.0,9
320620140320,       P16S,      78,          1,          8,         08,2,20140430,       0724,   -22.9999,  -150.0002,     -999.0,  2998.2,   1.7306,  34.6695,2,  34.6695,2,    161.7,2,   160.8,2,  124.30,2,   35.00,2,    0.00,2,    2.43,2,-999.000,9,-999.000,9, -999.00,9,  2303.5,2,    2396,2,   7.6478,2,       20,-999.000,9,-999.0000,9, -999.00,9,   1.7310,2, -999.00,9,  -999.0,9, -999.00,9,    37.2,2, -999.00,9,     -999.0,9,     -999.0,9, -999.00,9, 20140430,      807, -23.0001,-150.0007,    34.8329,2,     -999.0,9,     -999.0,9,     -999.0,9,     -999.0,9,     -999.0,9,     -999.0,9
320620140320,       P16S,      78,          1,          7,         07,2,20140430,       0724,   -22.9999,  -150.0002,     -999.0,  3300.9,   1.6275,  34.6781,2,  34.6785,2,    167.8,2,   166.8,2,  124.49,2,   34.61,2,    0.00,2,    2.40,2,   0.006,2,   0.003,2,   -0.01,2,  2299.4,2,    2396,2,   7.6533,6,       20,-999.000,9,-999.0000,9, -999.00,9,   1.6243,3, -999.00,9,  -999.0,9, -999.00,9,    37.1,2, -999.00,9,      22.93,2,     -999.0,9, -999.00,9, 20140430,      801, -22.9998,-150.0001,    34.8420,2,     -999.0,9,     -999.0,9,     -999.0,9,     -999.0,9,     -999.0,9,     -999.0,9
320620140320,       P16S,      78,          1,          6,         06,2,20140430,       0724,   -22.9999,  -150.0002,     -999.0,  3599.9,   1.5394,  34.6859,2,  34.6855,2,    173.2,2,   173.8,2,  123.32,2,   34.15,2,    0.00,2,    2.37,2,-999.000,9,-999.000,9, -999.00,9,  2293.9,2,  2391.9,2,   7.6594,2,       20,-999.000,9,-999.0000,9, -999.00,9,   1.5396,2, -999.00,9,  -999.0,9, -999.00,9,    36.6,2, -999.00,9,     -999.0,9,     -999.0,9, -999.00,9, 20140430,      755, -22.9998,-150.0001,    34.8490,2,     -999.0,9,     -999.0,9,     -999.0,9,     -999.0,9,     -999.0,9,     -999.0,9