BOTTLE,20230715CCHSIOCBG
EXPOCODE,SECT_ID,STNNBR,CASTNO,SAMPNO,BTLNBR,BTLNBR_FLAG_W,DATE,TIME,LATITUDE,LONGITUDE,DEPTH,CTDPRS,CTDTMP,CTDSAL,CTDSAL_FLAG_W,SALNTY,SALNTY_FLAG_W,CTDOXY,CTDOXY_FLAG_W,OXYGEN,OXYGEN_FLAG_W,SILCAT,SILCAT_FLAG_W,NITRAT,NITRAT_FLAG_W,NITRIT,NITRIT_FLAG_W,PHSPHT,PHSPHT_FLAG_W,CFC-11,CFC-11_FLAG_W,CFC-12,CFC-12_FLAG_W,SF6,SF6_FLAG_W,TCARBN,TCARBN_FLAG_W,ALKALI,ALKALI_FLAG_W,PH_TOT,PH_TOT_FLAG_W,PH_TMP,TRITUM,TRITUM_FLAG_W,HELIUM,HELIUM_FLAG_W,DELHE3,DELHE3_FLAG_W,REFTMP,REFTMP_FLAG_W,DELC13,DELC13_FLAG_W,DELC14,DELC14_FLAG_W,DELO18,DELO18_FLAG_W,DOC,DOC_FLAG_W,TDN,TDN_FLAG_W,N2O,N2O_FLAG_W,CALCIUM,CALCIUM_FLAG_W,D15N_NO3,D15N_NO3_FLAG_W,BTL_DATE,BTL_TIME,BTL_LAT,BTL_LON,SALTREF,SALTREF_FLAG_W,D18O_NO3,D18O_NO3_FLAG_W,DSI30,DSI30_FLAG_W,CDOM_NASA,CDOM_NASA_FLAG_W,CDOM_UCSB,CDOM_UCSB_FLAG_W,D15N_NO2+NO3,D15N_NO2+NO3_FLAG_W,D18O_NO2+NO3,D18O_NO2+NO3_FLAG_W
,,,,,,,,,,,METERS,DBAR,ITS-90,PSS-78,,PSS-78,,UMOL/KG,,UMOL/KG,,UMOL/KG,,UMOL/KG,,UMOL/KG,,UMOL/KG,,PMOL/KG,,PMOL/KG,,FMOL/KG,,UMOL/KG,,UMOL/KG,,,,DEG C,TU,,NMOL/KG,,PERCNT,,DEG C,,/MILLE,,/MILLE,,/MILLE,,UMOL/KG,,UMOL/KG,,NMOL/KG,,MMOL/KG,,/MILLE,,,,,,G/KG,,/MILLE,,/MILLE,,,,,,/MILLE,,/MILLE,
320620140320,       P16S,      82,          1,         36,         36,2,20140501,       1532,   -20.3332,  -150.0001,       3931,     5.4,  27.0089,  35.8647,2,  35.8643,2,    200.2,2,   200.4,2,    0.88,2,    0.03,2,    0.00,2,    0.16,2,   1.462,2,   0.961,2,    1.26,2,  2010.2,2,  2362.2,2,   8.1915,2,       20,-999.000,9,-999.0000,9, -999.00,9,  27.0077,2, -999.00,9,  -999.0,9, -999.00,9,    73.4,2,    5.23,2,       6.08,2,     -999.0,9, -999.00,1, 20140501,     1725, -20.3332,-150.0002,    36.0334,2,     -999.0,1,     -999.0,9,     -999.0,9,     -999.0,9,     -999.0,1,     -999.0,1
320620140320,       P16S,      82,          1,         35,         35,2,20140501,       1532,   -20.3332,  -150.0001,       3931,    33.9,  27.0146,  35.8650,2,  35.8647,2,    200.5,2,   200.3,2,    0.98,2,    0.01,2,    0.00,2,    0.15,2,-999.000,9,-999.000,9, -999.00,9,  2009.9,2,  2361.9,2,   8.1913,2,       20,-999.000,9,-999.0000,9, -999.00,9,  27.0162,2, -999.00,9,  -999.0,9, -999.00,9,    73.3,2,    3.08,2,     -999.0,9,     -999.0,9, -999.00,1, 20140501,     1723, -20.3332,-150.0002,    36.0338,2,     -999.0,1,     -999.0,9,     -999.0,9,     -999.0,9,     -999.0,1,     -999.0,1
320620140320,       P16S,      82,          1,         34,         34,2,20140501,       1532,   -20.3332,  -150.0001,       3931,    59.8,  27.0253,  35.8658,2,  35.8672,2,    201.3,2,   200.4,2,    0.98,2,    0.00,2,    0.00,2,    0.13,2,   1.451,2,   0.955,2,    1.24,2,    2011,2,  2362.1,2,   8.1914,2,       20,-999.000,9,-999.0000,9, -999.00,9,  27.0214,2, -999.00,9,  -999.0,9, -999.00,9,    72.7,2,    4.33,2,       6.16,2,     -999.0,9, -999.00,1, 20140501,     1721, -20.3332,-150.0002,    36.0364,2,     -999.0,1,     -999.0,9,     -999.0,9,     -999.0,9,     -999.0,1,     -999.0,1
320620140320,       P16S,      82,          1,         33,         33,2,20140501,       1532,   -20.3332,  -150.0001,       3931,    84.3,  25.5825,  36.1327,2,  36.1331,2,    211.2,2,   211.6,2,    0.88,2,    0.00,2,    0.00,2,    0.13,2,-999.000,9,-999.000,9, -999.00,9,  2036.7,6,  2378.5,2,    8.169,2,       20,-999.000,9,-999.0000,9, -999.00,9,  25.5702,2, -999.00,9,  -999.0,9, -999.00,9,    71.6,2,    4.74,2,     -999.0,9,     -999.0,9, -999.00,1, 20140501,     1720, -20.3332,-150.0002,    36.3035,2,     -999.0,1,     -999.0,9,     -999.0,9,     -999.0,9,     -999.0,1,     -999.0,1
320620140320,       P16S,      82,          1,         32,         32,2,20140501,       1532,   -20.3332,  -150.0001,       3931,   110.2,  24.0679,  36.0671,2,  36.0655,2,    207.1,2,   207.2,2,    0.88,2,    0.00,2,    0.00,2,    0.11,2,-999.000,9,-999.000,9, -999.00,9,    2045,2,  2372.4,2,   8.1491,2,       20,-999.000,9,-999.0000,9, -999.00,9,  24.0697,2, -999.00,9,  -999.0,9, -999.00,9,    65.9,2,    4.07,2,     -999.0,9,     -999.0,9, -999.00,1, 20140501,     1718, -20.3332,-150.0002,    36.2355,2,     -999.0,1,     -999.0,9,     -999.0,9,     -999.0,9,     -999.0,1,     -999.0,1
320620140320,       P16S,      82,          1,         31,         31,2,20140501,       1532,   -20.3332,  -150.0001,       3931,   135.3,  23.2625,  36.0039,2,  36.0048,2,    201.4,2,   201.5,2,    0.78,2,    0.04,2,    0.15,2,    0.13,2,   1.788,2,   1.101,2,    1.33,2,  2052.7,2,  2366.7,2,   8.1303,2,       20,-999.000,9,-999.0000,9, -999.00,9,  23.2638,2, -999.00,9,  -999.0,9, -999.00,9,    63.2,2,    3.65,2,       7.13,2,     -999.0,9, -999.00,1, 20140501,     1716, -20.3332,-150.0002,    36.1745,2,     -999.0,1,     -999.0,9,     -999.0,9,     -999.0,9,     -999.0,1,     -999.0,1
320620140320,       P16S,      82,          1,         30,         30,2,20140501,       1532,   -20.3332,  -150.0001,       3931,   165.0,  22.0865,  35.9093,2,  35.9117,2,    193.4,2,   192.4,2,    0.78,2,    1.02,2,    0.06,2,    0.18,2,-999.000,9,-999.000,9, -999.00,9,  2065.3,2,  2359.3,2,   8.0971,2,       20,-999.000,9,-999.0000,9, -999.00,9,  22.0865,2, -999.00,9,  -999.0,9, -999.00,9,    56.8,2,    4.92,2,     -999.0,9,     -999.0,9, -999.00,1, 20140501,     1715, -20.3332,-150.0001,    36.0810,2,     -999.0,1,     -999.0,9,     -999.0,9,     -999.0,9,     -999.0,1,     -999.0,1
320620140320,       P16S,      82,          1,         29,         29,2,20140501,       1532,   -20.3332,  -150.0001,       3931,   214.8,  21.0450,  35.8093,2,  35.8101,2,    187.9,2,   188.7,2,    0.88,2,    1.99,2,    0.02,2,    0.26,2,-999.000,9,-999.000,9, -999.00,9,  2074.3,2,  2352.1,2,   8.0702,2,       20,-999.000,9,-999.0000,9, -999.00,9,  21.0444,2, -999.00,9,  -999.0,9, -999.00,9,    53.6,2,    5.07,2,     -999.0,9,     -999.0,9, -999.00,1, 20140501,     1713, -20.3332,-150.0002,    35.9790,2,     -999.0,1,     -999.0,9,     -999.0,9,     -999.0,9,     -999.0,1,     -999.0,1
320620140320,       P16S,      82,          1,         28,         28,2,20140501,       1532,   -20.3332,  -150.0001,       3931,   264.6,  19.0652,  35.5747,2,  35.5754,2,    184.5,2,   185.1,2,    1.27,2,    3.71,2,    0.01,2,    0.37,2,   2.214,2,   1.291,2,    1.44,2,    2087,2,  2337.4,2,   8.0231,2,       20,-999.000,9,-999.0000,9, -999.00,9,  19.0345,2, -999.00,9,  -999.0,9, -999.00,9,    49.3,2,    6.97,2,       9.51,2,     -999.0,9, -999.00,1, 20140501,     1711, -20.3332,-150.0002,    35.7431,2,     -999.0,1,     -999.0,9,     -999.0,9,     -999.0,9,     -999.0,1,     -999.0,1
320620140320,       P16S,      82,          1,         27,         27,2,20140501,       1532,   -20.3332,  -150.0001,       3931,   314.8,  16.9631,  35.2992,2,  35.3036,2,    183.1,2,   183.0,2,    1.76,2,    6.03,2,    0.01,2,    0.53,2,-999.000,9,-999.000,9, -999.00,9,  2098.3,2,  2320.7,2,   7.9738,2,       20,-999.000,9,-999.0000,9, -999.00,9,  16.9689,2, -999.00,9,  -999.0,9, -999.00,9,    46.9,2,    8.02,2,     -999.0,9,     -999.0,9, -999.00,1, 20140501,     1709, -20.3332,-150.0001,    35.4701,2,     -999.0,1,     -999.0,9,     -999.0,9,     -999.0,9,     -999.0,1,     -999.0,1
320620140320,       P16S,      82,          1,         26,         26,2,20140501,       1532,   -20.3332,  -150.0001,       3931,   364.6,  14.5467,  35.0121,2,  35.0114,2,    182.5,2,   183.0,2,    2.93,2,    9.46,2,    0.01,2,    0.76,2,-999.000,9,-999.000,9, -999.00,9,  2110.9,2,  2304.8,2,   7.9179,2,       20,-999.000,9,-999.0000,9, -999.00,9,  14.5794,3, -999.00,9,  -999.0,9, -999.00,9,    44.6,2,   12.11,2,     -999.0,9,     -999.0,9, -999.00,1, 20140501,     1706, -20.3332,-150.0002,    35.1764,2,     -999.0,1,     -999.0,9,     -999.0,9,     -999.0,9,     -999.0,1,     -999.0,1
320620140320,       P16S,      82,          1,         25,         25,2,20140501,       1532,   -20.3332,  -150.0001,       3931,   433.4,  11.7081,  34.7131,2,  34.7150,2,    178.8,2,   182.8,2,    5.18,2,   15.04,2,    0.01,2,    1.12,2,-999.000,9,-999.000,9, -999.00,9,  2130.7,2,  2290.6,2,   7.8395,2,       20,-999.000,9,-999.0000,9, -999.00,9,  11.7125,2, -999.00,9,  -999.0,9, -999.00,9,    43.3,2,   17.98,2,     -999.0,9,     -999.0,9, -999.00,1, 20140501,     1704, -20.3332,-150.0002,    34.8786,2,     -999.0,1,     -999.0,9,     -999.0,9,     -999.0,9,     -999.0,1,     -999.0,1
320620140320,       P16S,      82,          1,         24,         24,2,20140501,       1532,   -20.3332,  -150.0001,       3931,   510.0,   8.8159,  34.4798,2,  34.4798,2,    193.2,2,   192.7,2,    8.12,2,   20.94,2,    0.01,2,    1.50,2,   2.613,2,   1.305,2,    0.61,2,  2149.3,2,  2282.4,2,   7.7721,2,       20,-999.000,9,-999.0000,9, -999.00,9,   8.8106,2, -999.00,9,  -999.0,9, -999.00,9,    41.6,2,   24.14,2,      23.30,2,     -999.0,9, -999.00,1, 20140501,     1701, -20.3332,-150.0002,    34.6424,2,     -999.0,1,     -999.0,9,     -999.0,9,     -999.0,9,     -999.0,1,     -999.0,1
320620140320,       P16S,      82,          1,         23,         23,2,20140501,       1532,   -20.3332,  -150.0001,       3931,   584.9,   7.1523,  34.3848,2,  34.3822,2,    213.3,2,   192.8,2,   12.71,2,   25.49,2,    0.00,2,    1.78,2,-999.000,9,-999.000,9, -999.00,9,  2166.8,2,  2281.6,2,   7.7239,6,       20,-999.000,9,-999.0000,9, -999.00,9,   7.1494,2, -999.00,9,  -999.0,9, -999.00,9,    41.4,2, -999.00,9,     -999.0,9,     -999.0,9, -999.00,1, 20140501,     1659, -20.3332,-150.0002,    34.5444,2,     -999.0,1,     -999.0,9,     -999.0,9,     -999.0,9,     -999.0,1,     -999.0,1
320620140320,       P16S,      82,          1,         22,         22,2,20140501,       1532,   -20.3332,  -150.0001,       3931,   674.4,   6.2453,  34.4064,2,  34.4068,2,    155.0,2,   154.7,2,   26.11,2,   31.00,2,    0.00,2,    2.16,2,   0.822,2,   0.447,2,    0.00,2,  2201.8,2,  2293.9,2,   7.6512,2,       20,-999.000,9,-999.0000,9, -999.00,9,   6.2617,2, -999.00,9,  -999.0,9, -999.00,9,    39.6,2, -999.00,9,      29.99,2,     -999.0,9, -999.00,1, 20140501,     1657, -20.3332,-150.0002,    34.5690,2,     -999.0,1,     -999.0,9,     -999.0,9,     -999.0,9,     -999.0,1,     -999.0,1
320620140320,       P16S,      82,          1,         21,         21,2,20140501,       1532,   -20.3332,  -150.0001,       3931,   734.8,   5.7479,  34.4223,2,  34.4215,2,    157.3,2,   151.5,2,   33.44,2,   32.16,2,    0.00,2,    2.24,2,-999.000,9,-999.000,9, -999.00,9,  2212.1,2,  2301.1,6,   7.6436,2,       20,-999.000,9,-999.0000,9, -999.00,9,   5.7606,2, -999.00,9,  -999.0,9, -999.00,9,    39.4,2, -999.00,9,     -999.0,9,     -999.0,9, -999.00,1, 20140501,     1654, -20.3332,-150.0002,    34.5838,2,     -999.0,1,     -999.0,9,     -999.0,9,     -999.0,9,     -999.0,1,     -999.0,1
320620140320,       P16S,      82,          1,         20,         20,2,20140501,       1532,   -20.3332,  -150.0001,       3931,   834.7,   5.0638,  34.4333,2,  34.4325,2,    151.5,2,   152.8,2,   43.71,2,   33.14,2,    0.00,2,    2.31,2,   0.261,2,   0.083,2,    0.01,2,  2224.4,2,  2312.3,2,   7.6396,2,       20,-999.000,9,-999.0000,9, -999.00,9,   5.0665,2, -999.00,9,  -999.0,9, -999.00,9,    39.5,2, -999.00,9,      27.23,2,     -999.0,9, -999.00,1, 20140501,     1651, -20.3332,-150.0002,    34.5948,2,     -999.0,1,     -999.0,9,     -999.0,9,     -999.0,9,     -999.0,1,     -999.0,1
320620140320,       P16S,      82,          1,         19,         19,2,20140501,       1532,   -20.3332,  -150.0001,       3931,   935.4,   4.5834,  34.4599,2,  34.4594,2,    150.1,2,   148.8,2,   53.98,2,   34.02,2,    0.00,2,    2.37,2,-999.000,9,-999.000,9, -999.00,9,  2237.2,6,  2322.7,2,   7.6328,2,       20,-999.000,9,-999.0000,9, -999.00,9,   4.5764,2, -999.00,9,  -999.0,9, -999.00,9,    38.8,2, -999.00,9,     -999.0,9,     -999.0,9, -999.00,1, 20140501,     1648, -20.3332,-150.0002,    34.6219,2,     -999.0,1,     -999.0,9,     -999.0,9,     -999.0,9,     -999.0,1,     -999.0,1
320620140320,       P16S,      82,          1,         18,         18,2,20140501,       1532,   -20.3332,  -150.0001,       3931,  1035.3,   4.0599,  34.4731,2,  34.4721,2,    152.0,2,   151.6,2,   62.00,2,   34.45,2,    0.00,2,    2.40,2,-999.000,9,-999.000,9, -999.00,9,  2244.2,2,  2331.1,2,   7.6331,2,       20,-999.000,9,-999.0000,9, -999.00,9,   4.0600,2, -999.00,9,  -999.0,9, -999.00,9,    38.3,2, -999.00,9,     -999.0,9,     -999.0,9, -999.00,1, 20140501,     1645, -20.3332,-150.0001,    34.6347,2,     -999.0,1,     -999.0,9,     -999.0,9,     -999.0,9,     -999.0,1,     -999.0,1
320620140320,       P16S,      82,          1,         17,         17,2,20140501,       1532,   -20.3332,  -150.0001,       3931,  1134.6,   3.6709,  34.4965,2,  34.4965,2,    150.5,2,   150.3,2,   70.70,2,   34.87,2,    0.00,2,    2.42,2,   0.025,2,   0.000,2,    0.00,2,  2254.1,2,  2341.7,2,   7.6292,2,       20,-999.000,9,-999.0000,9, -999.00,9,   3.6680,2, -999.00,9,  -999.0,9, -999.00,9,    37.1,2, -999.00,9,      24.69,2,     -999.0,9, -999.00,1, 20140501,     1643, -20.3332,-150.0002,    34.6591,2,     -999.0,1,     -999.0,9,     -999.0,9,     -999.0,9,     -999.0,1,     -999.0,1
320620140320,       P16S,      82,          1,         16,         16,2,20140501,       1532,   -20.3332,  -150.0001,       3931,  1235.0,   3.3357,  34.5217,2,  34.5208,2,    149.7,2,   149.8,2,   79.11,2,   35.14,2,    0.00,2,    2.44,2,-999.000,9,-999.000,9, -999.00,9,  2264.1,2,    2350,2,   7.6273,2,       20,-999.000,9,-999.0000,9, -999.00,9,   3.3368,2, -999.00,9,  -999.0,9, -999.00,9,    37.9,2, -999.00,9,     -999.0,9,     -999.0,9, -999.00,1, 20140501,     1640, -20.3332,-150.0001,    34.6836,2,     -999.0,1,     -999.0,9,     -999.0,9,     -999.0,9,     -999.0,1,     -999.0,1
320620140320,       P16S,      82,          1,         15,         15,2,20140501,       1532,   -20.3332,  -150.0001,       3931,  1335.0,   3.0522,  34.5462,2,  34.5444,2,    149.0,2,   149.1,2,   86.54,2,   35.42,2,    0.00,2,    2.46,2,   0.007,2,   0.000,2,    0.00,2,  2272.3,2,  2358.5,2,   7.6273,2,       20,-999.000,9,-999.0000,9, -999.00,9,   3.0609,3, -999.00,9,  -999.0,9, -999.00,9,    36.3,2, -999.00,9,      24.91,2,     -999.0,9, -999.00,1, 20140501,     1637, -20.3332,-150.0002,    34.7073,2,     -999.0,1,     -999.0,9,     -999.0,9,     -999.0,9,     -999.0,1,     -999.0,1
320620140320,       P16S,      82,          1,         14,         14,2,20140501,       1532,   -20.3332,  -150.0001,       3931,  1433.3,   2.8590,  34.5661,2,  34.5656,2,    148.0,2,   147.8,2,   92.99,2,   35.48,2,    0.00,2,    2.47,2,-999.000,9,-999.000,9, -999.00,9,  2278.6,2,  2365.4,2,   7.6267,2,       20,-999.000,9,-999.0000,9, -999.00,9,   2.8627,2, -999.00,9,  -999.0,9, -999.00,9,      36,2, -999.00,9,     -999.0,9,     -999.0,9, -999.00,1, 20140501,     1634, -20.3332,-150.0002,    34.7286,2,     -999.0,1,     -999.0,9,     -999.0,9,     -999.0,9,     -999.0,1,     -999.0,1
320620140320,       P16S,      82,          1,         13,         13,2,20140501,       1532,   -20.3332,  -150.0001,       3931,  1535.4,   2.6422,  34.5861,2,  34.5868,2,    148.2,2,   148.0,2,   99.93,2,   35.65,2,    0.00,2,    2.48,2,   0.000,2,   0.000,2,    0.01,2,  2286.1,2,    2373,2,   7.6285,2,       20,-999.000,9,-999.0000,9, -999.00,9,   2.6430,2, -999.00,9,  -999.0,9, -999.00,9,    35.7,2, -999.00,9,      24.25,2,     -999.0,9, -999.00,1, 20140501,     1631, -20.3332,-150.0002,    34.7499,2,     -999.0,1,     -999.0,9,     -999.0,9,     -999.0,9,     -999.0,1,     -999.0,1
320620140320,       P16S,      82,          1,         12,         12,2,20140501,       1532,   -20.3332,  -150.0001,       3931,  1634.6,   2.5150,  34.5986,2,  34.5979,2,    148.2,2,   148.1,2,  103.94,2,   35.58,2,    0.00,2,    2.48,2,-999.000,9,-999.000,9, -999.00,9,  2290.6,2,  2377.6,2,   7.6287,2,       20,-999.000,9,-999.0000,9, -999.00,9,   2.5155,2, -999.00,9,  -999.0,9, -999.00,9,    38.1,2, -999.00,9,     -999.0,9,     -999.0,9, -999.00,9, 20140501,     1628, -20.3332,-150.0001,    34.7611,2,     -999.0,9,     -999.0,9,     -999.0,9,     -999.0,9,     -999.0,9,     -999.0,9
320620140320,       P16S,      82,          1,         11,         11,2,20140501,       1532,   -20.3332,  -150.0001,       3931,  1734.8,   2.3668,  34.6124,2,  34.6115,2,    148.4,2,   148.7,2,  108.24,2,   35.52,2,    0.00,2,    2.48,2,   0.002,2,   0.001,2,    0.00,2,  2294.4,2,  2382.4,2,   7.6302,2,       20,-999.000,9,-999.0000,9, -999.00,9,   2.3672,2, -999.00,9,  -999.0,9, -999.00,9,    36.1,2, -999.00,9,      23.68,2,     -999.0,9, -999.00,9, 20140501,     1625, -20.3332,-150.0002,    34.7747,2,     -999.0,9,     -999.0,9,     -999.0,9,     -999.0,9,     -999.0,9,     -999.0,9
320620140320,       P16S,      82,          1,         10,         10,2,20140501,       1532,   -20.3332,  -150.0001,       3931,  1864.0,   2.2621,  34.6223,2,  34.6211,2,    149.4,2,   149.3,2,  111.86,2,   35.62,2,    0.00,2,    2.47,2,-999.000,9,-999.000,9, -999.00,9,  2297.5,2,    2386,2,    7.633,2,       20,-999.000,9,-999.0000,9, -999.00,9,   2.2624,2, -999.00,9,  -999.0,9, -999.00,9,    36.4,2, -999.00,9,     -999.0,9,     -999.0,9, -999.00,9, 20140501,     1621, -20.3332,-150.0002,    34.7844,2,     -999.0,9,     -999.0,9,     -999.0,9,     -999.0,9,     -999.0,9,     -999.0,9
320620140320,       P16S,      82,          1,          9,         09,2,20140501,       1532,   -20.3332,  -150.0001,       3931,  2084.2,   2.1466,  34.6328,2,  34.6319,2,    150.9,2,   151.3,2,  114.89,2,   35.55,2,    0.00,2,    2.47,2,   0.000,2,   0.000,2,    0.00,2,  2299.3,2,  2389.5,2,   7.6356,2,       20,-999.000,9,-999.0000,9, -999.00,9,   2.1467,2, -999.00,9,  -999.0,9, -999.00,9,    36.4,2, -999.00,9,      24.19,2,     -999.0,9, -999.00,9, 20140501,     1616, -20.3332,-150.0001,    34.7952,2,     -999.0,9,     -999.0,9,     -999.0,9,     -999.0,9,     -999.0,9,     -999.0,9
320620140320,       P16S,      82,          1,          8,         08,2,20140501,       1532,   -20.3332,  -150.0001,       3931,  2335.5,   1.9817,  34.6476,2,  34.6465,2,    153.0,2,   153.1,2,  119.77,2,   35.49,2,    0.00,2,    2.45,2,-999.000,9,-999.000,9, -999.00,9,  2303.1,2,  2394.1,2,   7.6385,2,       20,-999.000,9,-999.0000,9, -999.00,9,   1.9817,2, -999.00,9,  -999.0,9, -999.00,9,    37.2,2, -999.00,9,     -999.0,9,     -999.0,9, -999.00,9, 20140501,     1611, -20.3332,-150.0002,    34.8098,2,     -999.0,9,     -999.0,9,     -999.0,9,     -999.0,9,     -999.0,9,     -999.0,9
320620140320,       P16S,      82,          1,          7,         07,2,20140501,       1532,   -20.3332,  -150.0001,       3931,  2585.1,   1.8609,  34.6583,2,  34.6590,2,    155.3,2,   155.3,2,  123.00,2,   35.36,2,    0.00,2,    2.45,2,   0.000,2,   0.000,2,    0.00,2,  2304.3,6,  2398.2,2,   7.6411,2,       20,-999.000,9,-999.0000,9, -999.00,9,   1.8610,2, -999.00,9,  -999.0,9, -999.00,9,    37.3,2, -999.00,9,      22.11,2,     -999.0,9, -999.00,9, 20140501,     1605, -20.3332,-150.0002,    34.8225,2,     -999.0,9,     -999.0,9,     -999.0,9,     -999.0,9,     -999.0,9,     -999.0,9
320620140320,       P16S,      82,          1,          6,         06,2,20140501,       1532,   -20.3332,  -150.0001,       3931,  2834.1,   1.7655,  34.6664,2,  34.6658,2,    159.3,2,   159.4,2,  123.78,2,   35.09,2,    0.00,2,    2.43,2,-999.000,9,-999.000,9, -999.00,9,  2303.5,2,  2397.2,2,   7.6466,2,       20,-999.000,9,-999.0000,9, -999.00,9,   1.7660,2, -999.00,9,  -999.0,9, -999.00,9,    36.7,2, -999.00,9,     -999.0,9,     -999.0,9, -999.00,9, 20140501,     1559, -20.3332,-150.0002,    34.8292,2,     -999.0,9,     -999.0,9,     -999.0,9,     -999.0,9,     -999.0,9,     -999.0,9