BOTTLE,20230715CCHSIOCBG
EXPOCODE,SECT_ID,STNNBR,CASTNO,SAMPNO,BTLNBR,BTLNBR_FLAG_W,DATE,TIME,LATITUDE,LONGITUDE,DEPTH,CTDPRS,CTDTMP,CTDSAL,CTDSAL_FLAG_W,SALNTY,SALNTY_FLAG_W,CTDOXY,CTDOXY_FLAG_W,OXYGEN,OXYGEN_FLAG_W,SILCAT,SILCAT_FLAG_W,NITRAT,NITRAT_FLAG_W,NITRIT,NITRIT_FLAG_W,PHSPHT,PHSPHT_FLAG_W,CFC-11,CFC-11_FLAG_W,CFC-12,CFC-12_FLAG_W,SF6,SF6_FLAG_W,TCARBN,TCARBN_FLAG_W,ALKALI,ALKALI_FLAG_W,PH_TOT,PH_TOT_FLAG_W,PH_TMP,TRITUM,TRITUM_FLAG_W,HELIUM,HELIUM_FLAG_W,DELHE3,DELHE3_FLAG_W,REFTMP,REFTMP_FLAG_W,DELC13,DELC13_FLAG_W,DELC14,DELC14_FLAG_W,DELO18,DELO18_FLAG_W,DOC,DOC_FLAG_W,TDN,TDN_FLAG_W,N2O,N2O_FLAG_W,CALCIUM,CALCIUM_FLAG_W,D15N_NO3,D15N_NO3_FLAG_W,BTL_DATE,BTL_TIME,BTL_LAT,BTL_LON,SALTREF,SALTREF_FLAG_W,D18O_NO3,D18O_NO3_FLAG_W,DSI30,DSI30_FLAG_W,CDOM_NASA,CDOM_NASA_FLAG_W,CDOM_UCSB,CDOM_UCSB_FLAG_W,D15N_NO2+NO3,D15N_NO2+NO3_FLAG_W,D18O_NO2+NO3,D18O_NO2+NO3_FLAG_W
,,,,,,,,,,,METERS,DBAR,ITS-90,PSS-78,,PSS-78,,UMOL/KG,,UMOL/KG,,UMOL/KG,,UMOL/KG,,UMOL/KG,,UMOL/KG,,PMOL/KG,,PMOL/KG,,FMOL/KG,,UMOL/KG,,UMOL/KG,,,,DEG C,TU,,NMOL/KG,,PERCNT,,DEG C,,/MILLE,,/MILLE,,/MILLE,,UMOL/KG,,UMOL/KG,,NMOL/KG,,MMOL/KG,,/MILLE,,,,,,G/KG,,/MILLE,,/MILLE,,,,,,/MILLE,,/MILLE,
320620140320,       P16S,      24,          1,         36,         36,2,20140409,       1534,   -56.5000,  -149.9984,       3064,     5.0,   4.4281,  33.7431,2,  33.7444,2,    314.8,2,   316.5,2,    2.64,2,   22.48,2,    0.26,2,    1.59,2,-999.000,9,-999.000,9, -999.00,9,  2130.4,2,  2272.3,2,   7.8148,2,       20,-999.000,9,-999.0000,9, -999.00,9,   4.4275,2, -999.00,9,  -999.0,9, -999.00,9,  -999.0,9, -999.00,9,     -999.0,9,     -999.0,9, -999.00,9, 20140409,     1708, -56.5001,-149.9984,    33.9035,2,     -999.0,9,     -999.0,9,     -999.0,9,     -999.0,9,     -999.0,9,     -999.0,9
320620140320,       P16S,      24,          1,         35,         35,2,20140409,       1534,   -56.5000,  -149.9984,       3064,    35.5,   4.4253,  33.7430,2,  33.7443,2,    315.7,2,   315.1,2,    2.64,2,   22.60,2,    0.26,2,    1.60,2,-999.000,9,-999.000,9, -999.00,9,  2129.6,2,  2272.7,2,   7.8146,2,       20,-999.000,9,-999.0000,9, -999.00,9,   4.4246,2, -999.00,9,  -999.0,9, -999.00,9,  -999.0,9, -999.00,9,     -999.0,9,     -999.0,9, -999.00,9, 20140409,     1706, -56.5001,-149.9984,    33.9035,2,     -999.0,9,     -999.0,9,     -999.0,9,     -999.0,9,     -999.0,9,     -999.0,9
320620140320,       P16S,      24,          1,         34,         34,2,20140409,       1534,   -56.5000,  -149.9984,       3064,    60.6,   4.4072,  33.7442,2,  33.7461,2,    315.8,2,   315.2,2,    2.54,2,   22.63,2,    0.26,2,    1.61,2,-999.000,9,-999.000,9, -999.00,9,  2129.6,2,  2272.6,2,   7.8139,2,       20,-999.000,9,-999.0000,9, -999.00,9,   4.4044,2,    1.71,2,   -65.7,2, -999.00,9,  -999.0,9, -999.00,9,     -999.0,9,     -999.0,9, -999.00,9, 20140409,     1705, -56.5001,-149.9984,    33.9052,2,     -999.0,9,     -999.0,9,     -999.0,9,     -999.0,9,     -999.0,9,     -999.0,9
320620140320,       P16S,      24,          1,         33,         33,2,20140409,       1534,   -56.5000,  -149.9984,       3064,    86.3,   2.1272,  33.9307,2,  33.9269,2,    313.0,2,   313.8,2,   14.26,2,   26.82,2,    0.66,2,    1.94,2,-999.000,9,-999.000,9, -999.00,9,  2157.6,2,  2276.4,2,-999.0000,5,       20,-999.000,9,-999.0000,9, -999.00,9,   2.1315,2, -999.00,9,  -999.0,9, -999.00,9,  -999.0,9, -999.00,9,     -999.0,9,     -999.0,9, -999.00,9, 20140409,     1703, -56.5001,-149.9984,    34.0869,2,     -999.0,9,     -999.0,9,     -999.0,9,     -999.0,9,     -999.0,9,     -999.0,9
320620140320,       P16S,      24,          1,         32,         32,2,20140409,       1534,   -56.5000,  -149.9984,       3064,   109.8,   1.9696,  33.9601,2,  33.9609,2,    310.8,2,   312.9,2,   18.85,2,   28.43,2,    0.01,2,    1.92,2,-999.000,9,-999.000,9, -999.00,9,  2160.5,2,  2277.2,2,   7.7379,2,       20,-999.000,9,-999.0000,9, -999.00,9,   1.9672,2,    1.31,2,   -57.7,2, -999.00,9,  -999.0,9, -999.00,9,     -999.0,9,     -999.0,9, -999.00,9, 20140409,     1701, -56.5001,-149.9984,    34.1211,2,     -999.0,9,     -999.0,9,     -999.0,9,     -999.0,9,     -999.0,9,     -999.0,9
320620140320,       P16S,      24,          1,         31,         31,2,20140409,       1534,   -56.5000,  -149.9984,       3064,   136.7,   1.9029,  33.9721,2,  33.9726,2,    310.7,2,   310.9,2,   20.12,2,   28.27,2,    0.01,2,    1.94,2,-999.000,9,-999.000,9, -999.00,9,  2163.8,2,  2279.6,2,   7.7354,2,       20,-999.000,9,-999.0000,9, -999.00,9,   1.9044,2, -999.00,9,  -999.0,9, -999.00,9,  -999.0,9, -999.00,9,     -999.0,9,     -999.0,9, -999.00,9, 20140409,     1700, -56.5001,-149.9984,    34.1328,2,     -999.0,9,     -999.0,9,     -999.0,9,     -999.0,9,     -999.0,9,     -999.0,9
320620140320,       P16S,      24,          1,         30,         30,2,20140409,       1534,   -56.5000,  -149.9984,       3064,   160.3,   1.8988,  33.9964,2,  33.9972,2,    303.5,2,   302.3,2,   22.17,2,   28.83,2,    0.01,2,    1.99,2,-999.000,9,-999.000,9, -999.00,9,  2168.3,2,  2280.4,2,    7.726,2,       20,-999.000,9,-999.0000,9, -999.00,9,   1.8889,2, -999.00,9,  -999.0,9, -999.00,9,  -999.0,9, -999.00,9,     -999.0,9,     -999.0,9, -999.00,9, 20140409,     1658, -56.5001,-149.9985,    34.1575,2,     -999.0,9,     -999.0,9,     -999.0,9,     -999.0,9,     -999.0,9,     -999.0,9
320620140320,       P16S,      24,          1,         29,         29,2,20140409,       1534,   -56.5000,  -149.9984,       3064,   185.7,   1.9742,  34.0371,2,  34.0375,2,    297.4,2,   292.4,2,   25.79,2,   29.53,2,    0.01,2,    2.05,2,-999.000,9,-999.000,9, -999.00,9,  2175.5,2,  2283.8,2,   7.7132,2,       20,-999.000,9,-999.0000,9, -999.00,9,   1.9742,2, -999.00,9,  -999.0,9, -999.00,9,  -999.0,9, -999.00,9,     -999.0,9,     -999.0,9, -999.00,9, 20140409,     1656, -56.5001,-149.9984,    34.1980,2,     -999.0,9,     -999.0,9,     -999.0,9,     -999.0,9,     -999.0,9,     -999.0,9
320620140320,       P16S,      24,          1,         28,         28,2,20140409,       1534,   -56.5000,  -149.9984,       3064,   210.7,   1.9895,  34.0634,2,  34.0632,2,    287.6,2,   283.6,2,   28.23,2,   30.16,2,    0.01,2,    2.07,2,-999.000,9,-999.000,9, -999.00,9,  2181.2,2,  2286.2,2,    7.703,2,       20,-999.000,9,-999.0000,9, -999.00,9,   1.9886,2,    1.16,2,   -70.4,2, -999.00,9,  -999.0,9, -999.00,9,     -999.0,9,     -999.0,9, -999.00,9, 20140409,     1655, -56.5001,-149.9985,    34.2238,2,     -999.0,9,     -999.0,9,     -999.0,9,     -999.0,9,     -999.0,9,     -999.0,9
320620140320,       P16S,      24,          1,         27,         27,2,20140409,       1534,   -56.5000,  -149.9984,       3064,   235.8,   1.8502,  34.0775,2,  34.0780,2,    271.0,2,   278.2,2,   30.47,2,   30.47,2,    0.01,2,    2.12,2,-999.000,9,-999.000,9, -999.00,9,  2185.1,2,  2287.6,2,    7.695,2,       20,-999.000,9,-999.0000,9, -999.00,9,   1.8522,2, -999.00,9,  -999.0,9, -999.00,9,  -999.0,9, -999.00,9,     -999.0,9,     -999.0,9, -999.00,9, 20140409,     1653, -56.5001,-149.9985,    34.2387,2,     -999.0,9,     -999.0,9,     -999.0,9,     -999.0,9,     -999.0,9,     -999.0,9
320620140320,       P16S,      24,          1,         26,         26,2,20140409,       1534,   -56.5000,  -149.9984,       3064,   265.9,   2.1534,  34.1422,2,  34.1418,2,    253.6,2,   257.4,2,   35.65,2,   31.42,2,    0.00,2,    2.17,2,-999.000,9,-999.000,9, -999.00,9,    2195,2,  2292.3,2,   7.6784,2,       20,-999.000,9,-999.0000,9, -999.00,9,   2.1481,2, -999.00,9,  -999.0,9, -999.00,9,  -999.0,9, -999.00,9,     -999.0,9,     -999.0,9, -999.00,9, 20140409,     1651, -56.5001,-149.9985,    34.3028,2,     -999.0,9,     -999.0,9,     -999.0,9,     -999.0,9,     -999.0,9,     -999.0,9
320620140320,       P16S,      24,          1,         25,         25,2,20140409,       1534,   -56.5000,  -149.9984,       3064,   316.5,   2.4543,  34.2198,2,  34.2226,2,    231.8,2,   232.5,2,   41.02,2,   32.54,2,    0.00,2,    2.24,2,-999.000,9,-999.000,9, -999.00,9,  2207.6,2,  2298.5,6,   7.6565,2,       20,-999.000,9,-999.0000,9, -999.00,9,   2.4680,2,    0.95,2,   -86.7,2, -999.00,9,  -999.0,9, -999.00,9,     -999.0,9,     -999.0,9, -999.00,9, 20140409,     1649, -56.5001,-149.9984,    34.3840,2,     -999.0,9,     -999.0,9,     -999.0,9,     -999.0,9,     -999.0,9,     -999.0,9
320620140320,       P16S,      24,          1,         24,         24,2,20140409,       1534,   -56.5000,  -149.9984,       3064,   366.2,   2.6512,  34.2963,2,  34.2954,2,    214.0,2,   212.1,2,   47.37,2,   33.41,2,    0.00,2,    2.31,2,-999.000,9,-999.000,9, -999.00,9,  2220.3,6,  2305.9,2,   7.6386,2,       20,-999.000,9,-999.0000,9, -999.00,9,   2.6512,2, -999.00,9,  -999.0,9, -999.00,9,  -999.0,9, -999.00,9,     -999.0,9,     -999.0,9, -999.00,9, 20140409,     1646, -56.5001,-149.9985,    34.4572,2,     -999.0,9,     -999.0,9,     -999.0,9,     -999.0,9,     -999.0,9,     -999.0,9
320620140320,       P16S,      24,          1,         23,         23,2,20140409,       1534,   -56.5000,  -149.9984,       3064,   415.2,   2.6151,  34.3196,2,  34.3197,2,    208.2,2,   207.0,2,   50.00,2,   33.66,2,    0.00,2,    2.32,2,-999.000,9,-999.000,9, -999.00,9,  2223.5,2,  2308.5,2,   7.6329,6,       20,-999.000,9,-999.0000,9, -999.00,9,   2.6153,2,    0.81,2,  -105.1,2, -999.00,9,  -999.0,9, -999.00,9,     -999.0,9,     -999.0,9, -999.00,9, 20140409,     1644, -56.5001,-149.9985,    34.4816,2,     -999.0,9,     -999.0,9,     -999.0,9,     -999.0,9,     -999.0,9,     -999.0,9
320620140320,       P16S,      24,          1,         22,         22,2,20140409,       1534,   -56.5000,  -149.9984,       3064,   464.9,   2.5997,  34.3848,2,  34.3848,2,    194.4,2,   192.4,2,   56.64,2,   34.32,2,    0.00,2,    2.37,2,-999.000,9,-999.000,9, -999.00,9,  -999.0,9,  -999.0,9,-999.0000,9,  -999.00,-999.000,9,-999.0000,9, -999.00,9,   2.5986,2, -999.00,9,  -999.0,9, -999.00,9,  -999.0,9, -999.00,9,     -999.0,9,     -999.0,9, -999.00,9, 20140409,     1642, -56.5001,-149.9985,    34.5469,2,     -999.0,9,     -999.0,9,     -999.0,9,     -999.0,9,     -999.0,9,     -999.0,9
320620140320,       P16S,      24,          1,         21,         21,2,20140409,       1534,   -56.5000,  -149.9984,       3064,   515.4,   2.5739,  34.4330,2,  34.4321,2,    184.4,2,   184.3,2,   61.62,2,   34.58,2,    0.00,2,    2.38,2,-999.000,9,-999.000,9, -999.00,9,  2240.6,2,  2319.9,2,   7.6139,2,       20,-999.000,9,-999.0000,9, -999.00,9,   2.5729,2,    0.65,2,  -122.0,2, -999.00,9,  -999.0,9, -999.00,9,     -999.0,9,     -999.0,9, -999.00,9, 20140409,     1640, -56.5001,-149.9985,    34.5944,2,     -999.0,9,     -999.0,9,     -999.0,9,     -999.0,9,     -999.0,9,     -999.0,9
320620140320,       P16S,      24,          1,         20,         20,2,20140409,       1534,   -56.5000,  -149.9984,       3064,   565.5,   2.5676,  34.4709,2,  34.4713,2,    179.7,2,   178.8,2,   64.84,2,   34.72,2,    0.00,2,    2.39,2,-999.000,9,-999.000,9, -999.00,9,  2244.8,2,  2323.6,2,   7.6092,2,       20,-999.000,9,-999.0000,9, -999.00,9,   2.5680,2, -999.00,9,  -999.0,9, -999.00,9,  -999.0,9, -999.00,9,     -999.0,9,     -999.0,9, -999.00,9, 20140409,     1638, -56.5001,-149.9984,    34.6338,2,     -999.0,9,     -999.0,9,     -999.0,9,     -999.0,9,     -999.0,9,     -999.0,9
320620140320,       P16S,      24,          1,         19,         19,2,20140409,       1534,   -56.5000,  -149.9984,       3064,   634.4,   2.5202,  34.5035,2,  34.5044,2,    176.2,2,   175.2,2,   68.16,2,   34.67,2,    0.00,2,    2.39,2,-999.000,9,-999.000,9, -999.00,9,  2248.4,2,  2327.1,2,   7.6087,2,       20,-999.000,9,-999.0000,9, -999.00,9,   2.5201,2,    0.55,2,  -131.0,2, -999.00,9,  -999.0,9, -999.00,9,     -999.0,9,     -999.0,9, -999.00,9, 20140409,     1635, -56.5000,-149.9984,    34.6671,2,     -999.0,9,     -999.0,9,     -999.0,9,     -999.0,9,     -999.0,9,     -999.0,9
320620140320,       P16S,      24,          1,         18,         18,2,20140409,       1534,   -56.5000,  -149.9984,       3064,   735.4,   2.4451,  34.5680,2,  34.5686,2,    173.0,2,   171.8,2,   72.35,2,   34.31,2,    0.00,2,    2.35,2,-999.000,9,-999.000,9, -999.00,9,  -999.0,9,  -999.0,9,-999.0000,9,  -999.00,-999.000,9,-999.0000,9, -999.00,9,   2.4450,2, -999.00,9,  -999.0,9, -999.00,9,  -999.0,9, -999.00,9,     -999.0,9,     -999.0,9, -999.00,9, 20140409,     1632, -56.5001,-149.9984,    34.7316,2,     -999.0,9,     -999.0,9,     -999.0,9,     -999.0,9,     -999.0,9,     -999.0,9
320620140320,       P16S,      24,          1,         17,         17,2,20140409,       1534,   -56.5000,  -149.9984,       3064,   835.5,   2.4044,  34.6006,2,  34.6009,2,    173.0,2,   171.8,2,   74.79,2,   33.96,2,    0.00,2,    2.32,2,-999.000,9,-999.000,9, -999.00,9,  2253.2,2,  2334.9,2,   7.6182,2,       20,-999.000,9,-999.0000,9, -999.00,9,   2.4044,2,    0.53,2,  -144.1,2, -999.00,9,  -999.0,9, -999.00,9,     -999.0,9,     -999.0,9, -999.00,9, 20140409,     1629, -56.5001,-149.9984,    34.7641,2,     -999.0,9,     -999.0,9,     -999.0,9,     -999.0,9,     -999.0,9,     -999.0,9
320620140320,       P16S,      24,          1,         16,         16,2,20140409,       1534,   -56.5000,  -149.9984,       3064,   936.4,   2.3308,  34.6425,2,  34.6429,2,    174.7,2,   174.6,2,   77.42,2,   33.25,2,    0.00,2,    2.28,2,-999.000,9,-999.000,9, -999.00,9,  2253.3,2,  2339.2,2,   7.6273,2,       20,-999.000,9,-999.0000,9, -999.00,9,   2.3310,2, -999.00,9,  -999.0,9, -999.00,9,  -999.0,9, -999.00,9,     -999.0,9,     -999.0,9, -999.00,9, 20140409,     1626, -56.5001,-149.9984,    34.8063,2,     -999.0,9,     -999.0,9,     -999.0,9,     -999.0,9,     -999.0,9,     -999.0,9
320620140320,       P16S,      24,          1,         15,         15,2,20140409,       1534,   -56.5000,  -149.9984,       3064,  1036.4,   2.2695,  34.6696,2,  34.6690,2,    177.1,2,   176.5,2,   79.08,2,   32.78,2,    0.00,2,    2.26,2,   0.343,2,   0.152,2,    0.13,2,  2252.6,2,  2341.4,2,   7.6364,2,       20,-999.000,9,-999.0000,9, -999.00,9,   2.2700,2,    0.57,2,  -144.2,2, -999.00,9,  -999.0,9, -999.00,9,      22.42,2,     -999.0,9, -999.00,9, 20140409,     1623, -56.5001,-149.9984,    34.8325,2,     -999.0,9,     -999.0,9,     -999.0,9,     -999.0,9,     -999.0,9,     -999.0,9
320620140320,       P16S,      24,          1,         14,         14,2,20140409,       1534,   -56.5000,  -149.9984,       3064,  1137.7,   2.2046,  34.6911,2,  34.6894,2,    179.8,2,   179.2,2,   80.74,2,   32.34,2,    0.00,2,    2.23,2,-999.000,9,-999.000,9, -999.00,9,  -999.0,9,  -999.0,9,-999.0000,9,  -999.00,-999.000,9,-999.0000,9, -999.00,9,   2.2058,2, -999.00,9,  -999.0,9, -999.00,9,  -999.0,9, -999.00,9,     -999.0,9,     -999.0,9, -999.00,9, 20140409,     1620, -56.5000,-149.9984,    34.8530,2,     -999.0,9,     -999.0,9,     -999.0,9,     -999.0,9,     -999.0,9,     -999.0,9
320620140320,       P16S,      24,          1,         13,         13,2,20140409,       1534,   -56.5000,  -149.9984,       3064,  1234.7,   2.1311,  34.7074,2,  34.7078,2,    182.5,2,   182.5,2,   82.69,2,   31.97,2,    0.00,2,    2.20,2,-999.000,9,-999.000,9, -999.00,9,  2251.7,2,  2345.5,2,   7.6513,2,       20,-999.000,9,-999.0000,9, -999.00,9,   2.1310,2,    0.57,2,  -145.6,2, -999.00,9,  -999.0,9, -999.00,9,     -999.0,9,     -999.0,9, -999.00,9, 20140409,     1617, -56.5001,-149.9984,    34.8715,2,     -999.0,9,     -999.0,9,     -999.0,9,     -999.0,9,     -999.0,9,     -999.0,9
320620140320,       P16S,      24,          1,         12,         12,2,20140409,       1534,   -56.5000,  -149.9984,       3064,  1333.7,   2.0729,  34.7176,2,  34.7175,2,    184.3,2,   184.2,2,   83.96,2,   31.74,2,    0.00,2,    2.19,2,-999.000,9,-999.000,9, -999.00,9,  -999.0,9,  -999.0,9,-999.0000,9,  -999.00,-999.000,9,-999.0000,9, -999.00,9,   2.0722,2, -999.00,9,  -999.0,9, -999.00,9,  -999.0,9, -999.00,9,     -999.0,9,     -999.0,9, -999.00,9, 20140409,     1614, -56.5000,-149.9984,    34.8812,2,     -999.0,9,     -999.0,9,     -999.0,9,     -999.0,9,     -999.0,9,     -999.0,9
320620140320,       P16S,      24,          1,         11,         11,2,20140409,       1534,   -56.5000,  -149.9984,       3064,  1434.5,   1.9899,  34.7274,2,  34.7277,2,    187.3,2,   186.9,2,   86.30,2,   31.40,2,    0.00,2,    2.18,2,   0.221,2,   0.089,2,    0.07,2,  2251.8,2,  2348.4,2,    7.662,2,       20,-999.000,9,-999.0000,9, -999.00,9,   1.9901,2,    0.59,2,  -149.9,2, -999.00,9,  -999.0,9, -999.00,9,      22.26,2,     -999.0,9, -999.00,9, 20140409,     1611, -56.5001,-149.9984,    34.8915,2,     -999.0,9,     -999.0,9,     -999.0,9,     -999.0,9,     -999.0,9,     -999.0,9
320620140320,       P16S,      24,          1,         10,         10,2,20140409,       1534,   -56.5000,  -149.9984,       3064,  1535.6,   1.9251,  34.7324,2,  34.7320,2,    189.1,2,   188.7,2,   88.16,2,   31.30,2,    0.00,2,    2.16,2,-999.000,9,-999.000,9, -999.00,9,  -999.0,9,  -999.0,9,-999.0000,9,  -999.00,-999.000,9,-999.0000,9, -999.00,9,   1.9251,2, -999.00,9,  -999.0,9, -999.00,9,  -999.0,9, -999.00,9,     -999.0,9,     -999.0,9, -999.00,9, 20140409,     1608, -56.5001,-149.9984,    34.8958,2,     -999.0,9,     -999.0,9,     -999.0,9,     -999.0,9,     -999.0,9,     -999.0,9
320620140320,       P16S,      24,          1,          9,         09,2,20140409,       1534,   -56.5000,  -149.9984,       3064,  1635.1,   1.8322,  34.7362,2,  34.7368,2,    191.1,2,   191.0,2,   90.50,2,   31.14,2,    0.00,2,    2.14,2,-999.000,9,-999.000,9, -999.00,9,  2251.2,2,  2351.6,2,   7.6687,2,       20,-999.000,9,-999.0000,9, -999.00,9,   1.8323,2,    0.61,2,  -155.4,2, -999.00,9,  -999.0,9, -999.00,9,     -999.0,9,     -999.0,9, -999.00,9, 20140409,     1605, -56.5000,-149.9984,    34.9006,2,     -999.0,9,     -999.0,9,     -999.0,9,     -999.0,9,     -999.0,9,     -999.0,9
320620140320,       P16S,      24,          1,          8,         08,2,20140409,       1534,   -56.5000,  -149.9984,       3064,  1734.2,   1.7461,  34.7377,2,  34.7376,2,    193.3,2,   193.1,2,   93.43,2,   31.12,2,    0.00,2,    2.15,2,   0.193,2,   0.070,2,    0.00,2,  -999.0,9,  -999.0,9,-999.0000,9,  -999.00,-999.000,9,-999.0000,9, -999.00,9,   1.7455,2, -999.00,9,  -999.0,9, -999.00,9,  -999.0,9, -999.00,9,      20.37,2,     -999.0,9, -999.00,9, 20140409,     1602, -56.5001,-149.9984,    34.9014,2,     -999.0,9,     -999.0,9,     -999.0,9,     -999.0,9,     -999.0,9,     -999.0,9
320620140320,       P16S,      24,          1,          7,         07,2,20140409,       1534,   -56.5000,  -149.9984,       3064,  1833.6,   1.6660,  34.7373,2,  34.7368,2,    194.5,2,   194.4,2,   95.38,2,   31.14,2,    0.00,2,    2.14,2,-999.000,9,-999.000,9, -999.00,9,  2252.5,2,  2354.5,2,   7.6724,2,       20,-999.000,9,-999.0000,9, -999.00,9,   1.6675,2,    0.58,2,  -156.2,2, -999.00,9,  -999.0,9, -999.00,9,     -999.0,9,     -999.0,9, -999.00,9, 20140409,     1559, -56.5000,-149.9984,    34.9006,2,     -999.0,9,     -999.0,9,     -999.0,9,     -999.0,9,     -999.0,9,     -999.0,9
320620140320,       P16S,      24,          1,          6,         06,2,20140409,       1534,   -56.5000,  -149.9984,       3064,  1936.0,   1.5752,  34.7359,2,  34.7355,2,    196.2,2,   195.9,2,   97.73,2,   31.20,2,    0.00,2,    2.15,2,-999.000,9,-999.000,9, -999.00,9,  -999.0,9,  -999.0,9,-999.0000,9,  -999.00,-999.000,9,-999.0000,9, -999.00,9,   1.5760,2, -999.00,9,  -999.0,9, -999.00,9,  -999.0,9, -999.00,9,     -999.0,9,     -999.0,9, -999.00,9, 20140409,     1556, -56.5000,-149.9984,    34.8993,2,     -999.0,9,     -999.0,9,     -999.0,9,     -999.0,9,     -999.0,9,     -999.0,9