BOTTLE,20230715CCHSIOCBG
EXPOCODE,SECT_ID,STNNBR,CASTNO,SAMPNO,BTLNBR,BTLNBR_FLAG_W,DATE,TIME,LATITUDE,LONGITUDE,DEPTH,CTDPRS,CTDTMP,CTDSAL,CTDSAL_FLAG_W,SALNTY,SALNTY_FLAG_W,CTDOXY,CTDOXY_FLAG_W,OXYGEN,OXYGEN_FLAG_W,SILCAT,SILCAT_FLAG_W,NITRAT,NITRAT_FLAG_W,NITRIT,NITRIT_FLAG_W,PHSPHT,PHSPHT_FLAG_W,CFC-11,CFC-11_FLAG_W,CFC-12,CFC-12_FLAG_W,SF6,SF6_FLAG_W,TCARBN,TCARBN_FLAG_W,ALKALI,ALKALI_FLAG_W,PH_TOT,PH_TOT_FLAG_W,PH_TMP,TRITUM,TRITUM_FLAG_W,HELIUM,HELIUM_FLAG_W,DELHE3,DELHE3_FLAG_W,REFTMP,REFTMP_FLAG_W,DELC13,DELC13_FLAG_W,DELC14,DELC14_FLAG_W,DELO18,DELO18_FLAG_W,DOC,DOC_FLAG_W,TDN,TDN_FLAG_W,N2O,N2O_FLAG_W,CALCIUM,CALCIUM_FLAG_W,D15N_NO3,D15N_NO3_FLAG_W,BTL_DATE,BTL_TIME,BTL_LAT,BTL_LON,SALTREF,SALTREF_FLAG_W,D18O_NO3,D18O_NO3_FLAG_W,DSI30,DSI30_FLAG_W,CDOM_NASA,CDOM_NASA_FLAG_W,CDOM_UCSB,CDOM_UCSB_FLAG_W,D15N_NO2+NO3,D15N_NO2+NO3_FLAG_W,D18O_NO2+NO3,D18O_NO2+NO3_FLAG_W
,,,,,,,,,,,METERS,DBAR,ITS-90,PSS-78,,PSS-78,,UMOL/KG,,UMOL/KG,,UMOL/KG,,UMOL/KG,,UMOL/KG,,UMOL/KG,,PMOL/KG,,PMOL/KG,,FMOL/KG,,UMOL/KG,,UMOL/KG,,,,DEG C,TU,,NMOL/KG,,PERCNT,,DEG C,,/MILLE,,/MILLE,,/MILLE,,UMOL/KG,,UMOL/KG,,NMOL/KG,,MMOL/KG,,/MILLE,,,,,,G/KG,,/MILLE,,/MILLE,,,,,,/MILLE,,/MILLE,
320620140320,       P16S,      76,          1,          5,         05,2,20140429,       1426,   -24.3330,  -150.0001,       5118,  4299.8,   1.3767,  34.6995,2,  34.6996,2,    186.6,2,   186.7,2,  120.87,2,   33.03,2,    0.00,2,    2.32,2,-999.000,9,-999.000,9, -999.00,9,  2280.7,2,  2380.6,6,   7.6688,2,       20,-999.000,9,-999.0000,9, -999.00,9,   1.3764,2, -999.00,9,  -999.0,9, -999.00,9,    37.3,2, -999.00,9,     -999.0,9,     -999.0,9, -999.00,9, 20140429,     1450, -24.3330,-150.0001,    34.8633,2,     -999.0,9,     -999.0,9,     -999.0,9,     -999.0,9,     -999.0,9,     -999.0,9
320620140320,       P16S,      76,          1,          4,         04,2,20140429,       1426,   -24.3330,  -150.0001,       5118,  4599.9,   1.3652,  34.7020,2,  34.7014,2,    189.5,2,   189.5,2,  120.19,2,   32.89,2,    0.00,2,    2.30,2,-999.000,9,-999.000,9, -999.00,9,  2277.6,2,  2377.3,2,   7.6709,2,       20,-999.000,9,-999.0000,9, -999.00,9,   1.3656,2, -999.00,9,  -999.0,9, -999.00,9,    37.4,2, -999.00,9,     -999.0,9,     -999.0,9, -999.00,9, 20140429,     1443, -24.3330,-150.0001,    34.8650,2,     -999.0,9,     -999.0,9,     -999.0,9,     -999.0,9,     -999.0,9,     -999.0,9
320620140320,       P16S,      76,          1,          3,         03,2,20140429,       1426,   -24.3330,  -150.0001,       5118,  4900.0,   1.3803,  34.7030,2,  34.7030,2,    190.6,2,   190.8,2,  119.89,2,   32.81,2,    0.00,2,    2.28,2,  -0.001,2,   0.000,2,    0.00,2,  2276.6,2,    2376,2,   7.6714,2,       20,-999.000,9,-999.0000,9, -999.00,9,   1.3803,2, -999.00,9,  -999.0,9, -999.00,9,    39.2,2, -999.00,9,      20.69,2,     -999.0,9, -999.00,9, 20140429,     1436, -24.3330,-150.0001,    34.8666,2,     -999.0,9,     -999.0,9,     -999.0,9,     -999.0,9,     -999.0,9,     -999.0,9
320620140320,       P16S,      76,          1,          2,         02,2,20140429,       1426,   -24.3330,  -150.0001,       5118,  5048.4,   1.3933,  34.7033,2,  34.7028,2,    191.0,2,   191.1,2,  119.79,2,   32.72,2,    0.00,2,    2.29,2,-999.000,9,-999.000,9, -999.00,9,  2276.7,2,  2375.6,2,   7.6721,2,       20,-999.000,9,-999.0000,9, -999.00,9,   1.3931,2, -999.00,9,  -999.0,9, -999.00,9,    38.2,2, -999.00,9,     -999.0,9,     -999.0,9, -999.00,9, 20140429,     1431, -24.3331,-150.0001,    34.8664,2,     -999.0,9,     -999.0,9,     -999.0,9,     -999.0,9,     -999.0,9,     -999.0,9
320620140320,       P16S,      76,          1,          1,         01,2,20140429,       1426,   -24.3330,  -150.0001,       5118,  5199.5,   1.4091,  34.7033,2,  34.7028,2,    191.4,2,   191.2,2,  119.99,2,   32.76,2,    0.00,2,    2.28,2,   0.002,2,   0.001,2,    0.01,2,  2276.7,6,  2375.9,2,   7.6721,2,       20,-999.000,9,-999.0000,9, -999.00,9,   1.4093,2, -999.00,9,  -999.0,9, -999.00,9,    38.7,2, -999.00,9,      21.13,2,     -999.0,9, -999.00,9, 20140429,     1426, -24.3331,-150.0001,    34.8664,2,     -999.0,9,     -999.0,9,     -999.0,9,     -999.0,9,     -999.0,9,     -999.0,9