BOTTLE,20230715CCHSIOCBG
EXPOCODE,SECT_ID,STNNBR,CASTNO,SAMPNO,BTLNBR,BTLNBR_FLAG_W,DATE,TIME,LATITUDE,LONGITUDE,DEPTH,CTDPRS,CTDTMP,CTDSAL,CTDSAL_FLAG_W,SALNTY,SALNTY_FLAG_W,CTDOXY,CTDOXY_FLAG_W,OXYGEN,OXYGEN_FLAG_W,SILCAT,SILCAT_FLAG_W,NITRAT,NITRAT_FLAG_W,NITRIT,NITRIT_FLAG_W,PHSPHT,PHSPHT_FLAG_W,CFC-11,CFC-11_FLAG_W,CFC-12,CFC-12_FLAG_W,SF6,SF6_FLAG_W,TCARBN,TCARBN_FLAG_W,ALKALI,ALKALI_FLAG_W,PH_TOT,PH_TOT_FLAG_W,PH_TMP,TRITUM,TRITUM_FLAG_W,HELIUM,HELIUM_FLAG_W,DELHE3,DELHE3_FLAG_W,REFTMP,REFTMP_FLAG_W,DELC13,DELC13_FLAG_W,DELC14,DELC14_FLAG_W,DELO18,DELO18_FLAG_W,DOC,DOC_FLAG_W,TDN,TDN_FLAG_W,N2O,N2O_FLAG_W,CALCIUM,CALCIUM_FLAG_W,D15N_NO3,D15N_NO3_FLAG_W,BTL_DATE,BTL_TIME,BTL_LAT,BTL_LON,SALTREF,SALTREF_FLAG_W,D18O_NO3,D18O_NO3_FLAG_W,DSI30,DSI30_FLAG_W,CDOM_NASA,CDOM_NASA_FLAG_W,CDOM_UCSB,CDOM_UCSB_FLAG_W,D15N_NO2+NO3,D15N_NO2+NO3_FLAG_W,D18O_NO2+NO3,D18O_NO2+NO3_FLAG_W
,,,,,,,,,,,METERS,DBAR,ITS-90,PSS-78,,PSS-78,,UMOL/KG,,UMOL/KG,,UMOL/KG,,UMOL/KG,,UMOL/KG,,UMOL/KG,,PMOL/KG,,PMOL/KG,,FMOL/KG,,UMOL/KG,,UMOL/KG,,,,DEG C,TU,,NMOL/KG,,PERCNT,,DEG C,,/MILLE,,/MILLE,,/MILLE,,UMOL/KG,,UMOL/KG,,NMOL/KG,,MMOL/KG,,/MILLE,,,,,,G/KG,,/MILLE,,/MILLE,,,,,,/MILLE,,/MILLE,
320620140320,       P16S,      52,          1,          5,         05,2,20140420,       1211,   -40.3329,  -150.0007,       5173,  4301.4,   1.2025,  34.7138,2,  34.7137,2,    200.6,2,   200.1,2,  115.74,2,   32.31,2,    0.00,2,    2.22,2,-999.000,9,-999.000,9, -999.00,9,    2264,2,  2370.4,2,   7.6785,2,       20,-999.000,9,-999.0000,9, -999.00,9,   1.2025,2,    0.52,2,  -179.2,2, -999.00,9,      37,2, -999.00,9,     -999.0,9,     -999.0,9, -999.00,1, 20140420,     1238, -40.3330,-150.0007,    34.8773,2,     -999.0,1,     -999.0,9,     -999.0,9,     -999.0,9,     -999.0,9,     -999.0,9
320620140320,       P16S,      52,          1,          4,         04,2,20140420,       1211,   -40.3329,  -150.0007,       5173,  4633.1,   1.1625,  34.7127,2,  34.7129,2,    201.5,2,   201.2,2,  118.08,2,   32.41,2,    0.00,2,    2.22,2,-999.000,9,-999.000,9, -999.00,9,  2266.3,2,  2371.5,2,    7.681,2,       20,-999.000,9,-999.0000,9, -999.00,9,   1.1622,2,    0.51,2,  -174.0,2, -999.00,9,    37.3,2, -999.00,9,     -999.0,9,     -999.0,9, -999.00,1, 20140420,     1230, -40.3330,-150.0007,    34.8765,2,     -999.0,1,     -999.0,9,     -999.0,9,     -999.0,9,     -999.0,9,     -999.0,9
320620140320,       P16S,      52,          1,          3,         03,2,20140420,       1211,   -40.3329,  -150.0007,       5173,  5035.7,   1.1704,  34.7118,2,  34.7115,2,    201.7,2,   201.9,2,  119.25,2,   32.40,2,    0.00,2,    2.24,2,   0.010,2,   0.002,2,    0.02,2,  2266.4,2,  2372.1,6,   7.6803,2,       20,-999.000,9,-999.0000,9, -999.00,9,   1.1704,2,    0.52,2,  -173.6,2, -999.00,9,    37.4,2, -999.00,9,      19.89,2,     -999.0,9, -999.00,1, 20140420,     1220, -40.3329,-150.0007,    34.8751,2,     -999.0,1,     -999.0,1,     -999.0,9,     -999.0,9,     -999.0,9,     -999.0,9
320620140320,       P16S,      52,          1,          2,         02,2,20140420,       1211,   -40.3329,  -150.0007,       5173,  5133.6,   1.1637,  34.7112,2,  34.7112,2,    202.3,2,   202.6,2,  119.16,2,   32.38,2,    0.00,2,    2.22,2,-999.000,9,-999.000,9, -999.00,9,  2266.2,2,  2371.1,2,   7.6787,6,       20,-999.000,9,-999.0000,9, -999.00,9,   1.1642,2,    0.52,2,  -174.4,2, -999.00,9,    38.6,2, -999.00,9,     -999.0,9,     -999.0,9, -999.00,1, 20140420,     1216, -40.3329,-150.0007,    34.8749,2,     -999.0,1,     -999.0,9,     -999.0,9,     -999.0,9,     -999.0,9,     -999.0,9
320620140320,       P16S,      52,          1,          1,         01,2,20140420,       1211,   -40.3329,  -150.0007,       5173,  5256.9,   1.1566,  34.7106,2,  34.7095,2,    202.7,2,   202.7,2,  119.55,2,   32.39,2,    0.00,2,    2.22,2,   0.017,2,   0.002,2,    0.01,2,  2267.4,6,  2370.9,2,   7.6774,2,       20,-999.000,9,-999.0000,9, -999.00,9,   1.1570,2,    0.53,2,  -168.5,2, -999.00,9,    39.7,2, -999.00,9,      20.14,2,     -999.0,9, -999.00,1, 20140420,     1211, -40.3329,-150.0007,    34.8731,2,     -999.0,1,     -999.0,9,     -999.0,9,     -999.0,9,     -999.0,9,     -999.0,9