BOTTLE,20230715CCHSIOCBG
EXPOCODE,SECT_ID,STNNBR,CASTNO,SAMPNO,BTLNBR,BTLNBR_FLAG_W,DATE,TIME,LATITUDE,LONGITUDE,DEPTH,CTDPRS,CTDTMP,CTDSAL,CTDSAL_FLAG_W,SALNTY,SALNTY_FLAG_W,CTDOXY,CTDOXY_FLAG_W,OXYGEN,OXYGEN_FLAG_W,SILCAT,SILCAT_FLAG_W,NITRAT,NITRAT_FLAG_W,NITRIT,NITRIT_FLAG_W,PHSPHT,PHSPHT_FLAG_W,CFC-11,CFC-11_FLAG_W,CFC-12,CFC-12_FLAG_W,SF6,SF6_FLAG_W,TCARBN,TCARBN_FLAG_W,ALKALI,ALKALI_FLAG_W,PH_TOT,PH_TOT_FLAG_W,PH_TMP,TRITUM,TRITUM_FLAG_W,HELIUM,HELIUM_FLAG_W,DELHE3,DELHE3_FLAG_W,REFTMP,REFTMP_FLAG_W,DELC13,DELC13_FLAG_W,DELC14,DELC14_FLAG_W,DELO18,DELO18_FLAG_W,DOC,DOC_FLAG_W,TDN,TDN_FLAG_W,N2O,N2O_FLAG_W,CALCIUM,CALCIUM_FLAG_W,D15N_NO3,D15N_NO3_FLAG_W,BTL_DATE,BTL_TIME,BTL_LAT,BTL_LON,SALTREF,SALTREF_FLAG_W,D18O_NO3,D18O_NO3_FLAG_W,DSI30,DSI30_FLAG_W,CDOM_NASA,CDOM_NASA_FLAG_W,CDOM_UCSB,CDOM_UCSB_FLAG_W,D15N_NO2+NO3,D15N_NO2+NO3_FLAG_W,D18O_NO2+NO3,D18O_NO2+NO3_FLAG_W
,,,,,,,,,,,METERS,DBAR,ITS-90,PSS-78,,PSS-78,,UMOL/KG,,UMOL/KG,,UMOL/KG,,UMOL/KG,,UMOL/KG,,UMOL/KG,,PMOL/KG,,PMOL/KG,,FMOL/KG,,UMOL/KG,,UMOL/KG,,,,DEG C,TU,,NMOL/KG,,PERCNT,,DEG C,,/MILLE,,/MILLE,,/MILLE,,UMOL/KG,,UMOL/KG,,NMOL/KG,,MMOL/KG,,/MILLE,,,,,,G/KG,,/MILLE,,/MILLE,,,,,,/MILLE,,/MILLE,
320620140320,       P16S,      23,          1,          5,         05,2,20140409,       0912,   -57.0003,  -149.9998,       3273,  2399.7,   0.8660,  34.7110,2,  34.7113,2,    204.3,2,   204.5,2,  120.26,2,   32.18,2,    0.00,2,    2.21,2,   0.183,2,   0.091,2,    0.15,2,  2259.5,2,  2361.8,6,   7.6664,2,       20,-999.000,9,-999.0000,9, -999.00,9,   0.8659,2, -999.00,9,  -999.0,9, -999.00,9,    38.1,2, -999.00,9,      20.01,2,     -999.0,9, -999.00,9, 20140409,      929, -57.0001,-149.9998,    34.8750,2,     -999.0,9,     -999.0,9,     -999.0,9,     -999.0,9,     -999.0,9,     -999.0,9
320620140320,       P16S,      23,          1,          4,         04,2,20140409,       0912,   -57.0003,  -149.9998,       3273,  2600.0,   0.7945,  34.7080,2,  34.7079,2,    205.5,2,   205.7,2,  125.04,2,   32.35,2,    0.00,2,    2.23,2,   0.245,2,   0.091,2,    0.12,2,  -999.0,9,  -999.0,9,-999.0000,9,  -999.00,-999.000,9,-999.0000,1, -999.00,9,   0.7943,2, -999.00,9,  -999.0,9, -999.00,9,    38.9,2, -999.00,9,      20.53,2,     -999.0,9, -999.00,9, 20140409,      925, -57.0002,-149.9998,    34.8716,2,     -999.0,9,     -999.0,9,     -999.0,9,     -999.0,9,     -999.0,9,     -999.0,9
320620140320,       P16S,      23,          1,          3,         03,2,20140409,       0912,   -57.0003,  -149.9998,       3273,  2799.8,   0.7560,  34.7060,2,  34.7054,2,    206.3,2,   206.3,2,  127.67,2,   32.45,2,    0.00,2,    2.24,2,   0.233,2,   0.108,2,    0.18,2,  2260.8,2,  2362.5,2,   7.6656,6,       20,-999.000,1,-999.0000,1, -999.00,9,   0.7560,2, -999.00,9,  -999.0,9, -999.00,9,    40.8,2, -999.00,9,      20.51,2,     -999.0,9, -999.00,9, 20140409,      921, -57.0004,-149.9999,    34.8690,2,     -999.0,9,     -999.0,9,     -999.0,9,     -999.0,9,     -999.0,9,     -999.0,9
320620140320,       P16S,      23,          1,          2,         02,2,20140409,       0912,   -57.0003,  -149.9998,       3273,  3002.1,   0.6983,  34.7043,2,  34.7040,2,    207.1,2,   207.4,2,  128.55,2,   32.49,2,    0.00,2,    2.23,2,   0.304,2,   0.129,2,    0.10,2,  -999.0,9,  -999.0,9,-999.0000,9,  -999.00,-999.000,9,-999.0000,1, -999.00,9,   0.6989,2, -999.00,9,  -999.0,9, -999.00,9,    39.5,2, -999.00,9,      17.15,4,     -999.0,9, -999.00,9, 20140409,      916, -57.0003,-149.9998,    34.8677,2,     -999.0,9,     -999.0,9,     -999.0,9,     -999.0,9,     -999.0,9,     -999.0,9
320620140320,       P16S,      23,          1,          1,         01,2,20140409,       0912,   -57.0003,  -149.9998,       3273,  3205.4,   0.6731,  34.7031,2,  34.7034,2,    207.7,2,   207.6,2,  128.94,2,   32.50,2,    0.00,2,    2.23,2,   0.321,2,   0.150,2,    0.12,2,  2261.9,6,  2361.5,2,   7.6611,2,       20,-999.000,1,-999.0000,1, -999.00,9,   0.6730,2, -999.00,9,  -999.0,9, -999.00,9,    39.7,2, -999.00,9,      20.09,2,     -999.0,9, -999.00,9, 20140409,      912, -57.0003,-149.9998,    34.8671,2,     -999.0,9,     -999.0,9,     -999.0,9,     -999.0,9,     -999.0,9,     -999.0,9