BOTTLE,20230715CCHSIOCBG
EXPOCODE,SECT_ID,STNNBR,CASTNO,SAMPNO,BTLNBR,BTLNBR_FLAG_W,DATE,TIME,LATITUDE,LONGITUDE,DEPTH,CTDPRS,CTDTMP,CTDSAL,CTDSAL_FLAG_W,SALNTY,SALNTY_FLAG_W,CTDOXY,CTDOXY_FLAG_W,OXYGEN,OXYGEN_FLAG_W,SILCAT,SILCAT_FLAG_W,NITRAT,NITRAT_FLAG_W,NITRIT,NITRIT_FLAG_W,PHSPHT,PHSPHT_FLAG_W,CFC-11,CFC-11_FLAG_W,CFC-12,CFC-12_FLAG_W,SF6,SF6_FLAG_W,TCARBN,TCARBN_FLAG_W,ALKALI,ALKALI_FLAG_W,PH_TOT,PH_TOT_FLAG_W,PH_TMP,TRITUM,TRITUM_FLAG_W,HELIUM,HELIUM_FLAG_W,DELHE3,DELHE3_FLAG_W,REFTMP,REFTMP_FLAG_W,DELC13,DELC13_FLAG_W,DELC14,DELC14_FLAG_W,DELO18,DELO18_FLAG_W,DOC,DOC_FLAG_W,TDN,TDN_FLAG_W,N2O,N2O_FLAG_W,CALCIUM,CALCIUM_FLAG_W,D15N_NO3,D15N_NO3_FLAG_W,BTL_DATE,BTL_TIME,BTL_LAT,BTL_LON,SALTREF,SALTREF_FLAG_W,D18O_NO3,D18O_NO3_FLAG_W,DSI30,DSI30_FLAG_W,CDOM_NASA,CDOM_NASA_FLAG_W,CDOM_UCSB,CDOM_UCSB_FLAG_W,D15N_NO2+NO3,D15N_NO2+NO3_FLAG_W,D18O_NO2+NO3,D18O_NO2+NO3_FLAG_W
,,,,,,,,,,,METERS,DBAR,ITS-90,PSS-78,,PSS-78,,UMOL/KG,,UMOL/KG,,UMOL/KG,,UMOL/KG,,UMOL/KG,,UMOL/KG,,PMOL/KG,,PMOL/KG,,FMOL/KG,,UMOL/KG,,UMOL/KG,,,,DEG C,TU,,NMOL/KG,,PERCNT,,DEG C,,/MILLE,,/MILLE,,/MILLE,,UMOL/KG,,UMOL/KG,,NMOL/KG,,MMOL/KG,,/MILLE,,,,,,G/KG,,/MILLE,,/MILLE,,,,,,/MILLE,,/MILLE,
320620140320,       P16S,      10,          1,         36,         36,2,20140402,       1141,   -64.5003,  -149.9954,       4984,     4.5,  -0.0576,  33.7426,2,  33.7450,2,    341.3,2,   341.8,2,   51.80,2,   24.34,2,    0.19,2,    1.79,2,-999.000,9,-999.000,9, -999.00,9,  2168.5,2,  2283.8,2,   7.7473,6,       20,-999.000,9,-999.0000,9, -999.00,9,  -0.0581,2, -999.00,9,  -999.0,9, -999.00,9,  -999.0,9, -999.00,9,     -999.0,9,     -999.0,9, -999.00,9, 20140402,     1315, -64.5001,-149.9935,    33.9042,2,     -999.0,9,     -999.0,9,     -999.0,9,     -999.0,9,     -999.0,9,     -999.0,9
320620140320,       P16S,      10,          1,         35,         35,2,20140402,       1141,   -64.5003,  -149.9954,       4984,    20.3,  -0.0615,  33.7436,2,  33.7454,2,    342.2,2,   341.8,2,   51.89,2,   24.62,2,    0.19,2,    1.82,2,-999.000,9,-999.000,9, -999.00,9,  2168.2,2,    2284,2,   7.7476,2,       20,-999.000,9,-999.0000,9, -999.00,9,  -0.0600,2, -999.00,9,  -999.0,9, -999.00,9,  -999.0,9, -999.00,9,     -999.0,9,     -999.0,9, -999.00,9, 20140402,     1314, -64.5002,-149.9944,    33.9045,2,     -999.0,9,     -999.0,9,     -999.0,9,     -999.0,9,     -999.0,9,     -999.0,9
320620140320,       P16S,      10,          1,         34,         34,2,20140402,       1141,   -64.5003,  -149.9954,       4984,    39.2,  -0.0585,  33.7431,2,  33.7435,2,    342.4,2,   341.5,2,   52.19,2,   24.69,2,    0.19,2,    1.83,2,-999.000,9,-999.000,9, -999.00,9,  2167.6,2,  2282.4,2,   7.7473,2,       20,-999.000,9,-999.0000,9, -999.00,9,  -0.0603,2, -999.00,9,  -999.0,9, -999.00,9,  -999.0,9, -999.00,9,     -999.0,9,     -999.0,9, -999.00,9, 20140402,     1313, -64.5003,-149.9954,    33.9026,2,     -999.0,9,     -999.0,9,     -999.0,9,     -999.0,9,     -999.0,9,     -999.0,9
320620140320,       P16S,      10,          1,         33,         33,2,20140402,       1141,   -64.5003,  -149.9954,       4984,    67.2,  -0.0929,  33.7536,2,  33.7487,2,    341.8,2,   341.2,2,   51.89,2,   24.76,2,    0.19,2,    1.83,2,-999.000,9,-999.000,9, -999.00,9,  2167.9,2,    2284,2,    7.746,2,       20,-999.000,9,-999.0000,9, -999.00,9,  -0.0798,2, -999.00,9,  -999.0,9, -999.00,9,  -999.0,9, -999.00,9,     -999.0,9,     -999.0,9, -999.00,9, 20140402,     1311, -64.5006,-149.9957,    33.9079,2,     -999.0,9,     -999.0,9,     -999.0,9,     -999.0,9,     -999.0,9,     -999.0,9
320620140320,       P16S,      10,          1,         32,         32,2,20140402,       1141,   -64.5003,  -149.9954,       4984,    90.0,  -1.1550,  34.1375,2,  34.1298,2,    319.8,2,   319.4,2,   62.72,2,   27.53,2,    0.14,2,    2.04,2,-999.000,9,-999.000,9, -999.00,9,  2204.2,2,  2307.3,2,   7.7056,2,       20,-999.000,9,-999.0000,9, -999.00,9,  -1.1559,2, -999.00,9,  -999.0,9, -999.00,9,  -999.0,9, -999.00,9,     -999.0,9,     -999.0,9, -999.00,9, 20140402,     1310, -64.5006,-149.9957,    34.2907,2,     -999.0,9,     -999.0,9,     -999.0,9,     -999.0,9,     -999.0,9,     -999.0,9
320620140320,       P16S,      10,          1,         31,         31,2,20140402,       1141,   -64.5003,  -149.9954,       4984,   114.9,  -0.6328,  34.3281,2,  34.3487,2,    272.4,2,   263.5,2,   73.75,2,   30.26,2,    0.18,2,    2.16,2,-999.000,9,-999.000,9, -999.00,9,  2230.6,2,  2314.3,2,   7.6612,2,       20,-999.000,9,-999.0000,9, -999.00,9,  -0.6992,3, -999.00,9,  -999.0,9, -999.00,9,  -999.0,9, -999.00,9,     -999.0,9,     -999.0,9, -999.00,9, 20140402,     1308, -64.5006,-149.9957,    34.5106,2,     -999.0,9,     -999.0,9,     -999.0,9,     -999.0,9,     -999.0,9,     -999.0,9
320620140320,       P16S,      10,          1,         30,         30,2,20140402,       1141,   -64.5003,  -149.9954,       4984,   140.3,   0.4430,  34.5351,2,  34.5341,2,    215.0,2,   214.8,2,   86.14,2,   32.23,2,    0.02,2,    2.27,2,-999.000,9,-999.000,9, -999.00,9,  2251.3,2,  2327.5,2,   7.6354,2,       20,-999.000,9,-999.0000,9, -999.00,9,   0.4349,2, -999.00,9,  -999.0,9, -999.00,9,  -999.0,9, -999.00,9,     -999.0,9,     -999.0,9, -999.00,9, 20140402,     1307, -64.5006,-149.9956,    34.6970,2,     -999.0,9,     -999.0,9,     -999.0,9,     -999.0,9,     -999.0,9,     -999.0,9
320620140320,       P16S,      10,          1,         29,         29,2,20140402,       1141,   -64.5003,  -149.9954,       4984,   165.2,   1.1612,  34.6609,2,  34.6614,2,    190.6,2,   186.2,2,   94.83,2,   32.99,2,    0.01,2,    2.30,2,-999.000,9,-999.000,9, -999.00,9,  2264.3,2,  2341.4,2,   7.6245,2,       20,-999.000,9,-999.0000,9, -999.00,9,   1.1545,2, -999.00,9,  -999.0,9, -999.00,9,  -999.0,9, -999.00,9,     -999.0,9,     -999.0,9, -999.00,9, 20140402,     1305, -64.5005,-149.9957,    34.8249,2,     -999.0,9,     -999.0,9,     -999.0,9,     -999.0,9,     -999.0,9,     -999.0,9
320620140320,       P16S,      10,          1,         28,         28,2,20140402,       1141,   -64.5003,  -149.9954,       4984,   188.7,   1.3257,  34.6909,2,  34.6901,2,    179.9,2,   179.7,2,   97.17,2,   32.98,2,    0.01,2,    2.30,2,-999.000,9,-999.000,9, -999.00,9,  2266.1,2,  2342.9,2,   7.6244,2,       20,-999.000,9,-999.0000,9, -999.00,9,   1.3257,2, -999.00,9,  -999.0,9, -999.00,9,  -999.0,9, -999.00,9,     -999.0,9,     -999.0,9, -999.00,9, 20140402,     1304, -64.5005,-149.9956,    34.8537,2,     -999.0,9,     -999.0,9,     -999.0,9,     -999.0,9,     -999.0,9,     -999.0,9
320620140320,       P16S,      10,          1,         27,         27,2,20140402,       1141,   -64.5003,  -149.9954,       4984,   234.2,   1.4387,  34.7236,2,  34.7239,2,    176.9,2,   176.5,2,  101.27,2,   32.81,2,    0.01,2,    2.29,2,-999.000,9,-999.000,9, -999.00,9,  2267.8,2,  2350.1,2,   7.6301,2,       20,-999.000,9,-999.0000,9, -999.00,9,   1.4385,2, -999.00,9,  -999.0,9, -999.00,9,  -999.0,9, -999.00,9,     -999.0,9,     -999.0,9, -999.00,9, 20140402,     1302, -64.5004,-149.9956,    34.8876,2,     -999.0,9,     -999.0,9,     -999.0,9,     -999.0,9,     -999.0,9,     -999.0,9
320620140320,       P16S,      10,          1,         26,         26,2,20140402,       1141,   -64.5003,  -149.9954,       4984,   335.4,   1.3593,  34.7285,2,  34.7284,2,    178.5,2,   178.6,2,  105.17,2,   32.69,2,    0.00,2,    2.28,2,-999.000,9,-999.000,9, -999.00,9,  2267.9,2,  2352.3,2,    7.634,2,       20,-999.000,9,-999.0000,9, -999.00,9,   1.3604,2, -999.00,9,  -999.0,9, -999.00,9,  -999.0,9, -999.00,9,     -999.0,9,     -999.0,9, -999.00,9, 20140402,     1300, -64.5002,-149.9956,    34.8922,2,     -999.0,9,     -999.0,9,     -999.0,9,     -999.0,9,     -999.0,9,     -999.0,9
320620140320,       P16S,      10,          1,         25,         25,2,20140402,       1141,   -64.5003,  -149.9954,       4984,   384.8,   1.3159,  34.7286,2,  34.7266,2,    180.0,2,   180.4,2,  106.83,2,   32.72,2,    0.00,2,    2.28,2,-999.000,9,-999.000,9, -999.00,9,  2267.9,2,  2352.9,2,   7.6375,2,       20,-999.000,9,-999.0000,9, -999.00,9,   1.3159,2, -999.00,9,  -999.0,9, -999.00,9,  -999.0,9, -999.00,9,     -999.0,9,     -999.0,9, -999.00,9, 20140402,     1258, -64.5003,-149.9955,    34.8904,2,     -999.0,9,     -999.0,9,     -999.0,9,     -999.0,9,     -999.0,9,     -999.0,9
320620140320,       P16S,      10,          1,         24,         24,2,20140402,       1141,   -64.5003,  -149.9954,       4984,   434.8,   1.2792,  34.7286,2,  34.7278,2,    181.4,2,   181.0,2,  108.40,2,   32.69,2,    0.00,2,    2.28,2,-999.000,9,-999.000,9, -999.00,9,  2268.6,6,  2354.5,2,   7.6392,6,       20,-999.000,9,-999.0000,9, -999.00,9,   1.2797,2, -999.00,9,  -999.0,9, -999.00,9,  -999.0,9, -999.00,9,     -999.0,9,     -999.0,9, -999.00,9, 20140402,     1256, -64.5004,-149.9956,    34.8915,2,     -999.0,9,     -999.0,9,     -999.0,9,     -999.0,9,     -999.0,9,     -999.0,9
320620140320,       P16S,      10,          1,         23,         23,2,20140402,       1141,   -64.5003,  -149.9954,       4984,   485.5,   1.2419,  34.7277,2,  34.7281,2,    182.9,2,   182.8,2,  109.67,2,   32.63,2,    0.00,2,    2.26,2,-999.000,9,-999.000,9, -999.00,9,  2268.1,2,  2354.8,2,   7.6416,2,       20,-999.000,9,-999.0000,9, -999.00,9,   1.2415,2, -999.00,9,  -999.0,9, -999.00,9,  -999.0,9, -999.00,9,     -999.0,9,     -999.0,9, -999.00,9, 20140402,     1254, -64.5006,-149.9957,    34.8919,2,     -999.0,9,     -999.0,9,     -999.0,9,     -999.0,9,     -999.0,9,     -999.0,9
320620140320,       P16S,      10,          1,         22,         22,2,20140402,       1141,   -64.5003,  -149.9954,       4984,   565.2,   1.1807,  34.7264,2,  34.7268,2,    185.4,2,   184.8,2,  111.82,2,   32.55,2,    0.00,2,    2.26,2,-999.000,9,-999.000,9, -999.00,9,    2268,2,  2355.8,6,   7.6455,2,       20,-999.000,9,-999.0000,9, -999.00,9,   1.1810,2, -999.00,9,  -999.0,9, -999.00,9,  -999.0,9, -999.00,9,     -999.0,9,     -999.0,9, -999.00,9, 20140402,     1252, -64.5006,-149.9957,    34.8905,2,     -999.0,9,     -999.0,9,     -999.0,9,     -999.0,9,     -999.0,9,     -999.0,9
320620140320,       P16S,      10,          1,         21,         21,2,20140402,       1141,   -64.5003,  -149.9954,       4984,   665.1,   1.1271,  34.7244,2,  34.7240,2,    187.9,2,   187.2,2,  113.18,2,   32.46,2,    0.00,2,    2.26,2,-999.000,9,-999.000,9, -999.00,9,  2266.9,2,  2356.4,2,   7.6493,2,       20,-999.000,9,-999.0000,9, -999.00,9,   1.1266,2, -999.00,9,  -999.0,9, -999.00,9,  -999.0,9, -999.00,9,     -999.0,9,     -999.0,9, -999.00,9, 20140402,     1249, -64.5006,-149.9957,    34.8877,2,     -999.0,9,     -999.0,9,     -999.0,9,     -999.0,9,     -999.0,9,     -999.0,9
320620140320,       P16S,      10,          1,         20,         20,2,20140402,       1141,   -64.5003,  -149.9954,       4984,   764.5,   1.0457,  34.7216,2,  34.7218,2,    190.5,2,   190.3,2,  115.43,2,   32.35,2,    0.00,2,    2.25,2,-999.000,9,-999.000,9, -999.00,9,  -999.0,9,  -999.0,9,-999.0000,9,  -999.00,-999.000,9,-999.0000,9, -999.00,9,   1.0456,2, -999.00,9,  -999.0,9, -999.00,9,  -999.0,9, -999.00,9,     -999.0,9,     -999.0,9, -999.00,9, 20140402,     1247, -64.5004,-149.9956,    34.8855,2,     -999.0,9,     -999.0,9,     -999.0,9,     -999.0,9,     -999.0,9,     -999.0,9
320620140320,       P16S,      10,          1,         19,         19,2,20140402,       1141,   -64.5003,  -149.9954,       4984,   864.1,   0.9783,  34.7192,2,  34.7196,2,    193.0,2,   193.4,2,  117.38,2,   32.31,2,    0.00,2,    2.25,2,-999.000,9,-999.000,9, -999.00,9,    2266,2,  2358.4,2,   7.6584,2,       20,-999.000,9,-999.0000,9, -999.00,9,   0.9783,2, -999.00,9,  -999.0,9, -999.00,9,  -999.0,9, -999.00,9,     -999.0,9,     -999.0,9, -999.00,9, 20140402,     1244, -64.5002,-149.9955,    34.8834,2,     -999.0,9,     -999.0,9,     -999.0,9,     -999.0,9,     -999.0,9,     -999.0,9
320620140320,       P16S,      10,          1,         18,         18,2,20140402,       1141,   -64.5003,  -149.9954,       4984,   965.9,   0.9197,  34.7167,2,  34.7177,2,    195.4,2,   195.2,2,  118.75,2,   32.22,2,    0.00,2,    2.24,2,-999.000,9,-999.000,9, -999.00,9,  -999.0,9,  -999.0,9,-999.0000,9,  -999.00,-999.000,9,-999.0000,9, -999.00,9,   0.9197,2, -999.00,9,  -999.0,9, -999.00,9,  -999.0,9, -999.00,9,     -999.0,9,     -999.0,9, -999.00,9, 20140402,     1241, -64.5002,-149.9955,    34.8814,2,     -999.0,9,     -999.0,9,     -999.0,9,     -999.0,9,     -999.0,9,     -999.0,9
320620140320,       P16S,      10,          1,         17,         17,2,20140402,       1141,   -64.5003,  -149.9954,       4984,  1064.5,   0.8609,  34.7143,2,  34.7153,2,    197.1,2,   196.8,2,  120.70,2,   32.23,2,    0.00,2,    2.26,2,-999.000,9,-999.000,9, -999.00,9,    2265,2,  2360.3,2,   7.6626,2,       20,-999.000,9,-999.0000,9, -999.00,9,   0.8611,2, -999.00,9,  -999.0,9, -999.00,9,  -999.0,9, -999.00,9,     -999.0,9,     -999.0,9, -999.00,9, 20140402,     1239, -64.5005,-149.9956,    34.8790,2,     -999.0,9,     -999.0,9,     -999.0,9,     -999.0,9,     -999.0,9,     -999.0,9
320620140320,       P16S,      10,          1,         16,         16,2,20140402,       1141,   -64.5003,  -149.9954,       4984,  1165.8,   0.8117,  34.7127,2,  34.7131,2,    198.8,2,   198.7,2,  122.46,2,   32.21,2,    0.00,2,    2.24,2,-999.000,9,-999.000,9, -999.00,9,  -999.0,9,  -999.0,9,-999.0000,9,  -999.00,-999.000,9,-999.0000,9, -999.00,9,   0.8119,2, -999.00,9,  -999.0,9, -999.00,9,  -999.0,9, -999.00,9,     -999.0,9,     -999.0,9, -999.00,9, 20140402,     1236, -64.5006,-149.9956,    34.8768,2,     -999.0,9,     -999.0,9,     -999.0,9,     -999.0,9,     -999.0,9,     -999.0,9
320620140320,       P16S,      10,          1,         15,         15,2,20140402,       1141,   -64.5003,  -149.9954,       4984,  1265.7,   0.7691,  34.7107,2,  34.7111,2,    199.9,2,   199.9,2,  124.02,2,   32.35,2,    0.00,2,    2.26,2,-999.000,9,-999.000,9, -999.00,9,  2264.3,2,  2361.2,2,   7.6657,2,       20,-999.000,9,-999.0000,9, -999.00,9,   0.7691,2, -999.00,9,  -999.0,9, -999.00,9,  -999.0,9, -999.00,9,     -999.0,9,     -999.0,9, -999.00,9, 20140402,     1234, -64.5008,-149.9959,    34.8748,2,     -999.0,9,     -999.0,9,     -999.0,9,     -999.0,9,     -999.0,9,     -999.0,9
320620140320,       P16S,      10,          1,         14,         14,2,20140402,       1141,   -64.5003,  -149.9954,       4984,  1364.8,   0.7246,  34.7091,2,  34.7070,3,    201.6,2,   201.4,2,  125.29,2,   32.26,2,    0.00,2,    2.24,2,-999.000,9,-999.000,9, -999.00,9,  -999.0,9,  -999.0,9,-999.0000,9,  -999.00,-999.000,9,-999.0000,9, -999.00,9,   0.7246,2, -999.00,9,  -999.0,9, -999.00,9,  -999.0,9, -999.00,9,     -999.0,9,     -999.0,9, -999.00,9, 20140402,     1231, -64.5009,-149.9958,    34.8706,3,     -999.0,9,     -999.0,9,     -999.0,9,     -999.0,9,     -999.0,9,     -999.0,9
320620140320,       P16S,      10,          1,         13,         13,2,20140402,       1141,   -64.5003,  -149.9954,       4984,  1464.4,   0.6807,  34.7075,2,  34.7075,2,    202.6,2,   202.7,2,  126.56,2,   32.27,2,    0.00,2,    2.24,2,-999.000,9,-999.000,9, -999.00,9,    2264,2,  2360.9,2,   7.6663,2,       20,-999.000,9,-999.0000,9, -999.00,9,   0.6807,2, -999.00,9,  -999.0,9, -999.00,9,  -999.0,9, -999.00,9,     -999.0,9,     -999.0,9, -999.00,9, 20140402,     1228, -64.5005,-149.9956,    34.8712,2,     -999.0,9,     -999.0,9,     -999.0,9,     -999.0,9,     -999.0,9,     -999.0,9
320620140320,       P16S,      10,          1,         12,         12,2,20140402,       1141,   -64.5003,  -149.9954,       4984,  1564.2,   0.6414,  34.7062,2,  34.7067,2,    203.7,2,   203.6,2,  127.34,2,   32.26,2,    0.00,2,    2.25,2,-999.000,9,-999.000,9, -999.00,9,  -999.0,9,  -999.0,9,-999.0000,9,  -999.00,-999.000,9,-999.0000,9, -999.00,9,   0.6412,2, -999.00,9,  -999.0,9, -999.00,9,  -999.0,9, -999.00,9,     -999.0,9,     -999.0,9, -999.00,9, 20140402,     1226, -64.5001,-149.9955,    34.8704,2,     -999.0,9,     -999.0,9,     -999.0,9,     -999.0,9,     -999.0,9,     -999.0,9
320620140320,       P16S,      10,          1,         11,         11,2,20140402,       1141,   -64.5003,  -149.9954,       4984,  1666.0,   0.6020,  34.7051,2,  34.7052,2,    204.7,2,   204.6,2,  128.13,2,   32.30,2,    0.00,2,    2.25,2,-999.000,9,-999.000,9, -999.00,9,  2264.1,2,  2358.7,2,    7.667,2,       20,-999.000,9,-999.0000,9, -999.00,9,   0.6021,2, -999.00,9,  -999.0,9, -999.00,9,  -999.0,9, -999.00,9,     -999.0,9,     -999.0,9, -999.00,9, 20140402,     1223, -64.5003,-149.9954,    34.8688,2,     -999.0,9,     -999.0,9,     -999.0,9,     -999.0,9,     -999.0,9,     -999.0,9
320620140320,       P16S,      10,          1,         10,         10,2,20140402,       1141,   -64.5003,  -149.9954,       4984,  1766.4,   0.5696,  34.7045,2,  34.7048,2,    205.6,2,   205.3,2,  128.61,2,   32.38,2,    0.00,2,    2.25,2,-999.000,9,-999.000,9, -999.00,9,  -999.0,9,  -999.0,9,-999.0000,9,  -999.00,-999.000,9,-999.0000,9, -999.00,9,   0.5700,2, -999.00,9,  -999.0,9, -999.00,9,  -999.0,9, -999.00,9,     -999.0,9,     -999.0,9, -999.00,9, 20140402,     1221, -64.5006,-149.9957,    34.8684,2,     -999.0,9,     -999.0,9,     -999.0,9,     -999.0,9,     -999.0,9,     -999.0,9
320620140320,       P16S,      10,          1,          9,         09,2,20140402,       1141,   -64.5003,  -149.9954,       4984,  1935.0,   0.5061,  34.7036,2,  34.7030,2,    207.2,2,   206.8,2,  129.40,2,   32.42,2,    0.00,2,    2.26,2,-999.000,9,-999.000,9, -999.00,9,  2263.2,2,  2359.7,2,   7.6672,2,       20,-999.000,9,-999.0000,9, -999.00,9,   0.5065,2, -999.00,9,  -999.0,9, -999.00,9,  -999.0,9, -999.00,9,     -999.0,9,     -999.0,9, -999.00,9, 20140402,     1217, -64.5007,-149.9958,    34.8666,2,     -999.0,9,     -999.0,9,     -999.0,9,     -999.0,9,     -999.0,9,     -999.0,9
320620140320,       P16S,      10,          1,          8,         08,2,20140402,       1141,   -64.5003,  -149.9954,       4984,  2135.6,   0.4363,  34.7025,2,  34.7024,2,    209.1,2,   209.1,2,  130.86,2,   32.48,2,    0.00,2,    2.27,2,-999.000,9,-999.000,9, -999.00,9,  -999.0,9,  -999.0,9,-999.0000,9,  -999.00,-999.000,9,-999.0000,9, -999.00,9,   0.4364,2, -999.00,9,  -999.0,9, -999.00,9,  -999.0,9, -999.00,9,     -999.0,9,     -999.0,9, -999.00,9, 20140402,     1213, -64.5004,-149.9956,    34.8660,2,     -999.0,9,     -999.0,9,     -999.0,9,     -999.0,9,     -999.0,9,     -999.0,9
320620140320,       P16S,      10,          1,          7,         07,2,20140402,       1141,   -64.5003,  -149.9954,       4984,  2335.1,   0.3661,  34.7017,2,  34.7016,2,    211.2,2,   210.7,2,  132.52,2,   32.45,2,    0.00,2,    2.27,2,-999.000,9,-999.000,9, -999.00,9,  2264.2,2,  2360.1,2,   7.6677,2,       20,-999.000,9,-999.0000,9, -999.00,9,   0.3665,2, -999.00,9,  -999.0,9, -999.00,9,  -999.0,9, -999.00,9,     -999.0,9,     -999.0,9, -999.00,9, 20140402,     1208, -64.5000,-149.9954,    34.8652,2,     -999.0,9,     -999.0,9,     -999.0,9,     -999.0,9,     -999.0,9,     -999.0,9
320620140320,       P16S,      10,          1,          6,         06,2,20140402,       1141,   -64.5003,  -149.9954,       4984,  2535.7,   0.2980,  34.6995,2,  34.7002,2,    213.4,2,   213.0,2,  132.52,2,   32.52,2,    0.00,2,    2.27,2,-999.000,9,-999.000,9, -999.00,9,  -999.0,9,  -999.0,9,-999.0000,9,  -999.00,-999.000,9,-999.0000,9, -999.00,9,   0.2981,2, -999.00,9,  -999.0,9, -999.00,9,  -999.0,9, -999.00,9,     -999.0,9,     -999.0,9, -999.00,9, 20140402,     1204, -64.5001,-149.9954,    34.8638,2,     -999.0,9,     -999.0,9,     -999.0,9,     -999.0,9,     -999.0,9,     -999.0,9