BOTTLE,20230715CCHSIOCBG
EXPOCODE,SECT_ID,STNNBR,CASTNO,SAMPNO,BTLNBR,BTLNBR_FLAG_W,DATE,TIME,LATITUDE,LONGITUDE,DEPTH,CTDPRS,CTDTMP,CTDSAL,CTDSAL_FLAG_W,SALNTY,SALNTY_FLAG_W,CTDOXY,CTDOXY_FLAG_W,OXYGEN,OXYGEN_FLAG_W,SILCAT,SILCAT_FLAG_W,NITRAT,NITRAT_FLAG_W,NITRIT,NITRIT_FLAG_W,PHSPHT,PHSPHT_FLAG_W,CFC-11,CFC-11_FLAG_W,CFC-12,CFC-12_FLAG_W,SF6,SF6_FLAG_W,TCARBN,TCARBN_FLAG_W,ALKALI,ALKALI_FLAG_W,PH_TOT,PH_TOT_FLAG_W,PH_TMP,TRITUM,TRITUM_FLAG_W,HELIUM,HELIUM_FLAG_W,DELHE3,DELHE3_FLAG_W,REFTMP,REFTMP_FLAG_W,DELC13,DELC13_FLAG_W,DELC14,DELC14_FLAG_W,DELO18,DELO18_FLAG_W,DOC,DOC_FLAG_W,TDN,TDN_FLAG_W,N2O,N2O_FLAG_W,CALCIUM,CALCIUM_FLAG_W,D15N_NO3,D15N_NO3_FLAG_W,BTL_DATE,BTL_TIME,BTL_LAT,BTL_LON,SALTREF,SALTREF_FLAG_W,D18O_NO3,D18O_NO3_FLAG_W,DSI30,DSI30_FLAG_W,CDOM_NASA,CDOM_NASA_FLAG_W,CDOM_UCSB,CDOM_UCSB_FLAG_W,D15N_NO2+NO3,D15N_NO2+NO3_FLAG_W,D18O_NO2+NO3,D18O_NO2+NO3_FLAG_W
,,,,,,,,,,,METERS,DBAR,ITS-90,PSS-78,,PSS-78,,UMOL/KG,,UMOL/KG,,UMOL/KG,,UMOL/KG,,UMOL/KG,,UMOL/KG,,PMOL/KG,,PMOL/KG,,FMOL/KG,,UMOL/KG,,UMOL/KG,,,,DEG C,TU,,NMOL/KG,,PERCNT,,DEG C,,/MILLE,,/MILLE,,/MILLE,,UMOL/KG,,UMOL/KG,,NMOL/KG,,MMOL/KG,,/MILLE,,,,,,G/KG,,/MILLE,,/MILLE,,,,,,/MILLE,,/MILLE,
320620140320,       P16S,      67,          1,          5,         05,2,20140426,       1107,   -30.3328,  -149.9999,       4825,  3999.7,   1.3530,  34.6995,2,  34.7007,2,    186.4,2,   186.3,2,  121.44,2,   33.45,2,    0.00,2,    2.32,2,   0.004,2,   0.001,2,    0.00,2,  2281.3,2,  2382.7,6,   7.6668,2,       20,-999.000,9,-999.0000,9, -999.00,9,   1.3534,2,    0.52,2,  -197.2,2, -999.00,9,  -999.0,9, -999.00,9,      19.78,2,     -999.0,9, -999.00,1, 20140426,     1129, -30.3328,-150.0000,    34.8644,2,     -999.0,1,     -999.0,1,     -999.0,9,     -999.0,9,     -999.0,9,     -999.0,9
320620140320,       P16S,      67,          1,          4,         04,2,20140426,       1107,   -30.3328,  -149.9999,       4825,  4299.8,   1.3195,  34.7023,2,  34.7025,2,    190.4,2,   190.3,2,  120.46,2,   33.27,2,    0.00,2,    2.29,2,   0.005,2,   0.002,2,    0.04,2,  2278.2,2,  2379.7,2,   7.6703,2,       20,-999.000,9,-999.0000,9, -999.00,9,   1.3195,2,    0.50,2,  -197.8,2, -999.00,9,  -999.0,9, -999.00,9,      20.25,2,     -999.0,9, -999.00,1, 20140426,     1123, -30.3329,-149.9999,    34.8661,2,     -999.0,1,     -999.0,9,     -999.0,9,     -999.0,9,     -999.0,9,     -999.0,9
320620140320,       P16S,      67,          1,          3,         03,2,20140426,       1107,   -30.3328,  -149.9999,       4825,  4599.6,   1.3046,  34.7042,2,  34.7039,2,    193.0,2,   193.2,2,  119.87,2,   33.10,2,    0.00,2,    2.27,2,-999.000,9,-999.000,9, -999.00,9,  2274.9,2,  2377.4,2,   7.6722,2,       20,-999.000,9,-999.0000,9, -999.00,9,   1.3051,2,    0.55,2,  -202.0,2, -999.00,9,  -999.0,9, -999.00,9,     -999.0,9,     -999.0,9, -999.00,1, 20140426,     1116, -30.3329,-149.9999,    34.8675,2,     -999.0,1,     -999.0,9,     -999.0,9,     -999.0,9,     -999.0,9,     -999.0,9
320620140320,       P16S,      67,          1,          2,         02,2,20140426,       1107,   -30.3328,  -149.9999,       4825,  4732.7,   1.2815,  34.7055,2,  34.7062,2,    194.9,2,   195.2,2,  119.78,2,   32.90,2,    0.00,2,    2.26,2,   0.008,2,   0.001,2,    0.01,2,  2272.6,2,  2375.7,2,   7.6728,2,       20,-999.000,9,-999.0000,9, -999.00,9,   1.2818,2,    0.56,2,  -195.6,2, -999.00,9,  -999.0,9, -999.00,9,      19.91,2,     -999.0,9, -999.00,1, 20140426,     1112, -30.3330,-149.9999,    34.8699,2,     -999.0,1,     -999.0,9,     -999.0,9,     -999.0,9,     -999.0,9,     -999.0,9
320620140320,       P16S,      67,          1,          1,         01,2,20140426,       1107,   -30.3328,  -149.9999,       4825,  4884.8,   1.2958,  34.7056,2,  34.7072,3,    195.3,2,   195.4,2,  119.78,2,   32.89,2,    0.00,2,    2.27,2,   0.007,2,   0.002,2,    0.03,2,  2272.5,6,  2375.5,2,   7.6732,2,       20,-999.000,9,-999.0000,9, -999.00,9,   1.2958,2,    0.55,2,  -199.4,2, -999.00,9,  -999.0,9, -999.00,9,      19.75,2,     -999.0,9, -999.00,1, 20140426,     1107, -30.3328,-149.9999,    34.8709,3,     -999.0,1,     -999.0,9,     -999.0,9,     -999.0,9,     -999.0,9,     -999.0,9