BOTTLE,20230715CCHSIOCBG
EXPOCODE,SECT_ID,STNNBR,CASTNO,SAMPNO,BTLNBR,BTLNBR_FLAG_W,DATE,TIME,LATITUDE,LONGITUDE,DEPTH,CTDPRS,CTDTMP,CTDSAL,CTDSAL_FLAG_W,SALNTY,SALNTY_FLAG_W,CTDOXY,CTDOXY_FLAG_W,OXYGEN,OXYGEN_FLAG_W,SILCAT,SILCAT_FLAG_W,NITRAT,NITRAT_FLAG_W,NITRIT,NITRIT_FLAG_W,PHSPHT,PHSPHT_FLAG_W,CFC-11,CFC-11_FLAG_W,CFC-12,CFC-12_FLAG_W,SF6,SF6_FLAG_W,TCARBN,TCARBN_FLAG_W,ALKALI,ALKALI_FLAG_W,PH_TOT,PH_TOT_FLAG_W,PH_TMP,TRITUM,TRITUM_FLAG_W,HELIUM,HELIUM_FLAG_W,DELHE3,DELHE3_FLAG_W,REFTMP,REFTMP_FLAG_W,DELC13,DELC13_FLAG_W,DELC14,DELC14_FLAG_W,DELO18,DELO18_FLAG_W,DOC,DOC_FLAG_W,TDN,TDN_FLAG_W,N2O,N2O_FLAG_W,CALCIUM,CALCIUM_FLAG_W,D15N_NO3,D15N_NO3_FLAG_W,BTL_DATE,BTL_TIME,BTL_LAT,BTL_LON,SALTREF,SALTREF_FLAG_W,D18O_NO3,D18O_NO3_FLAG_W,DSI30,DSI30_FLAG_W,CDOM_NASA,CDOM_NASA_FLAG_W,CDOM_UCSB,CDOM_UCSB_FLAG_W,D15N_NO2+NO3,D15N_NO2+NO3_FLAG_W,D18O_NO2+NO3,D18O_NO2+NO3_FLAG_W
,,,,,,,,,,,METERS,DBAR,ITS-90,PSS-78,,PSS-78,,UMOL/KG,,UMOL/KG,,UMOL/KG,,UMOL/KG,,UMOL/KG,,UMOL/KG,,PMOL/KG,,PMOL/KG,,FMOL/KG,,UMOL/KG,,UMOL/KG,,,,DEG C,TU,,NMOL/KG,,PERCNT,,DEG C,,/MILLE,,/MILLE,,/MILLE,,UMOL/KG,,UMOL/KG,,NMOL/KG,,MMOL/KG,,/MILLE,,,,,,G/KG,,/MILLE,,/MILLE,,,,,,/MILLE,,/MILLE,
320620140320,       P16S,      29,          1,          5,         05,2,20140411,       2038,   -54.0026,  -149.9817,       3513,  2600.1,   1.6243,  34.7346,2,  34.7347,2,    196.2,2,   196.7,2,   98.97,2,   31.37,2,    0.00,2,    2.14,2,   0.138,2,   0.035,2,    0.10,2,  2253.8,2,    2357,2,   7.6751,2,       20,-999.000,9,-999.0000,9, -999.00,9,   1.6245,2,    0.46,2,  -155.7,2, -999.00,9,    38.7,2, -999.00,9,      21.14,2,     -999.0,9, -999.00,9, 20140411,     2058, -54.0033,-149.9763,    34.8985,2,     -999.0,9,     -999.0,9,     -999.0,9,     -999.0,9,     -999.0,9,     -999.0,9
320620140320,       P16S,      29,          1,          4,         04,2,20140411,       2038,   -54.0026,  -149.9817,       3513,  2801.4,   1.4704,  34.7317,2,  34.7320,2,    198.5,2,   198.4,2,  103.46,2,   31.46,2,    0.00,2,    2.16,2,   0.132,2,   0.036,2,    0.02,2,    2256,2,  2359.2,2,   7.6747,2,       20,-999.000,9,-999.0000,9, -999.00,9,   1.4712,2,    0.48,2,  -155.1,2, -999.00,9,    39.5,2, -999.00,9,      20.65,2,     -999.0,9, -999.00,9, 20140411,     2053, -54.0033,-149.9775,    34.8957,2,     -999.0,9,     -999.0,9,     -999.0,9,     -999.0,1,     -999.0,9,     -999.0,9
320620140320,       P16S,      29,          1,          3,         03,2,20140411,       2038,   -54.0026,  -149.9817,       3513,  3100.9,   1.3119,  34.7258,2,  34.7261,2,    200.8,2,   200.6,2,  108.93,2,   31.72,2,    0.00,2,    2.16,2,   0.125,2,   0.025,2,    0.12,2,  2257.3,2,  2361.6,2,   7.6749,6,       20,-999.000,9,-999.0000,9, -999.00,9,   1.3117,2,    0.51,2,  -153.4,2, -999.00,9,    40.4,2, -999.00,9,      20.80,2,     -999.0,9, -999.00,9, 20140411,     2048, -54.0032,-149.9792,    34.8898,2,     -999.0,9,     -999.0,9,     -999.0,9,     -999.0,9,     -999.0,9,     -999.0,9
320620140320,       P16S,      29,          1,          2,         02,2,20140411,       2038,   -54.0026,  -149.9817,       3513,  3398.4,   1.1575,  34.7193,2,  34.7192,2,    202.7,2,   203.0,2,  114.60,2,   31.87,2,    0.00,2,    2.19,2,   0.136,2,   0.036,2,    0.08,2,    2259,2,  2363.1,6,   7.6735,2,       20,-999.000,9,-999.0000,9, -999.00,9,   1.1569,2,    0.52,2,  -159.1,2, -999.00,9,    42.2,2, -999.00,9,      21.17,2,     -999.0,9, -999.00,9, 20140411,     2042, -54.0030,-149.9808,    34.8829,2,     -999.0,9,     -999.0,9,     -999.0,9,     -999.0,1,     -999.0,9,     -999.0,9
320620140320,       P16S,      29,          1,          1,         01,2,20140411,       2038,   -54.0026,  -149.9817,       3513,  3587.7,   1.0995,  34.7165,2,  34.7166,2,    203.9,2,   203.7,2,  117.04,2,   32.04,2,    0.00,2,    2.19,2,   0.149,2,   0.040,2,    0.13,2,  2260.8,6,  2363.8,2,   7.6734,2,       20,-999.000,9,-999.0000,9, -999.00,9,   1.1007,2,    0.52,2,  -157.9,2, -999.00,9,    40.9,2, -999.00,9,      20.52,2,     -999.0,9, -999.00,9, 20140411,     2038, -54.0026,-149.9817,    34.8803,2,     -999.0,9,     -999.0,9,     -999.0,9,     -999.0,9,     -999.0,9,     -999.0,9