BOTTLE,20230715CCHSIOCBG
EXPOCODE,SECT_ID,STNNBR,CASTNO,SAMPNO,BTLNBR,BTLNBR_FLAG_W,DATE,TIME,LATITUDE,LONGITUDE,DEPTH,CTDPRS,CTDTMP,CTDSAL,CTDSAL_FLAG_W,SALNTY,SALNTY_FLAG_W,CTDOXY,CTDOXY_FLAG_W,OXYGEN,OXYGEN_FLAG_W,SILCAT,SILCAT_FLAG_W,NITRAT,NITRAT_FLAG_W,NITRIT,NITRIT_FLAG_W,PHSPHT,PHSPHT_FLAG_W,CFC-11,CFC-11_FLAG_W,CFC-12,CFC-12_FLAG_W,SF6,SF6_FLAG_W,TCARBN,TCARBN_FLAG_W,ALKALI,ALKALI_FLAG_W,PH_TOT,PH_TOT_FLAG_W,PH_TMP,TRITUM,TRITUM_FLAG_W,HELIUM,HELIUM_FLAG_W,DELHE3,DELHE3_FLAG_W,REFTMP,REFTMP_FLAG_W,DELC13,DELC13_FLAG_W,DELC14,DELC14_FLAG_W,DELO18,DELO18_FLAG_W,DOC,DOC_FLAG_W,TDN,TDN_FLAG_W,N2O,N2O_FLAG_W,CALCIUM,CALCIUM_FLAG_W,D15N_NO3,D15N_NO3_FLAG_W,BTL_DATE,BTL_TIME,BTL_LAT,BTL_LON,SALTREF,SALTREF_FLAG_W,D18O_NO3,D18O_NO3_FLAG_W,DSI30,DSI30_FLAG_W,CDOM_NASA,CDOM_NASA_FLAG_W,CDOM_UCSB,CDOM_UCSB_FLAG_W,D15N_NO2+NO3,D15N_NO2+NO3_FLAG_W,D18O_NO2+NO3,D18O_NO2+NO3_FLAG_W
,,,,,,,,,,,METERS,DBAR,ITS-90,PSS-78,,PSS-78,,UMOL/KG,,UMOL/KG,,UMOL/KG,,UMOL/KG,,UMOL/KG,,UMOL/KG,,PMOL/KG,,PMOL/KG,,FMOL/KG,,UMOL/KG,,UMOL/KG,,,,DEG C,TU,,NMOL/KG,,PERCNT,,DEG C,,/MILLE,,/MILLE,,/MILLE,,UMOL/KG,,UMOL/KG,,NMOL/KG,,MMOL/KG,,/MILLE,,,,,,G/KG,,/MILLE,,/MILLE,,,,,,/MILLE,,/MILLE,
320620140320,       P16S,      57,          1,         36,         36,2,20140422,       1720,   -37.0001,  -149.9998,       5929,     5.3,  18.9800,  34.9908,2,  34.9907,2,    233.5,2,   233.3,2,    0.00,2,    0.21,2,    0.00,2,    0.10,2,   2.284,2,   1.360,2,    1.67,2,    2045,2,  2300.8,2,    8.046,2,       20,-999.000,9,-999.0000,9, -999.00,9,  18.9801,2, -999.00,9,  -999.0,9, -999.00,9,  -999.0,9, -999.00,9,       7.70,2,     -999.0,9, -999.00,9, 20140422,     1950, -37.0001,-149.9998,    35.1557,2,     -999.0,9,     -999.0,9,     -999.0,9,     -999.0,9,     -999.0,9,     -999.0,9
320620140320,       P16S,      57,          1,         35,         35,2,20140422,       1720,   -37.0001,  -149.9998,       5929,    24.1,  18.9865,  34.9937,2,  34.9951,2,    234.0,2,   233.0,2,    0.10,2,    0.21,2,    0.00,2,    0.10,2,   2.201,2,   1.357,2,    1.58,2,  2044.6,2,  2300.5,2,   8.0462,2,       20,-999.000,9,-999.0000,9, -999.00,9,  18.9849,2, -999.00,9,  -999.0,9, -999.00,9,  -999.0,9, -999.00,9,       7.84,2,     -999.0,9, -999.00,9, 20140422,     1948, -37.0001,-149.9998,    35.1601,2,     -999.0,9,     -999.0,9,     -999.0,9,     -999.0,9,     -999.0,9,     -999.0,9
320620140320,       P16S,      57,          1,         34,         34,2,20140422,       1720,   -37.0001,  -149.9998,       5929,    49.0,  18.9838,  35.0535,2,  33.0943,4,    232.7,2,   234.8,2,    0.39,2,    0.19,2,    0.00,2,    0.09,2,   2.234,2,   1.367,2,    1.62,2,  2046.7,2,  2304.9,2,   8.0483,2,       20,-999.000,9,-999.0000,9, -999.00,9,  19.0545,3, -999.00,9,  -999.0,9, -999.00,9,  -999.0,9, -999.00,9,       8.20,2,     -999.0,9, -999.00,9, 20140422,     1947, -37.0001,-149.9998,    33.2503,4,     -999.0,9,     -999.0,9,     -999.0,9,     -999.0,9,     -999.0,9,     -999.0,9
320620140320,       P16S,      57,          1,         33,         33,2,20140422,       1720,   -37.0001,  -149.9998,       5929,    74.4,  15.7597,  34.9822,2,  34.9738,2,    260.7,2,   259.5,2,    0.20,2,    0.19,2,    0.00,2,    0.13,2,   2.649,2,   1.568,2,    1.72,2,  2054.1,2,    2302,2,   8.0289,2,       20,-999.000,9,-999.0000,9, -999.00,9,  15.7609,2, -999.00,9,  -999.0,9, -999.00,9,  -999.0,9, -999.00,9,       8.98,2,     -999.0,9, -999.00,9, 20140422,     1945, -37.0001,-149.9998,    35.1387,2,     -999.0,9,     -999.0,9,     -999.0,9,     -999.0,9,     -999.0,9,     -999.0,9
320620140320,       P16S,      57,          1,         32,         32,2,20140422,       1720,   -37.0001,  -149.9998,       5929,    99.2,  14.6849,  34.9756,2,  34.9697,2,    251.4,2,   251.4,2,    0.10,2,    0.42,2,    0.03,2,    0.18,2,-999.000,9,-999.000,9, -999.00,9,  2064.7,2,  2300.7,2,   8.0107,2,       20,-999.000,9,-999.0000,9, -999.00,9,  14.6835,2, -999.00,9,  -999.0,9, -999.00,9,  -999.0,9, -999.00,9,     -999.0,9,     -999.0,9, -999.00,9, 20140422,     1943, -37.0001,-149.9998,    35.1346,2,     -999.0,9,     -999.0,9,     -999.0,9,     -999.0,9,     -999.0,9,     -999.0,9
320620140320,       P16S,      57,          1,         31,         31,2,20140422,       1720,   -37.0001,  -149.9998,       5929,   149.3,  13.3662,  34.7979,2,  34.8466,3,    237.6,2,   239.8,2,    0.39,2,    2.64,2,    0.46,2,    0.34,2,   2.656,2,   1.643,2,    1.84,2,  2078.9,6,  2294.5,2,   7.9711,2,       20,-999.000,9,-999.0000,9, -999.00,9,  13.3868,2, -999.00,9,  -999.0,9, -999.00,9,  -999.0,9, -999.00,9,      10.53,2,     -999.0,9, -999.00,9, 20140422,     1941, -37.0001,-149.9998,    35.0109,3,     -999.0,9,     -999.0,9,     -999.0,9,     -999.0,9,     -999.0,9,     -999.0,9
320620140320,       P16S,      57,          1,         30,         30,2,20140422,       1720,   -37.0001,  -149.9998,       5929,   199.5,  11.3237,  34.5889,2,  34.5952,2,    241.8,2,   242.4,2,    0.88,2,    7.66,2,    0.14,2,    0.66,2,   3.033,2,   1.865,2,    1.81,2,  2096.4,2,  2285.8,2,   7.9114,6,       20,-999.000,9,-999.0000,9, -999.00,9,  11.3188,2, -999.00,9,  -999.0,9, -999.00,9,  -999.0,9, -999.00,9,      13.06,2,     -999.0,9, -999.00,9, 20140422,     1939, -37.0001,-149.9998,    34.7583,2,     -999.0,9,     -999.0,9,     -999.0,9,     -999.0,9,     -999.0,9,     -999.0,9
320620140320,       P16S,      57,          1,         29,         29,2,20140422,       1720,   -37.0001,  -149.9998,       5929,   248.8,  10.5313,  34.6532,2,  34.6515,2,    218.7,2,   218.8,2,    2.35,2,   13.66,2,    0.01,2,    1.00,2,   3.325,2,   1.773,2,    1.23,2,  2123.1,2,  2286.8,6,   7.8528,2,       20,-999.000,9,-999.0000,9, -999.00,9,  10.5153,2, -999.00,9,  -999.0,9, -999.00,9,  -999.0,9, -999.00,9,      17.50,2,     -999.0,9, -999.00,9, 20140422,     1937, -37.0001,-149.9998,    34.8149,2,     -999.0,9,     -999.0,9,     -999.0,9,     -999.0,9,     -999.0,9,     -999.0,9
320620140320,       P16S,      57,          1,         28,         28,2,20140422,       1720,   -37.0001,  -149.9998,       5929,   298.5,   9.3438,  34.5512,2,  34.5529,2,    225.6,2,   228.6,2,    3.13,2,   15.80,2,    0.01,2,    1.11,2,   3.084,2,   1.957,2,    1.31,2,  2129.7,2,  2284.4,2,   7.8321,2,       20,-999.000,9,-999.0000,9, -999.00,9,   9.3420,2, -999.00,9,  -999.0,9, -999.00,9,  -999.0,9, -999.00,9,      19.01,2,     -999.0,9, -999.00,9, 20140422,     1934, -37.0001,-149.9998,    34.7159,2,     -999.0,9,     -999.0,9,     -999.0,9,     -999.0,9,     -999.0,9,     -999.0,9
320620140320,       P16S,      57,          1,         27,         27,2,20140422,       1720,   -37.0001,  -149.9998,       5929,   349.4,   8.5908,  34.4977,2,  34.4946,2,    236.0,2,   238.9,2,    3.62,2,   17.45,2,    0.00,2,    1.22,2,-999.000,9,-999.000,9, -999.00,9,  2133.3,2,  2283.2,2,   7.8201,2,       20,-999.000,9,-999.0000,9, -999.00,9,   8.5859,2, -999.00,9,  -999.0,9, -999.00,9,  -999.0,9, -999.00,9,     -999.0,9,     -999.0,9, -999.00,9, 20140422,     1932, -37.0001,-149.9998,    34.6573,2,     -999.0,9,     -999.0,9,     -999.0,9,     -999.0,9,     -999.0,9,     -999.0,9
320620140320,       P16S,      57,          1,         26,         26,2,20140422,       1720,   -37.0001,  -149.9998,       5929,   399.8,   8.0501,  34.4611,2,  34.4622,2,    241.9,2,   243.6,2,    4.30,2,   18.58,2,    0.00,2,    1.29,2,   3.547,2,   2.031,2,    1.45,2,    2137,2,  2281.8,2,   7.8129,2,       20,-999.000,9,-999.0000,9, -999.00,9,   8.0522,2, -999.00,9,  -999.0,9, -999.00,9,  -999.0,9, -999.00,9,      17.88,2,     -999.0,9, -999.00,9, 20140422,     1930, -37.0001,-149.9998,    34.6247,2,     -999.0,9,     -999.0,9,     -999.0,9,     -999.0,9,     -999.0,9,     -999.0,9
320620140320,       P16S,      57,          1,         25,         25,2,20140422,       1720,   -37.0001,  -149.9998,       5929,   499.6,   7.4632,  34.4176,2,  34.4179,2,    244.3,2,   245.5,2,    5.57,2,   20.56,2,    0.00,2,    1.41,2,   3.659,2,   2.077,2,    1.46,2,  2140.9,2,  2281.6,2,   7.7998,2,       20,-999.000,9,-999.0000,9, -999.00,9,   7.4637,2, -999.00,9,  -999.0,9, -999.00,9,  -999.0,9, -999.00,9,      17.41,2,     -999.0,9, -999.00,9, 20140422,     1927, -37.0001,-149.9998,    34.5801,2,     -999.0,9,     -999.0,9,     -999.0,9,     -999.0,9,     -999.0,9,     -999.0,9
320620140320,       P16S,      57,          1,         24,         24,2,20140422,       1720,   -37.0001,  -149.9998,       5929,   599.0,   7.0103,  34.3768,2,  34.3762,2,    243.3,2,   244.5,2,    7.04,2,   21.96,2,    0.00,2,    1.51,2,   3.795,2,   1.911,2,    1.11,2,  2144.9,2,  2281.2,2,   7.7917,2,       20,-999.000,9,-999.0000,9, -999.00,9,   7.0116,2, -999.00,9,  -999.0,9, -999.00,9,  -999.0,9, -999.00,9,      15.86,2,     -999.0,9, -999.00,9, 20140422,     1924, -37.0001,-149.9998,    34.5383,2,     -999.0,9,     -999.0,9,     -999.0,9,     -999.0,9,     -999.0,9,     -999.0,9
320620140320,       P16S,      57,          1,         23,         23,2,20140422,       1720,   -37.0001,  -149.9998,       5929,   698.8,   6.5726,  34.3418,2,  34.3433,2,    242.1,2,   242.5,2,    8.51,2,   23.22,2,    0.00,2,    1.57,2,   3.347,2,   1.833,2,    0.78,2,  2146.8,6,  2280.8,2,   7.7837,2,       20,-999.000,9,-999.0000,9, -999.00,9,   6.5724,2, -999.00,9,  -999.0,9, -999.00,9,  -999.0,9, -999.00,9,      17.00,2,     -999.0,9, -999.00,9, 20140422,     1921, -37.0001,-149.9998,    34.5052,2,     -999.0,9,     -999.0,9,     -999.0,9,     -999.0,9,     -999.0,9,     -999.0,9
320620140320,       P16S,      57,          1,         22,         22,2,20140422,       1720,   -37.0001,  -149.9998,       5929,   800.8,   6.1370,  34.3193,2,  34.3190,2,    236.3,2,   234.5,2,   11.34,2,   25.07,2,    0.00,2,    1.69,2,   3.007,2,   1.509,2,    0.44,2,  2154.2,2,  2282.4,2,   7.7667,2,       20,-999.000,9,-999.0000,9, -999.00,9,   6.1328,2, -999.00,9,  -999.0,9, -999.00,9,  -999.0,9, -999.00,9,      17.29,2,     -999.0,9, -999.00,9, 20140422,     1918, -37.0001,-149.9998,    34.4808,2,     -999.0,9,     -999.0,9,     -999.0,9,     -999.0,9,     -999.0,9,     -999.0,9
320620140320,       P16S,      57,          1,         21,         21,2,20140422,       1720,   -37.0001,  -149.9998,       5929,   899.9,   5.6801,  34.3095,2,  34.3097,2,    224.9,2,   223.5,2,   15.74,2,   26.97,2,    0.00,2,    1.83,2,   2.284,2,   1.194,2,    0.33,2,  2165.3,2,  2285.2,2,   7.7438,2,       20,-999.000,9,-999.0000,9, -999.00,9,   5.6758,2, -999.00,9,  -999.0,9, -999.00,9,  -999.0,9, -999.00,9,      18.05,2,     -999.0,9, -999.00,9, 20140422,     1915, -37.0001,-149.9998,    34.4715,2,     -999.0,9,     -999.0,9,     -999.0,9,     -999.0,9,     -999.0,9,     -999.0,9
320620140320,       P16S,      57,          1,         20,         20,2,20140422,       1720,   -37.0001,  -149.9998,       5929,  1000.4,   5.0451,  34.3121,2,  34.3131,2,    211.8,2,   211.0,2,   22.59,2,   29.20,2,    0.00,2,    1.99,2,   1.689,2,   0.867,2,    0.15,2,  2180.7,2,  2290.8,2,   7.7148,2,       20,-999.000,9,-999.0000,9, -999.00,9,   5.0473,2, -999.00,9,  -999.0,9, -999.00,9,  -999.0,9, -999.00,9,      19.34,2,     -999.0,9, -999.00,9, 20140422,     1912, -37.0001,-149.9998,    34.4749,2,     -999.0,9,     -999.0,9,     -999.0,9,     -999.0,9,     -999.0,9,     -999.0,9
320620140320,       P16S,      57,          1,         19,         19,2,20140422,       1720,   -37.0001,  -149.9998,       5929,  1100.7,   4.4968,  34.3249,2,  34.3258,2,    202.4,2,   202.2,2,   30.31,2,   31.03,2,    0.00,2,    2.14,2,   1.218,2,   0.616,2,    0.10,2,  2194.5,2,  2297.5,2,   7.6904,2,       20,-999.000,9,-999.0000,9, -999.00,9,   4.4926,2, -999.00,9,  -999.0,9, -999.00,9,  -999.0,9, -999.00,9,      20.85,2,     -999.0,9, -999.00,9, 20140422,     1910, -37.0001,-149.9998,    34.4877,2,     -999.0,9,     -999.0,9,     -999.0,9,     -999.0,9,     -999.0,9,     -999.0,9
320620140320,       P16S,      57,          1,         18,         18,2,20140422,       1720,   -37.0001,  -149.9998,       5929,  1200.6,   3.9445,  34.3492,2,  34.3507,2,    193.5,2,   193.6,2,   39.31,2,   32.48,2,    0.00,2,    2.25,2,   0.912,2,   0.436,2,    0.08,2,  2209.9,2,  2305.2,2,   7.6699,2,       20,-999.000,9,-999.0000,9, -999.00,9,   3.9447,2, -999.00,9,  -999.0,9, -999.00,9,  -999.0,9, -999.00,9,      21.38,2,     -999.0,9, -999.00,9, 20140422,     1906, -37.0001,-149.9998,    34.5127,2,     -999.0,9,     -999.0,9,     -999.0,9,     -999.0,9,     -999.0,9,     -999.0,9
320620140320,       P16S,      57,          1,         17,         17,2,20140422,       1720,   -37.0001,  -149.9998,       5929,  1300.0,   3.5469,  34.3816,2,  34.3819,2,    186.6,2,   187.1,2,   47.42,2,   33.39,2,    0.00,2,    2.32,2,   0.620,2,   0.314,2,    0.03,2,  2221.6,2,  2313.4,2,   7.6554,2,       20,-999.000,9,-999.0000,9, -999.00,9,   3.5435,2, -999.00,9,  -999.0,9, -999.00,9,  -999.0,9, -999.00,9,      22.50,2,     -999.0,9, -999.00,9, 20140422,     1904, -37.0001,-149.9998,    34.5441,2,     -999.0,9,     -999.0,9,     -999.0,9,     -999.0,9,     -999.0,9,     -999.0,9
320620140320,       P16S,      57,          1,         16,         16,2,20140422,       1720,   -37.0001,  -149.9998,       5929,  1399.8,   3.1978,  34.4293,2,  34.4308,2,    178.6,2,   179.0,2,   57.10,2,   34.12,2,    0.00,2,    2.38,2,   0.403,2,   0.195,2,    0.02,2,  2235.5,2,  2321.6,2,   7.6416,2,       20,-999.000,9,-999.0000,9, -999.00,9,   3.1990,2, -999.00,9,  -999.0,9, -999.00,9,  -999.0,9, -999.00,9,      22.87,2,     -999.0,9, -999.00,9, 20140422,     1901, -37.0001,-149.9998,    34.5932,2,     -999.0,9,     -999.0,9,     -999.0,9,     -999.0,9,     -999.0,9,     -999.0,9
320620140320,       P16S,      57,          1,         15,         15,2,20140422,       1720,   -37.0001,  -149.9998,       5929,  1599.4,   2.7771,  34.5324,2,  34.5337,2,    165.1,2,   164.2,2,   77.33,2,   34.90,2,    0.00,2,    2.42,2,   0.070,2,   0.021,2,    0.02,2,  2259.7,2,  2345.4,2,   7.6327,2,       20,-999.000,9,-999.0000,9, -999.00,9,   2.7769,2, -999.00,9,  -999.0,9, -999.00,9,  -999.0,9, -999.00,9,      24.08,2,     -999.0,9, -999.00,9, 20140422,     1856, -37.0001,-149.9998,    34.6965,2,     -999.0,9,     -999.0,9,     -999.0,9,     -999.0,9,     -999.0,9,     -999.0,9
320620140320,       P16S,      57,          1,         14,         14,2,20140422,       1720,   -37.0001,  -149.9998,       5929,  1799.8,   2.5250,  34.5935,2,  34.5946,2,    156.4,2,   156.0,2,   95.12,2,   35.26,2,    0.00,2,    2.46,2,   0.015,2,   0.004,2,    0.00,2,  2280.7,2,  2366.6,2,   7.6331,2,       20,-999.000,9,-999.0000,9, -999.00,9,   2.5258,2, -999.00,9,  -999.0,9, -999.00,9,  -999.0,9, -999.00,9,      24.02,2,     -999.0,9, -999.00,9, 20140422,     1851, -37.0001,-149.9998,    34.7577,2,     -999.0,9,     -999.0,9,     -999.0,9,     -999.0,9,     -999.0,9,     -999.0,9
320620140320,       P16S,      57,          1,         13,         13,2,20140422,       1720,   -37.0001,  -149.9998,       5929,  1999.6,   2.3455,  34.6197,2,  34.6203,2,    151.9,2,   152.1,2,  105.19,2,   35.52,2,    0.00,2,    2.48,2,   0.005,2,   0.001,2,    0.00,2,    2291,2,  2379.2,2,   7.6329,2,       20,-999.000,9,-999.0000,9, -999.00,9,   2.3448,2, -999.00,9,  -999.0,9, -999.00,9,  -999.0,9, -999.00,9,      23.34,2,     -999.0,9, -999.00,9, 20140422,     1846, -37.0001,-149.9998,    34.7836,2,     -999.0,9,     -999.0,9,     -999.0,9,     -999.0,9,     -999.0,9,     -999.0,9
320620140320,       P16S,      57,          1,         12,         12,4,20140422,       1720,   -37.0001,  -149.9998,       5929,  2249.5,   2.1686,  34.6386,2,  34.6720,4,    150.3,2,   169.0,4,  118.58,4,   34.62,4,    0.00,4,    2.40,4,   0.013,4,   0.002,4,    0.00,4,  2291.3,4,  2385.6,4,   7.6494,4,       20,-999.000,9,-999.0000,9, -999.00,9,   2.1681,2, -999.00,9,  -999.0,9, -999.00,9,  -999.0,9, -999.00,9,      22.42,4,     -999.0,9, -999.00,9, 20140422,     1841, -37.0001,-149.9998,    34.8355,4,     -999.0,9,     -999.0,9,     -999.0,9,     -999.0,9,     -999.0,9,     -999.0,9
320620140320,       P16S,      57,          1,         11,         11,2,20140422,       1720,   -37.0001,  -149.9998,       5929,  2501.5,   2.0288,  34.6507,2,  34.6514,2,    149.7,2,   149.8,2,  119.36,2,   35.89,2,    0.00,2,    2.50,2,   0.003,2,   0.001,2,    0.00,2,    2307,6,  2394.9,2,    7.634,2,       20,-999.000,9,-999.0000,9, -999.00,9,   2.0285,2, -999.00,9,  -999.0,9, -999.00,9,  -999.0,9, -999.00,9,      23.47,2,     -999.0,9, -999.00,9, 20140422,     1835, -37.0000,-149.9998,    34.8147,2,     -999.0,9,     -999.0,9,     -999.0,9,     -999.0,9,     -999.0,9,     -999.0,9
320620140320,       P16S,      57,          1,         10,         10,2,20140422,       1720,   -37.0001,  -149.9998,       5929,  2750.0,   1.9088,  34.6601,2,  34.6606,2,    150.4,2,   150.2,2,  124.74,2,   35.98,2,    0.00,2,    2.52,2,-999.000,9,-999.000,9, -999.00,9,  2310.4,2,  2399.3,2,   7.6351,6,       20,-999.000,9,-999.0000,9, -999.00,9,   1.9090,2, -999.00,9,  -999.0,9, -999.00,9,  -999.0,9, -999.00,9,     -999.0,9,     -999.0,9, -999.00,9, 20140422,     1830, -37.0000,-149.9998,    34.8240,2,     -999.0,9,     -999.0,9,     -999.0,9,     -999.0,9,     -999.0,9,     -999.0,9
320620140320,       P16S,      57,          1,          9,         09,2,20140422,       1720,   -37.0001,  -149.9998,       5929,  3000.2,   1.8213,  34.6682,2,  34.6686,2,    152.2,2,   152.5,2,  127.18,2,   35.86,2,    0.00,2,    2.51,2,   0.004,2,   0.002,2,    0.00,2,  2311.2,2,  2402.1,6,   7.6377,2,       20,-999.000,9,-999.0000,9, -999.00,9,   1.8207,2, -999.00,9,  -999.0,9, -999.00,9,  -999.0,9, -999.00,9,      22.97,2,     -999.0,9, -999.00,9, 20140422,     1824, -37.0001,-149.9998,    34.8321,2,     -999.0,9,     -999.0,9,     -999.0,9,     -999.0,9,     -999.0,9,     -999.0,9
320620140320,       P16S,      57,          1,          8,         08,2,20140422,       1720,   -37.0001,  -149.9998,       5929,  3300.8,   1.7281,  34.6786,2,  34.6789,2,    158.7,2,   158.9,2,  126.99,2,   35.42,2,    0.00,2,    2.47,2,-999.000,9,-999.000,9, -999.00,9,  2306.8,2,  2399.7,2,    7.643,2,       20,-999.000,9,-999.0000,9, -999.00,9,   1.7278,2, -999.00,9,  -999.0,9, -999.00,9,  -999.0,9, -999.00,9,     -999.0,9,     -999.0,9, -999.00,9, 20140422,     1818, -37.0001,-149.9998,    34.8424,2,     -999.0,9,     -999.0,9,     -999.0,9,     -999.0,9,     -999.0,9,     -999.0,9
320620140320,       P16S,      57,          1,          7,         07,2,20140422,       1720,   -37.0001,  -149.9998,       5929,  3599.8,   1.6347,  34.6915,2,  34.6924,2,    169.5,2,   169.9,2,  122.59,2,   34.51,2,    0.00,2,    2.40,2,   0.003,2,   0.001,2,    0.03,2,  2294.1,2,  2394.4,2,   7.6529,2,       20,-999.000,9,-999.0000,9, -999.00,9,   1.6344,2, -999.00,9,  -999.0,9, -999.00,9,  -999.0,9, -999.00,9,      22.42,2,     -999.0,9, -999.00,9, 20140422,     1811, -37.0001,-149.9997,    34.8560,2,     -999.0,9,     -999.0,9,     -999.0,9,     -999.0,9,     -999.0,9,     -999.0,9
320620140320,       P16S,      57,          1,          6,         06,2,20140422,       1720,   -37.0001,  -149.9998,       5929,  3999.7,   1.4721,  34.7083,2,  34.7087,2,    187.3,2,   187.5,2,  115.45,2,   33.09,2,    0.00,2,    2.29,2,-999.000,9,-999.000,9, -999.00,9,  2274.7,2,  2375.6,2,   7.6656,2,       20,-999.000,9,-999.0000,9, -999.00,9,   1.4721,2, -999.00,9,  -999.0,9, -999.00,9,  -999.0,9, -999.00,9,     -999.0,9,     -999.0,9, -999.00,9, 20140422,     1803, -37.0001,-149.9997,    34.8724,2,     -999.0,9,     -999.0,9,     -999.0,9,     -999.0,9,     -999.0,9,     -999.0,9