BOTTLE,20230715CCHSIOCBG
EXPOCODE,SECT_ID,STNNBR,CASTNO,SAMPNO,BTLNBR,BTLNBR_FLAG_W,DATE,TIME,LATITUDE,LONGITUDE,DEPTH,CTDPRS,CTDTMP,CTDSAL,CTDSAL_FLAG_W,SALNTY,SALNTY_FLAG_W,CTDOXY,CTDOXY_FLAG_W,OXYGEN,OXYGEN_FLAG_W,SILCAT,SILCAT_FLAG_W,NITRAT,NITRAT_FLAG_W,NITRIT,NITRIT_FLAG_W,PHSPHT,PHSPHT_FLAG_W,CFC-11,CFC-11_FLAG_W,CFC-12,CFC-12_FLAG_W,SF6,SF6_FLAG_W,TCARBN,TCARBN_FLAG_W,ALKALI,ALKALI_FLAG_W,PH_TOT,PH_TOT_FLAG_W,PH_TMP,TRITUM,TRITUM_FLAG_W,HELIUM,HELIUM_FLAG_W,DELHE3,DELHE3_FLAG_W,REFTMP,REFTMP_FLAG_W,DELC13,DELC13_FLAG_W,DELC14,DELC14_FLAG_W,DELO18,DELO18_FLAG_W,DOC,DOC_FLAG_W,TDN,TDN_FLAG_W,N2O,N2O_FLAG_W,CALCIUM,CALCIUM_FLAG_W,D15N_NO3,D15N_NO3_FLAG_W,BTL_DATE,BTL_TIME,BTL_LAT,BTL_LON,SALTREF,SALTREF_FLAG_W,D18O_NO3,D18O_NO3_FLAG_W,DSI30,DSI30_FLAG_W,CDOM_NASA,CDOM_NASA_FLAG_W,CDOM_UCSB,CDOM_UCSB_FLAG_W,D15N_NO2+NO3,D15N_NO2+NO3_FLAG_W,D18O_NO2+NO3,D18O_NO2+NO3_FLAG_W
,,,,,,,,,,,METERS,DBAR,ITS-90,PSS-78,,PSS-78,,UMOL/KG,,UMOL/KG,,UMOL/KG,,UMOL/KG,,UMOL/KG,,UMOL/KG,,PMOL/KG,,PMOL/KG,,FMOL/KG,,UMOL/KG,,UMOL/KG,,,,DEG C,TU,,NMOL/KG,,PERCNT,,DEG C,,/MILLE,,/MILLE,,/MILLE,,UMOL/KG,,UMOL/KG,,NMOL/KG,,MMOL/KG,,/MILLE,,,,,,G/KG,,/MILLE,,/MILLE,,,,,,/MILLE,,/MILLE,
320620140320,       P16S,      29,          1,         36,         36,2,20140411,       2038,   -54.0026,  -149.9817,       3513,     4.4,   7.9711,  33.9762,2,  33.9765,2,    290.6,2,   290.9,2,    2.05,2,   17.97,2,    0.22,2,    1.28,2,   3.488,3,   2.146,2,    2.32,2,  2102.6,2,  2271.6,2,   7.8746,2,       20,-999.000,9,-999.0000,9, -999.00,9,   7.9706,2,    1.74,2,   -21.7,2, -999.00,9,      47,2,   21.45,2,      12.61,2,     -999.0,9, -999.00,1, 20140411,     2212, -54.0064,-149.9532,    34.1367,2,     -999.0,1,     -999.0,9,     -999.0,9,     -999.0,1,     -999.0,1,     -999.0,1
320620140320,       P16S,      29,          1,         34,         34,2,20140411,       2038,   -54.0026,  -149.9817,       3513,    23.9,   7.9708,  33.9762,2,-999.0000,9,   -999.0,9,  -999.0,9, -999.00,9, -999.00,9, -999.00,9, -999.00,9,-999.000,9,-999.000,9, -999.00,9,  -999.0,9,  -999.0,9,-999.0000,9,  -999.00,-999.000,9,-999.0000,9, -999.00,9,   7.9693,2, -999.00,9,  -999.0,9, -999.00,9,  -999.0,9, -999.00,9,     -999.0,9,     -999.0,9, -999.00,9, 20140411,     2210, -54.0063,-149.9539,     -999.0,9,     -999.0,9,     -999.0,9,     -999.0,9,     -999.0,9,     -999.0,9,     -999.0,9
320620140320,       P16S,      29,          1,         35,         35,2,20140411,       2038,   -54.0026,  -149.9817,       3513,    24.0,   7.9709,  33.9763,2,  33.9764,2,    291.2,2,   291.0,2,    2.05,2,   17.98,2,    0.22,2,    1.28,2,   4.072,3,   2.203,2,    2.36,2,  2102.3,2,    2272,2,    7.875,2,       20,-999.000,9,-999.0000,9, -999.00,9,   7.9706,2,    1.76,2,   -17.0,2, -999.00,9,    48.1,2,   22.45,2,      13.01,2,     -999.0,9, -999.00,1, 20140411,     2210, -54.0063,-149.9539,    34.1367,2,     -999.0,1,     -999.0,9,     -999.0,9,     -999.0,1,     -999.0,1,     -999.0,1
320620140320,       P16S,      29,          1,         33,         33,2,20140411,       2038,   -54.0026,  -149.9817,       3513,    49.5,   7.9857,  33.9836,2,  33.9858,2,    291.6,2,   290.3,2,    2.05,2,   17.92,2,    0.22,2,    1.28,2,   4.057,3,   2.170,2,    2.56,2,  2102.2,2,    2273,2,   7.8754,2,       20,-999.000,9,-999.0000,9, -999.00,9,   7.9840,2,    1.69,2,   -16.9,2, -999.00,9,    46.3,2,   21.81,2,      12.02,4,     -999.0,9, -999.00,1, 20140411,     2208, -54.0063,-149.9545,    34.1461,2,     -999.0,1,     -999.0,9,     -999.0,9,     -999.0,1,     -999.0,1,     -999.0,1
320620140320,       P16S,      29,          1,         32,         32,2,20140411,       2038,   -54.0026,  -149.9817,       3513,    49.6,   7.9897,  33.9848,2,-999.0000,9,   -999.0,9,  -999.0,9, -999.00,9, -999.00,9, -999.00,9, -999.00,9,-999.000,9,-999.000,9, -999.00,9,  -999.0,9,  -999.0,9,-999.0000,9,  -999.00,-999.000,9,-999.0000,9, -999.00,9,   7.9898,2, -999.00,9,  -999.0,9, -999.00,9,  -999.0,9, -999.00,9,     -999.0,9,     -999.0,9, -999.00,9, 20140411,     2208, -54.0063,-149.9545,     -999.0,9,     -999.0,9,     -999.0,9,     -999.0,9,     -999.0,9,     -999.0,9,     -999.0,9
320620140320,       P16S,      29,          1,         31,         31,3,20140411,       2038,   -54.0026,  -149.9817,       3513,    76.2,   6.8269,  34.2266,2,  34.2257,2,    282.9,2,   282.2,2,    4.69,2,   18.85,2,    0.48,2,    1.35,2,-999.000,9,-999.000,9, -999.00,9,  -999.0,9,  -999.0,9,-999.0000,9,  -999.00,-999.000,9,-999.0000,9, -999.00,9,   6.8337,2, -999.00,9,  -999.0,9, -999.00,9,  -999.0,9, -999.00,9,     -999.0,9,     -999.0,9, -999.00,1, 20140411,     2206, -54.0061,-149.9552,    34.3871,2,     -999.0,1,     -999.0,9,     -999.0,9,     -999.0,1,     -999.0,1,     -999.0,1
320620140320,       P16S,      29,          1,         30,         30,2,20140411,       2038,   -54.0026,  -149.9817,       3513,    99.2,   6.7865,  34.2665,2,  34.2663,2,    277.5,2,   276.9,2,    5.47,2,   19.71,2,    0.02,2,    1.39,2,-999.000,9,-999.000,9, -999.00,9,  2130.6,2,  2279.4,2,   7.8196,2,       20,-999.000,9,-999.0000,9, -999.00,9,   6.7872,2,    1.36,2,     0.1,2, -999.00,9,    45.8,2,   23.48,2,     -999.0,9,     -999.0,9, -999.00,1, 20140411,     2204, -54.0060,-149.9558,    34.4279,2,     -999.0,1,     -999.0,1,     -999.0,9,     -999.0,1,     -999.0,1,     -999.0,1
320620140320,       P16S,      29,          1,         29,         29,2,20140411,       2038,   -54.0026,  -149.9817,       3513,   123.7,   6.5926,  34.2613,2,  34.2616,2,    277.0,2,   277.5,2,    5.96,2,   20.09,2,    0.01,2,    1.40,2,   4.902,3,   2.259,6,    2.40,6,  2131.7,2,    2280,2,   7.8154,2,       20,-999.000,9,-999.0000,9, -999.00,9,   6.5916,2,    1.32,2,    -3.0,2, -999.00,9,    45.7,2,   23.24,2,      13.64,2,     -999.0,9, -999.00,1, 20140411,     2203, -54.0058,-149.9565,    34.4232,2,     -999.0,1,     -999.0,9,     -999.0,9,     -999.0,1,     -999.0,1,     -999.0,1
320620140320,       P16S,      29,          1,         28,         28,2,20140411,       2038,   -54.0026,  -149.9817,       3513,   152.1,   6.4056,  34.2484,2,  34.2488,2,    276.3,2,   276.0,2,    6.45,2,   20.62,2,    0.01,2,    1.43,2,   3.887,3,   2.203,2,    2.37,2,  2133.3,2,  2279.6,2,   7.8111,2,       20,-999.000,9,-999.0000,9, -999.00,9,   6.4033,2,    1.32,2,    -8.1,2, -999.00,9,    46.2,2,   24.29,2,      13.77,2,     -999.0,9, -999.00,1, 20140411,     2201, -54.0057,-149.9570,    34.4103,2,     -999.0,1,     -999.0,1,     -999.0,9,     -999.0,1,     -999.0,1,     -999.0,1
320620140320,       P16S,      29,          1,         27,         27,2,20140411,       2038,   -54.0026,  -149.9817,       3513,   200.2,   6.0562,  34.2179,2,  34.2180,2,    278.1,2,   277.4,2,    7.13,2,   21.34,2,    0.01,2,    1.48,2,   3.570,3,   2.205,2,    2.24,2,  2135.7,2,  2279.6,2,   7.8057,2,       20,-999.000,9,-999.0000,9, -999.00,9,   6.0553,2,    1.27,2,   -14.3,2, -999.00,9,    42.5,2,   23.53,2,      14.36,2,     -999.0,9, -999.00,1, 20140411,     2159, -54.0056,-149.9576,    34.3794,2,     -999.0,1,     -999.0,1,     -999.0,9,     -999.0,1,     -999.0,1,     -999.0,1
320620140320,       P16S,      29,          1,         26,         26,2,20140411,       2038,   -54.0026,  -149.9817,       3513,   249.7,   5.7520,  34.1964,2,  34.1955,2,    276.9,2,   278.3,2,    7.92,2,   22.05,2,    0.01,2,    1.52,2,   4.395,3,   2.277,2,    2.30,2,  -999.0,9,  -999.0,9,-999.0000,9,  -999.00,-999.000,9,-999.0000,9, -999.00,9,   5.7512,2, -999.00,9,  -999.0,9, -999.00,9,    42.9,2,   25.31,2,      14.61,2,     -999.0,9, -999.00,1, 20140411,     2157, -54.0055,-149.9581,    34.3567,2,     -999.0,1,     -999.0,9,     -999.0,9,     -999.0,1,     -999.0,1,     -999.0,1
320620140320,       P16S,      29,          1,         25,         25,2,20140411,       2038,   -54.0026,  -149.9817,       3513,   301.5,   5.4943,  34.1797,2,  34.1806,2,    276.4,2,   275.6,2,    9.09,2,   22.96,2,    0.00,2,    1.56,2,   3.974,3,   1.870,2,    2.16,2,  2142.6,2,    2279,2,    7.789,2,       20,-999.000,9,-999.0000,9, -999.00,9,   5.4939,2,    1.30,2,   -15.7,2, -999.00,9,    43.9,2,   26.25,2,      14.67,2,     -999.0,9, -999.00,1, 20140411,     2155, -54.0053,-149.9587,    34.3417,2,     -999.0,1,     -999.0,1,     -999.0,9,     -999.0,9,     -999.0,1,     -999.0,1
320620140320,       P16S,      29,          1,         24,         24,2,20140411,       2038,   -54.0026,  -149.9817,       3513,   349.3,   5.2150,  34.1697,2,  34.1694,2,    268.6,2,   267.4,2,   11.24,2,   24.40,2,    0.00,2,    1.67,2,   3.132,3,   2.259,2,    1.98,2,  -999.0,9,  -999.0,9,-999.0000,9,  -999.00,-999.000,9,-999.0000,9, -999.00,9,   5.2141,2, -999.00,9,  -999.0,9, -999.00,9,    44.5,2,   27.01,2,      15.93,2,     -999.0,9, -999.00,1, 20140411,     2153, -54.0052,-149.9594,    34.3305,2,     -999.0,1,     -999.0,9,     -999.0,9,     -999.0,1,     -999.0,1,     -999.0,1
320620140320,       P16S,      29,          1,         23,         23,2,20140411,       2038,   -54.0026,  -149.9817,       3513,   397.9,   5.0627,  34.1921,2,  34.1847,2,    257.9,2,   256.8,2,   13.98,2,   25.71,2,    0.00,2,    1.76,2,   3.147,3,   1.745,2,    2.02,2,  2157.4,2,  2281.2,2,   7.7509,2,       20,-999.000,9,-999.0000,9, -999.00,9,   5.0436,3,    1.21,2,   -30.0,2, -999.00,9,    44.4,2,   29.08,2,      17.20,2,     -999.0,9, -999.00,1, 20140411,     2151, -54.0050,-149.9601,    34.3459,2,     -999.0,1,     -999.0,1,     -999.0,9,     -999.0,9,     -999.0,1,     -999.0,1
320620140320,       P16S,      29,          1,         22,         22,2,20140411,       2038,   -54.0026,  -149.9817,       3513,   450.5,   4.9897,  34.2306,2,  34.2311,2,    238.9,2,   237.8,2,   18.08,2,   27.28,2,    0.00,2,    1.87,2,-999.000,9,-999.000,9, -999.00,9,  -999.0,9,  -999.0,9,-999.0000,9,  -999.00,-999.000,9,-999.0000,9, -999.00,9,   4.9873,2, -999.00,9,  -999.0,9, -999.00,9,    44.7,2,   30.01,2,     -999.0,9,     -999.0,9, -999.00,1, 20140411,     2150, -54.0050,-149.9607,    34.3925,2,     -999.0,1,     -999.0,9,     -999.0,9,     -999.0,1,     -999.0,1,     -999.0,1
320620140320,       P16S,      29,          1,         21,         21,2,20140411,       2038,   -54.0026,  -149.9817,       3513,   499.4,   4.7525,  34.2498,2,  34.2499,2,    228.7,2,   229.3,2,   21.70,2,   28.52,2,    0.00,2,    1.95,2,   3.236,2,   1.748,2,    1.03,2,  2177.9,2,    2286,2,   7.7083,2,       20,-999.000,9,-999.0000,9, -999.00,9,   4.7511,2,    1.05,2,   -37.8,2, -999.00,9,    42.5,2,   32.12,2,      18.94,2,     -999.0,9, -999.00,1, 20140411,     2148, -54.0049,-149.9613,    34.4114,2,     -999.0,1,     -999.0,1,     -999.0,9,     -999.0,9,     -999.0,1,     -999.0,1
320620140320,       P16S,      29,          1,         20,         20,2,20140411,       2038,   -54.0026,  -149.9817,       3513,   597.8,   4.1098,  34.2579,2,  34.2585,2,    220.7,2,   222.3,2,   28.54,2,   30.23,2,    0.00,2,    2.08,2,   2.952,3,   1.564,2,    0.95,2,  2190.3,2,  2291.6,2,   7.6871,2,       20,-999.000,9,-999.0000,9, -999.00,9,   4.1079,2,    0.85,2,   -51.8,2, -999.00,9,    40.2,2, -999.00,9,      20.49,2,     -999.0,9, -999.00,1, 20140411,     2145, -54.0048,-149.9621,    34.4201,2,     -999.0,1,     -999.0,9,     -999.0,9,     -999.0,1,     -999.0,1,     -999.0,1
320620140320,       P16S,      29,          1,         19,         19,2,20140411,       2038,   -54.0026,  -149.9817,       3513,   701.2,   3.7087,  34.3019,2,  34.3025,2,    211.5,2,   210.7,2,   37.23,2,   31.63,2,    0.00,2,    2.19,2,   2.625,2,   1.251,2,    0.69,2,  2203.9,2,  2299.8,6,   7.6683,2,       20,-999.000,9,-999.0000,9, -999.00,9,   3.7102,2,    0.77,2,   -79.8,2, -999.00,9,    41.3,2, -999.00,9,      21.51,2,     -999.0,9, -999.00,1, 20140411,     2142, -54.0047,-149.9628,    34.4642,2,     -999.0,1,     -999.0,9,     -999.0,9,     -999.0,9,     -999.0,1,     -999.0,1
320620140320,       P16S,      29,          1,         18,         18,2,20140411,       2038,   -54.0026,  -149.9817,       3513,   800.1,   3.3249,  34.3349,2,  34.3358,2,    202.0,2,   202.9,2,   44.86,2,   32.85,2,    0.00,2,    2.26,2,   1.924,3,   1.016,2,    0.57,2,  2215.7,6,  2306.7,2,   7.6511,2,       20,-999.000,9,-999.0000,9, -999.00,9,   3.3237,2,    0.74,2,   -83.5,2, -999.00,9,    41.2,2, -999.00,9,      22.73,2,     -999.0,9, -999.00,1, 20140411,     2140, -54.0046,-149.9636,    34.4977,2,     -999.0,1,     -999.0,9,     -999.0,9,     -999.0,1,     -999.0,1,     -999.0,1
320620140320,       P16S,      29,          1,         17,         17,2,20140411,       2038,   -54.0026,  -149.9817,       3513,   899.0,   3.0544,  34.3906,2,  34.3903,2,    191.9,2,   192.0,2,   53.45,2,   33.61,2,    0.00,2,    2.32,2,   1.579,2,   0.812,2,    0.38,2,  2227.1,2,  2315.4,2,   7.6364,6,       20,-999.000,9,-999.0000,9, -999.00,9,   3.0553,2,    0.64,2,  -114.4,2, -999.00,9,    39.3,2, -999.00,9,      23.13,2,     -999.0,9, -999.00,1, 20140411,     2137, -54.0045,-149.9644,    34.5525,2,     -999.0,1,     -999.0,9,     -999.0,9,     -999.0,9,     -999.0,1,     -999.0,1
320620140320,       P16S,      29,          1,         16,         16,2,20140411,       2038,   -54.0026,  -149.9817,       3513,  1001.3,   2.8923,  34.4517,2,  34.4524,2,    182.3,2,   181.7,2,   61.46,2,   34.11,2,    0.00,2,    2.35,2,   1.126,3,   0.610,2,    0.28,2,  2239.1,2,  2324.2,2,   7.6283,2,       20,-999.000,9,-999.0000,9, -999.00,9,   2.8918,2,    0.59,2,  -120.6,2, -999.00,9,      41,2, -999.00,9,      23.45,2,     -999.0,9, -999.00,1, 20140411,     2135, -54.0043,-149.9654,    34.6148,2,     -999.0,1,     -999.0,9,     -999.0,9,     -999.0,1,     -999.0,1,     -999.0,1
320620140320,       P16S,      29,          1,         15,         15,2,20140411,       2038,   -54.0026,  -149.9817,       3513,  1099.1,   2.7715,  34.5002,2,  34.4999,2,    176.5,2,   176.0,2,   67.52,2,   34.23,2,    0.00,2,    2.37,2,   0.857,2,   0.398,2,    0.27,2,    2246,2,  2330.4,2,   7.6247,2,       20,-999.000,9,-999.0000,9, -999.00,9,   2.7718,2,    0.57,2,  -130.9,2, -999.00,9,    39.9,2, -999.00,9,      24.10,2,     -999.0,9, -999.00,1, 20140411,     2132, -54.0042,-149.9663,    34.6626,2,     -999.0,1,     -999.0,9,     -999.0,9,     -999.0,9,     -999.0,1,     -999.0,1
320620140320,       P16S,      29,          1,         14,         14,2,20140411,       2038,   -54.0026,  -149.9817,       3513,  1199.2,   2.6541,  34.5417,2,  34.5419,2,    172.7,2,   172.5,2,   72.40,2,   34.24,2,    0.00,2,    2.36,2,   0.660,2,   0.293,2,    0.22,2,  -999.0,9,  -999.0,9,-999.0000,9,  -999.00,-999.000,9,-999.0000,9, -999.00,9,   2.6535,2, -999.00,9,  -999.0,9, -999.00,9,    42.1,2, -999.00,9,      23.91,2,     -999.0,9, -999.00,1, 20140411,     2129, -54.0041,-149.9670,    34.7048,2,     -999.0,1,     -999.0,9,     -999.0,9,     -999.0,1,     -999.0,1,     -999.0,1
320620140320,       P16S,      29,          1,         13,         13,2,20140411,       2038,   -54.0026,  -149.9817,       3513,  1298.5,   2.5637,  34.5711,2,  34.5713,2,    172.6,2,   172.6,2,   74.36,2,   34.07,2,    0.00,2,    2.34,2,   0.667,2,   0.258,2,    0.23,2,  2252.2,2,  2337.2,2,   7.6251,2,       20,-999.000,9,-999.0000,9, -999.00,9,   2.5634,2,    0.51,2,  -140.8,2, -999.00,9,    39.6,2, -999.00,9,      23.96,2,     -999.0,9, -999.00,1, 20140411,     2127, -54.0040,-149.9676,    34.7343,2,     -999.0,1,     -999.0,9,     -999.0,9,     -999.0,9,     -999.0,1,     -999.0,1
320620140320,       P16S,      29,          1,         12,         12,2,20140411,       2038,   -54.0026,  -149.9817,       3513,  1401.0,   2.4741,  34.6052,2,  34.6045,2,    173.2,2,   173.2,2,   75.43,2,   33.84,2,    0.00,2,    2.33,2,-999.000,9,-999.000,9, -999.00,9,  -999.0,9,  -999.0,9,-999.0000,9,  -999.00,-999.000,9,-999.0000,9, -999.00,9,   2.4743,2, -999.00,9,  -999.0,9, -999.00,9,    40.8,2, -999.00,9,     -999.0,9,     -999.0,9, -999.00,1, 20140411,     2124, -54.0040,-149.9684,    34.7677,2,     -999.0,1,     -999.0,9,     -999.0,9,     -999.0,1,     -999.0,1,     -999.0,1
320620140320,       P16S,      29,          1,         11,         11,2,20140411,       2038,   -54.0026,  -149.9817,       3513,  1500.6,   2.3970,  34.6381,2,  34.6375,2,    173.9,2,   174.4,2,   77.38,2,   33.31,2,    0.00,2,    2.31,2,   0.439,2,   0.177,2,    0.16,2,  2252.3,2,  2340.1,2,    7.631,2,       20,-999.000,9,-999.0000,9, -999.00,9,   2.3962,2,    0.56,2,  -146.7,2, -999.00,9,    41.2,2, -999.00,9,      23.72,2,     -999.0,9, -999.00,1, 20140411,     2121, -54.0040,-149.9692,    34.8008,2,     -999.0,1,     -999.0,9,     -999.0,9,     -999.0,9,     -999.0,1,     -999.0,1
320620140320,       P16S,      29,          1,         10,         10,2,20140411,       2038,   -54.0026,  -149.9817,       3513,  1603.0,   2.3415,  34.6622,2,  34.6607,2,    176.0,2,   176.2,2,   79.63,2,   32.93,2,    0.00,2,    2.26,2,-999.000,9,-999.000,9, -999.00,9,  2252.9,2,    2343,2,   7.6394,2,       20,-999.000,9,-999.0000,9, -999.00,9,   2.3412,2, -999.00,9,  -999.0,9, -999.00,9,    42.9,2, -999.00,9,     -999.0,9,     -999.0,9, -999.00,9, 20140411,     2119, -54.0039,-149.9701,    34.8241,2,     -999.0,9,     -999.0,9,     -999.0,9,     -999.0,1,     -999.0,9,     -999.0,9
320620140320,       P16S,      29,          1,          9,         09,3,20140411,       2038,   -54.0026,  -149.9817,       3513,  1797.3,   2.2189,  34.6943,2,  34.6935,2,    179.5,2,   179.6,2,   83.63,2,   32.35,2,    0.00,2,    2.21,2,-999.000,9,-999.000,9, -999.00,9,  -999.0,9,  -999.0,9,-999.0000,9,  -999.00,-999.000,9,-999.0000,9, -999.00,9,   2.2187,2, -999.00,9,  -999.0,9, -999.00,9,      41,2, -999.00,9,     -999.0,9,     -999.0,9, -999.00,9, 20140411,     2114, -54.0037,-149.9714,    34.8571,2,     -999.0,9,     -999.0,9,     -999.0,9,     -999.0,9,     -999.0,9,     -999.0,9
320620140320,       P16S,      29,          1,          8,         08,2,20140411,       2038,   -54.0026,  -149.9817,       3513,  1998.7,   2.0831,  34.7166,2,  34.7173,2,    184.2,2,   184.3,2,   86.85,2,   31.71,2,    0.00,2,    2.18,2,   0.180,2,   0.061,2,    0.07,2,  -999.0,9,  -999.0,9,-999.0000,9,  -999.00,-999.000,9,-999.0000,9, -999.00,9,   2.0827,2, -999.00,9,  -999.0,9, -999.00,9,    36.8,2, -999.00,9,      21.72,2,     -999.0,9, -999.00,9, 20140411,     2110, -54.0036,-149.9727,    34.8810,2,     -999.0,9,     -999.0,9,     -999.0,9,     -999.0,1,     -999.0,9,     -999.0,9
320620140320,       P16S,      29,          1,          7,         07,2,20140411,       2038,   -54.0026,  -149.9817,       3513,  2199.9,   1.9539,  34.7297,2,  34.7298,2,    189.3,2,   188.7,2,   89.78,2,   31.41,2,    0.00,2,    2.15,2,   0.176,2,   0.046,2,    0.13,2,  2251.9,2,  2352.1,2,   7.6667,2,       20,-999.000,9,-999.0000,9, -999.00,9,   1.9542,2,    0.45,2,  -155.6,2, -999.00,9,    41.3,2, -999.00,9,      21.71,2,     -999.0,9, -999.00,9, 20140411,     2106, -54.0034,-149.9739,    34.8936,2,     -999.0,9,     -999.0,9,     -999.0,9,     -999.0,9,     -999.0,9,     -999.0,9
320620140320,       P16S,      29,          1,          6,         06,2,20140411,       2038,   -54.0026,  -149.9817,       3513,  2398.6,   1.8013,  34.7354,2,  34.7357,2,    193.2,2,   192.9,2,   93.69,2,   31.24,2,    0.00,2,    2.14,2,-999.000,9,-999.000,9, -999.00,9,  2251.3,2,  2354.7,2,   7.6724,2,       20,-999.000,9,-999.0000,9, -999.00,9,   1.8008,2,    0.48,2,  -158.7,2, -999.00,9,    39.2,2, -999.00,9,     -999.0,9,     -999.0,9, -999.00,9, 20140411,     2102, -54.0034,-149.9752,    34.8995,2,     -999.0,9,     -999.0,9,     -999.0,9,     -999.0,1,     -999.0,9,     -999.0,9