BOTTLE,20230715CCHSIOCBG
EXPOCODE,SECT_ID,STNNBR,CASTNO,SAMPNO,BTLNBR,BTLNBR_FLAG_W,DATE,TIME,LATITUDE,LONGITUDE,DEPTH,CTDPRS,CTDTMP,CTDSAL,CTDSAL_FLAG_W,SALNTY,SALNTY_FLAG_W,CTDOXY,CTDOXY_FLAG_W,OXYGEN,OXYGEN_FLAG_W,SILCAT,SILCAT_FLAG_W,NITRAT,NITRAT_FLAG_W,NITRIT,NITRIT_FLAG_W,PHSPHT,PHSPHT_FLAG_W,CFC-11,CFC-11_FLAG_W,CFC-12,CFC-12_FLAG_W,SF6,SF6_FLAG_W,TCARBN,TCARBN_FLAG_W,ALKALI,ALKALI_FLAG_W,PH_TOT,PH_TOT_FLAG_W,PH_TMP,TRITUM,TRITUM_FLAG_W,HELIUM,HELIUM_FLAG_W,DELHE3,DELHE3_FLAG_W,REFTMP,REFTMP_FLAG_W,DELC13,DELC13_FLAG_W,DELC14,DELC14_FLAG_W,DELO18,DELO18_FLAG_W,DOC,DOC_FLAG_W,TDN,TDN_FLAG_W,N2O,N2O_FLAG_W,CALCIUM,CALCIUM_FLAG_W,D15N_NO3,D15N_NO3_FLAG_W,BTL_DATE,BTL_TIME,BTL_LAT,BTL_LON,SALTREF,SALTREF_FLAG_W,D18O_NO3,D18O_NO3_FLAG_W,DSI30,DSI30_FLAG_W,CDOM_NASA,CDOM_NASA_FLAG_W,CDOM_UCSB,CDOM_UCSB_FLAG_W,D15N_NO2+NO3,D15N_NO2+NO3_FLAG_W,D18O_NO2+NO3,D18O_NO2+NO3_FLAG_W
,,,,,,,,,,,METERS,DBAR,ITS-90,PSS-78,,PSS-78,,UMOL/KG,,UMOL/KG,,UMOL/KG,,UMOL/KG,,UMOL/KG,,UMOL/KG,,PMOL/KG,,PMOL/KG,,FMOL/KG,,UMOL/KG,,UMOL/KG,,,,DEG C,TU,,NMOL/KG,,PERCNT,,DEG C,,/MILLE,,/MILLE,,/MILLE,,UMOL/KG,,UMOL/KG,,NMOL/KG,,MMOL/KG,,/MILLE,,,,,,G/KG,,/MILLE,,/MILLE,,,,,,/MILLE,,/MILLE,
320620140320,       P16S,      32,          1,         36,         36,2,20140412,       1907,   -52.4997,  -149.9990,       4671,     5.2,  10.2747,  34.3465,2,  34.3460,2,    274.7,2,   274.4,2,    0.88,2,   10.08,2,    0.25,2,    0.76,2,   3.423,2,   1.921,2,    2.00,2,  2089.1,2,    2284,2,    7.933,6,       20,-999.000,9,-999.0000,9, -999.00,9,  10.2791,2,    1.58,2,     9.6,2, -999.00,9,  -999.0,9, -999.00,9,      10.87,2,     -999.0,9, -999.00,9, 20140412,     2051, -52.4998,-149.9989,    34.5079,2,     -999.0,9,     -999.0,9,     -999.0,9,     -999.0,9,     -999.0,9,     -999.0,9
320620140320,       P16S,      32,          1,         34,         34,2,20140412,       1907,   -52.4997,  -149.9990,       4671,    34.1,  10.2653,  34.3445,2,-999.0000,9,   -999.0,9,  -999.0,9, -999.00,9, -999.00,9, -999.00,9, -999.00,9,-999.000,9,-999.000,9, -999.00,9,  -999.0,9,  -999.0,9,-999.0000,9,  -999.00,-999.000,9,-999.0000,9, -999.00,9,  10.2505,2, -999.00,9,  -999.0,9, -999.00,9,  -999.0,9, -999.00,9,     -999.0,9,     -999.0,9, -999.00,9, 20140412,     2049, -52.4998,-149.9990,     -999.0,9,     -999.0,9,     -999.0,9,     -999.0,9,     -999.0,9,     -999.0,9,     -999.0,9
320620140320,       P16S,      32,          1,         35,         35,2,20140412,       1907,   -52.4997,  -149.9990,       4671,    34.7,  10.2516,  34.3430,2,  34.3436,2,    274.2,2,   274.4,2,    0.88,2,   10.12,2,    0.25,2,    0.79,2,-999.000,9,-999.000,9, -999.00,9,  2089.3,6,  2283.2,2,   7.9334,2,       20,-999.000,9,-999.0000,9, -999.00,9,  10.2501,2,    1.61,2,     9.8,2, -999.00,9,  -999.0,9, -999.00,9,     -999.0,9,     -999.0,9, -999.00,9, 20140412,     2049, -52.4998,-149.9990,    34.5055,2,     -999.0,9,     -999.0,9,     -999.0,9,     -999.0,9,     -999.0,9,     -999.0,9
320620140320,       P16S,      32,          1,         33,         33,2,20140412,       1907,   -52.4997,  -149.9990,       4671,    58.4,  10.1620,  34.3327,2,  34.3342,2,    274.3,2,   274.5,2,    0.59,2,   10.34,2,    0.25,2,    0.81,2,   3.476,2,   1.951,2,    2.00,2,  2089.4,2,  2283.8,6,   7.9306,2,       20,-999.000,9,-999.0000,9, -999.00,9,  10.1630,2,    1.61,2,    10.6,2, -999.00,9,  -999.0,9, -999.00,9,      11.12,2,     -999.0,9, -999.00,9, 20140412,     2047, -52.4998,-149.9990,    34.4961,2,     -999.0,9,     -999.0,9,     -999.0,9,     -999.0,9,     -999.0,9,     -999.0,9
320620140320,       P16S,      32,          1,         32,         32,2,20140412,       1907,   -52.4997,  -149.9990,       4671,    73.9,  10.0722,  34.3355,2,-999.0000,9,   -999.0,9,  -999.0,9, -999.00,9, -999.00,9, -999.00,9, -999.00,9,-999.000,9,-999.000,9, -999.00,9,  -999.0,9,  -999.0,9,-999.0000,9,  -999.00,-999.000,9,-999.0000,9, -999.00,9,  10.0734,2, -999.00,9,  -999.0,9, -999.00,9,  -999.0,9, -999.00,9,     -999.0,9,     -999.0,9, -999.00,9, 20140412,     2046, -52.4999,-149.9991,     -999.0,9,     -999.0,9,     -999.0,9,     -999.0,9,     -999.0,9,     -999.0,9,     -999.0,9
320620140320,       P16S,      32,          1,         31,         31,2,20140412,       1907,   -52.4997,  -149.9990,       4671,    84.0,   9.8282,  34.3703,2,  34.3818,2,    273.2,2,   266.2,2,    1.56,2,   12.45,2,    0.18,2,    0.93,2,-999.000,9,-999.000,9, -999.00,9,  2103.4,2,  2283.4,2,    7.898,2,       20,-999.000,9,-999.0000,9, -999.00,9,   9.8279,2,    1.34,2,     4.1,2, -999.00,9,  -999.0,9, -999.00,9,     -999.0,9,     -999.0,9, -999.00,9, 20140412,     2045, -52.4999,-149.9991,    34.5439,2,     -999.0,9,     -999.0,9,     -999.0,9,     -999.0,9,     -999.0,9,     -999.0,9
320620140320,       P16S,      32,          1,         30,         30,2,20140412,       1907,   -52.4997,  -149.9990,       4671,   110.2,   8.7016,  34.4836,2,  34.4895,2,    252.1,2,   251.2,2,    3.42,2,   16.27,2,    0.02,2,    1.14,2,   3.693,2,   2.033,2,    1.94,2,  2128.8,2,  2284.2,2,   7.8355,2,       20,-999.000,9,-999.0000,9, -999.00,9,   8.7314,3,    1.14,2,    18.7,2, -999.00,9,  -999.0,9, -999.00,9,      12.96,2,     -999.0,9, -999.00,9, 20140412,     2044, -52.4999,-149.9991,    34.6522,2,     -999.0,9,     -999.0,9,     -999.0,9,     -999.0,9,     -999.0,9,     -999.0,9
320620140320,       P16S,      32,          1,         29,         29,2,20140412,       1907,   -52.4997,  -149.9990,       4671,   133.1,   8.2720,  34.4425,2,  34.4453,2,    248.7,2,   254.8,2,    3.81,2,   17.38,2,    0.02,2,    1.20,2,-999.000,9,-999.000,9, -999.00,9,  2130.7,2,  2283.6,2,   7.8273,2,       20,-999.000,9,-999.0000,9, -999.00,9,   8.2665,2,    1.14,2,     8.2,2, -999.00,9,  -999.0,9, -999.00,9,     -999.0,9,     -999.0,9, -999.00,9, 20140412,     2042, -52.5000,-149.9994,    34.6077,2,     -999.0,9,     -999.0,9,     -999.0,9,     -999.0,9,     -999.0,9,     -999.0,9
320620140320,       P16S,      32,          1,         28,         28,2,20140412,       1907,   -52.4997,  -149.9990,       4671,   162.8,   8.0755,  34.4478,2,  34.4471,2,    255.0,2,   254.8,2,    4.40,2,   18.02,2,    0.01,2,    1.24,2,-999.000,9,-999.000,9, -999.00,9,  2133.7,2,  2283.6,2,   7.8229,2,       20,-999.000,9,-999.0000,9, -999.00,9,   8.0713,2,    1.08,2,    12.2,2, -999.00,9,  -999.0,9, -999.00,9,     -999.0,9,     -999.0,9, -999.00,9, 20140412,     2040, -52.5001,-149.9998,    34.6095,2,     -999.0,9,     -999.0,9,     -999.0,9,     -999.0,9,     -999.0,9,     -999.0,9
320620140320,       P16S,      32,          1,         27,         27,2,20140412,       1907,   -52.4997,  -149.9990,       4671,   213.2,   7.6684,  34.4040,2,  34.4042,2,    259.7,2,   261.5,2,    4.69,2,   18.53,2,    0.01,2,    1.30,2,   3.889,2,   2.088,2,    1.92,2,  -999.0,9,  -999.0,9,-999.0000,9,  -999.00,-999.000,9,-999.0000,9, -999.00,9,   7.6653,2, -999.00,9,  -999.0,9, -999.00,9,  -999.0,9, -999.00,9,      13.05,2,     -999.0,9, -999.00,9, 20140412,     2038, -52.5001,-149.9997,    34.5665,2,     -999.0,9,     -999.0,9,     -999.0,9,     -999.0,9,     -999.0,9,     -999.0,9
320620140320,       P16S,      32,          1,         26,         26,2,20140412,       1907,   -52.4997,  -149.9990,       4671,   264.4,   7.4474,  34.3850,2,  34.3850,2,    265.0,2,   265.1,2,    4.89,2,   18.71,2,    0.01,2,    1.31,2,-999.000,9,-999.000,9, -999.00,9,  2131.8,2,  2281.6,2,   7.8232,2,       20,-999.000,9,-999.0000,9, -999.00,9,   7.4475,2,    1.18,2,     7.7,2, -999.00,9,  -999.0,9, -999.00,9,     -999.0,9,     -999.0,9, -999.00,9, 20140412,     2036, -52.5001,-149.9998,    34.5471,2,     -999.0,9,     -999.0,9,     -999.0,9,     -999.0,9,     -999.0,9,     -999.0,9
320620140320,       P16S,      32,          1,         25,         25,2,20140412,       1907,   -52.4997,  -149.9990,       4671,   313.5,   7.2998,  34.3716,2,  34.3710,2,    266.6,2,   265.3,2,    5.28,2,   19.17,2,    0.01,2,    1.34,2,-999.000,9,-999.000,9, -999.00,9,  -999.0,9,  -999.0,9,-999.0000,9,  -999.00,-999.000,9,-999.0000,9, -999.00,9,   7.3002,2, -999.00,9,  -999.0,9, -999.00,9,  -999.0,9, -999.00,9,     -999.0,9,     -999.0,9, -999.00,9, 20140412,     2034, -52.5003,-150.0002,    34.5331,2,     -999.0,9,     -999.0,9,     -999.0,9,     -999.0,9,     -999.0,9,     -999.0,9
320620140320,       P16S,      32,          1,         24,         24,2,20140412,       1907,   -52.4997,  -149.9990,       4671,   366.2,   7.2250,  34.3743,2,  34.3408,3,    258.9,2,   259.4,2,    5.96,2,   19.87,2,    0.01,2,    1.38,2,   3.942,2,   2.078,2,    1.92,2,  2136.8,2,  2282.4,2,   7.8107,2,       20,-999.000,9,-999.0000,9, -999.00,9,   7.2327,2,    1.10,2,   -11.3,2, -999.00,9,  -999.0,9, -999.00,9,      13.29,2,     -999.0,9, -999.00,9, 20140412,     2032, -52.5002,-150.0001,    34.5027,3,     -999.0,9,     -999.0,9,     -999.0,9,     -999.0,9,     -999.0,9,     -999.0,9
320620140320,       P16S,      32,          1,         23,         23,2,20140412,       1907,   -52.4997,  -149.9990,       4671,   412.0,   7.0285,  34.3607,2,  34.3606,2,    255.4,2,   255.2,2,    6.74,2,   20.81,2,    0.01,2,    1.43,2,-999.000,9,-999.000,9, -999.00,9,  -999.0,9,  -999.0,9,-999.0000,9,  -999.00,-999.000,9,-999.0000,9, -999.00,9,   7.0289,2, -999.00,9,  -999.0,9, -999.00,9,  -999.0,9, -999.00,9,     -999.0,9,     -999.0,9, -999.00,9, 20140412,     2030, -52.5003,-150.0002,    34.5226,2,     -999.0,9,     -999.0,9,     -999.0,9,     -999.0,9,     -999.0,9,     -999.0,9
320620140320,       P16S,      32,          1,         22,         22,2,20140412,       1907,   -52.4997,  -149.9990,       4671,   465.1,   6.8385,  34.3464,2,  34.3456,2,    255.1,2,   253.1,2,    7.82,2,   21.60,2,    0.00,2,    1.49,2,-999.000,9,-999.000,9, -999.00,9,  2144.1,2,  2282.4,2,   7.7921,2,       20,-999.000,9,-999.0000,9, -999.00,9,   6.8367,2,    1.13,2,     5.8,2, -999.00,9,  -999.0,9, -999.00,9,     -999.0,9,     -999.0,9, -999.00,9, 20140412,     2029, -52.5004,-150.0004,    34.5076,2,     -999.0,9,     -999.0,9,     -999.0,9,     -999.0,9,     -999.0,9,     -999.0,9
320620140320,       P16S,      32,          1,         21,         21,2,20140412,       1907,   -52.4997,  -149.9990,       4671,   534.4,   6.3209,  34.2888,2,  34.2885,2,    254.7,2,   256.8,2,    8.99,2,   22.46,2,    0.00,2,    1.53,2,   3.870,2,   2.047,2,    1.78,2,  2145.1,2,  2282.2,2,   7.7857,2,       20,-999.000,9,-999.0000,9, -999.00,9,   6.3200,2,    1.10,2,    -2.9,2, -999.00,9,  -999.0,9, -999.00,9,      14.94,2,     -999.0,9, -999.00,9, 20140412,     2027, -52.5004,-150.0006,    34.4502,2,     -999.0,9,     -999.0,9,     -999.0,9,     -999.0,9,     -999.0,9,     -999.0,9
320620140320,       P16S,      32,          1,         20,         20,2,20140412,       1907,   -52.4997,  -149.9990,       4671,   634.3,   5.8736,  34.2835,2,  34.2832,2,    241.7,2,   241.8,2,   12.70,2,   24.74,2,    0.00,2,    1.69,2,-999.000,9,-999.000,9, -999.00,9,  2158.6,2,  2282.8,2,   7.7565,2,       20,-999.000,9,-999.0000,9, -999.00,9,   5.8721,2,    1.23,2,   -14.5,2, -999.00,9,  -999.0,9, -999.00,9,     -999.0,9,     -999.0,9, -999.00,9, 20140412,     2024, -52.5004,-150.0005,    34.4449,2,     -999.0,9,     -999.0,9,     -999.0,9,     -999.0,9,     -999.0,9,     -999.0,9
320620140320,       P16S,      32,          1,         19,         19,2,20140412,       1907,   -52.4997,  -149.9990,       4671,   733.6,   5.4910,  34.3015,2,  34.3010,2,    225.6,2,   226.1,2,   18.17,2,   26.80,2,    0.00,2,    1.83,2,-999.000,9,-999.000,9, -999.00,9,  2170.9,2,    2287,2,   7.7295,2,       20,-999.000,9,-999.0000,9, -999.00,9,   5.4973,2,    1.14,2,   -34.4,2, -999.00,9,  -999.0,9, -999.00,9,     -999.0,9,     -999.0,9, -999.00,9, 20140412,     2021, -52.5003,-150.0004,    34.4628,2,     -999.0,9,     -999.0,9,     -999.0,9,     -999.0,9,     -999.0,9,     -999.0,9
320620140320,       P16S,      32,          1,         18,         18,2,20140412,       1907,   -52.4997,  -149.9990,       4671,   833.4,   4.9096,  34.3008,2,  34.3008,2,    217.1,2,   217.9,2,   24.33,2,   28.66,2,    0.00,2,    1.94,2,   2.729,2,   1.392,2,    1.09,2,  2183.7,2,  2291.2,2,    7.705,2,       20,-999.000,9,-999.0000,9, -999.00,9,   4.9101,2,    1.09,2,   -48.2,2, -999.00,9,  -999.0,9, -999.00,9,      19.16,2,     -999.0,9, -999.00,9, 20140412,     2019, -52.5003,-150.0003,    34.4626,2,     -999.0,9,     -999.0,9,     -999.0,9,     -999.0,9,     -999.0,9,     -999.0,9
320620140320,       P16S,      32,          1,         17,         17,2,20140412,       1907,   -52.4997,  -149.9990,       4671,   935.0,   4.4771,  34.3232,2,  34.3239,2,    208.7,2,   207.0,2,   30.78,2,   30.29,2,    0.00,2,    2.07,2,-999.000,9,-999.000,9, -999.00,9,  2194.7,2,  2296.9,2,   7.6875,2,       20,-999.000,9,-999.0000,9, -999.00,9,   4.4789,2,    1.02,2,   -66.3,2, -999.00,9,  -999.0,9, -999.00,9,     -999.0,9,     -999.0,9, -999.00,9, 20140412,     2016, -52.5002,-150.0001,    34.4858,2,     -999.0,9,     -999.0,9,     -999.0,9,     -999.0,9,     -999.0,9,     -999.0,9
320620140320,       P16S,      32,          1,         16,         16,2,20140412,       1907,   -52.4997,  -149.9990,       4671,  1033.2,   3.8853,  34.3312,2,  34.3314,2,    202.4,2,   204.1,2,   38.30,2,   31.43,2,    0.00,2,    2.16,2,   2.119,2,   1.039,2,    0.85,2,  2206.7,2,  2303.5,2,   7.6688,2,       20,-999.000,9,-999.0000,9, -999.00,9,   3.8864,2,    0.92,2,   -86.7,2, -999.00,9,  -999.0,9, -999.00,9,      20.52,2,     -999.0,9, -999.00,9, 20140412,     2013, -52.5003,-150.0003,    34.4933,2,     -999.0,9,     -999.0,9,     -999.0,9,     -999.0,9,     -999.0,9,     -999.0,9
320620140320,       P16S,      32,          1,         15,         15,2,20140412,       1907,   -52.4997,  -149.9990,       4671,  1133.6,   3.5207,  34.3700,2,  34.3700,2,    194.4,2,   194.7,2,   46.51,2,   32.54,2,    0.00,2,    2.23,2,-999.000,9,-999.000,9, -999.00,9,  2219.8,2,  2311.2,2,   7.6539,2,       20,-999.000,9,-999.0000,9, -999.00,9,   3.5201,2,    0.87,2,   -99.1,2, -999.00,9,  -999.0,9, -999.00,9,     -999.0,9,     -999.0,9, -999.00,9, 20140412,     2011, -52.5004,-150.0005,    34.5321,2,     -999.0,9,     -999.0,9,     -999.0,9,     -999.0,9,     -999.0,9,     -999.0,9
320620140320,       P16S,      32,          1,         14,         14,2,20140412,       1907,   -52.4997,  -149.9990,       4671,  1232.5,   3.2727,  34.4043,2,  34.4043,2,    187.8,2,   187.7,2,   52.86,2,   33.16,2,    0.00,2,    2.28,2,   1.363,2,   0.686,2,    0.21,2,  2228.1,2,  2316.4,2,   7.6424,2,       20,-999.000,9,-999.0000,9, -999.00,9,   3.2753,2,    0.80,2,  -112.4,2, -999.00,9,  -999.0,9, -999.00,9,      23.50,2,     -999.0,9, -999.00,9, 20140412,     2008, -52.5003,-150.0004,    34.5665,2,     -999.0,9,     -999.0,9,     -999.0,9,     -999.0,9,     -999.0,9,     -999.0,9
320620140320,       P16S,      32,          1,         13,         13,2,20140412,       1907,   -52.4997,  -149.9990,       4671,  1332.8,   3.0548,  34.4483,2,  34.4475,2,    181.1,2,   181.0,2,   59.89,2,   33.68,2,    0.00,2,    2.33,2,-999.000,9,-999.000,9, -999.00,9,  2237.2,2,    2324,2,   7.6334,2,       20,-999.000,9,-999.0000,9, -999.00,9,   3.0541,2,    0.72,2,  -125.1,2, -999.00,9,  -999.0,9, -999.00,9,     -999.0,9,     -999.0,9, -999.00,9, 20140412,     2005, -52.5003,-150.0005,    34.6099,2,     -999.0,9,     -999.0,9,     -999.0,9,     -999.0,9,     -999.0,9,     -999.0,9
320620140320,       P16S,      32,          1,         12,         12,2,20140412,       1907,   -52.4997,  -149.9990,       4671,  1434.1,   2.9002,  34.4936,2,  34.4926,2,    175.9,2,   174.9,2,   66.73,2,   34.01,2,    0.00,2,    2.34,2,   0.814,2,   0.393,2,    0.17,2,  -999.0,9,  -999.0,9,-999.0000,9,  -999.00,-999.000,9,-999.0000,9, -999.00,9,   2.9003,2, -999.00,9,  -999.0,9, -999.00,9,  -999.0,9, -999.00,9,      24.11,2,     -999.0,9, -999.00,9, 20140412,     2003, -52.5004,-150.0004,    34.6552,2,     -999.0,9,     -999.0,9,     -999.0,9,     -999.0,9,     -999.0,9,     -999.0,9
320620140320,       P16S,      32,          1,         11,         11,2,20140412,       1907,   -52.4997,  -149.9990,       4671,  1534.7,   2.7675,  34.5216,2,  34.5222,2,    172.4,2,   172.7,2,   69.66,2,   34.05,2,    0.00,2,    2.34,2,-999.000,9,-999.000,9, -999.00,9,  2250.5,2,  2334.1,2,   7.6327,2,       20,-999.000,9,-999.0000,9, -999.00,9,   2.7660,2,    0.61,2,  -137.9,2, -999.00,9,  -999.0,9, -999.00,9,     -999.0,9,     -999.0,9, -999.00,9, 20140412,     2000, -52.5003,-150.0002,    34.6850,2,     -999.0,9,     -999.0,9,     -999.0,9,     -999.0,9,     -999.0,9,     -999.0,9
320620140320,       P16S,      32,          1,         10,         10,2,20140412,       1907,   -52.4997,  -149.9990,       4671,  1733.7,   2.5637,  34.5878,2,  34.5881,2,    169.5,2,   170.2,2,   76.88,2,   33.78,2,    0.00,2,    2.31,2,   0.514,2,   0.192,2,    0.06,2,  2256.8,2,  2342.8,2,   7.6259,2,       20,-999.000,9,-999.0000,9, -999.00,9,   2.5629,2,    0.60,2,  -151.3,2, -999.00,9,  -999.0,9, -999.00,9,      23.38,2,     -999.0,9, -999.00,9, 20140412,     1956, -52.5003,-150.0002,    34.7512,2,     -999.0,9,     -999.0,9,     -999.0,9,     -999.0,9,     -999.0,9,     -999.0,9
320620140320,       P16S,      32,          1,          9,         09,2,20140412,       1907,   -52.4997,  -149.9990,       4671,  1934.7,   2.4157,  34.6387,2,  34.6382,2,    170.9,2,   171.2,2,   81.67,2,   33.31,2,    0.00,2,    2.28,2,-999.000,9,-999.000,9, -999.00,9,  2260.3,2,  2347.8,2,   7.6352,2,       20,-999.000,9,-999.0000,9, -999.00,9,   2.4140,2,    0.57,2,  -157.5,2, -999.00,9,  -999.0,9, -999.00,9,     -999.0,9,     -999.0,9, -999.00,9, 20140412,     1951, -52.5002,-150.0001,    34.8016,2,     -999.0,9,     -999.0,9,     -999.0,9,     -999.0,9,     -999.0,9,     -999.0,9
320620140320,       P16S,      32,          1,          8,         08,2,20140412,       1907,   -52.4997,  -149.9990,       4671,  2133.8,   2.2928,  34.6808,2,  34.6801,2,    176.9,2,   177.0,2,   82.74,2,   32.40,2,    0.00,2,    2.23,2,   0.261,2,   0.092,2,    0.11,2,  -999.0,9,  -999.0,9,-999.0000,9,  -999.00,-999.000,9,-999.0000,9, -999.00,9,   2.2930,2, -999.00,9,  -999.0,9, -999.00,9,  -999.0,9, -999.00,9,      22.90,2,     -999.0,9, -999.00,9, 20140412,     1947, -52.5001,-149.9998,    34.8436,2,     -999.0,9,     -999.0,9,     -999.0,9,     -999.0,9,     -999.0,9,     -999.0,9
320620140320,       P16S,      32,          1,          7,         07,2,20140412,       1907,   -52.4997,  -149.9990,       4671,  2533.3,   2.0418,  34.7247,2,  34.7246,2,    186.5,2,   186.9,2,   87.72,2,   31.32,2,    0.00,2,    2.17,2,-999.000,9,-999.000,9, -999.00,9,    2254,2,  2352.4,2,   7.6644,2,       20,-999.000,9,-999.0000,9, -999.00,9,   2.0420,2,    0.61,2,  -158.5,2, -999.00,9,  -999.0,9, -999.00,9,     -999.0,9,     -999.0,9, -999.00,9, 20140412,     1939, -52.5000,-149.9997,    34.8884,2,     -999.0,9,     -999.0,9,     -999.0,9,     -999.0,9,     -999.0,9,     -999.0,9
320620140320,       P16S,      32,          1,          6,         06,2,20140412,       1907,   -52.4997,  -149.9990,       4671,  2835.0,   1.8375,  34.7367,2,  34.7360,2,    193.7,2,   193.0,2,   92.70,2,   30.97,2,    0.00,2,    2.15,2,   0.152,2,   0.046,2,    0.01,2,  -999.0,9,  -999.0,9,-999.0000,9,  -999.00,-999.000,9,-999.0000,9, -999.00,9,   1.8375,2, -999.00,9,  -999.0,9, -999.00,9,  -999.0,9, -999.00,9,      21.04,2,     -999.0,9, -999.00,9, 20140412,     1933, -52.5002,-150.0001,    34.8998,2,     -999.0,9,     -999.0,9,     -999.0,9,     -999.0,9,     -999.0,9,     -999.0,9