BOTTLE,20230715CCHSIOCBG
EXPOCODE,SECT_ID,STNNBR,CASTNO,SAMPNO,BTLNBR,BTLNBR_FLAG_W,DATE,TIME,LATITUDE,LONGITUDE,DEPTH,CTDPRS,CTDTMP,CTDSAL,CTDSAL_FLAG_W,SALNTY,SALNTY_FLAG_W,CTDOXY,CTDOXY_FLAG_W,OXYGEN,OXYGEN_FLAG_W,SILCAT,SILCAT_FLAG_W,NITRAT,NITRAT_FLAG_W,NITRIT,NITRIT_FLAG_W,PHSPHT,PHSPHT_FLAG_W,CFC-11,CFC-11_FLAG_W,CFC-12,CFC-12_FLAG_W,SF6,SF6_FLAG_W,TCARBN,TCARBN_FLAG_W,ALKALI,ALKALI_FLAG_W,PH_TOT,PH_TOT_FLAG_W,PH_TMP,TRITUM,TRITUM_FLAG_W,HELIUM,HELIUM_FLAG_W,DELHE3,DELHE3_FLAG_W,REFTMP,REFTMP_FLAG_W,DELC13,DELC13_FLAG_W,DELC14,DELC14_FLAG_W,DELO18,DELO18_FLAG_W,DOC,DOC_FLAG_W,TDN,TDN_FLAG_W,N2O,N2O_FLAG_W,CALCIUM,CALCIUM_FLAG_W,D15N_NO3,D15N_NO3_FLAG_W,BTL_DATE,BTL_TIME,BTL_LAT,BTL_LON,SALTREF,SALTREF_FLAG_W,D18O_NO3,D18O_NO3_FLAG_W,DSI30,DSI30_FLAG_W,CDOM_NASA,CDOM_NASA_FLAG_W,CDOM_UCSB,CDOM_UCSB_FLAG_W,D15N_NO2+NO3,D15N_NO2+NO3_FLAG_W,D18O_NO2+NO3,D18O_NO2+NO3_FLAG_W
,,,,,,,,,,,METERS,DBAR,ITS-90,PSS-78,,PSS-78,,UMOL/KG,,UMOL/KG,,UMOL/KG,,UMOL/KG,,UMOL/KG,,UMOL/KG,,PMOL/KG,,PMOL/KG,,FMOL/KG,,UMOL/KG,,UMOL/KG,,,,DEG C,TU,,NMOL/KG,,PERCNT,,DEG C,,/MILLE,,/MILLE,,/MILLE,,UMOL/KG,,UMOL/KG,,NMOL/KG,,MMOL/KG,,/MILLE,,,,,,G/KG,,/MILLE,,/MILLE,,,,,,/MILLE,,/MILLE,
320620140320,       P16S,      79,          1,         36,         36,2,20140430,       1525,   -22.3330,  -150.0002,     -999.0,     4.7,  25.3492,  35.7956,2,  35.7959,2,    205.4,2,   205.6,2,    0.59,2,    0.03,2,    0.01,2,    0.09,2,   1.499,2,   1.026,2,    1.36,2,  2018.3,6,  2353.2,2,   8.1667,2,       20,-999.000,1,-999.0000,1, -999.00,9,  25.3517,2, -999.00,9,  -999.0,9, -999.00,1,  -999.0,9, -999.00,9,       6.66,2,     -999.0,9, -999.00,9, 20140430,     1737, -22.3330,-150.0004,    35.9647,2,     -999.0,9,     -999.0,9,     -999.0,9,     -999.0,9,     -999.0,9,     -999.0,9
320620140320,       P16S,      79,          1,         35,         35,2,20140430,       1525,   -22.3330,  -150.0002,     -999.0,    36.1,  25.3497,  35.7950,2,  35.7967,2,    206.3,2,   205.5,2,    0.78,2,    0.02,2,    0.01,2,    0.08,2,   1.631,2,   1.007,6,    1.47,6,  2017.1,2,  2353.2,2,   8.1679,2,       20,-999.000,1,-999.0000,1, -999.00,9,  25.3468,2,    1.08,2,    53.9,2, -999.00,1,  -999.0,9, -999.00,9,       6.66,6,     -999.0,9, -999.00,9, 20140430,     1734, -22.3329,-150.0001,    35.9655,2,     -999.0,9,     -999.0,9,     -999.0,9,     -999.0,9,     -999.0,9,     -999.0,9
320620140320,       P16S,      79,          1,         34,         34,2,20140430,       1525,   -22.3330,  -150.0002,     -999.0,    49.8,  25.3749,  35.7952,2,  35.7959,2,    206.3,2,   205.5,2,    0.68,2,    0.01,2,    0.00,2,    0.07,2,-999.000,9,-999.000,9, -999.00,9,  2018.4,2,    2353,2,   8.1665,2,       20,-999.000,1,-999.0000,1, -999.00,9,  25.3746,2, -999.00,9,  -999.0,9, -999.00,1,  -999.0,9, -999.00,9,     -999.0,9,     -999.0,9, -999.00,9, 20140430,     1732, -22.3329,-150.0001,    35.9646,2,     -999.0,9,     -999.0,9,     -999.0,9,     -999.0,9,     -999.0,9,     -999.0,9
320620140320,       P16S,      79,          1,         33,         33,2,20140430,       1525,   -22.3330,  -150.0002,     -999.0,    70.6,  24.4680,  35.9293,2,  35.9312,2,    216.0,2,   215.4,2,    0.59,2,    0.00,2,    0.00,2,    0.07,2,   1.560,2,   1.080,2,    1.51,2,  2028.7,2,  2361.2,2,   8.1593,2,       20,-999.000,1,-999.0000,1, -999.00,9,  24.5357,3,    1.11,2,    48.0,2, -999.00,1,  -999.0,9, -999.00,9,       7.03,2,     -999.0,9, -999.00,9, 20140430,     1731, -22.3330,-150.0002,    36.1006,2,     -999.0,9,     -999.0,9,     -999.0,9,     -999.0,9,     -999.0,9,     -999.0,9
320620140320,       P16S,      79,          1,         32,         32,2,20140430,       1525,   -22.3330,  -150.0002,     -999.0,   115.0,  22.1887,  35.7852,2,  35.7855,2,    213.4,2,   211.6,2,    0.49,2,    0.00,2,    0.00,2,    0.05,2,   1.537,2,   1.135,2,    1.50,2,  2039.2,2,  2349.9,2,    8.127,2,       20,-999.000,1,-999.0000,1, -999.00,9,  22.1881,2, -999.00,9,  -999.0,9, -999.00,1,  -999.0,9, -999.00,9,       7.37,2,     -999.0,9, -999.00,9, 20140430,     1729, -22.3330,-150.0004,    35.9543,2,     -999.0,9,     -999.0,9,     -999.0,9,     -999.0,9,     -999.0,9,     -999.0,9
320620140320,       P16S,      79,          1,         31,         31,2,20140430,       1525,   -22.3330,  -150.0002,     -999.0,   164.5,  20.9236,  35.7279,2,  35.7304,2,    200.0,2,   199.6,2,    0.59,2,    0.52,2,    0.08,2,    0.12,2,-999.000,9,-999.000,9, -999.00,9,  2057.3,2,  2345.2,2,   8.0887,2,       20,-999.000,1,-999.0000,1, -999.00,9,  20.9867,3,    0.80,2,    58.4,2, -999.00,1,  -999.0,9, -999.00,9,     -999.0,9,     -999.0,9, -999.00,9, 20140430,     1726, -22.3332,-150.0006,    35.8989,2,     -999.0,9,     -999.0,9,     -999.0,9,     -999.0,9,     -999.0,9,     -999.0,9
320620140320,       P16S,      79,          1,         30,         30,2,20140430,       1525,   -22.3330,  -150.0002,     -999.0,   215.4,  19.2944,  35.5708,2,  35.5709,2,    200.5,2,   199.7,2,    0.59,2,    1.74,2,    0.02,2,    0.14,2,   2.265,2,   1.273,2,    1.53,2,  2064.8,2,  2332.4,2,   8.0562,2,       20,-999.000,9,-999.0000,9, -999.00,9,  19.2963,2, -999.00,9,  -999.0,9, -999.00,1,  -999.0,9, -999.00,9,       8.98,2,     -999.0,9, -999.00,9, 20140430,     1724, -22.3332,-150.0007,    35.7386,2,     -999.0,9,     -999.0,9,     -999.0,9,     -999.0,9,     -999.0,9,     -999.0,9
320620140320,       P16S,      79,          1,         29,         29,2,20140430,       1525,   -22.3330,  -150.0002,     -999.0,   266.1,  17.7939,  35.4172,2,  35.4164,2,    195.5,2,   195.6,2,    0.88,2,    3.32,2,    0.01,2,    0.26,2,   1.868,2,   1.310,2,    1.53,2,  2079.3,6,    2323,2,   8.0158,2,       20,-999.000,1,-999.0000,1, -999.00,9,  17.7934,2,    0.78,2,    68.9,2, -999.00,1,  -999.0,9, -999.00,9,       9.68,2,     -999.0,9, -999.00,9, 20140430,     1722, -22.3332,-150.0006,    35.5835,2,     -999.0,9,     -999.0,9,     -999.0,9,     -999.0,9,     -999.0,9,     -999.0,9
320620140320,       P16S,      79,          1,         28,         28,2,20140430,       1525,   -22.3330,  -150.0002,     -999.0,   314.9,  16.6536,  35.3172,2,  35.3145,2,    197.0,2,   196.8,2,    1.07,2,    4.41,2,    0.01,2,    0.34,2,-999.000,9,-999.000,9, -999.00,9,  2085.8,2,  2317.1,2,   7.9916,2,       20,-999.000,9,-999.0000,9, -999.00,9,  16.6652,2,    0.81,2,    65.6,2, -999.00,1,  -999.0,9, -999.00,9,     -999.0,9,     -999.0,9, -999.00,9, 20140430,     1720, -22.3330,-150.0004,    35.4810,2,     -999.0,9,     -999.0,9,     -999.0,9,     -999.0,9,     -999.0,9,     -999.0,9
320620140320,       P16S,      79,          1,         27,         27,2,20140430,       1525,   -22.3330,  -150.0002,     -999.0,   364.4,  15.2478,  35.1600,2,  35.1543,2,    195.1,2,   194.0,2,    1.66,2,    6.97,2,    0.01,2,    0.53,2,   2.503,2,   1.381,2,    1.41,2,  2096.8,2,  2309.5,2,   7.9528,6,       20,-999.000,1,-999.0000,1, -999.00,9,  15.2410,2,    0.86,2,    70.1,2, -999.00,1,  -999.0,9, -999.00,9,      12.57,2,     -999.0,9, -999.00,9, 20140430,     1718, -22.3330,-150.0003,    35.3201,2,     -999.0,9,     -999.0,9,     -999.0,9,     -999.0,9,     -999.0,9,     -999.0,9
320620140320,       P16S,      79,          1,         26,         26,2,20140430,       1525,   -22.3330,  -150.0002,     -999.0,   434.7,  11.6933,  34.7520,2,  34.7472,2,    197.7,2,   196.8,2,    3.71,2,   13.74,2,    0.01,2,    0.99,2,   2.283,2,   1.465,2,    1.08,2,  2122.3,2,  2291.4,2,   7.8629,2,       20,-999.000,9,-999.0000,9, -999.00,9,  11.7067,2,    1.01,2,    49.7,2, -999.00,1,  -999.0,9, -999.00,9,      18.31,2,     -999.0,9, -999.00,9, 20140430,     1715, -22.3329,-150.0002,    34.9111,2,     -999.0,9,     -999.0,9,     -999.0,9,     -999.0,9,     -999.0,9,     -999.0,9
320620140320,       P16S,      79,          1,         25,         25,2,20140430,       1525,   -22.3330,  -150.0002,     -999.0,   534.4,   8.1021,  34.4242,2,  34.4211,2,    208.8,2,   209.4,2,    7.33,2,   21.46,2,    0.01,2,    1.49,2,   2.779,2,   1.416,2,    0.47,2,  2147.1,2,  2279.8,6,   7.7757,2,       20,-999.000,1,-999.0000,1, -999.00,9,   8.1044,2,    1.03,2,    31.8,2, -999.00,1,  -999.0,9, -999.00,9,      22.62,2,     -999.0,9, -999.00,9, 20140430,     1712, -22.3328,-150.0000,    34.5834,2,     -999.0,9,     -999.0,9,     -999.0,9,     -999.0,9,     -999.0,9,     -999.0,9
320620140320,       P16S,      79,          1,         24,         24,2,20140430,       1525,   -22.3330,  -150.0002,     -999.0,   635.1,   6.4960,  34.3345,2,  34.3351,2,    226.8,2,   222.8,2,   10.36,2,   24.69,2,    0.01,2,    1.67,2,   2.421,2,   1.216,2,    0.25,2,  2154.5,2,  2279.8,2,    7.757,2,       20,-999.000,9,-999.0000,9, -999.00,9,   6.4950,2,    1.16,2,     6.4,2, -999.00,1,  -999.0,9, -999.00,9,      20.70,2,     -999.0,9, -999.00,9, 20140430,     1710, -22.3327,-149.9998,    34.4970,2,     -999.0,9,     -999.0,9,     -999.0,9,     -999.0,9,     -999.0,9,     -999.0,9
320620140320,       P16S,      79,          1,         23,         23,2,20140430,       1525,   -22.3330,  -150.0002,     -999.0,   734.9,   5.6682,  34.3090,2,  34.3116,2,    211.2,2,   214.5,2,   15.83,2,   27.38,2,    0.01,2,    1.87,2,   1.703,2,   0.819,2,    0.06,2,  2167.4,2,  2282.6,2,   7.7306,2,       20,-999.000,1,-999.0000,1, -999.00,9,   5.6668,2,    1.15,2,   -25.4,2, -999.00,1,  -999.0,9, -999.00,9,      21.23,2,     -999.0,9, -999.00,9, 20140430,     1706, -22.3328,-150.0000,    34.4734,2,     -999.0,9,     -999.0,9,     -999.0,9,     -999.0,9,     -999.0,9,     -999.0,9
320620140320,       P16S,      79,          1,         22,         22,2,20140430,       1525,   -22.3330,  -150.0002,     -999.0,   834.0,   5.0053,  34.3251,2,  34.3247,2,    190.3,2,   193.1,2,   26.10,2,   30.57,2,    0.01,2,    2.09,2,   0.726,2,   0.400,2,    0.03,2,  2190.8,2,  2292.2,2,    7.688,2,       20,-999.000,9,-999.0000,9, -999.00,9,   5.0040,2,    1.01,2,   -82.5,2, -999.00,1,  -999.0,9, -999.00,9,      23.92,2,     -999.0,9, -999.00,9, 20140430,     1703, -22.3329,-150.0002,    34.4865,2,     -999.0,9,     -999.0,9,     -999.0,9,     -999.0,9,     -999.0,9,     -999.0,9
320620140320,       P16S,      79,          1,         21,         21,2,20140430,       1525,   -22.3330,  -150.0002,     -999.0,   935.7,   4.4353,  34.3699,2,  34.3698,2,    174.2,2,   174.4,2,   39.49,2,   32.87,2,    0.00,2,    2.25,2,   0.349,2,   0.181,2,    0.01,2,  2213.8,2,  2305.3,2,   7.6557,2,       20,-999.000,1,-999.0000,1, -999.00,9,   4.4382,2,    0.86,2,  -103.9,2, -999.00,1,  -999.0,9, -999.00,9,      25.09,2,     -999.0,9, -999.00,9, 20140430,     1700, -22.3330,-150.0003,    34.5319,2,     -999.0,9,     -999.0,9,     -999.0,9,     -999.0,9,     -999.0,9,     -999.0,9
320620140320,       P16S,      79,          1,         20,         20,2,20140430,       1525,   -22.3330,  -150.0002,     -999.0,  1035.5,   3.9363,  34.4156,2,  34.4149,2,    161.1,2,   161.2,2,   52.88,2,   34.45,2,    0.01,2,    2.37,2,   0.110,2,   0.054,2,    0.03,2,  2234.2,2,    2319,2,   7.6317,2,       20,-999.000,9,-999.0000,9, -999.00,9,   3.9360,2,    0.72,2,  -141.6,2, -999.00,1,  -999.0,9, -999.00,9,      26.52,2,     -999.0,9, -999.00,9, 20140430,     1657, -22.3331,-150.0005,    34.5772,2,     -999.0,9,     -999.0,9,     -999.0,9,     -999.0,9,     -999.0,9,     -999.0,9
320620140320,       P16S,      79,          1,         19,         19,2,20140430,       1525,   -22.3330,  -150.0002,     -999.0,  1133.6,   3.5884,  34.4586,2,  34.4573,2,    156.1,2,   155.5,2,   64.02,2,   35.01,2,    0.00,2,    2.41,2,   0.043,2,   0.014,2,    0.01,2,    2249,2,  2331.3,2,   7.6242,2,       20,-999.000,1,-999.0000,1, -999.00,9,   3.5843,2,    0.84,2,  -155.8,2, -999.00,1,  -999.0,9, -999.00,9,      26.28,2,     -999.0,9, -999.00,9, 20140430,     1654, -22.3329,-150.0000,    34.6198,2,     -999.0,9,     -999.0,9,     -999.0,9,     -999.0,9,     -999.0,9,     -999.0,9
320620140320,       P16S,      79,          1,         18,         18,2,20140430,       1525,   -22.3330,  -150.0002,     -999.0,  1234.5,   3.2279,  34.5073,2,  34.5079,2,    154.3,2,   153.7,2,   76.43,2,   35.14,2,    0.00,2,    2.43,2,   0.016,2,   0.008,2,    0.00,2,  2262.5,2,  2345.6,2,   7.6263,2,       20,-999.000,1,-999.0000,1, -999.00,9,   3.2271,2,    0.54,2,  -172.6,2, -999.00,1,  -999.0,9, -999.00,9,      24.78,2,     -999.0,9, -999.00,9, 20140430,     1651, -22.3327,-149.9997,    34.6706,2,     -999.0,9,     -999.0,9,     -999.0,9,     -999.0,9,     -999.0,9,     -999.0,9
320620140320,       P16S,      79,          1,         17,         17,2,20140430,       1525,   -22.3330,  -150.0002,     -999.0,  1334.8,   2.9642,  34.5419,2,  34.5419,2,    152.1,2,   151.5,2,   86.59,2,   35.32,2,    0.00,2,    2.45,2,   0.006,2,   0.002,2,   -0.00,2,  2272.1,2,  2357.8,2,   7.6279,2,       20,-999.000,1,-999.0000,1, -999.00,9,   2.9639,2,    0.54,2,  -188.6,2, -999.00,1,  -999.0,9, -999.00,9,      25.20,2,     -999.0,9, -999.00,9, 20140430,     1648, -22.3327,-149.9996,    34.7048,2,     -999.0,9,     -999.0,9,     -999.0,9,     -999.0,9,     -999.0,9,     -999.0,9
320620140320,       P16S,      79,          1,         16,         16,2,20140430,       1525,   -22.3330,  -150.0002,     -999.0,  1433.4,   2.7835,  34.5613,2,  34.5627,2,    151.9,2,   151.5,2,   92.45,2,   35.33,2,    0.00,2,    2.46,2,   0.002,2,   0.001,2,   -0.01,2,    2278,2,  2364.5,2,   7.6297,2,       20,-999.000,1,-999.0000,1, -999.00,9,   2.7832,2,    0.46,2,  -189.4,2, -999.00,1,  -999.0,9, -999.00,9,      25.32,2,     -999.0,9, -999.00,9, 20140430,     1645, -22.3326,-149.9994,    34.7257,2,     -999.0,9,     -999.0,9,     -999.0,9,     -999.0,9,     -999.0,9,     -999.0,9
320620140320,       P16S,      79,          1,         15,         15,2,20140430,       1525,   -22.3330,  -150.0002,     -999.0,  1533.8,   2.6333,  34.5788,2,  34.5804,2,    151.2,2,   150.8,2,   97.63,2,   35.40,2,    0.00,2,    2.46,2,   0.001,2,   0.001,2,    0.00,2,  2283.7,2,  2369.7,2,   7.6295,2,       20,-999.000,1,-999.0000,1, -999.00,9,   2.6336,2,    0.52,2,  -198.5,2, -999.00,1,  -999.0,9, -999.00,9,      25.36,2,     -999.0,9, -999.00,9, 20140430,     1643, -22.3326,-149.9994,    34.7434,2,     -999.0,9,     -999.0,9,     -999.0,9,     -999.0,9,     -999.0,9,     -999.0,9
320620140320,       P16S,      79,          1,         14,         14,2,20140430,       1525,   -22.3330,  -150.0002,     -999.0,  1664.5,   2.4915,  34.5960,2,  34.5962,2,    149.9,2,   149.7,2,  103.20,2,   35.53,2,    0.00,2,    2.47,2,   0.002,2,   0.000,2,    0.01,2,  2289.2,2,  2376.2,2,   7.6308,2,       20,-999.000,9,-999.0000,9, -999.00,9,   2.4920,2,    0.49,2,  -200.0,2, -999.00,9,  -999.0,9, -999.00,9,      24.31,2,     -999.0,9, -999.00,9, 20140430,     1639, -22.3327,-149.9998,    34.7594,2,     -999.0,9,     -999.0,9,     -999.0,9,     -999.0,9,     -999.0,9,     -999.0,9
320620140320,       P16S,      79,          1,         13,         13,2,20140430,       1525,   -22.3330,  -150.0002,     -999.0,  1865.2,   2.2385,  34.6224,2,  34.6231,2,    150.6,2,   150.4,2,  111.89,2,   35.60,2,    0.00,2,    2.48,2,  -0.002,2,   0.000,2,   -0.01,2,  2297.3,2,  2384.5,2,   7.6334,2,       20,-999.000,1,-999.0000,1, -999.00,9,   2.2385,2,    0.10,4,  -207.7,2, -999.00,9,  -999.0,9, -999.00,9,      23.60,2,     -999.0,9, -999.00,9, 20140430,     1635, -22.3329,-150.0002,    34.7864,2,     -999.0,9,     -999.0,9,     -999.0,9,     -999.0,9,     -999.0,9,     -999.0,9
320620140320,       P16S,      79,          1,         12,         12,2,20140430,       1525,   -22.3330,  -150.0002,     -999.0,  2085.3,   2.1128,  34.6349,2,  34.6350,2,    150.0,2,   150.3,2,  116.39,2,   35.65,2,    0.00,2,    2.49,2,  -0.001,2,   0.001,2,   -0.01,2,  2302.4,2,  2391.5,2,   7.6337,2,       20,-999.000,9,-999.0000,9, -999.00,9,   2.1126,2,    0.43,2,  -213.3,2, -999.00,9,  -999.0,9, -999.00,9,      24.10,2,     -999.0,9, -999.00,9, 20140430,     1630, -22.3329,-150.0001,    34.7983,2,     -999.0,9,     -999.0,9,     -999.0,9,     -999.0,9,     -999.0,9,     -999.0,9
320620140320,       P16S,      79,          1,         11,         11,2,20140430,       1525,   -22.3330,  -150.0002,     -999.0,  2334.7,   1.9430,  34.6505,2,  34.6497,2,    152.4,2,   152.0,2,  121.76,2,   35.48,2,    0.00,2,    2.48,2,  -0.002,2,   0.000,2,   -0.01,2,  2305.5,6,  2396.1,2,   7.6378,2,       20,-999.000,1,-999.0000,1, -999.00,9,   1.9429,2,    0.42,2,  -213.9,2, -999.00,9,  -999.0,9, -999.00,9,      24.50,2,     -999.0,9, -999.00,9, 20140430,     1624, -22.3327,-149.9997,    34.8131,2,     -999.0,9,     -999.0,9,     -999.0,9,     -999.0,9,     -999.0,9,     -999.0,9
320620140320,       P16S,      79,          1,         10,         10,2,20140430,       1525,   -22.3330,  -150.0002,     -999.0,  2582.2,   1.8219,  34.6607,2,  34.6605,2,    155.1,2,   155.7,2,  124.11,2,   35.28,2,    0.00,2,    2.47,2,  -0.001,2,   0.000,2,    0.01,2,  2306.4,2,  2395.4,3,   7.6417,2,       20,-999.000,9,-999.0000,9, -999.00,9,   1.8223,2,    0.39,2,  -221.1,2, -999.00,9,  -999.0,9, -999.00,9,      24.52,2,     -999.0,9, -999.00,9, 20140430,     1619, -22.3330,-150.0002,    34.8239,2,     -999.0,9,     -999.0,9,     -999.0,9,     -999.0,9,     -999.0,9,     -999.0,9
320620140320,       P16S,      79,          1,          9,         09,2,20140430,       1525,   -22.3330,  -150.0002,     -999.0,  2834.1,   1.7383,  34.6680,2,  34.6679,2,    159.2,2,   159.6,2,  124.50,2,   34.93,2,    0.00,2,    2.43,2,  -0.001,2,   0.001,2,   -0.01,2,    2303,2,  2396.5,2,   7.6455,6,       20,-999.000,1,-999.0000,1, -999.00,9,   1.7384,2,    0.40,2,  -216.2,2, -999.00,9,  -999.0,9, -999.00,9,      24.10,2,     -999.0,9, -999.00,9, 20140430,     1613, -22.3333,-150.0007,    34.8314,2,     -999.0,9,     -999.0,9,     -999.0,9,     -999.0,9,     -999.0,9,     -999.0,9
320620140320,       P16S,      79,          1,          8,         08,2,20140430,       1525,   -22.3330,  -150.0002,     -999.0,  3099.1,   1.6558,  34.6749,2,  34.6740,2,    164.4,2,   164.4,2,  124.40,2,   34.61,2,    0.00,2,    2.42,2,-999.000,9,-999.000,9, -999.00,9,    2301,2,  2395.5,2,   7.6512,2,       20,-999.000,9,-999.0000,9, -999.00,9,   1.6557,2,    0.41,2,  -216.9,2, -999.00,9,  -999.0,9, -999.00,9,     -999.0,9,     -999.0,9, -999.00,9, 20140430,     1608, -22.3331,-150.0004,    34.8375,2,     -999.0,9,     -999.0,9,     -999.0,9,     -999.0,9,     -999.0,9,     -999.0,9
320620140320,       P16S,      79,          1,          7,         07,2,20140430,       1525,   -22.3330,  -150.0002,     -999.0,  3398.3,   1.5727,  34.6824,2,  34.6838,2,    169.9,2,   169.8,2,  124.49,2,   34.29,2,    0.00,2,    2.39,2,   0.000,2,   0.000,2,   -0.00,2,  2296.6,2,  2393.5,6,   7.6561,2,       20,-999.000,1,-999.0000,1, -999.00,9,   1.5728,2,    0.38,2,  -210.1,2, -999.00,9,  -999.0,9, -999.00,9,      22.98,2,     -999.0,9, -999.00,9, 20140430,     1602, -22.3331,-150.0004,    34.8473,2,     -999.0,9,     -999.0,9,     -999.0,9,     -999.0,9,     -999.0,9,     -999.0,9
320620140320,       P16S,      79,          1,          6,         06,2,20140430,       1525,   -22.3330,  -150.0002,     -999.0,  3700.3,   1.5196,  34.6877,2,  34.6870,2,    174.7,2,   174.8,2,  123.52,2,   33.92,2,    0.00,2,    2.36,2,   0.002,2,   0.000,2,    0.00,2,  2292.6,2,  2390.1,2,   7.6603,2,       20,-999.000,9,-999.0000,9, -999.00,9,   1.5197,2,    0.39,2,  -204.8,2, -999.00,9,  -999.0,9, -999.00,9,      22.65,2,     -999.0,9, -999.00,9, 20140430,     1555, -22.3330,-150.0003,    34.8505,2,     -999.0,9,     -999.0,9,     -999.0,9,     -999.0,9,     -999.0,9,     -999.0,9