BOTTLE,20230715CCHSIOCBG
EXPOCODE,SECT_ID,STNNBR,CASTNO,SAMPNO,BTLNBR,BTLNBR_FLAG_W,DATE,TIME,LATITUDE,LONGITUDE,DEPTH,CTDPRS,CTDTMP,CTDSAL,CTDSAL_FLAG_W,SALNTY,SALNTY_FLAG_W,CTDOXY,CTDOXY_FLAG_W,OXYGEN,OXYGEN_FLAG_W,SILCAT,SILCAT_FLAG_W,NITRAT,NITRAT_FLAG_W,NITRIT,NITRIT_FLAG_W,PHSPHT,PHSPHT_FLAG_W,CFC-11,CFC-11_FLAG_W,CFC-12,CFC-12_FLAG_W,SF6,SF6_FLAG_W,TCARBN,TCARBN_FLAG_W,ALKALI,ALKALI_FLAG_W,PH_TOT,PH_TOT_FLAG_W,PH_TMP,TRITUM,TRITUM_FLAG_W,HELIUM,HELIUM_FLAG_W,DELHE3,DELHE3_FLAG_W,REFTMP,REFTMP_FLAG_W,DELC13,DELC13_FLAG_W,DELC14,DELC14_FLAG_W,DELO18,DELO18_FLAG_W,DOC,DOC_FLAG_W,TDN,TDN_FLAG_W,N2O,N2O_FLAG_W,CALCIUM,CALCIUM_FLAG_W,D15N_NO3,D15N_NO3_FLAG_W,BTL_DATE,BTL_TIME,BTL_LAT,BTL_LON,SALTREF,SALTREF_FLAG_W,D18O_NO3,D18O_NO3_FLAG_W,DSI30,DSI30_FLAG_W,CDOM_NASA,CDOM_NASA_FLAG_W,CDOM_UCSB,CDOM_UCSB_FLAG_W,D15N_NO2+NO3,D15N_NO2+NO3_FLAG_W,D18O_NO2+NO3,D18O_NO2+NO3_FLAG_W
,,,,,,,,,,,METERS,DBAR,ITS-90,PSS-78,,PSS-78,,UMOL/KG,,UMOL/KG,,UMOL/KG,,UMOL/KG,,UMOL/KG,,UMOL/KG,,PMOL/KG,,PMOL/KG,,FMOL/KG,,UMOL/KG,,UMOL/KG,,,,DEG C,TU,,NMOL/KG,,PERCNT,,DEG C,,/MILLE,,/MILLE,,/MILLE,,UMOL/KG,,UMOL/KG,,NMOL/KG,,MMOL/KG,,/MILLE,,,,,,G/KG,,/MILLE,,/MILLE,,,,,,/MILLE,,/MILLE,
320620140320,       P16S,      71,          1,          5,         05,2,20140427,       2041,   -27.6665,  -150.0000,       4391,  3448.0,   1.5103,  34.6881,2,  34.6882,2,    172.1,2,   171.6,2,  125.69,2,   34.60,2,    0.00,2,    2.40,2,-999.000,9,-999.000,9, -999.00,9,    2294,2,  2391.5,2,   7.6561,6,       20,-999.000,9,-999.0000,9, -999.00,9,   1.5110,2, -999.00,9,  -999.0,9, -999.00,9,  -999.0,9, -999.00,9,     -999.0,9,     -999.0,1, -999.00,9, 20140427,     2104, -27.6666,-149.9993,    34.8517,2,     -999.0,9,     -999.0,9,     -999.0,9,     -999.0,1,     -999.0,9,     -999.0,9
320620140320,       P16S,      71,          1,          4,         04,2,20140427,       2041,   -27.6665,  -150.0000,       4391,  3700.2,   1.4246,  34.6939,2,  34.6941,2,    179.7,2,   179.7,2,  123.25,2,   34.08,2,    0.00,2,    2.36,2,  -0.001,2,   0.000,2,    0.00,2,  2286.6,2,  2386.6,2,   7.6621,2,       20,-999.000,9,-999.0000,9, -999.00,9,   1.4244,2, -999.00,9,  -999.0,9, -999.00,9,  -999.0,9, -999.00,9,      23.18,2,     -999.0,9, -999.00,9, 20140427,     2059, -27.6665,-149.9996,    34.8577,2,     -999.0,9,     -999.0,9,     -999.0,9,     -999.0,9,     -999.0,9,     -999.0,9
320620140320,       P16S,      71,          1,          3,         03,2,20140427,       2041,   -27.6665,  -150.0000,       4391,  3951.5,   1.3706,  34.6984,2,  34.6985,2,    185.0,2,   185.0,2,  122.17,2,   33.70,2,    0.00,2,    2.32,2,   0.001,2,   0.000,2,    0.00,2,  2281.3,2,    2383,6,   7.6662,2,       20,-999.000,9,-999.0000,9, -999.00,9,   1.3712,2, -999.00,9,  -999.0,9, -999.00,9,  -999.0,9, -999.00,9,      22.81,2,     -999.0,1, -999.00,9, 20140427,     2054, -27.6665,-150.0002,    34.8621,2,     -999.0,9,     -999.0,9,     -999.0,9,     -999.0,1,     -999.0,9,     -999.0,9
320620140320,       P16S,      71,          1,          2,         02,2,20140427,       2041,   -27.6665,  -150.0000,       4391,  4200.1,   1.3416,  34.7012,2,  34.7008,2,    188.2,2,   188.6,2,  121.49,2,   33.52,2,    0.00,2,    2.30,2,-999.000,9,-999.000,9, -999.00,9,  2278.3,2,    2380,2,   7.6692,2,       20,-999.000,9,-999.0000,9, -999.00,9,   1.3415,2, -999.00,9,  -999.0,9, -999.00,9,  -999.0,9, -999.00,9,     -999.0,9,     -999.0,9, -999.00,9, 20140427,     2048, -27.6665,-150.0003,    34.8645,2,     -999.0,9,     -999.0,9,     -999.0,9,     -999.0,9,     -999.0,9,     -999.0,9
320620140320,       P16S,      71,          1,          1,         01,2,20140427,       2041,   -27.6665,  -150.0000,       4391,  4435.9,   1.3346,  34.7029,2,  34.7028,2,    190.7,2,   190.7,2,  120.90,2,   33.31,2,    0.00,2,    2.28,2,   0.001,2,   0.000,2,    0.00,2,    2276,2,  2378.4,2,   7.6717,2,       20,-999.000,9,-999.0000,9, -999.00,9,   1.3346,2, -999.00,9,  -999.0,9, -999.00,9,  -999.0,9, -999.00,9,      21.95,2,     -999.0,1, -999.00,9, 20140427,     2042, -27.6665,-150.0000,    34.8665,2,     -999.0,9,     -999.0,9,     -999.0,9,     -999.0,1,     -999.0,9,     -999.0,9