BOTTLE,20230715CCHSIOCBG
EXPOCODE,SECT_ID,STNNBR,CASTNO,SAMPNO,BTLNBR,BTLNBR_FLAG_W,DATE,TIME,LATITUDE,LONGITUDE,DEPTH,CTDPRS,CTDTMP,CTDSAL,CTDSAL_FLAG_W,SALNTY,SALNTY_FLAG_W,CTDOXY,CTDOXY_FLAG_W,OXYGEN,OXYGEN_FLAG_W,SILCAT,SILCAT_FLAG_W,NITRAT,NITRAT_FLAG_W,NITRIT,NITRIT_FLAG_W,PHSPHT,PHSPHT_FLAG_W,CFC-11,CFC-11_FLAG_W,CFC-12,CFC-12_FLAG_W,SF6,SF6_FLAG_W,TCARBN,TCARBN_FLAG_W,ALKALI,ALKALI_FLAG_W,PH_TOT,PH_TOT_FLAG_W,PH_TMP,TRITUM,TRITUM_FLAG_W,HELIUM,HELIUM_FLAG_W,DELHE3,DELHE3_FLAG_W,REFTMP,REFTMP_FLAG_W,DELC13,DELC13_FLAG_W,DELC14,DELC14_FLAG_W,DELO18,DELO18_FLAG_W,DOC,DOC_FLAG_W,TDN,TDN_FLAG_W,N2O,N2O_FLAG_W,CALCIUM,CALCIUM_FLAG_W,D15N_NO3,D15N_NO3_FLAG_W,BTL_DATE,BTL_TIME,BTL_LAT,BTL_LON,SALTREF,SALTREF_FLAG_W,D18O_NO3,D18O_NO3_FLAG_W,DSI30,DSI30_FLAG_W,CDOM_NASA,CDOM_NASA_FLAG_W,CDOM_UCSB,CDOM_UCSB_FLAG_W,D15N_NO2+NO3,D15N_NO2+NO3_FLAG_W,D18O_NO2+NO3,D18O_NO2+NO3_FLAG_W
,,,,,,,,,,,METERS,DBAR,ITS-90,PSS-78,,PSS-78,,UMOL/KG,,UMOL/KG,,UMOL/KG,,UMOL/KG,,UMOL/KG,,UMOL/KG,,PMOL/KG,,PMOL/KG,,FMOL/KG,,UMOL/KG,,UMOL/KG,,,,DEG C,TU,,NMOL/KG,,PERCNT,,DEG C,,/MILLE,,/MILLE,,/MILLE,,UMOL/KG,,UMOL/KG,,NMOL/KG,,MMOL/KG,,/MILLE,,,,,,G/KG,,/MILLE,,/MILLE,,,,,,/MILLE,,/MILLE,
320620140320,       P16S,      25,          1,         36,         36,2,20140410,       0153,   -55.9999,  -149.9989,       3405,     7.1,   4.9967,  33.7427,2,  33.7425,2,    311.7,2,   311.7,2,    1.47,2,   22.10,2,    0.25,2,    1.56,2,   4.753,2,   2.547,2,    2.55,2,  2124.6,2,  2270.4,2,   7.8226,2,       20,-999.000,9,-999.0000,9, -999.00,9,-999.0000,9, -999.00,9,  -999.0,9, -999.00,9,    43.9,2,    27.4,3,      12.47,2,     -999.0,9, -999.00,1, 20140410,      341, -55.9994,-149.9990,    33.9016,2,     -999.0,1,     -999.0,9,     -999.0,9,     -999.0,9,     -999.0,1,     -999.0,1
320620140320,       P16S,      25,          1,         35,         35,2,20140410,       0153,   -55.9999,  -149.9989,       3405,    20.2,   4.9963,  33.7424,2,  33.7419,2,    312.3,2,   311.7,2,    1.56,2,   22.07,2,    0.25,2,    1.56,2,   4.753,2,   2.584,2,    2.94,2,  2123.7,2,  2270.9,2,   7.8227,2,       20,-999.000,9,-999.0000,9, -999.00,9,-999.0000,9, -999.00,9,  -999.0,9, -999.00,9,    45.2,2,    28.5,3,      13.04,2,     -999.0,9, -999.00,1, 20140410,      340, -55.9995,-149.9989,    33.9010,2,     -999.0,1,     -999.0,9,     -999.0,9,     -999.0,9,     -999.0,1,     -999.0,1
320620140320,       P16S,      25,          1,         34,         34,2,20140410,       0153,   -55.9999,  -149.9989,       3405,    21.1,   4.9928,  33.7422,2,-999.0000,9,   -999.0,9,  -999.0,9, -999.00,9, -999.00,9, -999.00,9, -999.00,9,-999.000,9,-999.000,9, -999.00,9,  -999.0,9,  -999.0,9,-999.0000,9,  -999.00,-999.000,9,-999.0000,9, -999.00,9,-999.0000,9, -999.00,9,  -999.0,9, -999.00,9,  -999.0,9, -999.00,9,     -999.0,9,     -999.0,9, -999.00,9, 20140410,      339, -55.9995,-149.9990,     -999.0,9,     -999.0,9,     -999.0,9,     -999.0,9,     -999.0,9,     -999.0,9,     -999.0,9
320620140320,       P16S,      25,          1,         33,         33,2,20140410,       0153,   -55.9999,  -149.9989,       3405,    40.7,   4.9769,  33.7417,2,  33.7414,2,    312.4,2,   312.0,2,    1.56,2,   22.12,2,    0.25,2,    1.58,2,   4.617,2,   2.560,2,    2.53,2,  2124.5,2,  2269.8,2,   7.8222,2,       20,-999.000,9,-999.0000,9, -999.00,9,-999.0000,9, -999.00,9,  -999.0,9, -999.00,9,      44,2,   28.04,3,      12.77,2,     -999.0,9, -999.00,1, 20140410,      337, -55.9997,-149.9990,    33.9005,2,     -999.0,1,     -999.0,1,     -999.0,9,     -999.0,9,     -999.0,1,     -999.0,1
320620140320,       P16S,      25,          1,         32,         32,2,20140410,       0153,   -55.9999,  -149.9989,       3405,    65.3,   4.8316,  33.7368,2,-999.0000,9,   -999.0,9,  -999.0,9, -999.00,9, -999.00,9, -999.00,9, -999.00,9,-999.000,9,-999.000,9, -999.00,9,  -999.0,9,  -999.0,9,-999.0000,9,  -999.00,-999.000,9,-999.0000,9, -999.00,9,-999.0000,9, -999.00,9,  -999.0,9, -999.00,9,  -999.0,9, -999.00,9,     -999.0,9,     -999.0,9, -999.00,9, 20140410,      335, -55.9997,-149.9990,     -999.0,9,     -999.0,9,     -999.0,9,     -999.0,9,     -999.0,9,     -999.0,9,     -999.0,9
320620140320,       P16S,      25,          1,         31,         31,2,20140410,       0153,   -55.9999,  -149.9989,       3405,    66.2,   4.8255,  33.7367,2,  33.7433,2,    313.8,2,   312.9,2,    1.76,2,   22.15,2,    0.25,2,    1.58,2,   4.886,2,   2.562,2,    2.79,2,  2125.7,2,  2270.9,2,   7.8201,2,       20,-999.000,9,-999.0000,9, -999.00,9,-999.0000,9, -999.00,9,  -999.0,9, -999.00,9,    42.9,2,   27.29,3,      13.07,2,     -999.0,9, -999.00,1, 20140410,      334, -55.9997,-149.9989,    33.9024,2,     -999.0,1,     -999.0,9,     -999.0,9,     -999.0,9,     -999.0,1,     -999.0,1
320620140320,       P16S,      25,          1,         30,         30,2,20140410,       0153,   -55.9999,  -149.9989,       3405,    91.6,   2.8135,  33.8856,2,  33.8829,2,    318.0,2,   317.8,2,    6.84,2,   23.80,2,    0.25,2,    1.89,2,   5.450,2,   2.857,2,    3.03,2,  2148.1,2,  2278.2,2,   7.7773,2,       20,-999.000,9,-999.0000,9, -999.00,9,-999.0000,9, -999.00,9,  -999.0,9, -999.00,9,    40.9,2, -999.00,5,      14.82,2,     -999.0,9, -999.00,1, 20140410,      332, -55.9995,-149.9990,    34.0426,2,     -999.0,1,     -999.0,1,     -999.0,9,     -999.0,9,     -999.0,1,     -999.0,1
320620140320,       P16S,      25,          1,         29,         29,2,20140410,       0153,   -55.9999,  -149.9989,       3405,   116.9,   2.2003,  33.9280,2,  33.9238,2,    312.4,2,   313.9,2,   13.97,2,   26.28,2,    0.87,2,    1.92,2,   4.464,2,   2.882,2,    2.99,2,  2157.8,2,  2275.6,2,    7.746,2,       20,-999.000,9,-999.0000,9, -999.00,9,-999.0000,9, -999.00,9,  -999.0,9, -999.00,9,    40.5,2,    31.1,3,      14.99,2,     -999.0,9, -999.00,1, 20140410,      329, -55.9996,-149.9989,    34.0838,2,     -999.0,1,     -999.0,9,     -999.0,9,     -999.0,9,     -999.0,1,     -999.0,1
320620140320,       P16S,      25,          1,         28,         28,2,20140410,       0153,   -55.9999,  -149.9989,       3405,   139.1,   2.0511,  33.9632,2,  33.9632,2,    312.7,2,   309.9,2,   18.66,2,   28.00,2,    0.01,2,    1.93,2,-999.000,9,-999.000,9, -999.00,9,  -999.0,9,  -999.0,9,-999.0000,9,  -999.00,-999.000,9,-999.0000,9, -999.00,9,-999.0000,9, -999.00,9,  -999.0,9, -999.00,9,    38.3,2,   32.78,3,     -999.0,9,     -999.0,9, -999.00,1, 20140410,      327, -55.9997,-149.9989,    34.1233,2,     -999.0,1,     -999.0,1,     -999.0,9,     -999.0,9,     -999.0,1,     -999.0,1
320620140320,       P16S,      25,          1,         27,         27,2,20140410,       0153,   -55.9999,  -149.9989,       3405,   184.2,   1.8879,  33.9749,2,  33.9747,2,    309.0,2,   308.2,2,   20.81,2,   28.36,2,    0.01,2,    1.94,2,   5.297,2,   2.762,2,    2.64,2,  2163.5,2,  2277.8,2,   7.7315,2,       20,-999.000,9,-999.0000,9, -999.00,9,-999.0000,9, -999.00,9,  -999.0,9, -999.00,9,    38.6,2,   33.73,3,      15.18,2,     -999.0,9, -999.00,1, 20140410,      325, -56.0000,-149.9989,    34.1349,2,     -999.0,1,     -999.0,1,     -999.0,9,     -999.0,9,     -999.0,1,     -999.0,1
320620140320,       P16S,      25,          1,         26,         26,2,20140410,       0153,   -55.9999,  -149.9989,       3405,   233.7,   1.9902,  34.0343,2,  34.0339,2,    291.8,2,   292.0,2,   25.40,2,   29.32,2,    0.00,2,    2.01,2,   3.944,2,   2.602,2,    2.11,2,  2174.2,2,  2283.6,2,   7.7128,2,       20,-999.000,9,-999.0000,9, -999.00,9,-999.0000,9, -999.00,9,  -999.0,9, -999.00,9,      41,2,   34.29,3,      16.67,2,     -999.0,9, -999.00,1, 20140410,      322, -55.9999,-149.9989,    34.1944,2,     -999.0,1,     -999.0,9,     -999.0,9,     -999.0,9,     -999.0,1,     -999.0,1
320620140320,       P16S,      25,          1,         25,         25,2,20140410,       0153,   -55.9999,  -149.9989,       3405,   285.0,   2.0552,  34.0808,2,  34.0813,2,    275.4,2,   275.1,2,   29.70,2,   30.26,2,    0.00,2,    2.08,2,   3.883,2,   2.369,2,    2.00,2,  2182.2,2,    2287,2,   7.6955,2,       20,-999.000,9,-999.0000,9, -999.00,9,-999.0000,9, -999.00,9,  -999.0,9, -999.00,9,    40.2,2,   35.79,3,      18.07,2,     -999.0,9, -999.00,1, 20140410,      319, -55.9999,-149.9989,    34.2420,2,     -999.0,1,     -999.0,1,     -999.0,9,     -999.0,9,     -999.0,1,     -999.0,1
320620140320,       P16S,      25,          1,         24,         24,2,20140410,       0153,   -55.9999,  -149.9989,       3405,   336.7,   2.3867,  34.1679,2,  34.1666,2,    246.9,2,   247.9,2,   35.66,2,   31.43,2,    0.00,2,    2.16,2,   3.663,2,   1.932,2,    1.67,2,  2197.6,2,  2292.3,2,   7.6715,6,       20,-999.000,9,-999.0000,9, -999.00,9,-999.0000,9, -999.00,9,  -999.0,9, -999.00,9,    38.8,2,   36.48,3,      20.16,2,     -999.0,9, -999.00,1, 20140410,      317, -56.0001,-149.9988,    34.3277,2,     -999.0,1,     -999.0,9,     -999.0,9,     -999.0,9,     -999.0,1,     -999.0,1
320620140320,       P16S,      25,          1,         23,         23,2,20140410,       0153,   -55.9999,  -149.9989,       3405,   386.1,   2.6045,  34.2407,2,  34.2389,2,    227.6,2,   227.5,2,   41.52,2,   32.42,2,    0.00,2,    2.23,2,   3.061,2,   1.578,2,    1.36,2,  2208.1,2,  2299.5,6,   7.6533,2,       20,-999.000,9,-999.0000,9, -999.00,9,   2.6033,2, -999.00,9,  -999.0,9, -999.00,9,      39,2,    37.9,3,      20.77,2,     -999.0,9, -999.00,1, 20140410,      315, -55.9999,-149.9988,    34.4004,2,     -999.0,1,     -999.0,1,     -999.0,9,     -999.0,9,     -999.0,1,     -999.0,1
320620140320,       P16S,      25,          1,         22,         22,2,20140410,       0153,   -55.9999,  -149.9989,       3405,   434.5,   2.5061,  34.2899,2,-999.0000,5,    215.1,2,   215.6,2,   47.77,2,   33.20,2,    0.00,2,    2.29,2,-999.000,9,-999.000,9, -999.00,9,  2218.9,6,  2305.1,2,   7.6385,2,       20,-999.000,9,-999.0000,9, -999.00,9,   2.5059,2, -999.00,9,  -999.0,9, -999.00,9,    39.2,2,   40.05,3,     -999.0,9,     -999.0,9, -999.00,1, 20140410,      313, -55.9997,-149.9989,     -999.0,5,     -999.0,1,     -999.0,9,     -999.0,9,     -999.0,9,     -999.0,1,     -999.0,1
320620140320,       P16S,      25,          1,         21,         21,2,20140410,       0153,   -55.9999,  -149.9989,       3405,   487.2,   2.6594,  34.3655,2,  34.3611,2,    201.2,2,   197.4,2,   53.72,2,   33.85,2,    0.00,2,    2.33,2,   1.267,2,   0.989,2,    0.58,2,  2228.5,2,  2311.5,2,   7.6253,2,       20,-999.000,9,-999.0000,9, -999.00,9,   2.6496,3, -999.00,9,  -999.0,9, -999.00,9,    39.3,2,   38.11,3,      22.81,2,     -999.0,9, -999.00,1, 20140410,      311, -55.9998,-149.9989,    34.5232,2,     -999.0,1,     -999.0,1,     -999.0,9,     -999.0,9,     -999.0,1,     -999.0,1
320620140320,       P16S,      25,          1,         20,         20,2,20140410,       0153,   -55.9999,  -149.9989,       3405,   565.6,   2.6543,  34.4233,2,  34.4222,2,    187.3,2,   185.3,2,   59.88,2,   34.24,2,    0.00,2,    2.36,2,   1.142,2,   0.750,2,    0.48,2,  2237.6,2,  2318.5,2,   7.6168,2,       20,-999.000,9,-999.0000,9, -999.00,9,   2.6544,2, -999.00,9,  -999.0,9, -999.00,9,    38.1,2,   39.77,3,      24.75,2,     -999.0,9, -999.00,1, 20140410,      308, -55.9997,-149.9989,    34.5845,2,     -999.0,1,     -999.0,9,     -999.0,9,     -999.0,9,     -999.0,1,     -999.0,1
320620140320,       P16S,      25,          1,         19,         19,2,20140410,       0153,   -55.9999,  -149.9989,       3405,   665.1,   2.5907,  34.4911,2,  34.4905,2,    178.7,2,   177.3,2,   65.93,2,   34.36,2,    0.00,2,    2.37,2,   0.993,2,   0.516,2,    0.19,2,  2246.5,2,  2325.4,2,   7.6125,2,       20,-999.000,9,-999.0000,9, -999.00,9,   2.5911,2, -999.00,9,  -999.0,9, -999.00,9,    38.8,2, -999.00,9,      24.68,2,     -999.0,9, -999.00,1, 20140410,      305, -55.9997,-149.9988,    34.6531,2,     -999.0,1,     -999.0,9,     -999.0,9,     -999.0,9,     -999.0,1,     -999.0,1
320620140320,       P16S,      25,          1,         18,         18,2,20140410,       0153,   -55.9999,  -149.9989,       3405,   764.5,   2.5073,  34.5526,2,  34.5521,2,    174.6,2,   173.8,2,   70.61,2,   34.12,2,    0.00,2,    2.35,2,   0.683,2,   0.343,2,    0.07,2,  2250.2,2,  2330.6,2,   7.6158,2,       20,-999.000,9,-999.0000,9, -999.00,9,   2.5069,2, -999.00,9,  -999.0,9, -999.00,9,    39.6,2, -999.00,9,      24.07,2,     -999.0,9, -999.00,1, 20140410,      302, -55.9998,-149.9989,    34.7151,2,     -999.0,1,     -999.0,9,     -999.0,9,     -999.0,9,     -999.0,1,     -999.0,1
320620140320,       P16S,      25,          1,         17,         17,3,20140410,       0153,   -55.9999,  -149.9989,       3405,   866.3,   2.4596,  34.5887,2,  34.5851,2,    173.8,2,   173.7,2,   72.86,2,   33.69,2,    0.00,2,    2.33,2,-999.000,9,-999.000,9, -999.00,9,  -999.0,9,  -999.0,9,-999.0000,9,  -999.00,-999.000,9,-999.0000,9, -999.00,9,   2.4597,2, -999.00,9,  -999.0,9, -999.00,9,    41.5,2, -999.00,9,     -999.0,9,     -999.0,9, -999.00,1, 20140410,      259, -56.0000,-149.9989,    34.7482,2,     -999.0,1,     -999.0,9,     -999.0,9,     -999.0,9,     -999.0,1,     -999.0,1
320620140320,       P16S,      25,          1,         16,         16,2,20140410,       0153,   -55.9999,  -149.9989,       3405,   967.4,   2.3857,  34.6247,2,  34.6242,2,    174.1,2,   173.7,2,   75.88,2,   33.26,2,    0.00,2,    2.30,2,   0.408,2,   0.206,2,    0.10,2,  2252.7,6,  2337.1,2,   7.6274,2,       20,-999.000,9,-999.0000,9, -999.00,9,   2.3859,2, -999.00,9,  -999.0,9, -999.00,9,    39.3,2, -999.00,9,      23.32,2,     -999.0,9, -999.00,1, 20140410,      256, -55.9998,-149.9989,    34.7875,2,     -999.0,1,     -999.0,9,     -999.0,9,     -999.0,9,     -999.0,1,     -999.0,1
320620140320,       P16S,      25,          1,         15,         15,2,20140410,       0153,   -55.9999,  -149.9989,       3405,  1067.1,   2.3292,  34.6497,2,  34.6494,2,    175.3,2,   174.4,2,   79.11,2,   32.89,2,    0.00,2,    2.29,2,   0.270,2,   0.158,2,    0.04,2,  2254.1,2,  2342.2,6,   7.6347,2,       20,-999.000,9,-999.0000,9, -999.00,9,   2.3291,2, -999.00,9,  -999.0,9, -999.00,9,    37.3,2, -999.00,9,      23.26,2,     -999.0,9, -999.00,1, 20140410,      253, -55.9995,-149.9989,    34.8128,2,     -999.0,1,     -999.0,9,     -999.0,9,     -999.0,9,     -999.0,1,     -999.0,1
320620140320,       P16S,      25,          1,         14,         14,2,20140410,       0153,   -55.9999,  -149.9989,       3405,  1164.3,   2.2628,  34.6744,2,  34.6728,2,    177.1,2,   177.2,2,   80.28,2,   32.43,2,    0.00,2,    2.26,2,   0.204,2,   0.135,2,    0.08,2,  -999.0,9,  -999.0,9,-999.0000,9,  -999.00,-999.000,9,-999.0000,9, -999.00,9,   2.2624,2, -999.00,9,  -999.0,9, -999.00,9,    39.8,2, -999.00,9,      23.19,2,     -999.0,9, -999.00,1, 20140410,      250, -55.9993,-149.9989,    34.8363,2,     -999.0,1,     -999.0,9,     -999.0,9,     -999.0,9,     -999.0,1,     -999.0,1
320620140320,       P16S,      25,          1,         13,         13,2,20140410,       0153,   -55.9999,  -149.9989,       3405,  1265.0,   2.1909,  34.6952,2,  34.6948,2,    179.5,2,   180.4,2,   81.84,2,   31.92,2,    0.00,2,    2.22,2,   0.195,6,   0.109,6,    0.08,2,  2252.2,2,    2345,2,   7.6487,2,       20,-999.000,9,-999.0000,9, -999.00,9,   2.1903,2, -999.00,9,  -999.0,9, -999.00,9,      40,2, -999.00,9,      22.26,6,     -999.0,9, -999.00,1, 20140410,      247, -55.9994,-149.9989,    34.8584,2,     -999.0,1,     -999.0,9,     -999.0,9,     -999.0,9,     -999.0,1,     -999.0,1
320620140320,       P16S,      25,          1,         12,         12,2,20140410,       0153,   -55.9999,  -149.9989,       3405,  1366.0,   2.1238,  34.7100,2,  34.7097,2,    182.3,2,   183.2,2,   83.30,2,   31.64,2,    0.00,2,    2.20,2,   0.178,2,   0.094,2,    0.09,2,  -999.0,9,  -999.0,9,-999.0000,9,  -999.00,-999.000,9,-999.0000,9, -999.00,9,   2.1241,2, -999.00,9,  -999.0,9, -999.00,9,    38.8,2, -999.00,9,      22.25,2,     -999.0,9, -999.00,1, 20140410,      244, -55.9996,-149.9989,    34.8734,2,     -999.0,1,     -999.0,9,     -999.0,9,     -999.0,9,     -999.0,1,     -999.0,1
320620140320,       P16S,      25,          1,         11,         11,2,20140410,       0153,   -55.9999,  -149.9989,       3405,  1462.9,   2.0662,  34.7152,2,  34.7152,2,    184.2,2,   184.1,2,   85.25,2,   31.52,2,    0.00,2,    2.19,2,   0.148,2,   0.076,2,    0.07,2,  2251.7,2,  2348.5,2,   7.6588,2,       20,-999.000,9,-999.0000,9, -999.00,9,   2.0656,2, -999.00,9,  -999.0,9, -999.00,9,    38.2,2, -999.00,9,      21.51,2,     -999.0,9, -999.00,1, 20140410,      241, -55.9996,-149.9989,    34.8789,2,     -999.0,1,     -999.0,9,     -999.0,9,     -999.0,9,     -999.0,1,     -999.0,1
320620140320,       P16S,      25,          1,         10,         10,2,20140410,       0153,   -55.9999,  -149.9989,       3405,  1566.5,   1.9716,  34.7249,2,  34.7250,2,    185.5,2,   186.9,2,   87.60,2,   31.30,2,    0.00,2,    2.18,2,-999.000,9,-999.000,9, -999.00,9,  -999.0,9,  -999.0,9,-999.0000,9,  -999.00,-999.000,9,-999.0000,9, -999.00,9,   1.9714,2, -999.00,9,  -999.0,9, -999.00,9,    38.2,2, -999.00,9,     -999.0,9,     -999.0,9, -999.00,1, 20140410,      238, -55.9997,-149.9989,    34.8888,2,     -999.0,1,     -999.0,9,     -999.0,9,     -999.0,9,     -999.0,1,     -999.0,1
320620140320,       P16S,      25,          1,          9,         09,2,20140410,       0153,   -55.9999,  -149.9989,       3405,  1666.2,   1.9026,  34.7307,2,  34.7304,2,    188.9,2,   189.3,2,   88.77,2,   31.10,2,    0.00,2,    2.15,2,   0.138,2,   0.057,2,    0.02,2,  2251.3,2,  2351.5,2,   7.6664,2,       20,-999.000,9,-999.0000,9, -999.00,9,   1.9030,2, -999.00,9,  -999.0,9, -999.00,9,    38.6,2, -999.00,9,      21.36,2,     -999.0,9, -999.00,1, 20140410,      234, -55.9998,-149.9989,    34.8941,2,     -999.0,1,     -999.0,9,     -999.0,9,     -999.0,9,     -999.0,9,     -999.0,9
320620140320,       P16S,      25,          1,          8,         08,2,20140410,       0153,   -55.9999,  -149.9989,       3405,  1765.0,   1.8642,  34.7336,2,  34.7341,2,    190.6,2,   190.9,2,   90.04,2,   31.02,2,    0.00,2,    2.14,2,   0.147,2,   0.056,2,    0.05,2,  -999.0,9,  -999.0,9,-999.0000,9,  -999.00,-999.000,9,-999.0000,9, -999.00,9,   1.8637,2, -999.00,9,  -999.0,9, -999.00,9,    39.7,2, -999.00,9,      21.16,2,     -999.0,9, -999.00,1, 20140410,      231, -55.9999,-149.9989,    34.8979,2,     -999.0,1,     -999.0,9,     -999.0,9,     -999.0,9,     -999.0,9,     -999.0,9
320620140320,       P16S,      25,          1,          7,         07,2,20140410,       0153,   -55.9999,  -149.9989,       3405,  1935.9,   1.6884,  34.7372,2,  34.7374,2,    194.2,2,   194.1,2,   94.63,2,   30.98,2,    0.00,2,    2.12,2,   0.142,2,   0.064,2,    0.04,2,  2251.5,2,  2354.1,2,   7.6717,6,       20,-999.000,9,-999.0000,9, -999.00,9,   1.6909,3, -999.00,9,  -999.0,9, -999.00,9,    39.3,2, -999.00,9,      21.25,2,     -999.0,9, -999.00,1, 20140410,      227, -55.9998,-149.9989,    34.9012,2,     -999.0,1,     -999.0,9,     -999.0,9,     -999.0,9,     -999.0,9,     -999.0,9
320620140320,       P16S,      25,          1,          6,         06,2,20140410,       0153,   -55.9999,  -149.9989,       3405,  2166.5,   1.4634,  34.7331,2,  34.7335,2,    197.9,2,   197.4,2,  101.37,2,   31.11,2,    0.00,2,    2.14,2,   0.131,2,   0.057,2,    0.04,2,  -999.0,9,  -999.0,9,-999.0000,9,  -999.00,-999.000,9,-999.0000,9, -999.00,9,   1.4629,2, -999.00,9,  -999.0,9, -999.00,9,    39.5,2, -999.00,9,      20.57,2,     -999.0,9, -999.00,1, 20140410,      222, -55.9999,-149.9989,    34.8973,2,     -999.0,1,     -999.0,9,     -999.0,9,     -999.0,9,     -999.0,9,     -999.0,9