BOTTLE,20230715CCHSIOCBG
EXPOCODE,SECT_ID,STNNBR,CASTNO,SAMPNO,BTLNBR,BTLNBR_FLAG_W,DATE,TIME,LATITUDE,LONGITUDE,DEPTH,CTDPRS,CTDTMP,CTDSAL,CTDSAL_FLAG_W,SALNTY,SALNTY_FLAG_W,CTDOXY,CTDOXY_FLAG_W,OXYGEN,OXYGEN_FLAG_W,SILCAT,SILCAT_FLAG_W,NITRAT,NITRAT_FLAG_W,NITRIT,NITRIT_FLAG_W,PHSPHT,PHSPHT_FLAG_W,CFC-11,CFC-11_FLAG_W,CFC-12,CFC-12_FLAG_W,SF6,SF6_FLAG_W,TCARBN,TCARBN_FLAG_W,ALKALI,ALKALI_FLAG_W,PH_TOT,PH_TOT_FLAG_W,PH_TMP,TRITUM,TRITUM_FLAG_W,HELIUM,HELIUM_FLAG_W,DELHE3,DELHE3_FLAG_W,REFTMP,REFTMP_FLAG_W,DELC13,DELC13_FLAG_W,DELC14,DELC14_FLAG_W,DELO18,DELO18_FLAG_W,DOC,DOC_FLAG_W,TDN,TDN_FLAG_W,N2O,N2O_FLAG_W,CALCIUM,CALCIUM_FLAG_W,D15N_NO3,D15N_NO3_FLAG_W,BTL_DATE,BTL_TIME,BTL_LAT,BTL_LON,SALTREF,SALTREF_FLAG_W,D18O_NO3,D18O_NO3_FLAG_W,DSI30,DSI30_FLAG_W,CDOM_NASA,CDOM_NASA_FLAG_W,CDOM_UCSB,CDOM_UCSB_FLAG_W,D15N_NO2+NO3,D15N_NO2+NO3_FLAG_W,D18O_NO2+NO3,D18O_NO2+NO3_FLAG_W
,,,,,,,,,,,METERS,DBAR,ITS-90,PSS-78,,PSS-78,,UMOL/KG,,UMOL/KG,,UMOL/KG,,UMOL/KG,,UMOL/KG,,UMOL/KG,,PMOL/KG,,PMOL/KG,,FMOL/KG,,UMOL/KG,,UMOL/KG,,,,DEG C,TU,,NMOL/KG,,PERCNT,,DEG C,,/MILLE,,/MILLE,,/MILLE,,UMOL/KG,,UMOL/KG,,NMOL/KG,,MMOL/KG,,/MILLE,,,,,,G/KG,,/MILLE,,/MILLE,,,,,,/MILLE,,/MILLE,
320620140320,       P16S,      86,          2,          5,         05,2,20140503,       0041,   -17.6668,  -150.0002,       5632,  2334.1,   1.9285,  34.6516,2,  34.6517,2,    156.3,2,   156.3,2,  119.53,2,   35.39,2,    0.00,2,    2.45,2,   0.001,2,   0.000,2,    0.00,2,  2303.3,2,    2393,2,   7.6435,2,       20,-999.000,9,-999.0000,9, -999.00,9,   1.9289,2, -999.00,9,  -999.0,9, -999.00,9,    37.6,2, -999.00,9,      23.80,2,     -999.0,9, -999.00,9, 20140503,       58, -17.6668,-150.0002,    34.8151,2,     -999.0,9,     -999.0,9,     -999.0,9,     -999.0,9,     -999.0,9,     -999.0,9
320620140320,       P16S,      86,          2,          4,         04,2,20140503,       0041,   -17.6668,  -150.0002,       5632,  2533.7,   1.8473,  34.6590,2,  34.6592,2,    158.2,2,   158.4,2,  123.06,2,   35.27,2,    0.00,2,    2.45,2,-999.000,9,-999.000,9, -999.00,9,  -999.0,9,  -999.0,9,-999.0000,9,  -999.00,-999.000,9,-999.0000,9, -999.00,9,   1.8480,2, -999.00,9,  -999.0,9, -999.00,9,    36.1,2, -999.00,9,     -999.0,9,     -999.0,9, -999.00,9, 20140503,       54, -17.6668,-150.0002,    34.8226,2,     -999.0,9,     -999.0,9,     -999.0,9,     -999.0,9,     -999.0,9,     -999.0,9
320620140320,       P16S,      86,          2,          3,         03,2,20140503,       0041,   -17.6668,  -150.0002,       5632,  2733.8,   1.7839,  34.6645,2,  34.6651,2,    160.5,2,   161.0,2,  122.37,2,   35.13,2,    0.00,2,    2.43,2,-999.000,9,-999.000,9, -999.00,9,  2302.4,6,  2395.7,2,    7.648,2,       20,-999.000,9,-999.0000,9, -999.00,9,   1.7842,2,    0.39,6,  -207.6,6, -999.00,9,    36.9,2, -999.00,9,     -999.0,9,     -999.0,9, -999.00,9, 20140503,       49, -17.6668,-150.0002,    34.8286,2,     -999.0,9,     -999.0,9,     -999.0,9,     -999.0,9,     -999.0,9,     -999.0,9
320620140320,       P16S,      86,          2,          2,         02,2,20140503,       0041,   -17.6668,  -150.0002,       5632,  2898.6,   1.7215,  34.6695,2,  34.6708,2,    163.2,2,   163.8,2,  122.86,2,   35.01,2,    0.00,2,    2.42,2,-999.000,9,-999.000,9, -999.00,9,  2302.6,2,  2394.4,6,   7.6515,2,       20,-999.000,9,-999.0000,9, -999.00,9,   1.7214,2, -999.00,9,  -999.0,9, -999.00,9,    35.9,2, -999.00,9,     -999.0,9,     -999.0,9, -999.00,9, 20140503,       45, -17.6668,-150.0002,    34.8343,2,     -999.0,9,     -999.0,9,     -999.0,9,     -999.0,9,     -999.0,9,     -999.0,9
320620140320,       P16S,      86,          2,          1,         01,2,20140503,       0041,   -17.6668,  -150.0002,       5632,  3038.4,   1.6892,  34.6726,2,  34.6734,2,    165.1,2,   164.8,2,  122.96,2,   34.77,2,    0.00,2,    2.41,2,   0.007,2,   0.000,2,    0.00,2,  2300.5,2,  2393.2,2,   7.6531,6,       20,-999.000,9,-999.0000,9, -999.00,9,   1.6873,2, -999.00,9,  -999.0,9, -999.00,9,    37.4,2, -999.00,9,      22.14,2,     -999.0,9, -999.00,9, 20140503,       42, -17.6668,-150.0002,    34.8369,2,     -999.0,9,     -999.0,9,     -999.0,9,     -999.0,9,     -999.0,9,     -999.0,9