BOTTLE,20230715CCHSIOCBG
EXPOCODE,SECT_ID,STNNBR,CASTNO,SAMPNO,BTLNBR,BTLNBR_FLAG_W,DATE,TIME,LATITUDE,LONGITUDE,DEPTH,CTDPRS,CTDTMP,CTDSAL,CTDSAL_FLAG_W,SALNTY,SALNTY_FLAG_W,CTDOXY,CTDOXY_FLAG_W,OXYGEN,OXYGEN_FLAG_W,SILCAT,SILCAT_FLAG_W,NITRAT,NITRAT_FLAG_W,NITRIT,NITRIT_FLAG_W,PHSPHT,PHSPHT_FLAG_W,CFC-11,CFC-11_FLAG_W,CFC-12,CFC-12_FLAG_W,SF6,SF6_FLAG_W,TCARBN,TCARBN_FLAG_W,ALKALI,ALKALI_FLAG_W,PH_TOT,PH_TOT_FLAG_W,PH_TMP,TRITUM,TRITUM_FLAG_W,HELIUM,HELIUM_FLAG_W,DELHE3,DELHE3_FLAG_W,REFTMP,REFTMP_FLAG_W,DELC13,DELC13_FLAG_W,DELC14,DELC14_FLAG_W,DELO18,DELO18_FLAG_W,DOC,DOC_FLAG_W,TDN,TDN_FLAG_W,N2O,N2O_FLAG_W,CALCIUM,CALCIUM_FLAG_W,D15N_NO3,D15N_NO3_FLAG_W,BTL_DATE,BTL_TIME,BTL_LAT,BTL_LON,SALTREF,SALTREF_FLAG_W,D18O_NO3,D18O_NO3_FLAG_W,DSI30,DSI30_FLAG_W,CDOM_NASA,CDOM_NASA_FLAG_W,CDOM_UCSB,CDOM_UCSB_FLAG_W,D15N_NO2+NO3,D15N_NO2+NO3_FLAG_W,D18O_NO2+NO3,D18O_NO2+NO3_FLAG_W
,,,,,,,,,,,METERS,DBAR,ITS-90,PSS-78,,PSS-78,,UMOL/KG,,UMOL/KG,,UMOL/KG,,UMOL/KG,,UMOL/KG,,UMOL/KG,,PMOL/KG,,PMOL/KG,,FMOL/KG,,UMOL/KG,,UMOL/KG,,,,DEG C,TU,,NMOL/KG,,PERCNT,,DEG C,,/MILLE,,/MILLE,,/MILLE,,UMOL/KG,,UMOL/KG,,NMOL/KG,,MMOL/KG,,/MILLE,,,,,,G/KG,,/MILLE,,/MILLE,,,,,,/MILLE,,/MILLE,
320620140320,       P16S,      64,          1,          5,         05,2,20140425,       0753,   -32.3338,  -150.0002,       5244,  4299.4,   1.2936,  34.7034,2,  34.7035,2,    191.3,2,   191.3,2,  120.57,2,   33.22,2,    0.00,2,    2.28,2,   0.006,2,   0.001,2,    0.00,2,  2275.6,2,  2376.9,2,   7.6703,6,       20,-999.000,9,-999.0000,1, -999.00,9,   1.2942,2, -999.00,9,  -999.0,9, -999.00,9,    38.3,2, -999.00,9,      20.29,2,     -999.0,9, -999.00,9, 20140425,      817, -32.3338,-150.0002,    34.8672,2,     -999.0,9,     -999.0,9,     -999.0,9,     -999.0,9,     -999.0,9,     -999.0,9
320620140320,       P16S,      64,          1,          4,         04,2,20140425,       0753,   -32.3338,  -150.0002,       5244,  4633.5,   1.2402,  34.7066,2,  34.7065,2,    196.0,2,   196.5,2,  119.69,2,   32.89,2,    0.00,2,    2.25,2,   0.008,2,   0.005,2,    0.02,2,  2270.7,2,  2372.9,2,   7.6738,2,       20,-999.000,1,-999.0000,1, -999.00,9,   1.2400,2, -999.00,9,  -999.0,9, -999.00,9,      37,2, -999.00,9,      20.54,2,     -999.0,1, -999.00,9, 20140425,      810, -32.3338,-150.0002,    34.8701,2,     -999.0,9,     -999.0,9,     -999.0,9,     -999.0,9,     -999.0,9,     -999.0,9
320620140320,       P16S,      64,          1,          3,         03,2,20140425,       0753,   -32.3338,  -150.0002,       5244,  5034.5,   1.1974,  34.7093,2,  34.7094,2,    200.6,2,   200.9,2,  119.49,2,   32.72,2,    0.00,2,    2.24,2,-999.000,9,-999.000,9, -999.00,9,  2266.9,2,  2368.9,6,   7.6766,2,       20,-999.000,1,-999.0000,1, -999.00,9,   1.1974,2, -999.00,9,  -999.0,9, -999.00,9,    39.3,2, -999.00,9,     -999.0,9,     -999.0,9, -999.00,9, 20140425,      802, -32.3338,-150.0002,    34.8731,2,     -999.0,9,     -999.0,9,     -999.0,9,     -999.0,9,     -999.0,9,     -999.0,9
320620140320,       P16S,      64,          1,          2,         02,2,20140425,       0753,   -32.3338,  -150.0002,       5244,  5183.8,   1.1935,  34.7100,2,  34.7096,2,    201.8,2,   202.1,2,  118.91,2,   32.56,2,    0.00,2,    2.24,2,   0.021,2,   0.004,2,    0.02,2,  2266.6,6,  2368.3,2,   7.6757,2,       20,-999.000,1,-999.0000,1, -999.00,9,   1.1942,2, -999.00,9,  -999.0,9, -999.00,9,    40.7,2, -999.00,9,      19.15,2,     -999.0,9, -999.00,9, 20140425,      758, -32.3338,-150.0002,    34.8733,2,     -999.0,9,     -999.0,9,     -999.0,9,     -999.0,9,     -999.0,9,     -999.0,9
320620140320,       P16S,      64,          1,          1,         01,2,20140425,       0753,   -32.3338,  -150.0002,       5244,  5334.3,   1.1896,  34.7100,2,  34.7100,2,    202.7,2,   202.8,2,  119.49,2,   32.41,2,    0.00,2,    2.24,2,   0.022,2,   0.008,2,    0.04,2,  2266.4,2,    2368,2,   7.6777,2,       20,-999.000,1,-999.0000,1, -999.00,9,   1.1896,2, -999.00,9,  -999.0,9, -999.00,9,    39.7,2, -999.00,9,      20.38,2,     -999.0,1, -999.00,9, 20140425,      753, -32.3338,-150.0002,    34.8737,2,     -999.0,9,     -999.0,9,     -999.0,9,     -999.0,9,     -999.0,9,     -999.0,9