BOTTLE,20230715CCHSIOCBG
EXPOCODE,SECT_ID,STNNBR,CASTNO,SAMPNO,BTLNBR,BTLNBR_FLAG_W,DATE,TIME,LATITUDE,LONGITUDE,DEPTH,CTDPRS,CTDTMP,CTDSAL,CTDSAL_FLAG_W,SALNTY,SALNTY_FLAG_W,CTDOXY,CTDOXY_FLAG_W,OXYGEN,OXYGEN_FLAG_W,SILCAT,SILCAT_FLAG_W,NITRAT,NITRAT_FLAG_W,NITRIT,NITRIT_FLAG_W,PHSPHT,PHSPHT_FLAG_W,CFC-11,CFC-11_FLAG_W,CFC-12,CFC-12_FLAG_W,SF6,SF6_FLAG_W,TCARBN,TCARBN_FLAG_W,ALKALI,ALKALI_FLAG_W,PH_TOT,PH_TOT_FLAG_W,PH_TMP,TRITUM,TRITUM_FLAG_W,HELIUM,HELIUM_FLAG_W,DELHE3,DELHE3_FLAG_W,REFTMP,REFTMP_FLAG_W,DELC13,DELC13_FLAG_W,DELC14,DELC14_FLAG_W,DELO18,DELO18_FLAG_W,DOC,DOC_FLAG_W,TDN,TDN_FLAG_W,N2O,N2O_FLAG_W,CALCIUM,CALCIUM_FLAG_W,D15N_NO3,D15N_NO3_FLAG_W,BTL_DATE,BTL_TIME,BTL_LAT,BTL_LON,SALTREF,SALTREF_FLAG_W,D18O_NO3,D18O_NO3_FLAG_W,DSI30,DSI30_FLAG_W,CDOM_NASA,CDOM_NASA_FLAG_W,CDOM_UCSB,CDOM_UCSB_FLAG_W,D15N_NO2+NO3,D15N_NO2+NO3_FLAG_W,D18O_NO2+NO3,D18O_NO2+NO3_FLAG_W
,,,,,,,,,,,METERS,DBAR,ITS-90,PSS-78,,PSS-78,,UMOL/KG,,UMOL/KG,,UMOL/KG,,UMOL/KG,,UMOL/KG,,UMOL/KG,,PMOL/KG,,PMOL/KG,,FMOL/KG,,UMOL/KG,,UMOL/KG,,,,DEG C,TU,,NMOL/KG,,PERCNT,,DEG C,,/MILLE,,/MILLE,,/MILLE,,UMOL/KG,,UMOL/KG,,NMOL/KG,,MMOL/KG,,/MILLE,,,,,,G/KG,,/MILLE,,/MILLE,,,,,,/MILLE,,/MILLE,
320620140320,       P16S,      39,          3,          5,         05,2,20140415,       1145,   -49.0003,  -150.0000,       5043,  4265.2,   1.1852,  34.7162,2,  34.7153,2,    201.4,2,   201.6,2,  117.17,2,   31.97,2,    0.00,2,    2.19,2,   0.051,2,   0.014,2,    0.02,2,  2265.9,2,  2367.7,2,   7.6799,2,       20,-999.000,9,-999.0000,9, -999.00,9,   1.1857,2, -999.00,9,  -999.0,9, -999.00,9,    38.2,2, -999.00,9,      22.35,2,     -999.0,9, -999.00,9, 20140415,     1310, -49.0004,-150.0000,    34.8790,2,     -999.0,9,     -999.0,9,     -999.0,9,     -999.0,9,     -999.0,9,     -999.0,9
320620140320,       P16S,      39,          3,          4,         04,2,20140415,       1145,   -49.0003,  -150.0000,       5043,  4565.7,   1.1893,  34.7149,2,  34.7147,2,    201.9,2,   202.0,2,  118.05,2,   31.97,2,    0.00,2,    2.19,2,   0.055,2,   0.017,2,   -0.01,2,  2266.5,2,  2368.5,2,   7.6811,2,       20,-999.000,9,-999.0000,1, -999.00,9,   1.1894,2, -999.00,9,  -999.0,9, -999.00,9,    37.8,2, -999.00,9,      21.05,2,     -999.0,9, -999.00,9, 20140415,     1259, -49.0003,-150.0000,    34.8784,2,     -999.0,9,     -999.0,9,     -999.0,9,     -999.0,9,     -999.0,9,     -999.0,9
320620140320,       P16S,      39,          3,          3,         03,2,20140415,       1145,   -49.0003,  -150.0000,       5043,  4763.6,   1.1981,  34.7145,2,  34.7150,2,    202.1,2,   202.4,2,  118.44,2,   31.97,2,    0.00,2,    2.21,2,   0.057,2,   0.016,2,    0.03,2,  2265.7,2,  2369.4,6,   7.6807,2,       20,-999.000,1,-999.0000,1, -999.00,9,   1.1978,2, -999.00,9,  -999.0,9, -999.00,9,    39.3,2, -999.00,9,      20.40,3,     -999.0,9, -999.00,9, 20140415,     1251, -49.0004,-150.0000,    34.8787,2,     -999.0,9,     -999.0,9,     -999.0,9,     -999.0,9,     -999.0,9,     -999.0,9
320620140320,       P16S,      39,          3,          2,         02,2,20140415,       1145,   -49.0003,  -150.0000,       5043,  4964.2,   1.2120,  34.7143,2,  34.7139,2,    202.5,2,   202.4,2,  118.83,2,   31.99,2,    0.00,2,    2.19,2,   0.064,2,   0.017,2,   -0.00,2,  2265.3,2,  2368.5,2,   7.6803,6,       20,-999.000,9,-999.0000,1, -999.00,9,   1.2119,2, -999.00,9,  -999.0,9, -999.00,9,    39.3,2, -999.00,9,      19.63,3,     -999.0,9, -999.00,9, 20140415,     1201, -49.0003,-150.0000,    34.8776,2,     -999.0,9,     -999.0,9,     -999.0,9,     -999.0,9,     -999.0,9,     -999.0,9
320620140320,       P16S,      39,          3,          1,         01,2,20140415,       1145,   -49.0003,  -150.0000,       5043,  5173.9,   1.2312,  34.7140,2,  34.7144,2,    203.0,2,   202.6,2,  119.03,2,   31.96,2,    0.00,2,    2.19,2,   0.074,2,   0.022,2,    0.02,2,  2266.1,6,  2367.5,2,   7.6804,2,       20,-999.000,1,-999.0000,1, -999.00,9,   1.2308,2, -999.00,9,  -999.0,9, -999.00,9,    39.5,2, -999.00,9,      21.99,3,     -999.0,9, -999.00,9, 20140415,     1145, -49.0003,-150.0000,    34.8781,2,     -999.0,9,     -999.0,9,     -999.0,9,     -999.0,9,     -999.0,9,     -999.0,9