BOTTLE,20230715CCHSIOCBG
EXPOCODE,SECT_ID,STNNBR,CASTNO,SAMPNO,BTLNBR,BTLNBR_FLAG_W,DATE,TIME,LATITUDE,LONGITUDE,DEPTH,CTDPRS,CTDTMP,CTDSAL,CTDSAL_FLAG_W,SALNTY,SALNTY_FLAG_W,CTDOXY,CTDOXY_FLAG_W,OXYGEN,OXYGEN_FLAG_W,SILCAT,SILCAT_FLAG_W,NITRAT,NITRAT_FLAG_W,NITRIT,NITRIT_FLAG_W,PHSPHT,PHSPHT_FLAG_W,CFC-11,CFC-11_FLAG_W,CFC-12,CFC-12_FLAG_W,SF6,SF6_FLAG_W,TCARBN,TCARBN_FLAG_W,ALKALI,ALKALI_FLAG_W,PH_TOT,PH_TOT_FLAG_W,PH_TMP,TRITUM,TRITUM_FLAG_W,HELIUM,HELIUM_FLAG_W,DELHE3,DELHE3_FLAG_W,REFTMP,REFTMP_FLAG_W,DELC13,DELC13_FLAG_W,DELC14,DELC14_FLAG_W,DELO18,DELO18_FLAG_W,DOC,DOC_FLAG_W,TDN,TDN_FLAG_W,N2O,N2O_FLAG_W,CALCIUM,CALCIUM_FLAG_W,D15N_NO3,D15N_NO3_FLAG_W,BTL_DATE,BTL_TIME,BTL_LAT,BTL_LON,SALTREF,SALTREF_FLAG_W,D18O_NO3,D18O_NO3_FLAG_W,DSI30,DSI30_FLAG_W,CDOM_NASA,CDOM_NASA_FLAG_W,CDOM_UCSB,CDOM_UCSB_FLAG_W,D15N_NO2+NO3,D15N_NO2+NO3_FLAG_W,D18O_NO2+NO3,D18O_NO2+NO3_FLAG_W
,,,,,,,,,,,METERS,DBAR,ITS-90,PSS-78,,PSS-78,,UMOL/KG,,UMOL/KG,,UMOL/KG,,UMOL/KG,,UMOL/KG,,UMOL/KG,,PMOL/KG,,PMOL/KG,,FMOL/KG,,UMOL/KG,,UMOL/KG,,,,DEG C,TU,,NMOL/KG,,PERCNT,,DEG C,,/MILLE,,/MILLE,,/MILLE,,UMOL/KG,,UMOL/KG,,NMOL/KG,,MMOL/KG,,/MILLE,,,,,,G/KG,,/MILLE,,/MILLE,,,,,,/MILLE,,/MILLE,
320620140320,       P16S,      34,          1,          5,         05,2,20140413,       1401,   -51.5003,  -149.9990,       4374,  3199.9,   1.6340,  34.7347,2,  34.7350,2,    196.9,2,   196.4,2,   98.44,2,   31.07,2,    0.00,2,    2.17,2,-999.000,9,-999.000,9, -999.00,9,  2255.3,2,  2357.7,2,   7.6749,2,       20,-999.000,9,-999.0000,9, -999.00,9,   1.6338,2, -999.00,9,  -999.0,9, -999.00,9,  -999.0,9, -999.00,9,     -999.0,9,     -999.0,9, -999.00,9, 20140413,     1426, -51.5004,-149.9991,    34.8988,2,     -999.0,9,     -999.0,9,     -999.0,9,     -999.0,9,     -999.0,9,     -999.0,9
320620140320,       P16S,      34,          1,          4,         04,2,20140413,       1401,   -51.5003,  -149.9990,       4374,  3500.8,   1.3838,  34.7272,2,  34.7263,2,    193.3,4,   200.0,2,  106.44,2,   31.33,2,    0.00,2,    2.19,2,   0.118,2,   0.036,2,    0.00,2,  -999.0,9,  -999.0,9,-999.0000,9,  -999.00,-999.000,9,-999.0000,9, -999.00,9,   1.3843,2, -999.00,9,  -999.0,9, -999.00,9,  -999.0,9, -999.00,9,      21.01,2,     -999.0,9, -999.00,9, 20140413,     1419, -51.5003,-149.9990,    34.8901,2,     -999.0,9,     -999.0,9,     -999.0,9,     -999.0,9,     -999.0,9,     -999.0,9
320620140320,       P16S,      34,          1,          3,         03,2,20140413,       1401,   -51.5003,  -149.9990,       4374,  3799.0,   1.1634,  34.7183,2,  34.7174,2,    197.2,4,   202.5,2,  114.75,2,   31.71,2,    0.00,2,    2.21,2,-999.000,9,-999.000,9, -999.00,9,  2262.1,2,  2364.9,6,   7.6745,2,       20,-999.000,9,-999.0000,9, -999.00,9,   1.1641,2, -999.00,9,  -999.0,9, -999.00,9,  -999.0,9, -999.00,9,     -999.0,9,     -999.0,9, -999.00,9, 20140413,     1411, -51.5003,-149.9990,    34.8812,2,     -999.0,9,     -999.0,9,     -999.0,9,     -999.0,9,     -999.0,9,     -999.0,9
320620140320,       P16S,      34,          1,          2,         02,2,20140413,       1401,   -51.5003,  -149.9990,       4374,  3949.2,   1.1222,  34.7161,2,  34.7155,2,    197.4,4,   202.9,2,  116.70,2,   31.80,2,    0.00,2,    2.22,2,-999.000,9,-999.000,9, -999.00,9,  2262.6,2,  2365.3,2,   7.6745,6,       20,-999.000,9,-999.0000,9, -999.00,9,   1.1223,2, -999.00,9,  -999.0,9, -999.00,9,  -999.0,9, -999.00,9,     -999.0,9,     -999.0,9, -999.00,9, 20140413,     1406, -51.5004,-149.9991,    34.8792,2,     -999.0,9,     -999.0,9,     -999.0,9,     -999.0,9,     -999.0,9,     -999.0,9
320620140320,       P16S,      34,          1,          1,         01,2,20140413,       1401,   -51.5003,  -149.9990,       4374,  4100.9,   1.1016,  34.7147,2,  34.7143,2,    188.1,4,   203.3,2,  118.07,2,   31.84,2,    0.00,2,    2.22,2,   0.136,2,   0.037,2,    0.05,2,  2264.6,6,  2365.8,2,   7.6741,2,       20,-999.000,9,-999.0000,9, -999.00,9,   1.1017,2, -999.00,9,  -999.0,9, -999.00,9,  -999.0,9, -999.00,9,      20.18,2,     -999.0,9, -999.00,9, 20140413,     1400, -51.5003,-149.9991,    34.8780,2,     -999.0,9,     -999.0,9,     -999.0,9,     -999.0,9,     -999.0,9,     -999.0,9