BOTTLE,20230715CCHSIOCBG
EXPOCODE,SECT_ID,STNNBR,CASTNO,SAMPNO,BTLNBR,BTLNBR_FLAG_W,DATE,TIME,LATITUDE,LONGITUDE,DEPTH,CTDPRS,CTDTMP,CTDSAL,CTDSAL_FLAG_W,SALNTY,SALNTY_FLAG_W,CTDOXY,CTDOXY_FLAG_W,OXYGEN,OXYGEN_FLAG_W,SILCAT,SILCAT_FLAG_W,NITRAT,NITRAT_FLAG_W,NITRIT,NITRIT_FLAG_W,PHSPHT,PHSPHT_FLAG_W,CFC-11,CFC-11_FLAG_W,CFC-12,CFC-12_FLAG_W,SF6,SF6_FLAG_W,TCARBN,TCARBN_FLAG_W,ALKALI,ALKALI_FLAG_W,PH_TOT,PH_TOT_FLAG_W,PH_TMP,TRITUM,TRITUM_FLAG_W,HELIUM,HELIUM_FLAG_W,DELHE3,DELHE3_FLAG_W,REFTMP,REFTMP_FLAG_W,DELC13,DELC13_FLAG_W,DELC14,DELC14_FLAG_W,DELO18,DELO18_FLAG_W,DOC,DOC_FLAG_W,TDN,TDN_FLAG_W,N2O,N2O_FLAG_W,CALCIUM,CALCIUM_FLAG_W,D15N_NO3,D15N_NO3_FLAG_W,BTL_DATE,BTL_TIME,BTL_LAT,BTL_LON,SALTREF,SALTREF_FLAG_W,D18O_NO3,D18O_NO3_FLAG_W,DSI30,DSI30_FLAG_W,CDOM_NASA,CDOM_NASA_FLAG_W,CDOM_UCSB,CDOM_UCSB_FLAG_W,D15N_NO2+NO3,D15N_NO2+NO3_FLAG_W,D18O_NO2+NO3,D18O_NO2+NO3_FLAG_W
,,,,,,,,,,,METERS,DBAR,ITS-90,PSS-78,,PSS-78,,UMOL/KG,,UMOL/KG,,UMOL/KG,,UMOL/KG,,UMOL/KG,,UMOL/KG,,PMOL/KG,,PMOL/KG,,FMOL/KG,,UMOL/KG,,UMOL/KG,,,,DEG C,TU,,NMOL/KG,,PERCNT,,DEG C,,/MILLE,,/MILLE,,/MILLE,,UMOL/KG,,UMOL/KG,,NMOL/KG,,MMOL/KG,,/MILLE,,,,,,G/KG,,/MILLE,,/MILLE,,,,,,/MILLE,,/MILLE,
320620140320,       P16S,      59,          1,          5,         05,2,20140423,       1217,   -35.6668,  -149.9996,       5317,  4264.5,   1.2957,  34.7119,2,  34.7125,2,    197.0,2,   196.7,2,  115.90,2,   32.41,2,    0.00,2,    2.22,2,   0.007,2,   0.000,2,    0.01,2,    2268,2,  2368.7,2,   7.6744,2,       20,-999.000,9,-999.0000,9, -999.00,9,   1.2954,2, -999.00,9,  -999.0,9, -999.00,9,  -999.0,9, -999.00,9,      19.49,2,     -999.0,9, -999.00,9, 20140423,     1246, -35.6668,-149.9996,    34.8761,2,     -999.0,9,     -999.0,9,     -999.0,9,     -999.0,9,     -999.0,9,     -999.0,9
320620140320,       P16S,      59,          1,          4,         04,2,20140423,       1217,   -35.6668,  -149.9996,       5317,  4665.1,   1.1702,  34.7110,2,  34.7119,2,    202.1,2,   202.2,2,  118.35,2,   32.36,2,    0.00,2,    2.21,2,   0.017,2,   0.001,2,    0.05,2,  2266.3,2,  2367.4,2,   7.6775,6,       20,-999.000,9,-999.0000,1, -999.00,9,   1.1702,2, -999.00,9,  -999.0,9, -999.00,9,  -999.0,9, -999.00,9,      20.02,2,     -999.0,9, -999.00,9, 20140423,     1238, -35.6668,-149.9996,    34.8756,2,     -999.0,9,     -999.0,9,     -999.0,9,     -999.0,9,     -999.0,9,     -999.0,9
320620140320,       P16S,      59,          1,          3,         03,2,20140423,       1217,   -35.6668,  -149.9996,       5317,  5064.8,   1.1397,  34.7100,2,  34.7113,2,    203.8,2,   204.2,2,  119.62,2,   32.34,2,    0.00,2,    2.22,2,   0.028,2,   0.002,2,    0.02,2,  2264.7,2,    2368,2,   7.6767,2,       20,-999.000,1,-999.0000,1, -999.00,9,   1.1399,2, -999.00,9,  -999.0,9, -999.00,9,  -999.0,9, -999.00,9,      19.84,2,     -999.0,9, -999.00,9, 20140423,     1228, -35.6668,-149.9996,    34.8750,2,     -999.0,9,     -999.0,9,     -999.0,9,     -999.0,9,     -999.0,9,     -999.0,9
320620140320,       P16S,      59,          1,          2,         02,2,20140423,       1217,   -35.6668,  -149.9996,       5317,  5239.1,   1.1516,  34.7098,2,  34.7105,2,    204.3,2,   204.5,2,  120.01,2,   32.31,2,    0.00,2,    2.21,2,   0.029,2,   0.002,2,    0.03,2,  2265.1,2,  2367.7,2,    7.676,2,       20,-999.000,9,-999.0000,1, -999.00,9,   1.1520,2, -999.00,9,  -999.0,9, -999.00,9,  -999.0,9, -999.00,9,      18.93,2,     -999.0,9, -999.00,9, 20140423,     1223, -35.6668,-149.9996,    34.8742,2,     -999.0,9,     -999.0,9,     -999.0,9,     -999.0,9,     -999.0,9,     -999.0,9
320620140320,       P16S,      59,          1,          1,         01,2,20140423,       1217,   -35.6668,  -149.9996,       5317,  5413.6,   1.1720,  34.7095,2,  34.7107,2,    204.5,2,   204.5,2,  120.01,2,   32.36,2,    0.00,2,    2.20,2,   0.031,2,   0.003,2,    0.04,2,  2265.7,6,  2367.8,2,   7.6774,2,       20,-999.000,1,-999.0000,1, -999.00,9,   1.1721,2, -999.00,9,  -999.0,9, -999.00,9,  -999.0,9, -999.00,9,      18.75,2,     -999.0,9, -999.00,9, 20140423,     1217, -35.6668,-149.9996,    34.8744,2,     -999.0,9,     -999.0,9,     -999.0,9,     -999.0,9,     -999.0,9,     -999.0,9