BOTTLE,20230715CCHSIOCBG
EXPOCODE,SECT_ID,STNNBR,CASTNO,SAMPNO,BTLNBR,BTLNBR_FLAG_W,DATE,TIME,LATITUDE,LONGITUDE,DEPTH,CTDPRS,CTDTMP,CTDSAL,CTDSAL_FLAG_W,SALNTY,SALNTY_FLAG_W,CTDOXY,CTDOXY_FLAG_W,OXYGEN,OXYGEN_FLAG_W,SILCAT,SILCAT_FLAG_W,NITRAT,NITRAT_FLAG_W,NITRIT,NITRIT_FLAG_W,PHSPHT,PHSPHT_FLAG_W,CFC-11,CFC-11_FLAG_W,CFC-12,CFC-12_FLAG_W,SF6,SF6_FLAG_W,TCARBN,TCARBN_FLAG_W,ALKALI,ALKALI_FLAG_W,PH_TOT,PH_TOT_FLAG_W,PH_TMP,TRITUM,TRITUM_FLAG_W,HELIUM,HELIUM_FLAG_W,DELHE3,DELHE3_FLAG_W,REFTMP,REFTMP_FLAG_W,DELC13,DELC13_FLAG_W,DELC14,DELC14_FLAG_W,DELO18,DELO18_FLAG_W,DOC,DOC_FLAG_W,TDN,TDN_FLAG_W,N2O,N2O_FLAG_W,CALCIUM,CALCIUM_FLAG_W,D15N_NO3,D15N_NO3_FLAG_W,BTL_DATE,BTL_TIME,BTL_LAT,BTL_LON,SALTREF,SALTREF_FLAG_W,D18O_NO3,D18O_NO3_FLAG_W,DSI30,DSI30_FLAG_W,CDOM_NASA,CDOM_NASA_FLAG_W,CDOM_UCSB,CDOM_UCSB_FLAG_W,D15N_NO2+NO3,D15N_NO2+NO3_FLAG_W,D18O_NO2+NO3,D18O_NO2+NO3_FLAG_W
,,,,,,,,,,,METERS,DBAR,ITS-90,PSS-78,,PSS-78,,UMOL/KG,,UMOL/KG,,UMOL/KG,,UMOL/KG,,UMOL/KG,,UMOL/KG,,PMOL/KG,,PMOL/KG,,FMOL/KG,,UMOL/KG,,UMOL/KG,,,,DEG C,TU,,NMOL/KG,,PERCNT,,DEG C,,/MILLE,,/MILLE,,/MILLE,,UMOL/KG,,UMOL/KG,,NMOL/KG,,MMOL/KG,,/MILLE,,,,,,G/KG,,/MILLE,,/MILLE,,,,,,/MILLE,,/MILLE,
320620140320,       P16S,      14,          1,         36,         36,2,20140404,       0759,   -62.4997,  -149.9998,       3298,     4.9,   0.6885,  33.8946,2,  33.8960,2,    337.6,2,   338.5,2,   53.53,2,   25.36,2,    0.24,2,    1.78,2,   5.845,2,   2.984,2,    3.10,2,    2172,6,  2295.4,2,   7.7524,2,       20,-999.000,9,-999.0000,9, -999.00,9,   0.6874,2, -999.00,9,  -999.0,9, -999.00,9,  -999.0,9, -999.00,9,      14.63,2,     -999.0,9, -999.00,9, 20140404,      938, -62.4995,-149.9993,    34.0558,2,     -999.0,9,     -999.0,9,     -999.0,9,     -999.0,9,     -999.0,9,     -999.0,9
320620140320,       P16S,      14,          1,         35,         35,2,20140404,       0759,   -62.4997,  -149.9998,       3298,    24.6,   0.6981,  33.8964,2,  33.8974,2,    338.8,2,   338.6,2,   53.53,2,   25.39,2,    0.24,2,    1.79,2,-999.000,9,-999.000,9, -999.00,9,  2172.7,2,  2294.9,2,   7.7525,6,       20,-999.000,9,-999.0000,9, -999.00,9,   0.6980,2, -999.00,9,  -999.0,9, -999.00,9,  -999.0,9, -999.00,9,     -999.0,9,     -999.0,9, -999.00,9, 20140404,      936, -62.4996,-149.9994,    34.0572,2,     -999.0,9,     -999.0,9,     -999.0,9,     -999.0,9,     -999.0,9,     -999.0,9
320620140320,       P16S,      14,          1,         34,         34,2,20140404,       0759,   -62.4997,  -149.9998,       3298,    50.7,   0.7008,  33.8966,2,  33.8981,2,    338.9,2,   338.4,2,   53.62,2,   25.46,2,    0.24,2,    1.79,2,-999.000,9,-999.000,9, -999.00,9,  2172.2,2,  2295.3,6,   7.7538,2,       20,-999.000,9,-999.0000,9, -999.00,9,   0.7006,2, -999.00,9,  -999.0,9, -999.00,9,  -999.0,9, -999.00,9,     -999.0,9,     -999.0,9, -999.00,9, 20140404,      934, -62.4997,-149.9996,    34.0580,2,     -999.0,9,     -999.0,9,     -999.0,9,     -999.0,9,     -999.0,9,     -999.0,9
320620140320,       P16S,      14,          1,         33,         33,2,20140404,       0759,   -62.4997,  -149.9998,       3298,    74.6,   0.5481,  33.9614,2,  33.9614,2,    335.1,2,   335.5,2,   55.38,2,   25.98,2,    0.24,2,    1.85,2,-999.000,9,-999.000,9, -999.00,9,  2178.6,2,    2299,2,   7.7448,2,       20,-999.000,9,-999.0000,9, -999.00,9,   0.5566,2, -999.00,9,  -999.0,9, -999.00,9,  -999.0,9, -999.00,9,     -999.0,9,     -999.0,9, -999.00,9, 20140404,      932, -62.4997,-149.9996,    34.1215,2,     -999.0,9,     -999.0,9,     -999.0,9,     -999.0,9,     -999.0,9,     -999.0,9
320620140320,       P16S,      14,          1,         32,         32,2,20140404,       0759,   -62.4997,  -149.9998,       3298,    99.3,  -0.3870,  34.2334,2,  34.2456,2,    281.9,2,   306.1,2,   68.75,2,   28.70,2,    0.21,2,    2.06,2,-999.000,9,-999.000,9, -999.00,9,  2212.8,2,  2317.1,2,   7.6942,2,       20,-999.000,9,-999.0000,9, -999.00,9,  -0.3817,2, -999.00,9,  -999.0,9, -999.00,9,  -999.0,9, -999.00,9,     -999.0,9,     -999.0,9, -999.00,9, 20140404,      930, -62.4997,-149.9997,    34.4071,2,     -999.0,9,     -999.0,9,     -999.0,9,     -999.0,9,     -999.0,9,     -999.0,9
320620140320,       P16S,      14,          1,         31,         31,2,20140404,       0759,   -62.4997,  -149.9998,       3298,   126.2,   0.2791,  34.4918,2,  34.4866,2,    239.3,2,   236.3,2,   85.43,2,   31.72,2,    0.25,2,    2.25,2,-999.000,9,-999.000,9, -999.00,9,  2243.7,2,  2331.9,2,   7.6443,2,       20,-999.000,9,-999.0000,9, -999.00,9,   0.2797,2, -999.00,9,  -999.0,9, -999.00,9,  -999.0,9, -999.00,9,     -999.0,9,     -999.0,9, -999.00,9, 20140404,      928, -62.4997,-149.9998,    34.6492,2,     -999.0,9,     -999.0,9,     -999.0,9,     -999.0,9,     -999.0,9,     -999.0,9
320620140320,       P16S,      14,          1,         30,         30,2,20140404,       0759,   -62.4997,  -149.9998,       3298,   148.9,   0.8152,  34.6065,2,  34.5954,2,    203.6,2,   203.9,2,   93.23,2,   32.97,2,    0.03,2,    2.30,2,-999.000,9,-999.000,9, -999.00,9,  2256.8,2,  2338.5,2,   7.6252,2,       20,-999.000,9,-999.0000,9, -999.00,9,   0.7806,3, -999.00,9,  -999.0,9, -999.00,9,  -999.0,9, -999.00,9,     -999.0,9,     -999.0,9, -999.00,9, 20140404,      927, -62.4997,-149.9998,    34.7585,2,     -999.0,9,     -999.0,9,     -999.0,9,     -999.0,9,     -999.0,9,     -999.0,9
320620140320,       P16S,      14,          1,         29,         29,2,20140404,       0759,   -62.4997,  -149.9998,       3298,   176.5,   1.2180,  34.6906,2,  34.6873,2,    182.7,2,   179.3,2,   99.86,2,   33.61,2,    0.01,2,    2.33,2,-999.000,9,-999.000,9, -999.00,9,  2266.8,2,  2347.1,2,   7.6129,2,       20,-999.000,9,-999.0000,9, -999.00,9,   1.2186,2, -999.00,9,  -999.0,9, -999.00,9,  -999.0,9, -999.00,9,     -999.0,9,     -999.0,9, -999.00,9, 20140404,      925, -62.4997,-149.9999,    34.8509,2,     -999.0,9,     -999.0,9,     -999.0,9,     -999.0,9,     -999.0,9,     -999.0,9
320620140320,       P16S,      14,          1,         28,         28,2,20140404,       0759,   -62.4997,  -149.9998,       3298,   201.1,   1.3451,  34.7163,2,  34.7164,2,    173.8,2,   173.5,2,  102.11,2,   33.74,2,    0.01,2,    2.32,2,-999.000,9,-999.000,9, -999.00,9,  2270.9,2,    2350,2,   7.6138,2,       20,-999.000,9,-999.0000,9, -999.00,9,   1.3447,2, -999.00,9,  -999.0,9, -999.00,9,  -999.0,9, -999.00,9,     -999.0,9,     -999.0,9, -999.00,9, 20140404,      923, -62.4998,-150.0000,    34.8801,2,     -999.0,9,     -999.0,9,     -999.0,9,     -999.0,9,     -999.0,9,     -999.0,9
320620140320,       P16S,      14,          1,         27,         27,2,20140404,       0759,   -62.4997,  -149.9998,       3298,   248.8,   1.3642,  34.7271,2,  34.7270,2,    173.9,2,   174.3,2,  104.35,2,   33.41,2,    0.01,2,    2.29,2,   0.218,2,   0.087,2,    0.12,2,  2269.2,2,  2352.8,2,   7.6189,2,       20,-999.000,9,-999.0000,9, -999.00,9,   1.3649,2, -999.00,9,  -999.0,9, -999.00,9,  -999.0,9, -999.00,9,      21.90,2,     -999.0,9, -999.00,9, 20140404,      921, -62.4997,-150.0000,    34.8908,2,     -999.0,9,     -999.0,9,     -999.0,9,     -999.0,9,     -999.0,9,     -999.0,9
320620140320,       P16S,      14,          1,         26,         26,2,20140404,       0759,   -62.4997,  -149.9998,       3298,   299.5,   1.3292,  34.7284,2,  34.7286,2,    176.5,2,   176.4,2,  106.40,2,   33.23,2,    0.01,2,    2.30,2,-999.000,9,-999.000,9, -999.00,9,    2269,2,  2352.6,2,   7.6299,2,       20,-999.000,9,-999.0000,9, -999.00,9,   1.3281,2, -999.00,9,  -999.0,9, -999.00,9,  -999.0,9, -999.00,9,     -999.0,9,     -999.0,9, -999.00,9, 20140404,      919, -62.4998,-150.0001,    34.8923,2,     -999.0,9,     -999.0,9,     -999.0,9,     -999.0,9,     -999.0,9,     -999.0,9
320620140320,       P16S,      14,          1,         25,         25,2,20140404,       0759,   -62.4997,  -149.9998,       3298,   351.0,   1.2949,  34.7283,2,  34.7284,2,    178.1,2,   178.2,2,  107.08,2,   33.07,2,    0.01,2,    2.29,2,-999.000,9,-999.000,9, -999.00,9,  2268.1,2,  2353.6,2,   7.6288,2,       20,-999.000,9,-999.0000,9, -999.00,9,   1.2952,2, -999.00,9,  -999.0,9, -999.00,9,  -999.0,9, -999.00,9,     -999.0,9,     -999.0,9, -999.00,9, 20140404,      917, -62.4998,-149.9999,    34.8921,2,     -999.0,9,     -999.0,9,     -999.0,9,     -999.0,9,     -999.0,9,     -999.0,9
320620140320,       P16S,      14,          1,         24,         24,2,20140404,       0759,   -62.4997,  -149.9998,       3298,   399.1,   1.2591,  34.7282,2,  34.7258,2,    180.1,2,   180.0,2,  108.45,2,   32.99,2,    0.01,2,    2.28,2,-999.000,9,-999.000,9, -999.00,9,  2266.9,2,  2354.2,2,   7.6267,2,       20,-999.000,9,-999.0000,9, -999.00,9,   1.2591,2, -999.00,9,  -999.0,9, -999.00,9,  -999.0,9, -999.00,9,     -999.0,9,     -999.0,9, -999.00,9, 20140404,      915, -62.4998,-149.9999,    34.8896,2,     -999.0,9,     -999.0,9,     -999.0,9,     -999.0,9,     -999.0,9,     -999.0,9
320620140320,       P16S,      14,          1,         23,         23,2,20140404,       0759,   -62.4997,  -149.9998,       3298,   450.0,   1.2119,  34.7268,2,  34.7274,2,    181.5,2,   181.3,2,  109.72,2,   32.93,2,    0.01,2,    2.26,2,-999.000,9,-999.000,9, -999.00,9,  2267.4,2,  2354.6,2,   7.6318,2,       20,-999.000,9,-999.0000,9, -999.00,9,   1.2113,2, -999.00,9,  -999.0,9, -999.00,9,  -999.0,9, -999.00,9,     -999.0,9,     -999.0,9, -999.00,9, 20140404,      913, -62.4997,-149.9999,    34.8912,2,     -999.0,9,     -999.0,9,     -999.0,9,     -999.0,9,     -999.0,9,     -999.0,9
320620140320,       P16S,      14,          1,         22,         22,2,20140404,       0759,   -62.4997,  -149.9998,       3298,   500.4,   1.1737,  34.7261,2,  34.7258,2,    183.2,2,   183.4,2,  110.99,2,   32.92,2,    0.01,2,    2.26,2,-999.000,9,-999.000,9, -999.00,9,    2266,2,  2355.7,2,   7.6397,2,       20,-999.000,9,-999.0000,9, -999.00,9,   1.1739,2, -999.00,9,  -999.0,9, -999.00,9,  -999.0,9, -999.00,9,     -999.0,9,     -999.0,9, -999.00,9, 20140404,      911, -62.4997,-149.9998,    34.8896,2,     -999.0,9,     -999.0,9,     -999.0,9,     -999.0,9,     -999.0,9,     -999.0,9
320620140320,       P16S,      14,          1,         21,         21,2,20140404,       0759,   -62.4997,  -149.9998,       3298,   601.4,   1.1021,  34.7235,2,  34.7246,2,    186.8,2,   186.7,2,  112.65,2,   32.81,2,    0.01,2,    2.27,2,   0.126,2,   0.032,2,    0.14,2,  2265.1,2,  2356.7,2,   7.6459,2,       20,-999.000,9,-999.0000,9, -999.00,9,   1.1017,2, -999.00,9,  -999.0,9, -999.00,9,  -999.0,9, -999.00,9,      21.15,2,     -999.0,9, -999.00,9, 20140404,      908, -62.4997,-149.9998,    34.8884,2,     -999.0,9,     -999.0,9,     -999.0,9,     -999.0,9,     -999.0,9,     -999.0,9
320620140320,       P16S,      14,          1,         20,         20,2,20140404,       0759,   -62.4997,  -149.9998,       3298,   701.1,   1.0294,  34.7216,2,  34.7215,2,    189.9,2,   190.2,2,  114.99,2,   32.78,2,    0.00,2,    2.26,2,-999.000,9,-999.000,9, -999.00,9,  2264.8,2,  2357.5,2,   7.6511,2,       20,-999.000,9,-999.0000,9, -999.00,9,   1.0301,2, -999.00,9,  -999.0,9, -999.00,9,  -999.0,9, -999.00,9,     -999.0,9,     -999.0,9, -999.00,9, 20140404,      905, -62.4997,-149.9998,    34.8852,2,     -999.0,9,     -999.0,9,     -999.0,9,     -999.0,9,     -999.0,9,     -999.0,9
320620140320,       P16S,      14,          1,         19,         19,2,20140404,       0759,   -62.4997,  -149.9998,       3298,   799.2,   0.9569,  34.7183,2,  34.7188,2,    192.2,2,   193.4,2,  116.75,2,   32.75,2,    0.00,2,    2.26,2,-999.000,9,-999.000,9, -999.00,9,  2263.9,2,  2358.5,2,    7.654,2,       20,-999.000,9,-999.0000,9, -999.00,9,   0.9572,2, -999.00,9,  -999.0,9, -999.00,9,  -999.0,9, -999.00,9,     -999.0,9,     -999.0,9, -999.00,9, 20140404,      903, -62.4997,-149.9998,    34.8825,2,     -999.0,9,     -999.0,9,     -999.0,9,     -999.0,9,     -999.0,9,     -999.0,9
320620140320,       P16S,      14,          1,         18,         18,2,20140404,       0759,   -62.4997,  -149.9998,       3298,   898.8,   0.9066,  34.7166,2,  34.7164,2,    194.6,2,   194.9,2,  118.12,2,   32.59,2,    0.00,2,    2.25,2,-999.000,9,-999.000,9, -999.00,9,  -999.0,9,  -999.0,9,-999.0000,9,  -999.00,-999.000,9,-999.0000,9, -999.00,9,   0.9069,2, -999.00,9,  -999.0,9, -999.00,9,  -999.0,9, -999.00,9,     -999.0,9,     -999.0,9, -999.00,9, 20140404,      900, -62.4997,-149.9998,    34.8801,2,     -999.0,9,     -999.0,9,     -999.0,9,     -999.0,9,     -999.0,9,     -999.0,9
320620140320,       P16S,      14,          1,         17,         17,2,20140404,       0759,   -62.4997,  -149.9998,       3298,  1001.3,   0.8536,  34.7144,2,  34.7142,2,    197.1,2,   197.1,2,  119.87,2,   32.59,2,    0.00,2,    2.25,2,-999.000,9,-999.000,9, -999.00,9,  2263.5,2,  2359.5,2,   7.6596,2,       20,-999.000,9,-999.0000,9, -999.00,9,   0.8539,2, -999.00,9,  -999.0,9, -999.00,9,  -999.0,9, -999.00,9,     -999.0,9,     -999.0,9, -999.00,9, 20140404,      857, -62.4997,-149.9998,    34.8779,2,     -999.0,9,     -999.0,9,     -999.0,9,     -999.0,9,     -999.0,9,     -999.0,9
320620140320,       P16S,      14,          1,         16,         16,2,20140404,       0759,   -62.4997,  -149.9998,       3298,  1098.0,   0.8051,  34.7126,2,  34.7127,2,    198.4,2,   198.4,2,  121.44,2,   32.68,2,    0.00,2,    2.26,2,-999.000,9,-999.000,9, -999.00,9,  -999.0,9,  -999.0,9,-999.0000,9,  -999.00,-999.000,9,-999.0000,9, -999.00,9,   0.8053,2, -999.00,9,  -999.0,9, -999.00,9,  -999.0,9, -999.00,9,     -999.0,9,     -999.0,9, -999.00,9, 20140404,      853, -62.4997,-149.9996,    34.8763,2,     -999.0,9,     -999.0,9,     -999.0,9,     -999.0,9,     -999.0,9,     -999.0,9
320620140320,       P16S,      14,          1,         15,         15,2,20140404,       0759,   -62.4997,  -149.9998,       3298,  1199.6,   0.7561,  34.7104,2,  34.7111,2,    199.8,2,   199.7,2,  122.90,2,   32.59,2,    0.00,2,    2.25,2,   0.099,2,   0.035,2,    0.10,2,  2262.7,2,  2360.4,2,   7.6624,2,       20,-999.000,9,-999.0000,9, -999.00,9,   0.7562,2, -999.00,9,  -999.0,9, -999.00,9,  -999.0,9, -999.00,9,      19.48,2,     -999.0,9, -999.00,9, 20140404,      851, -62.4996,-149.9997,    34.8748,2,     -999.0,9,     -999.0,9,     -999.0,9,     -999.0,9,     -999.0,9,     -999.0,9
320620140320,       P16S,      14,          1,         14,         14,2,20140404,       0759,   -62.4997,  -149.9998,       3298,  1299.9,   0.7109,  34.7091,2,  34.7052,3,    201.2,2,   201.4,2,  124.36,2,   32.58,2,    0.00,2,    2.25,2,-999.000,9,-999.000,9, -999.00,9,  -999.0,9,  -999.0,9,-999.0000,9,  -999.00,-999.000,9,-999.0000,9, -999.00,9,   0.7111,2, -999.00,9,  -999.0,9, -999.00,9,  -999.0,9, -999.00,9,     -999.0,9,     -999.0,9, -999.00,9, 20140404,      848, -62.4996,-149.9996,    34.8688,3,     -999.0,9,     -999.0,9,     -999.0,9,     -999.0,9,     -999.0,9,     -999.0,9
320620140320,       P16S,      14,          1,         13,         13,2,20140404,       0759,   -62.4997,  -149.9998,       3298,  1399.4,   0.6691,  34.7071,2,  34.7079,2,    202.9,2,   202.6,2,  125.34,2,   32.56,2,    0.00,2,    2.25,2,-999.000,9,-999.000,9, -999.00,9,  2262.8,2,  2361.4,2,   7.6643,2,       20,-999.000,9,-999.0000,9, -999.00,9,   0.6685,2, -999.00,9,  -999.0,9, -999.00,9,  -999.0,9, -999.00,9,     -999.0,9,     -999.0,9, -999.00,9, 20140404,      845, -62.4996,-149.9996,    34.8716,2,     -999.0,9,     -999.0,9,     -999.0,9,     -999.0,9,     -999.0,9,     -999.0,9
320620140320,       P16S,      14,          1,         12,         12,2,20140404,       0759,   -62.4997,  -149.9998,       3298,  1499.8,   0.6341,  34.7059,2,  34.7066,2,    204.0,2,   204.2,2,  125.73,2,   32.57,2,    0.00,2,    2.25,2,-999.000,9,-999.000,9, -999.00,9,  -999.0,9,  -999.0,9,-999.0000,9,  -999.00,-999.000,9,-999.0000,9, -999.00,9,   0.6339,2, -999.00,9,  -999.0,9, -999.00,9,  -999.0,9, -999.00,9,     -999.0,9,     -999.0,9, -999.00,9, 20140404,      842, -62.4997,-149.9997,    34.8702,2,     -999.0,9,     -999.0,9,     -999.0,9,     -999.0,9,     -999.0,9,     -999.0,9
320620140320,       P16S,      14,          1,         11,         11,2,20140404,       0759,   -62.4997,  -149.9998,       3298,  1600.2,   0.5916,  34.7049,2,  34.7060,2,    205.0,2,   204.2,2,  126.22,2,   32.64,2,    0.00,2,    2.25,2,   0.131,2,   0.047,2,    0.07,2,    2262,2,  2360.2,2,   7.6647,2,       20,-999.000,9,-999.0000,9, -999.00,9,   0.5912,2, -999.00,9,  -999.0,9, -999.00,9,  -999.0,9, -999.00,9,      19.46,2,     -999.0,9, -999.00,9, 20140404,      840, -62.4996,-149.9997,    34.8696,2,     -999.0,9,     -999.0,9,     -999.0,9,     -999.0,9,     -999.0,9,     -999.0,9
320620140320,       P16S,      14,          1,         10,         10,2,20140404,       0759,   -62.4997,  -149.9998,       3298,  1699.7,   0.5425,  34.7037,2,  34.7048,2,    206.2,2,   205.8,2,  127.59,2,   32.54,2,    0.00,2,    2.25,2,-999.000,9,-999.000,9, -999.00,9,  -999.0,9,  -999.0,9,-999.0000,9,  -999.00,-999.000,9,-999.0000,9, -999.00,9,   0.5421,2, -999.00,9,  -999.0,9, -999.00,9,  -999.0,9, -999.00,9,     -999.0,9,     -999.0,9, -999.00,9, 20140404,      837, -62.4996,-149.9997,    34.8684,2,     -999.0,9,     -999.0,9,     -999.0,9,     -999.0,9,     -999.0,9,     -999.0,9
320620140320,       P16S,      14,          1,          9,         09,2,20140404,       0759,   -62.4997,  -149.9998,       3298,  1799.1,   0.5070,  34.7029,2,  34.7030,2,    207.1,2,   206.9,2,  127.59,2,   32.50,2,    0.00,2,    2.25,2,-999.000,9,-999.000,9, -999.00,9,  2262.5,2,  2360.5,2,   7.6651,2,       20,-999.000,9,-999.0000,9, -999.00,9,   0.5067,2, -999.00,9,  -999.0,9, -999.00,9,  -999.0,9, -999.00,9,     -999.0,9,     -999.0,9, -999.00,9, 20140404,      834, -62.4996,-149.9997,    34.8667,2,     -999.0,9,     -999.0,9,     -999.0,9,     -999.0,9,     -999.0,9,     -999.0,9
320620140320,       P16S,      14,          1,          8,         08,2,20140404,       0759,   -62.4997,  -149.9998,       3298,  1998.5,   0.4291,  34.7019,2,  34.7022,2,    209.1,2,   208.9,2,  129.15,2,   32.70,2,    0.00,2,    2.24,2,-999.000,9,-999.000,9, -999.00,9,  -999.0,9,  -999.0,9,-999.0000,9,  -999.00,-999.000,9,-999.0000,9, -999.00,9,   0.4292,2, -999.00,9,  -999.0,9, -999.00,9,  -999.0,9, -999.00,9,     -999.0,9,     -999.0,9, -999.00,9, 20140404,      830, -62.4997,-149.9997,    34.8659,2,     -999.0,9,     -999.0,9,     -999.0,9,     -999.0,9,     -999.0,9,     -999.0,9
320620140320,       P16S,      14,          1,          7,         07,2,20140404,       0759,   -62.4997,  -149.9998,       3298,  2199.7,   0.3525,  34.7002,2,  34.7005,2,    211.4,2,   211.2,2,  129.83,2,   32.75,2,    0.00,2,    2.25,2,   0.278,2,   0.110,2,    0.03,2,  2262.3,2,  2361.4,2,   7.6663,2,       20,-999.000,9,-999.0000,9, -999.00,9,   0.3526,2, -999.00,9,  -999.0,9, -999.00,9,  -999.0,9, -999.00,9,      18.81,2,     -999.0,9, -999.00,9, 20140404,      825, -62.4997,-149.9997,    34.8641,2,     -999.0,9,     -999.0,9,     -999.0,9,     -999.0,9,     -999.0,9,     -999.0,9
320620140320,       P16S,      14,          1,          6,         06,2,20140404,       0759,   -62.4997,  -149.9998,       3298,  2399.3,   0.2765,  34.6972,2,  34.6977,2,    213.8,2,   214.1,2,  128.86,2,   32.54,2,    0.00,2,    2.25,2,-999.000,9,-999.000,9, -999.00,9,  -999.0,9,  -999.0,9,-999.0000,9,  -999.00,-999.000,9,-999.0000,9, -999.00,9,   0.2765,2, -999.00,9,  -999.0,9, -999.00,9,  -999.0,9, -999.00,9,     -999.0,9,     -999.0,9, -999.00,9, 20140404,      821, -62.4997,-149.9997,    34.8613,2,     -999.0,9,     -999.0,9,     -999.0,9,     -999.0,9,     -999.0,9,     -999.0,9