BOTTLE,20230715CCHSIOCBG
EXPOCODE,SECT_ID,STNNBR,CASTNO,SAMPNO,BTLNBR,BTLNBR_FLAG_W,DATE,TIME,LATITUDE,LONGITUDE,DEPTH,CTDPRS,CTDTMP,CTDSAL,CTDSAL_FLAG_W,SALNTY,SALNTY_FLAG_W,CTDOXY,CTDOXY_FLAG_W,OXYGEN,OXYGEN_FLAG_W,SILCAT,SILCAT_FLAG_W,NITRAT,NITRAT_FLAG_W,NITRIT,NITRIT_FLAG_W,PHSPHT,PHSPHT_FLAG_W,CFC-11,CFC-11_FLAG_W,CFC-12,CFC-12_FLAG_W,SF6,SF6_FLAG_W,TCARBN,TCARBN_FLAG_W,ALKALI,ALKALI_FLAG_W,PH_TOT,PH_TOT_FLAG_W,PH_TMP,TRITUM,TRITUM_FLAG_W,HELIUM,HELIUM_FLAG_W,DELHE3,DELHE3_FLAG_W,REFTMP,REFTMP_FLAG_W,DELC13,DELC13_FLAG_W,DELC14,DELC14_FLAG_W,DELO18,DELO18_FLAG_W,DOC,DOC_FLAG_W,TDN,TDN_FLAG_W,N2O,N2O_FLAG_W,CALCIUM,CALCIUM_FLAG_W,D15N_NO3,D15N_NO3_FLAG_W,BTL_DATE,BTL_TIME,BTL_LAT,BTL_LON,SALTREF,SALTREF_FLAG_W,D18O_NO3,D18O_NO3_FLAG_W,DSI30,DSI30_FLAG_W,CDOM_NASA,CDOM_NASA_FLAG_W,CDOM_UCSB,CDOM_UCSB_FLAG_W,D15N_NO2+NO3,D15N_NO2+NO3_FLAG_W,D18O_NO2+NO3,D18O_NO2+NO3_FLAG_W
,,,,,,,,,,,METERS,DBAR,ITS-90,PSS-78,,PSS-78,,UMOL/KG,,UMOL/KG,,UMOL/KG,,UMOL/KG,,UMOL/KG,,UMOL/KG,,PMOL/KG,,PMOL/KG,,FMOL/KG,,UMOL/KG,,UMOL/KG,,,,DEG C,TU,,NMOL/KG,,PERCNT,,DEG C,,/MILLE,,/MILLE,,/MILLE,,UMOL/KG,,UMOL/KG,,NMOL/KG,,MMOL/KG,,/MILLE,,,,,,G/KG,,/MILLE,,/MILLE,,,,,,/MILLE,,/MILLE,
320620140320,       P16S,      88,          1,          5,         05,2,20140503,       1536,   -16.3333,  -150.0002,       4251,  3399.7,   1.5613,  34.6831,2,  34.6828,2,    170.6,2,   171.0,2,  123.83,2,   34.32,2,    0.00,2,    2.39,2,  -0.002,2,   0.000,2,    0.00,2,  2296.4,2,  2391.7,2,   7.6599,6,       20,-999.000,9,-999.0000,9, -999.00,9,   1.5615,2,    0.28,2,  -205.8,2, -999.00,9,    39.6,2, -999.00,9,      21.58,2,     -999.0,9, -999.00,9, 20140503,     1557, -16.3333,-150.0002,    34.8464,2,     -999.0,9,     -999.0,9,     -999.0,9,     -999.0,9,     -999.0,9,     -999.0,9
320620140320,       P16S,      88,          1,          4,         04,2,20140503,       1536,   -16.3333,  -150.0002,       4251,  3700.0,   1.4834,  34.6894,2,  34.6895,2,    176.6,2,   177.0,2,  122.75,2,   33.88,2,    0.00,2,    2.35,2,-999.000,9,-999.000,9, -999.00,9,  -999.0,9,  -999.0,9,-999.0000,9,  -999.00,-999.000,9,-999.0000,9, -999.00,9,   1.4830,2, -999.00,9,  -999.0,9, -999.00,9,    38.1,2, -999.00,9,     -999.0,9,     -999.0,9, -999.00,9, 20140503,     1550, -16.3333,-150.0002,    34.8530,2,     -999.0,9,     -999.0,9,     -999.0,9,     -999.0,9,     -999.0,9,     -999.0,9
320620140320,       P16S,      88,          1,          3,         03,2,20140503,       1536,   -16.3333,  -150.0002,       4251,  3999.4,   1.4728,  34.6921,2,  34.6912,2,    179.1,2,   179.2,2,  122.55,2,   33.79,2,    0.00,2,    2.34,2,-999.000,9,-999.000,9, -999.00,9,  2288.4,2,  2386.8,2,   7.6669,2,       20,-999.000,9,-999.0000,9, -999.00,9,   1.4728,2,    0.30,2,  -196.7,2, -999.00,9,    39.2,2, -999.00,9,     -999.0,9,     -999.0,9, -999.00,9, 20140503,     1544, -16.3333,-150.0002,    34.8548,2,     -999.0,9,     -999.0,9,     -999.0,9,     -999.0,9,     -999.0,9,     -999.0,9
320620140320,       P16S,      88,          1,          2,         02,2,20140503,       1536,   -16.3333,  -150.0002,       4251,  4148.8,   1.4811,  34.6926,2,  34.6914,2,    179.4,2,   179.8,2,  122.36,2,   33.73,2,    0.00,2,    2.35,2,   0.001,2,   0.000,2,    0.00,2,  2288.8,2,    2387,6,   7.6669,2,       20,-999.000,9,-999.0000,9, -999.00,9,   1.4811,2,   -0.08,2,  -187.4,2, -999.00,9,    41.1,2, -999.00,9,      21.22,2,     -999.0,9, -999.00,9, 20140503,     1540, -16.3333,-150.0002,    34.8549,2,     -999.0,9,     -999.0,9,     -999.0,9,     -999.0,9,     -999.0,9,     -999.0,9
320620140320,       P16S,      88,          1,          1,         01,2,20140503,       1536,   -16.3333,  -150.0002,       4251,  4301.8,   1.4973,  34.6926,2,  34.6909,2,    179.5,2,   179.6,2,  122.45,2,   33.70,2,    0.00,2,    2.33,2,  -0.002,2,   0.000,2,    0.00,2,  2289.2,6,  2387.4,2,   7.6671,2,       20,-999.000,9,-999.0000,9, -999.00,9,   1.4976,2,    0.28,2,  -197.0,2, -999.00,9,    39.3,2, -999.00,9,      21.46,2,     -999.0,9, -999.00,9, 20140503,     1536, -16.3333,-150.0002,    34.8545,2,     -999.0,9,     -999.0,9,     -999.0,9,     -999.0,9,     -999.0,9,     -999.0,9