BOTTLE,20230715CCHSIOCBG
EXPOCODE,SECT_ID,STNNBR,CASTNO,SAMPNO,BTLNBR,BTLNBR_FLAG_W,DATE,TIME,LATITUDE,LONGITUDE,DEPTH,CTDPRS,CTDTMP,CTDSAL,CTDSAL_FLAG_W,SALNTY,SALNTY_FLAG_W,CTDOXY,CTDOXY_FLAG_W,OXYGEN,OXYGEN_FLAG_W,SILCAT,SILCAT_FLAG_W,NITRAT,NITRAT_FLAG_W,NITRIT,NITRIT_FLAG_W,PHSPHT,PHSPHT_FLAG_W,CFC-11,CFC-11_FLAG_W,CFC-12,CFC-12_FLAG_W,SF6,SF6_FLAG_W,TCARBN,TCARBN_FLAG_W,ALKALI,ALKALI_FLAG_W,PH_TOT,PH_TOT_FLAG_W,PH_TMP,TRITUM,TRITUM_FLAG_W,HELIUM,HELIUM_FLAG_W,DELHE3,DELHE3_FLAG_W,REFTMP,REFTMP_FLAG_W,DELC13,DELC13_FLAG_W,DELC14,DELC14_FLAG_W,DELO18,DELO18_FLAG_W,DOC,DOC_FLAG_W,TDN,TDN_FLAG_W,N2O,N2O_FLAG_W,CALCIUM,CALCIUM_FLAG_W,D15N_NO3,D15N_NO3_FLAG_W,BTL_DATE,BTL_TIME,BTL_LAT,BTL_LON,SALTREF,SALTREF_FLAG_W,D18O_NO3,D18O_NO3_FLAG_W,DSI30,DSI30_FLAG_W,CDOM_NASA,CDOM_NASA_FLAG_W,CDOM_UCSB,CDOM_UCSB_FLAG_W,D15N_NO2+NO3,D15N_NO2+NO3_FLAG_W,D18O_NO2+NO3,D18O_NO2+NO3_FLAG_W
,,,,,,,,,,,METERS,DBAR,ITS-90,PSS-78,,PSS-78,,UMOL/KG,,UMOL/KG,,UMOL/KG,,UMOL/KG,,UMOL/KG,,UMOL/KG,,PMOL/KG,,PMOL/KG,,FMOL/KG,,UMOL/KG,,UMOL/KG,,,,DEG C,TU,,NMOL/KG,,PERCNT,,DEG C,,/MILLE,,/MILLE,,/MILLE,,UMOL/KG,,UMOL/KG,,NMOL/KG,,MMOL/KG,,/MILLE,,,,,,G/KG,,/MILLE,,/MILLE,,,,,,/MILLE,,/MILLE,
320620140320,       P16S,      46,          1,          5,         05,2,20140418,       0659,   -44.3332,  -150.0003,       4863,  3898.6,   1.3892,  34.7168,2,  34.7172,2,    195.0,2,   194.9,2,  110.91,2,   32.21,2,    0.00,2,    2.24,2,   0.000,3,   0.001,2,    0.04,2,  2266.3,2,  2368.9,2,   7.6737,2,       20,-999.000,9,-999.0000,9, -999.00,9,   1.3897,2, -999.00,9,  -999.0,9, -999.00,9,    37.8,2, -999.00,9,      20.46,2,     -999.0,9, -999.00,1, 20140418,      724, -44.3332,-150.0006,    34.8809,2,     -999.0,1,     -999.0,1,     -999.0,9,     -999.0,9,     -999.0,9,     -999.0,9
320620140320,       P16S,      46,          1,          4,         04,2,20140418,       0659,   -44.3332,  -150.0003,       4863,  4200.2,   1.2659,  34.7155,2,  34.7146,2,    198.6,2,   198.9,2,  113.74,2,   32.18,2,    0.00,2,    2.23,2,-999.000,9,-999.000,9, -999.00,9,    2266,2,  2370.3,2,   7.6779,2,       20,-999.000,9,-999.0000,9, -999.00,9,   1.2663,2, -999.00,9,  -999.0,9, -999.00,9,    36.8,2, -999.00,9,     -999.0,9,     -999.0,9, -999.00,1, 20140418,      717, -44.3332,-150.0007,    34.8783,2,     -999.0,1,     -999.0,9,     -999.0,9,     -999.0,9,     -999.0,9,     -999.0,9
320620140320,       P16S,      46,          1,          3,         03,2,20140418,       0659,   -44.3332,  -150.0003,       4863,  4499.5,   1.1966,  34.7138,2,  34.7141,2,    200.8,2,   200.9,2,  116.47,2,   32.32,2,    0.00,2,    2.25,2,  -0.005,3,   0.001,2,    0.00,2,  2266.8,2,  2371.6,2,   7.6808,2,       20,-999.000,9,-999.0000,9, -999.00,9,   1.1965,2, -999.00,9,  -999.0,9, -999.00,9,    36.4,2, -999.00,9,      20.15,2,     -999.0,9, -999.00,1, 20140418,      711, -44.3332,-150.0009,    34.8777,2,     -999.0,1,     -999.0,9,     -999.0,9,     -999.0,9,     -999.0,9,     -999.0,9
320620140320,       P16S,      46,          1,          2,         02,2,20140418,       0659,   -44.3332,  -150.0003,       4863,  4720.9,   1.1886,  34.7130,2,  34.7131,2,    201.5,2,   201.3,2,  116.96,2,   32.30,2,    0.00,2,    2.23,2,  -0.010,3,   0.002,2,   -0.01,2,  2267.5,2,  2372.9,6,   7.6812,6,       20,-999.000,9,-999.0000,9, -999.00,9,   1.1889,2, -999.00,9,  -999.0,9, -999.00,9,    36.7,2, -999.00,9,      20.16,2,     -999.0,9, -999.00,1, 20140418,      706, -44.3332,-150.0005,    34.8768,2,     -999.0,1,     -999.0,9,     -999.0,9,     -999.0,9,     -999.0,9,     -999.0,9
320620140320,       P16S,      46,          1,          1,         01,2,20140418,       0659,   -44.3332,  -150.0003,       4863,  4953.6,   1.1808,  34.7123,2,  34.7127,2,    202.0,2,   201.8,2,  117.35,2,   32.35,2,    0.00,2,    2.24,2,  -0.004,3,   0.004,2,    0.02,2,  2268.3,6,  2372.6,2,   7.6805,2,       20,-999.000,9,-999.0000,9, -999.00,9,   1.1806,2, -999.00,9,  -999.0,9, -999.00,9,    37.9,2, -999.00,9,      20.03,2,     -999.0,9, -999.00,1, 20140418,      659, -44.3332,-150.0002,    34.8764,2,     -999.0,1,     -999.0,9,     -999.0,9,     -999.0,9,     -999.0,9,     -999.0,9