BOTTLE,20230715CCHSIOCBG
EXPOCODE,SECT_ID,STNNBR,CASTNO,SAMPNO,BTLNBR,BTLNBR_FLAG_W,DATE,TIME,LATITUDE,LONGITUDE,DEPTH,CTDPRS,CTDTMP,CTDSAL,CTDSAL_FLAG_W,SALNTY,SALNTY_FLAG_W,CTDOXY,CTDOXY_FLAG_W,OXYGEN,OXYGEN_FLAG_W,SILCAT,SILCAT_FLAG_W,NITRAT,NITRAT_FLAG_W,NITRIT,NITRIT_FLAG_W,PHSPHT,PHSPHT_FLAG_W,CFC-11,CFC-11_FLAG_W,CFC-12,CFC-12_FLAG_W,SF6,SF6_FLAG_W,TCARBN,TCARBN_FLAG_W,ALKALI,ALKALI_FLAG_W,PH_TOT,PH_TOT_FLAG_W,PH_TMP,TRITUM,TRITUM_FLAG_W,HELIUM,HELIUM_FLAG_W,DELHE3,DELHE3_FLAG_W,REFTMP,REFTMP_FLAG_W,DELC13,DELC13_FLAG_W,DELC14,DELC14_FLAG_W,DELO18,DELO18_FLAG_W,DOC,DOC_FLAG_W,TDN,TDN_FLAG_W,N2O,N2O_FLAG_W,CALCIUM,CALCIUM_FLAG_W,D15N_NO3,D15N_NO3_FLAG_W,BTL_DATE,BTL_TIME,BTL_LAT,BTL_LON,SALTREF,SALTREF_FLAG_W,D18O_NO3,D18O_NO3_FLAG_W,DSI30,DSI30_FLAG_W,CDOM_NASA,CDOM_NASA_FLAG_W,CDOM_UCSB,CDOM_UCSB_FLAG_W,D15N_NO2+NO3,D15N_NO2+NO3_FLAG_W,D18O_NO2+NO3,D18O_NO2+NO3_FLAG_W
,,,,,,,,,,,METERS,DBAR,ITS-90,PSS-78,,PSS-78,,UMOL/KG,,UMOL/KG,,UMOL/KG,,UMOL/KG,,UMOL/KG,,UMOL/KG,,PMOL/KG,,PMOL/KG,,FMOL/KG,,UMOL/KG,,UMOL/KG,,,,DEG C,TU,,NMOL/KG,,PERCNT,,DEG C,,/MILLE,,/MILLE,,/MILLE,,UMOL/KG,,UMOL/KG,,NMOL/KG,,MMOL/KG,,/MILLE,,,,,,G/KG,,/MILLE,,/MILLE,,,,,,/MILLE,,/MILLE,
320620140320,       P16S,      67,          1,         36,         36,2,20140426,       1107,   -30.3328,  -149.9999,       4825,     6.3,  22.1041,  35.3144,2,  35.3153,2,    218.3,2,   218.4,2,    0.00,2,    0.26,2,    0.01,2,    0.02,2,   1.844,2,   1.152,2,    1.63,2,  2021.6,6,  2315.2,2,   8.1125,2,       20,-999.000,9,-999.0000,9, -999.00,9,  22.1030,2, -999.00,9,  -999.0,9, -999.00,9,  -999.0,9, -999.00,9,       7.03,2,     -999.0,9, -999.00,1, 20140426,     1314, -30.3320,-150.0002,    35.4818,2,     -999.0,1,     -999.0,9,     -999.0,9,     -999.0,9,     -999.0,1,     -999.0,1
320620140320,       P16S,      67,          1,         35,         35,2,20140426,       1107,   -30.3328,  -149.9999,       4825,    34.6,  21.3486,  35.4605,2,  35.4606,2,    223.0,2,   223.1,2,    0.00,2,    0.24,2,    0.01,2,    0.02,2,   1.909,2,   1.197,2,    1.45,2,  2043.6,2,  2325.5,2,   8.0901,2,       20,-999.000,9,-999.0000,9, -999.00,9,  21.3475,2,    0.92,2,    69.6,2, -999.00,9,  -999.0,9, -999.00,9,       7.11,2,     -999.0,9, -999.00,1, 20140426,     1312, -30.3319,-150.0001,    35.6278,2,     -999.0,1,     -999.0,9,     -999.0,9,     -999.0,9,     -999.0,1,     -999.0,1
320620140320,       P16S,      67,          1,         34,         34,2,20140426,       1107,   -30.3328,  -149.9999,       4825,    58.9,  21.2264,  35.4755,2,  35.4762,2,    224.1,2,   223.8,2,    0.00,2,    0.23,2,    0.01,2,    0.02,2,   1.733,2,   1.209,2,    1.55,2,  2042.8,2,  2326.1,2,   8.0905,2,       20,-999.000,9,-999.0000,9, -999.00,9,  21.2247,2, -999.00,9,  -999.0,9, -999.00,9,  -999.0,9, -999.00,9,       7.22,2,     -999.0,9, -999.00,1, 20140426,     1311, -30.3318,-150.0000,    35.6435,2,     -999.0,1,     -999.0,9,     -999.0,9,     -999.0,9,     -999.0,1,     -999.0,1
320620140320,       P16S,      67,          1,         33,         33,2,20140426,       1107,   -30.3328,  -149.9999,       4825,    82.8,  19.1088,  35.4568,2,  35.4566,2,    240.6,2,   240.1,2,    0.20,2,    0.23,2,    0.01,2,    0.06,2,   2.166,6,   1.349,6,    1.50,6,  2046.2,2,    2325,2,   8.0819,2,       20,-999.000,9,-999.0000,9, -999.00,9,  19.0313,3, -999.00,9,  -999.0,9, -999.00,9,  -999.0,9, -999.00,9,       8.25,6,     -999.0,9, -999.00,1, 20140426,     1309, -30.3319,-150.0000,    35.6238,2,     -999.0,1,     -999.0,9,     -999.0,9,     -999.0,9,     -999.0,1,     -999.0,1
320620140320,       P16S,      67,          1,         32,         32,2,20140426,       1107,   -30.3328,  -149.9999,       4825,   113.8,  17.9077,  35.4288,2,  35.4290,2,    236.1,2,   231.4,2,    0.20,2,    0.24,2,    0.01,2,    0.07,2,   2.210,2,   1.378,2,    1.38,2,  2057.5,2,    2323,2,   8.0577,2,       20,-999.000,9,-999.0000,9, -999.00,9,  17.8854,2, -999.00,9,  -999.0,9, -999.00,9,  -999.0,9, -999.00,9,       8.06,2,     -999.0,9, -999.00,1, 20140426,     1307, -30.3320,-149.9999,    35.5961,2,     -999.0,1,     -999.0,9,     -999.0,9,     -999.0,9,     -999.0,1,     -999.0,1
320620140320,       P16S,      67,          1,         31,         31,2,20140426,       1107,   -30.3328,  -149.9999,       4825,   165.1,  16.6541,  35.3451,2,  35.3460,2,   -999.0,9,  -999.0,5,    0.10,2,    1.94,2,    0.02,2,    0.20,2,   2.308,2,   1.416,2,    1.37,2,  2072.9,2,  2318.5,2,   8.0232,2,       20,-999.000,9,-999.0000,9, -999.00,9,  16.6566,2,    0.87,2,    62.0,2, -999.00,9,  -999.0,9, -999.00,9,       8.72,2,     -999.0,9, -999.00,1, 20140426,     1305, -30.3320,-149.9999,    35.5127,2,     -999.0,1,     -999.0,9,     -999.0,9,     -999.0,9,     -999.0,1,     -999.0,1
320620140320,       P16S,      67,          1,         30,         30,2,20140426,       1107,   -30.3328,  -149.9999,       4825,   215.4,  15.8051,  35.2301,2,  35.2311,2,    231.6,2,   232.0,2,    0.10,2,    0.86,2,    0.46,2,    0.17,2,   2.404,2,   1.455,2,    1.72,2,  2071.2,2,  2313.1,2,   8.0179,2,       20,-999.000,9,-999.0000,9, -999.00,9,  15.8095,2,    0.91,2,    83.2,2, -999.00,9,  -999.0,9, -999.00,9,       8.61,2,     -999.0,9, -999.00,1, 20140426,     1303, -30.3321,-149.9996,    35.3973,2,     -999.0,1,     -999.0,9,     -999.0,9,     -999.0,9,     -999.0,1,     -999.0,1
320620140320,       P16S,      67,          1,         29,         29,2,20140426,       1107,   -30.3328,  -149.9999,       4825,   264.2,  15.4395,  35.1803,2,  35.1699,2,    231.5,2,   231.5,2,    0.20,2,    1.89,2,    0.02,2,    0.22,2,   2.421,2,   1.508,2,    1.74,2,  2073.8,2,  2310.1,2,   8.0067,2,       20,-999.000,9,-999.0000,9, -999.00,9,  15.4332,2,    0.93,2,    70.9,2, -999.00,9,  -999.0,9, -999.00,9,       8.81,2,     -999.0,9, -999.00,1, 20140426,     1301, -30.3323,-149.9997,    35.3357,2,     -999.0,1,     -999.0,9,     -999.0,9,     -999.0,9,     -999.0,1,     -999.0,1
320620140320,       P16S,      67,          1,         28,         28,2,20140426,       1107,   -30.3328,  -149.9999,       4825,   315.5,  14.0050,  34.9591,2,  34.9618,2,    218.6,2,   223.1,2,    0.39,2,    5.02,2,    0.01,2,    0.43,2,   2.681,2,   1.538,2,    1.64,2,  2088.6,2,  2300.3,2,   7.9594,2,       20,-999.000,9,-999.0000,9, -999.00,9,  14.0130,2,    0.99,2,    57.4,2, -999.00,9,  -999.0,9, -999.00,9,      10.29,2,     -999.0,9, -999.00,1, 20140426,     1259, -30.3323,-149.9998,    35.1266,2,     -999.0,1,     -999.0,1,     -999.0,9,     -999.0,9,     -999.0,1,     -999.0,1
320620140320,       P16S,      67,          1,         27,         27,2,20140426,       1107,   -30.3328,  -149.9999,       4825,   363.8,  11.9202,  34.7611,2,  34.7680,2,    212.8,2,   211.7,2,    1.66,2,   11.04,2,    0.01,2,    0.81,2,   2.796,2,   1.659,2,    1.01,2,  2113.6,2,  2291.6,2,   7.8871,2,       20,-999.000,9,-999.0000,9, -999.00,9,  11.9367,2,    1.04,2,    52.1,2, -999.00,9,  -999.0,9, -999.00,9,      15.02,2,     -999.0,9, -999.00,1, 20140426,     1257, -30.3323,-149.9997,    34.9320,2,     -999.0,1,     -999.0,9,     -999.0,9,     -999.0,9,     -999.0,1,     -999.0,1
320620140320,       P16S,      67,          1,         26,         26,2,20140426,       1107,   -30.3328,  -149.9999,       4825,   435.2,   9.3547,  34.5449,2,  34.5497,2,    221.9,2,   221.0,2,    3.32,2,   16.79,2,    0.01,2,    1.18,2,-999.000,5,-999.000,5, -999.00,5,  2131.3,2,  2283.2,2,   7.8284,2,       20,-999.000,9,-999.0000,9, -999.00,9,   9.3688,2,    1.16,2,    35.3,2, -999.00,9,  -999.0,9, -999.00,9,     -999.0,5,     -999.0,9, -999.00,1, 20140426,     1255, -30.3324,-149.9996,    34.7126,2,     -999.0,1,     -999.0,1,     -999.0,9,     -999.0,9,     -999.0,1,     -999.0,1
320620140320,       P16S,      67,          1,         25,         25,2,20140426,       1107,   -30.3328,  -149.9999,       4825,   536.9,   7.7392,  34.4249,2,  34.4252,2,    236.1,2,   238.9,2,    4.69,2,   20.00,2,    0.01,2,    1.36,2,   3.651,2,   1.858,2,    0.71,2,  2139.4,6,  2280.2,2,   7.8015,2,       20,-999.000,9,-999.0000,9, -999.00,9,   7.7343,2,    1.09,2,    25.2,2, -999.00,9,  -999.0,9, -999.00,9,      17.79,2,     -999.0,9, -999.00,1, 20140426,     1252, -30.3324,-149.9997,    34.5876,2,     -999.0,1,     -999.0,1,     -999.0,9,     -999.0,9,     -999.0,1,     -999.0,1
320620140320,       P16S,      67,          1,         24,         24,2,20140426,       1107,   -30.3328,  -149.9999,       4825,   634.6,   6.9325,  34.3665,2,  34.3673,2,    242.2,2,   242.8,2,    6.55,2,   22.21,2,    0.01,2,    1.51,2,   3.545,2,   1.785,2,    0.70,2,  2144.5,2,    2280,2,   7.7905,2,       20,-999.000,9,-999.0000,9, -999.00,9,   6.9309,2,    1.15,2,    15.3,2, -999.00,9,  -999.0,9, -999.00,9,      16.00,2,     -999.0,9, -999.00,1, 20140426,     1249, -30.3324,-149.9996,    34.5294,2,     -999.0,1,     -999.0,9,     -999.0,9,     -999.0,9,     -999.0,1,     -999.0,1
320620140320,       P16S,      67,          1,         23,         23,2,20140426,       1107,   -30.3328,  -149.9999,       4825,   735.3,   6.4453,  34.3341,2,  34.3342,2,    240.1,2,   240.4,2,    8.31,2,   23.66,2,    0.01,2,    1.60,2,   3.145,2,   1.550,2,    0.53,2,  2146.6,2,  2279.8,2,   7.7806,6,       20,-999.000,9,-999.0000,9, -999.00,9,   6.4459,2,    1.19,2,     7.1,2, -999.00,9,  -999.0,9, -999.00,9,      16.81,2,     -999.0,9, -999.00,1, 20140426,     1246, -30.3325,-149.9996,    34.4961,2,     -999.0,1,     -999.0,1,     -999.0,9,     -999.0,9,     -999.0,1,     -999.0,1
320620140320,       P16S,      67,          1,         22,         22,2,20140426,       1107,   -30.3328,  -149.9999,       4825,   835.8,   5.9349,  34.3115,2,  34.3106,2,    231.2,2,   230.9,2,   11.83,2,   25.91,2,    0.00,2,    1.75,2,   2.406,2,   1.164,2,    0.31,2,  2156.3,2,  2279.8,2,   7.7589,2,       20,-999.000,9,-999.0000,9, -999.00,9,   5.9315,2,    1.19,2,   -13.0,2, -999.00,9,  -999.0,9, -999.00,9,      17.78,2,     -999.0,9, -999.00,1, 20140426,     1243, -30.3325,-149.9996,    34.4724,2,     -999.0,1,     -999.0,9,     -999.0,9,     -999.0,9,     -999.0,1,     -999.0,1
320620140320,       P16S,      67,          1,         21,         21,2,20140426,       1107,   -30.3328,  -149.9999,       4825,   934.8,   5.3239,  34.3041,2,  34.3045,2,    219.7,2,   219.2,2,   17.80,2,   28.05,2,    0.00,2,    1.91,2,   1.601,2,   0.775,2,    0.14,2,  2169.5,2,  2285.8,6,   7.7337,2,       20,-999.000,9,-999.0000,9, -999.00,9,   5.3210,2,    1.14,2,   -43.8,2, -999.00,9,  -999.0,9, -999.00,9,      18.82,2,     -999.0,9, -999.00,1, 20140426,     1241, -30.3326,-149.9995,    34.4663,2,     -999.0,1,     -999.0,1,     -999.0,9,     -999.0,9,     -999.0,1,     -999.0,1
320620140320,       P16S,      67,          1,         20,         20,2,20140426,       1107,   -30.3328,  -149.9999,       4825,  1035.0,   4.7769,  34.3164,2,  34.3169,2,    205.2,2,   205.7,2,   25.92,2,   30.20,2,    0.00,2,    2.06,2,   1.007,2,   0.515,2,    0.10,2,  2186.1,2,  2293.5,2,   7.7043,2,       20,-999.000,9,-999.0000,9, -999.00,9,   4.7763,2,    1.04,2,   -71.9,2, -999.00,9,  -999.0,9, -999.00,9,      19.87,2,     -999.0,9, -999.00,1, 20140426,     1238, -30.3327,-149.9995,    34.4787,2,     -999.0,1,     -999.0,9,     -999.0,9,     -999.0,9,     -999.0,1,     -999.0,1
320620140320,       P16S,      67,          1,         19,         19,2,20140426,       1107,   -30.3328,  -149.9999,       4825,  1137.1,   4.2811,  34.3475,2,  34.3479,2,    190.6,2,   191.8,2,   35.99,2,   32.04,2,    0.00,2,    2.21,2,   0.539,2,   0.278,2,    0.03,2,  2203.6,2,    2302,2,   7.6774,2,       20,-999.000,9,-999.0000,9, -999.00,9,   4.2825,2,    0.91,2,   -98.0,2, -999.00,9,  -999.0,9, -999.00,9,      21.22,2,     -999.0,9, -999.00,1, 20140426,     1235, -30.3327,-149.9995,    34.5099,2,     -999.0,1,     -999.0,1,     -999.0,9,     -999.0,9,     -999.0,1,     -999.0,1
320620140320,       P16S,      67,          1,         18,         18,2,20140426,       1107,   -30.3328,  -149.9999,       4825,  1235.8,   3.8023,  34.3903,2,  34.3905,2,    180.3,2,   181.0,2,   47.24,2,   33.33,2,    0.00,2,    2.30,2,   0.269,2,   0.138,2,    0.03,2,  2221.4,2,  2313.9,2,   7.6573,2,       20,-999.000,9,-999.0000,9, -999.00,9,   3.8023,2,    0.79,2,  -121.8,2, -999.00,9,  -999.0,9, -999.00,9,      21.85,2,     -999.0,9, -999.00,1, 20140426,     1232, -30.3329,-149.9994,    34.5526,2,     -999.0,1,     -999.0,9,     -999.0,9,     -999.0,9,     -999.0,1,     -999.0,1
320620140320,       P16S,      67,          1,         17,         17,2,20140426,       1107,   -30.3328,  -149.9999,       4825,  1335.0,   3.4129,  34.4323,2,  34.4325,2,    173.4,2,   174.0,2,   57.41,2,   34.08,2,    0.00,2,    2.35,2,   0.153,2,   0.073,2,    0.02,2,    2235,2,  2324.3,2,   7.6456,2,       20,-999.000,9,-999.0000,9, -999.00,9,   3.4148,2,    0.74,2,  -137.9,2, -999.00,9,  -999.0,9, -999.00,9,      23.01,2,     -999.0,9, -999.00,1, 20140426,     1229, -30.3330,-149.9995,    34.5948,2,     -999.0,1,     -999.0,9,     -999.0,9,     -999.0,9,     -999.0,1,     -999.0,1
320620140320,       P16S,      67,          1,         16,         16,2,20140426,       1107,   -30.3328,  -149.9999,       4825,  1435.9,   3.1008,  34.4808,2,  34.4813,2,    168.0,2,   167.5,2,   69.04,2,   34.75,2,    0.00,2,    2.39,2,   0.064,2,   0.024,2,    0.00,2,  2249.4,2,  2337.1,2,   7.6384,2,       20,-999.000,9,-999.0000,9, -999.00,9,   3.1029,2,    0.65,2,  -155.2,2, -999.00,9,  -999.0,9, -999.00,9,      23.40,2,     -999.0,9, -999.00,1, 20140426,     1226, -30.3329,-149.9995,    34.6439,2,     -999.0,1,     -999.0,1,     -999.0,9,     -999.0,9,     -999.0,1,     -999.0,1
320620140320,       P16S,      67,          1,         15,         15,2,20140426,       1107,   -30.3328,  -149.9999,       4825,  1534.1,   2.8473,  34.5198,2,  34.5194,2,    164.2,2,   164.1,2,   77.45,2,   34.93,2,    0.00,2,    2.42,2,   0.031,2,   0.005,2,    0.02,2,  2259.5,2,  2347.1,2,   7.6354,2,       20,-999.000,9,-999.0000,9, -999.00,9,   2.8486,2,    0.80,3,  -153.6,2, -999.00,9,  -999.0,9, -999.00,9,      23.46,2,     -999.0,9, -999.00,1, 20140426,     1223, -30.3329,-149.9995,    34.6822,2,     -999.0,1,     -999.0,9,     -999.0,9,     -999.0,9,     -999.0,1,     -999.0,1
320620140320,       P16S,      67,          1,         14,         14,2,20140426,       1107,   -30.3328,  -149.9999,       4825,  1666.4,   2.5739,  34.5676,2,  34.5691,2,    159.7,2,   159.1,2,   89.67,2,   35.15,2,    0.00,2,    2.43,2,   0.013,2,   0.002,2,    0.01,2,  2272.7,2,  2360.9,2,    7.634,2,       20,-999.000,9,-999.0000,9, -999.00,9,   2.5742,2,    0.54,2,  -185.5,2, -999.00,9,  -999.0,9, -999.00,9,      23.29,2,     -999.0,9, -999.00,1, 20140426,     1220, -30.3328,-149.9995,    34.7321,2,     -999.0,1,     -999.0,1,     -999.0,9,     -999.0,9,     -999.0,1,     -999.0,1
320620140320,       P16S,      67,          1,         13,         13,2,20140426,       1107,   -30.3328,  -149.9999,       4825,  1867.4,   2.3510,  34.6068,2,  34.6070,2,    154.9,2,   154.8,2,  101.69,2,   35.39,2,    0.00,2,    2.45,2,   0.007,2,   0.001,2,    0.03,2,    2287,2,  2375.2,2,   7.6325,2,       20,-999.000,9,-999.0000,9, -999.00,9,   2.3521,2,    0.48,2,  -200.5,2, -999.00,9,  -999.0,9, -999.00,9,      22.46,2,     -999.0,9, -999.00,1, 20140426,     1215, -30.3331,-149.9994,    34.7702,2,     -999.0,1,     -999.0,9,     -999.0,9,     -999.0,9,     -999.0,1,     -999.0,1
320620140320,       P16S,      67,          1,         12,         12,2,20140426,       1107,   -30.3328,  -149.9999,       4825,  2084.8,   2.1453,  34.6333,2,  34.6335,2,    151.8,2,   152.1,2,  112.64,2,   35.73,2,    0.00,2,    2.48,2,-999.000,9,-999.000,9, -999.00,9,  2298.3,2,  2387.6,2,   7.6332,2,       20,-999.000,9,-999.0000,9, -999.00,9,   2.1450,2,    0.32,2,  -210.8,2, -999.00,9,  -999.0,9, -999.00,9,     -999.0,9,     -999.0,9, -999.00,1, 20140426,     1211, -30.3330,-149.9998,    34.7968,2,     -999.0,1,     -999.0,1,     -999.0,9,     -999.0,9,     -999.0,1,     -999.0,1
320620140320,       P16S,      67,          1,         11,         11,2,20140426,       1107,   -30.3328,  -149.9999,       4825,  2334.8,   1.9696,  34.6509,2,  34.6514,2,    150.7,2,   150.2,2,  121.15,2,   35.89,2,    0.00,2,    2.49,2,   0.002,2,   0.001,2,    0.03,2,  2307.2,2,  2396.5,2,   7.6338,2,       20,-999.000,9,-999.0000,9, -999.00,9,   1.9694,2,    0.33,2,  -221.1,2, -999.00,9,  -999.0,9, -999.00,9,      22.57,2,     -999.0,9, -999.00,1, 20140426,     1205, -30.3327,-149.9999,    34.8148,2,     -999.0,1,     -999.0,9,     -999.0,9,     -999.0,9,     -999.0,1,     -999.0,1
320620140320,       P16S,      67,          1,         10,         10,2,20140426,       1107,   -30.3328,  -149.9999,       4825,  2536.2,   1.8683,  34.6595,2,  34.6594,2,    150.8,2,   151.0,2,  125.06,2,   35.88,2,    0.00,2,    2.50,2,-999.000,9,-999.000,9, -999.00,9,    2309,2,  2400.9,2,   7.6348,2,       20,-999.000,9,-999.0000,9, -999.00,9,   1.8688,2,    0.38,2,  -219.6,2, -999.00,9,  -999.0,9, -999.00,9,     -999.0,9,     -999.0,9, -999.00,1, 20140426,     1201, -30.3327,-149.9999,    34.8229,2,     -999.0,1,     -999.0,9,     -999.0,9,     -999.0,9,     -999.0,1,     -999.0,1
320620140320,       P16S,      67,          1,          9,         09,2,20140426,       1107,   -30.3328,  -149.9999,       4825,  2836.2,   1.7610,  34.6689,2,  34.6692,2,    155.2,2,   154.5,2,  127.41,2,   35.68,2,    0.00,2,    2.47,2,   0.002,2,   0.001,2,    0.01,2,  2310.9,6,  2401.9,2,   7.6398,2,       20,-999.000,9,-999.0000,9, -999.00,9,   1.7611,2,    0.34,2,  -217.5,2, -999.00,9,  -999.0,9, -999.00,9,      21.89,2,     -999.0,9, -999.00,1, 20140426,     1154, -30.3328,-149.9999,    34.8327,2,     -999.0,1,     -999.0,9,     -999.0,9,     -999.0,9,     -999.0,9,     -999.0,9
320620140320,       P16S,      67,          1,          8,         08,2,20140426,       1107,   -30.3328,  -149.9999,       4825,  3099.9,   1.6550,  34.6780,2,  34.6781,2,    160.6,2,   161.1,2,  127.40,2,   35.22,2,    0.00,2,    2.44,2,-999.000,9,-999.000,9, -999.00,9,  2305.2,2,  2398.9,2,   7.6454,2,       20,-999.000,9,-999.0000,9, -999.00,9,   1.6556,2,    0.39,2,  -213.2,2, -999.00,9,  -999.0,9, -999.00,9,     -999.0,9,     -999.0,9, -999.00,1, 20140426,     1148, -30.3329,-149.9999,    34.8416,2,     -999.0,1,     -999.0,1,     -999.0,9,     -999.0,9,     -999.0,9,     -999.0,9
320620140320,       P16S,      67,          1,          7,         07,2,20140426,       1107,   -30.3328,  -149.9999,       4825,  3399.1,   1.5336,  34.6877,2,  34.6887,2,    169.7,2,   170.4,2,  125.25,2,   34.60,2,    0.01,2,    2.39,2,   0.005,2,   0.001,2,    0.00,2,  2296.2,2,  2392.8,2,   7.6544,6,       20,-999.000,9,-999.0000,9, -999.00,9,   1.5342,2,    0.44,2,  -219.3,2, -999.00,9,  -999.0,9, -999.00,9,      20.55,2,     -999.0,9, -999.00,1, 20140426,     1142, -30.3329,-150.0000,    34.8523,2,     -999.0,1,     -999.0,9,     -999.0,9,     -999.0,9,     -999.0,9,     -999.0,9
320620140320,       P16S,      67,          1,          6,         06,2,20140426,       1107,   -30.3328,  -149.9999,       4825,  3699.4,   1.4223,  34.6948,2,  34.6947,2,    179.9,2,   180.0,2,  122.71,2,   33.96,2,    0.00,2,    2.35,2,-999.000,9,-999.000,9, -999.00,9,  2287.5,2,    2387,2,   7.6621,2,       20,-999.000,9,-999.0000,9, -999.00,9,   1.4224,2, -999.00,5,  -999.0,5, -999.00,9,  -999.0,9, -999.00,9,     -999.0,9,     -999.0,9, -999.00,1, 20140426,     1136, -30.3325,-149.9999,    34.8583,2,     -999.0,1,     -999.0,9,     -999.0,9,     -999.0,9,     -999.0,9,     -999.0,9