BOTTLE,20230715CCHSIOCBG
EXPOCODE,SECT_ID,STNNBR,CASTNO,SAMPNO,BTLNBR,BTLNBR_FLAG_W,DATE,TIME,LATITUDE,LONGITUDE,DEPTH,CTDPRS,CTDTMP,CTDSAL,CTDSAL_FLAG_W,SALNTY,SALNTY_FLAG_W,CTDOXY,CTDOXY_FLAG_W,OXYGEN,OXYGEN_FLAG_W,SILCAT,SILCAT_FLAG_W,NITRAT,NITRAT_FLAG_W,NITRIT,NITRIT_FLAG_W,PHSPHT,PHSPHT_FLAG_W,CFC-11,CFC-11_FLAG_W,CFC-12,CFC-12_FLAG_W,SF6,SF6_FLAG_W,TCARBN,TCARBN_FLAG_W,ALKALI,ALKALI_FLAG_W,PH_TOT,PH_TOT_FLAG_W,PH_TMP,TRITUM,TRITUM_FLAG_W,HELIUM,HELIUM_FLAG_W,DELHE3,DELHE3_FLAG_W,REFTMP,REFTMP_FLAG_W,DELC13,DELC13_FLAG_W,DELC14,DELC14_FLAG_W,DELO18,DELO18_FLAG_W,DOC,DOC_FLAG_W,TDN,TDN_FLAG_W,N2O,N2O_FLAG_W,CALCIUM,CALCIUM_FLAG_W,D15N_NO3,D15N_NO3_FLAG_W,BTL_DATE,BTL_TIME,BTL_LAT,BTL_LON,SALTREF,SALTREF_FLAG_W,D18O_NO3,D18O_NO3_FLAG_W,DSI30,DSI30_FLAG_W,CDOM_NASA,CDOM_NASA_FLAG_W,CDOM_UCSB,CDOM_UCSB_FLAG_W,D15N_NO2+NO3,D15N_NO2+NO3_FLAG_W,D18O_NO2+NO3,D18O_NO2+NO3_FLAG_W
,,,,,,,,,,,METERS,DBAR,ITS-90,PSS-78,,PSS-78,,UMOL/KG,,UMOL/KG,,UMOL/KG,,UMOL/KG,,UMOL/KG,,UMOL/KG,,PMOL/KG,,PMOL/KG,,FMOL/KG,,UMOL/KG,,UMOL/KG,,,,DEG C,TU,,NMOL/KG,,PERCNT,,DEG C,,/MILLE,,/MILLE,,/MILLE,,UMOL/KG,,UMOL/KG,,NMOL/KG,,MMOL/KG,,/MILLE,,,,,,G/KG,,/MILLE,,/MILLE,,,,,,/MILLE,,/MILLE,
320620140320,       P16S,      12,          1,          5,         05,2,20140403,       1312,   -63.4998,  -149.9981,       3358,  2665.9,   0.2525,  34.6962,2,  34.6968,2,    215.1,2,   214.9,2,  128.22,2,   32.20,2,    0.00,2,    2.27,2,   0.506,2,   0.267,2,    0.23,2,  2263.1,2,  2358.5,2,   7.6607,2,       20,-999.000,9,-999.0000,9, -999.00,9,   0.2531,2, -999.00,9,  -999.0,9, -999.00,9,  -999.0,9, -999.00,9,      18.79,2,     -999.0,9, -999.00,9, 20140403,     1328, -63.5002,-149.9982,    34.8604,2,     -999.0,9,     -999.0,9,     -999.0,9,     -999.0,9,     -999.0,9,     -999.0,9
320620140320,       P16S,      12,          1,          4,         04,2,20140403,       1312,   -63.4998,  -149.9981,       3358,  2865.4,   0.2169,  34.6934,2,  34.6943,2,    217.1,2,   217.4,2,  126.56,2,   32.16,2,    0.00,2,    2.26,2,-999.000,9,-999.000,9, -999.00,9,  -999.0,9,  -999.0,9,-999.0000,9,  -999.00,-999.000,9,-999.0000,9, -999.00,9,   0.2167,2, -999.00,9,  -999.0,9, -999.00,9,  -999.0,9, -999.00,9,     -999.0,9,     -999.0,9, -999.00,9, 20140403,     1324, -63.4996,-149.9981,    34.8579,2,     -999.0,9,     -999.0,9,     -999.0,9,     -999.0,9,     -999.0,9,     -999.0,9
320620140320,       P16S,      12,          1,          3,         03,2,20140403,       1312,   -63.4998,  -149.9981,       3358,  3065.0,   0.2164,  34.6930,2,  34.6933,2,    217.5,2,   217.4,2,  126.56,2,   32.14,2,    0.00,2,    2.27,2,   0.725,2,   0.378,2,    0.39,2,  2262.6,2,    2358,6,     7.66,2,       20,-999.000,9,-999.0000,9, -999.00,9,   0.2167,2, -999.00,9,  -999.0,9, -999.00,9,  -999.0,9, -999.00,9,      18.90,2,     -999.0,9, -999.00,9, 20140403,     1319, -63.5000,-149.9981,    34.8569,2,     -999.0,9,     -999.0,9,     -999.0,9,     -999.0,9,     -999.0,9,     -999.0,9
320620140320,       P16S,      12,          1,          2,         02,2,20140403,       1312,   -63.4998,  -149.9981,       3358,  3219.6,   0.2286,  34.6929,2,  34.6932,2,    217.7,2,   217.5,2,  126.46,2,   32.13,2,    0.00,2,    2.27,2,-999.000,9,-999.000,9, -999.00,9,  2263.9,2,  2357.7,2,   7.6573,6,       20,-999.000,9,-999.0000,9, -999.00,9,   0.2286,2, -999.00,9,  -999.0,9, -999.00,9,  -999.0,9, -999.00,9,     -999.0,9,     -999.0,9, -999.00,9, 20140403,     1316, -63.5000,-149.9981,    34.8568,2,     -999.0,9,     -999.0,9,     -999.0,9,     -999.0,9,     -999.0,9,     -999.0,9
320620140320,       P16S,      12,          1,          1,         01,2,20140403,       1312,   -63.4998,  -149.9981,       3358,  3396.9,   0.2432,  34.6925,2,  34.6932,2,    217.3,2,   217.4,2,  126.36,2,   32.17,2,    0.00,2,    2.26,2,   0.739,2,   0.384,2,    0.28,2,  2264.1,6,  2358.5,2,   7.6579,2,       20,-999.000,9,-999.0000,9, -999.00,9,   0.2431,2, -999.00,9,  -999.0,9, -999.00,9,  -999.0,9, -999.00,9,      18.76,2,     -999.0,9, -999.00,9, 20140403,     1312, -63.4998,-149.9980,    34.8568,2,     -999.0,9,     -999.0,9,     -999.0,9,     -999.0,9,     -999.0,9,     -999.0,9