BOTTLE,20230715CCHSIOCBG
EXPOCODE,SECT_ID,STNNBR,CASTNO,SAMPNO,BTLNBR,BTLNBR_FLAG_W,DATE,TIME,LATITUDE,LONGITUDE,DEPTH,CTDPRS,CTDTMP,CTDSAL,CTDSAL_FLAG_W,SALNTY,SALNTY_FLAG_W,CTDOXY,CTDOXY_FLAG_W,OXYGEN,OXYGEN_FLAG_W,SILCAT,SILCAT_FLAG_W,NITRAT,NITRAT_FLAG_W,NITRIT,NITRIT_FLAG_W,PHSPHT,PHSPHT_FLAG_W,CFC-11,CFC-11_FLAG_W,CFC-12,CFC-12_FLAG_W,SF6,SF6_FLAG_W,TCARBN,TCARBN_FLAG_W,ALKALI,ALKALI_FLAG_W,PH_TOT,PH_TOT_FLAG_W,PH_TMP,TRITUM,TRITUM_FLAG_W,HELIUM,HELIUM_FLAG_W,DELHE3,DELHE3_FLAG_W,REFTMP,REFTMP_FLAG_W,DELC13,DELC13_FLAG_W,DELC14,DELC14_FLAG_W,DELO18,DELO18_FLAG_W,DOC,DOC_FLAG_W,TDN,TDN_FLAG_W,N2O,N2O_FLAG_W,CALCIUM,CALCIUM_FLAG_W,D15N_NO3,D15N_NO3_FLAG_W,BTL_DATE,BTL_TIME,BTL_LAT,BTL_LON,SALTREF,SALTREF_FLAG_W,D18O_NO3,D18O_NO3_FLAG_W,DSI30,DSI30_FLAG_W,CDOM_NASA,CDOM_NASA_FLAG_W,CDOM_UCSB,CDOM_UCSB_FLAG_W,D15N_NO2+NO3,D15N_NO2+NO3_FLAG_W,D18O_NO2+NO3,D18O_NO2+NO3_FLAG_W
,,,,,,,,,,,METERS,DBAR,ITS-90,PSS-78,,PSS-78,,UMOL/KG,,UMOL/KG,,UMOL/KG,,UMOL/KG,,UMOL/KG,,UMOL/KG,,PMOL/KG,,PMOL/KG,,FMOL/KG,,UMOL/KG,,UMOL/KG,,,,DEG C,TU,,NMOL/KG,,PERCNT,,DEG C,,/MILLE,,/MILLE,,/MILLE,,UMOL/KG,,UMOL/KG,,NMOL/KG,,MMOL/KG,,/MILLE,,,,,,G/KG,,/MILLE,,/MILLE,,,,,,/MILLE,,/MILLE,
320620140320,       P16S,      52,          1,         36,         36,2,20140420,       1211,   -40.3329,  -150.0007,       5173,     3.7,  17.0555,  34.4947,2,  34.4958,2,    243.5,2,   242.8,2,    0.00,2,    0.48,2,    0.02,2,    0.21,2,   2.380,2,   1.431,2,    1.66,2,  2040.3,6,  2278.6,2,   8.0168,2,       20,-999.000,9,-999.0000,9, -999.00,9,  17.0564,2,    1.69,2,    30.0,2, -999.00,9,    59.7,2,    4.54,2,       8.65,2,     -999.0,9, -999.00,1, 20140420,     1428, -40.3329,-150.0008,    34.6584,2,     -999.0,1,     -999.0,9,     -999.0,9,     -999.0,9,     -999.0,1,     -999.0,1
320620140320,       P16S,      52,          1,         35,         35,2,20140420,       1211,   -40.3329,  -150.0007,       5173,    35.2,  17.0549,  34.4934,2,  34.4942,2,    244.4,2,   242.8,2,    0.00,2,    0.48,2,    0.02,2,    0.21,2,-999.000,9,-999.000,9, -999.00,9,  2040.1,2,    2279,2,   8.0179,6,       20,-999.000,9,-999.0000,9, -999.00,9,  17.0557,2, -999.00,9,  -999.0,9, -999.00,9,    61.2,2,    5.41,2,     -999.0,9,     -999.0,9, -999.00,1, 20140420,     1426, -40.3329,-150.0007,    34.6568,2,     -999.0,1,     -999.0,9,     -999.0,9,     -999.0,9,     -999.0,1,     -999.0,1
320620140320,       P16S,      52,          1,         34,         34,2,20140420,       1211,   -40.3329,  -150.0007,       5173,    58.3,  16.8138,  34.5027,2,  34.4979,2,    244.7,2,   245.3,2,    0.00,2,    0.53,2,    0.02,2,    0.19,2,   2.406,2,   1.457,2,    1.74,2,  2041.2,2,  2278.4,6,   8.0167,2,       20,-999.000,9,-999.0000,9, -999.00,9,  16.8262,2, -999.00,9,  -999.0,9, -999.00,9,    58.8,2,    5.35,2,       8.55,2,     -999.0,9, -999.00,1, 20140420,     1424, -40.3329,-150.0007,    34.6605,2,     -999.0,1,     -999.0,9,     -999.0,9,     -999.0,9,     -999.0,1,     -999.0,1
320620140320,       P16S,      52,          1,         33,         33,2,20140420,       1211,   -40.3329,  -150.0007,       5173,    83.6,  13.6397,  34.6296,2,  34.6259,2,    271.8,2,   269.7,2,    0.00,2,    1.36,2,    0.05,2,    0.25,2,-999.000,9,-999.000,9, -999.00,9,    2061,2,  2285.8,2,   7.9935,2,       20,-999.000,9,-999.0000,9, -999.00,9,  13.6087,3, -999.00,9,  -999.0,9, -999.00,9,    55.8,2,    4.87,2,     -999.0,9,     -999.0,9, -999.00,1, 20140420,     1423, -40.3329,-150.0007,    34.7892,2,     -999.0,1,     -999.0,9,     -999.0,9,     -999.0,9,     -999.0,1,     -999.0,1
320620140320,       P16S,      52,          1,         32,         32,2,20140420,       1211,   -40.3329,  -150.0007,       5173,   114.8,  12.2329,  34.5556,2,  34.5569,2,    262.9,2,   262.6,2,    0.10,2,    3.26,2,    0.16,2,    0.37,2,-999.000,9,-999.000,9, -999.00,9,  2074.1,2,  2282.6,2,   7.9595,2,       20,-999.000,9,-999.0000,9, -999.00,9,  12.2384,2, -999.00,9,  -999.0,9, -999.00,9,    51.9,2,    7.77,2,     -999.0,9,     -999.0,9, -999.00,1, 20140420,     1421, -40.3329,-150.0007,    34.7199,2,     -999.0,1,     -999.0,9,     -999.0,9,     -999.0,9,     -999.0,1,     -999.0,1
320620140320,       P16S,      52,          1,         31,         31,2,20140420,       1211,   -40.3329,  -150.0007,       5173,   163.9,  10.9452,  34.5141,2,  34.5178,2,    252.2,2,   248.5,2,    0.59,2,    8.12,2,    0.33,2,    0.65,2,   3.283,2,   1.872,2,    1.91,2,  2095.1,2,  2279.8,2,   7.9041,2,       20,-999.000,9,-999.0000,9, -999.00,9,  10.9200,3,    1.39,2,    30.2,2, -999.00,9,    49.4,2,   12.92,2,      13.00,2,     -999.0,9, -999.00,1, 20140420,     1419, -40.3329,-150.0007,    34.6806,2,     -999.0,1,     -999.0,9,     -999.0,9,     -999.0,9,     -999.0,1,     -999.0,1
320620140320,       P16S,      52,          1,         30,         30,2,20140420,       1211,   -40.3329,  -150.0007,       5173,   215.2,   9.7794,  34.5064,2,  34.5064,2,    242.4,2,   239.5,2,    1.56,2,   13.14,2,    0.01,2,    0.95,2,-999.000,9,-999.000,9, -999.00,9,  2117.3,2,    2280,2,   7.8535,2,       20,-999.000,9,-999.0000,9, -999.00,9,   9.7776,2,    1.31,2,    25.7,2, -999.00,9,    44.9,2,   17.38,2,     -999.0,9,     -999.0,9, -999.00,1, 20140420,     1417, -40.3329,-150.0007,    34.6691,2,     -999.0,1,     -999.0,9,     -999.0,9,     -999.0,9,     -999.0,1,     -999.0,1
320620140320,       P16S,      52,          1,         29,         29,2,20140420,       1211,   -40.3329,  -150.0007,       5173,   264.4,   8.9378,  34.5026,2,  34.5027,2,    242.1,2,   241.2,2,    2.44,2,   15.68,2,    0.01,2,    1.08,2,-999.000,9,-999.000,9, -999.00,9,  2126.1,2,  2281.4,2,   7.8307,2,       20,-999.000,9,-999.0000,9, -999.00,9,   8.9364,2,    1.29,2,    25.6,2, -999.00,9,    45.1,2,   20.24,2,     -999.0,9,     -999.0,9, -999.00,1, 20140420,     1415, -40.3329,-150.0007,    34.6654,2,     -999.0,1,     -999.0,9,     -999.0,9,     -999.0,9,     -999.0,1,     -999.0,1
320620140320,       P16S,      52,          1,         28,         28,2,20140420,       1211,   -40.3329,  -150.0007,       5173,   314.7,   8.4434,  34.4941,2,  34.4928,2,    247.2,2,   247.4,2,    3.03,2,   16.72,2,    0.01,2,    1.14,2,   3.746,2,   2.053,2,    1.50,2,  2129.7,2,  2282.2,2,   7.8239,2,       20,-999.000,9,-999.0000,9, -999.00,9,   8.4416,2,    1.25,2,    24.8,2, -999.00,9,    44.9,2,   19.72,2,      17.65,2,     -999.0,9, -999.00,1, 20140420,     1413, -40.3329,-150.0008,    34.6555,2,     -999.0,1,     -999.0,1,     -999.0,9,     -999.0,9,     -999.0,1,     -999.0,1
320620140320,       P16S,      52,          1,         27,         27,2,20140420,       1211,   -40.3329,  -150.0007,       5173,   364.6,   8.1289,  34.4754,2,  34.4759,2,    251.1,2,   250.9,2,    3.52,2,   17.47,2,    0.01,2,    1.25,2,-999.000,9,-999.000,9, -999.00,9,  2130.5,2,    2282,2,   7.8212,2,       20,-999.000,9,-999.0000,9, -999.00,9,   8.1293,2,    1.27,2,    23.1,2, -999.00,9,    45.8,2,   20.24,2,     -999.0,9,     -999.0,9, -999.00,1, 20140420,     1411, -40.3329,-150.0007,    34.6385,2,     -999.0,1,     -999.0,9,     -999.0,9,     -999.0,9,     -999.0,1,     -999.0,1
320620140320,       P16S,      52,          1,         26,         26,2,20140420,       1211,   -40.3329,  -150.0007,       5173,   435.0,   7.7467,  34.4393,2,  34.4400,2,    253.5,2,   253.5,2,    4.20,2,   18.66,2,    0.01,2,    1.33,2,-999.000,9,-999.000,9, -999.00,9,  2133.6,2,  2281.4,2,   7.8139,2,       20,-999.000,9,-999.0000,9, -999.00,9,   7.7572,2,    1.26,2,    22.7,2, -999.00,9,    40.3,2,   21.69,2,     -999.0,9,     -999.0,9, -999.00,1, 20140420,     1408, -40.3330,-150.0007,    34.6024,2,     -999.0,1,     -999.0,1,     -999.0,9,     -999.0,9,     -999.0,1,     -999.0,1
320620140320,       P16S,      52,          1,         25,         25,2,20140420,       1211,   -40.3329,  -150.0007,       5173,   535.5,   7.4012,  34.4106,2,  34.4101,2,    248.0,2,   247.6,2,    5.37,2,   20.48,2,    0.01,2,    1.44,2,   3.851,2,   2.031,2,    1.51,2,  2138.2,2,  2279.8,2,   7.7996,2,       20,-999.000,9,-999.0000,9, -999.00,9,   7.4006,2,    1.25,2,    17.4,2, -999.00,9,    40.9,2, -999.00,5,      15.36,2,     -999.0,9, -999.00,1, 20140420,     1406, -40.3330,-150.0007,    34.5724,2,     -999.0,1,     -999.0,1,     -999.0,9,     -999.0,9,     -999.0,1,     -999.0,1
320620140320,       P16S,      52,          1,         24,         24,2,20140420,       1211,   -40.3329,  -150.0007,       5173,   634.8,   7.0332,  34.3789,2,  34.4034,3,    245.0,2,   245.5,2,    6.64,2,   21.78,2,    0.01,2,    1.52,2,   3.835,2,   2.015,2,    1.33,2,  2141.1,2,    2280,2,   7.7912,2,       20,-999.000,9,-999.0000,9, -999.00,9,   7.0326,2,    1.29,2,    11.9,2, -999.00,9,    40.9,2, -999.00,9,      16.74,2,     -999.0,9, -999.00,1, 20140420,     1403, -40.3330,-150.0007,    34.5656,3,     -999.0,1,     -999.0,9,     -999.0,9,     -999.0,9,     -999.0,1,     -999.0,1
320620140320,       P16S,      52,          1,         23,         23,2,20140420,       1211,   -40.3329,  -150.0007,       5173,   735.0,   6.6401,  34.3487,2,  34.3494,2,    241.3,2,   241.8,2,    8.01,2,   23.05,2,    0.02,2,    1.60,2,   3.587,2,   1.817,2,    0.94,2,  2144.6,6,  2279.8,2,   7.7812,2,       20,-999.000,9,-999.0000,9, -999.00,9,   6.6426,2,    1.28,2,     2.6,2, -999.00,9,    37.6,2, -999.00,9,      15.69,2,     -999.0,9, -999.00,1, 20140420,     1400, -40.3330,-150.0007,    34.5114,2,     -999.0,1,     -999.0,1,     -999.0,9,     -999.0,9,     -999.0,1,     -999.0,1
320620140320,       P16S,      52,          1,         22,         22,2,20140420,       1211,   -40.3329,  -150.0007,       5173,   836.1,   6.2541,  34.3274,2,  34.3274,2,    233.8,2,   235.3,2,   10.06,2,   24.53,2,    0.01,2,    1.69,2,-999.000,9,-999.000,9, -999.00,9,  2149.9,2,  2280.6,2,    7.769,2,       20,-999.000,9,-999.0000,9, -999.00,9,   6.2566,2,    1.31,2,   -14.6,2, -999.00,9,    38.5,2, -999.00,9,     -999.0,9,     -999.0,9, -999.00,1, 20140420,     1357, -40.3330,-150.0007,    34.4893,2,     -999.0,1,     -999.0,9,     -999.0,9,     -999.0,9,     -999.0,1,     -999.0,1
320620140320,       P16S,      52,          1,         21,         21,2,20140420,       1211,   -40.3329,  -150.0007,       5173,   935.1,   5.7536,  34.3139,2,  34.3143,2,    220.1,2,   223.4,2,   15.05,2,   26.64,2,    0.01,2,    1.85,2,   2.575,2,   1.293,2,    0.35,2,    2162,2,  2283.6,2,   7.7423,2,       20,-999.000,9,-999.0000,9, -999.00,9,   5.7497,2,    1.25,2,   -24.0,2, -999.00,9,    38.6,2, -999.00,9,      17.76,2,     -999.0,9, -999.00,1, 20140420,     1354, -40.3330,-150.0007,    34.4761,2,     -999.0,1,     -999.0,1,     -999.0,9,     -999.0,9,     -999.0,1,     -999.0,1
320620140320,       P16S,      52,          1,         20,         20,2,20140420,       1211,   -40.3329,  -150.0007,       5173,  1034.6,   5.1377,  34.3190,2,  34.3190,2,    210.1,2,   210.4,2,   22.67,2,   28.99,2,    0.00,2,    2.01,2,   2.051,2,   1.020,2,    0.18,2,  2178.4,2,  2289.8,2,   7.7113,2,       20,-999.000,9,-999.0000,9, -999.00,9,   5.1372,2,    1.09,2,   -53.6,2, -999.00,9,    37.2,2, -999.00,9,      18.93,2,     -999.0,9, -999.00,1, 20140420,     1351, -40.3330,-150.0007,    34.4808,2,     -999.0,1,     -999.0,9,     -999.0,9,     -999.0,9,     -999.0,1,     -999.0,1
320620140320,       P16S,      52,          1,         19,         19,2,20140420,       1211,   -40.3329,  -150.0007,       5173,  1136.0,   4.5199,  34.3288,2,  34.3291,2,    202.5,2,   202.2,2,   30.19,2,   30.70,2,    0.00,2,    2.13,2,   1.583,2,   0.776,2,    0.15,2,  2192.1,2,  2295.9,2,   7.6894,2,       20,-999.000,9,-999.0000,9, -999.00,9,   4.5209,2,    1.07,2,   -69.2,2, -999.00,9,    37.3,2, -999.00,9,      19.19,2,     -999.0,9, -999.00,1, 20140420,     1349, -40.3330,-150.0007,    34.4910,2,     -999.0,1,     -999.0,1,     -999.0,9,     -999.0,9,     -999.0,1,     -999.0,1
320620140320,       P16S,      52,          1,         18,         18,2,20140420,       1211,   -40.3329,  -150.0007,       5173,  1236.1,   3.9547,  34.3511,2,  34.3507,2,    196.5,2,   195.3,2,   39.08,2,   32.12,2,    0.00,2,    2.25,2,   1.184,2,   0.569,2,    0.16,2,  2206.1,2,  2303.9,2,   7.6685,2,       20,-999.000,9,-999.0000,9, -999.00,9,   3.9567,2,    0.95,2,   -94.4,2, -999.00,9,    37.6,2, -999.00,9,      21.12,2,     -999.0,9, -999.00,1, 20140420,     1346, -40.3330,-150.0007,    34.5127,2,     -999.0,1,     -999.0,9,     -999.0,9,     -999.0,9,     -999.0,1,     -999.0,1
320620140320,       P16S,      52,          1,         17,         17,2,20140420,       1211,   -40.3329,  -150.0007,       5173,  1334.7,   3.5166,  34.3888,2,  34.3882,2,    189.2,2,   187.1,2,   48.36,2,   33.16,2,    0.00,2,    2.33,2,-999.000,9,-999.000,9, -999.00,9,  2220.4,2,  2312.8,2,   7.6537,2,       20,-999.000,9,-999.0000,9, -999.00,9,   3.5162,2,    0.86,2,  -114.0,2, -999.00,9,    39.2,3, -999.00,9,     -999.0,9,     -999.0,9, -999.00,1, 20140420,     1343, -40.3330,-150.0006,    34.5503,2,     -999.0,1,     -999.0,9,     -999.0,9,     -999.0,9,     -999.0,1,     -999.0,1
320620140320,       P16S,      52,          1,         16,         16,2,20140420,       1211,   -40.3329,  -150.0007,       5173,  1464.0,   3.1707,  34.4429,2,  34.4431,2,    179.7,2,   178.2,2,   58.91,2,   33.92,2,    0.00,2,    2.36,2,-999.000,9,-999.000,9, -999.00,9,  2233.7,2,    2324,2,   7.6405,2,       20,-999.000,9,-999.0000,9, -999.00,9,   3.1751,2,    0.69,2,  -128.4,2, -999.00,9,    36.1,2, -999.00,9,     -999.0,9,     -999.0,9, -999.00,1, 20140420,     1339, -40.3330,-150.0007,    34.6055,2,     -999.0,1,     -999.0,1,     -999.0,9,     -999.0,9,     -999.0,1,     -999.0,1
320620140320,       P16S,      52,          1,         15,         15,2,20140420,       1211,   -40.3329,  -150.0007,       5173,  1661.7,   2.8122,  34.5344,2,  34.5344,2,    165.4,2,   164.0,2,   77.27,2,   34.64,2,    0.00,2,    2.43,2,   0.091,2,   0.032,2,    0.02,2,  2256.8,2,  2345.7,2,   7.6338,2,       20,-999.000,9,-999.0000,9, -999.00,9,   2.8120,2,    0.58,2,  -163.3,2, -999.00,9,    33.6,2, -999.00,9,      23.25,2,     -999.0,9, -999.00,1, 20140420,     1335, -40.3330,-150.0007,    34.6972,2,     -999.0,1,     -999.0,1,     -999.0,9,     -999.0,9,     -999.0,1,     -999.0,1
320620140320,       P16S,      52,          1,         14,         14,2,20140420,       1211,   -40.3329,  -150.0007,       5173,  1866.0,   2.5914,  34.5873,2,  34.5862,2,    157.1,2,   156.4,2,   92.31,2,   34.94,2,    0.00,2,    2.45,2,   0.025,2,   0.001,2,    0.00,2,  2275.5,2,  2364.4,2,   7.6337,2,       20,-999.000,9,-999.0000,9, -999.00,9,   2.5915,2,    0.45,2,  -187.0,2, -999.00,9,    35.1,2, -999.00,9,      22.74,2,     -999.0,9, -999.00,1, 20140420,     1330, -40.3330,-150.0007,    34.7493,2,     -999.0,1,     -999.0,9,     -999.0,9,     -999.0,9,     -999.0,1,     -999.0,1
320620140320,       P16S,      52,          1,         13,         13,2,20140420,       1211,   -40.3329,  -150.0007,       5173,  2087.4,   2.3969,  34.6163,2,  34.6165,2,    152.5,2,   152.6,2,  103.54,2,   35.24,2,    0.00,2,    2.46,2,-999.000,9,-999.000,9, -999.00,9,    2288,2,  2377.6,2,   7.6343,2,       20,-999.000,9,-999.0000,9, -999.00,9,   2.3974,2,    0.39,2,  -200.6,2, -999.00,9,    35.8,2, -999.00,9,     -999.0,9,     -999.0,9, -999.00,1, 20140420,     1325, -40.3330,-150.0007,    34.7797,2,     -999.0,1,     -999.0,1,     -999.0,9,     -999.0,9,     -999.0,1,     -999.0,1
320620140320,       P16S,      52,          1,         12,         12,2,20140420,       1211,   -40.3329,  -150.0007,       5173,  2333.9,   2.2248,  34.6366,2,  34.6367,2,    151.3,2,   151.1,2,  111.25,2,   35.47,2,    0.00,2,    2.47,2,-999.000,9,-999.000,9, -999.00,9,  2296.3,2,  2387.1,2,   7.6339,2,       20,-999.000,9,-999.0000,9, -999.00,9,   2.2248,2,    0.34,2,  -215.7,2, -999.00,9,    35.3,2, -999.00,9,     -999.0,9,     -999.0,9, -999.00,1, 20140420,     1320, -40.3330,-150.0007,    34.8001,2,     -999.0,1,     -999.0,9,     -999.0,9,     -999.0,9,     -999.0,1,     -999.0,1
320620140320,       P16S,      52,          1,         11,         11,2,20140420,       1211,   -40.3329,  -150.0007,       5173,  2584.5,   2.0805,  34.6526,2,  34.6530,2,    151.8,2,   151.5,2,  117.11,2,   35.47,2,    0.00,2,    2.47,2,   0.006,2,   0.000,2,    0.00,2,    2300,6,  2391.1,2,   7.6349,2,       20,-999.000,9,-999.0000,9, -999.00,9,   2.0804,2,    0.34,2,  -214.1,2, -999.00,9,    34.3,2, -999.00,9,      22.96,2,     -999.0,9, -999.00,1, 20140420,     1314, -40.3330,-150.0007,    34.8164,2,     -999.0,1,     -999.0,9,     -999.0,9,     -999.0,9,     -999.0,1,     -999.0,1
320620140320,       P16S,      52,          1,         10,         10,2,20140420,       1211,   -40.3329,  -150.0007,       5173,  2834.0,   1.9543,  34.6689,2,  34.6685,2,    155.6,2,   155.7,2,  118.18,2,   35.04,2,    0.00,2,    2.45,2,   0.007,2,   0.000,2,    0.00,2,  2299.2,2,  2391.3,2,   7.6389,2,       20,-999.000,9,-999.0000,9, -999.00,9,   1.9536,2,    0.28,2,  -207.4,2, -999.00,9,    34.8,2, -999.00,9,      22.25,2,     -999.0,9, -999.00,1, 20140420,     1309, -40.3330,-150.0007,    34.8320,2,     -999.0,1,     -999.0,9,     -999.0,9,     -999.0,9,     -999.0,1,     -999.0,1
320620140320,       P16S,      52,          1,          9,         09,2,20140420,       1211,   -40.3329,  -150.0007,       5173,  3101.0,   1.8407,  34.6879,2,  34.6889,2,    164.5,2,   165.0,2,  115.55,2,   34.24,2,    0.00,2,    2.38,2,-999.000,9,-999.000,9, -999.00,9,  2289.4,2,  2386.4,2,   7.6472,2,       20,-999.000,9,-999.0000,9, -999.00,9,   1.8403,2,    0.36,2,  -202.1,2, -999.00,9,    35.3,2, -999.00,9,     -999.0,9,     -999.0,9, -999.00,1, 20140420,     1303, -40.3330,-150.0007,    34.8525,2,     -999.0,1,     -999.0,1,     -999.0,9,     -999.0,9,     -999.0,9,     -999.0,9
320620140320,       P16S,      52,          1,          8,         08,2,20140420,       1211,   -40.3329,  -150.0007,       5173,  3400.2,   1.6985,  34.7084,2,  34.7092,2,    179.5,2,   179.8,2,  110.27,2,   32.97,2,    0.00,2,    2.29,2,-999.000,9,-999.000,9, -999.00,9,  2273.9,2,  2373.8,2,    7.662,2,       20,-999.000,9,-999.0000,9, -999.00,9,   1.6981,2,    0.45,2,  -186.1,2, -999.00,9,    35.1,2, -999.00,9,     -999.0,9,     -999.0,9, -999.00,1, 20140420,     1257, -40.3330,-150.0007,    34.8728,2,     -999.0,1,     -999.0,9,     -999.0,9,     -999.0,9,     -999.0,9,     -999.0,9
320620140320,       P16S,      52,          1,          7,         07,2,20140420,       1211,   -40.3329,  -150.0007,       5173,  3702.7,   1.5042,  34.7176,2,  34.7182,2,    191.4,2,   191.1,2,  109.68,2,   32.29,2,    0.00,2,    2.24,2,-999.000,9,-999.000,9, -999.00,9,  2265.4,2,  2367.9,2,-999.0000,5,       20,-999.000,9,-999.0000,9, -999.00,9,   1.5055,2,    0.50,2,  -180.1,2, -999.00,9,    36.3,2, -999.00,9,     -999.0,9,     -999.0,9, -999.00,1, 20140420,     1251, -40.3330,-150.0007,    34.8819,2,     -999.0,1,     -999.0,9,     -999.0,9,     -999.0,9,     -999.0,9,     -999.0,9
320620140320,       P16S,      52,          1,          6,         06,2,20140420,       1211,   -40.3329,  -150.0007,       5173,  4003.2,   1.3214,  34.7157,2,  34.7162,2,    196.9,2,   196.7,2,  112.91,2,   32.24,2,    0.00,2,    2.24,2,   0.006,2,  -0.001,2,    0.04,2,  2263.8,2,  2368.7,2,   7.6752,2,       20,-999.000,9,-999.0000,9, -999.00,9,   1.3216,2,    0.53,2,  -173.4,2, -999.00,9,    36.4,2, -999.00,9,      20.80,2,     -999.0,9, -999.00,1, 20140420,     1244, -40.3330,-150.0007,    34.8799,2,     -999.0,1,     -999.0,1,     -999.0,9,     -999.0,9,     -999.0,9,     -999.0,9