BOTTLE,20230715CCHSIOCBG
EXPOCODE,SECT_ID,STNNBR,CASTNO,SAMPNO,BTLNBR,BTLNBR_FLAG_W,DATE,TIME,LATITUDE,LONGITUDE,DEPTH,CTDPRS,CTDTMP,CTDSAL,CTDSAL_FLAG_W,SALNTY,SALNTY_FLAG_W,CTDOXY,CTDOXY_FLAG_W,OXYGEN,OXYGEN_FLAG_W,SILCAT,SILCAT_FLAG_W,NITRAT,NITRAT_FLAG_W,NITRIT,NITRIT_FLAG_W,PHSPHT,PHSPHT_FLAG_W,CFC-11,CFC-11_FLAG_W,CFC-12,CFC-12_FLAG_W,SF6,SF6_FLAG_W,TCARBN,TCARBN_FLAG_W,ALKALI,ALKALI_FLAG_W,PH_TOT,PH_TOT_FLAG_W,PH_TMP,TRITUM,TRITUM_FLAG_W,HELIUM,HELIUM_FLAG_W,DELHE3,DELHE3_FLAG_W,REFTMP,REFTMP_FLAG_W,DELC13,DELC13_FLAG_W,DELC14,DELC14_FLAG_W,DELO18,DELO18_FLAG_W,DOC,DOC_FLAG_W,TDN,TDN_FLAG_W,N2O,N2O_FLAG_W,CALCIUM,CALCIUM_FLAG_W,D15N_NO3,D15N_NO3_FLAG_W,BTL_DATE,BTL_TIME,BTL_LAT,BTL_LON,SALTREF,SALTREF_FLAG_W,D18O_NO3,D18O_NO3_FLAG_W,DSI30,DSI30_FLAG_W,CDOM_NASA,CDOM_NASA_FLAG_W,CDOM_UCSB,CDOM_UCSB_FLAG_W,D15N_NO2+NO3,D15N_NO2+NO3_FLAG_W,D18O_NO2+NO3,D18O_NO2+NO3_FLAG_W
,,,,,,,,,,,METERS,DBAR,ITS-90,PSS-78,,PSS-78,,UMOL/KG,,UMOL/KG,,UMOL/KG,,UMOL/KG,,UMOL/KG,,UMOL/KG,,PMOL/KG,,PMOL/KG,,FMOL/KG,,UMOL/KG,,UMOL/KG,,,,DEG C,TU,,NMOL/KG,,PERCNT,,DEG C,,/MILLE,,/MILLE,,/MILLE,,UMOL/KG,,UMOL/KG,,NMOL/KG,,MMOL/KG,,/MILLE,,,,,,G/KG,,/MILLE,,/MILLE,,,,,,/MILLE,,/MILLE,
320620140320,       P16S,      36,          1,         36,         36,2,20140414,       0427,   -50.5000,  -150.0000,       4442,     5.5,  10.9715,  34.4717,2,  34.4706,2,    271.0,2,   272.9,2,    0.59,2,    7.54,2,    0.20,2,    0.62,2,   3.260,2,   1.854,2,    2.05,2,  2084.3,2,    2289,2,   7.9552,2,       20,-999.000,9,-999.0000,9, -999.00,9,  10.9717,2, -999.00,9,  -999.0,9, -999.00,9,  -999.0,9, -999.00,9,      11.44,2,     -999.0,9, -999.00,9, 20140414,      628, -50.5000,-149.9999,    34.6332,2,     -999.0,9,     -999.0,9,     -999.0,9,     -999.0,9,     -999.0,9,     -999.0,9
320620140320,       P16S,      36,          1,         35,         35,2,20140414,       0427,   -50.5000,  -150.0000,       4442,    20.2,  10.9705,  34.4712,2,  34.4701,2,    272.2,2,   271.8,2,    0.78,2,    7.53,2,    0.20,2,    0.64,2,-999.000,9,-999.000,9, -999.00,9,  2084.9,2,  2288.6,2,   7.9545,2,       20,-999.000,9,-999.0000,9, -999.00,9,  10.9711,2, -999.00,9,  -999.0,9, -999.00,9,  -999.0,9, -999.00,9,     -999.0,9,     -999.0,9, -999.00,9, 20140414,      626, -50.5000,-150.0000,    34.6326,2,     -999.0,9,     -999.0,9,     -999.0,9,     -999.0,9,     -999.0,9,     -999.0,9
320620140320,       P16S,      36,          1,         34,         34,2,20140414,       0427,   -50.5000,  -150.0000,       4442,    41.2,  10.9725,  34.4705,2,  34.4691,2,    272.1,2,   272.0,2,    0.59,2,    7.55,2,    0.20,2,    0.64,2,-999.000,9,-999.000,9, -999.00,9,  2085.4,2,    2289,2,   7.9531,2,       20,-999.000,9,-999.0000,9, -999.00,9,  10.9722,2, -999.00,9,  -999.0,9, -999.00,9,  -999.0,9, -999.00,9,     -999.0,9,     -999.0,9, -999.00,9, 20140414,      624, -50.5000,-150.0000,    34.6316,2,     -999.0,9,     -999.0,9,     -999.0,9,     -999.0,9,     -999.0,9,     -999.0,9
320620140320,       P16S,      36,          1,         33,         33,2,20140414,       0427,   -50.5000,  -150.0000,       4442,    64.0,  10.9776,  34.4713,2,  34.4700,2,    271.5,2,   271.9,2,    0.59,2,    7.54,2,    0.20,2,    0.64,2,-999.000,9,-999.000,9, -999.00,9,  2084.5,2,  2292.2,2,   7.9525,2,       20,-999.000,9,-999.0000,9, -999.00,9,  10.9791,2, -999.00,9,  -999.0,9, -999.00,9,  -999.0,9, -999.00,9,     -999.0,9,     -999.0,9, -999.00,9, 20140414,      623, -50.5000,-150.0000,    34.6326,2,     -999.0,9,     -999.0,9,     -999.0,9,     -999.0,9,     -999.0,9,     -999.0,9
320620140320,       P16S,      36,          1,         32,         32,2,20140414,       0427,   -50.5000,  -150.0000,       4442,    89.4,  10.8038,  34.4983,2,  34.4969,2,    268.7,2,   268.1,2,    0.78,2,    8.07,2,    0.29,2,    0.67,2,-999.000,9,-999.000,9, -999.00,9,  2091.2,2,    2290,2,   7.9412,2,       20,-999.000,9,-999.0000,9, -999.00,9,  10.7821,3, -999.00,9,  -999.0,9, -999.00,9,  -999.0,9, -999.00,9,     -999.0,9,     -999.0,9, -999.00,9, 20140414,      621, -50.5000,-150.0000,    34.6596,2,     -999.0,9,     -999.0,9,     -999.0,9,     -999.0,9,     -999.0,9,     -999.0,9
320620140320,       P16S,      36,          1,         31,         31,2,20140414,       0427,   -50.5000,  -150.0000,       4442,   116.2,   9.8012,  34.6259,2,  34.6252,2,    246.1,2,   245.7,2,    2.74,2,   13.38,2,    0.02,2,    0.97,2,-999.000,9,-999.000,9, -999.00,9,  2124.2,2,    2289,2,   7.8625,2,       20,-999.000,9,-999.0000,9, -999.00,9,   9.8026,2, -999.00,9,  -999.0,9, -999.00,9,  -999.0,9, -999.00,9,     -999.0,9,     -999.0,9, -999.00,9, 20140414,      620, -50.5000,-150.0000,    34.7885,2,     -999.0,9,     -999.0,9,     -999.0,9,     -999.0,9,     -999.0,9,     -999.0,9
320620140320,       P16S,      36,          1,         30,         30,2,20140414,       0427,   -50.5000,  -150.0000,       4442,   139.8,   9.4863,  34.6177,2,  34.6167,2,    250.4,2,   247.9,2,    2.93,2,   14.02,2,    0.02,2,    1.01,2,-999.000,9,-999.000,9, -999.00,9,  2125.5,2,  2287.6,2,    7.855,2,       20,-999.000,9,-999.0000,9, -999.00,9,   9.4831,2, -999.00,9,  -999.0,9, -999.00,9,  -999.0,9, -999.00,9,     -999.0,9,     -999.0,9, -999.00,9, 20140414,      618, -50.5000,-150.0000,    34.7800,2,     -999.0,9,     -999.0,9,     -999.0,9,     -999.0,9,     -999.0,9,     -999.0,9
320620140320,       P16S,      36,          1,         29,         29,2,20140414,       0427,   -50.5000,  -150.0000,       4442,   184.3,   8.8570,  34.5456,2,  34.5442,2,    245.4,2,   245.8,2,    4.10,2,   16.54,2,    0.01,2,    1.16,2,   3.584,2,   1.972,2,    1.89,2,  2132.5,2,  2285.6,2,   7.8329,2,       20,-999.000,9,-999.0000,9, -999.00,9,   8.8562,2, -999.00,9,  -999.0,9, -999.00,9,  -999.0,9, -999.00,9,      14.38,2,     -999.0,9, -999.00,9, 20140414,      616, -50.5000,-150.0000,    34.7071,2,     -999.0,9,     -999.0,9,     -999.0,9,     -999.0,9,     -999.0,9,     -999.0,9
320620140320,       P16S,      36,          1,         28,         28,2,20140414,       0427,   -50.5000,  -150.0000,       4442,   235.8,   8.4576,  34.5073,2,  34.5061,2,    246.9,2,   248.4,2,    4.59,2,   17.48,2,    0.01,2,    1.22,2,-999.000,9,-999.000,9, -999.00,9,  2135.8,2,  2284.8,2,   7.8257,2,       20,-999.000,9,-999.0000,9, -999.00,9,   8.4557,2, -999.00,9,  -999.0,9, -999.00,9,  -999.0,9, -999.00,9,     -999.0,9,     -999.0,9, -999.00,9, 20140414,      614, -50.5000,-150.0000,    34.6689,2,     -999.0,9,     -999.0,9,     -999.0,9,     -999.0,9,     -999.0,9,     -999.0,9
320620140320,       P16S,      36,          1,         27,         27,2,20140414,       0427,   -50.5000,  -150.0000,       4442,   286.4,   8.0906,  34.4681,2,  34.4698,2,    250.2,2,   250.4,2,    4.79,2,   18.36,2,    0.01,2,    1.27,2,-999.000,9,-999.000,9, -999.00,9,    2137,2,  2282.8,2,    7.818,2,       20,-999.000,9,-999.0000,9, -999.00,9,   8.0983,2, -999.00,9,  -999.0,9, -999.00,9,  -999.0,9, -999.00,9,     -999.0,9,     -999.0,9, -999.00,9, 20140414,      612, -50.5000,-150.0000,    34.6324,2,     -999.0,9,     -999.0,9,     -999.0,9,     -999.0,9,     -999.0,9,     -999.0,9
320620140320,       P16S,      36,          1,         26,         26,2,20140414,       0427,   -50.5000,  -150.0000,       4442,   333.1,   7.7906,  34.4336,2,  34.4327,2,    251.9,2,   255.2,2,    5.28,2,   18.90,2,    0.01,2,    1.31,2,-999.000,9,-999.000,9, -999.00,9,  -999.0,9,  -999.0,9,-999.0000,9,  -999.00,-999.000,9,-999.0000,9, -999.00,9,   7.7877,2, -999.00,9,  -999.0,9, -999.00,9,  -999.0,9, -999.00,9,     -999.0,9,     -999.0,9, -999.00,9, 20140414,      610, -50.5000,-150.0001,    34.5951,2,     -999.0,9,     -999.0,9,     -999.0,9,     -999.0,9,     -999.0,9,     -999.0,9
320620140320,       P16S,      36,          1,         25,         25,2,20140414,       0427,   -50.5000,  -150.0000,       4442,   383.6,   7.5930,  34.4134,2,  34.4119,2,    256.2,2,   257.6,2,    5.47,2,   19.21,2,    0.01,2,    1.32,2,   3.798,2,   2.060,2,    2.05,2,    2137,2,  2283.4,2,   7.8163,2,       20,-999.000,9,-999.0000,9, -999.00,9,   7.5941,2, -999.00,9,  -999.0,9, -999.00,9,  -999.0,9, -999.00,9,      13.97,2,     -999.0,9, -999.00,9, 20140414,      608, -50.5000,-150.0001,    34.5742,2,     -999.0,9,     -999.0,9,     -999.0,9,     -999.0,9,     -999.0,9,     -999.0,9
320620140320,       P16S,      36,          1,         24,         24,2,20140414,       0427,   -50.5000,  -150.0000,       4442,   433.4,   7.4553,  34.4021,2,  34.4013,2,    256.3,2,   255.9,2,    5.96,2,   19.81,2,    0.01,2,    1.38,2,-999.000,9,-999.000,9, -999.00,9,  -999.0,9,  -999.0,9,-999.0000,9,  -999.00,-999.000,9,-999.0000,9, -999.00,9,   7.4529,2, -999.00,9,  -999.0,9, -999.00,9,  -999.0,9, -999.00,9,     -999.0,9,     -999.0,9, -999.00,9, 20140414,      606, -50.5000,-150.0000,    34.5635,2,     -999.0,9,     -999.0,9,     -999.0,9,     -999.0,9,     -999.0,9,     -999.0,9
320620140320,       P16S,      36,          1,         23,         23,2,20140414,       0427,   -50.5000,  -150.0000,       4442,   484.3,   7.3119,  34.3943,2,  34.3936,2,    254.1,2,   253.0,2,    6.64,2,   20.49,2,    0.01,2,    1.39,2,-999.000,9,-999.000,9, -999.00,9,  2141.4,2,  2282.8,6,   7.8034,2,       20,-999.000,9,-999.0000,9, -999.00,9,   7.3113,2, -999.00,9,  -999.0,9, -999.00,9,  -999.0,9, -999.00,9,     -999.0,9,     -999.0,9, -999.00,9, 20140414,      604, -50.4999,-150.0000,    34.5558,2,     -999.0,9,     -999.0,9,     -999.0,9,     -999.0,9,     -999.0,9,     -999.0,9
320620140320,       P16S,      36,          1,         22,         22,2,20140414,       0427,   -50.5000,  -150.0000,       4442,   565.0,   7.1407,  34.3894,2,  34.3879,2,    248.5,2,   247.9,2,    7.33,2,   21.48,2,    0.01,2,    1.47,2,-999.000,9,-999.000,9, -999.00,9,  -999.0,9,  -999.0,9,-999.0000,9,  -999.00,-999.000,9,-999.0000,9, -999.00,9,   7.1406,2, -999.00,9,  -999.0,9, -999.00,9,  -999.0,9, -999.00,9,     -999.0,9,     -999.0,9, -999.00,9, 20140414,      601, -50.5000,-150.0001,    34.5501,2,     -999.0,9,     -999.0,9,     -999.0,9,     -999.0,9,     -999.0,9,     -999.0,9
320620140320,       P16S,      36,          1,         21,         21,2,20140414,       0427,   -50.5000,  -150.0000,       4442,   666.1,   6.7873,  34.3641,2,  34.3638,2,    243.4,2,   243.3,2,    9.19,2,   22.80,2,    0.00,2,    1.54,2,   3.534,2,   1.873,2,    1.35,2,  2149.8,6,  2281.4,2,   7.7815,2,       20,-999.000,9,-999.0000,9, -999.00,9,   6.7871,2, -999.00,9,  -999.0,9, -999.00,9,  -999.0,9, -999.00,9,      15.70,2,     -999.0,9, -999.00,9, 20140414,      558, -50.5000,-150.0001,    34.5258,2,     -999.0,9,     -999.0,9,     -999.0,9,     -999.0,9,     -999.0,9,     -999.0,9
320620140320,       P16S,      36,          1,         20,         20,2,20140414,       0427,   -50.5000,  -150.0000,       4442,   763.8,   6.2122,  34.3131,2,  34.3120,2,    243.1,2,   242.9,2,   12.21,2,   24.13,2,    0.00,2,    1.66,2,-999.000,9,-999.000,9, -999.00,9,  -999.0,9,  -999.0,9,-999.0000,9,  -999.00,-999.000,9,-999.0000,9, -999.00,9,   6.2133,2, -999.00,9,  -999.0,9, -999.00,9,  -999.0,9, -999.00,9,     -999.0,9,     -999.0,9, -999.00,9, 20140414,      555, -50.5000,-150.0000,    34.4738,2,     -999.0,9,     -999.0,9,     -999.0,9,     -999.0,9,     -999.0,9,     -999.0,9
320620140320,       P16S,      36,          1,         19,         19,2,20140414,       0427,   -50.5000,  -150.0000,       4442,   867.3,   5.6888,  34.3091,2,  34.3092,2,    227.9,2,   228.4,2,   17.39,2,   26.46,2,    0.00,2,    1.82,2,-999.000,9,-999.000,9, -999.00,9,  2169.8,2,  2286.8,2,   7.7371,6,       20,-999.000,9,-999.0000,9, -999.00,9,   5.6978,3, -999.00,9,  -999.0,9, -999.00,9,  -999.0,9, -999.00,9,     -999.0,9,     -999.0,9, -999.00,9, 20140414,      552, -50.5000,-150.0001,    34.4710,2,     -999.0,9,     -999.0,9,     -999.0,9,     -999.0,9,     -999.0,9,     -999.0,9
320620140320,       P16S,      36,          1,         18,         18,2,20140414,       0427,   -50.5000,  -150.0000,       4442,   962.1,   5.1708,  34.3092,2,  34.3081,2,    218.8,2,   219.7,2,   22.77,2,   28.29,2,    0.00,2,    1.93,2,-999.000,9,-999.000,9, -999.00,9,  -999.0,9,  -999.0,9,-999.0000,9,  -999.00,-999.000,9,-999.0000,9, -999.00,9,   5.1704,2, -999.00,9,  -999.0,9, -999.00,9,  -999.0,9, -999.00,9,     -999.0,9,     -999.0,9, -999.00,9, 20140414,      549, -50.5000,-150.0000,    34.4698,2,     -999.0,9,     -999.0,9,     -999.0,9,     -999.0,9,     -999.0,9,     -999.0,9
320620140320,       P16S,      36,          1,         17,         17,2,20140414,       0427,   -50.5000,  -150.0000,       4442,  1062.3,   4.5774,  34.3138,2,  34.3135,2,    211.7,2,   212.0,2,   29.80,2,   30.06,2,    0.00,2,    2.06,2,   2.406,2,   1.199,2,    0.86,2,  2193.4,2,  2294.6,2,   7.6928,2,       20,-999.000,9,-999.0000,9, -999.00,9,   4.5732,2, -999.00,9,  -999.0,9, -999.00,9,  -999.0,9, -999.00,9,      19.90,2,     -999.0,9, -999.00,9, 20140414,      546, -50.5000,-150.0000,    34.4754,2,     -999.0,9,     -999.0,9,     -999.0,9,     -999.0,9,     -999.0,9,     -999.0,9
320620140320,       P16S,      36,          1,         16,         16,2,20140414,       0427,   -50.5000,  -150.0000,       4442,  1163.4,   4.0409,  34.3324,2,  34.3316,2,    204.6,2,   205.4,2,   37.62,2,   31.46,2,    0.00,2,    2.15,2,-999.000,9,-999.000,9, -999.00,9,  -999.0,9,  -999.0,9,-999.0000,9,  -999.00,-999.000,9,-999.0000,9, -999.00,9,   4.0405,2, -999.00,9,  -999.0,9, -999.00,9,  -999.0,9, -999.00,9,     -999.0,9,     -999.0,9, -999.00,9, 20140414,      543, -50.5000,-150.0000,    34.4935,2,     -999.0,9,     -999.0,9,     -999.0,9,     -999.0,9,     -999.0,9,     -999.0,9
320620140320,       P16S,      36,          1,         15,         15,2,20140414,       0427,   -50.5000,  -150.0000,       4442,  1265.5,   3.6655,  34.3610,2,  34.3604,2,    197.8,2,   197.8,2,   44.85,2,   32.45,2,    0.00,2,    2.22,2,-999.000,9,-999.000,9, -999.00,9,  2217.2,2,  2308.7,2,   7.6588,2,       20,-999.000,9,-999.0000,9, -999.00,9,   3.6656,2, -999.00,9,  -999.0,9, -999.00,9,  -999.0,9, -999.00,9,     -999.0,9,     -999.0,9, -999.00,9, 20140414,      540, -50.5000,-150.0001,    34.5225,2,     -999.0,9,     -999.0,9,     -999.0,9,     -999.0,9,     -999.0,9,     -999.0,9
320620140320,       P16S,      36,          1,         14,         14,2,20140414,       0427,   -50.5000,  -150.0000,       4442,  1365.1,   3.3596,  34.3950,2,  34.3948,2,    191.1,2,   190.5,2,   51.89,2,   33.28,2,    0.00,2,    2.29,2,-999.000,9,-999.000,9, -999.00,9,  -999.0,9,  -999.0,9,-999.0000,9,  -999.00,-999.000,9,-999.0000,9, -999.00,9,   3.3596,2, -999.00,9,  -999.0,9, -999.00,9,  -999.0,9, -999.00,9,     -999.0,9,     -999.0,9, -999.00,9, 20140414,      537, -50.5000,-150.0000,    34.5570,2,     -999.0,9,     -999.0,9,     -999.0,9,     -999.0,9,     -999.0,9,     -999.0,9
320620140320,       P16S,      36,          1,         13,         13,2,20140414,       0427,   -50.5000,  -150.0000,       4442,  1464.6,   3.1253,  34.4340,2,  34.4338,2,    184.0,2,   184.2,2,   58.72,2,   33.85,2,    0.00,2,    2.33,2,   1.174,2,   0.582,2,    0.23,2,  2236.5,2,    2322,2,   7.6378,2,       20,-999.000,9,-999.0000,9, -999.00,9,   3.1252,2, -999.00,9,  -999.0,9, -999.00,9,  -999.0,9, -999.00,9,      23.28,2,     -999.0,9, -999.00,9, 20140414,      534, -50.5000,-150.0000,    34.5962,2,     -999.0,9,     -999.0,9,     -999.0,9,     -999.0,9,     -999.0,9,     -999.0,9
320620140320,       P16S,      36,          1,         12,         12,2,20140414,       0427,   -50.5000,  -150.0000,       4442,  1564.1,   2.9597,  34.4732,2,  34.4754,2,    179.1,2,   178.8,2,   64.49,2,   34.08,2,    0.00,2,    2.34,2,-999.000,9,-999.000,9, -999.00,9,  -999.0,9,  -999.0,9,-999.0000,9,  -999.00,-999.000,9,-999.0000,9, -999.00,9,   2.9588,2, -999.00,9,  -999.0,9, -999.00,9,  -999.0,9, -999.00,9,     -999.0,9,     -999.0,9, -999.00,9, 20140414,      531, -50.5000,-150.0001,    34.6380,2,     -999.0,9,     -999.0,9,     -999.0,9,     -999.0,9,     -999.0,9,     -999.0,9
320620140320,       P16S,      36,          1,         11,         11,2,20140414,       0427,   -50.5000,  -150.0000,       4442,  1663.8,   2.8171,  34.5128,2,  34.5119,2,    175.3,2,   174.7,2,   69.66,2,   34.21,2,    0.00,2,    2.36,2,-999.000,9,-999.000,9, -999.00,9,  2250.4,2,    2333,2,    7.628,2,       20,-999.000,9,-999.0000,9, -999.00,9,   2.8167,2, -999.00,9,  -999.0,9, -999.00,9,  -999.0,9, -999.00,9,     -999.0,9,     -999.0,9, -999.00,9, 20140414,      528, -50.5000,-150.0001,    34.6747,2,     -999.0,9,     -999.0,9,     -999.0,9,     -999.0,9,     -999.0,9,     -999.0,9
320620140320,       P16S,      36,          1,         10,         10,2,20140414,       0427,   -50.5000,  -150.0000,       4442,  1764.3,   2.6976,  34.5500,2,  34.5496,2,    171.8,2,   171.7,2,   74.25,2,   34.27,2,    0.00,2,    2.35,2,-999.000,9,-999.000,9, -999.00,9,  -999.0,9,  -999.0,9,-999.0000,9,  -999.00,-999.000,9,-999.0000,9, -999.00,9,   2.6971,2, -999.00,9,  -999.0,9, -999.00,9,  -999.0,9, -999.00,9,     -999.0,9,     -999.0,9, -999.00,9, 20140414,      525, -50.5000,-150.0000,    34.7126,2,     -999.0,9,     -999.0,9,     -999.0,9,     -999.0,9,     -999.0,9,     -999.0,9
320620140320,       P16S,      36,          1,          9,         09,2,20140414,       0427,   -50.5000,  -150.0000,       4442,  1934.4,   2.5545,  34.5982,2,  34.5970,2,    171.4,2,   171.2,2,   78.74,2,   33.93,2,    0.00,2,    2.33,2,-999.000,9,-999.000,9, -999.00,9,  2258.4,2,  2343.8,3,   7.6294,2,       20,-999.000,9,-999.0000,9, -999.00,9,   2.5546,2, -999.00,9,  -999.0,9, -999.00,9,  -999.0,9, -999.00,9,     -999.0,9,     -999.0,9, -999.00,9, 20140414,      521, -50.5000,-150.0001,    34.7601,2,     -999.0,9,     -999.0,9,     -999.0,9,     -999.0,9,     -999.0,9,     -999.0,9
320620140320,       P16S,      36,          1,          8,         08,2,20140414,       0427,   -50.5000,  -150.0000,       4442,  2164.8,   2.4038,  34.6554,2,  34.6555,2,    176.0,2,   176.1,2,   80.11,2,   33.01,2,    0.00,2,    2.26,2,   0.360,2,   0.146,2,    0.06,2,  2255.8,2,  2343.8,2,   7.6384,2,       20,-999.000,9,-999.0000,9, -999.00,9,   2.4037,2, -999.00,9,  -999.0,9, -999.00,9,  -999.0,9, -999.00,9,      22.38,2,     -999.0,9, -999.00,9, 20140414,      515, -50.5000,-150.0001,    34.8189,2,     -999.0,9,     -999.0,9,     -999.0,9,     -999.0,9,     -999.0,9,     -999.0,9
320620140320,       P16S,      36,          1,          7,         07,2,20140414,       0427,   -50.5000,  -150.0000,       4442,  2414.9,   2.2301,  34.7068,2,  34.7064,2,    182.6,2,   183.2,2,   83.72,2,   31.95,2,    0.00,2,    2.18,2,-999.000,9,-999.000,9, -999.00,9,  2252.7,2,  2347.6,2,   7.6549,2,       20,-999.000,9,-999.0000,9, -999.00,9,   2.2301,2, -999.00,9,  -999.0,9, -999.00,9,  -999.0,9, -999.00,9,     -999.0,9,     -999.0,9, -999.00,9, 20140414,      510, -50.5000,-150.0000,    34.8701,2,     -999.0,9,     -999.0,9,     -999.0,9,     -999.0,9,     -999.0,9,     -999.0,9
320620140320,       P16S,      36,          1,          6,         06,2,20140414,       0427,   -50.5000,  -150.0000,       4442,  2663.8,   2.0370,  34.7303,2,  34.7300,2,    189.0,2,   189.0,2,   88.50,2,   31.36,2,    0.00,2,    2.14,2,-999.000,9,-999.000,9, -999.00,9,    2253,2,  2351.5,2,   7.6667,2,       20,-999.000,9,-999.0000,9, -999.00,9,   2.0368,2, -999.00,9,  -999.0,9, -999.00,9,  -999.0,9, -999.00,9,     -999.0,9,     -999.0,9, -999.00,9, 20140414,      504, -50.5000,-150.0001,    34.8938,2,     -999.0,9,     -999.0,9,     -999.0,9,     -999.0,9,     -999.0,9,     -999.0,9