BOTTLE,20230715CCHSIOCBG
EXPOCODE,SECT_ID,STNNBR,CASTNO,SAMPNO,BTLNBR,BTLNBR_FLAG_W,DATE,TIME,LATITUDE,LONGITUDE,DEPTH,CTDPRS,CTDTMP,CTDSAL,CTDSAL_FLAG_W,SALNTY,SALNTY_FLAG_W,CTDOXY,CTDOXY_FLAG_W,OXYGEN,OXYGEN_FLAG_W,SILCAT,SILCAT_FLAG_W,NITRAT,NITRAT_FLAG_W,NITRIT,NITRIT_FLAG_W,PHSPHT,PHSPHT_FLAG_W,CFC-11,CFC-11_FLAG_W,CFC-12,CFC-12_FLAG_W,SF6,SF6_FLAG_W,TCARBN,TCARBN_FLAG_W,ALKALI,ALKALI_FLAG_W,PH_TOT,PH_TOT_FLAG_W,PH_TMP,TRITUM,TRITUM_FLAG_W,HELIUM,HELIUM_FLAG_W,DELHE3,DELHE3_FLAG_W,REFTMP,REFTMP_FLAG_W,DELC13,DELC13_FLAG_W,DELC14,DELC14_FLAG_W,DELO18,DELO18_FLAG_W,DOC,DOC_FLAG_W,TDN,TDN_FLAG_W,N2O,N2O_FLAG_W,CALCIUM,CALCIUM_FLAG_W,D15N_NO3,D15N_NO3_FLAG_W,BTL_DATE,BTL_TIME,BTL_LAT,BTL_LON,SALTREF,SALTREF_FLAG_W,D18O_NO3,D18O_NO3_FLAG_W,DSI30,DSI30_FLAG_W,CDOM_NASA,CDOM_NASA_FLAG_W,CDOM_UCSB,CDOM_UCSB_FLAG_W,D15N_NO2+NO3,D15N_NO2+NO3_FLAG_W,D18O_NO2+NO3,D18O_NO2+NO3_FLAG_W
,,,,,,,,,,,METERS,DBAR,ITS-90,PSS-78,,PSS-78,,UMOL/KG,,UMOL/KG,,UMOL/KG,,UMOL/KG,,UMOL/KG,,UMOL/KG,,PMOL/KG,,PMOL/KG,,FMOL/KG,,UMOL/KG,,UMOL/KG,,,,DEG C,TU,,NMOL/KG,,PERCNT,,DEG C,,/MILLE,,/MILLE,,/MILLE,,UMOL/KG,,UMOL/KG,,NMOL/KG,,MMOL/KG,,/MILLE,,,,,,G/KG,,/MILLE,,/MILLE,,,,,,/MILLE,,/MILLE,
320620140320,       P16S,      83,          3,         36,         36,2,20140502,       0047,   -19.6665,  -150.0005,       3982,     5.0,  27.1564,  35.8906,2,  35.8904,2,    198.4,2,   200.3,2,    1.17,2,    0.04,2,    0.01,2,    0.17,2,   1.456,2,   0.967,2,    1.40,2,  2011.2,2,  2362.2,2,   8.1924,2,       20,-999.000,9,-999.0000,9, -999.00,9,  27.1532,2, -999.00,9,  -999.0,9, -999.00,9,  -999.0,9, -999.00,9,       6.30,2,     -999.0,1, -999.00,9, 20140502,      243, -19.6665,-150.0005,    36.0596,2,     -999.0,9,     -999.0,9,     -999.0,9,     -999.0,1,     -999.0,9,     -999.0,9
320620140320,       P16S,      83,          3,         35,         35,2,20140502,       0047,   -19.6665,  -150.0005,       3982,    20.0,  27.1476,  35.8961,2,  35.9159,3,    199.5,2,   200.2,2,    1.17,2,    0.02,2,    0.01,2,    0.16,2,   1.607,2,   0.953,2,    1.36,2,    2012,2,  2363.4,2,   8.1925,2,       20,-999.000,9,-999.0000,9, -999.00,9,  27.1443,2,    1.40,2,    41.8,2, -999.00,9,  -999.0,9, -999.00,9,       6.36,2,     -999.0,9, -999.00,9, 20140502,      241, -19.6665,-150.0005,    36.0852,3,     -999.0,9,     -999.0,9,     -999.0,9,     -999.0,1,     -999.0,9,     -999.0,9
320620140320,       P16S,      83,          3,         34,         34,2,20140502,       0047,   -19.6665,  -150.0005,       3982,    40.7,  27.1504,  35.8983,2,  35.8963,2,    200.0,2,   200.2,2,    1.17,2,    0.00,2,    0.01,2,    0.16,2,   1.522,2,   0.948,2,    1.47,2,  2011.4,2,  2363.8,2,   8.1934,2,       20,-999.000,9,-999.0000,9, -999.00,9,  27.1476,2, -999.00,9,  -999.0,9, -999.00,9,  -999.0,9, -999.00,9,       6.28,2,     -999.0,9, -999.00,9, 20140502,      239, -19.6665,-150.0005,    36.0656,2,     -999.0,9,     -999.0,9,     -999.0,9,     -999.0,1,     -999.0,9,     -999.0,9
320620140320,       P16S,      83,          3,         33,         33,2,20140502,       0047,   -19.6665,  -150.0005,       3982,    64.6,  27.1142,  35.9079,2,  35.9084,2,    199.9,2,   199.9,2,    1.17,2,    0.00,2,    0.00,2,    0.15,2,   1.455,2,   0.975,2,    1.53,2,  2011.8,2,  2364.1,2,   8.1934,2,       20,-999.000,9,-999.0000,9, -999.00,9,  27.1081,2,    1.38,2,    38.8,2, -999.00,9,  -999.0,9, -999.00,9,       6.09,2,     -999.0,9, -999.00,9, 20140502,      237, -19.6665,-150.0005,    36.0777,2,     -999.0,9,     -999.0,9,     -999.0,9,     -999.0,1,     -999.0,9,     -999.0,9
320620140320,       P16S,      83,          3,         31,         31,3,20140502,       0047,   -19.6665,  -150.0005,       3982,    89.8,  25.5636,  36.1910,2,  36.1902,2,    210.1,2,   211.0,2,    1.17,2,    0.00,2,    0.00,2,    0.16,2,-999.000,9,-999.000,9, -999.00,9,  -999.0,9,  -999.0,9,-999.0000,9,  -999.00,-999.000,9,-999.0000,9, -999.00,9,  25.4557,3, -999.00,9,  -999.0,9, -999.00,9,  -999.0,9, -999.00,9,     -999.0,9,     -999.0,9, -999.00,9, 20140502,      235, -19.6665,-150.0005,    36.3608,2,     -999.0,9,     -999.0,9,     -999.0,9,     -999.0,1,     -999.0,9,     -999.0,9
320620140320,       P16S,      83,          3,         32,         32,2,20140502,       0047,   -19.6665,  -150.0005,       3982,    90.5,  25.4480,  36.1901,2,-999.0000,9,   -999.0,9,  -999.0,9, -999.00,9, -999.00,9, -999.00,9, -999.00,9,-999.000,9,-999.000,9, -999.00,9,  -999.0,9,  -999.0,9,-999.0000,9,  -999.00,-999.000,9,-999.0000,9, -999.00,9,  25.4495,2, -999.00,9,  -999.0,9, -999.00,9,  -999.0,9, -999.00,9,     -999.0,9,     -999.0,9, -999.00,9, 20140502,      235, -19.6665,-150.0005,     -999.0,9,     -999.0,9,     -999.0,9,     -999.0,9,     -999.0,9,     -999.0,9,     -999.0,9
320620140320,       P16S,      83,          3,         29,         29,2,20140502,       0047,   -19.6665,  -150.0005,       3982,   135.2,  23.5030,  36.1155,2,  36.1148,2,    204.2,2,   203.5,2,    1.07,2,    0.02,2,    0.06,2,    0.15,2,   1.687,2,   1.105,2,    1.47,2,  2055.6,2,  2376.1,2,    8.137,2,       20,-999.000,9,-999.0000,9, -999.00,9,  23.5020,2,    1.15,2,    54.5,2, -999.00,9,  -999.0,9, -999.00,9,       6.77,2,     -999.0,1, -999.00,9, 20140502,      232, -19.6665,-150.0005,    36.2851,2,     -999.0,9,     -999.0,9,     -999.0,9,     -999.0,1,     -999.0,9,     -999.0,9
320620140320,       P16S,      83,          3,         30,         30,2,20140502,       0047,   -19.6665,  -150.0005,       3982,   135.4,  23.5064,  36.1158,2,-999.0000,9,   -999.0,9,  -999.0,9, -999.00,9, -999.00,9, -999.00,9, -999.00,9,-999.000,9,-999.000,9, -999.00,9,  -999.0,9,  -999.0,9,-999.0000,9,  -999.00,-999.000,9,-999.0000,9, -999.00,9,  23.5052,2, -999.00,9,  -999.0,9, -999.00,9,  -999.0,9, -999.00,9,     -999.0,9,     -999.0,9, -999.00,9, 20140502,      233, -19.6665,-150.0005,     -999.0,9,     -999.0,9,     -999.0,9,     -999.0,9,     -999.0,9,     -999.0,9,     -999.0,9
320620140320,       P16S,      83,          3,         28,         28,2,20140502,       0047,   -19.6665,  -150.0005,       3982,   185.6,  22.2951,  36.0363,2,  36.0347,2,    193.6,2,   192.0,2,    1.07,2,    1.16,2,    0.21,2,    0.22,2,   1.982,2,   1.134,2,    1.49,2,  -999.0,9,  -999.0,9,-999.0000,9,  -999.00,-999.000,9,-999.0000,9, -999.00,9,  22.2933,2, -999.00,9,  -999.0,9, -999.00,9,  -999.0,9, -999.00,9,       7.63,2,     -999.0,9, -999.00,9, 20140502,      230, -19.6665,-150.0005,    36.2046,2,     -999.0,9,     -999.0,9,     -999.0,9,     -999.0,1,     -999.0,9,     -999.0,9
320620140320,       P16S,      83,          3,         27,         27,2,20140502,       0047,   -19.6665,  -150.0005,       3982,   235.7,  20.3532,  35.8187,2,  35.8001,2,    181.5,2,   181.5,2,    1.37,2,    3.68,2,    0.01,2,    0.39,2,   2.024,2,   1.258,2,    1.36,2,  2097.1,2,    2355,2,   8.0333,2,       20,-999.000,9,-999.0000,9, -999.00,9,  20.3430,2,    0.98,2,    61.8,2, -999.00,9,  -999.0,9, -999.00,9,       9.10,2,     -999.0,1, -999.00,9, 20140502,      228, -19.6665,-150.0005,    35.9689,2,     -999.0,9,     -999.0,9,     -999.0,9,     -999.0,1,     -999.0,9,     -999.0,9
320620140320,       P16S,      83,          3,         26,         26,2,20140502,       0047,   -19.6665,  -150.0005,       3982,   284.4,  18.3207,  35.5027,2,  35.5135,2,    177.8,2,   176.6,2,    1.95,2,    5.84,2,    0.01,2,    0.59,2,   2.129,2,   1.315,2,    1.45,2,  2106.8,2,  2337.5,2,   7.9865,2,       20,-999.000,9,-999.0000,9, -999.00,9,  18.3583,3,    0.95,2,    64.6,2, -999.00,9,  -999.0,9, -999.00,9,      11.05,2,     -999.0,9, -999.00,9, 20140502,      226, -19.6665,-150.0005,    35.6810,2,     -999.0,9,     -999.0,9,     -999.0,9,     -999.0,1,     -999.0,9,     -999.0,9
320620140320,       P16S,      83,          3,         25,         25,2,20140502,       0047,   -19.6665,  -150.0005,       3982,   332.9,  16.5869,  35.2504,2,  35.2507,2,    170.3,2,   169.8,2,    3.03,2,    8.47,2,    0.01,2,    0.74,2,   2.377,2,   1.322,2,    1.22,2,  2115.8,2,  2322.2,2,   7.9377,2,       20,-999.000,9,-999.0000,9, -999.00,9,  16.5928,2,    0.91,2,    61.1,2, -999.00,9,  -999.0,9, -999.00,9,      14.80,2,     -999.0,9, -999.00,9, 20140502,      224, -19.6665,-150.0005,    35.4169,2,     -999.0,9,     -999.0,9,     -999.0,9,     -999.0,9,     -999.0,9,     -999.0,9
320620140320,       P16S,      83,          3,         24,         24,2,20140502,       0047,   -19.6665,  -150.0005,       3982,   384.7,  13.3544,  34.8511,2,  34.8409,2,    160.3,2,   158.8,2,    6.06,2,   14.18,2,    0.01,2,    1.16,2,   2.290,2,   1.273,2,    1.22,2,  2137.8,2,  2298.2,2,   7.8405,2,       20,-999.000,9,-999.0000,9, -999.00,9,  13.3331,3,    0.90,2,    42.5,2, -999.00,9,  -999.0,9, -999.00,9,      20.35,2,     -999.0,9, -999.00,9, 20140502,      221, -19.6665,-150.0005,    35.0052,2,     -999.0,9,     -999.0,9,     -999.0,9,     -999.0,1,     -999.0,9,     -999.0,9
320620140320,       P16S,      83,          3,         23,         23,2,20140502,       0047,   -19.6665,  -150.0005,       3982,   465.9,  10.0139,  34.5661,2,  34.5689,2,    180.7,2,   183.1,2,    7.34,2,   18.79,2,    0.01,2,    1.37,2,   2.551,2,   1.292,2,    1.09,2,  2145.1,2,  2284.6,2,   7.7921,2,       20,-999.000,9,-999.0000,9, -999.00,9,  10.0265,2,    1.08,2,    32.0,2, -999.00,9,  -999.0,9, -999.00,9,      23.20,2,     -999.0,1, -999.00,9, 20140502,      219, -19.6665,-150.0005,    34.7319,2,     -999.0,9,     -999.0,9,     -999.0,9,     -999.0,9,     -999.0,9,     -999.0,9
320620140320,       P16S,      83,          3,         22,         22,2,20140502,       0047,   -19.6665,  -150.0005,       3982,   566.1,   7.6083,  34.4118,2,  34.4110,2,    176.4,2,   170.0,2,   14.58,2,   26.37,2,    0.00,2,    1.87,2,   1.856,2,   0.891,2,    0.25,2,  -999.0,9,  -999.0,9,-999.0000,9,  -999.00,-999.000,9,-999.0000,9, -999.00,9,   7.6096,2, -999.00,9,  -999.0,9, -999.00,9,  -999.0,9, -999.00,9,      28.45,2,     -999.0,9, -999.00,9, 20140502,      215, -19.6665,-150.0005,    34.5733,2,     -999.0,9,     -999.0,9,     -999.0,9,     -999.0,1,     -999.0,9,     -999.0,9
320620140320,       P16S,      83,          3,         21,         21,2,20140502,       0047,   -19.6665,  -150.0005,       3982,   665.0,   6.2968,  34.3785,2,  34.3787,2,    172.8,2,   171.8,2,   21.62,2,   29.65,2,    0.00,2,    2.05,2,   1.170,6,   0.609,6,    0.23,6,  2191.1,2,  2288.2,2,   7.6749,2,       20,-999.000,9,-999.0000,9, -999.00,9,   6.2969,2,    1.03,2,   -51.6,2, -999.00,9,  -999.0,9, -999.00,9,      28.67,6,     -999.0,9, -999.00,9, 20140502,      212, -19.6665,-150.0005,    34.5408,2,     -999.0,9,     -999.0,9,     -999.0,9,     -999.0,9,     -999.0,9,     -999.0,9
320620140320,       P16S,      83,          3,         20,         20,2,20140502,       0047,   -19.6665,  -150.0005,       3982,   763.5,   5.3381,  34.3662,2,  34.3661,2,    175.2,2,   176.2,2,   31.89,2,   31.24,2,    0.00,2,    2.15,2,   0.704,2,   0.301,2,    0.08,3,  2198.5,2,  2296.1,2,   7.6705,2,       20,-999.000,9,-999.0000,9, -999.00,9,   5.3438,2,    1.01,2,   -79.2,2, -999.00,9,  -999.0,9, -999.00,9,      25.87,2,     -999.0,1, -999.00,9, 20140502,      209, -19.6665,-150.0005,    34.5282,2,     -999.0,9,     -999.0,9,     -999.0,9,     -999.0,1,     -999.0,9,     -999.0,9
320620140320,       P16S,      83,          3,         19,         19,2,20140502,       0047,   -19.6665,  -150.0005,       3982,   865.8,   4.7059,  34.4166,2,  34.4164,2,    162.5,2,   157.5,2,   45.10,2,   33.70,2,    0.00,2,    2.33,2,   0.241,2,   0.114,2,    0.23,3,  2224.9,2,  2311.2,6,   7.6389,2,       20,-999.000,9,-999.0000,9, -999.00,9,   4.7072,2,    0.84,2,  -120.5,2, -999.00,9,  -999.0,9, -999.00,9,      26.79,2,     -999.0,9, -999.00,9, 20140502,      205, -19.6665,-150.0005,    34.5786,2,     -999.0,9,     -999.0,9,     -999.0,9,     -999.0,9,     -999.0,9,     -999.0,9
320620140320,       P16S,      83,          3,         18,         18,2,20140502,       0047,   -19.6665,  -150.0005,       3982,   964.7,   4.3386,  34.4522,2,  34.4515,2,    153.1,2,   152.0,2,   55.46,2,   34.45,2,    0.00,2,    2.39,2,   0.111,2,   0.053,2,    0.14,3,  -999.0,9,  -999.0,9,-999.0000,9,  -999.00,-999.000,9,-999.0000,9, -999.00,9,   4.3412,2, -999.00,9,  -999.0,9, -999.00,9,  -999.0,9, -999.00,9,      26.72,2,     -999.0,9, -999.00,9, 20140502,      202, -19.6665,-150.0005,    34.6140,2,     -999.0,9,     -999.0,9,     -999.0,9,     -999.0,9,     -999.0,9,     -999.0,9
320620140320,       P16S,      83,          3,         17,         17,2,20140502,       0047,   -19.6665,  -150.0005,       3982,  1064.3,   3.8848,  34.4818,2,  34.4794,2,    150.4,2,   149.9,2,   65.05,2,   34.98,2,    0.00,2,    2.46,2,   0.054,2,   0.012,2,    0.11,3,    2251,6,    2333,2,   7.6258,2,       20,-999.000,9,-999.0000,9, -999.00,9,   3.8895,3,    0.70,2,  -151.7,2, -999.00,9,  -999.0,9, -999.00,9,      26.86,2,     -999.0,1, -999.00,9, 20140502,      159, -19.6665,-150.0005,    34.6420,2,     -999.0,9,     -999.0,9,     -999.0,9,     -999.0,1,     -999.0,9,     -999.0,9
320620140320,       P16S,      83,          3,         16,         16,2,20140502,       0047,   -19.6665,  -150.0005,       3982,  1165.7,   3.4039,  34.5126,2,  34.5118,2,    150.0,2,   150.0,2,   76.49,2,   35.36,2,    0.00,2,    2.50,2,-999.000,9,-999.000,9, -999.00,9,  -999.0,9,  -999.0,9,-999.0000,9,  -999.00,-999.000,9,-999.0000,9, -999.00,9,   3.4038,2, -999.00,9,  -999.0,9, -999.00,9,  -999.0,9, -999.00,9,     -999.0,9,     -999.0,9, -999.00,9, 20140502,      155, -19.6665,-150.0005,    34.6745,2,     -999.0,9,     -999.0,9,     -999.0,9,     -999.0,9,     -999.0,9,     -999.0,9
320620140320,       P16S,      83,          3,         15,         15,2,20140502,       0047,   -19.6665,  -150.0005,       3982,  1263.8,   3.1865,  34.5308,2,  34.5306,2,    150.5,2,   150.1,2,   82.36,2,   35.49,2,    0.00,2,    2.51,2,   0.011,2,   0.000,2,    0.10,3,  2268.3,2,  2352.6,2,   7.6259,2,       20,-999.000,9,-999.0000,9, -999.00,9,   3.1864,2,    0.60,2,  -183.9,2, -999.00,9,  -999.0,9, -999.00,9,      24.93,2,     -999.0,1, -999.00,9, 20140502,      152, -19.6665,-150.0005,    34.6935,2,     -999.0,9,     -999.0,9,     -999.0,9,     -999.0,1,     -999.0,9,     -999.0,9
320620140320,       P16S,      83,          3,         14,         14,2,20140502,       0047,   -19.6665,  -150.0005,       3982,  1364.8,   2.9732,  34.5534,2,  34.5544,2,    149.5,2,   149.0,2,   89.20,2,   35.53,2,    0.00,2,    2.51,2,   0.006,2,   0.000,2,    0.00,4,  2275.2,2,    2361,2,   7.6255,2,       20,-999.000,9,-999.0000,9, -999.00,9,   2.9749,2,    0.59,2,  -184.9,2, -999.00,9,  -999.0,9, -999.00,9,      25.75,2,     -999.0,9, -999.00,9, 20140502,      149, -19.6665,-150.0005,    34.7173,2,     -999.0,9,     -999.0,9,     -999.0,9,     -999.0,9,     -999.0,9,     -999.0,9
320620140320,       P16S,      83,          3,         13,         13,2,20140502,       0047,   -19.6665,  -150.0005,       3982,  1533.2,   2.6341,  34.5857,2,  34.5856,2,    149.2,2,   148.9,2,   99.47,2,   35.77,2,    0.00,2,    2.52,2,   0.002,2,   0.001,2,    0.09,3,  2285.3,2,  2372.5,2,   7.6262,2,       20,-999.000,9,-999.0000,9, -999.00,9,   2.6351,2,    0.41,2,  -199.3,2, -999.00,9,  -999.0,9, -999.00,9,      24.55,2,     -999.0,1, -999.00,9, 20140502,      145, -19.6665,-150.0005,    34.7487,2,     -999.0,9,     -999.0,9,     -999.0,9,     -999.0,9,     -999.0,9,     -999.0,9
320620140320,       P16S,      83,          3,         12,         12,2,20140502,       0047,   -19.6665,  -150.0005,       3982,  1734.4,   2.3509,  34.6133,2,  34.6128,2,    149.3,2,   149.0,2,  108.66,2,   35.74,2,    0.00,2,    2.52,2,   0.000,2,   0.000,2,    0.03,2,  2295.2,2,  2383.1,2,   7.6289,2,       20,-999.000,9,-999.0000,9, -999.00,9,   2.3518,2,    0.33,2,  -207.8,2, -999.00,9,  -999.0,9, -999.00,9,      24.33,2,     -999.0,9, -999.00,9, 20140502,      140, -19.6665,-150.0005,    34.7760,2,     -999.0,9,     -999.0,9,     -999.0,9,     -999.0,1,     -999.0,9,     -999.0,9
320620140320,       P16S,      83,          3,         11,         11,2,20140502,       0047,   -19.6665,  -150.0005,       3982,  1934.3,   2.2272,  34.6250,2,  34.6250,2,    150.0,2,   150.0,2,  112.67,2,   35.69,2,    0.00,2,    2.51,2,  -0.001,2,   0.000,2,    0.00,2,  2298.2,2,  2387.3,2,   7.6322,2,       20,-999.000,9,-999.0000,9, -999.00,9,   2.2270,2,    0.29,2,  -206.7,2, -999.00,9,  -999.0,9, -999.00,9,      24.77,2,     -999.0,1, -999.00,9, 20140502,      136, -19.6665,-150.0005,    34.7883,2,     -999.0,9,     -999.0,9,     -999.0,9,     -999.0,9,     -999.0,9,     -999.0,9
320620140320,       P16S,      83,          3,         10,         10,2,20140502,       0047,   -19.6665,  -150.0005,       3982,  2134.0,   2.0728,  34.6388,2,  34.6384,2,    152.8,2,   152.7,2,  116.09,2,   35.64,2,    0.00,2,    2.49,2,-999.000,9,-999.000,9, -999.00,9,  -999.0,9,  -999.0,9,-999.0000,9,  -999.00,-999.000,9,-999.0000,9, -999.00,9,   2.0727,2, -999.00,9,  -999.0,9, -999.00,9,  -999.0,9, -999.00,9,     -999.0,9,     -999.0,9, -999.00,9, 20140502,      131, -19.6665,-150.0005,    34.8017,2,     -999.0,9,     -999.0,9,     -999.0,9,     -999.0,9,     -999.0,9,     -999.0,9
320620140320,       P16S,      83,          3,          9,         09,2,20140502,       0047,   -19.6665,  -150.0005,       3982,  2334.1,   1.9654,  34.6486,2,  34.6484,2,    154.5,2,   154.7,2,  119.22,2,   35.50,2,    0.00,2,    2.48,2,   0.002,2,   0.000,2,    0.01,2,  2303.4,6,    2394,2,   7.6387,2,       20,-999.000,9,-999.0000,9, -999.00,9,   1.9661,2,    0.22,2,  -211.4,2, -999.00,9,  -999.0,9, -999.00,9,      24.10,2,     -999.0,1, -999.00,9, 20140502,      127, -19.6665,-150.0005,    34.8118,2,     -999.0,9,     -999.0,9,     -999.0,9,     -999.0,1,     -999.0,9,     -999.0,9
320620140320,       P16S,      83,          3,          8,         08,2,20140502,       0047,   -19.6665,  -150.0005,       3982,  2534.6,   1.8533,  34.6580,2,  34.6578,2,    156.7,2,   157.5,2,  121.86,2,   35.35,2,    0.00,2,    2.48,2,  -0.001,2,   0.000,2,    0.00,2,  2303.6,2,  2394.7,2,   7.6421,2,       20,-999.000,9,-999.0000,9, -999.00,9,   1.8536,2,    0.17,2,  -218.1,2, -999.00,9,  -999.0,9, -999.00,9,      22.91,2,     -999.0,1, -999.00,9, 20140502,      122, -19.6665,-150.0005,    34.8212,2,     -999.0,9,     -999.0,9,     -999.0,9,     -999.0,9,     -999.0,9,     -999.0,9
320620140320,       P16S,      83,          3,          7,         07,2,20140502,       0047,   -19.6665,  -150.0005,       3982,  2734.0,   1.7664,  34.6654,2,  34.6651,2,    159.4,2,   160.5,2,  122.64,2,   35.12,2,    0.00,2,    2.46,2,   0.003,2,   0.000,2,    0.00,2,  2302.9,2,  2395.5,2,   7.6456,6,       20,-999.000,9,-999.0000,9, -999.00,9,   1.7658,2,    0.20,2,  -210.4,2, -999.00,9,  -999.0,9, -999.00,9,      22.73,2,     -999.0,1, -999.00,9, 20140502,      118, -19.6665,-150.0005,    34.8286,2,     -999.0,9,     -999.0,9,     -999.0,9,     -999.0,9,     -999.0,9,     -999.0,9
320620140320,       P16S,      83,          3,          6,         06,2,20140502,       0047,   -19.6665,  -150.0005,       3982,  2933.0,   1.6987,  34.6714,2,  34.6709,2,    162.9,2,   162.6,2,  123.82,2,   34.99,2,    0.00,2,    2.44,2,-999.000,9,-999.000,9, -999.00,9,  -999.0,9,  -999.0,9,-999.0000,9,  -999.00,-999.000,9,-999.0000,9, -999.00,9,   1.6991,2, -999.00,9,  -999.0,9, -999.00,9,  -999.0,9, -999.00,9,     -999.0,9,     -999.0,9, -999.00,9, 20140502,      113, -19.6665,-150.0005,    34.8344,2,     -999.0,9,     -999.0,9,     -999.0,9,     -999.0,1,     -999.0,9,     -999.0,9