BOTTLE,20230715CCHSIOCBG
EXPOCODE,SECT_ID,STNNBR,CASTNO,SAMPNO,BTLNBR,BTLNBR_FLAG_W,DATE,TIME,LATITUDE,LONGITUDE,DEPTH,CTDPRS,CTDTMP,CTDSAL,CTDSAL_FLAG_W,SALNTY,SALNTY_FLAG_W,CTDOXY,CTDOXY_FLAG_W,OXYGEN,OXYGEN_FLAG_W,SILCAT,SILCAT_FLAG_W,NITRAT,NITRAT_FLAG_W,NITRIT,NITRIT_FLAG_W,PHSPHT,PHSPHT_FLAG_W,CFC-11,CFC-11_FLAG_W,CFC-12,CFC-12_FLAG_W,SF6,SF6_FLAG_W,TCARBN,TCARBN_FLAG_W,ALKALI,ALKALI_FLAG_W,PH_TOT,PH_TOT_FLAG_W,PH_TMP,TRITUM,TRITUM_FLAG_W,HELIUM,HELIUM_FLAG_W,DELHE3,DELHE3_FLAG_W,REFTMP,REFTMP_FLAG_W,DELC13,DELC13_FLAG_W,DELC14,DELC14_FLAG_W,DELO18,DELO18_FLAG_W,DOC,DOC_FLAG_W,TDN,TDN_FLAG_W,N2O,N2O_FLAG_W,CALCIUM,CALCIUM_FLAG_W,D15N_NO3,D15N_NO3_FLAG_W,BTL_DATE,BTL_TIME,BTL_LAT,BTL_LON,SALTREF,SALTREF_FLAG_W,D18O_NO3,D18O_NO3_FLAG_W,DSI30,DSI30_FLAG_W,CDOM_NASA,CDOM_NASA_FLAG_W,CDOM_UCSB,CDOM_UCSB_FLAG_W,D15N_NO2+NO3,D15N_NO2+NO3_FLAG_W,D18O_NO2+NO3,D18O_NO2+NO3_FLAG_W
,,,,,,,,,,,METERS,DBAR,ITS-90,PSS-78,,PSS-78,,UMOL/KG,,UMOL/KG,,UMOL/KG,,UMOL/KG,,UMOL/KG,,UMOL/KG,,PMOL/KG,,PMOL/KG,,FMOL/KG,,UMOL/KG,,UMOL/KG,,,,DEG C,TU,,NMOL/KG,,PERCNT,,DEG C,,/MILLE,,/MILLE,,/MILLE,,UMOL/KG,,UMOL/KG,,NMOL/KG,,MMOL/KG,,/MILLE,,,,,,G/KG,,/MILLE,,/MILLE,,,,,,/MILLE,,/MILLE,
320620140320,       P16S,      35,          1,          5,         05,2,20140413,       2032,   -51.0003,  -150.0010,       4949,  3349.7,   1.5557,  34.7328,2,  34.7324,2,    198.0,2,   198.2,2,  102.57,2,   31.44,2,    0.00,2,    2.13,2,-999.000,9,-999.000,9, -999.00,9,  2257.4,2,  2357.7,2,    7.675,2,       20,-999.000,9,-999.0000,9, -999.00,9,   1.5559,2, -999.00,9,  -999.0,9, -999.00,9,    39.1,2, -999.00,9,     -999.0,9,     -999.0,9, -999.00,9, 20140413,     2048, -51.0005,-150.0011,    34.8962,2,     -999.0,9,     -999.0,9,     -999.0,9,     -999.0,9,     -999.0,9,     -999.0,9
320620140320,       P16S,      35,          1,          4,         04,2,20140413,       2032,   -51.0003,  -150.0010,       4949,  3597.4,   1.3542,  34.7258,2,  34.7251,2,    195.5,4,   200.6,2,  109.31,2,   31.71,2,    0.00,2,    2.15,2,   0.123,2,   0.036,2,    0.12,2,  -999.0,9,  -999.0,9,-999.0000,9,  -999.00,-999.000,9,-999.0000,1, -999.00,9,   1.3546,2, -999.00,9,  -999.0,9, -999.00,9,    38.4,2, -999.00,9,      21.84,2,     -999.0,9, -999.00,9, 20140413,     2043, -51.0004,-150.0010,    34.8889,2,     -999.0,9,     -999.0,9,     -999.0,9,     -999.0,1,     -999.0,9,     -999.0,9
320620140320,       P16S,      35,          1,          3,         03,2,20140413,       2032,   -51.0003,  -150.0010,       4949,  3799.1,   1.2281,  34.7205,2,  34.7200,2,    197.3,4,   202.4,2,  113.70,2,   31.87,2,    0.00,2,    2.16,2,   0.126,2,   0.035,2,    0.03,2,  2262.2,2,  2363.1,6,   7.6737,2,       20,-999.000,1,-999.0000,1, -999.00,9,   1.2287,2, -999.00,9,  -999.0,9, -999.00,9,    37.6,2, -999.00,9,      21.20,2,     -999.0,9, -999.00,9, 20140413,     2039, -51.0005,-150.0011,    34.8837,2,     -999.0,9,     -999.0,9,     -999.0,9,     -999.0,9,     -999.0,9,     -999.0,9
320620140320,       P16S,      35,          1,          2,         02,2,20140413,       2032,   -51.0003,  -150.0010,       4949,  3999.7,   1.1501,  34.7166,2,  34.7160,2,    196.8,4,   203.1,2,  117.61,2,   32.12,2,    0.00,2,    2.18,2,   0.122,2,   0.035,2,    0.04,2,  2263.2,2,  2364.7,2,   7.6721,6,       20,-999.000,9,-999.0000,1, -999.00,9,   1.1506,2, -999.00,9,  -999.0,9, -999.00,9,    39.1,2, -999.00,9,      21.11,2,     -999.0,9, -999.00,9, 20140413,     2035, -51.0003,-150.0009,    34.8797,2,     -999.0,9,     -999.0,9,     -999.0,9,     -999.0,1,     -999.0,9,     -999.0,9
320620140320,       P16S,      35,          1,          1,         01,2,20140413,       2032,   -51.0003,  -150.0010,       4949,  4098.6,   1.1327,  34.7156,2,  34.7160,2,    193.6,4,   203.2,2,  118.69,2,   32.35,2,    0.00,2,    2.18,2,   0.125,2,   0.037,2,    0.09,2,  2265.6,6,  2365.5,2,   7.6733,2,       20,-999.000,1,-999.0000,1, -999.00,9,   1.1322,2, -999.00,9,  -999.0,9, -999.00,9,    38.4,2, -999.00,9,      20.49,2,     -999.0,9, -999.00,9, 20140413,     2031, -51.0003,-150.0010,    34.8797,2,     -999.0,9,     -999.0,9,     -999.0,9,     -999.0,1,     -999.0,9,     -999.0,9