BOTTLE,20230715CCHSIOCBG
EXPOCODE,SECT_ID,STNNBR,CASTNO,SAMPNO,BTLNBR,BTLNBR_FLAG_W,DATE,TIME,LATITUDE,LONGITUDE,DEPTH,CTDPRS,CTDTMP,CTDSAL,CTDSAL_FLAG_W,SALNTY,SALNTY_FLAG_W,CTDOXY,CTDOXY_FLAG_W,OXYGEN,OXYGEN_FLAG_W,SILCAT,SILCAT_FLAG_W,NITRAT,NITRAT_FLAG_W,NITRIT,NITRIT_FLAG_W,PHSPHT,PHSPHT_FLAG_W,CFC-11,CFC-11_FLAG_W,CFC-12,CFC-12_FLAG_W,SF6,SF6_FLAG_W,TCARBN,TCARBN_FLAG_W,ALKALI,ALKALI_FLAG_W,PH_TOT,PH_TOT_FLAG_W,PH_TMP,TRITUM,TRITUM_FLAG_W,HELIUM,HELIUM_FLAG_W,DELHE3,DELHE3_FLAG_W,REFTMP,REFTMP_FLAG_W,DELC13,DELC13_FLAG_W,DELC14,DELC14_FLAG_W,DELO18,DELO18_FLAG_W,DOC,DOC_FLAG_W,TDN,TDN_FLAG_W,N2O,N2O_FLAG_W,CALCIUM,CALCIUM_FLAG_W,D15N_NO3,D15N_NO3_FLAG_W,BTL_DATE,BTL_TIME,BTL_LAT,BTL_LON,SALTREF,SALTREF_FLAG_W,D18O_NO3,D18O_NO3_FLAG_W,DSI30,DSI30_FLAG_W,CDOM_NASA,CDOM_NASA_FLAG_W,CDOM_UCSB,CDOM_UCSB_FLAG_W,D15N_NO2+NO3,D15N_NO2+NO3_FLAG_W,D18O_NO2+NO3,D18O_NO2+NO3_FLAG_W
,,,,,,,,,,,METERS,DBAR,ITS-90,PSS-78,,PSS-78,,UMOL/KG,,UMOL/KG,,UMOL/KG,,UMOL/KG,,UMOL/KG,,UMOL/KG,,PMOL/KG,,PMOL/KG,,FMOL/KG,,UMOL/KG,,UMOL/KG,,,,DEG C,TU,,NMOL/KG,,PERCNT,,DEG C,,/MILLE,,/MILLE,,/MILLE,,UMOL/KG,,UMOL/KG,,NMOL/KG,,MMOL/KG,,/MILLE,,,,,,G/KG,,/MILLE,,/MILLE,,,,,,/MILLE,,/MILLE,
320620140320,       P16S,      55,          1,          5,         05,2,20140421,       1819,   -38.3335,  -149.9999,       5456,  4133.9,   1.3246,  34.7149,2,  34.7139,2,    196.7,2,   196.8,2,  113.67,2,   32.25,2,    0.00,2,    2.25,2,   0.004,2,   0.001,2,    0.02,2,  2267.5,2,  2368.9,2,   7.6751,2,       20,-999.000,9,-999.0000,9, -999.00,9,   1.3238,2, -999.00,9,  -999.0,9, -999.00,9,  -999.0,9, -999.00,9,      20.42,2,     -999.0,9, -999.00,9, 20140421,     1904, -38.3335,-150.0000,    34.8776,2,     -999.0,9,     -999.0,9,     -999.0,9,     -999.0,9,     -999.0,9,     -999.0,9
320620140320,       P16S,      55,          1,          4,         04,2,20140421,       1819,   -38.3335,  -149.9999,       5456,  4536.6,   1.1887,  34.7130,2,  34.7118,2,    201.4,2,   201.1,2,  117.29,2,   32.35,2,    0.00,2,    2.23,2,-999.000,9,-999.000,9, -999.00,9,    2267,2,  2371.4,6,   7.6795,2,       20,-999.000,9,-999.0000,9, -999.00,9,   1.1891,2, -999.00,9,  -999.0,9, -999.00,9,  -999.0,9, -999.00,9,     -999.0,9,     -999.0,9, -999.00,9, 20140421,     1856, -38.3335,-150.0000,    34.8754,2,     -999.0,9,     -999.0,9,     -999.0,9,     -999.0,9,     -999.0,9,     -999.0,9
320620140320,       P16S,      55,          1,          3,         03,2,20140421,       1819,   -38.3335,  -149.9999,       5456,  4934.7,   1.1621,  34.7114,2,  34.7102,2,    202.6,2,   202.5,2,  118.95,2,   32.44,2,    0.00,2,    2.23,2,   0.009,2,   0.001,2,    0.00,2,  2268.3,2,  2371.5,2,   7.6794,2,       20,-999.000,9,-999.0000,9, -999.00,9,   1.1620,2, -999.00,9,  -999.0,9, -999.00,9,  -999.0,9, -999.00,9,      20.47,2,     -999.0,9, -999.00,9, 20140421,     1842, -38.3334,-149.9999,    34.8739,2,     -999.0,9,     -999.0,9,     -999.0,9,     -999.0,1,     -999.0,9,     -999.0,9
320620140320,       P16S,      55,          1,          2,         02,2,20140421,       1819,   -38.3335,  -149.9999,       5456,  5333.1,   1.1588,  34.7099,2,  34.7086,2,    203.3,2,   203.4,2,  119.93,2,   32.40,2,    0.00,2,    2.24,2,   0.026,2,   0.004,2,    0.02,2,    2267,2,    2369,2,   7.6768,6,       20,-999.000,9,-999.0000,9, -999.00,9,   1.1587,2, -999.00,9,  -999.0,9, -999.00,9,  -999.0,9, -999.00,9,      20.69,2,     -999.0,9, -999.00,9, 20140421,     1828, -38.3334,-149.9999,    34.8723,2,     -999.0,9,     -999.0,9,     -999.0,9,     -999.0,9,     -999.0,9,     -999.0,9
320620140320,       P16S,      55,          1,          1,         01,2,20140421,       1819,   -38.3335,  -149.9999,       5456,  5551.4,   1.1748,  34.7095,2,  34.7090,2,    203.6,2,   203.5,2,  120.32,2,   32.42,2,    0.00,2,    2.24,2,   0.033,2,   0.008,2,    0.01,2,  2266.9,6,  2369.4,2,   7.6764,2,       20,-999.000,9,-999.0000,9, -999.00,9,   1.1746,2, -999.00,9,  -999.0,9, -999.00,9,  -999.0,9, -999.00,9,      20.87,2,     -999.0,9, -999.00,9, 20140421,     1819, -38.3335,-149.9999,    34.8727,2,     -999.0,9,     -999.0,9,     -999.0,9,     -999.0,1,     -999.0,9,     -999.0,9