BOTTLE,20230715CCHSIOCBG
EXPOCODE,SECT_ID,STNNBR,CASTNO,SAMPNO,BTLNBR,BTLNBR_FLAG_W,DATE,TIME,LATITUDE,LONGITUDE,DEPTH,CTDPRS,CTDTMP,CTDSAL,CTDSAL_FLAG_W,SALNTY,SALNTY_FLAG_W,CTDOXY,CTDOXY_FLAG_W,OXYGEN,OXYGEN_FLAG_W,SILCAT,SILCAT_FLAG_W,NITRAT,NITRAT_FLAG_W,NITRIT,NITRIT_FLAG_W,PHSPHT,PHSPHT_FLAG_W,CFC-11,CFC-11_FLAG_W,CFC-12,CFC-12_FLAG_W,SF6,SF6_FLAG_W,TCARBN,TCARBN_FLAG_W,ALKALI,ALKALI_FLAG_W,PH_TOT,PH_TOT_FLAG_W,PH_TMP,TRITUM,TRITUM_FLAG_W,HELIUM,HELIUM_FLAG_W,DELHE3,DELHE3_FLAG_W,REFTMP,REFTMP_FLAG_W,DELC13,DELC13_FLAG_W,DELC14,DELC14_FLAG_W,DELO18,DELO18_FLAG_W,DOC,DOC_FLAG_W,TDN,TDN_FLAG_W,N2O,N2O_FLAG_W,CALCIUM,CALCIUM_FLAG_W,D15N_NO3,D15N_NO3_FLAG_W,BTL_DATE,BTL_TIME,BTL_LAT,BTL_LON,SALTREF,SALTREF_FLAG_W,D18O_NO3,D18O_NO3_FLAG_W,DSI30,DSI30_FLAG_W,CDOM_NASA,CDOM_NASA_FLAG_W,CDOM_UCSB,CDOM_UCSB_FLAG_W,D15N_NO2+NO3,D15N_NO2+NO3_FLAG_W,D18O_NO2+NO3,D18O_NO2+NO3_FLAG_W
,,,,,,,,,,,METERS,DBAR,ITS-90,PSS-78,,PSS-78,,UMOL/KG,,UMOL/KG,,UMOL/KG,,UMOL/KG,,UMOL/KG,,UMOL/KG,,PMOL/KG,,PMOL/KG,,FMOL/KG,,UMOL/KG,,UMOL/KG,,,,DEG C,TU,,NMOL/KG,,PERCNT,,DEG C,,/MILLE,,/MILLE,,/MILLE,,UMOL/KG,,UMOL/KG,,NMOL/KG,,MMOL/KG,,/MILLE,,,,,,G/KG,,/MILLE,,/MILLE,,,,,,/MILLE,,/MILLE,
320620140320,       P16S,      30,          1,          5,         05,2,20140412,       0431,   -53.4987,  -149.9986,       4410,  3400.2,   1.3725,  34.7272,2,  34.7274,2,    200.5,2,   200.3,2,  107.26,2,   31.58,2,    0.00,2,    2.18,2,   0.139,2,   0.034,2,    0.03,2,    2258,2,  2361.5,2,   7.6735,2,       20,-999.000,9,-999.0000,9, -999.00,9,   1.3730,2, -999.00,9,  -999.0,9, -999.00,9,  -999.0,9, -999.00,9,      19.94,2,     -999.0,9, -999.00,9, 20140412,      502, -53.4987,-149.9985,    34.8911,2,     -999.0,9,     -999.0,9,     -999.0,9,     -999.0,9,     -999.0,9,     -999.0,9
320620140320,       P16S,      30,          1,          4,         04,2,20140412,       0431,   -53.4987,  -149.9986,       4410,  3703.1,   1.1678,  34.7186,2,  34.7189,2,    203.2,2,   203.1,2,  114.29,2,   31.97,2,    0.00,2,    2.21,2,-999.000,9,-999.000,9, -999.00,9,  -999.0,9,  -999.0,9,-999.0000,9,  -999.00,-999.000,9,-999.0000,9, -999.00,9,   1.1688,2, -999.00,9,  -999.0,9, -999.00,9,  -999.0,9, -999.00,9,     -999.0,9,     -999.0,9, -999.00,9, 20140412,      455, -53.4987,-149.9986,    34.8826,2,     -999.0,9,     -999.0,9,     -999.0,9,     -999.0,9,     -999.0,9,     -999.0,9
320620140320,       P16S,      30,          1,          3,         03,2,20140412,       0431,   -53.4987,  -149.9986,       4410,  4000.2,   1.0768,  34.7139,2,  34.7146,2,    204.7,2,   204.2,2,  119.56,2,   32.14,2,    0.00,2,    2.22,2,-999.000,9,-999.000,9, -999.00,9,  2261.8,2,  2364.6,2,   7.6717,6,       20,-999.000,9,-999.0000,9, -999.00,9,   1.0765,2, -999.00,9,  -999.0,9, -999.00,9,  -999.0,9, -999.00,9,     -999.0,9,     -999.0,9, -999.00,9, 20140412,      447, -53.4987,-149.9986,    34.8783,2,     -999.0,9,     -999.0,9,     -999.0,9,     -999.0,9,     -999.0,9,     -999.0,9
320620140320,       P16S,      30,          1,          2,         02,2,20140412,       0431,   -53.4987,  -149.9986,       4410,  4199.0,   1.0550,  34.7126,2,  34.7123,2,    205.7,2,   206.1,2,  120.54,2,   32.23,2,    0.00,2,    2.23,2,-999.000,9,-999.000,9, -999.00,9,  2262.8,2,  2365.9,6,   7.6706,2,       20,-999.000,9,-999.0000,9, -999.00,9,   1.0551,2, -999.00,9,  -999.0,9, -999.00,9,  -999.0,9, -999.00,9,     -999.0,9,     -999.0,9, -999.00,9, 20140412,      440, -53.4987,-149.9986,    34.8759,2,     -999.0,9,     -999.0,9,     -999.0,9,     -999.0,9,     -999.0,9,     -999.0,9
320620140320,       P16S,      30,          1,          1,         01,2,20140412,       0431,   -53.4987,  -149.9986,       4410,  4468.3,   1.0657,  34.7117,2,  34.7113,2,    206.0,2,   205.6,2,  121.62,2,   32.39,2,    0.00,2,    2.24,2,   0.165,3,   0.022,2,    0.07,2,  2263.5,6,  2365.3,2,   7.6711,2,       20,-999.000,9,-999.0000,9, -999.00,9,   1.0655,2, -999.00,9,  -999.0,9, -999.00,9,  -999.0,9, -999.00,9,      19.86,2,     -999.0,9, -999.00,9, 20140412,      431, -53.4987,-149.9986,    34.8750,2,     -999.0,9,     -999.0,9,     -999.0,9,     -999.0,9,     -999.0,9,     -999.0,9