BOTTLE,20230715CCHSIOCBG
EXPOCODE,SECT_ID,STNNBR,CASTNO,SAMPNO,BTLNBR,BTLNBR_FLAG_W,DATE,TIME,LATITUDE,LONGITUDE,DEPTH,CTDPRS,CTDTMP,CTDSAL,CTDSAL_FLAG_W,SALNTY,SALNTY_FLAG_W,CTDOXY,CTDOXY_FLAG_W,OXYGEN,OXYGEN_FLAG_W,SILCAT,SILCAT_FLAG_W,NITRAT,NITRAT_FLAG_W,NITRIT,NITRIT_FLAG_W,PHSPHT,PHSPHT_FLAG_W,CFC-11,CFC-11_FLAG_W,CFC-12,CFC-12_FLAG_W,SF6,SF6_FLAG_W,TCARBN,TCARBN_FLAG_W,ALKALI,ALKALI_FLAG_W,PH_TOT,PH_TOT_FLAG_W,PH_TMP,TRITUM,TRITUM_FLAG_W,HELIUM,HELIUM_FLAG_W,DELHE3,DELHE3_FLAG_W,REFTMP,REFTMP_FLAG_W,DELC13,DELC13_FLAG_W,DELC14,DELC14_FLAG_W,DELO18,DELO18_FLAG_W,DOC,DOC_FLAG_W,TDN,TDN_FLAG_W,N2O,N2O_FLAG_W,CALCIUM,CALCIUM_FLAG_W,D15N_NO3,D15N_NO3_FLAG_W,BTL_DATE,BTL_TIME,BTL_LAT,BTL_LON,SALTREF,SALTREF_FLAG_W,D18O_NO3,D18O_NO3_FLAG_W,DSI30,DSI30_FLAG_W,CDOM_NASA,CDOM_NASA_FLAG_W,CDOM_UCSB,CDOM_UCSB_FLAG_W,D15N_NO2+NO3,D15N_NO2+NO3_FLAG_W,D18O_NO2+NO3,D18O_NO2+NO3_FLAG_W
,,,,,,,,,,,METERS,DBAR,ITS-90,PSS-78,,PSS-78,,UMOL/KG,,UMOL/KG,,UMOL/KG,,UMOL/KG,,UMOL/KG,,UMOL/KG,,PMOL/KG,,PMOL/KG,,FMOL/KG,,UMOL/KG,,UMOL/KG,,,,DEG C,TU,,NMOL/KG,,PERCNT,,DEG C,,/MILLE,,/MILLE,,/MILLE,,UMOL/KG,,UMOL/KG,,NMOL/KG,,MMOL/KG,,/MILLE,,,,,,G/KG,,/MILLE,,/MILLE,,,,,,/MILLE,,/MILLE,
320620140320,       P16S,      27,          1,         36,         36,2,20140411,       0607,   -54.9997,  -149.9999,     -999.0,     5.9,   6.4917,  33.8588,2,  33.8594,2,    299.8,2,   299.9,2,    1.27,2,   20.54,2,    0.21,2,    1.46,2,   4.267,2,   2.291,2,    2.18,2,  2114.5,2,  2272.4,2,   7.8505,2,       20,-999.000,1,-999.0000,1, -999.00,9,   6.4914,2,    1.83,2,   -35.7,2, -999.00,1,    43.2,2,   24.71,2,      13.71,2,     -999.0,1, -999.00,1, 20140411,      742, -54.9998,-149.9997,    34.0190,2,     -999.0,1,     -999.0,9,     -999.0,9,     -999.0,9,     -999.0,1,     -999.0,1
320620140320,       P16S,      27,          1,         35,         35,2,20140411,       0607,   -54.9997,  -149.9999,     -999.0,    34.0,   6.4930,  33.8591,2,  33.8596,2,    300.8,2,   299.9,2,    1.27,2,   20.57,2,    0.22,2,    1.49,2,   4.063,2,   2.266,2,    2.47,2,  2114.2,2,  2273.4,2,   7.8504,2,       20,-999.000,1,-999.0000,1, -999.00,9,   6.4929,2,    1.85,2,   -36.2,2, -999.00,1,    43.6,2,   25.82,2,      12.55,2,     -999.0,9, -999.00,1, 20140411,      741, -54.9999,-149.9995,    34.0192,2,     -999.0,1,     -999.0,9,     -999.0,9,     -999.0,9,     -999.0,1,     -999.0,1
320620140320,       P16S,      27,          1,         34,         34,2,20140411,       0607,   -54.9997,  -149.9999,     -999.0,    34.3,   6.4927,  33.8591,2,-999.0000,9,   -999.0,9,  -999.0,9, -999.00,9, -999.00,9, -999.00,9, -999.00,9,-999.000,9,-999.000,9, -999.00,9,  -999.0,9,  -999.0,9,-999.0000,9,  -999.00,-999.000,9,-999.0000,9, -999.00,9,   6.4930,2, -999.00,9,  -999.0,9, -999.00,9,  -999.0,9, -999.00,9,     -999.0,9,     -999.0,9, -999.00,9, 20140411,      741, -54.9999,-149.9994,     -999.0,9,     -999.0,9,     -999.0,9,     -999.0,1,     -999.0,9,     -999.0,9,     -999.0,9
320620140320,       P16S,      27,          1,         33,         33,2,20140411,       0607,   -54.9997,  -149.9999,     -999.0,    59.2,   6.4912,  33.8582,2,  33.8594,2,    300.9,2,   300.2,2,    1.17,2,   20.64,2,    0.22,2,    1.49,2,   4.210,2,   2.352,2,    2.59,2,  2114.5,2,  2273.8,2,   7.8504,2,       20,-999.000,1,-999.0000,1, -999.00,9,   6.4933,2,    1.82,2,   -34.7,2, -999.00,1,    44.1,2,   25.09,2,      12.61,2,     -999.0,1, -999.00,1, 20140411,      739, -54.9999,-149.9995,    34.0190,2,     -999.0,1,     -999.0,9,     -999.0,9,     -999.0,9,     -999.0,1,     -999.0,1
320620140320,       P16S,      27,          1,         32,         32,2,20140411,       0607,   -54.9997,  -149.9999,     -999.0,    85.5,   5.1741,  33.9289,2,-999.0000,9,   -999.0,9,  -999.0,9, -999.00,9, -999.00,9, -999.00,9, -999.00,9,-999.000,9,-999.000,9, -999.00,9,  -999.0,9,  -999.0,9,-999.0000,9,  -999.00,-999.000,9,-999.0000,9, -999.00,9,   4.9815,3, -999.00,9,  -999.0,9, -999.00,9,  -999.0,9, -999.00,9,     -999.0,9,     -999.0,9, -999.00,9, 20140411,      738, -54.9999,-149.9996,     -999.0,9,     -999.0,9,     -999.0,9,     -999.0,1,     -999.0,9,     -999.0,9,     -999.0,9
320620140320,       P16S,      27,          1,         31,         31,2,20140411,       0607,   -54.9997,  -149.9999,     -999.0,    86.9,   5.0969,  33.9365,2,  33.9299,2,    304.4,2,   304.1,2,    3.03,2,   21.45,2,    0.28,2,    1.63,2,   4.508,2,   2.486,2,    2.41,2,  2127.6,2,  2276.4,2,   7.8227,2,       20,-999.000,1,-999.0000,1, -999.00,9,   5.2342,2,    1.62,2,   -36.0,2, -999.00,1,    41.6,2,   26.19,2,      13.07,2,     -999.0,9, -999.00,1, 20140411,      737, -54.9999,-149.9997,    34.0899,2,     -999.0,1,     -999.0,1,     -999.0,9,     -999.0,9,     -999.0,1,     -999.0,1
320620140320,       P16S,      27,          1,         30,         30,2,20140411,       0607,   -54.9997,  -149.9999,     -999.0,   114.7,   4.0314,  34.0183,2,  34.0188,2,    294.1,2,   294.0,2,    9.67,2,   25.25,2,    0.01,2,    1.77,2,   4.618,2,   2.560,2,    2.26,2,  2147.5,2,    2276,2,   7.7686,2,       20,-999.000,1,-999.0000,1, -999.00,9,   4.0308,2,    1.36,2,   -32.9,2, -999.00,1,    41.1,2,   27.05,2,      13.35,2,     -999.0,1, -999.00,1, 20140411,      736, -54.9998,-149.9997,    34.1792,2,     -999.0,1,     -999.0,9,     -999.0,9,     -999.0,9,     -999.0,1,     -999.0,1
320620140320,       P16S,      27,          1,         29,         29,2,20140411,       0607,   -54.9997,  -149.9999,     -999.0,   162.6,   3.6098,  34.0335,2,  34.0352,2,    290.2,2,   291.5,2,   13.39,2,   26.04,2,    0.01,2,    1.81,2,   4.497,2,   2.473,2,    2.24,2,  2153.2,2,  2277.2,6,   7.7578,2,       20,-999.000,1,-999.0000,1, -999.00,9,   3.5976,2,    1.34,2,   -36.5,2, -999.00,1,    38.2,2,   30.02,2,      14.51,2,     -999.0,9, -999.00,1, 20140411,      734, -54.9997,-150.0000,    34.1957,2,     -999.0,1,     -999.0,1,     -999.0,9,     -999.0,9,     -999.0,1,     -999.0,1
320620140320,       P16S,      27,          1,         28,         28,2,20140411,       0607,   -54.9997,  -149.9999,     -999.0,   217.6,   3.2406,  34.0343,2,  34.0341,2,    290.1,2,   288.9,2,   16.12,2,   26.93,2,    0.00,2,    1.87,2,   4.323,2,   2.461,2,    2.12,2,  -999.0,9,  -999.0,9,-999.0000,9,  -999.00,-999.000,1,-999.0000,1, -999.00,9,   3.2404,2, -999.00,9,  -999.0,9, -999.00,1,    38.7,2,   29.25,2,      15.96,2,     -999.0,9, -999.00,1, 20140411,      732, -54.9997,-150.0000,    34.1946,2,     -999.0,1,     -999.0,1,     -999.0,9,     -999.0,9,     -999.0,1,     -999.0,1
320620140320,       P16S,      27,          1,         27,         27,2,20140411,       0607,   -54.9997,  -149.9999,     -999.0,   265.8,   3.3109,  34.0836,2,  34.0823,2,    279.7,2,   273.6,2,   19.34,2,   28.04,2,    0.00,2,    1.94,2,   4.164,2,   2.290,2,    1.78,2,  2167.5,6,  2282.4,2,   7.7281,2,       20,-999.000,1,-999.0000,1, -999.00,9,   3.3104,2,    1.24,2,   -48.7,2, -999.00,1,    41.4,2,   30.69,2,      17.40,2,     -999.0,1, -999.00,1, 20140411,      730, -54.9997,-150.0000,    34.2430,2,     -999.0,1,     -999.0,9,     -999.0,9,     -999.0,9,     -999.0,1,     -999.0,1
320620140320,       P16S,      27,          1,         26,         26,2,20140411,       0607,   -54.9997,  -149.9999,     -999.0,   311.8,   2.9395,  34.0733,2,  34.0727,2,    276.0,2,   277.4,2,   21.20,2,   28.49,2,    0.00,2,    1.97,2,-999.000,9,-999.000,9, -999.00,9,  -999.0,9,  -999.0,9,-999.0000,9,  -999.00,-999.000,1,-999.0000,1, -999.00,9,   2.9411,2, -999.00,9,  -999.0,9, -999.00,1,    39.3,2,   31.29,2,     -999.0,9,     -999.0,9, -999.00,1, 20140411,      728, -54.9997,-149.9999,    34.2333,2,     -999.0,1,     -999.0,1,     -999.0,9,     -999.0,9,     -999.0,1,     -999.0,1
320620140320,       P16S,      27,          1,         25,         25,2,20140411,       0607,   -54.9997,  -149.9999,     -999.0,   367.4,   3.2643,  34.1489,2,  34.1489,2,    252.4,2,   253.0,2,   25.50,2,   29.65,2,    0.00,2,    2.05,2,   3.815,2,   2.028,2,    1.58,2,  2182.4,2,  2287.6,2,   7.7017,2,       20,-999.000,1,-999.0000,1, -999.00,9,   3.2644,2,    1.12,2,   -60.5,2, -999.00,1,    41.1,2,   34.15,3,      18.93,2,     -999.0,9, -999.00,1, 20140411,      726, -54.9997,-149.9999,    34.3099,2,     -999.0,1,     -999.0,9,     -999.0,9,     -999.0,9,     -999.0,1,     -999.0,1
320620140320,       P16S,      27,          1,         24,         24,2,20140411,       0607,   -54.9997,  -149.9999,     -999.0,   433.6,   3.3317,  34.2202,2,  34.2207,2,    226.0,2,   230.8,2,   32.34,2,   31.09,2,    0.00,2,    2.15,2,   3.174,2,   1.674,2,    1.01,2,  -999.0,9,  -999.0,9,-999.0000,9,  -999.00,-999.000,1,-999.0000,1, -999.00,9,   3.3319,2, -999.00,9,  -999.0,9, -999.00,1,    41.1,2,   33.93,2,      20.03,2,     -999.0,9, -999.00,1, 20140411,      724, -54.9998,-149.9998,    34.3820,2,     -999.0,1,     -999.0,1,     -999.0,9,     -999.0,9,     -999.0,1,     -999.0,1
320620140320,       P16S,      27,          1,         23,         23,2,20140411,       0607,   -54.9997,  -149.9999,     -999.0,   533.7,   3.1434,  34.3075,2,  34.3078,2,    209.3,2,   207.7,2,   43.47,2,   32.78,2,    0.00,2,    2.27,2,   2.368,2,   1.204,2,    0.64,2,  2216.5,2,  2306.1,2,   7.6482,2,       20,-999.000,1,-999.0000,1, -999.00,9,   3.1441,2,    0.87,2,   -91.0,2, -999.00,1,      39,2,    36.4,2,      22.81,2,     -999.0,1, -999.00,1, 20140411,      722, -54.9999,-149.9997,    34.4695,2,     -999.0,1,     -999.0,1,     -999.0,9,     -999.0,9,     -999.0,1,     -999.0,1
320620140320,       P16S,      27,          1,         22,         22,2,20140411,       0607,   -54.9997,  -149.9999,     -999.0,   634.5,   2.8630,  34.3724,2,  34.3078,4,    198.0,2,   194.6,2,   52.94,2,   33.79,2,    0.00,2,    2.35,2,-999.000,9,-999.000,9, -999.00,9,  2231.2,2,  2313.7,2,   7.6313,6,       20,-999.000,9,-999.0000,9, -999.00,9,   2.8634,2,    0.76,2,  -109.4,2, -999.00,1,    39.3,2, -999.00,9,     -999.0,9,     -999.0,9, -999.00,9, 20140411,      719, -54.9999,-149.9997,    34.4695,4,     -999.0,9,     -999.0,9,     -999.0,9,     -999.0,9,     -999.0,9,     -999.0,9
320620140320,       P16S,      27,          1,         21,         21,2,20140411,       0607,   -54.9997,  -149.9999,     -999.0,   734.2,   2.6816,  34.4318,2,  34.4304,2,    186.5,2,   184.4,2,   60.27,2,   34.40,2,    0.00,2,    2.38,2,   1.449,2,   0.785,2,    0.41,2,  2240.6,2,  2319.9,2,   7.6186,2,       20,-999.000,1,-999.0000,1, -999.00,9,   2.6819,2,    0.67,2,  -118.7,2, -999.00,1,    37.7,2, -999.00,9,      24.07,2,     -999.0,1, -999.00,9, 20140411,      716, -54.9999,-149.9996,    34.5928,2,     -999.0,9,     -999.0,1,     -999.0,9,     -999.0,9,     -999.0,9,     -999.0,9
320620140320,       P16S,      27,          1,         20,         20,2,20140411,       0607,   -54.9997,  -149.9999,     -999.0,   835.5,   2.6419,  34.4955,2,  34.4958,2,    177.9,2,   177.3,2,   66.12,2,   34.36,2,    0.00,2,    2.38,2,   0.977,2,   0.569,2,    0.28,2,  2247.8,2,  2327.8,2,    7.617,2,       20,-999.000,9,-999.0000,1, -999.00,9,   2.6419,2,    0.48,2,  -128.9,2, -999.00,1,      40,2, -999.00,9,      24.36,2,     -999.0,9, -999.00,9, 20140411,      714, -54.9999,-149.9995,    34.6585,2,     -999.0,9,     -999.0,9,     -999.0,9,     -999.0,9,     -999.0,9,     -999.0,9
320620140320,       P16S,      27,          1,         19,         19,2,20140411,       0607,   -54.9997,  -149.9999,     -999.0,   933.6,   2.5623,  34.5496,2,  34.5494,2,    173.4,2,   173.8,2,   71.59,2,   34.12,2,    0.00,2,    2.37,2,   0.731,2,   0.346,2,    0.23,2,  2252.3,2,  2334.6,2,   7.6201,2,       20,-999.000,1,-999.0000,1, -999.00,9,   2.5632,2,    0.48,2,  -136.5,2, -999.00,9,      41,2, -999.00,9,      23.90,2,     -999.0,9, -999.00,9, 20140411,      711, -54.9999,-149.9995,    34.7123,2,     -999.0,9,     -999.0,1,     -999.0,9,     -999.0,9,     -999.0,9,     -999.0,9
320620140320,       P16S,      27,          1,         18,         18,2,20140411,       0607,   -54.9997,  -149.9999,     -999.0,  1034.7,   2.4683,  34.5927,2,  34.5928,2,    172.5,2,   172.7,2,   74.32,2,   33.74,2,    0.00,2,    2.35,2,-999.000,9,-999.000,9, -999.00,9,    2254,2,  2337.2,2,   7.6236,2,       20,-999.000,9,-999.0000,9, -999.00,9,   2.4694,2,    0.49,2,  -135.9,2, -999.00,9,    40.1,2, -999.00,9,     -999.0,9,     -999.0,1, -999.00,9, 20140411,      708, -54.9999,-149.9996,    34.7559,2,     -999.0,9,     -999.0,9,     -999.0,9,     -999.0,9,     -999.0,9,     -999.0,9
320620140320,       P16S,      27,          1,         17,         17,2,20140411,       0607,   -54.9997,  -149.9999,     -999.0,  1133.0,   2.4129,  34.6225,2,  34.6231,2,    172.0,2,   171.9,2,   78.91,2,   33.52,2,    0.00,2,    2.33,2,   0.370,2,   0.180,2,    0.14,2,  2257.5,2,  2343.6,2,   7.6313,2,       20,-999.000,1,-999.0000,1, -999.00,9,   2.4132,2,    0.44,2,  -142.2,2, -999.00,9,      38,2, -999.00,9,      25.29,2,     -999.0,9, -999.00,9, 20140411,      706, -54.9997,-149.9998,    34.7863,2,     -999.0,9,     -999.0,1,     -999.0,9,     -999.0,9,     -999.0,9,     -999.0,9
320620140320,       P16S,      27,          1,         16,         16,2,20140411,       0607,   -54.9997,  -149.9999,     -999.0,  1236.1,   2.3542,  34.6445,2,  34.6447,2,    173.7,2,   173.6,2,   79.89,2,   33.09,2,    0.00,2,    2.30,2,-999.000,9,-999.000,9, -999.00,9,  -999.0,9,  -999.0,9,-999.0000,9,  -999.00,-999.000,9,-999.0000,1, -999.00,9,   2.3540,2, -999.00,9,  -999.0,9, -999.00,9,    39.3,2, -999.00,9,     -999.0,9,     -999.0,9, -999.00,9, 20140411,      703, -54.9996,-150.0000,    34.8080,2,     -999.0,9,     -999.0,9,     -999.0,9,     -999.0,9,     -999.0,9,     -999.0,9
320620140320,       P16S,      27,          1,         15,         15,2,20140411,       0607,   -54.9997,  -149.9999,     -999.0,  1335.3,   2.2890,  34.6666,2,  34.6679,2,    176.3,2,   175.6,2,   81.55,2,   32.74,2,    0.00,2,    2.28,2,   0.289,2,   0.133,2,    0.03,2,  2256.7,2,  2345.3,2,   7.6417,2,       20,-999.000,1,-999.0000,1, -999.00,9,   2.2894,2,    0.26,4,  -157.4,2, -999.00,9,    37.3,2, -999.00,9,      22.30,2,     -999.0,9, -999.00,9, 20140411,      700, -54.9995,-150.0000,    34.8313,2,     -999.0,9,     -999.0,9,     -999.0,9,     -999.0,9,     -999.0,9,     -999.0,9
320620140320,       P16S,      27,          1,         14,         14,2,20140411,       0607,   -54.9997,  -149.9999,     -999.0,  1466.6,   2.2019,  34.6931,2,  34.6926,2,    179.2,2,   180.0,2,   83.11,2,   32.16,2,    0.00,2,    2.22,2,   0.206,2,   0.101,2,    0.09,2,  -999.0,9,  -999.0,9,-999.0000,9,  -999.00,-999.000,9,-999.0000,1, -999.00,9,   2.2034,2, -999.00,9,  -999.0,9, -999.00,9,    40.4,2, -999.00,9,      23.80,2,     -999.0,9, -999.00,9, 20140411,      656, -54.9993,-150.0004,    34.8562,2,     -999.0,9,     -999.0,1,     -999.0,9,     -999.0,9,     -999.0,9,     -999.0,9
320620140320,       P16S,      27,          1,         13,         13,2,20140411,       0607,   -54.9997,  -149.9999,     -999.0,  1664.8,   2.0733,  34.7146,2,  34.7156,2,    183.6,2,   183.6,2,   86.62,2,   31.70,2,    0.00,2,    2.19,2,   0.193,2,   0.079,2,    0.10,2,  2254.9,2,  2350.6,2,   7.6587,2,       20,-999.000,1,-999.0000,1, -999.00,9,   2.0735,2,    0.49,2,  -154.1,2, -999.00,9,    38.7,2, -999.00,9,      21.39,2,     -999.0,1, -999.00,9, 20140411,      652, -54.9994,-150.0002,    34.8793,2,     -999.0,9,     -999.0,1,     -999.0,9,     -999.0,9,     -999.0,9,     -999.0,9
320620140320,       P16S,      27,          1,         12,         12,2,20140411,       0607,   -54.9997,  -149.9999,     -999.0,  1863.8,   1.9290,  34.7282,2,  34.7294,2,    188.0,2,   189.0,2,   89.45,2,   31.29,2,    0.00,2,    2.16,2,-999.000,9,-999.000,9, -999.00,9,  -999.0,9,  -999.0,9,-999.0000,9,  -999.00,-999.000,9,-999.0000,1, -999.00,9,   1.9289,2, -999.00,9,  -999.0,9, -999.00,9,    38.8,2, -999.00,9,     -999.0,9,     -999.0,9, -999.00,9, 20140411,      648, -54.9997,-149.9999,    34.8931,2,     -999.0,9,     -999.0,9,     -999.0,9,     -999.0,9,     -999.0,9,     -999.0,9
320620140320,       P16S,      27,          1,         11,         11,2,20140411,       0607,   -54.9997,  -149.9999,     -999.0,  2084.2,   1.7912,  34.7344,2,  34.7353,2,    192.7,2,   192.1,2,   93.36,2,   31.10,2,    0.00,2,    2.13,2,   0.133,2,   0.058,2,    0.01,2,  2254.1,6,    2356,2,   7.6726,2,       20,-999.000,1,-999.0000,1, -999.00,9,   1.7913,2,    0.51,2,  -153.4,2, -999.00,9,    42.3,3, -999.00,9,      20.56,2,     -999.0,1, -999.00,9, 20140411,      643, -54.9999,-149.9997,    34.8991,2,     -999.0,9,     -999.0,1,     -999.0,9,     -999.0,9,     -999.0,9,     -999.0,9
320620140320,       P16S,      27,          1,         10,         10,2,20140411,       0607,   -54.9997,  -149.9999,     -999.0,  2283.7,   1.6278,  34.7354,2,  34.7358,2,    195.3,2,   195.4,2,   97.75,2,   31.18,2,    0.00,2,    2.15,2,   0.096,2,   0.043,2,    0.07,2,  -999.0,9,  -999.0,9,-999.0000,9,  -999.00,-999.000,9,-999.0000,1, -999.00,9,   1.6280,2, -999.00,9,  -999.0,9, -999.00,9,    37.6,2, -999.00,9,      20.43,2,     -999.0,9, -999.00,9, 20140411,      639, -55.0000,-149.9994,    34.8996,2,     -999.0,9,     -999.0,9,     -999.0,9,     -999.0,9,     -999.0,9,     -999.0,9
320620140320,       P16S,      27,          1,          9,         09,2,20140411,       0607,   -54.9997,  -149.9999,     -999.0,  2483.6,   1.4806,  34.7323,2,  34.7325,2,    198.1,2,   197.2,2,  102.05,2,   31.35,2,    0.00,2,    2.16,2,   0.139,2,   0.049,2,    0.22,2,  2256.2,2,  2358.1,6,    7.674,2,       20,-999.000,1,-999.0000,1, -999.00,9,   1.4801,2,    0.51,2,  -153.9,2, -999.00,9,    39.5,2, -999.00,9,      19.79,2,     -999.0,1, -999.00,9, 20140411,      634, -55.0004,-149.9991,    34.8963,2,     -999.0,9,     -999.0,9,     -999.0,9,     -999.0,9,     -999.0,9,     -999.0,9
320620140320,       P16S,      27,          1,          8,         08,2,20140411,       0607,   -54.9997,  -149.9999,     -999.0,  2686.4,   1.3196,  34.7274,2,  34.7274,2,    200.4,2,   200.5,2,  107.23,2,   31.44,2,    0.00,2,    2.16,2,   0.132,2,   0.048,2,    0.06,2,  2258.3,2,  2360.2,2,   7.6735,2,       20,-999.000,9,-999.0000,1, -999.00,9,   1.3197,2,    0.52,2,  -166.3,2, -999.00,9,    38.7,2, -999.00,9,      19.85,2,     -999.0,9, -999.00,9, 20140411,      630, -55.0001,-149.9996,    34.8912,2,     -999.0,9,     -999.0,9,     -999.0,9,     -999.0,9,     -999.0,9,     -999.0,9
320620140320,       P16S,      27,          1,          7,         07,2,20140411,       0607,   -54.9997,  -149.9999,     -999.0,  2837.0,   1.1943,  34.7225,2,  34.7229,2,    201.7,2,   201.3,2,  111.33,2,   31.68,2,    0.00,2,    2.18,2,   0.151,2,   0.059,2,    0.04,2,    2259,2,  2361.2,2,    7.672,2,       20,-999.000,1,-999.0000,1, -999.00,9,   1.1946,2,    0.48,2,  -165.6,2, -999.00,9,    42.1,3, -999.00,9,      19.71,2,     -999.0,9, -999.00,9, 20140411,      626, -54.9999,-149.9999,    34.8866,2,     -999.0,9,     -999.0,9,     -999.0,9,     -999.0,9,     -999.0,9,     -999.0,9
320620140320,       P16S,      27,          1,          6,         06,2,20140411,       0607,   -54.9997,  -149.9999,     -999.0,  2999.7,   1.0139,  34.7149,2,  34.7150,2,    203.4,2,   203.4,2,  117.68,2,   31.97,2,    0.00,2,    2.19,2,-999.000,9,-999.000,9, -999.00,9,  2260.8,2,  2360.9,2,   7.6691,6,       20,-999.000,9,-999.0000,1, -999.00,9,   1.0140,2,    0.44,2,  -161.8,2, -999.00,9,    39.9,2, -999.00,9,     -999.0,9,     -999.0,1, -999.00,9, 20140411,      623, -54.9999,-149.9998,    34.8787,2,     -999.0,9,     -999.0,1,     -999.0,9,     -999.0,9,     -999.0,9,     -999.0,9