BOTTLE,20230715CCHSIOCBG
EXPOCODE,SECT_ID,STNNBR,CASTNO,SAMPNO,BTLNBR,BTLNBR_FLAG_W,DATE,TIME,LATITUDE,LONGITUDE,DEPTH,CTDPRS,CTDTMP,CTDSAL,CTDSAL_FLAG_W,SALNTY,SALNTY_FLAG_W,CTDOXY,CTDOXY_FLAG_W,OXYGEN,OXYGEN_FLAG_W,SILCAT,SILCAT_FLAG_W,NITRAT,NITRAT_FLAG_W,NITRIT,NITRIT_FLAG_W,PHSPHT,PHSPHT_FLAG_W,CFC-11,CFC-11_FLAG_W,CFC-12,CFC-12_FLAG_W,SF6,SF6_FLAG_W,TCARBN,TCARBN_FLAG_W,ALKALI,ALKALI_FLAG_W,PH_TOT,PH_TOT_FLAG_W,PH_TMP,TRITUM,TRITUM_FLAG_W,HELIUM,HELIUM_FLAG_W,DELHE3,DELHE3_FLAG_W,REFTMP,REFTMP_FLAG_W,DELC13,DELC13_FLAG_W,DELC14,DELC14_FLAG_W,DELO18,DELO18_FLAG_W,DOC,DOC_FLAG_W,TDN,TDN_FLAG_W,N2O,N2O_FLAG_W,CALCIUM,CALCIUM_FLAG_W,D15N_NO3,D15N_NO3_FLAG_W,BTL_DATE,BTL_TIME,BTL_LAT,BTL_LON,SALTREF,SALTREF_FLAG_W,D18O_NO3,D18O_NO3_FLAG_W,DSI30,DSI30_FLAG_W,CDOM_NASA,CDOM_NASA_FLAG_W,CDOM_UCSB,CDOM_UCSB_FLAG_W,D15N_NO2+NO3,D15N_NO2+NO3_FLAG_W,D18O_NO2+NO3,D18O_NO2+NO3_FLAG_W
,,,,,,,,,,,METERS,DBAR,ITS-90,PSS-78,,PSS-78,,UMOL/KG,,UMOL/KG,,UMOL/KG,,UMOL/KG,,UMOL/KG,,UMOL/KG,,PMOL/KG,,PMOL/KG,,FMOL/KG,,UMOL/KG,,UMOL/KG,,,,DEG C,TU,,NMOL/KG,,PERCNT,,DEG C,,/MILLE,,/MILLE,,/MILLE,,UMOL/KG,,UMOL/KG,,NMOL/KG,,MMOL/KG,,/MILLE,,,,,,G/KG,,/MILLE,,/MILLE,,,,,,/MILLE,,/MILLE,
320620140320,       P16S,      87,          1,          5,         05,2,20140503,       0807,   -17.0002,  -150.0006,       3759,  2999.7,   1.6893,  34.6723,2,  34.6725,2,    163.9,2,   163.9,2,  123.87,2,   34.83,2,    0.00,2,    2.42,2,  -0.002,2,   0.000,2,    0.00,2,  2300.6,2,  2395.6,2,    7.654,6,       20,-999.000,9,-999.0000,9, -999.00,9,   1.6892,2, -999.00,9,  -999.0,9, -999.00,9,  -999.0,9, -999.00,9,      22.72,2,     -999.0,9, -999.00,9, 20140503,      827, -17.0002,-150.0005,    34.8360,2,     -999.0,9,     -999.0,9,     -999.0,9,     -999.0,9,     -999.0,9,     -999.0,9
320620140320,       P16S,      87,          1,          4,         04,2,20140503,       0807,   -17.0002,  -150.0006,       3759,  3248.7,   1.6137,  34.6787,2,  34.6788,2,    168.1,2,   168.0,2,  123.87,2,   34.61,2,    0.00,2,    2.39,2,-999.000,9,-999.000,9, -999.00,9,  -999.0,9,  -999.0,9,-999.0000,9,  -999.00,-999.000,9,-999.0000,9, -999.00,9,   1.6141,2, -999.00,9,  -999.0,9, -999.00,9,  -999.0,9, -999.00,9,     -999.0,9,     -999.0,9, -999.00,9, 20140503,      821, -17.0002,-150.0006,    34.8423,2,     -999.0,9,     -999.0,9,     -999.0,9,     -999.0,9,     -999.0,9,     -999.0,9
320620140320,       P16S,      87,          1,          3,         03,2,20140503,       0807,   -17.0002,  -150.0006,       3759,  3500.2,   1.5401,  34.6847,2,  34.6851,2,    172.3,2,   172.7,2,  123.97,2,   34.29,2,    0.00,2,    2.37,2,   0.000,6,   0.000,6,    0.00,6,  2293.5,6,  2391.5,2,   7.6612,2,       20,-999.000,9,-999.0000,9, -999.00,9,   1.5400,2, -999.00,9,  -999.0,9, -999.00,9,  -999.0,9, -999.00,9,      22.13,6,     -999.0,9, -999.00,9, 20140503,      816, -17.0002,-150.0006,    34.8486,2,     -999.0,9,     -999.0,9,     -999.0,9,     -999.0,9,     -999.0,9,     -999.0,9
320620140320,       P16S,      87,          1,          2,         02,2,20140503,       0807,   -17.0002,  -150.0006,       3759,  3649.8,   1.5139,  34.6873,2,  34.6876,2,    174.4,2,   174.7,2,  123.68,2,   34.11,2,    0.00,2,    2.36,2,-999.000,9,-999.000,9, -999.00,9,  2291.4,2,  2390.6,6,   7.6627,2,       20,-999.000,9,-999.0000,9, -999.00,9,   1.5139,2, -999.00,9,  -999.0,9, -999.00,9,  -999.0,9, -999.00,9,     -999.0,9,     -999.0,9, -999.00,9, 20140503,      812, -17.0002,-150.0006,    34.8512,2,     -999.0,9,     -999.0,9,     -999.0,9,     -999.0,9,     -999.0,9,     -999.0,9
320620140320,       P16S,      87,          1,          1,         01,2,20140503,       0807,   -17.0002,  -150.0006,       3759,  3800.6,   1.5062,  34.6887,2,  34.6888,2,    175.8,2,   175.9,2,  123.28,2,   33.98,2,    0.00,2,    2.35,2,   0.000,2,   0.000,2,    0.00,2,  2291.6,2,  2388.6,2,   7.6639,2,       20,-999.000,9,-999.0000,9, -999.00,9,   1.5063,2, -999.00,9,  -999.0,9, -999.00,9,  -999.0,9, -999.00,9,      21.36,2,     -999.0,9, -999.00,9, 20140503,      807, -17.0002,-150.0006,    34.8524,2,     -999.0,9,     -999.0,9,     -999.0,9,     -999.0,9,     -999.0,9,     -999.0,9