BOTTLE,20230715CCHSIOCBG
EXPOCODE,SECT_ID,STNNBR,CASTNO,SAMPNO,BTLNBR,BTLNBR_FLAG_W,DATE,TIME,LATITUDE,LONGITUDE,DEPTH,CTDPRS,CTDTMP,CTDSAL,CTDSAL_FLAG_W,SALNTY,SALNTY_FLAG_W,CTDOXY,CTDOXY_FLAG_W,OXYGEN,OXYGEN_FLAG_W,SILCAT,SILCAT_FLAG_W,NITRAT,NITRAT_FLAG_W,NITRIT,NITRIT_FLAG_W,PHSPHT,PHSPHT_FLAG_W,CFC-11,CFC-11_FLAG_W,CFC-12,CFC-12_FLAG_W,SF6,SF6_FLAG_W,TCARBN,TCARBN_FLAG_W,ALKALI,ALKALI_FLAG_W,PH_TOT,PH_TOT_FLAG_W,PH_TMP,TRITUM,TRITUM_FLAG_W,HELIUM,HELIUM_FLAG_W,DELHE3,DELHE3_FLAG_W,REFTMP,REFTMP_FLAG_W,DELC13,DELC13_FLAG_W,DELC14,DELC14_FLAG_W,DELO18,DELO18_FLAG_W,DOC,DOC_FLAG_W,TDN,TDN_FLAG_W,N2O,N2O_FLAG_W,CALCIUM,CALCIUM_FLAG_W,D15N_NO3,D15N_NO3_FLAG_W,BTL_DATE,BTL_TIME,BTL_LAT,BTL_LON,SALTREF,SALTREF_FLAG_W,D18O_NO3,D18O_NO3_FLAG_W,DSI30,DSI30_FLAG_W,CDOM_NASA,CDOM_NASA_FLAG_W,CDOM_UCSB,CDOM_UCSB_FLAG_W,D15N_NO2+NO3,D15N_NO2+NO3_FLAG_W,D18O_NO2+NO3,D18O_NO2+NO3_FLAG_W
,,,,,,,,,,,METERS,DBAR,ITS-90,PSS-78,,PSS-78,,UMOL/KG,,UMOL/KG,,UMOL/KG,,UMOL/KG,,UMOL/KG,,UMOL/KG,,PMOL/KG,,PMOL/KG,,FMOL/KG,,UMOL/KG,,UMOL/KG,,,,DEG C,TU,,NMOL/KG,,PERCNT,,DEG C,,/MILLE,,/MILLE,,/MILLE,,UMOL/KG,,UMOL/KG,,NMOL/KG,,MMOL/KG,,/MILLE,,,,,,G/KG,,/MILLE,,/MILLE,,,,,,/MILLE,,/MILLE,
320620140320,       P16S,      63,          3,          5,         05,2,20140424,       2332,   -33.0003,  -150.0002,       5371,  4199.5,   1.3194,  34.7087,2,  34.7088,2,    194.5,2,   194.5,2,  117.84,2,   32.83,2,    0.00,2,    2.25,2,   0.008,3,   0.000,2,    0.00,2,  2271.3,2,  2371.9,2,   7.6712,6,       20,-999.000,9,-999.0000,9, -999.00,9,   1.3204,2, -999.00,9,  -999.0,9, -999.00,9,  -999.0,9, -999.00,9,      19.49,2,     -999.0,9, -999.00,9, 20140425,        6, -33.0003,-150.0002,    34.8724,2,     -999.0,9,     -999.0,9,     -999.0,9,     -999.0,9,     -999.0,9,     -999.0,9
320620140320,       P16S,      63,          3,          4,         04,2,20140424,       2332,   -33.0003,  -150.0002,       5371,  4498.9,   1.2231,  34.7090,2,  34.7086,2,    199.1,2,   199.1,2,  119.41,2,   32.67,2,    0.00,2,    2.24,2,-999.000,9,-999.000,9, -999.00,9,  2268.3,2,  2370.9,2,   7.6739,2,       20,-999.000,9,-999.0000,9, -999.00,9,   1.2232,2, -999.00,9,  -999.0,9, -999.00,9,  -999.0,9, -999.00,9,     -999.0,9,     -999.0,9, -999.00,9, 20140424,     2400, -33.0003,-150.0002,    34.8722,2,     -999.0,9,     -999.0,9,     -999.0,9,     -999.0,9,     -999.0,9,     -999.0,9
320620140320,       P16S,      63,          3,          3,         03,2,20140424,       2332,   -33.0003,  -150.0002,       5371,  4849.2,   1.1702,  34.7098,2,  34.7094,2,    202.5,2,   202.4,2,  120.29,2,   32.58,2,    0.00,2,    2.22,2,   0.020,2,   0.003,2,    0.03,2,  2266.6,2,  2368.6,2,   7.6756,2,       20,-999.000,9,-999.0000,9, -999.00,9,   1.1711,2, -999.00,9,  -999.0,9, -999.00,9,  -999.0,9, -999.00,9,      19.92,2,     -999.0,9, -999.00,9, 20140424,     2353, -33.0003,-150.0002,    34.8730,2,     -999.0,9,     -999.0,9,     -999.0,9,     -999.0,9,     -999.0,9,     -999.0,9
320620140320,       P16S,      63,          3,          2,         02,2,20140424,       2332,   -33.0003,  -150.0002,       5371,  5199.2,   1.1564,  34.7100,2,  34.7097,2,    203.8,2,   204.3,2,  120.77,2,   32.50,2,    0.00,2,    2.22,2,-999.000,5,-999.000,5, -999.00,5,  2264.8,2,  2367.8,2,   7.6763,2,       20,-999.000,9,-999.0000,9, -999.00,9,   1.1568,2, -999.00,9,  -999.0,9, -999.00,9,  -999.0,9, -999.00,9,     -999.0,5,     -999.0,9, -999.00,9, 20140424,     2343, -33.0003,-150.0002,    34.8734,2,     -999.0,9,     -999.0,9,     -999.0,9,     -999.0,9,     -999.0,9,     -999.0,9
320620140320,       P16S,      63,          3,          1,         01,2,20140424,       2332,   -33.0003,  -150.0002,       5371,  5564.9,   1.1988,  34.7099,2,  34.7094,2,    203.8,2,   204.0,2,  120.87,2,   32.58,2,    0.00,2,    2.22,2,   0.031,2,   0.005,2,    0.05,2,  2265.7,6,  2368.1,2,   7.6766,2,       20,-999.000,9,-999.0000,9, -999.00,9,   1.1992,2, -999.00,9,  -999.0,9, -999.00,9,  -999.0,9, -999.00,9,      19.22,2,     -999.0,9, -999.00,9, 20140424,     2332, -33.0003,-150.0002,    34.8730,2,     -999.0,9,     -999.0,9,     -999.0,9,     -999.0,9,     -999.0,9,     -999.0,9