BOTTLE,20230715CCHSIOCBG
EXPOCODE,SECT_ID,STNNBR,CASTNO,SAMPNO,BTLNBR,BTLNBR_FLAG_W,DATE,TIME,LATITUDE,LONGITUDE,DEPTH,CTDPRS,CTDTMP,CTDSAL,CTDSAL_FLAG_W,SALNTY,SALNTY_FLAG_W,CTDOXY,CTDOXY_FLAG_W,OXYGEN,OXYGEN_FLAG_W,SILCAT,SILCAT_FLAG_W,NITRAT,NITRAT_FLAG_W,NITRIT,NITRIT_FLAG_W,PHSPHT,PHSPHT_FLAG_W,CFC-11,CFC-11_FLAG_W,CFC-12,CFC-12_FLAG_W,SF6,SF6_FLAG_W,TCARBN,TCARBN_FLAG_W,ALKALI,ALKALI_FLAG_W,PH_TOT,PH_TOT_FLAG_W,PH_TMP,TRITUM,TRITUM_FLAG_W,HELIUM,HELIUM_FLAG_W,DELHE3,DELHE3_FLAG_W,REFTMP,REFTMP_FLAG_W,DELC13,DELC13_FLAG_W,DELC14,DELC14_FLAG_W,DELO18,DELO18_FLAG_W,DOC,DOC_FLAG_W,TDN,TDN_FLAG_W,N2O,N2O_FLAG_W,CALCIUM,CALCIUM_FLAG_W,D15N_NO3,D15N_NO3_FLAG_W,BTL_DATE,BTL_TIME,BTL_LAT,BTL_LON,SALTREF,SALTREF_FLAG_W,D18O_NO3,D18O_NO3_FLAG_W,DSI30,DSI30_FLAG_W,CDOM_NASA,CDOM_NASA_FLAG_W,CDOM_UCSB,CDOM_UCSB_FLAG_W,D15N_NO2+NO3,D15N_NO2+NO3_FLAG_W,D18O_NO2+NO3,D18O_NO2+NO3_FLAG_W
,,,,,,,,,,,METERS,DBAR,ITS-90,PSS-78,,PSS-78,,UMOL/KG,,UMOL/KG,,UMOL/KG,,UMOL/KG,,UMOL/KG,,UMOL/KG,,PMOL/KG,,PMOL/KG,,FMOL/KG,,UMOL/KG,,UMOL/KG,,,,DEG C,TU,,NMOL/KG,,PERCNT,,DEG C,,/MILLE,,/MILLE,,/MILLE,,UMOL/KG,,UMOL/KG,,NMOL/KG,,MMOL/KG,,/MILLE,,,,,,G/KG,,/MILLE,,/MILLE,,,,,,/MILLE,,/MILLE,
320620140320,       P16S,       7,          1,          5,         05,2,20140401,       1346,   -66.0101,  -149.9995,       4343,  3498.0,   0.2035,  34.6946,2,  34.6942,2,    218.5,2,   219.2,2,  127.42,2,   32.40,2,    0.00,2,    2.28,2,   0.742,2,   0.371,2,    0.32,2,  2262.8,2,  2358.4,2,   7.6623,2,       20,-999.000,9,-999.0000,9, -999.00,9,   0.2037,2, -999.00,9,  -999.0,9, -999.00,9,    40.5,2, -999.00,9,      19.06,2,     -999.0,9, -999.00,9, 20140401,     1406, -66.0101,-149.9995,    34.8578,2,     -999.0,9,     -999.0,9,     -999.0,9,     -999.0,9,     -999.0,9,     -999.0,9
320620140320,       P16S,       7,          1,          4,         04,2,20140401,       1346,   -66.0101,  -149.9995,       4343,  3800.4,   0.2118,  34.6945,2,  34.6934,3,    219.0,2,   219.1,2,  126.83,2,   32.41,2,    0.00,2,    2.27,2,   0.793,2,   0.390,2,    0.28,2,  -999.0,9,  -999.0,9,-999.0000,9,  -999.00,-999.000,9,-999.0000,9, -999.00,9,   0.2117,2, -999.00,9,  -999.0,9, -999.00,9,    38.5,2, -999.00,9,      19.50,2,     -999.0,9, -999.00,9, 20140401,     1400, -66.0100,-149.9995,    34.8570,3,     -999.0,9,     -999.0,9,     -999.0,9,     -999.0,9,     -999.0,9,     -999.0,9
320620140320,       P16S,       7,          1,          3,         03,2,20140401,       1346,   -66.0101,  -149.9995,       4343,  4100.0,   0.2327,  34.6950,2,  34.6932,3,    219.1,2,   219.1,2,  127.03,2,   32.40,2,    0.00,2,    2.27,2,   0.792,2,   0.394,2,    0.30,2,    2258,3,  2357.5,6,   7.6607,2,       20,-999.000,9,-999.0000,9, -999.00,9,   0.2330,2, -999.00,9,  -999.0,9, -999.00,9,    39.3,2, -999.00,9,      19.27,2,     -999.0,9, -999.00,9, 20140401,     1354, -66.0100,-149.9995,    34.8568,3,     -999.0,9,     -999.0,9,     -999.0,9,     -999.0,9,     -999.0,9,     -999.0,9
320620140320,       P16S,       7,          1,          2,         02,2,20140401,       1346,   -66.0101,  -149.9995,       4343,  4235.0,   0.2461,  34.6946,2,  34.6946,2,    218.9,2,   219.1,2,  127.12,2,   32.47,2,    0.00,2,    2.28,2,   0.778,2,   0.394,2,    0.23,2,  2261.6,2,  2358.1,2,    7.659,6,       20,-999.000,9,-999.0000,9, -999.00,9,   0.2460,2, -999.00,9,  -999.0,9, -999.00,9,    40.5,2, -999.00,9,      19.05,2,     -999.0,9, -999.00,9, 20140401,     1350, -66.0101,-149.9995,    34.8582,2,     -999.0,9,     -999.0,9,     -999.0,9,     -999.0,9,     -999.0,9,     -999.0,9
320620140320,       P16S,       7,          1,          1,         01,2,20140401,       1346,   -66.0101,  -149.9995,       4343,  4419.1,   0.2623,  34.6949,2,  34.6956,3,    219.5,2,   219.0,2,  128.59,2,   32.49,2,    0.00,2,    2.28,2,   0.773,2,   0.393,2,    0.13,2,    2262,6,  2358.8,2,   7.6609,2,       20,-999.000,9,-999.0000,9, -999.00,9,   0.2625,2, -999.00,9,  -999.0,9, -999.00,9,    40.1,2, -999.00,9,      19.49,2,     -999.0,9, -999.00,9, 20140401,     1345, -66.0101,-149.9995,    34.8592,3,     -999.0,9,     -999.0,9,     -999.0,9,     -999.0,9,     -999.0,9,     -999.0,9