BOTTLE,20230715CCHSIOCBG
EXPOCODE,SECT_ID,STNNBR,CASTNO,SAMPNO,BTLNBR,BTLNBR_FLAG_W,DATE,TIME,LATITUDE,LONGITUDE,DEPTH,CTDPRS,CTDTMP,CTDSAL,CTDSAL_FLAG_W,SALNTY,SALNTY_FLAG_W,CTDOXY,CTDOXY_FLAG_W,OXYGEN,OXYGEN_FLAG_W,SILCAT,SILCAT_FLAG_W,NITRAT,NITRAT_FLAG_W,NITRIT,NITRIT_FLAG_W,PHSPHT,PHSPHT_FLAG_W,CFC-11,CFC-11_FLAG_W,CFC-12,CFC-12_FLAG_W,SF6,SF6_FLAG_W,TCARBN,TCARBN_FLAG_W,ALKALI,ALKALI_FLAG_W,PH_TOT,PH_TOT_FLAG_W,PH_TMP,TRITUM,TRITUM_FLAG_W,HELIUM,HELIUM_FLAG_W,DELHE3,DELHE3_FLAG_W,REFTMP,REFTMP_FLAG_W,DELC13,DELC13_FLAG_W,DELC14,DELC14_FLAG_W,DELO18,DELO18_FLAG_W,DOC,DOC_FLAG_W,TDN,TDN_FLAG_W,N2O,N2O_FLAG_W,CALCIUM,CALCIUM_FLAG_W,D15N_NO3,D15N_NO3_FLAG_W,BTL_DATE,BTL_TIME,BTL_LAT,BTL_LON,SALTREF,SALTREF_FLAG_W,D18O_NO3,D18O_NO3_FLAG_W,DSI30,DSI30_FLAG_W,CDOM_NASA,CDOM_NASA_FLAG_W,CDOM_UCSB,CDOM_UCSB_FLAG_W,D15N_NO2+NO3,D15N_NO2+NO3_FLAG_W,D18O_NO2+NO3,D18O_NO2+NO3_FLAG_W
,,,,,,,,,,,METERS,DBAR,ITS-90,PSS-78,,PSS-78,,UMOL/KG,,UMOL/KG,,UMOL/KG,,UMOL/KG,,UMOL/KG,,UMOL/KG,,PMOL/KG,,PMOL/KG,,FMOL/KG,,UMOL/KG,,UMOL/KG,,,,DEG C,TU,,NMOL/KG,,PERCNT,,DEG C,,/MILLE,,/MILLE,,/MILLE,,UMOL/KG,,UMOL/KG,,NMOL/KG,,MMOL/KG,,/MILLE,,,,,,G/KG,,/MILLE,,/MILLE,,,,,,/MILLE,,/MILLE,
320620140320,       P16S,      17,          2,          5,         05,2,20140407,       0545,   -60.0000,  -149.9991,       2713,  1935.2,   0.5167,  34.7038,2,  34.7032,2,    207.8,2,   207.3,2,  127.78,2,   32.76,2,    0.00,2,    2.25,2,   0.161,2,   0.077,2,    0.07,2,  2263.8,2,  2359.7,6,   7.6605,2,       20,-999.000,9,-999.0000,9, -999.00,9,   0.5165,2,    0.51,2,  -165.4,2, -999.00,9,    39.3,2, -999.00,9,      18.83,2,     -999.0,1, -999.00,1, 20140407,      603, -59.9999,-149.9991,    34.8669,2,     -999.0,1,     -999.0,1,     -999.0,9,     -999.0,9,     -999.0,9,     -999.0,9
320620140320,       P16S,      17,          2,          4,         04,2,20140407,       0545,   -60.0000,  -149.9991,       2713,  2135.7,   0.4299,  34.7007,2,  34.6999,2,    210.5,2,   210.5,2,  127.49,2,   32.64,2,    0.00,2,    2.25,2,-999.000,5,-999.000,5, -999.00,5,  -999.0,9,  -999.0,9,-999.0000,9,  -999.00,-999.000,9,-999.0000,9, -999.00,9,   0.4301,2, -999.00,9,  -999.0,9, -999.00,9,    40.6,2, -999.00,9,     -999.0,5,     -999.0,9, -999.00,1, 20140407,      559, -59.9999,-149.9991,    34.8635,2,     -999.0,1,     -999.0,9,     -999.0,9,     -999.0,9,     -999.0,9,     -999.0,9
320620140320,       P16S,      17,          2,          3,         03,2,20140407,       0545,   -60.0000,  -149.9991,       2713,  2334.9,   0.3555,  34.6983,2,  34.6981,2,    211.9,2,   212.5,2,  127.68,2,   32.74,2,    0.00,2,    2.24,2,   0.417,2,   0.197,2,    0.17,2,    2264,6,    2360,2,   7.6604,2,       20,-999.000,9,-999.0000,9, -999.00,9,   0.3553,2,    0.44,2,  -161.4,2, -999.00,9,    38.9,2, -999.00,9,      18.78,2,     -999.0,9, -999.00,1, 20140407,      554, -60.0000,-149.9991,    34.8617,2,     -999.0,1,     -999.0,9,     -999.0,9,     -999.0,9,     -999.0,9,     -999.0,9
320620140320,       P16S,      17,          2,          2,         02,2,20140407,       0545,   -60.0000,  -149.9991,       2713,  2536.4,   0.3153,  34.6969,2,  34.6966,2,    213.3,2,   213.6,2,  127.68,2,   32.65,2,    0.00,2,    2.25,2,   0.550,2,   0.254,2,    0.22,2,  2262.9,2,  2359.2,2,   7.6594,2,       20,-999.000,9,-999.0000,9, -999.00,9,   0.3158,2,    0.43,2,  -160.1,2, -999.00,9,    41.4,2, -999.00,9,      18.73,2,     -999.0,1, -999.00,1, 20140407,      550, -60.0000,-149.9991,    34.8602,2,     -999.0,1,     -999.0,9,     -999.0,9,     -999.0,9,     -999.0,9,     -999.0,9
320620140320,       P16S,      17,          2,          1,         01,2,20140407,       0545,   -60.0000,  -149.9991,       2713,  2738.5,   0.3003,  34.6958,2,  34.6985,4,    212.7,2,   212.7,2,  127.88,2,   32.67,2,    0.00,2,    2.24,2,   0.397,2,   0.187,2,    0.23,2,  2263.8,2,  2359.7,2,   7.6601,6,       20,-999.000,9,-999.0000,9, -999.00,9,   0.3007,2,    0.51,2,  -165.7,2, -999.00,9,    41.1,2, -999.00,9,      18.87,2,     -999.0,1, -999.00,1, 20140407,      545, -60.0000,-149.9991,    34.8621,4,     -999.0,1,     -999.0,1,     -999.0,9,     -999.0,9,     -999.0,9,     -999.0,9