BOTTLE,20230715CCHSIOCBG
EXPOCODE,SECT_ID,STNNBR,CASTNO,SAMPNO,BTLNBR,BTLNBR_FLAG_W,DATE,TIME,LATITUDE,LONGITUDE,DEPTH,CTDPRS,CTDTMP,CTDSAL,CTDSAL_FLAG_W,SALNTY,SALNTY_FLAG_W,CTDOXY,CTDOXY_FLAG_W,OXYGEN,OXYGEN_FLAG_W,SILCAT,SILCAT_FLAG_W,NITRAT,NITRAT_FLAG_W,NITRIT,NITRIT_FLAG_W,PHSPHT,PHSPHT_FLAG_W,CFC-11,CFC-11_FLAG_W,CFC-12,CFC-12_FLAG_W,SF6,SF6_FLAG_W,TCARBN,TCARBN_FLAG_W,ALKALI,ALKALI_FLAG_W,PH_TOT,PH_TOT_FLAG_W,PH_TMP,TRITUM,TRITUM_FLAG_W,HELIUM,HELIUM_FLAG_W,DELHE3,DELHE3_FLAG_W,REFTMP,REFTMP_FLAG_W,DELC13,DELC13_FLAG_W,DELC14,DELC14_FLAG_W,DELO18,DELO18_FLAG_W,DOC,DOC_FLAG_W,TDN,TDN_FLAG_W,N2O,N2O_FLAG_W,CALCIUM,CALCIUM_FLAG_W,D15N_NO3,D15N_NO3_FLAG_W,BTL_DATE,BTL_TIME,BTL_LAT,BTL_LON,SALTREF,SALTREF_FLAG_W,D18O_NO3,D18O_NO3_FLAG_W,DSI30,DSI30_FLAG_W,CDOM_NASA,CDOM_NASA_FLAG_W,CDOM_UCSB,CDOM_UCSB_FLAG_W,D15N_NO2+NO3,D15N_NO2+NO3_FLAG_W,D18O_NO2+NO3,D18O_NO2+NO3_FLAG_W
,,,,,,,,,,,METERS,DBAR,ITS-90,PSS-78,,PSS-78,,UMOL/KG,,UMOL/KG,,UMOL/KG,,UMOL/KG,,UMOL/KG,,UMOL/KG,,PMOL/KG,,PMOL/KG,,FMOL/KG,,UMOL/KG,,UMOL/KG,,,,DEG C,TU,,NMOL/KG,,PERCNT,,DEG C,,/MILLE,,/MILLE,,/MILLE,,UMOL/KG,,UMOL/KG,,NMOL/KG,,MMOL/KG,,/MILLE,,,,,,G/KG,,/MILLE,,/MILLE,,,,,,/MILLE,,/MILLE,
320620140320,       P16S,      39,          3,         36,         36,2,20140415,       1145,   -49.0003,  -150.0000,       5043,     5.3,  12.2071,  34.4190,2,  34.4198,2,    265.7,2,   266.6,2,    0.49,2,    5.80,2,    0.12,2,    0.53,2,   3.119,2,   1.796,2,    2.08,2,  2073.5,2,    2283,2,   7.9663,2,       20,-999.000,1,-999.0000,1, -999.00,9,  12.2057,2, -999.00,9,  -999.0,9, -999.00,1,    55.1,2,    9.05,2,      11.21,2,     -999.0,9, -999.00,9, 20140415,     1514, -49.0004,-150.0000,    34.5821,2,     -999.0,9,     -999.0,9,     -999.0,9,     -999.0,9,     -999.0,9,     -999.0,9
320620140320,       P16S,      39,          3,         35,         35,2,20140415,       1145,   -49.0003,  -150.0000,       5043,    19.4,  12.1678,  34.4443,2,  34.4430,2,    266.5,2,   266.5,2,    0.49,2,    5.80,2,    0.12,2,    0.52,2,   3.096,2,   1.798,2,    2.01,2,  2074.9,2,  2283.8,2,   7.9659,2,       20,-999.000,1,-999.0000,1, -999.00,9,  12.1698,2, -999.00,9,  -999.0,9, -999.00,1,    55.8,2,    9.63,2,      10.90,2,     -999.0,9, -999.00,9, 20140415,     1512, -49.0003,-150.0000,    34.6054,2,     -999.0,9,     -999.0,9,     -999.0,9,     -999.0,9,     -999.0,9,     -999.0,9
320620140320,       P16S,      39,          3,         34,         34,2,20140415,       1145,   -49.0003,  -150.0000,       5043,    39.6,  12.0694,  34.4721,2,  34.4722,2,    266.3,2,   266.0,2,    0.39,2,    5.81,2,    0.12,2,    0.53,2,-999.000,9,-999.000,9, -999.00,9,  2076.7,2,  2286.4,2,    7.965,2,       20,-999.000,1,-999.0000,1, -999.00,9,  12.0696,2, -999.00,9,  -999.0,9, -999.00,1,      55,2,    8.47,2,     -999.0,9,     -999.0,9, -999.00,9, 20140415,     1510, -49.0004,-150.0000,    34.6347,2,     -999.0,9,     -999.0,9,     -999.0,9,     -999.0,9,     -999.0,9,     -999.0,9
320620140320,       P16S,      39,          3,         33,         33,2,20140415,       1145,   -49.0003,  -150.0000,       5043,    64.8,  11.9865,  34.4770,2,  34.4759,2,    265.1,2,   265.4,2,    0.59,2,    5.89,2,    0.14,2,    0.55,2,   3.040,2,   1.794,2,    2.24,2,  2078.8,2,  2287.6,2,   7.9625,2,       20,-999.000,1,-999.0000,1, -999.00,9,  11.9752,2, -999.00,9,  -999.0,9, -999.00,1,    54.7,2,   11.01,2,       9.83,2,     -999.0,9, -999.00,9, 20140415,     1508, -49.0003,-150.0000,    34.6385,2,     -999.0,9,     -999.0,9,     -999.0,9,     -999.0,9,     -999.0,9,     -999.0,9
320620140320,       P16S,      39,          3,         32,         32,2,20140415,       1145,   -49.0003,  -150.0000,       5043,    89.8,   9.4590,  34.5051,2,  34.5052,2,    263.6,2,   263.2,2,    2.25,2,   11.42,2,    0.76,2,    0.90,2,-999.000,9,-999.000,9, -999.00,9,  2113.8,2,  2283.4,2,   7.8747,2,       20,-999.000,1,-999.0000,1, -999.00,9,   9.4617,2, -999.00,9,  -999.0,9, -999.00,1,    49.1,2,   14.61,2,     -999.0,9,     -999.0,9, -999.00,9, 20140415,     1506, -49.0003,-150.0000,    34.6679,2,     -999.0,9,     -999.0,9,     -999.0,9,     -999.0,9,     -999.0,9,     -999.0,9
320620140320,       P16S,      39,          3,         31,         31,2,20140415,       1145,   -49.0003,  -150.0000,       5043,   134.1,   8.7409,  34.5191,2,  34.5195,2,    262.7,2,   263.9,2,    2.83,2,   13.70,2,    0.02,2,    0.99,2,   3.655,2,   2.067,2,    2.39,2,  2121.7,2,  2283.8,2,   7.8561,2,       20,-999.000,1,-999.0000,1, -999.00,9,   8.7406,2, -999.00,9,  -999.0,9, -999.00,1,    47.1,2,   14.85,2,      12.76,2,     -999.0,9, -999.00,9, 20140415,     1504, -49.0003,-150.0000,    34.6823,2,     -999.0,9,     -999.0,9,     -999.0,9,     -999.0,9,     -999.0,9,     -999.0,9
320620140320,       P16S,      39,          3,         30,         30,2,20140415,       1145,   -49.0003,  -150.0000,       5043,   185.3,   8.5463,  34.5219,2,  34.5193,2,    260.6,2,   265.8,2,    3.13,2,   14.15,2,    0.02,2,    1.01,2,-999.000,9,-999.000,9, -999.00,9,  2122.9,2,    2285,2,   7.8558,2,       20,-999.000,9,-999.0000,9, -999.00,9,   8.5456,2, -999.00,9,  -999.0,9, -999.00,1,    46.4,2,   17.67,2,     -999.0,9,     -999.0,9, -999.00,9, 20140415,     1502, -49.0004,-150.0000,    34.6820,2,     -999.0,9,     -999.0,9,     -999.0,9,     -999.0,9,     -999.0,9,     -999.0,9
320620140320,       P16S,      39,          3,         29,         29,2,20140415,       1145,   -49.0003,  -150.0000,       5043,   234.5,   8.4430,  34.5191,2,  34.5212,2,    259.6,2,   267.7,2,    3.32,2,   14.48,2,    0.01,2,    1.04,2,   3.717,2,   2.098,2,    2.07,2,  -999.0,9,  -999.0,9,-999.0000,9,  -999.00,-999.000,1,-999.0000,1, -999.00,9,   8.4438,2, -999.00,9,  -999.0,9, -999.00,1,    46.5,2,   18.31,2,      13.07,2,     -999.0,9, -999.00,9, 20140415,     1459, -49.0004,-150.0000,    34.6840,2,     -999.0,9,     -999.0,9,     -999.0,9,     -999.0,9,     -999.0,9,     -999.0,9
320620140320,       P16S,      39,          3,         28,         28,2,20140415,       1145,   -49.0003,  -150.0000,       5043,   284.5,   8.2910,  34.5015,2,  34.5024,2,    261.7,2,   266.5,2,    3.52,2,   15.01,2,    0.01,2,    1.08,2,-999.000,9,-999.000,9, -999.00,9,  2125.1,2,  2284.8,2,     7.85,2,       20,-999.000,9,-999.0000,9, -999.00,9,   8.2864,2, -999.00,9,  -999.0,9, -999.00,1,    46.7,2,   18.76,2,     -999.0,9,     -999.0,9, -999.00,9, 20140415,     1457, -49.0004,-150.0000,    34.6651,2,     -999.0,9,     -999.0,9,     -999.0,9,     -999.0,9,     -999.0,9,     -999.0,9
320620140320,       P16S,      39,          3,         27,         27,2,20140415,       1145,   -49.0003,  -150.0000,       5043,   333.7,   8.1109,  34.4809,2,  34.4811,2,    262.9,2,   261.4,2,    3.91,2,   16.47,2,    0.01,2,    1.15,2,   3.724,6,   2.071,6,    2.05,6,  -999.0,9,  -999.0,9,-999.0000,9,  -999.00,-999.000,1,-999.0000,1, -999.00,9,   8.1119,2, -999.00,9,  -999.0,9, -999.00,1,    45.6,2,   20.04,2,      14.32,6,     -999.0,9, -999.00,9, 20140415,     1454, -49.0003,-150.0000,    34.6437,2,     -999.0,9,     -999.0,9,     -999.0,9,     -999.0,9,     -999.0,9,     -999.0,9
320620140320,       P16S,      39,          3,         26,         26,2,20140415,       1145,   -49.0003,  -150.0000,       5043,   383.1,   7.9008,  34.4549,2,  34.4554,2,    259.2,2,   257.9,2,    4.59,2,   17.67,2,    0.01,2,    1.23,2,   3.791,2,   2.105,2,    2.09,2,  2133.3,2,  2283.2,2,   7.8258,2,       20,-999.000,9,-999.0000,9, -999.00,9,   7.9021,2, -999.00,9,  -999.0,9, -999.00,1,    44.9,2,   21.68,3,      14.77,2,     -999.0,9, -999.00,9, 20140415,     1451, -49.0003,-150.0000,    34.6179,2,     -999.0,9,     -999.0,9,     -999.0,9,     -999.0,9,     -999.0,9,     -999.0,9
320620140320,       P16S,      39,          3,         25,         25,2,20140415,       1145,   -49.0003,  -150.0000,       5043,   464.8,   7.6081,  34.4230,2,  34.4224,2,    253.5,2,   254.2,2,    5.47,2,   19.27,2,    0.01,2,    1.33,2,   3.831,2,   2.072,2,    1.91,2,  2137.9,2,    2283,2,   7.8115,2,       20,-999.000,1,-999.0000,1, -999.00,9,   7.6089,2, -999.00,9,  -999.0,9, -999.00,1,      44,2,    22.4,2,      14.48,2,     -999.0,9, -999.00,9, 20140415,     1448, -49.0003,-150.0000,    34.5847,2,     -999.0,9,     -999.0,9,     -999.0,9,     -999.0,9,     -999.0,9,     -999.0,9
320620140320,       P16S,      39,          3,         24,         24,2,20140415,       1145,   -49.0003,  -150.0000,       5043,   564.8,   7.3333,  34.4020,2,  34.4004,2,    248.3,2,   248.9,2,    6.65,2,   20.63,2,    0.01,2,    1.43,2,-999.000,9,-999.000,9, -999.00,9,  2142.4,2,  2282.2,2,   7.8013,2,       20,-999.000,9,-999.0000,9, -999.00,9,   7.3334,2, -999.00,9,  -999.0,9, -999.00,1,    42.9,2, -999.00,5,     -999.0,9,     -999.0,9, -999.00,9, 20140415,     1445, -49.0003,-150.0000,    34.5626,2,     -999.0,9,     -999.0,9,     -999.0,9,     -999.0,9,     -999.0,9,     -999.0,9
320620140320,       P16S,      39,          3,         23,         23,2,20140415,       1145,   -49.0003,  -150.0000,       5043,   665.1,   7.0233,  34.3760,2,  34.3747,2,    244.4,2,   247.3,2,    7.82,2,   21.54,2,    0.01,2,    1.48,2,   3.661,2,   1.998,2,    1.64,2,  2145.5,2,  2282.8,2,    7.793,2,       20,-999.000,1,-999.0000,1, -999.00,9,   7.0226,2, -999.00,9,  -999.0,9, -999.00,1,      42,2, -999.00,9,      15.59,2,     -999.0,9, -999.00,9, 20140415,     1441, -49.0003,-150.0000,    34.5368,2,     -999.0,9,     -999.0,9,     -999.0,9,     -999.0,9,     -999.0,9,     -999.0,9
320620140320,       P16S,      39,          3,         22,         22,2,20140415,       1145,   -49.0003,  -150.0000,       5043,   764.3,   6.6950,  34.3548,2,  34.3553,2,    239.9,2,   241.2,2,    9.68,2,   22.91,2,    0.00,2,    1.55,2,   3.492,2,   1.833,2,    1.37,2,  2150.2,2,  2281.6,6,     7.78,2,       20,-999.000,9,-999.0000,9, -999.00,9,   6.6942,2, -999.00,9,  -999.0,9, -999.00,1,    41.3,2, -999.00,9,      16.19,3,     -999.0,9, -999.00,9, 20140415,     1438, -49.0003,-150.0000,    34.5173,2,     -999.0,9,     -999.0,9,     -999.0,9,     -999.0,9,     -999.0,9,     -999.0,9
320620140320,       P16S,      39,          3,         21,         21,2,20140415,       1145,   -49.0003,  -150.0000,       5043,   866.1,   6.2436,  34.3330,2,  34.3307,2,    231.5,2,   232.0,2,   13.10,2,   24.68,2,    0.00,2,    1.69,2,   3.085,2,   1.641,2,    1.20,2,  2159.7,6,    2283,2,   7.7598,2,       20,-999.000,1,-999.0000,1, -999.00,9,   6.2411,2, -999.00,9,  -999.0,9, -999.00,9,    41.2,2, -999.00,9,      17.10,2,     -999.0,9, -999.00,9, 20140415,     1434, -49.0003,-150.0000,    34.4926,2,     -999.0,9,     -999.0,9,     -999.0,9,     -999.0,9,     -999.0,9,     -999.0,9
320620140320,       P16S,      39,          3,         20,         20,2,20140415,       1145,   -49.0003,  -150.0000,       5043,   964.2,   5.6630,  34.3190,2,  34.3184,2,    222.6,2,   221.5,2,   18.18,2,   26.82,2,    0.00,2,    1.83,2,   2.751,2,   1.413,2,    0.58,2,  2170.6,2,  2287.8,2,   7.7351,6,       20,-999.000,9,-999.0000,9, -999.00,9,   5.6629,2, -999.00,9,  -999.0,9, -999.00,9,    39.2,2, -999.00,9,      18.73,3,     -999.0,9, -999.00,9, 20140415,     1431, -49.0003,-150.0000,    34.4802,2,     -999.0,9,     -999.0,9,     -999.0,9,     -999.0,9,     -999.0,9,     -999.0,9
320620140320,       P16S,      39,          3,         19,         19,2,20140415,       1145,   -49.0003,  -150.0000,       5043,  1064.4,   5.1024,  34.3182,2,  34.3174,2,    213.3,2,   213.0,2,   24.05,2,   28.60,2,    0.00,2,    1.95,2,   2.352,2,   1.200,2,    0.65,2,  2183.4,2,  2290.6,2,   7.7122,2,       20,-999.000,1,-999.0000,1, -999.00,9,   5.1073,2, -999.00,9,  -999.0,9, -999.00,9,    40.5,2, -999.00,9,      19.43,2,     -999.0,9, -999.00,9, 20140415,     1427, -49.0003,-150.0000,    34.4792,2,     -999.0,9,     -999.0,9,     -999.0,9,     -999.0,9,     -999.0,9,     -999.0,9
320620140320,       P16S,      39,          3,         18,         18,2,20140415,       1145,   -49.0003,  -150.0000,       5043,  1165.0,   4.6090,  34.3230,2,  34.3225,2,    206.8,2,   206.9,2,   30.21,2,   29.99,2,    0.00,2,    2.05,2,-999.000,9,-999.000,9, -999.00,9,  -999.0,9,  -999.0,9,-999.0000,9,  -999.00,-999.000,1,-999.0000,1, -999.00,9,   4.6126,2, -999.00,9,  -999.0,9, -999.00,9,    40.4,2, -999.00,9,     -999.0,9,     -999.0,9, -999.00,9, 20140415,     1423, -49.0003,-150.0000,    34.4843,2,     -999.0,9,     -999.0,9,     -999.0,9,     -999.0,9,     -999.0,9,     -999.0,9
320620140320,       P16S,      39,          3,         17,         17,2,20140415,       1145,   -49.0003,  -150.0000,       5043,  1264.9,   4.1632,  34.3334,2,  34.3329,2,    202.1,2,   202.4,2,   36.07,2,   31.08,2,    0.00,2,    2.12,2,   1.832,2,   0.927,2,    0.45,2,  2203.8,2,  2300.9,2,   7.6791,2,       20,-999.000,1,-999.0000,1, -999.00,9,   4.1614,2, -999.00,9,  -999.0,9, -999.00,9,    38.6,2, -999.00,9,      21.07,2,     -999.0,9, -999.00,9, 20140415,     1420, -49.0003,-150.0000,    34.4948,2,     -999.0,9,     -999.0,9,     -999.0,9,     -999.0,9,     -999.0,9,     -999.0,9
320620140320,       P16S,      39,          3,         16,         16,2,20140415,       1145,   -49.0003,  -150.0000,       5043,  1365.6,   3.7385,  34.3627,2,  34.3623,2,    195.1,2,   196.1,2,   44.48,2,   32.13,2,    0.00,2,    2.20,2,   1.607,2,   0.816,2,    0.50,2,  -999.0,9,  -999.0,9,-999.0000,9,  -999.00,-999.000,1,-999.0000,1, -999.00,9,   3.7380,2, -999.00,9,  -999.0,9, -999.00,9,    38.6,2, -999.00,9,      22.35,3,     -999.0,9, -999.00,9, 20140415,     1417, -49.0003,-150.0000,    34.5243,2,     -999.0,9,     -999.0,9,     -999.0,9,     -999.0,9,     -999.0,9,     -999.0,9
320620140320,       P16S,      39,          3,         15,         15,2,20140415,       1145,   -49.0003,  -150.0000,       5043,  1464.2,   3.4170,  34.3968,2,  34.3972,2,    189.2,2,   188.7,2,   51.81,2,   32.91,2,    0.00,2,    2.26,2,   1.212,2,   0.650,2,    0.34,2,  2226.5,2,  2315.7,2,   7.6515,2,       20,-999.000,1,-999.0000,1, -999.00,9,   3.4183,2, -999.00,9,  -999.0,9, -999.00,9,    39.6,2, -999.00,9,      23.43,2,     -999.0,9, -999.00,9, 20140415,     1413, -49.0003,-150.0000,    34.5594,2,     -999.0,9,     -999.0,9,     -999.0,9,     -999.0,9,     -999.0,9,     -999.0,9
320620140320,       P16S,      39,          3,         14,         14,2,20140415,       1145,   -49.0003,  -150.0000,       5043,  1563.2,   3.1693,  34.4384,2,  34.4382,2,    183.6,2,   181.7,2,   59.04,2,   33.48,2,    0.00,2,    2.30,2,   2.219,4,   1.393,4,    2.21,4,  -999.0,9,  -999.0,9,-999.0000,9,  -999.00,-999.000,9,-999.0000,9, -999.00,9,   3.1703,2, -999.00,9,  -999.0,9, -999.00,9,    39.4,2, -999.00,9,      29.25,4,     -999.0,9, -999.00,9, 20140415,     1410, -49.0003,-150.0000,    34.6006,2,     -999.0,9,     -999.0,9,     -999.0,9,     -999.0,9,     -999.0,9,     -999.0,9
320620140320,       P16S,      39,          3,         13,         13,2,20140415,       1145,   -49.0003,  -150.0000,       5043,  1865.0,   2.7036,  34.5465,2,  34.5462,2,    172.7,2,   172.5,2,   73.21,2,   33.91,2,    0.00,2,    2.33,2,   0.575,2,   0.328,2,    0.07,2,  2253.3,2,  2337.1,2,    7.629,2,       20,-999.000,1,-999.0000,1, -999.00,9,   2.7029,2, -999.00,9,  -999.0,9, -999.00,9,    36.6,2, -999.00,9,      22.55,3,     -999.0,9, -999.00,9, 20140415,     1402, -49.0003,-150.0000,    34.7091,2,     -999.0,9,     -999.0,9,     -999.0,9,     -999.0,9,     -999.0,9,     -999.0,9
320620140320,       P16S,      39,          3,         12,         12,2,20140415,       1145,   -49.0003,  -150.0000,       5043,  2165.4,   2.4218,  34.6398,2,  34.6403,2,    168.2,2,   170.5,2,   84.93,2,   33.31,2,    0.00,2,    2.29,2,-999.000,9,-999.000,9, -999.00,9,  -999.0,9,  -999.0,9,-999.0000,9,  -999.00,-999.000,9,-999.0000,9, -999.00,9,   2.4222,2, -999.00,9,  -999.0,9, -999.00,9,    38.1,2, -999.00,9,     -999.0,9,     -999.0,9, -999.00,9, 20140415,     1356, -49.0003,-150.0000,    34.8036,2,     -999.0,9,     -999.0,9,     -999.0,9,     -999.0,9,     -999.0,9,     -999.0,9
320620140320,       P16S,      39,          3,         11,         11,2,20140415,       1145,   -49.0003,  -150.0000,       5043,  2464.6,   2.2199,  34.6835,2,  34.6833,2,    173.1,2,   173.0,2,   91.08,2,   32.76,2,    0.00,2,    2.26,2,   0.134,2,   0.061,2,    0.01,2,  2267.3,2,  2360.3,2,   7.6503,2,       20,-999.000,1,-999.0000,1, -999.00,9,   2.2197,2, -999.00,9,  -999.0,9, -999.00,9,    37.9,2, -999.00,9,      23.61,3,     -999.0,9, -999.00,9, 20140415,     1349, -49.0003,-150.0000,    34.8468,2,     -999.0,9,     -999.0,9,     -999.0,9,     -999.0,9,     -999.0,9,     -999.0,9
320620140320,       P16S,      39,          3,         10,         10,2,20140415,       1145,   -49.0003,  -150.0000,       5043,  2764.3,   2.0598,  34.7179,2,  34.7181,2,    185.8,2,   183.7,2,   90.98,2,   31.58,2,    0.00,2,    2.17,2,   0.113,2,   0.054,2,    0.09,2,  -999.0,9,  -999.0,9,-999.0000,9,  -999.00,-999.000,9,-999.0000,9, -999.00,9,   2.0590,2, -999.00,9,  -999.0,9, -999.00,9,    37.2,2, -999.00,9,      21.87,3,     -999.0,9, -999.00,9, 20140415,     1343, -49.0003,-150.0000,    34.8818,2,     -999.0,9,     -999.0,9,     -999.0,9,     -999.0,9,     -999.0,9,     -999.0,9
320620140320,       P16S,      39,          3,          9,         09,2,20140415,       1145,   -49.0003,  -150.0000,       5043,  3065.7,   1.8521,  34.7312,2,  34.7306,2,    190.2,2,   190.2,2,   95.77,2,   31.28,2,    0.00,2,    2.14,2,-999.000,9,-999.000,9, -999.00,9,  2258.1,2,  2357.8,2,   7.6731,2,       20,-999.000,9,-999.0000,1, -999.00,9,   1.8520,2, -999.00,9,  -999.0,9, -999.00,9,    37.6,2, -999.00,9,     -999.0,9,     -999.0,9, -999.00,9, 20140415,     1336, -49.0003,-150.0000,    34.8944,2,     -999.0,9,     -999.0,9,     -999.0,9,     -999.0,9,     -999.0,9,     -999.0,9
320620140320,       P16S,      39,          3,          8,         08,2,20140415,       1145,   -49.0003,  -150.0000,       5043,  3363.4,   1.6326,  34.7337,2,  34.7338,2,    196.3,2,   201.4,3,  100.46,2,   31.07,2,    0.00,2,    2.13,2,   0.084,2,   0.033,2,    0.07,2,  -999.0,9,  -999.0,9,-999.0000,9,  -999.00,-999.000,9,-999.0000,9, -999.00,9,   1.6332,2, -999.00,9,  -999.0,9, -999.00,9,    39.2,2, -999.00,9,      21.04,3,     -999.0,9, -999.00,9, 20140415,     1330, -49.0003,-150.0000,    34.8976,2,     -999.0,9,     -999.0,9,     -999.0,9,     -999.0,9,     -999.0,9,     -999.0,9
320620140320,       P16S,      39,          3,          7,         07,2,20140415,       1145,   -49.0003,  -150.0000,       5043,  3665.1,   1.3731,  34.7247,2,  34.7234,2,    198.4,2,   198.9,2,  108.08,2,   31.58,2,    0.00,2,    2.17,2,   0.042,2,   0.009,2,    0.03,2,  2261.5,2,  2363.6,2,   7.6782,2,       20,-999.000,9,-999.0000,1, -999.00,9,   1.3739,2, -999.00,9,  -999.0,9, -999.00,9,    38.5,2, -999.00,9,      20.82,2,     -999.0,9, -999.00,9, 20140415,     1324, -49.0003,-150.0000,    34.8871,2,     -999.0,9,     -999.0,9,     -999.0,9,     -999.0,9,     -999.0,9,     -999.0,9
320620140320,       P16S,      39,          3,          6,         06,2,20140415,       1145,   -49.0003,  -150.0000,       5043,  3963.6,   1.2179,  34.7177,2,  34.7171,2,    200.3,2,   200.5,2,  115.22,2,   31.90,2,    0.00,2,    2.19,2,-999.000,9,-999.000,9, -999.00,9,  -999.0,9,  -999.0,9,-999.0000,9,  -999.00,-999.000,9,-999.0000,9, -999.00,9,   1.2184,2, -999.00,9,  -999.0,9, -999.00,9,    39.7,2, -999.00,9,     -999.0,9,     -999.0,9, -999.00,9, 20140415,     1318, -49.0003,-150.0000,    34.8808,2,     -999.0,9,     -999.0,9,     -999.0,9,     -999.0,9,     -999.0,9,     -999.0,9