BOTTLE,20230715CCHSIOCBG
EXPOCODE,SECT_ID,STNNBR,CASTNO,SAMPNO,BTLNBR,BTLNBR_FLAG_W,DATE,TIME,LATITUDE,LONGITUDE,DEPTH,CTDPRS,CTDTMP,CTDSAL,CTDSAL_FLAG_W,SALNTY,SALNTY_FLAG_W,CTDOXY,CTDOXY_FLAG_W,OXYGEN,OXYGEN_FLAG_W,SILCAT,SILCAT_FLAG_W,NITRAT,NITRAT_FLAG_W,NITRIT,NITRIT_FLAG_W,PHSPHT,PHSPHT_FLAG_W,CFC-11,CFC-11_FLAG_W,CFC-12,CFC-12_FLAG_W,SF6,SF6_FLAG_W,TCARBN,TCARBN_FLAG_W,ALKALI,ALKALI_FLAG_W,PH_TOT,PH_TOT_FLAG_W,PH_TMP,TRITUM,TRITUM_FLAG_W,HELIUM,HELIUM_FLAG_W,DELHE3,DELHE3_FLAG_W,REFTMP,REFTMP_FLAG_W,DELC13,DELC13_FLAG_W,DELC14,DELC14_FLAG_W,DELO18,DELO18_FLAG_W,DOC,DOC_FLAG_W,TDN,TDN_FLAG_W,N2O,N2O_FLAG_W,CALCIUM,CALCIUM_FLAG_W,D15N_NO3,D15N_NO3_FLAG_W,BTL_DATE,BTL_TIME,BTL_LAT,BTL_LON,SALTREF,SALTREF_FLAG_W,D18O_NO3,D18O_NO3_FLAG_W,DSI30,DSI30_FLAG_W,CDOM_NASA,CDOM_NASA_FLAG_W,CDOM_UCSB,CDOM_UCSB_FLAG_W,D15N_NO2+NO3,D15N_NO2+NO3_FLAG_W,D18O_NO2+NO3,D18O_NO2+NO3_FLAG_W
,,,,,,,,,,,METERS,DBAR,ITS-90,PSS-78,,PSS-78,,UMOL/KG,,UMOL/KG,,UMOL/KG,,UMOL/KG,,UMOL/KG,,UMOL/KG,,PMOL/KG,,PMOL/KG,,FMOL/KG,,UMOL/KG,,UMOL/KG,,,,DEG C,TU,,NMOL/KG,,PERCNT,,DEG C,,/MILLE,,/MILLE,,/MILLE,,UMOL/KG,,UMOL/KG,,NMOL/KG,,MMOL/KG,,/MILLE,,,,,,G/KG,,/MILLE,,/MILLE,,,,,,/MILLE,,/MILLE,
320620140320,       P16S,      53,          1,          5,         05,2,20140420,       2034,   -39.6671,  -150.0003,     -999.0,  3867.2,   1.4339,  34.7171,2,  34.7167,2,    194.1,2,   193.9,2,  111.47,2,   32.34,2,    0.00,2,    2.22,2,-999.000,9,-999.000,9, -999.00,9,  2265.6,2,  2366.4,2,   7.6725,2,       20,-999.000,9,-999.0000,9, -999.00,9,   1.4341,2, -999.00,9,  -999.0,9, -999.00,9,  -999.0,9, -999.00,9,     -999.0,9,     -999.0,9, -999.00,9, 20140420,     2116, -39.6671,-150.0003,    34.8804,2,     -999.0,9,     -999.0,9,     -999.0,9,     -999.0,9,     -999.0,9,     -999.0,9
320620140320,       P16S,      53,          1,          4,         04,2,20140420,       2034,   -39.6671,  -150.0003,     -999.0,  4265.3,   1.2265,  34.7143,2,  34.7139,2,    200.4,2,   199.9,2,  116.36,2,   32.36,2,    0.00,2,    2.22,2,   0.007,2,   0.001,2,    0.03,2,  2265.4,2,  2369.1,2,   7.6791,2,       20,-999.000,9,-999.0000,9, -999.00,9,   1.2263,2, -999.00,9,  -999.0,9, -999.00,9,  -999.0,9, -999.00,9,      20.38,2,     -999.0,9, -999.00,9, 20140420,     2107, -39.6669,-150.0003,    34.8776,2,     -999.0,9,     -999.0,9,     -999.0,9,     -999.0,9,     -999.0,9,     -999.0,9
320620140320,       P16S,      53,          1,          3,         03,2,20140420,       2034,   -39.6671,  -150.0003,     -999.0,  4661.4,   1.1648,  34.7125,2,  34.7121,2,    202.1,2,   202.1,2,  118.80,2,   32.47,2,    0.00,2,    2.23,2,   0.009,2,   0.005,2,    0.01,2,  2266.5,2,  2371.7,2,   7.6803,6,       20,-999.000,9,-999.0000,9, -999.00,9,   1.1647,2, -999.00,9,  -999.0,9, -999.00,9,  -999.0,9, -999.00,9,      20.06,2,     -999.0,1, -999.00,9, 20140420,     2056, -39.6669,-150.0003,    34.8758,2,     -999.0,9,     -999.0,9,     -999.0,9,     -999.0,9,     -999.0,9,     -999.0,9
320620140320,       P16S,      53,          1,          2,         02,2,20140420,       2034,   -39.6671,  -150.0003,     -999.0,  5048.2,   1.1615,  34.7112,2,  34.7105,2,    203.0,2,   202.9,2,  119.09,2,   32.48,2,    0.00,2,    2.23,2,-999.000,9,-999.000,9, -999.00,9,  2265.3,2,  2370.7,2,   7.6793,2,       20,-999.000,9,-999.0000,9, -999.00,9,   1.1612,2, -999.00,9,  -999.0,9, -999.00,9,  -999.0,9, -999.00,9,     -999.0,9,     -999.0,9, -999.00,9, 20140420,     2045, -39.6669,-150.0003,    34.8742,2,     -999.0,9,     -999.0,9,     -999.0,9,     -999.0,9,     -999.0,9,     -999.0,9
320620140320,       P16S,      53,          1,          1,         01,2,20140420,       2034,   -39.6671,  -150.0003,     -999.0,  5359.4,   1.1667,  34.7101,2,  34.7099,2,    204.1,2,   203.3,2,  120.07,2,   32.45,2,    0.00,2,    2.22,2,   0.018,2,   0.002,2,    0.00,2,    2267,6,    2370,2,   7.6777,2,       20,-999.000,9,-999.0000,9, -999.00,9,   1.1663,2, -999.00,9,  -999.0,9, -999.00,9,  -999.0,9, -999.00,9,      20.38,2,     -999.0,1, -999.00,9, 20140420,     2034, -39.6671,-150.0003,    34.8736,2,     -999.0,9,     -999.0,9,     -999.0,9,     -999.0,9,     -999.0,9,     -999.0,9