BOTTLE,20230715CCHSIOCBG
EXPOCODE,SECT_ID,STNNBR,CASTNO,SAMPNO,BTLNBR,BTLNBR_FLAG_W,DATE,TIME,LATITUDE,LONGITUDE,DEPTH,CTDPRS,CTDTMP,CTDSAL,CTDSAL_FLAG_W,SALNTY,SALNTY_FLAG_W,CTDOXY,CTDOXY_FLAG_W,OXYGEN,OXYGEN_FLAG_W,SILCAT,SILCAT_FLAG_W,NITRAT,NITRAT_FLAG_W,NITRIT,NITRIT_FLAG_W,PHSPHT,PHSPHT_FLAG_W,CFC-11,CFC-11_FLAG_W,CFC-12,CFC-12_FLAG_W,SF6,SF6_FLAG_W,TCARBN,TCARBN_FLAG_W,ALKALI,ALKALI_FLAG_W,PH_TOT,PH_TOT_FLAG_W,PH_TMP,TRITUM,TRITUM_FLAG_W,HELIUM,HELIUM_FLAG_W,DELHE3,DELHE3_FLAG_W,REFTMP,REFTMP_FLAG_W,DELC13,DELC13_FLAG_W,DELC14,DELC14_FLAG_W,DELO18,DELO18_FLAG_W,DOC,DOC_FLAG_W,TDN,TDN_FLAG_W,N2O,N2O_FLAG_W,CALCIUM,CALCIUM_FLAG_W,D15N_NO3,D15N_NO3_FLAG_W,BTL_DATE,BTL_TIME,BTL_LAT,BTL_LON,SALTREF,SALTREF_FLAG_W,D18O_NO3,D18O_NO3_FLAG_W,DSI30,DSI30_FLAG_W,CDOM_NASA,CDOM_NASA_FLAG_W,CDOM_UCSB,CDOM_UCSB_FLAG_W,D15N_NO2+NO3,D15N_NO2+NO3_FLAG_W,D18O_NO2+NO3,D18O_NO2+NO3_FLAG_W
,,,,,,,,,,,METERS,DBAR,ITS-90,PSS-78,,PSS-78,,UMOL/KG,,UMOL/KG,,UMOL/KG,,UMOL/KG,,UMOL/KG,,UMOL/KG,,PMOL/KG,,PMOL/KG,,FMOL/KG,,UMOL/KG,,UMOL/KG,,,,DEG C,TU,,NMOL/KG,,PERCNT,,DEG C,,/MILLE,,/MILLE,,/MILLE,,UMOL/KG,,UMOL/KG,,NMOL/KG,,MMOL/KG,,/MILLE,,,,,,G/KG,,/MILLE,,/MILLE,,,,,,/MILLE,,/MILLE,
320620140320,       P16S,      86,          2,         36,         36,2,20140503,       0041,   -17.6668,  -150.0002,       5632,     5.0,  28.0226,  35.4865,2,  35.4880,2,    198.6,2,   197.6,2,    0.88,2,    0.03,2,    0.01,2,    0.20,2,   1.482,2,   0.923,2,    1.43,2,  1983.7,2,  2335.8,2,   8.2012,2,       20,-999.000,9,-999.0000,9, -999.00,9,  28.0191,2, -999.00,9,  -999.0,9, -999.00,9,    73.9,2,    4.91,2,       6.19,2,     -999.0,9, -999.00,9, 20140503,      213, -17.6668,-150.0002,    35.6554,2,     -999.0,9,     -999.0,9,     -999.0,9,     -999.0,9,     -999.0,9,     -999.0,9
320620140320,       P16S,      86,          2,         35,         35,2,20140503,       0041,   -17.6668,  -150.0002,       5632,    19.1,  27.9233,  35.4843,2,  35.4835,2,    197.6,2,   197.9,2,    0.98,2,    0.02,2,    0.00,2,    0.20,2,-999.000,9,-999.000,9, -999.00,9,  1983.4,2,  2335.7,2,    8.202,2,       20,-999.000,9,-999.0000,9, -999.00,9,  27.9355,2, -999.00,9,  -999.0,9, -999.00,9,    72.3,2,    4.51,2,     -999.0,9,     -999.0,9, -999.00,9, 20140503,      211, -17.6668,-150.0002,    35.6508,2,     -999.0,9,     -999.0,9,     -999.0,9,     -999.0,9,     -999.0,9,     -999.0,9
320620140320,       P16S,      86,          2,         34,         34,2,20140503,       0041,   -17.6668,  -150.0002,       5632,    40.1,  27.8172,  35.4964,2,  35.4995,2,    198.3,2,   197.7,2,    0.98,2,    0.01,2,    0.00,2,    0.20,2,-999.000,9,-999.000,9, -999.00,9,  -999.0,9,  -999.0,9,-999.0000,9,  -999.00,-999.000,9,-999.0000,9, -999.00,9,  27.8145,2, -999.00,9,  -999.0,9, -999.00,9,    74.6,2,    4.51,2,     -999.0,9,     -999.0,9, -999.00,9, 20140503,      209, -17.6668,-150.0002,    35.6669,2,     -999.0,9,     -999.0,9,     -999.0,9,     -999.0,9,     -999.0,9,     -999.0,9
320620140320,       P16S,      86,          2,         33,         33,2,20140503,       0041,   -17.6668,  -150.0002,       5632,    64.3,  27.7454,  35.5349,2,  35.6413,2,    198.8,2,   201.1,2,    0.98,2,    0.00,2,    0.00,2,    0.20,2,   1.507,2,   0.951,2,    1.35,2,  1995.1,2,    2346,2,   8.1968,2,       20,-999.000,9,-999.0000,9, -999.00,9,  27.7200,3, -999.00,9,  -999.0,9, -999.00,9,    71.8,2,    4.61,2,       6.38,2,     -999.0,9, -999.00,9, 20140503,      208, -17.6668,-150.0002,    35.8094,2,     -999.0,9,     -999.0,9,     -999.0,9,     -999.0,9,     -999.0,9,     -999.0,9
320620140320,       P16S,      86,          2,         32,         32,2,20140503,       0041,   -17.6668,  -150.0002,       5632,    89.7,  25.7201,  36.1890,2,-999.0000,9,   -999.0,9,  -999.0,9, -999.00,9, -999.00,9, -999.00,9, -999.00,9,-999.000,9,-999.000,9, -999.00,9,  -999.0,9,  -999.0,9,-999.0000,9,  -999.00,-999.000,9,-999.0000,9, -999.00,9,  25.7222,2, -999.00,9,  -999.0,9, -999.00,9,  -999.0,9, -999.00,9,     -999.0,9,     -999.0,9, -999.00,9, 20140503,      206, -17.6668,-150.0002,     -999.0,9,     -999.0,9,     -999.0,9,     -999.0,9,     -999.0,9,     -999.0,9,     -999.0,9
320620140320,       P16S,      86,          2,         31,         31,2,20140503,       0041,   -17.6668,  -150.0002,       5632,    89.7,  25.7214,  36.1890,2,  36.1883,2,    203.5,2,   203.3,2,    1.08,2,    0.00,2,    0.00,2,    0.27,2,-999.000,9,-999.000,9, -999.00,9,  2047.7,2,  2383.6,6,   8.1616,2,       20,-999.000,9,-999.0000,9, -999.00,9,  25.7229,2, -999.00,9,  -999.0,9, -999.00,9,    68.3,2,     3.2,2,     -999.0,9,     -999.0,9, -999.00,9, 20140503,      206, -17.6668,-150.0002,    36.3590,2,     -999.0,9,     -999.0,9,     -999.0,9,     -999.0,9,     -999.0,9,     -999.0,9
320620140320,       P16S,      86,          2,         30,         30,2,20140503,       0041,   -17.6668,  -150.0002,       5632,   114.8,  24.5279,  36.1786,2,  36.1786,2,    191.9,2,   192.4,2,    1.08,2,    0.64,2,    0.28,2,    0.30,2,   1.746,2,   1.076,2,    1.32,2,  -999.0,9,  -999.0,9,-999.0000,9,  -999.00,-999.000,9,-999.0000,9, -999.00,9,  24.5338,2, -999.00,9,  -999.0,9, -999.00,9,    64.8,2,    4.86,2,       7.42,2,     -999.0,9, -999.00,9, 20140503,      204, -17.6668,-150.0002,    36.3492,2,     -999.0,9,     -999.0,9,     -999.0,9,     -999.0,9,     -999.0,9,     -999.0,9
320620140320,       P16S,      86,          2,         29,         29,2,20140503,       0041,   -17.6668,  -150.0002,       5632,   139.4,  23.5463,  36.1270,2,  36.1260,2,    190.9,2,   192.5,2,    0.98,2,    0.85,2,    0.16,2,    0.31,2,-999.000,9,-999.000,9, -999.00,9,  2066.5,6,  2375.6,2,   8.1204,2,       20,-999.000,9,-999.0000,9, -999.00,9,  23.5560,2, -999.00,9,  -999.0,9, -999.00,9,      61,2,    4.01,2,     -999.0,9,     -999.0,9, -999.00,9, 20140503,      203, -17.6668,-150.0002,    36.2964,2,     -999.0,9,     -999.0,9,     -999.0,9,     -999.0,9,     -999.0,9,     -999.0,9
320620140320,       P16S,      86,          2,         28,         28,2,20140503,       0041,   -17.6668,  -150.0002,       5632,   140.1,  23.5513,  36.1261,2,-999.0000,9,   -999.0,9,  -999.0,9, -999.00,9, -999.00,9, -999.00,9, -999.00,9,-999.000,9,-999.000,9, -999.00,9,  -999.0,9,  -999.0,9,-999.0000,9,  -999.00,-999.000,9,-999.0000,9, -999.00,9,  23.5487,2, -999.00,9,  -999.0,9, -999.00,9,  -999.0,9, -999.00,9,     -999.0,9,     -999.0,9, -999.00,9, 20140503,      203, -17.6668,-150.0002,     -999.0,9,     -999.0,9,     -999.0,9,     -999.0,9,     -999.0,9,     -999.0,9,     -999.0,9
320620140320,       P16S,      86,          2,         27,         27,2,20140503,       0041,   -17.6668,  -150.0002,       5632,   185.8,  22.6060,  36.1496,2,  36.1535,2,    171.0,2,   171.1,2,    1.27,2,    3.95,2,    0.02,2,    0.56,2,   1.886,2,   1.146,2,    1.51,2,  2103.7,2,  2377.8,2,   8.0596,2,       20,-999.000,9,-999.0000,9, -999.00,9,  22.6134,2, -999.00,9,  -999.0,9, -999.00,9,    55.3,2,     7.1,2,       8.11,2,     -999.0,9, -999.00,9, 20140503,      201, -17.6668,-150.0002,    36.3240,2,     -999.0,9,     -999.0,9,     -999.0,9,     -999.0,9,     -999.0,9,     -999.0,9
320620140320,       P16S,      86,          2,         26,         26,2,20140503,       0041,   -17.6668,  -150.0002,       5632,   233.7,  20.7209,  35.8743,2,  35.8740,2,    176.7,2,   178.7,2,    1.27,2,    3.73,2,    0.01,2,    2.20,4,-999.000,9,-999.000,9, -999.00,9,  2100.5,2,  2358.3,2,   8.0376,2,       20,-999.000,9,-999.0000,9, -999.00,9,  20.7467,2, -999.00,9,  -999.0,9, -999.00,9,    50.7,2,    6.16,2,     -999.0,9,     -999.0,9, -999.00,9, 20140503,      159, -17.6668,-150.0002,    36.0431,2,     -999.0,9,     -999.0,9,     -999.0,9,     -999.0,9,     -999.0,9,     -999.0,9
320620140320,       P16S,      86,          2,         25,         25,2,20140503,       0041,   -17.6668,  -150.0002,       5632,   284.5,  17.8050,  35.4229,2,  35.4097,2,    174.2,2,   175.9,2,    2.05,2,    6.52,2,    0.01,2,    0.64,2,   2.365,2,   1.363,2,    1.49,2,  2108.3,2,  2329.5,2,   7.9713,6,       20,-999.000,9,-999.0000,9, -999.00,9,  17.8338,3, -999.00,9,  -999.0,9, -999.00,9,    50.6,2,    9.72,2,      13.02,2,     -999.0,9, -999.00,9, 20140503,      157, -17.6668,-150.0002,    35.5767,2,     -999.0,9,     -999.0,9,     -999.0,9,     -999.0,9,     -999.0,9,     -999.0,9
320620140320,       P16S,      86,          2,         24,         24,2,20140503,       0041,   -17.6668,  -150.0002,       5632,   334.5,  15.5544,  35.1154,2,  35.1154,2,    177.4,2,   176.7,2,    2.94,2,    8.67,2,    0.01,2,    0.76,2,-999.000,9,-999.000,9, -999.00,9,  2112.3,2,    2310,2,   7.9308,2,       20,-999.000,9,-999.0000,9, -999.00,9,  15.6138,3, -999.00,9,  -999.0,9, -999.00,9,      47,2,   11.81,2,     -999.0,9,     -999.0,9, -999.00,9, 20140503,      155, -17.6668,-150.0002,    35.2809,2,     -999.0,9,     -999.0,9,     -999.0,9,     -999.0,9,     -999.0,9,     -999.0,9
320620140320,       P16S,      86,          2,         23,         23,2,20140503,       0041,   -17.6668,  -150.0002,       5632,   385.2,  13.1550,  34.8308,2,  34.8245,2,    155.8,2,   155.5,2,    6.56,2,   14.91,2,    0.01,2,    1.23,2,   2.354,2,   1.245,2,    0.86,2,  2142.5,2,  2296.9,2,   7.8298,2,       20,-999.000,9,-999.0000,9, -999.00,9,  13.1247,2, -999.00,9,  -999.0,9, -999.00,9,    45.1,2,   16.08,2,      21.81,2,     -999.0,9, -999.00,9, 20140503,      153, -17.6668,-150.0002,    34.9887,2,     -999.0,9,     -999.0,9,     -999.0,9,     -999.0,9,     -999.0,9,     -999.0,9
320620140320,       P16S,      86,          2,         22,         22,2,20140503,       0041,   -17.6668,  -150.0002,       5632,   433.9,  10.3784,  34.5914,2,  34.5914,2,    145.9,2,   146.2,2,   11.36,2,   21.42,2,    0.00,2,    1.65,2,-999.000,9,-999.000,9, -999.00,9,  2169.1,2,  2286.8,2,   7.7372,2,       20,-999.000,9,-999.0000,9, -999.00,9,  10.3795,2, -999.00,9,  -999.0,9, -999.00,9,    45.6,2,   24.05,2,     -999.0,9,     -999.0,9, -999.00,9, 20140503,      151, -17.6668,-150.0002,    34.7545,2,     -999.0,9,     -999.0,9,     -999.0,9,     -999.0,9,     -999.0,9,     -999.0,9
320620140320,       P16S,      86,          2,         21,         21,2,20140503,       0041,   -17.6668,  -150.0002,       5632,   484.6,   8.6285,  34.4917,2,  34.4922,2,    142.8,2,   142.8,2,   16.55,2,   26.03,2,    0.00,2,    1.92,2,   1.520,2,   0.773,2,    0.17,2,  2187.2,2,    2286,2,   7.6829,2,       20,-999.000,9,-999.0000,9, -999.00,9,   8.6273,2, -999.00,9,  -999.0,9, -999.00,9,    44.1,2,   29.13,2,      30.83,2,     -999.0,9, -999.00,9, 20140503,      149, -17.6668,-150.0002,    34.6549,2,     -999.0,9,     -999.0,9,     -999.0,9,     -999.0,9,     -999.0,9,     -999.0,9
320620140320,       P16S,      86,          2,         20,         20,2,20140503,       0041,   -17.6668,  -150.0002,       5632,   534.5,   7.5543,  34.4583,2,  34.4585,2,    143.9,2,   142.8,2,   21.44,2,   28.73,2,    0.00,2,    2.07,2,   1.112,2,   0.588,2,    0.10,2,  2198.4,2,  2289.6,2,   7.6596,2,       20,-999.000,9,-999.0000,9, -999.00,9,   7.5624,2, -999.00,9,  -999.0,9, -999.00,9,    41.7,2,    32.6,2,      31.34,2,     -999.0,9, -999.00,9, 20140503,      147, -17.6668,-150.0002,    34.6210,2,     -999.0,9,     -999.0,9,     -999.0,9,     -999.0,9,     -999.0,9,     -999.0,9
320620140320,       P16S,      86,          2,         19,         19,2,20140503,       0041,   -17.6668,  -150.0002,       5632,   598.8,   6.8705,  34.4440,2,  34.4434,2,    145.9,2,   146.0,2,   25.65,2,   30.25,2,    0.00,2,    2.13,2,   0.839,2,   0.369,2,    0.06,2,  2204.3,2,  2293.2,2,    7.653,2,       20,-999.000,9,-999.0000,9, -999.00,9,   6.8737,2, -999.00,9,  -999.0,9, -999.00,9,    40.9,2, -999.00,9,      30.64,2,     -999.0,9, -999.00,9, 20140503,      144, -17.6668,-150.0002,    34.6058,2,     -999.0,9,     -999.0,9,     -999.0,9,     -999.0,9,     -999.0,9,     -999.0,9
320620140320,       P16S,      86,          2,         18,         18,2,20140503,       0041,   -17.6668,  -150.0002,       5632,   664.1,   6.2816,  34.4429,2,  34.4432,2,    147.0,2,   146.8,2,   31.23,2,   31.54,2,    0.00,2,    2.20,2,-999.000,9,-999.000,9, -999.00,9,  -999.0,9,  -999.0,9,-999.0000,9,  -999.00,-999.000,9,-999.0000,9, -999.00,9,   6.2825,2, -999.00,9,  -999.0,9, -999.00,9,    39.3,2, -999.00,9,     -999.0,9,     -999.0,9, -999.00,9, 20140503,      142, -17.6668,-150.0002,    34.6056,2,     -999.0,9,     -999.0,9,     -999.0,9,     -999.0,9,     -999.0,9,     -999.0,9
320620140320,       P16S,      86,          2,         17,         17,2,20140503,       0041,   -17.6668,  -150.0002,       5632,   764.3,   5.2907,  34.4524,2,  34.4520,2,    145.6,2,   145.6,2,   44.06,2,   33.44,2,    0.00,2,    2.32,2,   0.244,2,   0.097,2,    0.06,2,  2228.2,2,  2311.2,2,    7.635,2,       20,-999.000,9,-999.0000,9, -999.00,9,   5.2895,2, -999.00,9,  -999.0,9, -999.00,9,    40.9,2, -999.00,9,      29.76,2,     -999.0,9, -999.00,9, 20140503,      139, -17.6668,-150.0002,    34.6145,2,     -999.0,9,     -999.0,9,     -999.0,9,     -999.0,9,     -999.0,9,     -999.0,9
320620140320,       P16S,      86,          2,         16,         16,2,20140503,       0041,   -17.6668,  -150.0002,       5632,   866.6,   4.6573,  34.4703,2,  34.4705,2,    146.3,2,   146.6,2,   55.12,2,   34.27,2,    0.00,2,    2.38,2,-999.000,9,-999.000,9, -999.00,9,  2241.1,2,  2323.1,2,   7.6312,2,       20,-999.000,9,-999.0000,9, -999.00,9,   4.6553,2, -999.00,9,  -999.0,9, -999.00,9,    39.8,2, -999.00,9,     -999.0,9,     -999.0,9, -999.00,9, 20140503,      136, -17.6668,-150.0002,    34.6330,2,     -999.0,9,     -999.0,9,     -999.0,9,     -999.0,9,     -999.0,9,     -999.0,9
320620140320,       P16S,      86,          2,         15,         15,2,20140503,       0041,   -17.6668,  -150.0002,       5632,   965.1,   4.2105,  34.4883,2,  34.4881,2,    145.9,2,   145.7,2,   63.35,2,   34.84,2,    0.00,2,    2.42,2,   0.057,2,   0.023,2,    0.01,2,  2248.9,2,  2331.5,2,-999.0000,9,  -999.00,-999.000,9,-999.0000,9, -999.00,9,   4.2106,2, -999.00,9,  -999.0,9, -999.00,9,    39.2,2, -999.00,9,      27.89,2,     -999.0,9, -999.00,9, 20140503,      133, -17.6668,-150.0002,    34.6508,2,     -999.0,9,     -999.0,9,     -999.0,9,     -999.0,9,     -999.0,9,     -999.0,9
320620140320,       P16S,      86,          2,         14,         14,2,20140503,       0041,   -17.6668,  -150.0002,       5632,  1065.7,   3.7694,  34.5111,2,  34.5115,2,    145.4,2,   145.5,2,   72.55,2,   35.21,2,    0.00,2,    2.45,2,-999.000,9,-999.000,9, -999.00,9,  -999.0,9,  -999.0,9,-999.0000,9,  -999.00,-999.000,9,-999.0000,9, -999.00,9,   3.7707,2, -999.00,9,  -999.0,9, -999.00,9,    37.3,2, -999.00,9,     -999.0,9,     -999.0,9, -999.00,9, 20140503,      130, -17.6668,-150.0002,    34.6742,2,     -999.0,9,     -999.0,9,     -999.0,9,     -999.0,9,     -999.0,9,     -999.0,9
320620140320,       P16S,      86,          2,         13,         13,2,20140503,       0041,   -17.6668,  -150.0002,       5632,  1164.5,   3.3938,  34.5331,2,  34.5331,2,    145.2,2,   145.1,2,   81.26,2,   35.52,2,    0.00,2,    2.48,2,-999.000,9,-999.000,9, -999.00,9,  2269.8,2,  2350.9,2,   7.6232,2,       20,-999.000,9,-999.0000,9, -999.00,9,   3.4005,3, -999.00,9,  -999.0,9, -999.00,9,    37.8,2, -999.00,9,     -999.0,9,     -999.0,9, -999.00,9, 20140503,      128, -17.6668,-150.0002,    34.6959,2,     -999.0,9,     -999.0,9,     -999.0,9,     -999.0,9,     -999.0,9,     -999.0,9
320620140320,       P16S,      86,          2,         12,         12,2,20140503,       0041,   -17.6668,  -150.0002,       5632,  1264.2,   3.1898,  34.5458,2,  34.5453,2,    145.9,2,   145.6,2,   86.45,2,   35.65,2,    0.00,2,    2.49,2,   0.006,2,   0.000,2,    0.00,2,  -999.0,9,  -999.0,9,-999.0000,9,  -999.00,-999.000,9,-999.0000,9, -999.00,9,   3.1914,2, -999.00,9,  -999.0,9, -999.00,9,    36.9,2, -999.00,9,      25.95,2,     -999.0,9, -999.00,9, 20140503,      125, -17.6668,-150.0002,    34.7082,2,     -999.0,9,     -999.0,9,     -999.0,9,     -999.0,9,     -999.0,9,     -999.0,9
320620140320,       P16S,      86,          2,         11,         11,2,20140503,       0041,   -17.6668,  -150.0002,       5632,  1365.1,   2.9848,  34.5609,2,  34.5612,2,    146.4,2,   146.7,2,   91.15,2,   35.75,2,    0.00,2,    2.49,2,-999.000,9,-999.000,9, -999.00,9,  2279.9,2,  2361.7,2,    7.625,2,       20,-999.000,9,-999.0000,9, -999.00,9,   2.9856,2, -999.00,9,  -999.0,9, -999.00,9,      37,2, -999.00,9,     -999.0,9,     -999.0,9, -999.00,9, 20140503,      122, -17.6668,-150.0002,    34.7242,2,     -999.0,9,     -999.0,9,     -999.0,9,     -999.0,9,     -999.0,9,     -999.0,9
320620140320,       P16S,      86,          2,         10,         10,2,20140503,       0041,   -17.6668,  -150.0002,       5632,  1464.3,   2.7983,  34.5754,2,  34.5755,2,    147.1,2,   146.7,2,   96.24,2,   35.73,2,    0.00,2,    2.48,2,-999.000,9,-999.000,9, -999.00,9,  -999.0,9,  -999.0,9,-999.0000,9,  -999.00,-999.000,9,-999.0000,9, -999.00,9,   2.7985,2, -999.00,9,  -999.0,9, -999.00,9,    36.4,2, -999.00,9,     -999.0,9,     -999.0,9, -999.00,9, 20140503,      119, -17.6668,-150.0002,    34.7386,2,     -999.0,9,     -999.0,9,     -999.0,9,     -999.0,9,     -999.0,9,     -999.0,9
320620140320,       P16S,      86,          2,          9,         09,2,20140503,       0041,   -17.6668,  -150.0002,       5632,  1565.2,   2.6250,  34.5904,2,  34.5906,2,    147.7,2,   147.8,2,  100.94,2,   35.72,2,    0.00,2,    2.49,2,   0.003,2,   0.000,2,    0.00,2,  2288.6,2,  2373.2,2,   7.6283,2,       20,-999.000,9,-999.0000,9, -999.00,9,   2.6253,2, -999.00,9,  -999.0,9, -999.00,9,    36.6,2, -999.00,9,      24.41,2,     -999.0,9, -999.00,9, 20140503,      116, -17.6668,-150.0002,    34.7537,2,     -999.0,9,     -999.0,9,     -999.0,9,     -999.0,9,     -999.0,9,     -999.0,9
320620140320,       P16S,      86,          2,          8,         08,2,20140503,       0041,   -17.6668,  -150.0002,       5632,  1666.0,   2.4850,  34.6030,2,  34.6028,2,    148.5,2,   148.4,2,  105.05,2,   35.70,2,    0.00,2,    2.48,2,-999.000,9,-999.000,9, -999.00,9,  2292.4,2,  2376.7,2,   7.6299,2,       20,-999.000,9,-999.0000,9, -999.00,9,   2.4860,2, -999.00,9,  -999.0,9, -999.00,9,    36.5,2, -999.00,9,     -999.0,9,     -999.0,9, -999.00,9, 20140503,      113, -17.6668,-150.0002,    34.7660,2,     -999.0,9,     -999.0,9,     -999.0,9,     -999.0,9,     -999.0,9,     -999.0,9
320620140320,       P16S,      86,          2,          7,         07,2,20140503,       0041,   -17.6668,  -150.0002,       5632,  1936.2,   2.2124,  34.6269,2,  34.6274,2,    151.2,2,   151.1,2,  112.68,2,   35.62,2,    0.00,2,    2.46,2,-999.000,9,-999.000,9, -999.00,9,  2297.7,2,  2385.6,2,   7.6348,2,       20,-999.000,9,-999.0000,9, -999.00,9,   2.2119,2, -999.00,9,  -999.0,9, -999.00,9,    36.4,2, -999.00,9,     -999.0,9,     -999.0,9, -999.00,9, 20140503,      107, -17.6668,-150.0002,    34.7907,2,     -999.0,9,     -999.0,9,     -999.0,9,     -999.0,9,     -999.0,9,     -999.0,9
320620140320,       P16S,      86,          2,          6,         06,2,20140503,       0041,   -17.6668,  -150.0002,       5632,  2133.6,   2.0425,  34.6419,2,  34.6415,2,    153.7,2,   153.5,2,  116.99,2,   35.46,2,    0.00,2,    2.46,2,-999.000,9,-999.000,9, -999.00,9,  -999.0,9,  -999.0,9,-999.0000,9,  -999.00,-999.000,9,-999.0000,9, -999.00,9,   2.0457,2, -999.00,9,  -999.0,9, -999.00,9,    36.5,2, -999.00,9,     -999.0,9,     -999.0,9, -999.00,9, 20140503,      103, -17.6668,-150.0002,    34.8049,2,     -999.0,9,     -999.0,9,     -999.0,9,     -999.0,9,     -999.0,9,     -999.0,9