BOTTLE,20230715CCHSIOCBG
EXPOCODE,SECT_ID,STNNBR,CASTNO,SAMPNO,BTLNBR,BTLNBR_FLAG_W,DATE,TIME,LATITUDE,LONGITUDE,DEPTH,CTDPRS,CTDTMP,CTDSAL,CTDSAL_FLAG_W,SALNTY,SALNTY_FLAG_W,CTDOXY,CTDOXY_FLAG_W,OXYGEN,OXYGEN_FLAG_W,SILCAT,SILCAT_FLAG_W,NITRAT,NITRAT_FLAG_W,NITRIT,NITRIT_FLAG_W,PHSPHT,PHSPHT_FLAG_W,CFC-11,CFC-11_FLAG_W,CFC-12,CFC-12_FLAG_W,SF6,SF6_FLAG_W,TCARBN,TCARBN_FLAG_W,ALKALI,ALKALI_FLAG_W,PH_TOT,PH_TOT_FLAG_W,PH_TMP,TRITUM,TRITUM_FLAG_W,HELIUM,HELIUM_FLAG_W,DELHE3,DELHE3_FLAG_W,REFTMP,REFTMP_FLAG_W,DELC13,DELC13_FLAG_W,DELC14,DELC14_FLAG_W,DELO18,DELO18_FLAG_W,DOC,DOC_FLAG_W,TDN,TDN_FLAG_W,N2O,N2O_FLAG_W,CALCIUM,CALCIUM_FLAG_W,D15N_NO3,D15N_NO3_FLAG_W,BTL_DATE,BTL_TIME,BTL_LAT,BTL_LON,SALTREF,SALTREF_FLAG_W,D18O_NO3,D18O_NO3_FLAG_W,DSI30,DSI30_FLAG_W,CDOM_NASA,CDOM_NASA_FLAG_W,CDOM_UCSB,CDOM_UCSB_FLAG_W,D15N_NO2+NO3,D15N_NO2+NO3_FLAG_W,D18O_NO2+NO3,D18O_NO2+NO3_FLAG_W
,,,,,,,,,,,METERS,DBAR,ITS-90,PSS-78,,PSS-78,,UMOL/KG,,UMOL/KG,,UMOL/KG,,UMOL/KG,,UMOL/KG,,UMOL/KG,,PMOL/KG,,PMOL/KG,,FMOL/KG,,UMOL/KG,,UMOL/KG,,,,DEG C,TU,,NMOL/KG,,PERCNT,,DEG C,,/MILLE,,/MILLE,,/MILLE,,UMOL/KG,,UMOL/KG,,NMOL/KG,,MMOL/KG,,/MILLE,,,,,,G/KG,,/MILLE,,/MILLE,,,,,,/MILLE,,/MILLE,
320620140320,       P16S,      80,          3,          5,         05,2,20140501,       0026,   -21.6662,  -150.0006,       4691,  3500.2,   1.5681,  34.6833,2,  34.6833,2,    170.6,2,   171.0,2,  124.98,2,   34.30,2,    0.00,2,    2.39,2,-999.000,9,-999.000,9, -999.00,9,  2297.5,2,  2392.2,2,   7.6565,2,       20,-999.000,9,-999.0000,9, -999.00,9,   1.5681,2, -999.00,9,  -999.0,9, -999.00,9,    36.7,2, -999.00,9,     -999.0,9,     -999.0,9, -999.00,9, 20140501,       53, -21.6661,-150.0005,    34.8468,2,     -999.0,9,     -999.0,9,     -999.0,9,     -999.0,9,     -999.0,9,     -999.0,9
320620140320,       P16S,      80,          3,          4,         04,2,20140501,       0026,   -21.6662,  -150.0006,       4691,  3801.1,   1.4782,  34.6908,2,  34.6906,2,    177.6,2,   177.5,2,  123.81,2,   33.86,2,    0.00,2,    2.36,2,-999.000,9,-999.000,9, -999.00,9,  2290.7,2,  2388.5,2,    7.661,2,       20,-999.000,9,-999.0000,9, -999.00,9,   1.4779,2, -999.00,9,  -999.0,9, -999.00,9,    36.6,2, -999.00,9,     -999.0,9,     -999.0,9, -999.00,9, 20140501,       47, -21.6664,-150.0009,    34.8541,2,     -999.0,9,     -999.0,9,     -999.0,9,     -999.0,9,     -999.0,9,     -999.0,9
320620140320,       P16S,      80,          3,          3,         03,2,20140501,       0026,   -21.6662,  -150.0006,       4691,  4099.1,   1.3928,  34.6972,2,  34.6976,2,    184.5,2,   185.1,2,  122.44,2,   33.35,2,    0.00,2,    2.33,2,-999.000,9,-999.000,9, -999.00,9,  2286.1,2,  2384.1,2,   7.6662,2,       20,-999.000,9,-999.0000,9, -999.00,9,   1.3930,2, -999.00,9,  -999.0,9, -999.00,9,      38,2, -999.00,9,     -999.0,9,     -999.0,9, -999.00,9, 20140501,       40, -21.6662,-150.0006,    34.8612,2,     -999.0,9,     -999.0,9,     -999.0,9,     -999.0,9,     -999.0,9,     -999.0,9
320620140320,       P16S,      80,          3,          2,         02,2,20140501,       0026,   -21.6662,  -150.0006,       4691,  4399.9,   1.3739,  34.7001,2,  34.7004,2,    187.8,2,   188.2,2,  121.85,2,   33.14,2,    0.00,2,    2.30,2,  -0.002,2,   0.002,2,    0.03,2,  2280.3,2,  2380.7,2,   7.6684,2,       20,-999.000,9,-999.0000,9, -999.00,9,   1.3737,2, -999.00,9,  -999.0,9, -999.00,9,    39.8,2, -999.00,9,      20.46,2,     -999.0,9, -999.00,9, 20140501,       34, -21.6662,-150.0005,    34.8640,2,     -999.0,9,     -999.0,9,     -999.0,9,     -999.0,9,     -999.0,9,     -999.0,9
320620140320,       P16S,      80,          3,          1,         01,2,20140501,       0026,   -21.6662,  -150.0006,       4691,  4760.2,   1.4063,  34.7007,2,  34.7011,2,    188.1,2,   188.3,2,  121.85,2,   33.09,2,    0.00,2,    2.30,2,   0.001,2,   0.001,2,    0.01,2,  2279.9,6,  2380.6,2,    7.669,2,       20,-999.000,9,-999.0000,9, -999.00,9,   1.4064,2, -999.00,9,  -999.0,9, -999.00,9,    38.1,2, -999.00,9,      21.36,2,     -999.0,9, -999.00,9, 20140501,       26, -21.6662,-150.0006,    34.8648,2,     -999.0,9,     -999.0,9,     -999.0,9,     -999.0,9,     -999.0,9,     -999.0,9