BOTTLE,20230715CCHSIOCBG
EXPOCODE,SECT_ID,STNNBR,CASTNO,SAMPNO,BTLNBR,BTLNBR_FLAG_W,DATE,TIME,LATITUDE,LONGITUDE,DEPTH,CTDPRS,CTDTMP,CTDSAL,CTDSAL_FLAG_W,SALNTY,SALNTY_FLAG_W,CTDOXY,CTDOXY_FLAG_W,OXYGEN,OXYGEN_FLAG_W,SILCAT,SILCAT_FLAG_W,NITRAT,NITRAT_FLAG_W,NITRIT,NITRIT_FLAG_W,PHSPHT,PHSPHT_FLAG_W,CFC-11,CFC-11_FLAG_W,CFC-12,CFC-12_FLAG_W,SF6,SF6_FLAG_W,TCARBN,TCARBN_FLAG_W,ALKALI,ALKALI_FLAG_W,PH_TOT,PH_TOT_FLAG_W,PH_TMP,TRITUM,TRITUM_FLAG_W,HELIUM,HELIUM_FLAG_W,DELHE3,DELHE3_FLAG_W,REFTMP,REFTMP_FLAG_W,DELC13,DELC13_FLAG_W,DELC14,DELC14_FLAG_W,DELO18,DELO18_FLAG_W,DOC,DOC_FLAG_W,TDN,TDN_FLAG_W,N2O,N2O_FLAG_W,CALCIUM,CALCIUM_FLAG_W,D15N_NO3,D15N_NO3_FLAG_W,BTL_DATE,BTL_TIME,BTL_LAT,BTL_LON,SALTREF,SALTREF_FLAG_W,D18O_NO3,D18O_NO3_FLAG_W,DSI30,DSI30_FLAG_W,CDOM_NASA,CDOM_NASA_FLAG_W,CDOM_UCSB,CDOM_UCSB_FLAG_W,D15N_NO2+NO3,D15N_NO2+NO3_FLAG_W,D18O_NO2+NO3,D18O_NO2+NO3_FLAG_W
,,,,,,,,,,,METERS,DBAR,ITS-90,PSS-78,,PSS-78,,UMOL/KG,,UMOL/KG,,UMOL/KG,,UMOL/KG,,UMOL/KG,,UMOL/KG,,PMOL/KG,,PMOL/KG,,FMOL/KG,,UMOL/KG,,UMOL/KG,,,,DEG C,TU,,NMOL/KG,,PERCNT,,DEG C,,/MILLE,,/MILLE,,/MILLE,,UMOL/KG,,UMOL/KG,,NMOL/KG,,MMOL/KG,,/MILLE,,,,,,G/KG,,/MILLE,,/MILLE,,,,,,/MILLE,,/MILLE,
320620140320,       P16S,      90,          1,          5,         05,2,20140504,       0803,   -15.0003,  -150.0001,       4388,  3399.4,   1.5321,  34.6850,2,  34.6853,2,    170.2,2,   171.8,2,  124.10,2,   34.39,2,    0.00,2,    2.39,2,-999.000,9,-999.000,9, -999.00,9,  2294.9,2,  2392.4,2,   7.6608,2,       20,-999.000,9,-999.0000,9, -999.00,9,   1.5324,2, -999.00,9,  -999.0,9, -999.00,9,    36.9,2, -999.00,9,     -999.0,9,     -999.0,9, -999.00,9, 20140504,      826, -15.0003,-150.0001,    34.8488,2,     -999.0,9,     -999.0,9,     -999.0,9,     -999.0,9,     -999.0,9,     -999.0,9
320620140320,       P16S,      90,          1,          4,         04,2,20140504,       0803,   -15.0003,  -150.0001,       4388,  3699.0,   1.4636,  34.6905,2,  34.6898,2,    178.0,2,   177.8,2,  122.53,2,   33.93,2,    0.00,2,    2.36,2,  -0.001,2,   0.000,2,    0.01,2,  -999.0,9,  -999.0,9,-999.0000,9,  -999.00,-999.000,9,-999.0000,9, -999.00,9,   1.4635,2, -999.00,9,  -999.0,9, -999.00,9,    35.2,2, -999.00,9,      21.06,2,     -999.0,9, -999.00,9, 20140504,      820, -15.0003,-150.0001,    34.8534,2,     -999.0,9,     -999.0,9,     -999.0,9,     -999.0,9,     -999.0,9,     -999.0,9
320620140320,       P16S,      90,          1,          3,         03,2,20140504,       0803,   -15.0003,  -150.0001,       4388,  3999.7,   1.4350,  34.6940,2,  34.6937,2,    181.4,2,   181.2,2,  122.14,2,   33.66,2,    0.00,2,    2.34,2,-999.000,9,-999.000,9, -999.00,9,  2286.8,2,  2386.7,2,   7.6688,2,       20,-999.000,9,-999.0000,9, -999.00,9,   1.4353,2, -999.00,9,  -999.0,9, -999.00,9,      41,2, -999.00,9,     -999.0,9,     -999.0,9, -999.00,9, 20140504,      814, -15.0003,-150.0001,    34.8573,2,     -999.0,9,     -999.0,9,     -999.0,9,     -999.0,9,     -999.0,9,     -999.0,9
320620140320,       P16S,      90,          1,          2,         02,2,20140504,       0803,   -15.0003,  -150.0001,       4388,  4219.8,   1.4043,  34.6964,2,  34.6959,2,    184.1,2,   184.3,2,  122.04,2,   33.49,2,    0.00,2,    2.34,2,-999.000,9,-999.000,9, -999.00,9,  2284.2,2,  2384.2,2,   7.6699,2,       20,-999.000,9,-999.0000,9, -999.00,9,   1.4047,2, -999.00,9,  -999.0,9, -999.00,9,    37.1,2, -999.00,9,     -999.0,9,     -999.0,9, -999.00,9, 20140504,      809, -15.0002,-150.0001,    34.8595,2,     -999.0,9,     -999.0,9,     -999.0,9,     -999.0,9,     -999.0,9,     -999.0,9
320620140320,       P16S,      90,          1,          1,         01,2,20140504,       0803,   -15.0003,  -150.0001,       4388,  4443.9,   1.3918,  34.6980,2,  34.6979,2,    186.0,2,   186.2,2,  121.94,2,   33.36,2,    0.00,2,    2.34,2,  -0.001,2,   0.000,2,    0.00,2,  2283.8,2,    2384,2,   7.6726,2,       20,-999.000,9,-999.0000,9, -999.00,9,   1.3920,2, -999.00,9,  -999.0,9, -999.00,9,      39,2, -999.00,9,      20.70,2,     -999.0,9, -999.00,9, 20140504,      802, -15.0003,-150.0001,    34.8615,2,     -999.0,9,     -999.0,9,     -999.0,9,     -999.0,9,     -999.0,9,     -999.0,9