BOTTLE,20230715CCHSIOCBG
EXPOCODE,SECT_ID,STNNBR,CASTNO,SAMPNO,BTLNBR,BTLNBR_FLAG_W,DATE,TIME,LATITUDE,LONGITUDE,DEPTH,CTDPRS,CTDTMP,CTDSAL,CTDSAL_FLAG_W,SALNTY,SALNTY_FLAG_W,CTDOXY,CTDOXY_FLAG_W,OXYGEN,OXYGEN_FLAG_W,SILCAT,SILCAT_FLAG_W,NITRAT,NITRAT_FLAG_W,NITRIT,NITRIT_FLAG_W,PHSPHT,PHSPHT_FLAG_W,CFC-11,CFC-11_FLAG_W,CFC-12,CFC-12_FLAG_W,SF6,SF6_FLAG_W,TCARBN,TCARBN_FLAG_W,ALKALI,ALKALI_FLAG_W,PH_TOT,PH_TOT_FLAG_W,PH_TMP,TRITUM,TRITUM_FLAG_W,HELIUM,HELIUM_FLAG_W,DELHE3,DELHE3_FLAG_W,REFTMP,REFTMP_FLAG_W,DELC13,DELC13_FLAG_W,DELC14,DELC14_FLAG_W,DELO18,DELO18_FLAG_W,DOC,DOC_FLAG_W,TDN,TDN_FLAG_W,N2O,N2O_FLAG_W,CALCIUM,CALCIUM_FLAG_W,D15N_NO3,D15N_NO3_FLAG_W,BTL_DATE,BTL_TIME,BTL_LAT,BTL_LON,SALTREF,SALTREF_FLAG_W,D18O_NO3,D18O_NO3_FLAG_W,DSI30,DSI30_FLAG_W,CDOM_NASA,CDOM_NASA_FLAG_W,CDOM_UCSB,CDOM_UCSB_FLAG_W,D15N_NO2+NO3,D15N_NO2+NO3_FLAG_W,D18O_NO2+NO3,D18O_NO2+NO3_FLAG_W
,,,,,,,,,,,METERS,DBAR,ITS-90,PSS-78,,PSS-78,,UMOL/KG,,UMOL/KG,,UMOL/KG,,UMOL/KG,,UMOL/KG,,UMOL/KG,,PMOL/KG,,PMOL/KG,,FMOL/KG,,UMOL/KG,,UMOL/KG,,,,DEG C,TU,,NMOL/KG,,PERCNT,,DEG C,,/MILLE,,/MILLE,,/MILLE,,UMOL/KG,,UMOL/KG,,NMOL/KG,,MMOL/KG,,/MILLE,,,,,,G/KG,,/MILLE,,/MILLE,,,,,,/MILLE,,/MILLE,
320620140320,       P16S,      58,          3,         36,         36,2,20140423,       0348,   -36.3290,  -149.9924,     -999.0,     5.1,  19.3099,  34.9798,2,  34.9803,2,    231.7,2,   231.9,2,    0.59,2,    0.29,2,    0.01,2,    0.10,2,   2.292,2,   1.360,2,    1.49,2,  2045.8,2,  2299.3,2,   8.0449,2,       20,-999.000,9,-999.0000,9, -999.00,9,  19.3073,2, -999.00,9,  -999.0,9, -999.00,9,    65.6,2,    2.87,2,       7.75,2,     -999.0,9, -999.00,9, 20140423,      621, -36.3291,-149.9924,    35.1453,2,     -999.0,9,     -999.0,9,     -999.0,9,     -999.0,9,     -999.0,9,     -999.0,9
320620140320,       P16S,      58,          3,         34,         34,2,20140423,       0348,   -36.3290,  -149.9924,     -999.0,    35.2,  19.2779,  35.0088,2,-999.0000,9,   -999.0,9,  -999.0,9, -999.00,9, -999.00,9, -999.00,9, -999.00,9,-999.000,9,-999.000,9, -999.00,9,  -999.0,9,  -999.0,9,-999.0000,9,  -999.00,-999.000,9,-999.0000,9, -999.00,9,  19.2759,2, -999.00,9,  -999.0,9, -999.00,9,  -999.0,9, -999.00,9,     -999.0,9,     -999.0,9, -999.00,9, 20140423,      618, -36.3291,-149.9925,     -999.0,9,     -999.0,9,     -999.0,9,     -999.0,9,     -999.0,9,     -999.0,9,     -999.0,9
320620140320,       P16S,      58,          3,         35,         35,2,20140423,       0348,   -36.3290,  -149.9924,     -999.0,    35.6,  19.2800,  35.0091,2,  35.0095,2,    232.7,2,   232.5,2,    0.78,2,    0.24,2,    0.01,2,    0.07,2,   1.860,2,   1.279,2,    1.50,2,  2045.2,2,  2300.2,2,   8.0465,2,       20,-999.000,9,-999.0000,9, -999.00,9,  19.2752,2, -999.00,9,  -999.0,9, -999.00,9,    63.5,2,    3.34,2,       7.40,2,     -999.0,9, -999.00,9, 20140423,      618, -36.3291,-149.9925,    35.1745,2,     -999.0,9,     -999.0,9,     -999.0,9,     -999.0,9,     -999.0,9,     -999.0,9
320620140320,       P16S,      58,          3,         33,         33,2,20140423,       0348,   -36.3290,  -149.9924,     -999.0,    60.3,  18.6348,  35.0140,2,  35.0045,2,    236.3,2,   241.7,2,    0.78,2,    0.28,2,    0.01,2,    0.06,2,   1.993,2,   1.355,2,    1.53,2,  2047.4,2,  2301.9,2,   8.0415,2,       20,-999.000,9,-999.0000,9, -999.00,9,  18.6847,3, -999.00,9,  -999.0,9, -999.00,9,    62.8,2,     3.8,2,       7.77,2,     -999.0,9, -999.00,9, 20140423,      616, -36.3291,-149.9924,    35.1696,2,     -999.0,9,     -999.0,9,     -999.0,9,     -999.0,9,     -999.0,9,     -999.0,9
320620140320,       P16S,      58,          3,         32,         32,2,20140423,       0348,   -36.3290,  -149.9924,     -999.0,    85.8,  15.4906,  34.9605,2,  34.9593,2,    259.6,2,   259.4,2,    0.78,2,    0.24,2,    0.00,2,    0.09,2,-999.000,9,-999.000,9, -999.00,9,  2055.1,2,  2300.3,2,   8.0253,2,       20,-999.000,9,-999.0000,9, -999.00,9,  15.4861,2, -999.00,9,  -999.0,9, -999.00,9,      61,2,    3.18,2,     -999.0,9,     -999.0,9, -999.00,9, 20140423,      614, -36.3291,-149.9925,    35.1241,2,     -999.0,9,     -999.0,9,     -999.0,9,     -999.0,9,     -999.0,9,     -999.0,9
320620140320,       P16S,      58,          3,         30,         30,2,20140423,       0348,   -36.3290,  -149.9924,     -999.0,   114.1,  14.5232,  34.9398,2,-999.0000,9,   -999.0,9,  -999.0,9, -999.00,9, -999.00,9, -999.00,9, -999.00,9,-999.000,9,-999.000,9, -999.00,9,  -999.0,9,  -999.0,9,-999.0000,9,  -999.00,-999.000,9,-999.0000,9, -999.00,9,  14.5254,2, -999.00,9,  -999.0,9, -999.00,9,  -999.0,9, -999.00,9,     -999.0,9,     -999.0,9, -999.00,9, 20140423,      612, -36.3291,-149.9924,     -999.0,9,     -999.0,9,     -999.0,9,     -999.0,9,     -999.0,9,     -999.0,9,     -999.0,9
320620140320,       P16S,      58,          3,         31,         31,2,20140423,       0348,   -36.3290,  -149.9924,     -999.0,   114.6,  14.5480,  34.9421,2,  34.9447,2,    249.8,2,   249.4,2,    0.78,2,    0.46,2,    0.03,2,    0.14,2,   2.498,2,   1.597,2,    1.58,2,  2065.4,2,  2300.5,2,   8.0043,2,       20,-999.000,9,-999.0000,9, -999.00,9,  14.5423,2, -999.00,9,  -999.0,9, -999.00,9,    54.5,2,    3.15,2,       9.07,2,     -999.0,9, -999.00,9, 20140423,      612, -36.3291,-149.9925,    35.1095,2,     -999.0,9,     -999.0,9,     -999.0,9,     -999.0,9,     -999.0,9,     -999.0,9
320620140320,       P16S,      58,          3,         29,         29,2,20140423,       0348,   -36.3290,  -149.9924,     -999.0,   165.1,  13.3105,  34.8285,2,  34.8357,2,    236.5,2,   234.3,2,    1.17,2,    4.28,2,    0.20,2,    0.38,2,   2.994,2,   1.653,2,    1.94,2,  2084.6,2,  2293.8,2,   7.9533,6,       20,-999.000,9,-999.0000,9, -999.00,9,  13.3008,2, -999.00,9,  -999.0,9, -999.00,9,    52.1,2,    6.89,2,      11.33,2,     -999.0,9, -999.00,9, 20140423,      609, -36.3291,-149.9924,    35.0000,2,     -999.0,9,     -999.0,9,     -999.0,9,     -999.0,9,     -999.0,9,     -999.0,9
320620140320,       P16S,      58,          3,         28,         28,2,20140423,       0348,   -36.3290,  -149.9924,     -999.0,   215.1,  11.7307,  34.7470,2,  34.7353,2,    219.1,2,   219.2,2,    2.15,2,   10.58,2,    0.01,2,    0.76,2,-999.000,9,-999.000,9, -999.00,9,  2112.3,2,  2289.2,6,   7.8823,2,       20,-999.000,9,-999.0000,9, -999.00,9,  11.7313,2, -999.00,9,  -999.0,9, -999.00,9,    47.8,2, -999.00,5,     -999.0,9,     -999.0,9, -999.00,9, 20140423,      607, -36.3291,-149.9925,    34.8991,2,     -999.0,9,     -999.0,9,     -999.0,9,     -999.0,9,     -999.0,9,     -999.0,9
320620140320,       P16S,      58,          3,         27,         27,2,20140423,       0348,   -36.3290,  -149.9924,     -999.0,   265.5,  10.1142,  34.6141,2,  34.6109,2,    221.4,2,   223.0,2,    2.93,2,   14.39,2,    0.01,2,    0.99,2,-999.000,9,-999.000,9, -999.00,9,  2125.2,6,    2285,2,   7.8444,2,       20,-999.000,9,-999.0000,9, -999.00,9,  10.1125,2, -999.00,9,  -999.0,9, -999.00,9,    46.6,2,   16.89,2,     -999.0,9,     -999.0,9, -999.00,9, 20140423,      605, -36.3291,-149.9925,    34.7741,2,     -999.0,9,     -999.0,9,     -999.0,9,     -999.0,9,     -999.0,9,     -999.0,9
320620140320,       P16S,      58,          3,         26,         26,2,20140423,       0348,   -36.3290,  -149.9924,     -999.0,   315.0,   9.1533,  34.5435,2,  34.5437,2,    230.2,2,   230.2,2,    3.71,2,   16.43,2,    0.01,2,    1.11,2,   3.424,2,   1.867,2,    1.54,2,  2129.8,2,  2282.2,2,   7.8272,2,       20,-999.000,9,-999.0000,9, -999.00,9,   9.1543,2, -999.00,9,  -999.0,9, -999.00,9,    45.5,2,   18.82,2,      18.89,2,     -999.0,9, -999.00,9, 20140423,      602, -36.3291,-149.9924,    34.7066,2,     -999.0,9,     -999.0,9,     -999.0,9,     -999.0,9,     -999.0,9,     -999.0,9
320620140320,       P16S,      58,          3,         25,         25,2,20140423,       0348,   -36.3290,  -149.9924,     -999.0,   364.5,   8.5147,  34.5010,2,  34.5007,2,    235.7,2,   236.5,2,    4.30,2,   17.80,2,    0.01,2,    1.20,2,   3.381,2,   1.920,2,    1.43,2,  2132.5,2,  2282.2,2,   7.8162,2,       20,-999.000,9,-999.0000,9, -999.00,9,   8.5224,2, -999.00,9,  -999.0,9, -999.00,9,      46,2, -999.00,5,      17.60,2,     -999.0,9, -999.00,9, 20140423,      600, -36.3291,-149.9925,    34.6634,2,     -999.0,9,     -999.0,9,     -999.0,9,     -999.0,9,     -999.0,9,     -999.0,9
320620140320,       P16S,      58,          3,         24,         24,2,20140423,       0348,   -36.3290,  -149.9924,     -999.0,   434.3,   7.8417,  34.4445,2,  34.4445,2,    245.7,2,   246.0,2,    4.89,2,   19.14,2,    0.01,2,    1.26,2,   3.877,2,   1.976,2,    1.43,2,  2136.8,2,    2281,2,   7.8088,2,       20,-999.000,9,-999.0000,9, -999.00,9,   7.8371,2, -999.00,9,  -999.0,9, -999.00,9,    43.8,2, -999.00,5,      17.67,2,     -999.0,9, -999.00,9, 20140423,      557, -36.3291,-149.9925,    34.6070,2,     -999.0,9,     -999.0,9,     -999.0,9,     -999.0,9,     -999.0,9,     -999.0,9
320620140320,       P16S,      58,          3,         23,         23,2,20140423,       0348,   -36.3290,  -149.9924,     -999.0,   534.1,   7.2949,  34.3998,2,  34.3992,2,    245.5,2,   245.9,2,    6.35,2,   21.05,2,    0.01,2,    1.40,2,   3.860,2,   1.968,2,    1.32,2,  2140.4,2,  2279.8,2,   7.7964,2,       20,-999.000,9,-999.0000,9, -999.00,9,   7.2957,2, -999.00,9,  -999.0,9, -999.00,9,    43.7,2,   23.53,2,      17.37,2,     -999.0,9, -999.00,9, 20140423,      554, -36.3291,-149.9924,    34.5614,2,     -999.0,9,     -999.0,9,     -999.0,9,     -999.0,9,     -999.0,9,     -999.0,9
320620140320,       P16S,      58,          3,         22,         22,2,20140423,       0348,   -36.3290,  -149.9924,     -999.0,   633.8,   6.8324,  34.3613,2,  34.3605,2,    243.7,2,   244.5,2,    7.82,2,   22.57,2,    0.01,2,    1.49,2,   3.686,2,   1.831,2,    0.97,2,  2143.8,2,  2278.8,2,   7.7869,2,       20,-999.000,9,-999.0000,9, -999.00,9,   6.8324,2, -999.00,9,  -999.0,9, -999.00,9,    41.9,2, -999.00,9,      16.74,2,     -999.0,9, -999.00,9, 20140423,      551, -36.3291,-149.9925,    34.5226,2,     -999.0,9,     -999.0,9,     -999.0,9,     -999.0,9,     -999.0,9,     -999.0,9
320620140320,       P16S,      58,          3,         21,         21,2,20140423,       0348,   -36.3290,  -149.9924,     -999.0,   734.9,   6.4327,  34.3334,2,  34.3335,2,    238.7,2,   241.0,2,    9.48,2,   23.88,2,    0.01,2,    1.56,2,-999.000,9,-999.000,9, -999.00,9,  2148.2,2,    2280,2,   7.7769,2,       20,-999.000,9,-999.0000,9, -999.00,9,   6.4355,2, -999.00,9,  -999.0,9, -999.00,9,    42.6,2, -999.00,9,     -999.0,9,     -999.0,9, -999.00,9, 20140423,      547, -36.3291,-149.9924,    34.4954,2,     -999.0,9,     -999.0,9,     -999.0,9,     -999.0,9,     -999.0,9,     -999.0,9
320620140320,       P16S,      58,          3,         20,         20,2,20140423,       0348,   -36.3290,  -149.9924,     -999.0,   834.3,   5.9134,  34.3134,2,  34.3133,2,    228.7,2,   229.9,2,   13.49,2,   26.01,2,    0.01,2,    1.73,2,-999.000,9,-999.000,9, -999.00,9,  2158.8,2,  2282.4,2,   7.7547,2,       20,-999.000,9,-999.0000,9, -999.00,9,   5.9149,2, -999.00,9,  -999.0,9, -999.00,9,    41.5,2, -999.00,9,     -999.0,9,     -999.0,9, -999.00,9, 20140423,      544, -36.3291,-149.9925,    34.4751,2,     -999.0,9,     -999.0,9,     -999.0,9,     -999.0,9,     -999.0,9,     -999.0,9
320620140320,       P16S,      58,          3,         19,         19,2,20140423,       0348,   -36.3290,  -149.9924,     -999.0,   933.5,   5.3410,  34.3066,2,  34.3066,2,    216.6,2,   218.3,2,   19.16,2,   28.27,2,    0.00,2,    1.86,2,   1.939,2,   0.980,2,    0.19,2,  2171.5,2,  2286.6,2,   7.7291,2,       20,-999.000,9,-999.0000,9, -999.00,9,   5.3428,2, -999.00,9,  -999.0,9, -999.00,9,    38.5,2, -999.00,9,      18.55,2,     -999.0,9, -999.00,9, 20140423,      540, -36.3291,-149.9924,    34.4684,2,     -999.0,9,     -999.0,9,     -999.0,9,     -999.0,9,     -999.0,9,     -999.0,9
320620140320,       P16S,      58,          3,         18,         18,2,20140423,       0348,   -36.3290,  -149.9924,     -999.0,  1034.3,   4.7204,  34.3170,2,  34.3174,2,    206.2,2,   206.4,2,   27.28,2,   30.34,2,    0.00,2,    2.01,2,-999.000,9,-999.000,9, -999.00,9,  2187.9,2,  2292.9,2,   7.6983,2,       20,-999.000,9,-999.0000,9, -999.00,9,   4.7216,2, -999.00,9,  -999.0,9, -999.00,9,    42.4,2, -999.00,9,     -999.0,9,     -999.0,9, -999.00,9, 20140423,      536, -36.3291,-149.9925,    34.4792,2,     -999.0,9,     -999.0,9,     -999.0,9,     -999.0,9,     -999.0,9,     -999.0,9
320620140320,       P16S,      58,          3,         17,         17,2,20140423,       0348,   -36.3290,  -149.9924,     -999.0,  1135.0,   4.0442,  34.3430,2,  34.3443,2,    198.0,2,   196.4,2,   37.84,2,   32.17,2,    0.00,2,    2.15,2,   1.048,2,   0.507,2,    0.05,2,  2205.9,2,    2302,2,   7.6712,2,       20,-999.000,9,-999.0000,9, -999.00,9,   4.0412,2, -999.00,9,  -999.0,9, -999.00,9,    40.2,2, -999.00,9,      22.26,2,     -999.0,9, -999.00,9, 20140423,      533, -36.3291,-149.9925,    34.5062,2,     -999.0,9,     -999.0,9,     -999.0,9,     -999.0,9,     -999.0,9,     -999.0,9
320620140320,       P16S,      58,          3,         16,         16,2,20140423,       0348,   -36.3290,  -149.9924,     -999.0,  1264.0,   3.4934,  34.3852,2,  34.3849,2,    188.9,2,   187.7,2,   48.59,2,   33.53,2,    0.00,2,    2.23,2,   0.727,2,   0.341,2,    0.05,2,  2222.3,2,  2312.1,2,   7.6523,2,       20,-999.000,9,-999.0000,9, -999.00,9,   3.4959,2, -999.00,9,  -999.0,9, -999.00,9,    38.9,2, -999.00,9,      23.02,2,     -999.0,9, -999.00,9, 20140423,      529, -36.3291,-149.9925,    34.5470,2,     -999.0,9,     -999.0,9,     -999.0,9,     -999.0,9,     -999.0,9,     -999.0,9
320620140320,       P16S,      58,          3,         15,         15,2,20140423,       0348,   -36.3290,  -149.9924,     -999.0,  1464.3,   2.9601,  34.4775,2,  34.4765,2,    173.6,2,   172.8,2,   65.89,2,   34.64,2,    0.00,2,    2.32,2,   0.217,2,   0.090,2,    0.04,2,  2245.3,2,    2330,2,   7.6332,2,       20,-999.000,9,-999.0000,9, -999.00,9,   2.9630,2, -999.00,9,  -999.0,9, -999.00,9,    37.8,2, -999.00,9,      23.51,2,     -999.0,9, -999.00,9, 20140423,      524, -36.3291,-149.9925,    34.6391,2,     -999.0,9,     -999.0,9,     -999.0,9,     -999.0,9,     -999.0,9,     -999.0,9
320620140320,       P16S,      58,          3,         14,         14,2,20140423,       0348,   -36.3290,  -149.9924,     -999.0,  1664.7,   2.6585,  34.5639,2,  34.5639,2,    161.0,2,   161.1,2,   85.04,2,   35.07,2,    0.00,2,    2.36,2,   0.043,2,   0.011,2,    0.02,2,  2268.2,6,  2354.5,2,   7.6308,2,       20,-999.000,9,-999.0000,9, -999.00,9,   2.6586,2, -999.00,9,  -999.0,9, -999.00,9,      36,2, -999.00,9,      23.27,2,     -999.0,9, -999.00,9, 20140423,      519, -36.3291,-149.9925,    34.7269,2,     -999.0,9,     -999.0,9,     -999.0,9,     -999.0,9,     -999.0,9,     -999.0,9
320620140320,       P16S,      58,          3,         13,         13,2,20140423,       0348,   -36.3290,  -149.9924,     -999.0,  1865.5,   2.4369,  34.6072,2,  34.6085,2,    154.6,2,   154.9,2,  100.09,2,   35.49,2,    0.00,2,    2.38,2,   0.009,2,   0.001,2,    0.02,2,  2286.2,2,  2370.4,2,   7.6314,6,       20,-999.000,9,-999.0000,9, -999.00,9,   2.4363,2, -999.00,9,  -999.0,9, -999.00,9,    36.9,2, -999.00,9,      22.57,2,     -999.0,9, -999.00,9, 20140423,      514, -36.3291,-149.9924,    34.7717,2,     -999.0,9,     -999.0,9,     -999.0,9,     -999.0,9,     -999.0,9,     -999.0,9
320620140320,       P16S,      58,          3,         12,         12,2,20140423,       0348,   -36.3290,  -149.9924,     -999.0,  2034.2,   2.2847,  34.6264,2,  34.6270,2,    152.3,2,   152.5,2,  108.20,2,   35.84,2,    0.00,2,    2.41,2,-999.000,9,-999.000,9, -999.00,9,  2294.8,2,  2381.6,2,   7.6316,2,       20,-999.000,9,-999.0000,9, -999.00,9,   2.2847,2, -999.00,9,  -999.0,9, -999.00,9,      37,2, -999.00,9,     -999.0,9,     -999.0,9, -999.00,9, 20140423,      509, -36.3291,-149.9925,    34.7903,2,     -999.0,9,     -999.0,9,     -999.0,9,     -999.0,9,     -999.0,9,     -999.0,9
320620140320,       P16S,      58,          3,         11,         11,2,20140423,       0348,   -36.3290,  -149.9924,     -999.0,  2184.7,   2.1767,  34.6372,2,  34.6376,2,    151.7,2,   151.6,2,  112.80,2,   35.86,2,    0.00,2,    2.42,2,   0.003,2,   0.001,2,    0.00,2,  2300.2,2,  2387.5,2,   7.6321,2,       20,-999.000,9,-999.0000,9, -999.00,9,   2.1762,2, -999.00,9,  -999.0,9, -999.00,9,  -999.0,5, -999.00,9,      23.47,2,     -999.0,9, -999.00,9, 20140423,      505, -36.3291,-149.9925,    34.8009,2,     -999.0,9,     -999.0,9,     -999.0,9,     -999.0,9,     -999.0,9,     -999.0,9
320620140320,       P16S,      58,          3,         10,         10,2,20140423,       0348,   -36.3290,  -149.9924,     -999.0,  2434.2,   2.0196,  34.6509,2,  34.6515,2,    151.0,2,   150.8,2,  119.74,2,   36.06,2,    0.00,2,    2.48,2,-999.000,9,-999.000,9, -999.00,9,  2305.8,2,  2394.4,2,   7.6322,2,       20,-999.000,9,-999.0000,9, -999.00,9,   2.0195,2, -999.00,9,  -999.0,9, -999.00,9,    35.7,2, -999.00,9,     -999.0,9,     -999.0,9, -999.00,9, 20140423,      500, -36.3291,-149.9924,    34.8149,2,     -999.0,9,     -999.0,9,     -999.0,9,     -999.0,9,     -999.0,9,     -999.0,9
320620140320,       P16S,      58,          3,          9,         09,2,20140423,       0348,   -36.3290,  -149.9924,     -999.0,  2685.3,   1.8886,  34.6613,2,  34.6616,2,    151.4,2,   151.3,2,  125.11,2,   36.18,2,    0.00,2,    2.50,2,   0.003,2,   0.001,2,    0.01,2,  2309.4,6,  2398.9,2,    7.633,2,       20,-999.000,9,-999.0000,9, -999.00,9,   1.8883,2, -999.00,9,  -999.0,9, -999.00,9,    35.1,2, -999.00,9,      22.94,2,     -999.0,9, -999.00,9, 20140423,      454, -36.3290,-149.9925,    34.8250,2,     -999.0,9,     -999.0,9,     -999.0,9,     -999.0,9,     -999.0,9,     -999.0,9
320620140320,       P16S,      58,          3,          8,         08,2,20140423,       0348,   -36.3290,  -149.9924,     -999.0,  2934.9,   1.7966,  34.6684,2,  34.6684,2,    153.4,2,   153.1,2,  128.14,2,   35.83,2,    0.00,2,    2.49,2,-999.000,9,-999.000,9, -999.00,9,  2311.4,2,  2401.5,6,   7.6359,2,       20,-999.000,9,-999.0000,9, -999.00,9,   1.7974,2, -999.00,9,  -999.0,9, -999.00,9,    36.1,2, -999.00,9,     -999.0,9,     -999.0,9, -999.00,9, 20140423,      448, -36.3290,-149.9925,    34.8319,2,     -999.0,9,     -999.0,9,     -999.0,9,     -999.0,9,     -999.0,9,     -999.0,9
320620140320,       P16S,      58,          3,          7,         07,2,20140423,       0348,   -36.3290,  -149.9924,     -999.0,  3199.0,   1.7071,  34.6780,2,  34.6783,2,    158.0,2,   159.3,2,  127.65,2,   35.37,2,    0.00,2,    2.46,2,-999.000,9,-999.000,9, -999.00,9,  2307.4,2,  2399.3,2,   7.6413,2,       20,-999.000,9,-999.0000,9, -999.00,9,   1.7070,2, -999.00,9,  -999.0,9, -999.00,9,    37.5,2, -999.00,9,     -999.0,9,     -999.0,9, -999.00,9, 20140423,      442, -36.3291,-149.9925,    34.8418,2,     -999.0,9,     -999.0,9,     -999.0,9,     -999.0,9,     -999.0,9,     -999.0,9
320620140320,       P16S,      58,          3,          6,         06,2,20140423,       0348,   -36.3290,  -149.9924,     -999.0,  3499.9,   1.6200,  34.6899,2,  34.6903,2,    167.9,2,   169.0,2,  124.03,2,   34.78,2,    0.00,2,    2.39,2,-999.000,9,-999.000,9, -999.00,9,    2296,2,  2391.1,2,   7.6501,2,       20,-999.000,9,-999.0000,9, -999.00,9,   1.6204,2, -999.00,9,  -999.0,9, -999.00,9,    34.4,2, -999.00,9,     -999.0,9,     -999.0,9, -999.00,9, 20140423,      435, -36.3290,-149.9924,    34.8538,2,     -999.0,9,     -999.0,9,     -999.0,9,     -999.0,9,     -999.0,9,     -999.0,9