BOTTLE,20230715CCHSIOCBG
EXPOCODE,SECT_ID,STNNBR,CASTNO,SAMPNO,BTLNBR,BTLNBR_FLAG_W,DATE,TIME,LATITUDE,LONGITUDE,DEPTH,CTDPRS,CTDTMP,CTDSAL,CTDSAL_FLAG_W,SALNTY,SALNTY_FLAG_W,CTDOXY,CTDOXY_FLAG_W,OXYGEN,OXYGEN_FLAG_W,SILCAT,SILCAT_FLAG_W,NITRAT,NITRAT_FLAG_W,NITRIT,NITRIT_FLAG_W,PHSPHT,PHSPHT_FLAG_W,CFC-11,CFC-11_FLAG_W,CFC-12,CFC-12_FLAG_W,SF6,SF6_FLAG_W,TCARBN,TCARBN_FLAG_W,ALKALI,ALKALI_FLAG_W,PH_TOT,PH_TOT_FLAG_W,PH_TMP,TRITUM,TRITUM_FLAG_W,HELIUM,HELIUM_FLAG_W,DELHE3,DELHE3_FLAG_W,REFTMP,REFTMP_FLAG_W,DELC13,DELC13_FLAG_W,DELC14,DELC14_FLAG_W,DELO18,DELO18_FLAG_W,DOC,DOC_FLAG_W,TDN,TDN_FLAG_W,N2O,N2O_FLAG_W,CALCIUM,CALCIUM_FLAG_W,D15N_NO3,D15N_NO3_FLAG_W,BTL_DATE,BTL_TIME,BTL_LAT,BTL_LON,SALTREF,SALTREF_FLAG_W,D18O_NO3,D18O_NO3_FLAG_W,DSI30,DSI30_FLAG_W,CDOM_NASA,CDOM_NASA_FLAG_W,CDOM_UCSB,CDOM_UCSB_FLAG_W,D15N_NO2+NO3,D15N_NO2+NO3_FLAG_W,D18O_NO2+NO3,D18O_NO2+NO3_FLAG_W
,,,,,,,,,,,METERS,DBAR,ITS-90,PSS-78,,PSS-78,,UMOL/KG,,UMOL/KG,,UMOL/KG,,UMOL/KG,,UMOL/KG,,UMOL/KG,,PMOL/KG,,PMOL/KG,,FMOL/KG,,UMOL/KG,,UMOL/KG,,,,DEG C,TU,,NMOL/KG,,PERCNT,,DEG C,,/MILLE,,/MILLE,,/MILLE,,UMOL/KG,,UMOL/KG,,NMOL/KG,,MMOL/KG,,/MILLE,,,,,,G/KG,,/MILLE,,/MILLE,,,,,,/MILLE,,/MILLE,
320620140320,       P16S,      74,          2,         36,         36,2,20140428,       2144,   -25.6666,  -150.0003,     -999.0,     4.5,  24.4590,  35.4318,2,  35.4318,2,    208.4,2,   209.1,2,    0.88,2,    0.03,2,    0.01,2,    0.06,2,   1.642,2,   1.050,2,    1.40,2,    2005,2,  2325.8,2,   8.1562,2,       20,-999.000,1,-999.0000,1, -999.00,9,  24.4594,2, -999.00,9,  -999.0,9, -999.00,1,    69.3,2,    4.64,2,       6.98,2,     -999.0,9, -999.00,9, 20140428,     2340, -25.6666,-150.0002,    35.5989,2,     -999.0,9,     -999.0,9,     -999.0,9,     -999.0,9,     -999.0,9,     -999.0,9
320620140320,       P16S,      74,          2,         35,         35,2,20140428,       2144,   -25.6666,  -150.0003,     -999.0,    20.5,  24.4566,  35.4329,2,  35.4330,2,    209.5,2,   209.2,2,    0.88,2,    0.01,2,    0.00,2,    0.03,2,-999.000,9,-999.000,9, -999.00,9,  2006.2,2,  2325.5,2,   8.1556,2,       20,-999.000,1,-999.0000,1, -999.00,9,  24.4549,2, -999.00,9,  -999.0,9, -999.00,1,    68.1,2,    4.89,2,     -999.0,9,     -999.0,9, -999.00,9, 20140428,     2338, -25.6666,-150.0003,    35.6001,2,     -999.0,9,     -999.0,9,     -999.0,9,     -999.0,9,     -999.0,9,     -999.0,9
320620140320,       P16S,      74,          2,         34,         34,2,20140428,       2144,   -25.6666,  -150.0003,     -999.0,    38.7,  24.4422,  35.4326,2,  35.4340,2,    209.8,2,   209.3,2,    0.88,2,    0.01,2,    0.00,2,    0.04,2,-999.000,9,-999.000,9, -999.00,9,  2004.7,2,  2325.4,2,   8.1545,2,       20,-999.000,1,-999.0000,1, -999.00,9,  24.4407,2, -999.00,9,  -999.0,9, -999.00,1,    67.2,2,    4.56,2,     -999.0,9,     -999.0,9, -999.00,9, 20140428,     2337, -25.6666,-150.0002,    35.6011,2,     -999.0,9,     -999.0,9,     -999.0,9,     -999.0,9,     -999.0,9,     -999.0,9
320620140320,       P16S,      74,          2,         33,         33,2,20140428,       2144,   -25.6666,  -150.0003,     -999.0,    69.4,  21.5782,  35.6395,2,  35.6380,2,    228.2,2,   227.4,2,    0.88,2,    0.00,2,    0.00,2,    0.02,2,   2.031,2,   1.221,2,    1.48,2,  2035.7,2,  2336.5,2,   8.1183,2,       20,-999.000,1,-999.0000,1, -999.00,9,  21.7035,2, -999.00,9,  -999.0,9, -999.00,1,      68,2,    3.36,2,       8.04,2,     -999.0,9, -999.00,9, 20140428,     2335, -25.6666,-150.0003,    35.8060,2,     -999.0,9,     -999.0,9,     -999.0,9,     -999.0,9,     -999.0,9,     -999.0,9
320620140320,       P16S,      74,          2,         32,         32,2,20140428,       2144,   -25.6666,  -150.0003,     -999.0,    99.7,  19.9765,  35.6062,2,-999.0000,9,   -999.0,9,  -999.0,9, -999.00,9, -999.00,9, -999.00,9, -999.00,9,-999.000,9,-999.000,9, -999.00,9,  -999.0,9,  -999.0,9,-999.0000,9,  -999.00,-999.000,9,-999.0000,9, -999.00,9,  19.9782,2, -999.00,9,  -999.0,9, -999.00,9,  -999.0,9, -999.00,9,     -999.0,9,     -999.0,9, -999.00,9, 20140428,     2333, -25.6666,-150.0003,     -999.0,9,     -999.0,9,     -999.0,9,     -999.0,9,     -999.0,9,     -999.0,9,     -999.0,9
320620140320,       P16S,      74,          2,         31,         31,2,20140428,       2144,   -25.6666,  -150.0003,     -999.0,    99.8,  19.9633,  35.6060,2,  35.6052,2,    222.7,2,   222.7,2,    0.88,2,    0.00,2,    0.00,2,    0.05,2,-999.000,9,-999.000,9, -999.00,9,  2046.1,2,  2334.1,2,   8.0955,2,       20,-999.000,1,-999.0000,1, -999.00,9,  19.9559,2, -999.00,9,  -999.0,9, -999.00,1,    59.4,2,    4.39,2,     -999.0,9,     -999.0,9, -999.00,9, 20140428,     2333, -25.6666,-150.0003,    35.7731,2,     -999.0,9,     -999.0,9,     -999.0,9,     -999.0,9,     -999.0,9,     -999.0,9
320620140320,       P16S,      74,          2,         30,         30,2,20140428,       2144,   -25.6666,  -150.0003,     -999.0,   128.3,  19.2284,  35.5565,2,-999.0000,9,   -999.0,9,  -999.0,9, -999.00,9, -999.00,9, -999.00,9, -999.00,9,-999.000,9,-999.000,9, -999.00,9,  -999.0,9,  -999.0,9,-999.0000,9,  -999.00,-999.000,9,-999.0000,9, -999.00,9,  19.2278,2, -999.00,9,  -999.0,9, -999.00,9,  -999.0,9, -999.00,9,     -999.0,9,     -999.0,9, -999.00,9, 20140428,     2331, -25.6666,-150.0003,     -999.0,9,     -999.0,9,     -999.0,9,     -999.0,9,     -999.0,9,     -999.0,9,     -999.0,9
320620140320,       P16S,      74,          2,         29,         29,2,20140428,       2144,   -25.6666,  -150.0003,     -999.0,   128.5,  19.2222,  35.5564,2,  35.5541,2,    202.5,2,   200.3,2,    1.07,2,    1.54,2,    0.06,2,    0.17,2,   2.114,2,   1.279,2,    1.48,2,    2064,2,  2330.1,2,   8.0563,2,       20,-999.000,1,-999.0000,1, -999.00,9,  19.2281,2, -999.00,9,  -999.0,9, -999.00,1,      52,2,    5.41,2,       9.23,2,     -999.0,9, -999.00,9, 20140428,     2331, -25.6666,-150.0002,    35.7218,2,     -999.0,9,     -999.0,9,     -999.0,9,     -999.0,9,     -999.0,9,     -999.0,9
320620140320,       P16S,      74,          2,         28,         28,2,20140428,       2144,   -25.6666,  -150.0003,     -999.0,   184.7,  17.9541,  35.4479,2,  35.4336,2,    204.6,2,   212.1,2,    0.98,2,    1.42,2,    0.08,2,    0.18,2,-999.000,9,-999.000,9, -999.00,9,  2069.1,6,  2326.9,2,   8.0381,2,       20,-999.000,9,-999.0000,1, -999.00,9,  17.9682,2, -999.00,9,  -999.0,9, -999.00,1,    50.9,2,    5.15,2,     -999.0,9,     -999.0,9, -999.00,9, 20140428,     2328, -25.6666,-150.0002,    35.6007,2,     -999.0,9,     -999.0,9,     -999.0,9,     -999.0,9,     -999.0,9,     -999.0,9
320620140320,       P16S,      74,          2,         27,         27,2,20140428,       2144,   -25.6666,  -150.0003,     -999.0,   234.4,  16.6692,  35.3165,2,  35.3154,2,    211.3,2,   209.2,2,    1.17,2,    2.84,2,    0.01,2,    0.26,2,   2.505,2,   1.415,2,    1.50,2,    2079,2,  2316.6,6,   8.0098,2,       20,-999.000,1,-999.0000,1, -999.00,9,  16.6760,2, -999.00,9,  -999.0,9, -999.00,1,      49,2,    6.95,2,       9.92,2,     -999.0,9, -999.00,9, 20140428,     2326, -25.6666,-150.0002,    35.4819,2,     -999.0,9,     -999.0,9,     -999.0,9,     -999.0,9,     -999.0,9,     -999.0,9
320620140320,       P16S,      74,          2,         26,         26,2,20140428,       2144,   -25.6666,  -150.0003,     -999.0,   283.9,  15.2771,  35.1684,2,  35.1698,2,    199.4,2,   199.8,2,    1.76,2,    5.93,2,    0.01,2,    0.48,2,-999.000,9,-999.000,9, -999.00,9,  2095.5,2,    2309,2,   7.9632,2,       20,-999.000,9,-999.0000,9, -999.00,9,  15.2754,2, -999.00,9,  -999.0,9, -999.00,1,    45.8,2,    9.13,2,     -999.0,9,     -999.0,9, -999.00,9, 20140428,     2324, -25.6666,-150.0003,    35.3356,2,     -999.0,9,     -999.0,9,     -999.0,9,     -999.0,9,     -999.0,9,     -999.0,9
320620140320,       P16S,      74,          2,         25,         25,2,20140428,       2144,   -25.6666,  -150.0003,     -999.0,   335.4,  13.2804,  34.9221,2,  34.9263,2,    199.6,2,   199.8,2,    2.54,2,    9.64,2,    0.01,2,    0.73,2,   2.868,2,   1.497,2,    1.49,2,  2108.8,2,  2298.5,2,   7.9118,6,       20,-999.000,1,-999.0000,1, -999.00,9,  13.2748,2, -999.00,9,  -999.0,9, -999.00,1,    45.6,2,   12.73,2,      14.54,2,     -999.0,9, -999.00,9, 20140428,     2322, -25.6666,-150.0002,    35.0910,2,     -999.0,9,     -999.0,9,     -999.0,9,     -999.0,9,     -999.0,9,     -999.0,9
320620140320,       P16S,      74,          2,         24,         24,2,20140428,       2144,   -25.6666,  -150.0003,     -999.0,   384.6,  11.6811,  34.7507,2,  34.7503,2,    202.7,2,   202.8,2,    3.42,2,   12.95,2,    0.01,2,    0.95,2,-999.000,9,-999.000,9, -999.00,9,  2121.1,2,  2290.8,2,   7.8708,2,       20,-999.000,9,-999.0000,9, -999.00,9,  11.6684,2, -999.00,9,  -999.0,9, -999.00,1,    45.6,2,   15.65,2,     -999.0,9,     -999.0,9, -999.00,9, 20140428,     2320, -25.6666,-150.0003,    34.9141,2,     -999.0,9,     -999.0,9,     -999.0,9,     -999.0,9,     -999.0,9,     -999.0,9
320620140320,       P16S,      74,          2,         23,         23,2,20140428,       2144,   -25.6666,  -150.0003,     -999.0,   464.3,   8.7823,  34.4790,2,  34.4731,2,    215.3,2,   215.7,2,    5.67,2,   19.06,2,    0.01,2,    1.33,2,   3.331,2,   1.599,2,    1.31,2,  2137.9,2,  2279.8,2,   7.8032,2,       20,-999.000,1,-999.0000,1, -999.00,9,   8.7612,2, -999.00,9,  -999.0,9, -999.00,1,    43.5,2,   21.38,2,      20.17,2,     -999.0,9, -999.00,9, 20140428,     2318, -25.6666,-150.0003,    34.6356,2,     -999.0,9,     -999.0,9,     -999.0,9,     -999.0,9,     -999.0,9,     -999.0,9
320620140320,       P16S,      74,          2,         22,         22,2,20140428,       2144,   -25.6666,  -150.0003,     -999.0,   563.8,   7.0830,  34.3667,2,  34.3696,2,    227.7,2,   226.4,2,    8.02,2,   22.60,2,    0.00,2,    1.56,2,-999.000,9,-999.000,9, -999.00,9,  2146.9,2,  2278.4,2,   7.7755,2,       20,-999.000,9,-999.0000,9, -999.00,9,   7.1245,3, -999.00,9,  -999.0,9, -999.00,1,    42.8,2,   26.11,2,     -999.0,9,     -999.0,9, -999.00,9, 20140428,     2315, -25.6666,-150.0003,    34.5317,2,     -999.0,9,     -999.0,9,     -999.0,9,     -999.0,9,     -999.0,9,     -999.0,9
320620140320,       P16S,      74,          2,         21,         21,2,20140428,       2144,   -25.6666,  -150.0003,     -999.0,   664.4,   6.1544,  34.3197,2,  34.3192,2,    228.6,2,   230.8,2,   10.76,2,   24.82,2,    0.00,2,    1.69,2,   2.726,2,   1.291,2,    0.70,2,  2152.3,2,    2279,2,   7.7631,2,       20,-999.000,1,-999.0000,1, -999.00,9,   6.1520,2, -999.00,9,  -999.0,9, -999.00,1,    41.5,2, -999.00,9,      19.61,2,     -999.0,9, -999.00,9, 20140428,     2312, -25.6666,-150.0003,    34.4810,2,     -999.0,9,     -999.0,9,     -999.0,9,     -999.0,9,     -999.0,9,     -999.0,9
320620140320,       P16S,      74,          2,         20,         20,2,20140428,       2144,   -25.6666,  -150.0003,     -999.0,   764.0,   5.5789,  34.2995,2,  34.3004,2,    217.9,2,   222.1,2,   15.36,2,   27.10,2,    0.00,2,    1.84,2,-999.000,9,-999.000,9, -999.00,9,  2163.4,2,  2282.2,2,   7.7394,2,       20,-999.000,9,-999.0000,9, -999.00,9,   5.5781,2, -999.00,9,  -999.0,9, -999.00,1,      44,3, -999.00,9,     -999.0,9,     -999.0,9, -999.00,9, 20140428,     2310, -25.6666,-150.0003,    34.4621,2,     -999.0,9,     -999.0,9,     -999.0,9,     -999.0,9,     -999.0,9,     -999.0,9
320620140320,       P16S,      74,          2,         19,         19,2,20140428,       2144,   -25.6666,  -150.0003,     -999.0,   864.5,   4.9800,  34.3122,2,  34.3108,2,    202.0,2,   205.2,2,   23.57,2,   29.64,2,    0.00,2,    2.01,2,-999.000,9,-999.000,9, -999.00,9,  2182.1,2,  2289.4,2,   7.7063,2,       20,-999.000,1,-999.0000,1, -999.00,9,   4.9870,2, -999.00,9,  -999.0,9, -999.00,1,    41.6,2, -999.00,9,     -999.0,9,     -999.0,9, -999.00,9, 20140428,     2307, -25.6666,-150.0003,    34.4726,2,     -999.0,9,     -999.0,9,     -999.0,9,     -999.0,9,     -999.0,9,     -999.0,9
320620140320,       P16S,      74,          2,         18,         18,2,20140428,       2144,   -25.6666,  -150.0003,     -999.0,   964.8,   4.5159,  34.3470,2,  34.3477,2,    184.2,2,   187.7,2,   34.82,2,   31.75,2,    0.00,2,    2.17,2,   0.531,2,   0.273,2,    0.06,2,  2201.4,2,  2299.7,2,    7.675,2,       20,-999.000,1,-999.0000,1, -999.00,9,   4.5102,2, -999.00,9,  -999.0,9, -999.00,1,    40.2,2, -999.00,9,      22.52,2,     -999.0,9, -999.00,9, 20140428,     2304, -25.6666,-150.0003,    34.5097,2,     -999.0,9,     -999.0,9,     -999.0,9,     -999.0,9,     -999.0,9,     -999.0,9
320620140320,       P16S,      74,          2,         17,         17,2,20140428,       2144,   -25.6666,  -150.0003,     -999.0,  1064.1,   3.9412,  34.3953,2,  34.3950,2,    174.0,2,   173.7,2,   49.39,2,   33.50,2,    0.00,2,    2.33,2,-999.000,9,-999.000,9, -999.00,9,  2223.6,6,  2312.7,2,   7.6494,2,       20,-999.000,1,-999.0000,1, -999.00,9,   3.9431,2, -999.00,9,  -999.0,9, -999.00,1,      37,2, -999.00,9,     -999.0,9,     -999.0,9, -999.00,9, 20140428,     2301, -25.6666,-150.0003,    34.5572,2,     -999.0,9,     -999.0,9,     -999.0,9,     -999.0,9,     -999.0,9,     -999.0,9
320620140320,       P16S,      74,          2,         16,         16,2,20140428,       2144,   -25.6666,  -150.0003,     -999.0,  1214.2,   3.3789,  34.4579,2,  34.4582,2,    166.4,2,   166.0,2,   64.75,2,   34.40,2,    0.00,2,    2.42,2,   0.095,2,   0.031,2,    0.05,2,  2244.9,2,  2330.9,2,   7.6381,2,       20,-999.000,1,-999.0000,1, -999.00,9,   3.3803,2, -999.00,9,  -999.0,9, -999.00,1,    37.6,2, -999.00,9,      24.56,2,     -999.0,9, -999.00,9, 20140428,     2257, -25.6666,-150.0002,    34.6207,2,     -999.0,9,     -999.0,9,     -999.0,9,     -999.0,9,     -999.0,9,     -999.0,9
320620140320,       P16S,      74,          2,         15,         15,2,20140428,       2144,   -25.6666,  -150.0003,     -999.0,  1365.6,   2.9881,  34.5101,2,  34.5100,2,    161.2,2,   161.0,2,   78.14,2,   34.87,2,    0.00,2,    2.41,2,-999.000,9,-999.000,9, -999.00,9,  2260.2,2,    2347,2,   7.6336,2,       20,-999.000,1,-999.0000,1, -999.00,9,   2.9869,2, -999.00,9,  -999.0,9, -999.00,1,      38,2, -999.00,9,     -999.0,9,     -999.0,9, -999.00,9, 20140428,     2254, -25.6666,-150.0003,    34.6728,2,     -999.0,9,     -999.0,9,     -999.0,9,     -999.0,9,     -999.0,9,     -999.0,9
320620140320,       P16S,      74,          2,         14,         14,2,20140428,       2144,   -25.6666,  -150.0003,     -999.0,  1515.2,   2.6613,  34.5549,2,  34.5554,2,    157.5,2,   157.6,2,   90.66,2,   35.12,2,    0.00,2,    2.43,2,-999.000,9,-999.000,9, -999.00,9,  2273.6,2,  2360.1,2,    7.633,2,       20,-999.000,9,-999.0000,9, -999.00,9,   2.6613,2, -999.00,9,  -999.0,9, -999.00,9,    36.3,2, -999.00,9,     -999.0,9,     -999.0,9, -999.00,9, 20140428,     2250, -25.6666,-150.0003,    34.7184,2,     -999.0,9,     -999.0,9,     -999.0,9,     -999.0,9,     -999.0,9,     -999.0,9
320620140320,       P16S,      74,          2,         13,         13,2,20140428,       2144,   -25.6666,  -150.0003,     -999.0,  1715.0,   2.3614,  34.5958,2,  34.5959,2,    155.2,2,   155.3,2,  102.58,2,   35.31,2,    0.00,2,    2.44,2,   0.005,2,   0.000,2,    0.00,2,  2285.8,2,  2374.5,2,   7.6334,2,       20,-999.000,1,-999.0000,1, -999.00,9,   2.3621,2, -999.00,9,  -999.0,9, -999.00,9,    37.3,2, -999.00,9,      24.50,2,     -999.0,9, -999.00,9, 20140428,     2246, -25.6666,-150.0003,    34.7590,2,     -999.0,9,     -999.0,9,     -999.0,9,     -999.0,9,     -999.0,9,     -999.0,9
320620140320,       P16S,      74,          2,         12,         12,2,20140428,       2144,   -25.6666,  -150.0003,     -999.0,  1934.9,   2.1626,  34.6225,2,  34.6222,2,    153.2,2,   153.3,2,  111.38,2,   35.49,2,    0.00,2,    2.45,2,-999.000,9,-999.000,9, -999.00,9,  2296.1,6,  2384.5,2,   7.6337,2,       20,-999.000,9,-999.0000,9, -999.00,9,   2.1636,2, -999.00,9,  -999.0,9, -999.00,9,      37,2, -999.00,9,     -999.0,9,     -999.0,9, -999.00,9, 20140428,     2241, -25.6666,-150.0003,    34.7855,2,     -999.0,9,     -999.0,9,     -999.0,9,     -999.0,9,     -999.0,9,     -999.0,9
320620140320,       P16S,      74,          2,         11,         11,2,20140428,       2144,   -25.6666,  -150.0003,     -999.0,  2164.2,   1.9996,  34.6437,2,  34.6435,2,    150.5,2,   151.0,2,  120.28,2,   35.71,2,    0.00,2,    2.47,2,   0.001,2,   0.000,2,    0.01,2,  2304.7,2,  2394.2,2,   7.6345,2,       20,-999.000,1,-999.0000,1, -999.00,9,   2.0002,2, -999.00,9,  -999.0,9, -999.00,9,    35.8,2, -999.00,9,      23.79,2,     -999.0,9, -999.00,9, 20140428,     2236, -25.6666,-150.0003,    34.8068,2,     -999.0,9,     -999.0,9,     -999.0,9,     -999.0,9,     -999.0,9,     -999.0,9
320620140320,       P16S,      74,          2,         10,         10,2,20140428,       2144,   -25.6666,  -150.0003,     -999.0,  2414.4,   1.8694,  34.6569,2,  34.6566,2,    151.7,2,   152.1,2,  124.68,2,   35.74,2,    0.00,2,    2.47,2,-999.000,9,-999.000,9, -999.00,9,    2309,2,    2398,2,   7.6365,2,       20,-999.000,9,-999.0000,9, -999.00,9,   1.8696,2, -999.00,9,  -999.0,9, -999.00,9,    37.5,2, -999.00,9,     -999.0,9,     -999.0,9, -999.00,9, 20140428,     2230, -25.6666,-150.0003,    34.8201,2,     -999.0,9,     -999.0,9,     -999.0,9,     -999.0,9,     -999.0,9,     -999.0,9
320620140320,       P16S,      74,          2,          9,         09,2,20140428,       2144,   -25.6666,  -150.0003,     -999.0,  2665.2,   1.7855,  34.6642,2,  34.6635,2,    155.0,2,   154.9,2,  126.05,2,   35.47,2,    0.00,2,    2.46,2,   0.001,2,   0.000,2,    0.00,2,  2307.2,2,  2399.1,2,   7.6399,2,       20,-999.000,9,-999.0000,1, -999.00,9,   1.7855,2, -999.00,9,  -999.0,9, -999.00,9,    36.1,2, -999.00,9,      23.41,2,     -999.0,9, -999.00,9, 20140428,     2225, -25.6666,-150.0003,    34.8270,2,     -999.0,9,     -999.0,9,     -999.0,9,     -999.0,9,     -999.0,9,     -999.0,9
320620140320,       P16S,      74,          2,          8,         08,2,20140428,       2144,   -25.6666,  -150.0003,     -999.0,  2914.1,   1.7055,  34.6713,2,  34.6710,2,    159.4,2,   158.8,2,  127.12,2,   35.24,2,    0.00,2,    2.43,2,-999.000,9,-999.000,9, -999.00,9,  2306.1,2,    2398,2,   7.6443,2,       20,-999.000,9,-999.0000,9, -999.00,9,   1.7054,2, -999.00,9,  -999.0,9, -999.00,9,    36.6,2, -999.00,9,     -999.0,9,     -999.0,9, -999.00,9, 20140428,     2220, -25.6666,-150.0003,    34.8345,2,     -999.0,9,     -999.0,9,     -999.0,9,     -999.0,9,     -999.0,9,     -999.0,9
320620140320,       P16S,      74,          2,          7,         07,2,20140428,       2144,   -25.6666,  -150.0003,     -999.0,  3165.2,   1.6361,  34.6773,2,  34.6790,2,    164.7,2,   164.2,2,  126.24,2,   34.88,2,    0.00,2,    2.41,2,   0.001,2,   0.001,2,    0.00,2,  2301.4,2,  2396.3,2,   7.6497,2,       20,-999.000,1,-999.0000,1, -999.00,9,   1.6365,2, -999.00,9,  -999.0,9, -999.00,9,    36.9,2, -999.00,9,      23.96,2,     -999.0,9, -999.00,9, 20140428,     2215, -25.6666,-150.0003,    34.8426,2,     -999.0,9,     -999.0,9,     -999.0,9,     -999.0,9,     -999.0,9,     -999.0,9
320620140320,       P16S,      74,          2,          6,         06,2,20140428,       2144,   -25.6666,  -150.0003,     -999.0,  3413.5,   1.5755,  34.6828,2,  34.6823,2,    169.9,2,   169.4,2,  125.26,2,   34.46,2,    0.00,2,    2.38,2,-999.000,9,-999.000,9, -999.00,9,  2297.4,2,  2393.6,2,   7.6543,2,       20,-999.000,9,-999.0000,9, -999.00,9,   1.5762,2, -999.00,9,  -999.0,9, -999.00,9,    36.7,2, -999.00,9,     -999.0,9,     -999.0,9, -999.00,9, 20140428,     2210, -25.6667,-150.0003,    34.8459,2,     -999.0,9,     -999.0,9,     -999.0,9,     -999.0,9,     -999.0,9,     -999.0,9