BOTTLE,20230715CCHSIOCBG
EXPOCODE,SECT_ID,STNNBR,CASTNO,SAMPNO,BTLNBR,BTLNBR_FLAG_W,DATE,TIME,LATITUDE,LONGITUDE,DEPTH,CTDPRS,CTDTMP,CTDSAL,CTDSAL_FLAG_W,SALNTY,SALNTY_FLAG_W,CTDOXY,CTDOXY_FLAG_W,OXYGEN,OXYGEN_FLAG_W,SILCAT,SILCAT_FLAG_W,NITRAT,NITRAT_FLAG_W,NITRIT,NITRIT_FLAG_W,PHSPHT,PHSPHT_FLAG_W,CFC-11,CFC-11_FLAG_W,CFC-12,CFC-12_FLAG_W,SF6,SF6_FLAG_W,TCARBN,TCARBN_FLAG_W,ALKALI,ALKALI_FLAG_W,PH_TOT,PH_TOT_FLAG_W,PH_TMP,TRITUM,TRITUM_FLAG_W,HELIUM,HELIUM_FLAG_W,DELHE3,DELHE3_FLAG_W,REFTMP,REFTMP_FLAG_W,DELC13,DELC13_FLAG_W,DELC14,DELC14_FLAG_W,DELO18,DELO18_FLAG_W,DOC,DOC_FLAG_W,TDN,TDN_FLAG_W,N2O,N2O_FLAG_W,CALCIUM,CALCIUM_FLAG_W,D15N_NO3,D15N_NO3_FLAG_W,BTL_DATE,BTL_TIME,BTL_LAT,BTL_LON,SALTREF,SALTREF_FLAG_W,D18O_NO3,D18O_NO3_FLAG_W,DSI30,DSI30_FLAG_W,CDOM_NASA,CDOM_NASA_FLAG_W,CDOM_UCSB,CDOM_UCSB_FLAG_W,D15N_NO2+NO3,D15N_NO2+NO3_FLAG_W,D18O_NO2+NO3,D18O_NO2+NO3_FLAG_W
,,,,,,,,,,,METERS,DBAR,ITS-90,PSS-78,,PSS-78,,UMOL/KG,,UMOL/KG,,UMOL/KG,,UMOL/KG,,UMOL/KG,,UMOL/KG,,PMOL/KG,,PMOL/KG,,FMOL/KG,,UMOL/KG,,UMOL/KG,,,,DEG C,TU,,NMOL/KG,,PERCNT,,DEG C,,/MILLE,,/MILLE,,/MILLE,,UMOL/KG,,UMOL/KG,,NMOL/KG,,MMOL/KG,,/MILLE,,,,,,G/KG,,/MILLE,,/MILLE,,,,,,/MILLE,,/MILLE,
320620140320,       P16S,      56,          2,         36,         36,2,20140422,       0756,   -37.6668,  -149.9998,       5636,     4.3,  18.7599,  34.9046,2,  34.9060,2,    232.3,2,   234.0,2,    0.00,2,    0.18,2,    0.01,2,    0.11,2,   1.898,2,   1.284,2,    1.90,2,  2044.5,2,  2297.5,2,   8.0389,2,       20,-999.000,9,-999.0000,9, -999.00,9,  18.7595,2,    1.34,2,    43.0,2, -999.00,9,    60.9,2,    3.79,2,       8.12,2,     -999.0,9, -999.00,9, 20140422,     1029, -37.6668,-149.9998,    35.0706,2,     -999.0,9,     -999.0,9,     -999.0,9,     -999.0,9,     -999.0,9,     -999.0,9
320620140320,       P16S,      56,          2,         35,         35,2,20140422,       0756,   -37.6668,  -149.9998,       5636,    19.1,  18.7608,  34.9043,2,  34.9046,2,    233.5,2,   234.0,2,    0.00,2,    0.16,2,    0.00,2,    0.11,2,   2.174,2,   1.322,2,    1.42,2,  2043.4,2,  2298.3,2,    8.039,2,       20,-999.000,9,-999.0000,9, -999.00,9,  18.7626,2, -999.00,9,  -999.0,9, -999.00,9,    62.4,2,    3.78,2,       8.13,2,     -999.0,9, -999.00,9, 20140422,     1027, -37.6668,-149.9998,    35.0692,2,     -999.0,9,     -999.0,9,     -999.0,9,     -999.0,9,     -999.0,9,     -999.0,9
320620140320,       P16S,      56,          2,         34,         34,2,20140422,       0756,   -37.6668,  -149.9998,       5636,    39.4,  18.7695,  34.9045,2,  34.9046,2,    234.4,2,   234.1,2,    0.00,2,    0.14,2,    0.00,2,    0.11,2,   1.777,2,   1.262,2,    1.77,2,  2042.7,2,  2297.2,2,   8.0398,2,       20,-999.000,9,-999.0000,9, -999.00,9,  18.7704,2, -999.00,9,  -999.0,9, -999.00,9,    61.4,2,     3.8,2,       7.97,2,     -999.0,9, -999.00,9, 20140422,     1025, -37.6668,-149.9998,    35.0692,2,     -999.0,9,     -999.0,9,     -999.0,9,     -999.0,9,     -999.0,9,     -999.0,9
320620140320,       P16S,      56,          2,         32,         32,2,20140422,       0756,   -37.6668,  -149.9998,       5636,    64.5,  16.8384,  34.8189,2,-999.0000,9,   -999.0,9,  -999.0,9, -999.00,9, -999.00,9, -999.00,9, -999.00,9,-999.000,9,-999.000,9, -999.00,9,  -999.0,9,  -999.0,9,-999.0000,9,  -999.00,-999.000,9,-999.0000,9, -999.00,9,  16.4264,4, -999.00,9,  -999.0,9, -999.00,9,  -999.0,9, -999.00,9,     -999.0,9,     -999.0,9, -999.00,9, 20140422,     1023, -37.6668,-149.9998,     -999.0,9,     -999.0,9,     -999.0,9,     -999.0,1,     -999.0,9,     -999.0,9,     -999.0,9
320620140320,       P16S,      56,          2,         33,         33,2,20140422,       0756,   -37.6668,  -149.9998,       5636,    65.5,  16.3556,  34.7745,2,  34.8081,2,    244.5,2,   259.0,2,    0.00,2,    0.21,2,    0.01,2,    0.15,2,   2.427,2,   1.522,2,    1.54,2,  2048.4,2,  2293.7,2,   8.0255,2,       20,-999.000,9,-999.0000,9, -999.00,9,  16.4072,3,    1.51,2,    68.1,2, -999.00,9,    59.5,2,    3.39,2,       9.44,2,     -999.0,9, -999.00,9, 20140422,     1023, -37.6668,-149.9998,    34.9722,2,     -999.0,9,     -999.0,9,     -999.0,9,     -999.0,9,     -999.0,9,     -999.0,9
320620140320,       P16S,      56,          2,         30,         30,2,20140422,       0756,   -37.6668,  -149.9998,       5636,    89.9,  14.4336,  34.8154,2,-999.0000,9,   -999.0,9,  -999.0,9, -999.00,9, -999.00,9, -999.00,9, -999.00,9,-999.000,9,-999.000,9, -999.00,9,  -999.0,9,  -999.0,9,-999.0000,9,  -999.00,-999.000,9,-999.0000,9, -999.00,9,  14.4355,2, -999.00,9,  -999.0,9, -999.00,9,  -999.0,9, -999.00,9,     -999.0,9,     -999.0,9, -999.00,9, 20140422,     1021, -37.6668,-149.9998,     -999.0,9,     -999.0,9,     -999.0,9,     -999.0,1,     -999.0,9,     -999.0,9,     -999.0,9
320620140320,       P16S,      56,          2,         31,         31,2,20140422,       0756,   -37.6668,  -149.9998,       5636,    91.0,  14.4175,  34.8113,2,  34.8207,2,    259.8,2,   259.7,2,    0.00,2,    0.44,2,    0.02,2,    0.18,2,   2.098,2,   1.604,2,    1.78,2,  2058.1,2,  2295.4,6,   8.0061,2,       20,-999.000,9,-999.0000,9, -999.00,9,  14.4444,3,    1.35,2,    55.4,2, -999.00,9,    57.5,2,    4.27,2,       9.87,2,     -999.0,9, -999.00,9, 20140422,     1021, -37.6668,-149.9998,    34.9849,2,     -999.0,9,     -999.0,9,     -999.0,9,     -999.0,9,     -999.0,9,     -999.0,9
320620140320,       P16S,      56,          2,         29,         29,2,20140422,       0756,   -37.6668,  -149.9998,       5636,   134.3,  12.5752,  34.6422,2,  34.6532,2,    249.5,2,   252.0,2,    0.10,2,    2.91,2,    0.38,2,    0.39,2,-999.000,9,-999.000,9, -999.00,9,  2076.1,6,  2286.8,2,    7.959,2,       20,-999.000,9,-999.0000,9, -999.00,9,  12.5686,2,    1.40,2,    40.1,2, -999.00,9,    55.6,2,    7.53,2,     -999.0,9,     -999.0,9, -999.00,9, 20140422,     1019, -37.6668,-149.9998,    34.8166,2,     -999.0,9,     -999.0,9,     -999.0,9,     -999.0,9,     -999.0,9,     -999.0,9
320620140320,       P16S,      56,          2,         28,         28,2,20140422,       0756,   -37.6668,  -149.9998,       5636,   184.5,  10.7281,  34.5510,2,  34.5497,2,    246.3,2,   244.2,2,    0.49,2,    9.30,2,    0.02,2,    0.74,2,   2.646,2,   1.842,2,    1.93,2,  2100.3,2,  2281.8,2,   7.8937,2,       20,-999.000,9,-999.0000,9, -999.00,9,  10.7333,2,    1.39,2,    37.8,2, -999.00,9,    49.6,2,   13.96,2,      14.15,2,     -999.0,9, -999.00,9, 20140422,     1017, -37.6668,-149.9998,    34.7126,2,     -999.0,9,     -999.0,9,     -999.0,9,     -999.0,9,     -999.0,9,     -999.0,9
320620140320,       P16S,      56,          2,         27,         27,2,20140422,       0756,   -37.6668,  -149.9998,       5636,   235.8,   9.5727,  34.5518,2,  34.5548,2,    242.0,2,   230.9,2,    1.96,2,   14.70,2,    0.01,2,    1.06,2,   2.920,2,   1.900,2,    1.57,2,  2123.2,2,  2282.6,2,   7.8387,2,       20,-999.000,9,-999.0000,9, -999.00,9,   9.5662,2,    1.20,2,    52.6,2, -999.00,9,    44.1,2,   17.31,2,      19.05,2,     -999.0,9, -999.00,9, 20140422,     1015, -37.6668,-149.9998,    34.7178,2,     -999.0,9,     -999.0,9,     -999.0,9,     -999.0,9,     -999.0,9,     -999.0,9
320620140320,       P16S,      56,          2,         26,         26,2,20140422,       0756,   -37.6668,  -149.9998,       5636,   284.6,   8.8456,  34.5263,2,  34.5268,2,    240.7,2,   243.2,2,    2.54,2,   15.88,2,    0.01,2,    1.11,2,-999.000,9,-999.000,9, -999.00,9,  2127.1,2,  2283.2,2,   7.8313,2,       20,-999.000,9,-999.0000,9, -999.00,9,   8.8350,2,    1.22,2,    52.2,2, -999.00,9,    46.5,2,   18.31,2,     -999.0,9,     -999.0,9, -999.00,9, 20140422,     1013, -37.6668,-149.9998,    34.6896,2,     -999.0,9,     -999.0,9,     -999.0,9,     -999.0,9,     -999.0,9,     -999.0,9
320620140320,       P16S,      56,          2,         25,         25,2,20140422,       0756,   -37.6668,  -149.9998,       5636,   336.3,   8.3799,  34.4957,2,  34.4977,2,    244.5,2,   245.6,2,    2.93,2,   17.16,2,    0.01,2,    1.20,2,   3.377,2,   1.992,2,    1.67,2,  2130.1,2,  2282.4,2,   7.8228,6,       20,-999.000,9,-999.0000,9, -999.00,9,   8.3830,2,    1.17,2,    15.2,2, -999.00,9,    46.1,2,   19.37,2,      17.21,2,     -999.0,9, -999.00,9, 20140422,     1011, -37.6668,-149.9998,    34.6604,2,     -999.0,9,     -999.0,9,     -999.0,9,     -999.0,9,     -999.0,9,     -999.0,9
320620140320,       P16S,      56,          2,         24,         24,2,20140422,       0756,   -37.6668,  -149.9998,       5636,   384.3,   8.0153,  34.4672,2,  34.4392,3,    247.0,2,   247.7,2,    3.71,2,   18.38,2,    0.01,2,    1.26,2,-999.000,9,-999.000,9, -999.00,9,  2131.7,2,    2282,2,   7.8152,2,       20,-999.000,9,-999.0000,9, -999.00,9,   8.0154,2,    1.19,2,    25.7,2, -999.00,9,    42.7,2,   19.86,2,     -999.0,9,     -999.0,9, -999.00,9, 20140422,     1009, -37.6668,-149.9998,    34.6016,3,     -999.0,9,     -999.0,9,     -999.0,9,     -999.0,9,     -999.0,9,     -999.0,9
320620140320,       P16S,      56,          2,         23,         23,2,20140422,       0756,   -37.6668,  -149.9998,       5636,   465.2,   7.6357,  34.4324,2,  34.4347,2,    246.6,2,   247.8,2,    4.59,2,   19.63,2,    0.01,2,    1.34,2,   3.681,2,   2.046,2,    1.58,2,  2136.2,2,  2281.2,2,   7.8063,2,       20,-999.000,9,-999.0000,9, -999.00,9,   7.6424,2,    1.28,2,    21.5,2, -999.00,9,    43.3,2,   22.83,2,      17.96,2,     -999.0,9, -999.00,9, 20140422,     1006, -37.6668,-149.9998,    34.5971,2,     -999.0,9,     -999.0,9,     -999.0,9,     -999.0,9,     -999.0,9,     -999.0,9
320620140320,       P16S,      56,          2,         22,         22,2,20140422,       0756,   -37.6668,  -149.9998,       5636,   565.1,   7.2189,  34.3957,2,  34.3953,2,    243.4,2,   244.6,2,    5.67,2,   21.33,2,    0.00,2,    1.46,2,   3.656,2,   1.982,2,    1.31,2,  2139.4,2,  2280.4,2,   7.7949,2,       20,-999.000,9,-999.0000,9, -999.00,9,   7.2196,2,    1.27,2,    33.7,2, -999.00,9,    41.2,2,   23.52,2,      16.95,2,     -999.0,9, -999.00,9, 20140422,     1003, -37.6668,-149.9998,    34.5575,2,     -999.0,9,     -999.0,9,     -999.0,9,     -999.0,9,     -999.0,9,     -999.0,9
320620140320,       P16S,      56,          2,         21,         21,2,20140422,       0756,   -37.6668,  -149.9998,       5636,   664.4,   6.8232,  34.3611,2,  34.3612,2,    241.9,2,   243.6,2,    7.14,2,   22.57,2,    0.00,2,    1.53,2,   3.240,2,   1.837,2,    1.00,2,  2142.1,2,  2280.2,2,   7.7878,2,       20,-999.000,9,-999.0000,9, -999.00,9,   6.8224,2,    1.28,2,     9.8,2, -999.00,9,    41.1,2, -999.00,9,      16.96,2,     -999.0,9, -999.00,9, 20140422,     1000, -37.6668,-149.9998,    34.5232,2,     -999.0,9,     -999.0,9,     -999.0,9,     -999.0,9,     -999.0,9,     -999.0,9
320620140320,       P16S,      56,          2,         20,         20,2,20140422,       0756,   -37.6668,  -149.9998,       5636,   766.3,   6.3339,  34.3309,2,  34.3316,2,    236.1,2,   236.7,2,    9.48,2,   24.36,2,    0.00,2,    1.63,2,   2.663,2,   1.516,2,    0.68,2,  2148.2,2,  2280.8,2,   7.7735,2,       20,-999.000,9,-999.0000,9, -999.00,9,   6.3321,2,    1.33,2,    -1.9,2, -999.00,9,    41.4,2, -999.00,9,      16.45,2,     -999.0,9, -999.00,9, 20140422,      957, -37.6668,-149.9998,    34.4934,2,     -999.0,9,     -999.0,9,     -999.0,9,     -999.0,9,     -999.0,9,     -999.0,9
320620140320,       P16S,      56,          2,         19,         19,2,20140422,       0756,   -37.6668,  -149.9998,       5636,   866.3,   5.8158,  34.3152,2,  34.3159,2,    227.1,2,   225.6,2,   13.79,2,   26.41,2,    0.00,2,    1.77,2,-999.000,9,-999.000,9, -999.00,9,    2159,2,  2283.4,2,   7.7505,2,       20,-999.000,9,-999.0000,9, -999.00,9,   5.8162,2,    1.31,2,   -36.7,2, -999.00,9,    39.4,2, -999.00,9,     -999.0,9,     -999.0,9, -999.00,9, 20140422,      954, -37.6668,-149.9998,    34.4777,2,     -999.0,9,     -999.0,9,     -999.0,9,     -999.0,9,     -999.0,9,     -999.0,9
320620140320,       P16S,      56,          2,         18,         18,2,20140422,       0756,   -37.6668,  -149.9998,       5636,   964.6,   5.2532,  34.3177,2,  34.3180,2,    214.4,2,   212.0,2,   21.31,2,   28.76,2,    0.00,2,    1.96,2,   2.099,2,   1.060,2,    0.33,2,  2176.1,2,  2290.2,2,   7.7168,2,       20,-999.000,9,-999.0000,9, -999.00,9,   5.2538,2,    1.32,2,   -57.2,2, -999.00,9,    39.4,2, -999.00,9,      20.32,2,     -999.0,9, -999.00,9, 20140422,      952, -37.6668,-149.9998,    34.4799,2,     -999.0,9,     -999.0,9,     -999.0,9,     -999.0,9,     -999.0,9,     -999.0,9
320620140320,       P16S,      56,          2,         17,         17,2,20140422,       0756,   -37.6668,  -149.9998,       5636,  1064.9,   4.5917,  34.3253,2,  34.3255,2,    203.7,2,   203.2,2,   28.74,2,   30.66,2,    0.00,2,    2.08,2,-999.000,9,-999.000,9, -999.00,9,  2189.5,6,    2296,2,    7.693,2,       20,-999.000,9,-999.0000,9, -999.00,9,   4.5971,2,    1.06,2,   -72.1,2, -999.00,9,    38.8,2, -999.00,9,     -999.0,9,     -999.0,9, -999.00,9, 20140422,      949, -37.6668,-149.9998,    34.4874,2,     -999.0,9,     -999.0,9,     -999.0,9,     -999.0,9,     -999.0,9,     -999.0,9
320620140320,       P16S,      56,          2,         16,         16,2,20140422,       0756,   -37.6668,  -149.9998,       5636,  1166.5,   4.1184,  34.3405,2,  34.3408,2,    197.1,2,   197.1,2,   35.88,2,   31.93,2,    0.00,2,    2.17,2,   1.111,2,   0.576,2,    0.13,2,  2201.8,2,  2302.4,2,   7.6763,2,       20,-999.000,9,-999.0000,9, -999.00,9,   4.1170,2,    0.82,2,   -92.2,2, -999.00,9,    39.8,2, -999.00,9,      21.36,2,     -999.0,9, -999.00,9, 20140422,      946, -37.6668,-149.9998,    34.5028,2,     -999.0,9,     -999.0,9,     -999.0,9,     -999.0,9,     -999.0,9,     -999.0,9
320620140320,       P16S,      56,          2,         15,         15,2,20140422,       0756,   -37.6668,  -149.9998,       5636,  1266.0,   3.6050,  34.3762,2,  34.3768,2,    189.6,2,   188.2,2,   45.66,2,   33.24,2,    0.00,2,    2.28,2,   0.632,2,   0.331,2,    0.15,2,  2216.2,2,  2310.5,2,   7.6574,2,       20,-999.000,9,-999.0000,9, -999.00,9,   3.6043,2,    0.72,2,  -113.1,2, -999.00,9,      38,2, -999.00,9,      22.62,2,     -999.0,9, -999.00,9, 20140422,      943, -37.6668,-149.9998,    34.5389,2,     -999.0,9,     -999.0,9,     -999.0,9,     -999.0,9,     -999.0,9,     -999.0,9
320620140320,       P16S,      56,          2,         14,         14,2,20140422,       0756,   -37.6668,  -149.9998,       5636,  1464.6,   3.0262,  34.4642,2,  34.4645,2,    173.3,2,   173.6,2,   62.86,2,   34.49,2,    0.00,2,    2.38,2,   0.255,2,   0.115,2,    0.09,2,  2240.4,2,  2328.5,2,   7.6369,2,       20,-999.000,9,-999.0000,9, -999.00,9,   3.0272,2,    0.53,2,  -146.7,2, -999.00,9,    37.2,2, -999.00,9,      22.65,2,     -999.0,9, -999.00,9, 20140422,      938, -37.6668,-149.9998,    34.6270,2,     -999.0,9,     -999.0,9,     -999.0,9,     -999.0,9,     -999.0,9,     -999.0,9
320620140320,       P16S,      56,          2,         13,         13,2,20140422,       0756,   -37.6668,  -149.9998,       5636,  1665.4,   2.7087,  34.5512,2,  34.5523,2,    161.3,2,   161.9,2,   81.23,2,   34.94,2,    0.00,2,    2.42,2,   0.042,2,   0.015,2,    0.07,2,  2262.5,2,    2350,2,   7.6326,2,       20,-999.000,9,-999.0000,9, -999.00,9,   2.7086,2,    0.41,2,  -170.7,2, -999.00,9,    37.4,2, -999.00,9,      24.05,2,     -999.0,9, -999.00,9, 20140422,      933, -37.6668,-149.9998,    34.7153,2,     -999.0,9,     -999.0,9,     -999.0,9,     -999.0,9,     -999.0,9,     -999.0,9
320620140320,       P16S,      56,          2,         12,         12,2,20140422,       0756,   -37.6668,  -149.9998,       5636,  1865.6,   2.4806,  34.6009,2,  34.6013,2,    154.0,2,   158.6,4,   97.26,2,   35.33,2,    0.00,2,    2.42,2,   0.011,2,   0.001,2,    0.01,2,  2281.1,2,  2370.5,2,   7.6339,2,       20,-999.000,9,-999.0000,9, -999.00,9,   2.4809,2,    0.22,2,  -197.6,2, -999.00,9,    35.5,2, -999.00,9,      22.81,2,     -999.0,9, -999.00,9, 20140422,      929, -37.6668,-149.9998,    34.7645,2,     -999.0,9,     -999.0,9,     -999.0,9,     -999.0,9,     -999.0,9,     -999.0,9
320620140320,       P16S,      56,          2,         11,         11,2,20140422,       0756,   -37.6668,  -149.9998,       5636,  2265.2,   2.1549,  34.6393,2,  34.6399,2,    150.4,2,   150.6,2,  112.90,2,   35.71,2,    0.00,2,    2.46,2,   0.000,4,   0.001,4,    0.02,4,  2299.1,2,  2389.1,2,   7.6336,6,       20,-999.000,9,-999.0000,9, -999.00,9,   2.1549,2,    0.16,2,  -213.7,2, -999.00,9,    35.8,2, -999.00,9,       3.00,4,     -999.0,9, -999.00,9, 20140422,      921, -37.6668,-149.9998,    34.8032,2,     -999.0,9,     -999.0,9,     -999.0,9,     -999.0,9,     -999.0,9,     -999.0,9
320620140320,       P16S,      56,          2,         10,         10,2,20140422,       0756,   -37.6668,  -149.9998,       5636,  2564.5,   1.9864,  34.6537,2,  34.6552,2,    149.8,2,   150.1,2,  120.71,2,   35.86,2,    0.00,2,    2.49,2,-999.000,9,-999.000,9, -999.00,9,  2305.8,2,  2396.6,2,   7.6338,2,       20,-999.000,9,-999.0000,9, -999.00,9,   1.9859,2,    0.16,2,  -223.2,2, -999.00,9,    36.4,2, -999.00,9,     -999.0,9,     -999.0,9, -999.00,9, 20140422,      914, -37.6668,-149.9998,    34.8186,2,     -999.0,9,     -999.0,9,     -999.0,9,     -999.0,9,     -999.0,9,     -999.0,9
320620140320,       P16S,      56,          2,          9,         09,2,20140422,       0756,   -37.6668,  -149.9998,       5636,  2864.5,   1.8631,  34.6638,2,  34.6643,2,    151.0,2,   150.8,2,  125.70,2,   35.91,2,    0.00,2,    2.47,2,   0.003,2,   0.001,2,    0.05,2,  2311.1,2,  2401.6,2,    7.637,2,       20,-999.000,9,-999.0000,9, -999.00,9,   1.8633,2,    0.15,2,  -220.1,2, -999.00,9,    34.4,2, -999.00,9,      22.36,2,     -999.0,9, -999.00,9, 20140422,      908, -37.6668,-149.9998,    34.8277,2,     -999.0,9,     -999.0,9,     -999.0,9,     -999.0,9,     -999.0,9,     -999.0,9
320620140320,       P16S,      56,          2,          8,         08,2,20140422,       0756,   -37.6668,  -149.9998,       5636,  3264.0,   1.7312,  34.6768,2,  34.6788,2,    157.3,2,   157.9,2,  127.06,2,   35.41,2,    0.00,2,    2.45,2,-999.000,9,-999.000,9, -999.00,9,  2305.9,6,    2400,2,   7.6436,2,       20,-999.000,9,-999.0000,9, -999.00,9,   1.7311,2,    0.02,3,  -212.8,2, -999.00,9,    36.3,2, -999.00,9,     -999.0,9,     -999.0,9, -999.00,9, 20140422,      900, -37.6668,-149.9998,    34.8423,2,     -999.0,9,     -999.0,9,     -999.0,9,     -999.0,9,     -999.0,9,     -999.0,9
320620140320,       P16S,      56,          2,          7,         07,2,20140422,       0756,   -37.6668,  -149.9998,       5636,  3666.0,   1.6076,  34.6944,2,  34.6961,2,    172.3,2,   172.5,2,  121.00,2,   34.21,2,    0.00,2,    2.35,2,-999.000,9,-999.000,9, -999.00,9,  2289.2,2,  2387.3,6,   7.6553,2,       20,-999.000,9,-999.0000,9, -999.00,9,   1.6074,2,    0.25,2,  -202.8,2, -999.00,9,      37,2, -999.00,9,     -999.0,9,     -999.0,9, -999.00,9, 20140422,      853, -37.6668,-149.9998,    34.8597,2,     -999.0,9,     -999.0,9,     -999.0,9,     -999.0,9,     -999.0,9,     -999.0,9
320620140320,       P16S,      56,          2,          6,         06,2,20140422,       0756,   -37.6668,  -149.9998,       5636,  4062.3,   1.4358,  34.7108,2,  34.7111,2,    190.2,2,   190.5,2,  114.16,2,   32.76,2,    0.00,2,    2.25,2,   0.009,2,   0.001,2,    0.00,2,  2269.3,2,    2372,2,   7.6703,2,       20,-999.000,9,-999.0000,9, -999.00,9,   1.4356,2,    0.33,2,  -180.7,2, -999.00,9,    38.2,2, -999.00,9,      20.59,2,     -999.0,9, -999.00,9, 20140422,      844, -37.6668,-149.9998,    34.8748,2,     -999.0,9,     -999.0,9,     -999.0,9,     -999.0,9,     -999.0,9,     -999.0,9