BOTTLE,20230715CCHSIOCBG
EXPOCODE,SECT_ID,STNNBR,CASTNO,SAMPNO,BTLNBR,BTLNBR_FLAG_W,DATE,TIME,LATITUDE,LONGITUDE,DEPTH,CTDPRS,CTDTMP,CTDSAL,CTDSAL_FLAG_W,SALNTY,SALNTY_FLAG_W,CTDOXY,CTDOXY_FLAG_W,OXYGEN,OXYGEN_FLAG_W,SILCAT,SILCAT_FLAG_W,NITRAT,NITRAT_FLAG_W,NITRIT,NITRIT_FLAG_W,PHSPHT,PHSPHT_FLAG_W,CFC-11,CFC-11_FLAG_W,CFC-12,CFC-12_FLAG_W,SF6,SF6_FLAG_W,TCARBN,TCARBN_FLAG_W,ALKALI,ALKALI_FLAG_W,PH_TOT,PH_TOT_FLAG_W,PH_TMP,TRITUM,TRITUM_FLAG_W,HELIUM,HELIUM_FLAG_W,DELHE3,DELHE3_FLAG_W,REFTMP,REFTMP_FLAG_W,DELC13,DELC13_FLAG_W,DELC14,DELC14_FLAG_W,DELO18,DELO18_FLAG_W,DOC,DOC_FLAG_W,TDN,TDN_FLAG_W,N2O,N2O_FLAG_W,CALCIUM,CALCIUM_FLAG_W,D15N_NO3,D15N_NO3_FLAG_W,BTL_DATE,BTL_TIME,BTL_LAT,BTL_LON,SALTREF,SALTREF_FLAG_W,D18O_NO3,D18O_NO3_FLAG_W,DSI30,DSI30_FLAG_W,CDOM_NASA,CDOM_NASA_FLAG_W,CDOM_UCSB,CDOM_UCSB_FLAG_W,D15N_NO2+NO3,D15N_NO2+NO3_FLAG_W,D18O_NO2+NO3,D18O_NO2+NO3_FLAG_W
,,,,,,,,,,,METERS,DBAR,ITS-90,PSS-78,,PSS-78,,UMOL/KG,,UMOL/KG,,UMOL/KG,,UMOL/KG,,UMOL/KG,,UMOL/KG,,PMOL/KG,,PMOL/KG,,FMOL/KG,,UMOL/KG,,UMOL/KG,,,,DEG C,TU,,NMOL/KG,,PERCNT,,DEG C,,/MILLE,,/MILLE,,/MILLE,,UMOL/KG,,UMOL/KG,,NMOL/KG,,MMOL/KG,,/MILLE,,,,,,G/KG,,/MILLE,,/MILLE,,,,,,/MILLE,,/MILLE,
320620140320,       P16S,      28,          1,         36,         36,2,20140411,       1417,   -54.5003,  -149.9997,       3502,     2.9,   6.0755,  33.8238,2,  33.8234,2,    302.5,2,   303.3,2,    1.07,2,   21.06,2,    0.22,2,    1.47,2,   4.354,2,   2.360,2,    2.51,2,  2117.4,2,  2272.7,2,   7.8435,2,       20,-999.000,9,-999.0000,9, -999.00,9,   6.0754,2, -999.00,9,  -999.0,9, -999.00,9,  -999.0,9, -999.00,9,      12.67,2,     -999.0,9, -999.00,9, 20140411,     1608, -54.5003,-149.9995,    33.9829,2,     -999.0,9,     -999.0,9,     -999.0,9,     -999.0,9,     -999.0,9,     -999.0,9
320620140320,       P16S,      28,          1,         35,         35,2,20140411,       1417,   -54.5003,  -149.9997,       3502,    20.9,   6.0828,  33.8235,2,  33.8226,2,    303.6,2,   303.1,2,    1.07,2,   21.15,2,    0.22,2,    1.49,2,-999.000,9,-999.000,9, -999.00,9,  2118.9,2,  2272.6,2,    7.843,2,       20,-999.000,9,-999.0000,9, -999.00,9,   6.0827,2, -999.00,9,  -999.0,9, -999.00,9,  -999.0,9, -999.00,9,     -999.0,9,     -999.0,9, -999.00,9, 20140411,     1606, -54.5003,-149.9996,    33.9821,2,     -999.0,9,     -999.0,9,     -999.0,9,     -999.0,9,     -999.0,9,     -999.0,9
320620140320,       P16S,      28,          1,         34,         34,2,20140411,       1417,   -54.5003,  -149.9997,       3502,    40.0,   6.0878,  33.8232,2,  33.8226,2,    303.9,2,   303.2,2,    1.07,2,   21.15,2,    0.22,2,    1.48,2,-999.000,9,-999.000,9, -999.00,9,  2117.6,2,  2272.7,2,   7.8438,2,       20,-999.000,9,-999.0000,9, -999.00,9,   6.0870,2, -999.00,9,  -999.0,9, -999.00,9,  -999.0,9, -999.00,9,     -999.0,9,     -999.0,9, -999.00,9, 20140411,     1604, -54.5003,-149.9995,    33.9821,2,     -999.0,9,     -999.0,9,     -999.0,9,     -999.0,9,     -999.0,9,     -999.0,9
320620140320,       P16S,      28,          1,         33,         33,2,20140411,       1417,   -54.5003,  -149.9997,       3502,    66.0,   6.0909,  33.8221,2,  33.8232,2,    303.8,2,   303.2,2,    1.07,2,   21.14,2,    0.22,2,    1.50,2,   4.350,2,   2.337,2,    2.41,2,  2117.4,2,    2275,2,    7.843,2,       20,-999.000,9,-999.0000,9, -999.00,9,   6.0865,2, -999.00,9,  -999.0,9, -999.00,9,  -999.0,9, -999.00,9,      13.09,2,     -999.0,9, -999.00,9, 20140411,     1602, -54.5003,-149.9995,    33.9827,2,     -999.0,9,     -999.0,9,     -999.0,9,     -999.0,9,     -999.0,9,     -999.0,9
320620140320,       P16S,      28,          1,         32,         32,2,20140411,       1417,   -54.5003,  -149.9997,       3502,    91.1,   3.3450,  33.9286,2,  33.9277,2,    314.2,2,   312.6,2,    5.18,2,   23.19,2,    0.37,2,    1.78,2,-999.000,9,-999.000,9, -999.00,9,  2144.3,2,  2278.2,2,   7.7871,2,       20,-999.000,9,-999.0000,9, -999.00,9,   3.3411,2, -999.00,9,  -999.0,9, -999.00,9,  -999.0,9, -999.00,9,     -999.0,9,     -999.0,9, -999.00,9, 20140411,     1600, -54.5003,-149.9995,    34.0877,2,     -999.0,9,     -999.0,9,     -999.0,9,     -999.0,9,     -999.0,9,     -999.0,9
320620140320,       P16S,      28,          1,         31,         31,2,20140411,       1417,   -54.5003,  -149.9997,       3502,   114.7,   3.0189,  33.9323,2,  33.9328,2,    311.5,2,   310.6,2,    7.72,2,   24.22,2,    0.58,2,    1.81,2,-999.000,9,-999.000,9, -999.00,9,  2148.2,2,  2277.6,2,   7.7738,2,       20,-999.000,9,-999.0000,9, -999.00,9,   3.0155,2, -999.00,9,  -999.0,9, -999.00,9,  -999.0,9, -999.00,9,     -999.0,9,     -999.0,9, -999.00,9, 20140411,     1559, -54.5003,-149.9995,    34.0928,2,     -999.0,9,     -999.0,9,     -999.0,9,     -999.0,9,     -999.0,9,     -999.0,9
320620140320,       P16S,      28,          1,         30,         30,2,20140411,       1417,   -54.5003,  -149.9997,       3502,   143.0,   2.8480,  33.9519,2,  33.9489,2,    301.9,2,   306.5,2,   11.92,2,   26.20,2,    0.27,2,    1.83,2,   4.945,2,   2.668,2,    2.74,2,  2151.5,2,    2277,2,    7.758,2,       20,-999.000,9,-999.0000,9, -999.00,9,   2.8615,2, -999.00,9,  -999.0,9, -999.00,9,  -999.0,9, -999.00,9,      15.00,2,     -999.0,9, -999.00,9, 20140411,     1557, -54.5003,-149.9995,    34.1089,2,     -999.0,9,     -999.0,9,     -999.0,9,     -999.0,9,     -999.0,9,     -999.0,9
320620140320,       P16S,      28,          1,         29,         29,2,20140411,       1417,   -54.5003,  -149.9997,       3502,   184.1,   2.8066,  34.0015,2,  34.0000,2,    299.0,2,   297.1,2,   16.81,2,   27.42,2,    0.01,2,    1.87,2,-999.000,9,-999.000,9, -999.00,9,  2159.1,2,    2278,2,   7.7412,2,       20,-999.000,9,-999.0000,9, -999.00,9,   2.8060,2, -999.00,9,  -999.0,9, -999.00,9,  -999.0,9, -999.00,9,     -999.0,9,     -999.0,9, -999.00,9, 20140411,     1555, -54.5003,-149.9996,    34.1603,2,     -999.0,9,     -999.0,9,     -999.0,9,     -999.0,9,     -999.0,9,     -999.0,9
320620140320,       P16S,      28,          1,         28,         28,2,20140411,       1417,   -54.5003,  -149.9997,       3502,   235.2,   2.8413,  34.0501,2,  34.0539,2,    286.5,2,   282.2,2,   20.13,2,   28.21,2,    0.01,2,    1.92,2,-999.000,9,-999.000,9, -999.00,9,  -999.0,9,  -999.0,9,-999.0000,9,  -999.00,-999.000,9,-999.0000,9, -999.00,9,   2.8385,2, -999.00,9,  -999.0,9, -999.00,9,  -999.0,9, -999.00,9,     -999.0,9,     -999.0,9, -999.00,9, 20140411,     1553, -54.5003,-149.9995,    34.2144,2,     -999.0,9,     -999.0,9,     -999.0,9,     -999.0,9,     -999.0,9,     -999.0,9
320620140320,       P16S,      28,          1,         27,         27,2,20140411,       1417,   -54.5003,  -149.9997,       3502,   284.0,   3.0130,  34.0979,2,  34.0954,2,    258.8,2,   269.9,2,   22.57,2,   28.84,2,    0.01,2,    1.96,2,   4.243,2,   2.183,2,    1.95,2,  2173.7,2,    2283,2,    7.716,2,       20,-999.000,9,-999.0000,9, -999.00,9,   3.0110,2, -999.00,9,  -999.0,9, -999.00,9,  -999.0,9, -999.00,9,      17.77,2,     -999.0,9, -999.00,9, 20140411,     1551, -54.5003,-149.9995,    34.2562,2,     -999.0,9,     -999.0,9,     -999.0,9,     -999.0,9,     -999.0,9,     -999.0,9
320620140320,       P16S,      28,          1,         26,         26,2,20140411,       1417,   -54.5003,  -149.9997,       3502,   332.5,   2.7952,  34.1064,2,  34.1044,2,    265.1,2,   266.4,2,   25.50,2,   29.60,2,    0.01,2,    2.01,2,-999.000,9,-999.000,9, -999.00,9,  -999.0,9,  -999.0,9,-999.0000,9,  -999.00,-999.000,9,-999.0000,9, -999.00,9,   2.7968,2, -999.00,9,  -999.0,9, -999.00,9,  -999.0,9, -999.00,9,     -999.0,9,     -999.0,9, -999.00,9, 20140411,     1549, -54.5003,-149.9995,    34.2652,2,     -999.0,9,     -999.0,9,     -999.0,9,     -999.0,9,     -999.0,9,     -999.0,9
320620140320,       P16S,      28,          1,         25,         25,2,20140411,       1417,   -54.5003,  -149.9997,       3502,   385.5,   3.0513,  34.1751,2,  34.1722,2,    242.8,2,   244.9,2,   29.89,2,   30.51,2,    0.01,2,    2.09,2,-999.000,9,-999.000,9, -999.00,9,  2189.8,2,  2291.7,2,   7.6868,2,       20,-999.000,9,-999.0000,9, -999.00,9,   3.0554,2, -999.00,9,  -999.0,9, -999.00,9,  -999.0,9, -999.00,9,     -999.0,9,     -999.0,9, -999.00,9, 20140411,     1547, -54.5003,-149.9996,    34.3334,2,     -999.0,9,     -999.0,9,     -999.0,9,     -999.0,9,     -999.0,9,     -999.0,9
320620140320,       P16S,      28,          1,         24,         24,2,20140411,       1417,   -54.5003,  -149.9997,       3502,   433.9,   3.3442,  34.2544,2,  34.2530,2,    224.4,2,   221.2,2,   35.27,2,   31.57,2,    0.01,2,    2.16,2,   2.943,2,   1.477,2,    0.80,2,  2202.3,2,  2297.1,6,    7.668,2,       20,-999.000,9,-999.0000,9, -999.00,9,   3.3455,2, -999.00,9,  -999.0,9, -999.00,9,  -999.0,9, -999.00,9,      21.64,2,     -999.0,9, -999.00,9, 20140411,     1545, -54.5003,-149.9995,    34.4146,2,     -999.0,9,     -999.0,9,     -999.0,9,     -999.0,9,     -999.0,9,     -999.0,9
320620140320,       P16S,      28,          1,         23,         23,2,20140411,       1417,   -54.5003,  -149.9997,       3502,   485.2,   3.1809,  34.2761,2,  34.2744,2,    216.0,2,   215.4,2,   39.37,2,   32.25,2,    0.00,2,    2.20,2,-999.000,9,-999.000,9, -999.00,9,  -999.0,9,  -999.0,9,-999.0000,9,  -999.00,-999.000,9,-999.0000,9, -999.00,9,   3.1804,2, -999.00,9,  -999.0,9, -999.00,9,  -999.0,9, -999.00,9,     -999.0,9,     -999.0,9, -999.00,9, 20140411,     1543, -54.5003,-149.9995,    34.4360,2,     -999.0,9,     -999.0,9,     -999.0,9,     -999.0,9,     -999.0,9,     -999.0,9
320620140320,       P16S,      28,          1,         22,         22,2,20140411,       1417,   -54.5003,  -149.9997,       3502,   564.2,   2.7378,  34.2898,2,  34.2840,2,    220.7,2,   215.1,2,   45.23,2,   33.05,2,    0.00,2,    2.31,2,-999.000,9,-999.000,9, -999.00,9,  2216.5,6,  2304.8,2,   7.6449,2,       20,-999.000,9,-999.0000,9, -999.00,9,   2.7216,3, -999.00,9,  -999.0,9, -999.00,9,  -999.0,9, -999.00,9,     -999.0,9,     -999.0,9, -999.00,9, 20140411,     1541, -54.5003,-149.9995,    34.4457,2,     -999.0,9,     -999.0,9,     -999.0,9,     -999.0,9,     -999.0,9,     -999.0,9
320620140320,       P16S,      28,          1,         21,         21,2,20140411,       1417,   -54.5003,  -149.9997,       3502,   660.8,   2.5481,  34.3557,2,  34.3519,2,    202.8,2,   201.1,2,   53.53,2,   33.96,2,    0.00,2,    2.36,2,   2.120,2,   1.041,2,    0.95,2,  2229.2,2,  2313.6,2,    7.628,6,       20,-999.000,9,-999.0000,9, -999.00,9,   2.5482,2, -999.00,9,  -999.0,9, -999.00,9,  -999.0,9, -999.00,9,      21.58,4,     -999.0,9, -999.00,9, 20140411,     1538, -54.5003,-149.9995,    34.5139,2,     -999.0,9,     -999.0,9,     -999.0,9,     -999.0,9,     -999.0,9,     -999.0,9
320620140320,       P16S,      28,          1,         20,         20,2,20140411,       1417,   -54.5003,  -149.9997,       3502,   763.1,   2.6620,  34.4541,2,  34.4536,2,    183.1,2,   181.0,2,   62.51,2,   34.44,2,    0.00,2,    2.39,2,-999.000,9,-999.000,9, -999.00,9,  -999.0,9,  -999.0,9,-999.0000,9,  -999.00,-999.000,9,-999.0000,9, -999.00,9,   2.6638,2, -999.00,9,  -999.0,9, -999.00,9,  -999.0,9, -999.00,9,     -999.0,9,     -999.0,9, -999.00,9, 20140411,     1534, -54.5003,-149.9995,    34.6160,2,     -999.0,9,     -999.0,9,     -999.0,9,     -999.0,9,     -999.0,9,     -999.0,9
320620140320,       P16S,      28,          1,         19,         19,2,20140411,       1417,   -54.5003,  -149.9997,       3502,   862.3,   2.5325,  34.5095,2,  34.5084,2,    176.3,2,   175.0,2,   68.08,2,   34.53,2,    0.00,2,    2.41,2,-999.000,9,-999.000,9, -999.00,9,  2249.2,2,  2327.4,2,   7.6109,2,       20,-999.000,9,-999.0000,9, -999.00,9,   2.5329,2, -999.00,9,  -999.0,9, -999.00,9,  -999.0,9, -999.00,9,     -999.0,9,     -999.0,9, -999.00,9, 20140411,     1531, -54.5003,-149.9995,    34.6711,2,     -999.0,9,     -999.0,9,     -999.0,9,     -999.0,9,     -999.0,9,     -999.0,9
320620140320,       P16S,      28,          1,         18,         18,2,20140411,       1417,   -54.5003,  -149.9997,       3502,   964.2,   2.5155,  34.5631,2,  34.5620,2,    173.5,2,   173.2,2,   71.30,2,   33.98,2,    0.00,2,    2.36,2,   0.680,2,   0.331,2,    0.11,2,  2251.3,2,  2333.4,2,   7.6192,2,       20,-999.000,9,-999.0000,9, -999.00,9,   2.5157,2, -999.00,9,  -999.0,9, -999.00,9,  -999.0,9, -999.00,9,      24.76,2,     -999.0,9, -999.00,9, 20140411,     1528, -54.5003,-149.9996,    34.7249,2,     -999.0,9,     -999.0,9,     -999.0,9,     -999.0,9,     -999.0,9,     -999.0,9
320620140320,       P16S,      28,          1,         17,         17,2,20140411,       1417,   -54.5003,  -149.9997,       3502,  1063.4,   2.4623,  34.5995,2,  34.5979,2,    173.0,2,   173.1,2,   73.83,2,   33.64,2,    0.00,2,    2.34,2,-999.000,9,-999.000,9, -999.00,9,  2251.7,2,  2337.5,2,   7.6255,2,       20,-999.000,9,-999.0000,9, -999.00,9,   2.4630,2, -999.00,9,  -999.0,9, -999.00,9,  -999.0,9, -999.00,9,     -999.0,9,     -999.0,9, -999.00,9, 20140411,     1525, -54.5003,-149.9995,    34.7611,2,     -999.0,9,     -999.0,9,     -999.0,9,     -999.0,9,     -999.0,9,     -999.0,9
320620140320,       P16S,      28,          1,         16,         16,2,20140411,       1417,   -54.5003,  -149.9997,       3502,  1165.1,   2.4045,  34.6278,2,  34.6280,2,    173.2,2,   173.5,2,   77.06,2,   33.26,2,    0.00,2,    2.28,2,   0.406,2,   0.181,2,    0.05,2,  2254.3,2,  2342.1,2,   7.6327,2,       20,-999.000,9,-999.0000,9, -999.00,9,   2.4044,2, -999.00,9,  -999.0,9, -999.00,9,  -999.0,9, -999.00,9,      23.78,2,     -999.0,9, -999.00,9, 20140411,     1522, -54.5003,-149.9996,    34.7913,2,     -999.0,9,     -999.0,9,     -999.0,9,     -999.0,9,     -999.0,9,     -999.0,9
320620140320,       P16S,      28,          1,         15,         15,2,20140411,       1417,   -54.5003,  -149.9997,       3502,  1265.8,   2.3404,  34.6544,2,  34.6543,2,    175.1,2,   175.5,2,   78.42,2,   32.86,2,    0.00,2,    2.24,2,-999.000,9,-999.000,9, -999.00,9,  2253.3,2,  2343.4,2,   7.6373,2,       20,-999.000,9,-999.0000,9, -999.00,9,   2.3406,2, -999.00,9,  -999.0,9, -999.00,9,  -999.0,9, -999.00,9,     -999.0,9,     -999.0,9, -999.00,9, 20140411,     1519, -54.5003,-149.9995,    34.8177,2,     -999.0,9,     -999.0,9,     -999.0,9,     -999.0,9,     -999.0,9,     -999.0,9
320620140320,       P16S,      28,          1,         14,         14,2,20140411,       1417,   -54.5003,  -149.9997,       3502,  1366.0,   2.2768,  34.6744,2,  34.6698,2,    176.2,2,   176.7,2,   80.47,2,   32.56,2,    0.00,2,    2.22,2,   0.286,2,   0.117,2,    0.05,2,  2254.2,2,  2346.1,2,    7.642,2,       20,-999.000,9,-999.0000,9, -999.00,9,   2.2777,2, -999.00,9,  -999.0,9, -999.00,9,  -999.0,9, -999.00,9,      23.62,2,     -999.0,9, -999.00,9, 20140411,     1516, -54.5003,-149.9995,    34.8333,2,     -999.0,9,     -999.0,9,     -999.0,9,     -999.0,9,     -999.0,9,     -999.0,9
320620140320,       P16S,      28,          1,         13,         13,2,20140411,       1417,   -54.5003,  -149.9997,       3502,  1465.1,   2.2196,  34.6925,2,  34.6912,2,    179.1,2,   179.7,2,   81.54,2,   32.11,2,    0.00,2,    2.19,2,-999.000,9,-999.000,9, -999.00,9,  -999.0,9,  -999.0,9,-999.0000,9,  -999.00,-999.000,9,-999.0000,9, -999.00,9,   2.2193,2, -999.00,9,  -999.0,9, -999.00,9,  -999.0,9, -999.00,9,     -999.0,9,     -999.0,9, -999.00,9, 20140411,     1512, -54.5003,-149.9996,    34.8548,2,     -999.0,9,     -999.0,9,     -999.0,9,     -999.0,9,     -999.0,9,     -999.0,9
320620140320,       P16S,      28,          1,         12,         12,2,20140411,       1417,   -54.5003,  -149.9997,       3502,  1564.2,   2.1592,  34.7056,2,  34.7052,2,    181.4,2,   181.6,2,   82.81,2,   31.85,2,    0.00,2,    2.17,2,-999.000,9,-999.000,9, -999.00,9,  -999.0,9,  -999.0,9,-999.0000,9,  -999.00,-999.000,9,-999.0000,9, -999.00,9,   2.1599,2, -999.00,9,  -999.0,9, -999.00,9,  -999.0,9, -999.00,9,     -999.0,9,     -999.0,9, -999.00,9, 20140411,     1509, -54.5003,-149.9995,    34.8688,2,     -999.0,9,     -999.0,9,     -999.0,9,     -999.0,9,     -999.0,9,     -999.0,9
320620140320,       P16S,      28,          1,         11,         11,2,20140411,       1417,   -54.5003,  -149.9997,       3502,  1666.8,   2.1026,  34.7173,2,  34.7170,2,    184.2,2,   184.0,2,   84.08,2,   31.56,2,    0.00,2,    2.15,2,   0.210,2,   0.080,2,    0.02,2,  2252.1,2,  2348.2,2,   7.6574,2,       20,-999.000,9,-999.0000,9, -999.00,9,   2.1030,2, -999.00,9,  -999.0,9, -999.00,9,  -999.0,9, -999.00,9,      22.01,2,     -999.0,9, -999.00,9, 20140411,     1506, -54.5003,-149.9995,    34.8807,2,     -999.0,9,     -999.0,9,     -999.0,9,     -999.0,9,     -999.0,9,     -999.0,9
320620140320,       P16S,      28,          1,         10,         10,2,20140411,       1417,   -54.5003,  -149.9997,       3502,  1764.5,   2.0347,  34.7246,2,  34.7246,2,    186.5,2,   186.4,2,   85.94,2,   31.34,2,    0.00,2,    2.14,2,-999.000,9,-999.000,9, -999.00,9,  -999.0,9,  -999.0,9,-999.0000,9,  -999.00,-999.000,9,-999.0000,9, -999.00,9,   2.0349,2, -999.00,9,  -999.0,9, -999.00,9,  -999.0,9, -999.00,9,     -999.0,9,     -999.0,9, -999.00,9, 20140411,     1503, -54.5003,-149.9995,    34.8884,2,     -999.0,9,     -999.0,9,     -999.0,9,     -999.0,9,     -999.0,9,     -999.0,9
320620140320,       P16S,      28,          1,          9,         09,2,20140411,       1417,   -54.5003,  -149.9997,       3502,  1933.8,   1.9062,  34.7331,2,  34.7335,2,    190.0,2,   190.0,2,   89.26,2,   31.15,2,    0.00,2,    2.12,2,   0.160,2,   0.048,2,    0.06,2,  2252.1,2,  2352.7,2,   7.6689,2,       20,-999.000,9,-999.0000,9, -999.00,9,   1.9066,2, -999.00,9,  -999.0,9, -999.00,9,  -999.0,9, -999.00,9,      21.36,2,     -999.0,9, -999.00,9, 20140411,     1458, -54.5003,-149.9996,    34.8973,2,     -999.0,9,     -999.0,9,     -999.0,9,     -999.0,9,     -999.0,9,     -999.0,9
320620140320,       P16S,      28,          1,          8,         08,2,20140411,       1417,   -54.5003,  -149.9997,       3502,  2133.8,   1.7605,  34.7367,2,  34.7364,2,    193.4,2,   193.5,2,   93.26,2,   31.07,2,    0.00,2,    2.11,2,-999.000,9,-999.000,9, -999.00,9,  -999.0,9,  -999.0,9,-999.0000,9,  -999.00,-999.000,9,-999.0000,9, -999.00,9,   1.7613,2, -999.00,9,  -999.0,9, -999.00,9,  -999.0,9, -999.00,9,     -999.0,9,     -999.0,9, -999.00,9, 20140411,     1453, -54.5003,-149.9995,    34.9002,2,     -999.0,9,     -999.0,9,     -999.0,9,     -999.0,9,     -999.0,9,     -999.0,9
320620140320,       P16S,      28,          1,          7,         07,2,20140411,       1417,   -54.5003,  -149.9997,       3502,  2335.6,   1.6057,  34.7356,2,  34.7357,2,    196.2,2,   195.9,2,   98.05,2,   31.15,2,    0.00,2,    2.12,2,   0.122,2,   0.041,2,    0.10,2,  2254.3,2,  2357.6,2,   7.6744,2,       20,-999.000,9,-999.0000,9, -999.00,9,   1.6060,2, -999.00,9,  -999.0,9, -999.00,9,  -999.0,9, -999.00,9,      20.30,2,     -999.0,9, -999.00,9, 20140411,     1448, -54.5003,-149.9996,    34.8995,2,     -999.0,9,     -999.0,9,     -999.0,9,     -999.0,9,     -999.0,9,     -999.0,9
320620140320,       P16S,      28,          1,          6,         06,2,20140411,       1417,   -54.5003,  -149.9997,       3502,  2535.4,   1.4589,  34.7319,2,  34.7321,2,    198.4,2,   197.9,2,  102.34,2,   31.29,2,    0.00,2,    2.12,2,-999.000,9,-999.000,9, -999.00,9,  -999.0,9,  -999.0,9,-999.0000,9,  -999.00,-999.000,9,-999.0000,9, -999.00,9,   1.4593,2, -999.00,9,  -999.0,9, -999.00,9,  -999.0,9, -999.00,9,     -999.0,9,     -999.0,9, -999.00,9, 20140411,     1443, -54.5003,-149.9996,    34.8959,2,     -999.0,9,     -999.0,9,     -999.0,9,     -999.0,9,     -999.0,9,     -999.0,9