BOTTLE,20230715CCHSIOCBG
EXPOCODE,SECT_ID,STNNBR,CASTNO,SAMPNO,BTLNBR,BTLNBR_FLAG_W,DATE,TIME,LATITUDE,LONGITUDE,DEPTH,CTDPRS,CTDTMP,CTDSAL,CTDSAL_FLAG_W,SALNTY,SALNTY_FLAG_W,CTDOXY,CTDOXY_FLAG_W,OXYGEN,OXYGEN_FLAG_W,SILCAT,SILCAT_FLAG_W,NITRAT,NITRAT_FLAG_W,NITRIT,NITRIT_FLAG_W,PHSPHT,PHSPHT_FLAG_W,CFC-11,CFC-11_FLAG_W,CFC-12,CFC-12_FLAG_W,SF6,SF6_FLAG_W,TCARBN,TCARBN_FLAG_W,ALKALI,ALKALI_FLAG_W,PH_TOT,PH_TOT_FLAG_W,PH_TMP,TRITUM,TRITUM_FLAG_W,HELIUM,HELIUM_FLAG_W,DELHE3,DELHE3_FLAG_W,REFTMP,REFTMP_FLAG_W,DELC13,DELC13_FLAG_W,DELC14,DELC14_FLAG_W,DELO18,DELO18_FLAG_W,DOC,DOC_FLAG_W,TDN,TDN_FLAG_W,N2O,N2O_FLAG_W,CALCIUM,CALCIUM_FLAG_W,D15N_NO3,D15N_NO3_FLAG_W,BTL_DATE,BTL_TIME,BTL_LAT,BTL_LON,SALTREF,SALTREF_FLAG_W,D18O_NO3,D18O_NO3_FLAG_W,DSI30,DSI30_FLAG_W,CDOM_NASA,CDOM_NASA_FLAG_W,CDOM_UCSB,CDOM_UCSB_FLAG_W,D15N_NO2+NO3,D15N_NO2+NO3_FLAG_W,D18O_NO2+NO3,D18O_NO2+NO3_FLAG_W
,,,,,,,,,,,METERS,DBAR,ITS-90,PSS-78,,PSS-78,,UMOL/KG,,UMOL/KG,,UMOL/KG,,UMOL/KG,,UMOL/KG,,UMOL/KG,,PMOL/KG,,PMOL/KG,,FMOL/KG,,UMOL/KG,,UMOL/KG,,,,DEG C,TU,,NMOL/KG,,PERCNT,,DEG C,,/MILLE,,/MILLE,,/MILLE,,UMOL/KG,,UMOL/KG,,NMOL/KG,,MMOL/KG,,/MILLE,,,,,,G/KG,,/MILLE,,/MILLE,,,,,,/MILLE,,/MILLE,
320620140320,       P16S,      48,          3,          5,         05,2,20140419,       0122,   -42.9955,  -149.9978,       5165,  4197.1,   1.2387,  34.7144,2,  34.7145,2,    199.5,2,   199.3,2,  114.62,2,   32.22,2,    0.00,2,    2.22,2,-999.000,9,-999.000,9, -999.00,9,  2266.3,2,  2369.1,2,   7.6779,2,       20,-999.000,9,-999.0000,9, -999.00,9,   1.2393,2, -999.00,9,  -999.0,9, -999.00,9,    37.2,2, -999.00,9,     -999.0,9,     -999.0,9, -999.00,9, 20140419,      158, -42.9955,-149.9977,    34.8782,2,     -999.0,9,     -999.0,9,     -999.0,9,     -999.0,9,     -999.0,9,     -999.0,9
320620140320,       P16S,      48,          3,          4,         04,2,20140419,       0122,   -42.9955,  -149.9978,       5165,  4500.0,   1.1835,  34.7134,2,  34.7137,2,    201.4,2,   201.2,2,  116.77,2,   32.30,2,    0.00,2,    2.22,2,   0.009,2,   0.002,2,    0.00,2,  2266.1,2,  2371.7,2,   7.6795,2,       20,-999.000,9,-999.0000,9, -999.00,9,   1.1832,2, -999.00,9,  -999.0,9, -999.00,9,    38.4,2, -999.00,9,      20.47,2,     -999.0,1, -999.00,9, 20140419,      148, -42.9955,-149.9978,    34.8774,2,     -999.0,9,     -999.0,9,     -999.0,9,     -999.0,9,     -999.0,9,     -999.0,9
320620140320,       P16S,      48,          3,          3,         03,2,20140419,       0122,   -42.9955,  -149.9978,       5165,  4750.4,   1.1775,  34.7128,2,  34.7127,2,    201.2,2,   201.4,2,  117.94,2,   32.35,2,    0.00,2,    2.21,2,-999.000,9,-999.000,9, -999.00,9,  2267.5,2,  2372.9,6,   7.6791,2,       20,-999.000,9,-999.0000,9, -999.00,9,   1.1771,2, -999.00,9,  -999.0,9, -999.00,9,    38.2,2, -999.00,9,     -999.0,9,     -999.0,9, -999.00,9, 20140419,      140, -42.9955,-149.9978,    34.8764,2,     -999.0,9,     -999.0,9,     -999.0,9,     -999.0,9,     -999.0,9,     -999.0,9
320620140320,       P16S,      48,          3,          2,         02,2,20140419,       0122,   -42.9955,  -149.9978,       5165,  5001.3,   1.1936,  34.7124,2,  34.7139,2,    201.6,2,   201.3,2,  118.13,2,   32.35,2,    0.00,2,    2.22,2,   0.016,2,   0.001,2,    0.00,2,  2267.9,6,  2374.6,2,   7.6791,2,       20,-999.000,9,-999.0000,9, -999.00,9,   1.1935,2,    0.55,6,  -165.0,6, -999.00,9,    38.8,2, -999.00,9,      20.87,2,     -999.0,9, -999.00,9, 20140419,      131, -42.9955,-149.9978,    34.8775,2,     -999.0,9,     -999.0,9,     -999.0,9,     -999.0,9,     -999.0,9,     -999.0,9
320620140320,       P16S,      48,          3,          1,         01,2,20140419,       0122,   -42.9955,  -149.9978,       5165,  5253.9,   1.2108,  34.7120,2,  34.7127,2,    201.9,2,   202.2,2,  118.33,2,   32.45,2,    0.00,2,    2.23,2,   0.013,2,   0.001,2,    0.01,2,  2268.3,2,  2372.7,2,   7.6796,6,       20,-999.000,9,-999.0000,9, -999.00,9,   1.2112,2, -999.00,9,  -999.0,9, -999.00,9,    38.6,2, -999.00,9,      21.00,2,     -999.0,1, -999.00,9, 20140419,      121, -42.9955,-149.9978,    34.8764,2,     -999.0,9,     -999.0,9,     -999.0,9,     -999.0,9,     -999.0,9,     -999.0,9