BOTTLE,20230715CCHSIOCBG
EXPOCODE,SECT_ID,STNNBR,CASTNO,SAMPNO,BTLNBR,BTLNBR_FLAG_W,DATE,TIME,LATITUDE,LONGITUDE,DEPTH,CTDPRS,CTDTMP,CTDSAL,CTDSAL_FLAG_W,SALNTY,SALNTY_FLAG_W,CTDOXY,CTDOXY_FLAG_W,OXYGEN,OXYGEN_FLAG_W,SILCAT,SILCAT_FLAG_W,NITRAT,NITRAT_FLAG_W,NITRIT,NITRIT_FLAG_W,PHSPHT,PHSPHT_FLAG_W,CFC-11,CFC-11_FLAG_W,CFC-12,CFC-12_FLAG_W,SF6,SF6_FLAG_W,TCARBN,TCARBN_FLAG_W,ALKALI,ALKALI_FLAG_W,PH_TOT,PH_TOT_FLAG_W,PH_TMP,TRITUM,TRITUM_FLAG_W,HELIUM,HELIUM_FLAG_W,DELHE3,DELHE3_FLAG_W,REFTMP,REFTMP_FLAG_W,DELC13,DELC13_FLAG_W,DELC14,DELC14_FLAG_W,DELO18,DELO18_FLAG_W,DOC,DOC_FLAG_W,TDN,TDN_FLAG_W,N2O,N2O_FLAG_W,CALCIUM,CALCIUM_FLAG_W,D15N_NO3,D15N_NO3_FLAG_W,BTL_DATE,BTL_TIME,BTL_LAT,BTL_LON,SALTREF,SALTREF_FLAG_W,D18O_NO3,D18O_NO3_FLAG_W,DSI30,DSI30_FLAG_W,CDOM_NASA,CDOM_NASA_FLAG_W,CDOM_UCSB,CDOM_UCSB_FLAG_W,D15N_NO2+NO3,D15N_NO2+NO3_FLAG_W,D18O_NO2+NO3,D18O_NO2+NO3_FLAG_W
,,,,,,,,,,,METERS,DBAR,ITS-90,PSS-78,,PSS-78,,UMOL/KG,,UMOL/KG,,UMOL/KG,,UMOL/KG,,UMOL/KG,,UMOL/KG,,PMOL/KG,,PMOL/KG,,FMOL/KG,,UMOL/KG,,UMOL/KG,,,,DEG C,TU,,NMOL/KG,,PERCNT,,DEG C,,/MILLE,,/MILLE,,/MILLE,,UMOL/KG,,UMOL/KG,,NMOL/KG,,MMOL/KG,,/MILLE,,,,,,G/KG,,/MILLE,,/MILLE,,,,,,/MILLE,,/MILLE,
320620140320,       P16S,      18,          1,         36,         36,2,20140407,       1404,   -60.4994,  -150.0002,       2997,     4.5,   0.9859,  34.0385,2,  34.0389,2,    335.9,2,   336.8,2,   51.85,2,   26.17,2,    0.29,2,    1.77,2,   5.833,2,   3.025,2,    2.86,2,  2182.1,2,  2303.4,2,   7.7485,6,       20,-999.000,1,-999.0000,1, -999.00,9,   0.9853,2, -999.00,9,  -999.0,9, -999.00,1,  -999.0,9, -999.00,9,      14.64,2,     -999.0,9, -999.00,9, 20140407,     1543, -60.5007,-149.9985,    34.1994,2,     -999.0,9,     -999.0,9,     -999.0,9,     -999.0,9,     -999.0,9,     -999.0,9
320620140320,       P16S,      18,          1,         35,         35,2,20140407,       1404,   -60.4994,  -150.0002,       2997,    20.9,   0.9878,  34.0384,2,  34.0387,2,    336.8,2,   336.8,2,   51.56,2,   26.26,2,    0.29,2,    1.81,2,-999.000,9,-999.000,9, -999.00,9,  2180.9,6,  2303.4,2,   7.7488,2,       20,-999.000,1,-999.0000,1, -999.00,9,   0.9881,2, -999.00,9,  -999.0,9, -999.00,1,  -999.0,9, -999.00,9,     -999.0,9,     -999.0,9, -999.00,9, 20140407,     1541, -60.5006,-149.9985,    34.1992,2,     -999.0,9,     -999.0,9,     -999.0,9,     -999.0,9,     -999.0,9,     -999.0,9
320620140320,       P16S,      18,          1,         34,         34,2,20140407,       1404,   -60.4994,  -150.0002,       2997,    40.4,   0.9898,  34.0382,2,  34.0395,2,    337.2,2,   336.8,2,   51.95,2,   26.26,2,    0.29,2,    1.81,2,-999.000,9,-999.000,9, -999.00,9,  2181.4,2,    2305,6,   7.7481,2,       20,-999.000,1,-999.0000,1, -999.00,9,   0.9895,2, -999.00,9,  -999.0,9, -999.00,1,  -999.0,9, -999.00,9,     -999.0,9,     -999.0,9, -999.00,9, 20140407,     1539, -60.5007,-149.9985,    34.2000,2,     -999.0,9,     -999.0,9,     -999.0,9,     -999.0,9,     -999.0,9,     -999.0,9
320620140320,       P16S,      18,          1,         33,         33,2,20140407,       1404,   -60.4994,  -150.0002,       2997,    64.2,   0.9917,  34.0395,2,  34.0412,2,    337.2,2,   336.6,2,   52.14,2,   26.26,2,    0.29,2,    1.81,2,-999.000,9,-999.000,9, -999.00,9,  2182.1,2,  2304.3,2,   7.7477,2,       20,-999.000,1,-999.0000,1, -999.00,9,   0.9915,2, -999.00,9,  -999.0,9, -999.00,1,  -999.0,9, -999.00,9,     -999.0,9,     -999.0,9, -999.00,9, 20140407,     1538, -60.5007,-149.9985,    34.2017,2,     -999.0,9,     -999.0,9,     -999.0,9,     -999.0,9,     -999.0,9,     -999.0,9
320620140320,       P16S,      18,          1,         32,         32,2,20140407,       1404,   -60.4994,  -150.0002,       2997,    88.9,   0.8419,  34.0446,2,  34.1245,3,    335.7,2,   320.9,2,   59.57,2,   27.52,2,    0.27,2,    1.94,2,-999.000,9,-999.000,9, -999.00,9,  2195.6,2,  2308.5,3,   7.7196,2,       20,-999.000,1,-999.0000,1, -999.00,9,   0.7048,3, -999.00,9,  -999.0,9, -999.00,1,  -999.0,9, -999.00,9,     -999.0,9,     -999.0,9, -999.00,9, 20140407,     1536, -60.5007,-149.9984,    34.2854,3,     -999.0,9,     -999.0,9,     -999.0,9,     -999.0,9,     -999.0,9,     -999.0,9
320620140320,       P16S,      18,          1,         31,         31,2,20140407,       1404,   -60.4994,  -150.0002,       2997,   115.2,  -0.6117,  34.3854,2,  34.3843,2,    260.9,2,   266.2,2,   78.88,2,   31.22,2,    0.23,2,    2.19,2,   3.597,2,   1.865,2,    1.75,2,  2234.2,2,  2323.6,2,   7.6499,2,       20,-999.000,1,-999.0000,1, -999.00,9,  -0.6123,2, -999.00,9,  -999.0,9, -999.00,1,  -999.0,9, -999.00,9,      19.11,2,     -999.0,9, -999.00,9, 20140407,     1534, -60.5007,-149.9984,    34.5464,2,     -999.0,9,     -999.0,9,     -999.0,9,     -999.0,9,     -999.0,9,     -999.0,9
320620140320,       P16S,      18,          1,         30,         30,2,20140407,       1404,   -60.4994,  -150.0002,       2997,   139.0,   0.1769,  34.5315,2,  34.5370,2,    221.0,2,   223.5,2,   88.14,2,   32.53,2,    0.03,2,    2.25,2,-999.000,9,-999.000,9, -999.00,9,  2249.9,2,  2333.2,2,   7.6299,2,       20,-999.000,9,-999.0000,9, -999.00,9,   0.1690,2, -999.00,9,  -999.0,9, -999.00,1,  -999.0,9, -999.00,9,     -999.0,9,     -999.0,9, -999.00,9, 20140407,     1532, -60.5007,-149.9984,    34.6999,2,     -999.0,9,     -999.0,9,     -999.0,9,     -999.0,9,     -999.0,9,     -999.0,9
320620140320,       P16S,      18,          1,         29,         29,2,20140407,       1404,   -60.4994,  -150.0002,       2997,   166.0,   0.7237,  34.6174,2,  34.6136,2,    195.4,2,   201.7,2,   93.90,2,   33.01,2,    0.02,2,    2.28,2,-999.000,9,-999.000,9, -999.00,9,  2258.3,2,  2339.5,2,   7.6214,2,       20,-999.000,1,-999.0000,1, -999.00,9,   0.7229,2, -999.00,9,  -999.0,9, -999.00,1,  -999.0,9, -999.00,9,     -999.0,9,     -999.0,9, -999.00,9, 20140407,     1531, -60.5007,-149.9985,    34.7768,2,     -999.0,9,     -999.0,9,     -999.0,9,     -999.0,9,     -999.0,9,     -999.0,9
320620140320,       P16S,      18,          1,         28,         28,2,20140407,       1404,   -60.4994,  -150.0002,       2997,   189.4,   1.1975,  34.6901,2,  34.6867,2,    183.6,2,   182.9,2,   99.36,2,   33.35,2,    0.01,2,    2.29,2,-999.000,9,-999.000,9, -999.00,9,  2265.2,2,  2346.2,2,   7.6175,2,       20,-999.000,9,-999.0000,9, -999.00,9,   1.1952,2, -999.00,9,  -999.0,9, -999.00,1,  -999.0,9, -999.00,9,     -999.0,9,     -999.0,9, -999.00,9, 20140407,     1529, -60.5007,-149.9984,    34.8502,2,     -999.0,9,     -999.0,9,     -999.0,9,     -999.0,9,     -999.0,9,     -999.0,9
320620140320,       P16S,      18,          1,         27,         27,2,20140407,       1404,   -60.4994,  -150.0002,       2997,   215.7,   1.3368,  34.7142,2,  34.7159,2,    179.0,2,   177.9,2,  101.60,2,   33.30,2,    0.01,2,    2.32,2,   0.331,3,   0.156,3,    0.25,3,  2267.3,2,  2348.6,2,   7.6197,2,       20,-999.000,1,-999.0000,1, -999.00,9,   1.3366,2, -999.00,9,  -999.0,9, -999.00,1,  -999.0,9, -999.00,9,      21.59,3,     -999.0,9, -999.00,9, 20140407,     1527, -60.5007,-149.9984,    34.8796,2,     -999.0,9,     -999.0,9,     -999.0,9,     -999.0,9,     -999.0,9,     -999.0,9
320620140320,       P16S,      18,          1,         26,         26,2,20140407,       1404,   -60.4994,  -150.0002,       2997,   240.5,   1.3733,  34.7242,2,  34.7242,2,    178.9,2,   178.2,2,  103.06,2,   33.15,2,    0.00,2,    2.29,2,-999.000,9,-999.000,9, -999.00,9,  -999.0,9,  -999.0,9,-999.0000,9,  -999.00,-999.000,9,-999.0000,9, -999.00,9,   1.3731,2, -999.00,9,  -999.0,9, -999.00,1,  -999.0,9, -999.00,9,     -999.0,9,     -999.0,9, -999.00,9, 20140407,     1525, -60.5007,-149.9985,    34.8879,2,     -999.0,9,     -999.0,9,     -999.0,9,     -999.0,9,     -999.0,9,     -999.0,9
320620140320,       P16S,      18,          1,         25,         25,2,20140407,       1404,   -60.4994,  -150.0002,       2997,   285.4,   1.3582,  34.7282,2,  34.7279,2,    178.9,2,   179.8,2,  103.84,2,   32.94,2,    0.00,2,    2.26,2,-999.000,9,-999.000,9, -999.00,9,    2267,2,  2352.1,2,   7.6284,2,       20,-999.000,1,-999.0000,1, -999.00,9,   1.3585,2, -999.00,9,  -999.0,9, -999.00,1,  -999.0,9, -999.00,9,     -999.0,9,     -999.0,9, -999.00,9, 20140407,     1523, -60.5005,-149.9986,    34.8916,2,     -999.0,9,     -999.0,9,     -999.0,9,     -999.0,9,     -999.0,9,     -999.0,9
320620140320,       P16S,      18,          1,         24,         24,2,20140407,       1404,   -60.4994,  -150.0002,       2997,   335.1,   1.3127,  34.7286,2,  34.7276,2,    180.1,2,   183.3,2,  105.11,2,   32.69,2,    0.00,2,    2.24,2,-999.000,9,-999.000,9, -999.00,9,  -999.0,9,  -999.0,9,-999.0000,9,  -999.00,-999.000,9,-999.0000,9, -999.00,9,   1.3124,2, -999.00,9,  -999.0,9, -999.00,1,  -999.0,9, -999.00,9,     -999.0,9,     -999.0,9, -999.00,9, 20140407,     1520, -60.5005,-149.9986,    34.8914,2,     -999.0,9,     -999.0,9,     -999.0,9,     -999.0,9,     -999.0,9,     -999.0,9
320620140320,       P16S,      18,          1,         23,         23,2,20140407,       1404,   -60.4994,  -150.0002,       2997,   386.1,   1.2793,  34.7286,2,  34.7292,2,    181.4,2,   182.7,2,  106.87,2,   32.81,2,    0.00,2,    2.25,2,   0.151,2,   0.069,2,    0.02,2,  2265.7,2,  2352.3,2,   7.6342,2,       20,-999.000,1,-999.0000,1, -999.00,9,   1.2800,2, -999.00,9,  -999.0,9, -999.00,1,  -999.0,9, -999.00,9,      20.64,2,     -999.0,9, -999.00,9, 20140407,     1518, -60.5005,-149.9987,    34.8930,2,     -999.0,9,     -999.0,9,     -999.0,9,     -999.0,9,     -999.0,9,     -999.0,9
320620140320,       P16S,      18,          1,         22,         22,2,20140407,       1404,   -60.4994,  -150.0002,       2997,   433.4,   1.2421,  34.7280,2,  34.7276,2,    183.1,2,   183.7,2,  108.43,2,   32.81,2,    0.00,2,    2.26,2,-999.000,9,-999.000,9, -999.00,9,  -999.0,9,  -999.0,9,-999.0000,9,  -999.00,-999.000,9,-999.0000,9, -999.00,9,   1.2420,2, -999.00,9,  -999.0,9, -999.00,1,  -999.0,9, -999.00,9,     -999.0,9,     -999.0,9, -999.00,9, 20140407,     1515, -60.5005,-149.9986,    34.8914,2,     -999.0,9,     -999.0,9,     -999.0,9,     -999.0,9,     -999.0,9,     -999.0,9
320620140320,       P16S,      18,          1,         21,         21,2,20140407,       1404,   -60.4994,  -150.0002,       2997,   464.9,   1.2169,  34.7276,2,  34.7278,2,    184.1,2,   184.6,2,  109.12,2,   32.77,2,    0.00,2,    2.25,2,-999.000,9,-999.000,9, -999.00,9,  2265.8,2,  2354.7,2,   7.6386,6,       20,-999.000,1,-999.0000,1, -999.00,9,   1.2170,2, -999.00,9,  -999.0,9, -999.00,9,  -999.0,9, -999.00,9,     -999.0,9,     -999.0,9, -999.00,9, 20140407,     1514, -60.5005,-149.9987,    34.8915,2,     -999.0,9,     -999.0,9,     -999.0,9,     -999.0,9,     -999.0,9,     -999.0,9
320620140320,       P16S,      18,          1,         20,         20,2,20140407,       1404,   -60.4994,  -150.0002,       2997,   564.4,   1.1311,  34.7253,2,  34.7250,2,    190.0,2,   188.3,2,  111.46,2,   32.67,2,    0.00,2,    2.24,2,-999.000,9,-999.000,9, -999.00,9,  -999.0,9,  -999.0,9,-999.0000,9,  -999.00,-999.000,9,-999.0000,9, -999.00,9,   1.1310,2, -999.00,9,  -999.0,9, -999.00,9,  -999.0,9, -999.00,9,     -999.0,9,     -999.0,9, -999.00,9, 20140407,     1511, -60.5005,-149.9986,    34.8887,2,     -999.0,9,     -999.0,9,     -999.0,9,     -999.0,9,     -999.0,9,     -999.0,9
320620140320,       P16S,      18,          1,         19,         19,2,20140407,       1404,   -60.4994,  -150.0002,       2997,   665.2,   1.0653,  34.7230,2,  34.7234,2,    192.0,2,   191.4,2,  113.12,2,   32.56,2,    0.00,2,    2.24,2,   0.106,2,   0.048,2,    0.05,2,  2263.9,2,  2357.7,2,   7.6488,2,       20,-999.000,1,-999.0000,1, -999.00,9,   1.0654,2, -999.00,9,  -999.0,9, -999.00,9,  -999.0,9, -999.00,9,      20.08,2,     -999.0,9, -999.00,9, 20140407,     1508, -60.5004,-149.9986,    34.8871,2,     -999.0,9,     -999.0,9,     -999.0,9,     -999.0,9,     -999.0,9,     -999.0,9
320620140320,       P16S,      18,          1,         18,         18,2,20140407,       1404,   -60.4994,  -150.0002,       2997,   764.8,   0.9814,  34.7203,2,  34.7195,2,    196.0,2,   195.7,2,  114.29,2,   32.33,2,    0.00,2,    2.22,2,-999.000,9,-999.000,9, -999.00,9,  2263.6,2,  2357.7,2,   7.6555,2,       20,-999.000,1,-999.0000,1, -999.00,9,   0.9818,2, -999.00,9,  -999.0,9, -999.00,9,  -999.0,9, -999.00,9,     -999.0,9,     -999.0,9, -999.00,9, 20140407,     1505, -60.5003,-149.9988,    34.8832,2,     -999.0,9,     -999.0,9,     -999.0,9,     -999.0,9,     -999.0,9,     -999.0,9
320620140320,       P16S,      18,          1,         17,         17,2,20140407,       1404,   -60.4994,  -150.0002,       2997,   864.4,   0.9235,  34.7172,2,  34.7175,2,    196.9,2,   197.2,2,  116.14,2,   32.36,2,    0.00,2,    2.24,2,-999.000,9,-999.000,9, -999.00,9,  2261.7,2,  2359.7,2,    7.656,2,       20,-999.000,1,-999.0000,1, -999.00,9,   0.9232,2, -999.00,9,  -999.0,9, -999.00,9,  -999.0,9, -999.00,9,     -999.0,9,     -999.0,9, -999.00,9, 20140407,     1502, -60.5003,-149.9987,    34.8812,2,     -999.0,9,     -999.0,9,     -999.0,9,     -999.0,9,     -999.0,9,     -999.0,9
320620140320,       P16S,      18,          1,         16,         16,2,20140407,       1404,   -60.4994,  -150.0002,       2997,   965.2,   0.8684,  34.7156,2,  34.7155,2,    197.6,2,   197.7,2,  118.97,2,   32.48,2,    0.00,2,    2.23,2,-999.000,9,-999.000,9, -999.00,9,  2262.4,2,  2358.2,2,   7.6559,2,       20,-999.000,1,-999.0000,1, -999.00,9,   0.8681,2, -999.00,9,  -999.0,9, -999.00,9,  -999.0,9, -999.00,9,     -999.0,9,     -999.0,9, -999.00,9, 20140407,     1459, -60.5002,-149.9990,    34.8792,2,     -999.0,9,     -999.0,9,     -999.0,9,     -999.0,9,     -999.0,9,     -999.0,9
320620140320,       P16S,      18,          1,         15,         15,2,20140407,       1404,   -60.4994,  -150.0002,       2997,  1066.3,   0.8087,  34.7130,2,  34.7137,2,    199.2,2,   199.4,2,  121.12,2,   32.46,2,    0.00,2,    2.24,2,   0.092,2,   0.039,2,    0.00,2,  2262.1,2,  2359.4,2,    7.658,2,       20,-999.000,1,-999.0000,1, -999.00,9,   0.8083,2, -999.00,9,  -999.0,9, -999.00,9,  -999.0,9, -999.00,9,      19.39,2,     -999.0,9, -999.00,9, 20140407,     1456, -60.5001,-149.9990,    34.8774,2,     -999.0,9,     -999.0,9,     -999.0,9,     -999.0,9,     -999.0,9,     -999.0,9
320620140320,       P16S,      18,          1,         14,         14,2,20140407,       1404,   -60.4994,  -150.0002,       2997,  1165.5,   0.7614,  34.7116,2,  34.7066,3,    200.7,2,   200.5,2,  121.51,2,   32.51,2,    0.00,2,    2.24,2,-999.000,9,-999.000,9, -999.00,9,  -999.0,9,  -999.0,9,-999.0000,9,  -999.00,-999.000,9,-999.0000,9, -999.00,9,   0.7615,2, -999.00,9,  -999.0,9, -999.00,9,  -999.0,9, -999.00,9,     -999.0,9,     -999.0,9, -999.00,9, 20140407,     1453, -60.5000,-149.9991,    34.8702,3,     -999.0,9,     -999.0,9,     -999.0,9,     -999.0,9,     -999.0,9,     -999.0,9
320620140320,       P16S,      18,          1,         13,         13,2,20140407,       1404,   -60.4994,  -150.0002,       2997,  1266.0,   0.7220,  34.7100,2,  34.7099,2,    201.7,2,   201.7,2,  123.17,2,   32.38,2,    0.00,2,    2.25,2,-999.000,9,-999.000,9, -999.00,9,  2262.2,2,  2358.8,2,   7.6587,2,       20,-999.000,1,-999.0000,1, -999.00,9,   0.7217,2, -999.00,9,  -999.0,9, -999.00,9,  -999.0,9, -999.00,9,     -999.0,9,     -999.0,9, -999.00,9, 20140407,     1449, -60.5001,-149.9991,    34.8736,2,     -999.0,9,     -999.0,9,     -999.0,9,     -999.0,9,     -999.0,9,     -999.0,9
320620140320,       P16S,      18,          1,         12,         12,2,20140407,       1404,   -60.4994,  -150.0002,       2997,  1366.6,   0.6785,  34.7084,2,  34.7086,2,    203.0,2,   203.1,2,  124.15,2,   32.47,2,    0.00,2,    2.24,2,   0.111,2,   0.057,2,    0.01,2,  -999.0,9,  -999.0,9,-999.0000,9,  -999.00,-999.000,9,-999.0000,9, -999.00,9,   0.6789,2, -999.00,9,  -999.0,9, -999.00,9,  -999.0,9, -999.00,9,      19.14,2,     -999.0,9, -999.00,9, 20140407,     1446, -60.5001,-149.9991,    34.8723,2,     -999.0,9,     -999.0,9,     -999.0,9,     -999.0,9,     -999.0,9,     -999.0,9
320620140320,       P16S,      18,          1,         11,         11,2,20140407,       1404,   -60.4994,  -150.0002,       2997,  1465.0,   0.6400,  34.7066,2,  34.7072,2,    204.4,2,   204.5,2,  124.83,2,   32.45,2,    0.00,2,    2.24,2,-999.000,9,-999.000,9, -999.00,9,  2261.7,2,  2360.3,2,     7.66,2,       20,-999.000,1,-999.0000,1, -999.00,9,   0.6396,2, -999.00,9,  -999.0,9, -999.00,9,  -999.0,9, -999.00,9,     -999.0,9,     -999.0,9, -999.00,9, 20140407,     1444, -60.5000,-149.9992,    34.8709,2,     -999.0,9,     -999.0,9,     -999.0,9,     -999.0,9,     -999.0,9,     -999.0,9
320620140320,       P16S,      18,          1,         10,         10,2,20140407,       1404,   -60.4994,  -150.0002,       2997,  1563.9,   0.6070,  34.7053,2,  34.7047,2,    205.6,2,   205.8,2,  125.42,2,   32.36,2,    0.00,2,    2.23,2,   0.194,2,   0.086,2,    0.04,2,  2261.9,2,  2360.4,2,   7.6611,2,       20,-999.000,9,-999.0000,1, -999.00,9,   0.6061,2, -999.00,9,  -999.0,9, -999.00,9,  -999.0,9, -999.00,9,      19.34,2,     -999.0,9, -999.00,9, 20140407,     1441, -60.4999,-149.9993,    34.8683,2,     -999.0,9,     -999.0,9,     -999.0,9,     -999.0,9,     -999.0,9,     -999.0,9
320620140320,       P16S,      18,          1,          9,         09,3,20140407,       1404,   -60.4994,  -150.0002,       2997,  1663.5,   0.5611,  34.7038,2,  34.7037,2,    207.2,2,   207.6,2,  125.90,2,   32.41,2,    0.00,2,    2.22,2,-999.000,9,-999.000,9, -999.00,9,  -999.0,9,  -999.0,9,-999.0000,9,  -999.00,-999.000,9,-999.0000,9, -999.00,9,   0.5611,2, -999.00,9,  -999.0,9, -999.00,9,  -999.0,9, -999.00,9,     -999.0,9,     -999.0,9, -999.00,9, 20140407,     1438, -60.4998,-149.9994,    34.8673,2,     -999.0,9,     -999.0,9,     -999.0,9,     -999.0,9,     -999.0,9,     -999.0,9
320620140320,       P16S,      18,          1,          8,         08,2,20140407,       1404,   -60.4994,  -150.0002,       2997,  1763.8,   0.5254,  34.7035,2,  34.7032,2,    208.0,2,   207.6,2,  126.59,2,   32.45,2,    0.00,2,    2.24,2,-999.000,9,-999.000,9, -999.00,9,  -999.0,9,  -999.0,9,-999.0000,9,  -999.00,-999.000,9,-999.0000,9, -999.00,9,   0.5257,2, -999.00,9,  -999.0,9, -999.00,9,  -999.0,9, -999.00,9,     -999.0,9,     -999.0,9, -999.00,9, 20140407,     1435, -60.4997,-149.9997,    34.8669,2,     -999.0,9,     -999.0,9,     -999.0,9,     -999.0,9,     -999.0,9,     -999.0,9
320620140320,       P16S,      18,          1,          7,         07,2,20140407,       1404,   -60.4994,  -150.0002,       2997,  1864.5,   0.4841,  34.7021,2,  34.7013,2,    208.8,2,   208.7,2,  126.88,2,   32.50,2,    0.00,2,    2.24,2,   0.261,2,   0.121,2,    0.06,2,  2261.1,2,  2360.1,2,   7.6599,2,       20,-999.000,9,-999.0000,1, -999.00,9,   0.4840,2, -999.00,9,  -999.0,9, -999.00,9,  -999.0,9, -999.00,9,      19.23,2,     -999.0,9, -999.00,9, 20140407,     1432, -60.4997,-149.9997,    34.8649,2,     -999.0,9,     -999.0,9,     -999.0,9,     -999.0,9,     -999.0,9,     -999.0,9
320620140320,       P16S,      18,          1,          6,         06,2,20140407,       1404,   -60.4994,  -150.0002,       2997,  1965.4,   0.4490,  34.7020,2,  29.1761,4,    209.5,2,   209.3,2,  127.56,2,   32.50,2,    0.00,2,    2.23,2,-999.000,9,-999.000,9, -999.00,9,  -999.0,9,  -999.0,9,-999.0000,9,  -999.00,-999.000,9,-999.0000,9, -999.00,9,   0.4497,2, -999.00,9,  -999.0,9, -999.00,9,  -999.0,9, -999.00,9,     -999.0,9,     -999.0,9, -999.00,9, 20140407,     1429, -60.4998,-149.9995,    29.3137,4,     -999.0,9,     -999.0,9,     -999.0,9,     -999.0,9,     -999.0,9,     -999.0,9