BOTTLE,20230715CCHSIOCBG
EXPOCODE,SECT_ID,STNNBR,CASTNO,SAMPNO,BTLNBR,BTLNBR_FLAG_W,DATE,TIME,LATITUDE,LONGITUDE,DEPTH,CTDPRS,CTDTMP,CTDSAL,CTDSAL_FLAG_W,SALNTY,SALNTY_FLAG_W,CTDOXY,CTDOXY_FLAG_W,OXYGEN,OXYGEN_FLAG_W,SILCAT,SILCAT_FLAG_W,NITRAT,NITRAT_FLAG_W,NITRIT,NITRIT_FLAG_W,PHSPHT,PHSPHT_FLAG_W,CFC-11,CFC-11_FLAG_W,CFC-12,CFC-12_FLAG_W,SF6,SF6_FLAG_W,TCARBN,TCARBN_FLAG_W,ALKALI,ALKALI_FLAG_W,PH_TOT,PH_TOT_FLAG_W,PH_TMP,TRITUM,TRITUM_FLAG_W,HELIUM,HELIUM_FLAG_W,DELHE3,DELHE3_FLAG_W,REFTMP,REFTMP_FLAG_W,DELC13,DELC13_FLAG_W,DELC14,DELC14_FLAG_W,DELO18,DELO18_FLAG_W,DOC,DOC_FLAG_W,TDN,TDN_FLAG_W,N2O,N2O_FLAG_W,CALCIUM,CALCIUM_FLAG_W,D15N_NO3,D15N_NO3_FLAG_W,BTL_DATE,BTL_TIME,BTL_LAT,BTL_LON,SALTREF,SALTREF_FLAG_W,D18O_NO3,D18O_NO3_FLAG_W,DSI30,DSI30_FLAG_W,CDOM_NASA,CDOM_NASA_FLAG_W,CDOM_UCSB,CDOM_UCSB_FLAG_W,D15N_NO2+NO3,D15N_NO2+NO3_FLAG_W,D18O_NO2+NO3,D18O_NO2+NO3_FLAG_W
,,,,,,,,,,,METERS,DBAR,ITS-90,PSS-78,,PSS-78,,UMOL/KG,,UMOL/KG,,UMOL/KG,,UMOL/KG,,UMOL/KG,,UMOL/KG,,PMOL/KG,,PMOL/KG,,FMOL/KG,,UMOL/KG,,UMOL/KG,,,,DEG C,TU,,NMOL/KG,,PERCNT,,DEG C,,/MILLE,,/MILLE,,/MILLE,,UMOL/KG,,UMOL/KG,,NMOL/KG,,MMOL/KG,,/MILLE,,,,,,G/KG,,/MILLE,,/MILLE,,,,,,/MILLE,,/MILLE,
320620140320,       P16S,      13,          1,         36,         36,2,20140404,       0140,   -63.0000,  -149.9992,       3668,     7.9,   0.6514,  33.8888,2,  33.8901,2,    337.4,2,   338.5,2,   54.03,2,   24.63,2,    0.23,2,    1.83,2,   5.829,2,   3.081,2,    3.21,2,  2173.8,2,  2295.1,2,   7.7475,2,       20,-999.000,1,-999.0000,1, -999.00,9,   0.6514,2,    1.15,2,  -113.3,2, -999.00,1,    41.6,2,   28.55,2,      14.59,2,     -999.0,9,    6.82,2, 20140404,      323, -62.9999,-149.9992,    34.0499,2,       3.26,2,     -999.0,9,     -999.0,9,     -999.0,1,       5.96,2,       3.27,2
320620140320,       P16S,      13,          1,         35,         35,2,20140404,       0140,   -63.0000,  -149.9992,       3668,    18.7,   0.6499,  33.8888,2,  33.8893,2,    337.9,2,   338.6,2,   54.62,2,   24.95,2,    0.23,2,    1.82,2,   5.737,2,   3.119,2,    3.26,2,  2173.4,2,  2295.4,2,   7.7475,2,       20,-999.000,1,-999.0000,1, -999.00,9,   0.6496,2,    1.18,2,  -102.8,2, -999.00,1,    39.6,2,   28.62,2,      14.07,2,     -999.0,9,    6.83,2, 20140404,      322, -62.9999,-149.9994,    34.0491,2,       3.39,2,     -999.0,9,     -999.0,9,     -999.0,1,       5.98,2,       3.32,2
320620140320,       P16S,      13,          1,         33,         33,2,20140404,       0140,   -63.0000,  -149.9992,       3668,    39.1,   0.6487,  33.8888,2,-999.0000,9,    338.7,2,   338.1,2,   53.74,2,   25.02,2,    0.23,2,    1.81,2,   5.817,2,   3.121,2,    3.21,2,  2173.5,2,  2295.2,2,   7.7466,6,       20,-999.000,1,-999.0000,1, -999.00,9,   0.6489,2,    1.15,2,  -108.6,2, -999.00,1,    44.7,2,    28.4,2,      14.67,2,     -999.0,9,    6.79,2, 20140404,      320, -62.9998,-149.9997,     -999.0,9,       2.96,2,     -999.0,9,     -999.0,9,     -999.0,9,       5.91,2,       3.37,2
320620140320,       P16S,      13,          1,         34,         34,2,20140404,       0140,   -63.0000,  -149.9992,       3668,    39.7,   0.6492,  33.8886,2,  33.8899,2,   -999.0,9,  -999.0,9, -999.00,9, -999.00,9, -999.00,9, -999.00,9,-999.000,9,-999.000,9, -999.00,9,  -999.0,9,  -999.0,9,-999.0000,9,  -999.00,-999.000,9,-999.0000,9, -999.00,9,   0.6488,2, -999.00,9,  -999.0,9, -999.00,9,  -999.0,5,   29.72,2,     -999.0,9,     -999.0,9, -999.00,9, 20140404,      320, -62.9998,-149.9996,    34.0497,2,     -999.0,9,     -999.0,9,     -999.0,9,     -999.0,1,     -999.0,9,     -999.0,9
320620140320,       P16S,      13,          1,         32,         32,2,20140404,       0140,   -63.0000,  -149.9992,       3668,    65.1,   0.6160,  33.8988,2,  33.8999,2,    338.5,2,   338.1,2,   54.03,2,   25.09,2,    0.23,2,    1.84,2,   5.672,2,   3.092,2,    3.06,2,  2174.8,2,  2295.1,6,   7.7443,2,       20,-999.000,1,-999.0000,1, -999.00,9,   0.6092,2,    0.99,2,  -113.5,2, -999.00,1,    43.8,2,   31.07,2,      14.01,2,     -999.0,9,    5.57,2, 20140404,      319, -62.9998,-149.9997,    34.0598,2,       2.63,2,     -999.0,9,     -999.0,9,     -999.0,1,       5.24,2,       2.85,2
320620140320,       P16S,      13,          1,         31,         31,2,20140404,       0140,   -63.0000,  -149.9992,       3668,    89.6,  -0.6435,  34.2010,2,  34.1985,2,    332.4,2,   317.3,2,   65.74,2,   27.92,2,    0.18,2,    2.05,2,   5.010,2,   2.730,2,    2.55,2,  2208.3,6,  2315.4,2,   7.6998,2,       20,-999.000,1,-999.0000,1, -999.00,9,  -0.6502,2,    0.60,2,  -128.4,2, -999.00,1,    43.3,2,   34.35,2,      16.41,2,     -999.0,9,    5.59,2, 20140404,      317, -62.9999,-149.9995,    34.3598,2,       2.78,2,     -999.0,9,     -999.0,9,     -999.0,1,       5.22,2,       2.71,2
320620140320,       P16S,      13,          1,         30,         30,2,20140404,       0140,   -63.0000,  -149.9992,       3668,    89.7,  -0.6468,  34.2006,2,-999.0000,9,   -999.0,9,  -999.0,9, -999.00,9, -999.00,9, -999.00,9, -999.00,9,-999.000,9,-999.000,9, -999.00,9,  -999.0,9,  -999.0,9,-999.0000,9,  -999.00,-999.000,9,-999.0000,9, -999.00,9,  -0.6445,2, -999.00,9,  -999.0,9, -999.00,9,    40.4,2,   36.04,2,     -999.0,9,     -999.0,9, -999.00,9, 20140404,      317, -62.9999,-149.9995,     -999.0,9,     -999.0,9,     -999.0,9,     -999.0,9,     -999.0,9,     -999.0,9,     -999.0,9
320620140320,       P16S,      13,          1,         29,         29,2,20140404,       0140,   -63.0000,  -149.9992,       3668,   113.5,  -0.3483,  34.3541,2,  34.3470,2,    295.3,2,   275.5,2,   75.60,2,   29.81,2,    0.24,2,    2.14,2,   3.700,2,   2.030,2,    2.04,2,    2228,2,  2321.3,2,   7.6643,2,       20,-999.000,1,-999.0000,1, -999.00,9,  -0.3282,3,    0.53,2,  -138.2,2, -999.00,1,    39.2,3,    36.6,2,      18.29,2,     -999.0,9,    5.15,2, 20140404,      315, -63.0000,-149.9992,    34.5090,2,       2.64,2,     -999.0,9,     -999.0,9,     -999.0,1,       4.88,2,       2.50,2
320620140320,       P16S,      13,          1,         28,         28,2,20140404,       0140,   -63.0000,  -149.9992,       3668,   138.9,   0.5262,  34.5507,2,  34.5478,2,    235.0,2,   217.2,2,   90.63,2,   32.19,2,    0.11,2,    2.25,2,-999.000,9,-999.000,9, -999.00,9,  2253.2,2,  2336.2,2,   7.6261,2,       20,-999.000,9,-999.0000,9, -999.00,9,   0.5260,2,    0.41,2,  -144.4,2, -999.00,1,    41.1,3,   36.78,2,     -999.0,9,     -999.0,9,    4.74,2, 20140404,      313, -63.0001,-149.9988,    34.7107,2,       2.21,2,     -999.0,9,     -999.0,9,     -999.0,1,       4.65,2,       2.23,2
320620140320,       P16S,      13,          1,         27,         27,2,20140404,       0140,   -63.0000,  -149.9992,       3668,   184.4,   1.3292,  34.7122,2,  34.7097,2,    178.1,2,   176.1,2,  102.44,2,   32.58,2,    0.01,2,    2.31,2,   0.363,2,   0.175,2,    0.15,2,  2270.5,2,  2349.8,2,   7.6108,2,       20,-999.000,1,-999.0000,1, -999.00,9,   1.3277,2,    0.23,2,  -154.0,2, -999.00,1,      42,2,    37.1,2,      21.78,2,     -999.0,9,    4.60,2, 20140404,      311, -63.0002,-149.9986,    34.8734,2,       1.87,2,     -999.0,9,     -999.0,9,     -999.0,1,       4.58,2,       1.89,2
320620140320,       P16S,      13,          1,         26,         26,2,20140404,       0140,   -63.0000,  -149.9992,       3668,   235.0,   1.3649,  34.7273,2,  34.7264,2,    175.3,2,   175.4,2,  104.97,2,   32.74,2,    0.00,2,    2.30,2,   0.200,2,   0.062,2,    0.02,2,  2270.7,2,  2351.5,2,   7.6157,2,       20,-999.000,9,-999.0000,9, -999.00,9,   1.3651,2,    0.28,2,  -155.8,2, -999.00,1,  -999.0,5,    35.9,2,      21.62,2,     -999.0,9,    4.60,2, 20140404,      309, -63.0002,-149.9985,    34.8902,2,       1.86,2,     -999.0,9,     -999.0,9,     -999.0,1,       4.60,2,       1.86,2
320620140320,       P16S,      13,          1,         25,         25,2,20140404,       0140,   -63.0000,  -149.9992,       3668,   286.1,   1.3264,  34.7283,2,  34.7282,2,    177.0,2,   177.3,2,  106.44,2,   32.91,2,    0.00,2,    2.29,2,   0.149,2,   0.067,2,    0.00,2,  2270.5,2,  2352.2,2,   7.6202,2,       20,-999.000,1,-999.0000,1, -999.00,9,   1.3263,2,    0.24,2,  -154.4,2, -999.00,1,    39.7,2,   36.87,2,      21.23,2,     -999.0,9,    4.56,2, 20140404,      307, -63.0001,-149.9987,    34.8919,2,       1.53,2,     -999.0,9,     -999.0,9,     -999.0,9,       4.56,2,       1.53,2
320620140320,       P16S,      13,          1,         24,         24,2,20140404,       0140,   -63.0000,  -149.9992,       3668,   335.2,   1.2883,  34.7290,2,  34.7282,2,    178.9,2,   179.1,2,  107.90,2,   32.77,2,    0.00,2,    2.27,2,   0.142,2,   0.044,2,    0.05,2,  2269.9,2,  2352.3,2,   7.6239,2,       20,-999.000,9,-999.0000,9, -999.00,9,   1.2891,2,    0.22,2,  -158.4,2, -999.00,1,    40.9,2,   37.22,2,      20.57,2,     -999.0,9,    4.66,2, 20140404,      305, -63.0001,-149.9987,    34.8919,2,       1.99,2,     -999.0,9,     -999.0,9,     -999.0,1,       4.66,2,       1.99,2
320620140320,       P16S,      13,          1,         23,         23,2,20140404,       0140,   -63.0000,  -149.9992,       3668,   385.3,   1.2629,  34.7283,2,  34.7282,2,    180.3,2,   179.8,2,  108.49,2,   32.77,2,    0.00,2,    2.27,2,   0.132,2,   0.059,2,    0.03,2,  2269.3,2,  2354.1,2,   7.6267,2,       20,-999.000,1,-999.0000,1, -999.00,9,   1.2631,2,    0.27,2,  -151.2,2, -999.00,1,    40.4,2,   35.06,3,      20.76,2,     -999.0,9,    4.72,2, 20140404,      302, -63.0001,-149.9988,    34.8919,2,       1.85,2,     -999.0,9,     -999.0,9,     -999.0,9,       4.72,2,       1.85,2
320620140320,       P16S,      13,          1,         22,         22,2,20140404,       0140,   -63.0000,  -149.9992,       3668,   437.1,   1.2207,  34.7270,2,  34.7266,2,    182.1,2,   182.0,2,  109.76,2,   32.69,2,    0.00,2,    2.21,3,   0.104,2,   0.052,2,    0.09,2,  2269.6,2,  2354.1,2,   7.6285,2,       20,-999.000,9,-999.0000,9, -999.00,9,   1.2206,2,    0.34,2,  -156.8,2, -999.00,1,    39.2,3,   37.07,2,      20.77,2,     -999.0,9,    4.69,2, 20140404,      300, -63.0001,-149.9988,    34.8904,2,       1.97,2,     -999.0,9,     -999.0,9,     -999.0,1,       4.69,2,       1.97,2
320620140320,       P16S,      13,          1,         21,         21,2,20140404,       0140,   -63.0000,  -149.9992,       3668,   484.2,   1.1904,  34.7265,2,  34.7264,2,    183.9,2,   183.0,2,  110.93,2,   32.64,2,    0.00,2,    2.26,2,   0.109,2,   0.048,2,    0.06,2,  2269.1,2,    2355,2,   7.6323,2,       20,-999.000,1,-999.0000,1, -999.00,9,   1.1917,2,    0.29,2,  -156.4,2, -999.00,9,    36.8,2, -999.00,9,      20.52,2,     -999.0,9,    4.65,2, 20140404,      258, -63.0001,-149.9988,    34.8902,2,       1.91,2,     -999.0,9,     -999.0,9,     -999.0,9,       4.65,2,       1.91,2
320620140320,       P16S,      13,          1,         20,         20,2,20140404,       0140,   -63.0000,  -149.9992,       3668,   565.1,   1.1345,  34.7250,2,  34.7250,2,    186.3,2,   185.6,2,  112.40,2,   32.52,2,    0.00,2,    2.27,2,-999.000,9,-999.000,9, -999.00,9,  2268.1,2,  2357.1,2,   7.6399,2,       20,-999.000,9,-999.0000,9, -999.00,9,   1.1349,2,    0.30,2,  -159.6,2, -999.00,9,    37.9,2, -999.00,9,     -999.0,9,     -999.0,9,    4.66,2, 20140404,      255, -63.0001,-149.9989,    34.8888,2,       1.87,2,     -999.0,9,     -999.0,9,     -999.0,1,       4.66,2,       1.87,2
320620140320,       P16S,      13,          1,         19,         19,2,20140404,       0140,   -63.0000,  -149.9992,       3668,   666.2,   1.0705,  34.7226,2,  34.7235,3,    189.0,2,   188.5,2,  113.76,2,   32.51,2,    0.00,2,    2.27,2,   0.096,2,   0.049,2,    0.00,2,  2267.7,2,  2359.2,2,   7.6444,2,       20,-999.000,1,-999.0000,1, -999.00,9,   1.0714,2,    0.36,2,  -158.8,2, -999.00,9,    38.9,2, -999.00,9,      20.59,2,     -999.0,9,    4.63,2, 20140404,      252, -63.0001,-149.9987,    34.8872,3,       1.65,2,     -999.0,9,     -999.0,9,     -999.0,9,       4.63,2,       1.65,2
320620140320,       P16S,      13,          1,         18,         18,2,20140404,       0140,   -63.0000,  -149.9992,       3668,   764.0,   1.0028,  34.7204,2,  34.7203,2,    191.7,2,   191.5,2,  115.91,2,   32.44,2,    0.00,2,    2.26,2,   0.070,2,   0.039,2,    0.21,2,  2267.6,2,  2359.8,2,   7.6479,2,       20,-999.000,1,-999.0000,1, -999.00,9,   1.0029,2,    0.38,2,  -167.4,2, -999.00,9,    38.7,2, -999.00,9,      20.27,2,     -999.0,9,    4.68,2, 20140404,      249, -63.0001,-149.9988,    34.8841,2,       1.96,2,     -999.0,9,     -999.0,9,     -999.0,9,       4.68,2,       1.96,2
320620140320,       P16S,      13,          1,         17,         17,2,20140404,       0140,   -63.0000,  -149.9992,       3668,   864.8,   0.9402,  34.7174,2,  34.7184,2,    194.0,2,   194.1,2,  117.67,2,   32.31,2,    0.00,2,    2.26,2,   0.071,2,   0.032,2,    0.06,2,  2265.1,2,  2359.5,2,    7.653,2,       20,-999.000,1,-999.0000,1, -999.00,9,   0.9399,2,    0.40,2,  -161.1,2, -999.00,9,    38.4,2, -999.00,9,      19.90,2,     -999.0,9,    4.70,2, 20140404,      246, -63.0001,-149.9986,    34.8821,2,       1.98,2,     -999.0,9,     -999.0,9,     -999.0,9,       4.70,2,       1.98,2
320620140320,       P16S,      13,          1,         16,         16,2,20140404,       0140,   -63.0000,  -149.9992,       3668,   964.7,   0.8860,  34.7156,2,  34.7162,2,    196.1,2,   196.7,2,  119.33,2,   32.39,2,    0.00,2,    2.25,2,   0.075,2,   0.032,2,    0.07,2,  2264.5,2,    2358,2,   7.6562,2,       20,-999.000,1,-999.0000,1, -999.00,9,   0.8859,2,    0.41,2,  -164.0,2, -999.00,9,    38.2,2, -999.00,9,      19.64,2,     -999.0,9, -999.00,9, 20140404,      243, -63.0002,-149.9983,    34.8799,2,     -999.0,9,     -999.0,9,     -999.0,9,     -999.0,1,     -999.0,9,     -999.0,9
320620140320,       P16S,      13,          1,         15,         15,2,20140404,       0140,   -63.0000,  -149.9992,       3668,  1063.2,   0.8333,  34.7133,2,  34.7138,2,    198.1,2,   198.0,2,  120.89,2,   32.36,2,    0.00,2,    2.26,2,   0.067,2,   0.033,2,    0.06,2,  2264.2,2,    2358,2,   7.6571,6,       20,-999.000,1,-999.0000,1, -999.00,9,   0.8328,2,    0.41,2,  -166.3,2, -999.00,9,    38.2,2, -999.00,9,      19.75,2,     -999.0,9, -999.00,9, 20140404,      240, -63.0004,-149.9981,    34.8775,2,     -999.0,9,     -999.0,9,     -999.0,9,     -999.0,9,     -999.0,9,     -999.0,9
320620140320,       P16S,      13,          1,         14,         14,2,20140404,       0140,   -63.0000,  -149.9992,       3668,  1163.4,   0.7754,  34.7114,2,  34.7087,3,    199.6,2,   200.0,2,  122.36,2,   32.40,2,    0.00,2,    2.26,2,   0.072,2,   0.038,2,    0.07,2,  -999.0,9,  -999.0,9,-999.0000,9,  -999.00,-999.000,9,-999.0000,9, -999.00,9,   0.7755,2, -999.00,9,  -999.0,9, -999.00,9,    38.3,2, -999.00,9,      19.59,2,     -999.0,9, -999.00,9, 20140404,      237, -63.0005,-149.9976,    34.8724,3,     -999.0,9,     -999.0,9,     -999.0,9,     -999.0,9,     -999.0,9,     -999.0,9
320620140320,       P16S,      13,          1,         13,         13,2,20140404,       0140,   -63.0000,  -149.9992,       3668,  1264.1,   0.7291,  34.7092,2,  34.7095,2,    201.0,2,   201.3,2,  123.82,2,   32.31,2,    0.00,2,    2.26,2,   0.083,2,   0.039,2,    0.08,2,  2264.5,2,  2358.8,2,   7.6597,2,       20,-999.000,1,-999.0000,1, -999.00,9,   0.7288,2,    0.46,2,  -163.5,2, -999.00,9,    40.7,2, -999.00,9,      19.44,2,     -999.0,9, -999.00,9, 20140404,      234, -63.0007,-149.9975,    34.8732,2,     -999.0,9,     -999.0,9,     -999.0,9,     -999.0,1,     -999.0,9,     -999.0,9
320620140320,       P16S,      13,          1,         12,         12,2,20140404,       0140,   -63.0000,  -149.9992,       3668,  1365.8,   0.6891,  34.7081,2,  34.7083,2,    202.6,2,   202.6,2,  125.38,2,   32.34,2,    0.00,2,    2.24,2,-999.000,9,-999.000,9, -999.00,9,  -999.0,9,  -999.0,9,-999.0000,9,  -999.00,-999.000,9,-999.0000,9, -999.00,9,   0.6894,2, -999.00,9,  -999.0,9, -999.00,9,    39.9,2, -999.00,9,     -999.0,9,     -999.0,9, -999.00,9, 20140404,      231, -63.0004,-149.9976,    34.8720,2,     -999.0,9,     -999.0,9,     -999.0,9,     -999.0,9,     -999.0,9,     -999.0,9
320620140320,       P16S,      13,          1,         11,         11,2,20140404,       0140,   -63.0000,  -149.9992,       3668,  1534.7,   0.6232,  34.7063,2,  34.7054,2,    203.9,2,   204.3,2,  125.87,2,   32.42,2,    0.00,2,    2.26,2,   0.102,2,   0.048,2,    0.08,2,  2263.8,2,  2358.1,2,   7.6611,2,       20,-999.000,1,-999.0000,1, -999.00,9,   0.6237,2,    0.42,2,  -166.7,2, -999.00,9,    37.2,2, -999.00,9,      19.33,2,     -999.0,9, -999.00,9, 20140404,      227, -63.0003,-149.9981,    34.8690,2,     -999.0,9,     -999.0,9,     -999.0,9,     -999.0,9,     -999.0,9,     -999.0,9
320620140320,       P16S,      13,          1,         10,         10,2,20140404,       0140,   -63.0000,  -149.9992,       3668,  1733.4,   0.5489,  34.7041,2,  34.7038,2,    206.2,2,   206.0,2,  128.31,2,   32.44,2,    0.00,2,    2.25,2,   0.095,2,   0.060,2,    0.06,2,  -999.0,9,  -999.0,9,-999.0000,9,  -999.00,-999.000,9,-999.0000,9, -999.00,9,   0.5487,2, -999.00,9,  -999.0,9, -999.00,9,    38.5,2, -999.00,9,      19.18,2,     -999.0,9, -999.00,9, 20140404,      222, -63.0003,-149.9979,    34.8675,2,     -999.0,9,     -999.0,9,     -999.0,9,     -999.0,1,     -999.0,9,     -999.0,9
320620140320,       P16S,      13,          1,          9,         09,2,20140404,       0140,   -63.0000,  -149.9992,       3668,  1935.8,   0.4697,  34.7030,2,  34.7022,2,    208.4,2,   207.7,2,  128.80,2,   32.49,2,    0.00,2,    2.26,2,   0.123,2,   0.066,2,    0.06,2,  2263.8,2,  2358.8,2,   7.6608,2,       20,-999.000,9,-999.0000,1, -999.00,9,   0.4703,2,    0.45,2,  -168.3,2, -999.00,9,      42,2, -999.00,9,      19.21,2,     -999.0,9, -999.00,9, 20140404,      218, -63.0003,-149.9980,    34.8659,2,     -999.0,9,     -999.0,9,     -999.0,9,     -999.0,9,     -999.0,9,     -999.0,9
320620140320,       P16S,      13,          1,          8,         08,2,20140404,       0140,   -63.0000,  -149.9992,       3668,  2164.0,   0.3883,  34.7014,2,  34.7007,2,    210.5,2,   210.2,2,  129.97,2,   32.50,2,    0.00,2,    2.25,2,   0.174,2,   0.110,2,    0.04,2,  -999.0,9,  -999.0,9,-999.0000,9,  -999.00,-999.000,9,-999.0000,9, -999.00,9,   0.3886,2, -999.00,9,  -999.0,9, -999.00,9,    40.6,2, -999.00,9,      19.83,2,     -999.0,9, -999.00,9, 20140404,      212, -63.0003,-149.9981,    34.8643,2,     -999.0,9,     -999.0,9,     -999.0,9,     -999.0,9,     -999.0,9,     -999.0,9
320620140320,       P16S,      13,          1,          7,         07,2,20140404,       0140,   -63.0000,  -149.9992,       3668,  2415.2,   0.2913,  34.6981,2,  34.6979,2,    214.0,2,   213.9,2,  129.68,2,   32.42,2,    0.00,2,    2.26,2,   0.347,2,   0.207,2,    0.10,2,    2263,2,  2358.4,2,   7.6609,2,       20,-999.000,9,-999.0000,1, -999.00,9,   0.2917,2,    0.49,2,  -166.8,2, -999.00,9,    40.1,2, -999.00,9,      19.71,2,     -999.0,9, -999.00,9, 20140404,      207, -63.0001,-149.9982,    34.8615,2,     -999.0,9,     -999.0,9,     -999.0,9,     -999.0,1,     -999.0,9,     -999.0,9
320620140320,       P16S,      13,          1,          6,         06,2,20140404,       0140,   -63.0000,  -149.9992,       3668,  2646.0,   0.2367,  34.6946,2,  34.6944,2,    216.4,2,   215.9,2,  127.92,2,   32.47,2,    0.00,2,    2.27,2,   0.552,2,   0.312,2,    0.15,2,  -999.0,9,  -999.0,9,-999.0000,9,  -999.00,-999.000,9,-999.0000,9, -999.00,9,   0.2368,2, -999.00,9,  -999.0,9, -999.00,9,    41.8,2, -999.00,9,      19.22,2,     -999.0,9, -999.00,9, 20140404,      202, -63.0000,-149.9984,    34.8580,2,     -999.0,9,     -999.0,9,     -999.0,9,     -999.0,9,     -999.0,9,     -999.0,9