BOTTLE,20230715CCHSIOCBG
EXPOCODE,SECT_ID,STNNBR,CASTNO,SAMPNO,BTLNBR,BTLNBR_FLAG_W,DATE,TIME,LATITUDE,LONGITUDE,DEPTH,CTDPRS,CTDTMP,CTDSAL,CTDSAL_FLAG_W,SALNTY,SALNTY_FLAG_W,CTDOXY,CTDOXY_FLAG_W,OXYGEN,OXYGEN_FLAG_W,SILCAT,SILCAT_FLAG_W,NITRAT,NITRAT_FLAG_W,NITRIT,NITRIT_FLAG_W,PHSPHT,PHSPHT_FLAG_W,CFC-11,CFC-11_FLAG_W,CFC-12,CFC-12_FLAG_W,SF6,SF6_FLAG_W,TCARBN,TCARBN_FLAG_W,ALKALI,ALKALI_FLAG_W,PH_TOT,PH_TOT_FLAG_W,PH_TMP,TRITUM,TRITUM_FLAG_W,HELIUM,HELIUM_FLAG_W,DELHE3,DELHE3_FLAG_W,REFTMP,REFTMP_FLAG_W,DELC13,DELC13_FLAG_W,DELC14,DELC14_FLAG_W,DELO18,DELO18_FLAG_W,DOC,DOC_FLAG_W,TDN,TDN_FLAG_W,N2O,N2O_FLAG_W,CALCIUM,CALCIUM_FLAG_W,D15N_NO3,D15N_NO3_FLAG_W,BTL_DATE,BTL_TIME,BTL_LAT,BTL_LON,SALTREF,SALTREF_FLAG_W,D18O_NO3,D18O_NO3_FLAG_W,DSI30,DSI30_FLAG_W,CDOM_NASA,CDOM_NASA_FLAG_W,CDOM_UCSB,CDOM_UCSB_FLAG_W,D15N_NO2+NO3,D15N_NO2+NO3_FLAG_W,D18O_NO2+NO3,D18O_NO2+NO3_FLAG_W
,,,,,,,,,,,METERS,DBAR,ITS-90,PSS-78,,PSS-78,,UMOL/KG,,UMOL/KG,,UMOL/KG,,UMOL/KG,,UMOL/KG,,UMOL/KG,,PMOL/KG,,PMOL/KG,,FMOL/KG,,UMOL/KG,,UMOL/KG,,,,DEG C,TU,,NMOL/KG,,PERCNT,,DEG C,,/MILLE,,/MILLE,,/MILLE,,UMOL/KG,,UMOL/KG,,NMOL/KG,,MMOL/KG,,/MILLE,,,,,,G/KG,,/MILLE,,/MILLE,,,,,,/MILLE,,/MILLE,
320620140320,       P16S,      40,          2,          5,         05,2,20140415,       2241,   -48.3338,  -150.0001,       5207,  3299.5,   1.6831,  34.7308,2,  34.7311,2,    194.1,2,   194.5,2,  100.47,2,   31.28,2,    0.00,2,    2.16,2,   0.062,2,   0.014,2,    0.02,2,  2259.3,2,  2359.2,2,   7.6746,2,       20,-999.000,9,-999.0000,9, -999.00,9,   1.6830,2,    0.53,2,  -162.6,2, -999.00,9,      37,2, -999.00,9,      21.44,2,     -999.0,1, -999.00,1, 20140415,     2325, -48.3338,-150.0001,    34.8949,2,     -999.0,1,     -999.0,9,     -999.0,9,     -999.0,1,     -999.0,9,     -999.0,9
320620140320,       P16S,      40,          2,          4,         04,2,20140415,       2241,   -48.3338,  -150.0001,       5207,  3999.1,   1.2150,  34.7170,2,  34.7166,2,    201.0,2,   200.9,2,  115.03,2,   31.95,2,    0.00,2,    2.20,2,-999.000,9,-999.000,9, -999.00,9,  2265.8,2,    2369,2,   7.6794,6,       20,-999.000,9,-999.0000,9, -999.00,9,   1.2153,2,    0.58,2,  -162.8,2, -999.00,9,    38.1,2, -999.00,9,     -999.0,9,     -999.0,9, -999.00,1, 20140415,     2311, -48.3338,-150.0001,    34.8803,2,     -999.0,1,     -999.0,9,     -999.0,9,     -999.0,1,     -999.0,9,     -999.0,9
320620140320,       P16S,      40,          2,          3,         03,2,20140415,       2241,   -48.3338,  -150.0001,       5207,  4401.0,   1.1886,  34.7151,2,  34.7146,2,    201.8,2,   202.4,2,  117.87,2,   32.07,2,    0.00,2,    2.20,2,   0.036,2,   0.008,2,   -0.01,2,  2267.8,2,  2371.3,2,   7.6809,2,       20,-999.000,9,-999.0000,9, -999.00,9,   1.1890,2,    0.60,2,  -168.3,2, -999.00,9,    38.1,2, -999.00,9,      21.37,2,     -999.0,1, -999.00,1, 20140415,     2257, -48.3338,-150.0001,    34.8783,2,     -999.0,1,     -999.0,9,     -999.0,9,     -999.0,1,     -999.0,9,     -999.0,9
320620140320,       P16S,      40,          2,          2,         02,2,20140415,       2241,   -48.3338,  -150.0001,       5207,  4600.8,   1.1949,  34.7148,2,  34.7148,2,    202.2,2,   202.3,2,  118.06,2,   31.98,2,    0.00,2,    2.19,2,   0.049,2,   0.014,2,    0.07,2,  2266.7,2,  2370.5,6,   7.6803,2,       20,-999.000,9,-999.0000,9, -999.00,9,   1.1947,2,    0.59,2,  -163.5,2, -999.00,9,    38.1,2, -999.00,9,      21.03,2,     -999.0,9, -999.00,1, 20140415,     2249, -48.3338,-150.0001,    34.8785,2,     -999.0,1,     -999.0,9,     -999.0,9,     -999.0,9,     -999.0,9,     -999.0,9
320620140320,       P16S,      40,          2,          1,         01,2,20140415,       2241,   -48.3338,  -150.0001,       5207,  4895.9,   1.2073,  34.7142,2,  34.7144,2,    202.2,2,   202.3,2,  119.33,2,   32.07,2,    0.00,2,    2.21,2,   0.056,2,   0.014,2,    0.04,2,  2267.7,6,  2371.8,2,   7.6815,2,       20,-999.000,9,-999.0000,9, -999.00,9,   1.2075,2,    0.61,2,  -167.6,2, -999.00,9,    40.4,2, -999.00,9,      21.28,2,     -999.0,1, -999.00,1, 20140415,     2240, -48.3339,-150.0001,    34.8781,2,     -999.0,1,     -999.0,9,     -999.0,9,     -999.0,1,     -999.0,9,     -999.0,9