BOTTLE,20230715CCHSIOCBG
EXPOCODE,SECT_ID,STNNBR,CASTNO,SAMPNO,BTLNBR,BTLNBR_FLAG_W,DATE,TIME,LATITUDE,LONGITUDE,DEPTH,CTDPRS,CTDTMP,CTDSAL,CTDSAL_FLAG_W,SALNTY,SALNTY_FLAG_W,CTDOXY,CTDOXY_FLAG_W,OXYGEN,OXYGEN_FLAG_W,SILCAT,SILCAT_FLAG_W,NITRAT,NITRAT_FLAG_W,NITRIT,NITRIT_FLAG_W,PHSPHT,PHSPHT_FLAG_W,CFC-11,CFC-11_FLAG_W,CFC-12,CFC-12_FLAG_W,SF6,SF6_FLAG_W,TCARBN,TCARBN_FLAG_W,ALKALI,ALKALI_FLAG_W,PH_TOT,PH_TOT_FLAG_W,PH_TMP,TRITUM,TRITUM_FLAG_W,HELIUM,HELIUM_FLAG_W,DELHE3,DELHE3_FLAG_W,REFTMP,REFTMP_FLAG_W,DELC13,DELC13_FLAG_W,DELC14,DELC14_FLAG_W,DELO18,DELO18_FLAG_W,DOC,DOC_FLAG_W,TDN,TDN_FLAG_W,N2O,N2O_FLAG_W,CALCIUM,CALCIUM_FLAG_W,D15N_NO3,D15N_NO3_FLAG_W,BTL_DATE,BTL_TIME,BTL_LAT,BTL_LON,SALTREF,SALTREF_FLAG_W,D18O_NO3,D18O_NO3_FLAG_W,DSI30,DSI30_FLAG_W,CDOM_NASA,CDOM_NASA_FLAG_W,CDOM_UCSB,CDOM_UCSB_FLAG_W,D15N_NO2+NO3,D15N_NO2+NO3_FLAG_W,D18O_NO2+NO3,D18O_NO2+NO3_FLAG_W
,,,,,,,,,,,METERS,DBAR,ITS-90,PSS-78,,PSS-78,,UMOL/KG,,UMOL/KG,,UMOL/KG,,UMOL/KG,,UMOL/KG,,UMOL/KG,,PMOL/KG,,PMOL/KG,,FMOL/KG,,UMOL/KG,,UMOL/KG,,,,DEG C,TU,,NMOL/KG,,PERCNT,,DEG C,,/MILLE,,/MILLE,,/MILLE,,UMOL/KG,,UMOL/KG,,NMOL/KG,,MMOL/KG,,/MILLE,,,,,,G/KG,,/MILLE,,/MILLE,,,,,,/MILLE,,/MILLE,
320620140320,       P16S,      40,          2,         36,         36,2,20140415,       2241,   -48.3338,  -150.0001,       5207,     5.0,  12.1634,  34.4927,2,  34.4915,2,    266.1,2,   266.8,2,    0.68,2,    5.28,2,    0.15,2,    0.50,2,   3.089,2,   1.787,2,    1.91,2,  2072.2,6,    2289,2,   7.9712,2,       20,-999.000,9,-999.0000,9, -999.00,9,  12.1634,2, -999.00,9,  -999.0,9, -999.00,9,    53.9,2,    9.57,2,      11.02,2,     -999.0,1, -999.00,1, 20140416,       57, -48.3338,-150.0001,    34.6541,2,     -999.0,1,     -999.0,9,     -999.0,9,     -999.0,1,     -999.0,1,     -999.0,1
320620140320,       P16S,      40,          2,         33,         33,2,20140415,       2241,   -48.3338,  -150.0001,       5207,    25.4,  12.1306,  34.4960,2,  34.4950,2,    266.8,2,   266.7,2,    0.78,2,    5.29,2,    0.15,2,    0.50,2,   3.096,2,   1.790,2,    2.08,2,  2072.9,2,  2288.8,2,   7.9707,2,       20,-999.000,9,-999.0000,9, -999.00,9,  12.1295,2,    1.66,2,    24.3,2, -999.00,9,    53.2,2,    8.97,2,      11.18,2,     -999.0,9, -999.00,1, 20140416,       54, -48.3338,-150.0001,    34.6577,2,     -999.0,1,     -999.0,9,     -999.0,9,     -999.0,1,     -999.0,1,     -999.0,1
320620140320,       P16S,      40,          2,         34,         34,2,20140415,       2241,   -48.3338,  -150.0001,       5207,    25.7,  12.1296,  34.4961,2,-999.0000,9,   -999.0,9,  -999.0,9, -999.00,9, -999.00,9, -999.00,9, -999.00,9,-999.000,9,-999.000,9, -999.00,9,  -999.0,9,  -999.0,9,-999.0000,9,  -999.00,-999.000,9,-999.0000,9, -999.00,9,  12.1296,2, -999.00,9,  -999.0,9, -999.00,9,  -999.0,9, -999.00,9,     -999.0,9,     -999.0,9, -999.00,9, 20140416,       55, -48.3338,-150.0001,     -999.0,9,     -999.0,9,     -999.0,9,     -999.0,9,     -999.0,9,     -999.0,9,     -999.0,9
320620140320,       P16S,      40,          2,         35,         35,2,20140415,       2241,   -48.3338,  -150.0001,       5207,    25.9,  12.1329,  34.4960,2,  34.4948,2,    266.8,2,   266.8,2,    0.68,2,    5.29,2,    0.15,2,    0.49,2,-999.000,9,-999.000,9, -999.00,9,  2073.8,2,  2288.2,2,   7.9705,2,       20,-999.000,9,-999.0000,9, -999.00,9,  12.1323,2, -999.00,9,  -999.0,9, -999.00,9,    52.6,2,    10.9,3,     -999.0,9,     -999.0,9, -999.00,1, 20140416,       55, -48.3338,-150.0001,    34.6575,2,     -999.0,1,     -999.0,9,     -999.0,9,     -999.0,1,     -999.0,1,     -999.0,1
320620140320,       P16S,      40,          2,         31,         31,2,20140415,       2241,   -48.3338,  -150.0001,       5207,    49.6,  12.1067,  34.5050,2,  34.5046,2,    266.9,2,   266.2,2,    0.68,2,    5.20,2,    0.14,2,    0.51,2,   3.125,2,   1.810,2,    1.91,2,  2072.9,2,    2289,2,   7.9712,2,       20,-999.000,9,-999.0000,9, -999.00,9,  12.1082,2,    1.67,2,    21.2,2, -999.00,9,      54,2,    9.51,2,      11.15,2,     -999.0,9, -999.00,1, 20140416,       52, -48.3338,-150.0001,    34.6673,2,     -999.0,1,     -999.0,9,     -999.0,9,     -999.0,1,     -999.0,1,     -999.0,1
320620140320,       P16S,      40,          2,         32,         32,2,20140415,       2241,   -48.3338,  -150.0001,       5207,    50.0,  12.1085,  34.5050,2,-999.0000,9,   -999.0,9,  -999.0,9, -999.00,9, -999.00,9, -999.00,9, -999.00,9,-999.000,9,-999.000,9, -999.00,9,  -999.0,9,  -999.0,9,-999.0000,9,  -999.00,-999.000,9,-999.0000,9, -999.00,9,  12.1086,2, -999.00,9,  -999.0,9, -999.00,9,  -999.0,9, -999.00,9,     -999.0,9,     -999.0,9, -999.00,9, 20140416,       52, -48.3338,-150.0001,     -999.0,9,     -999.0,9,     -999.0,9,     -999.0,9,     -999.0,9,     -999.0,9,     -999.0,9
320620140320,       P16S,      40,          2,         30,         30,2,20140415,       2241,   -48.3338,  -150.0001,       5207,    73.5,  11.6906,  34.5179,2,  34.5168,2,    264.7,2,   263.1,2,    0.98,2,    6.11,2,    0.25,2,    0.56,2,-999.000,9,-999.000,9, -999.00,9,  2080.9,2,  2290.4,2,   7.9552,2,       20,-999.000,9,-999.0000,9, -999.00,9,  11.6127,3,    1.60,2,    18.4,2, -999.00,9,    52.9,2,   10.25,2,     -999.0,9,     -999.0,1, -999.00,1, 20140416,       51, -48.3338,-150.0001,    34.6796,2,     -999.0,1,     -999.0,1,     -999.0,9,     -999.0,1,     -999.0,1,     -999.0,1
320620140320,       P16S,      40,          2,         29,         29,2,20140415,       2241,   -48.3338,  -150.0001,       5207,    99.4,   9.7590,  34.6380,2,  34.6341,2,    254.5,2,   254.5,2,    2.74,2,   11.93,2,    0.02,2,    0.88,2,   3.439,2,   1.978,2,    2.15,2,  2116.6,2,  2289.2,2,   7.8717,2,       20,-999.000,9,-999.0000,9, -999.00,9,   9.7642,2,    1.15,2,    27.6,2, -999.00,9,    47.4,2,   15.47,2,      13.83,2,     -999.0,9, -999.00,1, 20140416,       49, -48.3338,-150.0001,    34.7974,2,     -999.0,1,     -999.0,1,     -999.0,9,     -999.0,1,     -999.0,1,     -999.0,1
320620140320,       P16S,      40,          2,         28,         28,2,20140415,       2241,   -48.3338,  -150.0001,       5207,   149.8,   9.3437,  34.6103,2,  34.6097,2,    257.6,2,   258.7,2,    2.93,2,   12.56,2,    0.01,2,    0.92,2,-999.000,9,-999.000,9, -999.00,9,    2117,2,    2289,2,   7.8681,6,       20,-999.000,9,-999.0000,9, -999.00,9,   9.3430,2,    1.16,2,    24.5,2, -999.00,9,    47.9,2,   16.79,2,     -999.0,9,     -999.0,9, -999.00,1, 20140416,       47, -48.3338,-150.0001,    34.7729,2,     -999.0,1,     -999.0,1,     -999.0,9,     -999.0,1,     -999.0,1,     -999.0,1
320620140320,       P16S,      40,          2,         27,         27,2,20140415,       2241,   -48.3338,  -150.0001,       5207,   199.4,   8.9967,  34.5742,2,  34.5775,2,    259.5,2,   260.0,2,    3.13,2,   13.47,2,    0.01,2,    0.98,2,   3.539,2,   2.027,2,    2.12,2,  2118.9,2,  2287.6,2,   7.8617,2,       20,-999.000,9,-999.0000,9, -999.00,9,   8.9995,2,    1.18,2,    21.5,2, -999.00,9,    45.7,2,   16.37,2,      13.50,2,     -999.0,1, -999.00,1, 20140416,       45, -48.3338,-150.0001,    34.7405,2,     -999.0,1,     -999.0,9,     -999.0,9,     -999.0,1,     -999.0,1,     -999.0,1
320620140320,       P16S,      40,          2,         26,         26,2,20140415,       2241,   -48.3338,  -150.0001,       5207,   250.3,   8.6727,  34.5348,2,  34.5337,2,    264.1,2,   264.7,2,    3.32,2,   14.09,2,    0.01,2,    1.02,2,   3.671,2,   2.058,2,    2.15,2,  2119.2,2,  2285.8,2,   7.8557,2,       20,-999.000,9,-999.0000,9, -999.00,9,   8.6731,2,    1.18,2,    18.5,2, -999.00,9,      47,2,   15.62,2,      13.56,2,     -999.0,9, -999.00,1, 20140416,       43, -48.3338,-150.0001,    34.6965,2,     -999.0,1,     -999.0,1,     -999.0,9,     -999.0,1,     -999.0,1,     -999.0,1
320620140320,       P16S,      40,          2,         25,         25,2,20140415,       2241,   -48.3338,  -150.0001,       5207,   300.0,   8.5415,  34.5291,2,  34.5280,2,    262.9,2,   263.4,2,    3.62,2,   14.76,2,    0.01,2,    1.04,2,   3.744,2,   2.080,2,    1.97,2,  2121.6,2,    2286,6,   7.8509,2,       20,-999.000,9,-999.0000,9, -999.00,9,   8.5425,2,    1.18,2,    21.3,2, -999.00,9,    44.2,2,   18.43,2,      14.03,2,     -999.0,9, -999.00,1, 20140416,       40, -48.3338,-150.0001,    34.6908,2,     -999.0,1,     -999.0,9,     -999.0,9,     -999.0,9,     -999.0,1,     -999.0,1
320620140320,       P16S,      40,          2,         24,         24,2,20140415,       2241,   -48.3338,  -150.0001,       5207,   349.0,   8.4001,  34.5141,2,  34.5146,2,    261.6,2,   263.9,2,    3.71,2,   15.16,2,    0.01,2,    1.07,2,-999.000,9,-999.000,9, -999.00,9,  2124.3,6,  2285.6,2,    7.848,2,       20,-999.000,9,-999.0000,9, -999.00,9,   8.3967,2,    1.16,2,    23.2,2, -999.00,9,    44.5,2,   16.75,2,     -999.0,9,     -999.0,9, -999.00,1, 20140416,       38, -48.3338,-150.0001,    34.6774,2,     -999.0,1,     -999.0,1,     -999.0,9,     -999.0,9,     -999.0,1,     -999.0,1
320620140320,       P16S,      40,          2,         23,         23,2,20140415,       2241,   -48.3338,  -150.0001,       5207,   400.3,   8.2152,  34.4909,2,  34.4915,2,    258.2,2,   258.6,2,    4.30,2,   16.56,2,    0.01,2,    1.16,2,   3.704,2,   2.081,2,    1.86,2,  2127.9,2,    2284,2,   7.8355,2,       20,-999.000,9,-999.0000,9, -999.00,9,   8.2164,2,    1.16,2,    27.9,2, -999.00,9,    43.5,2,   19.24,2,      14.37,2,     -999.0,1, -999.00,1, 20140416,       36, -48.3338,-150.0001,    34.6541,2,     -999.0,1,     -999.0,1,     -999.0,9,     -999.0,1,     -999.0,1,     -999.0,1
320620140320,       P16S,      40,          2,         22,         22,2,20140415,       2241,   -48.3338,  -150.0001,       5207,   500.1,   7.7703,  34.4408,2,  34.4406,2,    253.2,2,   254.3,2,    5.47,2,   18.71,2,    0.01,2,    1.30,2,   3.840,2,   2.082,2,    1.70,2,  2135.6,2,    2283,2,   7.8157,2,       20,-999.000,9,-999.0000,9, -999.00,9,   7.7711,2,    1.14,2,    10.4,2, -999.00,9,    42.1,2, -999.00,9,      14.80,2,     -999.0,9, -999.00,1, 20140416,       34, -48.3338,-150.0001,    34.6030,2,     -999.0,1,     -999.0,9,     -999.0,9,     -999.0,9,     -999.0,1,     -999.0,1
320620140320,       P16S,      40,          2,         21,         21,2,20140415,       2241,   -48.3338,  -150.0001,       5207,   599.6,   7.4469,  34.4115,2,  34.4116,2,    247.7,2,   249.4,2,    6.65,2,   20.28,2,    0.00,2,    1.41,2,-999.000,9,-999.000,9, -999.00,9,  2140.3,2,  2282.6,2,   7.8015,2,       20,-999.000,9,-999.0000,9, -999.00,9,   7.4466,2,    1.14,2,    16.4,2, -999.00,9,    42.2,2, -999.00,9,     -999.0,9,     -999.0,1, -999.00,1, 20140416,       31, -48.3338,-150.0001,    34.5738,2,     -999.0,1,     -999.0,1,     -999.0,9,     -999.0,1,     -999.0,1,     -999.0,1
320620140320,       P16S,      40,          2,         20,         20,2,20140415,       2241,   -48.3338,  -150.0001,       5207,   701.7,   7.1073,  34.3896,2,  34.3900,2,    245.2,2,   245.6,2,    8.31,2,   21.61,2,    0.00,2,    1.50,2,   3.701,2,   1.971,2,    1.53,2,  2145.6,2,  2282.8,2,   7.7904,2,       20,-999.000,9,-999.0000,9, -999.00,9,   7.1082,2,    1.15,2,     5.0,2, -999.00,9,    40.9,2, -999.00,9,      15.24,2,     -999.0,9, -999.00,1, 20140416,       28, -48.3338,-150.0001,    34.5521,2,     -999.0,1,     -999.0,9,     -999.0,9,     -999.0,9,     -999.0,1,     -999.0,1
320620140320,       P16S,      40,          2,         19,         19,2,20140415,       2241,   -48.3338,  -150.0001,       5207,   800.9,   6.6757,  34.3539,2,  34.3548,2,    240.3,2,   241.0,2,   10.07,2,   22.95,2,    0.00,2,    1.57,2,   3.560,2,   1.868,2,    1.22,2,  2149.8,2,    2283,2,   7.7779,6,       20,-999.000,9,-999.0000,9, -999.00,9,   6.6763,2,    1.16,2,    -0.6,2, -999.00,9,    40.8,2, -999.00,9,      15.88,2,     -999.0,9, -999.00,1, 20140416,       25, -48.3338,-150.0001,    34.5168,2,     -999.0,1,     -999.0,1,     -999.0,9,     -999.0,1,     -999.0,1,     -999.0,1
320620140320,       P16S,      40,          2,         18,         18,2,20140415,       2241,   -48.3338,  -150.0001,       5207,   899.7,   6.3345,  34.3445,2,  34.3445,2,    232.3,2,   231.6,2,   13.30,2,   24.47,2,    0.00,2,    1.69,2,-999.000,9,-999.000,9, -999.00,9,  2158.3,2,  2283.6,2,   7.7603,2,       20,-999.000,9,-999.0000,9, -999.00,9,   6.3361,2,    1.14,2,   -11.5,2, -999.00,9,    41.7,2, -999.00,9,     -999.0,9,     -999.0,1, -999.00,1, 20140416,       22, -48.3338,-150.0001,    34.5064,2,     -999.0,1,     -999.0,9,     -999.0,9,     -999.0,9,     -999.0,1,     -999.0,1
320620140320,       P16S,      40,          2,         17,         17,2,20140415,       2241,   -48.3338,  -150.0001,       5207,  1000.3,   5.7197,  34.3192,2,  34.3188,2,    224.3,2,   223.6,2,   17.79,2,   26.52,2,    0.00,2,    1.82,2,   2.769,2,   1.428,2,    1.03,2,  2169.1,2,  2286.4,2,   7.7366,2,       20,-999.000,9,-999.0000,9, -999.00,9,   5.7168,2,    1.06,2,   -29.2,2, -999.00,9,      40,2, -999.00,9,      18.07,2,     -999.0,9, -999.00,1, 20140416,       19, -48.3338,-150.0001,    34.4806,2,     -999.0,1,     -999.0,1,     -999.0,9,     -999.0,1,     -999.0,1,     -999.0,1
320620140320,       P16S,      40,          2,         16,         16,2,20140415,       2241,   -48.3338,  -150.0001,       5207,  1101.2,   5.2502,  34.3198,2,  34.3209,2,    215.9,2,   215.4,2,   23.27,2,   28.17,2,    0.00,2,    1.92,2,   2.454,2,   1.245,2,    0.71,2,  2180.7,2,  2290.6,2,   7.7152,2,       20,-999.000,9,-999.0000,9, -999.00,9,   5.2454,2,    0.94,2,   -45.1,2, -999.00,9,    40.3,2, -999.00,9,      19.68,2,     -999.0,9, -999.00,1, 20140416,       16, -48.3338,-150.0001,    34.4827,2,     -999.0,1,     -999.0,9,     -999.0,9,     -999.0,9,     -999.0,1,     -999.0,1
320620140320,       P16S,      40,          2,         15,         15,2,20140415,       2241,   -48.3338,  -150.0001,       5207,  1200.3,   4.7257,  34.3221,2,  34.3223,2,    209.9,2,   209.7,2,   29.23,2,   29.55,2,    0.00,2,    2.03,2,-999.000,9,-999.000,9, -999.00,9,  2189.7,2,  2295.6,2,    7.697,2,       20,-999.000,9,-999.0000,9, -999.00,9,   4.7227,2,    0.89,2,   -71.4,2, -999.00,9,    39.4,2, -999.00,9,     -999.0,9,     -999.0,9, -999.00,1, 20140416,       14, -48.3338,-150.0001,    34.4841,2,     -999.0,1,     -999.0,9,     -999.0,9,     -999.0,1,     -999.0,1,     -999.0,1
320620140320,       P16S,      40,          2,         14,         14,2,20140415,       2241,   -48.3338,  -150.0001,       5207,  1299.0,   4.0871,  34.3389,2,  34.3384,2,    203.5,2,   202.8,2,   37.83,2,   31.15,2,    0.00,2,    2.14,2,   1.898,2,   0.955,2,    0.57,2,  2205.2,2,  2303.8,2,   7.6756,2,       20,-999.000,9,-999.0000,9, -999.00,9,   4.0886,2,    0.79,2,   -86.0,2, -999.00,9,      38,2, -999.00,9,      22.00,2,     -999.0,1, -999.00,1, 20140416,       11, -48.3338,-150.0002,    34.5003,2,     -999.0,1,     -999.0,1,     -999.0,9,     -999.0,9,     -999.0,1,     -999.0,1
320620140320,       P16S,      40,          2,         13,         13,2,20140415,       2241,   -48.3338,  -150.0001,       5207,  1401.0,   3.6057,  34.3651,2,  34.3651,2,    196.2,2,   196.1,2,   46.04,2,   32.33,2,    0.00,2,    2.22,2,-999.000,9,-999.000,9, -999.00,9,  2217.2,2,  2310.2,2,   7.6578,2,       20,-999.000,9,-999.0000,9, -999.00,9,   3.6088,2,    0.60,2,  -104.2,2, -999.00,9,    37.7,2, -999.00,9,     -999.0,9,     -999.0,9, -999.00,1, 20140416,        8, -48.3338,-150.0001,    34.5271,2,     -999.0,1,     -999.0,1,     -999.0,9,     -999.0,9,     -999.0,1,     -999.0,1
320620140320,       P16S,      40,          2,         12,         12,2,20140415,       2241,   -48.3338,  -150.0001,       5207,  1599.9,   3.1476,  34.4413,2,  34.4422,2,    181.4,2,   181.2,2,   59.43,2,   33.54,2,    0.00,2,    2.32,2,   0.963,2,   0.490,2,    0.21,2,  2235.9,2,  2323.5,2,   7.6391,2,       20,-999.000,9,-999.0000,9, -999.00,9,   3.1470,2,    0.65,2,  -123.7,2, -999.00,9,    36.7,2, -999.00,9,      23.15,2,     -999.0,9, -999.00,1, 20140416,        3, -48.3338,-150.0001,    34.6046,2,     -999.0,1,     -999.0,9,     -999.0,9,     -999.0,1,     -999.0,1,     -999.0,1
320620140320,       P16S,      40,          2,         11,         11,2,20140415,       2241,   -48.3338,  -150.0001,       5207,  1798.6,   2.8487,  34.5108,2,  34.5109,2,    173.1,2,   173.0,2,   69.69,2,   34.01,2,    0.00,2,    2.35,2,   0.637,2,   0.353,2,    0.16,2,  2249.2,2,  2334.4,2,   7.6293,2,       20,-999.000,9,-999.0000,9, -999.00,9,   2.8484,2,    0.53,2,  -140.8,2, -999.00,9,    35.9,2, -999.00,9,      24.59,2,     -999.0,1, -999.00,1, 20140415,     2359, -48.3338,-150.0001,    34.6736,2,     -999.0,1,     -999.0,1,     -999.0,9,     -999.0,9,     -999.0,1,     -999.0,1
320620140320,       P16S,      40,          2,         10,         10,2,20140415,       2241,   -48.3338,  -150.0001,       5207,  1999.5,   2.6263,  34.5815,2,  34.5810,2,    166.0,2,   165.8,2,   82.40,2,   34.10,2,    0.00,2,    2.37,2,-999.000,9,-999.000,9, -999.00,9,  2264.3,2,  2350.6,2,    7.632,2,       20,-999.000,9,-999.0000,9, -999.00,9,   2.6274,2,    0.49,2,  -159.4,2, -999.00,9,    36.7,2, -999.00,9,     -999.0,9,     -999.0,9, -999.00,1, 20140415,     2354, -48.3338,-150.0001,    34.7441,2,     -999.0,1,     -999.0,9,     -999.0,9,     -999.0,9,     -999.0,1,     -999.0,1
320620140320,       P16S,      40,          2,          9,         09,2,20140415,       2241,   -48.3338,  -150.0001,       5207,  2250.1,   2.3822,  34.6413,2,  34.6411,2,    166.8,2,   165.7,2,   91.19,2,   33.72,2,    0.00,2,    2.31,2,   0.163,2,   0.075,2,    0.02,2,  2271.6,2,  2359.9,2,   7.6382,2,       20,-999.000,9,-999.0000,9, -999.00,9,   2.3817,2,    0.43,2,  -169.4,2, -999.00,9,    39.1,2, -999.00,9,      23.71,2,     -999.0,1, -999.00,1, 20140415,     2349, -48.3338,-150.0001,    34.8045,2,     -999.0,1,     -999.0,9,     -999.0,9,     -999.0,1,     -999.0,9,     -999.0,9
320620140320,       P16S,      40,          2,          8,         08,2,20140415,       2241,   -48.3338,  -150.0001,       5207,  2499.8,   2.2469,  34.6877,2,  34.6867,2,    175.4,2,   176.2,2,   88.35,2,   32.48,2,    0.00,2,    2.23,2,   0.156,2,   0.078,2,    0.07,2,  2261.4,2,  2356.1,2,   7.6495,2,       20,-999.000,9,-999.0000,9, -999.00,9,   2.2470,2,    0.48,2,  -163.2,2, -999.00,9,    37.2,2, -999.00,9,      21.98,2,     -999.0,9, -999.00,1, 20140415,     2343, -48.3338,-150.0001,    34.8503,2,     -999.0,1,     -999.0,9,     -999.0,9,     -999.0,9,     -999.0,9,     -999.0,9
320620140320,       P16S,      40,          2,          7,         07,2,20140415,       2241,   -48.3338,  -150.0001,       5207,  2751.5,   2.0973,  34.7144,2,  34.7144,2,    181.9,2,   182.7,2,   90.31,2,   31.75,2,    0.00,2,    2.19,2,   0.116,2,   0.055,2,    0.06,2,  2259.1,2,  2356.3,2,   7.6604,2,       20,-999.000,9,-999.0000,9, -999.00,9,   2.0971,2,    0.48,2,  -162.7,2, -999.00,9,    36.9,2, -999.00,9,      21.76,2,     -999.0,1, -999.00,1, 20140415,     2337, -48.3338,-150.0001,    34.8781,2,     -999.0,1,     -999.0,9,     -999.0,9,     -999.0,9,     -999.0,9,     -999.0,9
320620140320,       P16S,      40,          2,          6,         06,2,20140415,       2241,   -48.3338,  -150.0001,       5207,  2998.6,   1.9186,  34.7259,2,  34.7256,2,    187.7,2,   187.6,2,   95.39,2,   31.49,2,    0.00,2,    2.17,2,   0.082,2,   0.036,2,    0.06,2,  2259.7,2,  2358.5,2,    7.668,2,       20,-999.000,9,-999.0000,9, -999.00,9,   1.9189,2,    0.58,2,  -170.8,2, -999.00,9,    36.4,2, -999.00,9,      22.38,2,     -999.0,9, -999.00,1, 20140415,     2332, -48.3338,-150.0001,    34.8894,2,     -999.0,1,     -999.0,9,     -999.0,9,     -999.0,9,     -999.0,9,     -999.0,9