BOTTLE,20230715CCHSIOCBG
EXPOCODE,SECT_ID,STNNBR,CASTNO,SAMPNO,BTLNBR,BTLNBR_FLAG_W,DATE,TIME,LATITUDE,LONGITUDE,DEPTH,CTDPRS,CTDTMP,CTDSAL,CTDSAL_FLAG_W,SALNTY,SALNTY_FLAG_W,CTDOXY,CTDOXY_FLAG_W,OXYGEN,OXYGEN_FLAG_W,SILCAT,SILCAT_FLAG_W,NITRAT,NITRAT_FLAG_W,NITRIT,NITRIT_FLAG_W,PHSPHT,PHSPHT_FLAG_W,CFC-11,CFC-11_FLAG_W,CFC-12,CFC-12_FLAG_W,SF6,SF6_FLAG_W,TCARBN,TCARBN_FLAG_W,ALKALI,ALKALI_FLAG_W,PH_TOT,PH_TOT_FLAG_W,PH_TMP,TRITUM,TRITUM_FLAG_W,HELIUM,HELIUM_FLAG_W,DELHE3,DELHE3_FLAG_W,REFTMP,REFTMP_FLAG_W,DELC13,DELC13_FLAG_W,DELC14,DELC14_FLAG_W,DELO18,DELO18_FLAG_W,DOC,DOC_FLAG_W,TDN,TDN_FLAG_W,N2O,N2O_FLAG_W,CALCIUM,CALCIUM_FLAG_W,D15N_NO3,D15N_NO3_FLAG_W,BTL_DATE,BTL_TIME,BTL_LAT,BTL_LON,SALTREF,SALTREF_FLAG_W,D18O_NO3,D18O_NO3_FLAG_W,DSI30,DSI30_FLAG_W,CDOM_NASA,CDOM_NASA_FLAG_W,CDOM_UCSB,CDOM_UCSB_FLAG_W,D15N_NO2+NO3,D15N_NO2+NO3_FLAG_W,D18O_NO2+NO3,D18O_NO2+NO3_FLAG_W
,,,,,,,,,,,METERS,DBAR,ITS-90,PSS-78,,PSS-78,,UMOL/KG,,UMOL/KG,,UMOL/KG,,UMOL/KG,,UMOL/KG,,UMOL/KG,,PMOL/KG,,PMOL/KG,,FMOL/KG,,UMOL/KG,,UMOL/KG,,,,DEG C,TU,,NMOL/KG,,PERCNT,,DEG C,,/MILLE,,/MILLE,,/MILLE,,UMOL/KG,,UMOL/KG,,NMOL/KG,,MMOL/KG,,/MILLE,,,,,,G/KG,,/MILLE,,/MILLE,,,,,,/MILLE,,/MILLE,
320620140320,       P16S,      15,          1,          5,         05,2,20140406,       0909,   -57.9996,  -149.9994,       2875,  2203.5,   0.7762,  34.7087,2,  34.7089,2,    205.8,2,   205.6,2,  125.17,2,   32.13,2,    0.00,2,    2.21,2,   0.189,2,   0.087,2,    0.01,2,  2263.5,2,  2364.3,2,    7.669,2,       20,-999.000,9,-999.0000,9, -999.00,9,   0.7757,2,    0.42,2,  -153.7,3, -999.00,9,    38.2,2, -999.00,9,      19.57,2,     -999.0,9, -999.00,9, 20140406,      925, -57.9997,-149.9994,    34.8726,2,     -999.0,9,     -999.0,9,     -999.0,9,     -999.0,9,     -999.0,9,     -999.0,9
320620140320,       P16S,      15,          1,          4,         04,2,20140406,       0909,   -57.9996,  -149.9994,       2875,  2398.7,   0.7456,  34.7078,2,  34.7073,2,    206.5,2,   205.7,2,  128.00,2,   32.20,2,    0.00,2,    2.23,2,   0.181,2,   0.087,2,    0.05,2,  -999.0,9,  -999.0,9,-999.0000,9,  -999.00,-999.000,9,-999.0000,9, -999.00,9,   0.7461,2, -999.00,9,  -999.0,9, -999.00,9,    36.2,2, -999.00,9,      19.82,2,     -999.0,9, -999.00,9, 20140406,      921, -58.0000,-149.9992,    34.8710,2,     -999.0,9,     -999.0,9,     -999.0,9,     -999.0,9,     -999.0,9,     -999.0,9
320620140320,       P16S,      15,          1,          3,         03,2,20140406,       0909,   -57.9996,  -149.9994,       2875,  2599.9,   0.6876,  34.7053,2,  34.7048,2,    206.9,2,   206.7,2,  128.88,2,   32.21,2,    0.00,2,    2.22,2,   0.230,2,   0.115,2,    0.10,2,  2263.7,2,  2362.5,6,   7.6646,2,       20,-999.000,9,-999.0000,9, -999.00,9,   0.6879,2,    0.46,2,  -158.8,2, -999.00,9,    36.2,2, -999.00,9,      20.38,2,     -999.0,9, -999.00,9, 20140406,      917, -58.0001,-149.9992,    34.8684,2,     -999.0,9,     -999.0,9,     -999.0,9,     -999.0,9,     -999.0,9,     -999.0,9
320620140320,       P16S,      15,          1,          2,         02,2,20140406,       0909,   -57.9996,  -149.9994,       2875,  2727.8,   0.6439,  34.7039,2,  34.7036,2,    207.3,2,   207.5,2,  128.10,2,   32.25,2,    0.00,2,    2.23,2,   0.229,2,   0.141,2,    0.06,2,    2265,2,  2362.3,2,   7.6625,6,       20,-999.000,9,-999.0000,9, -999.00,9,   0.6445,2,    0.49,2,  -162.3,2, -999.00,9,    37.1,2, -999.00,9,      19.78,2,     -999.0,9, -999.00,9, 20140406,      913, -57.9999,-149.9993,    34.8673,2,     -999.0,9,     -999.0,9,     -999.0,9,     -999.0,9,     -999.0,9,     -999.0,9
320620140320,       P16S,      15,          1,          1,         01,2,20140406,       0909,   -57.9996,  -149.9994,       2875,  2905.8,   0.5160,  34.7001,2,  34.7001,2,    209.7,2,   209.8,2,  127.32,2,   32.32,2,    0.00,2,    2.23,2,   0.353,2,   0.181,2,    0.27,2,  2264.2,6,  2360.2,2,   7.6599,2,       20,-999.000,9,-999.0000,9, -999.00,9,   0.5151,2,    0.44,2,  -160.6,2, -999.00,9,      39,2, -999.00,9,      20.05,2,     -999.0,9, -999.00,9, 20140406,      910, -57.9996,-149.9994,    34.8637,2,     -999.0,9,     -999.0,9,     -999.0,9,     -999.0,9,     -999.0,9,     -999.0,9