BOTTLE,20230715CCHSIOCBG
EXPOCODE,SECT_ID,STNNBR,CASTNO,SAMPNO,BTLNBR,BTLNBR_FLAG_W,DATE,TIME,LATITUDE,LONGITUDE,DEPTH,CTDPRS,CTDTMP,CTDSAL,CTDSAL_FLAG_W,SALNTY,SALNTY_FLAG_W,CTDOXY,CTDOXY_FLAG_W,OXYGEN,OXYGEN_FLAG_W,SILCAT,SILCAT_FLAG_W,NITRAT,NITRAT_FLAG_W,NITRIT,NITRIT_FLAG_W,PHSPHT,PHSPHT_FLAG_W,CFC-11,CFC-11_FLAG_W,CFC-12,CFC-12_FLAG_W,SF6,SF6_FLAG_W,TCARBN,TCARBN_FLAG_W,ALKALI,ALKALI_FLAG_W,PH_TOT,PH_TOT_FLAG_W,PH_TMP,TRITUM,TRITUM_FLAG_W,HELIUM,HELIUM_FLAG_W,DELHE3,DELHE3_FLAG_W,REFTMP,REFTMP_FLAG_W,DELC13,DELC13_FLAG_W,DELC14,DELC14_FLAG_W,DELO18,DELO18_FLAG_W,DOC,DOC_FLAG_W,TDN,TDN_FLAG_W,N2O,N2O_FLAG_W,CALCIUM,CALCIUM_FLAG_W,D15N_NO3,D15N_NO3_FLAG_W,BTL_DATE,BTL_TIME,BTL_LAT,BTL_LON,SALTREF,SALTREF_FLAG_W,D18O_NO3,D18O_NO3_FLAG_W,DSI30,DSI30_FLAG_W,CDOM_NASA,CDOM_NASA_FLAG_W,CDOM_UCSB,CDOM_UCSB_FLAG_W,D15N_NO2+NO3,D15N_NO2+NO3_FLAG_W,D18O_NO2+NO3,D18O_NO2+NO3_FLAG_W
,,,,,,,,,,,METERS,DBAR,ITS-90,PSS-78,,PSS-78,,UMOL/KG,,UMOL/KG,,UMOL/KG,,UMOL/KG,,UMOL/KG,,UMOL/KG,,PMOL/KG,,PMOL/KG,,FMOL/KG,,UMOL/KG,,UMOL/KG,,,,DEG C,TU,,NMOL/KG,,PERCNT,,DEG C,,/MILLE,,/MILLE,,/MILLE,,UMOL/KG,,UMOL/KG,,NMOL/KG,,MMOL/KG,,/MILLE,,,,,,G/KG,,/MILLE,,/MILLE,,,,,,/MILLE,,/MILLE,
320620140320,       P16S,      61,          1,          5,         05,2,20140424,       0549,   -34.3333,  -149.9998,       5720,  4300.6,   1.2782,  34.7077,2,  34.7082,2,    195.4,2,   195.3,2,  118.50,2,   32.70,2,    0.00,2,    2.27,2,   0.007,2,   0.002,2,    0.01,2,  2270.5,2,  2372.3,2,   7.6726,2,       20,-999.000,9,-999.0000,9, -999.00,9,   1.2762,2, -999.00,9,  -999.0,9, -999.00,9,  -999.0,9, -999.00,9,      19.81,2,     -999.0,9, -999.00,9, 20140424,      617, -34.3333,-149.9998,    34.8719,2,     -999.0,9,     -999.0,9,     -999.0,9,     -999.0,9,     -999.0,9,     -999.0,9
320620140320,       P16S,      61,          1,          4,         04,2,20140424,       0549,   -34.3333,  -149.9998,       5720,  4600.8,   1.2057,  34.7096,2,  34.7098,2,    199.9,2,   200.0,2,  118.59,2,   32.45,2,    0.00,2,    2.24,2,   0.010,2,   0.003,2,    0.00,2,  2268.4,2,  2370.5,2,   7.6751,2,       20,-999.000,9,-999.0000,9, -999.00,9,   1.2060,2, -999.00,9,  -999.0,9, -999.00,9,  -999.0,9, -999.00,9,      19.99,2,     -999.0,9, -999.00,9, 20140424,      610, -34.3333,-149.9998,    34.8735,2,     -999.0,9,     -999.0,9,     -999.0,9,     -999.0,9,     -999.0,9,     -999.0,9
320620140320,       P16S,      61,          1,          3,         03,2,20140424,       0549,   -34.3333,  -149.9998,       5720,  4900.1,   1.1605,  34.7103,2,  34.7104,2,    202.5,2,   202.9,2,  119.18,2,   32.42,2,    0.00,2,    2.24,2,-999.000,9,-999.000,9, -999.00,9,  2265.3,2,  2369.6,2,   7.6769,2,       20,-999.000,9,-999.0000,9, -999.00,9,   1.1600,2, -999.00,9,  -999.0,9, -999.00,9,  -999.0,9, -999.00,9,     -999.0,9,     -999.0,9, -999.00,9, 20140424,      604, -34.3333,-149.9998,    34.8741,2,     -999.0,9,     -999.0,9,     -999.0,9,     -999.0,9,     -999.0,9,     -999.0,9
320620140320,       P16S,      61,          1,          2,         02,2,20140424,       0549,   -34.3333,  -149.9998,       5720,  5124.1,   1.1543,  34.7100,2,  34.7100,2,    203.4,2,   204.4,2,  119.77,2,   32.34,2,    0.00,2,    2.24,2,   0.021,2,   0.008,2,    0.01,2,  2264.7,2,  2368.9,2,   7.6775,2,       20,-999.000,9,-999.0000,9, -999.00,9,   1.1541,2, -999.00,9,  -999.0,9, -999.00,9,  -999.0,9, -999.00,9,      20.23,2,     -999.0,9, -999.00,9, 20140424,      558, -34.3333,-149.9998,    34.8737,2,     -999.0,9,     -999.0,9,     -999.0,9,     -999.0,9,     -999.0,9,     -999.0,9
320620140320,       P16S,      61,          1,          1,         01,2,20140424,       0549,   -34.3333,  -149.9998,       5720,  5348.1,   1.1748,  34.7098,2,  34.7100,2,    203.3,2,   203.5,2,  119.87,2,   32.40,2,    0.00,2,    2.22,2,   0.026,6,   0.008,6,    0.00,6,  2266.2,6,  2369.1,2,   7.6773,2,       20,-999.000,9,-999.0000,9, -999.00,9,   1.1747,2, -999.00,9,  -999.0,9, -999.00,9,  -999.0,9, -999.00,9,      19.60,6,     -999.0,9, -999.00,9, 20140424,      550, -34.3333,-149.9998,    34.8736,2,     -999.0,9,     -999.0,9,     -999.0,9,     -999.0,9,     -999.0,9,     -999.0,9