BOTTLE,20230715CCHSIOCBG
EXPOCODE,SECT_ID,STNNBR,CASTNO,SAMPNO,BTLNBR,BTLNBR_FLAG_W,DATE,TIME,LATITUDE,LONGITUDE,DEPTH,CTDPRS,CTDTMP,CTDSAL,CTDSAL_FLAG_W,SALNTY,SALNTY_FLAG_W,CTDOXY,CTDOXY_FLAG_W,OXYGEN,OXYGEN_FLAG_W,SILCAT,SILCAT_FLAG_W,NITRAT,NITRAT_FLAG_W,NITRIT,NITRIT_FLAG_W,PHSPHT,PHSPHT_FLAG_W,CFC-11,CFC-11_FLAG_W,CFC-12,CFC-12_FLAG_W,SF6,SF6_FLAG_W,TCARBN,TCARBN_FLAG_W,ALKALI,ALKALI_FLAG_W,PH_TOT,PH_TOT_FLAG_W,PH_TMP,TRITUM,TRITUM_FLAG_W,HELIUM,HELIUM_FLAG_W,DELHE3,DELHE3_FLAG_W,REFTMP,REFTMP_FLAG_W,DELC13,DELC13_FLAG_W,DELC14,DELC14_FLAG_W,DELO18,DELO18_FLAG_W,DOC,DOC_FLAG_W,TDN,TDN_FLAG_W,N2O,N2O_FLAG_W,CALCIUM,CALCIUM_FLAG_W,D15N_NO3,D15N_NO3_FLAG_W,BTL_DATE,BTL_TIME,BTL_LAT,BTL_LON,SALTREF,SALTREF_FLAG_W,D18O_NO3,D18O_NO3_FLAG_W,DSI30,DSI30_FLAG_W,CDOM_NASA,CDOM_NASA_FLAG_W,CDOM_UCSB,CDOM_UCSB_FLAG_W,D15N_NO2+NO3,D15N_NO2+NO3_FLAG_W,D18O_NO2+NO3,D18O_NO2+NO3_FLAG_W
,,,,,,,,,,,METERS,DBAR,ITS-90,PSS-78,,PSS-78,,UMOL/KG,,UMOL/KG,,UMOL/KG,,UMOL/KG,,UMOL/KG,,UMOL/KG,,PMOL/KG,,PMOL/KG,,FMOL/KG,,UMOL/KG,,UMOL/KG,,,,DEG C,TU,,NMOL/KG,,PERCNT,,DEG C,,/MILLE,,/MILLE,,/MILLE,,UMOL/KG,,UMOL/KG,,NMOL/KG,,MMOL/KG,,/MILLE,,,,,,G/KG,,/MILLE,,/MILLE,,,,,,/MILLE,,/MILLE,
320620140320,       P16S,      82,          1,          5,         05,2,20140501,       1532,   -20.3332,  -150.0001,       3931,  3099.0,   1.6758,  34.6740,2,  34.6734,2,    164.5,2,   163.9,2,  124.56,2,   34.71,2,    0.00,2,    2.41,2,   0.003,2,   0.000,2,    0.00,2,  2301.1,2,    2396,2,   7.6511,6,       20,-999.000,9,-999.0000,9, -999.00,9,   1.6761,2, -999.00,9,  -999.0,9, -999.00,9,    36.2,2, -999.00,9,      21.99,2,     -999.0,9, -999.00,9, 20140501,     1553, -20.3332,-150.0002,    34.8369,2,     -999.0,9,     -999.0,9,     -999.0,9,     -999.0,9,     -999.0,9,     -999.0,9
320620140320,       P16S,      82,          1,          4,         04,2,20140501,       1532,   -20.3332,  -150.0001,       3931,  3399.9,   1.5830,  34.6817,2,  34.6817,2,    169.6,2,   169.8,2,  124.56,2,   34.34,2,    0.00,2,    2.38,2,-999.000,9,-999.000,9, -999.00,9,  2296.1,2,  2392.2,2,   7.6569,2,       20,-999.000,9,-999.0000,9, -999.00,9,   1.5830,2, -999.00,9,  -999.0,9, -999.00,9,    37.9,2, -999.00,9,     -999.0,9,     -999.0,9, -999.00,9, 20140501,     1547, -20.3332,-150.0002,    34.8452,2,     -999.0,9,     -999.0,9,     -999.0,9,     -999.0,9,     -999.0,9,     -999.0,9
320620140320,       P16S,      82,          1,          3,         03,2,20140501,       1532,   -20.3332,  -150.0001,       3931,  3699.7,   1.5126,  34.6877,2,  34.6870,2,    174.7,2,   175.2,2,  123.58,2,   33.99,2,    0.00,2,    2.35,2,-999.000,9,-999.000,9, -999.00,9,  2290.9,2,  2390.4,6,   7.6614,2,       20,-999.000,9,-999.0000,9, -999.00,9,   1.5127,2, -999.00,9,  -999.0,9, -999.00,9,    36.9,2, -999.00,9,     -999.0,9,     -999.0,9, -999.00,9, 20140501,     1541, -20.3332,-150.0001,    34.8505,2,     -999.0,9,     -999.0,9,     -999.0,9,     -999.0,9,     -999.0,9,     -999.0,9
320620140320,       P16S,      82,          1,          2,         02,2,20140501,       1532,   -20.3332,  -150.0001,       3931,  3868.8,   1.5019,  34.6896,2,  34.6885,2,    176.4,2,   177.1,2,  123.58,2,   33.95,2,    0.00,2,    2.35,2,-999.000,9,-999.000,9, -999.00,9,  2290.2,2,  2389.1,2,   7.6625,2,       20,-999.000,9,-999.0000,9, -999.00,9,   1.5026,2, -999.00,9,  -999.0,9, -999.00,9,    37.1,2, -999.00,9,     -999.0,9,     -999.0,9, -999.00,9, 20140501,     1536, -20.3332,-150.0001,    34.8521,2,     -999.0,9,     -999.0,9,     -999.0,9,     -999.0,9,     -999.0,9,     -999.0,9
320620140320,       P16S,      82,          1,          1,         01,2,20140501,       1532,   -20.3332,  -150.0001,       3931,  3991.3,   1.4929,  34.6908,2,  34.6907,2,    178.2,2,   178.1,2,  123.19,2,   33.81,2,    0.00,2,    2.34,2,   0.001,2,   0.000,2,    0.00,2,  2288.7,6,  2387.4,2,   7.6636,2,       20,-999.000,9,-999.0000,9, -999.00,9,   1.4927,2, -999.00,9,  -999.0,9, -999.00,9,    37.4,2, -999.00,9,      21.68,2,     -999.0,9, -999.00,9, 20140501,     1532, -20.3332,-150.0001,    34.8543,2,     -999.0,9,     -999.0,9,     -999.0,9,     -999.0,9,     -999.0,9,     -999.0,9