BOTTLE,20230715CCHSIOCBG
EXPOCODE,SECT_ID,STNNBR,CASTNO,SAMPNO,BTLNBR,BTLNBR_FLAG_W,DATE,TIME,LATITUDE,LONGITUDE,DEPTH,CTDPRS,CTDTMP,CTDSAL,CTDSAL_FLAG_W,SALNTY,SALNTY_FLAG_W,CTDOXY,CTDOXY_FLAG_W,OXYGEN,OXYGEN_FLAG_W,SILCAT,SILCAT_FLAG_W,NITRAT,NITRAT_FLAG_W,NITRIT,NITRIT_FLAG_W,PHSPHT,PHSPHT_FLAG_W,CFC-11,CFC-11_FLAG_W,CFC-12,CFC-12_FLAG_W,SF6,SF6_FLAG_W,TCARBN,TCARBN_FLAG_W,ALKALI,ALKALI_FLAG_W,PH_TOT,PH_TOT_FLAG_W,PH_TMP,TRITUM,TRITUM_FLAG_W,HELIUM,HELIUM_FLAG_W,DELHE3,DELHE3_FLAG_W,REFTMP,REFTMP_FLAG_W,DELC13,DELC13_FLAG_W,DELC14,DELC14_FLAG_W,DELO18,DELO18_FLAG_W,DOC,DOC_FLAG_W,TDN,TDN_FLAG_W,N2O,N2O_FLAG_W,CALCIUM,CALCIUM_FLAG_W,D15N_NO3,D15N_NO3_FLAG_W,BTL_DATE,BTL_TIME,BTL_LAT,BTL_LON,SALTREF,SALTREF_FLAG_W,D18O_NO3,D18O_NO3_FLAG_W,DSI30,DSI30_FLAG_W,CDOM_NASA,CDOM_NASA_FLAG_W,CDOM_UCSB,CDOM_UCSB_FLAG_W,D15N_NO2+NO3,D15N_NO2+NO3_FLAG_W,D18O_NO2+NO3,D18O_NO2+NO3_FLAG_W
,,,,,,,,,,,METERS,DBAR,ITS-90,PSS-78,,PSS-78,,UMOL/KG,,UMOL/KG,,UMOL/KG,,UMOL/KG,,UMOL/KG,,UMOL/KG,,PMOL/KG,,PMOL/KG,,FMOL/KG,,UMOL/KG,,UMOL/KG,,,,DEG C,TU,,NMOL/KG,,PERCNT,,DEG C,,/MILLE,,/MILLE,,/MILLE,,UMOL/KG,,UMOL/KG,,NMOL/KG,,MMOL/KG,,/MILLE,,,,,,G/KG,,/MILLE,,/MILLE,,,,,,/MILLE,,/MILLE,
320620140320,       P16S,      62,          1,         36,         36,2,20140424,       1353,   -33.6669,  -150.0000,       5596,     3.9,  20.3458,  35.3283,2,  35.3316,2,    226.5,2,   226.1,2,    0.78,2,    0.22,2,    0.00,2,    0.03,2,   2.057,2,   1.230,2,    1.80,2,  2040.4,6,  2316.6,2,   8.0789,2,       20,-999.000,9,-999.0000,9, -999.00,9,  20.3453,2, -999.00,9,  -999.0,9, -999.00,9,    71.2,2,    3.09,2,       6.75,2,     -999.0,9, -999.00,9, 20140424,     1613, -33.6669,-150.0000,    35.4982,2,     -999.0,9,     -999.0,9,     -999.0,9,     -999.0,9,     -999.0,9,     -999.0,9
320620140320,       P16S,      62,          1,         35,         35,2,20140424,       1353,   -33.6669,  -150.0000,       5596,    20.0,  20.3734,  35.4122,2,  35.4126,2,    227.4,2,   226.7,2,    0.78,2,    0.16,2,    0.00,2,    0.03,2,-999.000,9,-999.000,9, -999.00,9,  2043.7,2,  2322.3,2,    8.079,2,       20,-999.000,9,-999.0000,9, -999.00,9,  20.3734,2, -999.00,9,  -999.0,9, -999.00,9,    64.7,2,    3.06,2,     -999.0,9,     -999.0,9, -999.00,9, 20140424,     1611, -33.6669,-150.0000,    35.5796,2,     -999.0,9,     -999.0,9,     -999.0,9,     -999.0,9,     -999.0,9,     -999.0,9
320620140320,       P16S,      62,          1,         34,         34,2,20140424,       1353,   -33.6669,  -150.0000,       5596,    39.5,  20.3445,  35.4133,2,  35.4136,2,    227.7,2,   226.9,2,    0.78,2,    0.16,2,    0.00,2,    0.04,2,-999.000,9,-999.000,9, -999.00,9,  2044.3,2,  2322.1,2,   8.0784,2,       20,-999.000,9,-999.0000,9, -999.00,9,  20.3453,2, -999.00,9,  -999.0,9, -999.00,9,    59.8,2,    2.61,2,     -999.0,9,     -999.0,9, -999.00,9, 20140424,     1610, -33.6669,-150.0000,    35.5806,2,     -999.0,9,     -999.0,9,     -999.0,9,     -999.0,9,     -999.0,9,     -999.0,9
320620140320,       P16S,      62,          1,         33,         33,2,20140424,       1353,   -33.6669,  -150.0000,       5596,    63.8,  19.6476,  35.4290,2,  35.4156,2,    236.0,2,   239.6,2,    0.78,2,    0.16,2,    0.00,2,    0.03,2,   2.205,2,   1.326,2,    1.64,2,  2046.9,2,  2322.6,2,   8.0746,2,       20,-999.000,9,-999.0000,9, -999.00,9,  19.7246,3, -999.00,9,  -999.0,9, -999.00,9,    57.8,2,    3.13,2,       7.85,2,     -999.0,9, -999.00,9, 20140424,     1608, -33.6669,-150.0000,    35.5826,2,     -999.0,9,     -999.0,9,     -999.0,9,     -999.0,9,     -999.0,9,     -999.0,9
320620140320,       P16S,      62,          1,         32,         32,2,20140424,       1353,   -33.6669,  -150.0000,       5596,    89.5,  17.9430,  35.3794,2,  35.3797,2,    245.2,2,   241.8,2,    0.78,2,    0.15,2,    0.00,2,    0.08,2,-999.000,9,-999.000,9, -999.00,9,  2049.3,2,    2320,2,   8.0658,2,       20,-999.000,9,-999.0000,9, -999.00,9,  17.9398,2, -999.00,9,  -999.0,9, -999.00,9,    57.8,2,    2.58,2,     -999.0,9,     -999.0,9, -999.00,9, 20140424,     1607, -33.6669,-150.0000,    35.5465,2,     -999.0,9,     -999.0,9,     -999.0,9,     -999.0,9,     -999.0,9,     -999.0,9
320620140320,       P16S,      62,          1,         31,         31,2,20140424,       1353,   -33.6669,  -150.0000,       5596,   134.6,  16.6025,  35.3039,2,  35.3054,2,    235.1,2,   236.9,2,    0.78,2,    0.18,2,    0.01,2,    0.12,2,-999.000,9,-999.000,9, -999.00,9,  2062.1,2,  2317.2,2,   8.0391,2,       20,-999.000,9,-999.0000,9, -999.00,9,  16.5954,2, -999.00,9,  -999.0,9, -999.00,9,    56.9,2,    3.65,2,     -999.0,9,     -999.0,9, -999.00,9, 20140424,     1605, -33.6669,-150.0000,    35.4719,2,     -999.0,9,     -999.0,9,     -999.0,9,     -999.0,9,     -999.0,9,     -999.0,9
320620140320,       P16S,      62,          1,         30,         30,2,20140424,       1353,   -33.6669,  -150.0000,       5596,   184.6,  15.7605,  35.2231,2,  35.2230,2,    227.2,2,   225.3,2,    0.88,2,    1.96,2,    0.05,2,    0.23,2,   2.499,2,   1.477,2,    1.74,2,  2073.8,2,  2311.8,2,   8.0073,2,       20,-999.000,9,-999.0000,9, -999.00,9,  15.7563,2, -999.00,9,  -999.0,9, -999.00,9,    55.5,2,    3.86,2,       9.09,2,     -999.0,9, -999.00,9, 20140424,     1603, -33.6669,-150.0000,    35.3891,2,     -999.0,9,     -999.0,9,     -999.0,9,     -999.0,9,     -999.0,9,     -999.0,9
320620140320,       P16S,      62,          1,         29,         29,2,20140424,       1353,   -33.6669,  -150.0000,       5596,   235.2,  14.9005,  35.1326,2,  35.1271,2,    213.2,2,   218.9,2,    1.17,2,    3.74,2,    0.02,2,    0.38,2,-999.000,9,-999.000,9, -999.00,9,  2084.9,2,  2307.2,2,   7.9769,2,       20,-999.000,9,-999.0000,9, -999.00,9,  14.9213,2, -999.00,9,  -999.0,9, -999.00,9,    51.9,2,    6.03,2,     -999.0,9,     -999.0,9, -999.00,9, 20140424,     1601, -33.6669,-150.0000,    35.2927,2,     -999.0,9,     -999.0,9,     -999.0,9,     -999.0,9,     -999.0,9,     -999.0,9
320620140320,       P16S,      62,          1,         28,         28,2,20140424,       1353,   -33.6669,  -150.0000,       5596,   284.1,  13.4911,  35.0000,2,  34.9934,2,    207.3,2,   205.9,2,    1.96,2,    8.22,2,    0.01,2,    0.65,2,-999.000,9,-999.000,9, -999.00,9,  2105.7,2,  2302.1,2,   7.9201,2,       20,-999.000,9,-999.0000,9, -999.00,9,  13.5612,3, -999.00,9,  -999.0,9, -999.00,9,    45.7,2,    9.05,2,     -999.0,9,     -999.0,9, -999.00,9, 20140424,     1559, -33.6668,-150.0000,    35.1584,2,     -999.0,9,     -999.0,9,     -999.0,9,     -999.0,9,     -999.0,9,     -999.0,9
320620140320,       P16S,      62,          1,         27,         27,2,20140424,       1353,   -33.6669,  -150.0000,       5596,   335.3,  11.9272,  34.8224,2,  34.8218,2,    210.8,2,   209.0,2,    2.54,2,   11.35,2,    0.01,2,    0.86,2,   3.016,2,   1.655,2,    1.36,2,  2117.8,2,  2293.1,2,   7.8805,2,       20,-999.000,9,-999.0000,9, -999.00,9,  11.9275,2, -999.00,9,  -999.0,9, -999.00,9,    44.5,2,    13.2,2,      15.42,2,     -999.0,9, -999.00,9, 20140424,     1557, -33.6669,-150.0000,    34.9860,2,     -999.0,9,     -999.0,9,     -999.0,9,     -999.0,9,     -999.0,9,     -999.0,9
320620140320,       P16S,      62,          1,         26,         26,2,20140424,       1353,   -33.6669,  -150.0000,       5596,   384.7,   9.9028,  34.5959,2,  34.5952,2,    219.7,2,   218.4,2,    3.62,2,   15.54,2,    0.00,2,    1.12,2,-999.000,9,-999.000,9, -999.00,9,  2128.1,2,  2284.8,2,   7.8379,2,       20,-999.000,9,-999.0000,9, -999.00,9,   9.9015,2, -999.00,9,  -999.0,9, -999.00,9,    43.8,2,   17.97,2,     -999.0,9,     -999.0,9, -999.00,9, 20140424,     1555, -33.6669,-150.0000,    34.7584,2,     -999.0,9,     -999.0,9,     -999.0,9,     -999.0,9,     -999.0,9,     -999.0,9
320620140320,       P16S,      62,          1,         25,         25,2,20140424,       1353,   -33.6669,  -150.0000,       5596,   465.7,   8.5231,  34.5008,2,  34.5004,2,    237.4,2,   237.0,2,    4.21,2,   17.58,2,    0.01,2,    1.24,2,-999.000,9,-999.000,9, -999.00,9,  2133.5,6,  2282.2,2,   7.8177,2,       20,-999.000,9,-999.0000,9, -999.00,9,   8.5228,2, -999.00,9,  -999.0,9, -999.00,9,    41.2,2,   18.97,2,     -999.0,9,     -999.0,9, -999.00,9, 20140424,     1552, -33.6669,-150.0000,    34.6631,2,     -999.0,9,     -999.0,9,     -999.0,9,     -999.0,9,     -999.0,9,     -999.0,9
320620140320,       P16S,      62,          1,         24,         24,2,20140424,       1353,   -33.6669,  -150.0000,       5596,   564.1,   7.5713,  34.4274,2,  34.4285,2,    244.2,2,   245.3,2,    5.67,2,   20.07,2,    0.00,2,    1.39,2,   3.827,2,   2.007,2,    1.41,2,  2139.3,2,    2281,2,   7.8025,6,       20,-999.000,9,-999.0000,9, -999.00,9,   7.5811,2, -999.00,9,  -999.0,9, -999.00,9,    40.5,2,   22.14,2,      16.37,2,     -999.0,9, -999.00,9, 20140424,     1550, -33.6669,-150.0000,    34.5908,2,     -999.0,9,     -999.0,9,     -999.0,9,     -999.0,9,     -999.0,9,     -999.0,9
320620140320,       P16S,      62,          1,         23,         23,2,20140424,       1353,   -33.6669,  -150.0000,       5596,   665.6,   7.0249,  34.3773,2,  34.3782,2,    243.4,2,   243.6,2,    7.14,2,   21.84,2,    0.00,2,    1.52,2,-999.000,9,-999.000,9, -999.00,9,  2141.9,2,  2280.6,6,   7.7919,2,       20,-999.000,9,-999.0000,9, -999.00,9,   7.0208,2, -999.00,9,  -999.0,9, -999.00,9,    42.2,2, -999.00,9,     -999.0,9,     -999.0,9, -999.00,9, 20140424,     1547, -33.6669,-150.0000,    34.5403,2,     -999.0,9,     -999.0,9,     -999.0,9,     -999.0,9,     -999.0,9,     -999.0,9
320620140320,       P16S,      62,          1,         22,         22,2,20140424,       1353,   -33.6669,  -150.0000,       5596,   764.7,   6.5380,  34.3412,2,  34.3394,2,    241.2,2,   241.2,2,    9.10,2,   23.46,2,    0.00,2,    1.62,2,   3.311,2,   1.626,2,    0.52,2,  2145.2,2,  2279.8,2,   7.7813,2,       20,-999.000,9,-999.0000,9, -999.00,9,   6.5338,2, -999.00,9,  -999.0,9, -999.00,9,    42.3,2, -999.00,9,      16.31,2,     -999.0,9, -999.00,9, 20140424,     1544, -33.6669,-150.0000,    34.5013,2,     -999.0,9,     -999.0,9,     -999.0,9,     -999.0,9,     -999.0,9,     -999.0,9
320620140320,       P16S,      62,          1,         21,         21,2,20140424,       1353,   -33.6669,  -150.0000,       5596,   865.0,   6.0209,  34.3140,2,  34.3139,2,    234.0,2,   233.9,2,   12.03,2,   25.22,2,    0.00,2,    1.73,2,-999.000,9,-999.000,9, -999.00,9,  2152.8,2,  2281.4,2,   7.7652,2,       20,-999.000,9,-999.0000,9, -999.00,9,   6.0219,2, -999.00,9,  -999.0,9, -999.00,9,    44.7,2, -999.00,9,     -999.0,9,     -999.0,9, -999.00,9, 20140424,     1541, -33.6669,-150.0000,    34.4757,2,     -999.0,9,     -999.0,9,     -999.0,9,     -999.0,9,     -999.0,9,     -999.0,9
320620140320,       P16S,      62,          1,         20,         20,2,20140424,       1353,   -33.6669,  -150.0000,       5596,   964.3,   5.4157,  34.3021,2,  34.3021,2,    222.6,2,   221.7,2,   17.51,2,   27.53,2,    0.00,2,    1.90,2,-999.000,9,-999.000,9, -999.00,9,  2166.7,2,  2284.6,2,   7.7387,2,       20,-999.000,9,-999.0000,9, -999.00,9,   5.4189,2, -999.00,9,  -999.0,9, -999.00,9,    44.4,2, -999.00,9,     -999.0,9,     -999.0,9, -999.00,9, 20140424,     1538, -33.6669,-150.0000,    34.4638,2,     -999.0,9,     -999.0,9,     -999.0,9,     -999.0,9,     -999.0,9,     -999.0,9
320620140320,       P16S,      62,          1,         19,         19,2,20140424,       1353,   -33.6669,  -150.0000,       5596,  1064.2,   4.8408,  34.3114,2,  34.3113,2,    210.7,2,   208.8,2,   25.24,2,   29.73,2,    0.00,2,    2.05,2,   1.355,2,   0.682,2,    0.12,2,  2181.9,2,  2291.2,2,   7.7091,2,       20,-999.000,9,-999.0000,9, -999.00,9,   4.8463,3, -999.00,9,  -999.0,9, -999.00,9,    40.1,2, -999.00,9,      20.68,2,     -999.0,9, -999.00,9, 20140424,     1535, -33.6669,-150.0000,    34.4731,2,     -999.0,9,     -999.0,9,     -999.0,9,     -999.0,9,     -999.0,9,     -999.0,9
320620140320,       P16S,      62,          1,         18,         18,2,20140424,       1353,   -33.6669,  -150.0000,       5596,  1164.7,   4.3126,  34.3305,2,  34.3315,2,    200.1,2,   199.1,2,   33.46,2,   31.33,2,    0.00,2,    2.18,2,   1.003,2,   0.479,2,    0.07,2,  2197.7,2,  2299.1,2,   7.6841,2,       20,-999.000,9,-999.0000,9, -999.00,9,   4.3116,2, -999.00,9,  -999.0,9, -999.00,9,    42.6,2, -999.00,9,      21.35,2,     -999.0,9, -999.00,9, 20140424,     1532, -33.6669,-150.0000,    34.4934,2,     -999.0,9,     -999.0,9,     -999.0,9,     -999.0,9,     -999.0,9,     -999.0,9
320620140320,       P16S,      62,          1,         17,         17,2,20140424,       1353,   -33.6669,  -150.0000,       5596,  1265.3,   3.7868,  34.3615,2,  34.3615,2,    190.1,2,   190.6,2,   42.65,2,   32.68,2,    0.00,2,    2.27,2,-999.000,9,-999.000,9, -999.00,9,  2212.6,2,  2307.7,2,   7.6634,2,       20,-999.000,9,-999.0000,9, -999.00,9,   3.7884,2, -999.00,9,  -999.0,9, -999.00,9,    39.2,2, -999.00,9,     -999.0,9,     -999.0,9, -999.00,9, 20140424,     1529, -33.6669,-149.9999,    34.5235,2,     -999.0,9,     -999.0,9,     -999.0,9,     -999.0,9,     -999.0,9,     -999.0,9
320620140320,       P16S,      62,          1,         16,         16,2,20140424,       1353,   -33.6669,  -150.0000,       5596,  1365.0,   3.3253,  34.4132,2,  34.4121,2,    181.1,2,   180.7,2,   53.90,2,   33.81,2,    0.00,2,    2.38,2,   0.360,2,   0.179,2,    0.02,2,  2228.5,2,  2318.4,2,   7.6458,2,       20,-999.000,9,-999.0000,9, -999.00,9,   3.3278,2, -999.00,9,  -999.0,9, -999.00,9,    40.1,2, -999.00,9,      24.21,2,     -999.0,9, -999.00,9, 20140424,     1526, -33.6669,-150.0000,    34.5744,2,     -999.0,9,     -999.0,9,     -999.0,9,     -999.0,9,     -999.0,9,     -999.0,9
320620140320,       P16S,      62,          1,         15,         15,2,20140424,       1353,   -33.6669,  -150.0000,       5596,  1534.0,   2.8859,  34.4967,2,  34.4400,3,    169.3,2,   168.6,2,   70.53,2,   34.65,2,    0.00,2,    2.43,2,   0.096,2,   0.034,2,    0.04,2,  2250.1,2,  2336.4,2,   7.6343,2,       20,-999.000,9,-999.0000,9, -999.00,9,   2.8885,2,    0.65,6,  -153.0,6, -999.00,9,    38.7,2, -999.00,9,      24.65,2,     -999.0,9, -999.00,9, 20140424,     1522, -33.6669,-150.0000,    34.6024,3,     -999.0,9,     -999.0,9,     -999.0,9,     -999.0,9,     -999.0,9,     -999.0,9
320620140320,       P16S,      62,          1,         14,         14,2,20140424,       1353,   -33.6669,  -150.0000,       5596,  1735.5,   2.5475,  34.5748,2,  34.5749,2,    160.2,2,   159.4,2,   89.60,2,   35.04,2,    0.00,2,    2.46,2,-999.000,9,-999.000,9, -999.00,9,  2272.1,2,  2360.4,2,   7.6327,2,       20,-999.000,9,-999.0000,9, -999.00,9,   2.5466,2, -999.00,9,  -999.0,9, -999.00,9,    37.5,2, -999.00,9,     -999.0,9,     -999.0,9, -999.00,9, 20140424,     1517, -33.6669,-150.0000,    34.7379,2,     -999.0,9,     -999.0,9,     -999.0,9,     -999.0,9,     -999.0,9,     -999.0,9
320620140320,       P16S,      62,          1,         13,         13,2,20140424,       1353,   -33.6669,  -150.0000,       5596,  1934.4,   2.3397,  34.6103,2,  34.6108,2,    154.9,2,   155.1,2,  101.73,2,   35.24,2,    0.00,2,    2.48,2,   0.006,2,   0.001,2,    0.01,2,  2285.6,2,  2374.4,2,   7.6338,2,       20,-999.000,9,-999.0000,9, -999.00,9,   2.3390,2, -999.00,9,  -999.0,9, -999.00,9,    34.8,2, -999.00,9,      24.31,2,     -999.0,9, -999.00,9, 20140424,     1512, -33.6669,-150.0000,    34.7740,2,     -999.0,9,     -999.0,9,     -999.0,9,     -999.0,9,     -999.0,9,     -999.0,9
320620140320,       P16S,      62,          1,         12,         12,2,20140424,       1353,   -33.6669,  -150.0000,       5596,  2163.9,   2.1472,  34.6373,2,  34.6373,2,    152.2,2,   151.9,2,  112.09,2,   35.43,2,    0.00,2,    2.50,2,-999.000,9,-999.000,9, -999.00,9,  2297.3,2,  2386.6,2,   7.6344,2,       20,-999.000,9,-999.0000,9, -999.00,9,   2.1470,2, -999.00,9,  -999.0,9, -999.00,9,    35.7,2, -999.00,9,     -999.0,9,     -999.0,9, -999.00,9, 20140424,     1507, -33.6669,-150.0000,    34.8006,2,     -999.0,9,     -999.0,9,     -999.0,9,     -999.0,9,     -999.0,9,     -999.0,9
320620140320,       P16S,      62,          1,         11,         11,2,20140424,       1353,   -33.6669,  -150.0000,       5596,  2413.0,   2.0016,  34.6511,2,  34.6512,2,    151.3,2,   151.1,2,  118.74,2,   35.63,2,    0.00,2,    2.48,2,   0.002,2,   0.000,2,    0.01,2,  2304.2,2,  2393.4,2,   7.6349,2,       20,-999.000,9,-999.0000,9, -999.00,9,   2.0017,2, -999.00,9,  -999.0,9, -999.00,9,    36.7,2, -999.00,9,      24.49,2,     -999.0,9, -999.00,9, 20140424,     1501, -33.6669,-150.0000,    34.8146,2,     -999.0,9,     -999.0,9,     -999.0,9,     -999.0,9,     -999.0,9,     -999.0,9
320620140320,       P16S,      62,          1,         10,         10,4,20140424,       1353,   -33.6669,  -150.0000,       5596,  2664.3,   1.8442,  34.6629,2,  34.6720,4,    152.2,2,   157.5,4,  116.39,4,   34.08,4,    0.00,4,    2.40,4,-999.000,9,-999.000,9, -999.00,9,  2293.8,4,  2391.1,4,   7.6582,4,       20,-999.000,9,-999.0000,9, -999.00,9,   1.8453,2, -999.00,9,  -999.0,9, -999.00,9,    37.5,2, -999.00,9,     -999.0,9,     -999.0,9, -999.00,9, 20140424,     1456, -33.6669,-150.0000,    34.8355,4,     -999.0,9,     -999.0,9,     -999.0,9,     -999.0,9,     -999.0,9,     -999.0,9
320620140320,       P16S,      62,          1,          9,         09,2,20140424,       1353,   -33.6669,  -150.0000,       5596,  2915.6,   1.7667,  34.6696,2,  34.6703,2,    154.7,2,   154.2,2,  127.25,2,   35.55,2,    0.00,2,    2.48,2,   0.002,2,   0.000,2,    0.00,2,  2309.7,2,  2401.6,2,   7.6401,6,       20,-999.000,9,-999.0000,9, -999.00,9,   1.7665,2, -999.00,9,  -999.0,9, -999.00,9,    38.4,2, -999.00,9,      24.45,2,     -999.0,9, -999.00,9, 20140424,     1451, -33.6669,-150.0000,    34.8337,2,     -999.0,9,     -999.0,9,     -999.0,9,     -999.0,9,     -999.0,9,     -999.0,9
320620140320,       P16S,      62,          1,          8,         08,2,20140424,       1353,   -33.6669,  -150.0000,       5596,  3199.7,   1.6746,  34.6791,2,  34.6787,2,    159.6,2,   160.1,2,  127.15,2,   35.17,2,    0.00,2,    2.45,2,-999.000,9,-999.000,9, -999.00,9,  2305.6,2,    2399,6,   7.6449,2,       20,-999.000,9,-999.0000,9, -999.00,9,   1.6749,2, -999.00,9,  -999.0,9, -999.00,9,    40.4,2, -999.00,9,     -999.0,9,     -999.0,9, -999.00,9, 20140424,     1444, -33.6669,-150.0000,    34.8422,2,     -999.0,9,     -999.0,9,     -999.0,9,     -999.0,9,     -999.0,9,     -999.0,9
320620140320,       P16S,      62,          1,          7,         07,2,20140424,       1353,   -33.6669,  -150.0000,       5596,  3500.6,   1.5796,  34.6903,2,  34.6907,2,    168.8,2,   170.0,2,  123.92,2,   34.45,2,    0.00,2,    2.42,2,   0.004,2,   0.000,2,    0.00,2,  2295.2,2,  2391.1,2,   7.6535,2,       20,-999.000,9,-999.0000,9, -999.00,9,   1.5797,2, -999.00,9,  -999.0,9, -999.00,9,      39,2, -999.00,9,      23.25,2,     -999.0,9, -999.00,9, 20140424,     1438, -33.6669,-149.9999,    34.8542,2,     -999.0,9,     -999.0,9,     -999.0,9,     -999.0,9,     -999.0,9,     -999.0,9
320620140320,       P16S,      62,          1,          6,         06,2,20140424,       1353,   -33.6669,  -150.0000,       5596,  3865.5,   1.4588,  34.7048,2,  34.7045,2,    184.2,2,   185.0,2,  117.37,2,   33.18,2,    0.00,2,    2.32,2,-999.000,9,-999.000,9, -999.00,9,  2277.3,2,  2377.3,2,   7.6654,2,       20,-999.000,9,-999.0000,9, -999.00,9,   1.4586,2, -999.00,9,  -999.0,9, -999.00,9,    39.6,2, -999.00,9,     -999.0,9,     -999.0,9, -999.00,9, 20140424,     1430, -33.6669,-150.0000,    34.8682,2,     -999.0,9,     -999.0,9,     -999.0,9,     -999.0,9,     -999.0,9,     -999.0,9