BOTTLE,20230715CCHSIOCBG
EXPOCODE,SECT_ID,STNNBR,CASTNO,SAMPNO,BTLNBR,BTLNBR_FLAG_W,DATE,TIME,LATITUDE,LONGITUDE,DEPTH,CTDPRS,CTDTMP,CTDSAL,CTDSAL_FLAG_W,SALNTY,SALNTY_FLAG_W,CTDOXY,CTDOXY_FLAG_W,OXYGEN,OXYGEN_FLAG_W,SILCAT,SILCAT_FLAG_W,NITRAT,NITRAT_FLAG_W,NITRIT,NITRIT_FLAG_W,PHSPHT,PHSPHT_FLAG_W,CFC-11,CFC-11_FLAG_W,CFC-12,CFC-12_FLAG_W,SF6,SF6_FLAG_W,TCARBN,TCARBN_FLAG_W,ALKALI,ALKALI_FLAG_W,PH_TOT,PH_TOT_FLAG_W,PH_TMP,TRITUM,TRITUM_FLAG_W,HELIUM,HELIUM_FLAG_W,DELHE3,DELHE3_FLAG_W,REFTMP,REFTMP_FLAG_W,DELC13,DELC13_FLAG_W,DELC14,DELC14_FLAG_W,DELO18,DELO18_FLAG_W,DOC,DOC_FLAG_W,TDN,TDN_FLAG_W,N2O,N2O_FLAG_W,CALCIUM,CALCIUM_FLAG_W,D15N_NO3,D15N_NO3_FLAG_W,BTL_DATE,BTL_TIME,BTL_LAT,BTL_LON,SALTREF,SALTREF_FLAG_W,D18O_NO3,D18O_NO3_FLAG_W,DSI30,DSI30_FLAG_W,CDOM_NASA,CDOM_NASA_FLAG_W,CDOM_UCSB,CDOM_UCSB_FLAG_W,D15N_NO2+NO3,D15N_NO2+NO3_FLAG_W,D18O_NO2+NO3,D18O_NO2+NO3_FLAG_W
,,,,,,,,,,,METERS,DBAR,ITS-90,PSS-78,,PSS-78,,UMOL/KG,,UMOL/KG,,UMOL/KG,,UMOL/KG,,UMOL/KG,,UMOL/KG,,PMOL/KG,,PMOL/KG,,FMOL/KG,,UMOL/KG,,UMOL/KG,,,,DEG C,TU,,NMOL/KG,,PERCNT,,DEG C,,/MILLE,,/MILLE,,/MILLE,,UMOL/KG,,UMOL/KG,,NMOL/KG,,MMOL/KG,,/MILLE,,,,,,G/KG,,/MILLE,,/MILLE,,,,,,/MILLE,,/MILLE,
320620140320,       P16S,      15,          1,         36,         36,2,20140406,       0909,   -57.9996,  -149.9994,       2875,     5.2,   1.7614,  33.7864,2,  33.7864,2,    331.1,2,   332.7,2,   28.82,2,   23.92,2,    0.25,2,    1.65,2,   5.595,2,   2.918,2,    2.98,2,  2160.4,2,  2286.6,2,   7.7673,2,       20,-999.000,9,-999.0000,9, -999.00,9,   1.7619,2, -999.00,9,  -999.0,9, -999.00,9,    41.7,2,   28.73,2,      14.55,2,     -999.0,9,    6.90,2, 20140406,     1035, -58.0000,-149.9995,    33.9457,2,       3.49,2,     -999.0,9,     -999.0,9,     -999.0,9,       6.16,2,       3.66,2
320620140320,       P16S,      15,          1,         35,         35,2,20140406,       0909,   -57.9996,  -149.9994,       2875,    24.7,   1.7610,  33.7860,2,  33.7866,2,    332.2,2,   332.3,2,   28.82,2,   24.13,2,    0.25,2,    1.66,2,   5.670,2,   2.942,2,    2.95,2,  2160.5,2,  2285.8,2,   7.7663,2,       20,-999.000,9,-999.0000,9, -999.00,9,   1.7611,2, -999.00,9,  -999.0,9, -999.00,9,    41.1,2,    29.5,2,      14.80,2,     -999.0,9,    6.97,2, 20140406,     1034, -58.0001,-149.9994,    33.9459,2,       3.66,2,     -999.0,9,     -999.0,9,     -999.0,9,       6.20,2,       3.77,2
320620140320,       P16S,      15,          1,         34,         34,2,20140406,       0909,   -57.9996,  -149.9994,       2875,    48.2,   1.7621,  33.7862,2,  33.7864,2,    332.9,2,   332.4,2,   29.60,2,   24.19,2,    0.25,2,    1.66,2,   5.569,2,   2.975,2,    3.33,2,  2161.5,2,  2286.6,2,   7.7663,6,       20,-999.000,9,-999.0000,9, -999.00,9,   1.7627,2,    1.31,2,  -114.0,2, -999.00,9,    39.4,2,    30.0,2,      14.43,2,     -999.0,9,    6.96,2, 20140406,     1033, -58.0001,-149.9994,    33.9457,2,       3.67,2,     -999.0,1,     -999.0,9,     -999.0,9,       6.21,2,       3.76,2
320620140320,       P16S,      15,          1,         33,         33,2,20140406,       0909,   -57.9996,  -149.9994,       2875,    75.8,   1.2896,  33.8304,2,  33.8187,2,    332.4,2,   328.6,2,   31.65,2,   25.01,2,    0.25,2,    1.74,2,   5.511,2,   2.904,2,    2.77,2,  2165.3,2,  2287.4,2,   7.7544,2,       20,-999.000,9,-999.0000,9, -999.00,9,   1.3061,2, -999.00,9,  -999.0,9, -999.00,9,    42.8,2,   30.08,2,      15.08,2,     -999.0,9,    6.69,2, 20140406,     1031, -58.0000,-149.9995,    33.9781,2,       3.46,2,     -999.0,9,     -999.0,9,     -999.0,9,       6.06,2,       3.64,2
320620140320,       P16S,      15,          1,         32,         32,2,20140406,       0909,   -57.9996,  -149.9994,       2875,   101.7,   0.7467,  34.2338,2,  34.2344,2,    240.4,2,   241.3,2,   59.09,2,   33.37,2,    0.11,2,    2.34,2,   3.391,2,   1.776,2,    1.63,2,  2226.2,2,  2306.2,2,    7.624,2,       20,-999.000,9,-999.0000,9, -999.00,9,   0.7183,3, -999.00,9,  -999.0,9, -999.00,9,    43.7,2,   37.23,2,      21.93,2,     -999.0,9,    4.99,2, 20140406,     1030, -57.9999,-149.9995,    34.3958,2,       2.33,2,     -999.0,1,     -999.0,9,     -999.0,9,       4.93,2,       2.31,2
320620140320,       P16S,      15,          1,         31,         31,2,20140406,       0909,   -57.9996,  -149.9994,       2875,   123.9,   1.4130,  34.3613,2,  34.3594,2,    217.3,2,   208.2,2,   63.97,2,   34.44,2,    0.03,2,    2.37,2,   2.467,2,   1.254,2,    0.96,2,    2240,2,  2315.1,2,   7.6053,2,       20,-999.000,9,-999.0000,9, -999.00,9,   1.4159,2,    0.38,2,  -128.1,2, -999.00,9,      42,2,   38.92,2,      24.11,2,     -999.0,9,    4.95,2, 20140406,     1028, -57.9999,-149.9995,    34.5214,2,       2.29,2,     -999.0,9,     -999.0,9,     -999.0,9,       4.90,2,       2.08,2
320620140320,       P16S,      15,          1,         30,         30,2,20140406,       0909,   -57.9996,  -149.9994,       2875,   150.1,   1.5606,  34.4296,2,  34.4279,2,    190.3,2,   196.2,2,   68.65,2,   34.63,2,    0.01,2,    2.40,2,   2.071,2,   1.130,2,    2.96,3,  2246.2,2,  2320.4,2,   7.6004,2,       20,-999.000,9,-999.0000,9, -999.00,9,   1.5614,2, -999.00,9,  -999.0,9, -999.00,9,    39.7,2,    40.2,2,      24.57,2,     -999.0,9,    4.93,2, 20140406,     1027, -57.9998,-149.9996,    34.5902,2,       2.04,2,     -999.0,1,     -999.0,9,     -999.0,9,       4.85,2,       2.08,2
320620140320,       P16S,      15,          1,         29,         29,2,20140406,       0909,   -57.9996,  -149.9994,       2875,   173.3,   1.5893,  34.4564,2,  34.4546,2,    191.4,2,   192.7,2,   70.21,2,   34.63,2,    0.01,2,    2.38,2,   1.743,2,   0.901,2,    0.68,2,  -999.0,9,  -999.0,9,-999.0000,9,  -999.00,-999.000,9,-999.0000,9, -999.00,9,   1.5822,2, -999.00,9,  -999.0,9, -999.00,9,      43,2,    38.9,2,      24.86,2,     -999.0,9,    4.89,2, 20140406,     1025, -57.9997,-149.9996,    34.6170,2,       1.95,2,     -999.0,9,     -999.0,9,     -999.0,9,       4.85,2,       1.96,2
320620140320,       P16S,      15,          1,         28,         28,2,20140406,       0909,   -57.9996,  -149.9994,       2875,   200.6,   1.5806,  34.4989,2,  34.4981,2,    185.8,2,   190.6,2,   72.75,2,   34.32,2,    0.01,2,    2.38,2,   1.528,2,   0.780,2,    0.53,2,  2250.5,2,  2325.5,2,   7.6037,2,       20,-999.000,9,-999.0000,9, -999.00,9,   1.5808,2,    0.46,2,  -136.5,2, -999.00,9,    43.7,2,   38.71,2,      24.23,2,     -999.0,9,    4.89,2, 20140406,     1024, -57.9997,-149.9996,    34.6608,2,       1.93,2,     -999.0,1,     -999.0,9,     -999.0,9,       4.84,2,       1.99,2
320620140320,       P16S,      15,          1,         27,         27,2,20140406,       0909,   -57.9996,  -149.9994,       2875,   225.2,   1.7272,  34.5403,2,  34.5351,2,    185.3,2,   185.8,2,   74.80,2,   34.25,2,    0.01,2,    2.34,2,   1.390,2,   0.685,2,    0.61,2,  -999.0,9,  -999.0,9,-999.0000,9,  -999.00,-999.000,9,-999.0000,9, -999.00,9,   1.7266,2, -999.00,9,  -999.0,9, -999.00,9,    42.1,2,   35.19,2,      24.16,2,     -999.0,9,    4.85,2, 20140406,     1022, -57.9997,-149.9996,    34.6979,2,       1.94,2,     -999.0,9,     -999.0,9,     -999.0,9,       4.84,2,       1.90,2
320620140320,       P16S,      15,          1,         26,         26,2,20140406,       0909,   -57.9996,  -149.9994,       2875,   249.2,   2.0075,  34.5948,2,  34.5926,2,    180.3,2,   175.9,2,   77.24,2,   34.03,2,    0.00,2,    2.32,2,-999.000,9,-999.000,9, -999.00,9,  2256.4,2,  2333.5,2,   7.6068,2,       20,-999.000,9,-999.0000,9, -999.00,9,   2.0116,2, -999.00,9,  -999.0,9, -999.00,9,    45.4,2,   36.28,2,     -999.0,9,     -999.0,9,    4.85,2, 20140406,     1021, -57.9997,-149.9995,    34.7557,2,       1.91,2,     -999.0,9,     -999.0,9,     -999.0,9,       4.85,2,       1.91,2
320620140320,       P16S,      15,          1,         25,         25,2,20140406,       0909,   -57.9996,  -149.9994,       2875,   301.5,   2.0647,  34.6318,2,  34.6321,2,    174.9,2,   174.2,2,   79.38,2,   33.61,2,    0.00,2,    2.27,2,   0.655,2,   0.315,2,    0.25,2,  2256.7,2,  2336.6,2,   7.6141,2,       20,-999.000,9,-999.0000,9, -999.00,9,   2.0662,2,    0.42,2,  -140.3,2, -999.00,9,    40.4,2,   34.67,2,      23.51,2,     -999.0,9,    4.83,2, 20140406,     1019, -57.9998,-149.9995,    34.7954,2,       1.92,2,     -999.0,1,     -999.0,9,     -999.0,9,       4.83,2,       1.92,2
320620140320,       P16S,      15,          1,         24,         24,2,20140406,       0909,   -57.9996,  -149.9994,       2875,   349.4,   2.1144,  34.6623,2,  34.6616,2,    175.2,2,   175.0,2,   80.26,2,   33.02,2,    0.00,2,    2.24,2,   0.270,2,   0.240,2,    0.26,2,  2257.1,2,  2339.4,2,   7.6237,2,       20,-999.000,9,-999.0000,9, -999.00,9,   2.1161,2, -999.00,9,  -999.0,9, -999.00,9,    40.7,2,   34.99,2,      22.96,2,     -999.0,9,    4.83,2, 20140406,     1017, -57.9998,-149.9996,    34.8250,2,       1.85,2,     -999.0,9,     -999.0,9,     -999.0,9,       4.83,2,       1.85,2
320620140320,       P16S,      15,          1,         23,         23,2,20140406,       0909,   -57.9996,  -149.9994,       2875,   401.2,   2.0065,  34.6736,2,  34.6737,2,    177.4,2,   177.6,2,   81.92,2,   32.73,2,    0.00,2,    2.22,2,   0.508,2,   0.234,2,    0.22,2,  2255.7,2,  2340.1,2,   7.6287,2,       20,-999.000,9,-999.0000,9, -999.00,9,   2.0067,2,    0.43,2,  -142.9,2, -999.00,9,    42.9,2,   34.38,2,      22.76,2,     -999.0,9,    4.80,2, 20140406,     1015, -57.9999,-149.9995,    34.8373,2,       1.90,2,     -999.0,1,     -999.0,9,     -999.0,9,       4.80,2,       1.90,2
320620140320,       P16S,      15,          1,         22,         22,2,20140406,       0909,   -57.9996,  -149.9994,       2875,   448.9,   2.0225,  34.6912,2,  34.6922,2,    178.0,2,   178.3,2,   82.89,2,   32.43,2,    0.00,2,    2.20,2,   0.358,2,   0.197,2,    0.08,2,  2255.4,2,  2342.1,2,   7.6347,2,       20,-999.000,9,-999.0000,9, -999.00,9,   2.0228,2, -999.00,9,  -999.0,9, -999.00,9,    41.3,2,   34.91,2,      22.68,2,     -999.0,9,    4.78,2, 20140406,     1013, -58.0000,-149.9995,    34.8558,2,       1.66,2,     -999.0,9,     -999.0,9,     -999.0,9,       4.78,2,       1.66,2
320620140320,       P16S,      15,          1,         21,         21,2,20140406,       0909,   -57.9996,  -149.9994,       2875,   503.0,   2.0037,  34.7067,2,  34.7068,2,    179.8,2,   180.6,2,   83.67,2,   32.11,2,    0.00,2,    2.17,2,   0.306,2,   0.149,2,    0.13,2,  2254.4,2,  2344.6,2,   7.6435,2,       20,-999.000,9,-999.0000,9, -999.00,9,   2.0057,2,    0.42,2,  -139.8,2, -999.00,9,    40.4,2,    34.3,2,      21.90,2,     -999.0,9,    4.86,2, 20140406,     1011, -58.0001,-149.9995,    34.8704,2,       1.81,2,     -999.0,1,     -999.0,9,     -999.0,9,       4.86,2,       1.81,2
320620140320,       P16S,      15,          1,         20,         20,2,20140406,       0909,   -57.9996,  -149.9994,       2875,   603.2,   1.9301,  34.7211,2,  34.7207,2,    184.8,2,   184.3,2,   85.63,2,   31.66,2,    0.00,2,    2.13,2,-999.000,9,-999.000,9, -999.00,9,  2253.7,2,  2346.5,2,   7.6515,6,       20,-999.000,9,-999.0000,9, -999.00,9,   1.9310,2, -999.00,9,  -999.0,9, -999.00,9,    43.6,2, -999.00,9,     -999.0,9,     -999.0,9,    4.85,2, 20140406,     1008, -58.0001,-149.9995,    34.8844,2,       1.94,2,     -999.0,9,     -999.0,9,     -999.0,9,       4.85,2,       1.94,2
320620140320,       P16S,      15,          1,         19,         19,2,20140406,       0909,   -57.9996,  -149.9994,       2875,   700.1,   1.8559,  34.7286,2,  34.7284,2,    187.7,2,   186.8,2,   87.58,2,   31.37,2,    0.00,2,    2.13,2,   0.239,2,   0.114,2,    0.19,2,  2253.2,2,  2347.6,6,    7.658,2,       20,-999.000,9,-999.0000,9, -999.00,9,   1.8552,2,    0.48,2,  -152.8,2, -999.00,9,    39.7,2, -999.00,9,      21.26,2,     -999.0,9,    4.82,2, 20140406,     1006, -58.0000,-149.9995,    34.8921,2,       1.84,2,     -999.0,9,     -999.0,9,     -999.0,9,       4.82,2,       1.84,2
320620140320,       P16S,      15,          1,         18,         18,2,20140406,       0909,   -57.9996,  -149.9994,       2875,   799.3,   1.7561,  34.7337,2,  34.7335,2,    190.6,2,   189.9,2,   90.51,2,   31.17,2,    0.00,2,    2.11,2,   0.188,2,   0.111,2,    0.04,2,  -999.0,9,  -999.0,9,-999.0000,9,  -999.00,-999.000,9,-999.0000,9, -999.00,9,   1.7559,2, -999.00,9,  -999.0,9, -999.00,9,    37.5,2, -999.00,9,      20.90,2,     -999.0,9,    4.82,2, 20140406,     1003, -57.9999,-149.9995,    34.8973,2,       1.84,2,     -999.0,9,     -999.0,9,     -999.0,9,       4.82,2,       1.84,2
320620140320,       P16S,      15,          1,         17,         17,2,20140406,       0909,   -57.9996,  -149.9994,       2875,   899.5,   1.5919,  34.7258,2,  34.7262,2,    192.2,2,   190.6,2,   92.75,2,   31.45,2,    0.00,2,    2.14,2,   0.293,6,   0.156,6,    0.10,6,  2255.5,6,  2349.4,2,   7.6564,2,       20,-999.000,9,-999.0000,9, -999.00,9,   1.5908,2, -999.00,9,  -999.0,9, -999.00,9,    38.7,2, -999.00,9,      21.00,6,     -999.0,9,    4.75,2, 20140406,     1000, -57.9997,-149.9996,    34.8900,2,       1.85,2,     -999.0,9,     -999.0,9,     -999.0,9,       4.75,2,       1.85,2
320620140320,       P16S,      15,          1,         16,         16,2,20140406,       0909,   -57.9996,  -149.9994,       2875,   999.3,   1.5024,  34.7298,2,  34.7292,2,    188.6,2,   190.8,2,   96.56,2,   31.58,2,    0.00,2,    2.15,2,-999.000,9,-999.000,9, -999.00,9,  2257.6,2,  2351.5,2,    7.657,2,       20,-999.000,9,-999.0000,9, -999.00,9,   1.5032,2,    0.44,2,  -159.8,2, -999.00,9,    37.6,2, -999.00,9,     -999.0,9,     -999.0,9,    4.78,2, 20140406,      957, -57.9997,-149.9996,    34.8929,2,       1.82,2,     -999.0,9,     -999.0,9,     -999.0,9,       4.78,2,       1.82,2
320620140320,       P16S,      15,          1,         15,         15,2,20140406,       0909,   -57.9996,  -149.9994,       2875,  1100.5,   1.4448,  34.7329,2,  34.7325,2,    193.9,2,   193.7,2,   98.81,2,   31.40,2,    0.00,2,    2.14,2,   0.190,2,   0.100,2,    0.12,2,  2256.7,2,  2354.3,2,   7.6647,2,       20,-999.000,9,-999.0000,9, -999.00,9,   1.4451,2, -999.00,9,  -999.0,9, -999.00,9,    37.4,2, -999.00,9,      20.30,2,     -999.0,9,    4.78,2, 20140406,      955, -57.9997,-149.9995,    34.8963,2,       1.89,2,     -999.0,9,     -999.0,9,     -999.0,9,       4.78,2,       1.89,2
320620140320,       P16S,      15,          1,         14,         14,2,20140406,       0909,   -57.9996,  -149.9994,       2875,  1200.8,   1.3273,  34.7286,2,  34.7260,2,    193.2,2,   193.8,2,  101.05,2,   31.57,2,    0.00,2,    2.15,2,   0.211,2,   0.105,2,    0.05,2,  -999.0,9,  -999.0,9,-999.0000,9,  -999.00,-999.000,9,-999.0000,9, -999.00,9,   1.3267,2, -999.00,9,  -999.0,9, -999.00,9,    37.8,2, -999.00,9,      20.28,2,     -999.0,9,    4.76,2, 20140406,      952, -57.9999,-149.9995,    34.8898,2,       1.93,2,     -999.0,9,     -999.0,9,     -999.0,9,       4.76,2,       1.93,2
320620140320,       P16S,      15,          1,         13,         13,2,20140406,       0909,   -57.9996,  -149.9994,       2875,  1299.0,   1.2643,  34.7292,2,  34.7298,2,    196.7,2,   198.1,2,  104.57,2,   31.34,2,    0.00,2,    2.14,2,   0.149,2,   0.073,2,    0.00,2,  2257.6,2,  2357.8,2,   7.6705,2,       20,-999.000,9,-999.0000,9, -999.00,9,   1.2640,2,    0.50,2,  -154.4,2, -999.00,9,    37.9,2, -999.00,9,      20.13,2,     -999.0,9,    4.80,2, 20140406,      949, -58.0001,-149.9995,    34.8935,2,       1.96,2,     -999.0,9,     -999.0,9,     -999.0,9,       4.80,2,       1.96,2
320620140320,       P16S,      15,          1,         12,         12,2,20140406,       0909,   -57.9996,  -149.9994,       2875,  1400.7,   1.2043,  34.7268,2,  34.7268,2,    198.8,2,   199.2,2,  106.81,2,   31.43,2,    0.00,2,    2.15,2,   0.165,2,   0.073,2,    0.06,2,  -999.0,9,  -999.0,9,-999.0000,9,  -999.00,-999.000,9,-999.0000,9, -999.00,9,   1.2040,2, -999.00,9,  -999.0,9, -999.00,9,    38.9,2, -999.00,9,      19.76,2,     -999.0,9, -999.00,9, 20140406,      947, -58.0001,-149.9995,    34.8906,2,     -999.0,9,     -999.0,9,     -999.0,9,     -999.0,9,     -999.0,9,     -999.0,9
320620140320,       P16S,      15,          1,         11,         11,2,20140406,       0909,   -57.9996,  -149.9994,       2875,  1500.8,   1.1309,  34.7237,2,  34.7239,2,    199.7,2,   199.6,2,  108.57,2,   31.57,2,    0.00,2,    2.16,2,-999.000,9,-999.000,9, -999.00,9,  2259.7,2,  2359.2,2,   7.6686,2,       20,-999.000,9,-999.0000,9, -999.00,9,   1.1309,2,    0.49,2,  -159.2,2, -999.00,9,    37.4,2, -999.00,9,     -999.0,9,     -999.0,9, -999.00,9, 20140406,      944, -57.9998,-149.9994,    34.8876,2,     -999.0,9,     -999.0,9,     -999.0,9,     -999.0,9,     -999.0,9,     -999.0,9
320620140320,       P16S,      15,          1,         10,         10,2,20140406,       0909,   -57.9996,  -149.9994,       2875,  1600.4,   1.0660,  34.7214,2,  34.7197,2,    200.8,2,   200.4,2,  108.96,2,   31.55,2,    0.00,2,    2.17,2,-999.000,9,-999.000,9, -999.00,9,  -999.0,9,  -999.0,9,-999.0000,9,  -999.00,-999.000,9,-999.0000,9, -999.00,9,   1.0654,2, -999.00,9,  -999.0,9, -999.00,9,    37.6,2, -999.00,9,     -999.0,9,     -999.0,9, -999.00,9, 20140406,      941, -57.9998,-149.9993,    34.8835,2,     -999.0,9,     -999.0,9,     -999.0,9,     -999.0,9,     -999.0,9,     -999.0,9
320620140320,       P16S,      15,          1,          9,         09,2,20140406,       0909,   -57.9996,  -149.9994,       2875,  1701.8,   0.9923,  34.7183,2,  34.7184,2,    202.0,2,   202.3,2,  113.45,2,   31.69,2,    0.00,2,    2.17,2,   0.149,2,   0.074,2,    0.00,2,  2262.2,2,  2360.9,2,   7.6704,2,       20,-999.000,9,-999.0000,9, -999.00,9,   0.9918,2,    0.49,2,  -161.7,2, -999.00,9,    36.9,2, -999.00,9,      19.04,2,     -999.0,9, -999.00,9, 20140406,      938, -57.9997,-149.9994,    34.8821,2,     -999.0,9,     -999.0,9,     -999.0,9,     -999.0,9,     -999.0,9,     -999.0,9
320620140320,       P16S,      15,          1,          8,         08,2,20140406,       0909,   -57.9996,  -149.9994,       2875,  1799.0,   0.9367,  34.7161,2,  34.7168,2,    203.1,2,   203.4,2,  115.50,2,   31.84,2,    0.00,2,    2.17,2,   0.163,2,   0.075,2,    0.00,2,  -999.0,9,  -999.0,9,-999.0000,9,  -999.00,-999.000,9,-999.0000,9, -999.00,9,   0.9365,2, -999.00,9,  -999.0,9, -999.00,9,    38.8,2, -999.00,9,      19.56,2,     -999.0,9, -999.00,9, 20140406,      935, -57.9997,-149.9994,    34.8805,2,     -999.0,9,     -999.0,9,     -999.0,9,     -999.0,9,     -999.0,9,     -999.0,9
320620140320,       P16S,      15,          1,          7,         07,2,20140406,       0909,   -57.9996,  -149.9994,       2875,  1897.8,   0.8790,  34.7137,2,  34.7131,2,    203.7,2,   204.1,2,  117.16,2,   31.95,2,    0.00,2,    2.18,2,   0.125,2,   0.084,2,    0.11,2,  2262.6,2,  2361.5,2,   7.6676,2,       20,-999.000,9,-999.0000,9, -999.00,9,   0.8788,2,    0.48,2,  -166.0,2, -999.00,9,    37.3,2, -999.00,9,      20.01,2,     -999.0,9, -999.00,9, 20140406,      933, -57.9999,-149.9992,    34.8767,2,     -999.0,9,     -999.0,9,     -999.0,9,     -999.0,9,     -999.0,9,     -999.0,9
320620140320,       P16S,      15,          1,          6,         06,2,20140406,       0909,   -57.9996,  -149.9994,       2875,  1998.5,   0.8299,  34.7115,2,  34.7117,2,    204.6,2,   204.8,2,  120.68,2,   32.00,2,    0.00,2,    2.19,2,-999.000,9,-999.000,9, -999.00,9,  -999.0,9,  -999.0,9,-999.0000,9,  -999.00,-999.000,9,-999.0000,9, -999.00,9,   0.8298,2, -999.00,9,  -999.0,9, -999.00,9,      38,2, -999.00,9,     -999.0,9,     -999.0,9, -999.00,9, 20140406,      930, -57.9999,-149.9992,    34.8754,2,     -999.0,9,     -999.0,9,     -999.0,9,     -999.0,9,     -999.0,9,     -999.0,9