BOTTLE,20230715CCHSIOCBG
EXPOCODE,SECT_ID,STNNBR,CASTNO,SAMPNO,BTLNBR,BTLNBR_FLAG_W,DATE,TIME,LATITUDE,LONGITUDE,DEPTH,CTDPRS,CTDTMP,CTDSAL,CTDSAL_FLAG_W,SALNTY,SALNTY_FLAG_W,CTDOXY,CTDOXY_FLAG_W,OXYGEN,OXYGEN_FLAG_W,SILCAT,SILCAT_FLAG_W,NITRAT,NITRAT_FLAG_W,NITRIT,NITRIT_FLAG_W,PHSPHT,PHSPHT_FLAG_W,CFC-11,CFC-11_FLAG_W,CFC-12,CFC-12_FLAG_W,SF6,SF6_FLAG_W,TCARBN,TCARBN_FLAG_W,ALKALI,ALKALI_FLAG_W,PH_TOT,PH_TOT_FLAG_W,PH_TMP,TRITUM,TRITUM_FLAG_W,HELIUM,HELIUM_FLAG_W,DELHE3,DELHE3_FLAG_W,REFTMP,REFTMP_FLAG_W,DELC13,DELC13_FLAG_W,DELC14,DELC14_FLAG_W,DELO18,DELO18_FLAG_W,DOC,DOC_FLAG_W,TDN,TDN_FLAG_W,N2O,N2O_FLAG_W,CALCIUM,CALCIUM_FLAG_W,D15N_NO3,D15N_NO3_FLAG_W,BTL_DATE,BTL_TIME,BTL_LAT,BTL_LON,SALTREF,SALTREF_FLAG_W,D18O_NO3,D18O_NO3_FLAG_W,DSI30,DSI30_FLAG_W,CDOM_NASA,CDOM_NASA_FLAG_W,CDOM_UCSB,CDOM_UCSB_FLAG_W,D15N_NO2+NO3,D15N_NO2+NO3_FLAG_W,D18O_NO2+NO3,D18O_NO2+NO3_FLAG_W
,,,,,,,,,,,METERS,DBAR,ITS-90,PSS-78,,PSS-78,,UMOL/KG,,UMOL/KG,,UMOL/KG,,UMOL/KG,,UMOL/KG,,UMOL/KG,,PMOL/KG,,PMOL/KG,,FMOL/KG,,UMOL/KG,,UMOL/KG,,,,DEG C,TU,,NMOL/KG,,PERCNT,,DEG C,,/MILLE,,/MILLE,,/MILLE,,UMOL/KG,,UMOL/KG,,NMOL/KG,,MMOL/KG,,/MILLE,,,,,,G/KG,,/MILLE,,/MILLE,,,,,,/MILLE,,/MILLE,
320620140320,       P16S,      65,          1,          5,         05,2,20140425,       1703,   -31.6669,  -150.0000,       5034,  4098.6,   1.3248,  34.7013,2,  34.7003,2,    188.7,2,   188.4,2,  119.94,2,   33.20,2,    0.00,2,    2.31,2,   0.005,2,   0.001,2,    0.00,2,  2278.2,2,    2379,6,   7.6692,2,       20,-999.000,9,-999.0000,9, -999.00,9,   1.3247,2, -999.00,9,  -999.0,9, -999.00,9,  -999.0,9, -999.00,9,      20.59,2,     -999.0,9, -999.00,9, 20140425,     1727, -31.6669,-150.0000,    34.8639,2,     -999.0,9,     -999.0,9,     -999.0,9,     -999.0,1,     -999.0,9,     -999.0,9
320620140320,       P16S,      65,          1,          4,         04,2,20140425,       1703,   -31.6669,  -150.0000,       5034,  4400.0,   1.2998,  34.7035,2,  34.7020,2,    192.0,2,   191.7,2,  119.35,2,   32.97,2,    0.00,2,    2.27,2,-999.000,9,-999.000,9, -999.00,9,  2276.6,2,  2375.6,2,   7.6712,2,       20,-999.000,9,-999.0000,9, -999.00,9,   1.2999,2, -999.00,9,  -999.0,9, -999.00,9,  -999.0,9, -999.00,9,     -999.0,9,     -999.0,9, -999.00,9, 20140425,     1721, -31.6669,-150.0000,    34.8657,2,     -999.0,9,     -999.0,9,     -999.0,9,     -999.0,9,     -999.0,9,     -999.0,9
320620140320,       P16S,      65,          1,          3,         03,2,20140425,       1703,   -31.6669,  -150.0000,       5034,  4698.9,   1.2721,  34.7057,2,  34.7040,2,    195.3,2,   196.4,2,  118.77,2,   32.83,2,    0.00,2,    2.25,2,   0.009,2,   0.002,2,    0.00,2,  2272.7,2,  2372.5,2,   7.6728,2,       20,-999.000,9,-999.0000,9, -999.00,9,   1.2724,2, -999.00,9,  -999.0,9, -999.00,9,  -999.0,9, -999.00,9,      20.69,2,     -999.0,9, -999.00,9, 20140425,     1715, -31.6669,-150.0000,    34.8677,2,     -999.0,9,     -999.0,9,     -999.0,9,     -999.0,1,     -999.0,9,     -999.0,9
320620140320,       P16S,      65,          1,          2,         02,2,20140425,       1703,   -31.6669,  -150.0000,       5034,  4899.5,   1.2678,  34.7067,2,  34.7054,2,    196.6,2,   196.8,2,  118.96,2,   32.70,2,    0.00,2,    2.25,2,   0.010,2,   0.003,2,    0.01,2,  2270.3,2,  2371.5,2,   7.6733,2,       20,-999.000,9,-999.0000,9, -999.00,9,   1.2682,2, -999.00,9,  -999.0,9, -999.00,9,  -999.0,9, -999.00,9,      19.99,2,     -999.0,9, -999.00,9, 20140425,     1710, -31.6669,-150.0000,    34.8690,2,     -999.0,9,     -999.0,9,     -999.0,9,     -999.0,9,     -999.0,9,     -999.0,9
320620140320,       P16S,      65,          1,          1,         01,2,20140425,       1703,   -31.6669,  -150.0000,       5034,  5108.6,   1.1991,  34.7094,2,  34.7077,2,    201.4,2,   201.3,2,  118.18,2,   32.36,2,    0.00,2,    2.22,2,   0.017,2,   0.006,2,    0.00,2,  2267.7,6,  2368.5,2,   7.6764,2,       20,-999.000,9,-999.0000,9, -999.00,9,   1.1991,2, -999.00,9,  -999.0,9, -999.00,9,  -999.0,9, -999.00,9,      19.90,2,     -999.0,9, -999.00,9, 20140425,     1703, -31.6669,-150.0000,    34.8714,2,     -999.0,9,     -999.0,9,     -999.0,9,     -999.0,1,     -999.0,9,     -999.0,9