BOTTLE,20230715CCHSIOCBG
EXPOCODE,SECT_ID,STNNBR,CASTNO,SAMPNO,BTLNBR,BTLNBR_FLAG_W,DATE,TIME,LATITUDE,LONGITUDE,DEPTH,CTDPRS,CTDTMP,CTDSAL,CTDSAL_FLAG_W,SALNTY,SALNTY_FLAG_W,CTDOXY,CTDOXY_FLAG_W,OXYGEN,OXYGEN_FLAG_W,SILCAT,SILCAT_FLAG_W,NITRAT,NITRAT_FLAG_W,NITRIT,NITRIT_FLAG_W,PHSPHT,PHSPHT_FLAG_W,CFC-11,CFC-11_FLAG_W,CFC-12,CFC-12_FLAG_W,SF6,SF6_FLAG_W,TCARBN,TCARBN_FLAG_W,ALKALI,ALKALI_FLAG_W,PH_TOT,PH_TOT_FLAG_W,PH_TMP,TRITUM,TRITUM_FLAG_W,HELIUM,HELIUM_FLAG_W,DELHE3,DELHE3_FLAG_W,REFTMP,REFTMP_FLAG_W,DELC13,DELC13_FLAG_W,DELC14,DELC14_FLAG_W,DELO18,DELO18_FLAG_W,DOC,DOC_FLAG_W,TDN,TDN_FLAG_W,N2O,N2O_FLAG_W,CALCIUM,CALCIUM_FLAG_W,D15N_NO3,D15N_NO3_FLAG_W,BTL_DATE,BTL_TIME,BTL_LAT,BTL_LON,SALTREF,SALTREF_FLAG_W,D18O_NO3,D18O_NO3_FLAG_W,DSI30,DSI30_FLAG_W,CDOM_NASA,CDOM_NASA_FLAG_W,CDOM_UCSB,CDOM_UCSB_FLAG_W,D15N_NO2+NO3,D15N_NO2+NO3_FLAG_W,D18O_NO2+NO3,D18O_NO2+NO3_FLAG_W
,,,,,,,,,,,METERS,DBAR,ITS-90,PSS-78,,PSS-78,,UMOL/KG,,UMOL/KG,,UMOL/KG,,UMOL/KG,,UMOL/KG,,UMOL/KG,,PMOL/KG,,PMOL/KG,,FMOL/KG,,UMOL/KG,,UMOL/KG,,,,DEG C,TU,,NMOL/KG,,PERCNT,,DEG C,,/MILLE,,/MILLE,,/MILLE,,UMOL/KG,,UMOL/KG,,NMOL/KG,,MMOL/KG,,/MILLE,,,,,,G/KG,,/MILLE,,/MILLE,,,,,,/MILLE,,/MILLE,
320620140320,       P16S,       8,          1,         36,         36,2,20140401,       2030,   -65.4951,  -149.9823,       3927,     2.9,  -0.4314,  33.7780,2,  33.7781,2,    341.5,2,   342.5,2,   40.06,2,   23.16,2,    0.18,2,    1.72,2,-999.000,9,-999.000,9, -999.00,9,  2166.6,6,  2288.2,2,   7.7509,2,       20,-999.000,9,-999.0000,9, -999.00,9,  -0.4343,2, -999.00,9,  -999.0,9, -999.00,9,  -999.0,9, -999.00,9,     -999.0,9,     -999.0,9, -999.00,9, 20140401,     2207, -65.4980,-149.9879,    33.9374,2,     -999.0,9,     -999.0,9,     -999.0,9,     -999.0,9,     -999.0,9,     -999.0,9
320620140320,       P16S,       8,          1,         35,         35,2,20140401,       2030,   -65.4951,  -149.9823,       3927,    24.5,  -0.4255,  33.7791,2,  33.7799,2,    342.1,2,   342.1,2,   40.35,2,   23.41,2,    0.18,2,    1.74,2,-999.000,9,-999.000,9, -999.00,9,  2166.8,2,    2284,2,    7.751,6,       20,-999.000,9,-999.0000,9, -999.00,9,  -0.4273,2, -999.00,9,  -999.0,9, -999.00,9,  -999.0,9, -999.00,9,     -999.0,9,     -999.0,9, -999.00,9, 20140401,     2205, -65.4980,-149.9880,    33.9392,2,     -999.0,9,     -999.0,9,     -999.0,9,     -999.0,9,     -999.0,9,     -999.0,9
320620140320,       P16S,       8,          1,         34,         34,2,20140401,       2030,   -65.4951,  -149.9823,       3927,    50.7,  -0.4297,  33.7828,2,  33.7842,2,    342.3,2,   341.9,2,   40.75,2,   23.50,2,    0.18,2,    1.75,2,-999.000,9,-999.000,9, -999.00,9,  2168.4,2,    2287,6,   7.7499,2,       20,-999.000,9,-999.0000,9, -999.00,9,  -0.4303,2, -999.00,9,  -999.0,9, -999.00,9,  -999.0,9, -999.00,9,     -999.0,9,     -999.0,9, -999.00,9, 20140401,     2203, -65.4980,-149.9879,    33.9435,2,     -999.0,9,     -999.0,9,     -999.0,9,     -999.0,9,     -999.0,9,     -999.0,9
320620140320,       P16S,       8,          1,         33,         33,2,20140401,       2030,   -65.4951,  -149.9823,       3927,    73.0,  -0.7552,  33.8827,2,  33.8819,2,    334.0,2,   332.4,2,   42.60,2,   24.27,2,    0.17,2,    1.81,2,-999.000,9,-999.000,9, -999.00,9,  2176.7,2,  2293.6,2,   7.7447,2,       20,-999.000,9,-999.0000,9, -999.00,9,  -0.7887,3, -999.00,9,  -999.0,9, -999.00,9,  -999.0,9, -999.00,9,     -999.0,9,     -999.0,9, -999.00,9, 20140401,     2202, -65.4980,-149.9880,    34.0417,2,     -999.0,9,     -999.0,9,     -999.0,9,     -999.0,9,     -999.0,9,     -999.0,9
320620140320,       P16S,       8,          1,         32,         32,2,20140401,       2030,   -65.4951,  -149.9823,       3927,   100.6,  -1.2800,  34.1922,2,  34.1926,2,    296.0,2,   295.9,2,   61.83,2,   28.48,2,    0.10,2,    2.08,2,-999.000,9,-999.000,9, -999.00,9,  2210.3,2,    2310,2,   7.6891,2,       20,-999.000,9,-999.0000,9, -999.00,9,  -1.2706,2, -999.00,9,  -999.0,9, -999.00,9,  -999.0,9, -999.00,9,     -999.0,9,     -999.0,9, -999.00,9, 20140401,     2200, -65.4980,-149.9879,    34.3539,2,     -999.0,9,     -999.0,9,     -999.0,9,     -999.0,9,     -999.0,9,     -999.0,9
320620140320,       P16S,       8,          1,         31,         31,2,20140401,       2030,   -65.4951,  -149.9823,       3927,   126.3,  -0.5331,  34.3409,2,  34.3433,2,    260.0,2,   259.6,2,   70.62,2,   30.32,2,    0.11,2,    2.16,2,-999.000,9,-999.000,9, -999.00,9,  2227.5,2,  2320.3,2,   7.6624,2,       20,-999.000,9,-999.0000,9, -999.00,9,  -0.5199,2, -999.00,9,  -999.0,9, -999.00,9,  -999.0,9, -999.00,9,     -999.0,9,     -999.0,9, -999.00,9, 20140401,     2159, -65.4980,-149.9880,    34.5052,2,     -999.0,9,     -999.0,9,     -999.0,9,     -999.0,9,     -999.0,9,     -999.0,9
320620140320,       P16S,       8,          1,         30,         30,2,20140401,       2030,   -65.4951,  -149.9823,       3927,   150.0,   0.4341,  34.5102,2,  34.5109,2,    227.8,2,   218.8,2,   81.84,2,   31.72,2,    0.02,2,    2.25,2,-999.000,9,-999.000,9, -999.00,9,  2244.7,2,  2330.6,2,   7.6442,2,       20,-999.000,9,-999.0000,9, -999.00,9,   0.4398,2, -999.00,9,  -999.0,9, -999.00,9,  -999.0,9, -999.00,9,     -999.0,9,     -999.0,9, -999.00,9, 20140401,     2157, -65.4980,-149.9880,    34.6736,2,     -999.0,9,     -999.0,9,     -999.0,9,     -999.0,9,     -999.0,9,     -999.0,9
320620140320,       P16S,       8,          1,         29,         29,2,20140401,       2030,   -65.4951,  -149.9823,       3927,   200.4,   1.4254,  34.6771,2,  34.6596,2,    185.8,2,   186.5,2,   90.23,2,   32.31,2,    0.02,2,    2.28,2,-999.000,9,-999.000,9, -999.00,9,  2257.4,2,  2342.3,2,   7.6346,2,       20,-999.000,9,-999.0000,9, -999.00,9,   1.4244,2, -999.00,9,  -999.0,9, -999.00,9,  -999.0,9, -999.00,9,     -999.0,9,     -999.0,9, -999.00,9, 20140401,     2155, -65.4980,-149.9880,    34.8230,2,     -999.0,9,     -999.0,9,     -999.0,9,     -999.0,9,     -999.0,9,     -999.0,9
320620140320,       P16S,       8,          1,         28,         28,2,20140401,       2030,   -65.4951,  -149.9823,       3927,   250.7,   1.5574,  34.7144,2,  34.7129,2,    181.7,2,   180.5,2,   94.81,2,   32.18,2,    0.02,2,    2.27,2,-999.000,9,-999.000,9, -999.00,9,  2261.2,2,  2346.2,2,    7.639,2,       20,-999.000,9,-999.0000,9, -999.00,9,   1.5577,2, -999.00,9,  -999.0,9, -999.00,9,  -999.0,9, -999.00,9,     -999.0,9,     -999.0,9, -999.00,9, 20140401,     2153, -65.4980,-149.9880,    34.8765,2,     -999.0,9,     -999.0,9,     -999.0,9,     -999.0,9,     -999.0,9,     -999.0,9
320620140320,       P16S,       8,          1,         27,         27,2,20140401,       2030,   -65.4951,  -149.9823,       3927,   299.8,   1.5219,  34.7239,2,  34.7231,2,    182.0,2,   181.4,2,   97.64,2,   32.10,2,    0.02,2,    2.27,2,-999.000,9,-999.000,9, -999.00,9,  2262.3,2,  2349.4,2,   7.6419,2,       20,-999.000,9,-999.0000,9, -999.00,9,   1.5217,2, -999.00,9,  -999.0,9, -999.00,9,  -999.0,9, -999.00,9,     -999.0,9,     -999.0,9, -999.00,9, 20140401,     2151, -65.4980,-149.9880,    34.8868,2,     -999.0,9,     -999.0,9,     -999.0,9,     -999.0,9,     -999.0,9,     -999.0,9
320620140320,       P16S,       8,          1,         26,         26,2,20140401,       2030,   -65.4951,  -149.9823,       3927,   350.7,   1.4563,  34.7277,2,  34.7266,2,    183.4,2,   183.4,2,  101.45,2,   32.08,2,    0.01,2,    2.26,2,-999.000,9,-999.000,9, -999.00,9,  2261.7,2,  2352.3,2,   7.6443,2,       20,-999.000,9,-999.0000,9, -999.00,9,   1.4563,2, -999.00,9,  -999.0,9, -999.00,9,  -999.0,9, -999.00,9,     -999.0,9,     -999.0,9, -999.00,9, 20140401,     2150, -65.4980,-149.9879,    34.8904,2,     -999.0,9,     -999.0,9,     -999.0,9,     -999.0,9,     -999.0,9,     -999.0,9
320620140320,       P16S,       8,          1,         25,         25,2,20140401,       2030,   -65.4951,  -149.9823,       3927,   399.6,   1.4037,  34.7287,2,  34.7280,2,    183.3,2,   184.5,2,  102.04,2,   32.08,2,    0.00,2,    2.26,2,-999.000,9,-999.000,9, -999.00,9,  2262.8,2,  2351.8,2,   7.6464,2,       20,-999.000,9,-999.0000,9, -999.00,9,   1.4036,2, -999.00,9,  -999.0,9, -999.00,9,  -999.0,9, -999.00,9,     -999.0,9,     -999.0,9, -999.00,9, 20140401,     2148, -65.4980,-149.9879,    34.8917,2,     -999.0,9,     -999.0,9,     -999.0,9,     -999.0,9,     -999.0,9,     -999.0,9
320620140320,       P16S,       8,          1,         24,         24,2,20140401,       2030,   -65.4951,  -149.9823,       3927,   449.7,   1.3653,  34.7286,2,  34.7274,2,    183.8,2,   183.2,2,  103.79,2,   32.23,2,    0.00,2,    2.28,2,-999.000,9,-999.000,9, -999.00,9,  2263.4,2,  2352.2,2,   7.6442,6,       20,-999.000,9,-999.0000,9, -999.00,9,   1.3650,2, -999.00,9,  -999.0,9, -999.00,9,  -999.0,9, -999.00,9,     -999.0,9,     -999.0,9, -999.00,9, 20140401,     2146, -65.4980,-149.9879,    34.8912,2,     -999.0,9,     -999.0,9,     -999.0,9,     -999.0,9,     -999.0,9,     -999.0,9
320620140320,       P16S,       8,          1,         23,         23,2,20140401,       2030,   -65.4951,  -149.9823,       3927,   498.9,   1.3202,  34.7288,2,  34.7278,2,    184.6,2,   184.1,2,  105.65,2,   32.27,2,    0.00,2,    2.27,2,-999.000,9,-999.000,9, -999.00,9,  2262.8,2,  2353.6,2,    7.646,2,       20,-999.000,9,-999.0000,9, -999.00,9,   1.3201,2, -999.00,9,  -999.0,9, -999.00,9,  -999.0,9, -999.00,9,     -999.0,9,     -999.0,9, -999.00,9, 20140401,     2144, -65.4980,-149.9878,    34.8916,2,     -999.0,9,     -999.0,9,     -999.0,9,     -999.0,9,     -999.0,9,     -999.0,9
320620140320,       P16S,       8,          1,         22,         22,2,20140401,       2030,   -65.4951,  -149.9823,       3927,   600.6,   1.2399,  34.7273,2,  34.7264,2,    186.4,2,   186.4,2,  108.48,2,   32.20,2,    0.00,2,    2.27,2,-999.000,9,-999.000,9, -999.00,9,  2262.9,2,  2353.9,2,    7.648,2,       20,-999.000,9,-999.0000,9, -999.00,9,   1.2405,2, -999.00,9,  -999.0,9, -999.00,9,  -999.0,9, -999.00,9,     -999.0,9,     -999.0,9, -999.00,9, 20140401,     2142, -65.4980,-149.9879,    34.8902,2,     -999.0,9,     -999.0,9,     -999.0,9,     -999.0,9,     -999.0,9,     -999.0,9
320620140320,       P16S,       8,          1,         21,         21,2,20140401,       2030,   -65.4951,  -149.9823,       3927,   699.9,   1.1703,  34.7254,2,  34.7246,2,    189.1,2,   188.9,2,  110.34,2,   32.14,2,    0.00,2,    2.27,2,-999.000,9,-999.000,9, -999.00,9,  2263.2,2,  2354.5,2,   7.6552,2,       20,-999.000,9,-999.0000,9, -999.00,9,   1.1697,2, -999.00,9,  -999.0,9, -999.00,9,  -999.0,9, -999.00,9,     -999.0,9,     -999.0,9, -999.00,9, 20140401,     2139, -65.4980,-149.9879,    34.8884,2,     -999.0,9,     -999.0,9,     -999.0,9,     -999.0,9,     -999.0,9,     -999.0,9
320620140320,       P16S,       8,          1,         20,         20,2,20140401,       2030,   -65.4951,  -149.9823,       3927,   799.6,   1.1057,  34.7233,2,  34.7231,2,    191.8,2,   191.4,2,  112.48,2,   32.10,2,    0.00,2,    2.27,2,-999.000,9,-999.000,9, -999.00,9,  -999.0,9,  -999.0,9,-999.0000,9,  -999.00,-999.000,9,-999.0000,9, -999.00,9,   1.1059,2, -999.00,9,  -999.0,9, -999.00,9,  -999.0,9, -999.00,9,     -999.0,9,     -999.0,9, -999.00,9, 20140401,     2136, -65.4980,-149.9879,    34.8868,2,     -999.0,9,     -999.0,9,     -999.0,9,     -999.0,9,     -999.0,9,     -999.0,9
320620140320,       P16S,       8,          1,         19,         19,2,20140401,       2030,   -65.4951,  -149.9823,       3927,   900.5,   1.0505,  34.7210,2,  34.7209,2,    193.9,2,   193.9,2,  113.75,2,   32.04,2,    0.00,2,    2.26,2,-999.000,9,-999.000,9, -999.00,9,  2262.8,2,  2357.3,2,   7.6591,2,       20,-999.000,9,-999.0000,9, -999.00,9,   1.0504,2, -999.00,9,  -999.0,9, -999.00,9,  -999.0,9, -999.00,9,     -999.0,9,     -999.0,9, -999.00,9, 20140401,     2134, -65.4980,-149.9879,    34.8846,2,     -999.0,9,     -999.0,9,     -999.0,9,     -999.0,9,     -999.0,9,     -999.0,9
320620140320,       P16S,       8,          1,         18,         18,2,20140401,       2030,   -65.4951,  -149.9823,       3927,  1001.0,   0.9895,  34.7188,2,  34.7188,2,    195.6,2,   195.4,2,  115.61,2,   32.10,2,    0.00,2,    2.26,2,-999.000,9,-999.000,9, -999.00,9,  -999.0,9,  -999.0,9,-999.0000,9,  -999.00,-999.000,9,-999.0000,9, -999.00,9,   0.9897,2, -999.00,9,  -999.0,9, -999.00,9,  -999.0,9, -999.00,9,     -999.0,9,     -999.0,9, -999.00,9, 20140401,     2131, -65.4980,-149.9879,    34.8825,2,     -999.0,9,     -999.0,9,     -999.0,9,     -999.0,9,     -999.0,9,     -999.0,9
320620140320,       P16S,       8,          1,         17,         17,2,20140401,       2030,   -65.4951,  -149.9823,       3927,  1100.7,   0.9257,  34.7163,2,  34.7160,2,    197.6,2,   197.2,2,  117.66,2,   32.06,2,    0.00,2,    2.26,2,   0.145,2,   0.034,2,    0.04,2,  2262.6,2,  2358.1,2,   7.6644,2,       20,-999.000,9,-999.0000,9, -999.00,9,   0.9256,2, -999.00,9,  -999.0,9, -999.00,9,  -999.0,9, -999.00,9,      21.22,2,     -999.0,9, -999.00,9, 20140401,     2128, -65.4980,-149.9879,    34.8797,2,     -999.0,9,     -999.0,9,     -999.0,9,     -999.0,9,     -999.0,9,     -999.0,9
320620140320,       P16S,       8,          1,         16,         16,2,20140401,       2030,   -65.4951,  -149.9823,       3927,  1200.6,   0.8737,  34.7143,2,  34.7138,2,    198.7,2,   198.4,2,  119.42,2,   32.09,2,    0.00,2,    2.25,2,-999.000,9,-999.000,9, -999.00,9,  -999.0,9,  -999.0,9,-999.0000,9,  -999.00,-999.000,9,-999.0000,9, -999.00,9,   0.8736,2, -999.00,9,  -999.0,9, -999.00,9,  -999.0,9, -999.00,9,     -999.0,9,     -999.0,9, -999.00,9, 20140401,     2125, -65.4980,-149.9878,    34.8775,2,     -999.0,9,     -999.0,9,     -999.0,9,     -999.0,9,     -999.0,9,     -999.0,9
320620140320,       P16S,       8,          1,         15,         15,2,20140401,       2030,   -65.4951,  -149.9823,       3927,  1299.3,   0.8181,  34.7121,2,  34.7121,2,    200.1,2,   199.9,2,  120.98,2,   32.16,2,    0.00,2,    2.27,2,   0.147,2,   0.035,2,    0.11,2,  2262.3,2,  2358.9,2,   7.6647,2,       20,-999.000,9,-999.0000,9, -999.00,9,   0.8174,2, -999.00,9,  -999.0,9, -999.00,9,  -999.0,9, -999.00,9,      20.88,2,     -999.0,9, -999.00,9, 20140401,     2123, -65.4980,-149.9877,    34.8758,2,     -999.0,9,     -999.0,9,     -999.0,9,     -999.0,9,     -999.0,9,     -999.0,9
320620140320,       P16S,       8,          1,         14,         14,2,20140401,       2030,   -65.4951,  -149.9823,       3927,  1400.1,   0.7726,  34.7104,2,  34.7024,3,    200.9,2,   201.0,2,  123.03,2,   32.17,2,    0.00,2,    2.27,2,-999.000,9,-999.000,9, -999.00,9,  -999.0,9,  -999.0,9,-999.0000,9,  -999.00,-999.000,9,-999.0000,9, -999.00,9,   0.7726,2, -999.00,9,  -999.0,9, -999.00,9,  -999.0,9, -999.00,9,     -999.0,9,     -999.0,9, -999.00,9, 20140401,     2120, -65.4980,-149.9877,    34.8661,3,     -999.0,9,     -999.0,9,     -999.0,9,     -999.0,9,     -999.0,9,     -999.0,9
320620140320,       P16S,       8,          1,         13,         13,2,20140401,       2030,   -65.4951,  -149.9823,       3927,  1499.2,   0.7300,  34.7091,2,  34.7087,2,    202.5,2,   202.2,2,  124.30,2,   32.20,2,    0.00,2,    2.26,2,-999.000,9,-999.000,9, -999.00,9,  2262.4,2,  2359.8,2,   7.6658,2,       20,-999.000,9,-999.0000,9, -999.00,9,   0.7304,2, -999.00,9,  -999.0,9, -999.00,9,  -999.0,9, -999.00,9,     -999.0,9,     -999.0,9, -999.00,9, 20140401,     2118, -65.4978,-149.9873,    34.8724,2,     -999.0,9,     -999.0,9,     -999.0,9,     -999.0,9,     -999.0,9,     -999.0,9
320620140320,       P16S,       8,          1,         12,         12,2,20140401,       2030,   -65.4951,  -149.9823,       3927,  1600.4,   0.6973,  34.7073,2,  34.7075,2,    203.5,2,   204.0,2,  125.28,2,   32.23,2,    0.00,2,    2.26,2,-999.000,9,-999.000,9, -999.00,9,  -999.0,9,  -999.0,9,-999.0000,9,  -999.00,-999.000,9,-999.0000,9, -999.00,9,   0.6968,2, -999.00,9,  -999.0,9, -999.00,9,  -999.0,9, -999.00,9,     -999.0,9,     -999.0,9, -999.00,9, 20140401,     2115, -65.4977,-149.9869,    34.8712,2,     -999.0,9,     -999.0,9,     -999.0,9,     -999.0,9,     -999.0,9,     -999.0,9
320620140320,       P16S,       8,          1,         11,         11,2,20140401,       2030,   -65.4951,  -149.9823,       3927,  1700.8,   0.6634,  34.7064,2,  34.7060,2,    204.2,2,   203.3,2,  126.35,2,   32.25,2,    0.00,2,    2.27,2,-999.000,9,-999.000,9, -999.00,9,  2262.4,2,  2359.3,2,   7.6661,2,       20,-999.000,9,-999.0000,9, -999.00,9,   0.6632,2, -999.00,9,  -999.0,9, -999.00,9,  -999.0,9, -999.00,9,     -999.0,9,     -999.0,9, -999.00,9, 20140401,     2112, -65.4975,-149.9864,    34.8696,2,     -999.0,9,     -999.0,9,     -999.0,9,     -999.0,9,     -999.0,9,     -999.0,9
320620140320,       P16S,       8,          1,         10,         10,2,20140401,       2030,   -65.4951,  -149.9823,       3927,  1799.1,   0.6195,  34.7053,2,  34.7052,2,    205.1,2,   204.9,2,  126.84,2,   32.17,2,    0.00,2,    2.26,2,-999.000,9,-999.000,9, -999.00,9,  -999.0,9,  -999.0,9,-999.0000,9,  -999.00,-999.000,9,-999.0000,9, -999.00,9,   0.6196,2, -999.00,9,  -999.0,9, -999.00,9,  -999.0,9, -999.00,9,     -999.0,9,     -999.0,9, -999.00,9, 20140401,     2110, -65.4973,-149.9860,    34.8688,2,     -999.0,9,     -999.0,9,     -999.0,9,     -999.0,9,     -999.0,9,     -999.0,9
320620140320,       P16S,       8,          1,          9,         09,2,20140401,       2030,   -65.4951,  -149.9823,       3927,  1998.8,   0.5447,  34.7038,2,  34.7030,2,    207.0,2,   206.8,2,  127.72,2,   32.27,2,    0.00,2,    2.27,2,-999.000,9,-999.000,9, -999.00,9,  2262.4,2,  2359.6,2,   7.6662,2,       20,-999.000,9,-999.0000,9, -999.00,9,   0.5449,2, -999.00,9,  -999.0,9, -999.00,9,  -999.0,9, -999.00,9,     -999.0,9,     -999.0,9, -999.00,9, 20140401,     2105, -65.4968,-149.9850,    34.8667,2,     -999.0,9,     -999.0,9,     -999.0,9,     -999.0,9,     -999.0,9,     -999.0,9
320620140320,       P16S,       8,          1,          8,         08,2,20140401,       2030,   -65.4951,  -149.9823,       3927,  2199.5,   0.4711,  34.7027,2,  34.7022,2,    208.8,2,   208.4,2,  129.38,2,   32.35,2,    0.00,2,    2.27,2,   0.199,2,   0.054,2,    0.16,2,  -999.0,9,  -999.0,9,-999.0000,9,  -999.00,-999.000,9,-999.0000,9, -999.00,9,   0.4713,2, -999.00,9,  -999.0,9, -999.00,9,  -999.0,9, -999.00,9,      20.67,2,     -999.0,9, -999.00,9, 20140401,     2100, -65.4965,-149.9845,    34.8659,2,     -999.0,9,     -999.0,9,     -999.0,9,     -999.0,9,     -999.0,9,     -999.0,9
320620140320,       P16S,       8,          1,          7,         07,2,20140401,       2030,   -65.4951,  -149.9823,       3927,  2400.8,   0.4037,  34.7021,2,  34.7017,2,    210.3,2,   210.0,2,  130.84,2,   32.40,2,    0.00,2,    2.28,2,-999.000,9,-999.000,9, -999.00,9,  2261.9,2,  2359.4,2,   7.6665,2,       20,-999.000,9,-999.0000,9, -999.00,9,   0.4039,2, -999.00,9,  -999.0,9, -999.00,9,  -999.0,9, -999.00,9,     -999.0,9,     -999.0,9, -999.00,9, 20140401,     2056, -65.4961,-149.9841,    34.8653,2,     -999.0,9,     -999.0,9,     -999.0,9,     -999.0,9,     -999.0,9,     -999.0,9
320620140320,       P16S,       8,          1,          6,         06,2,20140401,       2030,   -65.4951,  -149.9823,       3927,  2599.8,   0.3549,  34.7012,2,  34.7009,2,    211.8,2,   211.8,2,  133.19,2,   32.36,2,    0.00,2,    2.27,2,-999.000,9,-999.000,9, -999.00,9,  -999.0,9,  -999.0,9,-999.0000,9,  -999.00,-999.000,9,-999.0000,9, -999.00,9,   0.3546,2, -999.00,9,  -999.0,9, -999.00,9,  -999.0,9, -999.00,9,     -999.0,9,     -999.0,9, -999.00,9, 20140401,     2052, -65.4960,-149.9839,    34.8645,2,     -999.0,9,     -999.0,9,     -999.0,9,     -999.0,9,     -999.0,9,     -999.0,9