BOTTLE,20230715CCHSIOCBG
EXPOCODE,SECT_ID,STNNBR,CASTNO,SAMPNO,BTLNBR,BTLNBR_FLAG_W,DATE,TIME,LATITUDE,LONGITUDE,DEPTH,CTDPRS,CTDTMP,CTDSAL,CTDSAL_FLAG_W,SALNTY,SALNTY_FLAG_W,CTDOXY,CTDOXY_FLAG_W,OXYGEN,OXYGEN_FLAG_W,SILCAT,SILCAT_FLAG_W,NITRAT,NITRAT_FLAG_W,NITRIT,NITRIT_FLAG_W,PHSPHT,PHSPHT_FLAG_W,CFC-11,CFC-11_FLAG_W,CFC-12,CFC-12_FLAG_W,SF6,SF6_FLAG_W,TCARBN,TCARBN_FLAG_W,ALKALI,ALKALI_FLAG_W,PH_TOT,PH_TOT_FLAG_W,PH_TMP,TRITUM,TRITUM_FLAG_W,HELIUM,HELIUM_FLAG_W,DELHE3,DELHE3_FLAG_W,REFTMP,REFTMP_FLAG_W,DELC13,DELC13_FLAG_W,DELC14,DELC14_FLAG_W,DELO18,DELO18_FLAG_W,DOC,DOC_FLAG_W,TDN,TDN_FLAG_W,N2O,N2O_FLAG_W,CALCIUM,CALCIUM_FLAG_W,D15N_NO3,D15N_NO3_FLAG_W,BTL_DATE,BTL_TIME,BTL_LAT,BTL_LON,SALTREF,SALTREF_FLAG_W,D18O_NO3,D18O_NO3_FLAG_W,DSI30,DSI30_FLAG_W,CDOM_NASA,CDOM_NASA_FLAG_W,CDOM_UCSB,CDOM_UCSB_FLAG_W,D15N_NO2+NO3,D15N_NO2+NO3_FLAG_W,D18O_NO2+NO3,D18O_NO2+NO3_FLAG_W
,,,,,,,,,,,METERS,DBAR,ITS-90,PSS-78,,PSS-78,,UMOL/KG,,UMOL/KG,,UMOL/KG,,UMOL/KG,,UMOL/KG,,UMOL/KG,,PMOL/KG,,PMOL/KG,,FMOL/KG,,UMOL/KG,,UMOL/KG,,,,DEG C,TU,,NMOL/KG,,PERCNT,,DEG C,,/MILLE,,/MILLE,,/MILLE,,UMOL/KG,,UMOL/KG,,NMOL/KG,,MMOL/KG,,/MILLE,,,,,,G/KG,,/MILLE,,/MILLE,,,,,,/MILLE,,/MILLE,
320620140320,       P16S,      23,          1,         36,         36,2,20140409,       0912,   -57.0003,  -149.9998,       3273,     4.0,   1.9272,  33.6212,2,  33.6218,2,    332.8,2,   335.1,2,   19.54,2,   23.31,2,    0.29,2,    1.56,2,   5.655,2,   2.931,2,    2.81,2,  2143.2,2,  2274.4,2,   7.7819,2,       20,-999.000,1,-999.0000,1, -999.00,9,   1.9270,2, -999.00,9,  -999.0,9, -999.00,1,    42.5,2,   29.05,2,      15.32,2,     -999.0,9,    7.27,2, 20140409,     1044, -57.0001,-149.9998,    33.7804,2,       3.72,2,     -999.0,9,     -999.0,9,     -999.0,9,       6.44,2,       4.08,2
320620140320,       P16S,      23,          1,         35,         35,2,20140409,       0912,   -57.0003,  -149.9998,       3273,    25.6,   1.9273,  33.6211,2,  33.6218,2,    335.1,2,   335.0,2,   19.54,2,   23.40,2,    0.29,2,    1.61,2,   5.271,2,   2.897,2,    2.87,2,  2143.7,2,    2275,2,   7.7825,2,       20,-999.000,1,-999.0000,1, -999.00,9,   1.9272,2, -999.00,9,  -999.0,9, -999.00,1,    40.6,2,    28.4,2,      14.95,2,     -999.0,9,    7.32,2, 20140409,     1042, -57.0001,-149.9998,    33.7804,2,       3.91,2,     -999.0,9,     -999.0,9,     -999.0,9,       6.50,2,       3.96,2
320620140320,       P16S,      23,          1,         34,         34,2,20140409,       0912,   -57.0003,  -149.9998,       3273,    51.9,   1.9221,  33.6220,2,  33.6230,2,    335.6,2,   334.7,2,   19.54,2,   23.42,2,    0.28,2,    1.62,2,   5.542,2,   2.916,2,    2.81,2,  2142.5,2,  2275.2,2,     7.78,2,       20,-999.000,1,-999.0000,1, -999.00,9,   1.9230,2, -999.00,9,  -999.0,9, -999.00,1,    41.3,2,   29.15,2,      14.74,2,     -999.0,9,    7.32,2, 20140409,     1041, -57.0000,-149.9998,    33.7816,2,       3.82,2,     -999.0,1,     -999.0,9,     -999.0,9,       6.44,2,       3.94,2
320620140320,       P16S,      23,          1,         33,         33,2,20140409,       0912,   -57.0003,  -149.9998,       3273,    75.8,   1.0819,  33.7221,2,  33.7208,2,    330.8,2,   334.4,2,   21.59,2,   24.66,2,    0.29,2,    1.76,2,   5.840,6,   3.028,6,    2.98,2,  2152.8,2,  2279.6,2,   7.7639,2,       20,-999.000,1,-999.0000,1, -999.00,9,   1.1103,3, -999.00,9,  -999.0,9, -999.00,1,    43.3,2,   30.77,2,      15.62,6,     -999.0,9,    6.96,2, 20140409,     1039, -57.0000,-149.9998,    33.8798,2,       3.67,2,     -999.0,9,     -999.0,9,     -999.0,9,       6.25,2,       3.93,2
320620140320,       P16S,      23,          1,         32,         32,2,20140409,       0912,   -57.0003,  -149.9998,       3273,   100.0,   0.3623,  33.9133,2,  33.9126,2,    316.9,2,   318.8,2,   31.16,2,   29.23,2,    0.27,2,    2.03,2,   5.946,2,   2.962,2,    2.68,2,  2173.6,2,  2283.8,2,   7.7121,2,       20,-999.000,1,-999.0000,1, -999.00,9,   0.3646,2, -999.00,9,  -999.0,9, -999.00,1,    40.6,2,   34.19,2,      16.69,2,     -999.0,9,    5.53,2, 20140409,     1037, -57.0000,-149.9998,    34.0725,2,       2.98,2,     -999.0,1,     -999.0,9,     -999.0,9,       5.38,2,       3.14,2
320620140320,       P16S,      23,          1,         31,         31,2,20140409,       0912,   -57.0003,  -149.9998,       3273,   124.2,   1.2623,  34.0798,2,  34.0791,2,    272.2,2,   272.4,2,   38.57,2,   31.82,2,    0.02,2,    2.17,2,   4.273,2,   2.267,2,    2.10,2,    2195,2,  2291.4,2,   7.6699,2,       20,-999.000,1,-999.0000,1, -999.00,9,   1.2657,2, -999.00,9,  -999.0,9, -999.00,1,    39.9,2,   36.34,2,      20.30,2,     -999.0,9,    5.28,2, 20140409,     1036, -56.9999,-149.9998,    34.2398,2,       2.60,2,     -999.0,9,     -999.0,9,     -999.0,9,       5.26,2,       2.55,2
320620140320,       P16S,      23,          1,         30,         30,2,20140409,       0912,   -57.0003,  -149.9998,       3273,   150.3,   1.5968,  34.1642,2,  34.1638,2,    252.5,2,   251.1,2,   42.97,2,   32.77,2,    0.01,2,    2.23,2,-999.000,9,-999.000,9, -999.00,9,  2206.3,2,  2297.5,2,   7.6531,2,       20,-999.000,9,-999.0000,9, -999.00,9,   1.5991,2, -999.00,9,  -999.0,9, -999.00,1,    39.6,2,    35.8,2,     -999.0,9,     -999.0,9,    5.26,2, 20140409,     1034, -56.9999,-149.9997,    34.3249,2,       2.53,2,     -999.0,1,     -999.0,9,     -999.0,9,       5.21,2,       2.43,2
320620140320,       P16S,      23,          1,         29,         29,2,20140409,       0912,   -57.0003,  -149.9998,       3273,   176.1,   1.8851,  34.2329,2,  34.2317,2,    229.8,2,   232.0,2,   47.75,2,   33.49,2,    0.01,2,    2.28,2,   3.406,2,   1.660,2,    1.28,2,  2215.5,2,    2303,2,   7.6368,2,       20,-999.000,1,-999.0000,1, -999.00,9,   1.8848,2, -999.00,9,  -999.0,9, -999.00,1,    40.4,2,   36.45,2,      22.88,2,     -999.0,9,    5.22,2, 20140409,     1033, -56.9999,-149.9998,    34.3931,2,       2.40,2,     -999.0,9,     -999.0,9,     -999.0,9,       5.19,2,       2.41,2
320620140320,       P16S,      23,          1,         28,         28,2,20140409,       0912,   -57.0003,  -149.9998,       3273,   198.3,   2.1261,  34.2941,2,  34.2929,2,    212.7,2,   213.0,2,   52.43,2,   34.24,2,    0.01,2,    2.33,2,   2.629,2,   1.332,2,    1.09,2,  2225.3,2,  2307.4,2,   7.6226,2,       20,-999.000,9,-999.0000,9, -999.00,9,   2.1255,2, -999.00,9,  -999.0,9, -999.00,1,    38.7,2,   38.66,3,      24.33,2,     -999.0,9,    5.16,2, 20140409,     1031, -56.9999,-149.9997,    34.4546,2,       2.25,2,     -999.0,1,     -999.0,9,     -999.0,9,       5.14,2,       2.42,2
320620140320,       P16S,      23,          1,         27,         27,2,20140409,       0912,   -57.0003,  -149.9998,       3273,   225.2,   2.1863,  34.3467,2,  34.3464,2,    206.1,2,   200.5,2,   57.31,2,   34.77,2,    0.01,2,    2.38,2,   2.335,2,   1.149,2,    0.81,2,  2232.9,2,  2313.1,2,   7.6116,2,       20,-999.000,1,-999.0000,1, -999.00,9,   2.1824,2, -999.00,9,  -999.0,9, -999.00,1,    37.7,2,   37.46,2,      24.72,2,     -999.0,9,    5.07,2, 20140409,     1029, -57.0000,-149.9998,    34.5084,2,       2.28,2,     -999.0,9,     -999.0,9,     -999.0,9,       5.09,2,       2.19,2
320620140320,       P16S,      23,          1,         26,         26,2,20140409,       0912,   -57.0003,  -149.9998,       3273,   249.0,   2.2260,  34.3818,2,  34.3817,2,    193.2,2,   194.0,2,   60.34,2,   34.97,2,    0.01,2,    2.38,2,   2.013,2,   0.992,2,    1.03,2,  2237.4,2,  2315.2,2,   7.6056,2,       20,-999.000,9,-999.0000,9, -999.00,9,   2.2256,2, -999.00,9,  -999.0,9, -999.00,1,    38.4,2,   37.32,2,      25.36,2,     -999.0,9,    5.09,2, 20140409,     1028, -57.0001,-149.9998,    34.5439,2,       2.24,2,     -999.0,9,     -999.0,9,     -999.0,9,       5.05,2,       2.16,2
320620140320,       P16S,      23,          1,         25,         25,2,20140409,       0912,   -57.0003,  -149.9998,       3273,   299.6,   2.3274,  34.4375,2,  34.4389,2,    182.6,2,   184.3,2,   64.24,2,   35.00,2,    0.00,2,    2.38,2,   1.547,2,   0.783,2,    0.79,2,  2243.5,2,  2321.5,6,   7.6029,2,       20,-999.000,1,-999.0000,1, -999.00,9,   2.3268,2, -999.00,9,  -999.0,9, -999.00,1,    38.9,2,    37.8,2,      25.49,2,     -999.0,9,    5.03,2, 20140409,     1026, -57.0001,-149.9998,    34.6012,2,       2.11,2,     -999.0,1,     -999.0,9,     -999.0,9,       5.03,2,       2.11,2
320620140320,       P16S,      23,          1,         24,         24,2,20140409,       0912,   -57.0003,  -149.9998,       3273,   351.1,   2.4109,  34.5100,2,  34.5080,2,    177.0,2,   175.3,2,   68.92,2,   34.79,2,    0.00,2,    2.38,2,   1.023,2,   0.484,2,    0.30,2,  2248.8,6,  2326.5,2,   7.6045,2,       20,-999.000,9,-999.0000,9, -999.00,9,   2.4108,2, -999.00,9,  -999.0,9, -999.00,1,    39.5,2,   38.74,2,      23.94,2,     -999.0,9, -999.00,9, 20140409,     1024, -57.0002,-149.9999,    34.6707,2,     -999.0,9,     -999.0,9,     -999.0,9,     -999.0,9,     -999.0,9,     -999.0,9
320620140320,       P16S,      23,          1,         23,         23,2,20140409,       0912,   -57.0003,  -149.9998,       3273,   398.4,   2.3910,  34.5340,2,  34.5386,2,    172.6,2,   173.4,2,   71.46,2,   34.69,2,    0.00,2,    2.37,2,   0.914,2,   0.455,2,    0.49,2,  2250.7,2,  2329.4,2,    7.606,6,       20,-999.000,1,-999.0000,1, -999.00,9,   2.3902,2, -999.00,9,  -999.0,9, -999.00,1,    39.8,2,   38.15,2,      25.11,2,     -999.0,9, -999.00,9, 20140409,     1023, -57.0004,-150.0000,    34.7015,2,     -999.0,9,     -999.0,1,     -999.0,9,     -999.0,9,     -999.0,9,     -999.0,9
320620140320,       P16S,      23,          1,         22,         22,2,20140409,       0912,   -57.0003,  -149.9998,       3273,   452.7,   2.3806,  34.5682,2,  34.5679,2,    171.9,2,   171.4,2,   73.22,2,   34.44,2,    0.00,2,    2.36,2,-999.000,9,-999.000,9, -999.00,9,  -999.0,9,  -999.0,9,-999.0000,9,  -999.00,-999.000,9,-999.0000,9, -999.00,9,   2.3804,2, -999.00,9,  -999.0,9, -999.00,1,    39.2,2,   38.06,2,     -999.0,9,     -999.0,9, -999.00,9, 20140409,     1021, -57.0006,-149.9999,    34.7309,2,     -999.0,9,     -999.0,9,     -999.0,9,     -999.0,9,     -999.0,9,     -999.0,9
320620140320,       P16S,      23,          1,         21,         21,2,20140409,       0912,   -57.0003,  -149.9998,       3273,   499.4,   2.3394,  34.5892,2,  34.5895,2,    171.7,2,   171.4,2,   74.78,2,   34.29,2,    0.00,2,    2.35,2,   0.797,2,   0.361,2,    0.17,2,  2253.7,2,  2333.7,2,   7.6116,2,       20,-999.000,1,-999.0000,1, -999.00,9,   2.3393,2, -999.00,9,  -999.0,9, -999.00,9,      39,2,    37.3,2,      25.17,2,     -999.0,9, -999.00,9, 20140409,     1019, -57.0004,-149.9998,    34.7526,2,     -999.0,9,     -999.0,1,     -999.0,9,     -999.0,9,     -999.0,9,     -999.0,9
320620140320,       P16S,      23,          1,         20,         20,2,20140409,       0912,   -57.0003,  -149.9998,       3273,   601.3,   2.2730,  34.6337,2,  34.6331,2,    172.9,2,   172.8,2,   77.60,2,   33.62,2,    0.00,2,    2.32,2,   0.451,2,   0.246,2,    0.14,2,  2253.5,2,  2337.6,2,   7.6217,2,       20,-999.000,9,-999.0000,9, -999.00,9,   2.2730,2, -999.00,9,  -999.0,9, -999.00,9,    38.3,2, -999.00,9,      21.12,2,     -999.0,9, -999.00,9, 20140409,     1016, -57.0002,-149.9998,    34.7964,2,     -999.0,9,     -999.0,9,     -999.0,9,     -999.0,9,     -999.0,9,     -999.0,9
320620140320,       P16S,      23,          1,         19,         19,2,20140409,       0912,   -57.0003,  -149.9998,       3273,   699.4,   2.1953,  34.6688,2,  34.6686,2,    175.6,2,   175.4,2,   80.04,2,   32.94,2,    0.00,2,    2.27,2,   0.504,2,   0.192,2,    0.22,2,  2252.5,2,  2339.7,2,   7.6312,2,       20,-999.000,1,-999.0000,1, -999.00,9,   2.1941,2, -999.00,9,  -999.0,9, -999.00,9,    39.3,2, -999.00,9,      21.05,2,     -999.0,9, -999.00,9, 20140409,     1013, -57.0000,-149.9998,    34.8321,2,     -999.0,9,     -999.0,9,     -999.0,9,     -999.0,9,     -999.0,9,     -999.0,9
320620140320,       P16S,      23,          1,         18,         18,2,20140409,       0912,   -57.0003,  -149.9998,       3273,   800.3,   2.1349,  34.6975,2,  34.6975,2,    179.2,2,   179.4,2,   81.90,2,   32.31,2,    0.00,2,    2.23,2,   0.327,2,   0.140,2,    0.04,2,  -999.0,9,  -999.0,9,-999.0000,9,  -999.00,-999.000,1,-999.0000,1, -999.00,9,   2.1349,2, -999.00,9,  -999.0,9, -999.00,9,    39.7,2, -999.00,9,      21.58,2,     -999.0,9, -999.00,9, 20140409,     1010, -57.0000,-149.9998,    34.8611,2,     -999.0,9,     -999.0,9,     -999.0,9,     -999.0,9,     -999.0,9,     -999.0,9
320620140320,       P16S,      23,          1,         17,         17,2,20140409,       0912,   -57.0003,  -149.9998,       3273,   902.1,   2.0572,  34.7144,3,  34.7022,3,    182.4,2,   182.6,2,   84.14,2,   31.80,2,    0.00,2,    2.19,2,   0.300,2,   0.103,2,    0.08,2,  2250.4,2,  2345.6,2,    7.652,2,       20,-999.000,1,-999.0000,1, -999.00,9,   2.0579,2, -999.00,9,  -999.0,9, -999.00,9,    42.5,3, -999.00,9,      21.96,2,     -999.0,9, -999.00,9, 20140409,     1007, -57.0001,-149.9998,    34.8659,3,     -999.0,9,     -999.0,9,     -999.0,9,     -999.0,9,     -999.0,9,     -999.0,9
320620140320,       P16S,      23,          1,         16,         16,2,20140409,       0912,   -57.0003,  -149.9998,       3273,  1003.1,   1.9798,  34.7258,2,  34.7258,2,    185.3,2,   185.7,2,   86.09,2,   31.53,2,    0.00,2,    2.16,2,-999.000,9,-999.000,9, -999.00,9,  2250.4,2,  2347.6,2,   7.6581,2,       20,-999.000,1,-999.0000,1, -999.00,9,   1.9814,2, -999.00,9,  -999.0,9, -999.00,9,    39.2,2, -999.00,9,     -999.0,9,     -999.0,9, -999.00,9, 20140409,     1004, -57.0002,-149.9998,    34.8896,2,     -999.0,9,     -999.0,9,     -999.0,9,     -999.0,9,     -999.0,9,     -999.0,9
320620140320,       P16S,      23,          1,         15,         15,2,20140409,       0912,   -57.0003,  -149.9998,       3273,  1099.5,   1.9145,  34.7315,2,  34.7319,2,    187.8,2,   188.1,2,   87.55,2,   31.42,2,    0.00,2,    2.16,2,   0.241,2,   0.088,2,    0.14,2,  2249.6,2,  2349.5,2,   7.6629,2,       20,-999.000,1,-999.0000,1, -999.00,9,   1.9146,2, -999.00,9,  -999.0,9, -999.00,9,    38.6,2, -999.00,9,      20.66,2,     -999.0,9, -999.00,9, 20140409,     1001, -57.0003,-149.9998,    34.8957,2,     -999.0,9,     -999.0,9,     -999.0,9,     -999.0,9,     -999.0,9,     -999.0,9
320620140320,       P16S,      23,          1,         14,         14,2,20140409,       0912,   -57.0003,  -149.9998,       3273,  1198.4,   1.8108,  34.7362,2,  34.7343,2,    190.2,2,   190.6,2,   90.39,2,   31.25,2,    0.00,2,    2.15,2,   0.248,2,   0.081,2,    0.16,2,  -999.0,9,  -999.0,9,-999.0000,9,  -999.00,-999.000,9,-999.0000,9, -999.00,9,   1.8099,2, -999.00,9,  -999.0,9, -999.00,9,    39.9,2, -999.00,9,      20.45,2,     -999.0,9, -999.00,9, 20140409,      959, -57.0003,-149.9998,    34.8981,2,     -999.0,9,     -999.0,9,     -999.0,9,     -999.0,9,     -999.0,9,     -999.0,9
320620140320,       P16S,      23,          1,         13,         13,2,20140409,       0912,   -57.0003,  -149.9998,       3273,  1298.9,   1.7119,  34.7380,2,  34.7388,2,    192.7,2,   192.9,2,   93.22,2,   31.18,2,    0.00,2,    2.14,2,   0.201,2,   0.070,2,    0.09,2,  2250.3,2,  2353.1,2,   7.6699,2,       20,-999.000,1,-999.0000,1, -999.00,9,   1.7113,2, -999.00,9,  -999.0,9, -999.00,9,    39.5,2, -999.00,9,      17.47,4,     -999.0,9, -999.00,9, 20140409,      956, -57.0003,-149.9999,    34.9026,2,     -999.0,9,     -999.0,9,     -999.0,9,     -999.0,9,     -999.0,9,     -999.0,9
320620140320,       P16S,      23,          1,         12,         12,2,20140409,       0912,   -57.0003,  -149.9998,       3273,  1401.6,   1.5924,  34.7368,2,  34.7372,2,    194.8,2,   194.8,2,   96.14,2,   31.18,2,    0.00,2,    2.13,2,-999.000,9,-999.000,9, -999.00,9,  -999.0,9,  -999.0,9,-999.0000,9,  -999.00,-999.000,9,-999.0000,9, -999.00,9,   1.5922,2, -999.00,9,  -999.0,9, -999.00,9,    39.5,2, -999.00,9,     -999.0,9,     -999.0,9, -999.00,9, 20140409,      953, -57.0003,-149.9999,    34.9010,2,     -999.0,9,     -999.0,9,     -999.0,9,     -999.0,9,     -999.0,9,     -999.0,9
320620140320,       P16S,      23,          1,         11,         11,2,20140409,       0912,   -57.0003,  -149.9998,       3273,  1496.1,   1.5418,  34.7363,2,  34.7366,2,    196.0,2,   195.7,2,   98.00,2,   31.22,2,    0.00,2,    2.14,2,   0.188,2,   0.071,2,    0.07,2,  2251.4,2,  2356.3,2,   7.6726,2,       20,-999.000,1,-999.0000,1, -999.00,9,   1.5419,2, -999.00,9,  -999.0,9, -999.00,9,    37.8,2, -999.00,9,      21.21,2,     -999.0,9, -999.00,9, 20140409,      950, -57.0003,-149.9998,    34.9004,2,     -999.0,9,     -999.0,9,     -999.0,9,     -999.0,9,     -999.0,9,     -999.0,9
320620140320,       P16S,      23,          1,         10,         10,2,20140409,       0912,   -57.0003,  -149.9998,       3273,  1600.7,   1.4637,  34.7347,2,  34.7347,2,    197.1,2,   196.6,2,  100.34,2,   31.28,2,    0.00,2,    2.15,2,   0.162,2,   0.062,2,    0.09,2,  -999.0,9,  -999.0,9,-999.0000,9,  -999.00,-999.000,9,-999.0000,9, -999.00,9,   1.4639,2, -999.00,9,  -999.0,9, -999.00,9,    38.9,2, -999.00,9,      20.27,2,     -999.0,9, -999.00,9, 20140409,      948, -57.0001,-149.9998,    34.8985,2,     -999.0,9,     -999.0,9,     -999.0,9,     -999.0,9,     -999.0,9,     -999.0,9
320620140320,       P16S,      23,          1,          9,         09,2,20140409,       0912,   -57.0003,  -149.9998,       3273,  1702.1,   1.3681,  34.7315,2,  34.7319,2,    198.3,2,   197.9,2,  102.78,2,   31.50,2,    0.00,2,    2.16,2,   0.202,2,   0.069,2,    0.14,2,  2254.1,2,  2358.1,2,   7.6722,2,       20,-999.000,9,-999.0000,1, -999.00,9,   1.3690,2, -999.00,9,  -999.0,9, -999.00,9,      40,2, -999.00,9,      17.26,4,     -999.0,9, -999.00,9, 20140409,      945, -57.0000,-149.9998,    34.8957,2,     -999.0,9,     -999.0,9,     -999.0,9,     -999.0,9,     -999.0,9,     -999.0,9
320620140320,       P16S,      23,          1,          8,         08,2,20140409,       0912,   -57.0003,  -149.9998,       3273,  1798.3,   1.2847,  34.7280,2,  34.7284,2,    198.9,2,   198.7,2,  105.22,2,   31.58,2,    0.00,2,    2.16,2,-999.000,9,-999.000,9, -999.00,9,  -999.0,9,  -999.0,9,-999.0000,9,  -999.00,-999.000,9,-999.0000,9, -999.00,9,   1.2844,2, -999.00,9,  -999.0,9, -999.00,9,      38,2, -999.00,9,     -999.0,9,     -999.0,9, -999.00,9, 20140409,      942, -57.0001,-149.9998,    34.8921,2,     -999.0,9,     -999.0,9,     -999.0,9,     -999.0,9,     -999.0,9,     -999.0,9
320620140320,       P16S,      23,          1,          7,         07,2,20140409,       0912,   -57.0003,  -149.9998,       3273,  2000.2,   1.1398,  34.7230,2,  34.7233,2,    201.1,2,   201.2,2,  110.49,2,   31.80,2,    0.00,2,    2.19,2,   0.144,2,   0.066,2,    0.17,2,    2257,2,  2360.9,2,   7.6713,2,       20,-999.000,9,-999.0000,1, -999.00,9,   1.1390,2, -999.00,9,  -999.0,9, -999.00,9,    38.7,2, -999.00,9,      20.19,2,     -999.0,9, -999.00,9, 20140409,      938, -57.0003,-149.9998,    34.8870,2,     -999.0,9,     -999.0,9,     -999.0,9,     -999.0,9,     -999.0,9,     -999.0,9
320620140320,       P16S,      23,          1,          6,         06,2,20140409,       0912,   -57.0003,  -149.9998,       3273,  2200.0,   0.9895,  34.7162,2,  34.7162,2,    201.9,2,   202.0,2,  115.08,2,   32.12,2,    0.00,2,    2.20,2,   0.144,2,   0.088,2,    0.10,2,  -999.0,9,  -999.0,9,-999.0000,9,  -999.00,-999.000,9,-999.0000,9, -999.00,9,   0.9893,2, -999.00,9,  -999.0,9, -999.00,9,    38.5,2, -999.00,9,      20.18,2,     -999.0,9, -999.00,9, 20140409,      934, -57.0002,-149.9998,    34.8799,2,     -999.0,9,     -999.0,9,     -999.0,9,     -999.0,9,     -999.0,9,     -999.0,9