BOTTLE,20230715CCHSIOCBG
EXPOCODE,SECT_ID,STNNBR,CASTNO,SAMPNO,BTLNBR,BTLNBR_FLAG_W,DATE,TIME,LATITUDE,LONGITUDE,DEPTH,CTDPRS,CTDTMP,CTDSAL,CTDSAL_FLAG_W,SALNTY,SALNTY_FLAG_W,CTDOXY,CTDOXY_FLAG_W,OXYGEN,OXYGEN_FLAG_W,SILCAT,SILCAT_FLAG_W,NITRAT,NITRAT_FLAG_W,NITRIT,NITRIT_FLAG_W,PHSPHT,PHSPHT_FLAG_W,CFC-11,CFC-11_FLAG_W,CFC-12,CFC-12_FLAG_W,SF6,SF6_FLAG_W,TCARBN,TCARBN_FLAG_W,ALKALI,ALKALI_FLAG_W,PH_TOT,PH_TOT_FLAG_W,PH_TMP,TRITUM,TRITUM_FLAG_W,HELIUM,HELIUM_FLAG_W,DELHE3,DELHE3_FLAG_W,REFTMP,REFTMP_FLAG_W,DELC13,DELC13_FLAG_W,DELC14,DELC14_FLAG_W,DELO18,DELO18_FLAG_W,DOC,DOC_FLAG_W,TDN,TDN_FLAG_W,N2O,N2O_FLAG_W,CALCIUM,CALCIUM_FLAG_W,D15N_NO3,D15N_NO3_FLAG_W,BTL_DATE,BTL_TIME,BTL_LAT,BTL_LON,SALTREF,SALTREF_FLAG_W,D18O_NO3,D18O_NO3_FLAG_W,DSI30,DSI30_FLAG_W,CDOM_NASA,CDOM_NASA_FLAG_W,CDOM_UCSB,CDOM_UCSB_FLAG_W,D15N_NO2+NO3,D15N_NO2+NO3_FLAG_W,D18O_NO2+NO3,D18O_NO2+NO3_FLAG_W
,,,,,,,,,,,METERS,DBAR,ITS-90,PSS-78,,PSS-78,,UMOL/KG,,UMOL/KG,,UMOL/KG,,UMOL/KG,,UMOL/KG,,UMOL/KG,,PMOL/KG,,PMOL/KG,,FMOL/KG,,UMOL/KG,,UMOL/KG,,,,DEG C,TU,,NMOL/KG,,PERCNT,,DEG C,,/MILLE,,/MILLE,,/MILLE,,UMOL/KG,,UMOL/KG,,NMOL/KG,,MMOL/KG,,/MILLE,,,,,,G/KG,,/MILLE,,/MILLE,,,,,,/MILLE,,/MILLE,
320620140320,       P16S,      89,          3,         36,         36,2,20140504,       0032,   -15.6666,  -150.0006,       4261,     4.5,  28.6582,  35.2898,2,  35.2895,2,    195.9,2,   196.7,2,    0.39,2,    0.03,2,    0.00,2,    0.21,2,   1.277,2,   0.900,2,    1.34,2,  1972.1,2,  2324.5,2,   8.2074,2,       20,-999.000,9,-999.0000,9, -999.00,9,  28.6563,2, -999.00,9,  -999.0,9, -999.00,9,  -999.0,9, -999.00,9,       5.95,2,     -999.0,1, -999.00,9, 20140504,      224, -15.6667,-150.0006,    35.4559,2,     -999.0,9,     -999.0,9,     -999.0,9,     -999.0,1,     -999.0,9,     -999.0,9
320620140320,       P16S,      89,          3,         35,         35,2,20140504,       0032,   -15.6666,  -150.0006,       4261,    19.7,  28.6619,  35.3026,2,  35.3015,2,    195.5,2,   195.9,2,    0.39,2,    0.02,2,    0.00,2,    0.20,2,-999.000,9,-999.000,9, -999.00,9,  1972.4,2,    2325,2,   8.2087,2,       20,-999.000,9,-999.0000,9, -999.00,9,  28.6637,2, -999.00,9,  -999.0,9, -999.00,9,  -999.0,9, -999.00,9,     -999.0,9,     -999.0,9, -999.00,9, 20140504,      222, -15.6667,-150.0006,    35.4680,2,     -999.0,9,     -999.0,9,     -999.0,9,     -999.0,1,     -999.0,9,     -999.0,9
320620140320,       P16S,      89,          3,         34,         34,2,20140504,       0032,   -15.6666,  -150.0006,       4261,    40.5,  28.6152,  35.2903,2,  35.2895,2,    196.5,2,   196.2,2,    0.39,2,    0.00,2,    0.00,2,    0.20,2,-999.000,9,-999.000,9, -999.00,9,  1972.3,2,  2324.6,2,    8.208,6,       20,-999.000,9,-999.0000,9, -999.00,9,  28.6136,2, -999.00,9,  -999.0,9, -999.00,9,  -999.0,9, -999.00,9,     -999.0,9,     -999.0,1, -999.00,9, 20140504,      220, -15.6667,-150.0006,    35.4559,2,     -999.0,9,     -999.0,9,     -999.0,9,     -999.0,1,     -999.0,9,     -999.0,9
320620140320,       P16S,      89,          3,         33,         33,2,20140504,       0032,   -15.6666,  -150.0006,       4261,    65.5,  28.3799,  35.7715,2,  35.7509,3,    201.9,2,   202.3,2,    0.69,2,    0.00,2,    0.00,2,    0.23,2,   1.219,2,   1.016,2,    1.29,2,  2003.2,2,  2354.9,6,   8.1965,2,       20,-999.000,9,-999.0000,9, -999.00,9,  28.3870,2, -999.00,9,  -999.0,9, -999.00,9,  -999.0,9, -999.00,9,       6.32,2,     -999.0,9, -999.00,9, 20140504,      219, -15.6666,-150.0006,    35.9195,3,     -999.0,9,     -999.0,9,     -999.0,9,     -999.0,1,     -999.0,9,     -999.0,9
320620140320,       P16S,      89,          3,         31,         31,2,20140504,       0032,   -15.6666,  -150.0006,       4261,    89.2,  27.5830,  36.0044,2,  36.0074,2,    199.4,2,   200.0,2,    0.78,2,    0.00,2,    0.03,2,    0.27,2,   0.904,3,   0.866,2,    1.39,2,  2026.3,6,  2373.4,2,    8.181,2,       20,-999.000,9,-999.0000,9, -999.00,9,  27.5820,2, -999.00,9,  -999.0,9, -999.00,9,  -999.0,9, -999.00,9,       6.45,2,     -999.0,1, -999.00,9, 20140504,      217, -15.6667,-150.0006,    36.1772,2,     -999.0,9,     -999.0,9,     -999.0,9,     -999.0,1,     -999.0,9,     -999.0,9
320620140320,       P16S,      89,          3,         32,         32,2,20140504,       0032,   -15.6666,  -150.0006,       4261,    89.6,  27.5838,  36.0044,2,-999.0000,9,   -999.0,9,  -999.0,9, -999.00,9, -999.00,9, -999.00,9, -999.00,9,-999.000,9,-999.000,9, -999.00,9,  -999.0,9,  -999.0,9,-999.0000,9,  -999.00,-999.000,9,-999.0000,9, -999.00,9,  27.5815,2, -999.00,9,  -999.0,9, -999.00,9,  -999.0,9, -999.00,9,     -999.0,9,     -999.0,9, -999.00,9, 20140504,      217, -15.6667,-150.0006,     -999.0,9,     -999.0,9,     -999.0,9,     -999.0,9,     -999.0,9,     -999.0,9,     -999.0,9
320620140320,       P16S,      89,          3,         30,         30,2,20140504,       0032,   -15.6666,  -150.0006,       4261,   134.4,  25.6229,  36.2119,2,-999.0000,9,   -999.0,9,  -999.0,9, -999.00,9, -999.00,9, -999.00,9, -999.00,9,-999.000,9,-999.000,9, -999.00,9,  -999.0,9,  -999.0,9,-999.0000,9,  -999.00,-999.000,9,-999.0000,9, -999.00,9,  25.6037,3, -999.00,9,  -999.0,9, -999.00,9,  -999.0,9, -999.00,9,     -999.0,9,     -999.0,9, -999.00,9, 20140504,      215, -15.6667,-150.0006,     -999.0,9,     -999.0,9,     -999.0,9,     -999.0,9,     -999.0,9,     -999.0,9,     -999.0,9
320620140320,       P16S,      89,          3,         29,         29,2,20140504,       0032,   -15.6666,  -150.0006,       4261,   134.7,  25.6238,  36.2119,2,  36.2147,2,    182.8,2,   184.2,2,    0.69,2,    0.58,2,    1.04,2,    0.38,2,   1.217,3,   1.135,2,    1.49,2,  2063.1,2,  2384.8,2,   8.1365,2,       20,-999.000,9,-999.0000,9, -999.00,9,  25.6173,2, -999.00,9,  -999.0,9, -999.00,9,  -999.0,9, -999.00,9,       6.93,2,     -999.0,9, -999.00,9, 20140504,      215, -15.6667,-150.0006,    36.3855,2,     -999.0,9,     -999.0,9,     -999.0,9,     -999.0,1,     -999.0,9,     -999.0,9
320620140320,       P16S,      89,          3,         28,         28,2,20140504,       0032,   -15.6666,  -150.0006,       4261,   185.3,  22.5834,  36.1665,2,  36.1728,2,    169.7,2,   171.0,2,    0.69,2,    4.01,2,    0.02,2,    0.50,2,   1.237,3,   0.979,2,    1.47,2,  -999.0,9,  -999.0,9,-999.0000,9,  -999.00,-999.000,9,-999.0000,9, -999.00,9,  22.5541,3, -999.00,9,  -999.0,9, -999.00,9,  -999.0,9, -999.00,9,       8.00,2,     -999.0,9, -999.00,9, 20140504,      213, -15.6667,-150.0006,    36.3434,2,     -999.0,9,     -999.0,9,     -999.0,9,     -999.0,1,     -999.0,9,     -999.0,9
320620140320,       P16S,      89,          3,         27,         27,2,20140504,       0032,   -15.6666,  -150.0006,       4261,   233.8,  21.1287,  35.9673,2,  35.9750,2,    170.3,2,   171.2,2,    0.88,2,    4.74,2,    0.01,2,    0.54,2,   1.804,2,   1.364,2,    1.45,2,  2111.5,2,  2368.1,2,    8.029,2,       20,-999.000,9,-999.0000,9, -999.00,9,  21.1978,3, -999.00,9,  -999.0,9, -999.00,9,  -999.0,9, -999.00,9,       8.92,2,     -999.0,9, -999.00,9, 20140504,      211, -15.6667,-150.0006,    36.1447,2,     -999.0,9,     -999.0,9,     -999.0,9,     -999.0,1,     -999.0,9,     -999.0,9
320620140320,       P16S,      89,          3,         26,         26,2,20140504,       0032,   -15.6666,  -150.0006,       4261,   284.7,  18.5501,  35.5483,2,  35.5439,2,    166.3,2,   165.5,2,    1.66,2,    7.32,2,    0.01,2,    0.73,2,   1.192,3,   1.269,2,    1.47,2,  2122.1,2,  2341.9,2,   7.9643,2,       20,-999.000,9,-999.0000,9, -999.00,9,  18.5524,2, -999.00,9,  -999.0,9, -999.00,9,  -999.0,9, -999.00,9,      12.52,2,     -999.0,1, -999.00,9, 20140504,      209, -15.6667,-150.0006,    35.7115,2,     -999.0,9,     -999.0,9,     -999.0,9,     -999.0,1,     -999.0,9,     -999.0,9
320620140320,       P16S,      89,          3,         25,         25,2,20140504,       0032,   -15.6666,  -150.0006,       4261,   334.6,  15.1586,  35.0646,2,  35.0804,2,    156.9,2,   155.2,2,    4.21,2,   11.72,2,    0.01,2,    1.05,2,   2.618,2,   1.282,2,    1.11,2,  2135.5,2,  2313.5,2,   7.8809,2,       20,-999.000,9,-999.0000,9, -999.00,9,  15.1712,2, -999.00,9,  -999.0,9, -999.00,9,  -999.0,9, -999.00,9,      18.23,2,     -999.0,9, -999.00,9, 20140504,      207, -15.6667,-150.0006,    35.2458,2,     -999.0,9,     -999.0,9,     -999.0,9,     -999.0,9,     -999.0,9,     -999.0,9
320620140320,       P16S,      89,          3,         24,         24,2,20140504,       0032,   -15.6666,  -150.0006,       4261,   384.5,  12.0247,  34.7346,2,  34.7462,2,    139.9,2,   133.7,2,    9.31,2,   18.75,2,    0.01,2,    1.53,2,   1.569,2,   0.717,2,    0.87,2,  -999.0,9,  -999.0,9,-999.0000,9,  -999.00,-999.000,9,-999.0000,9, -999.00,9,  12.0406,3, -999.00,9,  -999.0,9, -999.00,9,  -999.0,9, -999.00,9,      26.31,2,     -999.0,9, -999.00,9, 20140504,      205, -15.6666,-150.0006,    34.9100,2,     -999.0,9,     -999.0,9,     -999.0,9,     -999.0,1,     -999.0,9,     -999.0,9
320620140320,       P16S,      89,          3,         23,         23,2,20140504,       0032,   -15.6666,  -150.0006,       4261,   464.0,   9.3888,  34.5581,2,  34.5583,2,    127.0,2,   127.0,2,   16.36,2,   25.58,2,    0.00,2,    1.93,2,   1.386,2,   0.506,2,    0.17,2,  2192.9,2,  2290.4,2,   7.6786,2,       20,-999.000,9,-999.0000,9, -999.00,9,   9.4087,3, -999.00,9,  -999.0,9, -999.00,9,  -999.0,9, -999.00,9,      32.82,2,     -999.0,9, -999.00,9, 20140504,      202, -15.6666,-150.0006,    34.7213,2,     -999.0,9,     -999.0,9,     -999.0,9,     -999.0,9,     -999.0,9,     -999.0,9
320620140320,       P16S,      89,          3,         22,         22,2,20140504,       0032,   -15.6666,  -150.0006,       4261,   565.3,   6.9612,  34.4763,2,  34.4764,2,    138.6,2,   140.1,2,   27.44,2,   30.36,2,    0.00,2,    2.15,2,   0.332,3,   0.252,2,    0.05,2,  2207.7,2,  2297.7,2,   7.6533,2,       20,-999.000,9,-999.0000,9, -999.00,9,   6.9649,2, -999.00,9,  -999.0,9, -999.00,9,  -999.0,9, -999.00,9,      30.04,2,     -999.0,1, -999.00,9, 20140504,      159, -15.6666,-150.0006,    34.6390,2,     -999.0,9,     -999.0,9,     -999.0,9,     -999.0,1,     -999.0,9,     -999.0,9
320620140320,       P16S,      89,          3,         21,         21,2,20140504,       0032,   -15.6666,  -150.0006,       4261,   665.2,   5.8369,  34.4529,2,  34.4401,3,    150.7,2,   151.1,2,   35.67,2,   31.71,2,    0.00,2,    2.20,2,   0.342,2,   0.151,2,    0.04,2,  2214.7,2,  2305.8,2,   7.6561,2,       20,-999.000,9,-999.0000,9, -999.00,9,   5.8537,3, -999.00,9,  -999.0,9, -999.00,9,  -999.0,9, -999.00,9,      27.53,2,     -999.0,9, -999.00,9, 20140504,      156, -15.6666,-150.0006,    34.6025,3,     -999.0,9,     -999.0,9,     -999.0,9,     -999.0,9,     -999.0,9,     -999.0,9
320620140320,       P16S,      89,          3,         20,         20,2,20140504,       0032,   -15.6666,  -150.0006,       4261,   765.4,   5.0448,  34.4672,2,  34.4666,2,    147.1,2,   146.4,2,   48.60,2,   33.59,2,    0.00,2,    2.32,2,   0.096,2,   0.024,2,    0.01,2,  -999.0,9,  -999.0,9,-999.0000,9,  -999.00,-999.000,9,-999.0000,9, -999.00,9,   5.0495,2, -999.00,9,  -999.0,9, -999.00,9,  -999.0,9, -999.00,9,      26.69,2,     -999.0,9, -999.00,9, 20140504,      154, -15.6666,-150.0006,    34.6292,2,     -999.0,9,     -999.0,9,     -999.0,9,     -999.0,1,     -999.0,9,     -999.0,9
320620140320,       P16S,      89,          3,         19,         19,2,20140504,       0032,   -15.6666,  -150.0006,       4261,   864.2,   4.5453,  34.4879,2,  34.4875,2,    142.5,2,   141.8,2,   58.69,2,   34.68,2,    0.00,2,    2.42,2,   0.076,2,   0.013,2,    0.00,2,  2246.2,2,  2328.8,2,   7.6278,2,       20,-999.000,9,-999.0000,9, -999.00,9,   4.5466,2, -999.00,9,  -999.0,9, -999.00,9,  -999.0,9, -999.00,9,      26.68,2,     -999.0,1, -999.00,9, 20140504,      150, -15.6667,-150.0006,    34.6501,2,     -999.0,9,     -999.0,9,     -999.0,9,     -999.0,9,     -999.0,9,     -999.0,9
320620140320,       P16S,      89,          3,         18,         18,2,20140504,       0032,   -15.6666,  -150.0006,       4261,   965.4,   4.1783,  34.5047,2,  34.5047,2,    138.9,2,   138.9,2,   67.02,2,   35.30,2,    0.00,2,    2.46,2,   0.032,2,   0.000,2,    0.00,2,  -999.0,9,  -999.0,9,-999.0000,9,  -999.00,-999.000,9,-999.0000,9, -999.00,9,   4.1781,2, -999.00,9,  -999.0,9, -999.00,9,  -999.0,9, -999.00,9,      26.91,2,     -999.0,9, -999.00,9, 20140504,      148, -15.6666,-150.0006,    34.6674,2,     -999.0,9,     -999.0,9,     -999.0,9,     -999.0,9,     -999.0,9,     -999.0,9
320620140320,       P16S,      89,          3,         17,         17,2,20140504,       0032,   -15.6666,  -150.0006,       4261,  1064.3,   3.8653,  34.5237,2,  34.5238,2,    136.4,2,   135.9,2,   74.96,2,   35.89,2,    0.00,2,    2.51,2,   0.016,2,   0.000,2,    0.00,2,  2266.3,2,  2346.2,2,   7.6135,2,       20,-999.000,9,-999.0000,9, -999.00,9,   3.8639,2, -999.00,9,  -999.0,9, -999.00,9,  -999.0,9, -999.00,9,      27.48,2,     -999.0,1, -999.00,9, 20140504,      145, -15.6667,-150.0006,    34.6866,2,     -999.0,9,     -999.0,9,     -999.0,9,     -999.0,1,     -999.0,9,     -999.0,9
320620140320,       P16S,      89,          3,         16,         16,2,20140504,       0032,   -15.6666,  -150.0006,       4261,  1164.4,   3.5571,  34.5418,2,  34.5421,2,    135.2,2,   134.9,2,   82.30,2,   36.18,2,    0.00,2,    2.53,2,   0.008,2,   0.006,2,    0.00,2,  -999.0,9,  -999.0,9,-999.0000,9,  -999.00,-999.000,9,-999.0000,9, -999.00,9,   3.5579,2, -999.00,9,  -999.0,9, -999.00,9,  -999.0,9, -999.00,9,      27.92,2,     -999.0,9, -999.00,9, 20140504,      142, -15.6666,-150.0006,    34.7049,2,     -999.0,9,     -999.0,9,     -999.0,9,     -999.0,9,     -999.0,9,     -999.0,9
320620140320,       P16S,      89,          3,         15,         15,2,20140504,       0032,   -15.6666,  -150.0006,       4261,  1264.5,   3.2612,  34.5598,2,  34.5599,2,    135.3,2,   135.0,2,   89.36,2,   36.41,2,    0.00,2,    2.55,2,   0.003,2,   0.000,2,    0.00,2,  2283.1,2,  2361.2,2,   7.6094,2,       20,-999.000,9,-999.0000,9, -999.00,9,   3.2607,2, -999.00,9,  -999.0,9, -999.00,9,  -999.0,9, -999.00,9,      27.34,2,     -999.0,1, -999.00,9, 20140504,      139, -15.6666,-150.0006,    34.7229,2,     -999.0,9,     -999.0,9,     -999.0,9,     -999.0,1,     -999.0,9,     -999.0,9
320620140320,       P16S,      89,          3,         14,         14,2,20140504,       0032,   -15.6666,  -150.0006,       4261,  1363.5,   3.0223,  34.5737,2,  34.5752,2,    137.1,2,   136.7,2,   94.74,2,   36.43,2,    0.00,2,    2.54,2,-999.000,9,-999.000,9, -999.00,9,  -999.0,9,  -999.0,9,-999.0000,9,  -999.00,-999.000,9,-999.0000,9, -999.00,9,   3.0249,2, -999.00,9,  -999.0,9, -999.00,9,  -999.0,9, -999.00,9,     -999.0,9,     -999.0,9, -999.00,9, 20140504,      136, -15.6666,-150.0006,    34.7383,2,     -999.0,9,     -999.0,9,     -999.0,9,     -999.0,9,     -999.0,9,     -999.0,9
320620140320,       P16S,      89,          3,         13,         13,2,20140504,       0032,   -15.6666,  -150.0006,       4261,  1465.2,   2.8589,  34.5831,2,  34.5833,2,    139.6,2,   139.7,2,   98.08,2,   36.33,2,    0.00,2,    2.54,2,   0.002,2,   0.000,2,    0.02,2,    2290,2,  2371.7,2,   7.6161,6,       20,-999.000,9,-999.0000,9, -999.00,9,   2.8580,2, -999.00,9,  -999.0,9, -999.00,9,  -999.0,9, -999.00,9,      26.37,2,     -999.0,1, -999.00,9, 20140504,      133, -15.6666,-150.0006,    34.7464,2,     -999.0,9,     -999.0,9,     -999.0,9,     -999.0,9,     -999.0,9,     -999.0,9
320620140320,       P16S,      89,          3,         12,         12,2,20140504,       0032,   -15.6666,  -150.0006,       4261,  1563.0,   2.6797,  34.5948,2,  34.5943,2,    141.2,2,   141.8,2,  101.90,2,   36.25,2,    0.00,2,    2.52,2,-999.000,9,-999.000,9, -999.00,9,  -999.0,9,  -999.0,9,-999.0000,9,  -999.00,-999.000,9,-999.0000,9, -999.00,9,   2.6788,2, -999.00,9,  -999.0,9, -999.00,9,  -999.0,9, -999.00,9,     -999.0,9,     -999.0,9, -999.00,9, 20140504,      130, -15.6666,-150.0006,    34.7575,2,     -999.0,9,     -999.0,9,     -999.0,9,     -999.0,1,     -999.0,9,     -999.0,9
320620140320,       P16S,      89,          3,         11,         11,2,20140504,       0032,   -15.6666,  -150.0006,       4261,  1734.6,   2.4568,  34.6093,2,  34.6097,2,    146.2,2,   147.2,2,  106.50,2,   35.98,2,    0.00,2,    2.49,2,   0.002,2,   0.000,2,    0.00,2,  2294.8,2,  2380.9,2,    7.628,2,       20,-999.000,9,-999.0000,9, -999.00,9,   2.4553,2, -999.00,9,  -999.0,9, -999.00,9,  -999.0,9, -999.00,9,      24.86,2,     -999.0,9, -999.00,9, 20140504,      127, -15.6667,-150.0006,    34.7729,2,     -999.0,9,     -999.0,9,     -999.0,9,     -999.0,9,     -999.0,9,     -999.0,9
320620140320,       P16S,      89,          3,         10,         10,2,20140504,       0032,   -15.6666,  -150.0006,       4261,  1934.0,   2.1982,  34.6298,2,  34.6311,2,    149.1,2,   149.7,2,  113.26,2,   35.79,2,    0.00,2,    2.49,2,-999.000,9,-999.000,9, -999.00,9,  -999.0,9,  -999.0,9,-999.0000,9,  -999.00,-999.000,9,-999.0000,9, -999.00,9,   2.1985,2, -999.00,9,  -999.0,9, -999.00,9,  -999.0,9, -999.00,9,     -999.0,9,     -999.0,9, -999.00,9, 20140504,      122, -15.6666,-150.0006,    34.7944,2,     -999.0,9,     -999.0,9,     -999.0,9,     -999.0,9,     -999.0,9,     -999.0,9
320620140320,       P16S,      89,          3,          9,         09,2,20140504,       0032,   -15.6666,  -150.0006,       4261,  2165.2,   2.0490,  34.6438,2,  34.6446,2,    150.4,2,   150.3,2,  118.06,2,   35.80,2,    0.00,2,    2.49,2,   0.000,2,   0.001,2,    0.00,2,  2304.2,2,  2394.8,2,   7.6368,2,       20,-999.000,9,-999.0000,9, -999.00,9,   2.0488,2, -999.00,9,  -999.0,9, -999.00,9,  -999.0,9, -999.00,9,      24.08,2,     -999.0,1, -999.00,9, 20140504,      117, -15.6666,-150.0006,    34.8080,2,     -999.0,9,     -999.0,9,     -999.0,9,     -999.0,1,     -999.0,9,     -999.0,9
320620140320,       P16S,      89,          3,          8,         08,2,20140504,       0032,   -15.6666,  -150.0006,       4261,  2414.3,   1.9365,  34.6545,2,  34.6551,2,    152.6,2,   152.3,2,  121.88,2,   35.68,2,    0.00,2,    2.47,2,-999.000,9,-999.000,9, -999.00,9,    2308,2,  2398.8,2,   7.6402,2,       20,-999.000,9,-999.0000,9, -999.00,9,   1.9369,2, -999.00,9,  -999.0,9, -999.00,9,  -999.0,9, -999.00,9,     -999.0,9,     -999.0,1, -999.00,9, 20140504,      112, -15.6666,-150.0006,    34.8185,2,     -999.0,9,     -999.0,9,     -999.0,9,     -999.0,9,     -999.0,9,     -999.0,9
320620140320,       P16S,      89,          3,          7,         07,2,20140504,       0032,   -15.6666,  -150.0006,       4261,  2663.4,   1.8254,  34.6644,2,  34.6653,2,    154.9,2,   154.5,2,  125.01,2,   35.52,2,    0.00,2,    2.46,2,-999.000,9,-999.000,9, -999.00,9,    2310,2,  2414.5,4,    7.644,2,       20,-999.000,9,-999.0000,9, -999.00,9,   1.8255,2, -999.00,9,  -999.0,9, -999.00,9,  -999.0,9, -999.00,9,     -999.0,9,     -999.0,9, -999.00,9, 20140504,      106, -15.6667,-150.0006,    34.8288,2,     -999.0,9,     -999.0,9,     -999.0,9,     -999.0,9,     -999.0,9,     -999.0,9
320620140320,       P16S,      89,          3,          6,         06,2,20140504,       0032,   -15.6666,  -150.0006,       4261,  2914.3,   1.7664,  34.6696,2,  34.6715,2,    157.4,2,   157.2,2,  126.09,2,   35.42,2,    0.00,2,    2.45,2,   0.000,2,   0.001,2,    0.00,2,  2307.7,2,  2401.5,2,   7.6476,2,       20,-999.000,9,-999.0000,9, -999.00,9,   1.7669,2, -999.00,9,  -999.0,9, -999.00,9,  -999.0,9, -999.00,9,      22.81,2,     -999.0,1, -999.00,9, 20140504,      101, -15.6666,-150.0006,    34.8350,2,     -999.0,9,     -999.0,9,     -999.0,9,     -999.0,1,     -999.0,9,     -999.0,9