BOTTLE,20230715CCHSIOCBG
EXPOCODE,SECT_ID,STNNBR,CASTNO,SAMPNO,BTLNBR,BTLNBR_FLAG_W,DATE,TIME,LATITUDE,LONGITUDE,DEPTH,CTDPRS,CTDTMP,CTDSAL,CTDSAL_FLAG_W,SALNTY,SALNTY_FLAG_W,CTDOXY,CTDOXY_FLAG_W,OXYGEN,OXYGEN_FLAG_W,SILCAT,SILCAT_FLAG_W,NITRAT,NITRAT_FLAG_W,NITRIT,NITRIT_FLAG_W,PHSPHT,PHSPHT_FLAG_W,CFC-11,CFC-11_FLAG_W,CFC-12,CFC-12_FLAG_W,SF6,SF6_FLAG_W,TCARBN,TCARBN_FLAG_W,ALKALI,ALKALI_FLAG_W,PH_TOT,PH_TOT_FLAG_W,PH_TMP,TRITUM,TRITUM_FLAG_W,HELIUM,HELIUM_FLAG_W,DELHE3,DELHE3_FLAG_W,REFTMP,REFTMP_FLAG_W,DELC13,DELC13_FLAG_W,DELC14,DELC14_FLAG_W,DELO18,DELO18_FLAG_W,DOC,DOC_FLAG_W,TDN,TDN_FLAG_W,N2O,N2O_FLAG_W,CALCIUM,CALCIUM_FLAG_W,D15N_NO3,D15N_NO3_FLAG_W,BTL_DATE,BTL_TIME,BTL_LAT,BTL_LON,SALTREF,SALTREF_FLAG_W,D18O_NO3,D18O_NO3_FLAG_W,DSI30,DSI30_FLAG_W,CDOM_NASA,CDOM_NASA_FLAG_W,CDOM_UCSB,CDOM_UCSB_FLAG_W,D15N_NO2+NO3,D15N_NO2+NO3_FLAG_W,D18O_NO2+NO3,D18O_NO2+NO3_FLAG_W
,,,,,,,,,,,METERS,DBAR,ITS-90,PSS-78,,PSS-78,,UMOL/KG,,UMOL/KG,,UMOL/KG,,UMOL/KG,,UMOL/KG,,UMOL/KG,,PMOL/KG,,PMOL/KG,,FMOL/KG,,UMOL/KG,,UMOL/KG,,,,DEG C,TU,,NMOL/KG,,PERCNT,,DEG C,,/MILLE,,/MILLE,,/MILLE,,UMOL/KG,,UMOL/KG,,NMOL/KG,,MMOL/KG,,/MILLE,,,,,,G/KG,,/MILLE,,/MILLE,,,,,,/MILLE,,/MILLE,
320620140320,       P16S,       9,          1,         36,         36,2,20140402,       0450,   -64.9901,  -149.9969,       3908,     6.0,  -0.3145,  33.7898,2,  33.7913,2,    341.0,2,   341.3,2,   41.24,2,   23.54,2,    0.18,2,    1.73,2,   6.829,2,   3.158,2,    3.12,2,  2169.4,6,  2288.2,2,     7.75,2,       20,-999.000,1,-999.0000,1, -999.00,9,  -0.3150,2, -999.00,9,  -999.0,9, -999.00,1,    44.1,2,   27.11,2,      16.14,2,     -999.0,1, -999.00,9, 20140402,      641, -64.9901,-149.9968,    33.9506,2,     -999.0,9,     -999.0,9,     -999.0,9,     -999.0,9,     -999.0,9,     -999.0,9
320620140320,       P16S,       9,          1,         35,         35,2,20140402,       0450,   -64.9901,  -149.9969,       3908,    35.0,  -0.3153,  33.7898,2,  33.7916,2,    341.8,2,   341.2,2,   41.14,2,   23.76,2,    0.18,2,    1.75,2,   6.409,2,   3.158,2,    3.11,2,    2169,2,    2288,6,   7.7496,2,       20,-999.000,1,-999.0000,1, -999.00,9,  -0.3157,2, -999.00,9,  -999.0,9, -999.00,1,    42.6,2,   27.13,2,      15.65,2,     -999.0,9, -999.00,9, 20140402,      639, -64.9900,-149.9966,    33.9510,2,     -999.0,9,     -999.0,1,     -999.0,9,     -999.0,9,     -999.0,9,     -999.0,9
320620140320,       P16S,       9,          1,         34,         34,2,20140402,       0450,   -64.9901,  -149.9969,       3908,    60.9,  -0.4640,  33.8625,2,  33.8717,2,    339.3,2,   331.8,2,   45.63,2,   24.82,2,    0.17,2,    1.82,2,   6.335,2,   3.033,2,    2.84,2,  2177.9,2,  2293.1,2,   7.7368,6,       20,-999.000,1,-999.0000,1, -999.00,9,  -0.4690,2, -999.00,9,  -999.0,9, -999.00,1,    43.9,2,   28.14,2,      17.47,2,     -999.0,1, -999.00,9, 20140402,      638, -64.9899,-149.9965,    34.0314,2,     -999.0,9,     -999.0,9,     -999.0,9,     -999.0,9,     -999.0,9,     -999.0,9
320620140320,       P16S,       9,          1,         33,         33,2,20140402,       0450,   -64.9901,  -149.9969,       3908,    83.9,  -1.0782,  34.1760,2,  34.1905,2,    293.3,2,   291.9,2,   62.72,2,   28.64,2,    0.12,2,    2.06,2,   4.912,2,   2.442,2,    2.11,2,  2212.6,2,  2311.7,2,   7.6841,2,       20,-999.000,1,-999.0000,1, -999.00,9,  -1.0810,2, -999.00,9,  -999.0,9, -999.00,1,    41.6,2,   32.73,2,      20.02,2,     -999.0,9, -999.00,9, 20140402,      637, -64.9899,-149.9965,    34.3517,2,     -999.0,9,     -999.0,1,     -999.0,9,     -999.0,9,     -999.0,9,     -999.0,9
320620140320,       P16S,       9,          1,         32,         32,2,20140402,       0450,   -64.9901,  -149.9969,       3908,   114.4,  -0.4536,  34.3573,2,  34.3533,2,    257.2,2,   257.0,2,   71.60,2,   30.56,2,    0.11,2,    2.16,2,   3.616,2,   1.838,2,    1.82,2,  2230.3,2,  2320.7,2,   7.6621,2,       20,-999.000,1,-999.0000,1, -999.00,9,  -0.4718,2, -999.00,9,  -999.0,9, -999.00,1,    41.3,2,   32.35,2,      21.52,2,     -999.0,1, -999.00,9, 20140402,      635, -64.9899,-149.9964,    34.5153,2,     -999.0,9,     -999.0,9,     -999.0,9,     -999.0,9,     -999.0,9,     -999.0,9
320620140320,       P16S,       9,          1,         31,         31,2,20140402,       0450,   -64.9901,  -149.9969,       3908,   163.4,   1.0344,  34.6210,2,  34.6166,2,    205.4,2,   196.4,2,   89.26,2,   32.44,2,    0.01,2,    2.26,2,   1.360,2,   0.633,2,    0.58,2,  2256.7,2,  2338.7,2,   7.6336,2,       20,-999.000,1,-999.0000,1, -999.00,9,   1.0321,2, -999.00,9,  -999.0,9, -999.00,1,    41.1,2,   33.99,2,      23.27,2,     -999.0,9, -999.00,9, 20140402,      633, -64.9899,-149.9965,    34.7798,2,     -999.0,9,     -999.0,9,     -999.0,9,     -999.0,9,     -999.0,9,     -999.0,9
320620140320,       P16S,       9,          1,         30,         30,2,20140402,       0450,   -64.9901,  -149.9969,       3908,   214.9,   1.5266,  34.7145,2,  34.7150,2,    180.7,2,   179.7,2,   95.90,2,   32.43,2,    0.02,2,    2.27,2,-999.000,9,-999.000,9, -999.00,9,  2263.1,2,  2347.9,2,   7.6376,2,       20,-999.000,9,-999.0000,9, -999.00,9,   1.5259,2, -999.00,9,  -999.0,9, -999.00,1,    41.3,2,   34.54,2,     -999.0,9,     -999.0,9, -999.00,9, 20140402,      632, -64.9899,-149.9965,    34.8787,2,     -999.0,9,     -999.0,1,     -999.0,9,     -999.0,9,     -999.0,9,     -999.0,9
320620140320,       P16S,       9,          1,         29,         29,2,20140402,       0450,   -64.9901,  -149.9969,       3908,   265.6,   1.4977,  34.7249,2,  34.6881,3,    180.3,2,   182.5,2,   94.34,2,   32.67,2,    0.01,2,    2.28,2,   0.669,2,   0.286,2,    0.27,2,  2262.8,2,  2345.4,2,   7.6333,2,       20,-999.000,1,-999.0000,1, -999.00,9,   1.4990,2, -999.00,9,  -999.0,9, -999.00,1,    40.6,2,   34.75,2,      22.56,2,     -999.0,1, -999.00,9, 20140402,      630, -64.9899,-149.9965,    34.8517,3,     -999.0,9,     -999.0,9,     -999.0,9,     -999.0,9,     -999.0,9,     -999.0,9
320620140320,       P16S,       9,          1,         28,         28,2,20140402,       0450,   -64.9901,  -149.9969,       3908,   315.8,   1.4418,  34.7275,2,  34.7290,2,    180.8,2,   179.9,2,  101.56,2,   32.53,2,    0.01,2,    2.27,2,   0.280,2,   0.092,2,    0.08,2,  2265.8,2,  2351.4,2,   7.6401,2,       20,-999.000,9,-999.0000,9, -999.00,9,   1.4426,2, -999.00,9,  -999.0,9, -999.00,1,    39.6,2,   34.84,2,      22.60,2,     -999.0,9, -999.00,9, 20140402,      628, -64.9899,-149.9966,    34.8927,2,     -999.0,9,     -999.0,9,     -999.0,9,     -999.0,9,     -999.0,9,     -999.0,9
320620140320,       P16S,       9,          1,         27,         27,2,20140402,       0450,   -64.9901,  -149.9969,       3908,   364.1,   1.3881,  34.7286,2,  34.7288,2,    181.9,2,   179.9,2,  103.51,2,   32.61,2,    0.01,2,    2.28,2,   0.258,2,   0.085,2,    0.13,2,  2266.4,2,  2352.5,2,   7.6383,6,       20,-999.000,1,-999.0000,1, -999.00,9,   1.3882,2, -999.00,9,  -999.0,9, -999.00,1,    39.9,2,   35.53,2,      22.33,2,     -999.0,9, -999.00,9, 20140402,      627, -64.9900,-149.9966,    34.8925,2,     -999.0,9,     -999.0,9,     -999.0,9,     -999.0,9,     -999.0,9,     -999.0,9
320620140320,       P16S,       9,          1,         26,         26,2,20140402,       0450,   -64.9901,  -149.9969,       3908,   414.8,   1.3465,  34.7291,2,  34.7292,2,    182.4,2,   182.5,2,  105.37,2,   32.40,2,    0.01,2,    2.26,2,   0.240,2,   0.072,2,    0.19,2,    2267,2,  2353.1,2,   7.6435,2,       20,-999.000,9,-999.0000,9, -999.00,9,   1.3464,2, -999.00,9,  -999.0,9, -999.00,1,    39.6,2, -999.00,5,      21.39,2,     -999.0,9, -999.00,9, 20140402,      625, -64.9900,-149.9966,    34.8929,2,     -999.0,9,     -999.0,9,     -999.0,9,     -999.0,9,     -999.0,9,     -999.0,9
320620140320,       P16S,       9,          1,         25,         25,2,20140402,       0450,   -64.9901,  -149.9969,       3908,   465.1,   1.2940,  34.7287,2,  34.7431,3,    184.0,2,   184.7,2,  107.03,2,   32.34,2,    0.00,2,    2.26,2,   0.205,2,   0.061,2,    0.06,2,  2265.6,2,  2354.7,2,   7.6471,2,       20,-999.000,1,-999.0000,1, -999.00,9,   1.2946,2, -999.00,9,  -999.0,9, -999.00,1,    40.7,2, -999.00,5,      21.77,2,     -999.0,1, -999.00,9, 20140402,      623, -64.9899,-149.9965,    34.9070,3,     -999.0,9,     -999.0,9,     -999.0,9,     -999.0,9,     -999.0,9,     -999.0,9
320620140320,       P16S,       9,          1,         24,         24,2,20140402,       0450,   -64.9901,  -149.9969,       3908,   534.9,   1.2353,  34.7278,2,  34.7254,3,    184.0,2,   184.0,2,  109.37,2,   32.57,2,    0.00,2,    2.27,2,   0.191,2,   0.041,3,    0.14,2,  -999.0,9,  -999.0,9,-999.0000,9,  -999.00,-999.000,9,-999.0000,9, -999.00,9,   1.2359,2, -999.00,9,  -999.0,9, -999.00,1,    41.6,2, -999.00,5,      21.59,2,     -999.0,9, -999.00,9, 20140402,      621, -64.9899,-149.9965,    34.8892,3,     -999.0,9,     -999.0,1,     -999.0,9,     -999.0,9,     -999.0,9,     -999.0,9
320620140320,       P16S,       9,          1,         23,         23,2,20140402,       0450,   -64.9901,  -149.9969,       3908,   634.3,   1.1589,  34.7254,2,  34.7258,2,    188.1,2,   188.5,2,  111.62,2,   32.36,2,    0.00,2,    2.26,2,   0.174,2,   0.045,2,    0.02,2,  2265.8,2,  2356.9,2,   7.6524,2,       20,-999.000,1,-999.0000,1, -999.00,9,   1.1586,2, -999.00,9,  -999.0,9, -999.00,1,    37.7,2, -999.00,9,      21.38,2,     -999.0,9, -999.00,9, 20140402,      618, -64.9900,-149.9966,    34.8896,2,     -999.0,9,     -999.0,9,     -999.0,9,     -999.0,9,     -999.0,9,     -999.0,9
320620140320,       P16S,       9,          1,         22,         22,2,20140402,       0450,   -64.9901,  -149.9969,       3908,   734.1,   1.0834,  34.7228,2,  34.7229,2,    191.5,2,   190.8,2,  113.77,2,   32.36,2,    0.00,2,    2.26,2,   0.151,2,   0.044,2,    0.09,2,  -999.0,9,  -999.0,9,-999.0000,9,  -999.00,-999.000,9,-999.0000,9, -999.00,9,   1.0834,2, -999.00,9,  -999.0,9, -999.00,1,    39.2,2, -999.00,9,      21.72,2,     -999.0,9, -999.00,9, 20140402,      616, -64.9900,-149.9967,    34.8866,2,     -999.0,9,     -999.0,9,     -999.0,9,     -999.0,9,     -999.0,9,     -999.0,9
320620140320,       P16S,       9,          1,         21,         21,2,20140402,       0450,   -64.9901,  -149.9969,       3908,   835.3,   1.0161,  34.7204,2,  34.7207,2,    193.5,2,   194.1,2,  115.43,2,   32.31,2,    0.00,2,    2.26,2,   0.154,2,   0.045,2,    0.02,2,  2264.7,2,  2358.7,2,   7.6602,2,       20,-999.000,1,-999.0000,1, -999.00,9,   1.0158,2, -999.00,9,  -999.0,9, -999.00,9,    37.8,2, -999.00,9,      21.21,2,     -999.0,1, -999.00,9, 20140402,      613, -64.9901,-149.9967,    34.8844,2,     -999.0,9,     -999.0,9,     -999.0,9,     -999.0,9,     -999.0,9,     -999.0,9
320620140320,       P16S,       9,          1,         20,         20,2,20140402,       0450,   -64.9901,  -149.9969,       3908,   934.7,   0.9575,  34.7182,2,  34.7180,2,    195.1,2,   194.7,2,  117.68,2,   32.30,2,    0.00,2,    2.26,2,-999.000,9,-999.000,9, -999.00,9,  -999.0,9,  -999.0,9,-999.0000,9,  -999.00,-999.000,9,-999.0000,9, -999.00,9,   0.9572,2, -999.00,9,  -999.0,9, -999.00,9,    38.5,2, -999.00,9,     -999.0,9,     -999.0,9, -999.00,9, 20140402,      610, -64.9901,-149.9968,    34.8817,2,     -999.0,9,     -999.0,9,     -999.0,9,     -999.0,9,     -999.0,9,     -999.0,9
320620140320,       P16S,       9,          1,         19,         19,2,20140402,       0450,   -64.9901,  -149.9969,       3908,  1034.7,   0.9057,  34.7162,2,  34.7164,2,    196.7,2,   196.5,2,  119.24,2,   32.36,2,    0.00,2,    2.26,2,   0.139,2,   0.027,2,    0.03,2,  2264.8,2,  2359.5,2,   7.6624,6,       20,-999.000,1,-999.0000,1, -999.00,9,   0.9060,2, -999.00,9,  -999.0,9, -999.00,9,    39.4,2, -999.00,9,      20.64,2,     -999.0,1, -999.00,9, 20140402,      608, -64.9900,-149.9967,    34.8801,2,     -999.0,9,     -999.0,9,     -999.0,9,     -999.0,9,     -999.0,9,     -999.0,9
320620140320,       P16S,       9,          1,         18,         18,2,20140402,       0450,   -64.9901,  -149.9969,       3908,  1133.7,   0.8494,  34.7138,2,  34.7142,2,    198.6,2,   198.5,2,  120.41,2,   32.27,2,    0.00,2,    2.25,2,   0.140,2,   0.035,2,    0.07,2,  2264.6,2,  2359.5,2,    7.665,2,       20,-999.000,1,-999.0000,1, -999.00,9,   0.8492,2, -999.00,9,  -999.0,9, -999.00,9,    38.5,2, -999.00,9,      21.30,2,     -999.0,9, -999.00,9, 20140402,      605, -64.9899,-149.9965,    34.8779,2,     -999.0,9,     -999.0,1,     -999.0,9,     -999.0,9,     -999.0,9,     -999.0,9
320620140320,       P16S,       9,          1,         17,         17,2,20140402,       0450,   -64.9901,  -149.9969,       3908,  1234.6,   0.7987,  34.7120,2,  34.7135,2,    200.3,2,   199.9,2,  122.66,2,   32.30,2,    0.00,2,    2.26,2,   0.148,2,   0.041,2,    0.06,2,  2263.9,2,  2359.9,2,   7.6646,2,       20,-999.000,1,-999.0000,1, -999.00,9,   0.7990,2, -999.00,9,  -999.0,9, -999.00,9,    36.7,2, -999.00,9,      20.58,2,     -999.0,9, -999.00,9, 20140402,      602, -64.9899,-149.9965,    34.8771,2,     -999.0,9,     -999.0,9,     -999.0,9,     -999.0,9,     -999.0,9,     -999.0,9
320620140320,       P16S,       9,          1,         16,         16,2,20140402,       0450,   -64.9901,  -149.9969,       3908,  1335.2,   0.7537,  34.7101,2,  34.7107,2,    201.3,2,   201.1,2,  124.12,2,   32.31,2,    0.00,2,    2.25,2,   0.143,2,   0.036,2,    0.00,2,    2264,2,  2360.5,2,   7.6644,2,       20,-999.000,1,-999.0000,1, -999.00,9,   0.7536,2, -999.00,9,  -999.0,9, -999.00,9,    40.1,2, -999.00,9,      20.80,2,     -999.0,9, -999.00,9, 20140402,      600, -64.9900,-149.9966,    34.8744,2,     -999.0,9,     -999.0,9,     -999.0,9,     -999.0,9,     -999.0,9,     -999.0,9
320620140320,       P16S,       9,          1,         15,         15,2,20140402,       0450,   -64.9901,  -149.9969,       3908,  1434.9,   0.7088,  34.7083,2,  34.7091,2,    202.3,2,   202.2,2,  125.49,2,   32.35,2,    0.00,2,    2.26,2,   0.150,2,   0.046,2,    0.03,2,  2263.5,2,  2360.6,2,   7.6658,2,       20,-999.000,1,-999.0000,1, -999.00,9,   0.7086,2, -999.00,9,  -999.0,9, -999.00,9,    37.9,2, -999.00,9,      20.82,2,     -999.0,1, -999.00,9, 20140402,      557, -64.9899,-149.9965,    34.8728,2,     -999.0,9,     -999.0,9,     -999.0,9,     -999.0,9,     -999.0,9,     -999.0,9
320620140320,       P16S,       9,          1,         14,         14,2,20140402,       0450,   -64.9901,  -149.9969,       3908,  1535.7,   0.6734,  34.7070,2,  34.7044,3,    203.4,2,   203.2,2,  126.76,2,   32.41,2,    0.00,2,    2.26,2,   0.153,2,   0.044,2,    0.00,2,  -999.0,9,  -999.0,9,-999.0000,9,  -999.00,-999.000,9,-999.0000,9, -999.00,9,   0.6743,2, -999.00,9,  -999.0,9, -999.00,9,    38.8,2, -999.00,9,      20.37,2,     -999.0,9, -999.00,9, 20140402,      554, -64.9898,-149.9964,    34.8681,3,     -999.0,9,     -999.0,9,     -999.0,9,     -999.0,9,     -999.0,9,     -999.0,9
320620140320,       P16S,       9,          1,         13,         13,2,20140402,       0450,   -64.9901,  -149.9969,       3908,  1634.4,   0.6436,  34.7061,2,  34.7056,2,    204.4,2,   204.2,2,  127.44,2,   32.42,2,    0.00,2,    2.26,2,   0.162,2,   0.055,2,    0.00,2,  2263.1,2,  2360.5,2,   7.6665,2,       20,-999.000,1,-999.0000,1, -999.00,9,   0.6434,2, -999.00,9,  -999.0,9, -999.00,9,    41.2,2, -999.00,9,      20.11,2,     -999.0,9, -999.00,9, 20140402,      551, -64.9898,-149.9964,    34.8692,2,     -999.0,9,     -999.0,9,     -999.0,9,     -999.0,9,     -999.0,9,     -999.0,9
320620140320,       P16S,       9,          1,         12,         12,2,20140402,       0450,   -64.9901,  -149.9969,       3908,  1734.0,   0.6030,  34.7051,2,  34.7058,2,    205.2,2,   204.9,2,  127.83,2,   32.44,2,    0.00,2,    2.26,2,   0.165,2,   0.055,2,    0.06,2,  -999.0,9,  -999.0,9,-999.0000,9,  -999.00,-999.000,9,-999.0000,9, -999.00,9,   0.6029,2, -999.00,9,  -999.0,9, -999.00,9,    40.2,2, -999.00,9,      20.27,2,     -999.0,9, -999.00,9, 20140402,      548, -64.9898,-149.9964,    34.8694,2,     -999.0,9,     -999.0,9,     -999.0,9,     -999.0,9,     -999.0,9,     -999.0,9
320620140320,       P16S,       9,          1,         11,         11,2,20140402,       0450,   -64.9901,  -149.9969,       3908,  1864.5,   0.5452,  34.7042,2,  34.7054,2,    206.4,2,   206.1,2,  128.91,2,   32.47,2,    0.00,2,    2.26,2,-999.000,9,-999.000,9, -999.00,9,  2263.4,2,  2360.6,2,   7.6661,2,       20,-999.000,1,-999.0000,1, -999.00,9,   0.5463,2, -999.00,9,  -999.0,9, -999.00,9,    38.1,2, -999.00,9,     -999.0,9,     -999.0,1, -999.00,9, 20140402,      545, -64.9900,-149.9966,    34.8690,2,     -999.0,9,     -999.0,9,     -999.0,9,     -999.0,9,     -999.0,9,     -999.0,9
320620140320,       P16S,       9,          1,         10,         10,2,20140402,       0450,   -64.9901,  -149.9969,       3908,  2084.8,   0.4675,  34.7030,2,  34.7038,2,    208.6,2,   208.3,2,  130.18,2,   32.46,2,    0.00,2,    2.26,2,   0.184,2,   0.063,2,    0.06,2,  -999.0,9,  -999.0,9,-999.0000,9,  -999.00,-999.000,9,-999.0000,9, -999.00,9,   0.4676,2, -999.00,9,  -999.0,9, -999.00,9,    38.4,2, -999.00,9,      20.43,2,     -999.0,9, -999.00,9, 20140402,      540, -64.9903,-149.9973,    34.8675,2,     -999.0,9,     -999.0,1,     -999.0,9,     -999.0,9,     -999.0,9,     -999.0,9
320620140320,       P16S,       9,          1,          9,         09,2,20140402,       0450,   -64.9901,  -149.9969,       3908,  2335.5,   0.3886,  34.7019,2,  34.7024,2,    210.6,2,   210.3,2,  131.64,2,   32.50,2,    0.00,2,    2.27,2,   0.220,2,   0.080,2,    0.06,2,    2263,2,  2359.6,2,   7.6677,2,       20,-999.000,9,-999.0000,1, -999.00,9,   0.3887,2, -999.00,9,  -999.0,9, -999.00,9,      38,2, -999.00,9,      19.72,2,     -999.0,1, -999.00,9, 20140402,      534, -64.9904,-149.9973,    34.8661,2,     -999.0,9,     -999.0,9,     -999.0,9,     -999.0,9,     -999.0,9,     -999.0,9
320620140320,       P16S,       9,          1,          8,         08,2,20140402,       0450,   -64.9901,  -149.9969,       3908,  2585.4,   0.3151,  34.7004,2,  34.7013,2,    212.8,2,   212.9,2,  132.33,2,   32.44,2,    0.00,2,    2.25,2,   0.333,2,   0.129,2,    0.11,2,  -999.0,9,  -999.0,9,-999.0000,9,  -999.00,-999.000,9,-999.0000,9, -999.00,9,   0.3154,2, -999.00,9,  -999.0,9, -999.00,9,      38,2, -999.00,9,      20.09,2,     -999.0,9, -999.00,9, 20140402,      528, -64.9905,-149.9975,    34.8649,2,     -999.0,9,     -999.0,9,     -999.0,9,     -999.0,9,     -999.0,9,     -999.0,9
320620140320,       P16S,       9,          1,          7,         07,2,20140402,       0450,   -64.9901,  -149.9969,       3908,  2833.4,   0.2468,  34.6964,2,  34.6960,2,    215.8,2,   215.8,2,  130.08,2,   32.43,2,    0.00,2,    2.28,2,   0.606,2,   0.249,2,    0.11,2,  2261.6,2,  2359.4,2,   7.6666,2,       20,-999.000,9,-999.0000,1, -999.00,9,   0.2468,2, -999.00,9,  -999.0,9, -999.00,9,    38.8,2, -999.00,9,      19.80,2,     -999.0,1, -999.00,9, 20140402,      523, -64.9903,-149.9971,    34.8596,2,     -999.0,9,     -999.0,9,     -999.0,9,     -999.0,9,     -999.0,9,     -999.0,9
320620140320,       P16S,       9,          1,          6,         06,2,20140402,       0450,   -64.9901,  -149.9969,       3908,  3099.4,   0.2149,  34.6939,2,  34.6938,2,    218.0,2,   217.6,2,  127.83,2,   32.37,2,    0.00,2,    2.27,2,   0.787,6,   0.343,6,    0.23,6,  -999.0,9,  -999.0,9,-999.0000,9,  -999.00,-999.000,9,-999.0000,9, -999.00,9,   0.2149,2, -999.00,9,  -999.0,9, -999.00,9,    38.9,2, -999.00,9,      19.63,6,     -999.0,9, -999.00,9, 20140402,      517, -64.9904,-149.9974,    34.8574,2,     -999.0,9,     -999.0,9,     -999.0,9,     -999.0,9,     -999.0,9,     -999.0,9