BOTTLE,20230715CCHSIOCBG
EXPOCODE,SECT_ID,STNNBR,CASTNO,SAMPNO,BTLNBR,BTLNBR_FLAG_W,DATE,TIME,LATITUDE,LONGITUDE,DEPTH,CTDPRS,CTDTMP,CTDSAL,CTDSAL_FLAG_W,SALNTY,SALNTY_FLAG_W,CTDOXY,CTDOXY_FLAG_W,OXYGEN,OXYGEN_FLAG_W,SILCAT,SILCAT_FLAG_W,NITRAT,NITRAT_FLAG_W,NITRIT,NITRIT_FLAG_W,PHSPHT,PHSPHT_FLAG_W,CFC-11,CFC-11_FLAG_W,CFC-12,CFC-12_FLAG_W,SF6,SF6_FLAG_W,TCARBN,TCARBN_FLAG_W,ALKALI,ALKALI_FLAG_W,PH_TOT,PH_TOT_FLAG_W,PH_TMP,TRITUM,TRITUM_FLAG_W,HELIUM,HELIUM_FLAG_W,DELHE3,DELHE3_FLAG_W,REFTMP,REFTMP_FLAG_W,DELC13,DELC13_FLAG_W,DELC14,DELC14_FLAG_W,DELO18,DELO18_FLAG_W,DOC,DOC_FLAG_W,TDN,TDN_FLAG_W,N2O,N2O_FLAG_W,CALCIUM,CALCIUM_FLAG_W,D15N_NO3,D15N_NO3_FLAG_W,BTL_DATE,BTL_TIME,BTL_LAT,BTL_LON,SALTREF,SALTREF_FLAG_W,D18O_NO3,D18O_NO3_FLAG_W,DSI30,DSI30_FLAG_W,CDOM_NASA,CDOM_NASA_FLAG_W,CDOM_UCSB,CDOM_UCSB_FLAG_W,D15N_NO2+NO3,D15N_NO2+NO3_FLAG_W,D18O_NO2+NO3,D18O_NO2+NO3_FLAG_W
,,,,,,,,,,,METERS,DBAR,ITS-90,PSS-78,,PSS-78,,UMOL/KG,,UMOL/KG,,UMOL/KG,,UMOL/KG,,UMOL/KG,,UMOL/KG,,PMOL/KG,,PMOL/KG,,FMOL/KG,,UMOL/KG,,UMOL/KG,,,,DEG C,TU,,NMOL/KG,,PERCNT,,DEG C,,/MILLE,,/MILLE,,/MILLE,,UMOL/KG,,UMOL/KG,,NMOL/KG,,MMOL/KG,,/MILLE,,,,,,G/KG,,/MILLE,,/MILLE,,,,,,/MILLE,,/MILLE,
320620140320,       P16S,      56,          2,          5,         05,2,20140422,       0756,   -37.6668,  -149.9998,       5636,  4465.1,   1.2480,  34.7135,2,  34.7137,2,    199.7,2,   200.2,2,  115.63,2,   32.46,2,    0.00,2,    2.23,2,-999.000,9,-999.000,9, -999.00,9,  2265.3,2,  2370.2,2,   7.6789,2,       20,-999.000,9,-999.0000,9, -999.00,9,   1.2481,2,    0.36,2,  -177.7,2, -999.00,9,    39.1,2, -999.00,9,     -999.0,9,     -999.0,9, -999.00,9, 20140422,      836, -37.6668,-149.9998,    34.8773,2,     -999.0,9,     -999.0,9,     -999.0,9,     -999.0,9,     -999.0,9,     -999.0,9
320620140320,       P16S,      56,          2,          4,         04,2,20140422,       0756,   -37.6668,  -149.9998,       5636,  4863.9,   1.1777,  34.7116,2,  34.7119,2,    201.6,2,   201.4,2,  117.87,2,   32.54,2,    0.00,2,    2.24,2,-999.000,9,-999.000,9, -999.00,9,  2266.8,2,  2371.5,2,     7.68,2,       20,-999.000,9,-999.0000,9, -999.00,9,   1.1775,2,    0.39,2,  -173.1,2, -999.00,9,    39.3,2, -999.00,9,     -999.0,9,     -999.0,9, -999.00,9, 20140422,      826, -37.6668,-149.9998,    34.8756,2,     -999.0,9,     -999.0,9,     -999.0,9,     -999.0,9,     -999.0,9,     -999.0,9
320620140320,       P16S,      56,          2,          3,         03,2,20140422,       0756,   -37.6668,  -149.9998,       5636,  5263.4,   1.1584,  34.7097,2,  34.7100,2,    203.2,2,   203.5,2,  119.24,2,   32.51,2,    0.00,2,    2.23,2,   0.023,2,   0.006,2,    0.01,2,  2265.4,2,  2368.6,2,    7.678,2,       20,-999.000,9,-999.0000,9, -999.00,9,   1.1583,2,    0.42,2,  -167.3,2, -999.00,9,    39.6,2, -999.00,9,      18.55,2,     -999.0,9, -999.00,9, 20140422,      814, -37.6668,-149.9998,    34.8736,2,     -999.0,9,     -999.0,9,     -999.0,9,     -999.0,9,     -999.0,9,     -999.0,9
320620140320,       P16S,      56,          2,          2,         02,2,20140422,       0756,   -37.6668,  -149.9998,       5636,  5499.9,   1.1645,  34.7092,2,  34.7094,2,    203.7,2,   203.9,2,  119.54,2,   32.52,2,    0.00,2,    2.23,2,   0.034,2,   0.012,2,    0.06,2,  2265.9,2,  2368.3,2,   7.6776,2,       20,-999.000,9,-999.0000,9, -999.00,9,   1.1649,2,    0.49,2,  -170.9,2, -999.00,9,    37.9,2, -999.00,9,      19.89,2,     -999.0,9, -999.00,9, 20140422,      805, -37.6668,-149.9998,    34.8730,2,     -999.0,9,     -999.0,9,     -999.0,9,     -999.0,9,     -999.0,9,     -999.0,9
320620140320,       P16S,      56,          2,          1,         01,2,20140422,       0756,   -37.6668,  -149.9998,       5636,  5739.6,   1.1916,  34.7091,2,  34.7092,2,    203.7,2,   204.2,2,  119.93,2,   32.51,2,    0.00,2,    2.22,2,   0.046,2,   0.011,2,    0.06,2,  2264.3,6,  2368.5,2,   7.6772,2,       20,-999.000,9,-999.0000,9, -999.00,9,   1.1919,2,    0.49,2,  -165.5,2, -999.00,9,    37.1,2, -999.00,9,      19.22,2,     -999.0,9, -999.00,9, 20140422,      755, -37.6668,-149.9998,    34.8729,2,     -999.0,9,     -999.0,9,     -999.0,9,     -999.0,9,     -999.0,9,     -999.0,9