BOTTLE,20230715CCHSIOCBG
EXPOCODE,SECT_ID,STNNBR,CASTNO,SAMPNO,BTLNBR,BTLNBR_FLAG_W,DATE,TIME,LATITUDE,LONGITUDE,DEPTH,CTDPRS,CTDTMP,CTDSAL,CTDSAL_FLAG_W,SALNTY,SALNTY_FLAG_W,CTDOXY,CTDOXY_FLAG_W,OXYGEN,OXYGEN_FLAG_W,SILCAT,SILCAT_FLAG_W,NITRAT,NITRAT_FLAG_W,NITRIT,NITRIT_FLAG_W,PHSPHT,PHSPHT_FLAG_W,CFC-11,CFC-11_FLAG_W,CFC-12,CFC-12_FLAG_W,SF6,SF6_FLAG_W,TCARBN,TCARBN_FLAG_W,ALKALI,ALKALI_FLAG_W,PH_TOT,PH_TOT_FLAG_W,PH_TMP,TRITUM,TRITUM_FLAG_W,HELIUM,HELIUM_FLAG_W,DELHE3,DELHE3_FLAG_W,REFTMP,REFTMP_FLAG_W,DELC13,DELC13_FLAG_W,DELC14,DELC14_FLAG_W,DELO18,DELO18_FLAG_W,DOC,DOC_FLAG_W,TDN,TDN_FLAG_W,N2O,N2O_FLAG_W,CALCIUM,CALCIUM_FLAG_W,D15N_NO3,D15N_NO3_FLAG_W,BTL_DATE,BTL_TIME,BTL_LAT,BTL_LON,SALTREF,SALTREF_FLAG_W,D18O_NO3,D18O_NO3_FLAG_W,DSI30,DSI30_FLAG_W,CDOM_NASA,CDOM_NASA_FLAG_W,CDOM_UCSB,CDOM_UCSB_FLAG_W,D15N_NO2+NO3,D15N_NO2+NO3_FLAG_W,D18O_NO2+NO3,D18O_NO2+NO3_FLAG_W
,,,,,,,,,,,METERS,DBAR,ITS-90,PSS-78,,PSS-78,,UMOL/KG,,UMOL/KG,,UMOL/KG,,UMOL/KG,,UMOL/KG,,UMOL/KG,,PMOL/KG,,PMOL/KG,,FMOL/KG,,UMOL/KG,,UMOL/KG,,,,DEG C,TU,,NMOL/KG,,PERCNT,,DEG C,,/MILLE,,/MILLE,,/MILLE,,UMOL/KG,,UMOL/KG,,NMOL/KG,,MMOL/KG,,/MILLE,,,,,,G/KG,,/MILLE,,/MILLE,,,,,,/MILLE,,/MILLE,
320620140320,       P16S,      19,          1,          5,         05,2,20140407,       2016,   -60.9999,  -149.9996,       2688,  2399.9,   0.2727,  34.6977,2,  34.6967,2,    214.4,2,   214.9,2,  129.52,2,   32.71,2,    0.00,2,    2.27,2,   0.441,2,   0.225,2,    0.22,2,    2263,2,  2360.1,2,   7.6601,2,       20,-999.000,9,-999.0000,9, -999.00,9,   0.2726,2,    0.53,2,  -161.1,2, -999.00,9,    36.8,2, -999.00,9,      19.66,2,     -999.0,9, -999.00,9, 20140407,     2035, -61.0000,-149.9996,    34.8603,2,     -999.0,9,     -999.0,9,     -999.0,9,     -999.0,9,     -999.0,9,     -999.0,9
320620140320,       P16S,      19,          1,          4,         04,2,20140407,       2016,   -60.9999,  -149.9996,       2688,  2650.2,   0.2396,  34.6957,2,  34.6948,2,    216.1,2,   216.8,2,  128.94,2,   32.68,2,    0.00,2,    2.24,2,   0.584,2,   0.289,2,    0.21,2,  -999.0,9,  -999.0,9,-999.0000,9,  -999.00,-999.000,9,-999.0000,9, -999.00,9,   0.2403,2, -999.00,9,  -999.0,9, -999.00,9,    38.5,2, -999.00,9,      19.42,2,     -999.0,9, -999.00,9, 20140407,     2030, -61.0000,-149.9996,    34.8584,2,     -999.0,9,     -999.0,9,     -999.0,9,     -999.0,9,     -999.0,9,     -999.0,9
320620140320,       P16S,      19,          1,          3,         03,2,20140407,       2016,   -60.9999,  -149.9996,       2688,  2898.7,   0.2445,  34.6950,2,  34.6948,2,    216.1,2,   216.1,2,  129.03,2,   32.71,2,    0.00,2,    2.24,2,   0.664,2,   0.314,2,    0.24,2,  2263.8,2,  2360.3,6,    7.659,2,       20,-999.000,9,-999.0000,9, -999.00,9,   0.2451,2,    0.49,2,  -168.2,2, -999.00,9,    36.4,2, -999.00,9,      19.42,2,     -999.0,9, -999.00,9, 20140407,     2024, -60.9999,-149.9996,    34.8584,2,     -999.0,9,     -999.0,9,     -999.0,9,     -999.0,9,     -999.0,9,     -999.0,9
320620140320,       P16S,      19,          1,          2,         02,2,20140407,       2016,   -60.9999,  -149.9996,       2688,  3100.6,   0.2508,  34.6944,2,  34.6948,2,    216.4,2,   216.1,2,  129.23,2,   32.73,2,    0.00,2,    2.26,2,   0.620,2,   0.316,2,    0.21,2,  2262.7,2,  2359.8,2,   7.6588,6,       20,-999.000,9,-999.0000,9, -999.00,9,   0.2505,2,    0.55,2,  -162.3,2, -999.00,9,    38.4,2, -999.00,9,      19.38,2,     -999.0,9, -999.00,9, 20140407,     2020, -60.9999,-149.9996,    34.8584,2,     -999.0,9,     -999.0,9,     -999.0,9,     -999.0,9,     -999.0,9,     -999.0,9
320620140320,       P16S,      19,          1,          1,         01,2,20140407,       2016,   -60.9999,  -149.9996,       2688,  3278.9,   0.2641,  34.6943,2,  34.6948,2,    216.3,2,   216.3,2,  129.33,2,   32.64,2,    0.00,2,    2.25,2,   0.630,2,   0.317,2,    0.16,2,  2262.6,6,  2359.6,2,   7.6594,2,       20,-999.000,9,-999.0000,9, -999.00,9,   0.2640,2,    0.41,2,  -160.1,2, -999.00,9,    38.7,2, -999.00,9,      19.53,2,     -999.0,9, -999.00,9, 20140407,     2016, -60.9999,-149.9996,    34.8584,2,     -999.0,9,     -999.0,9,     -999.0,9,     -999.0,9,     -999.0,9,     -999.0,9
320620140320,       P16S,      20,          1,         24,         24,2,20140408,       0838,   -59.4998,  -149.9992,       2259,     6.8,   1.0746,  33.8306,2,  33.8284,2,    337.2,2,   337.5,2,   44.24,2,   24.25,2,    0.22,2,    1.65,2,   5.767,2,   3.003,2,    2.97,2,  2165.1,2,  2291.4,2,   7.7661,2,       20,-999.000,9,-999.0000,9, -999.00,9,   1.0742,2, -999.00,9,  -999.0,9, -999.00,9,  -999.0,9, -999.00,9,      15.71,2,     -999.0,9, -999.00,9, 20140408,      938, -59.4995,-149.9997,    33.9880,2,     -999.0,9,     -999.0,9,     -999.0,9,     -999.0,9,     -999.0,9,     -999.0,9
320620140320,       P16S,      20,          1,         23,         23,2,20140408,       0838,   -59.4998,  -149.9992,       2259,    24.4,   1.1010,  33.8431,2,  33.8400,2,    338.9,2,   337.1,2,   43.85,2,   24.33,2,    0.22,2,    1.67,2,   4.722,2,   2.964,2,    3.17,2,  2166.4,2,  2292.2,2,   7.7656,2,       20,-999.000,9,-999.0000,9, -999.00,9,   1.1015,2, -999.00,9,  -999.0,9, -999.00,9,  -999.0,9, -999.00,9,      15.79,2,     -999.0,9, -999.00,9, 20140408,      937, -59.4996,-149.9997,    33.9996,2,     -999.0,9,     -999.0,9,     -999.0,9,     -999.0,9,     -999.0,9,     -999.0,9
320620140320,       P16S,      20,          1,         22,         22,2,20140408,       0838,   -59.4998,  -149.9992,       2259,    50.0,   1.1570,  33.8683,2,  33.8700,2,    338.7,2,   336.8,2,   44.83,2,   24.52,2,    0.22,2,    1.67,2,   5.373,2,   2.990,2,    3.35,2,    2168,2,  2294.9,2,   7.7647,2,       20,-999.000,9,-999.0000,9, -999.00,9,   1.1573,2, -999.00,9,  -999.0,9, -999.00,9,  -999.0,9, -999.00,9,      15.45,2,     -999.0,9, -999.00,9, 20140408,      936, -59.4996,-149.9997,    34.0297,2,     -999.0,9,     -999.0,9,     -999.0,9,     -999.0,9,     -999.0,9,     -999.0,9
320620140320,       P16S,      20,          1,         21,         21,2,20140408,       0838,   -59.4998,  -149.9992,       2259,    75.7,   0.9309,  33.8984,2,  33.9015,2,    336.4,2,   333.0,2,   46.88,2,   24.99,2,    0.22,2,    1.75,2,   5.884,2,   2.989,2,    3.13,2,  2172.8,2,  2295.9,2,   7.7559,2,       20,-999.000,9,-999.0000,9, -999.00,9,   0.9354,2, -999.00,9,  -999.0,9, -999.00,9,  -999.0,9, -999.00,9,      15.63,2,     -999.0,9, -999.00,9, 20140408,      934, -59.4996,-149.9997,    34.0613,2,     -999.0,9,     -999.0,9,     -999.0,9,     -999.0,9,     -999.0,9,     -999.0,9
320620140320,       P16S,      20,          1,         20,         20,2,20140408,       0838,   -59.4998,  -149.9992,       2259,    99.7,  -1.2558,  34.2169,2,  34.2252,2,    297.8,2,   297.3,2,   71.37,2,   29.94,2,    0.25,2,    2.16,2,   4.775,2,   2.395,2,    2.42,2,  2216.9,2,  2313.9,2,   7.6683,2,       20,-999.000,9,-999.0000,9, -999.00,9,  -1.2578,2, -999.00,9,  -999.0,9, -999.00,9,  -999.0,9, -999.00,9,      19.70,2,     -999.0,9, -999.00,9, 20140408,      933, -59.4997,-149.9996,    34.3866,2,     -999.0,9,     -999.0,9,     -999.0,9,     -999.0,9,     -999.0,9,     -999.0,9
320620140320,       P16S,      20,          1,         19,         19,2,20140408,       0838,   -59.4998,  -149.9992,       2259,   148.8,  -0.3993,  34.3916,2,  34.3894,2,    265.9,2,   254.3,2,   76.93,2,   31.66,2,    0.07,2,    2.21,2,   2.888,2,   1.672,2,    1.63,2,  2232.6,2,  2323.5,2,   7.6467,2,       20,-999.000,9,-999.0000,9, -999.00,9,  -0.4038,2, -999.00,9,  -999.0,9, -999.00,9,  -999.0,9, -999.00,9,      20.58,2,     -999.0,9, -999.00,9, 20140408,      931, -59.4996,-149.9996,    34.5516,2,     -999.0,9,     -999.0,9,     -999.0,9,     -999.0,9,     -999.0,9,     -999.0,9
320620140320,       P16S,      20,          1,         18,         18,2,20140408,       0838,   -59.4998,  -149.9992,       2259,   199.9,   0.5485,  34.5638,2,  34.5600,2,    215.8,2,   216.8,2,   86.78,2,   32.42,2,    0.03,2,    2.25,2,   1.636,2,   0.927,2,    0.91,2,  2248.3,2,    2335,6,   7.6335,2,       20,-999.000,9,-999.0000,9, -999.00,9,   0.5456,2, -999.00,9,  -999.0,9, -999.00,9,  -999.0,9, -999.00,9,      21.70,2,     -999.0,9, -999.00,9, 20140408,      929, -59.4995,-149.9996,    34.7230,2,     -999.0,9,     -999.0,9,     -999.0,9,     -999.0,9,     -999.0,9,     -999.0,9
320620140320,       P16S,      20,          1,         17,         17,2,20140408,       0838,   -59.4998,  -149.9992,       2259,   249.9,   1.3308,  34.6748,2,  34.6706,2,    193.2,2,   191.0,2,   90.77,2,   32.43,2,    0.02,2,    2.24,2,   0.760,2,   0.397,2,    0.42,2,  2255.5,6,  2343.4,2,   7.6355,2,       20,-999.000,9,-999.0000,9, -999.00,9,   1.3291,2, -999.00,9,  -999.0,9, -999.00,9,  -999.0,9, -999.00,9,      21.55,2,     -999.0,9, -999.00,9, 20140408,      927, -59.4996,-149.9995,    34.8341,2,     -999.0,9,     -999.0,9,     -999.0,9,     -999.0,9,     -999.0,9,     -999.0,9
320620140320,       P16S,      20,          1,         16,         16,2,20140408,       0838,   -59.4998,  -149.9992,       2259,   301.6,   1.4918,  34.7133,2,  34.7133,2,    187.9,2,   188.3,2,   94.09,2,   32.06,2,    0.01,2,    2.22,2,   0.404,2,   0.222,2,    0.14,2,    2256,2,  2347.2,2,   7.6444,2,       20,-999.000,9,-999.0000,9, -999.00,9,   1.4918,2, -999.00,9,  -999.0,9, -999.00,9,  -999.0,9, -999.00,9,      21.20,2,     -999.0,9, -999.00,9, 20140408,      925, -59.4996,-149.9995,    34.8769,2,     -999.0,9,     -999.0,9,     -999.0,9,     -999.0,9,     -999.0,9,     -999.0,9
320620140320,       P16S,      20,          1,         15,         15,2,20140408,       0838,   -59.4998,  -149.9992,       2259,   350.6,   1.4691,  34.7205,2,  34.7203,2,    188.6,2,   189.0,2,   95.65,2,   31.99,2,    0.01,2,    2.21,2,   0.324,2,   0.192,2,    0.05,2,    2256,2,  2348.4,2,   7.6482,2,       20,-999.000,9,-999.0000,9, -999.00,9,   1.4693,2, -999.00,9,  -999.0,9, -999.00,9,  -999.0,9, -999.00,9,      20.99,2,     -999.0,9, -999.00,9, 20140408,      923, -59.4996,-149.9995,    34.8841,2,     -999.0,9,     -999.0,9,     -999.0,9,     -999.0,9,     -999.0,9,     -999.0,9
320620140320,       P16S,      20,          1,         14,         14,2,20140408,       0838,   -59.4998,  -149.9992,       2259,   400.0,   1.4387,  34.7237,2,  34.7186,2,    189.7,2,   189.7,2,   97.40,2,   31.95,2,    0.00,2,    2.21,2,   0.339,2,   0.167,2,    0.10,2,  2256.2,2,  2350.2,2,   7.6504,2,       20,-999.000,9,-999.0000,9, -999.00,9,   1.4389,2, -999.00,9,  -999.0,9, -999.00,9,  -999.0,9, -999.00,9,      20.68,2,     -999.0,9, -999.00,9, 20140408,      922, -59.4996,-149.9995,    34.8823,2,     -999.0,9,     -999.0,9,     -999.0,9,     -999.0,9,     -999.0,9,     -999.0,9
320620140320,       P16S,      20,          1,         13,         13,2,20140408,       0838,   -59.4998,  -149.9992,       2259,   499.0,   1.3795,  34.7276,2,  34.7270,2,    192.3,2,   192.4,2,   99.84,2,   31.79,2,    0.00,2,    2.20,2,   0.275,2,   0.140,2,    0.04,2,  2255.7,2,  2352.4,2,   7.6563,2,       20,-999.000,9,-999.0000,9, -999.00,9,   1.3800,2, -999.00,9,  -999.0,9, -999.00,9,  -999.0,9, -999.00,9,      20.60,2,     -999.0,9, -999.00,9, 20140408,      919, -59.4996,-149.9995,    34.8908,2,     -999.0,9,     -999.0,9,     -999.0,9,     -999.0,9,     -999.0,9,     -999.0,9
320620140320,       P16S,      20,          1,         12,         12,2,20140408,       0838,   -59.4998,  -149.9992,       2259,   649.9,   1.2627,  34.7273,2,  34.7272,2,    194.7,2,   194.9,2,  103.65,2,   31.81,2,    0.00,2,    2.19,2,   0.194,2,   0.111,2,    0.07,2,  2257.2,2,    2355,2,   7.6593,2,       20,-999.000,9,-999.0000,9, -999.00,9,   1.2631,2, -999.00,9,  -999.0,9, -999.00,9,  -999.0,9, -999.00,9,      20.46,2,     -999.0,9, -999.00,9, 20140408,      916, -59.4996,-149.9995,    34.8910,2,     -999.0,9,     -999.0,9,     -999.0,9,     -999.0,9,     -999.0,9,     -999.0,9
320620140320,       P16S,      20,          1,         11,         11,2,20140408,       0838,   -59.4998,  -149.9992,       2259,   801.3,   1.1501,  34.7242,2,  34.7246,2,    197.2,2,   196.7,2,  108.24,2,   31.87,2,    0.00,2,    2.20,2,   0.173,2,   0.098,2,    0.10,2,  2258.4,2,  2356.8,2,   7.6625,2,       20,-999.000,9,-999.0000,9, -999.00,9,   1.1509,2, -999.00,9,  -999.0,9, -999.00,9,  -999.0,9, -999.00,9,      19.99,2,     -999.0,9, -999.00,9, 20140408,      912, -59.4997,-149.9995,    34.8884,2,     -999.0,9,     -999.0,9,     -999.0,9,     -999.0,9,     -999.0,9,     -999.0,9
320620140320,       P16S,      20,          1,         10,         10,2,20140408,       0838,   -59.4998,  -149.9992,       2259,   949.5,   1.0451,  34.7209,2,  34.7209,2,    195.7,2,   196.1,2,  112.92,2,   32.16,2,    0.00,2,    2.22,2,   0.132,6,   0.077,6,    0.09,2,  2261.5,2,  2358.4,2,   7.6572,2,       20,-999.000,9,-999.0000,9, -999.00,9,   1.0453,2, -999.00,9,  -999.0,9, -999.00,9,  -999.0,9, -999.00,9,      20.74,6,     -999.0,9, -999.00,9, 20140408,      909, -59.4997,-149.9994,    34.8846,2,     -999.0,9,     -999.0,9,     -999.0,9,     -999.0,9,     -999.0,9,     -999.0,9
320620140320,       P16S,      20,          1,          9,         09,2,20140408,       0838,   -59.4998,  -149.9992,       2259,  1100.1,   0.9346,  34.7169,2,  34.7166,2,    198.4,2,   198.4,2,  116.73,2,   32.38,2,    0.00,2,    2.24,2,   0.127,2,   0.070,2,    0.09,2,  2261.4,2,  2359.7,2,   7.6597,2,       20,-999.000,9,-999.0000,9, -999.00,9,   0.9345,2, -999.00,9,  -999.0,9, -999.00,9,  -999.0,9, -999.00,9,      20.52,2,     -999.0,9, -999.00,9, 20140408,      906, -59.4997,-149.9993,    34.8803,2,     -999.0,9,     -999.0,9,     -999.0,9,     -999.0,9,     -999.0,9,     -999.0,9
320620140320,       P16S,      20,          1,          8,         08,2,20140408,       0838,   -59.4998,  -149.9992,       2259,  1250.5,   0.8292,  34.7124,2,  34.7131,2,    202.6,2,   202.4,2,  119.66,2,   32.27,2,    0.00,2,    2.23,2,   0.167,2,   0.086,2,    0.00,2,  2261.1,2,  2361.1,2,   7.6629,2,       20,-999.000,9,-999.0000,9, -999.00,9,   0.8280,2, -999.00,9,  -999.0,9, -999.00,9,  -999.0,9, -999.00,9,      20.09,2,     -999.0,9, -999.00,9, 20140408,      902, -59.4996,-149.9994,    34.8767,2,     -999.0,9,     -999.0,9,     -999.0,9,     -999.0,9,     -999.0,9,     -999.0,9
320620140320,       P16S,      20,          1,          7,         07,2,20140408,       0838,   -59.4998,  -149.9992,       2259,  1299.2,   0.7976,  34.7115,2,  34.7115,2,    202.8,2,   202.5,2,  121.02,2,   32.31,2,    0.00,2,    2.24,2,   0.153,2,   0.081,2,    0.07,2,  2261.4,2,  2361.6,2,    7.662,2,       20,-999.000,9,-999.0000,9, -999.00,9,   0.7976,2, -999.00,9,  -999.0,9, -999.00,9,  -999.0,9, -999.00,9,      20.14,2,     -999.0,9, -999.00,9, 20140408,      900, -59.4996,-149.9993,    34.8752,2,     -999.0,9,     -999.0,9,     -999.0,9,     -999.0,9,     -999.0,9,     -999.0,9
320620140320,       P16S,      20,          1,          6,         06,2,20140408,       0838,   -59.4998,  -149.9992,       2259,  1449.3,   0.7353,  34.7093,2,  34.7091,2,    205.5,2,   205.3,2,  124.44,2,   32.30,2,    0.00,2,    2.24,2,   0.184,2,   0.097,2,    0.04,2,  2261.4,2,  2361.8,2,   7.6667,2,       20,-999.000,9,-999.0000,9, -999.00,9,   0.7358,2, -999.00,9,  -999.0,9, -999.00,9,  -999.0,9, -999.00,9,      20.43,2,     -999.0,9, -999.00,9, 20140408,      857, -59.4996,-149.9993,    34.8728,2,     -999.0,9,     -999.0,9,     -999.0,9,     -999.0,9,     -999.0,9,     -999.0,9
320620140320,       P16S,      20,          1,          5,         05,2,20140408,       0838,   -59.4998,  -149.9992,       2259,  1598.7,   0.6937,  34.7069,2,  34.7075,2,    206.8,2,   206.3,2,  128.05,2,   32.42,2,    0.00,2,    2.24,2,   0.185,2,   0.099,2,    0.03,2,  2262.7,2,  2362.3,2,   7.6673,2,       20,-999.000,9,-999.0000,9, -999.00,9,   0.6932,2, -999.00,9,  -999.0,9, -999.00,9,  -999.0,9, -999.00,9,      19.68,2,     -999.0,9, -999.00,9, 20140408,      853, -59.4996,-149.9993,    34.8712,2,     -999.0,9,     -999.0,9,     -999.0,9,     -999.0,9,     -999.0,9,     -999.0,9
320620140320,       P16S,      20,          1,          4,         04,2,20140408,       0838,   -59.4998,  -149.9992,       2259,  1749.8,   0.6664,  34.7058,2,  34.7064,2,    206.6,2,   206.3,2,  130.69,2,   32.46,2,    0.00,2,    2.24,2,   0.188,2,   0.096,2,    0.06,2,  2262.7,2,  2363.8,2,   7.6669,2,       20,-999.000,9,-999.0000,9, -999.00,9,   0.6659,2, -999.00,9,  -999.0,9, -999.00,9,  -999.0,9, -999.00,9,      20.04,2,     -999.0,9, -999.00,9, 20140408,      850, -59.4997,-149.9993,    34.8700,2,     -999.0,9,     -999.0,9,     -999.0,9,     -999.0,9,     -999.0,9,     -999.0,9
320620140320,       P16S,      20,          1,          3,         03,2,20140408,       0838,   -59.4998,  -149.9992,       2259,  1897.8,   0.6398,  34.7050,2,  34.7052,2,    206.7,2,   207.3,2,  129.91,2,   32.50,2,    0.00,2,    2.24,2,   0.179,2,   0.118,2,    0.06,2,  2262.6,2,    2363,6,   7.6639,2,       20,-999.000,9,-999.0000,9, -999.00,9,   0.6399,2, -999.00,9,  -999.0,9, -999.00,9,  -999.0,9, -999.00,9,      19.91,2,     -999.0,9, -999.00,9, 20140408,      846, -59.4997,-149.9993,    34.8688,2,     -999.0,9,     -999.0,9,     -999.0,9,     -999.0,9,     -999.0,9,     -999.0,9
320620140320,       P16S,      20,          1,          2,         02,2,20140408,       0838,   -59.4998,  -149.9992,       2259,  2111.0,   0.5883,  34.7027,2,  34.7032,2,    207.0,2,   207.8,2,  129.52,2,   32.58,2,    0.00,2,    2.25,2,   0.278,2,   0.153,2,    0.07,2,  2261.9,2,  2361.8,2,   7.6623,6,       20,-999.000,9,-999.0000,9, -999.00,9,   0.5877,2, -999.00,9,  -999.0,9, -999.00,9,  -999.0,9, -999.00,9,      20.06,2,     -999.0,9, -999.00,9, 20140408,      842, -59.4997,-149.9992,    34.8669,2,     -999.0,9,     -999.0,9,     -999.0,9,     -999.0,9,     -999.0,9,     -999.0,9
320620140320,       P16S,      20,          1,          1,         01,2,20140408,       0838,   -59.4998,  -149.9992,       2259,  2284.3,   0.5082,  34.7010,2,  34.7011,2,    209.3,2,   209.0,2,  130.10,2,   32.59,2,    0.00,2,    2.26,2,   0.275,2,   0.175,2,    0.09,2,  2262.7,6,  2360.9,2,   7.6604,2,       20,-999.000,9,-999.0000,9, -999.00,9,   0.5072,2, -999.00,9,  -999.0,9, -999.00,9,  -999.0,9, -999.00,9,      20.12,2,     -999.0,9, -999.00,9, 20140408,      838, -59.4998,-149.9992,    34.8647,2,     -999.0,9,     -999.0,9,     -999.0,9,     -999.0,9,     -999.0,9,     -999.0,9