BOTTLE,20230715CCHSIOCBG
EXPOCODE,SECT_ID,STNNBR,CASTNO,SAMPNO,BTLNBR,BTLNBR_FLAG_W,DATE,TIME,LATITUDE,LONGITUDE,DEPTH,CTDPRS,CTDTMP,CTDSAL,CTDSAL_FLAG_W,SALNTY,SALNTY_FLAG_W,CTDOXY,CTDOXY_FLAG_W,OXYGEN,OXYGEN_FLAG_W,SILCAT,SILCAT_FLAG_W,NITRAT,NITRAT_FLAG_W,NITRIT,NITRIT_FLAG_W,PHSPHT,PHSPHT_FLAG_W,CFC-11,CFC-11_FLAG_W,CFC-12,CFC-12_FLAG_W,SF6,SF6_FLAG_W,TCARBN,TCARBN_FLAG_W,ALKALI,ALKALI_FLAG_W,PH_TOT,PH_TOT_FLAG_W,PH_TMP,TRITUM,TRITUM_FLAG_W,HELIUM,HELIUM_FLAG_W,DELHE3,DELHE3_FLAG_W,REFTMP,REFTMP_FLAG_W,DELC13,DELC13_FLAG_W,DELC14,DELC14_FLAG_W,DELO18,DELO18_FLAG_W,DOC,DOC_FLAG_W,TDN,TDN_FLAG_W,N2O,N2O_FLAG_W,CALCIUM,CALCIUM_FLAG_W,D15N_NO3,D15N_NO3_FLAG_W,BTL_DATE,BTL_TIME,BTL_LAT,BTL_LON,SALTREF,SALTREF_FLAG_W,D18O_NO3,D18O_NO3_FLAG_W,DSI30,DSI30_FLAG_W,CDOM_NASA,CDOM_NASA_FLAG_W,CDOM_UCSB,CDOM_UCSB_FLAG_W,D15N_NO2+NO3,D15N_NO2+NO3_FLAG_W,D18O_NO2+NO3,D18O_NO2+NO3_FLAG_W
,,,,,,,,,,,METERS,DBAR,ITS-90,PSS-78,,PSS-78,,UMOL/KG,,UMOL/KG,,UMOL/KG,,UMOL/KG,,UMOL/KG,,UMOL/KG,,PMOL/KG,,PMOL/KG,,FMOL/KG,,UMOL/KG,,UMOL/KG,,,,DEG C,TU,,NMOL/KG,,PERCNT,,DEG C,,/MILLE,,/MILLE,,/MILLE,,UMOL/KG,,UMOL/KG,,NMOL/KG,,MMOL/KG,,/MILLE,,,,,,G/KG,,/MILLE,,/MILLE,,,,,,/MILLE,,/MILLE,
320620140320,       P16S,      88,          1,         36,         36,2,20140503,       1536,   -16.3333,  -150.0002,       4251,     4.6,  28.2623,  35.3128,2,  35.3142,2,    196.2,2,   196.3,2,    0.78,2,    0.02,2,    0.01,2,    0.19,2,   1.428,2,   0.867,2,    1.27,2,  1971.5,2,  2325.2,6,   8.2066,2,       20,-999.000,9,-999.0000,9, -999.00,9,  28.2630,2,    1.47,2,    37.1,2, -999.00,9,    74.5,2,    3.73,2,       6.00,2,     -999.0,9, -999.00,9, 20140503,     1733, -16.3332,-150.0002,    35.4808,2,     -999.0,9,     -999.0,9,     -999.0,9,     -999.0,9,     -999.0,9,     -999.0,9
320620140320,       P16S,      88,          1,         35,         35,2,20140503,       1536,   -16.3333,  -150.0002,       4251,    34.5,  28.2405,  35.3673,2,  35.3710,2,    196.3,2,   196.5,2,    0.88,2,    0.00,2,    0.01,2,    0.19,2,   1.446,2,   0.883,2,    1.42,2,  1975.1,6,  2329.2,2,   8.2053,2,       20,-999.000,9,-999.0000,9, -999.00,9,  28.2401,2,    1.46,2,    35.7,2, -999.00,9,    74.1,2,     3.7,2,       5.69,2,     -999.0,9, -999.00,9, 20140503,     1730, -16.3332,-150.0002,    35.5377,2,     -999.0,9,     -999.0,9,     -999.0,9,     -999.0,9,     -999.0,9,     -999.0,9
320620140320,       P16S,      88,          1,         34,         34,2,20140503,       1536,   -16.3333,  -150.0002,       4251,    60.0,  27.7659,  35.8538,2,  35.8463,2,    200.2,2,   202.0,2,    0.98,2,    0.00,2,    0.00,2,    0.21,2,-999.000,9,-999.000,9, -999.00,9,  2008.2,2,    2360,2,   8.1901,2,       20,-999.000,9,-999.0000,9, -999.00,9,  27.7573,2,    1.43,2,    37.7,2, -999.00,9,    71.7,2,     3.8,2,     -999.0,9,     -999.0,9, -999.00,9, 20140503,     1729, -16.3333,-150.0002,    36.0154,2,     -999.0,9,     -999.0,9,     -999.0,9,     -999.0,9,     -999.0,9,     -999.0,9
320620140320,       P16S,      88,          1,         33,         33,2,20140503,       1536,   -16.3333,  -150.0002,       4251,    84.6,  26.9517,  36.0631,2,  36.0700,2,    203.1,2,   203.1,2,    0.88,2,    0.00,2,    0.00,2,    0.23,2,-999.000,9,-999.000,9, -999.00,9,  2029.7,2,  2375.8,2,   8.1768,2,       20,-999.000,9,-999.0000,9, -999.00,9,  26.9518,2,    1.40,2,    37.6,2, -999.00,9,    71.4,2,    4.35,2,     -999.0,9,     -999.0,9, -999.00,9, 20140503,     1727, -16.3332,-150.0002,    36.2401,2,     -999.0,9,     -999.0,9,     -999.0,9,     -999.0,9,     -999.0,9,     -999.0,9
320620140320,       P16S,      88,          1,         32,         32,2,20140503,       1536,   -16.3333,  -150.0002,       4251,   110.0,  25.1654,  36.1677,2,  36.1662,2,    200.0,2,   199.6,2,    0.88,2,    0.08,2,    0.24,2,    0.23,2,   1.714,2,   1.044,2,    1.40,2,  2050.7,2,  2380.5,2,   8.1507,2,       20,-999.000,9,-999.0000,9, -999.00,9,  25.2602,3,    1.21,2,    46.7,2, -999.00,9,    68.3,2,    4.34,2,       6.86,2,     -999.0,9, -999.00,9, 20140503,     1726, -16.3333,-150.0002,    36.3368,2,     -999.0,9,     -999.0,9,     -999.0,9,     -999.0,9,     -999.0,9,     -999.0,9
320620140320,       P16S,      88,          1,         31,         31,2,20140503,       1536,   -16.3333,  -150.0002,       4251,   134.9,  24.0149,  36.1254,2,  36.1245,2,    196.8,2,   197.0,2,    0.78,2,    0.36,2,    0.15,2,    0.23,2,-999.000,9,-999.000,9, -999.00,9,  -999.0,9,  -999.0,9,-999.0000,9,  -999.00,-999.000,9,-999.0000,9, -999.00,9,  24.0103,2, -999.00,9,  -999.0,9, -999.00,9,    63.6,2,    4.71,2,     -999.0,9,     -999.0,9, -999.00,9, 20140503,     1724, -16.3333,-150.0002,    36.2948,2,     -999.0,9,     -999.0,9,     -999.0,9,     -999.0,9,     -999.0,9,     -999.0,9
320620140320,       P16S,      88,          1,         30,         30,2,20140503,       1536,   -16.3333,  -150.0002,       4251,   163.8,  23.1062,  36.1088,2,  36.1011,2,    189.8,2,   189.9,2,    0.69,2,    1.04,2,    0.03,2,    0.26,2,-999.000,9,-999.000,9, -999.00,9,  2068.2,2,  2373.5,2,   8.1106,2,       20,-999.000,9,-999.0000,9, -999.00,9,  23.1119,2,    1.00,2,    51.2,2, -999.00,9,    60.4,2,    4.95,2,     -999.0,9,     -999.0,9, -999.00,9, 20140503,     1722, -16.3333,-150.0002,    36.2713,2,     -999.0,9,     -999.0,9,     -999.0,9,     -999.0,9,     -999.0,9,     -999.0,9
320620140320,       P16S,      88,          1,         29,         29,2,20140503,       1536,   -16.3333,  -150.0002,       4251,   215.4,  21.5653,  35.9691,2,  35.9593,2,    181.6,2,   182.0,2,    0.78,2,    2.73,2,    0.02,2,    0.37,2,   1.978,6,   1.168,6,    1.30,6,    2087,2,  2362.7,2,   8.0606,2,       20,-999.000,9,-999.0000,9, -999.00,9,  21.5646,2,    0.91,2,    58.5,2, -999.00,9,    52.5,2,    5.62,2,       7.92,6,     -999.0,9, -999.00,9, 20140503,     1720, -16.3333,-150.0002,    36.1288,2,     -999.0,9,     -999.0,9,     -999.0,9,     -999.0,9,     -999.0,9,     -999.0,9
320620140320,       P16S,      88,          1,         28,         28,2,20140503,       1536,   -16.3333,  -150.0002,       4251,   264.9,  18.9092,  35.5865,2,  35.5704,2,    178.1,2,   179.5,2,    1.27,2,    4.89,2,    0.01,2,    0.51,2,   2.249,2,   1.309,2,    1.30,2,  -999.0,9,  -999.0,9,-999.0000,9,  -999.00,-999.000,9,-999.0000,9, -999.00,9,  18.9362,3, -999.00,9,  -999.0,9, -999.00,9,    50.9,2,    6.05,2,      10.16,2,     -999.0,9, -999.00,9, 20140503,     1718, -16.3333,-150.0002,    35.7381,2,     -999.0,9,     -999.0,9,     -999.0,9,     -999.0,9,     -999.0,9,     -999.0,9
320620140320,       P16S,      88,          1,         27,         27,2,20140503,       1536,   -16.3333,  -150.0002,       4251,   313.8,  15.9384,  35.1653,2,  35.1609,2,    168.4,2,   168.3,2,    3.04,2,    9.32,2,    0.01,2,    0.83,2,-999.000,9,-999.000,9, -999.00,9,  2118.2,2,  2315.3,2,    7.922,2,       20,-999.000,9,-999.0000,9, -999.00,9,  15.9748,3,    0.65,2,    54.5,2, -999.00,9,    47.7,2,   11.68,2,     -999.0,9,     -999.0,9, -999.00,9, 20140503,     1716, -16.3333,-150.0002,    35.3267,2,     -999.0,9,     -999.0,9,     -999.0,9,     -999.0,9,     -999.0,9,     -999.0,9
320620140320,       P16S,      88,          1,         26,         26,2,20140503,       1536,   -16.3333,  -150.0002,       4251,   364.6,  13.8940,  34.9098,2,  34.9095,2,    154.5,2,   155.2,2,    5.49,2,   13.60,2,    0.01,2,    1.16,2,   2.447,2,   1.294,2,    1.12,2,  -999.0,9,  -999.0,9,-999.0000,9,  -999.00,-999.000,9,-999.0000,9, -999.00,9,  13.8957,2, -999.00,9,  -999.0,9, -999.00,9,  -999.0,5,   16.52,2,      20.50,2,     -999.0,9, -999.00,9, 20140503,     1714, -16.3333,-150.0002,    35.0741,2,     -999.0,9,     -999.0,9,     -999.0,9,     -999.0,9,     -999.0,9,     -999.0,9
320620140320,       P16S,      88,          1,         25,         25,2,20140503,       1536,   -16.3333,  -150.0002,       4251,   414.9,  11.9286,  34.7122,2,  34.7095,2,    145.4,2,   144.6,2,    8.42,2,   18.07,2,    0.01,2,    1.46,2,-999.000,9,-999.000,9, -999.00,9,  2156.5,2,  2291.8,2,   7.7788,2,       20,-999.000,9,-999.0000,9, -999.00,9,  11.9235,2,    0.86,2,    33.0,2, -999.00,9,    45.4,2,   20.86,2,     -999.0,9,     -999.0,9, -999.00,9, 20140503,     1712, -16.3333,-150.0002,    34.8732,2,     -999.0,9,     -999.0,9,     -999.0,9,     -999.0,9,     -999.0,9,     -999.0,9
320620140320,       P16S,      88,          1,         24,         24,2,20140503,       1536,   -16.3333,  -150.0002,       4251,   464.6,   9.4848,  34.5323,2,  34.5305,2,    139.7,2,   140.3,2,   13.32,2,   24.13,2,    0.02,2,    1.82,2,   1.753,2,   0.863,2,    0.90,2,  -999.0,9,  -999.0,9,-999.0000,9,  -999.00,-999.000,9,-999.0000,9, -999.00,9,   9.4478,3, -999.00,9,  -999.0,9, -999.00,9,    43.1,2,   26.06,2,      29.51,2,     -999.0,9, -999.00,9, 20140503,     1710, -16.3333,-150.0002,    34.6933,2,     -999.0,9,     -999.0,9,     -999.0,9,     -999.0,9,     -999.0,9,     -999.0,9
320620140320,       P16S,      88,          1,         23,         23,2,20140503,       1536,   -16.3333,  -150.0002,       4251,   534.3,   7.8037,  34.4940,2,  34.4943,2,    130.5,2,   130.3,2,   23.12,2,   29.15,2,    0.02,2,    2.13,2,-999.000,9,-999.000,9, -999.00,9,  2204.3,2,  2292.9,2,   7.6496,2,       20,-999.000,9,-999.0000,9, -999.00,9,   7.8020,2,    0.81,2,   -54.5,2, -999.00,9,    48.2,3,   31.18,2,     -999.0,9,     -999.0,9, -999.00,9, 20140503,     1708, -16.3333,-150.0002,    34.6570,2,     -999.0,9,     -999.0,9,     -999.0,9,     -999.0,9,     -999.0,9,     -999.0,9
320620140320,       P16S,      88,          1,         22,         22,2,20140503,       1536,   -16.3333,  -150.0002,       4251,   634.6,   6.3069,  34.4436,2,  34.4426,2,    143.2,2,   143.7,2,   31.06,2,   31.60,2,    0.02,2,    2.23,2,   0.578,2,   0.227,2,    0.01,2,    2213,2,    2300,2,   7.6435,2,       20,-999.000,9,-999.0000,9, -999.00,9,   6.2946,2,    0.86,2,   -80.8,2, -999.00,9,    41.7,2, -999.00,9,      29.42,2,     -999.0,9, -999.00,9, 20140503,     1705, -16.3333,-150.0002,    34.6050,2,     -999.0,9,     -999.0,9,     -999.0,9,     -999.0,9,     -999.0,9,     -999.0,9
320620140320,       P16S,      88,          1,         21,         21,2,20140503,       1536,   -16.3333,  -150.0002,       4251,   735.0,   5.4630,  34.4556,2,  34.4528,2,    142.4,2,   142.5,2,   42.43,2,   33.23,2,    0.02,2,    2.34,2,   0.263,2,   0.097,2,    0.04,2,  2226.2,2,  2310.3,2,   7.6335,2,       20,-999.000,9,-999.0000,9, -999.00,9,   5.4606,2,    0.82,2,  -111.9,2, -999.00,9,    39.9,2, -999.00,9,      29.04,2,     -999.0,9, -999.00,9, 20140503,     1702, -16.3333,-150.0002,    34.6153,2,     -999.0,9,     -999.0,9,     -999.0,9,     -999.0,9,     -999.0,9,     -999.0,9
320620140320,       P16S,      88,          1,         20,         20,2,20140503,       1536,   -16.3333,  -150.0002,       4251,   835.4,   4.8256,  34.4751,2,  34.4748,2,    141.7,2,   141.9,2,   53.69,2,   34.26,2,    0.02,2,    2.40,2,   0.105,2,   0.044,2,    0.00,2,  2239.8,2,  2322.3,2,   7.6291,2,       20,-999.000,9,-999.0000,9, -999.00,9,   4.8059,2,    0.63,2,  -127.1,2, -999.00,9,    40.3,2, -999.00,9,      25.38,2,     -999.0,9, -999.00,9, 20140503,     1659, -16.3333,-150.0002,    34.6373,2,     -999.0,9,     -999.0,9,     -999.0,9,     -999.0,9,     -999.0,9,     -999.0,9
320620140320,       P16S,      88,          1,         19,         19,2,20140503,       1536,   -16.3333,  -150.0002,       4251,   935.0,   4.2587,  34.4968,2,  34.4963,2,    140.7,2,   140.6,2,   64.76,2,   34.90,2,    0.02,2,    2.45,2,   0.049,2,   0.009,2,    0.02,2,  2252.5,2,  2333.3,2,   7.6234,2,       20,-999.000,9,-999.0000,9, -999.00,9,   4.2568,2,    0.56,2,  -152.1,2, -999.00,9,    38.9,2, -999.00,9,      27.35,2,     -999.0,9, -999.00,9, 20140503,     1656, -16.3333,-150.0002,    34.6590,2,     -999.0,9,     -999.0,9,     -999.0,9,     -999.0,9,     -999.0,9,     -999.0,9
320620140320,       P16S,      88,          1,         18,         18,2,20140503,       1536,   -16.3333,  -150.0002,       4251,  1034.5,   3.8306,  34.5170,2,  34.5165,2,    140.8,2,   140.7,2,   73.48,2,   35.41,2,    0.02,2,    2.49,2,   0.020,2,   0.000,2,    0.00,2,    2263,2,    2343,2,    7.621,2,       20,-999.000,9,-999.0000,9, -999.00,9,   3.8235,2, -999.00,5,  -999.0,5, -999.00,9,    37.5,2, -999.00,9,      25.96,2,     -999.0,9, -999.00,9, 20140503,     1653, -16.3333,-150.0002,    34.6793,2,     -999.0,9,     -999.0,9,     -999.0,9,     -999.0,9,     -999.0,9,     -999.0,9
320620140320,       P16S,      88,          1,         17,         17,2,20140503,       1536,   -16.3333,  -150.0002,       4251,  1134.2,   3.4718,  34.5359,2,  34.5351,2,    141.0,2,   141.6,2,   80.73,2,   35.57,2,    0.02,2,    2.50,2,   0.009,2,   0.000,2,    0.01,2,    2270,2,  2351.9,2,   7.6217,2,       20,-999.000,9,-999.0000,9, -999.00,9,   3.4713,2,    0.66,2,  -166.2,2, -999.00,9,    37.8,2, -999.00,9,      26.49,2,     -999.0,9, -999.00,9, 20140503,     1650, -16.3333,-150.0002,    34.6980,2,     -999.0,9,     -999.0,9,     -999.0,9,     -999.0,9,     -999.0,9,     -999.0,9
320620140320,       P16S,      88,          1,         16,         16,2,20140503,       1536,   -16.3333,  -150.0002,       4251,  1234.1,   3.2453,  34.5490,2,  34.5483,2,    142.5,2,   142.7,2,   85.33,2,   35.76,2,    0.02,2,    2.50,2,   0.006,2,   0.000,2,    0.01,2,  -999.0,9,  -999.0,9,-999.0000,9,  -999.00,-999.000,9,-999.0000,9, -999.00,9,   3.2447,2, -999.00,9,  -999.0,9, -999.00,9,    39.3,2, -999.00,9,      26.12,2,     -999.0,9, -999.00,9, 20140503,     1647, -16.3333,-150.0002,    34.7112,2,     -999.0,9,     -999.0,9,     -999.0,9,     -999.0,9,     -999.0,9,     -999.0,9
320620140320,       P16S,      88,          1,         15,         15,2,20140503,       1536,   -16.3333,  -150.0002,       4251,  1334.7,   3.0558,  34.5626,2,  34.5614,2,    143.7,2,   143.1,2,   90.62,2,   35.79,2,    0.02,2,    2.52,2,   0.003,2,   0.000,2,    0.00,2,  2279.9,2,  2362.3,2,   7.6225,2,       20,-999.000,9,-999.0000,9, -999.00,9,   3.0533,2,    0.34,2,  -204.2,2, -999.00,9,    37.3,2, -999.00,9,      25.46,2,     -999.0,9, -999.00,9, 20140503,     1644, -16.3333,-150.0002,    34.7244,2,     -999.0,9,     -999.0,9,     -999.0,9,     -999.0,9,     -999.0,9,     -999.0,9
320620140320,       P16S,      88,          1,         14,         14,2,20140503,       1536,   -16.3333,  -150.0002,       4251,  1434.3,   2.8333,  34.5819,2,  34.5822,2,    143.4,2,   142.7,2,   96.99,2,   35.97,2,    0.01,2,    2.51,2,   0.003,2,   0.000,2,    0.00,2,  -999.0,9,  -999.0,9,-999.0000,9,  -999.00,-999.000,9,-999.0000,9, -999.00,9,   2.8331,2, -999.00,9,  -999.0,9, -999.00,9,    35.3,2, -999.00,9,      25.58,2,     -999.0,9, -999.00,9, 20140503,     1641, -16.3333,-150.0002,    34.7452,2,     -999.0,9,     -999.0,9,     -999.0,9,     -999.0,9,     -999.0,9,     -999.0,9
320620140320,       P16S,      88,          1,         13,         13,2,20140503,       1536,   -16.3333,  -150.0002,       4251,  1535.2,   2.7115,  34.5902,2,  34.5898,2,    143.7,2,   143.9,2,  100.13,2,   35.94,2,    0.00,2,    2.51,2,   0.001,2,   0.000,2,    0.00,2,  2288.8,2,  2372.5,2,   7.6238,2,       20,-999.000,9,-999.0000,9, -999.00,9,   2.7112,2,    0.36,2,  -190.7,2, -999.00,9,    39.4,3, -999.00,9,      24.71,2,     -999.0,9, -999.00,9, 20140503,     1638, -16.3333,-150.0002,    34.7529,2,     -999.0,9,     -999.0,9,     -999.0,9,     -999.0,9,     -999.0,9,     -999.0,9
320620140320,       P16S,      88,          1,         12,         12,2,20140503,       1536,   -16.3333,  -150.0002,       4251,  1664.6,   2.5320,  34.6034,2,  34.6027,2,    146.0,2,   145.6,2,  104.63,2,   35.85,2,    0.00,2,    2.51,2,-999.000,9,-999.000,9, -999.00,9,  -999.0,9,  -999.0,9,-999.0000,9,  -999.00,-999.000,9,-999.0000,9, -999.00,9,   2.5319,2, -999.00,9,  -999.0,9, -999.00,9,    36.2,2, -999.00,9,     -999.0,9,     -999.0,9, -999.00,9, 20140503,     1635, -16.3333,-150.0002,    34.7658,2,     -999.0,9,     -999.0,9,     -999.0,9,     -999.0,9,     -999.0,9,     -999.0,9
320620140320,       P16S,      88,          1,         11,         11,2,20140503,       1536,   -16.3333,  -150.0002,       4251,  1865.3,   2.3076,  34.6207,2,  34.6197,2,    148.9,2,   148.5,2,  110.12,2,   35.72,2,    0.00,2,    2.50,2,  -0.001,2,   0.000,2,    0.00,2,  2297.1,2,  2383.8,2,   7.6329,2,       20,-999.000,9,-999.0000,9, -999.00,9,   2.3078,2,    0.28,2,  -208.4,2, -999.00,9,    37.1,2, -999.00,9,      24.09,2,     -999.0,9, -999.00,9, 20140503,     1630, -16.3333,-150.0002,    34.7830,2,     -999.0,9,     -999.0,9,     -999.0,9,     -999.0,9,     -999.0,9,     -999.0,9
320620140320,       P16S,      88,          1,         10,         10,2,20140503,       1536,   -16.3333,  -150.0002,       4251,  2084.5,   2.0986,  34.6388,2,  34.6368,2,    151.0,2,   150.5,2,  116.09,2,   35.63,2,    0.00,2,    2.50,2,-999.000,9,-999.000,9, -999.00,9,    2303,2,  2391.1,2,   7.6371,2,       20,-999.000,9,-999.0000,9, -999.00,9,   2.0990,2,    0.24,2,  -218.4,2, -999.00,9,    38.1,2, -999.00,9,     -999.0,9,     -999.0,9, -999.00,9, 20140503,     1625, -16.3333,-150.0002,    34.8001,2,     -999.0,9,     -999.0,9,     -999.0,9,     -999.0,9,     -999.0,9,     -999.0,9
320620140320,       P16S,      88,          1,          9,         09,2,20140503,       1536,   -16.3333,  -150.0002,       4251,  2334.6,   1.9642,  34.6507,2,  34.6495,2,    152.7,2,   152.5,2,  120.20,2,   35.59,2,    0.00,2,    2.48,2,  -0.003,2,   0.000,2,    0.00,2,  2305.6,2,  2395.2,2,   7.6421,2,       20,-999.000,9,-999.0000,9, -999.00,9,   1.9640,2,    0.24,2,  -214.6,2, -999.00,9,    38.8,2, -999.00,9,      22.51,2,     -999.0,9, -999.00,9, 20140503,     1620, -16.3333,-150.0002,    34.8129,2,     -999.0,9,     -999.0,9,     -999.0,9,     -999.0,9,     -999.0,9,     -999.0,9
320620140320,       P16S,      88,          1,          8,         08,2,20140503,       1536,   -16.3333,  -150.0002,       4251,  2584.8,   1.8758,  34.6595,2,  34.6579,2,    154.3,2,   154.2,2,  123.04,2,   35.50,2,    0.00,2,    2.47,2,  -0.002,2,   0.000,2,    0.00,2,  2307.4,2,  2397.9,2,   7.6455,2,       20,-999.000,9,-999.0000,9, -999.00,9,   1.8750,2,    0.05,2,  -216.8,2, -999.00,9,    37.7,2, -999.00,9,      23.41,2,     -999.0,9, -999.00,9, 20140503,     1614, -16.3333,-150.0002,    34.8213,2,     -999.0,9,     -999.0,9,     -999.0,9,     -999.0,9,     -999.0,9,     -999.0,9
320620140320,       P16S,      88,          1,          7,         07,9,20140503,       1536,   -16.3333,  -150.0002,       4251,  2835.3,   1.7870,  34.6679,2,-999.0000,9,   -999.0,9,  -999.0,9, -999.00,9, -999.00,9, -999.00,9, -999.00,9,-999.000,9,-999.000,9, -999.00,9,  -999.0,9,  -999.0,9,-999.0000,9,  -999.00,-999.000,9,-999.0000,9, -999.00,9,   1.7872,2, -999.00,9,  -999.0,9, -999.00,9,  -999.0,9, -999.00,9,     -999.0,9,     -999.0,9, -999.00,9, 20140503,     1609, -16.3333,-150.0002,     -999.0,9,     -999.0,9,     -999.0,9,     -999.0,9,     -999.0,9,     -999.0,9,     -999.0,9
320620140320,       P16S,      88,          1,          6,         06,2,20140503,       1536,   -16.3333,  -150.0002,       4251,  3099.4,   1.6798,  34.6737,2,  34.6726,2,    163.8,2,   163.9,2,  123.34,2,   34.81,2,    0.00,2,    2.43,2,-999.000,9,-999.000,9, -999.00,9,  -999.0,9,  -999.0,9,-999.0000,9,  -999.00,-999.000,9,-999.0000,9, -999.00,9,   1.6803,2, -999.00,9,  -999.0,9, -999.00,9,    37.1,2, -999.00,9,     -999.0,9,     -999.0,9, -999.00,9, 20140503,     1603, -16.3333,-150.0002,    34.8361,2,     -999.0,9,     -999.0,9,     -999.0,9,     -999.0,9,     -999.0,9,     -999.0,9