BOTTLE,20230715CCHSIOCBG
EXPOCODE,SECT_ID,STNNBR,CASTNO,SAMPNO,BTLNBR,BTLNBR_FLAG_W,DATE,TIME,LATITUDE,LONGITUDE,DEPTH,CTDPRS,CTDTMP,CTDSAL,CTDSAL_FLAG_W,SALNTY,SALNTY_FLAG_W,CTDOXY,CTDOXY_FLAG_W,OXYGEN,OXYGEN_FLAG_W,SILCAT,SILCAT_FLAG_W,NITRAT,NITRAT_FLAG_W,NITRIT,NITRIT_FLAG_W,PHSPHT,PHSPHT_FLAG_W,CFC-11,CFC-11_FLAG_W,CFC-12,CFC-12_FLAG_W,SF6,SF6_FLAG_W,TCARBN,TCARBN_FLAG_W,ALKALI,ALKALI_FLAG_W,PH_TOT,PH_TOT_FLAG_W,PH_TMP,TRITUM,TRITUM_FLAG_W,HELIUM,HELIUM_FLAG_W,DELHE3,DELHE3_FLAG_W,REFTMP,REFTMP_FLAG_W,DELC13,DELC13_FLAG_W,DELC14,DELC14_FLAG_W,DELO18,DELO18_FLAG_W,DOC,DOC_FLAG_W,TDN,TDN_FLAG_W,N2O,N2O_FLAG_W,CALCIUM,CALCIUM_FLAG_W,D15N_NO3,D15N_NO3_FLAG_W,BTL_DATE,BTL_TIME,BTL_LAT,BTL_LON,SALTREF,SALTREF_FLAG_W,D18O_NO3,D18O_NO3_FLAG_W,DSI30,DSI30_FLAG_W,CDOM_NASA,CDOM_NASA_FLAG_W,CDOM_UCSB,CDOM_UCSB_FLAG_W,D15N_NO2+NO3,D15N_NO2+NO3_FLAG_W,D18O_NO2+NO3,D18O_NO2+NO3_FLAG_W
,,,,,,,,,,,METERS,DBAR,ITS-90,PSS-78,,PSS-78,,UMOL/KG,,UMOL/KG,,UMOL/KG,,UMOL/KG,,UMOL/KG,,UMOL/KG,,PMOL/KG,,PMOL/KG,,FMOL/KG,,UMOL/KG,,UMOL/KG,,,,DEG C,TU,,NMOL/KG,,PERCNT,,DEG C,,/MILLE,,/MILLE,,/MILLE,,UMOL/KG,,UMOL/KG,,NMOL/KG,,MMOL/KG,,/MILLE,,,,,,G/KG,,/MILLE,,/MILLE,,,,,,/MILLE,,/MILLE,
320620140320,       P16S,       2,          1,         36,         36,2,20140328,       0200,   -63.4998,  -175.9997,       3171,     4.6,   2.0333,  33.7873,2,  33.7871,2,    325.5,2,   327.2,2,   22.17,2,   25.45,2,    0.23,2,    1.67,2,   5.459,6,   2.815,6,    2.80,6,    2152,2,  2279.4,2,   7.7851,2,       20,-999.000,9,-999.0000,9, -999.00,9,   2.0335,2, -999.00,9,  -999.0,9, -999.00,9,  -999.0,9, -999.00,9,      14.74,6,     -999.0,9, -999.00,9, 20140328,      333, -63.4999,-175.9998,    33.9465,2,     -999.0,9,     -999.0,9,     -999.0,9,     -999.0,9,     -999.0,9,     -999.0,9
320620140320,       P16S,       2,          1,         35,         35,2,20140328,       0200,   -63.4998,  -175.9997,       3171,    25.4,   2.0371,  33.7880,2,  33.7883,2,    327.1,2,   327.1,2,   22.27,2,   25.56,2,    0.23,2,    1.67,2,   5.468,2,   2.850,2,    2.60,2,  2151.6,2,  2279.4,2,   7.7849,2,       20,-999.000,9,-999.0000,9, -999.00,9,   2.0377,2, -999.00,9,  -999.0,9, -999.00,9,  -999.0,9, -999.00,9,      14.71,2,     -999.0,9, -999.00,9, 20140328,      331, -63.4999,-175.9997,    33.9476,2,     -999.0,9,     -999.0,9,     -999.0,9,     -999.0,9,     -999.0,9,     -999.0,9
320620140320,       P16S,       2,          1,         34,         34,2,20140328,       0200,   -63.4998,  -175.9997,       3171,    51.6,   2.0378,  33.7874,2,  33.7881,2,    327.1,2,   326.9,2,   22.27,2,   25.62,2,    0.23,2,    1.70,2,   5.378,2,   2.839,2,    2.70,2,    2150,6,  2279.2,2,   7.7876,2,       20,-999.000,9,-999.0000,9, -999.00,9,   2.0376,2, -999.00,9,  -999.0,9, -999.00,9,  -999.0,9, -999.00,9,      14.92,2,     -999.0,9, -999.00,9, 20140328,      330, -63.4999,-175.9998,    33.9475,2,     -999.0,9,     -999.0,9,     -999.0,9,     -999.0,9,     -999.0,9,     -999.0,9
320620140320,       P16S,       2,          1,         32,         32,2,20140328,       0200,   -63.4998,  -175.9997,       3171,    73.4,   2.0280,  33.7876,2,-999.0000,9,   -999.0,9,  -999.0,9, -999.00,9, -999.00,9, -999.00,9, -999.00,9,-999.000,9,-999.000,9, -999.00,9,  -999.0,9,  -999.0,9,-999.0000,9,  -999.00,-999.000,9,-999.0000,9, -999.00,9,   2.0280,2, -999.00,9,  -999.0,9, -999.00,9,  -999.0,9, -999.00,9,     -999.0,9,     -999.0,9, -999.00,9, 20140328,      328, -63.4999,-175.9998,     -999.0,9,     -999.0,9,     -999.0,9,     -999.0,1,     -999.0,9,     -999.0,9,     -999.0,9
320620140320,       P16S,       2,          1,         33,         33,2,20140328,       0200,   -63.4998,  -175.9997,       3171,    74.3,   2.0285,  33.7879,2,  33.7905,2,    327.1,2,   326.8,2,   22.46,2,   25.66,2,    0.22,2,    1.70,2,-999.000,9,-999.000,9, -999.00,9,  2153.4,2,  2279.2,6,   7.7899,2,       20,-999.000,9,-999.0000,9, -999.00,9,   2.0291,2, -999.00,9,  -999.0,9, -999.00,9,  -999.0,9, -999.00,9,     -999.0,9,     -999.0,9, -999.00,9, 20140328,      328, -63.4999,-175.9998,    33.9498,2,     -999.0,9,     -999.0,9,     -999.0,9,     -999.0,9,     -999.0,9,     -999.0,9
320620140320,       P16S,       2,          1,         31,         31,2,20140328,       0200,   -63.4998,  -175.9997,       3171,    99.7,   1.6963,  33.8153,2,  33.8075,2,    327.6,2,   326.0,2,   24.91,2,   26.00,2,    0.23,2,    1.77,2,   5.486,2,   2.883,2,    2.84,2,  2157.5,2,  2286.4,2,   7.7673,2,       20,-999.000,9,-999.0000,9, -999.00,9,   1.7078,2, -999.00,9,  -999.0,9, -999.00,9,  -999.0,9, -999.00,9,      15.31,2,     -999.0,9, -999.00,9, 20140328,      326, -63.4999,-175.9997,    33.9669,2,     -999.0,9,     -999.0,9,     -999.0,9,     -999.0,9,     -999.0,9,     -999.0,9
320620140320,       P16S,       2,          1,         30,         30,2,20140328,       0200,   -63.4998,  -175.9997,       3171,   123.3,   0.5042,  34.0087,2,  34.0084,2,    300.0,2,   302.4,2,   40.33,2,   30.54,2,    0.24,2,    2.15,2,-999.000,9,-999.000,9, -999.00,9,  -999.0,9,  -999.0,9,-999.0000,9,  -999.00,-999.000,9,-999.0000,9, -999.00,9,   0.5051,2, -999.00,9,  -999.0,9, -999.00,9,  -999.0,9, -999.00,9,     -999.0,9,     -999.0,9, -999.00,9, 20140328,      325, -63.4999,-175.9998,    34.1688,2,     -999.0,9,     -999.0,9,     -999.0,9,     -999.0,9,     -999.0,9,     -999.0,9
320620140320,       P16S,       2,          1,         29,         29,2,20140328,       0200,   -63.4998,  -175.9997,       3171,   126.0,   0.4925,  34.0150,2,-999.0000,9,   -999.0,9,  -999.0,9, -999.00,9, -999.00,9, -999.00,9, -999.00,9,-999.000,9,-999.000,9, -999.00,9,  -999.0,9,  -999.0,9,-999.0000,9,  -999.00,-999.000,9,-999.0000,9, -999.00,9,   0.4993,2, -999.00,9,  -999.0,9, -999.00,9,  -999.0,9, -999.00,9,     -999.0,9,     -999.0,9, -999.00,9, 20140328,      325, -63.4999,-175.9998,     -999.0,9,     -999.0,9,     -999.0,9,     -999.0,1,     -999.0,9,     -999.0,9,     -999.0,9
320620140320,       P16S,       2,          1,         28,         28,2,20140328,       0200,   -63.4998,  -175.9997,       3171,   149.4,   0.8403,  34.1293,2,  34.1287,2,    286.5,2,   268.0,2,   47.85,2,   32.62,2,    0.01,2,    2.26,2,   4.231,2,   2.165,2,    1.87,2,  2210.8,2,  2296.9,3,   7.6541,2,       20,-999.000,9,-999.0000,9, -999.00,9,   0.8456,2, -999.00,9,  -999.0,9, -999.00,9,  -999.0,9, -999.00,9,      21.40,2,     -999.0,9, -999.00,9, 20140328,      323, -63.4999,-175.9997,    34.2897,2,     -999.0,9,     -999.0,9,     -999.0,9,     -999.0,9,     -999.0,9,     -999.0,9
320620140320,       P16S,       2,          1,         27,         27,2,20140328,       0200,   -63.4998,  -175.9997,       3171,   201.6,   1.6712,  34.3205,2,  34.3142,2,    220.3,2,   214.8,2,   58.68,2,   34.54,2,    0.00,2,    2.39,2,-999.000,9,-999.000,9, -999.00,9,  2234.9,2,  2308.9,2,   7.6223,2,       20,-999.000,9,-999.0000,9, -999.00,9,   1.6693,2, -999.00,9,  -999.0,9, -999.00,9,  -999.0,9, -999.00,9,     -999.0,9,     -999.0,9, -999.00,9, 20140328,      321, -63.4999,-175.9997,    34.4760,2,     -999.0,9,     -999.0,9,     -999.0,9,     -999.0,9,     -999.0,9,     -999.0,9
320620140320,       P16S,       2,          1,         26,         26,2,20140328,       0200,   -63.4998,  -175.9997,       3171,   250.8,   1.9776,  34.4288,2,  34.4312,2,    191.0,2,   189.5,2,   66.87,2,   35.07,2,    0.00,2,    2.42,2,   1.733,2,   0.888,2,    0.90,2,  -999.0,9,  -999.0,9,-999.0000,9,  -999.00,-999.000,9,-999.0000,9, -999.00,9,   1.9781,2, -999.00,9,  -999.0,9, -999.00,9,  -999.0,9, -999.00,9,      25.97,2,     -999.0,9, -999.00,9, 20140328,      320, -63.4998,-175.9997,    34.5936,2,     -999.0,9,     -999.0,9,     -999.0,9,     -999.0,9,     -999.0,9,     -999.0,9
320620140320,       P16S,       2,          1,         25,         25,2,20140328,       0200,   -63.4998,  -175.9997,       3171,   300.2,   2.1585,  34.4989,2,  34.4985,2,    179.3,2,   178.6,2,   70.97,2,   35.00,2,    0.00,2,    2.42,2,-999.000,9,-999.000,9, -999.00,9,  2253.9,2,  2323.2,2,   7.6114,2,       20,-999.000,9,-999.0000,9, -999.00,9,   2.1582,2, -999.00,9,  -999.0,9, -999.00,9,  -999.0,9, -999.00,9,     -999.0,9,     -999.0,9, -999.00,9, 20140328,      318, -63.4998,-175.9997,    34.6612,2,     -999.0,9,     -999.0,9,     -999.0,9,     -999.0,9,     -999.0,9,     -999.0,9
320620140320,       P16S,       2,          1,         24,         24,2,20140328,       0200,   -63.4998,  -175.9997,       3171,   347.9,   2.1838,  34.5415,2,  34.5408,2,    174.2,2,   175.1,2,   73.70,2,   34.75,2,    0.00,2,    2.40,2,   1.001,2,   0.529,2,    0.38,2,  -999.0,9,  -999.0,9,-999.0000,9,  -999.00,-999.000,9,-999.0000,9, -999.00,9,   2.1850,2, -999.00,9,  -999.0,9, -999.00,9,  -999.0,9, -999.00,9,      25.64,2,     -999.0,9, -999.00,9, 20140328,      316, -63.4999,-175.9998,    34.7036,2,     -999.0,9,     -999.0,9,     -999.0,9,     -999.0,9,     -999.0,9,     -999.0,9
320620140320,       P16S,       2,          1,         23,         23,2,20140328,       0200,   -63.4998,  -175.9997,       3171,   400.4,   2.2917,  34.5836,2,  34.5830,2,    173.3,2,   172.8,2,   74.58,2,   34.13,2,    0.00,2,    2.35,2,-999.000,9,-999.000,9, -999.00,9,  2256.2,2,  2331.9,2,   7.6106,2,       20,-999.000,9,-999.0000,9, -999.00,9,   2.2918,2, -999.00,9,  -999.0,9, -999.00,9,  -999.0,9, -999.00,9,     -999.0,9,     -999.0,9, -999.00,9, 20140328,      314, -63.4999,-175.9997,    34.7461,2,     -999.0,9,     -999.0,9,     -999.0,9,     -999.0,9,     -999.0,9,     -999.0,9
320620140320,       P16S,       2,          1,         22,         22,2,20140328,       0200,   -63.4998,  -175.9997,       3171,   451.2,   2.2702,  34.6047,2,  34.6038,2,    173.2,2,   172.9,2,   76.04,2,   33.99,2,    0.00,2,    2.34,2,-999.000,9,-999.000,9, -999.00,9,  -999.0,9,  -999.0,9,-999.0000,9,  -999.00,-999.000,9,-999.0000,9, -999.00,9,   2.2701,2, -999.00,9,  -999.0,9, -999.00,9,  -999.0,9, -999.00,9,     -999.0,9,     -999.0,9, -999.00,9, 20140328,      312, -63.4999,-175.9997,    34.7670,2,     -999.0,9,     -999.0,9,     -999.0,9,     -999.0,9,     -999.0,9,     -999.0,9
320620140320,       P16S,       2,          1,         21,         21,2,20140328,       0200,   -63.4998,  -175.9997,       3171,   498.7,   2.2150,  34.6207,2,  34.6193,2,    173.4,2,   173.3,2,   77.50,2,   33.82,2,    0.00,2,    2.33,2,   0.593,2,   0.312,2,    0.08,2,  2256.5,2,  2334.9,2,    7.615,2,       20,-999.000,9,-999.0000,9, -999.00,9,   2.2149,2, -999.00,9,  -999.0,9, -999.00,9,  -999.0,9, -999.00,9,      24.72,2,     -999.0,9, -999.00,9, 20140328,      310, -63.4998,-175.9997,    34.7826,2,     -999.0,9,     -999.0,9,     -999.0,9,     -999.0,9,     -999.0,9,     -999.0,9
320620140320,       P16S,       2,          1,         20,         20,2,20140328,       0200,   -63.4998,  -175.9997,       3171,   600.3,   2.1766,  34.6597,2,  34.6600,2,    175.4,2,   175.8,2,   79.84,2,   33.05,2,    0.00,2,    2.28,2,-999.000,9,-999.000,9, -999.00,9,  2257.7,2,  2338.1,2,   7.6286,2,       20,-999.000,9,-999.0000,9, -999.00,9,   2.1764,2, -999.00,9,  -999.0,9, -999.00,9,  -999.0,9, -999.00,9,     -999.0,9,     -999.0,9, -999.00,9, 20140328,      307, -63.4999,-175.9997,    34.8234,2,     -999.0,9,     -999.0,9,     -999.0,9,     -999.0,9,     -999.0,9,     -999.0,9
320620140320,       P16S,       2,          1,         19,         19,2,20140328,       0200,   -63.4998,  -175.9997,       3171,   700.2,   2.1145,  34.6899,2,  34.6899,2,    178.3,2,   179.3,2,   81.60,2,   32.40,2,    0.00,2,    2.24,2,   0.340,2,   0.183,2,    0.07,2,  2254.9,2,  2340.8,2,   7.6387,2,       20,-999.000,9,-999.0000,9, -999.00,9,   2.1148,2, -999.00,9,  -999.0,9, -999.00,9,  -999.0,9, -999.00,9,      22.99,2,     -999.0,9, -999.00,9, 20140328,      304, -63.4999,-175.9997,    34.8534,2,     -999.0,9,     -999.0,9,     -999.0,9,     -999.0,9,     -999.0,9,     -999.0,9
320620140320,       P16S,       2,          1,         18,         18,2,20140328,       0200,   -63.4998,  -175.9997,       3171,   800.3,   2.0608,  34.7074,2,  34.7070,2,    181.6,2,   181.8,2,   83.26,2,   31.91,2,    0.00,2,    2.21,2,-999.000,9,-999.000,9, -999.00,9,  2254.2,2,  2343.8,2,   7.6481,2,       20,-999.000,9,-999.0000,9, -999.00,9,   2.0611,2, -999.00,9,  -999.0,9, -999.00,9,  -999.0,9, -999.00,9,     -999.0,9,     -999.0,9, -999.00,9, 20140328,      301, -63.4999,-175.9997,    34.8706,2,     -999.0,9,     -999.0,9,     -999.0,9,     -999.0,9,     -999.0,9,     -999.0,9
320620140320,       P16S,       2,          1,         17,         17,2,20140328,       0200,   -63.4998,  -175.9997,       3171,   899.5,   1.9797,  34.7182,2,  34.7178,2,    184.4,2,   184.2,2,   85.31,2,   31.66,2,    0.00,2,    2.19,2,   0.272,2,   0.141,2,    0.14,2,  2253.7,2,  2345.4,2,   7.6542,2,       20,-999.000,9,-999.0000,9, -999.00,9,   1.9797,2, -999.00,9,  -999.0,9, -999.00,9,  -999.0,9, -999.00,9,      22.24,2,     -999.0,9, -999.00,9, 20140328,      258, -63.4999,-175.9997,    34.8815,2,     -999.0,9,     -999.0,9,     -999.0,9,     -999.0,9,     -999.0,9,     -999.0,9
320620140320,       P16S,       2,          1,         16,         16,2,20140328,       0200,   -63.4998,  -175.9997,       3171,  1000.7,   1.9346,  34.7292,2,  34.7292,2,    188.0,2,   187.9,2,   86.96,2,   31.25,2,    0.00,2,    2.16,2,   0.196,2,   0.100,2,    0.11,2,  2252.1,2,  2348.2,2,   7.6633,2,       20,-999.000,9,-999.0000,9, -999.00,9,   1.9346,2, -999.00,9,  -999.0,9, -999.00,9,  -999.0,9, -999.00,9,      21.46,2,     -999.0,9, -999.00,9, 20140328,      256, -63.4998,-175.9998,    34.8929,2,     -999.0,9,     -999.0,9,     -999.0,9,     -999.0,9,     -999.0,9,     -999.0,9
320620140320,       P16S,       2,          1,         15,         15,2,20140328,       0200,   -63.4998,  -175.9997,       3171,  1101.4,   1.8558,  34.7348,2,  34.7353,2,    190.3,2,   190.3,2,   88.82,2,   31.09,2,    0.00,2,    2.15,2,   0.174,2,   0.094,2,    0.13,2,  2252.6,2,  2349.3,2,   7.6686,2,       20,-999.000,9,-999.0000,9, -999.00,9,   1.8567,2, -999.00,9,  -999.0,9, -999.00,9,  -999.0,9, -999.00,9,      21.23,2,     -999.0,9, -999.00,9, 20140328,      253, -63.4999,-175.9998,    34.8991,2,     -999.0,9,     -999.0,9,     -999.0,9,     -999.0,9,     -999.0,9,     -999.0,9
320620140320,       P16S,       2,          1,         14,         14,2,20140328,       0200,   -63.4998,  -175.9997,       3171,  1200.8,   1.7774,  34.7372,2,  34.7368,2,    192.2,2,   192.1,2,   91.06,2,   31.08,2,    0.00,2,    2.14,2,-999.000,9,-999.000,9, -999.00,9,  2252.4,2,  2350.2,6,   7.6728,2,       20,-999.000,9,-999.0000,9, -999.00,9,   1.7778,2, -999.00,9,  -999.0,9, -999.00,9,  -999.0,9, -999.00,9,     -999.0,9,     -999.0,9, -999.00,9, 20140328,      250, -63.4999,-175.9998,    34.9006,2,     -999.0,9,     -999.0,9,     -999.0,9,     -999.0,9,     -999.0,9,     -999.0,9
320620140320,       P16S,       2,          1,         13,         13,2,20140328,       0200,   -63.4998,  -175.9997,       3171,  1301.3,   1.6953,  34.7384,2,  34.7384,2,    193.9,2,   193.8,2,   93.31,2,   30.97,2,    0.00,2,    2.14,2,   0.174,2,   0.090,2,    0.09,2,  2251.5,2,    2349,4,   7.6722,2,       20,-999.000,9,-999.0000,9, -999.00,9,   1.6951,2, -999.00,9,  -999.0,9, -999.00,9,  -999.0,9, -999.00,9,      20.69,2,     -999.0,9, -999.00,9, 20140328,      247, -63.4999,-175.9998,    34.9022,2,     -999.0,9,     -999.0,9,     -999.0,9,     -999.0,9,     -999.0,9,     -999.0,9
320620140320,       P16S,       2,          1,         12,         12,2,20140328,       0200,   -63.4998,  -175.9997,       3171,  1400.3,   1.6107,  34.7380,2,  34.7382,2,    195.7,2,   196.2,2,   94.77,2,   30.93,2,    0.00,2,    2.14,2,-999.000,9,-999.000,9, -999.00,9,  2251.5,2,  2351.5,2,   7.6727,2,       20,-999.000,9,-999.0000,9, -999.00,9,   1.6112,2, -999.00,9,  -999.0,9, -999.00,9,  -999.0,9, -999.00,9,     -999.0,9,     -999.0,9, -999.00,9, 20140328,      244, -63.4999,-175.9997,    34.9020,2,     -999.0,9,     -999.0,9,     -999.0,9,     -999.0,9,     -999.0,9,     -999.0,9
320620140320,       P16S,       2,          1,         11,         11,2,20140328,       0200,   -63.4998,  -175.9997,       3171,  1499.7,   1.5273,  34.7358,2,  34.7364,2,    197.2,2,   196.8,2,   97.51,2,   31.02,2,    0.00,2,    2.15,2,   0.173,2,   0.095,2,    0.11,2,  2253.3,2,  2353.1,2,   7.6752,2,       20,-999.000,9,-999.0000,9, -999.00,9,   1.5272,2, -999.00,9,  -999.0,9, -999.00,9,  -999.0,9, -999.00,9,      20.60,2,     -999.0,9, -999.00,9, 20140328,      242, -63.4998,-175.9998,    34.9002,2,     -999.0,9,     -999.0,9,     -999.0,9,     -999.0,9,     -999.0,9,     -999.0,9
320620140320,       P16S,       2,          1,         10,         10,2,20140328,       0200,   -63.4998,  -175.9997,       3171,  1600.9,   1.4427,  34.7340,2,  34.7339,2,    198.5,2,   198.4,2,  100.04,2,   31.07,2,    0.00,2,    2.16,2,-999.000,9,-999.000,9, -999.00,9,  2253.8,2,  2354.8,2,   7.6752,2,       20,-999.000,9,-999.0000,9, -999.00,9,   1.4431,2, -999.00,9,  -999.0,9, -999.00,9,  -999.0,9, -999.00,9,     -999.0,9,     -999.0,9, -999.00,9, 20140328,      239, -63.4999,-175.9997,    34.8977,2,     -999.0,9,     -999.0,9,     -999.0,9,     -999.0,9,     -999.0,9,     -999.0,9
320620140320,       P16S,       2,          1,          9,         09,2,20140328,       0200,   -63.4998,  -175.9997,       3171,  1699.8,   1.3538,  34.7308,2,  34.7358,3,    199.5,2,   199.1,2,  102.87,2,   31.22,2,    0.00,2,    2.16,2,   0.178,2,   0.089,2,    0.07,2,    2254,2,  2356.7,2,   7.6754,2,       20,-999.000,9,-999.0000,9, -999.00,9,   1.3532,2, -999.00,9,  -999.0,9, -999.00,9,  -999.0,9, -999.00,9,      20.32,2,     -999.0,9, -999.00,9, 20140328,      236, -63.4999,-175.9997,    34.8996,3,     -999.0,9,     -999.0,9,     -999.0,9,     -999.0,9,     -999.0,9,     -999.0,9
320620140320,       P16S,       2,          1,          8,         08,2,20140328,       0200,   -63.4998,  -175.9997,       3171,  1800.6,   1.2821,  34.7286,2,  34.7325,3,    200.6,2,   200.6,2,  105.02,2,   31.31,2,    0.00,2,    2.16,2,-999.000,9,-999.000,9, -999.00,9,  2254.5,6,  2357.5,2,   7.6755,2,       20,-999.000,9,-999.0000,9, -999.00,9,   1.2825,2, -999.00,9,  -999.0,9, -999.00,9,  -999.0,9, -999.00,9,     -999.0,9,     -999.0,9, -999.00,9, 20140328,      233, -63.4999,-175.9998,    34.8963,3,     -999.0,9,     -999.0,9,     -999.0,9,     -999.0,9,     -999.0,9,     -999.0,9
320620140320,       P16S,       2,          1,          7,         07,2,20140328,       0200,   -63.4998,  -175.9997,       3171,  2000.7,   1.1238,  34.7216,2,  34.7217,2,    202.6,2,   202.3,2,  110.00,2,   31.60,2,    0.00,2,    2.19,2,-999.000,9,-999.000,9, -999.00,9,  2256.3,6,  2358.7,2,   7.6742,2,       20,-999.000,9,-999.0000,9, -999.00,9,   1.1242,2, -999.00,9,  -999.0,9, -999.00,9,  -999.0,9, -999.00,9,     -999.0,9,     -999.0,9, -999.00,9, 20140328,      228, -63.4998,-175.9998,    34.8854,2,     -999.0,9,     -999.0,9,     -999.0,9,     -999.0,9,     -999.0,9,     -999.0,9
320620140320,       P16S,       2,          1,          6,         06,2,20140328,       0200,   -63.4998,  -175.9997,       3171,  2199.8,   0.9783,  34.7147,2,  34.7146,2,    204.1,2,   204.2,2,  114.88,2,   31.87,2,    0.00,2,    2.20,2,   0.209,2,   0.104,2,    0.07,2,  2258.1,2,  2359.3,6,   7.6717,6,       20,-999.000,9,-999.0000,9, -999.00,9,   0.9782,2, -999.00,9,  -999.0,9, -999.00,9,  -999.0,9, -999.00,9,      20.06,2,     -999.0,9, -999.00,9, 20140328,      224, -63.4999,-175.9997,    34.8783,2,     -999.0,9,     -999.0,9,     -999.0,9,     -999.0,9,     -999.0,9,     -999.0,9