BOTTLE,20230715CCHSIOCBG
EXPOCODE,SECT_ID,STNNBR,CASTNO,SAMPNO,BTLNBR,BTLNBR_FLAG_W,DATE,TIME,LATITUDE,LONGITUDE,DEPTH,CTDPRS,CTDTMP,CTDSAL,CTDSAL_FLAG_W,SALNTY,SALNTY_FLAG_W,CTDOXY,CTDOXY_FLAG_W,OXYGEN,OXYGEN_FLAG_W,SILCAT,SILCAT_FLAG_W,NITRAT,NITRAT_FLAG_W,NITRIT,NITRIT_FLAG_W,PHSPHT,PHSPHT_FLAG_W,CFC-11,CFC-11_FLAG_W,CFC-12,CFC-12_FLAG_W,SF6,SF6_FLAG_W,TCARBN,TCARBN_FLAG_W,ALKALI,ALKALI_FLAG_W,PH_TOT,PH_TOT_FLAG_W,PH_TMP,TRITUM,TRITUM_FLAG_W,HELIUM,HELIUM_FLAG_W,DELHE3,DELHE3_FLAG_W,REFTMP,REFTMP_FLAG_W,DELC13,DELC13_FLAG_W,DELC14,DELC14_FLAG_W,DELO18,DELO18_FLAG_W,DOC,DOC_FLAG_W,TDN,TDN_FLAG_W,N2O,N2O_FLAG_W,CALCIUM,CALCIUM_FLAG_W,D15N_NO3,D15N_NO3_FLAG_W,BTL_DATE,BTL_TIME,BTL_LAT,BTL_LON,SALTREF,SALTREF_FLAG_W,D18O_NO3,D18O_NO3_FLAG_W,DSI30,DSI30_FLAG_W,CDOM_NASA,CDOM_NASA_FLAG_W,CDOM_UCSB,CDOM_UCSB_FLAG_W,D15N_NO2+NO3,D15N_NO2+NO3_FLAG_W,D18O_NO2+NO3,D18O_NO2+NO3_FLAG_W
,,,,,,,,,,,METERS,DBAR,ITS-90,PSS-78,,PSS-78,,UMOL/KG,,UMOL/KG,,UMOL/KG,,UMOL/KG,,UMOL/KG,,UMOL/KG,,PMOL/KG,,PMOL/KG,,FMOL/KG,,UMOL/KG,,UMOL/KG,,,,DEG C,TU,,NMOL/KG,,PERCNT,,DEG C,,/MILLE,,/MILLE,,/MILLE,,UMOL/KG,,UMOL/KG,,NMOL/KG,,MMOL/KG,,/MILLE,,,,,,G/KG,,/MILLE,,/MILLE,,,,,,/MILLE,,/MILLE,
320620140320,       P16S,      68,          1,         36,         36,2,20140426,       1946,   -29.6661,  -150.0003,       4240,     3.4,  22.5575,  35.2237,2,  35.2237,2,    215.6,2,   216.2,2,    0.68,2,    0.36,2,    0.01,2,    0.01,2,   1.624,2,   1.088,2,    1.45,2,  2013.6,6,  2310.4,2,   8.1173,2,       20,-999.000,9,-999.0000,9, -999.00,9,  22.5577,2, -999.00,9,  -999.0,9, -999.00,9,    63.9,2,    3.51,2,       7.11,2,     -999.0,1, -999.00,9, 20140426,     2137, -29.6664,-150.0001,    35.3898,2,     -999.0,9,     -999.0,9,     -999.0,9,     -999.0,9,     -999.0,9,     -999.0,9
320620140320,       P16S,      68,          1,         35,         35,2,20140426,       1946,   -29.6661,  -150.0003,       4240,    18.9,  22.5563,  35.2213,2,  35.2213,2,    216.5,2,   216.1,2,    0.68,2,    0.36,2,    0.01,2,    0.01,2,-999.000,9,-999.000,9, -999.00,9,  2013.9,2,  2309.5,2,   8.1176,2,       20,-999.000,9,-999.0000,9, -999.00,9,  22.5566,2, -999.00,9,  -999.0,9, -999.00,9,    64.2,2,    3.88,2,     -999.0,9,     -999.0,9, -999.00,9, 20140426,     2136, -29.6664,-150.0001,    35.3874,2,     -999.0,9,     -999.0,9,     -999.0,9,     -999.0,9,     -999.0,9,     -999.0,9
320620140320,       P16S,      68,          1,         34,         34,2,20140426,       1946,   -29.6661,  -150.0003,       4240,    39.6,  22.4389,  35.4259,2,  35.4263,2,    218.0,2,   217.9,2,    0.59,2,    0.38,2,    0.00,2,    0.00,2,-999.000,9,-999.000,9, -999.00,9,    2028,2,  2322.2,2,   8.1102,2,       20,-999.000,9,-999.0000,9, -999.00,9,  22.4381,2, -999.00,9,  -999.0,9, -999.00,9,    64.1,2,     3.7,2,     -999.0,9,     -999.0,9, -999.00,9, 20140426,     2134, -29.6664,-150.0001,    35.5933,2,     -999.0,9,     -999.0,9,     -999.0,9,     -999.0,9,     -999.0,9,     -999.0,9
320620140320,       P16S,      68,          1,         33,         33,2,20140426,       1946,   -29.6661,  -150.0003,       4240,    64.8,  20.9407,  35.4881,2,  35.4898,2,    230.9,2,   231.3,2,    0.68,2,    0.35,2,    0.01,2,    0.02,2,   1.643,2,   1.212,2,    1.57,2,  2039.5,2,  2325.6,2,   8.0974,6,       20,-999.000,9,-999.0000,9, -999.00,9,  20.9420,2, -999.00,9,  -999.0,9, -999.00,9,    63.7,2,    3.35,2,       7.89,2,     -999.0,9, -999.00,9, 20140426,     2133, -29.6663,-150.0003,    35.6571,2,     -999.0,9,     -999.0,9,     -999.0,9,     -999.0,9,     -999.0,9,     -999.0,9
320620140320,       P16S,      68,          1,         32,         32,2,20140426,       1946,   -29.6661,  -150.0003,       4240,   100.2,  18.6809,  35.4854,2,-999.0000,9,   -999.0,9,  -999.0,9, -999.00,9, -999.00,9, -999.00,9, -999.00,9,-999.000,9,-999.000,9, -999.00,9,  -999.0,9,  -999.0,9,-999.0000,9,  -999.00,-999.000,9,-999.0000,9, -999.00,9,  18.6877,2, -999.00,9,  -999.0,9, -999.00,9,  -999.0,9, -999.00,9,     -999.0,9,     -999.0,9, -999.00,9, 20140426,     2131, -29.6663,-150.0002,     -999.0,9,     -999.0,9,     -999.0,9,     -999.0,9,     -999.0,9,     -999.0,9,     -999.0,9
320620140320,       P16S,      68,          1,         31,         31,2,20140426,       1946,   -29.6661,  -150.0003,       4240,   100.8,  18.6480,  35.4848,2,  35.4884,2,    224.1,2,   223.6,2,    0.68,2,    0.34,2,    0.01,2,    0.07,2,-999.000,9,-999.000,9, -999.00,9,  2052.7,2,  2326.5,6,   8.0712,2,       20,-999.000,9,-999.0000,9, -999.00,9,  18.6654,2, -999.00,9,  -999.0,9, -999.00,9,      58,2,    3.22,2,     -999.0,9,     -999.0,1, -999.00,9, 20140426,     2131, -29.6663,-150.0002,    35.6558,2,     -999.0,9,     -999.0,9,     -999.0,9,     -999.0,9,     -999.0,9,     -999.0,9
320620140320,       P16S,      68,          1,         30,         30,2,20140426,       1946,   -29.6661,  -150.0003,       4240,   134.1,  17.5617,  35.4134,2,-999.0000,9,   -999.0,9,  -999.0,9, -999.00,9, -999.00,9, -999.00,9, -999.00,9,-999.000,9,-999.000,9, -999.00,9,  -999.0,9,  -999.0,9,-999.0000,9,  -999.00,-999.000,9,-999.0000,9, -999.00,9,  17.5635,2, -999.00,9,  -999.0,9, -999.00,9,  -999.0,9, -999.00,9,     -999.0,9,     -999.0,9, -999.00,9, 20140426,     2129, -29.6663,-150.0002,     -999.0,9,     -999.0,9,     -999.0,9,     -999.0,9,     -999.0,9,     -999.0,9,     -999.0,9
320620140320,       P16S,      68,          1,         29,         29,2,20140426,       1946,   -29.6661,  -150.0003,       4240,   134.4,  17.5829,  35.4147,2,  35.4145,2,    223.3,2,   222.7,2,    0.68,2,    0.67,2,    0.13,2,    0.10,2,   2.296,2,   1.389,2,    1.57,2,  2064.8,2,  2322.2,2,   8.0459,2,       20,-999.000,9,-999.0000,9, -999.00,9,  17.5719,2, -999.00,9,  -999.0,9, -999.00,9,    53.6,2,    3.23,2,       9.18,2,     -999.0,9, -999.00,9, 20140426,     2129, -29.6663,-150.0002,    35.5815,2,     -999.0,9,     -999.0,9,     -999.0,9,     -999.0,9,     -999.0,9,     -999.0,9
320620140320,       P16S,      68,          1,         28,         28,2,20140426,       1946,   -29.6661,  -150.0003,       4240,   185.6,  16.0878,  35.2584,2,  35.2585,2,    229.8,2,   228.2,2,    0.78,2,    1.15,2,    0.18,2,    0.17,2,-999.000,9,-999.000,9, -999.00,9,  2070.8,2,  2314.3,2,   8.0185,2,       20,-999.000,9,-999.0000,9, -999.00,9,  16.0900,2, -999.00,9,  -999.0,9, -999.00,9,    52.7,2,    3.91,2,     -999.0,9,     -999.0,9, -999.00,9, 20140426,     2127, -29.6662,-150.0005,    35.4248,2,     -999.0,9,     -999.0,9,     -999.0,9,     -999.0,9,     -999.0,9,     -999.0,9
320620140320,       P16S,      68,          1,         27,         27,2,20140426,       1946,   -29.6661,  -150.0003,       4240,   235.7,  15.0135,  35.1000,2,  35.1033,2,    229.6,2,   229.8,2,    0.88,2,    2.38,2,    0.02,2,    0.22,2,-999.000,9,-999.000,9, -999.00,9,  2075.3,2,  2307.2,2,    7.996,2,       20,-999.000,9,-999.0000,9, -999.00,9,  15.0119,2, -999.00,9,  -999.0,9, -999.00,9,    52.1,2,     6.0,2,     -999.0,9,     -999.0,9, -999.00,9, 20140426,     2125, -29.6661,-150.0006,    35.2689,2,     -999.0,9,     -999.0,9,     -999.0,9,     -999.0,9,     -999.0,9,     -999.0,9
320620140320,       P16S,      68,          1,         26,         26,2,20140426,       1946,   -29.6661,  -150.0003,       4240,   285.9,  14.0567,  35.0212,2,  35.0211,2,    219.7,2,   210.6,2,    1.56,2,    6.61,2,    0.01,2,    0.51,2,   2.645,2,   1.558,2,    1.57,2,  2097.5,2,  2302.7,2,    7.945,2,       20,-999.000,9,-999.0000,9, -999.00,9,  14.0497,2, -999.00,9,  -999.0,9, -999.00,9,    46.1,2,    8.71,2,      12.46,2,     -999.0,1, -999.00,9, 20140426,     2123, -29.6661,-150.0007,    35.1862,2,     -999.0,9,     -999.0,9,     -999.0,9,     -999.0,9,     -999.0,9,     -999.0,9
320620140320,       P16S,      68,          1,         25,         25,2,20140426,       1946,   -29.6661,  -150.0003,       4240,   332.8,  12.4149,  34.8738,2,  34.8745,2,    203.6,2,   203.9,2,    2.54,2,   11.05,2,    0.01,2,    0.79,2,-999.000,9,-999.000,9, -999.00,9,  2114.5,2,  2295.9,2,   7.8908,2,       20,-999.000,9,-999.0000,9, -999.00,9,  12.4131,2, -999.00,9,  -999.0,9, -999.00,9,    43.5,2,   13.29,2,     -999.0,9,     -999.0,9, -999.00,9, 20140426,     2121, -29.6660,-150.0008,    35.0389,2,     -999.0,9,     -999.0,9,     -999.0,9,     -999.0,9,     -999.0,9,     -999.0,9
320620140320,       P16S,      68,          1,         24,         24,2,20140426,       1946,   -29.6661,  -150.0003,       4240,   383.9,  10.7714,  34.6920,2,  34.6926,2,    211.0,2,   211.0,2,    3.23,2,   14.16,2,    0.01,2,    1.00,2,   3.087,2,   1.641,2,    1.30,2,  2124.2,2,  2288.2,2,    7.855,2,       20,-999.000,9,-999.0000,9, -999.00,9,  10.7675,2, -999.00,9,  -999.0,9, -999.00,9,    46.3,3,   16.31,2,      17.02,2,     -999.0,9, -999.00,9, 20140426,     2119, -29.6661,-150.0006,    34.8562,2,     -999.0,9,     -999.0,9,     -999.0,9,     -999.0,9,     -999.0,9,     -999.0,9
320620140320,       P16S,      68,          1,         23,         23,2,20140426,       1946,   -29.6661,  -150.0003,       4240,   464.4,   8.4628,  34.4712,2,  34.4705,2,    227.0,2,   227.8,2,    4.89,2,   18.77,2,    0.00,2,    1.30,2,   3.293,2,   1.761,2,    1.27,2,  2135.8,2,    2281,2,   7.8109,2,       20,-999.000,9,-999.0000,9, -999.00,9,   8.4613,2, -999.00,9,  -999.0,9, -999.00,9,    42.1,2,   20.06,2,      19.64,2,     -999.0,9, -999.00,9, 20140426,     2117, -29.6662,-150.0005,    34.6330,2,     -999.0,9,     -999.0,9,     -999.0,9,     -999.0,9,     -999.0,9,     -999.0,9
320620140320,       P16S,      68,          1,         22,         22,2,20140426,       1946,   -29.6661,  -150.0003,       4240,   565.5,   7.1471,  34.3815,2,  34.3817,2,    240.6,2,   241.5,2,    6.65,2,   21.61,2,    0.00,2,    1.47,2,-999.000,9,-999.000,9, -999.00,9,  2141.8,2,  2279.6,2,   7.7938,2,       20,-999.000,9,-999.0000,9, -999.00,9,   7.1395,2, -999.00,9,  -999.0,9, -999.00,9,    41.6,2,   24.04,2,     -999.0,9,     -999.0,1, -999.00,9, 20140426,     2114, -29.6662,-150.0004,    34.5439,2,     -999.0,9,     -999.0,9,     -999.0,9,     -999.0,9,     -999.0,9,     -999.0,9
320620140320,       P16S,      68,          1,         21,         21,2,20140426,       1946,   -29.6661,  -150.0003,       4240,   664.7,   6.5490,  34.3403,2,  34.3409,2,    241.5,2,   241.3,2,    8.51,2,   23.29,2,    0.00,2,    1.56,2,   2.769,2,   1.655,2,    0.61,2,  2145.1,6,    2280,2,   7.7837,2,       20,-999.000,9,-999.0000,9, -999.00,9,   6.5486,2, -999.00,9,  -999.0,9, -999.00,9,    40.7,2, -999.00,9,      17.71,2,     -999.0,9, -999.00,9, 20140426,     2111, -29.6662,-150.0005,    34.5029,2,     -999.0,9,     -999.0,9,     -999.0,9,     -999.0,9,     -999.0,9,     -999.0,9
320620140320,       P16S,      68,          1,         20,         20,2,20140426,       1946,   -29.6661,  -150.0003,       4240,   764.5,   6.0455,  34.3156,2,  34.3162,2,    234.7,2,   234.7,2,   11.35,2,   25.06,2,    0.00,2,    1.69,2,   2.636,2,   1.271,2,    0.43,2,  2152.4,2,  2280.2,2,   7.7686,2,       20,-999.000,9,-999.0000,9, -999.00,9,   6.0491,2, -999.00,9,  -999.0,9, -999.00,9,    39.9,2, -999.00,9,      16.25,2,     -999.0,1, -999.00,9, 20140426,     2109, -29.6662,-150.0005,    34.4780,2,     -999.0,9,     -999.0,9,     -999.0,9,     -999.0,9,     -999.0,9,     -999.0,9
320620140320,       P16S,      68,          1,         19,         19,2,20140426,       1946,   -29.6661,  -150.0003,       4240,   864.2,   5.4715,  34.3047,2,  34.3046,2,    224.2,2,   222.3,2,   16.63,2,   27.34,2,    0.00,2,    1.85,2,-999.000,9,-999.000,9, -999.00,9,  2165.6,2,  2285.2,2,   7.7419,2,       20,-999.000,9,-999.0000,9, -999.00,9,   5.4750,2, -999.00,9,  -999.0,9, -999.00,9,    39.4,2, -999.00,9,     -999.0,9,     -999.0,9, -999.00,9, 20140426,     2106, -29.6663,-150.0003,    34.4664,2,     -999.0,9,     -999.0,9,     -999.0,9,     -999.0,9,     -999.0,9,     -999.0,9
320620140320,       P16S,      68,          1,         18,         18,2,20140426,       1946,   -29.6661,  -150.0003,       4240,   964.9,   4.9434,  34.3136,2,  34.3137,2,    210.4,2,   208.3,2,   24.26,2,   29.54,2,    0.00,2,    2.01,2,   1.110,2,   0.539,2,    0.10,2,    2181,2,  2290.2,2,   7.7118,2,       20,-999.000,9,-999.0000,9, -999.00,9,   4.9444,2, -999.00,9,  -999.0,9, -999.00,9,      37,2, -999.00,9,      21.39,2,     -999.0,9, -999.00,9, 20140426,     2103, -29.6663,-150.0003,    34.4755,2,     -999.0,9,     -999.0,9,     -999.0,9,     -999.0,9,     -999.0,9,     -999.0,9
320620140320,       P16S,      68,          1,         17,         17,2,20140426,       1946,   -29.6661,  -150.0003,       4240,  1063.9,   4.4306,  34.3386,2,  34.3384,2,    194.9,2,   194.6,2,   33.55,2,   31.50,2,    0.00,2,    2.15,2,-999.000,9,-999.000,9, -999.00,9,  2198.8,2,  2298.9,2,   7.6843,2,       20,-999.000,9,-999.0000,9, -999.00,9,   4.4362,2, -999.00,9,  -999.0,9, -999.00,9,    37.5,2, -999.00,9,     -999.0,9,     -999.0,1, -999.00,9, 20140426,     2100, -29.6663,-150.0003,    34.5003,2,     -999.0,9,     -999.0,9,     -999.0,9,     -999.0,9,     -999.0,9,     -999.0,9
320620140320,       P16S,      68,          1,         16,         16,2,20140426,       1946,   -29.6661,  -150.0003,       4240,  1164.9,   3.9164,  34.3805,2,  34.3800,2,    183.5,2,   183.1,2,   45.19,2,   33.01,2,    0.00,2,    2.26,2,   0.323,2,   0.173,2,    0.02,2,  2217.2,2,  2311.5,2,   7.6609,2,       20,-999.000,9,-999.0000,9, -999.00,9,   3.9185,2, -999.00,9,  -999.0,9, -999.00,9,      38,2, -999.00,9,      23.98,2,     -999.0,9, -999.00,9, 20140426,     2057, -29.6663,-150.0002,    34.5421,2,     -999.0,9,     -999.0,9,     -999.0,9,     -999.0,9,     -999.0,9,     -999.0,9
320620140320,       P16S,      68,          1,         15,         15,2,20140426,       1946,   -29.6661,  -150.0003,       4240,  1266.1,   3.5323,  34.4241,2,  34.4235,2,    175.1,2,   174.6,2,   56.04,2,   33.91,2,    0.00,2,    2.32,2,   0.161,2,   0.086,2,    0.01,2,  2232.1,2,  2321.1,2,   7.6479,2,       20,-999.000,9,-999.0000,9, -999.00,9,   3.5298,2, -999.00,9,  -999.0,9, -999.00,9,    35.9,2, -999.00,9,      23.25,2,     -999.0,9, -999.00,9, 20140426,     2054, -29.6664,-150.0002,    34.5859,2,     -999.0,9,     -999.0,9,     -999.0,9,     -999.0,9,     -999.0,9,     -999.0,9
320620140320,       P16S,      68,          1,         14,         14,2,20140426,       1946,   -29.6661,  -150.0003,       4240,  1365.1,   3.2268,  34.4665,2,  34.4669,2,    168.8,2,   168.5,2,   66.51,2,   34.40,2,    0.00,2,    2.37,2,-999.000,9,-999.000,9, -999.00,9,    2245,2,  2333.5,2,   7.6405,2,       20,-999.000,9,-999.0000,9, -999.00,9,   3.2264,2, -999.00,9,  -999.0,9, -999.00,9,    36.1,2, -999.00,9,     -999.0,9,     -999.0,9, -999.00,9, 20140426,     2051, -29.6664,-150.0001,    34.6294,2,     -999.0,9,     -999.0,9,     -999.0,9,     -999.0,9,     -999.0,9,     -999.0,9
320620140320,       P16S,      68,          1,         13,         13,2,20140426,       1946,   -29.6661,  -150.0003,       4240,  1535.1,   2.8054,  34.5291,2,  34.5292,2,    162.0,2,   161.8,2,   81.86,2,   34.86,2,    0.00,2,    2.41,2,   0.018,2,   0.006,2,    0.01,2,  2263.5,2,  2350.7,2,   7.6345,2,       20,-999.000,9,-999.0000,9, -999.00,9,   2.8051,2, -999.00,9,  -999.0,9, -999.00,9,    37.2,2, -999.00,9,      24.41,2,     -999.0,1, -999.00,9, 20140426,     2047, -29.6666,-149.9999,    34.6920,2,     -999.0,9,     -999.0,9,     -999.0,9,     -999.0,9,     -999.0,9,     -999.0,9
320620140320,       P16S,      68,          1,         12,         12,2,20140426,       1946,   -29.6661,  -150.0003,       4240,  1733.5,   2.4552,  34.5849,2,  34.5844,2,    156.5,2,   157.4,2,   97.89,2,   35.26,2,    0.00,2,    2.44,2,-999.000,9,-999.000,9, -999.00,9,  2281.2,2,  2369.9,2,   7.6337,2,       20,-999.000,9,-999.0000,9, -999.00,9,   2.4545,2, -999.00,9,  -999.0,9, -999.00,9,      34,2, -999.00,9,     -999.0,9,     -999.0,9, -999.00,9, 20140426,     2043, -29.6664,-150.0001,    34.7474,2,     -999.0,9,     -999.0,9,     -999.0,9,     -999.0,9,     -999.0,9,     -999.0,9
320620140320,       P16S,      68,          1,         11,         11,2,20140426,       1946,   -29.6661,  -150.0003,       4240,  1934.2,   2.2530,  34.6140,2,  34.6142,2,    154.0,2,   153.8,2,  107.57,2,   35.41,2,    0.00,2,    2.45,2,-999.000,9,-999.000,9, -999.00,9,  2292.1,2,  2380.1,2,   7.6344,2,       20,-999.000,9,-999.0000,9, -999.00,9,   2.2525,2, -999.00,9,  -999.0,9, -999.00,9,    34.8,2, -999.00,9,     -999.0,9,     -999.0,9, -999.00,9, 20140426,     2038, -29.6664,-150.0002,    34.7774,2,     -999.0,9,     -999.0,9,     -999.0,9,     -999.0,9,     -999.0,9,     -999.0,9
320620140320,       P16S,      68,          1,         10,         10,2,20140426,       1946,   -29.6661,  -150.0003,       4240,  2134.2,   2.0957,  34.6339,2,  34.6339,2,    152.4,2,   152.7,2,  115.00,2,   35.59,2,    0.00,2,    2.46,2,   0.003,2,   0.000,2,    0.01,2,  2299.6,2,  2389.2,2,   7.6345,2,       20,-999.000,9,-999.0000,9, -999.00,9,   2.0951,2, -999.00,9,  -999.0,9, -999.00,9,      35,2, -999.00,9,      23.71,2,     -999.0,1, -999.00,9, 20140426,     2033, -29.6664,-150.0001,    34.7972,2,     -999.0,9,     -999.0,9,     -999.0,9,     -999.0,9,     -999.0,9,     -999.0,9
320620140320,       P16S,      68,          1,          9,         09,2,20140426,       1946,   -29.6661,  -150.0003,       4240,  2334.4,   1.9858,  34.6492,2,  34.6488,2,    149.9,2,   149.8,2,  121.84,2,   35.88,2,    0.00,2,    2.48,2,-999.000,9,-999.000,9, -999.00,9,  2307.8,2,  2396.5,2,   7.6331,2,       20,-999.000,9,-999.0000,9, -999.00,9,   1.9867,2, -999.00,9,  -999.0,9, -999.00,9,    34.3,2, -999.00,9,     -999.0,9,     -999.0,9, -999.00,9, 20140426,     2028, -29.6665,-150.0000,    34.8122,2,     -999.0,9,     -999.0,9,     -999.0,9,     -999.0,9,     -999.0,9,     -999.0,9
320620140320,       P16S,      68,          1,          8,         08,2,20140426,       1946,   -29.6661,  -150.0003,       4240,  2536.1,   1.8951,  34.6566,2,  34.6572,2,    150.5,2,   150.6,2,  125.17,2,   35.95,2,    0.00,2,    2.48,2,  -0.002,2,   0.001,2,    0.00,2,  2310.4,2,  2400.1,2,   7.6346,2,       20,-999.000,9,-999.0000,9, -999.00,9,   1.8947,2, -999.00,9,  -999.0,9, -999.00,9,    32.4,2, -999.00,9,      22.79,2,     -999.0,1, -999.00,9, 20140426,     2024, -29.6665,-149.9999,    34.8207,2,     -999.0,9,     -999.0,9,     -999.0,9,     -999.0,9,     -999.0,9,     -999.0,9
320620140320,       P16S,      68,          1,          7,         07,2,20140426,       1946,   -29.6661,  -150.0003,       4240,  2734.8,   1.7979,  34.6654,2,  34.6653,2,    152.3,2,   152.2,2,  128.30,2,   35.86,2,    0.00,2,    2.48,2,  -0.006,3,   0.001,2,    0.00,2,  2312.6,6,  2401.9,2,   7.6367,2,       20,-999.000,9,-999.0000,9, -999.00,9,   1.7980,2, -999.00,9,  -999.0,9, -999.00,9,    33.5,2, -999.00,9,      23.42,2,     -999.0,1, -999.00,9, 20140426,     2019, -29.6664,-150.0001,    34.8288,2,     -999.0,9,     -999.0,9,     -999.0,9,     -999.0,9,     -999.0,9,     -999.0,9
320620140320,       P16S,      68,          1,          6,         06,2,20140426,       1946,   -29.6661,  -150.0003,       4240,  2966.2,   1.7316,  34.6715,2,  34.6712,2,    155.6,2,   155.6,2,  128.88,2,   35.60,2,    0.00,2,    2.46,2,-999.000,9,-999.000,9, -999.00,9,  2309.7,2,  2400.5,2,   7.6412,2,       20,-999.000,9,-999.0000,9, -999.00,9,   1.7314,2, -999.00,9,  -999.0,9, -999.00,9,    36.4,2, -999.00,9,     -999.0,9,     -999.0,1, -999.00,9, 20140426,     2014, -29.6665,-149.9999,    34.8347,2,     -999.0,9,     -999.0,9,     -999.0,9,     -999.0,9,     -999.0,9,     -999.0,9