BOTTLE,20230715CCHSIOCBG
EXPOCODE,SECT_ID,STNNBR,CASTNO,SAMPNO,BTLNBR,BTLNBR_FLAG_W,DATE,TIME,LATITUDE,LONGITUDE,DEPTH,CTDPRS,CTDTMP,CTDSAL,CTDSAL_FLAG_W,SALNTY,SALNTY_FLAG_W,CTDOXY,CTDOXY_FLAG_W,OXYGEN,OXYGEN_FLAG_W,SILCAT,SILCAT_FLAG_W,NITRAT,NITRAT_FLAG_W,NITRIT,NITRIT_FLAG_W,PHSPHT,PHSPHT_FLAG_W,CFC-11,CFC-11_FLAG_W,CFC-12,CFC-12_FLAG_W,SF6,SF6_FLAG_W,TCARBN,TCARBN_FLAG_W,ALKALI,ALKALI_FLAG_W,PH_TOT,PH_TOT_FLAG_W,PH_TMP,TRITUM,TRITUM_FLAG_W,HELIUM,HELIUM_FLAG_W,DELHE3,DELHE3_FLAG_W,REFTMP,REFTMP_FLAG_W,DELC13,DELC13_FLAG_W,DELC14,DELC14_FLAG_W,DELO18,DELO18_FLAG_W,DOC,DOC_FLAG_W,TDN,TDN_FLAG_W,N2O,N2O_FLAG_W,CALCIUM,CALCIUM_FLAG_W,D15N_NO3,D15N_NO3_FLAG_W,BTL_DATE,BTL_TIME,BTL_LAT,BTL_LON,SALTREF,SALTREF_FLAG_W,D18O_NO3,D18O_NO3_FLAG_W,DSI30,DSI30_FLAG_W,CDOM_NASA,CDOM_NASA_FLAG_W,CDOM_UCSB,CDOM_UCSB_FLAG_W,D15N_NO2+NO3,D15N_NO2+NO3_FLAG_W,D18O_NO2+NO3,D18O_NO2+NO3_FLAG_W
,,,,,,,,,,,METERS,DBAR,ITS-90,PSS-78,,PSS-78,,UMOL/KG,,UMOL/KG,,UMOL/KG,,UMOL/KG,,UMOL/KG,,UMOL/KG,,PMOL/KG,,PMOL/KG,,FMOL/KG,,UMOL/KG,,UMOL/KG,,,,DEG C,TU,,NMOL/KG,,PERCNT,,DEG C,,/MILLE,,/MILLE,,/MILLE,,UMOL/KG,,UMOL/KG,,NMOL/KG,,MMOL/KG,,/MILLE,,,,,,G/KG,,/MILLE,,/MILLE,,,,,,/MILLE,,/MILLE,
320620140320,       P16S,      64,          1,         36,         36,2,20140425,       0753,   -32.3338,  -150.0002,       5244,     4.2,  21.4521,  35.3590,2,  35.3591,2,    220.1,2,   221.4,2,    0.00,2,    0.22,2,    0.01,2,    0.02,2,   1.853,2,   1.172,2,    1.60,2,  2029.6,6,  2315.5,2,   8.0994,2,       20,-999.000,1,-999.0000,1, -999.00,9,  21.4521,2, -999.00,9,  -999.0,9, -999.00,1,    61.7,2,    4.34,2,       7.35,2,     -999.0,1, -999.00,9, 20140425,     1014, -32.3338,-150.0002,    35.5258,2,     -999.0,9,     -999.0,9,     -999.0,9,     -999.0,9,     -999.0,9,     -999.0,9
320620140320,       P16S,      64,          1,         35,         35,2,20140425,       0753,   -32.3338,  -150.0002,       5244,    34.4,  21.4648,  35.3685,2,  35.3699,2,    222.0,2,   221.7,2,    0.00,2,    0.22,2,    0.01,2,    0.01,2,   1.893,2,   1.185,2,    1.41,2,  2032.1,2,  2316.2,6,   8.0993,2,       20,-999.000,1,-999.0000,1, -999.00,9,  21.4670,2, -999.00,9,  -999.0,9, -999.00,1,    61.9,2,    4.47,2,       7.09,2,     -999.0,9, -999.00,9, 20140425,     1012, -32.3338,-150.0002,    35.5367,2,     -999.0,9,     -999.0,9,     -999.0,9,     -999.0,9,     -999.0,9,     -999.0,9
320620140320,       P16S,      64,          1,         34,         34,2,20140425,       0753,   -32.3338,  -150.0002,       5244,    59.2,  21.3929,  35.3852,2,  35.3858,2,    222.7,2,   222.6,2,    0.00,2,    0.22,2,    0.00,2,    0.00,2,   1.855,2,   1.188,2,    1.43,2,  2029.6,2,  2317.6,2,    8.099,2,       20,-999.000,1,-999.0000,1, -999.00,9,  21.3884,2, -999.00,9,  -999.0,9, -999.00,1,    62.1,2,    3.54,2,       7.36,2,     -999.0,9, -999.00,9, 20140425,     1010, -32.3338,-150.0002,    35.5527,2,     -999.0,9,     -999.0,9,     -999.0,9,     -999.0,9,     -999.0,9,     -999.0,9
320620140320,       P16S,      64,          1,         33,         33,2,20140425,       0753,   -32.3338,  -150.0002,       5244,    84.2,  18.5024,  35.3674,2,  35.3576,2,    245.5,2,   245.2,2,    0.00,2,    0.21,2,    0.01,2,    0.04,2,   2.211,2,   1.395,2,    1.45,2,  2045.8,2,  2317.7,2,   8.0731,2,       20,-999.000,1,-999.0000,1, -999.00,9,  18.4988,2, -999.00,9,  -999.0,9, -999.00,1,    58.3,2,    3.66,2,       8.26,2,     -999.0,9, -999.00,9, 20140425,     1008, -32.3338,-150.0002,    35.5244,2,     -999.0,9,     -999.0,9,     -999.0,9,     -999.0,9,     -999.0,9,     -999.0,9
320620140320,       P16S,      64,          1,         32,         32,2,20140425,       0753,   -32.3338,  -150.0002,       5244,   114.4,  17.6687,  35.3559,2,  35.3574,2,    239.7,2,   240.3,2,    0.10,2,    0.20,2,    0.01,2,    0.05,2,   2.300,2,   1.400,2,    1.54,2,  2050.5,2,  2316.3,2,   8.0611,2,       20,-999.000,1,-999.0000,1, -999.00,9,  17.6945,2, -999.00,9,  -999.0,9, -999.00,1,    58.3,2,    4.15,2,       8.25,2,     -999.0,1, -999.00,9, 20140425,     1006, -32.3338,-150.0002,    35.5242,2,     -999.0,9,     -999.0,9,     -999.0,9,     -999.0,9,     -999.0,9,     -999.0,9
320620140320,       P16S,      64,          1,         31,         31,2,20140425,       0753,   -32.3338,  -150.0002,       5244,   163.9,  16.1567,  35.2741,2,  35.2658,2,    225.5,2,   223.8,2,    0.10,2,    1.41,2,    0.20,2,    0.20,2,   2.422,2,   1.467,2,    1.56,2,  2073.7,2,  2312.2,2,    8.012,2,       20,-999.000,1,-999.0000,1, -999.00,9,  16.1702,2, -999.00,9,  -999.0,9, -999.00,1,    51.3,2,    3.62,2,       9.40,2,     -999.0,9, -999.00,9, 20140425,     1004, -32.3338,-150.0002,    35.4321,2,     -999.0,9,     -999.0,9,     -999.0,9,     -999.0,9,     -999.0,9,     -999.0,9
320620140320,       P16S,      64,          1,         30,         30,2,20140425,       0753,   -32.3338,  -150.0002,       5244,   214.4,  14.9946,  35.1364,2,  35.1338,2,    218.0,2,   219.7,2,    0.39,2,    3.61,2,    0.02,2,    0.32,2,   2.165,2,   1.461,2,    1.41,2,  2084.1,2,  2305.7,2,   7.9797,2,       20,-999.000,9,-999.0000,9, -999.00,9,  14.9906,2, -999.00,9,  -999.0,9, -999.00,1,    49.8,2,    6.21,2,       9.91,2,     -999.0,9, -999.00,9, 20140425,     1002, -32.3338,-150.0002,    35.2995,2,     -999.0,9,     -999.0,9,     -999.0,9,     -999.0,9,     -999.0,9,     -999.0,9
320620140320,       P16S,      64,          1,         29,         29,2,20140425,       0753,   -32.3338,  -150.0002,       5244,   263.9,  13.6639,  34.9913,2,  34.9934,2,    205.1,2,   204.2,2,    1.17,2,    8.30,2,    0.01,2,    0.61,2,   1.918,2,   1.535,2,    1.31,2,  2103.8,2,  2299.5,2,   7.9241,2,       20,-999.000,1,-999.0000,1, -999.00,9,  13.6209,3, -999.00,9,  -999.0,9, -999.00,1,    43.1,2,   11.49,2,      12.62,2,     -999.0,1, -999.00,9, 20140425,     1000, -32.3338,-150.0002,    35.1584,2,     -999.0,9,     -999.0,9,     -999.0,9,     -999.0,9,     -999.0,9,     -999.0,9
320620140320,       P16S,      64,          1,         28,         28,2,20140425,       0753,   -32.3338,  -150.0002,       5244,   314.1,  12.2059,  34.8414,2,  34.8402,2,    205.6,2,   205.2,2,    1.86,2,   11.35,2,    0.01,2,    0.82,2,   2.945,2,   1.654,2,    1.38,2,  2114.1,2,  2292.7,2,   7.8871,2,       20,-999.000,9,-999.0000,1, -999.00,9,  12.2400,3, -999.00,9,  -999.0,9, -999.00,1,    43.2,2,   15.31,2,      14.36,2,     -999.0,9, -999.00,9, 20140425,      958, -32.3338,-150.0002,    35.0045,2,     -999.0,9,     -999.0,9,     -999.0,9,     -999.0,9,     -999.0,9,     -999.0,9
320620140320,       P16S,      64,          1,         27,         27,2,20140425,       0753,   -32.3338,  -150.0002,       5244,   364.0,  10.4054,  34.6495,2,  34.6556,2,    211.8,2,   211.2,2,    2.74,2,   15.04,2,    0.01,2,    1.06,2,   2.745,2,   1.671,2,    1.17,2,  2124.1,2,  2285.8,2,   7.8478,2,       20,-999.000,1,-999.0000,1, -999.00,9,  10.4102,2, -999.00,9,  -999.0,9, -999.00,1,    44.2,2,   18.12,2,      17.40,2,     -999.0,9, -999.00,9, 20140425,      956, -32.3337,-150.0002,    34.8190,2,     -999.0,9,     -999.0,9,     -999.0,9,     -999.0,9,     -999.0,9,     -999.0,9
320620140320,       P16S,      64,          1,         26,         26,2,20140425,       0753,   -32.3338,  -150.0002,       5244,   434.2,   8.8588,  34.5083,2,  34.4979,2,    223.1,2,   224.8,2,    3.81,2,   18.24,2,    0.01,2,    1.25,2,-999.000,9,-999.000,9, -999.00,9,  2132.2,2,    2280,2,   7.8144,2,       20,-999.000,9,-999.0000,1, -999.00,9,   8.9017,3, -999.00,9,  -999.0,9, -999.00,1,    40.9,2,   21.47,2,     -999.0,9,     -999.0,9, -999.00,9, 20140425,      953, -32.3337,-150.0002,    34.6605,2,     -999.0,9,     -999.0,9,     -999.0,9,     -999.0,9,     -999.0,9,     -999.0,9
320620140320,       P16S,      64,          1,         25,         25,2,20140425,       0753,   -32.3338,  -150.0002,       5244,   535.0,   7.4040,  34.3991,2,  34.3987,2,    237.3,2,   239.0,2,    5.38,2,   21.06,2,    0.01,2,    1.43,2,   3.131,2,   1.930,2,    1.17,2,  2140.3,2,    2278,2,   7.7941,2,       20,-999.000,1,-999.0000,1, -999.00,9,   7.3964,2, -999.00,9,  -999.0,9, -999.00,1,    40.1,2,   24.12,2,      17.01,2,     -999.0,1, -999.00,9, 20140425,      950, -32.3338,-150.0002,    34.5609,2,     -999.0,9,     -999.0,9,     -999.0,9,     -999.0,9,     -999.0,9,     -999.0,9
320620140320,       P16S,      64,          1,         24,         24,2,20140425,       0753,   -32.3338,  -150.0002,       5244,   634.9,   6.8406,  34.3601,2,  34.3593,2,    241.3,2,   242.7,2,    6.65,2,   22.47,2,    0.01,2,    1.52,2,-999.000,9,-999.000,9, -999.00,9,  2141.4,2,  2278.8,2,   7.7882,6,       20,-999.000,9,-999.0000,1, -999.00,9,   6.8427,2, -999.00,9,  -999.0,9, -999.00,1,    40.8,2, -999.00,9,     -999.0,9,     -999.0,9, -999.00,9, 20140425,      946, -32.3338,-150.0002,    34.5213,2,     -999.0,9,     -999.0,9,     -999.0,9,     -999.0,9,     -999.0,9,     -999.0,9
320620140320,       P16S,      64,          1,         23,         23,2,20140425,       0753,   -32.3338,  -150.0002,       5244,   734.0,   6.2901,  34.3267,2,  34.3257,2,    238.3,2,   238.3,2,    9.10,2,   24.32,2,    0.01,2,    1.63,2,   2.675,2,   1.492,2,    0.39,2,  2148.5,2,  2278.4,2,   7.7757,2,       20,-999.000,1,-999.0000,1, -999.00,9,   6.2969,2, -999.00,9,  -999.0,9, -999.00,1,    40.8,2, -999.00,9,      16.99,2,     -999.0,1, -999.00,9, 20140425,      943, -32.3338,-150.0002,    34.4876,2,     -999.0,9,     -999.0,9,     -999.0,9,     -999.0,9,     -999.0,9,     -999.0,9
320620140320,       P16S,      64,          1,         22,         22,2,20140425,       0753,   -32.3338,  -150.0002,       5244,   833.6,   5.7892,  34.3079,2,  34.3082,2,    229.5,2,   229.7,2,   12.72,2,   26.23,2,    0.01,2,    1.76,2,-999.000,9,-999.000,9, -999.00,9,  2157.2,2,  2281.2,2,   7.7562,2,       20,-999.000,9,-999.0000,1, -999.00,9,   5.7858,2, -999.00,9,  -999.0,9, -999.00,1,    38.9,2, -999.00,9,     -999.0,9,     -999.0,9, -999.00,9, 20140425,      940, -32.3338,-150.0002,    34.4700,2,     -999.0,9,     -999.0,9,     -999.0,9,     -999.0,9,     -999.0,9,     -999.0,9
320620140320,       P16S,      64,          1,         21,         21,2,20140425,       0753,   -32.3338,  -150.0002,       5244,   935.3,   5.2948,  34.3041,2,  34.3039,2,    217.9,2,   218.0,2,   18.39,2,   28.31,2,    0.00,2,    1.92,2,   1.853,2,   0.899,2,    0.18,2,  2170.9,2,  2285.2,2,   7.7312,2,       20,-999.000,1,-999.0000,1, -999.00,9,   5.2868,2, -999.00,9,  -999.0,9, -999.00,1,    36.6,2, -999.00,9,      18.50,2,     -999.0,9, -999.00,9, 20140425,      936, -32.3338,-150.0002,    34.4657,2,     -999.0,9,     -999.0,9,     -999.0,9,     -999.0,9,     -999.0,9,     -999.0,9
320620140320,       P16S,      64,          1,         20,         20,2,20140425,       0753,   -32.3338,  -150.0002,       5244,  1033.9,   4.6912,  34.3174,2,  34.3167,2,    206.2,2,   205.2,2,   26.31,2,   30.44,2,    0.00,2,    2.06,2,-999.000,9,-999.000,9, -999.00,9,  2186.8,2,  2292.5,2,    7.703,2,       20,-999.000,9,-999.0000,9, -999.00,9,   4.7078,3, -999.00,9,  -999.0,9, -999.00,1,    37.8,2, -999.00,9,     -999.0,9,     -999.0,1, -999.00,9, 20140425,      933, -32.3338,-150.0002,    34.4785,2,     -999.0,9,     -999.0,9,     -999.0,9,     -999.0,9,     -999.0,9,     -999.0,9
320620140320,       P16S,      64,          1,         19,         19,2,20140425,       0753,   -32.3338,  -150.0002,       5244,  1133.8,   4.1414,  34.3429,2,  34.3431,2,    193.7,2,   193.6,2,   36.19,2,   32.21,2,    0.00,2,    2.17,2,   0.670,2,   0.335,2,    0.07,2,  2202.9,6,  2301.2,2,   7.6771,2,       20,-999.000,1,-999.0000,1, -999.00,9,   4.1444,2, -999.00,9,  -999.0,9, -999.00,1,    36.4,2, -999.00,9,      21.63,2,     -999.0,9, -999.00,9, 20140425,      929, -32.3338,-150.0002,    34.5051,2,     -999.0,9,     -999.0,9,     -999.0,9,     -999.0,9,     -999.0,9,     -999.0,9
320620140320,       P16S,      64,          1,         18,         18,2,20140425,       0753,   -32.3338,  -150.0002,       5244,  1235.0,   3.6641,  34.3878,2,  34.3873,2,    182.0,2,   182.6,2,   47.34,2,   33.58,2,    0.00,2,    2.30,2,-999.000,9,-999.000,9, -999.00,9,  2220.9,2,  2311.8,2,   7.6558,2,       20,-999.000,1,-999.0000,1, -999.00,9,   3.6636,2, -999.00,9,  -999.0,9, -999.00,1,    36.8,2, -999.00,9,     -999.0,9,     -999.0,9, -999.00,9, 20140425,      926, -32.3338,-150.0002,    34.5494,2,     -999.0,9,     -999.0,9,     -999.0,9,     -999.0,9,     -999.0,9,     -999.0,9
320620140320,       P16S,      64,          1,         17,         17,2,20140425,       0753,   -32.3338,  -150.0002,       5244,  1335.5,   3.3147,  34.4327,2,  34.4336,2,    174.5,2,   175.0,2,   57.80,2,   34.30,2,    0.00,2,    2.35,2,   0.170,2,   0.083,2,    0.04,2,  2235.3,2,  2322.4,2,   7.6432,2,       20,-999.000,1,-999.0000,1, -999.00,9,   3.3085,3, -999.00,9,  -999.0,9, -999.00,1,    37.5,2, -999.00,9,      23.15,2,     -999.0,9, -999.00,9, 20140425,      923, -32.3338,-150.0002,    34.5960,2,     -999.0,9,     -999.0,9,     -999.0,9,     -999.0,9,     -999.0,9,     -999.0,9
320620140320,       P16S,      64,          1,         16,         16,2,20140425,       0753,   -32.3338,  -150.0002,       5244,  1464.6,   2.8989,  34.5011,2,  34.5031,2,    167.0,2,   167.1,2,   72.66,2,   34.87,2,    0.00,2,    2.40,2,-999.000,9,-999.000,9, -999.00,9,  2253.1,2,  2339.2,2,   7.6345,2,       20,-999.000,1,-999.0000,1, -999.00,9,   2.8959,2, -999.00,9,  -999.0,9, -999.00,9,    36.5,2, -999.00,9,     -999.0,9,     -999.0,1, -999.00,9, 20140425,      919, -32.3338,-150.0002,    34.6658,2,     -999.0,9,     -999.0,9,     -999.0,9,     -999.0,9,     -999.0,9,     -999.0,9
320620140320,       P16S,      64,          1,         15,         15,2,20140425,       0753,   -32.3338,  -150.0002,       5244,  1664.5,   2.5438,  34.5709,2,  34.5683,2,    159.8,2,   159.5,2,   89.09,2,   35.27,2,    0.00,2,    2.42,2,   0.013,2,   0.003,2,    0.05,2,  2272.4,2,  2358.1,2,   7.6333,2,       20,-999.000,1,-999.0000,1, -999.00,9,   2.5447,2, -999.00,9,  -999.0,9, -999.00,9,    36.6,2, -999.00,9,      22.87,2,     -999.0,9, -999.00,9, 20140425,      914, -32.3338,-150.0002,    34.7313,2,     -999.0,9,     -999.0,9,     -999.0,9,     -999.0,9,     -999.0,9,     -999.0,9
320620140320,       P16S,      64,          1,         14,         14,2,20140425,       0753,   -32.3338,  -150.0002,       5244,  1863.9,   2.3103,  34.6108,2,  34.6117,2,    154.9,2,   154.9,2,  102.88,2,   35.52,2,    0.00,2,    2.44,2,-999.000,9,-999.000,9, -999.00,9,  2287.9,2,  2374.6,2,   7.6341,2,       20,-999.000,9,-999.0000,1, -999.00,9,   2.3112,2, -999.00,9,  -999.0,9, -999.00,9,    34.3,2, -999.00,9,     -999.0,9,     -999.0,9, -999.00,9, 20140425,      910, -32.3338,-150.0002,    34.7749,2,     -999.0,9,     -999.0,9,     -999.0,9,     -999.0,9,     -999.0,9,     -999.0,9
320620140320,       P16S,      64,          1,         13,         13,2,20140425,       0753,   -32.3338,  -150.0002,       5244,  2084.3,   2.1275,  34.6352,2,  34.6364,2,    152.2,2,   152.2,2,  112.65,2,   35.70,2,    0.00,2,    2.46,2,   0.003,2,   0.002,2,    0.04,2,  2298.9,2,    2386,2,   7.6341,2,       20,-999.000,1,-999.0000,1, -999.00,9,   2.1274,2, -999.00,9,  -999.0,9, -999.00,9,    39.2,2, -999.00,9,      23.09,2,     -999.0,1, -999.00,9, 20140425,      904, -32.3338,-150.0002,    34.7997,2,     -999.0,9,     -999.0,9,     -999.0,9,     -999.0,9,     -999.0,9,     -999.0,9
320620140320,       P16S,      64,          1,         12,         12,2,20140425,       0753,   -32.3338,  -150.0002,       5244,  2334.4,   1.9687,  34.6516,2,  34.6522,2,    150.1,2,   150.3,2,  121.06,2,   35.95,2,    0.00,2,    2.49,2,-999.000,9,-999.000,9, -999.00,9,  2307.6,2,  2395.2,2,   7.6336,2,       20,-999.000,9,-999.0000,1, -999.00,9,   1.9687,2, -999.00,9,  -999.0,9, -999.00,9,      36,2, -999.00,9,     -999.0,9,     -999.0,1, -999.00,9, 20140425,      859, -32.3338,-150.0002,    34.8156,2,     -999.0,9,     -999.0,9,     -999.0,9,     -999.0,9,     -999.0,9,     -999.0,9
320620140320,       P16S,      64,          1,         11,         11,2,20140425,       0753,   -32.3338,  -150.0002,       5244,  2583.0,   1.8614,  34.6609,2,  34.6620,2,    149.9,2,   150.2,2,  126.64,2,   36.07,2,    0.00,2,    2.50,2,   0.002,2,   0.001,2,    0.00,2,  2312.3,6,    2400,2,   7.6353,2,       20,-999.000,1,-999.0000,1, -999.00,9,   1.8608,2, -999.00,9,  -999.0,9, -999.00,9,    37.1,2, -999.00,9,      23.11,2,     -999.0,1, -999.00,9, 20140425,      853, -32.3338,-150.0002,    34.8255,2,     -999.0,9,     -999.0,9,     -999.0,9,     -999.0,9,     -999.0,9,     -999.0,9
320620140320,       P16S,      64,          1,         10,         10,2,20140425,       0753,   -32.3338,  -150.0002,       5244,  2835.0,   1.7722,  34.6688,2,  34.6693,2,    152.9,2,   152.7,2,  128.39,2,   35.87,2,    0.00,2,    2.47,2,-999.000,9,-999.000,9, -999.00,9,  2311.8,2,  2401.4,2,   7.6382,2,       20,-999.000,9,-999.0000,9, -999.00,9,   1.7719,2, -999.00,9,  -999.0,9, -999.00,9,    35.8,2, -999.00,9,     -999.0,9,     -999.0,9, -999.00,9, 20140425,      848, -32.3338,-150.0002,    34.8328,2,     -999.0,9,     -999.0,9,     -999.0,9,     -999.0,9,     -999.0,9,     -999.0,9
320620140320,       P16S,      64,          1,          9,         09,2,20140425,       0753,   -32.3338,  -150.0002,       5244,  3100.8,   1.6752,  34.6774,2,  34.6773,2,    159.3,2,   159.3,2,  127.81,2,   35.43,2,    0.00,2,    2.44,2,   0.006,2,   0.001,2,    0.05,2,  2307.2,2,  2398.3,2,   7.6448,2,       20,-999.000,1,-999.0000,1, -999.00,9,   1.6745,2, -999.00,9,  -999.0,9, -999.00,9,    35.1,2, -999.00,9,      22.49,2,     -999.0,1, -999.00,9, 20140425,      843, -32.3338,-150.0002,    34.8408,2,     -999.0,9,     -999.0,9,     -999.0,9,     -999.0,9,     -999.0,9,     -999.0,9
320620140320,       P16S,      64,          1,          8,         08,2,20140425,       0753,   -32.3338,  -150.0002,       5244,  3400.2,   1.5767,  34.6871,2,  34.6877,2,    167.9,2,   168.2,2,  125.46,2,   34.73,2,    0.00,2,    2.40,2,-999.000,9,-999.000,9, -999.00,9,    2298,2,  2391.6,2,   7.6526,2,       20,-999.000,9,-999.0000,9, -999.00,9,   1.5762,2, -999.00,9,  -999.0,9, -999.00,9,    34.2,2, -999.00,9,     -999.0,9,     -999.0,9, -999.00,9, 20140425,      836, -32.3338,-150.0002,    34.8513,2,     -999.0,9,     -999.0,9,     -999.0,9,     -999.0,9,     -999.0,9,     -999.0,9
320620140320,       P16S,      64,          1,          7,         07,2,20140425,       0753,   -32.3338,  -150.0002,       5244,  3698.9,   1.4426,  34.6953,2,  34.6952,2,    178.3,2,   178.7,2,  122.92,2,   34.03,2,    0.00,2,    2.34,2,   0.003,2,   0.001,2,    0.04,2,  2288.5,2,  2384.5,2,   7.6614,2,       20,-999.000,1,-999.0000,1, -999.00,9,   1.4425,2, -999.00,9,  -999.0,9, -999.00,9,    37.6,2, -999.00,9,      21.31,2,     -999.0,1, -999.00,9, 20140425,      830, -32.3338,-150.0002,    34.8588,2,     -999.0,9,     -999.0,9,     -999.0,9,     -999.0,9,     -999.0,9,     -999.0,9
320620140320,       P16S,      64,          1,          6,         06,2,20140425,       0753,   -32.3338,  -150.0002,       5244,  4000.6,   1.3450,  34.7001,2,  34.7002,2,    186.4,2,   186.6,2,  120.96,2,   33.58,2,    0.00,2,    2.32,2,-999.000,9,-999.000,9, -999.00,9,  2280.8,2,  2379.8,2,   7.6677,2,       20,-999.000,9,-999.0000,1, -999.00,9,   1.3452,2, -999.00,9,  -999.0,9, -999.00,9,    37.8,2, -999.00,9,     -999.0,9,     -999.0,9, -999.00,9, 20140425,      823, -32.3338,-150.0002,    34.8638,2,     -999.0,9,     -999.0,9,     -999.0,9,     -999.0,9,     -999.0,9,     -999.0,9