BOTTLE,20230715CCHSIOCBG
EXPOCODE,SECT_ID,STNNBR,CASTNO,SAMPNO,BTLNBR,BTLNBR_FLAG_W,DATE,TIME,LATITUDE,LONGITUDE,DEPTH,CTDPRS,CTDTMP,CTDSAL,CTDSAL_FLAG_W,SALNTY,SALNTY_FLAG_W,CTDOXY,CTDOXY_FLAG_W,OXYGEN,OXYGEN_FLAG_W,SILCAT,SILCAT_FLAG_W,NITRAT,NITRAT_FLAG_W,NITRIT,NITRIT_FLAG_W,PHSPHT,PHSPHT_FLAG_W,CFC-11,CFC-11_FLAG_W,CFC-12,CFC-12_FLAG_W,SF6,SF6_FLAG_W,TCARBN,TCARBN_FLAG_W,ALKALI,ALKALI_FLAG_W,PH_TOT,PH_TOT_FLAG_W,PH_TMP,TRITUM,TRITUM_FLAG_W,HELIUM,HELIUM_FLAG_W,DELHE3,DELHE3_FLAG_W,REFTMP,REFTMP_FLAG_W,DELC13,DELC13_FLAG_W,DELC14,DELC14_FLAG_W,DELO18,DELO18_FLAG_W,DOC,DOC_FLAG_W,TDN,TDN_FLAG_W,N2O,N2O_FLAG_W,CALCIUM,CALCIUM_FLAG_W,D15N_NO3,D15N_NO3_FLAG_W,BTL_DATE,BTL_TIME,BTL_LAT,BTL_LON,SALTREF,SALTREF_FLAG_W,D18O_NO3,D18O_NO3_FLAG_W,DSI30,DSI30_FLAG_W,CDOM_NASA,CDOM_NASA_FLAG_W,CDOM_UCSB,CDOM_UCSB_FLAG_W,D15N_NO2+NO3,D15N_NO2+NO3_FLAG_W,D18O_NO2+NO3,D18O_NO2+NO3_FLAG_W
,,,,,,,,,,,METERS,DBAR,ITS-90,PSS-78,,PSS-78,,UMOL/KG,,UMOL/KG,,UMOL/KG,,UMOL/KG,,UMOL/KG,,UMOL/KG,,PMOL/KG,,PMOL/KG,,FMOL/KG,,UMOL/KG,,UMOL/KG,,,,DEG C,TU,,NMOL/KG,,PERCNT,,DEG C,,/MILLE,,/MILLE,,/MILLE,,UMOL/KG,,UMOL/KG,,NMOL/KG,,MMOL/KG,,/MILLE,,,,,,G/KG,,/MILLE,,/MILLE,,,,,,/MILLE,,/MILLE,
320620140320,       P16S,      27,          1,          5,         05,2,20140411,       0607,   -54.9997,  -149.9999,     -999.0,  3099.3,   0.9319,  34.7116,2,  34.7115,2,    204.8,2,   204.6,2,  122.27,2,   32.15,2,    0.00,2,    2.21,2,   0.177,6,   0.071,6,    0.15,6,  2262.3,2,  2362.2,2,    7.669,2,       20,-999.000,1,-999.0000,1, -999.00,9,   0.9316,2,    0.47,2,  -161.6,2, -999.00,9,    40.2,2, -999.00,9,      19.72,6,     -999.0,9, -999.00,9, 20140411,      620, -54.9997,-150.0000,    34.8752,2,     -999.0,9,     -999.0,9,     -999.0,9,     -999.0,9,     -999.0,9,     -999.0,9
320620140320,       P16S,      27,          1,          4,         04,2,20140411,       0607,   -54.9997,  -149.9999,     -999.0,  3197.5,   0.9090,  34.7106,2,  34.7105,3,    205.1,2,   204.9,2,  123.44,2,   32.20,2,    0.00,2,    2.22,2,   0.170,2,   0.069,2,    0.21,2,  2261.8,2,  2362.4,2,   7.6684,2,       20,-999.000,9,-999.0000,1, -999.00,9,   0.9092,2,    0.42,2,  -161.2,2, -999.00,9,    39.9,2, -999.00,9,      19.86,2,     -999.0,9, -999.00,9, 20140411,      617, -54.9997,-149.9999,    34.8742,3,     -999.0,9,     -999.0,9,     -999.0,9,     -999.0,9,     -999.0,9,     -999.0,9
320620140320,       P16S,      27,          1,          3,         03,2,20140411,       0607,   -54.9997,  -149.9999,     -999.0,  3300.3,   0.8977,  34.7097,2,  34.7099,2,    205.4,2,   205.3,2,  125.00,2,   32.26,2,    0.00,2,    2.22,2,   0.195,2,   0.090,2,    0.12,2,  2262.4,2,    2363,2,   7.6676,2,       20,-999.000,1,-999.0000,1, -999.00,9,   0.8977,2,    0.29,4,  -169.3,2, -999.00,9,    38.8,2, -999.00,9,      19.62,2,     -999.0,9, -999.00,9, 20140411,      614, -54.9999,-149.9997,    34.8736,2,     -999.0,9,     -999.0,9,     -999.0,9,     -999.0,9,     -999.0,9,     -999.0,9
320620140320,       P16S,      27,          1,          2,         02,2,20140411,       0607,   -54.9997,  -149.9999,     -999.0,  3401.2,   0.8966,  34.7098,2,  34.7111,2,    205.1,2,   205.1,2,  124.80,2,   32.24,2,    0.00,2,    2.21,2,   0.200,2,   0.082,2,    0.15,2,  2262.9,2,    2364,2,   7.6673,2,       20,-999.000,9,-999.0000,1, -999.00,9,   0.8974,2,    0.48,2,  -157.5,2, -999.00,9,      39,2, -999.00,9,      19.69,2,     -999.0,1, -999.00,9, 20140411,      611, -55.0000,-149.9995,    34.8748,2,     -999.0,9,     -999.0,9,     -999.0,9,     -999.0,9,     -999.0,9,     -999.0,9
320620140320,       P16S,      27,          1,          1,         01,2,20140411,       0607,   -54.9997,  -149.9999,     -999.0,  3571.1,   0.9084,  34.7094,2,  34.7091,2,    205.0,2,   204.9,2,  125.78,2,   32.30,2,    0.00,2,    2.21,2,   0.177,2,   0.090,2,    0.23,2,  2263.9,2,    2364,2,   7.6674,2,       20,-999.000,1,-999.0000,1, -999.00,9,   0.9084,2,    0.51,2,  -161.4,2, -999.00,9,    38.4,2, -999.00,9,      19.78,2,     -999.0,1, -999.00,9, 20140411,      607, -54.9997,-149.9999,    34.8728,2,     -999.0,9,     -999.0,9,     -999.0,9,     -999.0,9,     -999.0,9,     -999.0,9