BOTTLE,20230715CCHSIOCBG
EXPOCODE,SECT_ID,STNNBR,CASTNO,SAMPNO,BTLNBR,BTLNBR_FLAG_W,DATE,TIME,LATITUDE,LONGITUDE,DEPTH,CTDPRS,CTDTMP,CTDSAL,CTDSAL_FLAG_W,SALNTY,SALNTY_FLAG_W,CTDOXY,CTDOXY_FLAG_W,OXYGEN,OXYGEN_FLAG_W,SILCAT,SILCAT_FLAG_W,NITRAT,NITRAT_FLAG_W,NITRIT,NITRIT_FLAG_W,PHSPHT,PHSPHT_FLAG_W,CFC-11,CFC-11_FLAG_W,CFC-12,CFC-12_FLAG_W,SF6,SF6_FLAG_W,TCARBN,TCARBN_FLAG_W,ALKALI,ALKALI_FLAG_W,PH_TOT,PH_TOT_FLAG_W,PH_TMP,TRITUM,TRITUM_FLAG_W,HELIUM,HELIUM_FLAG_W,DELHE3,DELHE3_FLAG_W,REFTMP,REFTMP_FLAG_W,DELC13,DELC13_FLAG_W,DELC14,DELC14_FLAG_W,DELO18,DELO18_FLAG_W,DOC,DOC_FLAG_W,TDN,TDN_FLAG_W,N2O,N2O_FLAG_W,CALCIUM,CALCIUM_FLAG_W,D15N_NO3,D15N_NO3_FLAG_W,BTL_DATE,BTL_TIME,BTL_LAT,BTL_LON,SALTREF,SALTREF_FLAG_W,D18O_NO3,D18O_NO3_FLAG_W,DSI30,DSI30_FLAG_W,CDOM_NASA,CDOM_NASA_FLAG_W,CDOM_UCSB,CDOM_UCSB_FLAG_W,D15N_NO2+NO3,D15N_NO2+NO3_FLAG_W,D18O_NO2+NO3,D18O_NO2+NO3_FLAG_W
,,,,,,,,,,,METERS,DBAR,ITS-90,PSS-78,,PSS-78,,UMOL/KG,,UMOL/KG,,UMOL/KG,,UMOL/KG,,UMOL/KG,,UMOL/KG,,PMOL/KG,,PMOL/KG,,FMOL/KG,,UMOL/KG,,UMOL/KG,,,,DEG C,TU,,NMOL/KG,,PERCNT,,DEG C,,/MILLE,,/MILLE,,/MILLE,,UMOL/KG,,UMOL/KG,,NMOL/KG,,MMOL/KG,,/MILLE,,,,,,G/KG,,/MILLE,,/MILLE,,,,,,/MILLE,,/MILLE,
320620140320,       P16S,      73,          1,          5,         05,2,20140428,       1328,   -26.3332,  -150.0005,       4735,  3799.6,   1.4710,  34.6913,2,  34.6920,2,    177.3,2,   177.3,2,  123.78,2,   33.90,2,    0.00,2,    2.36,2,   0.001,2,   0.000,2,    0.00,2,  2289.4,2,  2388.3,2,   7.6624,6,       20,-999.000,9,-999.0000,9, -999.00,9,   1.4710,2,    0.42,2,  -201.9,2, -999.00,9,  -999.0,9, -999.00,9,      22.78,2,     -999.0,9, -999.00,9, 20140428,     1349, -26.3332,-150.0005,    34.8556,2,     -999.0,9,     -999.0,9,     -999.0,9,     -999.0,9,     -999.0,9,     -999.0,9
320620140320,       P16S,      73,          1,          4,         04,2,20140428,       1328,   -26.3332,  -150.0005,       4735,  4098.6,   1.3661,  34.6994,2,  34.6997,2,    185.8,2,   186.3,2,  121.24,2,   33.33,2,    0.00,2,    2.31,2,   0.001,2,   0.000,2,    0.00,2,  2280.6,2,  2382.1,2,   7.6682,2,       20,-999.000,9,-999.0000,9, -999.00,9,   1.3662,2,    0.44,2,  -197.0,2, -999.00,9,  -999.0,9, -999.00,9,      20.95,2,     -999.0,9, -999.00,9, 20140428,     1343, -26.3332,-150.0005,    34.8633,2,     -999.0,9,     -999.0,9,     -999.0,9,     -999.0,9,     -999.0,9,     -999.0,9
320620140320,       P16S,      73,          1,          3,         03,2,20140428,       1328,   -26.3332,  -150.0005,       4735,  4399.4,   1.3105,  34.7042,2,  34.7043,2,    191.3,2,   191.5,2,  120.35,2,   32.96,2,    0.00,2,    2.28,2,-999.000,9,-999.000,9, -999.00,9,  2275.8,2,  2378.6,6,   7.6715,2,       20,-999.000,9,-999.0000,9, -999.00,9,   1.3111,2,    0.49,2,  -189.2,2, -999.00,9,  -999.0,9, -999.00,9,     -999.0,9,     -999.0,9, -999.00,9, 20140428,     1337, -26.3332,-150.0005,    34.8679,2,     -999.0,9,     -999.0,9,     -999.0,9,     -999.0,9,     -999.0,9,     -999.0,9
320620140320,       P16S,      73,          1,          2,         02,2,20140428,       1328,   -26.3332,  -150.0005,       4735,  4583.1,   1.3186,  34.7048,2,  34.7051,2,    192.2,2,   192.5,2,  120.26,2,   32.95,2,    0.00,2,    2.28,2,   0.001,2,   0.000,2,    0.00,2,  2275.2,2,  2377.8,2,   7.6728,2,       20,-999.000,9,-999.0000,9, -999.00,9,   1.3186,2,    0.50,2,  -185.0,2, -999.00,9,  -999.0,9, -999.00,9,      21.66,2,     -999.0,9, -999.00,9, 20140428,     1332, -26.3332,-150.0005,    34.8687,2,     -999.0,9,     -999.0,9,     -999.0,9,     -999.0,9,     -999.0,9,     -999.0,9
320620140320,       P16S,      73,          1,          1,         01,2,20140428,       1328,   -26.3332,  -150.0005,       4735,  4779.9,   1.3393,  34.7050,2,  34.7051,2,    192.3,2,   192.4,2,  119.67,2,   32.85,2,    0.00,2,    2.28,2,   0.001,2,   0.000,2,    0.01,2,  2274.7,6,  2378.5,2,   7.6735,2,       20,-999.000,9,-999.0000,9, -999.00,9,   1.3394,2,    0.49,2,  -183.8,2, -999.00,9,  -999.0,9, -999.00,9,      21.92,2,     -999.0,9, -999.00,9, 20140428,     1328, -26.3332,-150.0005,    34.8687,2,     -999.0,9,     -999.0,9,     -999.0,9,     -999.0,9,     -999.0,9,     -999.0,9