BOTTLE,20230715CCHSIOCBG
EXPOCODE,SECT_ID,STNNBR,CASTNO,SAMPNO,BTLNBR,BTLNBR_FLAG_W,DATE,TIME,LATITUDE,LONGITUDE,DEPTH,CTDPRS,CTDTMP,CTDSAL,CTDSAL_FLAG_W,SALNTY,SALNTY_FLAG_W,CTDOXY,CTDOXY_FLAG_W,OXYGEN,OXYGEN_FLAG_W,SILCAT,SILCAT_FLAG_W,NITRAT,NITRAT_FLAG_W,NITRIT,NITRIT_FLAG_W,PHSPHT,PHSPHT_FLAG_W,CFC-11,CFC-11_FLAG_W,CFC-12,CFC-12_FLAG_W,SF6,SF6_FLAG_W,TCARBN,TCARBN_FLAG_W,ALKALI,ALKALI_FLAG_W,PH_TOT,PH_TOT_FLAG_W,PH_TMP,TRITUM,TRITUM_FLAG_W,HELIUM,HELIUM_FLAG_W,DELHE3,DELHE3_FLAG_W,REFTMP,REFTMP_FLAG_W,DELC13,DELC13_FLAG_W,DELC14,DELC14_FLAG_W,DELO18,DELO18_FLAG_W,DOC,DOC_FLAG_W,TDN,TDN_FLAG_W,N2O,N2O_FLAG_W,CALCIUM,CALCIUM_FLAG_W,D15N_NO3,D15N_NO3_FLAG_W,BTL_DATE,BTL_TIME,BTL_LAT,BTL_LON,SALTREF,SALTREF_FLAG_W,D18O_NO3,D18O_NO3_FLAG_W,DSI30,DSI30_FLAG_W,CDOM_NASA,CDOM_NASA_FLAG_W,CDOM_UCSB,CDOM_UCSB_FLAG_W,D15N_NO2+NO3,D15N_NO2+NO3_FLAG_W,D18O_NO2+NO3,D18O_NO2+NO3_FLAG_W
,,,,,,,,,,,METERS,DBAR,ITS-90,PSS-78,,PSS-78,,UMOL/KG,,UMOL/KG,,UMOL/KG,,UMOL/KG,,UMOL/KG,,UMOL/KG,,PMOL/KG,,PMOL/KG,,FMOL/KG,,UMOL/KG,,UMOL/KG,,,,DEG C,TU,,NMOL/KG,,PERCNT,,DEG C,,/MILLE,,/MILLE,,/MILLE,,UMOL/KG,,UMOL/KG,,NMOL/KG,,MMOL/KG,,/MILLE,,,,,,G/KG,,/MILLE,,/MILLE,,,,,,/MILLE,,/MILLE,
320620140320,       P16S,      85,          1,          5,         05,2,20140502,       1549,   -18.3333,  -150.0002,       4187,  3399.1,   1.5376,  34.6842,2,  34.6840,2,    172.4,2,   172.3,2,  124.18,2,   34.18,2,    0.00,2,    2.39,2,  -0.002,2,   0.000,2,    0.00,2,    2294,2,    2390,2,   7.6605,2,       20,-999.000,9,-999.0000,9, -999.00,9,   1.5375,2, -999.00,9,  -999.0,9, -999.00,9,  -999.0,9, -999.00,9,      23.23,2,     -999.0,9, -999.00,1, 20140502,     1610, -18.3333,-150.0002,    34.8475,2,     -999.0,1,     -999.0,9,     -999.0,9,     -999.0,9,     -999.0,9,     -999.0,9
320620140320,       P16S,      85,          1,          4,         04,2,20140502,       1549,   -18.3333,  -150.0002,       4187,  3698.1,   1.5142,  34.6877,2,  34.6873,2,    175.4,2,   175.1,2,  123.79,2,   33.92,2,    0.00,2,    2.37,2,  -0.001,2,   0.000,2,    0.00,2,  -999.0,9,  -999.0,9,-999.0000,9,  -999.00,-999.000,9,-999.0000,9, -999.00,9,   1.5146,2, -999.00,9,  -999.0,9, -999.00,9,  -999.0,9, -999.00,9,      23.20,2,     -999.0,9, -999.00,1, 20140502,     1603, -18.3332,-150.0002,    34.8509,2,     -999.0,1,     -999.0,9,     -999.0,9,     -999.0,9,     -999.0,9,     -999.0,9
320620140320,       P16S,      85,          1,          3,         03,2,20140502,       1549,   -18.3333,  -150.0002,       4187,  4000.8,   1.5262,  34.6890,2,  34.6885,2,    176.1,2,   176.4,2,  123.39,2,   33.85,2,    0.00,2,    2.37,2,-999.000,9,-999.000,9, -999.00,9,    2290,2,  2388.6,6,   7.6628,2,       20,-999.000,9,-999.0000,9, -999.00,9,   1.5268,2, -999.00,9,  -999.0,9, -999.00,9,  -999.0,9, -999.00,9,     -999.0,9,     -999.0,9, -999.00,1, 20140502,     1557, -18.3333,-150.0002,    34.8521,2,     -999.0,1,     -999.0,9,     -999.0,9,     -999.0,9,     -999.0,9,     -999.0,9
320620140320,       P16S,      85,          1,          2,         02,2,20140502,       1549,   -18.3333,  -150.0002,       4187,  4140.1,   1.5374,  34.6894,2,  34.6922,3,    176.3,2,   176.4,2,  123.49,2,   33.77,2,    0.00,2,    2.36,2,  -0.002,2,   0.000,2,    0.00,2,  2289.3,2,  2389.1,2,   7.6631,2,       20,-999.000,9,-999.0000,9, -999.00,9,   1.5379,2, -999.00,9,  -999.0,9, -999.00,9,  -999.0,9, -999.00,9,      22.53,2,     -999.0,9, -999.00,1, 20140502,     1553, -18.3333,-150.0002,    34.8558,3,     -999.0,1,     -999.0,9,     -999.0,9,     -999.0,9,     -999.0,9,     -999.0,9
320620140320,       P16S,      85,          1,          1,         01,2,20140502,       1549,   -18.3333,  -150.0002,       4187,  4235.2,   1.5483,  34.6892,2,  34.6885,2,    176.3,2,   176.5,2,  123.59,2,   33.82,2,    0.00,2,    2.34,2,  -0.001,2,   0.000,2,    0.00,2,  2290.8,6,  2389.2,2,   7.6632,2,       20,-999.000,9,-999.0000,9, -999.00,9,   1.5483,2, -999.00,9,  -999.0,9, -999.00,9,  -999.0,9, -999.00,9,      22.42,2,     -999.0,9, -999.00,1, 20140502,     1549, -18.3333,-150.0002,    34.8521,2,     -999.0,1,     -999.0,9,     -999.0,9,     -999.0,9,     -999.0,9,     -999.0,9