BOTTLE,20230715CCHSIOCBG
EXPOCODE,SECT_ID,STNNBR,CASTNO,SAMPNO,BTLNBR,BTLNBR_FLAG_W,DATE,TIME,LATITUDE,LONGITUDE,DEPTH,CTDPRS,CTDTMP,CTDSAL,CTDSAL_FLAG_W,SALNTY,SALNTY_FLAG_W,CTDOXY,CTDOXY_FLAG_W,OXYGEN,OXYGEN_FLAG_W,SILCAT,SILCAT_FLAG_W,NITRAT,NITRAT_FLAG_W,NITRIT,NITRIT_FLAG_W,PHSPHT,PHSPHT_FLAG_W,CFC-11,CFC-11_FLAG_W,CFC-12,CFC-12_FLAG_W,SF6,SF6_FLAG_W,TCARBN,TCARBN_FLAG_W,ALKALI,ALKALI_FLAG_W,PH_TOT,PH_TOT_FLAG_W,PH_TMP,TRITUM,TRITUM_FLAG_W,HELIUM,HELIUM_FLAG_W,DELHE3,DELHE3_FLAG_W,REFTMP,REFTMP_FLAG_W,DELC13,DELC13_FLAG_W,DELC14,DELC14_FLAG_W,DELO18,DELO18_FLAG_W,DOC,DOC_FLAG_W,TDN,TDN_FLAG_W,N2O,N2O_FLAG_W,CALCIUM,CALCIUM_FLAG_W,D15N_NO3,D15N_NO3_FLAG_W,BTL_DATE,BTL_TIME,BTL_LAT,BTL_LON,SALTREF,SALTREF_FLAG_W,D18O_NO3,D18O_NO3_FLAG_W,DSI30,DSI30_FLAG_W,CDOM_NASA,CDOM_NASA_FLAG_W,CDOM_UCSB,CDOM_UCSB_FLAG_W,D15N_NO2+NO3,D15N_NO2+NO3_FLAG_W,D18O_NO2+NO3,D18O_NO2+NO3_FLAG_W
,,,,,,,,,,,METERS,DBAR,ITS-90,PSS-78,,PSS-78,,UMOL/KG,,UMOL/KG,,UMOL/KG,,UMOL/KG,,UMOL/KG,,UMOL/KG,,PMOL/KG,,PMOL/KG,,FMOL/KG,,UMOL/KG,,UMOL/KG,,,,DEG C,TU,,NMOL/KG,,PERCNT,,DEG C,,/MILLE,,/MILLE,,/MILLE,,UMOL/KG,,UMOL/KG,,NMOL/KG,,MMOL/KG,,/MILLE,,,,,,G/KG,,/MILLE,,/MILLE,,,,,,/MILLE,,/MILLE,
320620140320,       P16S,      75,          1,          5,         05,2,20140429,       0629,   -24.9998,  -150.0001,       4599,  3598.7,   1.5384,  34.6862,2,  34.6862,2,    171.7,2,   172.1,2,  125.11,2,   34.22,2,    0.00,2,    2.38,2,-999.000,9,-999.000,9, -999.00,9,  2294.7,2,  2391.5,2,   7.6565,2,       20,-999.000,9,-999.0000,9, -999.00,9,   1.5393,2, -999.00,9,  -999.0,9, -999.00,9,  -999.0,9, -999.00,9,     -999.0,9,     -999.0,1, -999.00,9, 20140429,      652, -24.9999,-150.0001,    34.8497,2,     -999.0,9,     -999.0,9,     -999.0,9,     -999.0,9,     -999.0,9,     -999.0,9
320620140320,       P16S,      75,          1,          4,         04,2,20140429,       0629,   -24.9998,  -150.0001,       4599,  3900.1,   1.4454,  34.6933,2,  34.6936,2,    179.8,2,   180.1,2,  123.25,2,   33.64,2,    0.00,2,    2.34,2,-999.000,9,-999.000,9, -999.00,9,  2286.3,2,  2386.5,2,   7.6631,2,       20,-999.000,9,-999.0000,9, -999.00,9,   1.4452,2, -999.00,9,  -999.0,9, -999.00,9,  -999.0,9, -999.00,9,     -999.0,9,     -999.0,9, -999.00,9, 20140429,      646, -24.9999,-150.0001,    34.8572,2,     -999.0,9,     -999.0,9,     -999.0,9,     -999.0,9,     -999.0,9,     -999.0,9
320620140320,       P16S,      75,          1,          3,         03,2,20140429,       0629,   -24.9998,  -150.0001,       4599,  4199.1,   1.3811,  34.6990,2,  34.6992,2,    185.9,2,   186.6,2,  121.59,2,   33.21,2,    0.00,2,    2.30,2,   0.000,2,   0.000,2,    0.01,2,  2280.4,2,  2381.3,2,   7.6675,6,       20,-999.000,9,-999.0000,9, -999.00,9,   1.3811,2, -999.00,9,  -999.0,9, -999.00,9,  -999.0,9, -999.00,9,      21.31,2,     -999.0,1, -999.00,9, 20140429,      640, -24.9999,-150.0001,    34.8628,2,     -999.0,9,     -999.0,9,     -999.0,9,     -999.0,9,     -999.0,9,     -999.0,9
320620140320,       P16S,      75,          1,          2,         02,2,20140429,       0629,   -24.9998,  -150.0001,       4599,  4400.3,   1.3688,  34.7009,2,  34.7003,2,    188.2,2,   188.6,2,  120.91,2,   33.05,2,    0.00,2,    2.29,2,  -0.001,2,   0.000,2,    0.00,2,  2278.8,2,  2380.1,2,   7.6701,2,       20,-999.000,9,-999.0000,9, -999.00,9,   1.3692,2, -999.00,9,  -999.0,9, -999.00,9,  -999.0,9, -999.00,9,      20.46,2,     -999.0,9, -999.00,9, 20140429,      635, -24.9998,-150.0001,    34.8639,2,     -999.0,9,     -999.0,9,     -999.0,9,     -999.0,9,     -999.0,9,     -999.0,9
320620140320,       P16S,      75,          1,          1,         01,2,20140429,       0629,   -24.9998,  -150.0001,       4599,  4666.5,   1.3733,  34.7023,2,  34.7027,2,    190.0,2,   189.6,2,  120.22,2,   32.92,2,    0.00,2,    2.29,2,  -0.001,2,   0.000,2,    0.01,2,  2277.7,6,  2378.6,2,   7.6717,2,       20,-999.000,9,-999.0000,9, -999.00,9,   1.3733,2, -999.00,9,  -999.0,9, -999.00,9,  -999.0,9, -999.00,9,      21.73,2,     -999.0,1, -999.00,9, 20140429,      629, -24.9998,-150.0001,    34.8663,2,     -999.0,9,     -999.0,9,     -999.0,9,     -999.0,9,     -999.0,9,     -999.0,9