BOTTLE,20230715CCHSIOCBG
EXPOCODE,SECT_ID,STNNBR,CASTNO,SAMPNO,BTLNBR,BTLNBR_FLAG_W,DATE,TIME,LATITUDE,LONGITUDE,DEPTH,CTDPRS,CTDTMP,CTDSAL,CTDSAL_FLAG_W,SALNTY,SALNTY_FLAG_W,CTDOXY,CTDOXY_FLAG_W,OXYGEN,OXYGEN_FLAG_W,SILCAT,SILCAT_FLAG_W,NITRAT,NITRAT_FLAG_W,NITRIT,NITRIT_FLAG_W,PHSPHT,PHSPHT_FLAG_W,CFC-11,CFC-11_FLAG_W,CFC-12,CFC-12_FLAG_W,SF6,SF6_FLAG_W,TCARBN,TCARBN_FLAG_W,ALKALI,ALKALI_FLAG_W,PH_TOT,PH_TOT_FLAG_W,PH_TMP,TRITUM,TRITUM_FLAG_W,HELIUM,HELIUM_FLAG_W,DELHE3,DELHE3_FLAG_W,REFTMP,REFTMP_FLAG_W,DELC13,DELC13_FLAG_W,DELC14,DELC14_FLAG_W,DELO18,DELO18_FLAG_W,DOC,DOC_FLAG_W,TDN,TDN_FLAG_W,N2O,N2O_FLAG_W,CALCIUM,CALCIUM_FLAG_W,D15N_NO3,D15N_NO3_FLAG_W,BTL_DATE,BTL_TIME,BTL_LAT,BTL_LON,SALTREF,SALTREF_FLAG_W,D18O_NO3,D18O_NO3_FLAG_W,DSI30,DSI30_FLAG_W,CDOM_NASA,CDOM_NASA_FLAG_W,CDOM_UCSB,CDOM_UCSB_FLAG_W,D15N_NO2+NO3,D15N_NO2+NO3_FLAG_W,D18O_NO2+NO3,D18O_NO2+NO3_FLAG_W
,,,,,,,,,,,METERS,DBAR,ITS-90,PSS-78,,PSS-78,,UMOL/KG,,UMOL/KG,,UMOL/KG,,UMOL/KG,,UMOL/KG,,UMOL/KG,,PMOL/KG,,PMOL/KG,,FMOL/KG,,UMOL/KG,,UMOL/KG,,,,DEG C,TU,,NMOL/KG,,PERCNT,,DEG C,,/MILLE,,/MILLE,,/MILLE,,UMOL/KG,,UMOL/KG,,NMOL/KG,,MMOL/KG,,/MILLE,,,,,,G/KG,,/MILLE,,/MILLE,,,,,,/MILLE,,/MILLE,
320620140320,       P16S,      13,          1,          5,         05,2,20140404,       0140,   -63.0000,  -149.9992,       3668,  2913.3,   0.2324,  34.6936,2,  34.6938,2,    217.3,2,   217.6,2,  127.44,2,   32.44,2,    0.00,2,    2.25,2,   0.521,2,   0.345,2,    0.29,3,  2262.3,2,  2358.2,2,     7.66,6,       20,-999.000,9,-999.0000,9, -999.00,9,   0.2323,2,    0.49,2,  -166.6,2, -999.00,9,    58.3,3, -999.00,9,      19.12,2,     -999.0,9, -999.00,9, 20140404,      157, -62.9999,-149.9990,    34.8574,2,     -999.0,9,     -999.0,9,     -999.0,9,     -999.0,9,     -999.0,9,     -999.0,9
320620140320,       P16S,      13,          1,          4,         04,2,20140404,       0140,   -63.0000,  -149.9992,       3668,  3165.4,   0.2469,  34.6928,2,  34.6938,2,    217.2,2,   217.2,2,  127.44,2,   32.42,2,    0.00,2,    2.26,2,   0.676,2,   0.364,2,    0.29,2,  -999.0,9,  -999.0,9,-999.0000,9,  -999.00,-999.000,9,-999.0000,1, -999.00,9,   0.2467,2, -999.00,9,  -999.0,9, -999.00,9,    39.7,2, -999.00,9,      19.40,2,     -999.0,9, -999.00,9, 20140404,      152, -62.9998,-150.0002,    34.8574,2,     -999.0,9,     -999.0,9,     -999.0,9,     -999.0,1,     -999.0,9,     -999.0,9
320620140320,       P16S,      13,          1,          3,         03,2,20140404,       0140,   -63.0000,  -149.9992,       3668,  3367.1,   0.2634,  34.6932,2,  34.6926,3,    217.1,2,   217.1,2,  127.53,2,   32.39,2,    0.00,2,    2.24,2,   0.671,6,   0.364,6,    0.20,6,  2262.7,2,  2357.9,6,   7.6607,2,       20,-999.000,1,-999.0000,1, -999.00,9,   0.2633,2,    0.50,2,  -163.9,2, -999.00,9,    40.2,2, -999.00,9,      19.38,6,     -999.0,9, -999.00,9, 20140404,      147, -62.9997,-150.0010,    34.8562,3,     -999.0,9,     -999.0,9,     -999.0,9,     -999.0,9,     -999.0,9,     -999.0,9
320620140320,       P16S,      13,          1,          2,         02,2,20140404,       0140,   -63.0000,  -149.9992,       3668,  3550.9,   0.2811,  34.6929,2,  34.6928,2,    217.0,2,   217.2,2,  127.92,2,   32.45,2,    0.00,2,    2.23,2,   0.734,2,   0.360,2,    0.24,2,  -999.0,9,  -999.0,9,-999.0000,9,  -999.00,-999.000,9,-999.0000,1, -999.00,9,   0.2809,2, -999.00,9,  -999.0,9, -999.00,9,    38.7,2, -999.00,9,      19.14,2,     -999.0,9, -999.00,9, 20140404,      143, -62.9997,-150.0003,    34.8564,2,     -999.0,9,     -999.0,9,     -999.0,9,     -999.0,9,     -999.0,9,     -999.0,9
320620140320,       P16S,      13,          1,          1,         01,2,20140404,       0140,   -63.0000,  -149.9992,       3668,  3708.8,   0.2960,  34.6930,2,  34.6938,3,    217.1,2,   216.8,2,  127.83,2,   32.43,2,    0.00,2,    2.25,2,   0.662,2,   0.364,2,    0.26,2,  2264.3,6,  2356.8,2,   7.6604,2,       20,-999.000,1,-999.0000,1, -999.00,9,   0.2962,2,    0.47,2,  -167.2,2, -999.00,9,    38.3,2, -999.00,9,      19.31,2,     -999.0,9, -999.00,9, 20140404,      139, -63.0001,-149.9992,    34.8574,3,     -999.0,9,     -999.0,9,     -999.0,9,     -999.0,1,     -999.0,9,     -999.0,9