BOTTLE,20230715CCHSIOCBG
EXPOCODE,SECT_ID,STNNBR,CASTNO,SAMPNO,BTLNBR,BTLNBR_FLAG_W,DATE,TIME,LATITUDE,LONGITUDE,DEPTH,CTDPRS,CTDTMP,CTDSAL,CTDSAL_FLAG_W,SALNTY,SALNTY_FLAG_W,CTDOXY,CTDOXY_FLAG_W,OXYGEN,OXYGEN_FLAG_W,SILCAT,SILCAT_FLAG_W,NITRAT,NITRAT_FLAG_W,NITRIT,NITRIT_FLAG_W,PHSPHT,PHSPHT_FLAG_W,CFC-11,CFC-11_FLAG_W,CFC-12,CFC-12_FLAG_W,SF6,SF6_FLAG_W,TCARBN,TCARBN_FLAG_W,ALKALI,ALKALI_FLAG_W,PH_TOT,PH_TOT_FLAG_W,PH_TMP,TRITUM,TRITUM_FLAG_W,HELIUM,HELIUM_FLAG_W,DELHE3,DELHE3_FLAG_W,REFTMP,REFTMP_FLAG_W,DELC13,DELC13_FLAG_W,DELC14,DELC14_FLAG_W,DELO18,DELO18_FLAG_W,DOC,DOC_FLAG_W,TDN,TDN_FLAG_W,N2O,N2O_FLAG_W,CALCIUM,CALCIUM_FLAG_W,D15N_NO3,D15N_NO3_FLAG_W,BTL_DATE,BTL_TIME,BTL_LAT,BTL_LON,SALTREF,SALTREF_FLAG_W,D18O_NO3,D18O_NO3_FLAG_W,DSI30,DSI30_FLAG_W,CDOM_NASA,CDOM_NASA_FLAG_W,CDOM_UCSB,CDOM_UCSB_FLAG_W,D15N_NO2+NO3,D15N_NO2+NO3_FLAG_W,D18O_NO2+NO3,D18O_NO2+NO3_FLAG_W
,,,,,,,,,,,METERS,DBAR,ITS-90,PSS-78,,PSS-78,,UMOL/KG,,UMOL/KG,,UMOL/KG,,UMOL/KG,,UMOL/KG,,UMOL/KG,,PMOL/KG,,PMOL/KG,,FMOL/KG,,UMOL/KG,,UMOL/KG,,,,DEG C,TU,,NMOL/KG,,PERCNT,,DEG C,,/MILLE,,/MILLE,,/MILLE,,UMOL/KG,,UMOL/KG,,NMOL/KG,,MMOL/KG,,/MILLE,,,,,,G/KG,,/MILLE,,/MILLE,,,,,,/MILLE,,/MILLE,
320620140320,       P16S,      22,          1,          5,         05,2,20140409,       0223,   -57.4988,  -149.9985,       2998,  2333.8,   0.8456,  34.7106,2,  34.7105,2,    205.4,2,   205.7,2,  122.84,2,   32.27,2,    0.00,2,    2.23,2,   0.190,2,   0.064,2,    0.09,2,  2261.6,2,  2363.3,2,    7.669,6,       20,-999.000,9,-999.0000,9, -999.00,9,   0.8453,2, -999.00,9,  -999.0,9, -999.00,9,  -999.0,9, -999.00,9,      20.05,2,     -999.0,9, -999.00,9, 20140409,      242, -57.4996,-149.9983,    34.8742,2,     -999.0,9,     -999.0,9,     -999.0,9,     -999.0,9,     -999.0,9,     -999.0,9
320620140320,       P16S,      22,          1,          4,         04,2,20140409,       0223,   -57.4988,  -149.9985,       2998,  2536.9,   0.8166,  34.7089,2,  34.7089,2,    205.9,2,   205.8,2,  125.96,2,   32.38,2,    0.00,2,    2.24,2,-999.000,9,-999.000,9, -999.00,9,  -999.0,9,  -999.0,9,-999.0000,9,  -999.00,-999.000,9,-999.0000,9, -999.00,9,   0.8162,2, -999.00,9,  -999.0,9, -999.00,9,  -999.0,9, -999.00,9,     -999.0,9,     -999.0,9, -999.00,9, 20140409,      237, -57.4994,-149.9984,    34.8726,2,     -999.0,9,     -999.0,9,     -999.0,9,     -999.0,1,     -999.0,9,     -999.0,9
320620140320,       P16S,      22,          1,          3,         03,2,20140409,       0223,   -57.4988,  -149.9985,       2998,  2700.0,   0.7904,  34.7075,2,  34.7070,2,    205.8,2,   206.0,2,  129.57,2,   32.48,2,    0.00,2,    2.24,2,   0.197,2,   0.072,2,    0.10,2,  2262.3,2,  2363.8,2,   7.6697,2,       20,-999.000,9,-999.0000,9, -999.00,9,   0.7900,2, -999.00,9,  -999.0,9, -999.00,9,  -999.0,9, -999.00,9,      19.92,2,     -999.0,9, -999.00,9, 20140409,      233, -57.4993,-149.9984,    34.8706,2,     -999.0,9,     -999.0,9,     -999.0,9,     -999.0,9,     -999.0,9,     -999.0,9
320620140320,       P16S,      22,          1,          2,         02,2,20140409,       0223,   -57.4988,  -149.9985,       2998,  2849.9,   0.7716,  34.7064,2,  34.7066,2,    206.1,2,   206.0,2,  130.16,2,   32.52,2,    0.00,2,    2.22,2,   0.228,2,   0.086,2,    0.15,2,  2263.2,2,  2364.4,6,   7.6666,2,       20,-999.000,9,-999.0000,9, -999.00,9,   0.7716,2, -999.00,9,  -999.0,9, -999.00,9,  -999.0,9, -999.00,9,      19.89,2,     -999.0,9, -999.00,9, 20140409,      229, -57.4989,-149.9985,    34.8702,2,     -999.0,9,     -999.0,9,     -999.0,9,     -999.0,1,     -999.0,9,     -999.0,9
320620140320,       P16S,      22,          1,          1,         01,2,20140409,       0223,   -57.4988,  -149.9985,       2998,  3063.2,   0.7662,  34.7058,2,  34.7056,2,    206.0,2,   206.1,2,  130.84,2,   32.53,2,    0.00,2,    2.24,2,   0.248,2,   0.096,2,    0.12,2,  2264.5,6,    2363,2,   7.6659,2,       20,-999.000,9,-999.0000,9, -999.00,9,   0.7662,2, -999.00,9,  -999.0,9, -999.00,9,  -999.0,9, -999.00,9,      19.84,2,     -999.0,9, -999.00,9, 20140409,      224, -57.4987,-149.9984,    34.8692,2,     -999.0,9,     -999.0,9,     -999.0,9,     -999.0,9,     -999.0,9,     -999.0,9