BOTTLE,20230715CCHSIOCBG
EXPOCODE,SECT_ID,STNNBR,CASTNO,SAMPNO,BTLNBR,BTLNBR_FLAG_W,DATE,TIME,LATITUDE,LONGITUDE,DEPTH,CTDPRS,CTDTMP,CTDSAL,CTDSAL_FLAG_W,SALNTY,SALNTY_FLAG_W,CTDOXY,CTDOXY_FLAG_W,OXYGEN,OXYGEN_FLAG_W,SILCAT,SILCAT_FLAG_W,NITRAT,NITRAT_FLAG_W,NITRIT,NITRIT_FLAG_W,PHSPHT,PHSPHT_FLAG_W,CFC-11,CFC-11_FLAG_W,CFC-12,CFC-12_FLAG_W,SF6,SF6_FLAG_W,TCARBN,TCARBN_FLAG_W,ALKALI,ALKALI_FLAG_W,PH_TOT,PH_TOT_FLAG_W,PH_TMP,TRITUM,TRITUM_FLAG_W,HELIUM,HELIUM_FLAG_W,DELHE3,DELHE3_FLAG_W,REFTMP,REFTMP_FLAG_W,DELC13,DELC13_FLAG_W,DELC14,DELC14_FLAG_W,DELO18,DELO18_FLAG_W,DOC,DOC_FLAG_W,TDN,TDN_FLAG_W,N2O,N2O_FLAG_W,CALCIUM,CALCIUM_FLAG_W,D15N_NO3,D15N_NO3_FLAG_W,BTL_DATE,BTL_TIME,BTL_LAT,BTL_LON,SALTREF,SALTREF_FLAG_W,D18O_NO3,D18O_NO3_FLAG_W,DSI30,DSI30_FLAG_W,CDOM_NASA,CDOM_NASA_FLAG_W,CDOM_UCSB,CDOM_UCSB_FLAG_W,D15N_NO2+NO3,D15N_NO2+NO3_FLAG_W,D18O_NO2+NO3,D18O_NO2+NO3_FLAG_W
,,,,,,,,,,,METERS,DBAR,ITS-90,PSS-78,,PSS-78,,UMOL/KG,,UMOL/KG,,UMOL/KG,,UMOL/KG,,UMOL/KG,,UMOL/KG,,PMOL/KG,,PMOL/KG,,FMOL/KG,,UMOL/KG,,UMOL/KG,,,,DEG C,TU,,NMOL/KG,,PERCNT,,DEG C,,/MILLE,,/MILLE,,/MILLE,,UMOL/KG,,UMOL/KG,,NMOL/KG,,MMOL/KG,,/MILLE,,,,,,G/KG,,/MILLE,,/MILLE,,,,,,/MILLE,,/MILLE,
320620140320,       P16S,      17,          2,         36,         36,2,20140407,       0545,   -60.0000,  -149.9991,       2713,     5.3,   1.0092,  33.9298,2,  33.9305,2,    336.9,2,   338.6,2,   48.54,2,   25.40,2,    0.24,2,    1.73,2,   5.903,2,   3.078,2,    3.10,2,  2175.1,2,  2296.2,2,   7.7564,6,       20,-999.000,9,-999.0000,9, -999.00,9,   1.0087,2,    1.20,2,  -123.2,2, -999.00,9,    38.8,2,   29.07,2,      14.91,2,     -999.0,1,    6.70,2, 20140407,      706, -59.9999,-149.9995,    34.0904,2,       3.21,2,     -999.0,1,     -999.0,9,     -999.0,9,       5.88,2,       3.24,2
320620140320,       P16S,      17,          2,         35,         35,9,20140407,       0545,   -60.0000,  -149.9991,       2713,    34.7,   1.0011,  33.9303,2,-999.0000,9,   -999.0,9,  -999.0,9, -999.00,9, -999.00,9, -999.00,9, -999.00,9,-999.000,9,-999.000,9, -999.00,9,  -999.0,9,  -999.0,9,-999.0000,9,  -999.00,-999.000,9,-999.0000,9, -999.00,9,   1.0010,2, -999.00,9,  -999.0,9, -999.00,9,    38.9,2,   31.53,2,     -999.0,9,     -999.0,9, -999.00,9, 20140407,      702, -59.9999,-149.9996,     -999.0,9,     -999.0,9,     -999.0,9,     -999.0,9,     -999.0,9,     -999.0,9,     -999.0,9
320620140320,       P16S,      17,          2,         34,         34,2,20140407,       0545,   -60.0000,  -149.9991,       2713,    35.3,   1.0006,  33.9307,2,  33.9306,2,    337.5,2,   337.4,2,   48.25,2,   25.46,2,    0.24,2,    1.75,2,   5.651,2,   2.944,2,    3.06,2,  2174.8,2,  2297.1,2,   7.7544,2,       20,-999.000,9,-999.0000,9, -999.00,9,   1.0011,2, -999.00,9,  -999.0,9, -999.00,9,  -999.0,9, -999.00,9,      15.15,2,     -999.0,9,    6.72,2, 20140407,      702, -59.9999,-149.9996,    34.0906,2,       3.06,2,     -999.0,9,     -999.0,9,     -999.0,9,       5.91,2,       3.24,2
320620140320,       P16S,      17,          2,         32,         32,2,20140407,       0545,   -60.0000,  -149.9991,       2713,    60.1,   0.9934,  33.9316,2,-999.0000,9,   -999.0,9,  -999.0,9, -999.00,9, -999.00,9, -999.00,9, -999.00,9,-999.000,9,-999.000,9, -999.00,9,  -999.0,9,  -999.0,9,-999.0000,9,  -999.00,-999.000,9,-999.0000,9, -999.00,9,   0.9937,2, -999.00,9,  -999.0,9, -999.00,9,  -999.0,9, -999.00,9,     -999.0,9,     -999.0,9, -999.00,9, 20140407,      700, -59.9999,-149.9995,     -999.0,9,     -999.0,9,     -999.0,9,     -999.0,9,     -999.0,9,     -999.0,9,     -999.0,9
320620140320,       P16S,      17,          2,         33,         33,2,20140407,       0545,   -60.0000,  -149.9991,       2713,    60.8,   0.9944,  33.9316,2,  33.9330,2,    338.2,2,   337.3,2,   48.25,2,   25.45,2,    0.24,2,    1.75,2,   5.782,2,   3.095,2,    2.89,2,    2175,2,  2297.3,6,   7.7548,2,       20,-999.000,9,-999.0000,9, -999.00,9,   0.9932,2, -999.00,9,  -999.0,9, -999.00,9,    40.9,2,   29.79,2,      14.87,2,     -999.0,1,    6.68,2, 20140407,      701, -59.9999,-149.9996,    34.0930,2,       3.01,2,     -999.0,9,     -999.0,9,     -999.0,9,       5.89,2,       3.46,2
320620140320,       P16S,      17,          2,         31,         31,2,20140407,       0545,   -60.0000,  -149.9991,       2713,    83.3,   0.3086,  34.0352,2,  34.0425,2,    326.8,2,   326.2,2,   56.74,2,   26.85,2,    0.22,2,    1.90,2,   5.385,2,   2.926,2,    2.72,2,  2191.1,6,  2303.7,2,    7.727,2,       20,-999.000,9,-999.0000,9, -999.00,9,   0.3643,3, -999.00,9,  -999.0,9, -999.00,9,    40.7,2,   32.14,2,      16.02,2,     -999.0,9,    6.11,2, 20140407,      659, -59.9999,-149.9996,    34.2030,2,       2.86,2,     -999.0,1,     -999.0,9,     -999.0,9,       5.54,2,       3.06,2
320620140320,       P16S,      17,          2,         30,         30,2,20140407,       0545,   -60.0000,  -149.9991,       2713,   109.2,  -0.7575,  34.3324,2,  34.3313,2,    280.4,2,   283.4,2,   75.97,2,   30.62,2,    0.22,2,    2.17,2,   4.190,2,   2.165,2,    2.14,2,  2227.5,2,  2320.5,2,   7.6599,2,       20,-999.000,9,-999.0000,9, -999.00,9,  -0.7581,2, -999.00,9,  -999.0,9, -999.00,9,    38.6,2,   36.13,2,      18.43,2,     -999.0,1,    4.97,2, 20140407,      657, -59.9999,-149.9996,    34.4932,2,       2.27,2,     -999.0,9,     -999.0,9,     -999.0,9,       4.76,2,       2.47,2
320620140320,       P16S,      17,          2,         29,         29,2,20140407,       0545,   -60.0000,  -149.9991,       2713,   133.7,  -0.3155,  34.4551,2,  34.4561,2,    254.2,2,   250.7,2,   81.82,2,   32.04,2,    0.07,2,    2.23,2,   2.920,2,   1.614,2,    1.28,2,  2241.4,2,  2328.1,2,   7.6412,2,       20,-999.000,9,-999.0000,9, -999.00,9,  -0.3093,2,    0.59,2,  -140.8,2, -999.00,9,    38.3,2,   36.87,2,      19.92,2,     -999.0,9,    4.76,2, 20140407,      656, -59.9999,-149.9996,    34.6186,2,       2.09,2,     -999.0,9,     -999.0,9,     -999.0,9,       4.74,2,       2.12,2
320620140320,       P16S,      17,          2,         28,         28,2,20140407,       0545,   -60.0000,  -149.9991,       2713,   161.1,   0.3594,  34.5577,2,  34.5580,2,    221.2,2,   222.2,2,   86.79,2,   32.46,2,    0.03,2,    2.24,2,   1.998,2,   1.067,2,    1.00,2,  2249.8,2,  2334.4,2,   7.6338,6,       20,-999.000,9,-999.0000,9, -999.00,9,   0.3591,2, -999.00,9,  -999.0,9, -999.00,9,    37.2,2,   38.37,2,      20.84,2,     -999.0,9,    4.72,2, 20140407,      654, -60.0000,-149.9996,    34.7210,2,       1.93,2,     -999.0,1,     -999.0,9,     -999.0,9,       4.70,2,       1.98,2
320620140320,       P16S,      17,          2,         27,         27,2,20140407,       0545,   -60.0000,  -149.9991,       2713,   186.5,   0.9968,  34.6411,2,  34.6390,2,    198.3,2,   200.6,2,   90.01,2,   32.58,2,    0.01,2,    2.25,2,   1.128,2,   0.597,2,    0.73,2,  2255.3,2,  2340.2,2,   7.6333,2,       20,-999.000,9,-999.0000,9, -999.00,9,   0.9940,2,    0.44,2,  -149.6,2, -999.00,9,    38.4,2,    37.2,2,      19.90,2,     -999.0,1,    4.67,2, 20140407,      653, -60.0000,-149.9996,    34.8023,2,       1.78,2,     -999.0,9,     -999.0,9,     -999.0,9,       4.65,2,       1.85,2
320620140320,       P16S,      17,          2,         26,         26,2,20140407,       0545,   -60.0000,  -149.9991,       2713,   208.0,   1.2577,  34.6808,2,  34.6844,2,    190.7,2,   190.9,2,   92.54,2,   32.53,2,    0.01,2,    2.24,2,   0.702,2,   0.383,2,    0.34,2,    2259,2,  2344.6,2,   7.6341,2,       20,-999.000,9,-999.0000,9, -999.00,9,   1.2565,2, -999.00,9,  -999.0,9, -999.00,9,      40,2,   36.76,2,      21.49,2,     -999.0,9,    4.67,2, 20140407,      652, -59.9999,-149.9996,    34.8479,2,       1.89,2,     -999.0,1,     -999.0,9,     -999.0,9,       4.67,2,       1.90,2
320620140320,       P16S,      17,          2,         25,         25,2,20140407,       0545,   -60.0000,  -149.9991,       2713,   233.5,   1.3779,  34.7020,2,  34.7032,2,    187.7,2,   187.4,2,   93.91,2,   32.50,2,    0.00,2,    2.24,2,   0.517,2,   0.309,2,    0.19,2,  2258.9,2,  2346.4,2,   7.6374,2,       20,-999.000,9,-999.0000,9, -999.00,9,   1.3785,2,    0.45,2,  -149.5,2, -999.00,9,    37.9,2,    35.1,2,      21.19,2,     -999.0,9,    4.70,2, 20140407,      650, -59.9999,-149.9996,    34.8669,2,       1.83,2,     -999.0,9,     -999.0,9,     -999.0,9,       4.70,2,       1.83,2
320620140320,       P16S,      17,          2,         24,         24,2,20140407,       0545,   -60.0000,  -149.9991,       2713,   264.3,   1.4379,  34.7168,2,  34.7146,2,    187.1,2,   187.1,2,   95.76,2,   32.34,2,    0.00,2,    2.21,2,   0.413,2,   0.194,2,    0.34,2,  2259.3,2,  2348.2,2,   7.6424,2,       20,-999.000,9,-999.0000,9, -999.00,9,   1.4378,2, -999.00,9,  -999.0,9, -999.00,9,    38.3,2,   35.37,2,      21.04,2,     -999.0,1,    4.66,2, 20140407,      649, -59.9999,-149.9996,    34.8783,2,       1.71,2,     -999.0,9,     -999.0,9,     -999.0,9,       4.66,2,       1.71,2
320620140320,       P16S,      17,          2,         23,         23,2,20140407,       0545,   -60.0000,  -149.9991,       2713,   313.6,   1.4195,  34.7242,2,  34.7235,2,    187.5,2,   186.5,2,   98.40,2,   32.36,2,    0.00,2,    2.23,2,   0.354,2,   0.158,2,    0.07,2,  2260.4,2,  2349.5,2,    7.643,2,       20,-999.000,9,-999.0000,9, -999.00,9,   1.4200,2, -999.00,9,  -999.0,9, -999.00,9,    39.6,2,   35.03,2,      21.01,2,     -999.0,9,    4.71,2, 20140407,      647, -59.9999,-149.9996,    34.8872,2,       1.82,2,     -999.0,1,     -999.0,9,     -999.0,9,       4.71,2,       1.82,2
320620140320,       P16S,      17,          2,         22,         22,2,20140407,       0545,   -60.0000,  -149.9991,       2713,   364.4,   1.3680,  34.7274,2,  34.7280,2,    188.1,2,   188.3,2,  100.74,2,   32.28,2,    0.00,2,    2.23,2,   0.246,2,   0.121,2,    0.10,2,  2260.3,2,  2352.7,2,   7.6485,2,       20,-999.000,9,-999.0000,9, -999.00,9,   1.3677,2,    0.44,2,  -153.4,2, -999.00,9,    38.9,2,   34.98,2,      20.72,2,     -999.0,9,    4.76,2, 20140407,      645, -59.9999,-149.9996,    34.8917,2,       1.78,2,     -999.0,9,     -999.0,9,     -999.0,9,       4.76,2,       1.78,2
320620140320,       P16S,      17,          2,         21,         21,2,20140407,       0545,   -60.0000,  -149.9991,       2713,   413.6,   1.3370,  34.7278,2,  34.7282,2,    188.9,2,   189.2,2,  102.11,2,   32.21,2,    0.00,2,    2.22,2,   0.247,2,   0.110,2,    0.09,2,  -999.0,9,  -999.0,9,-999.0000,9,  -999.00,-999.000,9,-999.0000,9, -999.00,9,   1.3366,2, -999.00,9,  -999.0,9, -999.00,9,    38.6,2,   35.88,2,      20.42,2,     -999.0,9,    4.76,2, 20140407,      644, -59.9999,-149.9996,    34.8919,2,       1.83,2,     -999.0,1,     -999.0,9,     -999.0,9,       4.76,2,       1.83,2
320620140320,       P16S,      17,          2,         20,         20,2,20140407,       0545,   -60.0000,  -149.9991,       2713,   464.2,   1.2974,  34.7283,2,  34.7284,2,    189.3,2,   190.2,2,  103.67,2,   32.22,2,    0.00,2,    2.22,2,   0.228,2,   0.106,2,    0.12,2,    2261,2,  2353.4,2,   7.6522,2,       20,-999.000,9,-999.0000,9, -999.00,9,   1.2978,2, -999.00,9,  -999.0,9, -999.00,9,    40.8,2,    35.9,2,      20.04,2,     -999.0,1,    4.73,2, 20140407,      642, -59.9999,-149.9995,    34.8921,2,       1.82,2,     -999.0,9,     -999.0,9,     -999.0,9,       4.73,2,       1.82,2
320620140320,       P16S,      17,          2,         19,         19,2,20140407,       0545,   -60.0000,  -149.9991,       2713,   531.9,   1.2431,  34.7276,2,  34.7274,2,    190.6,2,   190.9,2,  105.52,2,   32.25,2,    0.00,2,    2.22,2,   0.197,2,   0.096,2,    0.09,2,  2261.2,2,  2353.1,3,    7.652,2,       20,-999.000,9,-999.0000,9, -999.00,9,   1.2436,2,    0.44,2,  -149.3,2, -999.00,9,    39.3,2,   36.63,2,      20.35,2,     -999.0,9,    4.73,2, 20140407,      640, -59.9999,-149.9994,    34.8912,2,       1.87,2,     -999.0,1,     -999.0,9,     -999.0,9,       4.73,2,       1.87,2
320620140320,       P16S,      17,          2,         18,         18,2,20140407,       0545,   -60.0000,  -149.9991,       2713,   636.0,   1.1676,  34.7255,2,  34.7260,2,    192.3,2,   191.1,2,  108.94,2,   32.44,2,    0.00,2,    2.23,2,-999.000,9,-999.000,9, -999.00,9,  2262.3,2,  2355.6,2,   7.6501,2,       20,-999.000,9,-999.0000,9, -999.00,9,   1.1680,2, -999.00,9,  -999.0,9, -999.00,9,    39.6,2, -999.00,9,     -999.0,9,     -999.0,9,    4.74,2, 20140407,      637, -59.9999,-149.9994,    34.8898,2,       1.79,2,     -999.0,9,     -999.0,9,     -999.0,9,       4.74,2,       1.79,2
320620140320,       P16S,      17,          2,         17,         17,2,20140407,       0545,   -60.0000,  -149.9991,       2713,   735.9,   1.0970,  34.7238,2,  34.7237,2,    192.9,2,   190.1,2,  112.45,2,   32.74,2,    0.00,2,    2.25,2,   0.118,2,   0.049,2,    0.07,2,  2264.4,2,  2357.7,2,   7.6476,2,       20,-999.000,9,-999.0000,9, -999.00,9,   1.0972,2,    0.30,2,  -164.2,2, -999.00,9,    39.1,2, -999.00,9,      20.45,2,     -999.0,1,    4.73,2, 20140407,      634, -59.9999,-149.9995,    34.8874,2,       1.84,2,     -999.0,9,     -999.0,9,     -999.0,9,       4.73,2,       1.84,2
320620140320,       P16S,      17,          2,         16,         16,2,20140407,       0545,   -60.0000,  -149.9991,       2713,   836.3,   1.0174,  34.7210,2,  34.7209,2,    193.7,2,   194.7,2,  114.02,2,   32.54,2,    0.00,2,    2.24,2,-999.000,9,-999.000,9, -999.00,9,  2263.6,2,  2358.1,2,   7.6535,2,       20,-999.000,9,-999.0000,9, -999.00,9,   1.0175,2, -999.00,9,  -999.0,9, -999.00,9,    40.2,2, -999.00,9,     -999.0,9,     -999.0,9,    4.72,2, 20140407,      632, -59.9999,-149.9994,    34.8846,2,       1.81,2,     -999.0,9,     -999.0,9,     -999.0,9,       4.72,2,       1.81,2
320620140320,       P16S,      17,          2,         15,         15,2,20140407,       0545,   -60.0000,  -149.9991,       2713,   935.7,   0.9442,  34.7180,2,  34.7170,2,    197.3,2,   198.3,2,  115.29,2,   32.32,2,    0.00,2,    2.23,2,   0.158,2,   0.063,2,    0.09,2,  2262.2,2,  2357.8,2,   7.6592,2,       20,-999.000,9,-999.0000,9, -999.00,9,   0.9446,2,    0.36,2,  -160.0,2, -999.00,9,      38,2, -999.00,9,      19.43,2,     -999.0,1,    4.74,2, 20140407,      629, -59.9999,-149.9994,    34.8807,2,       1.82,2,     -999.0,9,     -999.0,9,     -999.0,9,       4.74,2,       1.82,2
320620140320,       P16S,      17,          2,         14,         14,2,20140407,       0545,   -60.0000,  -149.9991,       2713,  1034.2,   0.8762,  34.7155,2,  34.7150,2,    198.5,2,   198.2,2,  118.31,2,   32.57,2,    0.00,2,    2.25,2,-999.000,9,-999.000,9, -999.00,9,  -999.0,9,  -999.0,9,-999.0000,9,  -999.00,-999.000,9,-999.0000,9, -999.00,9,   0.8762,2, -999.00,9,  -999.0,9, -999.00,9,    41.9,2, -999.00,9,     -999.0,9,     -999.0,9,    4.74,2, 20140407,      627, -59.9999,-149.9994,    34.8787,2,       1.88,2,     -999.0,9,     -999.0,9,     -999.0,9,       4.74,2,       1.88,2
320620140320,       P16S,      17,          2,         13,         13,2,20140407,       0545,   -60.0000,  -149.9991,       2713,  1131.3,   0.8203,  34.7133,2,  34.7133,2,    198.7,2,   200.5,2,  119.68,2,   32.53,2,    0.00,2,    2.24,2,   0.140,2,   0.056,2,    0.02,2,  2262.7,2,  2359.5,2,   7.6599,2,       20,-999.000,9,-999.0000,9, -999.00,9,   0.8212,2,    0.36,2,  -165.5,2, -999.00,9,    41.5,2, -999.00,9,      19.47,2,     -999.0,1,    4.71,2, 20140407,      624, -60.0000,-149.9994,    34.8769,2,       1.75,2,     -999.0,1,     -999.0,9,     -999.0,9,       4.71,2,       1.75,2
320620140320,       P16S,      17,          2,         12,         12,2,20140407,       0545,   -60.0000,  -149.9991,       2713,  1233.5,   0.7821,  34.7118,2,  34.7121,2,    200.5,2,   200.7,2,  121.53,2,   32.61,2,    0.00,2,    2.23,2,-999.000,9,-999.000,9, -999.00,9,  -999.0,9,  -999.0,9,-999.0000,9,  -999.00,-999.000,9,-999.0000,9, -999.00,9,   0.7822,2, -999.00,9,  -999.0,9, -999.00,9,    39.4,2, -999.00,9,     -999.0,9,     -999.0,9,    4.68,2, 20140407,      622, -60.0000,-149.9994,    34.8758,2,       1.84,2,     -999.0,9,     -999.0,9,     -999.0,9,       4.68,2,       1.84,2
320620140320,       P16S,      17,          2,         11,         11,2,20140407,       0545,   -60.0000,  -149.9991,       2713,  1334.1,   0.7306,  34.7103,2,  34.7101,2,    201.6,2,   201.5,2,  123.49,2,   32.52,2,    0.00,2,    2.23,2,   0.095,2,   0.044,2,    0.00,2,  2264.1,2,  2360.4,2,   7.6594,2,       20,-999.000,9,-999.0000,9, -999.00,9,   0.7311,2,    0.42,2,  -170.2,2, -999.00,9,    41.7,2, -999.00,9,      19.58,2,     -999.0,9,    4.66,2, 20140407,      619, -60.0000,-149.9994,    34.8738,2,       1.81,2,     -999.0,9,     -999.0,9,     -999.0,9,       4.66,2,       1.81,2
320620140320,       P16S,      17,          2,         10,         10,2,20140407,       0545,   -60.0000,  -149.9991,       2713,  1434.0,   0.6902,  34.7085,2,  34.7085,2,    202.6,2,   202.7,2,  123.88,2,   32.57,2,    0.00,2,    2.22,2,-999.000,9,-999.000,9, -999.00,9,  -999.0,9,  -999.0,9,-999.0000,9,  -999.00,-999.000,9,-999.0000,9, -999.00,9,   0.6901,2, -999.00,9,  -999.0,9, -999.00,9,    40.6,2, -999.00,9,     -999.0,9,     -999.0,9,    4.74,2, 20140407,      616, -60.0000,-149.9993,    34.8722,2,       1.86,2,     -999.0,9,     -999.0,9,     -999.0,9,       4.74,2,       1.86,2
320620140320,       P16S,      17,          2,          9,         09,2,20140407,       0545,   -60.0000,  -149.9991,       2713,  1534.1,   0.6554,  34.7068,2,  34.7072,2,    203.7,2,   203.9,2,  125.54,2,   32.66,2,    0.00,2,    2.24,2,   0.111,2,   0.057,2,    0.00,2,  2263.6,2,  2359.4,2,     7.66,2,       20,-999.000,9,-999.0000,9, -999.00,9,   0.6548,2,    0.42,2,  -165.9,2, -999.00,9,    39.9,2, -999.00,9,      19.48,2,     -999.0,1, -999.00,1, 20140407,      613, -60.0000,-149.9993,    34.8708,2,     -999.0,1,     -999.0,9,     -999.0,9,     -999.0,9,     -999.0,9,     -999.0,9
320620140320,       P16S,      17,          2,          8,         08,2,20140407,       0545,   -60.0000,  -149.9991,       2713,  1634.0,   0.6208,  34.7061,2,  34.7060,2,    204.8,2,   204.7,2,  125.93,2,   32.58,2,    0.00,2,    2.24,2,-999.000,9,-999.000,9, -999.00,9,  -999.0,9,  -999.0,9,-999.0000,9,  -999.00,-999.000,9,-999.0000,9, -999.00,9,   0.6215,2, -999.00,9,  -999.0,9, -999.00,9,    39.3,2, -999.00,9,     -999.0,9,     -999.0,9, -999.00,1, 20140407,      611, -60.0000,-149.9992,    34.8696,2,     -999.0,1,     -999.0,9,     -999.0,9,     -999.0,9,     -999.0,9,     -999.0,9
320620140320,       P16S,      17,          2,          7,         07,2,20140407,       0545,   -60.0000,  -149.9991,       2713,  1733.8,   0.5931,  34.7053,2,  34.7052,2,    205.8,2,   205.5,2,  126.22,2,   32.63,2,    0.00,2,    2.25,2,   0.133,6,   0.056,6,    0.12,6,  2263.3,2,  2360.1,2,   7.6598,2,       20,-999.000,9,-999.0000,9, -999.00,9,   0.5929,2,    0.39,2,  -165.7,2, -999.00,9,    42.7,3, -999.00,9,      19.06,6,     -999.0,9, -999.00,1, 20140407,      608, -60.0000,-149.9992,    34.8688,2,     -999.0,1,     -999.0,9,     -999.0,9,     -999.0,9,     -999.0,9,     -999.0,9
320620140320,       P16S,      17,          2,          6,         06,2,20140407,       0545,   -60.0000,  -149.9991,       2713,  1834.3,   0.5553,  34.7042,2,  34.7042,2,    206.8,2,   206.5,2,  126.61,2,   32.61,2,    0.00,2,    2.25,2,-999.000,9,-999.000,9, -999.00,9,  -999.0,9,  -999.0,9,-999.0000,9,  -999.00,-999.000,9,-999.0000,9, -999.00,9,   0.5549,2, -999.00,9,  -999.0,9, -999.00,9,    41.8,2, -999.00,9,     -999.0,9,     -999.0,9, -999.00,1, 20140407,      606, -60.0000,-149.9992,    34.8679,2,     -999.0,1,     -999.0,9,     -999.0,9,     -999.0,9,     -999.0,9,     -999.0,9