BOTTLE,20230715CCHSIOCBG
EXPOCODE,SECT_ID,STNNBR,CASTNO,SAMPNO,BTLNBR,BTLNBR_FLAG_W,DATE,TIME,LATITUDE,LONGITUDE,DEPTH,CTDPRS,CTDTMP,CTDSAL,CTDSAL_FLAG_W,SALNTY,SALNTY_FLAG_W,CTDOXY,CTDOXY_FLAG_W,OXYGEN,OXYGEN_FLAG_W,SILCAT,SILCAT_FLAG_W,NITRAT,NITRAT_FLAG_W,NITRIT,NITRIT_FLAG_W,PHSPHT,PHSPHT_FLAG_W,CFC-11,CFC-11_FLAG_W,CFC-12,CFC-12_FLAG_W,SF6,SF6_FLAG_W,TCARBN,TCARBN_FLAG_W,ALKALI,ALKALI_FLAG_W,PH_TOT,PH_TOT_FLAG_W,PH_TMP,TRITUM,TRITUM_FLAG_W,HELIUM,HELIUM_FLAG_W,DELHE3,DELHE3_FLAG_W,REFTMP,REFTMP_FLAG_W,DELC13,DELC13_FLAG_W,DELC14,DELC14_FLAG_W,DELO18,DELO18_FLAG_W,DOC,DOC_FLAG_W,TDN,TDN_FLAG_W,N2O,N2O_FLAG_W,CALCIUM,CALCIUM_FLAG_W,D15N_NO3,D15N_NO3_FLAG_W,BTL_DATE,BTL_TIME,BTL_LAT,BTL_LON,SALTREF,SALTREF_FLAG_W,D18O_NO3,D18O_NO3_FLAG_W,DSI30,DSI30_FLAG_W,CDOM_NASA,CDOM_NASA_FLAG_W,CDOM_UCSB,CDOM_UCSB_FLAG_W,D15N_NO2+NO3,D15N_NO2+NO3_FLAG_W,D18O_NO2+NO3,D18O_NO2+NO3_FLAG_W
,,,,,,,,,,,METERS,DBAR,ITS-90,PSS-78,,PSS-78,,UMOL/KG,,UMOL/KG,,UMOL/KG,,UMOL/KG,,UMOL/KG,,UMOL/KG,,PMOL/KG,,PMOL/KG,,FMOL/KG,,UMOL/KG,,UMOL/KG,,,,DEG C,TU,,NMOL/KG,,PERCNT,,DEG C,,/MILLE,,/MILLE,,/MILLE,,UMOL/KG,,UMOL/KG,,NMOL/KG,,MMOL/KG,,/MILLE,,,,,,G/KG,,/MILLE,,/MILLE,,,,,,/MILLE,,/MILLE,
320620140320,       P16S,      38,          1,          5,         05,2,20140414,       1929,   -49.5003,  -150.0002,       4178,  3398.7,   1.5445,  34.7322,2,  34.7318,2,    197.9,2,   198.2,2,  103.49,2,   31.38,2,    0.00,2,    2.14,2,-999.000,9,-999.000,9, -999.00,9,    2256,2,  2358.6,2,    7.678,2,       20,-999.000,9,-999.0000,9, -999.00,9,   1.5451,2, -999.00,9,  -999.0,9, -999.00,9,  -999.0,9, -999.00,9,     -999.0,9,     -999.0,9, -999.00,9, 20140414,     1945, -49.5003,-150.0002,    34.8956,2,     -999.0,9,     -999.0,9,     -999.0,9,     -999.0,9,     -999.0,9,     -999.0,9
320620140320,       P16S,      38,          1,          4,         04,2,20140414,       1929,   -49.5003,  -150.0002,       4178,  3699.8,   1.3090,  34.7236,2,  34.7235,2,    200.5,2,   200.9,2,  111.31,2,   31.83,2,    0.00,2,    2.17,2,   0.070,2,   0.028,2,    0.06,2,  2260.1,2,  2362.2,2,    7.678,2,       20,-999.000,9,-999.0000,9, -999.00,9,   1.3080,2, -999.00,9,  -999.0,9, -999.00,9,  -999.0,9, -999.00,9,      21.64,2,     -999.0,9, -999.00,9, 20140414,     1939, -49.5003,-150.0002,    34.8873,2,     -999.0,9,     -999.0,9,     -999.0,9,     -999.0,9,     -999.0,9,     -999.0,9
320620140320,       P16S,      38,          1,          3,         03,2,20140414,       1929,   -49.5003,  -150.0002,       4178,  3900.2,   1.1844,  34.7178,2,  34.7166,2,    201.4,2,   201.7,2,  116.59,2,   32.00,2,    0.00,2,    2.18,2,-999.000,9,-999.000,9, -999.00,9,  2262.9,2,  2365.7,6,   7.6792,2,       20,-999.000,9,-999.0000,9, -999.00,9,   1.1842,2, -999.00,9,  -999.0,9, -999.00,9,  -999.0,9, -999.00,9,     -999.0,9,     -999.0,9, -999.00,9, 20140414,     1934, -49.5003,-150.0002,    34.8803,2,     -999.0,9,     -999.0,9,     -999.0,9,     -999.0,9,     -999.0,9,     -999.0,9
320620140320,       P16S,      38,          1,          2,         02,2,20140414,       1929,   -49.5003,  -150.0002,       4178,  3998.7,   1.1651,  34.7169,2,  34.7158,2,    201.5,2,   202.0,2,  117.47,2,   32.14,2,    0.00,2,    2.19,2,   0.062,2,   0.020,2,    0.07,2,  2263.9,2,  2366.1,2,   7.6797,2,       20,-999.000,9,-999.0000,9, -999.00,9,   1.1652,2, -999.00,9,  -999.0,9, -999.00,9,  -999.0,9, -999.00,9,      21.13,2,     -999.0,9, -999.00,9, 20140414,     1932, -49.5003,-150.0003,    34.8795,2,     -999.0,9,     -999.0,9,     -999.0,9,     -999.0,9,     -999.0,9,     -999.0,9
320620140320,       P16S,      38,          1,          1,         01,2,20140414,       1929,   -49.5003,  -150.0002,       4178,  4099.1,   1.1583,  34.7164,2,  34.7158,2,    204.2,7,   202.1,2,  118.15,2,   32.19,2,    0.00,2,    2.20,2,   0.066,2,   0.026,2,    0.07,2,  2263.8,6,  2366.6,2,   7.6797,6,       20,-999.000,9,-999.0000,9, -999.00,9,   1.1581,2, -999.00,9,  -999.0,9, -999.00,9,  -999.0,9, -999.00,9,      21.61,2,     -999.0,9, -999.00,9, 20140414,     1929, -49.5003,-150.0002,    34.8795,2,     -999.0,9,     -999.0,9,     -999.0,9,     -999.0,9,     -999.0,9,     -999.0,9