BOTTLE,20230715CCHSIOCBG
EXPOCODE,SECT_ID,STNNBR,CASTNO,SAMPNO,BTLNBR,BTLNBR_FLAG_W,DATE,TIME,LATITUDE,LONGITUDE,DEPTH,CTDPRS,CTDTMP,CTDSAL,CTDSAL_FLAG_W,SALNTY,SALNTY_FLAG_W,CTDOXY,CTDOXY_FLAG_W,OXYGEN,OXYGEN_FLAG_W,SILCAT,SILCAT_FLAG_W,NITRAT,NITRAT_FLAG_W,NITRIT,NITRIT_FLAG_W,PHSPHT,PHSPHT_FLAG_W,CFC-11,CFC-11_FLAG_W,CFC-12,CFC-12_FLAG_W,SF6,SF6_FLAG_W,TCARBN,TCARBN_FLAG_W,ALKALI,ALKALI_FLAG_W,PH_TOT,PH_TOT_FLAG_W,PH_TMP,TRITUM,TRITUM_FLAG_W,HELIUM,HELIUM_FLAG_W,DELHE3,DELHE3_FLAG_W,REFTMP,REFTMP_FLAG_W,DELC13,DELC13_FLAG_W,DELC14,DELC14_FLAG_W,DELO18,DELO18_FLAG_W,DOC,DOC_FLAG_W,TDN,TDN_FLAG_W,N2O,N2O_FLAG_W,CALCIUM,CALCIUM_FLAG_W,D15N_NO3,D15N_NO3_FLAG_W,BTL_DATE,BTL_TIME,BTL_LAT,BTL_LON,SALTREF,SALTREF_FLAG_W,D18O_NO3,D18O_NO3_FLAG_W,DSI30,DSI30_FLAG_W,CDOM_NASA,CDOM_NASA_FLAG_W,CDOM_UCSB,CDOM_UCSB_FLAG_W,D15N_NO2+NO3,D15N_NO2+NO3_FLAG_W,D18O_NO2+NO3,D18O_NO2+NO3_FLAG_W
,,,,,,,,,,,METERS,DBAR,ITS-90,PSS-78,,PSS-78,,UMOL/KG,,UMOL/KG,,UMOL/KG,,UMOL/KG,,UMOL/KG,,UMOL/KG,,PMOL/KG,,PMOL/KG,,FMOL/KG,,UMOL/KG,,UMOL/KG,,,,DEG C,TU,,NMOL/KG,,PERCNT,,DEG C,,/MILLE,,/MILLE,,/MILLE,,UMOL/KG,,UMOL/KG,,NMOL/KG,,MMOL/KG,,/MILLE,,,,,,G/KG,,/MILLE,,/MILLE,,,,,,/MILLE,,/MILLE,
320620140320,       P16S,       6,          1,          5,         05,2,20140401,       0652,   -66.4998,  -149.9999,       4458,  3785.6,   0.2060,  34.6950,2,  34.6940,2,    219.0,2,   219.1,2,  126.82,2,   32.56,2,    0.00,2,    2.26,2,-999.000,9,-999.000,9, -999.00,9,  2261.2,2,  2356.9,2,   7.6623,2,       20,-999.000,9,-999.0000,9, -999.00,9,   0.2064,2, -999.00,9,  -999.0,9, -999.00,9,  -999.0,9, -999.00,9,     -999.0,9,     -999.0,9, -999.00,9, 20140401,      713, -66.4998,-150.0001,    34.8576,2,     -999.0,9,     -999.0,9,     -999.0,9,     -999.0,9,     -999.0,9,     -999.0,9
320620140320,       P16S,       6,          1,          4,         04,2,20140401,       0652,   -66.4998,  -149.9999,       4458,  4001.8,   0.2217,  34.6948,2,  34.6932,3,    219.4,2,   219.2,2,  127.21,2,   32.54,2,    0.00,2,    2.27,2,   0.758,2,   0.386,2,    0.25,2,  -999.0,9,  -999.0,9,-999.0000,9,  -999.00,-999.000,9,-999.0000,9, -999.00,9,   0.2215,2, -999.00,9,  -999.0,9, -999.00,9,  -999.0,9, -999.00,9,      19.29,2,     -999.0,9, -999.00,9, 20140401,      708, -66.4998,-150.0001,    34.8568,3,     -999.0,9,     -999.0,9,     -999.0,9,     -999.0,9,     -999.0,9,     -999.0,9
320620140320,       P16S,       6,          1,          3,         03,4,20140401,       0652,   -66.4998,  -149.9999,       4458,  4199.4,   0.2389,  34.6950,2,  34.7042,4,    219.2,2,   213.5,4,  122.23,4,   32.55,4,    0.00,4,    2.26,4,-999.000,9,-999.000,9, -999.00,9,  -999.0,9,  -999.0,9,-999.0000,9,  -999.00,-999.000,9,-999.0000,9, -999.00,9,   0.2391,2, -999.00,9,  -999.0,9, -999.00,9,  -999.0,9, -999.00,9,     -999.0,9,     -999.0,9, -999.00,9, 20140401,      703, -66.4998,-150.0000,    34.8679,4,     -999.0,9,     -999.0,9,     -999.0,9,     -999.0,9,     -999.0,9,     -999.0,9
320620140320,       P16S,       6,          1,          2,         02,2,20140401,       0652,   -66.4998,  -149.9999,       4458,  4330.2,   0.2515,  34.6951,2,  34.6948,2,    219.1,2,   219.2,2,  127.40,2,   32.51,2,    0.00,2,    2.26,2,-999.000,9,-999.000,9, -999.00,9,  2262.8,2,  2357.8,6,   7.6631,6,       20,-999.000,9,-999.0000,9, -999.00,9,   0.2519,2, -999.00,9,  -999.0,9, -999.00,9,  -999.0,9, -999.00,9,     -999.0,9,     -999.0,9, -999.00,9, 20140401,      659, -66.4998,-150.0000,    34.8584,2,     -999.0,9,     -999.0,9,     -999.0,9,     -999.0,9,     -999.0,9,     -999.0,9
320620140320,       P16S,       6,          1,          1,         01,2,20140401,       0652,   -66.4998,  -149.9999,       4458,  4521.8,   0.2720,  34.6947,2,  34.6948,2,    218.9,2,   218.7,2,  130.33,2,   32.57,2,    0.00,2,    2.27,2,   0.735,2,   0.369,2,    0.24,2,  2262.6,6,    2357,2,    7.663,2,       20,-999.000,9,-999.0000,9, -999.00,9,   0.2720,2, -999.00,9,  -999.0,9, -999.00,9,  -999.0,9, -999.00,9,      19.49,2,     -999.0,9, -999.00,9, 20140401,      653, -66.4998,-149.9999,    34.8584,2,     -999.0,9,     -999.0,9,     -999.0,9,     -999.0,9,     -999.0,9,     -999.0,9