BOTTLE,20230715CCHSIOCBG
EXPOCODE,SECT_ID,STNNBR,CASTNO,SAMPNO,BTLNBR,BTLNBR_FLAG_W,DATE,TIME,LATITUDE,LONGITUDE,DEPTH,CTDPRS,CTDTMP,CTDSAL,CTDSAL_FLAG_W,SALNTY,SALNTY_FLAG_W,CTDOXY,CTDOXY_FLAG_W,OXYGEN,OXYGEN_FLAG_W,SILCAT,SILCAT_FLAG_W,NITRAT,NITRAT_FLAG_W,NITRIT,NITRIT_FLAG_W,PHSPHT,PHSPHT_FLAG_W,CFC-11,CFC-11_FLAG_W,CFC-12,CFC-12_FLAG_W,SF6,SF6_FLAG_W,TCARBN,TCARBN_FLAG_W,ALKALI,ALKALI_FLAG_W,PH_TOT,PH_TOT_FLAG_W,PH_TMP,TRITUM,TRITUM_FLAG_W,HELIUM,HELIUM_FLAG_W,DELHE3,DELHE3_FLAG_W,REFTMP,REFTMP_FLAG_W,DELC13,DELC13_FLAG_W,DELC14,DELC14_FLAG_W,DELO18,DELO18_FLAG_W,DOC,DOC_FLAG_W,TDN,TDN_FLAG_W,N2O,N2O_FLAG_W,CALCIUM,CALCIUM_FLAG_W,D15N_NO3,D15N_NO3_FLAG_W,BTL_DATE,BTL_TIME,BTL_LAT,BTL_LON,SALTREF,SALTREF_FLAG_W,D18O_NO3,D18O_NO3_FLAG_W,DSI30,DSI30_FLAG_W,CDOM_NASA,CDOM_NASA_FLAG_W,CDOM_UCSB,CDOM_UCSB_FLAG_W,D15N_NO2+NO3,D15N_NO2+NO3_FLAG_W,D18O_NO2+NO3,D18O_NO2+NO3_FLAG_W
,,,,,,,,,,,METERS,DBAR,ITS-90,PSS-78,,PSS-78,,UMOL/KG,,UMOL/KG,,UMOL/KG,,UMOL/KG,,UMOL/KG,,UMOL/KG,,PMOL/KG,,PMOL/KG,,FMOL/KG,,UMOL/KG,,UMOL/KG,,,,DEG C,TU,,NMOL/KG,,PERCNT,,DEG C,,/MILLE,,/MILLE,,/MILLE,,UMOL/KG,,UMOL/KG,,NMOL/KG,,MMOL/KG,,/MILLE,,,,,,G/KG,,/MILLE,,/MILLE,,,,,,/MILLE,,/MILLE,
320620140320,       P16S,      47,          1,          5,         05,2,20140418,       1523,   -43.6663,  -150.0000,     -999.0,  4301.4,   1.2200,  34.7145,2,  34.7141,2,    200.3,2,   199.6,2,  116.28,2,   32.19,2,    0.00,2,    2.21,2,   0.001,2,   0.000,2,    0.00,2,    2268,2,  2371.3,2,   7.6799,2,       20,-999.000,9,-999.0000,9, -999.00,9,   1.2204,2, -999.00,9,  -999.0,9, -999.00,9,  -999.0,9, -999.00,9,      18.92,2,     -999.0,9, -999.00,9, 20140418,     1553, -43.6663,-149.9999,    34.8778,2,     -999.0,9,     -999.0,9,     -999.0,9,     -999.0,9,     -999.0,9,     -999.0,9
320620140320,       P16S,      47,          1,          4,         04,2,20140418,       1523,   -43.6663,  -150.0000,     -999.0,  4635.8,   1.1782,  34.7131,2,  34.7131,2,    201.6,2,   201.3,2,  118.62,2,   32.28,2,    0.00,2,    2.21,2,   0.002,2,   0.000,2,    0.00,2,  2269.1,2,  2372.7,2,    7.682,2,       20,-999.000,9,-999.0000,9, -999.00,9,   1.1785,2, -999.00,9,  -999.0,9, -999.00,9,  -999.0,9, -999.00,9,      19.52,2,     -999.0,9, -999.00,9, 20140418,     1545, -43.6664,-149.9999,    34.8768,2,     -999.0,9,     -999.0,9,     -999.0,9,     -999.0,9,     -999.0,9,     -999.0,9
320620140320,       P16S,      47,          1,          3,         03,2,20140418,       1523,   -43.6663,  -150.0000,     -999.0,  5034.0,   1.1946,  34.7124,2,  34.7121,2,    201.4,2,   201.6,2,  119.40,2,   32.30,2,    0.00,2,    2.22,2,   0.015,2,   0.001,2,    0.00,2,  2268.6,2,  2373.7,6,   7.6804,2,       20,-999.000,9,-999.0000,9, -999.00,9,   1.1950,2, -999.00,9,  -999.0,9, -999.00,9,  -999.0,9, -999.00,9,      20.19,2,     -999.0,9, -999.00,9, 20140418,     1534, -43.6663,-150.0000,    34.8758,2,     -999.0,9,     -999.0,9,     -999.0,9,     -999.0,9,     -999.0,9,     -999.0,9
320620140320,       P16S,      47,          1,          2,         02,2,20140418,       1523,   -43.6663,  -150.0000,     -999.0,  5134.6,   1.2052,  34.7121,2,  34.7127,2,    201.5,2,   201.4,2,  119.01,2,   32.33,2,    0.00,2,    2.23,2,   0.013,2,   0.000,2,    0.00,2,  2270.1,6,    2374,2,   7.6807,2,       20,-999.000,9,-999.0000,9, -999.00,9,   1.2050,2, -999.00,9,  -999.0,9, -999.00,9,  -999.0,9, -999.00,9,      20.43,2,     -999.0,9, -999.00,9, 20140418,     1529, -43.6663,-150.0000,    34.8764,2,     -999.0,9,     -999.0,9,     -999.0,9,     -999.0,9,     -999.0,9,     -999.0,9
320620140320,       P16S,      47,          1,          1,         01,2,20140418,       1523,   -43.6663,  -150.0000,     -999.0,  5281.2,   1.2185,  34.7120,2,  34.7125,2,    201.5,2,   201.5,2,  119.40,2,   32.32,2,    0.00,2,    2.23,2,   0.014,2,   0.001,2,    0.01,2,  2268.7,2,    2373,2,   7.6799,6,       20,-999.000,9,-999.0000,9, -999.00,9,   1.2186,2, -999.00,9,  -999.0,9, -999.00,9,  -999.0,9, -999.00,9,      20.56,2,     -999.0,9, -999.00,9, 20140418,     1523, -43.6663,-150.0000,    34.8762,2,     -999.0,9,     -999.0,9,     -999.0,9,     -999.0,9,     -999.0,9,     -999.0,9