BOTTLE,20230715CCHSIOCBG
EXPOCODE,SECT_ID,STNNBR,CASTNO,SAMPNO,BTLNBR,BTLNBR_FLAG_W,DATE,TIME,LATITUDE,LONGITUDE,DEPTH,CTDPRS,CTDTMP,CTDSAL,CTDSAL_FLAG_W,SALNTY,SALNTY_FLAG_W,CTDOXY,CTDOXY_FLAG_W,OXYGEN,OXYGEN_FLAG_W,SILCAT,SILCAT_FLAG_W,NITRAT,NITRAT_FLAG_W,NITRIT,NITRIT_FLAG_W,PHSPHT,PHSPHT_FLAG_W,CFC-11,CFC-11_FLAG_W,CFC-12,CFC-12_FLAG_W,SF6,SF6_FLAG_W,TCARBN,TCARBN_FLAG_W,ALKALI,ALKALI_FLAG_W,PH_TOT,PH_TOT_FLAG_W,PH_TMP,TRITUM,TRITUM_FLAG_W,HELIUM,HELIUM_FLAG_W,DELHE3,DELHE3_FLAG_W,REFTMP,REFTMP_FLAG_W,DELC13,DELC13_FLAG_W,DELC14,DELC14_FLAG_W,DELO18,DELO18_FLAG_W,DOC,DOC_FLAG_W,TDN,TDN_FLAG_W,N2O,N2O_FLAG_W,CALCIUM,CALCIUM_FLAG_W,D15N_NO3,D15N_NO3_FLAG_W,BTL_DATE,BTL_TIME,BTL_LAT,BTL_LON,SALTREF,SALTREF_FLAG_W,D18O_NO3,D18O_NO3_FLAG_W,DSI30,DSI30_FLAG_W,CDOM_NASA,CDOM_NASA_FLAG_W,CDOM_UCSB,CDOM_UCSB_FLAG_W,D15N_NO2+NO3,D15N_NO2+NO3_FLAG_W,D18O_NO2+NO3,D18O_NO2+NO3_FLAG_W
,,,,,,,,,,,METERS,DBAR,ITS-90,PSS-78,,PSS-78,,UMOL/KG,,UMOL/KG,,UMOL/KG,,UMOL/KG,,UMOL/KG,,UMOL/KG,,PMOL/KG,,PMOL/KG,,FMOL/KG,,UMOL/KG,,UMOL/KG,,,,DEG C,TU,,NMOL/KG,,PERCNT,,DEG C,,/MILLE,,/MILLE,,/MILLE,,UMOL/KG,,UMOL/KG,,NMOL/KG,,MMOL/KG,,/MILLE,,,,,,G/KG,,/MILLE,,/MILLE,,,,,,/MILLE,,/MILLE,
320620140320,       P16S,      33,          1,         36,         36,2,20140413,       0650,   -51.9999,  -149.9991,       4767,     6.4,  10.7376,  34.3338,2,  34.3329,2,    273.1,2,   273.3,2,    0.29,2,    9.30,2,    0.21,2,    0.76,2,   3.417,2,   1.891,2,    2.07,2,    2083,2,  2283.8,2,   7.9442,2,       20,-999.000,9,-999.0000,9, -999.00,9,  10.7371,2, -999.00,9,  -999.0,9, -999.00,9,    50.8,2,   12.39,2,      11.13,2,     -999.0,9, -999.00,1, 20140413,      836, -51.9998,-149.9990,    34.4948,2,     -999.0,1,     -999.0,9,     -999.0,9,     -999.0,9,     -999.0,1,     -999.0,1
320620140320,       P16S,      33,          1,         35,         35,2,20140413,       0650,   -51.9999,  -149.9991,       4767,    19.1,  10.7366,  34.3345,2,  34.3335,2,    273.6,2,   273.2,2,    0.29,2,    9.30,2,    0.21,2,    0.74,2,   3.153,2,   1.835,2,    2.08,2,  2082.5,2,  2283.8,2,   7.9449,2,       20,-999.000,9,-999.0000,9, -999.00,9,  10.7374,2, -999.00,9,  -999.0,9, -999.00,9,      52,2,   12.63,2,      10.17,2,     -999.0,9, -999.00,1, 20140413,      835, -51.9998,-149.9990,    34.4954,2,     -999.0,1,     -999.0,9,     -999.0,9,     -999.0,9,     -999.0,1,     -999.0,1
320620140320,       P16S,      33,          1,         34,         34,2,20140413,       0650,   -51.9999,  -149.9991,       4767,    38.5,  10.6889,  34.3276,2,  34.3242,2,    274.1,2,   273.8,2,    0.39,2,    9.51,2,    0.21,2,    0.76,2,   3.179,2,   1.852,2,    2.07,2,  2083.5,2,  2282.6,2,   7.9436,2,       20,-999.000,9,-999.0000,9, -999.00,9,  10.7073,3, -999.00,9,  -999.0,9, -999.00,9,    52.3,2,   12.75,2,      10.14,2,     -999.0,9, -999.00,1, 20140413,      834, -51.9998,-149.9990,    34.4861,2,     -999.0,1,     -999.0,9,     -999.0,9,     -999.0,9,     -999.0,1,     -999.0,1
320620140320,       P16S,      33,          1,         33,         33,2,20140413,       0650,   -51.9999,  -149.9991,       4767,    65.0,  10.0876,  34.2744,2,  34.2764,2,    275.3,2,   276.2,2,    0.49,2,   11.10,2,    0.24,2,    0.87,2,   3.399,2,   1.937,2,    2.15,2,  2088.4,2,  2281.2,2,    7.928,2,       20,-999.000,9,-999.0000,9, -999.00,9,  10.0943,2, -999.00,9,  -999.0,9, -999.00,9,    50.9,2,   14.13,2,      10.51,2,     -999.0,9, -999.00,1, 20140413,      832, -51.9998,-149.9991,    34.4380,2,     -999.0,1,     -999.0,9,     -999.0,9,     -999.0,9,     -999.0,1,     -999.0,1
320620140320,       P16S,      33,          1,         32,         32,2,20140413,       0650,   -51.9999,  -149.9991,       4767,    88.4,   9.4064,  34.5038,2,  34.5097,2,    261.5,2,   249.2,2,    2.25,2,   14.88,2,    0.04,2,    1.07,2,   3.628,2,   1.977,2,    2.13,2,  2123.2,2,  2285.2,3,   7.8527,2,       20,-999.000,9,-999.0000,9, -999.00,9,   9.4140,2, -999.00,9,  -999.0,9, -999.00,9,    44.8,2,   18.37,2,      14.31,2,     -999.0,9, -999.00,1, 20140413,      831, -51.9998,-149.9991,    34.6725,2,     -999.0,1,     -999.0,1,     -999.0,9,     -999.0,9,     -999.0,1,     -999.0,1
320620140320,       P16S,      33,          1,         31,         31,2,20140413,       0650,   -51.9999,  -149.9991,       4767,   134.6,   8.3035,  34.4272,2,  34.4255,2,    249.8,2,   256.4,2,    3.32,2,   17.41,2,    0.03,2,    1.23,2,   3.608,2,   2.053,2,    2.25,2,    2131,2,    2282,2,   7.8291,2,       20,-999.000,9,-999.0000,9, -999.00,9,   8.3048,2, -999.00,9,  -999.0,9, -999.00,9,    46.6,2,   21.08,2,      13.62,2,     -999.0,9, -999.00,1, 20140413,      829, -51.9998,-149.9990,    34.5878,2,     -999.0,1,     -999.0,1,     -999.0,9,     -999.0,9,     -999.0,1,     -999.0,1
320620140320,       P16S,      33,          1,         30,         30,2,20140413,       0650,   -51.9999,  -149.9991,       4767,   184.6,   8.0657,  34.4447,2,  34.4428,2,    252.1,2,   253.7,2,    4.00,2,   18.17,2,    0.01,2,    1.31,2,   3.803,2,   2.061,2,    1.92,2,  2133.9,6,    2283,2,   7.8211,2,       20,-999.000,9,-999.0000,9, -999.00,9,   8.0678,2, -999.00,9,  -999.0,9, -999.00,9,    45.3,2,   21.16,2,      14.25,2,     -999.0,9, -999.00,1, 20140413,      827, -51.9998,-149.9989,    34.6052,2,     -999.0,1,     -999.0,1,     -999.0,9,     -999.0,9,     -999.0,1,     -999.0,1
320620140320,       P16S,      33,          1,         29,         29,2,20140413,       0650,   -51.9999,  -149.9991,       4767,   235.9,   7.8093,  34.4321,2,  34.4320,2,    254.5,2,   255.4,2,    4.69,2,   18.71,2,    0.01,2,    1.33,2,   3.747,2,   2.031,2,    1.94,2,  2134.7,2,  2283.4,6,   7.8195,2,       20,-999.000,9,-999.0000,9, -999.00,9,   7.8094,2, -999.00,9,  -999.0,9, -999.00,9,      43,2,   21.52,2,      12.82,2,     -999.0,9, -999.00,1, 20140413,      825, -51.9998,-149.9990,    34.5943,2,     -999.0,1,     -999.0,9,     -999.0,9,     -999.0,9,     -999.0,1,     -999.0,1
320620140320,       P16S,      33,          1,         28,         28,2,20140413,       0650,   -51.9999,  -149.9991,       4767,   284.6,   7.6138,  34.4121,2,  34.4112,2,    261.9,2,   260.1,2,    4.88,2,   18.84,2,    0.01,2,    1.33,2,   3.759,2,   2.038,2,    2.03,2,    2134,2,  2283.4,2,   7.8218,2,       20,-999.000,9,-999.0000,9, -999.00,9,   7.6135,2, -999.00,9,  -999.0,9, -999.00,9,    44.4,2,   21.55,2,      13.59,2,     -999.0,9, -999.00,1, 20140413,      823, -51.9998,-149.9990,    34.5734,2,     -999.0,1,     -999.0,1,     -999.0,9,     -999.0,9,     -999.0,1,     -999.0,1
320620140320,       P16S,      33,          1,         27,         27,2,20140413,       0650,   -51.9999,  -149.9991,       4767,   334.2,   7.4341,  34.3966,2,  34.3967,2,    264.3,2,   258.7,2,    5.18,2,   19.38,2,    0.01,2,    1.37,2,   3.773,2,   2.066,2,    1.86,2,    2135,2,  2282.6,2,   7.8156,2,       20,-999.000,9,-999.0000,9, -999.00,9,   7.4369,2, -999.00,9,  -999.0,9, -999.00,9,    42.5,2,   22.41,2,      13.72,2,     -999.0,9, -999.00,1, 20140413,      821, -51.9998,-149.9990,    34.5588,2,     -999.0,1,     -999.0,9,     -999.0,9,     -999.0,9,     -999.0,1,     -999.0,1
320620140320,       P16S,      33,          1,         26,         26,2,20140413,       0650,   -51.9999,  -149.9991,       4767,   385.4,   7.1366,  34.3568,2,  34.3570,2,    264.5,2,   264.0,2,    5.47,2,   19.64,2,    0.01,2,    1.40,2,   3.827,2,   2.091,2,    1.85,2,  2135.4,2,  2282.2,2,   7.8148,2,       20,-999.000,9,-999.0000,9, -999.00,9,   7.1432,2, -999.00,9,  -999.0,9, -999.00,9,    45.3,3,    23.7,3,      13.85,2,     -999.0,9, -999.00,1, 20140413,      820, -51.9998,-149.9990,    34.5190,2,     -999.0,1,     -999.0,1,     -999.0,9,     -999.0,9,     -999.0,1,     -999.0,1
320620140320,       P16S,      33,          1,         25,         25,2,20140413,       0650,   -51.9999,  -149.9991,       4767,   434.9,   6.8199,  34.3251,2,  34.3229,2,    262.3,2,   264.1,2,    6.25,2,   20.58,2,    0.01,2,    1.46,2,   3.811,2,   2.103,2,    2.01,2,  2137.8,2,  2281.8,2,   7.8065,2,       20,-999.000,9,-999.0000,9, -999.00,9,   6.8187,2, -999.00,9,  -999.0,9, -999.00,9,    42.8,2,   23.29,2,      14.30,2,     -999.0,9, -999.00,1, 20140413,      818, -51.9998,-149.9991,    34.4847,2,     -999.0,1,     -999.0,9,     -999.0,9,     -999.0,9,     -999.0,1,     -999.0,1
320620140320,       P16S,      33,          1,         24,         24,2,20140413,       0650,   -51.9999,  -149.9991,       4767,   485.8,   6.6683,  34.3133,2,  34.3123,2,    260.7,2,   261.0,2,    6.64,2,   21.28,2,    0.01,2,    1.49,2,-999.000,9,-999.000,9, -999.00,9,  2140.9,2,  2281.6,2,    7.799,2,       20,-999.000,9,-999.0000,9, -999.00,9,   6.6696,2, -999.00,9,  -999.0,9, -999.00,9,    44.7,2,    24.6,2,     -999.0,9,     -999.0,9, -999.00,1, 20140413,      816, -51.9998,-149.9991,    34.4741,2,     -999.0,1,     -999.0,1,     -999.0,9,     -999.0,9,     -999.0,1,     -999.0,1
320620140320,       P16S,      33,          1,         23,         23,2,20140413,       0650,   -51.9999,  -149.9991,       4767,   563.8,   6.3231,  34.2875,2,  34.2856,2,    257.1,2,   257.9,2,    8.40,2,   22.44,2,    0.01,2,    1.58,2,   3.798,2,   2.051,2,    1.44,2,  2146.6,2,  2281.4,2,    7.786,2,       20,-999.000,9,-999.0000,9, -999.00,9,   6.3228,2, -999.00,9,  -999.0,9, -999.00,9,    43.5,2,    25.9,2,      15.17,2,     -999.0,9, -999.00,1, 20140413,      813, -51.9998,-149.9991,    34.4473,2,     -999.0,1,     -999.0,9,     -999.0,9,     -999.0,9,     -999.0,1,     -999.0,1
320620140320,       P16S,      33,          1,         22,         22,2,20140413,       0650,   -51.9999,  -149.9991,       4767,   663.2,   6.0442,  34.3123,2,  34.3115,2,    237.6,2,   236.3,2,   13.09,2,   24.76,2,    0.00,2,    1.72,2,-999.000,9,-999.000,9, -999.00,9,  2158.8,2,  2284.8,2,   7.7551,2,       20,-999.000,9,-999.0000,9, -999.00,9,   6.0465,2, -999.00,9,  -999.0,9, -999.00,9,    42.2,2, -999.00,9,     -999.0,9,     -999.0,9, -999.00,1, 20140413,      811, -51.9998,-149.9991,    34.4733,2,     -999.0,1,     -999.0,9,     -999.0,9,     -999.0,9,     -999.0,1,     -999.0,1
320620140320,       P16S,      33,          1,         21,         21,2,20140413,       0650,   -51.9999,  -149.9991,       4767,   766.0,   5.3133,  34.2711,2,  34.2707,2,   -999.0,9,  -999.0,5,   17.10,2,   26.83,2,    0.00,2,    1.87,2,   3.294,2,   1.727,2,    0.92,2,    2169,2,  2285.2,2,   7.7313,2,       20,-999.000,9,-999.0000,9, -999.00,9,   5.3137,2, -999.00,9,  -999.0,9, -999.00,9,    40.7,2, -999.00,9,      17.34,2,     -999.0,9, -999.00,1, 20140413,      808, -51.9998,-149.9991,    34.4323,2,     -999.0,1,     -999.0,9,     -999.0,9,     -999.0,9,     -999.0,1,     -999.0,1
320620140320,       P16S,      33,          1,         20,         20,2,20140413,       0650,   -51.9999,  -149.9991,       4767,   864.6,   4.8744,  34.2963,2,  34.2962,2,    219.2,2,   218.9,2,   23.74,2,   28.69,2,    0.00,2,    2.01,2,-999.000,9,-999.000,9, -999.00,9,  2183.6,2,  2290.4,2,    7.706,6,       20,-999.000,9,-999.0000,9, -999.00,9,   4.8729,2, -999.00,9,  -999.0,9, -999.00,9,    40.6,2, -999.00,9,     -999.0,9,     -999.0,9, -999.00,1, 20140413,      806, -51.9998,-149.9991,    34.4579,2,     -999.0,1,     -999.0,9,     -999.0,9,     -999.0,9,     -999.0,1,     -999.0,1
320620140320,       P16S,      33,          1,         19,         19,2,20140413,       0650,   -51.9999,  -149.9991,       4767,   963.6,   4.4294,  34.3196,2,  34.3190,2,    211.3,2,   209.9,2,   30.87,2,   30.19,2,    0.00,2,    2.11,2,   2.344,2,   1.162,2,    0.87,2,  2195.9,6,  2297.2,2,   7.6868,2,       20,-999.000,9,-999.0000,9, -999.00,9,   4.4237,2, -999.00,9,  -999.0,9, -999.00,9,      42,2, -999.00,9,      20.65,2,     -999.0,9, -999.00,1, 20140413,      803, -51.9998,-149.9990,    34.4808,2,     -999.0,1,     -999.0,9,     -999.0,9,     -999.0,9,     -999.0,1,     -999.0,1
320620140320,       P16S,      33,          1,         18,         18,2,20140413,       0650,   -51.9999,  -149.9991,       4767,  1062.9,   3.8418,  34.3195,2,  34.3190,2,    207.5,2,   206.9,2,   37.02,2,   31.44,2,    0.00,2,    2.21,2,-999.000,9,-999.000,9, -999.00,9,  2204.8,2,    2301,2,   7.6688,2,       20,-999.000,9,-999.0000,9, -999.00,9,   3.8418,2, -999.00,9,  -999.0,9, -999.00,9,    41.4,2, -999.00,9,     -999.0,9,     -999.0,9, -999.00,1, 20140413,      801, -51.9998,-149.9990,    34.4808,2,     -999.0,1,     -999.0,9,     -999.0,9,     -999.0,9,     -999.0,1,     -999.0,1
320620140320,       P16S,      33,          1,         17,         17,2,20140413,       0650,   -51.9999,  -149.9991,       4767,  1164.9,   3.5197,  34.3534,2,  34.3533,2,    199.4,2,   199.6,2,   44.25,2,   32.34,2,    0.00,2,    2.28,2,   1.918,2,   0.940,2,    0.51,2,  2216.2,2,  2308.7,2,   7.6555,2,       20,-999.000,9,-999.0000,9, -999.00,9,   3.5192,2, -999.00,9,  -999.0,9, -999.00,9,    40.8,2, -999.00,9,      23.04,2,     -999.0,9, -999.00,1, 20140413,      758, -51.9998,-149.9990,    34.5153,2,     -999.0,1,     -999.0,9,     -999.0,9,     -999.0,9,     -999.0,1,     -999.0,1
320620140320,       P16S,      33,          1,         16,         16,2,20140413,       0650,   -51.9999,  -149.9991,       4767,  1265.8,   3.2399,  34.3866,2,  34.3862,2,    191.4,2,   192.4,2,   50.89,2,   33.12,2,    0.00,2,    2.32,2,-999.000,9,-999.000,9, -999.00,9,  2225.9,2,  2314.6,2,   7.6436,2,       20,-999.000,9,-999.0000,9, -999.00,9,   3.2411,2, -999.00,9,  -999.0,9, -999.00,9,    40.2,2, -999.00,9,     -999.0,9,     -999.0,9, -999.00,1, 20140413,      755, -51.9998,-149.9990,    34.5484,2,     -999.0,1,     -999.0,9,     -999.0,9,     -999.0,9,     -999.0,1,     -999.0,1
320620140320,       P16S,      33,          1,         15,         15,2,20140413,       0650,   -51.9999,  -149.9991,       4767,  1364.9,   2.9989,  34.4360,2,  34.4353,2,    183.8,2,   184.2,2,   58.31,2,   33.78,2,    0.00,2,    2.37,2,   1.321,2,   0.623,2,    0.34,2,    2236,2,  2321.6,2,   7.6317,2,       20,-999.000,9,-999.0000,9, -999.00,9,   2.9989,2, -999.00,9,  -999.0,9, -999.00,9,    39.2,2, -999.00,9,      24.57,2,     -999.0,9, -999.00,1, 20140413,      752, -51.9998,-149.9990,    34.5977,2,     -999.0,1,     -999.0,9,     -999.0,9,     -999.0,9,     -999.0,1,     -999.0,1
320620140320,       P16S,      33,          1,         14,         14,2,20140413,       0650,   -51.9999,  -149.9991,       4767,  1466.5,   2.8468,  34.4867,2,  34.4848,2,    177.6,2,   177.3,2,   64.37,2,   34.02,2,    0.00,2,    2.39,2,-999.000,9,-999.000,9, -999.00,9,  2244.3,2,  2327.7,2,   7.6258,2,       20,-999.000,9,-999.0000,9, -999.00,9,   2.8492,2, -999.00,9,  -999.0,9, -999.00,9,    39.2,2, -999.00,9,     -999.0,9,     -999.0,9, -999.00,1, 20140413,      749, -51.9998,-149.9990,    34.6474,2,     -999.0,1,     -999.0,9,     -999.0,9,     -999.0,9,     -999.0,1,     -999.0,1
320620140320,       P16S,      33,          1,         13,         13,2,20140413,       0650,   -51.9999,  -149.9991,       4767,  1566.1,   2.7775,  34.5235,2,  34.5227,2,    173.0,2,   172.8,2,   70.22,2,   34.01,2,    0.00,2,    2.42,2,   0.714,2,   0.304,2,    0.18,2,  2251.1,2,  2334.9,2,   7.6265,2,       20,-999.000,9,-999.0000,9, -999.00,9,   2.7775,2, -999.00,9,  -999.0,9, -999.00,9,    38.6,2, -999.00,9,      23.04,2,     -999.0,9, -999.00,1, 20140413,      746, -51.9998,-149.9990,    34.6855,2,     -999.0,1,     -999.0,9,     -999.0,9,     -999.0,9,     -999.0,1,     -999.0,1
320620140320,       P16S,      33,          1,         12,         12,2,20140413,       0650,   -51.9999,  -149.9991,       4767,  1734.2,   2.5950,  34.5811,2,  34.5802,2,    170.3,2,   170.3,2,   76.86,2,   33.87,2,    0.00,2,    2.39,2,-999.000,9,-999.000,9, -999.00,9,  2257.3,2,    2342,2,   7.6273,2,       20,-999.000,9,-999.0000,9, -999.00,9,   2.5950,2, -999.00,9,  -999.0,9, -999.00,9,    40.8,2, -999.00,9,     -999.0,9,     -999.0,9, -999.00,1, 20140413,      743, -51.9998,-149.9991,    34.7433,2,     -999.0,1,     -999.0,9,     -999.0,9,     -999.0,9,     -999.0,1,     -999.0,1
320620140320,       P16S,      33,          1,         11,         11,2,20140413,       0650,   -51.9999,  -149.9991,       4767,  1934.6,   2.4061,  34.6415,2,  34.6409,2,    170.7,2,   170.9,2,   82.23,2,   33.24,2,    0.00,2,    2.36,2,   0.335,2,   0.124,2,    0.07,2,  2260.9,2,  2348.6,2,   7.6352,2,       20,-999.000,9,-999.0000,9, -999.00,9,   2.4064,2, -999.00,9,  -999.0,9, -999.00,9,    39.2,2, -999.00,9,      22.86,2,     -999.0,9, -999.00,1, 20140413,      738, -51.9998,-149.9991,    34.8043,2,     -999.0,1,     -999.0,9,     -999.0,9,     -999.0,9,     -999.0,1,     -999.0,1
320620140320,       P16S,      33,          1,         10,         10,2,20140413,       0650,   -51.9999,  -149.9991,       4767,  2163.4,   2.2839,  34.6849,2,  34.6844,2,    177.3,2,   177.3,2,   82.62,2,   32.31,2,    0.00,2,    2.29,2,-999.000,9,-999.000,9, -999.00,9,  2255.9,2,  2348.5,2,   7.6464,6,       20,-999.000,9,-999.0000,9, -999.00,9,   2.2840,2, -999.00,9,  -999.0,9, -999.00,9,    38.5,2, -999.00,9,     -999.0,9,     -999.0,9, -999.00,1, 20140413,      733, -51.9998,-149.9991,    34.8479,2,     -999.0,1,     -999.0,9,     -999.0,9,     -999.0,9,     -999.0,1,     -999.0,1
320620140320,       P16S,      33,          1,          9,         09,2,20140413,       0650,   -51.9999,  -149.9991,       4767,  2414.3,   2.1336,  34.7175,2,  34.7166,2,    184.2,2,   184.7,2,   84.96,2,   31.48,2,    0.00,2,    2.22,2,   0.204,2,   0.063,2,    0.04,2,  2252.9,2,  2350.7,6,   7.6595,2,       20,-999.000,9,-999.0000,9, -999.00,9,   2.1342,2, -999.00,9,  -999.0,9, -999.00,9,    36.3,3, -999.00,9,      20.29,2,     -999.0,9, -999.00,1, 20140413,      728, -51.9998,-149.9991,    34.8803,2,     -999.0,1,     -999.0,9,     -999.0,9,     -999.0,9,     -999.0,9,     -999.0,9
320620140320,       P16S,      33,          1,          8,         08,2,20140413,       0650,   -51.9999,  -149.9991,       4767,  2665.4,   1.9324,  34.7298,2,  34.7298,2,    189.2,2,   189.0,2,   90.92,2,   31.29,2,    0.00,2,    2.21,2,-999.000,9,-999.000,9, -999.00,9,  2254.8,6,  2354.9,2,   7.6679,2,       20,-999.000,9,-999.0000,9, -999.00,9,   1.9324,2, -999.00,9,  -999.0,9, -999.00,9,      40,2, -999.00,9,     -999.0,9,     -999.0,9, -999.00,1, 20140413,      723, -51.9999,-149.9991,    34.8935,2,     -999.0,1,     -999.0,9,     -999.0,9,     -999.0,9,     -999.0,9,     -999.0,9
320620140320,       P16S,      33,          1,          7,         07,2,20140413,       0650,   -51.9999,  -149.9991,       4767,  2916.2,   1.7407,  34.7343,2,  34.7339,2,    193.3,2,   193.4,2,   96.19,2,   31.20,2,    0.00,2,    2.20,2,   0.138,2,   0.036,2,    0.10,2,  2255.1,2,  2357.4,2,   7.6728,2,       20,-999.000,9,-999.0000,9, -999.00,9,   1.7412,2, -999.00,9,  -999.0,9, -999.00,9,      40,2, -999.00,9,      19.74,2,     -999.0,9, -999.00,1, 20140413,      718, -51.9999,-149.9991,    34.8977,2,     -999.0,1,     -999.0,9,     -999.0,9,     -999.0,9,     -999.0,9,     -999.0,9
320620140320,       P16S,      33,          1,          6,         06,2,20140413,       0650,   -51.9999,  -149.9991,       4767,  3197.9,   1.5101,  34.7317,2,  34.7311,2,    197.4,2,   197.9,2,  102.34,2,   31.32,2,    0.00,2,    2.21,2,   0.121,2,   0.028,2,    0.02,2,  2255.9,2,    2359,2,   7.6756,2,       20,-999.000,9,-999.0000,9, -999.00,9,   1.5105,2, -999.00,9,  -999.0,9, -999.00,9,    38.4,2, -999.00,9,      20.94,2,     -999.0,9, -999.00,1, 20140413,      712, -51.9999,-149.9990,    34.8949,2,     -999.0,1,     -999.0,9,     -999.0,9,     -999.0,9,     -999.0,9,     -999.0,9