BOTTLE,20230715CCHSIOCBG
EXPOCODE,SECT_ID,STNNBR,CASTNO,SAMPNO,BTLNBR,BTLNBR_FLAG_W,DATE,TIME,LATITUDE,LONGITUDE,DEPTH,CTDPRS,CTDTMP,CTDSAL,CTDSAL_FLAG_W,SALNTY,SALNTY_FLAG_W,CTDOXY,CTDOXY_FLAG_W,OXYGEN,OXYGEN_FLAG_W,SILCAT,SILCAT_FLAG_W,NITRAT,NITRAT_FLAG_W,NITRIT,NITRIT_FLAG_W,PHSPHT,PHSPHT_FLAG_W,CFC-11,CFC-11_FLAG_W,CFC-12,CFC-12_FLAG_W,SF6,SF6_FLAG_W,TCARBN,TCARBN_FLAG_W,ALKALI,ALKALI_FLAG_W,PH_TOT,PH_TOT_FLAG_W,PH_TMP,TRITUM,TRITUM_FLAG_W,HELIUM,HELIUM_FLAG_W,DELHE3,DELHE3_FLAG_W,REFTMP,REFTMP_FLAG_W,DELC13,DELC13_FLAG_W,DELC14,DELC14_FLAG_W,DELO18,DELO18_FLAG_W,DOC,DOC_FLAG_W,TDN,TDN_FLAG_W,N2O,N2O_FLAG_W,CALCIUM,CALCIUM_FLAG_W,D15N_NO3,D15N_NO3_FLAG_W,BTL_DATE,BTL_TIME,BTL_LAT,BTL_LON,SALTREF,SALTREF_FLAG_W,D18O_NO3,D18O_NO3_FLAG_W,DSI30,DSI30_FLAG_W,CDOM_NASA,CDOM_NASA_FLAG_W,CDOM_UCSB,CDOM_UCSB_FLAG_W,D15N_NO2+NO3,D15N_NO2+NO3_FLAG_W,D18O_NO2+NO3,D18O_NO2+NO3_FLAG_W
,,,,,,,,,,,METERS,DBAR,ITS-90,PSS-78,,PSS-78,,UMOL/KG,,UMOL/KG,,UMOL/KG,,UMOL/KG,,UMOL/KG,,UMOL/KG,,PMOL/KG,,PMOL/KG,,FMOL/KG,,UMOL/KG,,UMOL/KG,,,,DEG C,TU,,NMOL/KG,,PERCNT,,DEG C,,/MILLE,,/MILLE,,/MILLE,,UMOL/KG,,UMOL/KG,,NMOL/KG,,MMOL/KG,,/MILLE,,,,,,G/KG,,/MILLE,,/MILLE,,,,,,/MILLE,,/MILLE,
320620140320,       P16S,      38,          1,         36,         36,2,20140414,       1929,   -49.5003,  -150.0002,       4178,     4.6,  11.0866,  34.4916,2,  34.4906,2,    272.3,2,   274.3,2,    0.78,2,    7.01,2,    0.17,2,    0.56,2,   3.284,2,   1.888,2,    2.07,2,  2081.7,2,  2287.8,2,   7.9594,6,       20,-999.000,9,-999.0000,9, -999.00,9,  11.0851,2, -999.00,9,  -999.0,9, -999.00,9,  -999.0,9, -999.00,9,      11.48,2,     -999.0,9, -999.00,9, 20140414,     2113, -49.5003,-150.0001,    34.6533,2,     -999.0,9,     -999.0,9,     -999.0,9,     -999.0,9,     -999.0,9,     -999.0,9
320620140320,       P16S,      38,          1,         35,         35,2,20140414,       1929,   -49.5003,  -150.0002,       4178,    19.2,  11.0304,  34.5010,2,  34.4979,2,    274.1,2,   273.9,2,    0.68,2,    7.01,2,    0.17,2,    0.57,2,-999.000,9,-999.000,9, -999.00,9,  2082.1,6,  2289.6,2,   7.9576,2,       20,-999.000,9,-999.0000,9, -999.00,9,  11.0306,2, -999.00,9,  -999.0,9, -999.00,9,  -999.0,9, -999.00,9,     -999.0,9,     -999.0,9, -999.00,9, 20140414,     2111, -49.5003,-150.0001,    34.6606,2,     -999.0,9,     -999.0,9,     -999.0,9,     -999.0,9,     -999.0,9,     -999.0,9
320620140320,       P16S,      38,          1,         34,         34,2,20140414,       1929,   -49.5003,  -150.0002,       4178,    19.3,  11.0316,  34.4991,2,-999.0000,9,   -999.0,9,  -999.0,9, -999.00,9, -999.00,9, -999.00,9, -999.00,9,-999.000,9,-999.000,9, -999.00,9,  -999.0,9,  -999.0,9,-999.0000,9,  -999.00,-999.000,9,-999.0000,9, -999.00,9,  11.0308,2, -999.00,9,  -999.0,9, -999.00,9,  -999.0,9, -999.00,9,     -999.0,9,     -999.0,9, -999.00,9, 20140414,     2111, -49.5003,-150.0001,     -999.0,9,     -999.0,9,     -999.0,9,     -999.0,9,     -999.0,9,     -999.0,9,     -999.0,9
320620140320,       P16S,      38,          1,         33,         33,2,20140414,       1929,   -49.5003,  -150.0002,       4178,    38.9,  10.9311,  34.5067,2,  34.5071,2,    273.8,2,   273.8,2,    0.78,2,    7.14,2,    0.18,2,    0.60,2,   3.224,2,   1.902,2,    2.13,2,  2084.1,2,    2291,6,   7.9558,2,       20,-999.000,9,-999.0000,9, -999.00,9,  10.9315,2, -999.00,9,  -999.0,9, -999.00,9,  -999.0,9, -999.00,9,      11.42,2,     -999.0,9, -999.00,9, 20140414,     2109, -49.5003,-150.0001,    34.6698,2,     -999.0,9,     -999.0,9,     -999.0,9,     -999.0,9,     -999.0,9,     -999.0,9
320620140320,       P16S,      38,          1,         32,         32,2,20140414,       1929,   -49.5003,  -150.0002,       4178,    39.1,  10.9334,  34.5069,2,-999.0000,9,   -999.0,9,  -999.0,9, -999.00,9, -999.00,9, -999.00,9, -999.00,9,-999.000,9,-999.000,9, -999.00,9,  -999.0,9,  -999.0,9,-999.0000,9,  -999.00,-999.000,9,-999.0000,9, -999.00,9,  10.9336,2, -999.00,9,  -999.0,9, -999.00,9,  -999.0,9, -999.00,9,     -999.0,9,     -999.0,9, -999.00,9, 20140414,     2109, -49.5003,-150.0001,     -999.0,9,     -999.0,9,     -999.0,9,     -999.0,9,     -999.0,9,     -999.0,9,     -999.0,9
320620140320,       P16S,      38,          1,         31,         31,2,20140414,       1929,   -49.5003,  -150.0002,       4178,    68.5,  10.8404,  34.5186,2,  34.5189,2,    270.6,2,   270.7,2,    0.68,2,    7.38,2,    0.21,2,    0.65,2,   3.307,2,   1.893,2,    2.05,2,  2087.7,2,  2290.2,2,   7.9488,2,       20,-999.000,9,-999.0000,9, -999.00,9,  10.8336,2, -999.00,9,  -999.0,9, -999.00,9,  -999.0,9, -999.00,9,      11.41,2,     -999.0,9, -999.00,9, 20140414,     2107, -49.5003,-150.0001,    34.6816,2,     -999.0,9,     -999.0,9,     -999.0,9,     -999.0,9,     -999.0,9,     -999.0,9
320620140320,       P16S,      38,          1,         30,         30,2,20140414,       1929,   -49.5003,  -150.0002,       4178,    98.8,   9.5517,  34.5672,2,  34.5656,2,    264.7,2,   264.2,2,    1.66,2,   11.27,2,    0.26,2,    0.84,2,-999.000,9,-999.000,9, -999.00,9,  2109.7,2,  2288.4,2,   7.8952,2,       20,-999.000,9,-999.0000,9, -999.00,9,   9.5738,2, -999.00,9,  -999.0,9, -999.00,9,  -999.0,9, -999.00,9,     -999.0,9,     -999.0,9, -999.00,9, 20140414,     2106, -49.5003,-150.0001,    34.7286,2,     -999.0,9,     -999.0,9,     -999.0,9,     -999.0,9,     -999.0,9,     -999.0,9
320620140320,       P16S,      38,          1,         29,         29,2,20140414,       1929,   -49.5003,  -150.0002,       4178,   150.2,   8.7623,  34.5394,2,  34.5363,2,    258.1,2,   258.1,2,    3.71,2,   15.37,2,    0.01,2,    1.07,2,   3.658,2,   2.049,2,    1.86,2,  -999.0,9,  -999.0,9,-999.0000,9,  -999.00,-999.000,9,-999.0000,9, -999.00,9,   8.7518,2, -999.00,9,  -999.0,9, -999.00,9,  -999.0,9, -999.00,9,      13.93,2,     -999.0,9, -999.00,9, 20140414,     2104, -49.5003,-150.0001,    34.6991,2,     -999.0,9,     -999.0,9,     -999.0,9,     -999.0,9,     -999.0,9,     -999.0,9
320620140320,       P16S,      38,          1,         28,         28,2,20140414,       1929,   -49.5003,  -150.0002,       4178,   209.3,   8.3457,  34.5066,2,  34.5056,2,    265.3,2,   266.2,2,    3.91,2,   15.86,2,    0.01,2,    1.12,2,-999.000,9,-999.000,9, -999.00,9,  2125.8,2,  2283.4,2,   7.8463,2,       20,-999.000,9,-999.0000,9, -999.00,9,   8.3447,2, -999.00,9,  -999.0,9, -999.00,9,  -999.0,9, -999.00,9,     -999.0,9,     -999.0,9, -999.00,9, 20140414,     2102, -49.5003,-150.0001,    34.6683,2,     -999.0,9,     -999.0,9,     -999.0,9,     -999.0,9,     -999.0,9,     -999.0,9
320620140320,       P16S,      38,          1,         27,         27,2,20140414,       1929,   -49.5003,  -150.0002,       4178,   268.9,   8.1430,  34.4893,2,  34.4885,2,    268.6,2,   269.2,2,    4.01,2,   16.12,2,    0.01,2,    1.12,2,   3.764,2,   2.144,2,    2.23,2,  -999.0,9,  -999.0,9,-999.0000,9,  -999.00,-999.000,9,-999.0000,9, -999.00,9,   8.1429,2, -999.00,9,  -999.0,9, -999.00,9,  -999.0,9, -999.00,9,      13.74,2,     -999.0,9, -999.00,9, 20140414,     2100, -49.5003,-150.0001,    34.6512,2,     -999.0,9,     -999.0,9,     -999.0,9,     -999.0,9,     -999.0,9,     -999.0,9
320620140320,       P16S,      38,          1,         26,         26,2,20140414,       1929,   -49.5003,  -150.0002,       4178,   330.1,   8.1118,  34.4954,2,  34.4964,2,    271.0,2,   272.3,2,    3.81,2,   15.79,2,    0.01,2,    1.11,2,-999.000,9,-999.000,9, -999.00,9,  2124.5,2,  2284.8,2,    7.849,2,       20,-999.000,9,-999.0000,9, -999.00,9,   8.1113,2, -999.00,9,  -999.0,9, -999.00,9,  -999.0,9, -999.00,9,     -999.0,9,     -999.0,9, -999.00,9, 20140414,     2058, -49.5003,-150.0001,    34.6591,2,     -999.0,9,     -999.0,9,     -999.0,9,     -999.0,9,     -999.0,9,     -999.0,9
320620140320,       P16S,      38,          1,         25,         25,2,20140414,       1929,   -49.5003,  -150.0002,       4178,   389.0,   8.0802,  34.4907,2,  34.4903,2,    271.2,2,   271.8,2,    3.91,2,   15.91,2,    0.01,2,    1.13,2,-999.000,9,-999.000,9, -999.00,9,  -999.0,9,  -999.0,9,-999.0000,9,  -999.00,-999.000,9,-999.0000,9, -999.00,9,   8.0834,2, -999.00,9,  -999.0,9, -999.00,9,  -999.0,9, -999.00,9,     -999.0,9,     -999.0,9, -999.00,9, 20140414,     2056, -49.5003,-150.0001,    34.6529,2,     -999.0,9,     -999.0,9,     -999.0,9,     -999.0,9,     -999.0,9,     -999.0,9
320620140320,       P16S,      38,          1,         24,         24,2,20140414,       1929,   -49.5003,  -150.0002,       4178,   463.7,   7.7939,  34.4461,2,  34.4428,2,    266.3,2,   266.1,2,    4.69,2,   17.61,2,    0.01,2,    1.24,2,   3.794,2,   2.124,2,    2.18,2,  2129.5,2,  2282.6,2,   7.8327,2,       20,-999.000,9,-999.0000,9, -999.00,9,   7.7947,2, -999.00,9,  -999.0,9, -999.00,9,  -999.0,9, -999.00,9,      14.24,2,     -999.0,9, -999.00,9, 20140414,     2054, -49.5003,-150.0001,    34.6052,2,     -999.0,9,     -999.0,9,     -999.0,9,     -999.0,9,     -999.0,9,     -999.0,9
320620140320,       P16S,      38,          1,         23,         23,2,20140414,       1929,   -49.5003,  -150.0002,       4178,   533.9,   7.4407,  34.4008,2,  34.3990,2,    258.1,2,   256.4,2,    6.16,2,   19.84,2,    0.01,2,    1.38,2,-999.000,9,-999.000,9, -999.00,9,  2137.3,2,  2281.4,2,   7.8108,2,       20,-999.000,9,-999.0000,9, -999.00,9,   7.4393,2, -999.00,9,  -999.0,9, -999.00,9,  -999.0,9, -999.00,9,     -999.0,9,     -999.0,9, -999.00,9, 20140414,     2052, -49.5003,-150.0001,    34.5612,2,     -999.0,9,     -999.0,9,     -999.0,9,     -999.0,9,     -999.0,9,     -999.0,9
320620140320,       P16S,      38,          1,         22,         22,2,20140414,       1929,   -49.5003,  -150.0002,       4178,   634.1,   7.1493,  34.3808,2,  34.3799,2,    252.3,2,   252.8,2,    7.53,2,   21.06,2,    0.00,2,    1.46,2,   3.738,2,   2.068,2,    1.64,2,  2140.9,2,  2281.6,2,   7.8003,2,       20,-999.000,9,-999.0000,9, -999.00,9,   7.1487,2, -999.00,9,  -999.0,9, -999.00,9,  -999.0,9, -999.00,9,      15.46,2,     -999.0,9, -999.00,9, 20140414,     2049, -49.5003,-150.0001,    34.5420,2,     -999.0,9,     -999.0,9,     -999.0,9,     -999.0,9,     -999.0,9,     -999.0,9
320620140320,       P16S,      38,          1,         21,         21,2,20140414,       1929,   -49.5003,  -150.0002,       4178,   733.8,   6.8255,  34.3567,2,  34.3566,2,    249.1,2,   250.0,2,    8.99,2,   22.16,2,    0.00,2,    1.52,2,-999.000,9,-999.000,9, -999.00,9,  2144.7,2,  2281.8,2,   7.7913,2,       20,-999.000,9,-999.0000,9, -999.00,9,   6.8274,2, -999.00,9,  -999.0,9, -999.00,9,  -999.0,9, -999.00,9,     -999.0,9,     -999.0,9, -999.00,9, 20140414,     2046, -49.5003,-150.0001,    34.5186,2,     -999.0,9,     -999.0,9,     -999.0,9,     -999.0,9,     -999.0,9,     -999.0,9
320620140320,       P16S,      38,          1,         20,         20,2,20140414,       1929,   -49.5003,  -150.0002,       4178,   834.5,   6.2468,  34.3125,2,  34.3138,2,    245.0,2,   245.0,2,   11.73,2,   23.91,2,    0.00,2,    1.64,2,-999.000,9,-999.000,9, -999.00,9,  2152.3,2,  2282.6,2,   7.7735,2,       20,-999.000,9,-999.0000,9, -999.00,9,   6.2477,2, -999.00,9,  -999.0,9, -999.00,9,  -999.0,9, -999.00,9,     -999.0,9,     -999.0,9, -999.00,9, 20140414,     2043, -49.5003,-150.0001,    34.4756,2,     -999.0,9,     -999.0,9,     -999.0,9,     -999.0,9,     -999.0,9,     -999.0,9
320620140320,       P16S,      38,          1,         19,         19,2,20140414,       1929,   -49.5003,  -150.0002,       4178,   934.4,   5.8851,  34.3197,2,  34.3198,2,    228.9,2,   228.9,2,   16.32,2,   26.01,2,    0.00,2,    1.78,2,   3.168,2,   1.567,2,    1.11,2,  2164.3,2,    2284,2,   7.7463,2,       20,-999.000,9,-999.0000,9, -999.00,9,   5.8856,2, -999.00,9,  -999.0,9, -999.00,9,  -999.0,9, -999.00,9,      17.45,2,     -999.0,9, -999.00,9, 20140414,     2040, -49.5003,-150.0001,    34.4817,2,     -999.0,9,     -999.0,9,     -999.0,9,     -999.0,9,     -999.0,9,     -999.0,9
320620140320,       P16S,      38,          1,         18,         18,2,20140414,       1929,   -49.5003,  -150.0002,       4178,  1034.2,   5.3554,  34.3115,2,  34.3120,2,    220.0,2,   220.3,2,   21.60,2,   27.92,2,    0.00,2,    1.90,2,-999.000,9,-999.000,9, -999.00,9,  2175.4,2,  2288.2,2,   7.7228,2,       20,-999.000,9,-999.0000,9, -999.00,9,   5.3510,2, -999.00,9,  -999.0,9, -999.00,9,  -999.0,9, -999.00,9,     -999.0,9,     -999.0,9, -999.00,9, 20140414,     2038, -49.5003,-150.0001,    34.4738,2,     -999.0,9,     -999.0,9,     -999.0,9,     -999.0,9,     -999.0,9,     -999.0,9
320620140320,       P16S,      38,          1,         17,         17,2,20140414,       1929,   -49.5003,  -150.0002,       4178,  1134.5,   4.7393,  34.3149,2,  34.3298,4,    212.2,2,   213.2,2,   28.74,2,   29.74,2,    0.00,2,    2.01,2,   2.337,2,   1.225,2,    0.43,2,  2188.8,2,  2295.1,2,   7.6997,2,       20,-999.000,9,-999.0000,9, -999.00,9,   4.7384,2, -999.00,9,  -999.0,9, -999.00,9,  -999.0,9, -999.00,9,      20.70,2,     -999.0,9, -999.00,9, 20140414,     2035, -49.5003,-150.0002,    34.4917,4,     -999.0,9,     -999.0,9,     -999.0,9,     -999.0,9,     -999.0,9,     -999.0,9
320620140320,       P16S,      38,          1,         16,         16,2,20140414,       1929,   -49.5003,  -150.0002,       4178,  1235.4,   4.1301,  34.3294,2,  34.3292,2,    206.3,2,   205.2,2,   36.76,2,   31.25,2,    0.00,2,    2.13,2,-999.000,9,-999.000,9, -999.00,9,  -999.0,9,  -999.0,9,-999.0000,9,  -999.00,-999.000,9,-999.0000,9, -999.00,9,   4.1285,2, -999.00,9,  -999.0,9, -999.00,9,  -999.0,9, -999.00,9,     -999.0,9,     -999.0,9, -999.00,9, 20140414,     2032, -49.5003,-150.0002,    34.4911,2,     -999.0,9,     -999.0,9,     -999.0,9,     -999.0,9,     -999.0,9,     -999.0,9
320620140320,       P16S,      38,          1,         15,         15,2,20140414,       1929,   -49.5003,  -150.0002,       4178,  1334.4,   3.7232,  34.3574,2,  34.3586,2,    199.2,2,   197.3,2,   44.48,2,   32.31,2,    0.00,2,    2.20,2,   1.820,2,   0.851,2,    0.70,2,    2214,2,  2306.7,2,    7.664,2,       20,-999.000,9,-999.0000,9, -999.00,9,   3.7210,2, -999.00,9,  -999.0,9, -999.00,9,  -999.0,9, -999.00,9,      21.92,2,     -999.0,9, -999.00,9, 20140414,     2029, -49.5003,-150.0002,    34.5206,2,     -999.0,9,     -999.0,9,     -999.0,9,     -999.0,9,     -999.0,9,     -999.0,9
320620140320,       P16S,      38,          1,         14,         14,2,20140414,       1929,   -49.5003,  -150.0002,       4178,  1435.5,   3.3718,  34.3925,2,  34.3912,2,    190.9,2,   190.6,2,   51.90,2,   33.16,2,    0.00,2,    2.27,2,-999.000,9,-999.000,9, -999.00,9,  -999.0,9,  -999.0,9,-999.0000,9,  -999.00,-999.000,9,-999.0000,9, -999.00,9,   3.3715,2, -999.00,9,  -999.0,9, -999.00,9,  -999.0,9, -999.00,9,     -999.0,9,     -999.0,9, -999.00,9, 20140414,     2027, -49.5003,-150.0002,    34.5534,2,     -999.0,9,     -999.0,9,     -999.0,9,     -999.0,9,     -999.0,9,     -999.0,9
320620140320,       P16S,      38,          1,         13,         13,2,20140414,       1929,   -49.5003,  -150.0002,       4178,  1534.3,   3.1412,  34.4327,2,  34.4334,2,    184.1,2,   183.7,2,   58.84,2,   33.67,2,    0.00,2,    2.32,2,   1.162,2,   0.609,2,    0.22,2,  2234.4,2,  2320.7,2,   7.6402,2,       20,-999.000,9,-999.0000,9, -999.00,9,   3.1394,2, -999.00,9,  -999.0,9, -999.00,9,  -999.0,9, -999.00,9,      24.32,2,     -999.0,9, -999.00,9, 20140414,     2024, -49.5003,-150.0002,    34.5957,2,     -999.0,9,     -999.0,9,     -999.0,9,     -999.0,9,     -999.0,9,     -999.0,9
320620140320,       P16S,      38,          1,         12,         12,2,20140414,       1929,   -49.5003,  -150.0002,       4178,  1664.3,   2.9081,  34.4867,2,  34.4869,2,    177.6,2,   176.8,2,   66.56,2,   34.10,2,    0.00,2,    2.36,2,-999.000,9,-999.000,9, -999.00,9,  -999.0,9,  -999.0,9,-999.0000,9,  -999.00,-999.000,9,-999.0000,9, -999.00,9,   2.9074,2, -999.00,9,  -999.0,9, -999.00,9,  -999.0,9, -999.00,9,     -999.0,9,     -999.0,9, -999.00,9, 20140414,     2021, -49.5003,-150.0002,    34.6496,2,     -999.0,9,     -999.0,9,     -999.0,9,     -999.0,9,     -999.0,9,     -999.0,9
320620140320,       P16S,      38,          1,         11,         11,2,20140414,       1929,   -49.5003,  -150.0002,       4178,  1864.6,   2.6766,  34.5607,2,  34.5608,2,    170.3,2,   170.2,2,   76.23,2,   34.18,2,    0.00,2,    2.35,2,-999.000,9,-999.000,9, -999.00,9,  2255.2,2,  2339.2,2,    7.631,2,       20,-999.000,9,-999.0000,9, -999.00,9,   2.6766,2, -999.00,9,  -999.0,9, -999.00,9,  -999.0,9, -999.00,9,     -999.0,9,     -999.0,9, -999.00,9, 20140414,     2016, -49.5003,-150.0003,    34.7237,2,     -999.0,9,     -999.0,9,     -999.0,9,     -999.0,9,     -999.0,9,     -999.0,9
320620140320,       P16S,      38,          1,         10,         10,2,20140414,       1929,   -49.5003,  -150.0002,       4178,  2084.2,   2.4771,  34.6257,2,  34.6252,2,    170.9,2,   170.8,2,   81.90,2,   33.60,2,    0.00,2,    2.32,2,   0.313,2,   0.156,2,    0.15,2,  -999.0,9,  -999.0,9,-999.0000,9,  -999.00,-999.000,9,-999.0000,9, -999.00,9,   2.4769,2, -999.00,9,  -999.0,9, -999.00,9,  -999.0,9, -999.00,9,      24.04,2,     -999.0,9, -999.00,9, 20140414,     2012, -49.5003,-150.0002,    34.7885,2,     -999.0,9,     -999.0,9,     -999.0,9,     -999.0,9,     -999.0,9,     -999.0,9
320620140320,       P16S,      38,          1,          9,         09,2,20140414,       1929,   -49.5003,  -150.0002,       4178,  2333.6,   2.3298,  34.6803,2,  34.6800,2,    177.6,2,   177.5,2,   82.58,2,   32.60,2,    0.00,2,    2.23,2,-999.000,9,-999.000,9, -999.00,9,  2253.7,2,  2345.4,2,   7.6478,2,       20,-999.000,9,-999.0000,9, -999.00,9,   2.3301,2, -999.00,9,  -999.0,9, -999.00,9,  -999.0,9, -999.00,9,     -999.0,9,     -999.0,9, -999.00,9, 20140414,     2007, -49.5003,-150.0003,    34.8435,2,     -999.0,9,     -999.0,9,     -999.0,9,     -999.0,9,     -999.0,9,     -999.0,9
320620140320,       P16S,      38,          1,          8,         08,2,20140414,       1929,   -49.5003,  -150.0002,       4178,  2533.9,   2.2038,  34.7079,2,  34.7081,2,    182.3,2,   182.5,2,   85.71,2,   31.92,2,    0.00,2,    2.18,2,   0.250,2,   0.076,2,    0.02,2,  2254.5,2,    2349,2,   7.6592,2,       20,-999.000,9,-999.0000,9, -999.00,9,   2.2043,2, -999.00,9,  -999.0,9, -999.00,9,  -999.0,9, -999.00,9,      22.31,2,     -999.0,9, -999.00,9, 20140414,     2002, -49.5003,-150.0002,    34.8717,2,     -999.0,9,     -999.0,9,     -999.0,9,     -999.0,9,     -999.0,9,     -999.0,9
320620140320,       P16S,      38,          1,          7,         07,2,20140414,       1929,   -49.5003,  -150.0002,       4178,  2833.8,   1.9950,  34.7310,2,  34.7310,2,    189.8,2,   189.4,2,   90.30,2,   31.29,2,    0.00,2,    2.13,2,-999.000,9,-999.000,9, -999.00,9,  2253.5,2,  2353.5,2,   7.6713,2,       20,-999.000,9,-999.0000,9, -999.00,9,   1.9952,2, -999.00,9,  -999.0,9, -999.00,9,  -999.0,9, -999.00,9,     -999.0,9,     -999.0,9, -999.00,9, 20140414,     1956, -49.5003,-150.0002,    34.8948,2,     -999.0,9,     -999.0,9,     -999.0,9,     -999.0,9,     -999.0,9,     -999.0,9
320620140320,       P16S,      38,          1,          6,         06,2,20140414,       1929,   -49.5003,  -150.0002,       4178,  3099.3,   1.7784,  34.7345,2,  34.7348,2,    193.5,2,   193.5,2,   96.94,2,   31.29,2,    0.00,2,    2.14,2,-999.000,9,-999.000,9, -999.00,9,  2254.8,2,  2356.5,2,   7.6758,2,       20,-999.000,9,-999.0000,9, -999.00,9,   1.7787,2, -999.00,9,  -999.0,9, -999.00,9,  -999.0,9, -999.00,9,     -999.0,9,     -999.0,9, -999.00,9, 20140414,     1951, -49.5003,-150.0003,    34.8985,2,     -999.0,9,     -999.0,9,     -999.0,9,     -999.0,9,     -999.0,9,     -999.0,9