BOTTLE,20230715CCHSIOCBG
EXPOCODE,SECT_ID,STNNBR,CASTNO,SAMPNO,BTLNBR,BTLNBR_FLAG_W,DATE,TIME,LATITUDE,LONGITUDE,DEPTH,CTDPRS,CTDTMP,CTDSAL,CTDSAL_FLAG_W,SALNTY,SALNTY_FLAG_W,CTDOXY,CTDOXY_FLAG_W,OXYGEN,OXYGEN_FLAG_W,SILCAT,SILCAT_FLAG_W,NITRAT,NITRAT_FLAG_W,NITRIT,NITRIT_FLAG_W,PHSPHT,PHSPHT_FLAG_W,CFC-11,CFC-11_FLAG_W,CFC-12,CFC-12_FLAG_W,SF6,SF6_FLAG_W,TCARBN,TCARBN_FLAG_W,ALKALI,ALKALI_FLAG_W,PH_TOT,PH_TOT_FLAG_W,PH_TMP,TRITUM,TRITUM_FLAG_W,HELIUM,HELIUM_FLAG_W,DELHE3,DELHE3_FLAG_W,REFTMP,REFTMP_FLAG_W,DELC13,DELC13_FLAG_W,DELC14,DELC14_FLAG_W,DELO18,DELO18_FLAG_W,DOC,DOC_FLAG_W,TDN,TDN_FLAG_W,N2O,N2O_FLAG_W,CALCIUM,CALCIUM_FLAG_W,D15N_NO3,D15N_NO3_FLAG_W,BTL_DATE,BTL_TIME,BTL_LAT,BTL_LON,SALTREF,SALTREF_FLAG_W,D18O_NO3,D18O_NO3_FLAG_W,DSI30,DSI30_FLAG_W,CDOM_NASA,CDOM_NASA_FLAG_W,CDOM_UCSB,CDOM_UCSB_FLAG_W,D15N_NO2+NO3,D15N_NO2+NO3_FLAG_W,D18O_NO2+NO3,D18O_NO2+NO3_FLAG_W
,,,,,,,,,,,METERS,DBAR,ITS-90,PSS-78,,PSS-78,,UMOL/KG,,UMOL/KG,,UMOL/KG,,UMOL/KG,,UMOL/KG,,UMOL/KG,,PMOL/KG,,PMOL/KG,,FMOL/KG,,UMOL/KG,,UMOL/KG,,,,DEG C,TU,,NMOL/KG,,PERCNT,,DEG C,,/MILLE,,/MILLE,,/MILLE,,UMOL/KG,,UMOL/KG,,NMOL/KG,,MMOL/KG,,/MILLE,,,,,,G/KG,,/MILLE,,/MILLE,,,,,,/MILLE,,/MILLE,
320620140320,       P16S,      43,          3,          5,         05,2,20140417,       0237,   -46.3333,  -149.9997,       5246,  3898.9,   1.3744,  34.7216,2,  34.7218,2,    198.8,2,   198.6,2,  110.08,2,   31.88,2,    0.00,2,    2.19,2,   0.023,2,   0.009,2,    0.06,2,  2262.9,2,  2364.6,2,    7.675,2,       20,-999.000,9,-999.0000,9, -999.00,9,   1.3756,2, -999.00,9,  -999.0,9, -999.00,9,  -999.0,9, -999.00,9,      21.24,2,     -999.0,9, -999.00,9, 20140417,      315, -46.3334,-149.9997,    34.8855,2,     -999.0,9,     -999.0,9,     -999.0,9,     -999.0,9,     -999.0,9,     -999.0,9
320620140320,       P16S,      43,          3,          4,         04,2,20140417,       0237,   -46.3333,  -149.9997,       5246,  4249.6,   1.2187,  34.7156,2,  34.7155,2,    201.1,2,   200.8,2,  116.14,2,   32.32,2,    0.00,2,    2.22,2,   0.013,2,   0.001,2,    0.04,2,  2266.5,2,  2369.7,6,   7.6776,2,       20,-999.000,9,-999.0000,9, -999.00,9,   1.2185,2, -999.00,9,  -999.0,9, -999.00,9,  -999.0,9, -999.00,9,      21.02,2,     -999.0,9, -999.00,9, 20140417,      308, -46.3334,-149.9997,    34.8792,2,     -999.0,9,     -999.0,9,     -999.0,9,     -999.0,9,     -999.0,9,     -999.0,9
320620140320,       P16S,      43,          3,          3,         03,2,20140417,       0237,   -46.3333,  -149.9997,       5246,  4700.6,   1.1887,  34.7135,2,  34.7139,2,    202.1,2,   201.8,2,  118.29,2,   32.39,2,    0.00,2,    2.21,2,   0.019,2,   0.005,2,    0.05,2,  2267.5,2,  2371.1,2,   7.6787,6,       20,-999.000,9,-999.0000,9, -999.00,9,   1.1882,2, -999.00,9,  -999.0,9, -999.00,9,  -999.0,9, -999.00,9,      21.38,2,     -999.0,1, -999.00,9, 20140417,      257, -46.3333,-149.9997,    34.8776,2,     -999.0,9,     -999.0,9,     -999.0,9,     -999.0,9,     -999.0,9,     -999.0,9
320620140320,       P16S,      43,          3,          2,         02,2,20140417,       0237,   -46.3333,  -149.9997,       5246,  4999.2,   1.1983,  34.7128,2,  34.7122,2,    201.8,2,   202.4,2,  118.87,2,   32.47,2,    0.00,2,    2.21,2,   0.024,2,   0.007,2,    0.03,2,  2268.1,6,  2371.4,2,   7.6787,2,       20,-999.000,9,-999.0000,9, -999.00,9,   1.1984,2, -999.00,9,  -999.0,9, -999.00,9,  -999.0,9, -999.00,9,      20.78,2,     -999.0,9, -999.00,9, 20140417,      248, -46.3334,-149.9997,    34.8759,2,     -999.0,9,     -999.0,9,     -999.0,9,     -999.0,9,     -999.0,9,     -999.0,9
320620140320,       P16S,      43,          3,          1,         01,2,20140417,       0237,   -46.3333,  -149.9997,       5246,  5290.0,   1.2310,  34.7125,2,  34.7129,2,    202.0,2,   202.0,2,  119.26,2,   32.53,2,    0.00,2,    2.22,2,   0.026,2,   0.007,2,    0.01,2,  2268.4,2,  2371.2,2,   7.6785,2,       20,-999.000,9,-999.0000,9, -999.00,9,   1.2310,2, -999.00,9,  -999.0,9, -999.00,9,  -999.0,9, -999.00,9,      20.76,2,     -999.0,1, -999.00,9, 20140417,      237, -46.3333,-149.9997,    34.8765,2,     -999.0,9,     -999.0,9,     -999.0,9,     -999.0,9,     -999.0,9,     -999.0,9