BOTTLE,20230715CCHSIOCBG
EXPOCODE,SECT_ID,STNNBR,CASTNO,SAMPNO,BTLNBR,BTLNBR_FLAG_W,DATE,TIME,LATITUDE,LONGITUDE,DEPTH,CTDPRS,CTDTMP,CTDSAL,CTDSAL_FLAG_W,SALNTY,SALNTY_FLAG_W,CTDOXY,CTDOXY_FLAG_W,OXYGEN,OXYGEN_FLAG_W,SILCAT,SILCAT_FLAG_W,NITRAT,NITRAT_FLAG_W,NITRIT,NITRIT_FLAG_W,PHSPHT,PHSPHT_FLAG_W,CFC-11,CFC-11_FLAG_W,CFC-12,CFC-12_FLAG_W,SF6,SF6_FLAG_W,TCARBN,TCARBN_FLAG_W,ALKALI,ALKALI_FLAG_W,PH_TOT,PH_TOT_FLAG_W,PH_TMP,TRITUM,TRITUM_FLAG_W,HELIUM,HELIUM_FLAG_W,DELHE3,DELHE3_FLAG_W,REFTMP,REFTMP_FLAG_W,DELC13,DELC13_FLAG_W,DELC14,DELC14_FLAG_W,DELO18,DELO18_FLAG_W,DOC,DOC_FLAG_W,TDN,TDN_FLAG_W,N2O,N2O_FLAG_W,CALCIUM,CALCIUM_FLAG_W,D15N_NO3,D15N_NO3_FLAG_W,BTL_DATE,BTL_TIME,BTL_LAT,BTL_LON,SALTREF,SALTREF_FLAG_W,D18O_NO3,D18O_NO3_FLAG_W,DSI30,DSI30_FLAG_W,CDOM_NASA,CDOM_NASA_FLAG_W,CDOM_UCSB,CDOM_UCSB_FLAG_W,D15N_NO2+NO3,D15N_NO2+NO3_FLAG_W,D18O_NO2+NO3,D18O_NO2+NO3_FLAG_W
,,,,,,,,,,,METERS,DBAR,ITS-90,PSS-78,,PSS-78,,UMOL/KG,,UMOL/KG,,UMOL/KG,,UMOL/KG,,UMOL/KG,,UMOL/KG,,PMOL/KG,,PMOL/KG,,FMOL/KG,,UMOL/KG,,UMOL/KG,,,,DEG C,TU,,NMOL/KG,,PERCNT,,DEG C,,/MILLE,,/MILLE,,/MILLE,,UMOL/KG,,UMOL/KG,,NMOL/KG,,MMOL/KG,,/MILLE,,,,,,G/KG,,/MILLE,,/MILLE,,,,,,/MILLE,,/MILLE,
320620140320,       P16S,      49,          1,          5,         05,2,20140419,       0954,   -42.3332,  -150.0000,       5254,  4300.2,   1.1975,  34.7140,2,  34.7140,2,    200.3,2,   200.2,2,  116.59,2,   32.26,2,    0.00,2,    2.23,2,   0.006,2,   0.002,2,    0.00,2,  2266.3,2,  2370.1,2,   7.6801,2,       20,-999.000,9,-999.0000,9, -999.00,9,   1.1974,2, -999.00,9,  -999.0,9, -999.00,9,  -999.0,9, -999.00,9,      19.86,2,     -999.0,9, -999.00,9, 20140419,     1030, -42.3332,-150.0000,    34.8777,2,     -999.0,9,     -999.0,9,     -999.0,9,     -999.0,9,     -999.0,9,     -999.0,9
320620140320,       P16S,      49,          1,          4,         04,2,20140419,       0954,   -42.3332,  -150.0000,       5254,  4636.5,   1.1750,  34.7131,2,  34.7131,2,    200.9,2,   201.1,2,  118.05,2,   32.26,2,    0.00,2,    2.23,2,   0.004,2,   0.003,2,    0.00,2,  2267.2,2,  2370.7,2,    7.681,2,       20,-999.000,9,-999.0000,1, -999.00,9,   1.1750,2, -999.00,9,  -999.0,9, -999.00,9,  -999.0,9, -999.00,9,      19.00,2,     -999.0,9, -999.00,9, 20140419,     1021, -42.3332,-150.0000,    34.8767,2,     -999.0,9,     -999.0,9,     -999.0,9,     -999.0,9,     -999.0,9,     -999.0,9
320620140320,       P16S,      49,          1,          3,         03,2,20140419,       0954,   -42.3332,  -150.0000,       5254,  5036.4,   1.1921,  34.7123,2,  34.7123,2,    201.0,2,   201.5,2,  118.64,2,   32.27,2,    0.00,2,    2.23,2,   0.011,2,   0.002,2,    0.06,4,  2267.9,2,  2372.1,6,   7.6801,2,       20,-999.000,1,-999.0000,1, -999.00,9,   1.1918,2, -999.00,9,  -999.0,9, -999.00,9,  -999.0,9, -999.00,9,      19.71,2,     -999.0,9, -999.00,9, 20140419,     1007, -42.3332,-150.0000,    34.8760,2,     -999.0,9,     -999.0,9,     -999.0,9,     -999.0,9,     -999.0,9,     -999.0,9
320620140320,       P16S,      49,          1,          2,         02,2,20140419,       0954,   -42.3332,  -150.0000,       5254,  5150.6,   1.1928,  34.7119,2,  34.7127,2,    201.2,2,   201.9,2,  118.83,2,   32.32,2,    0.00,2,    2.23,2,   0.013,2,   0.000,2,    0.00,2,  2268.4,2,  2371.7,2,   7.6798,6,       20,-999.000,9,-999.0000,1, -999.00,9,   1.1928,2, -999.00,9,  -999.0,9, -999.00,9,  -999.0,9, -999.00,9,      18.98,2,     -999.0,9, -999.00,9, 20140419,     1003, -42.3332,-150.0000,    34.8763,2,     -999.0,9,     -999.0,9,     -999.0,9,     -999.0,9,     -999.0,9,     -999.0,9
320620140320,       P16S,      49,          1,          1,         01,2,20140419,       0954,   -42.3332,  -150.0000,       5254,  5347.9,   1.2013,  34.7114,2,  34.7123,2,    201.7,2,   202.0,2,  119.32,2,   32.37,2,    0.00,2,    2.23,2,   0.011,2,   0.002,2,    0.00,2,  2268.5,6,  2371.3,2,   7.6801,2,       20,-999.000,1,-999.0000,1, -999.00,9,   1.2015,2, -999.00,9,  -999.0,9, -999.00,9,  -999.0,9, -999.00,9,      18.96,2,     -999.0,9, -999.00,9, 20140419,      954, -42.3332,-150.0000,    34.8760,2,     -999.0,9,     -999.0,9,     -999.0,9,     -999.0,9,     -999.0,9,     -999.0,9