BOTTLE,20230715CCHSIOCBG
EXPOCODE,SECT_ID,STNNBR,CASTNO,SAMPNO,BTLNBR,BTLNBR_FLAG_W,DATE,TIME,LATITUDE,LONGITUDE,DEPTH,CTDPRS,CTDTMP,CTDSAL,CTDSAL_FLAG_W,SALNTY,SALNTY_FLAG_W,CTDOXY,CTDOXY_FLAG_W,OXYGEN,OXYGEN_FLAG_W,SILCAT,SILCAT_FLAG_W,NITRAT,NITRAT_FLAG_W,NITRIT,NITRIT_FLAG_W,PHSPHT,PHSPHT_FLAG_W,CFC-11,CFC-11_FLAG_W,CFC-12,CFC-12_FLAG_W,SF6,SF6_FLAG_W,TCARBN,TCARBN_FLAG_W,ALKALI,ALKALI_FLAG_W,PH_TOT,PH_TOT_FLAG_W,PH_TMP,TRITUM,TRITUM_FLAG_W,HELIUM,HELIUM_FLAG_W,DELHE3,DELHE3_FLAG_W,REFTMP,REFTMP_FLAG_W,DELC13,DELC13_FLAG_W,DELC14,DELC14_FLAG_W,DELO18,DELO18_FLAG_W,DOC,DOC_FLAG_W,TDN,TDN_FLAG_W,N2O,N2O_FLAG_W,CALCIUM,CALCIUM_FLAG_W,D15N_NO3,D15N_NO3_FLAG_W,BTL_DATE,BTL_TIME,BTL_LAT,BTL_LON,SALTREF,SALTREF_FLAG_W,D18O_NO3,D18O_NO3_FLAG_W,DSI30,DSI30_FLAG_W,CDOM_NASA,CDOM_NASA_FLAG_W,CDOM_UCSB,CDOM_UCSB_FLAG_W,D15N_NO2+NO3,D15N_NO2+NO3_FLAG_W,D18O_NO2+NO3,D18O_NO2+NO3_FLAG_W
,,,,,,,,,,,METERS,DBAR,ITS-90,PSS-78,,PSS-78,,UMOL/KG,,UMOL/KG,,UMOL/KG,,UMOL/KG,,UMOL/KG,,UMOL/KG,,PMOL/KG,,PMOL/KG,,FMOL/KG,,UMOL/KG,,UMOL/KG,,,,DEG C,TU,,NMOL/KG,,PERCNT,,DEG C,,/MILLE,,/MILLE,,/MILLE,,UMOL/KG,,UMOL/KG,,NMOL/KG,,MMOL/KG,,/MILLE,,,,,,G/KG,,/MILLE,,/MILLE,,,,,,/MILLE,,/MILLE,
320620140320,       P16S,      65,          1,         36,         36,2,20140425,       1703,   -31.6669,  -150.0000,       5034,     3.7,  21.9832,  35.3971,2,  35.3965,2,    218.6,2,   219.0,2,    0.00,2,    0.13,2,    0.00,2,    0.07,2,   1.702,2,   1.157,2,    1.42,2,  2021.9,6,  2321.4,2,   8.1146,2,       20,-999.000,9,-999.0000,9, -999.00,9,  21.9838,2, -999.00,9,  -999.0,9, -999.00,9,  -999.0,9, -999.00,9,       7.15,2,     -999.0,9, -999.00,9, 20140425,     1913, -31.6669,-150.0000,    35.5634,2,     -999.0,9,     -999.0,9,     -999.0,9,     -999.0,1,     -999.0,9,     -999.0,9
320620140320,       P16S,      65,          1,         35,         35,2,20140425,       1703,   -31.6669,  -150.0000,       5034,    19.6,  21.9912,  35.4045,2,  35.4024,2,    220.1,2,   218.9,2,    0.00,2,    0.13,2,    0.00,2,    0.09,2,   1.694,2,   1.150,2,    1.50,2,  2023.3,2,  2321.3,2,   8.1154,2,       20,-999.000,9,-999.0000,9, -999.00,9,  21.9896,2, -999.00,9,  -999.0,9, -999.00,9,  -999.0,9, -999.00,9,       7.22,2,     -999.0,9, -999.00,9, 20140425,     1911, -31.6669,-150.0000,    35.5694,2,     -999.0,9,     -999.0,9,     -999.0,9,     -999.0,1,     -999.0,9,     -999.0,9
320620140320,       P16S,      65,          1,         34,         34,2,20140425,       1703,   -31.6669,  -150.0000,       5034,    39.3,  22.0724,  35.4964,2,  35.4937,2,    220.8,2,   219.5,2,    0.00,2,    0.12,2,    0.00,2,    0.07,2,   1.800,2,   1.159,2,    1.51,2,  2028.2,2,  2327.1,2,   8.1139,2,       20,-999.000,9,-999.0000,9, -999.00,9,  22.0702,2, -999.00,9,  -999.0,9, -999.00,9,  -999.0,9, -999.00,9,       6.87,2,     -999.0,9, -999.00,9, 20140425,     1910, -31.6669,-150.0000,    35.6611,2,     -999.0,9,     -999.0,9,     -999.0,9,     -999.0,1,     -999.0,9,     -999.0,9
320620140320,       P16S,      65,          1,         33,         33,2,20140425,       1703,   -31.6669,  -150.0000,       5034,    64.3,  21.8285,  35.5136,2,  35.5081,2,    224.6,2,   223.3,2,    0.00,2,    0.13,2,    0.00,2,    0.05,2,   1.816,2,   1.164,2,    1.52,2,  2031.4,2,  2328.1,2,     8.11,2,       20,-999.000,9,-999.0000,9, -999.00,9,  21.8034,3, -999.00,9,  -999.0,9, -999.00,9,  -999.0,9, -999.00,9,       7.18,2,     -999.0,9, -999.00,9, 20140425,     1908, -31.6669,-150.0000,    35.6756,2,     -999.0,9,     -999.0,9,     -999.0,9,     -999.0,1,     -999.0,9,     -999.0,9
320620140320,       P16S,      65,          1,         32,         32,2,20140425,       1703,   -31.6669,  -150.0000,       5034,    89.2,  18.9261,  35.4449,2,  35.4397,2,    240.8,2,   241.1,2,    0.00,2,    0.13,2,    0.01,2,    0.06,2,-999.000,9,-999.000,9, -999.00,9,  2044.1,2,  2323.6,2,   8.0798,2,       20,-999.000,9,-999.0000,9, -999.00,9,  18.9436,2, -999.00,9,  -999.0,9, -999.00,9,  -999.0,9, -999.00,9,     -999.0,9,     -999.0,9, -999.00,9, 20140425,     1906, -31.6669,-150.0000,    35.6068,2,     -999.0,9,     -999.0,9,     -999.0,9,     -999.0,1,     -999.0,9,     -999.0,9
320620140320,       P16S,      65,          1,         31,         31,2,20140425,       1703,   -31.6669,  -150.0000,       5034,   134.7,  17.3736,  35.4056,2,  35.4022,2,    222.3,2,   223.6,2,    0.10,2,    0.32,2,    0.05,2,    0.13,2,   2.292,2,   1.390,2,    1.50,2,  2063.5,2,  2321.9,2,   8.0427,2,       20,-999.000,9,-999.0000,9, -999.00,9,  17.3335,3, -999.00,9,  -999.0,9, -999.00,9,  -999.0,9, -999.00,9,       8.77,2,     -999.0,9, -999.00,9, 20140425,     1904, -31.6669,-150.0000,    35.5692,2,     -999.0,9,     -999.0,9,     -999.0,9,     -999.0,1,     -999.0,9,     -999.0,9
320620140320,       P16S,      65,          1,         30,         30,2,20140425,       1703,   -31.6669,  -150.0000,       5034,   184.8,  16.1592,  35.3144,2,  35.3143,2,    212.9,2,   213.2,2,    0.29,2,    2.89,2,    0.02,2,    0.29,2,   2.336,2,   1.426,2,    1.68,2,    2079,2,  2315.9,2,    8.002,2,       20,-999.000,9,-999.0000,9, -999.00,9,  16.1567,2, -999.00,9,  -999.0,9, -999.00,9,  -999.0,9, -999.00,9,       9.39,2,     -999.0,9, -999.00,9, 20140425,     1902, -31.6669,-150.0000,    35.4808,2,     -999.0,9,     -999.0,9,     -999.0,9,     -999.0,1,     -999.0,9,     -999.0,9
320620140320,       P16S,      65,          1,         29,         29,2,20140425,       1703,   -31.6669,  -150.0000,       5034,   234.3,  15.1492,  35.2094,2,  35.2083,2,    205.5,2,   204.7,2,    0.88,2,    5.57,2,    0.01,2,    0.46,2,   2.434,6,   1.472,6,    1.55,6,  2094.8,2,  2312.6,2,   7.9633,2,       20,-999.000,9,-999.0000,9, -999.00,9,  15.1208,3, -999.00,9,  -999.0,9, -999.00,9,  -999.0,9, -999.00,9,      10.69,6,     -999.0,9, -999.00,9, 20140425,     1900, -31.6669,-150.0000,    35.3743,2,     -999.0,9,     -999.0,9,     -999.0,9,     -999.0,1,     -999.0,9,     -999.0,9
320620140320,       P16S,      65,          1,         28,         28,2,20140425,       1703,   -31.6669,  -150.0000,       5034,   284.8,  13.5469,  35.0326,2,  35.0362,2,    199.6,2,   199.4,2,    1.47,2,    9.14,2,    0.01,2,    0.68,2,   2.725,2,   1.528,2,    1.34,2,  2109.1,2,  2303.8,2,   7.9158,2,       20,-999.000,9,-999.0000,9, -999.00,9,  13.5540,2, -999.00,9,  -999.0,9, -999.00,9,  -999.0,9, -999.00,9,      12.59,2,     -999.0,9, -999.00,9, 20140425,     1858, -31.6669,-150.0000,    35.2014,2,     -999.0,9,     -999.0,9,     -999.0,9,     -999.0,1,     -999.0,9,     -999.0,9
320620140320,       P16S,      65,          1,         27,         27,2,20140425,       1703,   -31.6669,  -150.0000,       5034,   334.3,  12.1685,  34.8667,2,  34.8652,2,   -999.0,9,  -999.0,5,    2.15,2,   11.97,2,    0.01,2,    0.88,2,   2.798,2,   1.567,2,    1.35,2,  2116.8,2,  2295.9,2,   7.8821,2,       20,-999.000,9,-999.0000,9, -999.00,9,  12.1721,2, -999.00,9,  -999.0,9, -999.00,9,  -999.0,9, -999.00,9,      15.17,2,     -999.0,9, -999.00,9, 20140425,     1856, -31.6669,-150.0000,    35.0296,2,     -999.0,9,     -999.0,9,     -999.0,9,     -999.0,9,     -999.0,9,     -999.0,9
320620140320,       P16S,      65,          1,         26,         26,2,20140425,       1703,   -31.6669,  -150.0000,       5034,   384.0,  10.5604,  34.6974,2,  34.6987,2,    208.2,2,   208.8,2,    3.03,2,   14.93,2,    0.01,2,    1.11,2,   3.062,2,   1.627,2,    1.12,2,  2126.4,2,  2289.6,2,   7.8481,2,       20,-999.000,9,-999.0000,9, -999.00,9,  10.5709,2, -999.00,9,  -999.0,9, -999.00,9,  -999.0,9, -999.00,9,      16.78,2,     -999.0,9, -999.00,9, 20140425,     1854, -31.6669,-150.0000,    34.8623,2,     -999.0,9,     -999.0,9,     -999.0,9,     -999.0,9,     -999.0,9,     -999.0,9
320620140320,       P16S,      65,          1,         25,         25,2,20140425,       1703,   -31.6669,  -150.0000,       5034,   464.6,   8.4257,  34.4870,2,  34.4964,2,    228.1,2,   228.3,2,    3.72,2,   18.23,2,    0.00,2,    1.27,2,   3.444,2,   1.787,2,    1.24,2,    2134,2,  2281.8,2,   7.8131,2,       20,-999.000,9,-999.0000,9, -999.00,9,   8.4769,2, -999.00,9,  -999.0,9, -999.00,9,  -999.0,9, -999.00,9,      17.98,2,     -999.0,9, -999.00,9, 20140425,     1852, -31.6669,-150.0000,    34.6590,2,     -999.0,9,     -999.0,9,     -999.0,9,     -999.0,9,     -999.0,9,     -999.0,9
320620140320,       P16S,      65,          1,         24,         24,2,20140425,       1703,   -31.6669,  -150.0000,       5034,   564.3,   7.3637,  34.4002,2,  34.3992,2,    241.2,2,   240.8,2,    5.28,2,   20.85,2,    0.00,2,    1.45,2,   3.766,2,   1.877,2,    1.42,2,  2141.3,2,  2280.2,2,   7.7962,2,       20,-999.000,9,-999.0000,9, -999.00,9,   7.3613,2, -999.00,9,  -999.0,9, -999.00,9,  -999.0,9, -999.00,9,      16.66,2,     -999.0,9, -999.00,9, 20140425,     1849, -31.6669,-150.0000,    34.5614,2,     -999.0,9,     -999.0,9,     -999.0,9,     -999.0,1,     -999.0,9,     -999.0,9
320620140320,       P16S,      65,          1,         23,         23,2,20140425,       1703,   -31.6669,  -150.0000,       5034,   664.3,   6.8062,  34.3578,2,  34.3562,2,    242.6,2,   243.3,2,    6.75,2,   22.45,2,    0.00,2,    1.54,2,   3.522,2,   1.741,2,    0.60,2,  2143.3,6,    2279,2,   7.7883,2,       20,-999.000,9,-999.0000,9, -999.00,9,   6.8056,2, -999.00,9,  -999.0,9, -999.00,9,  -999.0,9, -999.00,9,      16.34,2,     -999.0,9, -999.00,9, 20140425,     1846, -31.6669,-150.0000,    34.5182,2,     -999.0,9,     -999.0,9,     -999.0,9,     -999.0,9,     -999.0,9,     -999.0,9
320620140320,       P16S,      65,          1,         22,         22,2,20140425,       1703,   -31.6669,  -150.0000,       5034,   764.7,   6.2956,  34.3271,2,  34.3264,2,    238.5,2,   238.8,2,    9.10,2,   24.09,2,    0.00,2,    1.69,2,   2.821,2,   1.476,2,    0.44,2,  2148.6,2,  2280.6,2,    7.777,2,       20,-999.000,9,-999.0000,9, -999.00,9,   6.2937,2, -999.00,9,  -999.0,9, -999.00,9,  -999.0,9, -999.00,9,      16.54,2,     -999.0,9, -999.00,9, 20140425,     1843, -31.6669,-150.0000,    34.4883,2,     -999.0,9,     -999.0,9,     -999.0,9,     -999.0,9,     -999.0,9,     -999.0,9
320620140320,       P16S,      65,          1,         21,         21,2,20140425,       1703,   -31.6669,  -150.0000,       5034,   864.7,   5.7800,  34.3069,2,  34.3066,2,    228.6,2,   230.2,2,   12.72,2,   26.02,2,    0.00,2,    1.86,2,   2.228,2,   1.124,2,    0.24,2,  2158.6,2,  2282.4,2,   7.7567,6,       20,-999.000,9,-999.0000,9, -999.00,9,   5.7799,2, -999.00,9,  -999.0,9, -999.00,9,  -999.0,9, -999.00,9,      17.51,2,     -999.0,9, -999.00,9, 20140425,     1840, -31.6669,-150.0000,    34.4684,2,     -999.0,9,     -999.0,9,     -999.0,9,     -999.0,9,     -999.0,9,     -999.0,9
320620140320,       P16S,      65,          1,         20,         20,2,20140425,       1703,   -31.6669,  -150.0000,       5034,   964.6,   5.1500,  34.3069,2,  34.3066,2,    214.7,2,   214.6,2,   19.87,2,   28.61,2,    0.00,2,    1.93,2,   1.248,2,   0.671,2,    0.10,2,    2175,2,  2287.2,2,   7.7244,2,       20,-999.000,9,-999.0000,9, -999.00,9,   5.1384,3, -999.00,9,  -999.0,9, -999.00,9,  -999.0,9, -999.00,9,      18.91,2,     -999.0,9, -999.00,9, 20140425,     1838, -31.6669,-150.0000,    34.4684,2,     -999.0,9,     -999.0,9,     -999.0,9,     -999.0,9,     -999.0,9,     -999.0,9
320620140320,       P16S,      65,          1,         19,         19,2,20140425,       1703,   -31.6669,  -150.0000,       5034,  1065.0,   4.4480,  34.3250,2,  34.3237,2,    203.8,2,   200.8,2,   30.04,2,   30.94,2,    0.00,2,    2.15,2,   0.788,2,   0.447,2,    0.11,2,  2194.9,2,  2296.2,6,   7.6916,2,       20,-999.000,9,-999.0000,9, -999.00,9,   4.4450,2, -999.00,9,  -999.0,9, -999.00,9,  -999.0,9, -999.00,9,      20.43,2,     -999.0,9, -999.00,9, 20140425,     1835, -31.6669,-150.0000,    34.4855,2,     -999.0,9,     -999.0,9,     -999.0,9,     -999.0,9,     -999.0,9,     -999.0,9
320620140320,       P16S,      65,          1,         18,         18,2,20140425,       1703,   -31.6669,  -150.0000,       5034,  1164.1,   3.9778,  34.3510,2,  34.3509,2,    195.3,2,   192.1,2,   38.85,2,   32.41,2,    0.00,2,    2.30,2,   0.630,2,   0.320,2,    0.05,2,  2209.6,2,  2303.4,2,   7.6704,2,       20,-999.000,9,-999.0000,9, -999.00,9,   3.9800,2, -999.00,9,  -999.0,9, -999.00,9,  -999.0,9, -999.00,9,      20.71,2,     -999.0,9, -999.00,9, 20140425,     1832, -31.6669,-150.0000,    34.5129,2,     -999.0,9,     -999.0,9,     -999.0,9,     -999.0,1,     -999.0,9,     -999.0,9
320620140320,       P16S,      65,          1,         17,         17,2,20140425,       1703,   -31.6669,  -150.0000,       5034,  1265.7,   3.5128,  34.3934,2,  34.3931,2,    185.6,2,   183.3,2,   48.93,2,   33.43,2,    0.00,2,    2.36,2,   0.375,2,   0.188,2,    0.04,2,  2223.5,2,  2312.8,2,   7.6515,2,       20,-999.000,9,-999.0000,9, -999.00,9,   3.5119,2, -999.00,9,  -999.0,9, -999.00,9,  -999.0,9, -999.00,9,      21.61,2,     -999.0,9, -999.00,9, 20140425,     1829, -31.6669,-150.0000,    34.5553,2,     -999.0,9,     -999.0,9,     -999.0,9,     -999.0,9,     -999.0,9,     -999.0,9
320620140320,       P16S,      65,          1,         16,         16,2,20140425,       1703,   -31.6669,  -150.0000,       5034,  1364.1,   3.2095,  34.4398,2,  34.4387,2,    176.2,2,   175.1,2,   58.32,2,   34.13,2,    0.00,2,    2.43,2,   0.160,2,   0.084,2,    0.01,2,  2237.1,2,  2322.2,2,   7.6414,2,       20,-999.000,9,-999.0000,9, -999.00,9,   3.2101,2, -999.00,9,  -999.0,9, -999.00,9,  -999.0,9, -999.00,9,      23.55,2,     -999.0,9, -999.00,9, 20140425,     1826, -31.6669,-150.0000,    34.6011,2,     -999.0,9,     -999.0,9,     -999.0,9,     -999.0,1,     -999.0,9,     -999.0,9
320620140320,       P16S,      65,          1,         15,         15,2,20140425,       1703,   -31.6669,  -150.0000,       5034,  1535.1,   2.7944,  34.5201,2,  34.5192,2,    164.8,2,   165.3,2,   75.83,2,   34.72,2,    0.00,2,    2.46,2,-999.000,9,-999.000,9, -999.00,9,  2257.3,2,  2342.6,2,   7.6337,2,       20,-999.000,9,-999.0000,9, -999.00,9,   2.7949,2, -999.00,9,  -999.0,9, -999.00,9,  -999.0,9, -999.00,9,     -999.0,9,     -999.0,9, -999.00,9, 20140425,     1822, -31.6669,-150.0000,    34.6819,2,     -999.0,9,     -999.0,9,     -999.0,9,     -999.0,9,     -999.0,9,     -999.0,9
320620140320,       P16S,      65,          1,         14,         14,2,20140425,       1703,   -31.6669,  -150.0000,       5034,  1734.1,   2.5037,  34.5794,2,  34.5791,2,    157.9,2,   158.6,2,   91.48,2,   35.02,2,    0.00,2,    2.45,2,   0.010,2,   0.002,2,    0.01,2,  2277.2,2,  2361.2,2,   7.6326,2,       20,-999.000,9,-999.0000,9, -999.00,9,   2.5043,2, -999.00,9,  -999.0,9, -999.00,9,  -999.0,9, -999.00,9,      23.06,2,     -999.0,9, -999.00,9, 20140425,     1817, -31.6669,-150.0000,    34.7421,2,     -999.0,9,     -999.0,9,     -999.0,9,     -999.0,9,     -999.0,9,     -999.0,9
320620140320,       P16S,      65,          1,         13,         13,2,20140425,       1703,   -31.6669,  -150.0000,       5034,  1934.1,   2.2581,  34.6187,2,  34.6183,2,    154.1,2,   154.0,2,  104.98,2,   35.42,2,    0.00,2,    2.47,2,   0.003,2,   0.001,2,    0.00,2,  2291.3,2,  2377.2,2,   7.6337,2,       20,-999.000,9,-999.0000,9, -999.00,9,   2.2589,2, -999.00,9,  -999.0,9, -999.00,9,  -999.0,9, -999.00,9,      23.10,2,     -999.0,9, -999.00,9, 20140425,     1813, -31.6669,-150.0000,    34.7816,2,     -999.0,9,     -999.0,9,     -999.0,9,     -999.0,1,     -999.0,9,     -999.0,9
320620140320,       P16S,      65,          1,         12,         12,2,20140425,       1703,   -31.6669,  -150.0000,       5034,  2164.5,   2.0656,  34.6416,2,  34.6413,2,    151.8,2,   151.6,2,  114.96,2,   35.58,2,    0.00,2,    2.49,2,   0.003,2,   0.001,2,    0.00,2,  2302.7,2,    2389,2,   7.6339,2,       20,-999.000,9,-999.0000,9, -999.00,9,   2.0649,2, -999.00,9,  -999.0,9, -999.00,9,  -999.0,9, -999.00,9,      24.04,2,     -999.0,9, -999.00,9, 20140425,     1808, -31.6669,-150.0000,    34.8047,2,     -999.0,9,     -999.0,9,     -999.0,9,     -999.0,9,     -999.0,9,     -999.0,9
320620140320,       P16S,      65,          1,         11,         11,2,20140425,       1703,   -31.6669,  -150.0000,       5034,  2414.7,   1.9295,  34.6550,2,  34.6541,2,    150.1,2,   149.9,2,  122.20,2,   35.73,2,    0.00,2,    2.51,2,   0.004,2,   0.002,2,    0.00,2,  2310.2,2,  2396.6,2,   7.6334,2,       20,-999.000,9,-999.0000,9, -999.00,9,   1.9297,2, -999.00,9,  -999.0,9, -999.00,9,  -999.0,9, -999.00,9,      24.25,2,     -999.0,9, -999.00,9, 20140425,     1803, -31.6669,-150.0000,    34.8175,2,     -999.0,9,     -999.0,9,     -999.0,9,     -999.0,9,     -999.0,9,     -999.0,9
320620140320,       P16S,      65,          1,         10,         10,2,20140425,       1703,   -31.6669,  -150.0000,       5034,  2665.0,   1.8294,  34.6632,2,  34.6628,2,    151.1,2,   151.5,2,  125.42,2,   35.75,2,    0.00,2,    2.50,2,-999.000,9,-999.000,9, -999.00,9,  2311.6,2,    2399,2,   7.6365,2,       20,-999.000,9,-999.0000,9, -999.00,9,   1.8289,2, -999.00,9,  -999.0,9, -999.00,9,  -999.0,9, -999.00,9,     -999.0,9,     -999.0,9, -999.00,9, 20140425,     1757, -31.6669,-150.0000,    34.8262,2,     -999.0,9,     -999.0,9,     -999.0,9,     -999.0,1,     -999.0,9,     -999.0,9
320620140320,       P16S,      65,          1,          9,         09,2,20140425,       1703,   -31.6669,  -150.0000,       5034,  2914.0,   1.7387,  34.6715,2,  34.6714,2,    155.2,2,   155.1,2,  127.09,2,   35.46,2,    0.00,2,    2.48,2,   0.002,2,   0.001,2,    0.00,2,  2309.7,6,  2400.6,2,   7.6407,2,       20,-999.000,9,-999.0000,9, -999.00,9,   1.7384,2, -999.00,9,  -999.0,9, -999.00,9,  -999.0,9, -999.00,9,      22.68,2,     -999.0,9, -999.00,9, 20140425,     1752, -31.6669,-150.0000,    34.8349,2,     -999.0,9,     -999.0,9,     -999.0,9,     -999.0,9,     -999.0,9,     -999.0,9
320620140320,       P16S,      65,          1,          8,         08,2,20140425,       1703,   -31.6669,  -150.0000,       5034,  3199.0,   1.6177,  34.6825,2,  34.6830,2,    163.6,2,   164.0,2,  125.71,2,   34.82,2,    0.00,2,    2.44,2,   0.003,2,   0.001,2,    0.01,2,  2302.2,2,  2395.2,2,   7.6486,2,       20,-999.000,9,-999.0000,9, -999.00,9,   1.6173,2, -999.00,9,  -999.0,9, -999.00,9,  -999.0,9, -999.00,9,      21.97,2,     -999.0,9, -999.00,9, 20140425,     1746, -31.6669,-150.0000,    34.8465,2,     -999.0,9,     -999.0,9,     -999.0,9,     -999.0,1,     -999.0,9,     -999.0,9
320620140320,       P16S,      65,          1,          7,         07,4,20140425,       1703,   -31.6669,  -150.0000,       5034,  3500.2,   1.5288,  34.6902,2,  35.3449,4,    172.2,2,   221.8,4,    0.59,4,    2.86,4,    0.01,4,    0.22,4,-999.000,9,-999.000,9, -999.00,9,  -999.0,9,  -999.0,9,-999.0000,9,  -999.00,-999.000,9,-999.0000,9, -999.00,9,   1.5283,2, -999.00,9,  -999.0,9, -999.00,9,  -999.0,9, -999.00,9,     -999.0,9,     -999.0,9, -999.00,9, 20140425,     1740, -31.6669,-150.0000,    35.5115,4,     -999.0,9,     -999.0,9,     -999.0,9,     -999.0,9,     -999.0,9,     -999.0,9
320620140320,       P16S,      65,          1,          6,         06,2,20140425,       1703,   -31.6669,  -150.0000,       5034,  3899.1,   1.3787,  34.6983,2,  34.6966,2,    183.9,2,   184.0,2,  120.72,2,   33.48,2,    0.00,2,    2.30,2,   0.004,2,   0.002,2,    0.02,2,  2283.7,2,  2380.7,2,   7.6652,6,       20,-999.000,9,-999.0000,9, -999.00,9,   1.3787,2, -999.00,9,  -999.0,9, -999.00,9,  -999.0,9, -999.00,9,      20.88,2,     -999.0,9, -999.00,9, 20140425,     1732, -31.6669,-150.0000,    34.8602,2,     -999.0,9,     -999.0,9,     -999.0,9,     -999.0,9,     -999.0,9,     -999.0,9