BOTTLE,20230715CCHSIOCBG
EXPOCODE,SECT_ID,STNNBR,CASTNO,SAMPNO,BTLNBR,BTLNBR_FLAG_W,DATE,TIME,LATITUDE,LONGITUDE,DEPTH,CTDPRS,CTDTMP,CTDSAL,CTDSAL_FLAG_W,SALNTY,SALNTY_FLAG_W,CTDOXY,CTDOXY_FLAG_W,OXYGEN,OXYGEN_FLAG_W,SILCAT,SILCAT_FLAG_W,NITRAT,NITRAT_FLAG_W,NITRIT,NITRIT_FLAG_W,PHSPHT,PHSPHT_FLAG_W,CFC-11,CFC-11_FLAG_W,CFC-12,CFC-12_FLAG_W,SF6,SF6_FLAG_W,TCARBN,TCARBN_FLAG_W,ALKALI,ALKALI_FLAG_W,PH_TOT,PH_TOT_FLAG_W,PH_TMP,TRITUM,TRITUM_FLAG_W,HELIUM,HELIUM_FLAG_W,DELHE3,DELHE3_FLAG_W,REFTMP,REFTMP_FLAG_W,DELC13,DELC13_FLAG_W,DELC14,DELC14_FLAG_W,DELO18,DELO18_FLAG_W,DOC,DOC_FLAG_W,TDN,TDN_FLAG_W,N2O,N2O_FLAG_W,CALCIUM,CALCIUM_FLAG_W,D15N_NO3,D15N_NO3_FLAG_W,BTL_DATE,BTL_TIME,BTL_LAT,BTL_LON,SALTREF,SALTREF_FLAG_W,D18O_NO3,D18O_NO3_FLAG_W,DSI30,DSI30_FLAG_W,CDOM_NASA,CDOM_NASA_FLAG_W,CDOM_UCSB,CDOM_UCSB_FLAG_W,D15N_NO2+NO3,D15N_NO2+NO3_FLAG_W,D18O_NO2+NO3,D18O_NO2+NO3_FLAG_W
,,,,,,,,,,,METERS,DBAR,ITS-90,PSS-78,,PSS-78,,UMOL/KG,,UMOL/KG,,UMOL/KG,,UMOL/KG,,UMOL/KG,,UMOL/KG,,PMOL/KG,,PMOL/KG,,FMOL/KG,,UMOL/KG,,UMOL/KG,,,,DEG C,TU,,NMOL/KG,,PERCNT,,DEG C,,/MILLE,,/MILLE,,/MILLE,,UMOL/KG,,UMOL/KG,,NMOL/KG,,MMOL/KG,,/MILLE,,,,,,G/KG,,/MILLE,,/MILLE,,,,,,/MILLE,,/MILLE,
320620140320,       P16S,      37,          2,          5,         05,2,20140414,       1150,   -50.0013,  -150.0004,       4257,  3300.0,   1.5415,  34.7328,2,  34.7321,2,    197.3,2,   197.6,2,  102.68,2,   31.41,2,    0.00,2,    2.16,2,   0.146,2,   0.030,2,    0.01,2,  2255.4,2,    2359,2,   7.6756,2,       20,-999.000,9,-999.0000,9, -999.00,9,   1.5419,2,    0.62,2,  -158.2,2, -999.00,9,    35.1,3, -999.00,9,      19.15,2,     -999.0,9, -999.00,9, 20140414,     1208, -50.0013,-150.0004,    34.8959,2,     -999.0,9,     -999.0,9,     -999.0,9,     -999.0,9,     -999.0,9,     -999.0,9
320620140320,       P16S,      37,          2,          4,         04,2,20140414,       1150,   -50.0013,  -150.0004,       4257,  3598.3,   1.3191,  34.7245,2,  34.7237,2,    200.5,2,   200.2,2,  110.01,2,   31.77,2,    0.00,2,    2.17,2,-999.000,9,-999.000,9, -999.00,9,  2258.1,2,  2362.3,2,   7.6763,2,       20,-999.000,9,-999.0000,9, -999.00,9,   1.3196,2,    0.59,2,  -162.9,2, -999.00,9,  -999.0,5, -999.00,9,     -999.0,9,     -999.0,9, -999.00,9, 20140414,     1202, -50.0013,-150.0004,    34.8874,2,     -999.0,9,     -999.0,9,     -999.0,9,     -999.0,9,     -999.0,9,     -999.0,9
320620140320,       P16S,      37,          2,          3,         03,2,20140414,       1150,   -50.0013,  -150.0004,       4257,  3900.2,   1.1384,  34.7170,2,  34.7154,2,    203.0,2,   202.7,2,  117.24,2,   32.06,2,    0.00,2,    2.19,2,   0.128,6,   0.031,6,    0.04,6,  2261.3,2,  2364.3,6,   7.6755,2,       20,-999.000,9,-999.0000,9, -999.00,9,   1.1391,2,    0.61,2,  -161.0,2, -999.00,9,    39.8,2, -999.00,9,      19.50,6,     -999.0,9, -999.00,9, 20140414,     1156, -50.0013,-150.0004,    34.8791,2,     -999.0,9,     -999.0,9,     -999.0,9,     -999.0,9,     -999.0,9,     -999.0,9
320620140320,       P16S,      37,          2,          2,         02,2,20140414,       1150,   -50.0013,  -150.0004,       4257,  4000.1,   1.1157,  34.7156,2,  34.7144,2,    202.8,2,   202.9,2,  118.60,2,   32.12,2,    0.00,2,    2.19,2,   0.142,2,   0.034,2,    0.01,2,  2262.3,2,  2364.4,2,   7.6752,6,       20,-999.000,9,-999.0000,9, -999.00,9,   1.1158,2,    0.57,2,  -161.9,2, -999.00,9,  -999.0,5, -999.00,9,      20.53,2,     -999.0,9, -999.00,9, 20140414,     1153, -50.0013,-150.0004,    34.8781,2,     -999.0,9,     -999.0,1,     -999.0,9,     -999.0,9,     -999.0,9,     -999.0,9
320620140320,       P16S,      37,          2,          1,         01,2,20140414,       1150,   -50.0013,  -150.0004,       4257,  4100.9,   1.1097,  34.7151,2,  34.7144,2,    202.9,2,   203.0,2,  119.09,2,   32.14,2,    0.00,2,    2.20,2,   0.141,2,   0.042,2,    0.02,2,  2263.1,6,  2365.9,2,   7.6755,2,       20,-999.000,9,-999.0000,9, -999.00,9,   1.1096,2,    0.58,2,  -158.4,2, -999.00,9,    40.9,2, -999.00,9,      21.15,2,     -999.0,9, -999.00,9, 20140414,     1150, -50.0013,-150.0004,    34.8781,2,     -999.0,9,     -999.0,9,     -999.0,9,     -999.0,9,     -999.0,9,     -999.0,9