BOTTLE,20230715CCHSIOCBG
EXPOCODE,SECT_ID,STNNBR,CASTNO,SAMPNO,BTLNBR,BTLNBR_FLAG_W,DATE,TIME,LATITUDE,LONGITUDE,DEPTH,CTDPRS,CTDTMP,CTDSAL,CTDSAL_FLAG_W,SALNTY,SALNTY_FLAG_W,CTDOXY,CTDOXY_FLAG_W,OXYGEN,OXYGEN_FLAG_W,SILCAT,SILCAT_FLAG_W,NITRAT,NITRAT_FLAG_W,NITRIT,NITRIT_FLAG_W,PHSPHT,PHSPHT_FLAG_W,CFC-11,CFC-11_FLAG_W,CFC-12,CFC-12_FLAG_W,SF6,SF6_FLAG_W,TCARBN,TCARBN_FLAG_W,ALKALI,ALKALI_FLAG_W,PH_TOT,PH_TOT_FLAG_W,PH_TMP,TRITUM,TRITUM_FLAG_W,HELIUM,HELIUM_FLAG_W,DELHE3,DELHE3_FLAG_W,REFTMP,REFTMP_FLAG_W,DELC13,DELC13_FLAG_W,DELC14,DELC14_FLAG_W,DELO18,DELO18_FLAG_W,DOC,DOC_FLAG_W,TDN,TDN_FLAG_W,N2O,N2O_FLAG_W,CALCIUM,CALCIUM_FLAG_W,D15N_NO3,D15N_NO3_FLAG_W,BTL_DATE,BTL_TIME,BTL_LAT,BTL_LON,SALTREF,SALTREF_FLAG_W,D18O_NO3,D18O_NO3_FLAG_W,DSI30,DSI30_FLAG_W,CDOM_NASA,CDOM_NASA_FLAG_W,CDOM_UCSB,CDOM_UCSB_FLAG_W,D15N_NO2+NO3,D15N_NO2+NO3_FLAG_W,D18O_NO2+NO3,D18O_NO2+NO3_FLAG_W
,,,,,,,,,,,METERS,DBAR,ITS-90,PSS-78,,PSS-78,,UMOL/KG,,UMOL/KG,,UMOL/KG,,UMOL/KG,,UMOL/KG,,UMOL/KG,,PMOL/KG,,PMOL/KG,,FMOL/KG,,UMOL/KG,,UMOL/KG,,,,DEG C,TU,,NMOL/KG,,PERCNT,,DEG C,,/MILLE,,/MILLE,,/MILLE,,UMOL/KG,,UMOL/KG,,NMOL/KG,,MMOL/KG,,/MILLE,,,,,,G/KG,,/MILLE,,/MILLE,,,,,,/MILLE,,/MILLE,
320620140320,       P16S,      66,          2,          5,         05,2,20140426,       0244,   -31.0003,  -149.9996,       4246,  3249.0,   1.5924,  34.6831,2,  34.6830,2,    166.4,2,   166.8,2,  126.07,2,   34.68,2,    0.00,2,    2.42,2,   0.003,2,   0.001,2,    0.02,2,  2299.5,2,  2396.1,2,   7.6499,2,       20,-999.000,9,-999.0000,9, -999.00,9,   1.5927,2, -999.00,9,  -999.0,9, -999.00,9,    41.6,2, -999.00,9,      21.59,2,     -999.0,9, -999.00,9, 20140426,      307, -30.9998,-149.9993,    34.8465,2,     -999.0,9,     -999.0,9,     -999.0,9,     -999.0,9,     -999.0,9,     -999.0,9
320620140320,       P16S,      66,          2,          4,         04,2,20140426,       0244,   -31.0003,  -149.9996,       4246,  3498.8,   1.5040,  34.6900,2,  34.6903,2,    174.3,2,   174.4,2,  123.91,2,   34.22,2,    0.00,2,    2.37,2,   0.006,2,   0.001,2,    0.00,2,  2291.8,2,  2391.5,2,   7.6562,2,       20,-999.000,9,-999.0000,9, -999.00,9,   1.5038,2, -999.00,9,  -999.0,9, -999.00,9,    38.8,2, -999.00,9,      21.93,2,     -999.0,9, -999.00,9, 20140426,      302, -30.9998,-149.9993,    34.8538,2,     -999.0,9,     -999.0,9,     -999.0,9,     -999.0,9,     -999.0,9,     -999.0,9
320620140320,       P16S,      66,          2,          3,         03,2,20140426,       0244,   -31.0003,  -149.9996,       4246,  3749.3,   1.4033,  34.6962,2,  34.6962,2,    182.5,2,   182.2,2,  122.15,2,   33.65,2,    0.00,2,    2.32,2,-999.000,9,-999.000,9, -999.00,9,  2284.8,2,  2385.7,2,   7.6628,6,       20,-999.000,9,-999.0000,9, -999.00,9,   1.4048,3, -999.00,9,  -999.0,9, -999.00,9,    37.8,2, -999.00,9,     -999.0,9,     -999.0,9, -999.00,9, 20140426,      256, -31.0003,-149.9996,    34.8598,2,     -999.0,9,     -999.0,9,     -999.0,9,     -999.0,9,     -999.0,9,     -999.0,9
320620140320,       P16S,      66,          2,          2,         02,2,20140426,       0244,   -31.0003,  -149.9996,       4246,  4000.2,   1.3133,  34.7010,2,  34.7017,2,    189.3,2,   190.2,2,  120.88,2,   33.16,2,    0.00,2,    2.28,2,   0.004,2,   0.001,2,    0.00,2,  2277.9,2,  2380.7,2,   7.6684,2,       20,-999.000,9,-999.0000,9, -999.00,9,   1.3131,2, -999.00,9,  -999.0,9, -999.00,9,      40,2, -999.00,9,      20.63,2,     -999.0,9, -999.00,9, 20140426,      251, -31.0003,-149.9996,    34.8653,2,     -999.0,9,     -999.0,9,     -999.0,9,     -999.0,9,     -999.0,9,     -999.0,9
320620140320,       P16S,      66,          2,          1,         01,2,20140426,       0244,   -31.0003,  -149.9996,       4246,  4316.4,   1.2983,  34.7031,2,  34.7032,2,    192.7,2,   192.4,2,  120.39,2,   33.01,2,    0.00,2,    2.27,2,   0.006,2,   0.002,2,    0.00,2,  2275.7,6,  2378.3,2,   7.6705,2,       20,-999.000,9,-999.0000,9, -999.00,9,   1.2986,2, -999.00,9,  -999.0,9, -999.00,9,    39.5,2, -999.00,9,      20.35,2,     -999.0,9, -999.00,9, 20140426,      244, -31.0003,-149.9996,    34.8669,2,     -999.0,9,     -999.0,9,     -999.0,9,     -999.0,9,     -999.0,9,     -999.0,9