BOTTLE,20230715CCHSIOCBG
EXPOCODE,SECT_ID,STNNBR,CASTNO,SAMPNO,BTLNBR,BTLNBR_FLAG_W,DATE,TIME,LATITUDE,LONGITUDE,DEPTH,CTDPRS,CTDTMP,CTDSAL,CTDSAL_FLAG_W,SALNTY,SALNTY_FLAG_W,CTDOXY,CTDOXY_FLAG_W,OXYGEN,OXYGEN_FLAG_W,SILCAT,SILCAT_FLAG_W,NITRAT,NITRAT_FLAG_W,NITRIT,NITRIT_FLAG_W,PHSPHT,PHSPHT_FLAG_W,CFC-11,CFC-11_FLAG_W,CFC-12,CFC-12_FLAG_W,SF6,SF6_FLAG_W,TCARBN,TCARBN_FLAG_W,ALKALI,ALKALI_FLAG_W,PH_TOT,PH_TOT_FLAG_W,PH_TMP,TRITUM,TRITUM_FLAG_W,HELIUM,HELIUM_FLAG_W,DELHE3,DELHE3_FLAG_W,REFTMP,REFTMP_FLAG_W,DELC13,DELC13_FLAG_W,DELC14,DELC14_FLAG_W,DELO18,DELO18_FLAG_W,DOC,DOC_FLAG_W,TDN,TDN_FLAG_W,N2O,N2O_FLAG_W,CALCIUM,CALCIUM_FLAG_W,D15N_NO3,D15N_NO3_FLAG_W,BTL_DATE,BTL_TIME,BTL_LAT,BTL_LON,SALTREF,SALTREF_FLAG_W,D18O_NO3,D18O_NO3_FLAG_W,DSI30,DSI30_FLAG_W,CDOM_NASA,CDOM_NASA_FLAG_W,CDOM_UCSB,CDOM_UCSB_FLAG_W,D15N_NO2+NO3,D15N_NO2+NO3_FLAG_W,D18O_NO2+NO3,D18O_NO2+NO3_FLAG_W
,,,,,,,,,,,METERS,DBAR,ITS-90,PSS-78,,PSS-78,,UMOL/KG,,UMOL/KG,,UMOL/KG,,UMOL/KG,,UMOL/KG,,UMOL/KG,,PMOL/KG,,PMOL/KG,,FMOL/KG,,UMOL/KG,,UMOL/KG,,,,DEG C,TU,,NMOL/KG,,PERCNT,,DEG C,,/MILLE,,/MILLE,,/MILLE,,UMOL/KG,,UMOL/KG,,NMOL/KG,,MMOL/KG,,/MILLE,,,,,,G/KG,,/MILLE,,/MILLE,,,,,,/MILLE,,/MILLE,
320620140320,       P16S,      30,          1,         36,         36,2,20140412,       0431,   -53.4987,  -149.9986,       4410,     5.7,  10.1762,  34.3219,2,  34.3247,2,    273.6,2,   274.7,2,    0.98,2,   10.54,2,    0.22,2,    0.81,2,   3.416,3,   1.963,2,    2.20,2,  2090.7,2,  2284.8,2,   7.9317,2,       20,-999.000,9,-999.0000,9, -999.00,9,  10.1706,2, -999.00,9,  -999.0,9, -999.00,9,  -999.0,9, -999.00,9,      11.75,2,     -999.0,9, -999.00,9, 20140412,      636, -53.4993,-149.9995,    34.4865,2,     -999.0,9,     -999.0,9,     -999.0,9,     -999.0,9,     -999.0,9,     -999.0,9
320620140320,       P16S,      30,          1,         35,         35,2,20140412,       0431,   -53.4987,  -149.9986,       4410,    34.8,  10.1628,  34.3218,2,  34.3221,2,    273.6,2,   273.5,2,    0.98,2,   10.53,2,    0.22,2,    0.82,2,-999.000,9,-999.000,9, -999.00,9,  2088.9,2,  2284.4,2,   7.9308,2,       20,-999.000,9,-999.0000,9, -999.00,9,  10.1609,2, -999.00,9,  -999.0,9, -999.00,9,  -999.0,9, -999.00,9,     -999.0,9,     -999.0,9, -999.00,9, 20140412,      635, -53.4993,-149.9995,    34.4840,2,     -999.0,9,     -999.0,9,     -999.0,9,     -999.0,9,     -999.0,9,     -999.0,9
320620140320,       P16S,      30,          1,         34,         34,2,20140412,       0431,   -53.4987,  -149.9986,       4410,    58.0,  10.1583,  34.3213,2,  34.3223,2,    275.3,2,   273.5,2,    0.68,2,   10.57,2,    0.22,2,    0.83,2,-999.000,9,-999.000,9, -999.00,9,  2089.6,2,  2284.8,2,   7.9303,2,       20,-999.000,9,-999.0000,9, -999.00,9,  10.1574,2, -999.00,9,  -999.0,9, -999.00,9,  -999.0,9, -999.00,9,     -999.0,9,     -999.0,9, -999.00,9, 20140412,      633, -53.4993,-149.9995,    34.4842,2,     -999.0,9,     -999.0,9,     -999.0,9,     -999.0,9,     -999.0,9,     -999.0,9
320620140320,       P16S,      30,          1,         33,         33,2,20140412,       0431,   -53.4987,  -149.9986,       4410,    85.2,   8.9066,  34.3770,2,  34.3771,2,    261.6,2,   261.4,2,    2.34,2,   15.31,2,    0.09,2,    1.12,2,-999.000,9,-999.000,9, -999.00,9,  2118.2,2,    2283,2,   7.8595,2,       20,-999.000,9,-999.0000,9, -999.00,9,   8.8813,2, -999.00,9,  -999.0,9, -999.00,9,  -999.0,9, -999.00,9,     -999.0,9,     -999.0,9, -999.00,9, 20140412,      632, -53.4992,-149.9995,    34.5392,2,     -999.0,9,     -999.0,9,     -999.0,9,     -999.0,9,     -999.0,9,     -999.0,9
320620140320,       P16S,      30,          1,         32,         32,2,20140412,       0431,   -53.4987,  -149.9986,       4410,   110.2,   8.3030,  34.4160,2,  34.4157,2,    256.3,2,   256.4,2,    3.62,2,   17.37,2,    0.02,2,    1.22,2,-999.000,9,-999.000,9, -999.00,9,  2130.5,2,  2283.4,2,   7.8286,2,       20,-999.000,9,-999.0000,9, -999.00,9,   8.3013,2, -999.00,9,  -999.0,9, -999.00,9,  -999.0,9, -999.00,9,     -999.0,9,     -999.0,9, -999.00,9, 20140412,      630, -53.4992,-149.9995,    34.5780,2,     -999.0,9,     -999.0,9,     -999.0,9,     -999.0,9,     -999.0,9,     -999.0,9
320620140320,       P16S,      30,          1,         31,         31,2,20140412,       0431,   -53.4987,  -149.9986,       4410,   135.9,   8.0167,  34.4154,2,  34.4175,2,    258.2,2,   258.4,2,    4.01,2,   17.91,2,    0.01,2,    1.24,2,-999.000,9,-999.000,9, -999.00,9,  2131.4,2,    2283,2,   7.8242,2,       20,-999.000,9,-999.0000,9, -999.00,9,   8.0137,2, -999.00,9,  -999.0,9, -999.00,9,  -999.0,9, -999.00,9,     -999.0,9,     -999.0,9, -999.00,9, 20140412,      629, -53.4992,-149.9994,    34.5798,2,     -999.0,9,     -999.0,9,     -999.0,9,     -999.0,9,     -999.0,9,     -999.0,9
320620140320,       P16S,      30,          1,         30,         30,2,20140412,       0431,   -53.4987,  -149.9986,       4410,   163.6,   7.8935,  34.4174,2,  34.4175,2,    260.1,2,   258.7,2,    4.20,2,   18.25,2,    0.01,2,    1.27,2,-999.000,9,-999.000,9, -999.00,9,  -999.0,9,  -999.0,9,-999.0000,9,  -999.00,-999.000,9,-999.0000,9, -999.00,9,   7.8929,2, -999.00,9,  -999.0,9, -999.00,9,  -999.0,9, -999.00,9,     -999.0,9,     -999.0,9, -999.00,9, 20140412,      628, -53.4991,-149.9994,    34.5798,2,     -999.0,9,     -999.0,9,     -999.0,9,     -999.0,9,     -999.0,9,     -999.0,9
320620140320,       P16S,      30,          1,         29,         29,2,20140412,       0431,   -53.4987,  -149.9986,       4410,   213.6,   7.6082,  34.3988,2,  34.3993,2,    262.1,2,   262.2,2,    4.69,2,   18.68,2,    0.01,2,    1.31,2,   3.858,2,   2.119,2,    2.04,2,    2133,2,  2283.4,2,   7.8219,2,       20,-999.000,9,-999.0000,9, -999.00,9,   7.6080,2, -999.00,9,  -999.0,9, -999.00,9,  -999.0,9, -999.00,9,      12.84,2,     -999.0,9, -999.00,9, 20140412,      626, -53.4990,-149.9993,    34.5615,2,     -999.0,9,     -999.0,9,     -999.0,9,     -999.0,9,     -999.0,9,     -999.0,9
320620140320,       P16S,      30,          1,         28,         28,2,20140412,       0431,   -53.4987,  -149.9986,       4410,   264.1,   7.3340,  34.3702,2,  34.3716,2,    266.9,2,   266.9,2,    4.69,2,   18.88,2,    0.01,2,    1.32,2,-999.000,9,-999.000,9, -999.00,9,  -999.0,9,  -999.0,9,-999.0000,9,  -999.00,-999.000,9,-999.0000,9, -999.00,9,   7.3357,2, -999.00,9,  -999.0,9, -999.00,9,  -999.0,9, -999.00,9,     -999.0,9,     -999.0,9, -999.00,9, 20140412,      624, -53.4990,-149.9993,    34.5337,2,     -999.0,9,     -999.0,9,     -999.0,9,     -999.0,9,     -999.0,9,     -999.0,9
320620140320,       P16S,      30,          1,         27,         27,2,20140412,       0431,   -53.4987,  -149.9986,       4410,   316.0,   7.0974,  34.3474,2,  34.3484,2,    267.8,2,   267.3,2,    5.37,2,   19.48,2,    0.01,2,    1.40,2,-999.000,9,-999.000,9, -999.00,9,    2134,2,  2282.4,2,   7.8176,2,       20,-999.000,9,-999.0000,9, -999.00,9,   7.0940,2, -999.00,9,  -999.0,9, -999.00,9,  -999.0,9, -999.00,9,     -999.0,9,     -999.0,9, -999.00,9, 20140412,      622, -53.4990,-149.9992,    34.5104,2,     -999.0,9,     -999.0,9,     -999.0,9,     -999.0,9,     -999.0,9,     -999.0,9
320620140320,       P16S,      30,          1,         26,         26,2,20140412,       0431,   -53.4987,  -149.9986,       4410,   363.5,   6.8917,  34.3283,2,  34.3294,2,    266.7,2,   267.1,2,    5.86,2,   20.12,2,    0.01,2,    1.43,2,-999.000,9,-999.000,9, -999.00,9,  -999.0,9,  -999.0,9,-999.0000,9,  -999.00,-999.000,9,-999.0000,9, -999.00,9,   6.8852,2, -999.00,9,  -999.0,9, -999.00,9,  -999.0,9, -999.00,9,     -999.0,9,     -999.0,9, -999.00,9, 20140412,      620, -53.4989,-149.9992,    34.4913,2,     -999.0,9,     -999.0,9,     -999.0,9,     -999.0,9,     -999.0,9,     -999.0,9
320620140320,       P16S,      30,          1,         25,         25,2,20140412,       0431,   -53.4987,  -149.9986,       4410,   414.0,   6.5810,  34.2952,2,  34.2955,2,    268.5,2,   270.7,2,    6.16,2,   20.73,2,    0.01,2,    1.49,2,   4.005,2,   2.152,2,    2.10,2,  2137.7,2,  2281.4,2,   7.8063,2,       20,-999.000,9,-999.0000,9, -999.00,9,   6.5808,2, -999.00,9,  -999.0,9, -999.00,9,  -999.0,9, -999.00,9,      12.98,2,     -999.0,9, -999.00,9, 20140412,      618, -53.4989,-149.9990,    34.4572,2,     -999.0,9,     -999.0,9,     -999.0,9,     -999.0,9,     -999.0,9,     -999.0,9
320620140320,       P16S,      30,          1,         24,         24,2,20140412,       0431,   -53.4987,  -149.9986,       4410,   464.9,   6.3387,  34.2794,2,  34.2802,2,    261.9,2,   263.4,2,    8.01,2,   22.04,2,    0.00,2,    1.57,2,-999.000,9,-999.000,9, -999.00,9,  2143.3,2,  2281.4,2,   7.7914,2,       20,-999.000,9,-999.0000,9, -999.00,9,   6.3362,2, -999.00,9,  -999.0,9, -999.00,9,  -999.0,9, -999.00,9,     -999.0,9,     -999.0,9, -999.00,9, 20140412,      616, -53.4989,-149.9989,    34.4418,2,     -999.0,9,     -999.0,9,     -999.0,9,     -999.0,9,     -999.0,9,     -999.0,9
320620140320,       P16S,      30,          1,         23,         23,2,20140412,       0431,   -53.4987,  -149.9986,       4410,   534.7,   6.0832,  34.2776,2,  34.2745,2,    254.9,2,   254.2,2,   10.26,2,   23.45,2,    0.00,2,    1.66,2,-999.000,9,-999.000,9, -999.00,9,    2151,2,  2283.2,2,   7.7754,2,       20,-999.000,9,-999.0000,9, -999.00,9,   6.0807,2, -999.00,9,  -999.0,9, -999.00,9,  -999.0,9, -999.00,9,     -999.0,9,     -999.0,9, -999.00,9, 20140412,      614, -53.4988,-149.9988,    34.4361,2,     -999.0,9,     -999.0,9,     -999.0,9,     -999.0,9,     -999.0,9,     -999.0,9
320620140320,       P16S,      30,          1,         22,         22,2,20140412,       0431,   -53.4987,  -149.9986,       4410,   634.1,   5.5720,  34.2580,2,  34.2586,2,    243.5,2,   244.1,2,   13.88,2,   25.47,2,    0.00,2,    1.79,2,-999.000,9,-999.000,9, -999.00,9,  2161.1,2,  2283.8,2,   7.7495,2,       20,-999.000,9,-999.0000,9, -999.00,9,   5.5748,2, -999.00,9,  -999.0,9, -999.00,9,  -999.0,9, -999.00,9,     -999.0,9,     -999.0,9, -999.00,9, 20140412,      611, -53.4988,-149.9987,    34.4202,2,     -999.0,9,     -999.0,9,     -999.0,9,     -999.0,9,     -999.0,9,     -999.0,9
320620140320,       P16S,      30,          1,         21,         21,2,20140412,       0431,   -53.4987,  -149.9986,       4410,   735.5,   5.1732,  34.3126,2,  34.3102,2,    224.6,2,   217.9,2,   22.28,2,   28.29,2,    0.00,2,    1.99,2,   2.740,2,   1.376,2,    0.67,2,  2180.1,2,  2289.2,2,   7.7119,2,       20,-999.000,9,-999.0000,9, -999.00,9,   5.1716,2, -999.00,9,  -999.0,9, -999.00,9,  -999.0,9, -999.00,9,      18.53,2,     -999.0,9, -999.00,9, 20140412,      609, -53.4988,-149.9986,    34.4720,2,     -999.0,9,     -999.0,9,     -999.0,9,     -999.0,9,     -999.0,9,     -999.0,9
320620140320,       P16S,      30,          1,         20,         20,2,20140412,       0431,   -53.4987,  -149.9986,       4410,   833.6,   4.6254,  34.3252,2,  34.3255,2,    208.5,2,   208.3,2,   29.61,2,   29.98,2,    0.00,2,    2.10,2,-999.000,9,-999.000,9, -999.00,9,  2193.6,2,  2297.5,6,   7.6921,2,       20,-999.000,9,-999.0000,9, -999.00,9,   4.6229,2, -999.00,9,  -999.0,9, -999.00,9,  -999.0,9, -999.00,9,     -999.0,9,     -999.0,9, -999.00,9, 20140412,      606, -53.4988,-149.9986,    34.4874,2,     -999.0,9,     -999.0,9,     -999.0,9,     -999.0,9,     -999.0,9,     -999.0,9
320620140320,       P16S,      30,          1,         19,         19,2,20140412,       0431,   -53.4987,  -149.9986,       4410,   931.7,   3.8801,  34.3071,2,  34.3071,2,    209.2,2,   210.0,2,   35.67,2,   31.31,2,    0.00,2,    2.20,2,-999.000,9,-999.000,9, -999.00,9,  2204.4,6,  2300.1,2,   7.6714,2,       20,-999.000,9,-999.0000,9, -999.00,9,   3.8758,2, -999.00,9,  -999.0,9, -999.00,9,  -999.0,9, -999.00,9,     -999.0,9,     -999.0,9, -999.00,9, 20140412,      603, -53.4988,-149.9986,    34.4689,2,     -999.0,9,     -999.0,9,     -999.0,9,     -999.0,9,     -999.0,9,     -999.0,9
320620140320,       P16S,      30,          1,         18,         18,2,20140412,       0431,   -53.4987,  -149.9986,       4410,  1036.2,   3.6245,  34.3598,2,  34.3585,2,    197.3,2,   197.4,2,   44.26,2,   32.39,2,    0.00,2,    2.28,2,-999.000,9,-999.000,9, -999.00,9,  -999.0,9,  -999.0,9,-999.0000,9,  -999.00,-999.000,9,-999.0000,9, -999.00,9,   3.6243,2, -999.00,9,  -999.0,9, -999.00,9,  -999.0,9, -999.00,9,     -999.0,9,     -999.0,9, -999.00,9, 20140412,      601, -53.4988,-149.9986,    34.5205,2,     -999.0,9,     -999.0,9,     -999.0,9,     -999.0,9,     -999.0,9,     -999.0,9
320620140320,       P16S,      30,          1,         17,         17,2,20140412,       0431,   -53.4987,  -149.9986,       4410,  1132.9,   3.3200,  34.3959,2,  34.3962,2,    190.3,2,   189.3,2,   51.69,2,   33.26,2,    0.00,2,    2.34,2,   1.462,2,   0.698,2,    0.31,2,  2228.1,2,  2315.8,2,   7.6433,6,       20,-999.000,9,-999.0000,9, -999.00,9,   3.3189,2, -999.00,9,  -999.0,9, -999.00,9,  -999.0,9, -999.00,9,      23.98,2,     -999.0,9, -999.00,9, 20140412,      558, -53.4988,-149.9986,    34.5584,2,     -999.0,9,     -999.0,9,     -999.0,9,     -999.0,9,     -999.0,9,     -999.0,9
320620140320,       P16S,      30,          1,         16,         16,2,20140412,       0431,   -53.4987,  -149.9986,       4410,  1235.3,   3.0992,  34.4417,2,  34.4423,2,    182.0,2,   181.8,2,   59.21,2,   33.78,2,    0.00,2,    2.37,2,-999.000,9,-999.000,9, -999.00,9,    2238,2,  2324.2,2,   7.6339,2,       20,-999.000,9,-999.0000,9, -999.00,9,   3.0988,2, -999.00,9,  -999.0,9, -999.00,9,  -999.0,9, -999.00,9,     -999.0,9,     -999.0,9, -999.00,9, 20140412,      555, -53.4988,-149.9986,    34.6047,2,     -999.0,9,     -999.0,9,     -999.0,9,     -999.0,9,     -999.0,9,     -999.0,9
320620140320,       P16S,      30,          1,         15,         15,2,20140412,       0431,   -53.4987,  -149.9986,       4410,  1335.8,   2.9387,  34.4751,2,  34.4782,2,    176.7,2,   177.3,2,   64.38,2,   34.07,2,    0.00,2,    2.39,2,-999.000,9,-999.000,9, -999.00,9,  2244.3,2,  2328.4,2,   7.6284,2,       20,-999.000,9,-999.0000,9, -999.00,9,   2.9381,2, -999.00,9,  -999.0,9, -999.00,9,  -999.0,9, -999.00,9,     -999.0,9,     -999.0,9, -999.00,9, 20140412,      553, -53.4987,-149.9986,    34.6408,2,     -999.0,9,     -999.0,9,     -999.0,9,     -999.0,9,     -999.0,9,     -999.0,9
320620140320,       P16S,      30,          1,         14,         14,2,20140412,       0431,   -53.4987,  -149.9986,       4410,  1432.5,   2.7970,  34.5114,2,  34.5110,2,    173.7,2,   173.6,2,   68.97,2,   34.24,2,    0.00,2,    2.39,2,-999.000,9,-999.000,9, -999.00,9,  -999.0,9,  -999.0,9,-999.0000,9,  -999.00,-999.000,9,-999.0000,9, -999.00,9,   2.7963,2, -999.00,9,  -999.0,9, -999.00,9,  -999.0,9, -999.00,9,     -999.0,9,     -999.0,9, -999.00,9, 20140412,      550, -53.4987,-149.9985,    34.6738,2,     -999.0,9,     -999.0,9,     -999.0,9,     -999.0,9,     -999.0,9,     -999.0,9
320620140320,       P16S,      30,          1,         13,         13,2,20140412,       0431,   -53.4987,  -149.9986,       4410,  1533.4,   2.6963,  34.5473,2,  34.5487,2,    170.1,2,   170.6,2,   74.54,2,   34.22,2,    0.00,2,    2.38,2,   0.587,2,   0.265,2,    0.23,2,  2255.4,2,  2339.9,2,   7.6251,2,       20,-999.000,9,-999.0000,9, -999.00,9,   2.6956,2, -999.00,9,  -999.0,9, -999.00,9,  -999.0,9, -999.00,9,      23.09,2,     -999.0,9, -999.00,9, 20140412,      547, -53.4987,-149.9986,    34.7117,2,     -999.0,9,     -999.0,9,     -999.0,9,     -999.0,9,     -999.0,9,     -999.0,9
320620140320,       P16S,      30,          1,         12,         12,2,20140412,       0431,   -53.4987,  -149.9986,       4410,  1664.3,   2.5621,  34.5875,2,  34.5880,2,    169.8,2,   170.7,2,   77.86,2,   33.97,2,    0.00,2,    2.36,2,-999.000,9,-999.000,9, -999.00,9,  2258.5,2,  2343.2,2,   7.6258,2,       20,-999.000,9,-999.0000,9, -999.00,9,   2.5626,2, -999.00,9,  -999.0,9, -999.00,9,  -999.0,9, -999.00,9,     -999.0,9,     -999.0,9, -999.00,9, 20140412,      543, -53.4987,-149.9985,    34.7511,2,     -999.0,9,     -999.0,9,     -999.0,9,     -999.0,9,     -999.0,9,     -999.0,9
320620140320,       P16S,      30,          1,         11,         11,2,20140412,       0431,   -53.4987,  -149.9986,       4410,  1863.2,   2.4079,  34.6395,2,  34.6399,2,    172.7,2,   171.8,2,   81.67,2,   33.41,2,    0.00,2,    2.31,2,-999.000,9,-999.000,9, -999.00,9,  2259.8,2,  2347.3,2,   7.6337,2,       20,-999.000,9,-999.0000,9, -999.00,9,   2.4075,2, -999.00,9,  -999.0,9, -999.00,9,  -999.0,9, -999.00,9,     -999.0,9,     -999.0,9, -999.00,9, 20140412,      538, -53.4987,-149.9985,    34.8032,2,     -999.0,9,     -999.0,9,     -999.0,9,     -999.0,9,     -999.0,9,     -999.0,9
320620140320,       P16S,      30,          1,         10,         10,2,20140412,       0431,   -53.4987,  -149.9986,       4410,  2085.0,   2.2549,  34.6821,2,  34.6823,2,    177.4,2,   175.8,2,   85.57,2,   32.65,2,    0.00,2,    2.26,2,-999.000,9,-999.000,9, -999.00,9,  -999.0,9,  -999.0,9,-999.0000,9,  -999.00,-999.000,9,-999.0000,9, -999.00,9,   2.2549,2, -999.00,9,  -999.0,9, -999.00,9,  -999.0,9, -999.00,9,     -999.0,9,     -999.0,9, -999.00,9, 20140412,      533, -53.4987,-149.9986,    34.8459,2,     -999.0,9,     -999.0,9,     -999.0,9,     -999.0,9,     -999.0,9,     -999.0,9
320620140320,       P16S,      30,          1,          9,         09,2,20140412,       0431,   -53.4987,  -149.9986,       4410,  2335.0,   2.1175,  34.7164,2,  34.7171,2,    184.5,2,   184.4,2,   86.06,2,   31.66,2,    0.00,2,    2.19,2,   0.202,2,   0.061,2,    0.06,2,  2254.2,2,  2350.7,2,   7.6578,2,       20,-999.000,9,-999.0000,9, -999.00,9,   2.1173,2, -999.00,9,  -999.0,9, -999.00,9,  -999.0,9, -999.00,9,      20.63,2,     -999.0,9, -999.00,9, 20140412,      527, -53.4987,-149.9985,    34.8808,2,     -999.0,9,     -999.0,9,     -999.0,9,     -999.0,9,     -999.0,9,     -999.0,9
320620140320,       P16S,      30,          1,          8,         08,2,20140412,       0431,   -53.4987,  -149.9986,       4410,  2585.4,   1.9546,  34.7311,2,  34.7321,2,    189.8,2,   190.1,2,   89.87,2,   31.23,2,    0.00,2,    2.16,2,-999.000,9,-999.000,9, -999.00,9,  -999.0,9,  -999.0,9,-999.0000,9,  -999.00,-999.000,9,-999.0000,9, -999.00,9,   1.9547,2, -999.00,9,  -999.0,9, -999.00,9,  -999.0,9, -999.00,9,     -999.0,9,     -999.0,9, -999.00,9, 20140412,      521, -53.4987,-149.9986,    34.8959,2,     -999.0,9,     -999.0,9,     -999.0,9,     -999.0,9,     -999.0,9,     -999.0,9
320620140320,       P16S,      30,          1,          7,         07,2,20140412,       0431,   -53.4987,  -149.9986,       4410,  2837.1,   1.7568,  34.7358,2,  34.7366,2,    194.5,2,   194.6,2,   95.43,2,   31.20,2,    0.00,2,    2.16,2,-999.000,9,-999.000,9, -999.00,9,  2254.2,2,  2355.5,2,   7.6723,2,       20,-999.000,9,-999.0000,9, -999.00,9,   1.7572,2, -999.00,9,  -999.0,9, -999.00,9,  -999.0,9, -999.00,9,     -999.0,9,     -999.0,9, -999.00,9, 20140412,      515, -53.4987,-149.9986,    34.9004,2,     -999.0,9,     -999.0,9,     -999.0,9,     -999.0,9,     -999.0,9,     -999.0,9
320620140320,       P16S,      30,          1,          6,         06,2,20140412,       0431,   -53.4987,  -149.9986,       4410,  3099.6,   1.5633,  34.7334,2,  34.7335,2,    197.5,2,   197.4,2,  101.00,2,   31.39,2,    0.00,2,    2.16,2,-999.000,9,-999.000,9, -999.00,9,  -999.0,9,  -999.0,9,-999.0000,9,  -999.00,-999.000,9,-999.0000,9, -999.00,9,   1.5632,2, -999.00,9,  -999.0,9, -999.00,9,  -999.0,9, -999.00,9,     -999.0,9,     -999.0,9, -999.00,9, 20140412,      509, -53.4987,-149.9985,    34.8973,2,     -999.0,9,     -999.0,9,     -999.0,9,     -999.0,9,     -999.0,9,     -999.0,9