BOTTLE,20230715CCHSIOCBG
EXPOCODE,SECT_ID,STNNBR,CASTNO,SAMPNO,BTLNBR,BTLNBR_FLAG_W,DATE,TIME,LATITUDE,LONGITUDE,DEPTH,CTDPRS,CTDTMP,CTDSAL,CTDSAL_FLAG_W,SALNTY,SALNTY_FLAG_W,CTDOXY,CTDOXY_FLAG_W,OXYGEN,OXYGEN_FLAG_W,SILCAT,SILCAT_FLAG_W,NITRAT,NITRAT_FLAG_W,NITRIT,NITRIT_FLAG_W,PHSPHT,PHSPHT_FLAG_W,CFC-11,CFC-11_FLAG_W,CFC-12,CFC-12_FLAG_W,SF6,SF6_FLAG_W,TCARBN,TCARBN_FLAG_W,ALKALI,ALKALI_FLAG_W,PH_TOT,PH_TOT_FLAG_W,PH_TMP,TRITUM,TRITUM_FLAG_W,HELIUM,HELIUM_FLAG_W,DELHE3,DELHE3_FLAG_W,REFTMP,REFTMP_FLAG_W,DELC13,DELC13_FLAG_W,DELC14,DELC14_FLAG_W,DELO18,DELO18_FLAG_W,DOC,DOC_FLAG_W,TDN,TDN_FLAG_W,N2O,N2O_FLAG_W,CALCIUM,CALCIUM_FLAG_W,D15N_NO3,D15N_NO3_FLAG_W,BTL_DATE,BTL_TIME,BTL_LAT,BTL_LON,SALTREF,SALTREF_FLAG_W,D18O_NO3,D18O_NO3_FLAG_W,DSI30,DSI30_FLAG_W,CDOM_NASA,CDOM_NASA_FLAG_W,CDOM_UCSB,CDOM_UCSB_FLAG_W,D15N_NO2+NO3,D15N_NO2+NO3_FLAG_W,D18O_NO2+NO3,D18O_NO2+NO3_FLAG_W
,,,,,,,,,,,METERS,DBAR,ITS-90,PSS-78,,PSS-78,,UMOL/KG,,UMOL/KG,,UMOL/KG,,UMOL/KG,,UMOL/KG,,UMOL/KG,,PMOL/KG,,PMOL/KG,,FMOL/KG,,UMOL/KG,,UMOL/KG,,,,DEG C,TU,,NMOL/KG,,PERCNT,,DEG C,,/MILLE,,/MILLE,,/MILLE,,UMOL/KG,,UMOL/KG,,NMOL/KG,,MMOL/KG,,/MILLE,,,,,,G/KG,,/MILLE,,/MILLE,,,,,,/MILLE,,/MILLE,
320620140320,       P16S,      51,          3,         36,         36,2,20140420,       0352,   -41.0031,  -150.0000,       5162,     4.1,  16.4896,  34.4297,2,  34.4298,2,    246.7,2,   245.7,2,    0.00,2,    1.75,2,    0.03,2,    0.27,2,   2.468,2,   1.466,2,    1.63,2,  2045.4,2,  2277.2,2,   8.0089,2,       20,-999.000,9,-999.0000,9, -999.00,9,  16.4938,2, -999.00,9,  -999.0,9, -999.00,9,  -999.0,9, -999.00,9,       8.69,2,     -999.0,9, -999.00,9, 20140420,      619, -41.0027,-149.9999,    34.5922,2,     -999.0,9,     -999.0,9,     -999.0,9,     -999.0,1,     -999.0,9,     -999.0,9
320620140320,       P16S,      51,          3,         35,         35,2,20140420,       0352,   -41.0031,  -150.0000,       5162,    24.0,  16.4140,  34.4131,2,  34.4179,2,    248.0,2,   246.3,2,    0.00,2,    1.87,2,    0.03,2,    0.27,2,-999.000,9,-999.000,9, -999.00,9,  2044.9,2,  2276.8,2,   8.0084,2,       20,-999.000,9,-999.0000,9, -999.00,9,  16.4122,2, -999.00,9,  -999.0,9, -999.00,9,  -999.0,9, -999.00,9,     -999.0,9,     -999.0,9, -999.00,9, 20140420,      617, -41.0027,-149.9999,    34.5802,2,     -999.0,9,     -999.0,9,     -999.0,9,     -999.0,1,     -999.0,9,     -999.0,9
320620140320,       P16S,      51,          3,         34,         34,2,20140420,       0352,   -41.0031,  -150.0000,       5162,    25.1,  16.4012,  34.4109,2,-999.0000,9,   -999.0,9,  -999.0,9, -999.00,9, -999.00,9, -999.00,9, -999.00,9,-999.000,9,-999.000,9, -999.00,9,  -999.0,9,  -999.0,9,-999.0000,9,  -999.00,-999.000,9,-999.0000,9, -999.00,9,  16.4045,2, -999.00,9,  -999.0,9, -999.00,9,  -999.0,9, -999.00,9,     -999.0,9,     -999.0,9, -999.00,9, 20140420,      617, -41.0027,-149.9999,     -999.0,9,     -999.0,9,     -999.0,9,     -999.0,9,     -999.0,9,     -999.0,9,     -999.0,9
320620140320,       P16S,      51,          3,         33,         33,2,20140420,       0352,   -41.0031,  -150.0000,       5162,    49.8,  16.1555,  34.4091,2,  34.4088,2,    248.1,2,   247.3,2,    0.00,2,    2.27,2,    0.04,2,    0.30,2,   2.507,2,   1.464,2,    1.92,2,  2046.8,2,  2277.6,2,   8.0043,2,       20,-999.000,9,-999.0000,9, -999.00,9,  16.1342,2, -999.00,9,  -999.0,9, -999.00,9,  -999.0,9, -999.00,9,       9.04,2,     -999.0,9, -999.00,9, 20140420,      615, -41.0028,-149.9999,    34.5711,2,     -999.0,9,     -999.0,9,     -999.0,9,     -999.0,1,     -999.0,9,     -999.0,9
320620140320,       P16S,      51,          3,         31,         31,2,20140420,       0352,   -41.0031,  -150.0000,       5162,    69.5,  13.0919,  34.4724,2,  34.4685,2,    275.8,2,   274.8,2,    0.29,2,    3.66,2,    0.07,2,    0.40,2,   3.067,6,   1.772,6,    1.71,6,  2062.9,2,  2281.6,2,   7.9762,2,       20,-999.000,9,-999.0000,9, -999.00,9,  13.0469,3, -999.00,9,  -999.0,9, -999.00,9,  -999.0,9, -999.00,9,      10.63,6,     -999.0,9, -999.00,9, 20140420,      614, -41.0028,-149.9999,    34.6311,2,     -999.0,9,     -999.0,9,     -999.0,9,     -999.0,1,     -999.0,9,     -999.0,9
320620140320,       P16S,      51,          3,         32,         32,2,20140420,       0352,   -41.0031,  -150.0000,       5162,    71.1,  13.0410,  34.4705,2,-999.0000,9,   -999.0,9,  -999.0,9, -999.00,9, -999.00,9, -999.00,9, -999.00,9,-999.000,9,-999.000,9, -999.00,9,  -999.0,9,  -999.0,9,-999.0000,9,  -999.00,-999.000,9,-999.0000,9, -999.00,9,  13.1361,3, -999.00,9,  -999.0,9, -999.00,9,  -999.0,9, -999.00,9,     -999.0,9,     -999.0,9, -999.00,9, 20140420,      614, -41.0028,-149.9999,     -999.0,9,     -999.0,9,     -999.0,9,     -999.0,9,     -999.0,9,     -999.0,9,     -999.0,9
320620140320,       P16S,      51,          3,         30,         30,2,20140420,       0352,   -41.0031,  -150.0000,       5162,    99.6,  10.9243,  34.4911,2,  34.4893,2,    260.3,2,   261.8,2,    0.68,2,    6.75,2,    0.39,2,    0.63,2,   3.213,2,   1.895,2,    1.92,2,  2090.6,2,  2281.2,2,   7.9177,2,       20,-999.000,9,-999.0000,9, -999.00,9,  10.9472,2, -999.00,9,  -999.0,9, -999.00,9,  -999.0,9, -999.00,9,      11.98,2,     -999.0,9, -999.00,9, 20140420,      612, -41.0028,-149.9999,    34.6520,2,     -999.0,9,     -999.0,9,     -999.0,9,     -999.0,1,     -999.0,9,     -999.0,9
320620140320,       P16S,      51,          3,         29,         29,2,20140420,       0352,   -41.0031,  -150.0000,       5162,   150.3,   9.9286,  34.4889,2,  34.4886,2,    255.8,2,   253.9,2,    1.17,2,   10.79,2,    0.11,2,    0.83,2,   3.470,2,   1.930,2,    1.96,2,    2106,2,  2280.2,2,   7.8789,2,       20,-999.000,9,-999.0000,9, -999.00,9,   9.9270,2, -999.00,9,  -999.0,9, -999.00,9,  -999.0,9, -999.00,9,      13.25,2,     -999.0,9, -999.00,9, 20140420,      610, -41.0028,-149.9999,    34.6512,2,     -999.0,9,     -999.0,9,     -999.0,9,     -999.0,1,     -999.0,9,     -999.0,9
320620140320,       P16S,      51,          3,         28,         28,2,20140420,       0352,   -41.0031,  -150.0000,       5162,   198.8,   8.9984,  34.4985,2,  34.4952,2,    258.5,2,   258.2,2,    1.86,2,   13.25,2,    0.01,2,    0.96,2,   3.623,2,   2.052,2,    1.79,2,    2116,6,    2282,2,   7.8579,2,       20,-999.000,9,-999.0000,9, -999.00,9,   9.0016,2, -999.00,9,  -999.0,9, -999.00,9,  -999.0,9, -999.00,9,      14.34,2,     -999.0,9, -999.00,9, 20140420,      608, -41.0029,-149.9999,    34.6579,2,     -999.0,9,     -999.0,9,     -999.0,9,     -999.0,1,     -999.0,9,     -999.0,9
320620140320,       P16S,      51,          3,         27,         27,2,20140420,       0352,   -41.0031,  -150.0000,       5162,   249.6,   8.7446,  34.5232,2,  34.5226,2,    270.2,2,   269.7,2,    2.15,2,   12.94,2,    0.01,2,    0.94,2,   3.513,2,   2.032,2,    2.06,2,  2116.5,2,  2284.4,2,   7.8656,2,       20,-999.000,9,-999.0000,9, -999.00,9,   8.7438,2, -999.00,9,  -999.0,9, -999.00,9,  -999.0,9, -999.00,9,      12.74,2,     -999.0,9, -999.00,9, 20140420,      606, -41.0030,-149.9999,    34.6853,2,     -999.0,9,     -999.0,9,     -999.0,9,     -999.0,1,     -999.0,9,     -999.0,9
320620140320,       P16S,      51,          3,         26,         26,2,20140420,       0352,   -41.0031,  -150.0000,       5162,   300.7,   8.5869,  34.5161,2,  34.5163,2,    263.2,2,   266.7,2,    2.44,2,   13.78,2,    0.01,2,    0.99,2,   3.575,2,   2.042,2,    1.90,2,  2119.1,2,  2284.2,2,   7.8583,2,       20,-999.000,9,-999.0000,9, -999.00,9,   8.5869,2, -999.00,9,  -999.0,9, -999.00,9,  -999.0,9, -999.00,9,      13.40,2,     -999.0,9, -999.00,9, 20140420,      604, -41.0030,-149.9999,    34.6790,2,     -999.0,9,     -999.0,9,     -999.0,9,     -999.0,1,     -999.0,9,     -999.0,9
320620140320,       P16S,      51,          3,         25,         25,2,20140420,       0352,   -41.0031,  -150.0000,       5162,   349.4,   8.3326,  34.4994,2,  34.4994,2,    255.7,2,   254.7,2,    3.22,2,   16.47,2,    0.01,2,    1.15,2,   3.675,2,   2.079,2,    2.03,2,  2130.5,2,  2282.8,2,   7.8301,6,       20,-999.000,9,-999.0000,9, -999.00,9,   8.3305,2, -999.00,9,  -999.0,9, -999.00,9,  -999.0,9, -999.00,9,      16.31,2,     -999.0,9, -999.00,9, 20140420,      601, -41.0030,-149.9999,    34.6621,2,     -999.0,9,     -999.0,9,     -999.0,9,     -999.0,9,     -999.0,9,     -999.0,9
320620140320,       P16S,      51,          3,         24,         24,2,20140420,       0352,   -41.0031,  -150.0000,       5162,   401.1,   8.0038,  34.4661,2,  34.4641,2,    251.4,2,   251.6,2,    4.00,2,   18.02,2,    0.00,2,    1.25,2,   3.748,2,   2.089,2,    1.36,2,  2134.2,2,  2281.8,2,    7.817,2,       20,-999.000,9,-999.0000,9, -999.00,9,   8.0003,2, -999.00,9,  -999.0,9, -999.00,9,  -999.0,9, -999.00,9,      16.22,2,     -999.0,9, -999.00,9, 20140420,      559, -41.0031,-149.9999,    34.6266,2,     -999.0,9,     -999.0,9,     -999.0,9,     -999.0,1,     -999.0,9,     -999.0,9
320620140320,       P16S,      51,          3,         23,         23,2,20140420,       0352,   -41.0031,  -150.0000,       5162,   500.8,   7.5352,  34.4228,2,  34.4207,2,    247.9,2,   248.1,2,    5.27,2,   20.06,2,    0.00,2,    1.37,2,   3.772,2,   2.055,2,    1.56,2,  2139.3,2,  2281.8,2,   7.8007,2,       20,-999.000,9,-999.0000,9, -999.00,9,   7.5349,2, -999.00,9,  -999.0,9, -999.00,9,  -999.0,9, -999.00,9,      15.75,2,     -999.0,9, -999.00,9, 20140420,      556, -41.0031,-149.9999,    34.5830,2,     -999.0,9,     -999.0,9,     -999.0,9,     -999.0,9,     -999.0,9,     -999.0,9
320620140320,       P16S,      51,          3,         22,         22,2,20140420,       0352,   -41.0031,  -150.0000,       5162,   598.6,   7.1629,  34.3882,2,  34.3879,2,    246.6,2,   247.1,2,    6.64,2,   21.35,2,    0.00,2,    1.46,2,   3.785,2,   1.997,2,    1.50,2,  2142.8,2,    2281,2,    7.792,2,       20,-999.000,9,-999.0000,9, -999.00,9,   7.1631,2, -999.00,9,  -999.0,9, -999.00,9,  -999.0,9, -999.00,9,      15.61,2,     -999.0,9, -999.00,9, 20140420,      553, -41.0030,-149.9999,    34.5501,2,     -999.0,9,     -999.0,9,     -999.0,9,     -999.0,1,     -999.0,9,     -999.0,9
320620140320,       P16S,      51,          3,         21,         21,2,20140420,       0352,   -41.0031,  -150.0000,       5162,   700.0,   6.7727,  34.3586,2,  34.3587,2,    242.8,2,   242.4,2,    8.50,2,   22.74,2,    0.00,2,    1.54,2,   3.498,2,   1.844,2,    1.44,2,    2148,2,  2281.2,2,   7.7798,2,       20,-999.000,9,-999.0000,9, -999.00,9,   6.7730,2, -999.00,9,  -999.0,9, -999.00,9,  -999.0,9, -999.00,9,      16.56,2,     -999.0,9, -999.00,9, 20140420,      551, -41.0031,-149.9999,    34.5207,2,     -999.0,9,     -999.0,9,     -999.0,9,     -999.0,9,     -999.0,9,     -999.0,9
320620140320,       P16S,      51,          3,         20,         20,2,20140420,       0352,   -41.0031,  -150.0000,       5162,   799.3,   6.3064,  34.3329,2,  34.3332,2,    234.0,2,   233.3,2,   11.43,2,   24.59,2,    0.00,2,    1.68,2,   3.227,2,   1.659,2,    1.17,2,  2155.7,2,  2282.8,2,   7.7609,2,       20,-999.000,9,-999.0000,9, -999.00,9,   6.3082,2, -999.00,9,  -999.0,9, -999.00,9,  -999.0,9, -999.00,9,      17.58,2,     -999.0,9, -999.00,9, 20140420,      547, -41.0031,-149.9999,    34.4951,2,     -999.0,9,     -999.0,9,     -999.0,9,     -999.0,1,     -999.0,9,     -999.0,9
320620140320,       P16S,      51,          3,         19,         19,2,20140420,       0352,   -41.0031,  -150.0000,       5162,   900.0,   5.6837,  34.3210,2,  34.3210,2,    221.9,2,   219.9,2,   17.39,2,   27.10,2,    0.00,2,    1.86,2,   2.567,2,   1.336,2,    0.83,2,  2170.7,2,  2286.8,2,   7.7317,2,       20,-999.000,9,-999.0000,9, -999.00,9,   5.6827,2, -999.00,9,  -999.0,9, -999.00,9,  -999.0,9, -999.00,9,      18.83,2,     -999.0,9, -999.00,9, 20140420,      544, -41.0031,-149.9999,    34.4828,2,     -999.0,9,     -999.0,9,     -999.0,9,     -999.0,9,     -999.0,9,     -999.0,9
320620140320,       P16S,      51,          3,         18,         18,2,20140420,       0352,   -41.0031,  -150.0000,       5162,  1000.5,   5.1366,  34.3220,2,  34.3224,2,    211.5,2,   210.4,2,   23.45,2,   28.95,2,    0.00,2,    1.97,2,   2.175,2,   1.092,2,    0.65,2,    2183,2,  2290.8,2,   7.7081,2,       20,-999.000,9,-999.0000,9, -999.00,9,   5.1381,2, -999.00,9,  -999.0,9, -999.00,9,  -999.0,9, -999.00,9,      19.80,2,     -999.0,9, -999.00,9, 20140420,      541, -41.0031,-149.9999,    34.4842,2,     -999.0,9,     -999.0,9,     -999.0,9,     -999.0,1,     -999.0,9,     -999.0,9
320620140320,       P16S,      51,          3,         17,         17,2,20140420,       0352,   -41.0031,  -150.0000,       5162,  1098.5,   4.5520,  34.3290,2,  34.3291,2,    204.3,2,   203.3,2,   30.58,2,   30.57,2,    0.00,2,    2.10,2,   1.741,2,   0.882,2,    0.29,2,  2195.1,2,  2298.1,2,   7.6873,2,       20,-999.000,9,-999.0000,9, -999.00,9,   4.5429,3, -999.00,9,  -999.0,9, -999.00,9,  -999.0,9, -999.00,9,      20.87,2,     -999.0,9, -999.00,9, 20140420,      538, -41.0031,-149.9999,    34.4909,2,     -999.0,9,     -999.0,9,     -999.0,9,     -999.0,9,     -999.0,9,     -999.0,9
320620140320,       P16S,      51,          3,         16,         16,2,20140420,       0352,   -41.0031,  -150.0000,       5162,  1199.8,   4.0341,  34.3468,2,  34.3475,2,    197.7,2,   197.5,2,   38.00,2,   31.91,2,    0.00,2,    2.20,2,   1.410,2,   0.699,2,    0.18,2,  2205.5,2,  2303.5,2,   7.6702,2,       20,-999.000,9,-999.0000,9, -999.00,9,   4.0323,2, -999.00,9,  -999.0,9, -999.00,9,  -999.0,9, -999.00,9,      22.69,2,     -999.0,9, -999.00,9, 20140420,      535, -41.0031,-149.9999,    34.5095,2,     -999.0,9,     -999.0,9,     -999.0,9,     -999.0,9,     -999.0,9,     -999.0,9
320620140320,       P16S,      51,          3,         15,         15,2,20140420,       0352,   -41.0031,  -150.0000,       5162,  1298.6,   3.6181,  34.3773,2,  34.3768,2,    191.5,2,   190.0,2,   46.01,2,   32.81,2,    0.00,2,    2.27,2,   1.064,2,   0.547,2,    0.14,2,  2217.6,2,  2310.4,2,   7.6557,2,       20,-999.000,9,-999.0000,9, -999.00,9,   3.6197,2, -999.00,9,  -999.0,9, -999.00,9,  -999.0,9, -999.00,9,      22.81,2,     -999.0,9, -999.00,9, 20140420,      532, -41.0031,-149.9999,    34.5389,2,     -999.0,9,     -999.0,9,     -999.0,9,     -999.0,1,     -999.0,9,     -999.0,9
320620140320,       P16S,      51,          3,         14,         14,2,20140420,       0352,   -41.0031,  -150.0000,       5162,  1402.2,   3.3096,  34.4153,2,  34.4152,2,    183.6,2,   183.2,2,   53.92,2,   33.59,2,    0.00,2,    2.32,2,   0.718,2,   0.366,2,    0.10,2,  2229.5,6,  2318.7,2,   7.6433,2,       20,-999.000,9,-999.0000,9, -999.00,9,   3.3095,2, -999.00,9,  -999.0,9, -999.00,9,  -999.0,9, -999.00,9,      23.14,2,     -999.0,9, -999.00,9, 20140420,      528, -41.0031,-149.9999,    34.5775,2,     -999.0,9,     -999.0,9,     -999.0,9,     -999.0,9,     -999.0,9,     -999.0,9
320620140320,       P16S,      51,          3,         13,         13,2,20140420,       0352,   -41.0031,  -150.0000,       5162,  1601.0,   2.9319,  34.4992,2,  34.4995,2,    169.7,2,   170.2,2,   69.45,2,   34.43,2,    0.00,2,    2.38,2,   0.262,2,   0.121,2,    0.06,2,  2249.9,2,    2336,2,   7.6325,6,       20,-999.000,9,-999.0000,9, -999.00,9,   2.9317,2, -999.00,9,  -999.0,9, -999.00,9,  -999.0,9, -999.00,9,      24.92,2,     -999.0,9, -999.00,9, 20140420,      524, -41.0031,-149.9999,    34.6621,2,     -999.0,9,     -999.0,9,     -999.0,9,     -999.0,9,     -999.0,9,     -999.0,9
320620140320,       P16S,      51,          3,         12,         12,2,20140420,       0352,   -41.0031,  -150.0000,       5162,  1800.5,   2.6424,  34.5743,2,  34.5739,2,    161.1,2,   161.4,2,   86.05,2,   34.73,2,    0.00,2,    2.40,2,-999.000,9,-999.000,9, -999.00,9,    2269,2,  2355.9,2,   7.6308,2,       20,-999.000,9,-999.0000,9, -999.00,9,   2.6424,2, -999.00,9,  -999.0,9, -999.00,9,  -999.0,9, -999.00,9,     -999.0,9,     -999.0,9, -999.00,9, 20140420,      519, -41.0031,-149.9999,    34.7369,2,     -999.0,9,     -999.0,9,     -999.0,9,     -999.0,1,     -999.0,9,     -999.0,9
320620140320,       P16S,      51,          3,         11,         11,2,20140420,       0352,   -41.0031,  -150.0000,       5162,  2002.6,   2.4538,  34.6108,2,  34.6106,2,    155.5,2,   155.7,2,   98.26,2,   34.97,2,    0.00,2,    2.44,2,   0.029,2,   0.002,2,    0.03,2,  2282.8,2,  2370.7,2,   7.6318,2,       20,-999.000,9,-999.0000,9, -999.00,9,   2.4539,2, -999.00,9,  -999.0,9, -999.00,9,  -999.0,9, -999.00,9,      23.48,2,     -999.0,9, -999.00,9, 20140420,      514, -41.0029,-149.9999,    34.7738,2,     -999.0,9,     -999.0,9,     -999.0,9,     -999.0,9,     -999.0,9,     -999.0,9
320620140320,       P16S,      51,          3,         10,         10,2,20140420,       0352,   -41.0031,  -150.0000,       5162,  2250.2,   2.2477,  34.6366,2,  34.6362,2,    152.8,2,   152.6,2,  109.00,2,   35.26,2,    0.00,2,    2.47,2,   0.014,2,   0.001,2,    0.00,2,  2295.8,2,  2382.1,2,   7.6332,2,       20,-999.000,9,-999.0000,9, -999.00,9,   2.2479,2, -999.00,9,  -999.0,9, -999.00,9,  -999.0,9, -999.00,9,      25.22,2,     -999.0,9, -999.00,9, 20140420,      509, -41.0029,-149.9999,    34.7995,2,     -999.0,9,     -999.0,9,     -999.0,9,     -999.0,9,     -999.0,9,     -999.0,9
320620140320,       P16S,      51,          3,          9,         09,2,20140420,       0352,   -41.0031,  -150.0000,       5162,  2500.3,   2.1061,  34.6522,2,  34.6525,2,    153.3,2,   152.8,2,  114.86,2,   35.30,2,    0.00,2,    2.46,2,   0.010,2,   0.000,2,    0.00,2,    2299,2,    2389,2,   7.6338,2,       20,-999.000,9,-999.0000,9, -999.00,9,   2.1060,2, -999.00,9,  -999.0,9, -999.00,9,  -999.0,9, -999.00,9,      23.95,2,     -999.0,9, -999.00,9, 20140420,      503, -41.0029,-149.9999,    34.8159,2,     -999.0,9,     -999.0,9,     -999.0,9,     -999.0,1,     -999.0,9,     -999.0,9
320620140320,       P16S,      51,          3,          8,         08,2,20140420,       0352,   -41.0031,  -150.0000,       5162,  2750.2,   1.9803,  34.6685,2,  34.6690,2,    157.1,2,   156.8,2,  116.32,2,   34.96,2,    0.00,2,    2.44,2,-999.000,9,-999.000,9, -999.00,9,  2298.9,2,  2389.5,2,    7.638,2,       20,-999.000,9,-999.0000,9, -999.00,9,   1.9798,2, -999.00,9,  -999.0,9, -999.00,9,  -999.0,9, -999.00,9,     -999.0,9,     -999.0,9, -999.00,9, 20140420,      457, -41.0029,-149.9999,    34.8325,2,     -999.0,9,     -999.0,9,     -999.0,9,     -999.0,9,     -999.0,9,     -999.0,9
320620140320,       P16S,      51,          3,          7,         07,2,20140420,       0352,   -41.0031,  -150.0000,       5162,  2999.1,   1.8674,  34.6847,2,  34.6853,2,    164.0,2,   163.8,2,  115.83,2,   34.39,2,    0.00,2,    2.41,2,   0.013,2,   0.001,2,    0.00,2,  2293.5,6,  2387.3,2,   7.6445,2,       20,-999.000,9,-999.0000,9, -999.00,9,   1.8671,2, -999.00,9,  -999.0,9, -999.00,9,  -999.0,9, -999.00,9,      23.92,2,     -999.0,9, -999.00,9, 20140420,      451, -41.0029,-149.9999,    34.8489,2,     -999.0,9,     -999.0,9,     -999.0,9,     -999.0,9,     -999.0,9,     -999.0,9
320620140320,       P16S,      51,          3,          6,         06,2,20140420,       0352,   -41.0031,  -150.0000,       5162,  3301.3,   1.7338,  34.7053,2,  34.7060,2,    176.8,2,   177.3,2,  110.65,2,   33.13,2,    0.00,2,    2.33,2,   0.016,2,   0.001,2,    0.00,2,  2279.8,2,  2375.7,2,   7.6577,2,       20,-999.000,9,-999.0000,9, -999.00,9,   1.7338,2, -999.00,9,  -999.0,9, -999.00,9,  -999.0,9, -999.00,9,      22.53,2,     -999.0,9, -999.00,9, 20140420,      445, -41.0029,-149.9999,    34.8696,2,     -999.0,9,     -999.0,9,     -999.0,9,     -999.0,1,     -999.0,9,     -999.0,9