BOTTLE,20230715CCHSIOCBG
EXPOCODE,SECT_ID,STNNBR,CASTNO,SAMPNO,BTLNBR,BTLNBR_FLAG_W,DATE,TIME,LATITUDE,LONGITUDE,DEPTH,CTDPRS,CTDTMP,CTDSAL,CTDSAL_FLAG_W,SALNTY,SALNTY_FLAG_W,CTDOXY,CTDOXY_FLAG_W,OXYGEN,OXYGEN_FLAG_W,SILCAT,SILCAT_FLAG_W,NITRAT,NITRAT_FLAG_W,NITRIT,NITRIT_FLAG_W,PHSPHT,PHSPHT_FLAG_W,CFC-11,CFC-11_FLAG_W,CFC-12,CFC-12_FLAG_W,SF6,SF6_FLAG_W,TCARBN,TCARBN_FLAG_W,ALKALI,ALKALI_FLAG_W,PH_TOT,PH_TOT_FLAG_W,PH_TMP,TRITUM,TRITUM_FLAG_W,HELIUM,HELIUM_FLAG_W,DELHE3,DELHE3_FLAG_W,REFTMP,REFTMP_FLAG_W,DELC13,DELC13_FLAG_W,DELC14,DELC14_FLAG_W,DELO18,DELO18_FLAG_W,DOC,DOC_FLAG_W,TDN,TDN_FLAG_W,N2O,N2O_FLAG_W,CALCIUM,CALCIUM_FLAG_W,D15N_NO3,D15N_NO3_FLAG_W,BTL_DATE,BTL_TIME,BTL_LAT,BTL_LON,SALTREF,SALTREF_FLAG_W,D18O_NO3,D18O_NO3_FLAG_W,DSI30,DSI30_FLAG_W,CDOM_NASA,CDOM_NASA_FLAG_W,CDOM_UCSB,CDOM_UCSB_FLAG_W,D15N_NO2+NO3,D15N_NO2+NO3_FLAG_W,D18O_NO2+NO3,D18O_NO2+NO3_FLAG_W
,,,,,,,,,,,METERS,DBAR,ITS-90,PSS-78,,PSS-78,,UMOL/KG,,UMOL/KG,,UMOL/KG,,UMOL/KG,,UMOL/KG,,UMOL/KG,,PMOL/KG,,PMOL/KG,,FMOL/KG,,UMOL/KG,,UMOL/KG,,,,DEG C,TU,,NMOL/KG,,PERCNT,,DEG C,,/MILLE,,/MILLE,,/MILLE,,UMOL/KG,,UMOL/KG,,NMOL/KG,,MMOL/KG,,/MILLE,,,,,,G/KG,,/MILLE,,/MILLE,,,,,,/MILLE,,/MILLE,
320620140320,       P16S,      66,          2,         36,         36,2,20140426,       0244,   -31.0003,  -149.9996,       4246,     3.4,  22.4964,  35.3799,2,  35.3803,2,    216.9,2,   217.5,2,    0.59,2,    0.15,2,    0.01,2,    0.02,2,   1.808,2,   1.159,2,    1.49,2,  2019.6,6,    2322,2,   8.1195,2,       20,-999.000,9,-999.0000,9, -999.00,9,  22.4966,2, -999.00,9,  -999.0,9, -999.00,9,    65.5,2,     2.8,2,       6.89,2,     -999.0,9, -999.00,9, 20140426,      441, -31.0002,-149.9995,    35.5472,2,     -999.0,9,     -999.0,9,     -999.0,9,     -999.0,9,     -999.0,9,     -999.0,9
320620140320,       P16S,      66,          2,         35,         35,2,20140426,       0244,   -31.0003,  -149.9996,       4246,    25.2,  22.4725,  35.3833,2,  35.3841,2,    218.2,2,   216.7,2,    0.39,2,    0.13,2,    0.01,2,    0.00,2,   1.717,2,   1.133,2,    1.45,2,  2020.5,2,  2321.2,2,   8.1194,2,       20,-999.000,9,-999.0000,9, -999.00,9,  22.4726,2, -999.00,9,  -999.0,9, -999.00,9,    60.9,2,     4.3,2,       7.24,2,     -999.0,9, -999.00,9, 20140426,      439, -31.0002,-149.9995,    35.5510,2,     -999.0,9,     -999.0,9,     -999.0,9,     -999.0,9,     -999.0,9,     -999.0,9
320620140320,       P16S,      66,          2,         34,         34,2,20140426,       0244,   -31.0003,  -149.9996,       4246,    49.6,  22.0173,  35.4684,2,  35.4687,2,    220.9,2,   220.0,2,    0.59,2,    0.13,2,    0.00,2,    0.00,2,   1.670,2,   1.173,2,    1.45,2,  2026.9,2,  2325.8,2,   8.1132,2,       20,-999.000,9,-999.0000,9, -999.00,9,  22.0256,2, -999.00,9,  -999.0,9, -999.00,9,      64,2,     5.3,3,       7.21,2,     -999.0,9, -999.00,9, 20140426,      437, -31.0001,-149.9994,    35.6359,2,     -999.0,9,     -999.0,9,     -999.0,9,     -999.0,9,     -999.0,9,     -999.0,9
320620140320,       P16S,      66,          2,         32,         32,2,20140426,       0244,   -31.0003,  -149.9996,       4246,    75.2,  20.8381,  35.4531,2,-999.0000,9,   -999.0,9,  -999.0,9, -999.00,9, -999.00,9, -999.00,9, -999.00,9,-999.000,9,-999.000,9, -999.00,9,  -999.0,9,  -999.0,9,-999.0000,9,  -999.00,-999.000,9,-999.0000,9, -999.00,9,  20.9038,3, -999.00,9,  -999.0,9, -999.00,9,  -999.0,9, -999.00,9,     -999.0,9,     -999.0,9, -999.00,9, 20140426,      435, -31.0001,-149.9994,     -999.0,9,     -999.0,9,     -999.0,9,     -999.0,9,     -999.0,9,     -999.0,9,     -999.0,9
320620140320,       P16S,      66,          2,         33,         33,2,20140426,       0244,   -31.0003,  -149.9996,       4246,    75.8,  20.6921,  35.4553,2,  35.4543,2,    229.6,2,   230.2,2,    0.49,2,    0.11,2,    0.00,2,    0.00,2,   1.940,2,   1.241,2,    1.44,2,  2033.2,2,  2323.7,2,   8.1013,2,       20,-999.000,9,-999.0000,9, -999.00,9,  20.8740,3, -999.00,9,  -999.0,9, -999.00,9,    60.1,2,    3.57,2,       7.38,2,     -999.0,9, -999.00,9, 20140426,      435, -31.0001,-149.9994,    35.6215,2,     -999.0,9,     -999.0,9,     -999.0,9,     -999.0,9,     -999.0,9,     -999.0,9
320620140320,       P16S,      66,          2,         31,         31,2,20140426,       0244,   -31.0003,  -149.9996,       4246,    99.3,  19.1194,  35.4552,2,  35.4567,2,    241.4,2,   239.9,2,    0.49,2,    0.10,2,    0.01,2,    0.00,2,   2.146,2,   1.343,2,    1.52,2,  2041.8,2,  2324.8,2,    8.085,2,       20,-999.000,9,-999.0000,9, -999.00,9,  19.1291,2, -999.00,9,  -999.0,9, -999.00,9,      57,2,    2.53,2,       7.60,2,     -999.0,9, -999.00,9, 20140426,      433, -31.0001,-149.9994,    35.6239,2,     -999.0,9,     -999.0,9,     -999.0,9,     -999.0,9,     -999.0,9,     -999.0,9
320620140320,       P16S,      66,          2,         30,         30,2,20140426,       0244,   -31.0003,  -149.9996,       4246,    99.5,  19.0838,  35.4540,2,-999.0000,9,   -999.0,9,  -999.0,9, -999.00,9, -999.00,9, -999.00,9, -999.00,9,-999.000,9,-999.000,9, -999.00,9,  -999.0,9,  -999.0,9,-999.0000,9,  -999.00,-999.000,9,-999.0000,9, -999.00,9,  19.0817,2, -999.00,9,  -999.0,9, -999.00,9,  -999.0,9, -999.00,9,     -999.0,9,     -999.0,9, -999.00,9, 20140426,      433, -31.0001,-149.9994,     -999.0,9,     -999.0,9,     -999.0,9,     -999.0,9,     -999.0,9,     -999.0,9,     -999.0,9
320620140320,       P16S,      66,          2,         29,         29,2,20140426,       0244,   -31.0003,  -149.9996,       4246,   149.0,  17.3732,  35.4044,2,  35.4040,2,    222.4,2,   221.3,2,    0.68,2,    0.62,2,    0.07,2,    0.09,2,   2.438,2,   1.424,2,    1.69,2,  2064.2,2,  2321.7,2,   8.0393,6,       20,-999.000,9,-999.0000,9, -999.00,9,  17.3751,2, -999.00,9,  -999.0,9, -999.00,9,    50.2,2,    3.89,2,       8.59,2,     -999.0,9, -999.00,9, 20140426,      431, -31.0000,-149.9994,    35.5710,2,     -999.0,9,     -999.0,9,     -999.0,9,     -999.0,9,     -999.0,9,     -999.0,9
320620140320,       P16S,      66,          2,         28,         28,2,20140426,       0244,   -31.0003,  -149.9996,       4246,   199.7,  16.4910,  35.3485,2,  35.3535,2,    213.8,2,   211.9,2,    0.98,2,    2.72,2,    0.02,2,    0.23,2,   2.421,2,   1.477,2,    1.72,2,  2075.9,2,  2317.9,6,   8.0089,2,       20,-999.000,9,-999.0000,9, -999.00,9,  16.4901,3, -999.00,9,  -999.0,9, -999.00,9,    47.2,2,    5.59,2,       9.18,2,     -999.0,9, -999.00,9, 20140426,      429, -30.9999,-149.9993,    35.5202,2,     -999.0,9,     -999.0,9,     -999.0,9,     -999.0,9,     -999.0,9,     -999.0,9
320620140320,       P16S,      66,          2,         27,         27,2,20140426,       0244,   -31.0003,  -149.9996,       4246,   249.4,  15.2747,  35.2161,2,  35.2304,2,    206.7,2,   205.8,2,    1.27,2,    4.92,2,    0.01,2,    0.38,2,   2.660,2,   1.491,2,    1.69,2,  2090.9,2,  2312.5,2,   7.9723,2,       20,-999.000,9,-999.0000,9, -999.00,9,  15.2978,2, -999.00,9,  -999.0,9, -999.00,9,    45.1,2,    6.51,2,      10.33,2,     -999.0,9, -999.00,9, 20140426,      426, -30.9998,-149.9993,    35.3965,2,     -999.0,9,     -999.0,9,     -999.0,9,     -999.0,9,     -999.0,9,     -999.0,9
320620140320,       P16S,      66,          2,         26,         26,2,20140426,       0244,   -31.0003,  -149.9996,       4246,   303.0,  13.9336,  35.0729,2,  35.0793,2,    201.8,2,   202.4,2,    1.86,2,    7.90,2,    0.01,2,    0.58,2,-999.000,9,-999.000,9, -999.00,9,  2104.6,2,  2305.5,2,   7.9298,2,       20,-999.000,9,-999.0000,9, -999.00,9,  13.9544,2, -999.00,9,  -999.0,9, -999.00,9,    43.3,2,    9.76,2,     -999.0,9,     -999.0,9, -999.00,9, 20140426,      424, -30.9999,-149.9993,    35.2447,2,     -999.0,9,     -999.0,9,     -999.0,9,     -999.0,9,     -999.0,9,     -999.0,9
320620140320,       P16S,      66,          2,         25,         25,2,20140426,       0244,   -31.0003,  -149.9996,       4246,   349.2,  11.9687,  34.8598,2,  34.8666,2,    204.3,2,   203.3,2,    2.93,2,   12.13,2,    0.01,2,    0.85,2,   2.958,2,   1.642,2,    1.30,2,  2118.5,2,  2297.2,2,   7.8772,2,       20,-999.000,9,-999.0000,9, -999.00,9,  11.9439,3, -999.00,9,  -999.0,9, -999.00,9,    43.8,2,   15.76,2,      14.33,2,     -999.0,9, -999.00,9, 20140426,      423, -30.9998,-149.9993,    35.0310,2,     -999.0,9,     -999.0,9,     -999.0,9,     -999.0,9,     -999.0,9,     -999.0,9
320620140320,       P16S,      66,          2,         24,         24,2,20140426,       0244,   -31.0003,  -149.9996,       4246,   399.6,  10.3945,  34.6875,2,  34.6891,2,    208.9,2,   209.8,2,    3.81,2,   15.27,2,    0.00,2,    1.07,2,-999.000,9,-999.000,9, -999.00,9,  2127.5,2,    2289,2,   7.8442,2,       20,-999.000,9,-999.0000,9, -999.00,9,  10.3971,2, -999.00,9,  -999.0,9, -999.00,9,    41.3,2,   17.64,2,     -999.0,9,     -999.0,9, -999.00,9, 20140426,      421, -31.0000,-149.9994,    34.8527,2,     -999.0,9,     -999.0,9,     -999.0,9,     -999.0,9,     -999.0,9,     -999.0,9
320620140320,       P16S,      66,          2,         23,         23,2,20140426,       0244,   -31.0003,  -149.9996,       4246,   499.2,   8.2338,  34.4765,2,  34.4769,2,    229.6,2,   230.8,2,    4.99,2,   18.99,2,    0.01,2,    1.31,2,   3.793,2,   1.843,2,    1.10,2,  2136.1,2,  2282.6,2,   7.8072,2,       20,-999.000,9,-999.0000,9, -999.00,9,   8.2346,2, -999.00,9,  -999.0,9, -999.00,9,    42.3,2,   22.35,2,      17.49,2,     -999.0,9, -999.00,9, 20140426,      418, -31.0003,-149.9997,    34.6395,2,     -999.0,9,     -999.0,9,     -999.0,9,     -999.0,9,     -999.0,9,     -999.0,9
320620140320,       P16S,      66,          2,         22,         22,2,20140426,       0244,   -31.0003,  -149.9996,       4246,   600.4,   7.2642,  34.3933,2,  34.3937,2,    240.0,2,   240.5,2,    6.46,2,   21.19,2,    0.00,2,    1.44,2,-999.000,9,-999.000,9, -999.00,9,  2138.9,6,  2279.8,2,   7.7934,2,       20,-999.000,9,-999.0000,9, -999.00,9,   7.2651,2, -999.00,9,  -999.0,9, -999.00,9,    39.6,2, -999.00,9,     -999.0,9,     -999.0,9, -999.00,9, 20140426,      414, -31.0003,-149.9997,    34.5559,2,     -999.0,9,     -999.0,9,     -999.0,9,     -999.0,9,     -999.0,9,     -999.0,9
320620140320,       P16S,      66,          2,         21,         21,2,20140426,       0244,   -31.0003,  -149.9996,       4246,   699.3,   6.6794,  34.3500,2,  34.3501,2,    241.5,2,   241.7,2,    8.12,2,   22.82,2,    0.00,2,    1.56,2,   3.163,2,   1.675,2,    0.57,2,    2143,2,  2279.8,2,   7.7849,2,       20,-999.000,9,-999.0000,9, -999.00,9,   6.6852,2, -999.00,9,  -999.0,9, -999.00,9,    39.7,2, -999.00,9,      15.98,2,     -999.0,9, -999.00,9, 20140426,      412, -31.0001,-149.9996,    34.5121,2,     -999.0,9,     -999.0,9,     -999.0,9,     -999.0,9,     -999.0,9,     -999.0,9
320620140320,       P16S,      66,          2,         20,         20,2,20140426,       0244,   -31.0003,  -149.9996,       4246,   799.3,   6.1347,  34.3193,2,  34.3191,2,    237.1,2,   236.1,2,   10.76,2,   24.63,2,    0.00,2,    1.67,2,-999.000,9,-999.000,9, -999.00,9,  2149.5,2,  2280.4,2,   7.7701,2,       20,-999.000,9,-999.0000,9, -999.00,9,   6.1370,2, -999.00,9,  -999.0,9, -999.00,9,    39.5,2, -999.00,9,     -999.0,9,     -999.0,9, -999.00,9, 20140426,      408, -31.0001,-149.9995,    34.4810,2,     -999.0,9,     -999.0,9,     -999.0,9,     -999.0,9,     -999.0,9,     -999.0,9
320620140320,       P16S,      66,          2,         19,         19,2,20140426,       0244,   -31.0003,  -149.9996,       4246,   901.1,   5.5844,  34.3028,2,  34.3036,2,    227.4,2,   226.2,2,   15.36,2,   26.81,2,    0.00,2,    1.82,2,   2.050,2,   1.002,2,    0.18,2,  2160.7,2,  2284.2,2,   7.7472,2,       20,-999.000,9,-999.0000,9, -999.00,9,   5.5893,2, -999.00,9,  -999.0,9, -999.00,9,    40.4,2, -999.00,9,      17.43,2,     -999.0,9, -999.00,9, 20140426,      406, -31.0000,-149.9995,    34.4654,2,     -999.0,9,     -999.0,9,     -999.0,9,     -999.0,9,     -999.0,9,     -999.0,9
320620140320,       P16S,      66,          2,         18,         18,2,20140426,       0244,   -31.0003,  -149.9996,       4246,   999.1,   5.0409,  34.3088,2,  34.3091,2,    211.4,2,   212.8,2,   22.40,2,   28.91,2,    0.00,2,    1.98,2,-999.000,9,-999.000,9, -999.00,9,  2176.5,2,  2289.8,2,   7.7181,2,       20,-999.000,9,-999.0000,9, -999.00,9,   5.0462,2, -999.00,9,  -999.0,9, -999.00,9,    39.8,2, -999.00,9,     -999.0,9,     -999.0,9, -999.00,9, 20140426,      403, -30.9998,-149.9994,    34.4709,2,     -999.0,9,     -999.0,9,     -999.0,9,     -999.0,9,     -999.0,9,     -999.0,9
320620140320,       P16S,      66,          2,         17,         17,2,20140426,       0244,   -31.0003,  -149.9996,       4246,  1099.7,   4.3825,  34.3326,2,  34.3321,2,    198.2,2,   198.4,2,   32.67,2,   31.13,2,    0.00,2,    2.14,2,   0.774,2,   0.387,2,    0.09,2,  2195.9,2,  2297.8,2,   7.6854,2,       20,-999.000,9,-999.0000,9, -999.00,9,   4.3831,2, -999.00,9,  -999.0,9, -999.00,9,    34.4,2, -999.00,9,      19.72,2,     -999.0,9, -999.00,9, 20140426,      400, -30.9998,-149.9994,    34.4940,2,     -999.0,9,     -999.0,9,     -999.0,9,     -999.0,9,     -999.0,9,     -999.0,9
320620140320,       P16S,      66,          2,         16,         16,2,20140426,       0244,   -31.0003,  -149.9996,       4246,  1199.1,   3.8640,  34.3631,2,  34.3639,2,    190.1,2,   189.5,2,   42.46,2,   32.56,2,    0.00,2,    2.24,2,-999.000,9,-999.000,9, -999.00,9,  2211.7,2,  2307.8,2,   7.6637,2,       20,-999.000,9,-999.0000,9, -999.00,9,   3.8673,2, -999.00,9,  -999.0,9, -999.00,9,    35.4,2, -999.00,9,     -999.0,9,     -999.0,9, -999.00,9, 20140426,      357, -30.9998,-149.9994,    34.5259,2,     -999.0,9,     -999.0,9,     -999.0,9,     -999.0,9,     -999.0,9,     -999.0,9
320620140320,       P16S,      66,          2,         15,         15,2,20140426,       0244,   -31.0003,  -149.9996,       4246,  1300.2,   3.4407,  34.4053,2,  34.4049,2,    182.5,2,   181.0,2,   52.14,2,   33.49,2,    0.00,2,    2.33,2,   0.279,2,   0.143,2,    0.04,2,  2226.2,2,  2317.1,2,   7.6479,2,       20,-999.000,9,-999.0000,9, -999.00,9,   3.4423,2, -999.00,9,  -999.0,9, -999.00,9,    37.2,2, -999.00,9,      21.61,2,     -999.0,9, -999.00,9, 20140426,      354, -30.9998,-149.9993,    34.5671,2,     -999.0,9,     -999.0,9,     -999.0,9,     -999.0,9,     -999.0,9,     -999.0,9
320620140320,       P16S,      66,          2,         14,         14,2,20140426,       0244,   -31.0003,  -149.9996,       4246,  1399.3,   3.1863,  34.4597,2,  34.4599,2,    171.7,2,   171.8,2,   63.97,2,   34.18,2,    0.00,2,    2.38,2,-999.000,9,-999.000,9, -999.00,9,  2241.7,2,  2330.2,2,   7.6389,2,       20,-999.000,9,-999.0000,9, -999.00,9,   3.1863,2, -999.00,9,  -999.0,9, -999.00,9,    36.4,2, -999.00,9,     -999.0,9,     -999.0,9, -999.00,9, 20140426,      351, -30.9999,-149.9994,    34.6224,2,     -999.0,9,     -999.0,9,     -999.0,9,     -999.0,9,     -999.0,9,     -999.0,9
320620140320,       P16S,      66,          2,         13,         13,2,20140426,       0244,   -31.0003,  -149.9996,       4246,  1500.5,   2.9084,  34.5030,2,  34.5007,2,    167.8,2,   168.0,2,   72.58,2,   34.45,2,    0.00,2,    2.39,2,   0.043,2,   0.022,2,    0.00,2,  2251.9,2,    2339,2,   7.6343,2,       20,-999.000,9,-999.0000,9, -999.00,9,   2.9095,2, -999.00,9,  -999.0,9, -999.00,9,    36.2,2, -999.00,9,      22.61,2,     -999.0,9, -999.00,9, 20140426,      347, -31.0000,-149.9995,    34.6634,2,     -999.0,9,     -999.0,9,     -999.0,9,     -999.0,9,     -999.0,9,     -999.0,9
320620140320,       P16S,      66,          2,         12,         12,2,20140426,       0244,   -31.0003,  -149.9996,       4246,  1599.9,   2.7133,  34.5422,2,  34.5429,2,    163.1,2,   162.4,2,   83.43,2,   34.74,2,    0.00,2,    2.43,2,-999.000,9,-999.000,9, -999.00,9,  2263.8,2,    2353,2,   7.6319,2,       20,-999.000,9,-999.0000,9, -999.00,9,   2.7115,2, -999.00,9,  -999.0,9, -999.00,9,    36.5,2, -999.00,9,     -999.0,9,     -999.0,9, -999.00,9, 20140426,      344, -31.0002,-149.9996,    34.7058,2,     -999.0,9,     -999.0,9,     -999.0,9,     -999.0,9,     -999.0,9,     -999.0,9
320620140320,       P16S,      66,          2,         11,         11,2,20140426,       0244,   -31.0003,  -149.9996,       4246,  1799.9,   2.4087,  34.5963,2,  34.5961,2,    156.9,2,   156.9,2,   98.20,2,   35.06,2,    0.00,2,    2.45,2,   0.005,2,   0.002,2,    0.03,2,  2281.4,2,    2370,2,   7.6324,2,       20,-999.000,9,-999.0000,9, -999.00,9,   2.4095,2, -999.00,9,  -999.0,9, -999.00,9,    34.2,2, -999.00,9,      24.05,2,     -999.0,9, -999.00,9, 20140426,      340, -31.0002,-149.9997,    34.7593,2,     -999.0,9,     -999.0,9,     -999.0,9,     -999.0,9,     -999.0,9,     -999.0,9
320620140320,       P16S,      66,          2,         10,         10,2,20140426,       0244,   -31.0003,  -149.9996,       4246,  1999.4,   2.2151,  34.6254,2,  34.6256,2,    153.4,2,   153.7,2,  109.15,2,   35.23,2,    0.00,2,    2.47,2,-999.000,9,-999.000,9, -999.00,9,  2294.7,6,    2384,2,   7.6324,2,       20,-999.000,9,-999.0000,9, -999.00,9,   2.2155,2, -999.00,9,  -999.0,9, -999.00,9,    35.2,2, -999.00,9,     -999.0,9,     -999.0,9, -999.00,9, 20140426,      335, -31.0002,-149.9996,    34.7889,2,     -999.0,9,     -999.0,9,     -999.0,9,     -999.0,9,     -999.0,9,     -999.0,9
320620140320,       P16S,      66,          2,          9,         09,2,20140426,       0244,   -31.0003,  -149.9996,       4246,  2249.9,   2.0244,  34.6455,2,  34.6457,2,    151.9,2,   151.7,2,  118.44,2,   35.49,2,    0.00,2,    2.49,2,   0.002,2,   0.001,2,    0.00,2,  2303.1,2,  2393.9,6,   7.6333,2,       20,-999.000,9,-999.0000,9, -999.00,9,   2.0242,2, -999.00,9,  -999.0,9, -999.00,9,    35.3,2, -999.00,9,      22.78,2,     -999.0,9, -999.00,9, 20140426,      329, -30.9999,-149.9994,    34.8090,2,     -999.0,9,     -999.0,9,     -999.0,9,     -999.0,9,     -999.0,9,     -999.0,9
320620140320,       P16S,      66,          2,          8,         08,2,20140426,       0244,   -31.0003,  -149.9996,       4246,  2501.2,   1.8972,  34.6573,2,  34.6576,2,    151.7,2,   151.7,2,  124.01,2,   35.51,2,    0.00,2,    2.49,2,-999.000,9,-999.000,9, -999.00,9,    2308,2,  2399.2,2,   7.6338,2,       20,-999.000,9,-999.0000,9, -999.00,9,   1.8975,2, -999.00,9,  -999.0,9, -999.00,9,    34.7,2, -999.00,9,     -999.0,9,     -999.0,9, -999.00,9, 20140426,      324, -30.9998,-149.9993,    34.8211,2,     -999.0,9,     -999.0,9,     -999.0,9,     -999.0,9,     -999.0,9,     -999.0,9
320620140320,       P16S,      66,          2,          7,         07,2,20140426,       0244,   -31.0003,  -149.9996,       4246,  2750.7,   1.7917,  34.6661,2,  34.6663,2,    154.3,2,   154.2,2,  126.95,2,   35.50,2,    0.00,2,    2.47,2,   0.002,2,   0.000,2,    0.01,2,  2308.8,2,    2402,2,   7.6371,2,       20,-999.000,9,-999.0000,9, -999.00,9,   1.7913,2, -999.00,9,  -999.0,9, -999.00,9,    36.5,2, -999.00,9,      22.48,2,     -999.0,9, -999.00,9, 20140426,      318, -31.0002,-149.9995,    34.8297,2,     -999.0,9,     -999.0,9,     -999.0,9,     -999.0,9,     -999.0,9,     -999.0,9
320620140320,       P16S,      66,          2,          6,         06,2,20140426,       0244,   -31.0003,  -149.9996,       4246,  2998.6,   1.6916,  34.6746,2,  34.6749,2,    159.7,2,   159.7,2,  127.04,2,   35.09,2,    0.00,2,    2.45,2,-999.000,9,-999.000,9, -999.00,9,  2305.6,2,  2400.2,2,   7.6434,2,       20,-999.000,9,-999.0000,9, -999.00,9,   1.6915,2, -999.00,9,  -999.0,9, -999.00,9,    40.3,2, -999.00,9,     -999.0,9,     -999.0,9, -999.00,9, 20140426,      313, -31.0001,-149.9995,    34.8384,2,     -999.0,9,     -999.0,9,     -999.0,9,     -999.0,9,     -999.0,9,     -999.0,9