BOTTLE,20230715CCHSIOCBG
EXPOCODE,SECT_ID,STNNBR,CASTNO,SAMPNO,BTLNBR,BTLNBR_FLAG_W,DATE,TIME,LATITUDE,LONGITUDE,DEPTH,CTDPRS,CTDTMP,CTDSAL,CTDSAL_FLAG_W,SALNTY,SALNTY_FLAG_W,CTDOXY,CTDOXY_FLAG_W,OXYGEN,OXYGEN_FLAG_W,SILCAT,SILCAT_FLAG_W,NITRAT,NITRAT_FLAG_W,NITRIT,NITRIT_FLAG_W,PHSPHT,PHSPHT_FLAG_W,CFC-11,CFC-11_FLAG_W,CFC-12,CFC-12_FLAG_W,SF6,SF6_FLAG_W,TCARBN,TCARBN_FLAG_W,ALKALI,ALKALI_FLAG_W,PH_TOT,PH_TOT_FLAG_W,PH_TMP,TRITUM,TRITUM_FLAG_W,HELIUM,HELIUM_FLAG_W,DELHE3,DELHE3_FLAG_W,REFTMP,REFTMP_FLAG_W,DELC13,DELC13_FLAG_W,DELC14,DELC14_FLAG_W,DELO18,DELO18_FLAG_W,DOC,DOC_FLAG_W,TDN,TDN_FLAG_W,N2O,N2O_FLAG_W,CALCIUM,CALCIUM_FLAG_W,D15N_NO3,D15N_NO3_FLAG_W,BTL_DATE,BTL_TIME,BTL_LAT,BTL_LON,SALTREF,SALTREF_FLAG_W,D18O_NO3,D18O_NO3_FLAG_W,DSI30,DSI30_FLAG_W,CDOM_NASA,CDOM_NASA_FLAG_W,CDOM_UCSB,CDOM_UCSB_FLAG_W,D15N_NO2+NO3,D15N_NO2+NO3_FLAG_W,D18O_NO2+NO3,D18O_NO2+NO3_FLAG_W
,,,,,,,,,,,METERS,DBAR,ITS-90,PSS-78,,PSS-78,,UMOL/KG,,UMOL/KG,,UMOL/KG,,UMOL/KG,,UMOL/KG,,UMOL/KG,,PMOL/KG,,PMOL/KG,,FMOL/KG,,UMOL/KG,,UMOL/KG,,,,DEG C,TU,,NMOL/KG,,PERCNT,,DEG C,,/MILLE,,/MILLE,,/MILLE,,UMOL/KG,,UMOL/KG,,NMOL/KG,,MMOL/KG,,/MILLE,,,,,,G/KG,,/MILLE,,/MILLE,,,,,,/MILLE,,/MILLE,
320620140320,       P16S,      69,          1,         36,         36,2,20140427,       0439,   -28.9996,  -149.9997,       4602,     3.3,  23.0274,  35.2408,2,  35.2408,2,    215.0,2,   214.7,2,    0.59,2,    0.27,2,    0.00,2,    0.02,2,   1.743,2,   1.105,2,    1.58,2,  2010.4,2,  2311.8,2,   8.1249,2,       20,-999.000,1,-999.0000,1, -999.00,9,  23.0277,2, -999.00,9,  -999.0,9, -999.00,1,  -999.0,9, -999.00,9,       7.33,2,     -999.0,9, -999.00,9, 20140427,      644, -28.9996,-149.9997,    35.4070,2,     -999.0,9,     -999.0,9,     -999.0,9,     -999.0,9,     -999.0,9,     -999.0,9
320620140320,       P16S,      69,          1,         35,         35,2,20140427,       0439,   -28.9996,  -149.9997,       4602,    24.9,  23.0390,  35.2398,2,  35.2424,2,    215.8,2,   214.5,2,    0.59,2,    0.24,2,    0.00,2,    0.01,2,   1.750,2,   1.118,2,    1.67,2,  2008.8,2,  2311.5,2,   8.1254,2,       20,-999.000,1,-999.0000,1, -999.00,9,  23.0372,2, -999.00,9,  -999.0,9, -999.00,1,  -999.0,9, -999.00,9,       7.12,2,     -999.0,9, -999.00,9, 20140427,      642, -28.9996,-149.9997,    35.4086,2,     -999.0,9,     -999.0,9,     -999.0,9,     -999.0,9,     -999.0,9,     -999.0,9
320620140320,       P16S,      69,          1,         34,         34,2,20140427,       0439,   -28.9996,  -149.9997,       4602,    50.8,  22.9612,  35.3725,2,  35.3616,2,    217.2,2,   216.5,2,    0.59,2,    0.23,2,    0.00,2,    0.02,2,   1.791,2,   1.119,2,    1.65,2,  2017.5,2,    2319,2,   8.1247,2,       20,-999.000,1,-999.0000,1, -999.00,9,  22.9832,2, -999.00,9,  -999.0,9, -999.00,1,  -999.0,9, -999.00,9,       7.69,2,     -999.0,9, -999.00,9, 20140427,      640, -28.9996,-149.9996,    35.5284,2,     -999.0,9,     -999.0,9,     -999.0,9,     -999.0,9,     -999.0,9,     -999.0,9
320620140320,       P16S,      69,          1,         33,         33,2,20140427,       0439,   -28.9996,  -149.9997,       4602,    73.9,  21.5927,  35.5934,2,  35.5926,2,    229.2,2,   228.9,2,    0.59,2,    0.22,2,    0.00,2,    0.01,2,   1.993,2,   1.222,2,    1.60,2,  2033.2,2,  2333.7,2,   8.1162,2,       20,-999.000,1,-999.0000,1, -999.00,9,  21.5907,2, -999.00,9,  -999.0,9, -999.00,1,  -999.0,9, -999.00,9,       7.46,2,     -999.0,9, -999.00,9, 20140427,      639, -28.9996,-149.9996,    35.7604,2,     -999.0,9,     -999.0,9,     -999.0,9,     -999.0,9,     -999.0,9,     -999.0,9
320620140320,       P16S,      69,          1,         32,         32,2,20140427,       0439,   -28.9996,  -149.9997,       4602,    97.8,  19.5617,  35.5061,2,  35.5064,2,    234.8,2,   234.3,2,    0.78,2,    0.22,2,    0.01,2,    0.03,2,   2.143,2,   1.301,2,    1.67,2,  2042.3,2,  2326.6,2,    8.091,2,       20,-999.000,1,-999.0000,1, -999.00,9,  19.5383,3, -999.00,9,  -999.0,9, -999.00,1,  -999.0,9, -999.00,9,       8.25,2,     -999.0,9, -999.00,9, 20140427,      637, -28.9996,-149.9996,    35.6738,2,     -999.0,9,     -999.0,9,     -999.0,9,     -999.0,9,     -999.0,9,     -999.0,9
320620140320,       P16S,      69,          1,         31,         31,2,20140427,       0439,   -28.9996,  -149.9997,       4602,   149.4,  17.8678,  35.4351,2,  35.4348,2,    222.9,2,   219.0,2,    0.88,2,    0.82,2,    0.07,2,    0.12,2,   2.274,2,   1.374,2,    1.69,2,  2061.9,2,  2322.6,2,   8.0468,2,       20,-999.000,1,-999.0000,1, -999.00,9,  17.8788,2, -999.00,9,  -999.0,9, -999.00,1,  -999.0,9, -999.00,9,       9.01,2,     -999.0,9, -999.00,9, 20140427,      635, -28.9996,-149.9996,    35.6019,2,     -999.0,9,     -999.0,9,     -999.0,9,     -999.0,9,     -999.0,9,     -999.0,9
320620140320,       P16S,      69,          1,         30,         30,2,20140427,       0439,   -28.9996,  -149.9997,       4602,   198.8,  16.8866,  35.3653,2,  35.3629,2,    213.6,2,   212.5,2,    0.98,2,    2.44,2,    0.02,2,    0.21,2,   2.334,2,   1.407,2,    1.62,2,  2074.1,2,  2319.1,2,   8.0182,2,       20,-999.000,9,-999.0000,9, -999.00,9,  16.8811,2, -999.00,9,  -999.0,9, -999.00,1,  -999.0,9, -999.00,9,       9.36,2,     -999.0,9, -999.00,9, 20140427,      634, -28.9996,-149.9996,    35.5296,2,     -999.0,9,     -999.0,9,     -999.0,9,     -999.0,9,     -999.0,9,     -999.0,9
320620140320,       P16S,      69,          1,         29,         29,2,20140427,       0439,   -28.9996,  -149.9997,       4602,   249.3,  15.7903,  35.2459,2,  35.2460,2,    214.1,2,   212.1,2,    1.27,2,    3.65,2,    0.01,2,    0.30,2,   2.444,2,   1.453,2,    1.70,2,  2081.7,2,  2312.4,2,   7.9915,2,       20,-999.000,1,-999.0000,1, -999.00,9,  15.7926,2, -999.00,9,  -999.0,9, -999.00,1,  -999.0,9, -999.00,9,      11.02,2,     -999.0,9, -999.00,9, 20140427,      631, -28.9996,-149.9996,    35.4122,2,     -999.0,9,     -999.0,9,     -999.0,9,     -999.0,9,     -999.0,9,     -999.0,9
320620140320,       P16S,      69,          1,         28,         28,2,20140427,       0439,   -28.9996,  -149.9997,       4602,   299.6,  14.3501,  35.0905,2,  35.0888,2,    203.6,2,   202.1,2,    1.66,2,    7.46,2,    0.01,2,    0.56,2,   2.623,2,   1.507,2,    1.68,2,  2100.1,2,  2304.8,6,   7.9401,2,       20,-999.000,9,-999.0000,9, -999.00,9,  14.3583,2, -999.00,9,  -999.0,9, -999.00,1,  -999.0,9, -999.00,9,      12.61,2,     -999.0,9, -999.00,9, 20140427,      630, -28.9996,-149.9996,    35.2543,2,     -999.0,9,     -999.0,9,     -999.0,9,     -999.0,9,     -999.0,9,     -999.0,9
320620140320,       P16S,      69,          1,         27,         27,2,20140427,       0439,   -28.9996,  -149.9997,       4602,   348.2,  12.6973,  34.8973,2,  34.8914,2,    202.8,2,   202.5,2,    2.54,2,   11.02,2,    0.01,2,    0.80,2,   2.902,2,   1.580,2,    1.40,2,  2113.6,6,  2296.6,2,   7.8951,2,       20,-999.000,1,-999.0000,1, -999.00,9,  12.6763,2, -999.00,9,  -999.0,9, -999.00,1,  -999.0,9, -999.00,9,      15.51,2,     -999.0,9, -999.00,9, 20140427,      627, -28.9996,-149.9996,    35.0560,2,     -999.0,9,     -999.0,9,     -999.0,9,     -999.0,9,     -999.0,9,     -999.0,9
320620140320,       P16S,      69,          1,         26,         26,2,20140427,       0439,   -28.9996,  -149.9997,       4602,   398.5,  11.1666,  34.7441,2,  34.7396,2,    209.6,2,   209.2,2,    3.13,2,   13.71,2,    0.01,2,    0.96,2,   3.067,2,   1.619,2,    1.36,2,  2124.2,2,  2290.4,2,   7.8618,6,       20,-999.000,9,-999.0000,9, -999.00,9,  11.1932,3, -999.00,9,  -999.0,9, -999.00,1,  -999.0,9, -999.00,9,      17.10,2,     -999.0,9, -999.00,9, 20140427,      625, -28.9996,-149.9996,    34.9035,2,     -999.0,9,     -999.0,9,     -999.0,9,     -999.0,9,     -999.0,9,     -999.0,9
320620140320,       P16S,      69,          1,         25,         25,2,20140427,       0439,   -28.9996,  -149.9997,       4602,   499.0,   8.2903,  34.4728,2,  34.4739,2,    233.8,2,   233.6,2,    4.79,2,   18.83,2,    0.01,2,    1.26,2,   3.566,2,   1.819,2,    1.22,2,  2135.8,2,  2280.6,2,   7.8101,2,       20,-999.000,1,-999.0000,1, -999.00,9,   8.2943,2, -999.00,9,  -999.0,9, -999.00,1,  -999.0,9, -999.00,9,      18.70,2,     -999.0,9, -999.00,9, 20140427,      622, -28.9996,-149.9996,    34.6364,2,     -999.0,9,     -999.0,9,     -999.0,9,     -999.0,9,     -999.0,9,     -999.0,9
320620140320,       P16S,      69,          1,         24,         24,2,20140427,       0439,   -28.9996,  -149.9997,       4602,   601.5,   7.1539,  34.3862,2,  34.3865,2,    243.5,2,   243.5,2,    6.65,2,   21.54,2,    0.00,2,    1.43,2,   3.712,2,   1.879,2,    1.25,2,  2141.8,2,  2279.8,2,   7.7938,2,       20,-999.000,9,-999.0000,9, -999.00,9,   7.1542,2, -999.00,9,  -999.0,9, -999.00,1,  -999.0,9, -999.00,9,      17.58,2,     -999.0,9, -999.00,9, 20140427,      620, -28.9996,-149.9996,    34.5487,2,     -999.0,9,     -999.0,9,     -999.0,9,     -999.0,9,     -999.0,9,     -999.0,9
320620140320,       P16S,      69,          1,         23,         23,2,20140427,       0439,   -28.9996,  -149.9997,       4602,   698.5,   6.6429,  34.3470,2,  34.3479,2,    242.2,2,   242.5,2,    8.31,2,   23.14,2,    0.00,2,    1.54,2,   3.487,2,   1.706,2,    1.08,2,  2145.7,2,  2279.4,2,   7.7847,2,       20,-999.000,1,-999.0000,1, -999.00,9,   6.6427,2, -999.00,9,  -999.0,9, -999.00,1,  -999.0,9, -999.00,9,      17.16,2,     -999.0,9, -999.00,9, 20140427,      617, -28.9996,-149.9996,    34.5098,2,     -999.0,9,     -999.0,9,     -999.0,9,     -999.0,9,     -999.0,9,     -999.0,9
320620140320,       P16S,      69,          1,         22,         22,2,20140427,       0439,   -28.9996,  -149.9997,       4602,   798.4,   6.1040,  34.3177,2,  34.3182,2,    235.7,2,   235.7,2,   11.05,2,   25.04,2,    0.00,2,    1.66,2,   2.788,2,   1.348,2,    0.41,2,  2151.7,2,  2280.8,2,   7.7695,2,       20,-999.000,9,-999.0000,9, -999.00,9,   6.1023,2, -999.00,9,  -999.0,9, -999.00,1,  -999.0,9, -999.00,9,      17.57,2,     -999.0,9, -999.00,9, 20140427,      614, -28.9996,-149.9996,    34.4801,2,     -999.0,9,     -999.0,9,     -999.0,9,     -999.0,9,     -999.0,9,     -999.0,9
320620140320,       P16S,      69,          1,         21,         21,2,20140427,       0439,   -28.9996,  -149.9997,       4602,   899.3,   5.4455,  34.3043,2,  34.3045,2,    221.4,2,   221.4,2,   17.02,2,   27.67,2,    0.00,2,    1.84,2,   1.700,2,   0.849,2,    0.19,2,  2166.5,2,  2283.8,2,   7.7394,2,       20,-999.000,1,-999.0000,1, -999.00,9,   5.4508,2, -999.00,9,  -999.0,9, -999.00,1,  -999.0,9, -999.00,9,      19.61,2,     -999.0,9, -999.00,9, 20140427,      611, -28.9996,-149.9996,    34.4663,2,     -999.0,9,     -999.0,9,     -999.0,9,     -999.0,9,     -999.0,9,     -999.0,9
320620140320,       P16S,      69,          1,         20,         20,2,20140427,       0439,   -28.9996,  -149.9997,       4602,   999.2,   4.8546,  34.3181,2,  34.3171,2,    206.0,2,   205.3,2,   25.72,2,   30.10,2,    0.00,2,    2.02,2,-999.000,9,-999.000,9, -999.00,9,  2184.3,2,  2291.6,2,   7.7052,2,       20,-999.000,9,-999.0000,9, -999.00,9,   4.8562,2, -999.00,9,  -999.0,9, -999.00,1,  -999.0,9, -999.00,9,     -999.0,9,     -999.0,9, -999.00,9, 20140427,      608, -28.9996,-149.9996,    34.4789,2,     -999.0,9,     -999.0,9,     -999.0,9,     -999.0,9,     -999.0,9,     -999.0,9
320620140320,       P16S,      69,          1,         19,         19,2,20140427,       0439,   -28.9996,  -149.9997,       4602,  1099.5,   4.2282,  34.3540,2,  34.3544,2,    190.0,2,   189.6,2,   38.43,2,   32.35,2,    0.00,2,    2.18,2,   0.481,2,   0.242,2,    0.04,2,    2206,2,  2303.2,2,   7.6728,2,       20,-999.000,1,-999.0000,1, -999.00,9,   4.2266,2, -999.00,9,  -999.0,9, -999.00,1,  -999.0,9, -999.00,9,      22.56,2,     -999.0,9, -999.00,9, 20140427,      605, -28.9996,-149.9996,    34.5164,2,     -999.0,9,     -999.0,9,     -999.0,9,     -999.0,9,     -999.0,9,     -999.0,9
320620140320,       P16S,      69,          1,         18,         18,2,20140427,       0439,   -28.9996,  -149.9997,       4602,  1202.1,   3.8688,  34.3895,2,  34.3907,2,    178.8,2,   179.5,2,   47.62,2,   33.50,2,    0.00,2,    2.26,2,-999.000,9,-999.000,9, -999.00,9,  2220.8,6,  2312.7,2,   7.6554,2,       20,-999.000,1,-999.0000,1, -999.00,9,   3.8655,2, -999.00,9,  -999.0,9, -999.00,1,  -999.0,9, -999.00,9,     -999.0,9,     -999.0,9, -999.00,9, 20140427,      602, -28.9996,-149.9996,    34.5528,2,     -999.0,9,     -999.0,9,     -999.0,9,     -999.0,9,     -999.0,9,     -999.0,9
320620140320,       P16S,      69,          1,         17,         17,2,20140427,       0439,   -28.9996,  -149.9997,       4602,  1298.9,   3.5307,  34.4256,2,  34.4252,2,    173.1,2,   174.0,2,   56.62,2,   34.12,2,    0.00,2,    2.30,2,   0.166,2,   0.085,2,    0.02,2,  2232.7,2,  2321.9,2,   7.6456,2,       20,-999.000,1,-999.0000,1, -999.00,9,   3.5342,2, -999.00,9,  -999.0,9, -999.00,1,  -999.0,9, -999.00,9,      24.29,2,     -999.0,9, -999.00,9, 20140427,      559, -28.9996,-149.9997,    34.5875,2,     -999.0,9,     -999.0,9,     -999.0,9,     -999.0,9,     -999.0,9,     -999.0,9
320620140320,       P16S,      69,          1,         16,         16,2,20140427,       0439,   -28.9996,  -149.9997,       4602,  1400.2,   3.1026,  34.4841,2,  34.4837,2,    166.7,2,   167.7,2,   70.79,2,   34.74,2,    0.00,2,    2.37,2,-999.000,9,-999.000,9, -999.00,9,  2250.9,2,  2337.8,2,    7.637,2,       20,-999.000,1,-999.0000,1, -999.00,9,   3.1030,2, -999.00,9,  -999.0,9, -999.00,9,  -999.0,9, -999.00,9,     -999.0,9,     -999.0,9, -999.00,9, 20140427,      556, -28.9996,-149.9996,    34.6463,2,     -999.0,9,     -999.0,9,     -999.0,9,     -999.0,9,     -999.0,9,     -999.0,9
320620140320,       P16S,      69,          1,         15,         15,2,20140427,       0439,   -28.9996,  -149.9997,       4602,  1500.8,   2.8887,  34.5174,2,  34.5161,2,    162.9,2,   163.1,2,   78.91,2,   35.05,2,    0.00,2,    2.39,2,   0.034,2,   0.009,2,    0.01,2,  2260.5,2,  2347.5,2,   7.6342,2,       20,-999.000,1,-999.0000,1, -999.00,9,   2.8921,2, -999.00,9,  -999.0,9, -999.00,9,  -999.0,9, -999.00,9,      24.60,2,     -999.0,9, -999.00,9, 20140427,      553, -28.9996,-149.9996,    34.6789,2,     -999.0,9,     -999.0,9,     -999.0,9,     -999.0,9,     -999.0,9,     -999.0,9
320620140320,       P16S,      69,          1,         14,         14,2,20140427,       0439,   -28.9996,  -149.9997,       4602,  1598.3,   2.6823,  34.5498,2,  34.5499,2,    160.1,2,   159.8,2,   87.90,2,   35.26,2,    0.00,2,    2.43,2,-999.000,9,-999.000,9, -999.00,9,  2271.5,2,  2357.9,2,   7.6329,2,       20,-999.000,9,-999.0000,9, -999.00,9,   2.6828,2, -999.00,9,  -999.0,9, -999.00,9,  -999.0,9, -999.00,9,     -999.0,9,     -999.0,9, -999.00,9, 20140427,      550, -28.9996,-149.9996,    34.7128,2,     -999.0,9,     -999.0,9,     -999.0,9,     -999.0,9,     -999.0,9,     -999.0,9
320620140320,       P16S,      69,          1,         13,         13,2,20140427,       0439,   -28.9996,  -149.9997,       4602,  1797.8,   2.3950,  34.5937,2,  34.5935,2,    156.2,2,   156.0,2,  100.90,2,   35.56,2,    0.00,2,    2.45,2,   0.004,2,   0.000,2,    0.00,2,  2285.2,2,  2372.5,2,   7.6327,2,       20,-999.000,1,-999.0000,1, -999.00,9,   2.3954,2, -999.00,9,  -999.0,9, -999.00,9,  -999.0,9, -999.00,9,      24.53,2,     -999.0,9, -999.00,9, 20140427,      545, -28.9996,-149.9996,    34.7566,2,     -999.0,9,     -999.0,9,     -999.0,9,     -999.0,9,     -999.0,9,     -999.0,9
320620140320,       P16S,      69,          1,         12,         12,2,20140427,       0439,   -28.9996,  -149.9997,       4602,  2001.3,   2.1838,  34.6243,2,  34.6242,2,    153.3,2,   153.4,2,  111.16,2,   35.75,2,    0.00,2,    2.47,2,-999.000,9,-999.000,9, -999.00,9,  2295.7,2,  2383.8,2,   7.6327,2,       20,-999.000,9,-999.0000,9, -999.00,9,   2.1836,2, -999.00,9,  -999.0,9, -999.00,9,  -999.0,9, -999.00,9,     -999.0,9,     -999.0,9, -999.00,9, 20140427,      540, -28.9996,-149.9996,    34.7875,2,     -999.0,9,     -999.0,9,     -999.0,9,     -999.0,9,     -999.0,9,     -999.0,9
320620140320,       P16S,      69,          1,         11,         11,2,20140427,       0439,   -28.9996,  -149.9997,       4602,  2250.2,   2.0186,  34.6442,2,  34.6442,2,    151.1,2,   150.6,2,  119.47,2,   35.92,2,    0.00,2,    2.48,2,  -0.001,2,   0.000,2,    0.00,2,    2305,2,  2392.9,2,   7.6325,2,       20,-999.000,1,-999.0000,1, -999.00,9,   2.0190,2, -999.00,9,  -999.0,9, -999.00,9,  -999.0,9, -999.00,9,      24.33,2,     -999.0,9, -999.00,9, 20140427,      534, -28.9996,-149.9997,    34.8076,2,     -999.0,9,     -999.0,9,     -999.0,9,     -999.0,9,     -999.0,9,     -999.0,9
320620140320,       P16S,      69,          1,         10,         10,2,20140427,       0439,   -28.9996,  -149.9997,       4602,  2498.2,   1.8670,  34.6577,2,  34.6572,2,    152.0,2,   152.6,2,  125.24,2,   35.96,2,    0.00,2,    2.48,2,-999.000,9,-999.000,9, -999.00,9,  2308.8,2,  2399.5,2,   7.6359,2,       20,-999.000,9,-999.0000,9, -999.00,9,   1.8676,2, -999.00,9,  -999.0,9, -999.00,9,  -999.0,9, -999.00,9,     -999.0,9,     -999.0,9, -999.00,9, 20140427,      529, -28.9996,-149.9997,    34.8206,2,     -999.0,9,     -999.0,9,     -999.0,9,     -999.0,9,     -999.0,9,     -999.0,9
320620140320,       P16S,      69,          1,          9,         09,2,20140427,       0439,   -28.9996,  -149.9997,       4602,  2749.8,   1.7695,  34.6670,2,  34.6671,2,    153.4,2,   153.5,2,  128.27,2,   35.89,2,    0.00,2,    2.47,2,   0.001,2,   0.000,2,    0.02,2,  2311.7,6,  2401.9,2,   7.6368,2,       20,-999.000,9,-999.0000,1, -999.00,9,   1.7693,2, -999.00,9,  -999.0,9, -999.00,9,  -999.0,9, -999.00,9,      23.58,2,     -999.0,9, -999.00,9, 20140427,      523, -28.9996,-149.9997,    34.8305,2,     -999.0,9,     -999.0,9,     -999.0,9,     -999.0,9,     -999.0,9,     -999.0,9
320620140320,       P16S,      69,          1,          8,         08,2,20140427,       0439,   -28.9996,  -149.9997,       4602,  3000.6,   1.6977,  34.6739,2,  34.6733,2,    158.0,2,   157.7,2,  128.86,2,   35.68,2,    0.00,2,    2.45,2,-999.000,9,-999.000,9, -999.00,9,  2308.7,2,  2400.8,6,   7.6416,2,       20,-999.000,9,-999.0000,9, -999.00,9,   1.6973,2, -999.00,9,  -999.0,9, -999.00,9,  -999.0,9, -999.00,9,     -999.0,9,     -999.0,9, -999.00,9, 20140427,      518, -28.9996,-149.9997,    34.8368,2,     -999.0,9,     -999.0,9,     -999.0,9,     -999.0,9,     -999.0,9,     -999.0,9
320620140320,       P16S,      69,          1,          7,         07,2,20140427,       0439,   -28.9996,  -149.9997,       4602,  3300.2,   1.6059,  34.6815,2,  34.6816,2,    165.6,2,   165.6,2,  127.00,2,   35.13,2,    0.00,2,    2.41,2,  -0.001,2,   0.001,2,    0.00,2,  2301.9,2,  2395.4,2,   7.6493,6,       20,-999.000,9,-999.0000,1, -999.00,9,   1.6060,2, -999.00,9,  -999.0,9, -999.00,9,  -999.0,9, -999.00,9,      22.97,2,     -999.0,9, -999.00,9, 20140427,      511, -28.9996,-149.9997,    34.8451,2,     -999.0,9,     -999.0,9,     -999.0,9,     -999.0,9,     -999.0,9,     -999.0,9
320620140320,       P16S,      69,          1,          6,         06,2,20140427,       0439,   -28.9996,  -149.9997,       4602,  3598.7,   1.5009,  34.6900,2,  34.6896,2,    173.7,2,   174.9,2,  124.36,2,   34.47,2,    0.00,2,    2.36,2,-999.000,9,-999.000,9, -999.00,9,  2292.1,2,    2390,2,   7.6568,2,       20,-999.000,9,-999.0000,9, -999.00,9,   1.5012,2, -999.00,9,  -999.0,9, -999.00,9,  -999.0,9, -999.00,9,     -999.0,9,     -999.0,9, -999.00,9, 20140427,      505, -28.9996,-149.9997,    34.8532,2,     -999.0,9,     -999.0,9,     -999.0,9,     -999.0,9,     -999.0,9,     -999.0,9