BOTTLE,20230715CCHSIOCBG
# Merged parameters: DOC, DOC_FLAG_W, TDN, TDN_FLAG_W
# 20220818CCHSIOAMB
# Set Calcium units to expected MMOL/KG, there is no data
# Removed the units from CDOM_NASA and CDOM_UCSB, these are placeholder params for a much larger set of parameters (mostly attenuation coefficients), they probably won't even come to CCHDO (NASA SeaBASS insead)
#BOTTLE,20170203CCHSIORJL
# Merged parameters: DOC, DOC_FLAG_W, TDN, TDN_FLAG_W
# Merged parameters from: 320620140320.exc.csv (R.Key submission to CCHDO on 2016-08-23)
# Merged parameters: D15N-NO3+NO2, D15N-NO3+NO2_FLAG_W, D18O-NO3+NO2, D18O-NO3+NO2_FLAG_W, D15N-NO3, D15N-NO3_FLAG_W, D18O-NO3, D18O-NO3_FLAG_W
# Merged parameters from: P16SNitrateIsotopomers.xlsx (B.Carter for D. Sigman submission to CCHDO on 2016-08-08)
# Change REFTMP units from ITS-90 to DEG C
# Change D15-NO3 to D15N_NO3
# Change D18O-NO3 to D18O_NO3 
# Change D15N-NO3+NO2 to D15N_NO3+NO2
# Change D18O-NO3+NO2 to D18O_NO3+NO2
# BOTTLE,20160323CCHSIOCBG
# 20160323CCHSIOCBG
# Merged parameters: DELC13, DELC13_FLAG_W, DELC14, DELC14_FLAG_W
# at 80-3-9 changed flag to 1 for fill value for DOC
# BOTTLE,20160113PRINUNIVRMK
# 20150520CCHSIOCBG
# Merged parameters: ALKALI, ALKALI_FLAG_W, PH_TOT, PH_TOT_FLAG_W, PH_TMP
# Merged parameters: CTDSAL, SALNTY_FLAG_W, SALTREF_FLAG_W
# BTLNBR_FLAG_W from 3 to 4 for 61-1-10
# added PI information
# BOTTLE,20150106CCHSIOCBG
# Merged parameters: TCARBN, TCARBN_FLAG_W
# 20140619CCHSIOCBG
# SALNTY changed to fill value at station 25, cast 1, sample 22
# BOTTLE,20140616ODF
# 
# 10/1/2014 Initialized README file  
# Data source: CCHDO 3/18/15 
# SHIP: N.B. Palmer 
# Cruise: P16S; NBP1403 
# Region: S. Central Pacific on 150W 
# EXPOCODE: 320620140320 
# DATES: Mar. 20 - May 5, 2014 
# Chief Scientist: L. Talley/B.Carter 
# 90 stations with 36 place Rosette 
# Hydro: Who - J.Swift; Status - final 
#       Notes:   
# Nutrients: Who - J.Swift; Status - final 
#       Notes: 
# O2: Who - J.Swift; Status - final 
#       Notes: 
# TCO2: Who - R.Feely; Status - final 
#       Notes:  
# TA: Who - A.Dickson; Status - final 
#       Notes: data from Dickson via CDIAC 4/30/15 
# pH: Who - A.Dickson; Status - final 
#       Notes: data from Dickson via CDIAC 4/30/15 
#       Total H+ scale at 20C 
# CFC: Who - M.Warner; Status - preliminary 
#       Notes: includes SF6 and N2O 
# C14/C13: Who - R.Key,A.McNichol; Status - final 
#       Notes: Data from NOSAMS 1/7/16 
# DOC/TDN: Who - C.Carlson; Status - final
#       Notes:  
# H3/He3: Who - ; Status - being processed 
#       Notes:  
# Other: Who - ; Status - 
#       Notes:  
# Floats:       Who - SOCCOM; Status - launched 
#       Notes: FloatID(launch station) 
#       6091(1), 7557(2), 7567(3), 7613(4), 7614(5), 9091(11), 9092(17), 
#       9031(27), 9018(32), 9095(37), 9101(45), 9254(53) 
# References that have used data from this cruise: 
#
# DATA CITATION
#| CCHDO Citation Information
#|
#| Please cite data downloaded from CCHDO as: 
#| [Data providers of the parameter(s) used]. [Year of file access]. [CTD/Bottle] data from cruise [expocode], 
#| [format version used]. Accessed from CCHDO [url of cruise data page]. Access date [date of download].
#| [Applicable CCHDO cruise DOI if provided].
#|
#| For example: 
#| Swift, J. and Becker, S. 2019. CTD data from Cruise 33RR20160321, exchange version. Accessed from CCHDO 
#| https://cchdo.ucsd.edu/cruise/33RR20160321. Access date 2019-08-21. CCHDO cruise DOI: 10.7942/C2008W
#|
#| Information on the scientists who provided the different parameters can be found in the cruise report. 
#| Additionally, for US GO-SHIP cruises, this information is usually in the comments section in the text headers 
#| of the Exchange bottle files.
#|
#| Users are also encouraged to acknowledge the funding program that supported the data collection in their publication. 
#| For US GO-SHIP data this is the NSF/NOAA funded U.S Repeat Hydrography Program.
#|
#| For data citation, please use the data providers listed below. 
#|
# Principal Investigators for US-Repeat Hydrography(GO-SHIP) P16S 
# 
# Program                       Affiliation    Principal Investigator  email
# ----------------------------  -------------  ----------------------  ---------------------------
# CTDO/Rosette, Nutrients, O2,  UCSD/SIO       Lynne Talley            ltalley@ucsd.edu
# Salinity, Data Management     UCSD/SIO       James H. Swift          jswift@ucsd.edu
# Transmissometer               TAMU           Wilf Gardner            wgardner@ocean.tamu.edu
# ADCP , LADCP                  U Hawaii       Eric Firing             efiring@soest.hawaii.edu
# Chipod (T variance)           OSU            Jonathan Nash           nash@coas.oregonstate.edu
#                               OSU            James Moum              moum@coas.oregonstate.edu
#                               UCSD/SIO       Jennifer Mackinnon      jmackinn@ucsd.edu
# CFCs , SF6, N2O               U Washington   Mark Warner             mwarner@uw.edu
# 3He , 3H                      LDEO           Peter Schlosser         schlosser@ldeo.columbia.edu
# DIC (Total CO2)               NOAA/PMEL      Richard Feely           Richard.A.Feely@noaa.gov
# pH , Total Alkalinity         UCSD/SIO       Andrew Dickson          adickson@ucsd.edu
# DOC , TDN                     UCSB           Craig Carlson           carlson@lifesci.ucsb.edu
# Radiocarbons (13C , 14C)      WHOI           Ann McNichol            amcnichol@whoi.edu
#                               Princeton      Robert Key              key@princeton.edu
# D15N-NO3 , D18O-NO3           Princeton      Daniel Sigman           sigman@princeton.edu
# Dissolved Calcium             UCSD/SIO       Todd Martz              trmartz@ucsd.edu
# D30Si                         Princeton      Greg de Souza           gfds@princeton.edu
# Pigments HPLC                 NASA           Joaquin Chaves Cedeno   joaquin.e.chavescedeno@nasa.gov
# CDOM                          NASA           Joaquin Chaves Cedeno   joaquin.e.chavescedeno@nasa.gov
#                               UCSB           Norm Nelson             norm.nelson@ucsb.edu
# IOP Cage                      NASA           Joaquin Chaves Cedeno   joaquin.e.chavescedeno@nasa.gov
# Hyperpro "Javelin"   
# Biogeochemical Floats         Pre-SOCCOM/UW  Stephen Riser           riser@ocean.washington.edu
#                               MBARI          Ken Johnson             johnson@mbari.org
# Surface Drifters              GDP/NOAA/AOML  Shaun Dolk              shaun.dolk@noaa.gov
# pCO2 Underway Data            LDEO           Taro Takahashi          Takahashi@ldeo.columbia.edu
#                               NOAA/AOML      Rik Wanninkhof          rik.wanninkhof@noaa.gov
# Ship's Underway Data          USAP           Joe Tarnow              Joe.Tarnow.Contractor@usap.gov
#                               USAP           Bryan Chambers          Bryan.Chambers.Contractor@nbp.usap.gov
#
EXPOCODE,SECT_ID,STNNBR,CASTNO,SAMPNO,BTLNBR,BTLNBR_FLAG_W,DATE,TIME,LATITUDE,LONGITUDE,DEPTH,CTDPRS,CTDTMP,CTDSAL,CTDSAL_FLAG_W,SALNTY,SALNTY_FLAG_W,CTDOXY,CTDOXY_FLAG_W,OXYGEN,OXYGEN_FLAG_W,SILCAT,SILCAT_FLAG_W,NITRAT,NITRAT_FLAG_W,NITRIT,NITRIT_FLAG_W,PHSPHT,PHSPHT_FLAG_W,CFC-11,CFC-11_FLAG_W,CFC-12,CFC-12_FLAG_W,SF6,SF6_FLAG_W,TCARBN,TCARBN_FLAG_W,ALKALI,ALKALI_FLAG_W,PH_TOT,PH_TOT_FLAG_W,PH_TMP,TRITUM,TRITUM_FLAG_W,HELIUM,HELIUM_FLAG_W,DELHE3,DELHE3_FLAG_W,REFTMP,REFTMP_FLAG_W,DELC13,DELC13_FLAG_W,DELC14,DELC14_FLAG_W,DELO18,DELO18_FLAG_W,DOC,DOC_FLAG_W,TDN,TDN_FLAG_W,N2O,N2O_FLAG_W,CALCIUM,CALCIUM_FLAG_W,D15N_NO3,D15N_NO3_FLAG_W,BTL_DATE,BTL_TIME,BTL_LAT,BTL_LON,SALTREF,SALTREF_FLAG_W,D18O_NO3,D18O_NO3_FLAG_W,DSI30,DSI30_FLAG_W,CDOM_NASA,CDOM_NASA_FLAG_W,CDOM_UCSB,CDOM_UCSB_FLAG_W,D15N_NO2+NO3,D15N_NO2+NO3_FLAG_W,D18O_NO2+NO3,D18O_NO2+NO3_FLAG_W
,,,,,,,,,,,METERS,DBAR,ITS-90,PSS-78,,PSS-78,,UMOL/KG,,UMOL/KG,,UMOL/KG,,UMOL/KG,,UMOL/KG,,UMOL/KG,,PMOL/KG,,PMOL/KG,,FMOL/KG,,UMOL/KG,,UMOL/KG,,,,DEG C,TU,,NMOL/KG,,PERCNT,,DEG C,,/MILLE,,/MILLE,,/MILLE,,UMOL/KG,,UMOL/KG,,NMOL/KG,,MMOL/KG,,/MILLE,,,,,,G/KG,,/MILLE,,/MILLE,,,,,,/MILLE,,/MILLE,
320620140320,       P16S,       1,          2,         33,         33,2,20140326,       1011,   -60.0002,   174.0017,       4534,    26.7,   5.1642,  33.7827,2,-999.0000,9,   -999.0,9,  -999.0,9, -999.00,9, -999.00,9, -999.00,9, -999.00,9,-999.000,9,-999.000,9, -999.00,9,  -999.0,9,  -999.0,9,-999.0000,9,  -999.00,-999.000,9,-999.0000,9, -999.00,9,   5.1635,2, -999.00,9,  -999.0,9, -999.00,9,  -999.0,9, -999.00,9,     -999.0,9,     -999.0,9, -999.00,9, 20140326,     1202, -59.9993, 174.0019,     -999.0,9,     -999.0,9,     -999.0,9,     -999.0,1,     -999.0,9,     -999.0,9,     -999.0,9
320620140320,       P16S,       1,          2,         34,         34,2,20140326,       1011,   -60.0002,   174.0017,       4534,    27.8,   5.1644,  33.7827,2,  33.7830,2,    304.2,2,   305.2,2,    4.40,2,   22.46,2,    0.22,2,    1.58,2,   4.528,6,   2.748,6,    2.58,6,  2126.2,2,  2271.4,2,   7.8327,2,       20,-999.000,9,-999.0000,9, -999.00,9,   5.1641,2, -999.00,9,  -999.0,9, -999.00,9,    49.1,2,   26.04,2,      14.24,6,     -999.0,9, -999.00,9, 20140326,     1202, -59.9993, 174.0019,    33.9423,2,     -999.0,9,     -999.0,9,     -999.0,9,     -999.0,9,     -999.0,9,     -999.0,9
320620140320,       P16S,       1,          2,         32,         32,2,20140326,       1011,   -60.0002,   174.0017,       4534,    75.1,   5.1630,  33.7830,2,  33.7824,2,    295.3,4,   305.6,2,    4.30,2,   22.53,2,    0.22,2,    1.58,2,   4.557,3,   2.736,3,    2.56,3,  2126.4,2,  2270.7,2,   7.8283,2,       20,-999.000,9,-999.0000,9, -999.00,9,   5.1610,2, -999.00,9,  -999.0,9, -999.00,9,    44.5,2,   26.18,2,      13.58,3,     -999.0,9, -999.00,9, 20140326,     1200, -59.9992, 174.0018,    33.9417,2,     -999.0,9,     -999.0,9,     -999.0,9,     -999.0,9,     -999.0,9,     -999.0,9
320620140320,       P16S,       1,          2,         31,         31,2,20140326,       1011,   -60.0002,   174.0017,       4534,    99.6,   4.8899,  33.7683,2,  33.7824,2,    304.4,4,   306.8,2,    5.18,2,   23.01,2,    0.22,2,    1.64,2,-999.000,9,-999.000,9, -999.00,9,  2130.7,2,    2270,2,   7.8162,2,       20,-999.000,9,-999.0000,9, -999.00,9,   4.8656,2, -999.00,9,  -999.0,9, -999.00,9,    42.8,2,   25.93,2,     -999.0,9,     -999.0,9, -999.00,9, 20140326,     1158, -59.9993, 174.0019,    33.9417,2,     -999.0,9,     -999.0,9,     -999.0,9,     -999.0,9,     -999.0,9,     -999.0,9
320620140320,       P16S,       1,          2,         29,         29,2,20140326,       1011,   -60.0002,   174.0017,       4534,   144.8,   3.6097,  33.8706,2,-999.0000,9,   -999.0,9,  -999.0,9, -999.00,9, -999.00,9, -999.00,9, -999.00,9,-999.000,9,-999.000,9, -999.00,9,  -999.0,9,  -999.0,9,-999.0000,9,  -999.00,-999.000,9,-999.0000,9, -999.00,9,   3.6081,2, -999.00,9,  -999.0,9, -999.00,9,  -999.0,9, -999.00,9,     -999.0,9,     -999.0,9, -999.00,9, 20140326,     1156, -59.9993, 174.0019,     -999.0,9,     -999.0,9,     -999.0,9,     -999.0,1,     -999.0,9,     -999.0,9,     -999.0,9
320620140320,       P16S,       1,          2,         30,         30,2,20140326,       1011,   -60.0002,   174.0017,       4534,   145.2,   3.6045,  33.8707,2,  33.8729,2,    302.4,4,   303.8,2,    9.18,2,   25.06,2,    0.33,2,    1.84,2,   4.925,2,   2.961,2,    2.59,2,  2146.1,2,  2274.4,2,   7.7787,2,       20,-999.000,9,-999.0000,9, -999.00,9,   3.6036,2, -999.00,9,  -999.0,9, -999.00,9,    44.3,2,   28.43,2,      15.32,2,     -999.0,9, -999.00,9, 20140326,     1156, -59.9993, 174.0020,    34.0326,2,     -999.0,9,     -999.0,9,     -999.0,9,     -999.0,9,     -999.0,9,     -999.0,9
320620140320,       P16S,       1,          2,         28,         28,2,20140326,       1011,   -60.0002,   174.0017,       4534,   191.2,   2.9224,  33.9166,2,  33.9021,2,    303.2,4,   300.5,2,   13.09,2,   26.82,2,    0.00,2,    1.90,2,-999.000,9,-999.000,9, -999.00,9,  2154.4,2,  2275.8,3,   7.7564,2,       20,-999.000,9,-999.0000,9, -999.00,9,   2.9212,2, -999.00,9,  -999.0,9, -999.00,9,    43.2,2,   29.33,2,     -999.0,9,     -999.0,9, -999.00,9, 20140326,     1154, -59.9994, 174.0020,    34.0619,2,     -999.0,9,     -999.0,9,     -999.0,9,     -999.0,9,     -999.0,9,     -999.0,9
320620140320,       P16S,       1,          2,         27,         27,2,20140326,       1011,   -60.0002,   174.0017,       4534,   239.5,   3.0895,  33.9884,2,  33.9916,2,    252.8,4,   282.0,2,   16.89,2,   27.71,2,    0.00,2,    1.95,2,   4.600,2,   2.726,2,    1.81,2,  2165.3,2,  2278.6,2,   7.7425,2,       20,-999.000,9,-999.0000,9, -999.00,9,   3.0778,2, -999.00,9,  -999.0,9, -999.00,9,    41.4,2,   31.81,2,      17.09,2,     -999.0,9, -999.00,9, 20140326,     1152, -59.9995, 174.0021,    34.1518,2,     -999.0,9,     -999.0,9,     -999.0,9,     -999.0,9,     -999.0,9,     -999.0,9
320620140320,       P16S,       1,          2,         26,         26,2,20140326,       1011,   -60.0002,   174.0017,       4534,   289.8,   3.2553,  34.1078,2,  34.1076,2,    256.0,2,   256.3,2,   23.63,2,   29.33,2,    0.00,2,    2.06,2,-999.000,9,-999.000,9, -999.00,9,  2180.2,2,  2289.4,2,   7.7131,2,       20,-999.000,9,-999.0000,9, -999.00,9,   3.2640,2, -999.00,9,  -999.0,9, -999.00,9,    42.7,2,   31.75,2,     -999.0,9,     -999.0,9, -999.00,9, 20140326,     1151, -59.9997, 174.0021,    34.2684,2,     -999.0,9,     -999.0,9,     -999.0,9,     -999.0,9,     -999.0,9,     -999.0,9
320620140320,       P16S,       1,          2,         25,         25,2,20140326,       1011,   -60.0002,   174.0017,       4534,   339.4,   3.1261,  34.1384,2,  34.1375,2,    249.8,2,   248.9,2,   27.24,2,   30.17,2,    0.00,2,    2.12,2,-999.000,9,-999.000,9, -999.00,9,  -999.0,9,  -999.0,9,-999.0000,9,  -999.00,-999.000,9,-999.0000,9, -999.00,9,   3.1223,2, -999.00,9,  -999.0,9, -999.00,9,    41.2,2,   33.74,2,     -999.0,9,     -999.0,9, -999.00,9, 20140326,     1149, -60.0000, 174.0019,    34.2985,2,     -999.0,9,     -999.0,9,     -999.0,9,     -999.0,9,     -999.0,9,     -999.0,9
320620140320,       P16S,       1,          2,         24,         24,2,20140326,       1011,   -60.0002,   174.0017,       4534,   391.0,   3.1875,  34.1935,2,  34.1958,2,    234.0,2,   235.0,2,   31.44,2,   31.00,2,    0.00,2,    2.16,2,   3.438,2,   1.909,2,    1.26,2,  2195.8,6,  2294.3,2,   7.6835,2,       20,-999.000,9,-999.0000,9, -999.00,9,   3.1944,2, -999.00,9,  -999.0,9, -999.00,9,    40.7,2,   34.48,2,      21.43,2,     -999.0,9, -999.00,9, 20140326,     1147, -60.0002, 174.0019,    34.3570,2,     -999.0,9,     -999.0,9,     -999.0,9,     -999.0,9,     -999.0,9,     -999.0,9
320620140320,       P16S,       1,          2,         23,         23,2,20140326,       1011,   -60.0002,   174.0017,       4534,   470.8,   3.3447,  34.2883,2,  34.2882,2,    210.7,2,   211.4,2,   39.44,2,   32.30,2,    0.00,2,    2.25,2,-999.000,9,-999.000,9, -999.00,9,  2210.5,2,    2301,6,   7.6634,2,       20,-999.000,9,-999.0000,9, -999.00,9,   3.3454,2, -999.00,9,  -999.0,9, -999.00,9,    42.4,2,   36.61,2,     -999.0,9,     -999.0,9, -999.00,9, 20140326,     1145, -60.0004, 174.0019,    34.4498,2,     -999.0,9,     -999.0,9,     -999.0,9,     -999.0,9,     -999.0,9,     -999.0,9
320620140320,       P16S,       1,          2,         22,         22,2,20140326,       1011,   -60.0002,   174.0017,       4534,   573.0,   2.7734,  34.2918,2,  34.2938,2,    209.1,2,   210.4,2,   46.08,2,   33.25,2,    0.00,2,    2.31,2,-999.000,9,-999.000,9, -999.00,9,  2220.2,2,    2304,2,   7.6477,2,       20,-999.000,9,-999.0000,9, -999.00,9,   2.7716,2, -999.00,9,  -999.0,9, -999.00,9,    41.4,2,   38.62,2,     -999.0,9,     -999.0,9, -999.00,9, 20140326,     1143, -60.0005, 174.0019,    34.4556,2,     -999.0,9,     -999.0,9,     -999.0,9,     -999.0,9,     -999.0,9,     -999.0,9
320620140320,       P16S,       1,          2,         21,         21,2,20140326,       1011,   -60.0002,   174.0017,       4534,   673.8,   2.7327,  34.3717,2,  34.3725,2,    193.2,2,   193.8,2,   54.38,2,   34.16,2,    0.00,2,    2.39,2,   1.861,2,   1.050,2,    0.54,2,  2232.7,2,  2310.9,2,   7.6347,2,       20,-999.000,9,-999.0000,9, -999.00,9,   2.7335,2, -999.00,9,  -999.0,9, -999.00,9,    39.9,2, -999.00,9,      25.17,2,     -999.0,9, -999.00,9, 20140326,     1140, -60.0004, 174.0020,    34.5346,2,     -999.0,9,     -999.0,9,     -999.0,9,     -999.0,9,     -999.0,9,     -999.0,9
320620140320,       P16S,       1,          2,         20,         20,2,20140326,       1011,   -60.0002,   174.0017,       4534,   774.7,   2.5982,  34.4432,2,  34.4428,2,    182.5,2,   183.8,2,   62.19,2,   34.58,2,    0.00,2,    2.40,2,-999.000,9,-999.000,9, -999.00,9,  2243.8,2,  2321.2,2,    7.626,2,       20,-999.000,9,-999.0000,9, -999.00,9,   2.5980,2, -999.00,9,  -999.0,9, -999.00,9,    39.3,2, -999.00,9,     -999.0,9,     -999.0,9, -999.00,9, 20140326,     1138, -60.0001, 174.0019,    34.6052,2,     -999.0,9,     -999.0,9,     -999.0,9,     -999.0,9,     -999.0,9,     -999.0,9
320620140320,       P16S,       1,          2,         19,         19,2,20140326,       1011,   -60.0002,   174.0017,       4534,   873.2,   2.6494,  34.5263,2,  34.5245,2,    175.7,2,   176.9,2,   67.75,2,   34.04,2,    0.00,2,    2.40,2,   0.805,2,   0.466,2,    0.13,2,  2249.1,2,  2329.8,2,   7.6318,2,       20,-999.000,9,-999.0000,9, -999.00,9,   2.6501,2, -999.00,9,  -999.0,9, -999.00,9,    39.8,2, -999.00,9,      25.20,2,     -999.0,9, -999.00,9, 20140326,     1135, -59.9997, 174.0017,    34.6872,2,     -999.0,9,     -999.0,9,     -999.0,9,     -999.0,9,     -999.0,9,     -999.0,9
320620140320,       P16S,       1,          2,         18,         18,2,20140326,       1011,   -60.0002,   174.0017,       4534,   973.4,   2.4988,  34.5676,2,  34.5671,2,    173.8,2,   174.6,2,   71.84,2,   34.02,2,    0.00,2,    2.39,2,-999.000,9,-999.000,9, -999.00,9,  2251.8,2,  2333.1,2,   7.6279,2,       20,-999.000,9,-999.0000,9, -999.00,9,   2.4989,2, -999.00,9,  -999.0,9, -999.00,9,    39.6,2, -999.00,9,     -999.0,9,     -999.0,9, -999.00,9, 20140326,     1133, -59.9997, 174.0017,    34.7301,2,     -999.0,9,     -999.0,9,     -999.0,9,     -999.0,9,     -999.0,9,     -999.0,9
320620140320,       P16S,       1,          2,         17,         17,2,20140326,       1011,   -60.0002,   174.0017,       4534,  1074.3,   2.4146,  34.5996,2,  34.6001,2,    173.7,2,   174.3,2,   74.58,2,   33.84,2,    0.00,2,    2.37,2,-999.000,5,-999.000,5, -999.00,5,  2253.1,2,  2334.2,2,   7.6295,2,       20,-999.000,9,-999.0000,9, -999.00,9,   2.4142,2, -999.00,9,  -999.0,9, -999.00,9,      40,2, -999.00,9,     -999.0,5,     -999.0,9, -999.00,9, 20140326,     1131, -59.9995, 174.0016,    34.7632,2,     -999.0,9,     -999.0,9,     -999.0,9,     -999.0,9,     -999.0,9,     -999.0,9
320620140320,       P16S,       1,          2,         16,         16,2,20140326,       1011,   -60.0002,   174.0017,       4534,  1170.5,   2.3928,  34.6225,2,  34.6293,3,    174.6,2,   174.9,2,   75.75,2,   33.47,2,    0.00,2,    2.34,2,-999.000,9,-999.000,9, -999.00,9,  -999.0,9,  -999.0,9,-999.0000,9,  -999.00,-999.000,9,-999.0000,9, -999.00,9,   2.3920,2, -999.00,9,  -999.0,9, -999.00,9,      40,2, -999.00,9,     -999.0,9,     -999.0,9, -999.00,9, 20140326,     1128, -59.9994, 174.0016,    34.7926,3,     -999.0,9,     -999.0,9,     -999.0,9,     -999.0,9,     -999.0,9,     -999.0,9
320620140320,       P16S,       1,          2,         15,         15,2,20140326,       1011,   -60.0002,   174.0017,       4534,  1274.6,   2.3125,  34.6502,2,  34.6502,2,    176.2,2,   176.1,2,   77.89,2,   33.09,2,    0.00,2,    2.32,2,   0.420,2,   0.251,2,    0.12,2,  2253.6,2,  2339.7,2,   7.6315,2,       20,-999.000,9,-999.0000,9, -999.00,9,   2.3126,2, -999.00,9,  -999.0,9, -999.00,9,    39.9,2, -999.00,9,      24.53,2,     -999.0,9, -999.00,9, 20140326,     1125, -59.9996, 174.0016,    34.8136,2,     -999.0,9,     -999.0,9,     -999.0,9,     -999.0,9,     -999.0,9,     -999.0,9