BOTTLE,20230715CCHSIOCBG
EXPOCODE,SECT_ID,STNNBR,CASTNO,SAMPNO,BTLNBR,BTLNBR_FLAG_W,DATE,TIME,LATITUDE,LONGITUDE,DEPTH,CTDPRS,CTDTMP,CTDSAL,CTDSAL_FLAG_W,SALNTY,SALNTY_FLAG_W,CTDOXY,CTDOXY_FLAG_W,OXYGEN,OXYGEN_FLAG_W,SILCAT,SILCAT_FLAG_W,NITRAT,NITRAT_FLAG_W,NITRIT,NITRIT_FLAG_W,PHSPHT,PHSPHT_FLAG_W,CFC-11,CFC-11_FLAG_W,CFC-12,CFC-12_FLAG_W,SF6,SF6_FLAG_W,TCARBN,TCARBN_FLAG_W,ALKALI,ALKALI_FLAG_W,PH_TOT,PH_TOT_FLAG_W,PH_TMP,TRITUM,TRITUM_FLAG_W,HELIUM,HELIUM_FLAG_W,DELHE3,DELHE3_FLAG_W,REFTMP,REFTMP_FLAG_W,DELC13,DELC13_FLAG_W,DELC14,DELC14_FLAG_W,DELO18,DELO18_FLAG_W,DOC,DOC_FLAG_W,TDN,TDN_FLAG_W,N2O,N2O_FLAG_W,CALCIUM,CALCIUM_FLAG_W,D15N_NO3,D15N_NO3_FLAG_W,BTL_DATE,BTL_TIME,BTL_LAT,BTL_LON,SALTREF,SALTREF_FLAG_W,D18O_NO3,D18O_NO3_FLAG_W,DSI30,DSI30_FLAG_W,CDOM_NASA,CDOM_NASA_FLAG_W,CDOM_UCSB,CDOM_UCSB_FLAG_W,D15N_NO2+NO3,D15N_NO2+NO3_FLAG_W,D18O_NO2+NO3,D18O_NO2+NO3_FLAG_W
,,,,,,,,,,,METERS,DBAR,ITS-90,PSS-78,,PSS-78,,UMOL/KG,,UMOL/KG,,UMOL/KG,,UMOL/KG,,UMOL/KG,,UMOL/KG,,PMOL/KG,,PMOL/KG,,FMOL/KG,,UMOL/KG,,UMOL/KG,,,,DEG C,TU,,NMOL/KG,,PERCNT,,DEG C,,/MILLE,,/MILLE,,/MILLE,,UMOL/KG,,UMOL/KG,,NMOL/KG,,MMOL/KG,,/MILLE,,,,,,G/KG,,/MILLE,,/MILLE,,,,,,/MILLE,,/MILLE,
320620140320,       P16S,      43,          3,         36,         36,2,20140417,       0237,   -46.3333,  -149.9997,       5246,     4.8,  13.9444,  34.3794,2,  34.3794,2,    258.0,2,   258.7,2,    0.20,2,    5.20,2,    0.09,2,    0.48,2,   2.848,2,   1.630,2,    1.87,2,  2058.7,2,  2278.6,2,   7.9879,2,       20,-999.000,9,-999.0000,9, -999.00,9,  13.9428,2, -999.00,9,  -999.0,9, -999.00,9,  -999.0,9, -999.00,9,       9.21,2,     -999.0,1, -999.00,1, 20140417,      509, -46.3334,-149.9997,    34.5415,2,     -999.0,1,     -999.0,9,     -999.0,9,     -999.0,9,     -999.0,1,     -999.0,1
320620140320,       P16S,      43,          3,         35,         35,2,20140417,       0237,   -46.3333,  -149.9997,       5246,    23.7,  13.9067,  34.3907,2,  34.3906,2,    259.5,2,   258.8,2,    0.20,2,    5.19,2,    0.09,2,    0.49,2,   2.862,2,   1.619,2,    1.73,2,  2058.8,2,  2279.6,2,   7.9883,2,       20,-999.000,9,-999.0000,9, -999.00,9,  13.9070,2, -999.00,9,  -999.0,9, -999.00,9,  -999.0,9, -999.00,9,       9.40,2,     -999.0,9, -999.00,1, 20140417,      506, -46.3334,-149.9997,    34.5528,2,     -999.0,1,     -999.0,9,     -999.0,9,     -999.0,9,     -999.0,1,     -999.0,1
320620140320,       P16S,      43,          3,         34,         34,2,20140417,       0237,   -46.3333,  -149.9997,       5246,    23.7,  13.9075,  34.3909,2,-999.0000,9,   -999.0,9,  -999.0,9, -999.00,9, -999.00,9, -999.00,9, -999.00,9,-999.000,9,-999.000,9, -999.00,9,  -999.0,9,  -999.0,9,-999.0000,9,  -999.00,-999.000,9,-999.0000,9, -999.00,9,  13.9078,2, -999.00,9,  -999.0,9, -999.00,9,  -999.0,9, -999.00,9,     -999.0,9,     -999.0,9, -999.00,9, 20140417,      506, -46.3334,-149.9997,     -999.0,9,     -999.0,9,     -999.0,9,     -999.0,9,     -999.0,9,     -999.0,9,     -999.0,9
320620140320,       P16S,      43,          3,         33,         33,2,20140417,       0237,   -46.3333,  -149.9997,       5246,    48.1,  13.8616,  34.3989,2,  34.3990,2,    259.4,2,   258.5,2,    0.00,2,    5.17,2,    0.09,2,    0.49,2,   2.735,2,   1.639,2,    1.68,2,  2059.1,2,  2279.6,2,   7.9877,2,       20,-999.000,9,-999.0000,9, -999.00,9,  13.8638,2, -999.00,9,  -999.0,9, -999.00,9,  -999.0,9, -999.00,9,       9.40,2,     -999.0,9, -999.00,1, 20140417,      504, -46.3334,-149.9997,    34.5612,2,     -999.0,1,     -999.0,9,     -999.0,9,     -999.0,9,     -999.0,1,     -999.0,1
320620140320,       P16S,      43,          3,         32,         32,2,20140417,       0237,   -46.3333,  -149.9997,       5246,    48.4,  13.8615,  34.3987,2,-999.0000,9,   -999.0,9,  -999.0,9, -999.00,9, -999.00,9, -999.00,9, -999.00,9,-999.000,9,-999.000,9, -999.00,9,  -999.0,9,  -999.0,9,-999.0000,9,  -999.00,-999.000,9,-999.0000,9, -999.00,9,  13.8620,2, -999.00,9,  -999.0,9, -999.00,9,  -999.0,9, -999.00,9,     -999.0,9,     -999.0,9, -999.00,9, 20140417,      504, -46.3334,-149.9997,     -999.0,9,     -999.0,9,     -999.0,9,     -999.0,9,     -999.0,9,     -999.0,9,     -999.0,9
320620140320,       P16S,      43,          3,         31,         31,2,20140417,       0237,   -46.3333,  -149.9997,       5246,    74.0,  12.5574,  34.4319,2,  34.4322,2,    263.4,2,   263.7,2,    0.39,2,    6.28,2,    0.11,2,    0.58,2,   3.082,2,   1.781,2,    1.84,2,  2071.7,2,  2281.8,2,   7.9634,2,       20,-999.000,9,-999.0000,9, -999.00,9,  12.5859,2, -999.00,9,  -999.0,9, -999.00,9,  -999.0,9, -999.00,9,      10.27,2,     -999.0,9, -999.00,1, 20140417,      502, -46.3333,-149.9997,    34.5946,2,     -999.0,1,     -999.0,9,     -999.0,9,     -999.0,9,     -999.0,1,     -999.0,1
320620140320,       P16S,      43,          3,         30,         30,2,20140417,       0237,   -46.3333,  -149.9997,       5246,    99.4,   9.7334,  34.4660,2,  34.4678,2,    272.0,2,   271.8,2,    1.66,2,   10.15,2,    0.36,2,    0.85,2,   3.591,2,   2.004,2,    2.15,2,  2104.5,2,  2283.2,2,   7.8928,2,       20,-999.000,9,-999.0000,9, -999.00,9,   9.7199,2, -999.00,9,  -999.0,9, -999.00,9,  -999.0,9, -999.00,9,      13.17,2,     -999.0,1, -999.00,1, 20140417,      500, -46.3334,-149.9997,    34.6303,2,     -999.0,1,     -999.0,1,     -999.0,9,     -999.0,9,     -999.0,1,     -999.0,1
320620140320,       P16S,      43,          3,         29,         29,2,20140417,       0237,   -46.3333,  -149.9997,       5246,   150.4,   8.6813,  34.4939,2,  34.4935,2,    261.5,2,   260.2,2,    2.74,2,   14.28,2,    0.02,2,    1.03,2,   3.661,6,   2.029,6,    1.77,6,  2120.7,2,    2281,2,   7.8492,2,       20,-999.000,9,-999.0000,9, -999.00,9,   8.6784,2, -999.00,9,  -999.0,9, -999.00,9,  -999.0,9, -999.00,9,      13.73,6,     -999.0,9, -999.00,1, 20140417,      458, -46.3333,-149.9997,    34.6561,2,     -999.0,1,     -999.0,1,     -999.0,9,     -999.0,9,     -999.0,1,     -999.0,1
320620140320,       P16S,      43,          3,         28,         28,2,20140417,       0237,   -46.3333,  -149.9997,       5246,   199.5,   8.4802,  34.5062,2,  34.5053,2,    255.4,2,   252.8,2,    3.32,2,   16.01,2,    0.01,2,    1.11,2,   3.731,2,   2.015,2,    1.89,2,  2127.9,2,  2282.4,2,   7.8313,2,       20,-999.000,9,-999.0000,9, -999.00,9,   8.4807,2, -999.00,9,  -999.0,9, -999.00,9,  -999.0,9, -999.00,9,      15.48,2,     -999.0,9, -999.00,1, 20140417,      455, -46.3333,-149.9997,    34.6680,2,     -999.0,1,     -999.0,1,     -999.0,9,     -999.0,9,     -999.0,1,     -999.0,1
320620140320,       P16S,      43,          3,         27,         27,2,20140417,       0237,   -46.3333,  -149.9997,       5246,   248.8,   8.2915,  34.4947,2,  34.4945,2,    251.7,2,   252.2,2,    3.91,2,   16.89,2,    0.01,2,    1.18,2,   3.722,2,   2.076,2,    2.04,2,  2131.7,6,    2282,2,   7.8254,2,       20,-999.000,9,-999.0000,9, -999.00,9,   8.2940,2, -999.00,9,  -999.0,9, -999.00,9,  -999.0,9, -999.00,9,      15.94,2,     -999.0,1, -999.00,1, 20140417,      452, -46.3333,-149.9997,    34.6571,2,     -999.0,1,     -999.0,9,     -999.0,9,     -999.0,9,     -999.0,1,     -999.0,1
320620140320,       P16S,      43,          3,         26,         26,2,20140417,       0237,   -46.3333,  -149.9997,       5246,   299.5,   8.1348,  34.4786,2,  34.4776,2,    252.7,2,   252.9,2,    4.10,2,   17.41,2,    0.01,2,    1.21,2,   3.842,2,   2.045,2,    1.74,2,  2133.1,2,  2282.2,6,   7.8215,2,       20,-999.000,9,-999.0000,9, -999.00,9,   8.1329,2, -999.00,9,  -999.0,9, -999.00,9,  -999.0,9, -999.00,9,      16.16,2,     -999.0,9, -999.00,1, 20140417,      450, -46.3333,-149.9997,    34.6402,2,     -999.0,1,     -999.0,1,     -999.0,9,     -999.0,9,     -999.0,1,     -999.0,1
320620140320,       P16S,      43,          3,         25,         25,2,20140417,       0237,   -46.3333,  -149.9997,       5246,   349.9,   7.9307,  34.4574,2,  34.4558,2,    253.5,2,   254.0,2,    4.30,2,   18.11,2,    0.01,2,    1.24,2,   3.855,2,   2.093,2,    1.88,2,    2135,2,  2281.2,2,   7.8186,2,       20,-999.000,9,-999.0000,9, -999.00,9,   7.9317,2, -999.00,9,  -999.0,9, -999.00,9,  -999.0,9, -999.00,9,      15.53,2,     -999.0,9, -999.00,1, 20140417,      447, -46.3333,-149.9997,    34.6183,2,     -999.0,1,     -999.0,9,     -999.0,9,     -999.0,9,     -999.0,1,     -999.0,1
320620140320,       P16S,      43,          3,         24,         24,2,20140417,       0237,   -46.3333,  -149.9997,       5246,   400.4,   7.7731,  34.4404,2,  34.4399,2,    254.5,2,   254.9,2,    4.69,2,   18.60,2,    0.01,2,    1.28,2,   3.880,2,   2.065,2,    1.66,2,  2136.7,2,  2281.4,2,   7.8156,6,       20,-999.000,9,-999.0000,9, -999.00,9,   7.7729,2, -999.00,9,  -999.0,9, -999.00,9,  -999.0,9, -999.00,9,      15.08,2,     -999.0,9, -999.00,1, 20140417,      445, -46.3333,-149.9997,    34.6023,2,     -999.0,1,     -999.0,1,     -999.0,9,     -999.0,9,     -999.0,1,     -999.0,1
320620140320,       P16S,      43,          3,         23,         23,2,20140417,       0237,   -46.3333,  -149.9997,       5246,   499.2,   7.4452,  34.4083,2,  34.4093,2,    251.7,2,   252.2,2,    5.67,2,   19.95,2,    0.01,2,    1.36,2,   3.872,2,   2.070,2,    1.63,2,  2138.6,2,  2280.8,2,   7.8055,2,       20,-999.000,9,-999.0000,9, -999.00,9,   7.4486,2, -999.00,9,  -999.0,9, -999.00,9,  -999.0,9, -999.00,9,      15.65,2,     -999.0,1, -999.00,1, 20140417,      442, -46.3333,-149.9997,    34.5716,2,     -999.0,1,     -999.0,1,     -999.0,9,     -999.0,9,     -999.0,1,     -999.0,1
320620140320,       P16S,      43,          3,         22,         22,2,20140417,       0237,   -46.3333,  -149.9997,       5246,   599.6,   7.1653,  34.3909,2,  34.3909,2,    246.2,2,   245.6,2,    6.94,2,   21.48,2,    0.01,2,    1.45,2,-999.000,9,-999.000,9, -999.00,9,    2144,2,  2280.6,2,   7.7925,2,       20,-999.000,9,-999.0000,9, -999.00,9,   7.1660,2, -999.00,9,  -999.0,9, -999.00,9,  -999.0,9, -999.00,9,     -999.0,9,     -999.0,9, -999.00,1, 20140417,      439, -46.3333,-149.9997,    34.5530,2,     -999.0,1,     -999.0,9,     -999.0,9,     -999.0,9,     -999.0,1,     -999.0,1
320620140320,       P16S,      43,          3,         21,         21,2,20140417,       0237,   -46.3333,  -149.9997,       5246,   698.2,   6.7406,  34.3535,2,  34.3530,2,    244.4,2,   243.6,2,    8.79,2,   22.83,2,    0.01,2,    1.55,2,   3.611,2,   1.870,2,    1.29,2,  2148.4,2,    2282,2,   7.7811,2,       20,-999.000,9,-999.0000,9, -999.00,9,   6.7430,2, -999.00,9,  -999.0,9, -999.00,9,  -999.0,9, -999.00,9,      15.51,2,     -999.0,1, -999.00,1, 20140417,      436, -46.3334,-149.9997,    34.5150,2,     -999.0,1,     -999.0,1,     -999.0,9,     -999.0,9,     -999.0,1,     -999.0,1
320620140320,       P16S,      43,          3,         20,         20,2,20140417,       0237,   -46.3333,  -149.9997,       5246,   796.6,   6.4026,  34.3353,2,  34.3356,2,    236.3,2,   236.3,2,   10.94,2,   24.18,2,    0.01,2,    1.64,2,   3.286,2,   1.742,2,    0.83,2,  2154.3,2,    2281,2,   7.7665,2,       20,-999.000,9,-999.0000,9, -999.00,9,   6.4037,2, -999.00,9,  -999.0,9, -999.00,9,  -999.0,9, -999.00,9,      17.23,2,     -999.0,9, -999.00,1, 20140417,      432, -46.3334,-149.9997,    34.4975,2,     -999.0,1,     -999.0,9,     -999.0,9,     -999.0,9,     -999.0,1,     -999.0,1
320620140320,       P16S,      43,          3,         19,         19,2,20140417,       0237,   -46.3333,  -149.9997,       5246,   899.6,   5.9424,  34.3216,2,  34.3224,2,    226.4,2,   226.2,2,   15.05,2,   26.01,2,    0.01,2,    1.76,2,   3.015,2,   1.518,2,    0.68,2,  2164.9,2,  2284.2,2,   7.7453,2,       20,-999.000,9,-999.0000,9, -999.00,9,   5.9406,2, -999.00,9,  -999.0,9, -999.00,9,  -999.0,9, -999.00,9,      17.80,2,     -999.0,9, -999.00,1, 20140417,      430, -46.3334,-149.9997,    34.4843,2,     -999.0,1,     -999.0,1,     -999.0,9,     -999.0,9,     -999.0,1,     -999.0,1
320620140320,       P16S,      43,          3,         18,         18,2,20140417,       0237,   -46.3333,  -149.9997,       5246,  1000.2,   5.4327,  34.3175,2,  34.3177,2,    216.6,2,   216.7,2,   20.42,2,   27.92,2,    0.00,2,    1.89,2,-999.000,9,-999.000,9, -999.00,9,    2176,2,  2285.8,2,   7.7213,2,       20,-999.000,9,-999.0000,9, -999.00,9,   5.4316,2, -999.00,9,  -999.0,9, -999.00,9,  -999.0,9, -999.00,9,     -999.0,9,     -999.0,1, -999.00,1, 20140417,      426, -46.3333,-149.9997,    34.4796,2,     -999.0,1,     -999.0,9,     -999.0,9,     -999.0,9,     -999.0,1,     -999.0,1
320620140320,       P16S,      43,          3,         17,         17,2,20140417,       0237,   -46.3333,  -149.9997,       5246,  1098.8,   4.8672,  34.3215,2,  34.3211,2,    208.4,2,   208.7,2,   26.97,2,   29.72,2,    0.00,2,    2.00,2,   2.135,2,   1.097,2,    0.37,2,  2188.3,2,  2293.6,2,   7.6986,2,       20,-999.000,9,-999.0000,9, -999.00,9,   4.8657,2, -999.00,9,  -999.0,9, -999.00,9,  -999.0,9, -999.00,9,      20.92,2,     -999.0,9, -999.00,1, 20140417,      423, -46.3333,-149.9997,    34.4829,2,     -999.0,1,     -999.0,1,     -999.0,9,     -999.0,9,     -999.0,1,     -999.0,1
320620140320,       P16S,      43,          3,         16,         16,2,20140417,       0237,   -46.3333,  -149.9997,       5246,  1201.9,   4.3165,  34.3277,2,  34.3285,2,    203.3,2,   204.3,2,   33.81,2,   30.98,2,    0.00,2,    2.10,2,   1.968,2,   0.988,2,    0.41,2,  2200.3,2,  2298.6,2,   7.6795,2,       20,-999.000,9,-999.0000,9, -999.00,9,   4.3163,2, -999.00,9,  -999.0,9, -999.00,9,  -999.0,9, -999.00,9,      21.27,2,     -999.0,9, -999.00,1, 20140417,      420, -46.3333,-149.9997,    34.4904,2,     -999.0,1,     -999.0,9,     -999.0,9,     -999.0,9,     -999.0,1,     -999.0,1
320620140320,       P16S,      43,          3,         15,         15,2,20140417,       0237,   -46.3333,  -149.9997,       5246,  1399.2,   3.4895,  34.3840,2,  34.3841,2,    190.0,2,   190.5,2,   48.75,2,   33.10,2,    0.00,2,    2.27,2,   1.319,2,   0.647,2,    0.17,2,  2222.6,2,  2312.3,2,   7.6504,2,       20,-999.000,9,-999.0000,9, -999.00,9,   3.4904,2, -999.00,9,  -999.0,9, -999.00,9,  -999.0,9, -999.00,9,      23.56,2,     -999.0,1, -999.00,1, 20140417,      415, -46.3333,-149.9997,    34.5462,2,     -999.0,1,     -999.0,1,     -999.0,9,     -999.0,9,     -999.0,1,     -999.0,1
320620140320,       P16S,      43,          3,         14,         14,2,20140417,       0237,   -46.3333,  -149.9997,       5246,  1600.4,   3.0084,  34.4617,2,  34.4614,2,    177.4,2,   177.2,2,   62.62,2,   34.14,2,    0.00,2,    2.33,2,   0.717,2,   0.378,2,    0.08,2,  2242.4,2,    2326,2,   7.6333,6,       20,-999.000,9,-999.0000,9, -999.00,9,   3.0086,2, -999.00,9,  -999.0,9, -999.00,9,  -999.0,9, -999.00,9,      23.55,2,     -999.0,9, -999.00,1, 20140417,      409, -46.3333,-149.9997,    34.6239,2,     -999.0,1,     -999.0,1,     -999.0,9,     -999.0,9,     -999.0,1,     -999.0,1
320620140320,       P16S,      43,          3,         13,         13,2,20140417,       0237,   -46.3333,  -149.9997,       5246,  1799.5,   2.7244,  34.5478,2,  34.5481,2,    167.1,2,   167.0,2,   77.47,2,   34.49,2,    0.00,2,    2.37,2,   0.280,2,   0.131,2,    0.11,2,  2260.1,2,    2343,2,   7.6288,2,       20,-999.000,9,-999.0000,9, -999.00,9,   2.7255,2, -999.00,9,  -999.0,9, -999.00,9,  -999.0,9, -999.00,9,      25.06,2,     -999.0,9, -999.00,1, 20140417,      405, -46.3333,-149.9997,    34.7110,2,     -999.0,1,     -999.0,9,     -999.0,9,     -999.0,9,     -999.0,1,     -999.0,1
320620140320,       P16S,      43,          3,         12,         12,2,20140417,       0237,   -46.3333,  -149.9997,       5246,  1999.0,   2.5410,  34.5980,2,  34.5977,2,    161.8,2,   160.7,2,   90.46,2,   34.74,2,    0.00,2,    2.39,2,-999.000,9,-999.000,9, -999.00,9,  2274.9,2,  2359.5,2,   7.6319,2,       20,-999.000,9,-999.0000,9, -999.00,9,   2.5413,2, -999.00,9,  -999.0,9, -999.00,9,  -999.0,9, -999.00,9,     -999.0,9,     -999.0,1, -999.00,1, 20140417,      359, -46.3333,-149.9997,    34.7609,2,     -999.0,1,     -999.0,1,     -999.0,9,     -999.0,9,     -999.0,1,     -999.0,1
320620140320,       P16S,      43,          3,         11,         11,2,20140417,       0237,   -46.3333,  -149.9997,       5246,  2249.5,   2.3282,  34.6366,2,  34.6368,2,    159.0,2,   158.8,2,  100.61,2,   34.73,2,    0.00,2,    2.39,2,   0.061,2,   0.011,2,    0.00,2,  2284.8,2,  2371.5,2,   7.6357,2,       20,-999.000,9,-999.0000,9, -999.00,9,   2.3282,2, -999.00,9,  -999.0,9, -999.00,9,  -999.0,9, -999.00,9,      23.57,2,     -999.0,9, -999.00,1, 20140417,      354, -46.3333,-149.9997,    34.8002,2,     -999.0,1,     -999.0,9,     -999.0,9,     -999.0,9,     -999.0,1,     -999.0,1
320620140320,       P16S,      43,          3,         10,         10,2,20140417,       0237,   -46.3333,  -149.9997,       5246,  2500.6,   2.1671,  34.6578,2,  34.6585,2,    159.5,2,   158.8,2,  107.16,2,   34.72,2,    0.00,2,    2.37,2,   0.030,2,   0.003,2,    0.02,2,    2290,6,  2377.9,2,   7.6381,2,       20,-999.000,9,-999.0000,9, -999.00,9,   2.1672,2, -999.00,9,  -999.0,9, -999.00,9,  -999.0,9, -999.00,9,      23.36,2,     -999.0,1, -999.00,9, 20140417,      348, -46.3334,-149.9997,    34.8219,2,     -999.0,9,     -999.0,9,     -999.0,9,     -999.0,9,     -999.0,9,     -999.0,9
320620140320,       P16S,      43,          3,          9,         09,2,20140417,       0237,   -46.3333,  -149.9997,       5246,  2750.5,   2.0954,  34.6954,2,  34.6964,2,    172.1,2,   173.5,2,   97.87,2,   33.00,2,    0.00,2,    2.26,2,   0.079,2,   0.023,2,   -0.01,2,  2272.6,2,    2366,3,   7.6518,2,       20,-999.000,9,-999.0000,9, -999.00,9,   2.0957,2, -999.00,9,  -999.0,9, -999.00,9,  -999.0,9, -999.00,9,      23.53,2,     -999.0,9, -999.00,9, 20140417,      342, -46.3333,-149.9997,    34.8600,2,     -999.0,9,     -999.0,9,     -999.0,9,     -999.0,9,     -999.0,9,     -999.0,9
320620140320,       P16S,      43,          3,          8,         08,2,20140417,       0237,   -46.3333,  -149.9997,       5246,  2999.6,   1.9498,  34.7099,2,  34.7100,2,    178.2,2,   178.7,2,  100.61,2,   32.63,2,    0.00,2,    2.23,2,   0.053,2,   0.019,2,    0.07,2,  2271.4,2,  2365.3,2,   7.6577,2,       20,-999.000,9,-999.0000,9, -999.00,9,   1.9497,2, -999.00,9,  -999.0,9, -999.00,9,  -999.0,9, -999.00,9,      21.66,2,     -999.0,1, -999.00,9, 20140417,      336, -46.3333,-149.9997,    34.8736,2,     -999.0,9,     -999.0,9,     -999.0,9,     -999.0,9,     -999.0,9,     -999.0,9
320620140320,       P16S,      43,          3,          7,         07,2,20140417,       0237,   -46.3333,  -149.9997,       5246,  3299.6,   1.7821,  34.7237,2,  34.7240,2,    188.2,2,   187.8,2,  101.10,2,   32.00,2,    0.00,2,    2.18,2,   0.046,2,   0.015,2,    0.00,2,  2264.2,2,  2361.8,2,   7.6676,2,       20,-999.000,9,-999.0000,9, -999.00,9,   1.7820,2, -999.00,9,  -999.0,9, -999.00,9,  -999.0,9, -999.00,9,      21.22,2,     -999.0,9, -999.00,9, 20140417,      329, -46.3333,-149.9997,    34.8878,2,     -999.0,9,     -999.0,9,     -999.0,9,     -999.0,9,     -999.0,9,     -999.0,9
320620140320,       P16S,      43,          3,          6,         06,2,20140417,       0237,   -46.3333,  -149.9997,       5246,  3599.1,   1.5715,  34.7250,2,  34.7253,2,    194.4,2,   194.3,2,  105.30,2,   31.79,2,    0.00,2,    2.19,2,   0.029,2,   0.010,2,   -0.00,2,  2263.1,2,  2362.4,2,   7.6727,2,       20,-999.000,9,-999.0000,9, -999.00,9,   1.5709,2, -999.00,9,  -999.0,9, -999.00,9,  -999.0,9, -999.00,9,      21.81,2,     -999.0,1, -999.00,9, 20140417,      322, -46.3334,-149.9997,    34.8891,2,     -999.0,9,     -999.0,9,     -999.0,9,     -999.0,9,     -999.0,9,     -999.0,9