BOTTLE,20230715CCHSIOCBG
EXPOCODE,SECT_ID,STNNBR,CASTNO,SAMPNO,BTLNBR,BTLNBR_FLAG_W,DATE,TIME,LATITUDE,LONGITUDE,DEPTH,CTDPRS,CTDTMP,CTDSAL,CTDSAL_FLAG_W,SALNTY,SALNTY_FLAG_W,CTDOXY,CTDOXY_FLAG_W,OXYGEN,OXYGEN_FLAG_W,SILCAT,SILCAT_FLAG_W,NITRAT,NITRAT_FLAG_W,NITRIT,NITRIT_FLAG_W,PHSPHT,PHSPHT_FLAG_W,CFC-11,CFC-11_FLAG_W,CFC-12,CFC-12_FLAG_W,SF6,SF6_FLAG_W,TCARBN,TCARBN_FLAG_W,ALKALI,ALKALI_FLAG_W,PH_TOT,PH_TOT_FLAG_W,PH_TMP,TRITUM,TRITUM_FLAG_W,HELIUM,HELIUM_FLAG_W,DELHE3,DELHE3_FLAG_W,REFTMP,REFTMP_FLAG_W,DELC13,DELC13_FLAG_W,DELC14,DELC14_FLAG_W,DELO18,DELO18_FLAG_W,DOC,DOC_FLAG_W,TDN,TDN_FLAG_W,N2O,N2O_FLAG_W,CALCIUM,CALCIUM_FLAG_W,D15N_NO3,D15N_NO3_FLAG_W,BTL_DATE,BTL_TIME,BTL_LAT,BTL_LON,SALTREF,SALTREF_FLAG_W,D18O_NO3,D18O_NO3_FLAG_W,DSI30,DSI30_FLAG_W,CDOM_NASA,CDOM_NASA_FLAG_W,CDOM_UCSB,CDOM_UCSB_FLAG_W,D15N_NO2+NO3,D15N_NO2+NO3_FLAG_W,D18O_NO2+NO3,D18O_NO2+NO3_FLAG_W
,,,,,,,,,,,METERS,DBAR,ITS-90,PSS-78,,PSS-78,,UMOL/KG,,UMOL/KG,,UMOL/KG,,UMOL/KG,,UMOL/KG,,UMOL/KG,,PMOL/KG,,PMOL/KG,,FMOL/KG,,UMOL/KG,,UMOL/KG,,,,DEG C,TU,,NMOL/KG,,PERCNT,,DEG C,,/MILLE,,/MILLE,,/MILLE,,UMOL/KG,,UMOL/KG,,NMOL/KG,,MMOL/KG,,/MILLE,,,,,,G/KG,,/MILLE,,/MILLE,,,,,,/MILLE,,/MILLE,
320620140320,       P16S,      37,          2,         36,         36,2,20140414,       1150,   -50.0013,  -150.0004,       4257,     4.3,  11.0139,  34.4877,2,  34.4866,2,    273.7,2,   273.7,2,    0.49,2,    7.16,2,    0.17,2,    0.58,2,   3.397,2,   1.853,2,    1.95,2,  2082.1,2,  2289.2,2,    7.957,2,       20,-999.000,9,-999.0000,9, -999.00,9,  11.0120,2, -999.00,9,  -999.0,9, -999.00,9,    51.5,2,   10.44,2,      10.61,2,     -999.0,9, -999.00,1, 20140414,     1336, -50.0013,-150.0002,    34.6492,2,     -999.0,1,     -999.0,9,     -999.0,9,     -999.0,9,     -999.0,1,     -999.0,1
320620140320,       P16S,      37,          2,         35,         35,2,20140414,       1150,   -50.0013,  -150.0004,       4257,    23.3,  10.9783,  34.4863,2,  34.4860,2,    273.5,2,   273.5,2,    0.39,2,    7.19,2,    0.17,2,    0.60,2,   3.412,2,   1.874,2,    1.95,2,  2082.5,2,  2288.8,2,   7.9567,2,       20,-999.000,9,-999.0000,9, -999.00,9,  10.9710,2,    1.77,2,    22.2,2, -999.00,9,    50.2,2,   11.08,2,      11.01,2,     -999.0,9, -999.00,1, 20140414,     1335, -50.0013,-150.0002,    34.6486,2,     -999.0,1,     -999.0,9,     -999.0,9,     -999.0,9,     -999.0,1,     -999.0,1
320620140320,       P16S,      37,          2,         34,         34,2,20140414,       1150,   -50.0013,  -150.0004,       4257,    23.8,  10.9841,  34.4868,2,-999.0000,9,   -999.0,9,  -999.0,9, -999.00,9, -999.00,9, -999.00,9, -999.00,9,-999.000,9,-999.000,9, -999.00,9,  -999.0,9,  -999.0,9,-999.0000,9,  -999.00,-999.000,9,-999.0000,9, -999.00,9,  10.9746,2, -999.00,9,  -999.0,9, -999.00,9,  -999.0,9, -999.00,9,     -999.0,9,     -999.0,9, -999.00,9, 20140414,     1335, -50.0013,-150.0002,     -999.0,9,     -999.0,9,     -999.0,9,     -999.0,1,     -999.0,9,     -999.0,9,     -999.0,9
320620140320,       P16S,      37,          2,         33,         33,2,20140414,       1150,   -50.0013,  -150.0004,       4257,    48.9,  10.9124,  34.4791,2,  34.4797,2,    273.3,2,   273.6,2,    0.49,2,    7.47,2,    0.18,2,    0.64,2,   3.207,2,   1.857,2,    2.09,2,  2083.1,2,  2289.2,2,   7.9537,2,       20,-999.000,9,-999.0000,9, -999.00,9,  10.9175,2, -999.00,9,  -999.0,9, -999.00,9,    49.9,2,   11.99,2,      10.22,2,     -999.0,9, -999.00,1, 20140414,     1333, -50.0013,-150.0002,    34.6423,2,     -999.0,1,     -999.0,9,     -999.0,9,     -999.0,9,     -999.0,1,     -999.0,1
320620140320,       P16S,      37,          2,         32,         32,2,20140414,       1150,   -50.0013,  -150.0004,       4257,    60.1,  10.7382,  34.4531,2,-999.0000,9,   -999.0,9,  -999.0,9, -999.00,9, -999.00,9, -999.00,9, -999.00,9,-999.000,9,-999.000,9, -999.00,9,  -999.0,9,  -999.0,9,-999.0000,9,  -999.00,-999.000,9,-999.0000,9, -999.00,9,  10.7385,2, -999.00,9,  -999.0,9, -999.00,9,  -999.0,9, -999.00,9,     -999.0,9,     -999.0,9, -999.00,9, 20140414,     1332, -50.0014,-150.0003,     -999.0,9,     -999.0,9,     -999.0,9,     -999.0,1,     -999.0,9,     -999.0,9,     -999.0,9
320620140320,       P16S,      37,          2,         31,         31,2,20140414,       1150,   -50.0013,  -150.0004,       4257,    73.9,  10.6073,  34.4945,2,  34.5005,2,    270.4,2,   263.8,2,    0.98,2,    9.36,2,    0.22,2,    0.73,2,   3.380,2,   1.879,2,    2.02,2,  2095.1,2,    2287,2,   7.9261,2,       20,-999.000,9,-999.0000,9, -999.00,9,  10.6109,2, -999.00,9,  -999.0,9, -999.00,9,    48.9,2,   12.91,2,      11.29,2,     -999.0,9, -999.00,1, 20140414,     1330, -50.0013,-150.0002,    34.6632,2,     -999.0,1,     -999.0,9,     -999.0,9,     -999.0,9,     -999.0,1,     -999.0,1
320620140320,       P16S,      37,          2,         30,         30,2,20140414,       1150,   -50.0013,  -150.0004,       4257,    98.9,  10.1780,  34.6812,2,  34.6875,2,    244.8,2,   242.4,2,    2.25,2,   12.22,2,    0.04,2,    0.89,2,   3.271,2,   1.843,2,    1.94,2,  2120.8,2,  2292.6,2,   7.8721,2,       20,-999.000,9,-999.0000,9, -999.00,9,  10.1583,3, -999.00,9,  -999.0,9, -999.00,9,    47.1,2,   14.25,2,      12.09,2,     -999.0,9, -999.00,1, 20140414,     1329, -50.0013,-150.0002,    34.8510,2,     -999.0,1,     -999.0,1,     -999.0,9,     -999.0,9,     -999.0,1,     -999.0,1
320620140320,       P16S,      37,          2,         29,         29,2,20140414,       1150,   -50.0013,  -150.0004,       4257,   149.2,   9.4483,  34.6124,2,  34.6122,2,    250.9,2,   250.8,2,    2.54,2,   13.41,2,    0.02,2,    0.96,2,   3.435,2,   1.936,2,    1.93,2,  2122.6,2,  2287.8,2,   7.8607,2,       20,-999.000,9,-999.0000,9, -999.00,9,   9.4536,2,    1.24,2,    17.1,2, -999.00,9,    46.8,2,   16.08,2,      12.82,2,     -999.0,9, -999.00,1, 20140414,     1327, -50.0013,-150.0003,    34.7754,2,     -999.0,1,     -999.0,1,     -999.0,9,     -999.0,9,     -999.0,1,     -999.0,1
320620140320,       P16S,      37,          2,         28,         28,2,20140414,       1150,   -50.0013,  -150.0004,       4257,   199.6,   8.8744,  34.5526,2,  34.5515,2,    254.6,2,   249.3,2,    3.42,2,   15.62,2,    0.01,2,    1.09,2,-999.000,9,-999.000,9, -999.00,9,    2128,2,    2285,2,   7.8403,2,       20,-999.000,9,-999.0000,9, -999.00,9,   8.8753,2, -999.00,9,  -999.0,9, -999.00,9,      45,2,   18.05,2,     -999.0,9,     -999.0,9, -999.00,1, 20140414,     1325, -50.0013,-150.0003,    34.7144,2,     -999.0,1,     -999.0,1,     -999.0,9,     -999.0,9,     -999.0,1,     -999.0,1
320620140320,       P16S,      37,          2,         27,         27,2,20140414,       1150,   -50.0013,  -150.0004,       4257,   251.5,   8.5589,  34.5245,2,  34.5238,2,    262.8,2,   264.3,2,    2.74,2,   14.43,2,    0.01,2,    1.04,2,   3.774,2,   2.069,2,    2.03,2,  -999.0,9,  -999.0,9,-999.0000,9,  -999.00,-999.000,9,-999.0000,9, -999.00,9,   8.5590,2, -999.00,9,  -999.0,9, -999.00,9,    45.5,2,   17.68,2,      13.21,2,     -999.0,9, -999.00,1, 20140414,     1323, -50.0013,-150.0002,    34.6866,2,     -999.0,1,     -999.0,9,     -999.0,9,     -999.0,9,     -999.0,1,     -999.0,1
320620140320,       P16S,      37,          2,         26,         26,2,20140414,       1150,   -50.0013,  -150.0004,       4257,   299.7,   8.4436,  34.5198,2,  34.5193,2,    263.0,2,   264.6,2,    2.93,2,   15.02,2,    0.01,2,    1.07,2,-999.000,9,-999.000,9, -999.00,9,  2123.4,2,    2284,2,   7.8507,2,       20,-999.000,9,-999.0000,9, -999.00,9,   8.4432,2,    1.30,2,    20.5,2, -999.00,9,      44,2,   18.05,2,     -999.0,9,     -999.0,9, -999.00,1, 20140414,     1321, -50.0013,-150.0002,    34.6821,2,     -999.0,1,     -999.0,1,     -999.0,9,     -999.0,9,     -999.0,1,     -999.0,1
320620140320,       P16S,      37,          2,         25,         25,2,20140414,       1150,   -50.0013,  -150.0004,       4257,   349.0,   8.2356,  34.4944,2,  34.4938,2,    258.1,2,   260.8,2,    3.42,2,   16.13,2,    0.01,2,    1.14,2,   3.895,2,   2.067,2,    1.92,2,  -999.0,9,  -999.0,9,-999.0000,9,  -999.00,-999.000,9,-999.0000,9, -999.00,9,   8.2353,2, -999.00,9,  -999.0,9, -999.00,9,    45.1,2,   18.99,2,      13.93,2,     -999.0,9, -999.00,1, 20140414,     1319, -50.0013,-150.0003,    34.6564,2,     -999.0,1,     -999.0,9,     -999.0,9,     -999.0,9,     -999.0,1,     -999.0,1
320620140320,       P16S,      37,          2,         24,         24,2,20140414,       1150,   -50.0013,  -150.0004,       4257,   399.8,   7.9954,  34.4614,2,  34.4610,2,    253.9,2,   254.6,2,    4.40,2,   17.98,2,    0.01,2,    1.25,2,   3.699,2,   2.019,2,    1.87,2,    2133,2,    2283,2,   7.8228,2,       20,-999.000,9,-999.0000,9, -999.00,9,   7.9945,2, -999.00,9,  -999.0,9, -999.00,9,    42.4,2,   20.73,2,      13.47,2,     -999.0,9, -999.00,1, 20140414,     1317, -50.0013,-150.0002,    34.6235,2,     -999.0,1,     -999.0,1,     -999.0,9,     -999.0,9,     -999.0,1,     -999.0,1
320620140320,       P16S,      37,          2,         23,         23,2,20140414,       1150,   -50.0013,  -150.0004,       4257,   499.5,   7.4828,  34.3984,2,  34.3986,2,    250.3,2,   261.0,2,    4.98,2,   19.09,2,    0.01,2,    1.32,2,   3.844,2,   2.086,2,    1.90,2,  2133.5,2,  2281.6,2,   7.8187,2,       20,-999.000,9,-999.0000,9, -999.00,9,   7.4837,2,    1.29,2,    12.0,2, -999.00,9,    42.2,2,   21.95,2,      13.60,2,     -999.0,9, -999.00,1, 20140414,     1314, -50.0013,-150.0003,    34.5608,2,     -999.0,1,     -999.0,1,     -999.0,9,     -999.0,9,     -999.0,1,     -999.0,1
320620140320,       P16S,      37,          2,         22,         22,2,20140414,       1150,   -50.0013,  -150.0004,       4257,   599.4,   7.1917,  34.3848,2,  34.3830,2,    252.1,2,   250.8,2,    7.04,2,   20.96,2,    0.00,2,    1.45,2,   3.670,2,   1.971,2,    1.87,2,  2141.5,2,  2282.8,2,   7.7995,6,       20,-999.000,9,-999.0000,9, -999.00,9,   7.1912,2, -999.00,9,  -999.0,9, -999.00,9,    42.1,2, -999.00,9,      14.50,2,     -999.0,9, -999.00,1, 20140414,     1311, -50.0013,-150.0003,    34.5452,2,     -999.0,1,     -999.0,9,     -999.0,9,     -999.0,9,     -999.0,1,     -999.0,1
320620140320,       P16S,      37,          2,         21,         21,2,20140414,       1150,   -50.0013,  -150.0004,       4257,   701.2,   6.7334,  34.3493,2,  34.3491,2,    244.8,2,   245.9,2,    8.99,2,   22.50,2,    0.00,2,    1.54,2,-999.000,9,-999.000,9, -999.00,9,  2147.4,6,  2282.2,2,   7.7831,2,       20,-999.000,9,-999.0000,9, -999.00,9,   6.7340,2,    1.28,2,    -0.7,2, -999.00,9,    42.4,2, -999.00,9,     -999.0,9,     -999.0,9, -999.00,1, 20140414,     1308, -50.0013,-150.0003,    34.5111,2,     -999.0,1,     -999.0,1,     -999.0,9,     -999.0,9,     -999.0,1,     -999.0,1
320620140320,       P16S,      37,          2,         20,         20,2,20140414,       1150,   -50.0013,  -150.0004,       4257,   798.6,   6.1281,  34.2973,2,  34.2983,2,    244.5,2,   245.2,2,   11.53,2,   23.98,2,    0.00,2,    1.63,2,   3.511,2,   1.860,2,    1.60,2,  2153.2,2,    2282,6,   7.7687,2,       20,-999.000,9,-999.0000,9, -999.00,9,   6.1172,2, -999.00,9,  -999.0,9, -999.00,9,    41.9,2, -999.00,9,      15.78,2,     -999.0,9, -999.00,1, 20140414,     1306, -50.0013,-150.0002,    34.4600,2,     -999.0,1,     -999.0,9,     -999.0,9,     -999.0,9,     -999.0,1,     -999.0,1
320620140320,       P16S,      37,          2,         19,         19,2,20140414,       1150,   -50.0013,  -150.0004,       4257,   899.2,   5.8106,  34.3209,2,  34.3197,2,    227.2,2,   225.4,2,   16.71,2,   26.41,2,    0.00,2,    1.79,2,   2.927,2,   1.501,2,    1.20,2,  2167.1,2,  2286.2,2,   7.7391,2,       20,-999.000,9,-999.0000,9, -999.00,9,   5.8082,2,    1.17,2,   -25.4,2, -999.00,9,    39.2,2, -999.00,9,      17.72,2,     -999.0,9, -999.00,1, 20140414,     1303, -50.0013,-150.0002,    34.4815,2,     -999.0,1,     -999.0,1,     -999.0,9,     -999.0,9,     -999.0,1,     -999.0,1
320620140320,       P16S,      37,          2,         18,         18,2,20140414,       1150,   -50.0013,  -150.0004,       4257,  1000.3,   5.1466,  34.3121,2,  34.3112,2,    216.4,2,   216.4,2,   23.26,2,   28.49,2,    0.00,2,    1.93,2,   2.612,2,   1.319,2,    0.67,2,  -999.0,9,  -999.0,9,-999.0000,9,  -999.00,-999.000,9,-999.0000,9, -999.00,9,   5.1441,2, -999.00,9,  -999.0,9, -999.00,9,    39.7,2, -999.00,9,      18.38,2,     -999.0,9, -999.00,1, 20140414,     1300, -50.0013,-150.0003,    34.4730,2,     -999.0,1,     -999.0,9,     -999.0,9,     -999.0,9,     -999.0,1,     -999.0,1
320620140320,       P16S,      37,          2,         17,         17,2,20140414,       1150,   -50.0013,  -150.0004,       4257,  1099.5,   4.4990,  34.3162,2,  34.3157,2,    209.9,2,   209.9,2,   30.30,2,   30.20,2,    0.00,2,    2.05,2,   2.413,2,   1.150,2,    0.57,2,  2192.9,2,  2295.7,2,   7.6914,2,       20,-999.000,9,-999.0000,9, -999.00,9,   4.4999,2,    1.03,2,   -62.2,2, -999.00,9,    39.6,2, -999.00,9,      19.88,2,     -999.0,9, -999.00,1, 20140414,     1257, -50.0013,-150.0003,    34.4775,2,     -999.0,1,     -999.0,1,     -999.0,9,     -999.0,9,     -999.0,1,     -999.0,1
320620140320,       P16S,      37,          2,         16,         16,2,20140414,       1150,   -50.0013,  -150.0004,       4257,  1198.9,   4.0338,  34.3308,2,  34.3298,2,    204.0,2,   204.2,2,   36.94,2,   31.41,2,    0.00,2,    2.14,2,-999.000,9,-999.000,9, -999.00,9,  -999.0,9,  -999.0,9,-999.0000,9,  -999.00,-999.000,9,-999.0000,9, -999.00,9,   4.0356,2, -999.00,9,  -999.0,9, -999.00,9,      40,2, -999.00,9,     -999.0,9,     -999.0,9, -999.00,1, 20140414,     1255, -50.0013,-150.0003,    34.4917,2,     -999.0,1,     -999.0,9,     -999.0,9,     -999.0,9,     -999.0,1,     -999.0,1
320620140320,       P16S,      37,          2,         15,         15,2,20140414,       1150,   -50.0013,  -150.0004,       4257,  1299.4,   3.6514,  34.3649,2,  34.3638,2,    196.5,2,   195.5,2,   44.95,2,   32.46,2,    0.00,2,    2.21,2,   1.696,2,   0.814,2,    0.33,2,  2215.1,2,  2308.7,2,    7.658,2,       20,-999.000,9,-999.0000,9, -999.00,9,   3.6521,2,    0.82,2,  -100.8,2, -999.00,9,    39.4,2, -999.00,9,      21.66,2,     -999.0,9, -999.00,1, 20140414,     1252, -50.0013,-150.0003,    34.5258,2,     -999.0,1,     -999.0,9,     -999.0,9,     -999.0,9,     -999.0,1,     -999.0,1
320620140320,       P16S,      37,          2,         14,         14,2,20140414,       1150,   -50.0013,  -150.0004,       4257,  1401.4,   3.3627,  34.3990,2,  34.3973,2,    189.3,2,   188.4,2,   52.08,2,   33.24,2,    0.00,2,    2.29,2,   1.436,2,   0.677,2,    0.24,2,  -999.0,9,  -999.0,9,-999.0000,9,  -999.00,-999.000,9,-999.0000,9, -999.00,9,   3.3614,2, -999.00,9,  -999.0,9, -999.00,9,    39.4,2, -999.00,9,      22.31,2,     -999.0,9, -999.00,1, 20140414,     1249, -50.0013,-150.0003,    34.5595,2,     -999.0,1,     -999.0,1,     -999.0,9,     -999.0,9,     -999.0,1,     -999.0,1
320620140320,       P16S,      37,          2,         13,         13,2,20140414,       1150,   -50.0013,  -150.0004,       4257,  1500.1,   3.1363,  34.4357,2,  34.4354,2,    183.2,2,   182.5,2,   58.24,2,   33.76,2,    0.00,2,    2.31,2,   1.215,2,   0.572,2,    0.30,2,  2234.9,2,  2321.6,2,   7.6378,2,       20,-999.000,9,-999.0000,9, -999.00,9,   3.1367,2,    0.71,2,  -116.7,2, -999.00,9,    39.5,2, -999.00,9,      23.54,2,     -999.0,9, -999.00,1, 20140414,     1246, -50.0013,-150.0003,    34.5978,2,     -999.0,1,     -999.0,9,     -999.0,9,     -999.0,9,     -999.0,1,     -999.0,1
320620140320,       P16S,      37,          2,         12,         12,2,20140414,       1150,   -50.0013,  -150.0004,       4257,  1600.0,   2.9648,  34.4725,2,  34.4721,2,    178.1,2,   178.2,2,   63.91,2,   34.14,2,    0.00,2,    2.34,2,-999.000,9,-999.000,9, -999.00,9,  -999.0,9,  -999.0,9,-999.0000,9,  -999.00,-999.000,9,-999.0000,9, -999.00,9,   2.9643,2, -999.00,9,  -999.0,9, -999.00,9,    39.5,2, -999.00,9,     -999.0,9,     -999.0,9, -999.00,1, 20140414,     1244, -50.0013,-150.0003,    34.6346,2,     -999.0,1,     -999.0,1,     -999.0,9,     -999.0,9,     -999.0,1,     -999.0,1
320620140320,       P16S,      37,          2,         11,         11,2,20140414,       1150,   -50.0013,  -150.0004,       4257,  1800.0,   2.6874,  34.5511,2,  34.5514,2,    171.7,2,   172.0,2,   73.28,2,   34.14,2,    0.00,2,    2.33,2,   0.671,2,   0.277,2,    0.30,2,    2253,2,  2336.9,2,   7.6275,2,       20,-999.000,9,-999.0000,9, -999.00,9,   2.6874,2, -999.00,9,  -999.0,9, -999.00,9,    38.2,2, -999.00,9,      23.69,2,     -999.0,9, -999.00,1, 20140414,     1239, -50.0013,-150.0003,    34.7143,2,     -999.0,1,     -999.0,9,     -999.0,9,     -999.0,9,     -999.0,1,     -999.0,1
320620140320,       P16S,      37,          2,         10,         10,2,20140414,       1150,   -50.0013,  -150.0004,       4257,  1999.6,   2.5040,  34.6142,2,  34.6139,2,    172.2,2,   172.4,2,   76.21,2,   33.64,2,    0.00,2,    2.30,2,   0.478,2,   0.189,2,    0.11,2,  2253.1,2,  2339.1,2,   7.6287,2,       20,-999.000,9,-999.0000,9, -999.00,9,   2.5037,2,    0.55,2,  -144.5,2, -999.00,9,    39.7,2, -999.00,9,      22.90,2,     -999.0,9, -999.00,9, 20140414,     1235, -50.0013,-150.0003,    34.7771,2,     -999.0,9,     -999.0,1,     -999.0,9,     -999.0,9,     -999.0,9,     -999.0,9
320620140320,       P16S,      37,          2,          9,         09,2,20140414,       1150,   -50.0013,  -150.0004,       4257,  2249.3,   2.3331,  34.6784,2,  34.6769,2,    176.7,2,   177.0,2,   81.38,2,   32.61,2,    0.00,2,    2.23,2,   0.336,2,   0.106,2,    0.06,2,  2253.5,2,  2345.9,2,   7.6442,2,       20,-999.000,9,-999.0000,9, -999.00,9,   2.3340,2, -999.00,9,  -999.0,9, -999.00,9,    39.7,2, -999.00,9,      22.98,2,     -999.0,9, -999.00,9, 20140414,     1230, -50.0013,-150.0003,    34.8405,2,     -999.0,9,     -999.0,9,     -999.0,9,     -999.0,9,     -999.0,9,     -999.0,9
320620140320,       P16S,      37,          2,          8,         08,2,20140414,       1150,   -50.0013,  -150.0004,       4257,  2500.3,   2.1661,  34.7153,2,  34.7149,2,    183.1,2,   183.6,2,   85.39,2,   31.81,2,    0.00,2,    2.16,2,-999.000,9,-999.000,9, -999.00,9,  -999.0,9,  -999.0,9,-999.0000,9,  -999.00,-999.000,9,-999.0000,9, -999.00,9,   2.1664,2, -999.00,9,  -999.0,9, -999.00,9,    39.1,2, -999.00,9,     -999.0,9,     -999.0,9, -999.00,9, 20140414,     1224, -50.0013,-150.0003,    34.8786,2,     -999.0,9,     -999.0,9,     -999.0,9,     -999.0,9,     -999.0,9,     -999.0,9
320620140320,       P16S,      37,          2,          7,         07,2,20140414,       1150,   -50.0013,  -150.0004,       4257,  2750.0,   1.9817,  34.7335,2,  34.7339,2,    189.5,2,   189.8,2,   89.49,2,   31.21,2,    0.00,2,    2.13,2,   0.176,2,   0.039,2,    0.00,2,  2251.3,2,  2351.2,2,   7.6692,2,       20,-999.000,9,-999.0000,9, -999.00,9,   1.9818,2,    0.62,2,  -148.3,2, -999.00,9,    40.3,2, -999.00,9,      19.79,2,     -999.0,9, -999.00,9, 20140414,     1219, -50.0013,-150.0003,    34.8977,2,     -999.0,9,     -999.0,9,     -999.0,9,     -999.0,9,     -999.0,9,     -999.0,9
320620140320,       P16S,      37,          2,          6,         06,2,20140414,       1150,   -50.0013,  -150.0004,       4257,  3001.7,   1.7682,  34.7367,2,  34.7367,2,    193.7,2,   194.0,2,   95.64,2,   31.23,2,    0.00,2,    2.13,2,   0.159,2,   0.040,2,    0.00,2,  2253.4,2,    2355,2,   7.6753,2,       20,-999.000,9,-999.0000,9, -999.00,9,   1.7689,2, -999.00,9,  -999.0,9, -999.00,9,    41.1,2, -999.00,9,      20.42,2,     -999.0,9, -999.00,9, 20140414,     1214, -50.0013,-150.0003,    34.9005,2,     -999.0,9,     -999.0,1,     -999.0,9,     -999.0,9,     -999.0,9,     -999.0,9