BOTTLE,20230715CCHSIOCBG
EXPOCODE,SECT_ID,STNNBR,CASTNO,SAMPNO,BTLNBR,BTLNBR_FLAG_W,DATE,TIME,LATITUDE,LONGITUDE,DEPTH,CTDPRS,CTDTMP,CTDSAL,CTDSAL_FLAG_W,SALNTY,SALNTY_FLAG_W,CTDOXY,CTDOXY_FLAG_W,OXYGEN,OXYGEN_FLAG_W,SILCAT,SILCAT_FLAG_W,NITRAT,NITRAT_FLAG_W,NITRIT,NITRIT_FLAG_W,PHSPHT,PHSPHT_FLAG_W,CFC-11,CFC-11_FLAG_W,CFC-12,CFC-12_FLAG_W,SF6,SF6_FLAG_W,TCARBN,TCARBN_FLAG_W,ALKALI,ALKALI_FLAG_W,PH_TOT,PH_TOT_FLAG_W,PH_TMP,TRITUM,TRITUM_FLAG_W,HELIUM,HELIUM_FLAG_W,DELHE3,DELHE3_FLAG_W,REFTMP,REFTMP_FLAG_W,DELC13,DELC13_FLAG_W,DELC14,DELC14_FLAG_W,DELO18,DELO18_FLAG_W,DOC,DOC_FLAG_W,TDN,TDN_FLAG_W,N2O,N2O_FLAG_W,CALCIUM,CALCIUM_FLAG_W,D15N_NO3,D15N_NO3_FLAG_W,BTL_DATE,BTL_TIME,BTL_LAT,BTL_LON,SALTREF,SALTREF_FLAG_W,D18O_NO3,D18O_NO3_FLAG_W,DSI30,DSI30_FLAG_W,CDOM_NASA,CDOM_NASA_FLAG_W,CDOM_UCSB,CDOM_UCSB_FLAG_W,D15N_NO2+NO3,D15N_NO2+NO3_FLAG_W,D18O_NO2+NO3,D18O_NO2+NO3_FLAG_W
,,,,,,,,,,,METERS,DBAR,ITS-90,PSS-78,,PSS-78,,UMOL/KG,,UMOL/KG,,UMOL/KG,,UMOL/KG,,UMOL/KG,,UMOL/KG,,PMOL/KG,,PMOL/KG,,FMOL/KG,,UMOL/KG,,UMOL/KG,,,,DEG C,TU,,NMOL/KG,,PERCNT,,DEG C,,/MILLE,,/MILLE,,/MILLE,,UMOL/KG,,UMOL/KG,,NMOL/KG,,MMOL/KG,,/MILLE,,,,,,G/KG,,/MILLE,,/MILLE,,,,,,/MILLE,,/MILLE,
320620140320,       P16S,      69,          1,          5,         05,2,20140427,       0439,   -28.9996,  -149.9997,       4602,  3899.5,   1.3782,  34.6981,2,  34.6979,2,    184.5,2,   184.6,2,  121.91,2,   33.75,2,    0.00,2,    2.30,2,   0.001,6,   0.001,6,    0.01,6,  2283.1,2,  2382.9,2,   7.6652,2,       20,-999.000,9,-999.0000,9, -999.00,9,   1.3776,2, -999.00,9,  -999.0,9, -999.00,9,  -999.0,9, -999.00,9,      21.55,6,     -999.0,9, -999.00,9, 20140427,      459, -28.9996,-149.9997,    34.8615,2,     -999.0,9,     -999.0,9,     -999.0,9,     -999.0,9,     -999.0,9,     -999.0,9
320620140320,       P16S,      69,          1,          4,         04,2,20140427,       0439,   -28.9996,  -149.9997,       4602,  4100.4,   1.3195,  34.7018,2,  34.7012,2,    189.4,2,   189.5,2,  121.03,2,   33.47,2,    0.00,2,    2.27,2,   0.001,2,   0.001,2,    0.00,2,  2278.4,2,  2379.3,2,   7.6682,2,       20,-999.000,9,-999.0000,1, -999.00,9,   1.3194,2, -999.00,9,  -999.0,9, -999.00,9,  -999.0,9, -999.00,9,      21.29,2,     -999.0,9, -999.00,9, 20140427,      454, -28.9996,-149.9997,    34.8648,2,     -999.0,9,     -999.0,9,     -999.0,9,     -999.0,9,     -999.0,9,     -999.0,9
320620140320,       P16S,      69,          1,          3,         03,2,20140427,       0439,   -28.9996,  -149.9997,       4602,  4300.0,   1.3180,  34.7029,2,  34.7026,2,    190.8,2,   191.0,2,  120.74,2,   33.39,2,    0.00,2,    2.26,2,-999.000,9,-999.000,9, -999.00,9,  2278.1,2,  2377.6,2,   7.6691,2,       20,-999.000,1,-999.0000,1, -999.00,9,   1.3185,2, -999.00,9,  -999.0,9, -999.00,9,  -999.0,9, -999.00,9,     -999.0,9,     -999.0,9, -999.00,9, 20140427,      449, -28.9996,-149.9997,    34.8662,2,     -999.0,9,     -999.0,9,     -999.0,9,     -999.0,9,     -999.0,9,     -999.0,9
320620140320,       P16S,      69,          1,          2,         02,2,20140427,       0439,   -28.9996,  -149.9997,       4602,  4500.2,   1.3340,  34.7032,2,  34.7032,2,    190.7,2,   191.3,2,  120.54,2,   33.39,2,    0.00,2,    2.27,2,   0.001,2,   0.001,2,    0.00,2,  2276.7,2,  2378.5,2,   7.6694,2,       20,-999.000,9,-999.0000,1, -999.00,9,   1.3342,2, -999.00,9,  -999.0,9, -999.00,9,  -999.0,9, -999.00,9,      21.21,2,     -999.0,9, -999.00,9, 20140427,      444, -28.9996,-149.9997,    34.8668,2,     -999.0,9,     -999.0,9,     -999.0,9,     -999.0,9,     -999.0,9,     -999.0,9
320620140320,       P16S,      69,          1,          1,         01,2,20140427,       0439,   -28.9996,  -149.9997,       4602,  4674.9,   1.3495,  34.7035,2,  34.7024,2,    191.3,2,   191.2,2,  120.64,2,   33.37,2,    0.00,2,    2.26,2,   0.000,2,   0.001,2,    0.00,2,  2276.8,6,  2377.3,2,   7.6701,2,       20,-999.000,1,-999.0000,1, -999.00,9,   1.3495,2, -999.00,9,  -999.0,9, -999.00,9,  -999.0,9, -999.00,9,      20.93,2,     -999.0,9, -999.00,9, 20140427,      439, -28.9996,-149.9997,    34.8660,2,     -999.0,9,     -999.0,9,     -999.0,9,     -999.0,9,     -999.0,9,     -999.0,9