BOTTLE,20230715CCHSIOCBG
EXPOCODE,SECT_ID,STNNBR,CASTNO,SAMPNO,BTLNBR,BTLNBR_FLAG_W,DATE,TIME,LATITUDE,LONGITUDE,DEPTH,CTDPRS,CTDTMP,CTDSAL,CTDSAL_FLAG_W,SALNTY,SALNTY_FLAG_W,CTDOXY,CTDOXY_FLAG_W,OXYGEN,OXYGEN_FLAG_W,SILCAT,SILCAT_FLAG_W,NITRAT,NITRAT_FLAG_W,NITRIT,NITRIT_FLAG_W,PHSPHT,PHSPHT_FLAG_W,CFC-11,CFC-11_FLAG_W,CFC-12,CFC-12_FLAG_W,SF6,SF6_FLAG_W,TCARBN,TCARBN_FLAG_W,ALKALI,ALKALI_FLAG_W,PH_TOT,PH_TOT_FLAG_W,PH_TMP,TRITUM,TRITUM_FLAG_W,HELIUM,HELIUM_FLAG_W,DELHE3,DELHE3_FLAG_W,REFTMP,REFTMP_FLAG_W,DELC13,DELC13_FLAG_W,DELC14,DELC14_FLAG_W,DELO18,DELO18_FLAG_W,DOC,DOC_FLAG_W,TDN,TDN_FLAG_W,N2O,N2O_FLAG_W,CALCIUM,CALCIUM_FLAG_W,D15N_NO3,D15N_NO3_FLAG_W,BTL_DATE,BTL_TIME,BTL_LAT,BTL_LON,SALTREF,SALTREF_FLAG_W,D18O_NO3,D18O_NO3_FLAG_W,DSI30,DSI30_FLAG_W,CDOM_NASA,CDOM_NASA_FLAG_W,CDOM_UCSB,CDOM_UCSB_FLAG_W,D15N_NO2+NO3,D15N_NO2+NO3_FLAG_W,D18O_NO2+NO3,D18O_NO2+NO3_FLAG_W
,,,,,,,,,,,METERS,DBAR,ITS-90,PSS-78,,PSS-78,,UMOL/KG,,UMOL/KG,,UMOL/KG,,UMOL/KG,,UMOL/KG,,UMOL/KG,,PMOL/KG,,PMOL/KG,,FMOL/KG,,UMOL/KG,,UMOL/KG,,,,DEG C,TU,,NMOL/KG,,PERCNT,,DEG C,,/MILLE,,/MILLE,,/MILLE,,UMOL/KG,,UMOL/KG,,NMOL/KG,,MMOL/KG,,/MILLE,,,,,,G/KG,,/MILLE,,/MILLE,,,,,,/MILLE,,/MILLE,
320620140320,       P16S,       4,          3,          5,         05,2,20140331,       0321,   -66.4993,  -156.0003,       4053,  3201.2,   0.2628,  34.6977,2,  34.6971,2,    215.9,2,   216.2,2,  133.00,2,   32.50,2,    0.00,2,    2.27,2,   0.409,2,   0.195,2,    0.14,2,    2262,2,  2361.5,2,   7.6614,2,       20,-999.000,9,-999.0000,9, -999.00,9,   0.2630,2, -999.00,9,  -999.0,9, -999.00,9,  -999.0,9, -999.00,9,      19.46,2,     -999.0,9, -999.00,9, 20140331,      343, -66.4993,-156.0003,    34.8607,2,     -999.0,9,     -999.0,9,     -999.0,9,     -999.0,9,     -999.0,9,     -999.0,9
320620140320,       P16S,       4,          3,          4,         04,2,20140331,       0321,   -66.4993,  -156.0003,       4053,  3499.2,   0.2043,  34.6943,2,  34.6932,2,    218.9,2,   218.8,2,  127.34,2,   32.46,2,    0.00,2,    2.26,2,   0.708,2,   0.370,2,    0.10,2,  -999.0,9,  -999.0,9,-999.0000,9,  -999.00,-999.000,9,-999.0000,9, -999.00,9,   0.2046,2, -999.00,9,  -999.0,9, -999.00,9,  -999.0,9, -999.00,9,      19.33,2,     -999.0,9, -999.00,9, 20140331,      336, -66.4993,-156.0003,    34.8568,2,     -999.0,9,     -999.0,9,     -999.0,9,     -999.0,9,     -999.0,9,     -999.0,9
320620140320,       P16S,       4,          3,          3,         03,2,20140331,       0321,   -66.4993,  -156.0003,       4053,  3800.9,   0.2072,  34.6939,2,  34.6936,2,    219.6,2,   219.8,2,  127.15,2,   32.41,2,    0.00,2,    2.27,2,   0.773,2,   0.398,2,    0.24,2,  2260.8,2,  2358.3,2,   7.6607,2,       20,-999.000,9,-999.0000,9, -999.00,9,   0.2077,2, -999.00,9,  -999.0,9, -999.00,9,  -999.0,9, -999.00,9,      19.27,2,     -999.0,9, -999.00,9, 20140331,      329, -66.4993,-156.0002,    34.8572,2,     -999.0,9,     -999.0,9,     -999.0,9,     -999.0,9,     -999.0,9,     -999.0,9
320620140320,       P16S,       4,          3,          2,         02,2,20140331,       0321,   -66.4993,  -156.0003,       4053,  3898.5,   0.2169,  34.6936,2,  34.6946,2,    218.7,2,   219.3,2,  126.86,2,   32.44,2,    0.00,2,    2.26,2,   0.768,2,   0.394,2,    0.18,2,  2260.6,2,  2357.6,6,   7.6652,2,       20,-999.000,9,-999.0000,9, -999.00,9,   0.2166,2, -999.00,9,  -999.0,9, -999.00,9,  -999.0,9, -999.00,9,      19.53,2,     -999.0,9, -999.00,9, 20140331,      326, -66.4993,-156.0003,    34.8582,2,     -999.0,9,     -999.0,9,     -999.0,9,     -999.0,9,     -999.0,9,     -999.0,9
320620140320,       P16S,       4,          3,          1,         01,2,20140331,       0321,   -66.4993,  -156.0003,       4053,  4111.4,   0.2350,  34.6942,3,  34.6975,3,    215.9,2,   215.9,2,  132.03,2,   32.64,2,    0.00,2,    2.27,2,   0.435,2,   0.213,2,    0.08,2,  2262.7,6,  2360.5,2,    7.689,3,       20,-999.000,9,-999.0000,9, -999.00,9,   0.2354,2, -999.00,9,  -999.0,9, -999.00,9,  -999.0,9, -999.00,9,      19.51,2,     -999.0,9, -999.00,9, 20140331,      321, -66.4993,-156.0003,    34.8611,3,     -999.0,9,     -999.0,9,     -999.0,9,     -999.0,9,     -999.0,9,     -999.0,9