BOTTLE,20230714CCHSIOADS
EXPOCODE,SECT_ID,STNNBR,CASTNO,SAMPNO,BTLNBR,BTLNBR_FLAG_W,DATE,TIME,LATITUDE,LONGITUDE,CTDPRS,CTDTMP,CTDSAL,THETA,CTDOXY,CTDOXY_FLAG_W,CTDFLUOR,CTDBEAMCP,OXYGEN,OXYGEN_FLAG_W,SALNTY,SALNTY_FLAG_W,REFTMP,REFTMP_FLAG_W
,,,,,,,,,,,DBAR,DEG C,PSS-78,DEG C,UMOL/KG,,MG/M^3,/METER,UMOL/KG,,PSS-78,,DEG C,
64PE20110724,AR07E,22,1, 1, 1,2,20110801,1515,58.432800,-26.545800,2678.927,2.8219,34.99398587,2.607368932,272.5728920,2,0.0000,0.058102309,272.4934781,2,       -999,9,2.821942,2
64PE20110724,AR07E,22,1, 2, 2,2,20110801,1515,58.432800,-26.545800,2538.359,2.8164,34.99078587,2.615856038,271.9154293,2,0.0000,0.040802309,271.7081457,2,34.99176318,2,2.816592,2
64PE20110724,AR07E,22,1, 3, 3,2,20110801,1515,58.432800,-26.545800,2029.115,3.4618,34.98158587,3.299433938,271.6068508,2,0.0000,0.022602309,271.7267558,2,34.98121869,2,3.461869,2
64PE20110724,AR07E,22,1, 4, 4,2,20110801,1515,58.432800,-26.545800,1709.593,3.6895,34.93888587,3.553924113,268.1756333,2,0.0000,0.017502309,269.4899676,2,       -999,9,3.684836,2
64PE20110724,AR07E,22,1, 5, 5,2,20110801,1515,58.432800,-26.545800,1519.208,3.7278,34.91278587,3.609083962,269.6079488,2,0.0000,0.017702309,269.0504334,2,34.91279388,2,3.728174,2
64PE20110724,AR07E,22,1, 6, 6,2,20110801,1515,58.432800,-26.545800,1266.963,3.9436,34.91508587,3.844885564,268.0542292,2,0.0000,0.018002309,267.9096799,2,       -999,9,3.943308,2
64PE20110724,AR07E,22,1, 7, 7,2,20110801,1515,58.432800,-26.545800,1012.446,4.3637,34.94088587,4.283433393,258.9280115,2,0.0000,0.018302309,258.8554501,2,       -999,9,4.367916,3
64PE20110724,AR07E,22,1, 8, 8,2,20110801,1515,58.432800,-26.545800, 758.779,5.2521,35.00308587,5.188119254,238.7031049,2,0.0000,0.021302309,239.0312329,2,       -999,9,5.251698,2
64PE20110724,AR07E,22,1, 9, 9,2,20110801,1515,58.432800,-26.545800, 508.079,6.9065,35.08538587,6.858112664,222.6807895,2,0.0000,0.022702309,221.5495561,2,       -999,9,6.910571,3
64PE20110724,AR07E,22,1,10,10,2,20110801,1515,58.432800,-26.545800, 252.768,8.1912,35.12368587,8.165104621,255.2288505,2,0.0000,0.033802309,254.7142542,2,       -999,9,8.185567,3
64PE20110724,AR07E,22,1,11,11,2,20110801,1515,58.432800,-26.545800, 102.363,9.1322,35.12498587,9.121012938,259.4292112,2,0.0000,0.035602309,259.6140053,2,       -999,9,9.132847,2
64PE20110724,AR07E,22,1,12,12,2,20110801,1515,58.432800,-26.545800,  10.314,11.834,35.07788587,11.83267582,272.6820013,2,0.2779,0.437102309,272.2980025,2,       -999,9,11.827081,3
64PE20110724,AR07E,23,1, 1, 1,2,20110801,2059,58.331400,-25.539600,2796.763,2.7849,34.99218587,2.559290858,271.8526411,2,0.0000,0.145886147,271.9650991,6,       -999,9,2.785009,2
64PE20110724,AR07E,23,1, 2, 2,2,20110801,2059,58.331400,-25.539600,2539.145,2.9286,34.97418587,2.725958989,267.5088559,2,0.0000,0.012086147,268.2267114,2,34.97498740,2,2.929228,2
64PE20110724,AR07E,23,1, 3, 3,2,20110801,2059,58.331400,-25.539600,2030.590,3.3690,34.92538587,3.208080698,272.3212243,2,0.0000,0.006986147,272.2283079,2,34.92673747,2,3.368707,2
64PE20110724,AR07E,23,1, 4, 4,2,20110801,2059,58.331400,-25.539600,1774.786,3.5609,34.91888587,3.421071557,270.2174961,2,0.0000,0.007186147,270.1912210,2,       -999,9,3.561000,2
64PE20110724,AR07E,23,1, 5, 5,2,20110801,2059,58.331400,-25.539600,1520.926,3.7582,34.91628587,3.638972303,268.8515797,2,0.0000,0.007086147,269.6187926,2,34.91707262,2,3.758466,2
64PE20110724,AR07E,23,1, 6, 6,2,20110801,2059,58.331400,-25.539600,1261.152,4.0118,34.92038587,3.912927139,266.8114413,2,0.0000,0.007186147,267.1958272,2,       -999,9,4.012106,2
64PE20110724,AR07E,23,1, 7, 7,2,20110801,2059,58.331400,-25.539600,1011.182,4.5191,34.95168587,4.437725164,255.5954983,2,0.0000,0.007286147,255.7664407,2,       -999,9,4.522412,2
64PE20110724,AR07E,23,1, 8, 8,2,20110801,2059,58.331400,-25.539600, 758.626,5.5255,35.02028587,5.459933874,234.9128114,2,0.0000,0.009186147,234.5451626,2,       -999,9,5.526242,2
64PE20110724,AR07E,23,1, 9, 9,2,20110801,2059,58.331400,-25.539600, 505.271,7.4809,35.16268587,7.430555356,247.9415860,2,0.0000,0.010186147,247.4978277,2,       -999,9,7.481802,2
64PE20110724,AR07E,23,1,10,10,2,20110801,2059,58.331400,-25.539600, 252.315,8.1823,35.13348587,8.156265081,248.3612841,2,0.0000,0.015886147,247.1025093,2,       -999,9,8.192018,3
64PE20110724,AR07E,23,1,11,11,2,20110801,2059,58.331400,-25.539600, 100.211,9.2999,35.18308587,9.288816391,255.0156861,2,0.0000,0.018086147,254.9013229,2,       -999,9,9.300250,2
64PE20110724,AR07E,23,1,12,12,2,20110801,2059,58.331400,-25.539600,  10.715,11.8118,35.08348587,11.81042594,275.1824463,2,0.7765,0.448986147,274.6311264,2,       -999,9,11.83058,4
64PE20110724,AR07E,24,1, 1, 1,2,20110802,0226,58.204300,-24.637100,2812.867,2.8145,34.98648587,2.586683841,269.6302109,2,0.0000,0.052667388,268.8764957,6,       -999,9,2.812925,2
64PE20110724,AR07E,24,1, 2, 2,2,20110802,0226,58.204300,-24.637100,2536.895,2.9488,34.97678587,2.745994191,269.9607147,2,0.0000,0.013167388,268.4835636,2,34.97874353,2,2.950829,2
64PE20110724,AR07E,24,1, 3, 3,2,20110802,0226,58.204300,-24.637100,2028.487,3.3769,34.93328587,3.216033331,272.4738653,2,0.0000,0.009267388,271.8119778,2,34.93337464,2,3.377076,2
64PE20110724,AR07E,24,1, 4, 4,2,20110802,0226,58.204300,-24.637100,1773.105,3.5487,34.92028587,3.409184061,270.6672992,2,0.0000,0.009367388,270.2386733,2,       -999,9,3.549588,2
64PE20110724,AR07E,24,1, 5, 5,2,20110802,0226,58.204300,-24.637100,1519.022,3.7265,34.91368587,3.607813256,269.9334278,2,0.0000,0.009467388,269.3144632,2,34.91440868,2,3.726612,2
64PE20110724,AR07E,24,1, 6, 6,2,20110802,0226,58.204300,-24.637100,1263.954,3.9068,34.91138587,3.808710149,269.7124171,2,0.0000,0.009867388,269.4693620,2,       -999,9,3.907291,2
64PE20110724,AR07E,24,1, 7, 7,2,20110802,0226,58.204300,-24.637100,1010.918,4.2765,34.93268587,4.197053937,261.6790751,2,0.0000,0.010167388,261.7398690,2,       -999,9,4.276647,2
64PE20110724,AR07E,24,1, 8, 8,2,20110802,0226,58.204300,-24.637100, 758.351,5.1829,34.99428587,5.119368807,240.2079890,2,0.0000,0.013567388,240.7985009,2,       -999,9,5.183810,2
64PE20110724,AR07E,24,1, 9, 9,2,20110802,0226,58.204300,-24.637100, 506.489,6.7896,35.04788587,6.741845073,211.3202473,2,0.0000,0.011367388,210.6664466,2,       -999,9,6.821745,4
64PE20110724,AR07E,24,1,10,10,2,20110802,0226,58.204300,-24.637100, 250.207,8.8976,35.16598587,8.870444926,241.3515002,2,0.0000,0.013767388,242.0423414,2,       -999,9,8.898743,2
64PE20110724,AR07E,24,1,11,11,2,20110802,0226,58.204300,-24.637100, 100.633,9.7825,35.21508587,9.771006981,256.6148705,2,0.0000,0.020567388,256.6059344,2,       -999,9,9.787858,3
64PE20110724,AR07E,24,1,12,12,2,20110802,0226,58.204300,-24.637100,   8.521,12.1014,35.13238587,12.10028913,269.7658179,2,0.8799,0.451567388,269.8926405,2,       -999,9,12.10114,2
64PE20110724,AR07E,26,1, 1, 1,2,20110802,1319,57.915333,-22.817290,3033.071,2.8278,34.98338587,2.577045929,268.5089370,2,0.0000,0.351986291,268.0889767,6,       -999,9,2.828237,2
64PE20110724,AR07E,26,1, 2, 2,2,20110802,1319,57.915333,-22.817290,2537.938,3.2088,34.94428587,3.001199975,271.1939124,2,0.0000,0.006686291,270.0626158,2,34.94670370,2,3.208028,2
64PE20110724,AR07E,26,1, 3, 3,2,20110802,1319,57.915333,-22.817290,2027.692,3.5413,34.91618587,3.378088578,270.7150205,2,0.0000,0.007586291,270.2318869,2,34.91916604,2,3.541731,2
64PE20110724,AR07E,26,1, 4, 4,2,20110802,1319,57.915333,-22.817290,1775.324,3.7245,34.91298587,3.582464906,269.8967536,2,0.0000,0.007886291,269.5552098,2,       -999,9,3.726014,2
64PE20110724,AR07E,26,1, 5, 5,2,20110802,1319,57.915333,-22.817290,1519.029,3.9238,34.91178587,3.802855785,269.8046272,2,0.0000,0.007886291,269.3553535,2,34.91219686,2,3.924385,2
64PE20110724,AR07E,26,1, 6, 6,2,20110802,1319,57.915333,-22.817290,1264.511,4.3331,34.93998587,4.230809177,260.0862469,2,0.0000,0.007986291,259.5206716,2,       -999,9,4.334134,2
64PE20110724,AR07E,26,1, 7, 7,2,20110802,1319,57.915333,-22.817290,1011.149,5.1759,34.99048587,5.089423102,241.4504338,2,0.0000,0.008086291,240.3108900,2,       -999,9,5.176196,2
64PE20110724,AR07E,26,1, 8, 8,2,20110802,1319,57.915333,-22.817290, 757.679,7.3388,35.14508587,7.262874696,213.2117030,2,0.0000,0.008686291,211.8517287,2,       -999,9,7.334813,3
64PE20110724,AR07E,26,1, 9, 9,2,20110802,1319,57.915333,-22.817290, 505.467,8.9203,35.26738587,8.864483851,248.9438060,2,0.0000,0.008586291,248.3018606,2,       -999,9,8.919731,2
64PE20110724,AR07E,26,1,10,10,2,20110802,1319,57.915333,-22.817290, 252.537,9.6732,35.30838587,9.644296109,251.9028413,2,0.0000,0.010286291,250.2836566,2,       -999,9,9.672079,2
64PE20110724,AR07E,26,1,11,11,2,20110802,1319,57.915333,-22.817290, 101.313,10.3116,35.33038587,10.29961982,254.4941488,2,0.0000,0.017386291,253.1135617,2,       -999,9,10.306641,3
64PE20110724,AR07E,26,1,12,12,2,20110802,1319,57.915333,-22.817290,   9.924,12.3186,35.12048587,12.31729091,270.4634832,2,0.8790,0.526586291,270.9842119,2,       -999,9,12.319944,2
64PE20110724,AR07E,27,1, 1, 1,2,20110802,1840,57.774042,-21.918209,3089.181,2.7890,34.99018587,2.533188735,270.8160524,2,0.0000,0.184322078,270.5537979,2,       -999,9,2.789268,2
64PE20110724,AR07E,27,1, 2, 2,2,20110802,1840,57.774042,-21.918209,3050.437,2.8066,34.98688587,2.554477056,270.3493105,2,0.0000,0.034322078,269.6724181,2,       -999,9,2.807084,2
64PE20110724,AR07E,27,1, 3, 3,2,20110802,1840,57.774042,-21.918209,2538.288,3.2209,34.94648587,3.013031739,271.5828473,2,0.0000,0.005922078,270.9175998,2,34.94725346,2,3.221303,2
64PE20110724,AR07E,27,1, 4, 4,2,20110802,1840,57.774042,-21.918209,2029.094,3.5254,34.91568587,3.362296017,271.0505540,2,0.0000,0.005822078,270.8151190,2,34.91640141,2,3.526143,2
64PE20110724,AR07E,27,1, 5, 5,2,20110802,1840,57.774042,-21.918209,1519.929,3.8795,34.91228587,3.758980359,269.4798122,2,0.0000,0.007222078,270.9047023,2,34.91282546,2,3.880176,2
64PE20110724,AR07E,27,1, 6, 6,2,20110802,1840,57.774042,-21.918209,1264.888,4.2621,34.93608587,4.160463379,261.1831820,2,0.0000,0.006722078,262.2501478,2,       -999,9,4.268556,3
64PE20110724,AR07E,27,1, 7, 7,2,20110802,1840,57.774042,-21.918209,1012.387,5.1632,35.00538587,5.076681006,241.6405216,2,0.0000,0.007822078,241.5367741,2,       -999,9,5.165438,2
64PE20110724,AR07E,27,1, 8, 8,2,20110802,1840,57.774042,-21.918209, 757.951,6.9299,35.10608587,6.856291490,213.8527667,2,0.0000,0.009922078,213.7602195,2,       -999,9,6.930509,2
64PE20110724,AR07E,27,1, 9, 9,2,20110802,1840,57.774042,-21.918209, 505.612,8.6304,35.22198587,8.575675207,248.7926632,2,0.0000,0.008422078,248.8115834,2,       -999,9,8.630616,2
64PE20110724,AR07E,27,1,10,10,2,20110802,1840,57.774042,-21.918209, 252.592,9.4527,35.28558587,9.424205713,251.1950901,2,0.0000,0.010722078,249.6667580,2,       -999,9,9.452181,2
64PE20110724,AR07E,27,1,11,11,2,20110802,1840,57.774042,-21.918209, 100.842,9.7503,35.23268587,9.738804209,259.2865992,2,0.0000,0.021022078,258.9337595,2,       -999,9,9.752372,2
64PE20110724,AR07E,27,1,12,12,2,20110802,1840,57.774042,-21.918209,   9.671,12.4655,35.13268587,12.46421401,270.4393059,2,0.9116,0.504622078,272.0791676,2,       -999,9,12.472567,3
64PE20110724,AR07E,29,1, 1, 1,2,20110803,0205,57.615600,-21.031900,2321.145,3.1257,34.93908587,2.940933549,268.6114955,2,0.0000,0.065737374,269.8288422,6,       -999,9,3.125490,2
64PE20110724,AR07E,29,1, 2, 2,2,20110803,0205,57.615600,-21.031900,2027.557,3.3540,34.92108587,3.193606765,272.0662091,2,0.0000,0.006737374,272.4083117,2,34.92223071,2,3.353790,2
64PE20110724,AR07E,29,1, 3, 3,2,20110803,0205,57.615600,-21.031900,1773.681,3.5675,34.91508587,3.427696396,269.9163832,2,0.0000,0.006537374,270.4834791,2,       -999,9,3.567850,2
64PE20110724,AR07E,29,1, 4, 4,2,20110803,0205,57.615600,-21.031900,1519.464,3.7581,34.91218587,3.639014758,269.8561855,2,0.0000,0.004137374,269.4205336,2,34.91292971,2,3.758673,2
64PE20110724,AR07E,29,1, 5, 5,2,20110803,0205,57.615600,-21.031900,1265.451,4.0273,34.92188587,3.927897582,266.3743013,2,0.0000,0.005237374,266.1601786,2,       -999,9,4.027906,2
64PE20110724,AR07E,29,1, 6, 6,2,20110803,0205,57.615600,-21.031900,1012.269,4.6041,34.96128587,4.521957868,253.6408458,2,0.0000,0.021037374,253.2216274,2,       -999,9,4.604091,2
64PE20110724,AR07E,29,1, 7, 7,2,20110803,0205,57.615600,-21.031900, 758.239,5.8921,35.04978587,5.824428460,227.2489807,2,0.0000,0.010937374,227.1893859,2,       -999,9,5.892447,2
64PE20110724,AR07E,29,1, 8, 8,2,20110803,0205,57.615600,-21.031900, 504.424,8.1978,35.21308587,8.144820474,216.8003191,2,0.0000,0.010137374,215.6163269,2,       -999,9,8.199443,2
64PE20110724,AR07E,29,1, 9, 9,2,20110803,0205,57.615600,-21.031900, 251.745,9.5227,35.29868587,9.494168611,241.3667278,2,0.0000,0.010337374,241.8466031,2,       -999,9,9.522835,2
64PE20110724,AR07E,29,1,10,10,2,20110803,0205,57.615600,-21.031900,  99.961,9.5277,35.12818587,9.516484324,263.3704522,2,0.0000,0.021837374,262.7036092,2,       -999,9,9.527556,2
64PE20110724,AR07E,29,1,11,11,2,20110803,0205,57.615600,-21.031900,   9.860,12.5121,35.19438587,12.51078477,265.7201071,2,0.9528,0.476837374,266.3545806,2,       -999,9,12.514236,2
64PE20110724,AR07E,31,1, 1, 1,2,20110803,0809,57.500800,-20.148000,1320.761,4.0233,34.94878587,3.918995047,260.1727280,2,0.0000,0.052013853,260.4536168,6,       -999,9,4.023870,2
64PE20110724,AR07E,31,1, 2, 2,2,20110803,0809,57.500800,-20.148000,1265.588,4.0183,34.94818587,3.918917147,259.8210290,2,0.0000,0.039913853,260.4296891,2,       -999,9,4.018155,2
64PE20110724,AR07E,31,1, 3, 3,2,20110803,0809,57.500800,-20.148000,1011.954,5.0217,35.01498587,4.936288175,244.2060365,2,0.0000,0.007113853,244.3480975,2,       -999,9,5.022097,2
64PE20110724,AR07E,31,1, 4, 4,2,20110803,0809,57.500800,-20.148000, 758.831,6.3028,35.09278587,6.232673935,219.3430416,2,0.0000,0.007813853,219.7256682,2,       -999,9,6.303549,2
64PE20110724,AR07E,31,1, 5, 5,2,20110803,0809,57.500800,-20.148000, 505.177,8.3545,35.22578587,8.300845507,216.3923075,2,0.0000,0.011313853,217.0241981,2,       -999,9,8.356879,2
64PE20110724,AR07E,31,1, 6, 6,2,20110803,0809,57.500800,-20.148000, 252.085,9.5365,35.29628587,9.507904992,247.4008322,2,0.0000,0.011513853,247.4073052,2,       -999,9,9.535958,2
64PE20110724,AR07E,31,1, 7, 7,2,20110803,0809,57.500800,-20.148000, 100.392,9.9894,35.24418587,9.977778096,256.4116772,2,0.0000,0.019113853,256.7023114,2,       -999,9,9.989786,2
64PE20110724,AR07E,31,1, 8, 8,2,20110803,0809,57.500800,-20.148000,  10.919,12.4498,35.17158587,12.44834863,265.6343107,2,0.8423,0.452613853,265.9868064,2,       -999,9,12.452353,2
64PE20110724,AR07E,32,1, 1, 1,2,20110803,1247,57.365684,-19.265972, 985.887,6.1126,35.12818587,6.021308784,223.3612657,2,0.0000,0.011680087,223.5132554,6,       -999,9,6.111254,2
64PE20110724,AR07E,32,1, 2, 2,2,20110803,1247,57.365684,-19.265972, 757.957,7.3995,35.19238587,7.323149973,208.4269506,2,0.0000,0.007880087,208.7998087,2,       -999,9,7.400318,2
64PE20110724,AR07E,32,1, 3, 3,2,20110803,1247,57.365684,-19.265972, 504.894,9.1994,35.32088587,9.142580944,250.8953116,2,0.0000,0.003580087,250.8340272,2,       -999,9,9.198367,2
64PE20110724,AR07E,32,1, 4, 4,2,20110803,1247,57.365684,-19.265972, 251.677,10.1646,35.38058587,10.13486891,240.3596324,2,0.0000,0.006280087,239.6630456,2,       -999,9,10.167375,2
64PE20110724,AR07E,32,1, 5, 5,2,20110803,1247,57.365684,-19.265972, 111.910,10.5922,35.37268587,10.57872473,246.6088881,2,0.0000,0.008080087,246.7593148,2,       -999,9,10.608141,4
64PE20110724,AR07E,32,1, 6, 6,2,20110803,1247,57.365684,-19.265972,   9.896,12.6138,35.20818587,12.61247262,269.0325188,2,0.4287,0.526880087,269.5107042,2,       -999,9,12.608986,3
64PE20110724,AR07E,33,1, 1, 1,2,20110803,1637,57.235765,-18.362084,1295.992,3.9723,34.94598587,3.870695994,259.1970026,2,0.0000,0.068693795,260.2182390,6,       -999,9,3.972144,2
64PE20110724,AR07E,33,1, 2, 2,2,20110803,1637,57.235765,-18.362084,1265.440,3.9875,34.94718587,3.888428624,258.9155845,2,0.0000,0.055993795,260.0104707,2,       -999,9,3.987438,2
64PE20110724,AR07E,33,1, 3, 3,2,20110803,1637,57.235765,-18.362084,1011.942,5.6377,35.08858587,5.547472194,229.9852089,2,0.0000,0.010293795,230.2383837,2,       -999,9,5.638974,2
64PE20110724,AR07E,33,1, 4, 4,2,20110803,1637,57.235765,-18.362084, 757.977,7.5208,35.20658587,7.443752442,205.4927411,2,0.0000,0.006493795,205.5122098,2,       -999,9,7.521461,2
64PE20110724,AR07E,33,1, 5, 5,2,20110803,1637,57.235765,-18.362084, 504.485,9.5396,35.33338587,9.481572422,231.7607533,2,0.0000,0.006393795,232.4855493,2,       -999,9,9.540145,2
64PE20110724,AR07E,33,1, 6, 6,2,20110803,1637,57.235765,-18.362084, 252.558,10.7211,35.43388587,10.69022828,238.5225857,2,0.0000,0.007593795,238.2611102,2,       -999,9,10.720854,2
64PE20110724,AR07E,33,1, 7, 7,2,20110803,1637,57.235765,-18.362084, 100.963,11.3186,35.44958587,11.30590856,248.6730449,2,0.0000,0.013193795,249.0159841,2,       -999,9,11.310281,3
64PE20110724,AR07E,33,1, 8, 8,2,20110803,1637,57.235765,-18.362084,  10.398,12.8708,35.29228587,12.86938512,269.3152324,2,0.8017,0.582893795,269.5549165,2,       -999,9,12.901248,4
64PE20110724,AR07E,34,1, 1, 1,2,20110803,2055,57.096483,-17.450556,1324.070,4.1853,34.96228587,4.079047250,253.3419419,2,0.0000,0.069600000,254.6096000,6,       -999,9,4.185472,2
64PE20110724,AR07E,34,1, 2, 2,2,20110803,2055,57.096483,-17.450556,1265.172,4.6400,34.99958587,4.534594541,250.5658199,2,0.0000,0.014600000,251.2002319,2,       -999,9,4.645928,3
64PE20110724,AR07E,34,1, 3, 3,2,20110803,2055,57.096483,-17.450556,1011.581,6.3060,35.15078587,6.210660734,221.7781506,2,0.0000,0.012000000,222.7068609,2,       -999,9,6.306380,2
64PE20110724,AR07E,34,1, 4, 4,2,20110803,2055,57.096483,-17.450556, 757.491,8.1143,35.25988587,8.033939919,201.9178948,2,0.0000,0.011300000,202.2431804,2,       -999,9,8.115989,2
64PE20110724,AR07E,34,1, 5, 5,2,20110803,2055,57.096483,-17.450556, 505.145,9.7408,35.37398587,9.681929124,234.2549688,2,0.0000,0.010000000,236.1503496,2,       -999,9,9.740439,2
64PE20110724,AR07E,34,1, 6, 6,2,20110803,2055,57.096483,-17.450556, 252.431,10.4546,35.36958587,10.424252600,238.2537791,2,0.0000,0.012300000,239.8860988,2,       -999,9,10.453697,2
64PE20110724,AR07E,34,1, 7, 7,2,20110803,2055,57.096483,-17.450556, 100.723,11.2284,35.42198587,11.21580812,252.6924410,2,0.0000,0.016600000,253.0377291,2,       -999,9,11.227176,2
64PE20110724,AR07E,34,1, 8, 8,2,20110803,2055,57.096483,-17.450556,   9.606,13.3933,35.43928587,13.39195563,260.2265595,2,0.5515,0.286200000,261.6506843,2,       -999,9,13.391707,2
64PE20110724,AR07E,35,1, 1, 1,2,20110804,0112,56.965863,-16.533161,1210.816,4.9767,35.02918587,4.873168857,241.8939355,2,0.0081,0.092124820,244.0657576,6,       -999,9,4.979353,2
64PE20110724,AR07E,35,1, 2, 2,2,20110804,0112,56.965863,-16.533161,1011.342,7.1904,35.19858587,7.088406455,209.8382276,2,0.0000,0.011024820,212.0894009,2,       -999,9,7.195322,3
64PE20110724,AR07E,35,1, 3, 3,2,20110804,0112,56.965863,-16.533161, 758.156,8.9601,35.30528587,8.874950455,236.5608234,2,0.0000,0.011324820,237.1877566,2,       -999,9,8.960281,2
64PE20110724,AR07E,35,1, 4, 4,2,20110804,0112,56.965863,-16.533161, 502.332,9.5505,35.36038587,9.492666965,253.5283262,2,0.0000,0.009924820,253.6245993,2,       -999,9,9.549972,2
64PE20110724,AR07E,35,1, 5, 5,2,20110804,0112,56.965863,-16.533161, 251.345,10.2869,35.38748587,10.25698326,245.4858832,2,0.0000,0.011624820,245.8349207,2,       -999,9,10.287677,2
64PE20110724,AR07E,35,1, 6, 6,2,20110804,0112,56.965863,-16.533161,  99.627,11.0034,35.42518587,10.99110684,251.1737679,2,0.0009,0.021924820,251.1081310,2,       -999,9,11.003393,2
64PE20110724,AR07E,35,1, 7, 7,2,20110804,0112,56.965863,-16.533161,   9.849,12.8404,35.32248587,12.83906157,260.7294888,2,0.0803,0.077124820,260.7818230,2,       -999,9,12.825416,4