BOTTLE,20230714CCHSIOADS
EXPOCODE,SECT_ID,STNNBR,CASTNO,SAMPNO,BTLNBR,BTLNBR_FLAG_W,DATE,TIME,LATITUDE,LONGITUDE,CTDPRS,CTDTMP,CTDSAL,THETA,CTDOXY,CTDOXY_FLAG_W,CTDFLUOR,CTDBEAMCP,OXYGEN,OXYGEN_FLAG_W,SALNTY,SALNTY_FLAG_W,REFTMP,REFTMP_FLAG_W
,,,,,,,,,,,DBAR,DEG C,PSS-78,DEG C,UMOL/KG,,MG/M^3,/METER,UMOL/KG,,PSS-78,,DEG C,
64PE20110724,AR07E,12,1, 1, 1,2,20110730,1232,59.297204,-35.896019,3134.140,1.5904,34.89948587,1.357454923,299.1540129,2,0.0000,0.044808225,297.9694688,6,       -999,9,1.591134,2
64PE20110724,AR07E,12,1, 2, 2,2,20110730,1232,59.297204,-35.896019,3049.885,2.0724,34.90708587,1.836905060,290.8119827,2,0.0000,0.017008225,       -999,5,       -999,9,2.073745,2
64PE20110724,AR07E,12,1, 3, 3,2,20110730,1232,59.297204,-35.896019,2538.313,2.9896,34.93378587,2.786073199,276.4135354,2,0.0000,0.008008225,274.9111058,2,34.93457816,2,2.989812,2
64PE20110724,AR07E,12,1, 4, 4,2,20110730,1232,59.297204,-35.896019,2028.925,3.3626,34.94828587,3.201858051,274.7608591,2,0.0000,0.009408225,273.3501410,2,34.94827047,2,3.363172,2
64PE20110724,AR07E,12,1, 5, 5,2,20110730,1232,59.297204,-35.896019,1519.445,3.6172,34.93028587,3.499689668,272.6891687,2,0.0000,0.009808225,272.1337531,2,34.93026697,2,3.618300,2
64PE20110724,AR07E,12,1, 6, 6,2,20110730,1232,59.297204,-35.896019,1265.276,3.6862,34.90908587,3.590129215,276.6721587,2,0.0000,0.009308225,275.6370605,2,       -999,9,3.686455,2
64PE20110724,AR07E,12,1, 7, 7,2,20110730,1232,59.297204,-35.896019,1011.713,3.6960,34.88538587,3.621080154,282.3697317,2,0.0000,0.010008225,281.8896740,2,       -999,9,3.695738,2
64PE20110724,AR07E,12,1, 8, 8,2,20110730,1232,59.297204,-35.896019, 757.841,3.9915,34.90488587,3.935078017,280.7663963,2,0.0000,0.011608225,280.3219527,2,       -999,9,3.991208,2
64PE20110724,AR07E,12,1, 9, 9,2,20110730,1232,59.297204,-35.896019, 504.990,4.3447,34.91868587,4.306666327,289.8235127,2,0.0000,0.015608225,290.1028425,2,       -999,9,4.347220,2
64PE20110724,AR07E,12,1,10,10,2,20110730,1232,59.297204,-35.896019, 251.131,4.9118,34.93548587,4.892242738,281.3147341,2,0.0000,0.018908225,279.9378768,2,       -999,9,4.912010,2
64PE20110724,AR07E,12,1,11,11,2,20110730,1232,59.297204,-35.896019,  99.914,6.2114,34.98308587,6.202711367,275.8784900,2,0.0000,0.029008225,275.2822672,2,       -999,9,6.211036,2
64PE20110724,AR07E,12,1,12,12,2,20110730,1232,59.297204,-35.896019,  10.026,9.4956,34.86568587,9.494486864,288.2457939,2,0.3413,0.343208225,289.2603858,2,       -999,9,9.505136,3
64PE20110724,AR07E,13,1, 1, 1,2,20110730,1801,59.195960,-34.936621,2525.900,3.1506,34.94448587,2.945278008,273.8031947,2,0.0000,0.013302309,274.0903996,6,       -999,9,3.149443,2
64PE20110724,AR07E,13,1, 2, 2,2,20110730,1801,59.195960,-34.936621,2028.736,3.3975,34.95238587,3.236235803,273.3203474,2,0.0000,0.005202309,273.9454336,2,34.95149032,2,3.398064,2
64PE20110724,AR07E,13,1, 3, 3,2,20110730,1801,59.195960,-34.936621,1773.719,3.4689,34.93348587,3.330350896,273.2077329,2,0.0000,0.004102309,273.9518838,2,       -999,9,3.469471,2
64PE20110724,AR07E,13,1, 4, 4,2,20110730,1801,59.195960,-34.936621,1519.551,3.7264,34.94718587,3.607583135,271.9745524,2,0.0000,0.005602309,271.5808486,2,34.94514324,2,3.726009,2
64PE20110724,AR07E,13,1, 5, 5,2,20110730,1801,59.195960,-34.936621,1265.151,3.7814,34.92168587,3.684393771,274.7295576,2,0.0000,0.005302309,274.6159363,2,       -999,9,3.782069,2
64PE20110724,AR07E,13,1, 6, 6,2,20110730,1801,59.195960,-34.936621,1014.188,3.7738,34.89198587,3.698057825,280.6601415,2,0.0000,0.005902309,280.8477398,2,34.88824617,2,3.774606,2
64PE20110724,AR07E,13,1, 7, 7,2,20110730,1801,59.195960,-34.936621, 758.083,4.2214,34.92698587,4.163579077,274.2980041,2,0.0000,0.008502309,274.2700945,2,       -999,9,4.220156,2
64PE20110724,AR07E,13,1, 8, 8,2,20110730,1801,59.195960,-34.936621, 504.050,4.8966,34.96428587,4.856439151,270.0275727,2,0.0000,0.012502309,270.3366650,2,       -999,9,4.897003,2
64PE20110724,AR07E,13,1, 9, 9,2,20110730,1801,59.195960,-34.936621, 252.871,5.7495,34.98138587,5.728137865,280.2405047,2,0.0000,0.024302309,280.3271208,2,       -999,9,5.761941,3
64PE20110724,AR07E,13,1,10,10,2,20110730,1801,59.195960,-34.936621, 101.979,6.4701,34.96368587,6.461030151,284.1870303,2,0.0245,0.033002309,284.3712925,2,       -999,9,6.472545,2
64PE20110724,AR07E,13,1,11,11,2,20110730,1801,59.195960,-34.936621,  10.178,9.5561,34.86778587,9.554965386,289.2581138,2,0.2550,0.215702309,288.4009587,2,       -999,9,9.556078,2
64PE20110724,AR07E,14,1, 1, 1,2,20110730,2346,59.100133,-33.895201,2524.658,3.1716,34.94458587,2.966013850,273.3951422,2,0.0000,0.006824242,273.0861315,6,       -999,9,3.171666,2
64PE20110724,AR07E,14,1, 2, 2,2,20110730,2346,59.100133,-33.895201,2027.704,3.3907,34.93888587,3.229680458,273.8652992,2,0.0000,0.001424242,274.2472726,2,34.93781944,2,3.395899,3
64PE20110724,AR07E,14,1, 3, 3,2,20110730,2346,59.100133,-33.895201,1773.390,3.5724,34.93828587,3.432490460,272.2114839,2,0.0000,0.004224242,272.1116769,2,       -999,9,3.573652,2
64PE20110724,AR07E,14,1, 4, 4,2,20110730,2346,59.100133,-33.895201,1519.550,3.7699,34.93718587,3.650609020,271.5901617,2,0.0000,0.005524242,270.5552783,2,34.93540185,2,3.767645,2
64PE20110724,AR07E,14,1, 5, 5,2,20110730,2346,59.100133,-33.895201,1265.096,3.7807,34.89948587,3.683751935,277.7086445,2,0.0000,0.005124242,277.5659665,2,       -999,9,3.781116,2
64PE20110724,AR07E,14,1, 6, 6,2,20110730,2346,59.100133,-33.895201,1012.123,4.1111,34.91458587,4.032863540,277.5180724,2,0.0000,0.006124242,277.2409050,2,34.91327405,2,4.117199,3
64PE20110724,AR07E,14,1, 7, 7,2,20110730,2346,59.100133,-33.895201, 757.384,4.8464,34.94978587,4.784960198,269.1100611,2,0.0000,0.010824242,269.0437658,2,       -999,9,4.851475,3
64PE20110724,AR07E,14,1, 8, 8,2,20110730,2346,59.100133,-33.895201, 504.488,5.8911,34.99728587,5.847018434,281.0169600,2,0.0000,0.011024242,280.5533954,2,       -999,9,5.891282,2
64PE20110724,AR07E,14,1, 9, 9,2,20110730,2346,59.100133,-33.895201, 252.691,6.4423,35.02988587,6.419587775,279.4702994,2,0.0000,0.019224242,279.1579458,2,       -999,9,6.441745,2
64PE20110724,AR07E,14,1,10,10,2,20110730,2346,59.100133,-33.895201, 100.441,6.6913,35.03638587,6.682185613,280.7944263,2,0.0000,0.037524242,280.7328575,2,       -999,9,6.689714,2
64PE20110724,AR07E,14,1,11,11,2,20110730,2346,59.100133,-33.895201,   9.671,9.6866,34.94128587,9.685511546,287.5555576,2,0.5166,0.261924242,286.8194888,2,       -999,9,9.686264,2
64PE20110724,AR07E,15,1, 1, 1,2,20110731,0457,59.022105,-32.999801,2298.769,3.1724,34.94638587,2.988972672,272.4154566,2,0.0000,0.012396825,273.0701360,6,       -999,9,3.172661,2
64PE20110724,AR07E,15,1, 2, 2,2,20110731,0457,59.022105,-32.999801,2028.707,3.3038,34.94988587,3.143960796,272.2286783,2,0.0000,0.007996825,272.4186495,2,34.94900898,2,3.303950,2
64PE20110724,AR07E,15,1, 3, 3,2,20110731,0457,59.022105,-32.999801,1773.460,3.4713,34.95428587,3.332681873,272.2391668,2,0.0000,0.007696825,272.2861726,2,       -999,9,3.472028,2
64PE20110724,AR07E,15,1, 4, 4,2,20110731,0457,59.022105,-32.999801,1519.875,3.6068,34.95108587,3.489318874,271.6588046,2,0.0000,0.006696825,271.2003349,2,34.95035905,2,3.607238,2
64PE20110724,AR07E,15,1, 5, 5,2,20110731,0457,59.022105,-32.999801,1266.597,3.7826,34.95218587,3.685393433,272.0941358,2,0.0000,0.006496825,269.8341473,2,       -999,9,3.782968,2
64PE20110724,AR07E,15,1, 6, 6,2,20110731,0457,59.022105,-32.999801,1011.883,3.7353,34.90618587,3.660024002,276.3393860,2,0.0000,0.007096825,276.0828707,2,34.90619742,2,3.735025,2
64PE20110724,AR07E,15,1, 7, 7,2,20110731,0457,59.022105,-32.999801, 758.589,4.1085,34.92338587,4.051305679,274.8575900,2,0.0000,0.008096825,274.2176445,2,       -999,9,4.109548,2
64PE20110724,AR07E,15,1, 8, 8,2,20110731,0457,59.022105,-32.999801, 505.298,4.6927,34.95768587,4.653239622,264.4555902,2,0.0000,0.012996825,264.0005722,2,       -999,9,4.692729,2
64PE20110724,AR07E,15,1, 9, 9,2,20110731,0457,59.022105,-32.999801, 252.583,5.2141,34.93548587,5.193830897,273.3536425,2,0.0000,0.021596825,274.1276584,2,       -999,9,5.216002,2
64PE20110724,AR07E,15,1,10,10,2,20110731,0457,59.022105,-32.999801,  99.855,5.9515,34.93898587,5.943024541,286.5056331,2,0.0000,0.027996825,286.4553832,2,       -999,9,5.950574,2
64PE20110724,AR07E,15,1,11,11,2,20110731,0457,59.022105,-32.999801,   9.372,10.1852,34.88908587,10.18411152,283.7819940,2,0.2307,0.171696825,283.7123360,2,       -999,9,10.182818,2
64PE20110724,AR07E,16,1, 1, 1,2,20110731,0956,58.935857,-32.024968,1786.008,3.8373,34.97168587,3.692594783,268.1285737,2,0.0000,0.009627424,269.7733788,6,       -999,9,3.837074,2
64PE20110724,AR07E,16,1, 2, 2,2,20110731,0956,58.935857,-32.024968,1774.578,3.8359,34.97178587,3.692286887,269.3888792,2,0.0000,0.009527424,269.9077140,2,       -999,9,3.836060,2
64PE20110724,AR07E,16,1, 3, 3,2,20110731,0956,58.935857,-32.024968,1519.526,3.8535,34.97008587,3.733170308,268.6181149,2,0.0000,0.010127424,269.1686951,2,34.97034971,2,3.853443,2
64PE20110724,AR07E,16,1, 4, 4,2,20110731,0956,58.935857,-32.024968,1265.249,3.8820,34.96858587,3.783916533,268.8774309,2,0.0000,0.008727424,268.7172637,2,       -999,9,3.882005,2
64PE20110724,AR07E,16,1, 5, 5,2,20110731,0956,58.935857,-32.024968,1012.661,4.0664,34.94078587,3.988421178,268.9383620,2,0.0000,0.005527424,268.6844495,2,34.94000152,2,4.066987,2
64PE20110724,AR07E,16,1, 6, 6,2,20110731,0956,58.935857,-32.024968, 759.564,4.5849,34.96538587,4.524777888,256.3316990,2,0.0000,0.009127424,257.1363616,2,       -999,9,4.587172,2
64PE20110724,AR07E,16,1, 7, 7,2,20110731,0956,58.935857,-32.024968, 505.212,5.5857,35.01348587,5.542719365,237.1651502,2,0.0000,0.013627424,236.4693171,2,       -999,9,5.583434,2
64PE20110724,AR07E,16,1, 8, 8,2,20110731,0956,58.935857,-32.024968, 251.568,6.9023,35.08138587,6.878787899,272.8746759,2,0.0000,0.017327424,272.6547535,2,       -999,9,6.901161,2
64PE20110724,AR07E,16,1, 9, 9,2,20110731,0956,58.935857,-32.024968, 101.463,7.0354,35.00848587,7.025929624,279.3548282,2,0.0000,0.022927424,279.0084103,2,       -999,9,7.037513,2
64PE20110724,AR07E,16,1,10,10,2,20110731,0956,58.935857,-32.024968,  10.267,10.2774,34.92418587,10.27620005,287.1286158,2,0.2908,0.281227424,287.0173418,2,       -999,9,10.276092,2
64PE20110724,AR07E,17,1, 1, 1,2,20110731,1411,58.846817,-31.112728,1475.939,4.1058,35.00008587,3.986515621,267.1682504,2,0.0000,0.014820491,269.3178808,6,       -999,9,4.105451,2
64PE20110724,AR07E,17,1, 2, 2,2,20110731,1411,58.846817,-31.112728,1265.839,4.1232,34.99888587,4.022680587,267.4381686,2,0.0000,0.012620491,269.3264943,2,       -999,9,4.123449,2
64PE20110724,AR07E,17,1, 3, 3,2,20110731,1411,58.846817,-31.112728,1012.075,4.4547,34.99538587,4.373671091,262.8068913,2,0.0000,0.006320491,263.9564599,2,       -999,9,4.459773,3
64PE20110724,AR07E,17,1, 4, 4,2,20110731,1411,58.846817,-31.112728, 758.954,5.6031,35.06168587,5.537006099,245.0906614,2,0.0000,0.006820491,246.4799802,2,       -999,9,5.602366,2
64PE20110724,AR07E,17,1, 5, 5,2,20110731,1411,58.846817,-31.112728, 506.085,7.0296,35.14258587,6.980895875,265.2055062,2,0.0000,0.009320491,265.8680418,2,       -999,9,7.029343,2
64PE20110724,AR07E,17,1, 6, 6,2,20110731,1411,58.846817,-31.112728, 250.153,7.5941,35.17588587,7.569377356,266.1157976,2,0.0000,0.017720491,266.2901579,2,       -999,9,7.592326,2
64PE20110724,AR07E,17,1, 7, 7,2,20110731,1411,58.846817,-31.112728, 100.387,7.8692,35.10758587,7.859180294,266.4666550,2,0.0000,0.031120491,266.5006052,2,       -999,9,7.869500,2
64PE20110724,AR07E,17,1, 8, 8,2,20110731,1411,58.846817,-31.112728,   9.205,10.5481,35.04538587,10.54700438,282.8569857,2,0.6677,0.406920491,284.4598887,2,       -999,9,10.547328,2
64PE20110724,AR07E,18,1, 1, 1,2,20110731,1836,58.749700,-30.193700,1651.016,3.6804,34.97558587,3.550194989,270.5193201,2,0.0000,0.012889755,270.3788223,6,       -999,9,3.680775,2
64PE20110724,AR07E,18,1, 2, 2,2,20110731,1836,58.749700,-30.193700,1519.462,3.7701,34.98498587,3.650694920,270.2446281,2,0.0000,0.013689755,269.8626632,2,       -999,9,3.769535,2
64PE20110724,AR07E,18,1, 3, 3,2,20110731,1836,58.749700,-30.193700,1265.546,3.9278,34.96508587,3.829256720,268.5618429,2,0.0000,0.009689755,267.6433057,2,       -999,9,3.928117,2
64PE20110724,AR07E,18,1, 4, 4,2,20110731,1836,58.749700,-30.193700,1012.523,3.9763,34.92558587,3.899059328,267.5813789,2,0.0000,0.006289755,268.0814377,2,       -999,9,3.973632,2
64PE20110724,AR07E,18,1, 5, 5,2,20110731,1836,58.749700,-30.193700, 757.414,4.9022,34.98718587,4.840386987,248.9814114,2,0.0000,0.007989755,248.6134867,2,       -999,9,4.902323,2
64PE20110724,AR07E,18,1, 6, 6,2,20110731,1836,58.749700,-30.193700, 505.689,6.4862,35.09248587,6.439645605,236.7758033,2,0.0000,0.011689755,236.1390856,2,       -999,9,6.477612,3
64PE20110724,AR07E,18,1, 7, 7,2,20110731,1836,58.749700,-30.193700, 251.858,7.6299,35.16748587,7.604941533,263.8758781,2,0.0000,0.025289755,263.3677041,2,       -999,9,7.629603,2
64PE20110724,AR07E,18,1, 8, 8,2,20110731,1836,58.749700,-30.193700, 100.133,8.0528,35.09338587,8.042669596,260.0635267,2,0.0000,0.029689755,258.9693342,2,       -999,9,8.061789,3
64PE20110724,AR07E,18,1, 9, 9,2,20110731,1836,58.749700,-30.193700,   8.948,10.7344,35.01498587,10.73332322,282.6553338,2,0.8868,0.433189755,282.7852089,2,       -999,9,10.73177,2
64PE20110724,AR07E,19,1, 1, 1,2,20110731,2347,58.683100,-29.232300,2249.092,3.0160,34.99648587,2.839773730,272.6131279,2,0.0000,0.031134199,272.5998973,6,       -999,9,3.015978,2
64PE20110724,AR07E,19,1, 2, 2,2,20110731,2347,58.683100,-29.232300,2027.727,3.1027,34.99588587,2.945838788,272.8087692,2,0.0000,0.022434199,272.2059015,2,34.99558256,2,3.101970,2
64PE20110724,AR07E,19,1, 3, 3,2,20110731,2347,58.683100,-29.232300,1773.992,3.4684,34.98358587,3.329686358,271.3379091,2,0.0000,0.011634199,271.0932501,2,       -999,9,3.468498,2
64PE20110724,AR07E,19,1, 4, 4,2,20110731,2347,58.683100,-29.232300,1517.352,3.6298,34.94868587,3.512284303,270.9375893,4,0.0000,0.006734199,270.3040385,2,34.94898857,2,3.630800,2
64PE20110724,AR07E,19,1, 5, 5,2,20110731,2347,58.683100,-29.232300,1265.653,3.8434,34.93588587,3.745722288,271.8082257,4,0.0000,0.006134199,268.3694144,2,       -999,9,3.844228,2
64PE20110724,AR07E,19,1, 6, 6,2,20110731,2347,58.683100,-29.232300,1012.182,4.0685,34.92198587,3.990577029,269.2180866,4,0.0000,0.005934199,266.4612388,2,       -999,9,4.068129,2
64PE20110724,AR07E,19,1, 7, 7,2,20110731,2347,58.683100,-29.232300, 756.748,4.8087,34.97578587,4.747501768,254.0105192,4,0.0000,0.007834199,250.5105853,2,       -999,9,4.816906,3
64PE20110724,AR07E,19,1, 8, 8,2,20110731,2347,58.683100,-29.232300, 504.168,6.4734,35.08958587,6.427042035,240.1895829,4,0.0000,0.011034199,235.5404906,2,       -999,9,6.472731,2
64PE20110724,AR07E,19,1, 9, 9,2,20110731,2347,58.683100,-29.232300, 251.581,7.6719,35.18458587,7.646883356,270.1529818,4,0.0000,0.022834199,265.3192802,2,       -999,9,7.672411,2
64PE20110724,AR07E,19,1,10,10,2,20110731,2347,58.683100,-29.232300, 100.962,7.6353,35.01338587,7.625415709,271.2594194,4,0.0000,0.029334199,266.7844281,2,       -999,9,7.638697,2
64PE20110724,AR07E,19,1,11,11,2,20110731,2347,58.683100,-29.232300,   9.781,10.7508,34.98848587,10.74962213,285.4754646,4,0.8431,0.378634199,280.4284844,2,       -999,9,10.74929,2
64PE20110724,AR07E,20,1, 1, 1,2,20110801,0456,58.582800,-28.326500,2107.086,2.9676,34.99458587,2.805483549,271.3344390,2,0.0000,0.033988600,272.3813732,6,       -999,9,2.966597,2
64PE20110724,AR07E,20,1, 2, 2,2,20110801,0456,58.582800,-28.326500,2029.055,3.0162,34.99428587,2.860532004,271.2522130,2,0.0000,0.022888600,272.1697104,2,34.99566318,2,3.016554,2
64PE20110724,AR07E,20,1, 3, 3,2,20110801,0456,58.582800,-28.326500,1774.150,3.3407,34.96508587,3.203727481,270.8074328,2,0.0000,0.005788600,271.3321449,2,       -999,9,3.339486,2
64PE20110724,AR07E,20,1, 4, 4,2,20110801,0456,58.582800,-28.326500,1519.400,3.6856,34.94898587,3.567260623,269.3342238,2,0.0000,0.005288600,269.4070443,2,34.94933105,2,3.687339,2
64PE20110724,AR07E,20,1, 5, 5,2,20110801,0456,58.582800,-28.326500,1266.148,3.9024,34.92928587,3.804124122,268.2321646,2,0.0000,0.003688600,268.4028037,2,       -999,9,3.903273,2
64PE20110724,AR07E,20,1, 6, 6,2,20110801,0456,58.582800,-28.326500,1009.810,4.2883,34.94728587,4.208833676,261.9051198,2,0.0000,0.003388600,261.7337532,2,       -999,9,4.287569,2
64PE20110724,AR07E,20,1, 7, 7,2,20110801,0456,58.582800,-28.326500, 756.537,5.0611,34.99888587,4.998428776,245.8044746,2,0.0000,0.005088600,245.9774793,2,       -999,9,5.061074,2
64PE20110724,AR07E,20,1, 8, 8,2,20110801,0456,58.582800,-28.326500, 506.236,6.7067,35.09708587,6.659246698,237.3588986,2,0.0000,0.009888600,237.4237189,2,       -999,9,6.733680,4
64PE20110724,AR07E,20,1, 9, 9,2,20110801,0456,58.582800,-28.326500, 253.560,7.5094,35.10608587,7.484524171,254.0792918,2,0.0000,0.015888600,253.9923070,2,       -999,9,7.525716,4
64PE20110724,AR07E,20,1,10,10,2,20110801,0456,58.582800,-28.326500, 101.379,8.0127,35.00648587,8.002486939,263.5491589,2,0.0000,0.017488600,262.7501771,2,       -999,9,8.037487,4
64PE20110724,AR07E,20,1,11,11,2,20110801,0456,58.582800,-28.326500,  10.328,10.7379,34.96938587,10.73665748,279.4414501,2,0.7881,0.353888600,278.9593623,2,       -999,9,10.738409,2
64PE20110724,AR07E,21,1, 1, 1,2,20110801,1015,58.502700,-27.404800,2230.927,2.8413,34.99388587,2.669697548,271.5485339,2,0.0000,0.038467965,272.2514914,6,       -999,9,2.840813,2
64PE20110724,AR07E,21,1, 2, 2,2,20110801,1015,58.502700,-27.404800,2029.610,3.0039,34.98648587,2.848393687,270.5353564,2,0.0000,0.016267965,271.2377348,2,34.98722836,2,3.005556,2
64PE20110724,AR07E,21,1, 3, 3,2,20110801,1015,58.502700,-27.404800,1775.271,3.3340,34.96438587,3.197017591,270.9125210,2,0.0000,0.008967965,271.2205197,2,       -999,9,3.334261,2
64PE20110724,AR07E,21,1, 4, 4,2,20110801,1015,58.502700,-27.404800,1521.347,3.4611,34.92488587,3.345233775,270.7993876,2,0.0000,0.007767965,270.9687887,2,34.92478830,2,3.460693,2
64PE20110724,AR07E,21,1, 5, 5,2,20110801,1015,58.502700,-27.404800,1268.296,3.8917,34.95648587,3.793283340,267.9388284,2,0.0000,0.009767965,267.7475064,2,       -999,9,3.891276,2
64PE20110724,AR07E,21,1, 6, 6,2,20110801,1015,58.502700,-27.404800,1012.352,4.1618,34.95098587,4.083089243,264.2393733,2,0.0000,0.008267965,264.7836466,2,       -999,9,4.163084,2
64PE20110724,AR07E,21,1, 7, 7,2,20110801,1015,58.502700,-27.404800, 759.213,4.8446,34.99648587,4.782953810,251.7854906,2,0.0000,0.009067965,251.1671001,2,       -999,9,4.845727,2
64PE20110724,AR07E,21,1, 8, 8,2,20110801,1015,58.502700,-27.404800, 505.419,5.9239,35.04788587,5.879565971,232.9579730,2,0.0000,0.012267965,232.9744849,2,       -999,9,5.914700,3
64PE20110724,AR07E,21,1, 9, 9,2,20110801,1015,58.502700,-27.404800, 253.030,7.3883,35.10618587,7.363707968,242.4535203,2,0.0000,0.012067965,242.6107653,2,       -999,9,7.390486,2
64PE20110724,AR07E,21,1,10,10,2,20110801,1015,58.502700,-27.404800,  99.748,7.8905,35.03748587,7.880539341,269.1161724,2,0.0000,0.032967965,268.6062143,2,       -999,9,7.889828,2
64PE20110724,AR07E,21,1,11,11,2,20110801,1015,58.502700,-27.404800,   9.905,11.2407,34.99678587,11.23947185,273.5750201,2,0.3376,0.315567965,273.9611149,2,       -999,9,11.243297,2