BOTTLE,20230714CCHSIOADS
EXPOCODE,SECT_ID,STNNBR,CASTNO,SAMPNO,BTLNBR,BTLNBR_FLAG_W,DATE,TIME,LATITUDE,LONGITUDE,CTDPRS,CTDTMP,CTDSAL,THETA,CTDOXY,CTDOXY_FLAG_W,CTDFLUOR,CTDBEAMCP,OXYGEN,OXYGEN_FLAG_W,SALNTY,SALNTY_FLAG_W,REFTMP,REFTMP_FLAG_W
,,,,,,,,,,,DBAR,DEG C,PSS-78,DEG C,UMOL/KG,,MG/M^3,/METER,UMOL/KG,,PSS-78,,DEG C,
64PE20110724,AR07E,36,1, 1, 1,2,20110804,0511,56.799187,-15.678381, 639.759,9.0896,35.33588587,9.017577584,212.5578354,2,0.0000,0.050036364,212.8840782,6,       -999,9,9.089242,2
64PE20110724,AR07E,36,1, 2, 2,2,20110804,0511,56.799187,-15.678381, 505.827,9.4528,35.37468587,9.394901657,225.4570507,2,0.0000,0.033336364,226.6490472,2,       -999,9,9.452829,2
64PE20110724,AR07E,36,1, 3, 3,2,20110804,0511,56.799187,-15.678381, 253.324,10.4043,35.40478587,10.37392323,244.0838073,2,0.0000,0.013336364,243.8389407,2,       -999,9,10.403873,2
64PE20110724,AR07E,36,1, 4, 4,2,20110804,0511,56.799187,-15.678381, 101.325,10.9935,35.43258587,10.98100252,250.1382813,2,0.0058,0.014936364,250.4408172,2,       -999,9,11.00431,4
64PE20110724,AR07E,36,1, 5, 5,2,20110804,0511,56.799187,-15.678381,  10.221,13.0597,35.34958587,13.05829478,260.4751776,2,0.2847,0.174836364,261.0478381,2,       -999,9,13.064019,3
64PE20110724,AR07E,37,1, 1, 1,2,20110804,0855,56.669719,-14.793223, 172.719,9.5781,35.39908587,9.558511500,236.6207677,2,0.0245,0.077836364,236.6328582,6,       -999,9,9.579273,2
64PE20110724,AR07E,37,1, 2, 2,2,20110804,0855,56.669719,-14.793223, 101.017,9.9498,35.36898587,9.938116165,255.3458527,2,0.0044,0.045836364,255.1493809,2,       -999,9,9.949741,2
64PE20110724,AR07E,37,1, 3, 3,2,20110804,0855,56.669719,-14.793223,   9.409,12.8453,35.29048587,12.84402147,262.4229278,2,0.2508,0.197136364,262.3553224,2,       -999,9,12.847093,2
64PE20110724,AR07E,38,1, 1, 1,2,20110804,1121,56.578838,-14.196346, 319.971,9.6552,35.40508587,9.618445578,243.9546845,2,0.0164,0.051236364,244.0591964,6,       -999,9,9.654780,2
64PE20110724,AR07E,38,1, 2, 2,2,20110804,1121,56.578838,-14.196346, 252.190,9.7180,35.41598587,9.689013961,246.3119073,2,0.0108,0.028636364,246.1263802,2,       -999,9,9.718647,2
64PE20110724,AR07E,38,1, 3, 3,2,20110804,1121,56.578838,-14.196346, 100.451,10.4312,35.39308587,10.41922569,249.6985028,2,0.0065,0.021036364,249.1961156,2,       -999,9,10.43095,2
64PE20110724,AR07E,38,1, 4, 4,2,20110804,1121,56.578838,-14.196346,   9.589,13.0907,35.29178587,13.08938034,261.4508842,2,0.1028,0.153936364,261.7235769,2,       -999,9,13.087512,3
64PE20110724,AR07E,39,1, 2, 2,2,20110804,1423,56.487181,-13.599360,1937.079,3.4068,34.94158587,3.254027644,263.9609133,2,0.0000,0.105036364,265.1466842,6,       -999,9,3.407067,2
64PE20110724,AR07E,39,1, 3, 3,2,20110804,1423,56.487181,-13.599360,1773.498,3.9362,35.00018587,3.791279444,266.5348878,2,0.0000,0.083236364,267.1662365,2,       -999,9,3.938293,2
64PE20110724,AR07E,39,1, 4, 4,2,20110804,1423,56.487181,-13.599360,1518.502,4.6730,35.03188587,4.543281992,259.2075509,2,0.0000,0.009736364,259.8433844,2,       -999,9,4.677573,3
64PE20110724,AR07E,39,1, 5, 5,2,20110804,1423,56.487181,-13.599360,1264.989,5.5539,35.09838587,5.439659549,244.5441639,2,0.0000,0.004636364,244.6320453,2,       -999,9,5.553940,2
64PE20110724,AR07E,39,1, 6, 6,2,20110804,1423,56.487181,-13.599360,1011.333,7.0645,35.21288587,6.963420119,217.8138849,2,0.0053,0.006036364,217.5842035,2,       -999,9,7.063981,2
64PE20110724,AR07E,39,1, 7, 7,2,20110804,1423,56.487181,-13.599360, 758.025,8.7157,35.32138587,8.631889623,216.0559150,2,0.0000,0.008236364,215.2209367,2,       -999,9,8.717351,2
64PE20110724,AR07E,39,1, 8, 8,2,20110804,1423,56.487181,-13.599360, 504.711,9.7771,35.41848587,9.718115954,247.9968716,2,0.0000,0.013736364,248.0933756,2,       -999,9,9.777176,2
64PE20110724,AR07E,39,1, 9, 9,2,20110804,1423,56.487181,-13.599360, 252.110,10.3007,35.45628587,10.27064082,248.8024033,2,0.0000,0.012736364,248.2976429,2,       -999,9,10.300298,2
64PE20110724,AR07E,39,1,10,10,2,20110804,1423,56.487181,-13.599360, 100.557,10.9211,35.45148587,10.90874754,250.3598068,3,0.0194,0.012036364,256.4909868,2,       -999,9,10.920923,2
64PE20110724,AR07E,39,1,11,11,2,20110804,1423,56.487181,-13.599360,  10.189,13.0578,35.34848587,13.05639933,266.0123742,2,0.1915,0.217236364,266.1898021,2,       -999,9,13.058881,2
64PE20110724,AR07E,40,1, 2, 2,2,20110804,1746,56.415415,-13.158230,2412.722,2.7901,34.93208587,2.602416772,251.3186131,2,0.0000,0.047236364,251.6759367,6,       -999,9,2.790062,2
64PE20110724,AR07E,40,1, 3, 3,2,20110804,1746,56.415415,-13.158230,2028.139,3.3563,34.93038587,3.195786478,267.5710718,2,0.0000,0.026636364,267.1467709,2,       -999,9,3.355812,2
64PE20110724,AR07E,40,1, 4, 4,2,20110804,1746,56.415415,-13.158230,1774.266,3.6675,34.93008587,3.526270202,267.8390373,2,0.0000,0.004136364,267.4062402,2,       -999,9,3.670638,2
64PE20110724,AR07E,40,1, 5, 5,2,20110804,1746,56.415415,-13.158230,1519.238,4.1831,34.95978587,4.059054802,261.4963475,2,0.0000,0.001636364,261.6443152,2,       -999,9,4.183331,2
64PE20110724,AR07E,40,1, 6, 6,2,20110804,1746,56.415415,-13.158230,1265.386,5.2456,35.05848587,5.134307133,243.1324753,2,0.0000,0.003236364,243.0772024,2,       -999,9,5.246716,2
64PE20110724,AR07E,40,1, 7, 7,2,20110804,1746,56.415415,-13.158230,1011.831,6.7369,35.18958587,6.638245186,220.2121319,2,0.0000,0.004636364,219.7405395,2,       -999,9,6.735487,2
64PE20110724,AR07E,40,1, 8, 8,2,20110804,1746,56.415415,-13.158230, 758.180,8.7681,35.32348587,8.683981275,213.2057824,2,0.0000,0.008436364,212.0406003,2,       -999,9,8.764680,3
64PE20110724,AR07E,40,1, 9, 9,2,20110804,1746,56.415415,-13.158230, 504.724,9.9942,35.43608587,9.934411470,241.9776461,2,0.0000,0.012036364,241.7446617,2,       -999,9,9.997857,3
64PE20110724,AR07E,40,1,10,10,2,20110804,1746,56.415415,-13.158230, 253.318,10.5736,35.46728587,10.54289147,245.5884685,2,0.0000,0.012436364,244.7971220,2,       -999,9,10.573134,2
64PE20110724,AR07E,40,1,11,11,2,20110804,1746,56.415415,-13.158230, 100.557,11.1929,35.47928587,11.18034651,253.1569322,2,0.0076,0.012636364,251.9541446,2,       -999,9,11.191774,2
64PE20110724,AR07E,40,1,12,12,2,20110804,1746,56.415415,-13.158230,   9.840,13.825,35.44398587,13.82359302,260.8374649,2,0.3096,0.219336364,261.8607484,2,       -999,9,13.809422,4
64PE20110724,AR07E,41,1, 1, 1,2,20110804,2231,56.285456,-12.327770,2493.724,2.8209,34.93298587,2.624854189,253.1081902,2,0.0000,0.013036364,253.6297576,2,       -999,9,2.821295,2
64PE20110724,AR07E,41,1, 2, 2,2,20110804,2231,56.285456,-12.327770,2029.096,3.3854,34.92018587,3.224391168,269.5673322,2,0.0051,0.001836364,269.6691154,2,       -999,9,3.386119,2
64PE20110724,AR07E,41,1, 3, 3,2,20110804,2231,56.285456,-12.327770,1774.389,3.6461,34.92928587,3.505145343,268.1414006,2,0.0000,0.002436364,267.6088923,2,       -999,9,3.647224,2
64PE20110724,AR07E,41,1, 4, 4,2,20110804,2231,56.285456,-12.327770,1520.276,4.0587,34.95458587,3.935992231,264.3647357,2,0.0000,0.001336364,264.0146019,2,       -999,9,4.059923,2
64PE20110724,AR07E,41,1, 5, 5,2,20110804,2231,56.285456,-12.327770,1265.383,4.8078,35.01748587,4.700740702,251.3318046,2,0.0000,0.001036364,250.5585534,2,       -999,9,4.807018,2
64PE20110724,AR07E,41,1, 6, 6,2,20110804,2231,56.285456,-12.327770,1011.726,6.1277,35.14018587,6.033704729,227.7236820,2,0.0000,0.004436364,227.0843594,2,       -999,9,6.126603,2
64PE20110724,AR07E,41,1, 7, 7,2,20110804,2231,56.285456,-12.327770, 758.560,8.1529,35.28378587,8.072179865,205.2444484,2,0.0000,0.006536364,205.4123267,2,       -999,9,8.153702,2
64PE20110724,AR07E,41,1, 8, 8,2,20110804,2231,56.285456,-12.327770, 504.700,9.6982,35.40678587,9.639513560,236.9326009,2,0.0000,0.012836364,236.8440916,2,       -999,9,9.696306,2
64PE20110724,AR07E,41,1, 9, 9,2,20110804,2231,56.285456,-12.327770, 252.738,10.2709,35.44718587,10.24082288,243.1832066,2,0.0000,0.012236364,242.7108267,2,       -999,9,10.272209,2
64PE20110724,AR07E,41,1,10,10,2,20110804,2231,56.285456,-12.327770, 100.146,10.9905,35.45288587,10.97814788,254.6101936,2,0.0047,0.016436364,254.2160896,2,       -999,9,10.991672,2
64PE20110724,AR07E,41,1,11,11,2,20110804,2231,56.285456,-12.327770,   9.991,13.885,35.44048587,13.88356728,259.3179898,2,0.3343,0.140836364,259.3970647,2,       -999,9,13.882976,2
64PE20110724,AR07E,42,1, 1, 1,2,20110805,0329,56.155783,-11.496649,2664.948,2.6719,34.92778587,2.461968387,245.6351964,2,0.0000,0.080136364,243.9304798,6,       -999,9,2.672147,2
64PE20110724,AR07E,42,1,10,10,2,20110805,0329,56.155783,-11.496649, 252.282,9.8890,35.43358587,9.859682347,244.6421649,2,0.0000,0.012736364,243.1942723,2,       -999,9,9.888361,2
64PE20110724,AR07E,42,1,11,11,2,20110805,0329,56.155783,-11.496649, 100.522,11.2867,35.44178587,11.274088400,255.7608265,2,0.0333,0.035836364,254.9432229,2,       -999,9,11.287102,2
64PE20110724,AR07E,42,1,12,12,2,20110805,0329,56.155783,-11.496649,  10.549,13.8858,35.42548587,13.88428738,254.0493663,2,0.0614,0.059336364,253.3188679,2,       -999,9,13.884273,2
64PE20110724,AR07E,43,1, 1, 1,2,20110805,0813,56.030344,-10.720795,2386.562,3.0360,34.92938587,2.846496183,260.9074805,2,0.0000,0.058636364,260.0074292,6,       -999,9,3.036133,2
64PE20110724,AR07E,43,1, 2, 2,2,20110805,0813,56.030344,-10.720795,2028.888,3.5627,34.92478587,3.399024088,268.0908238,2,0.0000,0.002836364,267.8954619,2,       -999,9,3.563200,2
64PE20110724,AR07E,43,1, 3, 3,2,20110805,0813,56.030344,-10.720795,1773.932,3.8580,34.93768587,3.714253577,266.5645984,2,0.0000,0.001736364,265.3548598,2,       -999,9,3.858642,2
64PE20110724,AR07E,43,1, 4, 4,2,20110805,0813,56.030344,-10.720795,1519.103,4.4283,34.97928587,4.301428326,257.7056478,2,0.0000,0.001936364,257.1215699,2,       -999,9,4.428595,2
64PE20110724,AR07E,43,1, 5, 5,2,20110805,0813,56.030344,-10.720795,1266.023,5.4128,35.07268587,5.299838112,240.3147419,2,0.0000,0.002936364,240.1406563,2,       -999,9,5.418493,3
64PE20110724,AR07E,43,1, 6, 6,2,20110805,0813,56.030344,-10.720795,1011.474,7.3277,35.23318587,7.224620679,213.1753215,2,0.0000,0.006836364,213.0154156,2,       -999,9,7.328034,2
64PE20110724,AR07E,43,1, 7, 7,2,20110805,0813,56.030344,-10.720795, 757.959,9.3648,35.37988587,9.277378294,256.3448622,2,0.0000,0.010536364,255.3070770,2,       -999,9,9.364463,2
64PE20110724,AR07E,43,1, 8, 8,2,20110805,0813,56.030344,-10.720795, 504.799,10.0876,35.45338587,10.02745053,249.8850372,2,0.0000,0.012136364,248.3321295,2,       -999,9,10.087841,2
64PE20110724,AR07E,43,1, 9, 9,2,20110805,0813,56.030344,-10.720795, 252.667,10.8318,35.49138587,10.80069286,246.0355656,2,0.0000,0.008736364,244.2501667,2,       -999,9,10.832303,2
64PE20110724,AR07E,43,1,10,10,2,20110805,0813,56.030344,-10.720795, 100.389,11.4077,35.50118587,11.39500951,250.0444802,2,0.0003,0.011036364,264.1508055,3,       -999,9,11.407864,2
64PE20110724,AR07E,43,1,11,11,2,20110805,0813,56.030344,-10.720795,   9.542,13.3053,35.42598587,13.30397067,264.9879424,2,0.4923,0.262336364,263.8446801,2,       -999,9,13.304026,2
64PE20110724,AR07E,44,1, 1, 1,2,20110805,1249,55.881639, -9.852867,1921.975,3.5008,34.92508587,3.348136887,267.9577765,2,0.0000,0.030936364,267.7087459,6,       -999,9,3.500945,2
64PE20110724,AR07E,44,1, 2, 2,2,20110805,1249,55.881639, -9.852867,1773.251,3.7065,34.92988587,3.564847371,267.0459255,2,0.0000,0.006036364,267.2121096,2,       -999,9,3.704702,2
64PE20110724,AR07E,44,1, 3, 3,2,20110805,1249,55.881639, -9.852867,1620.793,4.0152,34.94888587,3.883735507,263.0104726,2,0.0000,0.005036364,263.5082898,2,       -999,9,4.015647,2
64PE20110724,AR07E,44,1, 4, 4,2,20110805,1249,55.881639, -9.852867,1620.671,4.0153,34.94908587,3.883845099,263.2867874,2,0.0000,0.005636364,263.5710082,2,       -999,9,4.015856,2
64PE20110724,AR07E,44,1, 5, 5,2,20110805,1249,55.881639, -9.852867,1519.458,4.2973,34.97108587,4.171905123,259.4275197,2,0.0000,0.005836364,259.3529751,2,       -999,9,4.296857,2
64PE20110724,AR07E,44,1, 6, 6,2,20110805,1249,55.881639, -9.852867,1265.359,5.6903,35.09928587,5.574739424,236.7683928,2,0.0000,0.004836364,236.9568071,2,       -999,9,5.690019,2
64PE20110724,AR07E,44,1, 7, 7,2,20110805,1249,55.881639, -9.852867,1012.346,7.4319,35.23908587,7.327945189,212.9995463,2,0.0000,0.007436364,212.9645372,2,       -999,9,7.430748,2
64PE20110724,AR07E,44,1, 8, 8,2,20110805,1249,55.881639, -9.852867, 757.659,9.6183,35.40158587,9.529511502,246.2062174,2,0.0000,0.011736364,246.9262213,2,       -999,9,9.618158,2
64PE20110724,AR07E,44,1, 9, 9,2,20110805,1249,55.881639, -9.852867, 505.883,10.2084,35.46568587,10.14767021,252.5375640,2,0.0000,0.009336364,252.9063559,2,       -999,9,10.209077,2
64PE20110724,AR07E,44,1,10,10,2,20110805,1249,55.881639, -9.852867, 251.093,10.6328,35.47018587,10.60225616,245.8451727,2,0.0000,0.011536364,       -999,5,       -999,9,10.632647,2
64PE20110724,AR07E,44,1,11,11,2,20110805,1249,55.881639, -9.852867, 101.260,11.0855,35.46938587,11.07293809,249.3264212,2,0.0000,0.013936364,249.4899043,2,       -999,9,11.085094,2
64PE20110724,AR07E,44,1,12,12,2,20110805,1249,55.881639, -9.852867,   9.083,14.1265,35.43648587,14.12518227,266.1714295,2,0.2274,0.346936364,266.6881923,2,       -999,9,14.125704,2
64PE20110724,AR07E,45,1, 2, 2,2,20110805,1538,55.816233, -9.432857, 757.650,8.7303,35.32948587,8.646443455,228.0944670,2,0.0020,0.032936364,229.0867395,2,       -999,9,8.729850,2
64PE20110724,AR07E,45,1, 3, 3,2,20110805,1538,55.816233, -9.432857, 505.069,10.1145,35.45648587,10.05421764,250.5703508,2,0.0052,0.014036364,251.2704179,2,       -999,9,10.114825,2
64PE20110724,AR07E,45,1, 4, 4,2,20110805,1538,55.816233, -9.432857, 253.018,10.4949,35.45748587,10.46437553,243.4011449,2,0.0000,0.013236364,244.2657282,2,       -999,9,10.494958,2
64PE20110724,AR07E,45,1, 5, 5,2,20110805,1538,55.816233, -9.432857, 100.553,11.0741,35.46478587,11.06163512,252.3768822,2,0.0000,0.012536364,253.0978204,2,       -999,9,11.072375,2
64PE20110724,AR07E,45,1, 6, 6,2,20110805,1538,55.816233, -9.432857,  10.858,14.1686,35.46058587,14.16702114,267.5113817,2,0.7757,0.425436364,268.1065844,2,       -999,9,14.16233,3
64PE20110724,AR07E,45,1, 7, 7,2,20110805,1538,55.816233, -9.432857,  10.563,14.1682,35.46078587,14.16666408,267.2813980,2,0.7850,0.427136364,       -999,9,       -999,9,14.169064,2
64PE20110724,AR07E,45,1, 8, 8,2,20110805,1538,55.816233, -9.432857,  10.926,14.1696,35.46088587,14.16801117,267.7955695,2,0.8084,0.426536364,       -999,9,       -999,9,    -999,9
64PE20110724,AR07E,45,1, 9, 9,2,20110805,1538,55.816233, -9.432857,  10.668,14.1711,35.46068587,14.16954859,267.1046155,2,0.8029,0.427436364,       -999,9,       -999,9,    -999,9
64PE20110724,AR07E,45,1,10,10,2,20110805,1538,55.816233, -9.432857,  10.763,14.1709,35.46088587,14.16933478,266.6878388,2,0.7948,0.424136364,       -999,9,       -999,9,    -999,9
64PE20110724,AR07E,45,1,11,11,2,20110805,1538,55.816233, -9.432857,  11.047,14.1664,35.46078587,14.16479381,267.5713868,2,0.7986,0.432636364,       -999,9,       -999,9,    -999,9
64PE20110724,AR07E,45,1,12,12,2,20110805,1538,55.816233, -9.432857,  10.707,14.1694,35.46078587,14.16784304,267.4006724,2,0.7819,0.429936364,       -999,9,       -999,9,    -999,9