BOTTLE,20230714CCHSIOADS
#Formatted Data file to fit Spec, added metadata columns from SUM file, and edited parameter names/units
# DATA CITATION
#| CCHDO Citation Information
#|
#| Please cite data downloaded from CCHDO as: 
#| [Data providers of the parameter(s) used]. [Year of file access]. [CTD/Bottle] data from cruise [expocode], 
#| [format version used]. Accessed from CCHDO [url of cruise data page]. Access date [date of download].
#| [Applicable CCHDO cruise DOI if provided].
#|
#| For example: 
#| Swift, J. and Becker, S. 2019. CTD data from Cruise 33RR20160321, exchange version. Accessed from CCHDO 
#| https://cchdo.ucsd.edu/cruise/33RR20160321. Access date 2019-08-21. CCHDO cruise DOI: 10.7942/C2008W
#|
#| Information on the scientists who provided the different parameters can be found in the cruise report. 
#| Additionally, for US GO-SHIP cruises, this information is usually in the comments section in the text headers 
#| of the Exchange bottle files.
#|
#| Users are also encouraged to acknowledge the funding program that supported the data collection in their publication. 
#| For US GO-SHIP data this is the NSF/NOAA funded U.S Repeat Hydrography Program.
#|
#| For data citation, please use the data providers listed below. 
#|
#| Dr. Hendrik M. van Aken Email: aken@nioz.nl
#|
EXPOCODE,SECT_ID,STNNBR,CASTNO,SAMPNO,BTLNBR,BTLNBR_FLAG_W,DATE,TIME,LATITUDE,LONGITUDE,CTDPRS,CTDTMP,CTDSAL,THETA,CTDOXY,CTDOXY_FLAG_W,CTDFLUOR,CTDBEAMCP,OXYGEN,OXYGEN_FLAG_W,SALNTY,SALNTY_FLAG_W,REFTMP,REFTMP_FLAG_W
,,,,,,,,,,,DBAR,DEG C,PSS-78,DEG C,UMOL/KG,,MG/M^3,/METER,UMOL/KG,,PSS-78,,DEG C,
64PE20110724,AR07E, 1,1, 1, 1,2,20110726,1318,60.978942,-35.130967, 202.556,4.9475,34.94068587,4.931740359,284.3755508,2,0.0000,0.023460606,278.2400603,4,       -999,9,4.946929,2
64PE20110724,AR07E, 1,1, 2, 2,2,20110726,1318,60.978942,-35.130967, 203.414,4.9472,34.94078587,4.931372750,283.8673926,2,0.0017,0.023460606,278.4754204,4,       -999,9,4.947801,2
64PE20110724,AR07E, 1,1, 3, 3,2,20110726,1318,60.978942,-35.130967, 203.029,4.9472,34.94078587,4.931403287,284.4872742,2,0.0000,0.023460606,278.3528359,4,       -999,9,    -999,9
64PE20110724,AR07E, 1,1, 4, 4,2,20110726,1318,60.978942,-35.130967, 202.105,4.9494,34.94098587,4.933673016,284.3066465,2,0.0000,0.023460606,278.4558567,4,       -999,9,    -999,9
64PE20110724,AR07E, 1,1, 5, 5,2,20110726,1318,60.978942,-35.130967, 204.014,4.9460,34.94068587,4.930127107,284.2557577,2,0.0000,0.023460606,278.3675222,4,       -999,9,    -999,9
64PE20110724,AR07E, 1,1, 6, 6,2,20110726,1318,60.978942,-35.130967, 202.603,4.9490,34.94088587,4.933234182,283.6456264,2,0.0000,0.023460606,278.0193594,4,       -999,9,    -999,9
64PE20110724,AR07E, 1,1, 7, 7,2,20110726,1318,60.978942,-35.130967, 203.398,4.9484,34.94088587,4.932572072,284.5386953,2,0.0000,0.023460606,278.0634725,4,       -999,9,    -999,9
64PE20110724,AR07E, 1,1, 8, 8,2,20110726,1318,60.978942,-35.130967, 202.807,4.9485,34.94088587,4.932718795,284.6644082,2,0.0000,0.023460606,278.7010799,4,       -999,9,    -999,9
64PE20110724,AR07E, 1,1, 9, 9,2,20110726,1318,60.978942,-35.130967, 203.251,4.9464,34.94078587,4.930586953,284.1323186,2,0.0000,0.023460606,279.0590515,4,       -999,9,    -999,9
64PE20110724,AR07E, 1,1,10,10,2,20110726,1318,60.978942,-35.130967, 202.987,4.9491,34.94078587,4.933303596,283.9857938,2,0.0000,0.023460606,278.5833999,4,       -999,9,    -999,9
64PE20110724,AR07E, 1,1,11,11,2,20110726,1318,60.978942,-35.130967, 203.120,4.9471,34.94078587,4.931296228,284.6242239,2,0.0000,0.023460606,278.2007975,4,       -999,9,    -999,9
64PE20110724,AR07E, 1,1,12,12,2,20110726,1318,60.978942,-35.130967, 202.753,4.9499,34.94108587,4.934120786,284.9303214,2,0.0000,0.023460606,278.5980862,4,       -999,9,    -999,9
64PE20110724,AR07E, 2,1, 1, 1,2,20110727,1112,59.210883,-39.522755,1518.865,3.5330,34.92408587,3.416525125,276.4248390,2,0.0000,0.007915007,       -999,9,       -999,9,3.533078,2
64PE20110724,AR07E, 2,1, 2, 2,2,20110727,1112,59.210883,-39.522755,1518.160,3.5325,34.92368587,3.416093937,276.0346510,2,0.0000,0.007915007,       -999,9,       -999,9,3.533093,2
64PE20110724,AR07E, 2,1, 3, 3,2,20110727,1112,59.210883,-39.522755,1518.988,3.5330,34.92388587,3.416514801,276.9775710,2,0.0000,0.007915007,       -999,9,       -999,9,3.533073,2
64PE20110724,AR07E, 2,1, 4, 4,2,20110727,1112,59.210883,-39.522755,1519.958,3.5311,34.92348587,3.414552299,276.3578546,2,0.0000,0.007915007,       -999,9,       -999,9,3.532131,2
64PE20110724,AR07E, 2,1, 5, 5,2,20110727,1112,59.210883,-39.522755,1520.489,3.5318,34.92368587,3.415196987,275.9782000,2,0.0000,0.007915007,       -999,9,       -999,9,3.531378,2
64PE20110724,AR07E, 2,1, 6, 6,2,20110727,1112,59.210883,-39.522755,1519.007,3.5310,34.92358587,3.414536904,276.7185834,2,0.0000,0.007915007,       -999,9,       -999,9,3.530935,2
64PE20110724,AR07E, 2,1, 7, 7,2,20110727,1112,59.210883,-39.522755,1518.464,3.5308,34.92358587,3.414386994,276.7382737,2,0.0000,0.007915007,       -999,9,       -999,9,3.530951,2
64PE20110724,AR07E, 2,1, 8, 8,2,20110727,1112,59.210883,-39.522755,1518.354,3.5310,34.92378587,3.414593869,277.0551013,2,0.0000,0.007915007,       -999,9,       -999,9,3.531256,2
64PE20110724,AR07E, 2,1, 9, 9,2,20110727,1112,59.210883,-39.522755,1519.531,3.5309,34.92398587,3.414390928,276.3406766,2,0.0000,0.007915007,       -999,9,       -999,9,3.531406,2
64PE20110724,AR07E, 2,1,10,10,2,20110727,1112,59.210883,-39.522755,1520.862,3.5311,34.92388587,3.414471710,276.4055123,2,0.0000,0.007915007,       -999,9,       -999,9,3.531784,2
64PE20110724,AR07E, 2,1,11,11,2,20110727,1112,59.210883,-39.522755,1519.786,3.5324,34.92378587,3.415851713,276.5062529,2,0.0000,0.007915007,       -999,9,       -999,9,3.532464,2
64PE20110724,AR07E, 2,1,12,12,2,20110727,1112,59.210883,-39.522755,1519.020,3.5335,34.92438587,3.417004970,276.8234633,2,0.0000,0.007915007,       -999,9,       -999,9,3.534336,2
64PE20110724,AR07E, 3,1, 1, 1,2,20110728,0615,59.880657,-42.466150, 205.967,5.4609,34.91698587,5.444052516,286.3521724,2,0.0000,0.023460606,286.2467004,6,       -999,9,5.465075,3
64PE20110724,AR07E, 3,1, 2, 2,2,20110728,0615,59.880657,-42.466150,  99.858,5.6050,34.70678587,5.596831506,305.6037733,2,0.1634,0.154460606,305.4011771,2,       -999,9,5.713498,3
64PE20110724,AR07E, 3,1, 3, 3,2,20110728,0615,59.880657,-42.466150,   8.872,1.1588,33.05788587,1.158426581,366.0715839,2,0.8046,0.312860606,354.6996711,3,       -999,9,1.122995,3
64PE20110724,AR07E, 4,1, 1, 1,2,20110728,0815,59.898243,-42.252009, 377.092,5.4099,34.94208587,5.378720478,284.1371225,2,0.0000,0.008403030,285.8417026,2,       -999,9,5.409144,2
64PE20110724,AR07E, 4,1, 2, 2,2,20110728,0815,59.898243,-42.252009, 253.843,5.0628,34.86668587,5.042755969,288.7963930,2,0.0205,0.014603030,290.0604109,2,       -999,9,5.061787,2
64PE20110724,AR07E, 4,1, 3, 3,2,20110728,0815,59.898243,-42.252009, 101.737,5.0576,34.84478587,5.049689159,290.7200884,2,0.0032,0.016403030,292.0569349,2,       -999,9,5.053720,2
64PE20110724,AR07E, 4,1, 4, 4,2,20110728,0815,59.898243,-42.252009,   9.564,5.7730,34.67448587,5.772211885,307.5713616,2,0.3009,0.247303030,308.5550487,2,       -999,9,5.809339,3
64PE20110724,AR07E, 5,1, 1, 1,2,20110728,1059,59.844617,-41.747478,1835.633,2.5832,34.89588587,2.451338052,288.7542596,2,0.0000,0.016615007,289.6854103,6,       -999,9,2.582804,2
64PE20110724,AR07E, 5,1, 2, 2,2,20110728,1059,59.844617,-41.747478,1774.664,2.5930,34.89628587,2.466214340,289.0040539,2,0.0000,0.017415007,289.2345752,2,       -999,9,2.592756,2
64PE20110724,AR07E, 5,1, 3, 3,2,20110728,1059,59.844617,-41.747478,1519.906,3.1261,34.90598587,3.014279307,283.7470924,2,0.0000,0.007915007,283.7736783,2,       -999,9,3.126147,2
64PE20110724,AR07E, 5,1, 4, 4,2,20110728,1059,59.844617,-41.747478,1266.888,3.5421,34.91378587,3.447277786,282.4937017,2,0.0000,0.010915007,282.7634051,2,       -999,9,3.544362,2
64PE20110724,AR07E, 5,1, 5, 5,2,20110728,1059,59.844617,-41.747478,1011.095,4.0345,34.92518587,3.956927532,279.9898891,2,0.0000,0.006715007,280.4113375,2,       -999,9,4.034467,2
64PE20110724,AR07E, 5,1, 6, 6,2,20110728,1059,59.844617,-41.747478, 758.479,4.4690,34.94998587,4.409666557,277.9774587,2,0.0000,0.007515007,277.5943793,2,       -999,9,4.469200,2
64PE20110724,AR07E, 5,1, 7, 7,2,20110728,1059,59.844617,-41.747478, 504.869,4.8585,34.95458587,4.818427974,281.9444536,2,0.0000,0.010615007,281.1172925,2,       -999,9,4.858265,2
64PE20110724,AR07E, 5,1, 8, 8,2,20110728,1059,59.844617,-41.747478, 253.350,5.6807,35.01188587,5.659418607,281.5070362,2,0.0000,0.014715007,281.1029383,2,       -999,9,5.698434,3
64PE20110724,AR07E, 5,1, 9, 9,2,20110728,1059,59.844617,-41.747478, 101.013,6.3253,35.03738587,6.316417351,286.8007043,2,0.0000,0.025615007,285.9959626,2,       -999,9,6.315258,3
64PE20110724,AR07E, 5,1,10,10,2,20110728,1059,59.844617,-41.747478,   9.283,7.9573,34.96768587,7.956374845,300.9769336,2,0.8978,0.368615007,300.0290580,2,       -999,9,7.956972,2
64PE20110724,AR07E, 6,1, 1, 1,2,20110728,1613,59.745649,-40.742578,2411.744,1.7208,34.88708587,1.552572162,300.9687954,2,0.0000,0.038422655,300.7482236,6,       -999,9,1.720882,2
64PE20110724,AR07E, 6,1, 2, 2,2,20110728,1613,59.745649,-40.742578,2029.398,2.6630,34.89748587,2.512996433,288.4588010,2,0.0000,0.018822655,288.2253350,2,       -999,9,2.663331,2
64PE20110724,AR07E, 6,1, 3, 3,2,20110728,1613,59.745649,-40.742578,1773.202,3.1564,34.92918587,3.022078693,276.4451766,2,0.0000,0.008422655,277.2274207,2,34.87567027,4,3.156456,2
64PE20110724,AR07E, 6,1, 4, 4,2,20110728,1613,59.745649,-40.742578,1519.695,3.3950,34.92668587,3.280036121,276.5445769,2,0.0000,0.009922655,276.8814765,2,34.87737469,4,3.395642,2
64PE20110724,AR07E, 6,1, 5, 5,2,20110728,1613,59.745649,-40.742578,1264.221,3.6843,34.93198587,3.588289455,274.0505905,2,0.0000,0.010322655,274.8092673,2,       -999,9,3.684513,2
64PE20110724,AR07E, 6,1, 6, 6,2,20110728,1613,59.745649,-40.742578,1012.405,3.7174,34.90258587,3.642227126,279.5856138,2,0.0000,0.009022655,279.6718717,2,34.85806047,4,3.717560,2
64PE20110724,AR07E, 6,1, 7, 7,2,20110728,1613,59.745649,-40.742578, 758.286,3.9121,34.90308587,3.856112584,282.8666720,2,0.0000,0.010022655,282.9143375,2,       -999,9,3.911842,2
64PE20110724,AR07E, 6,1, 8, 8,2,20110728,1613,59.745649,-40.742578, 504.298,4.5201,34.94988587,4.481404951,276.2817235,2,0.0000,0.013422655,276.2626016,2,       -999,9,4.520618,2
64PE20110724,AR07E, 6,1, 9, 9,2,20110728,1613,59.745649,-40.742578, 252.383,5.3212,35.00948587,5.300706055,276.5478466,2,0.0000,0.016522655,275.8143026,2,       -999,9,5.319664,2
64PE20110724,AR07E, 6,1,10,10,2,20110728,1613,59.745649,-40.742578, 100.304,5.8299,35.03778587,5.821464502,285.5713836,2,0.0114,0.029022655,285.3797323,2,       -999,9,5.830860,2
64PE20110724,AR07E, 6,1,11,11,2,20110728,1613,59.745649,-40.742578,   9.528,8.5604,34.97568587,8.559407022,295.8737813,2,0.7369,0.399222655,295.7166890,2,       -999,9,8.561767,2
64PE20110724,AR07E, 7,1, 1, 1,2,20110728,2149,59.667164,-39.744656,2816.182,1.3956,34.89118587,1.197173930,303.1515190,2,0.0000,0.038698268,302.6431100,6,       -999,9,1.396281,2
64PE20110724,AR07E, 7,1, 2, 2,2,20110728,2149,59.667164,-39.744656,2538.526,2.6249,34.92728587,2.428175247,279.5843619,2,0.0000,0.008698268,279.1297714,2,34.88595668,4,2.625374,2
64PE20110724,AR07E, 7,1, 3, 3,2,20110728,2149,59.667164,-39.744656,2028.771,3.0944,34.92888587,2.937791743,277.3324081,2,0.0000,0.008598268,276.8213477,2,34.88759565,4,3.094375,2
64PE20110724,AR07E, 7,1, 4, 4,2,20110728,2149,59.667164,-39.744656,1771.417,3.2943,34.92758587,3.158302442,276.1819523,2,0.0000,0.008798268,276.5054876,2,       -999,9,3.294431,2
64PE20110724,AR07E, 7,1, 5, 5,2,20110728,2149,59.667164,-39.744656,1519.091,3.4517,34.92088587,3.336149662,275.9213926,2,0.0000,0.009198268,275.1129434,2,34.89028236,4,3.452156,2
64PE20110724,AR07E, 7,1, 6, 6,2,20110728,2149,59.667164,-39.744656,1265.332,3.6506,34.91578587,3.554854568,275.9633616,2,0.0000,0.010198268,274.8795073,2,       -999,9,3.650893,2
64PE20110724,AR07E, 7,1, 7, 7,2,20110728,2149,59.667164,-39.744656,1011.576,3.6562,34.88808587,3.581597702,283.1098962,2,0.0000,0.009998268,282.4019369,2,       -999,9,3.655971,2
64PE20110724,AR07E, 7,1, 8, 8,2,20110728,2149,59.667164,-39.744656, 757.665,3.7682,34.88418587,3.713135033,285.5566852,2,0.0000,0.011398268,285.2968612,2,       -999,9,3.768038,2
64PE20110724,AR07E, 7,1, 9, 9,2,20110728,2149,59.667164,-39.744656, 503.512,4.1880,34.91208587,4.150705673,280.3189110,2,0.0000,0.015298268,280.6139734,2,       -999,9,4.187569,2
64PE20110724,AR07E, 7,1,10,10,2,20110728,2149,59.667164,-39.744656, 252.481,4.5079,34.91178587,4.489045359,281.7098468,2,0.0000,0.027898268,281.6421891,2,       -999,9,4.506571,2
64PE20110724,AR07E, 7,1,11,11,2,20110728,2149,59.667164,-39.744656, 100.550,5.0828,34.88008587,5.074956499,286.1939607,2,0.0000,0.029398268,285.6010055,2,       -999,9,5.079650,2
64PE20110724,AR07E, 7,1,12,12,2,20110728,2149,59.667164,-39.744656,   9.705,8.6885,34.73098587,8.687482870,294.2505808,2,0.6896,0.423398268,293.2610342,2,       -999,9,8.687496,2
64PE20110724,AR07E, 9,1, 1, 1,2,20110729,1919,59.570223,-38.771832,3003.391,1.2099,34.89108587,0.998075910,304.3474478,2,0.0000,0.168025830,305.5715769,6,       -999,9,1.210761,2
64PE20110724,AR07E, 9,1, 2, 2,2,20110729,1919,59.570223,-38.771832,2539.297,2.8238,34.92808587,2.623285788,279.1076488,2,0.0000,0.002025830,       -999,5,       -999,9,2.823990,2
64PE20110724,AR07E, 9,1, 3, 3,2,20110729,1919,59.570223,-38.771832,2028.773,3.2613,34.94068587,3.102127194,275.5193261,2,0.0000,0.005325830,275.3596913,2,34.91412037,4,3.261335,2
64PE20110724,AR07E, 9,1, 4, 4,2,20110729,1919,59.570223,-38.771832,1775.741,3.3717,34.93048587,3.234271295,275.6064154,2,0.0000,0.005025830,275.5672672,2,34.90737707,4,3.373026,2
64PE20110724,AR07E, 9,1, 5, 5,2,20110729,1919,59.570223,-38.771832,1517.699,3.5556,34.93028587,3.438952289,274.0106031,2,0.0000,0.005325830,273.6728934,2,34.91189726,4,3.556017,2
64PE20110724,AR07E, 9,1, 6, 6,2,20110729,1919,59.570223,-38.771832,1267.040,3.7019,34.92418587,3.605494699,273.8296724,2,0.0000,0.005825830,273.7815725,2,       -999,9,3.702114,2
64PE20110724,AR07E, 9,1, 7, 7,2,20110729,1919,59.570223,-38.771832,1012.049,3.6975,34.89328587,3.622527548,279.6062198,2,0.0000,0.006025830,280.3452122,2,       -999,9,3.698438,2
64PE20110724,AR07E, 9,1, 8, 8,2,20110729,1919,59.570223,-38.771832, 758.864,3.9043,34.89818587,3.848318877,282.5063226,2,0.0000,0.007025830,282.7935977,2,       -999,9,3.904321,2
64PE20110724,AR07E, 9,1, 9, 9,2,20110729,1919,59.570223,-38.771832, 505.420,4.4414,34.94018587,4.402932744,273.3006203,2,0.0000,0.012025830,273.5768298,2,       -999,9,4.442333,2
64PE20110724,AR07E, 9,1,10,10,2,20110729,1919,59.570223,-38.771832, 251.230,4.7913,34.93548587,4.771971906,282.1631090,2,0.0000,0.016425830,282.5599039,2,       -999,9,4.790500,2
64PE20110724,AR07E, 9,1,11,11,2,20110729,1919,59.570223,-38.771832, 101.006,5.5093,34.94118587,5.501073061,285.9717824,2,0.0000,0.031825830,285.7322232,2,       -999,9,5.513330,3
64PE20110724,AR07E, 9,1,12,12,2,20110729,1919,59.570223,-38.771832,   9.894,8.9243,34.91238587,8.923242871,290.8254871,2,0.6674,0.387225830,291.2240628,2,       -999,9,8.922637,2
64PE20110724,AR07E,10,1, 1, 1,2,20110730,0105,59.465367,-37.779393,3159.539,1.3906,34.89418587,1.159792293,302.0053320,2,0.0000,0.071305000,301.8782750,6,       -999,9,1.391269,2
64PE20110724,AR07E,10,1, 2, 2,2,20110730,0105,59.465367,-37.779393,3048.899,2.0268,34.89658587,1.792465767,295.1601082,2,0.0000,0.016305000,294.9743682,2,       -999,9,2.025765,2
64PE20110724,AR07E,10,1, 3, 3,2,20110730,0105,59.465367,-37.779393,2539.155,2.9288,34.93338587,2.726322553,276.9227722,2,0.0000,0.007905000,276.5004352,2,34.91792359,4,2.931156,2
64PE20110724,AR07E,10,1, 4, 4,2,20110730,0105,59.465367,-37.779393,2029.156,3.2087,34.92068587,3.050353291,277.4249577,2,0.0000,0.008305000,278.6010299,2,34.91059144,4,3.209027,2
64PE20110724,AR07E,10,1, 5, 5,2,20110730,0105,59.465367,-37.779393,1518.413,3.6244,34.92278587,3.506917238,274.5792789,2,0.0000,0.009805000,274.7433691,2,34.91818924,4,3.624750,2
64PE20110724,AR07E,10,1, 6, 6,2,20110730,0105,59.465367,-37.779393,1266.886,3.6768,34.90098587,3.580699758,278.2142840,2,0.0000,0.010005000,279.5253823,2,       -999,9,3.676803,2
64PE20110724,AR07E,10,1, 7, 7,2,20110730,0105,59.465367,-37.779393,1011.082,3.6994,34.88268587,3.624509759,283.9503340,2,0.0000,0.010505000,284.1285501,2,       -999,9,3.699565,2
64PE20110724,AR07E,10,1, 8, 8,2,20110730,0105,59.465367,-37.779393, 758.208,3.9678,34.90158587,3.911492404,282.1160923,2,0.0000,0.011305000,282.8162213,2,       -999,9,3.967664,2
64PE20110724,AR07E,10,1, 9, 9,2,20110730,0105,59.465367,-37.779393, 506.077,4.1330,34.89338587,4.095739753,293.2729198,2,0.0000,0.015105000,293.7263415,2,       -999,9,4.130618,2
64PE20110724,AR07E,10,1,10,10,2,20110730,0105,59.465367,-37.779393, 252.363,4.7006,34.94098587,4.681359783,284.2994590,2,0.0000,0.019305000,284.1252740,2,       -999,9,4.699204,2
64PE20110724,AR07E,10,1,11,11,2,20110730,0105,59.465367,-37.779393, 100.158,5.0492,34.89088587,5.041412000,288.9535999,2,0.0000,0.033705000,288.6551577,2,       -999,9,5.045085,3
64PE20110724,AR07E,10,1,12,12,2,20110730,0105,59.465367,-37.779393,   9.332,8.6354,34.64828587,8.634426878,295.1384836,2,0.8480,0.454905000,295.2590395,2,       -999,9,8.648118,3
64PE20110724,AR07E,11,1, 1, 1,2,20110730,0652,59.391497,-36.849933,3143.337,1.6788,34.90008587,1.442927834,297.0322828,2,0.0000,0.036762193,297.7524454,6,       -999,9,1.679058,2
64PE20110724,AR07E,11,1, 2, 2,2,20110730,0652,59.391497,-36.849933,3049.505,2.1687,34.90938587,1.931100121,290.1204211,2,0.0000,0.014162193,285.0711181,3,       -999,9,2.169531,2
64PE20110724,AR07E,11,1, 3, 3,2,20110730,0652,59.391497,-36.849933,2537.974,3.0195,34.93378587,2.815451132,276.3742214,2,0.0000,0.007062193,275.8052094,2,34.93011439,2,3.019937,2
64PE20110724,AR07E,11,1, 4, 4,2,20110730,0652,59.391497,-36.849933,2028.628,3.2902,34.93168587,3.130634083,275.4930856,2,0.0000,0.007362193,275.5172971,2,34.92913754,2,3.290428,2
64PE20110724,AR07E,11,1, 5, 5,2,20110730,0652,59.391497,-36.849933,1519.948,3.6176,34.92368587,3.500057073,273.4477977,2,0.0000,0.008362193,273.5150579,2,       -999,5,3.617918,2
64PE20110724,AR07E,11,1, 6, 6,2,20110730,0652,59.391497,-36.849933,1265.212,3.7162,34.91058587,3.619841573,276.6065415,2,0.0000,0.008462193,276.2014920,2,       -999,9,3.715694,2
64PE20110724,AR07E,11,1, 7, 7,2,20110730,0652,59.391497,-36.849933,1010.561,3.7239,34.88538587,3.648856632,282.3140450,2,0.0000,0.009762193,281.9326165,2,       -999,9,3.724379,2
64PE20110724,AR07E,11,1, 8, 8,2,20110730,0652,59.391497,-36.849933, 758.068,4.0569,34.90898587,4.000069671,279.9067435,2,0.0000,0.011662193,280.0335658,2,       -999,9,4.055565,2
64PE20110724,AR07E,11,1, 9, 9,2,20110730,0652,59.391497,-36.849933, 505.691,4.5432,34.93328587,4.504315896,278.9306743,2,0.0000,0.014562193,278.4296012,2,       -999,9,4.541995,2
64PE20110724,AR07E,11,1,10,10,2,20110730,0652,59.391497,-36.849933, 251.079,5.3496,34.96608587,5.329176920,278.2872038,2,0.0000,0.018362193,278.2571260,2,       -999,9,5.347547,2
64PE20110724,AR07E,11,1,11,11,2,20110730,0652,59.391497,-36.849933,  99.837,6.1049,34.99338587,6.096298618,280.1975538,2,0.0000,0.031562193,281.1132867,2,       -999,9,6.097870,3
64PE20110724,AR07E,11,1,12,12,2,20110730,0652,59.391497,-36.849933,   9.375,9.3521,34.86498587,9.351069166,287.7541928,2,0.4359,0.274162193,288.3508596,2,       -999,9,9.350499,2