BOTTLE,20111027CCHDOSIOCBG
EXPOCODE,SECT_ID,STNNBR,CASTNO,SAMPNO,BTLNBR,BTLNBR_FLAG_W,DATE,TIME,LATITUDE,LONGITUDE,DEPTH,CTDPRS,CTDTMP,CTDSAL,CTDSAL_FLAG_W,SALNTY,SALNTY_FLAG_W,OXYGEN,OXYGEN_FLAG_W,SILCAT,SILCAT_FLAG_W,NITRAT,NITRAT_FLAG_W,NITRIT,NITRIT_FLAG_W,PHSPHT,PHSPHT_FLAG_W,CFC-11,CFC-11_FLAG_W,CFC-12,CFC-12_FLAG_W,TRITUM,TRITER,TRITUM_FLAG_W,HELIUM,HELIUM_FLAG_W,DELHE3,DELHE3_FLAG_W,NEON,NEON_FLAG_W,THETA
,,,,,,,,,,,METERS,DBAR,ITS-90,PSS-78,,PSS-78,,UMOL/KG,,UMOL/KG,,UMOL/KG,,UMOL/KG,,UMOL/KG,,PMOL/KG,,PMOL/KG,,TU,TU,,NMOL/KG,,PERCNT,,NMOL/KG,,DEG C
  06BE200011,  AR04,   107,  1,     22,     22,2,20001221,2333, 16.0603, -58.6592, 5720,      8.7,  26.5550,  35.9173,2,-999.0000,9,    208.3,2,     2.17,2,     0.08,2,     0.00,9,     0.01,2,    1.568,2,    0.966,2, -999.000, -999.000,9,-999.0000,9,  -999.00,9, -999.000,9,  26.5530
  06BE200011,  AR04,   107,  1,     21,     21,2,20001221,2333, 16.0603, -58.6592, 5720,   1100.1,   5.3348,  34.7512,2,-999.0000,9,    148.4,2,    25.67,2,    31.61,2,     0.03,2,     2.04,2,    0.049,2,    0.026,2, -999.000, -999.000,9,-999.0000,9,  -999.00,9, -999.000,9,   5.2391
  06BE200011,  AR04,   107,  1,     20,     20,2,20001221,2333, 16.0603, -58.6592, 5720,   1297.4,   5.4089,  35.0237,2,-999.0000,9,    208.7,2,    16.59,2,    22.09,2,     0.01,2,     1.44,2,    0.376,2,    0.196,2, -999.000, -999.000,9,-999.0000,9,  -999.00,9, -999.000,9,   5.2930
  06BE200011,  AR04,   107,  1,     19,     19,2,20001221,2333, 16.0603, -58.6592, 5720,   1448.4,   4.7773,  35.0339,2,-999.0000,9,    238.8,2,    14.13,2,    19.25,2,     0.00,9,     1.28,2,    0.573,2,    0.294,2, -999.000, -999.000,9,-999.0000,9,  -999.00,9, -999.000,9,   4.6532
  06BE200011,  AR04,   107,  1,     18,     18,2,20001221,2333, 16.0603, -58.6592, 5720,   1598.5,   4.3474,  35.0131,2,-999.0000,9,    251.9,2,    13.65,2,    18.39,2,     0.01,2,     1.23,2,    0.677,2,    0.345,2, -999.000, -999.000,9,-999.0000,9,  -999.00,9, -999.000,9,   4.2139
  06BE200011,  AR04,   107,  1,     17,     17,2,20001221,2333, 16.0603, -58.6592, 5720,   1748.0,   4.0136,  34.9955,2,-999.0000,9,    261.5,2,    13.44,2,    17.91,2,     0.00,9,     1.18,2,    0.756,2,    0.383,2, -999.000, -999.000,9,-999.0000,9,  -999.00,9, -999.000,9,   3.8701
  06BE200011,  AR04,   107,  1,     16,     16,2,20001221,2333, 16.0603, -58.6592, 5720,   1897.7,   3.7699,  34.9843,2,-999.0000,9,    265.0,2,    14.26,2,    17.75,2,     0.01,2,     1.19,2,    0.648,2,    0.332,2, -999.000, -999.000,9,-999.0000,9,  -999.00,9, -999.000,9,   3.6155
  06BE200011,  AR04,   107,  1,     15,     15,2,20001221,2333, 16.0603, -58.6592, 5720,   2096.2,   3.5515,  34.9813,2,-999.0000,9,   -999.0,9,    25.58,2,    31.60,2,     0.01,2,     2.09,2,    0.051,4,    0.028,4, -999.000, -999.000,9,-999.0000,9,  -999.00,9, -999.000,9,   3.3813
  06BE200011,  AR04,   107,  1,     14,     14,2,20001221,2333, 16.0603, -58.6592, 5720,   2296.4,   3.2836,  34.9693,2,-999.0000,9,   -999.0,9,  -999.00,9,  -999.00,9,  -999.00,9,  -999.00,9, -999.000,9, -999.000,9, -999.000, -999.000,9,-999.0000,9,  -999.00,9, -999.000,9,   3.0984
  06BE200011,  AR04,   107,  1,     13,     13,2,20001221,2333, 16.0603, -58.6592, 5720,   2498.1,   3.0697,  34.9583,2,-999.0000,9,   -999.0,9,  -999.00,9,  -999.00,9,  -999.00,9,  -999.00,9, -999.000,9, -999.000,9, -999.000, -999.000,9,-999.0000,9,  -999.00,9, -999.000,9,   2.8686
  06BE200011,  AR04,   107,  1,     12,     12,2,20001221,2333, 16.0603, -58.6592, 5720,   2745.6,   2.8203,  34.9419,2,-999.0000,9,    264.6,2,    23.57,2,    18.42,2,     0.01,2,     1.26,2,    0.239,2,    0.121,2, -999.000, -999.000,9,-999.0000,9,  -999.00,9, -999.000,9,   2.5994
  06BE200011,  AR04,   107,  1,     11,     11,2,20001221,2333, 16.0603, -58.6592, 5720,   2998.2,   2.6450,  34.9300,2,-999.0000,9,    266.3,2,    25.60,2,    18.35,2,     0.01,2,     1.29,2,    0.271,2,    0.145,2, -999.000, -999.000,9,-999.0000,9,  -999.00,9, -999.000,9,   2.4021
  06BE200011,  AR04,   107,  1,     10,     10,2,20001221,2333, 16.0603, -58.6592, 5720,   3300.4,   2.4923,  34.9191,2,-999.0000,9,    267.6,2,    26.99,2,    18.21,2,     0.01,2,     1.25,2,    0.268,2,    0.136,2, -999.000, -999.000,9,-999.0000,9,  -999.00,9, -999.000,9,   2.2214
  06BE200011,  AR04,   107,  1,      9,      9,2,20001221,2333, 16.0603, -58.6592, 5720,   3595.8,   2.3739,  34.9106,2,-999.0000,9,    269.4,2,    27.27,2,    18.07,2,     0.01,2,     1.24,2,    0.341,2,    0.173,2, -999.000, -999.000,9,-999.0000,9,  -999.00,9, -999.000,9,   2.0742
  06BE200011,  AR04,   107,  1,      8,      8,2,20001221,2333, 16.0603, -58.6592, 5720,   3797.7,   2.3297,  34.9061,2,-999.0000,9,    268.9,2,    28.08,2,    18.03,2,     0.01,2,     1.25,2,    0.322,2,    0.165,2, -999.000, -999.000,9,-999.0000,9,  -999.00,9, -999.000,9,   2.0089
  06BE200011,  AR04,   107,  1,      7,      7,2,20001221,2333, 16.0603, -58.6592, 5720,   3998.8,   2.2921,  34.9019,2,-999.0000,9,    268.9,2,    29.48,2,    18.34,2,     0.01,2,     1.26,2,    0.298,2,    0.154,2, -999.000, -999.000,9,-999.0000,9,  -999.00,9, -999.000,9,   1.9497
  06BE200011,  AR04,   107,  1,      6,      6,2,20001221,2333, 16.0603, -58.6592, 5720,   4299.1,   2.2609,  34.8962,2,-999.0000,9,    267.2,2,    31.99,2,    18.55,2,     0.01,2,     1.29,2,    0.266,2,    0.140,2, -999.000, -999.000,9,-999.0000,9,  -999.00,9, -999.000,9,   1.8847
  06BE200011,  AR04,   107,  1,      5,      5,2,20001221,2333, 16.0603, -58.6592, 5720,   4599.4,   2.1973,  34.8848,2,  34.8793,2,    263.7,2,    37.84,2,    19.46,2,     0.01,2,     1.35,2,    0.188,2,    0.103,2, -999.000, -999.000,9,-999.0000,9,  -999.00,9, -999.000,9,   1.7874
  06BE200011,  AR04,   107,  1,      4,      4,2,20001221,2333, 16.0603, -58.6592, 5720,   4898.5,   2.0789,  34.8657,2,-999.0000,9,    256.3,2,    47.40,2,    21.31,2,     0.01,2,     1.48,2,    0.096,2,    0.057,2, -999.000, -999.000,9,-999.0000,9,  -999.00,9, -999.000,9,   1.6363
  06BE200011,  AR04,   107,  1,      3,      3,2,20001221,2333, 16.0603, -58.6592, 5720,   5196.4,   1.9685,  34.8475,2,  34.8413,2,    251.5,2,    55.30,2,    22.77,2,     0.01,2,     1.57,2,    0.059,2,    0.036,2, -999.000, -999.000,9,-999.0000,9,  -999.00,9, -999.000,9,   1.4926
  06BE200011,  AR04,   107,  1,      2,      2,2,20001221,2333, 16.0603, -58.6592, 5720,   5400.5,   1.9095,  34.8371,2,  34.8303,2,    248.0,2,    59.13,2,    23.60,2,     0.01,2,     1.61,2,    0.055,2,    0.034,2, -999.000, -999.000,9,-999.0000,9,  -999.00,9, -999.000,9,   1.4097
  06BE200011,  AR04,   107,  1,      1,      1,2,20001221,2333, 16.0603, -58.6592, 5720,   5719.0,   1.9166,  34.8324,2,  34.8278,2,    246.7,2,    61.52,2,    23.82,2,     0.01,2,     1.61,2,    0.058,2,    0.034,2, -999.000, -999.000,9,-999.0000,9,  -999.00,9, -999.000,9,   1.3749
  06BE200011,  AR04,   108,  1,     16,     16,2,20001222,0358, 16.0990, -58.8908, 5000,      9.2,  26.5510,  35.9409,2,-999.0000,9,   -999.0,9,  -999.00,9,  -999.00,9,  -999.00,9,  -999.00,9, -999.000,9, -999.000,9, -999.000, -999.000,9,-999.0000,9,  -999.00,9, -999.000,9,  26.5489
  06BE200011,  AR04,   108,  1,     17,     17,2,20001222,0358, 16.0990, -58.8908, 5000,      9.3,  26.5566,  35.9405,2,-999.0000,9,   -999.0,9,  -999.00,9,  -999.00,9,  -999.00,9,  -999.00,9, -999.000,9, -999.000,9, -999.000, -999.000,9,-999.0000,9,  -999.00,9, -999.000,9,  26.5545
  06BE200011,  AR04,   108,  1,     18,     18,2,20001222,0358, 16.0990, -58.8908, 5000,      9.4,  26.5539,  35.9411,2,-999.0000,9,   -999.0,9,  -999.00,9,  -999.00,9,  -999.00,9,  -999.00,9, -999.000,9, -999.000,9, -999.000, -999.000,9,-999.0000,9,  -999.00,9, -999.000,9,  26.5518
  06BE200011,  AR04,   108,  1,     22,     22,2,20001222,0358, 16.0990, -58.8908, 5000,      9.4,  26.5505,  35.9412,2,-999.0000,9,   -999.0,9,  -999.00,9,  -999.00,9,  -999.00,9,  -999.00,9, -999.000,9, -999.000,9, -999.000, -999.000,9,-999.0000,9,  -999.00,9, -999.000,9,  26.5484
  06BE200011,  AR04,   108,  1,     15,     15,2,20001222,0358, 16.0990, -58.8908, 5000,      9.5,  26.5527,  35.9409,2,-999.0000,9,   -999.0,9,  -999.00,9,  -999.00,9,  -999.00,9,  -999.00,9, -999.000,9, -999.000,9, -999.000, -999.000,9,-999.0000,9,  -999.00,9, -999.000,9,  26.5505
  06BE200011,  AR04,   108,  1,     19,     19,2,20001222,0358, 16.0990, -58.8908, 5000,      9.5,  26.5548,  35.9411,2,-999.0000,9,   -999.0,9,  -999.00,9,  -999.00,9,  -999.00,9,  -999.00,9, -999.000,9, -999.000,9, -999.000, -999.000,9,-999.0000,9,  -999.00,9, -999.000,9,  26.5526
  06BE200011,  AR04,   108,  1,     20,     20,2,20001222,0358, 16.0990, -58.8908, 5000,      9.7,  26.5585,  35.9408,2,-999.0000,9,   -999.0,9,  -999.00,9,  -999.00,9,  -999.00,9,  -999.00,9, -999.000,9, -999.000,9, -999.000, -999.000,9,-999.0000,9,  -999.00,9, -999.000,9,  26.5563
  06BE200011,  AR04,   108,  1,     14,     14,2,20001222,0358, 16.0990, -58.8908, 5000,      9.8,  26.5527,  35.9409,2,-999.0000,9,   -999.0,9,  -999.00,9,  -999.00,9,  -999.00,9,  -999.00,9, -999.000,9, -999.000,9, -999.000, -999.000,9,-999.0000,9,  -999.00,9, -999.000,9,  26.5505
  06BE200011,  AR04,   108,  1,     21,     21,2,20001222,0358, 16.0990, -58.8908, 5000,      9.8,  26.5611,  35.9410,2,-999.0000,9,   -999.0,9,  -999.00,9,  -999.00,9,  -999.00,9,  -999.00,9, -999.000,9, -999.000,9, -999.000, -999.000,9,-999.0000,9,  -999.00,9, -999.000,9,  26.5589
  06BE200011,  AR04,   108,  1,     13,     13,2,20001222,0358, 16.0990, -58.8908, 5000,   1995.8,   3.6373,  34.9823,2,-999.0000,9,   -999.0,9,  -999.00,9,  -999.00,9,  -999.00,9,  -999.00,9, -999.000,9, -999.000,9, -999.000, -999.000,9,-999.0000,9,  -999.00,9, -999.000,9,   3.4755
  06BE200011,  AR04,   108,  1,     12,     12,2,20001222,0358, 16.0990, -58.8908, 5000,   1999.4,   3.6385,  34.9828,2,-999.0000,9,   -999.0,9,  -999.00,9,  -999.00,9,  -999.00,9,  -999.00,9,    0.466,2,    0.242,2, -999.000, -999.000,9,-999.0000,9,  -999.00,9, -999.000,9,   3.4763
  06BE200011,  AR04,   108,  1,      9,      9,2,20001222,0358, 16.0990, -58.8908, 5000,   2099.2,   3.5274,  34.9805,2,-999.0000,9,   -999.0,9,  -999.00,9,  -999.00,9,  -999.00,9,  -999.00,9, -999.000,9, -999.000,9, -999.000, -999.000,9,-999.0000,9,  -999.00,9, -999.000,9,   3.3573
  06BE200011,  AR04,   108,  1,     10,     10,2,20001222,0358, 16.0990, -58.8908, 5000,   2099.4,   3.5320,  34.9806,2,-999.0000,9,   -999.0,9,  -999.00,9,  -999.00,9,  -999.00,9,  -999.00,9,    0.367,2,    0.189,2, -999.000, -999.000,9,-999.0000,9,  -999.00,9, -999.000,9,   3.3618
  06BE200011,  AR04,   108,  1,     11,     11,2,20001222,0358, 16.0990, -58.8908, 5000,   2099.8,   3.5340,  34.9806,2,-999.0000,9,   -999.0,9,  -999.00,9,  -999.00,9,  -999.00,9,  -999.00,9, -999.000,9, -999.000,9, -999.000, -999.000,9,-999.0000,9,  -999.00,9, -999.000,9,   3.3638
  06BE200011,  AR04,   108,  1,      8,      8,2,20001222,0358, 16.0990, -58.8908, 5000,   2196.3,   3.4044,  34.9757,2,-999.0000,9,   -999.0,9,  -999.00,9,  -999.00,9,  -999.00,9,  -999.00,9, -999.000,9, -999.000,9, -999.000, -999.000,9,-999.0000,9,  -999.00,9, -999.000,9,   3.2269
  06BE200011,  AR04,   108,  1,      7,      7,2,20001222,0358, 16.0990, -58.8908, 5000,   2199.9,   3.4031,  34.9758,2,-999.0000,9,   -999.0,9,  -999.00,9,  -999.00,9,  -999.00,9,  -999.00,9,    0.297,2,    0.155,2, -999.000, -999.000,9,-999.0000,9,  -999.00,9, -999.000,9,   3.2253
  06BE200011,  AR04,   108,  1,      5,      5,2,20001222,0358, 16.0990, -58.8908, 5000,   2300.1,   3.2740,  34.9691,2,-999.0000,9,   -999.0,9,  -999.00,9,  -999.00,9,  -999.00,9,  -999.00,9,    0.277,2,    0.142,2, -999.000, -999.000,9,-999.0000,9,  -999.00,9, -999.000,9,   3.0886
  06BE200011,  AR04,   108,  1,      6,      6,2,20001222,0358, 16.0990, -58.8908, 5000,   2300.4,   3.2742,  34.9692,2,-999.0000,9,   -999.0,9,  -999.00,9,  -999.00,9,  -999.00,9,  -999.00,9, -999.000,9, -999.000,9, -999.000, -999.000,9,-999.0000,9,  -999.00,9, -999.000,9,   3.0888
  06BE200011,  AR04,   108,  1,      4,      4,2,20001222,0358, 16.0990, -58.8908, 5000,   2395.6,   3.1760,  34.9641,2,-999.0000,9,   -999.0,9,  -999.00,9,  -999.00,9,  -999.00,9,  -999.00,9, -999.000,9, -999.000,9, -999.000, -999.000,9,-999.0000,9,  -999.00,9, -999.000,9,   2.9830
  06BE200011,  AR04,   108,  1,      3,      3,2,20001222,0358, 16.0990, -58.8908, 5000,   2400.3,   3.1609,  34.9634,2,-999.0000,9,   -999.0,9,  -999.00,9,  -999.00,9,  -999.00,9,  -999.00,9,    0.229,2,    0.117,2, -999.000, -999.000,9,-999.0000,9,  -999.00,9, -999.000,9,   2.9677
  06BE200011,  AR04,   108,  1,      2,      2,2,20001222,0358, 16.0990, -58.8908, 5000,   2498.9,   3.0529,  34.9571,2,-999.0000,9,   -999.0,9,  -999.00,9,  -999.00,9,  -999.00,9,  -999.00,9, -999.000,9, -999.000,9, -999.000, -999.000,9,-999.0000,9,  -999.00,9, -999.000,9,   2.8520
  06BE200011,  AR04,   108,  1,      1,      1,2,20001222,0358, 16.0990, -58.8908, 5000,   2499.3,   3.0485,  34.9569,2,-999.0000,9,   -999.0,9,  -999.00,9,  -999.00,9,  -999.00,9,  -999.00,9,    0.238,2,    0.120,2, -999.000, -999.000,9,-999.0000,9,  -999.00,9, -999.000,9,   2.8476
  06BE200011,  AR04,   109,  1,     22,     22,2,20001222,0850, 16.1457, -59.1637, 5390,      9.5,  26.5866,  35.7758,2,-999.0000,9,    203.5,2,     2.22,2,     0.04,2,     0.01,2,     0.02,2,    1.669,2,    0.957,2, -999.000, -999.000,9,-999.0000,9,  -999.00,9, -999.000,9,  26.5844
  06BE200011,  AR04,   109,  1,     21,     21,2,20001222,0850, 16.1457, -59.1637, 5390,    998.0,   5.8233,  34.7825,2,-999.0000,9,    142.8,2,    24.24,2,    30.95,2,     0.01,2,     2.01,2,    0.082,2,    0.041,2, -999.000, -999.000,9,-999.0000,9,  -999.00,9, -999.000,9,   5.7335
  06BE200011,  AR04,   109,  1,     20,     20,2,20001222,0850, 16.1457, -59.1637, 5390,   1195.5,   5.5098,  35.0045,2,-999.0000,9,    199.1,2,    17.81,2,    23.34,2,     0.00,9,     1.54,2,    0.291,2,    0.152,2, -999.000, -999.000,9,-999.0000,9,  -999.00,9, -999.000,9,   5.4030
  06BE200011,  AR04,   109,  1,     19,     19,2,20001222,0850, 16.1457, -59.1637, 5390,   1349.5,   4.8864,  35.0372,2,-999.0000,9,    234.9,2,    14.31,2,    19.67,2,     0.01,2,     1.30,2,    0.539,2,    0.275,2, -999.000, -999.000,9,-999.0000,9,  -999.00,9, -999.000,9,   4.7706
  06BE200011,  AR04,   109,  1,     18,     18,2,20001222,0850, 16.1457, -59.1637, 5390,   1498.2,   4.4182,  35.0179,2,-999.0000,9,    250.6,2,    13.64,2,    18.57,2,     0.02,2,     1.24,2,    0.598,2,    0.299,2, -999.000, -999.000,9,-999.0000,9,  -999.00,9, -999.000,9,   4.2933
  06BE200011,  AR04,   109,  1,     17,     17,2,20001222,0850, 16.1457, -59.1637, 5390,   1598.1,   4.1492,  35.0019,2,-999.0000,9,    259.8,2,    13.06,2,    17.83,2,     0.01,2,     1.18,2,    0.845,2,    0.424,2, -999.000, -999.000,9,-999.0000,9,  -999.00,9, -999.000,9,   4.0181
  06BE200011,  AR04,   109,  1,     16,     16,2,20001222,0850, 16.1457, -59.1637, 5390,   1799.7,   3.8141,  34.9918,2,-999.0000,9,    261.9,2,    14.73,2,    17.84,2,     0.02,2,     1.22,2,    0.489,2,    0.251,2, -999.000, -999.000,9,-999.0000,9,  -999.00,9, -999.000,9,   3.6684
  06BE200011,  AR04,   109,  1,     15,     15,2,20001222,0850, 16.1457, -59.1637, 5390,   1999.5,   3.5647,  34.9833,2,-999.0000,9,    263.2,2,    16.44,2,    17.81,2,     0.03,2,     1.22,2,    0.351,2,    0.181,2, -999.000, -999.000,9,-999.0000,9,  -999.00,9, -999.000,9,   3.4036
  06BE200011,  AR04,   109,  1,     14,     14,2,20001222,0850, 16.1457, -59.1637, 5390,   2098.6,   3.4552,  34.9790,2,-999.0000,9,   -999.0,9,  -999.00,9,  -999.00,9,  -999.00,9,  -999.00,9, -999.000,9, -999.000,9, -999.000, -999.000,9,-999.0000,9,  -999.00,9, -999.000,9,   3.2863
  06BE200011,  AR04,   109,  1,     13,     13,2,20001222,0850, 16.1457, -59.1637, 5390,   2297.3,   3.2213,  34.9673,2,-999.0000,9,    263.7,2,    19.52,2,    18.09,2,     0.01,2,     1.24,2,    0.232,2,    0.119,2, -999.000, -999.000,9,-999.0000,9,  -999.00,9, -999.000,9,   3.0371
  06BE200011,  AR04,   109,  1,     12,     12,2,20001222,0850, 16.1457, -59.1637, 5390,   2497.2,   2.9952,  34.9534,2,-999.0000,9,    265.0,2,    21.40,2,    18.18,2,     0.01,2,     1.24,2,    0.289,2,    0.148,2, -999.000, -999.000,9,-999.0000,9,  -999.00,9, -999.000,9,   2.7955
  06BE200011,  AR04,   109,  1,     11,     11,2,20001222,0850, 16.1457, -59.1637, 5390,   2798.6,   2.7394,  34.9368,2,-999.0000,9,    265.0,2,    24.43,2,    18.42,2,     0.01,2,     1.27,2,    0.308,2,    0.155,2, -999.000, -999.000,9,-999.0000,9,  -999.00,9, -999.000,9,   2.5148
  06BE200011,  AR04,   109,  1,     10,     10,2,20001222,0850, 16.1457, -59.1637, 5390,   3100.6,   2.5663,  34.9246,2,-999.0000,9,    266.3,2,    26.62,2,    18.47,2,     0.01,2,     1.26,2,    0.311,2,    0.158,2, -999.000, -999.000,9,-999.0000,9,  -999.00,9, -999.000,9,   2.3146
  06BE200011,  AR04,   109,  1,      9,      9,2,20001222,0850, 16.1457, -59.1637, 5390,   3398.5,   2.4342,  34.9151,2,-999.0000,9,    269.4,2,    26.83,2,    18.30,2,     0.02,2,     1.26,2,    0.231,2,    0.119,2, -999.000, -999.000,9,-999.0000,9,  -999.00,9, -999.000,9,   2.1542
  06BE200011,  AR04,   109,  1,      8,      8,2,20001222,0850, 16.1457, -59.1637, 5390,   3596.1,   2.3622,  34.9096,2,-999.0000,9,    268.9,2,    27.82,2,    18.13,2,     0.04,2,     1.27,2,    0.240,2,    0.122,2, -999.000, -999.000,9,-999.0000,9,  -999.00,9, -999.000,9,   2.0627
  06BE200011,  AR04,   109,  1,      7,      7,2,20001222,0850, 16.1457, -59.1637, 5390,   3799.2,   2.3077,  34.9045,2,-999.0000,9,    269.4,2,    29.05,2,    18.32,2,     0.01,2,     1.27,2,    0.240,2,    0.122,2, -999.000, -999.000,9,-999.0000,9,  -999.00,9, -999.000,9,   1.9873
  06BE200011,  AR04,   109,  1,      6,      6,2,20001222,0850, 16.1457, -59.1637, 5390,   4077.8,   2.2784,  34.8999,2,-999.0000,9,    268.9,2,    30.57,2,    18.68,2,     0.01,2,     1.29,2,    0.295,2,    0.153,2, -999.000, -999.000,9,-999.0000,9,  -999.00,9, -999.000,9,   1.9274
  06BE200011,  AR04,   109,  1,      5,      5,2,20001222,0850, 16.1457, -59.1637, 5390,   4400.7,   2.2213,  34.8900,2,-999.0000,9,    264.6,2,    35.56,2,    19.15,2,     0.01,2,     1.35,2,    0.190,2,    0.103,2, -999.000, -999.000,9,-999.0000,9,  -999.00,9, -999.000,9,   1.8344
  06BE200011,  AR04,   109,  1,      4,      4,2,20001222,0850, 16.1457, -59.1637, 5390,   4698.1,   2.1538,  34.8777,2,  34.8715,2,    260.7,2,    41.69,2,    20.53,2,     0.01,2,     1.42,2,    0.145,2,    0.081,2, -999.000, -999.000,9,-999.0000,9,  -999.00,9, -999.000,9,   1.7334
  06BE200011,  AR04,   109,  1,      3,      3,2,20001222,0850, 16.1457, -59.1637, 5390,   4987.0,   2.0182,  34.8566,2,  34.8512,2,    254.1,2,    51.23,2,    22.25,2,     0.01,2,     1.55,2,    0.078,2,    0.046,2, -999.000, -999.000,9,-999.0000,9,  -999.00,9, -999.000,9,   1.5668
  06BE200011,  AR04,   109,  1,      2,      2,2,20001222,0850, 16.1457, -59.1637, 5390,   5200.4,   1.9647,  34.8468,2,  34.8423,2,    251.9,2,    55.81,2,    22.69,2,     0.01,2,     1.59,2,    0.061,2,    0.036,2, -999.000, -999.000,9,-999.0000,9,  -999.00,9, -999.000,9,   1.4884
  06BE200011,  AR04,   109,  1,      1,      1,2,20001222,0850, 16.1457, -59.1637, 5390,   5388.6,   1.9664,  34.8438,2,  34.8386,2,    250.6,2,    57.27,2,    22.90,2,     0.02,2,     1.61,2,    0.059,2,    0.037,2, -999.000, -999.000,9,-999.0000,9,  -999.00,9, -999.000,9,   1.4660