BOTTLE,20111027CCHDOSIOCBG
EXPOCODE,SECT_ID,STNNBR,CASTNO,SAMPNO,BTLNBR,BTLNBR_FLAG_W,DATE,TIME,LATITUDE,LONGITUDE,DEPTH,CTDPRS,CTDTMP,CTDSAL,CTDSAL_FLAG_W,SALNTY,SALNTY_FLAG_W,OXYGEN,OXYGEN_FLAG_W,SILCAT,SILCAT_FLAG_W,NITRAT,NITRAT_FLAG_W,NITRIT,NITRIT_FLAG_W,PHSPHT,PHSPHT_FLAG_W,CFC-11,CFC-11_FLAG_W,CFC-12,CFC-12_FLAG_W,TRITUM,TRITER,TRITUM_FLAG_W,HELIUM,HELIUM_FLAG_W,DELHE3,DELHE3_FLAG_W,NEON,NEON_FLAG_W,THETA
,,,,,,,,,,,METERS,DBAR,ITS-90,PSS-78,,PSS-78,,UMOL/KG,,UMOL/KG,,UMOL/KG,,UMOL/KG,,UMOL/KG,,PMOL/KG,,PMOL/KG,,TU,TU,,NMOL/KG,,PERCNT,,NMOL/KG,,DEG C
  06BE200011,  AR04,    25,  1,     22,     22,2,20001204,1744,  1.9978, -34.9995, 4239,      9.7,  27.6995,  35.9843,2,-999.0000,9,    200.0,2,     1.37,2,     0.13,2,     0.01,2,     0.02,2,    1.498,2,    0.911,2, -999.000, -999.000,9,-999.0000,9,  -999.00,9, -999.000,9,  27.6972
  06BE200011,  AR04,    25,  1,     21,     21,2,20001204,1744,  1.9978, -34.9995, 4239,    199.1,  11.4854,  35.0617,2,-999.0000,9,   -999.0,9,  -999.00,9,  -999.00,9,  -999.00,9,  -999.00,9,    1.791,2,    0.930,2, -999.000, -999.000,9,-999.0000,9,  -999.00,9, -999.000,9,  11.4601
  06BE200011,  AR04,    25,  1,     20,     20,2,20001204,1744,  1.9978, -34.9995, 4239,    397.6,   7.9463,  34.6937,2,-999.0000,9,    142.8,2,    16.52,2,    28.18,2,     0.00,9,     1.87,2, -999.000,9, -999.000,9, -999.000, -999.000,9,-999.0000,9,  -999.00,9, -999.000,9,   7.9059
  06BE200011,  AR04,    25,  1,     19,     19,2,20001204,1744,  1.9978, -34.9995, 4239,    597.6,   6.1225,  34.5500,2,-999.0000,9,    143.2,2,    22.96,2,    31.71,2,     0.00,9,     2.31,2, -999.000,9, -999.000,9, -999.000, -999.000,9,-999.0000,9,  -999.00,9, -999.000,9,   6.0693
  06BE200011,  AR04,    25,  1,     18,     18,2,20001204,1744,  1.9978, -34.9995, 4239,    798.6,   4.8541,  34.5156,2,-999.0000,9,    151.9,2,    29.43,2,    33.81,2,     0.01,2,     2.49,2, -999.000,9, -999.000,9, -999.000,    0.005,9,-999.0000,9,  -999.00,9, -999.000,9,   4.7896
  06BE200011,  AR04,    25,  1,     17,     17,2,20001204,1744,  1.9978, -34.9995, 4239,    899.4,   4.6981,  34.5393,2,-999.0000,9,   -999.0,9,  -999.00,9,  -999.00,9,  -999.00,9,  -999.00,9, -999.000,9, -999.000,9, -999.000, -999.000,9,-999.0000,9,  -999.00,9, -999.000,9,   4.6258
  06BE200011,  AR04,    25,  1,     16,     16,2,20001204,1744,  1.9978, -34.9995, 4239,    996.8,   4.6384,  34.5964,2,-999.0000,9,    157.6,2,    29.87,2,    32.89,2,     0.03,2,     2.38,2,    0.067,2,    0.034,2, -999.000, -999.000,9,-999.0000,9,  -999.00,9, -999.000,9,   4.5580
  06BE200011,  AR04,    25,  1,     15,     15,2,20001204,1744,  1.9978, -34.9995, 4239,   1198.6,   4.6024,  34.8543,2,  34.8495,2,    189.5,2,    23.32,2,    26.35,2,     0.01,2,     1.88,2,    0.064,2,    0.032,2,    0.068, -999.000,2,-999.0000,9,     2.55,2, -999.000,9,   4.5038
  06BE200011,  AR04,    25,  1,     14,     14,2,20001204,1744,  1.9978, -34.9995, 4239,   1379.3,   4.5341,  34.9214,2,-999.0000,9,    208.7,2,    20.50,2,    23.77,2,     0.00,9,     1.70,2,    0.090,2,    0.048,2, -999.000, -999.000,9,-999.0000,9,  -999.00,9, -999.000,9,   4.4193
  06BE200011,  AR04,    25,  1,     13,     13,2,20001204,1744,  1.9978, -34.9995, 4239,   1597.9,   4.2742,  34.9962,2,-999.0000,9,    244.9,2,    15.70,2,    19.58,2,     0.00,9,     1.31,2,    0.313,2,    0.162,2, -999.000,    0.005,9,-999.0000,9,     3.55,2, -999.000,9,   4.1416
  06BE200011,  AR04,    25,  1,     12,     12,2,20001204,1744,  1.9978, -34.9995, 4239,   1795.0,   3.8495,  34.9860,2,-999.0000,9,    253.2,2,    16.62,2,    18.77,2,     0.01,2,     1.24,2,    0.231,2,    0.120,2,    0.209, -999.000,2,-999.0000,9,  -999.00,9, -999.000,9,   3.7037
  06BE200011,  AR04,    25,  1,     11,     11,2,20001204,1744,  1.9978, -34.9995, 4239,   1998.2,   3.6975,  34.9820,2,-999.0000,9,    256.7,2,    17.11,2,    18.04,2,     0.00,9,     1.25,2,    0.227,2,    0.120,2, -999.000, -999.000,9,-999.0000,9,     3.10,2, -999.000,9,   3.5346
  06BE200011,  AR04,    25,  1,     10,     10,2,20001204,1744,  1.9978, -34.9995, 4239,   2247.4,   3.3876,  34.9710,2,  34.9673,2,    259.8,2,    19.47,2,    18.12,2,     0.02,2,     1.26,2,    0.122,2,    0.064,2,    0.118,    0.007,2,-999.0000,9,  -999.00,9, -999.000,9,   3.2055
  06BE200011,  AR04,    25,  1,      9,      9,2,20001204,1744,  1.9978, -34.9995, 4239,   2497.8,   3.0969,  34.9552,2,-999.0000,9,    260.2,2,    22.71,2,    18.50,2,     0.01,2,     1.27,2,    0.088,2,    0.044,2, -999.000, -999.000,9,-999.0000,9,     3.23,2, -999.000,9,   2.8953
  06BE200011,  AR04,    25,  1,      8,      8,2,20001204,1744,  1.9978, -34.9995, 4239,   2800.2,   2.8294,  34.9343,2,-999.0000,9,    256.7,2,    28.98,2,    19.20,2,     0.02,2,     1.28,2,    0.032,2,    0.016,2, -999.000, -999.000,9,-999.0000,9,  -999.00,9, -999.000,9,   2.6028
  06BE200011,  AR04,    25,  1,      7,      7,2,20001204,1744,  1.9978, -34.9995, 4239,   2990.6,   2.7082,  34.9247,2,  34.9209,2,    255.4,2,    31.67,2,    19.96,2,     0.05,2,     1.34,2,    0.032,2,    0.016,2, -999.000,    0.005,9,-999.0000,9,  -999.00,9, -999.000,9,   2.4647
  06BE200011,  AR04,    25,  1,      6,      6,2,20001204,1744,  1.9978, -34.9995, 4239,   3099.1,   2.6312,  34.9195,2,  34.9146,2,    255.8,2,    32.70,2,    20.03,2,     0.01,2,     1.34,2,    0.038,2,    0.020,2, -999.000, -999.000,9,-999.0000,9,     3.40,2, -999.000,9,   2.3782
  06BE200011,  AR04,    25,  1,      5,      5,2,20001204,1744,  1.9978, -34.9995, 4239,   3299.0,   2.5466,  34.9182,2,-999.0000,9,    261.1,2,    30.40,2,    18.71,2,     0.07,2,     1.30,2,    0.083,2,    0.043,2, -999.000, -999.000,9,-999.0000,9,     3.89,2, -999.000,9,   2.2745
  06BE200011,  AR04,    25,  1,      4,      4,2,20001204,1744,  1.9978, -34.9995, 4239,   3595.4,   2.4051,  34.9035,2,-999.0000,9,    259.3,2,    35.10,2,    19.86,2,     0.02,2,     1.34,2,    0.074,2,    0.036,2, -999.000,    0.006,9,-999.0000,9,     3.79,2, -999.000,9,   2.1047
  06BE200011,  AR04,    25,  1,      3,      3,2,20001204,1744,  1.9978, -34.9995, 4239,   3845.0,   2.3037,  34.8952,2,-999.0000,9,    260.7,2,    36.47,2,    19.79,2,     0.04,2,     1.36,2,    0.100,2,    0.052,2, -999.000, -999.000,9,-999.0000,9,     4.17,2, -999.000,9,   1.9784
  06BE200011,  AR04,    25,  1,      2,      2,2,20001204,1744,  1.9978, -34.9995, 4239,   4052.7,   2.2143,  34.8837,2,  34.8803,2,    258.5,2,    40.92,2,    20.97,2,     0.08,2,     1.41,2,    0.093,2,    0.046,2, -999.000, -999.000,9,-999.0000,9,     5.69,2, -999.000,9,   1.8681
  06BE200011,  AR04,    25,  1,      1,      1,2,20001204,1744,  1.9978, -34.9995, 4239,   4236.9,   2.1721,  34.8771,2,  34.8744,2,    256.3,2,    43.51,2,    20.59,2,     0.21,2,     1.43,2,    0.092,2,    0.047,2,    0.088,    0.006,2,-999.0000,9,     5.87,2, -999.000,9,   1.8059
  06BE200011,  AR04,    26,  1,     22,     22,2,20001204,2214,  2.3342, -35.0007, 4190,      9.9,  27.8406,  35.9014,2,-999.0000,9,    199.5,2,     1.16,2,     0.03,2,     0.02,2,     0.04,2,    1.504,2,    0.909,2, -999.000, -999.000,9,-999.0000,9,  -999.00,9, -999.000,9,  27.8383
  06BE200011,  AR04,    26,  1,     21,     21,2,20001204,2214,  2.3342, -35.0007, 4190,    301.1,   9.8467,  34.9070,2,-999.0000,9,    132.2,2,    12.61,2,    25.37,2,     0.01,2,     1.65,2, -999.000,9, -999.000,9, -999.000, -999.000,9,-999.0000,9,  -999.00,9, -999.000,9,   9.8119
  06BE200011,  AR04,    26,  1,     20,     20,2,20001204,2214,  2.3342, -35.0007, 4190,    498.3,   6.3188,  34.5580,2,-999.0000,9,    146.7,2,    21.79,2,    31.82,2,     0.02,2,     2.22,2, -999.000,9, -999.000,9, -999.000, -999.000,9,-999.0000,9,  -999.00,9, -999.000,9,   6.2740
  06BE200011,  AR04,    26,  1,     19,     19,2,20001204,2214,  2.3342, -35.0007, 4190,    695.8,   4.9724,  34.5128,2,-999.0000,9,    151.5,2,    28.35,2,    33.85,2,     0.01,2,     2.40,2, -999.000,9, -999.000,9, -999.000, -999.000,9,-999.0000,9,  -999.00,9, -999.000,9,   4.9161
  06BE200011,  AR04,    26,  1,     18,     18,2,20001204,2214,  2.3342, -35.0007, 4190,    897.7,   4.7125,  34.5356,2,-999.0000,9,    154.6,2,    29.76,2,    33.05,2,     0.01,2,     2.37,2, -999.000,9, -999.000,9, -999.000, -999.000,9,   1.7981,2,  -999.00,9, -999.000,9,   4.6403
  06BE200011,  AR04,    26,  1,     17,     17,2,20001204,2214,  2.3342, -35.0007, 4190,   1096.3,   4.6705,  34.7748,2,-999.0000,9,    171.2,2,    25.40,2,    28.76,2,     0.00,9,     2.04,2,    0.034,2,    0.019,2, -999.000, -999.000,9,-999.0000,9,  -999.00,9, -999.000,9,   4.5807
  06BE200011,  AR04,    26,  1,     16,     16,2,20001204,2214,  2.3342, -35.0007, 4190,   1297.5,   4.6178,  34.9208,2,-999.0000,9,    206.9,2,    19.92,2,    23.53,2,     0.04,2,     1.66,2,    0.139,2,    0.071,2, -999.000, -999.000,9,   1.7881,2,  -999.00,9, -999.000,9,   4.5098
  06BE200011,  AR04,    26,  1,     15,     15,2,20001204,2214,  2.3342, -35.0007, 4190,   1498.3,   4.3887,  34.9869,2,-999.0000,9,    234.9,2,    16.43,2,    20.11,2,     0.04,2,     1.38,2,    0.221,2,    0.116,2,    0.020,    0.005,2,   1.8081,2,  -999.00,9,    7.760,2,   4.2642
  06BE200011,  AR04,    26,  1,     14,     14,2,20001204,2214,  2.3342, -35.0007, 4190,   1699.6,   3.9533,  34.9897,2,-999.0000,9,    252.3,2,    16.10,2,    18.39,2,     0.01,2,     1.20,2,    0.241,2,    0.126,2, -999.000, -999.000,9,-999.0000,9,  -999.00,9, -999.000,9,   3.8151
  06BE200011,  AR04,    26,  1,     13,     13,2,20001204,2214,  2.3342, -35.0007, 4190,   1897.3,   3.7311,  34.9837,2,-999.0000,9,    256.3,2,    17.02,2,    18.48,2,     0.11,2,     1.23,2, -999.000,9, -999.000,9, -999.000, -999.000,9,   1.7875,2,  -999.00,9,    7.888,2,   3.5773
  06BE200011,  AR04,    26,  1,     12,     12,2,20001204,2214,  2.3342, -35.0007, 4190,   2098.0,   3.5180,  34.9761,2,-999.0000,9,    259.3,2,    18.39,2,    18.24,2,     0.03,2,     1.24,2,    0.149,2,    0.077,2,    0.139,    0.017,2,-999.0000,9,  -999.00,9, -999.000,9,   3.3482
  06BE200011,  AR04,    26,  1,     11,     11,2,20001204,2214,  2.3342, -35.0007, 4190,   2298.0,   3.3313,  34.9673,2,  34.9653,2,    259.8,2,    20.01,2,    17.99,2,     0.00,9,     1.22,2,    0.112,2,    0.060,2, -999.000, -999.000,9,-999.0000,9,  -999.00,9,    7.803,2,   3.1452
  06BE200011,  AR04,    26,  1,     10,     10,2,20001204,2214,  2.3342, -35.0007, 4190,   2501.7,   3.0539,  34.9521,2,-999.0000,9,    260.2,2,    23.39,2,    18.56,2,     0.00,9,     1.26,2,    0.069,2,    0.036,2, -999.000,    0.005,9,   1.8129,2,  -999.00,9, -999.000,9,   2.8527
  06BE200011,  AR04,    26,  1,      9,      9,2,20001204,2214,  2.3342, -35.0007, 4190,   2698.2,   2.8597,  34.9357,2,  34.9318,2,    256.7,2,    28.47,2,    19.79,2,     0.01,2,     1.33,2,    0.034,2,    0.017,2,    0.113, -999.000,2,-999.0000,9,  -999.00,9,    7.960,2,   2.6428
  06BE200011,  AR04,    26,  1,      8,      8,2,20001204,2214,  2.3342, -35.0007, 4190,   2896.0,   2.7432,  34.9266,2,-999.0000,9,    256.7,2,    31.26,2,    19.59,2,     0.01,2,     1.35,2,    0.035,2,    0.019,2, -999.000, -999.000,9,-999.0000,9,  -999.00,9, -999.000,9,   2.5087
  06BE200011,  AR04,    26,  1,      7,      7,2,20001204,2214,  2.3342, -35.0007, 4190,   3095.8,   2.6849,  34.9230,2,  34.9221,2,    256.7,2,    31.56,2,    19.47,2,     0.05,2,     1.35,2,    0.035,2,    0.019,2,    0.085, -999.000,2,   1.8141,2,  -999.00,9, -999.000,9,   2.4310
  06BE200011,  AR04,    26,  1,      6,      6,2,20001204,2214,  2.3342, -35.0007, 4190,   3298.3,   2.5677,  34.9158,2,  34.9118,2,    258.5,2,    32.36,2,    19.37,2,     0.01,2,     1.30,2,    0.051,2,    0.027,2,    0.059, -999.000,2,-999.0000,9,  -999.00,9,    8.016,2,   2.2953
  06BE200011,  AR04,    26,  1,      5,      5,2,20001204,2214,  2.3342, -35.0007, 4190,   3501.3,   2.4664,  34.9076,2,  34.9031,2,    258.9,2,    34.27,2,    19.54,2,     0.03,2,     1.30,2,    0.056,2,    0.031,2,    0.036, -999.000,2,-999.0000,9,  -999.00,9,    7.998,2,   2.1747
  06BE200011,  AR04,    26,  1,      4,      4,2,20001204,2214,  2.3342, -35.0007, 4190,   3697.1,   2.3735,  34.8991,2,-999.0000,9,    258.9,2,    36.37,2,    20.31,2,     0.05,2,     1.34,2,    0.067,2,    0.037,2, -999.000, -999.000,9,   1.8389,2,  -999.00,9,    8.001,2,   2.0627
  06BE200011,  AR04,    26,  1,      3,      3,2,20001204,2214,  2.3342, -35.0007, 4190,   3899.0,   2.2535,  34.8893,2,-999.0000,9,    260.2,2,    38.54,2,    20.49,2,     0.01,2,     1.37,2,    0.095,2,    0.051,2,    0.062, -999.000,2,-999.0000,9,  -999.00,9,    8.077,2,   1.9235
  06BE200011,  AR04,    26,  1,      2,      2,2,20001204,2214,  2.3342, -35.0007, 4190,   4001.8,   2.2167,  34.8845,2,  34.8805,2,    259.4,2,    40.55,2,    20.47,2,     0.02,2,     1.37,2,    0.094,2,    0.048,2,    0.070, -999.000,2,-999.0000,9,  -999.00,9,    8.147,2,   1.8762
  06BE200011,  AR04,    26,  1,      1,      1,2,20001204,2214,  2.3342, -35.0007, 4190,   4188.7,   2.1765,  34.8783,2,  34.8752,2,    258.9,2,    42.85,2,    20.57,2,     0.01,2,     1.40,2,    0.089,2,    0.049,2, -999.000,    0.004,9,   1.7968,2,  -999.00,9,    8.108,2,   1.8158
  06BE200011,  AR04,    27,  1,     21,     21,2,20001205,0230,  2.6768, -35.0178, 3766,      9.8,  27.7912,  35.7371,2,  35.7341,2,    200.4,2,     1.16,2,     0.13,2,     0.00,9,     0.09,2, -999.000,9, -999.000,9, -999.000, -999.000,9,-999.0000,9,  -999.00,9, -999.000,9,  27.7889
  06BE200011,  AR04,    27,  1,     22,     22,2,20001205,0230,  2.6768, -35.0178, 3766,     10.2,  27.7905,  35.7376,2,-999.0000,9,    201.3,2,     1.17,2,     0.16,2,     0.00,9,     0.07,2,    1.519,2,    0.916,2, -999.000, -999.000,9,-999.0000,9,  -999.00,9, -999.000,9,  27.7881
  06BE200011,  AR04,    27,  1,     20,     20,2,20001205,0230,  2.6768, -35.0178, 3766,     98.9,  26.3475,  36.1061,2,-999.0000,9,    174.3,2,     2.41,2,     3.61,2,     0.22,2,     0.26,2, -999.000,9, -999.000,9, -999.000, -999.000,9,-999.0000,9,  -999.00,9, -999.000,9,  26.3251
  06BE200011,  AR04,    27,  1,     19,     19,2,20001205,0230,  2.6768, -35.0178, 3766,    197.9,  12.5547,  35.2115,2,-999.0000,9,    144.0,2,     8.69,2,    19.81,2,     0.01,2,     1.27,2, -999.000,9, -999.000,9, -999.000, -999.000,9,-999.0000,9,  -999.00,9, -999.000,9,  12.5280
  06BE200011,  AR04,    27,  1,     18,     18,2,20001205,0230,  2.6768, -35.0178, 3766,    298.5,  10.0152,  34.9263,2,-999.0000,9,    137.1,2,    12.38,2,    25.67,2,     0.02,2,     1.65,2, -999.000,9, -999.000,9, -999.000, -999.000,9,-999.0000,9,     1.52,2, -999.000,9,   9.9804
  06BE200011,  AR04,    27,  1,     17,     17,2,20001205,0230,  2.6768, -35.0178, 3766,    498.3,   6.8282,  34.6391,2,  34.6338,2,    114.4,2,    21.53,2,    34.27,2,     0.01,2,     2.36,2, -999.000,9, -999.000,9, -999.000, -999.000,9,-999.0000,9,  -999.00,9, -999.000,9,   6.7814
  06BE200011,  AR04,    27,  1,     16,     16,2,20001205,0230,  2.6768, -35.0178, 3766,    697.0,   4.9583,  34.5123,2,-999.0000,9,    151.1,2,    28.77,2,    34.42,2,     0.02,2,     2.47,2, -999.000,9, -999.000,9, -999.000, -999.000,9,-999.0000,9,     2.08,2, -999.000,9,   4.9020
  06BE200011,  AR04,    27,  1,     15,     15,2,20001205,0230,  2.6768, -35.0178, 3766,    899.4,   4.7333,  34.5420,2,-999.0000,9,    153.3,2,    30.09,2,    34.48,2,     0.01,2,     2.40,2,    0.073,2,    0.038,2, -999.000,    0.002,9,-999.0000,9,     1.91,2, -999.000,9,   4.6608
  06BE200011,  AR04,    27,  1,     14,     14,2,20001205,0230,  2.6768, -35.0178, 3766,   1099.3,   4.7335,  34.7544,2,-999.0000,9,   -999.0,9,    26.75,2,    30.60,2,     0.00,9,     2.17,2,    0.030,2,    0.016,2, -999.000, -999.000,9,-999.0000,9,  -999.00,9, -999.000,9,   4.6429
  06BE200011,  AR04,    27,  1,     13,     13,2,20001205,0230,  2.6768, -35.0178, 3766,   1294.5,   4.6743,  34.9241,2,-999.0000,9,    204.8,2,    20.35,2,    24.62,2,     0.00,9,     1.68,2,    0.142,2,    0.075,2, -999.000, -999.000,9,-999.0000,9,     2.98,2, -999.000,9,   4.5660
  06BE200011,  AR04,    27,  1,     12,     12,2,20001205,0230,  2.6768, -35.0178, 3766,   1489.6,   4.4120,  34.9721,2,-999.0000,9,    227.4,2,    17.80,2,    22.18,2,     0.03,2,     1.48,2,    0.141,2,    0.073,2, -999.000,    0.005,9,-999.0000,9,  -999.00,9, -999.000,9,   4.2881
  06BE200011,  AR04,    27,  1,     11,     11,2,20001205,0230,  2.6768, -35.0178, 3766,   1700.1,   3.9800,  34.9867,2,-999.0000,9,    248.4,2,    16.72,2,    19.93,2,     0.01,2,     1.29,2,    0.162,2,    0.087,2, -999.000, -999.000,9,-999.0000,9,  -999.00,9, -999.000,9,   3.8415
  06BE200011,  AR04,    27,  1,     10,     10,2,20001205,0230,  2.6768, -35.0178, 3766,   1850.8,   3.7976,  34.9856,2,-999.0000,9,    255.4,2,    16.71,2,    18.98,2,     0.05,2,     1.27,2,    0.211,2,    0.111,2, -999.000, -999.000,9,-999.0000,9,     3.23,2, -999.000,9,   3.6473
  06BE200011,  AR04,    27,  1,      9,      9,2,20001205,0230,  2.6768, -35.0178, 3766,   1998.8,   3.5691,  34.9777,2,-999.0000,9,    256.7,2,    18.36,2,    19.12,2,     0.02,2,     1.26,2,    0.139,2,    0.071,2, -999.000,    0.004,9,-999.0000,9,  -999.00,9, -999.000,9,   3.4080
  06BE200011,  AR04,    27,  1,      8,      8,2,20001205,0230,  2.6768, -35.0178, 3766,   2148.6,   3.4251,  34.9724,2,-999.0000,9,    259.3,2,    19.24,2,    18.69,2,     0.02,2,     1.26,2,    0.145,2,    0.076,2, -999.000, -999.000,9,-999.0000,9,  -999.00,9, -999.000,9,   3.2519
  06BE200011,  AR04,    27,  1,      7,      7,2,20001205,0230,  2.6768, -35.0178, 3766,   2347.8,   3.2131,  34.9603,2,  34.9575,2,    258.9,2,    22.27,2,    19.21,2,     0.04,2,     1.26,2,    0.077,2,    0.043,2, -999.000,    0.003,9,-999.0000,9,     3.26,2, -999.000,9,   3.0242
  06BE200011,  AR04,    27,  1,      6,      6,2,20001205,0230,  2.6768, -35.0178, 3766,   2650.3,   2.9159,  34.9414,2,-999.0000,9,    257.6,2,    26.74,2,    19.92,2,     0.04,2,     1.35,2,    0.039,2,    0.021,2, -999.000,    0.017,9,-999.0000,9,  -999.00,9, -999.000,9,   2.7026
  06BE200011,  AR04,    27,  1,      5,      5,2,20001205,0230,  2.6768, -35.0178, 3766,   2900.5,   2.7748,  34.9282,2,  34.9263,2,    255.0,2,    30.75,2,    20.10,2,     0.01,2,     1.40,2,    0.028,2,    0.014,2, -999.000,    0.002,9,-999.0000,9,  -999.00,9, -999.000,9,   2.5392
  06BE200011,  AR04,    27,  1,      4,      4,2,20001205,0230,  2.6768, -35.0178, 3766,   3147.8,   2.6230,  34.9177,2,-999.0000,9,    256.3,2,    33.25,2,    20.00,2,     0.01,2,     1.37,2,    0.030,2,    0.017,2, -999.000, -999.000,9,-999.0000,9,     3.49,2, -999.000,9,   2.3651
  06BE200011,  AR04,    27,  1,      3,      3,2,20001205,0230,  2.6768, -35.0178, 3766,   3399.2,   2.4788,  34.9086,2,  34.9057,2,    258.5,2,    34.82,2,    20.54,2,     0.04,2,     1.35,2,    0.052,2,    0.028,2, -999.000,    0.003,9,-999.0000,9,  -999.00,9, -999.000,9,   2.1977
  06BE200011,  AR04,    27,  1,      2,      2,2,20001205,0230,  2.6768, -35.0178, 3766,   3600.9,   2.4187,  34.9027,2,  34.8988,2,    258.5,2,    36.20,2,    20.67,2,     0.02,2,     1.36,2,    0.059,2,    0.032,2, -999.000,    0.015,9,-999.0000,9,  -999.00,9, -999.000,9,   2.1173
  06BE200011,  AR04,    27,  1,      1,      1,2,20001205,0230,  2.6768, -35.0178, 3766,   3764.3,   2.3386,  34.8953,2,  34.8905,2,    258.5,2,    37.93,2,    20.12,2,     0.01,2,     1.37,2,    0.067,2,    0.037,2, -999.000, -999.000,9,-999.0000,9,     3.34,2, -999.000,9,   2.0214