BOTTLE,20111027CCHDOSIOCBG
EXPOCODE,SECT_ID,STNNBR,CASTNO,SAMPNO,BTLNBR,BTLNBR_FLAG_W,DATE,TIME,LATITUDE,LONGITUDE,DEPTH,CTDPRS,CTDTMP,CTDSAL,CTDSAL_FLAG_W,SALNTY,SALNTY_FLAG_W,OXYGEN,OXYGEN_FLAG_W,SILCAT,SILCAT_FLAG_W,NITRAT,NITRAT_FLAG_W,NITRIT,NITRIT_FLAG_W,PHSPHT,PHSPHT_FLAG_W,CFC-11,CFC-11_FLAG_W,CFC-12,CFC-12_FLAG_W,TRITUM,TRITER,TRITUM_FLAG_W,HELIUM,HELIUM_FLAG_W,DELHE3,DELHE3_FLAG_W,NEON,NEON_FLAG_W,THETA
,,,,,,,,,,,METERS,DBAR,ITS-90,PSS-78,,PSS-78,,UMOL/KG,,UMOL/KG,,UMOL/KG,,UMOL/KG,,UMOL/KG,,PMOL/KG,,PMOL/KG,,TU,TU,,NMOL/KG,,PERCNT,,NMOL/KG,,DEG C
  06BE200011,  AR04,    16,  1,     22,     22,2,20001202,1152, -1.0003, -35.0002, 4443,     10.9,  26.5409,  36.0730,2,  36.0724,2,    202.6,2,     1.29,2,     0.21,2,     0.01,2,     0.08,2,    1.588,2,    0.952,2, -999.000, -999.000,9,-999.0000,9,  -999.00,9, -999.000,9,  26.5384
  06BE200011,  AR04,    16,  1,     21,     21,2,20001202,1152, -1.0003, -35.0002, 4443,     99.0,  23.8629,  36.7295,2,-999.0000,9,    188.6,2,     1.49,2,     2.39,2,     0.20,2,     0.29,2, -999.000,9, -999.000,9, -999.000, -999.000,9,-999.0000,9,  -999.00,9, -999.000,9,  23.8420
  06BE200011,  AR04,    16,  1,     20,     20,2,20001202,1152, -1.0003, -35.0002, 4443,    596.6,   5.6860,  34.5219,2,  34.5176,2,    147.2,2,    23.89,2,    32.76,2,     0.01,2,     2.22,2, -999.000,9, -999.000,9, -999.000, -999.000,9,-999.0000,9,  -999.00,9,    7.651,2,   5.6349
  06BE200011,  AR04,    16,  1,     19,     19,2,20001202,1152, -1.0003, -35.0002, 4443,    800.1,   4.6911,  34.5290,2,-999.0000,9,    154.6,2,    29.34,2,    33.98,2,     0.01,2,     2.42,2, -999.000,9, -999.000,9, -999.000, -999.000,9,-999.0000,9,  -999.00,9, -999.000,9,   4.6275
  06BE200011,  AR04,    16,  1,     18,     18,2,20001202,1152, -1.0003, -35.0002, 4443,    998.0,   4.4582,  34.6083,2,-999.0000,9,    163.3,2,    29.25,2,    32.69,2,     0.01,2,     2.33,2,    0.044,2,    0.024,2, -999.000, -999.000,9,-999.0000,9,  -999.00,9,    7.748,2,   4.3790
  06BE200011,  AR04,    16,  1,     17,     17,2,20001202,1152, -1.0003, -35.0002, 4443,   1296.9,   4.5514,  34.8710,2,-999.0000,9,    196.5,2,    21.53,2,    26.26,2,     0.01,2,     1.77,2, -999.000,9, -999.000,9, -999.000, -999.000,9,-999.0000,9,  -999.00,9, -999.000,9,   4.4442
  06BE200011,  AR04,    16,  1,     16,     16,2,20001202,1152, -1.0003, -35.0002, 4443,   1397.5,   4.4677,  34.9249,2,-999.0000,9,    212.2,2,    19.25,2,    23.63,2,     0.01,2,     1.64,2,    0.095,2,    0.048,2, -999.000, -999.000,9,-999.0000,9,  -999.00,9,    7.855,2,   4.3519
  06BE200011,  AR04,    16,  1,     15,     15,2,20001202,1152, -1.0003, -35.0002, 4443,   1547.8,   4.1883,  34.9857,2,  34.9831,2,    241.9,2,    16.32,2,    19.91,2,     0.01,2,     1.33,2,    0.231,2,    0.119,2, -999.000,    0.012,9,-999.0000,9,  -999.00,9, -999.000,9,   4.0615
  06BE200011,  AR04,    16,  1,     14,     14,2,20001202,1152, -1.0003, -35.0002, 4443,   1696.4,   4.0494,  34.9867,2,  34.9858,2,    247.5,2,    15.74,2,    19.40,2,     0.01,2,     1.28,2,    0.238,2,    0.121,2, -999.000,    0.012,9,-999.0000,9,  -999.00,9, -999.000,9,   3.9103
  06BE200011,  AR04,    16,  1,     13,     13,2,20001202,1152, -1.0003, -35.0002, 4443,   1849.8,   3.8231,  34.9801,2,  34.9809,2,    252.8,2,    16.20,2,    19.18,2,     0.01,2,     1.26,2,    0.208,2,    0.109,2, -999.000, -999.000,9,-999.0000,9,  -999.00,9, -999.000,9,   3.6725
  06BE200011,  AR04,    16,  1,     12,     12,2,20001202,1152, -1.0003, -35.0002, 4443,   1997.8,   3.6341,  34.9742,2,-999.0000,9,    252.8,2,    18.47,2,    19.74,2,     0.01,2,     1.29,2,    0.094,2,    0.050,2, -999.000,    0.010,9,-999.0000,9,  -999.00,9, -999.000,9,   3.4722
  06BE200011,  AR04,    16,  1,     11,     11,2,20001202,1152, -1.0003, -35.0002, 4443,   2247.2,   3.3795,  34.9670,2,-999.0000,9,    258.4,2,    19.54,2,    19.05,2,     0.01,2,     1.24,2, -999.000,9, -999.000,9, -999.000, -999.000,9,-999.0000,9,  -999.00,9,    7.969,2,   3.1975
  06BE200011,  AR04,    16,  1,     10,     10,2,20001202,1152, -1.0003, -35.0002, 4443,   2500.1,   3.0352,  34.9495,2,-999.0000,9,    259.3,2,    22.99,2,    19.08,2,     0.00,9,     1.26,2, -999.000,9, -999.000,9, -999.000, -999.000,9,-999.0000,9,  -999.00,9, -999.000,9,   2.8345
  06BE200011,  AR04,    16,  1,      9,      9,2,20001202,1152, -1.0003, -35.0002, 4443,   2747.3,   2.8062,  34.9369,2,-999.0000,9,    261.1,2,    25.42,2,    19.14,2,     0.01,2,     1.23,2, -999.000,9, -999.000,9, -999.000,    0.009,9,-999.0000,9,  -999.00,9, -999.000,9,   2.5854
  06BE200011,  AR04,    16,  1,      8,      8,2,20001202,1152, -1.0003, -35.0002, 4443,   2749.7,   2.8049,  34.9369,2,  34.9347,2,   -999.0,9,  -999.00,9,  -999.00,9,  -999.00,9,  -999.00,9, -999.000,9, -999.000,9, -999.000, -999.000,9,-999.0000,9,  -999.00,9,    7.920,2,   2.5839
  06BE200011,  AR04,    16,  1,      7,      7,2,20001202,1152, -1.0003, -35.0002, 4443,   2998.4,   2.6951,  34.9288,2,  34.9273,2,    262.0,2,    27.10,2,    19.57,2,     0.01,2,     1.26,2,    0.110,2,    0.056,2, -999.000, -999.000,9,-999.0000,9,  -999.00,9, -999.000,9,   2.4511
  06BE200011,  AR04,    16,  1,      6,      6,2,20001202,1152, -1.0003, -35.0002, 4443,   3296.8,   2.5598,  34.9190,2,-999.0000,9,    262.0,2,    28.66,2,    19.46,2,     0.00,9,     1.24,2,    0.112,2,    0.058,2, -999.000,    0.009,9,-999.0000,9,  -999.00,9, -999.000,9,   2.2877
  06BE200011,  AR04,    16,  1,      5,      5,2,20001202,1152, -1.0003, -35.0002, 4443,   3598.9,   2.3935,  34.9074,2,-999.0000,9,    265.0,2,    29.97,2,    19.01,2,     0.01,2,     1.25,2,    0.149,2,    0.077,2, -999.000, -999.000,9,-999.0000,9,  -999.00,9,    7.969,2,   2.0930
  06BE200011,  AR04,    16,  1,      4,      4,2,20001202,1152, -1.0003, -35.0002, 4443,   3901.2,   2.3282,  34.9005,2,-999.0000,9,    265.0,2,    31.12,2,    19.10,2,     0.01,2,     1.23,2, -999.000,9, -999.000,9, -999.000,    0.011,9,-999.0000,9,  -999.00,9, -999.000,9,   1.9959
  06BE200011,  AR04,    16,  1,      3,      3,2,20001202,1152, -1.0003, -35.0002, 4443,   3998.0,   2.1533,  34.8804,2,  34.8764,2,    244.5,2,    39.26,2,    20.72,2,     0.01,2,     1.38,2,    0.128,2,    0.069,2, -999.000, -999.000,9,-999.0000,9,  -999.00,9, -999.000,9,   1.8150
  06BE200011,  AR04,    16,  1,      2,      2,2,20001202,1152, -1.0003, -35.0002, 4443,   4303.2,   1.1422,  34.7630,2,  34.7588,2,    232.7,2,    84.97,2,    28.55,2,     0.01,2,     1.95,2,    0.030,2,    0.017,2, -999.000, -999.000,9,-999.0000,9,  -999.00,9,    8.031,2,   0.7999
  06BE200011,  AR04,    16,  1,      1,      1,2,20001202,1152, -1.0003, -35.0002, 4443,   4440.9,   1.0621,  34.7525,2,  34.7502,2,    234.1,2,    89.73,2,    29.21,2,     0.01,2,     1.97,2,    0.038,2,    0.019,2, -999.000,    0.006,9,-999.0000,9,  -999.00,9, -999.000,9,   0.7069
  06BE200011,  AR04,    17,  1,     22,     22,2,20001202,1618, -0.6683, -34.9987, 4516,      8.4,  26.7775,  36.0465,2,  36.0410,2,    203.9,2,     1.32,2,     0.15,2,     0.01,2,     0.07,2,    1.571,2,    0.930,2, -999.000, -999.000,9,-999.0000,9,  -999.00,9, -999.000,9,  26.7756
  06BE200011,  AR04,    17,  1,     21,     21,2,20001202,1618, -0.6683, -34.9987, 4516,    101.7,  23.7709,  36.6706,2,-999.0000,9,    189.1,2,     1.57,2,     2.11,2,     0.16,2,     0.25,2,    1.801,2,    1.041,2, -999.000, -999.000,9,-999.0000,9,  -999.00,9, -999.000,9,  23.7495
  06BE200011,  AR04,    17,  1,     20,     20,2,20001202,1618, -0.6683, -34.9987, 4516,    598.0,   6.2121,  34.5502,2,-999.0000,9,    145.0,2,    21.81,2,    32.73,2,     0.01,2,     2.07,2, -999.000,9, -999.000,9, -999.000, -999.000,9,-999.0000,9,  -999.00,9, -999.000,9,   6.1584
  06BE200011,  AR04,    17,  1,     19,     19,2,20001202,1618, -0.6683, -34.9987, 4516,    799.3,   4.8093,  34.5072,2,-999.0000,9,    153.3,2,    28.64,2,    34.68,2,     0.01,2,     2.35,2, -999.000,9, -999.000,9, -999.000, -999.000,9,-999.0000,9,  -999.00,9, -999.000,9,   4.7450
  06BE200011,  AR04,    17,  1,     18,     18,2,20001202,1618, -0.6683, -34.9987, 4516,    997.5,   4.4746,  34.5998,2,-999.0000,9,    162.4,2,    29.22,2,    32.90,2,     0.01,2,     2.27,2,    0.047,2,    0.024,2, -999.000, -999.000,9,-999.0000,9,  -999.00,9, -999.000,9,   4.3953
  06BE200011,  AR04,    17,  1,     17,     17,2,20001202,1618, -0.6683, -34.9987, 4516,   1297.1,   4.5892,  34.8898,2,-999.0000,9,   -999.0,9,    20.76,2,    25.39,2,     0.01,2,     1.78,2,    0.100,2,    0.054,2, -999.000, -999.000,9,   1.7959,2,  -999.00,9, -999.000,9,   4.4816
  06BE200011,  AR04,    17,  1,     16,     16,2,20001202,1618, -0.6683, -34.9987, 4516,   1497.3,   4.4209,  34.9680,2,-999.0000,9,    228.8,2,    17.18,2,    21.29,2,     0.01,2,     1.40,2,    0.192,2,    0.102,2, -999.000, -999.000,9,-999.0000,9,  -999.00,9, -999.000,9,   4.2962
  06BE200011,  AR04,    17,  1,     15,     15,2,20001202,1618, -0.6683, -34.9987, 4516,   1698.8,   4.0346,  34.9859,2,  34.9821,2,    247.1,2,    16.27,2,    19.46,2,     0.01,2,     1.26,2,    0.229,2,    0.119,2, -999.000, -999.000,9,   1.8006,2,  -999.00,9, -999.000,9,   3.8955
  06BE200011,  AR04,    17,  1,     14,     14,2,20001202,1618, -0.6683, -34.9987, 4516,   1871.3,   3.7857,  34.9784,2,-999.0000,9,    248.8,2,    18.01,2,    19.52,2,     0.01,2,     1.27,2,    0.104,2,    0.055,2, -999.000, -999.000,9,   1.8232,2,  -999.00,9, -999.000,9,   3.6336
  06BE200011,  AR04,    17,  1,     13,     13,2,20001202,1618, -0.6683, -34.9987, 4516,   2097.9,   3.5693,  34.9752,2,-999.0000,9,    255.8,2,    18.36,2,    18.83,2,     0.01,2,     1.25,2,    0.161,2,    0.083,2, -999.000, -999.000,9,-999.0000,9,  -999.00,9, -999.000,9,   3.3987
  06BE200011,  AR04,    17,  1,     12,     12,2,20001202,1618, -0.6683, -34.9987, 4516,   2399.9,   3.0930,  34.9486,2,-999.0000,9,    255.0,2,    24.94,2,    19.46,2,     0.01,2,     1.32,2, -999.000,9,    0.043,2, -999.000, -999.000,9,   1.8090,2,  -999.00,9, -999.000,9,   2.9011
  06BE200011,  AR04,    17,  1,     11,     11,2,20001202,1618, -0.6683, -34.9987, 4516,   2697.2,   2.8928,  34.9428,2,  34.9389,2,    261.1,2,    23.89,2,    19.04,2,     0.01,2,     1.24,2,    0.113,2,    0.057,2, -999.000, -999.000,9,-999.0000,9,  -999.00,9, -999.000,9,   2.6753
  06BE200011,  AR04,    17,  1,     10,     10,2,20001202,1618, -0.6683, -34.9987, 4516,   3001.3,   2.6931,  34.9285,2,-999.0000,9,    260.6,2,    27.29,2,    19.35,2,     0.01,2,     1.28,2,    0.100,2,    0.049,2, -999.000, -999.000,9,-999.0000,9,  -999.00,9, -999.000,9,   2.4488
  06BE200011,  AR04,    17,  1,      9,      9,2,20001202,1618, -0.6683, -34.9987, 4516,   3246.7,   2.5867,  34.9185,2,-999.0000,9,    258.9,2,    30.56,2,    19.86,2,     0.01,2,     1.28,2,    0.072,2,    0.038,2, -999.000, -999.000,9,   1.8542,2,  -999.00,9, -999.000,9,   2.3192
  06BE200011,  AR04,    17,  1,      8,      8,2,20001202,1618, -0.6683, -34.9987, 4516,   3248.6,   2.5870,  34.9187,2,-999.0000,9,   -999.0,9,  -999.00,9,  -999.00,9,  -999.00,9,  -999.00,9,    0.074,2,    0.039,2, -999.000, -999.000,9,-999.0000,9,  -999.00,9, -999.000,9,   2.3193
  06BE200011,  AR04,    17,  1,      7,      7,2,20001202,1618, -0.6683, -34.9987, 4516,   3498.4,   2.4745,  34.9139,2,  34.9094,2,    263.7,2,    29.47,2,    18.83,2,     0.01,2,     1.28,2,    0.155,2,    0.078,2, -999.000, -999.000,9,-999.0000,9,  -999.00,9, -999.000,9,   2.1828
  06BE200011,  AR04,    17,  1,      6,      6,2,20001202,1618, -0.6683, -34.9987, 4516,   3697.6,   2.3878,  34.9063,2,-999.0000,9,    265.0,2,    30.50,2,    18.78,2,     0.02,2,     1.26,2,    0.160,2,    0.084,2, -999.000, -999.000,9,   1.8135,2,  -999.00,9, -999.000,9,   2.0766
  06BE200011,  AR04,    17,  1,      5,      5,2,20001202,1618, -0.6683, -34.9987, 4516,   3901.7,   2.2789,  34.8966,2,-999.0000,9,    264.6,2,    32.78,2,    19.25,2,     0.01,2,     1.29,2,    0.176,2,    0.092,2, -999.000, -999.000,9,-999.0000,9,  -999.00,9, -999.000,9,   1.9479
  06BE200011,  AR04,    17,  1,      4,      4,2,20001202,1618, -0.6683, -34.9987, 4516,   4098.4,   1.7928,  34.8377,2,  34.8316,2,    248.9,2,    57.65,2,    23.55,2,     0.01,2,     1.62,2,    0.060,2,    0.033,2, -999.000, -999.000,9,   1.8550,2,  -999.00,9, -999.000,9,   1.4537
  06BE200011,  AR04,    17,  1,      3,      3,2,20001202,1618, -0.6683, -34.9987, 4516,   4247.8,   1.3197,  34.7830,2,  34.7788,2,    236.7,2,    78.29,2,    26.91,2,     0.02,2,     1.86,2,    0.029,2,    0.015,2, -999.000, -999.000,9,-999.0000,9,  -999.00,9, -999.000,9,   0.9781
  06BE200011,  AR04,    17,  1,      2,      2,2,20001202,1618, -0.6683, -34.9987, 4516,   4352.2,   1.0532,  34.7532,2,  34.8923,2,   -999.0,9,    32.81,2,    19.12,2,     0.16,2,     1.30,2,    0.176,4,    0.090,4, -999.000, -999.000,9,-999.0000,9,  -999.00,9, -999.000,9,   0.7072
  06BE200011,  AR04,    17,  1,      1,      1,2,20001202,1618, -0.6683, -34.9987, 4516,   4513.9,   0.9985,  34.7456,2,  34.7423,2,    230.1,2,    91.93,2,    28.82,2,     0.07,2,     2.03,2,    0.044,2,    0.022,2, -999.000, -999.000,9,   1.8623,2,  -999.00,9, -999.000,9,   0.6371
  06BE200011,  AR04,    18,  1,     22,     22,2,20001202,2341, -0.3352, -35.0008, 4565,     11.2,  26.7337,  36.0371,2,  36.0312,2,    201.7,2,     1.36,2,     0.06,2,     0.00,9,     0.07,2,    1.576,2,    0.935,2, -999.000, -999.000,9,-999.0000,9,  -999.00,9, -999.000,9,  26.7311
  06BE200011,  AR04,    18,  1,     21,     21,2,20001202,2341, -0.3352, -35.0008, 4565,    401.8,   7.9720,  34.6887,2,-999.0000,9,    144.9,2,    16.26,2,    27.89,2,     0.02,2,     1.82,2, -999.000,9, -999.000,9, -999.000, -999.000,9,-999.0000,9,  -999.00,9, -999.000,9,   7.9311
  06BE200011,  AR04,    18,  1,     20,     20,2,20001202,2341, -0.3352, -35.0008, 4565,    597.2,   6.0388,  34.5409,2,-999.0000,9,    145.0,2,    23.01,2,    33.28,2,     0.01,2,     2.24,2, -999.000,9, -999.000,9, -999.000, -999.000,9,-999.0000,9,  -999.00,9, -999.000,9,   5.9860
  06BE200011,  AR04,    18,  1,     19,     19,2,20001202,2341, -0.3352, -35.0008, 4565,    798.8,   4.8122,  34.5121,2,  34.5031,2,    152.8,2,    29.26,2,    34.32,2,     0.00,9,     2.37,2, -999.000,9, -999.000,9, -999.000, -999.000,9,-999.0000,9,  -999.00,9, -999.000,9,   4.7480
  06BE200011,  AR04,    18,  1,     18,     18,2,20001202,2341, -0.3352, -35.0008, 4565,    999.0,   4.5315,  34.6186,2,  34.6185,2,   -999.0,9,    29.56,2,    32.77,2,     0.01,2,     2.30,2,    0.047,2,    0.025,2, -999.000, -999.000,9,-999.0000,9,  -999.00,9, -999.000,9,   4.4516
  06BE200011,  AR04,    18,  1,     17,     17,2,20001202,2341, -0.3352, -35.0008, 4565,   1198.7,   4.5658,  34.8348,2,-999.0000,9,    185.6,2,    23.98,2,    27.43,2,     0.01,2,     1.88,2,    0.059,2,    0.030,2, -999.000, -999.000,9,-999.0000,9,     1.68,2, -999.000,9,   4.4675
  06BE200011,  AR04,    18,  1,     16,     16,2,20001202,2341, -0.3352, -35.0008, 4565,   1399.0,   4.4330,  34.9347,2,-999.0000,9,    215.2,2,    19.70,2,    23.31,2,     0.02,2,     1.61,2,    0.094,2,    0.051,2, -999.000, -999.000,9,-999.0000,9,  -999.00,9, -999.000,9,   4.3174
  06BE200011,  AR04,    18,  1,     15,     15,2,20001202,2341, -0.3352, -35.0008, 4565,   1547.0,   4.2636,  34.9848,2,  34.9799,2,    238.8,2,    16.75,2,    20.47,2,     0.00,9,     1.35,2,    0.230,2,    0.120,2, -999.000, -999.000,9,-999.0000,9,     3.85,2, -999.000,9,   4.1360
  06BE200011,  AR04,    18,  1,     14,     14,2,20001202,2341, -0.3352, -35.0008, 4565,   1697.6,   4.0329,  34.9843,2,  34.9814,2,    246.2,2,    16.76,2,    19.69,2,     0.01,2,     1.26,2,    0.180,2,    0.097,2,    0.161, -999.000,2,-999.0000,9,     3.00,2, -999.000,9,   3.8939
  06BE200011,  AR04,    18,  1,     13,     13,2,20001202,2341, -0.3352, -35.0008, 4565,   1847.6,   3.8340,  34.9794,2,-999.0000,9,    249.3,2,    18.01,2,    19.72,2,     0.01,2,     1.28,2,    0.102,2,    0.056,2,    0.105, -999.000,2,-999.0000,9,  -999.00,9, -999.000,9,   3.6835
  06BE200011,  AR04,    18,  1,     12,     12,2,20001202,2341, -0.3352, -35.0008, 4565,   1996.5,   3.5753,  34.9750,2,-999.0000,9,    254.5,2,    18.87,2,    18.86,2,     0.00,9,     1.22,2,    0.154,2,    0.081,2, -999.000, -999.000,9,-999.0000,9,     2.71,2, -999.000,9,   3.4144
  06BE200011,  AR04,    18,  1,     11,     11,2,20001202,2341, -0.3352, -35.0008, 4565,   2297.4,   3.1886,  34.9549,2,-999.0000,9,    255.4,2,    24.13,2,    19.56,2,     0.00,9,     1.27,2,    0.064,2,    0.035,2, -999.000, -999.000,9,-999.0000,9,  -999.00,9, -999.000,9,   3.0050
  06BE200011,  AR04,    18,  1,     10,     10,2,20001202,2341, -0.3352, -35.0008, 4565,   2601.6,   2.9643,  34.9463,2,  34.9411,2,    261.1,2,    24.82,2,    19.20,2,     0.01,2,     1.26,2,    0.097,2,    0.049,2, -999.000, -999.000,9,-999.0000,9,  -999.00,9, -999.000,9,   2.7549
  06BE200011,  AR04,    18,  1,      9,      9,2,20001202,2341, -0.3352, -35.0008, 4565,   2897.5,   2.7374,  34.9310,2,  34.9256,2,    259.3,2,    28.21,2,    19.60,2,     0.01,2,     1.30,2,    0.087,2,    0.045,2,    0.078, -999.000,2,-999.0000,9,     3.60,2, -999.000,9,   2.5029
  06BE200011,  AR04,    18,  1,      8,      8,2,20001202,2341, -0.3352, -35.0008, 4565,   3198.2,   2.6045,  34.9185,2,-999.0000,9,    257.6,2,    32.72,2,    20.20,2,     0.01,2,     1.34,2,    0.050,2,    0.029,2, -999.000, -999.000,9,-999.0000,9,  -999.00,9, -999.000,9,   2.3418
  06BE200011,  AR04,    18,  1,      7,      7,2,20001202,2341, -0.3352, -35.0008, 4565,   3396.6,   2.5474,  34.9182,2,-999.0000,9,    262.8,2,    29.89,2,    19.18,2,     0.01,2,     1.26,2, -999.000,9, -999.000,9,    0.117, -999.000,2,-999.0000,9,  -999.00,9, -999.000,9,   2.2649
  06BE200011,  AR04,    18,  1,      6,      6,2,20001202,2341, -0.3352, -35.0008, 4565,   3598.1,   2.4402,  34.9090,2,-999.0000,9,    264.1,2,    32.14,2,    19.36,2,     0.01,2,     1.27,2,    0.134,2,    0.067,2, -999.000, -999.000,9,-999.0000,9,     3.41,2, -999.000,9,   2.1385
  06BE200011,  AR04,    18,  1,      5,      5,2,20001202,2341, -0.3352, -35.0008, 4565,   3796.9,   2.3422,  34.9029,2,  34.8985,2,    264.6,2,    31.65,2,    19.07,2,     0.03,2,     1.25,2,    0.168,2,    0.089,2,    0.144, -999.000,2,-999.0000,9,  -999.00,9, -999.000,9,   2.0212
  06BE200011,  AR04,    18,  1,      4,      4,2,20001202,2341, -0.3352, -35.0008, 4565,   3997.8,   2.2289,  34.8896,2,-999.0000,9,    262.0,2,    37.49,2,    20.05,2,     0.01,2,     1.31,2,    0.144,2,    0.078,2, -999.000, -999.000,9,-999.0000,9,     3.92,2, -999.000,9,   1.8884
  06BE200011,  AR04,    18,  1,      3,      3,2,20001202,2341, -0.3352, -35.0008, 4565,   4197.7,   1.6283,  34.8187,2,  34.8098,2,    244.1,2,    68.56,2,    24.80,2,     0.02,2,     1.71,2,    0.066,2,    0.035,2, -999.000, -999.000,9,-999.0000,9,  -999.00,9, -999.000,9,   1.2830
  06BE200011,  AR04,    18,  1,      2,      2,2,20001202,2341, -0.3352, -35.0008, 4565,   4348.8,   1.1687,  34.7665,2,-999.0000,9,   -999.0,9,  -999.00,9,  -999.00,9,  -999.00,9,  -999.00,9, -999.000,9, -999.000,9, -999.000, -999.000,9,-999.0000,9,  -999.00,9, -999.000,9,   0.8204
  06BE200011,  AR04,    18,  1,      1,      1,2,20001202,2341, -0.3352, -35.0008, 4565,   4562.5,   0.9875,  34.7440,2,  34.7397,2,    229.7,2,    97.63,2,    29.30,2,     0.02,2,     2.10,2,    0.040,2,    0.021,2,    0.016, -999.000,2,-999.0000,9,     5.83,2, -999.000,9,   0.6210