BOTTLE,20111027CCHDOSIOCBG
EXPOCODE,SECT_ID,STNNBR,CASTNO,SAMPNO,BTLNBR,BTLNBR_FLAG_W,DATE,TIME,LATITUDE,LONGITUDE,DEPTH,CTDPRS,CTDTMP,CTDSAL,CTDSAL_FLAG_W,SALNTY,SALNTY_FLAG_W,OXYGEN,OXYGEN_FLAG_W,SILCAT,SILCAT_FLAG_W,NITRAT,NITRAT_FLAG_W,NITRIT,NITRIT_FLAG_W,PHSPHT,PHSPHT_FLAG_W,CFC-11,CFC-11_FLAG_W,CFC-12,CFC-12_FLAG_W,TRITUM,TRITER,TRITUM_FLAG_W,HELIUM,HELIUM_FLAG_W,DELHE3,DELHE3_FLAG_W,NEON,NEON_FLAG_W,THETA
,,,,,,,,,,,METERS,DBAR,ITS-90,PSS-78,,PSS-78,,UMOL/KG,,UMOL/KG,,UMOL/KG,,UMOL/KG,,UMOL/KG,,PMOL/KG,,PMOL/KG,,TU,TU,,NMOL/KG,,PERCNT,,NMOL/KG,,DEG C
  06BE200011,  AR04,    66,  1,     22,     22,2,20001214,1702, 11.8722, -43.8892, 2861,     10.3,  25.8943,  35.2863,2,  35.2861,2,    207.0,2,     2.10,2,     0.00,9,     0.00,9,     0.06,2,    1.614,2,    0.981,2,    0.026,    0.001,2,   1.7765,2,  -999.00,9, -999.000,9,  25.8920
  06BE200011,  AR04,    66,  1,     21,     21,2,20001214,1702, 11.8722, -43.8892, 2861,    899.1,   5.6394,  34.7417,2,  34.7399,2,    131.0,2,    25.73,2,    32.76,2,     0.01,2,     2.08,2,    0.020,2,    0.011,2, -999.000, -999.000,9,   1.7870,2,  -999.00,9, -999.000,9,   5.5604
  06BE200011,  AR04,    66,  1,     20,     20,2,20001214,1702, 11.8722, -43.8892, 2861,    997.3,   5.3597,  34.7743,2,-999.0000,9,    142.3,2,    25.58,2,    31.60,2,     0.01,2,     2.09,2,    0.018,2,    0.009,2, -999.000,    0.004,9,-999.0000,9,  -999.00,9, -999.000,9,   5.2735
  06BE200011,  AR04,    66,  1,     19,     19,2,20001214,1702, 11.8722, -43.8892, 2861,   1096.7,   5.1820,  34.8525,2,-999.0000,9,   -999.0,9,  -999.00,9,  -999.00,9,  -999.00,9,  -999.00,9,    0.034,2,    0.018,2, -999.000,    0.005,9,-999.0000,9,  -999.00,9, -999.000,9,   5.0877
  06BE200011,  AR04,    66,  1,     18,     18,2,20001214,1702, 11.8722, -43.8892, 2861,   1347.2,   4.8276,  34.9630,2,-999.0000,9,    200.4,2,    19.62,2,    24.18,2,     0.00,9,     1.58,2,    0.077,2,    0.042,2, -999.000,    0.004,9,   1.8069,2,  -999.00,9, -999.000,9,   4.7128
  06BE200011,  AR04,    66,  1,     17,     17,2,20001214,1702, 11.8722, -43.8892, 2861,   1496.0,   4.6105,  34.9845,2,-999.0000,9,    218.7,2,  -999.00,9,  -999.00,9,  -999.00,9,  -999.00,9,    0.126,2,    0.075,2, -999.000,    0.015,9,   1.8049,2,     2.77,2, -999.000,9,   4.4838
  06BE200011,  AR04,    66,  1,     16,     16,2,20001214,1702, 11.8722, -43.8892, 2861,   1500.7,   4.5832,  34.9861,2,-999.0000,9,    219.6,2,    17.93,2,    21.84,2,     0.00,9,     1.43,2,    0.112,2,    0.064,2,    0.041,    0.006,2,   1.8066,2,  -999.00,9, -999.000,9,   4.4563
  06BE200011,  AR04,    66,  1,     15,     15,2,20001214,1702, 11.8722, -43.8892, 2861,   1600.1,   4.2744,  34.9943,2,-999.0000,9,    236.6,2,    16.95,2,    20.29,2,     0.00,9,     1.31,2,    0.132,2,    0.072,2,    0.031,    0.003,2,-999.0000,9,     3.17,2,    7.920,2,   4.1416
  06BE200011,  AR04,    66,  1,     14,     14,2,20001214,1702, 11.8722, -43.8892, 2861,   1697.1,   4.1185,  34.9932,2,  34.9911,2,    242.3,2,    16.99,2,    19.92,2,     0.00,9,     1.29,2, -999.000,9, -999.000,9,    0.027,    0.002,2,   1.8203,2,  -999.00,9,    7.970,2,   3.9785
  06BE200011,  AR04,    66,  1,     13,     13,2,20001214,1702, 11.8722, -43.8892, 2861,   1848.2,   3.8030,  34.9857,2,-999.0000,9,    251.0,2,    18.05,2,    19.34,2,     0.00,9,     1.26,2,    0.101,2,    0.053,2, -999.000,    0.034,9,   1.7945,2,     4.11,2,    7.907,2,   3.6528
  06BE200011,  AR04,    66,  1,     12,     12,2,20001214,1702, 11.8722, -43.8892, 2861,   1898.8,   3.7032,  34.9827,2,-999.0000,9,    252.3,2,    18.41,2,    19.31,2,     0.00,9,     1.25,2,    0.077,2,    0.042,2, -999.000, -999.000,9,-999.0000,9,     5.16,2,    7.942,2,   3.5497
  06BE200011,  AR04,    66,  1,     11,     11,2,20001214,1702, 11.8722, -43.8892, 2861,   2096.1,   3.4202,  34.9708,2,-999.0000,9,   -999.0,9,  -999.00,9,  -999.00,9,  -999.00,9,  -999.00,9, -999.000,9, -999.000,9,    0.015, -999.000,2,   1.8290,2,     5.16,2,    7.942,2,   3.2521
  06BE200011,  AR04,    66,  1,     10,     10,2,20001214,1702, 11.8722, -43.8892, 2861,   2098.1,   3.4209,  34.9707,2,-999.0000,9,    251.5,2,    21.28,2,    19.18,2,     0.00,9,     1.26,2,    0.051,2,    0.027,2, -999.000, -999.000,9,-999.0000,9,     3.21,2,    7.846,2,   3.2526
  06BE200011,  AR04,    66,  1,      9,      9,2,20001214,1702, 11.8722, -43.8892, 2861,   2300.0,   3.2283,  34.9615,2,-999.0000,9,   -999.0,9,  -999.00,9,  -999.00,9,  -999.00,9,  -999.00,9, -999.000,9, -999.000,9,    0.037, -999.000,2,   1.8328,2,     3.21,2,    7.846,2,   3.0437
  06BE200011,  AR04,    66,  1,      8,      8,2,20001214,1702, 11.8722, -43.8892, 2861,   2300.7,   3.2270,  34.9614,2,  34.9580,2,    255.0,2,    24.05,2,    19.57,2,     0.00,9,     1.27,2,    0.065,2,    0.039,2, -999.000, -999.000,9,   1.8448,2,  -999.00,9,    8.075,2,   3.0424
  06BE200011,  AR04,    66,  1,      7,      7,2,20001214,1702, 11.8722, -43.8892, 2861,   2490.2,   3.0566,  34.9517,2,-999.0000,9,   -999.0,9,  -999.00,9,  -999.00,9,  -999.00,9,  -999.00,9, -999.000,9, -999.000,9,    0.040, -999.000,2,   1.8448,2,     3.30,2,    8.075,2,   2.8565
  06BE200011,  AR04,    66,  1,      6,      6,2,20001214,1702, 11.8722, -43.8892, 2861,   2495.6,   3.0555,  34.9515,2,-999.0000,9,    253.7,2,    27.38,2,    19.90,2,     0.00,9,     1.30,2,    0.030,2,    0.017,2, -999.000, -999.000,9,-999.0000,9,  -999.00,9, -999.000,9,   2.8549
  06BE200011,  AR04,    66,  1,      4,      4,2,20001214,1702, 11.8722, -43.8892, 2861,   2701.1,   2.8267,  34.9381,2,-999.0000,9,    252.8,2,    31.90,2,    20.58,2,     0.00,9,     1.34,2,    0.027,2,    0.016,2, -999.000, -999.000,9,-999.0000,9,  -999.00,9, -999.000,9,   2.6101
  06BE200011,  AR04,    66,  1,      5,      5,2,20001214,1702, 11.8722, -43.8892, 2861,   2701.7,   2.8274,  34.9383,2,-999.0000,9,   -999.0,9,  -999.00,9,  -999.00,9,  -999.00,9,  -999.00,9, -999.000,9, -999.000,9,    0.045, -999.000,2,-999.0000,9,  -999.00,9, -999.000,9,   2.6107
  06BE200011,  AR04,    66,  1,      3,      3,2,20001214,1702, 11.8722, -43.8892, 2861,   2827.1,   2.7772,  34.9342,2,-999.0000,9,   -999.0,9,  -999.00,9,  -999.00,9,  -999.00,9,  -999.00,9, -999.000,9, -999.000,9, -999.000, -999.000,9,-999.0000,9,     5.79,2,    7.841,2,   2.5489
  06BE200011,  AR04,    66,  1,      2,      2,2,20001214,1702, 11.8722, -43.8892, 2861,   2858.7,   2.7762,  34.9341,2,  34.9326,2,    251.9,2,    33.23,2,    20.43,2,     0.00,9,     1.35,2,    0.015,2,    0.009,2, -999.000, -999.000,9,-999.0000,9,  -999.00,9, -999.000,9,   2.5448
  06BE200011,  AR04,    66,  1,      1,      1,2,20001214,1702, 11.8722, -43.8892, 2861,   2859.8,   2.7738,  34.9339,2,-999.0000,9,   -999.0,9,  -999.00,9,  -999.00,9,  -999.00,9,  -999.00,9, -999.000,9, -999.000,9, -999.000, -999.000,9,-999.0000,9,  -999.00,9, -999.000,9,   2.5423
  06BE200011,  AR04,    67,  1,     22,     22,2,20001214,2118, 12.2992, -44.1008, 4841,     10.2,  25.9397,  35.5073,2,  35.5072,2,    207.4,2,     2.18,2,     0.06,2,     0.00,9,     0.01,2,    1.613,2,    0.993,2, -999.000,    0.004,9,   1.7910,2,     1.65,2, -999.000,9,  25.9374
  06BE200011,  AR04,    67,  1,     21,     21,2,20001214,2118, 12.2992, -44.1008, 4841,    988.4,   5.3026,  34.7793,2,  34.7855,2,    147.1,2,    25.47,2,    31.40,2,     0.01,2,     2.00,2,    0.033,2,    0.017,2, -999.000, -999.000,9,-999.0000,9,     2.31,2, -999.000,9,   5.2176
  06BE200011,  AR04,    67,  1,     20,     20,2,20001214,2118, 12.2992, -44.1008, 4841,   1248.1,   4.9894,  34.9423,2,-999.0000,9,    190.8,2,    20.66,2,    25.52,2,     0.00,9,     1.63,2,    0.100,2,    0.056,2, -999.000, -999.000,9,   1.7988,2,  -999.00,9, -999.000,9,   4.8824
  06BE200011,  AR04,    67,  1,     19,     19,2,20001214,2118, 12.2992, -44.1008, 4841,   1498.1,   4.4143,  34.9948,2,  34.9976,2,    231.8,2,    17.02,2,    20.81,2,     0.00,9,     1.34,2,    0.163,2,    0.090,2,    0.018, -999.000,2,   1.8115,2,  -999.00,9, -999.000,9,   4.2895
  06BE200011,  AR04,    67,  1,     18,     18,2,20001214,2118, 12.2992, -44.1008, 4841,   1749.0,   3.9577,  34.9940,2,-999.0000,9,    251.5,2,    16.64,2,    18.95,2,     0.00,9,     1.22,2,    0.162,2,    0.087,2, -999.000, -999.000,9,-999.0000,9,     3.71,2, -999.000,9,   3.8148
  06BE200011,  AR04,    67,  1,     17,     17,2,20001214,2118, 12.2992, -44.1008, 4841,   1896.0,   3.7438,  34.9882,2,-999.0000,9,    257.1,2,    16.79,2,    18.70,2,     0.00,9,     1.19,2,    0.164,2,    0.086,2,    0.120, -999.000,2,-999.0000,9,     3.47,2,    7.897,2,   3.5899
  06BE200011,  AR04,    67,  1,     16,     16,2,20001214,2118, 12.2992, -44.1008, 4841,   1984.8,   3.5809,  34.9830,2,  34.9837,2,    259.3,2,    18.00,2,    18.73,2,     0.00,9,     1.19,2,    0.136,2,    0.071,2, -999.000,    0.030,9,   1.8094,2,     3.20,2, -999.000,9,   3.4210
  06BE200011,  AR04,    67,  1,     15,     15,2,20001214,2118, 12.2992, -44.1008, 4841,   2297.6,   3.1467,  34.9587,2,-999.0000,9,    253.7,2,    26.02,2,    19.80,2,     0.01,2,     1.28,2,    0.032,2,    0.017,2,    0.144,    0.031,2,-999.0000,9,  -999.00,9,    7.935,2,   2.9638
  06BE200011,  AR04,    67,  1,     14,     14,2,20001214,2118, 12.2992, -44.1008, 4841,   2598.7,   2.9015,  34.9446,2,-999.0000,9,    251.9,2,    31.04,2,    20.37,2,     0.00,9,     1.32,2,    0.013,2,    0.009,2, -999.000,    0.015,9,   1.8324,2,     3.02,2, -999.000,9,   2.6936
  06BE200011,  AR04,    67,  1,     13,     13,2,20001214,2118, 12.2992, -44.1008, 4841,   2998.8,   2.7201,  34.9322,2,  34.9327,2,    251.0,2,    34.69,2,    20.73,2,     0.00,9,     1.34,2,    0.008,2,    0.006,2,    0.101, -999.000,2,   1.8341,2,     3.04,2,    7.833,2,   2.4755
  06BE200011,  AR04,    67,  1,     12,     12,2,20001214,2118, 12.2992, -44.1008, 4841,   3201.1,   2.6337,  34.9250,2,-999.0000,9,    251.5,2,    36.70,2,    20.60,2,     0.00,9,     1.37,2,    0.008,2,    0.005,2, -999.000, -999.000,9,-999.0000,9,  -999.00,9,    7.946,2,   2.3699
  06BE200011,  AR04,    67,  1,     11,     11,2,20001214,2118, 12.2992, -44.1008, 4841,   3594.9,   2.4902,  34.9098,2,-999.0000,9,   -999.0,9,  -999.00,9,  -999.00,9,  -999.00,9,  -999.00,9, -999.000,9, -999.000,9, -999.000,    0.001,9,   1.8280,2,     3.31,2,    7.946,2,   2.1876
  06BE200011,  AR04,    67,  1,     10,     10,2,20001214,2118, 12.2992, -44.1008, 4841,   3597.0,   2.4906,  34.9097,2,-999.0000,9,    251.5,2,    40.38,2,    21.17,2,     0.00,9,     1.39,2,    0.018,2,    0.011,2, -999.000, -999.000,9,-999.0000,9,  -999.00,9,    8.077,2,   2.1878
  06BE200011,  AR04,    67,  1,      8,      8,2,20001214,2118, 12.2992, -44.1008, 4841,   3796.4,   2.4466,  34.9033,2,  34.9052,2,    251.9,2,    41.39,2,    21.25,2,     0.00,9,     1.41,2,    0.022,2,    0.013,2,    0.052, -999.000,2,-999.0000,9,     2.89,2, -999.000,9,   2.1228
  06BE200011,  AR04,    67,  1,      9,      9,2,20001214,2118, 12.2992, -44.1008, 4841,   3796.6,   2.4469,  34.9034,2,-999.0000,9,   -999.0,9,  -999.00,9,  -999.00,9,  -999.00,9,  -999.00,9, -999.000,9, -999.000,9, -999.000,    0.004,9,   1.8250,2,     3.68,2,    8.077,2,   2.1231
  06BE200011,  AR04,    67,  1,      7,      7,2,20001214,2118, 12.2992, -44.1008, 4841,   4098.2,   2.3980,  34.8955,2,-999.0000,9,   -999.0,9,  -999.00,9,  -999.00,9,  -999.00,9,  -999.00,9, -999.000,9, -999.000,9, -999.000,    0.002,9,   1.8203,2,     2.89,2,    7.936,2,   2.0413
  06BE200011,  AR04,    67,  1,      6,      6,2,20001214,2118, 12.2992, -44.1008, 4841,   4100.4,   2.3978,  34.8955,2,-999.0000,9,    252.4,2,    42.85,2,    21.08,2,     0.01,2,     1.40,2,    0.031,2,    0.018,2,    0.045, -999.000,2,   1.8137,2,  -999.00,9, -999.000,9,   2.0408
  06BE200011,  AR04,    67,  1,      5,      5,2,20001214,2118, 12.2992, -44.1008, 4841,   4500.9,   2.4180,  34.8933,2,  34.8930,2,   -999.0,9,  -999.00,9,  -999.00,9,  -999.00,9,  -999.00,9, -999.000,9, -999.000,9, -999.000,    0.002,9,   1.8137,2,  -999.00,9, -999.000,9,   2.0131
  06BE200011,  AR04,    67,  1,      4,      4,2,20001214,2118, 12.2992, -44.1008, 4841,   4502.0,   2.4178,  34.8932,2,-999.0000,9,    252.4,2,    43.23,2,    21.47,2,     0.00,9,     1.43,2,    0.033,2,    0.019,2,    0.020, -999.000,2,-999.0000,9,  -999.00,9, -999.000,9,   2.0127
  06BE200011,  AR04,    67,  1,      3,      3,2,20001214,2118, 12.2992, -44.1008, 4841,   4750.6,   2.4452,  34.8928,2,-999.0000,9,   -999.0,9,    43.47,2,    21.13,2,     0.00,9,     1.44,2, -999.000,9, -999.000,9, -999.000, -999.000,9,   1.8474,2,  -999.00,9,    8.002,2,   2.0089
  06BE200011,  AR04,    67,  1,      2,      2,2,20001214,2118, 12.2992, -44.1008, 4841,   4838.4,   2.4570,  34.8929,2,  34.8958,2,    251.9,2,    43.52,2,    21.10,2,     0.01,2,     1.45,2,    0.033,2,    0.020,2,    0.026, -999.000,2,   1.8474,2,  -999.00,9, -999.000,9,   2.0093
  06BE200011,  AR04,    67,  1,      1,      1,2,20001214,2118, 12.2992, -44.1008, 4841,   4839.5,   2.4570,  34.8928,2,-999.0000,9,   -999.0,9,  -999.00,9,  -999.00,9,  -999.00,9,  -999.00,9, -999.000,9, -999.000,9, -999.000, -999.000,9,-999.0000,9,  -999.00,9, -999.000,9,   2.0092
  06BE200011,  AR04,    68,  1,     22,     22,2,20001215,0502, 12.9683, -44.8022, 4187,      6.8,  25.6748,  35.5892,2,  35.5829,2,    207.0,2,     2.20,2,     0.06,2,     0.01,2,     0.01,2,    1.618,2,    0.977,2, -999.000, -999.000,9,-999.0000,9,     2.17,2,    7.642,2,  25.6733
  06BE200011,  AR04,    68,  1,     21,     21,2,20001215,0502, 12.9683, -44.8022, 4187,   1002.3,   5.4037,  34.8260,2,  34.8209,2,    147.6,2,    24.69,2,    30.36,2,     0.01,2,     1.94,2,    0.017,2,    0.008,2,    0.020, -999.000,2,   1.7958,2,  -999.00,9,    7.712,2,   5.3166
  06BE200011,  AR04,    68,  1,     20,     20,2,20001215,0502, 12.9683, -44.8022, 4187,   1199.6,   5.0529,  34.9332,2,-999.0000,9,    184.7,2,    21.27,2,    25.98,2,     0.01,2,     1.67,2,    0.032,2,    0.017,2,    0.091, -999.000,2,-999.0000,9,     2.71,2, -999.000,9,   4.9499
  06BE200011,  AR04,    68,  1,     19,     19,2,20001215,0502, 12.9683, -44.8022, 4187,   1346.3,   4.7716,  34.9780,2,-999.0000,9,    208.2,2,    18.99,2,    22.94,2,     0.01,2,     1.50,2,    0.086,2,    0.047,2,    0.153,    0.160,2,   1.7845,2,     3.00,2, -999.000,9,   4.6574
  06BE200011,  AR04,    68,  1,     18,     18,2,20001215,0502, 12.9683, -44.8022, 4187,   1499.2,   4.4356,  34.9926,2,  34.9882,2,    232.7,2,    17.39,2,    20.72,2,     0.01,2,     1.35,2,    0.111,2,    0.062,2, -999.000, -999.000,9,   1.8061,2,  -999.00,9,    7.743,2,   4.3105
  06BE200011,  AR04,    68,  1,     17,     17,2,20001215,0502, 12.9683, -44.8022, 4187,   1648.8,   4.1437,  34.9953,2,-999.0000,9,    241.4,2,    17.26,2,    20.11,2,     0.01,2,     1.29,2,    0.114,2,    0.062,2, -999.000,    0.005,9,-999.0000,9,  -999.00,9,    7.794,2,   4.0079
  06BE200011,  AR04,    68,  1,     16,     16,2,20001215,0502, 12.9683, -44.8022, 4187,   1797.8,   3.9718,  34.9917,2,-999.0000,9,    245.8,2,    17.98,2,    19.73,2,     0.01,2,     1.26,2,    0.082,2,    0.045,2, -999.000, -999.000,9,   1.8617,2,     1.79,2,    7.840,2,   3.8241
  06BE200011,  AR04,    68,  1,     15,     15,2,20001215,0502, 12.9683, -44.8022, 4187,   2098.6,   3.4055,  34.9717,2,-999.0000,9,    252.8,2,    22.38,2,    19.58,2,     0.00,9,     1.26,2,    0.040,2,    0.022,2,    0.035,    0.005,2,   1.8150,2,  -999.00,9, -999.000,9,   3.2374
  06BE200011,  AR04,    68,  1,     14,     14,2,20001215,0502, 12.9683, -44.8022, 4187,   2398.6,   3.0799,  34.9550,2,-999.0000,9,    251.9,2,    27.14,2,    20.16,2,     0.01,2,     1.31,2,    0.015,2,    0.009,2,    0.022, -999.000,2,   1.8519,2,     2.92,2,    7.953,2,   2.8884
  06BE200011,  AR04,    68,  1,     13,     13,2,20001215,0502, 12.9683, -44.8022, 4187,   2698.0,   2.8541,  34.9416,2,-999.0000,9,    251.9,2,    32.24,2,    20.20,2,     0.01,2,     1.34,2,    0.011,2,    0.007,2,    0.013,    0.009,2,   1.8202,2,     3.19,2,    7.854,2,   2.6373
  06BE200011,  AR04,    68,  1,     12,     12,2,20001215,0502, 12.9683, -44.8022, 4187,   3000.3,   2.7342,  34.9322,2,-999.0000,9,    251.0,2,    35.20,2,    20.41,2,     0.00,9,     1.36,2,    0.010,2,    0.007,2, -999.000, -999.000,9,-999.0000,9,  -999.00,9, -999.000,9,   2.4891
  06BE200011,  AR04,    68,  1,     11,     11,2,20001215,0502, 12.9683, -44.8022, 4187,   3292.9,   2.6432,  34.9235,2,-999.0000,9,   -999.0,9,  -999.00,9,  -999.00,9,  -999.00,9,  -999.00,9, -999.000,9, -999.000,9, -999.000, -999.000,9,   1.8319,2,     4.03,2,    7.948,2,   2.3695
  06BE200011,  AR04,    68,  1,     10,     10,2,20001215,0502, 12.9683, -44.8022, 4187,   3299.0,   2.6397,  34.9232,2,  34.9178,2,    254.5,2,    37.02,2,    20.72,2,     0.00,9,     1.38,2,    0.013,2,    0.009,2, -999.000, -999.000,9,-999.0000,9,  -999.00,9, -999.000,9,   2.3655
  06BE200011,  AR04,    68,  1,      9,      9,2,20001215,0502, 12.9683, -44.8022, 4187,   3598.4,   2.5045,  34.9100,2,-999.0000,9,   -999.0,9,  -999.00,9,  -999.00,9,  -999.00,9,  -999.00,9, -999.000,9, -999.000,9, -999.000, -999.000,9,   1.8568,2,     3.32,2,    7.918,2,   2.2012
  06BE200011,  AR04,    68,  1,      8,      8,2,20001215,0502, 12.9683, -44.8022, 4187,   3599.0,   2.5034,  34.9098,2,-999.0000,9,    251.9,2,    39.93,2,    21.21,2,     0.00,9,     1.40,2,    0.028,2,    0.016,2,    0.021,    0.003,2,-999.0000,9,  -999.00,9,    8.048,2,   2.2000
  06BE200011,  AR04,    68,  1,      7,      7,2,20001215,0502, 12.9683, -44.8022, 4187,   3792.1,   2.4358,  34.9018,2,-999.0000,9,   -999.0,9,  -999.00,9,  -999.00,9,  -999.00,9,  -999.00,9, -999.000,9, -999.000,9, -999.000, -999.000,9,   1.8326,2,     3.81,2,    8.048,2,   2.1128
  06BE200011,  AR04,    68,  1,      6,      6,2,20001215,0502, 12.9683, -44.8022, 4187,   3799.7,   2.4272,  34.9011,2,-999.0000,9,    251.9,2,    41.78,2,    21.35,2,     0.00,9,     1.42,2,    0.025,2,    0.015,2, -999.000,    0.003,9,-999.0000,9,     3.51,2, -999.000,9,   2.1036
  06BE200011,  AR04,    68,  1,      5,      5,2,20001215,0502, 12.9683, -44.8022, 4187,   4000.4,   2.3365,  34.8912,2,-999.0000,9,   -999.0,9,  -999.00,9,  -999.00,9,  -999.00,9,  -999.00,9, -999.000,9, -999.000,9, -999.000, -999.000,9,-999.0000,9,     3.51,2, -999.000,9,   1.9927
  06BE200011,  AR04,    68,  1,      4,      4,2,20001215,0502, 12.9683, -44.8022, 4187,   4000.8,   2.3368,  34.8912,2,-999.0000,9,    252.8,2,    43.74,2,    21.03,2,     0.00,9,     1.42,2,    0.037,2,    0.021,2,    0.037,    0.001,2,-999.0000,9,  -999.00,9, -999.000,9,   1.9930
  06BE200011,  AR04,    68,  1,      3,      3,2,20001215,0502, 12.9683, -44.8022, 4187,   4099.4,   2.2817,  34.8854,2,-999.0000,9,   -999.0,9,  -999.00,9,  -999.00,9,  -999.00,9,  -999.00,9, -999.000,9, -999.000,9, -999.000, -999.000,9,   1.9384,3,     3.98,2, -999.000,9,   1.9282
  06BE200011,  AR04,    68,  1,      2,      2,2,20001215,0502, 12.9683, -44.8022, 4187,   4185.9,   2.2523,  34.8819,2,-999.0000,9,    252.8,2,    45.74,2,    21.16,2,     0.01,2,     1.44,2,    0.043,2,    0.026,2, -999.000,    0.002,9,-999.0000,9,     3.98,2, -999.000,9,   1.8897
  06BE200011,  AR04,    68,  1,      1,      1,2,20001215,0502, 12.9683, -44.8022, 4187,   4186.4,   2.2529,  34.8819,2,-999.0000,9,   -999.0,9,  -999.00,9,  -999.00,9,  -999.00,9,  -999.00,9, -999.000,9, -999.000,9, -999.000, -999.000,9,-999.0000,9,  -999.00,9, -999.000,9,   1.8902