BOTTLE,20111027CCHDOSIOCBG
EXPOCODE,SECT_ID,STNNBR,CASTNO,SAMPNO,BTLNBR,BTLNBR_FLAG_W,DATE,TIME,LATITUDE,LONGITUDE,DEPTH,CTDPRS,CTDTMP,CTDSAL,CTDSAL_FLAG_W,SALNTY,SALNTY_FLAG_W,OXYGEN,OXYGEN_FLAG_W,SILCAT,SILCAT_FLAG_W,NITRAT,NITRAT_FLAG_W,NITRIT,NITRIT_FLAG_W,PHSPHT,PHSPHT_FLAG_W,CFC-11,CFC-11_FLAG_W,CFC-12,CFC-12_FLAG_W,TRITUM,TRITER,TRITUM_FLAG_W,HELIUM,HELIUM_FLAG_W,DELHE3,DELHE3_FLAG_W,NEON,NEON_FLAG_W,THETA
,,,,,,,,,,,METERS,DBAR,ITS-90,PSS-78,,PSS-78,,UMOL/KG,,UMOL/KG,,UMOL/KG,,UMOL/KG,,UMOL/KG,,PMOL/KG,,PMOL/KG,,TU,TU,,NMOL/KG,,PERCNT,,NMOL/KG,,DEG C
  06BE200011,  AR04,    51,  1,     22,     22,2,20001211,0523,  7.9588, -37.9108, 3201,      7.8,  26.3992,  35.7453,2,  35.7459,2,    205.7,2,     1.86,2,     0.07,2,     0.01,2,     0.06,2,    1.560,2,    0.942,2, -999.000, -999.000,9,-999.0000,9,  -999.00,9, -999.000,9,  26.3974
  06BE200011,  AR04,    51,  1,     21,     21,2,20001211,0523,  7.9588, -37.9108, 3201,    999.8,   5.0010,  34.7565,2,  34.7495,2,    156.7,2,    26.19,2,    30.91,2,     0.00,9,     2.00,2,    0.025,2,    0.013,2, -999.000, -999.000,9,   1.7688,2,  -999.00,9, -999.000,9,   4.9173
  06BE200011,  AR04,    51,  1,     20,     20,2,20001211,0523,  7.9588, -37.9108, 3201,   1250.9,   4.8355,  34.9250,2,-999.0000,9,    196.4,2,    20.55,2,    24.71,2,     0.00,9,     1.62,2,    0.105,2,    0.055,2, -999.000,    0.002,9,   1.7887,2,  -999.00,9,    7.802,2,   4.7297
  06BE200011,  AR04,    51,  1,     19,     19,2,20001211,0523,  7.9588, -37.9108, 3201,   1499.9,   4.5170,  34.9984,2,  34.9951,2,    233.6,2,    16.18,2,    20.32,2,     0.00,9,     1.28,2,    0.277,2,    0.143,2, -999.000,    0.003,9,   1.8315,2,     2.02,2,    7.871,2,   4.3909
  06BE200011,  AR04,    51,  1,     18,     18,2,20001211,0523,  7.9588, -37.9108, 3201,   1747.5,   3.9554,  34.9890,2,-999.0000,9,    251.0,2,    16.43,2,    18.87,2,     0.00,9,     1.20,2,    0.182,2,    0.093,2,    0.174,    0.004,2,   1.8156,2,     2.40,2,    7.882,2,   3.8127
  06BE200011,  AR04,    51,  1,     17,     17,2,20001211,0523,  7.9588, -37.9108, 3201,   1797.6,   3.8520,  34.9860,2,-999.0000,9,   -999.0,9,  -999.00,9,  -999.00,9,  -999.00,9,  -999.00,9, -999.000,9, -999.000,9, -999.000, -999.000,9,-999.0000,9,     2.23,2, -999.000,9,   3.7060
  06BE200011,  AR04,    51,  1,     16,     16,2,20001211,0523,  7.9588, -37.9108, 3201,   1898.3,   3.6802,  34.9802,2,-999.0000,9,   -999.0,9,  -999.00,9,  -999.00,9,  -999.00,9,  -999.00,9, -999.000,9, -999.000,9, -999.000,    0.005,9,   1.7674,2,     2.23,2,    7.930,2,   3.5270
  06BE200011,  AR04,    51,  1,     15,     15,2,20001211,0523,  7.9588, -37.9108, 3201,   1998.7,   3.5227,  34.9741,2,  34.9715,2,    255.8,2,    19.29,2,    18.81,2,     0.00,9,     1.21,2,    0.079,2,    0.042,2,    0.050,    0.004,2,   1.8209,2,     1.67,2,    7.909,2,   3.3623
  06BE200011,  AR04,    51,  1,     14,     14,2,20001211,0523,  7.9588, -37.9108, 3201,   2196.8,   3.3278,  34.9638,2,-999.0000,9,    255.4,2,    21.72,2,    19.04,2,     0.00,9,     1.22,2,    0.039,2,    0.021,2,    0.031,    0.003,2,   1.8305,2,     4.38,2,    7.963,2,   3.1516
  06BE200011,  AR04,    51,  1,     13,     13,2,20001211,0523,  7.9588, -37.9108, 3201,   2399.0,   3.0826,  34.9512,2,-999.0000,9,    251.9,2,    24.76,2,    19.16,2,     0.00,9,     1.25,2,    0.032,2,    0.017,2,    0.040,    0.003,2,   1.8127,2,     3.62,2,    7.931,2,   2.8910
  06BE200011,  AR04,    51,  1,     12,     12,2,20001211,0523,  7.9588, -37.9108, 3201,   2602.6,   2.9011,  34.9403,2,  34.9360,2,    257.6,2,    27.21,2,    19.19,2,     0.00,9,     1.26,2,    0.033,2,    0.017,2,    0.019,    0.003,2,-999.0000,9,     4.63,2,    7.909,2,   2.6929
  06BE200011,  AR04,    51,  1,     11,     11,2,20001211,0523,  7.9588, -37.9108, 3201,   2693.2,   2.8813,  34.9387,2,-999.0000,9,   -999.0,9,  -999.00,9,  -999.00,9,  -999.00,9,  -999.00,9, -999.000,9, -999.000,9, -999.000, -999.000,9,   1.8044,2,  -999.00,9, -999.000,9,   2.6644
  06BE200011,  AR04,    51,  1,     10,     10,2,20001211,0523,  7.9588, -37.9108, 3201,   2696.8,   2.8806,  34.9387,2,-999.0000,9,    257.6,2,    27.65,2,    19.33,2,     0.00,9,     1.25,2,    0.037,2,    0.019,2,    0.041,    0.003,2,   1.8044,2,     4.80,2, -999.000,9,   2.6634
  06BE200011,  AR04,    51,  1,      8,      8,2,20001211,0523,  7.9588, -37.9108, 3201,   2833.7,   2.7406,  34.9299,2,-999.0000,9,    258.0,2,    29.61,2,    19.42,2,     0.01,2,     1.27,2,    0.044,2,    0.023,2,    0.047,    0.001,2,   1.8090,2,  -999.00,9,    7.955,2,   2.5124
  06BE200011,  AR04,    51,  1,      9,      9,2,20001211,0523,  7.9588, -37.9108, 3201,   2834.6,   2.7415,  34.9299,2,-999.0000,9,   -999.0,9,  -999.00,9,  -999.00,9,  -999.00,9,  -999.00,9, -999.000,9, -999.000,9, -999.000, -999.000,9,   1.8090,2,  -999.00,9, -999.000,9,   2.5132
  06BE200011,  AR04,    51,  1,      7,      7,2,20001211,0523,  7.9588, -37.9108, 3201,   2896.5,   2.7403,  34.9296,2,-999.0000,9,   -999.0,9,  -999.00,9,  -999.00,9,  -999.00,9,  -999.00,9, -999.000,9, -999.000,9, -999.000, -999.000,9,   1.8045,2,  -999.00,9, -999.000,9,   2.5058
  06BE200011,  AR04,    51,  1,      6,      6,2,20001211,0523,  7.9588, -37.9108, 3201,   2898.8,   2.7406,  34.9295,2,  34.9255,2,    257.6,2,    29.56,2,    19.48,2,     0.01,2,     1.26,2,    0.045,2,    0.023,2,    0.052,    0.002,2,   1.8045,2,     5.06,2,    7.962,2,   2.5059
  06BE200011,  AR04,    51,  1,      5,      5,2,20001211,0523,  7.9588, -37.9108, 3201,   2997.4,   2.6809,  34.9250,2,-999.0000,9,   -999.0,9,  -999.00,9,  -999.00,9,  -999.00,9,  -999.00,9, -999.000,9, -999.000,9, -999.000, -999.000,9,-999.0000,9,     5.06,2, -999.000,9,   2.4373
  06BE200011,  AR04,    51,  1,      4,      4,2,20001211,0523,  7.9588, -37.9108, 3201,   2997.9,   2.6793,  34.9248,2,  34.9219,2,    257.6,2,    31.23,2,    19.65,2,     0.00,9,     1.27,2,    0.042,2,    0.022,2,    0.054,    0.002,2,   1.8087,2,     3.94,2,    7.932,2,   2.4357
  06BE200011,  AR04,    51,  1,      3,      3,2,20001211,0523,  7.9588, -37.9108, 3201,   3096.8,   2.6374,  34.9214,2,-999.0000,9,   -999.0,9,    31.08,2,    19.55,2,     0.01,2,     1.27,2, -999.000,9, -999.000,9, -999.000, -999.000,9,-999.0000,9,     3.94,2, -999.000,9,   2.3845
  06BE200011,  AR04,    51,  1,      2,      2,2,20001211,0523,  7.9588, -37.9108, 3201,   3198.9,   2.6347,  34.9204,2,  34.9188,2,    258.5,2,    31.98,2,    19.64,2,     0.01,2,     1.29,2,    0.047,2,    0.024,2,    0.071, -999.000,2,   1.8123,2,     4.92,2, -999.000,9,   2.3712
  06BE200011,  AR04,    51,  1,      1,      1,2,20001211,0523,  7.9588, -37.9108, 3201,   3199.7,   2.6347,  34.9205,2,-999.0000,9,   -999.0,9,  -999.00,9,  -999.00,9,  -999.00,9,  -999.00,9, -999.000,9, -999.000,9, -999.000, -999.000,9,-999.0000,9,  -999.00,9, -999.000,9,   2.3711
  06BE200011,  AR04,    52,  1,     22,     22,2,20001211,1107,  8.0417, -38.6970, 3655,      9.4,  26.1945,  35.6650,2,  35.6655,2,    208.3,2,     1.75,2,     0.15,2,     0.00,9,     0.06,2,    1.538,2,    0.935,2, -999.000, -999.000,9,-999.0000,9,  -999.00,9, -999.000,9,  26.1924
  06BE200011,  AR04,    52,  1,     21,     21,2,20001211,1107,  8.0417, -38.6970, 3655,    996.9,   5.0138,  34.7526,2,  34.7595,2,    152.8,2,    26.12,2,    31.72,2,     0.00,9,     2.00,2,    0.027,2,    0.014,2, -999.000, -999.000,9,-999.0000,9,     1.34,2, -999.000,9,   4.9302
  06BE200011,  AR04,    52,  1,     20,     20,2,20001211,1107,  8.0417, -38.6970, 3655,   1138.4,   4.7830,  34.8646,2,-999.0000,9,    181.2,2,    23.00,2,    27.60,2,     0.00,9,     1.81,2,    0.040,2,    0.023,2,    0.113, -999.000,2,-999.0000,9,     2.06,2, -999.000,9,   4.6882
  06BE200011,  AR04,    52,  1,     19,     19,2,20001211,1107,  8.0417, -38.6970, 3655,   1296.3,   4.7066,  34.9369,2,  34.9379,2,    203.4,2,    20.55,2,    24.66,2,     0.00,9,     1.59,2,    0.097,2,    0.051,2, -999.000, -999.000,9,-999.0000,9,     2.81,2,    7.841,2,   4.5978
  06BE200011,  AR04,    52,  1,     18,     18,2,20001211,1107,  8.0417, -38.6970, 3655,   1546.4,   4.3669,  34.9931,2,-999.0000,9,    237.1,2,    16.88,2,    20.40,2,     0.00,9,     1.32,2,    0.202,2,    0.106,2,    0.158,    0.009,2,   1.8000,2,     2.96,2,    7.836,2,   4.2381
  06BE200011,  AR04,    52,  1,     17,     17,2,20001211,1107,  8.0417, -38.6970, 3655,   1696.7,   4.0269,  34.9910,2,  34.9926,2,    248.8,2,    16.98,2,    19.39,2,     0.00,9,     1.22,2,    0.175,2,    0.092,2, -999.000, -999.000,9,-999.0000,9,  -999.00,9,    7.918,2,   3.8881
  06BE200011,  AR04,    52,  1,     16,     16,2,20001211,1107,  8.0417, -38.6970, 3655,   1847.2,   3.8634,  34.9888,2,-999.0000,9,    253.7,2,    16.90,2,    18.84,2,     0.00,9,     1.24,2,    0.181,2,    0.093,2, -999.000, -999.000,9,-999.0000,9,     2.39,2,    7.840,2,   3.7125
  06BE200011,  AR04,    52,  1,     15,     15,2,20001211,1107,  8.0417, -38.6970, 3655,   1998.4,   3.6385,  34.9798,2,-999.0000,9,    255.4,2,    18.35,2,    18.82,2,     0.01,2,     1.25,2,    0.113,2,    0.060,2,    0.082,    0.010,2,-999.0000,9,     2.50,2,    8.017,2,   3.4764
  06BE200011,  AR04,    52,  1,     14,     14,2,20001211,1107,  8.0417, -38.6970, 3655,   2197.3,   3.3637,  34.9657,2,-999.0000,9,    255.4,2,    21.86,2,    19.20,2,     0.01,2,     1.27,2,    0.054,2,    0.030,2,    0.047,    0.009,2,   1.8157,2,     4.12,2,    7.979,2,   3.1868
  06BE200011,  AR04,    52,  1,     13,     13,2,20001211,1107,  8.0417, -38.6970, 3655,   2399.4,   3.1145,  34.9542,2,-999.0000,9,    256.7,2,    23.88,2,    19.11,2,     0.00,9,     1.29,2,    0.040,2,    0.022,2,    0.036,    0.002,2,-999.0000,9,     2.51,2,    7.968,2,   2.9223
  06BE200011,  AR04,    52,  1,     12,     12,2,20001211,1107,  8.0417, -38.6970, 3655,   2592.8,   2.9914,  34.9456,2,  34.9483,2,    256.3,2,    26.21,2,    19.72,2,     0.00,9,     1.31,2,    0.030,2,    0.016,2,    0.043,    0.014,2,   1.8256,2,  -999.00,9,    7.867,2,   2.7824
  06BE200011,  AR04,    52,  1,     11,     11,2,20001211,1107,  8.0417, -38.6970, 3655,   2799.2,   2.8633,  34.9374,2,-999.0000,9,   -999.0,9,  -999.00,9,  -999.00,9,  -999.00,9,  -999.00,9, -999.000,9, -999.000,9, -999.000, -999.000,9,-999.0000,9,     3.89,2, -999.000,9,   2.6361
  06BE200011,  AR04,    52,  1,     10,     10,2,20001211,1107,  8.0417, -38.6970, 3655,   2806.0,   2.8587,  34.9369,2,-999.0000,9,    256.7,2,    28.20,2,    19.47,2,     0.01,2,     1.31,2,    0.034,2,    0.019,2,    0.041,    0.002,2,-999.0000,9,     3.89,2,    7.949,2,   2.6309
  06BE200011,  AR04,    52,  1,      8,      8,2,20001211,1107,  8.0417, -38.6970, 3655,   2995.5,   2.7410,  34.9294,2,-999.0000,9,    257.6,2,    29.66,2,    19.39,2,     0.00,9,     1.31,2,    0.043,2,    0.022,2,    0.039,    0.002,2,   1.8055,2,     4.30,2, -999.000,9,   2.4963
  06BE200011,  AR04,    52,  1,      9,      9,2,20001211,1107,  8.0417, -38.6970, 3655,   2996.5,   2.7405,  34.9294,2,-999.0000,9,   -999.0,9,  -999.00,9,  -999.00,9,  -999.00,9,  -999.00,9, -999.000,9, -999.000,9, -999.000, -999.000,9,   1.8055,2,     4.30,2, -999.000,9,   2.4957
  06BE200011,  AR04,    52,  1,      7,      7,2,20001211,1107,  8.0417, -38.6970, 3655,   3189.7,   2.6923,  34.9247,2,-999.0000,9,   -999.0,9,  -999.00,9,  -999.00,9,  -999.00,9,  -999.00,9, -999.000,9, -999.000,9, -999.000, -999.000,9,   1.8317,2,     3.94,2, -999.000,9,   2.4284
  06BE200011,  AR04,    52,  1,      6,      6,2,20001211,1107,  8.0417, -38.6970, 3655,   3192.9,   2.6903,  34.9245,2,  34.9250,2,    257.2,2,    31.20,2,    19.64,2,     0.00,9,     1.33,2,    0.042,2,    0.021,2,    0.029,    0.003,2,   1.8317,2,     3.94,2,    8.050,2,   2.4261
  06BE200011,  AR04,    52,  1,      5,      5,2,20001211,1107,  8.0417, -38.6970, 3655,   3448.8,   2.5477,  34.9125,2,-999.0000,9,   -999.0,9,    34.37,2,    20.13,2,     0.00,9,     1.38,2, -999.000,9, -999.000,9, -999.000, -999.000,9,-999.0000,9,  -999.00,9,    8.050,2,   2.2596
  06BE200011,  AR04,    52,  1,      4,      4,2,20001211,1107,  8.0417, -38.6970, 3655,   3474.6,   2.5388,  34.9113,2,-999.0000,9,    256.3,2,    34.53,2,    19.96,2,     0.00,9,     1.36,2,    0.046,2,    0.024,2,    0.047,    0.002,2,-999.0000,9,     4.16,2,    8.112,2,   2.2481
  06BE200011,  AR04,    52,  1,      3,      3,2,20001211,1107,  8.0417, -38.6970, 3655,   3596.6,   2.4123,  34.8994,2,-999.0000,9,   -999.0,9,    36.93,2,    20.21,2,     0.00,9,     1.39,2, -999.000,9, -999.000,9, -999.000, -999.000,9,-999.0000,9,  -999.00,9,    8.112,2,   2.1116
  06BE200011,  AR04,    52,  1,      1,      1,2,20001211,1107,  8.0417, -38.6970, 3655,   3652.0,   2.2953,  34.8897,2,-999.0000,9,   -999.0,9,  -999.00,9,  -999.00,9,  -999.00,9,  -999.00,9, -999.000,9, -999.000,9, -999.000, -999.000,9,   1.8261,2,  -999.00,9, -999.000,9,   1.9916
  06BE200011,  AR04,    52,  1,      2,      2,2,20001211,1107,  8.0417, -38.6970, 3655,   3652.6,   2.2946,  34.8895,2,-999.0000,9,    255.4,2,    40.02,2,    20.73,2,     0.03,2,     1.42,2,    0.055,2,    0.030,2, -999.000,    0.002,9,   1.8261,2,     4.74,2,    7.987,2,   1.9908
  06BE200011,  AR04,    53,  1,     22,     22,2,20001211,1900,  8.3212, -39.5808, 4263,      9.5,  26.0785,  35.4769,2,-999.0000,9,    207.9,2,     1.95,2,     0.08,2,     0.01,2,     0.01,2,    1.583,2,    0.953,2,    0.599, -999.000,2,-999.0000,9,  -999.00,9, -999.000,9,  26.0764
  06BE200011,  AR04,    53,  1,     21,     21,2,20001211,1900,  8.3212, -39.5808, 4263,   1000.1,   4.9933,  34.7291,2,-999.0000,9,    150.6,2,    27.29,2,    31.55,2,     0.00,9,     2.02,2,    0.024,2,    0.012,2, -999.000, -999.000,9,-999.0000,9,  -999.00,9,    7.671,2,   4.9097
  06BE200011,  AR04,    53,  1,     20,     20,2,20001211,1900,  8.3212, -39.5808, 4263,   1197.9,   4.8826,  34.8908,2,-999.0000,9,    186.4,2,    21.88,2,    26.10,2,     0.00,9,     1.71,2,    0.082,2,    0.045,2,    0.047,    0.005,2,-999.0000,9,  -999.00,9,    7.752,2,   4.7814
  06BE200011,  AR04,    53,  1,     19,     19,2,20001211,1900,  8.3212, -39.5808, 4263,   1398.2,   4.6108,  34.9691,2,-999.0000,9,    220.5,2,    17.91,2,    21.98,2,     0.00,9,     1.45,2,    0.144,2,    0.078,2, -999.000, -999.000,9,   1.8049,2,  -999.00,9,    7.908,2,   4.4934
  06BE200011,  AR04,    53,  1,     18,     18,2,20001211,1900,  8.3212, -39.5808, 4263,   1547.3,   4.2955,  34.9878,2,-999.0000,9,    237.9,2,    16.63,2,    20.24,2,     0.00,9,     1.29,2,    0.157,2,    0.082,2,    0.194,    0.008,2,   1.8223,2,     2.75,2,    7.906,2,   4.1675
  06BE200011,  AR04,    53,  1,     17,     17,2,20001211,1900,  8.3212, -39.5808, 4263,   1698.9,   4.0808,  34.9919,2,-999.0000,9,    248.0,2,    16.06,2,    19.28,2,     0.00,9,     1.25,2,    0.238,2,    0.134,2, -999.000, -999.000,9,-999.0000,9,  -999.00,9, -999.000,9,   3.9411
  06BE200011,  AR04,    53,  1,     16,     16,2,20001211,1900,  8.3212, -39.5808, 4263,   1847.0,   3.7820,  34.9846,2,-999.0000,9,    254.5,2,    17.26,2,    18.70,2,     0.01,2,     1.24,2,    0.137,2,    0.071,2,    0.161, -999.000,2,-999.0000,9,  -999.00,9,    7.751,2,   3.6323
  06BE200011,  AR04,    53,  1,     15,     15,2,20001211,1900,  8.3212, -39.5808, 4263,   1998.5,   3.5670,  34.9746,2,-999.0000,9,    254.5,2,    19.37,2,    19.24,2,     0.00,9,     1.26,2,    0.070,2,    0.037,2,    0.118,    0.003,2,   1.8309,2,  -999.00,9,    7.912,2,   3.4060
  06BE200011,  AR04,    53,  1,     14,     14,2,20001211,1900,  8.3212, -39.5808, 4263,   2247.5,   3.2386,  34.9594,2,-999.0000,9,    255.8,2,    22.78,2,    19.27,2,     0.00,9,     1.28,2,    0.038,2,    0.022,2,    0.070,    0.002,2,   1.7988,2,     2.07,2,    7.934,2,   3.0590
  06BE200011,  AR04,    53,  1,     13,     13,2,20001211,1900,  8.3212, -39.5808, 4263,   2554.6,   2.9942,  34.9472,2,-999.0000,9,    258.0,2,    25.25,2,    19.09,2,     0.00,9,     1.26,2, -999.000,9, -999.000,9,    0.038,    0.001,2,   1.7877,2,  -999.00,9,    7.912,2,   2.7889
  06BE200011,  AR04,    53,  1,     12,     12,2,20001211,1900,  8.3212, -39.5808, 4263,   2748.2,   2.8532,  34.9380,2,-999.0000,9,    257.6,2,    28.39,2,    19.72,2,     0.00,9,     1.28,2,    0.040,2,    0.021,2,    0.040,    0.002,2,-999.0000,9,     2.37,2, -999.000,9,   2.6314
  06BE200011,  AR04,    53,  1,     11,     11,2,20001211,1900,  8.3212, -39.5808, 4263,   3000.2,   2.7468,  34.9301,2,-999.0000,9,   -999.0,9,  -999.00,9,  -999.00,9,  -999.00,9,  -999.00,9, -999.000,9, -999.000,9, -999.000, -999.000,9,-999.0000,9,  -999.00,9,    7.978,2,   2.5015
  06BE200011,  AR04,    53,  1,     10,     10,2,20001211,1900,  8.3212, -39.5808, 4263,   3004.3,   2.7430,  34.9299,2,-999.0000,9,    259.3,2,    31.66,2,    19.89,2,     0.00,9,     1.28,2,    0.045,2,    0.024,2, -999.000,    0.002,9,   1.7862,2,  -999.00,9,    7.978,2,   2.4973
  06BE200011,  AR04,    53,  1,      9,      9,2,20001211,1900,  8.3212, -39.5808, 4263,   3383.7,   2.5289,  34.9149,2,-999.0000,9,   -999.0,9,  -999.00,9,  -999.00,9,  -999.00,9,  -999.00,9, -999.000,9, -999.000,9, -999.000, -999.000,9,-999.0000,9,     3.19,2,    7.933,2,   2.2482
  06BE200011,  AR04,    53,  1,      8,      8,2,20001211,1900,  8.3212, -39.5808, 4263,   3384.3,   2.5262,  34.9146,2,-999.0000,9,    260.2,2,    36.06,2,    19.89,2,     0.00,9,     1.29,2,    0.064,2,    0.036,2,    0.055,    0.006,2,   1.7957,2,     3.19,2,    7.933,2,   2.2455
  06BE200011,  AR04,    53,  1,      7,      7,2,20001211,1900,  8.3212, -39.5808, 4263,   3698.3,   2.3863,  34.8994,2,-999.0000,9,   -999.0,9,  -999.00,9,  -999.00,9,  -999.00,9,  -999.00,9, -999.000,9, -999.000,9, -999.000, -999.000,9,-999.0000,9,     2.79,2,    7.875,2,   2.0751
  06BE200011,  AR04,    53,  1,      6,      6,2,20001211,1900,  8.3212, -39.5808, 4263,   3744.9,   2.3162,  34.8919,2,-999.0000,9,    257.2,2,    42.50,2,    20.64,2,     0.00,9,     1.38,2,    0.058,2,    0.032,2,    0.048,    0.011,2,   1.7779,2,     2.79,2,    7.875,2,   2.0017
  06BE200011,  AR04,    53,  1,      5,      5,2,20001211,1900,  8.3212, -39.5808, 4263,   3900.8,   2.2193,  34.8812,2,-999.0000,9,   -999.0,9,  -999.00,9,  -999.00,9,  -999.00,9,  -999.00,9, -999.000,9, -999.000,9, -999.000, -999.000,9,-999.0000,9,  -999.00,9, -999.000,9,   1.8901
  06BE200011,  AR04,    53,  1,      4,      4,2,20001211,1900,  8.3212, -39.5808, 4263,   4002.4,   2.1206,  34.8704,2,-999.0000,9,    253.2,2,    49.42,2,    21.74,2,     0.01,2,     1.48,2,    0.068,2,    0.039,2, -999.000,    0.002,9,   1.7990,2,  -999.00,9,    8.007,2,   1.7828
  06BE200011,  AR04,    53,  1,      3,      3,2,20001211,1900,  8.3212, -39.5808, 4263,   4097.8,   2.0700,  34.8642,2,-999.0000,9,   -999.0,9,    50.07,2,    22.11,2,     0.00,9,     1.48,2, -999.000,9, -999.000,9, -999.000, -999.000,9,-999.0000,9,  -999.00,9, -999.000,9,   1.7228
  06BE200011,  AR04,    53,  1,      1,      1,2,20001211,1900,  8.3212, -39.5808, 4263,   4261.5,   1.9297,  34.8493,2,-999.0000,9,   -999.0,9,  -999.00,9,  -999.00,9,  -999.00,9,  -999.00,9, -999.000,9, -999.000,9, -999.000, -999.000,9,-999.0000,9,     1.40,2, -999.000,9,   1.5680
  06BE200011,  AR04,    53,  1,      2,      2,2,20001211,1900,  8.3212, -39.5808, 4263,   4261.7,   1.9304,  34.8492,2,-999.0000,9,    250.2,2,    55.05,2,    23.32,2,     0.00,9,     1.54,2,    0.065,2,    0.038,2, -999.000, -999.000,9,-999.0000,9,     1.40,2,    8.071,2,   1.5686