BOTTLE,20111027CCHDOSIOCBG
EXPOCODE,SECT_ID,STNNBR,CASTNO,SAMPNO,BTLNBR,BTLNBR_FLAG_W,DATE,TIME,LATITUDE,LONGITUDE,DEPTH,CTDPRS,CTDTMP,CTDSAL,CTDSAL_FLAG_W,SALNTY,SALNTY_FLAG_W,OXYGEN,OXYGEN_FLAG_W,SILCAT,SILCAT_FLAG_W,NITRAT,NITRAT_FLAG_W,NITRIT,NITRIT_FLAG_W,PHSPHT,PHSPHT_FLAG_W,CFC-11,CFC-11_FLAG_W,CFC-12,CFC-12_FLAG_W,TRITUM,TRITER,TRITUM_FLAG_W,HELIUM,HELIUM_FLAG_W,DELHE3,DELHE3_FLAG_W,NEON,NEON_FLAG_W,THETA
,,,,,,,,,,,METERS,DBAR,ITS-90,PSS-78,,PSS-78,,UMOL/KG,,UMOL/KG,,UMOL/KG,,UMOL/KG,,UMOL/KG,,PMOL/KG,,PMOL/KG,,TU,TU,,NMOL/KG,,PERCNT,,NMOL/KG,,DEG C
  06BE200011,  AR04,    28,  1,     21,     21,2,20001205,0636,  2.9997, -34.9998, 3851,      7.7,  27.7878,  35.7405,2,-999.0000,9,   -999.0,9,  -999.00,9,  -999.00,9,  -999.00,9,  -999.00,9,    1.517,2,    0.917,2, -999.000, -999.000,9,-999.0000,9,  -999.00,9, -999.000,9,  27.7860
  06BE200011,  AR04,    28,  1,     22,     22,2,20001205,0636,  2.9997, -34.9998, 3851,      7.7,  27.7865,  35.7405,2,-999.0000,9,    201.3,2,     1.10,2,     0.13,2,     0.00,9,     0.04,2, -999.000,9, -999.000,9, -999.000, -999.000,9,-999.0000,9,  -999.00,9, -999.000,9,  27.7847
  06BE200011,  AR04,    28,  1,     20,     20,2,20001205,0636,  2.9997, -34.9998, 3851,    101.6,  25.9511,  36.1016,2,-999.0000,9,    179.1,2,     2.05,2,     2.10,2,     0.25,2,     0.18,2, -999.000,9, -999.000,9, -999.000, -999.000,9,-999.0000,9,  -999.00,9, -999.000,9,  25.9284
  06BE200011,  AR04,    28,  1,     19,     19,2,20001205,0636,  2.9997, -34.9998, 3851,    198.5,  12.0959,  35.1581,2,  35.1281,2,    143.6,2,     8.97,2,    19.71,2,     0.02,2,     1.31,2, -999.000,9, -999.000,9, -999.000, -999.000,9,-999.0000,9,  -999.00,9, -999.000,9,  12.0698
  06BE200011,  AR04,    28,  1,     18,     18,2,20001205,0636,  2.9997, -34.9998, 3851,    391.5,   8.4316,  34.7955,2,  34.7770,2,     91.2,2,    17.48,2,    32.93,2,     0.01,2,     2.26,2, -999.000,9, -999.000,9, -999.000, -999.000,9,-999.0000,9,  -999.00,9,    7.762,2,   8.3903
  06BE200011,  AR04,    28,  1,     17,     17,2,20001205,0636,  2.9997, -34.9998, 3851,    596.6,   5.8767,  34.5725,2,  34.5668,2,    125.8,2,    25.09,2,    34.60,2,     0.01,2,     2.47,2, -999.000,9, -999.000,9, -999.000, -999.000,9,-999.0000,9,  -999.00,9, -999.000,9,   5.8247
  06BE200011,  AR04,    28,  1,     16,     16,2,20001205,0636,  2.9997, -34.9998, 3851,    800.1,   4.8406,  34.5345,2,-999.0000,9,    151.5,2,    29.25,2,    33.56,2,     0.01,2,     2.37,2, -999.000,9, -999.000,9, -999.000, -999.000,9,-999.0000,9,  -999.00,9,    7.788,2,   4.7760
  06BE200011,  AR04,    28,  1,     15,     15,2,20001205,0636,  2.9997, -34.9998, 3851,    996.8,   4.7239,  34.6704,2,-999.0000,9,    155.0,2,    28.47,2,    31.31,2,     0.11,2,     2.31,2,    0.027,2,    0.013,2, -999.000, -999.000,9,-999.0000,9,  -999.00,9,    7.788,2,   4.6427
  06BE200011,  AR04,    28,  1,     14,     14,2,20001205,0636,  2.9997, -34.9998, 3851,   1198.6,   4.6794,  34.8677,2,-999.0000,9,   -999.0,9,  -999.00,9,  -999.00,9,  -999.00,9,  -999.00,9, -999.000,9, -999.000,9, -999.000, -999.000,9,-999.0000,9,  -999.00,9, -999.000,9,   4.5800
  06BE200011,  AR04,    28,  1,     13,     13,2,20001205,0636,  2.9997, -34.9998, 3851,   1395.3,   4.5051,  34.9547,2,-999.0000,9,    217.8,2,    18.69,2,    21.96,2,     0.01,2,     1.59,2,    0.115,2,    0.059,2, -999.000, -999.000,9,-999.0000,9,  -999.00,9,    7.771,2,   4.3891
  06BE200011,  AR04,    28,  1,     12,     12,2,20001205,0636,  2.9997, -34.9998, 3851,   1598.2,   4.1966,  34.9835,2,-999.0000,9,   -999.0,9,  -999.00,9,  -999.00,9,  -999.00,9,  -999.00,9,    0.157,2,    0.083,2, -999.000, -999.000,9,   1.8001,2,  -999.00,9, -999.000,9,   4.0650
  06BE200011,  AR04,    28,  1,     11,     11,2,20001205,0636,  2.9997, -34.9998, 3851,   1697.6,   3.9747,  34.9861,2,-999.0000,9,    248.0,2,  -999.00,9,  -999.00,9,  -999.00,9,  -999.00,9,    0.153,2,    0.082,2, -999.000, -999.000,9,-999.0000,9,  -999.00,9, -999.000,9,   3.8365
  06BE200011,  AR04,    28,  1,     10,     10,2,20001205,0636,  2.9997, -34.9998, 3851,   1799.5,   3.8592,  34.9870,2,  34.9811,2,    252.8,2,    16.72,2,    18.91,2,     0.01,2,     1.23,2,    0.171,2,    0.088,2,    0.141, -999.000,2,   1.8178,2,  -999.00,9,    7.907,2,   3.7129
  06BE200011,  AR04,    28,  1,      9,      9,2,20001205,0636,  2.9997, -34.9998, 3851,   1998.1,   3.5916,  34.9776,2,  34.9834,2,    256.3,2,    18.53,2,    18.22,2,     0.01,2,     1.21,2,    0.139,2,    0.071,2, -999.000, -999.000,9,-999.0000,9,  -999.00,9, -999.000,9,   3.4302
  06BE200011,  AR04,    28,  1,      8,      8,2,20001205,0636,  2.9997, -34.9998, 3851,   2244.4,   3.3771,  34.9698,2,-999.0000,9,    259.3,2,    19.65,2,    18.23,2,     0.01,2,     1.24,2,    0.111,2,    0.056,2,    0.076, -999.000,2,   1.8148,2,  -999.00,9, -999.000,9,   3.1954
  06BE200011,  AR04,    28,  1,      7,      7,2,20001205,0636,  2.9997, -34.9998, 3851,   2498.2,   3.1112,  34.9554,2,-999.0000,9,    260.2,2,    22.58,2,    18.44,2,     0.02,2,     1.25,2,    0.075,2,    0.041,2, -999.000, -999.000,9,-999.0000,9,  -999.00,9,    7.924,2,   2.9093
  06BE200011,  AR04,    28,  1,      6,      6,2,20001205,0636,  2.9997, -34.9998, 3851,   2747.6,   2.8990,  34.9392,2,-999.0000,9,    257.6,2,    27.05,2,    19.11,2,     0.06,2,     1.26,2, -999.000,9, -999.000,9, -999.000, -999.000,9,   1.8344,2,  -999.00,9, -999.000,9,   2.6763
  06BE200011,  AR04,    28,  1,      5,      5,2,20001205,0636,  2.9997, -34.9998, 3851,   2999.5,   2.7033,  34.9239,2,  34.9728,2,    255.8,2,    31.55,2,    19.60,2,     0.02,2,     1.29,2,    0.028,2,    0.016,2,    0.035, -999.000,2,-999.0000,9,  -999.00,9, -999.000,9,   2.4588
  06BE200011,  AR04,    28,  1,      4,      4,2,20001205,0636,  2.9997, -34.9998, 3851,   3296.5,   2.5305,  34.9110,2,-999.0000,9,    256.3,2,    34.83,2,    20.23,2,     0.02,2,     1.34,2,    0.037,2,    0.020,2,    0.043, -999.000,2,   1.8480,2,  -999.00,9,    8.042,2,   2.2591
  06BE200011,  AR04,    28,  1,      3,      3,2,20001205,0636,  2.9997, -34.9998, 3851,   3498.4,   2.4518,  34.9056,2,  34.9036,2,    257.6,2,    35.39,2,    19.71,2,     0.03,2,     1.36,2,    0.051,2,    0.028,2, -999.000, -999.000,9,-999.0000,9,  -999.00,9, -999.000,9,   2.1607
  06BE200011,  AR04,    28,  1,      2,      2,2,20001205,0636,  2.9997, -34.9998, 3851,   3698.8,   2.3813,  34.8983,2,  34.8939,2,    257.6,2,    37.12,2,    20.24,2,     0.02,2,     1.42,2,    0.058,2,    0.031,2, -999.000, -999.000,9,   1.8784,2,  -999.00,9, -999.000,9,   2.0702
  06BE200011,  AR04,    28,  1,      1,      1,2,20001205,0636,  2.9997, -34.9998, 3851,   3848.8,   2.3213,  34.8918,2,  34.8888,2,    257.6,2,    39.22,2,    20.59,2,     0.02,2,     1.36,2,    0.071,2,    0.040,2, -999.000, -999.000,9,   1.8521,2,  -999.00,9,    7.856,2,   1.9951
  06BE200011,  AR04,    29,  1,     21,     21,2,20001205,1133,  3.4998, -35.0002, 4005,      9.5,  27.8585,  35.6900,2,-999.0000,9,    203.0,2,     1.29,2,     0.08,2,     0.01,2,     0.02,2, -999.000,9, -999.000,9, -999.000, -999.000,9,-999.0000,9,  -999.00,9, -999.000,9,  27.8563
  06BE200011,  AR04,    29,  1,     22,     22,2,20001205,1133,  3.4998, -35.0002, 4005,     10.1,  27.8548,  35.6901,2,-999.0000,9,    203.9,2,     1.22,2,     0.09,2,     0.00,9,     0.03,2,    1.508,2,    0.927,2, -999.000, -999.000,9,-999.0000,9,  -999.00,9, -999.000,9,  27.8524
  06BE200011,  AR04,    29,  1,     20,     20,2,20001205,1133,  3.4998, -35.0002, 4005,     98.2,  26.2244,  36.0233,2,-999.0000,9,    173.8,2,     2.50,2,     3.04,2,     0.17,2,     0.23,2, -999.000,9, -999.000,9, -999.000, -999.000,9,-999.0000,9,  -999.00,9, -999.000,9,  26.2023
  06BE200011,  AR04,    29,  1,     19,     19,2,20001205,1133,  3.4998, -35.0002, 4005,    197.3,  12.8114,  35.2487,2,-999.0000,9,    133.5,2,     8.21,2,    19.97,2,     0.02,2,     1.28,2, -999.000,9, -999.000,9, -999.000, -999.000,9,-999.0000,9,  -999.00,9, -999.000,9,  12.7845
  06BE200011,  AR04,    29,  1,     18,     18,2,20001205,1133,  3.4998, -35.0002, 4005,    397.3,   8.6501,  34.7920,2,-999.0000,9,    124.8,2,    15.60,2,    29.96,2,     0.04,2,     1.93,2, -999.000,9, -999.000,9, -999.000, -999.000,9,-999.0000,9,  -999.00,9, -999.000,9,   8.6076
  06BE200011,  AR04,    29,  1,     17,     17,2,20001205,1133,  3.4998, -35.0002, 4005,    596.4,   6.2809,  34.5951,2,-999.0000,9,    124.4,2,    23.21,2,    34.57,2,     0.02,2,     2.46,2, -999.000,9, -999.000,9, -999.000, -999.000,9,-999.0000,9,  -999.00,9, -999.000,9,   6.2270
  06BE200011,  AR04,    29,  1,     16,     16,2,20001205,1133,  3.4998, -35.0002, 4005,    799.7,   5.0141,  34.5754,2,-999.0000,9,    139.7,2,    29.14,2,    35.22,2,     0.03,2,     2.52,2, -999.000,9, -999.000,9, -999.000, -999.000,9,-999.0000,9,  -999.00,9, -999.000,9,   4.9484
  06BE200011,  AR04,    29,  1,     15,     15,2,20001205,1133,  3.4998, -35.0002, 4005,    997.6,   4.7066,  34.6651,2,-999.0000,9,    153.2,2,    29.14,2,    33.85,2,     0.01,2,     2.37,2,    0.018,2,    0.009,2, -999.000, -999.000,9,-999.0000,9,  -999.00,9, -999.000,9,   4.6255
  06BE200011,  AR04,    29,  1,     14,     14,2,20001205,1133,  3.4998, -35.0002, 4005,   1198.9,   4.6662,  34.8503,2,-999.0000,9,    182.9,2,    23.64,2,    27.23,2,     0.01,2,     1.94,2,    0.061,2,    0.032,2, -999.000, -999.000,9,-999.0000,9,  -999.00,9, -999.000,9,   4.5669
  06BE200011,  AR04,    29,  1,     13,     13,2,20001205,1133,  3.4998, -35.0002, 4005,   1397.2,   4.4865,  34.9550,2,  34.9538,2,    218.3,2,    18.86,2,    22.65,2,     0.01,2,     1.56,2,    0.112,2,    0.061,2, -999.000, -999.000,9,-999.0000,9,  -999.00,9, -999.000,9,   4.3705
  06BE200011,  AR04,    29,  1,     12,     12,2,20001205,1133,  3.4998, -35.0002, 4005,   1596.7,   4.1636,  34.9929,2,-999.0000,9,    244.9,2,    16.04,2,    20.03,2,     0.02,2,     1.35,2,    0.224,2,    0.117,2, -999.000, -999.000,9,-999.0000,9,     3.21,2, -999.000,9,   4.0325
  06BE200011,  AR04,    29,  1,     11,     11,2,20001205,1133,  3.4998, -35.0002, 4005,   1799.4,   3.9006,  34.9882,2,  34.9854,2,    252.8,2,    16.60,2,    19.38,2,     0.03,2,     1.27,2,    0.201,2,    0.106,2, -999.000, -999.000,9,-999.0000,9,  -999.00,9, -999.000,9,   3.7537
  06BE200011,  AR04,    29,  1,     10,     10,2,20001205,1133,  3.4998, -35.0002, 4005,   1999.6,   3.6057,  34.9795,2,-999.0000,9,    257.1,2,    18.15,2,    18.50,2,     0.04,2,     1.28,2,    0.143,2,    0.076,2, -999.000,    0.005,9,-999.0000,9,     2.55,2, -999.000,9,   3.4440
  06BE200011,  AR04,    29,  1,      9,      9,2,20001205,1133,  3.4998, -35.0002, 4005,   2197.8,   3.3785,  34.9706,2,  34.9669,2,    260.6,2,    19.86,2,    19.07,2,     0.03,2,     1.26,2,    0.110,2,    0.057,2, -999.000, -999.000,9,-999.0000,9,  -999.00,9, -999.000,9,   3.2013
  06BE200011,  AR04,    29,  1,      8,      8,2,20001205,1133,  3.4998, -35.0002, 4005,   2399.5,   3.1734,  34.9583,2,-999.0000,9,    258.9,2,    22.51,2,    18.95,2,     0.04,2,     1.32,2,    0.070,2,    0.037,2, -999.000,    0.004,9,-999.0000,9,     2.95,2, -999.000,9,   2.9801
  06BE200011,  AR04,    29,  1,      7,      7,2,20001205,1133,  3.4998, -35.0002, 4005,   2596.7,   3.0637,  34.9517,2,-999.0000,9,   -999.0,9,    20.78,2,    17.72,2,     0.07,2,     1.21,2, -999.000,9, -999.000,9, -999.000, -999.000,9,-999.0000,9,  -999.00,9, -999.000,9,   2.8529
  06BE200011,  AR04,    29,  1,      6,      6,2,20001205,1133,  3.4998, -35.0002, 4005,   2798.5,   2.9061,  34.9383,2,-999.0000,9,    255.8,2,    28.11,2,    19.81,2,     0.03,2,     1.37,2,    0.038,2,    0.019,2, -999.000, -999.000,9,-999.0000,9,     3.25,2, -999.000,9,   2.6781
  06BE200011,  AR04,    29,  1,      5,      5,2,20001205,1133,  3.4998, -35.0002, 4005,   2998.8,   2.7412,  34.9252,2,  34.9237,2,    254.5,2,    32.04,2,    20.65,2,     0.04,2,     1.39,2,    0.023,2,    0.013,2, -999.000,    0.002,9,-999.0000,9,  -999.00,9, -999.000,9,   2.4962
  06BE200011,  AR04,    29,  1,      4,      4,2,20001205,1133,  3.4998, -35.0002, 4005,   3197.0,   2.6487,  34.9204,2,-999.0000,9,    256.7,2,    32.48,2,    19.50,2,     0.04,2,     1.38,2,    0.034,2,    0.018,2, -999.000,    0.002,9,-999.0000,9,     3.40,2, -999.000,9,   2.3851
  06BE200011,  AR04,    29,  1,      3,      3,2,20001205,1133,  3.4998, -35.0002, 4005,   3397.1,   2.5010,  34.9080,2,  34.9049,2,    255.8,2,    35.74,2,    20.08,2,     0.06,2,     1.39,2,    0.040,2,    0.021,2, -999.000, -999.000,9,-999.0000,9,  -999.00,9, -999.000,9,   2.2196
  06BE200011,  AR04,    29,  1,      2,      2,2,20001205,1133,  3.4998, -35.0002, 4005,   3600.1,   2.3716,  34.8983,2,-999.0000,9,   -999.0,9,  -999.00,9,  -999.00,9,  -999.00,9,  -999.00,9, -999.000,9, -999.000,9, -999.000, -999.000,9,-999.0000,9,     3.83,2, -999.000,9,   2.0715
  06BE200011,  AR04,    29,  1,      1,      1,2,20001205,1133,  3.4998, -35.0002, 4005,   4001.8,   2.2250,  34.8814,2,  34.8800,2,    256.3,2,    43.07,2,    20.83,2,     0.28,2,     1.53,2,    0.065,2,    0.035,2, -999.000, -999.000,9,-999.0000,9,     3.78,2, -999.000,9,   1.8843
  06BE200011,  AR04,    30,  1,     21,     21,2,20001205,1640,  4.0008, -34.9997, 3528,     10.0,  27.8397,  35.5183,2,  35.5175,2,    202.2,2,     1.24,2,     0.01,2,     0.00,9,     0.06,2, -999.000,9, -999.000,9, -999.000, -999.000,9,-999.0000,9,  -999.00,9, -999.000,9,  27.8374
  06BE200011,  AR04,    30,  1,     22,     22,2,20001205,1640,  4.0008, -34.9997, 3528,     10.5,  27.8465,  35.5175,2,-999.0000,9,    202.2,2,     1.21,2,     0.03,2,     0.01,2,     0.00,9,    1.496,2,    0.926,2, -999.000, -999.000,9,-999.0000,9,  -999.00,9, -999.000,9,  27.8440
  06BE200011,  AR04,    30,  1,     20,     20,2,20001205,1640,  4.0008, -34.9997, 3528,    197.0,  12.7727,  35.2430,2,-999.0000,9,    135.7,2,     8.38,2,    19.79,2,     0.02,2,     1.22,2, -999.000,9, -999.000,9, -999.000, -999.000,9,-999.0000,9,  -999.00,9, -999.000,9,  12.7459
  06BE200011,  AR04,    30,  1,     19,     19,2,20001205,1640,  4.0008, -34.9997, 3528,    398.8,   8.5659,  34.7721,2,-999.0000,9,    135.8,2,    15.42,2,    27.99,2,     0.01,2,     1.82,2, -999.000,9, -999.000,9, -999.000, -999.000,9,-999.0000,9,  -999.00,9, -999.000,9,   8.5235
  06BE200011,  AR04,    30,  1,     18,     18,2,20001205,1640,  4.0008, -34.9997, 3528,    596.7,   6.5757,  34.6159,2,-999.0000,9,    117.5,2,    22.71,2,    34.28,2,     0.01,2,     2.33,2, -999.000,9, -999.000,9, -999.000, -999.000,9,-999.0000,9,  -999.00,9, -999.000,9,   6.5204
  06BE200011,  AR04,    30,  1,     17,     17,2,20001205,1640,  4.0008, -34.9997, 3528,    799.1,   5.1275,  34.5730,2,  34.5706,2,    136.7,2,    29.04,2,    34.47,2,     0.01,2,     2.44,2, -999.000,9, -999.000,9, -999.000, -999.000,9,-999.0000,9,  -999.00,9, -999.000,9,   5.0612
  06BE200011,  AR04,    30,  1,     16,     16,2,20001205,1640,  4.0008, -34.9997, 3528,    996.8,   4.7358,  34.6696,2,-999.0000,9,    152.4,2,    28.94,2,    32.16,2,     0.03,2,     2.29,2,    0.021,2,    0.011,2, -999.000, -999.000,9,-999.0000,9,  -999.00,9, -999.000,9,   4.6545
  06BE200011,  AR04,    30,  1,     15,     15,2,20001205,1640,  4.0008, -34.9997, 3528,   1198.7,   4.6195,  34.8343,2,-999.0000,9,    180.3,2,    24.64,2,    27.26,2,     0.00,9,     1.90,2,    0.034,2,    0.016,2, -999.000, -999.000,9,   1.8023,2,  -999.00,9, -999.000,9,   4.5207
  06BE200011,  AR04,    30,  1,     14,     14,2,20001205,1640,  4.0008, -34.9997, 3528,   1396.6,   4.5615,  34.9550,2,-999.0000,9,    217.4,2,    18.83,2,    22.19,2,     0.02,2,     1.50,2,    0.129,2,    0.071,2,    0.055, -999.000,2,-999.0000,9,  -999.00,9, -999.000,9,   4.4448
  06BE200011,  AR04,    30,  1,     13,     13,2,20001205,1640,  4.0008, -34.9997, 3528,   1597.5,   4.2483,  34.9894,2,-999.0000,9,    234.9,2,    16.70,2,    19.57,2,     0.02,2,     1.34,2,    0.193,2,    0.099,2, -999.000, -999.000,9,   1.7833,2,  -999.00,9, -999.000,9,   4.1161
  06BE200011,  AR04,    30,  1,     12,     12,2,20001205,1640,  4.0008, -34.9997, 3528,   1697.5,   4.0930,  34.9928,2,-999.0000,9,    248.4,2,    16.27,2,    18.77,2,     0.01,2,     1.26,2,    0.223,2,    0.117,2,    0.211, -999.000,2,   1.8036,2,  -999.00,9,    7.851,2,   3.9533
  06BE200011,  AR04,    30,  1,     11,     11,2,20001205,1640,  4.0008, -34.9997, 3528,   1797.9,   3.9401,  34.9895,2,  34.9846,2,    252.3,2,    16.34,2,    18.17,2,     0.01,2,     1.26,2,    0.215,2,    0.117,2,    0.184, -999.000,2,   1.7890,2,  -999.00,9, -999.000,9,   3.7929
  06BE200011,  AR04,    30,  1,     10,     10,2,20001205,1640,  4.0008, -34.9997, 3528,   1900.2,   3.8193,  34.9870,2,-999.0000,9,    255.4,2,    16.66,2,    18.20,2,     0.00,9,     1.22,2,    0.208,2,    0.108,2, -999.000, -999.000,9,-999.0000,9,  -999.00,9,    7.955,2,   3.6640
  06BE200011,  AR04,    30,  1,      9,      9,2,20001205,1640,  4.0008, -34.9997, 3528,   2098.3,   3.5701,  34.9774,2,-999.0000,9,    257.6,2,    18.59,2,    18.37,2,     0.01,2,     1.21,2,    0.121,2,    0.065,2, -999.000, -999.000,9,   1.8054,2,  -999.00,9, -999.000,9,   3.3995
  06BE200011,  AR04,    30,  1,      8,      8,2,20001205,1640,  4.0008, -34.9997, 3528,   2297.4,   3.2530,  34.9632,2,-999.0000,9,    259.8,2,    21.59,2,    18.20,2,     0.01,2,     1.24,2,    0.090,2,    0.047,2, -999.000, -999.000,9,-999.0000,9,  -999.00,9,    7.941,2,   3.0683
  06BE200011,  AR04,    30,  1,      7,      7,2,20001205,1640,  4.0008, -34.9997, 3528,   2497.7,   3.0390,  34.9490,2,-999.0000,9,    258.0,2,    25.26,2,    18.58,2,     0.03,2,     1.28,2,    0.053,2,    0.027,2, -999.000, -999.000,9,   1.8145,2,  -999.00,9, -999.000,9,   2.8385
  06BE200011,  AR04,    30,  1,      6,      6,2,20001205,1640,  4.0008, -34.9997, 3528,   2695.9,   2.9231,  34.9395,2,-999.0000,9,    256.3,2,    28.05,2,    19.02,2,     0.01,2,     1.27,2,    0.035,2,    0.019,2, -999.000, -999.000,9,   1.8159,2,  -999.00,9,    8.032,2,   2.7051
  06BE200011,  AR04,    30,  1,      5,      5,2,20001205,1640,  4.0008, -34.9997, 3528,   2900.2,   2.7744,  34.9284,2,  34.9363,2,    255.8,2,    30.89,2,    19.50,2,     0.00,9,     1.31,2,    0.024,2,    0.015,2, -999.000, -999.000,9,-999.0000,9,  -999.00,9, -999.000,9,   2.5387
  06BE200011,  AR04,    30,  1,      4,      4,2,20001205,1640,  4.0008, -34.9997, 3528,   3096.3,   2.6912,  34.9209,2,  34.9152,2,    255.0,2,    33.19,2,    19.55,2,     0.01,2,     1.30,2,    0.024,2,    0.013,2, -999.000, -999.000,9,-999.0000,9,  -999.00,9,    8.002,2,   2.4372
  06BE200011,  AR04,    30,  1,      3,      3,2,20001205,1640,  4.0008, -34.9997, 3528,   3298.3,   2.5633,  34.9115,2,  34.9063,2,    255.8,2,    35.89,2,    19.95,2,     0.00,9,     1.37,2,    0.031,2,    0.016,2, -999.000, -999.000,9,   1.8235,2,  -999.00,9, -999.000,9,   2.2910
  06BE200011,  AR04,    30,  1,      2,      2,2,20001205,1640,  4.0008, -34.9997, 3528,   3400.9,   2.5287,  34.9087,2,-999.0000,9,   -999.0,9,  -999.00,9,  -999.00,9,  -999.00,9,  -999.00,9, -999.000,9, -999.000,9, -999.000, -999.000,9,-999.0000,9,  -999.00,9,    8.177,2,   2.2462
  06BE200011,  AR04,    30,  1,      1,      1,2,20001205,1640,  4.0008, -34.9997, 3528,   3526.2,   2.4158,  34.8996,2,  34.8947,2,    256.7,2,    38.80,2,    20.04,2,     0.00,9,     1.40,2,    0.041,2,    0.022,2, -999.000, -999.000,9,   1.7699,2,  -999.00,9,    8.059,2,   2.1227