BOTTLE,20111027CCHDOSIOCBG
EXPOCODE,SECT_ID,STNNBR,CASTNO,SAMPNO,BTLNBR,BTLNBR_FLAG_W,DATE,TIME,LATITUDE,LONGITUDE,DEPTH,CTDPRS,CTDTMP,CTDSAL,CTDSAL_FLAG_W,SALNTY,SALNTY_FLAG_W,OXYGEN,OXYGEN_FLAG_W,SILCAT,SILCAT_FLAG_W,NITRAT,NITRAT_FLAG_W,NITRIT,NITRIT_FLAG_W,PHSPHT,PHSPHT_FLAG_W,CFC-11,CFC-11_FLAG_W,CFC-12,CFC-12_FLAG_W,TRITUM,TRITER,TRITUM_FLAG_W,HELIUM,HELIUM_FLAG_W,DELHE3,DELHE3_FLAG_W,NEON,NEON_FLAG_W,THETA
,,,,,,,,,,,METERS,DBAR,ITS-90,PSS-78,,PSS-78,,UMOL/KG,,UMOL/KG,,UMOL/KG,,UMOL/KG,,UMOL/KG,,PMOL/KG,,PMOL/KG,,TU,TU,,NMOL/KG,,PERCNT,,NMOL/KG,,DEG C
  06BE200011,  AR04,    19,  1,     22,     22,2,20001203,0633, -0.0002, -34.9672, 4595,      9.7,  26.6917,  36.0091,2,  36.0037,2,    203.0,2,     1.40,2,     0.14,2,     0.00,9,     0.06,2,    1.586,2,    0.948,2, -999.000, -999.000,9,-999.0000,9,  -999.00,9, -999.000,9,  26.6895
  06BE200011,  AR04,    19,  1,     21,     21,2,20001203,0633, -0.0002, -34.9672, 4595,     99.6,  24.4867,  36.2762,2,-999.0000,9,    183.0,2,     1.86,2,     2.63,2,     0.14,2,     0.21,2, -999.000,9, -999.000,9, -999.000, -999.000,9,-999.0000,9,  -999.00,9, -999.000,9,  24.4653
  06BE200011,  AR04,    19,  1,     20,     20,2,20001203,0633, -0.0002, -34.9672, 4595,    495.8,   6.9550,  34.6179,2,-999.0000,9,    130.1,2,    20.14,2,    32.97,2,     0.01,2,     2.11,2, -999.000,9, -999.000,9, -999.000, -999.000,9,-999.0000,9,  -999.00,9, -999.000,9,   6.9080
  06BE200011,  AR04,    19,  1,     19,     19,2,20001203,0633, -0.0002, -34.9672, 4595,    697.2,   5.0971,  34.5059,2,-999.0000,9,    150.6,2,    27.94,2,    34.34,2,     0.00,9,     2.40,2, -999.000,9, -999.000,9, -999.000, -999.000,9,-999.0000,9,  -999.00,9, -999.000,9,   5.0400
  06BE200011,  AR04,    19,  1,     18,     18,2,20001203,0633, -0.0002, -34.9672, 4595,    897.1,   4.6014,  34.5782,2,-999.0000,9,    155.9,2,    30.45,2,    33.40,2,     0.00,9,     2.37,2, -999.000,9, -999.000,9, -999.000, -999.000,9,-999.0000,9,  -999.00,9, -999.000,9,   4.5299
  06BE200011,  AR04,    19,  1,     17,     17,2,20001203,0633, -0.0002, -34.9672, 4595,   1099.0,   4.6045,  34.7616,2,-999.0000,9,    173.3,2,    26.71,2,    29.74,2,     0.00,9,     2.03,2,    0.037,2,    0.019,2, -999.000, -999.000,9,-999.0000,9,  -999.00,9, -999.000,9,   4.5150
  06BE200011,  AR04,    19,  1,     16,     16,2,20001203,0633, -0.0002, -34.9672, 4595,   1297.4,   4.5551,  34.8818,2,-999.0000,9,    199.1,2,    22.06,2,    25.58,2,     0.00,9,     1.74,2,    0.077,2,    0.040,2, -999.000, -999.000,9,-999.0000,9,  -999.00,9, -999.000,9,   4.4478
  06BE200011,  AR04,    19,  1,     15,     15,2,20001203,0633, -0.0002, -34.9672, 4595,   1496.9,   4.3902,  34.9614,2,  34.9632,2,    226.6,2,    17.84,2,    21.93,2,     0.01,2,     1.48,2,    0.156,2,    0.080,2, -999.000, -999.000,9,-999.0000,9,  -999.00,9, -999.000,9,   4.2659
  06BE200011,  AR04,    19,  1,     14,     14,2,20001203,0633, -0.0002, -34.9672, 4595,   1697.6,   4.0359,  34.9848,2,  34.9818,2,    246.7,2,    16.47,2,    19.56,2,     0.04,2,     1.28,2,    0.180,2,    0.093,2, -999.000, -999.000,9,-999.0000,9,  -999.00,9, -999.000,9,   3.8969
  06BE200011,  AR04,    19,  1,     13,     13,2,20001203,0633, -0.0002, -34.9672, 4595,   1897.3,   3.7464,  34.9772,2,  34.9775,2,    251.0,2,    18.56,2,    19.57,2,     0.01,2,     1.31,2,    0.089,2,    0.047,2, -999.000, -999.000,9,-999.0000,9,  -999.00,9, -999.000,9,   3.5924
  06BE200011,  AR04,    19,  1,     12,     12,2,20001203,0633, -0.0002, -34.9672, 4595,   2098.1,   3.4835,  34.9737,2,-999.0000,9,    258.9,2,    18.80,2,    18.54,2,     0.01,2,     1.23,2,    0.174,2,    0.089,2, -999.000, -999.000,9,-999.0000,9,  -999.00,9, -999.000,9,   3.3142
  06BE200011,  AR04,    19,  1,     11,     11,2,20001203,0633, -0.0002, -34.9672, 4595,   2398.8,   3.1328,  34.9520,2,-999.0000,9,    255.8,2,    24.79,2,    19.26,2,     0.07,2,     1.30,2,    0.067,2,    0.035,2, -999.000, -999.000,9,-999.0000,9,  -999.00,9, -999.000,9,   2.9403
  06BE200011,  AR04,    19,  1,     10,     10,2,20001203,0633, -0.0002, -34.9672, 4595,   2599.9,   2.9674,  34.9447,2,-999.0000,9,    258.5,2,    25.48,2,    18.75,2,     0.00,9,     1.29,2,    0.078,2,    0.039,2, -999.000, -999.000,9,-999.0000,9,  -999.00,9, -999.000,9,   2.7581
  06BE200011,  AR04,    19,  1,      9,      9,2,20001203,0633, -0.0002, -34.9672, 4595,   2798.7,   2.7901,  34.9323,2,  34.9210,2,    257.6,2,    28.65,2,    19.68,2,     0.00,9,     1.31,2,    0.067,2,    0.035,2, -999.000, -999.000,9,-999.0000,9,  -999.00,9, -999.000,9,   2.5645
  06BE200011,  AR04,    19,  1,      8,      8,2,20001203,0633, -0.0002, -34.9672, 4595,   2997.1,   2.6846,  34.9246,2,-999.0000,9,   -999.0,9,  -999.00,9,  -999.00,9,  -999.00,9,  -999.00,9, -999.000,9, -999.000,9, -999.000, -999.000,9,-999.0000,9,  -999.00,9, -999.000,9,   2.4410
  06BE200011,  AR04,    19,  1,      7,      7,2,20001203,0633, -0.0002, -34.9672, 4595,   3248.5,   2.5759,  34.9155,2,  34.9127,2,    256.7,2,    32.95,2,    20.06,2,     0.01,2,     1.36,2,    0.049,2,    0.025,2, -999.000, -999.000,9,-999.0000,9,  -999.00,9, -999.000,9,   2.3085
  06BE200011,  AR04,    19,  1,      6,      6,2,20001203,0633, -0.0002, -34.9672, 4595,   3498.1,   2.4981,  34.9147,2,-999.0000,9,    262.4,2,    30.04,2,    19.13,2,     0.00,9,     1.31,2,    0.125,2,    0.066,2, -999.000, -999.000,9,-999.0000,9,  -999.00,9, -999.000,9,   2.2059
  06BE200011,  AR04,    19,  1,      5,      5,2,20001203,0633, -0.0002, -34.9672, 4595,   3749.9,   2.3467,  34.9029,2,-999.0000,9,    264.6,2,    32.15,2,    19.07,2,     0.01,2,     1.32,2,    0.150,2,    0.079,2, -999.000, -999.000,9,-999.0000,9,  -999.00,9, -999.000,9,   2.0308
  06BE200011,  AR04,    19,  1,      4,      4,2,20001203,0633, -0.0002, -34.9672, 4595,   3996.0,   2.2640,  34.8933,2,  34.8894,2,    265.9,2,    35.48,2,    19.09,2,     0.01,2,     1.34,2,    0.148,2,    0.077,2, -999.000, -999.000,9,-999.0000,9,  -999.00,9, -999.000,9,   1.9228
  06BE200011,  AR04,    19,  1,      3,      3,2,20001203,0633, -0.0002, -34.9672, 4595,   4196.8,   1.5993,  34.8154,2,  34.8101,2,    243.6,2,    69.32,2,    24.73,2,     0.01,2,     1.76,2,    0.059,2,    0.031,2, -999.000, -999.000,9,-999.0000,9,  -999.00,9, -999.000,9,   1.2549
  06BE200011,  AR04,    19,  1,      2,      2,2,20001203,0633, -0.0002, -34.9672, 4595,   4402.1,   1.0661,  34.7551,2,  34.7500,2,    236.2,2,    92.12,2,    28.52,2,     0.01,2,     2.03,2,    0.036,2,    0.018,2, -999.000, -999.000,9,-999.0000,9,  -999.00,9, -999.000,9,   0.7151
  06BE200011,  AR04,    19,  1,      1,      1,2,20001203,0633, -0.0002, -34.9672, 4595,   4592.8,   0.9946,  34.7453,2,  34.7424,2,    230.6,2,    95.25,2,    28.97,2,     0.01,2,     2.14,2,    0.042,2,    0.020,2, -999.000, -999.000,9,-999.0000,9,  -999.00,9, -999.000,9,   0.6244
  06BE200011,  AR04,    20,  1,     22,     22,2,20001203,1124,  0.3315, -34.9992, 4607,      8.9,  26.8574,  36.0399,2,-999.0000,9,    204.3,2,     1.49,2,     0.13,2,     0.00,9,     0.04,2,    1.543,2,    0.914,2, -999.000, -999.000,9,-999.0000,9,  -999.00,9, -999.000,9,  26.8554
  06BE200011,  AR04,    20,  1,     21,     21,2,20001203,1124,  0.3315, -34.9992, 4607,    100.2,  24.3979,  36.0809,2,  36.0862,2,    176.1,2,     2.12,2,     2.35,2,     0.10,2,     0.20,2, -999.000,9, -999.000,9, -999.000, -999.000,9,-999.0000,9,  -999.00,9, -999.000,9,  24.3765
  06BE200011,  AR04,    20,  1,     20,     20,2,20001203,1124,  0.3315, -34.9992, 4607,    196.8,  12.6553,  35.2043,2,-999.0000,9,    165.4,2,     7.18,2,    16.09,2,     0.01,2,     1.09,2, -999.000,9, -999.000,9, -999.000, -999.000,9,-999.0000,9,  -999.00,9, -999.000,9,  12.6287
  06BE200011,  AR04,    20,  1,     19,     19,2,20001203,1124,  0.3315, -34.9992, 4607,    399.3,   8.3190,  34.7087,2,  34.7037,2,    156.7,2,    15.02,2,    25.76,2,     0.01,2,     1.74,2, -999.000,9, -999.000,9, -999.000, -999.000,9,-999.0000,9,  -999.00,9, -999.000,9,   8.2773
  06BE200011,  AR04,    20,  1,     18,     18,2,20001203,1124,  0.3315, -34.9992, 4607,    596.6,   6.1165,  34.5500,2,-999.0000,9,    142.3,2,    22.99,2,    32.79,2,     0.03,2,     2.23,2, -999.000,9, -999.000,9, -999.000, -999.000,9,-999.0000,9,  -999.00,9, -999.000,9,   6.0634
  06BE200011,  AR04,    20,  1,     17,     17,2,20001203,1124,  0.3315, -34.9992, 4607,    798.8,   4.8807,  34.5193,2,-999.0000,9,    152.4,2,    29.42,2,    33.47,2,     0.02,2,     2.47,2, -999.000,9, -999.000,9, -999.000, -999.000,9,-999.0000,9,  -999.00,9,    7.806,2,   4.8160
  06BE200011,  AR04,    20,  1,     16,     16,2,20001203,1124,  0.3315, -34.9992, 4607,    997.6,   4.5640,  34.6145,2,-999.0000,9,    159.4,2,    29.78,2,    32.62,2,     0.03,2,     2.32,2,    0.046,2,    0.024,2, -999.000, -999.000,9,-999.0000,9,  -999.00,9, -999.000,9,   4.4840
  06BE200011,  AR04,    20,  1,     15,     15,2,20001203,1124,  0.3315, -34.9992, 4607,   1198.9,   4.5854,  34.8250,2,-999.0000,9,    185.1,2,    24.10,2,    27.08,2,     0.01,2,     1.95,2,    0.047,2,    0.022,2, -999.000, -999.000,9,-999.0000,9,  -999.00,9,    7.808,2,   4.4869
  06BE200011,  AR04,    20,  1,     14,     14,2,20001203,1124,  0.3315, -34.9992, 4607,   1397.8,   4.4748,  34.9210,2,  34.9836,2,    209.1,2,    20.55,2,    23.98,2,     0.00,9,     1.62,2,    0.077,2,    0.039,2, -999.000,    0.013,9,-999.0000,9,  -999.00,9,    7.923,2,   4.3588
  06BE200011,  AR04,    20,  1,     13,     13,2,20001203,1124,  0.3315, -34.9992, 4607,   1599.7,   4.2135,  34.9862,2,-999.0000,9,    241.0,2,    16.72,2,    20.06,2,     0.00,9,     1.38,2,    0.218,2,    0.110,2, -999.000,    0.005,9,-999.0000,9,  -999.00,9, -999.000,9,   4.0815
  06BE200011,  AR04,    20,  1,     12,     12,2,20001203,1124,  0.3315, -34.9992, 4607,   1698.2,   4.0683,  34.9868,2,  34.9883,2,    246.7,2,    16.63,2,    19.64,2,     0.01,2,     1.33,2,    0.216,2,    0.114,2, -999.000, -999.000,9,-999.0000,9,  -999.00,9,    7.886,2,   3.9288
  06BE200011,  AR04,    20,  1,     11,     11,2,20001203,1124,  0.3315, -34.9992, 4607,   1798.0,   3.9057,  34.9857,2,-999.0000,9,    251.9,2,    16.54,2,    18.88,2,     0.00,9,     1.27,2,    0.224,2,    0.122,2, -999.000, -999.000,9,-999.0000,9,  -999.00,9, -999.000,9,   3.7589
  06BE200011,  AR04,    20,  1,     10,     10,2,20001203,1124,  0.3315, -34.9992, 4607,   2098.1,   3.4962,  34.9736,2,-999.0000,9,    258.9,2,    18.97,2,    18.38,2,     0.00,9,     1.25,2,    0.174,2,    0.076,2, -999.000, -999.000,9,-999.0000,9,  -999.00,9, -999.000,9,   3.3267
  06BE200011,  AR04,    20,  1,      9,      9,2,20001203,1124,  0.3315, -34.9992, 4607,   2399.7,   3.1271,  34.9509,2,-999.0000,9,    255.8,2,    25.00,2,    19.68,2,     0.00,9,     1.26,2,    0.064,2,    0.031,2, -999.000,    0.004,9,-999.0000,9,  -999.00,9,    8.114,2,   2.9346
  06BE200011,  AR04,    20,  1,      8,      8,2,20001203,1124,  0.3315, -34.9992, 4607,   2698.5,   2.8892,  34.9411,2,  34.9413,2,    259.3,2,    26.09,2,    18.99,2,     0.00,9,     1.28,2,    0.091,2,    0.045,2, -999.000, -999.000,9,-999.0000,9,  -999.00,9, -999.000,9,   2.6716
  06BE200011,  AR04,    20,  1,      7,      7,2,20001203,1124,  0.3315, -34.9992, 4607,   3004.4,   2.6716,  34.9239,2,  34.9219,2,    257.2,2,    31.28,2,    19.84,2,     0.00,9,     1.32,2,    0.051,2,    0.025,2, -999.000,    0.004,9,-999.0000,9,  -999.00,9, -999.000,9,   2.4275
  06BE200011,  AR04,    20,  1,      6,      6,2,20001203,1124,  0.3315, -34.9992, 4607,   3297.5,   2.5483,  34.9149,2,-999.0000,9,    258.0,2,    32.40,2,    19.36,2,     0.01,2,     1.32,2,    0.063,2,    0.032,2, -999.000, -999.000,9,-999.0000,9,  -999.00,9,    7.935,2,   2.2764
  06BE200011,  AR04,    20,  1,      5,      5,2,20001203,1124,  0.3315, -34.9992, 4607,   3599.6,   2.4591,  34.9099,2,-999.0000,9,    262.4,2,    31.59,2,    18.98,2,     0.02,2,     1.27,2,    0.106,2,    0.054,2, -999.000,    0.007,9,-999.0000,9,  -999.00,9, -999.000,9,   2.1568
  06BE200011,  AR04,    20,  1,      4,      4,2,20001203,1124,  0.3315, -34.9992, 4607,   3899.0,   2.2772,  34.8944,2,-999.0000,9,    262.8,2,    35.65,2,    19.33,2,     0.01,2,     1.27,2, -999.000,9, -999.000,9, -999.000, -999.000,9,-999.0000,9,  -999.00,9,    8.078,2,   1.9465
  06BE200011,  AR04,    20,  1,      3,      3,2,20001203,1124,  0.3315, -34.9992, 4607,   4098.3,   2.0027,  34.8613,2,  34.8551,2,    254.1,2,    50.02,2,    21.69,2,     0.02,2,     1.47,2,    0.106,2,    0.057,2, -999.000, -999.000,9,-999.0000,9,  -999.00,9, -999.000,9,   1.6575
  06BE200011,  AR04,    20,  1,      2,      2,2,20001203,1124,  0.3315, -34.9992, 4607,   4300.7,   1.2271,  34.7738,2,  34.7678,2,    235.8,2,    85.12,2,    27.57,2,     0.11,2,     1.94,2,    0.045,2,    0.021,2, -999.000, -999.000,9,-999.0000,9,  -999.00,9, -999.000,9,   0.8824
  06BE200011,  AR04,    20,  1,      1,      1,2,20001203,1124,  0.3315, -34.9992, 4607,   4602.5,   0.9974,  34.7448,2,  34.7428,2,    230.6,2,    95.16,2,    29.26,2,     0.11,2,     2.06,2,    0.047,2,    0.022,2, -999.000,    0.004,9,-999.0000,9,  -999.00,9,    8.121,2,   0.6260
  06BE200011,  AR04,    21,  1,     22,     22,2,20001203,1600,  0.6680, -34.9987, 4602,      9.8,  26.9028,  36.0171,2,  36.0120,2,    203.9,2,     1.39,2,     0.17,2,     0.01,2,     0.03,2,    1.543,2,    0.914,2, -999.000, -999.000,9,-999.0000,9,  -999.00,9, -999.000,9,  26.9006
  06BE200011,  AR04,    21,  1,     21,     21,2,20001203,1600,  0.6680, -34.9987, 4602,    199.5,  12.3502,  35.1619,2,-999.0000,9,    174.1,2,     7.09,2,    15.59,2,     0.04,2,     0.98,2, -999.000,9, -999.000,9, -999.000, -999.000,9,-999.0000,9,  -999.00,9, -999.000,9,  12.3236
  06BE200011,  AR04,    21,  1,     20,     20,2,20001203,1600,  0.6680, -34.9987, 4602,    397.3,   8.1735,  34.6958,2,-999.0000,9,    150.6,2,    15.80,2,    27.64,2,     0.02,2,     1.81,2, -999.000,9, -999.000,9, -999.000, -999.000,9,-999.0000,9,  -999.00,9, -999.000,9,   8.1324
  06BE200011,  AR04,    21,  1,     19,     19,2,20001203,1600,  0.6680, -34.9987, 4602,    597.0,   6.1633,  34.5521,2,-999.0000,9,    142.8,2,    22.84,2,    33.22,2,     0.01,2,     2.18,2, -999.000,9, -999.000,9, -999.000, -999.000,9,-999.0000,9,  -999.00,9, -999.000,9,   6.1099
  06BE200011,  AR04,    21,  1,     18,     18,2,20001203,1600,  0.6680, -34.9987, 4602,    799.2,   4.8644,  34.5206,2,  34.5166,2,    151.9,2,    28.99,2,    33.64,2,     0.01,2,     2.43,2, -999.000,9, -999.000,9, -999.000, -999.000,9,   1.7649,2,  -999.00,9, -999.000,9,   4.7998
  06BE200011,  AR04,    21,  1,     17,     17,2,20001203,1600,  0.6680, -34.9987, 4602,    997.4,   4.5896,  34.5875,2,-999.0000,9,    156.8,2,    30.07,2,    32.97,2,     0.01,2,     2.37,2,    0.043,2,    0.024,2, -999.000, -999.000,9,-999.0000,9,  -999.00,9, -999.000,9,   4.5095
  06BE200011,  AR04,    21,  1,     16,     16,2,20001203,1600,  0.6680, -34.9987, 4602,   1197.0,   4.6203,  34.8217,2,-999.0000,9,    182.5,2,    24.39,2,    27.30,2,     0.09,2,     1.95,2, -999.000,9, -999.000,9, -999.000, -999.000,9,-999.0000,9,  -999.00,9, -999.000,9,   4.5217
  06BE200011,  AR04,    21,  1,     15,     15,2,20001203,1600,  0.6680, -34.9987, 4602,   1397.4,   4.5133,  34.9284,2,  34.9266,2,    210.9,2,    19.94,2,    23.74,2,     0.04,2,     1.62,2,    0.108,2,    0.056,2, -999.000, -999.000,9,-999.0000,9,  -999.00,9, -999.000,9,   4.3970
  06BE200011,  AR04,    21,  1,     14,     14,2,20001203,1600,  0.6680, -34.9987, 4602,   1546.9,   4.3327,  34.9694,2,-999.0000,9,   -999.0,9,  -999.00,9,  -999.00,9,  -999.00,9,  -999.00,9,    0.139,2,    0.074,2, -999.000, -999.000,9,-999.0000,9,  -999.00,9, -999.000,9,   4.2043
  06BE200011,  AR04,    21,  1,     13,     13,2,20001203,1600,  0.6680, -34.9987, 4602,   1697.9,   4.0346,  34.9883,2,-999.0000,9,    248.4,2,    16.16,2,    19.36,2,     0.03,2,     1.26,2,    0.253,2,    0.132,2, -999.000, -999.000,9,   1.8125,2,  -999.00,9, -999.000,9,   3.8956
  06BE200011,  AR04,    21,  1,     12,     12,2,20001203,1600,  0.6680, -34.9987, 4602,   1848.3,   3.7792,  34.9793,2,  34.9763,2,    250.2,2,    17.86,2,    19.28,2,     0.16,2,     1.27,2,    0.137,2,    0.072,2, -999.000, -999.000,9,-999.0000,9,  -999.00,9, -999.000,9,   3.6294
  06BE200011,  AR04,    21,  1,     11,     11,2,20001203,1600,  0.6680, -34.9987, 4602,   1998.7,   3.6107,  34.9742,2,  34.9716,2,    253.2,2,    19.11,2,    19.52,2,     0.00,9,     1.25,2, -999.000,9, -999.000,9, -999.000, -999.000,9,   1.7953,2,  -999.00,9, -999.000,9,   3.4490
  06BE200011,  AR04,    21,  1,     10,     10,2,20001203,1600,  0.6680, -34.9987, 4602,   2300.2,   3.2086,  34.9549,2,-999.0000,9,    254.5,2,    24.08,2,    19.66,2,     0.00,9,     1.29,2,    0.055,2,    0.029,2, -999.000, -999.000,9,-999.0000,9,  -999.00,9, -999.000,9,   3.0244
  06BE200011,  AR04,    21,  1,      9,      9,2,20001203,1600,  0.6680, -34.9987, 4602,   2598.0,   2.9773,  34.9427,2,-999.0000,9,    255.4,2,    26.67,2,    19.47,2,     0.00,9,     1.27,2,    0.050,2,    0.026,2, -999.000, -999.000,9,   1.8158,2,  -999.00,9, -999.000,9,   2.7681
  06BE200011,  AR04,    21,  1,      8,      8,2,20001203,1600,  0.6680, -34.9987, 4602,   2799.7,   2.8135,  34.9338,2,-999.0000,9,    257.1,2,    28.46,2,    19.68,2,     0.01,2,     1.26,2, -999.000,9, -999.000,9, -999.000, -999.000,9,-999.0000,9,  -999.00,9, -999.000,9,   2.5873
  06BE200011,  AR04,    21,  1,      7,      7,2,20001203,1600,  0.6680, -34.9987, 4602,   2997.2,   2.6590,  34.9226,2,  34.9222,2,    257.2,2,    31.33,2,    19.57,2,     0.01,2,     1.30,2,    0.042,2,    0.023,2, -999.000, -999.000,9,   1.8202,2,  -999.00,9, -999.000,9,   2.4159
  06BE200011,  AR04,    21,  1,      6,      6,2,20001203,1600,  0.6680, -34.9987, 4602,   3297.3,   2.5474,  34.9149,2,  34.9126,2,    258.5,2,    32.28,2,    19.75,2,     0.02,2,     1.31,2,    0.061,2,    0.033,2, -999.000, -999.000,9,-999.0000,9,  -999.00,9, -999.000,9,   2.2755
  06BE200011,  AR04,    21,  1,      5,      5,2,20001203,1600,  0.6680, -34.9987, 4602,   3600.3,   2.4397,  34.9061,2,-999.0000,9,    261.1,2,    33.31,2,    19.96,2,     0.02,2,     1.31,2,    0.085,2,    0.045,2, -999.000, -999.000,9,   1.8351,2,  -999.00,9, -999.000,9,   2.1378
  06BE200011,  AR04,    21,  1,      4,      4,2,20001203,1600,  0.6680, -34.9987, 4602,   3797.4,   2.3399,  34.9000,2,-999.0000,9,    262.0,2,    33.72,2,    19.54,2,     0.11,2,     1.28,2,    0.121,2,    0.065,2, -999.000, -999.000,9,-999.0000,9,  -999.00,9, -999.000,9,   2.0189
  06BE200011,  AR04,    21,  1,      3,      3,2,20001203,1600,  0.6680, -34.9987, 4602,   4097.7,   2.1209,  34.8748,2,  34.8713,2,    258.0,2,    43.78,2,    21.02,2,     0.00,9,     1.39,2, -999.000,9, -999.000,9, -999.000, -999.000,9,-999.0000,9,  -999.00,9, -999.000,9,   1.7723
  06BE200011,  AR04,    21,  1,      2,      2,2,20001203,1600,  0.6680, -34.9987, 4602,   4350.6,   1.1715,  34.7677,2,  34.7681,2,    234.9,2,    87.11,2,    27.41,2,     0.01,2,     1.92,2,    0.040,2,    0.021,2, -999.000, -999.000,9,-999.0000,9,  -999.00,9, -999.000,9,   0.8229
  06BE200011,  AR04,    21,  1,      1,      1,2,20001203,1600,  0.6680, -34.9987, 4602,   4600.2,   0.9995,  34.7449,2,  34.7409,2,    229.7,2,    95.78,2,    29.58,2,     0.01,2,     2.03,2,    0.043,2,    0.020,2, -999.000, -999.000,9,   1.8776,2,  -999.00,9, -999.000,9,   0.6283