BOTTLE,20111027CCHDOSIOCBG
EXPOCODE,SECT_ID,STNNBR,CASTNO,SAMPNO,BTLNBR,BTLNBR_FLAG_W,DATE,TIME,LATITUDE,LONGITUDE,DEPTH,CTDPRS,CTDTMP,CTDSAL,CTDSAL_FLAG_W,SALNTY,SALNTY_FLAG_W,OXYGEN,OXYGEN_FLAG_W,SILCAT,SILCAT_FLAG_W,NITRAT,NITRAT_FLAG_W,NITRIT,NITRIT_FLAG_W,PHSPHT,PHSPHT_FLAG_W,CFC-11,CFC-11_FLAG_W,CFC-12,CFC-12_FLAG_W,TRITUM,TRITER,TRITUM_FLAG_W,HELIUM,HELIUM_FLAG_W,DELHE3,DELHE3_FLAG_W,NEON,NEON_FLAG_W,THETA
,,,,,,,,,,,METERS,DBAR,ITS-90,PSS-78,,PSS-78,,UMOL/KG,,UMOL/KG,,UMOL/KG,,UMOL/KG,,UMOL/KG,,PMOL/KG,,PMOL/KG,,TU,TU,,NMOL/KG,,PERCNT,,NMOL/KG,,DEG C
  06BE200011,  AR04,    85,  1,     22,     22,2,20001218,1556, 15.3832, -52.6253, 5377,      8.4,  25.8413,  35.9197,2,  35.9190,2,    207.0,2,     2.76,2,     0.10,2,     0.01,2,     0.01,2,    1.460,2,    0.888,2, -999.000, -999.000,9,-999.0000,9,  -999.00,9, -999.000,9,  25.8394
  06BE200011,  AR04,    85,  1,     21,     21,2,20001218,1556, 15.3832, -52.6253, 5377,    600.1,   7.5148,  34.8123,2,  34.8107,2,    118.3,2,    18.81,2,    31.51,2,     0.02,2,     1.99,2, -999.000,9, -999.000,9, -999.000, -999.000,9,-999.0000,9,  -999.00,9,    7.899,2,   7.4548
  06BE200011,  AR04,    85,  1,     20,     20,2,20001218,1556, 15.3832, -52.6253, 5377,    796.4,   5.9852,  34.7057,2,-999.0000,9,    127.9,2,    23.93,2,    34.11,2,     0.00,9,     2.25,2, -999.000,9, -999.000,9, -999.000, -999.000,9,-999.0000,9,  -999.00,9, -999.000,9,   5.9138
  06BE200011,  AR04,    85,  1,     19,     19,2,20001218,1556, 15.3832, -52.6253, 5377,    996.5,   5.4371,  34.7822,2,-999.0000,9,    144.5,2,    24.14,2,    31.86,2,     0.00,9,     2.15,2,    0.026,2,    0.014,2, -999.000, -999.000,9,-999.0000,9,  -999.00,9, -999.000,9,   5.3504
  06BE200011,  AR04,    85,  1,     18,     18,2,20001218,1556, 15.3832, -52.6253, 5377,   1295.4,   5.0401,  34.9811,2,-999.0000,9,    204.7,2,    17.39,2,    23.08,2,     0.00,9,     1.59,2,    0.182,2,    0.093,2, -999.000, -999.000,9,-999.0000,9,  -999.00,9, -999.000,9,   4.9280
  06BE200011,  AR04,    85,  1,     17,     17,2,20001218,1556, 15.3832, -52.6253, 5377,   1498.2,   4.5566,  35.0083,2,-999.0000,9,    231.8,2,    15.60,2,    20.23,2,     0.00,9,     1.37,2,    0.225,2,    0.115,2, -999.000, -999.000,9,-999.0000,9,  -999.00,9,    7.966,2,   4.4302
  06BE200011,  AR04,    85,  1,     16,     16,2,20001218,1556, 15.3832, -52.6253, 5377,   1599.2,   4.3678,  35.0078,2,-999.0000,9,    241.8,2,    15.04,2,    19.59,2,     0.00,9,     1.31,2,    0.262,2,    0.136,2, -999.000, -999.000,9,-999.0000,9,  -999.00,9, -999.000,9,   4.2340
  06BE200011,  AR04,    85,  1,     15,     15,2,20001218,1556, 15.3832, -52.6253, 5377,   1797.8,   3.8748,  34.9944,2,-999.0000,9,    250.6,2,    17.36,2,    18.98,2,     0.00,9,     1.28,2,    0.106,2,    0.056,2, -999.000, -999.000,9,-999.0000,9,  -999.00,9,    7.969,2,   3.7284
  06BE200011,  AR04,    85,  1,     14,     14,2,20001218,1556, 15.3832, -52.6253, 5377,   1997.5,   3.5639,  34.9827,2,  34.9435,2,   -999.0,9,  -999.00,9,  -999.00,9,  -999.00,9,  -999.00,9,    0.063,2,    0.035,2, -999.000, -999.000,9,-999.0000,9,  -999.00,9, -999.000,9,   3.4031
  06BE200011,  AR04,    85,  1,     13,     13,2,20001218,1556, 15.3832, -52.6253, 5377,   2195.3,   3.3154,  34.9700,2,-999.0000,9,    256.3,2,    22.00,2,    18.91,2,     0.01,2,     1.27,2,    0.046,2,    0.027,2, -999.000, -999.000,9,-999.0000,9,  -999.00,9, -999.000,9,   3.1395
  06BE200011,  AR04,    85,  1,     12,     12,2,20001218,1556, 15.3832, -52.6253, 5377,   2397.9,   3.1190,  34.9584,2,-999.0000,9,    255.4,2,    25.17,2,    19.28,2,     0.00,9,     1.31,2,    0.029,2,    0.016,2, -999.000,    0.003,9,-999.0000,9,  -999.00,9, -999.000,9,   2.9268
  06BE200011,  AR04,    85,  1,     11,     11,2,20001218,1556, 15.3832, -52.6253, 5377,   2596.9,   2.9577,  34.9491,2,-999.0000,9,    257.6,2,    25.93,2,    19.21,2,     0.01,2,     1.31,2,    0.076,2,    0.042,2, -999.000,    0.004,9,-999.0000,9,  -999.00,9, -999.000,9,   2.7489
  06BE200011,  AR04,    85,  1,     10,     10,2,20001218,1556, 15.3832, -52.6253, 5377,   2899.9,   2.7799,  34.9368,2,-999.0000,9,    258.9,2,    27.85,2,    19.27,2,     0.01,2,     1.31,2,    0.100,2,    0.049,2, -999.000, -999.000,9,-999.0000,9,  -999.00,9, -999.000,9,   2.5442
  06BE200011,  AR04,    85,  1,      9,      9,2,20001218,1556, 15.3832, -52.6253, 5377,   3197.5,   2.6350,  34.9261,2,-999.0000,9,   -999.0,9,  -999.00,9,  -999.00,9,  -999.00,9,  -999.00,9,    0.114,2,    0.054,2, -999.000, -999.000,9,-999.0000,9,  -999.00,9, -999.000,9,   2.3716
  06BE200011,  AR04,    85,  1,      8,      8,2,20001218,1556, 15.3832, -52.6253, 5377,   3496.5,   2.4817,  34.9139,2,-999.0000,9,   -999.0,9,  -999.00,9,  -999.00,9,  -999.00,9,  -999.00,9,    0.117,2,    0.062,2, -999.000,    0.004,9,-999.0000,9,  -999.00,9, -999.000,9,   2.1900
  06BE200011,  AR04,    85,  1,      7,      7,2,20001218,1556, 15.3832, -52.6253, 5377,   3697.9,   2.3702,  34.9066,2,-999.0000,9,    265.9,2,    30.28,2,    18.95,2,     0.01,2,     1.30,2,    0.170,2,    0.086,2, -999.000, -999.000,9,-999.0000,9,  -999.00,9, -999.000,9,   2.0594
  06BE200011,  AR04,    85,  1,      6,      6,2,20001218,1556, 15.3832, -52.6253, 5377,   3898.3,   2.3317,  34.9036,2,  34.8993,2,    267.2,2,    29.96,2,    18.60,2,     0.01,2,     1.27,2,    0.186,2,    0.097,2, -999.000, -999.000,9,-999.0000,9,  -999.00,9, -999.000,9,   1.9996
  06BE200011,  AR04,    85,  1,      5,      5,2,20001218,1556, 15.3832, -52.6253, 5377,   4201.1,   2.2770,  34.8966,2,-999.0000,9,    266.3,2,    32.04,2,    19.08,2,     0.01,2,     1.31,2,    0.164,2,    0.087,2, -999.000, -999.000,9,-999.0000,9,  -999.00,9, -999.000,9,   1.9118
  06BE200011,  AR04,    85,  1,      4,      4,2,20001218,1556, 15.3832, -52.6253, 5377,   4498.1,   2.2120,  34.8856,2,  34.8833,2,    262.4,2,    36.67,2,    19.86,2,     0.01,2,     1.36,2,    0.130,2,    0.072,2, -999.000, -999.000,9,-999.0000,9,  -999.00,9, -999.000,9,   1.8138
  06BE200011,  AR04,    85,  1,      3,      3,2,20001218,1556, 15.3832, -52.6253, 5377,   4797.6,   1.9237,  34.8471,2,  34.8438,2,    251.5,2,    53.43,2,    22.70,2,     0.01,2,     1.57,2,    0.074,2,    0.042,2, -999.000, -999.000,9,-999.0000,9,  -999.00,9, -999.000,9,   1.4988
  06BE200011,  AR04,    85,  1,      2,      2,2,20001218,1556, 15.3832, -52.6253, 5377,   4999.7,   1.8227,  34.8322,2,  34.8287,2,    248.4,2,    60.35,2,    23.74,2,     0.01,2,     1.63,2,    0.066,2,    0.038,2, -999.000, -999.000,9,-999.0000,9,  -999.00,9, -999.000,9,   1.3765
  06BE200011,  AR04,    85,  1,      1,      1,2,20001218,1556, 15.3832, -52.6253, 5377,   5373.8,   1.8581,  34.8306,2,  34.8278,2,    248.4,2,    61.06,2,    23.67,2,     0.01,2,     1.62,2,    0.068,2,    0.038,2, -999.000, -999.000,9,-999.0000,9,     2.39,2, -999.000,9,   1.3635
  06BE200011,  AR04,    87,  1,     22,     22,2,20001219,0130, 15.4378, -53.2053, 5518,      8.6,  26.1246,  35.4091,2,  35.4084,2,    209.2,2,     3.11,2,     0.11,2,     0.01,2,     0.01,2,    1.581,2,    0.964,2, -999.000, -999.000,9,-999.0000,9,  -999.00,9, -999.000,9,  26.1227
  06BE200011,  AR04,    87,  1,     21,     21,2,20001219,0130, 15.4378, -53.2053, 5518,    800.4,   5.9352,  34.7363,2,  34.7309,2,    134.5,2,    24.11,2,    32.80,2,     0.02,2,     2.08,2,    0.080,2,    0.045,2, -999.000, -999.000,9,-999.0000,9,  -999.00,9, -999.000,9,   5.8637
  06BE200011,  AR04,    87,  1,     20,     20,2,20001219,0130, 15.4378, -53.2053, 5518,    998.3,   5.4895,  34.8292,2,-999.0000,9,    156.3,2,    23.40,2,    29.49,2,     0.01,2,     1.97,2,    0.062,2,    0.035,2, -999.000, -999.000,9,-999.0000,9,  -999.00,9, -999.000,9,   5.4021
  06BE200011,  AR04,    87,  1,     19,     19,2,20001219,0130, 15.4378, -53.2053, 5518,   1298.2,   5.0432,  34.9966,2,-999.0000,9,    211.3,2,    17.35,2,    22.13,2,     0.01,2,     1.48,2,    0.263,2,    0.138,2, -999.000, -999.000,9,-999.0000,9,  -999.00,9, -999.000,9,   4.9308
  06BE200011,  AR04,    87,  1,     18,     18,2,20001219,0130, 15.4378, -53.2053, 5518,   1498.2,   4.5543,  35.0161,2,-999.0000,9,    238.4,2,    14.77,2,    19.37,2,     0.01,2,     1.31,2,    0.371,2,    0.192,2, -999.000, -999.000,9,-999.0000,9,  -999.00,9, -999.000,9,   4.4279
  06BE200011,  AR04,    87,  1,     17,     17,2,20001219,0130, 15.4378, -53.2053, 5518,   1649.4,   4.1624,  35.0050,2,-999.0000,9,    252.3,2,    14.10,2,    18.40,2,     0.00,9,     1.24,2,    0.364,2,    0.191,2, -999.000, -999.000,9,-999.0000,9,  -999.00,9, -999.000,9,   4.0263
  06BE200011,  AR04,    87,  1,     16,     16,2,20001219,0130, 15.4378, -53.2053, 5518,   1797.6,   3.9272,  34.9977,2,-999.0000,9,    255.8,2,    15.06,2,    18.70,2,     0.00,9,     1.23,2,    0.273,2,    0.140,2, -999.000, -999.000,9,-999.0000,9,  -999.00,9, -999.000,9,   3.7801
  06BE200011,  AR04,    87,  1,     15,     15,2,20001219,0130, 15.4378, -53.2053, 5518,   2000.6,   3.5882,  34.9884,2,-999.0000,9,    256.7,2,    17.95,2,    18.35,2,     0.00,9,     1.24,2,    0.099,2,    0.050,2, -999.000, -999.000,9,-999.0000,9,  -999.00,9, -999.000,9,   3.4266
  06BE200011,  AR04,    87,  1,     14,     14,2,20001219,0130, 15.4378, -53.2053, 5518,   2194.2,   3.3365,  34.9737,2,  34.9723,2,    259.8,2,    19.47,2,    18.31,2,     0.00,9,     1.25,2,    0.114,2,    0.057,2, -999.000, -999.000,9,-999.0000,9,  -999.00,9, -999.000,9,   3.1603
  06BE200011,  AR04,    87,  1,     13,     13,2,20001219,0130, 15.4378, -53.2053, 5518,   2397.7,   3.1235,  34.9606,2,-999.0000,9,    260.2,2,    21.86,2,    18.49,2,     0.00,9,     1.25,2,    0.091,2,    0.047,2,    0.061, -999.000,2,-999.0000,9,  -999.00,9, -999.000,9,   2.9313
  06BE200011,  AR04,    87,  1,     12,     12,2,20001219,0130, 15.4378, -53.2053, 5518,   2698.3,   2.9009,  34.9463,2,-999.0000,9,    261.1,2,    24.26,2,    18.48,2,     0.01,2,     1.26,2,    0.106,2,    0.055,2, -999.000, -999.000,9,   1.8014,2,  -999.00,9, -999.000,9,   2.6831
  06BE200011,  AR04,    87,  1,     11,     11,2,20001219,0130, 15.4378, -53.2053, 5518,   2996.2,   2.7302,  34.9338,2,-999.0000,9,    261.1,2,    26.80,2,    18.63,2,     0.01,2,     1.30,2, -999.000,9, -999.000,9,    0.092, -999.000,2,   1.8058,2,  -999.00,9, -999.000,9,   2.4856
  06BE200011,  AR04,    87,  1,     10,     10,2,20001219,0130, 15.4378, -53.2053, 5518,   3299.0,   2.5927,  34.9228,2,-999.0000,9,    261.1,2,    29.57,2,    19.25,2,     0.00,9,     1.30,2, -999.000,9, -999.000,9, -999.000, -999.000,9,-999.0000,9,  -999.00,9, -999.000,9,   2.3195
  06BE200011,  AR04,    87,  1,      9,      9,2,20001219,0130, 15.4378, -53.2053, 5518,   3595.7,   2.4865,  34.9154,2,  34.9114,2,    265.9,2,    27.99,2,    18.73,2,     0.01,2,     1.27,2, -999.000,9, -999.000,9, -999.000, -999.000,9,   1.8256,2,  -999.00,9, -999.000,9,   2.1839
  06BE200011,  AR04,    87,  1,      8,      8,2,20001219,0130, 15.4378, -53.2053, 5518,   3997.1,   2.2978,  34.8943,2,-999.0000,9,    259.8,2,    37.05,2,    20.33,2,     0.01,2,     1.35,2,    0.071,2,    0.041,2, -999.000, -999.000,9,   1.8710,2,  -999.00,9, -999.000,9,   1.9555
  06BE200011,  AR04,    87,  1,      7,      7,2,20001219,0130, 15.4378, -53.2053, 5518,   4497.3,   2.1193,  34.8730,2,-999.0000,9,    257.6,2,    43.37,2,    21.22,2,     0.01,2,     1.44,2,    0.083,2,    0.048,2,    0.147, -999.000,2,   1.8104,2,  -999.00,9, -999.000,9,   1.7241
  06BE200011,  AR04,    87,  1,      6,      6,2,20001219,0130, 15.4378, -53.2053, 5518,   4800.5,   1.9477,  34.8504,2,-999.0000,9,    252.8,2,    51.86,2,    22.70,2,     0.03,2,     1.54,2,    0.073,2,    0.043,2, -999.000, -999.000,9,   1.7973,2,  -999.00,9, -999.000,9,   1.5216
  06BE200011,  AR04,    87,  1,      5,      5,2,20001219,0130, 15.4378, -53.2053, 5518,   4996.8,   1.8613,  34.8371,2,-999.0000,9,    249.3,2,    57.47,2,    23.42,2,     0.03,2,     1.60,2,    0.069,2,    0.038,2, -999.000, -999.000,9,-999.0000,9,  -999.00,9, -999.000,9,   1.4140
  06BE200011,  AR04,    87,  1,      4,      4,2,20001219,0130, 15.4378, -53.2053, 5518,   5199.4,   1.8083,  34.8277,2,  34.8261,2,    246.7,2,    61.29,2,    24.07,2,     0.02,2,     1.62,2,    0.063,2,    0.036,2, -999.000, -999.000,9,-999.0000,9,  -999.00,9, -999.000,9,   1.3377
  06BE200011,  AR04,    87,  1,      3,      3,2,20001219,0130, 15.4378, -53.2053, 5518,   5290.8,   1.8110,  34.8265,2,  34.8249,2,    246.7,2,    61.75,2,    24.11,2,     0.01,2,     1.66,2,    0.061,2,    0.036,2, -999.000, -999.000,9,-999.0000,9,  -999.00,9, -999.000,9,   1.3287
  06BE200011,  AR04,    87,  1,      2,      2,2,20001219,0130, 15.4378, -53.2053, 5518,   5400.4,   1.8222,  34.8262,2,-999.0000,9,    246.7,2,    62.17,2,    24.79,2,     0.01,2,     1.64,2,    0.062,2,    0.035,2, -999.000, -999.000,9,-999.0000,9,  -999.00,9, -999.000,9,   1.3255
  06BE200011,  AR04,    87,  1,      1,      1,2,20001219,0130, 15.4378, -53.2053, 5518,   5514.6,   1.8336,  34.8255,2,  34.8215,2,    246.7,2,    62.44,2,    24.50,2,     0.01,2,     1.64,2,    0.067,2,    0.036,2, -999.000, -999.000,9,-999.0000,9,  -999.00,9,    7.903,2,   1.3218
  06BE200011,  AR04,    89,  1,     22,     22,2,20001219,1056, 15.4927, -53.7867, 5581,      8.9,  26.1884,  35.2360,2,  35.2383,2,    210.5,2,     3.40,2,     0.10,2,     0.00,9,     0.01,2,    1.573,2,    0.953,2, -999.000, -999.000,9,-999.0000,9,  -999.00,9, -999.000,9,  26.1864
  06BE200011,  AR04,    89,  1,     21,     21,2,20001219,1056, 15.4927, -53.7867, 5581,    699.5,   6.7056,  34.7865,2,-999.0000,9,    125.7,2,    22.50,2,    31.69,2,     0.01,2,     2.01,2,    0.162,2,    0.090,2, -999.000, -999.000,9,-999.0000,9,  -999.00,9, -999.000,9,   6.6395
  06BE200011,  AR04,    89,  1,     20,     20,2,20001219,1056, 15.4927, -53.7867, 5581,    895.9,   5.6513,  34.7568,2,-999.0000,9,    141.4,2,    25.25,2,    32.39,2,     0.00,9,     2.16,2,    0.047,2,    0.026,2, -999.000, -999.000,9,-999.0000,9,  -999.00,9, -999.000,9,   5.5725
  06BE200011,  AR04,    89,  1,     19,     19,2,20001219,1056, 15.4927, -53.7867, 5581,   1097.2,   5.3831,  34.9109,2,-999.0000,9,    169.4,2,    21.59,2,    27.30,2,     0.00,9,     1.86,2,    0.068,2,    0.034,2, -999.000, -999.000,9,-999.0000,9,  -999.00,9, -999.000,9,   5.2870
  06BE200011,  AR04,    89,  1,     18,     18,2,20001219,1056, 15.4927, -53.7867, 5581,   1296.0,   4.9621,  34.9869,2,-999.0000,9,    205.6,2,    18.45,2,    23.34,2,     0.00,9,     1.58,2,    0.110,2,    0.057,2,    0.319, -999.000,2,-999.0000,9,  -999.00,9, -999.000,9,   4.8507
  06BE200011,  AR04,    89,  1,     17,     17,2,20001219,1056, 15.4927, -53.7867, 5581,   1497.2,   4.4540,  35.0079,2,-999.0000,9,    233.6,2,    16.59,2,    20.56,2,     0.00,9,     1.39,2,    0.164,2,    0.086,2,    0.289, -999.000,2,-999.0000,9,  -999.00,9, -999.000,9,   4.3288
  06BE200011,  AR04,    89,  1,     16,     16,2,20001219,1056, 15.4927, -53.7867, 5581,   1695.8,   4.0174,  34.9986,2,  34.9994,2,    258.0,2,    14.27,2,    18.35,2,     0.00,9,     1.23,2,    0.443,2,    0.227,2,    0.214, -999.000,2,-999.0000,9,  -999.00,9, -999.000,9,   3.8788
  06BE200011,  AR04,    89,  1,     15,     15,2,20001219,1056, 15.4927, -53.7867, 5581,   1899.7,   3.7134,  34.9910,2,-999.0000,9,   -999.0,9,  -999.00,9,  -999.00,9,  -999.00,9,  -999.00,9, -999.000,9, -999.000,9,    0.041, -999.000,2,-999.0000,9,  -999.00,9, -999.000,9,   3.5596
  06BE200011,  AR04,    89,  1,     14,     14,2,20001219,1056, 15.4927, -53.7867, 5581,   2097.5,   3.4437,  34.9809,2,-999.0000,9,    258.9,2,    19.02,2,    18.67,2,     0.00,9,     1.26,2,    0.116,2,    0.060,2,    0.105, -999.000,2,-999.0000,9,  -999.00,9, -999.000,9,   3.2751
  06BE200011,  AR04,    89,  1,     13,     13,2,20001219,1056, 15.4927, -53.7867, 5581,   2296.4,   3.1813,  34.9648,2,-999.0000,9,    261.5,2,    20.76,2,    18.66,2,     0.00,9,     1.24,2,    0.114,2,    0.059,2,    0.108,    0.011,2,-999.0000,9,  -999.00,9, -999.000,9,   2.9979
  06BE200011,  AR04,    89,  1,     12,     12,2,20001219,1056, 15.4927, -53.7867, 5581,   2557.4,   2.9330,  34.9490,2,-999.0000,9,    263.7,2,    22.59,2,    18.62,2,     0.00,9,     1.27,2,    0.166,2,    0.084,2,    0.103, -999.000,2,-999.0000,9,     2.26,2, -999.000,9,   2.7286
  06BE200011,  AR04,    89,  1,     11,     11,2,20001219,1056, 15.4927, -53.7867, 5581,   2897.9,   2.7320,  34.9343,2,-999.0000,9,    260.6,2,    27.14,2,    19.28,2,     0.01,2,     1.30,2,    0.127,2,    0.063,2,    0.108,    0.039,2,-999.0000,9,     2.89,2, -999.000,9,   2.4975
  06BE200011,  AR04,    89,  1,     10,     10,2,20001219,1056, 15.4927, -53.7867, 5581,   3198.1,   2.5969,  34.9241,2,-999.0000,9,    262.0,2,    28.97,2,    19.54,2,     0.01,2,     1.31,2,    0.138,2,    0.069,2,    0.090, -999.000,2,-999.0000,9,  -999.00,9, -999.000,9,   2.3343
  06BE200011,  AR04,    89,  1,      9,      9,2,20001219,1056, 15.4927, -53.7867, 5581,   3498.4,   2.4387,  34.9137,2,  34.9093,2,    265.9,2,    28.48,2,    18.54,2,     0.01,2,     1.29,2,    0.208,2,    0.106,2,    0.203, -999.000,2,-999.0000,9,     3.60,2, -999.000,9,   2.1479
  06BE200011,  AR04,    89,  1,      8,      8,2,20001219,1056, 15.4927, -53.7867, 5581,   3786.0,   2.3314,  34.9050,2,-999.0000,9,    267.6,2,    29.57,2,    18.41,2,     0.01,2,     1.27,2,    0.204,2,    0.104,2, -999.000, -999.000,9,-999.0000,9,     3.48,2, -999.000,9,   2.0119
  06BE200011,  AR04,    89,  1,      7,      7,2,20001219,1056, 15.4927, -53.7867, 5581,   4096.5,   2.2733,  34.8987,2,-999.0000,9,    267.6,2,    30.98,2,    18.57,2,     0.01,2,     1.31,2,    0.202,2,    0.104,2, -999.000,    0.005,9,-999.0000,9,     3.59,2, -999.000,9,   1.9203
  06BE200011,  AR04,    89,  1,      6,      6,2,20001219,1056, 15.4927, -53.7867, 5581,   4396.5,   2.2176,  34.8897,2,-999.0000,9,    265.0,2,    34.69,2,    18.87,2,     0.01,2,     1.33,2,    0.188,2,    0.103,2, -999.000, -999.000,9,-999.0000,9,     3.06,2, -999.000,9,   1.8313
  06BE200011,  AR04,    89,  1,      5,      5,2,20001219,1056, 15.4927, -53.7867, 5581,   4696.6,   2.1632,  34.8786,2,  34.8805,2,    260.7,2,    39.81,2,    20.08,2,     0.01,2,     1.40,2,    0.144,2,    0.082,2, -999.000, -999.000,9,-999.0000,9,  -999.00,9, -999.000,9,   1.7426
  06BE200011,  AR04,    89,  1,      4,      4,2,20001219,1056, 15.4927, -53.7867, 5581,   4901.5,   2.0468,  34.8610,2,-999.0000,9,    255.0,2,    47.99,2,    21.69,2,     0.01,2,     1.49,2,    0.083,2,    0.049,2, -999.000, -999.000,9,-999.0000,9,  -999.00,9, -999.000,9,   1.6050
  06BE200011,  AR04,    89,  1,      3,      3,2,20001219,1056, 15.4927, -53.7867, 5581,   5054.7,   1.9245,  34.8436,2,  34.8442,2,    250.6,2,    55.40,2,    22.95,2,     0.01,2,     1.59,2,    0.070,2,    0.040,2, -999.000, -999.000,9,-999.0000,9,  -999.00,9, -999.000,9,   1.4679
  06BE200011,  AR04,    89,  1,      2,      2,2,20001219,1056, 15.4927, -53.7867, 5581,   5298.3,   1.8719,  34.8337,2,-999.0000,9,    248.4,2,    59.14,2,    23.56,2,     0.01,2,     1.62,2,    0.066,2,    0.037,2, -999.000, -999.000,9,-999.0000,9,  -999.00,9, -999.000,9,   1.3864
  06BE200011,  AR04,    89,  1,      1,      1,2,20001219,1056, 15.4927, -53.7867, 5581,   5578.0,   1.8570,  34.8275,2,  34.8247,2,    247.1,2,    61.43,2,    23.79,2,     0.02,2,     1.63,2,    0.065,2,    0.037,2, -999.000, -999.000,9,-999.0000,9,  -999.00,9, -999.000,9,   1.3361