BOTTLE,20111027CCHDOSIOCBG
EXPOCODE,SECT_ID,STNNBR,CASTNO,SAMPNO,BTLNBR,BTLNBR_FLAG_W,DATE,TIME,LATITUDE,LONGITUDE,DEPTH,CTDPRS,CTDTMP,CTDSAL,CTDSAL_FLAG_W,SALNTY,SALNTY_FLAG_W,OXYGEN,OXYGEN_FLAG_W,SILCAT,SILCAT_FLAG_W,NITRAT,NITRAT_FLAG_W,NITRIT,NITRIT_FLAG_W,PHSPHT,PHSPHT_FLAG_W,CFC-11,CFC-11_FLAG_W,CFC-12,CFC-12_FLAG_W,TRITUM,TRITER,TRITUM_FLAG_W,HELIUM,HELIUM_FLAG_W,DELHE3,DELHE3_FLAG_W,NEON,NEON_FLAG_W,THETA
,,,,,,,,,,,METERS,DBAR,ITS-90,PSS-78,,PSS-78,,UMOL/KG,,UMOL/KG,,UMOL/KG,,UMOL/KG,,UMOL/KG,,PMOL/KG,,PMOL/KG,,TU,TU,,NMOL/KG,,PERCNT,,NMOL/KG,,DEG C
  06BE200011,  AR04,    81,  1,      8,      8,2,20001217,2145, 15.2628, -51.3592, 4350,   1295.9,   4.9045,  34.9884,2,-999.0000,9,   -999.0,9,    18.17,2,    22.73,2,     0.01,2,     1.47,2,    0.152,2,    0.081,2, -999.000, -999.000,9,-999.0000,9,  -999.00,9, -999.000,9,   4.7937
  06BE200011,  AR04,    81,  1,      7,      7,2,20001217,2145, 15.2628, -51.3592, 4350,   1496.7,   4.4845,  35.0056,2,-999.0000,9,   -999.0,9,    16.19,2,    20.37,2,     0.01,2,     1.36,2,    0.236,2,    0.125,2, -999.000,    0.003,9,-999.0000,9,  -999.00,9, -999.000,9,   4.3590
  06BE200011,  AR04,    81,  1,      6,      6,2,20001217,2145, 15.2628, -51.3592, 4350,   1689.5,   4.0984,  35.0024,2,-999.0000,9,   -999.0,9,    15.57,2,    19.26,2,     0.01,2,     1.29,2,    0.252,2,    0.133,2, -999.000, -999.000,9,-999.0000,9,  -999.00,9,    7.811,2,   3.9593
  06BE200011,  AR04,    81,  1,      5,      5,2,20001217,2145, 15.2628, -51.3592, 4350,   2997.5,   2.6752,  34.9279,2,  34.9238,2,   -999.0,9,    33.40,2,    20.57,2,     0.01,2,     1.48,2, -999.000,9, -999.000,9, -999.000,    0.003,9,-999.0000,9,  -999.00,9, -999.000,9,   2.4317
  06BE200011,  AR04,    81,  1,      4,      4,2,20001217,2145, 15.2628, -51.3592, 4350,   3499.2,   2.4518,  34.9083,2,-999.0000,9,   -999.0,9,    37.01,2,    20.64,2,     0.01,2,     1.55,2,    0.041,2,    0.023,2, -999.000, -999.000,9,-999.0000,9,  -999.00,9,    7.947,2,   2.1606
  06BE200011,  AR04,    81,  1,      3,      3,2,20001217,2145, 15.2628, -51.3592, 4350,   3696.1,   2.3470,  34.8991,2,-999.0000,9,   -999.0,9,    37.79,2,    20.71,2,     0.01,2,     1.54,2,    0.061,2,    0.034,2, -999.000, -999.000,9,   1.8136,2,  -999.00,9, -999.000,9,   2.0370
  06BE200011,  AR04,    81,  1,      2,      2,2,20001217,2145, 15.2628, -51.3592, 4350,   3997.8,   2.2363,  34.8892,2,  34.8820,2,   -999.0,9,    38.90,2,    20.85,2,     0.01,2,     1.58,2,    0.083,2,    0.046,2, -999.000, -999.000,9,-999.0000,9,  -999.00,9, -999.000,9,   1.8957
  06BE200011,  AR04,    81,  1,      1,      1,2,20001217,2145, 15.2628, -51.3592, 4350,   4348.0,   2.1056,  34.8734,2,-999.0000,9,   -999.0,9,    43.60,2,    21.17,2,     0.01,2,     1.66,2,    0.093,2,    0.051,2, -999.000, -999.000,9,   1.8241,2,  -999.00,9, -999.000,9,   1.7285
  06BE200011,  AR04,    82,  1,     22,     22,2,20001218,0115, 15.2702, -51.5177, 5002,      9.0,  26.3613,  35.4711,2,-999.0000,9,    209.6,2,     2.80,2,     0.24,2,     0.00,9,     0.01,2,    1.575,2,    0.955,2, -999.000, -999.000,9,-999.0000,9,  -999.00,9, -999.000,9,  26.3593
  06BE200011,  AR04,    82,  1,     21,     21,2,20001218,0115, 15.2702, -51.5177, 5002,    599.8,   7.4445,  34.8453,2,-999.0000,9,    122.2,2,    19.36,2,    31.09,2,     0.01,2,     1.97,2, -999.000,9, -999.000,9, -999.000, -999.000,9,   1.8135,2,  -999.00,9, -999.000,9,   7.3848
  06BE200011,  AR04,    82,  1,     20,     20,2,20001218,0115, 15.2702, -51.5177, 5002,    698.2,   6.2844,  34.7124,2,-999.0000,9,    127.9,2,    23.39,2,    33.62,2,     0.01,2,     2.18,2, -999.000,9, -999.000,9, -999.000, -999.000,9,-999.0000,9,  -999.00,9, -999.000,9,   6.2207
  06BE200011,  AR04,    82,  1,     19,     19,2,20001218,0115, 15.2702, -51.5177, 5002,    797.9,   5.8067,  34.7090,2,-999.0000,9,    133.6,2,    24.64,2,    32.81,2,     0.01,2,     2.23,2, -999.000,9, -999.000,9, -999.000, -999.000,9,-999.0000,9,  -999.00,9, -999.000,9,   5.7362
  06BE200011,  AR04,    82,  1,     18,     18,2,20001218,0115, 15.2702, -51.5177, 5002,    996.6,   5.4178,  34.8340,2,-999.0000,9,    156.3,2,    23.22,2,    29.53,2,     0.01,2,     2.00,2,    0.054,2,    0.029,2, -999.000, -999.000,9,-999.0000,9,  -999.00,9, -999.000,9,   5.3311
  06BE200011,  AR04,    82,  1,     17,     17,2,20001218,0115, 15.2702, -51.5177, 5002,   1248.0,   5.0862,  34.9785,2,-999.0000,9,    199.9,2,    18.61,2,    23.73,2,     0.00,9,     1.61,2,    0.147,2,    0.078,2, -999.000, -999.000,9,   1.8225,2,     2.58,2, -999.000,9,   4.9782
  06BE200011,  AR04,    82,  1,     16,     16,2,20001218,0115, 15.2702, -51.5177, 5002,   1399.1,   4.6637,  35.0118,2,-999.0000,9,    228.8,2,    15.85,2,    20.54,2,     0.02,2,     1.38,2,    0.284,2,    0.149,2, -999.000, -999.000,9,-999.0000,9,  -999.00,9, -999.000,9,   4.5455
  06BE200011,  AR04,    82,  1,     15,     15,2,20001218,0115, 15.2702, -51.5177, 5002,   1547.5,   4.3599,  35.0080,2,-999.0000,9,    241.8,2,    15.33,2,    19.71,2,     0.01,2,     1.31,2,    0.281,2,    0.146,2, -999.000, -999.000,9,   1.8263,2,     2.81,2, -999.000,9,   4.2311
  06BE200011,  AR04,    82,  1,     14,     14,2,20001218,0115, 15.2702, -51.5177, 5002,   1698.5,   3.9659,  34.9949,2,-999.0000,9,    245.3,2,    16.98,2,    19.60,2,     0.01,2,     1.31,2,    0.129,2,    0.069,2, -999.000, -999.000,9,-999.0000,9,  -999.00,9, -999.000,9,   3.8277
  06BE200011,  AR04,    82,  1,     13,     13,2,20001218,0115, 15.2702, -51.5177, 5002,   1898.4,   3.6097,  34.9840,2,-999.0000,9,    251.9,2,    19.61,2,    19.33,2,     0.01,2,     1.28,2,    0.063,2,    0.034,2, -999.000, -999.000,9,-999.0000,9,  -999.00,9, -999.000,9,   3.4575
  06BE200011,  AR04,    82,  1,     12,     12,2,20001218,0115, 15.2702, -51.5177, 5002,   2097.1,   3.3892,  34.9742,2,-999.0000,9,    255.0,2,    21.48,2,    19.59,2,     0.01,2,     1.27,2,    0.053,2,    0.029,2, -999.000, -999.000,9,-999.0000,9,  -999.00,9, -999.000,9,   3.2215
  06BE200011,  AR04,    82,  1,     11,     11,2,20001218,0115, 15.2702, -51.5177, 5002,   2298.2,   3.1640,  34.9622,2,-999.0000,9,    256.3,2,    23.84,2,    19.44,2,     0.01,2,     1.29,2,    0.043,2,    0.024,2, -999.000, -999.000,9,-999.0000,9,  -999.00,9, -999.000,9,   2.9807
  06BE200011,  AR04,    82,  1,     10,     10,2,20001218,0115, 15.2702, -51.5177, 5002,   2500.2,   2.9983,  34.9518,2,-999.0000,9,    255.8,2,    26.41,2,    19.91,2,     0.02,2,     1.29,2,    0.039,2,    0.020,2, -999.000, -999.000,9,-999.0000,9,  -999.00,9, -999.000,9,   2.7983
  06BE200011,  AR04,    82,  1,      9,      9,2,20001218,0115, 15.2702, -51.5177, 5002,   2796.3,   2.7762,  34.9362,2,-999.0000,9,    255.0,2,    30.47,2,    20.25,2,     0.01,2,     1.35,2,    0.042,2,    0.025,2, -999.000, -999.000,9,-999.0000,9,  -999.00,9, -999.000,9,   2.5511
  06BE200011,  AR04,    82,  1,      8,      8,2,20001218,0115, 15.2702, -51.5177, 5002,   3099.2,   2.6409,  34.9261,2,-999.0000,9,    258.0,2,    31.71,2,    20.08,2,     0.01,2,     1.36,2,    0.060,2,    0.033,2, -999.000, -999.000,9,-999.0000,9,  -999.00,9, -999.000,9,   2.3877
  06BE200011,  AR04,    82,  1,      7,      7,2,20001218,0115, 15.2702, -51.5177, 5002,   3398.2,   2.5162,  34.9147,2,-999.0000,9,    258.0,2,    35.00,2,    20.29,2,     0.02,2,     1.34,2,    0.057,2,    0.031,2, -999.000, -999.000,9,-999.0000,9,  -999.00,9, -999.000,9,   2.2343
  06BE200011,  AR04,    82,  1,      6,      6,2,20001218,0115, 15.2702, -51.5177, 5002,   3598.3,   2.4093,  34.9068,2,-999.0000,9,    259.8,2,    34.13,2,    20.09,2,     0.01,2,     1.34,2,    0.092,2,    0.050,2, -999.000, -999.000,9,-999.0000,9,  -999.00,9, -999.000,9,   2.1084
  06BE200011,  AR04,    82,  1,      5,      5,2,20001218,0115, 15.2702, -51.5177, 5002,   3901.5,   2.3238,  34.8998,2,-999.0000,9,    263.3,2,    33.52,2,    19.43,2,     0.01,2,     1.30,2,    0.131,2,    0.071,2, -999.000, -999.000,9,-999.0000,9,  -999.00,9, -999.000,9,   1.9916
  06BE200011,  AR04,    82,  1,      4,      4,2,20001218,0115, 15.2702, -51.5177, 5002,   4197.3,   2.2169,  34.8889,2,-999.0000,9,    262.0,2,    36.80,2,    20.10,2,     0.01,2,     1.35,2,    0.119,2,    0.066,2, -999.000, -999.000,9,-999.0000,9,  -999.00,9, -999.000,9,   1.8539
  06BE200011,  AR04,    82,  1,      3,      3,2,20001218,0115, 15.2702, -51.5177, 5002,   4496.5,   2.0718,  34.8674,2,-999.0000,9,    255.9,2,    46.26,2,    21.67,2,     0.02,2,     1.45,2,    0.078,2,    0.044,2, -999.000, -999.000,9,-999.0000,9,  -999.00,9, -999.000,9,   1.6782
  06BE200011,  AR04,    82,  1,      2,      2,2,20001218,0115, 15.2702, -51.5177, 5002,   4796.4,   1.9341,  34.8481,2,-999.0000,9,    251.5,2,    53.57,2,    23.22,2,     0.01,2,     1.56,2,    0.072,2,    0.041,2, -999.000, -999.000,9,-999.0000,9,  -999.00,9, -999.000,9,   1.5089
  06BE200011,  AR04,    82,  1,      1,      1,2,20001218,0115, 15.2702, -51.5177, 5002,   4999.8,   1.8879,  34.8397,2,-999.0000,9,    249.8,2,    56.57,2,    23.92,2,     0.01,2,     1.61,2,    0.072,2,    0.039,2, -999.000,    0.004,9,-999.0000,9,  -999.00,9, -999.000,9,   1.4394
  06BE200011,  AR04,    83,  1,     22,     22,2,20001218,0659, 15.3272, -52.0722, 5005,     11.3,  26.0846,  35.8562,2,-999.0000,9,    207.0,2,     2.46,2,     0.13,2,     0.00,9,     0.03,2,    1.593,2,    0.959,2, -999.000, -999.000,9,-999.0000,9,  -999.00,9, -999.000,9,  26.0821
  06BE200011,  AR04,    83,  1,     21,     21,2,20001218,0659, 15.3272, -52.0722, 5005,    601.1,   7.4266,  34.8382,2,-999.0000,9,    126.6,2,    19.61,2,    31.56,2,     0.01,2,     1.93,2, -999.000,9, -999.000,9, -999.000, -999.000,9,-999.0000,9,     2.34,2, -999.000,9,   7.3669
  06BE200011,  AR04,    83,  1,     20,     20,2,20001218,0659, 15.3272, -52.0722, 5005,    797.5,   5.7957,  34.7186,2,-999.0000,9,    134.9,2,    24.54,2,    33.65,2,     0.01,2,     2.18,2, -999.000,9, -999.000,9, -999.000, -999.000,9,-999.0000,9,  -999.00,9, -999.000,9,   5.7253
  06BE200011,  AR04,    83,  1,     19,     19,2,20001218,0659, 15.3272, -52.0722, 5005,    996.6,   5.3934,  34.8040,2,-999.0000,9,    154.6,2,    23.66,2,    30.97,2,     0.02,2,     2.04,2,    0.060,2,    0.030,2, -999.000, -999.000,9,-999.0000,9,  -999.00,9, -999.000,9,   5.3069
  06BE200011,  AR04,    83,  1,     18,     18,2,20001218,0659, 15.3272, -52.0722, 5005,   1346.6,   4.8494,  35.0022,2,-999.0000,9,    219.2,2,    16.52,2,    22.12,2,     0.01,2,     1.46,2,    0.263,2,    0.138,2, -999.000, -999.000,9,-999.0000,9,  -999.00,9, -999.000,9,   4.7343
  06BE200011,  AR04,    83,  1,     17,     17,2,20001218,0659, 15.3272, -52.0722, 5005,   1497.7,   4.4971,  35.0137,2,-999.0000,9,    239.7,2,    14.90,2,    20.07,2,     0.01,2,     1.32,2,    0.321,2,    0.166,2, -999.000, -999.000,9,-999.0000,9,     3.03,2,    7.916,2,   4.3714
  06BE200011,  AR04,    83,  1,     16,     16,2,20001218,0659, 15.3272, -52.0722, 5005,   1599.5,   4.2972,  35.0072,2,-999.0000,9,    244.5,2,    14.95,2,    19.72,2,     0.01,2,     1.29,2,    0.284,2,    0.147,2, -999.000, -999.000,9,-999.0000,9,  -999.00,9, -999.000,9,   4.1642
  06BE200011,  AR04,    83,  1,     15,     15,2,20001218,0659, 15.3272, -52.0722, 5005,   1695.9,   4.1126,  35.0014,2,-999.0000,9,   -999.0,9,  -999.00,9,  -999.00,9,  -999.00,9,  -999.00,9, -999.000,9, -999.000,9, -999.000, -999.000,9,-999.0000,9,     3.18,2,    7.966,2,   3.9727
  06BE200011,  AR04,    83,  1,     14,     14,2,20001218,0659, 15.3272, -52.0722, 5005,   1898.9,   3.6680,  34.9854,2,-999.0000,9,    252.8,2,    19.03,2,    19.65,2,     0.01,2,     1.30,2,    0.058,2,    0.032,2, -999.000, -999.000,9,-999.0000,9,  -999.00,9, -999.000,9,   3.5149
  06BE200011,  AR04,    83,  1,     13,     13,2,20001218,0659, 15.3272, -52.0722, 5005,   2098.7,   3.3766,  34.9728,2,-999.0000,9,    254.1,2,    21.77,2,    19.45,2,     0.01,2,     1.31,2,    0.042,2,    0.025,2, -999.000, -999.000,9,-999.0000,9,  -999.00,9, -999.000,9,   3.2090
  06BE200011,  AR04,    83,  1,     12,     12,2,20001218,0659, 15.3272, -52.0722, 5005,   2297.4,   3.1578,  34.9622,2,  34.9566,2,    257.6,2,    23.23,2,    19.60,2,     0.00,9,     1.26,2,    0.051,2,    0.028,2,    0.050, -999.000,2,-999.0000,9,  -999.00,9, -999.000,9,   2.9747
  06BE200011,  AR04,    83,  1,     11,     11,2,20001218,0659, 15.3272, -52.0722, 5005,   2590.4,   2.9261,  34.9476,2,  34.9436,2,    258.9,2,    25.83,2,    19.72,2,     0.01,2,     1.30,2,    0.058,2,    0.032,2,    0.051, -999.000,2,-999.0000,9,  -999.00,9, -999.000,9,   2.7186
  06BE200011,  AR04,    83,  1,     10,     10,2,20001218,0659, 15.3272, -52.0722, 5005,   2903.1,   2.7348,  34.9330,2,-999.0000,9,    255.0,2,    31.15,2,    20.42,2,     0.01,2,     1.36,2,    0.027,2,    0.015,2, -999.000, -999.000,9,-999.0000,9,  -999.00,9, -999.000,9,   2.4997
  06BE200011,  AR04,    83,  1,      9,      9,2,20001218,0659, 15.3272, -52.0722, 5005,   3199.7,   2.6136,  34.9223,2,-999.0000,9,    253.7,2,    33.90,2,    20.36,2,     0.01,2,     1.40,2,    0.024,2,    0.014,2, -999.000, -999.000,9,-999.0000,9,  -999.00,9, -999.000,9,   2.3505
  06BE200011,  AR04,    83,  1,      8,      8,2,20001218,0659, 15.3272, -52.0722, 5005,   3403.0,   2.5315,  34.9165,2,-999.0000,9,    258.0,2,    32.81,2,    20.07,2,     0.01,2,     1.35,2,    0.074,2,    0.040,2,    0.060, -999.000,2,-999.0000,9,  -999.00,9, -999.000,9,   2.2487
  06BE200011,  AR04,    83,  1,      7,      7,2,20001218,0659, 15.3272, -52.0722, 5005,   3598.9,   2.4764,  34.9104,2,-999.0000,9,    258.0,2,    34.90,2,    20.38,2,     0.01,2,     1.38,2,    0.062,2,    0.034,2, -999.000, -999.000,9,-999.0000,9,  -999.00,9, -999.000,9,   2.1737
  06BE200011,  AR04,    83,  1,      6,      6,2,20001218,0659, 15.3272, -52.0722, 5005,   3797.8,   2.3801,  34.9025,2,-999.0000,9,    260.2,2,    34.54,2,    19.75,2,     0.01,2,     1.39,2,    0.082,2,    0.045,2, -999.000, -999.000,9,-999.0000,9,  -999.00,9, -999.000,9,   2.0580
  06BE200011,  AR04,    83,  1,      5,      5,2,20001218,0659, 15.3272, -52.0722, 5005,   3999.3,   2.3084,  34.8968,2,-999.0000,9,    261.5,2,    34.75,2,    20.17,2,     0.01,2,     1.37,2,    0.098,2,    0.054,2, -999.000, -999.000,9,-999.0000,9,  -999.00,9, -999.000,9,   1.9655
  06BE200011,  AR04,    83,  1,      4,      4,2,20001218,0659, 15.3272, -52.0722, 5005,   4298.4,   2.1496,  34.8791,2,-999.0000,9,    259.4,2,    40.89,2,    20.83,2,     0.01,2,     1.52,2,    0.103,2,    0.051,2, -999.000, -999.000,9,-999.0000,9,  -999.00,9, -999.000,9,   1.7769
  06BE200011,  AR04,    83,  1,      3,      3,2,20001218,0659, 15.3272, -52.0722, 5005,   4595.6,   1.9477,  34.8530,2,-999.0000,9,    253.2,2,    50.29,2,    22.45,2,     0.01,2,     1.55,2,    0.080,2,    0.045,2, -999.000, -999.000,9,-999.0000,9,  -999.00,9, -999.000,9,   1.5463
  06BE200011,  AR04,    83,  1,      2,      2,2,20001218,0659, 15.3272, -52.0722, 5005,   4796.3,   1.8339,  34.8370,2,  34.8308,2,    249.3,2,    56.83,2,    23.50,2,     0.01,2,     1.63,2,    0.065,2,    0.038,2, -999.000, -999.000,9,-999.0000,9,  -999.00,9, -999.000,9,   1.4121
  06BE200011,  AR04,    83,  1,      1,      1,2,20001218,0659, 15.3272, -52.0722, 5005,   5002.9,   1.8356,  34.8336,2,  34.8316,2,    249.3,2,    57.88,2,    23.92,2,     0.01,2,     1.63,2,    0.066,2,    0.038,2, -999.000, -999.000,9,   1.8204,2,  -999.00,9, -999.000,9,   1.3885