BOTTLE,20111027CCHDOSIOCBG
EXPOCODE,SECT_ID,STNNBR,CASTNO,SAMPNO,BTLNBR,BTLNBR_FLAG_W,DATE,TIME,LATITUDE,LONGITUDE,DEPTH,CTDPRS,CTDTMP,CTDSAL,CTDSAL_FLAG_W,SALNTY,SALNTY_FLAG_W,OXYGEN,OXYGEN_FLAG_W,SILCAT,SILCAT_FLAG_W,NITRAT,NITRAT_FLAG_W,NITRIT,NITRIT_FLAG_W,PHSPHT,PHSPHT_FLAG_W,CFC-11,CFC-11_FLAG_W,CFC-12,CFC-12_FLAG_W,TRITUM,TRITER,TRITUM_FLAG_W,HELIUM,HELIUM_FLAG_W,DELHE3,DELHE3_FLAG_W,NEON,NEON_FLAG_W,THETA
,,,,,,,,,,,METERS,DBAR,ITS-90,PSS-78,,PSS-78,,UMOL/KG,,UMOL/KG,,UMOL/KG,,UMOL/KG,,UMOL/KG,,PMOL/KG,,PMOL/KG,,TU,TU,,NMOL/KG,,PERCNT,,NMOL/KG,,DEG C
  06BE200011,  AR04,    12,  1,     21,     21,2,20001201,1938, -2.0832, -35.0002, 4092,    100.6,  20.7172,  36.1541,2,  36.1650,2,    159.5,2,     2.79,2,     5.59,2,     0.21,2,     0.59,2, -999.000,9, -999.000,9, -999.000, -999.000,9,-999.0000,9,  -999.00,9, -999.000,9,  20.6980
  06BE200011,  AR04,    12,  1,     20,     20,2,20001201,1938, -2.0832, -35.0002, 4092,    198.5,  12.6543,  35.2290,2,-999.0000,9,     89.0,2,     9.49,2,    25.12,2,     0.01,2,     1.66,2, -999.000,9, -999.000,9, -999.000, -999.000,9,-999.0000,9,  -999.00,9, -999.000,9,  12.6274
  06BE200011,  AR04,    12,  1,     19,     19,2,20001201,1938, -2.0832, -35.0002, 4092,    397.1,   8.3458,  34.7296,2,-999.0000,9,    123.5,2,    24.12,2,    32.66,2,     0.01,2,     2.25,2, -999.000,9, -999.000,9, -999.000,    0.009,9,-999.0000,9,  -999.00,9, -999.000,9,   8.3042
  06BE200011,  AR04,    12,  1,     18,     18,2,20001201,1938, -2.0832, -35.0002, 4092,    597.5,   5.4595,  34.4710,2,-999.0000,9,    163.3,2,    24.15,2,    32.66,2,     0.00,9,     2.24,2, -999.000,9, -999.000,9, -999.000, -999.000,9,-999.0000,9,  -999.00,9, -999.000,9,   5.4094
  06BE200011,  AR04,    12,  1,     17,     17,2,20001201,1938, -2.0832, -35.0002, 4092,    799.6,   4.6192,  34.5073,2,  34.5049,2,    159.4,2,    29.73,2,    33.57,2,     0.00,9,     2.37,2, -999.000,9, -999.000,9, -999.000,    0.030,9,-999.0000,9,     2.26,2, -999.000,9,   4.5561
  06BE200011,  AR04,    12,  1,     16,     16,2,20001201,1938, -2.0832, -35.0002, 4092,    898.0,   4.5821,  34.5422,2,-999.0000,9,    158.1,2,    29.31,2,    33.07,2,     0.00,9,     2.36,2, -999.000,9, -999.000,9, -999.000, -999.000,9,-999.0000,9,     2.48,2, -999.000,9,   4.5108
  06BE200011,  AR04,    12,  1,     15,     15,2,20001201,1938, -2.0832, -35.0002, 4092,    998.1,   4.3221,  34.5495,2,-999.0000,9,    164.2,2,    31.34,2,    33.30,2,     0.00,9,     2.35,2,    0.076,2,    0.039,2, -999.000,    0.010,9,-999.0000,9,  -999.00,9, -999.000,9,   4.2440
  06BE200011,  AR04,    12,  1,     14,     14,2,20001201,1938, -2.0832, -35.0002, 4092,   1199.6,   4.5414,  34.8422,2,-999.0000,9,    191.2,2,    22.90,2,    27.17,2,     0.00,9,     1.86,2,    0.071,2,    0.036,2, -999.000, -999.000,9,-999.0000,9,     3.70,2, -999.000,9,   4.4432
  06BE200011,  AR04,    12,  1,     13,     13,2,20001201,1938, -2.0832, -35.0002, 4092,   1392.8,   4.5088,  34.9685,2,-999.0000,9,   -999.0,9,  -999.00,9,  -999.00,9,  -999.00,9,  -999.00,9, -999.000,9, -999.000,9, -999.000, -999.000,9,-999.0000,9,  -999.00,9, -999.000,9,   4.3929
  06BE200011,  AR04,    12,  1,     12,     12,2,20001201,1938, -2.0832, -35.0002, 4092,   1397.5,   4.4711,  34.9678,2,  34.9645,2,    225.7,2,    17.49,2,    21.76,2,     0.00,9,     1.46,2, -999.000,9, -999.000,9, -999.000, -999.000,9,-999.0000,9,  -999.00,9, -999.000,9,   4.3552
  06BE200011,  AR04,    12,  1,     11,     11,2,20001201,1938, -2.0832, -35.0002, 4092,   1597.6,   4.1007,  34.9879,2,  34.9846,2,    246.2,2,    16.74,2,    19.45,2,     0.00,9,     1.30,2,    0.260,2,    0.132,2, -999.000, -999.000,9,-999.0000,9,     3.32,2, -999.000,9,   3.9703
  06BE200011,  AR04,    12,  1,     10,     10,2,20001201,1938, -2.0832, -35.0002, 4092,   1849.0,   3.7838,  34.9822,2,  34.9782,2,    254.1,2,  -999.00,9,  -999.00,9,  -999.00,9,  -999.00,9,    0.185,2,    0.094,2, -999.000, -999.000,9,-999.0000,9,  -999.00,9, -999.000,9,   3.6339
  06BE200011,  AR04,    12,  1,      9,      9,2,20001201,1938, -2.0832, -35.0002, 4092,   1997.2,   3.6816,  34.9800,2,-999.0000,9,    257.1,2,  -999.00,9,  -999.00,9,  -999.00,9,  -999.00,9,    0.213,2,    0.112,2, -999.000, -999.000,9,-999.0000,9,     3.55,2, -999.000,9,   3.5190
  06BE200011,  AR04,    12,  1,      8,      8,2,20001201,1938, -2.0832, -35.0002, 4092,   2248.6,   3.3189,  34.9641,2,-999.0000,9,    259.8,2,    19.03,2,    18.57,2,     0.00,9,     1.22,2, -999.000,9, -999.000,9, -999.000, -999.000,9,-999.0000,9,  -999.00,9, -999.000,9,   3.1378
  06BE200011,  AR04,    12,  1,      7,      7,2,20001201,1938, -2.0832, -35.0002, 4092,   2497.8,   3.0799,  34.9488,2,-999.0000,9,    256.7,2,    24.67,2,    19.21,2,     0.00,9,     1.27,2,    0.061,2,    0.034,2, -999.000,    0.008,9,-999.0000,9,  -999.00,9, -999.000,9,   2.8786
  06BE200011,  AR04,    12,  1,      6,      6,2,20001201,1938, -2.0832, -35.0002, 4092,   2799.5,   2.8334,  34.9376,2,-999.0000,9,    261.1,2,    25.63,2,    19.16,2,     0.00,9,     1.27,2,    0.101,2,    0.052,2, -999.000, -999.000,9,-999.0000,9,  -999.00,9, -999.000,9,   2.6068
  06BE200011,  AR04,    12,  1,      5,      5,2,20001201,1938, -2.0832, -35.0002, 4092,   2997.2,   2.7522,  34.9324,2,-999.0000,9,    262.4,2,    26.41,2,    19.24,2,     0.00,9,     1.28,2,    0.116,2,    0.060,2, -999.000, -999.000,9,-999.0000,9,  -999.00,9, -999.000,9,   2.5071
  06BE200011,  AR04,    12,  1,      4,      4,2,20001201,1938, -2.0832, -35.0002, 4092,   3197.9,   2.6352,  34.9233,2,  34.9198,2,    261.1,2,    28.94,2,    19.37,2,     0.00,9,     1.28,2,    0.095,2,    0.049,2, -999.000,    0.008,9,-999.0000,9,  -999.00,9, -999.000,9,   2.3718
  06BE200011,  AR04,    12,  1,      3,      3,2,20001201,1938, -2.0832, -35.0002, 4092,   3496.5,   2.5438,  34.9169,2,  34.9133,2,    262.8,2,    29.53,2,    18.88,2,     0.00,9,     1.28,2,    0.111,2,    0.046,2, -999.000, -999.000,9,-999.0000,9,     3.48,2, -999.000,9,   2.2506
  06BE200011,  AR04,    12,  1,      2,      2,2,20001201,1938, -2.0832, -35.0002, 4092,   3800.5,   2.4060,  34.9057,2,  34.9020,2,    264.6,2,    31.27,2,    18.82,2,     0.00,9,     1.25,2,    0.150,2,    0.081,2, -999.000, -999.000,9,-999.0000,9,  -999.00,9, -999.000,9,   2.0829
  06BE200011,  AR04,    12,  1,      1,      1,2,20001201,1938, -2.0832, -35.0002, 4092,   4090.7,   1.6284,  34.8167,2,  34.8162,2,    244.5,2,    66.35,2,    25.08,2,     0.01,2,     1.69,2,    0.031,2,    0.018,2, -999.000,    0.008,9,-999.0000,9,     3.29,2, -999.000,9,   1.2950
  06BE200011,  AR04,    13,  1,     22,     22,2,20001201,2352, -1.7497, -34.9995, 4153,      9.2,  26.6875,  36.2606,2,-999.0000,9,   -999.0,9,  -999.00,9,  -999.00,9,  -999.00,9,  -999.00,9, -999.000,9, -999.000,9, -999.000, -999.000,9,-999.0000,9,  -999.00,9, -999.000,9,  26.6854
  06BE200011,  AR04,    13,  1,     21,     21,2,20001201,2352, -1.7497, -34.9995, 4153,      9.8,  26.6901,  36.2604,2,  36.2567,2,    206.1,2,     1.47,2,     0.10,2,     0.01,2,     0.08,2,    1.628,2,    0.945,2, -999.000, -999.000,9,-999.0000,9,  -999.00,9, -999.000,9,  26.6879
  06BE200011,  AR04,    13,  1,     20,     20,2,20001201,2352, -1.7497, -34.9995, 4153,     97.0,  24.1007,  36.5431,2,-999.0000,9,    183.8,2,     1.87,2,     1.83,2,     0.13,2,     0.28,2, -999.000,9, -999.000,9, -999.000, -999.000,9,   1.7684,2,  -999.00,9, -999.000,9,  24.0801
  06BE200011,  AR04,    13,  1,     19,     19,2,20001201,2352, -1.7497, -34.9995, 4153,    198.3,  12.7687,  35.2422,2,-999.0000,9,     93.4,2,     9.32,2,    24.61,2,     0.01,2,     1.54,2, -999.000,9, -999.000,9, -999.000, -999.000,9,-999.0000,9,  -999.00,9, -999.000,9,  12.7417
  06BE200011,  AR04,    13,  1,     18,     18,2,20001201,2352, -1.7497, -34.9995, 4153,    398.2,   8.1110,  34.6970,2,-999.0000,9,    130.5,2,    16.05,2,    29.71,2,     0.01,2,     2.01,2, -999.000,9, -999.000,9, -999.000, -999.000,9,   1.7921,2,  -999.00,9,    7.776,2,   8.0700
  06BE200011,  AR04,    13,  1,     17,     17,2,20001201,2352, -1.7497, -34.9995, 4153,    597.5,   5.4657,  34.4834,2,  34.4767,2,    162.0,2,    24.42,2,    31.63,2,     0.00,9,     2.21,2, -999.000,9, -999.000,9, -999.000, -999.000,9,-999.0000,9,  -999.00,9,    7.832,2,   5.4155
  06BE200011,  AR04,    13,  1,     16,     16,2,20001201,2352, -1.7497, -34.9995, 4153,    800.8,   4.7504,  34.5131,2,  34.5096,2,    154.6,2,    28.63,2,    34.21,2,     0.00,9,     2.36,2, -999.000,9, -999.000,9, -999.000, -999.000,9,   1.8172,2,  -999.00,9, -999.000,9,   4.6864
  06BE200011,  AR04,    13,  1,     15,     15,2,20001201,2352, -1.7497, -34.9995, 4153,   1099.9,   4.5480,  34.7710,2,-999.0000,9,    175.9,2,    25.33,2,    29.26,2,     0.01,2,     2.00,2, -999.000,9, -999.000,9, -999.000, -999.000,9,-999.0000,9,  -999.00,9,    7.792,2,   4.4589
  06BE200011,  AR04,    13,  1,     14,     14,2,20001201,2352, -1.7497, -34.9995, 4153,   1298.4,   4.5298,  34.8937,2,-999.0000,9,    201.7,2,    20.99,2,    25.13,2,     0.00,9,     1.71,2,    0.077,2,    0.042,2, -999.000, -999.000,9,-999.0000,9,  -999.00,9, -999.000,9,   4.4226
  06BE200011,  AR04,    13,  1,     13,     13,2,20001201,2352, -1.7497, -34.9995, 4153,   1446.7,   4.4494,  34.9632,2,-999.0000,9,    226.6,2,    17.65,2,    21.58,2,     0.00,9,     1.47,2,    0.218,2,    0.114,2, -999.000, -999.000,9,-999.0000,9,  -999.00,9, -999.000,9,   4.3291
  06BE200011,  AR04,    13,  1,     12,     12,2,20001201,2352, -1.7497, -34.9995, 4153,   1598.7,   4.1924,  34.9843,2,-999.0000,9,    242.3,2,    16.54,2,    19.88,2,     0.00,9,     1.33,2,    0.222,2,    0.115,2, -999.000, -999.000,9,-999.0000,9,  -999.00,9,    7.867,2,   4.0608
  06BE200011,  AR04,    13,  1,     11,     11,2,20001201,2352, -1.7497, -34.9995, 4153,   1747.8,   3.9273,  34.9853,2,  34.9820,2,    251.9,2,    16.23,2,    18.74,2,     0.00,9,     1.26,2,    0.237,2,    0.125,2, -999.000, -999.000,9,   1.8144,2,  -999.00,9, -999.000,9,   3.7850
  06BE200011,  AR04,    13,  1,     10,     10,2,20001201,2352, -1.7497, -34.9995, 4153,   1898.8,   3.7335,  34.9809,2,-999.0000,9,    255.0,2,    17.30,2,    18.69,2,     0.01,2,     1.24,2,    0.163,2,    0.086,2, -999.000, -999.000,9,-999.0000,9,  -999.00,9,    7.958,2,   3.5795
  06BE200011,  AR04,    13,  1,      9,      9,2,20001201,2352, -1.7497, -34.9995, 4153,   2097.7,   3.4822,  34.9733,2,-999.0000,9,    260.6,2,    18.28,2,    18.50,2,     0.00,9,     1.20,2, -999.000,9, -999.000,9, -999.000, -999.000,9,-999.0000,9,  -999.00,9, -999.000,9,   3.3130
  06BE200011,  AR04,    13,  1,      8,      8,2,20001201,2352, -1.7497, -34.9995, 4153,   2399.2,   3.2038,  34.9581,2,-999.0000,9,    258.5,2,    22.08,2,    18.61,2,     0.00,9,     1.23,2, -999.000,9, -999.000,9, -999.000, -999.000,9,   1.8063,2,  -999.00,9, -999.000,9,   3.0100
  06BE200011,  AR04,    13,  1,      7,      7,2,20001201,2352, -1.7497, -34.9995, 4153,   2696.4,   2.9583,  34.9448,2,  34.9435,2,    261.1,2,    24.32,2,    18.66,2,     0.00,9,     1.25,2,    0.106,2,    0.055,2, -999.000, -999.000,9,-999.0000,9,  -999.00,9, -999.000,9,   2.7396
  06BE200011,  AR04,    13,  1,      6,      6,2,20001201,2352, -1.7497, -34.9995, 4153,   2999.7,   2.7661,  34.9330,2,-999.0000,9,    262.4,2,    26.39,2,    18.87,2,     0.01,2,     1.28,2,    0.107,2,    0.057,2, -999.000, -999.000,9,-999.0000,9,  -999.00,9, -999.000,9,   2.5204
  06BE200011,  AR04,    13,  1,      5,      5,2,20001201,2352, -1.7497, -34.9995, 4153,   3299.3,   2.6631,  34.9252,2,-999.0000,9,    262.0,2,    27.25,2,    18.89,2,     0.00,9,     1.27,2,    0.117,2,    0.062,2, -999.000, -999.000,9,   1.8116,2,  -999.00,9, -999.000,9,   2.3882
  06BE200011,  AR04,    13,  1,      4,      4,2,20001201,2352, -1.7497, -34.9995, 4153,   3597.2,   2.4855,  34.9127,2,-999.0000,9,    264.6,2,    29.37,2,    19.24,2,     0.00,9,     1.27,2,    0.143,2,    0.076,2, -999.000, -999.000,9,-999.0000,9,  -999.00,9,    7.998,2,   2.1828
  06BE200011,  AR04,    13,  1,      3,      3,2,20001201,2352, -1.7497, -34.9995, 4153,   3800.1,   2.2914,  34.8963,2,  34.8941,2,    264.1,2,    33.47,2,    19.46,2,     0.01,2,     1.28,2, -999.000,9, -999.000,9, -999.000, -999.000,9,-999.0000,9,  -999.00,9, -999.000,9,   1.9714
  06BE200011,  AR04,    13,  1,      2,      2,2,20001201,2352, -1.7497, -34.9995, 4153,   4048.7,   1.5810,  34.8123,2,  34.8136,2,    244.9,2,    66.36,2,    24.17,2,     0.01,2,     1.68,2,    0.029,2,    0.018,2, -999.000, -999.000,9,   1.8317,2,  -999.00,9,    8.023,2,   1.2536
  06BE200011,  AR04,    13,  1,      1,      1,2,20001201,2352, -1.7497, -34.9995, 4153,   4151.2,   1.5165,  34.8032,2,  34.8040,2,    244.1,2,    70.99,2,    24.98,2,     0.01,2,     1.77,2,    0.026,2,    0.016,2, -999.000, -999.000,9,-999.0000,9,  -999.00,9, -999.000,9,   1.1797
  06BE200011,  AR04,    15,  1,     22,     22,2,20001202,0733, -1.3007, -35.0003, 4412,     10.6,  26.3353,  36.1774,2,-999.0000,9,    203.4,2,     1.24,2,     0.06,2,     0.01,2,     0.08,2,    1.681,2,    0.947,2, -999.000, -999.000,9,-999.0000,9,  -999.00,9, -999.000,9,  26.3329
  06BE200011,  AR04,    15,  1,     21,     21,2,20001202,0733, -1.3007, -35.0003, 4412,    100.9,  24.5660,  36.8214,2,  36.8168,2,    196.4,2,     1.13,2,     0.50,2,     0.12,2,     0.19,2,    1.760,2,    1.043,2, -999.000, -999.000,9,-999.0000,9,  -999.00,9, -999.000,9,  24.5442
  06BE200011,  AR04,    15,  1,     20,     20,2,20001202,0733, -1.3007, -35.0003, 4412,    396.0,   7.7803,  34.6775,2,-999.0000,9,    133.6,2,    16.77,2,    29.39,2,     0.00,9,     1.92,2, -999.000,9, -999.000,9, -999.000, -999.000,9,-999.0000,9,     1.52,2, -999.000,9,   7.7405
  06BE200011,  AR04,    15,  1,     19,     19,2,20001202,0733, -1.3007, -35.0003, 4412,    598.1,   5.5254,  34.5117,2,-999.0000,9,    148.9,2,    24.82,2,    33.17,2,     0.00,9,     2.22,2, -999.000,9, -999.000,9, -999.000, -999.000,9,-999.0000,9,  -999.00,9, -999.000,9,   5.4749
  06BE200011,  AR04,    15,  1,     18,     18,2,20001202,0733, -1.3007, -35.0003, 4412,    799.8,   4.6836,  34.5179,2,-999.0000,9,    155.0,2,    29.54,2,    33.77,2,     0.00,9,     2.37,2, -999.000,9, -999.000,9, -999.000, -999.000,9,-999.0000,9,     2.11,2, -999.000,9,   4.6200
  06BE200011,  AR04,    15,  1,     17,     17,2,20001202,0733, -1.3007, -35.0003, 4412,    998.8,   4.4712,  34.6301,2,-999.0000,9,    163.7,2,    28.87,2,    31.95,2,     0.00,9,     2.25,2,    0.040,2,    0.021,2, -999.000, -999.000,9,-999.0000,9,  -999.00,9, -999.000,9,   4.3918
  06BE200011,  AR04,    15,  1,     16,     16,2,20001202,0733, -1.3007, -35.0003, 4412,   1295.7,   4.5151,  34.8858,2,  34.9819,2,   -999.0,9,    19.32,2,    23.31,2,     0.01,2,     1.62,2, -999.000,9, -999.000,9, -999.000, -999.000,9,-999.0000,9,     2.51,2, -999.000,9,   4.4081
  06BE200011,  AR04,    15,  1,     15,     15,2,20001202,0733, -1.3007, -35.0003, 4412,   1546.3,   4.2030,  34.9849,2,-999.0000,9,    241.4,2,    16.07,2,    19.83,2,     0.00,9,     1.33,2,    0.234,2,    0.121,2,    0.197, -999.000,2,-999.0000,9,  -999.00,9, -999.000,9,   4.0761
  06BE200011,  AR04,    15,  1,     14,     14,2,20001202,0733, -1.3007, -35.0003, 4412,   1698.0,   4.0114,  34.9870,2,  34.9815,2,    249.3,2,    16.05,2,    18.97,2,     0.00,9,     1.25,2,    0.267,2,    0.137,2,    0.202, -999.000,2,-999.0000,9,  -999.00,9, -999.000,9,   3.8727
  06BE200011,  AR04,    15,  1,     13,     13,2,20001202,0733, -1.3007, -35.0003, 4412,   1848.8,   3.8238,  34.9847,2,-999.0000,9,    254.1,2,    16.40,2,    18.32,2,     0.00,9,     1.24,2,    0.247,2,    0.129,2, -999.000, -999.000,9,-999.0000,9,  -999.00,9, -999.000,9,   3.6733
  06BE200011,  AR04,    15,  1,     12,     12,2,20001202,0733, -1.3007, -35.0003, 4412,   1997.8,   3.6288,  34.9746,2,-999.0000,9,    252.8,2,    19.15,2,    18.62,2,     0.00,9,     1.26,2, -999.000,9, -999.000,9,    0.092, -999.000,2,-999.0000,9,  -999.00,9, -999.000,9,   3.4669
  06BE200011,  AR04,    15,  1,     11,     11,2,20001202,0733, -1.3007, -35.0003, 4412,   2247.5,   3.3431,  34.9650,2,-999.0000,9,    258.5,2,    20.86,2,    18.38,2,     0.00,9,     1.22,2,    0.147,2,    0.077,2, -999.000, -999.000,9,-999.0000,9,     3.17,2, -999.000,9,   3.1617
  06BE200011,  AR04,    15,  1,     10,     10,2,20001202,0733, -1.3007, -35.0003, 4412,   2500.0,   3.0612,  34.9519,2,-999.0000,9,    260.2,2,    23.52,2,    18.65,2,     0.02,2,     1.25,2,    0.107,2,    0.055,2, -999.000, -999.000,9,-999.0000,9,  -999.00,9, -999.000,9,   2.8601
  06BE200011,  AR04,    15,  1,      9,      9,2,20001202,0733, -1.3007, -35.0003, 4412,   2748.3,   2.8205,  34.9380,2,-999.0000,9,    261.1,2,    25.36,2,    18.93,2,     0.02,2,     1.25,2,    0.107,2,    0.054,2,    0.095, -999.000,2,-999.0000,9,  -999.00,9, -999.000,9,   2.5993
  06BE200011,  AR04,    15,  1,      8,      8,2,20001202,0733, -1.3007, -35.0003, 4412,   2998.7,   2.7392,  34.9303,2,  34.9263,2,   -999.0,9,    27.66,2,    19.17,2,     0.01,2,     1.28,2, -999.000,9, -999.000,9, -999.000, -999.000,9,-999.0000,9,     3.15,2, -999.000,9,   2.4942
  06BE200011,  AR04,    15,  1,      7,      7,2,20001202,0733, -1.3007, -35.0003, 4412,   3197.6,   2.5766,  34.9206,2,-999.0000,9,    262.0,2,    28.67,2,    18.84,2,     0.00,9,     1.29,2,    0.115,2,    0.059,2, -999.000, -999.000,9,-999.0000,9,  -999.00,9, -999.000,9,   2.3145
  06BE200011,  AR04,    15,  1,      6,      6,2,20001202,0733, -1.3007, -35.0003, 4412,   3397.1,   2.4927,  34.9149,2,  34.9132,2,    263.7,2,    29.15,2,    18.68,2,     0.00,9,     1.26,2,    0.130,2,    0.064,2,    0.105, -999.000,2,-999.0000,9,  -999.00,9, -999.000,9,   2.2115
  06BE200011,  AR04,    15,  1,      5,      5,2,20001202,0733, -1.3007, -35.0003, 4412,   3599.6,   2.4235,  34.9099,2,-999.0000,9,    265.0,2,    29.42,2,    18.51,2,     0.01,2,     1.25,2,    0.164,2,    0.084,2, -999.000, -999.000,9,-999.0000,9,     3.03,2, -999.000,9,   2.1221
  06BE200011,  AR04,    15,  1,      4,      4,2,20001202,0733, -1.3007, -35.0003, 4412,   3798.1,   2.3582,  34.9042,2,  34.9013,2,    265.5,2,    30.31,2,    18.73,2,     0.01,2,     1.25,2,    0.177,2,    0.090,2,    0.157, -999.000,2,-999.0000,9,  -999.00,9, -999.000,9,   2.0366
  06BE200011,  AR04,    15,  1,      3,      3,2,20001202,0733, -1.3007, -35.0003, 4412,   3997.8,   2.0682,  34.8706,2,-999.0000,9,    258.0,2,    44.08,2,    21.20,2,     0.01,2,     1.40,2,    0.111,2,    0.058,2, -999.000, -999.000,9,-999.0000,9,  -999.00,9, -999.000,9,   1.7324
  06BE200011,  AR04,    15,  1,      2,      2,2,20001202,0733, -1.3007, -35.0003, 4412,   4201.5,   1.4058,  34.7917,2,-999.0000,9,    238.4,2,    77.13,2,    26.16,2,     0.02,2,     1.82,2,    0.032,2,    0.015,2, -999.000, -999.000,9,-999.0000,9,     3.97,2, -999.000,9,   1.0667
  06BE200011,  AR04,    15,  1,      1,      1,2,20001202,0733, -1.3007, -35.0003, 4412,   4408.9,   1.1028,  34.7574,2,  34.7564,2,    232.7,2,    89.63,2,    27.94,2,     0.03,2,     2.02,2,    0.030,2,    0.016,2,    0.013, -999.000,2,-999.0000,9,  -999.00,9, -999.000,9,   0.7499