BOTTLE,20111027CCHDOSIOCBG
EXPOCODE,SECT_ID,STNNBR,CASTNO,SAMPNO,BTLNBR,BTLNBR_FLAG_W,DATE,TIME,LATITUDE,LONGITUDE,DEPTH,CTDPRS,CTDTMP,CTDSAL,CTDSAL_FLAG_W,SALNTY,SALNTY_FLAG_W,OXYGEN,OXYGEN_FLAG_W,SILCAT,SILCAT_FLAG_W,NITRAT,NITRAT_FLAG_W,NITRIT,NITRIT_FLAG_W,PHSPHT,PHSPHT_FLAG_W,CFC-11,CFC-11_FLAG_W,CFC-12,CFC-12_FLAG_W,TRITUM,TRITER,TRITUM_FLAG_W,HELIUM,HELIUM_FLAG_W,DELHE3,DELHE3_FLAG_W,NEON,NEON_FLAG_W,THETA
,,,,,,,,,,,METERS,DBAR,ITS-90,PSS-78,,PSS-78,,UMOL/KG,,UMOL/KG,,UMOL/KG,,UMOL/KG,,UMOL/KG,,PMOL/KG,,PMOL/KG,,TU,TU,,NMOL/KG,,PERCNT,,NMOL/KG,,DEG C
  06BE200011,  AR04,    36,  1,     22,     22,2,20001206,1246,  6.0030, -35.0542, 4307,     10.4,  27.7898,  35.9240,2,-999.0000,9,    195.6,2,     1.45,2,     0.16,2,     0.06,2,     0.03,2,    1.440,2,    0.868,2, -999.000, -999.000,9,-999.0000,9,  -999.00,9, -999.000,9,  27.7874
  06BE200011,  AR04,    36,  1,     21,     21,2,20001206,1246,  6.0030, -35.0542, 4307,    101.8,  25.6966,  36.1902,2,-999.0000,9,    201.3,2,     1.92,2,     0.81,2,     0.27,2,     0.42,2, -999.000,9, -999.000,9, -999.000, -999.000,9,-999.0000,9,  -999.00,9, -999.000,9,  25.6740
  06BE200011,  AR04,    36,  1,     20,     20,2,20001206,1246,  6.0030, -35.0542, 4307,    297.7,   8.9458,  34.8120,2,-999.0000,9,    117.0,2,    15.40,2,    29.06,2,     0.01,2,     1.82,2, -999.000,9, -999.000,9, -999.000, -999.000,9,-999.0000,9,  -999.00,9, -999.000,9,   8.9135
  06BE200011,  AR04,    36,  1,     19,     19,2,20001206,1246,  6.0030, -35.0542, 4307,    498.5,   7.1017,  34.6659,2,-999.0000,9,    107.8,2,    20.89,2,    33.96,2,     0.00,9,     2.20,2, -999.000,9, -999.000,9, -999.000, -999.000,9,-999.0000,9,  -999.00,9, -999.000,9,   7.0539
  06BE200011,  AR04,    36,  1,     18,     18,2,20001206,1246,  6.0030, -35.0542, 4307,    897.9,   4.9562,  34.6264,2,-999.0000,9,    144.1,2,    28.98,2,    33.17,2,     0.01,2,     2.26,2,    0.037,2,    0.021,2, -999.000, -999.000,9,-999.0000,9,  -999.00,9, -999.000,9,   4.8822
  06BE200011,  AR04,    36,  1,     17,     17,2,20001206,1246,  6.0030, -35.0542, 4307,   1089.9,   4.8740,  34.8095,2,-999.0000,9,    167.2,2,    25.25,2,    29.05,2,     0.02,2,     1.99,2,    0.032,2,    0.018,2, -999.000, -999.000,9,-999.0000,9,  -999.00,9, -999.000,9,   4.7830
  06BE200011,  AR04,    36,  1,     16,     16,2,20001206,1246,  6.0030, -35.0542, 4307,   1297.1,   4.6458,  34.9313,2,  34.9307,2,    201.7,2,    20.79,2,    24.19,2,     0.01,2,     1.63,2,    0.079,2,    0.042,2, -999.000, -999.000,9,-999.0000,9,  -999.00,9, -999.000,9,   4.5375
  06BE200011,  AR04,    36,  1,     15,     15,2,20001206,1246,  6.0030, -35.0542, 4307,   1448.7,   4.4247,  34.9746,2,  34.9703,2,    225.3,2,    18.16,2,    21.47,2,     0.01,2,     1.43,2,    0.096,2,    0.050,2, -999.000, -999.000,9,   1.8065,2,  -999.00,9, -999.000,9,   4.3045
  06BE200011,  AR04,    36,  1,     14,     14,2,20001206,1246,  6.0030, -35.0542, 4307,   1596.6,   4.2144,  34.9832,2,-999.0000,9,    236.2,2,    17.37,2,    20.42,2,     0.01,2,     1.33,2,    0.124,2,    0.068,2,    0.043, -999.000,2,-999.0000,9,  -999.00,9,    7.747,2,   4.0827
  06BE200011,  AR04,    36,  1,     13,     13,2,20001206,1246,  6.0030, -35.0542, 4307,   1748.5,   3.9853,  34.9829,2,-999.0000,9,    244.0,2,    17.75,2,    19.72,2,     0.01,2,     1.31,2,    0.102,2,    0.055,2,    0.113, -999.000,2,   1.8259,2,  -999.00,9, -999.000,9,   3.8421
  06BE200011,  AR04,    36,  1,     12,     12,2,20001206,1246,  6.0030, -35.0542, 4307,   1898.3,   3.7172,  34.9751,2,-999.0000,9,    248.4,2,    19.46,2,    19.63,2,     0.01,2,     1.26,2,    0.057,2,    0.032,2, -999.000, -999.000,9,   1.8145,2,  -999.00,9,    7.789,2,   3.5635
  06BE200011,  AR04,    36,  1,     11,     11,2,20001206,1246,  6.0030, -35.0542, 4307,   1996.4,   3.6128,  34.9721,2,-999.0000,9,    249.7,2,    20.16,2,    19.48,2,     0.01,2,     1.27,2,    0.057,2,    0.032,2,    0.147, -999.000,2,   1.8027,2,  -999.00,9,    7.822,2,   3.4513
  06BE200011,  AR04,    36,  1,     10,     10,2,20001206,1246,  6.0030, -35.0542, 4307,   2201.4,   3.3657,  34.9632,2,  34.9773,2,   -999.0,9,    21.46,2,    19.72,2,     0.05,2,     1.27,2, -999.000,9, -999.000,9, -999.000, -999.000,9,-999.0000,9,  -999.00,9,    7.899,2,   3.1884
  06BE200011,  AR04,    36,  1,      9,      9,2,20001206,1246,  6.0030, -35.0542, 4307,   2398.7,   3.1739,  34.9550,2,-999.0000,9,    255.0,2,    24.15,2,    19.23,2,     0.01,2,     1.25,2,    0.034,2,    0.018,2,    0.089, -999.000,2,-999.0000,9,  -999.00,9, -999.000,9,   2.9807
  06BE200011,  AR04,    36,  1,      8,      8,2,20001206,1246,  6.0030, -35.0542, 4307,   2597.4,   2.9645,  34.9440,2,-999.0000,9,    256.7,2,    26.46,2,    19.05,2,     0.01,2,     1.27,2,    0.030,2,    0.017,2,    0.059, -999.000,2,-999.0000,9,  -999.00,9, -999.000,9,   2.7555
  06BE200011,  AR04,    36,  1,      7,      7,2,20001206,1246,  6.0030, -35.0542, 4307,   2797.7,   2.8205,  34.9346,2,-999.0000,9,    257.1,2,    28.96,2,    19.31,2,     0.05,2,     1.27,2,    0.027,2,    0.014,2, -999.000, -999.000,9,-999.0000,9,  -999.00,9, -999.000,9,   2.5943
  06BE200011,  AR04,    36,  1,      6,      6,2,20001206,1246,  6.0030, -35.0542, 4307,   2996.5,   2.7370,  34.9274,2,-999.0000,9,    256.3,2,    30.63,2,    19.50,2,     0.02,2,     1.28,2,    0.033,2,    0.016,2,    0.033, -999.000,2,-999.0000,9,  -999.00,9, -999.000,9,   2.4923
  06BE200011,  AR04,    36,  1,      5,      5,2,20001206,1246,  6.0030, -35.0542, 4307,   3301.8,   2.5880,  34.9150,2,  34.9146,2,    256.3,2,    33.96,2,    20.07,2,     0.01,2,     1.35,2,    0.034,2,    0.017,2, -999.000, -999.000,9,   1.8143,2,  -999.00,9,    7.992,2,   2.3147
  06BE200011,  AR04,    36,  1,      4,      4,2,20001206,1246,  6.0030, -35.0542, 4307,   3599.5,   2.4414,  34.9011,2,  34.8975,2,    255.8,2,    38.12,2,    20.39,2,     0.01,2,     1.33,2,    0.035,2,    0.020,2,    0.030, -999.000,2,-999.0000,9,  -999.00,9,    8.067,2,   2.1396
  06BE200011,  AR04,    36,  1,      3,      3,2,20001206,1246,  6.0030, -35.0542, 4307,   3905.9,   2.1860,  34.8774,2,  34.8741,2,    253.2,2,    45.79,2,    21.22,2,     0.01,2,     1.43,2,    0.051,2,    0.029,2, -999.000, -999.000,9,   1.8454,2,  -999.00,9,    7.987,2,   1.8572
  06BE200011,  AR04,    36,  1,      2,      2,2,20001206,1246,  6.0030, -35.0542, 4307,   4101.9,   2.1154,  34.8692,2,  34.8666,2,    253.2,2,    48.32,2,    21.64,2,     0.02,2,     1.42,2,    0.051,2,    0.027,2,    0.046, -999.000,2,-999.0000,9,  -999.00,9, -999.000,9,   1.7665
  06BE200011,  AR04,    36,  1,      1,      1,2,20001206,1246,  6.0030, -35.0542, 4307,   4305.2,   2.1124,  34.8668,2,  34.8678,2,    252.8,2,    49.10,2,    21.70,2,     0.00,9,     1.44,2,    0.055,2,    0.030,2,    0.054, -999.000,2,   1.8419,2,  -999.00,9,    7.999,2,   1.7401
  06BE200011,  AR04,    37,  1,     22,     22,2,20001206,1815,  6.5500, -35.0585, 3641,      9.3,  27.6683,  36.0910,2,-999.0000,9,    201.7,2,     1.15,2,     0.14,2,     0.01,2,     0.01,2,    1.515,2,    0.911,2, -999.000, -999.000,9,-999.0000,9,  -999.00,9, -999.000,9,  27.6661
  06BE200011,  AR04,    37,  1,     21,     21,2,20001206,1815,  6.5500, -35.0585, 3641,    100.1,  19.5431,  36.1993,2,-999.0000,9,    135.6,2,     4.36,2,    10.37,2,     0.07,2,     0.58,2, -999.000,9, -999.000,9, -999.000, -999.000,9,-999.0000,9,  -999.00,9, -999.000,9,  19.5248
  06BE200011,  AR04,    37,  1,     20,     20,2,20001206,1815,  6.5500, -35.0585, 3641,    195.7,  10.2372,  34.9564,2,-999.0000,9,    133.1,2,    11.97,2,    24.40,2,     0.01,2,     1.53,2, -999.000,9, -999.000,9, -999.000, -999.000,9,-999.0000,9,  -999.00,9, -999.000,9,  10.2142
  06BE200011,  AR04,    37,  1,     19,     19,2,20001206,1815,  6.5500, -35.0585, 3641,    296.2,   9.5108,  34.9011,2,-999.0000,9,   -999.0,9,  -999.00,9,  -999.00,9,  -999.00,9,  -999.00,9, -999.000,9, -999.000,9, -999.000, -999.000,9,-999.0000,9,  -999.00,9, -999.000,9,   9.4774
  06BE200011,  AR04,    37,  1,     18,     18,2,20001206,1815,  6.5500, -35.0585, 3641,    497.6,   7.2669,  34.7020,2,-999.0000,9,    108.3,2,    20.42,2,    33.47,2,     0.01,2,     2.13,2, -999.000,9, -999.000,9, -999.000, -999.000,9,-999.0000,9,  -999.00,9, -999.000,9,   7.2185
  06BE200011,  AR04,    37,  1,     17,     17,2,20001206,1815,  6.5500, -35.0585, 3641,    696.6,   6.0146,  34.6417,2,-999.0000,9,    117.0,2,    25.13,2,    35.03,2,     0.01,2,     2.27,2, -999.000,9, -999.000,9, -999.000, -999.000,9,-999.0000,9,  -999.00,9, -999.000,9,   5.9525
  06BE200011,  AR04,    37,  1,     16,     16,2,20001206,1815,  6.5500, -35.0585, 3641,    895.3,   5.0857,  34.6385,2,-999.0000,9,    139.7,2,    28.29,2,    33.55,2,     0.01,2,     2.20,2,    0.029,2,    0.016,2, -999.000, -999.000,9,-999.0000,9,  -999.00,9, -999.000,9,   5.0110
  06BE200011,  AR04,    37,  1,     15,     15,2,20001206,1815,  6.5500, -35.0585, 3641,   1098.5,   4.8358,  34.8044,2,  36.0819,2,    165.5,2,    25.58,2,    29.59,2,     0.01,2,     1.97,2, -999.000,9, -999.000,9, -999.000, -999.000,9,-999.0000,9,     1.84,2, -999.000,9,   4.7420
  06BE200011,  AR04,    37,  1,     14,     14,2,20001206,1815,  6.5500, -35.0585, 3641,   1298.4,   4.6946,  34.9274,2,-999.0000,9,   -999.0,9,    17.53,2,    20.55,2,     0.05,2,     1.27,2,    0.081,2,    0.042,2, -999.000,    0.002,9,-999.0000,9,  -999.00,9, -999.000,9,   4.5857
  06BE200011,  AR04,    37,  1,     13,     13,2,20001206,1815,  6.5500, -35.0585, 3641,   1547.0,   4.2481,  34.9766,2,  34.9713,2,    233.1,2,    17.78,2,    20.74,2,     0.00,9,     1.35,2,    0.105,2,    0.056,2, -999.000,    0.004,9,-999.0000,9,     3.35,2, -999.000,9,   4.1207
  06BE200011,  AR04,    37,  1,     12,     12,2,20001206,1815,  6.5500, -35.0585, 3641,   1695.6,   3.9869,  34.9831,2,-999.0000,9,    244.5,2,    17.65,2,    19.52,2,     0.02,2,     1.29,2, -999.000,9, -999.000,9, -999.000, -999.000,9,-999.0000,9,     3.87,2, -999.000,9,   3.8487
  06BE200011,  AR04,    37,  1,     11,     11,2,20001206,1815,  6.5500, -35.0585, 3641,   1698.3,   3.9869,  34.9829,2,-999.0000,9,    245.8,2,    17.77,2,    19.68,2,     0.00,9,     1.22,2,    0.103,2,    0.056,2, -999.000,    0.013,9,-999.0000,9,     3.03,2, -999.000,9,   3.8485
  06BE200011,  AR04,    37,  1,     10,     10,2,20001206,1815,  6.5500, -35.0585, 3641,   1850.1,   3.8153,  34.9782,2,  34.9705,2,    247.5,2,    18.70,2,    19.70,2,     0.01,2,     1.26,2,    0.071,2,    0.039,2, -999.000, -999.000,9,-999.0000,9,  -999.00,9, -999.000,9,   3.6648
  06BE200011,  AR04,    37,  1,      9,      9,2,20001206,1815,  6.5500, -35.0585, 3641,   1997.7,   3.6644,  34.9771,2,  34.9725,2,    252.8,2,    18.95,2,    19.08,2,     0.00,9,     1.24,2,    0.087,2,    0.049,2, -999.000,    0.004,9,-999.0000,9,  -999.00,9, -999.000,9,   3.5020
  06BE200011,  AR04,    37,  1,      8,      8,2,20001206,1815,  6.5500, -35.0585, 3641,   2194.9,   3.3847,  34.9637,2,  34.9597,2,    253.2,2,    22.29,2,    19.42,2,     0.00,9,     1.25,2,    0.038,2,    0.021,2, -999.000,    0.057,9,-999.0000,9,  -999.00,9, -999.000,9,   3.2077
  06BE200011,  AR04,    37,  1,      7,      7,2,20001206,1815,  6.5500, -35.0585, 3641,   2399.7,   3.0940,  34.9488,2,  34.9438,2,    254.5,2,    25.99,2,    19.60,2,     0.00,9,     1.24,2,    0.025,2,    0.013,2, -999.000, -999.000,9,-999.0000,9,  -999.00,9, -999.000,9,   2.9021
  06BE200011,  AR04,    37,  1,      6,      6,2,20001206,1815,  6.5500, -35.0585, 3641,   2597.0,   2.9496,  34.9414,2,-999.0000,9,    256.3,2,    27.89,2,    19.62,2,     0.01,2,     1.26,2,    0.024,2,    0.013,2, -999.000,    0.002,9,-999.0000,9,  -999.00,9, -999.000,9,   2.7410
  06BE200011,  AR04,    37,  1,      5,      5,2,20001206,1815,  6.5500, -35.0585, 3641,   2798.6,   2.8833,  34.9372,2,-999.0000,9,    256.7,2,    28.52,2,    19.55,2,     0.00,9,     1.25,2,    0.029,2,    0.015,2, -999.000, -999.000,9,-999.0000,9,     2.90,2, -999.000,9,   2.6558
  06BE200011,  AR04,    37,  1,      4,      4,2,20001206,1815,  6.5500, -35.0585, 3641,   2997.2,   2.7483,  34.9279,2,-999.0000,9,    257.1,2,    31.03,2,    19.82,2,     0.00,9,     1.29,2,    0.031,2,    0.016,2, -999.000,    0.002,9,-999.0000,9,  -999.00,9, -999.000,9,   2.5033
  06BE200011,  AR04,    37,  1,      3,      3,2,20001206,1815,  6.5500, -35.0585, 3641,   3247.6,   2.6024,  34.9162,2,  34.9165,2,    257.2,2,    34.08,2,    19.99,2,     0.01,2,     1.30,2,    0.034,2,    0.018,2, -999.000, -999.000,9,-999.0000,9,     3.28,2, -999.000,9,   2.3345
  06BE200011,  AR04,    37,  1,      2,      2,2,20001206,1815,  6.5500, -35.0585, 3641,   3526.0,   2.4390,  34.9023,2,-999.0000,9,    257.2,2,    37.47,2,    20.46,2,     0.00,9,     1.34,2,    0.046,2,    0.024,2, -999.000,    0.003,9,-999.0000,9,  -999.00,9, -999.000,9,   2.1453
  06BE200011,  AR04,    37,  1,      1,      1,2,20001206,1815,  6.5500, -35.0585, 3641,   3638.4,   2.3465,  34.8934,2,  34.8928,2,    256.3,2,    40.39,2,    20.60,2,     0.00,9,     1.36,2,    0.045,2,    0.026,2, -999.000,    0.002,9,-999.0000,9,     3.57,2, -999.000,9,   2.0429
  06BE200011,  AR04,    38,  1,     21,     21,2,20001206,2315,  7.0842, -35.0813, 3203,    100.4,  12.6404,  35.2859,2,-999.0000,9,    133.9,2,     9.15,2,    20.08,2,     0.08,2,     1.29,2, -999.000,9, -999.000,9, -999.000, -999.000,9,-999.0000,9,  -999.00,9, -999.000,9,  12.6269
  06BE200011,  AR04,    38,  1,     20,     20,2,20001206,2315,  7.0842, -35.0813, 3203,    298.0,   9.3540,  34.8888,2,-999.0000,9,    104.3,2,    15.14,2,    29.63,2,     0.04,2,     1.88,2, -999.000,9, -999.000,9, -999.000, -999.000,9,-999.0000,9,  -999.00,9, -999.000,9,   9.3207
  06BE200011,  AR04,    38,  1,     19,     19,2,20001206,2315,  7.0842, -35.0813, 3203,    396.9,   8.4695,  34.8051,2,-999.0000,9,   -999.0,9,  -999.00,9,  -999.00,9,  -999.00,9,  -999.00,9, -999.000,9, -999.000,9, -999.000, -999.000,9,-999.0000,9,  -999.00,9, -999.000,9,   8.4275
  06BE200011,  AR04,    38,  1,     18,     18,2,20001206,2315,  7.0842, -35.0813, 3203,    596.7,   6.3669,  34.6407,2,-999.0000,9,    115.7,2,    23.75,2,    34.48,2,     0.04,2,     2.28,2, -999.000,9, -999.000,9, -999.000, -999.000,9,-999.0000,9,  -999.00,9, -999.000,9,   6.3126
  06BE200011,  AR04,    38,  1,     17,     17,2,20001206,2315,  7.0842, -35.0813, 3203,    799.2,   5.5565,  34.6431,2,-999.0000,9,    117.9,2,    27.47,2,    35.25,2,     0.01,2,     2.38,2, -999.000,9, -999.000,9, -999.000, -999.000,9,-999.0000,9,  -999.00,9, -999.000,9,   5.4875
  06BE200011,  AR04,    38,  1,     16,     16,2,20001206,2315,  7.0842, -35.0813, 3203,    896.7,   5.0775,  34.6560,2,-999.0000,9,    137.1,2,    28.64,2,    33.83,2,     0.02,2,     2.31,2, -999.000,9, -999.000,9,    0.018, -999.000,2,-999.0000,9,  -999.00,9, -999.000,9,   5.0027
  06BE200011,  AR04,    38,  1,     15,     15,2,20001206,2315,  7.0842, -35.0813, 3203,    997.2,   4.8938,  34.7048,2,-999.0000,9,    147.6,2,    28.16,2,    32.18,2,     0.01,2,     2.20,2,    0.012,2,    0.005,2,    0.026, -999.000,2,-999.0000,9,  -999.00,9,    7.795,2,   4.8112
  06BE200011,  AR04,    38,  1,     14,     14,2,20001206,2315,  7.0842, -35.0813, 3203,   1200.5,   4.7592,  34.8692,2,  34.8673,2,    181.6,2,    23.49,2,    26.62,2,     0.00,9,     1.79,2,    0.038,2,    0.021,2, -999.000, -999.000,9,   1.8038,2,  -999.00,9, -999.000,9,   4.6589
  06BE200011,  AR04,    38,  1,     13,     13,2,20001206,2315,  7.0842, -35.0813, 3203,   1399.1,   4.5395,  34.9524,2,  34.9503,2,    215.7,2,    19.55,2,    22.54,2,     0.00,9,     1.50,2,    0.093,2,    0.049,2,    0.115, -999.000,2,   1.8117,2,  -999.00,9,    7.885,2,   4.4228
  06BE200011,  AR04,    38,  1,     12,     12,2,20001206,2315,  7.0842, -35.0813, 3203,   1598.4,   4.1903,  34.9821,2,-999.0000,9,    237.1,2,    17.47,2,    20.19,2,     0.00,9,     1.35,2,    0.108,2,    0.058,2, -999.000, -999.000,9,-999.0000,9,  -999.00,9,    7.897,2,   4.0587
  06BE200011,  AR04,    38,  1,     11,     11,2,20001206,2315,  7.0842, -35.0813, 3203,   1600.3,   4.1848,  34.9822,2,-999.0000,9,    237.1,2,    17.57,2,    20.17,2,     0.00,9,     1.35,2,    0.107,2,    0.058,2,    0.110, -999.000,2,   1.8039,2,  -999.00,9,    7.811,2,   4.0531
  06BE200011,  AR04,    38,  1,     10,     10,2,20001206,2315,  7.0842, -35.0813, 3203,   1700.9,   4.0061,  34.9837,2,-999.0000,9,    244.5,2,    17.52,2,    19.82,2,     0.03,2,     1.29,2,    0.099,2,    0.053,2,    0.087, -999.000,2,-999.0000,9,  -999.00,9, -999.000,9,   3.8672
  06BE200011,  AR04,    38,  1,      9,      9,2,20001206,2315,  7.0842, -35.0813, 3203,   1797.1,   3.8546,  34.9811,2,-999.0000,9,    248.0,2,    18.27,2,    19.23,2,     0.01,2,     1.25,2,    0.084,2,    0.045,2,    0.090, -999.000,2,   1.8140,2,  -999.00,9, -999.000,9,   3.7086
  06BE200011,  AR04,    38,  1,      8,      8,2,20001206,2315,  7.0842, -35.0813, 3203,   1897.5,   3.7517,  34.9786,2,  34.9752,2,    250.6,2,    18.59,2,    19.05,2,     0.02,2,     1.26,2,    0.079,2,    0.043,2, -999.000, -999.000,9,   1.8247,2,  -999.00,9, -999.000,9,   3.5976
  06BE200011,  AR04,    38,  1,      7,      7,2,20001206,2315,  7.0842, -35.0813, 3203,   1998.2,   3.5738,  34.9721,2,  34.9681,2,    252.3,2,    20.24,2,    19.26,2,     0.05,2,     1.27,2,    0.054,2,    0.030,2,    0.037, -999.000,2,-999.0000,9,  -999.00,9, -999.000,9,   3.4127
  06BE200011,  AR04,    38,  1,      6,      6,2,20001206,2315,  7.0842, -35.0813, 3203,   2198.5,   3.4029,  34.9631,2,  34.9602,2,    252.3,2,    22.20,2,    19.51,2,     0.01,2,     1.26,2,    0.033,2,    0.017,2, -999.000, -999.000,9,   1.8377,2,  -999.00,9, -999.000,9,   3.2253
  06BE200011,  AR04,    38,  1,      5,      5,2,20001206,2315,  7.0842, -35.0813, 3203,   2401.9,   3.1687,  34.9519,2,  34.9491,2,    253.2,2,    25.05,2,    19.66,2,     0.01,2,     1.27,2,    0.024,2,    0.012,2,    0.061, -999.000,2,-999.0000,9,  -999.00,9,    7.840,2,   2.9753
  06BE200011,  AR04,    38,  1,      4,      4,2,20001206,2315,  7.0842, -35.0813, 3203,   2598.1,   2.9493,  34.9418,2,  34.9358,2,    256.7,2,    27.52,2,    19.65,2,     0.01,2,     1.27,2,    0.027,2,    0.014,2, -999.000, -999.000,9,   1.8390,2,  -999.00,9, -999.000,9,   2.7406
  06BE200011,  AR04,    38,  1,      3,      3,2,20001206,2315,  7.0842, -35.0813, 3203,   2796.2,   2.8165,  34.9330,2,-999.0000,9,    257.1,2,    29.44,2,    19.55,2,     0.01,2,     1.29,2,    0.029,2,    0.016,2,    0.043, -999.000,2,-999.0000,9,  -999.00,9,    7.981,2,   2.5906
  06BE200011,  AR04,    38,  1,      2,      2,2,20001206,2315,  7.0842, -35.0813, 3203,   3002.3,   2.7529,  34.9279,2,-999.0000,9,    256.7,2,    27.28,2,    19.45,2,     0.02,2,     1.31,2,    0.046,2,    0.025,2, -999.000, -999.000,9,   1.8406,2,  -999.00,9, -999.000,9,   2.5072
  06BE200011,  AR04,    38,  1,      1,      1,2,20001206,2315,  7.0842, -35.0813, 3203,   3200.8,   2.6684,  34.9207,2,-999.0000,9,    258.9,2,    32.18,2,    20.00,2,     0.01,2,     1.29,2,    0.045,2,    0.023,2, -999.000, -999.000,9,   1.8311,2,  -999.00,9,    7.970,2,   2.4039