BOTTLE,20111027CCHDOSIOCBG
EXPOCODE,SECT_ID,STNNBR,CASTNO,SAMPNO,BTLNBR,BTLNBR_FLAG_W,DATE,TIME,LATITUDE,LONGITUDE,DEPTH,CTDPRS,CTDTMP,CTDSAL,CTDSAL_FLAG_W,SALNTY,SALNTY_FLAG_W,OXYGEN,OXYGEN_FLAG_W,SILCAT,SILCAT_FLAG_W,NITRAT,NITRAT_FLAG_W,NITRIT,NITRIT_FLAG_W,PHSPHT,PHSPHT_FLAG_W,CFC-11,CFC-11_FLAG_W,CFC-12,CFC-12_FLAG_W,TRITUM,TRITER,TRITUM_FLAG_W,HELIUM,HELIUM_FLAG_W,DELHE3,DELHE3_FLAG_W,NEON,NEON_FLAG_W,THETA
,,,,,,,,,,,METERS,DBAR,ITS-90,PSS-78,,PSS-78,,UMOL/KG,,UMOL/KG,,UMOL/KG,,UMOL/KG,,UMOL/KG,,PMOL/KG,,PMOL/KG,,TU,TU,,NMOL/KG,,PERCNT,,NMOL/KG,,DEG C
  06BE200011,  AR04,    39,  1,     21,     21,2,20001207,0327,  7.5000, -35.0730, 4455,    299.6,   9.3745,  34.8920,2,  34.8892,2,    106.5,2,    14.36,2,    29.15,2,     0.05,2,     1.78,2, -999.000,9, -999.000,9, -999.000, -999.000,9,-999.0000,9,  -999.00,9, -999.000,9,   9.3410
  06BE200011,  AR04,    39,  1,     20,     20,2,20001207,0327,  7.5000, -35.0730, 4455,    397.3,   8.3486,  34.7984,2,-999.0000,9,    101.7,2,    17.33,2,    32.50,2,     0.01,2,     1.99,2, -999.000,9, -999.000,9, -999.000, -999.000,9,-999.0000,9,  -999.00,9, -999.000,9,   8.3069
  06BE200011,  AR04,    39,  1,     19,     19,2,20001207,0327,  7.5000, -35.0730, 4455,    597.6,   6.7934,  34.6719,2,-999.0000,9,    114.4,2,    22.06,2,    34.47,2,     0.01,2,     2.16,2, -999.000,9, -999.000,9, -999.000, -999.000,9,-999.0000,9,  -999.00,9, -999.000,9,   6.7370
  06BE200011,  AR04,    39,  1,     18,     18,2,20001207,0327,  7.5000, -35.0730, 4455,    798.9,   5.5026,  34.6374,2,-999.0000,9,    121.8,2,    26.88,2,    35.56,2,     0.00,9,     2.33,2, -999.000,9, -999.000,9, -999.000, -999.000,9,-999.0000,9,  -999.00,9, -999.000,9,   5.4340
  06BE200011,  AR04,    39,  1,     17,     17,2,20001207,0327,  7.5000, -35.0730, 4455,    997.7,   4.9509,  34.7123,2,-999.0000,9,    148.9,2,    27.34,2,    32.03,2,     0.01,2,     2.15,2,    0.014,2,    0.008,2, -999.000,    0.001,9,-999.0000,9,  -999.00,9, -999.000,9,   4.8678
  06BE200011,  AR04,    39,  1,     16,     16,2,20001207,0327,  7.5000, -35.0730, 4455,   1200.4,   4.6719,  34.8425,2,-999.0000,9,    175.1,2,    24.71,2,    28.23,2,     0.00,9,     1.87,2,    0.016,2,    0.008,2, -999.000,    0.001,9,-999.0000,9,  -999.00,9, -999.000,9,   4.5725
  06BE200011,  AR04,    39,  1,     15,     15,2,20001207,0327,  7.5000, -35.0730, 4455,   1347.0,   4.7088,  34.9357,2,-999.0000,9,    203.9,2,    20.17,2,    24.17,2,     0.00,9,     1.59,2,    0.092,2,    0.046,2, -999.000, -999.000,9,-999.0000,9,     1.66,2, -999.000,9,   4.5952
  06BE200011,  AR04,    39,  1,     14,     14,2,20001207,0327,  7.5000, -35.0730, 4455,   1497.9,   4.4755,  34.9848,2,-999.0000,9,   -999.0,9,  -999.00,9,  -999.00,9,  -999.00,9,  -999.00,9,    0.174,2,    0.090,2, -999.000,    0.008,9,-999.0000,9,     2.56,2, -999.000,9,   4.3501
  06BE200011,  AR04,    39,  1,     13,     13,2,20001207,0327,  7.5000, -35.0730, 4455,   1648.3,   4.1368,  34.9886,2,  34.9874,2,    243.2,2,    16.83,2,    19.73,2,     0.01,2,     1.28,2,    0.145,2,    0.072,2, -999.000, -999.000,9,-999.0000,9,  -999.00,9, -999.000,9,   4.0012
  06BE200011,  AR04,    39,  1,     12,     12,2,20001207,0327,  7.5000, -35.0730, 4455,   1800.2,   3.8703,  34.9826,2,  34.9798,2,    248.0,2,    17.95,2,    19.45,2,     0.00,9,     1.29,2,    0.094,2,    0.049,2, -999.000,    0.004,9,-999.0000,9,     2.63,2, -999.000,9,   3.7238
  06BE200011,  AR04,    39,  1,     11,     11,2,20001207,0327,  7.5000, -35.0730, 4455,   1897.8,   3.7614,  34.9787,2,-999.0000,9,    249.3,2,    18.84,2,    19.51,2,     0.01,2,     1.25,2,    0.075,2,    0.040,2, -999.000,    0.029,9,-999.0000,9,  -999.00,9, -999.000,9,   3.6071
  06BE200011,  AR04,    39,  1,     10,     10,2,20001207,0327,  7.5000, -35.0730, 4455,   2101.7,   3.4592,  34.9668,2,  34.9631,2,    252.8,2,    21.30,2,    19.48,2,     0.01,2,     1.24,2,    0.042,2,    0.022,2, -999.000,    0.004,9,-999.0000,9,     2.44,2, -999.000,9,   3.2900
  06BE200011,  AR04,    39,  1,      9,      9,2,20001207,0327,  7.5000, -35.0730, 4455,   2347.9,   3.1357,  34.9512,2,-999.0000,9,    254.1,2,    25.33,2,    19.59,2,     0.00,9,     1.26,2,    0.022,2,    0.012,2, -999.000, -999.000,9,-999.0000,9,     2.38,2, -999.000,9,   2.9481
  06BE200011,  AR04,    39,  1,      8,      8,2,20001207,0327,  7.5000, -35.0730, 4455,   2597.4,   2.9545,  34.9425,2,  34.9381,2,    253.2,2,    27.24,2,    19.57,2,     0.00,9,     1.27,2,    0.027,2,    0.015,2, -999.000,    0.032,9,-999.0000,9,  -999.00,9, -999.000,9,   2.7458
  06BE200011,  AR04,    39,  1,      7,      7,2,20001207,0327,  7.5000, -35.0730, 4455,   2846.6,   2.7987,  34.9324,2,-999.0000,9,    257.1,2,    29.84,2,    19.59,2,     0.01,2,     1.28,2,    0.031,2,    0.018,2, -999.000, -999.000,9,-999.0000,9,     3.07,2, -999.000,9,   2.5680
  06BE200011,  AR04,    39,  1,      6,      6,2,20001207,0327,  7.5000, -35.0730, 4455,   3097.7,   2.6675,  34.9226,2,-999.0000,9,    257.6,2,    31.98,2,    19.80,2,     0.01,2,     1.27,2,    0.034,2,    0.018,2, -999.000,    0.003,9,-999.0000,9,  -999.00,9, -999.000,9,   2.4138
  06BE200011,  AR04,    39,  1,      5,      5,2,20001207,0327,  7.5000, -35.0730, 4455,   3300.8,   2.5614,  34.9142,2,-999.0000,9,    258.0,2,    33.80,2,    20.07,2,     0.00,9,     1.29,2,    0.037,2,    0.019,2, -999.000, -999.000,9,-999.0000,9,     3.03,2, -999.000,9,   2.2888
  06BE200011,  AR04,    39,  1,      4,      4,2,20001207,0327,  7.5000, -35.0730, 4455,   3498.7,   2.4898,  34.9080,2,-999.0000,9,    257.6,2,    36.16,2,    20.31,2,     0.01,2,     1.33,2,    0.044,2,    0.023,2, -999.000,    0.003,9,-999.0000,9,  -999.00,9, -999.000,9,   2.1977
  06BE200011,  AR04,    39,  1,      1,      1,2,20001207,0327,  7.5000, -35.0730, 4455,   3686.9,   2.4017,  34.8992,2,  34.8962,2,    258.0,2,    38.00,2,    20.09,2,     0.01,2,     1.33,2, -999.000,9, -999.000,9, -999.000, -999.000,9,-999.0000,9,     3.15,2, -999.000,9,   2.0913
  06BE200011,  AR04,    39,  1,      3,      3,2,20001207,0327,  7.5000, -35.0730, 4455,   3999.6,   2.2899,  34.8875,2,  34.8827,2,    257.2,2,    41.92,2,    20.84,2,     0.00,9,     1.36,2,    0.061,2,    0.034,2, -999.000, -999.000,9,-999.0000,9,     3.18,2, -999.000,9,   1.9476
  06BE200011,  AR04,    39,  1,      2,      2,2,20001207,0327,  7.5000, -35.0730, 4455,   4452.9,   2.2013,  34.8749,2,  34.8706,2,    255.9,2,    45.65,2,    21.17,2,     0.01,2,     1.40,2, -999.000,9, -999.000,9, -999.000, -999.000,9,-999.0000,9,  -999.00,9, -999.000,9,   1.8089
  06BE200011,  AR04,    40,  1,     22,     22,2,20001207,0915,  8.1012, -35.0687, 4986,      8.6,  26.7301,  35.9080,2,-999.0000,9,    205.7,2,     2.01,2,     0.16,2,     0.01,2,     0.04,2,    1.561,2,    0.931,2, -999.000, -999.000,9,-999.0000,9,  -999.00,9, -999.000,9,  26.7281
  06BE200011,  AR04,    40,  1,     21,     21,2,20001207,0915,  8.1012, -35.0687, 4986,    250.2,  10.1874,  34.9811,2,-999.0000,9,    113.5,2,    12.91,2,    26.70,2,     0.55,2,     1.67,2, -999.000,9, -999.000,9, -999.000, -999.000,9,-999.0000,9,  -999.00,9, -999.000,9,  10.1579
  06BE200011,  AR04,    40,  1,     20,     20,2,20001207,0915,  8.1012, -35.0687, 4986,    497.8,   7.6433,  34.7702,2,-999.0000,9,     96.0,2,    20.21,2,    34.71,2,     0.02,2,     2.21,2, -999.000,9, -999.000,9, -999.000, -999.000,9,-999.0000,9,  -999.00,9, -999.000,9,   7.5934
  06BE200011,  AR04,    40,  1,     19,     19,2,20001207,0915,  8.1012, -35.0687, 4986,    998.1,   4.9973,  34.7247,2,-999.0000,9,    150.6,2,    28.63,2,    31.65,2,     0.01,2,     2.17,2,    0.018,2,    0.009,2, -999.000, -999.000,9,-999.0000,9,  -999.00,9, -999.000,9,   4.9138
  06BE200011,  AR04,    40,  1,     18,     18,2,20001207,0915,  8.1012, -35.0687, 4986,   1247.9,   4.7115,  34.8689,2,  34.8714,2,    183.8,2,    23.43,2,    26.91,2,     0.01,2,     1.82,2,    0.034,2,    0.016,2,    0.030, -999.000,2,   1.7928,2,  -999.00,9, -999.000,9,   4.6073
  06BE200011,  AR04,    40,  1,     17,     17,2,20001207,0915,  8.1012, -35.0687, 4986,   1497.8,   4.5212,  34.9825,2,-999.0000,9,    226.1,2,    17.69,2,    21.15,2,     0.01,2,     1.41,2,    0.163,2,    0.086,2, -999.000, -999.000,9,   1.7957,2,  -999.00,9, -999.000,9,   4.3953
  06BE200011,  AR04,    40,  1,     16,     16,2,20001207,0915,  8.1012, -35.0687, 4986,   1646.7,   4.2416,  34.9905,2,-999.0000,9,    241.0,2,    16.93,2,    19.72,2,     0.01,2,     1.32,2,    0.173,2,    0.091,2,    0.102, -999.000,2,-999.0000,9,  -999.00,9,    7.723,2,   4.1048
  06BE200011,  AR04,    40,  1,     15,     15,2,20001207,0915,  8.1012, -35.0687, 4986,   1697.6,   4.1618,  34.9924,2,  34.9900,2,    244.5,2,    16.73,2,    19.66,2,     0.00,9,     1.29,2,    0.182,2,    0.094,2, -999.000, -999.000,9,-999.0000,9,  -999.00,9,    7.879,2,   4.0212
  06BE200011,  AR04,    40,  1,     14,     14,2,20001207,0915,  8.1012, -35.0687, 4986,   1846.9,   3.8510,  34.9840,2,-999.0000,9,    249.7,2,    17.83,2,    19.00,2,     0.01,2,     1.26,2,    0.096,2,    0.050,2,    0.141, -999.000,2,-999.0000,9,  -999.00,9, -999.000,9,   3.7003
  06BE200011,  AR04,    40,  1,     13,     13,2,20001207,0915,  8.1012, -35.0687, 4986,   1999.5,   3.5459,  34.9740,2,  34.9712,2,    254.5,2,    19.95,2,    18.98,2,     0.01,2,     1.26,2,    0.065,2,    0.035,2,    0.101, -999.000,2,   1.8292,2,  -999.00,9,    7.805,2,   3.3851
  06BE200011,  AR04,    40,  1,     12,     12,2,20001207,0915,  8.1012, -35.0687, 4986,   2248.0,   3.2506,  34.9587,2,-999.0000,9,    254.5,2,    23.71,2,    19.33,2,     0.01,2,     1.28,2,    0.027,2,    0.013,2,    0.075, -999.000,2,-999.0000,9,  -999.00,9, -999.000,9,   3.0707
  06BE200011,  AR04,    40,  1,     11,     11,2,20001207,0915,  8.1012, -35.0687, 4986,   2498.8,   3.0466,  34.9475,2,-999.0000,9,    255.8,2,    26.30,2,    19.42,2,     0.01,2,     1.29,2,    0.024,2,    0.013,2, -999.000, -999.000,9,   1.8087,2,  -999.00,9,    7.869,2,   2.8459
  06BE200011,  AR04,    40,  1,     10,     10,2,20001207,0915,  8.1012, -35.0687, 4986,   2749.3,   2.8531,  34.9348,2,  34.9301,2,    254.5,2,    29.86,2,    19.63,2,     0.03,2,     1.34,2,    0.016,2,    0.009,2,    0.036, -999.000,2,-999.0000,9,  -999.00,9,    7.950,2,   2.6312
  06BE200011,  AR04,    40,  1,      9,      9,2,20001207,0915,  8.1012, -35.0687, 4986,   2997.8,   2.6697,  34.9226,2,  34.9178,2,    256.3,2,    32.63,2,    19.88,2,     0.01,2,     1.28,2,    0.025,2,    0.014,2, -999.000, -999.000,9,   1.8077,2,  -999.00,9, -999.000,9,   2.4264
  06BE200011,  AR04,    40,  1,      8,      8,2,20001207,0915,  8.1012, -35.0687, 4986,   3298.6,   2.5401,  34.9124,2,-999.0000,9,   -999.0,9,    36.46,2,    20.16,2,     0.01,2,     1.33,2, -999.000,9, -999.000,9,    0.055, -999.000,2,-999.0000,9,  -999.00,9,    7.989,2,   2.2683
  06BE200011,  AR04,    40,  1,      7,      7,2,20001207,0915,  8.1012, -35.0687, 4986,   3495.0,   2.4872,  34.9079,2,  34.9036,2,    256.3,2,  -999.00,9,  -999.00,9,  -999.00,9,  -999.00,9,    0.040,2,    0.021,2, -999.000, -999.000,9,   1.8148,2,  -999.00,9, -999.000,9,   2.1956
  06BE200011,  AR04,    40,  1,      6,      6,2,20001207,0915,  8.1012, -35.0687, 4986,   3796.9,   2.4063,  34.8985,2,-999.0000,9,    256.7,2,    39.19,2,    20.37,2,     0.01,2,     1.35,2,    0.043,2,    0.024,2,    0.043, -999.000,2,-999.0000,9,  -999.00,9,    7.994,2,   2.0836
  06BE200011,  AR04,    40,  1,      5,      5,2,20001207,0915,  8.1012, -35.0687, 4986,   4095.7,   2.3499,  34.8912,2,-999.0000,9,    255.8,2,    40.84,2,    20.90,2,     0.03,2,     1.38,2,    0.045,2,    0.024,2, -999.000, -999.000,9,   1.8225,2,  -999.00,9, -999.000,9,   1.9948
  06BE200011,  AR04,    40,  1,      4,      4,2,20001207,0915,  8.1012, -35.0687, 4986,   4397.9,   2.3201,  34.8860,2,-999.0000,9,   -999.0,9,  -999.00,9,  -999.00,9,  -999.00,9,  -999.00,9, -999.000,9, -999.000,9,    0.061, -999.000,2,-999.0000,9,  -999.00,9,    8.004,2,   1.9305
  06BE200011,  AR04,    40,  1,      3,      3,2,20001207,0915,  8.1012, -35.0687, 4986,   4601.6,   2.3215,  34.8842,2,-999.0000,9,    252.4,2,    44.67,2,    21.45,2,     0.02,2,     1.43,2,    0.031,2,    0.018,2, -999.000, -999.000,9,   1.8575,2,  -999.00,9,    7.994,2,   1.9074
  06BE200011,  AR04,    40,  1,      2,      2,2,20001207,0915,  8.1012, -35.0687, 4986,   4799.9,   2.3316,  34.8831,2,-999.0000,9,   -999.0,9,  -999.00,9,  -999.00,9,  -999.00,9,  -999.00,9, -999.000,9, -999.000,9,    0.070, -999.000,2,-999.0000,9,  -999.00,9, -999.000,9,   1.8929
  06BE200011,  AR04,    40,  1,      1,      1,2,20001207,0915,  8.1012, -35.0687, 4986,   4983.2,   2.3502,  34.8822,2,  34.8771,2,    251.1,2,    46.09,2,    21.28,2,     0.02,2,     1.44,2,    0.026,2,    0.015,2, -999.000, -999.000,9,-999.0000,9,  -999.00,9, -999.000,9,   1.8880
  06BE200011,  AR04,    41,  1,     22,     22,2,20001207,1420,  8.4998, -35.0720, 4645,     10.7,  26.9664,  36.0559,2,-999.0000,9,    202.6,2,     1.35,2,     0.07,2,     0.00,9,     0.04,2,    1.551,2,    0.925,2,    0.583, -999.000,2,-999.0000,9,  -999.00,9, -999.000,9,  26.9639
  06BE200011,  AR04,    41,  1,     21,     21,2,20001207,1420,  8.4998, -35.0720, 4645,    500.8,   8.0900,  34.8161,2,-999.0000,9,     89.9,2,    18.47,2,    33.70,2,     0.01,2,     2.04,2, -999.000,9, -999.000,9, -999.000, -999.000,9,-999.0000,9,  -999.00,9, -999.000,9,   8.0381
  06BE200011,  AR04,    41,  1,     20,     20,2,20001207,1420,  8.4998, -35.0720, 4645,    697.9,   6.2628,  34.6918,2,  34.6855,2,    109.6,2,    24.59,2,    35.49,2,     0.01,2,     2.23,2, -999.000,9, -999.000,9,    0.085, -999.000,2,-999.0000,9,  -999.00,9, -999.000,9,   6.1993
  06BE200011,  AR04,    41,  1,     19,     19,2,20001207,1420,  8.4998, -35.0720, 4645,    897.6,   5.1453,  34.6959,2,-999.0000,9,    141.9,2,    27.63,2,    33.08,2,     0.01,2,     2.18,2, -999.000,9, -999.000,9, -999.000, -999.000,9,-999.0000,9,  -999.00,9, -999.000,9,   5.0699
  06BE200011,  AR04,    41,  1,     18,     18,2,20001207,1420,  8.4998, -35.0720, 4645,   1097.8,   4.9251,  34.8314,2,-999.0000,9,    169.8,2,    24.88,2,    28.54,2,     0.01,2,     1.88,2,    0.035,2,    0.019,2,    0.042,    0.004,2,-999.0000,9,     1.55,2, -999.000,9,   4.8329
  06BE200011,  AR04,    41,  1,     17,     17,2,20001207,1420,  8.4998, -35.0720, 4645,   1298.0,   4.8423,  34.9564,2,-999.0000,9,    204.8,2,    19.55,2,    23.67,2,     0.01,2,     1.57,2,    0.146,2,    0.075,2, -999.000, -999.000,9,-999.0000,9,     1.25,2, -999.000,9,   4.7320
  06BE200011,  AR04,    41,  1,     16,     16,2,20001207,1420,  8.4998, -35.0720, 4645,   1547.9,   4.3254,  34.9887,2,-999.0000,9,    234.0,2,    17.08,2,    20.58,2,     0.00,9,     1.34,2,    0.147,2,    0.076,2,    0.168,    0.004,2,-999.0000,9,  -999.00,9, -999.000,9,   4.1970
  06BE200011,  AR04,    41,  1,     15,     15,2,20001207,1420,  8.4998, -35.0720, 4645,   1694.9,   4.0651,  34.9871,2,  34.9837,2,    241.9,2,    17.35,2,    19.93,2,     0.01,2,     1.27,2,    0.079,2,    0.043,2, -999.000, -999.000,9,-999.0000,9,  -999.00,9, -999.000,9,   3.9260
  06BE200011,  AR04,    41,  1,     14,     14,2,20001207,1420,  8.4998, -35.0720, 4645,   1798.0,   3.9095,  34.9851,2,-999.0000,9,    247.5,2,    17.72,2,    19.73,2,     0.01,2,     1.26,2,    0.063,2,    0.034,2,    0.093,    0.005,2,-999.0000,9,  -999.00,9, -999.000,9,   3.7627
  06BE200011,  AR04,    41,  1,     13,     13,2,20001207,1420,  8.4998, -35.0720, 4645,   1896.4,   3.7182,  34.9798,2,-999.0000,9,    251.0,2,    18.82,2,    19.51,2,     0.01,2,     1.25,2,    0.046,2,    0.024,2, -999.000,    0.004,9,-999.0000,9,     2.61,2, -999.000,9,   3.5647
  06BE200011,  AR04,    41,  1,     12,     12,2,20001207,1420,  8.4998, -35.0720, 4645,   1996.6,   3.5984,  34.9757,2,-999.0000,9,    253.2,2,    19.59,2,    19.31,2,     0.04,2,     1.26,2,    0.051,2,    0.027,2,    0.032,    0.003,2,-999.0000,9,  -999.00,9, -999.000,9,   3.4371
  06BE200011,  AR04,    41,  1,     11,     11,2,20001207,1420,  8.4998, -35.0720, 4645,   2247.7,   3.3129,  34.9624,2,-999.0000,9,    255.0,2,    22.60,2,    19.32,2,     0.00,9,     1.26,2,    0.034,2,    0.018,2, -999.000, -999.000,9,-999.0000,9,     2.35,2, -999.000,9,   3.1320
  06BE200011,  AR04,    41,  1,     10,     10,2,20001207,1420,  8.4998, -35.0720, 4645,   2502.3,   3.0637,  34.9488,2,  34.9436,2,    255.4,2,    25.78,2,    19.65,2,     0.01,2,     1.26,2,    0.025,2,    0.015,2,    0.021,    0.005,2,-999.0000,9,  -999.00,9, -999.000,9,   2.8623
  06BE200011,  AR04,    41,  1,      9,      9,2,20001207,1420,  8.4998, -35.0720, 4645,   2757.4,   2.8553,  34.9357,2,-999.0000,9,    255.4,2,    29.33,2,    19.92,2,     0.01,2,     1.29,2, -999.000,9,    0.338,2, -999.000, -999.000,9,-999.0000,9,     2.33,2, -999.000,9,   2.6325
  06BE200011,  AR04,    41,  1,      8,      8,2,20001207,1420,  8.4998, -35.0720, 4645,   2998.3,   2.6943,  34.9243,2,-999.0000,9,    254.5,2,    32.28,2,    20.12,2,     0.01,2,     1.32,2,    0.034,2,    0.020,2, -999.000,    0.027,9,-999.0000,9,  -999.00,9, -999.000,9,   2.4503
  06BE200011,  AR04,    41,  1,      7,      7,2,20001207,1420,  8.4998, -35.0720, 4645,   3247.0,   2.5857,  34.9161,2,  34.9112,2,    256.7,2,    33.97,2,    20.15,2,     0.01,2,     1.32,2,    0.033,2,    0.020,2, -999.000, -999.000,9,-999.0000,9,     2.73,2, -999.000,9,   2.3183
  06BE200011,  AR04,    41,  1,      6,      6,2,20001207,1420,  8.4998, -35.0720, 4645,   3496.4,   2.4746,  34.9077,2,  34.9043,2,    256.7,2,    37.06,2,    20.33,2,     0.01,2,     1.37,2,    0.031,2,    0.017,2,    0.060,    0.002,2,-999.0000,9,  -999.00,9, -999.000,9,   2.1832
  06BE200011,  AR04,    41,  1,      5,      5,2,20001207,1420,  8.4998, -35.0720, 4645,   3795.5,   2.4016,  34.8982,2,-999.0000,9,    256.3,2,    39.03,2,    20.63,2,     0.01,2,     1.38,2,    0.043,2,    0.022,2,    0.055, -999.000,2,-999.0000,9,     3.12,2, -999.000,9,   2.0792
  06BE200011,  AR04,    41,  1,      4,      4,2,20001207,1420,  8.4998, -35.0720, 4645,   3797.4,   2.4020,  34.8982,2,  34.8937,2,    257.2,2,    40.08,2,    20.61,2,     0.01,2,     1.38,2,    0.040,2,    0.022,2, -999.000,    0.003,9,-999.0000,9,  -999.00,9, -999.000,9,   2.0794
  06BE200011,  AR04,    41,  1,      3,      3,2,20001207,1420,  8.4998, -35.0720, 4645,   3996.9,   2.3658,  34.8934,2,-999.0000,9,    256.7,2,    40.81,2,    20.84,2,     0.00,9,     1.38,2,    0.042,2,    0.021,2,    0.062, -999.000,2,-999.0000,9,     3.06,2, -999.000,9,   2.0216
  06BE200011,  AR04,    41,  1,      2,      2,2,20001207,1420,  8.4998, -35.0720, 4645,   4300.1,   2.3220,  34.8870,2,  34.8788,2,   -999.0,9,  -999.00,9,  -999.00,9,  -999.00,9,  -999.00,9, -999.000,9, -999.000,9, -999.000,    0.003,9,-999.0000,9,  -999.00,9, -999.000,9,   1.9440
  06BE200011,  AR04,    41,  1,      1,      1,2,20001207,1420,  8.4998, -35.0720, 4645,   4642.2,   2.3116,  34.8831,2,  34.8797,2,    251.9,2,    45.55,2,    21.58,2,     0.01,2,     1.43,2,    0.028,2,    0.015,2,    0.028, -999.000,2,-999.0000,9,  -999.00,9, -999.000,9,   1.8929