BOTTLE,20111027CCHDOSIOCBG
EXPOCODE,SECT_ID,STNNBR,CASTNO,SAMPNO,BTLNBR,BTLNBR_FLAG_W,DATE,TIME,LATITUDE,LONGITUDE,DEPTH,CTDPRS,CTDTMP,CTDSAL,CTDSAL_FLAG_W,SALNTY,SALNTY_FLAG_W,OXYGEN,OXYGEN_FLAG_W,SILCAT,SILCAT_FLAG_W,NITRAT,NITRAT_FLAG_W,NITRIT,NITRIT_FLAG_W,PHSPHT,PHSPHT_FLAG_W,CFC-11,CFC-11_FLAG_W,CFC-12,CFC-12_FLAG_W,TRITUM,TRITER,TRITUM_FLAG_W,HELIUM,HELIUM_FLAG_W,DELHE3,DELHE3_FLAG_W,NEON,NEON_FLAG_W,THETA
,,,,,,,,,,,METERS,DBAR,ITS-90,PSS-78,,PSS-78,,UMOL/KG,,UMOL/KG,,UMOL/KG,,UMOL/KG,,UMOL/KG,,PMOL/KG,,PMOL/KG,,TU,TU,,NMOL/KG,,PERCNT,,NMOL/KG,,DEG C
  06BE200011,  AR04,    54,  1,     22,     22,2,20001212,0056,  8.6323, -40.2223, 3262,     10.1,  26.3054,  35.1396,2,  35.1348,2,    207.5,2,     2.47,2,     0.10,2,     0.00,9,     0.03,2, -999.000,9,    0.965,2, -999.000,    0.015,9,   1.6717,2,  -999.00,9, -999.000,9,  26.3031
  06BE200011,  AR04,    54,  1,     21,     21,2,20001212,0056,  8.6323, -40.2223, 3262,    998.1,   5.0122,  34.7458,2,-999.0000,9,    153.7,2,    26.55,2,    31.16,2,     0.00,9,     2.02,2,    0.026,2,    0.017,2, -999.000, -999.000,9,   1.7919,2,  -999.00,9, -999.000,9,   4.9286
  06BE200011,  AR04,    54,  1,     20,     20,2,20001212,0056,  8.6323, -40.2223, 3262,   1199.3,   4.9394,  34.8953,2,-999.0000,9,    186.0,2,    22.06,2,    26.14,2,     0.00,9,     1.74,2,    0.093,2,    0.050,2,    0.068,    0.013,2,-999.0000,9,  -999.00,9, -999.000,9,   4.8375
  06BE200011,  AR04,    54,  1,     19,     19,2,20001212,0056,  8.6323, -40.2223, 3262,   1297.4,   4.8248,  34.9623,2,  34.9577,2,    208.2,2,    19.19,2,    23.04,2,     0.00,9,     1.53,2,    0.183,2,    0.096,2, -999.000, -999.000,9,-999.0000,9,     3.96,2, -999.000,9,   4.7147
  06BE200011,  AR04,    54,  1,     18,     18,2,20001212,0056,  8.6323, -40.2223, 3262,   1446.5,   4.6350,  34.9920,2,-999.0000,9,    226.6,2,    17.12,2,    21.04,2,     0.00,9,     1.38,2,    0.260,2,    0.136,2, -999.000,    0.016,9,   1.8115,2,     3.19,2,    7.834,2,   4.5127
  06BE200011,  AR04,    54,  1,     17,     17,2,20001212,0056,  8.6323, -40.2223, 3262,   1547.2,   4.3762,  35.0025,2,  34.9976,2,    241.4,2,    15.98,2,    19.52,2,     0.00,9,     1.26,2,    0.324,2,    0.170,2, -999.000, -999.000,9,-999.0000,9,  -999.00,9, -999.000,9,   4.2472
  06BE200011,  AR04,    54,  1,     16,     16,2,20001212,0056,  8.6323, -40.2223, 3262,   1698.0,   4.0940,  34.9948,2,-999.0000,9,    248.4,2,    16.32,2,    19.15,2,     0.01,2,     1.26,2,    0.238,2,    0.125,2,    0.120,    0.006,2,-999.0000,9,  -999.00,9, -999.000,9,   3.9542
  06BE200011,  AR04,    54,  1,     15,     15,2,20001212,0056,  8.6323, -40.2223, 3262,   1767.3,   3.9899,  34.9898,2,-999.0000,9,    249.3,2,    17.09,2,    19.31,2,     0.01,2,     1.25,2,    0.165,2,    0.089,2,    0.055,    0.006,2,   1.8510,2,     1.92,2, -999.000,9,   3.8449
  06BE200011,  AR04,    54,  1,     14,     14,2,20001212,0056,  8.6323, -40.2223, 3262,   1997.7,   3.5901,  34.9762,2,  34.9717,2,    254.5,2,    19.75,2,    19.16,2,     0.00,9,     1.24,2,    0.075,2,    0.041,2,    0.042,    0.029,2,   1.7844,2,     2.34,2,    7.901,2,   3.4288
  06BE200011,  AR04,    54,  1,     12,     12,2,20001212,0056,  8.6323, -40.2223, 3262,   2097.7,   3.4417,  34.9704,2,-999.0000,9,    252.3,2,    21.19,2,    19.22,2,     0.01,2,     1.25,2,    0.060,2,    0.032,2,    0.028,    0.002,2,   1.8218,2,  -999.00,9,    7.992,2,   3.2731
  06BE200011,  AR04,    54,  1,     13,     13,2,20001212,0056,  8.6323, -40.2223, 3262,   2098.1,   3.4402,  34.9705,2,-999.0000,9,    255.0,2,    21.02,2,    19.44,2,     0.00,9,     1.25,2,    0.058,2,    0.032,2,    0.033,    0.002,2,   1.8182,2,     2.55,2, -999.000,9,   3.2716
  06BE200011,  AR04,    54,  1,     11,     11,2,20001212,0056,  8.6323, -40.2223, 3262,   2297.2,   3.1632,  34.9568,2,  34.9529,2,   -999.0,9,  -999.00,9,  -999.00,9,  -999.00,9,  -999.00,9, -999.000,9, -999.000,9, -999.000, -999.000,9,-999.0000,9,  -999.00,9, -999.000,9,   2.9801
  06BE200011,  AR04,    54,  1,     10,     10,2,20001212,0056,  8.6323, -40.2223, 3262,   2298.8,   3.1629,  34.9567,2,-999.0000,9,    255.8,2,    24.74,2,    19.25,2,     0.00,9,     1.26,2,    0.041,2,    0.024,2,    0.039, -999.000,2,-999.0000,9,     3.19,2, -999.000,9,   2.9796
  06BE200011,  AR04,    54,  1,      9,      9,2,20001212,0056,  8.6323, -40.2223, 3262,   2498.2,   3.0595,  34.9504,2,-999.0000,9,   -999.0,9,  -999.00,9,  -999.00,9,  -999.00,9,  -999.00,9, -999.000,9, -999.000,9, -999.000, -999.000,9,   1.8029,2,  -999.00,9,    7.853,2,   2.8586
  06BE200011,  AR04,    54,  1,      8,      8,2,20001212,0056,  8.6323, -40.2223, 3262,   2498.4,   3.0545,  34.9503,2,-999.0000,9,    256.7,2,    26.07,2,    19.45,2,     0.00,9,     1.26,2,    0.039,2,    0.022,2,    0.056,    0.002,2,   1.8029,2,     4.04,2,    7.853,2,   2.8536
  06BE200011,  AR04,    54,  1,      7,      7,2,20001212,0056,  8.6323, -40.2223, 3262,   2695.5,   2.9430,  34.9432,2,-999.0000,9,   -999.0,9,  -999.00,9,  -999.00,9,  -999.00,9,  -999.00,9, -999.000,9, -999.000,9, -999.000, -999.000,9,   1.8323,2,  -999.00,9,    7.938,2,   2.7247
  06BE200011,  AR04,    54,  1,      6,      6,2,20001212,0056,  8.6323, -40.2223, 3262,   2697.9,   2.9434,  34.9432,2,  34.9394,2,    257.1,2,    27.90,2,    19.69,2,     0.01,2,     1.28,2,    0.040,2,    0.022,2,    0.073,    0.003,2,   1.8323,2,     2.69,2,    7.938,2,   2.7248
  06BE200011,  AR04,    54,  1,      4,      4,2,20001212,0056,  8.6323, -40.2223, 3262,   2897.3,   2.8026,  34.9334,2,-999.0000,9,    257.1,2,    30.26,2,    20.01,2,     0.01,2,     1.28,2,    0.044,2,    0.023,2,    0.061, -999.000,2,   1.7979,2,     3.51,2, -999.000,9,   2.5667
  06BE200011,  AR04,    54,  1,      5,      5,2,20001212,0056,  8.6323, -40.2223, 3262,   2897.5,   2.8030,  34.9334,2,-999.0000,9,   -999.0,9,  -999.00,9,  -999.00,9,  -999.00,9,  -999.00,9, -999.000,9, -999.000,9, -999.000, -999.000,9,-999.0000,9,  -999.00,9, -999.000,9,   2.5670
  06BE200011,  AR04,    54,  1,      3,      3,2,20001212,0056,  8.6323, -40.2223, 3262,   3098.3,   2.7374,  34.9273,2,-999.0000,9,   -999.0,9,    32.10,2,    19.97,2,     0.00,9,     1.30,2, -999.000,9, -999.000,9, -999.000, -999.000,9,-999.0000,9,  -999.00,9, -999.000,9,   2.4821
  06BE200011,  AR04,    54,  1,      2,      2,2,20001212,0056,  8.6323, -40.2223, 3262,   3259.6,   2.5746,  34.9144,2,  34.9119,2,    256.3,2,    35.47,2,    20.43,2,     0.02,2,     1.34,2,    0.041,2,    0.022,2,    0.069, -999.000,2,   1.8019,2,  -999.00,9,    8.012,2,   2.3061
  06BE200011,  AR04,    54,  1,      1,      1,2,20001212,0056,  8.6323, -40.2223, 3262,   3260.0,   2.5719,  34.9143,2,-999.0000,9,    257.2,2,  -999.00,9,  -999.00,9,  -999.00,9,  -999.00,9, -999.000,9, -999.000,9, -999.000, -999.000,9,-999.0000,9,  -999.00,9,    8.012,2,   2.3034
  06BE200011,  AR04,    55,  1,     22,     22,2,20001212,0653,  9.0000, -40.5000, 4626,      8.5,  26.1587,  35.3326,2,  35.3261,2,    207.0,2,     2.31,2,     0.11,2,     0.01,2,     0.03,2,    1.506,2,    0.994,2, -999.000, -999.000,9,-999.0000,9,    -1.47,2, -999.000,9,  26.1568
  06BE200011,  AR04,    55,  1,     21,     21,2,20001212,0653,  9.0000, -40.5000, 4626,    999.5,   5.0659,  34.7670,2,  34.7601,2,    157.6,2,    26.45,2,    30.62,2,     0.01,2,     1.96,2,    0.026,2,    0.015,2, -999.000, -999.000,9,   1.8254,2,     1.26,2, -999.000,9,   4.9817
  06BE200011,  AR04,    55,  1,     20,     20,2,20001212,0653,  9.0000, -40.5000, 4626,   1297.9,   4.8844,  34.9292,2,-999.0000,9,    196.4,2,    21.16,2,    24.49,2,     0.01,2,     1.63,2,    0.086,2,    0.045,2, -999.000,    0.006,9,   1.8548,2,  -999.00,9, -999.000,9,   4.7737
  06BE200011,  AR04,    55,  1,     19,     19,2,20001212,0653,  9.0000, -40.5000, 4626,   1496.9,   4.2877,  34.9887,2,-999.0000,9,    234.9,2,    17.24,2,    20.37,2,     0.01,2,     1.35,2,    0.124,2,    0.067,2, -999.000, -999.000,9,   1.8620,2,  -999.00,9,    7.843,2,   4.1645
  06BE200011,  AR04,    55,  1,     18,     18,2,20001212,0653,  9.0000, -40.5000, 4626,   1697.0,   4.0227,  34.9899,2,-999.0000,9,    246.7,2,    17.40,2,    19.23,2,     0.00,9,     1.27,2,    0.135,2,    0.071,2, -999.000, -999.000,9,   1.8098,2,     2.97,2,    7.875,2,   3.8839
  06BE200011,  AR04,    55,  1,     17,     17,2,20001212,0653,  9.0000, -40.5000, 4626,   1896.4,   3.7412,  34.9822,2,  34.9778,2,    252.3,2,    18.75,2,    19.17,2,     0.01,2,     1.26,2,    0.088,2,    0.048,2,    0.296, -999.000,3,-999.0000,9,  -999.00,9, -999.000,9,   3.5874
  06BE200011,  AR04,    55,  1,     16,     16,2,20001212,0653,  9.0000, -40.5000, 4626,   2096.0,   3.4013,  34.9683,2,-999.0000,9,    255.4,2,    22.08,2,    19.21,2,     0.00,9,     1.25,2,    0.051,2,    0.028,2, -999.000,    0.008,9,   1.8236,2,  -999.00,9, -999.000,9,   3.2335
  06BE200011,  AR04,    55,  1,     15,     15,2,20001212,0653,  9.0000, -40.5000, 4626,   2399.1,   3.0658,  34.9522,2,-999.0000,9,    257.6,2,    25.75,2,    19.16,2,     0.00,9,     1.26,2,    0.037,2,    0.020,2, -999.000,    0.005,9,-999.0000,9,     2.54,2,    7.928,2,   2.8745
  06BE200011,  AR04,    55,  1,     14,     14,2,20001212,0653,  9.0000, -40.5000, 4626,   2696.3,   2.9400,  34.9451,2,  34.9405,2,    259.3,2,    26.97,2,    19.30,2,     0.01,2,     1.26,2,    0.051,2,    0.027,2,    0.061,    0.002,2,   1.7768,2,     2.35,2,    7.933,2,   2.7216
  06BE200011,  AR04,    55,  1,     13,     13,2,20001212,0653,  9.0000, -40.5000, 4626,   2998.0,   2.7795,  34.9319,2,-999.0000,9,    258.0,2,    30.18,2,    19.49,2,     0.00,9,     1.30,2,    0.039,2,    0.021,2, -999.000,    0.009,9,   1.8042,2,     2.90,2,    7.939,2,   2.5337
  06BE200011,  AR04,    55,  1,     12,     12,2,20001212,0653,  9.0000, -40.5000, 4626,   3400.8,   2.5474,  34.9129,2,  34.9067,2,    255.4,2,    37.54,2,    20.30,2,     0.00,9,     1.36,2,    0.032,2,    0.017,2,    0.050,    0.004,2,   1.7997,2,     3.37,2, -999.000,9,   2.2645
  06BE200011,  AR04,    55,  1,     11,     11,2,20001212,0653,  9.0000, -40.5000, 4626,   3595.4,   2.4387,  34.9020,2,-999.0000,9,   -999.0,9,  -999.00,9,  -999.00,9,  -999.00,9,  -999.00,9, -999.000,9, -999.000,9, -999.000, -999.000,9,-999.0000,9,  -999.00,9, -999.000,9,   2.1374
  06BE200011,  AR04,    55,  1,     10,     10,2,20001212,0653,  9.0000, -40.5000, 4626,   3596.2,   2.4390,  34.9020,2,-999.0000,9,    255.4,2,    40.35,2,    20.38,2,     0.00,9,     1.38,2,    0.041,2,    0.024,2,    0.044,    0.007,2,   1.8129,2,  -999.00,9,    7.928,2,   2.1376
  06BE200011,  AR04,    55,  1,      9,      9,2,20001212,0653,  9.0000, -40.5000, 4626,   3801.8,   2.3204,  34.8896,2,-999.0000,9,   -999.0,9,  -999.00,9,  -999.00,9,  -999.00,9,  -999.00,9, -999.000,9, -999.000,9, -999.000, -999.000,9,   1.8320,2,     3.97,2, -999.000,9,   1.9995
  06BE200011,  AR04,    55,  1,      8,      8,2,20001212,0653,  9.0000, -40.5000, 4626,   3802.0,   2.3205,  34.8896,2,  34.8865,2,    256.7,2,    44.26,2,    20.87,2,     0.00,9,     1.40,2,    0.048,2,    0.026,2,    0.047,    0.006,2,   1.8320,2,     3.97,2,    7.978,2,   1.9996
  06BE200011,  AR04,    55,  1,      7,      7,2,20001212,0653,  9.0000, -40.5000, 4626,   4047.3,   2.1107,  34.8675,2,-999.0000,9,   -999.0,9,    52.10,2,    21.88,2,     0.00,9,     1.47,2, -999.000,9, -999.000,9, -999.000, -999.000,9,-999.0000,9,     4.54,2, -999.000,9,   1.7681
  06BE200011,  AR04,    55,  1,      6,      6,2,20001212,0653,  9.0000, -40.5000, 4626,   4197.8,   1.9597,  34.8537,2,-999.0000,9,    251.9,2,    56.17,2,    22.38,2,     0.00,9,     1.52,2,    0.060,2,    0.037,2,    0.056,    0.004,2,   1.8033,2,     4.54,2,    7.865,2,   1.6044
  06BE200011,  AR04,    55,  1,      5,      5,2,20001212,0653,  9.0000, -40.5000, 4626,   4297.7,   1.9572,  34.8524,2,-999.0000,9,   -999.0,9,    56.44,2,    22.51,2,     0.01,2,     1.54,2, -999.000,9, -999.000,9, -999.000, -999.000,9,-999.0000,9,  -999.00,9, -999.000,9,   1.5905
  06BE200011,  AR04,    55,  1,      4,      4,2,20001212,0653,  9.0000, -40.5000, 4626,   4401.3,   1.9487,  34.8506,2,  34.8458,2,    250.6,2,    57.09,2,    22.61,2,     0.00,9,     1.54,2, -999.000,9, -999.000,9,    0.058,    0.004,2,   1.8322,2,     3.18,2,    7.913,2,   1.5702
  06BE200011,  AR04,    55,  1,      3,      3,2,20001212,0653,  9.0000, -40.5000, 4626,   4546.6,   1.9602,  34.8500,2,-999.0000,9,   -999.0,9,    57.35,2,    22.47,2,     0.00,9,     1.53,2, -999.000,9, -999.000,9, -999.000, -999.000,9,-999.0000,9,  -999.00,9, -999.000,9,   1.5642
  06BE200011,  AR04,    55,  1,      1,      1,2,20001212,0653,  9.0000, -40.5000, 4626,   4623.0,   1.9648,  34.8496,2,-999.0000,9,   -999.0,9,  -999.00,9,  -999.00,9,  -999.00,9,  -999.00,9, -999.000,9, -999.000,9, -999.000, -999.000,9,-999.0000,9,  -999.00,9, -999.000,9,   1.5596
  06BE200011,  AR04,    55,  1,      2,      2,2,20001212,0653,  9.0000, -40.5000, 4626,   4624.0,   1.9646,  34.8497,2,-999.0000,9,    251.5,2,    57.77,2,    22.56,2,     0.00,9,     1.53,2, -999.000,9, -999.000,9,    0.045,    0.033,2,-999.0000,9,     2.96,2, -999.000,9,   1.5593
  06BE200011,  AR04,    56,  1,     22,     22,2,20001212,1226,  9.5000, -40.7005, 3648,     10.0,  26.4884,  35.1625,2,  35.1581,2,    207.0,2,     1.99,2,     0.14,2,     0.01,2,     0.02,2,    1.563,2,    0.955,2, -999.000, -999.000,9,-999.0000,9,  -999.00,9,    6.555,2,  26.4861
  06BE200011,  AR04,    56,  1,     21,     21,2,20001212,1226,  9.5000, -40.7005, 3648,   1001.2,   5.1091,  34.7547,2,  34.7522,2,    146.3,2,    26.27,2,    31.34,2,     0.00,9,     2.04,2,    0.017,2,    0.009,2,    0.022, -999.000,2,-999.0000,9,     1.61,2,    7.754,2,   5.0244
  06BE200011,  AR04,    56,  1,     20,     20,2,20001212,1226,  9.5000, -40.7005, 3648,   1198.1,   4.9235,  34.9064,2,-999.0000,9,    185.5,2,    21.54,2,    25.97,2,     0.00,9,     1.73,2,    0.059,2,    0.032,2,    0.099, -999.000,2,   1.8099,2,     1.85,2, -999.000,9,   4.8219
  06BE200011,  AR04,    56,  1,     19,     19,2,20001212,1226,  9.5000, -40.7005, 3648,   1348.4,   4.6891,  34.9627,2,-999.0000,9,    209.6,2,    18.85,2,    22.97,2,     0.00,9,     1.53,2,    0.104,2,    0.055,2,    0.125, -999.000,2,-999.0000,9,     2.38,2, -999.000,9,   4.5755
  06BE200011,  AR04,    56,  1,     18,     18,2,20001212,1226,  9.5000, -40.7005, 3648,   1496.8,   4.4146,  34.9897,2,  34.9870,2,    232.2,2,    16.67,2,    20.49,2,     0.00,9,     1.34,2,    0.178,2,    0.092,2, -999.000, -999.000,9,   1.8132,2,     3.66,2,    7.887,2,   4.2900
  06BE200011,  AR04,    56,  1,     17,     17,2,20001212,1226,  9.5000, -40.7005, 3648,   1647.6,   4.0758,  34.9918,2,-999.0000,9,    245.3,2,    16.46,2,    19.18,2,     0.00,9,     1.27,2,    0.175,2,    0.092,2, -999.000,    0.009,9,-999.0000,9,  -999.00,9, -999.000,9,   3.9410
  06BE200011,  AR04,    56,  1,     16,     16,2,20001212,1226,  9.5000, -40.7005, 3648,   1798.6,   3.8162,  34.9851,2,-999.0000,9,    251.5,2,    17.69,2,    19.04,2,     0.00,9,     1.25,2,    0.123,2,    0.064,2,    0.054, -999.000,2,   1.7979,2,     3.85,2, -999.000,9,   3.6706
  06BE200011,  AR04,    56,  1,     15,     15,2,20001212,1226,  9.5000, -40.7005, 3648,   1998.7,   3.5491,  34.9752,2,  34.9719,2,    253.7,2,    19.46,2,    18.92,2,     0.01,2,     1.25,2,    0.068,2,    0.038,2,    0.045, -999.000,2,-999.0000,9,  -999.00,9,    8.000,2,   3.3883
  06BE200011,  AR04,    56,  1,     14,     14,2,20001212,1226,  9.5000, -40.7005, 3648,   2198.6,   3.3466,  34.9662,2,-999.0000,9,    255.0,2,    21.64,2,    18.98,2,     0.00,9,     1.26,2,    0.051,2,    0.027,2,    0.050,    0.005,2,   1.8241,2,     2.61,2,    7.864,2,   3.1699
  06BE200011,  AR04,    56,  1,     13,     13,2,20001212,1226,  9.5000, -40.7005, 3648,   2400.5,   3.1333,  34.9555,2,-999.0000,9,    256.3,2,    24.00,2,    19.36,2,     0.01,2,     1.26,2,    0.042,2,    0.024,2,    0.044, -999.000,2,   1.7893,2,     2.70,2,    7.938,2,   2.9406
  06BE200011,  AR04,    56,  1,     12,     12,2,20001212,1226,  9.5000, -40.7005, 3648,   2601.5,   2.9978,  34.9476,2,-999.0000,9,    256.7,2,    25.72,2,    19.36,2,     0.00,9,     1.27,2,    0.038,2,    0.020,2,    0.042,    0.004,2,   1.7872,2,     3.27,2,    7.912,2,   2.7878
  06BE200011,  AR04,    56,  1,     11,     11,2,20001212,1226,  9.5000, -40.7005, 3648,   2797.8,   2.8842,  34.9397,2,-999.0000,9,   -999.0,9,  -999.00,9,  -999.00,9,  -999.00,9,  -999.00,9, -999.000,9, -999.000,9, -999.000, -999.000,9,   1.8245,2,  -999.00,9, -999.000,9,   2.6567
  06BE200011,  AR04,    56,  1,     10,     10,2,20001212,1226,  9.5000, -40.7005, 3648,   2800.8,   2.8732,  34.9390,2,  34.9344,2,    257.6,2,    27.99,2,    19.57,2,     0.00,9,     1.28,2,    0.042,2,    0.023,2,    0.042,    0.002,2,   1.8245,2,     3.64,2, -999.000,9,   2.6456
  06BE200011,  AR04,    56,  1,      8,      8,2,20001212,1226,  9.5000, -40.7005, 3648,   3000.7,   2.7592,  34.9311,2,-999.0000,9,    257.1,2,    30.34,2,    19.74,2,     0.01,2,     1.28,2,    0.036,2,    0.019,2, -999.000,    0.002,9,   1.8355,2,     4.27,2,    7.802,2,   2.5136
  06BE200011,  AR04,    56,  1,      9,      9,2,20001212,1226,  9.5000, -40.7005, 3648,   3001.5,   2.7603,  34.9312,2,-999.0000,9,   -999.0,9,  -999.00,9,  -999.00,9,  -999.00,9,  -999.00,9, -999.000,9, -999.000,9, -999.000, -999.000,9,   1.8355,2,     4.27,2,    7.802,2,   2.5145
  06BE200011,  AR04,    56,  1,      7,      7,2,20001212,1226,  9.5000, -40.7005, 3648,   3197.5,   2.5787,  34.9166,2,-999.0000,9,   -999.0,9,  -999.00,9,  -999.00,9,  -999.00,9,  -999.00,9, -999.000,9, -999.000,9, -999.000, -999.000,9,-999.0000,9,  -999.00,9,    7.939,2,   2.3166
  06BE200011,  AR04,    56,  1,      6,      6,2,20001212,1226,  9.5000, -40.7005, 3648,   3200.2,   2.5784,  34.9168,2,  34.9100,2,    256.7,2,    34.34,2,    20.11,2,     0.01,2,     1.33,2,    0.038,2,    0.023,2,    0.045,    0.003,2,   1.8043,2,     3.92,2,    7.939,2,   2.3161
  06BE200011,  AR04,    56,  1,      4,      4,2,20001212,1226,  9.5000, -40.7005, 3648,   3401.5,   2.4902,  34.9084,2,-999.0000,9,    254.5,2,    37.56,2,    20.45,2,     0.00,9,     1.34,2,    0.035,2,    0.021,2,    0.045,    0.003,2,   1.8138,2,     4.01,2,    7.947,2,   2.2086
  06BE200011,  AR04,    56,  1,      5,      5,2,20001212,1226,  9.5000, -40.7005, 3648,   3402.7,   2.4901,  34.9083,2,-999.0000,9,   -999.0,9,  -999.00,9,  -999.00,9,  -999.00,9,  -999.00,9, -999.000,9, -999.000,9, -999.000, -999.000,9,-999.0000,9,  -999.00,9, -999.000,9,   2.2084
  06BE200011,  AR04,    56,  1,      3,      3,2,20001212,1226,  9.5000, -40.7005, 3648,   3577.5,   2.3952,  34.8977,2,-999.0000,9,   -999.0,9,    40.87,2,    20.77,2,     0.00,9,     1.38,2, -999.000,9, -999.000,9, -999.000, -999.000,9,-999.0000,9,  -999.00,9, -999.000,9,   2.0970
  06BE200011,  AR04,    56,  1,      2,      2,2,20001212,1226,  9.5000, -40.7005, 3648,   3646.5,   2.3872,  34.8964,2,-999.0000,9,    252.4,2,    41.34,2,    20.84,2,     0.01,2,     1.39,2,    0.034,2,    0.019,2,    0.065,    0.005,2,   1.8318,2,  -999.00,9,    8.001,2,   2.0817
  06BE200011,  AR04,    56,  1,      1,      1,2,20001212,1226,  9.5000, -40.7005, 3648,   3647.4,   2.3870,  34.8964,2,-999.0000,9,   -999.0,9,  -999.00,9,  -999.00,9,  -999.00,9,  -999.00,9, -999.000,9, -999.000,9, -999.000, -999.000,9,-999.0000,9,  -999.00,9, -999.000,9,   2.0814