BOTTLE,20111027CCHDOSIOCBG
EXPOCODE,SECT_ID,STNNBR,CASTNO,SAMPNO,BTLNBR,BTLNBR_FLAG_W,DATE,TIME,LATITUDE,LONGITUDE,DEPTH,CTDPRS,CTDTMP,CTDSAL,CTDSAL_FLAG_W,SALNTY,SALNTY_FLAG_W,OXYGEN,OXYGEN_FLAG_W,SILCAT,SILCAT_FLAG_W,NITRAT,NITRAT_FLAG_W,NITRIT,NITRIT_FLAG_W,PHSPHT,PHSPHT_FLAG_W,CFC-11,CFC-11_FLAG_W,CFC-12,CFC-12_FLAG_W,TRITUM,TRITER,TRITUM_FLAG_W,HELIUM,HELIUM_FLAG_W,DELHE3,DELHE3_FLAG_W,NEON,NEON_FLAG_W,THETA
,,,,,,,,,,,METERS,DBAR,ITS-90,PSS-78,,PSS-78,,UMOL/KG,,UMOL/KG,,UMOL/KG,,UMOL/KG,,UMOL/KG,,PMOL/KG,,PMOL/KG,,TU,TU,,NMOL/KG,,PERCNT,,NMOL/KG,,DEG C
  06BE200011,  AR04,   110,  1,     18,     18,2,20001222,1307, 16.1612, -59.3953, 5004,      9.8,  26.6846,  35.8732,2,-999.0000,9,   -999.0,9,  -999.00,9,  -999.00,9,  -999.00,9,  -999.00,9, -999.000,9, -999.000,9, -999.000, -999.000,9,-999.0000,9,  -999.00,9, -999.000,9,  26.6824
  06BE200011,  AR04,   110,  1,     15,     15,2,20001222,1307, 16.1612, -59.3953, 5004,      9.9,  26.6831,  35.8730,2,-999.0000,9,   -999.0,9,  -999.00,9,  -999.00,9,  -999.00,9,  -999.00,9, -999.000,9, -999.000,9, -999.000, -999.000,9,-999.0000,9,  -999.00,9, -999.000,9,  26.6808
  06BE200011,  AR04,   110,  1,     17,     17,2,20001222,1307, 16.1612, -59.3953, 5004,     10.0,  26.6851,  35.8731,2,-999.0000,9,   -999.0,9,  -999.00,9,  -999.00,9,  -999.00,9,  -999.00,9, -999.000,9, -999.000,9, -999.000, -999.000,9,-999.0000,9,  -999.00,9, -999.000,9,  26.6828
  06BE200011,  AR04,   110,  1,     22,     22,2,20001222,1307, 16.1612, -59.3953, 5004,     10.0,  26.6903,  35.8731,2,-999.0000,9,   -999.0,9,  -999.00,9,  -999.00,9,  -999.00,9,  -999.00,9, -999.000,9, -999.000,9, -999.000, -999.000,9,-999.0000,9,  -999.00,9, -999.000,9,  26.6880
  06BE200011,  AR04,   110,  1,     19,     19,2,20001222,1307, 16.1612, -59.3953, 5004,     10.2,  26.6878,  35.8733,2,-999.0000,9,   -999.0,9,  -999.00,9,  -999.00,9,  -999.00,9,  -999.00,9, -999.000,9, -999.000,9, -999.000, -999.000,9,-999.0000,9,  -999.00,9, -999.000,9,  26.6855
  06BE200011,  AR04,   110,  1,     20,     20,2,20001222,1307, 16.1612, -59.3953, 5004,     10.2,  26.6851,  35.8733,2,-999.0000,9,   -999.0,9,  -999.00,9,  -999.00,9,  -999.00,9,  -999.00,9, -999.000,9, -999.000,9, -999.000, -999.000,9,-999.0000,9,  -999.00,9, -999.000,9,  26.6828
  06BE200011,  AR04,   110,  1,     21,     21,2,20001222,1307, 16.1612, -59.3953, 5004,     10.2,  26.6887,  35.8732,2,-999.0000,9,   -999.0,9,  -999.00,9,  -999.00,9,  -999.00,9,  -999.00,9, -999.000,9, -999.000,9, -999.000, -999.000,9,-999.0000,9,  -999.00,9, -999.000,9,  26.6864
  06BE200011,  AR04,   110,  1,     16,     16,2,20001222,1307, 16.1612, -59.3953, 5004,     10.4,  26.6849,  35.8730,2,-999.0000,9,   -999.0,9,  -999.00,9,  -999.00,9,  -999.00,9,  -999.00,9, -999.000,9, -999.000,9, -999.000, -999.000,9,-999.0000,9,  -999.00,9, -999.000,9,  26.6825
  06BE200011,  AR04,   110,  1,     14,     14,2,20001222,1307, 16.1612, -59.3953, 5004,   2093.4,   3.3530,  34.9749,2,-999.0000,9,   -999.0,9,  -999.00,9,  -999.00,9,  -999.00,9,  -999.00,9,    0.254,2,    0.130,2, -999.000, -999.000,9,-999.0000,9,  -999.00,9, -999.000,9,   3.1862
  06BE200011,  AR04,   110,  1,     13,     13,2,20001222,1307, 16.1612, -59.3953, 5004,   2097.8,   3.3518,  34.9748,2,-999.0000,9,   -999.0,9,  -999.00,9,  -999.00,9,  -999.00,9,  -999.00,9, -999.000,9, -999.000,9, -999.000, -999.000,9,-999.0000,9,  -999.00,9, -999.000,9,   3.1846
  06BE200011,  AR04,   110,  1,     12,     12,2,20001222,1307, 16.1612, -59.3953, 5004,   2193.3,   3.2686,  34.9713,2,-999.0000,9,   -999.0,9,  -999.00,9,  -999.00,9,  -999.00,9,  -999.00,9,    0.196,2,    0.100,2, -999.000, -999.000,9,-999.0000,9,  -999.00,9, -999.000,9,   3.0936
  06BE200011,  AR04,   110,  1,     11,     11,2,20001222,1307, 16.1612, -59.3953, 5004,   2199.7,   3.2626,  34.9710,2,-999.0000,9,   -999.0,9,  -999.00,9,  -999.00,9,  -999.00,9,  -999.00,9, -999.000,9, -999.000,9, -999.000, -999.000,9,-999.0000,9,  -999.00,9, -999.000,9,   3.0871
  06BE200011,  AR04,   110,  1,     10,     10,2,20001222,1307, 16.1612, -59.3953, 5004,   2249.3,   3.1868,  34.9660,2,-999.0000,9,   -999.0,9,  -999.00,9,  -999.00,9,  -999.00,9,  -999.00,9,    0.227,2,    0.117,2, -999.000, -999.000,9,-999.0000,9,  -999.00,9, -999.000,9,   3.0078
  06BE200011,  AR04,   110,  1,      9,      9,2,20001222,1307, 16.1612, -59.3953, 5004,   2249.4,   3.1785,  34.9656,2,-999.0000,9,   -999.0,9,  -999.00,9,  -999.00,9,  -999.00,9,  -999.00,9, -999.000,9, -999.000,9, -999.000, -999.000,9,-999.0000,9,  -999.00,9, -999.000,9,   2.9997
  06BE200011,  AR04,   110,  1,      8,      8,2,20001222,1307, 16.1612, -59.3953, 5004,   2294.3,   3.1362,  34.9631,2,-999.0000,9,   -999.0,9,  -999.00,9,  -999.00,9,  -999.00,9,  -999.00,9,    0.216,2,    0.108,2, -999.000, -999.000,9,-999.0000,9,  -999.00,9, -999.000,9,   2.9538
  06BE200011,  AR04,   110,  1,      7,      7,2,20001222,1307, 16.1612, -59.3953, 5004,   2299.4,   3.1268,  34.9626,2,-999.0000,9,   -999.0,9,  -999.00,9,  -999.00,9,  -999.00,9,  -999.00,9, -999.000,9, -999.000,9, -999.000, -999.000,9,-999.0000,9,  -999.00,9, -999.000,9,   2.9440
  06BE200011,  AR04,   110,  1,      5,      5,2,20001222,1307, 16.1612, -59.3953, 5004,   2349.0,   3.0917,  34.9606,2,-999.0000,9,   -999.0,9,  -999.00,9,  -999.00,9,  -999.00,9,  -999.00,9,    0.219,2,    0.110,2, -999.000, -999.000,9,-999.0000,9,  -999.00,9, -999.000,9,   2.9047
  06BE200011,  AR04,   110,  1,      6,      6,2,20001222,1307, 16.1612, -59.3953, 5004,   2349.5,   3.0929,  34.9606,2,-999.0000,9,   -999.0,9,  -999.00,9,  -999.00,9,  -999.00,9,  -999.00,9, -999.000,9, -999.000,9, -999.000, -999.000,9,-999.0000,9,  -999.00,9, -999.000,9,   2.9059
  06BE200011,  AR04,   110,  1,      4,      4,2,20001222,1307, 16.1612, -59.3953, 5004,   2396.7,   3.0497,  34.9576,2,-999.0000,9,   -999.0,9,  -999.00,9,  -999.00,9,  -999.00,9,  -999.00,9, -999.000,9, -999.000,9, -999.000, -999.000,9,-999.0000,9,  -999.00,9, -999.000,9,   2.8589
  06BE200011,  AR04,   110,  1,      3,      3,2,20001222,1307, 16.1612, -59.3953, 5004,   2400.3,   3.0385,  34.9572,2,-999.0000,9,   -999.0,9,  -999.00,9,  -999.00,9,  -999.00,9,  -999.00,9,    0.217,2,    0.109,2, -999.000, -999.000,9,-999.0000,9,  -999.00,9, -999.000,9,   2.8475
  06BE200011,  AR04,   110,  1,      2,      2,2,20001222,1307, 16.1612, -59.3953, 5004,   2499.9,   2.9555,  34.9518,2,-999.0000,9,   -999.0,9,  -999.00,9,  -999.00,9,  -999.00,9,  -999.00,9, -999.000,9, -999.000,9, -999.000, -999.000,9,-999.0000,9,  -999.00,9, -999.000,9,   2.7563
  06BE200011,  AR04,   110,  1,      1,      1,2,20001222,1307, 16.1612, -59.3953, 5004,   2500.2,   2.9542,  34.9517,2,-999.0000,9,   -999.0,9,  -999.00,9,  -999.00,9,  -999.00,9,  -999.00,9,    0.230,2,    0.117,2, -999.000, -999.000,9,-999.0000,9,  -999.00,9, -999.000,9,   2.7550
  06BE200011,  AR04,   111,  1,     19,     19,2,20001222,1800, 16.2148, -59.6833, 5004,   1351.6,   4.5828,  35.0276,2,-999.0000,9,   -999.0,9,  -999.00,9,  -999.00,9,  -999.00,9,  -999.00,9,    0.617,2,    0.313,2, -999.000, -999.000,9,-999.0000,9,  -999.00,9, -999.000,9,   4.4699
  06BE200011,  AR04,   111,  1,     18,     18,2,20001222,1800, 16.2148, -59.6833, 5004,   1498.6,   4.1955,  35.0093,2,-999.0000,9,   -999.0,9,  -999.00,9,  -999.00,9,  -999.00,9,  -999.00,9, -999.000,9, -999.000,9, -999.000, -999.000,9,-999.0000,9,  -999.00,9, -999.000,9,   4.0731
  06BE200011,  AR04,   111,  1,     17,     17,2,20001222,1800, 16.2148, -59.6833, 5004,   1646.8,   3.8846,  34.9937,2,-999.0000,9,   -999.0,9,  -999.00,9,  -999.00,9,  -999.00,9,  -999.00,9,    0.544,2,    0.280,2, -999.000, -999.000,9,-999.0000,9,  -999.00,9, -999.000,9,   3.7522
  06BE200011,  AR04,   111,  1,     16,     16,2,20001222,1800, 16.2148, -59.6833, 5004,   1795.4,   3.6457,  34.9836,2,-999.0000,9,   -999.0,9,  -999.00,9,  -999.00,9,  -999.00,9,  -999.00,9, -999.000,9, -999.000,9, -999.000, -999.000,9,-999.0000,9,  -999.00,9, -999.000,9,   3.5026
  06BE200011,  AR04,   111,  1,     15,     15,2,20001222,1800, 16.2148, -59.6833, 5004,   1798.1,   3.6426,  34.9836,2,-999.0000,9,   -999.0,9,  -999.00,9,  -999.00,9,  -999.00,9,  -999.00,9,    0.487,2,    0.246,2, -999.000, -999.000,9,-999.0000,9,  -999.00,9, -999.000,9,   3.4993
  06BE200011,  AR04,   111,  1,     14,     14,2,20001222,1800, 16.2148, -59.6833, 5004,   2097.2,   3.3208,  34.9715,2,-999.0000,9,   -999.0,9,  -999.00,9,  -999.00,9,  -999.00,9,  -999.00,9,    0.356,2,    0.189,2, -999.000, -999.000,9,-999.0000,9,  -999.00,9, -999.000,9,   3.1542
  06BE200011,  AR04,   111,  1,     13,     13,2,20001222,1800, 16.2148, -59.6833, 5004,   2098.9,   3.3127,  34.9709,2,-999.0000,9,   -999.0,9,  -999.00,9,  -999.00,9,  -999.00,9,  -999.00,9,    0.325,2,    0.169,2, -999.000, -999.000,9,-999.0000,9,  -999.00,9, -999.000,9,   3.1460
  06BE200011,  AR04,   111,  1,     12,     12,2,20001222,1800, 16.2148, -59.6833, 5004,   2294.5,   3.0907,  34.9596,2,-999.0000,9,   -999.0,9,  -999.00,9,  -999.00,9,  -999.00,9,  -999.00,9, -999.000,9, -999.000,9, -999.000, -999.000,9,-999.0000,9,  -999.00,9, -999.000,9,   2.9090
  06BE200011,  AR04,   111,  1,     11,     11,2,20001222,1800, 16.2148, -59.6833, 5004,   2296.9,   3.0897,  34.9594,2,-999.0000,9,   -999.0,9,  -999.00,9,  -999.00,9,  -999.00,9,  -999.00,9,    0.256,2,    0.130,2, -999.000, -999.000,9,-999.0000,9,  -999.00,9, -999.000,9,   2.9078
  06BE200011,  AR04,   111,  1,     10,     10,2,20001222,1800, 16.2148, -59.6833, 5004,   2600.7,   2.8438,  34.9441,2,-999.0000,9,   -999.0,9,  -999.00,9,  -999.00,9,  -999.00,9,  -999.00,9, -999.000,9, -999.000,9, -999.000, -999.000,9,-999.0000,9,  -999.00,9, -999.000,9,   2.6368
  06BE200011,  AR04,   111,  1,      9,      9,2,20001222,1800, 16.2148, -59.6833, 5004,   2898.7,   2.6711,  34.9324,2,-999.0000,9,   -999.0,9,  -999.00,9,  -999.00,9,  -999.00,9,  -999.00,9,    0.231,2,    0.118,2, -999.000, -999.000,9,-999.0000,9,  -999.00,9, -999.000,9,   2.4378
  06BE200011,  AR04,   111,  1,      8,      8,2,20001222,1800, 16.2148, -59.6833, 5004,   3198.2,   2.5027,  34.9206,2,-999.0000,9,   -999.0,9,  -999.00,9,  -999.00,9,  -999.00,9,  -999.00,9, -999.000,9, -999.000,9, -999.000, -999.000,9,-999.0000,9,  -999.00,9, -999.000,9,   2.2423
  06BE200011,  AR04,   111,  1,      7,      7,2,20001222,1800, 16.2148, -59.6833, 5004,   3498.2,   2.4059,  34.9133,2,-999.0000,9,   -999.0,9,  -999.00,9,  -999.00,9,  -999.00,9,  -999.00,9,    0.342,2,    0.167,2, -999.000, -999.000,9,-999.0000,9,  -999.00,9, -999.000,9,   2.1159
  06BE200011,  AR04,   111,  1,      6,      6,2,20001222,1800, 16.2148, -59.6833, 5004,   3697.8,   2.3462,  34.9073,2,-999.0000,9,   -999.0,9,  -999.00,9,  -999.00,9,  -999.00,9,  -999.00,9,    0.263,2,    0.136,2, -999.000, -999.000,9,-999.0000,9,  -999.00,9, -999.000,9,   2.0360
  06BE200011,  AR04,   111,  1,      5,      5,2,20001222,1800, 16.2148, -59.6833, 5004,   3895.5,   2.3013,  34.9037,2,-999.0000,9,   -999.0,9,  -999.00,9,  -999.00,9,  -999.00,9,  -999.00,9,    0.369,2,    0.188,2, -999.000, -999.000,9,-999.0000,9,  -999.00,9, -999.000,9,   1.9703
  06BE200011,  AR04,   111,  1,      4,      4,2,20001222,1800, 16.2148, -59.6833, 5004,   4196.3,   2.2730,  34.8987,2,-999.0000,9,   -999.0,9,  -999.00,9,  -999.00,9,  -999.00,9,  -999.00,9,    0.336,2,    0.174,2, -999.000, -999.000,9,-999.0000,9,  -999.00,9, -999.000,9,   1.9085
  06BE200011,  AR04,   111,  1,      3,      3,2,20001222,1800, 16.2148, -59.6833, 5004,   4497.3,   2.2402,  34.8914,2,-999.0000,9,   -999.0,9,  -999.00,9,  -999.00,9,  -999.00,9,  -999.00,9,    0.250,2,    0.133,2, -999.000, -999.000,9,-999.0000,9,  -999.00,9, -999.000,9,   1.8412
  06BE200011,  AR04,   111,  1,      2,      2,2,20001222,1800, 16.2148, -59.6833, 5004,   4800.8,   2.1551,  34.8765,2,-999.0000,9,   -999.0,9,  -999.00,9,  -999.00,9,  -999.00,9,  -999.00,9,    0.135,2,    0.074,2, -999.000, -999.000,9,-999.0000,9,  -999.00,9, -999.000,9,   1.7220
  06BE200011,  AR04,   111,  1,      1,      1,2,20001222,1800, 16.2148, -59.6833, 5004,   5002.6,   2.1084,  34.8674,2,-999.0000,9,   -999.0,9,  -999.00,9,  -999.00,9,  -999.00,9,  -999.00,9,    0.115,2,    0.065,2, -999.000, -999.000,9,-999.0000,9,  -999.00,9, -999.000,9,   1.6519
  06BE200011,  AR04,   112,  1,     22,     22,2,20001222,2341, 16.2597, -59.9407, 4844,      7.5,  26.8172,  35.7968,2,-999.0000,9,    206.5,2,     2.10,2,     0.07,2,     0.00,9,     0.05,2,    1.554,2,    0.946,2, -999.000, -999.000,9,-999.0000,9,  -999.00,9, -999.000,9,  26.8155
  06BE200011,  AR04,   112,  1,     21,     21,2,20001222,2341, 16.2597, -59.9407, 4844,    997.1,   5.7178,  34.9792,2,-999.0000,9,   -999.0,9,    11.74,2,    24.19,2,     0.02,2,     1.46,2,    0.939,2,    0.496,2, -999.000, -999.000,9,-999.0000,9,  -999.00,9, -999.000,9,   5.6286
  06BE200011,  AR04,   112,  1,     20,     20,2,20001222,2341, 16.2597, -59.9407, 4844,   1198.1,   4.9343,  35.0211,2,-999.0000,9,    224.8,2,    15.92,2,    20.47,2,     0.01,2,     1.36,2,    0.431,2,    0.224,2, -999.000, -999.000,9,-999.0000,9,  -999.00,9, -999.000,9,   4.8324
  06BE200011,  AR04,   112,  1,     19,     19,2,20001222,2341, 16.2597, -59.9407, 4844,   1396.8,   4.4050,  35.0191,2,-999.0000,9,   -999.0,9,    13.55,2,    18.31,2,     0.00,9,     1.23,2,    0.616,2,    0.315,2, -999.000, -999.000,9,-999.0000,9,  -999.00,9, -999.000,9,   4.2897
  06BE200011,  AR04,   112,  1,     18,     18,2,20001222,2341, 16.2597, -59.9407, 4844,   1496.9,   4.1579,  35.0058,2,  34.9978,2,    257.6,2,    13.50,2,    17.91,2,     0.00,9,     1.19,2,    0.649,2,    0.329,2, -999.000, -999.000,9,-999.0000,9,  -999.00,9, -999.000,9,   4.0361
  06BE200011,  AR04,   112,  1,     17,     17,2,20001222,2341, 16.2597, -59.9407, 4844,   1644.0,   3.9168,  34.9952,2,-999.0000,9,   -999.0,9,  -999.00,9,  -999.00,9,  -999.00,9,  -999.00,9, -999.000,9, -999.000,9, -999.000, -999.000,9,-999.0000,9,  -999.00,9, -999.000,9,   3.7843
  06BE200011,  AR04,   112,  1,     16,     16,2,20001222,2341, 16.2597, -59.9407, 4844,   1645.8,   3.9185,  34.9951,2,  34.9882,2,    261.1,2,  -999.00,9,  -999.00,9,  -999.00,9,  -999.00,9,    0.564,2,    0.288,2, -999.000, -999.000,9,-999.0000,9,  -999.00,9, -999.000,9,   3.7858
  06BE200011,  AR04,   112,  1,     15,     15,2,20001222,2341, 16.2597, -59.9407, 4844,   1797.0,   3.6893,  34.9843,2,-999.0000,9,   -999.0,9,    15.16,2,    17.60,2,     0.02,2,     1.16,2,    0.533,2,    0.271,2, -999.000, -999.000,9,-999.0000,9,  -999.00,9, -999.000,9,   3.5455
  06BE200011,  AR04,   112,  1,     14,     14,2,20001222,2341, 16.2597, -59.9407, 4844,   1948.5,   3.5158,  34.9836,2,  34.9766,2,    261.9,2,    17.38,2,    17.98,2,     0.01,2,     1.22,2,    0.281,2,    0.147,2, -999.000, -999.000,9,-999.0000,9,  -999.00,9, -999.000,9,   3.3603
  06BE200011,  AR04,   112,  1,     13,     13,2,20001222,2341, 16.2597, -59.9407, 4844,   2096.6,   3.3491,  34.9751,2,  34.9690,2,   -999.0,9,    18.55,2,    18.05,2,     0.01,2,     1.22,2,    0.248,2,    0.127,2, -999.000, -999.000,9,-999.0000,9,  -999.00,9, -999.000,9,   3.1821
  06BE200011,  AR04,   112,  1,     12,     12,2,20001222,2341, 16.2597, -59.9407, 4844,   2099.6,   3.3433,  34.9749,2,-999.0000,9,    262.8,2,  -999.00,9,  -999.00,9,  -999.00,9,  -999.00,9,    0.250,2,    0.128,2, -999.000, -999.000,9,-999.0000,9,  -999.00,9, -999.000,9,   3.1761
  06BE200011,  AR04,   112,  1,     11,     11,2,20001222,2341, 16.2597, -59.9407, 4844,   2197.7,   3.2249,  34.9675,2,-999.0000,9,   -999.0,9,    19.38,2,    18.19,2,     0.01,2,     1.23,2,    0.258,2,    0.133,2, -999.000, -999.000,9,-999.0000,9,  -999.00,9, -999.000,9,   3.0502
  06BE200011,  AR04,   112,  1,     10,     10,2,20001222,2341, 16.2597, -59.9407, 4844,   2399.4,   3.0376,  34.9559,2,-999.0000,9,   -999.0,9,  -999.00,9,  -999.00,9,  -999.00,9,  -999.00,9, -999.000,9, -999.000,9, -999.000, -999.000,9,-999.0000,9,  -999.00,9, -999.000,9,   2.8467
  06BE200011,  AR04,   112,  1,      9,      9,2,20001222,2341, 16.2597, -59.9407, 4844,   2598.6,   2.8976,  34.9472,2,-999.0000,9,   -999.0,9,  -999.00,9,  -999.00,9,  -999.00,9,  -999.00,9, -999.000,9, -999.000,9, -999.000, -999.000,9,-999.0000,9,  -999.00,9, -999.000,9,   2.6898
  06BE200011,  AR04,   112,  1,      8,      8,2,20001222,2341, 16.2597, -59.9407, 4844,   2899.1,   2.6760,  34.9326,2,-999.0000,9,    265.9,2,    24.75,2,    18.27,2,     0.00,9,     1.25,2,    0.276,2,    0.138,2, -999.000, -999.000,9,-999.0000,9,  -999.00,9, -999.000,9,   2.4425
  06BE200011,  AR04,   112,  1,      7,      7,2,20001222,2341, 16.2597, -59.9407, 4844,   3198.9,   2.5179,  34.9212,2,  34.9152,2,   -999.0,9,    26.84,2,    18.34,2,     0.00,9,     1.26,2,    0.281,2,    0.142,2, -999.000, -999.000,9,-999.0000,9,  -999.00,9, -999.000,9,   2.2571
  06BE200011,  AR04,   112,  1,      6,      6,2,20001222,2341, 16.2597, -59.9407, 4844,   3500.2,   2.3728,  34.9114,2,-999.0000,9,    270.7,2,    26.19,2,    17.75,2,     0.01,2,     1.22,2,    0.439,2,    0.222,2, -999.000, -999.000,9,-999.0000,9,  -999.00,9, -999.000,9,   2.0835
  06BE200011,  AR04,   112,  1,      5,      5,2,20001222,2341, 16.2597, -59.9407, 4844,   3702.8,   2.3271,  34.9066,2,  34.9015,2,   -999.0,9,    27.84,2,    18.09,2,     0.01,2,     1.28,2,    0.390,2,    0.198,2, -999.000, -999.000,9,-999.0000,9,  -999.00,9, -999.000,9,   2.0169
  06BE200011,  AR04,   112,  1,      4,      4,2,20001222,2341, 16.2597, -59.9407, 4844,   3897.8,   2.3087,  34.9039,2,-999.0000,9,    268.1,2,    29.63,2,    18.53,2,     0.01,2,     1.28,2,    0.301,2,    0.153,2, -999.000, -999.000,9,-999.0000,9,  -999.00,9, -999.000,9,   1.9773
  06BE200011,  AR04,   112,  1,      3,      3,2,20001222,2341, 16.2597, -59.9407, 4844,   4199.3,   2.2885,  34.8998,2,  34.8952,2,   -999.0,9,    30.46,2,    18.41,2,     0.01,2,     1.28,2,    0.322,2,    0.165,2, -999.000, -999.000,9,-999.0000,9,  -999.00,9, -999.000,9,   1.9232
  06BE200011,  AR04,   112,  1,      2,      2,2,20001222,2341, 16.2597, -59.9407, 4844,   4500.5,   2.2322,  34.8904,2,-999.0000,9,   -999.0,9,    43.46,2,    20.46,2,     0.01,2,     1.42,2, -999.000,9, -999.000,9, -999.000, -999.000,9,-999.0000,9,  -999.00,9, -999.000,9,   1.8330
  06BE200011,  AR04,   112,  1,      1,      1,2,20001222,2341, 16.2597, -59.9407, 4844,   4841.5,   2.1497,  34.8753,2,  34.8698,2,   -999.0,9,    43.15,2,    20.80,2,     0.01,2,     1.45,2,    0.145,2,    0.079,2, -999.000, -999.000,9,-999.0000,9,  -999.00,9, -999.000,9,   1.7118