BOTTLE,20111027CCHDOSIOCBG
EXPOCODE,SECT_ID,STNNBR,CASTNO,SAMPNO,BTLNBR,BTLNBR_FLAG_W,DATE,TIME,LATITUDE,LONGITUDE,DEPTH,CTDPRS,CTDTMP,CTDSAL,CTDSAL_FLAG_W,SALNTY,SALNTY_FLAG_W,OXYGEN,OXYGEN_FLAG_W,SILCAT,SILCAT_FLAG_W,NITRAT,NITRAT_FLAG_W,NITRIT,NITRIT_FLAG_W,PHSPHT,PHSPHT_FLAG_W,CFC-11,CFC-11_FLAG_W,CFC-12,CFC-12_FLAG_W,TRITUM,TRITER,TRITUM_FLAG_W,HELIUM,HELIUM_FLAG_W,DELHE3,DELHE3_FLAG_W,NEON,NEON_FLAG_W,THETA
,,,,,,,,,,,METERS,DBAR,ITS-90,PSS-78,,PSS-78,,UMOL/KG,,UMOL/KG,,UMOL/KG,,UMOL/KG,,UMOL/KG,,PMOL/KG,,PMOL/KG,,TU,TU,,NMOL/KG,,PERCNT,,NMOL/KG,,DEG C
  06BE200011,  AR04,    75,  1,     22,     22,2,20001216,2007, 14.9725, -48.1517, 2660,     10.1,  25.9745,  35.7412,2,-999.0000,9,    206.6,2,     2.70,2,     0.15,2,     0.00,9,     0.00,9,    1.593,2,    0.965,2, -999.000, -999.000,9,-999.0000,9,    -1.16,2, -999.000,9,  25.9722
  06BE200011,  AR04,    75,  1,     21,     21,2,20001216,2007, 14.9725, -48.1517, 2660,    201.8,  17.1946,  36.4034,2,-999.0000,9,    150.4,2,     3.20,2,    10.51,2,     0.01,2,     0.55,2, -999.000,9, -999.000,9, -999.000, -999.000,9,-999.0000,9,     2.01,2, -999.000,9,  17.1607
  06BE200011,  AR04,    75,  1,     20,     20,2,20001216,2007, 14.9725, -48.1517, 2660,    597.7,   7.6722,  34.8630,2,-999.0000,9,    113.1,2,    19.94,2,    32.21,2,     0.00,9,     1.96,2, -999.000,9, -999.000,9, -999.000, -999.000,9,   1.7838,2,     1.73,2, -999.000,9,   7.6117
  06BE200011,  AR04,    75,  1,     19,     19,2,20001216,2007, 14.9725, -48.1517, 2660,    695.9,   6.6395,  34.7615,2,-999.0000,9,   -999.0,9,  -999.00,9,  -999.00,9,  -999.00,9,  -999.00,9, -999.000,9, -999.000,9, -999.000, -999.000,9,-999.0000,9,  -999.00,9,    7.735,2,   6.5741
  06BE200011,  AR04,    75,  1,     18,     18,2,20001216,2007, 14.9725, -48.1517, 2660,    795.3,   6.1300,  34.7527,2,-999.0000,9,    126.2,2,    24.68,2,    33.51,2,     0.00,9,     2.14,2, -999.000,9, -999.000,9, -999.000, -999.000,9,   1.8058,2,     2.12,2,    7.757,2,   6.0578
  06BE200011,  AR04,    75,  1,     17,     17,2,20001216,2007, 14.9725, -48.1517, 2660,    897.3,   5.6867,  34.7935,2,-999.0000,9,    137.1,2,    25.22,2,    32.31,2,     0.00,9,     2.08,2,    0.025,2,    0.013,2, -999.000, -999.000,9,-999.0000,9,     2.33,2,    7.799,2,   5.6075
  06BE200011,  AR04,    75,  1,     16,     16,2,20001216,2007, 14.9725, -48.1517, 2660,   1042.4,   5.3954,  34.8623,2,-999.0000,9,    157.2,2,    23.79,2,    29.76,2,     0.00,9,     1.92,2,    0.032,2,    0.017,2, -999.000, -999.000,9,   1.7903,2,     2.05,2,    7.769,2,   5.3045
  06BE200011,  AR04,    75,  1,     15,     15,2,20001216,2007, 14.9725, -48.1517, 2660,   1200.4,   5.1967,  34.9318,2,-999.0000,9,    180.7,2,    21.23,2,    26.21,2,     0.01,2,     1.71,2, -999.000,9,    0.033,2, -999.000, -999.000,9,   1.8522,2,  -999.00,9,    7.886,2,   5.0924
  06BE200011,  AR04,    75,  1,     14,     14,2,20001216,2007, 14.9725, -48.1517, 2660,   1348.7,   4.9238,  34.9711,2,-999.0000,9,    201.2,2,    19.52,2,    24.04,2,     0.00,9,     1.58,2,    0.085,2,    0.047,2, -999.000, -999.000,9,-999.0000,9,     2.73,2, -999.000,9,   4.8078
  06BE200011,  AR04,    75,  1,     13,     13,2,20001216,2007, 14.9725, -48.1517, 2660,   1497.8,   4.4477,  34.9987,2,-999.0000,9,    228.3,2,    17.68,2,    20.86,2,     0.00,9,     1.37,2,    0.123,2,    0.066,2, -999.000,    0.008,9,   1.8022,2,     3.74,2,    7.864,2,   4.3226
  06BE200011,  AR04,    75,  1,     12,     12,2,20001216,2007, 14.9725, -48.1517, 2660,   1651.3,   4.1050,  34.9994,2,-999.0000,9,    243.2,2,    17.67,2,    19.62,2,     0.00,9,     1.28,2,    0.112,2,    0.058,2, -999.000, -999.000,9,   1.8102,2,     6.06,2,    7.867,2,   3.9694
  06BE200011,  AR04,    75,  1,     11,     11,2,20001216,2007, 14.9725, -48.1517, 2660,   1800.8,   3.8584,  34.9933,2,-999.0000,9,    251.9,2,    18.91,2,    19.56,2,     0.00,9,     1.27,2,    0.077,2,    0.042,2, -999.000, -999.000,9,-999.0000,9,  -999.00,9, -999.000,9,   3.7120
  06BE200011,  AR04,    75,  1,     10,     10,2,20001216,2007, 14.9725, -48.1517, 2660,   2002.4,   3.4284,  34.9759,2,-999.0000,9,   -999.0,9,  -999.00,9,  -999.00,9,  -999.00,9,  -999.00,9, -999.000,9, -999.000,9, -999.000, -999.000,9,   1.8406,2,     7.90,2,    7.827,2,   3.2691
  06BE200011,  AR04,    75,  1,      9,      9,2,20001216,2007, 14.9725, -48.1517, 2660,   2004.0,   3.4278,  34.9760,2,-999.0000,9,    252.3,2,    22.65,2,    19.58,2,     0.00,9,     1.27,2,    0.035,2,    0.018,2, -999.000, -999.000,9,-999.0000,9,  -999.00,9, -999.000,9,   3.2683
  06BE200011,  AR04,    75,  1,      8,      8,2,20001216,2007, 14.9725, -48.1517, 2660,   2184.7,   3.2013,  34.9632,2,-999.0000,9,   -999.0,9,  -999.00,9,  -999.00,9,  -999.00,9,  -999.00,9, -999.000,9, -999.000,9, -999.000,    0.003,9,-999.0000,9,    10.58,2,    7.962,2,   3.0283
  06BE200011,  AR04,    75,  1,      7,      7,2,20001216,2007, 14.9725, -48.1517, 2660,   2186.2,   3.2001,  34.9632,2,-999.0000,9,    253.2,2,    25.76,2,    19.59,2,     0.01,2,     1.29,2,    0.028,2,    0.015,2, -999.000, -999.000,9,-999.0000,9,  -999.00,9, -999.000,9,   3.0270
  06BE200011,  AR04,    75,  1,      6,      6,2,20001216,2007, 14.9725, -48.1517, 2660,   2299.7,   3.0865,  34.9568,2,-999.0000,9,   -999.0,9,  -999.00,9,  -999.00,9,  -999.00,9,  -999.00,9, -999.000,9, -999.000,9, -999.000,    0.002,9,   1.8131,2,    12.19,2,    7.754,2,   2.9044
  06BE200011,  AR04,    75,  1,      5,      5,2,20001216,2007, 14.9725, -48.1517, 2660,   2300.4,   3.0860,  34.9566,2,-999.0000,9,    252.8,2,    27.62,2,    19.81,2,     0.00,9,     1.31,2,    0.021,2,    0.013,2, -999.000, -999.000,9,-999.0000,9,  -999.00,9, -999.000,9,   2.9038
  06BE200011,  AR04,    75,  1,      4,      4,2,20001216,2007, 14.9725, -48.1517, 2660,   2493.7,   2.9149,  34.9456,2,-999.0000,9,   -999.0,9,  -999.00,9,  -999.00,9,  -999.00,9,  -999.00,9, -999.000,9, -999.000,9, -999.000,    0.002,9,   1.8151,2,  -999.00,9,    7.895,2,   2.7171
  06BE200011,  AR04,    75,  1,      3,      3,2,20001216,2007, 14.9725, -48.1517, 2660,   2494.3,   2.9118,  34.9455,2,-999.0000,9,    253.2,2,    30.68,2,    20.02,2,     0.00,9,     1.32,2,    0.020,2,    0.011,2, -999.000, -999.000,9,-999.0000,9,  -999.00,9, -999.000,9,   2.7140
  06BE200011,  AR04,    75,  1,      1,      1,2,20001216,2007, 14.9725, -48.1517, 2660,   2656.9,   2.8010,  34.9377,2,-999.0000,9,   -999.0,9,  -999.00,9,  -999.00,9,  -999.00,9,  -999.00,9,    0.020,2,    0.011,2, -999.000, -999.000,9,-999.0000,9,  -999.00,9, -999.000,9,   2.5893
  06BE200011,  AR04,    75,  1,      2,      2,2,20001216,2007, 14.9725, -48.1517, 2660,   2657.0,   2.8004,  34.9376,2,-999.0000,9,    252.8,2,    32.84,2,    20.14,2,     0.00,9,     1.36,2, -999.000,9, -999.000,9, -999.000,    0.003,9,   1.8032,2,     3.25,2,    7.742,2,   2.5887
  06BE200011,  AR04,    76,  1,     22,     22,2,20001217,0054, 15.0338, -48.7952, 3059,     11.9,  26.0775,  35.7489,2,  35.7421,2,    207.9,2,     2.95,2,     0.17,2,     0.00,9,     0.01,2,    1.594,2,    0.964,2, -999.000, -999.000,9,-999.0000,9,  -999.00,9,    6.614,2,  26.0748
  06BE200011,  AR04,    76,  1,     21,     21,2,20001217,0054, 15.0338, -48.7952, 3059,    201.0,  18.3155,  36.5780,2,-999.0000,9,    148.6,2,     3.07,2,     9.45,2,     0.02,2,     0.46,2, -999.000,9, -999.000,9, -999.000, -999.000,9,-999.0000,9,  -999.00,9,    7.748,2,  18.2802
  06BE200011,  AR04,    76,  1,     20,     20,2,20001217,0054, 15.0338, -48.7952, 3059,    297.4,  14.2472,  35.9020,2,-999.0000,9,    125.2,2,     6.43,2,    17.75,2,     0.01,2,     0.98,2, -999.000,9, -999.000,9, -999.000, -999.000,9,-999.0000,9,     1.92,2,    7.756,2,  14.2032
  06BE200011,  AR04,    76,  1,     19,     19,2,20001217,0054, 15.0338, -48.7952, 3059,    498.6,   9.2580,  35.0631,2,  35.0513,2,    106.5,2,    15.24,2,    29.26,2,     0.00,9,     1.80,2, -999.000,9, -999.000,9, -999.000, -999.000,9,-999.0000,9,  -999.00,9, -999.000,9,   9.2019
  06BE200011,  AR04,    76,  1,     18,     18,2,20001217,0054, 15.0338, -48.7952, 3059,    597.7,   7.7516,  34.8706,2,-999.0000,9,    111.8,2,    19.11,2,    32.08,2,     0.00,9,     2.02,2, -999.000,9, -999.000,9, -999.000, -999.000,9,-999.0000,9,     1.21,2,    7.731,2,   7.6908
  06BE200011,  AR04,    76,  1,     17,     17,2,20001217,0054, 15.0338, -48.7952, 3059,    698.0,   6.8302,  34.7824,2,-999.0000,9,    117.4,2,    21.93,2,    33.29,2,     0.00,9,     2.15,2, -999.000,9, -999.000,9, -999.000, -999.000,9,-999.0000,9,  -999.00,9,    7.826,2,   6.7636
  06BE200011,  AR04,    76,  1,     16,     16,2,20001217,0054, 15.0338, -48.7952, 3059,    797.2,   6.2648,  34.7400,2,-999.0000,9,    123.5,2,    23.72,2,    33.38,2,     0.02,2,     2.18,2, -999.000,9, -999.000,9, -999.000, -999.000,9,-999.0000,9,     2.24,2,    7.862,2,   6.1916
  06BE200011,  AR04,    76,  1,     15,     15,2,20001217,0054, 15.0338, -48.7952, 3059,    897.5,   5.8575,  34.7659,2,  34.7597,2,    130.5,2,    24.74,2,    33.04,2,     0.00,9,     2.16,2,    0.031,2,    0.018,2, -999.000, -999.000,9,-999.0000,9,     2.04,2, -999.000,9,   5.7772
  06BE200011,  AR04,    76,  1,     14,     14,2,20001217,0054, 15.0338, -48.7952, 3059,    999.4,   5.5512,  34.8143,2,-999.0000,9,    145.8,2,    24.25,2,    31.38,2,     0.01,2,     2.06,2,    0.024,2,    0.013,2, -999.000, -999.000,9,   1.7820,2,  -999.00,9,    7.912,2,   5.4633
  06BE200011,  AR04,    76,  1,     13,     13,2,20001217,0054, 15.0338, -48.7952, 3059,   1197.7,   5.2120,  34.9269,2,-999.0000,9,    178.1,2,    21.39,2,    26.71,2,     0.01,2,     1.79,2,    0.044,2,    0.023,2, -999.000, -999.000,9,-999.0000,9,     3.01,2,    7.956,2,   5.1078
  06BE200011,  AR04,    76,  1,     12,     12,2,20001217,0054, 15.0338, -48.7952, 3059,   1298.0,   5.0227,  34.9662,2,-999.0000,9,    193.8,2,    19.96,2,    24.63,2,     0.01,2,     1.64,2,    0.085,2,    0.046,2, -999.000, -999.000,9,   1.8145,2,     3.88,2,    7.865,2,   4.9106
  06BE200011,  AR04,    76,  1,     11,     11,2,20001217,0054, 15.0338, -48.7952, 3059,   1396.9,   4.7836,  34.9874,2,-999.0000,9,    210.0,2,    18.85,2,    23.08,2,     0.01,2,     1.53,2,    0.093,2,    0.048,2,    0.086, -999.000,2,-999.0000,9,  -999.00,9, -999.000,9,   4.6644
  06BE200011,  AR04,    76,  1,     10,     10,2,20001217,0054, 15.0338, -48.7952, 3059,   1501.2,   4.5756,  34.9961,2,-999.0000,9,    220.5,2,    18.41,2,    22.03,2,     0.01,2,     1.46,2,    0.089,2,    0.046,2, -999.000, -999.000,9,-999.0000,9,     3.29,2,    7.917,2,   4.4487
  06BE200011,  AR04,    76,  1,      9,      9,2,20001217,0054, 15.0338, -48.7952, 3059,   1599.9,   4.2656,  34.9987,2,-999.0000,9,    232.7,2,    18.34,2,    21.17,2,     0.00,9,     1.38,2,    0.072,2,    0.039,2,    0.039, -999.000,2,-999.0000,9,  -999.00,9, -999.000,9,   4.1329
  06BE200011,  AR04,    76,  1,      8,      8,2,20001217,0054, 15.0338, -48.7952, 3059,   1698.4,   4.0753,  34.9969,2,-999.0000,9,   -999.0,9,  -999.00,9,  -999.00,9,  -999.00,9,  -999.00,9, -999.000,9, -999.000,9, -999.000, -999.000,9,   1.8060,2,  -999.00,9,    7.939,2,   3.9357
  06BE200011,  AR04,    76,  1,      7,      7,2,20001217,0054, 15.0338, -48.7952, 3059,   1796.2,   3.8945,  34.9928,2,-999.0000,9,    244.5,2,    19.18,2,    20.37,2,     0.01,2,     1.33,2,    0.047,2,    0.026,2,    0.028, -999.000,2,-999.0000,9,  -999.00,9, -999.000,9,   3.7480
  06BE200011,  AR04,    76,  1,      6,      6,2,20001217,0054, 15.0338, -48.7952, 3059,   1997.4,   3.5468,  34.9812,2,-999.0000,9,    251.5,2,    21.34,2,    19.64,2,     0.01,2,     1.30,2,    0.042,2,    0.022,2, -999.000, -999.000,9,   1.8243,2,     3.51,2,    7.859,2,   3.3862
  06BE200011,  AR04,    76,  1,      5,      5,2,20001217,0054, 15.0338, -48.7952, 3059,   2200.6,   3.2169,  34.9652,2,-999.0000,9,    254.1,2,    24.63,2,    19.74,2,     0.01,2,     1.30,2,    0.032,2,    0.016,2, -999.000, -999.000,9,-999.0000,9,  -999.00,9, -999.000,9,   3.0421
  06BE200011,  AR04,    76,  1,      4,      4,2,20001217,0054, 15.0338, -48.7952, 3059,   2397.7,   3.0623,  34.9554,2,-999.0000,9,    255.0,2,    26.70,2,    19.67,2,     0.01,2,     1.30,2,    0.030,2,    0.016,2, -999.000, -999.000,9,   1.8542,2,     3.62,2, -999.000,9,   2.8712
  06BE200011,  AR04,    76,  1,      3,      3,2,20001217,0054, 15.0338, -48.7952, 3059,   2598.8,   2.9267,  34.9457,2,-999.0000,9,    254.1,2,    29.80,2,    20.12,2,     0.01,2,     1.33,2,    0.023,2,    0.012,2, -999.000, -999.000,9,-999.0000,9,  -999.00,9, -999.000,9,   2.7183
  06BE200011,  AR04,    76,  1,      2,      2,2,20001217,0054, 15.0338, -48.7952, 3059,   2800.2,   2.8179,  34.9379,2,-999.0000,9,    253.7,2,    32.01,2,    20.43,2,     0.01,2,     1.35,2,    0.020,2,    0.011,2, -999.000, -999.000,9,   1.8312,2,     1.16,2,    7.953,2,   2.5915
  06BE200011,  AR04,    76,  1,      1,      1,2,20001217,0054, 15.0338, -48.7952, 3059,   3055.8,   2.6244,  34.9220,2,-999.0000,9,    252.3,2,    36.24,2,    20.43,2,     0.01,2,     1.39,2,    0.017,2,    0.009,2,    0.022, -999.000,2,-999.0000,9,  -999.00,9, -999.000,9,   2.3760
  06BE200011,  AR04,    77,  1,     22,     22,2,20001217,0558, 15.1122, -49.4583, 2139,      9.2,  26.1623,  35.5452,2,  35.5410,2,    205.7,2,     2.98,2,     0.22,2,     0.01,2,     0.02,2,    1.594,2,    0.961,2, -999.000, -999.000,9,-999.0000,9,  -999.00,9, -999.000,9,  26.1602
  06BE200011,  AR04,    77,  1,     21,     21,2,20001217,0558, 15.1122, -49.4583, 2139,    101.2,  24.2622,  37.1386,2,-999.0000,9,   -999.0,9,  -999.00,9,  -999.00,9,  -999.00,9,  -999.00,9, -999.000,9, -999.000,9, -999.000, -999.000,9,-999.0000,9,  -999.00,9, -999.000,9,  24.2405
  06BE200011,  AR04,    77,  1,     20,     20,2,20001217,0558, 15.1122, -49.4583, 2139,    101.8,  24.2920,  37.1377,2,-999.0000,9,    211.7,2,     1.03,2,     0.24,2,     0.03,2,     0.02,2, -999.000,9, -999.000,9, -999.000, -999.000,9,-999.0000,9,  -999.00,9,    7.661,2,  24.2702
  06BE200011,  AR04,    77,  1,     19,     19,2,20001217,0558, 15.1122, -49.4583, 2139,    300.6,  13.7981,  35.7900,2,-999.0000,9,    122.6,2,     7.07,2,    18.82,2,     0.01,2,     1.02,2, -999.000,9, -999.000,9, -999.000, -999.000,9,-999.0000,9,  -999.00,9, -999.000,9,  13.7546
  06BE200011,  AR04,    77,  1,     18,     18,2,20001217,0558, 15.1122, -49.4583, 2139,    398.2,  11.1623,  35.3649,2,  35.3570,2,    116.5,2,    11.21,2,    23.89,2,     0.01,2,     1.43,2, -999.000,9, -999.000,9, -999.000, -999.000,9,-999.0000,9,  -999.00,9,    7.778,2,  11.1121
  06BE200011,  AR04,    77,  1,     17,     17,2,20001217,0558, 15.1122, -49.4583, 2139,    500.9,   8.2754,  34.9502,2,-999.0000,9,    120.0,2,    17.56,2,    29.51,2,     0.01,2,     1.87,2, -999.000,9, -999.000,9, -999.000, -999.000,9,-999.0000,9,  -999.00,9, -999.000,9,   8.2227
  06BE200011,  AR04,    77,  1,     16,     16,2,20001217,0558, 15.1122, -49.4583, 2139,    598.0,   7.3241,  34.8319,2,-999.0000,9,    121.4,2,    20.25,2,    31.11,2,     0.01,2,     2.00,2, -999.000,9, -999.000,9, -999.000, -999.000,9,-999.0000,9,  -999.00,9,    7.784,2,   7.2652
  06BE200011,  AR04,    77,  1,     15,     15,2,20001217,0558, 15.1122, -49.4583, 2139,    696.6,   6.3778,  34.7338,2,  34.7270,2,    125.3,2,    23.34,2,    33.28,2,     0.01,2,     2.14,2, -999.000,9, -999.000,9, -999.000, -999.000,9,-999.0000,9,  -999.00,9,    7.976,2,   6.3137
  06BE200011,  AR04,    77,  1,     14,     14,2,20001217,0558, 15.1122, -49.4583, 2139,    798.6,   5.7939,  34.7155,2,  34.7109,2,    133.6,2,    24.76,2,    33.13,2,     0.01,2,     2.18,2, -999.000,9, -999.000,9, -999.000, -999.000,9,-999.0000,9,     2.44,2, -999.000,9,   5.7234
  06BE200011,  AR04,    77,  1,     13,     13,2,20001217,0558, 15.1122, -49.4583, 2139,    900.5,   5.4991,  34.7538,2,-999.0000,9,    143.2,2,    24.83,2,    31.95,2,     0.01,2,     2.12,2,    0.038,2,    0.022,2, -999.000, -999.000,9,-999.0000,9,  -999.00,9,    7.896,2,   5.4209
  06BE200011,  AR04,    77,  1,     12,     12,2,20001217,0558, 15.1122, -49.4583, 2139,    999.0,   5.4300,  34.8195,2,-999.0000,9,    151.9,2,    23.70,2,    30.39,2,     0.01,2,     2.01,2,    0.133,2,    0.070,2, -999.000, -999.000,9,-999.0000,9,     4.81,2,    7.932,2,   5.3430
  06BE200011,  AR04,    77,  1,     11,     11,2,20001217,0558, 15.1122, -49.4583, 2139,   1100.9,   5.3128,  34.8936,2,-999.0000,9,    169.4,2,    21.98,2,    27.94,2,     0.00,9,     1.83,2, -999.000,9, -999.000,9, -999.000,    0.004,9,-999.0000,9,  -999.00,9, -999.000,9,   5.2170
  06BE200011,  AR04,    77,  1,     10,     10,2,20001217,0558, 15.1122, -49.4583, 2139,   1204.0,   5.1351,  34.9490,2,-999.0000,9,    186.8,2,    20.09,2,    25.40,2,     0.01,2,     1.69,2,    0.145,2,    0.074,2, -999.000, -999.000,9,-999.0000,9,  -999.00,9,    7.983,2,   5.0309
  06BE200011,  AR04,    77,  1,      9,      9,2,20001217,0558, 15.1122, -49.4583, 2139,   1298.3,   4.9970,  34.9697,2,-999.0000,9,    197.3,2,    19.23,2,    24.22,2,     0.01,2,     1.62,2,    0.074,2,    0.038,2, -999.000,    0.007,9,-999.0000,9,  -999.00,9, -999.000,9,   4.8851
  06BE200011,  AR04,    77,  1,      8,      8,2,20001217,0558, 15.1122, -49.4583, 2139,   1397.5,   4.8189,  34.9907,2,-999.0000,9,    213.9,2,    17.72,2,    22.46,2,     0.00,9,     1.48,2,    0.067,2,    0.036,2, -999.000, -999.000,9,-999.0000,9,     4.55,2, -999.000,9,   4.6993
  06BE200011,  AR04,    77,  1,      7,      7,2,20001217,0558, 15.1122, -49.4583, 2139,   1498.6,   4.4927,  35.0011,2,-999.0000,9,    229.6,2,    16.76,2,    20.72,2,     0.00,9,     1.37,2,    0.054,2,    0.026,2, -999.000,    0.002,9,-999.0000,9,  -999.00,9, -999.000,9,   4.3670
  06BE200011,  AR04,    77,  1,      6,      6,2,20001217,0558, 15.1122, -49.4583, 2139,   1597.4,   4.2290,  34.9990,2,-999.0000,9,    239.7,2,    16.81,2,    20.13,2,     0.00,9,     1.34,2,    0.039,2,    0.019,2,    0.051, -999.000,2,-999.0000,9,     3.27,2,    7.869,2,   4.0970
  06BE200011,  AR04,    77,  1,      5,      5,2,20001217,0558, 15.1122, -49.4583, 2139,   1702.6,   4.0836,  34.9971,2,-999.0000,9,    243.2,2,    17.21,2,    19.74,2,     0.01,2,     1.30,2,    0.115,2,    0.063,2, -999.000, -999.000,9,-999.0000,9,  -999.00,9, -999.000,9,   3.9435
  06BE200011,  AR04,    77,  1,      4,      4,2,20001217,0558, 15.1122, -49.4583, 2139,   1796.3,   3.9988,  34.9948,2,-999.0000,9,    247.5,2,    17.44,2,    19.26,2,     0.01,2,     1.27,2,    0.105,2,    0.055,2,    0.038, -999.000,2,-999.0000,9,     3.22,2,    7.930,2,   3.8509
  06BE200011,  AR04,    77,  1,      3,      3,2,20001217,0558, 15.1122, -49.4583, 2139,   1897.4,   3.7392,  34.9880,2,-999.0000,9,    249.3,2,    18.51,2,    19.37,2,     0.02,2,     1.27,2,    0.076,2,    0.038,2, -999.000, -999.000,9,-999.0000,9,  -999.00,9, -999.000,9,   3.5853
  06BE200011,  AR04,    77,  1,      2,      2,2,20001217,0558, 15.1122, -49.4583, 2139,   2000.1,   3.5998,  34.9826,2,  34.9779,2,    251.9,2,    19.77,2,    19.35,2,     0.00,9,     1.28,2,    0.057,2,    0.032,2, -999.000, -999.000,9,-999.0000,9,     3.47,2,    7.943,2,   3.4381
  06BE200011,  AR04,    77,  1,      1,      1,2,20001217,0558, 15.1122, -49.4583, 2139,   2137.6,   3.3422,  34.9704,2,  34.9679,2,    254.1,2,    21.94,2,    19.04,2,     0.00,9,     1.28,2,    0.048,2,    0.025,2,    0.023,    0.002,2,-999.0000,9,  -999.00,9, -999.000,9,   3.1714