BOTTLE,20111027CCHDOSIOCBG
EXPOCODE,SECT_ID,STNNBR,CASTNO,SAMPNO,BTLNBR,BTLNBR_FLAG_W,DATE,TIME,LATITUDE,LONGITUDE,DEPTH,CTDPRS,CTDTMP,CTDSAL,CTDSAL_FLAG_W,SALNTY,SALNTY_FLAG_W,OXYGEN,OXYGEN_FLAG_W,SILCAT,SILCAT_FLAG_W,NITRAT,NITRAT_FLAG_W,NITRIT,NITRIT_FLAG_W,PHSPHT,PHSPHT_FLAG_W,CFC-11,CFC-11_FLAG_W,CFC-12,CFC-12_FLAG_W,TRITUM,TRITER,TRITUM_FLAG_W,HELIUM,HELIUM_FLAG_W,DELHE3,DELHE3_FLAG_W,NEON,NEON_FLAG_W,THETA
,,,,,,,,,,,METERS,DBAR,ITS-90,PSS-78,,PSS-78,,UMOL/KG,,UMOL/KG,,UMOL/KG,,UMOL/KG,,UMOL/KG,,PMOL/KG,,PMOL/KG,,TU,TU,,NMOL/KG,,PERCNT,,NMOL/KG,,DEG C
  06BE200011,  AR04,    78,  1,     22,     22,2,20001217,1026, 15.1732, -50.0812, 2643,      8.2,  26.2213,  35.4075,2,  35.4033,2,    206.2,2,     2.87,2,     0.16,2,     0.01,2,     0.01,2,    1.574,2,    0.963,2, -999.000, -999.000,9,-999.0000,9,  -999.00,9, -999.000,9,  26.2195
  06BE200011,  AR04,    78,  1,     21,     21,2,20001217,1026, 15.1732, -50.0812, 2643,     98.5,  23.8390,  37.1609,2,-999.0000,9,    207.3,2,     1.07,2,     0.22,2,     0.06,2,     0.12,2, -999.000,9, -999.000,9, -999.000, -999.000,9,-999.0000,9,  -999.00,9, -999.000,9,  23.8182
  06BE200011,  AR04,    78,  1,     20,     20,2,20001217,1026, 15.1732, -50.0812, 2643,    194.0,  18.5968,  36.6243,2,-999.0000,9,    152.1,2,     2.79,2,     9.00,2,     0.02,2,     0.43,2, -999.000,9, -999.000,9, -999.000, -999.000,9,-999.0000,9,  -999.00,9, -999.000,9,  18.5624
  06BE200011,  AR04,    78,  1,     19,     19,2,20001217,1026, 15.1732, -50.0812, 2643,    297.6,  13.9241,  35.7832,2,-999.0000,9,    113.8,2,     7.16,2,    19.95,2,     0.01,2,     1.13,2, -999.000,9, -999.000,9, -999.000, -999.000,9,-999.0000,9,  -999.00,9, -999.000,9,  13.8808
  06BE200011,  AR04,    78,  1,     18,     18,2,20001217,1026, 15.1732, -50.0812, 2643,    496.8,   9.3501,  35.0951,2,  35.0695,2,    117.0,2,    14.55,2,    28.42,2,     0.01,2,     1.75,2, -999.000,9, -999.000,9, -999.000, -999.000,9,-999.0000,9,  -999.00,9, -999.000,9,   9.2939
  06BE200011,  AR04,    78,  1,     17,     17,2,20001217,1026, 15.1732, -50.0812, 2643,    596.7,   7.8028,  34.8882,2,-999.0000,9,    120.9,2,    18.63,2,    30.96,2,     0.01,2,     1.99,2, -999.000,9, -999.000,9, -999.000, -999.000,9,-999.0000,9,  -999.00,9, -999.000,9,   7.7418
  06BE200011,  AR04,    78,  1,     16,     16,2,20001217,1026, 15.1732, -50.0812, 2643,    696.3,   6.5250,  34.7548,2,-999.0000,9,    126.6,2,    21.92,2,    32.98,2,     0.01,2,     2.17,2, -999.000,9, -999.000,9, -999.000, -999.000,9,-999.0000,9,  -999.00,9, -999.000,9,   6.4602
  06BE200011,  AR04,    78,  1,     15,     15,2,20001217,1026, 15.1732, -50.0812, 2643,    799.3,   5.9726,  34.7196,2,-999.0000,9,    131.4,2,    23.67,2,    33.42,2,     0.01,2,     2.22,2,    0.074,2,    0.042,2, -999.000, -999.000,9,-999.0000,9,  -999.00,9, -999.000,9,   5.9010
  06BE200011,  AR04,    78,  1,     14,     14,2,20001217,1026, 15.1732, -50.0812, 2643,    896.0,   5.5624,  34.7434,2,  34.7391,2,    136.2,2,    24.43,2,    32.14,2,     0.01,2,     2.17,2,    0.042,2,    0.022,2, -999.000, -999.000,9,-999.0000,9,  -999.00,9,    7.870,2,   5.4842
  06BE200011,  AR04,    78,  1,     13,     13,2,20001217,1026, 15.1732, -50.0812, 2643,    999.6,   5.3883,  34.8330,2,-999.0000,9,    155.4,2,    23.17,2,    30.37,2,     0.01,2,     2.02,2,    0.044,2,    0.021,2, -999.000, -999.000,9,-999.0000,9,  -999.00,9, -999.000,9,   5.3015
  06BE200011,  AR04,    78,  1,     12,     12,2,20001217,1026, 15.1732, -50.0812, 2643,   1197.7,   5.1791,  34.9475,2,-999.0000,9,    186.8,2,    19.82,2,    25.79,2,     0.01,2,     1.74,2,    0.103,2,    0.051,2, -999.000, -999.000,9,-999.0000,9,  -999.00,9,    7.917,2,   5.0751
  06BE200011,  AR04,    78,  1,     11,     11,2,20001217,1026, 15.1732, -50.0812, 2643,   1298.6,   4.9488,  34.9780,2,-999.0000,9,    203.0,2,    18.55,2,    23.83,2,     0.01,2,     1.61,2,    0.109,2,    0.054,2, -999.000, -999.000,9,-999.0000,9,  -999.00,9, -999.000,9,   4.8373
  06BE200011,  AR04,    78,  1,     10,     10,2,20001217,1026, 15.1732, -50.0812, 2643,   1399.5,   4.7366,  34.9943,2,-999.0000,9,    215.2,2,    17.62,2,    22.46,2,     0.01,2,     1.50,2,    0.121,2,    0.064,2, -999.000, -999.000,9,-999.0000,9,  -999.00,9, -999.000,9,   4.6177
  06BE200011,  AR04,    78,  1,      9,      9,2,20001217,1026, 15.1732, -50.0812, 2643,   1496.2,   4.5750,  35.0049,2,-999.0000,9,   -999.0,9,  -999.00,9,  -999.00,9,  -999.00,9,  -999.00,9, -999.000,9, -999.000,9, -999.000, -999.000,9,   1.8013,2,  -999.00,9, -999.000,9,   4.4486
  06BE200011,  AR04,    78,  1,      8,      8,2,20001217,1026, 15.1732, -50.0812, 2643,   1598.8,   4.3003,  35.0057,2,-999.0000,9,   -999.0,9,    17.64,2,    22.40,2,     0.02,2,     1.49,2,    0.122,2,    0.065,2, -999.000, -999.000,9,-999.0000,9,  -999.00,9,    7.965,2,   4.1673
  06BE200011,  AR04,    78,  1,      7,      7,2,20001217,1026, 15.1732, -50.0812, 2643,   1697.9,   3.9747,  34.9992,2,-999.0000,9,    247.5,2,    17.06,2,    19.60,2,     0.01,2,     1.30,2,    0.132,2,    0.069,2, -999.000, -999.000,9,   1.8035,2,  -999.00,9, -999.000,9,   3.8364
  06BE200011,  AR04,    78,  1,      6,      6,2,20001217,1026, 15.1732, -50.0812, 2643,   1796.3,   3.7565,  34.9917,2,-999.0000,9,    251.9,2,    18.29,2,    19.39,2,     0.02,2,     1.31,2,    0.087,2,    0.046,2, -999.000,    0.003,9,-999.0000,9,  -999.00,9,    7.996,2,   3.6119
  06BE200011,  AR04,    78,  1,      5,      5,2,20001217,1026, 15.1732, -50.0812, 2643,   1899.1,   3.6147,  34.9867,2,  34.9816,2,    253.2,2,    19.06,2,    19.25,2,     0.01,2,     1.29,2,    0.070,2,    0.037,2, -999.000, -999.000,9,   1.7992,2,  -999.00,9, -999.000,9,   3.4624
  06BE200011,  AR04,    78,  1,      4,      4,2,20001217,1026, 15.1732, -50.0812, 2643,   2096.7,   3.3467,  34.9731,2,-999.0000,9,    255.8,2,    21.52,2,    19.28,2,     0.01,2,     1.29,2,    0.053,2,    0.028,2, -999.000,    0.003,9,-999.0000,9,  -999.00,9,    8.034,2,   3.1797
  06BE200011,  AR04,    78,  1,      3,      3,2,20001217,1026, 15.1732, -50.0812, 2643,   2296.7,   3.1228,  34.9594,2,-999.0000,9,    256.3,2,    24.59,2,    19.35,2,     0.01,2,     1.33,2,    0.044,2,    0.022,2, -999.000, -999.000,9,   1.8273,2,  -999.00,9, -999.000,9,   2.9404
  06BE200011,  AR04,    78,  1,      2,      2,2,20001217,1026, 15.1732, -50.0812, 2643,   2493.9,   3.0129,  34.9516,2,  34.9474,2,    255.8,2,    26.60,2,    19.84,2,     0.01,2,     1.34,2,    0.036,2,    0.019,2, -999.000, -999.000,9,-999.0000,9,  -999.00,9,    8.027,2,   2.8133
  06BE200011,  AR04,    78,  1,      1,      1,2,20001217,1026, 15.1732, -50.0812, 2643,   2641.3,   2.8648,  34.9415,2,-999.0000,9,    254.5,2,    29.60,2,    19.87,2,     0.02,2,     1.37,2, -999.000,9,    0.016,2, -999.000,    0.002,9,   1.8296,2,  -999.00,9, -999.000,9,   2.6534
  06BE200011,  AR04,    79,  1,     22,     22,2,20001217,1428, 15.2630, -50.5697, 2725,     10.2,  26.2740,  35.0705,2,-999.0000,9,    206.6,2,     3.07,2,     0.22,2,     0.00,9,     0.01,2, -999.000,9, -999.000,9, -999.000, -999.000,9,-999.0000,9,  -999.00,9, -999.000,9,  26.2717
  06BE200011,  AR04,    79,  1,     21,     21,2,20001217,1428, 15.2630, -50.5697, 2725,    200.3,  18.4076,  36.6074,2,-999.0000,9,    153.9,2,     2.52,2,     8.66,2,     0.01,2,     0.43,2, -999.000,9, -999.000,9, -999.000, -999.000,9,-999.0000,9,  -999.00,9, -999.000,9,  18.3723
  06BE200011,  AR04,    79,  1,     20,     20,2,20001217,1428, 15.2630, -50.5697, 2725,    498.9,   9.2246,  35.0779,2,-999.0000,9,    115.7,2,    15.26,2,    28.70,2,     0.01,2,     1.77,2, -999.000,9, -999.000,9, -999.000, -999.000,9,-999.0000,9,  -999.00,9, -999.000,9,   9.1686
  06BE200011,  AR04,    79,  1,     19,     19,2,20001217,1428, 15.2630, -50.5697, 2725,    597.4,   7.4404,  34.8450,2,-999.0000,9,    121.4,2,    19.60,2,    32.10,2,     0.01,2,     2.05,2, -999.000,9, -999.000,9, -999.000, -999.000,9,-999.0000,9,  -999.00,9, -999.000,9,   7.3810
  06BE200011,  AR04,    79,  1,     18,     18,2,20001217,1428, 15.2630, -50.5697, 2725,    695.3,   6.5647,  34.7654,2,-999.0000,9,    120.9,2,    22.16,2,    33.33,2,     0.01,2,     2.22,2, -999.000,9, -999.000,9, -999.000, -999.000,9,-999.0000,9,  -999.00,9, -999.000,9,   6.4997
  06BE200011,  AR04,    79,  1,     17,     17,2,20001217,1428, 15.2630, -50.5697, 2725,    798.4,   6.0013,  34.7508,2,-999.0000,9,    128.4,2,    23.79,2,    33.23,2,     0.01,2,     2.23,2, -999.000,9, -999.000,9, -999.000, -999.000,9,-999.0000,9,  -999.00,9, -999.000,9,   5.9295
  06BE200011,  AR04,    79,  1,     16,     16,2,20001217,1428, 15.2630, -50.5697, 2725,    899.3,   5.5968,  34.7697,2,-999.0000,9,    139.3,2,    24.29,2,    32.43,2,     0.01,2,     2.18,2,    0.034,2,    0.017,2, -999.000, -999.000,9,-999.0000,9,  -999.00,9, -999.000,9,   5.5181
  06BE200011,  AR04,    79,  1,     15,     15,2,20001217,1428, 15.2630, -50.5697, 2725,    996.0,   5.4668,  34.8200,2,-999.0000,9,    150.6,2,    23.49,2,    30.83,2,     0.01,2,     2.07,2,    0.039,2,    0.020,2, -999.000, -999.000,9,-999.0000,9,  -999.00,9, -999.000,9,   5.3798
  06BE200011,  AR04,    79,  1,     14,     14,2,20001217,1428, 15.2630, -50.5697, 2725,   1201.0,   5.1272,  34.9599,2,-999.0000,9,    191.7,2,    19.38,2,    25.19,2,     0.01,2,     1.70,2,    0.107,2,    0.057,2, -999.000, -999.000,9,-999.0000,9,  -999.00,9, -999.000,9,   5.0234
  06BE200011,  AR04,    79,  1,     13,     13,2,20001217,1428, 15.2630, -50.5697, 2725,   1396.2,   4.6889,  35.0046,2,-999.0000,9,    224.8,2,    16.32,2,    21.42,2,     0.01,2,     1.45,2,    0.237,2,    0.124,2, -999.000, -999.000,9,-999.0000,9,  -999.00,9, -999.000,9,   4.5707
  06BE200011,  AR04,    79,  1,     12,     12,2,20001217,1428, 15.2630, -50.5697, 2725,   1497.0,   4.3474,  35.0053,2,-999.0000,9,    241.0,2,    15.61,2,    19.77,2,     0.00,9,     1.32,2,    0.245,2,    0.127,2, -999.000, -999.000,9,-999.0000,9,  -999.00,9, -999.000,9,   4.2235
  06BE200011,  AR04,    79,  1,     11,     11,2,20001217,1428, 15.2630, -50.5697, 2725,   1598.9,   3.9652,  34.9993,2,-999.0000,9,    250.2,2,    16.50,2,    19.27,2,     0.01,2,     1.29,2,    0.159,2,    0.083,2, -999.000, -999.000,9,-999.0000,9,  -999.00,9, -999.000,9,   3.8362
  06BE200011,  AR04,    79,  1,     10,     10,2,20001217,1428, 15.2630, -50.5697, 2725,   1699.8,   3.8504,  34.9943,2,-999.0000,9,    252.3,2,    17.01,2,    18.99,2,     0.01,2,     1.29,2,    0.149,2,    0.081,2, -999.000, -999.000,9,-999.0000,9,  -999.00,9, -999.000,9,   3.7135
  06BE200011,  AR04,    79,  1,      9,      9,2,20001217,1428, 15.2630, -50.5697, 2725,   1799.6,   3.7327,  34.9899,2,-999.0000,9,    252.8,2,    17.86,2,    19.01,2,     0.00,9,     1.28,2,    0.108,2,    0.058,2, -999.000, -999.000,9,-999.0000,9,     2.02,2, -999.000,9,   3.5881
  06BE200011,  AR04,    79,  1,      8,      8,2,20001217,1428, 15.2630, -50.5697, 2725,   1898.3,   3.7051,  34.9884,2,-999.0000,9,    253.2,2,    18.19,2,    19.01,2,     0.01,2,     1.29,2,    0.095,2,    0.050,2, -999.000, -999.000,9,-999.0000,9,  -999.00,9, -999.000,9,   3.5516
  06BE200011,  AR04,    79,  1,      7,      7,2,20001217,1428, 15.2630, -50.5697, 2725,   2000.2,   3.5658,  34.9833,2,-999.0000,9,    255.0,2,    19.14,2,    19.18,2,     0.03,2,     1.34,2,    0.075,2,    0.039,2, -999.000, -999.000,9,-999.0000,9,     2.52,2, -999.000,9,   3.4046
  06BE200011,  AR04,    79,  1,      6,      6,2,20001217,1428, 15.2630, -50.5697, 2725,   2098.8,   3.4041,  34.9752,2,-999.0000,9,    255.8,2,    21.03,2,    19.07,2,     0.01,2,     1.30,2,    0.052,2,    0.027,2, -999.000, -999.000,9,   1.7907,2,  -999.00,9, -999.000,9,   3.2360
  06BE200011,  AR04,    79,  1,      5,      5,2,20001217,1428, 15.2630, -50.5697, 2725,   2200.1,   3.2284,  34.9658,2,-999.0000,9,    255.8,2,    22.80,2,    19.35,2,     0.01,2,     1.33,2,    0.047,2,    0.025,2, -999.000, -999.000,9,-999.0000,9,     2.58,2, -999.000,9,   3.0535
  06BE200011,  AR04,    79,  1,      4,      4,2,20001217,1428, 15.2630, -50.5697, 2725,   2301.4,   3.1187,  34.9589,2,-999.0000,9,    255.8,2,    24.43,2,    19.02,2,     0.01,2,     1.33,2,    0.042,2,    0.021,2, -999.000, -999.000,9,   1.8255,2,  -999.00,9, -999.000,9,   2.9359
  06BE200011,  AR04,    79,  1,      3,      3,2,20001217,1428, 15.2630, -50.5697, 2725,   2496.2,   2.9302,  34.9465,2,-999.0000,9,    255.0,2,    28.10,2,    19.85,2,     0.01,2,     1.35,2,    0.043,2,    0.023,2,    0.049, -999.000,2,-999.0000,9,     3.52,2, -999.000,9,   2.7319
  06BE200011,  AR04,    79,  1,      2,      2,2,20001217,1428, 15.2630, -50.5697, 2725,   2599.4,   2.8681,  34.9417,2,-999.0000,9,    254.1,2,    29.34,2,    20.02,2,     0.01,2,     1.37,2,    0.037,2,    0.021,2,    0.045, -999.000,2,-999.0000,9,  -999.00,9, -999.000,9,   2.6608
  06BE200011,  AR04,    79,  1,      1,      1,2,20001217,1428, 15.2630, -50.5697, 2725,   2722.2,   2.7884,  34.9358,2,-999.0000,9,    254.1,2,    30.97,2,    20.27,2,     0.01,2,     1.38,2,    0.038,2,    0.021,2,    0.034, -999.000,2,-999.0000,9,     3.13,2, -999.000,9,   2.5705
  06BE200011,  AR04,    80,  1,     21,     21,2,20001217,1857, 15.2857, -51.1438, 2520,      9.7,  26.3940,  35.2153,2,  35.2059,2,    204.9,2,     2.88,2,     0.12,2,     0.01,2,     0.01,2, -999.000,9, -999.000,9, -999.000, -999.000,9,-999.0000,9,  -999.00,9, -999.000,9,  26.3918
  06BE200011,  AR04,    80,  1,     22,     22,2,20001217,1857, 15.2857, -51.1438, 2520,      9.7,  26.3927,  35.2153,2,-999.0000,9,   -999.0,9,     2.97,2,     0.14,2,     0.00,9,     0.04,2, -999.000,9, -999.000,9, -999.000, -999.000,9,-999.0000,9,  -999.00,9, -999.000,9,  26.3905
  06BE200011,  AR04,    80,  1,     20,     20,2,20001217,1857, 15.2857, -51.1438, 2520,    101.4,  24.4065,  37.1232,2,-999.0000,9,    206.9,2,     0.87,2,     0.19,2,     0.02,2,     0.04,2, -999.000,9, -999.000,9, -999.000, -999.000,9,-999.0000,9,  -999.00,9, -999.000,9,  24.3847
  06BE200011,  AR04,    80,  1,     19,     19,2,20001217,1857, 15.2857, -51.1438, 2520,    146.5,  21.1275,  37.0374,2,-999.0000,9,   -999.0,9,     1.39,2,     3.92,2,     0.02,2,     0.18,2, -999.000,9, -999.000,9, -999.000, -999.000,9,-999.0000,9,  -999.00,9, -999.000,9,  21.0991
  06BE200011,  AR04,    80,  1,     18,     18,2,20001217,1857, 15.2857, -51.1438, 2520,    196.7,  18.1227,  36.5535,2,-999.0000,9,    161.3,2,     2.70,2,     9.29,2,     0.01,2,     0.44,2, -999.000,9, -999.000,9, -999.000, -999.000,9,-999.0000,9,  -999.00,9, -999.000,9,  18.0884
  06BE200011,  AR04,    80,  1,     17,     17,2,20001217,1857, 15.2857, -51.1438, 2520,    298.8,  14.8655,  35.9810,2,-999.0000,9,   -999.0,9,     5.79,2,    16.87,2,     0.01,2,     0.94,2, -999.000,9, -999.000,9, -999.000, -999.000,9,-999.0000,9,  -999.00,9, -999.000,9,  14.8200
  06BE200011,  AR04,    80,  1,     16,     16,2,20001217,1857, 15.2857, -51.1438, 2520,    395.0,  11.7492,  35.4433,2,-999.0000,9,   -999.0,9,     9.76,2,    23.10,2,     0.01,2,     1.37,2, -999.000,9, -999.000,9, -999.000, -999.000,9,-999.0000,9,  -999.00,9, -999.000,9,  11.6977
  06BE200011,  AR04,    80,  1,     15,     15,2,20001217,1857, 15.2857, -51.1438, 2520,    498.2,   9.3738,  35.1281,2,-999.0000,9,    120.9,2,    14.67,2,    28.17,2,     0.00,9,     1.75,2, -999.000,9, -999.000,9, -999.000, -999.000,9,-999.0000,9,  -999.00,9, -999.000,9,   9.3173
  06BE200011,  AR04,    80,  1,     14,     14,2,20001217,1857, 15.2857, -51.1438, 2520,    647.8,   6.9036,  34.7904,2,-999.0000,9,   -999.0,9,    20.93,2,    32.78,2,     0.01,2,     2.10,2, -999.000,9, -999.000,9, -999.000, -999.000,9,-999.0000,9,  -999.00,9, -999.000,9,   6.8416
  06BE200011,  AR04,    80,  1,     13,     13,2,20001217,1857, 15.2857, -51.1438, 2520,    745.3,   6.1739,  34.7273,2,  34.7213,2,   -999.0,9,    23.28,2,    33.37,2,     0.01,2,     2.20,2, -999.000,9, -999.000,9, -999.000, -999.000,9,-999.0000,9,  -999.00,9, -999.000,9,   6.1063
  06BE200011,  AR04,    80,  1,     12,     12,2,20001217,1857, 15.2857, -51.1438, 2520,    841.3,   5.6675,  34.7375,2,-999.0000,9,   -999.0,9,    24.63,2,    33.27,2,     0.00,9,     2.22,2,    0.046,2,    0.025,2, -999.000, -999.000,9,-999.0000,9,  -999.00,9, -999.000,9,   5.5938
  06BE200011,  AR04,    80,  1,     11,     11,2,20001217,1857, 15.2857, -51.1438, 2520,    888.2,   5.5901,  34.7622,2,-999.0000,9,    138.0,2,    24.45,2,    32.66,2,     0.00,9,     2.18,2,    0.042,2,    0.022,2, -999.000, -999.000,9,-999.0000,9,  -999.00,9, -999.000,9,   5.5125
  06BE200011,  AR04,    80,  1,     10,     10,2,20001217,1857, 15.2857, -51.1438, 2520,   1101.4,   5.3337,  34.9136,2,-999.0000,9,    173.8,2,    21.10,2,    27.48,2,     0.01,2,     1.84,2,    0.079,2,    0.043,2, -999.000, -999.000,9,-999.0000,9,  -999.00,9, -999.000,9,   5.2376
  06BE200011,  AR04,    80,  1,      9,      9,2,20001217,1857, 15.2857, -51.1438, 2520,   1250.7,   5.1308,  34.9777,2,-999.0000,9,    199.9,2,    18.35,2,    24.05,2,     0.01,2,     1.61,2,    0.181,2,    0.095,2,    0.110, -999.000,2,-999.0000,9,  -999.00,9,    7.861,2,   5.0222
  06BE200011,  AR04,    80,  1,      8,      8,2,20001217,1857, 15.2857, -51.1438, 2520,   1396.5,   4.8286,  35.0051,2,-999.0000,9,    220.0,2,    16.52,2,    21.73,2,     0.01,2,     1.45,2,    0.243,2,    0.125,2, -999.000, -999.000,9,-999.0000,9,  -999.00,9, -999.000,9,   4.7090
  06BE200011,  AR04,    80,  1,      7,      7,2,20001217,1857, 15.2857, -51.1438, 2520,   1545.0,   4.3086,  35.0074,2,-999.0000,9,   -999.0,9,  -999.00,9,  -999.00,9,  -999.00,9,  -999.00,9, -999.000,9, -999.000,9,    0.082, -999.000,2,-999.0000,9,  -999.00,9,    7.813,2,   4.1806
  06BE200011,  AR04,    80,  1,      6,      6,2,20001217,1857, 15.2857, -51.1438, 2520,   1599.6,   4.2079,  35.0041,2,-999.0000,9,    246.7,2,    15.09,2,    19.39,2,     0.01,2,     1.30,2,    0.284,2,    0.149,2, -999.000, -999.000,9,-999.0000,9,     2.29,2, -999.000,9,   4.0759
  06BE200011,  AR04,    80,  1,      5,      5,2,20001217,1857, 15.2857, -51.1438, 2520,   1850.2,   3.6941,  34.9901,2,-999.0000,9,    254.1,2,    17.52,2,    19.05,2,     0.01,2,     1.28,2,    0.109,2,    0.060,2,    0.047, -999.000,2,-999.0000,9,  -999.00,9,    7.819,2,   3.5452
  06BE200011,  AR04,    80,  1,      4,      4,2,20001217,1857, 15.2857, -51.1438, 2520,   1999.3,   3.4724,  34.9782,2,  34.9733,2,   -999.0,9,    20.26,2,    19.13,2,     0.03,2,     1.30,2,    0.057,2,    0.032,2, -999.000, -999.000,9,-999.0000,9,     2.95,2, -999.000,9,   3.3127
  06BE200011,  AR04,    80,  1,      3,      3,2,20001217,1857, 15.2857, -51.1438, 2520,   2148.7,   3.3318,  34.9704,2,-999.0000,9,    255.4,2,    21.87,2,    19.38,2,     0.01,2,     1.31,2,    0.053,2,    0.028,2, -999.000,    0.003,9,-999.0000,9,  -999.00,9,    7.942,2,   3.1601
  06BE200011,  AR04,    80,  1,      2,      2,2,20001217,1857, 15.2857, -51.1438, 2520,   2299.1,   3.1115,  34.9586,2,-999.0000,9,    256.3,2,    24.43,2,    19.43,2,     0.01,2,     1.32,2,    0.042,2,    0.022,2, -999.000,    0.002,9,-999.0000,9,  -999.00,9, -999.000,9,   2.9290
  06BE200011,  AR04,    80,  1,      1,      1,2,20001217,1857, 15.2857, -51.1438, 2520,   2518.3,   2.9273,  34.9464,2,-999.0000,9,    255.8,2,    27.30,2,    19.71,2,     0.01,2,     1.37,2,    0.047,2,    0.024,2, -999.000,    0.002,9,-999.0000,9,  -999.00,9,    7.987,2,   2.7268