BOTTLE,20111027CCHDOSIOCBG
EXPOCODE,SECT_ID,STNNBR,CASTNO,SAMPNO,BTLNBR,BTLNBR_FLAG_W,DATE,TIME,LATITUDE,LONGITUDE,DEPTH,CTDPRS,CTDTMP,CTDSAL,CTDSAL_FLAG_W,SALNTY,SALNTY_FLAG_W,OXYGEN,OXYGEN_FLAG_W,SILCAT,SILCAT_FLAG_W,NITRAT,NITRAT_FLAG_W,NITRIT,NITRIT_FLAG_W,PHSPHT,PHSPHT_FLAG_W,CFC-11,CFC-11_FLAG_W,CFC-12,CFC-12_FLAG_W,TRITUM,TRITER,TRITUM_FLAG_W,HELIUM,HELIUM_FLAG_W,DELHE3,DELHE3_FLAG_W,NEON,NEON_FLAG_W,THETA
,,,,,,,,,,,METERS,DBAR,ITS-90,PSS-78,,PSS-78,,UMOL/KG,,UMOL/KG,,UMOL/KG,,UMOL/KG,,UMOL/KG,,PMOL/KG,,PMOL/KG,,TU,TU,,NMOL/KG,,PERCNT,,NMOL/KG,,DEG C
  06BE200011,  AR04,    60,  1,     22,     22,2,20001213,0620, 10.9393, -41.0437, 4222,      7.8,  25.9858,  35.3662,2,  35.3707,2,    206.2,2,     2.17,2,     0.01,2,     0.01,2,     0.01,2,    1.607,2,    0.966,2, -999.000, -999.000,9,-999.0000,9,  -999.00,9, -999.000,9,  25.9841
  06BE200011,  AR04,    60,  1,     21,     21,2,20001213,0620, 10.9393, -41.0437, 4222,    996.0,   5.3004,  34.7928,2,  34.7953,2,   -999.0,9,    25.46,2,    31.80,2,     0.01,2,     2.00,2,    0.009,2,    0.005,2, -999.000, -999.000,9,-999.0000,9,  -999.00,9,    7.778,2,   5.2147
  06BE200011,  AR04,    60,  1,     20,     20,2,20001213,0620, 10.9393, -41.0437, 4222,   1199.3,   4.9749,  34.8876,2,  34.8895,2,   -999.0,9,    22.60,2,    27.34,2,     0.00,9,     1.79,2,    0.033,2,    0.017,2, -999.000, -999.000,9,-999.0000,9,     2.04,2,    7.983,2,   4.8727
  06BE200011,  AR04,    60,  1,     19,     19,2,20001213,0620, 10.9393, -41.0437, 4222,   1346.5,   4.7581,  34.9511,2,-999.0000,9,   -999.0,9,    19.98,2,    24.18,2,     0.01,2,     1.60,2,    0.051,2,    0.030,2, -999.000, -999.000,9,-999.0000,9,     2.06,2,    7.793,2,   4.6440
  06BE200011,  AR04,    60,  1,     18,     18,2,20001213,0620, 10.9393, -41.0437, 4222,   1498.6,   4.4175,  34.9853,2,-999.0000,9,    226.6,2,    17.71,2,    21.40,2,     0.00,9,     1.41,2,    0.079,2,    0.044,2, -999.000, -999.000,9,   1.8149,2,  -999.00,9,    7.840,2,   4.2927
  06BE200011,  AR04,    60,  1,     17,     17,2,20001213,0620, 10.9393, -41.0437, 4222,   1696.3,   4.0777,  34.9895,2,-999.0000,9,   -999.0,9,    17.15,2,    19.79,2,     0.00,9,     1.28,2,    0.075,2,    0.041,2, -999.000, -999.000,9,-999.0000,9,     3.36,2, -999.000,9,   3.9383
  06BE200011,  AR04,    60,  1,     16,     16,2,20001213,0620, 10.9393, -41.0437, 4222,   1893.2,   3.7377,  34.9829,2,-999.0000,9,   -999.0,9,    18.39,2,    19.08,2,     0.00,9,     1.26,2,    0.085,2,    0.048,2, -999.000, -999.000,9,-999.0000,9,     2.51,2,    7.919,2,   3.5842
  06BE200011,  AR04,    60,  1,     15,     15,2,20001213,0620, 10.9393, -41.0437, 4222,   2196.1,   3.3991,  34.9682,2,-999.0000,9,    255.4,2,    21.42,2,    19.18,2,     0.00,9,     1.26,2,    0.041,2,    0.023,2, -999.000, -999.000,9,   1.8155,2,  -999.00,9,    7.884,2,   3.2218
  06BE200011,  AR04,    60,  1,     14,     14,2,20001213,0620, 10.9393, -41.0437, 4222,   2498.4,   3.1090,  34.9541,2,-999.0000,9,   -999.0,9,    25.53,2,    19.41,2,     0.00,9,     1.27,2,    0.032,2,    0.017,2, -999.000,    0.051,9,-999.0000,9,     2.44,2,    8.028,2,   2.9071
  06BE200011,  AR04,    60,  1,     13,     13,2,20001213,0620, 10.9393, -41.0437, 4222,   2796.1,   2.8836,  34.9406,2,-999.0000,9,   -999.0,9,    29.26,2,    19.94,2,     0.00,9,     1.29,2,    0.024,2,    0.014,2, -999.000, -999.000,9,   1.7607,2,  -999.00,9,    7.958,2,   2.6563
  06BE200011,  AR04,    60,  1,     12,     12,2,20001213,0620, 10.9393, -41.0437, 4222,   3100.1,   2.7157,  34.9287,2,-999.0000,9,    255.4,2,    32.58,2,    20.12,2,     0.00,9,     1.32,2,    0.024,2,    0.013,2, -999.000, -999.000,9,   1.7959,2,     4.46,2,    7.967,2,   2.4607
  06BE200011,  AR04,    60,  1,     11,     11,2,20001213,0620, 10.9393, -41.0437, 4222,   3293.5,   2.6174,  34.9208,2,-999.0000,9,   -999.0,9,    35.32,2,    20.33,2,     0.00,9,     1.33,2, -999.000,9, -999.000,9, -999.000, -999.000,9,   1.8236,2,  -999.00,9, -999.000,9,   2.3442
  06BE200011,  AR04,    60,  1,     10,     10,2,20001213,0620, 10.9393, -41.0437, 4222,   3295.5,   2.6178,  34.9208,2,  34.9180,2,   -999.0,9,  -999.00,9,  -999.00,9,  -999.00,9,  -999.00,9,    0.020,2,    0.012,2,    0.036,    0.039,2,   1.8236,2,  -999.00,9,    7.902,2,   2.3444
  06BE200011,  AR04,    60,  1,      9,      9,2,20001213,0620, 10.9393, -41.0437, 4222,   3401.4,   2.5803,  34.9171,2,-999.0000,9,   -999.0,9,    19.65,2,    19.36,2,     0.00,9,     1.26,2, -999.000,9, -999.000,9, -999.000, -999.000,9,-999.0000,9,  -999.00,9, -999.000,9,   2.2965
  06BE200011,  AR04,    60,  1,      8,      8,2,20001213,0620, 10.9393, -41.0437, 4222,   3495.6,   2.5298,  34.9135,2,-999.0000,9,    252.8,2,    38.14,2,    20.88,2,     0.00,9,     1.38,2,    0.013,2,    0.008,2,    0.029, -999.000,2,-999.0000,9,     3.99,2,    8.016,2,   2.2371
  06BE200011,  AR04,    60,  1,      7,      7,2,20001213,0620, 10.9393, -41.0437, 4222,   3696.4,   2.4560,  34.9059,2,-999.0000,9,   -999.0,9,    40.45,2,    21.09,2,     0.01,2,     1.45,2, -999.000,9, -999.000,9, -999.000, -999.000,9,-999.0000,9,     4.05,2, -999.000,9,   2.1431
  06BE200011,  AR04,    60,  1,      6,      6,2,20001213,0620, 10.9393, -41.0437, 4222,   3779.1,   2.4436,  34.9042,2,-999.0000,9,   -999.0,9,    40.92,2,    21.39,2,     0.00,9,     1.40,2,    0.007,2,    0.005,2,    0.019,    0.002,2,   1.8282,2,     4.05,2,    7.963,2,   2.1219
  06BE200011,  AR04,    60,  1,      4,      4,2,20001213,0620, 10.9393, -41.0437, 4222,   4000.8,   2.4024,  34.8983,2,-999.0000,9,    251.9,2,    42.46,2,    21.43,2,     0.00,9,     1.40,2,    0.016,2,    0.009,2,    0.021,    0.002,2,   1.8535,2,     4.93,2,    8.038,2,   2.0567
  06BE200011,  AR04,    60,  1,      5,      5,2,20001213,0620, 10.9393, -41.0437, 4222,   4001.0,   2.4034,  34.8984,2,-999.0000,9,   -999.0,9,  -999.00,9,  -999.00,9,  -999.00,9,  -999.00,9, -999.000,9, -999.000,9, -999.000, -999.000,9,   1.8535,2,     4.93,2, -999.000,9,   2.0577
  06BE200011,  AR04,    60,  1,      3,      3,2,20001213,0620, 10.9393, -41.0437, 4222,   4178.3,   2.2074,  34.8781,2,-999.0000,9,   -999.0,9,  -999.00,9,  -999.00,9,  -999.00,9,  -999.00,9, -999.000,9, -999.000,9, -999.000, -999.000,9,-999.0000,9,  -999.00,9, -999.000,9,   1.8470
  06BE200011,  AR04,    60,  1,      2,      2,2,20001213,0620, 10.9393, -41.0437, 4222,   4218.7,   2.1979,  34.8768,2,  34.8746,2,    251.5,2,    48.07,2,    21.85,2,     0.01,2,     1.47,2,    0.036,2,    0.020,2, -999.000,    0.001,9,   1.8251,2,     7.79,2, -999.000,9,   1.8331
  06BE200011,  AR04,    60,  1,      1,      1,2,20001213,0620, 10.9393, -41.0437, 4222,   4219.0,   2.1977,  34.8769,2,-999.0000,9,   -999.0,9,  -999.00,9,  -999.00,9,  -999.00,9,  -999.00,9, -999.000,9, -999.000,9, -999.000, -999.000,9,-999.0000,9,  -999.00,9, -999.000,9,   1.8328
  06BE200011,  AR04,    61,  1,     22,     22,2,20001213,1016, 10.8025, -41.0413, 4836,      9.3,  26.2289,  35.5623,2,-999.0000,9,    203.9,2,     1.76,2,     0.10,2,     0.01,2,     0.07,2,    1.577,2,    0.957,2, -999.000, -999.000,9,-999.0000,9,  -999.00,9, -999.000,9,  26.2268
  06BE200011,  AR04,    61,  1,     21,     21,2,20001213,1016, 10.8025, -41.0413, 4836,   1248.5,   4.8023,  34.9432,2,  34.9427,2,    195.1,2,    20.50,2,    24.60,2,     0.01,2,     1.56,2,    0.050,2,    0.026,2, -999.000, -999.000,9,-999.0000,9,  -999.00,9, -999.000,9,   4.6970
  06BE200011,  AR04,    61,  1,     20,     20,2,20001213,1016, 10.8025, -41.0413, 4836,   1497.6,   4.3919,  34.9863,2,-999.0000,9,    227.4,2,    17.63,2,    21.38,2,     0.00,9,     1.38,2,    0.083,2,    0.045,2, -999.000, -999.000,9,-999.0000,9,  -999.00,9,    7.771,2,   4.2674
  06BE200011,  AR04,    61,  1,     19,     19,2,20001213,1016, 10.8025, -41.0413, 4836,   1747.6,   3.9062,  34.9881,2,-999.0000,9,    248.8,2,    17.30,2,    19.45,2,     0.01,2,     1.26,2,    0.112,2,    0.059,2, -999.000, -999.000,9,-999.0000,9,  -999.00,9,    8.042,2,   3.7641
  06BE200011,  AR04,    61,  1,     18,     18,2,20001213,1016, 10.8025, -41.0413, 4836,   1999.4,   3.5797,  34.9769,2,-999.0000,9,    254.1,2,    19.61,2,    19.08,2,     0.01,2,     1.26,2,    0.062,2,    0.034,2, -999.000, -999.000,9,-999.0000,9,     3.59,2, -999.000,9,   3.4184
  06BE200011,  AR04,    61,  1,     17,     17,2,20001213,1016, 10.8025, -41.0413, 4836,   2247.6,   3.2812,  34.9639,2,-999.0000,9,    254.1,2,    23.08,2,    19.16,2,     0.01,2,     1.27,2,    0.031,2,    0.016,2, -999.000, -999.000,9,-999.0000,9,  -999.00,9,    7.993,2,   3.1008
  06BE200011,  AR04,    61,  1,     16,     16,2,20001213,1016, 10.8025, -41.0413, 4836,   2499.0,   3.0737,  34.9526,2,-999.0000,9,    254.5,2,    26.17,2,    19.77,2,     0.00,9,     1.29,2,    0.030,2,    0.016,2, -999.000, -999.000,9,-999.0000,9,  -999.00,9,    7.781,2,   2.8724
  06BE200011,  AR04,    61,  1,     15,     15,2,20001213,1016, 10.8025, -41.0413, 4836,   2747.1,   2.8703,  34.9401,2,-999.0000,9,    257.6,2,    29.34,2,    19.84,2,     0.01,2,     1.32,2,    0.032,2,    0.017,2, -999.000, -999.000,9,-999.0000,9,     2.20,2, -999.000,9,   2.6482
  06BE200011,  AR04,    61,  1,     14,     14,2,20001213,1016, 10.8025, -41.0413, 4836,   2998.2,   2.7497,  34.9313,2,-999.0000,9,    254.5,2,    31.24,2,    20.40,2,     0.00,9,     1.34,2,    0.029,2,    0.015,2,    0.054, -999.000,2,   1.8027,2,  -999.00,9,    8.014,2,   2.5045
  06BE200011,  AR04,    61,  1,     13,     13,2,20001213,1016, 10.8025, -41.0413, 4836,   3398.5,   2.5932,  34.9186,2,-999.0000,9,    252.8,2,    36.32,2,    20.55,2,     0.00,9,     1.39,2,    0.016,2,    0.009,2,    0.050, -999.000,2,-999.0000,9,     4.32,2, -999.000,9,   2.3094
  06BE200011,  AR04,    61,  1,     12,     12,2,20001213,1016, 10.8025, -41.0413, 4836,   3597.0,   2.4863,  34.9093,2,  34.9074,2,    251.9,2,    39.38,2,    21.10,2,     0.01,2,     1.41,2,    0.018,2,    0.010,2,    0.049, -999.000,2,-999.0000,9,     3.08,2,    7.917,2,   2.1836
  06BE200011,  AR04,    61,  1,     11,     11,2,20001213,1016, 10.8025, -41.0413, 4836,   3792.3,   2.4026,  34.9006,2,-999.0000,9,   -999.0,9,  -999.00,9,  -999.00,9,  -999.00,9,  -999.00,9, -999.000,9, -999.000,9, -999.000, -999.000,9,-999.0000,9,     3.76,2, -999.000,9,   2.0805
  06BE200011,  AR04,    61,  1,     10,     10,2,20001213,1016, 10.8025, -41.0413, 4836,   3797.8,   2.3972,  34.9001,2,-999.0000,9,    251.1,2,    42.04,2,    21.33,2,     0.01,2,     1.44,2,    0.016,2,    0.009,2,    0.047,    0.002,2,   1.7983,2,     3.76,2, -999.000,9,   2.0746
  06BE200011,  AR04,    61,  1,      8,      8,2,20001213,1016, 10.8025, -41.0413, 4836,   3996.6,   2.2745,  34.8882,2,-999.0000,9,    253.2,2,    43.55,2,    21.33,2,     0.00,9,     1.45,2,    0.045,2,    0.024,2,    0.030,    0.001,2,   1.8324,2,  -999.00,9,    8.002,2,   1.9329
  06BE200011,  AR04,    61,  1,      9,      9,2,20001213,1016, 10.8025, -41.0413, 4836,   3996.9,   2.2750,  34.8881,2,-999.0000,9,   -999.0,9,  -999.00,9,  -999.00,9,  -999.00,9,  -999.00,9, -999.000,9, -999.000,9, -999.000, -999.000,9,-999.0000,9,  -999.00,9, -999.000,9,   1.9334
  06BE200011,  AR04,    61,  1,      7,      7,2,20001213,1016, 10.8025, -41.0413, 4836,   4297.5,   1.9371,  34.8536,2,-999.0000,9,   -999.0,9,  -999.00,9,  -999.00,9,  -999.00,9,  -999.00,9, -999.000,9, -999.000,9, -999.000, -999.000,9,   1.8591,2,  -999.00,9,    8.005,2,   1.5710
  06BE200011,  AR04,    61,  1,      6,      6,2,20001213,1016, 10.8025, -41.0413, 4836,   4300.1,   1.9292,  34.8525,2,-999.0000,9,    252.4,2,    53.23,2,    22.60,2,     0.01,2,     1.53,2,    0.075,2,    0.043,2,    0.075,    0.002,2,   1.8591,2,     3.77,2,    8.005,2,   1.5630
  06BE200011,  AR04,    61,  1,      4,      4,2,20001213,1016, 10.8025, -41.0413, 4836,   4597.9,   1.7922,  34.8338,2,-999.0000,9,   -999.0,9,  -999.00,9,  -999.00,9,  -999.00,9,  -999.00,9, -999.000,9, -999.000,9,    0.046,    0.002,2,   1.8304,2,     3.58,2,    7.934,2,   1.3955
  06BE200011,  AR04,    61,  1,      5,      5,2,20001213,1016, 10.8025, -41.0413, 4836,   4598.5,   1.7918,  34.8338,2,-999.0000,9,   -999.0,9,    60.41,2,    23.57,2,     0.01,2,     1.61,2, -999.000,9, -999.000,9, -999.000, -999.000,9,   1.8304,2,     3.58,2,    7.934,2,   1.3951
  06BE200011,  AR04,    61,  1,      3,      3,2,20001213,1016, 10.8025, -41.0413, 4836,   4768.7,   1.7652,  34.8285,2,-999.0000,9,   -999.0,9,    62.61,2,    23.92,2,     0.00,9,     1.65,2, -999.000,9, -999.000,9, -999.000, -999.000,9,-999.0000,9,  -999.00,9, -999.000,9,   1.3490
  06BE200011,  AR04,    61,  1,      2,      2,2,20001213,1016, 10.8025, -41.0413, 4836,   4835.1,   1.7740,  34.8286,2,  34.8266,2,    247.6,2,    63.01,2,    23.97,2,     0.01,2,     1.63,2,    0.060,2,    0.033,2, -999.000, -999.000,9,   1.7964,2,     4.09,2,    7.926,2,   1.3495
  06BE200011,  AR04,    61,  1,      1,      1,2,20001213,1016, 10.8025, -41.0413, 4836,   4835.8,   1.7740,  34.8286,2,-999.0000,9,   -999.0,9,  -999.00,9,  -999.00,9,  -999.00,9,  -999.00,9, -999.000,9, -999.000,9, -999.000, -999.000,9,-999.0000,9,  -999.00,9, -999.000,9,   1.3494
  06BE200011,  AR04,    62,  1,     22,     22,2,20001213,1409, 10.9000, -41.0357, 4290,     10.6,  26.2543,  35.5749,2,-999.0000,9,    205.7,2,     1.77,2,     0.07,2,     0.00,9,     0.02,2,    1.541,2,    0.932,2, -999.000, -999.000,9,-999.0000,9,  -999.00,9, -999.000,9,  26.2519
  06BE200011,  AR04,    62,  1,     21,     21,2,20001213,1409, 10.9000, -41.0357, 4290,   1200.4,   4.9793,  34.8916,2,  34.8885,2,    175.1,2,    22.56,2,    26.90,2,     0.01,2,     1.73,2,    0.034,2,    0.017,2, -999.000, -999.000,9,-999.0000,9,  -999.00,9, -999.000,9,   4.8770
  06BE200011,  AR04,    62,  1,     20,     20,2,20001213,1409, 10.9000, -41.0357, 4290,   1396.8,   4.5899,  34.9718,2,-999.0000,9,    213.0,2,    18.67,2,    22.65,2,     0.00,9,     1.47,2,    0.062,2,    0.034,2, -999.000, -999.000,9,-999.0000,9,  -999.00,9, -999.000,9,   4.4728
  06BE200011,  AR04,    62,  1,     19,     19,2,20001213,1409, 10.9000, -41.0357, 4290,   1599.8,   4.1478,  34.9903,2,-999.0000,9,    239.2,2,    17.01,2,    20.29,2,     0.00,9,     1.31,2,    0.079,2,    0.044,2, -999.000, -999.000,9,-999.0000,9,  -999.00,9, -999.000,9,   4.0166
  06BE200011,  AR04,    62,  1,     18,     18,2,20001213,1409, 10.9000, -41.0357, 4290,   1798.5,   3.7766,  34.9848,2,-999.0000,9,    250.6,2,    17.90,2,    19.27,2,     0.00,9,     1.26,2,    0.099,2,    0.055,2, -999.000, -999.000,9,-999.0000,9,  -999.00,9,    7.849,2,   3.6315
  06BE200011,  AR04,    62,  1,     17,     17,2,20001213,1409, 10.9000, -41.0357, 4290,   1993.9,   3.5439,  34.9757,2,-999.0000,9,    253.7,2,    19.80,2,    19.25,2,     0.01,2,     1.24,2,    0.066,2,    0.038,2, -999.000, -999.000,9,-999.0000,9,  -999.00,9, -999.000,9,   3.3837
  06BE200011,  AR04,    62,  1,     16,     16,2,20001213,1409, 10.9000, -41.0357, 4290,   2197.6,   3.3669,  34.9671,2,  34.9645,2,    255.4,2,    21.51,2,    19.15,2,     0.01,2,     1.26,2,    0.049,2,    0.026,2, -999.000, -999.000,9,-999.0000,9,  -999.00,9, -999.000,9,   3.1900
  06BE200011,  AR04,    62,  1,     15,     15,2,20001213,1409, 10.9000, -41.0357, 4290,   2396.7,   3.1801,  34.9581,2,-999.0000,9,    255.0,2,    24.26,2,    19.26,2,     0.00,9,     1.28,2,    0.030,2,    0.016,2, -999.000, -999.000,9,-999.0000,9,  -999.00,9,    7.876,2,   2.9870
  06BE200011,  AR04,    62,  1,     14,     14,2,20001213,1409, 10.9000, -41.0357, 4290,   2597.6,   2.9975,  34.9479,2,-999.0000,9,    255.4,2,    27.28,2,    19.36,2,     0.01,2,     1.27,2,    0.031,2,    0.017,2,    0.041,    0.006,2,-999.0000,9,     3.47,2, -999.000,9,   2.7879
  06BE200011,  AR04,    62,  1,     13,     13,2,20001213,1409, 10.9000, -41.0357, 4290,   2796.3,   2.8346,  34.9381,2,-999.0000,9,    256.3,2,    29.62,2,    19.91,2,     0.00,9,     1.31,2, -999.000,9, -999.000,9,    0.021,    0.005,2,-999.0000,9,  -999.00,9,    7.702,2,   2.6083
  06BE200011,  AR04,    62,  1,     12,     12,2,20001213,1409, 10.9000, -41.0357, 4290,   3001.6,   2.7080,  34.9290,2,-999.0000,9,    254.5,2,    32.42,2,    19.85,2,     0.00,9,     1.33,2,    0.028,2,    0.015,2,    0.027,    0.002,2,-999.0000,9,  -999.00,9,    7.927,2,   2.4634
  06BE200011,  AR04,    62,  1,     11,     11,2,20001213,1409, 10.9000, -41.0357, 4290,   3246.5,   2.6093,  34.9197,2,-999.0000,9,   -999.0,9,  -999.00,9,  -999.00,9,  -999.00,9,  -999.00,9, -999.000,9, -999.000,9, -999.000, -999.000,9,   1.8108,2,  -999.00,9,    7.950,2,   2.3413
  06BE200011,  AR04,    62,  1,     10,     10,2,20001213,1409, 10.9000, -41.0357, 4290,   3249.7,   2.5985,  34.9191,2,  34.9184,2,    254.1,2,    35.39,2,    20.48,2,     0.01,2,     1.39,2,    0.021,2,    0.013,2,    0.100,    0.002,2,   1.8108,2,     3.72,2,    7.950,2,   2.3305
  06BE200011,  AR04,    62,  1,      8,      8,2,20001213,1409, 10.9000, -41.0357, 4290,   3499.9,   2.4970,  34.9110,2,-999.0000,9,    252.4,2,    38.46,2,    20.91,2,     0.01,2,     1.40,2,    0.018,2,    0.009,2,    0.032,    0.001,2,-999.0000,9,     3.33,2, -999.000,9,   2.2046
  06BE200011,  AR04,    62,  1,      9,      9,2,20001213,1409, 10.9000, -41.0357, 4290,   3500.2,   2.4971,  34.9110,2,-999.0000,9,   -999.0,9,  -999.00,9,  -999.00,9,  -999.00,9,  -999.00,9, -999.000,9, -999.000,9, -999.000, -999.000,9,-999.0000,9,  -999.00,9, -999.000,9,   2.2047
  06BE200011,  AR04,    62,  1,      7,      7,2,20001213,1409, 10.9000, -41.0357, 4290,   3795.5,   2.4235,  34.9024,2,-999.0000,9,   -999.0,9,  -999.00,9,  -999.00,9,  -999.00,9,  -999.00,9, -999.000,9, -999.000,9, -999.000, -999.000,9,-999.0000,9,     3.45,2, -999.000,9,   2.1005
  06BE200011,  AR04,    62,  1,      6,      6,2,20001213,1409, 10.9000, -41.0357, 4290,   3797.7,   2.4232,  34.9023,2,  34.9009,2,    251.1,2,    40.26,2,    21.16,2,     0.01,2,     1.48,2,    0.012,2,    0.007,2,    0.081,    0.002,2,   1.7789,2,     3.45,2,    7.990,2,   2.0999
  06BE200011,  AR04,    62,  1,      5,      5,2,20001213,1409, 10.9000, -41.0357, 4290,   3999.8,   2.3884,  34.8972,2,-999.0000,9,   -999.0,9,  -999.00,9,  -999.00,9,  -999.00,9,  -999.00,9, -999.000,9, -999.000,9, -999.000, -999.000,9,-999.0000,9,     4.05,2,    8.006,2,   2.0432
  06BE200011,  AR04,    62,  1,      4,      4,2,20001213,1409, 10.9000, -41.0357, 4290,   3999.9,   2.3876,  34.8971,2,-999.0000,9,    250.2,2,    42.07,2,    21.08,2,     0.01,2,     1.45,2, -999.000,9, -999.000,9, -999.000,    0.002,9,-999.0000,9,     4.05,2,    8.006,2,   2.0424
  06BE200011,  AR04,    62,  1,      3,      3,2,20001213,1409, 10.9000, -41.0357, 4290,   4205.3,   2.0857,  34.8665,2,-999.0000,9,   -999.0,9,  -999.00,9,  -999.00,9,  -999.00,9,  -999.00,9, -999.000,9, -999.000,9, -999.000, -999.000,9,-999.0000,9,  -999.00,9, -999.000,9,   1.7258
  06BE200011,  AR04,    62,  1,      1,      1,2,20001213,1409, 10.9000, -41.0357, 4290,   4288.3,   1.9492,  34.8531,2,-999.0000,9,   -999.0,9,  -999.00,9,  -999.00,9,  -999.00,9,  -999.00,9, -999.000,9, -999.000,9, -999.000, -999.000,9,-999.0000,9,  -999.00,9, -999.000,9,   1.5838
  06BE200011,  AR04,    62,  1,      2,      2,2,20001213,1409, 10.9000, -41.0357, 4290,   4288.7,   1.9461,  34.8529,2,  34.8536,2,    250.6,2,    53.78,2,    22.74,2,     0.01,2,     2.44,2,    0.089,2,    0.051,2,    0.070, -999.000,2,-999.0000,9,     3.91,2,    8.034,2,   1.5807