BOTTLE,20111027CCHDOSIOCBG
EXPOCODE,SECT_ID,STNNBR,CASTNO,SAMPNO,BTLNBR,BTLNBR_FLAG_W,DATE,TIME,LATITUDE,LONGITUDE,DEPTH,CTDPRS,CTDTMP,CTDSAL,CTDSAL_FLAG_W,SALNTY,SALNTY_FLAG_W,OXYGEN,OXYGEN_FLAG_W,SILCAT,SILCAT_FLAG_W,NITRAT,NITRAT_FLAG_W,NITRIT,NITRIT_FLAG_W,PHSPHT,PHSPHT_FLAG_W,CFC-11,CFC-11_FLAG_W,CFC-12,CFC-12_FLAG_W,TRITUM,TRITER,TRITUM_FLAG_W,HELIUM,HELIUM_FLAG_W,DELHE3,DELHE3_FLAG_W,NEON,NEON_FLAG_W,THETA
,,,,,,,,,,,METERS,DBAR,ITS-90,PSS-78,,PSS-78,,UMOL/KG,,UMOL/KG,,UMOL/KG,,UMOL/KG,,UMOL/KG,,PMOL/KG,,PMOL/KG,,TU,TU,,NMOL/KG,,PERCNT,,NMOL/KG,,DEG C
  06BE200011,  AR04,    57,  1,     22,     22,2,20001212,1748,  9.9738, -40.8575, 3511,      7.9,  26.5166,  35.3153,2,  35.3090,2,    204.8,2,     1.89,2,     0.11,2,     0.01,2,     0.01,2,    1.577,2,    0.955,2, -999.000, -999.000,9,-999.0000,9,  -999.00,9, -999.000,9,  26.5148
  06BE200011,  AR04,    57,  1,     21,     21,2,20001212,1748,  9.9738, -40.8575, 3511,    998.7,   5.2212,  34.7665,2,  34.7640,2,    148.0,2,    25.79,2,    31.14,2,     0.01,2,     1.99,2,    0.036,2,    0.017,2, -999.000,    0.002,9,   1.7901,2,  -999.00,9,    7.926,2,   5.1359
  06BE200011,  AR04,    57,  1,     20,     20,2,20001212,1748,  9.9738, -40.8575, 3511,   1202.8,   5.0064,  34.8898,2,-999.0000,9,    179.0,2,    22.25,2,    26.86,2,     0.00,9,     1.77,2,    0.060,2,    0.033,2,    0.076,    0.004,2,-999.0000,9,     2.04,2,    8.045,2,   4.9036
  06BE200011,  AR04,    57,  1,     19,     19,2,20001212,1748,  9.9738, -40.8575, 3511,   1348.1,   4.8134,  34.9652,2,-999.0000,9,   -999.0,9,  -999.00,9,  -999.00,9,  -999.00,9,  -999.00,9, -999.000,9, -999.000,9,    0.115,    0.005,2,-999.0000,9,  -999.00,9,    8.138,2,   4.6986
  06BE200011,  AR04,    57,  1,     18,     18,2,20001212,1748,  9.9738, -40.8575, 3511,   1498.3,   4.4501,  34.9963,2,-999.0000,9,    233.6,2,    16.50,2,    20.54,2,     0.01,2,     1.35,2,    0.191,2,    0.100,2,    0.184, -999.000,2,-999.0000,9,     2.92,2,    7.867,2,   4.3249
  06BE200011,  AR04,    57,  1,     17,     17,2,20001212,1748,  9.9738, -40.8575, 3511,   1638.0,   4.0857,  34.9927,2,  34.9897,2,    246.2,2,    16.53,2,    19.48,2,     0.00,9,     1.26,2,    0.166,2,    0.088,2,    0.165, -999.000,2,   1.7958,2,  -999.00,9, -999.000,9,   3.9517
  06BE200011,  AR04,    57,  1,     16,     16,2,20001212,1748,  9.9738, -40.8575, 3511,   1798.3,   3.8095,  34.9856,2,-999.0000,9,    251.5,2,    17.71,2,    18.90,2,     0.00,9,     1.24,2,    0.110,2,    0.058,2,    0.125,    0.003,2,-999.0000,9,     2.72,2,    7.893,2,   3.6640
  06BE200011,  AR04,    57,  1,     15,     15,2,20001212,1748,  9.9738, -40.8575, 3511,   1896.0,   3.6524,  34.9808,2,  34.9787,2,    253.7,2,    18.74,2,    18.88,2,     0.00,9,     1.24,2,    0.083,2,    0.045,2, -999.000,    0.003,9,-999.0000,9,  -999.00,9, -999.000,9,   3.4999
  06BE200011,  AR04,    57,  1,     14,     14,2,20001212,1748,  9.9738, -40.8575, 3511,   2000.3,   3.5042,  34.9746,2,-999.0000,9,   -999.0,9,  -999.00,9,  -999.00,9,  -999.00,9,  -999.00,9, -999.000,9, -999.000,9,    0.056,    0.003,2,   1.8185,2,     3.32,2,    7.906,2,   3.3440
  06BE200011,  AR04,    57,  1,     13,     13,2,20001212,1748,  9.9738, -40.8575, 3511,   2247.9,   3.2676,  34.9630,2,-999.0000,9,    254.1,2,    23.21,2,    19.27,2,     0.00,9,     1.26,2,    0.026,2,    0.014,2, -999.000,    0.003,9,   1.7864,2,     3.24,2,    7.849,2,   3.0874
  06BE200011,  AR04,    57,  1,     12,     12,2,20001212,1748,  9.9738, -40.8575, 3511,   2496.6,   3.0333,  34.9503,2,-999.0000,9,    256.3,2,    26.27,2,    19.25,2,     0.00,9,     1.28,2,    0.032,2,    0.018,2,    0.045,    0.003,2,   1.7864,2,     3.48,2,    7.944,2,   2.8330
  06BE200011,  AR04,    57,  1,     11,     11,2,20001212,1748,  9.9738, -40.8575, 3511,   2797.7,   2.8082,  34.9361,2,-999.0000,9,   -999.0,9,  -999.00,9,  -999.00,9,  -999.00,9,  -999.00,9, -999.000,9, -999.000,9, -999.000, -999.000,9,-999.0000,9,     4.07,2, -999.000,9,   2.5823
  06BE200011,  AR04,    57,  1,     10,     10,2,20001212,1748,  9.9738, -40.8575, 3511,   2801.4,   2.8084,  34.9360,2,  34.9353,2,    256.7,2,    29.96,2,    19.48,2,     0.00,9,     1.31,2,    0.032,2,    0.017,2,    0.048,    0.003,2,   1.7926,2,     4.07,2,    7.952,2,   2.5821
  06BE200011,  AR04,    57,  1,      9,      9,2,20001212,1748,  9.9738, -40.8575, 3511,   3095.8,   2.7123,  34.9277,2,-999.0000,9,   -999.0,9,  -999.00,9,  -999.00,9,  -999.00,9,  -999.00,9, -999.000,9, -999.000,9, -999.000, -999.000,9,   1.7984,2,     3.74,2,    8.047,2,   2.4578
  06BE200011,  AR04,    57,  1,      8,      8,2,20001212,1748,  9.9738, -40.8575, 3511,   3096.0,   2.7129,  34.9277,2,-999.0000,9,    255.4,2,    32.47,2,    19.80,2,     0.01,2,     1.33,2,    0.027,2,    0.016,2,    0.041, -999.000,2,   1.7984,2,     3.74,2,    8.047,2,   2.4584
  06BE200011,  AR04,    57,  1,      7,      7,2,20001212,1748,  9.9738, -40.8575, 3511,   3196.6,   2.6272,  34.9208,2,-999.0000,9,   -999.0,9,  -999.00,9,  -999.00,9,  -999.00,9,  -999.00,9, -999.000,9, -999.000,9, -999.000, -999.000,9,-999.0000,9,  -999.00,9, -999.000,9,   2.3641
  06BE200011,  AR04,    57,  1,      6,      6,2,20001212,1748,  9.9738, -40.8575, 3511,   3200.7,   2.6268,  34.9207,2,-999.0000,9,    254.5,2,    34.64,2,    20.10,2,     0.01,2,     1.36,2,    0.028,2,    0.015,2,    0.049,    0.005,2,   1.7837,2,     4.84,2,    7.997,2,   2.3633
  06BE200011,  AR04,    57,  1,      5,      5,2,20001212,1748,  9.9738, -40.8575, 3511,   3299.0,   2.6117,  34.9188,2,-999.0000,9,   -999.0,9,  -999.00,9,  -999.00,9,  -999.00,9,  -999.00,9, -999.000,9, -999.000,9, -999.000, -999.000,9,-999.0000,9,  -999.00,9, -999.000,9,   2.3381
  06BE200011,  AR04,    57,  1,      4,      4,2,20001212,1748,  9.9738, -40.8575, 3511,   3299.4,   2.6141,  34.9190,2,  34.9172,2,    255.4,2,    35.18,2,    20.08,2,     0.01,2,     1.36,2,    0.030,2,    0.016,2,    0.041,    0.005,2,-999.0000,9,     6.01,2,    7.890,2,   2.3404
  06BE200011,  AR04,    57,  1,      3,      3,2,20001212,1748,  9.9738, -40.8575, 3511,   3449.5,   2.4937,  34.9087,2,-999.0000,9,   -999.0,9,  -999.00,9,  -999.00,9,  -999.00,9,  -999.00,9, -999.000,9, -999.000,9, -999.000, -999.000,9,-999.0000,9,  -999.00,9, -999.000,9,   2.2069
  06BE200011,  AR04,    57,  1,      1,      1,2,20001212,1748,  9.9738, -40.8575, 3511,   3508.9,   2.4895,  34.9076,2,-999.0000,9,   -999.0,9,  -999.00,9,  -999.00,9,  -999.00,9,  -999.00,9, -999.000,9, -999.000,9, -999.000, -999.000,9,-999.0000,9,  -999.00,9, -999.000,9,   2.1963
  06BE200011,  AR04,    57,  1,      2,      2,2,20001212,1748,  9.9738, -40.8575, 3511,   3509.9,   2.4906,  34.9076,2,-999.0000,9,    254.5,2,    38.51,2,    20.53,2,     0.01,2,     1.38,2,    0.032,2,    0.019,2,    0.047,    0.003,2,   1.8023,2,     5.30,2, -999.000,9,   2.1973
  06BE200011,  AR04,    58,  1,     22,     22,2,20001212,2302, 10.5345, -40.9727, 3357,     10.8,  26.3811,  35.5367,2,-999.0000,9,    204.8,2,     1.65,2,     0.08,2,     0.02,2,     0.01,2, -999.000,9, -999.000,9, -999.000, -999.000,9,-999.0000,9,  -999.00,9, -999.000,9,  26.3787
  06BE200011,  AR04,    58,  1,     21,     21,2,20001212,2302, 10.5345, -40.9727, 3357,   1001.0,   5.2325,  34.7892,2,  34.7854,2,    147.6,2,    25.43,2,    31.09,2,     0.02,2,     2.00,2,    0.017,2,    0.008,2, -999.000, -999.000,9,   1.7844,2,     1.71,2, -999.000,9,   5.1469
  06BE200011,  AR04,    58,  1,     20,     20,2,20001212,2302, 10.5345, -40.9727, 3357,   1196.5,   4.9478,  34.8955,2,-999.0000,9,    180.7,2,    22.02,2,    26.83,2,     0.02,2,     1.74,2,    0.052,2,    0.028,2, -999.000,    0.006,9,   1.8515,2,  -999.00,9,    7.827,2,   4.8461
  06BE200011,  AR04,    58,  1,     19,     19,2,20001212,2302, 10.5345, -40.9727, 3357,   1397.5,   4.6435,  34.9667,2,-999.0000,9,    213.5,2,    18.58,2,    22.60,2,     0.02,2,     1.49,2,    0.106,2,    0.056,2, -999.000,    0.006,9,   1.7902,2,  -999.00,9, -999.000,9,   4.5258
  06BE200011,  AR04,    58,  1,     18,     18,2,20001212,2302, 10.5345, -40.9727, 3357,   1496.9,   4.4509,  34.9861,2,-999.0000,9,    228.8,2,    17.24,2,    21.22,2,     0.02,2,     1.38,2,    0.157,2,    0.083,2,    0.177,    0.006,2,   1.8015,2,  -999.00,9,    7.853,2,   4.3259
  06BE200011,  AR04,    58,  1,     17,     17,2,20001212,2302, 10.5345, -40.9727, 3357,   1697.3,   4.0791,  34.9901,2,-999.0000,9,    244.5,2,    16.85,2,    19.58,2,     0.01,2,     1.28,2,    0.135,2,    0.071,2, -999.000,    0.007,9,-999.0000,9,     4.38,2, -999.000,9,   3.9396
  06BE200011,  AR04,    58,  1,     16,     16,2,20001212,2302, 10.5345, -40.9727, 3357,   1897.8,   3.7380,  34.9828,2,-999.0000,9,    251.5,2,    18.24,2,    19.01,2,     0.01,2,     1.26,2,    0.082,2,    0.045,2,    0.107,    0.005,2,   1.8228,2,  -999.00,9,    7.848,2,   3.5841
  06BE200011,  AR04,    58,  1,     15,     15,2,20001212,2302, 10.5345, -40.9727, 3357,   2000.4,   3.5891,  34.9770,2,-999.0000,9,    253.7,2,    19.40,2,    19.47,2,     0.02,2,     1.26,2,    0.072,2,    0.039,2,    0.087, -999.000,2,   1.8036,2,  -999.00,9, -999.000,9,   3.4276
  06BE200011,  AR04,    58,  1,     14,     14,2,20001212,2302, 10.5345, -40.9727, 3357,   2146.8,   3.4301,  34.9700,2,-999.0000,9,    255.0,2,    21.12,2,    19.23,2,     0.01,2,     1.25,2, -999.000,9, -999.000,9, -999.000,    0.003,9,   1.8584,2,     2.24,2,    7.872,2,   3.2570
  06BE200011,  AR04,    58,  1,     13,     13,2,20001212,2302, 10.5345, -40.9727, 3357,   2298.1,   3.2351,  34.9607,2,  34.9593,2,    255.0,2,    23.77,2,    19.62,2,     0.01,2,     1.27,2, -999.000,9, -999.000,9,    0.069, -999.000,2,   1.7962,2,     2.66,2,    7.918,2,   3.0506
  06BE200011,  AR04,    58,  1,     12,     12,2,20001212,2302, 10.5345, -40.9727, 3357,   2401.4,   3.1235,  34.9549,2,-999.0000,9,   -999.0,9,    18.93,2,    24.43,2,     0.02,2,     1.55,2, -999.000,9, -999.000,9,    0.039,    0.002,2,   1.8068,2,     2.66,2,    7.906,2,   2.9309
  06BE200011,  AR04,    58,  1,     11,     11,2,20001212,2302, 10.5345, -40.9727, 3357,   2596.3,   2.9537,  34.9449,2,-999.0000,9,   -999.0,9,  -999.00,9,  -999.00,9,  -999.00,9,  -999.00,9, -999.000,9, -999.000,9, -999.000, -999.000,9,-999.0000,9,  -999.00,9,    7.862,2,   2.7451
  06BE200011,  AR04,    58,  1,     10,     10,2,20001212,2302, 10.5345, -40.9727, 3357,   2598.2,   2.9546,  34.9449,2,-999.0000,9,    255.4,2,    27.85,2,    19.99,2,     0.01,2,     1.32,2, -999.000,9, -999.000,9, -999.000,    0.002,9,   1.7978,2,     1.97,2,    7.862,2,   2.7458
  06BE200011,  AR04,    58,  1,      9,      9,2,20001212,2302, 10.5345, -40.9727, 3357,   2802.1,   2.8946,  34.9408,2,-999.0000,9,   -999.0,9,  -999.00,9,  -999.00,9,  -999.00,9,  -999.00,9, -999.000,9, -999.000,9, -999.000, -999.000,9,-999.0000,9,     3.05,2,    7.874,2,   2.6665
  06BE200011,  AR04,    58,  1,      8,      8,2,20001212,2302, 10.5345, -40.9727, 3357,   2802.2,   2.8980,  34.9405,2,-999.0000,9,    255.4,2,    29.05,2,    19.94,2,     0.01,2,     1.31,2, -999.000,9, -999.000,9,    0.034,    0.003,2,   1.8551,2,     3.05,2,    7.874,2,   2.6698
  06BE200011,  AR04,    58,  1,      7,      7,2,20001212,2302, 10.5345, -40.9727, 3357,   2996.6,   2.7736,  34.9321,2,-999.0000,9,   -999.0,9,  -999.00,9,  -999.00,9,  -999.00,9,  -999.00,9, -999.000,9, -999.000,9, -999.000, -999.000,9,-999.0000,9,  -999.00,9, -999.000,9,   2.5281
  06BE200011,  AR04,    58,  1,      6,      6,2,20001212,2302, 10.5345, -40.9727, 3357,   2997.7,   2.7739,  34.9321,2,-999.0000,9,    256.3,2,    31.00,2,    20.19,2,     0.01,2,     1.32,2, -999.000,9, -999.000,9, -999.000,    0.003,9,   1.8421,2,     4.10,2,    8.031,2,   2.5282
  06BE200011,  AR04,    58,  1,      4,      4,2,20001212,2302, 10.5345, -40.9727, 3357,   3196.5,   2.6580,  34.9231,2,-999.0000,9,    255.0,2,    34.25,2,    20.59,2,     0.01,2,     1.35,2, -999.000,9, -999.000,9, -999.000,    0.006,9,   1.8281,2,  -999.00,9,    7.904,2,   2.3942
  06BE200011,  AR04,    58,  1,      5,      5,2,20001212,2302, 10.5345, -40.9727, 3357,   3196.7,   2.6583,  34.9233,2,  34.9200,2,   -999.0,9,  -999.00,9,  -999.00,9,  -999.00,9,  -999.00,9, -999.000,9, -999.000,9, -999.000, -999.000,9,-999.0000,9,  -999.00,9, -999.000,9,   2.3945
  06BE200011,  AR04,    58,  1,      3,      3,2,20001212,2302, 10.5345, -40.9727, 3357,   3316.5,   2.5691,  34.9162,2,-999.0000,9,   -999.0,9,    36.79,2,    20.60,2,     0.01,2,     1.38,2, -999.000,9, -999.000,9, -999.000, -999.000,9,-999.0000,9,  -999.00,9, -999.000,9,   2.2947
  06BE200011,  AR04,    58,  1,      1,      1,2,20001212,2302, 10.5345, -40.9727, 3357,   3355.5,   2.5618,  34.9155,2,-999.0000,9,   -999.0,9,  -999.00,9,  -999.00,9,  -999.00,9,  -999.00,9, -999.000,9, -999.000,9, -999.000, -999.000,9,-999.0000,9,  -999.00,9, -999.000,9,   2.2834
  06BE200011,  AR04,    58,  1,      2,      2,2,20001212,2302, 10.5345, -40.9727, 3357,   3356.0,   2.5615,  34.9155,2,  34.9134,2,    252.8,2,    36.77,2,    20.81,2,     0.01,2,     1.35,2, -999.000,9, -999.000,9,    0.035,    0.004,2,-999.0000,9,     3.91,2,    7.953,2,   2.2830
  06BE200011,  AR04,    59,  1,     22,     22,2,20001213,0236, 10.7567, -41.0823, 3978,     10.9,  26.2358,  35.5614,2,  35.5597,2,    205.3,2,     1.63,2,     0.06,2,     0.01,2,     0.05,2,    1.587,2,    0.958,2, -999.000, -999.000,9,-999.0000,9,  -999.00,9, -999.000,9,  26.2333
  06BE200011,  AR04,    59,  1,     21,     21,2,20001213,0236, 10.7567, -41.0823, 3978,   1000.9,   5.2845,  34.7809,2,  34.7805,2,   -999.0,9,    24.97,2,    31.97,2,     0.01,2,     2.06,2,    0.009,2,    0.004,2, -999.000, -999.000,9,-999.0000,9,     1.27,2,    7.767,2,   5.1985
  06BE200011,  AR04,    59,  1,     20,     20,2,20001213,0236, 10.7567, -41.0823, 3978,   1297.0,   4.7706,  34.9417,2,-999.0000,9,    196.0,2,    19.98,2,    24.88,2,     0.01,2,     1.63,2,    0.031,2,    0.018,2, -999.000, -999.000,9,   1.7968,2,     2.16,2, -999.000,9,   4.6611
  06BE200011,  AR04,    59,  1,     19,     19,2,20001213,0236, 10.7567, -41.0823, 3978,   1496.6,   4.3879,  34.9794,2,-999.0000,9,   -999.0,9,    17.46,2,    21.63,2,     0.01,2,     1.42,2,    0.068,2,    0.039,2, -999.000, -999.000,9,   1.8723,2,     2.69,2, -999.000,9,   4.2636
  06BE200011,  AR04,    59,  1,     18,     18,2,20001213,0236, 10.7567, -41.0823, 3978,   1599.9,   4.2142,  34.9894,2,-999.0000,9,    236.6,2,    16.67,2,    20.51,2,     0.00,9,     1.32,2,    0.103,2,    0.056,2, -999.000,    0.005,9,-999.0000,9,     2.55,2, -999.000,9,   4.0822
  06BE200011,  AR04,    59,  1,     17,     17,2,20001213,0236, 10.7567, -41.0823, 3978,   1696.8,   4.0930,  34.9904,2,-999.0000,9,   -999.0,9,    16.41,2,    19.67,2,     0.01,2,     1.28,2,    0.128,2,    0.070,2, -999.000, -999.000,9,   1.8394,2,  -999.00,9,    7.831,2,   3.9533
  06BE200011,  AR04,    59,  1,     16,     16,2,20001213,0236, 10.7567, -41.0823, 3978,   1848.1,   3.8394,  34.9852,2,-999.0000,9,    249.7,2,    17.30,2,    19.23,2,     0.00,9,     1.24,2,    0.099,2,    0.054,2, -999.000,    0.006,9,   1.7889,2,     2.53,2, -999.000,9,   3.6888
  06BE200011,  AR04,    59,  1,     15,     15,2,20001213,0236, 10.7567, -41.0823, 3978,   1998.3,   3.6194,  34.9781,2,-999.0000,9,   -999.0,9,    18.74,2,    19.02,2,     0.01,2,     1.26,2,    0.070,2,    0.040,2, -999.000,    0.003,9,-999.0000,9,     4.16,2, -999.000,9,   3.4576
  06BE200011,  AR04,    59,  1,     14,     14,2,20001213,0236, 10.7567, -41.0823, 3978,   2247.9,   3.3147,  34.9648,2,-999.0000,9,    255.4,2,    21.98,2,    19.15,2,     0.01,2,     1.26,2,    0.049,2,    0.028,2,    0.105, -999.000,2,   1.8399,2,     2.60,2,    7.947,2,   3.1337
  06BE200011,  AR04,    59,  1,     13,     13,2,20001213,0236, 10.7567, -41.0823, 3978,   2498.1,   3.1227,  34.9542,2,-999.0000,9,   -999.0,9,    24.62,2,    19.17,2,     0.00,9,     1.26,2,    0.034,2,    0.019,2, -999.000,    0.049,9,-999.0000,9,     3.45,2,    7.918,2,   2.9206
  06BE200011,  AR04,    59,  1,     12,     12,2,20001213,0236, 10.7567, -41.0823, 3978,   2751.6,   2.9356,  34.9435,2,-999.0000,9,    255.4,2,    28.11,2,    19.66,2,     0.00,9,     1.28,2,    0.027,2,    0.015,2, -999.000,    0.001,9,   1.8169,2,     3.75,2,    7.918,2,   2.7117
  06BE200011,  AR04,    59,  1,     11,     11,2,20001213,0236, 10.7567, -41.0823, 3978,   2996.1,   2.7703,  34.9322,2,-999.0000,9,   -999.0,9,  -999.00,9,  -999.00,9,  -999.00,9,  -999.00,9, -999.000,9, -999.000,9, -999.000, -999.000,9,-999.0000,9,  -999.00,9, -999.000,9,   2.5249
  06BE200011,  AR04,    59,  1,     10,     10,2,20001213,0236, 10.7567, -41.0823, 3978,   2997.9,   2.7707,  34.9322,2,  34.9308,2,    255.4,2,    30.65,2,    19.69,2,     0.01,2,     1.30,2,    0.033,2,    0.019,2,    0.063, -999.000,2,-999.0000,9,     4.10,2,    7.869,2,   2.5251
  06BE200011,  AR04,    59,  1,      9,      9,2,20001213,0236, 10.7567, -41.0823, 3978,   3224.3,   2.6663,  34.9236,2,-999.0000,9,   -999.0,9,  -999.00,9,  -999.00,9,  -999.00,9,  -999.00,9, -999.000,9, -999.000,9, -999.000, -999.000,9,-999.0000,9,  -999.00,9,    7.884,2,   2.3993
  06BE200011,  AR04,    59,  1,      8,      8,2,20001213,0236, 10.7567, -41.0823, 3978,   3301.0,   2.6280,  34.9207,2,-999.0000,9,    253.7,2,    34.75,2,    20.10,2,     0.01,2,     1.34,2,    0.022,2,    0.014,2, -999.000,    0.004,9,   1.8112,2,     6.62,2,    7.884,2,   2.3538
  06BE200011,  AR04,    59,  1,      7,      7,2,20001213,0236, 10.7567, -41.0823, 3978,   3595.5,   2.4567,  34.9060,2,-999.0000,9,   -999.0,9,  -999.00,9,  -999.00,9,  -999.00,9,  -999.00,9, -999.000,9, -999.000,9, -999.000, -999.000,9,   1.8413,2,  -999.00,9, -999.000,9,   2.1549
  06BE200011,  AR04,    59,  1,      6,      6,2,20001213,0236, 10.7567, -41.0823, 3978,   3598.7,   2.4565,  34.9060,2,-999.0000,9,    251.5,2,    39.63,2,    21.07,2,     0.01,2,     1.38,2,    0.012,2,    0.008,2,    0.036, -999.000,2,   1.8413,2,     6.62,2,    7.831,2,   2.1544
  06BE200011,  AR04,    59,  1,      4,      4,2,20001213,0236, 10.7567, -41.0823, 3978,   3800.1,   2.3914,  34.8990,2,-999.0000,9,    251.1,2,    41.63,2,    21.38,2,     0.01,2,     1.42,2,    0.015,2,    0.009,2,    0.031, -999.000,2,   1.8171,2,     4.68,2, -999.000,9,   2.0687
  06BE200011,  AR04,    59,  1,      5,      5,2,20001213,0236, 10.7567, -41.0823, 3978,   3800.3,   2.3912,  34.8990,2,-999.0000,9,   -999.0,9,  -999.00,9,  -999.00,9,  -999.00,9,  -999.00,9, -999.000,9, -999.000,9, -999.000, -999.000,9,   1.8171,2,  -999.00,9, -999.000,9,   2.0685
  06BE200011,  AR04,    59,  1,      3,      3,2,20001213,0236, 10.7567, -41.0823, 3978,   3878.8,   2.2877,  34.8906,2,-999.0000,9,   -999.0,9,  -999.00,9,  -999.00,9,  -999.00,9,  -999.00,9, -999.000,9, -999.000,9, -999.000, -999.000,9,-999.0000,9,  -999.00,9, -999.000,9,   1.9590
  06BE200011,  AR04,    59,  1,      2,      2,2,20001213,0236, 10.7567, -41.0823, 3978,   3975.9,   2.1901,  34.8838,2,  34.8829,2,    258.9,2,    40.77,2,    20.54,2,     0.01,2,     1.37,2,    0.095,2,    0.052,2,    0.025,    0.002,2,   1.8231,2,  -999.00,9,    7.956,2,   1.8532
  06BE200011,  AR04,    59,  1,      1,      1,2,20001213,0236, 10.7567, -41.0823, 3978,   3976.5,   2.1895,  34.8838,2,-999.0000,9,   -999.0,9,  -999.00,9,  -999.00,9,  -999.00,9,  -999.00,9, -999.000,9, -999.000,9, -999.000, -999.000,9,-999.0000,9,  -999.00,9, -999.000,9,   1.8526