BOTTLE,20111027CCHDOSIOCBG
EXPOCODE,SECT_ID,STNNBR,CASTNO,SAMPNO,BTLNBR,BTLNBR_FLAG_W,DATE,TIME,LATITUDE,LONGITUDE,DEPTH,CTDPRS,CTDTMP,CTDSAL,CTDSAL_FLAG_W,SALNTY,SALNTY_FLAG_W,OXYGEN,OXYGEN_FLAG_W,SILCAT,SILCAT_FLAG_W,NITRAT,NITRAT_FLAG_W,NITRIT,NITRIT_FLAG_W,PHSPHT,PHSPHT_FLAG_W,CFC-11,CFC-11_FLAG_W,CFC-12,CFC-12_FLAG_W,TRITUM,TRITER,TRITUM_FLAG_W,HELIUM,HELIUM_FLAG_W,DELHE3,DELHE3_FLAG_W,NEON,NEON_FLAG_W,THETA
,,,,,,,,,,,METERS,DBAR,ITS-90,PSS-78,,PSS-78,,UMOL/KG,,UMOL/KG,,UMOL/KG,,UMOL/KG,,UMOL/KG,,PMOL/KG,,PMOL/KG,,TU,TU,,NMOL/KG,,PERCNT,,NMOL/KG,,DEG C
  06BE200011,  AR04,    45,  1,     22,     22,2,20001209,0659,  4.7803, -32.7063, 3730,      6.8,  27.6795,  35.7179,2,-999.0000,9,   -999.0,9,     1.40,2,     0.13,2,     0.01,2,     0.03,2,    1.472,2,    0.909,2, -999.000, -999.000,9,-999.0000,9,  -999.00,9, -999.000,9,  27.6779
  06BE200011,  AR04,    45,  1,     21,     21,2,20001209,0659,  4.7803, -32.7063, 3730,    999.6,   4.8783,  34.7377,2,-999.0000,9,    157.2,2,    27.13,2,    31.41,2,     0.03,2,     2.02,2,    0.018,2,    0.009,2,    0.021, -999.000,2,-999.0000,9,  -999.00,9, -999.000,9,   4.7956
  06BE200011,  AR04,    45,  1,     20,     20,2,20001209,0659,  4.7803, -32.7063, 3730,   1196.6,   4.7679,  34.8986,2,-999.0000,9,   -999.0,9,    20.81,2,    25.60,2,     0.01,2,     1.70,2,    0.072,2,    0.039,2, -999.000, -999.000,9,-999.0000,9,  -999.00,9, -999.000,9,   4.6678
  06BE200011,  AR04,    45,  1,     19,     19,2,20001209,0659,  4.7803, -32.7063, 3730,   1396.7,   4.5036,  34.9767,2,-999.0000,9,    226.6,2,    16.86,2,    21.16,2,     0.00,9,     1.40,2,    0.182,2,    0.097,2, -999.000, -999.000,9,   1.7646,2,  -999.00,9, -999.000,9,   4.3874
  06BE200011,  AR04,    45,  1,     18,     18,2,20001209,0659,  4.7803, -32.7063, 3730,   1497.0,   4.3359,  34.9924,2,-999.0000,9,   -999.0,9,    15.87,2,    19.87,2,     0.02,2,     1.28,2,    0.237,2,    0.127,2,    0.147, -999.000,2,-999.0000,9,  -999.00,9,    7.699,2,   4.2121
  06BE200011,  AR04,    45,  1,     17,     17,2,20001209,0659,  4.7803, -32.7063, 3730,   1647.4,   4.0445,  34.9928,2,-999.0000,9,    249.3,2,    16.39,2,    18.86,2,     0.00,9,     1.24,2,    0.207,2,    0.112,2,    0.163, -999.000,2,   1.7881,2,  -999.00,9, -999.000,9,   3.9101
  06BE200011,  AR04,    45,  1,     16,     16,2,20001209,0659,  4.7803, -32.7063, 3730,   1796.8,   3.8299,  34.9862,2,-999.0000,9,    254.1,2,    16.92,2,    18.46,2,     0.00,9,     1.23,2,    0.190,2,    0.102,2,    0.167, -999.000,2,-999.0000,9,  -999.00,9,    7.957,2,   3.6842
  06BE200011,  AR04,    45,  1,     15,     15,2,20001209,0659,  4.7803, -32.7063, 3730,   1896.6,   3.7009,  34.9824,2,-999.0000,9,    255.8,2,    17.15,2,    18.52,2,     0.00,9,     1.20,2,    0.156,2,    0.084,2,    0.102, -999.000,2,-999.0000,9,  -999.00,9, -999.000,9,   3.5476
  06BE200011,  AR04,    45,  1,     14,     14,2,20001209,0659,  4.7803, -32.7063, 3730,   2196.4,   3.4126,  34.9698,2,  34.9699,2,    258.0,2,    20.27,2,    18.50,2,     0.01,2,     1.22,2,    0.101,2,    0.055,2, -999.000, -999.000,9,   1.8110,2,  -999.00,9,    7.831,2,   3.2350
  06BE200011,  AR04,    45,  1,     13,     13,2,20001209,0659,  4.7803, -32.7063, 3730,   2495.0,   2.9765,  34.9409,2,-999.0000,9,    254.5,2,    27.95,2,    19.58,2,     0.01,2,     1.29,2,    0.031,2,    0.017,2,    0.045, -999.000,2,   1.8005,2,  -999.00,9, -999.000,9,   2.7774
  06BE200011,  AR04,    45,  1,     12,     12,2,20001209,0659,  4.7803, -32.7063, 3730,   2800.4,   2.8034,  34.9287,2,  34.9263,2,    254.5,2,    30.14,2,    19.94,2,     0.01,2,     1.31,2,    0.022,2,    0.014,2,    0.030, -999.000,2,-999.0000,9,  -999.00,9,    7.939,2,   2.5773
  06BE200011,  AR04,    45,  1,     11,     11,2,20001209,0659,  4.7803, -32.7063, 3730,   3094.6,   2.6598,  34.9177,2,-999.0000,9,   -999.0,9,  -999.00,9,  -999.00,9,  -999.00,9,  -999.00,9, -999.000,9, -999.000,9, -999.000, -999.000,9,-999.0000,9,  -999.00,9, -999.000,9,   2.4067
  06BE200011,  AR04,    45,  1,     10,     10,2,20001209,0659,  4.7803, -32.7063, 3730,   3097.6,   2.6600,  34.9177,2,  34.9157,2,    254.1,2,    33.59,2,    20.25,2,     0.00,9,     1.32,2,    0.023,2,    0.014,2,    0.030, -999.000,2,-999.0000,9,  -999.00,9,    7.989,2,   2.4065
  06BE200011,  AR04,    45,  1,      9,      9,2,20001209,0659,  4.7803, -32.7063, 3730,   3296.7,   2.5730,  34.9100,2,-999.0000,9,   -999.0,9,  -999.00,9,  -999.00,9,  -999.00,9,  -999.00,9, -999.000,9, -999.000,9, -999.000, -999.000,9,-999.0000,9,  -999.00,9, -999.000,9,   2.3006
  06BE200011,  AR04,    45,  1,      7,      7,2,20001209,0659,  4.7803, -32.7063, 3730,   3400.0,   2.4810,  34.9035,2,-999.0000,9,   -999.0,9,  -999.00,9,  -999.00,9,  -999.00,9,  -999.00,9, -999.000,9, -999.000,9, -999.000, -999.000,9,   1.8408,2,  -999.00,9, -999.000,9,   2.1998
  06BE200011,  AR04,    45,  1,      8,      8,2,20001209,0659,  4.7803, -32.7063, 3730,   3400.4,   2.4807,  34.9035,2,-999.0000,9,    253.7,2,    36.84,2,    20.60,2,     0.01,2,     1.34,2,    0.030,2,    0.019,2,    0.027, -999.000,2,-999.0000,9,  -999.00,9, -999.000,9,   2.1995
  06BE200011,  AR04,    45,  1,      6,      6,2,20001209,0659,  4.7803, -32.7063, 3730,   3494.7,   2.4480,  34.8999,2,  34.8972,2,    253.7,2,    39.21,2,    20.56,2,     0.01,2,     1.37,2, -999.000,9, -999.000,9,    0.025, -999.000,2,-999.0000,9,  -999.00,9, -999.000,9,   2.1575
  06BE200011,  AR04,    45,  1,      5,      5,2,20001209,0659,  4.7803, -32.7063, 3730,   3498.2,   2.4446,  34.8997,2,-999.0000,9,   -999.0,9,  -999.00,9,  -999.00,9,  -999.00,9,  -999.00,9, -999.000,9, -999.000,9, -999.000, -999.000,9,   1.8227,2,  -999.00,9,    8.029,2,   2.1538
  06BE200011,  AR04,    45,  1,      4,      4,2,20001209,0659,  4.7803, -32.7063, 3730,   3602.4,   2.4355,  34.8979,2,  34.8949,2,    254.1,2,    39.28,2,    20.96,2,     0.01,2,     1.39,2,    0.035,2,    0.026,2, -999.000, -999.000,9,-999.0000,9,  -999.00,9, -999.000,9,   2.1336
  06BE200011,  AR04,    45,  1,      3,      3,2,20001209,0659,  4.7803, -32.7063, 3730,   3651.4,   2.4372,  34.8975,2,-999.0000,9,   -999.0,9,  -999.00,9,  -999.00,9,  -999.00,9,  -999.00,9, -999.000,9, -999.000,9, -999.000, -999.000,9,-999.0000,9,  -999.00,9,    7.978,2,   2.1298
  06BE200011,  AR04,    45,  1,      2,      2,2,20001209,0659,  4.7803, -32.7063, 3730,   3726.8,   2.4450,  34.8976,2,  34.8983,2,    254.5,2,    39.68,2,    20.89,2,     0.01,2,     1.38,2,    0.033,2,    0.020,2,    0.113, -999.000,2,-999.0000,9,  -999.00,9, -999.000,9,   2.1291
  06BE200011,  AR04,    45,  1,      1,      1,2,20001209,0659,  4.7803, -32.7063, 3730,   3728.2,   2.4450,  34.8975,2,-999.0000,9,   -999.0,9,  -999.00,9,  -999.00,9,  -999.00,9,  -999.00,9, -999.000,9, -999.000,9, -999.000, -999.000,9,   1.8404,2,  -999.00,9,    7.990,2,   2.1289
  06BE200011,  AR04,    46,  1,     22,     22,2,20001209,1243,  5.4107, -32.8073, 3684,      9.8,  27.7091,  35.7157,2,-999.0000,9,    199.6,2,     1.54,2,     0.13,2,     0.00,9,     0.09,2,    1.470,2,    0.905,2, -999.000, -999.000,9,-999.0000,9,  -999.00,9, -999.000,9,  27.7068
  06BE200011,  AR04,    46,  1,     21,     21,2,20001209,1243,  5.4107, -32.8073, 3684,    899.3,   5.0647,  34.6428,2,-999.0000,9,    146.3,2,    28.00,2,    34.18,2,     0.02,2,     2.22,2,    0.021,2,    0.012,2, -999.000,    0.011,9,-999.0000,9,  -999.00,9, -999.000,9,   4.9898
  06BE200011,  AR04,    46,  1,     20,     20,2,20001209,1243,  5.4107, -32.8073, 3684,   1197.0,   4.7053,  34.8818,2,-999.0000,9,    186.8,2,    22.31,2,    26.31,2,     0.00,9,     1.74,2,    0.043,2,    0.023,2, -999.000, -999.000,9,-999.0000,9,  -999.00,9, -999.000,9,   4.6058
  06BE200011,  AR04,    46,  1,     19,     19,2,20001209,1243,  5.4107, -32.8073, 3684,   1298.5,   4.5151,  34.9190,2,  34.9192,2,    200.8,2,    22.16,2,    24.47,2,     0.01,2,     1.65,2,    0.045,2,    0.026,2,    0.173, -999.000,2,-999.0000,9,     1.79,2, -999.000,9,   4.4080
  06BE200011,  AR04,    46,  1,     18,     18,2,20001209,1243,  5.4107, -32.8073, 3684,   1548.4,   4.2099,  34.9855,2,-999.0000,9,    239.2,2,    17.70,2,    20.19,2,     0.01,2,     1.33,2, -999.000,9, -999.000,9, -999.000,    0.008,9,-999.0000,9,  -999.00,9, -999.000,9,   4.0828
  06BE200011,  AR04,    46,  1,     17,     17,2,20001209,1243,  5.4107, -32.8073, 3684,   1696.2,   3.9436,  34.9861,2,-999.0000,9,    249.3,2,    17.63,2,    19.39,2,     0.01,2,     1.26,2,    0.149,2,    0.082,2,    0.177,    0.005,2,-999.0000,9,     3.21,2, -999.000,9,   3.8059
  06BE200011,  AR04,    46,  1,     16,     16,2,20001209,1243,  5.4107, -32.8073, 3684,   1847.0,   3.6970,  34.9756,2,-999.0000,9,    249.7,2,    19.96,2,    19.49,2,     0.01,2,     1.27,2,    0.078,2,    0.043,2,    0.168,    0.009,2,-999.0000,9,  -999.00,9, -999.000,9,   3.5485
  06BE200011,  AR04,    46,  1,     15,     15,2,20001209,1243,  5.4107, -32.8073, 3684,   1999.1,   3.5579,  34.9699,2,  34.9708,2,    250.6,2,    21.62,2,    19.47,2,     0.01,2,     1.25,2,    0.054,2,    0.029,2,    0.130,    0.015,2,-999.0000,9,  -999.00,9, -999.000,9,   3.3970
  06BE200011,  AR04,    46,  1,     14,     14,2,20001209,1243,  5.4107, -32.8073, 3684,   2296.7,   3.2364,  34.9546,2,-999.0000,9,    252.3,2,    25.22,2,    19.89,2,     0.01,2,     1.32,2,    0.034,2,    0.021,2,    0.096, -999.000,2,-999.0000,9,     1.97,2, -999.000,9,   3.0521
  06BE200011,  AR04,    46,  1,     13,     13,2,20001209,1243,  5.4107, -32.8073, 3684,   2597.6,   2.9782,  34.9402,2,-999.0000,9,    254.5,2,    29.04,2,    19.79,2,     0.01,2,     1.29,2,    0.023,2,    0.013,2,    0.036,    0.002,2,-999.0000,9,     2.04,2, -999.000,9,   2.7690
  06BE200011,  AR04,    46,  1,     12,     12,2,20001209,1243,  5.4107, -32.8073, 3684,   2899.1,   2.7532,  34.9255,2,  34.9256,2,    255.0,2,    32.82,2,    20.06,2,     0.01,2,     1.33,2,    0.022,2,    0.012,2,    0.027,    0.003,2,-999.0000,9,  -999.00,9, -999.000,9,   2.5182
  06BE200011,  AR04,    46,  1,     10,     10,2,20001209,1243,  5.4107, -32.8073, 3684,   2998.5,   2.7012,  34.9212,2,  34.9215,2,    255.0,2,    32.95,2,    19.97,2,     0.01,2,     1.31,2,    0.024,2,    0.014,2,    0.031,    0.001,2,-999.0000,9,  -999.00,9, -999.000,9,   2.4571
  06BE200011,  AR04,    46,  1,     11,     11,2,20001209,1243,  5.4107, -32.8073, 3684,   2998.5,   2.6997,  34.9213,2,-999.0000,9,   -999.0,9,    33.48,2,    19.93,2,     0.01,2,     1.29,2, -999.000,9, -999.000,9, -999.000, -999.000,9,-999.0000,9,  -999.00,9, -999.000,9,   2.4556
  06BE200011,  AR04,    46,  1,      8,      8,2,20001209,1243,  5.4107, -32.8073, 3684,   3099.2,   2.6503,  34.9174,2,  34.9200,2,    255.0,2,    34.95,2,    20.26,2,     0.00,9,     1.32,2,    0.025,2,    0.013,2,    0.037,    0.002,2,-999.0000,9,  -999.00,9, -999.000,9,   2.3969
  06BE200011,  AR04,    46,  1,      9,      9,2,20001209,1243,  5.4107, -32.8073, 3684,   3099.3,   2.6511,  34.9174,2,-999.0000,9,   -999.0,9,    35.74,2,    20.22,2,     0.01,2,     1.31,2, -999.000,9, -999.000,9, -999.000, -999.000,9,-999.0000,9,  -999.00,9, -999.000,9,   2.3977
  06BE200011,  AR04,    46,  1,      7,      7,2,20001209,1243,  5.4107, -32.8073, 3684,   3196.0,   2.6425,  34.9162,2,-999.0000,9,   -999.0,9,    35.25,2,    20.18,2,     0.02,2,     1.29,2, -999.000,9, -999.000,9, -999.000, -999.000,9,-999.0000,9,     3.09,2, -999.000,9,   2.3791
  06BE200011,  AR04,    46,  1,      6,      6,2,20001209,1243,  5.4107, -32.8073, 3684,   3197.8,   2.6426,  34.9161,2,  34.9132,2,    255.4,2,    36.04,2,    20.22,2,     0.03,2,     1.43,2,    0.025,2,    0.015,2,    0.041,    0.001,2,-999.0000,9,  -999.00,9, -999.000,9,   2.3790
  06BE200011,  AR04,    46,  1,      5,      5,2,20001209,1243,  5.4107, -32.8073, 3684,   3398.5,   2.5541,  34.9083,2,-999.0000,9,   -999.0,9,    33.30,2,    19.63,2,     0.02,2,     1.30,2, -999.000,9, -999.000,9, -999.000, -999.000,9,-999.0000,9,     3.07,2, -999.000,9,   2.2713
  06BE200011,  AR04,    46,  1,      4,      4,2,20001209,1243,  5.4107, -32.8073, 3684,   3496.3,   2.5365,  34.9058,2,  34.9020,2,    253.7,2,    38.17,2,    20.46,2,     0.01,2,     1.37,2,    0.030,2,    0.017,2,    0.044, -999.000,2,-999.0000,9,  -999.00,9, -999.000,9,   2.2436
  06BE200011,  AR04,    46,  1,      3,      3,2,20001209,1243,  5.4107, -32.8073, 3684,   3497.9,   2.5368,  34.9059,2,-999.0000,9,   -999.0,9,    39.14,2,    20.32,2,     0.04,2,     1.36,2, -999.000,9, -999.000,9, -999.000, -999.000,9,-999.0000,9,  -999.00,9, -999.000,9,   2.2437
  06BE200011,  AR04,    46,  1,      1,      1,2,20001209,1243,  5.4107, -32.8073, 3684,   3681.7,   2.5396,  34.9043,2,-999.0000,9,   -999.0,9,    39.24,2,    20.58,2,     0.04,2,     1.35,2, -999.000,9, -999.000,9, -999.000, -999.000,9,-999.0000,9,     2.97,2, -999.000,9,   2.2262
  06BE200011,  AR04,    46,  1,      2,      2,2,20001209,1243,  5.4107, -32.8073, 3684,   3682.8,   2.5400,  34.9042,2,  34.9029,2,    255.0,2,    39.80,2,    20.79,2,     0.02,2,     1.35,2,    0.030,2,    0.016,2,    0.041,    0.082,2,-999.0000,9,  -999.00,9, -999.000,9,   2.2265
  06BE200011,  AR04,    47,  1,     22,     22,2,20001209,2251,  6.5993, -33.8062, 3922,     10.0,  27.7021,  35.9011,2,-999.0000,9,    205.2,2,     1.55,2,     0.14,2,     0.04,2,     0.06,2,    1.484,2,    0.913,2, -999.000, -999.000,9,-999.0000,9,  -999.00,9, -999.000,9,  27.6998
  06BE200011,  AR04,    47,  1,     21,     21,2,20001209,2251,  6.5993, -33.8062, 3922,   1000.0,   4.9399,  34.7018,2,  34.7007,2,    148.0,2,    27.54,2,    32.62,2,     0.02,2,     2.08,2,    0.018,2,    0.009,2, -999.000, -999.000,9,   1.8081,2,  -999.00,9, -999.000,9,   4.8567
  06BE200011,  AR04,    47,  1,     20,     20,2,20001209,2251,  6.5993, -33.8062, 3922,   1296.5,   4.6095,  34.8879,2,-999.0000,9,    188.2,2,    22.76,2,    26.34,2,     0.03,2,     1.71,2,    0.025,2,    0.015,2,    0.056, -999.000,2,-999.0000,9,  -999.00,9, -999.000,9,   4.5017
  06BE200011,  AR04,    47,  1,     19,     19,2,20001209,2251,  6.5993, -33.8062, 3922,   1496.6,   4.4192,  34.9497,2,-999.0000,9,   -999.0,9,    19.54,2,    23.13,2,     0.01,2,     1.54,2,    0.066,2,    0.036,2, -999.000,    0.009,9,-999.0000,9,  -999.00,9,    7.743,2,   4.2946
  06BE200011,  AR04,    47,  1,     18,     18,2,20001209,2251,  6.5993, -33.8062, 3922,   1696.5,   4.0882,  34.9844,2,  34.9828,2,   -999.0,9,    17.27,2,    20.12,2,     0.01,2,     1.31,2,    0.110,2,    0.060,2, -999.000, -999.000,9,   1.7731,2,  -999.00,9, -999.000,9,   3.9486
  06BE200011,  AR04,    47,  1,     17,     17,2,20001209,2251,  6.5993, -33.8062, 3922,   1848.4,   3.7180,  34.9793,2,-999.0000,9,    251.5,2,    18.76,2,    19.24,2,     0.06,2,     1.28,2,    0.079,2,    0.044,2,    0.140,    0.007,2,   1.8188,2,  -999.00,9,    7.870,2,   3.5690
  06BE200011,  AR04,    47,  1,     16,     16,2,20001209,2251,  6.5993, -33.8062, 3922,   1997.2,   3.5384,  34.9736,2,-999.0000,9,    254.5,2,    20.10,2,    19.15,2,     0.05,2,     1.25,2,    0.065,2,    0.035,2,    0.091,    0.043,2,   1.7819,2,  -999.00,9, -999.000,9,   3.3779
  06BE200011,  AR04,    47,  1,     15,     15,2,20001209,2251,  6.5993, -33.8062, 3922,   2296.9,   3.1539,  34.9540,2,-999.0000,9,    255.0,2,    24.66,2,    19.65,2,     0.01,2,     1.30,2,    0.025,2,    0.014,2,    0.056,    0.005,2,   1.7973,2,  -999.00,9, -999.000,9,   2.9709
  06BE200011,  AR04,    47,  1,     14,     14,2,20001209,2251,  6.5993, -33.8062, 3922,   2596.4,   2.9304,  34.9399,2,-999.0000,9,    255.0,2,    28.27,2,    19.79,2,     0.01,2,     1.30,2,    0.023,2,    0.013,2,    0.038,    0.004,2,-999.0000,9,  -999.00,9,    7.879,2,   2.7222
  06BE200011,  AR04,    47,  1,     13,     13,2,20001209,2251,  6.5993, -33.8062, 3922,   2896.2,   2.7323,  34.9252,2,-999.0000,9,    255.0,2,    32.02,2,    19.92,2,     0.01,2,     1.33,2,    0.029,2,    0.015,2,    0.017,    0.002,2,   1.7858,2,  -999.00,9,    7.894,2,   2.4980
  06BE200011,  AR04,    47,  1,     12,     12,2,20001209,2251,  6.5993, -33.8062, 3922,   2999.1,   2.6811,  34.9215,2,-999.0000,9,    255.8,2,    33.38,2,    19.76,2,     0.01,2,     1.36,2,    0.040,2,    0.022,2,    0.041,    0.002,2,   1.7917,2,  -999.00,9, -999.000,9,   2.4374
  06BE200011,  AR04,    47,  1,     11,     11,2,20001209,2251,  6.5993, -33.8062, 3922,   3097.5,   2.6338,  34.9176,2,-999.0000,9,   -999.0,9,    33.91,2,    20.37,2,     0.01,2,     1.38,2, -999.000,9, -999.000,9, -999.000, -999.000,9,-999.0000,9,  -999.00,9, -999.000,9,   2.3809
  06BE200011,  AR04,    47,  1,     10,     10,2,20001209,2251,  6.5993, -33.8062, 3922,   3151.1,   2.6005,  34.9150,2,  34.9151,2,    255.4,2,    34.09,2,    20.16,2,     0.01,2,     1.37,2,    0.029,2,    0.018,2,    0.029,    0.002,2,   1.7966,2,  -999.00,9, -999.000,9,   2.3428
  06BE200011,  AR04,    47,  1,      9,      9,2,20001209,2251,  6.5993, -33.8062, 3922,   3298.8,   2.5618,  34.9118,2,-999.0000,9,   -999.0,9,  -999.00,9,  -999.00,9,  -999.00,9,  -999.00,9, -999.000,9, -999.000,9, -999.000, -999.000,9,-999.0000,9,  -999.00,9, -999.000,9,   2.2894
  06BE200011,  AR04,    47,  1,      8,      8,2,20001209,2251,  6.5993, -33.8062, 3922,   3299.8,   2.5624,  34.9118,2,  34.9102,2,    256.3,2,    36.10,2,    20.42,2,     0.02,2,     1.37,2,    0.033,2,    0.018,2,    0.032,    0.002,2,-999.0000,9,  -999.00,9, -999.000,9,   2.2899
  06BE200011,  AR04,    47,  1,      7,      7,2,20001209,2251,  6.5993, -33.8062, 3922,   3397.6,   2.5390,  34.9099,2,-999.0000,9,   -999.0,9,    35.68,2,    20.16,2,     0.00,9,     1.38,2, -999.000,9, -999.000,9, -999.000, -999.000,9,-999.0000,9,  -999.00,9,    7.994,2,   2.2566
  06BE200011,  AR04,    47,  1,      6,      6,2,20001209,2251,  6.5993, -33.8062, 3922,   3543.8,   2.4948,  34.9055,2,  34.9032,2,    256.7,2,    35.80,2,    20.63,2,     0.00,9,     1.38,2,    0.038,2,    0.021,2,    0.025,    0.002,2,   1.8056,2,  -999.00,9, -999.000,9,   2.1977
  06BE200011,  AR04,    47,  1,      5,      5,2,20001209,2251,  6.5993, -33.8062, 3922,   3548.0,   2.4946,  34.9054,2,-999.0000,9,   -999.0,9,  -999.00,9,  -999.00,9,  -999.00,9,  -999.00,9, -999.000,9, -999.000,9, -999.000, -999.000,9,-999.0000,9,  -999.00,9,    7.987,2,   2.1971
  06BE200011,  AR04,    47,  1,      4,      4,2,20001209,2251,  6.5993, -33.8062, 3922,   3795.2,   2.4835,  34.9027,2,  34.9012,2,    256.7,2,    37.12,2,    20.26,2,     0.01,2,     1.40,2,    0.044,2,    0.023,2,    0.043,    0.007,2,-999.0000,9,  -999.00,9, -999.000,9,   2.1589
  06BE200011,  AR04,    47,  1,      3,      3,2,20001209,2251,  6.5993, -33.8062, 3922,   3796.0,   2.4828,  34.9025,2,-999.0000,9,   -999.0,9,  -999.00,9,  -999.00,9,  -999.00,9,  -999.00,9, -999.000,9, -999.000,9, -999.000, -999.000,9,-999.0000,9,  -999.00,9, -999.000,9,   2.1581
  06BE200011,  AR04,    47,  1,      1,      1,2,20001209,2251,  6.5993, -33.8062, 3922,   3920.6,   2.4956,  34.9025,2,-999.0000,9,   -999.0,9,  -999.00,9,  -999.00,9,  -999.00,9,  -999.00,9, -999.000,9, -999.000,9, -999.000, -999.000,9,-999.0000,9,  -999.00,9,    8.062,2,   2.1565
  06BE200011,  AR04,    47,  1,      2,      2,2,20001209,2251,  6.5993, -33.8062, 3922,   3921.4,   2.4964,  34.9025,2,  34.9026,2,    257.2,2,    37.07,2,    20.47,2,     0.01,2,     1.48,2,    0.041,2,    0.023,2,    0.039,    0.002,2,   1.7672,2,  -999.00,9, -999.000,9,   2.1572