BOTTLE,20111027CCHDOSIOCBG
EXPOCODE,SECT_ID,STNNBR,CASTNO,SAMPNO,BTLNBR,BTLNBR_FLAG_W,DATE,TIME,LATITUDE,LONGITUDE,DEPTH,CTDPRS,CTDTMP,CTDSAL,CTDSAL_FLAG_W,SALNTY,SALNTY_FLAG_W,OXYGEN,OXYGEN_FLAG_W,SILCAT,SILCAT_FLAG_W,NITRAT,NITRAT_FLAG_W,NITRIT,NITRIT_FLAG_W,PHSPHT,PHSPHT_FLAG_W,CFC-11,CFC-11_FLAG_W,CFC-12,CFC-12_FLAG_W,TRITUM,TRITER,TRITUM_FLAG_W,HELIUM,HELIUM_FLAG_W,DELHE3,DELHE3_FLAG_W,NEON,NEON_FLAG_W,THETA
,,,,,,,,,,,METERS,DBAR,ITS-90,PSS-78,,PSS-78,,UMOL/KG,,UMOL/KG,,UMOL/KG,,UMOL/KG,,UMOL/KG,,PMOL/KG,,PMOL/KG,,TU,TU,,NMOL/KG,,PERCNT,,NMOL/KG,,DEG C
  06BE200011,  AR04,    31,  1,     22,     22,2,20001205,2127,  4.5012, -35.0005, 3921,      9.4,  27.7248,  35.4627,2,-999.0000,9,    203.1,2,     1.19,2,     0.12,2,     0.00,9,     0.17,2,    1.518,2,    0.913,2, -999.000, -999.000,9,-999.0000,9,  -999.00,9, -999.000,9,  27.7226
  06BE200011,  AR04,    31,  1,     21,     21,2,20001205,2127,  4.5012, -35.0005, 3921,     99.5,  27.0697,  36.0334,2,-999.0000,9,    183.4,2,     1.91,2,     1.20,2,     0.15,2,     0.23,2, -999.000,9, -999.000,9, -999.000, -999.000,9,-999.0000,9,  -999.00,9, -999.000,9,  27.0468
  06BE200011,  AR04,    31,  1,     20,     20,2,20001205,2127,  4.5012, -35.0005, 3921,    298.0,   9.1443,  34.8238,2,-999.0000,9,    139.7,2,    14.15,2,    27.37,2,     0.01,2,     1.70,2, -999.000,9, -999.000,9, -999.000, -999.000,9,-999.0000,9,  -999.00,9, -999.000,9,   9.1115
  06BE200011,  AR04,    31,  1,     19,     19,2,20001205,2127,  4.5012, -35.0005, 3921,    497.3,   7.1995,  34.6788,2,  34.6644,2,    108.7,2,    20.90,2,    34.81,2,     0.00,9,     2.34,2, -999.000,9, -999.000,9, -999.000, -999.000,9,-999.0000,9,  -999.00,9, -999.000,9,   7.1514
  06BE200011,  AR04,    31,  1,     18,     18,2,20001205,2127,  4.5012, -35.0005, 3921,    697.5,   5.3418,  34.5551,2,-999.0000,9,    136.2,2,    27.57,2,    34.52,2,     0.01,2,     2.50,2, -999.000,9, -999.000,9, -999.000, -999.000,9,-999.0000,9,  -999.00,9, -999.000,9,   5.2833
  06BE200011,  AR04,    31,  1,     17,     17,2,20001205,2127,  4.5012, -35.0005, 3921,    897.5,   4.7775,  34.6071,2,-999.0000,9,    148.0,2,    29.92,2,    33.79,2,     0.01,2,     2.37,2, -999.000,9, -999.000,9, -999.000, -999.000,9,-999.0000,9,  -999.00,9, -999.000,9,   4.7048
  06BE200011,  AR04,    31,  1,     16,     16,2,20001205,2127,  4.5012, -35.0005, 3921,   1097.7,   4.6754,  34.7638,2,-999.0000,9,    167.2,2,    26.73,2,    29.73,2,     0.01,2,     2.08,2,    0.023,2,    0.013,2, -999.000, -999.000,9,-999.0000,9,  -999.00,9, -999.000,9,   4.5854
  06BE200011,  AR04,    31,  1,     15,     15,2,20001205,2127,  4.5012, -35.0005, 3921,   1298.8,   4.6074,  34.9084,2,-999.0000,9,    200.8,2,    21.41,2,    25.34,2,     0.01,2,     1.69,2,    0.077,2,    0.041,2, -999.000, -999.000,9,-999.0000,9,     1.76,2, -999.000,9,   4.4994
  06BE200011,  AR04,    31,  1,     14,     14,2,20001205,2127,  4.5012, -35.0005, 3921,   1449.8,   4.4952,  34.9802,2,-999.0000,9,    227.4,2,    17.47,2,    21.46,2,     0.01,2,     1.49,2,    0.205,2,    0.106,2, -999.000,    0.003,9,-999.0000,9,  -999.00,9, -999.000,9,   4.3741
  06BE200011,  AR04,    31,  1,     13,     13,2,20001205,2127,  4.5012, -35.0005, 3921,   1599.3,   4.2864,  34.9878,2,-999.0000,9,    237.9,2,    16.75,2,    19.86,2,     0.00,9,     1.37,2,    0.192,2,    0.103,2, -999.000, -999.000,9,-999.0000,9,     2.81,2, -999.000,9,   4.1536
  06BE200011,  AR04,    31,  1,     12,     12,2,20001205,2127,  4.5012, -35.0005, 3921,   1749.4,   4.0385,  34.9912,2,  34.9871,2,    249.7,2,    16.36,2,    19.02,2,     0.00,9,     1.30,2,    0.231,2,    0.122,2, -999.000,    0.007,9,-999.0000,9,     2.91,2, -999.000,9,   3.8946
  06BE200011,  AR04,    31,  1,     11,     11,2,20001205,2127,  4.5012, -35.0005, 3921,   1897.1,   3.8388,  34.9866,2,  34.9828,2,    253.2,2,    16.98,2,    18.87,2,     0.00,9,     1.28,2,    0.193,2,    0.103,2, -999.000,    0.006,9,-999.0000,9,     2.90,2, -999.000,9,   3.6835
  06BE200011,  AR04,    31,  1,     10,     10,2,20001205,2127,  4.5012, -35.0005, 3921,   2097.1,   3.4626,  34.9707,2,-999.0000,9,    255.4,2,    20.47,2,    19.11,2,     0.05,2,     1.23,2,    0.087,2,    0.043,2, -999.000, -999.000,9,-999.0000,9,  -999.00,9, -999.000,9,   3.2938
  06BE200011,  AR04,    31,  1,      9,      9,2,20001205,2127,  4.5012, -35.0005, 3921,   2297.7,   3.1929,  34.9580,2,-999.0000,9,    257.1,2,    22.99,2,    18.91,2,     0.01,2,     1.26,2,    0.069,2,    0.037,2, -999.000, -999.000,9,-999.0000,9,     3.32,2, -999.000,9,   3.0092
  06BE200011,  AR04,    31,  1,      8,      8,2,20001205,2127,  4.5012, -35.0005, 3921,   2498.0,   3.0431,  34.9484,2,-999.0000,9,    257.6,2,    25.51,2,    19.27,2,     0.01,2,     1.30,2,    0.052,2,    0.028,2, -999.000, -999.000,9,-999.0000,9,  -999.00,9, -999.000,9,   2.8425
  06BE200011,  AR04,    31,  1,      7,      7,2,20001205,2127,  4.5012, -35.0005, 3921,   2748.2,   2.9098,  34.9384,2,  34.9351,2,    258.0,2,    28.24,2,    19.52,2,     0.01,2,     1.30,2,    0.040,2,    0.022,2, -999.000, -999.000,9,-999.0000,9,     2.44,2, -999.000,9,   2.6868
  06BE200011,  AR04,    31,  1,      6,      6,2,20001205,2127,  4.5012, -35.0005, 3921,   2997.9,   2.7437,  34.9265,2,-999.0000,9,    255.8,2,    31.57,2,    19.63,2,     0.01,2,     1.31,2,    0.024,2,    0.014,2, -999.000, -999.000,9,-999.0000,9,     2.98,2, -999.000,9,   2.4987
  06BE200011,  AR04,    31,  1,      5,      5,2,20001205,2127,  4.5012, -35.0005, 3921,   3247.9,   2.5439,  34.9103,2,-999.0000,9,    254.1,2,    36.06,2,    20.66,2,     0.00,9,     1.34,2,    0.029,2,    0.017,2, -999.000, -999.000,9,-999.0000,9,  -999.00,9, -999.000,9,   2.2774
  06BE200011,  AR04,    31,  1,      4,      4,2,20001205,2127,  4.5012, -35.0005, 3921,   3497.7,   2.4300,  34.9011,2,-999.0000,9,    255.4,2,    38.24,2,    20.68,2,     0.02,2,     1.36,2,    0.036,2,    0.021,2, -999.000, -999.000,9,-999.0000,9,  -999.00,9, -999.000,9,   2.1396
  06BE200011,  AR04,    31,  1,      3,      3,2,20001205,2127,  4.5012, -35.0005, 3921,   3697.5,   2.3443,  34.8923,2,  34.8902,2,    255.4,2,    40.56,2,    20.80,2,     0.01,2,     1.43,2,    0.043,2,    0.023,2, -999.000, -999.000,9,-999.0000,9,     3.15,2, -999.000,9,   2.0343
  06BE200011,  AR04,    31,  1,      2,      2,2,20001205,2127,  4.5012, -35.0005, 3921,   3799.0,   2.2834,  34.8867,2,  34.8828,2,    255.4,2,    42.44,2,    20.56,2,     0.03,2,     1.42,2,    0.046,2,    0.026,2, -999.000, -999.000,9,-999.0000,9,  -999.00,9, -999.000,9,   1.9638
  06BE200011,  AR04,    31,  1,      1,      1,2,20001205,2127,  4.5012, -35.0005, 3921,   3918.3,   2.2297,  34.8814,2,-999.0000,9,    254.1,2,    44.07,2,    21.57,2,     0.04,2,     1.45,2,    0.051,2,    0.028,2, -999.000, -999.000,9,-999.0000,9,     2.89,2, -999.000,9,   1.8983
  06BE200011,  AR04,    32,  1,     22,     22,2,20001206,0230,  5.0007, -35.0008, 3770,     10.1,  27.6941,  35.4831,2,-999.0000,9,    206.6,2,     1.19,2,     0.10,2,     0.01,2,     0.03,2,    1.509,2,    0.919,2, -999.000, -999.000,9,-999.0000,9,  -999.00,9, -999.000,9,  27.6917
  06BE200011,  AR04,    32,  1,     21,     21,2,20001206,0230,  5.0007, -35.0008, 3770,    202.5,  11.6664,  35.1565,2,-999.0000,9,    137.5,2,    10.04,2,    21.89,2,     0.02,2,     1.39,2, -999.000,9, -999.000,9, -999.000, -999.000,9,-999.0000,9,  -999.00,9, -999.000,9,  11.6404
  06BE200011,  AR04,    32,  1,     20,     20,2,20001206,0230,  5.0007, -35.0008, 3770,    297.5,   8.9633,  34.8116,2,-999.0000,9,    133.6,2,    14.70,2,    28.16,2,     0.01,2,     1.75,2, -999.000,9, -999.000,9, -999.000, -999.000,9,-999.0000,9,  -999.00,9, -999.000,9,   8.9309
  06BE200011,  AR04,    32,  1,     19,     19,2,20001206,0230,  5.0007, -35.0008, 3770,    496.5,   6.5336,  34.6124,2,-999.0000,9,    118.3,2,    22.59,2,    35.45,2,     0.04,2,     2.22,2, -999.000,9, -999.000,9, -999.000, -999.000,9,-999.0000,9,  -999.00,9, -999.000,9,   6.4881
  06BE200011,  AR04,    32,  1,     18,     18,2,20001206,0230,  5.0007, -35.0008, 3770,    698.4,   5.3565,  34.5534,2,-999.0000,9,    137.5,2,    27.76,2,    35.70,2,     0.01,2,     2.33,2, -999.000,9, -999.000,9, -999.000, -999.000,9,-999.0000,9,  -999.00,9, -999.000,9,   5.2979
  06BE200011,  AR04,    32,  1,     17,     17,2,20001206,0230,  5.0007, -35.0008, 3770,    897.6,   4.8523,  34.6211,2,  34.6186,2,    147.1,2,    28.77,2,    33.76,2,     0.01,2,     2.28,2, -999.000,9, -999.000,9, -999.000, -999.000,9,-999.0000,9,  -999.00,9, -999.000,9,   4.7790
  06BE200011,  AR04,    32,  1,     16,     16,2,20001206,0230,  5.0007, -35.0008, 3770,   1096.4,   4.6645,  34.7669,2,-999.0000,9,    168.1,2,    26.19,2,    29.83,2,     0.01,2,     2.03,2,    0.024,2,    0.013,2, -999.000, -999.000,9,-999.0000,9,  -999.00,9, -999.000,9,   4.5747
  06BE200011,  AR04,    32,  1,     15,     15,2,20001206,0230,  5.0007, -35.0008, 3770,   1298.1,   4.6291,  34.9089,2,-999.0000,9,    200.4,2,    21.21,2,    25.39,2,     0.02,2,     1.68,2,    0.080,2,    0.042,2,    0.085, -999.000,2,-999.0000,9,  -999.00,9,    7.805,2,   4.5209
  06BE200011,  AR04,    32,  1,     14,     14,2,20001206,0230,  5.0007, -35.0008, 3770,   1498.4,   4.4160,  34.9819,2,  34.9789,2,    230.9,2,    17.43,2,    20.95,2,     0.01,2,     1.39,2,    0.171,2,    0.091,2, -999.000, -999.000,9,   1.8005,2,  -999.00,9, -999.000,9,   4.2912
  06BE200011,  AR04,    32,  1,     13,     13,2,20001206,0230,  5.0007, -35.0008, 3770,   1598.3,   4.2935,  34.9904,2,  34.9888,2,    239.7,2,    16.57,2,    19.97,2,     0.01,2,     1.30,2,    0.215,2,    0.113,2, -999.000, -999.000,9,-999.0000,9,  -999.00,9,    7.727,2,   4.1607
  06BE200011,  AR04,    32,  1,     12,     12,2,20001206,0230,  5.0007, -35.0008, 3770,   1698.4,   4.1527,  34.9949,2,  34.9902,2,    251.9,2,    15.67,2,    19.05,2,     0.01,2,     1.26,2,    0.268,2,    0.140,2,    0.201, -999.000,2,   1.7937,2,  -999.00,9,    7.794,2,   4.0121
  06BE200011,  AR04,    32,  1,     11,     11,2,20001206,0230,  5.0007, -35.0008, 3770,   1797.8,   3.9686,  34.9910,2,-999.0000,9,    251.9,2,    16.06,2,    18.99,2,     0.01,2,     1.24,2,    0.199,2,    0.107,2, -999.000, -999.000,9,   1.8029,2,  -999.00,9,    7.793,2,   3.8210
  06BE200011,  AR04,    32,  1,     10,     10,2,20001206,0230,  5.0007, -35.0008, 3770,   2002.5,   3.6142,  34.9753,2,-999.0000,9,    252.3,2,    19.35,2,    18.93,2,     0.01,2,     1.27,2,    0.074,2,    0.040,2, -999.000, -999.000,9,   1.8206,2,  -999.00,9, -999.000,9,   3.4521
  06BE200011,  AR04,    32,  1,      9,      9,2,20001206,0230,  5.0007, -35.0008, 3770,   2197.5,   3.4089,  34.9695,2,  34.9647,2,    257.1,2,    20.45,2,    18.79,2,     0.01,2,     1.24,2,    0.095,2,    0.051,2, -999.000, -999.000,9,-999.0000,9,  -999.00,9,    7.931,2,   3.2313
  06BE200011,  AR04,    32,  1,      8,      8,2,20001206,0230,  5.0007, -35.0008, 3770,   2398.5,   3.0981,  34.9532,2,-999.0000,9,    258.5,2,    24.28,2,    18.89,2,     0.01,2,     1.26,2,    0.051,2,    0.027,2, -999.000, -999.000,9,-999.0000,9,  -999.00,9, -999.000,9,   2.9062
  06BE200011,  AR04,    32,  1,      7,      7,2,20001206,0230,  5.0007, -35.0008, 3770,   2597.5,   2.9194,  34.9395,2,  34.9357,2,    255.8,2,    28.21,2,    19.28,2,     0.00,9,     1.29,2,    0.027,2,    0.015,2,    0.041, -999.000,2,-999.0000,9,  -999.00,9,    7.950,2,   2.7113
  06BE200011,  AR04,    32,  1,      6,      6,2,20001206,0230,  5.0007, -35.0008, 3770,   2797.6,   2.7983,  34.9300,2,-999.0000,9,    254.5,2,    30.62,2,    19.64,2,     0.07,2,     1.31,2,    0.024,2,    0.014,2, -999.000, -999.000,9,-999.0000,9,  -999.00,9,    7.929,2,   2.5726
  06BE200011,  AR04,    32,  1,      5,      5,2,20001206,0230,  5.0007, -35.0008, 3770,   3002.2,   2.7079,  34.9233,2,  34.9198,2,    255.4,2,    32.35,2,    20.07,2,     0.01,2,     1.32,2,    0.024,2,    0.013,2,    0.038, -999.000,2,   1.8323,2,  -999.00,9, -999.000,9,   2.4633
  06BE200011,  AR04,    32,  1,      4,      4,2,20001206,0230,  5.0007, -35.0008, 3770,   3198.1,   2.6286,  34.9166,2,-999.0000,9,    255.4,2,    34.25,2,    19.96,2,     0.01,2,     1.33,2,    0.025,2,    0.014,2, -999.000, -999.000,9,   1.8520,2,  -999.00,9, -999.000,9,   2.3653
  06BE200011,  AR04,    32,  1,      3,      3,2,20001206,0230,  5.0007, -35.0008, 3770,   3398.2,   2.5052,  34.9065,2,  34.8996,2,    255.0,2,    37.41,2,    19.98,2,     0.00,9,     1.35,2,    0.034,2,    0.020,2,    0.043, -999.000,2,   1.8207,2,  -999.00,9,    8.002,2,   2.2236
  06BE200011,  AR04,    32,  1,      2,      2,2,20001206,0230,  5.0007, -35.0008, 3770,   3597.8,   2.3828,  34.8968,2,  34.8925,2,    255.8,2,    39.61,2,    20.35,2,     0.02,2,     1.35,2,    0.042,2,    0.023,2, -999.000, -999.000,9,-999.0000,9,  -999.00,9, -999.000,9,   2.0827
  06BE200011,  AR04,    32,  1,      1,      1,2,20001206,0230,  5.0007, -35.0008, 3770,   3767.1,   2.3184,  34.8900,2,  34.8858,2,    255.8,2,    41.78,2,    20.61,2,     0.00,9,     1.38,2,    0.043,2,    0.024,2,    0.030, -999.000,2,   1.8230,2,  -999.00,9,    7.737,2,   2.0014
  06BE200011,  AR04,    35,  1,     22,     22,2,20001206,0734,  5.4992, -35.0528, 3873,      8.8,  27.7756,  35.7936,2,-999.0000,9,    199.1,2,     1.26,2,     0.15,2,     0.01,2,     0.03,2,    1.506,2,    0.919,2, -999.000, -999.000,9,-999.0000,9,  -999.00,9, -999.000,9,  27.7735
  06BE200011,  AR04,    35,  1,     21,     21,2,20001206,0734,  5.4992, -35.0528, 3873,     99.7,  27.7598,  35.9344,2,-999.0000,9,    196.9,2,     1.36,2,     0.16,2,     0.02,2,     0.04,2, -999.000,9, -999.000,9, -999.000, -999.000,9,-999.0000,9,  -999.00,9, -999.000,9,  27.7364
  06BE200011,  AR04,    35,  1,     20,     20,2,20001206,0734,  5.4992, -35.0528, 3873,    197.9,  10.6664,  35.0222,2,-999.0000,9,    134.9,2,    11.44,2,    24.05,2,     0.01,2,     1.48,2, -999.000,9, -999.000,9, -999.000, -999.000,9,-999.0000,9,  -999.00,9, -999.000,9,  10.6425
  06BE200011,  AR04,    35,  1,     19,     19,2,20001206,0734,  5.4992, -35.0528, 3873,    298.7,   9.2377,  34.8700,2,-999.0000,9,    101.7,2,    15.11,2,    30.78,2,     0.00,9,     1.91,2, -999.000,9, -999.000,9, -999.000, -999.000,9,-999.0000,9,  -999.00,9, -999.000,9,   9.2046
  06BE200011,  AR04,    35,  1,     18,     18,2,20001206,0734,  5.4992, -35.0528, 3873,    499.2,   7.1066,  34.6708,2,-999.0000,9,    108.3,2,    20.89,2,    34.65,2,     0.01,2,     2.22,2, -999.000,9, -999.000,9, -999.000, -999.000,9,-999.0000,9,  -999.00,9, -999.000,9,   7.0587
  06BE200011,  AR04,    35,  1,     17,     17,2,20001206,0734,  5.4992, -35.0528, 3873,    695.7,   5.6273,  34.5670,2,-999.0000,9,    128.4,2,    26.44,2,    35.28,2,     0.00,9,     2.35,2, -999.000,9, -999.000,9, -999.000, -999.000,9,-999.0000,9,  -999.00,9, -999.000,9,   5.5675
  06BE200011,  AR04,    35,  1,     16,     16,2,20001206,0734,  5.4992, -35.0528, 3873,    788.1,   5.3016,  34.5797,2,-999.0000,9,    134.5,2,    28.01,2,    35.75,2,     0.00,9,     2.34,2, -999.000,9, -999.000,9, -999.000, -999.000,9,-999.0000,9,  -999.00,9, -999.000,9,   5.2352
  06BE200011,  AR04,    35,  1,     15,     15,2,20001206,0734,  5.4992, -35.0528, 3873,    802.0,   5.2362,  34.5799,2,-999.0000,9,    137.1,2,    27.99,2,    34.75,2,     0.00,9,     2.32,2,    0.068,2,    0.036,2, -999.000,    0.004,9,-999.0000,9,  -999.00,9, -999.000,9,   5.1690
  06BE200011,  AR04,    35,  1,     14,     14,2,20001206,0734,  5.4992, -35.0528, 3873,   1096.4,   4.9016,  34.7752,2,-999.0000,9,    162.4,2,    26.21,2,    30.84,2,     0.00,9,     2.06,2,    0.040,2,    0.019,2, -999.000, -999.000,9,-999.0000,9,     1.71,2, -999.000,9,   4.8098
  06BE200011,  AR04,    35,  1,     13,     13,2,20001206,0734,  5.4992, -35.0528, 3873,   1296.9,   4.7053,  34.9409,2,  34.9390,2,    206.1,2,    20.15,2,    24.47,2,     0.00,9,     1.63,2,    0.096,2,    0.053,2, -999.000, -999.000,9,-999.0000,9,  -999.00,9, -999.000,9,   4.5964
  06BE200011,  AR04,    35,  1,     12,     12,2,20001206,0734,  5.4992, -35.0528, 3873,   1499.0,   4.3547,  34.9954,2,-999.0000,9,   -999.0,9,  -999.00,9,  -999.00,9,  -999.00,9,  -999.00,9, -999.000,9, -999.000,9, -999.000,    0.006,9,-999.0000,9,     3.61,2, -999.000,9,   4.2305
  06BE200011,  AR04,    35,  1,     11,     11,2,20001206,0734,  5.4992, -35.0528, 3873,   1695.4,   4.0485,  34.9862,2,  34.9838,2,    244.9,2,    17.48,2,    20.00,2,     0.01,2,     1.34,2,    0.135,2,    0.069,2, -999.000, -999.000,9,-999.0000,9,     3.29,2, -999.000,9,   3.9095
  06BE200011,  AR04,    35,  1,     10,     10,2,20001206,0734,  5.4992, -35.0528, 3873,   1894.5,   3.7225,  34.9804,2,-999.0000,9,   -999.0,9,  -999.00,9,  -999.00,9,  -999.00,9,  -999.00,9, -999.000,9, -999.000,9, -999.000, -999.000,9,-999.0000,9,     3.73,2, -999.000,9,   3.5691
  06BE200011,  AR04,    35,  1,      9,      9,2,20001206,0734,  5.4992, -35.0528, 3873,   2099.7,   3.5096,  34.9727,2,  34.9705,2,    255.0,2,    20.11,2,    18.80,2,     0.01,2,     1.27,2,    0.087,2,    0.045,2, -999.000, -999.000,9,-999.0000,9,  -999.00,9, -999.000,9,   3.3398
  06BE200011,  AR04,    35,  1,      8,      8,2,20001206,0734,  5.4992, -35.0528, 3873,   2297.2,   3.2566,  34.9579,2,-999.0000,9,    254.1,2,    23.87,2,    19.24,2,     0.00,9,     1.30,2,    0.036,2,    0.019,2, -999.000, -999.000,9,-999.0000,9,  -999.00,9, -999.000,9,   3.0719
  06BE200011,  AR04,    35,  1,      7,      7,2,20001206,0734,  5.4992, -35.0528, 3873,   2498.9,   3.0401,  34.9477,2,  34.9453,2,    256.3,2,    25.88,2,    19.88,2,     0.02,2,     1.31,2,    0.028,2,    0.014,2, -999.000,    0.002,9,-999.0000,9,  -999.00,9, -999.000,9,   2.8395
  06BE200011,  AR04,    35,  1,      6,      6,2,20001206,0734,  5.4992, -35.0528, 3873,   2697.9,   2.8837,  34.9367,2,-999.0000,9,    256.7,2,    28.55,2,    19.73,2,     0.01,2,     1.33,2,    0.028,2,    0.015,2, -999.000, -999.000,9,-999.0000,9,  -999.00,9, -999.000,9,   2.6663
  06BE200011,  AR04,    35,  1,      5,      5,2,20001206,0734,  5.4992, -35.0528, 3873,   2898.5,   2.7974,  34.9326,2,  34.9317,2,    257.6,2,    29.71,2,    19.43,2,     0.04,2,     1.32,2,    0.044,2,    0.025,2, -999.000,    0.002,9,-999.0000,9,     3.17,2, -999.000,9,   2.5615
  06BE200011,  AR04,    35,  1,      4,      4,2,20001206,0734,  5.4992, -35.0528, 3873,   3098.6,   2.6592,  34.9202,2,-999.0000,9,    255.8,2,    33.64,2,    19.68,2,     0.01,2,     1.34,2,    0.025,2,    0.014,2, -999.000, -999.000,9,-999.0000,9,     3.61,2, -999.000,9,   2.4056
  06BE200011,  AR04,    35,  1,      3,      3,2,20001206,0734,  5.4992, -35.0528, 3873,   3299.5,   2.5742,  34.9130,2,  34.9118,2,    256.7,2,    35.26,2,    20.41,2,     0.05,2,     1.37,2,    0.032,2,    0.017,2, -999.000,    0.003,9,-999.0000,9,     3.26,2, -999.000,9,   2.3015
  06BE200011,  AR04,    35,  1,      2,      2,2,20001206,0734,  5.4992, -35.0528, 3873,   3498.2,   2.4552,  34.9033,2,-999.0000,9,    256.3,2,    37.60,2,    20.55,2,     0.01,2,     1.38,2,    0.037,2,    0.020,2, -999.000, -999.000,9,-999.0000,9,  -999.00,9, -999.000,9,   2.1641
  06BE200011,  AR04,    35,  1,      1,      1,2,20001206,0734,  5.4992, -35.0528, 3873,   3870.5,   2.2566,  34.8833,2,  34.8809,2,    255.0,2,    43.87,2,    21.12,2,     0.04,2,     1.45,2,    0.044,2,    0.023,2, -999.000,    0.002,9,-999.0000,9,     3.65,2, -999.000,9,   1.9298