BOTTLE,20111027CCHDOSIOCBG
EXPOCODE,SECT_ID,STNNBR,CASTNO,SAMPNO,BTLNBR,BTLNBR_FLAG_W,DATE,TIME,LATITUDE,LONGITUDE,DEPTH,CTDPRS,CTDTMP,CTDSAL,CTDSAL_FLAG_W,SALNTY,SALNTY_FLAG_W,OXYGEN,OXYGEN_FLAG_W,SILCAT,SILCAT_FLAG_W,NITRAT,NITRAT_FLAG_W,NITRIT,NITRIT_FLAG_W,PHSPHT,PHSPHT_FLAG_W,CFC-11,CFC-11_FLAG_W,CFC-12,CFC-12_FLAG_W,TRITUM,TRITER,TRITUM_FLAG_W,HELIUM,HELIUM_FLAG_W,DELHE3,DELHE3_FLAG_W,NEON,NEON_FLAG_W,THETA
,,,,,,,,,,,METERS,DBAR,ITS-90,PSS-78,,PSS-78,,UMOL/KG,,UMOL/KG,,UMOL/KG,,UMOL/KG,,UMOL/KG,,PMOL/KG,,PMOL/KG,,TU,TU,,NMOL/KG,,PERCNT,,NMOL/KG,,DEG C
  06BE200011,  AR04,    63,  1,     22,     22,2,20001213,2104, 11.0997, -41.9407, 4128,      8.5,  25.8327,  35.2609,2,  35.2602,2,    204.0,2,     2.11,2,     0.04,2,     0.00,9,     0.02,2,    1.634,2,    0.976,2, -999.000, -999.000,9,-999.0000,9,  -999.00,9, -999.000,9,  25.8308
  06BE200011,  AR04,    63,  1,     21,     21,2,20001213,2104, 11.0997, -41.9407, 4128,    893.4,   5.4372,  34.7102,2,  34.7074,2,    133.6,2,    26.45,2,    32.75,2,     0.01,2,     2.11,2,    0.025,2,    0.013,2, -999.000, -999.000,9,-999.0000,9,  -999.00,9, -999.000,9,   5.3602
  06BE200011,  AR04,    63,  1,     20,     20,2,20001213,2104, 11.0997, -41.9407, 4128,   1095.3,   5.1874,  34.8422,2,-999.0000,9,    161.5,2,    23.87,2,    28.83,2,     0.00,9,     1.92,2,    0.034,2,    0.018,2, -999.000, -999.000,9,-999.0000,9,  -999.00,9, -999.000,9,   5.0932
  06BE200011,  AR04,    63,  1,     19,     19,2,20001213,2104, 11.0997, -41.9407, 4128,   1248.8,   5.0098,  34.9184,2,-999.0000,9,    184.2,2,    21.41,2,    25.60,2,     0.01,2,     1.72,2,    0.072,2,    0.039,2, -999.000, -999.000,9,-999.0000,9,  -999.00,9, -999.000,9,   4.9026
  06BE200011,  AR04,    63,  1,     18,     18,2,20001213,2104, 11.0997, -41.9407, 4128,   1397.2,   4.7147,  34.9724,2,-999.0000,9,   -999.0,9,    18.57,2,    22.46,2,     0.01,2,     1.51,2,    0.113,2,    0.061,2, -999.000, -999.000,9,-999.0000,9,  -999.00,9, -999.000,9,   4.5963
  06BE200011,  AR04,    63,  1,     17,     17,2,20001213,2104, 11.0997, -41.9407, 4128,   1548.0,   4.3975,  34.9961,2,  34.9946,2,    234.9,2,    16.53,2,    20.00,2,     0.01,2,     1.33,2,    0.185,2,    0.097,2, -999.000, -999.000,9,-999.0000,9,  -999.00,9, -999.000,9,   4.2682
  06BE200011,  AR04,    63,  1,     16,     16,2,20001213,2104, 11.0997, -41.9407, 4128,   1697.4,   4.0473,  34.9918,2,  34.9914,2,    246.7,2,    16.83,2,    19.19,2,     0.00,9,     1.28,2,    0.163,2,    0.087,2, -999.000, -999.000,9,-999.0000,9,  -999.00,9, -999.000,9,   3.9082
  06BE200011,  AR04,    63,  1,     15,     15,2,20001213,2104, 11.0997, -41.9407, 4128,   1849.9,   3.6391,  34.9780,2,-999.0000,9,    252.3,2,    19.41,2,    19.11,2,     0.01,2,     1.26,2,    0.103,2,    0.055,2, -999.000, -999.000,9,   1.8053,2,  -999.00,9, -999.000,9,   3.4911
  06BE200011,  AR04,    63,  1,     14,     14,2,20001213,2104, 11.0997, -41.9407, 4128,   1998.9,   3.4710,  34.9723,2,-999.0000,9,    254.5,2,    20.66,2,    18.82,2,     0.00,9,     1.26,2,    0.081,2,    0.043,2,    0.041,    0.002,2,   1.8276,2,  -999.00,9,    7.953,2,   3.3114
  06BE200011,  AR04,    63,  1,     13,     13,2,20001213,2104, 11.0997, -41.9407, 4128,   2254.7,   3.2982,  34.9641,2,-999.0000,9,    255.4,2,    22.76,2,    18.87,2,     0.00,9,     1.27,2,    0.056,2,    0.032,2, -999.000,    0.001,9,   1.8147,2,  -999.00,9, -999.000,9,   3.1169
  06BE200011,  AR04,    63,  1,     12,     12,2,20001213,2104, 11.0997, -41.9407, 4128,   2496.4,   3.0849,  34.9532,2,  34.9508,2,    255.4,2,    25.85,2,    19.50,2,     0.01,2,     1.30,2,    0.034,2,    0.018,2, -999.000,    0.001,9,   1.8137,2,  -999.00,9, -999.000,9,   2.8837
  06BE200011,  AR04,    63,  1,     11,     11,2,20001213,2104, 11.0997, -41.9407, 4128,   2798.0,   2.8468,  34.9387,2,-999.0000,9,   -999.0,9,  -999.00,9,  -999.00,9,  -999.00,9,  -999.00,9, -999.000,9, -999.000,9, -999.000, -999.000,9,-999.0000,9,     3.11,2, -999.000,9,   2.6200
  06BE200011,  AR04,    63,  1,     10,     10,2,20001213,2104, 11.0997, -41.9407, 4128,   2800.4,   2.8466,  34.9386,2,-999.0000,9,    254.5,2,    29.93,2,    20.13,2,     0.00,9,     1.32,2,    0.013,2,    0.008,2,    0.041,    0.044,2,-999.0000,9,     3.11,2,    7.944,2,   2.6196
  06BE200011,  AR04,    63,  1,      8,      8,2,20001213,2104, 11.0997, -41.9407, 4128,   3099.4,   2.6652,  34.9269,2,  34.9257,2,    252.8,2,    34.61,2,    20.55,2,     0.01,2,     1.35,2,    0.010,2,    0.006,2,    0.032,    0.001,2,   1.8080,2,  -999.00,9,    8.037,2,   2.4114
  06BE200011,  AR04,    63,  1,      9,      9,2,20001213,2104, 11.0997, -41.9407, 4128,   3099.5,   2.6654,  34.9268,2,-999.0000,9,   -999.0,9,  -999.00,9,  -999.00,9,  -999.00,9,  -999.00,9, -999.000,9, -999.000,9, -999.000, -999.000,9,-999.0000,9,  -999.00,9, -999.000,9,   2.4116
  06BE200011,  AR04,    63,  1,      7,      7,2,20001213,2104, 11.0997, -41.9407, 4128,   3396.2,   2.5043,  34.9134,2,-999.0000,9,   -999.0,9,  -999.00,9,  -999.00,9,  -999.00,9,  -999.00,9, -999.000,9, -999.000,9, -999.000, -999.000,9,-999.0000,9,  -999.00,9,    8.081,2,   2.2229
  06BE200011,  AR04,    63,  1,      6,      6,2,20001213,2104, 11.0997, -41.9407, 4128,   3398.6,   2.5031,  34.9132,2,-999.0000,9,    251.9,2,    38.55,2,    20.78,2,     0.01,2,     1.40,2,    0.006,2,    0.003,2, -999.000,    0.003,9,   1.8051,2,     3.09,2,    8.081,2,   2.2215
  06BE200011,  AR04,    63,  1,      5,      5,2,20001213,2104, 11.0997, -41.9407, 4128,   3793.9,   2.4285,  34.9029,2,-999.0000,9,   -999.0,9,  -999.00,9,  -999.00,9,  -999.00,9,  -999.00,9, -999.000,9, -999.000,9, -999.000, -999.000,9,-999.0000,9,  -999.00,9,    7.960,2,   2.1055
  06BE200011,  AR04,    63,  1,      4,      4,2,20001213,2104, 11.0997, -41.9407, 4128,   3794.7,   2.4284,  34.9027,2,-999.0000,9,    250.6,2,    41.38,2,    20.94,2,     0.01,2,     1.42,2,    0.008,2,    0.005,2, -999.000, -999.000,9,   1.8106,2,  -999.00,9,    7.960,2,   2.1053
  06BE200011,  AR04,    63,  1,      3,      3,2,20001213,2104, 11.0997, -41.9407, 4128,   3997.4,   2.3915,  34.8972,2,-999.0000,9,   -999.0,9,    42.27,2,    21.06,2,     0.00,9,     1.41,2, -999.000,9, -999.000,9, -999.000, -999.000,9,-999.0000,9,  -999.00,9, -999.000,9,   2.0465
  06BE200011,  AR04,    63,  1,      1,      1,2,20001213,2104, 11.0997, -41.9407, 4128,   4126.0,   2.3131,  34.8888,2,-999.0000,9,   -999.0,9,  -999.00,9,  -999.00,9,  -999.00,9,  -999.00,9, -999.000,9, -999.000,9, -999.000, -999.000,9,-999.0000,9,  -999.00,9, -999.000,9,   1.9556
  06BE200011,  AR04,    63,  1,      2,      2,2,20001213,2104, 11.0997, -41.9407, 4128,   4126.2,   2.3119,  34.8886,2,  34.8878,2,    251.1,2,    45.05,2,    21.82,2,     0.01,2,     1.46,2,    0.033,2,    0.018,2,    0.068,    0.003,2,   1.8089,2,  -999.00,9,    7.815,2,   1.9544
  06BE200011,  AR04,    64,  1,     22,     22,2,20001214,0357, 11.1002, -42.8408, 3602,     11.4,  25.9132,  35.3317,2,  35.3298,2,    207.0,2,     2.01,2,     0.11,2,     0.01,2,     0.02,2,    1.591,2,    0.962,2, -999.000, -999.000,9,-999.0000,9,  -999.00,9, -999.000,9,  25.9107
  06BE200011,  AR04,    64,  1,     21,     21,2,20001214,0357, 11.1002, -42.8408, 3602,    901.2,   5.8767,  34.6938,2,  34.6899,2,    123.6,2,    25.20,2,    34.29,2,     0.01,2,     2.16,2,    0.048,2,    0.029,2, -999.000, -999.000,9,-999.0000,9,  -999.00,9, -999.000,9,   5.7960
  06BE200011,  AR04,    64,  1,     20,     20,2,20001214,0357, 11.1002, -42.8408, 3602,   1199.7,   5.0668,  34.9047,2,-999.0000,9,    176.4,2,    22.10,2,    26.75,2,     0.00,9,     1.80,2,    0.039,2,    0.021,2,    0.039, -999.000,2,-999.0000,9,  -999.00,9, -999.000,9,   4.9637
  06BE200011,  AR04,    64,  1,     19,     19,2,20001214,0357, 11.1002, -42.8408, 3602,   1397.7,   4.5836,  34.9826,2,-999.0000,9,    218.7,2,    18.12,2,    22.40,2,     0.00,9,     1.46,2,    0.099,2,    0.053,2, -999.000, -999.000,9,-999.0000,9,  -999.00,9, -999.000,9,   4.4665
  06BE200011,  AR04,    64,  1,     18,     18,2,20001214,0357, 11.1002, -42.8408, 3602,   1547.8,   4.2747,  34.9931,2,  34.9916,2,    234.0,2,    16.80,2,    20.46,2,     0.00,9,     1.32,2,    0.128,2,    0.070,2, -999.000, -999.000,9,-999.0000,9,  -999.00,9, -999.000,9,   4.1469
  06BE200011,  AR04,    64,  1,     17,     17,2,20001214,0357, 11.1002, -42.8408, 3602,   1697.4,   3.9456,  34.9893,2,-999.0000,9,    247.1,2,    17.25,2,    19.25,2,     0.00,9,     1.27,2,    0.104,2,    0.057,2,    0.169, -999.000,2,-999.0000,9,  -999.00,9, -999.000,9,   3.8077
  06BE200011,  AR04,    64,  1,     16,     16,2,20001214,0357, 11.1002, -42.8408, 3602,   1848.9,   3.7535,  34.9839,2,-999.0000,9,    251.5,2,    18.92,2,    18.89,2,     0.01,2,     1.26,2,    0.096,2,    0.052,2, -999.000, -999.000,9,-999.0000,9,  -999.00,9, -999.000,9,   3.6040
  06BE200011,  AR04,    64,  1,     15,     15,2,20001214,0357, 11.1002, -42.8408, 3602,   1999.1,   3.5258,  34.9749,2,-999.0000,9,    253.2,2,    19.28,2,    19.16,2,     0.00,9,     1.26,2,    0.050,2,    0.028,2, -999.000, -999.000,9,-999.0000,9,     4.86,2, -999.000,9,   3.3653
  06BE200011,  AR04,    64,  1,     14,     14,2,20001214,0357, 11.1002, -42.8408, 3602,   2198.1,   3.3119,  34.9658,2,-999.0000,9,    254.1,2,    22.45,2,    19.16,2,     0.00,9,     1.26,2,    0.038,2,    0.021,2, -999.000,    0.002,9,   1.8176,2,     3.51,2, -999.000,9,   3.1358
  06BE200011,  AR04,    64,  1,     13,     13,2,20001214,0357, 11.1002, -42.8408, 3602,   2399.0,   3.0936,  34.9539,2,-999.0000,9,    255.0,2,    25.53,2,    19.46,2,     0.00,9,     1.29,2,    0.030,2,    0.016,2,    0.064, -999.000,2,   1.8107,2,     3.71,2, -999.000,9,   2.9018
  06BE200011,  AR04,    64,  1,     12,     12,2,20001214,0357, 11.1002, -42.8408, 3602,   2601.0,   2.9441,  34.9452,2,  34.9416,2,    254.1,2,    28.28,2,    19.50,2,     0.00,9,     1.31,2,    0.026,2,    0.014,2, -999.000, -999.000,9,   1.8235,2,     4.01,2, -999.000,9,   2.7352
  06BE200011,  AR04,    64,  1,     11,     11,2,20001214,0357, 11.1002, -42.8408, 3602,   2895.7,   2.7325,  34.9314,2,-999.0000,9,   -999.0,9,  -999.00,9,  -999.00,9,  -999.00,9,  -999.00,9, -999.000,9, -999.000,9, -999.000, -999.000,9,   1.8190,2,  -999.00,9,    7.920,2,   2.4982
  06BE200011,  AR04,    64,  1,     10,     10,2,20001214,0357, 11.1002, -42.8408, 3602,   2898.3,   2.7305,  34.9313,2,-999.0000,9,    253.2,2,    32.94,2,    20.09,2,     0.01,2,     1.35,2,    0.015,2,    0.009,2,    0.018,    0.003,2,   1.8190,2,  -999.00,9,    7.920,2,   2.4960
  06BE200011,  AR04,    64,  1,      8,      8,2,20001214,0357, 11.1002, -42.8408, 3602,   3100.2,   2.6297,  34.9240,2,-999.0000,9,    252.3,2,    35.74,2,    20.45,2,     0.01,2,     1.36,2,    0.010,2,    0.007,2,    0.012,    0.002,2,   1.8267,2,     3.79,2, -999.000,9,   2.3766
  06BE200011,  AR04,    64,  1,      9,      9,2,20001214,0357, 11.1002, -42.8408, 3602,   3100.9,   2.6296,  34.9240,2,-999.0000,9,   -999.0,9,  -999.00,9,  -999.00,9,  -999.00,9,  -999.00,9, -999.000,9, -999.000,9, -999.000, -999.000,9,   1.8267,2,  -999.00,9, -999.000,9,   2.3764
  06BE200011,  AR04,    64,  1,      7,      7,2,20001214,0357, 11.1002, -42.8408, 3602,   3195.9,   2.5982,  34.9216,2,-999.0000,9,   -999.0,9,  -999.00,9,  -999.00,9,  -999.00,9,  -999.00,9, -999.000,9, -999.000,9, -999.000, -999.000,9,   1.8591,2,  -999.00,9, -999.000,9,   2.3358
  06BE200011,  AR04,    64,  1,      6,      6,2,20001214,0357, 11.1002, -42.8408, 3602,   3198.0,   2.5988,  34.9216,2,  34.9193,2,    251.9,2,    36.63,2,    20.51,2,     0.00,9,     1.39,2,    0.007,2,    0.006,2,    0.014, -999.000,2,   1.8591,2,     3.70,2,    7.837,2,   2.3362
  06BE200011,  AR04,    64,  1,      5,      5,2,20001214,0357, 11.1002, -42.8408, 3602,   3400.4,   2.5168,  34.9139,2,-999.0000,9,   -999.0,9,  -999.00,9,  -999.00,9,  -999.00,9,  -999.00,9, -999.000,9, -999.000,9, -999.000, -999.000,9,-999.0000,9,  -999.00,9, -999.000,9,   2.2347
  06BE200011,  AR04,    64,  1,      4,      4,2,20001214,0357, 11.1002, -42.8408, 3602,   3400.7,   2.5180,  34.9140,2,-999.0000,9,    250.6,2,    38.82,2,    21.03,2,     0.00,9,     1.39,2,    0.007,2,    0.005,2, -999.000, -999.000,9,-999.0000,9,     4.21,2, -999.000,9,   2.2358
  06BE200011,  AR04,    64,  1,      3,      3,2,20001214,0357, 11.1002, -42.8408, 3602,   3548.1,   2.5120,  34.9116,2,-999.0000,9,   -999.0,9,  -999.00,9,  -999.00,9,  -999.00,9,  -999.00,9, -999.000,9, -999.000,9, -999.000, -999.000,9,-999.0000,9,  -999.00,9, -999.000,9,   2.2140
  06BE200011,  AR04,    64,  1,      2,      2,2,20001214,0357, 11.1002, -42.8408, 3602,   3599.6,   2.4845,  34.9089,2,  34.9080,2,    250.6,2,    40.17,2,    21.17,2,     0.01,2,     1.44,2,    0.008,2,    0.005,2,    0.049,    0.002,2,   1.7870,2,     4.35,2, -999.000,9,   2.1816
  06BE200011,  AR04,    64,  1,      1,      1,2,20001214,0357, 11.1002, -42.8408, 3602,   3599.9,   2.4845,  34.9089,2,-999.0000,9,   -999.0,9,  -999.00,9,  -999.00,9,  -999.00,9,  -999.00,9, -999.000,9, -999.000,9, -999.000, -999.000,9,-999.0000,9,  -999.00,9, -999.000,9,   2.1815
  06BE200011,  AR04,    65,  1,     21,     21,2,20001214,1022, 11.1012, -43.7517, 4599,   1000.1,   5.3112,  34.8072,2,  34.8039,2,    146.7,2,    24.91,2,    31.12,2,     0.01,2,     2.02,2,    0.019,2,    0.013,2,    0.029, -999.000,2,-999.0000,9,  -999.00,9, -999.000,9,   5.2250
  06BE200011,  AR04,    65,  1,     20,     20,2,20001214,1022, 11.1012, -43.7517, 4599,   1346.4,   4.6301,  34.9766,2,-999.0000,9,    217.0,2,    18.20,2,    22.37,2,     0.00,9,     1.47,2,    0.109,2,    0.058,2, -999.000,    0.006,9,-999.0000,9,  -999.00,9, -999.000,9,   4.5173
  06BE200011,  AR04,    65,  1,     19,     19,2,20001214,1022, 11.1012, -43.7517, 4599,   1498.8,   4.2724,  34.9924,2,-999.0000,9,    234.4,2,    17.13,2,    20.60,2,     0.00,9,     1.37,2,    0.100,2,    0.053,2,    0.101, -999.000,2,-999.0000,9,  -999.00,9, -999.000,9,   4.1492
  06BE200011,  AR04,    65,  1,     18,     18,2,20001214,1022, 11.1012, -43.7517, 4599,   1696.9,   3.8526,  34.9868,2,-999.0000,9,    248.8,2,    17.57,2,    19.26,2,     0.00,9,     1.28,2,    0.086,2,    0.046,2,    0.129, -999.000,2,-999.0000,9,  -999.00,9, -999.000,9,   3.7160
  06BE200011,  AR04,    65,  1,     17,     17,2,20001214,1022, 11.1012, -43.7517, 4599,   1895.8,   3.5954,  34.9785,2,  34.9755,2,    252.8,2,    19.19,2,    19.10,2,     0.01,2,     1.27,2,    0.062,2,    0.034,2,    0.105,    0.006,2,-999.0000,9,  -999.00,9, -999.000,9,   3.4437
  06BE200011,  AR04,    65,  1,     16,     16,2,20001214,1022, 11.1012, -43.7517, 4599,   2197.7,   3.1985,  34.9604,2,-999.0000,9,    253.7,2,    23.89,2,    19.43,2,     0.01,2,     1.36,2,    0.029,2,    0.016,2,    0.091, -999.000,2,   1.8128,2,  -999.00,9, -999.000,9,   3.0243
  06BE200011,  AR04,    65,  1,     15,     15,2,20001214,1022, 11.1012, -43.7517, 4599,   2495.8,   2.9415,  34.9457,2,-999.0000,9,    253.2,2,    29.12,2,    20.09,2,     0.02,2,     1.32,2,    0.020,2,    0.010,2,    0.056, -999.000,2,-999.0000,9,  -999.00,9,    7.832,2,   2.7430
  06BE200011,  AR04,    65,  1,     14,     14,2,20001214,1022, 11.1012, -43.7517, 4599,   2798.5,   2.7528,  34.9342,2,-999.0000,9,    251.0,2,    33.18,2,    20.24,2,     0.01,2,     1.37,2,    0.020,2,    0.011,2,    0.042, -999.000,2,   1.8069,2,     3.60,2,    7.838,2,   2.5279
  06BE200011,  AR04,    65,  1,     13,     13,2,20001214,1022, 11.1012, -43.7517, 4599,   3099.0,   2.6310,  34.9252,2,-999.0000,9,    251.0,2,    36.09,2,    20.98,2,     0.01,2,     1.38,2,    0.011,2,    0.006,2,    0.036,    0.003,2,-999.0000,9,     3.55,2,    7.958,2,   2.3780
  06BE200011,  AR04,    65,  1,     12,     12,2,20001214,1022, 11.1012, -43.7517, 4599,   3396.5,   2.5296,  34.9151,2,-999.0000,9,    250.6,2,    38.51,2,    20.81,2,     0.01,2,     1.41,2,    0.009,2,    0.005,2,    0.060, -999.000,2,   1.8173,2,     3.48,2,    7.965,2,   2.2476
  06BE200011,  AR04,    65,  1,     11,     11,2,20001214,1022, 11.1012, -43.7517, 4599,   3595.2,   2.5065,  34.9112,2,-999.0000,9,   -999.0,9,  -999.00,9,  -999.00,9,  -999.00,9,  -999.00,9, -999.000,9, -999.000,9, -999.000, -999.000,9,   1.8089,2,     3.80,2, -999.000,9,   2.2035
  06BE200011,  AR04,    65,  1,     10,     10,2,20001214,1022, 11.1012, -43.7517, 4599,   3597.8,   2.5068,  34.9112,2,-999.0000,9,    251.1,2,    39.31,2,    21.31,2,     0.00,9,     1.41,2,    0.009,2,    0.006,2, -999.000,    0.002,9,   1.8089,2,     3.80,2, -999.000,9,   2.2035
  06BE200011,  AR04,    65,  1,      8,      8,2,20001214,1022, 11.1012, -43.7517, 4599,   3799.5,   2.4378,  34.9026,2,-999.0000,9,    252.4,2,    41.20,2,    20.99,2,     0.01,2,     1.40,2,    0.022,2,    0.012,2, -999.000,    0.046,9,   1.8463,2,     4.94,2,    7.849,2,   2.1139
  06BE200011,  AR04,    65,  1,      9,      9,2,20001214,1022, 11.1012, -43.7517, 4599,   3800.3,   2.4446,  34.9033,2,-999.0000,9,   -999.0,9,  -999.00,9,  -999.00,9,  -999.00,9,  -999.00,9, -999.000,9, -999.000,9, -999.000, -999.000,9,   1.8463,2,     4.94,2, -999.000,9,   2.1205
  06BE200011,  AR04,    65,  1,      7,      7,2,20001214,1022, 11.1012, -43.7517, 4599,   3995.6,   2.3222,  34.8899,2,-999.0000,9,   -999.0,9,  -999.00,9,  -999.00,9,  -999.00,9,  -999.00,9, -999.000,9, -999.000,9, -999.000, -999.000,9,-999.0000,9,     6.39,2, -999.000,9,   1.9794
  06BE200011,  AR04,    65,  1,      6,      6,2,20001214,1022, 11.1012, -43.7517, 4599,   3997.1,   2.3219,  34.8899,2,-999.0000,9,    251.9,2,    44.22,2,    21.45,2,     0.01,2,     1.44,2,    0.038,2,    0.022,2, -999.000,    0.005,9,   1.8229,2,     6.39,2,    8.004,2,   1.9789
  06BE200011,  AR04,    65,  1,      5,      5,2,20001214,1022, 11.1012, -43.7517, 4599,   4300.5,   2.0187,  34.8565,2,  34.8535,2,   -999.0,9,  -999.00,9,  -999.00,9,  -999.00,9,  -999.00,9, -999.000,9, -999.000,9, -999.000, -999.000,9,-999.0000,9,  -999.00,9, -999.000,9,   1.6498
  06BE200011,  AR04,    65,  1,      4,      4,2,20001214,1022, 11.1012, -43.7517, 4599,   4300.6,   2.0189,  34.8567,2,-999.0000,9,    248.4,2,    54.98,2,    22.75,2,     0.01,2,     1.55,2,    0.049,2,    0.028,2, -999.000, -999.000,9,-999.0000,9,  -999.00,9,    7.967,2,   1.6500
  06BE200011,  AR04,    65,  1,      3,      3,2,20001214,1022, 11.1012, -43.7517, 4599,   4542.2,   1.8775,  34.8410,2,-999.0000,9,   -999.0,9,    58.98,2,    23.25,2,     0.01,2,     1.59,2, -999.000,9, -999.000,9, -999.000, -999.000,9,-999.0000,9,  -999.00,9, -999.000,9,   1.4847
  06BE200011,  AR04,    65,  1,      1,      1,2,20001214,1022, 11.1012, -43.7517, 4599,   4595.1,   1.8351,  34.8366,2,-999.0000,9,   -999.0,9,  -999.00,9,  -999.00,9,  -999.00,9,  -999.00,9, -999.000,9, -999.000,9, -999.000, -999.000,9,-999.0000,9,  -999.00,9, -999.000,9,   1.4374
  06BE200011,  AR04,    65,  1,      2,      2,2,20001214,1022, 11.1012, -43.7517, 4599,   4597.5,   1.8360,  34.8367,2,  34.8345,2,    248.0,2,    60.67,2,    23.60,2,     0.02,2,     1.60,2,    0.060,2,    0.035,2, -999.000,    0.002,9,   1.8130,2,     3.40,2,    7.966,2,   1.4380