BOTTLE,20111027CCHDOSIOCBG
EXPOCODE,SECT_ID,STNNBR,CASTNO,SAMPNO,BTLNBR,BTLNBR_FLAG_W,DATE,TIME,LATITUDE,LONGITUDE,DEPTH,CTDPRS,CTDTMP,CTDSAL,CTDSAL_FLAG_W,SALNTY,SALNTY_FLAG_W,OXYGEN,OXYGEN_FLAG_W,SILCAT,SILCAT_FLAG_W,NITRAT,NITRAT_FLAG_W,NITRIT,NITRIT_FLAG_W,PHSPHT,PHSPHT_FLAG_W,CFC-11,CFC-11_FLAG_W,CFC-12,CFC-12_FLAG_W,TRITUM,TRITER,TRITUM_FLAG_W,HELIUM,HELIUM_FLAG_W,DELHE3,DELHE3_FLAG_W,NEON,NEON_FLAG_W,THETA
,,,,,,,,,,,METERS,DBAR,ITS-90,PSS-78,,PSS-78,,UMOL/KG,,UMOL/KG,,UMOL/KG,,UMOL/KG,,UMOL/KG,,PMOL/KG,,PMOL/KG,,TU,TU,,NMOL/KG,,PERCNT,,NMOL/KG,,DEG C
  06BE200011,  AR04,    91,  1,     22,     22,2,20001219,2003, 15.5662, -54.3145, 5698,      9.0,  26.1042,  35.8656,2,  35.8718,2,    205.2,2,     2.47,2,     0.11,2,     0.00,9,     0.02,2,    1.576,2,    0.949,2, -999.000, -999.000,9,-999.0000,9,  -999.00,9, -999.000,9,  26.1022
  06BE200011,  AR04,    91,  1,     21,     21,2,20001219,2003, 15.5662, -54.3145, 5698,    997.9,   5.3819,  34.8428,2,  34.8425,2,    159.8,2,    22.82,2,    29.07,2,     0.02,2,     1.90,2,    0.063,2,    0.034,2, -999.000, -999.000,9,-999.0000,9,  -999.00,9, -999.000,9,   5.2953
  06BE200011,  AR04,    91,  1,     20,     20,2,20001219,2003, 15.5662, -54.3145, 5698,   1198.4,   5.1618,  34.9740,2,-999.0000,9,    197.3,2,    18.43,2,    24.20,2,     0.01,2,     1.62,2,    0.158,2,    0.082,2, -999.000, -999.000,9,-999.0000,9,  -999.00,9, -999.000,9,   5.0579
  06BE200011,  AR04,    91,  1,     19,     19,2,20001219,2003, 15.5662, -54.3145, 5698,   1396.7,   4.7475,  35.0166,2,-999.0000,9,    229.6,2,    15.34,2,    20.42,2,     0.00,9,     1.38,2,    0.315,2,    0.163,2, -999.000, -999.000,9,-999.0000,9,  -999.00,9, -999.000,9,   4.6287
  06BE200011,  AR04,    91,  1,     18,     18,2,20001219,2003, 15.5662, -54.3145, 5698,   1549.3,   4.3600,  35.0087,2,-999.0000,9,    239.7,2,    15.53,2,    19.83,2,     0.00,9,     1.33,2,    0.222,2,    0.118,2, -999.000,    0.041,9,-999.0000,9,  -999.00,9, -999.000,9,   4.2310
  06BE200011,  AR04,    91,  1,     17,     17,2,20001219,2003, 15.5662, -54.3145, 5698,   1697.1,   4.0716,  35.0046,2,-999.0000,9,    249.7,2,    15.72,2,    19.27,2,     0.00,9,     1.28,2,    0.187,2,    0.099,2, -999.000,    0.008,9,-999.0000,9,  -999.00,9, -999.000,9,   3.9321
  06BE200011,  AR04,    91,  1,     16,     16,2,20001219,2003, 15.5662, -54.3145, 5698,   1897.3,   3.7563,  34.9951,2,-999.0000,9,    253.7,2,    17.57,2,    19.18,2,     0.01,2,     1.26,2,    0.097,2,    0.053,2,    0.311,    0.007,3,-999.0000,9,  -999.00,9, -999.000,9,   3.6021
  06BE200011,  AR04,    91,  1,     15,     15,2,20001219,2003, 15.5662, -54.3145, 5698,   2098.3,   3.4549,  34.9820,2,-999.0000,9,   -999.0,9,  -999.00,9,  -999.00,9,  -999.00,9,  -999.00,9, -999.000,9, -999.000,9, -999.000,    0.003,9,-999.0000,9,  -999.00,9, -999.000,9,   3.2860
  06BE200011,  AR04,    91,  1,     14,     14,2,20001219,2003, 15.5662, -54.3145, 5698,   2298.3,   3.1933,  34.9666,2,-999.0000,9,    259.3,2,    21.54,2,    18.88,2,     0.01,2,     1.27,2,    0.072,2,    0.040,2,    0.107,    0.004,2,-999.0000,9,  -999.00,9, -999.000,9,   3.0095
  06BE200011,  AR04,    91,  1,     13,     13,2,20001219,2003, 15.5662, -54.3145, 5698,   2590.0,   2.9547,  34.9503,2,  34.9478,2,    262.4,2,    23.08,2,    18.86,2,     0.01,2,     1.31,2,    0.122,2,    0.064,2, -999.000,    0.038,9,   1.7710,2,  -999.00,9, -999.000,9,   2.7467
  06BE200011,  AR04,    91,  1,     12,     12,2,20001219,2003, 15.5662, -54.3145, 5698,   2896.5,   2.7892,  34.9385,2,-999.0000,9,    262.0,2,    25.11,2,    19.25,2,     0.01,2,     1.29,2,    0.104,2,    0.053,2, -999.000,    0.004,9,-999.0000,9,  -999.00,9,    7.831,2,   2.5536
  06BE200011,  AR04,    91,  1,     11,     11,2,20001219,2003, 15.5662, -54.3145, 5698,   3198.5,   2.6579,  34.9285,2,-999.0000,9,    263.3,2,    27.07,2,    19.10,2,     0.01,2,     1.29,2,    0.165,2,    0.086,2,    0.106,    0.005,2,   1.8023,2,  -999.00,9,    7.874,2,   2.3938
  06BE200011,  AR04,    91,  1,     10,     10,2,20001219,2003, 15.5662, -54.3145, 5698,   3498.2,   2.5267,  34.9181,2,-999.0000,9,    253.7,4,    19.28,2,    19.30,2,     0.01,2,     1.28,2,    0.057,4,    0.029,4,    0.110,    0.003,2,   1.8102,2,  -999.00,9, -999.000,9,   2.2337
  06BE200011,  AR04,    91,  1,      9,      9,2,20001219,2003, 15.5662, -54.3145, 5698,   3797.2,   2.4302,  34.9105,2,-999.0000,9,    266.8,2,    28.94,2,    18.70,2,     0.01,2,     1.28,2,    0.199,2,    0.102,2,    0.169,    0.053,2,-999.0000,9,  -999.00,9,    7.996,2,   2.1067
  06BE200011,  AR04,    91,  1,      8,      8,2,20001219,2003, 15.5662, -54.3145, 5698,   3995.0,   2.3572,  34.9020,2,-999.0000,9,    263.3,2,    33.55,2,    19.81,2,     0.01,2,     1.33,2,    0.122,2,    0.065,2,    0.202, -999.000,2,-999.0000,9,  -999.00,9,    8.096,2,   2.0134
  06BE200011,  AR04,    91,  1,      7,      7,2,20001219,2003, 15.5662, -54.3145, 5698,   4196.5,   2.2863,  34.8927,2,-999.0000,9,    260.7,2,    36.91,2,    20.25,2,     0.01,2,     1.38,2,    0.089,2,    0.049,2, -999.000, -999.000,9,   1.8173,2,  -999.00,9,    7.944,2,   1.9214
  06BE200011,  AR04,    91,  1,      6,      6,2,20001219,2003, 15.5662, -54.3145, 5698,   4387.9,   2.2439,  34.8875,2,  34.8848,2,    261.1,2,    38.28,2,    20.17,2,     0.01,2,     1.38,2,    0.090,2,    0.049,2, -999.000, -999.000,9,-999.0000,9,  -999.00,9,    7.940,2,   1.8578
  06BE200011,  AR04,    91,  1,      5,      5,2,20001219,2003, 15.5662, -54.3145, 5698,   4698.8,   2.1434,  34.8734,2,-999.0000,9,    258.0,2,    43.46,2,    20.97,2,     0.01,2,     1.45,2,    0.081,2,    0.049,2, -999.000, -999.000,9,-999.0000,9,  -999.00,9, -999.000,9,   1.7232
  06BE200011,  AR04,    91,  1,      4,      4,2,20001219,2003, 15.5662, -54.3145, 5698,   4999.3,   1.9908,  34.8525,2,  34.8505,2,    253.2,2,    51.98,2,    22.66,2,     0.02,2,     1.55,2,    0.071,2,    0.043,2, -999.000, -999.000,9,-999.0000,9,  -999.00,9, -999.000,9,   1.5388
  06BE200011,  AR04,    91,  1,      3,      3,2,20001219,2003, 15.5662, -54.3145, 5698,   5196.4,   1.9177,  34.8406,2,  34.8370,2,    249.3,2,    57.66,2,    23.32,2,     0.03,2,     1.61,2,    0.064,2,    0.038,2, -999.000, -999.000,9,-999.0000,9,  -999.00,9, -999.000,9,   1.4436
  06BE200011,  AR04,    91,  1,      2,      2,2,20001219,2003, 15.5662, -54.3145, 5698,   5400.2,   1.8852,  34.8337,2,  34.8309,2,    248.9,2,    59.55,2,    23.64,2,     0.01,2,     1.63,2,    0.060,2,    0.035,2, -999.000, -999.000,9,-999.0000,9,  -999.00,9, -999.000,9,   1.3863
  06BE200011,  AR04,    91,  1,      1,      1,2,20001219,2003, 15.5662, -54.3145, 5698,   5695.5,   1.8956,  34.8298,2,  34.8270,2,    248.4,2,    61.57,2,    24.00,2,     0.02,2,     1.65,2,    0.060,2,    0.034,2, -999.000, -999.000,9,-999.0000,9,  -999.00,9, -999.000,9,   1.3578
  06BE200011,  AR04,    93,  1,     22,     22,2,20001220,0535, 15.6410, -54.8418, 5602,     10.1,  26.2693,  35.5739,2,  35.5717,2,    207.0,2,     3.32,2,     0.08,2,     0.00,9,     0.01,2,    1.588,2,    0.964,2, -999.000, -999.000,9,-999.0000,9,  -999.00,9, -999.000,9,  26.2670
  06BE200011,  AR04,    93,  1,     21,     21,2,20001220,0535, 15.6410, -54.8418, 5602,    878.4,   5.6436,  34.7646,2,-999.0000,9,    144.9,2,    24.56,2,    31.22,2,     0.01,2,     2.00,2,    0.068,2,    0.036,2, -999.000, -999.000,9,-999.0000,9,  -999.00,9, -999.000,9,   5.5665
  06BE200011,  AR04,    93,  1,     20,     20,2,20001220,0535, 15.6410, -54.8418, 5602,   1098.6,   5.4084,  34.9410,2,-999.0000,9,    182.9,2,    20.00,2,    25.38,2,     0.01,2,     1.69,2,    0.166,2,    0.086,2, -999.000, -999.000,9,-999.0000,9,  -999.00,9, -999.000,9,   5.3119
  06BE200011,  AR04,    93,  1,     19,     19,2,20001220,0535, 15.6410, -54.8418, 5602,   1299.2,   4.9218,  35.0132,2,-999.0000,9,    221.8,2,    16.79,2,    21.23,2,     0.01,2,     1.41,2,    0.327,2,    0.170,2, -999.000, -999.000,9,   1.7897,2,  -999.00,9, -999.000,9,   4.8105
  06BE200011,  AR04,    93,  1,     18,     18,2,20001220,0535, 15.6410, -54.8418, 5602,   1499.2,   4.4629,  35.0148,2,  35.0130,2,    244.9,2,    14.63,2,    18.98,2,     0.01,2,     1.27,2,    0.486,2,    0.248,2, -999.000, -999.000,9,-999.0000,9,  -999.00,9, -999.000,9,   4.3374
  06BE200011,  AR04,    93,  1,     17,     17,2,20001220,0535, 15.6410, -54.8418, 5602,   1621.8,   4.1999,  35.0051,2,-999.0000,9,    253.6,2,    14.34,2,    18.45,2,     0.01,2,     1.21,2,    0.486,2,    0.249,2, -999.000,    0.009,9,   1.8023,2,  -999.00,9, -999.000,9,   4.0660
  06BE200011,  AR04,    93,  1,     16,     16,2,20001220,0535, 15.6410, -54.8418, 5602,   1797.5,   3.8814,  34.9946,2,-999.0000,9,    259.3,2,    15.50,2,    17.99,2,     0.01,2,     1.23,2,    0.323,2,    0.166,2, -999.000, -999.000,9,   1.7869,2,  -999.00,9, -999.000,9,   3.7350
  06BE200011,  AR04,    93,  1,     15,     15,2,20001220,0535, 15.6410, -54.8418, 5602,   2003.4,   3.5742,  34.9860,2,-999.0000,9,   -999.0,9,  -999.00,9,  -999.00,9,  -999.00,9,  -999.00,9, -999.000,9, -999.000,9, -999.000,    0.008,9,   1.8248,2,  -999.00,9, -999.000,9,   3.4126
  06BE200011,  AR04,    93,  1,     14,     14,2,20001220,0535, 15.6410, -54.8418, 5602,   2188.1,   3.3440,  34.9740,2,-999.0000,9,    263.7,2,    19.39,2,    18.06,2,     0.01,2,     1.23,2,    0.160,2,    0.082,2, -999.000, -999.000,9,-999.0000,9,     2.35,2, -999.000,9,   3.1683
  06BE200011,  AR04,    93,  1,     13,     13,2,20001220,0535, 15.6410, -54.8418, 5602,   2396.6,   3.1302,  34.9614,2,-999.0000,9,    261.5,2,    21.73,2,    18.34,2,     0.01,2,     1.25,2,    0.123,2,    0.063,2, -999.000, -999.000,9,-999.0000,9,  -999.00,9, -999.000,9,   2.9379
  06BE200011,  AR04,    93,  1,     12,     12,2,20001220,0535, 15.6410, -54.8418, 5602,   2700.9,   2.9088,  34.9472,2,-999.0000,9,    264.1,2,    24.36,2,    18.48,2,     0.01,2,     1.26,2,    0.126,2,    0.064,2,    0.152,    0.005,2,   1.8208,2,     3.04,2, -999.000,9,   2.6906
  06BE200011,  AR04,    93,  1,     11,     11,2,20001220,0535, 15.6410, -54.8418, 5602,   2998.3,   2.7391,  34.9352,2,-999.0000,9,    263.7,2,  -999.00,9,  -999.00,9,  -999.00,9,  -999.00,9,    0.151,2,    0.078,2,    0.070,    0.004,2,   1.8133,2,     3.43,2, -999.000,9,   2.4941
  06BE200011,  AR04,    93,  1,     10,     10,2,20001220,0535, 15.6410, -54.8418, 5602,   3301.9,   2.5785,  34.9235,2,-999.0000,9,   -999.0,9,    26.58,2,    18.74,2,     0.01,2,     1.26,2, -999.000,9, -999.000,9,    0.186,    0.006,2,   1.8282,2,  -999.00,9, -999.000,9,   2.3054
  06BE200011,  AR04,    93,  1,      9,      9,2,20001220,0535, 15.6410, -54.8418, 5602,   3587.0,   2.4590,  34.9151,2,-999.0000,9,   -999.0,9,  -999.00,9,  -999.00,9,  -999.00,9,  -999.00,9, -999.000,9, -999.000,9, -999.000,    0.008,9,-999.0000,9,  -999.00,9, -999.000,9,   2.1580
  06BE200011,  AR04,    93,  1,      7,      7,2,20001220,0535, 15.6410, -54.8418, 5602,   4004.0,   2.3307,  34.9038,2,-999.0000,9,   -999.0,9,  -999.00,9,  -999.00,9,  -999.00,9,  -999.00,9, -999.000,9, -999.000,9, -999.000, -999.000,9,-999.0000,9,     3.66,2, -999.000,9,   1.9866
  06BE200011,  AR04,    93,  1,      6,      6,2,20001220,0535, 15.6410, -54.8418, 5602,   4247.0,   2.2873,  34.8983,2,-999.0000,9,    268.1,2,    32.34,2,    18.80,2,     0.01,2,     1.25,2,    0.197,2,    0.104,2, -999.000, -999.000,9,-999.0000,9,  -999.00,9, -999.000,9,   1.9164
  06BE200011,  AR04,    93,  1,      5,      5,2,20001220,0535, 15.6410, -54.8418, 5602,   4497.3,   2.2388,  34.8900,2,-999.0000,9,    264.6,2,    35.98,2,    19.71,2,     0.01,2,     1.31,2,    0.161,2,    0.088,2, -999.000, -999.000,9,-999.0000,9,  -999.00,9, -999.000,9,   1.8398
  06BE200011,  AR04,    93,  1,      4,      4,2,20001220,0535, 15.6410, -54.8418, 5602,   4746.6,   2.1748,  34.8789,2,  34.8746,2,    260.2,2,    41.27,2,    20.18,2,     0.01,2,     1.40,2,    0.121,2,    0.070,2, -999.000, -999.000,9,-999.0000,9,  -999.00,9, -999.000,9,   1.7478
  06BE200011,  AR04,    93,  1,      3,      3,2,20001220,0535, 15.6410, -54.8418, 5602,   4993.8,   2.0320,  34.8577,2,-999.0000,9,    254.6,2,    51.09,2,    21.84,2,     0.01,2,     1.53,2,    0.077,2,    0.046,2, -999.000, -999.000,9,-999.0000,9,  -999.00,9, -999.000,9,   1.5792
  06BE200011,  AR04,    93,  1,      2,      2,2,20001220,0535, 15.6410, -54.8418, 5602,   5298.0,   1.8905,  34.8361,2,  34.8345,2,    248.9,2,    60.10,2,    23.52,2,     0.02,2,     1.63,2,    0.063,2,    0.036,2, -999.000, -999.000,9,-999.0000,9,  -999.00,9, -999.000,9,   1.4044
  06BE200011,  AR04,    93,  1,      1,      1,2,20001220,0535, 15.6410, -54.8418, 5602,   5598.7,   1.8691,  34.8284,2,  34.8280,2,    247.1,2,    63.23,2,    24.18,2,     0.01,2,     1.67,2,    0.064,2,    0.036,2, -999.000, -999.000,9,-999.0000,9,  -999.00,9, -999.000,9,   1.3450
  06BE200011,  AR04,    95,  1,     22,     22,2,20001220,1501, 15.6782, -55.4082, 5601,      9.4,  26.2023,  34.9384,2,  34.9382,2,    206.6,2,     3.84,2,     0.15,2,     0.01,2,     0.01,2,    1.588,2,    0.967,2, -999.000, -999.000,9,-999.0000,9,  -999.00,9, -999.000,9,  26.2002
  06BE200011,  AR04,    95,  1,     21,     21,2,20001220,1501, 15.6782, -55.4082, 5601,    999.4,   5.4796,  34.8579,2,-999.0000,9,   -999.0,9,  -999.00,9,  -999.00,9,  -999.00,9,  -999.00,9, -999.000,9, -999.000,9, -999.000, -999.000,9,-999.0000,9,  -999.00,9, -999.000,9,   5.3921
  06BE200011,  AR04,    95,  1,     20,     20,2,20001220,1501, 15.6782, -55.4082, 5601,   1199.2,   5.2745,  34.9987,2,-999.0000,9,    203.9,2,    18.01,2,    22.95,2,     0.01,2,     1.45,2,    0.266,2,    0.141,2, -999.000, -999.000,9,-999.0000,9,  -999.00,9, -999.000,9,   5.1694
  06BE200011,  AR04,    95,  1,     19,     19,2,20001220,1501, 15.6782, -55.4082, 5601,   1398.7,   4.7328,  35.0271,2,-999.0000,9,    237.5,2,    14.89,2,    19.64,2,     0.01,2,     1.24,2,    0.565,2,    0.289,2, -999.000, -999.000,9,-999.0000,9,     4.80,2, -999.000,9,   4.6139
  06BE200011,  AR04,    95,  1,     18,     18,2,20001220,1501, 15.6782, -55.4082, 5601,   1547.6,   4.3406,  35.0136,2,-999.0000,9,    252.3,2,    13.44,2,    18.13,2,     0.01,2,     1.20,2,    0.630,2,    0.320,2, -999.000, -999.000,9,-999.0000,9,  -999.00,9, -999.000,9,   4.2120
  06BE200011,  AR04,    95,  1,     17,     17,2,20001220,1501, 15.6782, -55.4082, 5601,   1695.8,   3.9721,  34.9952,2,-999.0000,9,    260.6,2,    13.80,2,    17.84,2,     0.01,2,     1.19,2,    0.598,2,    0.307,2, -999.000, -999.000,9,   1.8223,2,     3.92,2, -999.000,9,   3.8340
  06BE200011,  AR04,    95,  1,     16,     16,2,20001220,1501, 15.6782, -55.4082, 5601,   1899.6,   3.7234,  34.9898,2,-999.0000,9,    259.3,2,    16.48,2,    18.39,2,     0.01,2,     1.22,2,    0.236,2,    0.123,2, -999.000, -999.000,9,-999.0000,9,     1.94,2, -999.000,9,   3.5695
  06BE200011,  AR04,    95,  1,     15,     15,2,20001220,1501, 15.6782, -55.4082, 5601,   2099.9,   3.4512,  34.9791,2,  34.9752,2,    261.1,2,    18.37,2,    18.51,2,     0.01,2,     1.22,2,    0.172,2,    0.089,2, -999.000, -999.000,9,-999.0000,9,     2.69,2, -999.000,9,   3.2823
  06BE200011,  AR04,    95,  1,     14,     14,2,20001220,1501, 15.6782, -55.4082, 5601,   2298.9,   3.2685,  34.9691,2,-999.0000,9,    261.9,2,    20.08,2,    18.33,2,     0.01,2,     1.23,2,    0.150,2,    0.077,2, -999.000, -999.000,9,   1.8166,2,  -999.00,9,    7.739,2,   3.0833
  06BE200011,  AR04,    95,  1,     13,     13,2,20001220,1501, 15.6782, -55.4082, 5601,   2497.7,   3.0892,  34.9582,2,-999.0000,9,    264.1,2,    21.13,2,    18.31,2,     0.01,2,     1.22,2,    0.194,2,    0.099,2, -999.000, -999.000,9,   1.8341,2,  -999.00,9, -999.000,9,   2.8877
  06BE200011,  AR04,    95,  1,     12,     12,2,20001220,1501, 15.6782, -55.4082, 5601,   2799.3,   2.8741,  34.9444,2,-999.0000,9,    264.1,2,    23.89,2,    18.44,2,     0.01,2,     1.25,2,    0.182,2,    0.092,2, -999.000,    0.037,9,   1.8359,2,     3.36,2,    7.874,2,   2.6466
  06BE200011,  AR04,    95,  1,     11,     11,2,20001220,1501, 15.6782, -55.4082, 5601,   3096.9,   2.7144,  34.9329,2,-999.0000,9,    263.7,2,    26.61,2,    18.91,2,     0.01,2,     1.26,2,    0.176,2,    0.090,2, -999.000,    0.003,9,   1.8157,2,     3.16,2,    7.930,2,   2.4597
  06BE200011,  AR04,    95,  1,     10,     10,2,20001220,1501, 15.6782, -55.4082, 5601,   3398.2,   2.5669,  34.9224,2,-999.0000,9,   -999.0,9,  -999.00,9,  -999.00,9,  -999.00,9,  -999.00,9, -999.000,9, -999.000,9, -999.000,    0.006,9,   1.8248,2,     3.76,2, -999.000,9,   2.2837
  06BE200011,  AR04,    95,  1,      9,      9,2,20001220,1501, 15.6782, -55.4082, 5601,   3599.9,   2.4545,  34.9143,2,-999.0000,9,   -999.0,9,  -999.00,9,  -999.00,9,  -999.00,9,  -999.00,9, -999.000,9, -999.000,9, -999.000, -999.000,9,   1.8167,2,  -999.00,9, -999.000,9,   2.1523
  06BE200011,  AR04,    95,  1,      8,      8,2,20001220,1501, 15.6782, -55.4082, 5601,   3796.1,   2.3783,  34.9082,2,-999.0000,9,    267.2,2,    27.75,2,    18.62,2,     0.02,2,     1.25,2,    0.217,2,    0.111,2, -999.000, -999.000,9,-999.0000,9,  -999.00,9,    7.963,2,   2.0564
  06BE200011,  AR04,    95,  1,      7,      7,2,20001220,1501, 15.6782, -55.4082, 5601,   3996.4,   2.3232,  34.9032,2,  34.9007,2,    268.1,2,    30.60,2,    18.78,2,     0.01,2,     1.26,2,    0.202,2,    0.105,2, -999.000, -999.000,9,-999.0000,9,  -999.00,9, -999.000,9,   1.9802
  06BE200011,  AR04,    95,  1,      6,      6,2,20001220,1501, 15.6782, -55.4082, 5601,   4187.1,   2.2900,  34.8991,2,-999.0000,9,    267.6,2,    32.06,2,    18.81,2,     0.03,2,     1.28,2,    0.189,2,    0.101,2, -999.000, -999.000,9,-999.0000,9,  -999.00,9, -999.000,9,   1.9260
  06BE200011,  AR04,    95,  1,      5,      5,2,20001220,1501, 15.6782, -55.4082, 5601,   4500.7,   2.2229,  34.8876,2,-999.0000,9,    263.7,2,    37.57,2,    19.88,2,     0.01,2,     1.36,2,    0.135,2,    0.074,2, -999.000, -999.000,9,-999.0000,9,  -999.00,9, -999.000,9,   1.8240
  06BE200011,  AR04,    95,  1,      4,      4,2,20001220,1501, 15.6782, -55.4082, 5601,   4796.1,   2.1185,  34.8708,2,  34.8673,2,    258.0,2,    45.48,2,    21.34,2,     0.01,2,     1.44,2,    0.089,2,    0.052,2, -999.000, -999.000,9,-999.0000,9,  -999.00,9, -999.000,9,   1.6873
  06BE200011,  AR04,    95,  1,      3,      3,2,20001220,1501, 15.6782, -55.4082, 5601,   4995.9,   2.0114,  34.8550,2,  34.8518,2,    253.7,2,    52.28,2,    22.06,2,     0.01,2,     1.52,2,    0.068,2,    0.041,2, -999.000, -999.000,9,-999.0000,9,  -999.00,9, -999.000,9,   1.5591
  06BE200011,  AR04,    95,  1,      2,      2,2,20001220,1501, 15.6782, -55.4082, 5601,   5250.7,   1.9004,  34.8380,2,  34.9883,2,    258.1,2,  -999.00,9,    18.63,2,     0.01,2,     1.24,2,    0.168,4,    0.088,4, -999.000, -999.000,9,-999.0000,9,  -999.00,9, -999.000,9,   1.4188
  06BE200011,  AR04,    95,  1,      1,      1,2,20001220,1501, 15.6782, -55.4082, 5601,   5598.2,   1.9090,  34.8335,2,-999.0000,9,    248.4,2,    61.19,2,    23.85,2,     0.01,2,     1.61,2,    0.062,2,    0.035,2, -999.000, -999.000,9,-999.0000,9,  -999.00,9, -999.000,9,   1.3835