BOTTLE,20111027CCHDOSIOCBG
EXPOCODE,SECT_ID,STNNBR,CASTNO,SAMPNO,BTLNBR,BTLNBR_FLAG_W,DATE,TIME,LATITUDE,LONGITUDE,DEPTH,CTDPRS,CTDTMP,CTDSAL,CTDSAL_FLAG_W,SALNTY,SALNTY_FLAG_W,OXYGEN,OXYGEN_FLAG_W,SILCAT,SILCAT_FLAG_W,NITRAT,NITRAT_FLAG_W,NITRIT,NITRIT_FLAG_W,PHSPHT,PHSPHT_FLAG_W,CFC-11,CFC-11_FLAG_W,CFC-12,CFC-12_FLAG_W,TRITUM,TRITER,TRITUM_FLAG_W,HELIUM,HELIUM_FLAG_W,DELHE3,DELHE3_FLAG_W,NEON,NEON_FLAG_W,THETA
,,,,,,,,,,,METERS,DBAR,ITS-90,PSS-78,,PSS-78,,UMOL/KG,,UMOL/KG,,UMOL/KG,,UMOL/KG,,UMOL/KG,,PMOL/KG,,PMOL/KG,,TU,TU,,NMOL/KG,,PERCNT,,NMOL/KG,,DEG C
  06BE200011,  AR04,    48,  1,     22,     22,2,20001210,1152,  7.3768, -35.7322, 4954,     11.3,  26.5507,  35.5383,2,-999.0000,9,   -999.0,9,     2.14,2,     0.06,2,     0.01,2,     0.01,2,    1.565,2,    0.942,2, -999.000, -999.000,9,-999.0000,9,  -999.00,9, -999.000,9,  26.5481
  06BE200011,  AR04,    48,  1,     21,     21,2,20001210,1152,  7.3768, -35.7322, 4954,   1001.1,   4.9025,  34.7296,2,  34.7450,2,   -999.0,9,    26.53,2,    31.18,2,     0.00,9,     1.99,2,    0.017,2,    0.009,2, -999.000, -999.000,9,-999.0000,9,     1.72,2, -999.000,9,   4.8194
  06BE200011,  AR04,    48,  1,     20,     20,2,20001210,1152,  7.3768, -35.7322, 4954,   1298.1,   4.5977,  34.9413,2,-999.0000,9,   -999.0,9,    19.67,2,    24.06,2,     0.00,9,     1.51,2,    0.085,2,    0.043,2, -999.000,    0.003,9,-999.0000,9,  -999.00,9, -999.000,9,   4.4898
  06BE200011,  AR04,    48,  1,     19,     19,2,20001210,1152,  7.3768, -35.7322, 4954,   1497.5,   4.3193,  34.9714,2,-999.0000,9,   -999.0,9,    17.96,2,    21.42,2,     0.00,9,     1.35,2,    0.129,2,    0.070,2, -999.000, -999.000,9,-999.0000,9,  -999.00,9, -999.000,9,   4.1957
  06BE200011,  AR04,    48,  1,     18,     18,2,20001210,1152,  7.3768, -35.7322, 4954,   1697.4,   4.0609,  34.9868,2,  34.9843,2,   -999.0,9,    16.87,2,    19.91,2,     0.00,9,     1.23,2,    0.123,2,    0.066,2, -999.000, -999.000,9,-999.0000,9,     3.27,2, -999.000,9,   3.9216
  06BE200011,  AR04,    48,  1,     17,     17,2,20001210,1152,  7.3768, -35.7322, 4954,   1897.3,   3.6817,  34.9755,2,-999.0000,9,   -999.0,9,    19.21,2,    19.61,2,     0.00,9,     1.24,2,    0.060,2,    0.033,2, -999.000,    0.005,9,   1.7590,2,     3.54,2, -999.000,9,   3.5286
  06BE200011,  AR04,    48,  1,     16,     16,2,20001210,1152,  7.3768, -35.7322, 4954,   2100.0,   3.5429,  34.9716,2,-999.0000,9,   -999.0,9,    19.96,2,    19.32,2,     0.00,9,     1.22,2,    0.053,2,    0.028,2, -999.000,    0.013,9,   1.8070,2,     3.56,2, -999.000,9,   3.3725
  06BE200011,  AR04,    48,  1,     15,     15,2,20001210,1152,  7.3768, -35.7322, 4954,   2400.9,   3.1220,  34.9520,2,-999.0000,9,   -999.0,9,    25.23,2,    19.64,2,     0.00,9,     1.26,2,    0.025,2,    0.014,2, -999.000,    0.003,9,   1.7724,2,     3.14,2, -999.000,9,   2.9295
  06BE200011,  AR04,    48,  1,     14,     14,2,20001210,1152,  7.3768, -35.7322, 4954,   2698.0,   2.9119,  34.9395,2,-999.0000,9,   -999.0,9,    28.41,2,    19.93,2,     0.00,9,     1.28,2,    0.024,2,    0.014,2,    0.030,    0.002,2,-999.0000,9,  -999.00,9, -999.000,9,   2.6939
  06BE200011,  AR04,    48,  1,     13,     13,2,20001210,1152,  7.3768, -35.7322, 4954,   2997.7,   2.7535,  34.9290,2,-999.0000,9,   -999.0,9,    32.25,2,    20.28,2,     0.00,9,     1.28,2,    0.031,2,    0.018,2,    0.031,    0.004,2,   1.8036,2,     2.31,2, -999.000,9,   2.5083
  06BE200011,  AR04,    48,  1,     12,     12,2,20001210,1152,  7.3768, -35.7322, 4954,   3402.8,   2.5245,  34.9116,2,-999.0000,9,   -999.0,9,    36.76,2,    20.60,2,     0.00,9,     1.31,2,    0.041,2,    0.022,2,    0.038,    0.003,2,-999.0000,9,     3.30,2, -999.000,9,   2.2419
  06BE200011,  AR04,    48,  1,     11,     11,2,20001210,1152,  7.3768, -35.7322, 4954,   3596.6,   2.3911,  34.9001,2,-999.0000,9,   -999.0,9,  -999.00,9,  -999.00,9,  -999.00,9,  -999.00,9, -999.000,9, -999.000,9, -999.000, -999.000,9,-999.0000,9,  -999.00,9, -999.000,9,   2.0909
  06BE200011,  AR04,    48,  1,     10,     10,2,20001210,1152,  7.3768, -35.7322, 4954,   3599.1,   2.3908,  34.9001,2,  34.8982,2,   -999.0,9,    38.29,2,    20.64,2,     0.00,9,     1.31,2,    0.053,2,    0.029,2,    0.036,    0.002,2,   1.8206,2,     4.90,2, -999.000,9,   2.0904
  06BE200011,  AR04,    48,  1,      8,      8,2,20001210,1152,  7.3768, -35.7322, 4954,   3800.7,   2.3077,  34.8914,2,  34.8893,2,   -999.0,9,    40.00,2,    20.53,2,     0.01,2,     1.34,2,    0.056,2,    0.032,2,    0.048,    0.002,2,-999.0000,9,  -999.00,9, -999.000,9,   1.9872
  06BE200011,  AR04,    48,  1,      9,      9,2,20001210,1152,  7.3768, -35.7322, 4954,   3801.7,   2.3065,  34.8913,2,-999.0000,9,   -999.0,9,  -999.00,9,  -999.00,9,  -999.00,9,  -999.00,9, -999.000,9, -999.000,9, -999.000, -999.000,9,-999.0000,9,  -999.00,9, -999.000,9,   1.9860
  06BE200011,  AR04,    48,  1,      7,      7,2,20001210,1152,  7.3768, -35.7322, 4954,   4195.1,   2.1931,  34.8772,2,-999.0000,9,   -999.0,9,  -999.00,9,  -999.00,9,  -999.00,9,  -999.00,9, -999.000,9, -999.000,9, -999.000, -999.000,9,-999.0000,9,  -999.00,9, -999.000,9,   1.8311
  06BE200011,  AR04,    48,  1,      6,      6,2,20001210,1152,  7.3768, -35.7322, 4954,   4197.8,   2.1924,  34.8771,2,  34.8767,2,   -999.0,9,    44.47,2,    21.19,2,     0.00,9,     1.36,2,    0.064,2,    0.034,2,    0.058,    0.001,2,-999.0000,9,     4.43,2, -999.000,9,   1.8302
  06BE200011,  AR04,    48,  1,      4,      4,2,20001210,1152,  7.3768, -35.7322, 4954,   4599.1,   2.1823,  34.8716,2,  34.8712,2,   -999.0,9,    46.28,2,    21.41,2,     0.01,2,     1.42,2,    0.065,2,    0.035,2, -999.000,    0.004,9,   1.8155,2,  -999.00,9, -999.000,9,   1.7730
  06BE200011,  AR04,    48,  1,      5,      5,2,20001210,1152,  7.3768, -35.7322, 4954,   4599.4,   2.1825,  34.8717,2,-999.0000,9,   -999.0,9,  -999.00,9,  -999.00,9,  -999.00,9,  -999.00,9, -999.000,9, -999.000,9, -999.000, -999.000,9,-999.0000,9,  -999.00,9, -999.000,9,   1.7731
  06BE200011,  AR04,    48,  1,      3,      3,2,20001210,1152,  7.3768, -35.7322, 4954,   4795.7,   2.2047,  34.8715,2,-999.0000,9,   -999.0,9,    46.29,2,    21.83,2,     0.00,9,     1.43,2, -999.000,9, -999.000,9, -999.000, -999.000,9,-999.0000,9,  -999.00,9, -999.000,9,   1.7707
  06BE200011,  AR04,    48,  1,      1,      1,2,20001210,1152,  7.3768, -35.7322, 4954,   4951.7,   2.2242,  34.8711,2,-999.0000,9,   -999.0,9,  -999.00,9,  -999.00,9,  -999.00,9,  -999.00,9, -999.000,9, -999.000,9, -999.000, -999.000,9,-999.0000,9,  -999.00,9, -999.000,9,   1.7702
  06BE200011,  AR04,    48,  1,      2,      2,2,20001210,1152,  7.3768, -35.7322, 4954,   4951.9,   2.2242,  34.8711,2,  34.8716,2,   -999.0,9,    46.39,2,    21.60,2,     0.04,2,     1.42,2,    0.065,2,    0.036,2, -999.000,    0.008,9,-999.0000,9,     2.84,2, -999.000,9,   1.7701
  06BE200011,  AR04,    49,  1,     22,     22,2,20001210,1802,  7.5922, -36.4053, 2770,      7.2,  26.6894,  35.5027,2,  35.5016,2,    203.9,2,     2.42,2,     0.06,2,     0.00,9,     0.06,2,    1.561,2,    0.944,2, -999.000, -999.000,9,-999.0000,9,  -999.00,9, -999.000,9,  26.6878
  06BE200011,  AR04,    49,  1,     21,     21,2,20001210,1802,  7.5922, -36.4053, 2770,    999.5,   4.8282,  34.7349,2,  34.7311,2,    154.1,2,    27.08,2,    31.21,2,     0.01,2,     2.07,2,    0.014,2,    0.006,2,    0.020, -999.000,2,-999.0000,9,  -999.00,9,    7.800,2,   4.7459
  06BE200011,  AR04,    49,  1,     20,     20,2,20001210,1802,  7.5922, -36.4053, 2770,   1196.3,   4.7869,  34.8681,2,  34.8670,2,    179.4,2,    23.23,2,    27.16,2,     0.00,9,     1.82,2,    0.060,2,    0.035,2, -999.000, -999.000,9,   1.7933,2,  -999.00,9, -999.000,9,   4.6868
  06BE200011,  AR04,    49,  1,     19,     19,2,20001210,1802,  7.5922, -36.4053, 2770,   1397.8,   4.5599,  34.9561,2,-999.0000,9,    214.3,2,    19.05,2,    22.84,2,     0.00,9,     1.55,2,    0.137,2,    0.081,2,    0.107, -999.000,2,   1.8092,2,  -999.00,9, -999.000,9,   4.4431
  06BE200011,  AR04,    49,  1,     18,     18,2,20001210,1802,  7.5922, -36.4053, 2770,   1487.6,   4.4271,  34.9747,2,-999.0000,9,    225.7,2,    17.85,2,    21.75,2,     0.00,9,     1.47,2,    0.120,2,    0.061,2,    0.137, -999.000,2,   1.8253,2,  -999.00,9,    7.847,2,   4.3032
  06BE200011,  AR04,    49,  1,     17,     17,2,20001210,1802,  7.5922, -36.4053, 2770,   1597.3,   4.2547,  34.9871,2,-999.0000,9,    237.9,2,    17.08,2,    20.35,2,     0.01,2,     1.39,2,    0.144,2,    0.074,2,    0.077, -999.000,2,-999.0000,9,     3.63,2,    7.907,2,   4.1225
  06BE200011,  AR04,    49,  1,     16,     16,2,20001210,1802,  7.5922, -36.4053, 2770,   1703.0,   4.0231,  34.9876,2,  34.9807,2,    245.8,2,    16.97,2,    19.61,2,     0.01,2,     1.33,2,    0.142,2,    0.075,2,    0.058, -999.000,2,   1.8154,2,     3.12,2,    7.860,2,   3.8838
  06BE200011,  AR04,    49,  1,     15,     15,2,20001210,1802,  7.5922, -36.4053, 2770,   1796.7,   3.8450,  34.9833,2,-999.0000,9,    249.3,2,    18.13,2,    19.38,2,     0.01,2,     1.27,2,    0.099,2,    0.054,2,    0.029, -999.000,2,   1.8117,2,     3.26,2,    7.912,2,   3.6992
  06BE200011,  AR04,    49,  1,     14,     14,2,20001210,1802,  7.5922, -36.4053, 2770,   1900.2,   3.6827,  34.9779,2,  34.9763,2,    250.6,2,    18.78,2,    19.27,2,     0.01,2,     1.24,2,    0.068,2,    0.036,2,    0.038,    0.002,2,   1.8010,2,  -999.00,9, -999.000,9,   3.5293
  06BE200011,  AR04,    49,  1,     13,     13,2,20001210,1802,  7.5922, -36.4053, 2770,   2002.0,   3.5653,  34.9731,2,-999.0000,9,    252.3,2,    19.84,2,    19.31,2,     0.00,9,     1.25,2,    0.042,2,    0.022,2, -999.000,    0.002,9,   1.8103,2,     4.05,2,    7.862,2,   3.4040
  06BE200011,  AR04,    49,  1,     12,     12,2,20001210,1802,  7.5922, -36.4053, 2770,   2103.4,   3.4669,  34.9687,2,  34.9701,2,    251.9,2,    21.95,2,    19.40,2,     0.01,2,     1.26,2,    0.038,2,    0.022,2,    0.054,    0.002,2,   1.8118,2,  -999.00,9,    7.923,2,   3.2974
  06BE200011,  AR04,    49,  1,     11,     11,2,20001210,1802,  7.5922, -36.4053, 2770,   2195.1,   3.3863,  34.9641,2,-999.0000,9,   -999.0,9,  -999.00,9,  -999.00,9,  -999.00,9,  -999.00,9, -999.000,9, -999.000,9, -999.000, -999.000,9,-999.0000,9,  -999.00,9, -999.000,9,   3.2093
  06BE200011,  AR04,    49,  1,     10,     10,2,20001210,1802,  7.5922, -36.4053, 2770,   2198.1,   3.3820,  34.9639,2,-999.0000,9,    253.2,2,    20.94,2,    19.50,2,     0.00,9,     1.24,2,    0.032,2,    0.018,2,    0.066,    0.002,2,-999.0000,9,     6.01,2,    7.972,2,   3.2048
  06BE200011,  AR04,    49,  1,      9,      9,2,20001210,1802,  7.5922, -36.4053, 2770,   2400.3,   3.0918,  34.9498,2,  34.9508,2,   -999.0,9,  -999.00,9,  -999.00,9,  -999.00,9,  -999.00,9, -999.000,9, -999.000,9, -999.000, -999.000,9,-999.0000,9,  -999.00,9, -999.000,9,   2.8999
  06BE200011,  AR04,    49,  1,      8,      8,2,20001210,1802,  7.5922, -36.4053, 2770,   2401.1,   3.0914,  34.9498,2,-999.0000,9,    254.1,2,    25.22,2,    19.65,2,     0.00,9,     1.23,2,    0.025,2,    0.013,2,    0.076,    0.003,2,   1.8136,2,  -999.00,9, -999.000,9,   2.8994
  06BE200011,  AR04,    49,  1,      7,      7,2,20001210,1802,  7.5922, -36.4053, 2770,   2494.2,   3.0340,  34.9457,2,-999.0000,9,   -999.0,9,  -999.00,9,  -999.00,9,  -999.00,9,  -999.00,9, -999.000,9, -999.000,9, -999.000, -999.000,9,-999.0000,9,  -999.00,9, -999.000,9,   2.8340
  06BE200011,  AR04,    49,  1,      6,      6,2,20001210,1802,  7.5922, -36.4053, 2770,   2497.1,   3.0335,  34.9456,2,  34.9481,2,    255.0,2,    25.16,2,    19.55,2,     0.03,2,     1.26,2,    0.024,2,    0.013,2, -999.000,    0.003,9,   1.8284,2,  -999.00,9,    7.978,2,   2.8332
  06BE200011,  AR04,    49,  1,      5,      5,2,20001210,1802,  7.5922, -36.4053, 2770,   2638.7,   2.8671,  34.9365,2,-999.0000,9,   -999.0,9,  -999.00,9,  -999.00,9,  -999.00,9,  -999.00,9, -999.000,9, -999.000,9, -999.000, -999.000,9,-999.0000,9,  -999.00,9, -999.000,9,   2.6559
  06BE200011,  AR04,    49,  1,      4,      4,2,20001210,1802,  7.5922, -36.4053, 2770,   2638.9,   2.8652,  34.9362,2,-999.0000,9,    256.7,2,    28.30,2,    19.42,2,     0.00,9,     1.27,2,    0.027,2,    0.014,2,    0.079, -999.000,2,   1.8181,2,     5.61,2, -999.000,9,   2.6541
  06BE200011,  AR04,    49,  1,      3,      3,2,20001210,1802,  7.5922, -36.4053, 2770,   2654.0,   2.8413,  34.9348,2,  34.9327,2,   -999.0,9,    29.18,2,    19.35,2,     0.01,2,     1.26,2, -999.000,9, -999.000,9, -999.000, -999.000,9,-999.0000,9,  -999.00,9, -999.000,9,   2.6291
  06BE200011,  AR04,    49,  1,      2,      2,2,20001210,1802,  7.5922, -36.4053, 2770,   2765.0,   2.8153,  34.9328,2,-999.0000,9,    257.6,2,    28.64,2,    19.28,2,     0.01,2,     1.28,2,    0.029,2,    0.016,2,    0.069, -999.000,2,-999.0000,9,  -999.00,9,    7.872,2,   2.5925
  06BE200011,  AR04,    49,  1,      1,      1,2,20001210,1802,  7.5922, -36.4053, 2770,   2767.6,   2.8118,  34.9327,2,-999.0000,9,   -999.0,9,  -999.00,9,  -999.00,9,  -999.00,9,  -999.00,9, -999.000,9, -999.000,9, -999.000, -999.000,9,-999.0000,9,  -999.00,9, -999.000,9,   2.5889
  06BE200011,  AR04,    50,  1,     22,     22,2,20001210,2314,  7.6488, -37.1285, 3733,     11.6,  26.6733,  35.4834,2,  35.4803,2,    207.9,2,     2.47,2,     0.07,2,     0.00,9,     0.02,2,    1.550,2,    0.939,2, -999.000, -999.000,9,-999.0000,9,  -999.00,9, -999.000,9,  26.6707
  06BE200011,  AR04,    50,  1,     21,     21,2,20001210,2314,  7.6488, -37.1285, 3733,    997.2,   4.9481,  34.7510,2,  34.7501,2,    153.7,2,    26.43,2,    31.03,2,     0.01,2,     1.99,2,    0.017,2,    0.010,2, -999.000,    0.003,9,-999.0000,9,  -999.00,9, -999.000,9,   4.8650
  06BE200011,  AR04,    50,  1,     20,     20,2,20001210,2314,  7.6488, -37.1285, 3733,   1197.7,   4.7714,  34.8921,2,  34.8805,2,    187.7,2,    22.14,2,    25.95,2,     0.00,9,     1.72,2,    0.061,2,    0.033,2,    0.042, -999.000,2,-999.0000,9,     1.57,2, -999.000,9,   4.6712
  06BE200011,  AR04,    50,  1,     19,     19,2,20001210,2314,  7.6488, -37.1285, 3733,   1447.2,   4.4895,  34.9907,2,  34.9852,2,    230.5,2,    17.02,2,    20.27,2,     0.00,9,     1.31,2,    0.210,2,    0.109,2,    0.111,    0.004,2,   1.8037,2,     1.80,2, -999.000,9,   4.3687
  06BE200011,  AR04,    50,  1,     18,     18,2,20001210,2314,  7.6488, -37.1285, 3733,   1596.5,   4.2183,  34.9939,2,-999.0000,9,    247.5,2,    16.37,2,    19.79,2,     0.00,9,     1.26,2,    0.204,2,    0.107,2,    0.124,    0.005,2,   1.8041,2,     3.05,2, -999.000,9,   4.0865
  06BE200011,  AR04,    50,  1,     17,     17,2,20001210,2314,  7.6488, -37.1285, 3733,   1697.4,   4.0200,  34.9907,2,-999.0000,9,   -999.0,9,    17.54,2,    19.76,2,     0.01,2,     1.26,2, -999.000,9, -999.000,9, -999.000,    0.003,9,   1.8085,2,  -999.00,9,    7.743,2,   3.8812
  06BE200011,  AR04,    50,  1,     16,     16,2,20001210,2314,  7.6488, -37.1285, 3733,   1848.0,   3.7448,  34.9819,2,-999.0000,9,   -999.0,9,    20.08,2,    19.30,2,     0.00,9,     1.23,2, -999.000,9, -999.000,9,    0.137,    0.003,2,   1.8007,2,     2.23,2,    7.885,2,   3.5955
  06BE200011,  AR04,    50,  1,     15,     15,2,20001210,2314,  7.6488, -37.1285, 3733,   1997.2,   3.5269,  34.9728,2,  34.9707,2,    254.1,2,    22.18,2,    19.16,2,     0.00,9,     1.25,2,    0.063,2,    0.034,2,    0.102,    0.002,2,   1.8258,2,     2.27,2,    7.836,2,   3.3666
  06BE200011,  AR04,    50,  1,     14,     14,2,20001210,2314,  7.6488, -37.1285, 3733,   2196.9,   3.3424,  34.9638,2,-999.0000,9,    255.4,2,    24.91,2,    19.34,2,     0.01,2,     1.26,2,    0.042,2,    0.023,2,    0.072,    0.004,2,   1.8178,2,     3.47,2, -999.000,9,   3.1659
  06BE200011,  AR04,    50,  1,     13,     13,2,20001210,2314,  7.6488, -37.1285, 3733,   2399.7,   3.1255,  34.9521,2,  34.9491,2,    255.4,2,    26.80,2,    19.51,2,     0.00,9,     1.26,2,    0.027,2,    0.015,2,    0.066, -999.000,2,   1.8151,2,     4.07,2,    7.844,2,   2.9331
  06BE200011,  AR04,    50,  1,     12,     12,2,20001210,2314,  7.6488, -37.1285, 3733,   2601.1,   2.9717,  34.9434,2,-999.0000,9,    256.7,2,    29.04,2,    19.50,2,     0.00,9,     1.27,2,    0.030,2,    0.016,2,    0.055,    0.003,2,   1.8065,2,     3.82,2, -999.000,9,   2.7622
  06BE200011,  AR04,    50,  1,     11,     11,2,20001210,2314,  7.6488, -37.1285, 3733,   2796.6,   2.8042,  34.9334,2,-999.0000,9,   -999.0,9,  -999.00,9,  -999.00,9,  -999.00,9,  -999.00,9, -999.000,9, -999.000,9, -999.000, -999.000,9,-999.0000,9,  -999.00,9, -999.000,9,   2.5785
  06BE200011,  AR04,    50,  1,     10,     10,2,20001210,2314,  7.6488, -37.1285, 3733,   2798.7,   2.8038,  34.9332,2,  34.9312,2,    257.1,2,    31.47,2,    19.43,2,     0.00,9,     1.27,2,    0.033,2,    0.018,2,    0.042,    0.003,2,   1.7959,2,  -999.00,9,    7.922,2,   2.5779
  06BE200011,  AR04,    50,  1,      9,      9,2,20001210,2314,  7.6488, -37.1285, 3733,   3101.8,   2.6581,  34.9226,2,-999.0000,9,   -999.0,9,  -999.00,9,  -999.00,9,  -999.00,9,  -999.00,9, -999.000,9, -999.000,9, -999.000, -999.000,9,-999.0000,9,  -999.00,9, -999.000,9,   2.4042
  06BE200011,  AR04,    50,  1,      8,      8,2,20001210,2314,  7.6488, -37.1285, 3733,   3102.1,   2.6582,  34.9227,2,  34.9194,2,    258.0,2,    31.79,2,    19.66,2,     0.00,9,     1.28,2,    0.040,2,    0.022,2,    0.030,    0.037,2,-999.0000,9,     4.77,2, -999.000,9,   2.4043
  06BE200011,  AR04,    50,  1,      7,      7,2,20001210,2314,  7.6488, -37.1285, 3733,   3196.2,   2.6451,  34.9213,2,-999.0000,9,   -999.0,9,  -999.00,9,  -999.00,9,  -999.00,9,  -999.00,9, -999.000,9, -999.000,9, -999.000, -999.000,9,-999.0000,9,  -999.00,9, -999.000,9,   2.3816
  06BE200011,  AR04,    50,  1,      6,      6,2,20001210,2314,  7.6488, -37.1285, 3733,   3198.5,   2.6440,  34.9212,2,-999.0000,9,    258.0,2,    32.51,2,    19.97,2,     0.00,9,     1.30,2,    0.041,2,    0.022,2,    0.034, -999.000,2,   1.8325,2,     6.19,2, -999.000,9,   2.3803
  06BE200011,  AR04,    50,  1,      5,      5,2,20001210,2314,  7.6488, -37.1285, 3733,   3298.1,   2.6189,  34.9187,2,-999.0000,9,   -999.0,9,  -999.00,9,  -999.00,9,  -999.00,9,  -999.00,9, -999.000,9, -999.000,9, -999.000, -999.000,9,   1.8325,2,  -999.00,9, -999.000,9,   2.3452
  06BE200011,  AR04,    50,  1,      4,      4,2,20001210,2314,  7.6488, -37.1285, 3733,   3400.9,   2.5439,  34.9129,2,  34.9087,2,    258.0,2,    33.91,2,    19.84,2,     0.00,9,     1.30,2,    0.051,2,    0.027,2,    0.039,    0.004,2,   1.8455,2,     7.23,2,    7.959,2,   2.2611
  06BE200011,  AR04,    50,  1,      3,      3,2,20001210,2314,  7.6488, -37.1285, 3733,   3647.9,   2.3047,  34.8923,2,-999.0000,9,   -999.0,9,    39.50,2,    20.29,2,     0.00,9,     1.34,2, -999.000,9, -999.000,9, -999.000, -999.000,9,   1.8455,2,  -999.00,9, -999.000,9,   2.0012
  06BE200011,  AR04,    50,  1,      2,      2,2,20001210,2314,  7.6488, -37.1285, 3733,   3730.5,   2.3332,  34.8940,2,-999.0000,9,    258.5,2,    38.80,2,    20.29,2,     0.00,9,     1.34,2,    0.063,2,    0.033,2, -999.000,    0.003,9,   1.8254,2,  -999.00,9, -999.000,9,   2.0198
  06BE200011,  AR04,    50,  1,      1,      1,2,20001210,2314,  7.6488, -37.1285, 3733,   3731.5,   2.3322,  34.8939,2,-999.0000,9,   -999.0,9,  -999.00,9,  -999.00,9,  -999.00,9,  -999.00,9, -999.000,9, -999.000,9, -999.000, -999.000,9,-999.0000,9,  -999.00,9, -999.000,9,   2.0187