BOTTLE,20111027CCHDOSIOCBG
EXPOCODE,SECT_ID,STNNBR,CASTNO,SAMPNO,BTLNBR,BTLNBR_FLAG_W,DATE,TIME,LATITUDE,LONGITUDE,DEPTH,CTDPRS,CTDTMP,CTDSAL,CTDSAL_FLAG_W,SALNTY,SALNTY_FLAG_W,OXYGEN,OXYGEN_FLAG_W,SILCAT,SILCAT_FLAG_W,NITRAT,NITRAT_FLAG_W,NITRIT,NITRIT_FLAG_W,PHSPHT,PHSPHT_FLAG_W,CFC-11,CFC-11_FLAG_W,CFC-12,CFC-12_FLAG_W,TRITUM,TRITER,TRITUM_FLAG_W,HELIUM,HELIUM_FLAG_W,DELHE3,DELHE3_FLAG_W,NEON,NEON_FLAG_W,THETA
,,,,,,,,,,,METERS,DBAR,ITS-90,PSS-78,,PSS-78,,UMOL/KG,,UMOL/KG,,UMOL/KG,,UMOL/KG,,UMOL/KG,,PMOL/KG,,PMOL/KG,,TU,TU,,NMOL/KG,,PERCNT,,NMOL/KG,,DEG C
  06BE200011,  AR04,    22,  1,     22,     22,2,20001203,2038,  1.0000, -34.9998, 3618,      9.6,  26.8847,  36.0489,2,-999.0000,9,    201.7,2,     1.30,2,     0.17,2,     0.00,9,     0.08,2,    1.591,2,    0.942,2, -999.000, -999.000,9,-999.0000,9,  -999.00,9, -999.000,9,  26.8825
  06BE200011,  AR04,    22,  1,     20,     20,2,20001203,2038,  1.0000, -34.9998, 3618,      9.8,  26.8837,  36.0489,2,-999.0000,9,   -999.0,9,  -999.00,9,  -999.00,9,  -999.00,9,  -999.00,9, -999.000,9, -999.000,9, -999.000, -999.000,9,-999.0000,9,  -999.00,9, -999.000,9,  26.8815
  06BE200011,  AR04,    22,  1,     21,     21,2,20001203,2038,  1.0000, -34.9998, 3618,      9.8,  26.8855,  36.0488,2,-999.0000,9,   -999.0,9,  -999.00,9,  -999.00,9,  -999.00,9,  -999.00,9, -999.000,9, -999.000,9, -999.000, -999.000,9,-999.0000,9,  -999.00,9, -999.000,9,  26.8833
  06BE200011,  AR04,    22,  1,     19,     19,2,20001203,2038,  1.0000, -34.9998, 3618,     99.3,  25.1769,  36.0776,2,  36.0786,2,    182.1,2,     1.95,2,     2.27,2,     0.20,2,     0.21,2, -999.000,9, -999.000,9, -999.000, -999.000,9,-999.0000,9,  -999.00,9, -999.000,9,  25.1552
  06BE200011,  AR04,    22,  1,     18,     18,2,20001203,2038,  1.0000, -34.9998, 3618,    297.2,  10.3942,  34.9226,2,-999.0000,9,    167.6,2,    10.17,2,    20.10,2,     0.01,2,     1.36,2, -999.000,9, -999.000,9, -999.000, -999.000,9,-999.0000,9,     1.80,2, -999.000,9,  10.3587
  06BE200011,  AR04,    22,  1,     17,     17,2,20001203,2038,  1.0000, -34.9998, 3618,    497.1,   6.7384,  34.5951,2,-999.0000,9,    133.2,2,    20.48,2,    32.09,2,     0.02,2,     2.26,2, -999.000,9, -999.000,9, -999.000, -999.000,9,-999.0000,9,  -999.00,9, -999.000,9,   6.6921
  06BE200011,  AR04,    22,  1,     16,     16,2,20001203,2038,  1.0000, -34.9998, 3618,    695.8,   5.3121,  34.5150,2,-999.0000,9,   -999.0,9,  -999.00,9,  -999.00,9,  -999.00,9,  -999.00,9, -999.000,9, -999.000,9, -999.000, -999.000,9,-999.0000,9,  -999.00,9, -999.000,9,   5.2540
  06BE200011,  AR04,    22,  1,     15,     15,2,20001203,2038,  1.0000, -34.9998, 3618,    867.9,   4.7666,  34.5324,2,-999.0000,9,    151.9,2,    30.09,2,    33.51,2,     0.01,2,     2.41,2, -999.000,9, -999.000,9,    0.089, -999.000,2,-999.0000,9,  -999.00,9, -999.000,9,   4.6966
  06BE200011,  AR04,    22,  1,     14,     14,2,20001203,2038,  1.0000, -34.9998, 3618,   1096.8,   4.7160,  34.7581,2,-999.0000,9,   -999.0,9,  -999.00,9,  -999.00,9,  -999.00,9,  -999.00,9, -999.000,9, -999.000,9, -999.000, -999.000,9,-999.0000,9,  -999.00,9, -999.000,9,   4.6258
  06BE200011,  AR04,    22,  1,     13,     13,2,20001203,2038,  1.0000, -34.9998, 3618,   1099.4,   4.7140,  34.7624,2,  34.7636,2,    168.5,2,    26.51,2,    29.60,2,     0.00,9,     2.16,2,    0.033,2,    0.018,2, -999.000, -999.000,9,-999.0000,9,     2.74,2, -999.000,9,   4.6235
  06BE200011,  AR04,    22,  1,     12,     12,2,20001203,2038,  1.0000, -34.9998, 3618,   1297.2,   4.6253,  34.9036,2,-999.0000,9,    200.8,2,    21.21,2,    24.30,2,     0.00,9,     1.73,2, -999.000,9, -999.000,9,    0.111, -999.000,2,-999.0000,9,  -999.00,9, -999.000,9,   4.5173
  06BE200011,  AR04,    22,  1,     11,     11,2,20001203,2038,  1.0000, -34.9998, 3618,   1547.7,   4.3976,  34.9736,2,-999.0000,9,    230.1,2,    17.39,2,    20.56,2,     0.01,2,     1.44,2,    0.177,2,    0.090,2,    0.080, -999.000,2,-999.0000,9,     2.73,2, -999.000,9,   4.2684
  06BE200011,  AR04,    22,  1,     10,     10,2,20001203,2038,  1.0000, -34.9998, 3618,   1699.0,   3.9095,  34.9870,2,-999.0000,9,    252.8,2,    16.37,2,    18.87,2,     0.01,2,     1.27,2,    0.253,2,    0.130,2, -999.000, -999.000,9,-999.0000,9,  -999.00,9, -999.000,9,   3.7720
  06BE200011,  AR04,    22,  1,      9,      9,2,20001203,2038,  1.0000, -34.9998, 3618,   1796.9,   3.8103,  34.9851,2,-999.0000,9,    256.3,2,    16.59,2,    18.35,2,     0.01,2,     1.24,2,    0.270,2,    0.138,2,    0.030, -999.000,2,-999.0000,9,     3.23,2, -999.000,9,   3.6649
  06BE200011,  AR04,    22,  1,      8,      8,2,20001203,2038,  1.0000, -34.9998, 3618,   1948.5,   3.6915,  34.9803,2,-999.0000,9,    256.7,2,    17.87,2,    18.52,2,     0.01,2,     1.22,2,    0.206,2,    0.108,2, -999.000, -999.000,9,-999.0000,9,  -999.00,9, -999.000,9,   3.5334
  06BE200011,  AR04,    22,  1,      7,      7,2,20001203,2038,  1.0000, -34.9998, 3618,   2098.2,   3.4763,  34.9740,2,  34.9716,2,    260.2,2,    18.65,2,    17.86,2,     0.01,2,     1.21,2,    0.172,2,    0.089,2, -999.000, -999.000,9,-999.0000,9,     3.75,2, -999.000,9,   3.3072
  06BE200011,  AR04,    22,  1,      6,      6,2,20001203,2038,  1.0000, -34.9998, 3618,   2346.9,   3.1243,  34.9506,2,-999.0000,9,    255.4,2,    25.30,2,    19.01,2,     0.01,2,     1.30,2,    0.052,2,    0.028,2, -999.000, -999.000,9,-999.0000,9,  -999.00,9, -999.000,9,   2.9370
  06BE200011,  AR04,    22,  1,      5,      5,2,20001203,2038,  1.0000, -34.9998, 3618,   2698.5,   2.9232,  34.9423,2,  34.9403,2,    259.3,2,    25.69,2,    18.87,2,     0.05,2,     1.29,2,    0.055,2,    0.029,2,    0.062, -999.000,2,-999.0000,9,     3.95,2, -999.000,9,   2.7050
  06BE200011,  AR04,    22,  1,      4,      4,2,20001203,2038,  1.0000, -34.9998, 3618,   2898.4,   2.7679,  34.9280,2,-999.0000,9,    256.3,2,    30.25,2,    19.50,2,     0.01,2,     1.31,2,    0.036,2,    0.020,2,    0.100, -999.000,2,-999.0000,9,  -999.00,9, -999.000,9,   2.5326
  06BE200011,  AR04,    22,  1,      3,      3,2,20001203,2038,  1.0000, -34.9998, 3618,   3198.9,   2.6127,  34.9201,2,  34.9167,2,    258.9,2,    31.23,2,    19.18,2,     0.03,2,     1.30,2,    0.065,2,    0.034,2,    0.114, -999.000,2,-999.0000,9,  -999.00,9, -999.000,9,   2.3497
  06BE200011,  AR04,    22,  1,      2,      2,2,20001203,2038,  1.0000, -34.9998, 3618,   3455.6,   2.4781,  34.9100,2,-999.0000,9,    258.9,2,    33.56,2,    19.24,2,     0.02,2,     1.26,2,    0.076,2,    0.041,2,    0.018, -999.000,2,-999.0000,9,  -999.00,9, -999.000,9,   2.1910
  06BE200011,  AR04,    22,  1,      1,      1,2,20001203,2038,  1.0000, -34.9998, 3618,   3615.8,   2.4251,  34.9050,2,  34.9032,2,    260.6,2,    33.89,2,    19.58,2,     0.04,2,     1.34,2,    0.089,2,    0.047,2, -999.000, -999.000,9,-999.0000,9,     6.03,2, -999.000,9,   2.1219
  06BE200011,  AR04,    23,  1,     22,     22,2,20001204,0039,  1.3328, -35.0000, 4109,     10.3,  26.9591,  36.0704,2,  36.0665,2,    201.3,2,     1.26,2,     0.09,2,     0.01,2,     0.06,2,    1.591,2,    0.946,2, -999.000, -999.000,9,-999.0000,9,  -999.00,9, -999.000,9,  26.9567
  06BE200011,  AR04,    23,  1,     21,     21,2,20001204,0039,  1.3328, -35.0000, 4109,     99.5,  26.7894,  36.1105,2,-999.0000,9,    194.3,2,     1.50,2,     0.59,2,     0.06,2,     0.12,2, -999.000,9, -999.000,9, -999.000, -999.000,9,-999.0000,9,  -999.00,9, -999.000,9,  26.7666
  06BE200011,  AR04,    23,  1,     20,     20,2,20001204,0039,  1.3328, -35.0000, 4109,    197.3,  11.8235,  35.1043,2,-999.0000,9,    168.9,2,     8.01,2,    17.58,2,     0.01,2,     1.16,2, -999.000,9, -999.000,9, -999.000, -999.000,9,-999.0000,9,  -999.00,9, -999.000,9,  11.7980
  06BE200011,  AR04,    23,  1,     19,     19,2,20001204,0039,  1.3328, -35.0000, 4109,    398.0,   7.8658,  34.6777,2,  34.6727,2,    146.7,2,    16.52,2,    29.09,2,     0.01,2,     1.89,2, -999.000,9, -999.000,9, -999.000, -999.000,9,-999.0000,9,  -999.00,9, -999.000,9,   7.8256
  06BE200011,  AR04,    23,  1,     18,     18,2,20001204,0039,  1.3328, -35.0000, 4109,    598.7,   5.7644,  34.5345,2,-999.0000,9,    144.5,2,    24.43,2,    33.29,2,     0.02,2,     2.35,2, -999.000,9, -999.000,9, -999.000, -999.000,9,-999.0000,9,  -999.00,9,    7.705,2,   5.7127
  06BE200011,  AR04,    23,  1,     17,     17,2,20001204,0039,  1.3328, -35.0000, 4109,    799.1,   4.8304,  34.5204,2,-999.0000,9,    151.5,2,    29.62,2,    33.63,2,     0.02,2,     2.45,2, -999.000,9, -999.000,9, -999.000, -999.000,9,-999.0000,9,  -999.00,9, -999.000,9,   4.7660
  06BE200011,  AR04,    23,  1,     16,     16,2,20001204,0039,  1.3328, -35.0000, 4109,    998.0,   4.6421,  34.5799,2,-999.0000,9,    155.4,2,    29.89,2,    33.41,2,     0.04,2,     2.40,2,    0.059,2,    0.033,2,    0.022, -999.000,2,-999.0000,9,  -999.00,9, -999.000,9,   4.5616
  06BE200011,  AR04,    23,  1,     15,     15,2,20001204,0039,  1.3328, -35.0000, 4109,   1184.0,   4.5817,  34.8410,2,-999.0000,9,    186.9,2,    23.67,2,    26.70,2,     0.01,2,     1.88,2,    0.049,2,    0.027,2,    0.057,    0.006,2,-999.0000,9,  -999.00,9, -999.000,9,   4.4846
  06BE200011,  AR04,    23,  1,     14,     14,2,20001204,0039,  1.3328, -35.0000, 4109,   1398.0,   4.5010,  34.9276,2,-999.0000,9,    210.4,2,    19.91,2,    23.96,2,     0.00,9,     1.63,2,    0.099,2,    0.054,2, -999.000, -999.000,9,-999.0000,9,  -999.00,9, -999.000,9,   4.3848
  06BE200011,  AR04,    23,  1,     13,     13,2,20001204,0039,  1.3328, -35.0000, 4109,   1547.9,   4.3233,  34.9736,2,-999.0000,9,    232.2,2,    17.31,2,    20.90,2,     0.01,2,     1.46,2, -999.000,9, -999.000,9, -999.000, -999.000,9,-999.0000,9,  -999.00,9,    7.926,2,   4.1949
  06BE200011,  AR04,    23,  1,     12,     12,2,20001204,0039,  1.3328, -35.0000, 4109,   1696.8,   3.9550,  34.9880,2,-999.0000,9,    251.0,2,    16.27,2,    19.10,2,     0.02,2,     1.26,2, -999.000,9, -999.000,9, -999.000,    0.021,9,-999.0000,9,  -999.00,9, -999.000,9,   3.8171
  06BE200011,  AR04,    23,  1,     11,     11,2,20001204,0039,  1.3328, -35.0000, 4109,   1847.2,   3.7808,  34.9837,2,  34.9804,2,    254.5,2,    16.89,2,    18.52,2,     0.02,2,     1.23,2,    0.223,2,    0.115,2, -999.000,    0.006,9,-999.0000,9,  -999.00,9,    7.831,2,   3.6311
  06BE200011,  AR04,    23,  1,     10,     10,2,20001204,0039,  1.3328, -35.0000, 4109,   2001.1,   3.6554,  34.9786,2,-999.0000,9,    254.5,2,    18.03,2,    19.07,2,     0.02,2,     1.26,2,    0.151,2,    0.079,2, -999.000, -999.000,9,-999.0000,9,  -999.00,9, -999.000,9,   3.4928
  06BE200011,  AR04,    23,  1,      9,      9,2,20001204,0039,  1.3328, -35.0000, 4109,   2196.7,   3.4408,  34.9726,2,-999.0000,9,    259.8,2,    18.61,2,    18.27,2,     0.01,2,     1.22,2,    0.192,2,    0.101,2, -999.000,    0.004,9,-999.0000,9,  -999.00,9,    7.949,2,   3.2627
  06BE200011,  AR04,    23,  1,      8,      8,2,20001204,0039,  1.3328, -35.0000, 4109,   2496.8,   3.0408,  34.9447,2,-999.0000,9,    253.7,2,    26.68,2,    19.53,2,     0.02,2,     1.34,2,    0.039,2,    0.022,2, -999.000, -999.000,9,-999.0000,9,  -999.00,9, -999.000,9,   2.8404
  06BE200011,  AR04,    23,  1,      7,      7,2,20001204,0039,  1.3328, -35.0000, 4109,   2798.9,   2.8463,  34.9363,2,-999.0000,9,    257.6,2,    27.68,2,    19.58,2,     0.02,2,     1.31,2,    0.043,2,    0.023,2, -999.000, -999.000,9,-999.0000,9,  -999.00,9,    7.936,2,   2.6195
  06BE200011,  AR04,    23,  1,      6,      6,2,20001204,0039,  1.3328, -35.0000, 4109,   3097.2,   2.6250,  34.9227,2,  34.9191,2,    258.9,2,    30.52,2,    19.71,2,     0.01,2,     1.30,2,    0.065,2,    0.035,2, -999.000, -999.000,9,-999.0000,9,  -999.00,9, -999.000,9,   2.3723
  06BE200011,  AR04,    23,  1,      5,      5,2,20001204,0039,  1.3328, -35.0000, 4109,   3295.4,   2.5525,  34.9160,2,-999.0000,9,    258.0,2,    32.16,2,    19.91,2,     0.08,2,     1.36,2,    0.063,2,    0.034,2, -999.000,    0.006,9,-999.0000,9,  -999.00,9,    8.004,2,   2.2807
  06BE200011,  AR04,    23,  1,      4,      4,2,20001204,0039,  1.3328, -35.0000, 4109,   3498.8,   2.4578,  34.9098,2,-999.0000,9,    261.1,2,    32.09,2,    19.50,2,     0.01,2,     1.33,2,    0.089,2,    0.048,2, -999.000,    0.007,9,-999.0000,9,  -999.00,9, -999.000,9,   2.1665
  06BE200011,  AR04,    23,  1,      3,      3,2,20001204,0039,  1.3328, -35.0000, 4109,   3680.4,   2.3692,  34.9010,2,  34.8984,2,    260.2,2,    34.63,2,    20.18,2,     0.02,2,     1.34,2,    0.089,2,    0.046,2, -999.000,    0.004,9,-999.0000,9,  -999.00,9, -999.000,9,   2.0604
  06BE200011,  AR04,    23,  1,      2,      2,2,20001204,0039,  1.3328, -35.0000, 4109,   3898.0,   2.2999,  34.8942,2,  34.8908,2,    260.2,2,    36.18,2,    19.85,2,     0.02,2,     1.36,2,    0.102,2,    0.056,2, -999.000,    0.001,9,-999.0000,9,  -999.00,9, -999.000,9,   1.9688
  06BE200011,  AR04,    23,  1,      1,      1,2,20001204,0039,  1.3328, -35.0000, 4109,   4108.0,   2.2265,  34.8843,2,  34.8812,2,    258.0,2,    40.54,2,    20.40,2,     0.05,2,     1.42,2,    0.099,2,    0.056,2, -999.000, -999.000,9,-999.0000,9,  -999.00,9,    8.208,2,   1.8736
  06BE200011,  AR04,    24,  1,     21,     21,2,20001204,0500,  1.6665, -34.9997, 4090,      8.8,  27.0026,  36.0865,2,-999.0000,9,   -999.0,9,  -999.00,9,  -999.00,9,  -999.00,9,  -999.00,9, -999.000,9, -999.000,9, -999.000, -999.000,9,-999.0000,9,  -999.00,9, -999.000,9,  27.0006
  06BE200011,  AR04,    24,  1,     20,     20,2,20001204,0500,  1.6665, -34.9997, 4090,      8.9,  27.0027,  36.0864,2,  36.0812,2,    200.8,2,     1.20,2,     0.10,2,     0.02,2,     0.06,2,    1.587,2,    0.944,2, -999.000, -999.000,9,-999.0000,9,  -999.00,9, -999.000,9,  27.0007
  06BE200011,  AR04,    24,  1,     22,     22,2,20001204,0500,  1.6665, -34.9997, 4090,      9.3,  27.0030,  36.0864,2,-999.0000,9,   -999.0,9,  -999.00,9,  -999.00,9,  -999.00,9,  -999.00,9, -999.000,9, -999.000,9, -999.000, -999.000,9,-999.0000,9,  -999.00,9, -999.000,9,  27.0009
  06BE200011,  AR04,    24,  1,     19,     19,2,20001204,0500,  1.6665, -34.9997, 4090,     99.3,  26.7805,  36.1020,2,-999.0000,9,    200.8,2,     1.17,2,     0.10,2,     0.00,9,     0.06,2, -999.000,9, -999.000,9, -999.000, -999.000,9,-999.0000,9,  -999.00,9, -999.000,9,  26.7578
  06BE200011,  AR04,    24,  1,     18,     18,2,20001204,0500,  1.6665, -34.9997, 4090,    295.3,  10.4219,  34.9358,2,-999.0000,9,    162.8,2,    10.31,2,    20.80,2,     0.01,2,     1.36,2, -999.000,9, -999.000,9,    0.030, -999.000,2,-999.0000,9,  -999.00,9, -999.000,9,  10.3866
  06BE200011,  AR04,    24,  1,     17,     17,2,20001204,0500,  1.6665, -34.9997, 4090,    497.4,   6.5398,  34.5766,2,-999.0000,9,    139.3,2,    21.16,2,    32.35,2,     0.01,2,     2.18,2, -999.000,9, -999.000,9, -999.000, -999.000,9,-999.0000,9,  -999.00,9, -999.000,9,   6.4942
  06BE200011,  AR04,    24,  1,     16,     16,2,20001204,0500,  1.6665, -34.9997, 4090,    697.0,   5.1085,  34.5102,2,-999.0000,9,    150.2,2,    27.69,2,    34.01,2,     0.01,2,     2.36,2, -999.000,9, -999.000,9, -999.000,    0.003,9,-999.0000,9,  -999.00,9, -999.000,9,   5.0514
  06BE200011,  AR04,    24,  1,     15,     15,2,20001204,0500,  1.6665, -34.9997, 4090,    897.7,   4.6616,  34.5480,2,-999.0000,9,    155.4,2,    29.96,2,    33.16,2,     0.02,2,     2.35,2,    0.088,2,    0.045,2, -999.000,    0.003,9,   1.7828,2,  -999.00,9, -999.000,9,   4.5897
  06BE200011,  AR04,    24,  1,     14,     14,2,20001204,0500,  1.6665, -34.9997, 4090,   1096.5,   4.7242,  34.7475,2,-999.0000,9,    165.9,2,    26.25,2,    29.18,2,     0.02,2,     2.15,2,    0.036,2,    0.019,2, -999.000, -999.000,9,-999.0000,9,  -999.00,9, -999.000,9,   4.6339
  06BE200011,  AR04,    24,  1,     13,     13,2,20001204,0500,  1.6665, -34.9997, 4090,   1287.9,   4.5935,  34.8947,2,  34.8880,2,    200.4,2,    21.22,2,    24.38,2,     0.01,2,     1.75,2,    0.091,2,    0.049,2,    0.151, -999.000,2,   1.8118,2,  -999.00,9, -999.000,9,   4.4867
  06BE200011,  AR04,    24,  1,     12,     12,2,20001204,0500,  1.6665, -34.9997, 4090,   1498.1,   4.5078,  34.9544,2,-999.0000,9,   -999.0,9,  -999.00,9,  -999.00,9,  -999.00,9,  -999.00,9, -999.000,9, -999.000,9, -999.000, -999.000,9,-999.0000,9,  -999.00,9, -999.000,9,   4.3821
  06BE200011,  AR04,    24,  1,     11,     11,2,20001204,0500,  1.6665, -34.9997, 4090,   1698.1,   4.0528,  34.9897,2,-999.0000,9,    248.8,2,    15.95,2,    18.54,2,     0.01,2,     1.26,2,    0.280,2,    0.146,2, -999.000, -999.000,9,   1.7866,2,  -999.00,9, -999.000,9,   3.9135
  06BE200011,  AR04,    24,  1,     10,     10,2,20001204,0500,  1.6665, -34.9997, 4090,   1898.4,   3.7514,  34.9827,2,-999.0000,9,    255.4,2,    17.07,2,    18.31,2,     0.02,2,     1.24,2,    0.210,2,    0.109,2,    0.125, -999.000,2,-999.0000,9,  -999.00,9, -999.000,9,   3.5972
  06BE200011,  AR04,    24,  1,      9,      9,2,20001204,0500,  1.6665, -34.9997, 4090,   2097.2,   3.5975,  34.9785,2,-999.0000,9,    258.9,2,    17.49,2,    17.80,2,     0.02,2,     1.25,2,    0.207,2,    0.107,2, -999.000, -999.000,9,   1.8223,2,  -999.00,9, -999.000,9,   3.4265
  06BE200011,  AR04,    24,  1,      8,      8,2,20001204,0500,  1.6665, -34.9997, 4090,   2296.5,   3.3920,  34.9701,2,-999.0000,9,    260.6,2,    19.29,2,    18.01,2,     0.01,2,     1.23,2, -999.000,9, -999.000,9, -999.000, -999.000,9,-999.0000,9,  -999.00,9, -999.000,9,   3.2050
  06BE200011,  AR04,    24,  1,      7,      7,2,20001204,0500,  1.6665, -34.9997, 4090,   2497.4,   3.1131,  34.9536,2,-999.0000,9,    258.9,2,    23.43,2,    18.64,2,     0.00,9,     1.31,2,    0.078,2,    0.040,2,    0.031, -999.000,2,-999.0000,9,  -999.00,9, -999.000,9,   2.9113
  06BE200011,  AR04,    24,  1,      6,      6,2,20001204,0500,  1.6665, -34.9997, 4090,   2799.4,   2.8673,  34.9380,2,-999.0000,9,    258.5,2,    27.40,2,    19.17,2,     0.03,2,     1.27,2,    0.044,2,    0.022,2, -999.000, -999.000,9,   1.8315,2,  -999.00,9, -999.000,9,   2.6400
  06BE200011,  AR04,    24,  1,      5,      5,2,20001204,0500,  1.6665, -34.9997, 4090,   3099.4,   2.6602,  34.9246,2,  34.9214,2,    259.8,2,    29.87,2,    19.22,2,     0.00,9,     1.40,2,    0.060,2,    0.032,2, -999.000, -999.000,9,   1.8254,2,  -999.00,9, -999.000,9,   2.4065
  06BE200011,  AR04,    24,  1,      4,      4,2,20001204,0500,  1.6665, -34.9997, 4090,   3398.6,   2.5141,  34.9153,2,  34.9100,2,    262.0,2,    30.68,2,    18.63,2,     0.07,2,     1.31,2,    0.095,2,    0.050,2,    0.099, -999.000,2,   1.8270,2,  -999.00,9, -999.000,9,   2.2322
  06BE200011,  AR04,    24,  1,      3,      3,2,20001204,0500,  1.6665, -34.9997, 4090,   3598.2,   2.3968,  34.9028,2,-999.0000,9,    259.8,2,    34.48,2,    19.66,2,     0.00,9,     1.31,2,    0.084,2,    0.045,2, -999.000, -999.000,9,   1.8391,2,  -999.00,9, -999.000,9,   2.0963
  06BE200011,  AR04,    24,  1,      2,      2,2,20001204,0500,  1.6665, -34.9997, 4090,   3799.6,   2.3328,  34.8968,2,  34.8920,2,    260.7,2,    35.84,2,    19.89,2,     0.01,2,     1.36,2,    0.089,2,    0.049,2, -999.000, -999.000,9,   1.8671,2,  -999.00,9, -999.000,9,   2.0118
  06BE200011,  AR04,    24,  1,      1,      1,2,20001204,0500,  1.6665, -34.9997, 4090,   4088.3,   2.2140,  34.8830,2,-999.0000,9,    258.5,2,    40.86,2,    20.41,2,     0.01,2,     1.36,2,    0.095,2,    0.052,2,    0.075, -999.000,2,   1.8644,2,  -999.00,9, -999.000,9,   1.8637