BOTTLE,20111027CCHDOSIOCBG
EXPOCODE,SECT_ID,STNNBR,CASTNO,SAMPNO,BTLNBR,BTLNBR_FLAG_W,DATE,TIME,LATITUDE,LONGITUDE,DEPTH,CTDPRS,CTDTMP,CTDSAL,CTDSAL_FLAG_W,SALNTY,SALNTY_FLAG_W,OXYGEN,OXYGEN_FLAG_W,SILCAT,SILCAT_FLAG_W,NITRAT,NITRAT_FLAG_W,NITRIT,NITRIT_FLAG_W,PHSPHT,PHSPHT_FLAG_W,CFC-11,CFC-11_FLAG_W,CFC-12,CFC-12_FLAG_W,TRITUM,TRITER,TRITUM_FLAG_W,HELIUM,HELIUM_FLAG_W,DELHE3,DELHE3_FLAG_W,NEON,NEON_FLAG_W,THETA
,,,,,,,,,,,METERS,DBAR,ITS-90,PSS-78,,PSS-78,,UMOL/KG,,UMOL/KG,,UMOL/KG,,UMOL/KG,,UMOL/KG,,PMOL/KG,,PMOL/KG,,TU,TU,,NMOL/KG,,PERCNT,,NMOL/KG,,DEG C
  06BE200011,  AR04,     9,  1,     22,     22,2,20001201,0608, -3.1337, -34.8803, 3863,      7.9,  26.8626,  36.2677,2,-999.0000,9,    202.6,2,     1.14,2,     0.06,2,     0.13,2,     0.08,2, -999.000,9, -999.000,9, -999.000, -999.000,9,-999.0000,9,  -999.00,9, -999.000,9,  26.8608
  06BE200011,  AR04,     9,  1,     21,     21,2,20001201,0608, -3.1337, -34.8803, 3863,    102.1,  23.3308,  36.2347,2,-999.0000,9,    173.9,2,     1.92,2,     3.00,2,     0.16,2,     0.35,2, -999.000,9, -999.000,9, -999.000, -999.000,9,-999.0000,9,  -999.00,9, -999.000,9,  23.3096
  06BE200011,  AR04,     9,  1,     20,     20,2,20001201,0608, -3.1337, -34.8803, 3863,    497.9,   7.1009,  34.5969,2,-999.0000,9,    150.6,2,    17.67,2,    29.68,2,     0.00,9,     1.96,2, -999.000,9, -999.000,9, -999.000, -999.000,9,-999.0000,9,  -999.00,9, -999.000,9,   7.0532
  06BE200011,  AR04,     9,  1,     19,     19,2,20001201,0608, -3.1337, -34.8803, 3863,    696.4,   5.0309,  34.4684,2,-999.0000,9,    154.6,2,    26.68,2,    33.75,2,     0.00,9,     2.32,2, -999.000,9, -999.000,9, -999.000, -999.000,9,-999.0000,9,  -999.00,9, -999.000,9,   4.9743
  06BE200011,  AR04,     9,  1,     18,     18,2,20001201,0608, -3.1337, -34.8803, 3863,    896.5,   4.2902,  34.5308,2,-999.0000,9,    163.3,2,    31.44,2,    33.35,2,     0.01,2,     2.35,2, -999.000,9, -999.000,9,    0.045, -999.000,2,   1.7908,2,  -999.00,9, -999.000,9,   4.2210
  06BE200011,  AR04,     9,  1,     17,     17,2,20001201,0608, -3.1337, -34.8803, 3863,   1099.9,   4.3501,  34.6750,2,-999.0000,9,    170.7,2,    28.43,2,    30.86,2,     0.01,2,     2.15,2, -999.000,9, -999.000,9,    0.027, -999.000,2,   1.7989,2,  -999.00,9, -999.000,9,   4.2628
  06BE200011,  AR04,     9,  1,     16,     16,2,20001201,0608, -3.1337, -34.8803, 3863,   1297.3,   4.5320,  34.8688,2,-999.0000,9,    196.5,2,    21.39,2,    25.94,2,     0.00,9,     1.76,2, -999.000,9, -999.000,9,    0.085, -999.000,2,-999.0000,9,  -999.00,9, -999.000,9,   4.4249
  06BE200011,  AR04,     9,  1,     15,     15,2,20001201,0608, -3.1337, -34.8803, 3863,   1548.0,   4.2452,  34.9792,2,-999.0000,9,    238.4,2,    16.54,2,    20.48,2,     0.00,9,     1.34,2, -999.000,9, -999.000,9, -999.000, -999.000,9,-999.0000,9,  -999.00,9,    7.867,2,   4.1177
  06BE200011,  AR04,     9,  1,     14,     14,2,20001201,0608, -3.1337, -34.8803, 3863,   1694.0,   4.0347,  34.9834,2,-999.0000,9,    248.0,2,    15.98,2,    19.53,2,     0.01,2,     1.27,2, -999.000,9, -999.000,9,    0.212, -999.000,2,-999.0000,9,  -999.00,9, -999.000,9,   3.8961
  06BE200011,  AR04,     9,  1,     13,     13,2,20001201,0608, -3.1337, -34.8803, 3863,   1697.9,   4.0151,  34.9843,2,-999.0000,9,   -999.0,9,  -999.00,9,  -999.00,9,  -999.00,9,  -999.00,9, -999.000,9, -999.000,9, -999.000, -999.000,9,-999.0000,9,  -999.00,9, -999.000,9,   3.8763
  06BE200011,  AR04,     9,  1,     12,     12,2,20001201,0608, -3.1337, -34.8803, 3863,   1798.1,   3.7993,  34.9824,2,-999.0000,9,    254.1,2,    16.46,2,    18.83,2,     0.00,9,     1.23,2, -999.000,9, -999.000,9, -999.000, -999.000,9,-999.0000,9,  -999.00,9,    7.955,2,   3.6539
  06BE200011,  AR04,     9,  1,     11,     11,2,20001201,0608, -3.1337, -34.8803, 3863,   1998.9,   3.4241,  34.9707,2,-999.0000,9,    259.3,2,    18.37,2,    18.51,2,     0.03,2,     1.22,2, -999.000,9, -999.000,9,    0.161, -999.000,2,-999.0000,9,  -999.00,9, -999.000,9,   3.2652
  06BE200011,  AR04,     9,  1,     10,     10,2,20001201,0608, -3.1337, -34.8803, 3863,   2249.6,   3.1866,  34.9587,2,-999.0000,9,    259.3,2,    20.94,2,    18.92,2,     0.08,2,     1.23,2, -999.000,9, -999.000,9, -999.000, -999.000,9,-999.0000,9,  -999.00,9, -999.000,9,   3.0076
  06BE200011,  AR04,     9,  1,      9,      9,2,20001201,0608, -3.1337, -34.8803, 3863,   2495.8,   3.0145,  34.9496,2,-999.0000,9,    260.2,2,    22.38,2,    18.96,2,     0.02,2,     1.22,2, -999.000,9, -999.000,9, -999.000, -999.000,9,   1.8239,2,  -999.00,9, -999.000,9,   2.8146
  06BE200011,  AR04,     9,  1,      8,      8,2,20001201,0608, -3.1337, -34.8803, 3863,   2742.8,   2.8615,  34.9394,2,-999.0000,9,   -999.0,9,  -999.00,9,  -999.00,9,  -999.00,9,  -999.00,9, -999.000,9, -999.000,9, -999.000, -999.000,9,-999.0000,9,  -999.00,9, -999.000,9,   2.6400
  06BE200011,  AR04,     9,  1,      7,      7,2,20001201,0608, -3.1337, -34.8803, 3863,   2747.3,   2.8599,  34.9393,2,-999.0000,9,    260.6,2,    24.87,2,    19.33,2,     0.00,9,     1.26,2, -999.000,9, -999.000,9, -999.000, -999.000,9,   1.8283,2,  -999.00,9, -999.000,9,   2.6380
  06BE200011,  AR04,     9,  1,      6,      6,2,20001201,0608, -3.1337, -34.8803, 3863,   2999.7,   2.7346,  34.9285,2,-999.0000,9,    258.5,2,    27.89,2,    19.69,2,     0.00,9,     1.29,2, -999.000,9, -999.000,9,    0.084, -999.000,2,-999.0000,9,  -999.00,9, -999.000,9,   2.4896
  06BE200011,  AR04,     9,  1,      5,      5,2,20001201,0608, -3.1337, -34.8803, 3863,   2999.8,   2.7342,  34.9285,2,-999.0000,9,   -999.0,9,  -999.00,9,  -999.00,9,  -999.00,9,  -999.00,9, -999.000,9, -999.000,9, -999.000, -999.000,9,-999.0000,9,  -999.00,9, -999.000,9,   2.4892
  06BE200011,  AR04,     9,  1,      4,      4,2,20001201,0608, -3.1337, -34.8803, 3863,   3248.0,   2.6575,  34.9234,2,-999.0000,9,    259.8,2,    28.65,2,    19.13,2,     0.01,2,     1.29,2, -999.000,9, -999.000,9, -999.000, -999.000,9,   1.8388,2,    -1.76,3, -999.000,9,   2.3882
  06BE200011,  AR04,     9,  1,      3,      3,2,20001201,0608, -3.1337, -34.8803, 3863,   3496.4,   2.5668,  34.9180,2,-999.0000,9,    261.5,2,    28.67,2,    19.14,2,     0.01,2,     1.26,2, -999.000,9, -999.000,9,    0.117, -999.000,2,-999.0000,9,  -999.00,9, -999.000,9,   2.2730
  06BE200011,  AR04,     9,  1,      2,      2,2,20001201,0608, -3.1337, -34.8803, 3863,   3697.9,   2.4251,  34.9064,2,-999.0000,9,    262.8,2,    30.86,2,    19.55,2,     0.01,2,     1.26,2, -999.000,9, -999.000,9, -999.000, -999.000,9,-999.0000,9,  -999.00,9, -999.000,9,   2.1129
  06BE200011,  AR04,     9,  1,      1,      1,2,20001201,0608, -3.1337, -34.8803, 3863,   3861.6,   2.1134,  34.8734,2,-999.0000,9,    257.2,2,    43.39,2,    21.61,2,     0.02,2,     1.43,2, -999.000,9, -999.000,9,    0.101, -999.000,2,   1.7866,2,     1.12,2, -999.000,9,   1.7915
  06BE200011,  AR04,    10,  1,     22,     22,2,20001201,1024, -2.7508, -34.9498, 3902,      8.8,  27.1412,  36.2252,2,-999.0000,9,    202.1,2,     1.45,2,     0.04,2,     0.00,9,     0.06,2, -999.000,9, -999.000,9, -999.000, -999.000,9,-999.0000,9,  -999.00,9, -999.000,9,  27.1392
  06BE200011,  AR04,    10,  1,     21,     21,2,20001201,1024, -2.7508, -34.9498, 3902,    100.0,  23.6293,  36.1854,2,-999.0000,9,    176.1,2,     2.26,2,     2.46,2,     0.12,2,     0.35,2, -999.000,9, -999.000,9, -999.000, -999.000,9,-999.0000,9,  -999.00,9, -999.000,9,  23.6084
  06BE200011,  AR04,    10,  1,     20,     20,2,20001201,1024, -2.7508, -34.9498, 3902,    296.8,  10.2472,  34.9177,2,-999.0000,9,    123.1,2,    12.24,2,    25.76,2,     0.01,2,     1.68,2, -999.000,9, -999.000,9, -999.000, -999.000,9,-999.0000,9,  -999.00,9, -999.000,9,  10.2121
  06BE200011,  AR04,    10,  1,     19,     19,2,20001201,1024, -2.7508, -34.9498, 3902,    596.8,   6.4365,  34.5281,2,-999.0000,9,    162.9,2,    19.97,2,    30.07,2,     0.00,9,     2.07,2, -999.000,9, -999.000,9, -999.000, -999.000,9,-999.0000,9,  -999.00,9, -999.000,9,   6.3819
  06BE200011,  AR04,    10,  1,     18,     18,2,20001201,1024, -2.7508, -34.9498, 3902,    698.1,   4.9446,  34.4515,2,-999.0000,9,    165.5,2,    27.31,2,    33.12,2,     0.00,9,     2.32,2, -999.000,9, -999.000,9, -999.000,    0.007,9,-999.0000,9,     1.98,2, -999.000,9,   4.8883
  06BE200011,  AR04,    10,  1,     17,     17,2,20001201,1024, -2.7508, -34.9498, 3902,    799.0,   4.5370,  34.4862,2,-999.0000,9,    157.6,2,    30.47,2,    34.42,2,     0.00,9,     2.38,2, -999.000,9, -999.000,9, -999.000,    0.007,9,-999.0000,9,     2.54,2, -999.000,9,   4.4745
  06BE200011,  AR04,    10,  1,     16,     16,2,20001201,1024, -2.7508, -34.9498, 3902,    993.4,   4.2484,  34.5777,2,-999.0000,9,    166.8,2,    31.39,2,    32.98,2,     0.00,9,     2.32,2, -999.000,9, -999.000,9, -999.000,    0.008,9,-999.0000,9,  -999.00,9, -999.000,9,   4.1713
  06BE200011,  AR04,    10,  1,     15,     15,2,20001201,1024, -2.7508, -34.9498, 3902,   1200.3,   4.4813,  34.8012,2,-999.0000,9,    185.1,2,    24.66,2,    28.09,2,     0.00,9,     1.93,2,    0.050,2,    0.027,2, -999.000, -999.000,9,-999.0000,9,  -999.00,9, -999.000,9,   4.3837
  06BE200011,  AR04,    10,  1,     14,     14,2,20001201,1024, -2.7508, -34.9498, 3902,   1489.9,   4.2161,  34.9805,2,-999.0000,9,    239.2,2,    16.50,2,    20.25,2,     0.00,9,     1.36,2,    0.248,2,    0.134,2, -999.000,    0.011,9,-999.0000,9,  -999.00,9, -999.000,9,   4.0943
  06BE200011,  AR04,    10,  1,     13,     13,2,20001201,1024, -2.7508, -34.9498, 3902,   1498.1,   4.2229,  34.9842,2,-999.0000,9,   -999.0,9,  -999.00,9,  -999.00,9,  -999.00,9,  -999.00,9, -999.000,9, -999.000,9, -999.000, -999.000,9,-999.0000,9,  -999.00,9, -999.000,9,   4.1003
  06BE200011,  AR04,    10,  1,     12,     12,2,20001201,1024, -2.7508, -34.9498, 3902,   1696.5,   3.9946,  34.9883,2,-999.0000,9,    250.6,2,    15.79,2,    18.74,2,     0.00,9,     1.27,2,    0.284,2,    0.151,2, -999.000, -999.000,9,-999.0000,9,  -999.00,9, -999.000,9,   3.8562
  06BE200011,  AR04,    10,  1,     11,     11,2,20001201,1024, -2.7508, -34.9498, 3902,   1897.7,   3.6244,  34.9784,2,-999.0000,9,    257.6,2,    17.40,2,    18.22,2,     0.00,9,     1.23,2,    0.219,2,    0.117,2, -999.000,    0.010,9,-999.0000,9,  -999.00,9, -999.000,9,   3.4721
  06BE200011,  AR04,    10,  1,     10,     10,2,20001201,1024, -2.7508, -34.9498, 3902,   2098.4,   3.3478,  34.9665,2,-999.0000,9,    258.4,2,    20.18,2,    18.45,2,     0.00,9,     1.25,2,    0.141,2,    0.076,2, -999.000, -999.000,9,-999.0000,9,  -999.00,9, -999.000,9,   3.1807
  06BE200011,  AR04,    10,  1,      9,      9,2,20001201,1024, -2.7508, -34.9498, 3902,   2398.2,   3.1503,  34.9561,2,-999.0000,9,    258.9,2,    22.11,2,    18.70,2,     0.00,9,     1.26,2,    0.115,2,    0.061,2, -999.000, -999.000,9,-999.0000,9,     3.87,2, -999.000,9,   2.9575
  06BE200011,  AR04,    10,  1,      8,      8,2,20001201,1024, -2.7508, -34.9498, 3902,   2399.7,   3.1492,  34.9559,2,-999.0000,9,   -999.0,9,  -999.00,9,  -999.00,9,  -999.00,9,  -999.00,9, -999.000,9, -999.000,9, -999.000, -999.000,9,-999.0000,9,  -999.00,9, -999.000,9,   2.9563
  06BE200011,  AR04,    10,  1,      7,      7,2,20001201,1024, -2.7508, -34.9498, 3902,   2700.0,   2.8842,  34.9396,2,-999.0000,9,    258.9,2,    25.72,2,    18.95,2,     0.00,9,     1.26,2,    0.092,2,    0.049,2, -999.000, -999.000,9,-999.0000,9,     3.18,2, -999.000,9,   2.6666
  06BE200011,  AR04,    10,  1,      6,      6,2,20001201,1024, -2.7508, -34.9498, 3902,   2997.8,   2.7234,  34.9284,2,-999.0000,9,    258.9,2,    27.99,2,    19.49,2,     0.00,9,     1.32,2,    0.079,2,    0.045,2, -999.000,    0.008,9,-999.0000,9,  -999.00,9, -999.000,9,   2.4788
  06BE200011,  AR04,    10,  1,      5,      5,2,20001201,1024, -2.7508, -34.9498, 3902,   2998.5,   2.7228,  34.9276,2,-999.0000,9,   -999.0,9,  -999.00,9,  -999.00,9,  -999.00,9,  -999.00,9, -999.000,9, -999.000,9, -999.000, -999.000,9,-999.0000,9,  -999.00,9, -999.000,9,   2.4782
  06BE200011,  AR04,    10,  1,      4,      4,2,20001201,1024, -2.7508, -34.9498, 3902,   3248.0,   2.6473,  34.9225,2,-999.0000,9,    259.3,2,    29.21,2,    19.45,2,     0.00,9,     1.28,2,    0.076,2,    0.042,2, -999.000, -999.000,9,-999.0000,9,     3.39,2,    6.532,3,   2.3783
  06BE200011,  AR04,    10,  1,      3,      3,2,20001201,1024, -2.7508, -34.9498, 3902,   3507.6,   2.5794,  34.9183,2,-999.0000,9,    262.0,2,    29.24,2,    18.59,2,     0.00,9,     1.28,2, -999.000,9, -999.000,9, -999.000,    0.008,9,-999.0000,9,  -999.00,9, -999.000,9,   2.2841
  06BE200011,  AR04,    10,  1,      2,      2,2,20001201,1024, -2.7508, -34.9498, 3902,   3696.6,   2.4710,  34.9108,2,-999.0000,9,    264.1,2,    29.71,2,    18.32,2,     0.00,9,     1.28,2,    0.151,2,    0.080,2, -999.000, -999.000,9,-999.0000,9,  -999.00,9, -999.000,9,   2.1577
  06BE200011,  AR04,    10,  1,      1,      1,2,20001201,1024, -2.7508, -34.9498, 3902,   3900.1,   1.8987,  34.8493,2,-999.0000,9,    253.2,2,    53.20,2,    22.29,2,     0.00,9,     1.55,2,    0.063,2,    0.036,2, -999.000,    0.008,9,-999.0000,9,     2.80,2,    7.662,2,   1.5785
  06BE200011,  AR04,    11,  1,     22,     22,2,20001201,1426, -2.4178, -35.0035, 3955,      9.5,  27.0853,  36.1934,2,  36.1888,2,    202.6,2,     1.90,2,     0.19,2,     0.00,9,     0.14,2,    1.883,4,    0.935,2, -999.000, -999.000,9,-999.0000,9,  -999.00,9, -999.000,9,  27.0831
  06BE200011,  AR04,    11,  1,     21,     21,2,20001201,1426, -2.4178, -35.0035, 3955,    100.8,  20.4091,  36.0675,2,-999.0000,9,    152.1,2,     3.64,2,     7.78,2,     0.25,2,     0.73,2, -999.000,9, -999.000,9, -999.000, -999.000,9,-999.0000,9,  -999.00,9, -999.000,9,  20.3901
  06BE200011,  AR04,    11,  1,     20,     20,2,20001201,1426, -2.4178, -35.0035, 3955,    300.9,  10.3606,  34.9490,2,-999.0000,9,    112.6,2,    12.36,2,    27.78,2,     0.00,9,     1.85,2, -999.000,9, -999.000,9, -999.000, -999.000,9,-999.0000,9,  -999.00,9, -999.000,9,  10.3247
  06BE200011,  AR04,    11,  1,     19,     19,2,20001201,1426, -2.4178, -35.0035, 3955,    597.7,   5.5879,  34.4686,2,-999.0000,9,    170.3,2,    22.99,2,    31.90,2,     0.00,9,     2.23,2, -999.000,9, -999.000,9,    0.074, -999.000,2,-999.0000,9,  -999.00,9, -999.000,9,   5.5372
  06BE200011,  AR04,    11,  1,     18,     18,2,20001201,1426, -2.4178, -35.0035, 3955,    697.4,   5.0172,  34.4596,2,  34.4537,2,    161.6,2,    27.13,2,    33.65,2,     0.00,9,     2.36,2, -999.000,9, -999.000,9, -999.000, -999.000,9,-999.0000,9,  -999.00,9,    7.793,2,   4.9606
  06BE200011,  AR04,    11,  1,     17,     17,2,20001201,1426, -2.4178, -35.0035, 3955,    848.7,   4.4639,  34.4958,2,-999.0000,9,    162.0,2,    30.97,2,    34.08,2,     0.00,9,     2.41,2, -999.000,9, -999.000,9,    0.020, -999.000,2,   1.7888,2,  -999.00,9,    7.821,2,   4.3976
  06BE200011,  AR04,    11,  1,     16,     16,2,20001201,1426, -2.4178, -35.0035, 3955,    999.4,   4.2850,  34.5696,2,  34.5681,2,    170.7,2,    31.33,2,    32.91,2,     0.00,9,     2.30,2,    0.048,2,    0.028,2, -999.000, -999.000,9,   1.8016,2,  -999.00,9, -999.000,9,   4.2071
  06BE200011,  AR04,    11,  1,     15,     15,2,20001201,1426, -2.4178, -35.0035, 3955,   1298.6,   4.4675,  34.8976,2,-999.0000,9,    207.4,2,    20.72,2,    24.17,2,     0.00,9,     1.65,2,    0.107,2,    0.059,2,    0.115, -999.000,2,-999.0000,9,  -999.00,9, -999.000,9,   4.3609
  06BE200011,  AR04,    11,  1,     14,     14,2,20001201,1426, -2.4178, -35.0035, 3955,   1598.7,   4.0913,  34.9859,2,-999.0000,9,    244.9,2,    16.16,2,    19.71,2,     0.00,9,     1.29,2,    0.210,2,    0.115,2, -999.000, -999.000,9,   1.7920,2,  -999.00,9, -999.000,9,   3.9609
  06BE200011,  AR04,    11,  1,     13,     13,2,20001201,1426, -2.4178, -35.0035, 3955,   1599.6,   4.0912,  34.9859,2,-999.0000,9,   -999.0,9,  -999.00,9,  -999.00,9,  -999.00,9,  -999.00,9, -999.000,9, -999.000,9, -999.000, -999.000,9,-999.0000,9,  -999.00,9, -999.000,9,   3.9607
  06BE200011,  AR04,    11,  1,     12,     12,2,20001201,1426, -2.4178, -35.0035, 3955,   1698.2,   3.9963,  34.9857,2,  34.9788,2,    248.0,2,    16.27,2,    19.55,2,     0.00,9,     1.28,2,    0.213,2,    0.116,2, -999.000, -999.000,9,-999.0000,9,  -999.00,9, -999.000,9,   3.8578
  06BE200011,  AR04,    11,  1,     11,     11,2,20001201,1426, -2.4178, -35.0035, 3955,   1897.0,   3.7089,  34.9810,2,-999.0000,9,    255.8,2,    16.95,2,    18.70,2,     0.00,9,     1.25,2,    0.210,2,    0.114,2, -999.000, -999.000,9,   1.7975,2,  -999.00,9, -999.000,9,   3.5555
  06BE200011,  AR04,    11,  1,     10,     10,2,20001201,1426, -2.4178, -35.0035, 3955,   2490.0,   3.0996,  34.9537,2,-999.0000,9,    259.8,2,    22.37,2,    18.50,2,     0.00,9,     1.26,2,    0.112,2,    0.061,2, -999.000, -999.000,9,-999.0000,9,  -999.00,9, -999.000,9,   2.8987
  06BE200011,  AR04,    11,  1,      9,      9,2,20001201,1426, -2.4178, -35.0035, 3955,   2496.4,   3.0987,  34.9537,2,-999.0000,9,    255.4,2,    22.27,2,    18.56,2,     0.00,9,     1.25,2,    0.114,2,    0.063,2, -999.000, -999.000,9,   1.8427,2,  -999.00,9,    7.936,2,   2.8972
  06BE200011,  AR04,    11,  1,      8,      8,2,20001201,1426, -2.4178, -35.0035, 3955,   2498.5,   3.0989,  34.9538,2,-999.0000,9,   -999.0,9,  -999.00,9,  -999.00,9,  -999.00,9,  -999.00,9, -999.000,9, -999.000,9, -999.000, -999.000,9,-999.0000,9,  -999.00,9, -999.000,9,   2.8972
  06BE200011,  AR04,    11,  1,      7,      7,2,20001201,1426, -2.4178, -35.0035, 3955,   2800.5,   2.8142,  34.9330,2,  34.9307,2,    256.3,2,    28.12,2,    19.91,2,     0.00,9,     1.29,2, -999.000,9, -999.000,9,    0.064, -999.000,2,-999.0000,9,  -999.00,9,    7.974,2,   2.5879
  06BE200011,  AR04,    11,  1,      5,      5,2,20001201,1426, -2.4178, -35.0035, 3955,   3099.9,   2.6859,  34.9263,2,-999.0000,9,    259.8,2,    28.38,2,    19.28,2,     0.00,9,     1.26,2,    0.079,2,    0.045,2, -999.000, -999.000,9,-999.0000,9,  -999.00,9, -999.000,9,   2.4316
  06BE200011,  AR04,    11,  1,      6,      6,2,20001201,1426, -2.4178, -35.0035, 3955,   3100.2,   2.6868,  34.9262,2,-999.0000,9,    259.8,2,    28.11,2,    19.55,2,     0.00,9,     1.31,2,    0.059,2,    0.032,2, -999.000, -999.000,9,-999.0000,9,  -999.00,9, -999.000,9,   2.4324
  06BE200011,  AR04,    11,  1,      4,      4,2,20001201,1426, -2.4178, -35.0035, 3955,   3398.7,   2.5821,  34.9193,2,-999.0000,9,    261.5,2,    28.94,2,    19.14,2,     0.00,9,     1.27,2,    0.098,2,    0.056,2,    0.107, -999.000,2,-999.0000,9,  -999.00,9,    8.006,2,   2.2985
  06BE200011,  AR04,    11,  1,      3,      3,2,20001201,1426, -2.4178, -35.0035, 3955,   3598.0,   2.5212,  34.9143,2,  34.9109,2,    262.8,2,    29.09,2,    18.85,2,     0.00,9,     1.26,2,    0.145,2,    0.090,2, -999.000, -999.000,9,   1.8243,2,  -999.00,9, -999.000,9,   2.2175
  06BE200011,  AR04,    11,  1,      2,      2,2,20001201,1426, -2.4178, -35.0035, 3955,   3848.1,   2.1714,  34.8818,2,  34.8807,2,    260.7,2,    38.35,2,    20.25,2,     0.00,9,     1.35,2, -999.000,9, -999.000,9, -999.000, -999.000,9,-999.0000,9,  -999.00,9, -999.000,9,   1.8494
  06BE200011,  AR04,    11,  1,      1,      1,2,20001201,1426, -2.4178, -35.0035, 3955,   3952.0,   1.8426,  34.8423,2,  34.8409,2,    251.5,2,    55.59,2,    22.90,2,     0.00,9,     1.51,2, -999.000,9, -999.000,9,    0.060, -999.000,2,   1.8291,2,  -999.00,9,    7.847,2,   1.5183