BOTTLE,20111027CCHDOSIOCBG
EXPOCODE,SECT_ID,STNNBR,CASTNO,SAMPNO,BTLNBR,BTLNBR_FLAG_W,DATE,TIME,LATITUDE,LONGITUDE,DEPTH,CTDPRS,CTDTMP,CTDSAL,CTDSAL_FLAG_W,SALNTY,SALNTY_FLAG_W,OXYGEN,OXYGEN_FLAG_W,SILCAT,SILCAT_FLAG_W,NITRAT,NITRAT_FLAG_W,NITRIT,NITRIT_FLAG_W,PHSPHT,PHSPHT_FLAG_W,CFC-11,CFC-11_FLAG_W,CFC-12,CFC-12_FLAG_W,TRITUM,TRITER,TRITUM_FLAG_W,HELIUM,HELIUM_FLAG_W,DELHE3,DELHE3_FLAG_W,NEON,NEON_FLAG_W,THETA
,,,,,,,,,,,METERS,DBAR,ITS-90,PSS-78,,PSS-78,,UMOL/KG,,UMOL/KG,,UMOL/KG,,UMOL/KG,,UMOL/KG,,PMOL/KG,,PMOL/KG,,TU,TU,,NMOL/KG,,PERCNT,,NMOL/KG,,DEG C
  06BE200011,  AR04,    97,  1,     22,     22,2,20001220,0033, 15.7147, -55.9750, 5582,     23.5,  26.1501,  34.9595,2,  35.7554,2,    211.9,2,     2.22,2,     0.10,2,     0.00,9,     0.11,2,    1.549,2,    0.940,2, -999.000, -999.000,9,-999.0000,9,  -999.00,9, -999.000,9,  26.1448
  06BE200011,  AR04,    97,  1,     21,     21,2,20001220,0033, 15.7147, -55.9750, 5582,    900.7,   5.5401,  34.7352,2,-999.0000,9,    143.2,2,    26.08,2,    32.13,2,     0.07,2,     2.05,2,    0.061,2,    0.034,2, -999.000, -999.000,9,-999.0000,9,  -999.00,9, -999.000,9,   5.4617
  06BE200011,  AR04,    97,  1,     20,     20,2,20001220,0033, 15.7147, -55.9750, 5582,   1097.8,   5.4451,  34.9207,2,-999.0000,9,    177.2,2,    21.71,2,    26.59,2,     0.00,9,     1.77,2,    0.147,2,    0.077,2, -999.000, -999.000,9,-999.0000,9,  -999.00,9, -999.000,9,   5.3484
  06BE200011,  AR04,    97,  1,     19,     19,2,20001220,0033, 15.7147, -55.9750, 5582,   1296.4,   5.0831,  35.0082,2,  35.0043,2,    213.5,2,    17.59,2,    22.06,2,     0.00,9,     1.46,2,    0.326,2,    0.173,2, -999.000, -999.000,9,-999.0000,9,  -999.00,9,    7.771,2,   4.9705
  06BE200011,  AR04,    97,  1,     18,     18,2,20001220,0033, 15.7147, -55.9750, 5582,   1498.7,   4.5545,  35.0171,2,-999.0000,9,    241.4,2,    14.85,2,    19.13,2,     0.00,9,     1.29,2,    0.494,2,    0.255,2, -999.000, -999.000,9,-999.0000,9,  -999.00,9, -999.000,9,   4.4280
  06BE200011,  AR04,    97,  1,     17,     17,2,20001220,0033, 15.7147, -55.9750, 5582,   1699.0,   4.0357,  34.9976,2,-999.0000,9,    259.8,2,    13.70,2,    18.00,2,     0.01,2,     1.17,2,    0.624,2,    0.316,2, -999.000, -999.000,9,-999.0000,9,     4.83,2,    7.855,2,   3.8965
  06BE200011,  AR04,    97,  1,     16,     16,2,20001220,0033, 15.7147, -55.9750, 5582,   1897.2,   3.7259,  34.9839,2,  34.9823,2,    263.7,2,    14.90,2,    17.93,2,     0.07,2,     1.18,2,    0.541,2,    0.277,2, -999.000, -999.000,9,-999.0000,9,  -999.00,9,    7.784,2,   3.5722
  06BE200011,  AR04,    97,  1,     15,     15,2,20001220,0033, 15.7147, -55.9750, 5582,   2096.7,   3.5170,  34.9801,2,-999.0000,9,    263.2,2,    16.84,2,    17.87,2,     0.00,9,     1.19,2,    0.323,2,    0.169,2, -999.000, -999.000,9,-999.0000,9,  -999.00,9,    7.906,2,   3.3473
  06BE200011,  AR04,    97,  1,     14,     14,2,20001220,0033, 15.7147, -55.9750, 5582,   2296.2,   3.2852,  34.9702,2,-999.0000,9,    262.4,2,    19.30,2,    18.25,2,     0.01,2,     1.20,2,    0.191,2,    0.101,2, -999.000, -999.000,9,-999.0000,9,     2.61,2, -999.000,9,   3.1000
  06BE200011,  AR04,    97,  1,     13,     13,2,20001220,0033, 15.7147, -55.9750, 5582,   2497.7,   3.0894,  34.9592,2,-999.0000,9,   -999.0,9,  -999.00,9,  -999.00,9,  -999.00,9,  -999.00,9, -999.000,9, -999.000,9, -999.000, -999.000,9,   1.7777,2,     3.45,2, -999.000,9,   2.8879
  06BE200011,  AR04,    97,  1,     12,     12,2,20001220,0033, 15.7147, -55.9750, 5582,   2795.1,   2.8667,  34.9441,2,-999.0000,9,    262.8,2,    24.43,2,    18.81,2,     0.00,9,     1.26,2,    0.156,2,    0.080,2, -999.000, -999.000,9,   1.8292,2,     3.65,2,    7.957,2,   2.6398
  06BE200011,  AR04,    97,  1,     11,     11,2,20001220,0033, 15.7147, -55.9750, 5582,   2994.1,   2.7670,  34.9367,2,-999.0000,9,    262.4,2,    24.31,2,    18.67,2,     0.00,9,     1.24,2,    0.135,2,    0.070,2, -999.000, -999.000,9,   1.8083,2,     3.39,2,    7.920,2,   2.5218
  06BE200011,  AR04,    97,  1,     10,     10,2,20001220,0033, 15.7147, -55.9750, 5582,   3297.6,   2.6026,  34.9245,2,-999.0000,9,   -999.0,9,  -999.00,9,  -999.00,9,  -999.00,9,  -999.00,9, -999.000,9, -999.000,9, -999.000, -999.000,9,   1.8256,2,     3.70,2,    7.982,2,   2.3293
  06BE200011,  AR04,    97,  1,      9,      9,2,20001220,0033, 15.7147, -55.9750, 5582,   3600.0,   2.4693,  34.9154,2,-999.0000,9,   -999.0,9,  -999.00,9,  -999.00,9,  -999.00,9,  -999.00,9, -999.000,9, -999.000,9, -999.000, -999.000,9,-999.0000,9,     3.97,2, -999.000,9,   2.1667
  06BE200011,  AR04,    97,  1,      8,      8,2,20001220,0033, 15.7147, -55.9750, 5582,   3779.0,   2.4010,  34.9097,2,-999.0000,9,    267.6,2,    28.69,2,    18.61,2,     0.00,9,     1.25,2,    0.228,2,    0.119,2, -999.000, -999.000,9,-999.0000,9,  -999.00,9, -999.000,9,   2.0804
  06BE200011,  AR04,    97,  1,      7,      7,2,20001220,0033, 15.7147, -55.9750, 5582,   3996.8,   2.3390,  34.9044,2,-999.0000,9,    262.4,2,    29.88,2,    18.53,2,     0.01,2,     1.25,2,    0.220,2,    0.116,2, -999.000, -999.000,9,-999.0000,9,  -999.00,9, -999.000,9,   1.9955
  06BE200011,  AR04,    97,  1,      6,      6,2,20001220,0033, 15.7147, -55.9750, 5582,   4247.8,   2.2908,  34.8987,2,-999.0000,9,    266.8,2,    31.85,2,    18.80,2,     0.01,2,     1.27,2,    0.202,2,    0.108,2, -999.000, -999.000,9,-999.0000,9,  -999.00,9, -999.000,9,   1.9197
  06BE200011,  AR04,    97,  1,      5,      5,2,20001220,0033, 15.7147, -55.9750, 5582,   4501.7,   2.2579,  34.8925,2,  34.8899,2,    265.9,2,    34.29,2,    18.99,2,     0.00,9,     1.33,2,    0.190,2,    0.104,2, -999.000, -999.000,9,-999.0000,9,  -999.00,9, -999.000,9,   1.8578
  06BE200011,  AR04,    97,  1,      4,      4,2,20001220,0033, 15.7147, -55.9750, 5582,   4796.2,   2.1757,  34.8782,2,-999.0000,9,    258.5,2,    41.60,2,    20.13,2,     0.01,2,     1.40,2,    0.119,2,    0.069,2, -999.000, -999.000,9,-999.0000,9,  -999.00,9, -999.000,9,   1.7425
  06BE200011,  AR04,    97,  1,      3,      3,2,20001220,0033, 15.7147, -55.9750, 5582,   4997.7,   2.0779,  34.8626,2,  34.8605,2,    255.9,2,    48.75,2,    21.33,2,     0.01,2,     1.48,2,    0.075,2,    0.046,2, -999.000, -999.000,9,-999.0000,9,  -999.00,9, -999.000,9,   1.6231
  06BE200011,  AR04,    97,  1,      2,      2,2,20001220,0033, 15.7147, -55.9750, 5582,   5202.1,   1.9666,  34.8468,2,-999.0000,9,    251.1,2,    55.42,2,    22.58,2,     0.00,9,     1.57,2,    0.061,2,    0.037,2, -999.000, -999.000,9,-999.0000,9,  -999.00,9, -999.000,9,   1.4900
  06BE200011,  AR04,    97,  1,      1,      1,2,20001220,0033, 15.7147, -55.9750, 5582,   5579.7,   1.8880,  34.8309,2,  34.8315,2,    246.7,2,    62.28,2,    23.71,2,     0.01,2,     1.65,2,    0.059,2,    0.035,2, -999.000, -999.000,9,-999.0000,9,  -999.00,9, -999.000,9,   1.3657
  06BE200011,  AR04,    99,  1,     22,     22,2,20001220,0937, 15.8065, -56.4905, 5486,      8.2,  26.5282,  36.0146,2,  36.0234,2,    204.8,2,     2.19,2,     0.08,2,     0.01,2,     0.03,2,    1.571,2,    0.947,2, -999.000, -999.000,9,-999.0000,9,  -999.00,9, -999.000,9,  26.5263
  06BE200011,  AR04,    99,  1,     21,     21,2,20001220,0937, 15.8065, -56.4905, 5486,    999.3,   5.5425,  34.8483,2,  34.8570,2,    160.7,2,    23.25,2,    28.44,2,     0.01,2,     1.86,2,    0.103,2,    0.053,2, -999.000, -999.000,9,-999.0000,9,  -999.00,9, -999.000,9,   5.4546
  06BE200011,  AR04,    99,  1,     20,     20,2,20001220,0937, 15.8065, -56.4905, 5486,   1197.3,   5.2408,  34.9842,2,-999.0000,9,    200.4,2,    19.15,2,    23.42,2,     0.01,2,     1.57,2,    0.242,2,    0.124,2, -999.000, -999.000,9,-999.0000,9,  -999.00,9, -999.000,9,   5.1363
  06BE200011,  AR04,    99,  1,     19,     19,2,20001220,0937, 15.8065, -56.4905, 5486,   1397.1,   4.7171,  35.0239,2,-999.0000,9,    236.6,2,    15.24,2,    19.42,2,     0.00,9,     1.30,2,    0.541,2,    0.277,2, -999.000, -999.000,9,-999.0000,9,  -999.00,9, -999.000,9,   4.5985
  06BE200011,  AR04,    99,  1,     18,     18,2,20001220,0937, 15.8065, -56.4905, 5486,   1597.6,   4.1950,  35.0051,2,  35.0019,2,    256.3,2,    13.65,2,    18.05,2,     0.01,2,     1.21,2,    0.713,2,    0.359,2, -999.000, -999.000,9,-999.0000,9,  -999.00,9, -999.000,9,   4.0634
  06BE200011,  AR04,    99,  1,     17,     17,2,20001220,0937, 15.8065, -56.4905, 5486,   1797.1,   3.8624,  34.9922,2,-999.0000,9,    261.1,2,    14.79,2,    17.90,2,     0.01,2,     1.22,2,    0.457,2,    0.238,2, -999.000, -999.000,9,-999.0000,9,  -999.00,9,    7.971,2,   3.7163
  06BE200011,  AR04,    99,  1,     16,     16,2,20001220,0937, 15.8065, -56.4905, 5486,   1998.3,   3.6119,  34.9839,2,-999.0000,9,    262.8,2,    16.30,2,    18.03,2,     0.01,2,     1.21,2,    0.343,2,    0.177,2, -999.000, -999.000,9,-999.0000,9,  -999.00,9, -999.000,9,   3.4502
  06BE200011,  AR04,    99,  1,     15,     15,2,20001220,0937, 15.8065, -56.4905, 5486,   2197.1,   3.4069,  34.9735,2,-999.0000,9,    264.6,2,    17.43,2,    17.69,2,     0.01,2,     1.21,2,    0.365,2,    0.188,2, -999.000, -999.000,9,-999.0000,9,  -999.00,9, -999.000,9,   3.2293
  06BE200011,  AR04,    99,  1,     14,     14,2,20001220,0937, 15.8065, -56.4905, 5486,   2397.4,   3.2553,  34.9670,2,-999.0000,9,    264.6,2,    19.07,2,    17.91,2,     0.01,2,     1.23,2,    0.254,2,    0.130,2, -999.000, -999.000,9,   1.7912,2,  -999.00,9,    7.919,2,   3.0607
  06BE200011,  AR04,    99,  1,     13,     13,2,20001220,0937, 15.8065, -56.4905, 5486,   2699.0,   3.0268,  34.9533,2,-999.0000,9,    256.7,4,    21.03,2,    18.29,2,     0.01,2,     1.23,2,    0.273,2,    0.137,2, -999.000, -999.000,9,   1.8174,2,     2.86,2,    7.973,2,   2.8064
  06BE200011,  AR04,    99,  1,     12,     12,2,20001220,0937, 15.8065, -56.4905, 5486,   2998.1,   2.8303,  34.9405,2,-999.0000,9,    265.0,2,    23.97,2,    18.40,2,     0.02,2,     1.26,2,    0.234,2,    0.118,2, -999.000, -999.000,9,   1.8231,2,     3.72,2,    7.981,2,   2.5833
  06BE200011,  AR04,    99,  1,     11,     11,2,20001220,0937, 15.8065, -56.4905, 5486,   3298.8,   2.6576,  34.9284,2,-999.0000,9,    265.4,2,    26.35,2,    18.47,2,     0.02,2,     1.26,2,    0.231,2,    0.118,2, -999.000, -999.000,9,   1.8343,2,     1.88,2,    7.951,2,   2.3829
  06BE200011,  AR04,    99,  1,     10,     10,2,20001220,0937, 15.8065, -56.4905, 5486,   3500.4,   2.5398,  34.9202,2,-999.0000,9,   -999.0,9,  -999.00,9,  -999.00,9,  -999.00,9,  -999.00,9, -999.000,9, -999.000,9, -999.000, -999.000,9,-999.0000,9,     3.71,2,    7.957,2,   2.2462
  06BE200011,  AR04,    99,  1,      9,      9,2,20001220,0937, 15.8065, -56.4905, 5486,   3696.1,   2.4515,  34.9136,2,-999.0000,9,    267.6,2,    28.03,2,    18.33,2,     0.02,2,     1.26,2,    0.249,2,    0.127,2, -999.000, -999.000,9,-999.0000,9,  -999.00,9,    7.948,2,   2.1387
  06BE200011,  AR04,    99,  1,      8,      8,2,20001220,0937, 15.8065, -56.4905, 5486,   3897.6,   2.3763,  34.9080,2,-999.0000,9,   -999.0,9,  -999.00,9,  -999.00,9,  -999.00,9,  -999.00,9, -999.000,9, -999.000,9, -999.000, -999.000,9,-999.0000,9,  -999.00,9, -999.000,9,   2.0430
  06BE200011,  AR04,    99,  1,      7,      7,2,20001220,0937, 15.8065, -56.4905, 5486,   4081.7,   2.3357,  34.9041,2,-999.0000,9,    269.8,2,    28.92,2,    18.21,2,     0.01,2,     1.26,2,    0.310,2,    0.159,2, -999.000, -999.000,9,   1.8458,2,  -999.00,9, -999.000,9,   1.9826
  06BE200011,  AR04,    99,  1,      6,      6,2,20001220,0937, 15.8065, -56.4905, 5486,   4297.6,   2.3017,  34.8996,2,  34.8964,2,    268.1,2,    30.56,2,    18.50,2,     0.01,2,     1.28,2,    0.287,2,    0.150,2, -999.000, -999.000,9,-999.0000,9,  -999.00,9, -999.000,9,   1.9245
  06BE200011,  AR04,    99,  1,      5,      5,2,20001220,0937, 15.8065, -56.4905, 5486,   4598.6,   2.2544,  34.8907,2,-999.0000,9,    265.0,2,    35.42,2,    19.43,2,     0.01,2,     1.33,2,    0.175,2,    0.096,2, -999.000, -999.000,9,-999.0000,9,  -999.00,9, -999.000,9,   1.8427
  06BE200011,  AR04,    99,  1,      4,      4,2,20001220,0937, 15.8065, -56.4905, 5486,   4896.3,   2.1422,  34.8723,2,  34.8686,2,    258.0,2,    44.73,2,    20.90,2,     0.01,2,     1.45,2,    0.093,2,    0.054,2, -999.000, -999.000,9,-999.0000,9,  -999.00,9, -999.000,9,   1.6978
  06BE200011,  AR04,    99,  1,      3,      3,2,20001220,0937, 15.8065, -56.4905, 5486,   5197.3,   1.9683,  34.8470,2,-999.0000,9,    251.5,2,    55.52,2,    22.63,2,     0.02,2,     1.59,2,    0.062,2,    0.038,2, -999.000, -999.000,9,-999.0000,9,  -999.00,9, -999.000,9,   1.4922
  06BE200011,  AR04,    99,  1,      2,      2,2,20001220,0937, 15.8065, -56.4905, 5486,   5298.3,   1.9179,  34.8394,2,  34.8371,2,    258.1,2,    58.62,2,    23.12,2,     0.02,2,     1.62,2,    0.060,2,    0.035,2, -999.000, -999.000,9,-999.0000,9,  -999.00,9, -999.000,9,   1.4308
  06BE200011,  AR04,    99,  1,      1,      1,2,20001220,0937, 15.8065, -56.4905, 5486,   5482.9,   1.8830,  34.8321,2,-999.0000,9,    248.0,2,    61.61,2,    23.75,2,     0.01,2,     1.65,2,    0.060,2,    0.036,2, -999.000, -999.000,9,-999.0000,9,  -999.00,9, -999.000,9,   1.3734
  06BE200011,  AR04,   100,  1,     22,     22,2,20001220,1411, 15.8505, -56.7402, 4998,     10.8,  26.6643,  35.9608,2,-999.0000,9,   -999.0,9,  -999.00,9,  -999.00,9,  -999.00,9,  -999.00,9, -999.000,9, -999.000,9, -999.000, -999.000,9,-999.0000,9,  -999.00,9, -999.000,9,  26.6618
  06BE200011,  AR04,   100,  1,     13,     13,2,20001220,1411, 15.8505, -56.7402, 4998,     11.0,  26.6668,  35.9610,2,-999.0000,9,   -999.0,9,  -999.00,9,  -999.00,9,  -999.00,9,  -999.00,9, -999.000,9, -999.000,9, -999.000, -999.000,9,   1.8055,2,     2.78,2,    7.777,2,  26.6643
  06BE200011,  AR04,   100,  1,     16,     16,2,20001220,1411, 15.8505, -56.7402, 4998,     11.0,  26.6687,  35.9610,2,-999.0000,9,   -999.0,9,  -999.00,9,  -999.00,9,  -999.00,9,  -999.00,9, -999.000,9, -999.000,9, -999.000, -999.000,9,-999.0000,9,  -999.00,9, -999.000,9,  26.6662
  06BE200011,  AR04,   100,  1,     17,     17,2,20001220,1411, 15.8505, -56.7402, 4998,     11.0,  26.6686,  35.9608,2,-999.0000,9,   -999.0,9,  -999.00,9,  -999.00,9,  -999.00,9,  -999.00,9, -999.000,9, -999.000,9, -999.000, -999.000,9,-999.0000,9,  -999.00,9, -999.000,9,  26.6661
  06BE200011,  AR04,   100,  1,     20,     20,2,20001220,1411, 15.8505, -56.7402, 4998,     11.0,  26.6691,  35.9607,2,-999.0000,9,   -999.0,9,  -999.00,9,  -999.00,9,  -999.00,9,  -999.00,9, -999.000,9, -999.000,9, -999.000, -999.000,9,-999.0000,9,  -999.00,9, -999.000,9,  26.6666
  06BE200011,  AR04,   100,  1,     14,     14,2,20001220,1411, 15.8505, -56.7402, 4998,     11.1,  26.6679,  35.9611,2,-999.0000,9,   -999.0,9,  -999.00,9,  -999.00,9,  -999.00,9,  -999.00,9, -999.000,9, -999.000,9, -999.000, -999.000,9,   1.8281,2,     2.72,2, -999.000,9,  26.6654
  06BE200011,  AR04,   100,  1,     19,     19,2,20001220,1411, 15.8505, -56.7402, 4998,     11.1,  26.6685,  35.9607,2,-999.0000,9,   -999.0,9,  -999.00,9,  -999.00,9,  -999.00,9,  -999.00,9, -999.000,9, -999.000,9, -999.000, -999.000,9,-999.0000,9,  -999.00,9, -999.000,9,  26.6660
  06BE200011,  AR04,   100,  1,     21,     21,2,20001220,1411, 15.8505, -56.7402, 4998,     11.1,  26.6687,  35.9608,2,-999.0000,9,   -999.0,9,  -999.00,9,  -999.00,9,  -999.00,9,  -999.00,9, -999.000,9, -999.000,9, -999.000, -999.000,9,-999.0000,9,  -999.00,9, -999.000,9,  26.6662
  06BE200011,  AR04,   100,  1,     11,     11,2,20001220,1411, 15.8505, -56.7402, 4998,     11.2,  26.6685,  35.9611,2,-999.0000,9,   -999.0,9,  -999.00,9,  -999.00,9,  -999.00,9,  -999.00,9,    1.544,2,    0.942,2, -999.000, -999.000,9,   1.8158,2,     3.39,2,    7.922,2,  26.6659
  06BE200011,  AR04,   100,  1,     15,     15,2,20001220,1411, 15.8505, -56.7402, 4998,     11.2,  26.6689,  35.9610,2,-999.0000,9,   -999.0,9,  -999.00,9,  -999.00,9,  -999.00,9,  -999.00,9, -999.000,9, -999.000,9, -999.000, -999.000,9,   1.8192,2,  -999.00,9, -999.000,9,  26.6663
  06BE200011,  AR04,   100,  1,     18,     18,2,20001220,1411, 15.8505, -56.7402, 4998,     11.2,  26.6689,  35.9609,2,-999.0000,9,   -999.0,9,  -999.00,9,  -999.00,9,  -999.00,9,  -999.00,9, -999.000,9, -999.000,9, -999.000, -999.000,9,-999.0000,9,  -999.00,9, -999.000,9,  26.6663
  06BE200011,  AR04,   100,  1,     12,     12,2,20001220,1411, 15.8505, -56.7402, 4998,     11.4,  26.6689,  35.9611,2,-999.0000,9,   -999.0,9,  -999.00,9,  -999.00,9,  -999.00,9,  -999.00,9, -999.000,9, -999.000,9, -999.000, -999.000,9,   1.7961,2,     3.34,2,    7.980,2,  26.6663
  06BE200011,  AR04,   100,  1,     10,     10,2,20001220,1411, 15.8505, -56.7402, 4998,   2000.5,   3.6351,  34.9855,2,-999.0000,9,   -999.0,9,  -999.00,9,  -999.00,9,  -999.00,9,  -999.00,9, -999.000,9, -999.000,9, -999.000, -999.000,9,-999.0000,9,  -999.00,9,    8.022,2,   3.4729
  06BE200011,  AR04,   100,  1,      9,      9,2,20001220,1411, 15.8505, -56.7402, 4998,   2496.9,   3.1958,  34.9639,2,-999.0000,9,   -999.0,9,  -999.00,9,  -999.00,9,  -999.00,9,  -999.00,9, -999.000,9, -999.000,9, -999.000, -999.000,9,-999.0000,9,  -999.00,9, -999.000,9,   2.9925
  06BE200011,  AR04,   100,  1,      8,      8,2,20001220,1411, 15.8505, -56.7402, 4998,   2699.0,   3.0465,  34.9549,2,-999.0000,9,   -999.0,9,  -999.00,9,  -999.00,9,  -999.00,9,  -999.00,9, -999.000,9, -999.000,9, -999.000, -999.000,9,-999.0000,9,  -999.00,9, -999.000,9,   2.8257
  06BE200011,  AR04,   100,  1,      7,      7,2,20001220,1411, 15.8505, -56.7402, 4998,   2896.5,   2.8918,  34.9450,2,-999.0000,9,   -999.0,9,    18.73,2,    17.61,2,     0.01,2,     1.16,2,    0.210,2,    0.110,2, -999.000, -999.000,9,-999.0000,9,     4.17,2, -999.000,9,   2.6540
  06BE200011,  AR04,   100,  1,      6,      6,2,20001220,1411, 15.8505, -56.7402, 4998,   3098.4,   2.7539,  34.9356,2,-999.0000,9,   -999.0,9,    24.41,2,    18.13,2,     0.01,2,     1.21,2,    0.244,2,    0.123,2, -999.000, -999.000,9,-999.0000,9,  -999.00,9, -999.000,9,   2.4982
  06BE200011,  AR04,   100,  1,      5,      5,2,20001220,1411, 15.8505, -56.7402, 4998,   3299.6,   2.6130,  34.9259,2,-999.0000,9,   -999.0,9,    25.41,2,    18.18,2,     0.01,2,     1.24,2,    0.303,2,    0.153,2, -999.000, -999.000,9,-999.0000,9,  -999.00,9, -999.000,9,   2.3393
  06BE200011,  AR04,   100,  1,      4,      4,2,20001220,1411, 15.8505, -56.7402, 4998,   3497.8,   2.4962,  34.9181,2,-999.0000,9,   -999.0,9,    25.99,2,    17.91,2,     0.00,9,     1.23,2,    0.325,2,    0.167,2, -999.000, -999.000,9,-999.0000,9,  -999.00,9, -999.000,9,   2.2040
  06BE200011,  AR04,   100,  1,      3,      3,2,20001220,1411, 15.8505, -56.7402, 4998,   3697.8,   2.4149,  34.9116,2,-999.0000,9,   -999.0,9,    26.75,2,    17.88,2,     0.01,2,     1.23,2,    0.343,2,    0.176,2, -999.000, -999.000,9,-999.0000,9,  -999.00,9, -999.000,9,   2.1029
  06BE200011,  AR04,   100,  1,      2,      2,2,20001220,1411, 15.8505, -56.7402, 4998,   3899.4,   2.3527,  34.9065,2,-999.0000,9,   -999.0,9,  -999.00,9,  -999.00,9,  -999.00,9,  -999.00,9, -999.000,9, -999.000,9, -999.000, -999.000,9,-999.0000,9,  -999.00,9, -999.000,9,   2.0199
  06BE200011,  AR04,   100,  1,      1,      1,2,20001220,1411, 15.8505, -56.7402, 4998,   4096.2,   2.3163,  34.9023,2,-999.0000,9,   -999.0,9,    29.74,2,    18.15,2,     0.02,2,     1.26,2,    0.277,2,    0.146,2, -999.000, -999.000,9,-999.0000,9,  -999.00,9, -999.000,9,   1.9621