BOTTLE,20111027CCHDOSIOCBG
EXPOCODE,SECT_ID,STNNBR,CASTNO,SAMPNO,BTLNBR,BTLNBR_FLAG_W,DATE,TIME,LATITUDE,LONGITUDE,DEPTH,CTDPRS,CTDTMP,CTDSAL,CTDSAL_FLAG_W,SALNTY,SALNTY_FLAG_W,OXYGEN,OXYGEN_FLAG_W,SILCAT,SILCAT_FLAG_W,NITRAT,NITRAT_FLAG_W,NITRIT,NITRIT_FLAG_W,PHSPHT,PHSPHT_FLAG_W,CFC-11,CFC-11_FLAG_W,CFC-12,CFC-12_FLAG_W,TRITUM,TRITER,TRITUM_FLAG_W,HELIUM,HELIUM_FLAG_W,DELHE3,DELHE3_FLAG_W,NEON,NEON_FLAG_W,THETA
,,,,,,,,,,,METERS,DBAR,ITS-90,PSS-78,,PSS-78,,UMOL/KG,,UMOL/KG,,UMOL/KG,,UMOL/KG,,UMOL/KG,,PMOL/KG,,PMOL/KG,,TU,TU,,NMOL/KG,,PERCNT,,NMOL/KG,,DEG C
  06BE200011,  AR04,    72,  1,     22,     22,2,20001215,0304, 14.7447, -45.9743, 3765,     11.0,  25.8374,  35.9566,2,  35.9557,2,    207.4,2,     2.17,2,     1.35,2,     0.00,9,     0.08,2,    1.590,2,    0.962,2,    0.697, -999.000,2,-999.0000,9,  -999.00,9, -999.000,9,  25.8350
  06BE200011,  AR04,    72,  1,     21,     21,2,20001215,0304, 14.7447, -45.9743, 3765,    200.0,  17.0110,  36.3344,2,  36.3336,2,    132.5,2,     4.11,2,    13.40,2,     0.01,2,     0.67,2,    1.823,2,    1.008,2,    0.028, -999.000,2,-999.0000,9,     1.56,2,    7.716,2,  16.9777
  06BE200011,  AR04,    72,  1,     20,     20,2,20001215,0304, 14.7447, -45.9743, 3765,    797.7,   6.4635,  34.7869,2,  34.7769,2,    115.2,2,    22.91,2,    33.11,2,     0.00,9,     2.13,2,    0.043,2,    0.025,2, -999.000, -999.000,9,-999.0000,9,     1.56,2,    7.828,2,   6.3890
  06BE200011,  AR04,    72,  1,     19,     19,2,20001215,0304, 14.7447, -45.9743, 3765,    997.5,   5.5979,  34.8243,2,-999.0000,9,   -999.0,9,  -999.00,9,  -999.00,9,  -999.00,9,  -999.00,9, -999.000,9, -999.000,9, -999.000, -999.000,9,-999.0000,9,  -999.00,9,    7.920,2,   5.5098
  06BE200011,  AR04,    72,  1,     18,     18,2,20001215,0304, 14.7447, -45.9743, 3765,   1148.1,   5.2715,  34.9100,2,  34.9081,2,    167.6,2,    21.91,2,    27.56,2,     0.00,9,     1.84,2,    0.026,2,    0.013,2,    0.084,    0.002,2,   1.7829,2,     2.41,2,    7.751,2,   5.1715
  06BE200011,  AR04,    72,  1,     17,     17,2,20001215,0304, 14.7447, -45.9743, 3765,   1296.4,   5.0095,  34.9665,2,-999.0000,9,    191.7,2,    20.01,2,    24.87,2,     0.00,9,     1.65,2,    0.041,2,    0.023,2,    0.073,    0.003,2,   1.7961,2,     2.87,2,    7.835,2,   4.8977
  06BE200011,  AR04,    72,  1,     16,     16,2,20001215,0304, 14.7447, -45.9743, 3765,   1547.9,   4.3790,  34.9970,2,-999.0000,9,    229.6,2,    17.97,2,    20.96,2,     0.01,2,     1.38,2,    0.077,2,    0.044,2,    0.065, -999.000,2,   1.7929,2,     2.57,2,    7.864,2,   4.2499
  06BE200011,  AR04,    72,  1,     15,     15,2,20001215,0304, 14.7447, -45.9743, 3765,   1698.3,   4.0235,  34.9940,2,-999.0000,9,    239.2,2,    18.76,2,    20.45,2,     0.00,9,     1.34,2,    0.045,2,    0.024,2, -999.000,    0.003,9,   1.8040,2,     3.80,2,    7.875,2,   3.8846
  06BE200011,  AR04,    72,  1,     14,     14,2,20001215,0304, 14.7447, -45.9743, 3765,   1847.0,   3.7873,  34.9869,2,-999.0000,9,    245.8,2,    19.37,2,    19.97,2,     0.00,9,     1.31,2, -999.000,9, -999.000,9,    0.030, -999.000,2,   1.8288,2,     3.26,2,    7.909,2,   3.6375
  06BE200011,  AR04,    72,  1,     13,     13,2,20001215,0304, 14.7447, -45.9743, 3765,   1999.4,   3.5124,  34.9773,2,-999.0000,9,    251.0,2,    21.33,2,    19.52,2,     0.01,2,     1.29,2,    0.028,2,    0.014,2,    0.024, -999.000,2,   1.8291,2,     3.43,2, -999.000,9,   3.3521
  06BE200011,  AR04,    72,  1,     12,     12,2,20001215,0304, 14.7447, -45.9743, 3765,   2301.3,   3.1744,  34.9618,2,-999.0000,9,    252.8,2,    25.35,2,    19.62,2,     0.01,2,     1.30,2,    0.022,2,    0.012,2, -999.000, -999.000,9,   1.8299,2,     4.31,2,    7.934,2,   2.9906
  06BE200011,  AR04,    72,  1,     11,     11,2,20001215,0304, 14.7447, -45.9743, 3765,   2593.9,   2.8834,  34.9456,2,-999.0000,9,   -999.0,9,    31.23,2,    20.24,2,     0.00,9,     1.35,2, -999.000,9, -999.000,9, -999.000, -999.000,9,-999.0000,9,  -999.00,9, -999.000,9,   2.6763
  06BE200011,  AR04,    72,  1,     10,     10,2,20001215,0304, 14.7447, -45.9743, 3765,   2598.1,   2.8823,  34.9454,2,-999.0000,9,    251.5,2,    31.44,2,    20.13,2,     0.01,2,     1.34,2,    0.013,2,    0.009,2, -999.000, -999.000,9,   1.8251,2,     4.63,2, -999.000,9,   2.6748
  06BE200011,  AR04,    72,  1,      8,      8,2,20001215,0304, 14.7447, -45.9743, 3765,   2899.4,   2.6899,  34.9298,2,  34.9254,2,    251.5,2,    34.69,2,    20.50,2,     0.00,9,     1.38,2,    0.013,2,    0.008,2,    0.022,    0.001,2,   1.8305,2,     4.29,2,    7.827,2,   2.4562
  06BE200011,  AR04,    72,  1,      9,      9,2,20001215,0304, 14.7447, -45.9743, 3765,   2901.4,   2.6902,  34.9299,2,-999.0000,9,   -999.0,9,    34.90,2,    20.55,2,     0.00,9,     1.38,2, -999.000,9, -999.000,9, -999.000, -999.000,9,   1.8305,2,  -999.00,9, -999.000,9,   2.4562
  06BE200011,  AR04,    72,  1,      7,      7,2,20001215,0304, 14.7447, -45.9743, 3765,   3192.6,   2.6076,  34.9220,2,-999.0000,9,   -999.0,9,    36.67,2,    20.70,2,     0.00,9,     1.39,2, -999.000,9, -999.000,9, -999.000, -999.000,9,-999.0000,9,  -999.00,9, -999.000,9,   2.3454
  06BE200011,  AR04,    72,  1,      6,      6,2,20001215,0304, 14.7447, -45.9743, 3765,   3198.5,   2.6073,  34.9220,2,-999.0000,9,    251.5,2,    37.17,2,    20.62,2,     0.01,2,     1.39,2,    0.012,2,    0.008,2, -999.000,    0.003,9,   1.8177,2,     4.35,2, -999.000,9,   2.3444
  06BE200011,  AR04,    72,  1,      5,      5,2,20001215,0304, 14.7447, -45.9743, 3765,   3396.9,   2.5832,  34.9183,2,-999.0000,9,   -999.0,9,    37.84,2,    20.76,2,     0.00,9,     1.41,2, -999.000,9, -999.000,9, -999.000, -999.000,9,-999.0000,9,  -999.00,9, -999.000,9,   2.2998
  06BE200011,  AR04,    72,  1,      4,      4,2,20001215,0304, 14.7447, -45.9743, 3765,   3501.4,   2.5521,  34.9144,2,-999.0000,9,    251.1,2,    38.49,2,    20.71,2,     0.00,9,     1.41,2,    0.014,2,    0.009,2,    0.018, -999.000,2,   1.8004,2,     5.61,2, -999.000,9,   2.2582
  06BE200011,  AR04,    72,  1,      3,      3,2,20001215,0304, 14.7447, -45.9743, 3765,   3570.0,   2.5130,  34.9099,2,-999.0000,9,   -999.0,9,    39.38,2,    20.69,2,     0.00,9,     1.41,2, -999.000,9, -999.000,9, -999.000, -999.000,9,-999.0000,9,  -999.00,9, -999.000,9,   2.2126
  06BE200011,  AR04,    72,  1,      1,      1,2,20001215,0304, 14.7447, -45.9743, 3765,   3762.0,   2.4951,  34.9065,2,-999.0000,9,   -999.0,9,    40.28,2,    20.75,2,     0.01,2,     1.41,2, -999.000,9, -999.000,9, -999.000, -999.000,9,-999.0000,9,  -999.00,9, -999.000,9,   2.1739
  06BE200011,  AR04,    72,  1,      2,      2,2,20001215,0304, 14.7447, -45.9743, 3765,   3762.2,   2.4949,  34.9066,2,  34.9014,2,    251.9,2,    40.29,2,    21.02,2,     0.00,9,     1.40,2,    0.016,2,    0.010,2,    0.018, -999.000,2,   1.8049,2,     5.28,2, -999.000,9,   2.1737
  06BE200011,  AR04,    73,  1,     22,     22,2,20001216,0850, 14.7973, -46.6998, 3396,     11.3,  26.0004,  36.5343,2,-999.0000,9,    203.9,2,     1.05,2,     0.04,2,     0.00,9,     0.03,2,    1.565,2,    0.936,2, -999.000,    0.017,9,-999.0000,9,  -999.00,9, -999.000,9,  25.9979
  06BE200011,  AR04,    73,  1,     21,     21,2,20001216,0850, 14.7973, -46.6998, 3396,    699.9,   7.0639,  34.8242,2,  34.8150,2,    110.9,2,    21.33,2,    32.91,2,     0.01,2,     2.09,2,    0.102,2,    0.057,2, -999.000,    0.002,9,-999.0000,9,  -999.00,9,    7.754,2,   6.9958
  06BE200011,  AR04,    73,  1,     20,     20,2,20001216,0850, 14.7973, -46.6998, 3396,    897.4,   5.9680,  34.7681,2,-999.0000,9,    126.2,2,    24.65,2,    33.39,2,     0.00,9,     2.15,2,    0.026,2,    0.013,2,    0.047, -999.000,2,-999.0000,9,  -999.00,9,    7.766,2,   5.8869
  06BE200011,  AR04,    73,  1,     19,     19,2,20001216,0850, 14.7973, -46.6998, 3396,   1097.8,   5.4058,  34.8702,2,-999.0000,9,   -999.0,9,    23.21,2,    29.31,2,     0.00,9,     1.93,2,    0.029,2,    0.015,2, -999.000, -999.000,9,   1.7888,2,  -999.00,9, -999.000,9,   5.3096
  06BE200011,  AR04,    73,  1,     18,     18,2,20001216,0850, 14.7973, -46.6998, 3396,   1296.1,   4.9908,  34.9657,2,  34.9608,2,    195.1,2,    19.81,2,    24.58,2,     0.01,2,     1.60,2,    0.064,2,    0.032,2,    0.037,    0.044,2,   1.8184,2,     1.56,2,    7.783,2,   4.8792
  06BE200011,  AR04,    73,  1,     17,     17,2,20001216,0850, 14.7973, -46.6998, 3396,   1502.9,   4.5056,  34.9965,2,-999.0000,9,    221.8,2,    18.13,2,    21.85,2,     0.00,9,     1.40,2,    0.078,2,    0.042,2, -999.000,    0.023,9,   1.8069,2,     2.16,2,    7.800,2,   4.3793
  06BE200011,  AR04,    73,  1,     16,     16,2,20001216,0850, 14.7973, -46.6998, 3396,   1600.4,   4.2709,  34.9980,2,-999.0000,9,    233.1,2,    18.03,2,    20.63,2,     0.00,9,     1.35,2,    0.079,2,    0.041,2,    0.090,    0.003,2,   1.7886,2,     2.13,2,    7.827,2,   4.1381
  06BE200011,  AR04,    73,  1,     15,     15,2,20001216,0850, 14.7973, -46.6998, 3396,   1799.5,   3.8255,  34.9911,2,-999.0000,9,    250.2,2,    18.35,2,    19.13,2,     0.01,2,     1.26,2,    0.088,2,    0.046,2, -999.000, -999.000,9,   1.8393,2,     2.95,2,    7.853,2,   3.6796
  06BE200011,  AR04,    73,  1,     14,     14,2,20001216,0850, 14.7973, -46.6998, 3396,   2008.2,   3.4611,  34.9789,2,-999.0000,9,    253.7,2,    21.20,2,    19.06,2,     0.01,2,     1.26,2,    0.045,2,    0.025,2, -999.000,    0.002,9,-999.0000,9,     2.48,2,    7.881,2,   3.3007
  06BE200011,  AR04,    73,  1,     13,     13,2,20001216,0850, 14.7973, -46.6998, 3396,   2400.0,   3.0030,  34.9520,2,-999.0000,9,    253.7,2,    28.39,2,    19.70,2,     0.00,9,     1.30,2,    0.021,2,    0.011,2,    0.036,    0.001,2,   1.8067,2,     2.92,2,    7.947,2,   2.8127
  06BE200011,  AR04,    73,  1,     12,     12,2,20001216,0850, 14.7973, -46.6998, 3396,   2601.4,   2.8655,  34.9423,2,  34.9368,2,    252.3,2,    31.13,2,    20.20,2,     0.01,2,     1.33,2,    0.017,2,    0.010,2,    0.026, -999.000,2,   1.8266,2,     4.71,2,    8.017,2,   2.6581
  06BE200011,  AR04,    73,  1,     11,     11,2,20001216,0850, 14.7973, -46.6998, 3396,   2601.5,   2.8659,  34.9424,2,-999.0000,9,   -999.0,9,  -999.00,9,  -999.00,9,  -999.00,9,  -999.00,9, -999.000,9, -999.000,9, -999.000, -999.000,9,-999.0000,9,  -999.00,9, -999.000,9,   2.6584
  06BE200011,  AR04,    73,  1,     10,     10,2,20001216,0850, 14.7973, -46.6998, 3396,   2797.3,   2.7698,  34.9353,2,-999.0000,9,    251.9,2,    33.45,2,    20.43,2,     0.01,2,     1.35,2,    0.013,2,    0.007,2, -999.000, -999.000,9,   1.8109,2,    10.29,2,    7.970,2,   2.5447
  06BE200011,  AR04,    73,  1,      9,      9,2,20001216,0850, 14.7973, -46.6998, 3396,   2799.9,   2.7687,  34.9353,2,-999.0000,9,   -999.0,9,  -999.00,9,  -999.00,9,  -999.00,9,  -999.00,9, -999.000,9, -999.000,9, -999.000, -999.000,9,-999.0000,9,     7.35,2, -999.000,9,   2.5434
  06BE200011,  AR04,    73,  1,      7,      7,2,20001216,0850, 14.7973, -46.6998, 3396,   3002.8,   2.7294,  34.9325,2,-999.0000,9,   -999.0,9,  -999.00,9,  -999.00,9,  -999.00,9,  -999.00,9, -999.000,9, -999.000,9, -999.000, -999.000,9,-999.0000,9,  -999.00,9, -999.000,9,   2.4842
  06BE200011,  AR04,    73,  1,      8,      8,2,20001216,0850, 14.7973, -46.6998, 3396,   3002.8,   2.7298,  34.9325,2,-999.0000,9,    251.5,2,    34.87,2,    20.51,2,     0.01,2,     1.36,2,    0.012,2,    0.007,2,    0.020,    0.002,2,   1.8132,2,     7.35,2,    7.907,2,   2.4846
  06BE200011,  AR04,    73,  1,      6,      6,2,20001216,0850, 14.7973, -46.6998, 3396,   3195.7,   2.6459,  34.9238,2,  34.9172,2,    251.9,2,    36.46,2,    20.94,2,     0.00,9,     1.38,2,    0.013,2,    0.010,2,    0.018, -999.000,2,   1.7910,2,     5.24,2,    7.981,2,   2.3825
  06BE200011,  AR04,    73,  1,      5,      5,2,20001216,0850, 14.7973, -46.6998, 3396,   3198.9,   2.6346,  34.9231,2,-999.0000,9,   -999.0,9,  -999.00,9,  -999.00,9,  -999.00,9,  -999.00,9, -999.000,9, -999.000,9, -999.000, -999.000,9,-999.0000,9,  -999.00,9, -999.000,9,   2.3711
  06BE200011,  AR04,    73,  1,      4,      4,2,20001216,0850, 14.7973, -46.6998, 3396,   3303.9,   2.5797,  34.9182,2,-999.0000,9,    251.1,2,    38.34,2,    20.69,2,     0.01,2,     1.40,2,    0.013,2,    0.009,2,    0.022,    0.018,2,   1.8283,2,     7.12,2,    8.046,2,   2.3063
  06BE200011,  AR04,    73,  1,      3,      3,2,20001216,0850, 14.7973, -46.6998, 3396,   3304.2,   2.5783,  34.9182,2,-999.0000,9,   -999.0,9,  -999.00,9,  -999.00,9,  -999.00,9,  -999.00,9, -999.000,9, -999.000,9, -999.000, -999.000,9,-999.0000,9,  -999.00,9, -999.000,9,   2.3049
  06BE200011,  AR04,    73,  1,      1,      1,2,20001216,0850, 14.7973, -46.6998, 3396,   3393.4,   2.5705,  34.9169,2,-999.0000,9,   -999.0,9,  -999.00,9,  -999.00,9,  -999.00,9,  -999.00,9, -999.000,9, -999.000,9, -999.000, -999.000,9,-999.0000,9,  -999.00,9, -999.000,9,   2.2878
  06BE200011,  AR04,    73,  1,      2,      2,2,20001216,0850, 14.7973, -46.6998, 3396,   3394.4,   2.5711,  34.9169,2,-999.0000,9,    252.4,2,  -999.00,9,  -999.00,9,  -999.00,9,  -999.00,9,    0.014,2,    0.009,2,    0.026,    0.001,2,   1.7742,2,     6.64,2,    7.893,2,   2.2883
  06BE200011,  AR04,    74,  1,     22,     22,2,20001216,1426, 14.8937, -47.4457, 3598,     10.4,  26.0627,  36.3194,2,-999.0000,9,    204.3,2,     1.85,2,     0.14,2,     0.00,9,     0.01,2,    1.609,2,    0.958,2, -999.000, -999.000,9,   1.6896,2,  -999.00,9, -999.000,9,  26.0604
  06BE200011,  AR04,    74,  1,     21,     21,2,20001216,1426, 14.8937, -47.4457, 3598,    100.9,  23.2117,  37.0385,2,-999.0000,9,   -999.0,9,     1.06,2,     0.15,2,     0.01,2,     0.03,2, -999.000,9, -999.000,9, -999.000, -999.000,9,   1.7756,2,  -999.00,9, -999.000,9,  23.1908
  06BE200011,  AR04,    74,  1,     20,     20,2,20001216,1426, 14.8937, -47.4457, 3598,    298.7,  13.4647,  35.7348,2,-999.0000,9,    112.5,2,     7.84,2,    20.57,2,     0.00,9,     1.16,2, -999.000,9, -999.000,9, -999.000,    0.003,9,   1.7907,2,  -999.00,9, -999.000,9,  13.4222
  06BE200011,  AR04,    74,  1,     19,     19,2,20001216,1426, 14.8937, -47.4457, 3598,    595.4,   7.5579,  34.8712,2,-999.0000,9,    113.9,2,    19.90,2,    31.96,2,     0.00,9,     1.97,2, -999.000,9, -999.000,9, -999.000, -999.000,9,-999.0000,9,     1.55,2, -999.000,9,   7.4982
  06BE200011,  AR04,    74,  1,     18,     18,2,20001216,1426, 14.8937, -47.4457, 3598,    598.9,   7.5211,  34.8682,2,-999.0000,9,    114.4,2,    20.01,2,    32.26,2,     0.00,9,     2.04,2, -999.000,9, -999.000,9, -999.000,    0.002,9,   1.7782,2,     1.42,2,    7.734,2,   7.4612
  06BE200011,  AR04,    74,  1,     17,     17,2,20001216,1426, 14.8937, -47.4457, 3598,    695.6,   6.6110,  34.7806,2,-999.0000,9,   -999.0,9,    22.73,2,    33.05,2,     0.00,9,     2.14,2, -999.000,9, -999.000,9, -999.000, -999.000,9,   1.8092,2,     1.82,2,    7.788,2,   6.5458
  06BE200011,  AR04,    74,  1,     16,     16,2,20001216,1426, 14.8937, -47.4457, 3598,    796.9,   5.9577,  34.7598,2,-999.0000,9,    128.3,2,    24.83,2,    33.29,2,     0.01,2,     2.17,2,    0.039,2,    0.021,2, -999.000,    0.003,9,   1.8000,2,     1.63,2,    7.794,2,   5.8863
  06BE200011,  AR04,    74,  1,     15,     15,2,20001216,1426, 14.8937, -47.4457, 3598,    997.9,   5.4778,  34.8456,2,-999.0000,9,   -999.0,9,    23.86,2,    30.38,2,     0.01,2,     2.00,2,    0.026,2,    0.013,2, -999.000, -999.000,9,-999.0000,9,     2.00,2,    7.842,2,   5.3905
  06BE200011,  AR04,    74,  1,     14,     14,2,20001216,1426, 14.8937, -47.4457, 3598,   1197.7,   5.1171,  34.9407,2,-999.0000,9,    182.9,2,    21.10,2,    25.69,2,     0.01,2,     1.71,2,    0.060,2,    0.031,2, -999.000, -999.000,9,   1.8239,2,  -999.00,9,    7.930,2,   5.0137
  06BE200011,  AR04,    74,  1,     13,     13,2,20001216,1426, 14.8937, -47.4457, 3598,   1398.2,   4.7212,  34.9909,2,-999.0000,9,    215.2,2,    18.38,2,    22.45,2,     0.01,2,     1.46,2,    0.117,2,    0.061,2,    0.031,    0.002,2,   1.8087,2,     2.30,2,    7.863,2,   4.6025
  06BE200011,  AR04,    74,  1,     12,     12,2,20001216,1426, 14.8937, -47.4457, 3598,   1496.5,   4.5114,  35.0003,2,-999.0000,9,   -999.0,9,    17.42,2,    21.04,2,     0.01,2,     1.38,2,    0.136,2,    0.070,2, -999.000,    0.001,9,   1.8124,2,     3.10,2,    7.902,2,   4.3857
  06BE200011,  AR04,    74,  1,     11,     11,2,20001216,1426, 14.8937, -47.4457, 3598,   1599.8,   4.2446,  35.0020,2,-999.0000,9,    238.4,2,    16.97,2,    20.15,2,     0.01,2,     1.32,2,    0.141,2,    0.075,2, -999.000, -999.000,9,-999.0000,9,  -999.00,9, -999.000,9,   4.1122
  06BE200011,  AR04,    74,  1,     10,     10,2,20001216,1426, 14.8937, -47.4457, 3598,   1791.5,   3.8828,  34.9931,2,-999.0000,9,   -999.0,9,    18.22,2,    19.55,2,     0.01,2,     1.27,2,    0.092,2,    0.047,2, -999.000, -999.000,9,   1.7954,2,     3.22,2,    7.837,2,   3.7369
  06BE200011,  AR04,    74,  1,      9,      9,2,20001216,1426, 14.8937, -47.4457, 3598,   1997.6,   3.5525,  34.9818,2,-999.0000,9,    252.8,2,    20.66,2,    19.42,2,     0.01,2,     1.26,2,    0.057,2,    0.029,2, -999.000, -999.000,9,-999.0000,9,  -999.00,9,    7.937,2,   3.3918
  06BE200011,  AR04,    74,  1,      8,      8,2,20001216,1426, 14.8937, -47.4457, 3598,   2197.5,   3.2526,  34.9659,2,-999.0000,9,   -999.0,9,    20.64,2,    19.13,2,     0.01,2,     1.26,2,    0.054,2,    0.029,2,    0.020,    0.002,2,   1.8274,2,     4.73,2,    7.937,2,   3.0775
  06BE200011,  AR04,    74,  1,      6,      6,2,20001216,1426, 14.8937, -47.4457, 3598,   2399.8,   3.0624,  34.9552,2,-999.0000,9,    254.5,2,    26.81,2,    19.47,2,     0.01,2,     1.29,2,    0.026,2,    0.013,2,    0.022,    0.003,2,   1.8443,2,     7.29,2,    7.936,2,   2.8710
  06BE200011,  AR04,    74,  1,      7,      7,2,20001216,1426, 14.8937, -47.4457, 3598,   2400.1,   3.0630,  34.9551,2,-999.0000,9,   -999.0,9,    26.79,2,    19.46,2,     0.01,2,     1.29,2,    0.030,2,    0.015,2, -999.000, -999.000,9,-999.0000,9,  -999.00,9, -999.000,9,   2.8716
  06BE200011,  AR04,    74,  1,      5,      5,2,20001216,1426, 14.8937, -47.4457, 3598,   2601.8,   2.9272,  34.9460,2,-999.0000,9,   -999.0,9,    29.11,2,    19.70,2,     0.01,2,     1.30,2,    0.030,2,    0.016,2, -999.000, -999.000,9,-999.0000,9,  -999.00,9, -999.000,9,   2.7185
  06BE200011,  AR04,    74,  1,      4,      4,2,20001216,1426, 14.8937, -47.4457, 3598,   2798.0,   2.7712,  34.9351,2,-999.0000,9,    252.8,2,    33.09,2,    20.34,2,     0.01,2,     1.35,2,    0.014,2,    0.008,2,    0.022,    0.002,2,-999.0000,9,     6.07,2,    7.788,2,   2.5460
  06BE200011,  AR04,    74,  1,      3,      3,2,20001216,1426, 14.8937, -47.4457, 3598,   3097.4,   2.6634,  34.9253,2,-999.0000,9,    251.9,2,    35.67,2,    20.53,2,     0.01,2,     1.37,2,    0.015,2,    0.008,2, -999.000, -999.000,9,-999.0000,9,  -999.00,9, -999.000,9,   2.4098
  06BE200011,  AR04,    74,  1,      2,      2,2,20001216,1426, 14.8937, -47.4457, 3598,   3300.8,   2.5923,  34.9185,2,-999.0000,9,   -999.0,9,    37.48,2,    20.91,2,     0.01,2,     1.36,2,    0.016,2,    0.009,2,    0.022,    0.001,2,   1.8099,2,     7.93,2,    7.849,2,   2.3190
  06BE200011,  AR04,    74,  1,      1,      1,2,20001216,1426, 14.8937, -47.4457, 3598,   3595.9,   2.5077,  34.9086,2,-999.0000,9,   -999.0,9,    39.63,2,    21.17,2,     0.01,2,     1.40,2,    0.020,2,    0.012,2, -999.000, -999.000,9,-999.0000,9,  -999.00,9, -999.000,9,   2.2046