BOTTLE,20111027CCHDOSIOCBG
EXPOCODE,SECT_ID,STNNBR,CASTNO,SAMPNO,BTLNBR,BTLNBR_FLAG_W,DATE,TIME,LATITUDE,LONGITUDE,DEPTH,CTDPRS,CTDTMP,CTDSAL,CTDSAL_FLAG_W,SALNTY,SALNTY_FLAG_W,OXYGEN,OXYGEN_FLAG_W,SILCAT,SILCAT_FLAG_W,NITRAT,NITRAT_FLAG_W,NITRIT,NITRIT_FLAG_W,PHSPHT,PHSPHT_FLAG_W,CFC-11,CFC-11_FLAG_W,CFC-12,CFC-12_FLAG_W,TRITUM,TRITER,TRITUM_FLAG_W,HELIUM,HELIUM_FLAG_W,DELHE3,DELHE3_FLAG_W,NEON,NEON_FLAG_W,THETA
,,,,,,,,,,,METERS,DBAR,ITS-90,PSS-78,,PSS-78,,UMOL/KG,,UMOL/KG,,UMOL/KG,,UMOL/KG,,UMOL/KG,,PMOL/KG,,PMOL/KG,,TU,TU,,NMOL/KG,,PERCNT,,NMOL/KG,,DEG C
  06BE200011,  AR04,   113,  1,     22,     22,2,20001223,0416, 16.2773, -60.1917, 4999,      9.1,  26.8107,  35.7593,2,-999.0000,9,    203.1,2,    18.45,2,    30.32,2,     0.01,2,     1.90,2,    1.550,2,    0.950,2, -999.000, -999.000,9,-999.0000,9,  -999.00,9, -999.000,9,  26.8086
  06BE200011,  AR04,   113,  1,     21,     21,2,20001223,0416, 16.2773, -60.1917, 4999,   1001.2,   5.6228,  34.9276,2,-999.0000,9,   -999.0,9,    15.68,2,    20.68,2,     0.00,9,     1.37,2,    0.366,2,    0.197,2, -999.000, -999.000,9,-999.0000,9,  -999.00,9, -999.000,9,   5.5340
  06BE200011,  AR04,   113,  1,     20,     20,2,20001223,0416, 16.2773, -60.1917, 4999,   1197.9,   5.1627,  35.0320,2,-999.0000,9,    220.0,2,    14.46,2,    18.74,2,     0.00,9,     1.27,2,    0.414,2,    0.214,2, -999.000, -999.000,9,-999.0000,9,  -999.00,9, -999.000,9,   5.0587
  06BE200011,  AR04,   113,  1,     19,     19,2,20001223,0416, 16.2773, -60.1917, 4999,   1396.5,   4.4229,  35.0141,2,-999.0000,9,    246.7,2,    13.53,2,    18.00,2,     0.00,9,     1.17,2,    0.614,2,    0.316,2, -999.000, -999.000,9,-999.0000,9,  -999.00,9, -999.000,9,   4.3075
  06BE200011,  AR04,   113,  1,     18,     18,2,20001223,0416, 16.2773, -60.1917, 4999,   1576.6,   4.0561,  35.0004,2,-999.0000,9,    259.3,2,  -999.00,9,  -999.00,9,  -999.00,9,  -999.00,9,    0.633,2,    0.322,2, -999.000, -999.000,9,-999.0000,9,  -999.00,9, -999.000,9,   3.9281
  06BE200011,  AR04,   113,  1,     17,     17,2,20001223,0416, 16.2773, -60.1917, 4999,   1592.0,   4.0328,  35.0001,2,  34.8759,2,   -999.0,9,    18.21,2,    29.99,2,     0.01,2,     1.95,2, -999.000,9, -999.000,9, -999.000, -999.000,9,-999.0000,9,  -999.00,9, -999.000,9,   3.9040
  06BE200011,  AR04,   113,  1,     16,     16,2,20001223,0416, 16.2773, -60.1917, 4999,   1674.8,   3.8877,  34.9939,2,-999.0000,9,    262.4,2,    14.05,2,    17.65,2,     0.01,2,     1.22,2,    0.566,2,    0.287,2, -999.000, -999.000,9,-999.0000,9,  -999.00,9, -999.000,9,   3.7527
  06BE200011,  AR04,   113,  1,     15,     15,2,20001223,0416, 16.2773, -60.1917, 4999,   1788.2,   3.7436,  34.9922,2,  34.9891,2,    261.5,2,    15.43,2,    18.06,2,     0.02,2,     1.20,2,    0.379,2,    0.193,2, -999.000, -999.000,9,-999.0000,9,  -999.00,9, -999.000,9,   3.5999
  06BE200011,  AR04,   113,  1,     14,     14,2,20001223,0416, 16.2773, -60.1917, 4999,   2000.1,   3.4375,  34.9770,2,-999.0000,9,    264.1,2,    16.90,2,    18.02,2,     0.01,2,     1.18,2,    0.356,2,    0.179,2, -999.000, -999.000,9,-999.0000,9,  -999.00,9, -999.000,9,   3.2783
  06BE200011,  AR04,   113,  1,     13,     13,2,20001223,0416, 16.2773, -60.1917, 4999,   2100.5,   3.3653,  34.9735,2,  34.9697,2,    265.0,2,    17.59,2,    18.02,2,     0.01,2,     1.22,2,    0.315,2,    0.160,2, -999.000, -999.000,9,-999.0000,9,  -999.00,9, -999.000,9,   3.1977
  06BE200011,  AR04,   113,  1,     12,     12,2,20001223,0416, 16.2773, -60.1917, 4999,   2190.7,   3.2636,  34.9687,2,-999.0000,9,    265.0,2,  -999.00,9,  -999.00,9,  -999.00,9,  -999.00,9,    0.301,2,    0.152,2, -999.000, -999.000,9,-999.0000,9,  -999.00,9, -999.000,9,   3.0890
  06BE200011,  AR04,   113,  1,     11,     11,2,20001223,0416, 16.2773, -60.1917, 4999,   2197.0,   3.2530,  34.9682,2,-999.0000,9,    265.4,2,    18.45,2,    18.08,2,     0.03,2,     1.25,2, -999.000,9, -999.000,9, -999.000, -999.000,9,-999.0000,9,  -999.00,9, -999.000,9,   3.0779
  06BE200011,  AR04,   113,  1,     10,     10,2,20001223,0416, 16.2773, -60.1917, 4999,   2400.8,   3.0628,  34.9580,2,-999.0000,9,    264.6,2,    20.64,2,    18.08,2,     0.00,9,     1.25,2,    0.241,2,    0.123,2, -999.000, -999.000,9,-999.0000,9,  -999.00,9, -999.000,9,   2.8713
  06BE200011,  AR04,   113,  1,      9,      9,2,20001223,0416, 16.2773, -60.1917, 4999,   2698.0,   2.8114,  34.9420,2,-999.0000,9,    262.4,2,    25.27,2,    18.54,2,     0.01,2,     1.28,2,    0.128,2,    0.065,2, -999.000, -999.000,9,-999.0000,9,  -999.00,9, -999.000,9,   2.5954
  06BE200011,  AR04,   113,  1,      8,      8,2,20001223,0416, 16.2773, -60.1917, 4999,   2998.9,   2.6390,  34.9295,2,-999.0000,9,   -999.0,9,  -999.00,9,  -999.00,9,  -999.00,9,  -999.00,9, -999.000,9, -999.000,9, -999.000, -999.000,9,-999.0000,9,  -999.00,9, -999.000,9,   2.3961
  06BE200011,  AR04,   113,  1,      7,      7,2,20001223,0416, 16.2773, -60.1917, 4999,   3397.5,   2.4305,  34.9139,2,-999.0000,9,    264.1,2,    30.19,2,    18.76,2,     0.00,9,     1.29,2,    0.144,2,    0.075,2, -999.000, -999.000,9,-999.0000,9,  -999.00,9, -999.000,9,   2.1507
  06BE200011,  AR04,   113,  1,      6,      6,2,20001223,0416, 16.2773, -60.1917, 4999,   3598.3,   2.3834,  34.9097,2,  34.9053,2,    266.3,2,    30.57,2,    18.82,2,     0.02,2,     1.30,2,    0.157,2,    0.081,2, -999.000, -999.000,9,-999.0000,9,  -999.00,9, -999.000,9,   2.0832
  06BE200011,  AR04,   113,  1,      5,      5,2,20001223,0416, 16.2773, -60.1917, 4999,   3801.9,   2.3291,  34.9051,2,-999.0000,9,    268.1,2,    29.83,2,    18.74,2,     0.01,2,     1.30,2,    0.252,2,    0.129,2, -999.000, -999.000,9,-999.0000,9,  -999.00,9, -999.000,9,   2.0078
  06BE200011,  AR04,   113,  1,      4,      4,2,20001223,0416, 16.2773, -60.1917, 4999,   4100.9,   2.2888,  34.9009,2,  34.8976,2,    268.9,2,    30.33,2,    18.49,2,     0.01,2,     1.29,2,    0.264,2,    0.137,2, -999.000, -999.000,9,-999.0000,9,  -999.00,9, -999.000,9,   1.9348
  06BE200011,  AR04,   113,  1,      3,      3,2,20001223,0416, 16.2773, -60.1917, 4999,   4400.9,   2.2609,  34.8950,2,-999.0000,9,    267.2,2,    33.09,2,    19.02,2,     0.01,2,     1.33,2,    0.240,2,    0.128,2, -999.000, -999.000,9,-999.0000,9,  -999.00,9, -999.000,9,   1.8727
  06BE200011,  AR04,   113,  1,      2,      2,2,20001223,0416, 16.2773, -60.1917, 4999,   4702.9,   2.1896,  34.8817,2,-999.0000,9,   -999.0,9,  -999.00,9,  -999.00,9,  -999.00,9,  -999.00,9, -999.000,9, -999.000,9, -999.000, -999.000,9,-999.0000,9,  -999.00,9, -999.000,9,   1.7674
  06BE200011,  AR04,   113,  1,      1,      1,2,20001223,0416, 16.2773, -60.1917, 4999,   4997.9,   2.1534,  34.8726,2,  34.8704,2,    258.5,2,    43.79,2,    20.73,2,     0.05,2,     1.47,2,    0.127,2,    0.073,2, -999.000, -999.000,9,-999.0000,9,  -999.00,9, -999.000,9,   1.6960
  06BE200011,  AR04,   114,  1,     22,     22,2,20001223,0916, 16.2983, -60.5330, 4565,     13.9,  26.8463,  35.7614,2,-999.0000,9,   -999.0,9,  -999.00,9,  -999.00,9,  -999.00,9,  -999.00,9,    1.549,2,    0.944,2, -999.000, -999.000,9,-999.0000,9,  -999.00,9, -999.000,9,  26.8431
  06BE200011,  AR04,   114,  1,     21,     21,2,20001223,0916, 16.2983, -60.5330, 4565,    999.3,   5.7645,  34.9584,2,-999.0000,9,   -999.0,9,  -999.00,9,  -999.00,9,  -999.00,9,  -999.00,9,    0.184,2,    0.094,2, -999.000, -999.000,9,-999.0000,9,  -999.00,9, -999.000,9,   5.6747
  06BE200011,  AR04,   114,  1,     20,     20,2,20001223,0916, 16.2983, -60.5330, 4565,   1184.1,   5.2494,  35.0134,2,-999.0000,9,   -999.0,9,  -999.00,9,  -999.00,9,  -999.00,9,  -999.00,9,    0.394,2,    0.205,2, -999.000, -999.000,9,-999.0000,9,  -999.00,9, -999.000,9,   5.1460
  06BE200011,  AR04,   114,  1,     19,     19,2,20001223,0916, 16.2983, -60.5330, 4565,   1396.1,   4.4555,  35.0217,2,-999.0000,9,   -999.0,9,  -999.00,9,  -999.00,9,  -999.00,9,  -999.00,9, -999.000,9, -999.000,9, -999.000, -999.000,9,-999.0000,9,  -999.00,9, -999.000,9,   4.3398
  06BE200011,  AR04,   114,  1,     18,     18,2,20001223,0916, 16.2983, -60.5330, 4565,   1396.9,   4.4603,  35.0217,2,-999.0000,9,   -999.0,9,  -999.00,9,  -999.00,9,  -999.00,9,  -999.00,9,    0.640,2,    0.322,2, -999.000, -999.000,9,-999.0000,9,  -999.00,9, -999.000,9,   4.3444
  06BE200011,  AR04,   114,  1,     17,     17,2,20001223,0916, 16.2983, -60.5330, 4565,   1595.2,   4.0402,  34.9995,2,-999.0000,9,   -999.0,9,  -999.00,9,  -999.00,9,  -999.00,9,  -999.00,9, -999.000,9, -999.000,9, -999.000, -999.000,9,-999.0000,9,  -999.00,9, -999.000,9,   3.9107
  06BE200011,  AR04,   114,  1,     16,     16,2,20001223,0916, 16.2983, -60.5330, 4565,   1597.4,   4.0362,  34.9993,2,-999.0000,9,   -999.0,9,  -999.00,9,  -999.00,9,  -999.00,9,  -999.00,9,    0.596,2,    0.304,2, -999.000, -999.000,9,-999.0000,9,  -999.00,9, -999.000,9,   3.9065
  06BE200011,  AR04,   114,  1,     15,     15,2,20001223,0916, 16.2983, -60.5330, 4565,   1796.4,   3.7908,  34.9918,2,-999.0000,9,   -999.0,9,  -999.00,9,  -999.00,9,  -999.00,9,  -999.00,9, -999.000,9, -999.000,9, -999.000, -999.000,9,-999.0000,9,  -999.00,9, -999.000,9,   3.6457
  06BE200011,  AR04,   114,  1,     14,     14,2,20001223,0916, 16.2983, -60.5330, 4565,   1997.8,   3.5362,  34.9871,2,-999.0000,9,   -999.0,9,  -999.00,9,  -999.00,9,  -999.00,9,  -999.00,9,    0.167,2,    0.083,2, -999.000, -999.000,9,-999.0000,9,  -999.00,9, -999.000,9,   3.3757
  06BE200011,  AR04,   114,  1,     13,     13,2,20001223,0916, 16.2983, -60.5330, 4565,   2146.4,   3.3734,  34.9783,2,-999.0000,9,   -999.0,9,  -999.00,9,  -999.00,9,  -999.00,9,  -999.00,9, -999.000,9, -999.000,9, -999.000, -999.000,9,-999.0000,9,  -999.00,9, -999.000,9,   3.2012
  06BE200011,  AR04,   114,  1,     12,     12,2,20001223,0916, 16.2983, -60.5330, 4565,   2148.3,   3.3729,  34.9782,2,-999.0000,9,   -999.0,9,  -999.00,9,  -999.00,9,  -999.00,9,  -999.00,9,    0.136,2,    0.072,2, -999.000, -999.000,9,-999.0000,9,  -999.00,9, -999.000,9,   3.2006
  06BE200011,  AR04,   114,  1,     11,     11,2,20001223,0916, 16.2983, -60.5330, 4565,   2297.5,   3.2301,  34.9697,2,-999.0000,9,   -999.0,9,  -999.00,9,  -999.00,9,  -999.00,9,  -999.00,9,    0.116,2,    0.060,2, -999.000, -999.000,9,-999.0000,9,  -999.00,9, -999.000,9,   3.0457
  06BE200011,  AR04,   114,  1,     10,     10,2,20001223,0916, 16.2983, -60.5330, 4565,   2400.5,   3.1426,  34.9640,2,-999.0000,9,   -999.0,9,  -999.00,9,  -999.00,9,  -999.00,9,  -999.00,9,    0.114,2,    0.059,2, -999.000, -999.000,9,-999.0000,9,  -999.00,9, -999.000,9,   2.9497
  06BE200011,  AR04,   114,  1,      9,      9,2,20001223,0916, 16.2983, -60.5330, 4565,   2497.0,   3.0784,  34.9596,2,-999.0000,9,   -999.0,9,  -999.00,9,  -999.00,9,  -999.00,9,  -999.00,9, -999.000,9, -999.000,9, -999.000, -999.000,9,-999.0000,9,  -999.00,9, -999.000,9,   2.8772
  06BE200011,  AR04,   114,  1,      8,      8,2,20001223,0916, 16.2983, -60.5330, 4565,   2749.0,   2.8615,  34.9437,2,-999.0000,9,   -999.0,9,  -999.00,9,  -999.00,9,  -999.00,9,  -999.00,9,    0.344,2,    0.176,2, -999.000, -999.000,9,-999.0000,9,  -999.00,9, -999.000,9,   2.6394
  06BE200011,  AR04,   114,  1,      7,      7,2,20001223,0916, 16.2983, -60.5330, 4565,   2998.2,   2.6912,  34.9325,2,-999.0000,9,   -999.0,9,  -999.00,9,  -999.00,9,  -999.00,9,  -999.00,9,    0.371,2,    0.184,2, -999.000, -999.000,9,-999.0000,9,  -999.00,9, -999.000,9,   2.4473
  06BE200011,  AR04,   114,  1,      6,      6,2,20001223,0916, 16.2983, -60.5330, 4565,   3399.1,   2.5058,  34.9196,2,-999.0000,9,   -999.0,9,  -999.00,9,  -999.00,9,  -999.00,9,  -999.00,9,    0.465,2,    0.235,2, -999.000, -999.000,9,-999.0000,9,  -999.00,9, -999.000,9,   2.2240
  06BE200011,  AR04,   114,  1,      5,      5,2,20001223,0916, 16.2983, -60.5330, 4565,   3700.1,   2.4031,  34.9112,2,-999.0000,9,   -999.0,9,  -999.00,9,  -999.00,9,  -999.00,9,  -999.00,9,    0.460,2,    0.234,2, -999.000, -999.000,9,-999.0000,9,  -999.00,9, -999.000,9,   2.0912
  06BE200011,  AR04,   114,  1,      4,      4,2,20001223,0916, 16.2983, -60.5330, 4565,   3898.7,   2.3718,  34.9079,2,-999.0000,9,   -999.0,9,  -999.00,9,  -999.00,9,  -999.00,9,  -999.00,9,    0.448,2,    0.227,2, -999.000, -999.000,9,-999.0000,9,  -999.00,9, -999.000,9,   2.0385
  06BE200011,  AR04,   114,  1,      3,      3,2,20001223,0916, 16.2983, -60.5330, 4565,   4097.9,   2.3305,  34.9037,2,-999.0000,9,   -999.0,9,  -999.00,9,  -999.00,9,  -999.00,9,  -999.00,9,    0.423,2,    0.217,2, -999.000, -999.000,9,-999.0000,9,  -999.00,9, -999.000,9,   1.9757
  06BE200011,  AR04,   114,  1,      2,      2,2,20001223,0916, 16.2983, -60.5330, 4565,   4300.0,   2.3395,  34.9025,2,-999.0000,9,   -999.0,9,  -999.00,9,  -999.00,9,  -999.00,9,  -999.00,9,    0.417,2,    0.215,2, -999.000, -999.000,9,-999.0000,9,  -999.00,9, -999.000,9,   1.9608
  06BE200011,  AR04,   114,  1,      1,      1,2,20001223,0916, 16.2983, -60.5330, 4565,   4563.0,   2.3631,  34.9018,2,-999.0000,9,   -999.0,9,  -999.00,9,  -999.00,9,  -999.00,9,  -999.00,9,    0.407,2,    0.206,2, -999.000, -999.000,9,-999.0000,9,  -999.00,9, -999.000,9,   1.9523
  06BE200011,  AR04,   115,  1,     20,     20,2,20001223,1313, 16.2950, -60.6122, 2906,      9.3,  26.8255,  35.7762,2,-999.0000,9,   -999.0,9,  -999.00,9,  -999.00,9,  -999.00,9,  -999.00,9, -999.000,9, -999.000,9, -999.000, -999.000,9,-999.0000,9,  -999.00,9, -999.000,9,  26.8234
  06BE200011,  AR04,   115,  1,     22,     22,2,20001223,1313, 16.2950, -60.6122, 2906,      9.3,  26.8266,  35.7762,2,-999.0000,9,   -999.0,9,  -999.00,9,  -999.00,9,  -999.00,9,  -999.00,9, -999.000,9, -999.000,9, -999.000, -999.000,9,-999.0000,9,  -999.00,9, -999.000,9,  26.8245
  06BE200011,  AR04,   115,  1,     21,     21,2,20001223,1313, 16.2950, -60.6122, 2906,      9.5,  26.8318,  35.7761,2,-999.0000,9,   -999.0,9,  -999.00,9,  -999.00,9,  -999.00,9,  -999.00,9, -999.000,9, -999.000,9, -999.000, -999.000,9,-999.0000,9,  -999.00,9, -999.000,9,  26.8296
  06BE200011,  AR04,   115,  1,     19,     19,2,20001223,1313, 16.2950, -60.6122, 2906,    192.3,  20.3043,  36.8245,2,-999.0000,9,   -999.0,9,  -999.00,9,  -999.00,9,  -999.00,9,  -999.00,9, -999.000,9, -999.000,9, -999.000, -999.000,9,-999.0000,9,  -999.00,9, -999.000,9,  20.2680
  06BE200011,  AR04,   115,  1,     18,     18,2,20001223,1313, 16.2950, -60.6122, 2906,    897.6,   5.8412,  34.8187,2,-999.0000,9,   -999.0,9,  -999.00,9,  -999.00,9,  -999.00,9,  -999.00,9,    0.096,2,    0.051,2, -999.000, -999.000,9,-999.0000,9,  -999.00,9, -999.000,9,   5.7609
  06BE200011,  AR04,   115,  1,     17,     17,2,20001223,1313, 16.2950, -60.6122, 2906,   1097.9,   5.5963,  35.0394,2,-999.0000,9,   -999.0,9,  -999.00,9,  -999.00,9,  -999.00,9,  -999.00,9, -999.000,9, -999.000,9, -999.000, -999.000,9,-999.0000,9,  -999.00,9, -999.000,9,   5.4982
  06BE200011,  AR04,   115,  1,     16,     16,2,20001223,1313, 16.2950, -60.6122, 2906,   1100.2,   5.5765,  35.0402,2,-999.0000,9,   -999.0,9,  -999.00,9,  -999.00,9,  -999.00,9,  -999.00,9,    0.430,2,    0.221,2, -999.000, -999.000,9,-999.0000,9,  -999.00,9, -999.000,9,   5.4783
  06BE200011,  AR04,   115,  1,     15,     15,2,20001223,1313, 16.2950, -60.6122, 2906,   1345.9,   4.4995,  35.0252,2,-999.0000,9,   -999.0,9,  -999.00,9,  -999.00,9,  -999.00,9,  -999.00,9, -999.000,9, -999.000,9, -999.000, -999.000,9,-999.0000,9,  -999.00,9, -999.000,9,   4.3880
  06BE200011,  AR04,   115,  1,     14,     14,2,20001223,1313, 16.2950, -60.6122, 2906,   1349.0,   4.4964,  35.0252,2,-999.0000,9,   -999.0,9,  -999.00,9,  -999.00,9,  -999.00,9,  -999.00,9,    0.678,2,    0.343,2, -999.000, -999.000,9,-999.0000,9,  -999.00,9, -999.000,9,   4.3846
  06BE200011,  AR04,   115,  1,     13,     13,2,20001223,1313, 16.2950, -60.6122, 2906,   1497.5,   4.2625,  35.0110,2,-999.0000,9,   -999.0,9,  -999.00,9,  -999.00,9,  -999.00,9,  -999.00,9,    0.733,2,    0.363,2, -999.000, -999.000,9,-999.0000,9,  -999.00,9, -999.000,9,   4.1394
  06BE200011,  AR04,   115,  1,     12,     12,2,20001223,1313, 16.2950, -60.6122, 2906,   1648.1,   3.9219,  34.9943,2,-999.0000,9,   -999.0,9,  -999.00,9,  -999.00,9,  -999.00,9,  -999.00,9, -999.000,9, -999.000,9, -999.000, -999.000,9,-999.0000,9,  -999.00,9, -999.000,9,   3.7889
  06BE200011,  AR04,   115,  1,     11,     11,2,20001223,1313, 16.2950, -60.6122, 2906,   1650.0,   3.9027,  34.9940,2,  34.9951,2,   -999.0,9,  -999.00,9,  -999.00,9,  -999.00,9,  -999.00,9,    0.582,2,    0.301,2, -999.000, -999.000,9,-999.0000,9,  -999.00,9, -999.000,9,   3.7698
  06BE200011,  AR04,   115,  1,      9,      9,2,20001223,1313, 16.2950, -60.6122, 2906,   1801.3,   3.6842,  34.9876,2,-999.0000,9,   -999.0,9,  -999.00,9,  -999.00,9,  -999.00,9,  -999.00,9, -999.000,9, -999.000,9, -999.000, -999.000,9,-999.0000,9,  -999.00,9, -999.000,9,   3.5401
  06BE200011,  AR04,   115,  1,     10,     10,2,20001223,1313, 16.2950, -60.6122, 2906,   1802.3,   3.6875,  34.9876,2,-999.0000,9,   -999.0,9,  -999.00,9,  -999.00,9,  -999.00,9,  -999.00,9,    0.161,2,    0.082,2, -999.000, -999.000,9,-999.0000,9,  -999.00,9, -999.000,9,   3.5432
  06BE200011,  AR04,   115,  1,      8,      8,2,20001223,1313, 16.2950, -60.6122, 2906,   1998.1,   3.4331,  34.9746,2,  34.9759,2,   -999.0,9,  -999.00,9,  -999.00,9,  -999.00,9,  -999.00,9,    0.433,2,    0.223,2, -999.000, -999.000,9,-999.0000,9,  -999.00,9, -999.000,9,   3.2741
  06BE200011,  AR04,   115,  1,      7,      7,2,20001223,1313, 16.2950, -60.6122, 2906,   2096.6,   3.3661,  34.9726,2,  34.9696,2,   -999.0,9,  -999.00,9,  -999.00,9,  -999.00,9,  -999.00,9, -999.000,9, -999.000,9, -999.000, -999.000,9,-999.0000,9,  -999.00,9, -999.000,9,   3.1988
  06BE200011,  AR04,   115,  1,      6,      6,2,20001223,1313, 16.2950, -60.6122, 2906,   2100.8,   3.3651,  34.9725,2,-999.0000,9,   -999.0,9,  -999.00,9,  -999.00,9,  -999.00,9,  -999.00,9,    0.372,2,    0.189,2, -999.000, -999.000,9,-999.0000,9,  -999.00,9, -999.000,9,   3.1974
  06BE200011,  AR04,   115,  1,      4,      4,2,20001223,1313, 16.2950, -60.6122, 2906,   2247.8,   3.3060,  34.9675,2,-999.0000,9,   -999.0,9,  -999.00,9,  -999.00,9,  -999.00,9,  -999.00,9,    0.416,2,    0.213,2, -999.000, -999.000,9,-999.0000,9,  -999.00,9, -999.000,9,   3.1252
  06BE200011,  AR04,   115,  1,      5,      5,2,20001223,1313, 16.2950, -60.6122, 2906,   2248.8,   3.3057,  34.9673,2,-999.0000,9,   -999.0,9,  -999.00,9,  -999.00,9,  -999.00,9,  -999.00,9, -999.000,9, -999.000,9, -999.000, -999.000,9,-999.0000,9,  -999.00,9, -999.000,9,   3.1248
  06BE200011,  AR04,   115,  1,      3,      3,2,20001223,1313, 16.2950, -60.6122, 2906,   2398.6,   3.2057,  34.9624,2,  34.9610,2,   -999.0,9,  -999.00,9,  -999.00,9,  -999.00,9,  -999.00,9,    0.352,2,    0.179,2, -999.000, -999.000,9,-999.0000,9,  -999.00,9, -999.000,9,   3.0119
  06BE200011,  AR04,   115,  1,      2,      2,2,20001223,1313, 16.2950, -60.6122, 2906,   2602.0,   3.0073,  34.9520,2,-999.0000,9,   -999.0,9,  -999.00,9,  -999.00,9,  -999.00,9,  -999.00,9,    0.375,2,    0.193,2, -999.000, -999.000,9,-999.0000,9,  -999.00,9, -999.000,9,   2.7970
  06BE200011,  AR04,   115,  1,      1,      1,2,20001223,1313, 16.2950, -60.6122, 2906,   2903.6,   2.7539,  34.9356,2,-999.0000,9,   -999.0,9,  -999.00,9,  -999.00,9,  -999.00,9,  -999.00,9,    0.404,2,    0.205,2, -999.000, -999.000,9,-999.0000,9,  -999.00,9, -999.000,9,   2.5183