BOTTLE,20111027CCHDOSIOCBG
EXPOCODE,SECT_ID,STNNBR,CASTNO,SAMPNO,BTLNBR,BTLNBR_FLAG_W,DATE,TIME,LATITUDE,LONGITUDE,DEPTH,CTDPRS,CTDTMP,CTDSAL,CTDSAL_FLAG_W,SALNTY,SALNTY_FLAG_W,OXYGEN,OXYGEN_FLAG_W,SILCAT,SILCAT_FLAG_W,NITRAT,NITRAT_FLAG_W,NITRIT,NITRIT_FLAG_W,PHSPHT,PHSPHT_FLAG_W,CFC-11,CFC-11_FLAG_W,CFC-12,CFC-12_FLAG_W,TRITUM,TRITER,TRITUM_FLAG_W,HELIUM,HELIUM_FLAG_W,DELHE3,DELHE3_FLAG_W,NEON,NEON_FLAG_W,THETA
,,,,,,,,,,,METERS,DBAR,ITS-90,PSS-78,,PSS-78,,UMOL/KG,,UMOL/KG,,UMOL/KG,,UMOL/KG,,UMOL/KG,,PMOL/KG,,PMOL/KG,,TU,TU,,NMOL/KG,,PERCNT,,NMOL/KG,,DEG C
  06BE200011,  AR04,    42,  1,     22,     22,2,20001207,1945,  9.0005, -35.0753, 4935,      7.8,  26.7964,  36.0214,2,-999.0000,9,    201.7,2,     1.88,2,     0.13,2,     0.01,2,     0.10,2,    1.548,2,    0.925,2, -999.000,    0.014,9,-999.0000,9,  -999.00,9, -999.000,9,  26.7946
  06BE200011,  AR04,    42,  1,     21,     21,2,20001207,1945,  9.0005, -35.0753, 4935,    496.7,   8.0159,  34.8417,2,-999.0000,9,     89.9,2,    19.06,2,    33.86,2,     0.01,2,     2.05,2, -999.000,9, -999.000,9, -999.000, -999.000,9,-999.0000,9,  -999.00,9, -999.000,9,   7.9647
  06BE200011,  AR04,    42,  1,     20,     20,2,20001207,1945,  9.0005, -35.0753, 4935,    800.1,   5.5898,  34.6804,2,-999.0000,9,    122.2,2,    26.94,2,    34.97,2,     0.00,9,     2.28,2, -999.000,9, -999.000,9, -999.000,    0.003,9,-999.0000,9,  -999.00,9, -999.000,9,   5.5205
  06BE200011,  AR04,    42,  1,     19,     19,2,20001207,1945,  9.0005, -35.0753, 4935,    997.0,   5.0534,  34.7457,2,  34.7471,2,    152.8,2,    26.75,2,    31.25,2,     0.01,2,     2.07,2,    0.024,2,    0.013,2, -999.000, -999.000,9,-999.0000,9,  -999.00,9, -999.000,9,   4.9696
  06BE200011,  AR04,    42,  1,     18,     18,2,20001207,1945,  9.0005, -35.0753, 4935,   1199.2,   4.9498,  34.9036,2,-999.0000,9,    186.4,2,    21.88,2,    26.23,2,     0.00,9,     1.75,2,    0.080,2,    0.043,2, -999.000,    0.002,9,   1.7889,2,  -999.00,9,    7.755,2,   4.8478
  06BE200011,  AR04,    42,  1,     17,     17,2,20001207,1945,  9.0005, -35.0753, 4935,   1401.4,   4.5855,  34.9752,2,-999.0000,9,    219.6,2,    18.27,2,    22.02,2,     0.00,9,     1.45,2,    0.148,2,    0.077,2, -999.000, -999.000,9,-999.0000,9,  -999.00,9,    7.812,2,   4.4680
  06BE200011,  AR04,    42,  1,     16,     16,2,20001207,1945,  9.0005, -35.0753, 4935,   1601.5,   4.1803,  34.9878,2,-999.0000,9,    238.8,2,    17.41,2,    20.17,2,     0.00,9,     1.31,2,    0.105,2,    0.058,2, -999.000,    0.006,9,   1.8167,2,  -999.00,9, -999.000,9,   4.0485
  06BE200011,  AR04,    42,  1,     15,     15,2,20001207,1945,  9.0005, -35.0753, 4935,   1695.9,   4.0317,  34.9873,2,-999.0000,9,    239.7,2,    17.41,2,    19.80,2,     0.00,9,     1.26,2,    0.102,2,    0.057,2, -999.000, -999.000,9,-999.0000,9,  -999.00,9, -999.000,9,   3.8929
  06BE200011,  AR04,    42,  1,     14,     14,2,20001207,1945,  9.0005, -35.0753, 4935,   1798.0,   3.8563,  34.9843,2,  34.9813,2,    248.8,2,    17.63,2,    19.15,2,     0.00,9,     1.25,2,    0.086,2,    0.048,2, -999.000,    0.004,9,-999.0000,9,  -999.00,9, -999.000,9,   3.7102
  06BE200011,  AR04,    42,  1,     13,     13,2,20001207,1945,  9.0005, -35.0753, 4935,   1898.7,   3.7617,  34.9818,2,-999.0000,9,    251.5,2,    18.17,2,    18.97,2,     0.01,2,     1.25,2,    0.087,2,    0.049,2, -999.000, -999.000,9,   1.8113,2,  -999.00,9,    7.919,2,   3.6073
  06BE200011,  AR04,    42,  1,     12,     12,2,20001207,1945,  9.0005, -35.0753, 4935,   1997.5,   3.5938,  34.9755,2,-999.0000,9,    253.7,2,    19.50,2,    19.10,2,     0.01,2,     1.24,2,    0.067,2,    0.036,2, -999.000,    0.004,9,   1.8137,2,  -999.00,9, -999.000,9,   3.4325
  06BE200011,  AR04,    42,  1,     11,     11,2,20001207,1945,  9.0005, -35.0753, 4935,   2298.3,   3.2399,  34.9564,2,  34.9539,2,    253.7,2,    23.91,2,    19.51,2,     0.00,9,     1.27,2, -999.000,9, -999.000,9, -999.000, -999.000,9,-999.0000,9,  -999.00,9,    7.876,2,   3.0553
  06BE200011,  AR04,    42,  1,     10,     10,2,20001207,1945,  9.0005, -35.0753, 4935,   2599.6,   2.9910,  34.9435,2,-999.0000,9,    254.5,2,    27.28,2,    19.78,2,     0.02,2,     1.29,2,    0.018,2,    0.011,2, -999.000,    0.002,9,   1.8248,2,  -999.00,9, -999.000,9,   2.7813
  06BE200011,  AR04,    42,  1,      9,      9,2,20001207,1945,  9.0005, -35.0753, 4935,   2800.1,   2.8365,  34.9336,2,-999.0000,9,    254.1,2,    29.60,2,    19.92,2,     0.01,2,     1.28,2,    0.013,2,    0.006,2, -999.000, -999.000,9,-999.0000,9,  -999.00,9,    7.926,2,   2.6098
  06BE200011,  AR04,    42,  1,      8,      8,2,20001207,1945,  9.0005, -35.0753, 4935,   3148.9,   2.6506,  34.9210,2,  34.9169,2,    255.0,2,    33.11,2,    20.17,2,     0.01,2,     1.30,2,    0.023,2,    0.016,2, -999.000, -999.000,9,-999.0000,9,  -999.00,9, -999.000,9,   2.3920
  06BE200011,  AR04,    42,  1,      7,      7,2,20001207,1945,  9.0005, -35.0753, 4935,   3400.4,   2.5508,  34.9137,2,-999.0000,9,    254.5,2,    34.84,2,    20.15,2,     0.01,2,     1.30,2, -999.000,9, -999.000,9, -999.000, -999.000,9,-999.0000,9,  -999.00,9,    7.962,2,   2.2678
  06BE200011,  AR04,    42,  1,      6,      6,2,20001207,1945,  9.0005, -35.0753, 4935,   3646.4,   2.4820,  34.9068,2,-999.0000,9,    255.8,2,    37.02,2,    20.55,2,     0.01,2,     1.33,2,    0.024,2,    0.015,2, -999.000,    0.003,9,-999.0000,9,  -999.00,9, -999.000,9,   2.1740
  06BE200011,  AR04,    42,  1,      5,      5,2,20001207,1945,  9.0005, -35.0753, 4935,   3901.7,   2.4173,  34.8996,2,-999.0000,9,    255.0,2,    39.34,2,    20.74,2,     0.02,2,     1.36,2,    0.026,2,    0.015,2, -999.000,    0.003,9,-999.0000,9,  -999.00,9,    7.978,2,   2.0825
  06BE200011,  AR04,    42,  1,      4,      4,2,20001207,1945,  9.0005, -35.0753, 4935,   4101.3,   2.3463,  34.8916,2,-999.0000,9,    254.5,2,    41.66,2,    20.68,2,     0.01,2,     1.36,2, -999.000,9, -999.000,9, -999.000, -999.000,9,   1.8508,2,  -999.00,9, -999.000,9,   1.9907
  06BE200011,  AR04,    42,  1,      3,      3,2,20001207,1945,  9.0005, -35.0753, 4935,   4398.4,   2.3223,  34.8866,2,-999.0000,9,    252.8,2,    43.30,2,    21.27,2,     0.02,2,     1.37,2,    0.033,2,    0.021,2, -999.000,    0.033,9,   1.8155,2,  -999.00,9,    8.078,2,   1.9326
  06BE200011,  AR04,    42,  1,      2,      2,2,20001207,1945,  9.0005, -35.0753, 4935,   4693.2,   2.3026,  34.8818,2,-999.0000,9,    251.1,2,    45.57,2,    21.62,2,     0.02,2,     1.30,2,    0.026,2,    0.017,2, -999.000, -999.000,9,-999.0000,9,  -999.00,9, -999.000,9,   1.8780
  06BE200011,  AR04,    42,  1,      1,      1,2,20001207,1945,  9.0005, -35.0753, 4935,   4932.3,   2.3089,  34.8797,2,-999.0000,9,    249.7,2,    46.48,2,    21.80,2,     0.01,2,     1.40,2,    0.023,2,    0.017,2, -999.000,    0.002,9,-999.0000,9,  -999.00,9, -999.000,9,   1.8544
  06BE200011,  AR04,    43,  1,     10,     10,2,20001208,0702,  7.5298, -34.0912, 1002,    999.4,   4.9590,  34.6988,2,  34.6952,2,    147.6,2,    27.62,2,    32.80,2,     0.01,2,     2.21,2,    0.018,2,    0.009,2,    0.067, -999.000,2,   1.8279,2,     2.25,2, -999.000,9,   4.8757
  06BE200011,  AR04,    43,  1,     11,     11,2,20001208,0702,  7.5298, -34.0912, 1002,    999.7,   4.9587,  34.6990,2,-999.0000,9,    147.6,2,    27.74,2,    32.86,2,     0.01,2,     2.16,2,    0.019,2,    0.011,2, -999.000, -999.000,9,-999.0000,9,  -999.00,9, -999.000,9,   4.8754
  06BE200011,  AR04,    43,  1,     20,     20,2,20001208,0702,  7.5298, -34.0912, 1002,    999.7,   4.9594,  34.6990,2,-999.0000,9,    147.1,2,    27.88,2,    32.70,2,     0.01,2,     2.17,2,    0.017,2,    0.008,2, -999.000, -999.000,9,-999.0000,9,  -999.00,9, -999.000,9,   4.8761
  06BE200011,  AR04,    43,  1,      1,      1,2,20001208,0702,  7.5298, -34.0912, 1002,    999.9,   4.9586,  34.6988,2,-999.0000,9,    148.4,2,    27.32,2,    32.61,2,     0.01,2,     2.19,2,    0.021,2,    0.015,2,    0.025, -999.000,2,   1.8265,2,  -999.00,9, -999.000,9,   4.8753
  06BE200011,  AR04,    43,  1,      3,      3,2,20001208,0702,  7.5298, -34.0912, 1002,    999.9,   4.9585,  34.6987,2,-999.0000,9,    147.6,2,    27.34,2,    32.36,2,     0.01,2,     2.19,2,    0.020,2,    0.011,2,    0.043, -999.000,2,   1.8184,2,     3.46,2, -999.000,9,   4.8752
  06BE200011,  AR04,    43,  1,      4,      4,2,20001208,0702,  7.5298, -34.0912, 1002,    999.9,   4.9586,  34.6989,2,-999.0000,9,    148.0,2,    27.27,2,    32.49,2,     0.01,2,     2.19,2,    0.018,2,    0.009,2,    0.048, -999.000,2,-999.0000,9,     3.04,2, -999.000,9,   4.8753
  06BE200011,  AR04,    43,  1,      6,      6,2,20001208,0702,  7.5298, -34.0912, 1002,    999.9,   4.9585,  34.6988,2,-999.0000,9,    147.6,2,    27.50,2,    32.80,2,     0.01,2,     2.17,2,    0.020,2,    0.009,2,    0.029, -999.000,2,-999.0000,9,  -999.00,9, -999.000,9,   4.8752
  06BE200011,  AR04,    43,  1,     12,     12,2,20001208,0702,  7.5298, -34.0912, 1002,    999.9,   4.9587,  34.6989,2,-999.0000,9,    147.6,2,    27.86,2,    32.60,2,     0.02,2,     2.21,2, -999.000,9, -999.000,9,    0.083, -999.000,2,   1.8140,2,     1.98,2, -999.000,9,   4.8754
  06BE200011,  AR04,    43,  1,      5,      5,2,20001208,0702,  7.5298, -34.0912, 1002,   1000.0,   4.9581,  34.6989,2,  34.6973,2,    147.1,2,    27.34,2,    32.70,2,     0.01,2,     2.18,2,    0.021,2,    0.009,2,    0.031, -999.000,2,   1.8257,2,  -999.00,9, -999.000,9,   4.8748
  06BE200011,  AR04,    43,  1,      2,      2,2,20001208,0702,  7.5298, -34.0912, 1002,   1000.1,   4.9582,  34.6989,2,-999.0000,9,   -999.0,9,  -999.00,9,  -999.00,9,  -999.00,9,  -999.00,9, -999.000,9, -999.000,9,    0.028, -999.000,2,-999.0000,9,  -999.00,9, -999.000,9,   4.8749
  06BE200011,  AR04,    43,  1,     14,     14,2,20001208,0702,  7.5298, -34.0912, 1002,   1000.2,   4.9587,  34.6991,2,-999.0000,9,    147.1,2,    27.66,2,    32.52,2,     0.01,2,     2.23,2,    0.019,2,    0.010,2,    0.097, -999.000,2,   1.7954,2,  -999.00,9, -999.000,9,   4.8754
  06BE200011,  AR04,    43,  1,      7,      7,2,20001208,0702,  7.5298, -34.0912, 1002,   1000.3,   4.9583,  34.6990,2,-999.0000,9,    147.1,2,    27.70,2,    32.77,2,     0.00,9,     2.19,2,    0.022,2,    0.011,2,    0.020, -999.000,2,-999.0000,9,  -999.00,9, -999.000,9,   4.8750
  06BE200011,  AR04,    43,  1,     19,     19,2,20001208,0702,  7.5298, -34.0912, 1002,   1000.3,   4.9592,  34.6991,2,-999.0000,9,    147.6,2,    28.09,2,    32.84,2,     0.00,9,     2.20,2,    0.021,2,    0.011,2,    0.038, -999.000,2,-999.0000,9,  -999.00,9, -999.000,9,   4.8758
  06BE200011,  AR04,    43,  1,     21,     21,2,20001208,0702,  7.5298, -34.0912, 1002,   1000.3,   4.9593,  34.6991,2,-999.0000,9,   -999.0,9,  -999.00,9,  -999.00,9,  -999.00,9,  -999.00,9,    0.024,2,    0.013,2, -999.000, -999.000,9,-999.0000,9,  -999.00,9, -999.000,9,   4.8759
  06BE200011,  AR04,    43,  1,     22,     22,2,20001208,0702,  7.5298, -34.0912, 1002,   1000.3,   4.9591,  34.6991,2,  34.6962,2,    147.1,2,    27.72,2,    32.36,2,     0.02,2,     2.12,2,    0.019,2,    0.011,2, -999.000, -999.000,9,-999.0000,9,  -999.00,9, -999.000,9,   4.8757
  06BE200011,  AR04,    43,  1,      9,      9,2,20001208,0702,  7.5298, -34.0912, 1002,   1000.4,   4.9588,  34.6989,2,-999.0000,9,    147.6,2,    27.38,2,    32.90,2,     0.02,2,     2.20,2,    0.019,2,    0.010,2, -999.000, -999.000,9,-999.0000,9,  -999.00,9, -999.000,9,   4.8754
  06BE200011,  AR04,    43,  1,     13,     13,2,20001208,0702,  7.5298, -34.0912, 1002,   1000.4,   4.9575,  34.6995,2,-999.0000,9,    148.0,2,    27.55,2,    32.65,2,     0.00,9,     2.20,2,    0.019,2,    0.009,2,    0.082, -999.000,2,-999.0000,9,     2.67,2, -999.000,9,   4.8741
  06BE200011,  AR04,    43,  1,     17,     17,2,20001208,0702,  7.5298, -34.0912, 1002,   1000.4,   4.9589,  34.6991,2,-999.0000,9,    147.6,2,    27.73,2,    32.53,2,     0.00,9,     2.21,2,    0.018,2,    0.009,2,    0.143, -999.000,2,-999.0000,9,  -999.00,9, -999.000,9,   4.8755
  06BE200011,  AR04,    43,  1,     15,     15,2,20001208,0702,  7.5298, -34.0912, 1002,   1000.5,   4.9587,  34.6992,2,-999.0000,9,    147.6,2,    28.01,2,    32.76,2,     0.03,2,     2.23,2,    0.019,2,    0.010,2,    0.108, -999.000,2,-999.0000,9,  -999.00,9, -999.000,9,   4.8753
  06BE200011,  AR04,    43,  1,     16,     16,2,20001208,0702,  7.5298, -34.0912, 1002,   1000.5,   4.9585,  34.6991,2,  34.6961,2,    147.6,2,    27.89,2,    32.55,2,     0.01,2,     2.21,2,    0.019,2,    0.010,2, -999.000, -999.000,9,   1.8437,2,     2.51,2, -999.000,9,   4.8751
  06BE200011,  AR04,    43,  1,     18,     18,2,20001208,0702,  7.5298, -34.0912, 1002,   1000.6,   4.9587,  34.6990,2,-999.0000,9,    147.6,2,    27.93,2,    32.67,2,     0.00,9,     2.22,2,    0.017,2,    0.010,2, -999.000, -999.000,9,   1.7723,2,     1.38,2, -999.000,9,   4.8753
  06BE200011,  AR04,    43,  1,      8,      8,2,20001208,0702,  7.5298, -34.0912, 1002,   1001.0,   4.9571,  34.6996,2,-999.0000,9,    148.0,2,    27.40,2,    32.70,2,     0.00,9,     2.19,2,    0.018,2,    0.011,2,    0.018, -999.000,2,-999.0000,9,  -999.00,9, -999.000,9,   4.8737
  06BE200011,  AR04,    44,  1,     22,     22,2,20001209,0056,  4.1007, -32.5672, 4099,      9.8,  27.7281,  35.7486,2,-999.0000,9,    200.0,2,     1.51,2,     0.11,2,     0.01,2,     0.09,2,    1.473,2,    0.912,2, -999.000, -999.000,9,-999.0000,9,  -999.00,9, -999.000,9,  27.7258
  06BE200011,  AR04,    44,  1,     21,     21,2,20001209,0056,  4.1007, -32.5672, 4099,    999.3,   4.7893,  34.6722,2,-999.0000,9,    157.6,2,    28.69,2,    31.93,2,     0.00,9,     2.09,2,    0.021,2,    0.012,2, -999.000, -999.000,9,-999.0000,9,  -999.00,9, -999.000,9,   4.7074
  06BE200011,  AR04,    44,  1,     20,     20,2,20001209,0056,  4.1007, -32.5672, 4099,   1197.3,   4.7709,  34.8412,2,-999.0000,9,    177.7,2,    24.28,2,    28.01,2,     0.00,9,     1.85,2,    0.035,2,    0.020,2, -999.000, -999.000,9,-999.0000,9,  -999.00,9, -999.000,9,   4.6709
  06BE200011,  AR04,    44,  1,     19,     19,2,20001209,0056,  4.1007, -32.5672, 4099,   1396.6,   4.5293,  34.9442,2,-999.0000,9,    213.0,2,    19.96,2,    23.13,2,     0.00,9,     1.57,2,    0.096,2,    0.053,2, -999.000,    0.011,9,-999.0000,9,  -999.00,9, -999.000,9,   4.4129
  06BE200011,  AR04,    44,  1,     18,     18,2,20001209,0056,  4.1007, -32.5672, 4099,   1546.6,   4.2451,  34.9799,2,  34.9750,2,    235.7,2,    17.47,2,    20.40,2,     0.00,9,     1.39,2,    0.147,2,    0.081,2, -999.000, -999.000,9,-999.0000,9,     1.54,2,    7.761,2,   4.1178
  06BE200011,  AR04,    44,  1,     17,     17,2,20001209,0056,  4.1007, -32.5672, 4099,   1696.4,   4.0931,  34.9906,2,-999.0000,9,    247.1,2,    16.53,2,    19.13,2,     0.00,9,     1.28,2,    0.212,2,    0.110,2, -999.000,    0.005,9,-999.0000,9,  -999.00,9, -999.000,9,   3.9535
  06BE200011,  AR04,    44,  1,     16,     16,2,20001209,0056,  4.1007, -32.5672, 4099,   1845.7,   3.8970,  34.9876,2,-999.0000,9,    252.3,2,    16.81,2,    18.83,2,     0.00,9,     1.25,2,    0.182,2,    0.100,2, -999.000, -999.000,9,-999.0000,9,     3.20,2,    7.855,2,   3.7458
  06BE200011,  AR04,    44,  1,     15,     15,2,20001209,0056,  4.1007, -32.5672, 4099,   1999.7,   3.6572,  34.9788,2,-999.0000,9,    254.1,2,    18.54,2,    18.81,2,     0.00,9,     1.25,2,    0.113,2,    0.062,2, -999.000,    0.004,9,-999.0000,9,  -999.00,9, -999.000,9,   3.4947
  06BE200011,  AR04,    44,  1,     14,     14,2,20001209,0056,  4.1007, -32.5672, 4099,   2227.0,   3.4704,  34.9727,2,-999.0000,9,    258.4,2,    19.81,2,    18.64,2,     0.00,9,     1.23,2,    0.113,2,    0.059,2, -999.000,    0.011,9,-999.0000,9,     2.39,2, -999.000,9,   3.2889
  06BE200011,  AR04,    44,  1,     13,     13,2,20001209,0056,  4.1007, -32.5672, 4099,   2497.7,   3.0464,  34.9449,2,-999.0000,9,    254.1,2,    27.14,2,    19.80,2,     0.01,2,     1.31,2,    0.035,2,    0.020,2, -999.000,    0.003,9,-999.0000,9,  -999.00,9,    7.878,2,   2.8458
  06BE200011,  AR04,    44,  1,     12,     12,2,20001209,0056,  4.1007, -32.5672, 4099,   2751.7,   2.8475,  34.9317,2,  34.9298,2,    253.7,2,    30.69,2,    20.01,2,     0.00,9,     1.34,2,    0.034,2,    0.017,2, -999.000,    0.023,9,-999.0000,9,     2.30,2,    7.889,2,   2.6255
  06BE200011,  AR04,    44,  1,     11,     11,2,20001209,0056,  4.1007, -32.5672, 4099,   2996.8,   2.7016,  34.9212,2,-999.0000,9,   -999.0,9,    33.73,2,    20.23,2,     0.00,9,     1.35,2, -999.000,9, -999.000,9, -999.000, -999.000,9,-999.0000,9,  -999.00,9, -999.000,9,   2.4577
  06BE200011,  AR04,    44,  1,     10,     10,2,20001209,0056,  4.1007, -32.5672, 4099,   2998.9,   2.7028,  34.9211,2,  34.9180,2,    253.2,2,    33.75,2,    20.15,2,     0.02,2,     1.37,2,    0.022,2,    0.015,2, -999.000,    0.065,9,-999.0000,9,     2.72,2,    7.860,2,   2.4586
  06BE200011,  AR04,    44,  1,      9,      9,2,20001209,0056,  4.1007, -32.5672, 4099,   3300.0,   2.5363,  34.9088,2,-999.0000,9,   -999.0,9,    36.90,2,    20.71,2,     0.02,2,     1.37,2, -999.000,9, -999.000,9, -999.000, -999.000,9,-999.0000,9,  -999.00,9, -999.000,9,   2.2644
  06BE200011,  AR04,    44,  1,      8,      8,2,20001209,0056,  4.1007, -32.5672, 4099,   3300.5,   2.5362,  34.9089,2,-999.0000,9,    253.2,2,    37.13,2,    20.81,2,     0.01,2,     1.40,2,    0.031,2,    0.019,2, -999.000,    0.002,9,-999.0000,9,  -999.00,9, -999.000,9,   2.2643
  06BE200011,  AR04,    44,  1,      7,      7,2,20001209,0056,  4.1007, -32.5672, 4099,   3594.4,   2.5046,  34.9040,2,-999.0000,9,   -999.0,9,    38.59,2,    20.74,2,     0.01,2,     1.40,2, -999.000,9, -999.000,9, -999.000,    0.001,9,-999.0000,9,  -999.00,9, -999.000,9,   2.2017
  06BE200011,  AR04,    44,  1,      6,      6,2,20001209,0056,  4.1007, -32.5672, 4099,   3598.1,   2.5046,  34.9040,2,  34.9008,2,    252.8,2,    38.40,2,    20.75,2,     0.01,2,     1.42,2,    0.018,2,    0.011,2, -999.000,    0.002,9,-999.0000,9,  -999.00,9, -999.000,9,   2.2014
  06BE200011,  AR04,    44,  1,      5,      5,2,20001209,0056,  4.1007, -32.5672, 4099,   3805.2,   2.3739,  34.8926,2,-999.0000,9,   -999.0,9,    40.82,2,    20.99,2,     0.01,2,     1.43,2, -999.000,9, -999.000,9, -999.000,    0.002,9,-999.0000,9,     3.16,2, -999.000,9,   2.0512
  06BE200011,  AR04,    44,  1,      4,      4,2,20001209,0056,  4.1007, -32.5672, 4099,   3805.3,   2.3737,  34.8926,2,  34.8833,2,    254.1,2,    39.58,2,    20.88,2,     0.01,2,     1.41,2, -999.000,9, -999.000,9, -999.000,    0.005,9,-999.0000,9,  -999.00,9,    8.023,2,   2.0510
  06BE200011,  AR04,    44,  1,      3,      3,2,20001209,0056,  4.1007, -32.5672, 4099,   3900.3,   2.3387,  34.8891,2,-999.0000,9,   -999.0,9,    44.69,2,    21.02,2,     0.02,2,     1.42,2, -999.000,9, -999.000,9, -999.000,    0.005,9,-999.0000,9,     3.32,2,    7.926,2,   2.0063
  06BE200011,  AR04,    44,  1,      1,      1,2,20001209,0056,  4.1007, -32.5672, 4099,   4094.2,   2.3315,  34.8865,2,-999.0000,9,   -999.0,9,    35.59,2,    18.19,2,     0.02,2,     1.25,2, -999.000,9, -999.000,9, -999.000,    0.001,9,-999.0000,9,     3.11,2, -999.000,9,   1.9772
  06BE200011,  AR04,    44,  1,      2,      2,2,20001209,0056,  4.1007, -32.5672, 4099,   4096.3,   2.3308,  34.8866,2,  34.8832,2,    253.7,2,    44.97,2,    21.14,2,     0.01,2,     1.43,2,    0.041,2,    0.024,2, -999.000,    0.001,9,-999.0000,9,  -999.00,9, -999.000,9,   1.9763